{"text_format":"1","workbook":"xlsx","n_sheets":38,"sheets":["Menu","Info","Nr_stad","Lochy","Lochy(w)","Tuczniki","Tuczniki(w)","Swinie_inne(P)","Krowy_MLECZNE_wypas","Swinie_inne(T)","Krowy_MLECZNE_powierzch","Bydlo_mlecz_inn","B_ML_N","Krowy_MIĘSNE_powierzch","N_W_1_1","N_W_1_2","N_IN_SW","N_W_1_3_i_1_4","N_W_2_1","N_W_2_2","N_W_2_3","N_W_1_1_in","Owce_info","Owce_pow (1)","Owce_pow (2)","Owce_pow (3)","Owce_pow (4)","Owce_pow (5)","Owce_N","ARiMR_Lochy","ARiMR_Pozostałe","1_1_Wymogi_LOCHY_rozgęszczenie","1_2_Wymogi_TUCZNIKI_rozgęszcz","1_3_i_1_4_Wymogi_WYBIEGI","2_1_Wymogi_MLECZNE_wypas","2_2_Wymogi_MLECZNE_rozgęszcz","2_3_Wymogi_MIĘSNE_rozgęszcz","3_1_Wymogi_OWCE_rozgeszcz"],"not_rendered":{"charts":0,"images":9,"macros":1,"external_links":0,"defined_names":45,"comments":8,"pivot_tables":0},"unopened":[],"bounds":{"document_bytes":16777216,"sheet_cells":100000,"rows_first":2000,"rows_last":500,"rows_between":2000,"halvings":0,"cell_chars":16384,"cell_head_chars":4096},"cells_cut":0,"cells_raw":0,"read":"whole","date_system":"1900"}

{"sheet":"Menu","index":0,"n_rows":31,"n_cols":10,"rows_kept":31,"cut":false,"hidden":false,"merged":[]}
[]
[null,"PLAN POPRAWY DOBROSTANU ZWIERZĄT\nWersja 2.1.",null,null,null,null,null,null,null,"Uwagi"]
[]
[null,"Dane o gospodarstwie"]
[null,"Pakiet 1. Dobrostan świń:",null,null,null,null,null,{"$f":"OR(H6,H7,H8,H9)","v":false}]
[null,"Wariant 1.1. Dobrostan loch - zwiększona powierzchnia w budynkach",null,null,null,null,null,{"$f":"Info!R40","v":false}]
[null,"Wariant 1.2. Dobrostan tuczników - zwiększona powierzchnia w budynkach",null,null,null,null,null,{"$f":"Info!R41","v":false}]
[null,"wariant 1.3. Dobrostan loch - dostęp do wybiegu ",null,null,null,null,null,false]
[null,"wariant 1.4. Dobrostan tuczników - dostęp do wybiegu ",null,null,null,null,null,false]
[null,"Inne grupy technologiczne świń nieobjęte podwyższonymi wymogami odpowiedniego wariantu Pakietu 1. Dobrostan świń:",null,null,null,null,null,{"$f":"OR(H6,H7,H8,H9)","v":false}]
[null,"Świnie stada podstawowego i remontowe (hodowlane)",null,null,null,null,null,{"$f":"H5","v":false}]
[null,"Warchlaki i tuczniki",null,null,null,null,null,{"$f":"IF(H7=TRUE,FALSE,H10)","v":false}]
[null,"Pakiet 2. Dobrostan krów:",null,null,null,null,null,{"$f":"OR(H14,H15,H16)","v":false}]
[null,"wariant 2.1. Dobrostan krów mlecznych – wypas",null,null,null,null,null,{"$f":"Info!R45","v":false}]
[null,"Wariant 2.2. Dobrostan krów mlecznych utrzymywanych grupowo - zwiększona powierzchnia w budynkach",null,null,null,null,null,{"$f":"Info!R46","v":false}]
[null,"Wariant 2.3. Dobrostan krów mamek",null,null,null,null,null,{"$f":"Info!R47","v":false}]
[null,"Inne grupy technologiczne bydła mlecznego nieobjęte  podwyższonymi wymogami odpowiedniego wariantu Pakietu 2. Dobrostan krów mlecznych i krowy mamki",null,null,null,null,null,{"$f":"H15","v":false}]
[null,"Grupy technologiczne bydła mlecznego  (z wyłączeniem krów mlecznych) oraz krowy mamki",null,null,null,null,null,{"$f":"H15","v":false}]
[null,"Pakiet 3. Dobrostan owiec",null,null,null,null,null,{"$f":"H20","v":false}]
[null,"Wariant 3.1. Dobrostan owiec – zwiększona powierzchnia w budynkach.",null,null,null,null,null,{"$f":"Info!R50","v":false}]
[null,"Informacje dla ARiMR: (aby wygenerować, po sporządzeniu/zmianie planu, kliknij poniżej)",null,null,null,null,null,{"$f":"OR(H22,H23)","v":false}]
[null,"Dobrostan loch - zwiększona powierzchnia w budynkach, dokument przekazywany wraz z wnioskiem o przyznanie płatności dobrostanowej",null,null,null,null,null,{"$f":"H6","v":false}]
[null,"Informacje  przekazywane do ARiMR  przed upływem 25 dni od dnia, w którym upływa termin składania wniosków o przyznanie płatności bezpośrednich w rozumieniu przepisów o płatnościach w ramach systemów wsparcia bezpośredniego ",null,null,null,null,null,{"$f":"OR(H7,H15,H16,H20)","v":false}]
[null,"WYBRANE WYMOGI:",null,null,null,null,null,{"$f":"OR(H25,H26,H27,H28,H29,H30)","v":false}]
[null,"Wymogi wariantu 1.1. Dobrostan loch  –  zwiększona powierzchnia w budynkach dla wszystkich loch w gospodarstwie",null,null,null,null,null,{"$f":"H6","v":false}]
[null,"Wymogi wariantu 1.2. Dobrostan tuczników  -  zwiększona powierzchnia w budynkach dla wszystkich tuczników i warchlaków w gospodarstwie",null,null,null,null,null,{"$f":"H7","v":false}]
[null,"Wymogi wariantu 1.3 i wariantu 1.4. - dostęp do wybiegu (opcja dodatkowa)",null,null,null,null,null,{"$f":"OR(H8,H9)","v":false}]
[null,"Wymogi wariantu  2.1. Dobrostan krów mlecznych – wypas",null,null,null,null,null,{"$f":"H14","v":false}]
[null,"Wymogi wariantu 2.2. Dobrostan krów mlecznych utrzymywanych grupowo - zwiększona powierzchnia w budynkach dla wszystkich krów mlecznych ",null,null,null,null,null,{"$f":"H15","v":false}]
[null,"Wymogi wariantu 2.3. Dobrostan krów mamek",null,null,null,null,null,{"$f":"H16","v":false}]
[null,"Wymogi wariantu 3.1.  Dobrostan owiec –zwiększona powierzchnia w budynkach",null,null,null,null,null,{"$f":"H20","v":false}]

{"sheet":"Info","index":1,"n_rows":68,"n_cols":20,"rows_kept":68,"cut":false,"hidden":false,"merged":[[23,3,23,6],[23,7,23,10],[24,7,24,10],[31,4,31,6],[31,7,31,10],[25,7,25,10],[26,7,26,10],[24,3,26,6],[30,7,30,10],[28,3,28,4],[28,5,28,7],[27,3,27,10],[7,9,7,11],[63,3,63,11],[66,3,66,6],[36,3,36,11],[21,3,21,11],[28,8,28,10],[22,3,22,10],[19,3,19,4],[16,3,16,4],[60,3,60,11],[62,3,62,6],[61,8,61,11],[62,8,62,11],[46,5,46,11],[14,7,14,10],[17,3,17,4],[13,3,13,4],[67,3,67,6],[66,8,66,11],[67,8,67,11],[64,8,64,11],[65,8,65,11],[64,3,64,6],[65,3,65,6],[19,5,19,7],[19,8,19,10],[18,3,18,4],[18,5,18,7],[18,8,18,10],[35,3,35,4],[35,5,35,7],[35,8,35,10],[61,3,61,6],[3,2,3,12],[5,2,5,12],[6,3,6,12],[9,3,9,8],[15,4,15,6],[15,7,15,10],[7,5,7,7],[13,5,13,7],[12,5,12,7],[13,8,13,10],[12,8,12,10],[14,4,14,6],[4,2,4,12],[10,3,10,8],[12,3,12,4],[47,3,47,10],[59,3,59,11],[57,3,57,4],[57,6,57,8],[57,10,57,11],[53,4,53,10],[52,3,52,11],[55,3,55,4],[55,6,55,8],[55,10,55,11],[48,4,48,10],[49,5,49,11],[37,3,37,10],[45,5,45,11],[42,5,42,11],[44,5,44,11],[40,5,40,11],[41,5,41,11],[38,4,38,10],[39,5,39,11],[43,4,43,10],[34,5,34,7],[34,8,34,10],[29,3,29,4],[29,5,29,7],[29,8,29,10],[30,4,30,6],[32,3,32,4],[33,3,33,4],[34,3,34,4]]}
[null,null,"Uwaga !!! Po wydrukowaniu uzupełnić ręcznie Oświadczenie i czytelnie podpisać",null,null,null,null,null,null,null,null,"POWRÓT",null,null,null,null,null,null,null,"Uwagi"]
[]
[]
[null,null,"Działanie M-14  - Dobrostan zwierząt "]
[null,null,"PLAN POPRAWY DOBROSTANU ZWIERZĄT"]
[null,null,"I. Część ogólna "]
[null,null,"I.1.","Dane rolnika realizującego działanie "]
[null,null,"I.1.1","Numer identyfikacyjny - PL"]
[null,null,"I.1.2","Rolnik realizujący działanie "]
[null,null,null,"Nazwisko i imię rolnika / nazwa "]
[]
[null,null,"I.1.3","Adres rolnika realizującego działanie "]
[null,null,null," Województwo",null,"Powiat",null,null,"Gmina"]
[]
[null,null,null," Kod pocztowy","Poczta",null,null,"Miejscowość"]
[]
[null,null,null,"Ulica",null,"Nr domu"," Nr lokalu"]
[]
[null,null,null,"Telefon komórkowy",null,"Telefon stacjonarny",null,null,"E-mail"]
[]
[]
[null,null,"I.2.","Dane podmiotu doradczego i doradcy rolniczego, przy udziale którego został sporządzony plan poprawy dobrostanu zwierząt"]
[null,null,"I.2.1","Podmiot doradczy i doradca rolniczy"]
[null,null,null,"Nazwa podmiotu doradczego",null,null,null,"Nazwisko i imię doradcy"]
[]
[null,null,null,null,null,null,null,"Numer uprawnień"]
[]
[null,null,"I.2.2","Adres doradcy rolniczego"]
[null,null,null," Województwo",null,"Powiat",null,null,"Gmina"]
[]
[null,null,null," Kod pocztowy","Poczta",null,null,"Miejscowość"]
[]
[null,null,null,"Ulica",null,"Nr domu"," Nr lokalu"]
[]
[null,null,null,"Telefon komórkowy",null,"Telefon stacjonarny",null,null,"E-mail"]
[]
[]
[null,null,"I.3.","Wykaz pakietów lub wariantów, realizowanych w ramach działania"]
[null,null,"I.3.1.","Pakiet 1.","Dobrostan świń:",null,null,null,null,null,null,null,null,null,null,null,null,{"$f":"OR(R40,R41,R42,R43)","v":false},"☒"]
[null,null,null,{"$f":"IF(R40=TRUE,S39,T39)","v":0},"wariant 1.1.","Dobrostan loch - zwiększona powierzchnia w budynkach",null,null,null,null,null,null,null,null,null,null,null,false]
[null,null,null,{"$f":"IF(R41=TRUE,S39,T39)","v":0},"wariant 1.2.","Dobrostan tuczników - zwiększona powierzchnia w budynkach",null,null,null,null,null,null,null,null,null,null,null,false]
[null,null,null,null,"wariant 1.3.","Dobrostan loch - dostęp do wybiegu",null,null,null,null,null,null,null,null,null,null,null,false]
[null,null,null,null,"wariant 1.4.","Dobrostan tuczników - dostęp do wybiegu ",null,null,null,null,null,null,null,null,null,null,null,false]
[null,null,"I.3.2.","Pakiet 2.","Dobrostan krów:",null,null,null,null,null,null,null,null,null,null,null,null,{"$f":"OR(R45,R46,R47)","v":false}]
[null,null,null,null,"wariant 2.1.","Dobrostan krów mlecznych – wypas",null,null,null,null,null,null,null,null,null,null,null,false]
[null,null,null,{"$f":"IF(R46=TRUE,S39,T39)","v":0},"wariant 2.2.","Dobrostan krów mlecznych utrzymywanych grupowo - zwiększona powierzchnia w budynkach",null,null,null,null,null,null,null,null,null,null,null,false]
[null,null,null,{"$f":"IF(R47=TRUE,S39,T39)","v":0},"wariant 2.3.","Dobrostan krów mamek",null,null,null,null,null,null,null,null,null,null,null,false]
[null,null,null,"Rolnik został poinformowany o konieczności przerejestrowania w rejestrze zwierząt gospodarskich oznakowanych i siedzib stad tych zwierząt, o którym mowa w przepisach o systemie identyfikacji i rejestracji zwierząt, krów (a w przypadku wariantu 2.3. również cieląt, jałówek i opasów o masie ciała do 300 kg) w typie użytkowym kombinowanym na typ użytkowy mleczny lub typ użytkowy mięsny lub zgłoszenia mlecznego lub mięsnego kierunku ich użytkowanie. Przerejestrowanie musi mieć miejsce najpóźniej w terminie przed upływem 25 dni od dnia, w którym upływa termin składania wniosków o przyznanie płatności bezpośrednich w rozumieniu przepisów o płatnościach w ramach systemów wsparcia bezpośredniego, a w przypadku zwierząt nabytych w trakcie okresu realizacji wymogów - w dniu zgłoszenia zdarzenia zgodnie z przepisami o systemie identyfikacji i rejestracji zwierząt.",null,null,null,null,null,null,null,{"$f":"IF(R44=TRUE,\"TAK\",\"NIE\")","v":"NIE"},null,null,null,null,null,true]
[null,null,"I.3.3.","Pakiet 3. ","Dobrostan owiec"]
[null,null,null,null,"wariant 3.1. ","Dobrostan owiec – zwiększona powierzchnia w budynkach.",null,null,null,null,null,null,null,null,null,null,null,false]
[null,null,"I.3.3.","Cel "]
[null,null,null,{"$f":"IF(R52=1,S39,T39)","v":"☒"},"Złożenie planu",null,null,{"$f":"IF(R52=2,S39,T39)","v":0},"Zmiana planu",null,null,null,null,null,null,null,null,1]
[null,null,"I.3.4.","Numery siedzib stad innych rolników"]
[null,null,null,null,"Moje zwierzęta przebywają w budynku ze zwierzętami innego rolnika:",null,null,null,null,null,null,{"$f":"IF(R54=TRUE,\"TAK\",\"NIE\")","v":"NIE"},null,null,null,null,null,false]
[null,null,null,"Numery siedzib stad innych rolników:"]
[]
[]
[]
[]
[null,null,"I.4.","Oświadczenie rolnika o przekazaniu pełnych i prawdziwych danych niezbędnych do sporządzenia planu poprawy dobrostanu zwierząt"]
[null,null,null,"Oświadczam, że dane przekazane do sporządzenia planu  poprawy dobrostanu zwierząt  są pełne i prawdziwe."]
[]
[null,null,null,"(miejscowość i data)",null,null,null,null,"(czytelny podpis rolnika)"]
[null,null,"I.5.","Podpisy i data sporządzenia planu poprawy dobrostanu zwierząt"]
[]
[null,null,null,"(miejscowość)",null,null,null,null,"(data sporządzenia/zmiany planu)"]
[]
[null,null,null,"(czytelny podpis doradcy)",null,null,null,null,"(czytelny podpis rolnika)"]

{"sheet":"Nr_stad","index":2,"n_rows":60,"n_cols":21,"rows_kept":60,"cut":false,"hidden":false,"merged":[[5,5,5,13],[1,12,1,14],[5,3,5,4],[4,3,4,4],[1,1,1,4]]}
[]
[null,"Powrót do \"Dane o gospodarstwie\""]
[]
[]
[null,null,null,"Numery siedzib stad"]
[null,null,null,"Numer siedziby stada",null,"Adres"]
[null,null,null,"Numer producenta","stado"," Województwo","Powiat","Gmina"," Kod pocztowy","Poczta","Miejscowość","Ulica","Nr domu"," Nr lokalu"]
[null,null,null,{"$f":"Info!$F$8","v":0},null,null,null,null,null,null,null,null,null,null,null,null,null,null,null,null,{"$f":"IF(E8=0,\" \",\"PL \"&TEXT(D8,\"000000000\")&\"-\"&TEXT(E8,\"000\"))","v":" "}]
[null,null,null,{"$f":"IF(E8>0,Info!$F$8,\"\")","v":""},null,null,null,null,null,null,null,null,null,null,null,null,null,null,null,null,{"$f":"IF(E9=0,\" \",\"PL \"&TEXT(D9,\"000000000\")&\"-\"&TEXT(E9,\"000\"))","v":" "}]
[null,null,null,{"$f":"IF(E9>0,Info!$F$8,\"\")","v":""},null,null,null,null,null,null,null,null,null,null,null,null,null,null,null,null," "]
[null,null,null,{"$f":"IF(E10>0,Info!$F$8,\"\")","v":""},null,null,null,null,null,null,null,null,null,null,null,null,null,null,null,null," "]
[null,null,null,{"$f":"IF(E11>0,Info!$F$8,\"\")","v":""},null,null,null,null,null,null,null,null,null,null,null,null,null,null,null,null," "]
[null,null,null,{"$f":"IF(E12>0,Info!$F$8,\"\")","v":""},null,null,null,null,null,null,null,null,null,null,null,null,null,null,null,null," "]
[null,null,null,{"$f":"IF(E13>0,Info!$F$8,\"\")","v":""},null,null,null,null,null,null,null,null,null,null,null,null,null,null,null,null," "]
[null,null,null,{"$f":"IF(E14>0,Info!$F$8,\"\")","v":""},null,null,null,null,null,null,null,null,null,null,null,null,null,null,null,null," "]
[null,null,null,{"$f":"IF(E15>0,Info!$F$8,\"\")","v":""},null,null,null,null,null,null,null,null,null,null,null,null,null,null,null,null," "]
[null,null,null,{"$f":"IF(E16>0,Info!$F$8,\"\")","v":""},null,null,null,null,null,null,null,null,null,null,null,null,null,null,null,null," "]
[null,null,null,{"$f":"IF(E17>0,Info!$F$8,\"\")","v":""},null,null,null,null,null,null,null,null,null,null,null,null,null,null,null,null," "]
[null,null,null,{"$f":"IF(E18>0,Info!$F$8,\"\")","v":""},null,null,null,null,null,null,null,null,null,null,null,null,null,null,null,null," "]
[null,null,null,{"$f":"IF(E19>0,Info!$F$8,\"\")","v":""},null,null,null,null,null,null,null,null,null,null,null,null,null,null,null,null," "]
[null,null,null,{"$f":"IF(E20>0,Info!$F$8,\"\")","v":""},null,null,null,null,null,null,null,null,null,null,null,null,null,null,null,null," "]
[null,null,null,{"$f":"IF(E21>0,Info!$F$8,\"\")","v":""},null,null,null,null,null,null,null,null,null,null,null,null,null,null,null,null," "]
[null,null,null,{"$f":"IF(E22>0,Info!$F$8,\"\")","v":""},null,null,null,null,null,null,null,null,null,null,null,null,null,null,null,null," "]
[null,null,null,{"$f":"IF(E23>0,Info!$F$8,\"\")","v":""},null,null,null,null,null,null,null,null,null,null,null,null,null,null,null,null," "]
[null,null,null,{"$f":"IF(E24>0,Info!$F$8,\"\")","v":""},null,null,null,null,null,null,null,null,null,null,null,null,null,null,null,null," "]
[null,null,null,{"$f":"IF(E25>0,Info!$F$8,\"\")","v":""},null,null,null,null,null,null,null,null,null,null,null,null,null,null,null,null," "]
[null,null,null,{"$f":"IF(E26>0,Info!$F$8,\"\")","v":""},null,null,null,null,null,null,null,null,null,null,null,null,null,null,null,null," "]
[null,null,null,{"$f":"IF(E27>0,Info!$F$8,\"\")","v":""},null,null,null,null,null,null,null,null,null,null,null,null,null,null,null,null," "]
[null,null,null,{"$f":"IF(E28>0,Info!$F$8,\"\")","v":""},null,null,null,null,null,null,null,null,null,null,null,null,null,null,null,null," "]
[null,null,null,{"$f":"IF(E29>0,Info!$F$8,\"\")","v":""},null,null,null,null,null,null,null,null,null,null,null,null,null,null,null,null," "]
[null,null,null,{"$f":"IF(E30>0,Info!$F$8,\"\")","v":""},null,null,null,null,null,null,null,null,null,null,null,null,null,null,null,null," "]
[null,null,null,{"$f":"IF(E31>0,Info!$F$8,\"\")","v":""},null,null,null,null,null,null,null,null,null,null,null,null,null,null,null,null," "]
[null,null,null,{"$f":"IF(E32>0,Info!$F$8,\"\")","v":""},null,null,null,null,null,null,null,null,null,null,null,null,null,null,null,null," "]
[null,null,null,{"$f":"IF(E33>0,Info!$F$8,\"\")","v":""},null,null,null,null,null,null,null,null,null,null,null,null,null,null,null,null," "]
[null,null,null,{"$f":"IF(E34>0,Info!$F$8,\"\")","v":""},null,null,null,null,null,null,null,null,null,null,null,null,null,null,null,null," "]
[null,null,null,{"$f":"IF(E35>0,Info!$F$8,\"\")","v":""},null,null,null,null,null,null,null,null,null,null,null,null,null,null,null,null," "]
[null,null,null,{"$f":"IF(E36>0,Info!$F$8,\"\")","v":""},null,null,null,null,null,null,null,null,null,null,null,null,null,null,null,null," "]
[null,null,null,{"$f":"IF(E37>0,Info!$F$8,\"\")","v":""},null,null,null,null,null,null,null,null,null,null,null,null,null,null,null,null," "]
[null,null,null,{"$f":"IF(E38>0,Info!$F$8,\"\")","v":""},null,null,null,null,null,null,null,null,null,null,null,null,null,null,null,null," "]
[null,null,null,{"$f":"IF(E39>0,Info!$F$8,\"\")","v":""},null,null,null,null,null,null,null,null,null,null,null,null,null,null,null,null," "]
[null,null,null,{"$f":"IF(E40>0,Info!$F$8,\"\")","v":""},null,null,null,null,null,null,null,null,null,null,null,null,null,null,null,null," "]
[null,null,null,{"$f":"IF(E41>0,Info!$F$8,\"\")","v":""},null,null,null,null,null,null,null,null,null,null,null,null,null,null,null,null," "]
[null,null,null,{"$f":"IF(E42>0,Info!$F$8,\"\")","v":""},null,null,null,null,null,null,null,null,null,null,null,null,null,null,null,null," "]
[null,null,null,{"$f":"IF(E43>0,Info!$F$8,\"\")","v":""},null,null,null,null,null,null,null,null,null,null,null,null,null,null,null,null," "]
[null,null,null,{"$f":"IF(E44>0,Info!$F$8,\"\")","v":""},null,null,null,null,null,null,null,null,null,null,null,null,null,null,null,null," "]
[null,null,null,{"$f":"IF(E45>0,Info!$F$8,\"\")","v":""},null,null,null,null,null,null,null,null,null,null,null,null,null,null,null,null," "]
[null,null,null,{"$f":"IF(E46>0,Info!$F$8,\"\")","v":""},null,null,null,null,null,null,null,null,null,null,null,null,null,null,null,null," "]
[null,null,null,{"$f":"IF(E47>0,Info!$F$8,\"\")","v":""},null,null,null,null,null,null,null,null,null,null,null,null,null,null,null,null," "]
[null,null,null,{"$f":"IF(E48>0,Info!$F$8,\"\")","v":""},null,null,null,null,null,null,null,null,null,null,null,null,null,null,null,null," "]
[null,null,null,{"$f":"IF(E49>0,Info!$F$8,\"\")","v":""},null,null,null,null,null,null,null,null,null,null,null,null,null,null,null,null," "]
[null,null,null,{"$f":"IF(E50>0,Info!$F$8,\"\")","v":""},null,null,null,null,null,null,null,null,null,null,null,null,null,null,null,null," "]
[null,null,null,{"$f":"IF(E51>0,Info!$F$8,\"\")","v":""},null,null,null,null,null,null,null,null,null,null,null,null,null,null,null,null," "]
[null,null,null,{"$f":"IF(E52>0,Info!$F$8,\"\")","v":""},null,null,null,null,null,null,null,null,null,null,null,null,null,null,null,null," "]
[null,null,null,{"$f":"IF(E53>0,Info!$F$8,\"\")","v":""},null,null,null,null,null,null,null,null,null,null,null,null,null,null,null,null," "]
[null,null,null,{"$f":"IF(E54>0,Info!$F$8,\"\")","v":""},null,null,null,null,null,null,null,null,null,null,null,null,null,null,null,null," "]
[null,null,null,{"$f":"IF(E55>0,Info!$F$8,\"\")","v":""},null,null,null,null,null,null,null,null,null,null,null,null,null,null,null,null," "]
[null,null,null,{"$f":"IF(E56>0,Info!$F$8,\"\")","v":""},null,null,null,null,null,null,null,null,null,null,null,null,null,null,null,null," "]
[null,null,null,{"$f":"IF(E57>0,Info!$F$8,\"\")","v":""},null,null,null,null,null,null,null,null,null,null,null,null,null,null,null,null," "]
[null,null,null,{"$f":"IF(E58>0,Info!$F$8,\"\")","v":""},null,null,null,null,null,null,null,null,null,null,null,null,null,null,null,null," "]
[null,null,null,"Liczba siedzib:",{"$f":"COUNTA(E8:E59)","v":0},null,null,null,null,null,null,null,null,null,null,null,null,null,null,null," "]

{"sheet":"Lochy","index":3,"n_rows":124,"n_cols":47,"rows_kept":124,"cut":false,"hidden":false,"merged":[[93,3,93,6],[94,3,94,6],[95,3,95,6],[96,3,96,6],[97,3,97,6],[66,3,66,6],[48,3,48,6],[49,3,49,6],[32,3,32,6],[33,3,33,6],[37,3,37,6],[38,3,38,6],[39,3,39,6],[40,3,40,6],[92,3,92,6],[77,3,77,6],[78,3,78,6],[65,3,65,6],[80,3,80,6],[87,3,87,6],[88,3,88,6],[89,3,89,6],[90,3,90,6],[79,3,79,6],[19,34,19,36],[121,3,121,6],[112,3,112,6],[113,3,113,6],[114,3,114,6],[115,3,115,6],[116,3,116,6],[117,3,117,6],[118,3,118,6],[119,3,119,6],[120,3,120,6],[41,3,41,6],[42,3,42,6],[43,3,43,6],[44,3,44,6],[45,3,45,6],[98,3,98,6],[85,3,85,6],[86,3,86,6],[99,3,99,6],[100,3,100,6],[101,3,101,6],[46,3,46,6],[47,3,47,6],[19,37,19,40],[123,12,123,17],[122,3,122,10],[122,12,122,17],[22,3,22,6],[23,3,23,6],[24,3,24,6],[25,3,25,6],[102,3,102,6],[103,3,103,6],[104,3,104,6],[105,3,105,6],[106,3,106,6],[107,3,107,6],[108,3,108,6],[109,3,109,6],[110,3,110,6],[111,3,111,6],[91,3,91,6],[67,3,67,6],[68,3,68,6],[69,3,69,6],[70,3,70,6],[19,31,19,33],[63,3,63,6],[64,3,64,6],[59,3,59,6],[71,3,71,6],[72,3,72,6],[73,3,73,6],[74,3,74,6],[75,3,75,6],[76,3,76,6],[82,3,82,6],[83,3,83,6],[84,3,84,6],[61,3,61,6],[50,3,50,6],[51,3,51,6],[18,9,18,11],[18,7,18,8],[21,3,21,6],[26,3,26,6],[27,3,27,6],[28,3,28,6],[29,3,29,6],[30,3,30,6],[31,3,31,6],[52,3,52,6],[53,3,53,6],[54,3,54,6],[55,3,55,6],[56,3,56,6],[57,3,57,6],[58,3,58,6],[81,3,81,6],[62,3,62,6],[17,3,17,14],[11,3,11,18],[60,3,60,6],[34,3,34,6],[35,3,35,6],[36,3,36,6],[3,2,3,19],[14,3,14,10],[18,12,18,14],[18,15,18,16],[16,4,16,8],[12,3,12,5],[13,3,13,5],[12,7,12,10],[13,7,13,10],[12,12,12,15],[13,12,13,15],[18,3,20,6],[10,4,10,17],[14,13,14,18],[7,4,7,10],[8,4,8,17],[9,4,9,17],[6,3,6,7]]}
[null,null,"Uwaga !!! Po wydrukowaniu uzupełnić ręcznie Oświadczenie i czytelnie podpisać",null,null,null,null,null,null,null,null,null,null,null,null,null,null,null,"POWRÓT",null,null,null,null,null,null,null,null,null,null,null,null,null,null,null,null,null,null,null,null,null,null,null,null,null,null,null,"UWAGI"]
[null,null,null,null,null,null,null,null,null,null,null,null,null,null,null,null,null,null,null,null,null,null,null,null,null,null,null,null,null,null,null,null,null,null,null,null,null,null,null,null,null,null,null,null,null,null,"Uwagi"]
[]
[null,null,"II. Część szczegółowa  "]
[null,null,"II.1","Pakiet 1.","Dobrostan świń:"]
[null,null,"II.1.1.","Wariant 1.1.","Dobrostan loch - zwiększona powierzchnia w budynkach"]
[null,null,"II.1.1.1.","System produkcji w gospodarstwie "]
[null,null,null,{"$f":"IF(AD8=1,AE8,AF8)","v":"☐"},"Nieutrzymywanie loch  w systemie jarzmowym",null,null,null,null,null,null,null,null,null,null,null,null,null,null,null,null,null,null,null,null,null,null,null,null,2,"☒","☐"]
[null,null,null,{"$f":"IF(AD8=2,AE8,AF8)","v":"☒"},"Utrzymywanie loch w systemie jarzmowym przez okres nie dłuższy niż 8 dni w okresie okołoporodowym "]
[null,null,null,{"$f":"IF(AD10=TRUE,AE10,AF10)","v":"☒"},"Prowadzenie na formularzu udostępnionym przez Agencję rejestru sposobu utrzymywania loch w okresie okołoporodowym, jeżeli w planie poprawy dobrostanu zwierząt lub w oświadczeniu, o którym mowa w § 3 ust. 5 rozporządzenia, potwierdzono, że lochy są utrzymywane w takim systemie w okresie okołoporodowym; w rejestrze tym wskazuje się wszystkie lochy, a w odniesieniu do lochy, która była utrzymywana w takim systemie w okresie okołoporodowym, wskazuje się terminy utrzymywania tej lochy w takim systemie.",null,null,null,null,null,null,null,null,null,null,null,null,null,null,null,null,null,null,null,null,null,null,null,null,true,"☒","☐"]
[null,null,null,{"$f":"IF(AD11=TRUE,AE11,AF11)","v":"☒"},"Do planu poprawy dobrostanu zwierząt dołączono szkic obiektów ze wskazanymi kojcami, w których utrzymywane są lochy i loszki od 4. tygodnia po pokryciu ze wskazaniem powierzchni, na których utrzymywane są zwierzęta kilku rolników.",null,null,null,null,null,null,null,null,null,null,null,null,null,null,null,null,null,null,null,null,null,null,null,null,true,"☒","☐"]
[null,null,null,"Powierzchnia bytowa w budynkach inwentarskich, dla grup technologicznych świń innych niż lochy i loszki po pokryciu – jest zgodna z odpowiednimi obowiązkowymi wymogami ustanowionymi zgodnie z tytułem VI rozdziału I rozporządzenia Parlamentu Europejskiego i Rady (UE) nr 1306/2013 z dnia 17 grudnia 2013 r. w sprawie finansowania wspólnej polityki rolnej, zarządzania nią i monitorowania jej oraz uchylającego rozporządzenia Rady (EWG) nr 352/78, (WE) nr 165/94, (WE) nr 2799/98, (WE) nr 814/2000, (WE) nr 1290/2005 i (WE) nr 485/2008 (Dz. Urz. UE L 347 z 20.12.2013, str. 549, z późn. zm.) oraz innymi odpowiednimi obowiązkowymi wymogami wynikającymi z rozporządzenia Ministra Rolnictwa i Rozwoju Wsi z dnia 15 lutego 2010 r. w sprawie wymagań i sposobu postępowania przy utrzymywaniu gatunków zwierząt gospodarskich, dla których normy ochrony zostały określone w przepisach Unii Europejskiej (Dz. U. poz. 344, z późn. zm.)"]
[]
[null,null,null,"(miejscowość i data)",null,null,null,"(czytelny podpis rolnika)",null,null,null,null,"(czytelny podpis doradcy)"]
[null,null,null,"Liczba loch i loszek  od 4. tygodnia po pokryciu do tygodnia przed przewidywanym terminem proszenia na dzień sporządzenia planu poprawy dobrostanu zwierząt",null,null,null,null,null,null,null,null,null,{"$f":"IF(AND(AD17=1,L15>9),\"Pojedynczo wolno utrzymywać tylko do 9 loch i loszek od 4. tygodnia po pokryciu do tygodnia przed przewidywanym terminem proszenia !\",\"\")","v":""},null,null,null,null,null,null,null,null,null,null,null,null,null,null,null,false,{"$f":"AND(AD17=1,L15>9)","v":false}]
[null,null,null,"Lochy i loszki po pokryciu utrzymuje się:",null,null,null,null,null,null,null,null,null,null,null,null,null,null,null,null,null,null,null,null,null,null,null,null,null,"poj/grup"]
[null,null,null,{"$f":"IF(AD17=1,AE17,AF17)","v":"☒"},"pojedynczo albo pojedynczo i grupowo",null,null,null,null,null,{"$f":"IF(AD17=2,AE17,AF17)","v":"☐"},"grupowo",null,null,null,null,null,null,null,null,null,null,null,null,null,null,null,null,null,1,"☒","☐"]
[null,null,"II.1.1.2.","Dopuszczalna maksymalna liczba loch i loszek, które mogą przebywać jednocześnie w gospodarstwie z uwzględnieniem wymogów wariantu"]
[null,null,null,"Numer siedziby stada albo \nGrupa technologiczna",null,null,null,"Obiekt",null,"Powierzchnia bytowa kojca ",null,null,"w tym stałe podłoże ",null,null,"  Powierzchnia minimalna",null,"Powierzchnia maksymalna","Maksymalna liczba"]
[null,null,null,null,null,null,null,"Nazwa obiektu","Nr kojca","Dł.","Szer.","Pow.","Dł.","Szer.","Pow.","Bytowa ","Podł. stałe ","Otwory odpływowe","loch/\nloszek",null,null,null,null,null,null,null,null,null,"Nr stad","grupy",null,"norma",null,null,"liczba",null,null,"warunek",null,null,null,"Suma loch","grup min","dl","szer"]
[null,null,null,null,null,null,null,null,null,"m","m","m2","m","m","m2","m2/szt","m2/szt","m2","szt",null,null,null,null,null,null,null,null,null,null,null,"poz","I","II","II","I","II","II","I","II","II","wybr","L"]
[null,null,null,null,null,null,null,null,null,null,null,{"$f":"J22*K22","v":0},null,null,{"$f":"M22*N22","v":0},{"$f":"IFERROR(OFFSET(AE22,0,AO22),\"-\")","v":"-"},{"$f":"IFERROR(OFFSET(N_W_1_1!$P$5,AE22,0),\"-\")","v":"-"},{"$f":"IF(Q22=\"-\",\"-\",O22*0.15)","v":"-"},{"$f":"IFERROR(TRUNC(IF(L22/P22>=1,IF(OR(AE22<=2,AE22=6),1,L22/P22),\"-\")*AQ22),\"-\")","v":"-"},null,null,null,null,null,null,null,null,null,{"$f":"IFERROR(MATCH(D22,Nr_stad!$U$8:$U$60,0),0)","v":0},{"$f":"SUM(I22:S22)+AC22","v":0},{"$f":"IF(D22=\"\",\"-\",MATCH(D22,N_W_1_1!$K$6:$K$11,0))","v":"-"},{"$f":"OFFSET(N_W_1_1!$L$5,AE22,1)","v":{"$error":"#VALUE!"}},{"$f":"OFFSET(N_W_1_1!$L$5,AE22,2)","v":{"$error":"#VALUE!"}},{"$f":"OFFSET(N_W_1_1!$L$5,AE22,3)","v":{"$error":"#VALUE!"}},{"$f":"TRUNC(L22/AF22)","v":{"$error":"#VALUE!"}},{"$f":"TRUNC(L22/AG22)","v":{"$error":"#VALUE!"}},{"$f":"TRUNC(L22/AH22)","v":{"$error":"#VALUE!"}},{"$f":"IF(AI22<6,1,0)","v":{"$error":"#VALUE!"}},{"$f":"IF(AND(AJ22>5,AJ22<40,AN22=0),2,0)","v":{"$error":"#VALUE!"}},{"$f":"IF(AK22>39,3,0)","v":{"$error":"#VALUE!"}},{"$f":"MAX(AL22:AN22)","v":{"$error":"#VALUE!"}},{"$f":"IFERROR(OFFSET(N_W_1_1!$L$5,AE22,0),\"\")","v":""},{"$f":"IF(AND(AE22>2,AE22<>6,AI22<2),0,1)","v":{"$error":"#VALUE!"}},{"$f":"IFERROR(OFFSET(N_W_1_1!$P$5,AE22,2),0)","v":0},{"$f":"IFERROR(IF(S22>5,OFFSET(N_W_1_1!$P$5,AE22,4),OFFSET(N_W_1_1!$P$5,AE22,3)),0)","v":0}]
[null,null,null,null,null,null,null,null,null,null,null,0,null,null,0,{"$f":"IFERROR(OFFSET(AE23,0,AO23),\"-\")","v":"-"},{"$f":"IFERROR(OFFSET(N_W_1_1!$P$5,AE23,0),\"-\")","v":"-"},{"$f":"IF(Q23=\"-\",\"-\",O23*0.15)","v":"-"},"-",null,null,null,null,null,null,null,null,null,{"$f":"IFERROR(MATCH(D23,Nr_stad!$U$8:$U$60,0),0)","v":0},{"$f":"SUM(I23:S23)+AC23","v":0},{"$f":"IF(D23=\"\",\"-\",MATCH(D23,N_W_1_1!$K$6:$K$11,0))","v":"-"},{"$f":"OFFSET(N_W_1_1!$L$5,AE23,1)","v":{"$error":"#VALUE!"}},{"$f":"OFFSET(N_W_1_1!$L$5,AE23,2)","v":{"$error":"#VALUE!"}},{"$f":"OFFSET(N_W_1_1!$L$5,AE23,3)","v":{"$error":"#VALUE!"}},{"$f":"TRUNC(L23/AF23)","v":{"$error":"#VALUE!"}},{"$f":"TRUNC(L23/AG23)","v":{"$error":"#VALUE!"}},{"$f":"TRUNC(L23/AH23)","v":{"$error":"#VALUE!"}},{"$f":"IF(AI23<6,1,0)","v":{"$error":"#VALUE!"}},{"$f":"IF(AND(AJ23>5,AJ23<40,AN23=0),2,0)","v":{"$error":"#VALUE!"}},{"$f":"IF(AK23>39,3,0)","v":{"$error":"#VALUE!"}},{"$f":"MAX(AL23:AN23)","v":{"$error":"#VALUE!"}},{"$f":"IFERROR(OFFSET(N_W_1_1!$L$5,AE23,0),\"\")","v":""},{"$f":"IF(AND(AE23>2,AE23<>6,AI23<2),0,1)","v":{"$error":"#VALUE!"}},{"$f":"IFERROR(OFFSET(N_W_1_1!$P$5,AE23,2),0)","v":0},{"$f":"IFERROR(IF(S23>5,OFFSET(N_W_1_1!$P$5,AE23,4),OFFSET(N_W_1_1!$P$5,AE23,3)),0)","v":0}]
[null,null,null,null,null,null,null,null,null,null,null,0,null,null,0,"-",{"$f":"IFERROR(OFFSET(N_W_1_1!$P$5,AE24,0),\"-\")","v":"-"},"-","-",null,null,null,null,null,null,null,null,null,{"$f":"IFERROR(MATCH(D24,Nr_stad!$U$8:$U$60,0),0)","v":0},0,{"$f":"IF(D24=\"\",\"-\",MATCH(D24,N_W_1_1!$K$6:$K$11,0))","v":"-"},{"$f":"OFFSET(N_W_1_1!$L$5,AE24,1)","v":{"$error":"#VALUE!"}},{"$f":"OFFSET(N_W_1_1!$L$5,AE24,2)","v":{"$error":"#VALUE!"}},{"$f":"OFFSET(N_W_1_1!$L$5,AE24,3)","v":{"$error":"#VALUE!"}},{"$error":"#VALUE!"},{"$error":"#VALUE!"},{"$error":"#VALUE!"},{"$error":"#VALUE!"},{"$error":"#VALUE!"},{"$error":"#VALUE!"},{"$error":"#VALUE!"},{"$f":"IFERROR(OFFSET(N_W_1_1!$L$5,AE24,0),\"\")","v":""},{"$error":"#VALUE!"},{"$f":"IFERROR(OFFSET(N_W_1_1!$P$5,AE24,2),0)","v":0},{"$f":"IFERROR(IF(S24>5,OFFSET(N_W_1_1!$P$5,AE24,4),OFFSET(N_W_1_1!$P$5,AE24,3)),0)","v":0}]
[null,null,null,null,null,null,null,null,null,null,null,0,null,null,0,"-",{"$f":"IFERROR(OFFSET(N_W_1_1!$P$5,AE25,0),\"-\")","v":"-"},"-","-",null,null,null,null,null,null,null,null,null,{"$f":"IFERROR(MATCH(D25,Nr_stad!$U$8:$U$60,0),0)","v":0},0,{"$f":"IF(D25=\"\",\"-\",MATCH(D25,N_W_1_1!$K$6:$K$11,0))","v":"-"},{"$f":"OFFSET(N_W_1_1!$L$5,AE25,1)","v":{"$error":"#VALUE!"}},{"$f":"OFFSET(N_W_1_1!$L$5,AE25,2)","v":{"$error":"#VALUE!"}},{"$f":"OFFSET(N_W_1_1!$L$5,AE25,3)","v":{"$error":"#VALUE!"}},{"$error":"#VALUE!"},{"$error":"#VALUE!"},{"$error":"#VALUE!"},{"$error":"#VALUE!"},{"$error":"#VALUE!"},{"$error":"#VALUE!"},{"$error":"#VALUE!"},{"$f":"IFERROR(OFFSET(N_W_1_1!$L$5,AE25,0),\"\")","v":""},{"$error":"#VALUE!"},{"$f":"IFERROR(OFFSET(N_W_1_1!$P$5,AE25,2),0)","v":0},{"$f":"IFERROR(IF(S25>5,OFFSET(N_W_1_1!$P$5,AE25,4),OFFSET(N_W_1_1!$P$5,AE25,3)),0)","v":0}]
[null,null,null,null,null,null,null,null,null,null,null,0,null,null,0,"-",{"$f":"IFERROR(OFFSET(N_W_1_1!$P$5,AE26,0),\"-\")","v":"-"},"-","-",null,null,null,null,null,null,null,null,null,{"$f":"IFERROR(MATCH(D26,Nr_stad!$U$8:$U$60,0),0)","v":0},0,{"$f":"IF(D26=\"\",\"-\",MATCH(D26,N_W_1_1!$K$6:$K$11,0))","v":"-"},{"$f":"OFFSET(N_W_1_1!$L$5,AE26,1)","v":{"$error":"#VALUE!"}},{"$f":"OFFSET(N_W_1_1!$L$5,AE26,2)","v":{"$error":"#VALUE!"}},{"$f":"OFFSET(N_W_1_1!$L$5,AE26,3)","v":{"$error":"#VALUE!"}},{"$error":"#VALUE!"},{"$error":"#VALUE!"},{"$error":"#VALUE!"},{"$error":"#VALUE!"},{"$error":"#VALUE!"},{"$error":"#VALUE!"},{"$error":"#VALUE!"},{"$f":"IFERROR(OFFSET(N_W_1_1!$L$5,AE26,0),\"\")","v":""},{"$error":"#VALUE!"},{"$f":"IFERROR(OFFSET(N_W_1_1!$P$5,AE26,2),0)","v":0},{"$f":"IFERROR(IF(S26>5,OFFSET(N_W_1_1!$P$5,AE26,4),OFFSET(N_W_1_1!$P$5,AE26,3)),0)","v":0}]
[null,null,null,null,null,null,null,null,null,null,null,0,null,null,0,"-",{"$f":"IFERROR(OFFSET(N_W_1_1!$P$5,AE27,0),\"-\")","v":"-"},"-","-",null,null,null,null,null,null,null,null,null,{"$f":"IFERROR(MATCH(D27,Nr_stad!$U$8:$U$60,0),0)","v":0},0,{"$f":"IF(D27=\"\",\"-\",MATCH(D27,N_W_1_1!$K$6:$K$11,0))","v":"-"},{"$f":"OFFSET(N_W_1_1!$L$5,AE27,1)","v":{"$error":"#VALUE!"}},{"$f":"OFFSET(N_W_1_1!$L$5,AE27,2)","v":{"$error":"#VALUE!"}},{"$f":"OFFSET(N_W_1_1!$L$5,AE27,3)","v":{"$error":"#VALUE!"}},{"$error":"#VALUE!"},{"$error":"#VALUE!"},{"$error":"#VALUE!"},{"$error":"#VALUE!"},{"$error":"#VALUE!"},{"$error":"#VALUE!"},{"$error":"#VALUE!"},{"$f":"IFERROR(OFFSET(N_W_1_1!$L$5,AE27,0),\"\")","v":""},{"$error":"#VALUE!"},{"$f":"IFERROR(OFFSET(N_W_1_1!$P$5,AE27,2),0)","v":0},{"$f":"IFERROR(IF(S27>5,OFFSET(N_W_1_1!$P$5,AE27,4),OFFSET(N_W_1_1!$P$5,AE27,3)),0)","v":0}]
[null,null,null,null,null,null,null,null,null,null,null,0,null,null,0,"-",{"$f":"IFERROR(OFFSET(N_W_1_1!$P$5,AE28,0),\"-\")","v":"-"},"-","-",null,null,null,null,null,null,null,null,null,{"$f":"IFERROR(MATCH(D28,Nr_stad!$U$8:$U$60,0),0)","v":0},0,{"$f":"IF(D28=\"\",\"-\",MATCH(D28,N_W_1_1!$K$6:$K$11,0))","v":"-"},{"$f":"OFFSET(N_W_1_1!$L$5,AE28,1)","v":{"$error":"#VALUE!"}},{"$f":"OFFSET(N_W_1_1!$L$5,AE28,2)","v":{"$error":"#VALUE!"}},{"$f":"OFFSET(N_W_1_1!$L$5,AE28,3)","v":{"$error":"#VALUE!"}},{"$error":"#VALUE!"},{"$error":"#VALUE!"},{"$error":"#VALUE!"},{"$error":"#VALUE!"},{"$error":"#VALUE!"},{"$error":"#VALUE!"},{"$error":"#VALUE!"},{"$f":"IFERROR(OFFSET(N_W_1_1!$L$5,AE28,0),\"\")","v":""},{"$error":"#VALUE!"},{"$f":"IFERROR(OFFSET(N_W_1_1!$P$5,AE28,2),0)","v":0},{"$f":"IFERROR(IF(S28>5,OFFSET(N_W_1_1!$P$5,AE28,4),OFFSET(N_W_1_1!$P$5,AE28,3)),0)","v":0}]
[null,null,null,null,null,null,null,null,null,null,null,0,null,null,0,"-",{"$f":"IFERROR(OFFSET(N_W_1_1!$P$5,AE29,0),\"-\")","v":"-"},"-","-",null,null,null,null,null,null,null,null,null,{"$f":"IFERROR(MATCH(D29,Nr_stad!$U$8:$U$60,0),0)","v":0},0,{"$f":"IF(D29=\"\",\"-\",MATCH(D29,N_W_1_1!$K$6:$K$11,0))","v":"-"},{"$f":"OFFSET(N_W_1_1!$L$5,AE29,1)","v":{"$error":"#VALUE!"}},{"$f":"OFFSET(N_W_1_1!$L$5,AE29,2)","v":{"$error":"#VALUE!"}},{"$f":"OFFSET(N_W_1_1!$L$5,AE29,3)","v":{"$error":"#VALUE!"}},{"$error":"#VALUE!"},{"$error":"#VALUE!"},{"$error":"#VALUE!"},{"$error":"#VALUE!"},{"$error":"#VALUE!"},{"$error":"#VALUE!"},{"$error":"#VALUE!"},{"$f":"IFERROR(OFFSET(N_W_1_1!$L$5,AE29,0),\"\")","v":""},{"$error":"#VALUE!"},{"$f":"IFERROR(OFFSET(N_W_1_1!$P$5,AE29,2),0)","v":0},{"$f":"IFERROR(IF(S29>5,OFFSET(N_W_1_1!$P$5,AE29,4),OFFSET(N_W_1_1!$P$5,AE29,3)),0)","v":0}]
[null,null,null,null,null,null,null,null,null,null,null,0,null,null,0,"-",{"$f":"IFERROR(OFFSET(N_W_1_1!$P$5,AE30,0),\"-\")","v":"-"},"-","-",null,null,null,null,null,null,null,null,null,{"$f":"IFERROR(MATCH(D30,Nr_stad!$U$8:$U$60,0),0)","v":0},0,{"$f":"IF(D30=\"\",\"-\",MATCH(D30,N_W_1_1!$K$6:$K$11,0))","v":"-"},{"$f":"OFFSET(N_W_1_1!$L$5,AE30,1)","v":{"$error":"#VALUE!"}},{"$f":"OFFSET(N_W_1_1!$L$5,AE30,2)","v":{"$error":"#VALUE!"}},{"$f":"OFFSET(N_W_1_1!$L$5,AE30,3)","v":{"$error":"#VALUE!"}},{"$error":"#VALUE!"},{"$error":"#VALUE!"},{"$error":"#VALUE!"},{"$error":"#VALUE!"},{"$error":"#VALUE!"},{"$error":"#VALUE!"},{"$error":"#VALUE!"},{"$f":"IFERROR(OFFSET(N_W_1_1!$L$5,AE30,0),\"\")","v":""},{"$error":"#VALUE!"},{"$f":"IFERROR(OFFSET(N_W_1_1!$P$5,AE30,2),0)","v":0},{"$f":"IFERROR(IF(S30>5,OFFSET(N_W_1_1!$P$5,AE30,4),OFFSET(N_W_1_1!$P$5,AE30,3)),0)","v":0}]
[null,null,null,null,null,null,null,null,null,null,null,0,null,null,0,"-",{"$f":"IFERROR(OFFSET(N_W_1_1!$P$5,AE31,0),\"-\")","v":"-"},"-","-",null,null,null,null,null,null,null,null,null,{"$f":"IFERROR(MATCH(D31,Nr_stad!$U$8:$U$60,0),0)","v":0},0,{"$f":"IF(D31=\"\",\"-\",MATCH(D31,N_W_1_1!$K$6:$K$11,0))","v":"-"},{"$f":"OFFSET(N_W_1_1!$L$5,AE31,1)","v":{"$error":"#VALUE!"}},{"$f":"OFFSET(N_W_1_1!$L$5,AE31,2)","v":{"$error":"#VALUE!"}},{"$f":"OFFSET(N_W_1_1!$L$5,AE31,3)","v":{"$error":"#VALUE!"}},{"$error":"#VALUE!"},{"$error":"#VALUE!"},{"$error":"#VALUE!"},{"$error":"#VALUE!"},{"$error":"#VALUE!"},{"$error":"#VALUE!"},{"$error":"#VALUE!"},{"$f":"IFERROR(OFFSET(N_W_1_1!$L$5,AE31,0),\"\")","v":""},{"$error":"#VALUE!"},{"$f":"IFERROR(OFFSET(N_W_1_1!$P$5,AE31,2),0)","v":0},{"$f":"IFERROR(IF(S31>5,OFFSET(N_W_1_1!$P$5,AE31,4),OFFSET(N_W_1_1!$P$5,AE31,3)),0)","v":0}]
[null,null,null,null,null,null,null,null,null,null,null,0,null,null,0,"-",{"$f":"IFERROR(OFFSET(N_W_1_1!$P$5,AE32,0),\"-\")","v":"-"},"-","-",null,null,null,null,null,null,null,null,null,{"$f":"IFERROR(MATCH(D32,Nr_stad!$U$8:$U$60,0),0)","v":0},0,{"$f":"IF(D32=\"\",\"-\",MATCH(D32,N_W_1_1!$K$6:$K$11,0))","v":"-"},{"$f":"OFFSET(N_W_1_1!$L$5,AE32,1)","v":{"$error":"#VALUE!"}},{"$f":"OFFSET(N_W_1_1!$L$5,AE32,2)","v":{"$error":"#VALUE!"}},{"$f":"OFFSET(N_W_1_1!$L$5,AE32,3)","v":{"$error":"#VALUE!"}},{"$error":"#VALUE!"},{"$error":"#VALUE!"},{"$error":"#VALUE!"},{"$error":"#VALUE!"},{"$error":"#VALUE!"},{"$error":"#VALUE!"},{"$error":"#VALUE!"},{"$f":"IFERROR(OFFSET(N_W_1_1!$L$5,AE32,0),\"\")","v":""},{"$error":"#VALUE!"},{"$f":"IFERROR(OFFSET(N_W_1_1!$P$5,AE32,2),0)","v":0},{"$f":"IFERROR(IF(S32>5,OFFSET(N_W_1_1!$P$5,AE32,4),OFFSET(N_W_1_1!$P$5,AE32,3)),0)","v":0}]
[null,null,null,null,null,null,null,null,null,null,null,0,null,null,0,"-",{"$f":"IFERROR(OFFSET(N_W_1_1!$P$5,AE33,0),\"-\")","v":"-"},"-","-",null,null,null,null,null,null,null,null,null,{"$f":"IFERROR(MATCH(D33,Nr_stad!$U$8:$U$60,0),0)","v":0},0,{"$f":"IF(D33=\"\",\"-\",MATCH(D33,N_W_1_1!$K$6:$K$11,0))","v":"-"},{"$f":"OFFSET(N_W_1_1!$L$5,AE33,1)","v":{"$error":"#VALUE!"}},{"$f":"OFFSET(N_W_1_1!$L$5,AE33,2)","v":{"$error":"#VALUE!"}},{"$f":"OFFSET(N_W_1_1!$L$5,AE33,3)","v":{"$error":"#VALUE!"}},{"$error":"#VALUE!"},{"$error":"#VALUE!"},{"$error":"#VALUE!"},{"$error":"#VALUE!"},{"$error":"#VALUE!"},{"$error":"#VALUE!"},{"$error":"#VALUE!"},{"$f":"IFERROR(OFFSET(N_W_1_1!$L$5,AE33,0),\"\")","v":""},{"$error":"#VALUE!"},{"$f":"IFERROR(OFFSET(N_W_1_1!$P$5,AE33,2),0)","v":0},{"$f":"IFERROR(IF(S33>5,OFFSET(N_W_1_1!$P$5,AE33,4),OFFSET(N_W_1_1!$P$5,AE33,3)),0)","v":0}]
[null,null,null,null,null,null,null,null,null,null,null,0,null,null,0,"-",{"$f":"IFERROR(OFFSET(N_W_1_1!$P$5,AE34,0),\"-\")","v":"-"},"-","-",null,null,null,null,null,null,null,null,null,{"$f":"IFERROR(MATCH(D34,Nr_stad!$U$8:$U$60,0),0)","v":0},0,{"$f":"IF(D34=\"\",\"-\",MATCH(D34,N_W_1_1!$K$6:$K$11,0))","v":"-"},{"$f":"OFFSET(N_W_1_1!$L$5,AE34,1)","v":{"$error":"#VALUE!"}},{"$f":"OFFSET(N_W_1_1!$L$5,AE34,2)","v":{"$error":"#VALUE!"}},{"$f":"OFFSET(N_W_1_1!$L$5,AE34,3)","v":{"$error":"#VALUE!"}},{"$error":"#VALUE!"},{"$error":"#VALUE!"},{"$error":"#VALUE!"},{"$error":"#VALUE!"},{"$error":"#VALUE!"},{"$error":"#VALUE!"},{"$error":"#VALUE!"},{"$f":"IFERROR(OFFSET(N_W_1_1!$L$5,AE34,0),\"\")","v":""},{"$error":"#VALUE!"},{"$f":"IFERROR(OFFSET(N_W_1_1!$P$5,AE34,2),0)","v":0},{"$f":"IFERROR(IF(S34>5,OFFSET(N_W_1_1!$P$5,AE34,4),OFFSET(N_W_1_1!$P$5,AE34,3)),0)","v":0}]
[null,null,null,null,null,null,null,null,null,null,null,0,null,null,0,"-",{"$f":"IFERROR(OFFSET(N_W_1_1!$P$5,AE35,0),\"-\")","v":"-"},"-","-",null,null,null,null,null,null,null,null,null,{"$f":"IFERROR(MATCH(D35,Nr_stad!$U$8:$U$60,0),0)","v":0},0,{"$f":"IF(D35=\"\",\"-\",MATCH(D35,N_W_1_1!$K$6:$K$11,0))","v":"-"},{"$f":"OFFSET(N_W_1_1!$L$5,AE35,1)","v":{"$error":"#VALUE!"}},{"$f":"OFFSET(N_W_1_1!$L$5,AE35,2)","v":{"$error":"#VALUE!"}},{"$f":"OFFSET(N_W_1_1!$L$5,AE35,3)","v":{"$error":"#VALUE!"}},{"$error":"#VALUE!"},{"$error":"#VALUE!"},{"$error":"#VALUE!"},{"$error":"#VALUE!"},{"$error":"#VALUE!"},{"$error":"#VALUE!"},{"$error":"#VALUE!"},{"$f":"IFERROR(OFFSET(N_W_1_1!$L$5,AE35,0),\"\")","v":""},{"$error":"#VALUE!"},{"$f":"IFERROR(OFFSET(N_W_1_1!$P$5,AE35,2),0)","v":0},{"$f":"IFERROR(IF(S35>5,OFFSET(N_W_1_1!$P$5,AE35,4),OFFSET(N_W_1_1!$P$5,AE35,3)),0)","v":0}]
[null,null,null,null,null,null,null,null,null,null,null,0,null,null,0,"-",{"$f":"IFERROR(OFFSET(N_W_1_1!$P$5,AE36,0),\"-\")","v":"-"},"-","-",null,null,null,null,null,null,null,null,null,{"$f":"IFERROR(MATCH(D36,Nr_stad!$U$8:$U$60,0),0)","v":0},0,{"$f":"IF(D36=\"\",\"-\",MATCH(D36,N_W_1_1!$K$6:$K$11,0))","v":"-"},{"$f":"OFFSET(N_W_1_1!$L$5,AE36,1)","v":{"$error":"#VALUE!"}},{"$f":"OFFSET(N_W_1_1!$L$5,AE36,2)","v":{"$error":"#VALUE!"}},{"$f":"OFFSET(N_W_1_1!$L$5,AE36,3)","v":{"$error":"#VALUE!"}},{"$error":"#VALUE!"},{"$error":"#VALUE!"},{"$error":"#VALUE!"},{"$error":"#VALUE!"},{"$error":"#VALUE!"},{"$error":"#VALUE!"},{"$error":"#VALUE!"},{"$f":"IFERROR(OFFSET(N_W_1_1!$L$5,AE36,0),\"\")","v":""},{"$error":"#VALUE!"},{"$f":"IFERROR(OFFSET(N_W_1_1!$P$5,AE36,2),0)","v":0},{"$f":"IFERROR(IF(S36>5,OFFSET(N_W_1_1!$P$5,AE36,4),OFFSET(N_W_1_1!$P$5,AE36,3)),0)","v":0}]
[null,null,null,null,null,null,null,null,null,null,null,0,null,null,0,"-",{"$f":"IFERROR(OFFSET(N_W_1_1!$P$5,AE37,0),\"-\")","v":"-"},"-","-",null,null,null,null,null,null,null,null,null,{"$f":"IFERROR(MATCH(D37,Nr_stad!$U$8:$U$60,0),0)","v":0},0,{"$f":"IF(D37=\"\",\"-\",MATCH(D37,N_W_1_1!$K$6:$K$11,0))","v":"-"},{"$f":"OFFSET(N_W_1_1!$L$5,AE37,1)","v":{"$error":"#VALUE!"}},{"$f":"OFFSET(N_W_1_1!$L$5,AE37,2)","v":{"$error":"#VALUE!"}},{"$f":"OFFSET(N_W_1_1!$L$5,AE37,3)","v":{"$error":"#VALUE!"}},{"$error":"#VALUE!"},{"$error":"#VALUE!"},{"$error":"#VALUE!"},{"$error":"#VALUE!"},{"$error":"#VALUE!"},{"$error":"#VALUE!"},{"$error":"#VALUE!"},{"$f":"IFERROR(OFFSET(N_W_1_1!$L$5,AE37,0),\"\")","v":""},{"$error":"#VALUE!"},{"$f":"IFERROR(OFFSET(N_W_1_1!$P$5,AE37,2),0)","v":0},{"$f":"IFERROR(IF(S37>5,OFFSET(N_W_1_1!$P$5,AE37,4),OFFSET(N_W_1_1!$P$5,AE37,3)),0)","v":0}]
[null,null,null,null,null,null,null,null,null,null,null,0,null,null,0,"-",{"$f":"IFERROR(OFFSET(N_W_1_1!$P$5,AE38,0),\"-\")","v":"-"},"-","-",null,null,null,null,null,null,null,null,null,{"$f":"IFERROR(MATCH(D38,Nr_stad!$U$8:$U$60,0),0)","v":0},0,{"$f":"IF(D38=\"\",\"-\",MATCH(D38,N_W_1_1!$K$6:$K$11,0))","v":"-"},{"$f":"OFFSET(N_W_1_1!$L$5,AE38,1)","v":{"$error":"#VALUE!"}},{"$f":"OFFSET(N_W_1_1!$L$5,AE38,2)","v":{"$error":"#VALUE!"}},{"$f":"OFFSET(N_W_1_1!$L$5,AE38,3)","v":{"$error":"#VALUE!"}},{"$error":"#VALUE!"},{"$error":"#VALUE!"},{"$error":"#VALUE!"},{"$error":"#VALUE!"},{"$error":"#VALUE!"},{"$error":"#VALUE!"},{"$error":"#VALUE!"},{"$f":"IFERROR(OFFSET(N_W_1_1!$L$5,AE38,0),\"\")","v":""},{"$error":"#VALUE!"},{"$f":"IFERROR(OFFSET(N_W_1_1!$P$5,AE38,2),0)","v":0},{"$f":"IFERROR(IF(S38>5,OFFSET(N_W_1_1!$P$5,AE38,4),OFFSET(N_W_1_1!$P$5,AE38,3)),0)","v":0}]
[null,null,null,null,null,null,null,null,null,null,null,0,null,null,0,"-",{"$f":"IFERROR(OFFSET(N_W_1_1!$P$5,AE39,0),\"-\")","v":"-"},"-","-",null,null,null,null,null,null,null,null,null,{"$f":"IFERROR(MATCH(D39,Nr_stad!$U$8:$U$60,0),0)","v":0},0,{"$f":"IF(D39=\"\",\"-\",MATCH(D39,N_W_1_1!$K$6:$K$11,0))","v":"-"},{"$f":"OFFSET(N_W_1_1!$L$5,AE39,1)","v":{"$error":"#VALUE!"}},{"$f":"OFFSET(N_W_1_1!$L$5,AE39,2)","v":{"$error":"#VALUE!"}},{"$f":"OFFSET(N_W_1_1!$L$5,AE39,3)","v":{"$error":"#VALUE!"}},{"$error":"#VALUE!"},{"$error":"#VALUE!"},{"$error":"#VALUE!"},{"$error":"#VALUE!"},{"$error":"#VALUE!"},{"$error":"#VALUE!"},{"$error":"#VALUE!"},{"$f":"IFERROR(OFFSET(N_W_1_1!$L$5,AE39,0),\"\")","v":""},{"$error":"#VALUE!"},{"$f":"IFERROR(OFFSET(N_W_1_1!$P$5,AE39,2),0)","v":0},{"$f":"IFERROR(IF(S39>5,OFFSET(N_W_1_1!$P$5,AE39,4),OFFSET(N_W_1_1!$P$5,AE39,3)),0)","v":0}]
[null,null,null,null,null,null,null,null,null,null,null,0,null,null,0,"-",{"$f":"IFERROR(OFFSET(N_W_1_1!$P$5,AE40,0),\"-\")","v":"-"},"-","-",null,null,null,null,null,null,null,null,null,{"$f":"IFERROR(MATCH(D40,Nr_stad!$U$8:$U$60,0),0)","v":0},0,{"$f":"IF(D40=\"\",\"-\",MATCH(D40,N_W_1_1!$K$6:$K$11,0))","v":"-"},{"$f":"OFFSET(N_W_1_1!$L$5,AE40,1)","v":{"$error":"#VALUE!"}},{"$f":"OFFSET(N_W_1_1!$L$5,AE40,2)","v":{"$error":"#VALUE!"}},{"$f":"OFFSET(N_W_1_1!$L$5,AE40,3)","v":{"$error":"#VALUE!"}},{"$error":"#VALUE!"},{"$error":"#VALUE!"},{"$error":"#VALUE!"},{"$error":"#VALUE!"},{"$error":"#VALUE!"},{"$error":"#VALUE!"},{"$error":"#VALUE!"},{"$f":"IFERROR(OFFSET(N_W_1_1!$L$5,AE40,0),\"\")","v":""},{"$error":"#VALUE!"},{"$f":"IFERROR(OFFSET(N_W_1_1!$P$5,AE40,2),0)","v":0},{"$f":"IFERROR(IF(S40>5,OFFSET(N_W_1_1!$P$5,AE40,4),OFFSET(N_W_1_1!$P$5,AE40,3)),0)","v":0}]
[null,null,null,null,null,null,null,null,null,null,null,0,null,null,0,"-",{"$f":"IFERROR(OFFSET(N_W_1_1!$P$5,AE41,0),\"-\")","v":"-"},"-","-",null,null,null,null,null,null,null,null,null,{"$f":"IFERROR(MATCH(D41,Nr_stad!$U$8:$U$60,0),0)","v":0},0,{"$f":"IF(D41=\"\",\"-\",MATCH(D41,N_W_1_1!$K$6:$K$11,0))","v":"-"},{"$f":"OFFSET(N_W_1_1!$L$5,AE41,1)","v":{"$error":"#VALUE!"}},{"$f":"OFFSET(N_W_1_1!$L$5,AE41,2)","v":{"$error":"#VALUE!"}},{"$f":"OFFSET(N_W_1_1!$L$5,AE41,3)","v":{"$error":"#VALUE!"}},{"$error":"#VALUE!"},{"$error":"#VALUE!"},{"$error":"#VALUE!"},{"$error":"#VALUE!"},{"$error":"#VALUE!"},{"$error":"#VALUE!"},{"$error":"#VALUE!"},{"$f":"IFERROR(OFFSET(N_W_1_1!$L$5,AE41,0),\"\")","v":""},{"$error":"#VALUE!"},{"$f":"IFERROR(OFFSET(N_W_1_1!$P$5,AE41,2),0)","v":0},{"$f":"IFERROR(IF(S41>5,OFFSET(N_W_1_1!$P$5,AE41,4),OFFSET(N_W_1_1!$P$5,AE41,3)),0)","v":0}]
[null,null,null,null,null,null,null,null,null,null,null,0,null,null,0,"-",{"$f":"IFERROR(OFFSET(N_W_1_1!$P$5,AE42,0),\"-\")","v":"-"},"-","-",null,null,null,null,null,null,null,null,null,{"$f":"IFERROR(MATCH(D42,Nr_stad!$U$8:$U$60,0),0)","v":0},0,{"$f":"IF(D42=\"\",\"-\",MATCH(D42,N_W_1_1!$K$6:$K$11,0))","v":"-"},{"$f":"OFFSET(N_W_1_1!$L$5,AE42,1)","v":{"$error":"#VALUE!"}},{"$f":"OFFSET(N_W_1_1!$L$5,AE42,2)","v":{"$error":"#VALUE!"}},{"$f":"OFFSET(N_W_1_1!$L$5,AE42,3)","v":{"$error":"#VALUE!"}},{"$error":"#VALUE!"},{"$error":"#VALUE!"},{"$error":"#VALUE!"},{"$error":"#VALUE!"},{"$error":"#VALUE!"},{"$error":"#VALUE!"},{"$error":"#VALUE!"},{"$f":"IFERROR(OFFSET(N_W_1_1!$L$5,AE42,0),\"\")","v":""},{"$error":"#VALUE!"},{"$f":"IFERROR(OFFSET(N_W_1_1!$P$5,AE42,2),0)","v":0},{"$f":"IFERROR(IF(S42>5,OFFSET(N_W_1_1!$P$5,AE42,4),OFFSET(N_W_1_1!$P$5,AE42,3)),0)","v":0}]
[null,null,null,null,null,null,null,null,null,null,null,0,null,null,0,"-",{"$f":"IFERROR(OFFSET(N_W_1_1!$P$5,AE43,0),\"-\")","v":"-"},"-","-",null,null,null,null,null,null,null,null,null,{"$f":"IFERROR(MATCH(D43,Nr_stad!$U$8:$U$60,0),0)","v":0},0,{"$f":"IF(D43=\"\",\"-\",MATCH(D43,N_W_1_1!$K$6:$K$11,0))","v":"-"},{"$f":"OFFSET(N_W_1_1!$L$5,AE43,1)","v":{"$error":"#VALUE!"}},{"$f":"OFFSET(N_W_1_1!$L$5,AE43,2)","v":{"$error":"#VALUE!"}},{"$f":"OFFSET(N_W_1_1!$L$5,AE43,3)","v":{"$error":"#VALUE!"}},{"$error":"#VALUE!"},{"$error":"#VALUE!"},{"$error":"#VALUE!"},{"$error":"#VALUE!"},{"$error":"#VALUE!"},{"$error":"#VALUE!"},{"$error":"#VALUE!"},{"$f":"IFERROR(OFFSET(N_W_1_1!$L$5,AE43,0),\"\")","v":""},{"$error":"#VALUE!"},{"$f":"IFERROR(OFFSET(N_W_1_1!$P$5,AE43,2),0)","v":0},{"$f":"IFERROR(IF(S43>5,OFFSET(N_W_1_1!$P$5,AE43,4),OFFSET(N_W_1_1!$P$5,AE43,3)),0)","v":0}]
[null,null,null,null,null,null,null,null,null,null,null,0,null,null,0,"-",{"$f":"IFERROR(OFFSET(N_W_1_1!$P$5,AE44,0),\"-\")","v":"-"},"-","-",null,null,null,null,null,null,null,null,null,{"$f":"IFERROR(MATCH(D44,Nr_stad!$U$8:$U$60,0),0)","v":0},0,{"$f":"IF(D44=\"\",\"-\",MATCH(D44,N_W_1_1!$K$6:$K$11,0))","v":"-"},{"$f":"OFFSET(N_W_1_1!$L$5,AE44,1)","v":{"$error":"#VALUE!"}},{"$f":"OFFSET(N_W_1_1!$L$5,AE44,2)","v":{"$error":"#VALUE!"}},{"$f":"OFFSET(N_W_1_1!$L$5,AE44,3)","v":{"$error":"#VALUE!"}},{"$error":"#VALUE!"},{"$error":"#VALUE!"},{"$error":"#VALUE!"},{"$error":"#VALUE!"},{"$error":"#VALUE!"},{"$error":"#VALUE!"},{"$error":"#VALUE!"},{"$f":"IFERROR(OFFSET(N_W_1_1!$L$5,AE44,0),\"\")","v":""},{"$error":"#VALUE!"},{"$f":"IFERROR(OFFSET(N_W_1_1!$P$5,AE44,2),0)","v":0},{"$f":"IFERROR(IF(S44>5,OFFSET(N_W_1_1!$P$5,AE44,4),OFFSET(N_W_1_1!$P$5,AE44,3)),0)","v":0}]
[null,null,null,null,null,null,null,null,null,null,null,0,null,null,0,"-",{"$f":"IFERROR(OFFSET(N_W_1_1!$P$5,AE45,0),\"-\")","v":"-"},"-","-",null,null,null,null,null,null,null,null,null,{"$f":"IFERROR(MATCH(D45,Nr_stad!$U$8:$U$60,0),0)","v":0},0,{"$f":"IF(D45=\"\",\"-\",MATCH(D45,N_W_1_1!$K$6:$K$11,0))","v":"-"},{"$f":"OFFSET(N_W_1_1!$L$5,AE45,1)","v":{"$error":"#VALUE!"}},{"$f":"OFFSET(N_W_1_1!$L$5,AE45,2)","v":{"$error":"#VALUE!"}},{"$f":"OFFSET(N_W_1_1!$L$5,AE45,3)","v":{"$error":"#VALUE!"}},{"$error":"#VALUE!"},{"$error":"#VALUE!"},{"$error":"#VALUE!"},{"$error":"#VALUE!"},{"$error":"#VALUE!"},{"$error":"#VALUE!"},{"$error":"#VALUE!"},{"$f":"IFERROR(OFFSET(N_W_1_1!$L$5,AE45,0),\"\")","v":""},{"$error":"#VALUE!"},{"$f":"IFERROR(OFFSET(N_W_1_1!$P$5,AE45,2),0)","v":0},{"$f":"IFERROR(IF(S45>5,OFFSET(N_W_1_1!$P$5,AE45,4),OFFSET(N_W_1_1!$P$5,AE45,3)),0)","v":0}]
[null,null,null,null,null,null,null,null,null,null,null,0,null,null,0,"-",{"$f":"IFERROR(OFFSET(N_W_1_1!$P$5,AE46,0),\"-\")","v":"-"},"-","-",null,null,null,null,null,null,null,null,null,{"$f":"IFERROR(MATCH(D46,Nr_stad!$U$8:$U$60,0),0)","v":0},0,{"$f":"IF(D46=\"\",\"-\",MATCH(D46,N_W_1_1!$K$6:$K$11,0))","v":"-"},{"$f":"OFFSET(N_W_1_1!$L$5,AE46,1)","v":{"$error":"#VALUE!"}},{"$f":"OFFSET(N_W_1_1!$L$5,AE46,2)","v":{"$error":"#VALUE!"}},{"$f":"OFFSET(N_W_1_1!$L$5,AE46,3)","v":{"$error":"#VALUE!"}},{"$error":"#VALUE!"},{"$error":"#VALUE!"},{"$error":"#VALUE!"},{"$error":"#VALUE!"},{"$error":"#VALUE!"},{"$error":"#VALUE!"},{"$error":"#VALUE!"},{"$f":"IFERROR(OFFSET(N_W_1_1!$L$5,AE46,0),\"\")","v":""},{"$error":"#VALUE!"},{"$f":"IFERROR(OFFSET(N_W_1_1!$P$5,AE46,2),0)","v":0},{"$f":"IFERROR(IF(S46>5,OFFSET(N_W_1_1!$P$5,AE46,4),OFFSET(N_W_1_1!$P$5,AE46,3)),0)","v":0}]
[null,null,null,null,null,null,null,null,null,null,null,0,null,null,0,"-",{"$f":"IFERROR(OFFSET(N_W_1_1!$P$5,AE47,0),\"-\")","v":"-"},"-","-",null,null,null,null,null,null,null,null,null,{"$f":"IFERROR(MATCH(D47,Nr_stad!$U$8:$U$60,0),0)","v":0},0,{"$f":"IF(D47=\"\",\"-\",MATCH(D47,N_W_1_1!$K$6:$K$11,0))","v":"-"},{"$f":"OFFSET(N_W_1_1!$L$5,AE47,1)","v":{"$error":"#VALUE!"}},{"$f":"OFFSET(N_W_1_1!$L$5,AE47,2)","v":{"$error":"#VALUE!"}},{"$f":"OFFSET(N_W_1_1!$L$5,AE47,3)","v":{"$error":"#VALUE!"}},{"$error":"#VALUE!"},{"$error":"#VALUE!"},{"$error":"#VALUE!"},{"$error":"#VALUE!"},{"$error":"#VALUE!"},{"$error":"#VALUE!"},{"$error":"#VALUE!"},{"$f":"IFERROR(OFFSET(N_W_1_1!$L$5,AE47,0),\"\")","v":""},{"$error":"#VALUE!"},{"$f":"IFERROR(OFFSET(N_W_1_1!$P$5,AE47,2),0)","v":0},{"$f":"IFERROR(IF(S47>5,OFFSET(N_W_1_1!$P$5,AE47,4),OFFSET(N_W_1_1!$P$5,AE47,3)),0)","v":0}]
[null,null,null,null,null,null,null,null,null,null,null,0,null,null,0,"-",{"$f":"IFERROR(OFFSET(N_W_1_1!$P$5,AE48,0),\"-\")","v":"-"},"-","-",null,null,null,null,null,null,null,null,null,{"$f":"IFERROR(MATCH(D48,Nr_stad!$U$8:$U$60,0),0)","v":0},0,{"$f":"IF(D48=\"\",\"-\",MATCH(D48,N_W_1_1!$K$6:$K$11,0))","v":"-"},{"$f":"OFFSET(N_W_1_1!$L$5,AE48,1)","v":{"$error":"#VALUE!"}},{"$f":"OFFSET(N_W_1_1!$L$5,AE48,2)","v":{"$error":"#VALUE!"}},{"$f":"OFFSET(N_W_1_1!$L$5,AE48,3)","v":{"$error":"#VALUE!"}},{"$error":"#VALUE!"},{"$error":"#VALUE!"},{"$error":"#VALUE!"},{"$error":"#VALUE!"},{"$error":"#VALUE!"},{"$error":"#VALUE!"},{"$error":"#VALUE!"},{"$f":"IFERROR(OFFSET(N_W_1_1!$L$5,AE48,0),\"\")","v":""},{"$error":"#VALUE!"},{"$f":"IFERROR(OFFSET(N_W_1_1!$P$5,AE48,2),0)","v":0},{"$f":"IFERROR(IF(S48>5,OFFSET(N_W_1_1!$P$5,AE48,4),OFFSET(N_W_1_1!$P$5,AE48,3)),0)","v":0}]
[null,null,null,null,null,null,null,null,null,null,null,0,null,null,0,"-",{"$f":"IFERROR(OFFSET(N_W_1_1!$P$5,AE49,0),\"-\")","v":"-"},"-","-",null,null,null,null,null,null,null,null,null,{"$f":"IFERROR(MATCH(D49,Nr_stad!$U$8:$U$60,0),0)","v":0},0,{"$f":"IF(D49=\"\",\"-\",MATCH(D49,N_W_1_1!$K$6:$K$11,0))","v":"-"},{"$f":"OFFSET(N_W_1_1!$L$5,AE49,1)","v":{"$error":"#VALUE!"}},{"$f":"OFFSET(N_W_1_1!$L$5,AE49,2)","v":{"$error":"#VALUE!"}},{"$f":"OFFSET(N_W_1_1!$L$5,AE49,3)","v":{"$error":"#VALUE!"}},{"$error":"#VALUE!"},{"$error":"#VALUE!"},{"$error":"#VALUE!"},{"$error":"#VALUE!"},{"$error":"#VALUE!"},{"$error":"#VALUE!"},{"$error":"#VALUE!"},{"$f":"IFERROR(OFFSET(N_W_1_1!$L$5,AE49,0),\"\")","v":""},{"$error":"#VALUE!"},{"$f":"IFERROR(OFFSET(N_W_1_1!$P$5,AE49,2),0)","v":0},{"$f":"IFERROR(IF(S49>5,OFFSET(N_W_1_1!$P$5,AE49,4),OFFSET(N_W_1_1!$P$5,AE49,3)),0)","v":0}]
[null,null,null,null,null,null,null,null,null,null,null,0,null,null,0,"-",{"$f":"IFERROR(OFFSET(N_W_1_1!$P$5,AE50,0),\"-\")","v":"-"},"-","-",null,null,null,null,null,null,null,null,null,{"$f":"IFERROR(MATCH(D50,Nr_stad!$U$8:$U$60,0),0)","v":0},0,{"$f":"IF(D50=\"\",\"-\",MATCH(D50,N_W_1_1!$K$6:$K$11,0))","v":"-"},{"$f":"OFFSET(N_W_1_1!$L$5,AE50,1)","v":{"$error":"#VALUE!"}},{"$f":"OFFSET(N_W_1_1!$L$5,AE50,2)","v":{"$error":"#VALUE!"}},{"$f":"OFFSET(N_W_1_1!$L$5,AE50,3)","v":{"$error":"#VALUE!"}},{"$error":"#VALUE!"},{"$error":"#VALUE!"},{"$error":"#VALUE!"},{"$error":"#VALUE!"},{"$error":"#VALUE!"},{"$error":"#VALUE!"},{"$error":"#VALUE!"},{"$f":"IFERROR(OFFSET(N_W_1_1!$L$5,AE50,0),\"\")","v":""},{"$error":"#VALUE!"},{"$f":"IFERROR(OFFSET(N_W_1_1!$P$5,AE50,2),0)","v":0},{"$f":"IFERROR(IF(S50>5,OFFSET(N_W_1_1!$P$5,AE50,4),OFFSET(N_W_1_1!$P$5,AE50,3)),0)","v":0}]
[null,null,null,null,null,null,null,null,null,null,null,0,null,null,0,"-",{"$f":"IFERROR(OFFSET(N_W_1_1!$P$5,AE51,0),\"-\")","v":"-"},"-","-",null,null,null,null,null,null,null,null,null,{"$f":"IFERROR(MATCH(D51,Nr_stad!$U$8:$U$60,0),0)","v":0},0,{"$f":"IF(D51=\"\",\"-\",MATCH(D51,N_W_1_1!$K$6:$K$11,0))","v":"-"},{"$f":"OFFSET(N_W_1_1!$L$5,AE51,1)","v":{"$error":"#VALUE!"}},{"$f":"OFFSET(N_W_1_1!$L$5,AE51,2)","v":{"$error":"#VALUE!"}},{"$f":"OFFSET(N_W_1_1!$L$5,AE51,3)","v":{"$error":"#VALUE!"}},{"$error":"#VALUE!"},{"$error":"#VALUE!"},{"$error":"#VALUE!"},{"$error":"#VALUE!"},{"$error":"#VALUE!"},{"$error":"#VALUE!"},{"$error":"#VALUE!"},{"$f":"IFERROR(OFFSET(N_W_1_1!$L$5,AE51,0),\"\")","v":""},{"$error":"#VALUE!"},{"$f":"IFERROR(OFFSET(N_W_1_1!$P$5,AE51,2),0)","v":0},{"$f":"IFERROR(IF(S51>5,OFFSET(N_W_1_1!$P$5,AE51,4),OFFSET(N_W_1_1!$P$5,AE51,3)),0)","v":0}]
[null,null,null,null,null,null,null,null,null,null,null,0,null,null,0,"-",{"$f":"IFERROR(OFFSET(N_W_1_1!$P$5,AE52,0),\"-\")","v":"-"},"-","-",null,null,null,null,null,null,null,null,null,{"$f":"IFERROR(MATCH(D52,Nr_stad!$U$8:$U$60,0),0)","v":0},0,{"$f":"IF(D52=\"\",\"-\",MATCH(D52,N_W_1_1!$K$6:$K$11,0))","v":"-"},{"$f":"OFFSET(N_W_1_1!$L$5,AE52,1)","v":{"$error":"#VALUE!"}},{"$f":"OFFSET(N_W_1_1!$L$5,AE52,2)","v":{"$error":"#VALUE!"}},{"$f":"OFFSET(N_W_1_1!$L$5,AE52,3)","v":{"$error":"#VALUE!"}},{"$error":"#VALUE!"},{"$error":"#VALUE!"},{"$error":"#VALUE!"},{"$error":"#VALUE!"},{"$error":"#VALUE!"},{"$error":"#VALUE!"},{"$error":"#VALUE!"},{"$f":"IFERROR(OFFSET(N_W_1_1!$L$5,AE52,0),\"\")","v":""},{"$error":"#VALUE!"},{"$f":"IFERROR(OFFSET(N_W_1_1!$P$5,AE52,2),0)","v":0},{"$f":"IFERROR(IF(S52>5,OFFSET(N_W_1_1!$P$5,AE52,4),OFFSET(N_W_1_1!$P$5,AE52,3)),0)","v":0}]
[null,null,null,null,null,null,null,null,null,null,null,0,null,null,0,"-",{"$f":"IFERROR(OFFSET(N_W_1_1!$P$5,AE53,0),\"-\")","v":"-"},"-","-",null,null,null,null,null,null,null,null,null,{"$f":"IFERROR(MATCH(D53,Nr_stad!$U$8:$U$60,0),0)","v":0},0,{"$f":"IF(D53=\"\",\"-\",MATCH(D53,N_W_1_1!$K$6:$K$11,0))","v":"-"},{"$f":"OFFSET(N_W_1_1!$L$5,AE53,1)","v":{"$error":"#VALUE!"}},{"$f":"OFFSET(N_W_1_1!$L$5,AE53,2)","v":{"$error":"#VALUE!"}},{"$f":"OFFSET(N_W_1_1!$L$5,AE53,3)","v":{"$error":"#VALUE!"}},{"$error":"#VALUE!"},{"$error":"#VALUE!"},{"$error":"#VALUE!"},{"$error":"#VALUE!"},{"$error":"#VALUE!"},{"$error":"#VALUE!"},{"$error":"#VALUE!"},{"$f":"IFERROR(OFFSET(N_W_1_1!$L$5,AE53,0),\"\")","v":""},{"$error":"#VALUE!"},{"$f":"IFERROR(OFFSET(N_W_1_1!$P$5,AE53,2),0)","v":0},{"$f":"IFERROR(IF(S53>5,OFFSET(N_W_1_1!$P$5,AE53,4),OFFSET(N_W_1_1!$P$5,AE53,3)),0)","v":0}]
[null,null,null,null,null,null,null,null,null,null,null,0,null,null,0,"-",{"$f":"IFERROR(OFFSET(N_W_1_1!$P$5,AE54,0),\"-\")","v":"-"},"-","-",null,null,null,null,null,null,null,null,null,{"$f":"IFERROR(MATCH(D54,Nr_stad!$U$8:$U$60,0),0)","v":0},0,{"$f":"IF(D54=\"\",\"-\",MATCH(D54,N_W_1_1!$K$6:$K$11,0))","v":"-"},{"$f":"OFFSET(N_W_1_1!$L$5,AE54,1)","v":{"$error":"#VALUE!"}},{"$f":"OFFSET(N_W_1_1!$L$5,AE54,2)","v":{"$error":"#VALUE!"}},{"$f":"OFFSET(N_W_1_1!$L$5,AE54,3)","v":{"$error":"#VALUE!"}},{"$error":"#VALUE!"},{"$error":"#VALUE!"},{"$error":"#VALUE!"},{"$error":"#VALUE!"},{"$error":"#VALUE!"},{"$error":"#VALUE!"},{"$error":"#VALUE!"},{"$f":"IFERROR(OFFSET(N_W_1_1!$L$5,AE54,0),\"\")","v":""},{"$error":"#VALUE!"},{"$f":"IFERROR(OFFSET(N_W_1_1!$P$5,AE54,2),0)","v":0},{"$f":"IFERROR(IF(S54>5,OFFSET(N_W_1_1!$P$5,AE54,4),OFFSET(N_W_1_1!$P$5,AE54,3)),0)","v":0}]
[null,null,null,null,null,null,null,null,null,null,null,0,null,null,0,"-",{"$f":"IFERROR(OFFSET(N_W_1_1!$P$5,AE55,0),\"-\")","v":"-"},"-","-",null,null,null,null,null,null,null,null,null,{"$f":"IFERROR(MATCH(D55,Nr_stad!$U$8:$U$60,0),0)","v":0},0,{"$f":"IF(D55=\"\",\"-\",MATCH(D55,N_W_1_1!$K$6:$K$11,0))","v":"-"},{"$f":"OFFSET(N_W_1_1!$L$5,AE55,1)","v":{"$error":"#VALUE!"}},{"$f":"OFFSET(N_W_1_1!$L$5,AE55,2)","v":{"$error":"#VALUE!"}},{"$f":"OFFSET(N_W_1_1!$L$5,AE55,3)","v":{"$error":"#VALUE!"}},{"$error":"#VALUE!"},{"$error":"#VALUE!"},{"$error":"#VALUE!"},{"$error":"#VALUE!"},{"$error":"#VALUE!"},{"$error":"#VALUE!"},{"$error":"#VALUE!"},{"$f":"IFERROR(OFFSET(N_W_1_1!$L$5,AE55,0),\"\")","v":""},{"$error":"#VALUE!"},{"$f":"IFERROR(OFFSET(N_W_1_1!$P$5,AE55,2),0)","v":0},{"$f":"IFERROR(IF(S55>5,OFFSET(N_W_1_1!$P$5,AE55,4),OFFSET(N_W_1_1!$P$5,AE55,3)),0)","v":0}]
[null,null,null,null,null,null,null,null,null,null,null,0,null,null,0,"-",{"$f":"IFERROR(OFFSET(N_W_1_1!$P$5,AE56,0),\"-\")","v":"-"},"-","-",null,null,null,null,null,null,null,null,null,{"$f":"IFERROR(MATCH(D56,Nr_stad!$U$8:$U$60,0),0)","v":0},0,{"$f":"IF(D56=\"\",\"-\",MATCH(D56,N_W_1_1!$K$6:$K$11,0))","v":"-"},{"$f":"OFFSET(N_W_1_1!$L$5,AE56,1)","v":{"$error":"#VALUE!"}},{"$f":"OFFSET(N_W_1_1!$L$5,AE56,2)","v":{"$error":"#VALUE!"}},{"$f":"OFFSET(N_W_1_1!$L$5,AE56,3)","v":{"$error":"#VALUE!"}},{"$error":"#VALUE!"},{"$error":"#VALUE!"},{"$error":"#VALUE!"},{"$error":"#VALUE!"},{"$error":"#VALUE!"},{"$error":"#VALUE!"},{"$error":"#VALUE!"},{"$f":"IFERROR(OFFSET(N_W_1_1!$L$5,AE56,0),\"\")","v":""},{"$error":"#VALUE!"},{"$f":"IFERROR(OFFSET(N_W_1_1!$P$5,AE56,2),0)","v":0},{"$f":"IFERROR(IF(S56>5,OFFSET(N_W_1_1!$P$5,AE56,4),OFFSET(N_W_1_1!$P$5,AE56,3)),0)","v":0}]
[null,null,null,null,null,null,null,null,null,null,null,0,null,null,0,"-",{"$f":"IFERROR(OFFSET(N_W_1_1!$P$5,AE57,0),\"-\")","v":"-"},"-","-",null,null,null,null,null,null,null,null,null,{"$f":"IFERROR(MATCH(D57,Nr_stad!$U$8:$U$60,0),0)","v":0},0,{"$f":"IF(D57=\"\",\"-\",MATCH(D57,N_W_1_1!$K$6:$K$11,0))","v":"-"},{"$f":"OFFSET(N_W_1_1!$L$5,AE57,1)","v":{"$error":"#VALUE!"}},{"$f":"OFFSET(N_W_1_1!$L$5,AE57,2)","v":{"$error":"#VALUE!"}},{"$f":"OFFSET(N_W_1_1!$L$5,AE57,3)","v":{"$error":"#VALUE!"}},{"$error":"#VALUE!"},{"$error":"#VALUE!"},{"$error":"#VALUE!"},{"$error":"#VALUE!"},{"$error":"#VALUE!"},{"$error":"#VALUE!"},{"$error":"#VALUE!"},{"$f":"IFERROR(OFFSET(N_W_1_1!$L$5,AE57,0),\"\")","v":""},{"$error":"#VALUE!"},{"$f":"IFERROR(OFFSET(N_W_1_1!$P$5,AE57,2),0)","v":0},{"$f":"IFERROR(IF(S57>5,OFFSET(N_W_1_1!$P$5,AE57,4),OFFSET(N_W_1_1!$P$5,AE57,3)),0)","v":0}]
[null,null,null,null,null,null,null,null,null,null,null,0,null,null,0,"-",{"$f":"IFERROR(OFFSET(N_W_1_1!$P$5,AE58,0),\"-\")","v":"-"},"-","-",null,null,null,null,null,null,null,null,null,{"$f":"IFERROR(MATCH(D58,Nr_stad!$U$8:$U$60,0),0)","v":0},0,{"$f":"IF(D58=\"\",\"-\",MATCH(D58,N_W_1_1!$K$6:$K$11,0))","v":"-"},{"$f":"OFFSET(N_W_1_1!$L$5,AE58,1)","v":{"$error":"#VALUE!"}},{"$f":"OFFSET(N_W_1_1!$L$5,AE58,2)","v":{"$error":"#VALUE!"}},{"$f":"OFFSET(N_W_1_1!$L$5,AE58,3)","v":{"$error":"#VALUE!"}},{"$error":"#VALUE!"},{"$error":"#VALUE!"},{"$error":"#VALUE!"},{"$error":"#VALUE!"},{"$error":"#VALUE!"},{"$error":"#VALUE!"},{"$error":"#VALUE!"},{"$f":"IFERROR(OFFSET(N_W_1_1!$L$5,AE58,0),\"\")","v":""},{"$error":"#VALUE!"},{"$f":"IFERROR(OFFSET(N_W_1_1!$P$5,AE58,2),0)","v":0},{"$f":"IFERROR(IF(S58>5,OFFSET(N_W_1_1!$P$5,AE58,4),OFFSET(N_W_1_1!$P$5,AE58,3)),0)","v":0}]
[null,null,null,null,null,null,null,null,null,null,null,0,null,null,0,"-",{"$f":"IFERROR(OFFSET(N_W_1_1!$P$5,AE59,0),\"-\")","v":"-"},"-","-",null,null,null,null,null,null,null,null,null,{"$f":"IFERROR(MATCH(D59,Nr_stad!$U$8:$U$60,0),0)","v":0},0,{"$f":"IF(D59=\"\",\"-\",MATCH(D59,N_W_1_1!$K$6:$K$11,0))","v":"-"},{"$f":"OFFSET(N_W_1_1!$L$5,AE59,1)","v":{"$error":"#VALUE!"}},{"$f":"OFFSET(N_W_1_1!$L$5,AE59,2)","v":{"$error":"#VALUE!"}},{"$f":"OFFSET(N_W_1_1!$L$5,AE59,3)","v":{"$error":"#VALUE!"}},{"$error":"#VALUE!"},{"$error":"#VALUE!"},{"$error":"#VALUE!"},{"$error":"#VALUE!"},{"$error":"#VALUE!"},{"$error":"#VALUE!"},{"$error":"#VALUE!"},{"$f":"IFERROR(OFFSET(N_W_1_1!$L$5,AE59,0),\"\")","v":""},{"$error":"#VALUE!"},{"$f":"IFERROR(OFFSET(N_W_1_1!$P$5,AE59,2),0)","v":0},{"$f":"IFERROR(IF(S59>5,OFFSET(N_W_1_1!$P$5,AE59,4),OFFSET(N_W_1_1!$P$5,AE59,3)),0)","v":0}]
[null,null,null,null,null,null,null,null,null,null,null,0,null,null,0,"-",{"$f":"IFERROR(OFFSET(N_W_1_1!$P$5,AE60,0),\"-\")","v":"-"},"-","-",null,null,null,null,null,null,null,null,null,{"$f":"IFERROR(MATCH(D60,Nr_stad!$U$8:$U$60,0),0)","v":0},0,{"$f":"IF(D60=\"\",\"-\",MATCH(D60,N_W_1_1!$K$6:$K$11,0))","v":"-"},{"$f":"OFFSET(N_W_1_1!$L$5,AE60,1)","v":{"$error":"#VALUE!"}},{"$f":"OFFSET(N_W_1_1!$L$5,AE60,2)","v":{"$error":"#VALUE!"}},{"$f":"OFFSET(N_W_1_1!$L$5,AE60,3)","v":{"$error":"#VALUE!"}},{"$error":"#VALUE!"},{"$error":"#VALUE!"},{"$error":"#VALUE!"},{"$error":"#VALUE!"},{"$error":"#VALUE!"},{"$error":"#VALUE!"},{"$error":"#VALUE!"},{"$f":"IFERROR(OFFSET(N_W_1_1!$L$5,AE60,0),\"\")","v":""},{"$error":"#VALUE!"},{"$f":"IFERROR(OFFSET(N_W_1_1!$P$5,AE60,2),0)","v":0},{"$f":"IFERROR(IF(S60>5,OFFSET(N_W_1_1!$P$5,AE60,4),OFFSET(N_W_1_1!$P$5,AE60,3)),0)","v":0}]
[null,null,null,null,null,null,null,null,null,null,null,0,null,null,0,"-",{"$f":"IFERROR(OFFSET(N_W_1_1!$P$5,AE61,0),\"-\")","v":"-"},"-","-",null,null,null,null,null,null,null,null,null,{"$f":"IFERROR(MATCH(D61,Nr_stad!$U$8:$U$60,0),0)","v":0},0,{"$f":"IF(D61=\"\",\"-\",MATCH(D61,N_W_1_1!$K$6:$K$11,0))","v":"-"},{"$f":"OFFSET(N_W_1_1!$L$5,AE61,1)","v":{"$error":"#VALUE!"}},{"$f":"OFFSET(N_W_1_1!$L$5,AE61,2)","v":{"$error":"#VALUE!"}},{"$f":"OFFSET(N_W_1_1!$L$5,AE61,3)","v":{"$error":"#VALUE!"}},{"$error":"#VALUE!"},{"$error":"#VALUE!"},{"$error":"#VALUE!"},{"$error":"#VALUE!"},{"$error":"#VALUE!"},{"$error":"#VALUE!"},{"$error":"#VALUE!"},{"$f":"IFERROR(OFFSET(N_W_1_1!$L$5,AE61,0),\"\")","v":""},{"$error":"#VALUE!"},{"$f":"IFERROR(OFFSET(N_W_1_1!$P$5,AE61,2),0)","v":0},{"$f":"IFERROR(IF(S61>5,OFFSET(N_W_1_1!$P$5,AE61,4),OFFSET(N_W_1_1!$P$5,AE61,3)),0)","v":0}]
[null,null,null,null,null,null,null,null,null,null,null,0,null,null,0,"-",{"$f":"IFERROR(OFFSET(N_W_1_1!$P$5,AE62,0),\"-\")","v":"-"},"-","-",null,null,null,null,null,null,null,null,null,{"$f":"IFERROR(MATCH(D62,Nr_stad!$U$8:$U$60,0),0)","v":0},0,{"$f":"IF(D62=\"\",\"-\",MATCH(D62,N_W_1_1!$K$6:$K$11,0))","v":"-"},{"$f":"OFFSET(N_W_1_1!$L$5,AE62,1)","v":{"$error":"#VALUE!"}},{"$f":"OFFSET(N_W_1_1!$L$5,AE62,2)","v":{"$error":"#VALUE!"}},{"$f":"OFFSET(N_W_1_1!$L$5,AE62,3)","v":{"$error":"#VALUE!"}},{"$error":"#VALUE!"},{"$error":"#VALUE!"},{"$error":"#VALUE!"},{"$error":"#VALUE!"},{"$error":"#VALUE!"},{"$error":"#VALUE!"},{"$error":"#VALUE!"},{"$f":"IFERROR(OFFSET(N_W_1_1!$L$5,AE62,0),\"\")","v":""},{"$error":"#VALUE!"},{"$f":"IFERROR(OFFSET(N_W_1_1!$P$5,AE62,2),0)","v":0},{"$f":"IFERROR(IF(S62>5,OFFSET(N_W_1_1!$P$5,AE62,4),OFFSET(N_W_1_1!$P$5,AE62,3)),0)","v":0}]
[null,null,null,null,null,null,null,null,null,null,null,0,null,null,0,"-",{"$f":"IFERROR(OFFSET(N_W_1_1!$P$5,AE63,0),\"-\")","v":"-"},"-","-",null,null,null,null,null,null,null,null,null,{"$f":"IFERROR(MATCH(D63,Nr_stad!$U$8:$U$60,0),0)","v":0},0,{"$f":"IF(D63=\"\",\"-\",MATCH(D63,N_W_1_1!$K$6:$K$11,0))","v":"-"},{"$f":"OFFSET(N_W_1_1!$L$5,AE63,1)","v":{"$error":"#VALUE!"}},{"$f":"OFFSET(N_W_1_1!$L$5,AE63,2)","v":{"$error":"#VALUE!"}},{"$f":"OFFSET(N_W_1_1!$L$5,AE63,3)","v":{"$error":"#VALUE!"}},{"$error":"#VALUE!"},{"$error":"#VALUE!"},{"$error":"#VALUE!"},{"$error":"#VALUE!"},{"$error":"#VALUE!"},{"$error":"#VALUE!"},{"$error":"#VALUE!"},{"$f":"IFERROR(OFFSET(N_W_1_1!$L$5,AE63,0),\"\")","v":""},{"$error":"#VALUE!"},{"$f":"IFERROR(OFFSET(N_W_1_1!$P$5,AE63,2),0)","v":0},{"$f":"IFERROR(IF(S63>5,OFFSET(N_W_1_1!$P$5,AE63,4),OFFSET(N_W_1_1!$P$5,AE63,3)),0)","v":0}]
[null,null,null,null,null,null,null,null,null,null,null,0,null,null,0,"-",{"$f":"IFERROR(OFFSET(N_W_1_1!$P$5,AE64,0),\"-\")","v":"-"},"-","-",null,null,null,null,null,null,null,null,null,{"$f":"IFERROR(MATCH(D64,Nr_stad!$U$8:$U$60,0),0)","v":0},0,{"$f":"IF(D64=\"\",\"-\",MATCH(D64,N_W_1_1!$K$6:$K$11,0))","v":"-"},{"$f":"OFFSET(N_W_1_1!$L$5,AE64,1)","v":{"$error":"#VALUE!"}},{"$f":"OFFSET(N_W_1_1!$L$5,AE64,2)","v":{"$error":"#VALUE!"}},{"$f":"OFFSET(N_W_1_1!$L$5,AE64,3)","v":{"$error":"#VALUE!"}},{"$error":"#VALUE!"},{"$error":"#VALUE!"},{"$error":"#VALUE!"},{"$error":"#VALUE!"},{"$error":"#VALUE!"},{"$error":"#VALUE!"},{"$error":"#VALUE!"},{"$f":"IFERROR(OFFSET(N_W_1_1!$L$5,AE64,0),\"\")","v":""},{"$error":"#VALUE!"},{"$f":"IFERROR(OFFSET(N_W_1_1!$P$5,AE64,2),0)","v":0},{"$f":"IFERROR(IF(S64>5,OFFSET(N_W_1_1!$P$5,AE64,4),OFFSET(N_W_1_1!$P$5,AE64,3)),0)","v":0}]
[null,null,null,null,null,null,null,null,null,null,null,0,null,null,0,"-",{"$f":"IFERROR(OFFSET(N_W_1_1!$P$5,AE65,0),\"-\")","v":"-"},"-","-",null,null,null,null,null,null,null,null,null,{"$f":"IFERROR(MATCH(D65,Nr_stad!$U$8:$U$60,0),0)","v":0},0,{"$f":"IF(D65=\"\",\"-\",MATCH(D65,N_W_1_1!$K$6:$K$11,0))","v":"-"},{"$f":"OFFSET(N_W_1_1!$L$5,AE65,1)","v":{"$error":"#VALUE!"}},{"$f":"OFFSET(N_W_1_1!$L$5,AE65,2)","v":{"$error":"#VALUE!"}},{"$f":"OFFSET(N_W_1_1!$L$5,AE65,3)","v":{"$error":"#VALUE!"}},{"$error":"#VALUE!"},{"$error":"#VALUE!"},{"$error":"#VALUE!"},{"$error":"#VALUE!"},{"$error":"#VALUE!"},{"$error":"#VALUE!"},{"$error":"#VALUE!"},{"$f":"IFERROR(OFFSET(N_W_1_1!$L$5,AE65,0),\"\")","v":""},{"$error":"#VALUE!"},{"$f":"IFERROR(OFFSET(N_W_1_1!$P$5,AE65,2),0)","v":0},{"$f":"IFERROR(IF(S65>5,OFFSET(N_W_1_1!$P$5,AE65,4),OFFSET(N_W_1_1!$P$5,AE65,3)),0)","v":0}]
[null,null,null,null,null,null,null,null,null,null,null,0,null,null,0,"-",{"$f":"IFERROR(OFFSET(N_W_1_1!$P$5,AE66,0),\"-\")","v":"-"},"-","-",null,null,null,null,null,null,null,null,null,{"$f":"IFERROR(MATCH(D66,Nr_stad!$U$8:$U$60,0),0)","v":0},0,{"$f":"IF(D66=\"\",\"-\",MATCH(D66,N_W_1_1!$K$6:$K$11,0))","v":"-"},{"$f":"OFFSET(N_W_1_1!$L$5,AE66,1)","v":{"$error":"#VALUE!"}},{"$f":"OFFSET(N_W_1_1!$L$5,AE66,2)","v":{"$error":"#VALUE!"}},{"$f":"OFFSET(N_W_1_1!$L$5,AE66,3)","v":{"$error":"#VALUE!"}},{"$error":"#VALUE!"},{"$error":"#VALUE!"},{"$error":"#VALUE!"},{"$error":"#VALUE!"},{"$error":"#VALUE!"},{"$error":"#VALUE!"},{"$error":"#VALUE!"},{"$f":"IFERROR(OFFSET(N_W_1_1!$L$5,AE66,0),\"\")","v":""},{"$error":"#VALUE!"},{"$f":"IFERROR(OFFSET(N_W_1_1!$P$5,AE66,2),0)","v":0},{"$f":"IFERROR(IF(S66>5,OFFSET(N_W_1_1!$P$5,AE66,4),OFFSET(N_W_1_1!$P$5,AE66,3)),0)","v":0}]
[null,null,null,null,null,null,null,null,null,null,null,0,null,null,0,"-",{"$f":"IFERROR(OFFSET(N_W_1_1!$P$5,AE67,0),\"-\")","v":"-"},"-","-",null,null,null,null,null,null,null,null,null,{"$f":"IFERROR(MATCH(D67,Nr_stad!$U$8:$U$60,0),0)","v":0},0,{"$f":"IF(D67=\"\",\"-\",MATCH(D67,N_W_1_1!$K$6:$K$11,0))","v":"-"},{"$f":"OFFSET(N_W_1_1!$L$5,AE67,1)","v":{"$error":"#VALUE!"}},{"$f":"OFFSET(N_W_1_1!$L$5,AE67,2)","v":{"$error":"#VALUE!"}},{"$f":"OFFSET(N_W_1_1!$L$5,AE67,3)","v":{"$error":"#VALUE!"}},{"$error":"#VALUE!"},{"$error":"#VALUE!"},{"$error":"#VALUE!"},{"$error":"#VALUE!"},{"$error":"#VALUE!"},{"$error":"#VALUE!"},{"$error":"#VALUE!"},{"$f":"IFERROR(OFFSET(N_W_1_1!$L$5,AE67,0),\"\")","v":""},{"$error":"#VALUE!"},{"$f":"IFERROR(OFFSET(N_W_1_1!$P$5,AE67,2),0)","v":0},{"$f":"IFERROR(IF(S67>5,OFFSET(N_W_1_1!$P$5,AE67,4),OFFSET(N_W_1_1!$P$5,AE67,3)),0)","v":0}]
[null,null,null,null,null,null,null,null,null,null,null,0,null,null,0,"-",{"$f":"IFERROR(OFFSET(N_W_1_1!$P$5,AE68,0),\"-\")","v":"-"},"-","-",null,null,null,null,null,null,null,null,null,{"$f":"IFERROR(MATCH(D68,Nr_stad!$U$8:$U$60,0),0)","v":0},0,{"$f":"IF(D68=\"\",\"-\",MATCH(D68,N_W_1_1!$K$6:$K$11,0))","v":"-"},{"$f":"OFFSET(N_W_1_1!$L$5,AE68,1)","v":{"$error":"#VALUE!"}},{"$f":"OFFSET(N_W_1_1!$L$5,AE68,2)","v":{"$error":"#VALUE!"}},{"$f":"OFFSET(N_W_1_1!$L$5,AE68,3)","v":{"$error":"#VALUE!"}},{"$error":"#VALUE!"},{"$error":"#VALUE!"},{"$error":"#VALUE!"},{"$error":"#VALUE!"},{"$error":"#VALUE!"},{"$error":"#VALUE!"},{"$error":"#VALUE!"},{"$f":"IFERROR(OFFSET(N_W_1_1!$L$5,AE68,0),\"\")","v":""},{"$error":"#VALUE!"},{"$f":"IFERROR(OFFSET(N_W_1_1!$P$5,AE68,2),0)","v":0},{"$f":"IFERROR(IF(S68>5,OFFSET(N_W_1_1!$P$5,AE68,4),OFFSET(N_W_1_1!$P$5,AE68,3)),0)","v":0}]
[null,null,null,null,null,null,null,null,null,null,null,0,null,null,0,"-",{"$f":"IFERROR(OFFSET(N_W_1_1!$P$5,AE69,0),\"-\")","v":"-"},"-","-",null,null,null,null,null,null,null,null,null,{"$f":"IFERROR(MATCH(D69,Nr_stad!$U$8:$U$60,0),0)","v":0},0,{"$f":"IF(D69=\"\",\"-\",MATCH(D69,N_W_1_1!$K$6:$K$11,0))","v":"-"},{"$f":"OFFSET(N_W_1_1!$L$5,AE69,1)","v":{"$error":"#VALUE!"}},{"$f":"OFFSET(N_W_1_1!$L$5,AE69,2)","v":{"$error":"#VALUE!"}},{"$f":"OFFSET(N_W_1_1!$L$5,AE69,3)","v":{"$error":"#VALUE!"}},{"$error":"#VALUE!"},{"$error":"#VALUE!"},{"$error":"#VALUE!"},{"$error":"#VALUE!"},{"$error":"#VALUE!"},{"$error":"#VALUE!"},{"$error":"#VALUE!"},{"$f":"IFERROR(OFFSET(N_W_1_1!$L$5,AE69,0),\"\")","v":""},{"$error":"#VALUE!"},{"$f":"IFERROR(OFFSET(N_W_1_1!$P$5,AE69,2),0)","v":0},{"$f":"IFERROR(IF(S69>5,OFFSET(N_W_1_1!$P$5,AE69,4),OFFSET(N_W_1_1!$P$5,AE69,3)),0)","v":0}]
[null,null,null,null,null,null,null,null,null,null,null,0,null,null,0,"-",{"$f":"IFERROR(OFFSET(N_W_1_1!$P$5,AE70,0),\"-\")","v":"-"},"-","-",null,null,null,null,null,null,null,null,null,{"$f":"IFERROR(MATCH(D70,Nr_stad!$U$8:$U$60,0),0)","v":0},0,{"$f":"IF(D70=\"\",\"-\",MATCH(D70,N_W_1_1!$K$6:$K$11,0))","v":"-"},{"$f":"OFFSET(N_W_1_1!$L$5,AE70,1)","v":{"$error":"#VALUE!"}},{"$f":"OFFSET(N_W_1_1!$L$5,AE70,2)","v":{"$error":"#VALUE!"}},{"$f":"OFFSET(N_W_1_1!$L$5,AE70,3)","v":{"$error":"#VALUE!"}},{"$error":"#VALUE!"},{"$error":"#VALUE!"},{"$error":"#VALUE!"},{"$error":"#VALUE!"},{"$error":"#VALUE!"},{"$error":"#VALUE!"},{"$error":"#VALUE!"},{"$f":"IFERROR(OFFSET(N_W_1_1!$L$5,AE70,0),\"\")","v":""},{"$error":"#VALUE!"},{"$f":"IFERROR(OFFSET(N_W_1_1!$P$5,AE70,2),0)","v":0},{"$f":"IFERROR(IF(S70>5,OFFSET(N_W_1_1!$P$5,AE70,4),OFFSET(N_W_1_1!$P$5,AE70,3)),0)","v":0}]
[null,null,null,null,null,null,null,null,null,null,null,0,null,null,0,"-",{"$f":"IFERROR(OFFSET(N_W_1_1!$P$5,AE71,0),\"-\")","v":"-"},"-","-",null,null,null,null,null,null,null,null,null,{"$f":"IFERROR(MATCH(D71,Nr_stad!$U$8:$U$60,0),0)","v":0},0,{"$f":"IF(D71=\"\",\"-\",MATCH(D71,N_W_1_1!$K$6:$K$11,0))","v":"-"},{"$f":"OFFSET(N_W_1_1!$L$5,AE71,1)","v":{"$error":"#VALUE!"}},{"$f":"OFFSET(N_W_1_1!$L$5,AE71,2)","v":{"$error":"#VALUE!"}},{"$f":"OFFSET(N_W_1_1!$L$5,AE71,3)","v":{"$error":"#VALUE!"}},{"$error":"#VALUE!"},{"$error":"#VALUE!"},{"$error":"#VALUE!"},{"$error":"#VALUE!"},{"$error":"#VALUE!"},{"$error":"#VALUE!"},{"$error":"#VALUE!"},{"$f":"IFERROR(OFFSET(N_W_1_1!$L$5,AE71,0),\"\")","v":""},{"$error":"#VALUE!"},{"$f":"IFERROR(OFFSET(N_W_1_1!$P$5,AE71,2),0)","v":0},{"$f":"IFERROR(IF(S71>5,OFFSET(N_W_1_1!$P$5,AE71,4),OFFSET(N_W_1_1!$P$5,AE71,3)),0)","v":0}]
[null,null,null,null,null,null,null,null,null,null,null,0,null,null,0,"-",{"$f":"IFERROR(OFFSET(N_W_1_1!$P$5,AE72,0),\"-\")","v":"-"},"-","-",null,null,null,null,null,null,null,null,null,{"$f":"IFERROR(MATCH(D72,Nr_stad!$U$8:$U$60,0),0)","v":0},0,{"$f":"IF(D72=\"\",\"-\",MATCH(D72,N_W_1_1!$K$6:$K$11,0))","v":"-"},{"$f":"OFFSET(N_W_1_1!$L$5,AE72,1)","v":{"$error":"#VALUE!"}},{"$f":"OFFSET(N_W_1_1!$L$5,AE72,2)","v":{"$error":"#VALUE!"}},{"$f":"OFFSET(N_W_1_1!$L$5,AE72,3)","v":{"$error":"#VALUE!"}},{"$error":"#VALUE!"},{"$error":"#VALUE!"},{"$error":"#VALUE!"},{"$error":"#VALUE!"},{"$error":"#VALUE!"},{"$error":"#VALUE!"},{"$error":"#VALUE!"},{"$f":"IFERROR(OFFSET(N_W_1_1!$L$5,AE72,0),\"\")","v":""},{"$error":"#VALUE!"},{"$f":"IFERROR(OFFSET(N_W_1_1!$P$5,AE72,2),0)","v":0},{"$f":"IFERROR(IF(S72>5,OFFSET(N_W_1_1!$P$5,AE72,4),OFFSET(N_W_1_1!$P$5,AE72,3)),0)","v":0}]
[null,null,null,null,null,null,null,null,null,null,null,0,null,null,0,"-",{"$f":"IFERROR(OFFSET(N_W_1_1!$P$5,AE73,0),\"-\")","v":"-"},"-","-",null,null,null,null,null,null,null,null,null,{"$f":"IFERROR(MATCH(D73,Nr_stad!$U$8:$U$60,0),0)","v":0},0,{"$f":"IF(D73=\"\",\"-\",MATCH(D73,N_W_1_1!$K$6:$K$11,0))","v":"-"},{"$f":"OFFSET(N_W_1_1!$L$5,AE73,1)","v":{"$error":"#VALUE!"}},{"$f":"OFFSET(N_W_1_1!$L$5,AE73,2)","v":{"$error":"#VALUE!"}},{"$f":"OFFSET(N_W_1_1!$L$5,AE73,3)","v":{"$error":"#VALUE!"}},{"$error":"#VALUE!"},{"$error":"#VALUE!"},{"$error":"#VALUE!"},{"$error":"#VALUE!"},{"$error":"#VALUE!"},{"$error":"#VALUE!"},{"$error":"#VALUE!"},{"$f":"IFERROR(OFFSET(N_W_1_1!$L$5,AE73,0),\"\")","v":""},{"$error":"#VALUE!"},{"$f":"IFERROR(OFFSET(N_W_1_1!$P$5,AE73,2),0)","v":0},{"$f":"IFERROR(IF(S73>5,OFFSET(N_W_1_1!$P$5,AE73,4),OFFSET(N_W_1_1!$P$5,AE73,3)),0)","v":0}]
[null,null,null,null,null,null,null,null,null,null,null,0,null,null,0,"-",{"$f":"IFERROR(OFFSET(N_W_1_1!$P$5,AE74,0),\"-\")","v":"-"},"-","-",null,null,null,null,null,null,null,null,null,{"$f":"IFERROR(MATCH(D74,Nr_stad!$U$8:$U$60,0),0)","v":0},0,{"$f":"IF(D74=\"\",\"-\",MATCH(D74,N_W_1_1!$K$6:$K$11,0))","v":"-"},{"$f":"OFFSET(N_W_1_1!$L$5,AE74,1)","v":{"$error":"#VALUE!"}},{"$f":"OFFSET(N_W_1_1!$L$5,AE74,2)","v":{"$error":"#VALUE!"}},{"$f":"OFFSET(N_W_1_1!$L$5,AE74,3)","v":{"$error":"#VALUE!"}},{"$error":"#VALUE!"},{"$error":"#VALUE!"},{"$error":"#VALUE!"},{"$error":"#VALUE!"},{"$error":"#VALUE!"},{"$error":"#VALUE!"},{"$error":"#VALUE!"},{"$f":"IFERROR(OFFSET(N_W_1_1!$L$5,AE74,0),\"\")","v":""},{"$error":"#VALUE!"},{"$f":"IFERROR(OFFSET(N_W_1_1!$P$5,AE74,2),0)","v":0},{"$f":"IFERROR(IF(S74>5,OFFSET(N_W_1_1!$P$5,AE74,4),OFFSET(N_W_1_1!$P$5,AE74,3)),0)","v":0}]
[null,null,null,null,null,null,null,null,null,null,null,0,null,null,0,"-",{"$f":"IFERROR(OFFSET(N_W_1_1!$P$5,AE75,0),\"-\")","v":"-"},"-","-",null,null,null,null,null,null,null,null,null,{"$f":"IFERROR(MATCH(D75,Nr_stad!$U$8:$U$60,0),0)","v":0},0,{"$f":"IF(D75=\"\",\"-\",MATCH(D75,N_W_1_1!$K$6:$K$11,0))","v":"-"},{"$f":"OFFSET(N_W_1_1!$L$5,AE75,1)","v":{"$error":"#VALUE!"}},{"$f":"OFFSET(N_W_1_1!$L$5,AE75,2)","v":{"$error":"#VALUE!"}},{"$f":"OFFSET(N_W_1_1!$L$5,AE75,3)","v":{"$error":"#VALUE!"}},{"$error":"#VALUE!"},{"$error":"#VALUE!"},{"$error":"#VALUE!"},{"$error":"#VALUE!"},{"$error":"#VALUE!"},{"$error":"#VALUE!"},{"$error":"#VALUE!"},{"$f":"IFERROR(OFFSET(N_W_1_1!$L$5,AE75,0),\"\")","v":""},{"$error":"#VALUE!"},{"$f":"IFERROR(OFFSET(N_W_1_1!$P$5,AE75,2),0)","v":0},{"$f":"IFERROR(IF(S75>5,OFFSET(N_W_1_1!$P$5,AE75,4),OFFSET(N_W_1_1!$P$5,AE75,3)),0)","v":0}]
[null,null,null,null,null,null,null,null,null,null,null,0,null,null,0,"-",{"$f":"IFERROR(OFFSET(N_W_1_1!$P$5,AE76,0),\"-\")","v":"-"},"-","-",null,null,null,null,null,null,null,null,null,{"$f":"IFERROR(MATCH(D76,Nr_stad!$U$8:$U$60,0),0)","v":0},0,{"$f":"IF(D76=\"\",\"-\",MATCH(D76,N_W_1_1!$K$6:$K$11,0))","v":"-"},{"$f":"OFFSET(N_W_1_1!$L$5,AE76,1)","v":{"$error":"#VALUE!"}},{"$f":"OFFSET(N_W_1_1!$L$5,AE76,2)","v":{"$error":"#VALUE!"}},{"$f":"OFFSET(N_W_1_1!$L$5,AE76,3)","v":{"$error":"#VALUE!"}},{"$error":"#VALUE!"},{"$error":"#VALUE!"},{"$error":"#VALUE!"},{"$error":"#VALUE!"},{"$error":"#VALUE!"},{"$error":"#VALUE!"},{"$error":"#VALUE!"},{"$f":"IFERROR(OFFSET(N_W_1_1!$L$5,AE76,0),\"\")","v":""},{"$error":"#VALUE!"},{"$f":"IFERROR(OFFSET(N_W_1_1!$P$5,AE76,2),0)","v":0},{"$f":"IFERROR(IF(S76>5,OFFSET(N_W_1_1!$P$5,AE76,4),OFFSET(N_W_1_1!$P$5,AE76,3)),0)","v":0}]
[null,null,null,null,null,null,null,null,null,null,null,0,null,null,0,"-",{"$f":"IFERROR(OFFSET(N_W_1_1!$P$5,AE77,0),\"-\")","v":"-"},"-","-",null,null,null,null,null,null,null,null,null,{"$f":"IFERROR(MATCH(D77,Nr_stad!$U$8:$U$60,0),0)","v":0},0,{"$f":"IF(D77=\"\",\"-\",MATCH(D77,N_W_1_1!$K$6:$K$11,0))","v":"-"},{"$f":"OFFSET(N_W_1_1!$L$5,AE77,1)","v":{"$error":"#VALUE!"}},{"$f":"OFFSET(N_W_1_1!$L$5,AE77,2)","v":{"$error":"#VALUE!"}},{"$f":"OFFSET(N_W_1_1!$L$5,AE77,3)","v":{"$error":"#VALUE!"}},{"$error":"#VALUE!"},{"$error":"#VALUE!"},{"$error":"#VALUE!"},{"$error":"#VALUE!"},{"$error":"#VALUE!"},{"$error":"#VALUE!"},{"$error":"#VALUE!"},{"$f":"IFERROR(OFFSET(N_W_1_1!$L$5,AE77,0),\"\")","v":""},{"$error":"#VALUE!"},{"$f":"IFERROR(OFFSET(N_W_1_1!$P$5,AE77,2),0)","v":0},{"$f":"IFERROR(IF(S77>5,OFFSET(N_W_1_1!$P$5,AE77,4),OFFSET(N_W_1_1!$P$5,AE77,3)),0)","v":0}]
[null,null,null,null,null,null,null,null,null,null,null,0,null,null,0,"-",{"$f":"IFERROR(OFFSET(N_W_1_1!$P$5,AE78,0),\"-\")","v":"-"},"-","-",null,null,null,null,null,null,null,null,null,{"$f":"IFERROR(MATCH(D78,Nr_stad!$U$8:$U$60,0),0)","v":0},0,{"$f":"IF(D78=\"\",\"-\",MATCH(D78,N_W_1_1!$K$6:$K$11,0))","v":"-"},{"$f":"OFFSET(N_W_1_1!$L$5,AE78,1)","v":{"$error":"#VALUE!"}},{"$f":"OFFSET(N_W_1_1!$L$5,AE78,2)","v":{"$error":"#VALUE!"}},{"$f":"OFFSET(N_W_1_1!$L$5,AE78,3)","v":{"$error":"#VALUE!"}},{"$error":"#VALUE!"},{"$error":"#VALUE!"},{"$error":"#VALUE!"},{"$error":"#VALUE!"},{"$error":"#VALUE!"},{"$error":"#VALUE!"},{"$error":"#VALUE!"},{"$f":"IFERROR(OFFSET(N_W_1_1!$L$5,AE78,0),\"\")","v":""},{"$error":"#VALUE!"},{"$f":"IFERROR(OFFSET(N_W_1_1!$P$5,AE78,2),0)","v":0},{"$f":"IFERROR(IF(S78>5,OFFSET(N_W_1_1!$P$5,AE78,4),OFFSET(N_W_1_1!$P$5,AE78,3)),0)","v":0}]
[null,null,null,null,null,null,null,null,null,null,null,0,null,null,0,"-",{"$f":"IFERROR(OFFSET(N_W_1_1!$P$5,AE79,0),\"-\")","v":"-"},"-","-",null,null,null,null,null,null,null,null,null,{"$f":"IFERROR(MATCH(D79,Nr_stad!$U$8:$U$60,0),0)","v":0},0,{"$f":"IF(D79=\"\",\"-\",MATCH(D79,N_W_1_1!$K$6:$K$11,0))","v":"-"},{"$f":"OFFSET(N_W_1_1!$L$5,AE79,1)","v":{"$error":"#VALUE!"}},{"$f":"OFFSET(N_W_1_1!$L$5,AE79,2)","v":{"$error":"#VALUE!"}},{"$f":"OFFSET(N_W_1_1!$L$5,AE79,3)","v":{"$error":"#VALUE!"}},{"$error":"#VALUE!"},{"$error":"#VALUE!"},{"$error":"#VALUE!"},{"$error":"#VALUE!"},{"$error":"#VALUE!"},{"$error":"#VALUE!"},{"$error":"#VALUE!"},{"$f":"IFERROR(OFFSET(N_W_1_1!$L$5,AE79,0),\"\")","v":""},{"$error":"#VALUE!"},{"$f":"IFERROR(OFFSET(N_W_1_1!$P$5,AE79,2),0)","v":0},{"$f":"IFERROR(IF(S79>5,OFFSET(N_W_1_1!$P$5,AE79,4),OFFSET(N_W_1_1!$P$5,AE79,3)),0)","v":0}]
[null,null,null,null,null,null,null,null,null,null,null,0,null,null,0,"-",{"$f":"IFERROR(OFFSET(N_W_1_1!$P$5,AE80,0),\"-\")","v":"-"},"-","-",null,null,null,null,null,null,null,null,null,{"$f":"IFERROR(MATCH(D80,Nr_stad!$U$8:$U$60,0),0)","v":0},0,{"$f":"IF(D80=\"\",\"-\",MATCH(D80,N_W_1_1!$K$6:$K$11,0))","v":"-"},{"$f":"OFFSET(N_W_1_1!$L$5,AE80,1)","v":{"$error":"#VALUE!"}},{"$f":"OFFSET(N_W_1_1!$L$5,AE80,2)","v":{"$error":"#VALUE!"}},{"$f":"OFFSET(N_W_1_1!$L$5,AE80,3)","v":{"$error":"#VALUE!"}},{"$error":"#VALUE!"},{"$error":"#VALUE!"},{"$error":"#VALUE!"},{"$error":"#VALUE!"},{"$error":"#VALUE!"},{"$error":"#VALUE!"},{"$error":"#VALUE!"},{"$f":"IFERROR(OFFSET(N_W_1_1!$L$5,AE80,0),\"\")","v":""},{"$error":"#VALUE!"},{"$f":"IFERROR(OFFSET(N_W_1_1!$P$5,AE80,2),0)","v":0},{"$f":"IFERROR(IF(S80>5,OFFSET(N_W_1_1!$P$5,AE80,4),OFFSET(N_W_1_1!$P$5,AE80,3)),0)","v":0}]
[null,null,null,null,null,null,null,null,null,null,null,0,null,null,0,"-",{"$f":"IFERROR(OFFSET(N_W_1_1!$P$5,AE81,0),\"-\")","v":"-"},"-","-",null,null,null,null,null,null,null,null,null,{"$f":"IFERROR(MATCH(D81,Nr_stad!$U$8:$U$60,0),0)","v":0},0,{"$f":"IF(D81=\"\",\"-\",MATCH(D81,N_W_1_1!$K$6:$K$11,0))","v":"-"},{"$f":"OFFSET(N_W_1_1!$L$5,AE81,1)","v":{"$error":"#VALUE!"}},{"$f":"OFFSET(N_W_1_1!$L$5,AE81,2)","v":{"$error":"#VALUE!"}},{"$f":"OFFSET(N_W_1_1!$L$5,AE81,3)","v":{"$error":"#VALUE!"}},{"$error":"#VALUE!"},{"$error":"#VALUE!"},{"$error":"#VALUE!"},{"$error":"#VALUE!"},{"$error":"#VALUE!"},{"$error":"#VALUE!"},{"$error":"#VALUE!"},{"$f":"IFERROR(OFFSET(N_W_1_1!$L$5,AE81,0),\"\")","v":""},{"$error":"#VALUE!"},{"$f":"IFERROR(OFFSET(N_W_1_1!$P$5,AE81,2),0)","v":0},{"$f":"IFERROR(IF(S81>5,OFFSET(N_W_1_1!$P$5,AE81,4),OFFSET(N_W_1_1!$P$5,AE81,3)),0)","v":0}]
[null,null,null,null,null,null,null,null,null,null,null,0,null,null,0,"-",{"$f":"IFERROR(OFFSET(N_W_1_1!$P$5,AE82,0),\"-\")","v":"-"},"-","-",null,null,null,null,null,null,null,null,null,{"$f":"IFERROR(MATCH(D82,Nr_stad!$U$8:$U$60,0),0)","v":0},0,{"$f":"IF(D82=\"\",\"-\",MATCH(D82,N_W_1_1!$K$6:$K$11,0))","v":"-"},{"$f":"OFFSET(N_W_1_1!$L$5,AE82,1)","v":{"$error":"#VALUE!"}},{"$f":"OFFSET(N_W_1_1!$L$5,AE82,2)","v":{"$error":"#VALUE!"}},{"$f":"OFFSET(N_W_1_1!$L$5,AE82,3)","v":{"$error":"#VALUE!"}},{"$error":"#VALUE!"},{"$error":"#VALUE!"},{"$error":"#VALUE!"},{"$error":"#VALUE!"},{"$error":"#VALUE!"},{"$error":"#VALUE!"},{"$error":"#VALUE!"},{"$f":"IFERROR(OFFSET(N_W_1_1!$L$5,AE82,0),\"\")","v":""},{"$error":"#VALUE!"},{"$f":"IFERROR(OFFSET(N_W_1_1!$P$5,AE82,2),0)","v":0},{"$f":"IFERROR(IF(S82>5,OFFSET(N_W_1_1!$P$5,AE82,4),OFFSET(N_W_1_1!$P$5,AE82,3)),0)","v":0}]
[null,null,null,null,null,null,null,null,null,null,null,0,null,null,0,"-",{"$f":"IFERROR(OFFSET(N_W_1_1!$P$5,AE83,0),\"-\")","v":"-"},"-","-",null,null,null,null,null,null,null,null,null,{"$f":"IFERROR(MATCH(D83,Nr_stad!$U$8:$U$60,0),0)","v":0},0,{"$f":"IF(D83=\"\",\"-\",MATCH(D83,N_W_1_1!$K$6:$K$11,0))","v":"-"},{"$f":"OFFSET(N_W_1_1!$L$5,AE83,1)","v":{"$error":"#VALUE!"}},{"$f":"OFFSET(N_W_1_1!$L$5,AE83,2)","v":{"$error":"#VALUE!"}},{"$f":"OFFSET(N_W_1_1!$L$5,AE83,3)","v":{"$error":"#VALUE!"}},{"$error":"#VALUE!"},{"$error":"#VALUE!"},{"$error":"#VALUE!"},{"$error":"#VALUE!"},{"$error":"#VALUE!"},{"$error":"#VALUE!"},{"$error":"#VALUE!"},{"$f":"IFERROR(OFFSET(N_W_1_1!$L$5,AE83,0),\"\")","v":""},{"$error":"#VALUE!"},{"$f":"IFERROR(OFFSET(N_W_1_1!$P$5,AE83,2),0)","v":0},{"$f":"IFERROR(IF(S83>5,OFFSET(N_W_1_1!$P$5,AE83,4),OFFSET(N_W_1_1!$P$5,AE83,3)),0)","v":0}]
[null,null,null,null,null,null,null,null,null,null,null,0,null,null,0,"-",{"$f":"IFERROR(OFFSET(N_W_1_1!$P$5,AE84,0),\"-\")","v":"-"},"-","-",null,null,null,null,null,null,null,null,null,{"$f":"IFERROR(MATCH(D84,Nr_stad!$U$8:$U$60,0),0)","v":0},0,{"$f":"IF(D84=\"\",\"-\",MATCH(D84,N_W_1_1!$K$6:$K$11,0))","v":"-"},{"$f":"OFFSET(N_W_1_1!$L$5,AE84,1)","v":{"$error":"#VALUE!"}},{"$f":"OFFSET(N_W_1_1!$L$5,AE84,2)","v":{"$error":"#VALUE!"}},{"$f":"OFFSET(N_W_1_1!$L$5,AE84,3)","v":{"$error":"#VALUE!"}},{"$error":"#VALUE!"},{"$error":"#VALUE!"},{"$error":"#VALUE!"},{"$error":"#VALUE!"},{"$error":"#VALUE!"},{"$error":"#VALUE!"},{"$error":"#VALUE!"},{"$f":"IFERROR(OFFSET(N_W_1_1!$L$5,AE84,0),\"\")","v":""},{"$error":"#VALUE!"},{"$f":"IFERROR(OFFSET(N_W_1_1!$P$5,AE84,2),0)","v":0},{"$f":"IFERROR(IF(S84>5,OFFSET(N_W_1_1!$P$5,AE84,4),OFFSET(N_W_1_1!$P$5,AE84,3)),0)","v":0}]
[null,null,null,null,null,null,null,null,null,null,null,0,null,null,0,"-",{"$f":"IFERROR(OFFSET(N_W_1_1!$P$5,AE85,0),\"-\")","v":"-"},"-","-",null,null,null,null,null,null,null,null,null,{"$f":"IFERROR(MATCH(D85,Nr_stad!$U$8:$U$60,0),0)","v":0},0,{"$f":"IF(D85=\"\",\"-\",MATCH(D85,N_W_1_1!$K$6:$K$11,0))","v":"-"},{"$f":"OFFSET(N_W_1_1!$L$5,AE85,1)","v":{"$error":"#VALUE!"}},{"$f":"OFFSET(N_W_1_1!$L$5,AE85,2)","v":{"$error":"#VALUE!"}},{"$f":"OFFSET(N_W_1_1!$L$5,AE85,3)","v":{"$error":"#VALUE!"}},{"$error":"#VALUE!"},{"$error":"#VALUE!"},{"$error":"#VALUE!"},{"$error":"#VALUE!"},{"$error":"#VALUE!"},{"$error":"#VALUE!"},{"$error":"#VALUE!"},{"$f":"IFERROR(OFFSET(N_W_1_1!$L$5,AE85,0),\"\")","v":""},{"$error":"#VALUE!"},{"$f":"IFERROR(OFFSET(N_W_1_1!$P$5,AE85,2),0)","v":0},{"$f":"IFERROR(IF(S85>5,OFFSET(N_W_1_1!$P$5,AE85,4),OFFSET(N_W_1_1!$P$5,AE85,3)),0)","v":0}]
[null,null,null,null,null,null,null,null,null,null,null,0,null,null,0,"-",{"$f":"IFERROR(OFFSET(N_W_1_1!$P$5,AE86,0),\"-\")","v":"-"},"-","-",null,null,null,null,null,null,null,null,null,{"$f":"IFERROR(MATCH(D86,Nr_stad!$U$8:$U$60,0),0)","v":0},0,{"$f":"IF(D86=\"\",\"-\",MATCH(D86,N_W_1_1!$K$6:$K$11,0))","v":"-"},{"$f":"OFFSET(N_W_1_1!$L$5,AE86,1)","v":{"$error":"#VALUE!"}},{"$f":"OFFSET(N_W_1_1!$L$5,AE86,2)","v":{"$error":"#VALUE!"}},{"$f":"OFFSET(N_W_1_1!$L$5,AE86,3)","v":{"$error":"#VALUE!"}},{"$error":"#VALUE!"},{"$error":"#VALUE!"},{"$error":"#VALUE!"},{"$error":"#VALUE!"},{"$error":"#VALUE!"},{"$error":"#VALUE!"},{"$error":"#VALUE!"},{"$f":"IFERROR(OFFSET(N_W_1_1!$L$5,AE86,0),\"\")","v":""},{"$error":"#VALUE!"},{"$f":"IFERROR(OFFSET(N_W_1_1!$P$5,AE86,2),0)","v":0},{"$f":"IFERROR(IF(S86>5,OFFSET(N_W_1_1!$P$5,AE86,4),OFFSET(N_W_1_1!$P$5,AE86,3)),0)","v":0}]
[null,null,null,null,null,null,null,null,null,null,null,{"$f":"J87*K87","v":0},null,null,{"$f":"M87*N87","v":0},{"$f":"IFERROR(OFFSET(AE87,0,AO87),\"-\")","v":"-"},{"$f":"IFERROR(OFFSET(N_W_1_1!$P$5,AE87,0),\"-\")","v":"-"},{"$f":"IF(Q87=\"-\",\"-\",O87*0.15)","v":"-"},{"$f":"IFERROR(TRUNC(IF(L87/P87>=1,IF(OR(AE87<=2,AE87=6),1,L87/P87),\"-\")*AQ87),\"-\")","v":"-"},null,null,null,null,null,null,null,null,null,{"$f":"IFERROR(MATCH(D87,Nr_stad!$U$8:$U$60,0),0)","v":0},{"$f":"SUM(I87:S87)+AC87","v":0},{"$f":"IF(D87=\"\",\"-\",MATCH(D87,N_W_1_1!$K$6:$K$11,0))","v":"-"},{"$f":"OFFSET(N_W_1_1!$L$5,AE87,1)","v":{"$error":"#VALUE!"}},{"$f":"OFFSET(N_W_1_1!$L$5,AE87,2)","v":{"$error":"#VALUE!"}},{"$f":"OFFSET(N_W_1_1!$L$5,AE87,3)","v":{"$error":"#VALUE!"}},{"$f":"TRUNC(L87/AF87)","v":{"$error":"#VALUE!"}},{"$f":"TRUNC(L87/AG87)","v":{"$error":"#VALUE!"}},{"$f":"TRUNC(L87/AH87)","v":{"$error":"#VALUE!"}},{"$f":"IF(AI87<6,1,0)","v":{"$error":"#VALUE!"}},{"$f":"IF(AND(AJ87>5,AJ87<40,AN87=0),2,0)","v":{"$error":"#VALUE!"}},{"$f":"IF(AK87>39,3,0)","v":{"$error":"#VALUE!"}},{"$f":"MAX(AL87:AN87)","v":{"$error":"#VALUE!"}},{"$f":"IFERROR(OFFSET(N_W_1_1!$L$5,AE87,0),\"\")","v":""},{"$f":"IF(AND(AE87>2,AE87<>6,AI87<2),0,1)","v":{"$error":"#VALUE!"}},{"$f":"IFERROR(OFFSET(N_W_1_1!$P$5,AE87,2),0)","v":0},{"$f":"IFERROR(IF(S87>5,OFFSET(N_W_1_1!$P$5,AE87,4),OFFSET(N_W_1_1!$P$5,AE87,3)),0)","v":0}]
[null,null,null,null,null,null,null,null,null,null,null,0,null,null,0,"-",{"$f":"IFERROR(OFFSET(N_W_1_1!$P$5,AE88,0),\"-\")","v":"-"},"-","-",null,null,null,null,null,null,null,null,null,{"$f":"IFERROR(MATCH(D88,Nr_stad!$U$8:$U$60,0),0)","v":0},0,{"$f":"IF(D88=\"\",\"-\",MATCH(D88,N_W_1_1!$K$6:$K$11,0))","v":"-"},{"$f":"OFFSET(N_W_1_1!$L$5,AE88,1)","v":{"$error":"#VALUE!"}},{"$f":"OFFSET(N_W_1_1!$L$5,AE88,2)","v":{"$error":"#VALUE!"}},{"$f":"OFFSET(N_W_1_1!$L$5,AE88,3)","v":{"$error":"#VALUE!"}},{"$error":"#VALUE!"},{"$error":"#VALUE!"},{"$error":"#VALUE!"},{"$error":"#VALUE!"},{"$error":"#VALUE!"},{"$error":"#VALUE!"},{"$error":"#VALUE!"},{"$f":"IFERROR(OFFSET(N_W_1_1!$L$5,AE88,0),\"\")","v":""},{"$error":"#VALUE!"},{"$f":"IFERROR(OFFSET(N_W_1_1!$P$5,AE88,2),0)","v":0},{"$f":"IFERROR(IF(S88>5,OFFSET(N_W_1_1!$P$5,AE88,4),OFFSET(N_W_1_1!$P$5,AE88,3)),0)","v":0}]
[null,null,null,null,null,null,null,null,null,null,null,0,null,null,0,"-",{"$f":"IFERROR(OFFSET(N_W_1_1!$P$5,AE89,0),\"-\")","v":"-"},"-","-",null,null,null,null,null,null,null,null,null,{"$f":"IFERROR(MATCH(D89,Nr_stad!$U$8:$U$60,0),0)","v":0},0,{"$f":"IF(D89=\"\",\"-\",MATCH(D89,N_W_1_1!$K$6:$K$11,0))","v":"-"},{"$f":"OFFSET(N_W_1_1!$L$5,AE89,1)","v":{"$error":"#VALUE!"}},{"$f":"OFFSET(N_W_1_1!$L$5,AE89,2)","v":{"$error":"#VALUE!"}},{"$f":"OFFSET(N_W_1_1!$L$5,AE89,3)","v":{"$error":"#VALUE!"}},{"$error":"#VALUE!"},{"$error":"#VALUE!"},{"$error":"#VALUE!"},{"$error":"#VALUE!"},{"$error":"#VALUE!"},{"$error":"#VALUE!"},{"$error":"#VALUE!"},{"$f":"IFERROR(OFFSET(N_W_1_1!$L$5,AE89,0),\"\")","v":""},{"$error":"#VALUE!"},{"$f":"IFERROR(OFFSET(N_W_1_1!$P$5,AE89,2),0)","v":0},{"$f":"IFERROR(IF(S89>5,OFFSET(N_W_1_1!$P$5,AE89,4),OFFSET(N_W_1_1!$P$5,AE89,3)),0)","v":0}]
[null,null,null,null,null,null,null,null,null,null,null,0,null,null,0,"-",{"$f":"IFERROR(OFFSET(N_W_1_1!$P$5,AE90,0),\"-\")","v":"-"},"-","-",null,null,null,null,null,null,null,null,null,{"$f":"IFERROR(MATCH(D90,Nr_stad!$U$8:$U$60,0),0)","v":0},0,{"$f":"IF(D90=\"\",\"-\",MATCH(D90,N_W_1_1!$K$6:$K$11,0))","v":"-"},{"$f":"OFFSET(N_W_1_1!$L$5,AE90,1)","v":{"$error":"#VALUE!"}},{"$f":"OFFSET(N_W_1_1!$L$5,AE90,2)","v":{"$error":"#VALUE!"}},{"$f":"OFFSET(N_W_1_1!$L$5,AE90,3)","v":{"$error":"#VALUE!"}},{"$error":"#VALUE!"},{"$error":"#VALUE!"},{"$error":"#VALUE!"},{"$error":"#VALUE!"},{"$error":"#VALUE!"},{"$error":"#VALUE!"},{"$error":"#VALUE!"},{"$f":"IFERROR(OFFSET(N_W_1_1!$L$5,AE90,0),\"\")","v":""},{"$error":"#VALUE!"},{"$f":"IFERROR(OFFSET(N_W_1_1!$P$5,AE90,2),0)","v":0},{"$f":"IFERROR(IF(S90>5,OFFSET(N_W_1_1!$P$5,AE90,4),OFFSET(N_W_1_1!$P$5,AE90,3)),0)","v":0}]
[null,null,null,null,null,null,null,null,null,null,null,0,null,null,0,"-",{"$f":"IFERROR(OFFSET(N_W_1_1!$P$5,AE91,0),\"-\")","v":"-"},"-","-",null,null,null,null,null,null,null,null,null,{"$f":"IFERROR(MATCH(D91,Nr_stad!$U$8:$U$60,0),0)","v":0},0,{"$f":"IF(D91=\"\",\"-\",MATCH(D91,N_W_1_1!$K$6:$K$11,0))","v":"-"},{"$f":"OFFSET(N_W_1_1!$L$5,AE91,1)","v":{"$error":"#VALUE!"}},{"$f":"OFFSET(N_W_1_1!$L$5,AE91,2)","v":{"$error":"#VALUE!"}},{"$f":"OFFSET(N_W_1_1!$L$5,AE91,3)","v":{"$error":"#VALUE!"}},{"$error":"#VALUE!"},{"$error":"#VALUE!"},{"$error":"#VALUE!"},{"$error":"#VALUE!"},{"$error":"#VALUE!"},{"$error":"#VALUE!"},{"$error":"#VALUE!"},{"$f":"IFERROR(OFFSET(N_W_1_1!$L$5,AE91,0),\"\")","v":""},{"$error":"#VALUE!"},{"$f":"IFERROR(OFFSET(N_W_1_1!$P$5,AE91,2),0)","v":0},{"$f":"IFERROR(IF(S91>5,OFFSET(N_W_1_1!$P$5,AE91,4),OFFSET(N_W_1_1!$P$5,AE91,3)),0)","v":0}]
[null,null,null,null,null,null,null,null,null,null,null,0,null,null,0,"-",{"$f":"IFERROR(OFFSET(N_W_1_1!$P$5,AE92,0),\"-\")","v":"-"},"-","-",null,null,null,null,null,null,null,null,null,{"$f":"IFERROR(MATCH(D92,Nr_stad!$U$8:$U$60,0),0)","v":0},0,{"$f":"IF(D92=\"\",\"-\",MATCH(D92,N_W_1_1!$K$6:$K$11,0))","v":"-"},{"$f":"OFFSET(N_W_1_1!$L$5,AE92,1)","v":{"$error":"#VALUE!"}},{"$f":"OFFSET(N_W_1_1!$L$5,AE92,2)","v":{"$error":"#VALUE!"}},{"$f":"OFFSET(N_W_1_1!$L$5,AE92,3)","v":{"$error":"#VALUE!"}},{"$error":"#VALUE!"},{"$error":"#VALUE!"},{"$error":"#VALUE!"},{"$error":"#VALUE!"},{"$error":"#VALUE!"},{"$error":"#VALUE!"},{"$error":"#VALUE!"},{"$f":"IFERROR(OFFSET(N_W_1_1!$L$5,AE92,0),\"\")","v":""},{"$error":"#VALUE!"},{"$f":"IFERROR(OFFSET(N_W_1_1!$P$5,AE92,2),0)","v":0},{"$f":"IFERROR(IF(S92>5,OFFSET(N_W_1_1!$P$5,AE92,4),OFFSET(N_W_1_1!$P$5,AE92,3)),0)","v":0}]
[null,null,null,null,null,null,null,null,null,null,null,0,null,null,0,"-",{"$f":"IFERROR(OFFSET(N_W_1_1!$P$5,AE93,0),\"-\")","v":"-"},"-","-",null,null,null,null,null,null,null,null,null,{"$f":"IFERROR(MATCH(D93,Nr_stad!$U$8:$U$60,0),0)","v":0},0,{"$f":"IF(D93=\"\",\"-\",MATCH(D93,N_W_1_1!$K$6:$K$11,0))","v":"-"},{"$f":"OFFSET(N_W_1_1!$L$5,AE93,1)","v":{"$error":"#VALUE!"}},{"$f":"OFFSET(N_W_1_1!$L$5,AE93,2)","v":{"$error":"#VALUE!"}},{"$f":"OFFSET(N_W_1_1!$L$5,AE93,3)","v":{"$error":"#VALUE!"}},{"$error":"#VALUE!"},{"$error":"#VALUE!"},{"$error":"#VALUE!"},{"$error":"#VALUE!"},{"$error":"#VALUE!"},{"$error":"#VALUE!"},{"$error":"#VALUE!"},{"$f":"IFERROR(OFFSET(N_W_1_1!$L$5,AE93,0),\"\")","v":""},{"$error":"#VALUE!"},{"$f":"IFERROR(OFFSET(N_W_1_1!$P$5,AE93,2),0)","v":0},{"$f":"IFERROR(IF(S93>5,OFFSET(N_W_1_1!$P$5,AE93,4),OFFSET(N_W_1_1!$P$5,AE93,3)),0)","v":0}]
[null,null,null,null,null,null,null,null,null,null,null,0,null,null,0,"-",{"$f":"IFERROR(OFFSET(N_W_1_1!$P$5,AE94,0),\"-\")","v":"-"},"-","-",null,null,null,null,null,null,null,null,null,{"$f":"IFERROR(MATCH(D94,Nr_stad!$U$8:$U$60,0),0)","v":0},0,{"$f":"IF(D94=\"\",\"-\",MATCH(D94,N_W_1_1!$K$6:$K$11,0))","v":"-"},{"$f":"OFFSET(N_W_1_1!$L$5,AE94,1)","v":{"$error":"#VALUE!"}},{"$f":"OFFSET(N_W_1_1!$L$5,AE94,2)","v":{"$error":"#VALUE!"}},{"$f":"OFFSET(N_W_1_1!$L$5,AE94,3)","v":{"$error":"#VALUE!"}},{"$error":"#VALUE!"},{"$error":"#VALUE!"},{"$error":"#VALUE!"},{"$error":"#VALUE!"},{"$error":"#VALUE!"},{"$error":"#VALUE!"},{"$error":"#VALUE!"},{"$f":"IFERROR(OFFSET(N_W_1_1!$L$5,AE94,0),\"\")","v":""},{"$error":"#VALUE!"},{"$f":"IFERROR(OFFSET(N_W_1_1!$P$5,AE94,2),0)","v":0},{"$f":"IFERROR(IF(S94>5,OFFSET(N_W_1_1!$P$5,AE94,4),OFFSET(N_W_1_1!$P$5,AE94,3)),0)","v":0}]
[null,null,null,null,null,null,null,null,null,null,null,0,null,null,0,"-",{"$f":"IFERROR(OFFSET(N_W_1_1!$P$5,AE95,0),\"-\")","v":"-"},"-","-",null,null,null,null,null,null,null,null,null,{"$f":"IFERROR(MATCH(D95,Nr_stad!$U$8:$U$60,0),0)","v":0},0,{"$f":"IF(D95=\"\",\"-\",MATCH(D95,N_W_1_1!$K$6:$K$11,0))","v":"-"},{"$f":"OFFSET(N_W_1_1!$L$5,AE95,1)","v":{"$error":"#VALUE!"}},{"$f":"OFFSET(N_W_1_1!$L$5,AE95,2)","v":{"$error":"#VALUE!"}},{"$f":"OFFSET(N_W_1_1!$L$5,AE95,3)","v":{"$error":"#VALUE!"}},{"$error":"#VALUE!"},{"$error":"#VALUE!"},{"$error":"#VALUE!"},{"$error":"#VALUE!"},{"$error":"#VALUE!"},{"$error":"#VALUE!"},{"$error":"#VALUE!"},{"$f":"IFERROR(OFFSET(N_W_1_1!$L$5,AE95,0),\"\")","v":""},{"$error":"#VALUE!"},{"$f":"IFERROR(OFFSET(N_W_1_1!$P$5,AE95,2),0)","v":0},{"$f":"IFERROR(IF(S95>5,OFFSET(N_W_1_1!$P$5,AE95,4),OFFSET(N_W_1_1!$P$5,AE95,3)),0)","v":0}]
[null,null,null,null,null,null,null,null,null,null,null,0,null,null,0,"-",{"$f":"IFERROR(OFFSET(N_W_1_1!$P$5,AE96,0),\"-\")","v":"-"},"-","-",null,null,null,null,null,null,null,null,null,{"$f":"IFERROR(MATCH(D96,Nr_stad!$U$8:$U$60,0),0)","v":0},0,{"$f":"IF(D96=\"\",\"-\",MATCH(D96,N_W_1_1!$K$6:$K$11,0))","v":"-"},{"$f":"OFFSET(N_W_1_1!$L$5,AE96,1)","v":{"$error":"#VALUE!"}},{"$f":"OFFSET(N_W_1_1!$L$5,AE96,2)","v":{"$error":"#VALUE!"}},{"$f":"OFFSET(N_W_1_1!$L$5,AE96,3)","v":{"$error":"#VALUE!"}},{"$error":"#VALUE!"},{"$error":"#VALUE!"},{"$error":"#VALUE!"},{"$error":"#VALUE!"},{"$error":"#VALUE!"},{"$error":"#VALUE!"},{"$error":"#VALUE!"},{"$f":"IFERROR(OFFSET(N_W_1_1!$L$5,AE96,0),\"\")","v":""},{"$error":"#VALUE!"},{"$f":"IFERROR(OFFSET(N_W_1_1!$P$5,AE96,2),0)","v":0},{"$f":"IFERROR(IF(S96>5,OFFSET(N_W_1_1!$P$5,AE96,4),OFFSET(N_W_1_1!$P$5,AE96,3)),0)","v":0}]
[null,null,null,null,null,null,null,null,null,null,null,0,null,null,0,"-",{"$f":"IFERROR(OFFSET(N_W_1_1!$P$5,AE97,0),\"-\")","v":"-"},"-","-",null,null,null,null,null,null,null,null,null,{"$f":"IFERROR(MATCH(D97,Nr_stad!$U$8:$U$60,0),0)","v":0},0,{"$f":"IF(D97=\"\",\"-\",MATCH(D97,N_W_1_1!$K$6:$K$11,0))","v":"-"},{"$f":"OFFSET(N_W_1_1!$L$5,AE97,1)","v":{"$error":"#VALUE!"}},{"$f":"OFFSET(N_W_1_1!$L$5,AE97,2)","v":{"$error":"#VALUE!"}},{"$f":"OFFSET(N_W_1_1!$L$5,AE97,3)","v":{"$error":"#VALUE!"}},{"$error":"#VALUE!"},{"$error":"#VALUE!"},{"$error":"#VALUE!"},{"$error":"#VALUE!"},{"$error":"#VALUE!"},{"$error":"#VALUE!"},{"$error":"#VALUE!"},{"$f":"IFERROR(OFFSET(N_W_1_1!$L$5,AE97,0),\"\")","v":""},{"$error":"#VALUE!"},{"$f":"IFERROR(OFFSET(N_W_1_1!$P$5,AE97,2),0)","v":0},{"$f":"IFERROR(IF(S97>5,OFFSET(N_W_1_1!$P$5,AE97,4),OFFSET(N_W_1_1!$P$5,AE97,3)),0)","v":0}]
[null,null,null,null,null,null,null,null,null,null,null,0,null,null,0,"-",{"$f":"IFERROR(OFFSET(N_W_1_1!$P$5,AE98,0),\"-\")","v":"-"},"-","-",null,null,null,null,null,null,null,null,null,{"$f":"IFERROR(MATCH(D98,Nr_stad!$U$8:$U$60,0),0)","v":0},0,{"$f":"IF(D98=\"\",\"-\",MATCH(D98,N_W_1_1!$K$6:$K$11,0))","v":"-"},{"$f":"OFFSET(N_W_1_1!$L$5,AE98,1)","v":{"$error":"#VALUE!"}},{"$f":"OFFSET(N_W_1_1!$L$5,AE98,2)","v":{"$error":"#VALUE!"}},{"$f":"OFFSET(N_W_1_1!$L$5,AE98,3)","v":{"$error":"#VALUE!"}},{"$error":"#VALUE!"},{"$error":"#VALUE!"},{"$error":"#VALUE!"},{"$error":"#VALUE!"},{"$error":"#VALUE!"},{"$error":"#VALUE!"},{"$error":"#VALUE!"},{"$f":"IFERROR(OFFSET(N_W_1_1!$L$5,AE98,0),\"\")","v":""},{"$error":"#VALUE!"},{"$f":"IFERROR(OFFSET(N_W_1_1!$P$5,AE98,2),0)","v":0},{"$f":"IFERROR(IF(S98>5,OFFSET(N_W_1_1!$P$5,AE98,4),OFFSET(N_W_1_1!$P$5,AE98,3)),0)","v":0}]
[null,null,null,null,null,null,null,null,null,null,null,0,null,null,0,"-",{"$f":"IFERROR(OFFSET(N_W_1_1!$P$5,AE99,0),\"-\")","v":"-"},"-","-",null,null,null,null,null,null,null,null,null,{"$f":"IFERROR(MATCH(D99,Nr_stad!$U$8:$U$60,0),0)","v":0},0,{"$f":"IF(D99=\"\",\"-\",MATCH(D99,N_W_1_1!$K$6:$K$11,0))","v":"-"},{"$f":"OFFSET(N_W_1_1!$L$5,AE99,1)","v":{"$error":"#VALUE!"}},{"$f":"OFFSET(N_W_1_1!$L$5,AE99,2)","v":{"$error":"#VALUE!"}},{"$f":"OFFSET(N_W_1_1!$L$5,AE99,3)","v":{"$error":"#VALUE!"}},{"$error":"#VALUE!"},{"$error":"#VALUE!"},{"$error":"#VALUE!"},{"$error":"#VALUE!"},{"$error":"#VALUE!"},{"$error":"#VALUE!"},{"$error":"#VALUE!"},{"$f":"IFERROR(OFFSET(N_W_1_1!$L$5,AE99,0),\"\")","v":""},{"$error":"#VALUE!"},{"$f":"IFERROR(OFFSET(N_W_1_1!$P$5,AE99,2),0)","v":0},{"$f":"IFERROR(IF(S99>5,OFFSET(N_W_1_1!$P$5,AE99,4),OFFSET(N_W_1_1!$P$5,AE99,3)),0)","v":0}]
[null,null,null,null,null,null,null,null,null,null,null,0,null,null,0,"-",{"$f":"IFERROR(OFFSET(N_W_1_1!$P$5,AE100,0),\"-\")","v":"-"},"-","-",null,null,null,null,null,null,null,null,null,{"$f":"IFERROR(MATCH(D100,Nr_stad!$U$8:$U$60,0),0)","v":0},0,{"$f":"IF(D100=\"\",\"-\",MATCH(D100,N_W_1_1!$K$6:$K$11,0))","v":"-"},{"$f":"OFFSET(N_W_1_1!$L$5,AE100,1)","v":{"$error":"#VALUE!"}},{"$f":"OFFSET(N_W_1_1!$L$5,AE100,2)","v":{"$error":"#VALUE!"}},{"$f":"OFFSET(N_W_1_1!$L$5,AE100,3)","v":{"$error":"#VALUE!"}},{"$error":"#VALUE!"},{"$error":"#VALUE!"},{"$error":"#VALUE!"},{"$error":"#VALUE!"},{"$error":"#VALUE!"},{"$error":"#VALUE!"},{"$error":"#VALUE!"},{"$f":"IFERROR(OFFSET(N_W_1_1!$L$5,AE100,0),\"\")","v":""},{"$error":"#VALUE!"},{"$f":"IFERROR(OFFSET(N_W_1_1!$P$5,AE100,2),0)","v":0},{"$f":"IFERROR(IF(S100>5,OFFSET(N_W_1_1!$P$5,AE100,4),OFFSET(N_W_1_1!$P$5,AE100,3)),0)","v":0}]
[null,null,null,null,null,null,null,null,null,null,null,0,null,null,0,"-",{"$f":"IFERROR(OFFSET(N_W_1_1!$P$5,AE101,0),\"-\")","v":"-"},"-","-",null,null,null,null,null,null,null,null,null,{"$f":"IFERROR(MATCH(D101,Nr_stad!$U$8:$U$60,0),0)","v":0},0,{"$f":"IF(D101=\"\",\"-\",MATCH(D101,N_W_1_1!$K$6:$K$11,0))","v":"-"},{"$f":"OFFSET(N_W_1_1!$L$5,AE101,1)","v":{"$error":"#VALUE!"}},{"$f":"OFFSET(N_W_1_1!$L$5,AE101,2)","v":{"$error":"#VALUE!"}},{"$f":"OFFSET(N_W_1_1!$L$5,AE101,3)","v":{"$error":"#VALUE!"}},{"$error":"#VALUE!"},{"$error":"#VALUE!"},{"$error":"#VALUE!"},{"$error":"#VALUE!"},{"$error":"#VALUE!"},{"$error":"#VALUE!"},{"$error":"#VALUE!"},{"$f":"IFERROR(OFFSET(N_W_1_1!$L$5,AE101,0),\"\")","v":""},{"$error":"#VALUE!"},{"$f":"IFERROR(OFFSET(N_W_1_1!$P$5,AE101,2),0)","v":0},{"$f":"IFERROR(IF(S101>5,OFFSET(N_W_1_1!$P$5,AE101,4),OFFSET(N_W_1_1!$P$5,AE101,3)),0)","v":0}]
[null,null,null,null,null,null,null,null,null,null,null,0,null,null,0,"-",{"$f":"IFERROR(OFFSET(N_W_1_1!$P$5,AE102,0),\"-\")","v":"-"},"-","-",null,null,null,null,null,null,null,null,null,{"$f":"IFERROR(MATCH(D102,Nr_stad!$U$8:$U$60,0),0)","v":0},0,{"$f":"IF(D102=\"\",\"-\",MATCH(D102,N_W_1_1!$K$6:$K$11,0))","v":"-"},{"$f":"OFFSET(N_W_1_1!$L$5,AE102,1)","v":{"$error":"#VALUE!"}},{"$f":"OFFSET(N_W_1_1!$L$5,AE102,2)","v":{"$error":"#VALUE!"}},{"$f":"OFFSET(N_W_1_1!$L$5,AE102,3)","v":{"$error":"#VALUE!"}},{"$error":"#VALUE!"},{"$error":"#VALUE!"},{"$error":"#VALUE!"},{"$error":"#VALUE!"},{"$error":"#VALUE!"},{"$error":"#VALUE!"},{"$error":"#VALUE!"},{"$f":"IFERROR(OFFSET(N_W_1_1!$L$5,AE102,0),\"\")","v":""},{"$error":"#VALUE!"},{"$f":"IFERROR(OFFSET(N_W_1_1!$P$5,AE102,2),0)","v":0},{"$f":"IFERROR(IF(S102>5,OFFSET(N_W_1_1!$P$5,AE102,4),OFFSET(N_W_1_1!$P$5,AE102,3)),0)","v":0}]
[null,null,null,null,null,null,null,null,null,null,null,0,null,null,0,"-",{"$f":"IFERROR(OFFSET(N_W_1_1!$P$5,AE103,0),\"-\")","v":"-"},"-","-",null,null,null,null,null,null,null,null,null,{"$f":"IFERROR(MATCH(D103,Nr_stad!$U$8:$U$60,0),0)","v":0},0,{"$f":"IF(D103=\"\",\"-\",MATCH(D103,N_W_1_1!$K$6:$K$11,0))","v":"-"},{"$f":"OFFSET(N_W_1_1!$L$5,AE103,1)","v":{"$error":"#VALUE!"}},{"$f":"OFFSET(N_W_1_1!$L$5,AE103,2)","v":{"$error":"#VALUE!"}},{"$f":"OFFSET(N_W_1_1!$L$5,AE103,3)","v":{"$error":"#VALUE!"}},{"$error":"#VALUE!"},{"$error":"#VALUE!"},{"$error":"#VALUE!"},{"$error":"#VALUE!"},{"$error":"#VALUE!"},{"$error":"#VALUE!"},{"$error":"#VALUE!"},{"$f":"IFERROR(OFFSET(N_W_1_1!$L$5,AE103,0),\"\")","v":""},{"$error":"#VALUE!"},{"$f":"IFERROR(OFFSET(N_W_1_1!$P$5,AE103,2),0)","v":0},{"$f":"IFERROR(IF(S103>5,OFFSET(N_W_1_1!$P$5,AE103,4),OFFSET(N_W_1_1!$P$5,AE103,3)),0)","v":0}]
[null,null,null,null,null,null,null,null,null,null,null,0,null,null,0,"-",{"$f":"IFERROR(OFFSET(N_W_1_1!$P$5,AE104,0),\"-\")","v":"-"},"-","-",null,null,null,null,null,null,null,null,null,{"$f":"IFERROR(MATCH(D104,Nr_stad!$U$8:$U$60,0),0)","v":0},0,{"$f":"IF(D104=\"\",\"-\",MATCH(D104,N_W_1_1!$K$6:$K$11,0))","v":"-"},{"$f":"OFFSET(N_W_1_1!$L$5,AE104,1)","v":{"$error":"#VALUE!"}},{"$f":"OFFSET(N_W_1_1!$L$5,AE104,2)","v":{"$error":"#VALUE!"}},{"$f":"OFFSET(N_W_1_1!$L$5,AE104,3)","v":{"$error":"#VALUE!"}},{"$error":"#VALUE!"},{"$error":"#VALUE!"},{"$error":"#VALUE!"},{"$error":"#VALUE!"},{"$error":"#VALUE!"},{"$error":"#VALUE!"},{"$error":"#VALUE!"},{"$f":"IFERROR(OFFSET(N_W_1_1!$L$5,AE104,0),\"\")","v":""},{"$error":"#VALUE!"},{"$f":"IFERROR(OFFSET(N_W_1_1!$P$5,AE104,2),0)","v":0},{"$f":"IFERROR(IF(S104>5,OFFSET(N_W_1_1!$P$5,AE104,4),OFFSET(N_W_1_1!$P$5,AE104,3)),0)","v":0}]
[null,null,null,null,null,null,null,null,null,null,null,0,null,null,0,"-",{"$f":"IFERROR(OFFSET(N_W_1_1!$P$5,AE105,0),\"-\")","v":"-"},"-","-",null,null,null,null,null,null,null,null,null,{"$f":"IFERROR(MATCH(D105,Nr_stad!$U$8:$U$60,0),0)","v":0},0,{"$f":"IF(D105=\"\",\"-\",MATCH(D105,N_W_1_1!$K$6:$K$11,0))","v":"-"},{"$f":"OFFSET(N_W_1_1!$L$5,AE105,1)","v":{"$error":"#VALUE!"}},{"$f":"OFFSET(N_W_1_1!$L$5,AE105,2)","v":{"$error":"#VALUE!"}},{"$f":"OFFSET(N_W_1_1!$L$5,AE105,3)","v":{"$error":"#VALUE!"}},{"$error":"#VALUE!"},{"$error":"#VALUE!"},{"$error":"#VALUE!"},{"$error":"#VALUE!"},{"$error":"#VALUE!"},{"$error":"#VALUE!"},{"$error":"#VALUE!"},{"$f":"IFERROR(OFFSET(N_W_1_1!$L$5,AE105,0),\"\")","v":""},{"$error":"#VALUE!"},{"$f":"IFERROR(OFFSET(N_W_1_1!$P$5,AE105,2),0)","v":0},{"$f":"IFERROR(IF(S105>5,OFFSET(N_W_1_1!$P$5,AE105,4),OFFSET(N_W_1_1!$P$5,AE105,3)),0)","v":0}]
[null,null,null,null,null,null,null,null,null,null,null,0,null,null,0,"-",{"$f":"IFERROR(OFFSET(N_W_1_1!$P$5,AE106,0),\"-\")","v":"-"},"-","-",null,null,null,null,null,null,null,null,null,{"$f":"IFERROR(MATCH(D106,Nr_stad!$U$8:$U$60,0),0)","v":0},0,{"$f":"IF(D106=\"\",\"-\",MATCH(D106,N_W_1_1!$K$6:$K$11,0))","v":"-"},{"$f":"OFFSET(N_W_1_1!$L$5,AE106,1)","v":{"$error":"#VALUE!"}},{"$f":"OFFSET(N_W_1_1!$L$5,AE106,2)","v":{"$error":"#VALUE!"}},{"$f":"OFFSET(N_W_1_1!$L$5,AE106,3)","v":{"$error":"#VALUE!"}},{"$error":"#VALUE!"},{"$error":"#VALUE!"},{"$error":"#VALUE!"},{"$error":"#VALUE!"},{"$error":"#VALUE!"},{"$error":"#VALUE!"},{"$error":"#VALUE!"},{"$f":"IFERROR(OFFSET(N_W_1_1!$L$5,AE106,0),\"\")","v":""},{"$error":"#VALUE!"},{"$f":"IFERROR(OFFSET(N_W_1_1!$P$5,AE106,2),0)","v":0},{"$f":"IFERROR(IF(S106>5,OFFSET(N_W_1_1!$P$5,AE106,4),OFFSET(N_W_1_1!$P$5,AE106,3)),0)","v":0}]
[null,null,null,null,null,null,null,null,null,null,null,0,null,null,0,"-",{"$f":"IFERROR(OFFSET(N_W_1_1!$P$5,AE107,0),\"-\")","v":"-"},"-","-",null,null,null,null,null,null,null,null,null,{"$f":"IFERROR(MATCH(D107,Nr_stad!$U$8:$U$60,0),0)","v":0},0,{"$f":"IF(D107=\"\",\"-\",MATCH(D107,N_W_1_1!$K$6:$K$11,0))","v":"-"},{"$f":"OFFSET(N_W_1_1!$L$5,AE107,1)","v":{"$error":"#VALUE!"}},{"$f":"OFFSET(N_W_1_1!$L$5,AE107,2)","v":{"$error":"#VALUE!"}},{"$f":"OFFSET(N_W_1_1!$L$5,AE107,3)","v":{"$error":"#VALUE!"}},{"$error":"#VALUE!"},{"$error":"#VALUE!"},{"$error":"#VALUE!"},{"$error":"#VALUE!"},{"$error":"#VALUE!"},{"$error":"#VALUE!"},{"$error":"#VALUE!"},{"$f":"IFERROR(OFFSET(N_W_1_1!$L$5,AE107,0),\"\")","v":""},{"$error":"#VALUE!"},{"$f":"IFERROR(OFFSET(N_W_1_1!$P$5,AE107,2),0)","v":0},{"$f":"IFERROR(IF(S107>5,OFFSET(N_W_1_1!$P$5,AE107,4),OFFSET(N_W_1_1!$P$5,AE107,3)),0)","v":0}]
[null,null,null,null,null,null,null,null,null,null,null,0,null,null,0,"-",{"$f":"IFERROR(OFFSET(N_W_1_1!$P$5,AE108,0),\"-\")","v":"-"},"-","-",null,null,null,null,null,null,null,null,null,{"$f":"IFERROR(MATCH(D108,Nr_stad!$U$8:$U$60,0),0)","v":0},0,{"$f":"IF(D108=\"\",\"-\",MATCH(D108,N_W_1_1!$K$6:$K$11,0))","v":"-"},{"$f":"OFFSET(N_W_1_1!$L$5,AE108,1)","v":{"$error":"#VALUE!"}},{"$f":"OFFSET(N_W_1_1!$L$5,AE108,2)","v":{"$error":"#VALUE!"}},{"$f":"OFFSET(N_W_1_1!$L$5,AE108,3)","v":{"$error":"#VALUE!"}},{"$error":"#VALUE!"},{"$error":"#VALUE!"},{"$error":"#VALUE!"},{"$error":"#VALUE!"},{"$error":"#VALUE!"},{"$error":"#VALUE!"},{"$error":"#VALUE!"},{"$f":"IFERROR(OFFSET(N_W_1_1!$L$5,AE108,0),\"\")","v":""},{"$error":"#VALUE!"},{"$f":"IFERROR(OFFSET(N_W_1_1!$P$5,AE108,2),0)","v":0},{"$f":"IFERROR(IF(S108>5,OFFSET(N_W_1_1!$P$5,AE108,4),OFFSET(N_W_1_1!$P$5,AE108,3)),0)","v":0}]
[null,null,null,null,null,null,null,null,null,null,null,0,null,null,0,"-",{"$f":"IFERROR(OFFSET(N_W_1_1!$P$5,AE109,0),\"-\")","v":"-"},"-","-",null,null,null,null,null,null,null,null,null,{"$f":"IFERROR(MATCH(D109,Nr_stad!$U$8:$U$60,0),0)","v":0},0,{"$f":"IF(D109=\"\",\"-\",MATCH(D109,N_W_1_1!$K$6:$K$11,0))","v":"-"},{"$f":"OFFSET(N_W_1_1!$L$5,AE109,1)","v":{"$error":"#VALUE!"}},{"$f":"OFFSET(N_W_1_1!$L$5,AE109,2)","v":{"$error":"#VALUE!"}},{"$f":"OFFSET(N_W_1_1!$L$5,AE109,3)","v":{"$error":"#VALUE!"}},{"$error":"#VALUE!"},{"$error":"#VALUE!"},{"$error":"#VALUE!"},{"$error":"#VALUE!"},{"$error":"#VALUE!"},{"$error":"#VALUE!"},{"$error":"#VALUE!"},{"$f":"IFERROR(OFFSET(N_W_1_1!$L$5,AE109,0),\"\")","v":""},{"$error":"#VALUE!"},{"$f":"IFERROR(OFFSET(N_W_1_1!$P$5,AE109,2),0)","v":0},{"$f":"IFERROR(IF(S109>5,OFFSET(N_W_1_1!$P$5,AE109,4),OFFSET(N_W_1_1!$P$5,AE109,3)),0)","v":0}]
[null,null,null,null,null,null,null,null,null,null,null,0,null,null,0,"-",{"$f":"IFERROR(OFFSET(N_W_1_1!$P$5,AE110,0),\"-\")","v":"-"},"-","-",null,null,null,null,null,null,null,null,null,{"$f":"IFERROR(MATCH(D110,Nr_stad!$U$8:$U$60,0),0)","v":0},0,{"$f":"IF(D110=\"\",\"-\",MATCH(D110,N_W_1_1!$K$6:$K$11,0))","v":"-"},{"$f":"OFFSET(N_W_1_1!$L$5,AE110,1)","v":{"$error":"#VALUE!"}},{"$f":"OFFSET(N_W_1_1!$L$5,AE110,2)","v":{"$error":"#VALUE!"}},{"$f":"OFFSET(N_W_1_1!$L$5,AE110,3)","v":{"$error":"#VALUE!"}},{"$error":"#VALUE!"},{"$error":"#VALUE!"},{"$error":"#VALUE!"},{"$error":"#VALUE!"},{"$error":"#VALUE!"},{"$error":"#VALUE!"},{"$error":"#VALUE!"},{"$f":"IFERROR(OFFSET(N_W_1_1!$L$5,AE110,0),\"\")","v":""},{"$error":"#VALUE!"},{"$f":"IFERROR(OFFSET(N_W_1_1!$P$5,AE110,2),0)","v":0},{"$f":"IFERROR(IF(S110>5,OFFSET(N_W_1_1!$P$5,AE110,4),OFFSET(N_W_1_1!$P$5,AE110,3)),0)","v":0}]
[null,null,null,null,null,null,null,null,null,null,null,0,null,null,0,"-",{"$f":"IFERROR(OFFSET(N_W_1_1!$P$5,AE111,0),\"-\")","v":"-"},"-","-",null,null,null,null,null,null,null,null,null,{"$f":"IFERROR(MATCH(D111,Nr_stad!$U$8:$U$60,0),0)","v":0},0,{"$f":"IF(D111=\"\",\"-\",MATCH(D111,N_W_1_1!$K$6:$K$11,0))","v":"-"},{"$f":"OFFSET(N_W_1_1!$L$5,AE111,1)","v":{"$error":"#VALUE!"}},{"$f":"OFFSET(N_W_1_1!$L$5,AE111,2)","v":{"$error":"#VALUE!"}},{"$f":"OFFSET(N_W_1_1!$L$5,AE111,3)","v":{"$error":"#VALUE!"}},{"$error":"#VALUE!"},{"$error":"#VALUE!"},{"$error":"#VALUE!"},{"$error":"#VALUE!"},{"$error":"#VALUE!"},{"$error":"#VALUE!"},{"$error":"#VALUE!"},{"$f":"IFERROR(OFFSET(N_W_1_1!$L$5,AE111,0),\"\")","v":""},{"$error":"#VALUE!"},{"$f":"IFERROR(OFFSET(N_W_1_1!$P$5,AE111,2),0)","v":0},{"$f":"IFERROR(IF(S111>5,OFFSET(N_W_1_1!$P$5,AE111,4),OFFSET(N_W_1_1!$P$5,AE111,3)),0)","v":0}]
[null,null,null,null,null,null,null,null,null,null,null,0,null,null,0,"-",{"$f":"IFERROR(OFFSET(N_W_1_1!$P$5,AE112,0),\"-\")","v":"-"},"-","-",null,null,null,null,null,null,null,null,null,{"$f":"IFERROR(MATCH(D112,Nr_stad!$U$8:$U$60,0),0)","v":0},0,{"$f":"IF(D112=\"\",\"-\",MATCH(D112,N_W_1_1!$K$6:$K$11,0))","v":"-"},{"$f":"OFFSET(N_W_1_1!$L$5,AE112,1)","v":{"$error":"#VALUE!"}},{"$f":"OFFSET(N_W_1_1!$L$5,AE112,2)","v":{"$error":"#VALUE!"}},{"$f":"OFFSET(N_W_1_1!$L$5,AE112,3)","v":{"$error":"#VALUE!"}},{"$error":"#VALUE!"},{"$error":"#VALUE!"},{"$error":"#VALUE!"},{"$error":"#VALUE!"},{"$error":"#VALUE!"},{"$error":"#VALUE!"},{"$error":"#VALUE!"},{"$f":"IFERROR(OFFSET(N_W_1_1!$L$5,AE112,0),\"\")","v":""},{"$error":"#VALUE!"},{"$f":"IFERROR(OFFSET(N_W_1_1!$P$5,AE112,2),0)","v":0},{"$f":"IFERROR(IF(S112>5,OFFSET(N_W_1_1!$P$5,AE112,4),OFFSET(N_W_1_1!$P$5,AE112,3)),0)","v":0}]
[null,null,null,null,null,null,null,null,null,null,null,0,null,null,0,"-",{"$f":"IFERROR(OFFSET(N_W_1_1!$P$5,AE113,0),\"-\")","v":"-"},"-","-",null,null,null,null,null,null,null,null,null,{"$f":"IFERROR(MATCH(D113,Nr_stad!$U$8:$U$60,0),0)","v":0},0,{"$f":"IF(D113=\"\",\"-\",MATCH(D113,N_W_1_1!$K$6:$K$11,0))","v":"-"},{"$f":"OFFSET(N_W_1_1!$L$5,AE113,1)","v":{"$error":"#VALUE!"}},{"$f":"OFFSET(N_W_1_1!$L$5,AE113,2)","v":{"$error":"#VALUE!"}},{"$f":"OFFSET(N_W_1_1!$L$5,AE113,3)","v":{"$error":"#VALUE!"}},{"$error":"#VALUE!"},{"$error":"#VALUE!"},{"$error":"#VALUE!"},{"$error":"#VALUE!"},{"$error":"#VALUE!"},{"$error":"#VALUE!"},{"$error":"#VALUE!"},{"$f":"IFERROR(OFFSET(N_W_1_1!$L$5,AE113,0),\"\")","v":""},{"$error":"#VALUE!"},{"$f":"IFERROR(OFFSET(N_W_1_1!$P$5,AE113,2),0)","v":0},{"$f":"IFERROR(IF(S113>5,OFFSET(N_W_1_1!$P$5,AE113,4),OFFSET(N_W_1_1!$P$5,AE113,3)),0)","v":0}]
[null,null,null,null,null,null,null,null,null,null,null,0,null,null,0,"-",{"$f":"IFERROR(OFFSET(N_W_1_1!$P$5,AE114,0),\"-\")","v":"-"},"-","-",null,null,null,null,null,null,null,null,null,{"$f":"IFERROR(MATCH(D114,Nr_stad!$U$8:$U$60,0),0)","v":0},0,{"$f":"IF(D114=\"\",\"-\",MATCH(D114,N_W_1_1!$K$6:$K$11,0))","v":"-"},{"$f":"OFFSET(N_W_1_1!$L$5,AE114,1)","v":{"$error":"#VALUE!"}},{"$f":"OFFSET(N_W_1_1!$L$5,AE114,2)","v":{"$error":"#VALUE!"}},{"$f":"OFFSET(N_W_1_1!$L$5,AE114,3)","v":{"$error":"#VALUE!"}},{"$error":"#VALUE!"},{"$error":"#VALUE!"},{"$error":"#VALUE!"},{"$error":"#VALUE!"},{"$error":"#VALUE!"},{"$error":"#VALUE!"},{"$error":"#VALUE!"},{"$f":"IFERROR(OFFSET(N_W_1_1!$L$5,AE114,0),\"\")","v":""},{"$error":"#VALUE!"},{"$f":"IFERROR(OFFSET(N_W_1_1!$P$5,AE114,2),0)","v":0},{"$f":"IFERROR(IF(S114>5,OFFSET(N_W_1_1!$P$5,AE114,4),OFFSET(N_W_1_1!$P$5,AE114,3)),0)","v":0}]
[null,null,null,null,null,null,null,null,null,null,null,0,null,null,0,"-",{"$f":"IFERROR(OFFSET(N_W_1_1!$P$5,AE115,0),\"-\")","v":"-"},"-","-",null,null,null,null,null,null,null,null,null,{"$f":"IFERROR(MATCH(D115,Nr_stad!$U$8:$U$60,0),0)","v":0},0,{"$f":"IF(D115=\"\",\"-\",MATCH(D115,N_W_1_1!$K$6:$K$11,0))","v":"-"},{"$f":"OFFSET(N_W_1_1!$L$5,AE115,1)","v":{"$error":"#VALUE!"}},{"$f":"OFFSET(N_W_1_1!$L$5,AE115,2)","v":{"$error":"#VALUE!"}},{"$f":"OFFSET(N_W_1_1!$L$5,AE115,3)","v":{"$error":"#VALUE!"}},{"$error":"#VALUE!"},{"$error":"#VALUE!"},{"$error":"#VALUE!"},{"$error":"#VALUE!"},{"$error":"#VALUE!"},{"$error":"#VALUE!"},{"$error":"#VALUE!"},{"$f":"IFERROR(OFFSET(N_W_1_1!$L$5,AE115,0),\"\")","v":""},{"$error":"#VALUE!"},{"$f":"IFERROR(OFFSET(N_W_1_1!$P$5,AE115,2),0)","v":0},{"$f":"IFERROR(IF(S115>5,OFFSET(N_W_1_1!$P$5,AE115,4),OFFSET(N_W_1_1!$P$5,AE115,3)),0)","v":0}]
[null,null,null,null,null,null,null,null,null,null,null,0,null,null,0,"-",{"$f":"IFERROR(OFFSET(N_W_1_1!$P$5,AE116,0),\"-\")","v":"-"},"-","-",null,null,null,null,null,null,null,null,null,{"$f":"IFERROR(MATCH(D116,Nr_stad!$U$8:$U$60,0),0)","v":0},0,{"$f":"IF(D116=\"\",\"-\",MATCH(D116,N_W_1_1!$K$6:$K$11,0))","v":"-"},{"$f":"OFFSET(N_W_1_1!$L$5,AE116,1)","v":{"$error":"#VALUE!"}},{"$f":"OFFSET(N_W_1_1!$L$5,AE116,2)","v":{"$error":"#VALUE!"}},{"$f":"OFFSET(N_W_1_1!$L$5,AE116,3)","v":{"$error":"#VALUE!"}},{"$error":"#VALUE!"},{"$error":"#VALUE!"},{"$error":"#VALUE!"},{"$error":"#VALUE!"},{"$error":"#VALUE!"},{"$error":"#VALUE!"},{"$error":"#VALUE!"},{"$f":"IFERROR(OFFSET(N_W_1_1!$L$5,AE116,0),\"\")","v":""},{"$error":"#VALUE!"},{"$f":"IFERROR(OFFSET(N_W_1_1!$P$5,AE116,2),0)","v":0},{"$f":"IFERROR(IF(S116>5,OFFSET(N_W_1_1!$P$5,AE116,4),OFFSET(N_W_1_1!$P$5,AE116,3)),0)","v":0}]
[null,null,null,null,null,null,null,null,null,null,null,0,null,null,0,"-",{"$f":"IFERROR(OFFSET(N_W_1_1!$P$5,AE117,0),\"-\")","v":"-"},"-","-",null,null,null,null,null,null,null,null,null,{"$f":"IFERROR(MATCH(D117,Nr_stad!$U$8:$U$60,0),0)","v":0},0,{"$f":"IF(D117=\"\",\"-\",MATCH(D117,N_W_1_1!$K$6:$K$11,0))","v":"-"},{"$f":"OFFSET(N_W_1_1!$L$5,AE117,1)","v":{"$error":"#VALUE!"}},{"$f":"OFFSET(N_W_1_1!$L$5,AE117,2)","v":{"$error":"#VALUE!"}},{"$f":"OFFSET(N_W_1_1!$L$5,AE117,3)","v":{"$error":"#VALUE!"}},{"$error":"#VALUE!"},{"$error":"#VALUE!"},{"$error":"#VALUE!"},{"$error":"#VALUE!"},{"$error":"#VALUE!"},{"$error":"#VALUE!"},{"$error":"#VALUE!"},{"$f":"IFERROR(OFFSET(N_W_1_1!$L$5,AE117,0),\"\")","v":""},{"$error":"#VALUE!"},{"$f":"IFERROR(OFFSET(N_W_1_1!$P$5,AE117,2),0)","v":0},{"$f":"IFERROR(IF(S117>5,OFFSET(N_W_1_1!$P$5,AE117,4),OFFSET(N_W_1_1!$P$5,AE117,3)),0)","v":0}]
[null,null,null,null,null,null,null,null,null,null,null,0,null,null,0,"-",{"$f":"IFERROR(OFFSET(N_W_1_1!$P$5,AE118,0),\"-\")","v":"-"},"-","-",null,null,null,null,null,null,null,null,null,{"$f":"IFERROR(MATCH(D118,Nr_stad!$U$8:$U$60,0),0)","v":0},0,{"$f":"IF(D118=\"\",\"-\",MATCH(D118,N_W_1_1!$K$6:$K$11,0))","v":"-"},{"$f":"OFFSET(N_W_1_1!$L$5,AE118,1)","v":{"$error":"#VALUE!"}},{"$f":"OFFSET(N_W_1_1!$L$5,AE118,2)","v":{"$error":"#VALUE!"}},{"$f":"OFFSET(N_W_1_1!$L$5,AE118,3)","v":{"$error":"#VALUE!"}},{"$error":"#VALUE!"},{"$error":"#VALUE!"},{"$error":"#VALUE!"},{"$error":"#VALUE!"},{"$error":"#VALUE!"},{"$error":"#VALUE!"},{"$error":"#VALUE!"},{"$f":"IFERROR(OFFSET(N_W_1_1!$L$5,AE118,0),\"\")","v":""},{"$error":"#VALUE!"},{"$f":"IFERROR(OFFSET(N_W_1_1!$P$5,AE118,2),0)","v":0},{"$f":"IFERROR(IF(S118>5,OFFSET(N_W_1_1!$P$5,AE118,4),OFFSET(N_W_1_1!$P$5,AE118,3)),0)","v":0}]
[null,null,null,null,null,null,null,null,null,null,null,0,null,null,0,"-",{"$f":"IFERROR(OFFSET(N_W_1_1!$P$5,AE119,0),\"-\")","v":"-"},"-","-",null,null,null,null,null,null,null,null,null,{"$f":"IFERROR(MATCH(D119,Nr_stad!$U$8:$U$60,0),0)","v":0},0,{"$f":"IF(D119=\"\",\"-\",MATCH(D119,N_W_1_1!$K$6:$K$11,0))","v":"-"},{"$f":"OFFSET(N_W_1_1!$L$5,AE119,1)","v":{"$error":"#VALUE!"}},{"$f":"OFFSET(N_W_1_1!$L$5,AE119,2)","v":{"$error":"#VALUE!"}},{"$f":"OFFSET(N_W_1_1!$L$5,AE119,3)","v":{"$error":"#VALUE!"}},{"$error":"#VALUE!"},{"$error":"#VALUE!"},{"$error":"#VALUE!"},{"$error":"#VALUE!"},{"$error":"#VALUE!"},{"$error":"#VALUE!"},{"$error":"#VALUE!"},{"$f":"IFERROR(OFFSET(N_W_1_1!$L$5,AE119,0),\"\")","v":""},{"$error":"#VALUE!"},{"$f":"IFERROR(OFFSET(N_W_1_1!$P$5,AE119,2),0)","v":0},{"$f":"IFERROR(IF(S119>5,OFFSET(N_W_1_1!$P$5,AE119,4),OFFSET(N_W_1_1!$P$5,AE119,3)),0)","v":0}]
[null,null,null,null,null,null,null,null,null,null,null,0,null,null,0,"-",{"$f":"IFERROR(OFFSET(N_W_1_1!$P$5,AE120,0),\"-\")","v":"-"},"-","-",null,null,null,null,null,null,null,null,null,{"$f":"IFERROR(MATCH(D120,Nr_stad!$U$8:$U$60,0),0)","v":0},0,{"$f":"IF(D120=\"\",\"-\",MATCH(D120,N_W_1_1!$K$6:$K$11,0))","v":"-"},{"$f":"OFFSET(N_W_1_1!$L$5,AE120,1)","v":{"$error":"#VALUE!"}},{"$f":"OFFSET(N_W_1_1!$L$5,AE120,2)","v":{"$error":"#VALUE!"}},{"$f":"OFFSET(N_W_1_1!$L$5,AE120,3)","v":{"$error":"#VALUE!"}},{"$error":"#VALUE!"},{"$error":"#VALUE!"},{"$error":"#VALUE!"},{"$error":"#VALUE!"},{"$error":"#VALUE!"},{"$error":"#VALUE!"},{"$error":"#VALUE!"},{"$f":"IFERROR(OFFSET(N_W_1_1!$L$5,AE120,0),\"\")","v":""},{"$error":"#VALUE!"},{"$f":"IFERROR(OFFSET(N_W_1_1!$P$5,AE120,2),0)","v":0},{"$f":"IFERROR(IF(S120>5,OFFSET(N_W_1_1!$P$5,AE120,4),OFFSET(N_W_1_1!$P$5,AE120,3)),0)","v":0}]
[null,null,null,null,null,null,null,null,null,null,null,0,null,null,0,"-",{"$f":"IFERROR(OFFSET(N_W_1_1!$P$5,AE121,0),\"-\")","v":"-"},"-","-",null,null,null,null,null,null,null,null,null,{"$f":"IFERROR(MATCH(D121,Nr_stad!$U$8:$U$60,0),0)","v":0},0,{"$f":"IF(D121=\"\",\"-\",MATCH(D121,N_W_1_1!$K$6:$K$11,0))","v":"-"},{"$f":"OFFSET(N_W_1_1!$L$5,AE121,1)","v":{"$error":"#VALUE!"}},{"$f":"OFFSET(N_W_1_1!$L$5,AE121,2)","v":{"$error":"#VALUE!"}},{"$f":"OFFSET(N_W_1_1!$L$5,AE121,3)","v":{"$error":"#VALUE!"}},{"$error":"#VALUE!"},{"$error":"#VALUE!"},{"$error":"#VALUE!"},{"$error":"#VALUE!"},{"$error":"#VALUE!"},{"$error":"#VALUE!"},{"$error":"#VALUE!"},{"$f":"IFERROR(OFFSET(N_W_1_1!$L$5,AE121,0),\"\")","v":""},{"$error":"#VALUE!"},{"$f":"IFERROR(OFFSET(N_W_1_1!$P$5,AE121,2),0)","v":0},{"$f":"IFERROR(IF(S121>5,OFFSET(N_W_1_1!$P$5,AE121,4),OFFSET(N_W_1_1!$P$5,AE121,3)),0)","v":0}]
[null,null,null,null,null,null,null,null,null,null,null,0,null,null,0,"-",{"$f":"IFERROR(OFFSET(N_W_1_1!$P$5,AE122,0),\"-\")","v":"-"},"-","-",null,null,null,null,null,null,null,null,null,{"$f":"IFERROR(MATCH(D122,Nr_stad!$U$8:$U$60,0),0)","v":0},0,{"$f":"IF(D122=\"\",\"-\",MATCH(D122,N_W_1_1!$K$6:$K$11,0))","v":"-"},{"$f":"OFFSET(N_W_1_1!$L$5,AE122,1)","v":{"$error":"#VALUE!"}},{"$f":"OFFSET(N_W_1_1!$L$5,AE122,2)","v":{"$error":"#VALUE!"}},{"$f":"OFFSET(N_W_1_1!$L$5,AE122,3)","v":{"$error":"#VALUE!"}},{"$error":"#VALUE!"},{"$error":"#VALUE!"},{"$error":"#VALUE!"},{"$error":"#VALUE!"},{"$error":"#VALUE!"},{"$error":"#VALUE!"},{"$error":"#VALUE!"},{"$f":"IFERROR(OFFSET(N_W_1_1!$L$5,AE122,0),\"\")","v":""},{"$error":"#VALUE!"},{"$f":"IFERROR(OFFSET(N_W_1_1!$P$5,AE122,2),0)","v":0},{"$f":"IFERROR(IF(S122>5,OFFSET(N_W_1_1!$P$5,AE122,4),OFFSET(N_W_1_1!$P$5,AE122,3)),0)","v":0}]
[null,null,null,"SUMA POWIERZCHNI BYTOWEJ KOJCÓW:",null,null,null,null,null,null,null,{"$f":"SUM(L22:L122)","v":0},"SUMA LICZBY LOCH I LOSZEK:",null,null,null,null,null,{"$f":"SUM(S22:S122)","v":0}]
[null,null,null,null,null,null,null,null,null,null,null,null,"SUMA LICZBY LOCH:",null,null,null,null,null,{"$f":"SUMIF(AP22:AP122,AP21,S22:S122)","v":0}]

{"sheet":"Lochy(w)","index":4,"n_rows":4,"n_cols":17,"rows_kept":4,"cut":false,"hidden":true,"merged":[]}
[null,null,null,null,null,null,null,null,null,null,null,null,null,null,null,null,"POWRÓT"]
[]
[null,null,null,"Pakiet 1.","Dobrostan świń:"]
[null,null,null,null,"wariant 1.4.","Dobrostan tuczników - dostęp do wybiegu "]

{"sheet":"Tuczniki","index":5,"n_rows":131,"n_cols":34,"rows_kept":131,"cut":false,"hidden":false,"merged":[[15,3,15,8],[19,3,19,8],[23,7,24,7],[23,8,24,8],[10,3,10,5],[11,3,11,5],[10,7,10,10],[11,7,11,10],[10,12,10,14],[11,12,11,14],[22,8,22,9],[21,3,21,12],[22,10,22,12],[5,6,5,7],[14,4,14,9],[12,3,12,13],[13,4,13,10],[8,4,8,14],[17,3,17,7],[130,11,130,13],[94,3,94,6],[95,3,95,6],[107,3,107,6],[108,3,108,6],[109,3,109,6],[110,3,110,6],[111,3,111,6],[112,3,112,6],[113,3,113,6],[124,3,124,6],[126,7,126,13],[115,3,115,6],[116,3,116,6],[28,3,28,6],[121,3,121,6],[29,3,29,6],[30,3,30,6],[32,3,32,6],[25,3,25,6],[26,3,26,6],[27,3,27,6],[22,13,23,13],[23,3,24,6],[22,3,22,7],[64,3,64,6],[39,3,39,6],[40,3,40,6],[41,3,41,6],[42,3,42,6],[43,3,43,6],[33,3,33,6],[34,3,34,6],[36,3,36,6],[37,3,37,6],[38,3,38,6],[35,3,35,6],[49,3,49,6],[50,3,50,6],[51,3,51,6],[52,3,52,6],[122,3,122,6],[123,3,123,6],[114,3,114,6],[125,3,125,6],[96,3,96,6],[97,3,97,6],[98,3,98,6],[99,3,99,6],[100,3,100,6],[101,3,101,6],[102,3,102,6],[103,3,103,6],[104,3,104,6],[105,3,105,6],[106,3,106,6],[117,3,117,6],[118,3,118,6],[119,3,119,6],[120,3,120,6],[128,3,128,13],[59,3,59,6],[60,3,60,6],[61,3,61,6],[62,3,62,6],[63,3,63,6],[54,3,54,6],[55,3,55,6],[56,3,56,6],[57,3,57,6],[58,3,58,6],[89,3,89,6],[90,3,90,6],[91,3,91,6],[92,3,92,6],[93,3,93,6],[84,3,84,6],[85,3,85,6],[83,3,83,6],[74,3,74,6],[75,3,75,6],[76,3,76,6],[77,3,77,6],[78,3,78,6],[9,3,9,14],[86,3,86,6],[87,3,87,6],[88,3,88,6],[79,3,79,6],[80,3,80,6],[81,3,81,6],[53,3,53,6],[44,3,44,6],[45,3,45,6],[46,3,46,6],[47,3,47,6],[48,3,48,6],[69,3,69,6],[70,3,70,6],[71,3,71,6],[72,3,72,6],[73,3,73,6],[65,3,65,6],[66,3,66,6],[67,3,67,6],[68,3,68,6],[82,3,82,6],[31,3,31,6]]}
[null,null,"Uwaga !!! Po wydrukowaniu uzupełnić ręcznie Oświadczenie i czytelnie podpisać",null,null,null,null,null,null,null,null,null,null,null,"POWRÓT",null,null,null,null,null,null,null,null,null,null,null,null,null,null,null,null,null,null,"UWAGI"]
[]
[null,null,"II. Część szczegółowa  "]
[null,null,"II.1","Pakiet 1.","Dobrostan świń:"]
[null,null,"II.1.2.","wariant 1.2."," Dobrostan tuczników - zwiększona powierzchnia w budynkach"]
[null,null,"II.1.2.1.","Numer siedziby stada:"]
[]
[null,null,"II.1.2.1.","System produkcji  gospodarstwie "]
[null,null,null,{"$f":"IF(S9=TRUE,T9,U9)","v":"☐"},"Do planu poprawy dobrostanu zwierząt dołączono szkic obiektów ze wskazanymi kojcami, w których utrzymywane są warchlaki i tuczniki ze wskazaniem powierzchni, na których utrzymywane są zwierzęta kilku rolników",null,null,null,null,null,null,null,null,null,null,null,null,null,false,"☒","☐"]
[null,null,null,"Powierzchnia bytowa w budynkach inwentarskich dla grup technologicznych świń innych niż warchlaki i tuczniki – jest zgodna z odpowiednimi obowiązkowymi wymogami ustanowionymi zgodnie z tytułem VI rozdziału I rozporządzenia Parlamentu Europejskiego i Rady (UE) nr 1306/2013 z dnia 17 grudnia 2013 r. w sprawie finansowania wspólnej polityki rolnej, zarządzania nią i monitorowania jej oraz uchylającego rozporządzenia Rady (EWG) nr 352/78, (WE) nr 165/94, (WE) nr 2799/98, (WE) nr 814/2000, (WE) nr 1290/2005 i (WE) nr 485/2008 oraz innymi odpowiednimi obowiązkowymi wymogami wynikającymi z rozporządzenia Ministra Rolnictwa i Rozwoju Wsi z dnia 15 lutego 2010 r. w sprawie wymagań i sposobu postępowania przy utrzymywaniu gatunków zwierząt gospodarskich, dla których normy ochrony zostały określone w przepisach Unii Europejskiej. "]
[]
[null,null,null,"(miejscowość i data)",null,null,null,"(czytelny podpis rolnika)",null,null,null,null,"(czytelny podpis doradcy)"]
[null,null,null,"Tuczniki  kwalifikujące się do płatności pochodzą z gospodarstwa objętego/gospodarstw objętych wariantem 1.1.:",null,null,null,null,null,null,null,null,null,null,null,null,null,null,{"$f":"OR(S14,S15)","v":false}]
[null,null,null,{"$f":"IF(S14=TRUE,T14,U14)","v":"☐"},"z własnego gospodarstwa",null,null,null,null,null,null,null,null,null,null,null,null,null,false,"☒","☐"]
[null,null,null,{"$f":"IF(S15=TRUE,T15,U15)","v":"☐"},"z zewnątrz ",null,null,null,null,null,null,null,null,null,null,null,null,null,false,"☒","☐"]
[null,null,null,"Maksymalna masa warchlaka wynosi:",null,null,null,null,null,null,"kg/1 szt."]
[]
[null,null,null,"Minimalna masa sprzedanego tucznika  wynosi:",null,null,null,null,null,90,"kg/1 szt."]
[]
[null,null,null,"Minimalny okres tuczu tucznika wynosi:",null,null,null,null,null,null,"m-cy"]
[]
[null,null,"II.1.2.2.","Dopuszczalna maksymalna liczba warchlaków i tuczników, które mogą przebywać jednocześnie w gospodarstwie z uwzględnieniem wymogów wariantu"]
[null,null,null,"Obiekt",null,null,null,null,"Grupa technologiczna",null,"Powierzchnia bytowa kojca ",null,null,"Powierzchnia minimalna","Maksymalna liczba"]
[null,null,null,"Numer siedziby stada \nalbo Nazwa obiektu",null,null,null,"Nr kojca","Nazwa grupy","Maksymalna masa\nsztuki w kojcu","Dł.","Szer.","Pow.",null,"warchlaków/tuczników"]
[null,null,null,null,null,null,null,null,null,"kg","m","m","m2","m2/szt","szt",null,null,null,null,null,10,20,30,50,85,110,110,"wyb","licz. Min","sum tucz"]
[null,null,null,null,null,null,null,null,{"$f":"IF(S26>0,\"-\",(IF(AND(J26<=$J$16,J26>0),\"warchlaki\",IF(AND(J26>$J$16,$J$16>0),\"tuczniki\",\"\"))))","v":""},null,null,null,{"$f":"K26*L26","v":0},{"$f":"IF(S26>0,\"-\",OFFSET(N_W_1_2!$I$4,AB26,0))","v":0},{"$f":"IF(AC26>1,AC26,\"-\")","v":"-"},null,null,null,{"$f":"IFERROR(MATCH(D26,Nr_stad!$U$8:$U$60,0),0)","v":0},{"$f":"SUM(H26:O26)+S26","v":0},{"$f":"IF(AND($J26>1,$J26<=U$25),1,0)","v":0},{"$f":"IF($J26>U$25,2,0)","v":0},{"$f":"IF($J26>V$25,3,0)","v":0},{"$f":"IF($J26>W$25,4,0)","v":0},{"$f":"IF($J26>X$25,5,0)","v":0},{"$f":"IF($J26>Y$25,6,0)","v":0},{"$f":"IF($J26>Z$25,7,0)","v":0},{"$f":"MAX(U26:AA26)","v":0},{"$f":"IFERROR(TRUNC(M26/N26),\"-\")","v":"-"},{"$f":"IF(I26=\"tuczniki\",\"T\",\"\")","v":""}]
[null,null,null,null,null,null,null,null,{"$f":"IF(S27>0,\"-\",(IF(AND(J27<=$J$16,J27>0),\"warchlaki\",IF(AND(J27>$J$16,$J$16>0),\"tuczniki\",\"\"))))","v":""},null,null,null,0,{"$f":"IF(S27>0,\"-\",OFFSET(N_W_1_2!$I$4,AB27,0))","v":0},{"$f":"IF(AC27>1,AC27,\"-\")","v":"-"},null,null,null,{"$f":"IFERROR(MATCH(D27,Nr_stad!$U$8:$U$60,0),0)","v":0},{"$f":"SUM(H27:O27)+S27","v":0},{"$f":"IF(AND($J27>1,$J27<=U$25),1,0)","v":0},{"$f":"IF($J27>U$25,2,0)","v":0},{"$f":"IF($J27>V$25,3,0)","v":0},{"$f":"IF($J27>W$25,4,0)","v":0},{"$f":"IF($J27>X$25,5,0)","v":0},{"$f":"IF($J27>Y$25,6,0)","v":0},{"$f":"IF($J27>Z$25,7,0)","v":0},{"$f":"MAX(U27:AA27)","v":0},{"$f":"IFERROR(TRUNC(M27/N27),\"-\")","v":"-"},{"$f":"IF(I27=\"tuczniki\",\"T\",\"\")","v":""}]
[null,null,null,null,null,null,null,null,"",null,null,null,0,{"$f":"IF(S28>0,\"-\",OFFSET(N_W_1_2!$I$4,AB28,0))","v":0},"-",null,null,null,{"$f":"IFERROR(MATCH(D28,Nr_stad!$U$8:$U$60,0),0)","v":0},0,0,0,0,0,0,0,0,0,"-",""]
[null,null,null,null,null,null,null,null,"",null,null,null,0,{"$f":"IF(S29>0,\"-\",OFFSET(N_W_1_2!$I$4,AB29,0))","v":0},"-",null,null,null,{"$f":"IFERROR(MATCH(D29,Nr_stad!$U$8:$U$60,0),0)","v":0},0,0,0,0,0,0,0,0,0,"-",""]
[null,null,null,null,null,null,null,null,"",null,null,null,0,{"$f":"IF(S30>0,\"-\",OFFSET(N_W_1_2!$I$4,AB30,0))","v":0},"-",null,null,null,{"$f":"IFERROR(MATCH(D30,Nr_stad!$U$8:$U$60,0),0)","v":0},0,0,0,0,0,0,0,0,0,"-",""]
[null,null,null,null,null,null,null,null,"",null,null,null,0,{"$f":"IF(S31>0,\"-\",OFFSET(N_W_1_2!$I$4,AB31,0))","v":0},"-",null,null,null,{"$f":"IFERROR(MATCH(D31,Nr_stad!$U$8:$U$60,0),0)","v":0},0,0,0,0,0,0,0,0,0,"-",""]
[null,null,null,null,null,null,null,null,"",null,null,null,0,{"$f":"IF(S32>0,\"-\",OFFSET(N_W_1_2!$I$4,AB32,0))","v":0},"-",null,null,null,{"$f":"IFERROR(MATCH(D32,Nr_stad!$U$8:$U$60,0),0)","v":0},0,0,0,0,0,0,0,0,0,"-",""]
[null,null,null,null,null,null,null,null,"",null,null,null,0,{"$f":"IF(S33>0,\"-\",OFFSET(N_W_1_2!$I$4,AB33,0))","v":0},"-",null,null,null,{"$f":"IFERROR(MATCH(D33,Nr_stad!$U$8:$U$60,0),0)","v":0},0,0,0,0,0,0,0,0,0,"-",""]
[null,null,null,null,null,null,null,null,"",null,null,null,0,{"$f":"IF(S34>0,\"-\",OFFSET(N_W_1_2!$I$4,AB34,0))","v":0},"-",null,null,null,{"$f":"IFERROR(MATCH(D34,Nr_stad!$U$8:$U$60,0),0)","v":0},0,0,0,0,0,0,0,0,0,"-",""]
[null,null,null,null,null,null,null,null,"",null,null,null,0,{"$f":"IF(S35>0,\"-\",OFFSET(N_W_1_2!$I$4,AB35,0))","v":0},"-",null,null,null,{"$f":"IFERROR(MATCH(D35,Nr_stad!$U$8:$U$60,0),0)","v":0},0,0,0,0,0,0,0,0,0,"-",""]
[null,null,null,null,null,null,null,null,"",null,null,null,0,{"$f":"IF(S36>0,\"-\",OFFSET(N_W_1_2!$I$4,AB36,0))","v":0},"-",null,null,null,{"$f":"IFERROR(MATCH(D36,Nr_stad!$U$8:$U$60,0),0)","v":0},0,0,0,0,0,0,0,0,0,"-",""]
[null,null,null,null,null,null,null,null,"",null,null,null,0,{"$f":"IF(S37>0,\"-\",OFFSET(N_W_1_2!$I$4,AB37,0))","v":0},"-",null,null,null,{"$f":"IFERROR(MATCH(D37,Nr_stad!$U$8:$U$60,0),0)","v":0},0,0,0,0,0,0,0,0,0,"-",""]
[null,null,null,null,null,null,null,null,"",null,null,null,0,{"$f":"IF(S38>0,\"-\",OFFSET(N_W_1_2!$I$4,AB38,0))","v":0},"-",null,null,null,{"$f":"IFERROR(MATCH(D38,Nr_stad!$U$8:$U$60,0),0)","v":0},0,0,0,0,0,0,0,0,0,"-",""]
[null,null,null,null,null,null,null,null,"",null,null,null,0,{"$f":"IF(S39>0,\"-\",OFFSET(N_W_1_2!$I$4,AB39,0))","v":0},"-",null,null,null,{"$f":"IFERROR(MATCH(D39,Nr_stad!$U$8:$U$60,0),0)","v":0},0,0,0,0,0,0,0,0,0,"-",""]
[null,null,null,null,null,null,null,null,"",null,null,null,0,{"$f":"IF(S40>0,\"-\",OFFSET(N_W_1_2!$I$4,AB40,0))","v":0},"-",null,null,null,{"$f":"IFERROR(MATCH(D40,Nr_stad!$U$8:$U$60,0),0)","v":0},0,0,0,0,0,0,0,0,0,"-",""]
[null,null,null,null,null,null,null,null,"",null,null,null,0,{"$f":"IF(S41>0,\"-\",OFFSET(N_W_1_2!$I$4,AB41,0))","v":0},"-",null,null,null,{"$f":"IFERROR(MATCH(D41,Nr_stad!$U$8:$U$60,0),0)","v":0},0,0,0,0,0,0,0,0,0,"-",""]
[null,null,null,null,null,null,null,null,"",null,null,null,0,{"$f":"IF(S42>0,\"-\",OFFSET(N_W_1_2!$I$4,AB42,0))","v":0},"-",null,null,null,{"$f":"IFERROR(MATCH(D42,Nr_stad!$U$8:$U$60,0),0)","v":0},0,0,0,0,0,0,0,0,0,"-",""]
[null,null,null,null,null,null,null,null,"",null,null,null,0,{"$f":"IF(S43>0,\"-\",OFFSET(N_W_1_2!$I$4,AB43,0))","v":0},"-",null,null,null,{"$f":"IFERROR(MATCH(D43,Nr_stad!$U$8:$U$60,0),0)","v":0},0,0,0,0,0,0,0,0,0,"-",""]
[null,null,null,null,null,null,null,null,"",null,null,null,0,{"$f":"IF(S44>0,\"-\",OFFSET(N_W_1_2!$I$4,AB44,0))","v":0},"-",null,null,null,{"$f":"IFERROR(MATCH(D44,Nr_stad!$U$8:$U$60,0),0)","v":0},0,0,0,0,0,0,0,0,0,"-",""]
[null,null,null,null,null,null,null,null,"",null,null,null,0,{"$f":"IF(S45>0,\"-\",OFFSET(N_W_1_2!$I$4,AB45,0))","v":0},"-",null,null,null,{"$f":"IFERROR(MATCH(D45,Nr_stad!$U$8:$U$60,0),0)","v":0},0,0,0,0,0,0,0,0,0,"-",""]
[null,null,null,null,null,null,null,null,"",null,null,null,0,{"$f":"IF(S46>0,\"-\",OFFSET(N_W_1_2!$I$4,AB46,0))","v":0},"-",null,null,null,{"$f":"IFERROR(MATCH(D46,Nr_stad!$U$8:$U$60,0),0)","v":0},0,0,0,0,0,0,0,0,0,"-",""]
[null,null,null,null,null,null,null,null,"",null,null,null,0,{"$f":"IF(S47>0,\"-\",OFFSET(N_W_1_2!$I$4,AB47,0))","v":0},"-",null,null,null,{"$f":"IFERROR(MATCH(D47,Nr_stad!$U$8:$U$60,0),0)","v":0},0,0,0,0,0,0,0,0,0,"-",""]
[null,null,null,null,null,null,null,null,"",null,null,null,0,{"$f":"IF(S48>0,\"-\",OFFSET(N_W_1_2!$I$4,AB48,0))","v":0},"-",null,null,null,{"$f":"IFERROR(MATCH(D48,Nr_stad!$U$8:$U$60,0),0)","v":0},0,0,0,0,0,0,0,0,0,"-",""]
[null,null,null,null,null,null,null,null,"",null,null,null,0,{"$f":"IF(S49>0,\"-\",OFFSET(N_W_1_2!$I$4,AB49,0))","v":0},"-",null,null,null,{"$f":"IFERROR(MATCH(D49,Nr_stad!$U$8:$U$60,0),0)","v":0},0,0,0,0,0,0,0,0,0,"-",""]
[null,null,null,null,null,null,null,null,"",null,null,null,0,{"$f":"IF(S50>0,\"-\",OFFSET(N_W_1_2!$I$4,AB50,0))","v":0},"-",null,null,null,{"$f":"IFERROR(MATCH(D50,Nr_stad!$U$8:$U$60,0),0)","v":0},0,0,0,0,0,0,0,0,0,"-",""]
[null,null,null,null,null,null,null,null,"",null,null,null,0,{"$f":"IF(S51>0,\"-\",OFFSET(N_W_1_2!$I$4,AB51,0))","v":0},"-",null,null,null,{"$f":"IFERROR(MATCH(D51,Nr_stad!$U$8:$U$60,0),0)","v":0},0,0,0,0,0,0,0,0,0,"-",""]
[null,null,null,null,null,null,null,null,"",null,null,null,0,{"$f":"IF(S52>0,\"-\",OFFSET(N_W_1_2!$I$4,AB52,0))","v":0},"-",null,null,null,{"$f":"IFERROR(MATCH(D52,Nr_stad!$U$8:$U$60,0),0)","v":0},0,0,0,0,0,0,0,0,0,"-",""]
[null,null,null,null,null,null,null,null,"",null,null,null,0,{"$f":"IF(S53>0,\"-\",OFFSET(N_W_1_2!$I$4,AB53,0))","v":0},"-",null,null,null,{"$f":"IFERROR(MATCH(D53,Nr_stad!$U$8:$U$60,0),0)","v":0},0,0,0,0,0,0,0,0,0,"-",""]
[null,null,null,null,null,null,null,null,"",null,null,null,0,{"$f":"IF(S54>0,\"-\",OFFSET(N_W_1_2!$I$4,AB54,0))","v":0},"-",null,null,null,{"$f":"IFERROR(MATCH(D54,Nr_stad!$U$8:$U$60,0),0)","v":0},0,0,0,0,0,0,0,0,0,"-",""]
[null,null,null,null,null,null,null,null,"",null,null,null,0,{"$f":"IF(S55>0,\"-\",OFFSET(N_W_1_2!$I$4,AB55,0))","v":0},"-",null,null,null,{"$f":"IFERROR(MATCH(D55,Nr_stad!$U$8:$U$60,0),0)","v":0},0,0,0,0,0,0,0,0,0,"-",""]
[null,null,null,null,null,null,null,null,"",null,null,null,0,{"$f":"IF(S56>0,\"-\",OFFSET(N_W_1_2!$I$4,AB56,0))","v":0},"-",null,null,null,{"$f":"IFERROR(MATCH(D56,Nr_stad!$U$8:$U$60,0),0)","v":0},0,0,0,0,0,0,0,0,0,"-",""]
[null,null,null,null,null,null,null,null,"",null,null,null,0,{"$f":"IF(S57>0,\"-\",OFFSET(N_W_1_2!$I$4,AB57,0))","v":0},"-",null,null,null,{"$f":"IFERROR(MATCH(D57,Nr_stad!$U$8:$U$60,0),0)","v":0},0,0,0,0,0,0,0,0,0,"-",""]
[null,null,null,null,null,null,null,null,"",null,null,null,0,{"$f":"IF(S58>0,\"-\",OFFSET(N_W_1_2!$I$4,AB58,0))","v":0},"-",null,null,null,{"$f":"IFERROR(MATCH(D58,Nr_stad!$U$8:$U$60,0),0)","v":0},0,0,0,0,0,0,0,0,0,"-",""]
[null,null,null,null,null,null,null,null,"",null,null,null,0,{"$f":"IF(S59>0,\"-\",OFFSET(N_W_1_2!$I$4,AB59,0))","v":0},"-",null,null,null,{"$f":"IFERROR(MATCH(D59,Nr_stad!$U$8:$U$60,0),0)","v":0},0,0,0,0,0,0,0,0,0,"-",""]
[null,null,null,null,null,null,null,null,"",null,null,null,0,{"$f":"IF(S60>0,\"-\",OFFSET(N_W_1_2!$I$4,AB60,0))","v":0},"-",null,null,null,{"$f":"IFERROR(MATCH(D60,Nr_stad!$U$8:$U$60,0),0)","v":0},0,0,0,0,0,0,0,0,0,"-",""]
[null,null,null,null,null,null,null,null,"",null,null,null,0,{"$f":"IF(S61>0,\"-\",OFFSET(N_W_1_2!$I$4,AB61,0))","v":0},"-",null,null,null,{"$f":"IFERROR(MATCH(D61,Nr_stad!$U$8:$U$60,0),0)","v":0},0,0,0,0,0,0,0,0,0,"-",""]
[null,null,null,null,null,null,null,null,"",null,null,null,0,{"$f":"IF(S62>0,\"-\",OFFSET(N_W_1_2!$I$4,AB62,0))","v":0},"-",null,null,null,{"$f":"IFERROR(MATCH(D62,Nr_stad!$U$8:$U$60,0),0)","v":0},0,0,0,0,0,0,0,0,0,"-",""]
[null,null,null,null,null,null,null,null,"",null,null,null,0,{"$f":"IF(S63>0,\"-\",OFFSET(N_W_1_2!$I$4,AB63,0))","v":0},"-",null,null,null,{"$f":"IFERROR(MATCH(D63,Nr_stad!$U$8:$U$60,0),0)","v":0},0,0,0,0,0,0,0,0,0,"-",""]
[null,null,null,null,null,null,null,null,"",null,null,null,0,{"$f":"IF(S64>0,\"-\",OFFSET(N_W_1_2!$I$4,AB64,0))","v":0},"-",null,null,null,{"$f":"IFERROR(MATCH(D64,Nr_stad!$U$8:$U$60,0),0)","v":0},0,0,0,0,0,0,0,0,0,"-",""]
[null,null,null,null,null,null,null,null,"",null,null,null,0,{"$f":"IF(S65>0,\"-\",OFFSET(N_W_1_2!$I$4,AB65,0))","v":0},"-",null,null,null,{"$f":"IFERROR(MATCH(D65,Nr_stad!$U$8:$U$60,0),0)","v":0},0,0,0,0,0,0,0,0,0,"-",""]
[null,null,null,null,null,null,null,null,"",null,null,null,0,{"$f":"IF(S66>0,\"-\",OFFSET(N_W_1_2!$I$4,AB66,0))","v":0},"-",null,null,null,{"$f":"IFERROR(MATCH(D66,Nr_stad!$U$8:$U$60,0),0)","v":0},0,0,0,0,0,0,0,0,0,"-",""]
[null,null,null,null,null,null,null,null,"",null,null,null,0,{"$f":"IF(S67>0,\"-\",OFFSET(N_W_1_2!$I$4,AB67,0))","v":0},"-",null,null,null,{"$f":"IFERROR(MATCH(D67,Nr_stad!$U$8:$U$60,0),0)","v":0},0,0,0,0,0,0,0,0,0,"-",""]
[null,null,null,null,null,null,null,null,"",null,null,null,0,{"$f":"IF(S68>0,\"-\",OFFSET(N_W_1_2!$I$4,AB68,0))","v":0},"-",null,null,null,{"$f":"IFERROR(MATCH(D68,Nr_stad!$U$8:$U$60,0),0)","v":0},0,0,0,0,0,0,0,0,0,"-",""]
[null,null,null,null,null,null,null,null,"",null,null,null,0,{"$f":"IF(S69>0,\"-\",OFFSET(N_W_1_2!$I$4,AB69,0))","v":0},"-",null,null,null,{"$f":"IFERROR(MATCH(D69,Nr_stad!$U$8:$U$60,0),0)","v":0},0,0,0,0,0,0,0,0,0,"-",""]
[null,null,null,null,null,null,null,null,"",null,null,null,0,{"$f":"IF(S70>0,\"-\",OFFSET(N_W_1_2!$I$4,AB70,0))","v":0},"-",null,null,null,{"$f":"IFERROR(MATCH(D70,Nr_stad!$U$8:$U$60,0),0)","v":0},0,0,0,0,0,0,0,0,0,"-",""]
[null,null,null,null,null,null,null,null,"",null,null,null,0,{"$f":"IF(S71>0,\"-\",OFFSET(N_W_1_2!$I$4,AB71,0))","v":0},"-",null,null,null,{"$f":"IFERROR(MATCH(D71,Nr_stad!$U$8:$U$60,0),0)","v":0},0,0,0,0,0,0,0,0,0,"-",""]
[null,null,null,null,null,null,null,null,"",null,null,null,0,{"$f":"IF(S72>0,\"-\",OFFSET(N_W_1_2!$I$4,AB72,0))","v":0},"-",null,null,null,{"$f":"IFERROR(MATCH(D72,Nr_stad!$U$8:$U$60,0),0)","v":0},0,0,0,0,0,0,0,0,0,"-",""]
[null,null,null,null,null,null,null,null,"",null,null,null,0,{"$f":"IF(S73>0,\"-\",OFFSET(N_W_1_2!$I$4,AB73,0))","v":0},"-",null,null,null,{"$f":"IFERROR(MATCH(D73,Nr_stad!$U$8:$U$60,0),0)","v":0},0,0,0,0,0,0,0,0,0,"-",""]
[null,null,null,null,null,null,null,null,"",null,null,null,0,{"$f":"IF(S74>0,\"-\",OFFSET(N_W_1_2!$I$4,AB74,0))","v":0},"-",null,null,null,{"$f":"IFERROR(MATCH(D74,Nr_stad!$U$8:$U$60,0),0)","v":0},0,0,0,0,0,0,0,0,0,"-",""]
[null,null,null,null,null,null,null,null,"",null,null,null,0,{"$f":"IF(S75>0,\"-\",OFFSET(N_W_1_2!$I$4,AB75,0))","v":0},"-",null,null,null,{"$f":"IFERROR(MATCH(D75,Nr_stad!$U$8:$U$60,0),0)","v":0},0,0,0,0,0,0,0,0,0,"-",""]
[null,null,null,null,null,null,null,null,"",null,null,null,0,{"$f":"IF(S76>0,\"-\",OFFSET(N_W_1_2!$I$4,AB76,0))","v":0},"-",null,null,null,{"$f":"IFERROR(MATCH(D76,Nr_stad!$U$8:$U$60,0),0)","v":0},0,0,0,0,0,0,0,0,0,"-",""]
[null,null,null,null,null,null,null,null,"",null,null,null,0,{"$f":"IF(S77>0,\"-\",OFFSET(N_W_1_2!$I$4,AB77,0))","v":0},"-",null,null,null,{"$f":"IFERROR(MATCH(D77,Nr_stad!$U$8:$U$60,0),0)","v":0},0,0,0,0,0,0,0,0,0,"-",""]
[null,null,null,null,null,null,null,null,"",null,null,null,0,{"$f":"IF(S78>0,\"-\",OFFSET(N_W_1_2!$I$4,AB78,0))","v":0},"-",null,null,null,{"$f":"IFERROR(MATCH(D78,Nr_stad!$U$8:$U$60,0),0)","v":0},0,0,0,0,0,0,0,0,0,"-",""]
[null,null,null,null,null,null,null,null,"",null,null,null,0,{"$f":"IF(S79>0,\"-\",OFFSET(N_W_1_2!$I$4,AB79,0))","v":0},"-",null,null,null,{"$f":"IFERROR(MATCH(D79,Nr_stad!$U$8:$U$60,0),0)","v":0},0,0,0,0,0,0,0,0,0,"-",""]
[null,null,null,null,null,null,null,null,"",null,null,null,0,{"$f":"IF(S80>0,\"-\",OFFSET(N_W_1_2!$I$4,AB80,0))","v":0},"-",null,null,null,{"$f":"IFERROR(MATCH(D80,Nr_stad!$U$8:$U$60,0),0)","v":0},0,0,0,0,0,0,0,0,0,"-",""]
[null,null,null,null,null,null,null,null,"",null,null,null,0,{"$f":"IF(S81>0,\"-\",OFFSET(N_W_1_2!$I$4,AB81,0))","v":0},"-",null,null,null,{"$f":"IFERROR(MATCH(D81,Nr_stad!$U$8:$U$60,0),0)","v":0},0,0,0,0,0,0,0,0,0,"-",""]
[null,null,null,null,null,null,null,null,"",null,null,null,0,{"$f":"IF(S82>0,\"-\",OFFSET(N_W_1_2!$I$4,AB82,0))","v":0},"-",null,null,null,{"$f":"IFERROR(MATCH(D82,Nr_stad!$U$8:$U$60,0),0)","v":0},0,0,0,0,0,0,0,0,0,"-",""]
[null,null,null,null,null,null,null,null,"",null,null,null,0,{"$f":"IF(S83>0,\"-\",OFFSET(N_W_1_2!$I$4,AB83,0))","v":0},"-",null,null,null,{"$f":"IFERROR(MATCH(D83,Nr_stad!$U$8:$U$60,0),0)","v":0},0,0,0,0,0,0,0,0,0,"-",""]
[null,null,null,null,null,null,null,null,"",null,null,null,0,{"$f":"IF(S84>0,\"-\",OFFSET(N_W_1_2!$I$4,AB84,0))","v":0},"-",null,null,null,{"$f":"IFERROR(MATCH(D84,Nr_stad!$U$8:$U$60,0),0)","v":0},0,0,0,0,0,0,0,0,0,"-",""]
[null,null,null,null,null,null,null,null,"",null,null,null,0,{"$f":"IF(S85>0,\"-\",OFFSET(N_W_1_2!$I$4,AB85,0))","v":0},"-",null,null,null,{"$f":"IFERROR(MATCH(D85,Nr_stad!$U$8:$U$60,0),0)","v":0},0,0,0,0,0,0,0,0,0,"-",""]
[null,null,null,null,null,null,null,null,"",null,null,null,0,{"$f":"IF(S86>0,\"-\",OFFSET(N_W_1_2!$I$4,AB86,0))","v":0},"-",null,null,null,{"$f":"IFERROR(MATCH(D86,Nr_stad!$U$8:$U$60,0),0)","v":0},0,0,0,0,0,0,0,0,0,"-",""]
[null,null,null,null,null,null,null,null,"",null,null,null,0,{"$f":"IF(S87>0,\"-\",OFFSET(N_W_1_2!$I$4,AB87,0))","v":0},"-",null,null,null,{"$f":"IFERROR(MATCH(D87,Nr_stad!$U$8:$U$60,0),0)","v":0},0,0,0,0,0,0,0,0,0,"-",""]
[null,null,null,null,null,null,null,null,"",null,null,null,0,{"$f":"IF(S88>0,\"-\",OFFSET(N_W_1_2!$I$4,AB88,0))","v":0},"-",null,null,null,{"$f":"IFERROR(MATCH(D88,Nr_stad!$U$8:$U$60,0),0)","v":0},0,0,0,0,0,0,0,0,0,"-",""]
[null,null,null,null,null,null,null,null,"",null,null,null,0,{"$f":"IF(S89>0,\"-\",OFFSET(N_W_1_2!$I$4,AB89,0))","v":0},"-",null,null,null,{"$f":"IFERROR(MATCH(D89,Nr_stad!$U$8:$U$60,0),0)","v":0},0,0,0,0,0,0,0,0,0,"-",""]
[null,null,null,null,null,null,null,null,"",null,null,null,{"$f":"K90*L90","v":0},{"$f":"IF(S90>0,\"-\",OFFSET(N_W_1_2!$I$4,AB90,0))","v":0},"-",null,null,null,{"$f":"IFERROR(MATCH(D90,Nr_stad!$U$8:$U$60,0),0)","v":0},0,0,0,0,0,0,0,0,0,"-",""]
[null,null,null,null,null,null,null,null,{"$f":"IF(S91>0,\"-\",(IF(AND(J91<=$J$16,J91>0),\"warchlaki\",IF(AND(J91>$J$16,$J$16>0),\"tuczniki\",\"\"))))","v":""},null,null,null,0,{"$f":"IF(S91>0,\"-\",OFFSET(N_W_1_2!$I$4,AB91,0))","v":0},{"$f":"IF(AC91>1,AC91,\"-\")","v":"-"},null,null,null,{"$f":"IFERROR(MATCH(D91,Nr_stad!$U$8:$U$60,0),0)","v":0},{"$f":"SUM(H91:O91)+S91","v":0},{"$f":"IF(AND($J91>1,$J91<=U$25),1,0)","v":0},{"$f":"IF($J91>U$25,2,0)","v":0},{"$f":"IF($J91>V$25,3,0)","v":0},{"$f":"IF($J91>W$25,4,0)","v":0},{"$f":"IF($J91>X$25,5,0)","v":0},{"$f":"IF($J91>Y$25,6,0)","v":0},{"$f":"IF($J91>Z$25,7,0)","v":0},{"$f":"MAX(U91:AA91)","v":0},{"$f":"IFERROR(TRUNC(M91/N91),\"-\")","v":"-"},{"$f":"IF(I91=\"tuczniki\",\"T\",\"\")","v":""}]
[null,null,null,null,null,null,null,null,"",null,null,null,0,{"$f":"IF(S92>0,\"-\",OFFSET(N_W_1_2!$I$4,AB92,0))","v":0},"-",null,null,null,{"$f":"IFERROR(MATCH(D92,Nr_stad!$U$8:$U$60,0),0)","v":0},0,0,0,0,0,0,0,0,0,"-",""]
[null,null,null,null,null,null,null,null,"",null,null,null,0,{"$f":"IF(S93>0,\"-\",OFFSET(N_W_1_2!$I$4,AB93,0))","v":0},"-",null,null,null,{"$f":"IFERROR(MATCH(D93,Nr_stad!$U$8:$U$60,0),0)","v":0},0,0,0,0,0,0,0,0,0,"-",""]
[null,null,null,null,null,null,null,null,"",null,null,null,0,{"$f":"IF(S94>0,\"-\",OFFSET(N_W_1_2!$I$4,AB94,0))","v":0},"-",null,null,null,{"$f":"IFERROR(MATCH(D94,Nr_stad!$U$8:$U$60,0),0)","v":0},0,0,0,0,0,0,0,0,0,"-",""]
[null,null,null,null,null,null,null,null,"",null,null,null,0,{"$f":"IF(S95>0,\"-\",OFFSET(N_W_1_2!$I$4,AB95,0))","v":0},"-",null,null,null,{"$f":"IFERROR(MATCH(D95,Nr_stad!$U$8:$U$60,0),0)","v":0},0,0,0,0,0,0,0,0,0,"-",""]
[null,null,null,null,null,null,null,null,"",null,null,null,0,{"$f":"IF(S96>0,\"-\",OFFSET(N_W_1_2!$I$4,AB96,0))","v":0},"-",null,null,null,{"$f":"IFERROR(MATCH(D96,Nr_stad!$U$8:$U$60,0),0)","v":0},0,0,0,0,0,0,0,0,0,"-",""]
[null,null,null,null,null,null,null,null,"",null,null,null,0,{"$f":"IF(S97>0,\"-\",OFFSET(N_W_1_2!$I$4,AB97,0))","v":0},"-",null,null,null,{"$f":"IFERROR(MATCH(D97,Nr_stad!$U$8:$U$60,0),0)","v":0},0,0,0,0,0,0,0,0,0,"-",""]
[null,null,null,null,null,null,null,null,"",null,null,null,0,{"$f":"IF(S98>0,\"-\",OFFSET(N_W_1_2!$I$4,AB98,0))","v":0},"-",null,null,null,{"$f":"IFERROR(MATCH(D98,Nr_stad!$U$8:$U$60,0),0)","v":0},0,0,0,0,0,0,0,0,0,"-",""]
[null,null,null,null,null,null,null,null,"",null,null,null,0,{"$f":"IF(S99>0,\"-\",OFFSET(N_W_1_2!$I$4,AB99,0))","v":0},"-",null,null,null,{"$f":"IFERROR(MATCH(D99,Nr_stad!$U$8:$U$60,0),0)","v":0},0,0,0,0,0,0,0,0,0,"-",""]
[null,null,null,null,null,null,null,null,"",null,null,null,0,{"$f":"IF(S100>0,\"-\",OFFSET(N_W_1_2!$I$4,AB100,0))","v":0},"-",null,null,null,{"$f":"IFERROR(MATCH(D100,Nr_stad!$U$8:$U$60,0),0)","v":0},0,0,0,0,0,0,0,0,0,"-",""]
[null,null,null,null,null,null,null,null,"",null,null,null,0,{"$f":"IF(S101>0,\"-\",OFFSET(N_W_1_2!$I$4,AB101,0))","v":0},"-",null,null,null,{"$f":"IFERROR(MATCH(D101,Nr_stad!$U$8:$U$60,0),0)","v":0},0,0,0,0,0,0,0,0,0,"-",""]
[null,null,null,null,null,null,null,null,"",null,null,null,0,{"$f":"IF(S102>0,\"-\",OFFSET(N_W_1_2!$I$4,AB102,0))","v":0},"-",null,null,null,{"$f":"IFERROR(MATCH(D102,Nr_stad!$U$8:$U$60,0),0)","v":0},0,0,0,0,0,0,0,0,0,"-",""]
[null,null,null,null,null,null,null,null,"",null,null,null,0,{"$f":"IF(S103>0,\"-\",OFFSET(N_W_1_2!$I$4,AB103,0))","v":0},"-",null,null,null,{"$f":"IFERROR(MATCH(D103,Nr_stad!$U$8:$U$60,0),0)","v":0},0,0,0,0,0,0,0,0,0,"-",""]
[null,null,null,null,null,null,null,null,"",null,null,null,0,{"$f":"IF(S104>0,\"-\",OFFSET(N_W_1_2!$I$4,AB104,0))","v":0},"-",null,null,null,{"$f":"IFERROR(MATCH(D104,Nr_stad!$U$8:$U$60,0),0)","v":0},0,0,0,0,0,0,0,0,0,"-",""]
[null,null,null,null,null,null,null,null,"",null,null,null,0,{"$f":"IF(S105>0,\"-\",OFFSET(N_W_1_2!$I$4,AB105,0))","v":0},"-",null,null,null,{"$f":"IFERROR(MATCH(D105,Nr_stad!$U$8:$U$60,0),0)","v":0},0,0,0,0,0,0,0,0,0,"-",""]
[null,null,null,null,null,null,null,null,"",null,null,null,0,{"$f":"IF(S106>0,\"-\",OFFSET(N_W_1_2!$I$4,AB106,0))","v":0},"-",null,null,null,{"$f":"IFERROR(MATCH(D106,Nr_stad!$U$8:$U$60,0),0)","v":0},0,0,0,0,0,0,0,0,0,"-",""]
[null,null,null,null,null,null,null,null,"",null,null,null,0,{"$f":"IF(S107>0,\"-\",OFFSET(N_W_1_2!$I$4,AB107,0))","v":0},"-",null,null,null,{"$f":"IFERROR(MATCH(D107,Nr_stad!$U$8:$U$60,0),0)","v":0},0,0,0,0,0,0,0,0,0,"-",""]
[null,null,null,null,null,null,null,null,"",null,null,null,0,{"$f":"IF(S108>0,\"-\",OFFSET(N_W_1_2!$I$4,AB108,0))","v":0},"-",null,null,null,{"$f":"IFERROR(MATCH(D108,Nr_stad!$U$8:$U$60,0),0)","v":0},0,0,0,0,0,0,0,0,0,"-",""]
[null,null,null,null,null,null,null,null,"",null,null,null,0,{"$f":"IF(S109>0,\"-\",OFFSET(N_W_1_2!$I$4,AB109,0))","v":0},"-",null,null,null,{"$f":"IFERROR(MATCH(D109,Nr_stad!$U$8:$U$60,0),0)","v":0},0,0,0,0,0,0,0,0,0,"-",""]
[null,null,null,null,null,null,null,null,"",null,null,null,0,{"$f":"IF(S110>0,\"-\",OFFSET(N_W_1_2!$I$4,AB110,0))","v":0},"-",null,null,null,{"$f":"IFERROR(MATCH(D110,Nr_stad!$U$8:$U$60,0),0)","v":0},0,0,0,0,0,0,0,0,0,"-",""]
[null,null,null,null,null,null,null,null,"",null,null,null,0,{"$f":"IF(S111>0,\"-\",OFFSET(N_W_1_2!$I$4,AB111,0))","v":0},"-",null,null,null,{"$f":"IFERROR(MATCH(D111,Nr_stad!$U$8:$U$60,0),0)","v":0},0,0,0,0,0,0,0,0,0,"-",""]
[null,null,null,null,null,null,null,null,"",null,null,null,0,{"$f":"IF(S112>0,\"-\",OFFSET(N_W_1_2!$I$4,AB112,0))","v":0},"-",null,null,null,{"$f":"IFERROR(MATCH(D112,Nr_stad!$U$8:$U$60,0),0)","v":0},0,0,0,0,0,0,0,0,0,"-",""]
[null,null,null,null,null,null,null,null,"",null,null,null,0,{"$f":"IF(S113>0,\"-\",OFFSET(N_W_1_2!$I$4,AB113,0))","v":0},"-",null,null,null,{"$f":"IFERROR(MATCH(D113,Nr_stad!$U$8:$U$60,0),0)","v":0},0,0,0,0,0,0,0,0,0,"-",""]
[null,null,null,null,null,null,null,null,"",null,null,null,0,{"$f":"IF(S114>0,\"-\",OFFSET(N_W_1_2!$I$4,AB114,0))","v":0},"-",null,null,null,{"$f":"IFERROR(MATCH(D114,Nr_stad!$U$8:$U$60,0),0)","v":0},0,0,0,0,0,0,0,0,0,"-",""]
[null,null,null,null,null,null,null,null,"",null,null,null,0,{"$f":"IF(S115>0,\"-\",OFFSET(N_W_1_2!$I$4,AB115,0))","v":0},"-",null,null,null,{"$f":"IFERROR(MATCH(D115,Nr_stad!$U$8:$U$60,0),0)","v":0},0,0,0,0,0,0,0,0,0,"-",""]
[null,null,null,null,null,null,null,null,"",null,null,null,0,{"$f":"IF(S116>0,\"-\",OFFSET(N_W_1_2!$I$4,AB116,0))","v":0},"-",null,null,null,{"$f":"IFERROR(MATCH(D116,Nr_stad!$U$8:$U$60,0),0)","v":0},0,0,0,0,0,0,0,0,0,"-",""]
[null,null,null,null,null,null,null,null,"",null,null,null,0,{"$f":"IF(S117>0,\"-\",OFFSET(N_W_1_2!$I$4,AB117,0))","v":0},"-",null,null,null,{"$f":"IFERROR(MATCH(D117,Nr_stad!$U$8:$U$60,0),0)","v":0},0,0,0,0,0,0,0,0,0,"-",""]
[null,null,null,null,null,null,null,null,"",null,null,null,0,{"$f":"IF(S118>0,\"-\",OFFSET(N_W_1_2!$I$4,AB118,0))","v":0},"-",null,null,null,{"$f":"IFERROR(MATCH(D118,Nr_stad!$U$8:$U$60,0),0)","v":0},0,0,0,0,0,0,0,0,0,"-",""]
[null,null,null,null,null,null,null,null,"",null,null,null,0,{"$f":"IF(S119>0,\"-\",OFFSET(N_W_1_2!$I$4,AB119,0))","v":0},"-",null,null,null,{"$f":"IFERROR(MATCH(D119,Nr_stad!$U$8:$U$60,0),0)","v":0},0,0,0,0,0,0,0,0,0,"-",""]
[null,null,null,null,null,null,null,null,"",null,null,null,0,{"$f":"IF(S120>0,\"-\",OFFSET(N_W_1_2!$I$4,AB120,0))","v":0},"-",null,null,null,{"$f":"IFERROR(MATCH(D120,Nr_stad!$U$8:$U$60,0),0)","v":0},0,0,0,0,0,0,0,0,0,"-",""]
[null,null,null,null,null,null,null,null,"",null,null,null,0,{"$f":"IF(S121>0,\"-\",OFFSET(N_W_1_2!$I$4,AB121,0))","v":0},"-",null,null,null,{"$f":"IFERROR(MATCH(D121,Nr_stad!$U$8:$U$60,0),0)","v":0},0,0,0,0,0,0,0,0,0,"-",""]
[null,null,null,null,null,null,null,null,"",null,null,null,0,{"$f":"IF(S122>0,\"-\",OFFSET(N_W_1_2!$I$4,AB122,0))","v":0},{"$f":"IF(AC122>1,AC122,\"-\")","v":"-"},null,null,null,{"$f":"IFERROR(MATCH(D122,Nr_stad!$U$8:$U$60,0),0)","v":0},0,0,0,0,0,0,0,0,0,"-",""]
[null,null,null,null,null,null,null,null,{"$f":"IF(S123>0,\"-\",(IF(AND(J123<=$J$16,J123>0),\"warchlaki\",IF(AND(J123>$J$16,$J$16>0),\"tuczniki\",\"\"))))","v":""},null,null,null,{"$f":"K123*L123","v":0},{"$f":"OFFSET(N_W_1_2!$I$4,AB123,0)","v":0},{"$f":"IF(AC123>1,AC123,\"-\")","v":"-"},null,null,null,null,{"$f":"SUM(H123:O123)","v":0},{"$f":"IF(AND($H123>1,$H123<=U$25),1,0)","v":0},{"$f":"IF($H123>U$25,2,0)","v":0},{"$f":"IF($H123>V$25,3,0)","v":0},{"$f":"IF($H123>W$25,4,0)","v":0},{"$f":"IF($H123>X$25,5,0)","v":0},{"$f":"IF($H123>Y$25,6,0)","v":0},{"$f":"IF($H123>Z$25,7,0)","v":0},{"$f":"MAX(U123:AA123)","v":0},{"$f":"IFERROR(TRUNC(M123/N123),\"-\")","v":"-"},{"$f":"IF(D123=\"tuczniki\",\"T\",\"\")","v":""}]
[null,null,null,null,null,null,null,null,{"$f":"IF(S124>0,\"-\",(IF(AND(J124<=$J$16,J124>0),\"warchlaki\",IF(AND(J124>$J$16,$J$16>0),\"tuczniki\",\"\"))))","v":""},null,null,null,{"$f":"K124*L124","v":0},{"$f":"OFFSET(N_W_1_2!$I$4,AB124,0)","v":0},{"$f":"IF(AC124>1,AC124,\"-\")","v":"-"},null,null,null,null,{"$f":"SUM(H124:O124)","v":0},{"$f":"IF(AND($H124>1,$H124<=U$25),1,0)","v":0},{"$f":"IF($H124>U$25,2,0)","v":0},{"$f":"IF($H124>V$25,3,0)","v":0},{"$f":"IF($H124>W$25,4,0)","v":0},{"$f":"IF($H124>X$25,5,0)","v":0},{"$f":"IF($H124>Y$25,6,0)","v":0},{"$f":"IF($H124>Z$25,7,0)","v":0},{"$f":"MAX(U124:AA124)","v":0},{"$f":"IFERROR(TRUNC(M124/N124),\"-\")","v":"-"},{"$f":"IF(D124=\"tuczniki\",\"T\",\"\")","v":""}]
[null,null,null,null,null,null,null,null,{"$f":"IF(S125>0,\"-\",(IF(AND(J125<=$J$16,J125>0),\"warchlaki\",IF(AND(J125>$J$16,$J$16>0),\"tuczniki\",\"\"))))","v":""},null,null,null,{"$f":"K125*L125","v":0},{"$f":"OFFSET(N_W_1_2!$I$4,AB125,0)","v":0},{"$f":"IF(AC125>1,AC125,\"-\")","v":"-"},null,null,null,null,{"$f":"SUM(H125:O125)","v":0},{"$f":"IF(AND($H125>1,$H125<=U$25),1,0)","v":0},{"$f":"IF($H125>U$25,2,0)","v":0},{"$f":"IF($H125>V$25,3,0)","v":0},{"$f":"IF($H125>W$25,4,0)","v":0},{"$f":"IF($H125>X$25,5,0)","v":0},{"$f":"IF($H125>Y$25,6,0)","v":0},{"$f":"IF($H125>Z$25,7,0)","v":0},{"$f":"MAX(U125:AA125)","v":0},{"$f":"IFERROR(TRUNC(M125/N125),\"-\")","v":"-"},{"$f":"IF(D125=\"tuczniki\",\"T\",\"\")","v":""}]
[null,null,null,null,null,null,null,null,{"$f":"IF(S126>0,\"-\",(IF(AND(J126<=$J$16,J126>0),\"warchlaki\",IF(AND(J126>$J$16,$J$16>0),\"tuczniki\",\"\"))))","v":""},null,null,null,{"$f":"K126*L126","v":0},{"$f":"OFFSET(N_W_1_2!$I$4,AB126,0)","v":0},{"$f":"IF(AC126>1,AC126,\"-\")","v":"-"},null,null,null,null,{"$f":"SUM(H126:O126)","v":0},{"$f":"IF(AND($H126>1,$H126<=U$25),1,0)","v":0},{"$f":"IF($H126>U$25,2,0)","v":0},{"$f":"IF($H126>V$25,3,0)","v":0},{"$f":"IF($H126>W$25,4,0)","v":0},{"$f":"IF($H126>X$25,5,0)","v":0},{"$f":"IF($H126>Y$25,6,0)","v":0},{"$f":"IF($H126>Z$25,7,0)","v":0},{"$f":"MAX(U126:AA126)","v":0},{"$f":"IFERROR(TRUNC(M126/N126),\"-\")","v":"-"},{"$f":"IF(D126=\"tuczniki\",\"T\",\"\")","v":""}]
[null,null,null,null,null,null,null,"SUMA LICZBY WARCHLAKÓW I TUCZNIKÓW:",null,null,null,null,null,null,{"$f":"SUM(O26:O126)","v":0}]
[]
[null,null,null,"ROCZNA SZACOWANA LICZBA WYPRODUKOWANYCH TUCZNIKÓW:",null,null,null,null,null,null,null,null,null,null,{"$f":"IFERROR(SUMIF(AD26:AD125,\"T\",O26:O125)*(12/$J$20),\"\")","v":""}]
[]
[null,null,null,null,null,null,null,null,null,null,null,null,null,null,{"$f":"IFERROR(TRUNC(T95+T125),\"\")","v":0}]

{"sheet":"Tuczniki(w)","index":6,"n_rows":4,"n_cols":17,"rows_kept":4,"cut":false,"hidden":true,"merged":[]}
[null,null,null,null,null,null,null,null,null,null,null,null,null,null,null,null,"POWRÓT"]
[]
[null,null,null,"Pakiet 1.","Dobrostan świń:"]
[null,null,null,null,"wariant 1.2.","Dobrostan tuczników - zwiększona powierzchnia w budynkach.  "]

{"sheet":"Swinie_inne(P)","index":7,"n_rows":124,"n_cols":52,"rows_kept":124,"cut":false,"hidden":false,"merged":[[12,3,12,5],[12,7,12,10],[12,12,12,15],[13,3,13,5],[13,7,13,10],[13,12,13,15],[3,2,3,19],[6,3,6,4],[6,6,6,7],[6,9,6,12],[6,14,6,16],[10,4,10,17],[4,2,4,19],[5,2,5,19],[14,3,14,10],[14,13,14,18],[16,4,16,8],[18,3,20,6],[18,7,18,8],[18,9,18,11],[18,12,18,14],[18,15,18,16],[17,3,17,14],[15,4,15,14],[24,3,24,6],[25,3,25,6],[26,3,26,6],[27,3,27,6],[28,3,28,6],[29,3,29,6],[19,31,19,33],[19,34,19,36],[19,37,19,40],[21,3,21,6],[22,3,22,6],[23,3,23,6],[18,19,19,19],[36,3,36,6],[37,3,37,6],[38,3,38,6],[39,3,39,6],[40,3,40,6],[41,3,41,6],[30,3,30,6],[31,3,31,6],[32,3,32,6],[33,3,33,6],[34,3,34,6],[35,3,35,6],[48,3,48,6],[49,3,49,6],[50,3,50,6],[51,3,51,6],[52,3,52,6],[53,3,53,6],[42,3,42,6],[43,3,43,6],[44,3,44,6],[45,3,45,6],[46,3,46,6],[47,3,47,6],[60,3,60,6],[61,3,61,6],[62,3,62,6],[63,3,63,6],[64,3,64,6],[65,3,65,6],[54,3,54,6],[55,3,55,6],[56,3,56,6],[57,3,57,6],[58,3,58,6],[59,3,59,6],[72,3,72,6],[73,3,73,6],[74,3,74,6],[75,3,75,6],[76,3,76,6],[77,3,77,6],[66,3,66,6],[67,3,67,6],[68,3,68,6],[69,3,69,6],[70,3,70,6],[71,3,71,6],[84,3,84,6],[85,3,85,6],[86,3,86,6],[87,3,87,6],[88,3,88,6],[89,3,89,6],[78,3,78,6],[79,3,79,6],[80,3,80,6],[81,3,81,6],[82,3,82,6],[83,3,83,6],[96,3,96,6],[97,3,97,6],[98,3,98,6],[99,3,99,6],[100,3,100,6],[101,3,101,6],[90,3,90,6],[91,3,91,6],[92,3,92,6],[93,3,93,6],[94,3,94,6],[95,3,95,6],[108,3,108,6],[109,3,109,6],[110,3,110,6],[111,3,111,6],[112,3,112,6],[113,3,113,6],[102,3,102,6],[103,3,103,6],[104,3,104,6],[105,3,105,6],[106,3,106,6],[107,3,107,6],[120,3,120,6],[121,3,121,6],[122,3,122,10],[122,12,122,17],[123,12,123,17],[114,3,114,6],[115,3,115,6],[116,3,116,6],[117,3,117,6],[118,3,118,6],[119,3,119,6]]}
[null,null,null,null,null,null,null,null,null,null,null,null,null,null,null,null,null,null,"POWRÓT",null,null,null,null,null,null,null,null,null,null,null,null,null,null,null,null,null,null,null,null,null,null,null,null,null,null,null,null,null,null,null,null,"UWAGI"]
[]
[]
[null,null,"II. Część szczegółowa  "]
[null,null,"Inne grupy technologiczne świń nieobjęte podwyższonymi wymogami  odpowiedniego wariantu Pakietu 1. Dobrostan świń"]
[null,null,"ŚWINIE STADA PODSTAWOWEGO I REMONTOWE (HODOWLANE)"]
[null,null,"II.1.1.1.","Numer/y siedziby stada:",null,"PL",123456789001,null,"PL",null,null,null,null,"PL"]
[]
[null,null,"II.1.1.1.","System produkcji  gospodarstwie "]
[null,null,null,{"$f":"IF(AD10=TRUE,AE10,AF10)","v":"☒"},"Nieutrzymywanie loch  w systemie jarzmowym",null,null,null,null,null,null,null,null,null,"  ",null,null,null,null,null,null,null,null,null,null,null,null,null,null,true,"☒","☐"]
[null,null,null,{"$f":"IF(AD11=TRUE,AE11,AF11)","v":"☐"},"Do planu poprawy dobrostanu zwierząt dołączono szkic obiektów ze wskazanymi kojcami, w których utrzymywane są ŚWINIE STADA PODSTAWOWEGO nieobjęte podwyższonymi  wymogami odpowiedniego  wariantu Pakietu 1. Dobrostan świń",null,null,null,null,null,null,null,null,null,null,null,null,null,null,null,null,null,null,null,null,null,null,null,null,false,"☒","☐"]
[]
[]
[null,null,null,"(miejscowość i data)",null,null,null,"(czytelny podpis rolnika)",null,null,null,null,"(czytelny podpis doradcy)"]
[null,null,null,"Liczba loch i loszek po pokryciu na dzień sporządzenia planu poprawy dobrostanu zwierząt",null,null,null,null,null,null,null,null,null,{"$f":"IF(AND(AD17=1,L15>9),\"Pojedyńczo wolno utrzymywać tylko do 9 loch !\",\"\")","v":""},null,null,null,null,null,null,null,null,null,null,null,null,null,null,null,false,{"$f":"AND(AD17=1,L15>9)","v":false}]
[null,null,null,null,{"$f":"IF(AND(AE123>0,S124>9),\"Pojedyńczo wolno utrzymywać tylko do 9 loch !\",\"\")","v":""},null,null,null,null,null,null,null,null,null,null,null,null,null,null,null,null,null,null,null,null,null,null,null,null,"poj/grup"]
[null,null,null,{"$f":"IF(AD17=1,AE17,AF17)","v":"☒"},"pojedynczo lub pojedynczo i grupowo",null,null,null,null,null,{"$f":"IF(AD17=2,AE17,AF17)","v":"☐"},"grupowo",null,null,null,null,null,null,null,null,null,null,null,null,null,null,null,null,null,1,"☒","☐"]
[null,null,null,"Dopuszczalna maksymalna liczba świń stada podstawowego, które mogą przebywać jednocześnie w gospodarstwie z uwzględnieniem  obowiązkowych wymogów dotyczących wielkości powierzchni w budynkach inwentarskich, wynikających z prawa krajowego "]
[null,null,null,"Numer siedziby stada albo \nGrupa technologiczna",null,null,null,"Obiekt",null,"Powierzchnia bytowa kojca ",null,null,"w tym stałe podłoże ",null,null,"  Powierzchnia minimalna",null,"Powierzchnia maksymalna","Maksymalna liczba","Stan na dzień sporządzenia planu"]
[null,null,null,null,null,null,null,"Nazwa obiektu","Nr kojca","Dł.","Szer.","Pow.","Dł.","Szer.","Pow.","Bytowa ","Podł. stałe ","Otwory odpływowe","Świń",null,null,null,null,null,null,null,null,null,"Nr stad","grupy",null,"norma",null,null,"liczba",null,null,"warunek",null,null,null,"Suma loch","grup min","dl","szer"]
[null,null,null,null,null,null,null,null,null,"m","m","m2","m","m","m2","m2/szt","m2/szt","m2","szt","szt",null,null,null,null,null,null,null,null,null,null,"poz","I","II","II","I","II","II","I","II","II","wybr","L"]
[null,null,null,null,null,null,null,null,null,null,null,{"$f":"J22*K22","v":0},null,null,{"$f":"M22*N22","v":0},{"$f":"IFERROR(OFFSET(AE22,0,AO22),\"-\")","v":"-"},{"$f":"IFERROR(OFFSET(N_W_1_1_in!$P$5,AE22,0),\"-\")","v":"-"},{"$f":"IF(Q22=\"-\",\"-\",O22*0.15)","v":"-"},{"$f":"IFERROR(TRUNC(IF(L22/P22>=1,IF(OR(AE22=1,AE22=3,AE22=5,AE22=6),1,L22/P22),\"-\")*AQ22),\"-\")","v":"-"},null,null,null,null,null,null,null,null,null,{"$f":"IFERROR(MATCH(D22,Nr_stad!$U$8:$U$60,0),0)","v":0},{"$f":"SUM(I22:S22)+AC22","v":0},{"$f":"IF(D22=\"\",\"-\",MATCH(D22,N_W_1_1_in!$K$6:$K$15,0))","v":"-"},{"$f":"OFFSET(N_W_1_1_in!$L$5,AE22,1)","v":{"$error":"#VALUE!"}},{"$f":"OFFSET(N_W_1_1_in!$L$5,AE22,2)","v":{"$error":"#VALUE!"}},{"$f":"OFFSET(N_W_1_1_in!$L$5,AE22,3)","v":{"$error":"#VALUE!"}},{"$f":"TRUNC(L22/AF22)","v":{"$error":"#VALUE!"}},{"$f":"TRUNC(L22/AG22)","v":{"$error":"#VALUE!"}},{"$f":"TRUNC(L22/AH22)","v":{"$error":"#VALUE!"}},{"$f":"IF(AI22<6,1,0)","v":{"$error":"#VALUE!"}},{"$f":"IF(AND(AJ22>5,AJ22<40,AN22=0),2,0)","v":{"$error":"#VALUE!"}},{"$f":"IF(AK22>39,3,0)","v":{"$error":"#VALUE!"}},{"$f":"AL22+AM22+AN22","v":{"$error":"#VALUE!"}},{"$f":"IFERROR(OFFSET(N_W_1_1_in!$L$5,AE22,0),\"\")","v":""},{"$f":"IF(AND(OR(AE22=4,AE22=7,AE22=8,AE22=9),AI22<2),0,1)","v":{"$error":"#VALUE!"}},{"$f":"IFERROR(OFFSET(N_W_1_1_in!$P$5,AE22,2),0)","v":0},{"$f":"IFERROR(IF(S22>5,OFFSET(N_W_1_1_in!$P$5,AE22,4),OFFSET(N_W_1_1_in!$P$5,AE22,3)),0)","v":0}]
[null,null,null,null,null,null,null,null,null,null,null,{"$f":"J23*K23","v":0},null,null,{"$f":"M23*N23","v":0},{"$f":"IFERROR(OFFSET(AE23,0,AO23),\"-\")","v":"-"},{"$f":"IFERROR(OFFSET(N_W_1_1_in!$P$5,AE23,0),\"-\")","v":"-"},{"$f":"IF(Q23=\"-\",\"-\",O23*0.15)","v":"-"},{"$f":"IFERROR(TRUNC(IF(L23/P23>=1,IF(OR(AE23=1,AE23=3,AE23=5,AE23=6),1,L23/P23),\"-\")*AQ23),\"-\")","v":"-"},null,null,null,null,null,null,null,null,null,{"$f":"IFERROR(MATCH(D23,Nr_stad!$U$8:$U$60,0),0)","v":0},{"$f":"SUM(I23:S23)+AC23","v":0},{"$f":"IF(D23=\"\",\"-\",MATCH(D23,N_W_1_1_in!$K$6:$K$15,0))","v":"-"},{"$f":"OFFSET(N_W_1_1_in!$L$5,AE23,1)","v":{"$error":"#VALUE!"}},{"$f":"OFFSET(N_W_1_1_in!$L$5,AE23,2)","v":{"$error":"#VALUE!"}},{"$f":"OFFSET(N_W_1_1_in!$L$5,AE23,3)","v":{"$error":"#VALUE!"}},{"$f":"TRUNC(L23/AF23)","v":{"$error":"#VALUE!"}},{"$f":"TRUNC(L23/AG23)","v":{"$error":"#VALUE!"}},{"$f":"TRUNC(L23/AH23)","v":{"$error":"#VALUE!"}},{"$f":"IF(AI23<6,1,0)","v":{"$error":"#VALUE!"}},{"$f":"IF(AND(AJ23>5,AJ23<40,AN23=0),2,0)","v":{"$error":"#VALUE!"}},{"$f":"IF(AK23>39,3,0)","v":{"$error":"#VALUE!"}},{"$f":"AL23+AM23+AN23","v":{"$error":"#VALUE!"}},{"$f":"IFERROR(OFFSET(N_W_1_1_in!$L$5,AE23,0),\"\")","v":""},{"$f":"IF(AND(OR(AE23=4,AE23=7,AE23=8,AE23=9),AI23<2),0,1)","v":{"$error":"#VALUE!"}},{"$f":"IFERROR(OFFSET(N_W_1_1_in!$P$5,AE23,2),0)","v":0},{"$f":"IFERROR(IF(S23>5,OFFSET(N_W_1_1_in!$P$5,AE23,4),OFFSET(N_W_1_1_in!$P$5,AE23,3)),0)","v":0}]
[null,null,null,null,null,null,null,null,null,null,null,0,null,null,0,"-",{"$f":"IFERROR(OFFSET(N_W_1_1_in!$P$5,AE24,0),\"-\")","v":"-"},"-","-",null,null,null,null,null,null,null,null,null,{"$f":"IFERROR(MATCH(D24,Nr_stad!$U$8:$U$60,0),0)","v":0},0,{"$f":"IF(D24=\"\",\"-\",MATCH(D24,N_W_1_1_in!$K$6:$K$15,0))","v":"-"},{"$f":"OFFSET(N_W_1_1_in!$L$5,AE24,1)","v":{"$error":"#VALUE!"}},{"$f":"OFFSET(N_W_1_1_in!$L$5,AE24,2)","v":{"$error":"#VALUE!"}},{"$f":"OFFSET(N_W_1_1_in!$L$5,AE24,3)","v":{"$error":"#VALUE!"}},{"$error":"#VALUE!"},{"$error":"#VALUE!"},{"$error":"#VALUE!"},{"$error":"#VALUE!"},{"$error":"#VALUE!"},{"$error":"#VALUE!"},{"$error":"#VALUE!"},{"$f":"IFERROR(OFFSET(N_W_1_1_in!$L$5,AE24,0),\"\")","v":""},{"$error":"#VALUE!"},{"$f":"IFERROR(OFFSET(N_W_1_1_in!$P$5,AE24,2),0)","v":0},{"$f":"IFERROR(IF(S24>5,OFFSET(N_W_1_1_in!$P$5,AE24,4),OFFSET(N_W_1_1_in!$P$5,AE24,3)),0)","v":0}]
[null,null,null,null,null,null,null,null,null,null,null,0,null,null,0,"-",{"$f":"IFERROR(OFFSET(N_W_1_1_in!$P$5,AE25,0),\"-\")","v":"-"},"-","-",null,null,null,null,null,null,null,null,null,{"$f":"IFERROR(MATCH(D25,Nr_stad!$U$8:$U$60,0),0)","v":0},0,{"$f":"IF(D25=\"\",\"-\",MATCH(D25,N_W_1_1_in!$K$6:$K$15,0))","v":"-"},{"$f":"OFFSET(N_W_1_1_in!$L$5,AE25,1)","v":{"$error":"#VALUE!"}},{"$f":"OFFSET(N_W_1_1_in!$L$5,AE25,2)","v":{"$error":"#VALUE!"}},{"$f":"OFFSET(N_W_1_1_in!$L$5,AE25,3)","v":{"$error":"#VALUE!"}},{"$error":"#VALUE!"},{"$error":"#VALUE!"},{"$error":"#VALUE!"},{"$error":"#VALUE!"},{"$error":"#VALUE!"},{"$error":"#VALUE!"},{"$error":"#VALUE!"},{"$f":"IFERROR(OFFSET(N_W_1_1_in!$L$5,AE25,0),\"\")","v":""},{"$error":"#VALUE!"},{"$f":"IFERROR(OFFSET(N_W_1_1_in!$P$5,AE25,2),0)","v":0},{"$f":"IFERROR(IF(S25>5,OFFSET(N_W_1_1_in!$P$5,AE25,4),OFFSET(N_W_1_1_in!$P$5,AE25,3)),0)","v":0}]
[null,null,null,null,null,null,null,null,null,null,null,0,null,null,0,"-",{"$f":"IFERROR(OFFSET(N_W_1_1_in!$P$5,AE26,0),\"-\")","v":"-"},"-","-",null,null,null,null,null,null,null,null,null,{"$f":"IFERROR(MATCH(D26,Nr_stad!$U$8:$U$60,0),0)","v":0},0,{"$f":"IF(D26=\"\",\"-\",MATCH(D26,N_W_1_1_in!$K$6:$K$15,0))","v":"-"},{"$f":"OFFSET(N_W_1_1_in!$L$5,AE26,1)","v":{"$error":"#VALUE!"}},{"$f":"OFFSET(N_W_1_1_in!$L$5,AE26,2)","v":{"$error":"#VALUE!"}},{"$f":"OFFSET(N_W_1_1_in!$L$5,AE26,3)","v":{"$error":"#VALUE!"}},{"$error":"#VALUE!"},{"$error":"#VALUE!"},{"$error":"#VALUE!"},{"$error":"#VALUE!"},{"$error":"#VALUE!"},{"$error":"#VALUE!"},{"$error":"#VALUE!"},{"$f":"IFERROR(OFFSET(N_W_1_1_in!$L$5,AE26,0),\"\")","v":""},{"$error":"#VALUE!"},{"$f":"IFERROR(OFFSET(N_W_1_1_in!$P$5,AE26,2),0)","v":0},{"$f":"IFERROR(IF(S26>5,OFFSET(N_W_1_1_in!$P$5,AE26,4),OFFSET(N_W_1_1_in!$P$5,AE26,3)),0)","v":0}]
[null,null,null,null,null,null,null,null,null,null,null,0,null,null,0,"-",{"$f":"IFERROR(OFFSET(N_W_1_1_in!$P$5,AE27,0),\"-\")","v":"-"},"-","-",null,null,null,null,null,null,null,null,null,{"$f":"IFERROR(MATCH(D27,Nr_stad!$U$8:$U$60,0),0)","v":0},0,{"$f":"IF(D27=\"\",\"-\",MATCH(D27,N_W_1_1_in!$K$6:$K$15,0))","v":"-"},{"$f":"OFFSET(N_W_1_1_in!$L$5,AE27,1)","v":{"$error":"#VALUE!"}},{"$f":"OFFSET(N_W_1_1_in!$L$5,AE27,2)","v":{"$error":"#VALUE!"}},{"$f":"OFFSET(N_W_1_1_in!$L$5,AE27,3)","v":{"$error":"#VALUE!"}},{"$error":"#VALUE!"},{"$error":"#VALUE!"},{"$error":"#VALUE!"},{"$error":"#VALUE!"},{"$error":"#VALUE!"},{"$error":"#VALUE!"},{"$error":"#VALUE!"},{"$f":"IFERROR(OFFSET(N_W_1_1_in!$L$5,AE27,0),\"\")","v":""},{"$error":"#VALUE!"},{"$f":"IFERROR(OFFSET(N_W_1_1_in!$P$5,AE27,2),0)","v":0},{"$f":"IFERROR(IF(S27>5,OFFSET(N_W_1_1_in!$P$5,AE27,4),OFFSET(N_W_1_1_in!$P$5,AE27,3)),0)","v":0}]
[null,null,null,null,null,null,null,null,null,null,null,0,null,null,0,"-",{"$f":"IFERROR(OFFSET(N_W_1_1_in!$P$5,AE28,0),\"-\")","v":"-"},"-","-",null,null,null,null,null,null,null,null,null,{"$f":"IFERROR(MATCH(D28,Nr_stad!$U$8:$U$60,0),0)","v":0},0,{"$f":"IF(D28=\"\",\"-\",MATCH(D28,N_W_1_1_in!$K$6:$K$15,0))","v":"-"},{"$f":"OFFSET(N_W_1_1_in!$L$5,AE28,1)","v":{"$error":"#VALUE!"}},{"$f":"OFFSET(N_W_1_1_in!$L$5,AE28,2)","v":{"$error":"#VALUE!"}},{"$f":"OFFSET(N_W_1_1_in!$L$5,AE28,3)","v":{"$error":"#VALUE!"}},{"$error":"#VALUE!"},{"$error":"#VALUE!"},{"$error":"#VALUE!"},{"$error":"#VALUE!"},{"$error":"#VALUE!"},{"$error":"#VALUE!"},{"$error":"#VALUE!"},{"$f":"IFERROR(OFFSET(N_W_1_1_in!$L$5,AE28,0),\"\")","v":""},{"$error":"#VALUE!"},{"$f":"IFERROR(OFFSET(N_W_1_1_in!$P$5,AE28,2),0)","v":0},{"$f":"IFERROR(IF(S28>5,OFFSET(N_W_1_1_in!$P$5,AE28,4),OFFSET(N_W_1_1_in!$P$5,AE28,3)),0)","v":0}]
[null,null,null,null,null,null,null,null,null,null,null,0,null,null,0,"-",{"$f":"IFERROR(OFFSET(N_W_1_1_in!$P$5,AE29,0),\"-\")","v":"-"},"-","-",null,null,null,null,null,null,null,null,null,{"$f":"IFERROR(MATCH(D29,Nr_stad!$U$8:$U$60,0),0)","v":0},0,{"$f":"IF(D29=\"\",\"-\",MATCH(D29,N_W_1_1_in!$K$6:$K$15,0))","v":"-"},{"$f":"OFFSET(N_W_1_1_in!$L$5,AE29,1)","v":{"$error":"#VALUE!"}},{"$f":"OFFSET(N_W_1_1_in!$L$5,AE29,2)","v":{"$error":"#VALUE!"}},{"$f":"OFFSET(N_W_1_1_in!$L$5,AE29,3)","v":{"$error":"#VALUE!"}},{"$error":"#VALUE!"},{"$error":"#VALUE!"},{"$error":"#VALUE!"},{"$error":"#VALUE!"},{"$error":"#VALUE!"},{"$error":"#VALUE!"},{"$error":"#VALUE!"},{"$f":"IFERROR(OFFSET(N_W_1_1_in!$L$5,AE29,0),\"\")","v":""},{"$error":"#VALUE!"},{"$f":"IFERROR(OFFSET(N_W_1_1_in!$P$5,AE29,2),0)","v":0},{"$f":"IFERROR(IF(S29>5,OFFSET(N_W_1_1_in!$P$5,AE29,4),OFFSET(N_W_1_1_in!$P$5,AE29,3)),0)","v":0}]
[null,null,null,null,null,null,null,null,null,null,null,0,null,null,0,"-",{"$f":"IFERROR(OFFSET(N_W_1_1_in!$P$5,AE30,0),\"-\")","v":"-"},"-","-",null,null,null,null,null,null,null,null,null,{"$f":"IFERROR(MATCH(D30,Nr_stad!$U$8:$U$60,0),0)","v":0},0,{"$f":"IF(D30=\"\",\"-\",MATCH(D30,N_W_1_1_in!$K$6:$K$15,0))","v":"-"},{"$f":"OFFSET(N_W_1_1_in!$L$5,AE30,1)","v":{"$error":"#VALUE!"}},{"$f":"OFFSET(N_W_1_1_in!$L$5,AE30,2)","v":{"$error":"#VALUE!"}},{"$f":"OFFSET(N_W_1_1_in!$L$5,AE30,3)","v":{"$error":"#VALUE!"}},{"$error":"#VALUE!"},{"$error":"#VALUE!"},{"$error":"#VALUE!"},{"$error":"#VALUE!"},{"$error":"#VALUE!"},{"$error":"#VALUE!"},{"$error":"#VALUE!"},{"$f":"IFERROR(OFFSET(N_W_1_1_in!$L$5,AE30,0),\"\")","v":""},{"$error":"#VALUE!"},{"$f":"IFERROR(OFFSET(N_W_1_1_in!$P$5,AE30,2),0)","v":0},{"$f":"IFERROR(IF(S30>5,OFFSET(N_W_1_1_in!$P$5,AE30,4),OFFSET(N_W_1_1_in!$P$5,AE30,3)),0)","v":0}]
[null,null,null,null,null,null,null,null,null,null,null,0,null,null,0,"-",{"$f":"IFERROR(OFFSET(N_W_1_1_in!$P$5,AE31,0),\"-\")","v":"-"},"-","-",null,null,null,null,null,null,null,null,null,{"$f":"IFERROR(MATCH(D31,Nr_stad!$U$8:$U$60,0),0)","v":0},0,{"$f":"IF(D31=\"\",\"-\",MATCH(D31,N_W_1_1_in!$K$6:$K$15,0))","v":"-"},{"$f":"OFFSET(N_W_1_1_in!$L$5,AE31,1)","v":{"$error":"#VALUE!"}},{"$f":"OFFSET(N_W_1_1_in!$L$5,AE31,2)","v":{"$error":"#VALUE!"}},{"$f":"OFFSET(N_W_1_1_in!$L$5,AE31,3)","v":{"$error":"#VALUE!"}},{"$error":"#VALUE!"},{"$error":"#VALUE!"},{"$error":"#VALUE!"},{"$error":"#VALUE!"},{"$error":"#VALUE!"},{"$error":"#VALUE!"},{"$error":"#VALUE!"},{"$f":"IFERROR(OFFSET(N_W_1_1_in!$L$5,AE31,0),\"\")","v":""},{"$error":"#VALUE!"},{"$f":"IFERROR(OFFSET(N_W_1_1_in!$P$5,AE31,2),0)","v":0},{"$f":"IFERROR(IF(S31>5,OFFSET(N_W_1_1_in!$P$5,AE31,4),OFFSET(N_W_1_1_in!$P$5,AE31,3)),0)","v":0}]
[null,null,null,null,null,null,null,null,null,null,null,0,null,null,0,"-",{"$f":"IFERROR(OFFSET(N_W_1_1_in!$P$5,AE32,0),\"-\")","v":"-"},"-","-",null,null,null,null,null,null,null,null,null,{"$f":"IFERROR(MATCH(D32,Nr_stad!$U$8:$U$60,0),0)","v":0},0,{"$f":"IF(D32=\"\",\"-\",MATCH(D32,N_W_1_1_in!$K$6:$K$15,0))","v":"-"},{"$f":"OFFSET(N_W_1_1_in!$L$5,AE32,1)","v":{"$error":"#VALUE!"}},{"$f":"OFFSET(N_W_1_1_in!$L$5,AE32,2)","v":{"$error":"#VALUE!"}},{"$f":"OFFSET(N_W_1_1_in!$L$5,AE32,3)","v":{"$error":"#VALUE!"}},{"$error":"#VALUE!"},{"$error":"#VALUE!"},{"$error":"#VALUE!"},{"$error":"#VALUE!"},{"$error":"#VALUE!"},{"$error":"#VALUE!"},{"$error":"#VALUE!"},{"$f":"IFERROR(OFFSET(N_W_1_1_in!$L$5,AE32,0),\"\")","v":""},{"$error":"#VALUE!"},{"$f":"IFERROR(OFFSET(N_W_1_1_in!$P$5,AE32,2),0)","v":0},{"$f":"IFERROR(IF(S32>5,OFFSET(N_W_1_1_in!$P$5,AE32,4),OFFSET(N_W_1_1_in!$P$5,AE32,3)),0)","v":0}]
[null,null,null,null,null,null,null,null,null,null,null,0,null,null,0,"-",{"$f":"IFERROR(OFFSET(N_W_1_1_in!$P$5,AE33,0),\"-\")","v":"-"},"-","-",null,null,null,null,null,null,null,null,null,{"$f":"IFERROR(MATCH(D33,Nr_stad!$U$8:$U$60,0),0)","v":0},0,{"$f":"IF(D33=\"\",\"-\",MATCH(D33,N_W_1_1_in!$K$6:$K$15,0))","v":"-"},{"$f":"OFFSET(N_W_1_1_in!$L$5,AE33,1)","v":{"$error":"#VALUE!"}},{"$f":"OFFSET(N_W_1_1_in!$L$5,AE33,2)","v":{"$error":"#VALUE!"}},{"$f":"OFFSET(N_W_1_1_in!$L$5,AE33,3)","v":{"$error":"#VALUE!"}},{"$error":"#VALUE!"},{"$error":"#VALUE!"},{"$error":"#VALUE!"},{"$error":"#VALUE!"},{"$error":"#VALUE!"},{"$error":"#VALUE!"},{"$error":"#VALUE!"},{"$f":"IFERROR(OFFSET(N_W_1_1_in!$L$5,AE33,0),\"\")","v":""},{"$error":"#VALUE!"},{"$f":"IFERROR(OFFSET(N_W_1_1_in!$P$5,AE33,2),0)","v":0},{"$f":"IFERROR(IF(S33>5,OFFSET(N_W_1_1_in!$P$5,AE33,4),OFFSET(N_W_1_1_in!$P$5,AE33,3)),0)","v":0}]
[null,null,null,null,null,null,null,null,null,null,null,0,null,null,0,"-",{"$f":"IFERROR(OFFSET(N_W_1_1_in!$P$5,AE34,0),\"-\")","v":"-"},"-","-",null,null,null,null,null,null,null,null,null,{"$f":"IFERROR(MATCH(D34,Nr_stad!$U$8:$U$60,0),0)","v":0},0,{"$f":"IF(D34=\"\",\"-\",MATCH(D34,N_W_1_1_in!$K$6:$K$15,0))","v":"-"},{"$f":"OFFSET(N_W_1_1_in!$L$5,AE34,1)","v":{"$error":"#VALUE!"}},{"$f":"OFFSET(N_W_1_1_in!$L$5,AE34,2)","v":{"$error":"#VALUE!"}},{"$f":"OFFSET(N_W_1_1_in!$L$5,AE34,3)","v":{"$error":"#VALUE!"}},{"$error":"#VALUE!"},{"$error":"#VALUE!"},{"$error":"#VALUE!"},{"$error":"#VALUE!"},{"$error":"#VALUE!"},{"$error":"#VALUE!"},{"$error":"#VALUE!"},{"$f":"IFERROR(OFFSET(N_W_1_1_in!$L$5,AE34,0),\"\")","v":""},{"$error":"#VALUE!"},{"$f":"IFERROR(OFFSET(N_W_1_1_in!$P$5,AE34,2),0)","v":0},{"$f":"IFERROR(IF(S34>5,OFFSET(N_W_1_1_in!$P$5,AE34,4),OFFSET(N_W_1_1_in!$P$5,AE34,3)),0)","v":0}]
[null,null,null,null,null,null,null,null,null,null,null,0,null,null,0,"-",{"$f":"IFERROR(OFFSET(N_W_1_1_in!$P$5,AE35,0),\"-\")","v":"-"},"-","-",null,null,null,null,null,null,null,null,null,{"$f":"IFERROR(MATCH(D35,Nr_stad!$U$8:$U$60,0),0)","v":0},0,{"$f":"IF(D35=\"\",\"-\",MATCH(D35,N_W_1_1_in!$K$6:$K$15,0))","v":"-"},{"$f":"OFFSET(N_W_1_1_in!$L$5,AE35,1)","v":{"$error":"#VALUE!"}},{"$f":"OFFSET(N_W_1_1_in!$L$5,AE35,2)","v":{"$error":"#VALUE!"}},{"$f":"OFFSET(N_W_1_1_in!$L$5,AE35,3)","v":{"$error":"#VALUE!"}},{"$error":"#VALUE!"},{"$error":"#VALUE!"},{"$error":"#VALUE!"},{"$error":"#VALUE!"},{"$error":"#VALUE!"},{"$error":"#VALUE!"},{"$error":"#VALUE!"},{"$f":"IFERROR(OFFSET(N_W_1_1_in!$L$5,AE35,0),\"\")","v":""},{"$error":"#VALUE!"},{"$f":"IFERROR(OFFSET(N_W_1_1_in!$P$5,AE35,2),0)","v":0},{"$f":"IFERROR(IF(S35>5,OFFSET(N_W_1_1_in!$P$5,AE35,4),OFFSET(N_W_1_1_in!$P$5,AE35,3)),0)","v":0}]
[null,null,null,null,null,null,null,null,null,null,null,0,null,null,0,"-",{"$f":"IFERROR(OFFSET(N_W_1_1_in!$P$5,AE36,0),\"-\")","v":"-"},"-","-",null,null,null,null,null,null,null,null,null,{"$f":"IFERROR(MATCH(D36,Nr_stad!$U$8:$U$60,0),0)","v":0},0,{"$f":"IF(D36=\"\",\"-\",MATCH(D36,N_W_1_1_in!$K$6:$K$15,0))","v":"-"},{"$f":"OFFSET(N_W_1_1_in!$L$5,AE36,1)","v":{"$error":"#VALUE!"}},{"$f":"OFFSET(N_W_1_1_in!$L$5,AE36,2)","v":{"$error":"#VALUE!"}},{"$f":"OFFSET(N_W_1_1_in!$L$5,AE36,3)","v":{"$error":"#VALUE!"}},{"$error":"#VALUE!"},{"$error":"#VALUE!"},{"$error":"#VALUE!"},{"$error":"#VALUE!"},{"$error":"#VALUE!"},{"$error":"#VALUE!"},{"$error":"#VALUE!"},{"$f":"IFERROR(OFFSET(N_W_1_1_in!$L$5,AE36,0),\"\")","v":""},{"$error":"#VALUE!"},{"$f":"IFERROR(OFFSET(N_W_1_1_in!$P$5,AE36,2),0)","v":0},{"$f":"IFERROR(IF(S36>5,OFFSET(N_W_1_1_in!$P$5,AE36,4),OFFSET(N_W_1_1_in!$P$5,AE36,3)),0)","v":0}]
[null,null,null,null,null,null,null,null,null,null,null,0,null,null,0,"-",{"$f":"IFERROR(OFFSET(N_W_1_1_in!$P$5,AE37,0),\"-\")","v":"-"},"-","-",null,null,null,null,null,null,null,null,null,{"$f":"IFERROR(MATCH(D37,Nr_stad!$U$8:$U$60,0),0)","v":0},0,{"$f":"IF(D37=\"\",\"-\",MATCH(D37,N_W_1_1_in!$K$6:$K$15,0))","v":"-"},{"$f":"OFFSET(N_W_1_1_in!$L$5,AE37,1)","v":{"$error":"#VALUE!"}},{"$f":"OFFSET(N_W_1_1_in!$L$5,AE37,2)","v":{"$error":"#VALUE!"}},{"$f":"OFFSET(N_W_1_1_in!$L$5,AE37,3)","v":{"$error":"#VALUE!"}},{"$error":"#VALUE!"},{"$error":"#VALUE!"},{"$error":"#VALUE!"},{"$error":"#VALUE!"},{"$error":"#VALUE!"},{"$error":"#VALUE!"},{"$error":"#VALUE!"},{"$f":"IFERROR(OFFSET(N_W_1_1_in!$L$5,AE37,0),\"\")","v":""},{"$error":"#VALUE!"},{"$f":"IFERROR(OFFSET(N_W_1_1_in!$P$5,AE37,2),0)","v":0},{"$f":"IFERROR(IF(S37>5,OFFSET(N_W_1_1_in!$P$5,AE37,4),OFFSET(N_W_1_1_in!$P$5,AE37,3)),0)","v":0}]
[null,null,null,null,null,null,null,null,null,null,null,0,null,null,0,"-",{"$f":"IFERROR(OFFSET(N_W_1_1_in!$P$5,AE38,0),\"-\")","v":"-"},"-","-",null,null,null,null,null,null,null,null,null,{"$f":"IFERROR(MATCH(D38,Nr_stad!$U$8:$U$60,0),0)","v":0},0,{"$f":"IF(D38=\"\",\"-\",MATCH(D38,N_W_1_1_in!$K$6:$K$15,0))","v":"-"},{"$f":"OFFSET(N_W_1_1_in!$L$5,AE38,1)","v":{"$error":"#VALUE!"}},{"$f":"OFFSET(N_W_1_1_in!$L$5,AE38,2)","v":{"$error":"#VALUE!"}},{"$f":"OFFSET(N_W_1_1_in!$L$5,AE38,3)","v":{"$error":"#VALUE!"}},{"$error":"#VALUE!"},{"$error":"#VALUE!"},{"$error":"#VALUE!"},{"$error":"#VALUE!"},{"$error":"#VALUE!"},{"$error":"#VALUE!"},{"$error":"#VALUE!"},{"$f":"IFERROR(OFFSET(N_W_1_1_in!$L$5,AE38,0),\"\")","v":""},{"$error":"#VALUE!"},{"$f":"IFERROR(OFFSET(N_W_1_1_in!$P$5,AE38,2),0)","v":0},{"$f":"IFERROR(IF(S38>5,OFFSET(N_W_1_1_in!$P$5,AE38,4),OFFSET(N_W_1_1_in!$P$5,AE38,3)),0)","v":0}]
[null,null,null,null,null,null,null,null,null,null,null,0,null,null,0,"-",{"$f":"IFERROR(OFFSET(N_W_1_1_in!$P$5,AE39,0),\"-\")","v":"-"},"-","-",null,null,null,null,null,null,null,null,null,{"$f":"IFERROR(MATCH(D39,Nr_stad!$U$8:$U$60,0),0)","v":0},0,{"$f":"IF(D39=\"\",\"-\",MATCH(D39,N_W_1_1_in!$K$6:$K$15,0))","v":"-"},{"$f":"OFFSET(N_W_1_1_in!$L$5,AE39,1)","v":{"$error":"#VALUE!"}},{"$f":"OFFSET(N_W_1_1_in!$L$5,AE39,2)","v":{"$error":"#VALUE!"}},{"$f":"OFFSET(N_W_1_1_in!$L$5,AE39,3)","v":{"$error":"#VALUE!"}},{"$error":"#VALUE!"},{"$error":"#VALUE!"},{"$error":"#VALUE!"},{"$error":"#VALUE!"},{"$error":"#VALUE!"},{"$error":"#VALUE!"},{"$error":"#VALUE!"},{"$f":"IFERROR(OFFSET(N_W_1_1_in!$L$5,AE39,0),\"\")","v":""},{"$error":"#VALUE!"},{"$f":"IFERROR(OFFSET(N_W_1_1_in!$P$5,AE39,2),0)","v":0},{"$f":"IFERROR(IF(S39>5,OFFSET(N_W_1_1_in!$P$5,AE39,4),OFFSET(N_W_1_1_in!$P$5,AE39,3)),0)","v":0}]
[null,null,null,null,null,null,null,null,null,null,null,0,null,null,0,"-",{"$f":"IFERROR(OFFSET(N_W_1_1_in!$P$5,AE40,0),\"-\")","v":"-"},"-","-",null,null,null,null,null,null,null,null,null,{"$f":"IFERROR(MATCH(D40,Nr_stad!$U$8:$U$60,0),0)","v":0},0,{"$f":"IF(D40=\"\",\"-\",MATCH(D40,N_W_1_1_in!$K$6:$K$15,0))","v":"-"},{"$f":"OFFSET(N_W_1_1_in!$L$5,AE40,1)","v":{"$error":"#VALUE!"}},{"$f":"OFFSET(N_W_1_1_in!$L$5,AE40,2)","v":{"$error":"#VALUE!"}},{"$f":"OFFSET(N_W_1_1_in!$L$5,AE40,3)","v":{"$error":"#VALUE!"}},{"$error":"#VALUE!"},{"$error":"#VALUE!"},{"$error":"#VALUE!"},{"$error":"#VALUE!"},{"$error":"#VALUE!"},{"$error":"#VALUE!"},{"$error":"#VALUE!"},{"$f":"IFERROR(OFFSET(N_W_1_1_in!$L$5,AE40,0),\"\")","v":""},{"$error":"#VALUE!"},{"$f":"IFERROR(OFFSET(N_W_1_1_in!$P$5,AE40,2),0)","v":0},{"$f":"IFERROR(IF(S40>5,OFFSET(N_W_1_1_in!$P$5,AE40,4),OFFSET(N_W_1_1_in!$P$5,AE40,3)),0)","v":0}]
[null,null,null,null,null,null,null,null,null,null,null,0,null,null,0,"-",{"$f":"IFERROR(OFFSET(N_W_1_1_in!$P$5,AE41,0),\"-\")","v":"-"},"-","-",null,null,null,null,null,null,null,null,null,{"$f":"IFERROR(MATCH(D41,Nr_stad!$U$8:$U$60,0),0)","v":0},0,{"$f":"IF(D41=\"\",\"-\",MATCH(D41,N_W_1_1_in!$K$6:$K$15,0))","v":"-"},{"$f":"OFFSET(N_W_1_1_in!$L$5,AE41,1)","v":{"$error":"#VALUE!"}},{"$f":"OFFSET(N_W_1_1_in!$L$5,AE41,2)","v":{"$error":"#VALUE!"}},{"$f":"OFFSET(N_W_1_1_in!$L$5,AE41,3)","v":{"$error":"#VALUE!"}},{"$error":"#VALUE!"},{"$error":"#VALUE!"},{"$error":"#VALUE!"},{"$error":"#VALUE!"},{"$error":"#VALUE!"},{"$error":"#VALUE!"},{"$error":"#VALUE!"},{"$f":"IFERROR(OFFSET(N_W_1_1_in!$L$5,AE41,0),\"\")","v":""},{"$error":"#VALUE!"},{"$f":"IFERROR(OFFSET(N_W_1_1_in!$P$5,AE41,2),0)","v":0},{"$f":"IFERROR(IF(S41>5,OFFSET(N_W_1_1_in!$P$5,AE41,4),OFFSET(N_W_1_1_in!$P$5,AE41,3)),0)","v":0}]
[null,null,null,null,null,null,null,null,null,null,null,0,null,null,0,"-",{"$f":"IFERROR(OFFSET(N_W_1_1_in!$P$5,AE42,0),\"-\")","v":"-"},"-","-",null,null,null,null,null,null,null,null,null,{"$f":"IFERROR(MATCH(D42,Nr_stad!$U$8:$U$60,0),0)","v":0},0,{"$f":"IF(D42=\"\",\"-\",MATCH(D42,N_W_1_1_in!$K$6:$K$15,0))","v":"-"},{"$f":"OFFSET(N_W_1_1_in!$L$5,AE42,1)","v":{"$error":"#VALUE!"}},{"$f":"OFFSET(N_W_1_1_in!$L$5,AE42,2)","v":{"$error":"#VALUE!"}},{"$f":"OFFSET(N_W_1_1_in!$L$5,AE42,3)","v":{"$error":"#VALUE!"}},{"$error":"#VALUE!"},{"$error":"#VALUE!"},{"$error":"#VALUE!"},{"$error":"#VALUE!"},{"$error":"#VALUE!"},{"$error":"#VALUE!"},{"$error":"#VALUE!"},{"$f":"IFERROR(OFFSET(N_W_1_1_in!$L$5,AE42,0),\"\")","v":""},{"$error":"#VALUE!"},{"$f":"IFERROR(OFFSET(N_W_1_1_in!$P$5,AE42,2),0)","v":0},{"$f":"IFERROR(IF(S42>5,OFFSET(N_W_1_1_in!$P$5,AE42,4),OFFSET(N_W_1_1_in!$P$5,AE42,3)),0)","v":0}]
[null,null,null,null,null,null,null,null,null,null,null,0,null,null,0,"-",{"$f":"IFERROR(OFFSET(N_W_1_1_in!$P$5,AE43,0),\"-\")","v":"-"},"-","-",null,null,null,null,null,null,null,null,null,{"$f":"IFERROR(MATCH(D43,Nr_stad!$U$8:$U$60,0),0)","v":0},0,{"$f":"IF(D43=\"\",\"-\",MATCH(D43,N_W_1_1_in!$K$6:$K$15,0))","v":"-"},{"$f":"OFFSET(N_W_1_1_in!$L$5,AE43,1)","v":{"$error":"#VALUE!"}},{"$f":"OFFSET(N_W_1_1_in!$L$5,AE43,2)","v":{"$error":"#VALUE!"}},{"$f":"OFFSET(N_W_1_1_in!$L$5,AE43,3)","v":{"$error":"#VALUE!"}},{"$error":"#VALUE!"},{"$error":"#VALUE!"},{"$error":"#VALUE!"},{"$error":"#VALUE!"},{"$error":"#VALUE!"},{"$error":"#VALUE!"},{"$error":"#VALUE!"},{"$f":"IFERROR(OFFSET(N_W_1_1_in!$L$5,AE43,0),\"\")","v":""},{"$error":"#VALUE!"},{"$f":"IFERROR(OFFSET(N_W_1_1_in!$P$5,AE43,2),0)","v":0},{"$f":"IFERROR(IF(S43>5,OFFSET(N_W_1_1_in!$P$5,AE43,4),OFFSET(N_W_1_1_in!$P$5,AE43,3)),0)","v":0}]
[null,null,null,null,null,null,null,null,null,null,null,0,null,null,0,"-",{"$f":"IFERROR(OFFSET(N_W_1_1_in!$P$5,AE44,0),\"-\")","v":"-"},"-","-",null,null,null,null,null,null,null,null,null,{"$f":"IFERROR(MATCH(D44,Nr_stad!$U$8:$U$60,0),0)","v":0},0,{"$f":"IF(D44=\"\",\"-\",MATCH(D44,N_W_1_1_in!$K$6:$K$15,0))","v":"-"},{"$f":"OFFSET(N_W_1_1_in!$L$5,AE44,1)","v":{"$error":"#VALUE!"}},{"$f":"OFFSET(N_W_1_1_in!$L$5,AE44,2)","v":{"$error":"#VALUE!"}},{"$f":"OFFSET(N_W_1_1_in!$L$5,AE44,3)","v":{"$error":"#VALUE!"}},{"$error":"#VALUE!"},{"$error":"#VALUE!"},{"$error":"#VALUE!"},{"$error":"#VALUE!"},{"$error":"#VALUE!"},{"$error":"#VALUE!"},{"$error":"#VALUE!"},{"$f":"IFERROR(OFFSET(N_W_1_1_in!$L$5,AE44,0),\"\")","v":""},{"$error":"#VALUE!"},{"$f":"IFERROR(OFFSET(N_W_1_1_in!$P$5,AE44,2),0)","v":0},{"$f":"IFERROR(IF(S44>5,OFFSET(N_W_1_1_in!$P$5,AE44,4),OFFSET(N_W_1_1_in!$P$5,AE44,3)),0)","v":0}]
[null,null,null,null,null,null,null,null,null,null,null,0,null,null,0,"-",{"$f":"IFERROR(OFFSET(N_W_1_1_in!$P$5,AE45,0),\"-\")","v":"-"},"-","-",null,null,null,null,null,null,null,null,null,{"$f":"IFERROR(MATCH(D45,Nr_stad!$U$8:$U$60,0),0)","v":0},0,{"$f":"IF(D45=\"\",\"-\",MATCH(D45,N_W_1_1_in!$K$6:$K$15,0))","v":"-"},{"$f":"OFFSET(N_W_1_1_in!$L$5,AE45,1)","v":{"$error":"#VALUE!"}},{"$f":"OFFSET(N_W_1_1_in!$L$5,AE45,2)","v":{"$error":"#VALUE!"}},{"$f":"OFFSET(N_W_1_1_in!$L$5,AE45,3)","v":{"$error":"#VALUE!"}},{"$error":"#VALUE!"},{"$error":"#VALUE!"},{"$error":"#VALUE!"},{"$error":"#VALUE!"},{"$error":"#VALUE!"},{"$error":"#VALUE!"},{"$error":"#VALUE!"},{"$f":"IFERROR(OFFSET(N_W_1_1_in!$L$5,AE45,0),\"\")","v":""},{"$error":"#VALUE!"},{"$f":"IFERROR(OFFSET(N_W_1_1_in!$P$5,AE45,2),0)","v":0},{"$f":"IFERROR(IF(S45>5,OFFSET(N_W_1_1_in!$P$5,AE45,4),OFFSET(N_W_1_1_in!$P$5,AE45,3)),0)","v":0}]
[null,null,null,null,null,null,null,null,null,null,null,0,null,null,0,"-",{"$f":"IFERROR(OFFSET(N_W_1_1_in!$P$5,AE46,0),\"-\")","v":"-"},"-","-",null,null,null,null,null,null,null,null,null,{"$f":"IFERROR(MATCH(D46,Nr_stad!$U$8:$U$60,0),0)","v":0},0,{"$f":"IF(D46=\"\",\"-\",MATCH(D46,N_W_1_1_in!$K$6:$K$15,0))","v":"-"},{"$f":"OFFSET(N_W_1_1_in!$L$5,AE46,1)","v":{"$error":"#VALUE!"}},{"$f":"OFFSET(N_W_1_1_in!$L$5,AE46,2)","v":{"$error":"#VALUE!"}},{"$f":"OFFSET(N_W_1_1_in!$L$5,AE46,3)","v":{"$error":"#VALUE!"}},{"$error":"#VALUE!"},{"$error":"#VALUE!"},{"$error":"#VALUE!"},{"$error":"#VALUE!"},{"$error":"#VALUE!"},{"$error":"#VALUE!"},{"$error":"#VALUE!"},{"$f":"IFERROR(OFFSET(N_W_1_1_in!$L$5,AE46,0),\"\")","v":""},{"$error":"#VALUE!"},{"$f":"IFERROR(OFFSET(N_W_1_1_in!$P$5,AE46,2),0)","v":0},{"$f":"IFERROR(IF(S46>5,OFFSET(N_W_1_1_in!$P$5,AE46,4),OFFSET(N_W_1_1_in!$P$5,AE46,3)),0)","v":0}]
[null,null,null,null,null,null,null,null,null,null,null,0,null,null,0,"-",{"$f":"IFERROR(OFFSET(N_W_1_1_in!$P$5,AE47,0),\"-\")","v":"-"},"-","-",null,null,null,null,null,null,null,null,null,{"$f":"IFERROR(MATCH(D47,Nr_stad!$U$8:$U$60,0),0)","v":0},0,{"$f":"IF(D47=\"\",\"-\",MATCH(D47,N_W_1_1_in!$K$6:$K$15,0))","v":"-"},{"$f":"OFFSET(N_W_1_1_in!$L$5,AE47,1)","v":{"$error":"#VALUE!"}},{"$f":"OFFSET(N_W_1_1_in!$L$5,AE47,2)","v":{"$error":"#VALUE!"}},{"$f":"OFFSET(N_W_1_1_in!$L$5,AE47,3)","v":{"$error":"#VALUE!"}},{"$error":"#VALUE!"},{"$error":"#VALUE!"},{"$error":"#VALUE!"},{"$error":"#VALUE!"},{"$error":"#VALUE!"},{"$error":"#VALUE!"},{"$error":"#VALUE!"},{"$f":"IFERROR(OFFSET(N_W_1_1_in!$L$5,AE47,0),\"\")","v":""},{"$error":"#VALUE!"},{"$f":"IFERROR(OFFSET(N_W_1_1_in!$P$5,AE47,2),0)","v":0},{"$f":"IFERROR(IF(S47>5,OFFSET(N_W_1_1_in!$P$5,AE47,4),OFFSET(N_W_1_1_in!$P$5,AE47,3)),0)","v":0}]
[null,null,null,null,null,null,null,null,null,null,null,0,null,null,0,"-",{"$f":"IFERROR(OFFSET(N_W_1_1_in!$P$5,AE48,0),\"-\")","v":"-"},"-","-",null,null,null,null,null,null,null,null,null,{"$f":"IFERROR(MATCH(D48,Nr_stad!$U$8:$U$60,0),0)","v":0},0,{"$f":"IF(D48=\"\",\"-\",MATCH(D48,N_W_1_1_in!$K$6:$K$15,0))","v":"-"},{"$f":"OFFSET(N_W_1_1_in!$L$5,AE48,1)","v":{"$error":"#VALUE!"}},{"$f":"OFFSET(N_W_1_1_in!$L$5,AE48,2)","v":{"$error":"#VALUE!"}},{"$f":"OFFSET(N_W_1_1_in!$L$5,AE48,3)","v":{"$error":"#VALUE!"}},{"$error":"#VALUE!"},{"$error":"#VALUE!"},{"$error":"#VALUE!"},{"$error":"#VALUE!"},{"$error":"#VALUE!"},{"$error":"#VALUE!"},{"$error":"#VALUE!"},{"$f":"IFERROR(OFFSET(N_W_1_1_in!$L$5,AE48,0),\"\")","v":""},{"$error":"#VALUE!"},{"$f":"IFERROR(OFFSET(N_W_1_1_in!$P$5,AE48,2),0)","v":0},{"$f":"IFERROR(IF(S48>5,OFFSET(N_W_1_1_in!$P$5,AE48,4),OFFSET(N_W_1_1_in!$P$5,AE48,3)),0)","v":0}]
[null,null,null,null,null,null,null,null,null,null,null,0,null,null,0,"-",{"$f":"IFERROR(OFFSET(N_W_1_1_in!$P$5,AE49,0),\"-\")","v":"-"},"-","-",null,null,null,null,null,null,null,null,null,{"$f":"IFERROR(MATCH(D49,Nr_stad!$U$8:$U$60,0),0)","v":0},0,{"$f":"IF(D49=\"\",\"-\",MATCH(D49,N_W_1_1_in!$K$6:$K$15,0))","v":"-"},{"$f":"OFFSET(N_W_1_1_in!$L$5,AE49,1)","v":{"$error":"#VALUE!"}},{"$f":"OFFSET(N_W_1_1_in!$L$5,AE49,2)","v":{"$error":"#VALUE!"}},{"$f":"OFFSET(N_W_1_1_in!$L$5,AE49,3)","v":{"$error":"#VALUE!"}},{"$error":"#VALUE!"},{"$error":"#VALUE!"},{"$error":"#VALUE!"},{"$error":"#VALUE!"},{"$error":"#VALUE!"},{"$error":"#VALUE!"},{"$error":"#VALUE!"},{"$f":"IFERROR(OFFSET(N_W_1_1_in!$L$5,AE49,0),\"\")","v":""},{"$error":"#VALUE!"},{"$f":"IFERROR(OFFSET(N_W_1_1_in!$P$5,AE49,2),0)","v":0},{"$f":"IFERROR(IF(S49>5,OFFSET(N_W_1_1_in!$P$5,AE49,4),OFFSET(N_W_1_1_in!$P$5,AE49,3)),0)","v":0}]
[null,null,null,null,null,null,null,null,null,null,null,0,null,null,0,"-",{"$f":"IFERROR(OFFSET(N_W_1_1_in!$P$5,AE50,0),\"-\")","v":"-"},"-","-",null,null,null,null,null,null,null,null,null,{"$f":"IFERROR(MATCH(D50,Nr_stad!$U$8:$U$60,0),0)","v":0},0,{"$f":"IF(D50=\"\",\"-\",MATCH(D50,N_W_1_1_in!$K$6:$K$15,0))","v":"-"},{"$f":"OFFSET(N_W_1_1_in!$L$5,AE50,1)","v":{"$error":"#VALUE!"}},{"$f":"OFFSET(N_W_1_1_in!$L$5,AE50,2)","v":{"$error":"#VALUE!"}},{"$f":"OFFSET(N_W_1_1_in!$L$5,AE50,3)","v":{"$error":"#VALUE!"}},{"$error":"#VALUE!"},{"$error":"#VALUE!"},{"$error":"#VALUE!"},{"$error":"#VALUE!"},{"$error":"#VALUE!"},{"$error":"#VALUE!"},{"$error":"#VALUE!"},{"$f":"IFERROR(OFFSET(N_W_1_1_in!$L$5,AE50,0),\"\")","v":""},{"$error":"#VALUE!"},{"$f":"IFERROR(OFFSET(N_W_1_1_in!$P$5,AE50,2),0)","v":0},{"$f":"IFERROR(IF(S50>5,OFFSET(N_W_1_1_in!$P$5,AE50,4),OFFSET(N_W_1_1_in!$P$5,AE50,3)),0)","v":0}]
[null,null,null,null,null,null,null,null,null,null,null,0,null,null,0,"-",{"$f":"IFERROR(OFFSET(N_W_1_1_in!$P$5,AE51,0),\"-\")","v":"-"},"-","-",null,null,null,null,null,null,null,null,null,{"$f":"IFERROR(MATCH(D51,Nr_stad!$U$8:$U$60,0),0)","v":0},0,{"$f":"IF(D51=\"\",\"-\",MATCH(D51,N_W_1_1_in!$K$6:$K$15,0))","v":"-"},{"$f":"OFFSET(N_W_1_1_in!$L$5,AE51,1)","v":{"$error":"#VALUE!"}},{"$f":"OFFSET(N_W_1_1_in!$L$5,AE51,2)","v":{"$error":"#VALUE!"}},{"$f":"OFFSET(N_W_1_1_in!$L$5,AE51,3)","v":{"$error":"#VALUE!"}},{"$error":"#VALUE!"},{"$error":"#VALUE!"},{"$error":"#VALUE!"},{"$error":"#VALUE!"},{"$error":"#VALUE!"},{"$error":"#VALUE!"},{"$error":"#VALUE!"},{"$f":"IFERROR(OFFSET(N_W_1_1_in!$L$5,AE51,0),\"\")","v":""},{"$error":"#VALUE!"},{"$f":"IFERROR(OFFSET(N_W_1_1_in!$P$5,AE51,2),0)","v":0},{"$f":"IFERROR(IF(S51>5,OFFSET(N_W_1_1_in!$P$5,AE51,4),OFFSET(N_W_1_1_in!$P$5,AE51,3)),0)","v":0}]
[null,null,null,null,null,null,null,null,null,null,null,0,null,null,0,"-",{"$f":"IFERROR(OFFSET(N_W_1_1_in!$P$5,AE52,0),\"-\")","v":"-"},"-","-",null,null,null,null,null,null,null,null,null,{"$f":"IFERROR(MATCH(D52,Nr_stad!$U$8:$U$60,0),0)","v":0},0,{"$f":"IF(D52=\"\",\"-\",MATCH(D52,N_W_1_1_in!$K$6:$K$15,0))","v":"-"},{"$f":"OFFSET(N_W_1_1_in!$L$5,AE52,1)","v":{"$error":"#VALUE!"}},{"$f":"OFFSET(N_W_1_1_in!$L$5,AE52,2)","v":{"$error":"#VALUE!"}},{"$f":"OFFSET(N_W_1_1_in!$L$5,AE52,3)","v":{"$error":"#VALUE!"}},{"$error":"#VALUE!"},{"$error":"#VALUE!"},{"$error":"#VALUE!"},{"$error":"#VALUE!"},{"$error":"#VALUE!"},{"$error":"#VALUE!"},{"$error":"#VALUE!"},{"$f":"IFERROR(OFFSET(N_W_1_1_in!$L$5,AE52,0),\"\")","v":""},{"$error":"#VALUE!"},{"$f":"IFERROR(OFFSET(N_W_1_1_in!$P$5,AE52,2),0)","v":0},{"$f":"IFERROR(IF(S52>5,OFFSET(N_W_1_1_in!$P$5,AE52,4),OFFSET(N_W_1_1_in!$P$5,AE52,3)),0)","v":0}]
[null,null,null,null,null,null,null,null,null,null,null,0,null,null,0,"-",{"$f":"IFERROR(OFFSET(N_W_1_1_in!$P$5,AE53,0),\"-\")","v":"-"},"-","-",null,null,null,null,null,null,null,null,null,{"$f":"IFERROR(MATCH(D53,Nr_stad!$U$8:$U$60,0),0)","v":0},0,{"$f":"IF(D53=\"\",\"-\",MATCH(D53,N_W_1_1_in!$K$6:$K$15,0))","v":"-"},{"$f":"OFFSET(N_W_1_1_in!$L$5,AE53,1)","v":{"$error":"#VALUE!"}},{"$f":"OFFSET(N_W_1_1_in!$L$5,AE53,2)","v":{"$error":"#VALUE!"}},{"$f":"OFFSET(N_W_1_1_in!$L$5,AE53,3)","v":{"$error":"#VALUE!"}},{"$error":"#VALUE!"},{"$error":"#VALUE!"},{"$error":"#VALUE!"},{"$error":"#VALUE!"},{"$error":"#VALUE!"},{"$error":"#VALUE!"},{"$error":"#VALUE!"},{"$f":"IFERROR(OFFSET(N_W_1_1_in!$L$5,AE53,0),\"\")","v":""},{"$error":"#VALUE!"},{"$f":"IFERROR(OFFSET(N_W_1_1_in!$P$5,AE53,2),0)","v":0},{"$f":"IFERROR(IF(S53>5,OFFSET(N_W_1_1_in!$P$5,AE53,4),OFFSET(N_W_1_1_in!$P$5,AE53,3)),0)","v":0}]
[null,null,null,null,null,null,null,null,null,null,null,0,null,null,0,"-",{"$f":"IFERROR(OFFSET(N_W_1_1_in!$P$5,AE54,0),\"-\")","v":"-"},"-","-",null,null,null,null,null,null,null,null,null,{"$f":"IFERROR(MATCH(D54,Nr_stad!$U$8:$U$60,0),0)","v":0},0,{"$f":"IF(D54=\"\",\"-\",MATCH(D54,N_W_1_1_in!$K$6:$K$15,0))","v":"-"},{"$f":"OFFSET(N_W_1_1_in!$L$5,AE54,1)","v":{"$error":"#VALUE!"}},{"$f":"OFFSET(N_W_1_1_in!$L$5,AE54,2)","v":{"$error":"#VALUE!"}},{"$f":"OFFSET(N_W_1_1_in!$L$5,AE54,3)","v":{"$error":"#VALUE!"}},{"$error":"#VALUE!"},{"$error":"#VALUE!"},{"$error":"#VALUE!"},{"$error":"#VALUE!"},{"$error":"#VALUE!"},{"$error":"#VALUE!"},{"$error":"#VALUE!"},{"$f":"IFERROR(OFFSET(N_W_1_1_in!$L$5,AE54,0),\"\")","v":""},{"$error":"#VALUE!"},{"$f":"IFERROR(OFFSET(N_W_1_1_in!$P$5,AE54,2),0)","v":0},{"$f":"IFERROR(IF(S54>5,OFFSET(N_W_1_1_in!$P$5,AE54,4),OFFSET(N_W_1_1_in!$P$5,AE54,3)),0)","v":0}]
[null,null,null,null,null,null,null,null,null,null,null,0,null,null,0,"-",{"$f":"IFERROR(OFFSET(N_W_1_1_in!$P$5,AE55,0),\"-\")","v":"-"},"-","-",null,null,null,null,null,null,null,null,null,{"$f":"IFERROR(MATCH(D55,Nr_stad!$U$8:$U$60,0),0)","v":0},0,{"$f":"IF(D55=\"\",\"-\",MATCH(D55,N_W_1_1_in!$K$6:$K$15,0))","v":"-"},{"$f":"OFFSET(N_W_1_1_in!$L$5,AE55,1)","v":{"$error":"#VALUE!"}},{"$f":"OFFSET(N_W_1_1_in!$L$5,AE55,2)","v":{"$error":"#VALUE!"}},{"$f":"OFFSET(N_W_1_1_in!$L$5,AE55,3)","v":{"$error":"#VALUE!"}},{"$error":"#VALUE!"},{"$error":"#VALUE!"},{"$error":"#VALUE!"},{"$error":"#VALUE!"},{"$error":"#VALUE!"},{"$error":"#VALUE!"},{"$error":"#VALUE!"},{"$f":"IFERROR(OFFSET(N_W_1_1_in!$L$5,AE55,0),\"\")","v":""},{"$error":"#VALUE!"},{"$f":"IFERROR(OFFSET(N_W_1_1_in!$P$5,AE55,2),0)","v":0},{"$f":"IFERROR(IF(S55>5,OFFSET(N_W_1_1_in!$P$5,AE55,4),OFFSET(N_W_1_1_in!$P$5,AE55,3)),0)","v":0}]
[null,null,null,null,null,null,null,null,null,null,null,0,null,null,0,"-",{"$f":"IFERROR(OFFSET(N_W_1_1_in!$P$5,AE56,0),\"-\")","v":"-"},"-","-",null,null,null,null,null,null,null,null,null,{"$f":"IFERROR(MATCH(D56,Nr_stad!$U$8:$U$60,0),0)","v":0},0,{"$f":"IF(D56=\"\",\"-\",MATCH(D56,N_W_1_1_in!$K$6:$K$15,0))","v":"-"},{"$f":"OFFSET(N_W_1_1_in!$L$5,AE56,1)","v":{"$error":"#VALUE!"}},{"$f":"OFFSET(N_W_1_1_in!$L$5,AE56,2)","v":{"$error":"#VALUE!"}},{"$f":"OFFSET(N_W_1_1_in!$L$5,AE56,3)","v":{"$error":"#VALUE!"}},{"$error":"#VALUE!"},{"$error":"#VALUE!"},{"$error":"#VALUE!"},{"$error":"#VALUE!"},{"$error":"#VALUE!"},{"$error":"#VALUE!"},{"$error":"#VALUE!"},{"$f":"IFERROR(OFFSET(N_W_1_1_in!$L$5,AE56,0),\"\")","v":""},{"$error":"#VALUE!"},{"$f":"IFERROR(OFFSET(N_W_1_1_in!$P$5,AE56,2),0)","v":0},{"$f":"IFERROR(IF(S56>5,OFFSET(N_W_1_1_in!$P$5,AE56,4),OFFSET(N_W_1_1_in!$P$5,AE56,3)),0)","v":0}]
[null,null,null,null,null,null,null,null,null,null,null,0,null,null,0,"-",{"$f":"IFERROR(OFFSET(N_W_1_1_in!$P$5,AE57,0),\"-\")","v":"-"},"-","-",null,null,null,null,null,null,null,null,null,{"$f":"IFERROR(MATCH(D57,Nr_stad!$U$8:$U$60,0),0)","v":0},0,{"$f":"IF(D57=\"\",\"-\",MATCH(D57,N_W_1_1_in!$K$6:$K$15,0))","v":"-"},{"$f":"OFFSET(N_W_1_1_in!$L$5,AE57,1)","v":{"$error":"#VALUE!"}},{"$f":"OFFSET(N_W_1_1_in!$L$5,AE57,2)","v":{"$error":"#VALUE!"}},{"$f":"OFFSET(N_W_1_1_in!$L$5,AE57,3)","v":{"$error":"#VALUE!"}},{"$error":"#VALUE!"},{"$error":"#VALUE!"},{"$error":"#VALUE!"},{"$error":"#VALUE!"},{"$error":"#VALUE!"},{"$error":"#VALUE!"},{"$error":"#VALUE!"},{"$f":"IFERROR(OFFSET(N_W_1_1_in!$L$5,AE57,0),\"\")","v":""},{"$error":"#VALUE!"},{"$f":"IFERROR(OFFSET(N_W_1_1_in!$P$5,AE57,2),0)","v":0},{"$f":"IFERROR(IF(S57>5,OFFSET(N_W_1_1_in!$P$5,AE57,4),OFFSET(N_W_1_1_in!$P$5,AE57,3)),0)","v":0}]
[null,null,null,null,null,null,null,null,null,null,null,0,null,null,0,"-",{"$f":"IFERROR(OFFSET(N_W_1_1_in!$P$5,AE58,0),\"-\")","v":"-"},"-","-",null,null,null,null,null,null,null,null,null,{"$f":"IFERROR(MATCH(D58,Nr_stad!$U$8:$U$60,0),0)","v":0},0,{"$f":"IF(D58=\"\",\"-\",MATCH(D58,N_W_1_1_in!$K$6:$K$15,0))","v":"-"},{"$f":"OFFSET(N_W_1_1_in!$L$5,AE58,1)","v":{"$error":"#VALUE!"}},{"$f":"OFFSET(N_W_1_1_in!$L$5,AE58,2)","v":{"$error":"#VALUE!"}},{"$f":"OFFSET(N_W_1_1_in!$L$5,AE58,3)","v":{"$error":"#VALUE!"}},{"$error":"#VALUE!"},{"$error":"#VALUE!"},{"$error":"#VALUE!"},{"$error":"#VALUE!"},{"$error":"#VALUE!"},{"$error":"#VALUE!"},{"$error":"#VALUE!"},{"$f":"IFERROR(OFFSET(N_W_1_1_in!$L$5,AE58,0),\"\")","v":""},{"$error":"#VALUE!"},{"$f":"IFERROR(OFFSET(N_W_1_1_in!$P$5,AE58,2),0)","v":0},{"$f":"IFERROR(IF(S58>5,OFFSET(N_W_1_1_in!$P$5,AE58,4),OFFSET(N_W_1_1_in!$P$5,AE58,3)),0)","v":0}]
[null,null,null,null,null,null,null,null,null,null,null,0,null,null,0,"-",{"$f":"IFERROR(OFFSET(N_W_1_1_in!$P$5,AE59,0),\"-\")","v":"-"},"-","-",null,null,null,null,null,null,null,null,null,{"$f":"IFERROR(MATCH(D59,Nr_stad!$U$8:$U$60,0),0)","v":0},0,{"$f":"IF(D59=\"\",\"-\",MATCH(D59,N_W_1_1_in!$K$6:$K$15,0))","v":"-"},{"$f":"OFFSET(N_W_1_1_in!$L$5,AE59,1)","v":{"$error":"#VALUE!"}},{"$f":"OFFSET(N_W_1_1_in!$L$5,AE59,2)","v":{"$error":"#VALUE!"}},{"$f":"OFFSET(N_W_1_1_in!$L$5,AE59,3)","v":{"$error":"#VALUE!"}},{"$error":"#VALUE!"},{"$error":"#VALUE!"},{"$error":"#VALUE!"},{"$error":"#VALUE!"},{"$error":"#VALUE!"},{"$error":"#VALUE!"},{"$error":"#VALUE!"},{"$f":"IFERROR(OFFSET(N_W_1_1_in!$L$5,AE59,0),\"\")","v":""},{"$error":"#VALUE!"},{"$f":"IFERROR(OFFSET(N_W_1_1_in!$P$5,AE59,2),0)","v":0},{"$f":"IFERROR(IF(S59>5,OFFSET(N_W_1_1_in!$P$5,AE59,4),OFFSET(N_W_1_1_in!$P$5,AE59,3)),0)","v":0}]
[null,null,null,null,null,null,null,null,null,null,null,0,null,null,0,"-",{"$f":"IFERROR(OFFSET(N_W_1_1_in!$P$5,AE60,0),\"-\")","v":"-"},"-","-",null,null,null,null,null,null,null,null,null,{"$f":"IFERROR(MATCH(D60,Nr_stad!$U$8:$U$60,0),0)","v":0},0,{"$f":"IF(D60=\"\",\"-\",MATCH(D60,N_W_1_1_in!$K$6:$K$15,0))","v":"-"},{"$f":"OFFSET(N_W_1_1_in!$L$5,AE60,1)","v":{"$error":"#VALUE!"}},{"$f":"OFFSET(N_W_1_1_in!$L$5,AE60,2)","v":{"$error":"#VALUE!"}},{"$f":"OFFSET(N_W_1_1_in!$L$5,AE60,3)","v":{"$error":"#VALUE!"}},{"$error":"#VALUE!"},{"$error":"#VALUE!"},{"$error":"#VALUE!"},{"$error":"#VALUE!"},{"$error":"#VALUE!"},{"$error":"#VALUE!"},{"$error":"#VALUE!"},{"$f":"IFERROR(OFFSET(N_W_1_1_in!$L$5,AE60,0),\"\")","v":""},{"$error":"#VALUE!"},{"$f":"IFERROR(OFFSET(N_W_1_1_in!$P$5,AE60,2),0)","v":0},{"$f":"IFERROR(IF(S60>5,OFFSET(N_W_1_1_in!$P$5,AE60,4),OFFSET(N_W_1_1_in!$P$5,AE60,3)),0)","v":0}]
[null,null,null,null,null,null,null,null,null,null,null,0,null,null,0,"-",{"$f":"IFERROR(OFFSET(N_W_1_1_in!$P$5,AE61,0),\"-\")","v":"-"},"-","-",null,null,null,null,null,null,null,null,null,{"$f":"IFERROR(MATCH(D61,Nr_stad!$U$8:$U$60,0),0)","v":0},0,{"$f":"IF(D61=\"\",\"-\",MATCH(D61,N_W_1_1_in!$K$6:$K$15,0))","v":"-"},{"$f":"OFFSET(N_W_1_1_in!$L$5,AE61,1)","v":{"$error":"#VALUE!"}},{"$f":"OFFSET(N_W_1_1_in!$L$5,AE61,2)","v":{"$error":"#VALUE!"}},{"$f":"OFFSET(N_W_1_1_in!$L$5,AE61,3)","v":{"$error":"#VALUE!"}},{"$error":"#VALUE!"},{"$error":"#VALUE!"},{"$error":"#VALUE!"},{"$error":"#VALUE!"},{"$error":"#VALUE!"},{"$error":"#VALUE!"},{"$error":"#VALUE!"},{"$f":"IFERROR(OFFSET(N_W_1_1_in!$L$5,AE61,0),\"\")","v":""},{"$error":"#VALUE!"},{"$f":"IFERROR(OFFSET(N_W_1_1_in!$P$5,AE61,2),0)","v":0},{"$f":"IFERROR(IF(S61>5,OFFSET(N_W_1_1_in!$P$5,AE61,4),OFFSET(N_W_1_1_in!$P$5,AE61,3)),0)","v":0}]
[null,null,null,null,null,null,null,null,null,null,null,0,null,null,0,"-",{"$f":"IFERROR(OFFSET(N_W_1_1_in!$P$5,AE62,0),\"-\")","v":"-"},"-","-",null,null,null,null,null,null,null,null,null,{"$f":"IFERROR(MATCH(D62,Nr_stad!$U$8:$U$60,0),0)","v":0},0,{"$f":"IF(D62=\"\",\"-\",MATCH(D62,N_W_1_1_in!$K$6:$K$15,0))","v":"-"},{"$f":"OFFSET(N_W_1_1_in!$L$5,AE62,1)","v":{"$error":"#VALUE!"}},{"$f":"OFFSET(N_W_1_1_in!$L$5,AE62,2)","v":{"$error":"#VALUE!"}},{"$f":"OFFSET(N_W_1_1_in!$L$5,AE62,3)","v":{"$error":"#VALUE!"}},{"$error":"#VALUE!"},{"$error":"#VALUE!"},{"$error":"#VALUE!"},{"$error":"#VALUE!"},{"$error":"#VALUE!"},{"$error":"#VALUE!"},{"$error":"#VALUE!"},{"$f":"IFERROR(OFFSET(N_W_1_1_in!$L$5,AE62,0),\"\")","v":""},{"$error":"#VALUE!"},{"$f":"IFERROR(OFFSET(N_W_1_1_in!$P$5,AE62,2),0)","v":0},{"$f":"IFERROR(IF(S62>5,OFFSET(N_W_1_1_in!$P$5,AE62,4),OFFSET(N_W_1_1_in!$P$5,AE62,3)),0)","v":0}]
[null,null,null,null,null,null,null,null,null,null,null,0,null,null,0,"-",{"$f":"IFERROR(OFFSET(N_W_1_1_in!$P$5,AE63,0),\"-\")","v":"-"},"-","-",null,null,null,null,null,null,null,null,null,{"$f":"IFERROR(MATCH(D63,Nr_stad!$U$8:$U$60,0),0)","v":0},0,{"$f":"IF(D63=\"\",\"-\",MATCH(D63,N_W_1_1_in!$K$6:$K$15,0))","v":"-"},{"$f":"OFFSET(N_W_1_1_in!$L$5,AE63,1)","v":{"$error":"#VALUE!"}},{"$f":"OFFSET(N_W_1_1_in!$L$5,AE63,2)","v":{"$error":"#VALUE!"}},{"$f":"OFFSET(N_W_1_1_in!$L$5,AE63,3)","v":{"$error":"#VALUE!"}},{"$error":"#VALUE!"},{"$error":"#VALUE!"},{"$error":"#VALUE!"},{"$error":"#VALUE!"},{"$error":"#VALUE!"},{"$error":"#VALUE!"},{"$error":"#VALUE!"},{"$f":"IFERROR(OFFSET(N_W_1_1_in!$L$5,AE63,0),\"\")","v":""},{"$error":"#VALUE!"},{"$f":"IFERROR(OFFSET(N_W_1_1_in!$P$5,AE63,2),0)","v":0},{"$f":"IFERROR(IF(S63>5,OFFSET(N_W_1_1_in!$P$5,AE63,4),OFFSET(N_W_1_1_in!$P$5,AE63,3)),0)","v":0}]
[null,null,null,null,null,null,null,null,null,null,null,0,null,null,0,"-",{"$f":"IFERROR(OFFSET(N_W_1_1_in!$P$5,AE64,0),\"-\")","v":"-"},"-","-",null,null,null,null,null,null,null,null,null,{"$f":"IFERROR(MATCH(D64,Nr_stad!$U$8:$U$60,0),0)","v":0},0,{"$f":"IF(D64=\"\",\"-\",MATCH(D64,N_W_1_1_in!$K$6:$K$15,0))","v":"-"},{"$f":"OFFSET(N_W_1_1_in!$L$5,AE64,1)","v":{"$error":"#VALUE!"}},{"$f":"OFFSET(N_W_1_1_in!$L$5,AE64,2)","v":{"$error":"#VALUE!"}},{"$f":"OFFSET(N_W_1_1_in!$L$5,AE64,3)","v":{"$error":"#VALUE!"}},{"$error":"#VALUE!"},{"$error":"#VALUE!"},{"$error":"#VALUE!"},{"$error":"#VALUE!"},{"$error":"#VALUE!"},{"$error":"#VALUE!"},{"$error":"#VALUE!"},{"$f":"IFERROR(OFFSET(N_W_1_1_in!$L$5,AE64,0),\"\")","v":""},{"$error":"#VALUE!"},{"$f":"IFERROR(OFFSET(N_W_1_1_in!$P$5,AE64,2),0)","v":0},{"$f":"IFERROR(IF(S64>5,OFFSET(N_W_1_1_in!$P$5,AE64,4),OFFSET(N_W_1_1_in!$P$5,AE64,3)),0)","v":0}]
[null,null,null,null,null,null,null,null,null,null,null,0,null,null,0,"-",{"$f":"IFERROR(OFFSET(N_W_1_1_in!$P$5,AE65,0),\"-\")","v":"-"},"-","-",null,null,null,null,null,null,null,null,null,{"$f":"IFERROR(MATCH(D65,Nr_stad!$U$8:$U$60,0),0)","v":0},0,{"$f":"IF(D65=\"\",\"-\",MATCH(D65,N_W_1_1_in!$K$6:$K$15,0))","v":"-"},{"$f":"OFFSET(N_W_1_1_in!$L$5,AE65,1)","v":{"$error":"#VALUE!"}},{"$f":"OFFSET(N_W_1_1_in!$L$5,AE65,2)","v":{"$error":"#VALUE!"}},{"$f":"OFFSET(N_W_1_1_in!$L$5,AE65,3)","v":{"$error":"#VALUE!"}},{"$error":"#VALUE!"},{"$error":"#VALUE!"},{"$error":"#VALUE!"},{"$error":"#VALUE!"},{"$error":"#VALUE!"},{"$error":"#VALUE!"},{"$error":"#VALUE!"},{"$f":"IFERROR(OFFSET(N_W_1_1_in!$L$5,AE65,0),\"\")","v":""},{"$error":"#VALUE!"},{"$f":"IFERROR(OFFSET(N_W_1_1_in!$P$5,AE65,2),0)","v":0},{"$f":"IFERROR(IF(S65>5,OFFSET(N_W_1_1_in!$P$5,AE65,4),OFFSET(N_W_1_1_in!$P$5,AE65,3)),0)","v":0}]
[null,null,null,null,null,null,null,null,null,null,null,0,null,null,0,"-",{"$f":"IFERROR(OFFSET(N_W_1_1_in!$P$5,AE66,0),\"-\")","v":"-"},"-","-",null,null,null,null,null,null,null,null,null,{"$f":"IFERROR(MATCH(D66,Nr_stad!$U$8:$U$60,0),0)","v":0},0,{"$f":"IF(D66=\"\",\"-\",MATCH(D66,N_W_1_1_in!$K$6:$K$15,0))","v":"-"},{"$f":"OFFSET(N_W_1_1_in!$L$5,AE66,1)","v":{"$error":"#VALUE!"}},{"$f":"OFFSET(N_W_1_1_in!$L$5,AE66,2)","v":{"$error":"#VALUE!"}},{"$f":"OFFSET(N_W_1_1_in!$L$5,AE66,3)","v":{"$error":"#VALUE!"}},{"$error":"#VALUE!"},{"$error":"#VALUE!"},{"$error":"#VALUE!"},{"$error":"#VALUE!"},{"$error":"#VALUE!"},{"$error":"#VALUE!"},{"$error":"#VALUE!"},{"$f":"IFERROR(OFFSET(N_W_1_1_in!$L$5,AE66,0),\"\")","v":""},{"$error":"#VALUE!"},{"$f":"IFERROR(OFFSET(N_W_1_1_in!$P$5,AE66,2),0)","v":0},{"$f":"IFERROR(IF(S66>5,OFFSET(N_W_1_1_in!$P$5,AE66,4),OFFSET(N_W_1_1_in!$P$5,AE66,3)),0)","v":0}]
[null,null,null,null,null,null,null,null,null,null,null,0,null,null,0,"-",{"$f":"IFERROR(OFFSET(N_W_1_1_in!$P$5,AE67,0),\"-\")","v":"-"},"-","-",null,null,null,null,null,null,null,null,null,{"$f":"IFERROR(MATCH(D67,Nr_stad!$U$8:$U$60,0),0)","v":0},0,{"$f":"IF(D67=\"\",\"-\",MATCH(D67,N_W_1_1_in!$K$6:$K$15,0))","v":"-"},{"$f":"OFFSET(N_W_1_1_in!$L$5,AE67,1)","v":{"$error":"#VALUE!"}},{"$f":"OFFSET(N_W_1_1_in!$L$5,AE67,2)","v":{"$error":"#VALUE!"}},{"$f":"OFFSET(N_W_1_1_in!$L$5,AE67,3)","v":{"$error":"#VALUE!"}},{"$error":"#VALUE!"},{"$error":"#VALUE!"},{"$error":"#VALUE!"},{"$error":"#VALUE!"},{"$error":"#VALUE!"},{"$error":"#VALUE!"},{"$error":"#VALUE!"},{"$f":"IFERROR(OFFSET(N_W_1_1_in!$L$5,AE67,0),\"\")","v":""},{"$error":"#VALUE!"},{"$f":"IFERROR(OFFSET(N_W_1_1_in!$P$5,AE67,2),0)","v":0},{"$f":"IFERROR(IF(S67>5,OFFSET(N_W_1_1_in!$P$5,AE67,4),OFFSET(N_W_1_1_in!$P$5,AE67,3)),0)","v":0}]
[null,null,null,null,null,null,null,null,null,null,null,0,null,null,0,"-",{"$f":"IFERROR(OFFSET(N_W_1_1_in!$P$5,AE68,0),\"-\")","v":"-"},"-","-",null,null,null,null,null,null,null,null,null,{"$f":"IFERROR(MATCH(D68,Nr_stad!$U$8:$U$60,0),0)","v":0},0,{"$f":"IF(D68=\"\",\"-\",MATCH(D68,N_W_1_1_in!$K$6:$K$15,0))","v":"-"},{"$f":"OFFSET(N_W_1_1_in!$L$5,AE68,1)","v":{"$error":"#VALUE!"}},{"$f":"OFFSET(N_W_1_1_in!$L$5,AE68,2)","v":{"$error":"#VALUE!"}},{"$f":"OFFSET(N_W_1_1_in!$L$5,AE68,3)","v":{"$error":"#VALUE!"}},{"$error":"#VALUE!"},{"$error":"#VALUE!"},{"$error":"#VALUE!"},{"$error":"#VALUE!"},{"$error":"#VALUE!"},{"$error":"#VALUE!"},{"$error":"#VALUE!"},{"$f":"IFERROR(OFFSET(N_W_1_1_in!$L$5,AE68,0),\"\")","v":""},{"$error":"#VALUE!"},{"$f":"IFERROR(OFFSET(N_W_1_1_in!$P$5,AE68,2),0)","v":0},{"$f":"IFERROR(IF(S68>5,OFFSET(N_W_1_1_in!$P$5,AE68,4),OFFSET(N_W_1_1_in!$P$5,AE68,3)),0)","v":0}]
[null,null,null,null,null,null,null,null,null,null,null,0,null,null,0,"-",{"$f":"IFERROR(OFFSET(N_W_1_1_in!$P$5,AE69,0),\"-\")","v":"-"},"-","-",null,null,null,null,null,null,null,null,null,{"$f":"IFERROR(MATCH(D69,Nr_stad!$U$8:$U$60,0),0)","v":0},0,{"$f":"IF(D69=\"\",\"-\",MATCH(D69,N_W_1_1_in!$K$6:$K$15,0))","v":"-"},{"$f":"OFFSET(N_W_1_1_in!$L$5,AE69,1)","v":{"$error":"#VALUE!"}},{"$f":"OFFSET(N_W_1_1_in!$L$5,AE69,2)","v":{"$error":"#VALUE!"}},{"$f":"OFFSET(N_W_1_1_in!$L$5,AE69,3)","v":{"$error":"#VALUE!"}},{"$error":"#VALUE!"},{"$error":"#VALUE!"},{"$error":"#VALUE!"},{"$error":"#VALUE!"},{"$error":"#VALUE!"},{"$error":"#VALUE!"},{"$error":"#VALUE!"},{"$f":"IFERROR(OFFSET(N_W_1_1_in!$L$5,AE69,0),\"\")","v":""},{"$error":"#VALUE!"},{"$f":"IFERROR(OFFSET(N_W_1_1_in!$P$5,AE69,2),0)","v":0},{"$f":"IFERROR(IF(S69>5,OFFSET(N_W_1_1_in!$P$5,AE69,4),OFFSET(N_W_1_1_in!$P$5,AE69,3)),0)","v":0}]
[null,null,null,null,null,null,null,null,null,null,null,0,null,null,0,"-",{"$f":"IFERROR(OFFSET(N_W_1_1_in!$P$5,AE70,0),\"-\")","v":"-"},"-","-",null,null,null,null,null,null,null,null,null,{"$f":"IFERROR(MATCH(D70,Nr_stad!$U$8:$U$60,0),0)","v":0},0,{"$f":"IF(D70=\"\",\"-\",MATCH(D70,N_W_1_1_in!$K$6:$K$15,0))","v":"-"},{"$f":"OFFSET(N_W_1_1_in!$L$5,AE70,1)","v":{"$error":"#VALUE!"}},{"$f":"OFFSET(N_W_1_1_in!$L$5,AE70,2)","v":{"$error":"#VALUE!"}},{"$f":"OFFSET(N_W_1_1_in!$L$5,AE70,3)","v":{"$error":"#VALUE!"}},{"$error":"#VALUE!"},{"$error":"#VALUE!"},{"$error":"#VALUE!"},{"$error":"#VALUE!"},{"$error":"#VALUE!"},{"$error":"#VALUE!"},{"$error":"#VALUE!"},{"$f":"IFERROR(OFFSET(N_W_1_1_in!$L$5,AE70,0),\"\")","v":""},{"$error":"#VALUE!"},{"$f":"IFERROR(OFFSET(N_W_1_1_in!$P$5,AE70,2),0)","v":0},{"$f":"IFERROR(IF(S70>5,OFFSET(N_W_1_1_in!$P$5,AE70,4),OFFSET(N_W_1_1_in!$P$5,AE70,3)),0)","v":0}]
[null,null,null,null,null,null,null,null,null,null,null,0,null,null,0,"-",{"$f":"IFERROR(OFFSET(N_W_1_1_in!$P$5,AE71,0),\"-\")","v":"-"},"-","-",null,null,null,null,null,null,null,null,null,{"$f":"IFERROR(MATCH(D71,Nr_stad!$U$8:$U$60,0),0)","v":0},0,{"$f":"IF(D71=\"\",\"-\",MATCH(D71,N_W_1_1_in!$K$6:$K$15,0))","v":"-"},{"$f":"OFFSET(N_W_1_1_in!$L$5,AE71,1)","v":{"$error":"#VALUE!"}},{"$f":"OFFSET(N_W_1_1_in!$L$5,AE71,2)","v":{"$error":"#VALUE!"}},{"$f":"OFFSET(N_W_1_1_in!$L$5,AE71,3)","v":{"$error":"#VALUE!"}},{"$error":"#VALUE!"},{"$error":"#VALUE!"},{"$error":"#VALUE!"},{"$error":"#VALUE!"},{"$error":"#VALUE!"},{"$error":"#VALUE!"},{"$error":"#VALUE!"},{"$f":"IFERROR(OFFSET(N_W_1_1_in!$L$5,AE71,0),\"\")","v":""},{"$error":"#VALUE!"},{"$f":"IFERROR(OFFSET(N_W_1_1_in!$P$5,AE71,2),0)","v":0},{"$f":"IFERROR(IF(S71>5,OFFSET(N_W_1_1_in!$P$5,AE71,4),OFFSET(N_W_1_1_in!$P$5,AE71,3)),0)","v":0}]
[null,null,null,null,null,null,null,null,null,null,null,0,null,null,0,"-",{"$f":"IFERROR(OFFSET(N_W_1_1_in!$P$5,AE72,0),\"-\")","v":"-"},"-","-",null,null,null,null,null,null,null,null,null,{"$f":"IFERROR(MATCH(D72,Nr_stad!$U$8:$U$60,0),0)","v":0},0,{"$f":"IF(D72=\"\",\"-\",MATCH(D72,N_W_1_1_in!$K$6:$K$15,0))","v":"-"},{"$f":"OFFSET(N_W_1_1_in!$L$5,AE72,1)","v":{"$error":"#VALUE!"}},{"$f":"OFFSET(N_W_1_1_in!$L$5,AE72,2)","v":{"$error":"#VALUE!"}},{"$f":"OFFSET(N_W_1_1_in!$L$5,AE72,3)","v":{"$error":"#VALUE!"}},{"$error":"#VALUE!"},{"$error":"#VALUE!"},{"$error":"#VALUE!"},{"$error":"#VALUE!"},{"$error":"#VALUE!"},{"$error":"#VALUE!"},{"$error":"#VALUE!"},{"$f":"IFERROR(OFFSET(N_W_1_1_in!$L$5,AE72,0),\"\")","v":""},{"$error":"#VALUE!"},{"$f":"IFERROR(OFFSET(N_W_1_1_in!$P$5,AE72,2),0)","v":0},{"$f":"IFERROR(IF(S72>5,OFFSET(N_W_1_1_in!$P$5,AE72,4),OFFSET(N_W_1_1_in!$P$5,AE72,3)),0)","v":0}]
[null,null,null,null,null,null,null,null,null,null,null,0,null,null,0,"-",{"$f":"IFERROR(OFFSET(N_W_1_1_in!$P$5,AE73,0),\"-\")","v":"-"},"-","-",null,null,null,null,null,null,null,null,null,{"$f":"IFERROR(MATCH(D73,Nr_stad!$U$8:$U$60,0),0)","v":0},0,{"$f":"IF(D73=\"\",\"-\",MATCH(D73,N_W_1_1_in!$K$6:$K$15,0))","v":"-"},{"$f":"OFFSET(N_W_1_1_in!$L$5,AE73,1)","v":{"$error":"#VALUE!"}},{"$f":"OFFSET(N_W_1_1_in!$L$5,AE73,2)","v":{"$error":"#VALUE!"}},{"$f":"OFFSET(N_W_1_1_in!$L$5,AE73,3)","v":{"$error":"#VALUE!"}},{"$error":"#VALUE!"},{"$error":"#VALUE!"},{"$error":"#VALUE!"},{"$error":"#VALUE!"},{"$error":"#VALUE!"},{"$error":"#VALUE!"},{"$error":"#VALUE!"},{"$f":"IFERROR(OFFSET(N_W_1_1_in!$L$5,AE73,0),\"\")","v":""},{"$error":"#VALUE!"},{"$f":"IFERROR(OFFSET(N_W_1_1_in!$P$5,AE73,2),0)","v":0},{"$f":"IFERROR(IF(S73>5,OFFSET(N_W_1_1_in!$P$5,AE73,4),OFFSET(N_W_1_1_in!$P$5,AE73,3)),0)","v":0}]
[null,null,null,null,null,null,null,null,null,null,null,0,null,null,0,"-",{"$f":"IFERROR(OFFSET(N_W_1_1_in!$P$5,AE74,0),\"-\")","v":"-"},"-","-",null,null,null,null,null,null,null,null,null,{"$f":"IFERROR(MATCH(D74,Nr_stad!$U$8:$U$60,0),0)","v":0},0,{"$f":"IF(D74=\"\",\"-\",MATCH(D74,N_W_1_1_in!$K$6:$K$15,0))","v":"-"},{"$f":"OFFSET(N_W_1_1_in!$L$5,AE74,1)","v":{"$error":"#VALUE!"}},{"$f":"OFFSET(N_W_1_1_in!$L$5,AE74,2)","v":{"$error":"#VALUE!"}},{"$f":"OFFSET(N_W_1_1_in!$L$5,AE74,3)","v":{"$error":"#VALUE!"}},{"$error":"#VALUE!"},{"$error":"#VALUE!"},{"$error":"#VALUE!"},{"$error":"#VALUE!"},{"$error":"#VALUE!"},{"$error":"#VALUE!"},{"$error":"#VALUE!"},{"$f":"IFERROR(OFFSET(N_W_1_1_in!$L$5,AE74,0),\"\")","v":""},{"$error":"#VALUE!"},{"$f":"IFERROR(OFFSET(N_W_1_1_in!$P$5,AE74,2),0)","v":0},{"$f":"IFERROR(IF(S74>5,OFFSET(N_W_1_1_in!$P$5,AE74,4),OFFSET(N_W_1_1_in!$P$5,AE74,3)),0)","v":0}]
[null,null,null,null,null,null,null,null,null,null,null,0,null,null,0,"-",{"$f":"IFERROR(OFFSET(N_W_1_1_in!$P$5,AE75,0),\"-\")","v":"-"},"-","-",null,null,null,null,null,null,null,null,null,{"$f":"IFERROR(MATCH(D75,Nr_stad!$U$8:$U$60,0),0)","v":0},0,{"$f":"IF(D75=\"\",\"-\",MATCH(D75,N_W_1_1_in!$K$6:$K$15,0))","v":"-"},{"$f":"OFFSET(N_W_1_1_in!$L$5,AE75,1)","v":{"$error":"#VALUE!"}},{"$f":"OFFSET(N_W_1_1_in!$L$5,AE75,2)","v":{"$error":"#VALUE!"}},{"$f":"OFFSET(N_W_1_1_in!$L$5,AE75,3)","v":{"$error":"#VALUE!"}},{"$error":"#VALUE!"},{"$error":"#VALUE!"},{"$error":"#VALUE!"},{"$error":"#VALUE!"},{"$error":"#VALUE!"},{"$error":"#VALUE!"},{"$error":"#VALUE!"},{"$f":"IFERROR(OFFSET(N_W_1_1_in!$L$5,AE75,0),\"\")","v":""},{"$error":"#VALUE!"},{"$f":"IFERROR(OFFSET(N_W_1_1_in!$P$5,AE75,2),0)","v":0},{"$f":"IFERROR(IF(S75>5,OFFSET(N_W_1_1_in!$P$5,AE75,4),OFFSET(N_W_1_1_in!$P$5,AE75,3)),0)","v":0}]
[null,null,null,null,null,null,null,null,null,null,null,0,null,null,0,"-",{"$f":"IFERROR(OFFSET(N_W_1_1_in!$P$5,AE76,0),\"-\")","v":"-"},"-","-",null,null,null,null,null,null,null,null,null,{"$f":"IFERROR(MATCH(D76,Nr_stad!$U$8:$U$60,0),0)","v":0},0,{"$f":"IF(D76=\"\",\"-\",MATCH(D76,N_W_1_1_in!$K$6:$K$15,0))","v":"-"},{"$f":"OFFSET(N_W_1_1_in!$L$5,AE76,1)","v":{"$error":"#VALUE!"}},{"$f":"OFFSET(N_W_1_1_in!$L$5,AE76,2)","v":{"$error":"#VALUE!"}},{"$f":"OFFSET(N_W_1_1_in!$L$5,AE76,3)","v":{"$error":"#VALUE!"}},{"$error":"#VALUE!"},{"$error":"#VALUE!"},{"$error":"#VALUE!"},{"$error":"#VALUE!"},{"$error":"#VALUE!"},{"$error":"#VALUE!"},{"$error":"#VALUE!"},{"$f":"IFERROR(OFFSET(N_W_1_1_in!$L$5,AE76,0),\"\")","v":""},{"$error":"#VALUE!"},{"$f":"IFERROR(OFFSET(N_W_1_1_in!$P$5,AE76,2),0)","v":0},{"$f":"IFERROR(IF(S76>5,OFFSET(N_W_1_1_in!$P$5,AE76,4),OFFSET(N_W_1_1_in!$P$5,AE76,3)),0)","v":0}]
[null,null,null,null,null,null,null,null,null,null,null,0,null,null,0,"-",{"$f":"IFERROR(OFFSET(N_W_1_1_in!$P$5,AE77,0),\"-\")","v":"-"},"-","-",null,null,null,null,null,null,null,null,null,{"$f":"IFERROR(MATCH(D77,Nr_stad!$U$8:$U$60,0),0)","v":0},0,{"$f":"IF(D77=\"\",\"-\",MATCH(D77,N_W_1_1_in!$K$6:$K$15,0))","v":"-"},{"$f":"OFFSET(N_W_1_1_in!$L$5,AE77,1)","v":{"$error":"#VALUE!"}},{"$f":"OFFSET(N_W_1_1_in!$L$5,AE77,2)","v":{"$error":"#VALUE!"}},{"$f":"OFFSET(N_W_1_1_in!$L$5,AE77,3)","v":{"$error":"#VALUE!"}},{"$error":"#VALUE!"},{"$error":"#VALUE!"},{"$error":"#VALUE!"},{"$error":"#VALUE!"},{"$error":"#VALUE!"},{"$error":"#VALUE!"},{"$error":"#VALUE!"},{"$f":"IFERROR(OFFSET(N_W_1_1_in!$L$5,AE77,0),\"\")","v":""},{"$error":"#VALUE!"},{"$f":"IFERROR(OFFSET(N_W_1_1_in!$P$5,AE77,2),0)","v":0},{"$f":"IFERROR(IF(S77>5,OFFSET(N_W_1_1_in!$P$5,AE77,4),OFFSET(N_W_1_1_in!$P$5,AE77,3)),0)","v":0}]
[null,null,null,null,null,null,null,null,null,null,null,0,null,null,0,"-",{"$f":"IFERROR(OFFSET(N_W_1_1_in!$P$5,AE78,0),\"-\")","v":"-"},"-","-",null,null,null,null,null,null,null,null,null,{"$f":"IFERROR(MATCH(D78,Nr_stad!$U$8:$U$60,0),0)","v":0},0,{"$f":"IF(D78=\"\",\"-\",MATCH(D78,N_W_1_1_in!$K$6:$K$15,0))","v":"-"},{"$f":"OFFSET(N_W_1_1_in!$L$5,AE78,1)","v":{"$error":"#VALUE!"}},{"$f":"OFFSET(N_W_1_1_in!$L$5,AE78,2)","v":{"$error":"#VALUE!"}},{"$f":"OFFSET(N_W_1_1_in!$L$5,AE78,3)","v":{"$error":"#VALUE!"}},{"$error":"#VALUE!"},{"$error":"#VALUE!"},{"$error":"#VALUE!"},{"$error":"#VALUE!"},{"$error":"#VALUE!"},{"$error":"#VALUE!"},{"$error":"#VALUE!"},{"$f":"IFERROR(OFFSET(N_W_1_1_in!$L$5,AE78,0),\"\")","v":""},{"$error":"#VALUE!"},{"$f":"IFERROR(OFFSET(N_W_1_1_in!$P$5,AE78,2),0)","v":0},{"$f":"IFERROR(IF(S78>5,OFFSET(N_W_1_1_in!$P$5,AE78,4),OFFSET(N_W_1_1_in!$P$5,AE78,3)),0)","v":0}]
[null,null,null,null,null,null,null,null,null,null,null,0,null,null,0,"-",{"$f":"IFERROR(OFFSET(N_W_1_1_in!$P$5,AE79,0),\"-\")","v":"-"},"-","-",null,null,null,null,null,null,null,null,null,{"$f":"IFERROR(MATCH(D79,Nr_stad!$U$8:$U$60,0),0)","v":0},0,{"$f":"IF(D79=\"\",\"-\",MATCH(D79,N_W_1_1_in!$K$6:$K$15,0))","v":"-"},{"$f":"OFFSET(N_W_1_1_in!$L$5,AE79,1)","v":{"$error":"#VALUE!"}},{"$f":"OFFSET(N_W_1_1_in!$L$5,AE79,2)","v":{"$error":"#VALUE!"}},{"$f":"OFFSET(N_W_1_1_in!$L$5,AE79,3)","v":{"$error":"#VALUE!"}},{"$error":"#VALUE!"},{"$error":"#VALUE!"},{"$error":"#VALUE!"},{"$error":"#VALUE!"},{"$error":"#VALUE!"},{"$error":"#VALUE!"},{"$error":"#VALUE!"},{"$f":"IFERROR(OFFSET(N_W_1_1_in!$L$5,AE79,0),\"\")","v":""},{"$error":"#VALUE!"},{"$f":"IFERROR(OFFSET(N_W_1_1_in!$P$5,AE79,2),0)","v":0},{"$f":"IFERROR(IF(S79>5,OFFSET(N_W_1_1_in!$P$5,AE79,4),OFFSET(N_W_1_1_in!$P$5,AE79,3)),0)","v":0}]
[null,null,null,null,null,null,null,null,null,null,null,0,null,null,0,"-",{"$f":"IFERROR(OFFSET(N_W_1_1_in!$P$5,AE80,0),\"-\")","v":"-"},"-","-",null,null,null,null,null,null,null,null,null,{"$f":"IFERROR(MATCH(D80,Nr_stad!$U$8:$U$60,0),0)","v":0},0,{"$f":"IF(D80=\"\",\"-\",MATCH(D80,N_W_1_1_in!$K$6:$K$15,0))","v":"-"},{"$f":"OFFSET(N_W_1_1_in!$L$5,AE80,1)","v":{"$error":"#VALUE!"}},{"$f":"OFFSET(N_W_1_1_in!$L$5,AE80,2)","v":{"$error":"#VALUE!"}},{"$f":"OFFSET(N_W_1_1_in!$L$5,AE80,3)","v":{"$error":"#VALUE!"}},{"$error":"#VALUE!"},{"$error":"#VALUE!"},{"$error":"#VALUE!"},{"$error":"#VALUE!"},{"$error":"#VALUE!"},{"$error":"#VALUE!"},{"$error":"#VALUE!"},{"$f":"IFERROR(OFFSET(N_W_1_1_in!$L$5,AE80,0),\"\")","v":""},{"$error":"#VALUE!"},{"$f":"IFERROR(OFFSET(N_W_1_1_in!$P$5,AE80,2),0)","v":0},{"$f":"IFERROR(IF(S80>5,OFFSET(N_W_1_1_in!$P$5,AE80,4),OFFSET(N_W_1_1_in!$P$5,AE80,3)),0)","v":0}]
[null,null,null,null,null,null,null,null,null,null,null,0,null,null,0,"-",{"$f":"IFERROR(OFFSET(N_W_1_1_in!$P$5,AE81,0),\"-\")","v":"-"},"-","-",null,null,null,null,null,null,null,null,null,{"$f":"IFERROR(MATCH(D81,Nr_stad!$U$8:$U$60,0),0)","v":0},0,{"$f":"IF(D81=\"\",\"-\",MATCH(D81,N_W_1_1_in!$K$6:$K$15,0))","v":"-"},{"$f":"OFFSET(N_W_1_1_in!$L$5,AE81,1)","v":{"$error":"#VALUE!"}},{"$f":"OFFSET(N_W_1_1_in!$L$5,AE81,2)","v":{"$error":"#VALUE!"}},{"$f":"OFFSET(N_W_1_1_in!$L$5,AE81,3)","v":{"$error":"#VALUE!"}},{"$error":"#VALUE!"},{"$error":"#VALUE!"},{"$error":"#VALUE!"},{"$error":"#VALUE!"},{"$error":"#VALUE!"},{"$error":"#VALUE!"},{"$error":"#VALUE!"},{"$f":"IFERROR(OFFSET(N_W_1_1_in!$L$5,AE81,0),\"\")","v":""},{"$error":"#VALUE!"},{"$f":"IFERROR(OFFSET(N_W_1_1_in!$P$5,AE81,2),0)","v":0},{"$f":"IFERROR(IF(S81>5,OFFSET(N_W_1_1_in!$P$5,AE81,4),OFFSET(N_W_1_1_in!$P$5,AE81,3)),0)","v":0}]
[null,null,null,null,null,null,null,null,null,null,null,0,null,null,0,"-",{"$f":"IFERROR(OFFSET(N_W_1_1_in!$P$5,AE82,0),\"-\")","v":"-"},"-","-",null,null,null,null,null,null,null,null,null,{"$f":"IFERROR(MATCH(D82,Nr_stad!$U$8:$U$60,0),0)","v":0},0,{"$f":"IF(D82=\"\",\"-\",MATCH(D82,N_W_1_1_in!$K$6:$K$15,0))","v":"-"},{"$f":"OFFSET(N_W_1_1_in!$L$5,AE82,1)","v":{"$error":"#VALUE!"}},{"$f":"OFFSET(N_W_1_1_in!$L$5,AE82,2)","v":{"$error":"#VALUE!"}},{"$f":"OFFSET(N_W_1_1_in!$L$5,AE82,3)","v":{"$error":"#VALUE!"}},{"$error":"#VALUE!"},{"$error":"#VALUE!"},{"$error":"#VALUE!"},{"$error":"#VALUE!"},{"$error":"#VALUE!"},{"$error":"#VALUE!"},{"$error":"#VALUE!"},{"$f":"IFERROR(OFFSET(N_W_1_1_in!$L$5,AE82,0),\"\")","v":""},{"$error":"#VALUE!"},{"$f":"IFERROR(OFFSET(N_W_1_1_in!$P$5,AE82,2),0)","v":0},{"$f":"IFERROR(IF(S82>5,OFFSET(N_W_1_1_in!$P$5,AE82,4),OFFSET(N_W_1_1_in!$P$5,AE82,3)),0)","v":0}]
[null,null,null,null,null,null,null,null,null,null,null,0,null,null,0,"-",{"$f":"IFERROR(OFFSET(N_W_1_1_in!$P$5,AE83,0),\"-\")","v":"-"},"-","-",null,null,null,null,null,null,null,null,null,{"$f":"IFERROR(MATCH(D83,Nr_stad!$U$8:$U$60,0),0)","v":0},0,{"$f":"IF(D83=\"\",\"-\",MATCH(D83,N_W_1_1_in!$K$6:$K$15,0))","v":"-"},{"$f":"OFFSET(N_W_1_1_in!$L$5,AE83,1)","v":{"$error":"#VALUE!"}},{"$f":"OFFSET(N_W_1_1_in!$L$5,AE83,2)","v":{"$error":"#VALUE!"}},{"$f":"OFFSET(N_W_1_1_in!$L$5,AE83,3)","v":{"$error":"#VALUE!"}},{"$error":"#VALUE!"},{"$error":"#VALUE!"},{"$error":"#VALUE!"},{"$error":"#VALUE!"},{"$error":"#VALUE!"},{"$error":"#VALUE!"},{"$error":"#VALUE!"},{"$f":"IFERROR(OFFSET(N_W_1_1_in!$L$5,AE83,0),\"\")","v":""},{"$error":"#VALUE!"},{"$f":"IFERROR(OFFSET(N_W_1_1_in!$P$5,AE83,2),0)","v":0},{"$f":"IFERROR(IF(S83>5,OFFSET(N_W_1_1_in!$P$5,AE83,4),OFFSET(N_W_1_1_in!$P$5,AE83,3)),0)","v":0}]
[null,null,null,null,null,null,null,null,null,null,null,0,null,null,0,"-",{"$f":"IFERROR(OFFSET(N_W_1_1_in!$P$5,AE84,0),\"-\")","v":"-"},"-","-",null,null,null,null,null,null,null,null,null,{"$f":"IFERROR(MATCH(D84,Nr_stad!$U$8:$U$60,0),0)","v":0},0,{"$f":"IF(D84=\"\",\"-\",MATCH(D84,N_W_1_1_in!$K$6:$K$15,0))","v":"-"},{"$f":"OFFSET(N_W_1_1_in!$L$5,AE84,1)","v":{"$error":"#VALUE!"}},{"$f":"OFFSET(N_W_1_1_in!$L$5,AE84,2)","v":{"$error":"#VALUE!"}},{"$f":"OFFSET(N_W_1_1_in!$L$5,AE84,3)","v":{"$error":"#VALUE!"}},{"$error":"#VALUE!"},{"$error":"#VALUE!"},{"$error":"#VALUE!"},{"$error":"#VALUE!"},{"$error":"#VALUE!"},{"$error":"#VALUE!"},{"$error":"#VALUE!"},{"$f":"IFERROR(OFFSET(N_W_1_1_in!$L$5,AE84,0),\"\")","v":""},{"$error":"#VALUE!"},{"$f":"IFERROR(OFFSET(N_W_1_1_in!$P$5,AE84,2),0)","v":0},{"$f":"IFERROR(IF(S84>5,OFFSET(N_W_1_1_in!$P$5,AE84,4),OFFSET(N_W_1_1_in!$P$5,AE84,3)),0)","v":0}]
[null,null,null,null,null,null,null,null,null,null,null,0,null,null,0,"-",{"$f":"IFERROR(OFFSET(N_W_1_1_in!$P$5,AE85,0),\"-\")","v":"-"},"-","-",null,null,null,null,null,null,null,null,null,{"$f":"IFERROR(MATCH(D85,Nr_stad!$U$8:$U$60,0),0)","v":0},0,{"$f":"IF(D85=\"\",\"-\",MATCH(D85,N_W_1_1_in!$K$6:$K$15,0))","v":"-"},{"$f":"OFFSET(N_W_1_1_in!$L$5,AE85,1)","v":{"$error":"#VALUE!"}},{"$f":"OFFSET(N_W_1_1_in!$L$5,AE85,2)","v":{"$error":"#VALUE!"}},{"$f":"OFFSET(N_W_1_1_in!$L$5,AE85,3)","v":{"$error":"#VALUE!"}},{"$error":"#VALUE!"},{"$error":"#VALUE!"},{"$error":"#VALUE!"},{"$error":"#VALUE!"},{"$error":"#VALUE!"},{"$error":"#VALUE!"},{"$error":"#VALUE!"},{"$f":"IFERROR(OFFSET(N_W_1_1_in!$L$5,AE85,0),\"\")","v":""},{"$error":"#VALUE!"},{"$f":"IFERROR(OFFSET(N_W_1_1_in!$P$5,AE85,2),0)","v":0},{"$f":"IFERROR(IF(S85>5,OFFSET(N_W_1_1_in!$P$5,AE85,4),OFFSET(N_W_1_1_in!$P$5,AE85,3)),0)","v":0}]
[null,null,null,null,null,null,null,null,null,null,null,0,null,null,0,"-",{"$f":"IFERROR(OFFSET(N_W_1_1_in!$P$5,AE86,0),\"-\")","v":"-"},"-","-",null,null,null,null,null,null,null,null,null,{"$f":"IFERROR(MATCH(D86,Nr_stad!$U$8:$U$60,0),0)","v":0},0,{"$f":"IF(D86=\"\",\"-\",MATCH(D86,N_W_1_1_in!$K$6:$K$15,0))","v":"-"},{"$f":"OFFSET(N_W_1_1_in!$L$5,AE86,1)","v":{"$error":"#VALUE!"}},{"$f":"OFFSET(N_W_1_1_in!$L$5,AE86,2)","v":{"$error":"#VALUE!"}},{"$f":"OFFSET(N_W_1_1_in!$L$5,AE86,3)","v":{"$error":"#VALUE!"}},{"$error":"#VALUE!"},{"$error":"#VALUE!"},{"$error":"#VALUE!"},{"$error":"#VALUE!"},{"$error":"#VALUE!"},{"$error":"#VALUE!"},{"$error":"#VALUE!"},{"$f":"IFERROR(OFFSET(N_W_1_1_in!$L$5,AE86,0),\"\")","v":""},{"$error":"#VALUE!"},{"$f":"IFERROR(OFFSET(N_W_1_1_in!$P$5,AE86,2),0)","v":0},{"$f":"IFERROR(IF(S86>5,OFFSET(N_W_1_1_in!$P$5,AE86,4),OFFSET(N_W_1_1_in!$P$5,AE86,3)),0)","v":0}]
[null,null,null,null,null,null,null,null,null,null,null,{"$f":"J87*K87","v":0},null,null,{"$f":"M87*N87","v":0},{"$f":"IFERROR(OFFSET(AE87,0,AO87),\"-\")","v":"-"},{"$f":"IFERROR(OFFSET(N_W_1_1_in!$P$5,AE87,0),\"-\")","v":"-"},{"$f":"IF(Q87=\"-\",\"-\",O87*0.15)","v":"-"},{"$f":"IFERROR(TRUNC(IF(L87/P87>=1,IF(OR(AE87=1,AE87=3,AE87=5,AE87=6),1,L87/P87),\"-\")*AQ87),\"-\")","v":"-"},null,null,null,null,null,null,null,null,null,{"$f":"IFERROR(MATCH(D87,Nr_stad!$U$8:$U$60,0),0)","v":0},{"$f":"SUM(I87:S87)+AC87","v":0},{"$f":"IF(D87=\"\",\"-\",MATCH(D87,N_W_1_1_in!$K$6:$K$15,0))","v":"-"},{"$f":"OFFSET(N_W_1_1_in!$L$5,AE87,1)","v":{"$error":"#VALUE!"}},{"$f":"OFFSET(N_W_1_1_in!$L$5,AE87,2)","v":{"$error":"#VALUE!"}},{"$f":"OFFSET(N_W_1_1_in!$L$5,AE87,3)","v":{"$error":"#VALUE!"}},{"$f":"TRUNC(L87/AF87)","v":{"$error":"#VALUE!"}},{"$f":"TRUNC(L87/AG87)","v":{"$error":"#VALUE!"}},{"$f":"TRUNC(L87/AH87)","v":{"$error":"#VALUE!"}},{"$f":"IF(AI87<6,1,0)","v":{"$error":"#VALUE!"}},{"$f":"IF(AND(AJ87>5,AJ87<40,AN87=0),2,0)","v":{"$error":"#VALUE!"}},{"$f":"IF(AK87>39,3,0)","v":{"$error":"#VALUE!"}},{"$f":"AL87+AM87+AN87","v":{"$error":"#VALUE!"}},{"$f":"IFERROR(OFFSET(N_W_1_1_in!$L$5,AE87,0),\"\")","v":""},{"$f":"IF(AND(OR(AE87=4,AE87=7,AE87=8,AE87=9),AI87<2),0,1)","v":{"$error":"#VALUE!"}},{"$f":"IFERROR(OFFSET(N_W_1_1_in!$P$5,AE87,2),0)","v":0},{"$f":"IFERROR(IF(S87>5,OFFSET(N_W_1_1_in!$P$5,AE87,4),OFFSET(N_W_1_1_in!$P$5,AE87,3)),0)","v":0}]
[null,null,null,null,null,null,null,null,null,null,null,0,null,null,0,"-",{"$f":"IFERROR(OFFSET(N_W_1_1_in!$P$5,AE88,0),\"-\")","v":"-"},"-","-",null,null,null,null,null,null,null,null,null,{"$f":"IFERROR(MATCH(D88,Nr_stad!$U$8:$U$60,0),0)","v":0},0,{"$f":"IF(D88=\"\",\"-\",MATCH(D88,N_W_1_1_in!$K$6:$K$15,0))","v":"-"},{"$f":"OFFSET(N_W_1_1_in!$L$5,AE88,1)","v":{"$error":"#VALUE!"}},{"$f":"OFFSET(N_W_1_1_in!$L$5,AE88,2)","v":{"$error":"#VALUE!"}},{"$f":"OFFSET(N_W_1_1_in!$L$5,AE88,3)","v":{"$error":"#VALUE!"}},{"$error":"#VALUE!"},{"$error":"#VALUE!"},{"$error":"#VALUE!"},{"$error":"#VALUE!"},{"$error":"#VALUE!"},{"$error":"#VALUE!"},{"$error":"#VALUE!"},{"$f":"IFERROR(OFFSET(N_W_1_1_in!$L$5,AE88,0),\"\")","v":""},{"$error":"#VALUE!"},{"$f":"IFERROR(OFFSET(N_W_1_1_in!$P$5,AE88,2),0)","v":0},{"$f":"IFERROR(IF(S88>5,OFFSET(N_W_1_1_in!$P$5,AE88,4),OFFSET(N_W_1_1_in!$P$5,AE88,3)),0)","v":0}]
[null,null,null,null,null,null,null,null,null,null,null,0,null,null,0,"-",{"$f":"IFERROR(OFFSET(N_W_1_1_in!$P$5,AE89,0),\"-\")","v":"-"},"-","-",null,null,null,null,null,null,null,null,null,{"$f":"IFERROR(MATCH(D89,Nr_stad!$U$8:$U$60,0),0)","v":0},0,{"$f":"IF(D89=\"\",\"-\",MATCH(D89,N_W_1_1_in!$K$6:$K$15,0))","v":"-"},{"$f":"OFFSET(N_W_1_1_in!$L$5,AE89,1)","v":{"$error":"#VALUE!"}},{"$f":"OFFSET(N_W_1_1_in!$L$5,AE89,2)","v":{"$error":"#VALUE!"}},{"$f":"OFFSET(N_W_1_1_in!$L$5,AE89,3)","v":{"$error":"#VALUE!"}},{"$error":"#VALUE!"},{"$error":"#VALUE!"},{"$error":"#VALUE!"},{"$error":"#VALUE!"},{"$error":"#VALUE!"},{"$error":"#VALUE!"},{"$error":"#VALUE!"},{"$f":"IFERROR(OFFSET(N_W_1_1_in!$L$5,AE89,0),\"\")","v":""},{"$error":"#VALUE!"},{"$f":"IFERROR(OFFSET(N_W_1_1_in!$P$5,AE89,2),0)","v":0},{"$f":"IFERROR(IF(S89>5,OFFSET(N_W_1_1_in!$P$5,AE89,4),OFFSET(N_W_1_1_in!$P$5,AE89,3)),0)","v":0}]
[null,null,null,null,null,null,null,null,null,null,null,0,null,null,0,"-",{"$f":"IFERROR(OFFSET(N_W_1_1_in!$P$5,AE90,0),\"-\")","v":"-"},"-","-",null,null,null,null,null,null,null,null,null,{"$f":"IFERROR(MATCH(D90,Nr_stad!$U$8:$U$60,0),0)","v":0},0,{"$f":"IF(D90=\"\",\"-\",MATCH(D90,N_W_1_1_in!$K$6:$K$15,0))","v":"-"},{"$f":"OFFSET(N_W_1_1_in!$L$5,AE90,1)","v":{"$error":"#VALUE!"}},{"$f":"OFFSET(N_W_1_1_in!$L$5,AE90,2)","v":{"$error":"#VALUE!"}},{"$f":"OFFSET(N_W_1_1_in!$L$5,AE90,3)","v":{"$error":"#VALUE!"}},{"$error":"#VALUE!"},{"$error":"#VALUE!"},{"$error":"#VALUE!"},{"$error":"#VALUE!"},{"$error":"#VALUE!"},{"$error":"#VALUE!"},{"$error":"#VALUE!"},{"$f":"IFERROR(OFFSET(N_W_1_1_in!$L$5,AE90,0),\"\")","v":""},{"$error":"#VALUE!"},{"$f":"IFERROR(OFFSET(N_W_1_1_in!$P$5,AE90,2),0)","v":0},{"$f":"IFERROR(IF(S90>5,OFFSET(N_W_1_1_in!$P$5,AE90,4),OFFSET(N_W_1_1_in!$P$5,AE90,3)),0)","v":0}]
[null,null,null,null,null,null,null,null,null,null,null,0,null,null,0,"-",{"$f":"IFERROR(OFFSET(N_W_1_1_in!$P$5,AE91,0),\"-\")","v":"-"},"-","-",null,null,null,null,null,null,null,null,null,{"$f":"IFERROR(MATCH(D91,Nr_stad!$U$8:$U$60,0),0)","v":0},0,{"$f":"IF(D91=\"\",\"-\",MATCH(D91,N_W_1_1_in!$K$6:$K$15,0))","v":"-"},{"$f":"OFFSET(N_W_1_1_in!$L$5,AE91,1)","v":{"$error":"#VALUE!"}},{"$f":"OFFSET(N_W_1_1_in!$L$5,AE91,2)","v":{"$error":"#VALUE!"}},{"$f":"OFFSET(N_W_1_1_in!$L$5,AE91,3)","v":{"$error":"#VALUE!"}},{"$error":"#VALUE!"},{"$error":"#VALUE!"},{"$error":"#VALUE!"},{"$error":"#VALUE!"},{"$error":"#VALUE!"},{"$error":"#VALUE!"},{"$error":"#VALUE!"},{"$f":"IFERROR(OFFSET(N_W_1_1_in!$L$5,AE91,0),\"\")","v":""},{"$error":"#VALUE!"},{"$f":"IFERROR(OFFSET(N_W_1_1_in!$P$5,AE91,2),0)","v":0},{"$f":"IFERROR(IF(S91>5,OFFSET(N_W_1_1_in!$P$5,AE91,4),OFFSET(N_W_1_1_in!$P$5,AE91,3)),0)","v":0}]
[null,null,null,null,null,null,null,null,null,null,null,0,null,null,0,"-",{"$f":"IFERROR(OFFSET(N_W_1_1_in!$P$5,AE92,0),\"-\")","v":"-"},"-","-",null,null,null,null,null,null,null,null,null,{"$f":"IFERROR(MATCH(D92,Nr_stad!$U$8:$U$60,0),0)","v":0},0,{"$f":"IF(D92=\"\",\"-\",MATCH(D92,N_W_1_1_in!$K$6:$K$15,0))","v":"-"},{"$f":"OFFSET(N_W_1_1_in!$L$5,AE92,1)","v":{"$error":"#VALUE!"}},{"$f":"OFFSET(N_W_1_1_in!$L$5,AE92,2)","v":{"$error":"#VALUE!"}},{"$f":"OFFSET(N_W_1_1_in!$L$5,AE92,3)","v":{"$error":"#VALUE!"}},{"$error":"#VALUE!"},{"$error":"#VALUE!"},{"$error":"#VALUE!"},{"$error":"#VALUE!"},{"$error":"#VALUE!"},{"$error":"#VALUE!"},{"$error":"#VALUE!"},{"$f":"IFERROR(OFFSET(N_W_1_1_in!$L$5,AE92,0),\"\")","v":""},{"$error":"#VALUE!"},{"$f":"IFERROR(OFFSET(N_W_1_1_in!$P$5,AE92,2),0)","v":0},{"$f":"IFERROR(IF(S92>5,OFFSET(N_W_1_1_in!$P$5,AE92,4),OFFSET(N_W_1_1_in!$P$5,AE92,3)),0)","v":0}]
[null,null,null,null,null,null,null,null,null,null,null,0,null,null,0,"-",{"$f":"IFERROR(OFFSET(N_W_1_1_in!$P$5,AE93,0),\"-\")","v":"-"},"-","-",null,null,null,null,null,null,null,null,null,{"$f":"IFERROR(MATCH(D93,Nr_stad!$U$8:$U$60,0),0)","v":0},0,{"$f":"IF(D93=\"\",\"-\",MATCH(D93,N_W_1_1_in!$K$6:$K$15,0))","v":"-"},{"$f":"OFFSET(N_W_1_1_in!$L$5,AE93,1)","v":{"$error":"#VALUE!"}},{"$f":"OFFSET(N_W_1_1_in!$L$5,AE93,2)","v":{"$error":"#VALUE!"}},{"$f":"OFFSET(N_W_1_1_in!$L$5,AE93,3)","v":{"$error":"#VALUE!"}},{"$error":"#VALUE!"},{"$error":"#VALUE!"},{"$error":"#VALUE!"},{"$error":"#VALUE!"},{"$error":"#VALUE!"},{"$error":"#VALUE!"},{"$error":"#VALUE!"},{"$f":"IFERROR(OFFSET(N_W_1_1_in!$L$5,AE93,0),\"\")","v":""},{"$error":"#VALUE!"},{"$f":"IFERROR(OFFSET(N_W_1_1_in!$P$5,AE93,2),0)","v":0},{"$f":"IFERROR(IF(S93>5,OFFSET(N_W_1_1_in!$P$5,AE93,4),OFFSET(N_W_1_1_in!$P$5,AE93,3)),0)","v":0}]
[null,null,null,null,null,null,null,null,null,null,null,0,null,null,0,"-",{"$f":"IFERROR(OFFSET(N_W_1_1_in!$P$5,AE94,0),\"-\")","v":"-"},"-","-",null,null,null,null,null,null,null,null,null,{"$f":"IFERROR(MATCH(D94,Nr_stad!$U$8:$U$60,0),0)","v":0},0,{"$f":"IF(D94=\"\",\"-\",MATCH(D94,N_W_1_1_in!$K$6:$K$15,0))","v":"-"},{"$f":"OFFSET(N_W_1_1_in!$L$5,AE94,1)","v":{"$error":"#VALUE!"}},{"$f":"OFFSET(N_W_1_1_in!$L$5,AE94,2)","v":{"$error":"#VALUE!"}},{"$f":"OFFSET(N_W_1_1_in!$L$5,AE94,3)","v":{"$error":"#VALUE!"}},{"$error":"#VALUE!"},{"$error":"#VALUE!"},{"$error":"#VALUE!"},{"$error":"#VALUE!"},{"$error":"#VALUE!"},{"$error":"#VALUE!"},{"$error":"#VALUE!"},{"$f":"IFERROR(OFFSET(N_W_1_1_in!$L$5,AE94,0),\"\")","v":""},{"$error":"#VALUE!"},{"$f":"IFERROR(OFFSET(N_W_1_1_in!$P$5,AE94,2),0)","v":0},{"$f":"IFERROR(IF(S94>5,OFFSET(N_W_1_1_in!$P$5,AE94,4),OFFSET(N_W_1_1_in!$P$5,AE94,3)),0)","v":0}]
[null,null,null,null,null,null,null,null,null,null,null,0,null,null,0,"-",{"$f":"IFERROR(OFFSET(N_W_1_1_in!$P$5,AE95,0),\"-\")","v":"-"},"-","-",null,null,null,null,null,null,null,null,null,{"$f":"IFERROR(MATCH(D95,Nr_stad!$U$8:$U$60,0),0)","v":0},0,{"$f":"IF(D95=\"\",\"-\",MATCH(D95,N_W_1_1_in!$K$6:$K$15,0))","v":"-"},{"$f":"OFFSET(N_W_1_1_in!$L$5,AE95,1)","v":{"$error":"#VALUE!"}},{"$f":"OFFSET(N_W_1_1_in!$L$5,AE95,2)","v":{"$error":"#VALUE!"}},{"$f":"OFFSET(N_W_1_1_in!$L$5,AE95,3)","v":{"$error":"#VALUE!"}},{"$error":"#VALUE!"},{"$error":"#VALUE!"},{"$error":"#VALUE!"},{"$error":"#VALUE!"},{"$error":"#VALUE!"},{"$error":"#VALUE!"},{"$error":"#VALUE!"},{"$f":"IFERROR(OFFSET(N_W_1_1_in!$L$5,AE95,0),\"\")","v":""},{"$error":"#VALUE!"},{"$f":"IFERROR(OFFSET(N_W_1_1_in!$P$5,AE95,2),0)","v":0},{"$f":"IFERROR(IF(S95>5,OFFSET(N_W_1_1_in!$P$5,AE95,4),OFFSET(N_W_1_1_in!$P$5,AE95,3)),0)","v":0}]
[null,null,null,null,null,null,null,null,null,null,null,0,null,null,0,"-",{"$f":"IFERROR(OFFSET(N_W_1_1_in!$P$5,AE96,0),\"-\")","v":"-"},"-","-",null,null,null,null,null,null,null,null,null,{"$f":"IFERROR(MATCH(D96,Nr_stad!$U$8:$U$60,0),0)","v":0},0,{"$f":"IF(D96=\"\",\"-\",MATCH(D96,N_W_1_1_in!$K$6:$K$15,0))","v":"-"},{"$f":"OFFSET(N_W_1_1_in!$L$5,AE96,1)","v":{"$error":"#VALUE!"}},{"$f":"OFFSET(N_W_1_1_in!$L$5,AE96,2)","v":{"$error":"#VALUE!"}},{"$f":"OFFSET(N_W_1_1_in!$L$5,AE96,3)","v":{"$error":"#VALUE!"}},{"$error":"#VALUE!"},{"$error":"#VALUE!"},{"$error":"#VALUE!"},{"$error":"#VALUE!"},{"$error":"#VALUE!"},{"$error":"#VALUE!"},{"$error":"#VALUE!"},{"$f":"IFERROR(OFFSET(N_W_1_1_in!$L$5,AE96,0),\"\")","v":""},{"$error":"#VALUE!"},{"$f":"IFERROR(OFFSET(N_W_1_1_in!$P$5,AE96,2),0)","v":0},{"$f":"IFERROR(IF(S96>5,OFFSET(N_W_1_1_in!$P$5,AE96,4),OFFSET(N_W_1_1_in!$P$5,AE96,3)),0)","v":0}]
[null,null,null,null,null,null,null,null,null,null,null,0,null,null,0,"-",{"$f":"IFERROR(OFFSET(N_W_1_1_in!$P$5,AE97,0),\"-\")","v":"-"},"-","-",null,null,null,null,null,null,null,null,null,{"$f":"IFERROR(MATCH(D97,Nr_stad!$U$8:$U$60,0),0)","v":0},0,{"$f":"IF(D97=\"\",\"-\",MATCH(D97,N_W_1_1_in!$K$6:$K$15,0))","v":"-"},{"$f":"OFFSET(N_W_1_1_in!$L$5,AE97,1)","v":{"$error":"#VALUE!"}},{"$f":"OFFSET(N_W_1_1_in!$L$5,AE97,2)","v":{"$error":"#VALUE!"}},{"$f":"OFFSET(N_W_1_1_in!$L$5,AE97,3)","v":{"$error":"#VALUE!"}},{"$error":"#VALUE!"},{"$error":"#VALUE!"},{"$error":"#VALUE!"},{"$error":"#VALUE!"},{"$error":"#VALUE!"},{"$error":"#VALUE!"},{"$error":"#VALUE!"},{"$f":"IFERROR(OFFSET(N_W_1_1_in!$L$5,AE97,0),\"\")","v":""},{"$error":"#VALUE!"},{"$f":"IFERROR(OFFSET(N_W_1_1_in!$P$5,AE97,2),0)","v":0},{"$f":"IFERROR(IF(S97>5,OFFSET(N_W_1_1_in!$P$5,AE97,4),OFFSET(N_W_1_1_in!$P$5,AE97,3)),0)","v":0}]
[null,null,null,null,null,null,null,null,null,null,null,0,null,null,0,"-",{"$f":"IFERROR(OFFSET(N_W_1_1_in!$P$5,AE98,0),\"-\")","v":"-"},"-","-",null,null,null,null,null,null,null,null,null,{"$f":"IFERROR(MATCH(D98,Nr_stad!$U$8:$U$60,0),0)","v":0},0,{"$f":"IF(D98=\"\",\"-\",MATCH(D98,N_W_1_1_in!$K$6:$K$15,0))","v":"-"},{"$f":"OFFSET(N_W_1_1_in!$L$5,AE98,1)","v":{"$error":"#VALUE!"}},{"$f":"OFFSET(N_W_1_1_in!$L$5,AE98,2)","v":{"$error":"#VALUE!"}},{"$f":"OFFSET(N_W_1_1_in!$L$5,AE98,3)","v":{"$error":"#VALUE!"}},{"$error":"#VALUE!"},{"$error":"#VALUE!"},{"$error":"#VALUE!"},{"$error":"#VALUE!"},{"$error":"#VALUE!"},{"$error":"#VALUE!"},{"$error":"#VALUE!"},{"$f":"IFERROR(OFFSET(N_W_1_1_in!$L$5,AE98,0),\"\")","v":""},{"$error":"#VALUE!"},{"$f":"IFERROR(OFFSET(N_W_1_1_in!$P$5,AE98,2),0)","v":0},{"$f":"IFERROR(IF(S98>5,OFFSET(N_W_1_1_in!$P$5,AE98,4),OFFSET(N_W_1_1_in!$P$5,AE98,3)),0)","v":0}]
[null,null,null,null,null,null,null,null,null,null,null,0,null,null,0,"-",{"$f":"IFERROR(OFFSET(N_W_1_1_in!$P$5,AE99,0),\"-\")","v":"-"},"-","-",null,null,null,null,null,null,null,null,null,{"$f":"IFERROR(MATCH(D99,Nr_stad!$U$8:$U$60,0),0)","v":0},0,{"$f":"IF(D99=\"\",\"-\",MATCH(D99,N_W_1_1_in!$K$6:$K$15,0))","v":"-"},{"$f":"OFFSET(N_W_1_1_in!$L$5,AE99,1)","v":{"$error":"#VALUE!"}},{"$f":"OFFSET(N_W_1_1_in!$L$5,AE99,2)","v":{"$error":"#VALUE!"}},{"$f":"OFFSET(N_W_1_1_in!$L$5,AE99,3)","v":{"$error":"#VALUE!"}},{"$error":"#VALUE!"},{"$error":"#VALUE!"},{"$error":"#VALUE!"},{"$error":"#VALUE!"},{"$error":"#VALUE!"},{"$error":"#VALUE!"},{"$error":"#VALUE!"},{"$f":"IFERROR(OFFSET(N_W_1_1_in!$L$5,AE99,0),\"\")","v":""},{"$error":"#VALUE!"},{"$f":"IFERROR(OFFSET(N_W_1_1_in!$P$5,AE99,2),0)","v":0},{"$f":"IFERROR(IF(S99>5,OFFSET(N_W_1_1_in!$P$5,AE99,4),OFFSET(N_W_1_1_in!$P$5,AE99,3)),0)","v":0}]
[null,null,null,null,null,null,null,null,null,null,null,0,null,null,0,"-",{"$f":"IFERROR(OFFSET(N_W_1_1_in!$P$5,AE100,0),\"-\")","v":"-"},"-","-",null,null,null,null,null,null,null,null,null,{"$f":"IFERROR(MATCH(D100,Nr_stad!$U$8:$U$60,0),0)","v":0},0,{"$f":"IF(D100=\"\",\"-\",MATCH(D100,N_W_1_1_in!$K$6:$K$15,0))","v":"-"},{"$f":"OFFSET(N_W_1_1_in!$L$5,AE100,1)","v":{"$error":"#VALUE!"}},{"$f":"OFFSET(N_W_1_1_in!$L$5,AE100,2)","v":{"$error":"#VALUE!"}},{"$f":"OFFSET(N_W_1_1_in!$L$5,AE100,3)","v":{"$error":"#VALUE!"}},{"$error":"#VALUE!"},{"$error":"#VALUE!"},{"$error":"#VALUE!"},{"$error":"#VALUE!"},{"$error":"#VALUE!"},{"$error":"#VALUE!"},{"$error":"#VALUE!"},{"$f":"IFERROR(OFFSET(N_W_1_1_in!$L$5,AE100,0),\"\")","v":""},{"$error":"#VALUE!"},{"$f":"IFERROR(OFFSET(N_W_1_1_in!$P$5,AE100,2),0)","v":0},{"$f":"IFERROR(IF(S100>5,OFFSET(N_W_1_1_in!$P$5,AE100,4),OFFSET(N_W_1_1_in!$P$5,AE100,3)),0)","v":0}]
[null,null,null,null,null,null,null,null,null,null,null,0,null,null,0,"-",{"$f":"IFERROR(OFFSET(N_W_1_1_in!$P$5,AE101,0),\"-\")","v":"-"},"-","-",null,null,null,null,null,null,null,null,null,{"$f":"IFERROR(MATCH(D101,Nr_stad!$U$8:$U$60,0),0)","v":0},0,{"$f":"IF(D101=\"\",\"-\",MATCH(D101,N_W_1_1_in!$K$6:$K$15,0))","v":"-"},{"$f":"OFFSET(N_W_1_1_in!$L$5,AE101,1)","v":{"$error":"#VALUE!"}},{"$f":"OFFSET(N_W_1_1_in!$L$5,AE101,2)","v":{"$error":"#VALUE!"}},{"$f":"OFFSET(N_W_1_1_in!$L$5,AE101,3)","v":{"$error":"#VALUE!"}},{"$error":"#VALUE!"},{"$error":"#VALUE!"},{"$error":"#VALUE!"},{"$error":"#VALUE!"},{"$error":"#VALUE!"},{"$error":"#VALUE!"},{"$error":"#VALUE!"},{"$f":"IFERROR(OFFSET(N_W_1_1_in!$L$5,AE101,0),\"\")","v":""},{"$error":"#VALUE!"},{"$f":"IFERROR(OFFSET(N_W_1_1_in!$P$5,AE101,2),0)","v":0},{"$f":"IFERROR(IF(S101>5,OFFSET(N_W_1_1_in!$P$5,AE101,4),OFFSET(N_W_1_1_in!$P$5,AE101,3)),0)","v":0}]
[null,null,null,null,null,null,null,null,null,null,null,0,null,null,0,"-",{"$f":"IFERROR(OFFSET(N_W_1_1_in!$P$5,AE102,0),\"-\")","v":"-"},"-","-",null,null,null,null,null,null,null,null,null,{"$f":"IFERROR(MATCH(D102,Nr_stad!$U$8:$U$60,0),0)","v":0},0,{"$f":"IF(D102=\"\",\"-\",MATCH(D102,N_W_1_1_in!$K$6:$K$15,0))","v":"-"},{"$f":"OFFSET(N_W_1_1_in!$L$5,AE102,1)","v":{"$error":"#VALUE!"}},{"$f":"OFFSET(N_W_1_1_in!$L$5,AE102,2)","v":{"$error":"#VALUE!"}},{"$f":"OFFSET(N_W_1_1_in!$L$5,AE102,3)","v":{"$error":"#VALUE!"}},{"$error":"#VALUE!"},{"$error":"#VALUE!"},{"$error":"#VALUE!"},{"$error":"#VALUE!"},{"$error":"#VALUE!"},{"$error":"#VALUE!"},{"$error":"#VALUE!"},{"$f":"IFERROR(OFFSET(N_W_1_1_in!$L$5,AE102,0),\"\")","v":""},{"$error":"#VALUE!"},{"$f":"IFERROR(OFFSET(N_W_1_1_in!$P$5,AE102,2),0)","v":0},{"$f":"IFERROR(IF(S102>5,OFFSET(N_W_1_1_in!$P$5,AE102,4),OFFSET(N_W_1_1_in!$P$5,AE102,3)),0)","v":0}]
[null,null,null,null,null,null,null,null,null,null,null,0,null,null,0,"-",{"$f":"IFERROR(OFFSET(N_W_1_1_in!$P$5,AE103,0),\"-\")","v":"-"},"-","-",null,null,null,null,null,null,null,null,null,{"$f":"IFERROR(MATCH(D103,Nr_stad!$U$8:$U$60,0),0)","v":0},0,{"$f":"IF(D103=\"\",\"-\",MATCH(D103,N_W_1_1_in!$K$6:$K$15,0))","v":"-"},{"$f":"OFFSET(N_W_1_1_in!$L$5,AE103,1)","v":{"$error":"#VALUE!"}},{"$f":"OFFSET(N_W_1_1_in!$L$5,AE103,2)","v":{"$error":"#VALUE!"}},{"$f":"OFFSET(N_W_1_1_in!$L$5,AE103,3)","v":{"$error":"#VALUE!"}},{"$error":"#VALUE!"},{"$error":"#VALUE!"},{"$error":"#VALUE!"},{"$error":"#VALUE!"},{"$error":"#VALUE!"},{"$error":"#VALUE!"},{"$error":"#VALUE!"},{"$f":"IFERROR(OFFSET(N_W_1_1_in!$L$5,AE103,0),\"\")","v":""},{"$error":"#VALUE!"},{"$f":"IFERROR(OFFSET(N_W_1_1_in!$P$5,AE103,2),0)","v":0},{"$f":"IFERROR(IF(S103>5,OFFSET(N_W_1_1_in!$P$5,AE103,4),OFFSET(N_W_1_1_in!$P$5,AE103,3)),0)","v":0}]
[null,null,null,null,null,null,null,null,null,null,null,0,null,null,0,"-",{"$f":"IFERROR(OFFSET(N_W_1_1_in!$P$5,AE104,0),\"-\")","v":"-"},"-","-",null,null,null,null,null,null,null,null,null,{"$f":"IFERROR(MATCH(D104,Nr_stad!$U$8:$U$60,0),0)","v":0},0,{"$f":"IF(D104=\"\",\"-\",MATCH(D104,N_W_1_1_in!$K$6:$K$15,0))","v":"-"},{"$f":"OFFSET(N_W_1_1_in!$L$5,AE104,1)","v":{"$error":"#VALUE!"}},{"$f":"OFFSET(N_W_1_1_in!$L$5,AE104,2)","v":{"$error":"#VALUE!"}},{"$f":"OFFSET(N_W_1_1_in!$L$5,AE104,3)","v":{"$error":"#VALUE!"}},{"$error":"#VALUE!"},{"$error":"#VALUE!"},{"$error":"#VALUE!"},{"$error":"#VALUE!"},{"$error":"#VALUE!"},{"$error":"#VALUE!"},{"$error":"#VALUE!"},{"$f":"IFERROR(OFFSET(N_W_1_1_in!$L$5,AE104,0),\"\")","v":""},{"$error":"#VALUE!"},{"$f":"IFERROR(OFFSET(N_W_1_1_in!$P$5,AE104,2),0)","v":0},{"$f":"IFERROR(IF(S104>5,OFFSET(N_W_1_1_in!$P$5,AE104,4),OFFSET(N_W_1_1_in!$P$5,AE104,3)),0)","v":0}]
[null,null,null,null,null,null,null,null,null,null,null,0,null,null,0,"-",{"$f":"IFERROR(OFFSET(N_W_1_1_in!$P$5,AE105,0),\"-\")","v":"-"},"-","-",null,null,null,null,null,null,null,null,null,{"$f":"IFERROR(MATCH(D105,Nr_stad!$U$8:$U$60,0),0)","v":0},0,{"$f":"IF(D105=\"\",\"-\",MATCH(D105,N_W_1_1_in!$K$6:$K$15,0))","v":"-"},{"$f":"OFFSET(N_W_1_1_in!$L$5,AE105,1)","v":{"$error":"#VALUE!"}},{"$f":"OFFSET(N_W_1_1_in!$L$5,AE105,2)","v":{"$error":"#VALUE!"}},{"$f":"OFFSET(N_W_1_1_in!$L$5,AE105,3)","v":{"$error":"#VALUE!"}},{"$error":"#VALUE!"},{"$error":"#VALUE!"},{"$error":"#VALUE!"},{"$error":"#VALUE!"},{"$error":"#VALUE!"},{"$error":"#VALUE!"},{"$error":"#VALUE!"},{"$f":"IFERROR(OFFSET(N_W_1_1_in!$L$5,AE105,0),\"\")","v":""},{"$error":"#VALUE!"},{"$f":"IFERROR(OFFSET(N_W_1_1_in!$P$5,AE105,2),0)","v":0},{"$f":"IFERROR(IF(S105>5,OFFSET(N_W_1_1_in!$P$5,AE105,4),OFFSET(N_W_1_1_in!$P$5,AE105,3)),0)","v":0}]
[null,null,null,null,null,null,null,null,null,null,null,0,null,null,0,"-",{"$f":"IFERROR(OFFSET(N_W_1_1_in!$P$5,AE106,0),\"-\")","v":"-"},"-","-",null,null,null,null,null,null,null,null,null,{"$f":"IFERROR(MATCH(D106,Nr_stad!$U$8:$U$60,0),0)","v":0},0,{"$f":"IF(D106=\"\",\"-\",MATCH(D106,N_W_1_1_in!$K$6:$K$15,0))","v":"-"},{"$f":"OFFSET(N_W_1_1_in!$L$5,AE106,1)","v":{"$error":"#VALUE!"}},{"$f":"OFFSET(N_W_1_1_in!$L$5,AE106,2)","v":{"$error":"#VALUE!"}},{"$f":"OFFSET(N_W_1_1_in!$L$5,AE106,3)","v":{"$error":"#VALUE!"}},{"$error":"#VALUE!"},{"$error":"#VALUE!"},{"$error":"#VALUE!"},{"$error":"#VALUE!"},{"$error":"#VALUE!"},{"$error":"#VALUE!"},{"$error":"#VALUE!"},{"$f":"IFERROR(OFFSET(N_W_1_1_in!$L$5,AE106,0),\"\")","v":""},{"$error":"#VALUE!"},{"$f":"IFERROR(OFFSET(N_W_1_1_in!$P$5,AE106,2),0)","v":0},{"$f":"IFERROR(IF(S106>5,OFFSET(N_W_1_1_in!$P$5,AE106,4),OFFSET(N_W_1_1_in!$P$5,AE106,3)),0)","v":0}]
[null,null,null,null,null,null,null,null,null,null,null,0,null,null,0,"-",{"$f":"IFERROR(OFFSET(N_W_1_1_in!$P$5,AE107,0),\"-\")","v":"-"},"-","-",null,null,null,null,null,null,null,null,null,{"$f":"IFERROR(MATCH(D107,Nr_stad!$U$8:$U$60,0),0)","v":0},0,{"$f":"IF(D107=\"\",\"-\",MATCH(D107,N_W_1_1_in!$K$6:$K$15,0))","v":"-"},{"$f":"OFFSET(N_W_1_1_in!$L$5,AE107,1)","v":{"$error":"#VALUE!"}},{"$f":"OFFSET(N_W_1_1_in!$L$5,AE107,2)","v":{"$error":"#VALUE!"}},{"$f":"OFFSET(N_W_1_1_in!$L$5,AE107,3)","v":{"$error":"#VALUE!"}},{"$error":"#VALUE!"},{"$error":"#VALUE!"},{"$error":"#VALUE!"},{"$error":"#VALUE!"},{"$error":"#VALUE!"},{"$error":"#VALUE!"},{"$error":"#VALUE!"},{"$f":"IFERROR(OFFSET(N_W_1_1_in!$L$5,AE107,0),\"\")","v":""},{"$error":"#VALUE!"},{"$f":"IFERROR(OFFSET(N_W_1_1_in!$P$5,AE107,2),0)","v":0},{"$f":"IFERROR(IF(S107>5,OFFSET(N_W_1_1_in!$P$5,AE107,4),OFFSET(N_W_1_1_in!$P$5,AE107,3)),0)","v":0}]
[null,null,null,null,null,null,null,null,null,null,null,0,null,null,0,"-",{"$f":"IFERROR(OFFSET(N_W_1_1_in!$P$5,AE108,0),\"-\")","v":"-"},"-","-",null,null,null,null,null,null,null,null,null,{"$f":"IFERROR(MATCH(D108,Nr_stad!$U$8:$U$60,0),0)","v":0},0,{"$f":"IF(D108=\"\",\"-\",MATCH(D108,N_W_1_1_in!$K$6:$K$15,0))","v":"-"},{"$f":"OFFSET(N_W_1_1_in!$L$5,AE108,1)","v":{"$error":"#VALUE!"}},{"$f":"OFFSET(N_W_1_1_in!$L$5,AE108,2)","v":{"$error":"#VALUE!"}},{"$f":"OFFSET(N_W_1_1_in!$L$5,AE108,3)","v":{"$error":"#VALUE!"}},{"$error":"#VALUE!"},{"$error":"#VALUE!"},{"$error":"#VALUE!"},{"$error":"#VALUE!"},{"$error":"#VALUE!"},{"$error":"#VALUE!"},{"$error":"#VALUE!"},{"$f":"IFERROR(OFFSET(N_W_1_1_in!$L$5,AE108,0),\"\")","v":""},{"$error":"#VALUE!"},{"$f":"IFERROR(OFFSET(N_W_1_1_in!$P$5,AE108,2),0)","v":0},{"$f":"IFERROR(IF(S108>5,OFFSET(N_W_1_1_in!$P$5,AE108,4),OFFSET(N_W_1_1_in!$P$5,AE108,3)),0)","v":0}]
[null,null,null,null,null,null,null,null,null,null,null,0,null,null,0,"-",{"$f":"IFERROR(OFFSET(N_W_1_1_in!$P$5,AE109,0),\"-\")","v":"-"},"-","-",null,null,null,null,null,null,null,null,null,{"$f":"IFERROR(MATCH(D109,Nr_stad!$U$8:$U$60,0),0)","v":0},0,{"$f":"IF(D109=\"\",\"-\",MATCH(D109,N_W_1_1_in!$K$6:$K$15,0))","v":"-"},{"$f":"OFFSET(N_W_1_1_in!$L$5,AE109,1)","v":{"$error":"#VALUE!"}},{"$f":"OFFSET(N_W_1_1_in!$L$5,AE109,2)","v":{"$error":"#VALUE!"}},{"$f":"OFFSET(N_W_1_1_in!$L$5,AE109,3)","v":{"$error":"#VALUE!"}},{"$error":"#VALUE!"},{"$error":"#VALUE!"},{"$error":"#VALUE!"},{"$error":"#VALUE!"},{"$error":"#VALUE!"},{"$error":"#VALUE!"},{"$error":"#VALUE!"},{"$f":"IFERROR(OFFSET(N_W_1_1_in!$L$5,AE109,0),\"\")","v":""},{"$error":"#VALUE!"},{"$f":"IFERROR(OFFSET(N_W_1_1_in!$P$5,AE109,2),0)","v":0},{"$f":"IFERROR(IF(S109>5,OFFSET(N_W_1_1_in!$P$5,AE109,4),OFFSET(N_W_1_1_in!$P$5,AE109,3)),0)","v":0}]
[null,null,null,null,null,null,null,null,null,null,null,0,null,null,0,"-",{"$f":"IFERROR(OFFSET(N_W_1_1_in!$P$5,AE110,0),\"-\")","v":"-"},"-","-",null,null,null,null,null,null,null,null,null,{"$f":"IFERROR(MATCH(D110,Nr_stad!$U$8:$U$60,0),0)","v":0},0,{"$f":"IF(D110=\"\",\"-\",MATCH(D110,N_W_1_1_in!$K$6:$K$15,0))","v":"-"},{"$f":"OFFSET(N_W_1_1_in!$L$5,AE110,1)","v":{"$error":"#VALUE!"}},{"$f":"OFFSET(N_W_1_1_in!$L$5,AE110,2)","v":{"$error":"#VALUE!"}},{"$f":"OFFSET(N_W_1_1_in!$L$5,AE110,3)","v":{"$error":"#VALUE!"}},{"$error":"#VALUE!"},{"$error":"#VALUE!"},{"$error":"#VALUE!"},{"$error":"#VALUE!"},{"$error":"#VALUE!"},{"$error":"#VALUE!"},{"$error":"#VALUE!"},{"$f":"IFERROR(OFFSET(N_W_1_1_in!$L$5,AE110,0),\"\")","v":""},{"$error":"#VALUE!"},{"$f":"IFERROR(OFFSET(N_W_1_1_in!$P$5,AE110,2),0)","v":0},{"$f":"IFERROR(IF(S110>5,OFFSET(N_W_1_1_in!$P$5,AE110,4),OFFSET(N_W_1_1_in!$P$5,AE110,3)),0)","v":0}]
[null,null,null,null,null,null,null,null,null,null,null,0,null,null,0,"-",{"$f":"IFERROR(OFFSET(N_W_1_1_in!$P$5,AE111,0),\"-\")","v":"-"},"-","-",null,null,null,null,null,null,null,null,null,{"$f":"IFERROR(MATCH(D111,Nr_stad!$U$8:$U$60,0),0)","v":0},0,{"$f":"IF(D111=\"\",\"-\",MATCH(D111,N_W_1_1_in!$K$6:$K$15,0))","v":"-"},{"$f":"OFFSET(N_W_1_1_in!$L$5,AE111,1)","v":{"$error":"#VALUE!"}},{"$f":"OFFSET(N_W_1_1_in!$L$5,AE111,2)","v":{"$error":"#VALUE!"}},{"$f":"OFFSET(N_W_1_1_in!$L$5,AE111,3)","v":{"$error":"#VALUE!"}},{"$error":"#VALUE!"},{"$error":"#VALUE!"},{"$error":"#VALUE!"},{"$error":"#VALUE!"},{"$error":"#VALUE!"},{"$error":"#VALUE!"},{"$error":"#VALUE!"},{"$f":"IFERROR(OFFSET(N_W_1_1_in!$L$5,AE111,0),\"\")","v":""},{"$error":"#VALUE!"},{"$f":"IFERROR(OFFSET(N_W_1_1_in!$P$5,AE111,2),0)","v":0},{"$f":"IFERROR(IF(S111>5,OFFSET(N_W_1_1_in!$P$5,AE111,4),OFFSET(N_W_1_1_in!$P$5,AE111,3)),0)","v":0}]
[null,null,null,null,null,null,null,null,null,null,null,0,null,null,0,"-",{"$f":"IFERROR(OFFSET(N_W_1_1_in!$P$5,AE112,0),\"-\")","v":"-"},"-","-",null,null,null,null,null,null,null,null,null,{"$f":"IFERROR(MATCH(D112,Nr_stad!$U$8:$U$60,0),0)","v":0},0,{"$f":"IF(D112=\"\",\"-\",MATCH(D112,N_W_1_1_in!$K$6:$K$15,0))","v":"-"},{"$f":"OFFSET(N_W_1_1_in!$L$5,AE112,1)","v":{"$error":"#VALUE!"}},{"$f":"OFFSET(N_W_1_1_in!$L$5,AE112,2)","v":{"$error":"#VALUE!"}},{"$f":"OFFSET(N_W_1_1_in!$L$5,AE112,3)","v":{"$error":"#VALUE!"}},{"$error":"#VALUE!"},{"$error":"#VALUE!"},{"$error":"#VALUE!"},{"$error":"#VALUE!"},{"$error":"#VALUE!"},{"$error":"#VALUE!"},{"$error":"#VALUE!"},{"$f":"IFERROR(OFFSET(N_W_1_1_in!$L$5,AE112,0),\"\")","v":""},{"$error":"#VALUE!"},{"$f":"IFERROR(OFFSET(N_W_1_1_in!$P$5,AE112,2),0)","v":0},{"$f":"IFERROR(IF(S112>5,OFFSET(N_W_1_1_in!$P$5,AE112,4),OFFSET(N_W_1_1_in!$P$5,AE112,3)),0)","v":0}]
[null,null,null,null,null,null,null,null,null,null,null,0,null,null,0,"-",{"$f":"IFERROR(OFFSET(N_W_1_1_in!$P$5,AE113,0),\"-\")","v":"-"},"-","-",null,null,null,null,null,null,null,null,null,{"$f":"IFERROR(MATCH(D113,Nr_stad!$U$8:$U$60,0),0)","v":0},0,{"$f":"IF(D113=\"\",\"-\",MATCH(D113,N_W_1_1_in!$K$6:$K$15,0))","v":"-"},{"$f":"OFFSET(N_W_1_1_in!$L$5,AE113,1)","v":{"$error":"#VALUE!"}},{"$f":"OFFSET(N_W_1_1_in!$L$5,AE113,2)","v":{"$error":"#VALUE!"}},{"$f":"OFFSET(N_W_1_1_in!$L$5,AE113,3)","v":{"$error":"#VALUE!"}},{"$error":"#VALUE!"},{"$error":"#VALUE!"},{"$error":"#VALUE!"},{"$error":"#VALUE!"},{"$error":"#VALUE!"},{"$error":"#VALUE!"},{"$error":"#VALUE!"},{"$f":"IFERROR(OFFSET(N_W_1_1_in!$L$5,AE113,0),\"\")","v":""},{"$error":"#VALUE!"},{"$f":"IFERROR(OFFSET(N_W_1_1_in!$P$5,AE113,2),0)","v":0},{"$f":"IFERROR(IF(S113>5,OFFSET(N_W_1_1_in!$P$5,AE113,4),OFFSET(N_W_1_1_in!$P$5,AE113,3)),0)","v":0}]
[null,null,null,null,null,null,null,null,null,null,null,0,null,null,0,"-",{"$f":"IFERROR(OFFSET(N_W_1_1_in!$P$5,AE114,0),\"-\")","v":"-"},"-","-",null,null,null,null,null,null,null,null,null,{"$f":"IFERROR(MATCH(D114,Nr_stad!$U$8:$U$60,0),0)","v":0},0,{"$f":"IF(D114=\"\",\"-\",MATCH(D114,N_W_1_1_in!$K$6:$K$15,0))","v":"-"},{"$f":"OFFSET(N_W_1_1_in!$L$5,AE114,1)","v":{"$error":"#VALUE!"}},{"$f":"OFFSET(N_W_1_1_in!$L$5,AE114,2)","v":{"$error":"#VALUE!"}},{"$f":"OFFSET(N_W_1_1_in!$L$5,AE114,3)","v":{"$error":"#VALUE!"}},{"$error":"#VALUE!"},{"$error":"#VALUE!"},{"$error":"#VALUE!"},{"$error":"#VALUE!"},{"$error":"#VALUE!"},{"$error":"#VALUE!"},{"$error":"#VALUE!"},{"$f":"IFERROR(OFFSET(N_W_1_1_in!$L$5,AE114,0),\"\")","v":""},{"$error":"#VALUE!"},{"$f":"IFERROR(OFFSET(N_W_1_1_in!$P$5,AE114,2),0)","v":0},{"$f":"IFERROR(IF(S114>5,OFFSET(N_W_1_1_in!$P$5,AE114,4),OFFSET(N_W_1_1_in!$P$5,AE114,3)),0)","v":0}]
[null,null,null,null,null,null,null,null,null,null,null,0,null,null,0,"-",{"$f":"IFERROR(OFFSET(N_W_1_1_in!$P$5,AE115,0),\"-\")","v":"-"},"-","-",null,null,null,null,null,null,null,null,null,{"$f":"IFERROR(MATCH(D115,Nr_stad!$U$8:$U$60,0),0)","v":0},0,{"$f":"IF(D115=\"\",\"-\",MATCH(D115,N_W_1_1_in!$K$6:$K$15,0))","v":"-"},{"$f":"OFFSET(N_W_1_1_in!$L$5,AE115,1)","v":{"$error":"#VALUE!"}},{"$f":"OFFSET(N_W_1_1_in!$L$5,AE115,2)","v":{"$error":"#VALUE!"}},{"$f":"OFFSET(N_W_1_1_in!$L$5,AE115,3)","v":{"$error":"#VALUE!"}},{"$error":"#VALUE!"},{"$error":"#VALUE!"},{"$error":"#VALUE!"},{"$error":"#VALUE!"},{"$error":"#VALUE!"},{"$error":"#VALUE!"},{"$error":"#VALUE!"},{"$f":"IFERROR(OFFSET(N_W_1_1_in!$L$5,AE115,0),\"\")","v":""},{"$error":"#VALUE!"},{"$f":"IFERROR(OFFSET(N_W_1_1_in!$P$5,AE115,2),0)","v":0},{"$f":"IFERROR(IF(S115>5,OFFSET(N_W_1_1_in!$P$5,AE115,4),OFFSET(N_W_1_1_in!$P$5,AE115,3)),0)","v":0}]
[null,null,null,null,null,null,null,null,null,null,null,0,null,null,0,"-",{"$f":"IFERROR(OFFSET(N_W_1_1_in!$P$5,AE116,0),\"-\")","v":"-"},"-","-",null,null,null,null,null,null,null,null,null,{"$f":"IFERROR(MATCH(D116,Nr_stad!$U$8:$U$60,0),0)","v":0},0,{"$f":"IF(D116=\"\",\"-\",MATCH(D116,N_W_1_1_in!$K$6:$K$15,0))","v":"-"},{"$f":"OFFSET(N_W_1_1_in!$L$5,AE116,1)","v":{"$error":"#VALUE!"}},{"$f":"OFFSET(N_W_1_1_in!$L$5,AE116,2)","v":{"$error":"#VALUE!"}},{"$f":"OFFSET(N_W_1_1_in!$L$5,AE116,3)","v":{"$error":"#VALUE!"}},{"$error":"#VALUE!"},{"$error":"#VALUE!"},{"$error":"#VALUE!"},{"$error":"#VALUE!"},{"$error":"#VALUE!"},{"$error":"#VALUE!"},{"$error":"#VALUE!"},{"$f":"IFERROR(OFFSET(N_W_1_1_in!$L$5,AE116,0),\"\")","v":""},{"$error":"#VALUE!"},{"$f":"IFERROR(OFFSET(N_W_1_1_in!$P$5,AE116,2),0)","v":0},{"$f":"IFERROR(IF(S116>5,OFFSET(N_W_1_1_in!$P$5,AE116,4),OFFSET(N_W_1_1_in!$P$5,AE116,3)),0)","v":0}]
[null,null,null,null,null,null,null,null,null,null,null,0,null,null,0,"-",{"$f":"IFERROR(OFFSET(N_W_1_1_in!$P$5,AE117,0),\"-\")","v":"-"},"-","-",null,null,null,null,null,null,null,null,null,{"$f":"IFERROR(MATCH(D117,Nr_stad!$U$8:$U$60,0),0)","v":0},0,{"$f":"IF(D117=\"\",\"-\",MATCH(D117,N_W_1_1_in!$K$6:$K$15,0))","v":"-"},{"$f":"OFFSET(N_W_1_1_in!$L$5,AE117,1)","v":{"$error":"#VALUE!"}},{"$f":"OFFSET(N_W_1_1_in!$L$5,AE117,2)","v":{"$error":"#VALUE!"}},{"$f":"OFFSET(N_W_1_1_in!$L$5,AE117,3)","v":{"$error":"#VALUE!"}},{"$error":"#VALUE!"},{"$error":"#VALUE!"},{"$error":"#VALUE!"},{"$error":"#VALUE!"},{"$error":"#VALUE!"},{"$error":"#VALUE!"},{"$error":"#VALUE!"},{"$f":"IFERROR(OFFSET(N_W_1_1_in!$L$5,AE117,0),\"\")","v":""},{"$error":"#VALUE!"},{"$f":"IFERROR(OFFSET(N_W_1_1_in!$P$5,AE117,2),0)","v":0},{"$f":"IFERROR(IF(S117>5,OFFSET(N_W_1_1_in!$P$5,AE117,4),OFFSET(N_W_1_1_in!$P$5,AE117,3)),0)","v":0}]
[null,null,null,null,null,null,null,null,null,null,null,0,null,null,0,"-",{"$f":"IFERROR(OFFSET(N_W_1_1_in!$P$5,AE118,0),\"-\")","v":"-"},"-","-",null,null,null,null,null,null,null,null,null,{"$f":"IFERROR(MATCH(D118,Nr_stad!$U$8:$U$60,0),0)","v":0},0,{"$f":"IF(D118=\"\",\"-\",MATCH(D118,N_W_1_1_in!$K$6:$K$15,0))","v":"-"},{"$f":"OFFSET(N_W_1_1_in!$L$5,AE118,1)","v":{"$error":"#VALUE!"}},{"$f":"OFFSET(N_W_1_1_in!$L$5,AE118,2)","v":{"$error":"#VALUE!"}},{"$f":"OFFSET(N_W_1_1_in!$L$5,AE118,3)","v":{"$error":"#VALUE!"}},{"$error":"#VALUE!"},{"$error":"#VALUE!"},{"$error":"#VALUE!"},{"$error":"#VALUE!"},{"$error":"#VALUE!"},{"$error":"#VALUE!"},{"$error":"#VALUE!"},{"$f":"IFERROR(OFFSET(N_W_1_1_in!$L$5,AE118,0),\"\")","v":""},{"$error":"#VALUE!"},{"$f":"IFERROR(OFFSET(N_W_1_1_in!$P$5,AE118,2),0)","v":0},{"$f":"IFERROR(IF(S118>5,OFFSET(N_W_1_1_in!$P$5,AE118,4),OFFSET(N_W_1_1_in!$P$5,AE118,3)),0)","v":0}]
[null,null,null,null,null,null,null,null,null,null,null,0,null,null,0,"-",{"$f":"IFERROR(OFFSET(N_W_1_1_in!$P$5,AE119,0),\"-\")","v":"-"},"-","-",null,null,null,null,null,null,null,null,null,{"$f":"IFERROR(MATCH(D119,Nr_stad!$U$8:$U$60,0),0)","v":0},0,{"$f":"IF(D119=\"\",\"-\",MATCH(D119,N_W_1_1_in!$K$6:$K$15,0))","v":"-"},{"$f":"OFFSET(N_W_1_1_in!$L$5,AE119,1)","v":{"$error":"#VALUE!"}},{"$f":"OFFSET(N_W_1_1_in!$L$5,AE119,2)","v":{"$error":"#VALUE!"}},{"$f":"OFFSET(N_W_1_1_in!$L$5,AE119,3)","v":{"$error":"#VALUE!"}},{"$error":"#VALUE!"},{"$error":"#VALUE!"},{"$error":"#VALUE!"},{"$error":"#VALUE!"},{"$error":"#VALUE!"},{"$error":"#VALUE!"},{"$error":"#VALUE!"},{"$f":"IFERROR(OFFSET(N_W_1_1_in!$L$5,AE119,0),\"\")","v":""},{"$error":"#VALUE!"},{"$f":"IFERROR(OFFSET(N_W_1_1_in!$P$5,AE119,2),0)","v":0},{"$f":"IFERROR(IF(S119>5,OFFSET(N_W_1_1_in!$P$5,AE119,4),OFFSET(N_W_1_1_in!$P$5,AE119,3)),0)","v":0}]
[null,null,null,null,null,null,null,null,null,null,null,0,null,null,0,"-",{"$f":"IFERROR(OFFSET(N_W_1_1_in!$P$5,AE120,0),\"-\")","v":"-"},"-","-",null,null,null,null,null,null,null,null,null,{"$f":"IFERROR(MATCH(D120,Nr_stad!$U$8:$U$60,0),0)","v":0},0,{"$f":"IF(D120=\"\",\"-\",MATCH(D120,N_W_1_1_in!$K$6:$K$15,0))","v":"-"},{"$f":"OFFSET(N_W_1_1_in!$L$5,AE120,1)","v":{"$error":"#VALUE!"}},{"$f":"OFFSET(N_W_1_1_in!$L$5,AE120,2)","v":{"$error":"#VALUE!"}},{"$f":"OFFSET(N_W_1_1_in!$L$5,AE120,3)","v":{"$error":"#VALUE!"}},{"$error":"#VALUE!"},{"$error":"#VALUE!"},{"$error":"#VALUE!"},{"$error":"#VALUE!"},{"$error":"#VALUE!"},{"$error":"#VALUE!"},{"$error":"#VALUE!"},{"$f":"IFERROR(OFFSET(N_W_1_1_in!$L$5,AE120,0),\"\")","v":""},{"$error":"#VALUE!"},{"$f":"IFERROR(OFFSET(N_W_1_1_in!$P$5,AE120,2),0)","v":0},{"$f":"IFERROR(IF(S120>5,OFFSET(N_W_1_1_in!$P$5,AE120,4),OFFSET(N_W_1_1_in!$P$5,AE120,3)),0)","v":0}]
[null,null,null,null,null,null,null,null,null,null,null,0,null,null,0,"-",{"$f":"IFERROR(OFFSET(N_W_1_1_in!$P$5,AE121,0),\"-\")","v":"-"},"-","-",null,null,null,null,null,null,null,null,null,{"$f":"IFERROR(MATCH(D121,Nr_stad!$U$8:$U$60,0),0)","v":0},0,{"$f":"IF(D121=\"\",\"-\",MATCH(D121,N_W_1_1_in!$K$6:$K$15,0))","v":"-"},{"$f":"OFFSET(N_W_1_1_in!$L$5,AE121,1)","v":{"$error":"#VALUE!"}},{"$f":"OFFSET(N_W_1_1_in!$L$5,AE121,2)","v":{"$error":"#VALUE!"}},{"$f":"OFFSET(N_W_1_1_in!$L$5,AE121,3)","v":{"$error":"#VALUE!"}},{"$error":"#VALUE!"},{"$error":"#VALUE!"},{"$error":"#VALUE!"},{"$error":"#VALUE!"},{"$error":"#VALUE!"},{"$error":"#VALUE!"},{"$error":"#VALUE!"},{"$f":"IFERROR(OFFSET(N_W_1_1_in!$L$5,AE121,0),\"\")","v":""},{"$error":"#VALUE!"},{"$f":"IFERROR(OFFSET(N_W_1_1_in!$P$5,AE121,2),0)","v":0},{"$f":"IFERROR(IF(S121>5,OFFSET(N_W_1_1_in!$P$5,AE121,4),OFFSET(N_W_1_1_in!$P$5,AE121,3)),0)","v":0}]
[null,null,null,null,null,null,null,null,null,null,null,0,null,null,0,"-",{"$f":"IFERROR(OFFSET(N_W_1_1_in!$P$5,AE122,0),\"-\")","v":"-"},"-","-",null,null,null,null,null,null,null,null,null,{"$f":"IFERROR(MATCH(D122,Nr_stad!$U$8:$U$60,0),0)","v":0},0,{"$f":"IF(D122=\"\",\"-\",MATCH(D122,N_W_1_1_in!$K$6:$K$15,0))","v":"-"},{"$f":"OFFSET(N_W_1_1_in!$L$5,AE122,1)","v":{"$error":"#VALUE!"}},{"$f":"OFFSET(N_W_1_1_in!$L$5,AE122,2)","v":{"$error":"#VALUE!"}},{"$f":"OFFSET(N_W_1_1_in!$L$5,AE122,3)","v":{"$error":"#VALUE!"}},{"$error":"#VALUE!"},{"$error":"#VALUE!"},{"$error":"#VALUE!"},{"$error":"#VALUE!"},{"$error":"#VALUE!"},{"$error":"#VALUE!"},{"$error":"#VALUE!"},{"$f":"IFERROR(OFFSET(N_W_1_1_in!$L$5,AE122,0),\"\")","v":""},{"$error":"#VALUE!"},{"$f":"IFERROR(OFFSET(N_W_1_1_in!$P$5,AE122,2),0)","v":0},{"$f":"IFERROR(IF(S122>5,OFFSET(N_W_1_1_in!$P$5,AE122,4),OFFSET(N_W_1_1_in!$P$5,AE122,3)),0)","v":0}]
[null,null,null,"SUMA POWIERZCHNI BYTOWEJ KOJCÓW:",null,null,null,null,null,null,null,{"$f":"SUM(L22:L122)","v":0},"SUMA ŚWIŃ:",null,null,null,null,null,{"$f":"SUM(S22:S122)","v":0},{"$f":"SUM(T22:T122)","v":0},null,null,null,null,null,null,null,null,null,null,{"$f":"IFERROR(MATCH(5,AE22:AE122,0),0)","v":0}]
[null,null,null,null,null,null,null,null,null,null,null,null,"SUMA LICZBY LOCH i Loszek prośnych:",null,null,null,null,null,{"$f":"SUMIF(AP22:AP122,AP21,S22:S122)","v":0}]

{"sheet":"Krowy_MLECZNE_wypas","index":8,"n_rows":33,"n_cols":23,"rows_kept":33,"cut":false,"hidden":true,"merged":[[32,4,32,6],[30,10,30,13],[29,8,29,9],[34,10,34,12],[11,4,11,13],[30,4,30,5],[30,8,30,9],[31,4,31,5],[16,3,16,13],[18,3,18,6],[18,8,18,11],[19,3,19,6],[19,8,19,11],[22,3,22,11],[24,3,24,11],[26,3,26,11],[7,3,7,4],[10,4,10,13],[12,4,12,13],[7,6,7,7],[13,4,13,13]]}
[null,null,null,null,null,null,null,null,null,null,null,null,"POWRÓT"]
[]
[]
[null,null,"II. Część szczegółowa  ",null,null,null,null,null,null,null,null,null,null,null,null,null,"UWAGI:"]
[null,null,"II.2.","Pakiet 2.","Dobrostan krów:"]
[null,null,"II.2.1.","wariant 2.1.","Dobrostan krów mlecznych – wypas"]
[]
[null,null,"II.2.1.1.","Numer siedziby stada:",null,"PL"]
[]
[null,null,"II.2.1.2.","Informacja o stadzie krów mlecznych"]
[]
[null,null,null,null,"Wszystkie krowy mleczne są zarejstrowane  jako typ użytkowy mleczny"]
[null,null,null,null,"W gospodarstwie będzie prowadzony rejestr wypasów na formularzu udostępnionym przez ARiMR"]
[null,null,null,null,"Załącznik do planu - szkic gospodarstwa rolnego ze wskazanymi działkami ewidencyjnymi, na których wypasane są krowy mleczne "]
[]
[]
[null,null,null,"Oświadczam, że na dzień sporządzenia planu poprawy dobrostanu zwierząt, spełnienione są odpowiednie obowiązkowe normy ustanowione zgodnie z tytułem VI rozdział I rozporządzenia nr 1306/2013 oraz inne odpowiednie obowiązkowe wymogi dotyczące wielkości powierzchni w budynkach inwentarskich, wynikające z prawa krajowego – dla innych niż krowy mleczne grup technologicznych bydła w typie użytkowym mlecznym "]
[]
[]
[null,null,null,"(miejscowość i data)",null,null,null,null,"(czytelny podpis rolnika)"]
[null,null,"II.2.1.3.","Zapewnienie wypasu"]
[null,null,null,"Gospodarstwo przeznacza do wypasu następujące powierzchnie:"]
[null,null,null,"trwałe użytki zielone:",null,null,null,null,null,null,null,null,10]
[]
[null,null,null,"grunty orne, na których występują trawy lub inne zielne rośliny pastewne:",null,null,null,null,null,null,null,null,5]
[]
[null,null,null,"ugory, na których występują trawy lub inne zielne rośliny pastewne  przeznaczone do wypasu:",null,null,null,null,null,null,null,null,1]
[]
[null,null,null,"Krowy będą wypasane, bez uwięzi:",null,null,null,null,null,null,null,null,null,null,null,null,null,null,"okres",null,null,"min","różn."]
[null,null,null,null,null,null,{"$f":"IF(AND(G31>0,G31<T31),\"Za wcześnie\",\"\")","v":""},null,{"$f":"IF(I31>U31,\"Za późno\",\"\")","v":""}]
[null,null,null,null,"w terminie od",null,"2019-05-15","do","2019-09-15",null,{"$f":"IF(AND(I31>0,G31>0,S31<V31),W31,\"\")","v":""},null,null,null,null,null,null,null,{"$f":"I31-G31","v":123},"2019-04-15","2019-10-15",120,{"$f":"V31-S31","v":-3}]
[]
[null,null,null,null,"przez co najmniej",null,null,6,"godzin dziennie",null,null,null,null,null,null,null,null,null,null,null,null,6]

{"sheet":"Swinie_inne(T)","index":9,"n_rows":131,"n_cols":32,"rows_kept":131,"cut":false,"hidden":false,"merged":[[5,6,5,7],[8,4,8,14],[10,3,10,5],[10,7,10,10],[10,12,10,14],[11,3,11,5],[11,7,11,10],[11,12,11,14],[21,3,21,12],[22,3,22,7],[22,8,22,9],[22,10,22,12],[22,13,23,13],[23,3,24,6],[23,7,24,7],[23,8,24,8],[12,3,12,13],[13,4,13,10],[14,4,14,9],[15,3,15,8],[17,3,17,7],[19,3,19,8],[31,3,31,6],[32,3,32,6],[33,3,33,6],[34,3,34,6],[35,3,35,6],[36,3,36,6],[25,3,25,6],[26,3,26,6],[27,3,27,6],[28,3,28,6],[29,3,29,6],[30,3,30,6],[43,3,43,6],[44,3,44,6],[45,3,45,6],[46,3,46,6],[47,3,47,6],[48,3,48,6],[37,3,37,6],[38,3,38,6],[39,3,39,6],[40,3,40,6],[41,3,41,6],[42,3,42,6],[55,3,55,6],[56,3,56,6],[57,3,57,6],[58,3,58,6],[59,3,59,6],[60,3,60,6],[49,3,49,6],[50,3,50,6],[51,3,51,6],[52,3,52,6],[53,3,53,6],[54,3,54,6],[67,3,67,6],[68,3,68,6],[69,3,69,6],[70,3,70,6],[71,3,71,6],[72,3,72,6],[61,3,61,6],[62,3,62,6],[63,3,63,6],[64,3,64,6],[65,3,65,6],[66,3,66,6],[79,3,79,6],[80,3,80,6],[81,3,81,6],[82,3,82,6],[83,3,83,6],[84,3,84,6],[73,3,73,6],[74,3,74,6],[75,3,75,6],[76,3,76,6],[77,3,77,6],[78,3,78,6],[91,3,91,6],[92,3,92,6],[93,3,93,6],[94,3,94,6],[95,3,95,6],[96,3,96,6],[85,3,85,6],[86,3,86,6],[87,3,87,6],[88,3,88,6],[89,3,89,6],[90,3,90,6],[104,3,104,6],[105,3,105,6],[106,3,106,6],[107,3,107,6],[108,3,108,6],[97,3,97,6],[98,3,98,6],[99,3,99,6],[100,3,100,6],[101,3,101,6],[102,3,102,6],[128,3,128,13],[130,11,130,13],[22,15,23,15],[4,2,4,16],[7,2,7,16],[121,3,121,6],[122,3,122,6],[123,3,123,6],[124,3,124,6],[125,3,125,6],[126,7,126,13],[115,3,115,6],[116,3,116,6],[117,3,117,6],[118,3,118,6],[119,3,119,6],[120,3,120,6],[109,3,109,6],[110,3,110,6],[111,3,111,6],[112,3,112,6],[113,3,113,6],[114,3,114,6],[103,3,103,6]]}
[null,null,null,null,null,null,null,null,null,null,null,null,null,null,"POWRÓT",null,null,null,null,null,null,null,null,null,null,null,null,null,null,null,null,"UWAGI"]
[]
[null,null,"II. Część szczegółowa  "]
[]
[null,null,"Inne grupy technologiczne świń nieobjęte wymogami wariantu 1.2. Dobrostan tuczników -  zwiększona powierzchnia w budynkach"]
[null,null,"II.1.2.1.","Numer siedziby stada:"]
[]
[null,null,"WARCHLAKI I TUCZNIKI"]
[null,null,null,{"$f":"IF(S9=TRUE,T9,U9)","v":"☐"},"Do planu poprawy dobrostanu zwierząt dołączono szkic obiektów ze wskazanymi kojcami, w których utrzymywane są warchlaki i tuczniki",null,null,null,null,null,null,null,null,null,null,null,null,null,false,"☒","☐"]
[]
[]
[null,null,null,"(miejscowość i data)",null,null,null,"(czytelny podpis rolnika)",null,null,null,null,"(czytelny podpis doradcy)"]
[null,null,null,"Tuczniki  kwalifikujące się do płatności pochodzą z gospodarstwa objętego/gospodarstw objętych wariantem 1.1.:"]
[null,null,null,{"$f":"IF(S14=TRUE,T14,U14)","v":"☒"},"z własnego gospodarstwa",null,null,null,null,null,null,null,null,null,null,null,null,null,true,"☒","☐"]
[null,null,null,{"$f":"IF(S15=TRUE,T15,U15)","v":"☒"},"z zewnątrz ",null,null,null,null,null,null,null,null,null,null,null,null,null,true,"☒","☐"]
[null,null,null,"Maksymalna masa warchlaka wynosi:",null,null,null,null,null,null,"kg/1 szt."]
[]
[null,null,null,"Minimalna masa sprzedanego tucznika  wynosi:",null,null,null,null,null,90,"kg/1 szt."]
[]
[null,null,null,"Minimalny okres tuczu tucznika wynosi:",null,null,null,null,null,2,"m-cy"]
[]
[null,null,null,"Dopuszczalna maksymalna liczba WARCHLAKÓW I TUCZNIKÓW, które mogą przebywać jednocześnie w gospodarstwie z uwzględnieniem  obowiązkowych wymogów dotyczących wielkości powierzchni w budynkach inwentarskich, wynikających z prawa krajowego "]
[null,null,null,"Obiekt",null,null,null,null,"Grupa technologiczna",null,"Powierzchnia bytowa kojca ",null,null,"Powierzchnia minimalna","Maksymalna liczba","Stan na dzień sporządzenia planu"]
[null,null,null,"Numer siedziby stada \nalbo Nazwa obiektu",null,null,null,"Nr kojca","Nazwa grupy","Maksymalna masa\nsztuki w kojcu","Dł.","Szer.","Pow.",null,"warchlaków/tuczników"]
[null,null,null,null,null,null,null,null,null,"kg","m","m","m2","m2/szt","szt","szt",null,null,null,null,10,20,30,50,85,110,110,"wyb","licz. Min","sum tucz"]
[null,null,null,null,null,null,null,null,{"$f":"IF(S26>0,\"-\",(IF(AND(J26<=$J$16,J26>0),\"warchlaki\",IF(AND(J26>$J$16,$J$16>0),\"tuczniki\",\"\"))))","v":""},null,null,null,{"$f":"K26*L26","v":0},{"$f":"IF(S26>0,\"-\",OFFSET(N_W_1_2!$G$4,AB26,0))","v":0},{"$f":"IF(AC26>1,AC26,\"-\")","v":"-"},null,null,null,{"$f":"IFERROR(MATCH(D26,Nr_stad!$U$8:$U$60,0),0)","v":0},{"$f":"SUM(H26:O26)+S26","v":0},{"$f":"IF(AND($J26>1,$J26<=U$25),1,0)","v":0},{"$f":"IF($J26>U$25,2,0)","v":0},{"$f":"IF($J26>V$25,3,0)","v":0},{"$f":"IF($J26>W$25,4,0)","v":0},{"$f":"IF($J26>X$25,5,0)","v":0},{"$f":"IF($J26>Y$25,6,0)","v":0},{"$f":"IF($J26>Z$25,7,0)","v":0},{"$f":"MAX(U26:AA26)","v":0},{"$f":"IFERROR(TRUNC(M26/N26),\"-\")","v":"-"},{"$f":"IF(I26=\"tuczniki\",\"T\",\"\")","v":""}]
[null,null,null,null,null,null,null,null,{"$f":"IF(S27>0,\"-\",(IF(AND(J27<=$J$16,J27>0),\"warchlaki\",IF(AND(J27>$J$16,$J$16>0),\"tuczniki\",\"\"))))","v":""},null,null,null,{"$f":"K27*L27","v":0},{"$f":"IF(S27>0,\"-\",OFFSET(N_W_1_2!$G$4,AB27,0))","v":0},{"$f":"IF(AC27>1,AC27,\"-\")","v":"-"},null,null,null,{"$f":"IFERROR(MATCH(D27,Nr_stad!$U$8:$U$60,0),0)","v":0},{"$f":"SUM(H27:O27)+S27","v":0},{"$f":"IF(AND($J27>1,$J27<=U$25),1,0)","v":0},{"$f":"IF($J27>U$25,2,0)","v":0},{"$f":"IF($J27>V$25,3,0)","v":0},{"$f":"IF($J27>W$25,4,0)","v":0},{"$f":"IF($J27>X$25,5,0)","v":0},{"$f":"IF($J27>Y$25,6,0)","v":0},{"$f":"IF($J27>Z$25,7,0)","v":0},{"$f":"MAX(U27:AA27)","v":0},{"$f":"IFERROR(TRUNC(M27/N27),\"-\")","v":"-"},{"$f":"IF(I27=\"tuczniki\",\"T\",\"\")","v":""}]
[null,null,null,null,null,null,null,null,"",null,null,null,0,{"$f":"IF(S28>0,\"-\",OFFSET(N_W_1_2!$G$4,AB28,0))","v":0},"-",null,null,null,{"$f":"IFERROR(MATCH(D28,Nr_stad!$U$8:$U$60,0),0)","v":0},0,0,0,0,0,0,0,0,0,"-",""]
[null,null,null,null,null,null,null,null,"",null,null,null,0,{"$f":"IF(S29>0,\"-\",OFFSET(N_W_1_2!$G$4,AB29,0))","v":0},"-",null,null,null,{"$f":"IFERROR(MATCH(D29,Nr_stad!$U$8:$U$60,0),0)","v":0},0,0,0,0,0,0,0,0,0,"-",""]
[null,null,null,null,null,null,null,null,"",null,null,null,0,{"$f":"IF(S30>0,\"-\",OFFSET(N_W_1_2!$G$4,AB30,0))","v":0},"-",null,null,null,{"$f":"IFERROR(MATCH(D30,Nr_stad!$U$8:$U$60,0),0)","v":0},0,0,0,0,0,0,0,0,0,"-",""]
[null,null,null,null,null,null,null,null,"",null,null,null,0,{"$f":"IF(S31>0,\"-\",OFFSET(N_W_1_2!$G$4,AB31,0))","v":0},"-",null,null,null,{"$f":"IFERROR(MATCH(D31,Nr_stad!$U$8:$U$60,0),0)","v":0},0,0,0,0,0,0,0,0,0,"-",""]
[null,null,null,null,null,null,null,null,"",null,null,null,0,{"$f":"IF(S32>0,\"-\",OFFSET(N_W_1_2!$G$4,AB32,0))","v":0},"-",null,null,null,{"$f":"IFERROR(MATCH(D32,Nr_stad!$U$8:$U$60,0),0)","v":0},0,0,0,0,0,0,0,0,0,"-",""]
[null,null,null,null,null,null,null,null,"",null,null,null,0,{"$f":"IF(S33>0,\"-\",OFFSET(N_W_1_2!$G$4,AB33,0))","v":0},"-",null,null,null,{"$f":"IFERROR(MATCH(D33,Nr_stad!$U$8:$U$60,0),0)","v":0},0,0,0,0,0,0,0,0,0,"-",""]
[null,null,null,null,null,null,null,null,"",null,null,null,0,{"$f":"IF(S34>0,\"-\",OFFSET(N_W_1_2!$G$4,AB34,0))","v":0},"-",null,null,null,{"$f":"IFERROR(MATCH(D34,Nr_stad!$U$8:$U$60,0),0)","v":0},0,0,0,0,0,0,0,0,0,"-",""]
[null,null,null,null,null,null,null,null,"",null,null,null,0,{"$f":"IF(S35>0,\"-\",OFFSET(N_W_1_2!$G$4,AB35,0))","v":0},"-",null,null,null,{"$f":"IFERROR(MATCH(D35,Nr_stad!$U$8:$U$60,0),0)","v":0},0,0,0,0,0,0,0,0,0,"-",""]
[null,null,null,null,null,null,null,null,"",null,null,null,0,{"$f":"IF(S36>0,\"-\",OFFSET(N_W_1_2!$G$4,AB36,0))","v":0},"-",null,null,null,{"$f":"IFERROR(MATCH(D36,Nr_stad!$U$8:$U$60,0),0)","v":0},0,0,0,0,0,0,0,0,0,"-",""]
[null,null,null,null,null,null,null,null,"",null,null,null,0,{"$f":"IF(S37>0,\"-\",OFFSET(N_W_1_2!$G$4,AB37,0))","v":0},"-",null,null,null,{"$f":"IFERROR(MATCH(D37,Nr_stad!$U$8:$U$60,0),0)","v":0},0,0,0,0,0,0,0,0,0,"-",""]
[null,null,null,null,null,null,null,null,"",null,null,null,0,{"$f":"IF(S38>0,\"-\",OFFSET(N_W_1_2!$G$4,AB38,0))","v":0},"-",null,null,null,{"$f":"IFERROR(MATCH(D38,Nr_stad!$U$8:$U$60,0),0)","v":0},0,0,0,0,0,0,0,0,0,"-",""]
[null,null,null,null,null,null,null,null,"",null,null,null,0,{"$f":"IF(S39>0,\"-\",OFFSET(N_W_1_2!$G$4,AB39,0))","v":0},"-",null,null,null,{"$f":"IFERROR(MATCH(D39,Nr_stad!$U$8:$U$60,0),0)","v":0},0,0,0,0,0,0,0,0,0,"-",""]
[null,null,null,null,null,null,null,null,"",null,null,null,0,{"$f":"IF(S40>0,\"-\",OFFSET(N_W_1_2!$G$4,AB40,0))","v":0},"-",null,null,null,{"$f":"IFERROR(MATCH(D40,Nr_stad!$U$8:$U$60,0),0)","v":0},0,0,0,0,0,0,0,0,0,"-",""]
[null,null,null,null,null,null,null,null,"",null,null,null,0,{"$f":"IF(S41>0,\"-\",OFFSET(N_W_1_2!$G$4,AB41,0))","v":0},"-",null,null,null,{"$f":"IFERROR(MATCH(D41,Nr_stad!$U$8:$U$60,0),0)","v":0},0,0,0,0,0,0,0,0,0,"-",""]
[null,null,null,null,null,null,null,null,"",null,null,null,0,{"$f":"IF(S42>0,\"-\",OFFSET(N_W_1_2!$G$4,AB42,0))","v":0},"-",null,null,null,{"$f":"IFERROR(MATCH(D42,Nr_stad!$U$8:$U$60,0),0)","v":0},0,0,0,0,0,0,0,0,0,"-",""]
[null,null,null,null,null,null,null,null,"",null,null,null,0,{"$f":"IF(S43>0,\"-\",OFFSET(N_W_1_2!$G$4,AB43,0))","v":0},"-",null,null,null,{"$f":"IFERROR(MATCH(D43,Nr_stad!$U$8:$U$60,0),0)","v":0},0,0,0,0,0,0,0,0,0,"-",""]
[null,null,null,null,null,null,null,null,"",null,null,null,0,{"$f":"IF(S44>0,\"-\",OFFSET(N_W_1_2!$G$4,AB44,0))","v":0},"-",null,null,null,{"$f":"IFERROR(MATCH(D44,Nr_stad!$U$8:$U$60,0),0)","v":0},0,0,0,0,0,0,0,0,0,"-",""]
[null,null,null,null,null,null,null,null,"",null,null,null,0,{"$f":"IF(S45>0,\"-\",OFFSET(N_W_1_2!$G$4,AB45,0))","v":0},"-",null,null,null,{"$f":"IFERROR(MATCH(D45,Nr_stad!$U$8:$U$60,0),0)","v":0},0,0,0,0,0,0,0,0,0,"-",""]
[null,null,null,null,null,null,null,null,"",null,null,null,0,{"$f":"IF(S46>0,\"-\",OFFSET(N_W_1_2!$G$4,AB46,0))","v":0},"-",null,null,null,{"$f":"IFERROR(MATCH(D46,Nr_stad!$U$8:$U$60,0),0)","v":0},0,0,0,0,0,0,0,0,0,"-",""]
[null,null,null,null,null,null,null,null,"",null,null,null,0,{"$f":"IF(S47>0,\"-\",OFFSET(N_W_1_2!$G$4,AB47,0))","v":0},"-",null,null,null,{"$f":"IFERROR(MATCH(D47,Nr_stad!$U$8:$U$60,0),0)","v":0},0,0,0,0,0,0,0,0,0,"-",""]
[null,null,null,null,null,null,null,null,"",null,null,null,0,{"$f":"IF(S48>0,\"-\",OFFSET(N_W_1_2!$G$4,AB48,0))","v":0},"-",null,null,null,{"$f":"IFERROR(MATCH(D48,Nr_stad!$U$8:$U$60,0),0)","v":0},0,0,0,0,0,0,0,0,0,"-",""]
[null,null,null,null,null,null,null,null,"",null,null,null,0,{"$f":"IF(S49>0,\"-\",OFFSET(N_W_1_2!$G$4,AB49,0))","v":0},"-",null,null,null,{"$f":"IFERROR(MATCH(D49,Nr_stad!$U$8:$U$60,0),0)","v":0},0,0,0,0,0,0,0,0,0,"-",""]
[null,null,null,null,null,null,null,null,"",null,null,null,0,{"$f":"IF(S50>0,\"-\",OFFSET(N_W_1_2!$G$4,AB50,0))","v":0},"-",null,null,null,{"$f":"IFERROR(MATCH(D50,Nr_stad!$U$8:$U$60,0),0)","v":0},0,0,0,0,0,0,0,0,0,"-",""]
[null,null,null,null,null,null,null,null,"",null,null,null,0,{"$f":"IF(S51>0,\"-\",OFFSET(N_W_1_2!$G$4,AB51,0))","v":0},"-",null,null,null,{"$f":"IFERROR(MATCH(D51,Nr_stad!$U$8:$U$60,0),0)","v":0},0,0,0,0,0,0,0,0,0,"-",""]
[null,null,null,null,null,null,null,null,"",null,null,null,0,{"$f":"IF(S52>0,\"-\",OFFSET(N_W_1_2!$G$4,AB52,0))","v":0},"-",null,null,null,{"$f":"IFERROR(MATCH(D52,Nr_stad!$U$8:$U$60,0),0)","v":0},0,0,0,0,0,0,0,0,0,"-",""]
[null,null,null,null,null,null,null,null,"",null,null,null,0,{"$f":"IF(S53>0,\"-\",OFFSET(N_W_1_2!$G$4,AB53,0))","v":0},"-",null,null,null,{"$f":"IFERROR(MATCH(D53,Nr_stad!$U$8:$U$60,0),0)","v":0},0,0,0,0,0,0,0,0,0,"-",""]
[null,null,null,null,null,null,null,null,"",null,null,null,0,{"$f":"IF(S54>0,\"-\",OFFSET(N_W_1_2!$G$4,AB54,0))","v":0},"-",null,null,null,{"$f":"IFERROR(MATCH(D54,Nr_stad!$U$8:$U$60,0),0)","v":0},0,0,0,0,0,0,0,0,0,"-",""]
[null,null,null,null,null,null,null,null,"",null,null,null,0,{"$f":"IF(S55>0,\"-\",OFFSET(N_W_1_2!$G$4,AB55,0))","v":0},"-",null,null,null,{"$f":"IFERROR(MATCH(D55,Nr_stad!$U$8:$U$60,0),0)","v":0},0,0,0,0,0,0,0,0,0,"-",""]
[null,null,null,null,null,null,null,null,"",null,null,null,0,{"$f":"IF(S56>0,\"-\",OFFSET(N_W_1_2!$G$4,AB56,0))","v":0},"-",null,null,null,{"$f":"IFERROR(MATCH(D56,Nr_stad!$U$8:$U$60,0),0)","v":0},0,0,0,0,0,0,0,0,0,"-",""]
[null,null,null,null,null,null,null,null,"",null,null,null,0,{"$f":"IF(S57>0,\"-\",OFFSET(N_W_1_2!$G$4,AB57,0))","v":0},"-",null,null,null,{"$f":"IFERROR(MATCH(D57,Nr_stad!$U$8:$U$60,0),0)","v":0},0,0,0,0,0,0,0,0,0,"-",""]
[null,null,null,null,null,null,null,null,"",null,null,null,0,{"$f":"IF(S58>0,\"-\",OFFSET(N_W_1_2!$G$4,AB58,0))","v":0},"-",null,null,null,{"$f":"IFERROR(MATCH(D58,Nr_stad!$U$8:$U$60,0),0)","v":0},0,0,0,0,0,0,0,0,0,"-",""]
[null,null,null,null,null,null,null,null,"",null,null,null,0,{"$f":"IF(S59>0,\"-\",OFFSET(N_W_1_2!$G$4,AB59,0))","v":0},"-",null,null,null,{"$f":"IFERROR(MATCH(D59,Nr_stad!$U$8:$U$60,0),0)","v":0},0,0,0,0,0,0,0,0,0,"-",""]
[null,null,null,null,null,null,null,null,"",null,null,null,0,{"$f":"IF(S60>0,\"-\",OFFSET(N_W_1_2!$G$4,AB60,0))","v":0},"-",null,null,null,{"$f":"IFERROR(MATCH(D60,Nr_stad!$U$8:$U$60,0),0)","v":0},0,0,0,0,0,0,0,0,0,"-",""]
[null,null,null,null,null,null,null,null,"",null,null,null,0,{"$f":"IF(S61>0,\"-\",OFFSET(N_W_1_2!$G$4,AB61,0))","v":0},"-",null,null,null,{"$f":"IFERROR(MATCH(D61,Nr_stad!$U$8:$U$60,0),0)","v":0},0,0,0,0,0,0,0,0,0,"-",""]
[null,null,null,null,null,null,null,null,"",null,null,null,0,{"$f":"IF(S62>0,\"-\",OFFSET(N_W_1_2!$G$4,AB62,0))","v":0},"-",null,null,null,{"$f":"IFERROR(MATCH(D62,Nr_stad!$U$8:$U$60,0),0)","v":0},0,0,0,0,0,0,0,0,0,"-",""]
[null,null,null,null,null,null,null,null,"",null,null,null,0,{"$f":"IF(S63>0,\"-\",OFFSET(N_W_1_2!$G$4,AB63,0))","v":0},"-",null,null,null,{"$f":"IFERROR(MATCH(D63,Nr_stad!$U$8:$U$60,0),0)","v":0},0,0,0,0,0,0,0,0,0,"-",""]
[null,null,null,null,null,null,null,null,"",null,null,null,0,{"$f":"IF(S64>0,\"-\",OFFSET(N_W_1_2!$G$4,AB64,0))","v":0},"-",null,null,null,{"$f":"IFERROR(MATCH(D64,Nr_stad!$U$8:$U$60,0),0)","v":0},0,0,0,0,0,0,0,0,0,"-",""]
[null,null,null,null,null,null,null,null,"",null,null,null,0,{"$f":"IF(S65>0,\"-\",OFFSET(N_W_1_2!$G$4,AB65,0))","v":0},"-",null,null,null,{"$f":"IFERROR(MATCH(D65,Nr_stad!$U$8:$U$60,0),0)","v":0},0,0,0,0,0,0,0,0,0,"-",""]
[null,null,null,null,null,null,null,null,"",null,null,null,0,{"$f":"IF(S66>0,\"-\",OFFSET(N_W_1_2!$G$4,AB66,0))","v":0},"-",null,null,null,{"$f":"IFERROR(MATCH(D66,Nr_stad!$U$8:$U$60,0),0)","v":0},0,0,0,0,0,0,0,0,0,"-",""]
[null,null,null,null,null,null,null,null,"",null,null,null,0,{"$f":"IF(S67>0,\"-\",OFFSET(N_W_1_2!$G$4,AB67,0))","v":0},"-",null,null,null,{"$f":"IFERROR(MATCH(D67,Nr_stad!$U$8:$U$60,0),0)","v":0},0,0,0,0,0,0,0,0,0,"-",""]
[null,null,null,null,null,null,null,null,"",null,null,null,0,{"$f":"IF(S68>0,\"-\",OFFSET(N_W_1_2!$G$4,AB68,0))","v":0},"-",null,null,null,{"$f":"IFERROR(MATCH(D68,Nr_stad!$U$8:$U$60,0),0)","v":0},0,0,0,0,0,0,0,0,0,"-",""]
[null,null,null,null,null,null,null,null,"",null,null,null,0,{"$f":"IF(S69>0,\"-\",OFFSET(N_W_1_2!$G$4,AB69,0))","v":0},"-",null,null,null,{"$f":"IFERROR(MATCH(D69,Nr_stad!$U$8:$U$60,0),0)","v":0},0,0,0,0,0,0,0,0,0,"-",""]
[null,null,null,null,null,null,null,null,"",null,null,null,0,{"$f":"IF(S70>0,\"-\",OFFSET(N_W_1_2!$G$4,AB70,0))","v":0},"-",null,null,null,{"$f":"IFERROR(MATCH(D70,Nr_stad!$U$8:$U$60,0),0)","v":0},0,0,0,0,0,0,0,0,0,"-",""]
[null,null,null,null,null,null,null,null,"",null,null,null,0,{"$f":"IF(S71>0,\"-\",OFFSET(N_W_1_2!$G$4,AB71,0))","v":0},"-",null,null,null,{"$f":"IFERROR(MATCH(D71,Nr_stad!$U$8:$U$60,0),0)","v":0},0,0,0,0,0,0,0,0,0,"-",""]
[null,null,null,null,null,null,null,null,"",null,null,null,0,{"$f":"IF(S72>0,\"-\",OFFSET(N_W_1_2!$G$4,AB72,0))","v":0},"-",null,null,null,{"$f":"IFERROR(MATCH(D72,Nr_stad!$U$8:$U$60,0),0)","v":0},0,0,0,0,0,0,0,0,0,"-",""]
[null,null,null,null,null,null,null,null,"",null,null,null,0,{"$f":"IF(S73>0,\"-\",OFFSET(N_W_1_2!$G$4,AB73,0))","v":0},"-",null,null,null,{"$f":"IFERROR(MATCH(D73,Nr_stad!$U$8:$U$60,0),0)","v":0},0,0,0,0,0,0,0,0,0,"-",""]
[null,null,null,null,null,null,null,null,"",null,null,null,0,{"$f":"IF(S74>0,\"-\",OFFSET(N_W_1_2!$G$4,AB74,0))","v":0},"-",null,null,null,{"$f":"IFERROR(MATCH(D74,Nr_stad!$U$8:$U$60,0),0)","v":0},0,0,0,0,0,0,0,0,0,"-",""]
[null,null,null,null,null,null,null,null,"",null,null,null,0,{"$f":"IF(S75>0,\"-\",OFFSET(N_W_1_2!$G$4,AB75,0))","v":0},"-",null,null,null,{"$f":"IFERROR(MATCH(D75,Nr_stad!$U$8:$U$60,0),0)","v":0},0,0,0,0,0,0,0,0,0,"-",""]
[null,null,null,null,null,null,null,null,"",null,null,null,0,{"$f":"IF(S76>0,\"-\",OFFSET(N_W_1_2!$G$4,AB76,0))","v":0},"-",null,null,null,{"$f":"IFERROR(MATCH(D76,Nr_stad!$U$8:$U$60,0),0)","v":0},0,0,0,0,0,0,0,0,0,"-",""]
[null,null,null,null,null,null,null,null,"",null,null,null,0,{"$f":"IF(S77>0,\"-\",OFFSET(N_W_1_2!$G$4,AB77,0))","v":0},"-",null,null,null,{"$f":"IFERROR(MATCH(D77,Nr_stad!$U$8:$U$60,0),0)","v":0},0,0,0,0,0,0,0,0,0,"-",""]
[null,null,null,null,null,null,null,null,"",null,null,null,0,{"$f":"IF(S78>0,\"-\",OFFSET(N_W_1_2!$G$4,AB78,0))","v":0},"-",null,null,null,{"$f":"IFERROR(MATCH(D78,Nr_stad!$U$8:$U$60,0),0)","v":0},0,0,0,0,0,0,0,0,0,"-",""]
[null,null,null,null,null,null,null,null,"",null,null,null,0,{"$f":"IF(S79>0,\"-\",OFFSET(N_W_1_2!$G$4,AB79,0))","v":0},"-",null,null,null,{"$f":"IFERROR(MATCH(D79,Nr_stad!$U$8:$U$60,0),0)","v":0},0,0,0,0,0,0,0,0,0,"-",""]
[null,null,null,null,null,null,null,null,"",null,null,null,0,{"$f":"IF(S80>0,\"-\",OFFSET(N_W_1_2!$G$4,AB80,0))","v":0},"-",null,null,null,{"$f":"IFERROR(MATCH(D80,Nr_stad!$U$8:$U$60,0),0)","v":0},0,0,0,0,0,0,0,0,0,"-",""]
[null,null,null,null,null,null,null,null,"",null,null,null,0,{"$f":"IF(S81>0,\"-\",OFFSET(N_W_1_2!$G$4,AB81,0))","v":0},"-",null,null,null,{"$f":"IFERROR(MATCH(D81,Nr_stad!$U$8:$U$60,0),0)","v":0},0,0,0,0,0,0,0,0,0,"-",""]
[null,null,null,null,null,null,null,null,"",null,null,null,0,{"$f":"IF(S82>0,\"-\",OFFSET(N_W_1_2!$G$4,AB82,0))","v":0},"-",null,null,null,{"$f":"IFERROR(MATCH(D82,Nr_stad!$U$8:$U$60,0),0)","v":0},0,0,0,0,0,0,0,0,0,"-",""]
[null,null,null,null,null,null,null,null,"",null,null,null,0,{"$f":"IF(S83>0,\"-\",OFFSET(N_W_1_2!$G$4,AB83,0))","v":0},"-",null,null,null,{"$f":"IFERROR(MATCH(D83,Nr_stad!$U$8:$U$60,0),0)","v":0},0,0,0,0,0,0,0,0,0,"-",""]
[null,null,null,null,null,null,null,null,"",null,null,null,0,{"$f":"IF(S84>0,\"-\",OFFSET(N_W_1_2!$G$4,AB84,0))","v":0},"-",null,null,null,{"$f":"IFERROR(MATCH(D84,Nr_stad!$U$8:$U$60,0),0)","v":0},0,0,0,0,0,0,0,0,0,"-",""]
[null,null,null,null,null,null,null,null,"",null,null,null,0,{"$f":"IF(S85>0,\"-\",OFFSET(N_W_1_2!$G$4,AB85,0))","v":0},"-",null,null,null,{"$f":"IFERROR(MATCH(D85,Nr_stad!$U$8:$U$60,0),0)","v":0},0,0,0,0,0,0,0,0,0,"-",""]
[null,null,null,null,null,null,null,null,"",null,null,null,0,{"$f":"IF(S86>0,\"-\",OFFSET(N_W_1_2!$G$4,AB86,0))","v":0},"-",null,null,null,{"$f":"IFERROR(MATCH(D86,Nr_stad!$U$8:$U$60,0),0)","v":0},0,0,0,0,0,0,0,0,0,"-",""]
[null,null,null,null,null,null,null,null,"",null,null,null,0,{"$f":"IF(S87>0,\"-\",OFFSET(N_W_1_2!$G$4,AB87,0))","v":0},"-",null,null,null,{"$f":"IFERROR(MATCH(D87,Nr_stad!$U$8:$U$60,0),0)","v":0},0,0,0,0,0,0,0,0,0,"-",""]
[null,null,null,null,null,null,null,null,"",null,null,null,0,{"$f":"IF(S88>0,\"-\",OFFSET(N_W_1_2!$G$4,AB88,0))","v":0},"-",null,null,null,{"$f":"IFERROR(MATCH(D88,Nr_stad!$U$8:$U$60,0),0)","v":0},0,0,0,0,0,0,0,0,0,"-",""]
[null,null,null,null,null,null,null,null,"",null,null,null,0,{"$f":"IF(S89>0,\"-\",OFFSET(N_W_1_2!$G$4,AB89,0))","v":0},"-",null,null,null,{"$f":"IFERROR(MATCH(D89,Nr_stad!$U$8:$U$60,0),0)","v":0},0,0,0,0,0,0,0,0,0,"-",""]
[null,null,null,null,null,null,null,null,"",null,null,null,0,{"$f":"IF(S90>0,\"-\",OFFSET(N_W_1_2!$G$4,AB90,0))","v":0},"-",null,null,null,{"$f":"IFERROR(MATCH(D90,Nr_stad!$U$8:$U$60,0),0)","v":0},0,0,0,0,0,0,0,0,0,"-",""]
[null,null,null,null,null,null,null,null,{"$f":"IF(S91>0,\"-\",(IF(AND(J91<=$J$16,J91>0),\"warchlaki\",IF(AND(J91>$J$16,$J$16>0),\"tuczniki\",\"\"))))","v":""},null,null,null,{"$f":"K91*L91","v":0},{"$f":"IF(S91>0,\"-\",OFFSET(N_W_1_2!$G$4,AB91,0))","v":0},{"$f":"IF(AC91>1,AC91,\"-\")","v":"-"},null,null,null,{"$f":"IFERROR(MATCH(D91,Nr_stad!$U$8:$U$60,0),0)","v":0},{"$f":"SUM(H91:O91)+S91","v":0},{"$f":"IF(AND($J91>1,$J91<=U$25),1,0)","v":0},{"$f":"IF($J91>U$25,2,0)","v":0},{"$f":"IF($J91>V$25,3,0)","v":0},{"$f":"IF($J91>W$25,4,0)","v":0},{"$f":"IF($J91>X$25,5,0)","v":0},{"$f":"IF($J91>Y$25,6,0)","v":0},{"$f":"IF($J91>Z$25,7,0)","v":0},{"$f":"MAX(U91:AA91)","v":0},{"$f":"IFERROR(TRUNC(M91/N91),\"-\")","v":"-"},{"$f":"IF(I91=\"tuczniki\",\"T\",\"\")","v":""}]
[null,null,null,null,null,null,null,null,"",null,null,null,0,{"$f":"IF(S92>0,\"-\",OFFSET(N_W_1_2!$G$4,AB92,0))","v":0},"-",null,null,null,{"$f":"IFERROR(MATCH(D92,Nr_stad!$U$8:$U$60,0),0)","v":0},0,0,0,0,0,0,0,0,0,"-",""]
[null,null,null,null,null,null,null,null,"",null,null,null,0,{"$f":"IF(S93>0,\"-\",OFFSET(N_W_1_2!$G$4,AB93,0))","v":0},"-",null,null,null,{"$f":"IFERROR(MATCH(D93,Nr_stad!$U$8:$U$60,0),0)","v":0},0,0,0,0,0,0,0,0,0,"-",""]
[null,null,null,null,null,null,null,null,"",null,null,null,0,{"$f":"IF(S94>0,\"-\",OFFSET(N_W_1_2!$G$4,AB94,0))","v":0},"-",null,null,null,{"$f":"IFERROR(MATCH(D94,Nr_stad!$U$8:$U$60,0),0)","v":0},0,0,0,0,0,0,0,0,0,"-",""]
[null,null,null,null,null,null,null,null,"",null,null,null,0,{"$f":"IF(S95>0,\"-\",OFFSET(N_W_1_2!$G$4,AB95,0))","v":0},"-",null,null,null,{"$f":"IFERROR(MATCH(D95,Nr_stad!$U$8:$U$60,0),0)","v":0},0,0,0,0,0,0,0,0,0,"-",""]
[null,null,null,null,null,null,null,null,"",null,null,null,0,{"$f":"IF(S96>0,\"-\",OFFSET(N_W_1_2!$G$4,AB96,0))","v":0},"-",null,null,null,{"$f":"IFERROR(MATCH(D96,Nr_stad!$U$8:$U$60,0),0)","v":0},0,0,0,0,0,0,0,0,0,"-",""]
[null,null,null,null,null,null,null,null,"",null,null,null,0,{"$f":"IF(S97>0,\"-\",OFFSET(N_W_1_2!$G$4,AB97,0))","v":0},"-",null,null,null,{"$f":"IFERROR(MATCH(D97,Nr_stad!$U$8:$U$60,0),0)","v":0},0,0,0,0,0,0,0,0,0,"-",""]
[null,null,null,null,null,null,null,null,"",null,null,null,0,{"$f":"IF(S98>0,\"-\",OFFSET(N_W_1_2!$G$4,AB98,0))","v":0},"-",null,null,null,{"$f":"IFERROR(MATCH(D98,Nr_stad!$U$8:$U$60,0),0)","v":0},0,0,0,0,0,0,0,0,0,"-",""]
[null,null,null,null,null,null,null,null,"",null,null,null,0,{"$f":"IF(S99>0,\"-\",OFFSET(N_W_1_2!$G$4,AB99,0))","v":0},"-",null,null,null,{"$f":"IFERROR(MATCH(D99,Nr_stad!$U$8:$U$60,0),0)","v":0},0,0,0,0,0,0,0,0,0,"-",""]
[null,null,null,null,null,null,null,null,"",null,null,null,0,{"$f":"IF(S100>0,\"-\",OFFSET(N_W_1_2!$G$4,AB100,0))","v":0},"-",null,null,null,{"$f":"IFERROR(MATCH(D100,Nr_stad!$U$8:$U$60,0),0)","v":0},0,0,0,0,0,0,0,0,0,"-",""]
[null,null,null,null,null,null,null,null,"",null,null,null,0,{"$f":"IF(S101>0,\"-\",OFFSET(N_W_1_2!$G$4,AB101,0))","v":0},"-",null,null,null,{"$f":"IFERROR(MATCH(D101,Nr_stad!$U$8:$U$60,0),0)","v":0},0,0,0,0,0,0,0,0,0,"-",""]
[null,null,null,null,null,null,null,null,"",null,null,null,0,{"$f":"IF(S102>0,\"-\",OFFSET(N_W_1_2!$G$4,AB102,0))","v":0},"-",null,null,null,{"$f":"IFERROR(MATCH(D102,Nr_stad!$U$8:$U$60,0),0)","v":0},0,0,0,0,0,0,0,0,0,"-",""]
[null,null,null,null,null,null,null,null,"",null,null,null,0,{"$f":"IF(S103>0,\"-\",OFFSET(N_W_1_2!$G$4,AB103,0))","v":0},"-",null,null,null,{"$f":"IFERROR(MATCH(D103,Nr_stad!$U$8:$U$60,0),0)","v":0},0,0,0,0,0,0,0,0,0,"-",""]
[null,null,null,null,null,null,null,null,"",null,null,null,0,{"$f":"IF(S104>0,\"-\",OFFSET(N_W_1_2!$G$4,AB104,0))","v":0},"-",null,null,null,{"$f":"IFERROR(MATCH(D104,Nr_stad!$U$8:$U$60,0),0)","v":0},0,0,0,0,0,0,0,0,0,"-",""]
[null,null,null,null,null,null,null,null,"",null,null,null,0,{"$f":"IF(S105>0,\"-\",OFFSET(N_W_1_2!$G$4,AB105,0))","v":0},"-",null,null,null,{"$f":"IFERROR(MATCH(D105,Nr_stad!$U$8:$U$60,0),0)","v":0},0,0,0,0,0,0,0,0,0,"-",""]
[null,null,null,null,null,null,null,null,"",null,null,null,0,{"$f":"IF(S106>0,\"-\",OFFSET(N_W_1_2!$G$4,AB106,0))","v":0},"-",null,null,null,{"$f":"IFERROR(MATCH(D106,Nr_stad!$U$8:$U$60,0),0)","v":0},0,0,0,0,0,0,0,0,0,"-",""]
[null,null,null,null,null,null,null,null,"",null,null,null,0,{"$f":"IF(S107>0,\"-\",OFFSET(N_W_1_2!$G$4,AB107,0))","v":0},"-",null,null,null,{"$f":"IFERROR(MATCH(D107,Nr_stad!$U$8:$U$60,0),0)","v":0},0,0,0,0,0,0,0,0,0,"-",""]
[null,null,null,null,null,null,null,null,"",null,null,null,0,{"$f":"IF(S108>0,\"-\",OFFSET(N_W_1_2!$G$4,AB108,0))","v":0},"-",null,null,null,{"$f":"IFERROR(MATCH(D108,Nr_stad!$U$8:$U$60,0),0)","v":0},0,0,0,0,0,0,0,0,0,"-",""]
[null,null,null,null,null,null,null,null,"",null,null,null,0,{"$f":"IF(S109>0,\"-\",OFFSET(N_W_1_2!$G$4,AB109,0))","v":0},"-",null,null,null,{"$f":"IFERROR(MATCH(D109,Nr_stad!$U$8:$U$60,0),0)","v":0},0,0,0,0,0,0,0,0,0,"-",""]
[null,null,null,null,null,null,null,null,"",null,null,null,0,{"$f":"IF(S110>0,\"-\",OFFSET(N_W_1_2!$G$4,AB110,0))","v":0},"-",null,null,null,{"$f":"IFERROR(MATCH(D110,Nr_stad!$U$8:$U$60,0),0)","v":0},0,0,0,0,0,0,0,0,0,"-",""]
[null,null,null,null,null,null,null,null,"",null,null,null,0,{"$f":"IF(S111>0,\"-\",OFFSET(N_W_1_2!$G$4,AB111,0))","v":0},"-",null,null,null,{"$f":"IFERROR(MATCH(D111,Nr_stad!$U$8:$U$60,0),0)","v":0},0,0,0,0,0,0,0,0,0,"-",""]
[null,null,null,null,null,null,null,null,"",null,null,null,0,{"$f":"IF(S112>0,\"-\",OFFSET(N_W_1_2!$G$4,AB112,0))","v":0},"-",null,null,null,{"$f":"IFERROR(MATCH(D112,Nr_stad!$U$8:$U$60,0),0)","v":0},0,0,0,0,0,0,0,0,0,"-",""]
[null,null,null,null,null,null,null,null,"",null,null,null,0,{"$f":"IF(S113>0,\"-\",OFFSET(N_W_1_2!$G$4,AB113,0))","v":0},"-",null,null,null,{"$f":"IFERROR(MATCH(D113,Nr_stad!$U$8:$U$60,0),0)","v":0},0,0,0,0,0,0,0,0,0,"-",""]
[null,null,null,null,null,null,null,null,"",null,null,null,0,{"$f":"IF(S114>0,\"-\",OFFSET(N_W_1_2!$G$4,AB114,0))","v":0},"-",null,null,null,{"$f":"IFERROR(MATCH(D114,Nr_stad!$U$8:$U$60,0),0)","v":0},0,0,0,0,0,0,0,0,0,"-",""]
[null,null,null,null,null,null,null,null,"",null,null,null,0,{"$f":"IF(S115>0,\"-\",OFFSET(N_W_1_2!$G$4,AB115,0))","v":0},"-",null,null,null,{"$f":"IFERROR(MATCH(D115,Nr_stad!$U$8:$U$60,0),0)","v":0},0,0,0,0,0,0,0,0,0,"-",""]
[null,null,null,null,null,null,null,null,"",null,null,null,0,{"$f":"IF(S116>0,\"-\",OFFSET(N_W_1_2!$G$4,AB116,0))","v":0},"-",null,null,null,{"$f":"IFERROR(MATCH(D116,Nr_stad!$U$8:$U$60,0),0)","v":0},0,0,0,0,0,0,0,0,0,"-",""]
[null,null,null,null,null,null,null,null,"",null,null,null,0,{"$f":"IF(S117>0,\"-\",OFFSET(N_W_1_2!$G$4,AB117,0))","v":0},"-",null,null,null,{"$f":"IFERROR(MATCH(D117,Nr_stad!$U$8:$U$60,0),0)","v":0},0,0,0,0,0,0,0,0,0,"-",""]
[null,null,null,null,null,null,null,null,"",null,null,null,0,{"$f":"IF(S118>0,\"-\",OFFSET(N_W_1_2!$G$4,AB118,0))","v":0},"-",null,null,null,{"$f":"IFERROR(MATCH(D118,Nr_stad!$U$8:$U$60,0),0)","v":0},0,0,0,0,0,0,0,0,0,"-",""]
[null,null,null,null,null,null,null,null,"",null,null,null,0,{"$f":"IF(S119>0,\"-\",OFFSET(N_W_1_2!$G$4,AB119,0))","v":0},"-",null,null,null,{"$f":"IFERROR(MATCH(D119,Nr_stad!$U$8:$U$60,0),0)","v":0},0,0,0,0,0,0,0,0,0,"-",""]
[null,null,null,null,null,null,null,null,"",null,null,null,0,{"$f":"IF(S120>0,\"-\",OFFSET(N_W_1_2!$G$4,AB120,0))","v":0},"-",null,null,null,{"$f":"IFERROR(MATCH(D120,Nr_stad!$U$8:$U$60,0),0)","v":0},0,0,0,0,0,0,0,0,0,"-",""]
[null,null,null,null,null,null,null,null,"",null,null,null,0,{"$f":"IF(S121>0,\"-\",OFFSET(N_W_1_2!$G$4,AB121,0))","v":0},"-",null,null,null,{"$f":"IFERROR(MATCH(D121,Nr_stad!$U$8:$U$60,0),0)","v":0},0,0,0,0,0,0,0,0,0,"-",""]
[null,null,null,null,null,null,null,null,"",null,null,null,0,{"$f":"IF(S122>0,\"-\",OFFSET(N_W_1_2!$G$4,AB122,0))","v":0},"-",null,null,null,{"$f":"IFERROR(MATCH(D122,Nr_stad!$U$8:$U$60,0),0)","v":0},0,0,0,0,0,0,0,0,0,"-",""]
[null,null,null,null,null,null,null,null,null,null,null,null,{"$f":"K123*L123","v":0},{"$f":"IF(S123>0,\"-\",OFFSET(N_W_1_2!$G$4,AB123,0))","v":0},"-",null,null,null,null,{"$f":"SUM(H123:O123)","v":0},{"$f":"IF(AND($H123>1,$H123<=U$25),1,0)","v":0},{"$f":"IF($H123>U$25,2,0)","v":0},{"$f":"IF($H123>V$25,3,0)","v":0},{"$f":"IF($H123>W$25,4,0)","v":0},{"$f":"IF($H123>X$25,5,0)","v":0},{"$f":"IF($H123>Y$25,6,0)","v":0},{"$f":"IF($H123>Z$25,7,0)","v":0},0,"-",{"$f":"IF(D123=\"tuczniki\",\"T\",\"\")","v":""}]
[null,null,null,null,null,null,null,null,null,null,null,null,{"$f":"K124*L124","v":0},{"$f":"IF(S124>0,\"-\",OFFSET(N_W_1_2!$G$4,AB124,0))","v":0},"-",null,null,null,null,{"$f":"SUM(H124:O124)","v":0},{"$f":"IF(AND($H124>1,$H124<=U$25),1,0)","v":0},{"$f":"IF($H124>U$25,2,0)","v":0},{"$f":"IF($H124>V$25,3,0)","v":0},{"$f":"IF($H124>W$25,4,0)","v":0},{"$f":"IF($H124>X$25,5,0)","v":0},{"$f":"IF($H124>Y$25,6,0)","v":0},{"$f":"IF($H124>Z$25,7,0)","v":0},0,"-",{"$f":"IF(D124=\"tuczniki\",\"T\",\"\")","v":""}]
[null,null,null,null,null,null,null,null,null,null,null,null,{"$f":"K125*L125","v":0},{"$f":"IF(S125>0,\"-\",OFFSET(N_W_1_2!$G$4,AB125,0))","v":0},"-",null,null,null,null,{"$f":"SUM(H125:O125)","v":0},{"$f":"IF(AND($H125>1,$H125<=U$25),1,0)","v":0},{"$f":"IF($H125>U$25,2,0)","v":0},{"$f":"IF($H125>V$25,3,0)","v":0},{"$f":"IF($H125>W$25,4,0)","v":0},{"$f":"IF($H125>X$25,5,0)","v":0},{"$f":"IF($H125>Y$25,6,0)","v":0},{"$f":"IF($H125>Z$25,7,0)","v":0},0,"-",{"$f":"IF(D125=\"tuczniki\",\"T\",\"\")","v":""}]
[null,null,null,null,null,null,null,null,null,null,null,null,{"$f":"K126*L126","v":0},{"$f":"IF(S126>0,\"-\",OFFSET(N_W_1_2!$G$4,AB126,0))","v":0},"-",null,null,null,null,{"$f":"SUM(H126:O126)","v":0},{"$f":"IF(AND($H126>1,$H126<=U$25),1,0)","v":0},{"$f":"IF($H126>U$25,2,0)","v":0},{"$f":"IF($H126>V$25,3,0)","v":0},{"$f":"IF($H126>W$25,4,0)","v":0},{"$f":"IF($H126>X$25,5,0)","v":0},{"$f":"IF($H126>Y$25,6,0)","v":0},{"$f":"IF($H126>Z$25,7,0)","v":0},0,"-",{"$f":"IF(D126=\"tuczniki\",\"T\",\"\")","v":""}]
[null,null,null,null,null,null,null,"SUMA LICZBY WARCHLAKÓW I TUCZNIKÓW:",null,null,null,null,null,null,{"$f":"SUM(O26:O126)","v":0},{"$f":"SUM(P26:P126)","v":0}]
[]
[null,null,null,"ROCZNA SZACOWANA LICZBA WYPRODUKOWANYCH TUCZNIKÓW:",null,null,null,null,null,null,null,null,null,null,{"$f":"IFERROR(SUMIF(AD26:AD125,\"T\",O26:O125)*(12/$J$20),\"\")","v":0}]
[]
[null,null,null,null,null,null,null,null,null,null,null,null,null,null,{"$f":"IFERROR(TRUNC(T95+T125),\"\")","v":0}]

{"sheet":"Krowy_MLECZNE_powierzch","index":10,"n_rows":181,"n_cols":25,"rows_kept":181,"cut":false,"hidden":false,"merged":[[84,3,84,4],[84,11,84,12],[85,3,85,4],[85,11,85,12],[81,3,81,4],[81,11,81,12],[82,3,82,4],[82,11,82,12],[83,3,83,4],[83,11,83,12],[78,3,78,4],[78,11,78,12],[79,3,79,4],[79,11,79,12],[80,3,80,4],[80,11,80,12],[75,3,75,4],[75,11,75,12],[76,3,76,4],[76,11,76,12],[77,3,77,4],[77,11,77,12],[72,3,72,4],[72,11,72,12],[73,3,73,4],[73,11,73,12],[74,3,74,4],[74,11,74,12],[69,3,69,4],[69,11,69,12],[70,3,70,4],[70,11,70,12],[71,3,71,4],[71,11,71,12],[66,3,66,4],[66,11,66,12],[67,3,67,4],[67,11,67,12],[68,3,68,4],[68,11,68,12],[63,3,63,4],[63,11,63,12],[64,3,64,4],[64,11,64,12],[65,3,65,4],[65,11,65,12],[95,3,95,4],[95,11,95,12],[96,3,96,4],[96,11,96,12],[97,3,97,4],[97,11,97,12],[92,3,92,4],[92,11,92,12],[93,3,93,4],[93,11,93,12],[94,3,94,4],[94,11,94,12],[89,3,89,4],[89,11,89,12],[90,3,90,4],[90,11,90,12],[91,3,91,4],[91,11,91,12],[86,3,86,4],[86,11,86,12],[87,3,87,4],[87,11,87,12],[88,3,88,4],[88,11,88,12],[14,7,14,8],[15,7,15,8],[14,10,14,12],[15,10,15,12],[4,4,4,12],[14,3,14,5],[15,3,15,5],[10,4,10,11],[9,3,9,11],[12,4,12,11],[6,3,6,12],[7,3,7,5],[7,7,7,8],[7,10,7,12],[8,3,8,5],[8,7,8,8],[8,10,8,12],[179,3,179,6],[179,7,179,8],[179,9,179,10],[173,3,173,4],[173,7,173,8],[173,9,173,10],[174,3,174,4],[174,7,174,8],[174,9,174,10],[175,3,175,4],[175,7,175,8],[175,9,175,10],[176,3,176,4],[176,7,176,8],[176,9,176,10],[178,3,178,4],[178,7,178,8],[178,9,178,10],[122,9,122,10],[123,9,123,10],[170,9,170,10],[177,3,177,4],[171,3,171,4],[171,7,171,8],[171,9,171,10],[172,3,172,4],[172,7,172,8],[172,9,172,10],[177,7,177,8],[177,9,177,10],[129,3,129,4],[129,7,129,8],[129,9,129,10],[130,3,130,4],[130,7,130,8],[130,9,130,10],[131,3,131,4],[131,7,131,8],[131,9,131,10],[132,3,132,4],[132,7,132,8],[132,9,132,10],[120,9,121,10],[120,3,122,4],[123,3,123,4],[170,3,170,4],[120,5,120,8],[121,7,121,8],[122,7,122,8],[123,7,123,8],[170,7,170,8],[124,3,124,4],[124,7,124,8],[124,9,124,10],[125,3,125,4],[125,7,125,8],[125,9,125,10],[126,3,126,4],[126,7,126,8],[126,9,126,10],[127,3,127,4],[127,7,127,8],[127,9,127,10],[128,3,128,4],[128,7,128,8],[128,9,128,10],[117,8,117,9],[112,3,112,4],[113,3,113,4],[114,3,114,4],[115,3,115,4],[116,3,116,4],[107,3,107,4],[108,3,108,4],[109,3,109,4],[110,3,110,4],[111,3,111,4],[117,11,117,12],[19,5,19,7],[98,11,98,12],[101,11,101,12],[19,8,19,10],[19,11,20,12],[21,11,21,12],[22,11,22,12],[109,11,109,12],[116,11,116,12],[110,11,110,12],[111,11,111,12],[112,11,112,12],[113,11,113,12],[114,11,114,12],[117,3,117,6],[19,3,21,4],[99,11,99,12],[107,11,107,12],[106,11,106,12],[108,11,108,12],[100,11,100,12],[22,3,22,4],[98,3,98,4],[99,3,99,4],[100,3,100,4],[101,3,101,4],[102,3,102,4],[103,3,103,4],[104,3,104,4],[105,3,105,4],[106,3,106,4],[115,11,115,12],[104,11,104,12],[102,11,102,12],[103,11,103,12],[105,11,105,12],[23,3,23,4],[23,11,23,12],[24,3,24,4],[24,11,24,12],[25,3,25,4],[25,11,25,12],[26,3,26,4],[26,11,26,12],[27,3,27,4],[27,11,27,12],[28,3,28,4],[28,11,28,12],[29,3,29,4],[29,11,29,12],[30,3,30,4],[30,11,30,12],[31,3,31,4],[31,11,31,12],[32,3,32,4],[32,11,32,12],[33,3,33,4],[33,11,33,12],[34,3,34,4],[34,11,34,12],[35,3,35,4],[35,11,35,12],[36,3,36,4],[36,11,36,12],[37,3,37,4],[37,11,37,12],[38,3,38,4],[38,11,38,12],[39,3,39,4],[39,11,39,12],[40,3,40,4],[40,11,40,12],[41,3,41,4],[41,11,41,12],[42,3,42,4],[42,11,42,12],[43,3,43,4],[43,11,43,12],[44,3,44,4],[44,11,44,12],[45,3,45,4],[45,11,45,12],[46,3,46,4],[46,11,46,12],[47,3,47,4],[47,11,47,12],[48,3,48,4],[48,11,48,12],[49,3,49,4],[49,11,49,12],[50,3,50,4],[50,11,50,12],[51,3,51,4],[51,11,51,12],[52,3,52,4],[52,11,52,12],[53,3,53,4],[53,11,53,12],[54,3,54,4],[54,11,54,12],[55,3,55,4],[55,11,55,12],[56,3,56,4],[56,11,56,12],[57,3,57,4],[57,11,57,12],[58,3,58,4],[58,11,58,12],[59,3,59,4],[59,11,59,12],[60,3,60,4],[60,11,60,12],[61,3,61,4],[61,11,61,12],[62,3,62,4],[62,11,62,12],[133,3,133,4],[133,7,133,8],[133,9,133,10],[134,3,134,4],[134,7,134,8],[134,9,134,10],[135,3,135,4],[135,7,135,8],[135,9,135,10],[136,3,136,4],[136,7,136,8],[136,9,136,10],[137,3,137,4],[137,7,137,8],[137,9,137,10],[138,3,138,4],[138,7,138,8],[138,9,138,10],[139,3,139,4],[139,7,139,8],[139,9,139,10],[140,3,140,4],[140,7,140,8],[140,9,140,10],[141,3,141,4],[141,7,141,8],[141,9,141,10],[142,3,142,4],[142,7,142,8],[142,9,142,10],[143,3,143,4],[143,7,143,8],[143,9,143,10],[144,3,144,4],[144,7,144,8],[144,9,144,10],[145,3,145,4],[145,7,145,8],[145,9,145,10],[146,3,146,4],[146,7,146,8],[146,9,146,10],[147,3,147,4],[147,7,147,8],[147,9,147,10],[148,3,148,4],[148,7,148,8],[148,9,148,10],[149,3,149,4],[149,7,149,8],[149,9,149,10],[150,3,150,4],[150,7,150,8],[150,9,150,10],[151,3,151,4],[151,7,151,8],[151,9,151,10],[152,3,152,4],[152,7,152,8],[152,9,152,10],[153,3,153,4],[153,7,153,8],[153,9,153,10],[154,3,154,4],[154,7,154,8],[154,9,154,10],[155,3,155,4],[155,7,155,8],[155,9,155,10],[156,3,156,4],[156,7,156,8],[156,9,156,10],[157,3,157,4],[157,7,157,8],[157,9,157,10],[158,3,158,4],[158,7,158,8],[158,9,158,10],[159,3,159,4],[159,7,159,8],[159,9,159,10],[160,3,160,4],[160,7,160,8],[160,9,160,10],[161,3,161,4],[161,7,161,8],[161,9,161,10],[162,3,162,4],[162,7,162,8],[162,9,162,10],[163,3,163,4],[163,7,163,8],[163,9,163,10],[164,3,164,4],[164,7,164,8],[164,9,164,10],[165,3,165,4],[165,7,165,8],[165,9,165,10],[169,3,169,4],[169,7,169,8],[169,9,169,10],[166,3,166,4],[166,7,166,8],[166,9,166,10],[167,3,167,4],[167,7,167,8],[167,9,167,10],[168,3,168,4],[168,7,168,8],[168,9,168,10]]}
[null,null,"Uwaga !!! Po wydrukowaniu uzupełnić ręcznie Oświadczenie i czytelnie podpisać",null,null,null,null,null,null,null,null,null,"POWRÓT",null,null,null,null,null,null,null,null,null,null,null,"UWAGI"]
[]
[null,null,"II. Część szczegółowa  "]
[null,null,"II.2.","Pakiet 2.","Dobrostan krów:"]
[null,null,"II.2.2.","wariant 2.2.","Dobrostan krów mlecznych utrzymywanych grupowo - zwiększona powierzchnia w budynkach"]
[null,null,"II.2.2.1.","Informacja o stadzie krów mlecznych"]
[null,null,null,"Powierzchnia bytowa w budynkach inwentarskich:\na)     dla innych niż krowy mleczne grup technologicznych bydła użytkowanego w kierunku mlecznym lub typie użytkowym kombinowanym o mlecznym kierunku ich użytkowania,\nb)     dla krów mamek\n– jest zgodna z odpowiednimi obowiązkowymi wymogami ustanowionymi zgodnie z tytułem VI rozdziału I rozporządzenia Parlamentu Europejskiego i Rady (UE) nr 1306/2013 z dnia 17 grudnia 2013 r. w sprawie finansowania wspólnej polityki rolnej, zarządzania nią i monitorowania jej oraz uchylającego rozporządzenia Rady (EWG) nr 352/78, (WE) nr 165/94, (WE) nr 2799/98, (WE) nr 814/2000, (WE) nr 1290/2005 i (WE) nr 485/2008 oraz innymi odpowiednimi obowiązkowymi wymogami wynikającymi z rozporządzenia Ministra Rolnictwa i Rozwoju Wsi z dnia 28 czerwca 2010 r. w sprawie minimalnych warunków utrzymywania gatunków zwierząt gospodarskich innych niż te, dla których normy ochrony zostały określone w przepisach Unii Europejskiej (Dz. U. z 2019 r. poz. 1966)."]
[]
[null,null,null,"(miejscowość i data)",null,null,null,"(czytelny podpis rolnika)",null,null,"(czytelny podpis doradcy"]
[null,null,null,"Liczba krów mlecznych i jałówek powyżej 24 m-ca życia na dzień sporządzenia planu:"]
[null,null,null,{"$f":"IF(R11=TRUE,S11,T11)","v":"☐"},"W gospodarstwie nie są utrzymywane  krowy zarejestrowane jako typ użytkowy kombinowany, dla których nie określono kierunku użytkowania",null,null,null,null,null,null,null,null,null,null,null,null,false,"☒","☐"]
[null,null,null,null,null,null,null,null,null,null,null,null,null,null,null,null,null,null,"☒","☐"]
[null,null,null,{"$f":"IF(R13=TRUE,S13,T13)","v":"☐"},"Do planu poprawy dobrostanu zwierząt dołączono szkic obiektów ze wskazaniem budynków, w których utrzymywane są zwierzęta kilku rolników oraz ze wskazanymi sekcjami w których utrzymywane są krowy mleczne",null,null,null,null,null,null,null,null,null,null,null,null,false,"☒","☐"]
[]
[]
[null,null,null,"(miejscowość i data)",null,null,null,"(czytelny podpis rolnika)",null,null,"(czytelny podpis doradcy"]
[]
[null,null,"II.2.2.2.","Zwiększona powierzchnia w budynkach:"]
[null,null,"II.2.2.2.a","System  wolnostanowiskowy z wydzielonymi legowiskami"]
[null,null,null,"Numer siedziby stada albo \nNazwa \nobiektu / sekcja krów mlecznych",null,"Liczba  wydzielonych legowisk spełniających wymóg minimalnych wymiarów ",null,null,"Powierzchnia odpasowo-ruchowa",null,null,"Maksymalna liczba krów mlecznych"]
[null,null,null,null,null,"długość","szerokość","liczba legowisk","długość","szerokość","powierzch\nnia",null,null,null,null,null,null,null,"długość","szerokość","powierzchnia","nr stad"]
[null,null,null,null,null,"m","m","szt.","m","m","m2","szt",null,null,null,null,null,null,"m","m","m2"]
[null,null,null,null,null,null,null,null,null,null,{"$f":"IFERROR(I23*J23,0)","v":0},{"$f":"IF(TRUNC(K23/N_W_2_2!$G$8)>H23,H23,TRUNC(K23/N_W_2_2!$G$8))","v":0},null,null,null,null,null,{"$f":"SUM(F23:M23)+V23","v":0},{"$f":"N_W_2_2!G6","v":2.1},{"$f":"N_W_2_2!G7","v":1.1000000000000001},{"$f":"N_W_2_2!G8","v":4},{"$f":"IFERROR(MATCH(D23,Nr_stad!$U$8:$U$60,0),0)","v":0}]
[null,null,null,null,null,null,null,null,null,null,0,{"$f":"IF(TRUNC(K24/N_W_2_2!$G$8)>H24,H24,TRUNC(K24/N_W_2_2!$G$8))","v":0},null,null,null,null,null,{"$f":"SUM(F24:M24)+V24","v":0},null,null,null,{"$f":"IFERROR(MATCH(D24,Nr_stad!$U$8:$U$60,0),0)","v":0}]
[null,null,null,null,null,null,null,null,null,null,0,{"$f":"IF(TRUNC(K25/N_W_2_2!$G$8)>H25,H25,TRUNC(K25/N_W_2_2!$G$8))","v":0},null,null,null,null,null,0,null,null,null,{"$f":"IFERROR(MATCH(D25,Nr_stad!$U$8:$U$60,0),0)","v":0}]
[null,null,null,null,null,null,null,null,null,null,0,{"$f":"IF(TRUNC(K26/N_W_2_2!$G$8)>H26,H26,TRUNC(K26/N_W_2_2!$G$8))","v":0},null,null,null,null,null,0,null,null,null,{"$f":"IFERROR(MATCH(D26,Nr_stad!$U$8:$U$60,0),0)","v":0}]
[null,null,null,null,null,null,null,null,null,null,0,{"$f":"IF(TRUNC(K27/N_W_2_2!$G$8)>H27,H27,TRUNC(K27/N_W_2_2!$G$8))","v":0},null,null,null,null,null,0,null,null,null,{"$f":"IFERROR(MATCH(D27,Nr_stad!$U$8:$U$60,0),0)","v":0}]
[null,null,null,null,null,null,null,null,null,null,0,{"$f":"IF(TRUNC(K28/N_W_2_2!$G$8)>H28,H28,TRUNC(K28/N_W_2_2!$G$8))","v":0},null,null,null,null,null,0,null,null,null,{"$f":"IFERROR(MATCH(D28,Nr_stad!$U$8:$U$60,0),0)","v":0}]
[null,null,null,null,null,null,null,null,null,null,0,{"$f":"IF(TRUNC(K29/N_W_2_2!$G$8)>H29,H29,TRUNC(K29/N_W_2_2!$G$8))","v":0},null,null,null,null,null,0,null,null,null,{"$f":"IFERROR(MATCH(D29,Nr_stad!$U$8:$U$60,0),0)","v":0}]
[null,null,null,null,null,null,null,null,null,null,0,{"$f":"IF(TRUNC(K30/N_W_2_2!$G$8)>H30,H30,TRUNC(K30/N_W_2_2!$G$8))","v":0},null,null,null,null,null,0,null,null,null,{"$f":"IFERROR(MATCH(D30,Nr_stad!$U$8:$U$60,0),0)","v":0}]
[null,null,null,null,null,null,null,null,null,null,0,{"$f":"IF(TRUNC(K31/N_W_2_2!$G$8)>H31,H31,TRUNC(K31/N_W_2_2!$G$8))","v":0},null,null,null,null,null,0,null,null,null,{"$f":"IFERROR(MATCH(D31,Nr_stad!$U$8:$U$60,0),0)","v":0}]
[null,null,null,null,null,null,null,null,null,null,0,{"$f":"IF(TRUNC(K32/N_W_2_2!$G$8)>H32,H32,TRUNC(K32/N_W_2_2!$G$8))","v":0},null,null,null,null,null,0,null,null,null,{"$f":"IFERROR(MATCH(D32,Nr_stad!$U$8:$U$60,0),0)","v":0}]
[null,null,null,null,null,null,null,null,null,null,0,{"$f":"IF(TRUNC(K33/N_W_2_2!$G$8)>H33,H33,TRUNC(K33/N_W_2_2!$G$8))","v":0},null,null,null,null,null,0,null,null,null,{"$f":"IFERROR(MATCH(D33,Nr_stad!$U$8:$U$60,0),0)","v":0}]
[null,null,null,null,null,null,null,null,null,null,0,{"$f":"IF(TRUNC(K34/N_W_2_2!$G$8)>H34,H34,TRUNC(K34/N_W_2_2!$G$8))","v":0},null,null,null,null,null,0,null,null,null,{"$f":"IFERROR(MATCH(D34,Nr_stad!$U$8:$U$60,0),0)","v":0}]
[null,null,null,null,null,null,null,null,null,null,0,{"$f":"IF(TRUNC(K35/N_W_2_2!$G$8)>H35,H35,TRUNC(K35/N_W_2_2!$G$8))","v":0},null,null,null,null,null,0,null,null,null,{"$f":"IFERROR(MATCH(D35,Nr_stad!$U$8:$U$60,0),0)","v":0}]
[null,null,null,null,null,null,null,null,null,null,0,{"$f":"IF(TRUNC(K36/N_W_2_2!$G$8)>H36,H36,TRUNC(K36/N_W_2_2!$G$8))","v":0},null,null,null,null,null,0,null,null,null,{"$f":"IFERROR(MATCH(D36,Nr_stad!$U$8:$U$60,0),0)","v":0}]
[null,null,null,null,null,null,null,null,null,null,0,{"$f":"IF(TRUNC(K37/N_W_2_2!$G$8)>H37,H37,TRUNC(K37/N_W_2_2!$G$8))","v":0},null,null,null,null,null,0,null,null,null,{"$f":"IFERROR(MATCH(D37,Nr_stad!$U$8:$U$60,0),0)","v":0}]
[null,null,null,null,null,null,null,null,null,null,0,{"$f":"IF(TRUNC(K38/N_W_2_2!$G$8)>H38,H38,TRUNC(K38/N_W_2_2!$G$8))","v":0},null,null,null,null,null,0,null,null,null,{"$f":"IFERROR(MATCH(D38,Nr_stad!$U$8:$U$60,0),0)","v":0}]
[null,null,null,null,null,null,null,null,null,null,0,{"$f":"IF(TRUNC(K39/N_W_2_2!$G$8)>H39,H39,TRUNC(K39/N_W_2_2!$G$8))","v":0},null,null,null,null,null,0,null,null,null,{"$f":"IFERROR(MATCH(D39,Nr_stad!$U$8:$U$60,0),0)","v":0}]
[null,null,null,null,null,null,null,null,null,null,0,{"$f":"IF(TRUNC(K40/N_W_2_2!$G$8)>H40,H40,TRUNC(K40/N_W_2_2!$G$8))","v":0},null,null,null,null,null,0,null,null,null,{"$f":"IFERROR(MATCH(D40,Nr_stad!$U$8:$U$60,0),0)","v":0}]
[null,null,null,null,null,null,null,null,null,null,0,{"$f":"IF(TRUNC(K41/N_W_2_2!$G$8)>H41,H41,TRUNC(K41/N_W_2_2!$G$8))","v":0},null,null,null,null,null,0,null,null,null,{"$f":"IFERROR(MATCH(D41,Nr_stad!$U$8:$U$60,0),0)","v":0}]
[null,null,null,null,null,null,null,null,null,null,0,{"$f":"IF(TRUNC(K42/N_W_2_2!$G$8)>H42,H42,TRUNC(K42/N_W_2_2!$G$8))","v":0},null,null,null,null,null,0,null,null,null,{"$f":"IFERROR(MATCH(D42,Nr_stad!$U$8:$U$60,0),0)","v":0}]
[null,null,null,null,null,null,null,null,null,null,0,{"$f":"IF(TRUNC(K43/N_W_2_2!$G$8)>H43,H43,TRUNC(K43/N_W_2_2!$G$8))","v":0},null,null,null,null,null,0,null,null,null,{"$f":"IFERROR(MATCH(D43,Nr_stad!$U$8:$U$60,0),0)","v":0}]
[null,null,null,null,null,null,null,null,null,null,0,{"$f":"IF(TRUNC(K44/N_W_2_2!$G$8)>H44,H44,TRUNC(K44/N_W_2_2!$G$8))","v":0},null,null,null,null,null,0,null,null,null,{"$f":"IFERROR(MATCH(D44,Nr_stad!$U$8:$U$60,0),0)","v":0}]
[null,null,null,null,null,null,null,null,null,null,0,{"$f":"IF(TRUNC(K45/N_W_2_2!$G$8)>H45,H45,TRUNC(K45/N_W_2_2!$G$8))","v":0},null,null,null,null,null,0,null,null,null,{"$f":"IFERROR(MATCH(D45,Nr_stad!$U$8:$U$60,0),0)","v":0}]
[null,null,null,null,null,null,null,null,null,null,0,{"$f":"IF(TRUNC(K46/N_W_2_2!$G$8)>H46,H46,TRUNC(K46/N_W_2_2!$G$8))","v":0},null,null,null,null,null,0,null,null,null,{"$f":"IFERROR(MATCH(D46,Nr_stad!$U$8:$U$60,0),0)","v":0}]
[null,null,null,null,null,null,null,null,null,null,0,{"$f":"IF(TRUNC(K47/N_W_2_2!$G$8)>H47,H47,TRUNC(K47/N_W_2_2!$G$8))","v":0},null,null,null,null,null,0,null,null,null,{"$f":"IFERROR(MATCH(D47,Nr_stad!$U$8:$U$60,0),0)","v":0}]
[null,null,null,null,null,null,null,null,null,null,0,{"$f":"IF(TRUNC(K48/N_W_2_2!$G$8)>H48,H48,TRUNC(K48/N_W_2_2!$G$8))","v":0},null,null,null,null,null,0,null,null,null,{"$f":"IFERROR(MATCH(D48,Nr_stad!$U$8:$U$60,0),0)","v":0}]
[null,null,null,null,null,null,null,null,null,null,0,{"$f":"IF(TRUNC(K49/N_W_2_2!$G$8)>H49,H49,TRUNC(K49/N_W_2_2!$G$8))","v":0},null,null,null,null,null,0,null,null,null,{"$f":"IFERROR(MATCH(D49,Nr_stad!$U$8:$U$60,0),0)","v":0}]
[null,null,null,null,null,null,null,null,null,null,0,{"$f":"IF(TRUNC(K50/N_W_2_2!$G$8)>H50,H50,TRUNC(K50/N_W_2_2!$G$8))","v":0},null,null,null,null,null,0,null,null,null,{"$f":"IFERROR(MATCH(D50,Nr_stad!$U$8:$U$60,0),0)","v":0}]
[null,null,null,null,null,null,null,null,null,null,0,{"$f":"IF(TRUNC(K51/N_W_2_2!$G$8)>H51,H51,TRUNC(K51/N_W_2_2!$G$8))","v":0},null,null,null,null,null,0,null,null,null,{"$f":"IFERROR(MATCH(D51,Nr_stad!$U$8:$U$60,0),0)","v":0}]
[null,null,null,null,null,null,null,null,null,null,0,{"$f":"IF(TRUNC(K52/N_W_2_2!$G$8)>H52,H52,TRUNC(K52/N_W_2_2!$G$8))","v":0},null,null,null,null,null,0,null,null,null,{"$f":"IFERROR(MATCH(D52,Nr_stad!$U$8:$U$60,0),0)","v":0}]
[null,null,null,null,null,null,null,null,null,null,0,{"$f":"IF(TRUNC(K53/N_W_2_2!$G$8)>H53,H53,TRUNC(K53/N_W_2_2!$G$8))","v":0},null,null,null,null,null,0,null,null,null,{"$f":"IFERROR(MATCH(D53,Nr_stad!$U$8:$U$60,0),0)","v":0}]
[null,null,null,null,null,null,null,null,null,null,0,{"$f":"IF(TRUNC(K54/N_W_2_2!$G$8)>H54,H54,TRUNC(K54/N_W_2_2!$G$8))","v":0},null,null,null,null,null,0,null,null,null,{"$f":"IFERROR(MATCH(D54,Nr_stad!$U$8:$U$60,0),0)","v":0}]
[null,null,null,null,null,null,null,null,null,null,0,{"$f":"IF(TRUNC(K55/N_W_2_2!$G$8)>H55,H55,TRUNC(K55/N_W_2_2!$G$8))","v":0},null,null,null,null,null,0,null,null,null,{"$f":"IFERROR(MATCH(D55,Nr_stad!$U$8:$U$60,0),0)","v":0}]
[null,null,null,null,null,null,null,null,null,null,0,{"$f":"IF(TRUNC(K56/N_W_2_2!$G$8)>H56,H56,TRUNC(K56/N_W_2_2!$G$8))","v":0},null,null,null,null,null,0,null,null,null,{"$f":"IFERROR(MATCH(D56,Nr_stad!$U$8:$U$60,0),0)","v":0}]
[null,null,null,null,null,null,null,null,null,null,0,{"$f":"IF(TRUNC(K57/N_W_2_2!$G$8)>H57,H57,TRUNC(K57/N_W_2_2!$G$8))","v":0},null,null,null,null,null,0,null,null,null,{"$f":"IFERROR(MATCH(D57,Nr_stad!$U$8:$U$60,0),0)","v":0}]
[null,null,null,null,null,null,null,null,null,null,0,{"$f":"IF(TRUNC(K58/N_W_2_2!$G$8)>H58,H58,TRUNC(K58/N_W_2_2!$G$8))","v":0},null,null,null,null,null,0,null,null,null,{"$f":"IFERROR(MATCH(D58,Nr_stad!$U$8:$U$60,0),0)","v":0}]
[null,null,null,null,null,null,null,null,null,null,0,{"$f":"IF(TRUNC(K59/N_W_2_2!$G$8)>H59,H59,TRUNC(K59/N_W_2_2!$G$8))","v":0},null,null,null,null,null,0,null,null,null,{"$f":"IFERROR(MATCH(D59,Nr_stad!$U$8:$U$60,0),0)","v":0}]
[null,null,null,null,null,null,null,null,null,null,0,{"$f":"IF(TRUNC(K60/N_W_2_2!$G$8)>H60,H60,TRUNC(K60/N_W_2_2!$G$8))","v":0},null,null,null,null,null,0,null,null,null,{"$f":"IFERROR(MATCH(D60,Nr_stad!$U$8:$U$60,0),0)","v":0}]
[null,null,null,null,null,null,null,null,null,null,0,{"$f":"IF(TRUNC(K61/N_W_2_2!$G$8)>H61,H61,TRUNC(K61/N_W_2_2!$G$8))","v":0},null,null,null,null,null,0,null,null,null,{"$f":"IFERROR(MATCH(D61,Nr_stad!$U$8:$U$60,0),0)","v":0}]
[null,null,null,null,null,null,null,null,null,null,0,{"$f":"IF(TRUNC(K62/N_W_2_2!$G$8)>H62,H62,TRUNC(K62/N_W_2_2!$G$8))","v":0},null,null,null,null,null,0,null,null,null,{"$f":"IFERROR(MATCH(D62,Nr_stad!$U$8:$U$60,0),0)","v":0}]
[null,null,null,null,null,null,null,null,null,null,0,{"$f":"IF(TRUNC(K63/N_W_2_2!$G$8)>H63,H63,TRUNC(K63/N_W_2_2!$G$8))","v":0},null,null,null,null,null,0,null,null,null,{"$f":"IFERROR(MATCH(D63,Nr_stad!$U$8:$U$60,0),0)","v":0}]
[null,null,null,null,null,null,null,null,null,null,0,{"$f":"IF(TRUNC(K64/N_W_2_2!$G$8)>H64,H64,TRUNC(K64/N_W_2_2!$G$8))","v":0},null,null,null,null,null,0,null,null,null,{"$f":"IFERROR(MATCH(D64,Nr_stad!$U$8:$U$60,0),0)","v":0}]
[null,null,null,null,null,null,null,null,null,null,0,{"$f":"IF(TRUNC(K65/N_W_2_2!$G$8)>H65,H65,TRUNC(K65/N_W_2_2!$G$8))","v":0},null,null,null,null,null,0,null,null,null,{"$f":"IFERROR(MATCH(D65,Nr_stad!$U$8:$U$60,0),0)","v":0}]
[null,null,null,null,null,null,null,null,null,null,0,{"$f":"IF(TRUNC(K66/N_W_2_2!$G$8)>H66,H66,TRUNC(K66/N_W_2_2!$G$8))","v":0},null,null,null,null,null,0,null,null,null,{"$f":"IFERROR(MATCH(D66,Nr_stad!$U$8:$U$60,0),0)","v":0}]
[null,null,null,null,null,null,null,null,null,null,0,{"$f":"IF(TRUNC(K67/N_W_2_2!$G$8)>H67,H67,TRUNC(K67/N_W_2_2!$G$8))","v":0},null,null,null,null,null,0,null,null,null,{"$f":"IFERROR(MATCH(D67,Nr_stad!$U$8:$U$60,0),0)","v":0}]
[null,null,null,null,null,null,null,null,null,null,0,{"$f":"IF(TRUNC(K68/N_W_2_2!$G$8)>H68,H68,TRUNC(K68/N_W_2_2!$G$8))","v":0},null,null,null,null,null,0,null,null,null,{"$f":"IFERROR(MATCH(D68,Nr_stad!$U$8:$U$60,0),0)","v":0}]
[null,null,null,null,null,null,null,null,null,null,0,{"$f":"IF(TRUNC(K69/N_W_2_2!$G$8)>H69,H69,TRUNC(K69/N_W_2_2!$G$8))","v":0},null,null,null,null,null,0,null,null,null,{"$f":"IFERROR(MATCH(D69,Nr_stad!$U$8:$U$60,0),0)","v":0}]
[null,null,null,null,null,null,null,null,null,null,0,{"$f":"IF(TRUNC(K70/N_W_2_2!$G$8)>H70,H70,TRUNC(K70/N_W_2_2!$G$8))","v":0},null,null,null,null,null,0,null,null,null,{"$f":"IFERROR(MATCH(D70,Nr_stad!$U$8:$U$60,0),0)","v":0}]
[null,null,null,null,null,null,null,null,null,null,0,{"$f":"IF(TRUNC(K71/N_W_2_2!$G$8)>H71,H71,TRUNC(K71/N_W_2_2!$G$8))","v":0},null,null,null,null,null,0,null,null,null,{"$f":"IFERROR(MATCH(D71,Nr_stad!$U$8:$U$60,0),0)","v":0}]
[null,null,null,null,null,null,null,null,null,null,0,{"$f":"IF(TRUNC(K72/N_W_2_2!$G$8)>H72,H72,TRUNC(K72/N_W_2_2!$G$8))","v":0},null,null,null,null,null,0,null,null,null,{"$f":"IFERROR(MATCH(D72,Nr_stad!$U$8:$U$60,0),0)","v":0}]
[null,null,null,null,null,null,null,null,null,null,0,{"$f":"IF(TRUNC(K73/N_W_2_2!$G$8)>H73,H73,TRUNC(K73/N_W_2_2!$G$8))","v":0},null,null,null,null,null,0,null,null,null,{"$f":"IFERROR(MATCH(D73,Nr_stad!$U$8:$U$60,0),0)","v":0}]
[null,null,null,null,null,null,null,null,null,null,0,{"$f":"IF(TRUNC(K74/N_W_2_2!$G$8)>H74,H74,TRUNC(K74/N_W_2_2!$G$8))","v":0},null,null,null,null,null,0,null,null,null,{"$f":"IFERROR(MATCH(D74,Nr_stad!$U$8:$U$60,0),0)","v":0}]
[null,null,null,null,null,null,null,null,null,null,0,{"$f":"IF(TRUNC(K75/N_W_2_2!$G$8)>H75,H75,TRUNC(K75/N_W_2_2!$G$8))","v":0},null,null,null,null,null,0,null,null,null,{"$f":"IFERROR(MATCH(D75,Nr_stad!$U$8:$U$60,0),0)","v":0}]
[null,null,null,null,null,null,null,null,null,null,0,{"$f":"IF(TRUNC(K76/N_W_2_2!$G$8)>H76,H76,TRUNC(K76/N_W_2_2!$G$8))","v":0},null,null,null,null,null,0,null,null,null,{"$f":"IFERROR(MATCH(D76,Nr_stad!$U$8:$U$60,0),0)","v":0}]
[null,null,null,null,null,null,null,null,null,null,0,{"$f":"IF(TRUNC(K77/N_W_2_2!$G$8)>H77,H77,TRUNC(K77/N_W_2_2!$G$8))","v":0},null,null,null,null,null,0,null,null,null,{"$f":"IFERROR(MATCH(D77,Nr_stad!$U$8:$U$60,0),0)","v":0}]
[null,null,null,null,null,null,null,null,null,null,0,{"$f":"IF(TRUNC(K78/N_W_2_2!$G$8)>H78,H78,TRUNC(K78/N_W_2_2!$G$8))","v":0},null,null,null,null,null,0,null,null,null,{"$f":"IFERROR(MATCH(D78,Nr_stad!$U$8:$U$60,0),0)","v":0}]
[null,null,null,null,null,null,null,null,null,null,0,{"$f":"IF(TRUNC(K79/N_W_2_2!$G$8)>H79,H79,TRUNC(K79/N_W_2_2!$G$8))","v":0},null,null,null,null,null,0,null,null,null,{"$f":"IFERROR(MATCH(D79,Nr_stad!$U$8:$U$60,0),0)","v":0}]
[null,null,null,null,null,null,null,null,null,null,0,{"$f":"IF(TRUNC(K80/N_W_2_2!$G$8)>H80,H80,TRUNC(K80/N_W_2_2!$G$8))","v":0},null,null,null,null,null,0,null,null,null,{"$f":"IFERROR(MATCH(D80,Nr_stad!$U$8:$U$60,0),0)","v":0}]
[null,null,null,null,null,null,null,null,null,null,0,{"$f":"IF(TRUNC(K81/N_W_2_2!$G$8)>H81,H81,TRUNC(K81/N_W_2_2!$G$8))","v":0},null,null,null,null,null,0,null,null,null,{"$f":"IFERROR(MATCH(D81,Nr_stad!$U$8:$U$60,0),0)","v":0}]
[null,null,null,null,null,null,null,null,null,null,0,{"$f":"IF(TRUNC(K82/N_W_2_2!$G$8)>H82,H82,TRUNC(K82/N_W_2_2!$G$8))","v":0},null,null,null,null,null,0,null,null,null,{"$f":"IFERROR(MATCH(D82,Nr_stad!$U$8:$U$60,0),0)","v":0}]
[null,null,null,null,null,null,null,null,null,null,0,{"$f":"IF(TRUNC(K83/N_W_2_2!$G$8)>H83,H83,TRUNC(K83/N_W_2_2!$G$8))","v":0},null,null,null,null,null,0,null,null,null,{"$f":"IFERROR(MATCH(D83,Nr_stad!$U$8:$U$60,0),0)","v":0}]
[null,null,null,null,null,null,null,null,null,null,0,{"$f":"IF(TRUNC(K84/N_W_2_2!$G$8)>H84,H84,TRUNC(K84/N_W_2_2!$G$8))","v":0},null,null,null,null,null,0,null,null,null,{"$f":"IFERROR(MATCH(D84,Nr_stad!$U$8:$U$60,0),0)","v":0}]
[null,null,null,null,null,null,null,null,null,null,0,{"$f":"IF(TRUNC(K85/N_W_2_2!$G$8)>H85,H85,TRUNC(K85/N_W_2_2!$G$8))","v":0},null,null,null,null,null,0,null,null,null,{"$f":"IFERROR(MATCH(D85,Nr_stad!$U$8:$U$60,0),0)","v":0}]
[null,null,null,null,null,null,null,null,null,null,0,{"$f":"IF(TRUNC(K86/N_W_2_2!$G$8)>H86,H86,TRUNC(K86/N_W_2_2!$G$8))","v":0},null,null,null,null,null,0,null,null,null,{"$f":"IFERROR(MATCH(D86,Nr_stad!$U$8:$U$60,0),0)","v":0}]
[null,null,null,null,null,null,null,null,null,null,0,{"$f":"IF(TRUNC(K87/N_W_2_2!$G$8)>H87,H87,TRUNC(K87/N_W_2_2!$G$8))","v":0},null,null,null,null,null,0,null,null,null,{"$f":"IFERROR(MATCH(D87,Nr_stad!$U$8:$U$60,0),0)","v":0}]
[null,null,null,null,null,null,null,null,null,null,{"$f":"IFERROR(I88*J88,0)","v":0},{"$f":"IF(TRUNC(K88/N_W_2_2!$G$8)>H88,H88,TRUNC(K88/N_W_2_2!$G$8))","v":0},null,null,null,null,null,{"$f":"SUM(F88:M88)+V88","v":0},null,null,null,{"$f":"IFERROR(MATCH(D88,Nr_stad!$U$8:$U$60,0),0)","v":0}]
[null,null,null,null,null,null,null,null,null,null,0,{"$f":"IF(TRUNC(K89/N_W_2_2!$G$8)>H89,H89,TRUNC(K89/N_W_2_2!$G$8))","v":0},null,null,null,null,null,0,null,null,null,{"$f":"IFERROR(MATCH(D89,Nr_stad!$U$8:$U$60,0),0)","v":0}]
[null,null,null,null,null,null,null,null,null,null,0,{"$f":"IF(TRUNC(K90/N_W_2_2!$G$8)>H90,H90,TRUNC(K90/N_W_2_2!$G$8))","v":0},null,null,null,null,null,0,null,null,null,{"$f":"IFERROR(MATCH(D90,Nr_stad!$U$8:$U$60,0),0)","v":0}]
[null,null,null,null,null,null,null,null,null,null,0,{"$f":"IF(TRUNC(K91/N_W_2_2!$G$8)>H91,H91,TRUNC(K91/N_W_2_2!$G$8))","v":0},null,null,null,null,null,0,null,null,null,{"$f":"IFERROR(MATCH(D91,Nr_stad!$U$8:$U$60,0),0)","v":0}]
[null,null,null,null,null,null,null,null,null,null,0,{"$f":"IF(TRUNC(K92/N_W_2_2!$G$8)>H92,H92,TRUNC(K92/N_W_2_2!$G$8))","v":0},null,null,null,null,null,0,null,null,null,{"$f":"IFERROR(MATCH(D92,Nr_stad!$U$8:$U$60,0),0)","v":0}]
[null,null,null,null,null,null,null,null,null,null,0,{"$f":"IF(TRUNC(K93/N_W_2_2!$G$8)>H93,H93,TRUNC(K93/N_W_2_2!$G$8))","v":0},null,null,null,null,null,0,null,null,null,{"$f":"IFERROR(MATCH(D93,Nr_stad!$U$8:$U$60,0),0)","v":0}]
[null,null,null,null,null,null,null,null,null,null,0,{"$f":"IF(TRUNC(K94/N_W_2_2!$G$8)>H94,H94,TRUNC(K94/N_W_2_2!$G$8))","v":0},null,null,null,null,null,0,null,null,null,{"$f":"IFERROR(MATCH(D94,Nr_stad!$U$8:$U$60,0),0)","v":0}]
[null,null,null,null,null,null,null,null,null,null,0,{"$f":"IF(TRUNC(K95/N_W_2_2!$G$8)>H95,H95,TRUNC(K95/N_W_2_2!$G$8))","v":0},null,null,null,null,null,0,null,null,null,{"$f":"IFERROR(MATCH(D95,Nr_stad!$U$8:$U$60,0),0)","v":0}]
[null,null,null,null,null,null,null,null,null,null,0,{"$f":"IF(TRUNC(K96/N_W_2_2!$G$8)>H96,H96,TRUNC(K96/N_W_2_2!$G$8))","v":0},null,null,null,null,null,0,null,null,null,{"$f":"IFERROR(MATCH(D96,Nr_stad!$U$8:$U$60,0),0)","v":0}]
[null,null,null,null,null,null,null,null,null,null,0,{"$f":"IF(TRUNC(K97/N_W_2_2!$G$8)>H97,H97,TRUNC(K97/N_W_2_2!$G$8))","v":0},null,null,null,null,null,0,null,null,null,{"$f":"IFERROR(MATCH(D97,Nr_stad!$U$8:$U$60,0),0)","v":0}]
[null,null,null,null,null,null,null,null,null,null,0,{"$f":"IF(TRUNC(K98/N_W_2_2!$G$8)>H98,H98,TRUNC(K98/N_W_2_2!$G$8))","v":0},null,null,null,null,null,0,null,null,null,{"$f":"IFERROR(MATCH(D98,Nr_stad!$U$8:$U$60,0),0)","v":0}]
[null,null,null,null,null,null,null,null,null,null,0,{"$f":"IF(TRUNC(K99/N_W_2_2!$G$8)>H99,H99,TRUNC(K99/N_W_2_2!$G$8))","v":0},null,null,null,null,null,0,null,null,null,{"$f":"IFERROR(MATCH(D99,Nr_stad!$U$8:$U$60,0),0)","v":0}]
[null,null,null,null,null,null,null,null,null,null,0,{"$f":"IF(TRUNC(K100/N_W_2_2!$G$8)>H100,H100,TRUNC(K100/N_W_2_2!$G$8))","v":0},null,null,null,null,null,0,null,null,null,{"$f":"IFERROR(MATCH(D100,Nr_stad!$U$8:$U$60,0),0)","v":0}]
[null,null,null,null,null,null,null,null,null,null,0,{"$f":"IF(TRUNC(K101/N_W_2_2!$G$8)>H101,H101,TRUNC(K101/N_W_2_2!$G$8))","v":0},null,null,null,null,null,0,null,null,null,{"$f":"IFERROR(MATCH(D101,Nr_stad!$U$8:$U$60,0),0)","v":0}]
[null,null,null,null,null,null,null,null,null,null,0,{"$f":"IF(TRUNC(K102/N_W_2_2!$G$8)>H102,H102,TRUNC(K102/N_W_2_2!$G$8))","v":0},null,null,null,null,null,0,null,null,null,{"$f":"IFERROR(MATCH(D102,Nr_stad!$U$8:$U$60,0),0)","v":0}]
[null,null,null,null,null,null,null,null,null,null,0,{"$f":"IF(TRUNC(K103/N_W_2_2!$G$8)>H103,H103,TRUNC(K103/N_W_2_2!$G$8))","v":0},null,null,null,null,null,0,null,null,null,{"$f":"IFERROR(MATCH(D103,Nr_stad!$U$8:$U$60,0),0)","v":0}]
[null,null,null,null,null,null,null,null,null,null,0,{"$f":"IF(TRUNC(K104/N_W_2_2!$G$8)>H104,H104,TRUNC(K104/N_W_2_2!$G$8))","v":0},null,null,null,null,null,0,null,null,null,{"$f":"IFERROR(MATCH(D104,Nr_stad!$U$8:$U$60,0),0)","v":0}]
[null,null,null,null,null,null,null,null,null,null,0,{"$f":"IF(TRUNC(K105/N_W_2_2!$G$8)>H105,H105,TRUNC(K105/N_W_2_2!$G$8))","v":0},null,null,null,null,null,0,null,null,null,{"$f":"IFERROR(MATCH(D105,Nr_stad!$U$8:$U$60,0),0)","v":0}]
[null,null,null,null,null,null,null,null,null,null,0,{"$f":"IF(TRUNC(K106/N_W_2_2!$G$8)>H106,H106,TRUNC(K106/N_W_2_2!$G$8))","v":0},null,null,null,null,null,0,null,null,null,{"$f":"IFERROR(MATCH(D106,Nr_stad!$U$8:$U$60,0),0)","v":0}]
[null,null,null,null,null,null,null,null,null,null,0,{"$f":"IF(TRUNC(K107/N_W_2_2!$G$8)>H107,H107,TRUNC(K107/N_W_2_2!$G$8))","v":0},null,null,null,null,null,0,null,null,null,{"$f":"IFERROR(MATCH(D107,Nr_stad!$U$8:$U$60,0),0)","v":0}]
[null,null,null,null,null,null,null,null,null,null,0,{"$f":"IF(TRUNC(K108/N_W_2_2!$G$8)>H108,H108,TRUNC(K108/N_W_2_2!$G$8))","v":0},null,null,null,null,null,0,null,null,null,{"$f":"IFERROR(MATCH(D108,Nr_stad!$U$8:$U$60,0),0)","v":0}]
[null,null,null,null,null,null,null,null,null,null,0,{"$f":"IF(TRUNC(K109/N_W_2_2!$G$8)>H109,H109,TRUNC(K109/N_W_2_2!$G$8))","v":0},null,null,null,null,null,0,null,null,null,{"$f":"IFERROR(MATCH(D109,Nr_stad!$U$8:$U$60,0),0)","v":0}]
[null,null,null,null,null,null,null,null,null,null,0,{"$f":"IF(TRUNC(K110/N_W_2_2!$G$8)>H110,H110,TRUNC(K110/N_W_2_2!$G$8))","v":0},null,null,null,null,null,0,null,null,null,{"$f":"IFERROR(MATCH(D110,Nr_stad!$U$8:$U$60,0),0)","v":0}]
[null,null,null,null,null,null,null,null,null,null,0,{"$f":"IF(TRUNC(K111/N_W_2_2!$G$8)>H111,H111,TRUNC(K111/N_W_2_2!$G$8))","v":0},null,null,null,null,null,0,null,null,null,{"$f":"IFERROR(MATCH(D111,Nr_stad!$U$8:$U$60,0),0)","v":0}]
[null,null,null,null,null,null,null,null,null,null,0,{"$f":"IF(TRUNC(K112/N_W_2_2!$G$8)>H112,H112,TRUNC(K112/N_W_2_2!$G$8))","v":0},null,null,null,null,null,0,null,null,null,{"$f":"IFERROR(MATCH(D112,Nr_stad!$U$8:$U$60,0),0)","v":0}]
[null,null,null,null,null,null,null,null,null,null,0,{"$f":"IF(TRUNC(K113/N_W_2_2!$G$8)>H113,H113,TRUNC(K113/N_W_2_2!$G$8))","v":0},null,null,null,null,null,0,null,null,null,{"$f":"IFERROR(MATCH(D113,Nr_stad!$U$8:$U$60,0),0)","v":0}]
[null,null,null,null,null,null,null,null,null,null,0,{"$f":"IF(TRUNC(K114/N_W_2_2!$G$8)>H114,H114,TRUNC(K114/N_W_2_2!$G$8))","v":0},null,null,null,null,null,0,null,null,null,{"$f":"IFERROR(MATCH(D114,Nr_stad!$U$8:$U$60,0),0)","v":0}]
[null,null,null,null,null,null,null,null,null,null,0,{"$f":"IF(TRUNC(K115/N_W_2_2!$G$8)>H115,H115,TRUNC(K115/N_W_2_2!$G$8))","v":0},null,null,null,null,null,0,null,null,null,{"$f":"IFERROR(MATCH(D115,Nr_stad!$U$8:$U$60,0),0)","v":0}]
[null,null,null,null,null,null,null,null,null,null,0,{"$f":"IF(TRUNC(K116/N_W_2_2!$G$8)>H116,H116,TRUNC(K116/N_W_2_2!$G$8))","v":0},null,null,null,null,null,0,null,null,null,{"$f":"IFERROR(MATCH(D116,Nr_stad!$U$8:$U$60,0),0)","v":0}]
[null,null,null,null,null,null,null,null,null,null,0,{"$f":"IF(TRUNC(K117/N_W_2_2!$G$8)>H117,H117,TRUNC(K117/N_W_2_2!$G$8))","v":0},null,null,null,null,null,0,null,null,null,{"$f":"IFERROR(MATCH(D117,Nr_stad!$U$8:$U$60,0),0)","v":0}]
[null,null,null,"RAZEM:",null,null,null,{"$f":"SUM(H23:H117)","v":0},"X",null,{"$f":"SUM(K23:K117)","v":0},{"$f":"SUM(L23:M117)","v":0},null,null,null,null,null,0,null,null,null,{"$f":"IFERROR(MATCH(D118,Nr_stad!$U$8:$U$60,0),0)","v":0}]
[null,null,null,null,null,null,null,null,null,null,null,null,null,null,null,null,null,0,null,null,null,{"$f":"IFERROR(MATCH(D119,Nr_stad!$U$8:$U$60,0),0)","v":0}]
[null,null,"II.2.2.2.b","System wolnostanowiskowy bez wydzielonych legowisk na ściółce"]
[null,null,null,"Numer siedziby stada albo\n Nazwa \nobiektu / sekcja krów mlecznych",null,"Powierzchnia bytowa",null,null,null,"Maksymalna liczba krów mlecznych"]
[null,null,null,null,null,"długość","szerokość","powierzchnia",null,null,null,null,null,null,null,null,null,null,"powierzchnia"]
[null,null,null,null,null,"m","m","m2",null,"szt",null,null,null,null,null,null,null,null,"m2"]
[null,null,null,null,null,null,null,{"$f":"IFERROR(F124*G124,\"\")","v":0},null,{"$f":"IF(T124<1,\"-\",TRUNC(H124/$S$124))","v":"-"},null,null,null,null,null,null,null,{"$f":"SUM(F124:M124)+V124","v":0},{"$f":"N_W_2_2!G9","v":5.4},{"$f":"H124/$S$124","v":0},null,{"$f":"IFERROR(MATCH(D124,Nr_stad!$U$8:$U$60,0),0)","v":0}]
[null,null,null,null,null,null,null,{"$f":"IFERROR(F125*G125,\"\")","v":0},null,{"$f":"IF(T125<1,\"-\",TRUNC(H125/$S$124))","v":"-"},null,null,null,null,null,null,null,{"$f":"SUM(F125:M125)+V125","v":0},null,{"$f":"H125/$S$124","v":0},null,{"$f":"IFERROR(MATCH(D125,Nr_stad!$U$8:$U$60,0),0)","v":0}]
[null,null,null,null,null,null,null,{"$f":"IFERROR(F126*G126,\"\")","v":0},null,"-",null,null,null,null,null,null,null,0,null,0,null,{"$f":"IFERROR(MATCH(D126,Nr_stad!$U$8:$U$60,0),0)","v":0}]
[null,null,null,null,null,null,null,{"$f":"IFERROR(F127*G127,\"\")","v":0},null,"-",null,null,null,null,null,null,null,0,null,0,null,{"$f":"IFERROR(MATCH(D127,Nr_stad!$U$8:$U$60,0),0)","v":0}]
[null,null,null,null,null,null,null,{"$f":"IFERROR(F128*G128,\"\")","v":0},null,"-",null,null,null,null,null,null,null,0,null,0,null,{"$f":"IFERROR(MATCH(D128,Nr_stad!$U$8:$U$60,0),0)","v":0}]
[null,null,null,null,null,null,null,0,null,"-",null,null,null,null,null,null,null,0,null,0,null,{"$f":"IFERROR(MATCH(D129,Nr_stad!$U$8:$U$60,0),0)","v":0}]
[null,null,null,null,null,null,null,0,null,"-",null,null,null,null,null,null,null,0,null,0,null,{"$f":"IFERROR(MATCH(D130,Nr_stad!$U$8:$U$60,0),0)","v":0}]
[null,null,null,null,null,null,null,0,null,"-",null,null,null,null,null,null,null,0,null,0,null,{"$f":"IFERROR(MATCH(D131,Nr_stad!$U$8:$U$60,0),0)","v":0}]
[null,null,null,null,null,null,null,0,null,"-",null,null,null,null,null,null,null,0,null,0,null,{"$f":"IFERROR(MATCH(D132,Nr_stad!$U$8:$U$60,0),0)","v":0}]
[null,null,null,null,null,null,null,0,null,"-",null,null,null,null,null,null,null,0,null,0,null,{"$f":"IFERROR(MATCH(D133,Nr_stad!$U$8:$U$60,0),0)","v":0}]
[null,null,null,null,null,null,null,0,null,"-",null,null,null,null,null,null,null,0,null,0,null,{"$f":"IFERROR(MATCH(D134,Nr_stad!$U$8:$U$60,0),0)","v":0}]
[null,null,null,null,null,null,null,0,null,"-",null,null,null,null,null,null,null,0,null,0,null,{"$f":"IFERROR(MATCH(D135,Nr_stad!$U$8:$U$60,0),0)","v":0}]
[null,null,null,null,null,null,null,0,null,"-",null,null,null,null,null,null,null,0,null,0,null,{"$f":"IFERROR(MATCH(D136,Nr_stad!$U$8:$U$60,0),0)","v":0}]
[null,null,null,null,null,null,null,0,null,"-",null,null,null,null,null,null,null,0,null,0,null,{"$f":"IFERROR(MATCH(D137,Nr_stad!$U$8:$U$60,0),0)","v":0}]
[null,null,null,null,null,null,null,0,null,"-",null,null,null,null,null,null,null,0,null,0,null,{"$f":"IFERROR(MATCH(D138,Nr_stad!$U$8:$U$60,0),0)","v":0}]
[null,null,null,null,null,null,null,0,null,"-",null,null,null,null,null,null,null,0,null,0,null,{"$f":"IFERROR(MATCH(D139,Nr_stad!$U$8:$U$60,0),0)","v":0}]
[null,null,null,null,null,null,null,0,null,"-",null,null,null,null,null,null,null,0,null,0,null,{"$f":"IFERROR(MATCH(D140,Nr_stad!$U$8:$U$60,0),0)","v":0}]
[null,null,null,null,null,null,null,0,null,"-",null,null,null,null,null,null,null,0,null,0,null,{"$f":"IFERROR(MATCH(D141,Nr_stad!$U$8:$U$60,0),0)","v":0}]
[null,null,null,null,null,null,null,0,null,"-",null,null,null,null,null,null,null,0,null,0,null,{"$f":"IFERROR(MATCH(D142,Nr_stad!$U$8:$U$60,0),0)","v":0}]
[null,null,null,null,null,null,null,0,null,"-",null,null,null,null,null,null,null,0,null,0,null,{"$f":"IFERROR(MATCH(D143,Nr_stad!$U$8:$U$60,0),0)","v":0}]
[null,null,null,null,null,null,null,0,null,"-",null,null,null,null,null,null,null,0,null,0,null,{"$f":"IFERROR(MATCH(D144,Nr_stad!$U$8:$U$60,0),0)","v":0}]
[null,null,null,null,null,null,null,0,null,"-",null,null,null,null,null,null,null,0,null,0,null,{"$f":"IFERROR(MATCH(D145,Nr_stad!$U$8:$U$60,0),0)","v":0}]
[null,null,null,null,null,null,null,0,null,"-",null,null,null,null,null,null,null,0,null,0,null,{"$f":"IFERROR(MATCH(D146,Nr_stad!$U$8:$U$60,0),0)","v":0}]
[null,null,null,null,null,null,null,0,null,"-",null,null,null,null,null,null,null,0,null,0,null,{"$f":"IFERROR(MATCH(D147,Nr_stad!$U$8:$U$60,0),0)","v":0}]
[null,null,null,null,null,null,null,0,null,"-",null,null,null,null,null,null,null,0,null,0,null,{"$f":"IFERROR(MATCH(D148,Nr_stad!$U$8:$U$60,0),0)","v":0}]
[null,null,null,null,null,null,null,0,null,"-",null,null,null,null,null,null,null,0,null,0,null,{"$f":"IFERROR(MATCH(D149,Nr_stad!$U$8:$U$60,0),0)","v":0}]
[null,null,null,null,null,null,null,0,null,"-",null,null,null,null,null,null,null,0,null,0,null,{"$f":"IFERROR(MATCH(D150,Nr_stad!$U$8:$U$60,0),0)","v":0}]
[null,null,null,null,null,null,null,0,null,"-",null,null,null,null,null,null,null,0,null,0,null,{"$f":"IFERROR(MATCH(D151,Nr_stad!$U$8:$U$60,0),0)","v":0}]
[null,null,null,null,null,null,null,0,null,"-",null,null,null,null,null,null,null,0,null,0,null,{"$f":"IFERROR(MATCH(D152,Nr_stad!$U$8:$U$60,0),0)","v":0}]
[null,null,null,null,null,null,null,0,null,"-",null,null,null,null,null,null,null,0,null,0,null,{"$f":"IFERROR(MATCH(D153,Nr_stad!$U$8:$U$60,0),0)","v":0}]
[null,null,null,null,null,null,null,0,null,"-",null,null,null,null,null,null,null,0,null,0,null,{"$f":"IFERROR(MATCH(D154,Nr_stad!$U$8:$U$60,0),0)","v":0}]
[null,null,null,null,null,null,null,0,null,"-",null,null,null,null,null,null,null,0,null,0,null,{"$f":"IFERROR(MATCH(D155,Nr_stad!$U$8:$U$60,0),0)","v":0}]
[null,null,null,null,null,null,null,0,null,"-",null,null,null,null,null,null,null,0,null,0,null,{"$f":"IFERROR(MATCH(D156,Nr_stad!$U$8:$U$60,0),0)","v":0}]
[null,null,null,null,null,null,null,0,null,"-",null,null,null,null,null,null,null,0,null,0,null,{"$f":"IFERROR(MATCH(D157,Nr_stad!$U$8:$U$60,0),0)","v":0}]
[null,null,null,null,null,null,null,0,null,"-",null,null,null,null,null,null,null,0,null,0,null,{"$f":"IFERROR(MATCH(D158,Nr_stad!$U$8:$U$60,0),0)","v":0}]
[null,null,null,null,null,null,null,0,null,"-",null,null,null,null,null,null,null,0,null,0,null,{"$f":"IFERROR(MATCH(D159,Nr_stad!$U$8:$U$60,0),0)","v":0}]
[null,null,null,null,null,null,null,0,null,"-",null,null,null,null,null,null,null,0,null,0,null,{"$f":"IFERROR(MATCH(D160,Nr_stad!$U$8:$U$60,0),0)","v":0}]
[null,null,null,null,null,null,null,0,null,"-",null,null,null,null,null,null,null,0,null,0,null,{"$f":"IFERROR(MATCH(D161,Nr_stad!$U$8:$U$60,0),0)","v":0}]
[null,null,null,null,null,null,null,0,null,"-",null,null,null,null,null,null,null,0,null,0,null,{"$f":"IFERROR(MATCH(D162,Nr_stad!$U$8:$U$60,0),0)","v":0}]
[null,null,null,null,null,null,null,0,null,"-",null,null,null,null,null,null,null,0,null,0,null,{"$f":"IFERROR(MATCH(D163,Nr_stad!$U$8:$U$60,0),0)","v":0}]
[null,null,null,null,null,null,null,0,null,"-",null,null,null,null,null,null,null,0,null,0,null,{"$f":"IFERROR(MATCH(D164,Nr_stad!$U$8:$U$60,0),0)","v":0}]
[null,null,null,null,null,null,null,0,null,"-",null,null,null,null,null,null,null,0,null,0,null,{"$f":"IFERROR(MATCH(D165,Nr_stad!$U$8:$U$60,0),0)","v":0}]
[null,null,null,null,null,null,null,0,null,"-",null,null,null,null,null,null,null,0,null,0,null,{"$f":"IFERROR(MATCH(D166,Nr_stad!$U$8:$U$60,0),0)","v":0}]
[null,null,null,null,null,null,null,0,null,"-",null,null,null,null,null,null,null,0,null,0,null,{"$f":"IFERROR(MATCH(D167,Nr_stad!$U$8:$U$60,0),0)","v":0}]
[null,null,null,null,null,null,null,0,null,"-",null,null,null,null,null,null,null,0,null,0,null,{"$f":"IFERROR(MATCH(D168,Nr_stad!$U$8:$U$60,0),0)","v":0}]
[null,null,null,null,null,null,null,0,null,"-",null,null,null,null,null,null,null,0,null,0,null,{"$f":"IFERROR(MATCH(D169,Nr_stad!$U$8:$U$60,0),0)","v":0}]
[null,null,null,null,null,null,null,0,null,"-",null,null,null,null,null,null,null,0,null,0,null,{"$f":"IFERROR(MATCH(D170,Nr_stad!$U$8:$U$60,0),0)","v":0}]
[null,null,null,null,null,null,null,0,null,"-",null,null,null,null,null,null,null,0,null,0,null,{"$f":"IFERROR(MATCH(D171,Nr_stad!$U$8:$U$60,0),0)","v":0}]
[null,null,null,null,null,null,null,0,null,"-",null,null,null,null,null,null,null,0,null,0,null,{"$f":"IFERROR(MATCH(D172,Nr_stad!$U$8:$U$60,0),0)","v":0}]
[null,null,null,null,null,null,null,0,null,"-",null,null,null,null,null,null,null,0,null,0,null,{"$f":"IFERROR(MATCH(D173,Nr_stad!$U$8:$U$60,0),0)","v":0}]
[null,null,null,null,null,null,null,0,null,"-",null,null,null,null,null,null,null,0,null,0,null,{"$f":"IFERROR(MATCH(D174,Nr_stad!$U$8:$U$60,0),0)","v":0}]
[null,null,null,null,null,null,null,0,null,"-",null,null,null,null,null,null,null,0,null,0,null,{"$f":"IFERROR(MATCH(D175,Nr_stad!$U$8:$U$60,0),0)","v":0}]
[null,null,null,null,null,null,null,0,null,"-",null,null,null,null,null,null,null,0,null,0,null,{"$f":"IFERROR(MATCH(D176,Nr_stad!$U$8:$U$60,0),0)","v":0}]
[null,null,null,null,null,null,null,0,null,"-",null,null,null,null,null,null,null,0,null,0,null,{"$f":"IFERROR(MATCH(D177,Nr_stad!$U$8:$U$60,0),0)","v":0}]
[null,null,null,null,null,null,null,0,null,"-",null,null,null,null,null,null,null,0,null,0,null,{"$f":"IFERROR(MATCH(D178,Nr_stad!$U$8:$U$60,0),0)","v":0}]
[null,null,null,null,null,null,null,0,null,"-",null,null,null,null,null,null,null,0,null,0,null,{"$f":"IFERROR(MATCH(D179,Nr_stad!$U$8:$U$60,0),0)","v":0}]
[null,null,null,"RAZEM:",null,null,null,{"$f":"SUM(H124:I179)","v":0},null,{"$f":"SUM(J124:K179)","v":0},null,null,null,null,null,null,null,{"$f":"SUM(F180:M180)+V180","v":0},null,0,null,{"$f":"IFERROR(MATCH(D180,Nr_stad!$U$8:$U$60,0),0)","v":0}]
[null,null,null,null,null,null,null,null,null,null,null,null,null,null,null,null,null,null,null,null,null,{"$f":"IFERROR(MATCH(D181,Nr_stad!$U$8:$U$60,0),0)","v":0}]

{"sheet":"Bydlo_mlecz_inn","index":11,"n_rows":124,"n_cols":54,"rows_kept":124,"cut":false,"hidden":false,"merged":[[15,8,15,11],[11,3,11,4],[3,2,3,19],[4,2,4,19],[5,2,5,19],[6,3,6,4],[6,6,6,7],[6,9,6,12],[6,14,6,16],[14,8,14,11],[11,8,11,11],[12,8,12,11],[13,8,13,11],[10,3,10,18],[17,3,17,14],[18,7,18,8],[18,9,18,11],[18,12,18,14],[18,15,18,16],[18,3,19,3],[18,4,19,4],[18,17,19,17],[123,12,123,17],[18,19,19,19],[122,3,122,13],[122,15,122,17]]}
[null,null,null,null,null,null,null,null,null,null,null,null,null,null,null,null,null,null,"POWRÓT",null,null,null,null,null,null,null,null,null,null,null,null,null,null,null,null,null,null,null,null,null,null,null,null,null,null,null,null,null,null,null,null,null,null,"UWAGI"]
[]
[]
[null,null,"II. Część szczegółowa  "]
[null,null,"Inne grupy technologiczne bydła mlecznego nieobjęte podwyższonymi wymogami wariantu 2.2. Dobrostan krów mlecznych utrzymywanych grupowo - zwiększona powierzchnia w budynkach"]
[null,null,"BYDŁO MLECZNE"]
[null,null,"II.1.1.1.","Numer/y siedziby stada:",null,"PL",123456789001,null,"PL",null,null,null,null,"PL"]
[]
[null,null,"II.1.1.1.","System produkcji  gospodarstwie "]
[null,null,null,{"$f":"IF(AD10=TRUE,AE10,AF10)","v":"☒"},"Nieutrzymywanie loch  w systemie jarzmowym",null,null,null,null,null,null,null,null,null,"  ",null,null,null,null,null,null,null,null,null,null,null,null,null,null,true,"☒","☐"]
[null,null,{"$f":"IF(AD11=TRUE,AE11,AF11)","v":"☐"},"Do planu poprawy dobrostanu zwierząt dołączono szkic obiektów ze wskazanymi SEKCJAMI w których utrzymywane jest BYDŁO MLECZNE nieobjęte podwyższonymi wymogami wariantu 2.2. Dobrostan krów mlecznych utrzymywanych grupowo - zwiększona powierzchnia w budynkach oraz krowy mamki",null,null,null,null,null,null,null,null,null,null,null,null,null,null,null,null,null,null,null,null,null,null,null,null,null,false,"☒","☐"]
[null,null,null,"Parametry określające wymiary kojców dla cieląt"]
[null,null,null,null,"Grupa technologiczna cieląt",null,null,"szerokość -  wysokość cielęcia w kłębie,\nw metrach","długość ciała cielęcia mierzona od czubka nosa do ogonowej krawędzi guza kulszowego,\nw metrach"]
[null,null,null,null,"Cielęta do 150 kg"]
[null,null,null,null,"Cielęta > 150 kg do 220 kg",null,null,null,null,null,null,null,null,null,null,null,null,null,null,null,null,null,null,null,null,null,null,null,null,false,{"$f":"AND(AD17=1,L15>9)","v":false}]
[null,null,null,null,"Cielęta >220 kg",null,null,null,null,null,null,null,null,null,null,null,null,null,null,null,null,null,null,null,null,null,null,null,null,"poj/grup"]
[null,null,null,null,null,null,null,null,null,null,null,null,null,null,null,null,null,null,null,null,null,null,null,null,null,null,null,null,null,1,"☒","☐"]
[null,null,null,"Dopuszczalna maksymalna liczba sztuk bydła mlecznego, które mogą przebywać jednocześnie w gospodarstwie z uwzględnieniem  obowiązkowych wymogów dotyczących wielkości powierzchni w budynkach inwentarskich, wynikających z prawa krajowego "]
[null,null,null,"Numer siedziby stada albo \nGrupa technologiczna","System utrzymania",null,null,"Obiekt",null,"Liczba  wydzielonych legowisk/ kojcy pojedynczych spełniających wymóg minimalnych wymiarów",null,null,"Powierzchnia ",null,null," Minimalne wymiary legowisk / kojcy pojedynczych",null,"Powierzchnia minimalna","Maksymalna liczba","Stan na dzień sporządzenia planu"]
[null,null,null,null,null,null,null,"Nazwa obiektu","Sekcja","Dł.","Szer.","Liczba","Dł.","Szer.","Pow.","Dł.","Szer.",null,"bydła",null,null,null,null,null,null,null,null,"sys","Nr stad","grupy",null,"SYS/LISTA"]
[null,null,null,null,null,null,null,null,null,"m","m","szt","m","m","m2","m","m","m2/szt.","szt","szt",null,null,null,null,null,null,null,null,null,null,"poz","W"]
[null,null,null,null,null,null,null,null,null,null,null,null,null,null,{"$f":"IFERROR(M22*N22,\"\")","v":0},{"$f":"IFERROR(IF(AB22<=2,OFFSET(B_ML_N!$B$3,AE22,AB22),\"-\"),\"-\")","v":"-"},{"$f":"IFERROR(IF(AB22<=2,OFFSET(B_ML_N!$B$3,AE22,AB22+2),\"-\"),\"-\")","v":"-"},{"$f":"IFERROR(IF(AB22>2,OFFSET(B_ML_N!$B$3,AE22,AB22+2),\"-\"),\"-\")","v":"-"},{"$f":"IFERROR(IF(AG22<>TRUE,IF(AND(L22>0,AB22<3),L22,TRUNC(O22/R22)),\"-\"),\"-\")","v":"-"},null,null,null,null,null,null,null,null,{"$f":"IF(MATCH(E22,B_ML_N!$L$18:$L$23,0)<5,MATCH(E22,B_ML_N!$L$18:$L$23,0),1)","v":{"$error":"#N/A"}},{"$f":"IFERROR(MATCH(D22,Nr_stad!$U$8:$U$60,0),0)","v":0},{"$f":"SUM(I22:T22)+AC22","v":0},{"$f":"IF(D22=\"\",\"-\",MATCH(D22,B_ML_N!$B$4:$B$16,0))","v":"-"},{"$f":"IFERROR(OFFSET(B_ML_N!$L$3,AE22,4),1)","v":1},{"$f":"IFERROR(AND(OR(J22<P22,K22<Q22),AB22<3),FALSE)","v":false}]
[null,null,null,null,null,null,null,null,null,null,null,null,null,null,0,{"$f":"IFERROR(IF(AB23<=2,OFFSET(B_ML_N!$B$3,AE23,AB23),\"-\"),\"-\")","v":"-"},{"$f":"IFERROR(IF(AB23<=2,OFFSET(B_ML_N!$B$3,AE23,AB23+2),\"-\"),\"-\")","v":"-"},{"$f":"IFERROR(IF(AB23>2,OFFSET(B_ML_N!$B$3,AE23,AB23+2),\"-\"),\"-\")","v":"-"},{"$f":"IFERROR(IF(AG23<>TRUE,IF(AND(L23>0,AB23<3),L23,TRUNC(O23/R23)),\"-\"),\"-\")","v":"-"},null,null,null,null,null,null,null,null,{"$f":"IF(MATCH(E23,B_ML_N!$L$18:$L$23,0)<5,MATCH(E23,B_ML_N!$L$18:$L$23,0),1)","v":{"$error":"#N/A"}},{"$f":"IFERROR(MATCH(D23,Nr_stad!$U$8:$U$60,0),0)","v":0},{"$f":"SUM(I23:T23)+AC23","v":0},{"$f":"IF(D23=\"\",\"-\",MATCH(D23,B_ML_N!$B$4:$B$16,0))","v":"-"},{"$f":"IFERROR(OFFSET(B_ML_N!$L$3,AE23,4),1)","v":1},{"$f":"IFERROR(AND(OR(J23<P23,K23<Q23),AB23<3),FALSE)","v":false}]
[null,null,null,null,null,null,null,null,null,null,null,null,null,null,0,{"$f":"IFERROR(IF(AB24<=2,OFFSET(B_ML_N!$B$3,AE24,AB24),\"-\"),\"-\")","v":"-"},{"$f":"IFERROR(IF(AB24<=2,OFFSET(B_ML_N!$B$3,AE24,AB24+2),\"-\"),\"-\")","v":"-"},{"$f":"IFERROR(IF(AB24>2,OFFSET(B_ML_N!$B$3,AE24,AB24+2),\"-\"),\"-\")","v":"-"},"-",null,null,null,null,null,null,null,null,{"$f":"IF(MATCH(E24,B_ML_N!$L$18:$L$23,0)<5,MATCH(E24,B_ML_N!$L$18:$L$23,0),1)","v":{"$error":"#N/A"}},{"$f":"IFERROR(MATCH(D24,Nr_stad!$U$8:$U$60,0),0)","v":0},0,{"$f":"IF(D24=\"\",\"-\",MATCH(D24,B_ML_N!$B$4:$B$16,0))","v":"-"},{"$f":"IFERROR(OFFSET(B_ML_N!$L$3,AE24,4),1)","v":1},false]
[null,null,null,null,null,null,null,null,null,null,null,null,null,null,0,{"$f":"IFERROR(IF(AB25<=2,OFFSET(B_ML_N!$B$3,AE25,AB25),\"-\"),\"-\")","v":"-"},{"$f":"IFERROR(IF(AB25<=2,OFFSET(B_ML_N!$B$3,AE25,AB25+2),\"-\"),\"-\")","v":"-"},{"$f":"IFERROR(IF(AB25>2,OFFSET(B_ML_N!$B$3,AE25,AB25+2),\"-\"),\"-\")","v":"-"},"-",null,null,null,null,null,null,null,null,{"$f":"IF(MATCH(E25,B_ML_N!$L$18:$L$23,0)<5,MATCH(E25,B_ML_N!$L$18:$L$23,0),1)","v":{"$error":"#N/A"}},{"$f":"IFERROR(MATCH(D25,Nr_stad!$U$8:$U$60,0),0)","v":0},0,{"$f":"IF(D25=\"\",\"-\",MATCH(D25,B_ML_N!$B$4:$B$16,0))","v":"-"},{"$f":"IFERROR(OFFSET(B_ML_N!$L$3,AE25,4),1)","v":1},false]
[null,null,null,null,null,null,null,null,null,null,null,null,null,null,0,{"$f":"IFERROR(IF(AB26<=2,OFFSET(B_ML_N!$B$3,AE26,AB26),\"-\"),\"-\")","v":"-"},{"$f":"IFERROR(IF(AB26<=2,OFFSET(B_ML_N!$B$3,AE26,AB26+2),\"-\"),\"-\")","v":"-"},{"$f":"IFERROR(IF(AB26>2,OFFSET(B_ML_N!$B$3,AE26,AB26+2),\"-\"),\"-\")","v":"-"},"-",null,null,null,null,null,null,null,null,{"$f":"IF(MATCH(E26,B_ML_N!$L$18:$L$23,0)<5,MATCH(E26,B_ML_N!$L$18:$L$23,0),1)","v":{"$error":"#N/A"}},{"$f":"IFERROR(MATCH(D26,Nr_stad!$U$8:$U$60,0),0)","v":0},0,{"$f":"IF(D26=\"\",\"-\",MATCH(D26,B_ML_N!$B$4:$B$16,0))","v":"-"},{"$f":"IFERROR(OFFSET(B_ML_N!$L$3,AE26,4),1)","v":1},false]
[null,null,null,null,null,null,null,null,null,null,null,null,null,null,0,{"$f":"IFERROR(IF(AB27<=2,OFFSET(B_ML_N!$B$3,AE27,AB27),\"-\"),\"-\")","v":"-"},{"$f":"IFERROR(IF(AB27<=2,OFFSET(B_ML_N!$B$3,AE27,AB27+2),\"-\"),\"-\")","v":"-"},{"$f":"IFERROR(IF(AB27>2,OFFSET(B_ML_N!$B$3,AE27,AB27+2),\"-\"),\"-\")","v":"-"},"-",null,null,null,null,null,null,null,null,{"$f":"IF(MATCH(E27,B_ML_N!$L$18:$L$23,0)<5,MATCH(E27,B_ML_N!$L$18:$L$23,0),1)","v":{"$error":"#N/A"}},{"$f":"IFERROR(MATCH(D27,Nr_stad!$U$8:$U$60,0),0)","v":0},0,{"$f":"IF(D27=\"\",\"-\",MATCH(D27,B_ML_N!$B$4:$B$16,0))","v":"-"},{"$f":"IFERROR(OFFSET(B_ML_N!$L$3,AE27,4),1)","v":1},false]
[null,null,null,null,null,null,null,null,null,null,null,null,null,null,0,{"$f":"IFERROR(IF(AB28<=2,OFFSET(B_ML_N!$B$3,AE28,AB28),\"-\"),\"-\")","v":"-"},{"$f":"IFERROR(IF(AB28<=2,OFFSET(B_ML_N!$B$3,AE28,AB28+2),\"-\"),\"-\")","v":"-"},{"$f":"IFERROR(IF(AB28>2,OFFSET(B_ML_N!$B$3,AE28,AB28+2),\"-\"),\"-\")","v":"-"},"-",null,null,null,null,null,null,null,null,{"$f":"IF(MATCH(E28,B_ML_N!$L$18:$L$23,0)<5,MATCH(E28,B_ML_N!$L$18:$L$23,0),1)","v":{"$error":"#N/A"}},{"$f":"IFERROR(MATCH(D28,Nr_stad!$U$8:$U$60,0),0)","v":0},0,{"$f":"IF(D28=\"\",\"-\",MATCH(D28,B_ML_N!$B$4:$B$16,0))","v":"-"},{"$f":"IFERROR(OFFSET(B_ML_N!$L$3,AE28,4),1)","v":1},false]
[null,null,null,null,null,null,null,null,null,null,null,null,null,null,0,{"$f":"IFERROR(IF(AB29<=2,OFFSET(B_ML_N!$B$3,AE29,AB29),\"-\"),\"-\")","v":"-"},{"$f":"IFERROR(IF(AB29<=2,OFFSET(B_ML_N!$B$3,AE29,AB29+2),\"-\"),\"-\")","v":"-"},{"$f":"IFERROR(IF(AB29>2,OFFSET(B_ML_N!$B$3,AE29,AB29+2),\"-\"),\"-\")","v":"-"},"-",null,null,null,null,null,null,null,null,{"$f":"IF(MATCH(E29,B_ML_N!$L$18:$L$23,0)<5,MATCH(E29,B_ML_N!$L$18:$L$23,0),1)","v":{"$error":"#N/A"}},{"$f":"IFERROR(MATCH(D29,Nr_stad!$U$8:$U$60,0),0)","v":0},0,{"$f":"IF(D29=\"\",\"-\",MATCH(D29,B_ML_N!$B$4:$B$16,0))","v":"-"},{"$f":"IFERROR(OFFSET(B_ML_N!$L$3,AE29,4),1)","v":1},false]
[null,null,null,null,null,null,null,null,null,null,null,null,null,null,0,{"$f":"IFERROR(IF(AB30<=2,OFFSET(B_ML_N!$B$3,AE30,AB30),\"-\"),\"-\")","v":"-"},{"$f":"IFERROR(IF(AB30<=2,OFFSET(B_ML_N!$B$3,AE30,AB30+2),\"-\"),\"-\")","v":"-"},{"$f":"IFERROR(IF(AB30>2,OFFSET(B_ML_N!$B$3,AE30,AB30+2),\"-\"),\"-\")","v":"-"},"-",null,null,null,null,null,null,null,null,{"$f":"IF(MATCH(E30,B_ML_N!$L$18:$L$23,0)<5,MATCH(E30,B_ML_N!$L$18:$L$23,0),1)","v":{"$error":"#N/A"}},{"$f":"IFERROR(MATCH(D30,Nr_stad!$U$8:$U$60,0),0)","v":0},0,{"$f":"IF(D30=\"\",\"-\",MATCH(D30,B_ML_N!$B$4:$B$16,0))","v":"-"},{"$f":"IFERROR(OFFSET(B_ML_N!$L$3,AE30,4),1)","v":1},false]
[null,null,null,null,null,null,null,null,null,null,null,null,null,null,0,{"$f":"IFERROR(IF(AB31<=2,OFFSET(B_ML_N!$B$3,AE31,AB31),\"-\"),\"-\")","v":"-"},{"$f":"IFERROR(IF(AB31<=2,OFFSET(B_ML_N!$B$3,AE31,AB31+2),\"-\"),\"-\")","v":"-"},{"$f":"IFERROR(IF(AB31>2,OFFSET(B_ML_N!$B$3,AE31,AB31+2),\"-\"),\"-\")","v":"-"},"-",null,null,null,null,null,null,null,null,{"$f":"IF(MATCH(E31,B_ML_N!$L$18:$L$23,0)<5,MATCH(E31,B_ML_N!$L$18:$L$23,0),1)","v":{"$error":"#N/A"}},{"$f":"IFERROR(MATCH(D31,Nr_stad!$U$8:$U$60,0),0)","v":0},0,{"$f":"IF(D31=\"\",\"-\",MATCH(D31,B_ML_N!$B$4:$B$16,0))","v":"-"},{"$f":"IFERROR(OFFSET(B_ML_N!$L$3,AE31,4),1)","v":1},false]
[null,null,null,null,null,null,null,null,null,null,null,null,null,null,0,{"$f":"IFERROR(IF(AB32<=2,OFFSET(B_ML_N!$B$3,AE32,AB32),\"-\"),\"-\")","v":"-"},{"$f":"IFERROR(IF(AB32<=2,OFFSET(B_ML_N!$B$3,AE32,AB32+2),\"-\"),\"-\")","v":"-"},{"$f":"IFERROR(IF(AB32>2,OFFSET(B_ML_N!$B$3,AE32,AB32+2),\"-\"),\"-\")","v":"-"},"-",null,null,null,null,null,null,null,null,{"$f":"IF(MATCH(E32,B_ML_N!$L$18:$L$23,0)<5,MATCH(E32,B_ML_N!$L$18:$L$23,0),1)","v":{"$error":"#N/A"}},{"$f":"IFERROR(MATCH(D32,Nr_stad!$U$8:$U$60,0),0)","v":0},0,{"$f":"IF(D32=\"\",\"-\",MATCH(D32,B_ML_N!$B$4:$B$16,0))","v":"-"},{"$f":"IFERROR(OFFSET(B_ML_N!$L$3,AE32,4),1)","v":1},false]
[null,null,null,null,null,null,null,null,null,null,null,null,null,null,0,{"$f":"IFERROR(IF(AB33<=2,OFFSET(B_ML_N!$B$3,AE33,AB33),\"-\"),\"-\")","v":"-"},{"$f":"IFERROR(IF(AB33<=2,OFFSET(B_ML_N!$B$3,AE33,AB33+2),\"-\"),\"-\")","v":"-"},{"$f":"IFERROR(IF(AB33>2,OFFSET(B_ML_N!$B$3,AE33,AB33+2),\"-\"),\"-\")","v":"-"},"-",null,null,null,null,null,null,null,null,{"$f":"IF(MATCH(E33,B_ML_N!$L$18:$L$23,0)<5,MATCH(E33,B_ML_N!$L$18:$L$23,0),1)","v":{"$error":"#N/A"}},{"$f":"IFERROR(MATCH(D33,Nr_stad!$U$8:$U$60,0),0)","v":0},0,{"$f":"IF(D33=\"\",\"-\",MATCH(D33,B_ML_N!$B$4:$B$16,0))","v":"-"},{"$f":"IFERROR(OFFSET(B_ML_N!$L$3,AE33,4),1)","v":1},false]
[null,null,null,null,null,null,null,null,null,null,null,null,null,null,0,{"$f":"IFERROR(IF(AB34<=2,OFFSET(B_ML_N!$B$3,AE34,AB34),\"-\"),\"-\")","v":"-"},{"$f":"IFERROR(IF(AB34<=2,OFFSET(B_ML_N!$B$3,AE34,AB34+2),\"-\"),\"-\")","v":"-"},{"$f":"IFERROR(IF(AB34>2,OFFSET(B_ML_N!$B$3,AE34,AB34+2),\"-\"),\"-\")","v":"-"},"-",null,null,null,null,null,null,null,null,{"$f":"IF(MATCH(E34,B_ML_N!$L$18:$L$23,0)<5,MATCH(E34,B_ML_N!$L$18:$L$23,0),1)","v":{"$error":"#N/A"}},{"$f":"IFERROR(MATCH(D34,Nr_stad!$U$8:$U$60,0),0)","v":0},0,{"$f":"IF(D34=\"\",\"-\",MATCH(D34,B_ML_N!$B$4:$B$16,0))","v":"-"},{"$f":"IFERROR(OFFSET(B_ML_N!$L$3,AE34,4),1)","v":1},false]
[null,null,null,null,null,null,null,null,null,null,null,null,null,null,0,{"$f":"IFERROR(IF(AB35<=2,OFFSET(B_ML_N!$B$3,AE35,AB35),\"-\"),\"-\")","v":"-"},{"$f":"IFERROR(IF(AB35<=2,OFFSET(B_ML_N!$B$3,AE35,AB35+2),\"-\"),\"-\")","v":"-"},{"$f":"IFERROR(IF(AB35>2,OFFSET(B_ML_N!$B$3,AE35,AB35+2),\"-\"),\"-\")","v":"-"},"-",null,null,null,null,null,null,null,null,{"$f":"IF(MATCH(E35,B_ML_N!$L$18:$L$23,0)<5,MATCH(E35,B_ML_N!$L$18:$L$23,0),1)","v":{"$error":"#N/A"}},{"$f":"IFERROR(MATCH(D35,Nr_stad!$U$8:$U$60,0),0)","v":0},0,{"$f":"IF(D35=\"\",\"-\",MATCH(D35,B_ML_N!$B$4:$B$16,0))","v":"-"},{"$f":"IFERROR(OFFSET(B_ML_N!$L$3,AE35,4),1)","v":1},false]
[null,null,null,null,null,null,null,null,null,null,null,null,null,null,0,{"$f":"IFERROR(IF(AB36<=2,OFFSET(B_ML_N!$B$3,AE36,AB36),\"-\"),\"-\")","v":"-"},{"$f":"IFERROR(IF(AB36<=2,OFFSET(B_ML_N!$B$3,AE36,AB36+2),\"-\"),\"-\")","v":"-"},{"$f":"IFERROR(IF(AB36>2,OFFSET(B_ML_N!$B$3,AE36,AB36+2),\"-\"),\"-\")","v":"-"},"-",null,null,null,null,null,null,null,null,{"$f":"IF(MATCH(E36,B_ML_N!$L$18:$L$23,0)<5,MATCH(E36,B_ML_N!$L$18:$L$23,0),1)","v":{"$error":"#N/A"}},{"$f":"IFERROR(MATCH(D36,Nr_stad!$U$8:$U$60,0),0)","v":0},0,{"$f":"IF(D36=\"\",\"-\",MATCH(D36,B_ML_N!$B$4:$B$16,0))","v":"-"},{"$f":"IFERROR(OFFSET(B_ML_N!$L$3,AE36,4),1)","v":1},false]
[null,null,null,null,null,null,null,null,null,null,null,null,null,null,0,{"$f":"IFERROR(IF(AB37<=2,OFFSET(B_ML_N!$B$3,AE37,AB37),\"-\"),\"-\")","v":"-"},{"$f":"IFERROR(IF(AB37<=2,OFFSET(B_ML_N!$B$3,AE37,AB37+2),\"-\"),\"-\")","v":"-"},{"$f":"IFERROR(IF(AB37>2,OFFSET(B_ML_N!$B$3,AE37,AB37+2),\"-\"),\"-\")","v":"-"},"-",null,null,null,null,null,null,null,null,{"$f":"IF(MATCH(E37,B_ML_N!$L$18:$L$23,0)<5,MATCH(E37,B_ML_N!$L$18:$L$23,0),1)","v":{"$error":"#N/A"}},{"$f":"IFERROR(MATCH(D37,Nr_stad!$U$8:$U$60,0),0)","v":0},0,{"$f":"IF(D37=\"\",\"-\",MATCH(D37,B_ML_N!$B$4:$B$16,0))","v":"-"},{"$f":"IFERROR(OFFSET(B_ML_N!$L$3,AE37,4),1)","v":1},false]
[null,null,null,null,null,null,null,null,null,null,null,null,null,null,0,{"$f":"IFERROR(IF(AB38<=2,OFFSET(B_ML_N!$B$3,AE38,AB38),\"-\"),\"-\")","v":"-"},{"$f":"IFERROR(IF(AB38<=2,OFFSET(B_ML_N!$B$3,AE38,AB38+2),\"-\"),\"-\")","v":"-"},{"$f":"IFERROR(IF(AB38>2,OFFSET(B_ML_N!$B$3,AE38,AB38+2),\"-\"),\"-\")","v":"-"},"-",null,null,null,null,null,null,null,null,{"$f":"IF(MATCH(E38,B_ML_N!$L$18:$L$23,0)<5,MATCH(E38,B_ML_N!$L$18:$L$23,0),1)","v":{"$error":"#N/A"}},{"$f":"IFERROR(MATCH(D38,Nr_stad!$U$8:$U$60,0),0)","v":0},0,{"$f":"IF(D38=\"\",\"-\",MATCH(D38,B_ML_N!$B$4:$B$16,0))","v":"-"},{"$f":"IFERROR(OFFSET(B_ML_N!$L$3,AE38,4),1)","v":1},false]
[null,null,null,null,null,null,null,null,null,null,null,null,null,null,0,{"$f":"IFERROR(IF(AB39<=2,OFFSET(B_ML_N!$B$3,AE39,AB39),\"-\"),\"-\")","v":"-"},{"$f":"IFERROR(IF(AB39<=2,OFFSET(B_ML_N!$B$3,AE39,AB39+2),\"-\"),\"-\")","v":"-"},{"$f":"IFERROR(IF(AB39>2,OFFSET(B_ML_N!$B$3,AE39,AB39+2),\"-\"),\"-\")","v":"-"},"-",null,null,null,null,null,null,null,null,{"$f":"IF(MATCH(E39,B_ML_N!$L$18:$L$23,0)<5,MATCH(E39,B_ML_N!$L$18:$L$23,0),1)","v":{"$error":"#N/A"}},{"$f":"IFERROR(MATCH(D39,Nr_stad!$U$8:$U$60,0),0)","v":0},0,{"$f":"IF(D39=\"\",\"-\",MATCH(D39,B_ML_N!$B$4:$B$16,0))","v":"-"},{"$f":"IFERROR(OFFSET(B_ML_N!$L$3,AE39,4),1)","v":1},false]
[null,null,null,null,null,null,null,null,null,null,null,null,null,null,0,{"$f":"IFERROR(IF(AB40<=2,OFFSET(B_ML_N!$B$3,AE40,AB40),\"-\"),\"-\")","v":"-"},{"$f":"IFERROR(IF(AB40<=2,OFFSET(B_ML_N!$B$3,AE40,AB40+2),\"-\"),\"-\")","v":"-"},{"$f":"IFERROR(IF(AB40>2,OFFSET(B_ML_N!$B$3,AE40,AB40+2),\"-\"),\"-\")","v":"-"},"-",null,null,null,null,null,null,null,null,{"$f":"IF(MATCH(E40,B_ML_N!$L$18:$L$23,0)<5,MATCH(E40,B_ML_N!$L$18:$L$23,0),1)","v":{"$error":"#N/A"}},{"$f":"IFERROR(MATCH(D40,Nr_stad!$U$8:$U$60,0),0)","v":0},0,{"$f":"IF(D40=\"\",\"-\",MATCH(D40,B_ML_N!$B$4:$B$16,0))","v":"-"},{"$f":"IFERROR(OFFSET(B_ML_N!$L$3,AE40,4),1)","v":1},false]
[null,null,null,null,null,null,null,null,null,null,null,null,null,null,0,{"$f":"IFERROR(IF(AB41<=2,OFFSET(B_ML_N!$B$3,AE41,AB41),\"-\"),\"-\")","v":"-"},{"$f":"IFERROR(IF(AB41<=2,OFFSET(B_ML_N!$B$3,AE41,AB41+2),\"-\"),\"-\")","v":"-"},{"$f":"IFERROR(IF(AB41>2,OFFSET(B_ML_N!$B$3,AE41,AB41+2),\"-\"),\"-\")","v":"-"},"-",null,null,null,null,null,null,null,null,{"$f":"IF(MATCH(E41,B_ML_N!$L$18:$L$23,0)<5,MATCH(E41,B_ML_N!$L$18:$L$23,0),1)","v":{"$error":"#N/A"}},{"$f":"IFERROR(MATCH(D41,Nr_stad!$U$8:$U$60,0),0)","v":0},0,{"$f":"IF(D41=\"\",\"-\",MATCH(D41,B_ML_N!$B$4:$B$16,0))","v":"-"},{"$f":"IFERROR(OFFSET(B_ML_N!$L$3,AE41,4),1)","v":1},false]
[null,null,null,null,null,null,null,null,null,null,null,null,null,null,0,{"$f":"IFERROR(IF(AB42<=2,OFFSET(B_ML_N!$B$3,AE42,AB42),\"-\"),\"-\")","v":"-"},{"$f":"IFERROR(IF(AB42<=2,OFFSET(B_ML_N!$B$3,AE42,AB42+2),\"-\"),\"-\")","v":"-"},{"$f":"IFERROR(IF(AB42>2,OFFSET(B_ML_N!$B$3,AE42,AB42+2),\"-\"),\"-\")","v":"-"},"-",null,null,null,null,null,null,null,null,{"$f":"IF(MATCH(E42,B_ML_N!$L$18:$L$23,0)<5,MATCH(E42,B_ML_N!$L$18:$L$23,0),1)","v":{"$error":"#N/A"}},{"$f":"IFERROR(MATCH(D42,Nr_stad!$U$8:$U$60,0),0)","v":0},0,{"$f":"IF(D42=\"\",\"-\",MATCH(D42,B_ML_N!$B$4:$B$16,0))","v":"-"},{"$f":"IFERROR(OFFSET(B_ML_N!$L$3,AE42,4),1)","v":1},false]
[null,null,null,null,null,null,null,null,null,null,null,null,null,null,0,{"$f":"IFERROR(IF(AB43<=2,OFFSET(B_ML_N!$B$3,AE43,AB43),\"-\"),\"-\")","v":"-"},{"$f":"IFERROR(IF(AB43<=2,OFFSET(B_ML_N!$B$3,AE43,AB43+2),\"-\"),\"-\")","v":"-"},{"$f":"IFERROR(IF(AB43>2,OFFSET(B_ML_N!$B$3,AE43,AB43+2),\"-\"),\"-\")","v":"-"},"-",null,null,null,null,null,null,null,null,{"$f":"IF(MATCH(E43,B_ML_N!$L$18:$L$23,0)<5,MATCH(E43,B_ML_N!$L$18:$L$23,0),1)","v":{"$error":"#N/A"}},{"$f":"IFERROR(MATCH(D43,Nr_stad!$U$8:$U$60,0),0)","v":0},0,{"$f":"IF(D43=\"\",\"-\",MATCH(D43,B_ML_N!$B$4:$B$16,0))","v":"-"},{"$f":"IFERROR(OFFSET(B_ML_N!$L$3,AE43,4),1)","v":1},false]
[null,null,null,null,null,null,null,null,null,null,null,null,null,null,0,{"$f":"IFERROR(IF(AB44<=2,OFFSET(B_ML_N!$B$3,AE44,AB44),\"-\"),\"-\")","v":"-"},{"$f":"IFERROR(IF(AB44<=2,OFFSET(B_ML_N!$B$3,AE44,AB44+2),\"-\"),\"-\")","v":"-"},{"$f":"IFERROR(IF(AB44>2,OFFSET(B_ML_N!$B$3,AE44,AB44+2),\"-\"),\"-\")","v":"-"},"-",null,null,null,null,null,null,null,null,{"$f":"IF(MATCH(E44,B_ML_N!$L$18:$L$23,0)<5,MATCH(E44,B_ML_N!$L$18:$L$23,0),1)","v":{"$error":"#N/A"}},{"$f":"IFERROR(MATCH(D44,Nr_stad!$U$8:$U$60,0),0)","v":0},0,{"$f":"IF(D44=\"\",\"-\",MATCH(D44,B_ML_N!$B$4:$B$16,0))","v":"-"},{"$f":"IFERROR(OFFSET(B_ML_N!$L$3,AE44,4),1)","v":1},false]
[null,null,null,null,null,null,null,null,null,null,null,null,null,null,0,{"$f":"IFERROR(IF(AB45<=2,OFFSET(B_ML_N!$B$3,AE45,AB45),\"-\"),\"-\")","v":"-"},{"$f":"IFERROR(IF(AB45<=2,OFFSET(B_ML_N!$B$3,AE45,AB45+2),\"-\"),\"-\")","v":"-"},{"$f":"IFERROR(IF(AB45>2,OFFSET(B_ML_N!$B$3,AE45,AB45+2),\"-\"),\"-\")","v":"-"},"-",null,null,null,null,null,null,null,null,{"$f":"IF(MATCH(E45,B_ML_N!$L$18:$L$23,0)<5,MATCH(E45,B_ML_N!$L$18:$L$23,0),1)","v":{"$error":"#N/A"}},{"$f":"IFERROR(MATCH(D45,Nr_stad!$U$8:$U$60,0),0)","v":0},0,{"$f":"IF(D45=\"\",\"-\",MATCH(D45,B_ML_N!$B$4:$B$16,0))","v":"-"},{"$f":"IFERROR(OFFSET(B_ML_N!$L$3,AE45,4),1)","v":1},false]
[null,null,null,null,null,null,null,null,null,null,null,null,null,null,0,{"$f":"IFERROR(IF(AB46<=2,OFFSET(B_ML_N!$B$3,AE46,AB46),\"-\"),\"-\")","v":"-"},{"$f":"IFERROR(IF(AB46<=2,OFFSET(B_ML_N!$B$3,AE46,AB46+2),\"-\"),\"-\")","v":"-"},{"$f":"IFERROR(IF(AB46>2,OFFSET(B_ML_N!$B$3,AE46,AB46+2),\"-\"),\"-\")","v":"-"},"-",null,null,null,null,null,null,null,null,{"$f":"IF(MATCH(E46,B_ML_N!$L$18:$L$23,0)<5,MATCH(E46,B_ML_N!$L$18:$L$23,0),1)","v":{"$error":"#N/A"}},{"$f":"IFERROR(MATCH(D46,Nr_stad!$U$8:$U$60,0),0)","v":0},0,{"$f":"IF(D46=\"\",\"-\",MATCH(D46,B_ML_N!$B$4:$B$16,0))","v":"-"},{"$f":"IFERROR(OFFSET(B_ML_N!$L$3,AE46,4),1)","v":1},false]
[null,null,null,null,null,null,null,null,null,null,null,null,null,null,0,{"$f":"IFERROR(IF(AB47<=2,OFFSET(B_ML_N!$B$3,AE47,AB47),\"-\"),\"-\")","v":"-"},{"$f":"IFERROR(IF(AB47<=2,OFFSET(B_ML_N!$B$3,AE47,AB47+2),\"-\"),\"-\")","v":"-"},{"$f":"IFERROR(IF(AB47>2,OFFSET(B_ML_N!$B$3,AE47,AB47+2),\"-\"),\"-\")","v":"-"},"-",null,null,null,null,null,null,null,null,{"$f":"IF(MATCH(E47,B_ML_N!$L$18:$L$23,0)<5,MATCH(E47,B_ML_N!$L$18:$L$23,0),1)","v":{"$error":"#N/A"}},{"$f":"IFERROR(MATCH(D47,Nr_stad!$U$8:$U$60,0),0)","v":0},0,{"$f":"IF(D47=\"\",\"-\",MATCH(D47,B_ML_N!$B$4:$B$16,0))","v":"-"},{"$f":"IFERROR(OFFSET(B_ML_N!$L$3,AE47,4),1)","v":1},false]
[null,null,null,null,null,null,null,null,null,null,null,null,null,null,0,{"$f":"IFERROR(IF(AB48<=2,OFFSET(B_ML_N!$B$3,AE48,AB48),\"-\"),\"-\")","v":"-"},{"$f":"IFERROR(IF(AB48<=2,OFFSET(B_ML_N!$B$3,AE48,AB48+2),\"-\"),\"-\")","v":"-"},{"$f":"IFERROR(IF(AB48>2,OFFSET(B_ML_N!$B$3,AE48,AB48+2),\"-\"),\"-\")","v":"-"},"-",null,null,null,null,null,null,null,null,{"$f":"IF(MATCH(E48,B_ML_N!$L$18:$L$23,0)<5,MATCH(E48,B_ML_N!$L$18:$L$23,0),1)","v":{"$error":"#N/A"}},{"$f":"IFERROR(MATCH(D48,Nr_stad!$U$8:$U$60,0),0)","v":0},0,{"$f":"IF(D48=\"\",\"-\",MATCH(D48,B_ML_N!$B$4:$B$16,0))","v":"-"},{"$f":"IFERROR(OFFSET(B_ML_N!$L$3,AE48,4),1)","v":1},false]
[null,null,null,null,null,null,null,null,null,null,null,null,null,null,0,{"$f":"IFERROR(IF(AB49<=2,OFFSET(B_ML_N!$B$3,AE49,AB49),\"-\"),\"-\")","v":"-"},{"$f":"IFERROR(IF(AB49<=2,OFFSET(B_ML_N!$B$3,AE49,AB49+2),\"-\"),\"-\")","v":"-"},{"$f":"IFERROR(IF(AB49>2,OFFSET(B_ML_N!$B$3,AE49,AB49+2),\"-\"),\"-\")","v":"-"},"-",null,null,null,null,null,null,null,null,{"$f":"IF(MATCH(E49,B_ML_N!$L$18:$L$23,0)<5,MATCH(E49,B_ML_N!$L$18:$L$23,0),1)","v":{"$error":"#N/A"}},{"$f":"IFERROR(MATCH(D49,Nr_stad!$U$8:$U$60,0),0)","v":0},0,{"$f":"IF(D49=\"\",\"-\",MATCH(D49,B_ML_N!$B$4:$B$16,0))","v":"-"},{"$f":"IFERROR(OFFSET(B_ML_N!$L$3,AE49,4),1)","v":1},false]
[null,null,null,null,null,null,null,null,null,null,null,null,null,null,0,{"$f":"IFERROR(IF(AB50<=2,OFFSET(B_ML_N!$B$3,AE50,AB50),\"-\"),\"-\")","v":"-"},{"$f":"IFERROR(IF(AB50<=2,OFFSET(B_ML_N!$B$3,AE50,AB50+2),\"-\"),\"-\")","v":"-"},{"$f":"IFERROR(IF(AB50>2,OFFSET(B_ML_N!$B$3,AE50,AB50+2),\"-\"),\"-\")","v":"-"},"-",null,null,null,null,null,null,null,null,{"$f":"IF(MATCH(E50,B_ML_N!$L$18:$L$23,0)<5,MATCH(E50,B_ML_N!$L$18:$L$23,0),1)","v":{"$error":"#N/A"}},{"$f":"IFERROR(MATCH(D50,Nr_stad!$U$8:$U$60,0),0)","v":0},0,{"$f":"IF(D50=\"\",\"-\",MATCH(D50,B_ML_N!$B$4:$B$16,0))","v":"-"},{"$f":"IFERROR(OFFSET(B_ML_N!$L$3,AE50,4),1)","v":1},false]
[null,null,null,null,null,null,null,null,null,null,null,null,null,null,0,{"$f":"IFERROR(IF(AB51<=2,OFFSET(B_ML_N!$B$3,AE51,AB51),\"-\"),\"-\")","v":"-"},{"$f":"IFERROR(IF(AB51<=2,OFFSET(B_ML_N!$B$3,AE51,AB51+2),\"-\"),\"-\")","v":"-"},{"$f":"IFERROR(IF(AB51>2,OFFSET(B_ML_N!$B$3,AE51,AB51+2),\"-\"),\"-\")","v":"-"},"-",null,null,null,null,null,null,null,null,{"$f":"IF(MATCH(E51,B_ML_N!$L$18:$L$23,0)<5,MATCH(E51,B_ML_N!$L$18:$L$23,0),1)","v":{"$error":"#N/A"}},{"$f":"IFERROR(MATCH(D51,Nr_stad!$U$8:$U$60,0),0)","v":0},0,{"$f":"IF(D51=\"\",\"-\",MATCH(D51,B_ML_N!$B$4:$B$16,0))","v":"-"},{"$f":"IFERROR(OFFSET(B_ML_N!$L$3,AE51,4),1)","v":1},false]
[null,null,null,null,null,null,null,null,null,null,null,null,null,null,0,{"$f":"IFERROR(IF(AB52<=2,OFFSET(B_ML_N!$B$3,AE52,AB52),\"-\"),\"-\")","v":"-"},{"$f":"IFERROR(IF(AB52<=2,OFFSET(B_ML_N!$B$3,AE52,AB52+2),\"-\"),\"-\")","v":"-"},{"$f":"IFERROR(IF(AB52>2,OFFSET(B_ML_N!$B$3,AE52,AB52+2),\"-\"),\"-\")","v":"-"},"-",null,null,null,null,null,null,null,null,{"$f":"IF(MATCH(E52,B_ML_N!$L$18:$L$23,0)<5,MATCH(E52,B_ML_N!$L$18:$L$23,0),1)","v":{"$error":"#N/A"}},{"$f":"IFERROR(MATCH(D52,Nr_stad!$U$8:$U$60,0),0)","v":0},0,{"$f":"IF(D52=\"\",\"-\",MATCH(D52,B_ML_N!$B$4:$B$16,0))","v":"-"},{"$f":"IFERROR(OFFSET(B_ML_N!$L$3,AE52,4),1)","v":1},false]
[null,null,null,null,null,null,null,null,null,null,null,null,null,null,0,{"$f":"IFERROR(IF(AB53<=2,OFFSET(B_ML_N!$B$3,AE53,AB53),\"-\"),\"-\")","v":"-"},{"$f":"IFERROR(IF(AB53<=2,OFFSET(B_ML_N!$B$3,AE53,AB53+2),\"-\"),\"-\")","v":"-"},{"$f":"IFERROR(IF(AB53>2,OFFSET(B_ML_N!$B$3,AE53,AB53+2),\"-\"),\"-\")","v":"-"},"-",null,null,null,null,null,null,null,null,{"$f":"IF(MATCH(E53,B_ML_N!$L$18:$L$23,0)<5,MATCH(E53,B_ML_N!$L$18:$L$23,0),1)","v":{"$error":"#N/A"}},{"$f":"IFERROR(MATCH(D53,Nr_stad!$U$8:$U$60,0),0)","v":0},0,{"$f":"IF(D53=\"\",\"-\",MATCH(D53,B_ML_N!$B$4:$B$16,0))","v":"-"},{"$f":"IFERROR(OFFSET(B_ML_N!$L$3,AE53,4),1)","v":1},false]
[null,null,null,null,null,null,null,null,null,null,null,null,null,null,0,{"$f":"IFERROR(IF(AB54<=2,OFFSET(B_ML_N!$B$3,AE54,AB54),\"-\"),\"-\")","v":"-"},{"$f":"IFERROR(IF(AB54<=2,OFFSET(B_ML_N!$B$3,AE54,AB54+2),\"-\"),\"-\")","v":"-"},{"$f":"IFERROR(IF(AB54>2,OFFSET(B_ML_N!$B$3,AE54,AB54+2),\"-\"),\"-\")","v":"-"},"-",null,null,null,null,null,null,null,null,{"$f":"IF(MATCH(E54,B_ML_N!$L$18:$L$23,0)<5,MATCH(E54,B_ML_N!$L$18:$L$23,0),1)","v":{"$error":"#N/A"}},{"$f":"IFERROR(MATCH(D54,Nr_stad!$U$8:$U$60,0),0)","v":0},0,{"$f":"IF(D54=\"\",\"-\",MATCH(D54,B_ML_N!$B$4:$B$16,0))","v":"-"},{"$f":"IFERROR(OFFSET(B_ML_N!$L$3,AE54,4),1)","v":1},false]
[null,null,null,null,null,null,null,null,null,null,null,null,null,null,0,{"$f":"IFERROR(IF(AB55<=2,OFFSET(B_ML_N!$B$3,AE55,AB55),\"-\"),\"-\")","v":"-"},{"$f":"IFERROR(IF(AB55<=2,OFFSET(B_ML_N!$B$3,AE55,AB55+2),\"-\"),\"-\")","v":"-"},{"$f":"IFERROR(IF(AB55>2,OFFSET(B_ML_N!$B$3,AE55,AB55+2),\"-\"),\"-\")","v":"-"},"-",null,null,null,null,null,null,null,null,{"$f":"IF(MATCH(E55,B_ML_N!$L$18:$L$23,0)<5,MATCH(E55,B_ML_N!$L$18:$L$23,0),1)","v":{"$error":"#N/A"}},{"$f":"IFERROR(MATCH(D55,Nr_stad!$U$8:$U$60,0),0)","v":0},0,{"$f":"IF(D55=\"\",\"-\",MATCH(D55,B_ML_N!$B$4:$B$16,0))","v":"-"},{"$f":"IFERROR(OFFSET(B_ML_N!$L$3,AE55,4),1)","v":1},false]
[null,null,null,null,null,null,null,null,null,null,null,null,null,null,0,{"$f":"IFERROR(IF(AB56<=2,OFFSET(B_ML_N!$B$3,AE56,AB56),\"-\"),\"-\")","v":"-"},{"$f":"IFERROR(IF(AB56<=2,OFFSET(B_ML_N!$B$3,AE56,AB56+2),\"-\"),\"-\")","v":"-"},{"$f":"IFERROR(IF(AB56>2,OFFSET(B_ML_N!$B$3,AE56,AB56+2),\"-\"),\"-\")","v":"-"},"-",null,null,null,null,null,null,null,null,{"$f":"IF(MATCH(E56,B_ML_N!$L$18:$L$23,0)<5,MATCH(E56,B_ML_N!$L$18:$L$23,0),1)","v":{"$error":"#N/A"}},{"$f":"IFERROR(MATCH(D56,Nr_stad!$U$8:$U$60,0),0)","v":0},0,{"$f":"IF(D56=\"\",\"-\",MATCH(D56,B_ML_N!$B$4:$B$16,0))","v":"-"},{"$f":"IFERROR(OFFSET(B_ML_N!$L$3,AE56,4),1)","v":1},false]
[null,null,null,null,null,null,null,null,null,null,null,null,null,null,0,{"$f":"IFERROR(IF(AB57<=2,OFFSET(B_ML_N!$B$3,AE57,AB57),\"-\"),\"-\")","v":"-"},{"$f":"IFERROR(IF(AB57<=2,OFFSET(B_ML_N!$B$3,AE57,AB57+2),\"-\"),\"-\")","v":"-"},{"$f":"IFERROR(IF(AB57>2,OFFSET(B_ML_N!$B$3,AE57,AB57+2),\"-\"),\"-\")","v":"-"},"-",null,null,null,null,null,null,null,null,{"$f":"IF(MATCH(E57,B_ML_N!$L$18:$L$23,0)<5,MATCH(E57,B_ML_N!$L$18:$L$23,0),1)","v":{"$error":"#N/A"}},{"$f":"IFERROR(MATCH(D57,Nr_stad!$U$8:$U$60,0),0)","v":0},0,{"$f":"IF(D57=\"\",\"-\",MATCH(D57,B_ML_N!$B$4:$B$16,0))","v":"-"},{"$f":"IFERROR(OFFSET(B_ML_N!$L$3,AE57,4),1)","v":1},false]
[null,null,null,null,null,null,null,null,null,null,null,null,null,null,0,{"$f":"IFERROR(IF(AB58<=2,OFFSET(B_ML_N!$B$3,AE58,AB58),\"-\"),\"-\")","v":"-"},{"$f":"IFERROR(IF(AB58<=2,OFFSET(B_ML_N!$B$3,AE58,AB58+2),\"-\"),\"-\")","v":"-"},{"$f":"IFERROR(IF(AB58>2,OFFSET(B_ML_N!$B$3,AE58,AB58+2),\"-\"),\"-\")","v":"-"},"-",null,null,null,null,null,null,null,null,{"$f":"IF(MATCH(E58,B_ML_N!$L$18:$L$23,0)<5,MATCH(E58,B_ML_N!$L$18:$L$23,0),1)","v":{"$error":"#N/A"}},{"$f":"IFERROR(MATCH(D58,Nr_stad!$U$8:$U$60,0),0)","v":0},0,{"$f":"IF(D58=\"\",\"-\",MATCH(D58,B_ML_N!$B$4:$B$16,0))","v":"-"},{"$f":"IFERROR(OFFSET(B_ML_N!$L$3,AE58,4),1)","v":1},false]
[null,null,null,null,null,null,null,null,null,null,null,null,null,null,0,{"$f":"IFERROR(IF(AB59<=2,OFFSET(B_ML_N!$B$3,AE59,AB59),\"-\"),\"-\")","v":"-"},{"$f":"IFERROR(IF(AB59<=2,OFFSET(B_ML_N!$B$3,AE59,AB59+2),\"-\"),\"-\")","v":"-"},{"$f":"IFERROR(IF(AB59>2,OFFSET(B_ML_N!$B$3,AE59,AB59+2),\"-\"),\"-\")","v":"-"},"-",null,null,null,null,null,null,null,null,{"$f":"IF(MATCH(E59,B_ML_N!$L$18:$L$23,0)<5,MATCH(E59,B_ML_N!$L$18:$L$23,0),1)","v":{"$error":"#N/A"}},{"$f":"IFERROR(MATCH(D59,Nr_stad!$U$8:$U$60,0),0)","v":0},0,{"$f":"IF(D59=\"\",\"-\",MATCH(D59,B_ML_N!$B$4:$B$16,0))","v":"-"},{"$f":"IFERROR(OFFSET(B_ML_N!$L$3,AE59,4),1)","v":1},false]
[null,null,null,null,null,null,null,null,null,null,null,null,null,null,0,{"$f":"IFERROR(IF(AB60<=2,OFFSET(B_ML_N!$B$3,AE60,AB60),\"-\"),\"-\")","v":"-"},{"$f":"IFERROR(IF(AB60<=2,OFFSET(B_ML_N!$B$3,AE60,AB60+2),\"-\"),\"-\")","v":"-"},{"$f":"IFERROR(IF(AB60>2,OFFSET(B_ML_N!$B$3,AE60,AB60+2),\"-\"),\"-\")","v":"-"},"-",null,null,null,null,null,null,null,null,{"$f":"IF(MATCH(E60,B_ML_N!$L$18:$L$23,0)<5,MATCH(E60,B_ML_N!$L$18:$L$23,0),1)","v":{"$error":"#N/A"}},{"$f":"IFERROR(MATCH(D60,Nr_stad!$U$8:$U$60,0),0)","v":0},0,{"$f":"IF(D60=\"\",\"-\",MATCH(D60,B_ML_N!$B$4:$B$16,0))","v":"-"},{"$f":"IFERROR(OFFSET(B_ML_N!$L$3,AE60,4),1)","v":1},false]
[null,null,null,null,null,null,null,null,null,null,null,null,null,null,0,{"$f":"IFERROR(IF(AB61<=2,OFFSET(B_ML_N!$B$3,AE61,AB61),\"-\"),\"-\")","v":"-"},{"$f":"IFERROR(IF(AB61<=2,OFFSET(B_ML_N!$B$3,AE61,AB61+2),\"-\"),\"-\")","v":"-"},{"$f":"IFERROR(IF(AB61>2,OFFSET(B_ML_N!$B$3,AE61,AB61+2),\"-\"),\"-\")","v":"-"},"-",null,null,null,null,null,null,null,null,{"$f":"IF(MATCH(E61,B_ML_N!$L$18:$L$23,0)<5,MATCH(E61,B_ML_N!$L$18:$L$23,0),1)","v":{"$error":"#N/A"}},{"$f":"IFERROR(MATCH(D61,Nr_stad!$U$8:$U$60,0),0)","v":0},0,{"$f":"IF(D61=\"\",\"-\",MATCH(D61,B_ML_N!$B$4:$B$16,0))","v":"-"},{"$f":"IFERROR(OFFSET(B_ML_N!$L$3,AE61,4),1)","v":1},false]
[null,null,null,null,null,null,null,null,null,null,null,null,null,null,0,{"$f":"IFERROR(IF(AB62<=2,OFFSET(B_ML_N!$B$3,AE62,AB62),\"-\"),\"-\")","v":"-"},{"$f":"IFERROR(IF(AB62<=2,OFFSET(B_ML_N!$B$3,AE62,AB62+2),\"-\"),\"-\")","v":"-"},{"$f":"IFERROR(IF(AB62>2,OFFSET(B_ML_N!$B$3,AE62,AB62+2),\"-\"),\"-\")","v":"-"},"-",null,null,null,null,null,null,null,null,{"$f":"IF(MATCH(E62,B_ML_N!$L$18:$L$23,0)<5,MATCH(E62,B_ML_N!$L$18:$L$23,0),1)","v":{"$error":"#N/A"}},{"$f":"IFERROR(MATCH(D62,Nr_stad!$U$8:$U$60,0),0)","v":0},0,{"$f":"IF(D62=\"\",\"-\",MATCH(D62,B_ML_N!$B$4:$B$16,0))","v":"-"},{"$f":"IFERROR(OFFSET(B_ML_N!$L$3,AE62,4),1)","v":1},false]
[null,null,null,null,null,null,null,null,null,null,null,null,null,null,0,{"$f":"IFERROR(IF(AB63<=2,OFFSET(B_ML_N!$B$3,AE63,AB63),\"-\"),\"-\")","v":"-"},{"$f":"IFERROR(IF(AB63<=2,OFFSET(B_ML_N!$B$3,AE63,AB63+2),\"-\"),\"-\")","v":"-"},{"$f":"IFERROR(IF(AB63>2,OFFSET(B_ML_N!$B$3,AE63,AB63+2),\"-\"),\"-\")","v":"-"},"-",null,null,null,null,null,null,null,null,{"$f":"IF(MATCH(E63,B_ML_N!$L$18:$L$23,0)<5,MATCH(E63,B_ML_N!$L$18:$L$23,0),1)","v":{"$error":"#N/A"}},{"$f":"IFERROR(MATCH(D63,Nr_stad!$U$8:$U$60,0),0)","v":0},0,{"$f":"IF(D63=\"\",\"-\",MATCH(D63,B_ML_N!$B$4:$B$16,0))","v":"-"},{"$f":"IFERROR(OFFSET(B_ML_N!$L$3,AE63,4),1)","v":1},false]
[null,null,null,null,null,null,null,null,null,null,null,null,null,null,0,{"$f":"IFERROR(IF(AB64<=2,OFFSET(B_ML_N!$B$3,AE64,AB64),\"-\"),\"-\")","v":"-"},{"$f":"IFERROR(IF(AB64<=2,OFFSET(B_ML_N!$B$3,AE64,AB64+2),\"-\"),\"-\")","v":"-"},{"$f":"IFERROR(IF(AB64>2,OFFSET(B_ML_N!$B$3,AE64,AB64+2),\"-\"),\"-\")","v":"-"},"-",null,null,null,null,null,null,null,null,{"$f":"IF(MATCH(E64,B_ML_N!$L$18:$L$23,0)<5,MATCH(E64,B_ML_N!$L$18:$L$23,0),1)","v":{"$error":"#N/A"}},{"$f":"IFERROR(MATCH(D64,Nr_stad!$U$8:$U$60,0),0)","v":0},0,{"$f":"IF(D64=\"\",\"-\",MATCH(D64,B_ML_N!$B$4:$B$16,0))","v":"-"},{"$f":"IFERROR(OFFSET(B_ML_N!$L$3,AE64,4),1)","v":1},false]
[null,null,null,null,null,null,null,null,null,null,null,null,null,null,0,{"$f":"IFERROR(IF(AB65<=2,OFFSET(B_ML_N!$B$3,AE65,AB65),\"-\"),\"-\")","v":"-"},{"$f":"IFERROR(IF(AB65<=2,OFFSET(B_ML_N!$B$3,AE65,AB65+2),\"-\"),\"-\")","v":"-"},{"$f":"IFERROR(IF(AB65>2,OFFSET(B_ML_N!$B$3,AE65,AB65+2),\"-\"),\"-\")","v":"-"},"-",null,null,null,null,null,null,null,null,{"$f":"IF(MATCH(E65,B_ML_N!$L$18:$L$23,0)<5,MATCH(E65,B_ML_N!$L$18:$L$23,0),1)","v":{"$error":"#N/A"}},{"$f":"IFERROR(MATCH(D65,Nr_stad!$U$8:$U$60,0),0)","v":0},0,{"$f":"IF(D65=\"\",\"-\",MATCH(D65,B_ML_N!$B$4:$B$16,0))","v":"-"},{"$f":"IFERROR(OFFSET(B_ML_N!$L$3,AE65,4),1)","v":1},false]
[null,null,null,null,null,null,null,null,null,null,null,null,null,null,0,{"$f":"IFERROR(IF(AB66<=2,OFFSET(B_ML_N!$B$3,AE66,AB66),\"-\"),\"-\")","v":"-"},{"$f":"IFERROR(IF(AB66<=2,OFFSET(B_ML_N!$B$3,AE66,AB66+2),\"-\"),\"-\")","v":"-"},{"$f":"IFERROR(IF(AB66>2,OFFSET(B_ML_N!$B$3,AE66,AB66+2),\"-\"),\"-\")","v":"-"},"-",null,null,null,null,null,null,null,null,{"$f":"IF(MATCH(E66,B_ML_N!$L$18:$L$23,0)<5,MATCH(E66,B_ML_N!$L$18:$L$23,0),1)","v":{"$error":"#N/A"}},{"$f":"IFERROR(MATCH(D66,Nr_stad!$U$8:$U$60,0),0)","v":0},0,{"$f":"IF(D66=\"\",\"-\",MATCH(D66,B_ML_N!$B$4:$B$16,0))","v":"-"},{"$f":"IFERROR(OFFSET(B_ML_N!$L$3,AE66,4),1)","v":1},false]
[null,null,null,null,null,null,null,null,null,null,null,null,null,null,0,{"$f":"IFERROR(IF(AB67<=2,OFFSET(B_ML_N!$B$3,AE67,AB67),\"-\"),\"-\")","v":"-"},{"$f":"IFERROR(IF(AB67<=2,OFFSET(B_ML_N!$B$3,AE67,AB67+2),\"-\"),\"-\")","v":"-"},{"$f":"IFERROR(IF(AB67>2,OFFSET(B_ML_N!$B$3,AE67,AB67+2),\"-\"),\"-\")","v":"-"},"-",null,null,null,null,null,null,null,null,{"$f":"IF(MATCH(E67,B_ML_N!$L$18:$L$23,0)<5,MATCH(E67,B_ML_N!$L$18:$L$23,0),1)","v":{"$error":"#N/A"}},{"$f":"IFERROR(MATCH(D67,Nr_stad!$U$8:$U$60,0),0)","v":0},0,{"$f":"IF(D67=\"\",\"-\",MATCH(D67,B_ML_N!$B$4:$B$16,0))","v":"-"},{"$f":"IFERROR(OFFSET(B_ML_N!$L$3,AE67,4),1)","v":1},false]
[null,null,null,null,null,null,null,null,null,null,null,null,null,null,0,{"$f":"IFERROR(IF(AB68<=2,OFFSET(B_ML_N!$B$3,AE68,AB68),\"-\"),\"-\")","v":"-"},{"$f":"IFERROR(IF(AB68<=2,OFFSET(B_ML_N!$B$3,AE68,AB68+2),\"-\"),\"-\")","v":"-"},{"$f":"IFERROR(IF(AB68>2,OFFSET(B_ML_N!$B$3,AE68,AB68+2),\"-\"),\"-\")","v":"-"},"-",null,null,null,null,null,null,null,null,{"$f":"IF(MATCH(E68,B_ML_N!$L$18:$L$23,0)<5,MATCH(E68,B_ML_N!$L$18:$L$23,0),1)","v":{"$error":"#N/A"}},{"$f":"IFERROR(MATCH(D68,Nr_stad!$U$8:$U$60,0),0)","v":0},0,{"$f":"IF(D68=\"\",\"-\",MATCH(D68,B_ML_N!$B$4:$B$16,0))","v":"-"},{"$f":"IFERROR(OFFSET(B_ML_N!$L$3,AE68,4),1)","v":1},false]
[null,null,null,null,null,null,null,null,null,null,null,null,null,null,0,{"$f":"IFERROR(IF(AB69<=2,OFFSET(B_ML_N!$B$3,AE69,AB69),\"-\"),\"-\")","v":"-"},{"$f":"IFERROR(IF(AB69<=2,OFFSET(B_ML_N!$B$3,AE69,AB69+2),\"-\"),\"-\")","v":"-"},{"$f":"IFERROR(IF(AB69>2,OFFSET(B_ML_N!$B$3,AE69,AB69+2),\"-\"),\"-\")","v":"-"},"-",null,null,null,null,null,null,null,null,{"$f":"IF(MATCH(E69,B_ML_N!$L$18:$L$23,0)<5,MATCH(E69,B_ML_N!$L$18:$L$23,0),1)","v":{"$error":"#N/A"}},{"$f":"IFERROR(MATCH(D69,Nr_stad!$U$8:$U$60,0),0)","v":0},0,{"$f":"IF(D69=\"\",\"-\",MATCH(D69,B_ML_N!$B$4:$B$16,0))","v":"-"},{"$f":"IFERROR(OFFSET(B_ML_N!$L$3,AE69,4),1)","v":1},false]
[null,null,null,null,null,null,null,null,null,null,null,null,null,null,0,{"$f":"IFERROR(IF(AB70<=2,OFFSET(B_ML_N!$B$3,AE70,AB70),\"-\"),\"-\")","v":"-"},{"$f":"IFERROR(IF(AB70<=2,OFFSET(B_ML_N!$B$3,AE70,AB70+2),\"-\"),\"-\")","v":"-"},{"$f":"IFERROR(IF(AB70>2,OFFSET(B_ML_N!$B$3,AE70,AB70+2),\"-\"),\"-\")","v":"-"},"-",null,null,null,null,null,null,null,null,{"$f":"IF(MATCH(E70,B_ML_N!$L$18:$L$23,0)<5,MATCH(E70,B_ML_N!$L$18:$L$23,0),1)","v":{"$error":"#N/A"}},{"$f":"IFERROR(MATCH(D70,Nr_stad!$U$8:$U$60,0),0)","v":0},0,{"$f":"IF(D70=\"\",\"-\",MATCH(D70,B_ML_N!$B$4:$B$16,0))","v":"-"},{"$f":"IFERROR(OFFSET(B_ML_N!$L$3,AE70,4),1)","v":1},false]
[null,null,null,null,null,null,null,null,null,null,null,null,null,null,0,{"$f":"IFERROR(IF(AB71<=2,OFFSET(B_ML_N!$B$3,AE71,AB71),\"-\"),\"-\")","v":"-"},{"$f":"IFERROR(IF(AB71<=2,OFFSET(B_ML_N!$B$3,AE71,AB71+2),\"-\"),\"-\")","v":"-"},{"$f":"IFERROR(IF(AB71>2,OFFSET(B_ML_N!$B$3,AE71,AB71+2),\"-\"),\"-\")","v":"-"},"-",null,null,null,null,null,null,null,null,{"$f":"IF(MATCH(E71,B_ML_N!$L$18:$L$23,0)<5,MATCH(E71,B_ML_N!$L$18:$L$23,0),1)","v":{"$error":"#N/A"}},{"$f":"IFERROR(MATCH(D71,Nr_stad!$U$8:$U$60,0),0)","v":0},0,{"$f":"IF(D71=\"\",\"-\",MATCH(D71,B_ML_N!$B$4:$B$16,0))","v":"-"},{"$f":"IFERROR(OFFSET(B_ML_N!$L$3,AE71,4),1)","v":1},false]
[null,null,null,null,null,null,null,null,null,null,null,null,null,null,0,{"$f":"IFERROR(IF(AB72<=2,OFFSET(B_ML_N!$B$3,AE72,AB72),\"-\"),\"-\")","v":"-"},{"$f":"IFERROR(IF(AB72<=2,OFFSET(B_ML_N!$B$3,AE72,AB72+2),\"-\"),\"-\")","v":"-"},{"$f":"IFERROR(IF(AB72>2,OFFSET(B_ML_N!$B$3,AE72,AB72+2),\"-\"),\"-\")","v":"-"},"-",null,null,null,null,null,null,null,null,{"$f":"IF(MATCH(E72,B_ML_N!$L$18:$L$23,0)<5,MATCH(E72,B_ML_N!$L$18:$L$23,0),1)","v":{"$error":"#N/A"}},{"$f":"IFERROR(MATCH(D72,Nr_stad!$U$8:$U$60,0),0)","v":0},0,{"$f":"IF(D72=\"\",\"-\",MATCH(D72,B_ML_N!$B$4:$B$16,0))","v":"-"},{"$f":"IFERROR(OFFSET(B_ML_N!$L$3,AE72,4),1)","v":1},false]
[null,null,null,null,null,null,null,null,null,null,null,null,null,null,0,{"$f":"IFERROR(IF(AB73<=2,OFFSET(B_ML_N!$B$3,AE73,AB73),\"-\"),\"-\")","v":"-"},{"$f":"IFERROR(IF(AB73<=2,OFFSET(B_ML_N!$B$3,AE73,AB73+2),\"-\"),\"-\")","v":"-"},{"$f":"IFERROR(IF(AB73>2,OFFSET(B_ML_N!$B$3,AE73,AB73+2),\"-\"),\"-\")","v":"-"},"-",null,null,null,null,null,null,null,null,{"$f":"IF(MATCH(E73,B_ML_N!$L$18:$L$23,0)<5,MATCH(E73,B_ML_N!$L$18:$L$23,0),1)","v":{"$error":"#N/A"}},{"$f":"IFERROR(MATCH(D73,Nr_stad!$U$8:$U$60,0),0)","v":0},0,{"$f":"IF(D73=\"\",\"-\",MATCH(D73,B_ML_N!$B$4:$B$16,0))","v":"-"},{"$f":"IFERROR(OFFSET(B_ML_N!$L$3,AE73,4),1)","v":1},false]
[null,null,null,null,null,null,null,null,null,null,null,null,null,null,0,{"$f":"IFERROR(IF(AB74<=2,OFFSET(B_ML_N!$B$3,AE74,AB74),\"-\"),\"-\")","v":"-"},{"$f":"IFERROR(IF(AB74<=2,OFFSET(B_ML_N!$B$3,AE74,AB74+2),\"-\"),\"-\")","v":"-"},{"$f":"IFERROR(IF(AB74>2,OFFSET(B_ML_N!$B$3,AE74,AB74+2),\"-\"),\"-\")","v":"-"},"-",null,null,null,null,null,null,null,null,{"$f":"IF(MATCH(E74,B_ML_N!$L$18:$L$23,0)<5,MATCH(E74,B_ML_N!$L$18:$L$23,0),1)","v":{"$error":"#N/A"}},{"$f":"IFERROR(MATCH(D74,Nr_stad!$U$8:$U$60,0),0)","v":0},0,{"$f":"IF(D74=\"\",\"-\",MATCH(D74,B_ML_N!$B$4:$B$16,0))","v":"-"},{"$f":"IFERROR(OFFSET(B_ML_N!$L$3,AE74,4),1)","v":1},false]
[null,null,null,null,null,null,null,null,null,null,null,null,null,null,0,{"$f":"IFERROR(IF(AB75<=2,OFFSET(B_ML_N!$B$3,AE75,AB75),\"-\"),\"-\")","v":"-"},{"$f":"IFERROR(IF(AB75<=2,OFFSET(B_ML_N!$B$3,AE75,AB75+2),\"-\"),\"-\")","v":"-"},{"$f":"IFERROR(IF(AB75>2,OFFSET(B_ML_N!$B$3,AE75,AB75+2),\"-\"),\"-\")","v":"-"},"-",null,null,null,null,null,null,null,null,{"$f":"IF(MATCH(E75,B_ML_N!$L$18:$L$23,0)<5,MATCH(E75,B_ML_N!$L$18:$L$23,0),1)","v":{"$error":"#N/A"}},{"$f":"IFERROR(MATCH(D75,Nr_stad!$U$8:$U$60,0),0)","v":0},0,{"$f":"IF(D75=\"\",\"-\",MATCH(D75,B_ML_N!$B$4:$B$16,0))","v":"-"},{"$f":"IFERROR(OFFSET(B_ML_N!$L$3,AE75,4),1)","v":1},false]
[null,null,null,null,null,null,null,null,null,null,null,null,null,null,0,{"$f":"IFERROR(IF(AB76<=2,OFFSET(B_ML_N!$B$3,AE76,AB76),\"-\"),\"-\")","v":"-"},{"$f":"IFERROR(IF(AB76<=2,OFFSET(B_ML_N!$B$3,AE76,AB76+2),\"-\"),\"-\")","v":"-"},{"$f":"IFERROR(IF(AB76>2,OFFSET(B_ML_N!$B$3,AE76,AB76+2),\"-\"),\"-\")","v":"-"},"-",null,null,null,null,null,null,null,null,{"$f":"IF(MATCH(E76,B_ML_N!$L$18:$L$23,0)<5,MATCH(E76,B_ML_N!$L$18:$L$23,0),1)","v":{"$error":"#N/A"}},{"$f":"IFERROR(MATCH(D76,Nr_stad!$U$8:$U$60,0),0)","v":0},0,{"$f":"IF(D76=\"\",\"-\",MATCH(D76,B_ML_N!$B$4:$B$16,0))","v":"-"},{"$f":"IFERROR(OFFSET(B_ML_N!$L$3,AE76,4),1)","v":1},false]
[null,null,null,null,null,null,null,null,null,null,null,null,null,null,0,{"$f":"IFERROR(IF(AB77<=2,OFFSET(B_ML_N!$B$3,AE77,AB77),\"-\"),\"-\")","v":"-"},{"$f":"IFERROR(IF(AB77<=2,OFFSET(B_ML_N!$B$3,AE77,AB77+2),\"-\"),\"-\")","v":"-"},{"$f":"IFERROR(IF(AB77>2,OFFSET(B_ML_N!$B$3,AE77,AB77+2),\"-\"),\"-\")","v":"-"},"-",null,null,null,null,null,null,null,null,{"$f":"IF(MATCH(E77,B_ML_N!$L$18:$L$23,0)<5,MATCH(E77,B_ML_N!$L$18:$L$23,0),1)","v":{"$error":"#N/A"}},{"$f":"IFERROR(MATCH(D77,Nr_stad!$U$8:$U$60,0),0)","v":0},0,{"$f":"IF(D77=\"\",\"-\",MATCH(D77,B_ML_N!$B$4:$B$16,0))","v":"-"},{"$f":"IFERROR(OFFSET(B_ML_N!$L$3,AE77,4),1)","v":1},false]
[null,null,null,null,null,null,null,null,null,null,null,null,null,null,0,{"$f":"IFERROR(IF(AB78<=2,OFFSET(B_ML_N!$B$3,AE78,AB78),\"-\"),\"-\")","v":"-"},{"$f":"IFERROR(IF(AB78<=2,OFFSET(B_ML_N!$B$3,AE78,AB78+2),\"-\"),\"-\")","v":"-"},{"$f":"IFERROR(IF(AB78>2,OFFSET(B_ML_N!$B$3,AE78,AB78+2),\"-\"),\"-\")","v":"-"},"-",null,null,null,null,null,null,null,null,{"$f":"IF(MATCH(E78,B_ML_N!$L$18:$L$23,0)<5,MATCH(E78,B_ML_N!$L$18:$L$23,0),1)","v":{"$error":"#N/A"}},{"$f":"IFERROR(MATCH(D78,Nr_stad!$U$8:$U$60,0),0)","v":0},0,{"$f":"IF(D78=\"\",\"-\",MATCH(D78,B_ML_N!$B$4:$B$16,0))","v":"-"},{"$f":"IFERROR(OFFSET(B_ML_N!$L$3,AE78,4),1)","v":1},false]
[null,null,null,null,null,null,null,null,null,null,null,null,null,null,0,{"$f":"IFERROR(IF(AB79<=2,OFFSET(B_ML_N!$B$3,AE79,AB79),\"-\"),\"-\")","v":"-"},{"$f":"IFERROR(IF(AB79<=2,OFFSET(B_ML_N!$B$3,AE79,AB79+2),\"-\"),\"-\")","v":"-"},{"$f":"IFERROR(IF(AB79>2,OFFSET(B_ML_N!$B$3,AE79,AB79+2),\"-\"),\"-\")","v":"-"},"-",null,null,null,null,null,null,null,null,{"$f":"IF(MATCH(E79,B_ML_N!$L$18:$L$23,0)<5,MATCH(E79,B_ML_N!$L$18:$L$23,0),1)","v":{"$error":"#N/A"}},{"$f":"IFERROR(MATCH(D79,Nr_stad!$U$8:$U$60,0),0)","v":0},0,{"$f":"IF(D79=\"\",\"-\",MATCH(D79,B_ML_N!$B$4:$B$16,0))","v":"-"},{"$f":"IFERROR(OFFSET(B_ML_N!$L$3,AE79,4),1)","v":1},false]
[null,null,null,null,null,null,null,null,null,null,null,null,null,null,0,{"$f":"IFERROR(IF(AB80<=2,OFFSET(B_ML_N!$B$3,AE80,AB80),\"-\"),\"-\")","v":"-"},{"$f":"IFERROR(IF(AB80<=2,OFFSET(B_ML_N!$B$3,AE80,AB80+2),\"-\"),\"-\")","v":"-"},{"$f":"IFERROR(IF(AB80>2,OFFSET(B_ML_N!$B$3,AE80,AB80+2),\"-\"),\"-\")","v":"-"},"-",null,null,null,null,null,null,null,null,{"$f":"IF(MATCH(E80,B_ML_N!$L$18:$L$23,0)<5,MATCH(E80,B_ML_N!$L$18:$L$23,0),1)","v":{"$error":"#N/A"}},{"$f":"IFERROR(MATCH(D80,Nr_stad!$U$8:$U$60,0),0)","v":0},0,{"$f":"IF(D80=\"\",\"-\",MATCH(D80,B_ML_N!$B$4:$B$16,0))","v":"-"},{"$f":"IFERROR(OFFSET(B_ML_N!$L$3,AE80,4),1)","v":1},false]
[null,null,null,null,null,null,null,null,null,null,null,null,null,null,0,{"$f":"IFERROR(IF(AB81<=2,OFFSET(B_ML_N!$B$3,AE81,AB81),\"-\"),\"-\")","v":"-"},{"$f":"IFERROR(IF(AB81<=2,OFFSET(B_ML_N!$B$3,AE81,AB81+2),\"-\"),\"-\")","v":"-"},{"$f":"IFERROR(IF(AB81>2,OFFSET(B_ML_N!$B$3,AE81,AB81+2),\"-\"),\"-\")","v":"-"},"-",null,null,null,null,null,null,null,null,{"$f":"IF(MATCH(E81,B_ML_N!$L$18:$L$23,0)<5,MATCH(E81,B_ML_N!$L$18:$L$23,0),1)","v":{"$error":"#N/A"}},{"$f":"IFERROR(MATCH(D81,Nr_stad!$U$8:$U$60,0),0)","v":0},0,{"$f":"IF(D81=\"\",\"-\",MATCH(D81,B_ML_N!$B$4:$B$16,0))","v":"-"},{"$f":"IFERROR(OFFSET(B_ML_N!$L$3,AE81,4),1)","v":1},false]
[null,null,null,null,null,null,null,null,null,null,null,null,null,null,0,{"$f":"IFERROR(IF(AB82<=2,OFFSET(B_ML_N!$B$3,AE82,AB82),\"-\"),\"-\")","v":"-"},{"$f":"IFERROR(IF(AB82<=2,OFFSET(B_ML_N!$B$3,AE82,AB82+2),\"-\"),\"-\")","v":"-"},{"$f":"IFERROR(IF(AB82>2,OFFSET(B_ML_N!$B$3,AE82,AB82+2),\"-\"),\"-\")","v":"-"},"-",null,null,null,null,null,null,null,null,{"$f":"IF(MATCH(E82,B_ML_N!$L$18:$L$23,0)<5,MATCH(E82,B_ML_N!$L$18:$L$23,0),1)","v":{"$error":"#N/A"}},{"$f":"IFERROR(MATCH(D82,Nr_stad!$U$8:$U$60,0),0)","v":0},0,{"$f":"IF(D82=\"\",\"-\",MATCH(D82,B_ML_N!$B$4:$B$16,0))","v":"-"},{"$f":"IFERROR(OFFSET(B_ML_N!$L$3,AE82,4),1)","v":1},false]
[null,null,null,null,null,null,null,null,null,null,null,null,null,null,0,{"$f":"IFERROR(IF(AB83<=2,OFFSET(B_ML_N!$B$3,AE83,AB83),\"-\"),\"-\")","v":"-"},{"$f":"IFERROR(IF(AB83<=2,OFFSET(B_ML_N!$B$3,AE83,AB83+2),\"-\"),\"-\")","v":"-"},{"$f":"IFERROR(IF(AB83>2,OFFSET(B_ML_N!$B$3,AE83,AB83+2),\"-\"),\"-\")","v":"-"},"-",null,null,null,null,null,null,null,null,{"$f":"IF(MATCH(E83,B_ML_N!$L$18:$L$23,0)<5,MATCH(E83,B_ML_N!$L$18:$L$23,0),1)","v":{"$error":"#N/A"}},{"$f":"IFERROR(MATCH(D83,Nr_stad!$U$8:$U$60,0),0)","v":0},0,{"$f":"IF(D83=\"\",\"-\",MATCH(D83,B_ML_N!$B$4:$B$16,0))","v":"-"},{"$f":"IFERROR(OFFSET(B_ML_N!$L$3,AE83,4),1)","v":1},false]
[null,null,null,null,null,null,null,null,null,null,null,null,null,null,0,{"$f":"IFERROR(IF(AB84<=2,OFFSET(B_ML_N!$B$3,AE84,AB84),\"-\"),\"-\")","v":"-"},{"$f":"IFERROR(IF(AB84<=2,OFFSET(B_ML_N!$B$3,AE84,AB84+2),\"-\"),\"-\")","v":"-"},{"$f":"IFERROR(IF(AB84>2,OFFSET(B_ML_N!$B$3,AE84,AB84+2),\"-\"),\"-\")","v":"-"},"-",null,null,null,null,null,null,null,null,{"$f":"IF(MATCH(E84,B_ML_N!$L$18:$L$23,0)<5,MATCH(E84,B_ML_N!$L$18:$L$23,0),1)","v":{"$error":"#N/A"}},{"$f":"IFERROR(MATCH(D84,Nr_stad!$U$8:$U$60,0),0)","v":0},0,{"$f":"IF(D84=\"\",\"-\",MATCH(D84,B_ML_N!$B$4:$B$16,0))","v":"-"},{"$f":"IFERROR(OFFSET(B_ML_N!$L$3,AE84,4),1)","v":1},false]
[null,null,null,null,null,null,null,null,null,null,null,null,null,null,0,{"$f":"IFERROR(IF(AB85<=2,OFFSET(B_ML_N!$B$3,AE85,AB85),\"-\"),\"-\")","v":"-"},{"$f":"IFERROR(IF(AB85<=2,OFFSET(B_ML_N!$B$3,AE85,AB85+2),\"-\"),\"-\")","v":"-"},{"$f":"IFERROR(IF(AB85>2,OFFSET(B_ML_N!$B$3,AE85,AB85+2),\"-\"),\"-\")","v":"-"},"-",null,null,null,null,null,null,null,null,{"$f":"IF(MATCH(E85,B_ML_N!$L$18:$L$23,0)<5,MATCH(E85,B_ML_N!$L$18:$L$23,0),1)","v":{"$error":"#N/A"}},{"$f":"IFERROR(MATCH(D85,Nr_stad!$U$8:$U$60,0),0)","v":0},0,{"$f":"IF(D85=\"\",\"-\",MATCH(D85,B_ML_N!$B$4:$B$16,0))","v":"-"},{"$f":"IFERROR(OFFSET(B_ML_N!$L$3,AE85,4),1)","v":1},false]
[null,null,null,null,null,null,null,null,null,null,null,null,null,null,0,{"$f":"IFERROR(IF(AB86<=2,OFFSET(B_ML_N!$B$3,AE86,AB86),\"-\"),\"-\")","v":"-"},{"$f":"IFERROR(IF(AB86<=2,OFFSET(B_ML_N!$B$3,AE86,AB86+2),\"-\"),\"-\")","v":"-"},{"$f":"IFERROR(IF(AB86>2,OFFSET(B_ML_N!$B$3,AE86,AB86+2),\"-\"),\"-\")","v":"-"},"-",null,null,null,null,null,null,null,null,{"$f":"IF(MATCH(E86,B_ML_N!$L$18:$L$23,0)<5,MATCH(E86,B_ML_N!$L$18:$L$23,0),1)","v":{"$error":"#N/A"}},{"$f":"IFERROR(MATCH(D86,Nr_stad!$U$8:$U$60,0),0)","v":0},0,{"$f":"IF(D86=\"\",\"-\",MATCH(D86,B_ML_N!$B$4:$B$16,0))","v":"-"},{"$f":"IFERROR(OFFSET(B_ML_N!$L$3,AE86,4),1)","v":1},false]
[null,null,null,null,null,null,null,null,null,null,null,null,null,null,{"$f":"IFERROR(M87*N87,\"\")","v":0},{"$f":"IFERROR(IF(AB87<=2,OFFSET(B_ML_N!$B$3,AE87,AB87),\"-\"),\"-\")","v":"-"},{"$f":"IFERROR(IF(AB87<=2,OFFSET(B_ML_N!$B$3,AE87,AB87+2),\"-\"),\"-\")","v":"-"},{"$f":"IFERROR(IF(AB87>2,OFFSET(B_ML_N!$B$3,AE87,AB87+2),\"-\"),\"-\")","v":"-"},{"$f":"IFERROR(IF(AG87<>TRUE,IF(AND(L87>0,AB87<3),L87,TRUNC(O87/R87)),\"-\"),\"-\")","v":"-"},null,null,null,null,null,null,null,null,{"$f":"IF(MATCH(E87,B_ML_N!$L$18:$L$23,0)<5,MATCH(E87,B_ML_N!$L$18:$L$23,0),1)","v":{"$error":"#N/A"}},{"$f":"IFERROR(MATCH(D87,Nr_stad!$U$8:$U$60,0),0)","v":0},{"$f":"SUM(I87:T87)+AC87","v":0},{"$f":"IF(D87=\"\",\"-\",MATCH(D87,B_ML_N!$B$4:$B$16,0))","v":"-"},{"$f":"IFERROR(OFFSET(B_ML_N!$L$3,AE87,4),1)","v":1},{"$f":"IFERROR(AND(OR(J87<P87,K87<Q87),AB87<3),FALSE)","v":false}]
[null,null,null,null,null,null,null,null,null,null,null,null,null,null,0,{"$f":"IFERROR(IF(AB88<=2,OFFSET(B_ML_N!$B$3,AE88,AB88),\"-\"),\"-\")","v":"-"},{"$f":"IFERROR(IF(AB88<=2,OFFSET(B_ML_N!$B$3,AE88,AB88+2),\"-\"),\"-\")","v":"-"},{"$f":"IFERROR(IF(AB88>2,OFFSET(B_ML_N!$B$3,AE88,AB88+2),\"-\"),\"-\")","v":"-"},"-",null,null,null,null,null,null,null,null,{"$f":"IF(MATCH(E88,B_ML_N!$L$18:$L$23,0)<5,MATCH(E88,B_ML_N!$L$18:$L$23,0),1)","v":{"$error":"#N/A"}},{"$f":"IFERROR(MATCH(D88,Nr_stad!$U$8:$U$60,0),0)","v":0},0,{"$f":"IF(D88=\"\",\"-\",MATCH(D88,B_ML_N!$B$4:$B$16,0))","v":"-"},{"$f":"IFERROR(OFFSET(B_ML_N!$L$3,AE88,4),1)","v":1},false]
[null,null,null,null,null,null,null,null,null,null,null,null,null,null,0,{"$f":"IFERROR(IF(AB89<=2,OFFSET(B_ML_N!$B$3,AE89,AB89),\"-\"),\"-\")","v":"-"},{"$f":"IFERROR(IF(AB89<=2,OFFSET(B_ML_N!$B$3,AE89,AB89+2),\"-\"),\"-\")","v":"-"},{"$f":"IFERROR(IF(AB89>2,OFFSET(B_ML_N!$B$3,AE89,AB89+2),\"-\"),\"-\")","v":"-"},"-",null,null,null,null,null,null,null,null,{"$f":"IF(MATCH(E89,B_ML_N!$L$18:$L$23,0)<5,MATCH(E89,B_ML_N!$L$18:$L$23,0),1)","v":{"$error":"#N/A"}},{"$f":"IFERROR(MATCH(D89,Nr_stad!$U$8:$U$60,0),0)","v":0},0,{"$f":"IF(D89=\"\",\"-\",MATCH(D89,B_ML_N!$B$4:$B$16,0))","v":"-"},{"$f":"IFERROR(OFFSET(B_ML_N!$L$3,AE89,4),1)","v":1},false]
[null,null,null,null,null,null,null,null,null,null,null,null,null,null,0,{"$f":"IFERROR(IF(AB90<=2,OFFSET(B_ML_N!$B$3,AE90,AB90),\"-\"),\"-\")","v":"-"},{"$f":"IFERROR(IF(AB90<=2,OFFSET(B_ML_N!$B$3,AE90,AB90+2),\"-\"),\"-\")","v":"-"},{"$f":"IFERROR(IF(AB90>2,OFFSET(B_ML_N!$B$3,AE90,AB90+2),\"-\"),\"-\")","v":"-"},"-",null,null,null,null,null,null,null,null,{"$f":"IF(MATCH(E90,B_ML_N!$L$18:$L$23,0)<5,MATCH(E90,B_ML_N!$L$18:$L$23,0),1)","v":{"$error":"#N/A"}},{"$f":"IFERROR(MATCH(D90,Nr_stad!$U$8:$U$60,0),0)","v":0},0,{"$f":"IF(D90=\"\",\"-\",MATCH(D90,B_ML_N!$B$4:$B$16,0))","v":"-"},{"$f":"IFERROR(OFFSET(B_ML_N!$L$3,AE90,4),1)","v":1},false]
[null,null,null,null,null,null,null,null,null,null,null,null,null,null,0,{"$f":"IFERROR(IF(AB91<=2,OFFSET(B_ML_N!$B$3,AE91,AB91),\"-\"),\"-\")","v":"-"},{"$f":"IFERROR(IF(AB91<=2,OFFSET(B_ML_N!$B$3,AE91,AB91+2),\"-\"),\"-\")","v":"-"},{"$f":"IFERROR(IF(AB91>2,OFFSET(B_ML_N!$B$3,AE91,AB91+2),\"-\"),\"-\")","v":"-"},"-",null,null,null,null,null,null,null,null,{"$f":"IF(MATCH(E91,B_ML_N!$L$18:$L$23,0)<5,MATCH(E91,B_ML_N!$L$18:$L$23,0),1)","v":{"$error":"#N/A"}},{"$f":"IFERROR(MATCH(D91,Nr_stad!$U$8:$U$60,0),0)","v":0},0,{"$f":"IF(D91=\"\",\"-\",MATCH(D91,B_ML_N!$B$4:$B$16,0))","v":"-"},{"$f":"IFERROR(OFFSET(B_ML_N!$L$3,AE91,4),1)","v":1},false]
[null,null,null,null,null,null,null,null,null,null,null,null,null,null,0,{"$f":"IFERROR(IF(AB92<=2,OFFSET(B_ML_N!$B$3,AE92,AB92),\"-\"),\"-\")","v":"-"},{"$f":"IFERROR(IF(AB92<=2,OFFSET(B_ML_N!$B$3,AE92,AB92+2),\"-\"),\"-\")","v":"-"},{"$f":"IFERROR(IF(AB92>2,OFFSET(B_ML_N!$B$3,AE92,AB92+2),\"-\"),\"-\")","v":"-"},"-",null,null,null,null,null,null,null,null,{"$f":"IF(MATCH(E92,B_ML_N!$L$18:$L$23,0)<5,MATCH(E92,B_ML_N!$L$18:$L$23,0),1)","v":{"$error":"#N/A"}},{"$f":"IFERROR(MATCH(D92,Nr_stad!$U$8:$U$60,0),0)","v":0},0,{"$f":"IF(D92=\"\",\"-\",MATCH(D92,B_ML_N!$B$4:$B$16,0))","v":"-"},{"$f":"IFERROR(OFFSET(B_ML_N!$L$3,AE92,4),1)","v":1},false]
[null,null,null,null,null,null,null,null,null,null,null,null,null,null,0,{"$f":"IFERROR(IF(AB93<=2,OFFSET(B_ML_N!$B$3,AE93,AB93),\"-\"),\"-\")","v":"-"},{"$f":"IFERROR(IF(AB93<=2,OFFSET(B_ML_N!$B$3,AE93,AB93+2),\"-\"),\"-\")","v":"-"},{"$f":"IFERROR(IF(AB93>2,OFFSET(B_ML_N!$B$3,AE93,AB93+2),\"-\"),\"-\")","v":"-"},"-",null,null,null,null,null,null,null,null,{"$f":"IF(MATCH(E93,B_ML_N!$L$18:$L$23,0)<5,MATCH(E93,B_ML_N!$L$18:$L$23,0),1)","v":{"$error":"#N/A"}},{"$f":"IFERROR(MATCH(D93,Nr_stad!$U$8:$U$60,0),0)","v":0},0,{"$f":"IF(D93=\"\",\"-\",MATCH(D93,B_ML_N!$B$4:$B$16,0))","v":"-"},{"$f":"IFERROR(OFFSET(B_ML_N!$L$3,AE93,4),1)","v":1},false]
[null,null,null,null,null,null,null,null,null,null,null,null,null,null,0,{"$f":"IFERROR(IF(AB94<=2,OFFSET(B_ML_N!$B$3,AE94,AB94),\"-\"),\"-\")","v":"-"},{"$f":"IFERROR(IF(AB94<=2,OFFSET(B_ML_N!$B$3,AE94,AB94+2),\"-\"),\"-\")","v":"-"},{"$f":"IFERROR(IF(AB94>2,OFFSET(B_ML_N!$B$3,AE94,AB94+2),\"-\"),\"-\")","v":"-"},"-",null,null,null,null,null,null,null,null,{"$f":"IF(MATCH(E94,B_ML_N!$L$18:$L$23,0)<5,MATCH(E94,B_ML_N!$L$18:$L$23,0),1)","v":{"$error":"#N/A"}},{"$f":"IFERROR(MATCH(D94,Nr_stad!$U$8:$U$60,0),0)","v":0},0,{"$f":"IF(D94=\"\",\"-\",MATCH(D94,B_ML_N!$B$4:$B$16,0))","v":"-"},{"$f":"IFERROR(OFFSET(B_ML_N!$L$3,AE94,4),1)","v":1},false]
[null,null,null,null,null,null,null,null,null,null,null,null,null,null,0,{"$f":"IFERROR(IF(AB95<=2,OFFSET(B_ML_N!$B$3,AE95,AB95),\"-\"),\"-\")","v":"-"},{"$f":"IFERROR(IF(AB95<=2,OFFSET(B_ML_N!$B$3,AE95,AB95+2),\"-\"),\"-\")","v":"-"},{"$f":"IFERROR(IF(AB95>2,OFFSET(B_ML_N!$B$3,AE95,AB95+2),\"-\"),\"-\")","v":"-"},"-",null,null,null,null,null,null,null,null,{"$f":"IF(MATCH(E95,B_ML_N!$L$18:$L$23,0)<5,MATCH(E95,B_ML_N!$L$18:$L$23,0),1)","v":{"$error":"#N/A"}},{"$f":"IFERROR(MATCH(D95,Nr_stad!$U$8:$U$60,0),0)","v":0},0,{"$f":"IF(D95=\"\",\"-\",MATCH(D95,B_ML_N!$B$4:$B$16,0))","v":"-"},{"$f":"IFERROR(OFFSET(B_ML_N!$L$3,AE95,4),1)","v":1},false]
[null,null,null,null,null,null,null,null,null,null,null,null,null,null,0,{"$f":"IFERROR(IF(AB96<=2,OFFSET(B_ML_N!$B$3,AE96,AB96),\"-\"),\"-\")","v":"-"},{"$f":"IFERROR(IF(AB96<=2,OFFSET(B_ML_N!$B$3,AE96,AB96+2),\"-\"),\"-\")","v":"-"},{"$f":"IFERROR(IF(AB96>2,OFFSET(B_ML_N!$B$3,AE96,AB96+2),\"-\"),\"-\")","v":"-"},"-",null,null,null,null,null,null,null,null,{"$f":"IF(MATCH(E96,B_ML_N!$L$18:$L$23,0)<5,MATCH(E96,B_ML_N!$L$18:$L$23,0),1)","v":{"$error":"#N/A"}},{"$f":"IFERROR(MATCH(D96,Nr_stad!$U$8:$U$60,0),0)","v":0},0,{"$f":"IF(D96=\"\",\"-\",MATCH(D96,B_ML_N!$B$4:$B$16,0))","v":"-"},{"$f":"IFERROR(OFFSET(B_ML_N!$L$3,AE96,4),1)","v":1},false]
[null,null,null,null,null,null,null,null,null,null,null,null,null,null,0,{"$f":"IFERROR(IF(AB97<=2,OFFSET(B_ML_N!$B$3,AE97,AB97),\"-\"),\"-\")","v":"-"},{"$f":"IFERROR(IF(AB97<=2,OFFSET(B_ML_N!$B$3,AE97,AB97+2),\"-\"),\"-\")","v":"-"},{"$f":"IFERROR(IF(AB97>2,OFFSET(B_ML_N!$B$3,AE97,AB97+2),\"-\"),\"-\")","v":"-"},"-",null,null,null,null,null,null,null,null,{"$f":"IF(MATCH(E97,B_ML_N!$L$18:$L$23,0)<5,MATCH(E97,B_ML_N!$L$18:$L$23,0),1)","v":{"$error":"#N/A"}},{"$f":"IFERROR(MATCH(D97,Nr_stad!$U$8:$U$60,0),0)","v":0},0,{"$f":"IF(D97=\"\",\"-\",MATCH(D97,B_ML_N!$B$4:$B$16,0))","v":"-"},{"$f":"IFERROR(OFFSET(B_ML_N!$L$3,AE97,4),1)","v":1},false]
[null,null,null,null,null,null,null,null,null,null,null,null,null,null,0,{"$f":"IFERROR(IF(AB98<=2,OFFSET(B_ML_N!$B$3,AE98,AB98),\"-\"),\"-\")","v":"-"},{"$f":"IFERROR(IF(AB98<=2,OFFSET(B_ML_N!$B$3,AE98,AB98+2),\"-\"),\"-\")","v":"-"},{"$f":"IFERROR(IF(AB98>2,OFFSET(B_ML_N!$B$3,AE98,AB98+2),\"-\"),\"-\")","v":"-"},"-",null,null,null,null,null,null,null,null,{"$f":"IF(MATCH(E98,B_ML_N!$L$18:$L$23,0)<5,MATCH(E98,B_ML_N!$L$18:$L$23,0),1)","v":{"$error":"#N/A"}},{"$f":"IFERROR(MATCH(D98,Nr_stad!$U$8:$U$60,0),0)","v":0},0,{"$f":"IF(D98=\"\",\"-\",MATCH(D98,B_ML_N!$B$4:$B$16,0))","v":"-"},{"$f":"IFERROR(OFFSET(B_ML_N!$L$3,AE98,4),1)","v":1},false]
[null,null,null,null,null,null,null,null,null,null,null,null,null,null,0,{"$f":"IFERROR(IF(AB99<=2,OFFSET(B_ML_N!$B$3,AE99,AB99),\"-\"),\"-\")","v":"-"},{"$f":"IFERROR(IF(AB99<=2,OFFSET(B_ML_N!$B$3,AE99,AB99+2),\"-\"),\"-\")","v":"-"},{"$f":"IFERROR(IF(AB99>2,OFFSET(B_ML_N!$B$3,AE99,AB99+2),\"-\"),\"-\")","v":"-"},"-",null,null,null,null,null,null,null,null,{"$f":"IF(MATCH(E99,B_ML_N!$L$18:$L$23,0)<5,MATCH(E99,B_ML_N!$L$18:$L$23,0),1)","v":{"$error":"#N/A"}},{"$f":"IFERROR(MATCH(D99,Nr_stad!$U$8:$U$60,0),0)","v":0},0,{"$f":"IF(D99=\"\",\"-\",MATCH(D99,B_ML_N!$B$4:$B$16,0))","v":"-"},{"$f":"IFERROR(OFFSET(B_ML_N!$L$3,AE99,4),1)","v":1},false]
[null,null,null,null,null,null,null,null,null,null,null,null,null,null,0,{"$f":"IFERROR(IF(AB100<=2,OFFSET(B_ML_N!$B$3,AE100,AB100),\"-\"),\"-\")","v":"-"},{"$f":"IFERROR(IF(AB100<=2,OFFSET(B_ML_N!$B$3,AE100,AB100+2),\"-\"),\"-\")","v":"-"},{"$f":"IFERROR(IF(AB100>2,OFFSET(B_ML_N!$B$3,AE100,AB100+2),\"-\"),\"-\")","v":"-"},"-",null,null,null,null,null,null,null,null,{"$f":"IF(MATCH(E100,B_ML_N!$L$18:$L$23,0)<5,MATCH(E100,B_ML_N!$L$18:$L$23,0),1)","v":{"$error":"#N/A"}},{"$f":"IFERROR(MATCH(D100,Nr_stad!$U$8:$U$60,0),0)","v":0},0,{"$f":"IF(D100=\"\",\"-\",MATCH(D100,B_ML_N!$B$4:$B$16,0))","v":"-"},{"$f":"IFERROR(OFFSET(B_ML_N!$L$3,AE100,4),1)","v":1},false]
[null,null,null,null,null,null,null,null,null,null,null,null,null,null,0,{"$f":"IFERROR(IF(AB101<=2,OFFSET(B_ML_N!$B$3,AE101,AB101),\"-\"),\"-\")","v":"-"},{"$f":"IFERROR(IF(AB101<=2,OFFSET(B_ML_N!$B$3,AE101,AB101+2),\"-\"),\"-\")","v":"-"},{"$f":"IFERROR(IF(AB101>2,OFFSET(B_ML_N!$B$3,AE101,AB101+2),\"-\"),\"-\")","v":"-"},"-",null,null,null,null,null,null,null,null,{"$f":"IF(MATCH(E101,B_ML_N!$L$18:$L$23,0)<5,MATCH(E101,B_ML_N!$L$18:$L$23,0),1)","v":{"$error":"#N/A"}},{"$f":"IFERROR(MATCH(D101,Nr_stad!$U$8:$U$60,0),0)","v":0},0,{"$f":"IF(D101=\"\",\"-\",MATCH(D101,B_ML_N!$B$4:$B$16,0))","v":"-"},{"$f":"IFERROR(OFFSET(B_ML_N!$L$3,AE101,4),1)","v":1},false]
[null,null,null,null,null,null,null,null,null,null,null,null,null,null,0,{"$f":"IFERROR(IF(AB102<=2,OFFSET(B_ML_N!$B$3,AE102,AB102),\"-\"),\"-\")","v":"-"},{"$f":"IFERROR(IF(AB102<=2,OFFSET(B_ML_N!$B$3,AE102,AB102+2),\"-\"),\"-\")","v":"-"},{"$f":"IFERROR(IF(AB102>2,OFFSET(B_ML_N!$B$3,AE102,AB102+2),\"-\"),\"-\")","v":"-"},"-",null,null,null,null,null,null,null,null,{"$f":"IF(MATCH(E102,B_ML_N!$L$18:$L$23,0)<5,MATCH(E102,B_ML_N!$L$18:$L$23,0),1)","v":{"$error":"#N/A"}},{"$f":"IFERROR(MATCH(D102,Nr_stad!$U$8:$U$60,0),0)","v":0},0,{"$f":"IF(D102=\"\",\"-\",MATCH(D102,B_ML_N!$B$4:$B$16,0))","v":"-"},{"$f":"IFERROR(OFFSET(B_ML_N!$L$3,AE102,4),1)","v":1},false]
[null,null,null,null,null,null,null,null,null,null,null,null,null,null,0,{"$f":"IFERROR(IF(AB103<=2,OFFSET(B_ML_N!$B$3,AE103,AB103),\"-\"),\"-\")","v":"-"},{"$f":"IFERROR(IF(AB103<=2,OFFSET(B_ML_N!$B$3,AE103,AB103+2),\"-\"),\"-\")","v":"-"},{"$f":"IFERROR(IF(AB103>2,OFFSET(B_ML_N!$B$3,AE103,AB103+2),\"-\"),\"-\")","v":"-"},"-",null,null,null,null,null,null,null,null,{"$f":"IF(MATCH(E103,B_ML_N!$L$18:$L$23,0)<5,MATCH(E103,B_ML_N!$L$18:$L$23,0),1)","v":{"$error":"#N/A"}},{"$f":"IFERROR(MATCH(D103,Nr_stad!$U$8:$U$60,0),0)","v":0},0,{"$f":"IF(D103=\"\",\"-\",MATCH(D103,B_ML_N!$B$4:$B$16,0))","v":"-"},{"$f":"IFERROR(OFFSET(B_ML_N!$L$3,AE103,4),1)","v":1},false]
[null,null,null,null,null,null,null,null,null,null,null,null,null,null,0,{"$f":"IFERROR(IF(AB104<=2,OFFSET(B_ML_N!$B$3,AE104,AB104),\"-\"),\"-\")","v":"-"},{"$f":"IFERROR(IF(AB104<=2,OFFSET(B_ML_N!$B$3,AE104,AB104+2),\"-\"),\"-\")","v":"-"},{"$f":"IFERROR(IF(AB104>2,OFFSET(B_ML_N!$B$3,AE104,AB104+2),\"-\"),\"-\")","v":"-"},"-",null,null,null,null,null,null,null,null,{"$f":"IF(MATCH(E104,B_ML_N!$L$18:$L$23,0)<5,MATCH(E104,B_ML_N!$L$18:$L$23,0),1)","v":{"$error":"#N/A"}},{"$f":"IFERROR(MATCH(D104,Nr_stad!$U$8:$U$60,0),0)","v":0},0,{"$f":"IF(D104=\"\",\"-\",MATCH(D104,B_ML_N!$B$4:$B$16,0))","v":"-"},{"$f":"IFERROR(OFFSET(B_ML_N!$L$3,AE104,4),1)","v":1},false]
[null,null,null,null,null,null,null,null,null,null,null,null,null,null,0,{"$f":"IFERROR(IF(AB105<=2,OFFSET(B_ML_N!$B$3,AE105,AB105),\"-\"),\"-\")","v":"-"},{"$f":"IFERROR(IF(AB105<=2,OFFSET(B_ML_N!$B$3,AE105,AB105+2),\"-\"),\"-\")","v":"-"},{"$f":"IFERROR(IF(AB105>2,OFFSET(B_ML_N!$B$3,AE105,AB105+2),\"-\"),\"-\")","v":"-"},"-",null,null,null,null,null,null,null,null,{"$f":"IF(MATCH(E105,B_ML_N!$L$18:$L$23,0)<5,MATCH(E105,B_ML_N!$L$18:$L$23,0),1)","v":{"$error":"#N/A"}},{"$f":"IFERROR(MATCH(D105,Nr_stad!$U$8:$U$60,0),0)","v":0},0,{"$f":"IF(D105=\"\",\"-\",MATCH(D105,B_ML_N!$B$4:$B$16,0))","v":"-"},{"$f":"IFERROR(OFFSET(B_ML_N!$L$3,AE105,4),1)","v":1},false]
[null,null,null,null,null,null,null,null,null,null,null,null,null,null,0,{"$f":"IFERROR(IF(AB106<=2,OFFSET(B_ML_N!$B$3,AE106,AB106),\"-\"),\"-\")","v":"-"},{"$f":"IFERROR(IF(AB106<=2,OFFSET(B_ML_N!$B$3,AE106,AB106+2),\"-\"),\"-\")","v":"-"},{"$f":"IFERROR(IF(AB106>2,OFFSET(B_ML_N!$B$3,AE106,AB106+2),\"-\"),\"-\")","v":"-"},"-",null,null,null,null,null,null,null,null,{"$f":"IF(MATCH(E106,B_ML_N!$L$18:$L$23,0)<5,MATCH(E106,B_ML_N!$L$18:$L$23,0),1)","v":{"$error":"#N/A"}},{"$f":"IFERROR(MATCH(D106,Nr_stad!$U$8:$U$60,0),0)","v":0},0,{"$f":"IF(D106=\"\",\"-\",MATCH(D106,B_ML_N!$B$4:$B$16,0))","v":"-"},{"$f":"IFERROR(OFFSET(B_ML_N!$L$3,AE106,4),1)","v":1},false]
[null,null,null,null,null,null,null,null,null,null,null,null,null,null,0,{"$f":"IFERROR(IF(AB107<=2,OFFSET(B_ML_N!$B$3,AE107,AB107),\"-\"),\"-\")","v":"-"},{"$f":"IFERROR(IF(AB107<=2,OFFSET(B_ML_N!$B$3,AE107,AB107+2),\"-\"),\"-\")","v":"-"},{"$f":"IFERROR(IF(AB107>2,OFFSET(B_ML_N!$B$3,AE107,AB107+2),\"-\"),\"-\")","v":"-"},"-",null,null,null,null,null,null,null,null,{"$f":"IF(MATCH(E107,B_ML_N!$L$18:$L$23,0)<5,MATCH(E107,B_ML_N!$L$18:$L$23,0),1)","v":{"$error":"#N/A"}},{"$f":"IFERROR(MATCH(D107,Nr_stad!$U$8:$U$60,0),0)","v":0},0,{"$f":"IF(D107=\"\",\"-\",MATCH(D107,B_ML_N!$B$4:$B$16,0))","v":"-"},{"$f":"IFERROR(OFFSET(B_ML_N!$L$3,AE107,4),1)","v":1},false]
[null,null,null,null,null,null,null,null,null,null,null,null,null,null,0,{"$f":"IFERROR(IF(AB108<=2,OFFSET(B_ML_N!$B$3,AE108,AB108),\"-\"),\"-\")","v":"-"},{"$f":"IFERROR(IF(AB108<=2,OFFSET(B_ML_N!$B$3,AE108,AB108+2),\"-\"),\"-\")","v":"-"},{"$f":"IFERROR(IF(AB108>2,OFFSET(B_ML_N!$B$3,AE108,AB108+2),\"-\"),\"-\")","v":"-"},"-",null,null,null,null,null,null,null,null,{"$f":"IF(MATCH(E108,B_ML_N!$L$18:$L$23,0)<5,MATCH(E108,B_ML_N!$L$18:$L$23,0),1)","v":{"$error":"#N/A"}},{"$f":"IFERROR(MATCH(D108,Nr_stad!$U$8:$U$60,0),0)","v":0},0,{"$f":"IF(D108=\"\",\"-\",MATCH(D108,B_ML_N!$B$4:$B$16,0))","v":"-"},{"$f":"IFERROR(OFFSET(B_ML_N!$L$3,AE108,4),1)","v":1},false]
[null,null,null,null,null,null,null,null,null,null,null,null,null,null,0,{"$f":"IFERROR(IF(AB109<=2,OFFSET(B_ML_N!$B$3,AE109,AB109),\"-\"),\"-\")","v":"-"},{"$f":"IFERROR(IF(AB109<=2,OFFSET(B_ML_N!$B$3,AE109,AB109+2),\"-\"),\"-\")","v":"-"},{"$f":"IFERROR(IF(AB109>2,OFFSET(B_ML_N!$B$3,AE109,AB109+2),\"-\"),\"-\")","v":"-"},"-",null,null,null,null,null,null,null,null,{"$f":"IF(MATCH(E109,B_ML_N!$L$18:$L$23,0)<5,MATCH(E109,B_ML_N!$L$18:$L$23,0),1)","v":{"$error":"#N/A"}},{"$f":"IFERROR(MATCH(D109,Nr_stad!$U$8:$U$60,0),0)","v":0},0,{"$f":"IF(D109=\"\",\"-\",MATCH(D109,B_ML_N!$B$4:$B$16,0))","v":"-"},{"$f":"IFERROR(OFFSET(B_ML_N!$L$3,AE109,4),1)","v":1},false]
[null,null,null,null,null,null,null,null,null,null,null,null,null,null,0,{"$f":"IFERROR(IF(AB110<=2,OFFSET(B_ML_N!$B$3,AE110,AB110),\"-\"),\"-\")","v":"-"},{"$f":"IFERROR(IF(AB110<=2,OFFSET(B_ML_N!$B$3,AE110,AB110+2),\"-\"),\"-\")","v":"-"},{"$f":"IFERROR(IF(AB110>2,OFFSET(B_ML_N!$B$3,AE110,AB110+2),\"-\"),\"-\")","v":"-"},"-",null,null,null,null,null,null,null,null,{"$f":"IF(MATCH(E110,B_ML_N!$L$18:$L$23,0)<5,MATCH(E110,B_ML_N!$L$18:$L$23,0),1)","v":{"$error":"#N/A"}},{"$f":"IFERROR(MATCH(D110,Nr_stad!$U$8:$U$60,0),0)","v":0},0,{"$f":"IF(D110=\"\",\"-\",MATCH(D110,B_ML_N!$B$4:$B$16,0))","v":"-"},{"$f":"IFERROR(OFFSET(B_ML_N!$L$3,AE110,4),1)","v":1},false]
[null,null,null,null,null,null,null,null,null,null,null,null,null,null,0,{"$f":"IFERROR(IF(AB111<=2,OFFSET(B_ML_N!$B$3,AE111,AB111),\"-\"),\"-\")","v":"-"},{"$f":"IFERROR(IF(AB111<=2,OFFSET(B_ML_N!$B$3,AE111,AB111+2),\"-\"),\"-\")","v":"-"},{"$f":"IFERROR(IF(AB111>2,OFFSET(B_ML_N!$B$3,AE111,AB111+2),\"-\"),\"-\")","v":"-"},"-",null,null,null,null,null,null,null,null,{"$f":"IF(MATCH(E111,B_ML_N!$L$18:$L$23,0)<5,MATCH(E111,B_ML_N!$L$18:$L$23,0),1)","v":{"$error":"#N/A"}},{"$f":"IFERROR(MATCH(D111,Nr_stad!$U$8:$U$60,0),0)","v":0},0,{"$f":"IF(D111=\"\",\"-\",MATCH(D111,B_ML_N!$B$4:$B$16,0))","v":"-"},{"$f":"IFERROR(OFFSET(B_ML_N!$L$3,AE111,4),1)","v":1},false]
[null,null,null,null,null,null,null,null,null,null,null,null,null,null,0,{"$f":"IFERROR(IF(AB112<=2,OFFSET(B_ML_N!$B$3,AE112,AB112),\"-\"),\"-\")","v":"-"},{"$f":"IFERROR(IF(AB112<=2,OFFSET(B_ML_N!$B$3,AE112,AB112+2),\"-\"),\"-\")","v":"-"},{"$f":"IFERROR(IF(AB112>2,OFFSET(B_ML_N!$B$3,AE112,AB112+2),\"-\"),\"-\")","v":"-"},"-",null,null,null,null,null,null,null,null,{"$f":"IF(MATCH(E112,B_ML_N!$L$18:$L$23,0)<5,MATCH(E112,B_ML_N!$L$18:$L$23,0),1)","v":{"$error":"#N/A"}},{"$f":"IFERROR(MATCH(D112,Nr_stad!$U$8:$U$60,0),0)","v":0},0,{"$f":"IF(D112=\"\",\"-\",MATCH(D112,B_ML_N!$B$4:$B$16,0))","v":"-"},{"$f":"IFERROR(OFFSET(B_ML_N!$L$3,AE112,4),1)","v":1},false]
[null,null,null,null,null,null,null,null,null,null,null,null,null,null,0,{"$f":"IFERROR(IF(AB113<=2,OFFSET(B_ML_N!$B$3,AE113,AB113),\"-\"),\"-\")","v":"-"},{"$f":"IFERROR(IF(AB113<=2,OFFSET(B_ML_N!$B$3,AE113,AB113+2),\"-\"),\"-\")","v":"-"},{"$f":"IFERROR(IF(AB113>2,OFFSET(B_ML_N!$B$3,AE113,AB113+2),\"-\"),\"-\")","v":"-"},"-",null,null,null,null,null,null,null,null,{"$f":"IF(MATCH(E113,B_ML_N!$L$18:$L$23,0)<5,MATCH(E113,B_ML_N!$L$18:$L$23,0),1)","v":{"$error":"#N/A"}},{"$f":"IFERROR(MATCH(D113,Nr_stad!$U$8:$U$60,0),0)","v":0},0,{"$f":"IF(D113=\"\",\"-\",MATCH(D113,B_ML_N!$B$4:$B$16,0))","v":"-"},{"$f":"IFERROR(OFFSET(B_ML_N!$L$3,AE113,4),1)","v":1},false]
[null,null,null,null,null,null,null,null,null,null,null,null,null,null,0,{"$f":"IFERROR(IF(AB114<=2,OFFSET(B_ML_N!$B$3,AE114,AB114),\"-\"),\"-\")","v":"-"},{"$f":"IFERROR(IF(AB114<=2,OFFSET(B_ML_N!$B$3,AE114,AB114+2),\"-\"),\"-\")","v":"-"},{"$f":"IFERROR(IF(AB114>2,OFFSET(B_ML_N!$B$3,AE114,AB114+2),\"-\"),\"-\")","v":"-"},"-",null,null,null,null,null,null,null,null,{"$f":"IF(MATCH(E114,B_ML_N!$L$18:$L$23,0)<5,MATCH(E114,B_ML_N!$L$18:$L$23,0),1)","v":{"$error":"#N/A"}},{"$f":"IFERROR(MATCH(D114,Nr_stad!$U$8:$U$60,0),0)","v":0},0,{"$f":"IF(D114=\"\",\"-\",MATCH(D114,B_ML_N!$B$4:$B$16,0))","v":"-"},{"$f":"IFERROR(OFFSET(B_ML_N!$L$3,AE114,4),1)","v":1},false]
[null,null,null,null,null,null,null,null,null,null,null,null,null,null,0,{"$f":"IFERROR(IF(AB115<=2,OFFSET(B_ML_N!$B$3,AE115,AB115),\"-\"),\"-\")","v":"-"},{"$f":"IFERROR(IF(AB115<=2,OFFSET(B_ML_N!$B$3,AE115,AB115+2),\"-\"),\"-\")","v":"-"},{"$f":"IFERROR(IF(AB115>2,OFFSET(B_ML_N!$B$3,AE115,AB115+2),\"-\"),\"-\")","v":"-"},"-",null,null,null,null,null,null,null,null,{"$f":"IF(MATCH(E115,B_ML_N!$L$18:$L$23,0)<5,MATCH(E115,B_ML_N!$L$18:$L$23,0),1)","v":{"$error":"#N/A"}},{"$f":"IFERROR(MATCH(D115,Nr_stad!$U$8:$U$60,0),0)","v":0},0,{"$f":"IF(D115=\"\",\"-\",MATCH(D115,B_ML_N!$B$4:$B$16,0))","v":"-"},{"$f":"IFERROR(OFFSET(B_ML_N!$L$3,AE115,4),1)","v":1},false]
[null,null,null,null,null,null,null,null,null,null,null,null,null,null,0,{"$f":"IFERROR(IF(AB116<=2,OFFSET(B_ML_N!$B$3,AE116,AB116),\"-\"),\"-\")","v":"-"},{"$f":"IFERROR(IF(AB116<=2,OFFSET(B_ML_N!$B$3,AE116,AB116+2),\"-\"),\"-\")","v":"-"},{"$f":"IFERROR(IF(AB116>2,OFFSET(B_ML_N!$B$3,AE116,AB116+2),\"-\"),\"-\")","v":"-"},"-",null,null,null,null,null,null,null,null,{"$f":"IF(MATCH(E116,B_ML_N!$L$18:$L$23,0)<5,MATCH(E116,B_ML_N!$L$18:$L$23,0),1)","v":{"$error":"#N/A"}},{"$f":"IFERROR(MATCH(D116,Nr_stad!$U$8:$U$60,0),0)","v":0},0,{"$f":"IF(D116=\"\",\"-\",MATCH(D116,B_ML_N!$B$4:$B$16,0))","v":"-"},{"$f":"IFERROR(OFFSET(B_ML_N!$L$3,AE116,4),1)","v":1},false]
[null,null,null,null,null,null,null,null,null,null,null,null,null,null,0,{"$f":"IFERROR(IF(AB117<=2,OFFSET(B_ML_N!$B$3,AE117,AB117),\"-\"),\"-\")","v":"-"},{"$f":"IFERROR(IF(AB117<=2,OFFSET(B_ML_N!$B$3,AE117,AB117+2),\"-\"),\"-\")","v":"-"},{"$f":"IFERROR(IF(AB117>2,OFFSET(B_ML_N!$B$3,AE117,AB117+2),\"-\"),\"-\")","v":"-"},"-",null,null,null,null,null,null,null,null,{"$f":"IF(MATCH(E117,B_ML_N!$L$18:$L$23,0)<5,MATCH(E117,B_ML_N!$L$18:$L$23,0),1)","v":{"$error":"#N/A"}},{"$f":"IFERROR(MATCH(D117,Nr_stad!$U$8:$U$60,0),0)","v":0},0,{"$f":"IF(D117=\"\",\"-\",MATCH(D117,B_ML_N!$B$4:$B$16,0))","v":"-"},{"$f":"IFERROR(OFFSET(B_ML_N!$L$3,AE117,4),1)","v":1},false]
[null,null,null,null,null,null,null,null,null,null,null,null,null,null,0,{"$f":"IFERROR(IF(AB118<=2,OFFSET(B_ML_N!$B$3,AE118,AB118),\"-\"),\"-\")","v":"-"},{"$f":"IFERROR(IF(AB118<=2,OFFSET(B_ML_N!$B$3,AE118,AB118+2),\"-\"),\"-\")","v":"-"},{"$f":"IFERROR(IF(AB118>2,OFFSET(B_ML_N!$B$3,AE118,AB118+2),\"-\"),\"-\")","v":"-"},"-",null,null,null,null,null,null,null,null,{"$f":"IF(MATCH(E118,B_ML_N!$L$18:$L$23,0)<5,MATCH(E118,B_ML_N!$L$18:$L$23,0),1)","v":{"$error":"#N/A"}},{"$f":"IFERROR(MATCH(D118,Nr_stad!$U$8:$U$60,0),0)","v":0},0,{"$f":"IF(D118=\"\",\"-\",MATCH(D118,B_ML_N!$B$4:$B$16,0))","v":"-"},{"$f":"IFERROR(OFFSET(B_ML_N!$L$3,AE118,4),1)","v":1},false]
[null,null,null,null,null,null,null,null,null,null,null,null,null,null,0,{"$f":"IFERROR(IF(AB119<=2,OFFSET(B_ML_N!$B$3,AE119,AB119),\"-\"),\"-\")","v":"-"},{"$f":"IFERROR(IF(AB119<=2,OFFSET(B_ML_N!$B$3,AE119,AB119+2),\"-\"),\"-\")","v":"-"},{"$f":"IFERROR(IF(AB119>2,OFFSET(B_ML_N!$B$3,AE119,AB119+2),\"-\"),\"-\")","v":"-"},"-",null,null,null,null,null,null,null,null,{"$f":"IF(MATCH(E119,B_ML_N!$L$18:$L$23,0)<5,MATCH(E119,B_ML_N!$L$18:$L$23,0),1)","v":{"$error":"#N/A"}},{"$f":"IFERROR(MATCH(D119,Nr_stad!$U$8:$U$60,0),0)","v":0},0,{"$f":"IF(D119=\"\",\"-\",MATCH(D119,B_ML_N!$B$4:$B$16,0))","v":"-"},{"$f":"IFERROR(OFFSET(B_ML_N!$L$3,AE119,4),1)","v":1},false]
[null,null,null,null,null,null,null,null,null,null,null,null,null,null,0,{"$f":"IFERROR(IF(AB120<=2,OFFSET(B_ML_N!$B$3,AE120,AB120),\"-\"),\"-\")","v":"-"},{"$f":"IFERROR(IF(AB120<=2,OFFSET(B_ML_N!$B$3,AE120,AB120+2),\"-\"),\"-\")","v":"-"},{"$f":"IFERROR(IF(AB120>2,OFFSET(B_ML_N!$B$3,AE120,AB120+2),\"-\"),\"-\")","v":"-"},"-",null,null,null,null,null,null,null,null,{"$f":"IF(MATCH(E120,B_ML_N!$L$18:$L$23,0)<5,MATCH(E120,B_ML_N!$L$18:$L$23,0),1)","v":{"$error":"#N/A"}},{"$f":"IFERROR(MATCH(D120,Nr_stad!$U$8:$U$60,0),0)","v":0},0,{"$f":"IF(D120=\"\",\"-\",MATCH(D120,B_ML_N!$B$4:$B$16,0))","v":"-"},{"$f":"IFERROR(OFFSET(B_ML_N!$L$3,AE120,4),1)","v":1},false]
[null,null,null,null,null,null,null,null,null,null,null,null,null,null,0,{"$f":"IFERROR(IF(AB121<=2,OFFSET(B_ML_N!$B$3,AE121,AB121),\"-\"),\"-\")","v":"-"},{"$f":"IFERROR(IF(AB121<=2,OFFSET(B_ML_N!$B$3,AE121,AB121+2),\"-\"),\"-\")","v":"-"},{"$f":"IFERROR(IF(AB121>2,OFFSET(B_ML_N!$B$3,AE121,AB121+2),\"-\"),\"-\")","v":"-"},"-",null,null,null,null,null,null,null,null,{"$f":"IF(MATCH(E121,B_ML_N!$L$18:$L$23,0)<5,MATCH(E121,B_ML_N!$L$18:$L$23,0),1)","v":{"$error":"#N/A"}},{"$f":"IFERROR(MATCH(D121,Nr_stad!$U$8:$U$60,0),0)","v":0},0,{"$f":"IF(D121=\"\",\"-\",MATCH(D121,B_ML_N!$B$4:$B$16,0))","v":"-"},{"$f":"IFERROR(OFFSET(B_ML_N!$L$3,AE121,4),1)","v":1},false]
[null,null,null,null,null,null,null,null,null,null,null,null,null,null,0,{"$f":"IFERROR(IF(AB122<=2,OFFSET(B_ML_N!$B$3,AE122,AB122),\"-\"),\"-\")","v":"-"},{"$f":"IFERROR(IF(AB122<=2,OFFSET(B_ML_N!$B$3,AE122,AB122+2),\"-\"),\"-\")","v":"-"},{"$f":"IFERROR(IF(AB122>2,OFFSET(B_ML_N!$B$3,AE122,AB122+2),\"-\"),\"-\")","v":"-"},"-",null,null,null,null,null,null,null,null,{"$f":"IF(MATCH(E122,B_ML_N!$L$18:$L$23,0)<5,MATCH(E122,B_ML_N!$L$18:$L$23,0),1)","v":{"$error":"#N/A"}},{"$f":"IFERROR(MATCH(D122,Nr_stad!$U$8:$U$60,0),0)","v":0},0,{"$f":"IF(D122=\"\",\"-\",MATCH(D122,B_ML_N!$B$4:$B$16,0))","v":"-"},{"$f":"IFERROR(OFFSET(B_ML_N!$L$3,AE122,4),1)","v":1},false]
[null,null,null,"SUMA POWIERZCHNI:",null,null,null,null,null,null,null,null,null,null,{"$f":"SUM(O22:O122)","v":0},"SUMA LICZBY SZT. BYDŁA:",null,null,{"$f":"SUM(S22:S122)","v":0},{"$f":"SUM(T22:T122)","v":0}]
[null,null,null,null,null,null,null,null,null,null,null,null,"SUMA LICZBY LOCH:",null,null,null,null,null,"-"]

{"sheet":"B_ML_N","index":12,"n_rows":22,"n_cols":16,"rows_kept":22,"cut":false,"hidden":true,"merged":[[1,8,1,9]]}
[null,"Dane"]
[null,"Grupa technologiczna","uwięz/pojed","wolno","uwięz/pojed","wolno","wolnostanowiskowy bez wydzielonych legowisk na ściółce","wolnostanowiskowy bez wydzielonych legowisk bez ściółki","kojce pojedyńcze"]
[null,null,"długość","długość","szerokość","szerokość","pow.","pow.","długość - min 1,1 długości od czubka nosa do ogonowej krawędzi guza kulszowego","szerokość - min.wysokość  w kłębie,",null,"Systemy"]
[null,"Buhaje ",2.4,null,1.4,null,9,null,null,null,null,"uwięziowy","wolnostanowiskowy bez wydzielonych legowisk na ściółce",null,null,{"$f":"COUNTA(L4:O4)+1","v":3}]
[null,"Jałówki powyżej 7 m-ca ciąży",1.6,2.1,1.1000000000000001,1.1000000000000001,4.5,null,null,null,null,"uwięziowy","wolnostanowiskowy z wydzielonymi legowiskami","wolnostanowiskowy bez wydzielonych legowisk na ściółce",null,{"$f":"COUNTA(L5:O5)+1","v":4}]
[null,"Jałówki powyżej  19 m-ca życia do 7 m-ca ciąży",1.5,1.9,1,0.9,2.2000000000000002,2,null,null,null,"uwięziowy","wolnostanowiskowy z wydzielonymi legowiskami","wolnostanowiskowy bez wydzielonych legowisk na ściółce","wolnostanowiskowy bez wydzielonych legowisk bez ściółki",5]
[null,"Jałówki powyżej  6 m-ca życia do 19 m-ca życia",1.5,1.9,1,0.9,2.2000000000000002,1.6,null,null,null,"uwięziowy","wolnostanowiskowy z wydzielonymi legowiskami","wolnostanowiskowy bez wydzielonych legowisk na ściółce","wolnostanowiskowy bez wydzielonych legowisk bez ściółki",5]
[null,"Bydło opasowe o masie ciała do 300 kg",1.3,null,0.8,null,1.6,1.3,null,null,null,"uwięziowy","wolnostanowiskowy bez wydzielonych legowisk na ściółce","wolnostanowiskowy bez wydzielonych legowisk bez ściółki",null,4]
[null,"Bydło opasowe o masie ciała > 300 kg",1.45,null,0.95,null,2.2000000000000002,1.8,null,null,null,"uwięziowy","wolnostanowiskowy bez wydzielonych legowisk na ściółce","wolnostanowiskowy bez wydzielonych legowisk bez ściółki",null,4]
[null,"Cielęta do 150 kg",{"$f":"I10","v":0},null,{"$f":"J10","v":0},null,1.5,null,{"$f":"Bydlo_mlecz_inn!I14*1.1","v":0},{"$f":"Bydlo_mlecz_inn!H14","v":0},null,"kojce pojedyncze","wolnostanowiskowy bez wydzielonych legowisk na ściółce",null,null,3]
[null,"Cielęta > 150 kg do 220 kg",{"$f":"I11","v":0},null,{"$f":"J11","v":0},null,1.7,null,{"$f":"Bydlo_mlecz_inn!I15*1.1","v":0},{"$f":"Bydlo_mlecz_inn!H15","v":0},null,"kojce pojedyncze","wolnostanowiskowy bez wydzielonych legowisk na ściółce",null,null,3]
[null,"Cielęta >220 kg",{"$f":"I12","v":0},null,{"$f":"J12","v":0},null,1.8,null,{"$f":"Bydlo_mlecz_inn!I16*1.1","v":0},{"$f":"Bydlo_mlecz_inn!H16","v":0},null,"kojce pojedyncze","wolnostanowiskowy bez wydzielonych legowisk na ściółce",null,null,3]
[null,"Krowy mamki",1.6,2.1,1.1000000000000001,1.1000000000000001,4.5,null,null,null,null,"uwięziowy","wolnostanowiskowy z wydzielonymi legowiskami","wolnostanowiskowy bez wydzielonych legowisk na ściółce",null,{"$f":"COUNTA(L13:O13)+1","v":4}]
[null,"Krowy mamki z cielętami do 150 kg",1.6,2.1,1.1000000000000001,1.1000000000000001,{"$f":"4.5+G10","v":6},null,null,null,null,"uwięziowy","wolnostanowiskowy z wydzielonymi legowiskami","wolnostanowiskowy bez wydzielonych legowisk na ściółce",null,{"$f":"COUNTA(L14:O14)+1","v":4}]
[null,"Krowy mamki z cielętami > 150 kg do 220 kg",1.6,2.1,1.1000000000000001,1.1000000000000001,{"$f":"4.5+G11","v":6.2},null,null,null,null,"uwięziowy","wolnostanowiskowy z wydzielonymi legowiskami","wolnostanowiskowy bez wydzielonych legowisk na ściółce",null,{"$f":"COUNTA(L15:O15)+1","v":4}]
[null,"Krowy mamki z cielętami > 220 kg",1.6,2.1,1.1000000000000001,1.1000000000000001,{"$f":"4.5+G12","v":6.3},null,null,null,null,"uwięziowy","wolnostanowiskowy z wydzielonymi legowiskami","wolnostanowiskowy bez wydzielonych legowisk na ściółce",null,{"$f":"COUNTA(L16:O16)+1","v":4}]
[null,null,null,null,null,null,null,null,null,null,null,"Lista"]
[null,null,null,null,null,null,null,null,null,null,1,"uwięziowy"]
[null,null,null,null,null,null,null,null,null,null,2,"wolnostanowiskowy z wydzielonymi legowiskami"]
[null,null,null,null,null,null,null,null,null,null,3,"wolnostanowiskowy bez wydzielonych legowisk na ściółce"]
[null,null,null,null,null,null,null,null,null,null,4,"wolnostanowiskowy bez wydzielonych legowisk bez ściółki"]
[null,null,null,null,null,null,null,null,null,null,5,"kojce pojedyncze"]

{"sheet":"Krowy_MIĘSNE_powierzch","index":13,"n_rows":88,"n_cols":25,"rows_kept":88,"cut":false,"hidden":false,"merged":[[37,3,37,11],[2,2,2,14],[6,3,6,4],[9,4,9,12],[10,4,10,12],[11,4,11,12],[23,3,32,13],[12,4,12,12],[13,3,13,12],[16,3,16,5],[14,7,14,8],[14,3,15,5],[15,7,15,8],[16,7,16,8],[17,3,17,5],[17,7,17,8],[18,3,18,5],[19,7,19,8],[20,3,20,5],[20,7,20,8],[18,7,18,8],[19,3,19,5],[90,8,90,10],[90,12,90,14],[33,4,33,5],[41,3,41,4],[82,3,82,4],[83,3,83,4],[84,3,84,4],[85,3,85,4],[86,3,86,4],[87,3,87,6],[87,8,87,11],[38,12,39,12],[38,5,38,7],[38,8,38,11],[34,4,34,6],[34,8,34,10],[42,3,42,4],[43,3,43,4],[44,3,44,4],[45,3,45,4],[46,3,46,4],[47,3,47,4],[48,3,48,4],[49,3,49,4],[50,3,50,4],[51,3,51,4],[58,3,58,4],[59,3,59,4],[60,3,60,4],[61,3,61,4],[52,3,52,4],[53,3,53,4],[54,3,54,4],[55,3,55,4],[56,3,56,4],[81,3,81,4],[72,3,72,4],[73,3,73,4],[74,3,74,4],[75,3,75,4],[76,3,76,4],[38,3,39,4],[77,3,77,4],[78,3,78,4],[79,3,79,4],[80,3,80,4],[67,3,67,4],[68,3,68,4],[69,3,69,4],[70,3,70,4],[71,3,71,4],[62,3,62,4],[63,3,63,4],[64,3,64,4],[65,3,65,4],[66,3,66,4],[57,3,57,4]]}
[null,null,null,null,null,null,null,null,null,null,null,null,null,"POWRÓT",null,null,null,null,null,null,null,null,"UWAGI"]
[]
[null,null,"II. Część szczegółowa  "]
[null,null,"II.2.","Pakiet 2.","Dobrostan krów:"]
[null,null,"II.2.3.","wariant 2.3.","Dobrostan krów mamek"]
[]
[]
[]
[null,null,"II.2.3.1.","Informacja o stadzie krów mięsnych"]
[]
[null,null,null,null,null,null,null,null,null,null,null,null,null,null,null,null,null,null,false,"☒","☐"]
[]
[null,null,null,{"$f":"IF(S13=TRUE,T13,U13)","v":"☐"},"Do planu poprawy dobrostanu zwierząt dołączono szkic gospodarstwa rolnego ze wskazanymi działkami ewidencyjnymi, na których  położone są powierzchnie zewnętrzne, na których przebywa bydło w typie użytkowym mięsnym lub w typie kombinowanym o zgłoszonym mięsnym kierunku użytkowania, ze wskazaniem powierzchni, na których utrzymywane są zwierzęta kilku rolników",null,null,null,null,null,null,null,null,null,null,null,null,null,false,"☒","☐"]
[null,null,null,"Struktura stada bydła w typie użytkowym mięsnym lub w typie kombinowanym o zgłoszonym mięsnym kierunku użytkowania, z podziałem na kategorie technologiczne – na dzień sporządzania planu poprawy dobrostanu zwierząt"]
[null,null,null,"Kategoria technologiczna",null,null,"Liczba","Struktura"]
[null,null,null,null,null,null,"szt","%"]
[null,null,null,"Cielęta",null,null,null,{"$f":"IFERROR(G17/$G$21,\"-\")","v":"-"}]
[null,null,null,"Jałówki",null,null,null,{"$f":"IFERROR(G18/$G$21,\"-\")","v":"-"}]
[null,null,null,"Opasy do 300 kg",null,null,null,{"$f":"IFERROR(G19/$G$21,\"-\")","v":"-"}]
[null,null,null,"Krowy",null,null,null,{"$f":"IFERROR(G20/$G$21,\"-\")","v":"-"}]
[null,null,null,"RAZEM:",null,null,{"$f":"SUM(G17:G20)","v":0},{"$f":"SUM(H17:I20)","v":0}]
[]
[null,null,"II.2.3.2.","Zapewnienie wypasu:"]
[null,null,null,"Wypasanie przez minimum 140 dni stada bydła w typie użytkowym mięsnym (krów mamek, cieląt, jałówek i opasów do 300 kg)  lub kombinowanym zgłoszonym jako mięsny kierunek użytkowania lub w typie kombinowanym o zgłoszonym mięsnym kierunku użytkowania, w okresie od dnia 1 kwietnia do dnia 15 października (bez uwięzi)"]
[]
[]
[]
[]
[]
[]
[]
[]
[null,null,null,null,null,null,null,null,null,null,null,null,null,null,null,null,null,null,null,null,{"$f":"I33-F33","v":0},"2019-04-15",null,140,{"$f":"X33-U33","v":140}]
[]
[null,null,null,null,"przez co najmniej",null,null,null,"godzin dziennie",null,null,null,null,null,null,null,null,null,null,null,null,null,null,6]
[]
[]
[null,null,"II.2.3.3.","Zapewnienie, w okresie od dnia 16 października  do dnia 14 marca, dostępu do zewnętrznej powierzchni bytowej (pastwiska, wybiegi lub okólniki) dla krów mamek, cieląt, jałówek i opasów o masie ciała do 300 kg w typie użytkowym mięsnym lub kombinowanym zgłoszonym jako mięsny kierunek użytkowania  "]
[null,null,null," Numer siedziby stada albo Oznaczenie powierzchni zewnętrznych",null," Powierzchnia zewnętrzna",null,null,"Kategoria technologiczna",null,null,null,"Wymagana minimalna powierzchnia"]
[null,null,null,null,null,"Dlugość","Szerokość","Pow.","Cielęta","Jałówki","Opasy do 300 kg ","Krowy",null,null,null,null,null,"nr stad","licz"]
[null,null,null,null,null,"m","m","m2","szt","szt","szt","sz","m2"]
[null,null,null,null,null,null,null,{"$f":"IFERROR(F42*G42,\"-\")","v":0},null,null,null,null,{"$f":"I42*N_W_2_3!$I$12+Krowy_MIĘSNE_powierzch!J42*N_W_2_3!$I$13+Krowy_MIĘSNE_powierzch!K42*N_W_2_3!$I$14+Krowy_MIĘSNE_powierzch!L42*N_W_2_3!$I$15","v":0},null,null,null,null,{"$f":"IFERROR(MATCH(D42,Nr_stad!$U$8:$U$60,0),0)","v":0},{"$f":"SUM(F42:M42)+R42","v":0}]
[null,null,null,null,null,null,null,0,null,null,null,null,{"$f":"I43*N_W_2_3!$I$12+Krowy_MIĘSNE_powierzch!J43*N_W_2_3!$I$13+Krowy_MIĘSNE_powierzch!K43*N_W_2_3!$I$14+Krowy_MIĘSNE_powierzch!L43*N_W_2_3!$I$15","v":0},null,null,null,null,{"$f":"IFERROR(MATCH(D43,Nr_stad!$U$8:$U$60,0),0)","v":0},{"$f":"SUM(F43:M43)+R43","v":0}]
[null,null,null,null,null,null,null,0,null,null,null,null,{"$f":"I44*N_W_2_3!$I$12+Krowy_MIĘSNE_powierzch!J44*N_W_2_3!$I$13+Krowy_MIĘSNE_powierzch!K44*N_W_2_3!$I$14+Krowy_MIĘSNE_powierzch!L44*N_W_2_3!$I$15","v":0},null,null,null,null,{"$f":"IFERROR(MATCH(D44,Nr_stad!$U$8:$U$60,0),0)","v":0},0]
[null,null,null,null,null,null,null,0,null,null,null,null,{"$f":"I45*N_W_2_3!$I$12+Krowy_MIĘSNE_powierzch!J45*N_W_2_3!$I$13+Krowy_MIĘSNE_powierzch!K45*N_W_2_3!$I$14+Krowy_MIĘSNE_powierzch!L45*N_W_2_3!$I$15","v":0},null,null,null,null,{"$f":"IFERROR(MATCH(D45,Nr_stad!$U$8:$U$60,0),0)","v":0},0]
[null,null,null,null,null,null,null,{"$f":"IFERROR(F46*G46,\"-\")","v":0},null,null,null,null,{"$f":"I46*N_W_2_3!$I$12+Krowy_MIĘSNE_powierzch!J46*N_W_2_3!$I$13+Krowy_MIĘSNE_powierzch!K46*N_W_2_3!$I$14+Krowy_MIĘSNE_powierzch!L46*N_W_2_3!$I$15","v":0},null,null,null,null,{"$f":"IFERROR(MATCH(D46,Nr_stad!$U$8:$U$60,0),0)","v":0},0]
[null,null,null,null,null,null,null,0,null,null,null,null,{"$f":"I47*N_W_2_3!$I$12+Krowy_MIĘSNE_powierzch!J47*N_W_2_3!$I$13+Krowy_MIĘSNE_powierzch!K47*N_W_2_3!$I$14+Krowy_MIĘSNE_powierzch!L47*N_W_2_3!$I$15","v":0},null,null,null,null,{"$f":"IFERROR(MATCH(D47,Nr_stad!$U$8:$U$60,0),0)","v":0},0]
[null,null,null,null,null,null,null,0,null,null,null,null,{"$f":"I48*N_W_2_3!$I$12+Krowy_MIĘSNE_powierzch!J48*N_W_2_3!$I$13+Krowy_MIĘSNE_powierzch!K48*N_W_2_3!$I$14+Krowy_MIĘSNE_powierzch!L48*N_W_2_3!$I$15","v":0},null,null,null,null,{"$f":"IFERROR(MATCH(D48,Nr_stad!$U$8:$U$60,0),0)","v":0},0]
[null,null,null,null,null,null,null,0,null,null,null,null,{"$f":"I49*N_W_2_3!$I$12+Krowy_MIĘSNE_powierzch!J49*N_W_2_3!$I$13+Krowy_MIĘSNE_powierzch!K49*N_W_2_3!$I$14+Krowy_MIĘSNE_powierzch!L49*N_W_2_3!$I$15","v":0},null,null,null,null,{"$f":"IFERROR(MATCH(D49,Nr_stad!$U$8:$U$60,0),0)","v":0},0]
[null,null,null,null,null,null,null,0,null,null,null,null,{"$f":"I50*N_W_2_3!$I$12+Krowy_MIĘSNE_powierzch!J50*N_W_2_3!$I$13+Krowy_MIĘSNE_powierzch!K50*N_W_2_3!$I$14+Krowy_MIĘSNE_powierzch!L50*N_W_2_3!$I$15","v":0},null,null,null,null,{"$f":"IFERROR(MATCH(D50,Nr_stad!$U$8:$U$60,0),0)","v":0},0]
[null,null,null,null,null,null,null,0,null,null,null,null,{"$f":"I51*N_W_2_3!$I$12+Krowy_MIĘSNE_powierzch!J51*N_W_2_3!$I$13+Krowy_MIĘSNE_powierzch!K51*N_W_2_3!$I$14+Krowy_MIĘSNE_powierzch!L51*N_W_2_3!$I$15","v":0},null,null,null,null,{"$f":"IFERROR(MATCH(D51,Nr_stad!$U$8:$U$60,0),0)","v":0},0]
[null,null,null,null,null,null,null,0,null,null,null,null,{"$f":"I52*N_W_2_3!$I$12+Krowy_MIĘSNE_powierzch!J52*N_W_2_3!$I$13+Krowy_MIĘSNE_powierzch!K52*N_W_2_3!$I$14+Krowy_MIĘSNE_powierzch!L52*N_W_2_3!$I$15","v":0},null,null,null,null,{"$f":"IFERROR(MATCH(D52,Nr_stad!$U$8:$U$60,0),0)","v":0},0]
[null,null,null,null,null,null,null,0,null,null,null,null,{"$f":"I53*N_W_2_3!$I$12+Krowy_MIĘSNE_powierzch!J53*N_W_2_3!$I$13+Krowy_MIĘSNE_powierzch!K53*N_W_2_3!$I$14+Krowy_MIĘSNE_powierzch!L53*N_W_2_3!$I$15","v":0},null,null,null,null,{"$f":"IFERROR(MATCH(D53,Nr_stad!$U$8:$U$60,0),0)","v":0},0]
[null,null,null,null,null,null,null,0,null,null,null,null,{"$f":"I54*N_W_2_3!$I$12+Krowy_MIĘSNE_powierzch!J54*N_W_2_3!$I$13+Krowy_MIĘSNE_powierzch!K54*N_W_2_3!$I$14+Krowy_MIĘSNE_powierzch!L54*N_W_2_3!$I$15","v":0},null,null,null,null,{"$f":"IFERROR(MATCH(D54,Nr_stad!$U$8:$U$60,0),0)","v":0},0]
[null,null,null,null,null,null,null,0,null,null,null,null,{"$f":"I55*N_W_2_3!$I$12+Krowy_MIĘSNE_powierzch!J55*N_W_2_3!$I$13+Krowy_MIĘSNE_powierzch!K55*N_W_2_3!$I$14+Krowy_MIĘSNE_powierzch!L55*N_W_2_3!$I$15","v":0},null,null,null,null,{"$f":"IFERROR(MATCH(D55,Nr_stad!$U$8:$U$60,0),0)","v":0},0]
[null,null,null,null,null,null,null,0,null,null,null,null,{"$f":"I56*N_W_2_3!$I$12+Krowy_MIĘSNE_powierzch!J56*N_W_2_3!$I$13+Krowy_MIĘSNE_powierzch!K56*N_W_2_3!$I$14+Krowy_MIĘSNE_powierzch!L56*N_W_2_3!$I$15","v":0},null,null,null,null,{"$f":"IFERROR(MATCH(D56,Nr_stad!$U$8:$U$60,0),0)","v":0},0]
[null,null,null,null,null,null,null,0,null,null,null,null,{"$f":"I57*N_W_2_3!$I$12+Krowy_MIĘSNE_powierzch!J57*N_W_2_3!$I$13+Krowy_MIĘSNE_powierzch!K57*N_W_2_3!$I$14+Krowy_MIĘSNE_powierzch!L57*N_W_2_3!$I$15","v":0},null,null,null,null,{"$f":"IFERROR(MATCH(D57,Nr_stad!$U$8:$U$60,0),0)","v":0},0]
[null,null,null,null,null,null,null,0,null,null,null,null,{"$f":"I58*N_W_2_3!$I$12+Krowy_MIĘSNE_powierzch!J58*N_W_2_3!$I$13+Krowy_MIĘSNE_powierzch!K58*N_W_2_3!$I$14+Krowy_MIĘSNE_powierzch!L58*N_W_2_3!$I$15","v":0},null,null,null,null,{"$f":"IFERROR(MATCH(D58,Nr_stad!$U$8:$U$60,0),0)","v":0},0]
[null,null,null,null,null,null,null,0,null,null,null,null,{"$f":"I59*N_W_2_3!$I$12+Krowy_MIĘSNE_powierzch!J59*N_W_2_3!$I$13+Krowy_MIĘSNE_powierzch!K59*N_W_2_3!$I$14+Krowy_MIĘSNE_powierzch!L59*N_W_2_3!$I$15","v":0},null,null,null,null,{"$f":"IFERROR(MATCH(D59,Nr_stad!$U$8:$U$60,0),0)","v":0},0]
[null,null,null,null,null,null,null,0,null,null,null,null,{"$f":"I60*N_W_2_3!$I$12+Krowy_MIĘSNE_powierzch!J60*N_W_2_3!$I$13+Krowy_MIĘSNE_powierzch!K60*N_W_2_3!$I$14+Krowy_MIĘSNE_powierzch!L60*N_W_2_3!$I$15","v":0},null,null,null,null,{"$f":"IFERROR(MATCH(D60,Nr_stad!$U$8:$U$60,0),0)","v":0},0]
[null,null,null,null,null,null,null,0,null,null,null,null,{"$f":"I61*N_W_2_3!$I$12+Krowy_MIĘSNE_powierzch!J61*N_W_2_3!$I$13+Krowy_MIĘSNE_powierzch!K61*N_W_2_3!$I$14+Krowy_MIĘSNE_powierzch!L61*N_W_2_3!$I$15","v":0},null,null,null,null,{"$f":"IFERROR(MATCH(D61,Nr_stad!$U$8:$U$60,0),0)","v":0},0]
[null,null,null,null,null,null,null,0,null,null,null,null,{"$f":"I62*N_W_2_3!$I$12+Krowy_MIĘSNE_powierzch!J62*N_W_2_3!$I$13+Krowy_MIĘSNE_powierzch!K62*N_W_2_3!$I$14+Krowy_MIĘSNE_powierzch!L62*N_W_2_3!$I$15","v":0},null,null,null,null,{"$f":"IFERROR(MATCH(D62,Nr_stad!$U$8:$U$60,0),0)","v":0},0]
[null,null,null,null,null,null,null,0,null,null,null,null,{"$f":"I63*N_W_2_3!$I$12+Krowy_MIĘSNE_powierzch!J63*N_W_2_3!$I$13+Krowy_MIĘSNE_powierzch!K63*N_W_2_3!$I$14+Krowy_MIĘSNE_powierzch!L63*N_W_2_3!$I$15","v":0},null,null,null,null,{"$f":"IFERROR(MATCH(D63,Nr_stad!$U$8:$U$60,0),0)","v":0},0]
[null,null,null,null,null,null,null,0,null,null,null,null,{"$f":"I64*N_W_2_3!$I$12+Krowy_MIĘSNE_powierzch!J64*N_W_2_3!$I$13+Krowy_MIĘSNE_powierzch!K64*N_W_2_3!$I$14+Krowy_MIĘSNE_powierzch!L64*N_W_2_3!$I$15","v":0},null,null,null,null,{"$f":"IFERROR(MATCH(D64,Nr_stad!$U$8:$U$60,0),0)","v":0},0]
[null,null,null,null,null,null,null,0,null,null,null,null,{"$f":"I65*N_W_2_3!$I$12+Krowy_MIĘSNE_powierzch!J65*N_W_2_3!$I$13+Krowy_MIĘSNE_powierzch!K65*N_W_2_3!$I$14+Krowy_MIĘSNE_powierzch!L65*N_W_2_3!$I$15","v":0},null,null,null,null,{"$f":"IFERROR(MATCH(D65,Nr_stad!$U$8:$U$60,0),0)","v":0},0]
[null,null,null,null,null,null,null,0,null,null,null,null,{"$f":"I66*N_W_2_3!$I$12+Krowy_MIĘSNE_powierzch!J66*N_W_2_3!$I$13+Krowy_MIĘSNE_powierzch!K66*N_W_2_3!$I$14+Krowy_MIĘSNE_powierzch!L66*N_W_2_3!$I$15","v":0},null,null,null,null,{"$f":"IFERROR(MATCH(D66,Nr_stad!$U$8:$U$60,0),0)","v":0},0]
[null,null,null,null,null,null,null,0,null,null,null,null,{"$f":"I67*N_W_2_3!$I$12+Krowy_MIĘSNE_powierzch!J67*N_W_2_3!$I$13+Krowy_MIĘSNE_powierzch!K67*N_W_2_3!$I$14+Krowy_MIĘSNE_powierzch!L67*N_W_2_3!$I$15","v":0},null,null,null,null,{"$f":"IFERROR(MATCH(D67,Nr_stad!$U$8:$U$60,0),0)","v":0},0]
[null,null,null,null,null,null,null,0,null,null,null,null,{"$f":"I68*N_W_2_3!$I$12+Krowy_MIĘSNE_powierzch!J68*N_W_2_3!$I$13+Krowy_MIĘSNE_powierzch!K68*N_W_2_3!$I$14+Krowy_MIĘSNE_powierzch!L68*N_W_2_3!$I$15","v":0},null,null,null,null,{"$f":"IFERROR(MATCH(D68,Nr_stad!$U$8:$U$60,0),0)","v":0},0]
[null,null,null,null,null,null,null,0,null,null,null,null,{"$f":"I69*N_W_2_3!$I$12+Krowy_MIĘSNE_powierzch!J69*N_W_2_3!$I$13+Krowy_MIĘSNE_powierzch!K69*N_W_2_3!$I$14+Krowy_MIĘSNE_powierzch!L69*N_W_2_3!$I$15","v":0},null,null,null,null,{"$f":"IFERROR(MATCH(D69,Nr_stad!$U$8:$U$60,0),0)","v":0},0]
[null,null,null,null,null,null,null,0,null,null,null,null,{"$f":"I70*N_W_2_3!$I$12+Krowy_MIĘSNE_powierzch!J70*N_W_2_3!$I$13+Krowy_MIĘSNE_powierzch!K70*N_W_2_3!$I$14+Krowy_MIĘSNE_powierzch!L70*N_W_2_3!$I$15","v":0},null,null,null,null,{"$f":"IFERROR(MATCH(D70,Nr_stad!$U$8:$U$60,0),0)","v":0},0]
[null,null,null,null,null,null,null,0,null,null,null,null,{"$f":"I71*N_W_2_3!$I$12+Krowy_MIĘSNE_powierzch!J71*N_W_2_3!$I$13+Krowy_MIĘSNE_powierzch!K71*N_W_2_3!$I$14+Krowy_MIĘSNE_powierzch!L71*N_W_2_3!$I$15","v":0},null,null,null,null,{"$f":"IFERROR(MATCH(D71,Nr_stad!$U$8:$U$60,0),0)","v":0},0]
[null,null,null,null,null,null,null,0,null,null,null,null,{"$f":"I72*N_W_2_3!$I$12+Krowy_MIĘSNE_powierzch!J72*N_W_2_3!$I$13+Krowy_MIĘSNE_powierzch!K72*N_W_2_3!$I$14+Krowy_MIĘSNE_powierzch!L72*N_W_2_3!$I$15","v":0},null,null,null,null,{"$f":"IFERROR(MATCH(D72,Nr_stad!$U$8:$U$60,0),0)","v":0},0]
[null,null,null,null,null,null,null,0,null,null,null,null,{"$f":"I73*N_W_2_3!$I$12+Krowy_MIĘSNE_powierzch!J73*N_W_2_3!$I$13+Krowy_MIĘSNE_powierzch!K73*N_W_2_3!$I$14+Krowy_MIĘSNE_powierzch!L73*N_W_2_3!$I$15","v":0},null,null,null,null,{"$f":"IFERROR(MATCH(D73,Nr_stad!$U$8:$U$60,0),0)","v":0},0]
[null,null,null,null,null,null,null,0,null,null,null,null,{"$f":"I74*N_W_2_3!$I$12+Krowy_MIĘSNE_powierzch!J74*N_W_2_3!$I$13+Krowy_MIĘSNE_powierzch!K74*N_W_2_3!$I$14+Krowy_MIĘSNE_powierzch!L74*N_W_2_3!$I$15","v":0},null,null,null,null,{"$f":"IFERROR(MATCH(D74,Nr_stad!$U$8:$U$60,0),0)","v":0},0]
[null,null,null,null,null,null,null,0,null,null,null,null,{"$f":"I75*N_W_2_3!$I$12+Krowy_MIĘSNE_powierzch!J75*N_W_2_3!$I$13+Krowy_MIĘSNE_powierzch!K75*N_W_2_3!$I$14+Krowy_MIĘSNE_powierzch!L75*N_W_2_3!$I$15","v":0},null,null,null,null,{"$f":"IFERROR(MATCH(D75,Nr_stad!$U$8:$U$60,0),0)","v":0},0]
[null,null,null,null,null,null,null,0,null,null,null,null,{"$f":"I76*N_W_2_3!$I$12+Krowy_MIĘSNE_powierzch!J76*N_W_2_3!$I$13+Krowy_MIĘSNE_powierzch!K76*N_W_2_3!$I$14+Krowy_MIĘSNE_powierzch!L76*N_W_2_3!$I$15","v":0},null,null,null,null,{"$f":"IFERROR(MATCH(D76,Nr_stad!$U$8:$U$60,0),0)","v":0},0]
[null,null,null,null,null,null,null,0,null,null,null,null,{"$f":"I77*N_W_2_3!$I$12+Krowy_MIĘSNE_powierzch!J77*N_W_2_3!$I$13+Krowy_MIĘSNE_powierzch!K77*N_W_2_3!$I$14+Krowy_MIĘSNE_powierzch!L77*N_W_2_3!$I$15","v":0},null,null,null,null,{"$f":"IFERROR(MATCH(D77,Nr_stad!$U$8:$U$60,0),0)","v":0},0]
[null,null,null,null,null,null,null,0,null,null,null,null,{"$f":"I78*N_W_2_3!$I$12+Krowy_MIĘSNE_powierzch!J78*N_W_2_3!$I$13+Krowy_MIĘSNE_powierzch!K78*N_W_2_3!$I$14+Krowy_MIĘSNE_powierzch!L78*N_W_2_3!$I$15","v":0},null,null,null,null,{"$f":"IFERROR(MATCH(D78,Nr_stad!$U$8:$U$60,0),0)","v":0},0]
[null,null,null,null,null,null,null,0,null,null,null,null,{"$f":"I79*N_W_2_3!$I$12+Krowy_MIĘSNE_powierzch!J79*N_W_2_3!$I$13+Krowy_MIĘSNE_powierzch!K79*N_W_2_3!$I$14+Krowy_MIĘSNE_powierzch!L79*N_W_2_3!$I$15","v":0},null,null,null,null,{"$f":"IFERROR(MATCH(D79,Nr_stad!$U$8:$U$60,0),0)","v":0},0]
[null,null,null,null,null,null,null,0,null,null,null,null,{"$f":"I80*N_W_2_3!$I$12+Krowy_MIĘSNE_powierzch!J80*N_W_2_3!$I$13+Krowy_MIĘSNE_powierzch!K80*N_W_2_3!$I$14+Krowy_MIĘSNE_powierzch!L80*N_W_2_3!$I$15","v":0},null,null,null,null,{"$f":"IFERROR(MATCH(D80,Nr_stad!$U$8:$U$60,0),0)","v":0},0]
[null,null,null,null,null,null,null,0,null,null,null,null,{"$f":"I81*N_W_2_3!$I$12+Krowy_MIĘSNE_powierzch!J81*N_W_2_3!$I$13+Krowy_MIĘSNE_powierzch!K81*N_W_2_3!$I$14+Krowy_MIĘSNE_powierzch!L81*N_W_2_3!$I$15","v":0},null,null,null,null,{"$f":"IFERROR(MATCH(D81,Nr_stad!$U$8:$U$60,0),0)","v":0},0]
[null,null,null,null,null,null,null,0,null,null,null,null,{"$f":"I82*N_W_2_3!$I$12+Krowy_MIĘSNE_powierzch!J82*N_W_2_3!$I$13+Krowy_MIĘSNE_powierzch!K82*N_W_2_3!$I$14+Krowy_MIĘSNE_powierzch!L82*N_W_2_3!$I$15","v":0},null,null,null,null,{"$f":"IFERROR(MATCH(D82,Nr_stad!$U$8:$U$60,0),0)","v":0},0]
[null,null,null,null,null,null,null,0,null,null,null,null,{"$f":"I83*N_W_2_3!$I$12+Krowy_MIĘSNE_powierzch!J83*N_W_2_3!$I$13+Krowy_MIĘSNE_powierzch!K83*N_W_2_3!$I$14+Krowy_MIĘSNE_powierzch!L83*N_W_2_3!$I$15","v":0},null,null,null,null,{"$f":"IFERROR(MATCH(D83,Nr_stad!$U$8:$U$60,0),0)","v":0},0]
[null,null,null,null,null,null,null,0,null,null,null,null,{"$f":"I84*N_W_2_3!$I$12+Krowy_MIĘSNE_powierzch!J84*N_W_2_3!$I$13+Krowy_MIĘSNE_powierzch!K84*N_W_2_3!$I$14+Krowy_MIĘSNE_powierzch!L84*N_W_2_3!$I$15","v":0},null,null,null,null,{"$f":"IFERROR(MATCH(D84,Nr_stad!$U$8:$U$60,0),0)","v":0},0]
[null,null,null,null,null,null,null,0,null,null,null,null,{"$f":"I85*N_W_2_3!$I$12+Krowy_MIĘSNE_powierzch!J85*N_W_2_3!$I$13+Krowy_MIĘSNE_powierzch!K85*N_W_2_3!$I$14+Krowy_MIĘSNE_powierzch!L85*N_W_2_3!$I$15","v":0},null,null,null,null,{"$f":"IFERROR(MATCH(D85,Nr_stad!$U$8:$U$60,0),0)","v":0},0]
[null,null,null,null,null,null,null,0,null,null,null,null,{"$f":"I86*N_W_2_3!$I$12+Krowy_MIĘSNE_powierzch!J86*N_W_2_3!$I$13+Krowy_MIĘSNE_powierzch!K86*N_W_2_3!$I$14+Krowy_MIĘSNE_powierzch!L86*N_W_2_3!$I$15","v":0},null,null,null,null,{"$f":"IFERROR(MATCH(D86,Nr_stad!$U$8:$U$60,0),0)","v":0},0]
[null,null,null,null,null,null,null,0,null,null,null,null,{"$f":"I87*N_W_2_3!$I$12+Krowy_MIĘSNE_powierzch!J87*N_W_2_3!$I$13+Krowy_MIĘSNE_powierzch!K87*N_W_2_3!$I$14+Krowy_MIĘSNE_powierzch!L87*N_W_2_3!$I$15","v":0},null,null,null,null,{"$f":"IFERROR(MATCH(D87,Nr_stad!$U$8:$U$60,0),0)","v":0},0]
[null,null,null,"RAZEM:",null,null,null,{"$f":"SUM(H42:H87)","v":0},"RAZEM:",null,null,null,{"$f":"SUM(M42:M87)","v":0},null,null,null,null,{"$f":"IFERROR(MATCH(D88,Nr_stad!$U$8:$U$60,0),0)","v":0},0]

{"sheet":"N_W_1_1","index":14,"n_rows":16,"n_cols":20,"rows_kept":16,"cut":false,"hidden":true,"merged":[[3,18,3,19],[1,1,1,3],[3,1,3,3],[3,15,4,15],[3,16,4,16],[3,10,4,10],[3,11,4,11]]}
[]
[null,"Wymogi wariantu 1.1. - dla wszystkich loch w gospodarstwie"]
[null,null,"Kwota wsparcia:",301,"zł/szt"]
[null,"Wymogi dodatkowe dla wariantu 1.1. Dobrostan loch – zwiększona powierzchnia w budynkach:",null,null,null,null,null,null,null,null,null,"kat","I","II","III","stałe podłoże\nm2/1 sz.","max pow. otworów odpływowych","Dł.","Szer."]
[null,"Lp.","Powierzchnia bytowa kojca w budynkach inwentarskich wynosi co najmniej wg grup ","kojec\nm2/1 sz.","stałe podłoże\nm2/1 sz.","max pow. otworów odpływowych",null,null,null,null,null,null,0,6,40,null,null,"min","min= <5","min >5"]
[null,1,"lochy w okresie porodu i odchowu prosiąt ssących",4.2,"-",null,1,1,"L",null,"lochy utrzymywane pojedynczo","L",2.7,2.7,2.7,"-","-",2,0.6,0.6]
[null,2,"lochy utrzymywane pojedynczo",2.7,"-",null,1,1,"L",null,"lochy w okresie porodu i odchowu prosiąt ssących","L",4.2,4.2,4.2,"-","-",0,0,0]
[null,3,"lochy luźne utrzymywane grupowo do 5 sztuk w kojcu",3,"-",null,5,1,"L",null,"lochy luźne utrzymywane grupowo","L",3,2.7,2.4,"-","-",0,0,0]
[null,4,"lochy luźne utrzymywane grupowo od 6 do 39 sztuk w kojcu",2.7,"-",null,39,6,"L",null,"lochy prośne utrzymywane grupowo","L",3,2.7,2.4,1.3,0.15,0,2.41,2.81]
[null,5,"lochy luźne utrzymywane grupowo powyżej 39 sztuk w kojcu",2.4,"-",null,1000,40,"L",null,"loszki po pokryciu utrzymywane grupowo",null,2.2000000000000002,2,1.8,0.95,0.15,0,2.41,2.81]
[null,6,"lochy prośne utrzymywane grupowo do 5 sztuk w kojcu",3,1.3,0.15,5,1,"L",null,{"$f":"IF(Lochy!$AD$17=1,\"loszki po pokryciu utrzymywane pojedynczo\",\"\")","v":"loszki po pokryciu utrzymywane pojedynczo"},null,2.7,2.7,2.7,"-","-",2,0.6,0.6]
[null,7,"lochy prośne utrzymywane grupowo od 6 do 39 sztuk w kojcu",2.7,1.3,0.15,39,6,"L"]
[null,8,"lochy prośne utrzymywane grupowo powyżej 39 sztuk w kojcu",2.4,1.3,0.15,1000,40,"L"]
[null,9,"loszki po pokryciu utrzymywane grupowo do 5 sztuk w kojcu",2.2000000000000002,0.95,0.15,5,1]
[null,10,"loszki po pokryciu utrzymywane grupowo od 6 do 39 sztuk w kojcu",2,0.95,0.15,39,6]
[null,11,"loszki po pokryciu utrzymywane grupowo powyżej 39 sztuk w kojcu",1.8,0.95,0.15,1000,40]

{"sheet":"N_W_1_2","index":15,"n_rows":13,"n_cols":15,"rows_kept":13,"cut":false,"hidden":true,"merged":[[2,2,2,5],[2,6,2,7],[2,8,2,9],[3,1,10,1],[3,2,3,9]]}
[null,null,null,null,null,null,null,null,"POWRÓT"]
[null,"Wymogi wariantu 1.2. - dla wszystkich tuczników w gospodarstwie"]
[null,"Lp.",null,null,null,null,"Obowiązujące",null,"Wymogi wariantu 1.2. "]
[null,1,"Powierzchnia kojca w przeliczeniu na 1 szt. , w przypadku utrzymywania grupowowego dla warchlaków i tuczników:"]
[null,null,null,null,"do",10,0.15,"m2",0.18,"m2",10,null,null,null,"warchlaki"]
[null,null,"pow.",10,"do",20,0.2,"m2",0.24,"m2",20,null,null,null,"tuczniki"]
[null,null,"pow.",20,"do",30,0.3,"m2",0.36,"m2",30]
[null,null,"pow.",30,"do",50,0.4,"m2",0.48,"m2",50]
[null,null,"pow.",50,"do",85,0.55000000000000004,"m2",0.66,"m2",85]
[null,null,"pow.",85,"do",110,0.65,"m2",0.78,"m2",110]
[null,null,"pow.",110,null,null,1,"m2",1.2,"m2",110]
[]
[null,null,null,null,null,"Kwota wsparcia:",24,"zł/szt"]

{"sheet":"N_IN_SW","index":16,"n_rows":38,"n_cols":10,"rows_kept":38,"cut":false,"hidden":true,"merged":[]}
[]
[]
[null,"Inne grupy technologiczne świń nie objęte wymogami Pakietu 1. Dobrostan świń"]
[null,null,null,null,null,null,"pw + 10%","pw - 10%"]
[null,null,"masa ","powierzchnia","długość ","szerokość ","szt","szt","podłoże stałe","otwory odpływowe max"]
[null,null,"kg","m2",null,null,null,null,"m2","%"]
[null,"knury - pojedynczo - bez krycia w kojcu",null,6]
[null,"knurów pojedynczo -  krycie w kojcu",null,10]
[null,"lochy w okresie porodu i odchowu prosiąt ssących ",null,3.5]
[null,"knurki i loszki hodowlane -  pojedynczo - o masie ciała od 30 do 110 kg",null,2.7]
[null,"lochy -  pojedynczo wymiary kojca",null,null,2,0.6]
[null,"w przypadku utrzymywania grupowo:"]
[null,"knury",null,6]
[null,"warchlaków i tuczników o masie ciała:"]
[null,"a) do 10 kg - co najmniej 0,15 m2,",10,0.15]
[null,"b) powyżej 10 do 20 kg - co najmniej 0,2 m2,",20,0.2]
[null,"c) powyżej 20 do 30 kg - co najmniej 0,3 m2,",30,0.3]
[null,"d) powyżej 30 do 50 kg - co najmniej 0,4 m2,",50,0.4]
[null,"e) powyżej 50 do 85 kg - co najmniej 0,55 m2,",85,0.55000000000000004]
[null,"f) powyżej 85 do 110 kg - co najmniej 0,65 m2,",110,0.65]
[null,"g) powyżej 110 kg - co najmniej 1 m2;",110,1]
[null,"knurki i loszki hodowlane o masie ciała powyżej 30 do 110 kg",null,1.4]
[null,"lochy luźne",null,2.25]
[null,"lochy prośne",null,2.25,null,null,null,null,1.3,0.15]
[null,"loszki po pokryciu",null,1.64,null,null,5,39,0.95,0.15]
[null,null,null,null,2.41,null,"szt<=5"]
[null,null,null,null,2.81,null,"szt>5"]
[null,"system otwarty"]
[null,"na dorosłą sztukę powinna wynosić co najmniej 15 m2.",null,15]
[]
[]
[]
[null,"knury"]
[null,"lochy "]
[null,"loszki hodowlane "]
[null,"knurki hodowlane "]
[null,"warchlaki"]
[null,"tuczniki"]

{"sheet":"N_W_1_3_i_1_4","index":17,"n_rows":24,"n_cols":13,"rows_kept":24,"cut":false,"hidden":true,"merged":[]}
[null,null,null,null,null,null,null,null,null,null,null,null,"POWRÓT"]
[null,"Wymogi wariantu 1.3 i wariantu 1.4. - dostęp do wybiegu (opcja dodatkowa)"]
[]
[]
[]
[]
[]
[]
[]
[]
[]
[]
[]
[]
[]
[]
[]
[]
[]
[]
[null,"Wariant 1.3. Dobrostan loch - dostęp do wybiegu "]
[null,null,null,null,"Kwota wsparcia:",612,"zł/szt"]
[null,"wariant 1.4. Dobrostan tuczników - dostęp do wybiegu "]
[null,null,null,null,"Kwota wsparcia:",33,"zł/szt"]

{"sheet":"N_W_2_1","index":18,"n_rows":9,"n_cols":10,"rows_kept":9,"cut":false,"hidden":true,"merged":[[5,1,5,6],[6,1,6,6],[3,1,3,6],[7,1,7,7],[8,1,8,2]]}
[null,null,null,null,null,null,null,null,null,"POWRÓT"]
[null,"Wymogi wariantu  2.1. Dobrostan krów mlecznych – wypas"]
[]
[null,"Wypasanie krów mlecznych",null,null,null,null,null,"Liczba"]
[null,"Okres wegetacyjny",null,"od","2019-05-01","do","2019-10-30",{"$f":"_xlfn.DAYS(G5,E5)","v":182}]
[null,"Mninimum dni wypasu w okersie wegetacyjnym",null,null,null,null,null,120]
[null,"Mninimum godzin wypasu dziennie",null,null,null,null,null,6]
[null,"Wymogi wariantu musząbyć spełnione dla wszystkich krów mlecznych w gospodarstwie"]
[null,"Kwota wsparcia:",null,185,"zł/szt"]

{"sheet":"N_W_2_2","index":19,"n_rows":12,"n_cols":9,"rows_kept":12,"cut":false,"hidden":true,"merged":[[9,1,9,7],[3,2,3,3],[3,4,3,5],[3,6,3,7],[4,1,7,1],[4,2,4,7],[5,2,6,2],[7,4,7,5]]}
[null,null,null,null,null,null,null,null,"POWRÓT"]
[]
[null,"Wymogi wariantu 2.2. Dobrostan krów mlecznych utrzymywanych grupowo - zwiększona powierzchnia w budynkach"]
[null,"Lp.",null,null,"Obowiązujące",null,"Wymogi wariantu 2.2. "]
[null,1,"W systemie wolnostanowiskowym z wydzielonymi stanowiskami"]
[null,null,"wymiary wydzielonego legowiska","długość - co najmniej",2.1,"m",2.1,"m"]
[null,null,null,"szerokość  - co najmniej",1.1000000000000001,"m",1.1000000000000001,"m"]
[null,null,"powierzchnia odpasowo-ruchowa","co najmniej","-",null,4,"m2"]
[null,2,"Powierzchnia, w przeliczeniu na jedną sztukę w systemie wolnostanowiskowym bez wydzielonych legowisk na ściółce","co najmniej",4.5,"m2",5.4,"m2"]
[null,"Wymogi wariantu musząbyć spełnione dla wszystkich krów mlecznych w gospodarstwie"]
[]
[null,null,null,"Kwota wsparcia:",595,"zł/szt"]

{"sheet":"N_W_2_3","index":20,"n_rows":18,"n_cols":11,"rows_kept":18,"cut":false,"hidden":true,"merged":[[3,1,3,6],[5,1,5,6],[6,1,6,6],[7,1,7,7],[9,2,9,5],[9,6,9,7],[8,1,8,9],[14,2,14,3],[14,4,14,5],[15,1,15,7],[9,8,9,9],[11,2,11,3],[11,4,11,5],[12,2,12,3],[12,4,12,5],[13,2,13,3],[13,4,13,5]]}
[null,null,null,null,null,null,null,null,null,null,"POWRÓT"]
[null,"Wymogi wariantu 2.3. Dobrostan krów mamek"]
[null,"1. Stosowanie wypasu"]
[null,"Stosowanie wypasu bydła w kierunku mięsnym",null,null,null,null,null,"Liczba"]
[null,"Okres wegetacyjny",null,"od","2019-05-01","do","2019-10-30",{"$f":"_xlfn.DAYS(G5,E5)","v":182}]
[null,"Mninimum dni wypasu w okersie wegetacyjnym",null,null,null,null,null,140]
[null,"Mninimum godzin wypasu dziennie"]
[null,"Wymogi wariantu musząbyć spełnione dla wszystkich kategorii bydła w gospodarstwie"]
[null,"2. Zapewnienie ww. kategoriom bydła, poza okresem wypasu, dostępu do środowiska zewnętrznego"]
[null,"Lp.",null,null,null,null,"Obowiązujące",null,"Wymogi wariantu 2.3. "]
[null,null,"Powierzchnia, na której jest utrzymywane bydło w przeliczeniu na 1 szt. Wynosi:"]
[null,1,"Cielęta",null,"co najmniej:",null,5,"m2",6,"m2"]
[null,2,"Jałówki",null,"co najmniej:",null,10,"m2",12,"m2"]
[null,3,"Opasy do 300 kg",null,"co najmniej:",null,"-",null,12,"m2"]
[null,4,"Krowy",null,"co najmniej:",null,15,"m2",18,"m2"]
[]
[]
[null,null,null,null,null,"Kwota wsparcia:",329,"zł/szt"]

{"sheet":"N_W_1_1_in","index":21,"n_rows":16,"n_cols":20,"rows_kept":16,"cut":false,"hidden":true,"merged":[[3,18,3,19],[1,1,1,3],[3,1,3,3],[3,10,4,10],[3,11,4,11],[3,15,4,15],[3,16,4,16]]}
[null,null,null,null,null,null,null,null,null,null,null,null,"loch","tucz"]
[null,"Wymogi wariantu 1.1. - dla wszystkich loch w gospodarstwie",null,null,null,null,null,null,null,null,null,null,1,{"$f":"IF(M3=TRUE,4,9)","v":9}]
[null,null,"Kwota wsparcia:",301,"zł/szt",null,null,null,null,null,null,null,{"$f":"Info!R40","v":false},{"$f":"Info!R41","v":false}]
[null,"Wymogi dodatkowe dla wariantu 1.1. Dobrostan loch – zwiększona powierzchnia w budynkach:",null,null,null,null,null,null,null,null,null,"kat","I","II","III","stałe podłoże\nm2/1 sz.","max pow. otworów odpływowych","Dł.","Szer."]
[null,"Lp.","Powierzchnia bytowa kojca w budynkach inwentarskich wynosi co najmniej wg grup ","kojec\nm2/1 sz.","stałe podłoże\nm2/1 sz.","max pow. otworów odpływowych",null,null,null,null,null,null,0,6,40,null,null,"min","min= <5","min >5"]
[null,1,"lochy w okresie porodu i odchowu prosiąt ssących",4.2,"-",null,1,1,"L",1,"knury – krycie w kojcu ",null,10,10,10,"-","-"]
[null,2,"lochy utrzymywane pojedynczo",2.7,"-",null,1,1,"L",2,"knury – krycie poza kojcem",null,6,6,6,"-","-"]
[null,3,"lochy luźne utrzymywane grupowo do 5 sztuk w kojcu",3,"-",null,5,1,"L",3,"knurki i loszki hodowlane, 30-110 kg - pojedynczo",null,2.7,2.7,2.7,"-","-"]
[null,4,"lochy luźne utrzymywane grupowo od 6 do 39 sztuk w kojcu",2.7,"-",null,39,6,"L",4,"knurki i loszki hodowlane,  30-110 kg - grupowo",null,1.4,1.4,1.4,"-","-"]
[null,5,"lochy luźne utrzymywane grupowo powyżej 39 sztuk w kojcu",2.4,"-",null,1000,40,"L",5,"lochy utrzymywane pojedynczo","L",1.2,1.2,1.2,"-","-",2,0.6,0.6]
[null,6,"lochy prośne utrzymywane grupowo do 5 sztuk w kojcu",3,1.3,0.15,5,1,"L",6,"lochy w okresie porodu i odchowu prosiąt ssących",null,3.5,3.5,3.5,"-","-",0,0,0]
[null,7,"lochy prośne utrzymywane grupowo od 6 do 39 sztuk w kojcu",2.7,1.3,0.15,39,6,"L",7,"lochy luźne utrzymywane grupowo ","L",2.48,2.25,2.0299999999999998,"-","-",0,0,0]
[null,8,"lochy prośne utrzymywane grupowo powyżej 39 sztuk w kojcu",2.4,1.3,0.15,1000,40,"L",8,"lochy prośne utrzymywane grupowo","L",2.48,2.25,2.0299999999999998,1.3,0.15,0,2.41,2.81]
[null,9,"loszki po pokryciu utrzymywane grupowo do 5 sztuk w kojcu",2.2000000000000002,0.95,0.15,5,1,null,9,"loszki po pokryciu utrzymywane grupowo","L",1.81,1.64,1.48,0.95,0.15,0,2.41,2.81]
[null,10,"loszki po pokryciu utrzymywane grupowo od 6 do 39 sztuk w kojcu",2,0.95,0.15,39,6,null,10,"loszki po pokryciu utrzymywane pojedynczo","L",1.2,1.2,1.2,"-","-",2,0.6,0.6]
[null,11,"loszki po pokryciu utrzymywane grupowo powyżej 39 sztuk w kojcu",1.8,0.95,0.15,1000,40]

{"sheet":"Owce_info","index":22,"n_rows":21,"n_cols":42,"rows_kept":21,"cut":false,"hidden":false,"merged":[[0,7,0,10],[15,3,15,5],[16,3,16,5],[3,2,3,9],[20,3,20,8],[8,3,8,8],[10,3,10,8],[11,3,11,5],[17,3,17,5],[18,3,18,5],[5,3,5,8],[6,3,6,7],[12,3,12,5],[13,3,13,5],[14,3,14,5]]}
[null,null,null,null,null,null,null,"POWRÓT",null,null,null,null,null,null,null,null,null,null,null,null,null,null,null,null,null,null,null,null,null,null,null,null,null,null,null,null,null,null,null,null,null,"UWAGI"]
[null,null,"Przejdź do:",{"$f":"IF(Nr_stad!$E$60>=1,\"I siedziby stada\",\"\")","v":""},{"$f":"IF(Nr_stad!$E$60>=2,\"II siedziby stada\",\"\")","v":""},{"$f":"IF(Nr_stad!$E$60>=3,\"III siedziby stada\",\"\")","v":""},{"$f":"IF(Nr_stad!$E$60>=4,\"IV siedziby stada\",\"\")","v":""},{"$f":"IF(Nr_stad!$E$60>=5,\"V siedziby stada\",\"\")","v":""}]
[]
[null,null,"II. Część szczegółowa  "]
[null,null,"II.3.","Pakiet 3. Dobrostan owiec"]
[null,null,"II.3.3.","wariant 3.1. Dobrostan owiec – zwiększona powierzchnia w budynkach."]
[null,null,"II.3.3.1.","Informacja o stadzie owiec"]
[]
[null,null,{"$f":"IF(S9=TRUE,T9,U9)","v":"☐"},"Do planu poprawy dobrostanu zwierząt dołączono szkic/e obiektów ze wskazanymi powierzchniami w których utrzymywane są OWCE objęte podwyższonymi wymogami wariantu 3.1. Dobrostan owiec – zwiększona powierzchnia w budynkach.",null,null,null,null,null,null,null,null,null,null,null,null,null,null,false,"☒","☐"]
[]
[null,null,null,"Struktura stada z podziałem na kategorie technologiczne, na dzień sporządzenia planu poprawy dobrostanu zwierząt"]
[null,null,null,"Kategoria technologiczna",null,null,"Liczba \n(szt)","Struktura\n(%)"]
[null,null,null,"samiec gatunku owca domowa w wieku powyżej 12 miesięcy, z wyjątkiem samca gatunku owca domowa – skopka",null,null,null,{"$f":"IFERROR(G13/$G$19,\"-\")","v":"-"}]
[null,null,null,"samica gatunku owca domowa w wieku powyżej 12 miesięcy",null,null,null,{"$f":"IFERROR(G14/$G$19,\"-\")","v":"-"}]
[null,null,null,"samica gatunku owca domowa w wieku powyżej 12 miesięcy wraz z jagnięciem",null,null,null,"-"]
[null,null,null,"samica gatunku owca domowa w wieku od 6 do 12 miesięcy",null,null,null,"-"]
[null,null,null,"samiec gatunku owca domowa w wieku od 6 do 12 miesięcy, z wyjątkiem samca gatunku owca domowa – skopka",null,null,null,"-"]
[null,null,null,"samiec gatunku owca domowa - skopek",null,null,null,"-"]
[null,null,null,"Razem:",null,null,{"$f":"SUM(G13:G18)","v":0},{"$f":"SUM(H13:H18)","v":0}]
[null,null,"II.3.3.2.","Zapewnienie wypasu lub wybiegów:"]
[null,null,null,"Zapewnienie wypasu lub dostępu do wybiegu wszystkim utrzymywanym w gospodarstwie rolnym zwierzętom z gatunku owca domowa, co najmniej przez 120 dni, w okresie od 1 kwietnia do 15 października (jeśli wniosek o dopłaty składany był przed 1 kwietnia) oraz od daty złożenia wniosku o dopłaty do 15 października (jeśli wniosek był złożony po 1 kwietnia) , a w przypadku tymczasowego ich przemieszczenia w tym okresie, w celu wypasu, do siedziby stada w rozumieniu przepisów o systemie identyfikacji i rejestracji zwierząt, innego rolnika – również ze wskazaniem miejsca tego przemieszczenia"]

{"sheet":"Owce_pow (1)","index":23,"n_rows":47,"n_cols":45,"rows_kept":47,"cut":false,"hidden":true,"merged":[[0,10,0,11],[1,2,1,3],[3,2,3,12],[45,3,45,7],[7,3,7,4],[7,5,7,6],[5,4,5,11],[9,3,9,8],[10,3,10,8],[11,3,11,8],[17,4,17,11],[13,3,13,8],[46,3,46,10],[47,9,47,11],[48,9,48,11],[14,9,15,9],[14,10,15,10],[14,11,15,11],[15,5,16,5],[15,6,16,6],[14,3,15,3],[14,4,16,4],[14,6,14,8]]}
[null,null,null,null,null,null,null,null,null,null,"POWRÓT",null,null,null,null,null,null,null,null,null,null,null,null,null,null,null,null,null,null,null,null,null,null,null,null,null,null,null,null,null,null,null,null,null,"UWAGI"]
[]
[]
[null,null,"II. Część szczegółowa  "]
[null,null,"II.3.","Pakiet 3. Dobrostan owiec"]
[null,null,null,"II.3.3.3.","Dopuszczalna maksymalna liczba sztuk owiec, które mogą przebywać jednocześnie w gospodarstwie z uwzględnieniem  wymogów – zwiększona powierzchnia w budynkach."]
[]
[null,null,null,"1) Numer siedziby stada:"]
[]
[null,null,null,"Powierzchnia bytowa przeznaczona dla owiec w pomieszczeniach w gospodarstwie rolnym:",null,null,null,null,null,null,"m2"]
[]
[null,null,null,"Plenność maciorek (stosunek liczby urodzonych jagniąt do liczby maciorek):"]
[]
[null,null,null,"Powierzchnia bytowa w obiekcie dla wszystkich utrzymywanych w siedzibie stada zwierząt z gatunku owca domowa  od dnia złożenia wniosku do dnia 14 marca kolejnego roku. "]
[null,null,null,"\nGrupa technologiczna","Sposób utrzymania","Obiekt","Utrzymywanie grupowe / pojedyncze spełniające wymóg minimalnych powierzchni",null,null," Minimalna powierzch-\nnia  na  kojec  / kojce","Powierz-\nchnia mini-\nmalna na owcę","Maksy-\nmalna liczba owiec"]
[null,null,null,null,null,"Nazwa(y) lub nr kojca/kojcy","Liczba zwierząt lub kojcy pojedyn-\nczych","Powierzchnia na sztukę utrz. grupowo lub kojca pojedynczego","Powie-\nrzchnia",null,null,null,null,null,null,null,null,null,null,null,null,"ukryj","grupa","sposób","Norma","OWCA",null,"poj/grup","poj","p/r-m","grup","g/r=m"]
[null,null,null,null,null,null,null,"m2/szt.\n(kojec)","m2","m2","m2/szt.","szt",null,null,null,null,null,null,null,null,null,null,"kat","utrz","norma","s> 12","jag"]
[null,null,null,null,{"$f":"IF(J46>J10,\"ZA MAŁA POWIERZCHNIA OBIEKTU !\",\"\")","v":""},null,null,null,null,null,null,null,null,null,null,null,null,null,null,null,null,null,"kat","utrz","norma","s> 12","jag"]
[null,null,null,null,null,null,null,null,{"$f":"G19*H19","v":0},{"$f":"IFERROR(K19*L19,\"-\")","v":"-"},{"$f":"IFERROR(Y19+AA19,\"-\")","v":"-"},{"$f":"IF(H19<K19,\"-\",IF(X19=0,G19,TRUNC(I19/K19)))","v":"-"},null,null,null,null,null,null,null,null,null,{"$f":"COUNTA(D19:H19)","v":0},{"$f":"MATCH(D19,Owce_N!$B$4:$B$11,0)-1","v":{"$error":"#N/A"}},{"$f":"MATCH(E19,Owce_N!$B$4:$D$4,0)-2","v":{"$error":"#N/A"}},{"$f":"OFFSET(Owce_N!$C$4,W19,X19)","v":{"$error":"#N/A"}},{"$f":"OFFSET(Owce_N!$C$4,W19,7)","v":{"$error":"#N/A"}},{"$f":"OFFSET(Owce_N!$C$4,W19,X19+2)*$J$12","v":{"$error":"#N/A"}},{"$f":"D19&E19","v":""},{"$f":"Owce_N!M5","v":"samiec gatunku owca domowa w wieku powyżej 12 miesięcy, z wyjątkiem samca gatunku owca domowa – skopkapojedynczo"},{"$f":"SUMIF($AB$19:$AB$45,AC19,$G$19:$G$45)","v":0},{"$f":"Owce_N!N5","v":"samiec gatunku owca domowa w wieku powyżej 12 miesięcy, z wyjątkiem samca gatunku owca domowa – skopkagrupowo"},{"$f":"SUMIF($AB$19:$AB$45,AE19,$G$19:$G$45)","v":0}]
[null,null,null,null,null,null,null,null,{"$f":"G20*H20","v":0},{"$f":"IFERROR(K20*L20,\"-\")","v":"-"},{"$f":"IFERROR(Y20+AA20,\"-\")","v":"-"},"-",null,null,null,null,null,null,null,null,null,{"$f":"COUNTA(D20:H20)","v":0},{"$f":"MATCH(D20,Owce_N!$B$4:$B$11,0)-1","v":{"$error":"#N/A"}},{"$f":"MATCH(E20,Owce_N!$B$4:$D$4,0)-2","v":{"$error":"#N/A"}},{"$f":"OFFSET(Owce_N!$C$4,W20,X20)","v":{"$error":"#N/A"}},{"$f":"OFFSET(Owce_N!$C$4,W20,7)","v":{"$error":"#N/A"}},{"$f":"OFFSET(Owce_N!$C$4,W20,X20+2)*$J$12","v":{"$error":"#N/A"}},"",{"$f":"Owce_N!M6","v":"samica gatunku owca domowa w wieku powyżej 12 miesięcypojedynczo"},{"$f":"SUMIF($AB$19:$AB$45,AC20,$G$19:$G$45)","v":0},{"$f":"Owce_N!N6","v":"samica gatunku owca domowa w wieku powyżej 12 miesięcygrupowo"},{"$f":"SUMIF($AB$19:$AB$45,AE20,$G$19:$G$45)","v":0}]
[null,null,null,null,null,null,null,null,{"$f":"G21*H21","v":0},{"$f":"IFERROR(K21*L21,\"-\")","v":"-"},"-","-",null,null,null,null,null,null,null,null,null,0,{"$f":"MATCH(D21,Owce_N!$B$4:$B$11,0)-1","v":{"$error":"#N/A"}},{"$f":"MATCH(E21,Owce_N!$B$4:$D$4,0)-2","v":{"$error":"#N/A"}},{"$f":"OFFSET(Owce_N!$C$4,W21,X21)","v":{"$error":"#N/A"}},{"$f":"OFFSET(Owce_N!$C$4,W21,7)","v":{"$error":"#N/A"}},{"$f":"OFFSET(Owce_N!$C$4,W21,X21+2)*$J$12","v":{"$error":"#N/A"}},"",{"$f":"Owce_N!M7","v":"samica gatunku owca domowa w wieku powyżej 12 miesięcy wraz z jagnięciempojedynczo"},0,{"$f":"Owce_N!N7","v":"samica gatunku owca domowa w wieku powyżej 12 miesięcy wraz z jagnięciemgrupowo"},0]
[null,null,null,null,null,null,null,null,{"$f":"G22*H22","v":0},{"$f":"IFERROR(K22*L22,\"-\")","v":"-"},"-","-",null,null,null,null,null,null,null,null,null,0,{"$f":"MATCH(D22,Owce_N!$B$4:$B$11,0)-1","v":{"$error":"#N/A"}},{"$f":"MATCH(E22,Owce_N!$B$4:$D$4,0)-2","v":{"$error":"#N/A"}},{"$f":"OFFSET(Owce_N!$C$4,W22,X22)","v":{"$error":"#N/A"}},{"$f":"OFFSET(Owce_N!$C$4,W22,7)","v":{"$error":"#N/A"}},{"$f":"OFFSET(Owce_N!$C$4,W22,X22+2)*$J$12","v":{"$error":"#N/A"}},"",{"$f":"Owce_N!M8","v":"samica gatunku owca domowa w wieku od 6 do 12 miesięcypojedynczo"},0,{"$f":"Owce_N!N8","v":"samica gatunku owca domowa w wieku od 6 do 12 miesięcygrupowo"},0]
[null,null,null,null,null,null,null,null,0,"-","-","-",null,null,null,null,null,null,null,null,null,0,{"$f":"MATCH(D23,Owce_N!$B$4:$B$11,0)-1","v":{"$error":"#N/A"}},{"$f":"MATCH(E23,Owce_N!$B$4:$D$4,0)-2","v":{"$error":"#N/A"}},{"$f":"OFFSET(Owce_N!$C$4,W23,X23)","v":{"$error":"#N/A"}},{"$f":"OFFSET(Owce_N!$C$4,W23,7)","v":{"$error":"#N/A"}},{"$f":"OFFSET(Owce_N!$C$4,W23,X23+2)*$J$12","v":{"$error":"#N/A"}},"",{"$f":"Owce_N!M9","v":"samiec gatunku owca domowa w wieku od 6 do 12 miesięcy, z wyjątkiem samca gatunku owca domowa – skopkapojedynczo"},0,{"$f":"Owce_N!N9","v":"samiec gatunku owca domowa w wieku od 6 do 12 miesięcy, z wyjątkiem samca gatunku owca domowa – skopkagrupowo"},0]
[null,null,null,null,null,null,null,null,0,"-","-","-",null,null,null,null,null,null,null,null,null,0,{"$f":"MATCH(D24,Owce_N!$B$4:$B$11,0)-1","v":{"$error":"#N/A"}},{"$f":"MATCH(E24,Owce_N!$B$4:$D$4,0)-2","v":{"$error":"#N/A"}},{"$f":"OFFSET(Owce_N!$C$4,W24,X24)","v":{"$error":"#N/A"}},{"$f":"OFFSET(Owce_N!$C$4,W24,7)","v":{"$error":"#N/A"}},{"$f":"OFFSET(Owce_N!$C$4,W24,X24+2)*$J$12","v":{"$error":"#N/A"}},"",{"$f":"Owce_N!M10","v":"samiec gatunku owca domowa - skopekpojedynczo"},0,{"$f":"Owce_N!N10","v":"samiec gatunku owca domowa - skopekgrupowo"},0]
[null,null,null,null,null,null,null,null,0,"-","-","-",null,null,null,null,null,null,null,null,null,0,{"$f":"MATCH(D25,Owce_N!$B$4:$B$11,0)-1","v":{"$error":"#N/A"}},{"$f":"MATCH(E25,Owce_N!$B$4:$D$4,0)-2","v":{"$error":"#N/A"}},{"$f":"OFFSET(Owce_N!$C$4,W25,X25)","v":{"$error":"#N/A"}},{"$f":"OFFSET(Owce_N!$C$4,W25,7)","v":{"$error":"#N/A"}},{"$f":"OFFSET(Owce_N!$C$4,W25,X25+2)*$J$12","v":{"$error":"#N/A"}},"",null,0,null,0]
[null,null,null,null,null,null,null,null,0,"-","-","-",null,null,null,null,null,null,null,null,null,0,{"$f":"MATCH(D26,Owce_N!$B$4:$B$11,0)-1","v":{"$error":"#N/A"}},{"$f":"MATCH(E26,Owce_N!$B$4:$D$4,0)-2","v":{"$error":"#N/A"}},{"$f":"OFFSET(Owce_N!$C$4,W26,X26)","v":{"$error":"#N/A"}},{"$f":"OFFSET(Owce_N!$C$4,W26,7)","v":{"$error":"#N/A"}},{"$f":"OFFSET(Owce_N!$C$4,W26,X26+2)*$J$12","v":{"$error":"#N/A"}},"",null,0,null,0]
[null,null,null,null,null,null,null,null,0,"-","-","-",null,null,null,null,null,null,null,null,null,0,{"$f":"MATCH(D27,Owce_N!$B$4:$B$11,0)-1","v":{"$error":"#N/A"}},{"$f":"MATCH(E27,Owce_N!$B$4:$D$4,0)-2","v":{"$error":"#N/A"}},{"$f":"OFFSET(Owce_N!$C$4,W27,X27)","v":{"$error":"#N/A"}},{"$f":"OFFSET(Owce_N!$C$4,W27,7)","v":{"$error":"#N/A"}},{"$f":"OFFSET(Owce_N!$C$4,W27,X27+2)*$J$12","v":{"$error":"#N/A"}},"",null,0,null,0]
[null,null,null,null,null,null,null,null,0,"-","-","-",null,null,null,null,null,null,null,null,null,0,{"$f":"MATCH(D28,Owce_N!$B$4:$B$11,0)-1","v":{"$error":"#N/A"}},{"$f":"MATCH(E28,Owce_N!$B$4:$D$4,0)-2","v":{"$error":"#N/A"}},{"$f":"OFFSET(Owce_N!$C$4,W28,X28)","v":{"$error":"#N/A"}},{"$f":"OFFSET(Owce_N!$C$4,W28,7)","v":{"$error":"#N/A"}},{"$f":"OFFSET(Owce_N!$C$4,W28,X28+2)*$J$12","v":{"$error":"#N/A"}},"",null,0,null,0]
[null,null,null,null,null,null,null,null,0,"-","-","-",null,null,null,null,null,null,null,null,null,0,{"$f":"MATCH(D29,Owce_N!$B$4:$B$11,0)-1","v":{"$error":"#N/A"}},{"$f":"MATCH(E29,Owce_N!$B$4:$D$4,0)-2","v":{"$error":"#N/A"}},{"$f":"OFFSET(Owce_N!$C$4,W29,X29)","v":{"$error":"#N/A"}},{"$f":"OFFSET(Owce_N!$C$4,W29,7)","v":{"$error":"#N/A"}},{"$f":"OFFSET(Owce_N!$C$4,W29,X29+2)*$J$12","v":{"$error":"#N/A"}},"",null,0,null,0]
[null,null,null,null,null,null,null,null,0,"-","-","-",null,null,null,null,null,null,null,null,null,0,{"$f":"MATCH(D30,Owce_N!$B$4:$B$11,0)-1","v":{"$error":"#N/A"}},{"$f":"MATCH(E30,Owce_N!$B$4:$D$4,0)-2","v":{"$error":"#N/A"}},{"$f":"OFFSET(Owce_N!$C$4,W30,X30)","v":{"$error":"#N/A"}},{"$f":"OFFSET(Owce_N!$C$4,W30,7)","v":{"$error":"#N/A"}},{"$f":"OFFSET(Owce_N!$C$4,W30,X30+2)*$J$12","v":{"$error":"#N/A"}},"",null,0,null,0]
[null,null,null,null,null,null,null,null,0,"-","-","-",null,null,null,null,null,null,null,null,null,0,{"$f":"MATCH(D31,Owce_N!$B$4:$B$11,0)-1","v":{"$error":"#N/A"}},{"$f":"MATCH(E31,Owce_N!$B$4:$D$4,0)-2","v":{"$error":"#N/A"}},{"$f":"OFFSET(Owce_N!$C$4,W31,X31)","v":{"$error":"#N/A"}},{"$f":"OFFSET(Owce_N!$C$4,W31,7)","v":{"$error":"#N/A"}},{"$f":"OFFSET(Owce_N!$C$4,W31,X31+2)*$J$12","v":{"$error":"#N/A"}},"",null,0,null,0]
[null,null,null,null,null,null,null,null,0,"-","-","-",null,null,null,null,null,null,null,null,null,0,{"$f":"MATCH(D32,Owce_N!$B$4:$B$11,0)-1","v":{"$error":"#N/A"}},{"$f":"MATCH(E32,Owce_N!$B$4:$D$4,0)-2","v":{"$error":"#N/A"}},{"$f":"OFFSET(Owce_N!$C$4,W32,X32)","v":{"$error":"#N/A"}},{"$f":"OFFSET(Owce_N!$C$4,W32,7)","v":{"$error":"#N/A"}},{"$f":"OFFSET(Owce_N!$C$4,W32,X32+2)*$J$12","v":{"$error":"#N/A"}},"",null,0,null,0]
[null,null,null,null,null,null,null,null,0,"-","-","-",null,null,null,null,null,null,null,null,null,0,{"$f":"MATCH(D33,Owce_N!$B$4:$B$11,0)-1","v":{"$error":"#N/A"}},{"$f":"MATCH(E33,Owce_N!$B$4:$D$4,0)-2","v":{"$error":"#N/A"}},{"$f":"OFFSET(Owce_N!$C$4,W33,X33)","v":{"$error":"#N/A"}},{"$f":"OFFSET(Owce_N!$C$4,W33,7)","v":{"$error":"#N/A"}},{"$f":"OFFSET(Owce_N!$C$4,W33,X33+2)*$J$12","v":{"$error":"#N/A"}},"",null,0,null,0]
[null,null,null,null,null,null,null,null,0,"-","-","-",null,null,null,null,null,null,null,null,null,0,{"$f":"MATCH(D34,Owce_N!$B$4:$B$11,0)-1","v":{"$error":"#N/A"}},{"$f":"MATCH(E34,Owce_N!$B$4:$D$4,0)-2","v":{"$error":"#N/A"}},{"$f":"OFFSET(Owce_N!$C$4,W34,X34)","v":{"$error":"#N/A"}},{"$f":"OFFSET(Owce_N!$C$4,W34,7)","v":{"$error":"#N/A"}},{"$f":"OFFSET(Owce_N!$C$4,W34,X34+2)*$J$12","v":{"$error":"#N/A"}},"",null,0,null,0]
[null,null,null,null,null,null,null,null,0,"-","-","-",null,null,null,null,null,null,null,null,null,0,{"$f":"MATCH(D35,Owce_N!$B$4:$B$11,0)-1","v":{"$error":"#N/A"}},{"$f":"MATCH(E35,Owce_N!$B$4:$D$4,0)-2","v":{"$error":"#N/A"}},{"$f":"OFFSET(Owce_N!$C$4,W35,X35)","v":{"$error":"#N/A"}},{"$f":"OFFSET(Owce_N!$C$4,W35,7)","v":{"$error":"#N/A"}},{"$f":"OFFSET(Owce_N!$C$4,W35,X35+2)*$J$12","v":{"$error":"#N/A"}},"",null,0,null,0]
[null,null,null,null,null,null,null,null,0,"-","-","-",null,null,null,null,null,null,null,null,null,0,{"$f":"MATCH(D36,Owce_N!$B$4:$B$11,0)-1","v":{"$error":"#N/A"}},{"$f":"MATCH(E36,Owce_N!$B$4:$D$4,0)-2","v":{"$error":"#N/A"}},{"$f":"OFFSET(Owce_N!$C$4,W36,X36)","v":{"$error":"#N/A"}},{"$f":"OFFSET(Owce_N!$C$4,W36,7)","v":{"$error":"#N/A"}},{"$f":"OFFSET(Owce_N!$C$4,W36,X36+2)*$J$12","v":{"$error":"#N/A"}},"",null,0,null,0]
[null,null,null,null,null,null,null,null,0,"-","-","-",null,null,null,null,null,null,null,null,null,0,{"$f":"MATCH(D37,Owce_N!$B$4:$B$11,0)-1","v":{"$error":"#N/A"}},{"$f":"MATCH(E37,Owce_N!$B$4:$D$4,0)-2","v":{"$error":"#N/A"}},{"$f":"OFFSET(Owce_N!$C$4,W37,X37)","v":{"$error":"#N/A"}},{"$f":"OFFSET(Owce_N!$C$4,W37,7)","v":{"$error":"#N/A"}},{"$f":"OFFSET(Owce_N!$C$4,W37,X37+2)*$J$12","v":{"$error":"#N/A"}},"",null,0,null,0]
[null,null,null,null,null,null,null,null,0,"-","-","-",null,null,null,null,null,null,null,null,null,0,{"$f":"MATCH(D38,Owce_N!$B$4:$B$11,0)-1","v":{"$error":"#N/A"}},{"$f":"MATCH(E38,Owce_N!$B$4:$D$4,0)-2","v":{"$error":"#N/A"}},{"$f":"OFFSET(Owce_N!$C$4,W38,X38)","v":{"$error":"#N/A"}},{"$f":"OFFSET(Owce_N!$C$4,W38,7)","v":{"$error":"#N/A"}},{"$f":"OFFSET(Owce_N!$C$4,W38,X38+2)*$J$12","v":{"$error":"#N/A"}},"",null,0,null,0]
[null,null,null,null,null,null,null,null,0,"-","-","-",null,null,null,null,null,null,null,null,null,0,{"$f":"MATCH(D39,Owce_N!$B$4:$B$11,0)-1","v":{"$error":"#N/A"}},{"$f":"MATCH(E39,Owce_N!$B$4:$D$4,0)-2","v":{"$error":"#N/A"}},{"$f":"OFFSET(Owce_N!$C$4,W39,X39)","v":{"$error":"#N/A"}},{"$f":"OFFSET(Owce_N!$C$4,W39,7)","v":{"$error":"#N/A"}},{"$f":"OFFSET(Owce_N!$C$4,W39,X39+2)*$J$12","v":{"$error":"#N/A"}},"",null,0,null,0]
[null,null,null,null,null,null,null,null,0,"-","-","-",null,null,null,null,null,null,null,null,null,0,{"$f":"MATCH(D40,Owce_N!$B$4:$B$11,0)-1","v":{"$error":"#N/A"}},{"$f":"MATCH(E40,Owce_N!$B$4:$D$4,0)-2","v":{"$error":"#N/A"}},{"$f":"OFFSET(Owce_N!$C$4,W40,X40)","v":{"$error":"#N/A"}},{"$f":"OFFSET(Owce_N!$C$4,W40,7)","v":{"$error":"#N/A"}},{"$f":"OFFSET(Owce_N!$C$4,W40,X40+2)*$J$12","v":{"$error":"#N/A"}},"",null,0,null,0]
[null,null,null,null,null,null,null,null,0,"-","-","-",null,null,null,null,null,null,null,null,null,0,{"$f":"MATCH(D41,Owce_N!$B$4:$B$11,0)-1","v":{"$error":"#N/A"}},{"$f":"MATCH(E41,Owce_N!$B$4:$D$4,0)-2","v":{"$error":"#N/A"}},{"$f":"OFFSET(Owce_N!$C$4,W41,X41)","v":{"$error":"#N/A"}},{"$f":"OFFSET(Owce_N!$C$4,W41,7)","v":{"$error":"#N/A"}},{"$f":"OFFSET(Owce_N!$C$4,W41,X41+2)*$J$12","v":{"$error":"#N/A"}},"",null,0,null,0]
[null,null,null,null,null,null,null,null,0,"-","-","-",null,null,null,null,null,null,null,null,null,0,{"$f":"MATCH(D42,Owce_N!$B$4:$B$11,0)-1","v":{"$error":"#N/A"}},{"$f":"MATCH(E42,Owce_N!$B$4:$D$4,0)-2","v":{"$error":"#N/A"}},{"$f":"OFFSET(Owce_N!$C$4,W42,X42)","v":{"$error":"#N/A"}},{"$f":"OFFSET(Owce_N!$C$4,W42,7)","v":{"$error":"#N/A"}},{"$f":"OFFSET(Owce_N!$C$4,W42,X42+2)*$J$12","v":{"$error":"#N/A"}},"",null,0,null,0]
[null,null,null,null,null,null,null,null,0,"-","-","-",null,null,null,null,null,null,null,null,null,0,{"$f":"MATCH(D43,Owce_N!$B$4:$B$11,0)-1","v":{"$error":"#N/A"}},{"$f":"MATCH(E43,Owce_N!$B$4:$D$4,0)-2","v":{"$error":"#N/A"}},{"$f":"OFFSET(Owce_N!$C$4,W43,X43)","v":{"$error":"#N/A"}},{"$f":"OFFSET(Owce_N!$C$4,W43,7)","v":{"$error":"#N/A"}},{"$f":"OFFSET(Owce_N!$C$4,W43,X43+2)*$J$12","v":{"$error":"#N/A"}},"",null,0,null,0]
[null,null,null,null,null,null,null,null,0,"-","-","-",null,null,null,null,null,null,null,null,null,0,{"$f":"MATCH(D44,Owce_N!$B$4:$B$11,0)-1","v":{"$error":"#N/A"}},{"$f":"MATCH(E44,Owce_N!$B$4:$D$4,0)-2","v":{"$error":"#N/A"}},{"$f":"OFFSET(Owce_N!$C$4,W44,X44)","v":{"$error":"#N/A"}},{"$f":"OFFSET(Owce_N!$C$4,W44,7)","v":{"$error":"#N/A"}},{"$f":"OFFSET(Owce_N!$C$4,W44,X44+2)*$J$12","v":{"$error":"#N/A"}},"",null,0,null,0]
[null,null,null,null,null,null,null,null,0,"-","-","-",null,null,null,null,null,null,null,null,null,0,{"$f":"MATCH(D45,Owce_N!$B$4:$B$11,0)-1","v":{"$error":"#N/A"}},{"$f":"MATCH(E45,Owce_N!$B$4:$D$4,0)-2","v":{"$error":"#N/A"}},{"$f":"OFFSET(Owce_N!$C$4,W45,X45)","v":{"$error":"#N/A"}},{"$f":"OFFSET(Owce_N!$C$4,W45,7)","v":{"$error":"#N/A"}},{"$f":"OFFSET(Owce_N!$C$4,W45,X45+2)*$J$12","v":{"$error":"#N/A"}},"",null,0,null,0]
[null,null,null,"SUMA POWIERZCHNI:",null,null,null,null,{"$f":"SUM(I19:I45)","v":0},{"$f":"SUM(J19:J45)","v":0},{"$f":"IFERROR(IF(S46>2,OFFSET(B_ML_N!$B$3,V46,S46+2),\"-\"),\"-\")","v":"-"},{"$f":"IFERROR(IF(X46<>TRUE,IF(AND(I46>0,S46<3),I46,TRUNC(#REF!/K46)),\"-\"),\"-\")","v":"-"},null,null,null,null,null,null,null,null,null,1,{"$f":"MATCH(D46,Owce_N!$B$4:$B$11,0)-1","v":{"$error":"#N/A"}},{"$f":"MATCH(E46,Owce_N!$B$4:$D$4,0)-2","v":{"$error":"#N/A"}},{"$f":"OFFSET(Owce_N!$C$4,W46,X46)","v":{"$error":"#N/A"}},{"$f":"OFFSET(Owce_N!$C$4,W46,7)","v":{"$error":"#N/A"}},{"$f":"OFFSET(Owce_N!$C$4,W46,X46+2)*$J$12","v":{"$error":"#N/A"}},"SUMA POWIERZCHNI:",null,0,null,0]
[null,null,null,"SUMA LICZBY OWIEC-SAMIC W WIEKU POWYŻEJ 12 MIESIĘCY:",null,null,null,null,null,null,null,{"$f":"SUMIF(Z19:Z45,\"M\",L19:L45)","v":0},null,null,null,null,null,null,null,null,null,1,{"$f":"MATCH(D47,Owce_N!$B$4:$B$11,0)-1","v":{"$error":"#N/A"}},{"$f":"MATCH(E47,Owce_N!$B$4:$D$4,0)-2","v":{"$error":"#N/A"}},{"$f":"OFFSET(Owce_N!$C$4,W47,X47)","v":{"$error":"#N/A"}},{"$f":"OFFSET(Owce_N!$C$4,W47,7)","v":{"$error":"#N/A"}},{"$f":"OFFSET(Owce_N!$C$4,W47,X47+2)*$J$12","v":{"$error":"#N/A"}},"SUMA LICZBY OWIEC-SAMIC W WIEKU POWYŻEJ 12 MIESIĘCY:",null,0,null,0]

{"sheet":"Owce_pow (2)","index":24,"n_rows":47,"n_cols":45,"rows_kept":47,"cut":false,"hidden":true,"merged":[[45,3,45,7],[46,3,46,10],[47,9,47,11],[14,9,15,9],[14,10,15,10],[14,11,15,11],[15,5,16,5],[15,6,16,6],[17,4,17,11],[10,3,10,8],[11,3,11,8],[13,3,13,8],[14,3,15,3],[14,4,16,4],[14,6,14,8],[9,3,9,8],[0,10,0,11],[3,2,3,12],[5,4,5,11],[7,3,7,4],[7,5,7,6]]}
[null,null,null,null,null,null,null,null,null,null,"POWRÓT",null,null,null,null,null,null,null,null,null,null,null,null,null,null,null,null,null,null,null,null,null,null,null,null,null,null,null,null,null,null,null,null,null,"UWAGI"]
[]
[]
[null,null,"II. Część szczegółowa  "]
[null,null,"II.3.","Pakiet 3. Dobrostan owiec"]
[null,null,null,"II.3.3.3.","Dopuszczalna maksymalna liczba sztuk owiec, które mogą przebywać jednocześnie w gospodarstwie z uwzględnieniem  wymogów – zwiększona powierzchnia w budynkach."]
[]
[null,null,null,"2) Numer siedziby stada:"]
[]
[null,null,null,"Powierzchnia bytowa przeznaczona dla owiec w pomieszczeniach w gospodarstwie rolnym:",null,null,null,null,null,null,"m2"]
[]
[null,null,null,"Plenność maciorek (stosunek liczby urodzonych jagniąt do liczby maciorek):"]
[]
[null,null,null,"Powierzchnia bytowa w obiekcie dla wszystkich utrzymywanych w siedzibie stada zwierząt z gatunku owca domowa  od dnia złożenia wniosku do dnia 14 marca kolejnego roku. "]
[null,null,null,"\nGrupa technologiczna","Sposób utrzymania","Obiekt","Utrzymywanie grupowe / pojedyncze spełniające wymóg minimalnych powierzchni",null,null," Minimalna powierzch-\nnia  na  kojec  / kojce","Powierz-\nchnia mini-\nmalna na owcę","Maksy-\nmalna liczba owiec"]
[null,null,null,null,null,"Nazwa(y) lub nr kojca/kojcy","Liczba zwierząt lub kojcy pojedyn-\nczych","Powierzchnia na sztukę utrz. grupowo lub kojca pojedynczego","Powie-\nrzchnia",null,null,null,null,null,null,null,null,null,null,null,null,"ukryj","grupa","sposób","Norma","OWCA",null,"poj/grup","poj","p/r-m","grup","g/r=m"]
[null,null,null,null,null,null,null,"m2/szt.\n(kojec)","m2","m2","m2/szt.","szt",null,null,null,null,null,null,null,null,null,null,"kat","utrz","norma","s> 12","jag"]
[null,null,null,null,{"$f":"IF(J46>J10,\"ZA MAŁA POWIERZCHNIA OBIEKTU !\",\"\")","v":""},null,null,null,null,null,null,null,null,null,null,null,null,null,null,null,null,null,"kat","utrz","norma","s> 12","jag"]
[null,null,null,null,null,null,null,null,{"$f":"G19*H19","v":0},{"$f":"IFERROR(K19*L19,\"-\")","v":"-"},{"$f":"IFERROR(Y19+AA19,\"-\")","v":"-"},{"$f":"IF(H19<K19,\"-\",IF(X19=0,G19,TRUNC(I19/K19)))","v":"-"},null,null,null,null,null,null,null,null,null,{"$f":"COUNTA(D19:H19)","v":0},{"$f":"MATCH(D19,Owce_N!$B$4:$B$11,0)-1","v":{"$error":"#N/A"}},{"$f":"MATCH(E19,Owce_N!$B$4:$D$4,0)-2","v":{"$error":"#N/A"}},{"$f":"OFFSET(Owce_N!$C$4,W19,X19)","v":{"$error":"#N/A"}},{"$f":"OFFSET(Owce_N!$C$4,W19,7)","v":{"$error":"#N/A"}},{"$f":"OFFSET(Owce_N!$C$4,W19,X19+2)*$J$12","v":{"$error":"#N/A"}},{"$f":"D19&E19","v":""},{"$f":"Owce_N!M5","v":"samiec gatunku owca domowa w wieku powyżej 12 miesięcy, z wyjątkiem samca gatunku owca domowa – skopkapojedynczo"},{"$f":"SUMIF($AB$19:$AB$45,AC19,$G$19:$G$45)","v":0},{"$f":"Owce_N!N5","v":"samiec gatunku owca domowa w wieku powyżej 12 miesięcy, z wyjątkiem samca gatunku owca domowa – skopkagrupowo"},{"$f":"SUMIF($AB$19:$AB$45,AE19,$G$19:$G$45)","v":0}]
[null,null,null,null,null,null,null,null,{"$f":"G20*H20","v":0},{"$f":"IFERROR(K20*L20,\"-\")","v":"-"},{"$f":"IFERROR(Y20+AA20,\"-\")","v":"-"},"-",null,null,null,null,null,null,null,null,null,{"$f":"COUNTA(D20:H20)","v":0},{"$f":"MATCH(D20,Owce_N!$B$4:$B$11,0)-1","v":{"$error":"#N/A"}},{"$f":"MATCH(E20,Owce_N!$B$4:$D$4,0)-2","v":{"$error":"#N/A"}},{"$f":"OFFSET(Owce_N!$C$4,W20,X20)","v":{"$error":"#N/A"}},{"$f":"OFFSET(Owce_N!$C$4,W20,7)","v":{"$error":"#N/A"}},{"$f":"OFFSET(Owce_N!$C$4,W20,X20+2)*$J$12","v":{"$error":"#N/A"}},"",{"$f":"Owce_N!M6","v":"samica gatunku owca domowa w wieku powyżej 12 miesięcypojedynczo"},{"$f":"SUMIF($AB$19:$AB$45,AC20,$G$19:$G$45)","v":0},{"$f":"Owce_N!N6","v":"samica gatunku owca domowa w wieku powyżej 12 miesięcygrupowo"},{"$f":"SUMIF($AB$19:$AB$45,AE20,$G$19:$G$45)","v":0}]
[null,null,null,null,null,null,null,null,{"$f":"G21*H21","v":0},{"$f":"IFERROR(K21*L21,\"-\")","v":"-"},"-","-",null,null,null,null,null,null,null,null,null,0,{"$f":"MATCH(D21,Owce_N!$B$4:$B$11,0)-1","v":{"$error":"#N/A"}},{"$f":"MATCH(E21,Owce_N!$B$4:$D$4,0)-2","v":{"$error":"#N/A"}},{"$f":"OFFSET(Owce_N!$C$4,W21,X21)","v":{"$error":"#N/A"}},{"$f":"OFFSET(Owce_N!$C$4,W21,7)","v":{"$error":"#N/A"}},{"$f":"OFFSET(Owce_N!$C$4,W21,X21+2)*$J$12","v":{"$error":"#N/A"}},"",{"$f":"Owce_N!M7","v":"samica gatunku owca domowa w wieku powyżej 12 miesięcy wraz z jagnięciempojedynczo"},0,{"$f":"Owce_N!N7","v":"samica gatunku owca domowa w wieku powyżej 12 miesięcy wraz z jagnięciemgrupowo"},0]
[null,null,null,null,null,null,null,null,{"$f":"G22*H22","v":0},{"$f":"IFERROR(K22*L22,\"-\")","v":"-"},"-","-",null,null,null,null,null,null,null,null,null,0,{"$f":"MATCH(D22,Owce_N!$B$4:$B$11,0)-1","v":{"$error":"#N/A"}},{"$f":"MATCH(E22,Owce_N!$B$4:$D$4,0)-2","v":{"$error":"#N/A"}},{"$f":"OFFSET(Owce_N!$C$4,W22,X22)","v":{"$error":"#N/A"}},{"$f":"OFFSET(Owce_N!$C$4,W22,7)","v":{"$error":"#N/A"}},{"$f":"OFFSET(Owce_N!$C$4,W22,X22+2)*$J$12","v":{"$error":"#N/A"}},"",{"$f":"Owce_N!M8","v":"samica gatunku owca domowa w wieku od 6 do 12 miesięcypojedynczo"},0,{"$f":"Owce_N!N8","v":"samica gatunku owca domowa w wieku od 6 do 12 miesięcygrupowo"},0]
[null,null,null,null,null,null,null,null,0,"-","-","-",null,null,null,null,null,null,null,null,null,0,{"$f":"MATCH(D23,Owce_N!$B$4:$B$11,0)-1","v":{"$error":"#N/A"}},{"$f":"MATCH(E23,Owce_N!$B$4:$D$4,0)-2","v":{"$error":"#N/A"}},{"$f":"OFFSET(Owce_N!$C$4,W23,X23)","v":{"$error":"#N/A"}},{"$f":"OFFSET(Owce_N!$C$4,W23,7)","v":{"$error":"#N/A"}},{"$f":"OFFSET(Owce_N!$C$4,W23,X23+2)*$J$12","v":{"$error":"#N/A"}},"",{"$f":"Owce_N!M9","v":"samiec gatunku owca domowa w wieku od 6 do 12 miesięcy, z wyjątkiem samca gatunku owca domowa – skopkapojedynczo"},0,{"$f":"Owce_N!N9","v":"samiec gatunku owca domowa w wieku od 6 do 12 miesięcy, z wyjątkiem samca gatunku owca domowa – skopkagrupowo"},0]
[null,null,null,null,null,null,null,null,0,"-","-","-",null,null,null,null,null,null,null,null,null,0,{"$f":"MATCH(D24,Owce_N!$B$4:$B$11,0)-1","v":{"$error":"#N/A"}},{"$f":"MATCH(E24,Owce_N!$B$4:$D$4,0)-2","v":{"$error":"#N/A"}},{"$f":"OFFSET(Owce_N!$C$4,W24,X24)","v":{"$error":"#N/A"}},{"$f":"OFFSET(Owce_N!$C$4,W24,7)","v":{"$error":"#N/A"}},{"$f":"OFFSET(Owce_N!$C$4,W24,X24+2)*$J$12","v":{"$error":"#N/A"}},"",{"$f":"Owce_N!M10","v":"samiec gatunku owca domowa - skopekpojedynczo"},0,{"$f":"Owce_N!N10","v":"samiec gatunku owca domowa - skopekgrupowo"},0]
[null,null,null,null,null,null,null,null,0,"-","-","-",null,null,null,null,null,null,null,null,null,0,{"$f":"MATCH(D25,Owce_N!$B$4:$B$11,0)-1","v":{"$error":"#N/A"}},{"$f":"MATCH(E25,Owce_N!$B$4:$D$4,0)-2","v":{"$error":"#N/A"}},{"$f":"OFFSET(Owce_N!$C$4,W25,X25)","v":{"$error":"#N/A"}},{"$f":"OFFSET(Owce_N!$C$4,W25,7)","v":{"$error":"#N/A"}},{"$f":"OFFSET(Owce_N!$C$4,W25,X25+2)*$J$12","v":{"$error":"#N/A"}},"",null,0,null,0]
[null,null,null,null,null,null,null,null,0,"-","-","-",null,null,null,null,null,null,null,null,null,0,{"$f":"MATCH(D26,Owce_N!$B$4:$B$11,0)-1","v":{"$error":"#N/A"}},{"$f":"MATCH(E26,Owce_N!$B$4:$D$4,0)-2","v":{"$error":"#N/A"}},{"$f":"OFFSET(Owce_N!$C$4,W26,X26)","v":{"$error":"#N/A"}},{"$f":"OFFSET(Owce_N!$C$4,W26,7)","v":{"$error":"#N/A"}},{"$f":"OFFSET(Owce_N!$C$4,W26,X26+2)*$J$12","v":{"$error":"#N/A"}},"",null,0,null,0]
[null,null,null,null,null,null,null,null,0,"-","-","-",null,null,null,null,null,null,null,null,null,0,{"$f":"MATCH(D27,Owce_N!$B$4:$B$11,0)-1","v":{"$error":"#N/A"}},{"$f":"MATCH(E27,Owce_N!$B$4:$D$4,0)-2","v":{"$error":"#N/A"}},{"$f":"OFFSET(Owce_N!$C$4,W27,X27)","v":{"$error":"#N/A"}},{"$f":"OFFSET(Owce_N!$C$4,W27,7)","v":{"$error":"#N/A"}},{"$f":"OFFSET(Owce_N!$C$4,W27,X27+2)*$J$12","v":{"$error":"#N/A"}},"",null,0,null,0]
[null,null,null,null,null,null,null,null,0,"-","-","-",null,null,null,null,null,null,null,null,null,0,{"$f":"MATCH(D28,Owce_N!$B$4:$B$11,0)-1","v":{"$error":"#N/A"}},{"$f":"MATCH(E28,Owce_N!$B$4:$D$4,0)-2","v":{"$error":"#N/A"}},{"$f":"OFFSET(Owce_N!$C$4,W28,X28)","v":{"$error":"#N/A"}},{"$f":"OFFSET(Owce_N!$C$4,W28,7)","v":{"$error":"#N/A"}},{"$f":"OFFSET(Owce_N!$C$4,W28,X28+2)*$J$12","v":{"$error":"#N/A"}},"",null,0,null,0]
[null,null,null,null,null,null,null,null,0,"-","-","-",null,null,null,null,null,null,null,null,null,0,{"$f":"MATCH(D29,Owce_N!$B$4:$B$11,0)-1","v":{"$error":"#N/A"}},{"$f":"MATCH(E29,Owce_N!$B$4:$D$4,0)-2","v":{"$error":"#N/A"}},{"$f":"OFFSET(Owce_N!$C$4,W29,X29)","v":{"$error":"#N/A"}},{"$f":"OFFSET(Owce_N!$C$4,W29,7)","v":{"$error":"#N/A"}},{"$f":"OFFSET(Owce_N!$C$4,W29,X29+2)*$J$12","v":{"$error":"#N/A"}},"",null,0,null,0]
[null,null,null,null,null,null,null,null,0,"-","-","-",null,null,null,null,null,null,null,null,null,0,{"$f":"MATCH(D30,Owce_N!$B$4:$B$11,0)-1","v":{"$error":"#N/A"}},{"$f":"MATCH(E30,Owce_N!$B$4:$D$4,0)-2","v":{"$error":"#N/A"}},{"$f":"OFFSET(Owce_N!$C$4,W30,X30)","v":{"$error":"#N/A"}},{"$f":"OFFSET(Owce_N!$C$4,W30,7)","v":{"$error":"#N/A"}},{"$f":"OFFSET(Owce_N!$C$4,W30,X30+2)*$J$12","v":{"$error":"#N/A"}},"",null,0,null,0]
[null,null,null,null,null,null,null,null,0,"-","-","-",null,null,null,null,null,null,null,null,null,0,{"$f":"MATCH(D31,Owce_N!$B$4:$B$11,0)-1","v":{"$error":"#N/A"}},{"$f":"MATCH(E31,Owce_N!$B$4:$D$4,0)-2","v":{"$error":"#N/A"}},{"$f":"OFFSET(Owce_N!$C$4,W31,X31)","v":{"$error":"#N/A"}},{"$f":"OFFSET(Owce_N!$C$4,W31,7)","v":{"$error":"#N/A"}},{"$f":"OFFSET(Owce_N!$C$4,W31,X31+2)*$J$12","v":{"$error":"#N/A"}},"",null,0,null,0]
[null,null,null,null,null,null,null,null,0,"-","-","-",null,null,null,null,null,null,null,null,null,0,{"$f":"MATCH(D32,Owce_N!$B$4:$B$11,0)-1","v":{"$error":"#N/A"}},{"$f":"MATCH(E32,Owce_N!$B$4:$D$4,0)-2","v":{"$error":"#N/A"}},{"$f":"OFFSET(Owce_N!$C$4,W32,X32)","v":{"$error":"#N/A"}},{"$f":"OFFSET(Owce_N!$C$4,W32,7)","v":{"$error":"#N/A"}},{"$f":"OFFSET(Owce_N!$C$4,W32,X32+2)*$J$12","v":{"$error":"#N/A"}},"",null,0,null,0]
[null,null,null,null,null,null,null,null,0,"-","-","-",null,null,null,null,null,null,null,null,null,0,{"$f":"MATCH(D33,Owce_N!$B$4:$B$11,0)-1","v":{"$error":"#N/A"}},{"$f":"MATCH(E33,Owce_N!$B$4:$D$4,0)-2","v":{"$error":"#N/A"}},{"$f":"OFFSET(Owce_N!$C$4,W33,X33)","v":{"$error":"#N/A"}},{"$f":"OFFSET(Owce_N!$C$4,W33,7)","v":{"$error":"#N/A"}},{"$f":"OFFSET(Owce_N!$C$4,W33,X33+2)*$J$12","v":{"$error":"#N/A"}},"",null,0,null,0]
[null,null,null,null,null,null,null,null,0,"-","-","-",null,null,null,null,null,null,null,null,null,0,{"$f":"MATCH(D34,Owce_N!$B$4:$B$11,0)-1","v":{"$error":"#N/A"}},{"$f":"MATCH(E34,Owce_N!$B$4:$D$4,0)-2","v":{"$error":"#N/A"}},{"$f":"OFFSET(Owce_N!$C$4,W34,X34)","v":{"$error":"#N/A"}},{"$f":"OFFSET(Owce_N!$C$4,W34,7)","v":{"$error":"#N/A"}},{"$f":"OFFSET(Owce_N!$C$4,W34,X34+2)*$J$12","v":{"$error":"#N/A"}},"",null,0,null,0]
[null,null,null,null,null,null,null,null,0,"-","-","-",null,null,null,null,null,null,null,null,null,0,{"$f":"MATCH(D35,Owce_N!$B$4:$B$11,0)-1","v":{"$error":"#N/A"}},{"$f":"MATCH(E35,Owce_N!$B$4:$D$4,0)-2","v":{"$error":"#N/A"}},{"$f":"OFFSET(Owce_N!$C$4,W35,X35)","v":{"$error":"#N/A"}},{"$f":"OFFSET(Owce_N!$C$4,W35,7)","v":{"$error":"#N/A"}},{"$f":"OFFSET(Owce_N!$C$4,W35,X35+2)*$J$12","v":{"$error":"#N/A"}},"",null,0,null,0]
[null,null,null,null,null,null,null,null,0,"-","-","-",null,null,null,null,null,null,null,null,null,0,{"$f":"MATCH(D36,Owce_N!$B$4:$B$11,0)-1","v":{"$error":"#N/A"}},{"$f":"MATCH(E36,Owce_N!$B$4:$D$4,0)-2","v":{"$error":"#N/A"}},{"$f":"OFFSET(Owce_N!$C$4,W36,X36)","v":{"$error":"#N/A"}},{"$f":"OFFSET(Owce_N!$C$4,W36,7)","v":{"$error":"#N/A"}},{"$f":"OFFSET(Owce_N!$C$4,W36,X36+2)*$J$12","v":{"$error":"#N/A"}},"",null,0,null,0]
[null,null,null,null,null,null,null,null,0,"-","-","-",null,null,null,null,null,null,null,null,null,0,{"$f":"MATCH(D37,Owce_N!$B$4:$B$11,0)-1","v":{"$error":"#N/A"}},{"$f":"MATCH(E37,Owce_N!$B$4:$D$4,0)-2","v":{"$error":"#N/A"}},{"$f":"OFFSET(Owce_N!$C$4,W37,X37)","v":{"$error":"#N/A"}},{"$f":"OFFSET(Owce_N!$C$4,W37,7)","v":{"$error":"#N/A"}},{"$f":"OFFSET(Owce_N!$C$4,W37,X37+2)*$J$12","v":{"$error":"#N/A"}},"",null,0,null,0]
[null,null,null,null,null,null,null,null,0,"-","-","-",null,null,null,null,null,null,null,null,null,0,{"$f":"MATCH(D38,Owce_N!$B$4:$B$11,0)-1","v":{"$error":"#N/A"}},{"$f":"MATCH(E38,Owce_N!$B$4:$D$4,0)-2","v":{"$error":"#N/A"}},{"$f":"OFFSET(Owce_N!$C$4,W38,X38)","v":{"$error":"#N/A"}},{"$f":"OFFSET(Owce_N!$C$4,W38,7)","v":{"$error":"#N/A"}},{"$f":"OFFSET(Owce_N!$C$4,W38,X38+2)*$J$12","v":{"$error":"#N/A"}},"",null,0,null,0]
[null,null,null,null,null,null,null,null,0,"-","-","-",null,null,null,null,null,null,null,null,null,0,{"$f":"MATCH(D39,Owce_N!$B$4:$B$11,0)-1","v":{"$error":"#N/A"}},{"$f":"MATCH(E39,Owce_N!$B$4:$D$4,0)-2","v":{"$error":"#N/A"}},{"$f":"OFFSET(Owce_N!$C$4,W39,X39)","v":{"$error":"#N/A"}},{"$f":"OFFSET(Owce_N!$C$4,W39,7)","v":{"$error":"#N/A"}},{"$f":"OFFSET(Owce_N!$C$4,W39,X39+2)*$J$12","v":{"$error":"#N/A"}},"",null,0,null,0]
[null,null,null,null,null,null,null,null,0,"-","-","-",null,null,null,null,null,null,null,null,null,0,{"$f":"MATCH(D40,Owce_N!$B$4:$B$11,0)-1","v":{"$error":"#N/A"}},{"$f":"MATCH(E40,Owce_N!$B$4:$D$4,0)-2","v":{"$error":"#N/A"}},{"$f":"OFFSET(Owce_N!$C$4,W40,X40)","v":{"$error":"#N/A"}},{"$f":"OFFSET(Owce_N!$C$4,W40,7)","v":{"$error":"#N/A"}},{"$f":"OFFSET(Owce_N!$C$4,W40,X40+2)*$J$12","v":{"$error":"#N/A"}},"",null,0,null,0]
[null,null,null,null,null,null,null,null,0,"-","-","-",null,null,null,null,null,null,null,null,null,0,{"$f":"MATCH(D41,Owce_N!$B$4:$B$11,0)-1","v":{"$error":"#N/A"}},{"$f":"MATCH(E41,Owce_N!$B$4:$D$4,0)-2","v":{"$error":"#N/A"}},{"$f":"OFFSET(Owce_N!$C$4,W41,X41)","v":{"$error":"#N/A"}},{"$f":"OFFSET(Owce_N!$C$4,W41,7)","v":{"$error":"#N/A"}},{"$f":"OFFSET(Owce_N!$C$4,W41,X41+2)*$J$12","v":{"$error":"#N/A"}},"",null,0,null,0]
[null,null,null,null,null,null,null,null,0,"-","-","-",null,null,null,null,null,null,null,null,null,0,{"$f":"MATCH(D42,Owce_N!$B$4:$B$11,0)-1","v":{"$error":"#N/A"}},{"$f":"MATCH(E42,Owce_N!$B$4:$D$4,0)-2","v":{"$error":"#N/A"}},{"$f":"OFFSET(Owce_N!$C$4,W42,X42)","v":{"$error":"#N/A"}},{"$f":"OFFSET(Owce_N!$C$4,W42,7)","v":{"$error":"#N/A"}},{"$f":"OFFSET(Owce_N!$C$4,W42,X42+2)*$J$12","v":{"$error":"#N/A"}},"",null,0,null,0]
[null,null,null,null,null,null,null,null,0,"-","-","-",null,null,null,null,null,null,null,null,null,0,{"$f":"MATCH(D43,Owce_N!$B$4:$B$11,0)-1","v":{"$error":"#N/A"}},{"$f":"MATCH(E43,Owce_N!$B$4:$D$4,0)-2","v":{"$error":"#N/A"}},{"$f":"OFFSET(Owce_N!$C$4,W43,X43)","v":{"$error":"#N/A"}},{"$f":"OFFSET(Owce_N!$C$4,W43,7)","v":{"$error":"#N/A"}},{"$f":"OFFSET(Owce_N!$C$4,W43,X43+2)*$J$12","v":{"$error":"#N/A"}},"",null,0,null,0]
[null,null,null,null,null,null,null,null,0,"-","-","-",null,null,null,null,null,null,null,null,null,0,{"$f":"MATCH(D44,Owce_N!$B$4:$B$11,0)-1","v":{"$error":"#N/A"}},{"$f":"MATCH(E44,Owce_N!$B$4:$D$4,0)-2","v":{"$error":"#N/A"}},{"$f":"OFFSET(Owce_N!$C$4,W44,X44)","v":{"$error":"#N/A"}},{"$f":"OFFSET(Owce_N!$C$4,W44,7)","v":{"$error":"#N/A"}},{"$f":"OFFSET(Owce_N!$C$4,W44,X44+2)*$J$12","v":{"$error":"#N/A"}},"",null,0,null,0]
[null,null,null,null,null,null,null,null,0,"-","-","-",null,null,null,null,null,null,null,null,null,0,{"$f":"MATCH(D45,Owce_N!$B$4:$B$11,0)-1","v":{"$error":"#N/A"}},{"$f":"MATCH(E45,Owce_N!$B$4:$D$4,0)-2","v":{"$error":"#N/A"}},{"$f":"OFFSET(Owce_N!$C$4,W45,X45)","v":{"$error":"#N/A"}},{"$f":"OFFSET(Owce_N!$C$4,W45,7)","v":{"$error":"#N/A"}},{"$f":"OFFSET(Owce_N!$C$4,W45,X45+2)*$J$12","v":{"$error":"#N/A"}},"",null,0,null,0]
[null,null,null,"SUMA POWIERZCHNI:",null,null,null,null,{"$f":"SUM(I19:I45)","v":0},{"$f":"SUM(J19:J45)","v":0},{"$f":"IFERROR(IF(S46>2,OFFSET(B_ML_N!$B$3,V46,S46+2),\"-\"),\"-\")","v":"-"},{"$f":"IFERROR(IF(X46<>TRUE,IF(AND(I46>0,S46<3),I46,TRUNC(#REF!/K46)),\"-\"),\"-\")","v":"-"},null,null,null,null,null,null,null,null,null,1,{"$f":"MATCH(D46,Owce_N!$B$4:$B$11,0)-1","v":{"$error":"#N/A"}},{"$f":"MATCH(E46,Owce_N!$B$4:$D$4,0)-2","v":{"$error":"#N/A"}},{"$f":"OFFSET(Owce_N!$C$4,W46,X46)","v":{"$error":"#N/A"}},{"$f":"OFFSET(Owce_N!$C$4,W46,7)","v":{"$error":"#N/A"}},{"$f":"OFFSET(Owce_N!$C$4,W46,X46+2)*$J$12","v":{"$error":"#N/A"}},"SUMA POWIERZCHNI:",null,0,null,0]
[null,null,null,"SUMA LICZBY OWIEC-SAMIC W WIEKU POWYŻEJ 12 MIESIĘCY:",null,null,null,null,null,null,null,{"$f":"SUMIF(Z19:Z45,\"M\",L19:L45)","v":0},null,null,null,null,null,null,null,null,null,1,{"$f":"MATCH(D47,Owce_N!$B$4:$B$11,0)-1","v":{"$error":"#N/A"}},{"$f":"MATCH(E47,Owce_N!$B$4:$D$4,0)-2","v":{"$error":"#N/A"}},{"$f":"OFFSET(Owce_N!$C$4,W47,X47)","v":{"$error":"#N/A"}},{"$f":"OFFSET(Owce_N!$C$4,W47,7)","v":{"$error":"#N/A"}},{"$f":"OFFSET(Owce_N!$C$4,W47,X47+2)*$J$12","v":{"$error":"#N/A"}},"SUMA LICZBY OWIEC-SAMIC W WIEKU POWYŻEJ 12 MIESIĘCY:",null,0,null,0]

{"sheet":"Owce_pow (3)","index":25,"n_rows":47,"n_cols":45,"rows_kept":47,"cut":false,"hidden":true,"merged":[[45,3,45,7],[46,3,46,10],[47,9,47,11],[48,9,48,11],[14,9,15,9],[14,10,15,10],[14,11,15,11],[15,5,16,5],[15,6,16,6],[17,4,17,11],[10,3,10,8],[11,3,11,8],[13,3,13,8],[14,3,15,3],[14,4,16,4],[14,6,14,8],[9,3,9,8],[0,10,0,11],[3,2,3,12],[5,4,5,11],[7,3,7,4],[7,5,7,6]]}
[null,null,null,null,null,null,null,null,null,null,"POWRÓT",null,null,null,null,null,null,null,null,null,null,null,null,null,null,null,null,null,null,null,null,null,null,null,null,null,null,null,null,null,null,null,null,null,"UWAGI"]
[]
[]
[null,null,"II. Część szczegółowa  "]
[null,null,"II.3.","Pakiet 3. Dobrostan owiec"]
[null,null,null,"II.3.3.3.","Dopuszczalna maksymalna liczba sztuk owiec, które mogą przebywać jednocześnie w gospodarstwie z uwzględnieniem  wymogów – zwiększona powierzchnia w budynkach."]
[]
[null,null,null,"3) Numer siedziby stada:"]
[]
[null,null,null,"Powierzchnia bytowa przeznaczona dla owiec w pomieszczeniach w gospodarstwie rolnym:",null,null,null,null,null,null,"m2"]
[]
[null,null,null,"Plenność maciorek (stosunek liczby urodzonych jagniąt do liczby maciorek):"]
[]
[null,null,null,"Powierzchnia bytowa w obiekcie dla wszystkich utrzymywanych w siedzibie stada zwierząt z gatunku owca domowa  od dnia złożenia wniosku do dnia 14 marca kolejnego roku. "]
[null,null,null,"\nGrupa technologiczna","Sposób utrzymania","Obiekt","Utrzymywanie grupowe / pojedyncze spełniające wymóg minimalnych powierzchni",null,null," Minimalna powierzch-\nnia  na  kojec  / kojce","Powierz-\nchnia mini-\nmalna na owcę","Maksy-\nmalna liczba owiec"]
[null,null,null,null,null,"Nazwa(y) lub nr kojca/kojcy","Liczba zwierząt lub kojcy pojedyn-\nczych","Powierzchnia na sztukę utrz. grupowo lub kojca pojedynczego","Powie-\nrzchnia",null,null,null,null,null,null,null,null,null,null,null,null,"ukryj","grupa","sposób","Norma","OWCA",null,"poj/grup","poj","p/r-m","grup","g/r=m"]
[null,null,null,null,null,null,null,"m2/szt.\n(kojec)","m2","m2","m2/szt.","szt",null,null,null,null,null,null,null,null,null,null,"kat","utrz","norma","s> 12","jag"]
[null,null,null,null,{"$f":"IF(J46>J10,\"ZA MAŁA POWIERZCHNIA OBIEKTU !\",\"\")","v":""},null,null,null,null,null,null,null,null,null,null,null,null,null,null,null,null,null,"kat","utrz","norma","s> 12","jag"]
[null,null,null,null,null,null,null,null,{"$f":"G19*H19","v":0},{"$f":"IFERROR(K19*L19,\"-\")","v":"-"},{"$f":"IFERROR(Y19+AA19,\"-\")","v":"-"},{"$f":"IF(H19<K19,\"-\",IF(X19=0,G19,TRUNC(I19/K19)))","v":"-"},null,null,null,null,null,null,null,null,null,{"$f":"COUNTA(D19:H19)","v":0},{"$f":"MATCH(D19,Owce_N!$B$4:$B$11,0)-1","v":{"$error":"#N/A"}},{"$f":"MATCH(E19,Owce_N!$B$4:$D$4,0)-2","v":{"$error":"#N/A"}},{"$f":"OFFSET(Owce_N!$C$4,W19,X19)","v":{"$error":"#N/A"}},{"$f":"OFFSET(Owce_N!$C$4,W19,7)","v":{"$error":"#N/A"}},{"$f":"OFFSET(Owce_N!$C$4,W19,X19+2)*$J$12","v":{"$error":"#N/A"}},{"$f":"D19&E19","v":""},{"$f":"Owce_N!M5","v":"samiec gatunku owca domowa w wieku powyżej 12 miesięcy, z wyjątkiem samca gatunku owca domowa – skopkapojedynczo"},{"$f":"SUMIF($AB$19:$AB$45,AC19,$G$19:$G$45)","v":0},{"$f":"Owce_N!N5","v":"samiec gatunku owca domowa w wieku powyżej 12 miesięcy, z wyjątkiem samca gatunku owca domowa – skopkagrupowo"},{"$f":"SUMIF($AB$19:$AB$45,AE19,$G$19:$G$45)","v":0}]
[null,null,null,null,null,null,null,null,{"$f":"G20*H20","v":0},{"$f":"IFERROR(K20*L20,\"-\")","v":"-"},{"$f":"IFERROR(Y20+AA20,\"-\")","v":"-"},"-",null,null,null,null,null,null,null,null,null,{"$f":"COUNTA(D20:H20)","v":0},{"$f":"MATCH(D20,Owce_N!$B$4:$B$11,0)-1","v":{"$error":"#N/A"}},{"$f":"MATCH(E20,Owce_N!$B$4:$D$4,0)-2","v":{"$error":"#N/A"}},{"$f":"OFFSET(Owce_N!$C$4,W20,X20)","v":{"$error":"#N/A"}},{"$f":"OFFSET(Owce_N!$C$4,W20,7)","v":{"$error":"#N/A"}},{"$f":"OFFSET(Owce_N!$C$4,W20,X20+2)*$J$12","v":{"$error":"#N/A"}},"",{"$f":"Owce_N!M6","v":"samica gatunku owca domowa w wieku powyżej 12 miesięcypojedynczo"},{"$f":"SUMIF($AB$19:$AB$45,AC20,$G$19:$G$45)","v":0},{"$f":"Owce_N!N6","v":"samica gatunku owca domowa w wieku powyżej 12 miesięcygrupowo"},{"$f":"SUMIF($AB$19:$AB$45,AE20,$G$19:$G$45)","v":0}]
[null,null,null,null,null,null,null,null,{"$f":"G21*H21","v":0},{"$f":"IFERROR(K21*L21,\"-\")","v":"-"},"-","-",null,null,null,null,null,null,null,null,null,0,{"$f":"MATCH(D21,Owce_N!$B$4:$B$11,0)-1","v":{"$error":"#N/A"}},{"$f":"MATCH(E21,Owce_N!$B$4:$D$4,0)-2","v":{"$error":"#N/A"}},{"$f":"OFFSET(Owce_N!$C$4,W21,X21)","v":{"$error":"#N/A"}},{"$f":"OFFSET(Owce_N!$C$4,W21,7)","v":{"$error":"#N/A"}},{"$f":"OFFSET(Owce_N!$C$4,W21,X21+2)*$J$12","v":{"$error":"#N/A"}},"",{"$f":"Owce_N!M7","v":"samica gatunku owca domowa w wieku powyżej 12 miesięcy wraz z jagnięciempojedynczo"},0,{"$f":"Owce_N!N7","v":"samica gatunku owca domowa w wieku powyżej 12 miesięcy wraz z jagnięciemgrupowo"},0]
[null,null,null,null,null,null,null,null,{"$f":"G22*H22","v":0},{"$f":"IFERROR(K22*L22,\"-\")","v":"-"},"-","-",null,null,null,null,null,null,null,null,null,0,{"$f":"MATCH(D22,Owce_N!$B$4:$B$11,0)-1","v":{"$error":"#N/A"}},{"$f":"MATCH(E22,Owce_N!$B$4:$D$4,0)-2","v":{"$error":"#N/A"}},{"$f":"OFFSET(Owce_N!$C$4,W22,X22)","v":{"$error":"#N/A"}},{"$f":"OFFSET(Owce_N!$C$4,W22,7)","v":{"$error":"#N/A"}},{"$f":"OFFSET(Owce_N!$C$4,W22,X22+2)*$J$12","v":{"$error":"#N/A"}},"",{"$f":"Owce_N!M8","v":"samica gatunku owca domowa w wieku od 6 do 12 miesięcypojedynczo"},0,{"$f":"Owce_N!N8","v":"samica gatunku owca domowa w wieku od 6 do 12 miesięcygrupowo"},0]
[null,null,null,null,null,null,null,null,0,"-","-","-",null,null,null,null,null,null,null,null,null,0,{"$f":"MATCH(D23,Owce_N!$B$4:$B$11,0)-1","v":{"$error":"#N/A"}},{"$f":"MATCH(E23,Owce_N!$B$4:$D$4,0)-2","v":{"$error":"#N/A"}},{"$f":"OFFSET(Owce_N!$C$4,W23,X23)","v":{"$error":"#N/A"}},{"$f":"OFFSET(Owce_N!$C$4,W23,7)","v":{"$error":"#N/A"}},{"$f":"OFFSET(Owce_N!$C$4,W23,X23+2)*$J$12","v":{"$error":"#N/A"}},"",{"$f":"Owce_N!M9","v":"samiec gatunku owca domowa w wieku od 6 do 12 miesięcy, z wyjątkiem samca gatunku owca domowa – skopkapojedynczo"},0,{"$f":"Owce_N!N9","v":"samiec gatunku owca domowa w wieku od 6 do 12 miesięcy, z wyjątkiem samca gatunku owca domowa – skopkagrupowo"},0]
[null,null,null,null,null,null,null,null,0,"-","-","-",null,null,null,null,null,null,null,null,null,0,{"$f":"MATCH(D24,Owce_N!$B$4:$B$11,0)-1","v":{"$error":"#N/A"}},{"$f":"MATCH(E24,Owce_N!$B$4:$D$4,0)-2","v":{"$error":"#N/A"}},{"$f":"OFFSET(Owce_N!$C$4,W24,X24)","v":{"$error":"#N/A"}},{"$f":"OFFSET(Owce_N!$C$4,W24,7)","v":{"$error":"#N/A"}},{"$f":"OFFSET(Owce_N!$C$4,W24,X24+2)*$J$12","v":{"$error":"#N/A"}},"",{"$f":"Owce_N!M10","v":"samiec gatunku owca domowa - skopekpojedynczo"},0,{"$f":"Owce_N!N10","v":"samiec gatunku owca domowa - skopekgrupowo"},0]
[null,null,null,null,null,null,null,null,0,"-","-","-",null,null,null,null,null,null,null,null,null,0,{"$f":"MATCH(D25,Owce_N!$B$4:$B$11,0)-1","v":{"$error":"#N/A"}},{"$f":"MATCH(E25,Owce_N!$B$4:$D$4,0)-2","v":{"$error":"#N/A"}},{"$f":"OFFSET(Owce_N!$C$4,W25,X25)","v":{"$error":"#N/A"}},{"$f":"OFFSET(Owce_N!$C$4,W25,7)","v":{"$error":"#N/A"}},{"$f":"OFFSET(Owce_N!$C$4,W25,X25+2)*$J$12","v":{"$error":"#N/A"}},"",null,0,null,0]
[null,null,null,null,null,null,null,null,0,"-","-","-",null,null,null,null,null,null,null,null,null,0,{"$f":"MATCH(D26,Owce_N!$B$4:$B$11,0)-1","v":{"$error":"#N/A"}},{"$f":"MATCH(E26,Owce_N!$B$4:$D$4,0)-2","v":{"$error":"#N/A"}},{"$f":"OFFSET(Owce_N!$C$4,W26,X26)","v":{"$error":"#N/A"}},{"$f":"OFFSET(Owce_N!$C$4,W26,7)","v":{"$error":"#N/A"}},{"$f":"OFFSET(Owce_N!$C$4,W26,X26+2)*$J$12","v":{"$error":"#N/A"}},"",null,0,null,0]
[null,null,null,null,null,null,null,null,0,"-","-","-",null,null,null,null,null,null,null,null,null,0,{"$f":"MATCH(D27,Owce_N!$B$4:$B$11,0)-1","v":{"$error":"#N/A"}},{"$f":"MATCH(E27,Owce_N!$B$4:$D$4,0)-2","v":{"$error":"#N/A"}},{"$f":"OFFSET(Owce_N!$C$4,W27,X27)","v":{"$error":"#N/A"}},{"$f":"OFFSET(Owce_N!$C$4,W27,7)","v":{"$error":"#N/A"}},{"$f":"OFFSET(Owce_N!$C$4,W27,X27+2)*$J$12","v":{"$error":"#N/A"}},"",null,0,null,0]
[null,null,null,null,null,null,null,null,0,"-","-","-",null,null,null,null,null,null,null,null,null,0,{"$f":"MATCH(D28,Owce_N!$B$4:$B$11,0)-1","v":{"$error":"#N/A"}},{"$f":"MATCH(E28,Owce_N!$B$4:$D$4,0)-2","v":{"$error":"#N/A"}},{"$f":"OFFSET(Owce_N!$C$4,W28,X28)","v":{"$error":"#N/A"}},{"$f":"OFFSET(Owce_N!$C$4,W28,7)","v":{"$error":"#N/A"}},{"$f":"OFFSET(Owce_N!$C$4,W28,X28+2)*$J$12","v":{"$error":"#N/A"}},"",null,0,null,0]
[null,null,null,null,null,null,null,null,0,"-","-","-",null,null,null,null,null,null,null,null,null,0,{"$f":"MATCH(D29,Owce_N!$B$4:$B$11,0)-1","v":{"$error":"#N/A"}},{"$f":"MATCH(E29,Owce_N!$B$4:$D$4,0)-2","v":{"$error":"#N/A"}},{"$f":"OFFSET(Owce_N!$C$4,W29,X29)","v":{"$error":"#N/A"}},{"$f":"OFFSET(Owce_N!$C$4,W29,7)","v":{"$error":"#N/A"}},{"$f":"OFFSET(Owce_N!$C$4,W29,X29+2)*$J$12","v":{"$error":"#N/A"}},"",null,0,null,0]
[null,null,null,null,null,null,null,null,0,"-","-","-",null,null,null,null,null,null,null,null,null,0,{"$f":"MATCH(D30,Owce_N!$B$4:$B$11,0)-1","v":{"$error":"#N/A"}},{"$f":"MATCH(E30,Owce_N!$B$4:$D$4,0)-2","v":{"$error":"#N/A"}},{"$f":"OFFSET(Owce_N!$C$4,W30,X30)","v":{"$error":"#N/A"}},{"$f":"OFFSET(Owce_N!$C$4,W30,7)","v":{"$error":"#N/A"}},{"$f":"OFFSET(Owce_N!$C$4,W30,X30+2)*$J$12","v":{"$error":"#N/A"}},"",null,0,null,0]
[null,null,null,null,null,null,null,null,0,"-","-","-",null,null,null,null,null,null,null,null,null,0,{"$f":"MATCH(D31,Owce_N!$B$4:$B$11,0)-1","v":{"$error":"#N/A"}},{"$f":"MATCH(E31,Owce_N!$B$4:$D$4,0)-2","v":{"$error":"#N/A"}},{"$f":"OFFSET(Owce_N!$C$4,W31,X31)","v":{"$error":"#N/A"}},{"$f":"OFFSET(Owce_N!$C$4,W31,7)","v":{"$error":"#N/A"}},{"$f":"OFFSET(Owce_N!$C$4,W31,X31+2)*$J$12","v":{"$error":"#N/A"}},"",null,0,null,0]
[null,null,null,null,null,null,null,null,0,"-","-","-",null,null,null,null,null,null,null,null,null,0,{"$f":"MATCH(D32,Owce_N!$B$4:$B$11,0)-1","v":{"$error":"#N/A"}},{"$f":"MATCH(E32,Owce_N!$B$4:$D$4,0)-2","v":{"$error":"#N/A"}},{"$f":"OFFSET(Owce_N!$C$4,W32,X32)","v":{"$error":"#N/A"}},{"$f":"OFFSET(Owce_N!$C$4,W32,7)","v":{"$error":"#N/A"}},{"$f":"OFFSET(Owce_N!$C$4,W32,X32+2)*$J$12","v":{"$error":"#N/A"}},"",null,0,null,0]
[null,null,null,null,null,null,null,null,0,"-","-","-",null,null,null,null,null,null,null,null,null,0,{"$f":"MATCH(D33,Owce_N!$B$4:$B$11,0)-1","v":{"$error":"#N/A"}},{"$f":"MATCH(E33,Owce_N!$B$4:$D$4,0)-2","v":{"$error":"#N/A"}},{"$f":"OFFSET(Owce_N!$C$4,W33,X33)","v":{"$error":"#N/A"}},{"$f":"OFFSET(Owce_N!$C$4,W33,7)","v":{"$error":"#N/A"}},{"$f":"OFFSET(Owce_N!$C$4,W33,X33+2)*$J$12","v":{"$error":"#N/A"}},"",null,0,null,0]
[null,null,null,null,null,null,null,null,0,"-","-","-",null,null,null,null,null,null,null,null,null,0,{"$f":"MATCH(D34,Owce_N!$B$4:$B$11,0)-1","v":{"$error":"#N/A"}},{"$f":"MATCH(E34,Owce_N!$B$4:$D$4,0)-2","v":{"$error":"#N/A"}},{"$f":"OFFSET(Owce_N!$C$4,W34,X34)","v":{"$error":"#N/A"}},{"$f":"OFFSET(Owce_N!$C$4,W34,7)","v":{"$error":"#N/A"}},{"$f":"OFFSET(Owce_N!$C$4,W34,X34+2)*$J$12","v":{"$error":"#N/A"}},"",null,0,null,0]
[null,null,null,null,null,null,null,null,0,"-","-","-",null,null,null,null,null,null,null,null,null,0,{"$f":"MATCH(D35,Owce_N!$B$4:$B$11,0)-1","v":{"$error":"#N/A"}},{"$f":"MATCH(E35,Owce_N!$B$4:$D$4,0)-2","v":{"$error":"#N/A"}},{"$f":"OFFSET(Owce_N!$C$4,W35,X35)","v":{"$error":"#N/A"}},{"$f":"OFFSET(Owce_N!$C$4,W35,7)","v":{"$error":"#N/A"}},{"$f":"OFFSET(Owce_N!$C$4,W35,X35+2)*$J$12","v":{"$error":"#N/A"}},"",null,0,null,0]
[null,null,null,null,null,null,null,null,0,"-","-","-",null,null,null,null,null,null,null,null,null,0,{"$f":"MATCH(D36,Owce_N!$B$4:$B$11,0)-1","v":{"$error":"#N/A"}},{"$f":"MATCH(E36,Owce_N!$B$4:$D$4,0)-2","v":{"$error":"#N/A"}},{"$f":"OFFSET(Owce_N!$C$4,W36,X36)","v":{"$error":"#N/A"}},{"$f":"OFFSET(Owce_N!$C$4,W36,7)","v":{"$error":"#N/A"}},{"$f":"OFFSET(Owce_N!$C$4,W36,X36+2)*$J$12","v":{"$error":"#N/A"}},"",null,0,null,0]
[null,null,null,null,null,null,null,null,0,"-","-","-",null,null,null,null,null,null,null,null,null,0,{"$f":"MATCH(D37,Owce_N!$B$4:$B$11,0)-1","v":{"$error":"#N/A"}},{"$f":"MATCH(E37,Owce_N!$B$4:$D$4,0)-2","v":{"$error":"#N/A"}},{"$f":"OFFSET(Owce_N!$C$4,W37,X37)","v":{"$error":"#N/A"}},{"$f":"OFFSET(Owce_N!$C$4,W37,7)","v":{"$error":"#N/A"}},{"$f":"OFFSET(Owce_N!$C$4,W37,X37+2)*$J$12","v":{"$error":"#N/A"}},"",null,0,null,0]
[null,null,null,null,null,null,null,null,0,"-","-","-",null,null,null,null,null,null,null,null,null,0,{"$f":"MATCH(D38,Owce_N!$B$4:$B$11,0)-1","v":{"$error":"#N/A"}},{"$f":"MATCH(E38,Owce_N!$B$4:$D$4,0)-2","v":{"$error":"#N/A"}},{"$f":"OFFSET(Owce_N!$C$4,W38,X38)","v":{"$error":"#N/A"}},{"$f":"OFFSET(Owce_N!$C$4,W38,7)","v":{"$error":"#N/A"}},{"$f":"OFFSET(Owce_N!$C$4,W38,X38+2)*$J$12","v":{"$error":"#N/A"}},"",null,0,null,0]
[null,null,null,null,null,null,null,null,0,"-","-","-",null,null,null,null,null,null,null,null,null,0,{"$f":"MATCH(D39,Owce_N!$B$4:$B$11,0)-1","v":{"$error":"#N/A"}},{"$f":"MATCH(E39,Owce_N!$B$4:$D$4,0)-2","v":{"$error":"#N/A"}},{"$f":"OFFSET(Owce_N!$C$4,W39,X39)","v":{"$error":"#N/A"}},{"$f":"OFFSET(Owce_N!$C$4,W39,7)","v":{"$error":"#N/A"}},{"$f":"OFFSET(Owce_N!$C$4,W39,X39+2)*$J$12","v":{"$error":"#N/A"}},"",null,0,null,0]
[null,null,null,null,null,null,null,null,0,"-","-","-",null,null,null,null,null,null,null,null,null,0,{"$f":"MATCH(D40,Owce_N!$B$4:$B$11,0)-1","v":{"$error":"#N/A"}},{"$f":"MATCH(E40,Owce_N!$B$4:$D$4,0)-2","v":{"$error":"#N/A"}},{"$f":"OFFSET(Owce_N!$C$4,W40,X40)","v":{"$error":"#N/A"}},{"$f":"OFFSET(Owce_N!$C$4,W40,7)","v":{"$error":"#N/A"}},{"$f":"OFFSET(Owce_N!$C$4,W40,X40+2)*$J$12","v":{"$error":"#N/A"}},"",null,0,null,0]
[null,null,null,null,null,null,null,null,0,"-","-","-",null,null,null,null,null,null,null,null,null,0,{"$f":"MATCH(D41,Owce_N!$B$4:$B$11,0)-1","v":{"$error":"#N/A"}},{"$f":"MATCH(E41,Owce_N!$B$4:$D$4,0)-2","v":{"$error":"#N/A"}},{"$f":"OFFSET(Owce_N!$C$4,W41,X41)","v":{"$error":"#N/A"}},{"$f":"OFFSET(Owce_N!$C$4,W41,7)","v":{"$error":"#N/A"}},{"$f":"OFFSET(Owce_N!$C$4,W41,X41+2)*$J$12","v":{"$error":"#N/A"}},"",null,0,null,0]
[null,null,null,null,null,null,null,null,0,"-","-","-",null,null,null,null,null,null,null,null,null,0,{"$f":"MATCH(D42,Owce_N!$B$4:$B$11,0)-1","v":{"$error":"#N/A"}},{"$f":"MATCH(E42,Owce_N!$B$4:$D$4,0)-2","v":{"$error":"#N/A"}},{"$f":"OFFSET(Owce_N!$C$4,W42,X42)","v":{"$error":"#N/A"}},{"$f":"OFFSET(Owce_N!$C$4,W42,7)","v":{"$error":"#N/A"}},{"$f":"OFFSET(Owce_N!$C$4,W42,X42+2)*$J$12","v":{"$error":"#N/A"}},"",null,0,null,0]
[null,null,null,null,null,null,null,null,0,"-","-","-",null,null,null,null,null,null,null,null,null,0,{"$f":"MATCH(D43,Owce_N!$B$4:$B$11,0)-1","v":{"$error":"#N/A"}},{"$f":"MATCH(E43,Owce_N!$B$4:$D$4,0)-2","v":{"$error":"#N/A"}},{"$f":"OFFSET(Owce_N!$C$4,W43,X43)","v":{"$error":"#N/A"}},{"$f":"OFFSET(Owce_N!$C$4,W43,7)","v":{"$error":"#N/A"}},{"$f":"OFFSET(Owce_N!$C$4,W43,X43+2)*$J$12","v":{"$error":"#N/A"}},"",null,0,null,0]
[null,null,null,null,null,null,null,null,0,"-","-","-",null,null,null,null,null,null,null,null,null,0,{"$f":"MATCH(D44,Owce_N!$B$4:$B$11,0)-1","v":{"$error":"#N/A"}},{"$f":"MATCH(E44,Owce_N!$B$4:$D$4,0)-2","v":{"$error":"#N/A"}},{"$f":"OFFSET(Owce_N!$C$4,W44,X44)","v":{"$error":"#N/A"}},{"$f":"OFFSET(Owce_N!$C$4,W44,7)","v":{"$error":"#N/A"}},{"$f":"OFFSET(Owce_N!$C$4,W44,X44+2)*$J$12","v":{"$error":"#N/A"}},"",null,0,null,0]
[null,null,null,null,null,null,null,null,0,"-","-","-",null,null,null,null,null,null,null,null,null,0,{"$f":"MATCH(D45,Owce_N!$B$4:$B$11,0)-1","v":{"$error":"#N/A"}},{"$f":"MATCH(E45,Owce_N!$B$4:$D$4,0)-2","v":{"$error":"#N/A"}},{"$f":"OFFSET(Owce_N!$C$4,W45,X45)","v":{"$error":"#N/A"}},{"$f":"OFFSET(Owce_N!$C$4,W45,7)","v":{"$error":"#N/A"}},{"$f":"OFFSET(Owce_N!$C$4,W45,X45+2)*$J$12","v":{"$error":"#N/A"}},"",null,0,null,0]
[null,null,null,"SUMA POWIERZCHNI:",null,null,null,null,{"$f":"SUM(I19:I45)","v":0},{"$f":"SUM(J19:J45)","v":0},{"$f":"IFERROR(IF(S46>2,OFFSET(B_ML_N!$B$3,V46,S46+2),\"-\"),\"-\")","v":"-"},{"$f":"IFERROR(IF(X46<>TRUE,IF(AND(I46>0,S46<3),I46,TRUNC(#REF!/K46)),\"-\"),\"-\")","v":"-"},null,null,null,null,null,null,null,null,null,1,{"$f":"MATCH(D46,Owce_N!$B$4:$B$11,0)-1","v":{"$error":"#N/A"}},{"$f":"MATCH(E46,Owce_N!$B$4:$D$4,0)-2","v":{"$error":"#N/A"}},{"$f":"OFFSET(Owce_N!$C$4,W46,X46)","v":{"$error":"#N/A"}},{"$f":"OFFSET(Owce_N!$C$4,W46,7)","v":{"$error":"#N/A"}},{"$f":"OFFSET(Owce_N!$C$4,W46,X46+2)*$J$12","v":{"$error":"#N/A"}},"SUMA POWIERZCHNI:",null,0,null,0]
[null,null,null,"SUMA LICZBY OWIEC-SAMIC W WIEKU POWYŻEJ 12 MIESIĘCY:",null,null,null,null,null,null,null,{"$f":"SUMIF(Z19:Z45,\"M\",L19:L45)","v":0},null,null,null,null,null,null,null,null,null,1,{"$f":"MATCH(D47,Owce_N!$B$4:$B$11,0)-1","v":{"$error":"#N/A"}},{"$f":"MATCH(E47,Owce_N!$B$4:$D$4,0)-2","v":{"$error":"#N/A"}},{"$f":"OFFSET(Owce_N!$C$4,W47,X47)","v":{"$error":"#N/A"}},{"$f":"OFFSET(Owce_N!$C$4,W47,7)","v":{"$error":"#N/A"}},{"$f":"OFFSET(Owce_N!$C$4,W47,X47+2)*$J$12","v":{"$error":"#N/A"}},"SUMA LICZBY OWIEC-SAMIC W WIEKU POWYŻEJ 12 MIESIĘCY:",null,0,null,0]

{"sheet":"Owce_pow (4)","index":26,"n_rows":47,"n_cols":45,"rows_kept":47,"cut":false,"hidden":true,"merged":[[45,3,45,7],[46,3,46,10],[47,9,47,11],[48,9,48,11],[14,9,15,9],[14,10,15,10],[14,11,15,11],[15,5,16,5],[15,6,16,6],[17,4,17,11],[10,3,10,8],[11,3,11,8],[13,3,13,8],[14,3,15,3],[14,4,16,4],[14,6,14,8],[9,3,9,8],[0,10,0,11],[3,2,3,12],[5,4,5,11],[7,3,7,4],[7,5,7,6]]}
[null,null,null,null,null,null,null,null,null,null,"POWRÓT",null,null,null,null,null,null,null,null,null,null,null,null,null,null,null,null,null,null,null,null,null,null,null,null,null,null,null,null,null,null,null,null,null,"UWAGI"]
[]
[]
[null,null,"II. Część szczegółowa  "]
[null,null,"II.3.","Pakiet 3. Dobrostan owiec"]
[null,null,null,"II.3.3.3.","Dopuszczalna maksymalna liczba sztuk owiec, które mogą przebywać jednocześnie w gospodarstwie z uwzględnieniem  wymogów – zwiększona powierzchnia w budynkach."]
[]
[null,null,null,"4) Numer siedziby stada:"]
[]
[null,null,null,"Powierzchnia bytowa przeznaczona dla owiec w pomieszczeniach w gospodarstwie rolnym:",null,null,null,null,null,null,"m2"]
[]
[null,null,null,"Plenność maciorek (stosunek liczby urodzonych jagniąt do liczby maciorek):"]
[]
[null,null,null,"Powierzchnia bytowa w obiekcie dla wszystkich utrzymywanych w siedzibie stada zwierząt z gatunku owca domowa  od dnia złożenia wniosku do dnia 14 marca kolejnego roku. "]
[null,null,null,"\nGrupa technologiczna","Sposób utrzymania","Obiekt","Utrzymywanie grupowe / pojedyncze spełniające wymóg minimalnych powierzchni",null,null," Minimalna powierzch-\nnia  na  kojec  / kojce","Powierz-\nchnia mini-\nmalna na owcę","Maksy-\nmalna liczba owiec"]
[null,null,null,null,null,"Nazwa(y) lub nr kojca/kojcy","Liczba zwierząt lub kojcy pojedyn-\nczych","Powierzchnia na sztukę utrz. grupowo lub kojca pojedynczego","Powie-\nrzchnia",null,null,null,null,null,null,null,null,null,null,null,null,"ukryj","grupa","sposób","Norma","OWCA",null,"poj/grup","poj","p/r-m","grup","g/r=m"]
[null,null,null,null,null,null,null,"m2/szt.\n(kojec)","m2","m2","m2/szt.","szt",null,null,null,null,null,null,null,null,null,null,"kat","utrz","norma","s> 12","jag"]
[null,null,null,null,{"$f":"IF(J46>J10,\"ZA MAŁA POWIERZCHNIA OBIEKTU !\",\"\")","v":""},null,null,null,null,null,null,null,null,null,null,null,null,null,null,null,null,null,"kat","utrz","norma","s> 12","jag"]
[null,null,null,null,null,null,null,null,{"$f":"G19*H19","v":0},{"$f":"IFERROR(K19*L19,\"-\")","v":"-"},{"$f":"IFERROR(Y19+AA19,\"-\")","v":"-"},{"$f":"IF(H19<K19,\"-\",IF(X19=0,G19,TRUNC(I19/K19)))","v":"-"},null,null,null,null,null,null,null,null,null,{"$f":"COUNTA(D19:H19)","v":0},{"$f":"MATCH(D19,Owce_N!$B$4:$B$11,0)-1","v":{"$error":"#N/A"}},{"$f":"MATCH(E19,Owce_N!$B$4:$D$4,0)-2","v":{"$error":"#N/A"}},{"$f":"OFFSET(Owce_N!$C$4,W19,X19)","v":{"$error":"#N/A"}},{"$f":"OFFSET(Owce_N!$C$4,W19,7)","v":{"$error":"#N/A"}},{"$f":"OFFSET(Owce_N!$C$4,W19,X19+2)*$J$12","v":{"$error":"#N/A"}},{"$f":"D19&E19","v":""},{"$f":"Owce_N!M5","v":"samiec gatunku owca domowa w wieku powyżej 12 miesięcy, z wyjątkiem samca gatunku owca domowa – skopkapojedynczo"},{"$f":"SUMIF($AB$19:$AB$45,AC19,$G$19:$G$45)","v":0},{"$f":"Owce_N!N5","v":"samiec gatunku owca domowa w wieku powyżej 12 miesięcy, z wyjątkiem samca gatunku owca domowa – skopkagrupowo"},{"$f":"SUMIF($AB$19:$AB$45,AE19,$G$19:$G$45)","v":0}]
[null,null,null,null,null,null,null,null,{"$f":"G20*H20","v":0},{"$f":"IFERROR(K20*L20,\"-\")","v":"-"},{"$f":"IFERROR(Y20+AA20,\"-\")","v":"-"},"-",null,null,null,null,null,null,null,null,null,{"$f":"COUNTA(D20:H20)","v":0},{"$f":"MATCH(D20,Owce_N!$B$4:$B$11,0)-1","v":{"$error":"#N/A"}},{"$f":"MATCH(E20,Owce_N!$B$4:$D$4,0)-2","v":{"$error":"#N/A"}},{"$f":"OFFSET(Owce_N!$C$4,W20,X20)","v":{"$error":"#N/A"}},{"$f":"OFFSET(Owce_N!$C$4,W20,7)","v":{"$error":"#N/A"}},{"$f":"OFFSET(Owce_N!$C$4,W20,X20+2)*$J$12","v":{"$error":"#N/A"}},"",{"$f":"Owce_N!M6","v":"samica gatunku owca domowa w wieku powyżej 12 miesięcypojedynczo"},{"$f":"SUMIF($AB$19:$AB$45,AC20,$G$19:$G$45)","v":0},{"$f":"Owce_N!N6","v":"samica gatunku owca domowa w wieku powyżej 12 miesięcygrupowo"},{"$f":"SUMIF($AB$19:$AB$45,AE20,$G$19:$G$45)","v":0}]
[null,null,null,null,null,null,null,null,{"$f":"G21*H21","v":0},{"$f":"IFERROR(K21*L21,\"-\")","v":"-"},"-","-",null,null,null,null,null,null,null,null,null,0,{"$f":"MATCH(D21,Owce_N!$B$4:$B$11,0)-1","v":{"$error":"#N/A"}},{"$f":"MATCH(E21,Owce_N!$B$4:$D$4,0)-2","v":{"$error":"#N/A"}},{"$f":"OFFSET(Owce_N!$C$4,W21,X21)","v":{"$error":"#N/A"}},{"$f":"OFFSET(Owce_N!$C$4,W21,7)","v":{"$error":"#N/A"}},{"$f":"OFFSET(Owce_N!$C$4,W21,X21+2)*$J$12","v":{"$error":"#N/A"}},"",{"$f":"Owce_N!M7","v":"samica gatunku owca domowa w wieku powyżej 12 miesięcy wraz z jagnięciempojedynczo"},0,{"$f":"Owce_N!N7","v":"samica gatunku owca domowa w wieku powyżej 12 miesięcy wraz z jagnięciemgrupowo"},0]
[null,null,null,null,null,null,null,null,{"$f":"G22*H22","v":0},{"$f":"IFERROR(K22*L22,\"-\")","v":"-"},"-","-",null,null,null,null,null,null,null,null,null,0,{"$f":"MATCH(D22,Owce_N!$B$4:$B$11,0)-1","v":{"$error":"#N/A"}},{"$f":"MATCH(E22,Owce_N!$B$4:$D$4,0)-2","v":{"$error":"#N/A"}},{"$f":"OFFSET(Owce_N!$C$4,W22,X22)","v":{"$error":"#N/A"}},{"$f":"OFFSET(Owce_N!$C$4,W22,7)","v":{"$error":"#N/A"}},{"$f":"OFFSET(Owce_N!$C$4,W22,X22+2)*$J$12","v":{"$error":"#N/A"}},"",{"$f":"Owce_N!M8","v":"samica gatunku owca domowa w wieku od 6 do 12 miesięcypojedynczo"},0,{"$f":"Owce_N!N8","v":"samica gatunku owca domowa w wieku od 6 do 12 miesięcygrupowo"},0]
[null,null,null,null,null,null,null,null,0,"-","-","-",null,null,null,null,null,null,null,null,null,0,{"$f":"MATCH(D23,Owce_N!$B$4:$B$11,0)-1","v":{"$error":"#N/A"}},{"$f":"MATCH(E23,Owce_N!$B$4:$D$4,0)-2","v":{"$error":"#N/A"}},{"$f":"OFFSET(Owce_N!$C$4,W23,X23)","v":{"$error":"#N/A"}},{"$f":"OFFSET(Owce_N!$C$4,W23,7)","v":{"$error":"#N/A"}},{"$f":"OFFSET(Owce_N!$C$4,W23,X23+2)*$J$12","v":{"$error":"#N/A"}},"",{"$f":"Owce_N!M9","v":"samiec gatunku owca domowa w wieku od 6 do 12 miesięcy, z wyjątkiem samca gatunku owca domowa – skopkapojedynczo"},0,{"$f":"Owce_N!N9","v":"samiec gatunku owca domowa w wieku od 6 do 12 miesięcy, z wyjątkiem samca gatunku owca domowa – skopkagrupowo"},0]
[null,null,null,null,null,null,null,null,0,"-","-","-",null,null,null,null,null,null,null,null,null,0,{"$f":"MATCH(D24,Owce_N!$B$4:$B$11,0)-1","v":{"$error":"#N/A"}},{"$f":"MATCH(E24,Owce_N!$B$4:$D$4,0)-2","v":{"$error":"#N/A"}},{"$f":"OFFSET(Owce_N!$C$4,W24,X24)","v":{"$error":"#N/A"}},{"$f":"OFFSET(Owce_N!$C$4,W24,7)","v":{"$error":"#N/A"}},{"$f":"OFFSET(Owce_N!$C$4,W24,X24+2)*$J$12","v":{"$error":"#N/A"}},"",{"$f":"Owce_N!M10","v":"samiec gatunku owca domowa - skopekpojedynczo"},0,{"$f":"Owce_N!N10","v":"samiec gatunku owca domowa - skopekgrupowo"},0]
[null,null,null,null,null,null,null,null,0,"-","-","-",null,null,null,null,null,null,null,null,null,0,{"$f":"MATCH(D25,Owce_N!$B$4:$B$11,0)-1","v":{"$error":"#N/A"}},{"$f":"MATCH(E25,Owce_N!$B$4:$D$4,0)-2","v":{"$error":"#N/A"}},{"$f":"OFFSET(Owce_N!$C$4,W25,X25)","v":{"$error":"#N/A"}},{"$f":"OFFSET(Owce_N!$C$4,W25,7)","v":{"$error":"#N/A"}},{"$f":"OFFSET(Owce_N!$C$4,W25,X25+2)*$J$12","v":{"$error":"#N/A"}},"",null,0,null,0]
[null,null,null,null,null,null,null,null,0,"-","-","-",null,null,null,null,null,null,null,null,null,0,{"$f":"MATCH(D26,Owce_N!$B$4:$B$11,0)-1","v":{"$error":"#N/A"}},{"$f":"MATCH(E26,Owce_N!$B$4:$D$4,0)-2","v":{"$error":"#N/A"}},{"$f":"OFFSET(Owce_N!$C$4,W26,X26)","v":{"$error":"#N/A"}},{"$f":"OFFSET(Owce_N!$C$4,W26,7)","v":{"$error":"#N/A"}},{"$f":"OFFSET(Owce_N!$C$4,W26,X26+2)*$J$12","v":{"$error":"#N/A"}},"",null,0,null,0]
[null,null,null,null,null,null,null,null,0,"-","-","-",null,null,null,null,null,null,null,null,null,0,{"$f":"MATCH(D27,Owce_N!$B$4:$B$11,0)-1","v":{"$error":"#N/A"}},{"$f":"MATCH(E27,Owce_N!$B$4:$D$4,0)-2","v":{"$error":"#N/A"}},{"$f":"OFFSET(Owce_N!$C$4,W27,X27)","v":{"$error":"#N/A"}},{"$f":"OFFSET(Owce_N!$C$4,W27,7)","v":{"$error":"#N/A"}},{"$f":"OFFSET(Owce_N!$C$4,W27,X27+2)*$J$12","v":{"$error":"#N/A"}},"",null,0,null,0]
[null,null,null,null,null,null,null,null,0,"-","-","-",null,null,null,null,null,null,null,null,null,0,{"$f":"MATCH(D28,Owce_N!$B$4:$B$11,0)-1","v":{"$error":"#N/A"}},{"$f":"MATCH(E28,Owce_N!$B$4:$D$4,0)-2","v":{"$error":"#N/A"}},{"$f":"OFFSET(Owce_N!$C$4,W28,X28)","v":{"$error":"#N/A"}},{"$f":"OFFSET(Owce_N!$C$4,W28,7)","v":{"$error":"#N/A"}},{"$f":"OFFSET(Owce_N!$C$4,W28,X28+2)*$J$12","v":{"$error":"#N/A"}},"",null,0,null,0]
[null,null,null,null,null,null,null,null,0,"-","-","-",null,null,null,null,null,null,null,null,null,0,{"$f":"MATCH(D29,Owce_N!$B$4:$B$11,0)-1","v":{"$error":"#N/A"}},{"$f":"MATCH(E29,Owce_N!$B$4:$D$4,0)-2","v":{"$error":"#N/A"}},{"$f":"OFFSET(Owce_N!$C$4,W29,X29)","v":{"$error":"#N/A"}},{"$f":"OFFSET(Owce_N!$C$4,W29,7)","v":{"$error":"#N/A"}},{"$f":"OFFSET(Owce_N!$C$4,W29,X29+2)*$J$12","v":{"$error":"#N/A"}},"",null,0,null,0]
[null,null,null,null,null,null,null,null,0,"-","-","-",null,null,null,null,null,null,null,null,null,0,{"$f":"MATCH(D30,Owce_N!$B$4:$B$11,0)-1","v":{"$error":"#N/A"}},{"$f":"MATCH(E30,Owce_N!$B$4:$D$4,0)-2","v":{"$error":"#N/A"}},{"$f":"OFFSET(Owce_N!$C$4,W30,X30)","v":{"$error":"#N/A"}},{"$f":"OFFSET(Owce_N!$C$4,W30,7)","v":{"$error":"#N/A"}},{"$f":"OFFSET(Owce_N!$C$4,W30,X30+2)*$J$12","v":{"$error":"#N/A"}},"",null,0,null,0]
[null,null,null,null,null,null,null,null,0,"-","-","-",null,null,null,null,null,null,null,null,null,0,{"$f":"MATCH(D31,Owce_N!$B$4:$B$11,0)-1","v":{"$error":"#N/A"}},{"$f":"MATCH(E31,Owce_N!$B$4:$D$4,0)-2","v":{"$error":"#N/A"}},{"$f":"OFFSET(Owce_N!$C$4,W31,X31)","v":{"$error":"#N/A"}},{"$f":"OFFSET(Owce_N!$C$4,W31,7)","v":{"$error":"#N/A"}},{"$f":"OFFSET(Owce_N!$C$4,W31,X31+2)*$J$12","v":{"$error":"#N/A"}},"",null,0,null,0]
[null,null,null,null,null,null,null,null,0,"-","-","-",null,null,null,null,null,null,null,null,null,0,{"$f":"MATCH(D32,Owce_N!$B$4:$B$11,0)-1","v":{"$error":"#N/A"}},{"$f":"MATCH(E32,Owce_N!$B$4:$D$4,0)-2","v":{"$error":"#N/A"}},{"$f":"OFFSET(Owce_N!$C$4,W32,X32)","v":{"$error":"#N/A"}},{"$f":"OFFSET(Owce_N!$C$4,W32,7)","v":{"$error":"#N/A"}},{"$f":"OFFSET(Owce_N!$C$4,W32,X32+2)*$J$12","v":{"$error":"#N/A"}},"",null,0,null,0]
[null,null,null,null,null,null,null,null,0,"-","-","-",null,null,null,null,null,null,null,null,null,0,{"$f":"MATCH(D33,Owce_N!$B$4:$B$11,0)-1","v":{"$error":"#N/A"}},{"$f":"MATCH(E33,Owce_N!$B$4:$D$4,0)-2","v":{"$error":"#N/A"}},{"$f":"OFFSET(Owce_N!$C$4,W33,X33)","v":{"$error":"#N/A"}},{"$f":"OFFSET(Owce_N!$C$4,W33,7)","v":{"$error":"#N/A"}},{"$f":"OFFSET(Owce_N!$C$4,W33,X33+2)*$J$12","v":{"$error":"#N/A"}},"",null,0,null,0]
[null,null,null,null,null,null,null,null,0,"-","-","-",null,null,null,null,null,null,null,null,null,0,{"$f":"MATCH(D34,Owce_N!$B$4:$B$11,0)-1","v":{"$error":"#N/A"}},{"$f":"MATCH(E34,Owce_N!$B$4:$D$4,0)-2","v":{"$error":"#N/A"}},{"$f":"OFFSET(Owce_N!$C$4,W34,X34)","v":{"$error":"#N/A"}},{"$f":"OFFSET(Owce_N!$C$4,W34,7)","v":{"$error":"#N/A"}},{"$f":"OFFSET(Owce_N!$C$4,W34,X34+2)*$J$12","v":{"$error":"#N/A"}},"",null,0,null,0]
[null,null,null,null,null,null,null,null,0,"-","-","-",null,null,null,null,null,null,null,null,null,0,{"$f":"MATCH(D35,Owce_N!$B$4:$B$11,0)-1","v":{"$error":"#N/A"}},{"$f":"MATCH(E35,Owce_N!$B$4:$D$4,0)-2","v":{"$error":"#N/A"}},{"$f":"OFFSET(Owce_N!$C$4,W35,X35)","v":{"$error":"#N/A"}},{"$f":"OFFSET(Owce_N!$C$4,W35,7)","v":{"$error":"#N/A"}},{"$f":"OFFSET(Owce_N!$C$4,W35,X35+2)*$J$12","v":{"$error":"#N/A"}},"",null,0,null,0]
[null,null,null,null,null,null,null,null,0,"-","-","-",null,null,null,null,null,null,null,null,null,0,{"$f":"MATCH(D36,Owce_N!$B$4:$B$11,0)-1","v":{"$error":"#N/A"}},{"$f":"MATCH(E36,Owce_N!$B$4:$D$4,0)-2","v":{"$error":"#N/A"}},{"$f":"OFFSET(Owce_N!$C$4,W36,X36)","v":{"$error":"#N/A"}},{"$f":"OFFSET(Owce_N!$C$4,W36,7)","v":{"$error":"#N/A"}},{"$f":"OFFSET(Owce_N!$C$4,W36,X36+2)*$J$12","v":{"$error":"#N/A"}},"",null,0,null,0]
[null,null,null,null,null,null,null,null,0,"-","-","-",null,null,null,null,null,null,null,null,null,0,{"$f":"MATCH(D37,Owce_N!$B$4:$B$11,0)-1","v":{"$error":"#N/A"}},{"$f":"MATCH(E37,Owce_N!$B$4:$D$4,0)-2","v":{"$error":"#N/A"}},{"$f":"OFFSET(Owce_N!$C$4,W37,X37)","v":{"$error":"#N/A"}},{"$f":"OFFSET(Owce_N!$C$4,W37,7)","v":{"$error":"#N/A"}},{"$f":"OFFSET(Owce_N!$C$4,W37,X37+2)*$J$12","v":{"$error":"#N/A"}},"",null,0,null,0]
[null,null,null,null,null,null,null,null,0,"-","-","-",null,null,null,null,null,null,null,null,null,0,{"$f":"MATCH(D38,Owce_N!$B$4:$B$11,0)-1","v":{"$error":"#N/A"}},{"$f":"MATCH(E38,Owce_N!$B$4:$D$4,0)-2","v":{"$error":"#N/A"}},{"$f":"OFFSET(Owce_N!$C$4,W38,X38)","v":{"$error":"#N/A"}},{"$f":"OFFSET(Owce_N!$C$4,W38,7)","v":{"$error":"#N/A"}},{"$f":"OFFSET(Owce_N!$C$4,W38,X38+2)*$J$12","v":{"$error":"#N/A"}},"",null,0,null,0]
[null,null,null,null,null,null,null,null,0,"-","-","-",null,null,null,null,null,null,null,null,null,0,{"$f":"MATCH(D39,Owce_N!$B$4:$B$11,0)-1","v":{"$error":"#N/A"}},{"$f":"MATCH(E39,Owce_N!$B$4:$D$4,0)-2","v":{"$error":"#N/A"}},{"$f":"OFFSET(Owce_N!$C$4,W39,X39)","v":{"$error":"#N/A"}},{"$f":"OFFSET(Owce_N!$C$4,W39,7)","v":{"$error":"#N/A"}},{"$f":"OFFSET(Owce_N!$C$4,W39,X39+2)*$J$12","v":{"$error":"#N/A"}},"",null,0,null,0]
[null,null,null,null,null,null,null,null,0,"-","-","-",null,null,null,null,null,null,null,null,null,0,{"$f":"MATCH(D40,Owce_N!$B$4:$B$11,0)-1","v":{"$error":"#N/A"}},{"$f":"MATCH(E40,Owce_N!$B$4:$D$4,0)-2","v":{"$error":"#N/A"}},{"$f":"OFFSET(Owce_N!$C$4,W40,X40)","v":{"$error":"#N/A"}},{"$f":"OFFSET(Owce_N!$C$4,W40,7)","v":{"$error":"#N/A"}},{"$f":"OFFSET(Owce_N!$C$4,W40,X40+2)*$J$12","v":{"$error":"#N/A"}},"",null,0,null,0]
[null,null,null,null,null,null,null,null,0,"-","-","-",null,null,null,null,null,null,null,null,null,0,{"$f":"MATCH(D41,Owce_N!$B$4:$B$11,0)-1","v":{"$error":"#N/A"}},{"$f":"MATCH(E41,Owce_N!$B$4:$D$4,0)-2","v":{"$error":"#N/A"}},{"$f":"OFFSET(Owce_N!$C$4,W41,X41)","v":{"$error":"#N/A"}},{"$f":"OFFSET(Owce_N!$C$4,W41,7)","v":{"$error":"#N/A"}},{"$f":"OFFSET(Owce_N!$C$4,W41,X41+2)*$J$12","v":{"$error":"#N/A"}},"",null,0,null,0]
[null,null,null,null,null,null,null,null,0,"-","-","-",null,null,null,null,null,null,null,null,null,0,{"$f":"MATCH(D42,Owce_N!$B$4:$B$11,0)-1","v":{"$error":"#N/A"}},{"$f":"MATCH(E42,Owce_N!$B$4:$D$4,0)-2","v":{"$error":"#N/A"}},{"$f":"OFFSET(Owce_N!$C$4,W42,X42)","v":{"$error":"#N/A"}},{"$f":"OFFSET(Owce_N!$C$4,W42,7)","v":{"$error":"#N/A"}},{"$f":"OFFSET(Owce_N!$C$4,W42,X42+2)*$J$12","v":{"$error":"#N/A"}},"",null,0,null,0]
[null,null,null,null,null,null,null,null,0,"-","-","-",null,null,null,null,null,null,null,null,null,0,{"$f":"MATCH(D43,Owce_N!$B$4:$B$11,0)-1","v":{"$error":"#N/A"}},{"$f":"MATCH(E43,Owce_N!$B$4:$D$4,0)-2","v":{"$error":"#N/A"}},{"$f":"OFFSET(Owce_N!$C$4,W43,X43)","v":{"$error":"#N/A"}},{"$f":"OFFSET(Owce_N!$C$4,W43,7)","v":{"$error":"#N/A"}},{"$f":"OFFSET(Owce_N!$C$4,W43,X43+2)*$J$12","v":{"$error":"#N/A"}},"",null,0,null,0]
[null,null,null,null,null,null,null,null,0,"-","-","-",null,null,null,null,null,null,null,null,null,0,{"$f":"MATCH(D44,Owce_N!$B$4:$B$11,0)-1","v":{"$error":"#N/A"}},{"$f":"MATCH(E44,Owce_N!$B$4:$D$4,0)-2","v":{"$error":"#N/A"}},{"$f":"OFFSET(Owce_N!$C$4,W44,X44)","v":{"$error":"#N/A"}},{"$f":"OFFSET(Owce_N!$C$4,W44,7)","v":{"$error":"#N/A"}},{"$f":"OFFSET(Owce_N!$C$4,W44,X44+2)*$J$12","v":{"$error":"#N/A"}},"",null,0,null,0]
[null,null,null,null,null,null,null,null,0,"-","-","-",null,null,null,null,null,null,null,null,null,0,{"$f":"MATCH(D45,Owce_N!$B$4:$B$11,0)-1","v":{"$error":"#N/A"}},{"$f":"MATCH(E45,Owce_N!$B$4:$D$4,0)-2","v":{"$error":"#N/A"}},{"$f":"OFFSET(Owce_N!$C$4,W45,X45)","v":{"$error":"#N/A"}},{"$f":"OFFSET(Owce_N!$C$4,W45,7)","v":{"$error":"#N/A"}},{"$f":"OFFSET(Owce_N!$C$4,W45,X45+2)*$J$12","v":{"$error":"#N/A"}},"",null,0,null,0]
[null,null,null,"SUMA POWIERZCHNI:",null,null,null,null,{"$f":"SUM(I19:I45)","v":0},{"$f":"SUM(J19:J45)","v":0},{"$f":"IFERROR(IF(S46>2,OFFSET(B_ML_N!$B$3,V46,S46+2),\"-\"),\"-\")","v":"-"},{"$f":"IFERROR(IF(X46<>TRUE,IF(AND(I46>0,S46<3),I46,TRUNC(#REF!/K46)),\"-\"),\"-\")","v":"-"},null,null,null,null,null,null,null,null,null,1,{"$f":"MATCH(D46,Owce_N!$B$4:$B$11,0)-1","v":{"$error":"#N/A"}},{"$f":"MATCH(E46,Owce_N!$B$4:$D$4,0)-2","v":{"$error":"#N/A"}},{"$f":"OFFSET(Owce_N!$C$4,W46,X46)","v":{"$error":"#N/A"}},{"$f":"OFFSET(Owce_N!$C$4,W46,7)","v":{"$error":"#N/A"}},{"$f":"OFFSET(Owce_N!$C$4,W46,X46+2)*$J$12","v":{"$error":"#N/A"}},"SUMA POWIERZCHNI:",null,0,null,0]
[null,null,null,"SUMA LICZBY OWIEC-SAMIC W WIEKU POWYŻEJ 12 MIESIĘCY:",null,null,null,null,null,null,null,{"$f":"SUMIF(Z19:Z45,\"M\",L19:L45)","v":0},null,null,null,null,null,null,null,null,null,1,{"$f":"MATCH(D47,Owce_N!$B$4:$B$11,0)-1","v":{"$error":"#N/A"}},{"$f":"MATCH(E47,Owce_N!$B$4:$D$4,0)-2","v":{"$error":"#N/A"}},{"$f":"OFFSET(Owce_N!$C$4,W47,X47)","v":{"$error":"#N/A"}},{"$f":"OFFSET(Owce_N!$C$4,W47,7)","v":{"$error":"#N/A"}},{"$f":"OFFSET(Owce_N!$C$4,W47,X47+2)*$J$12","v":{"$error":"#N/A"}},"SUMA LICZBY OWIEC-SAMIC W WIEKU POWYŻEJ 12 MIESIĘCY:",null,0,null,0]

{"sheet":"Owce_pow (5)","index":27,"n_rows":47,"n_cols":45,"rows_kept":47,"cut":false,"hidden":true,"merged":[[45,3,45,7],[46,3,46,10],[47,9,47,11],[48,9,48,11],[14,9,15,9],[14,10,15,10],[14,11,15,11],[15,5,16,5],[15,6,16,6],[17,4,17,11],[10,3,10,8],[11,3,11,8],[13,3,13,8],[14,3,15,3],[14,4,16,4],[14,6,14,8],[9,3,9,8],[0,10,0,11],[3,2,3,12],[5,4,5,11],[7,3,7,4],[7,5,7,6]]}
[null,null,null,null,null,null,null,null,null,null,"POWRÓT",null,null,null,null,null,null,null,null,null,null,null,null,null,null,null,null,null,null,null,null,null,null,null,null,null,null,null,null,null,null,null,null,null,"UWAGI"]
[]
[]
[null,null,"II. Część szczegółowa  "]
[null,null,"II.3.","Pakiet 3. Dobrostan owiec"]
[null,null,null,"II.3.3.3.","Dopuszczalna maksymalna liczba sztuk owiec, które mogą przebywać jednocześnie w gospodarstwie z uwzględnieniem  wymogów – zwiększona powierzchnia w budynkach."]
[]
[null,null,null,"5) Numer siedziby stada:"]
[]
[null,null,null,"Powierzchnia bytowa przeznaczona dla owiec w pomieszczeniach w gospodarstwie rolnym:",null,null,null,null,null,null,"m2"]
[]
[null,null,null,"Plenność maciorek (stosunek liczby urodzonych jagniąt do liczby maciorek):"]
[]
[null,null,null,"Powierzchnia bytowa w obiekcie dla wszystkich utrzymywanych w siedzibie stada zwierząt z gatunku owca domowa  od dnia złożenia wniosku do dnia 14 marca kolejnego roku. "]
[null,null,null,"\nGrupa technologiczna","Sposób utrzymania","Obiekt","Utrzymywanie grupowe / pojedyncze spełniające wymóg minimalnych powierzchni",null,null," Minimalna powierzch-\nnia  na  kojec  / kojce","Powierz-\nchnia mini-\nmalna na owcę","Maksy-\nmalna liczba owiec"]
[null,null,null,null,null,"Nazwa(y) lub nr kojca/kojcy","Liczba zwierząt lub kojcy pojedyn-\nczych","Powierzchnia na sztukę utrz. grupowo lub kojca pojedynczego","Powie-\nrzchnia",null,null,null,null,null,null,null,null,null,null,null,null,"ukryj","grupa","sposób","Norma","OWCA",null,"poj/grup","poj","p/r-m","grup","g/r=m"]
[null,null,null,null,null,null,null,"m2/szt.\n(kojec)","m2","m2","m2/szt.","szt",null,null,null,null,null,null,null,null,null,null,"kat","utrz","norma","s> 12","jag"]
[null,null,null,null,{"$f":"IF(J46>J10,\"ZA MAŁA POWIERZCHNIA OBIEKTU !\",\"\")","v":""},null,null,null,null,null,null,null,null,null,null,null,null,null,null,null,null,null,"kat","utrz","norma","s> 12","jag"]
[null,null,null,null,null,null,null,null,{"$f":"G19*H19","v":0},{"$f":"IFERROR(K19*L19,\"-\")","v":"-"},{"$f":"IFERROR(Y19+AA19,\"-\")","v":"-"},{"$f":"IF(H19<K19,\"-\",IF(X19=0,G19,TRUNC(I19/K19)))","v":"-"},null,null,null,null,null,null,null,null,null,{"$f":"COUNTA(D19:H19)","v":0},{"$f":"MATCH(D19,Owce_N!$B$4:$B$11,0)-1","v":{"$error":"#N/A"}},{"$f":"MATCH(E19,Owce_N!$B$4:$D$4,0)-2","v":{"$error":"#N/A"}},{"$f":"OFFSET(Owce_N!$C$4,W19,X19)","v":{"$error":"#N/A"}},{"$f":"OFFSET(Owce_N!$C$4,W19,7)","v":{"$error":"#N/A"}},{"$f":"OFFSET(Owce_N!$C$4,W19,X19+2)*$J$12","v":{"$error":"#N/A"}},{"$f":"D19&E19","v":""},{"$f":"Owce_N!M5","v":"samiec gatunku owca domowa w wieku powyżej 12 miesięcy, z wyjątkiem samca gatunku owca domowa – skopkapojedynczo"},{"$f":"SUMIF($AB$19:$AB$45,AC19,$G$19:$G$45)","v":0},{"$f":"Owce_N!N5","v":"samiec gatunku owca domowa w wieku powyżej 12 miesięcy, z wyjątkiem samca gatunku owca domowa – skopkagrupowo"},{"$f":"SUMIF($AB$19:$AB$45,AE19,$G$19:$G$45)","v":0}]
[null,null,null,null,null,null,null,null,{"$f":"G20*H20","v":0},{"$f":"IFERROR(K20*L20,\"-\")","v":"-"},{"$f":"IFERROR(Y20+AA20,\"-\")","v":"-"},"-",null,null,null,null,null,null,null,null,null,{"$f":"COUNTA(D20:H20)","v":0},{"$f":"MATCH(D20,Owce_N!$B$4:$B$11,0)-1","v":{"$error":"#N/A"}},{"$f":"MATCH(E20,Owce_N!$B$4:$D$4,0)-2","v":{"$error":"#N/A"}},{"$f":"OFFSET(Owce_N!$C$4,W20,X20)","v":{"$error":"#N/A"}},{"$f":"OFFSET(Owce_N!$C$4,W20,7)","v":{"$error":"#N/A"}},{"$f":"OFFSET(Owce_N!$C$4,W20,X20+2)*$J$12","v":{"$error":"#N/A"}},"",{"$f":"Owce_N!M6","v":"samica gatunku owca domowa w wieku powyżej 12 miesięcypojedynczo"},{"$f":"SUMIF($AB$19:$AB$45,AC20,$G$19:$G$45)","v":0},{"$f":"Owce_N!N6","v":"samica gatunku owca domowa w wieku powyżej 12 miesięcygrupowo"},{"$f":"SUMIF($AB$19:$AB$45,AE20,$G$19:$G$45)","v":0}]
[null,null,null,null,null,null,null,null,{"$f":"G21*H21","v":0},{"$f":"IFERROR(K21*L21,\"-\")","v":"-"},"-","-",null,null,null,null,null,null,null,null,null,0,{"$f":"MATCH(D21,Owce_N!$B$4:$B$11,0)-1","v":{"$error":"#N/A"}},{"$f":"MATCH(E21,Owce_N!$B$4:$D$4,0)-2","v":{"$error":"#N/A"}},{"$f":"OFFSET(Owce_N!$C$4,W21,X21)","v":{"$error":"#N/A"}},{"$f":"OFFSET(Owce_N!$C$4,W21,7)","v":{"$error":"#N/A"}},{"$f":"OFFSET(Owce_N!$C$4,W21,X21+2)*$J$12","v":{"$error":"#N/A"}},"",{"$f":"Owce_N!M7","v":"samica gatunku owca domowa w wieku powyżej 12 miesięcy wraz z jagnięciempojedynczo"},0,{"$f":"Owce_N!N7","v":"samica gatunku owca domowa w wieku powyżej 12 miesięcy wraz z jagnięciemgrupowo"},0]
[null,null,null,null,null,null,null,null,{"$f":"G22*H22","v":0},{"$f":"IFERROR(K22*L22,\"-\")","v":"-"},"-","-",null,null,null,null,null,null,null,null,null,0,{"$f":"MATCH(D22,Owce_N!$B$4:$B$11,0)-1","v":{"$error":"#N/A"}},{"$f":"MATCH(E22,Owce_N!$B$4:$D$4,0)-2","v":{"$error":"#N/A"}},{"$f":"OFFSET(Owce_N!$C$4,W22,X22)","v":{"$error":"#N/A"}},{"$f":"OFFSET(Owce_N!$C$4,W22,7)","v":{"$error":"#N/A"}},{"$f":"OFFSET(Owce_N!$C$4,W22,X22+2)*$J$12","v":{"$error":"#N/A"}},"",{"$f":"Owce_N!M8","v":"samica gatunku owca domowa w wieku od 6 do 12 miesięcypojedynczo"},0,{"$f":"Owce_N!N8","v":"samica gatunku owca domowa w wieku od 6 do 12 miesięcygrupowo"},0]
[null,null,null,null,null,null,null,null,0,"-","-","-",null,null,null,null,null,null,null,null,null,0,{"$f":"MATCH(D23,Owce_N!$B$4:$B$11,0)-1","v":{"$error":"#N/A"}},{"$f":"MATCH(E23,Owce_N!$B$4:$D$4,0)-2","v":{"$error":"#N/A"}},{"$f":"OFFSET(Owce_N!$C$4,W23,X23)","v":{"$error":"#N/A"}},{"$f":"OFFSET(Owce_N!$C$4,W23,7)","v":{"$error":"#N/A"}},{"$f":"OFFSET(Owce_N!$C$4,W23,X23+2)*$J$12","v":{"$error":"#N/A"}},"",{"$f":"Owce_N!M9","v":"samiec gatunku owca domowa w wieku od 6 do 12 miesięcy, z wyjątkiem samca gatunku owca domowa – skopkapojedynczo"},0,{"$f":"Owce_N!N9","v":"samiec gatunku owca domowa w wieku od 6 do 12 miesięcy, z wyjątkiem samca gatunku owca domowa – skopkagrupowo"},0]
[null,null,null,null,null,null,null,null,0,"-","-","-",null,null,null,null,null,null,null,null,null,0,{"$f":"MATCH(D24,Owce_N!$B$4:$B$11,0)-1","v":{"$error":"#N/A"}},{"$f":"MATCH(E24,Owce_N!$B$4:$D$4,0)-2","v":{"$error":"#N/A"}},{"$f":"OFFSET(Owce_N!$C$4,W24,X24)","v":{"$error":"#N/A"}},{"$f":"OFFSET(Owce_N!$C$4,W24,7)","v":{"$error":"#N/A"}},{"$f":"OFFSET(Owce_N!$C$4,W24,X24+2)*$J$12","v":{"$error":"#N/A"}},"",{"$f":"Owce_N!M10","v":"samiec gatunku owca domowa - skopekpojedynczo"},0,{"$f":"Owce_N!N10","v":"samiec gatunku owca domowa - skopekgrupowo"},0]
[null,null,null,null,null,null,null,null,0,"-","-","-",null,null,null,null,null,null,null,null,null,0,{"$f":"MATCH(D25,Owce_N!$B$4:$B$11,0)-1","v":{"$error":"#N/A"}},{"$f":"MATCH(E25,Owce_N!$B$4:$D$4,0)-2","v":{"$error":"#N/A"}},{"$f":"OFFSET(Owce_N!$C$4,W25,X25)","v":{"$error":"#N/A"}},{"$f":"OFFSET(Owce_N!$C$4,W25,7)","v":{"$error":"#N/A"}},{"$f":"OFFSET(Owce_N!$C$4,W25,X25+2)*$J$12","v":{"$error":"#N/A"}},"",null,0,null,0]
[null,null,null,null,null,null,null,null,0,"-","-","-",null,null,null,null,null,null,null,null,null,0,{"$f":"MATCH(D26,Owce_N!$B$4:$B$11,0)-1","v":{"$error":"#N/A"}},{"$f":"MATCH(E26,Owce_N!$B$4:$D$4,0)-2","v":{"$error":"#N/A"}},{"$f":"OFFSET(Owce_N!$C$4,W26,X26)","v":{"$error":"#N/A"}},{"$f":"OFFSET(Owce_N!$C$4,W26,7)","v":{"$error":"#N/A"}},{"$f":"OFFSET(Owce_N!$C$4,W26,X26+2)*$J$12","v":{"$error":"#N/A"}},"",null,0,null,0]
[null,null,null,null,null,null,null,null,0,"-","-","-",null,null,null,null,null,null,null,null,null,0,{"$f":"MATCH(D27,Owce_N!$B$4:$B$11,0)-1","v":{"$error":"#N/A"}},{"$f":"MATCH(E27,Owce_N!$B$4:$D$4,0)-2","v":{"$error":"#N/A"}},{"$f":"OFFSET(Owce_N!$C$4,W27,X27)","v":{"$error":"#N/A"}},{"$f":"OFFSET(Owce_N!$C$4,W27,7)","v":{"$error":"#N/A"}},{"$f":"OFFSET(Owce_N!$C$4,W27,X27+2)*$J$12","v":{"$error":"#N/A"}},"",null,0,null,0]
[null,null,null,null,null,null,null,null,0,"-","-","-",null,null,null,null,null,null,null,null,null,0,{"$f":"MATCH(D28,Owce_N!$B$4:$B$11,0)-1","v":{"$error":"#N/A"}},{"$f":"MATCH(E28,Owce_N!$B$4:$D$4,0)-2","v":{"$error":"#N/A"}},{"$f":"OFFSET(Owce_N!$C$4,W28,X28)","v":{"$error":"#N/A"}},{"$f":"OFFSET(Owce_N!$C$4,W28,7)","v":{"$error":"#N/A"}},{"$f":"OFFSET(Owce_N!$C$4,W28,X28+2)*$J$12","v":{"$error":"#N/A"}},"",null,0,null,0]
[null,null,null,null,null,null,null,null,0,"-","-","-",null,null,null,null,null,null,null,null,null,0,{"$f":"MATCH(D29,Owce_N!$B$4:$B$11,0)-1","v":{"$error":"#N/A"}},{"$f":"MATCH(E29,Owce_N!$B$4:$D$4,0)-2","v":{"$error":"#N/A"}},{"$f":"OFFSET(Owce_N!$C$4,W29,X29)","v":{"$error":"#N/A"}},{"$f":"OFFSET(Owce_N!$C$4,W29,7)","v":{"$error":"#N/A"}},{"$f":"OFFSET(Owce_N!$C$4,W29,X29+2)*$J$12","v":{"$error":"#N/A"}},"",null,0,null,0]
[null,null,null,null,null,null,null,null,0,"-","-","-",null,null,null,null,null,null,null,null,null,0,{"$f":"MATCH(D30,Owce_N!$B$4:$B$11,0)-1","v":{"$error":"#N/A"}},{"$f":"MATCH(E30,Owce_N!$B$4:$D$4,0)-2","v":{"$error":"#N/A"}},{"$f":"OFFSET(Owce_N!$C$4,W30,X30)","v":{"$error":"#N/A"}},{"$f":"OFFSET(Owce_N!$C$4,W30,7)","v":{"$error":"#N/A"}},{"$f":"OFFSET(Owce_N!$C$4,W30,X30+2)*$J$12","v":{"$error":"#N/A"}},"",null,0,null,0]
[null,null,null,null,null,null,null,null,0,"-","-","-",null,null,null,null,null,null,null,null,null,0,{"$f":"MATCH(D31,Owce_N!$B$4:$B$11,0)-1","v":{"$error":"#N/A"}},{"$f":"MATCH(E31,Owce_N!$B$4:$D$4,0)-2","v":{"$error":"#N/A"}},{"$f":"OFFSET(Owce_N!$C$4,W31,X31)","v":{"$error":"#N/A"}},{"$f":"OFFSET(Owce_N!$C$4,W31,7)","v":{"$error":"#N/A"}},{"$f":"OFFSET(Owce_N!$C$4,W31,X31+2)*$J$12","v":{"$error":"#N/A"}},"",null,0,null,0]
[null,null,null,null,null,null,null,null,0,"-","-","-",null,null,null,null,null,null,null,null,null,0,{"$f":"MATCH(D32,Owce_N!$B$4:$B$11,0)-1","v":{"$error":"#N/A"}},{"$f":"MATCH(E32,Owce_N!$B$4:$D$4,0)-2","v":{"$error":"#N/A"}},{"$f":"OFFSET(Owce_N!$C$4,W32,X32)","v":{"$error":"#N/A"}},{"$f":"OFFSET(Owce_N!$C$4,W32,7)","v":{"$error":"#N/A"}},{"$f":"OFFSET(Owce_N!$C$4,W32,X32+2)*$J$12","v":{"$error":"#N/A"}},"",null,0,null,0]
[null,null,null,null,null,null,null,null,0,"-","-","-",null,null,null,null,null,null,null,null,null,0,{"$f":"MATCH(D33,Owce_N!$B$4:$B$11,0)-1","v":{"$error":"#N/A"}},{"$f":"MATCH(E33,Owce_N!$B$4:$D$4,0)-2","v":{"$error":"#N/A"}},{"$f":"OFFSET(Owce_N!$C$4,W33,X33)","v":{"$error":"#N/A"}},{"$f":"OFFSET(Owce_N!$C$4,W33,7)","v":{"$error":"#N/A"}},{"$f":"OFFSET(Owce_N!$C$4,W33,X33+2)*$J$12","v":{"$error":"#N/A"}},"",null,0,null,0]
[null,null,null,null,null,null,null,null,0,"-","-","-",null,null,null,null,null,null,null,null,null,0,{"$f":"MATCH(D34,Owce_N!$B$4:$B$11,0)-1","v":{"$error":"#N/A"}},{"$f":"MATCH(E34,Owce_N!$B$4:$D$4,0)-2","v":{"$error":"#N/A"}},{"$f":"OFFSET(Owce_N!$C$4,W34,X34)","v":{"$error":"#N/A"}},{"$f":"OFFSET(Owce_N!$C$4,W34,7)","v":{"$error":"#N/A"}},{"$f":"OFFSET(Owce_N!$C$4,W34,X34+2)*$J$12","v":{"$error":"#N/A"}},"",null,0,null,0]
[null,null,null,null,null,null,null,null,0,"-","-","-",null,null,null,null,null,null,null,null,null,0,{"$f":"MATCH(D35,Owce_N!$B$4:$B$11,0)-1","v":{"$error":"#N/A"}},{"$f":"MATCH(E35,Owce_N!$B$4:$D$4,0)-2","v":{"$error":"#N/A"}},{"$f":"OFFSET(Owce_N!$C$4,W35,X35)","v":{"$error":"#N/A"}},{"$f":"OFFSET(Owce_N!$C$4,W35,7)","v":{"$error":"#N/A"}},{"$f":"OFFSET(Owce_N!$C$4,W35,X35+2)*$J$12","v":{"$error":"#N/A"}},"",null,0,null,0]
[null,null,null,null,null,null,null,null,0,"-","-","-",null,null,null,null,null,null,null,null,null,0,{"$f":"MATCH(D36,Owce_N!$B$4:$B$11,0)-1","v":{"$error":"#N/A"}},{"$f":"MATCH(E36,Owce_N!$B$4:$D$4,0)-2","v":{"$error":"#N/A"}},{"$f":"OFFSET(Owce_N!$C$4,W36,X36)","v":{"$error":"#N/A"}},{"$f":"OFFSET(Owce_N!$C$4,W36,7)","v":{"$error":"#N/A"}},{"$f":"OFFSET(Owce_N!$C$4,W36,X36+2)*$J$12","v":{"$error":"#N/A"}},"",null,0,null,0]
[null,null,null,null,null,null,null,null,0,"-","-","-",null,null,null,null,null,null,null,null,null,0,{"$f":"MATCH(D37,Owce_N!$B$4:$B$11,0)-1","v":{"$error":"#N/A"}},{"$f":"MATCH(E37,Owce_N!$B$4:$D$4,0)-2","v":{"$error":"#N/A"}},{"$f":"OFFSET(Owce_N!$C$4,W37,X37)","v":{"$error":"#N/A"}},{"$f":"OFFSET(Owce_N!$C$4,W37,7)","v":{"$error":"#N/A"}},{"$f":"OFFSET(Owce_N!$C$4,W37,X37+2)*$J$12","v":{"$error":"#N/A"}},"",null,0,null,0]
[null,null,null,null,null,null,null,null,0,"-","-","-",null,null,null,null,null,null,null,null,null,0,{"$f":"MATCH(D38,Owce_N!$B$4:$B$11,0)-1","v":{"$error":"#N/A"}},{"$f":"MATCH(E38,Owce_N!$B$4:$D$4,0)-2","v":{"$error":"#N/A"}},{"$f":"OFFSET(Owce_N!$C$4,W38,X38)","v":{"$error":"#N/A"}},{"$f":"OFFSET(Owce_N!$C$4,W38,7)","v":{"$error":"#N/A"}},{"$f":"OFFSET(Owce_N!$C$4,W38,X38+2)*$J$12","v":{"$error":"#N/A"}},"",null,0,null,0]
[null,null,null,null,null,null,null,null,0,"-","-","-",null,null,null,null,null,null,null,null,null,0,{"$f":"MATCH(D39,Owce_N!$B$4:$B$11,0)-1","v":{"$error":"#N/A"}},{"$f":"MATCH(E39,Owce_N!$B$4:$D$4,0)-2","v":{"$error":"#N/A"}},{"$f":"OFFSET(Owce_N!$C$4,W39,X39)","v":{"$error":"#N/A"}},{"$f":"OFFSET(Owce_N!$C$4,W39,7)","v":{"$error":"#N/A"}},{"$f":"OFFSET(Owce_N!$C$4,W39,X39+2)*$J$12","v":{"$error":"#N/A"}},"",null,0,null,0]
[null,null,null,null,null,null,null,null,0,"-","-","-",null,null,null,null,null,null,null,null,null,0,{"$f":"MATCH(D40,Owce_N!$B$4:$B$11,0)-1","v":{"$error":"#N/A"}},{"$f":"MATCH(E40,Owce_N!$B$4:$D$4,0)-2","v":{"$error":"#N/A"}},{"$f":"OFFSET(Owce_N!$C$4,W40,X40)","v":{"$error":"#N/A"}},{"$f":"OFFSET(Owce_N!$C$4,W40,7)","v":{"$error":"#N/A"}},{"$f":"OFFSET(Owce_N!$C$4,W40,X40+2)*$J$12","v":{"$error":"#N/A"}},"",null,0,null,0]
[null,null,null,null,null,null,null,null,0,"-","-","-",null,null,null,null,null,null,null,null,null,0,{"$f":"MATCH(D41,Owce_N!$B$4:$B$11,0)-1","v":{"$error":"#N/A"}},{"$f":"MATCH(E41,Owce_N!$B$4:$D$4,0)-2","v":{"$error":"#N/A"}},{"$f":"OFFSET(Owce_N!$C$4,W41,X41)","v":{"$error":"#N/A"}},{"$f":"OFFSET(Owce_N!$C$4,W41,7)","v":{"$error":"#N/A"}},{"$f":"OFFSET(Owce_N!$C$4,W41,X41+2)*$J$12","v":{"$error":"#N/A"}},"",null,0,null,0]
[null,null,null,null,null,null,null,null,0,"-","-","-",null,null,null,null,null,null,null,null,null,0,{"$f":"MATCH(D42,Owce_N!$B$4:$B$11,0)-1","v":{"$error":"#N/A"}},{"$f":"MATCH(E42,Owce_N!$B$4:$D$4,0)-2","v":{"$error":"#N/A"}},{"$f":"OFFSET(Owce_N!$C$4,W42,X42)","v":{"$error":"#N/A"}},{"$f":"OFFSET(Owce_N!$C$4,W42,7)","v":{"$error":"#N/A"}},{"$f":"OFFSET(Owce_N!$C$4,W42,X42+2)*$J$12","v":{"$error":"#N/A"}},"",null,0,null,0]
[null,null,null,null,null,null,null,null,0,"-","-","-",null,null,null,null,null,null,null,null,null,0,{"$f":"MATCH(D43,Owce_N!$B$4:$B$11,0)-1","v":{"$error":"#N/A"}},{"$f":"MATCH(E43,Owce_N!$B$4:$D$4,0)-2","v":{"$error":"#N/A"}},{"$f":"OFFSET(Owce_N!$C$4,W43,X43)","v":{"$error":"#N/A"}},{"$f":"OFFSET(Owce_N!$C$4,W43,7)","v":{"$error":"#N/A"}},{"$f":"OFFSET(Owce_N!$C$4,W43,X43+2)*$J$12","v":{"$error":"#N/A"}},"",null,0,null,0]
[null,null,null,null,null,null,null,null,0,"-","-","-",null,null,null,null,null,null,null,null,null,0,{"$f":"MATCH(D44,Owce_N!$B$4:$B$11,0)-1","v":{"$error":"#N/A"}},{"$f":"MATCH(E44,Owce_N!$B$4:$D$4,0)-2","v":{"$error":"#N/A"}},{"$f":"OFFSET(Owce_N!$C$4,W44,X44)","v":{"$error":"#N/A"}},{"$f":"OFFSET(Owce_N!$C$4,W44,7)","v":{"$error":"#N/A"}},{"$f":"OFFSET(Owce_N!$C$4,W44,X44+2)*$J$12","v":{"$error":"#N/A"}},"",null,0,null,0]
[null,null,null,null,null,null,null,null,0,"-","-","-",null,null,null,null,null,null,null,null,null,0,{"$f":"MATCH(D45,Owce_N!$B$4:$B$11,0)-1","v":{"$error":"#N/A"}},{"$f":"MATCH(E45,Owce_N!$B$4:$D$4,0)-2","v":{"$error":"#N/A"}},{"$f":"OFFSET(Owce_N!$C$4,W45,X45)","v":{"$error":"#N/A"}},{"$f":"OFFSET(Owce_N!$C$4,W45,7)","v":{"$error":"#N/A"}},{"$f":"OFFSET(Owce_N!$C$4,W45,X45+2)*$J$12","v":{"$error":"#N/A"}},"",null,0,null,0]
[null,null,null,"SUMA POWIERZCHNI:",null,null,null,null,{"$f":"SUM(I19:I45)","v":0},{"$f":"SUM(J19:J45)","v":0},{"$f":"IFERROR(IF(S46>2,OFFSET(B_ML_N!$B$3,V46,S46+2),\"-\"),\"-\")","v":"-"},{"$f":"IFERROR(IF(X46<>TRUE,IF(AND(I46>0,S46<3),I46,TRUNC(#REF!/K46)),\"-\"),\"-\")","v":"-"},null,null,null,null,null,null,null,null,null,1,{"$f":"MATCH(D46,Owce_N!$B$4:$B$11,0)-1","v":{"$error":"#N/A"}},{"$f":"MATCH(E46,Owce_N!$B$4:$D$4,0)-2","v":{"$error":"#N/A"}},{"$f":"OFFSET(Owce_N!$C$4,W46,X46)","v":{"$error":"#N/A"}},{"$f":"OFFSET(Owce_N!$C$4,W46,7)","v":{"$error":"#N/A"}},{"$f":"OFFSET(Owce_N!$C$4,W46,X46+2)*$J$12","v":{"$error":"#N/A"}},"SUMA POWIERZCHNI:",null,0,null,0]
[null,null,null,"SUMA LICZBY OWIEC-SAMIC W WIEKU POWYŻEJ 12 MIESIĘCY:",null,null,null,null,null,null,null,{"$f":"SUMIF(Z19:Z45,\"M\",L19:L45)","v":0},null,null,null,null,null,null,null,null,null,1,{"$f":"MATCH(D47,Owce_N!$B$4:$B$11,0)-1","v":{"$error":"#N/A"}},{"$f":"MATCH(E47,Owce_N!$B$4:$D$4,0)-2","v":{"$error":"#N/A"}},{"$f":"OFFSET(Owce_N!$C$4,W47,X47)","v":{"$error":"#N/A"}},{"$f":"OFFSET(Owce_N!$C$4,W47,7)","v":{"$error":"#N/A"}},{"$f":"OFFSET(Owce_N!$C$4,W47,X47+2)*$J$12","v":{"$error":"#N/A"}},"SUMA LICZBY OWIEC-SAMIC W WIEKU POWYŻEJ 12 MIESIĘCY:",null,0,null,0]

{"sheet":"Owce_N","index":28,"n_rows":11,"n_cols":14,"rows_kept":11,"cut":false,"hidden":true,"merged":[[2,2,2,3],[2,4,2,5],[1,2,1,8],[2,6,2,7]]}
[null,"Normy - owce"]
[null,"Kategoria technologiczna","powierzchnie - budynki"]
[null,null,"rozgęszcz",null,"liczba jagniąt - 1",null,"podst",null,"eko",null,"Lista",null,"poj","grup"]
[null,null,"pojedynczo","grupowo","pojedynczo","grupowo","pojedynczo","grupowo"]
[null,"samiec gatunku owca domowa w wieku powyżej 12 miesięcy, z wyjątkiem samca gatunku owca domowa – skopka",3.6,2.4,null,null,3,2,null,null,"samiec gatunku owca domowa w wieku powyżej 12 miesięcy, z wyjątkiem samca gatunku owca domowa – skopka",null,{"$f":"K5&$C$4","v":"samiec gatunku owca domowa w wieku powyżej 12 miesięcy, z wyjątkiem samca gatunku owca domowa – skopkapojedynczo"},{"$f":"K5&$D$4","v":"samiec gatunku owca domowa w wieku powyżej 12 miesięcy, z wyjątkiem samca gatunku owca domowa – skopkagrupowo"}]
[null,"samica gatunku owca domowa w wieku powyżej 12 miesięcy",2.16,1.2,null,null,null,null,1.5,"M","samica gatunku owca domowa w wieku powyżej 12 miesięcy",2.5,{"$f":"K6&$C$4","v":"samica gatunku owca domowa w wieku powyżej 12 miesięcypojedynczo"},{"$f":"K6&$D$4","v":"samica gatunku owca domowa w wieku powyżej 12 miesięcygrupowo"}]
[null,"samica gatunku owca domowa w wieku powyżej 12 miesięcy wraz z jagnięciem",2.16,1.2,0.84,0.6,2.5,1.5,null,"M","samica gatunku owca domowa w wieku powyżej 12 miesięcy wraz z jagnięciem",null,"samica gatunku owca domowa w wieku powyżej 12 miesięcy wraz z jagnięciempojedynczo","samica gatunku owca domowa w wieku powyżej 12 miesięcy wraz z jagnięciemgrupowo"]
[null,"dodatkowo dla każdego następnego jagnięcia ssącego,",0.84,0.6,null,null,0.7,0.5,0.35,null,"samica gatunku owca domowa w wieku od 6 do 12 miesięcy",0.5,"samica gatunku owca domowa w wieku od 6 do 12 miesięcypojedynczo","samica gatunku owca domowa w wieku od 6 do 12 miesięcygrupowo"]
[null,"samica gatunku owca domowa w wieku od 6 do 12 miesięcy",1.8,0.96,null,null,1.5,0.8,null,null,"samiec gatunku owca domowa w wieku od 6 do 12 miesięcy, z wyjątkiem samca gatunku owca domowa – skopka",null,"samiec gatunku owca domowa w wieku od 6 do 12 miesięcy, z wyjątkiem samca gatunku owca domowa – skopkapojedynczo","samiec gatunku owca domowa w wieku od 6 do 12 miesięcy, z wyjątkiem samca gatunku owca domowa – skopkagrupowo"]
[null,"samiec gatunku owca domowa w wieku od 6 do 12 miesięcy, z wyjątkiem samca gatunku owca domowa – skopka",2.4,1.8,null,null,2,1.5,null,null,"samiec gatunku owca domowa - skopek",null,"samiec gatunku owca domowa - skopekpojedynczo","samiec gatunku owca domowa - skopekgrupowo"]
[null,"samiec gatunku owca domowa - skopek",0.96,0.72]

{"sheet":"ARiMR_Lochy","index":29,"n_rows":69,"n_cols":20,"rows_kept":69,"cut":false,"hidden":false,"merged":[[67,3,67,6],[67,8,67,11],[68,3,68,6],[68,8,68,11],[64,3,64,11],[65,3,65,6],[65,8,65,11],[66,3,66,6],[66,8,66,11],[57,3,57,11],[58,3,58,11],[62,3,62,6],[62,8,62,11],[63,3,63,6],[63,8,63,11],[60,3,60,11],[52,3,52,10],[0,1,0,13],[47,3,47,6],[47,8,47,11],[48,3,48,6],[48,8,48,11],[6,8,6,9],[44,3,44,6],[44,8,44,11],[46,3,46,6],[40,3,40,11],[43,3,43,6],[43,8,43,11],[46,8,46,11],[33,3,33,4],[41,3,41,11],[37,4,37,10],[38,7,38,11],[38,2,38,6],[45,3,45,11],[32,3,32,4],[35,3,35,10],[36,4,36,10],[33,5,33,7],[33,8,33,10],[34,3,34,4],[34,5,34,7],[34,8,34,10],[26,3,26,10],[27,3,27,4],[27,5,27,7],[27,8,27,10],[28,3,28,4],[28,5,28,7],[28,8,28,10],[29,4,29,6],[29,7,29,10],[30,4,30,6],[30,7,30,10],[31,3,31,4],[22,3,22,6],[22,7,22,10],[23,3,25,6],[23,7,23,10],[24,7,24,10],[25,7,25,10],[18,3,18,4],[18,5,18,7],[18,8,18,10],[20,3,20,11],[21,3,21,10],[14,7,14,10],[15,3,15,4],[17,3,17,4],[17,5,17,7],[17,8,17,10],[2,2,2,12],[3,2,3,12],[4,2,4,12],[5,3,5,12],[6,5,6,7],[51,3,51,10],[49,3,49,6],[49,8,49,11],[54,3,54,10],[8,3,8,8],[16,3,16,4],[9,3,9,8],[11,3,11,4],[11,5,11,7],[11,8,11,10],[12,3,12,4],[12,5,12,7],[12,8,12,10],[13,4,13,6],[13,7,13,10],[14,4,14,6]]}
[null,"Informacje przekazywane do ARiMR wraz z wnioskiem o przyznanie płatności dobrostanowej\nUwaga !!! \nPo wydrukowaniu uzupełnić ręcznie Oświadczenie i czytelnie podpisać",null,null,null,null,null,null,null,null,null,null,null,null,"POWRÓT",null,null,null,null,"UWAGI"]
[]
[null,null,"Działanie M-14  - Dobrostan zwierząt "]
[null,null,"PLAN POPRAWY DOBROSTANU ZWIERZĄT"]
[null,null,"I. Część ogólna "]
[null,null,"I.1.","Dane rolnika realizującego działanie "]
[null,null,"I.1.1","Numer identyfikacyjny ",null,{"$f":"Info!F8","v":0}]
[null,null,"I.1.2","Rolnik realizujący działanie "]
[null,null,null,"Nazwisko i imię rolnika / nazwa "]
[null,null,null,{"$f":"Info!$D$11","v":0}]
[null,null,"I.1.3","Adres rolnika realizującego działanie "]
[null,null,null," Województwo",null,"Powiat",null,null,"Gmina"]
[null,null,null,{"$f":"Info!$D$14","v":0},null,{"$f":"Info!$F$14","v":0},null,null,{"$f":"Info!$I$14","v":0}]
[null,null,null," Kod pocztowy","Poczta",null,null,"Miejscowość"]
[null,null,null,{"$f":"Info!$D$16","v":0},{"$f":"Info!$E$16","v":0},null,null,{"$f":"Info!$H$16","v":0}]
[null,null,null,"Ulica",null,"Nr domu"," Nr lokalu"]
[null,null,null,{"$f":"Info!$D$18","v":0},null,{"$f":"Info!$F$18","v":0},{"$f":"Info!$G$18","v":0}]
[null,null,null,"Telefon komórkowy",null,"Telefon stacjonarny",null,null,"E-mail"]
[null,null,null,{"$f":"Info!$D$20","v":0},null,{"$f":"Info!$F$20","v":0},null,null,{"$f":"Info!$I$20","v":0}]
[]
[null,null,"I.2.","Dane podmiotu doradczego i doradcy rolniczego, przy udziale którego został sporządzony plan poprawy dobrostanu zwierząt"]
[null,null,"I.2.1","Podmiot doradczy i doradca rolniczy"]
[null,null,null,"Nazwa podmiotu doradczego",null,null,null,"Nazwisko i imię doradcy"]
[null,null,null,{"$f":"Info!D25","v":0},null,null,null,{"$f":"Info!H25","v":0}]
[null,null,null,null,null,null,null,"Numer uprawnień"]
[null,null,null,null,null,null,null,{"$f":"Info!H27","v":0}]
[null,null,"I.2.2","Adres doradcy rolniczego"]
[null,null,null," Województwo",null,"Powiat",null,null,"Gmina"]
[null,null,null,{"$f":"Info!D30","v":0},null,{"$f":"Info!F30","v":0},null,null,{"$f":"Info!I30","v":0}]
[null,null,null," Kod pocztowy","Poczta",null,null,"Miejscowość"]
[null,null,null,{"$f":"Info!D32","v":0},{"$f":"Info!E32","v":0},null,null,{"$f":"Info!H32","v":0}]
[null,null,null,"Ulica",null,"Nr domu"," Nr lokalu"]
[null,null,null,{"$f":"Info!D34","v":0},null,{"$f":"Info!F34","v":0},{"$f":"Info!G34","v":0}]
[null,null,null,"Telefon komórkowy",null,"Telefon stacjonarny",null,null,"E-mail"]
[null,null,null,{"$f":"Info!D36","v":0},null,{"$f":"Info!F36","v":0},null,null,{"$f":"Info!I36","v":0}]
[]
[null,null,"I.3.1.","Pakiet 1.","Dobrostan świń:"]
[null,null,null,"wariant 1.1.","Dobrostan loch - zwiększona powierzchnia w budynkach",null,null,null,null,null,null,null,null,null,null,null,null,"☒","☐"]
[null,null,{"$f":"ARiMR_Pozostałe!$C$47","v":"Numery siedzib innych stad, z których zwierzęta przebywają w budynkach rolnika."},null,null,null,null,{"$f":"ARiMR_Pozostałe!H47","v":"          "},null,null,null,null,null,null,null,null,null,{"$f":"Info!R54","v":false}]
[null,null,"I.3.2.","Cel:",{"$f":"IF(R40=1,R38,S38)","v":"☒"},"Złożenie planu",null,{"$f":"IF(R40=2,R38,S38)","v":"☐"},"Zmiana planu",null,null,null,null,null,null,null,null,{"$f":"Info!R52","v":1}]
[null,null,"I.4.","Oświadczenie rolnika o przekazaniu pełnych i prawdziwych danych niezbędnych do sporządzenia planu poprawy dobrostanu zwierząt"]
[null,null,null,{"$f":"Info!$D$61","v":"Oświadczam, że dane przekazane do sporządzenia planu  poprawy dobrostanu zwierząt  są pełne i prawdziwe."}]
[]
[]
[null,null,null,"(miejscowość i data)",null,null,null,null,"(czytelny podpis rolnika)"]
[null,null,"I.5.","Podpisy i data sporządzenia planu poprawy dobrostanu zwierząt"]
[null,null,null,{"$f":"Info!$D$65","v":"00:00:00"},null,null,null,null,{"$f":"Info!$I$65","v":"00:00:00"}]
[null,null,null,"(miejscowość)",null,null,null,null,"(data sporządenia/zmiany planu)"]
[]
[null,null,null,"(czytelny podpis doradcy)",null,null,null,null,"(czytelny podpis rolnika)"]
[null,null,"II. Część szczegółowa  ",null,null,null,null,null,null,null,null,null,null,null,null,"W gospodarstwie rolnym lochy nie są utrzymywane w systemie jarzmowym"]
[null,null,"II.1.",{"$f":"IF(R52=1,P51,P52)","v":"W gospodarstwie rolnym lochy  są utrzymywane w systemie jarzmowym przez okres nie dłuższy niż 8 dni w okresie okołoporodowym "},null,null,null,null,null,null,null,"☒",null,null,null,"W gospodarstwie rolnym lochy  są utrzymywane w systemie jarzmowym przez okres nie dłuższy niż 8 dni w okresie okołoporodowym ",null,{"$f":"Lochy!AD8","v":2}]
[null,null,"II.2.","Dopuszczalna maksymalna liczba loch, które ze względu na wymogi wariantu, mogą przebywać jednocześnie w rolnym gospodarstwie wynosi:",null,null,null,null,null,null,null,{"$f":"Lochy!S124","v":0}]
[]
[null,null,"II.3.","Potencjalna liczba świń, które mogą przebywać jednocześnie w gospodarstwie rolnym (bez liczby prosiąt nieodsadzonych) wynosi:",null,null,null,null,null,null,null,{"$f":"Lochy!S123+Tuczniki!O127+'Swinie_inne(P)'!S123+'Swinie_inne(T)'!O127","v":0}]
[]
[null,null,"III. Oświadczenia i podpisy"]
[null,null,"III.1.","Oświadczenie rolnika o przekazaniu pełnych i prawdziwych danych niezbędnych do sporządzenia planu poprawy dobrostanu zwierząt"]
[null,null,null,{"$f":"Info!$D$61","v":"Oświadczam, że dane przekazane do sporządzenia planu  poprawy dobrostanu zwierząt  są pełne i prawdziwe."}]
[]
[null,null,null,"Oświadczam, że prowadzę rejestr sposobu utrzymywania loch w okresie okołoporodowym na formularzu udostępnionym przez Agencję"]
[]
[]
[null,null,null,"(miejscowość i data)",null,null,null,null,"(czytelny podpis rolnika)"]
[null,null,"III.2.","Podpisy i data sporządzenia planu poprawy dobrostanu zwierząt"]
[]
[null,null,null,"(miejscowość)",null,null,null,null,"(data sporządenia/zmiany planu)"]
[]
[null,null,null,"(czytelny podpis doradcy)",null,null,null,null,"(czytelny podpis rolnika)"]

{"sheet":"ARiMR_Pozostałe","index":30,"n_rows":132,"n_cols":22,"rows_kept":132,"cut":false,"hidden":false,"merged":[[129,3,129,6],[129,8,129,11],[130,3,130,6],[130,8,130,11],[131,3,131,6],[131,8,131,11],[126,3,126,6],[126,8,126,11],[127,3,127,11],[128,3,128,6],[128,8,128,11],[125,3,125,6],[125,8,125,11],[64,3,64,10],[51,3,51,10],[53,3,53,10],[58,3,58,10],[59,3,59,10],[61,3,61,10],[63,3,63,10],[55,3,55,10],[121,7,121,10],[65,3,65,11],[67,3,67,10],[70,3,70,7],[71,3,71,7],[72,3,72,7],[73,3,73,7],[74,3,74,7],[75,3,75,7],[82,3,82,7],[82,10,82,11],[71,10,71,11],[72,10,72,11],[73,10,73,11],[20,3,20,11],[21,3,21,10],[22,3,22,6],[22,7,22,10],[28,5,28,7],[28,8,28,10],[122,3,122,11],[123,3,123,11],[124,2,124,13],[74,10,74,11],[75,10,75,11],[66,3,66,4],[66,5,66,7],[69,3,69,7],[68,3,68,12],[69,10,69,11],[70,10,70,11],[77,3,77,4],[77,5,77,7],[78,3,78,10],[79,3,79,12],[80,3,80,7],[80,10,80,11],[81,3,81,7],[17,3,17,4],[17,5,17,7],[17,8,17,10],[33,3,33,4],[33,5,33,7],[33,8,33,10],[34,3,34,4],[34,5,34,7],[34,8,34,10],[32,3,32,4],[18,3,18,4],[18,5,18,7],[18,8,18,10],[23,3,25,6],[23,7,23,10],[24,7,24,10],[25,7,25,10],[26,3,26,10],[27,3,27,4],[27,5,27,7],[27,8,27,10],[28,3,28,4],[30,4,30,6],[30,7,30,10],[12,8,12,10],[0,1,0,14],[2,2,2,13],[3,2,3,13],[6,5,6,7],[6,8,6,9],[6,10,6,11],[4,8,4,10],[16,3,16,4],[8,3,8,8],[9,3,9,8],[11,3,11,4],[11,5,11,7],[11,8,11,10],[12,3,12,4],[12,5,12,7],[15,3,15,4],[13,4,13,6],[13,7,13,10],[14,4,14,6],[14,7,14,10],[5,8,5,9],[5,10,5,11],[81,10,81,11],[29,4,29,6],[29,7,29,10],[50,3,50,11],[57,3,57,10],[41,5,41,11],[42,5,42,11],[35,3,35,10],[36,4,36,10],[37,5,37,11],[40,5,40,11],[46,7,46,12],[46,2,46,6],[39,4,39,7],[43,4,43,6],[44,5,44,11],[31,3,31,4],[83,3,83,7],[83,10,83,11],[84,3,84,7],[84,10,84,11],[85,3,85,7],[85,10,85,11],[86,3,86,7],[86,10,86,11],[88,3,88,4],[88,5,88,7],[95,3,95,7],[95,10,95,11],[96,3,96,7],[96,10,96,11],[97,3,97,7],[97,10,97,11],[89,3,89,10],[90,3,90,12],[91,3,91,7],[91,10,91,11],[92,3,92,7],[92,10,92,11],[93,3,93,7],[93,10,93,11],[94,3,94,7],[94,10,94,11],[99,3,99,4],[99,5,99,7],[100,3,100,10],[101,3,101,12],[102,3,102,7],[102,10,102,11],[103,3,103,7],[103,10,103,11],[104,3,104,7],[104,10,104,11],[105,3,105,7],[105,10,105,11],[106,3,106,7],[106,10,106,11],[107,3,107,7],[107,10,107,11],[108,3,108,7],[108,10,108,11],[110,3,110,4],[110,5,110,7],[117,3,117,7],[117,10,117,11],[118,3,118,7],[118,10,118,11],[119,3,119,7],[119,10,119,11],[111,3,111,10],[112,3,112,12],[113,3,113,7],[113,10,113,11],[114,3,114,7],[114,10,114,11],[115,3,115,7],[115,10,115,11],[116,3,116,7],[116,10,116,11]]}
[null,"Dokument przekazywany do ARiMR  przed upływem 25 dni od dnia, w którym upływa termin składania wniosków o przyznanie płatności bezpośrednich w rozumieniu przepisów o płatnościach w ramach systemów wsparcia bezpośredniego \nUwaga !!! \nPo wydrukowaniu uzupełnić ręcznie Oświadczenie i czytelnie podpisać",null,null,null,null,null,null,null,null,null,null,null,null,null,"POWRÓT","UWAGI"]
[]
[null,null,"Działanie M-14  - Dobrostan zwierząt "]
[null,null,"PLAN POPRAWY DOBROSTANU ZWIERZĄT"]
[null,null,"I. Część ogólna "]
[null,null,"I.1.","Dane rolnika realizującego działanie "]
[null,null,"I.1.1","Numer identyfikacyjny ",null,{"$f":"Info!F8","v":0}]
[null,null,"I.1.2","Rolnik realizujący działanie "]
[null,null,null,"Nazwisko i imię rolnika / nazwa "]
[null,null,null,{"$f":"Info!$D$11","v":0}]
[null,null,"I.1.3","Adres rolnika realizującego działanie "]
[null,null,null," Województwo",null,"Powiat",null,null,"Gmina"]
[null,null,null,{"$f":"Info!$D$14","v":0},null,{"$f":"Info!$F$14","v":0},null,null,{"$f":"Info!$I$14","v":0}]
[null,null,null," Kod pocztowy","Poczta",null,null,"Miejscowość"]
[null,null,null,{"$f":"Info!$D$16","v":0},{"$f":"Info!$E$16","v":0},null,null,{"$f":"Info!$H$16","v":0}]
[null,null,null,"Ulica",null,"Nr domu"," Nr lokalu"]
[null,null,null,{"$f":"Info!$D$18","v":0},null,{"$f":"Info!$F$18","v":0},{"$f":"Info!$G$18","v":0}]
[null,null,null,"Telefon komórkowy",null,"Telefon stacjonarny",null,null,"E-mail"]
[null,null,null,{"$f":"Info!$D$20","v":0},null,{"$f":"Info!$F$20","v":0},null,null,{"$f":"Info!$I$20","v":0}]
[]
[null,null,"I.2.","Dane podmiotu doradczego i doradcy rolniczego, przy udziale którego został sporządzony plan poprawy dobrostanu zwierząt"]
[null,null,"I.2.1","Podmiot doradczy i doradca rolniczy"]
[null,null,null,"Nazwa podmiotu doradczego",null,null,null,"Nazwisko i imię doradcy"]
[null,null,null,{"$f":"Info!D25","v":0},null,null,null,{"$f":"Info!H25","v":0}]
[null,null,null,null,null,null,null,"Numer uprawnień"]
[null,null,null,null,null,null,null,{"$f":"Info!H27","v":0}]
[null,null,"I.2.2","Adres doradcy rolniczego"]
[null,null,null," Województwo",null,"Powiat",null,null,"Gmina"]
[null,null,null,{"$f":"Info!D30","v":0},null,{"$f":"Info!F30","v":0},null,null,{"$f":"Info!I30","v":0}]
[null,null,null," Kod pocztowy","Poczta",null,null,"Miejscowość"]
[null,null,null,{"$f":"Info!D32","v":0},{"$f":"Info!E32","v":0},null,null,{"$f":"Info!H32","v":0}]
[null,null,null,"Ulica",null,"Nr domu"," Nr lokalu"]
[null,null,null,{"$f":"Info!D34","v":0},null,{"$f":"Info!F34","v":0},{"$f":"Info!G34","v":0}]
[null,null,null,"Telefon komórkowy",null,"Telefon stacjonarny",null,null,"E-mail"]
[null,null,null,{"$f":"Info!D36","v":0},null,{"$f":"Info!F36","v":0},null,null,{"$f":"Info!I36","v":0}]
[null,null,"I.3.","Wykaz pakietów i wariantów, realizowanych w ramach działania"]
[null,null,"I.3.1.","Pakiet 1.","Dobrostan świń:",null,null,null,null,null,null,null,null,null,null,null,null,{"$f":"S37","v":false},{"$f":"Menu!H5","v":false}]
[null,null,null,null,"wariant 1.2."," Dobrostan tuczników - zwiększona powierzchnia w budynkach",null,null,null,null,null,null,null,null,null,null,null,{"$f":"S38","v":false},{"$f":"Menu!H7","v":false}]
[null,null,null,null,null,null,null,null,null,null,null,null,null,null,null,null,null,0]
[null,null,"I.3.2.","Pakiet 2.","Dobrostan krów:",null,null,null,null,null,null,null,null,null,null,null,null,false,{"$f":"Menu!H13","v":false}]
[null,null,null,null,null,null,null,null,null,null,null,null,null,null,null,null,null,false,{"$f":"Menu!H14","v":false}]
[null,null,null,null,"wariant 2.2.","Dobrostan krów mlecznych utrzymywanych grupowo - zwiększona powierzchnia w budynkach",null,null,null,null,null,null,null,null,null,null,null,false,{"$f":"Menu!H15","v":false}]
[null,null,null,null,"wariant 2.3.","Dobrostan krów mamek",null,null,null,null,null,null,null,null,null,null,null,false,{"$f":"Menu!H16","v":false}]
[null,null,"I.3.3.","Pakiet 3.","Dobrostan owiec:",null,null,null,null,null,null,null,null,null,null,null,null,false,{"$f":"Menu!H19","v":false}]
[null,null,null,null,"wariant 3.1. ","Dobrostan owiec – zwiększona powierzchnia w budynkach.",null,null,null,null,null,null,null,null,null,null,null,false,{"$f":"Menu!H20","v":false}]
[null,null,null,null,null,null,null,null,null,null,null,null,null,null,null,null,null,0]
[null,null,"Numery siedzib innych stad, z których zwierzęta przebywają w budynkach rolnika.",null,null,null,null,{"$f":"Info!D56&\"  \"&Info!G56&\"  \"&Info!K56&\"  \"&Info!D58&\"  \"&Info!G58&\"  \"&Info!K58","v":"          "},null,null,null,null,null,null,null,null,null,false,{"$f":"Info!R54","v":false}]
[null,null,null,null,null,null,null,null,null,null,null,null,null,null,null,null,null,0]
[null,null,"I.3.4.","Cel:",{"$f":"IF(S49=1,T49,U49)","v":"☒"},"Złożenie planu",null,{"$f":"IF(S49=2,T49,U49)","v":"☐"},"Zmiana planu",null,null,null,null,null,null,null,null,true,{"$f":"Info!R52","v":1},"☒","☐"]
[null,null,"II. Część szczegółowa  - informacje z Planu poprawy dobrostanu zwierząt:",null,null,null,null,null,null,null,null,null,null,null,null,null,null,true]
[null,null,"II.1","W zakresie wariantu 1.2. Dobrostan tuczników – zwiększona powierzchnia w budynkach:",null,null,null,null,null,null,null,null,null,null,null,null,null,{"$f":"S51","v":false},{"$f":"S38","v":false}]
[null,null,null,"Dopuszczalna maksymalna liczba  warchlaków i tuczników, które ze względu na wymogi wariantu mogą przebywać jednocześnie w gospodarstwie rolnym wynosi:",null,null,null,null,null,null,null,{"$f":"Tuczniki!O127","v":0},null,null,null,null,null,{"$f":"S52","v":false},{"$f":"$S$51","v":false}]
[null,null,null,null,null,null,null,null,null,null,null,null,null,null,null,null,null,false,false]
[null,null,null,"Szacowana roczna liczba tuczników, które ze względu na wymogi wariantu, mogą być wyprodukowane w gospodarstwie rolnym wynosi:",null,null,null,null,null,null,null,{"$f":"Tuczniki!O129","v":""},null,null,null,null,null,false,false]
[null,null,null,null,null,null,null,null,null,null,null,null,null,null,null,null,null,false,false]
[null,null,null,"Potencjalna liczba świń, które mogą przebywać jednocześnie w gospodarstwie rolnym (bez liczby prosiąt nieodsadzonych) wynosi:",null,null,null,null,null,null,null,{"$f":"Lochy!S123+Tuczniki!O127+'Swinie_inne(P)'!S123+'Swinie_inne(T)'!O127","v":0},null,null,null,null,null,false,false]
[null,null,null,null,null,null,null,null,null,null,null,null,null,null,null,null,null,false,false]
[null,null,"II.2","W zakresie wariantu 2.2. Dobrostan krów mlecznych utrzymywanych grupowo – zwiększona powierzchnia w budynkach:",null,null,null,null,null,null,null,null,null,null,null,null,null,false,{"$f":"S42","v":false}]
[null,null,null,"Dopuszczalna maksymalna liczba krów mlecznych, które ze względu na wymogi wariantu, mogą przebywać jednocześnie w gospodarstwie rolnym wynosi:",null,null,null,null,null,null,null,{"$f":"Krowy_MLECZNE_powierzch!L118+Krowy_MLECZNE_powierzch!J180","v":0},null,null,null,null,null,false,{"$f":"$S$58","v":false}]
[null,null,null,null,null,null,null,null,null,null,null,null,null,null,null,null,null,0]
[null,null,null,null,null,null,null,null,null,null,null,null,null,null,null,null,null,0]
[null,null,null,null,null,null,null,null,null,null,null,null,null,null,null,null,null,0]
[null,null,null,null,null,null,null,null,null,null,null,null,null,null,null,null,null,false,{"$f":"$S$58","v":false}]
[null,null,"II.3","W zakresie wariantu 2.3. Dobrostan krów mamek:",null,null,null,null,null,null,null,null,null,null,null,null,null,false,{"$f":"$S$43","v":false}]
[null,null,null,"Wielkość powierzchni zewnętrznych (pastwisk lub okólników lub wybiegów) przeznaczonych w okresie od dnia 16 października do dnia 14 marca roku następnego dla bydła w typie użytkowym mięsnym wynosi:",null,null,null,null,null,null,null,{"$f":"Krowy_MIĘSNE_powierzch!H88","v":0},"m2",null,null,null,null,false,{"$f":"$S$43","v":false}]
[null,null,"II.4","W zakresie wariantu 3.1. Dobrostan owiec: – zwiększona powierzchnia w budynkach:",null,null,null,null,null,null,null,null,null,null,null,null,null,{"$f":"Menu!H20","v":false}]
[null,null,null,"1) Numer siedziby stada:",null,{"$f":"'Owce_pow (1)'!$F$8","v":0},null,null,null,null,null,null,null,null,null,null,null,{"$f":"IF(F67>0,TRUE,FALSE)","v":false},{"$f":"S66","v":0}]
[null,null,null,"Powierzchnia bytowa przeznaczona dla wszystkich grup technologicznych zwierząt z gatunku owca domowa w pomieszczeniach w gospodarstwie rolnym:",null,null,null,null,null,null,null,{"$f":"'Owce_pow (1)'!$J$10","v":0},"m2",null,null,null,null,{"$f":"R67","v":false}]
[null,null,null,"Sposób utrzymywania poszczególnych grup technologicznych owiec \noraz liczba sztuk utrzymywanych pojedynczo",null,null,null,null,null,null,null,null,null,null,null,null,null,{"$f":"R68","v":false}]
[null,null,null,"Kategoria technologiczna",null,null,null,null,"grupowo","pojedynczo","Utrzymywane pojedynczo\nszt.",null,null,null,null,null,null,{"$f":"R69","v":false},null,null,"szt.grup","szt.poj."]
[null,null,null,{"$f":"D82","v":"samiec gatunku owca domowa w wieku powyżej 12 miesięcy, z wyjątkiem samca gatunku owca domowa – skopka"},null,null,null,null,{"$f":"IF(U71>0,S71,T71)","v":"☐"},{"$f":"IF(V71>0,S71,T71)","v":"☐"},{"$f":"IF(U71<=0,\"\",'Owce_pow (1)'!$AD19)","v":""},null,null,null,null,null,null,{"$f":"AND(OR(K71>0,U71>0),$R$70=TRUE)","v":false},"☒","☐",{"$f":"'Owce_pow (1)'!$AF$19","v":0},{"$f":"'Owce_pow (1)'!$AD19","v":0}]
[null,null,null,{"$f":"D83","v":"samica gatunku owca domowa w wieku powyżej 12 miesięcy"},null,null,null,null,{"$f":"IF(U72>0,S72,T72)","v":"☐"},{"$f":"IF(V72>0,S72,T72)","v":"☐"},{"$f":"IF(U72<=0,\"\",'Owce_pow (1)'!$AD20)","v":""},null,null,null,null,null,null,{"$f":"AND(OR(K72>0,U72>0),$R$70=TRUE)","v":false},"☒","☐",{"$f":"'Owce_pow (1)'!$AF$20","v":0},{"$f":"'Owce_pow (1)'!$AD20","v":0}]
[null,null,null,"samica gatunku owca domowa w wieku powyżej 12 miesięcy wraz z jagnięciem",null,null,null,null,"☐","☐",{"$f":"IF(U73<=0,\"\",'Owce_pow (1)'!$AD21)","v":""},null,null,null,null,null,null,false,"☒","☐",{"$f":"'Owce_pow (1)'!$AF$21","v":0},{"$f":"'Owce_pow (1)'!$AD21","v":0}]
[null,null,null,"samica gatunku owca domowa w wieku od 6 do 12 miesięcy",null,null,null,null,"☐","☐",{"$f":"IF(U74<=0,\"\",'Owce_pow (1)'!$AD22)","v":""},null,null,null,null,null,null,false,"☒","☐",{"$f":"'Owce_pow (1)'!$AF$22","v":0},{"$f":"'Owce_pow (1)'!$AD22","v":0}]
[null,null,null,"samiec gatunku owca domowa w wieku od 6 do 12 miesięcy, z wyjątkiem samca gatunku owca domowa – skopka",null,null,null,null,"☐","☐",{"$f":"IF(U75<=0,\"\",'Owce_pow (1)'!$AD23)","v":""},null,null,null,null,null,null,false,"☒","☐",{"$f":"'Owce_pow (1)'!$AF$23","v":0},{"$f":"'Owce_pow (1)'!$AD23","v":0}]
[null,null,null,"samiec gatunku owca domowa - skopek",null,null,null,null,"☐","☐",{"$f":"IF(U76<=0,\"\",'Owce_pow (1)'!$AD24)","v":""},null,null,null,null,null,null,false,"☒","☐",{"$f":"'Owce_pow (1)'!$AF$24","v":0},{"$f":"'Owce_pow (1)'!$AD24","v":0}]
[null,null,null,null,null,null,null,null,null,null,null,null,null,null,null,null,null,{"$f":"R70","v":false}]
[null,null,null,"2) Numer siedziby stada:",null,{"$f":"'Owce_pow (2)'!$F$8","v":0},null,null,null,null,null,null,null,null,null,null,null,{"$f":"IF(F78>0,TRUE,FALSE)","v":false},{"$f":"S77","v":0}]
[null,null,null,"Powierzchnia bytowa przeznaczona dla wszystkich grup technologicznych zwierząt z gatunku owca domowa w pomieszczeniach w gospodarstwie rolnym:",null,null,null,null,null,null,null,{"$f":"'Owce_pow (2)'!$J$10","v":0},"m2",null,null,null,null,{"$f":"R78","v":false}]
[null,null,null,"Sposób utrzymywania poszczególnych grup technologicznych owiec \noraz liczba sztuk utrzymywanych pojedynczo",null,null,null,null,null,null,null,null,null,null,null,null,null,{"$f":"R79","v":false}]
[null,null,null,"Kategoria technologiczna",null,null,null,null,"grupowo","pojedynczo","Utrzymywane pojedynczo\nszt.",null,null,null,null,null,null,{"$f":"R80","v":false},null,null,"szt.grup","szt.poj."]
[null,null,null,{"$f":"Owce_N!$K5","v":"samiec gatunku owca domowa w wieku powyżej 12 miesięcy, z wyjątkiem samca gatunku owca domowa – skopka"},null,null,null,null,{"$f":"IF(U82>0,S82,T82)","v":"☐"},{"$f":"IF(V82>0,S82,T82)","v":"☐"},{"$f":"IF(U82<=0,\"\",'Owce_pow (2)'!$AD19)","v":""},null,null,null,null,null,null,{"$f":"AND(OR(K82>0,U82>0),$R$81=TRUE)","v":false},"☒","☐",{"$f":"'Owce_pow (2)'!$AF$19","v":0},{"$f":"'Owce_pow (2)'!$AD19","v":0}]
[null,null,null,{"$f":"Owce_N!$K6","v":"samica gatunku owca domowa w wieku powyżej 12 miesięcy"},null,null,null,null,{"$f":"IF(U83>0,S83,T83)","v":"☐"},{"$f":"IF(V83>0,S83,T83)","v":"☐"},{"$f":"IF(U83<=0,\"\",'Owce_pow (2)'!$AD20)","v":""},null,null,null,null,null,null,{"$f":"AND(OR(K83>0,U83>0),$R$81=TRUE)","v":false},"☒","☐",{"$f":"'Owce_pow (2)'!$AF$20","v":0},{"$f":"'Owce_pow (2)'!$AD20","v":0}]
[null,null,null,{"$f":"Owce_N!$K7","v":"samica gatunku owca domowa w wieku powyżej 12 miesięcy wraz z jagnięciem"},null,null,null,null,"☐","☐",{"$f":"IF(U84<=0,\"\",'Owce_pow (2)'!$AD21)","v":""},null,null,null,null,null,null,false,"☒","☐",{"$f":"'Owce_pow (2)'!$AF$21","v":0},{"$f":"'Owce_pow (2)'!$AD21","v":0}]
[null,null,null,{"$f":"Owce_N!$K8","v":"samica gatunku owca domowa w wieku od 6 do 12 miesięcy"},null,null,null,null,"☐","☐",{"$f":"IF(U85<=0,\"\",'Owce_pow (2)'!$AD22)","v":""},null,null,null,null,null,null,false,"☒","☐",{"$f":"'Owce_pow (2)'!$AF$22","v":0},{"$f":"'Owce_pow (2)'!$AD22","v":0}]
[null,null,null,{"$f":"Owce_N!$K9","v":"samiec gatunku owca domowa w wieku od 6 do 12 miesięcy, z wyjątkiem samca gatunku owca domowa – skopka"},null,null,null,null,"☐","☐",{"$f":"IF(U86<=0,\"\",'Owce_pow (2)'!$AD23)","v":""},null,null,null,null,null,null,false,"☒","☐",{"$f":"'Owce_pow (2)'!$AF$23","v":0},{"$f":"'Owce_pow (2)'!$AD23","v":0}]
[null,null,null,{"$f":"Owce_N!$K10","v":"samiec gatunku owca domowa - skopek"},null,null,null,null,"☐","☐",{"$f":"IF(U87<=0,\"\",'Owce_pow (2)'!$AD24)","v":""},null,null,null,null,null,null,false,"☒","☐",{"$f":"'Owce_pow (2)'!$AF$24","v":0},{"$f":"'Owce_pow (2)'!$AD24","v":0}]
[null,null,null,null,null,null,null,null,null,null,null,null,null,null,null,null,null,false]
[null,null,null,"3) Numer siedziby stada:",null,{"$f":"'Owce_pow (3)'!$F$8","v":0},null,null,null,null,null,null,null,null,null,null,null,{"$f":"IF(F89>0,TRUE,FALSE)","v":false},{"$f":"S88","v":0}]
[null,null,null,"Powierzchnia bytowa przeznaczona dla wszystkich grup technologicznych zwierząt z gatunku owca domowa w pomieszczeniach w gospodarstwie rolnym:",null,null,null,null,null,null,null,{"$f":"'Owce_pow (3)'!$J$10","v":0},"m2",null,null,null,null,{"$f":"R89","v":false}]
[null,null,null,"Sposób utrzymywania poszczególnych grup technologicznych owiec \noraz liczba sztuk utrzymywanych pojedynczo",null,null,null,null,null,null,null,null,null,null,null,null,null,{"$f":"R90","v":false}]
[null,null,null,"Kategoria technologiczna",null,null,null,null,"grupowo","pojedynczo","Utrzymywane pojedynczo\nszt.",null,null,null,null,null,null,{"$f":"R91","v":false},null,null,"szt.grup"]
[null,null,null,{"$f":"D82","v":"samiec gatunku owca domowa w wieku powyżej 12 miesięcy, z wyjątkiem samca gatunku owca domowa – skopka"},null,null,null,null,{"$f":"IF(U93>0,S93,T93)","v":"☐"},{"$f":"IF(V93>0,S93,T93)","v":"☐"},{"$f":"IF(U93<=0,\"\",'Owce_pow (3)'!$AD19)","v":""},null,null,null,null,null,null,{"$f":"AND(OR(K93>0,U93>0),$R$92=TRUE)","v":false},"☒","☐",{"$f":"'Owce_pow (3)'!AF19","v":0},{"$f":"+'Owce_pow (3)'!$AD19","v":0}]
[null,null,null,{"$f":"D83","v":"samica gatunku owca domowa w wieku powyżej 12 miesięcy"},null,null,null,null,{"$f":"IF(U94>0,S94,T94)","v":"☐"},{"$f":"IF(V94>0,S94,T94)","v":"☐"},{"$f":"IF(U94<=0,\"\",'Owce_pow (3)'!$AD20)","v":""},null,null,null,null,null,null,{"$f":"AND(OR(K94>0,U94>0),$R$92=TRUE)","v":false},"☒","☐",{"$f":"'Owce_pow (3)'!AF20","v":0},{"$f":"+'Owce_pow (3)'!$AD20","v":0}]
[null,null,null,"samica gatunku owca domowa w wieku powyżej 12 miesięcy wraz z jagnięciem",null,null,null,null,"☐","☐",{"$f":"IF(U95<=0,\"\",'Owce_pow (3)'!$AD21)","v":""},null,null,null,null,null,null,false,"☒","☐",{"$f":"'Owce_pow (3)'!AF21","v":0},{"$f":"+'Owce_pow (3)'!$AD21","v":0}]
[null,null,null,"samica gatunku owca domowa w wieku od 6 do 12 miesięcy",null,null,null,null,"☐","☐",{"$f":"IF(U96<=0,\"\",'Owce_pow (3)'!$AD22)","v":""},null,null,null,null,null,null,false,"☒","☐",{"$f":"'Owce_pow (3)'!AF22","v":0},{"$f":"+'Owce_pow (3)'!$AD22","v":0}]
[null,null,null,"samiec gatunku owca domowa w wieku od 6 do 12 miesięcy, z wyjątkiem samca gatunku owca domowa – skopka",null,null,null,null,"☐","☐",{"$f":"IF(U97<=0,\"\",'Owce_pow (3)'!$AD23)","v":""},null,null,null,null,null,null,false,"☒","☐",{"$f":"'Owce_pow (3)'!AF23","v":0},{"$f":"+'Owce_pow (3)'!$AD23","v":0}]
[null,null,null,"samiec gatunku owca domowa - skopek",null,null,null,null,"☐","☐",{"$f":"IF(U98<=0,\"\",'Owce_pow (3)'!$AD24)","v":""},null,null,null,null,null,null,false,"☒","☐",{"$f":"'Owce_pow (3)'!AF24","v":0},{"$f":"+'Owce_pow (3)'!$AD24","v":0}]
[null,null,null,null,null,null,null,null,null,null,null,null,null,null,null,null,null,false]
[null,null,null,"4) Numer siedziby stada:",null,{"$f":"'Owce_pow (4)'!$F$8","v":0},null,null,null,null,null,null,null,null,null,null,null,{"$f":"IF(F100>0,TRUE,FALSE)","v":false},{"$f":"S99","v":0}]
[null,null,null,"Powierzchnia bytowa przeznaczona dla wszystkich grup technologicznych zwierząt z gatunku owca domowa w pomieszczeniach w gospodarstwie rolnym:",null,null,null,null,null,null,null,{"$f":"'Owce_pow (4)'!$J$10","v":0},"m2",null,null,null,null,{"$f":"R100","v":false}]
[null,null,null,"Sposób utrzymywania poszczególnych grup technologicznych owiec \noraz liczba sztuk utrzymywanych pojedynczo",null,null,null,null,null,null,null,null,null,null,null,null,null,{"$f":"R101","v":false}]
[null,null,null,"Kategoria technologiczna",null,null,null,null,"grupowo","pojedynczo","Utrzymywane pojedynczo\nszt.",null,null,null,null,null,null,{"$f":"R102","v":false},null,null,"szt.grup","szt.poj."]
[null,null,null,{"$f":"D82","v":"samiec gatunku owca domowa w wieku powyżej 12 miesięcy, z wyjątkiem samca gatunku owca domowa – skopka"},null,null,null,null,{"$f":"IF(U104>0,S104,T104)","v":"☐"},{"$f":"IF(V104>0,S104,T104)","v":"☐"},{"$f":"IF(U104<=0,\"\",'Owce_pow (4)'!$AD19)","v":""},null,null,null,null,null,null,{"$f":"AND(OR(K104>0,U104>0),$R$103=TRUE)","v":false},"☒","☐",{"$f":"'Owce_pow (4)'!AF19","v":0},{"$f":"'Owce_pow (4)'!$AD19","v":0}]
[null,null,null,{"$f":"D83","v":"samica gatunku owca domowa w wieku powyżej 12 miesięcy"},null,null,null,null,{"$f":"IF(U105>0,S105,T105)","v":"☐"},{"$f":"IF(V105>0,S105,T105)","v":"☐"},{"$f":"IF(U105<=0,\"\",'Owce_pow (4)'!$AD20)","v":""},null,null,null,null,null,null,{"$f":"AND(OR(K105>0,U105>0),$R$103=TRUE)","v":false},"☒","☐",{"$f":"'Owce_pow (4)'!AF20","v":0},{"$f":"'Owce_pow (4)'!$AD20","v":0}]
[null,null,null,"samica gatunku owca domowa w wieku powyżej 12 miesięcy wraz z jagnięciem",null,null,null,null,"☐","☐",{"$f":"IF(U106<=0,\"\",'Owce_pow (4)'!$AD21)","v":""},null,null,null,null,null,null,false,"☒","☐",{"$f":"'Owce_pow (4)'!AF21","v":0},{"$f":"'Owce_pow (4)'!$AD21","v":0}]
[null,null,null,"samica gatunku owca domowa w wieku od 6 do 12 miesięcy",null,null,null,null,"☐","☐",{"$f":"IF(U107<=0,\"\",'Owce_pow (4)'!$AD22)","v":""},null,null,null,null,null,null,false,"☒","☐",{"$f":"'Owce_pow (4)'!AF22","v":0},{"$f":"'Owce_pow (4)'!$AD22","v":0}]
[null,null,null,"samiec gatunku owca domowa w wieku od 6 do 12 miesięcy, z wyjątkiem samca gatunku owca domowa – skopka",null,null,null,null,"☐","☐",{"$f":"IF(U108<=0,\"\",'Owce_pow (4)'!$AD23)","v":""},null,null,null,null,null,null,false,"☒","☐",{"$f":"'Owce_pow (4)'!AF23","v":0},{"$f":"'Owce_pow (4)'!$AD23","v":0}]
[null,null,null,"samiec gatunku owca domowa - skopek",null,null,null,null,"☐","☐",{"$f":"IF(U109<=0,\"\",'Owce_pow (4)'!$AD24)","v":""},null,null,null,null,null,null,false,"☒","☐",{"$f":"'Owce_pow (4)'!AF24","v":0},{"$f":"'Owce_pow (4)'!$AD24","v":0}]
[null,null,null,null,null,null,null,null,null,null,null,null,null,null,null,null,null,false]
[null,null,null,"5) Numer siedziby stada:",null,{"$f":"'Owce_pow (5)'!$F$8","v":0},null,null,null,null,null,null,null,null,null,null,null,{"$f":"IF(F111>0,TRUE,FALSE)","v":false},{"$f":"S110","v":0}]
[null,null,null,"Powierzchnia bytowa przeznaczona dla wszystkich grup technologicznych zwierząt z gatunku owca domowa w pomieszczeniach w gospodarstwie rolnym:",null,null,null,null,null,null,null,{"$f":"'Owce_pow (5)'!$J$10","v":0},"m2",null,null,null,null,{"$f":"R111","v":false}]
[null,null,null,"Sposób utrzymywania poszczególnych grup technologicznych owiec \noraz liczba sztuk utrzymywanych pojedynczo",null,null,null,null,null,null,null,null,null,null,null,null,null,{"$f":"R112","v":false}]
[null,null,null,"Kategoria technologiczna",null,null,null,null,"grupowo","pojedynczo","Utrzymywane pojedynczo\nszt.",null,null,null,null,null,null,{"$f":"R113","v":false},null,null,"szt.grup"]
[null,null,null,{"$f":"D104","v":"samiec gatunku owca domowa w wieku powyżej 12 miesięcy, z wyjątkiem samca gatunku owca domowa – skopka"},null,null,null,null,{"$f":"IF(U115>0,S115,T115)","v":"☐"},{"$f":"IF(V115>0,S115,T115)","v":"☐"},{"$f":"IF(U115<=0,\"\",'Owce_pow (5)'!$AD19)","v":""},null,null,null,null,null,null,{"$f":"AND(OR(K115>0,U115>0),$R$114=TRUE)","v":false},"☒","☐",{"$f":"'Owce_pow (5)'!AF19","v":0},{"$f":"'Owce_pow (5)'!$AD19","v":0}]
[null,null,null,{"$f":"D105","v":"samica gatunku owca domowa w wieku powyżej 12 miesięcy"},null,null,null,null,{"$f":"IF(U116>0,S116,T116)","v":"☐"},{"$f":"IF(V116>0,S116,T116)","v":"☐"},{"$f":"IF(U116<=0,\"\",'Owce_pow (5)'!$AD20)","v":""},null,null,null,null,null,null,{"$f":"AND(OR(K116>0,U116>0),$R$114=TRUE)","v":false},"☒","☐",{"$f":"'Owce_pow (5)'!AF20","v":0},{"$f":"'Owce_pow (5)'!$AD20","v":0}]
[null,null,null,"samica gatunku owca domowa w wieku powyżej 12 miesięcy wraz z jagnięciem",null,null,null,null,"☐","☐",{"$f":"IF(U117<=0,\"\",'Owce_pow (5)'!$AD21)","v":""},null,null,null,null,null,null,false,"☒","☐",{"$f":"'Owce_pow (5)'!AF21","v":0},{"$f":"'Owce_pow (5)'!$AD21","v":0}]
[null,null,null,"samica gatunku owca domowa w wieku od 6 do 12 miesięcy",null,null,null,null,"☐","☐",{"$f":"IF(U118<=0,\"\",'Owce_pow (5)'!$AD22)","v":""},null,null,null,null,null,null,false,"☒","☐",{"$f":"'Owce_pow (5)'!AF22","v":0},{"$f":"'Owce_pow (5)'!$AD22","v":0}]
[null,null,null,"samiec gatunku owca domowa w wieku od 6 do 12 miesięcy, z wyjątkiem samca gatunku owca domowa – skopka",null,null,null,null,"☐","☐",{"$f":"IF(U119<=0,\"\",'Owce_pow (5)'!$AD23)","v":""},null,null,null,null,null,null,false,"☒","☐",{"$f":"'Owce_pow (5)'!AF23","v":0},{"$f":"'Owce_pow (5)'!$AD23","v":0}]
[null,null,null,"samiec gatunku owca domowa - skopek",null,null,null,null,"☐","☐",{"$f":"IF(U120<=0,\"\",'Owce_pow (5)'!$AD24)","v":""},null,null,null,null,null,null,false,"☒","☐",{"$f":"'Owce_pow (5)'!AF24","v":0},{"$f":"'Owce_pow (5)'!$AD24","v":0}]
[null,null,null,null,null,null,null,null,null,null,null,null,null,null,null,null,null,true]
[null,null,"III. Oświadczenia i podpisy"]
[null,null,"III.1.","Oświadczenie rolnika o przekazaniu pełnych i prawdziwych danych niezbędnych do sporządzenia planu poprawy dobrostanu zwierząt"]
[null,null,null,{"$f":"ARiMR_Lochy!D59","v":"Oświadczam, że dane przekazane do sporządzenia planu  poprawy dobrostanu zwierząt  są pełne i prawdziwe."}]
[]
[]
[null,null,null,"(miejscowość i data)",null,null,null,null,"(czytelny podpis rolnika)"]
[null,null,"III.2.","Podpisy i data sporządzenia planu poprawy dobrostanu zwierząt"]
[]
[null,null,null,"(miejscowość)",null,null,null,null,"(data sporządenia/zmiany planu)"]
[]
[null,null,null,"(czytelny podpis doradcy)",null,null,null,null,"(czytelny podpis rolnika)"]

{"sheet":"1_1_Wymogi_LOCHY_rozgęszczenie","index":31,"n_rows":19,"n_cols":10,"rows_kept":19,"cut":false,"hidden":false,"merged":[[13,2,13,9],[15,2,15,9],[17,1,17,9],[2,2,2,9],[4,2,4,9],[5,2,5,9],[6,2,6,9],[7,2,7,9],[8,2,8,9],[14,2,14,9],[12,2,12,9],[1,1,1,9],[3,2,3,9],[9,2,9,9],[10,2,10,9],[11,2,11,9]]}
[null,null,null,null,null,null,null,null,null,"POWRÓT"]
[null,"WYBRANE wymogi i warunki wariantu 1.1. Dobrostan loch – zwiększona powierzchnia w budynkach "]
[null,"1.","Wszystkie lochy są oznakowane kolczykiem z indywidualnym numerem identyfikacyjnym lochy, zgodnie z przepisami o systemie identyfikacji i rejestracji zwierząt a świnia inna niż locha nie została oznakowana kolczykiem z indywidualnym numerem identyfikacyjnym lochy i nie została zarejestrowana jako locha zgodnie z przepisami o systsemie identyfikacji i rejestracji zwierząt"]
[null,"2.","Powierzchnia bytowa kojca w budynkach inwentarskich, w przeliczeniu na jedna sztukę, wynosi co najmniej:"]
[null,"a)","4,2 m2 – dla loch w okresie porodu i odchowu prosiąt ssących"]
[null,"b)","2,7 m2 – dla loch lub loszek od 4. tygodnia po pokryciu do tygodnia przed przewidywanym terminem proszenia utrzymywanych pojedynczo – w przypadku gospodarstw utrzymujących mniej niż 10 loch lub loszek od 4. tygodnia po pokryciu do tygodnia przed przewidywanym terminem proszenia"]
[null,"c)","2,7 m2 – dla loch – w przypadku utrzymywania grupowego loch, przy czym w przypadku loch prośnych, co najmniej 1,3 m2 powierzchni kojca powinno stanowić stałe podłoże i nie więcej niż 15% tego podłoża – otwory odpływowe"]
[null,"d)","2 m2 – dla loszek po pokryciu – w przypadku utrzymywania grupowego loszek po pokryciu, przy czym co najmniej 0,95 m2 powierzchni kojca powinno stanowić stałe podłoże i nie więcej niż 15% tego podłoża – otwory odpływowe"]
[null,"e)","3 m2 – dla loch – w przypadku utrzymywania grupowego do 5 sztuk loch, przy czym w przypadku loch prośnych, co najmniej 1,3 m2 powierzchni kojca powinno stanowić stałe podłoże i nie więcej niż 15% tego podłoża – otwory odpływowe"]
[null,"f)","2,4 m2 – dla loch – w przypadku utrzymywania grupowego powyżej 39 sztuk loch przy czym w przypadku loch prośnych, co najmniej 1,3 m2 powierzchni kojca powinno stanowić stałe podłoże i nie więcej niż 15% tego podłoża – otwory odpływowe"]
[null,"g)","2,2 m2 – dla loszek po pokryciu – w przypadku utrzymywania grupowego do 5 sztuk loszek po pokryciu, przy czym co najmniej 0,95 m2 powierzchni kojca powinno stanowić stałe podłoże i nie więcej niż 15% tego podłoża – otwory odpływowe"]
[null,"h)","1,8 m2 – dla loszek po pokryciu – w przypadku utrzymywania grupowego powyżej 39 sztuk loszek po pokryciu przy czym co najmniej 0,95 m2 powierzchni kojca powinno stanowić stałe podłoże i nie więcej niż 15% tego podłoża – otwory odpływowe"]
[null,"3.","Prowadzenie na formularzu udostępnionym przez Agencję rejestru sposobu utrzymywania loch w okresie okołoporodowym, jeżeli w planie poprawy dobrostanu zwierząt lub w oświadczeniu, o którym mowa w § 3 ust. 5 rozporządzenia, oświadczono, że lochy są utrzymywane w takim systemie w okresie okołoporodowym, w którym w odniesieniu do każdej lochy wskazuje się terminy utrzymywania tej lochy w systemie jarzmowym w okresie okołoporodowym, jeżeli była ona tak utrzymywana i dostarczenie go do Agencji w terminie od dnia 15 marca do dnia 31 marca roku następującego po roku złożenia wniosku o przyznanie płatności dobrostanowe."]
[null,"4.","Liczba loch utrzymywanych w gospodarstwie nie jest większa niż dopuszczalna maksymalna liczby loch, które mogą przebywać jednocześnie w gospodarstwie z uwzględnieniem wymogów wariantu (określona w planie poprawy dobrostanu zwierząt)"]
[null,"5.","Powierzchnia bytowa w budynkach inwentarskich, dla grup technologicznych świń innych niż lochy i loszki po pokryciu – jest zgodna z odpowiednimi obowiązkowymi wymogami ustanowionymi zgodnie z tytułem VI rozdziału I rozporządzenia Parlamentu Europejskiego i Rady (UE) nr 1306/2013 z dnia 17 grudnia 2013 r. w sprawie finansowania wspólnej polityki rolnej, zarządzania nią i monitorowania jej oraz uchylającego rozporządzenia Rady (EWG) nr 352/78, (WE) nr 165/94, (WE) nr 2799/98, (WE) nr 814/2000, (WE) nr 1290/2005 i (WE) nr 485/2008 (Dz. Urz. UE L 347 z 20.12.2013, str. 549, z późn. zm.) oraz innymi odpowiednimi obowiązkowymi wymogami wynikającymi z rozporządzenia Ministra Rolnictwa i Rozwoju Wsi z dnia 15 lutego 2010 r. w sprawie wymagań i sposobu postępowania przy utrzymywaniu gatunków zwierząt gospodarskich, dla których normy ochrony zostały określone w przepisach Unii Europejskiej (Dz. U. poz. 344, z późn. zm.). "]
[null,"6.","Lochy nie mogą być utrzymywane w systemie jarzmowym jednak dopuszcza się możliwość utrzymywania w systemie jarzmowym, ale nie dłużej niż przez 8 dni w okresie okołoporodowym."]
[]
[null,"Wymogi dotyczą wszystkich loch i loszek po pokryciu w  gospodarstwie rolnym (wszystkie siedziby stad)"]
[null,null,null,"Kwota wsparcia:",301,"zł/szt."]

{"sheet":"1_2_Wymogi_TUCZNIKI_rozgęszcz","index":32,"n_rows":15,"n_cols":10,"rows_kept":15,"cut":false,"hidden":false,"merged":[[1,1,1,9],[14,3,14,6],[2,2,2,9],[3,2,3,9],[4,2,4,9],[5,2,5,9],[6,2,6,9],[7,2,7,9],[8,2,8,9],[9,2,9,9],[11,2,11,9],[13,1,13,9],[10,2,10,9]]}
[null,null,null,null,null,null,null,null,null,"POWRÓT"]
[null,"WYBRANE wymogi wariantu 1.2. Dobrostan tuczników – zwiększona powierzchnia w budynkach "]
[null,"1.","Powierzchnia bytowa kojca w budynkach inwentarskich, w przeliczeniu na jedna sztukę, w przypadku utrzymywania grupowego warchlaków i tuczników, wynosi co najmniej:"]
[null,"a)","0,18 m2 – w przypadku świń o masie ciała do 10 kg"]
[null,"b)","0,24 m2 – w przypadku świń o masie ciała powyżej 10 do 20 kg"]
[null,"c)","0,36 m2 – w przypadku świń o masie ciała powyżej 20 do 30 kg"]
[null,"d)","0,48 m2 – w przypadku świń o masie ciała powyżej 30 do 50 kg"]
[null,"e)","0,66 m2 – w przypadku świń o masie ciała powyżej 50 do 85 kg"]
[null,"f)","0,78 m2 – w przypadku świń o masie ciała powyżej 85 do 110 kg"]
[null,"g)","1,2 m2 – w przypadku świń o masie ciała powyżej 110 kg"]
[null,"2.","Powierzchnia bytowa w budynkach inwentarskich dla grup technologicznych świń innych niż warchlaki i tuczniki – jest zgodna z odpowiednimi obowiązkowymi wymogami ustanowionymi zgodnie z tytułem VI rozdziału I rozporządzenia Parlamentu Europejskiego i Rady (UE) nr 1306/2013 z dnia 17 grudnia 2013 r. w sprawie finansowania wspólnej polityki rolnej, zarządzania nią i monitorowania jej oraz uchylającego rozporządzenia Rady (EWG) nr 352/78, (WE) nr 165/94, (WE) nr 2799/98, (WE) nr 814/2000, (WE) nr 1290/2005 i (WE) nr 485/2008 oraz innymi odpowiednimi obowiązkowymi wymogami wynikającymi z rozporządzenia Ministra Rolnictwa i Rozwoju Wsi z dnia 15 lutego 2010 r. w sprawie wymagań i sposobu postępowania przy utrzymywaniu gatunków zwierząt gospodarskich, dla których normy ochrony zostały określone w przepisach Unii Europejskiej. "]
[null,"3.","Liczba warchlaków i tuczników, utrzymywanych w gospodarstwie nie jest większa niż dopuszczalna maksymalna liczba warchlaków i tuczników, które mogą przebywać jednocześnie w gospodarstwie, z uwzględnieniem wymogów wariantu  (określona w planie poprawy dobrostanu zwierząt)"]
[]
[null,"Wymogi dotyczą wszystkich warchlaków i tuczników w  gospodarstwie rolnym (wszystkie siedziby stad) - jednak płatność przysługuje tylko do tuczników pochodzących od loch dobrostanowych"]
[null,null,null,"Kwota wsparcia:",null,null,null,24,"zł/szt."]

{"sheet":"1_3_i_1_4_Wymogi_WYBIEGI","index":33,"n_rows":13,"n_cols":10,"rows_kept":13,"cut":false,"hidden":true,"merged":[[2,1,2,9],[10,3,10,5],[12,3,12,5],[3,2,3,9],[4,2,4,9],[5,2,5,9],[7,2,7,9],[9,2,9,9]]}
[null,null,null,null,null,null,null,null,null,"POWRÓT"]
[]
[null,"WYBRANE Wymogi wariantu 1.3 - dostęp do wybiegu  i wariantu 1.4. - dostęp do wybiegu (opcja dodatkowa)"]
[null,"1.","Zapewnienie odpowiednio wszystkim lochom lub wszystkim tucznikom możliwości swobodnego wyjścia na wybieg, chyba że warunki atmosferyczne nie są sprzyjające dla przebywania zwierząt na zewnątrz"]
[null,"2.","Liczba loch utrzymywanych w gospodarstwie nie jest większa niż dopuszczalna maksymalna liczby loch, które mogą przebywać jednocześnie w gospodarstwie z uwzględnieniem wymogów wariantu - w przypadku realizacji wariantu 1.3."]
[null,"3.","Liczba tuczników, w tym warchlaków, utrzymywanych w gospodarstwie nie jest większa niż dopuszczalna maksymalna liczba tuczników, w tym warchlaków, które mogą przebywać jednocześnie w gospodarstwie, z uwzględnieniem wymogów wariantu -  w przypadku realizacji wariantu 1.4."]
[]
[null,null,"Wymogi dotyczą odpowiednio wszystkich loch w  gospodarstwie lub wszystkich tuczników w  gospodarstwie - jednak w przypadku tuczników płatność przysługuje tylko do tuczników pochodzących od loch dobrostanowych"]
[]
[null,null,"wariant 1.3. Dobrostan loch - dostęp do wybiegu "]
[null,null,null,"Kwota wsparcia:",null,null,612,"zł/szt."]
[null,null,"wariant 1.4. Dobrostan tuczników - dostęp do wybiegu "]
[null,null,null,"Kwota wsparcia:",null,null,33,"zł/szt."]

{"sheet":"2_1_Wymogi_MLECZNE_wypas","index":34,"n_rows":9,"n_cols":10,"rows_kept":9,"cut":false,"hidden":true,"merged":[[8,2,8,3],[1,1,1,9],[2,2,2,9],[3,2,3,9],[4,2,4,9],[7,2,7,8]]}
[null,null,null,null,null,null,null,null,null,"POWRÓT"]
[null,"WYBRANE Wymogi wariantu  2.1. Dobrostan krów mlecznych – wypas"]
[null,"1.","Wypasanie krów mlecznych w gospodarstwie w okresie od dnia 15 kwietnia do dnia 15 października bez uwięzi, przy czym dla każdej krowy mlecznej okres wypasu wynosi minimum 120 dni i minimum 6 godzin dziennie"]
[null,"2.","Prowadzenie rejestru wypasu, indywidualnie dla każdej posiadanej krowy mlecznej, na formularzu udostępnionym przez Agencję, w którym wskazuje się tylko dni, w których dana krowa mleczna nie była wypasana wraz z podaniem przyczyny jej niewypasania"]
[null,"3. ","Przekazanie do ARiMR dnia 31 października - rejestru wypasu krów mlecznych"]
[]
[null,"Wymogi dotyczą wszystkich krów mlecznych w  gospodarstwie"]
[]
[null,null,"Kwota wsparcia:",null,185,"zł/szt."]

{"sheet":"2_2_Wymogi_MLECZNE_rozgęszcz","index":35,"n_rows":15,"n_cols":10,"rows_kept":15,"cut":false,"hidden":false,"merged":[[12,2,12,8],[1,1,1,9],[2,2,2,9],[3,2,3,9],[4,2,4,9],[5,2,5,9],[6,2,6,9],[11,2,11,9],[7,2,7,9],[8,2,8,9],[9,2,9,9],[10,2,10,9]]}
[null,null,null,null,null,null,null,null,null,"POWRÓT"]
[null,"Wybrane wymogi wariantu 2.2. Dobrostan krów mlecznych utrzymywanych grupowo - zwiększona powierzchnia w budynkach"]
[null,"1.","Powierzchnia bytowa w budynkach inwentarskich dla krów mlecznych w gospodarstwie, w przeliczeniu na jedną sztukę wynosi:"]
[null,"a)","w systemie wolnostanowiskowym z wydzielonymi legowiskami dla:"]
[null,"-","wydzielonego legowiska: długość – co najmniej 2,1 m, szerokość – co najmniej 1,1 m,"]
[null,"-","powierzchni odpasowo – ruchowej: co najmniej 4 m2."]
[null,"b)","w systemie wolnostanowiskowym bez wydzielonych legowisk na ściółce – co najmniej 5,4 m2"]
[null,"2. ","Powierzchnia bytowa w budynkach inwentarskich:"]
[null,"a)","dla innych niż krowy mleczne grup technologicznych bydła użytkowanego w kierunku mlecznym, lub typie użytkowym kombinowanym o mlecznym kierunku ich użytkowania"]
[null,"b)","dla krów mamek"]
[null,null,"– jest zgodna z odpowiednimi obowiązkowymi wymogami ustanowionymi zgodnie z tytułem VI rozdziału I rozporządzenia Parlamentu Europejskiego i Rady (UE) nr 1306/2013 z dnia 17 grudnia 2013 r. w sprawie finansowania wspólnej polityki rolnej, zarządzania nią i monitorowania jej oraz uchylającego rozporządzenia Rady (EWG) nr 352/78, (WE) nr 165/94, (WE) nr 2799/98, (WE) nr 814/2000, (WE) nr 1290/2005 i (WE) nr 485/2008 oraz innymi odpowiednimi obowiązkowymi wymogami wynikającymi z rozporządzenia Ministra Rolnictwa i Rozwoju Wsi z dnia 28 czerwca 2010 r. w sprawie minimalnych warunków utrzymywania gatunków zwierząt gospodarskich innych niż te, dla których normy ochrony zostały określone w przepisach Unii Europejskiej (Dz. U. z 2019 r. poz. 1966).\n"]
[null,"2.","Liczba krów mlecznych utrzymywanych w gospodarstwie, nie jest większa niż dopuszczalna maksymalna liczba krów mlecznych, które mogą przebywać jednocześnie w gospodarstwie, z uwzględnieniem wymogów wariantu (określona w planie poprawy dobrostanu zwierząt)."]
[null,null,"Wymogi wariantu muszą być spełnione dla wszystkich krów mlecznych, w tym krów w typie użytkowym kombinowanym o zgłoszonym mlecznym kierunku użytkowania  w gospodarstwie rolnym (wszystkie siedziby stad)"]
[]
[null,null,null,null,"Kwota wsparcia:",595,"zł/szt."]

{"sheet":"2_3_Wymogi_MIĘSNE_rozgęszcz","index":36,"n_rows":12,"n_cols":11,"rows_kept":12,"cut":false,"hidden":false,"merged":[[8,2,8,9],[1,1,1,9],[11,5,11,6],[2,2,2,9],[3,2,3,9],[4,2,4,9],[5,2,5,9],[6,2,6,9],[7,2,7,9],[10,2,10,8],[9,2,9,9]]}
[null,null,null,null,null,null,null,null,null,null,"POWRÓT"]
[null,"WYBRANE Wymogi wariantu 2.3. Dobrostan krów mamek"]
[null,"1.","Wypasanie  (bez uwięzi) na trwałych użytkach zielonych lub gruntach ornych, na których występują trawy lub inne zielne rośliny pastewne przez minimum 140 dni stada bydła w typie użytkowym mięsnym (krów mamek, cieląt, jałówek i opasów do 300 kg)  lub kombinowanym zgłoszonym jako mięsny kierunek użytkowania, w okresie od dnia 1 kwietnia do dnia 15 października (w przypadku złożenia wniosku do dnia 1 kwietnia) lub od dnia wskazanego przez rolnika w oświadczeniu (pkt 3 poniżej) jednak nie wcześniej niż od dnia 1 kwietnia do dnia 15 października roku, w którym został złożony wniosek o przyznanie płatności dobrostanowej (w przypadku gdy ten wniosek został złożony po dniu 1 kwietnia)."]
[null,"2.","Zapewnienie w okresie od dnia 16 października roku złożenia wniosku o przyznanie płatności dobrostanowej do dnia 14 marca kolejnego roku, dostępu do zewnętrznej powierzchni bytowej (pastwiska, wybiegi lub okólniki) dla krów mamek, cieląt, jałówek i opasów o masie ciała do 300 kg w typie użytkowym mięsnym lub w typie użytkowym kombinowanym o mięsnym kierunku ich użytkowania, wynoszącej, w przeliczeniu na jedną sztukę, dla:"]
[null,"a)","cieląt – co najmniej 6 m2"]
[null,"b)","jałówek – co najmniej 12 m2"]
[null,"c)","opasów  o masie ciała do 300 kg – co najmniej 12 m2"]
[null,"d)","krów – co najmniej 18 m2"]
[null,"3.","Przekazanie do ARiMR od dnia 16 października do dnia 31 października oświadczenia o zapewnieniu wypasu stada bydła w typie użytkowym mięsnym przez minimum 140 dni w okresie,o którym mowa w pkt. 1, a w przypadku przemieszczenia tego bydła w tym okresie do innego gospodarstwa – ze wskazaniem, dokąd zostało ono przemieszczone i na jakich działkach było wypasane, a w przypadku, gdy wniosek o przyznanie płatności dobrostanowej został złożony po dniu 1 kwietnia – również ze wskazaniem daty rozpoczęcia wypasu.  "]
[null,"4.","Utrzymywanie bez uwięzi krów mamek, cieląt, jałówek i opasów o masie ciała do 300 kg  w typie użytkowym mięsnym lub w typie użytkowym kombinowanym o mięsnym kierunku ich użytkowania"]
[null,null,"Wymogi wariantu muszą być spełnione całym w gospodarstwie rolnym (wszystkie siedziby stad)"]
[null,null,null,null,null,"Kwota wsparcia:",null,329,"zł/krowę mamkę"]

{"sheet":"3_1_Wymogi_OWCE_rozgeszcz","index":37,"n_rows":20,"n_cols":11,"rows_kept":20,"cut":false,"hidden":false,"merged":[[9,2,9,9],[5,2,5,9],[6,2,6,9],[7,2,7,9],[1,1,1,9],[2,2,2,9],[3,2,3,9],[4,2,4,9],[8,2,8,9],[10,2,10,9],[16,2,16,9],[18,2,18,8],[19,5,19,6],[11,2,11,9],[12,2,12,9],[13,2,13,9],[14,2,14,9],[15,2,15,9],[17,2,17,9]]}
[null,null,null,null,null,null,null,null,null,null,"POWRÓT"]
[null,"WYBRANE Wymogi wariantu 3.1. Dobrostan owiec - zwiększona powierzchnia w budynkach"]
[null,"1.","Wypasanie wszystkich utrzymywanych w gospodarstwie rolnym zwierząt z gatunku owca domowa na trwałych użytkach zielonych lub na gruntach ornych, na których występują trawy lub inne zielne rośliny pastewne, lub zapewnienie tym zwierzętom dostępu do wybiegu co najmniej przez 120 dni w okresie: od dnia 1 kwietnia roku, w którym został złożony wniosek o przyznanie płatności dobrostanowej, do dnia 15 października tego roku (w przypadku gdy wniosek został złożony do dnia 1 kwietnia) lub od dnia złożenia wniosku o przyznanie płatności dobrostanowej do dnia 15 października roku, w którym został złożony ten wniosek (w przypadku gdy ten wniosek został złożony po dniu 1 kwietnia)."]
[null,"2.","Powierzchnia bytowa w pomieszczeniu dla wszystkich utrzymywanych w gospodarstwie rolnym zwierząt z gatunku owca domowa  od dnia złożenia wniosku do dnia 14 marca kolejnego roku wynosi co najmniej:"]
[null,"a)","w przypadku utrzymywania pojedynczego:"]
[null,"–","samicy gatunku owca domowa w wieku powyżej 12 miesięcy – 2,16 m2,"]
[null,"–","samicy gatunku owca domowa w wieku powyżej 12 miesięcy z jagnięciem – 3 m2 i dodatkowo co najmniej 0,84 m2 dla każdego następnego jagnięcia ssącego,"]
[null,"–","samicy gatunku owca domowa w wieku od 6 do 12 miesięcy – 1,8 m2,"]
[null,"–","samca gatunku owca domowa w wieku powyżej 12 miesięcy z wyjątkiem samca gatunku owca domowa – skopka – 3,6 m2,"]
[null,"–","samca gatunku owca domowa w wieku od 6 do 12 miesięcy z wyjątkiem samca gatunku owca domowa – skopka – 2,4 m2,"]
[null,null,"samca gatunku owca domowa - skopka – 0,96 m2,"]
[null,"b)","w przypadku utrzymywania grupowego, w przeliczeniu na jedną sztukę:"]
[null,null,"– samicy gatunku owca domowa w wieku powyżej 12 miesięcy – 1,2 m2,"]
[null,null,"– samicy gatunku owca domowa w wieku powyżej 12 miesięcy z jagnięciem – 1,8 m2 i dodatkowo co najmniej 0,6 m2 dla każdego następnego jagnięcia ssącego,"]
[null,null,"– samicy gatunku owca domowa w wieku od 6 do 12 miesięcy – 0,96 m2,"]
[null,null,"– samca gatunku owca domowa w wieku powyżej 12 miesięcy z wyjątkiem samca gatunku owca domowa  – skopka – 2,4 m2,"]
[null,null,"– samca gatunku owca domowa w wieku od 6 do 12 miesięcy z wyjątkiem samca gatunku owca domowa  – skopka – 1,8 m2"]
[null,null,"samca gatunku owca domowa - skopka – 0,72 m2."]
[null,null,"Wymogi wariantu muszą być spełnione w całym gospodarstwie rolnym (wszystkie siedziby stad)"]
[null,null,null,null,null,"Kwota wsparcia:",null,133,"zł/owcę matkę"]