Workbook

Sheet Strona tytułowa
B6: KASA ROLNICZEGO UBEZPIECZENIA SPOŁECZNEGO
A15: KWARTALNA INFORMACJA STATYSTYCZNA
A17: II KWARTAŁ 2022 R.
A34: Warszawa 2022 rok

Sheet Spis treści
A1: SPIS TREŚCI
B2: Nr | C2: Str.
A3: Uwagi wstępne | B3: x | C3: 5
A4: Objaśnienia znaków umownych | B4: x | C4: 11
A5: Objaśnienia skrótów | B5: x | C5: 11
A6: SPIS TABLIC STATYSTYCZNYCH
A7: I. EMERYTURY I RENTY REALIZOWANE PRZEZ KRUS
A8: Emerytury i renty | B8: 1 | C8: 12
A9: Zwiększenia do emerytur i rent finansowane z Funduszu Emerytalno-Rentowego, wypłacane przy świadczeniach pracowniczych | B9: 2 | C9: 13
A10: Wnioski o przyznanie emerytur i rent według rodzajów świadczeń | B10: 3 | C10: 13
A11: Decyzje i postępowania umorzone w sprawach o emerytury i renty według rodzajów świadczeń | B11: 4 | C11: 14
A12: Decyzje i postępowania umorzone w sprawach o emerytury i renty według województw | B12: 5 | C12: 14
A13: Wnioski o przyznanie emerytur i rent rolniczych rozpatrywane z zastosowaniem przepisów wspólnotowych UE | B13: 6 | C13: 15
A14: Decyzje w sprawach wniosków o przyznanie emerytur i rent rolniczych z zastosowaniem przepisów wspólnotowych UE | B14: 7 | C14: 15
A15: Wnioski o przyznanie emerytur i rent rolniczych z zastosowaniem postanowień umów dwustronnych o zabezpieczeniu społecznym | B15: 8 | C15: 16
A16: Decyzje w sprawach wniosków o przyznanie emerytur i rent rolniczych z zastosowaniem postanowień umów dwustronnych o zabezpieczeniu społecznym | B16: 9 | C16: 16
A17: Świadczenia emerytalno-rentowe transferowane do poszczególnych państw UE/EFTA i Wielkiej Brytanii oraz do innych państw na podstawie umów dwustronnych | B17: 10 | C17: 17
A18: II. FUNDUSZ EMERYTALNO-RENTOWY
A19: 1. EMERYTURY I RENTY
A20: Przeciętna miesięczna liczba emerytur i rent według rodzajów świadczeń | B20: 1 (11) | C20: 18
A21: Liczba ubezpieczonych oraz przeciętna miesięczna liczba świadczeniobiorców według województw | B21: 2 (12) | C21: 19
A22: Przeciętne miesięczne świadczenia emerytalno-rentowe według województw | B22: 3 (13) | C22: 20
A23: Przeciętna miesięczna liczba emerytur i rent według województw oraz świadczeń emerytalnych wypłaconych przez MON, MSWiA i MS | B23: 4 (14) | C23: 21
A24: Wydatki na świadczenia emerytalno-rentowe według rodzajów świadczeń | B24: 5 (15) | C24: 22
A25: Wydatki na świadczenia emerytalno-rentowe według województw oraz świadczenia emerytalne wypłacone przez MON, MSWiA i MS | B25: 6 (16) | C25: 24
A26: Przeciętne miesięczne świadczenie emerytalno-rentowe według rodzajów świadczeń | B26: 7 (17) | C26: 25
A27: Przeciętne miesięczne świadczenie emerytalno-rentowe według województw oraz przeciętne miesięczne świadczenie emerytalne wypłacone przez MON, MSWiA i MS | B27: 8 (18) | C27: 26
B28: Nr | C28: Str.
A29: 2. ZASIŁKI
A30: Zasiłki macierzyńskie | B30: 9 (19) | C30: 27
A31: Zasiłki macierzyńskie według województw | B31: 10 (20) | C31: 27
A32: Zasiłki pogrzebowe | B32: 11 (21) | C32: 28
A33: Zasiłki pogrzebowe według województw | B33: 12 (22) | C33: 28
A34: III. ŚWIADCZENIA FINANSOWANE Z BUDŻETU PAŃSTWA
A35: Świadczenia finansowane z budżetu państwa zlecone do wypłaty Kasie Rolniczego Ubezpieczenia Społecznego | B35: 1 (23) | C35: 29
A36: IV. FUNDUSZ SKŁADKOWY UBEZPIECZENIA SPOŁECZNEGO ROLNIKÓW
A37: Zasiłki chorobowe i jednorazowe odszkodowania | B37: 1 (24) | C37: 30
A38: Zasiłki chorobowe i jednorazowe odszkodowania według województw | B38: 2 (25) | C38: 30
A39: Wypadki przy pracy rolniczej i choroby zawodowe rolników | B39: 3 (26) | C39: 32
A40: Wypadki i choroby zawodowe, z tytułu których przyznano jednorazowe odszkodowania według województw | B40: 4 (27) | C40: 32
A41: V. UBEZPIECZENIE SPOŁECZNE ROLNIKÓW
A42: Liczba płatników składek według województw | B42: 1 (28) | C42: 34
A43: Liczba ubezpieczonych według statusu ubezpieczonego | B43: 2 (29) | C43: 35
A44: Liczba ubezpieczonych i płatników składek | B44: 3 (30) | C44: 35
A45: Liczba ubezpieczonych według województw | B45: 4 (31) | C45: 36
A46: Liczba ubezpieczonych z tytułu prowadzenia jednocześnie działalności rolniczej i pozarolniczej działalności gospodarczej według województw | B46: 5 (32) | C46: 37
A47: Liczba ubezpieczonych w KRUS objętych jednocześnie ubezpieczeniem społecznym w ZUS z tytułu umowy zlecenia lub pełnienia funkcji w Radzie Nadzorczej według województw | B47: 6 (33) | C47: 37
A48: Przypis i wpływy należności z tytułu składek na ubezpieczenie społeczne rolników według województw | B48: 7 (34) | C48: 38
A49: Decyzje o podleganiu i ustaniu ubezpieczenia społecznego rolników według województw | B49: 8 (35) | C49: 38
A50: VI. UBEZPIECZENIE ZDROWOTNE
A51: Liczba osób podlegających ubezpieczeniu zdrowotnemu według województw | B51: 1 (36) | C51: 39
A52: Przypis składek na ubezpieczenie zdrowotne | B52: 2 (37) | C52: 39
B53: Nr | C53: Str.
A54: SPIS WYKRESÓW
A55: Przeciętna miesięczna liczba świadczeniobiorców na tle liczby ubezpieczonych | B55: 1 | C55: 19
A56: Przeciętne miesięczne świadczenia rolne wypłacane z FER w odniesieniu do świadczeń realizowanych przez KRUS ogółem | B56: 2 | C56: 20
A57: Struktura wydatków na świadczenia finansowane z Funduszu Emerytalno-Rentowego | B57: 3 | C57: 23
A58: Struktura wydatków na świadczenia finansowane z Funduszu Składkowego | B58: 4 | C58: 31
A59: Wypadki przy pracy rolniczej | B59: 5 | C59: 33

Sheet Uwagi wstępne
A1: UWAGI WSTĘPNE | C1: Powrót do spisu treści
B2: Kwartalna Informacja Statystyczna zawiera podstawowe dane, zagregowane tematycznie, dotyczące realizacji zadań wynikających z ustawy z dnia 20 grudnia 1990 r. o ubezpieczeniu społecznym rolników oraz zadań zleconych do wypłaty Kasie Rolniczego Ubezpieczenia Społecznego.
B3: Ze względu na zaokrąglenia danych, w niektórych przypadkach sumy składników mogą się różnić od podanych wielkości "ogółem".
B4: Przeciętne i wskaźniki obliczono z reguły na podstawie danych liczbowych, wyrażonych z większą dokładnością niż podano w tablicach.
A5: I. | B5: Dział Emerytury i renty realizowane przez KRUS zawiera informacje dotyczące m.in. przyznawania i wypłat świadczeń emerytalno-rentowych.
B6: Kwoty wypłat emerytur i rent wykazywane są łącznie z:
B7: - wypłatami z innych systemów ubezpieczeniowych w przypadku zbiegu uprawnień do świadczeń z tych systemów z uprawnieniami do świadczeń z funduszu emerytalno-rentowego,
B8: - wypłatami dokonywanymi w związku z zatrudnieniem poza rolnictwem, czynną służbą wojskową i działalnością kombatancką na podstawie art. 25 ust. 2a ustawy o ubezpieczeniu społecznym rolników,
B9: Ponadto:
B10: - emerytury prezentowane są łącznie z rodzicielskimi świadczeniami uzupełniającymi, ze świadczeniami rolnymi w wysokości 50% ze względu na uprawnienia do świadczeń pracowniczych zbiegających się ze świadczeniami zagranicznymi oraz z emeryturami finansowanymi z funduszu emerytalno-rentowego, a wypłaconymi przez MON, MSWiA, MS,
B11: - renty prezentowane są łącznie z rentami socjalnymi.
B12: Świadczenia pracownicze wypłacane przy świadczeniach rolniczych, finansowane są z Funduszu Ubezpieczeń Społecznych, którym dysponuje Zakład Ubezpieczeń Społecznych.
B13: W związku z akcesją Polski do Unii Europejskiej, KRUS realizuje zadania wynikające z przepisów rozporządzeń unijnych w sprawie koordynacji systemów zabezpieczenia społecznego. Zadania te realizuje Centrala KRUS jako instytucja łącznikowa oraz wytypowane jednostki organizacyjne KRUS, pełniące funkcję instytucji właściwych w postępowaniu międzynarodowym, są to: Oddział Regionalny KRUS w Krakowie – Wydział Świadczeń Zagranicznych w Nowym Sączu oraz Placówka Terenowa KRUS w Ostrowie Wielkopolskim.
B14: Ponadto Kasa realizuje zadania wynikające z zawartych umów dwustronnych o zabezpieczeniu społecznym. Zadania te realizuje Centrala KRUS, jako instytucja łącznikowa oraz Oddział Regionalny KRUS w Krakowie - Wydział Świadczeń Zagranicznych w Nowym Sączu, pełniący funkcje instytucji właściwej w postępowaniu międzynarodowym.
A15: II. | B15: Dział Fundusz Emerytalno-Rentowy zawiera informacje dotyczące świadczeń pieniężnych z ubezpieczenia emerytalno-rentowego, finansowanych z funduszu emerytalno-rentowego, tj.:
B16: • emerytura rolnicza przysługuje ubezpieczonemu (rolnikowi, domownikowi), który spełnia łącznie następujące warunki:
B17: - osiągnął wiek emerytalny - który wynosi 60 lat dla kobiety i 65 lat dla mężczyzny,
B18: - podlegał ubezpieczeniu emerytalno-rentowemu przez okres co najmniej 25 lat.
B19: Emerytury prezentowane są łącznie ze świadczeniami rolnymi w wysokości 50% ze względu na uprawnienia do świadczeń pracowniczych zbiegających się ze świadczeniami zagranicznymi oraz z emeryturami finansowanymi z funduszu emerytalno-rentowego, a wypłaconymi przez MON, MSWiA i MS.
B20: • renta rolnicza z tytułu niezdolności do pracy przysługuje ubezpieczonemu (rolnikowi, domownikowi), który spełnia łącznie następujące warunki:
B21: - podlegał ubezpieczeniu emerytalno-rentowemu przez wymagany okres wynoszący od 1 roku do 5 lat w zależności od wieku, w jakim powstała całkowita niezdolność do pracy.
B22: - jest trwale lub okresowo całkowicie niezdolny do pracy w gospodarstwie rolnym,
B23: - całkowita niezdolność do pracy w gospodarstwie rolnym powstała w okresie podlegania ubezpieczeniu emerytalno-rentowemu lub nie później niż w ciągu 18 miesięcy od ustania tych okresów,
B24: • renta rodzinna przysługuje uprawnionym członkom rodziny zmarłego emeryta/rencisty oraz ubezpieczonego, który w chwili śmierci spełniał warunki do uzyskania emerytury rolniczej lub renty rolniczej z tytułu niezdolności do pracy.
B25: Za członków rodziny uprawnionych do renty rodzinnej uznaje się przede wszystkim dzieci do ukończenia 16 lat, a jeżeli przekroczyły ten wiek - do ukończenia nauki w szkole, nie dłużej jednak niż do osiągnięcia 25 lat życia oraz dzieci bez względu na wiek, jeżeli w okresie nauki stały się całkowicie niezdolne do pracy. Ponadto, jeżeli dziecko osiągnęło 25 lat życia, będąc na ostatnim roku studiów, prawo do renty rodzinnej przedłuża się do zakończenia tego roku studiów. Na równi z dziećmi traktowane są przyjęte na utrzymanie i wychowanie wnuki oraz rodzeństwo.
B26: Z prawa do renty rodzinnej mogą korzystać także małżonek zmarłego (wdowa, wdowiec) i rodzice, o ile spełnią warunki do tego świadczenia. Wszystkim uprawnionym członkom rodziny przysługuje jedna wspólna renta rodzinna, która może ulec podziałowi pomiędzy uprawnionych na równe części.
B27: • dodatek pielęgnacyjny przysługuje osobie uprawnionej do emerytury lub renty, jeżeli osoba ta została uznana za całkowicie niezdolną do pracy oraz do samodzielnej egzystencji albo ukończyła 75 lat.
... B42: Kwota nie obejmuje należnych świadczeń z innych systemów ubezpieczeniowych, wypłacanych w tzw. zbiegu z emeryturą lub rentą rolną.
A43: III. | B43: Dział Świadczenia finansowane z budżetu państwa zawiera informacje dotyczące świadczeń finansowanych z budżetu państwa zleconych do wypłaty KRUS, tj.:
B44: - świadczeń pieniężnych dla inwalidów wojennych, wojskowych i osób represjonowanych,
B45: - zasiłków pogrzebowych wypłaconych po osobach pobierających wyżej wymienione świadczenia i po członkach ich rodzin,
B46: - dodatków kombatanckich,
B47: - dodatków pieniężnych dla inwalidów wojennych,
B48: - ryczałtów energetycznych,
B49: - świadczeń pieniężnych dla żołnierzy zastępczej służby wojskowej,
B50: - świadczeń pieniężnych dla osób deportowanych do pracy przymusowej,
B51: - dodatków kompensacyjnych,
B52: - świadczeń pieniężnych dla cywilnych niewidomych ofiar działań wojennych,
B53: - dodatków dla weterana poszkodowanego,
B54: - rodzicielskich świadczeń uzupełniających,
B55: - rent socjalnych,
... B57: - świadczeń wyrównawczych dla działaczy opozycji antykomunistycznej oraz osób represjonowanych z powodów politycznych.
A58: IV. | B58: Dział Fundusz Składkowy Ubezpieczenia Społecznego Rolników zawiera informacje dotyczące świadczeń pieniężnych z ubezpieczenia wypadkowego, chorobowego i macierzyńskiego tj.:
B59: • zasiłek chorobowy przysługujący ubezpieczonemu (rolnikowi, domownikowi), który wskutek choroby jest niezdolny do pracy nieprzerwanie co najmniej przez 30 dni, nie dłużej jednak niż przez 180 dni. Jeżeli po wyczerpaniu 180-dniowego okresu zasiłkowego ubezpieczony jest nadal niezdolny do pracy, a w wyniku dalszego leczenia i rehabilitacji rokuje odzyskanie zdolności do pracy, okres zasiłkowy przedłuża się na czas niezbędny do jej przywrócenia, nie dłużej niż o dalsze 360 dni.
B60: • jednorazowe odszkodowanie przysługujące ubezpieczonemu (rolnikowi, domownikowi, pomocnikowi rolnika), który doznał stałego lub długotrwałego uszczerbku na zdrowiu wskutek wypadku przy pracy rolniczej lub rolniczej choroby zawodowej oraz członkom rodziny ubezpieczonego, który zmarł wskutek wypadku przy pracy rolniczej lub rolniczej choroby zawodowej.
B61: Za wypadek przy pracy rolniczej uważa się nagłe zdarzenie wywołane przyczyną zewnętrzną, które nastąpiło podczas wykonywania czynności związanych z prowadzeniem działalności rolniczej albo pozostających w związku z wykonywaniem tych czynności: na terenie gospodarstwa rolnego, które ubezpieczony prowadzi lub w którym stale pracuje, albo na terenie gospodarstwa domowego bezpośrednio związanego z tym gospodarstwem rolnym lub w drodze ubezpieczonego z mieszkania do gospodarstwa rolnego, albo w drodze powrotnej lub podczas wykonywania poza terenem gospodarstwa rolnego zwykłych czynności związanych z prowadzeniem działalności rolniczej lub w związku z wykonywaniem tych czynności lub w drodze do miejsca wykonywania czynności poza terenem gospodarstwa rolnego związanych z prowadzeniem działalności rolniczej, albo w drodze powrotnej.
B62: W przypadku pomocnika rolnika za wypadek przy pracy rolniczej uznaje się nagłe zdarzenie wywołane przyczyną zewnętrzną, która nastąpiła podczas wykonywania przez pomocnika rolnika czynności określonych w umowie o pomocy przy zbiorach.
B63: Jednorazowe odszkodowanie dla ubezpieczonego z tytułu wypadku przy pracy rolniczej lub rolniczej choroby zawodowej ustala się w wysokości proporcjonalnej do określonego procentowo stałego lub długotrwałego uszczerbku na zdrowiu.
A64: V. | B64: Dział Ubezpieczenie Społeczne Rolników zawiera informacje dotyczące:
B65: • liczby płatników składek – tj. osób opłacających składki, za co najmniej jednego ubezpieczonego w gospodarstwie rolnym/dziale specjalnym produkcji rolnej lub za ubezpieczonego pobierającego rentę strukturalną lub na koncie, których, za co najmniej jedną osobę składka jest finansowana z dotacji budżetu państwa z tytułu sprawowania osobistej opieki nad dzieckiem oraz podmiotów – wójtów, burmistrzów, prezydentów miast opłacających składki na ubezpieczenie za osoby sprawujące opiekę nad osobami niepełnosprawnymi oraz liczbę osób lub podmiotów nie będących aktualnie płatnikiem czynnym, ale posiadających zadłużenie z tytułu nieopłaconych składek na ubezpieczenie,
B66: Renty strukturalne są przyznane i wypłacane przez Agencję Restrukturyzacji i Modernizacji Rolnictwa zgodnie z ustawą z dnia 28 listopada 2003 r. o wspieraniu rozwoju obszarów wiejskich ze środków pochodzących z Sekcji Gwarancji Europejskiego Funduszu Orientacji i Gwarancji Rolnej.
B67: • liczby ubezpieczonych, tj. rolników / współmałżonków i pracujących z nimi domowników, pomocników rolnika, osób ubezpieczonych na wniosek z tytułu przyznania świadczenia pielęgnacyjnego lub specjalnego zasiłku opiekuńczego albo zasiłku dla opiekuna, a także osób będących członkami rodziny (rolnika lub domownika) sprawujących opiekę nad dzieckiem, objętych ubezpieczeniem społecznym rolników, zgodnie z zasadami określonymi w ustawie z dnia 20 grudnia 1990 r. o ubezpieczeniu społecznym rolników.
B68: W ubezpieczeniu społecznym rolników występują dwa rodzaje ubezpieczeń:
B69: - ubezpieczenie wypadkowe, chorobowe i macierzyńskie,
B70: - ubezpieczenie emerytalno-rentowe.
B71: W ramach każdego z tych ubezpieczeń występuje ubezpieczenie z mocy ustawy (obowiązkowe) i ubezpieczenie na wniosek (dobrowolne).
B72: Z mocy ustawy (obowiązkowo) obydwoma rodzajami ubezpieczenia obejmowany jest:
B73: • rolnik, tj.: pełnoletnia osoba fizyczna zamieszkująca i prowadząca na terytorium Rzeczypospolitej Polskiej osobiście i na własny rachunek działalność rolniczą w pozostającym w jej posiadaniu gospodarstwie rolnym, o powierzchni powyżej 1 ha przeliczeniowego użytków rolnych (w tym również w ramach grupy producentów rolnych) lub dział specjalny produkcji rolnej, którego rozmiar i rodzaj określa załącznik do ustawy o ubezpieczeniu społecznym rolników, a także osoba, która przeznaczyła grunty prowadzonego przez siebie gospodarstwa do zalesienia,
B74: • małżonek rolnika, jeśli pracuje w gospodarstwie rolnym lub w gospodarstwie domowym bezpośrednio związanym z tym gospodarstwem rolnym,
B75: • domownik, tj.: osoba bliska rolnikowi, która ukończyła 16 lat, pozostaje z rolnikiem we wspólnym gospodarstwie domowym lub zamieszkuje na terenie jego gospodarstwa albo w bliskim sąsiedztwie, stale pracuje w tym gospodarstwie rolnym i nie jest związana z rolnikiem stosunkiem pracy, jeżeli osoby te nie podlegają innemu ubezpieczeniu społecznemu i nie mają ustalonego prawa do emerytury lub renty albo nie mają ustalonego prawa do świadczeń z ubezpieczeń społecznych.
B76: Zgodnie z brzmieniem art. 5a ustawy o ubezpieczeniu społecznym rolników, rolnik lub domownik, który rozpoczyna prowadzenie pozarolniczej działalności gospodarczej lub rozpoczyna współpracę przy prowadzeniu tej działalności, może nadal podlegać ubezpieczeniu społecznemu rolników, jeśli:
... B109: • liczby wydanych decyzji o podleganiu i ustaniu ubezpieczenia społecznego rolników.
A110: VI. | B110: Dział Ubezpieczenie Zdrowotne zawiera dane statystyczne dotyczące realizowanych przez KRUS zadań na podstawie ustawy z dnia 27 sierpnia 2004 r. o świadczeniach opieki zdrowotnej finansowanych ze środków publicznych.
B111: Ubezpieczeniu zdrowotnemu podlegają:
B112: • osoby spełniające warunki do objęcia ubezpieczeniem społecznym rolników, które są rolnikami, małżonkami lub domownikami w rozumieniu przepisów ustawy o ubezpieczeniu społecznym rolników,
B113: • pomocnicy rolnika w rozumieniu przepisów ustawy o ubezpieczeniu społecznym rolników,
B114: • rolnicy i ich domownicy, którzy nie podlegają ubezpieczeniu społecznemu rolników z mocy ustawy o ubezpieczeniu społecznym rolników, niepodlegający ubezpieczeniu zdrowotnemu z innego tytułu;
B115: • członkowie rodzin wyżej wymienionych rolników i domowników, którzy nie podlegają ubezpieczeniu zdrowotnemu z innego tytułu i zostali zgłoszeni do ubezpieczenia zdrowotnego w KRUS.
B116: Składki na ubezpieczenie zdrowotne za rolników objętych tym ubezpieczeniem, którzy prowadzą działalność rolniczą na gruntach rolnych poniżej 6 ha przeliczeniowych oraz za ich domowników, finansowane są przez budżet państwa. Natomiast rolnicy prowadzący gospodarstwa rolne o powierzchni 6 i więcej hektarów przeliczeniowych użytków rolnych składkę na ubezpieczenie zdrowotne za siebie, małżonków i domowników podlegających temu ubezpieczeniu, opłacają indywidualnie w wysokości 1 zł miesięcznie od każdego pełnego hektara przeliczeniowego użytków rolnych. Również indywidualnie opłacana jest składka przez rolników, prowadzących działalność rolniczą w ramach działów specjalnych w rozumieniu przepisów ustawy o ubezpieczeniu społecznym rolników (niezależnie czy działalność ta prowadzona jest wyłącznie w samoistnym dziale specjalnym, czy też dodatkowo na użytkach rolnych).
B117: Rolnik prowadzący dział specjalny produkcji rolnej opłaca składki zdrowotne na swoje ubezpieczenie od deklarowanej podstawy wymiaru składki odpowiadającej:
B118: - dochodowi ustalonemu dla opodatkowania podatkiem dochodowym od osób fizycznych, w kwocie nie niższej jednak niż kwota odpowiadająca wysokości minimalnego wynagrodzenia bądź,
B119: - minimalnemu wynagrodzeniu w przypadku prowadzenia działalności niepodlegającej opodatkowaniu podatkiem dochodowym od osób fizycznych.
B120: Składka na ubezpieczenie zdrowotne za domowników opłacana jest w zależności od zakresu prowadzonej przez rolnika działalności rolniczej:
B121: • w przypadku prowadzenia działów specjalnych łącznie z gospodarstwem rolnym o powierzchni użytków rolnych 6 i więcej hektarów przeliczeniowych rolnik opłaca składkę na ubezpieczenie zdrowotne od użytków rolnych (1 zł za 1 hektar przeliczeniowy),
B122: • w przypadku prowadzenia wyłącznie działów specjalnych rolnik opłaca składkę na ubezpieczenie zdrowotne w wysokości 9 % podstawy wymiaru, który stanowi kwota 33,4% przeciętnego miesięcznego wynagrodzenia w sektorze przedsiębiorstw w czwartym kwartale roku poprzedniego włącznie z wypłatami z zysku,
... B130: Składka zdrowotna za emerytów i rencistów wynosi 9% podstawy wymiaru, z czego ubezpieczony finansuje składkę w wysokości 1,25% podstawy z kwoty netto emerytury lub renty (z wyłączeniem dodatków, świadczeń pieniężnych i ryczałtu energetycznego oraz do deputatu węglowego). Natomiast składka pomniejszająca zaliczkę na podatek dochodowy stanowi 7,75% podstawy.

Sheet Objaśnienia i skróty
A1: OBJAŚNIENIA ZNAKÓW UMOWNYCH | C1: Powrót do spisu treści
A3: Symbol | B3: Opis
A4: Kreska (-) | B4: zjawisko nie wystąpiło
A5: Zero (0) | B5: zjawisko istniało w wielkości mniejszej od 0,5
A6: Zero (0,0) | B6: zjawisko istniało w wielkości mniejszej od 0,05
A7: Kropka (.) | B7: brak informacji albo brak informacji wiarygodnych
A8: Znak (x) | B8: wypełnienie pozycji jest niemożliwe lub niecelowe
A9: „w tym” | B9: oznacza, że nie podaje się wszystkich składników sumy
A10: "z tego" | B10: oznacza, że podaje się wszystkie składniki sumy
A12: OBJAŚNIENIA SKRÓTÓW
A14: Skrót | B14: Znaczenie
A15: KRUS | B15: Kasa Rolniczego Ubezpieczenia Społecznego
A16: ZUS | B16: Zakład Ubezpieczeń Społecznych
A17: Fundusz Składkowy | B17: Fundusz Składkowy Ubezpieczenia Społecznego Rolników
A18: MON | B18: Ministerstwo Obrony Narodowej
A19: MSWiA | B19: Zakład Emerytalno-Rentowy Ministerstwa Spraw Wewnętrznych i Administracji
A20: MS | B20: Ministerstwo Sprawiedliwości
A21: NFZ | B21: Narodowy Fundusz Zdrowia
A22: FER | B22: Fundusz Emerytalno-Rentowy
A23: UE | B23: Unia Europejska
A24: EFTA | B24: Europejskie Stowarzyszenie Wolnego Handlu
A25: zł | B25: złoty

Sheet Tab 1
A1: I. EMERYTURY I RENTY REALIZOWANE PRZEZ KRUS | J1: Powrót do spisu treści
A2: TABLICA 1. EMERYTURY I RENTY
A3: Wyszczególnienie | B3: 2021 rok | D3: 2022 rok
B4: II kwartał | C4: I półrocze | D4: I kwartał | E4: II kwartał | F4: I półrocze | G4: porównanie (wzrost/spadek)
G5: II kwartału 2022 r. z I kwartałem 2022 r. | H5: II kwartału 2022 r. z II kwartałem 2021 r. | I5: I półrocza 2022 r. z I półroczem 2021 r.
A6: OGÓŁEM
A7: Przeciętna miesięczna liczba świadczeniobiorców | B7: 1041084 | C7: 1047548 | D7: 1005612 | E7: 995710 | F7: 1000661 | G7: =E7/D7-1 -> -0.0098467401 | H7: =E7/B7-1 -> -0.043583419 | I7: =F7/C7-1 -> -0.044758808
A8: w tym świadczenia zbiegowe pracownicze | B8: 46901 | C8: 48056 | D8: 40762 | E8: 38774 | F8: 39768 | G8: =E8/D8-1 -> -0.048770914 | H8: =E8/B8-1 -> -0.17327989 | I8: =F8/C8-1 -> -0.17246546
A9: Kwota wypłat w zł | B9: 4.4925939e+09 | C9: 8.9296144e+09 | D9: 4.3963712e+09 | E9: 4.5008074e+09 | F9: 8.8971786e+09 | G9: =E9/D9-1 -> 0.023755104 | H9: =E9/B9-1 -> 0.0018282258 | I9: =F9/C9-1 -> -0.003632387
A10: w tym świadczenia zbiegowe pracownicze | B10: 2.228906e+08 | C10: 4.498973e+08 | D10: 1.9813219e+08 | E10: 1.9821582e+08 | F10: 3.9634801e+08 | G10: =E10/D10-1 -> 0.00042211112 | H10: =E10/B10-1 -> -0.11070355 | I10: =F10/C10-1 -> -0.1190256
A11: Przeciętne świadczenie w zł | B11: 1438.44 | C11: 1420.72 | D11: 1457.28 | E11: 1506.73 | F11: 1481.88 | G11: =E11/D11-1 -> 0.033933081 | H11: =E11/B11-1 -> 0.047475042 | I11: =F11/C11-1 -> 0.043048595
A12: EMERYTURY
A13: Przeciętna miesięczna liczba świadczeniobiorców | B13: 814476 | C13: 820365 | D13: 784324 | E13: 774928 | F13: 779626 | G13: =E13/D13-1 -> -0.011979743 | H13: =E13/B13-1 -> -0.048556372 | I13: =F13/C13-1 -> -0.049659603
A14: Kwota wypłat w zł | B14: 3.5337287e+09 | C14: 7.030746e+09 | D14: 3.4393928e+09 | E14: 3.5142178e+09 | F14: 6.9536106e+09 | G14: =E14/D14-1 -> 0.021755284 | H14: =E14/B14-1 -> -0.005521327 | I14: =F14/C14-1 -> -0.010971152
A15: Przeciętne świadczenie w zł | B15: 1446.22 | C15: 1428.38 | D15: 1461.72 | E15: 1511.63 | F15: 1486.53 | G15: =E15/D15-1 -> 0.034144706 | H15: =E15/B15-1 -> 0.04522825 | I15: =F15/C15-1 -> 0.040710455
A16: RENTY Z TYTUŁU NIEZDOLNOŚCI DO PRACY
A17: Przeciętna miesięczna liczba świadczeniobiorców | B17: 184440 | C17: 185177 | D17: 179636 | E17: 178874 | F17: 179255 | G17: =E17/D17-1 -> -0.0042419114 | H17: =E17/B17-1 -> -0.030177836 | I17: =F17/C17-1 -> -0.031980214
A18: w tym renty z tytułu niezdolności do pracy wypadkowe | B18: 12261 | C18: 12308 | D18: 12042 | E18: 12018 | F18: 12030 | G18: =E18/D18-1 -> -0.0019930244 | H18: =E18/B18-1 -> -0.019818938 | I18: =F18/C18-1 -> -0.022586935
A19: Kwota wypłat w zł | B19: 7.2399715e+08 | C19: 1.4359441e+09 | D19: 7.1876837e+08 | E19: 7.3753799e+08 | F19: 1.4563064e+09 | G19: =E19/D19-1 -> 0.026113579 | H19: =E19/B19-1 -> 0.018702888 | I19: =F19/C19-1 -> 0.014180392
A20: w tym renty z tytułu niezdolności do pracy wypadkowe | B20: 52800017 | C20: 1.043554e+08 | D20: 52666971 | E20: 53968508 | F20: 1.0663548e+08 | G20: =E20/D20-1 -> 0.024712601 | H20: =E20/B20-1 -> 0.022130512 | I20: =F20/C20-1 -> 0.021849181
A21: Przeciętne świadczenie w zł | B21: 1308.46 | C21: 1292.41 | D21: 1333.75 | E21: 1374.41 | F21: 1354.03 | G21: =E21/D21-1 -> 0.030485473 | H21: =E21/B21-1 -> 0.050402764 | I21: =F21/C21-1 -> 0.047678368
A22: RENTY RODZINNE
A23: Przeciętna miesięczna liczba świadczeniobiorców | B23: 42168 | C23: 42005 | D23: 41652 | E23: 41908 | F23: 41780 | G23: =E23/D23-1 -> 0.0061461634 | H23: =E23/B23-1 -> -0.0061658129 | I23: =F23/C23-1 -> -0.0053565052
A24: Kwota wypłat w zł | B24: 2.3484263e+08 | C24: 4.6287398e+08 | D24: 2.381869e+08 | E24: 2.4903067e+08 | F24: 4.8721757e+08 | G24: =E24/D24-1 -> 0.045526346 | H24: =E24/B24-1 -> 0.060415128 | I24: =F24/C24-1 -> 0.052592272
A25: Przeciętne świadczenie w zł | B25: 1856.4 | C25: 1836.58 | D25: 1906.18 | E25: 1980.76 | F25: 1943.58 | G25: =E25/D25-1 -> 0.039125371 | H25: =E25/B25-1 -> 0.066989873 | I25: =F25/C25-1 -> 0.058260462
A26: ŚWIADCZENIA PIENIĘŻNE DLA CYWILNYCH NIEWIDOMYCH OFIAR DZIAŁAŃ WOJENNYCH
A27: Kwota wypłat w zł | B27: 25514.64 | C27: 50337.44 | D27: 23086.28 | E27: 20977.5 | F27: 44063.78 | G27: =E27/D27-1 -> -0.09134343 | H27: =E27/B27-1 -> -0.17782497 | I27: =F27/C27-1 -> -0.12463208

Sheet Tab 2 i 3
A1: ='Tab 1'!A1:I1 -> I. EMERYTURY I RENTY REALIZOWANE PRZEZ KRUS | J1: Powrót do spisu treści
A3: TABLICA 2. ZWIĘKSZENIA DO EMERYTUR I RENT FINANSOWANE Z FUNDUSZU EMERYTALNO-RENTOWEGO, WYPŁACANE PRZY ŚWIADCZENIACH PRACOWNICZYCH
A4: Wyszczególnienie | B4: 2021 rok | D4: 2022 rok
B5: II kwartał | C5: I półrocze | D5: I kwartał | E5: II kwartał | F5: I półrocze | G5: porównanie (wzrost/spadek)
G6: II kwartału 2022 r. z I kwartałem 2022 r. | H6: II kwartału 2022 r. z II kwartałem 2021 r. | I6: I półrocza 2022 r. z I półroczem 2021 r.
A7: OGÓŁEM
A8: Przeciętna miesięczna liczba osób | B8: 634685 | C8: 636345 | D8: 629189 | E8: 627606 | F8: 628398 | G8: =E8/D8-1 -> -0.0025159372 | H8: =E8/B8-1 -> -0.011153564 | I8: =F8/C8-1 -> -0.012488509
A9: Kwota wypłat w zł | B9: 1.865885e+08 | C9: 3.6840753e+08 | D9: 1.9144891e+08 | E9: 1.9915657e+08 | F9: 3.9060547e+08 | G9: =E9/D9-1 -> 0.04025963 | H9: =E9/B9-1 -> 0.067357118 | I9: =F9/C9-1 -> 0.06025378
A10: EMERYTURY
A11: Przeciętna miesięczna liczba osób | B11: 510579 | C11: 512026 | D11: 507693 | E11: 506853 | F11: 507273 | G11: =E11/D11-1 -> -0.0016545432 | H11: =E11/B11-1 -> -0.0072975974 | I11: =F11/C11-1 -> -0.0092827317
A12: Kwota wypłat w zł | B12: 1.6566523e+08 | C12: 3.269608e+08 | D12: 1.7015784e+08 | E12: 1.7723166e+08 | F12: 3.473895e+08 | G12: =E12/D12-1 -> 0.041572142 | H12: =E12/B12-1 -> 0.069818136 | I12: =F12/C12-1 -> 0.0624806
A13: RENTY Z TYTUŁU NIEZDOLNOŚCI DO PRACY
A14: Przeciętna miesięczna liczba osób | B14: 10753 | C14: 10852 | D14: 10182 | E14: 9850 | F14: 10016 | G14: =E14/D14-1 -> -0.032606561 | H14: =E14/B14-1 -> -0.083976565 | I14: =F14/C14-1 -> -0.077036491
A15: Kwota wypłat w zł | B15: 3104145.8 | C15: 6191667.2 | D15: 3037260.2 | E15: 3047368.5 | F15: 6084628.7 | G15: =E15/D15-1 -> 0.0033281179 | H15: =E15/B15-1 -> -0.018290797 | I15: =F15/C15-1 -> -0.017287501
A16: RENTY RODZINNE
A17: Przeciętna miesięczna liczba osób | B17: 113353 | C17: 113466 | D17: 111314 | E17: 110903 | F17: 111109 | G17: =E17/D17-1 -> -0.0036922579 | H17: =E17/B17-1 -> -0.021613896 | I17: =F17/C17-1 -> -0.020772742
A18: Kwota wypłat w zł | B18: 17819130 | C18: 35255062 | D18: 18253806 | E18: 18877534 | F18: 37131340 | G18: =E18/D18-1 -> 0.034169741 | H18: =E18/B18-1 -> 0.059397045 | I18: =F18/C18-1 -> 0.053220092
A20: TABLICA 3. WNIOSKI O PRZYZNANIE EMERYTUR I RENT WEDŁUG RODZAJÓW ŚWIADCZEŃ
A21: Wyszczególnienie | B21: Wnioski pozostałe z poprzedniego okresu | C21: Zarejestrowane wnioski | D21: Załatwione wnioski | F21: Wnioski pozostałe do załatwienia w następnym okresie
D22: Razem | E22: w tym po terminie ustawowym
B23: II KWARTAŁ 2022 R.
A24: OGÓŁEM | B24: =B25+B27+B31 -> 18236 | C24: =C25+C27+C31 -> 18836 | D24: =D25+D27+D31 -> 20905 | E24: =E25+E27+E31 -> 1 | F24: =F25+F27+F31 -> 16167
A25: Emerytury razem | B25: 1609 | C25: 6171 | D25: 5185 | E25: 1 | F25: 2595
A26: w tym wcześniejsze | B26: 2 | C26: 3 | D26: 5 | E26: 0 | F26: 0
A27: Renty razem, z tego: | B27: =B28+B30 -> 16627 | C27: =C28+C30 -> 12665 | D27: =D28+D30 -> 15720 | E27: =E28+E30 -> 0 | F27: =F28+F30 -> 13572
A28: Renty z tytułu niezdolności do pracy | B28: 16278 | C28: 11622 | D28: 14584 | E28: 0 | F28: 13316
A29: w tym renty z tytułu niezdolności do pracy wypadkowe | B29: 766 | C29: 549 | D29: 676 | E29: 0 | F29: 639
A30: Renty rodzinne | B30: 349 | C30: 1043 | D30: 1136 | E30: 0 | F30: 256
A31: Emerytury i renty z art. 9 ustawy z dnia 24 lutego 1990 r. | B31: 0 | C31: 0 | D31: 0 | E31: 0 | F31: 0

Sheet Tab 4 i 5
A1: ='Tab 2 i 3'!A1:F1 -> I. EMERYTURY I RENTY REALIZOWANE PRZEZ KRUS | H1: Powrót do spisu treści
A2: TABLICA 4. DECYZJE I POSTĘPOWANIA UMORZONE W SPRAWACH O EMERYTURY I RENTY WEDŁUG RODZAJÓW ŚWIADCZEŃ
A3: Wyszczególnienie | B3: Liczba wydanych decyzji i postępowań umorzonych | C3: Liczba wydanych decyzji | G3: Postępowania umorzone
C4: Ogółem | D4: przyznających świadczenia | E4: odmownych | F4: udział odmownych decyzji do ogółem wydanych decyzji
B5: ='Tab 2 i 3'!B23:F23 -> II KWARTAŁ 2022 R.
A6: OGÓŁEM | B6: =C6+G6 -> 20905 | C6: =D6+E6 -> 20624 | D6: =D7+D9+D13 -> 18785 | E6: =E7+E9 -> 1839 | F6: =E6/C6 -> 0.08916796 | G6: =G7+G9 -> 281
A7: Emerytury razem | B7: 5185 | C7: 5119 | D7: 4696 | E7: 423 | F7: =E7/C7 -> 0.082633327 | G7: 66
A8: w tym wcześniejsze | B8: 5 | C8: 5 | D8: 5 | E8: 0 | F8: =E8/C8 -> 0 | G8: 0
A9: Renty razem, z tego: | B9: 15720 | C9: 15505 | D9: 14089 | E9: 1416 | F9: =E9/C9 -> 0.091325379 | G9: 215
A10: Renty z tytułu niezdolności do pracy razem | B10: 14584 | C10: 14400 | D10: 13056 | E10: 1344 | F10: =E10/C10 -> 0.093333333 | G10: 184
A11: w tym renty z tytułu niezdolności do pracy wypadkowe | B11: 676 | C11: 669 | D11: 559 | E11: 110 | F11: =E11/C11 -> 0.16442451 | G11: 7
A12: Renty rodzinne | B12: 1136 | C12: 1105 | D12: 1033 | E12: 72 | F12: =E12/C12 -> 0.065158371 | G12: 31
A13: Emerytury i renty z art. 9 ustawy z dnia 24 lutego 1990 r. | B13: 0 | C13: 0 | D13: 0 | E13: 0 | F13: - | G13: 0
A15: TABLICA 5. DECYZJE I POSTĘPOWANIA UMORZONE W SPRAWACH O EMERYTURY I RENTY WEDŁUG WOJEWÓDZTW
A16: Wyszczególnienie | B16: Liczba wydanych decyzji i postępowań umorzonych | C16: Liczba wydanych decyzji | G16: Postępowania umorzone
C17: Ogółem | D17: przyznających świadczenia | E17: odmownych | F17: udział odmownych decyzji do ogółem wydanych decyzji
B18: =B5 -> II KWARTAŁ 2022 R.
A19: OGÓŁEM | B19: =SUM(B20:B35) -> 20905 | C19: =SUM(C20:C35) -> 20624 | D19: =SUM(D20:D35) -> 18785 | E19: =SUM(E20:E35) -> 1839 | F19: =E19/C19 -> 0.08916796 | G19: =SUM(G20:G35) -> 281
A20: dolnośląskie | B20: =C20+G20 -> 615 | C20: =SUM(D20:E20) -> 606 | D20: 542 | E20: 64 | F20: =E20/C20 -> 0.10561056 | G20: 9
A21: kujawsko-pomorskie | B21: =C21+G21 -> 1302 | C21: =SUM(D21:E21) -> 1288 | D21: 1206 | E21: 82 | F21: =E21/C21 -> 0.063664596 | G21: 14
A22: lubelskie | B22: =C22+G22 -> 2459 | C22: =SUM(D22:E22) -> 2425 | D22: 2113 | E22: 312 | F22: =E22/C22 -> 0.12865979 | G22: 34
A23: lubuskie | B23: =C23+G23 -> 238 | C23: =SUM(D23:E23) -> 231 | D23: 217 | E23: 14 | F23: =E23/C23 -> 0.060606061 | G23: 7
A24: łódzkie | B24: =C24+G24 -> 1564 | C24: =SUM(D24:E24) -> 1554 | D24: 1397 | E24: 157 | F24: =E24/C24 -> 0.1010296 | G24: 10
A25: małopolskie | B25: =C25+G25 -> 2446 | C25: =SUM(D25:E25) -> 2418 | D25: 2248 | E25: 170 | F25: =E25/C25 -> 0.070306038 | G25: 28
A26: mazowieckie | B26: =C26+G26 -> 3068 | C26: =SUM(D26:E26) -> 3034 | D26: 2770 | E26: 264 | F26: =E26/C26 -> 0.087013843 | G26: 34
A27: opolskie | B27: =C27+G27 -> 260 | C27: =SUM(D27:E27) -> 257 | D27: 229 | E27: 28 | F27: =E27/C27 -> 0.10894942 | G27: 3
A28: podkarpackie | B28: =C28+G28 -> 1507 | C28: =SUM(D28:E28) -> 1475 | D28: 1369 | E28: 106 | F28: =E28/C28 -> 0.071864407 | G28: 32
A29: podlaskie | B29: =C29+G29 -> 1610 | C29: =SUM(D29:E29) -> 1585 | D29: 1402 | E29: 183 | F29: =E29/C29 -> 0.11545741 | G29: 25
A30: pomorskie | B30: =C30+G30 -> 640 | C30: =SUM(D30:E30) -> 630 | D30: 584 | E30: 46 | F30: =E30/C30 -> 0.073015873 | G30: 10
A31: śląskie | B31: =C31+G31 -> 560 | C31: =SUM(D31:E31) -> 555 | D31: 510 | E31: 45 | F31: =E31/C31 -> 0.081081081 | G31: 5
... A35: zachodniopomorskie | B35: =C35+G35 -> 379 | C35: =SUM(D35:E35) -> 375 | D35: 335 | E35: 40 | F35: =E35/C35 -> 0.10666667 | G35: 4

Sheet Tab 6 i 7
A1: ='Tab 4 i 5'!A1:G1 -> I. EMERYTURY I RENTY REALIZOWANE PRZEZ KRUS | H1: Powrót do spisu treści
A3: TABLICA 6. WNIOSKI O PRZYZNANIE EMERYTUR I RENT ROLNICZYCH ROZPATRYWANE Z ZASTOSOWANIEM PRZEPISÓW WSPÓLNOTOWYCH UE
A4: Wyszczególnienie | B4: Liczba wniosków pozostałych do załatwienia z poprzedniego okresu sprawozdawczego | C4: Liczba wniosków które wpłynęły w okresie sprawozdawczym | D4: Liczba wniosków przekazanych do instytucji zagranicznych | E4: Liczba spraw załatwionych ogółem | F4: Liczba spraw, w których trwa postępowanie międzynarodowe
B5: ='Tab 2 i 3'!B23:F23 -> II KWARTAŁ 2022 R.
A6: OGÓŁEM | B6: =B7+B9 -> 952 | C6: =C7+C9 -> 650 | D6: =D7+D9 -> 177 | E6: =E7+E9 -> 770 | F6: =F7+F9 -> 914
A7: Emerytury razem | B7: 301 | C7: 278 | D7: 86 | E7: 317 | F7: 313
A8: w tym wcześniejsze | B8: 13 | C8: 6 | D8: 1 | E8: 11 | F8: 8
A9: Renty razem, z tego: | B9: 651 | C9: 372 | D9: 91 | E9: 453 | F9: 601
A10: Renty z tytułu niezdolności do pracy razem | B10: 562 | C10: 299 | D10: 66 | E10: 362 | F10: 522
A11: w tym renty z tytułu niezdolności do pracy wypadkowe | B11: 15 | C11: 7 | D11: 0 | E11: 13 | F11: 9
A12: Renty rodzinne | B12: 89 | C12: 73 | D12: 25 | E12: 91 | F12: 79
A14: TABLICA 7. DECYZJE W SPRAWACH WNIOSKÓW O PRZYZNANIE EMERYTUR I RENT ROLNICZYCH Z ZASTOSOWANIEM PRZEPISÓW WSPÓLNOTOWYCH UE
A15: Wyszczególnienie | B15: Liczba wydanych decyzji
B16: Ogółem | C16: w tym: | G16: Decyzji odmownych
C17: Decyzji ostatecznych | F17: Decyzji tymczasowych
C18: Razem | D18: Płatne pro rata temporis 1) | E18: Płatne na podstawie tylko polskich okresów ubezpieczenia
B19: =B5 -> II KWARTAŁ 2022 R.
A20: OGÓŁEM | B20: =C20+F20+G20 -> 703 | C20: =SUM(D20:E20) -> 483 | D20: =D21+D23 -> 221 | E20: =E21+E23 -> 262 | F20: =F21+F23 -> 113 | G20: =G21+G23 -> 107
A21: Emerytury razem | B21: =C21+F21+G21 -> 297 | C21: =SUM(D21:E21) -> 176 | D21: 88 | E21: 88 | F21: 57 | G21: 64
A22: w tym wcześniejsze | B22: =C22+F22+G22 -> 10 | C22: =SUM(D22:E22) -> 2 | D22: 2 | E22: 0 | F22: 0 | G22: 8
A23: Renty razem, z tego: | B23: =C23+F23+G23 -> 406 | C23: =SUM(D23:E23) -> 307 | D23: 133 | E23: 174 | F23: 56 | G23: 43
A24: Renty z tytułu niezdolności do pracy razem | B24: =C24+F24+G24 -> 328 | C24: =SUM(D24:E24) -> 255 | D24: 107 | E24: 148 | F24: 42 | G24: 31
A25: w tym renty z tytułu niezdolności do pracy wypadkowe | B25: =C25+F25+G25 -> 12 | C25: =SUM(D25:E25) -> 7 | D25: 2 | E25: 5 | F25: 2 | G25: 3
A26: Renty rodzinne | B26: =C26+F26+G26 -> 78 | C26: =SUM(D26:E26) -> 52 | D26: 26 | E26: 26 | F26: 14 | G26: 12
A27: 1) "pro rata temporis" emerytura ustalana i wypłacana jest w wysokościach częściowych, wynikających z proporcji okresów ubezpieczenia przebytych w danym państwie członkowskim do łącznych okresów ubezpieczenia przebytych we wszystkich państwach członkowskich. Każde państwo wypłaca emeryturę (rentę) wyłącznie za okresy ubezpieczenia przebyte na swoim terytorium.

Sheet Tab 8 i 9
A1: ='Tab 6 i 7'!A1:G1 -> I. EMERYTURY I RENTY REALIZOWANE PRZEZ KRUS | G1: Powrót do spisu treści
A3: TABLICA 8. WNIOSKI O PRZYZNANIE EMERYTUR I RENT ROLNICZYCH Z ZASTOSOWANIEM POSTANOWIEŃ UMÓW DWUSTRONNYCH O ZABEZPIECZENIU SPOŁECZNYM
A4: Wyszczególnienie | B4: Liczba wniosków pozostałych do załatwienia z poprzedniego okresu sprawozdawczego | C4: Liczba wniosków które wpłynęły w okresie sprawozdawczym | D4: Liczba wniosków przekazanych do instytucji zagranicznych | E4: Liczba spraw załatwionych ogółem | F4: Liczba spraw, w których trwa postępowanie międzynarodowe
B5: ='Tab 6 i 7'!B19:G19 -> II KWARTAŁ 2022 R.
A6: OGÓŁEM | B6: =B7+B9 -> 41 | C6: =C7+C9 -> 17 | D6: =D7+D9 -> 0 | E6: =E7+E9 -> 36 | F6: =F7+F9 -> 22
A7: Emerytury razem | B7: 21 | C7: 14 | D7: 0 | E7: 18 | F7: 17
A8: w tym wcześniejsze | B8: 0 | C8: 0 | D8: 0 | E8: 0 | F8: 0
A9: Renty razem, z tego: | B9: =B10+B12 -> 20 | C9: =C10+C12 -> 3 | D9: =D10+D12 -> 0 | E9: =E10+E12 -> 18 | F9: =F10+F12 -> 5
A10: Renty z tytułu niezdolności do pracy razem | B10: 17 | C10: 2 | D10: 0 | E10: 15 | F10: 4
A11: w tym renty z tytułu niezdolności do pracy wypadkowe | B11: 2 | C11: 0 | D11: 0 | E11: 0 | F11: 2
A12: Renty rodzinne | B12: 3 | C12: 1 | D12: 0 | E12: 3 | F12: 1
A14: TABLICA 9. DECYZJE W SPRAWACH WNIOSKÓW O PRZYZNANIE EMERYTUR I RENT ROLNICZYCH Z ZASTOSOWANIEM POSTANOWIEŃ UMÓW DWUSTRONNYCH O ZABEZPIECZENIU SPOŁECZNYM
A15: Wyszczególnienie | B15: Liczba wydanych decyzji
B16: Ogółem | C16: w tym: | F16: Decyzji odmownych
C17: Decyzji ostatecznych
C18: Razem | D18: Płatne pro rata temporis 1) | E18: Płatne na podstawie tylko polskich okresów ubezpieczenia
B19: =B5 -> II KWARTAŁ 2022 R.
A20: OGÓŁEM | B20: =B21+B23 -> 35 | C20: =C21+C23 -> 27 | D20: =D21+D23 -> 10 | E20: =E21+E23 -> 17 | F20: =F21+F23 -> 8
A21: Emerytury razem | B21: 18 | C21: 13 | D21: 8 | E21: 5 | F21: 5
A22: w tym wcześniejsze | B22: 0 | C22: 0 | D22: 0 | E22: 0 | F22: 0
A23: Renty razem, z tego: | B23: =B24+B26 -> 17 | C23: =C24+C26 -> 14 | D23: =D24+D26 -> 2 | E23: =E24+E26 -> 12 | F23: =F24+F26 -> 3
A24: Renty z tytułu niezdolności do pracy razem | B24: 15 | C24: 13 | D24: 2 | E24: 11 | F24: 2
A25: w tym renty z tytułu niezdolności do pracy wypadkowe | B25: 0 | C25: 0 | D25: 0 | E25: 0 | F25: 0
A26: Renty rodzinne | B26: 2 | C26: 1 | D26: 0 | E26: 1 | F26: 1
A27: 1) "pro rata temporis" emerytura ustalana i wypłacana jest w wysokościach częściowych, wynikających z proporcji okresów ubezpieczenia przebytych w danym państwie członkowskim do łącznych okresów ubezpieczenia przebytych we wszystkich państwach członkowskich. Każde państwo wypłaca emeryturę (rentę) wyłącznie za okresy ubezpieczenia przebyte na swoim terytorium.

Sheet Tab 10
A1: ='Tab 8 i 9'!A1:F1 -> I. EMERYTURY I RENTY REALIZOWANE PRZEZ KRUS | L1: Powrót do spisu treści
A3: TABLICA 10. ŚWIADCZENIA EMERYTALNO-RENTOWE TRANSFEROWANE DO POSZCZEGÓLNYCH PAŃSTW UE/EFTA I WIELKIEJ BRYTANII ORAZ DO INNYCH PAŃSTW NA PODSTAWIE UMÓW DWUSTRONNYCH
A4: Wyszczególnienie | B4: Razem emerytury i renty | D4: Emerytury | F4: Renty z tytułu niezdolności do pracy | H4: w tym: renty z tytułu niezdolności do pracy wypadkowe | J4: Renty rodzinne
B5: Przeciętna liczba osób | C5: Kwota wypłat w zł | D5: Przeciętna liczba osób | E5: Kwota wypłat w zł | F5: Przeciętna liczba osób | G5: Kwota wypłat w zł | H5: Przeciętna liczba osób | I5: Kwota wypłat w zł | J5: Przeciętna liczba osób | K5: Kwota wypłat w zł
B6: ='Tab 8 i 9'!B19:F19 -> II KWARTAŁ 2022 R.
A7: OGÓŁEM | B7: 3829 | C7: 9204578.5 | D7: 3139 | E7: 7246702.3 | F7: 301 | G7: 953797.39 | H7: 4 | I7: 32494.36 | J7: 389 | K7: 1004078.8
A8: w tym:
A9: świadczenia "zbiegowe" | B9: 43 | C9: 227311.98 | D9: 42 | E9: 222174.36 | F9: 1 | G9: 5137.62 | H9: 0 | I9: 0 | J9: 0 | K9: 0
A10: z tego:
A11: do państw UE/EFTA i Wielkiej Brytanii razem | B11: 3561 | C11: 8123450 | D11: 2894 | E11: 6269569.7 | F11: 295 | G11: 921415.18 | H11: 4 | I11: 32494.36 | J11: 372 | K11: 932465.1
A12: Austria | B12: 90 | C12: 193106.64 | D12: 56 | E12: 118050.58 | F12: 27 | G12: 58267.14 | H12: 0 | I12: 0 | J12: 7 | K12: 16788.92
A13: Belgia | B13: 42 | C13: 198961.21 | D13: 21 | E13: 74760.96 | F13: 17 | G13: 113717.83 | H13: 0 | I13: 0 | J13: 4 | K13: 10482.42
A14: Bułgaria | B14: 0 | C14: 0 | D14: 0 | E14: 0 | F14: 0 | G14: 0 | H14: 0 | I14: 0 | J14: 0 | K14: 0
A15: Chorwacja | B15: 0 | C15: 0 | D15: 0 | E15: 0 | F15: 0 | G15: 0 | H15: 0 | I15: 0 | J15: 0 | K15: 0
A16: Cypr | B16: 0 | C16: 0 | D16: 0 | E16: 0 | F16: 0 | G16: 0 | H16: 0 | I16: 0 | J16: 0 | K16: 0
A17: Czechy | B17: 2 | C17: 11349.92 | D17: 0 | E17: 0 | F17: 2 | G17: 11349.92 | H17: 0 | I17: 0 | J17: 0 | K17: 0
A18: Dania | B18: 0 | C18: 0 | D18: 0 | E18: 0 | F18: 0 | G18: 0 | H18: 0 | I18: 0 | J18: 0 | K18: 0
A19: Estonia | B19: 0 | C19: 0 | D19: 0 | E19: 0 | F19: 0 | G19: 0 | H19: 0 | I19: 0 | J19: 0 | K19: 0
A20: Finlandia | B20: 0 | C20: 0 | D20: 0 | E20: 0 | F20: 0 | G20: 0 | H20: 0 | I20: 0 | J20: 0 | K20: 0
A21: Francja | B21: 23 | C21: 98268.69 | D21: 19 | E21: 91078.49 | F21: 3 | G21: 7119.19 | H21: 0 | I21: 0 | J21: 1 | K21: 71.01
A22: Grecja | B22: 0 | C22: 0 | D22: 0 | E22: 0 | F22: 0 | G22: 0 | H22: 0 | I22: 0 | J22: 0 | K22: 0
... A55: USA | B55: 115 | C55: 525698.95 | D55: 107 | E55: 493401.15 | F55: 2 | G55: 9068.18 | H55: 0 | I55: 0 | J55: 6 | K55: 23229.62

Sheet Tab 1 (11)
A1: II. FUNDUSZ EMERYTALNO-RENTOWY | J1: Powrót do spisu treści
A2: TABLICA 1 (11). PRZECIĘTNA MIESIĘCZNA LICZBA EMERYTUR I RENT WEDŁUG RODZAJÓW ŚWIADCZEŃ
A3: Wyszczególnienie | B3: 2021 rok | D3: 2022 rok
B4: II kwartał | C4: I półrocze | D4: I kwartał | E4: II kwartał | F4: I półrocze | G4: porównanie (wzrost/spadek)
G5: II kwartału 2022 r. z I kwartałem 2022 r. | H5: II kwartału 2022 r. z II kwartałem 2021 r. | I5: I półrocza 2022 r. z I półroczem 2021 r.
A6: OGÓŁEM
A7: EMERYTURY I RENTY ogółem | B7: 1039932 | C7: 1046420 | D7: 1004336 | E7: 994394 | F7: 999365 | G7: =E7/D7-1 -> -0.0098990776 | H7: =E7/B7-1 -> -0.043789402 | I7: =F7/C7-1 -> -0.044967604
A8: Emerytury | B8: 813324 | C8: 819237 | D8: 783048 | E8: 773611 | F8: 778330 | G8: =E8/D8-1 -> -0.012051624 | H8: =E8/B8-1 -> -0.048828019 | I8: =F8/C8-1 -> -0.049933047
A9: Renty | B9: 226608 | C9: 227182 | D9: 221288 | E9: 220783 | F9: 221035 | G9: =E9/D9-1 -> -0.0022820939 | H9: =E9/B9-1 -> -0.025705183 | I9: =F9/C9-1 -> -0.027057601
A10: EMERYTURY
A11: EMERYTURY RAZEM | B11: 813324 | C11: 819237 | D11: 783048 | E11: 773611 | F11: 778330 | G11: =E11/D11-1 -> -0.012051624 | H11: =E11/B11-1 -> -0.048828019 | I11: =F11/C11-1 -> -0.049933047
A12: w tym emerytury wcześniejsze | B12: 22215 | C12: 24396 | D12: 11288 | E12: 7296 | F12: 9292 | G12: =E12/D12-1 -> -0.35364989 | H12: =E12/B12-1 -> -0.67157326 | I12: =F12/C12-1 -> -0.61911789
A13: Emerytury rolnicze | B13: 706830 | C13: 709866 | D13: 691581 | E13: 687014 | F13: 689298 | G13: =E13/D13-1 -> -0.0066037095 | H13: =E13/B13-1 -> -0.02803503 | I13: =F13/C13-1 -> -0.028974483
A14: Emerytury za przekazane gospodarstwo rolne Państwu | B14: 17231 | C14: 17703 | D14: 14817 | E14: 14023 | F14: 14420 | G14: =E14/D14-1 -> -0.053587096 | H14: =E14/B14-1 -> -0.18617608 | I14: =F14/C14-1 -> -0.18544879
A15: Emerytury za przekazane gospodarstwo rolne następcy | B15: 86500 | C15: 88880 | D15: 74034 | E15: 69997 | F15: 72016 | G15: =E15/D15-1 -> -0.054529 | H15: =E15/B15-1 -> -0.19078613 | I15: =F15/C15-1 -> -0.18973897
A16: Emerytury nie związane z przekazaniem gospodarstwa rolnego | B16: 2763 | C16: 2789 | D16: 2616 | E16: 2576 | F16: 2596 | G16: =E16/D16-1 -> -0.01529052 | H16: =E16/B16-1 -> -0.067680058 | I16: =F16/C16-1 -> -0.06920043
A17: RENTY
A18: RENTY RAZEM | B18: 226608 | C18: 227182 | D18: 221288 | E18: 220783 | F18: 221035 | G18: =E18/D18-1 -> -0.0022820939 | H18: =E18/B18-1 -> -0.025705183 | I18: =F18/C18-1 -> -0.027057601
A19: RENTY Z TYTUŁU NIEZDOLNOŚCI DO PRACY RAZEM | B19: 184440 | C19: 185177 | D19: 179636 | E19: 178874 | F19: 179255 | G19: =E19/D19-1 -> -0.0042419114 | H19: =E19/B19-1 -> -0.030177836 | I19: =F19/C19-1 -> -0.031980214
A20: w tym renty z tytułu niezdolności do pracy wypadkowe | B20: 12261 | C20: 12308 | D20: 12042 | E20: 12018 | F20: 12030 | G20: =E20/D20-1 -> -0.0019930244 | H20: =E20/B20-1 -> -0.019818938 | I20: =F20/C20-1 -> -0.022586935
A21: Renty rolnicze z tytułu niezdolności do pracy | B21: 181974 | C21: 182670 | D21: 177410 | E21: 176745 | F21: 177078 | G21: =E21/D21-1 -> -0.0037483795 | H21: =E21/B21-1 -> -0.028734874 | I21: =F21/C21-1 -> -0.03061258
A22: Renty z tytułu niezdolności do pracy za przekazane gospodarstwo rolne Państwu | B22: 196 | C22: 201 | D22: 172 | E22: 161 | F22: 167 | G22: =E22/D22-1 -> -0.063953488 | H22: =E22/B22-1 -> -0.17857143 | I22: =F22/C22-1 -> -0.16915423
A23: Renty z tytułu niezdolności do pracy za przekazane gospodarstwo rolne następcy | B23: 566 | C23: 573 | D23: 505 | E23: 477 | F23: 491 | G23: =E23/D23-1 -> -0.055445545 | H23: =E23/B23-1 -> -0.15724382 | I23: =F23/C23-1 -> -0.14310646
A24: Renty z tytułu niezdolności do pracy nie związane z przekazaniem gospodarstwa rolnego | B24: 1704 | C24: 1734 | D24: 1548 | E24: 1491 | F24: 1520 | G24: =E24/D24-1 -> -0.036821705 | H24: =E24/B24-1 -> -0.125 | I24: =F24/C24-1 -> -0.12341407
A25: RENTY RODZINNE RAZEM | B25: 42168 | C25: 42005 | D25: 41652 | E25: 41908 | F25: 41780 | G25: =E25/D25-1 -> 0.0061461634 | H25: =E25/B25-1 -> -0.0061658129 | I25: =F25/C25-1 -> -0.0053565052
A26: w tym renty rodzinne wypadkowe | B26: 858 | C26: 858 | D26: 827 | E26: 817 | F26: 822 | G26: =E26/D26-1 -> -0.012091898 | H26: =E26/B26-1 -> -0.047785548 | I26: =F26/C26-1 -> -0.041958042
A27: Renty rodzinne rolnicze | B27: 40650 | C27: 40471 | D27: 40201 | E27: 40476 | F27: 40339 | G27: =E27/D27-1 -> 0.0068406259 | H27: =E27/B27-1 -> -0.0042804428 | I27: =F27/C27-1 -> -0.0032615947
A28: Renty rodzinne za przekazane gospodarstwo rolne Państwu | B28: 334 | C28: 341 | D28: 313 | E28: 310 | F28: 311 | G28: =E28/D28-1 -> -0.0095846645 | H28: =E28/B28-1 -> -0.071856287 | I28: =F28/C28-1 -> -0.08797654
A29: Renty rodzinne za przekazane gospodarstwo rolne następcy | B29: 832 | C29: 839 | D29: 793 | E29: 782 | F29: 788 | G29: =E29/D29-1 -> -0.013871375 | H29: =E29/B29-1 -> -0.060096154 | I29: =F29/C29-1 -> -0.060786651
A30: Renty rodzinne nie związane z przekazaniem gospodarstwa rolnego | B30: 352 | C30: 355 | D30: 344 | E30: 341 | F30: 343 | G30: =E30/D30-1 -> -0.0087209302 | H30: =E30/B30-1 -> -0.03125 | I30: =F30/C30-1 -> -0.033802817

Sheet Tab 2 (12) i wykres 1
A1: ='Tab 1 (11)'!A1:I1 -> II. FUNDUSZ EMERYTALNO-RENTOWY | F1: Powrót do spisu treści
A2: TABLICA 2 (12). LICZBA UBEZPIECZONYCH ORAZ PRZECIĘTNA MIESIĘCZNA LICZBA ŚWIADCZENIOBIORCÓW WEDŁUG WOJEWÓDZTW
A3: Wyszczególnienie | B3: Liczba ubezpieczonych stan na 30 czerwca 2022 r. | C3: Przeciętna miesięczna liczba świadczeniobiorców w II kwartale 2022 r.
A4: dolnośląskie | B4: 38751 | C4: 37156
A5: kujawsko-pomorskie | B5: 60199 | C5: 67342
A6: lubelskie | B6: 143322 | C6: 127372
A7: lubuskie | B7: 13318 | C7: 13234
A8: łódzkie | B8: 88664 | C8: 84552
A9: małopolskie | B9: 131445 | C9: 85889
A10: mazowieckie | B10: 161447 | C10: 152840
A11: opolskie | B11: 24074 | C11: 19933
A12: podkarpackie | B12: 82071 | C12: 56914
A13: podlaskie | B13: 78578 | C13: 70800
A14: pomorskie | B14: 37420 | C14: 32493
A15: śląskie | B15: 30916 | C15: 28188
... A19: zachodniopomorskie | B19: 22501 | C19: 21273
A20: MON | C20: 92
A21: MSWiA | C21: 424
A22: MS | C22: 47
A23: Ogółem | B23: =SUM(B4:B22) -> 1123333 | C23: 994394
A25: WYKRES NR 1. PRZECIĘTNA MIESIĘCZNA LICZBA ŚWIADCZENIOBIORCÓW NA TLE LICZBY UBEZPIECZONYCH

Sheet Tab 3 (13) i wykres 2
A1: ='Tab 2 (12) i wykres 1'!A1:E1 -> II. FUNDUSZ EMERYTALNO-RENTOWY | F1: Powrót do spisu treści
A2: TABLICA 3 (13). PRZECIĘTNE MIESIĘCZNE ŚWIADCZENIA EMERYTALNO-RENTOWE WEDŁUG WOJEWÓDZTW
A3: Wyszczególnienie | B3: Świadczenia rolne wypłacane z FER | C3: Świadczenia realizowane przez KRUS ogółem
B4: w złotych
B5: ='Tab 10'!B6:K6 -> II KWARTAŁ 2022 R.
A6: dolnośląskie | B6: 1382.1 | C6: 1547.25
A7: kujawsko-pomorskie | B7: 1447.13 | C7: 1519.05
A8: lubelskie | B8: 1425.32 | C8: 1516.95
A9: lubuskie | B9: 1353.03 | C9: 1624.03
A10: łódzkie | B10: 1433.14 | C10: 1507.14
A11: małopolskie | B11: 1395.99 | C11: 1475.16
A12: mazowieckie | B12: 1428.09 | C12: 1485.55
A13: opolskie | B13: 1422.68 | C13: 1532.61
A14: podkarpackie | B14: 1415.48 | C14: 1498.03
A15: podlaskie | B15: 1450.39 | C15: 1505.22
A16: pomorskie | B16: 1415.97 | C16: 1515.01
A17: śląskie | B17: 1350.63 | C17: 1637.85
... A24: MS | B24: 607.56 | C24: 607.56
A27: WYKRES NR 2. PRZECIĘTNE MIESIĘCZNE ŚWIADCZENIA ROLNE WYPŁACANE Z FER W ODNIESIENIU DO ŚWIADCZEŃ REALIZOWANYCH PRZEZ KRUS OGÓŁEM

Sheet Tab 4 (14)
A1: ='Tab 3 (13) i wykres 2'!A1:E1 -> II. FUNDUSZ EMERYTALNO-RENTOWY | I1: Powrót do spisu treści
A3: TABLICA 4 (14). PRZECIĘTNA MIESIĘCZNA LICZBA EMERYTUR I RENT WEDŁUG WOJEWÓDZTW ORAZ ŚWIADCZEŃ EMERYTALNYCH WYPŁACONYCH PRZEZ MON, MSWiA i MS
A4: Wyszczególnienie | B4: Ogółem | C4: z tego:
C5: emerytury | D5: renty razem | E5: z tego:
E6: z tytułu niezdolności do pracy | G6: rodzinne
E7: ogółem | F7: w tym wypadkowe | G7: ogółem | H7: w tym wypadkowe
B9: I PÓŁROCZE 2022 R.
A10: OGÓŁEM | B10: 999365 | C10: 778330 | D10: 221035 | E10: 179255 | F10: 12030 | G10: 41780 | H10: 822
A11: dolnośląskie | B11: 37383 | C11: 29284 | D11: 8100 | E11: 6577 | F11: 465 | G11: 1522 | H11: 26
A12: kujawsko-pomorskie | B12: 67649 | C12: 52531 | D12: 15118 | E12: 12700 | F12: 1033 | G12: 2418 | H12: 63
A13: lubelskie | B13: 128060 | C13: 99728 | D13: 28331 | E13: 23205 | F13: 1490 | G13: 5127 | H13: 119
A14: lubuskie | B14: 13337 | C14: 9860 | D14: 3477 | E14: 2916 | F14: 188 | G14: 561 | H14: 9
A15: łódzkie | B15: 85044 | C15: 71280 | D15: 13764 | E15: 10661 | F15: 926 | G15: 3103 | H15: 47
A16: małopolskie | B16: 86172 | C16: 58247 | D16: 27924 | E16: 24168 | F16: 1143 | G16: 3756 | H16: 67
A17: mazowieckie | B17: 153596 | C17: 124389 | D17: 29208 | E17: 22283 | F17: 1632 | G17: 6925 | H17: 116
A18: opolskie | B18: 20065 | C18: 17195 | D18: 2869 | E18: 2156 | F18: 164 | G18: 713 | H18: 14
A19: podkarpackie | B19: 57312 | C19: 43087 | D19: 14225 | E19: 11921 | F19: 611 | G19: 2304 | H19: 28
A20: podlaskie | B20: 71198 | C20: 57144 | D20: 14055 | E20: 11075 | F20: 785 | G20: 2980 | H20: 67
A21: pomorskie | B21: 32596 | C21: 24086 | D21: 8510 | E21: 6966 | F21: 449 | G21: 1545 | H21: 31
... A26: zachodniopomorskie | B26: 21404 | C26: 16657 | D26: 4747 | E26: 3860 | F26: 271 | G26: 888 | H26: 20
A27: Emerytury finansowane z funduszu emerytalno-rentowego, wypłacane przez MON, MSWiA, MS z tego: | B27: =C27 -> 574 | C27: 574 | D27: 0 | E27: 0 | F27: 0 | G27: 0 | H27: 0
A28: MON | B28: =C28 -> 93 | C28: 93 | D28: 0 | E28: 0 | F28: 0 | G28: 0 | H28: 0
A29: MSWiA | B29: =C29 -> 434 | C29: 434 | D29: 0 | E29: 0 | F29: 0 | G29: 0 | H29: 0
A30: MS | B30: =C30 -> 47 | C30: 47 | D30: 0 | E30: 0 | F30: 0 | G30: 0 | H30: 0

Sheet Tab 5 (15)
A1: ='Tab 4 (14)'!A1:H1 -> II. FUNDUSZ EMERYTALNO-RENTOWY | J1: Powrót do spisu treści
A3: TABLICA 5 (15). WYDATKI NA ŚWIADCZENIA EMERYTALNO-RENTOWE WEDŁUG RODZAJÓW ŚWIADCZEŃ
A4: Wyszczególnienie | B4: 2021 rok | D4: 2022 rok
B5: II kwartał | C5: I półrocze | D5: I kwartał | E5: II kwartał | F5: I półrocze | G5: porównanie (wzrost/spadek)
G6: II kwartału 2022 r. z I kwartałem 2022 r. | H6: II kwartału 2022 r. z II kwartałem 2021 r. | I6: I półrocza 2022 r. z I półroczem 2021 r.
B7: w złotych
A8: OGÓŁEM1)
A9: EMERYTURY I RENTY z tego: | B9: =B10+B11 -> 4.1944004e+09 | C9: =C10+C11 -> 8.3301305e+09 | D9: =D10+D11 -> 4.1241697e+09 | E9: =E10+E11 -> 4.2262866e+09 | F9: =F10+F11 -> 8.3504564e+09 | G9: =E9/D9-1 -> 0.024760593 | H9: =E9/B9-1 -> 0.0076020826 | I9: =F9/C9-1 -> 0.0024400377
A10: Emerytury | B10: =B13 -> 3.2864767e+09 | C10: =C13 -> 6.5316102e+09 | D10: =D13 -> 3.2194034e+09 | E10: =E13 -> 3.2944285e+09 | F10: =F13 -> 6.5138319e+09 | G10: =E10/D10-1 -> 0.023304034 | H10: =E10/B10-1 -> 0.0024195477 | I10: =F10/C10-1 -> -0.0027218939
A11: Renty | B11: =B20 -> 9.0792375e+08 | C11: =C20 -> 1798520288 | D11: =D20 -> 9.0476633e+08 | E11: =E20 -> 9.3185814e+08 | F11: =F20 -> 1.8366245e+09 | G11: =E11/D11-1 -> 0.029943426 | H11: =E11/B11-1 -> 0.026361676 | I11: =F11/C11-1 -> 0.021186407
A12: EMERYTURY
A13: EMERYTURY RAZEM | B13: =SUM(B15:B18) -> 3.2864767e+09 | C13: =SUM(C15:C18) -> 6.5316102e+09 | D13: =SUM(D15:D18) -> 3.2194034e+09 | E13: =SUM(E15:E18) -> 3.2944285e+09 | F13: =SUM(F15:F18) -> 6.5138319e+09 | G13: =E13/D13-1 -> 0.023304034 | H13: =E13/B13-1 -> 0.0024195477 | I13: =F13/C13-1 -> -0.0027218939
A14: w tym emerytury wcześniejsze | B14: 84502594 | C14: 1.8255767e+08 | D14: 43631128 | E14: 28545790 | F14: 72176919 | G14: =E14/D14-1 -> -0.34574714 | H14: =E14/B14-1 -> -0.66219036 | I14: =F14/C14-1 -> -0.60463498
A15: Emerytury rolnicze | B15: 2.8977279e+09 | C15: 5.7448376e+09 | D15: 2.8769183e+09 | E15: 2.9550888e+09 | F15: 5.8320071e+09 | G15: =E15/D15-1 -> 0.027171595 | H15: =E15/B15-1 -> 0.019795115 | I15: =F15/C15-1 -> 0.015173545
A16: Emerytury za przekazane gospodarstwo rolne Państwu | B16: 59499807 | C16: 1.2047732e+08 | D16: 52319745 | E16: 51760633 | F16: 1.0408038e+08 | G16: =E16/D16-1 -> -0.010686434 | H16: =E16/B16-1 -> -0.13007057 | I16: =F16/C16-1 -> -0.13609984
A17: Emerytury za przekazane gospodarstwo rolne następcy | B17: 3.1752788e+08 | C17: 6.4294831e+08 | D17: 2.7882321e+08 | E17: 2.7590255e+08 | F17: 5.5472576e+08 | G17: =E17/D17-1 -> -0.010474962 | H17: =E17/B17-1 -> -0.13109188 | I17: =F17/C17-1 -> -0.13721562
A18: Emerytury nie związane z przekazaniem gospodarstwa rolnego | B18: 11721068 | C18: 23347009 | D18: 11342100 | E18: 11676498 | F18: 23018598 | G18: =E18/D18-1 -> 0.02948288 | H18: =E18/B18-1 -> -0.0038025094 | I18: =F18/C18-1 -> -0.014066477
A19: RENTY
A20: RENTY RAZEM z tego: | B20: =B21+B27 -> 9.0792375e+08 | C20: =C21+C27 -> 1798520288 | D20: =D21+D27 -> 9.0476633e+08 | E20: =E21+E27 -> 9.3185814e+08 | F20: =F21+F27 -> 1.8366245e+09 | G20: =E20/D20-1 -> 0.029943426 | H20: =E20/B20-1 -> 0.026361676 | I20: =F20/C20-1 -> 0.021186407
A21: RENTY Z TYTUŁU NIEZDOLNOŚCI DO PRACY RAZEM | B21: =SUM(B23:B26) -> 7.1779696e+08 | C21: =SUM(C23:C26) -> 1.4239651e+09 | D21: =SUM(D23:D26) -> 7.1225905e+08 | E21: =SUM(E23:E26) -> 7.3042998e+08 | F21: =SUM(F23:F26) -> 1.442689e+09 | G21: =E21/D21-1 -> 0.025511695 | H21: =E21/B21-1 -> 0.01759972 | I21: =F21/C21-1 -> 0.013149133
A22: w tym renty z tytułu niezdolności do pracy wypadkowe | B22: 48482371 | C22: 96070154 | D22: 47937297 | E22: 48672429 | F22: 96609725 | G22: =E22/D22-1 -> 0.015335284 | H22: =E22/B22-1 -> 0.0039201387 | I22: =F22/C22-1 -> 0.0056164344
A23: Renty rolnicze z tytułu niezdolności do pracy | B23: 7.0850604e+08 | C23: 1.4052945e+09 | D23: 7.0367274e+08 | E23: 7.2181432e+08 | F23: 1.4254871e+09 | G23: =E23/D23-1 -> 0.025781276 | H23: =E23/B23-1 -> 0.018783576 | I23: =F23/C23-1 -> 0.014368936
A24: Renty z tytułu niezdolności do pracy za przekazane gospodarstwo rolne Państwu | B24: 663328.59 | C24: 1356670.2 | D24: 600600.08 | E24: 647741.85 | F24: 1248341.9 | G24: =E24/D24-1 -> 0.078491115 | H24: =E24/B24-1 -> -0.023497766 | I24: =F24/C24-1 -> -0.079848674
A25: Renty z tytułu niezdolności do pracy za przekazane gospodarstwo rolne następcy | B25: 1820720.5 | C25: 3642847 | D25: 1647899.3 | E25: 1603488.9 | F25: 3251388.1 | G25: =E25/D25-1 -> -0.0269497 | H25: =E25/B25-1 -> -0.11931082 | I25: =F25/C25-1 -> -0.1074596
A26: Renty z tytułu niezdolności do pracy nie związane z przekazaniem gospodarstwa rolnego | B26: 6806865.1 | C26: 13671135 | D26: 6337809.4 | E26: 6364432.2 | F26: 12702242 | G26: =E26/D26-1 -> 0.0042006233 | H26: =E26/B26-1 -> -0.064998043 | I26: =F26/C26-1 -> -0.070871457
A27: RENTY RODZINNE RAZEM | B27: =SUM(B29:B32) -> 1.9012679e+08 | C27: =SUM(C29:C32) -> 3.7455516e+08 | D27: =SUM(D29:D32) -> 1.9250729e+08 | E27: =SUM(E29:E32) -> 2.0142815e+08 | F27: =SUM(F29:F32) -> 3.9393544e+08 | G27: =E27/D27-1 -> 0.04634042 | H27: =E27/B27-1 -> 0.059441209 | I27: =F27/C27-1 -> 0.051742116
A28: w tym renty rodzinne wypadkowe | B28: 4008855.4 | C28: 7941392.4 | D28: 3922680.4 | E28: 4015783.6 | F28: 7938464 | G28: =E28/D28-1 -> 0.023734572 | H28: =E28/B28-1 -> 0.0017282315 | I28: =F28/C28-1 -> -0.0003687439
A29: Renty rodzinne rolnicze | B29: 1.8209801e+08 | C29: 3.5858889e+08 | D29: 1.8465766e+08 | E29: 1.9328134e+08 | F29: 3.77939e+08 | G29: =E29/D29-1 -> 0.046700921 | H29: =E29/B29-1 -> 0.061413812 | I29: =F29/C29-1 -> 0.053961838
A30: Renty rodzinne za przekazane gospodarstwo rolne Państwu | B30: 1824034.8 | C30: 3658658.5 | D30: 1758328.5 | E30: 1825662 | F30: 3583990.5 | G30: =E30/D30-1 -> 0.038294063 | H30: =E30/B30-1 -> 0.00089207178 | I30: =F30/C30-1 -> -0.020408587
A31: Renty rodzinne za przekazane gospodarstwo rolne następcy | B31: 4440272 | C31: 8817285.7 | D31: 4329209 | E31: 4475466.6 | F31: 8804675.6 | G31: =E31/D31-1 -> 0.033783899 | H31: =E31/B31-1 -> 0.0079262149 | I31: =F31/C31-1 -> -0.0014301567
A32: Renty rodzinne nie związane z przekazaniem gospodarstwa rolnego | B32: 1764471.5 | C32: 3490331.9 | D32: 1762088.4 | E32: 1845683.1 | F32: 3607771.5 | G32: =E32/D32-1 -> 0.047440661 | H32: =E32/B32-1 -> 0.046025973 | I32: =F32/C32-1 -> 0.033647121
A33: 1) Kwota nie obejmuje należnych świadczeń z innych systemów ubezpieczeniowych, wypłacanych w tzw. zbiegu z emeryturą lub rentą rolną.

Sheet Wykres 3
A1: ='Tab 2 (12) i wykres 1'!A1:E1 -> II. FUNDUSZ EMERYTALNO-RENTOWY | G1: Powrót do spisu treści
A3: Dane do wykresu nr 3
A4: Wyszczególnienie | B4: Emerytury | C4: Renty z tytułu niezdolności do pracy | D4: Renty rodzinne | E4: Emerytury finansowane z Funduszu Emerytalno-Rentowego, a wypłacane przez MON, MSWiA i MS | F4: Ogółem
A5: Kwota w zł | B5: ='Tab 5 (15)'!E13-'Wykres 3'!E5 -> 3.2933259e+09 | C5: ='Tab 5 (15)'!E21 -> 7.3042998e+08 | D5: ='Tab 5 (15)'!E27 -> 2.0142815e+08 | E5: 1102586.4 | F5: =SUM(B5:E5) -> 4.2262866e+09
A6: Udział procentowy | B6: =ROUND(B5/$F$5,4) -> 0.7792 | C6: =ROUND(C5/$F$5,4) -> 0.1728 | D6: =ROUND(D5/$F$5,4) -> 0.0477 | E6: =ROUND(E5/$F$5,4) -> 0.0003 | F6: =F5/$F$5 -> 1

Sheet Tab 6 (16)
A1: ='Tab 1 (11)'!A1 -> II. FUNDUSZ EMERYTALNO-RENTOWY | I1: Powrót do spisu treści
A3: TABLICA 6 (16). WYDATKI NA ŚWIADCZENIA EMERYTALNO-RENTOWE WEDŁUG WOJEWÓDZTW ORAZ ŚWIADCZENIA EMERYTALNE WYPŁACONE PRZEZ MON, MSWiA i MS
A4: Wyszczególnienie | B4: Ogółem1) | C4: z tego:
C5: emerytury | D5: renty razem | E5: z tego:
E6: z tytułu niezdolności do pracy | G6: rodzinne
E7: ogółem | F7: w tym wypadkowe | G7: ogółem | H7: w tym wypadkowe
B9: ='Tab 4 (14)'!B9:H9 -> I PÓŁROCZE 2022 R.
B10: w złotych
A11: OGÓŁEM | B11: =SUM(B12:B28) -> 8.3504564e+09 | C11: =SUM(C12:C28) -> 6.5138319e+09 | D11: =SUM(D12:D27) -> 1.8366245e+09 | E11: =SUM(E12:E27) -> 1.442689e+09 | F11: =SUM(F12:F27) -> 96609725 | G11: =SUM(G12:G27) -> 3.9393544e+08 | H11: =SUM(H12:H27) -> 7938464
A12: dolnośląskie | B12: =SUM(C12:D12) -> 3.0466605e+08 | C12: 2.3885711e+08 | D12: 65808934 | E12: 51958506 | F12: 3598334.9 | G12: 13850429 | H12: 214449.67
A13: kujawsko-pomorskie | B13: =SUM(C13:D13) -> 5.7774061e+08 | C13: 4.4809912e+08 | D13: 1.2964149e+08 | E13: 1.0436178e+08 | F13: 8533898.5 | G13: 25279710 | H13: 688231.21
A14: lubelskie | B14: =SUM(C14:D14) -> 1.0759448e+09 | C14: 8.4073587e+08 | D14: 2.352089e+08 | E14: 1.8710091e+08 | F14: 11988382 | G14: 48107989 | H14: 1104160
A15: lubuskie | B15: =SUM(C15:D15) -> 1.0619013e+08 | C15: 78019805 | D15: 28170322 | E15: 23002240 | F15: 1414780.1 | G15: 5168081.2 | H15: 77673.62
A16: łódzkie | B16: =SUM(C16:D16) -> 7.1890322e+08 | C16: 5.9837681e+08 | D16: 1.2052641e+08 | E16: 86298585 | F16: 7395229.7 | G16: 34227829 | H16: 625577.62
A17: małopolskie | B17: =SUM(C17:D17) -> 7.0930987e+08 | C17: 4.8151208e+08 | D17: 2.2779779e+08 | E17: 1.936958e+08 | F17: 9107245.8 | G17: 34101982 | H17: 618446.87
A18: mazowieckie | B18: =SUM(C18:D18) -> 1.2936011e+09 | C18: 1.0518964e+09 | D18: 2.4170467e+08 | E18: 1.7840607e+08 | F18: 13243736 | G18: 63298602 | H18: 1120883.5
A19: opolskie | B19: =SUM(C19:D19) -> 1.6889186e+08 | C19: 1.4405842e+08 | D19: 24833440 | E19: 17727493 | F19: 1351833.9 | G19: 7105946.9 | H19: 128779.57
A20: podkarpackie | B20: =SUM(C20:D20) -> 4.7763385e+08 | C20: 3.6063537e+08 | D20: 1.1699848e+08 | E20: 95500696 | F20: 4868408.1 | G20: 21497783 | H20: 274957.43
A21: podlaskie | B21: =SUM(C21:D21) -> 6.0900024e+08 | C21: 4.9077914e+08 | D21: 1.182211e+08 | E21: 89257052 | F21: 6337278.6 | G21: 28964048 | H21: 646840.13
A22: pomorskie | B22: =SUM(C22:D22) -> 2.726724e+08 | C22: 2.0177649e+08 | D22: 70895909 | E22: 56204638 | F22: 3627165 | G22: 14691271 | H22: 289179.81
A23: śląskie | B23: =SUM(C23:D23) -> 2.2601628e+08 | C23: 1.8017748e+08 | D23: 45838799 | E23: 36746143 | F23: 2558009 | G23: 9092655.7 | H23: 196496.82
... A27: zachodniopomorskie | B27: =SUM(C27:D27) -> 1.7831315e+08 | C27: 1.382632e+08 | D27: 40049948 | E27: 31085902 | F27: 2122430.6 | G27: 8964046.1 | H27: 167896.8
A28: Emerytury finansowane z funduszu emerytalno-rentowego, wypłacane przez MON, MSWiA, MS z tego: | B28: =B29+B30+B31 -> 2183253.3 | C28: =C29+C30+C31 -> 2183253.3 | D28: 0 | E28: 0 | F28: 0 | G28: 0 | H28: 0
A29: MON | B29: =C29 -> 403559.24 | C29: 403559.24 | D29: 0 | E29: 0 | F29: 0 | G29: 0 | H29: 0
A30: MSWiA | B30: =C30 -> 1613964.6 | C30: 1613964.6 | D30: 0 | E30: 0 | F30: 0 | G30: 0 | H30: 0
A31: MS | B31: =C31 -> 165729.37 | C31: 165729.37 | D31: 0 | E31: 0 | F31: 0 | G31: 0 | H31: 0
A32: 1) Kwota nie obejmuje należnych świadczeń z innych systemów ubezpieczeniowych, wypłacanych w tzw. zbiegu z emeryturą lub rentą rolną.

Sheet Tab 7 (17)
A1: ='Tab 1 (11)'!A1 -> II. FUNDUSZ EMERYTALNO-RENTOWY | J1: Powrót do spisu treści
A3: TABLICA 7 (17). PRZECIĘTNE MIESIĘCZNE ŚWIADCZENIE EMERYTALNO-RENTOWE WEDŁUG ODZAJÓW ŚWIADCZEŃ
A4: Wyszczególnienie | B4: 2021 rok | D4: 2022 rok
B5: II kwartał | C5: I półrocze | D5: I kwartał | E5: II kwartał | F5: I półrocze | G5: porównanie (wzrost/spadek)
G6: II kwartału 2022 r. z I kwartałem 2022 r. | H6: II kwartału 2022 r. z II kwartałem 2021 r. | I6: I półrocza 2022 r. z I półroczem 2021 r.
B7: w złotych
A8: OGÓŁEM1)
A9: EMERYTURY I RENTY z tego: | B9: 1344.45 | C9: 1326.77 | D9: 1368.79 | E9: 1416.7 | F9: 1392.63 | G9: =E9/D9-1 -> 0.035001717 | H9: =E9/B9-1 -> 0.053739447 | I9: =F9/C9-1 -> 0.04963935
A10: Emerytury | B10: 1346.93 | C10: 1328.8 | D10: 1370.46 | E10: 1419.5 | F10: 1394.83 | G10: =E10/D10-1 -> 0.035783606 | H10: =E10/B10-1 -> 0.053878078 | I10: =F10/C10-1 -> 0.049691451
A11: Renty | B11: 1335.53 | C11: 1319.44 | D11: 1362.88 | E11: 1406.9 | F11: 1384.86 | G11: =E11/D11-1 -> 0.032299249 | H11: =E11/B11-1 -> 0.053439458 | I11: =F11/C11-1 -> 0.049581641
A12: EMERYTURY
A13: EMERYTURY RAZEM | B13: 1346.93 | C13: 1328.8 | D13: 1370.46 | E13: 1419.5 | F13: 1394.83 | G13: =E13/D13-1 -> 0.035783606 | H13: =E13/B13-1 -> 0.053878078 | I13: =F13/C13-1 -> 0.049691451
A14: w tym emerytury wcześniejsze | B14: 1267.97 | C14: 1247.2 | D14: 1288.46 | E14: 1304.23 | F14: 1294.65 | G14: =E14/D14-1 -> 0.012239418 | H14: =E14/B14-1 -> 0.028596891 | I14: =F14/C14-1 -> 0.038045221
A15: Emerytury rolnicze | B15: 1366.54 | C15: 1348.81 | D15: 1386.64 | E15: 1433.78 | F15: 1410.13 | G15: =E15/D15-1 -> 0.033995846 | H15: =E15/B15-1 -> 0.04920456 | I15: =F15/C15-1 -> 0.045462296
A16: Emerytury za przekazane gospodarstwo rolne Państwu | B16: 1151.04 | C16: 1134.28 | D16: 1177.05 | E16: 1230.35 | F16: 1202.96 | G16: =E16/D16-1 -> 0.045282698 | H16: =E16/B16-1 -> 0.068902905 | I16: =F16/C16-1 -> 0.060549423
A17: Emerytury za przekazane gospodarstwo rolne następcy | B17: 1223.62 | C17: 1205.65 | D17: 1255.38 | E17: 1313.87 | F17: 1283.81 | G17: =E17/D17-1 -> 0.04659147 | H17: =E17/B17-1 -> 0.073756558 | I17: =F17/C17-1 -> 0.064828101
A18: Emerytury nie związane z przekazaniem gospodarstwa rolnego | B18: 1413.88 | C18: 1395.02 | D18: 1445.04 | E18: 1510.74 | F18: 1477.64 | G18: =E18/D18-1 -> 0.045465869 | H18: =E18/B18-1 -> 0.068506521 | I18: =F18/C18-1 -> 0.059224957
A19: RENTY
A20: RENTY RAZEM z tego: | B20: 1335.53 | C20: 1319.44 | D20: 1362.88 | E20: 1406.9 | F20: 1384.86 | G20: =E20/D20-1 -> 0.032299249 | H20: =E20/B20-1 -> 0.053439458 | I20: =F20/C20-1 -> 0.049581641
A21: RENTY Z TYTUŁU NIEZDOLNOŚCI DO PRACY RAZEM | B21: 1297.25 | C21: 1281.62 | D21: 1321.67 | E21: 1361.16 | F21: 1341.37 | G21: =E21/D21-1 -> 0.029878865 | H21: =E21/B21-1 -> 0.049265754 | I21: =F21/C21-1 -> 0.046620683
A22: w tym renty z tytułu niezdolności do pracy wypadkowe | B22: 1318.03 | C22: 1300.92 | D22: 1326.98 | E22: 1350.02 | F22: 1338.49 | G22: =E22/D22-1 -> 0.017362733 | H22: =E22/B22-1 -> 0.024271071 | I22: =F22/C22-1 -> 0.028879562
A23: Renty rolnicze z tytułu niezdolności do pracy | B23: 1297.81 | C23: 1282.18 | D23: 1322.12 | E23: 1361.31 | F23: 1341.68 | G23: =E23/D23-1 -> 0.029641787 | H23: =E23/B23-1 -> 0.04892858 | I23: =F23/C23-1 -> 0.046405341
A24: Renty z tytułu niezdolności do pracy za przekazane gospodarstwo rolne Państwu | B24: 1126.19 | C24: 1124.93 | D24: 1161.7 | E24: 1338.31 | F24: 1247.09 | G24: =E24/D24-1 -> 0.1520272 | H24: =E24/B24-1 -> 0.18835188 | I24: =F24/C24-1 -> 0.10859342
A25: Renty z tytułu niezdolności do pracy za przekazane gospodarstwo rolne następcy | B25: 1072.91 | C25: 1059.28 | D25: 1087 | E25: 1121.32 | F25: 1103.66 | G25: =E25/D25-1 -> 0.031573137 | H25: =E25/B25-1 -> 0.04512028 | I25: =F25/C25-1 -> 0.041896382
A26: Renty z tytułu niezdolności do pracy nie związane z przekazaniem gospodarstwa rolnego | B26: 1331.81 | C26: 1314.41 | D26: 1364.44 | E26: 1422.54 | F26: 1392.94 | G26: =E26/D26-1 -> 0.042581572 | H26: =E26/B26-1 -> 0.068125333 | I26: =F26/C26-1 -> 0.059745437
A27: RENTY RODZINNE RAZEM | B27: 1502.93 | C27: 1486.15 | D27: 1540.61 | E27: 1602.13 | F27: 1571.47 | G27: =E27/D27-1 -> 0.039932235 | H27: =E27/B27-1 -> 0.066004405 | I27: =F27/C27-1 -> 0.057410086
A28: w tym renty rodzinne wypadkowe | B28: 1556.84 | C28: 1543.22 | D28: 1581.09 | E28: 1637.76 | F28: 1609.26 | G28: =E28/D28-1 -> 0.035842362 | H28: =E28/B28-1 -> 0.051977082 | I28: =F28/C28-1 -> 0.042793639
A29: Renty rodzinne rolnicze | B29: 1493.23 | C29: 1476.74 | D29: 1531.11 | E29: 1591.74 | F29: 1561.52 | G29: =E29/D29-1 -> 0.039598722 | H29: =E29/B29-1 -> 0.065971083 | I29: =F29/C29-1 -> 0.057410241
A30: Renty rodzinne za przekazane gospodarstwo rolne Państwu | B30: 1818.58 | C30: 1789.95 | D30: 1872.55 | E30: 1965.19 | F30: 1918.62 | G30: =E30/D30-1 -> 0.049472644 | H30: =E30/B30-1 -> 0.080617845 | I30: =F30/C30-1 -> 0.07188469
A31: Renty rodzinne za przekazane gospodarstwo rolne następcy | B31: 1778.96 | C31: 1751.89 | D31: 1819 | E31: 1908.51 | F31: 1863.42 | G31: =E31/D31-1 -> 0.049208356 | H31: =E31/B31-1 -> 0.072823447 | I31: =F31/C31-1 -> 0.063662673
A32: Renty rodzinne nie związane z przekazaniem gospodarstwa rolnego | B32: 1670.9 | C32: 1638.65 | D32: 1707.45 | E32: 1804.19 | F32: 1755.61 | G32: =E32/D32-1 -> 0.056657589 | H32: =E32/B32-1 -> 0.079771381 | I32: =F32/C32-1 -> 0.071375828
A33: 1) Kwota nie obejmuje należnych świadczeń z innych systemów ubezpieczeniowych, wypłacanych w tzw. zbiegu z emeryturą lub rentą rolną.

Sheet Tab 8 (18)
A1: ='Tab 1 (11)'!A1 -> II. FUNDUSZ EMERYTALNO-RENTOWY | I1: Powrót do spisu treści
A3: TABLICA 8 (18). PRZECIĘTNE MIESIĘCZNE ŚWIADCZENIE EMERYTALNO-RENTOWE WEDŁUG WOJEWÓDZTW ORAZ PRZECIĘTNE MIESIĘCZNE ŚWIADCZENIE EMERYTALNE WYPŁACONE PRZEZ MON, MSWiA i MS
A4: Wyszczególnienie | B4: Ogółem1) | C4: w tym:
C5: emerytury | D5: renty razem | E5: z tego:
E6: z tytułu niezdolności do pracy | G6: rodzinne
E7: ogółem | F7: w tym wypadkowe | G7: ogółem | H7: w tym wypadkowe
B9: ='Tab 6 (16)'!B9:H9 -> I PÓŁROCZE 2022 R.
B10: w złotych
A11: OGÓŁEM | B11: 1392.63 | C11: 1394.83 | D11: 1384.86 | E11: 1341.37 | F11: 1338.49 | G11: 1571.47 | H11: 1609.26
A12: dolnośląskie | B12: 1358.3 | C12: 1359.44 | D12: 1354.18 | E12: 1316.61 | F12: 1291.11 | G12: 1516.53 | H12: 1383.55
A13: kujawsko-pomorskie | B13: 1423.37 | C13: 1421.69 | D13: 1429.22 | E13: 1369.54 | F13: 1377.55 | G13: 1742.71 | H13: 1835.28
A14: lubelskie | B14: 1400.32 | C14: 1405.04 | D14: 1383.68 | E14: 1343.86 | F14: 1341.28 | G14: 1563.93 | H14: 1542.12
A15: lubuskie | B15: 1327.04 | C15: 1318.82 | D15: 1350.38 | E15: 1314.71 | F15: 1253.13 | G15: 1535.83 | H15: 1438.4
A16: łódzkie | B16: 1408.89 | C16: 1399.12 | D16: 1459.49 | E16: 1349.2 | F16: 1331.51 | G16: 1838.43 | H16: 2242.21
A17: małopolskie | B17: 1371.9 | C17: 1377.78 | D17: 1359.62 | E17: 1335.77 | F17: 1327.78 | G17: 1513.09 | H17: 1530.81
A18: mazowieckie | B18: 1403.68 | C18: 1409.42 | D18: 1379.22 | E18: 1334.39 | F18: 1352.23 | G18: 1523.51 | H18: 1608.15
A19: opolskie | B19: 1402.91 | C19: 1396.29 | D19: 1442.55 | E19: 1370.4 | F19: 1375.21 | G19: 1660.66 | H19: 1570.48
A20: podkarpackie | B20: 1388.98 | C20: 1394.99 | D20: 1370.79 | E20: 1335.21 | F20: 1328.71 | G20: 1554.88 | H20: 1656.37
A21: podlaskie | B21: 1425.6 | C21: 1431.41 | D21: 1401.94 | E21: 1343.26 | F21: 1344.92 | G21: 1620 | H21: 1621.15
A22: pomorskie | B22: 1394.19 | C22: 1396.22 | D22: 1388.46 | E22: 1344.83 | F22: 1346.89 | G22: 1585.16 | H22: 1546.42
... A27: zachodniopomorskie | B27: 1388.47 | C27: 1383.45 | D27: 1406.1 | E27: 1342.34 | F27: 1307.72 | G27: 1683.39 | H27: 1422.85
A28: Emerytury finansowane z funduszu emerytalno-rentowego, wypłacane przez MON, MSWiA, MS z tego: | B28: =C28 -> 633.56 | C28: 633.56 | D28: 0 | E28: 0 | F28: 0 | G28: 0 | H28: 0
A29: MON | B29: =C29 -> 720.64 | C29: 720.64 | D29: 0 | E29: 0 | F29: 0 | G29: 0 | H29: 0
A30: MSWiA | B30: =C30 -> 620.28 | C30: 620.28 | D30: 0 | E30: 0 | F30: 0 | G30: 0 | H30: 0
A31: MS | B31: =C31 -> 583.55 | C31: 583.55 | D31: 0 | E31: 0 | F31: 0 | G31: 0 | H31: 0
A32: 1) Kwota nie obejmuje należnych świadczeń z innych systemów ubezpieczeniowych, wypłacanych w tzw. zbiegu z emeryturą lub rentą rolną.

Sheet Tab 9 (19) i 10 (20)
A1: ='Tab 8 (18)'!A1:H1 -> II. FUNDUSZ EMERYTALNO-RENTOWY | J1: Powrót do spisu treści
A3: TABLICA 9 (19). ZASIŁKI MACIERZYŃSKIE
A4: Wyszczególnienie | B4: 2021 rok | D4: 2022 rok
B5: II kwartał | C5: I półrocze | D5: I kwartał | E5: II kwartał | F5: I półrocze | G5: porównanie (wzrost/spadek)
G6: II kwartału 2022 r. z I kwartałem 2022 r. | H6: II kwartału 2022 r. z II kwartałem 2021 r. | I6: I półrocza 2022 r. z I półroczem 2021 r.
A7: Liczba świadczeń | B7: 39007 | C7: 79098 | D7: 35840 | E7: 34334 | F7: 70174 | G7: =E7/D7-1 -> -0.042020089 | H7: =E7/B7-1 -> -0.11979901 | I7: =F7/C7-1 -> -0.11282207
A8: Kwota wypłat w zł | B8: 38745658 | C8: 78483597 | D8: 35399814 | E8: 33795995 | F8: 69195808 | G8: =E8/D8-1 -> -0.04530587 | H8: =E8/B8-1 -> -0.12774756 | I8: =F8/C8-1 -> -0.11834051
A9: Przeciętne świadczenie w zł | B9: =ROUND(B8/B7,2) -> 993.3 | C9: =ROUND(C8/C7,2) -> 992.23 | D9: =ROUND(D8/D7,2) -> 987.72 | E9: =ROUND(E8/E7,2) -> 984.33 | F9: =ROUND(F8/F7,2) -> 986.06 | G9: =E9/D9-1 -> -0.0034321468 | H9: =E9/B9-1 -> -0.0090305044 | I9: =F9/C9-1 -> -0.0062183163
A11: TABLICA 10 (20). ZASIŁKI MACIERZYŃSKIE WEDŁUG WOJEWÓDZTW
A12: Wyszczególnienie | B12: Liczba świadczeń | C12: Kwota wypłat w zł | D12: Przeciętne świadczenie
B13: ='Tab 10'!B6:K6 -> II KWARTAŁ 2022 R.
A14: OGÓŁEM | B14: =SUM(B15:B30) -> 34334 | C14: =SUM(C15:C30) -> 33795995 | D14: =ROUND(C14/B14,2) -> 984.33
A15: dolnośląskie | B15: 654 | C15: 640492.4 | D15: =ROUND(C15/B15,2) -> 979.35
A16: kujawsko-pomorskie | B16: 1379 | C16: 1338595.9 | D16: =ROUND(C16/B16,2) -> 970.7
A17: lubelskie | B17: 4733 | C17: 4766583.8 | D17: =ROUND(C17/B17,2) -> 1007.1
A18: lubuskie | B18: 304 | C18: 300795.3 | D18: =ROUND(C18/B18,2) -> 989.46
A19: łódzkie | B19: 2046 | C19: 1996169.5 | D19: =ROUND(C19/B19,2) -> 975.64
A20: małopolskie | B20: 6215 | C20: 6030679.1 | D20: =ROUND(C20/B20,2) -> 970.34
A21: mazowieckie | B21: 4172 | C21: 4142072.3 | D21: =ROUND(C21/B21,2) -> 992.83
A22: opolskie | B22: 757 | C22: 758151.1 | D22: =ROUND(C22/B22,2) -> 1001.52
A23: podkarpackie | B23: 3277 | C23: 3210049.2 | D23: =ROUND(C23/B23,2) -> 979.57
A24: podlaskie | B24: 2550 | C24: 2491859.1 | D24: =ROUND(C24/B24,2) -> 977.2
A25: pomorskie | B25: 1244 | C25: 1224640.6 | D25: =ROUND(C25/B25,2) -> 984.44
A26: śląskie | B26: 768 | C26: 756717.2 | D26: =ROUND(C26/B26,2) -> 985.31
... A30: zachodniopomorskie | B30: 382 | C30: 369860.7 | D30: =ROUND(C30/B30,2) -> 968.22

Sheet Tab 11 (21) i 12 (22)
A1: ='Tab 9 (19) i 10 (20)'!A1:I1 -> II. FUNDUSZ EMERYTALNO-RENTOWY | J1: Powrót do spisu treści
A2: TABLICA 11 (21). ZASIŁKI POGRZEBOWE
A3: Wyszczególnienie | B3: 2021 rok | D3: 2022 rok
B4: II kwartał | C4: I półrocze | D4: I kwartał | E4: II kwartał | F4: I półrocze | G4: porównanie (wzrost/spadek)
G5: II kwartału 2022 r. z I kwartałem 2022 r. | H5: II kwartału 2022 r. z II kwartałem 2021 r. | I5: I półrocza 2022 r. z I półroczem 2021 r.
A6: ZASIŁKI POGRZEBOWE OGÓŁEM
A7: Liczba świadczeń | B7: =B11+B15+B19 -> 15654 | C7: =C11+C15+C19 -> 32180 | D7: =D11+D15+D19 -> 17287 | E7: =E11+E15+E19 -> 12186 | F7: =F11+F15+F19 -> 29473 | G7: =E7/D7-1 -> -0.29507723 | H7: =E7/B7-1 -> -0.22154082 | I7: =F7/C7-1 -> -0.084120572
A8: Kwota wypłat w zł | B8: =B12+B16+B20 -> 62614786 | C8: =C12+C16+C20 -> 1.286986e+08 | D8: =D12+D16+D20 -> 69135997 | E8: =E12+E16+E20 -> 48732139 | F8: =F12+F16+F20 -> 1.1786814e+08 | G8: =E8/D8-1 -> -0.2951264 | H8: =E8/B8-1 -> -0.22171515 | I8: =F8/C8-1 -> -0.084153728
A9: Przeciętne świadczenie w zł | B9: =ROUND(B8/B7,2) -> 3999.92 | C9: =ROUND(C8/C7,2) -> 3999.34 | D9: =ROUND(D8/D7,2) -> 3999.31 | E9: =ROUND(E8/E7,2) -> 3999.03 | F9: =ROUND(F8/F7,2) -> 3999.19 | G9: =E9/D9-1 -> -7.0012077e-05 | H9: =E9/B9-1 -> -0.00022250445 | I9: =F9/C9-1 -> -3.7506189e-05
A10: ZASIŁKI POGRZEBOWE PO EMERYTACH I RENCISTACH
A11: Liczba świadczeń | B11: 14065 | C11: 29072 | D11: 15631 | E11: 10775 | F11: 26406 | G11: =E11/D11-1 -> -0.3106647 | H11: =E11/B11-1 -> -0.23391397 | I11: =F11/C11-1 -> -0.091703357
A12: Kwota wypłat w zł | B12: 56258786 | C12: 1.1627502e+08 | D12: 62512001 | E12: 43088139 | F12: 1.0560014e+08 | G12: =E12/D12-1 -> -0.31072213 | H12: =E12/B12-1 -> -0.23410827 | I12: =F12/C12-1 -> -0.091807196
A13: Przeciętne świadczenie w zł | B13: =ROUND(B12/B11,2) -> 3999.91 | C13: =ROUND(C12/C11,2) -> 3999.55 | D13: =ROUND(D12/D11,2) -> 3999.23 | E13: =ROUND(E12/E11,2) -> 3998.9 | F13: =ROUND(F12/F11,2) -> 3999.1 | G13: =E13/D13-1 -> -8.2515884e-05 | H13: =E13/B13-1 -> -0.00025250568 | I13: =F13/C13-1 -> -0.00011251266
A14: ZASIŁKI POGRZEBOWE PO UBEZPIECZONYCH
A15: Liczba świadczeń | B15: 1099 | C15: 2100 | D15: 1122 | E15: 915 | F15: 2037 | G15: =E15/D15-1 -> -0.18449198 | H15: =E15/B15-1 -> -0.16742493 | I15: =F15/C15-1 -> -0.03
A16: Kwota wypłat w zł | B16: 4396000 | C16: 8400000 | D16: 4487996 | E16: 3660000 | F16: 8147996 | G16: =E16/D16-1 -> -0.18449125 | H16: =E16/B16-1 -> -0.16742493 | I16: =F16/C16-1 -> -0.030000476
A17: Przeciętne świadczenie w zł | B17: =ROUND(B16/B15,2) -> 4000 | C17: =ROUND(C16/C15,2) -> 4000 | D17: =ROUND(D16/D15,2) -> 4000 | E17: =ROUND(E16/E15,2) -> 4000 | F17: =ROUND(F16/F15,2) -> 4000 | G17: =E17/D17-1 -> 0 | H17: =E17/B17-1 -> 0 | I17: =F17/C17-1 -> 0
A18: ZASIŁKI POGRZEBOWE PO CZŁONKACH RODZIN
A19: Liczba świadczeń | B19: 490 | C19: 1008 | D19: 534 | E19: 496 | F19: 1030 | G19: =E19/D19-1 -> -0.071161049 | H19: =E19/B19-1 -> 0.012244898 | I19: =F19/C19-1 -> 0.021825397
A20: Kwota wypłat w zł | B20: 1960000 | C20: 4023579.4 | D20: 2136000 | E20: 1984000 | F20: 4120000 | G20: =E20/D20-1 -> -0.071161049 | H20: =E20/B20-1 -> 0.012244898 | I20: =F20/C20-1 -> 0.023963886
A21: Przeciętne świadczenie w zł | B21: =ROUND(B20/B19,2) -> 4000 | C21: =ROUND(C20/C19,2) -> 3991.65 | D21: =ROUND(D20/D19,2) -> 4000 | E21: =ROUND(E20/E19,2) -> 4000 | F21: =ROUND(F20/F19,2) -> 4000 | G21: =E21/D21-1 -> 0 | H21: =E21/B21-1 -> 0 | I21: =F21/C21-1 -> 0.0020918668
A23: TABLICA 12 (22). ZASIŁKI POGRZEBOWE WEDŁUG WOJEWÓDZTW
A24: Wyszczególnienie | B24: Zasiłki pogrzebowe
B25: Ogółem | D25: z tego:
D26: po emerytach, rencistach | F26: po ubezpieczonych | H26: po członkach rodzin
B27: Liczba świadczeń | C27: Kwota wypłat w zł | D27: Liczba świadczeń | E27: Kwota wypłat w zł | F27: Liczba świadczeń | G27: Kwota wypłat w zł | H27: Liczba świadczeń | I27: Kwota wypłat w zł
B28: ='Tab 9 (19) i 10 (20)'!B13:D13 -> II KWARTAŁ 2022 R.
A29: OGÓŁEM | B29: =SUM(B30:B45) -> 12186 | C29: =SUM(C30:C45) -> 48732139 | D29: =SUM(D30:D45) -> 10775 | E29: =SUM(E30:E45) -> 43088139 | F29: =SUM(F30:F45) -> 915 | G29: =SUM(G30:G45) -> 3660000 | H29: =SUM(H30:H45) -> 496 | I29: =SUM(I30:I45) -> 1984000
A30: dolnośląskie | B30: =D30+F30+H30 -> 426 | C30: =E30+G30+I30 -> 1704000 | D30: 373 | E30: 1492000 | F30: 38 | G30: 152000 | H30: 15 | I30: 60000
A31: kujawsko-pomorskie | B31: =D31+F31+H31 -> 772 | C31: =E31+G31+I31 -> 3088000 | D31: 699 | E31: 2796000 | F31: 51 | G31: 204000 | H31: 22 | I31: 88000
A32: lubelskie | B32: =D32+F32+H32 -> 1638 | C32: =E32+G32+I32 -> 6550290 | D32: 1469 | E32: 5874290 | F32: 109 | G32: 436000 | H32: 60 | I32: 240000
A33: lubuskie | B33: =D33+F33+H33 -> 131 | C33: =E33+G33+I33 -> 524000 | D33: 110 | E33: 440000 | F33: 8 | G33: 32000 | H33: 13 | I33: 52000
A34: łódzkie | B34: =D34+F34+H34 -> 1033 | C34: =E34+G34+I34 -> 4132000 | D34: 917 | E34: 3668000 | F34: 81 | G34: 324000 | H34: 35 | I34: 140000
A35: małopolskie | B35: =D35+F35+H35 -> 898 | C35: =E35+G35+I35 -> 3591999.9 | D35: 750 | E35: 2999999.9 | F35: 93 | G35: 372000 | H35: 55 | I35: 220000
A36: mazowieckie | B36: =D36+F36+H36 -> 2114 | C36: =E36+G36+I36 -> 8453670 | D36: 1911 | E36: 7641670 | F36: 143 | G36: 572000 | H36: 60 | I36: 240000
A37: opolskie | B37: =D37+F37+H37 -> 286 | C37: =E37+G37+I37 -> 1144000 | D37: 248 | E37: 992000 | F37: 23 | G37: 92000 | H37: 15 | I37: 60000
A38: podkarpackie | B38: =D38+F38+H38 -> 708 | C38: =E38+G38+I38 -> 2830750 | D38: 599 | E38: 2394750 | F38: 66 | G38: 264000 | H38: 43 | I38: 172000
A39: podlaskie | B39: =D39+F39+H39 -> 967 | C39: =E39+G39+I39 -> 3865433 | D39: 855 | E39: 3417433 | F39: 70 | G39: 280000 | H39: 42 | I39: 168000
A40: pomorskie | B40: =D40+F40+H40 -> 362 | C40: =E40+G40+I40 -> 1448000 | D40: 329 | E40: 1316000 | F40: 16 | G40: 64000 | H40: 17 | I40: 68000
A41: śląskie | B41: =D41+F41+H41 -> 273 | C41: =E41+G41+I41 -> 1092000 | D41: 234 | E41: 936000 | F41: 28 | G41: 112000 | H41: 11 | I41: 44000
... A45: zachodniopomorskie | B45: =D45+F45+H45 -> 286 | C45: =E45+G45+I45 -> 1144000 | D45: 253 | E45: 1012000 | F45: 20 | G45: 80000 | H45: 13 | I45: 52000

Sheet Tab 1 (23)
A1: III. ŚWIADCZENIA FINANSOWANE Z BUDŻETU PAŃSTWA
A2: TABLICA 1 (23). ŚWIADCZENIA FINANSOWANE Z BUDŻETU PAŃSTWA ZLECONE DO WYPŁATY KASIE ROLNICZEGO UBEZPIECZENIA SPOŁECZNEGO | J2: Powrót do spisu treści
A3: Wyszczególnienie | B3: 2021 rok | D3: 2022 rok
B4: II kwartał | C4: I półrocze | D4: I kwartał | E4: II kwartał | F4: I półrocze | G4: porównanie (wzrost/spadek)
G5: II kwartału 2022 r. z I kwartałem 2022 r. | H5: II kwartału 2022 r. z II kwartałem 2021 r. | I5: I półrocza 2022 r. z I półroczem 2021 r.
A6: ŚWIADCZENIA PIENIĘŻNE DLA INWALIDÓW WOJENNYCH, WOJSKOWYCH I OSÓB REPRESJONOWANYCH
A7: Przeciętna miesięczna liczba osób | B7: 3461 | C7: 3536 | D7: 3043 | E7: 2905 | F7: 2974 | G7: =E7/D7-1 -> -0.045349984 | H7: =E7/B7-1 -> -0.16064721 | I7: =F7/C7-1 -> -0.15893665
A8: Kwota wypłat w zł | B8: 26089917 | C8: 52584701 | D8: 23342952 | E8: 23261677 | F8: 46604629 | G8: =E8/D8-1 -> -0.0034818068 | H8: =E8/B8-1 -> -0.10840359 | I8: =F8/C8-1 -> -0.11372267
A9: Przeciętne świadczenie w zł | B9: 2513 | C9: 2478.31 | D9: 2556.73 | E9: 2668.85 | F9: 2611.49 | G9: =E9/D9-1 -> 0.04385289 | H9: =E9/B9-1 -> 0.062017509 | I9: =F9/C9-1 -> 0.053738233
A10: ZASIŁKI POGRZEBOWE PO INWALIDACH WOJENNYCH, WOJSKOWYCH, OSOBACH REPRESJONOWANYCH I CZŁONKACH ICH RODZIN
A11: Liczba świadczeń | B11: 136 | C11: 300 | D11: 154 | E11: 93 | F11: 247 | G11: =E11/D11-1 -> -0.3961039 | H11: =E11/B11-1 -> -0.31617647 | I11: =F11/C11-1 -> -0.17666667
A12: Kwota wypłat w zł | B12: 544000 | C12: 1200000 | D12: 616000 | E12: 372000 | F12: 988000 | G12: =E12/D12-1 -> -0.3961039 | H12: =E12/B12-1 -> -0.31617647 | I12: =F12/C12-1 -> -0.17666667
A13: Przeciętne świadczenie w zł | B13: =ROUND(B12/B11,2) -> 4000 | C13: =ROUND(C12/C11,2) -> 4000 | D13: =ROUND(D12/D11,2) -> 4000 | E13: =ROUND(E12/E11,2) -> 4000 | F13: =ROUND(F12/F11,2) -> 4000 | G13: =E13/D13-1 -> 0 | H13: =E13/B13-1 -> 0 | I13: =F13/C13-1 -> 0
A14: DODATKI KOMBATANCKIE
A15: Przeciętna miesięczna liczba świadczeń | B15: 10333 | C15: 10591 | D15: 8957 | E15: 8486 | F15: 8722 | G15: =E15/D15-1 -> -0.052584571 | H15: =E15/B15-1 -> -0.1787477 | I15: =F15/C15-1 -> -0.17647059
A16: Kwota wypłat w zł | B16: 7390554.5 | C16: 14935766 | D16: 6552232 | E16: 6499297 | F16: 13051529 | G16: =E16/D16-1 -> -0.0080789279 | H16: =E16/B16-1 -> -0.12059412 | I16: =F16/C16-1 -> -0.12615601
A17: Przeciętne świadczenie w zł | B17: 238.41 | C17: 235.03 | D17: 243.83 | E17: 255.29 | F17: 249.41 | G17: =E17/D17-1 -> 0.046999959 | H17: =E17/B17-1 -> 0.070802399 | I17: =F17/C17-1 -> 0.061183679
A18: DODATKI PIENIĘŻNE DLA INWALIDÓW WOJENNYCH
A19: Przeciętna miesięczna liczba świadczeń | B19: 169 | C19: 177 | D19: 128 | E19: 117 | F19: 123 | G19: =E19/D19-1 -> -0.0859375 | H19: =E19/B19-1 -> -0.30769231 | I19: =F19/C19-1 -> -0.30508475
A20: Kwota wypłat w zł | B20: 466167.96 | C20: 960474.96 | D20: 360315.24 | E20: 343633.5 | F20: 703948.74 | G20: =E20/D20-1 -> -0.046297625 | H20: =E20/B20-1 -> -0.26285474 | I20: =F20/C20-1 -> -0.26708267
A21: Wysokość świadczenia w zł | B21: 917.58 | C21: 917.58 | D21: 981.81 | E21: 981.81 | F21: 981.81 | G21: =E21/D21-1 -> 0 | H21: =E21/B21-1 -> 0.069999346 | I21: =F21/C21-1 -> 0.069999346
A22: RYCZAŁTY ENERGETYCZNE
A23: Przeciętna miesięczna liczba świadczeń | B23: 35788 | C23: 36608 | D23: 31225 | E23: 29728 | F23: 30477 | G23: =E23/D23-1 -> -0.047942354 | H23: =E23/B23-1 -> -0.1693305 | I23: =F23/C23-1 -> -0.16747705
A24: Kwota wypłat w zł | B24: 19240235 | C24: 38729660 | D24: 17177208 | E24: 17135306 | F24: 34312514 | G24: =E24/D24-1 -> -0.0024393726 | H24: =E24/B24-1 -> -0.10940244 | I24: =F24/C24-1 -> -0.11405075
A25: Przeciętne świadczenie w zł | B25: 179.21 | C25: 176.33 | D25: 183.37 | E25: 192.13 | F25: 187.64 | G25: =E25/D25-1 -> 0.047772264 | H25: =E25/B25-1 -> 0.072094191 | I25: =F25/C25-1 -> 0.064141099
A26: ŚWIADCZENIA PIENIĘŻNE DLA ŻOŁNIERZY ZASTĘPCZEJ SŁUŻBY WOJSKOWEJ
A27: Przeciętna miesięczna liczba świadczeń | B27: 2790 | C27: 2876 | D27: 2317 | E27: 2164 | F27: 2241 | G27: =E27/D27-1 -> -0.066033664 | H27: =E27/B27-1 -> -0.22437276 | I27: =F27/C27-1 -> -0.22079277
A28: Kwota wypłat w zł | B28: 1992640.5 | C28: 4047621 | D28: 1689005.1 | E28: 1658855.3 | F28: 3347860.4 | G28: =E28/D28-1 -> -0.017850639 | H28: =E28/B28-1 -> -0.167509 | I28: =F28/C28-1 -> -0.17288196
A29: Przeciętne świadczenie w zł | B29: 238.07 | C29: 234.58 | D29: 242.95 | E29: 255.48 | F29: 249 | G29: =E29/D29-1 -> 0.051574398 | H29: =E29/B29-1 -> 0.073129752 | I29: =F29/C29-1 -> 0.061471566
A30: ŚWIADCZENIA PIENIĘŻNE DLA OSÓB DEPORTOWANYCH DO PRACY PRZYMUSOWEJ
A31: Przeciętna miesięczna liczba świadczeń | B31: 7151 | C31: 7343 | D31: 6075 | E31: 5740 | F31: 5908 | G31: =E31/D31-1 -> -0.055144033 | H31: =E31/B31-1 -> -0.19731506 | I31: =F31/C31-1 -> -0.19542421
A32: Kwota wypłat w zł | B32: 4587412.4 | C32: 9286659.7 | D32: 3963168.2 | E32: 3913983 | F32: 7877151.3 | G32: =E32/D32-1 -> -0.012410573 | H32: =E32/B32-1 -> -0.14679939 | I32: =F32/C32-1 -> -0.15177776
A33: Przeciętne świadczenie w zł | B33: 213.84 | C33: 210.79 | D33: 217.45 | E33: 227.28 | F33: 222.22 | G33: =E33/D33-1 -> 0.045205794 | H33: =E33/B33-1 -> 0.06285073 | I33: =F33/C33-1 -> 0.054224584
A34: DODATKI KOMPENSACYJNE
A35: Przeciętna miesięczna liczba świadczeń | B35: 29960 | C35: 30734 | D35: 25715 | E35: 24320 | F35: 25018 | G35: =E35/D35-1 -> -0.054248493 | H35: =E35/B35-1 -> -0.188251 | I35: =F35/C35-1 -> -0.18598295
A36: Kwota wypłat w zł | B36: 3218332 | C36: 6508941.2 | D36: 2822327.7 | E36: 2798303.7 | F36: 5620631.4 | G36: =E36/D36-1 -> -0.0085121193 | H36: =E36/B36-1 -> -0.13051117 | I36: =F36/C36-1 -> -0.13647532
A37: Przeciętne świadczenie w zł | B37: 35.81 | C37: 35.3 | D37: 36.58 | E37: 38.35 | F37: 37.44 | G37: =E37/D37-1 -> 0.048387097 | H37: =E37/B37-1 -> 0.070929908 | I37: =F37/C37-1 -> 0.060623229
A38: ŚWIADCZENIA PIENIĘŻNE DLA CYWILNYCH NIEWIDOMYCH OFIAR DZIAŁAŃ WOJENNYCH
A39: Przeciętna miesięczna liczba świadczeń | B39: 9 | C39: 9 | D39: 8 | E39: 7 | F39: 8 | G39: =E39/D39-1 -> -0.125 | H39: =E39/B39-1 -> -0.22222222 | I39: =F39/C39-1 -> -0.11111111
A40: Kwota wypłat w zł | B40: 25514.64 | C40: 50337.44 | D40: 23086.28 | E40: 20977.5 | F40: 44063.78 | G40: =E40/D40-1 -> -0.09134343 | H40: =E40/B40-1 -> -0.17782497 | I40: =F40/C40-1 -> -0.12463208
A41: Przeciętne świadczenie w zł | B41: 944.99 | C41: 932.17 | D41: 961.93 | E41: 998.93 | F41: 979.2 | G41: =E41/D41-1 -> 0.038464337 | H41: =E41/B41-1 -> 0.057079969 | I41: =F41/C41-1 -> 0.050452171
A42: DODATKI DLA WETERANA POSZKODOWANEGO
A43: Przeciętna miesięczna liczba świadczeń | B43: 1 | C43: 1 | D43: 1 | E43: 1 | F43: 1 | G43: =E43/D43-1 -> 0 | H43: =E43/B43-1 -> 0 | I43: =F43/C43-1 -> 0
A44: Kwota wypłat w zł | B44: 375.27 | C44: 740.36 | D44: 384.02 | E44: 401.52 | F44: 785.54 | G44: =E44/D44-1 -> 0.045570543 | H44: =E44/B44-1 -> 0.069949636 | I44: =F44/C44-1 -> 0.061024367
A45: Przeciętne świadczenie w zł | B45: 125.09 | C45: 123.39 | D45: 128.01 | E45: 133.84 | F45: 130.92 | G45: =E45/D45-1 -> 0.045543317 | H45: =E45/B45-1 -> 0.069949636 | I45: =F45/C45-1 -> 0.061026015
A46: RODZICIELSKIE ŚWIADCZENIA UZUPEŁNIAJĄCE
A47: Przeciętna miesięczna liczba osób | B47: 1152 | C47: 1128 | D47: 1276 | E47: 1316 | F47: 1296 | G47: =E47/D47-1 -> 0.031347962 | H47: =E47/B47-1 -> 0.14236111 | I47: =F47/C47-1 -> 0.14893617
A48: Kwota wypłat w zł | B48: 4469401 | C48: 8630867.6 | D48: 5023607.4 | E48: 5419811.1 | F48: 10443419 | G48: =E48/D48-1 -> 0.078868362 | H48: =E48/B48-1 -> 0.21264821 | I48: =F48/C48-1 -> 0.21000796
A49: Wysokość świadczenia w zł | B49: 1250.88 | C49: 1250.88 | D49: 1338.44 | E49: 1338.44 | F49: 1338.44 | G49: =E49/D49-1 -> 0 | H49: =E49/B49-1 -> 0.069998721 | I49: =F49/C49-1 -> 0.069998721
A50: RENTY SOCJALNE
A51: Przeciętna miesięczna liczba osób | B51: 11831 | C51: 11840 | D51: 11772 | E51: 11769 | F51: 11771 | G51: =E51/D51-1 -> -0.000254842 | H51: =E51/B51-1 -> -0.00524047 | I51: =F51/C51-1 -> -0.0058277027
A52: Kwota wypłat w zł | B52: 44718074 | C52: 88320687 | D52: 45679610 | E52: 47602520 | F52: 93282130 | G52: =E52/D52-1 -> 0.042095597 | H52: =E52/B52-1 -> 0.064502931 | I52: =F52/C52-1 -> 0.056175321
A53: Przeciętne świadczenie w zł | B53: 1259.88 | C53: 1243.24 | D53: 1293.49 | E53: 1348.21 | F53: 1320.85 | G53: =E53/D53-1 -> 0.042304154 | H53: =E53/B53-1 -> 0.070109852 | I53: =F53/C53-1 -> 0.062425598
A54: ŚWIADCZENIE UZUPEŁNIAJĄCE DLA OSÓB NIEZDOLNYCH DO SAMODZIELNEJ EGZYSTENCJI
A55: Przeciętna miesięczna liczba świadczeń | B55: 194700 | C55: 195050 | D55: 191430 | E55: 190457 | F55: 190944 | G55: =E55/D55-1 -> -0.0050827979 | H55: =E55/B55-1 -> -0.021792501 | I55: =F55/C55-1 -> -0.021051013
A56: Kwota wypłat w zł | B56: 2.9948299e+08 | C56: 5.9905355e+08 | D56: 2.9199399e+08 | E56: 2.9691625e+08 | F56: 5.8891024e+08 | G56: =E56/D56-1 -> 0.016857389 | H56: =E56/B56-1 -> -0.0085705956 | I56: =F56/C56-1 -> -0.016932229
A57: Przeciętne świadczenie w zł | B57: 512.73 | C57: 511.88 | D57: 508.44 | E57: 519.65 | F57: 514.04 | G57: =E57/D57-1 -> 0.022047833 | H57: =E57/B57-1 -> 0.013496382 | I57: =F57/C57-1 -> 0.004219739
A58: ŚWIADCZENIA WYRÓWNAWCZE DLA DZIAŁACZY OPOZYCJI ANTYKOMUNISTYCZNEJ ORAZ OSÓB REPRESJONOWANYCH Z POWODÓW POLITYCZNYCH
A59: Przeciętna miesięczna liczba świadczeń | B59: 235 | C59: 223 | D59: 283 | E59: 290 | F59: 287 | G59: =E59/D59-1 -> 0.024734982 | H59: =E59/B59-1 -> 0.23404255 | I59: =F59/C59-1 -> 0.28699552
A60: Kwota wypłat w zł | B60: 890194.01 | C60: 1860510.1 | D60: 1056675.1 | E60: 1135307.5 | F60: 2191982.6 | G60: =E60/D60-1 -> 0.074414928 | H60: =E60/B60-1 -> 0.27534837 | I60: =F60/C60-1 -> 0.17816214
A61: Przeciętne świadczenie w zł | B61: 1260.9 | C61: 1390.52 | D61: 1243.15 | E61: 1304.95 | F61: 1274.41 | G61: =E61/D61-1 -> 0.049712424 | H61: =E61/B61-1 -> 0.034935364 | I61: =F61/C61-1 -> -0.083501136

Sheet Tab 1 (24) i 2 (25)
A1: IV. FUNDUSZ SKŁADKOWY | J1: Powrót do spisu treści
A3: TABLICA 1 (24). ZASIŁKI CHOROBOWE I JEDNORAZOWE ODSZKODOWANIA
A4: Wyszczególnienie | B4: 2021 rok | D4: 2022 rok
B5: II kwartał | C5: I półrocze | D5: I kwartał | E5: II kwartał | F5: I półrocze | G5: porównanie (wzrost/spadek)
G6: II kwartału 2022 r. z I kwartałem 2022 r. | H6: II kwartału 2022 r. z II kwartałem 2021 r. | I6: I półrocza 2022 r. z I półroczem 2021 r.
A7: ZASIŁKI CHOROBOWE
A8: Liczba dni | B8: 5717493 | C8: 10907204 | D8: 5982606 | E8: 6657585 | F8: 12640191 | G8: =E8/D8-1 -> 0.11282358 | H8: =E8/B8-1 -> 0.16442381 | I8: =F8/C8-1 -> 0.15888462
A9: w tym zasiłki chorobowe o przedłużonym okresie zasiłku | B9: 549549 | C9: 1025821 | D9: 454070 | E9: 607839 | F9: 1061909 | G9: =E9/D9-1 -> 0.33864602 | H9: =E9/B9-1 -> 0.10606879 | I9: =F9/C9-1 -> 0.035179627
A10: Kwota wypłat w zł | B10: 57634111 | C10: 1.0971876e+08 | D10: 119661206 | E10: 133527358 | F10: 253188564 | G10: =E10/D10-1 -> 0.11587842 | H10: =E10/B10-1 -> 1.3168113 | I10: =F10/C10-1 -> 1.3076142
A11: w tym zasiłki chorobowe o przedłużonym okresie zasiłku | B11: 5495710 | C11: 10258995 | D11: 9067395 | E11: 12159393 | F11: 21226788 | G11: =E11/D11-1 -> 0.3410018 | H11: =E11/B11-1 -> 1.2125245 | I11: =F11/C11-1 -> 1.0690904
A12: Przeciętny zasiłek za 1 dzień w zł | B12: =ROUND(B10/B8,2) -> 10.08 | C12: =ROUND(C10/C8,2) -> 10.06 | D12: =ROUND(D10/D8,2) -> 20 | E12: =ROUND(E10/E8,2) -> 20.06 | F12: =ROUND(F10/F8,2) -> 20.03 | G12: =E12/D12-1 -> 0.003 | H12: =E12/B12-1 -> 0.99007937 | I12: =F12/C12-1 -> 0.99105368
A13: JEDNORAZOWE ODSZKODOWANIA
A14: Liczba świadczeń | B14: 2693 | C14: 5228 | D14: 2218 | E14: 2418 | F14: 4636 | G14: =E14/D14-1 -> 0.090171326 | H14: =E14/B14-1 -> -0.1021166 | I14: =F14/C14-1 -> -0.11323642
A15: Kwota wypłat w zł | B15: 16397050 | C15: 30913328 | D15: 16685678 | E15: 18503668 | F15: 35189346 | G15: =E15/D15-1 -> 0.10895508 | H15: =E15/B15-1 -> 0.12847543 | I15: =F15/C15-1 -> 0.13832281
A16: Przeciętne świadczenie w zł | B16: =ROUND(B15/B14,2) -> 6088.77 | C16: =ROUND(C15/C14,2) -> 5913.03 | D16: =ROUND(D15/D14,2) -> 7522.85 | E16: =ROUND(E15/E14,2) -> 7652.47 | F16: =ROUND(F15/F14,2) -> 7590.45 | G16: =E16/D16-1 -> 0.017230172 | H16: =E16/B16-1 -> 0.25681706 | I16: =F16/C16-1 -> 0.28368197
A18: TABLICA 2 (25). ZASIŁKI CHOROBOWE I JEDNORAZOWE ODSZKODOWANIA WEDŁUG WOJEWÓDZTW
A19: Wyszczególnienie | B19: Zasiłki chorobowe | F19: Jednorazowe odszkodowania
B20: ogółem | D20: w tym: zasiłki chorobowe o przedłużonym okresie zasiłku
B21: Liczba dni | C21: Kwota wypłat w zł | D21: Liczba dni | E21: Kwota wypłat w zł | F21: Liczba świadczeń | G21: Kwota wypłat w zł
B22: ='Tab 11 (21) i 12 (22)'!B28:I28 -> II KWARTAŁ 2022 R.
A23: OGÓŁEM | B23: =SUM(B24:B39) -> 6657585 | C23: =SUM(C24:C39) -> 133527358 | D23: =SUM(D24:D39) -> 607839 | E23: =SUM(E24:E39) -> 12159393 | F23: =SUM(F24:F39) -> 2418 | G23: =SUM(G24:G39) -> 18503668
A24: dolnośląskie | B24: 156425 | C24: 3134700 | D24: 16464 | E24: 329280 | F24: 59 | G24: 555238
A25: kujawsko-pomorskie | B25: 388639 | C25: 7814890 | D25: 50787 | E25: 1015740 | F25: 156 | G25: 1208523
A26: lubelskie | B26: 1097105 | C26: 22003523 | D26: 94235 | E26: 1884723 | F26: 374 | G26: 2607809
A27: lubuskie | B27: 52355 | C27: 1050230 | D27: 9083 | E27: 181660 | F27: 26 | G27: 221062
A28: łódzkie | B28: 618740 | C28: 12397420 | D28: 54360 | E28: 1087180 | F28: 197 | G28: 1765553
A29: małopolskie | B29: 675162 | C29: 13535060 | D29: 50348 | E29: 1009280 | F29: 204 | G29: 1412317
A30: mazowieckie | B30: 876983 | C30: 17600210 | D30: 82392 | E30: 1648170 | F30: 339 | G30: 2610547
A31: opolskie | B31: 89868 | C31: 1804860 | D31: 6930 | E31: 138600 | F31: 24 | G31: 153941
A32: podkarpackie | B32: 617715 | C32: 12371180 | D32: 33937 | E32: 678510 | F32: 185 | G32: 1283073
A33: podlaskie | B33: 325986 | C33: 6544955 | D33: 55000 | E33: 1100420 | F33: 224 | G33: 1786035
A34: pomorskie | B34: 214712 | C34: 4305340 | D34: 27659 | E34: 552270 | F34: 91 | G34: 600223
A35: śląskie | B35: 133883 | C35: 2685150 | D35: 9614 | E35: 192280 | F35: 33 | G35: 332452
... A39: zachodniopomorskie | B39: 83001 | C39: 1664290 | D39: 9821 | E39: 196420 | F39: 25 | G39: 190072

Sheet Wykres 4
A1: IV. FUNDUSZ SKŁADKOWY
H2: Powrót do spisu treści
A30: Dane do wykresu nr 4
B31: Zasiłki chorobowe | C31: Jednorazowe odszkodowania | D31: Ogółem
A32: Kwota w zł | B32: ='Tab 1 (24) i 2 (25)'!E10 -> 133527358 | C32: ='Tab 1 (24) i 2 (25)'!E15 -> 18503668 | D32: =SUM(B32:C32) -> 152031026
A33: Udział procentowy | B33: =B32/$D$32 -> 0.87829019 | C33: =C32/$D$32 -> 0.12170981 | D33: =D32/$D$32 -> 1

Sheet Tab 3 (26) i 4 (27)
A1: ='Tab 1 (24) i 2 (25)'!A1:G1 -> IV. FUNDUSZ SKŁADKOWY
A2: TABLICA 3 (26). WYPADKI PRZY PRACY ROLNICZEJ I CHOROBY ZAWODOWE ROLNIKÓW | K2: Powrót do spisu treści
A3: Wyszczególnienie | C3: 2021 rok | E3: 2022 rok
C4: II kwartał | D4: I półrocze | E4: I kwartał | F4: II kwartał | G4: I półrocze | H4: porównanie (wzrost/spadek)
H5: II kwartału 2022 r. z I kwartałem 2022 r. | I5: II kwartału 2022 r. z II kwartałem 2021 r. | J5: I półrocza 2022 r. z I półroczem 2021 r.
A6: WYPADKI PRZY PRACY ROLNICZEJ
A7: Liczba zdarzeń zgłoszonych jako wypadki przy pracy rolniczej | C7: 2927 | D7: 6017 | E7: 2940 | F7: 2922 | G7: 5862 | H7: =F7/E7-1 -> -0.006122449 | I7: =F7/C7-1 -> -0.0017082337 | J7: =G7/D7-1 -> -0.025760346
A8: Liczba zdarzeń uznanych za wypadki przy pracy rolniczej | C8: 3144 | D8: 6281 | E8: 2834 | F8: 2819 | G8: 5653 | H8: =F8/E8-1 -> -0.0052928723 | I8: =F8/C8-1 -> -0.1033715 | J8: =G8/D8-1 -> -0.099984079
A9: Liczba decyzji przyznających świadczenia | C9: 2574 | D9: 5228 | E9: 2362 | F9: 2351 | G9: 4713 | H9: =F9/E9-1 -> -0.0046570703 | I9: =F9/C9-1 -> -0.086635587 | J9: =G9/D9-1 -> -0.098508034
A10: w tym śmiertelnych | C10: 13 | D10: 20 | E10: 14 | F10: 8 | G10: 22 | H10: =F10/E10-1 -> -0.42857143 | I10: =F10/C10-1 -> -0.38461538 | J10: =G10/D10-1 -> 0.1
A11: Liczba decyzji odmawiających świadczenia | C11: 923 | D11: 1786 | E11: 847 | F11: 795 | G11: 1642 | H11: =F11/E11-1 -> -0.061393152 | I11: =F11/C11-1 -> -0.13867822 | J11: =G11/D11-1 -> -0.0806271
A12: CHOROBY ZAWODOWE
A13: Liczba zarejestrowanych wniosków o jednorazowe odszkodowanie zakończonych wydaniem decyzji | C13: 85 | D13: 177 | E13: 61 | F13: 77 | G13: 138 | H13: =F13/E13-1 -> 0.26229508 | I13: =F13/C13-1 -> -0.094117647 | J13: =G13/D13-1 -> -0.22033898
A14: Liczba decyzji przyznających świadczenia | C14: 59 | D14: 117 | E14: 51 | F14: 66 | G14: 117 | H14: =F14/E14-1 -> 0.29411765 | I14: =F14/C14-1 -> 0.11864407 | J14: =G14/D14-1 -> 0
A15: w tym śmiertelnych | C15: 0 | D15: 0 | E15: 0 | F15: 0 | G15: 0 | H15: - | I15: - | J15: -
A16: Liczba decyzji odmawiających świadczenia | C16: 27 | D16: 59 | E16: 16 | F16: 17 | G16: 33 | H16: =F16/E16-1 -> 0.0625 | I16: =F16/C16-1 -> -0.37037037 | J16: =G16/D16-1 -> -0.44067797
A18: TABLICA 4 (27). WYPADKI I CHOROBY ZAWODOWE, Z TYTUŁU KTÓRYCH PRZYZNANO JEDNORAZOWE ODSZKODOWANIA WEDŁUG WOJEWÓDZTW
A19: Wyszczególnienie | B19: Liczba wypadków | E19: z tego według rodzajów zdarzeń: | J19: Liczba chorób zawodowych
B20: Ogółem | C20: w tym śmiertelnych | D20: na 1000 ubezpieczonych (wg decyzji przyznających jednorazowe odszkodowania) | E20: upadek osób | F20: upadek przedmiotów | G20: pochwycenie, uderzenie przez części ruchome maszyn i urządzeń | H20: uderzenie, przygniecenie, pogryzienie przez zwierzęta | I20: pozostałe
B21: ='Tab 8 (18)'!B9:H9 -> I PÓŁROCZE 2022 R.
A22: OGÓŁEM | B22: =SUM(B23:B38) -> 4713 | C22: =SUM(C23:C38) -> 22 | D22: 4.2 | E22: =SUM(E23:E38) -> 2259 | F22: =SUM(F23:F38) -> 309 | G22: =SUM(G23:G38) -> 601 | H22: =SUM(H23:H38) -> 566 | I22: =SUM(I23:I38) -> 978 | J22: =SUM(J23:J38) -> 117
A23: dolnośląskie | B23: 122 | C23: 2 | D23: 3.2 | E23: 63 | F23: 9 | G23: 15 | H23: 8 | I23: 27 | J23: 8
A24: kujawsko pomorskie | B24: 318 | C24: 2 | D24: 5.3 | E24: 139 | F24: 20 | G24: 43 | H24: 45 | I24: 71 | J24: 4
A25: lubelskie | B25: 716 | C25: 3 | D25: 5 | E25: 369 | F25: 44 | G25: 84 | H25: 38 | I25: 181 | J25: 10
A26: lubuskie | B26: 44 | C26: 0 | D26: 3.3 | E26: 18 | F26: 7 | G26: 7 | H26: 4 | I26: 8 | J26: 2
A27: łódzkie | B27: 390 | C27: 2 | D27: 4.4 | E27: 190 | F27: 28 | G27: 59 | H27: 41 | I27: 72 | J27: 4
A28: małopolskie | B28: 395 | C28: 1 | D28: 3 | E28: 223 | F28: 19 | G28: 60 | H28: 26 | I28: 67 | J28: 5
A29: mazowieckie | B29: 631 | C29: 2 | D29: 3.9 | E29: 304 | F29: 38 | G29: 73 | H29: 95 | I29: 121 | J29: 19
A30: opolskie | B30: 64 | C30: 2 | D30: 2.6 | E30: 31 | F30: 5 | G30: 7 | H30: 5 | I30: 16 | J30: 1
A31: podkarpackie | B31: 378 | C31: 1 | D31: 4.6 | E31: 199 | F31: 31 | G31: 57 | H31: 18 | I31: 73 | J31: 7
A32: podlaskie | B32: 432 | C32: 4 | D32: 5.5 | E32: 174 | F32: 32 | G32: 42 | H32: 108 | I32: 76 | J32: 23
A33: pomorskie | B33: 192 | C33: 0 | D33: 5.1 | E33: 97 | F33: 6 | G33: 29 | H33: 25 | I33: 35 | J33: 5
A34: śląskie | B34: 67 | C34: 0 | D34: 2.2 | E34: 37 | F34: 4 | G34: 3 | H34: 9 | I34: 14 | J34: 1
... A38: zachodniopomorskie | B38: 78 | C38: 0 | D38: 3.5 | E38: 36 | F38: 8 | G38: 11 | H38: 3 | I38: 20 | J38: 3

Sheet Wykres 5
B1: IV. FUNDUSZ SKŁADKOWY
N2: Powrót do spisu treści
B18: Dane do wykresu nr 5
C19: Upadek osób | D19: Upadek przedmiotów | E19: Pochwycenie, uderzenie przez części ruchome maszyn i urządzeń | F19: Uderzenie, przygniecenie, pogryzienie przez zwierzęta | G19: Pozostałe | H19: Ogółem
B20: Liczba | C20: ='Tab 3 (26) i 4 (27)'!E22 -> 2259 | D20: ='Tab 3 (26) i 4 (27)'!F22 -> 309 | E20: ='Tab 3 (26) i 4 (27)'!G22 -> 601 | F20: ='Tab 3 (26) i 4 (27)'!H22 -> 566 | G20: ='Tab 3 (26) i 4 (27)'!I22 -> 978 | H20: =SUM(C20:G20) -> 4713
B21: Udział procentowy | C21: =ROUND(C20/$H$20,2) -> 0.48 | D21: =ROUND(D20/$H$20,2)-1% -> 0.06 | E21: =ROUND(E20/$H$20,2) -> 0.13 | F21: =ROUND(F20/$H$20,2) -> 0.12 | G21: =ROUND(G20/$H$20,2) -> 0.21 | H21: =H20/$H$20 -> 1

Sheet Tab 1 (28)
A1: V. UBEZPIECZENIE SPOŁECZNE ROLNIKÓW
A2: TABLICA 1 (28). LICZBA PŁATNIKÓW SKŁADEK WEDŁUG WOJEWÓDZTW | M2: Powrót do spisu treści
A3: Wyszczególnienie | B3: Liczba płatników ogółem | C3: w tym: | E3: z tego:
C4: liczba płatników czynnych | D4: w tym płatników czynnych, którzy zawarli z pomocnikami umowy o pomocy przy zbiorach | E4: w Funduszu Składkowym (wyłącznie ubezpieczenie wypadkowe, chorobowe i macierzyńskie) | G4: w Funduszu Emerytalno-Rentowym (wyłącznie ubezpieczenie emerytalno-rentowe) | K4: w Funduszu Składkowym i Emerytalno-Rentowym (łącznie ubezpieczenie wypadkowe, chorobowe i macierzyńskie oraz emerytalno-rentowe)
E5: razem | F5: w tym czynnych | G5: razem | H5: w tym czynnych | I5: w tym | K5: razem | L5: w tym czynnych
I6: pobierających renty strukturalne | J6: konta założone w związku z art. 16c
B7: STAN NA DZIEŃ 30 CZERWCA 2022 R.
A8: OGÓŁEM | B8: =SUM(B9:B24) -> 851371 | C8: =SUM(C9:C24) -> 825810 | D8: =SUM(D9:D24) -> 2054 | E8: =SUM(E9:E24) -> 6090 | F8: =SUM(F9:F24) -> 4370 | G8: =SUM(G9:G24) -> 8736 | H8: =SUM(H9:H24) -> 6358 | I8: =SUM(I9:I24) -> 2 | ... L8: =SUM(L9:L24) -> 815082
A9: dolnośląskie | B9: =E9+G9+K9 -> 31117 | C9: 29437 | D9: 91 | E9: 259 | F9: 82 | G9: 552 | H9: 240 | I9: 1 | J9: 0 | K9: 30306 | L9: 29115
A10: kujawsko-pomorskie | B10: =E10+G10+K10 -> 44892 | C10: 43446 | D10: 42 | E10: 382 | F10: 289 | G10: 471 | H10: 357 | I10: 0 | J10: 0 | K10: 44039 | L10: 42800
A11: lubelskie | B11: =E11+G11+K11 -> 111414 | C11: 107821 | D11: 150 | E11: 397 | F11: 261 | G11: 724 | H11: 578 | I11: 0 | J11: 0 | K11: 110293 | L11: 106982
A12: lubuskie | B12: =E12+G12+K12 -> 10564 | C12: 10235 | D12: 20 | E12: 67 | F12: 55 | G12: 107 | H12: 91 | I12: 0 | J12: 0 | K12: 10390 | L12: 10089
A13: łódzkie | B13: =E13+G13+K13 -> 68204 | C13: 65628 | D13: 219 | E13: 643 | F13: 455 | G13: 784 | H13: 476 | I13: 0 | J13: 0 | K13: 66777 | L13: 64697
A14: małopolskie | B14: =E14+G14+K14 -> 100122 | C14: 97934 | D14: 56 | E14: 1632 | F14: 1439 | G14: 944 | H14: 780 | I14: 0 | J14: 0 | K14: 97546 | L14: 95715
A15: mazowieckie | B15: =E15+G15+K15 -> 119458 | C15: 115714 | D15: 1051 | E15: 966 | F15: 538 | G15: 1323 | H15: 923 | I15: 0 | J15: 0 | K15: 117169 | L15: 114253
A16: opolskie | B16: =E16+G16+K16 -> 18000 | C16: 17675 | D16: 4 | E16: 50 | F16: 35 | G16: 141 | H16: 116 | I16: 0 | J16: 0 | K16: 17809 | L16: 17524
A17: podkarpackie | B17: =E17+G17+K17 -> 66738 | C17: 65330 | D17: 16 | E17: 262 | F17: 214 | G17: 593 | H17: 521 | I17: 0 | J17: 0 | K17: 65883 | L17: 64595
A18: podlaskie | B18: =E18+G18+K18 -> 54540 | C18: 53493 | D18: 6 | E18: 182 | F18: 142 | G18: 527 | H18: 481 | I18: 0 | J18: 0 | K18: 53831 | L18: 52870
A19: pomorskie | B19: =E19+G19+K19 -> 27152 | C19: 26232 | D19: 33 | E19: 168 | F19: 78 | G19: 375 | H19: 234 | I19: 1 | J19: 0 | K19: 26609 | L19: 25920
A20: śląskie | B20: =E20+G20+K20 -> 25005 | C20: 24400 | D20: 21 | E20: 85 | F20: 56 | G20: 295 | H20: 242 | I20: 0 | J20: 0 | K20: 24625 | L20: 24102
... A24: zachodniopomorskie | B24: =E24+G24+K24 -> 18706 | C24: 17486 | D24: 24 | E24: 121 | F24: 41 | G24: 387 | H24: 168 | I24: 0 | J24: 0 | K24: 18198 | L24: 17277

Sheet Tab 2 (29) i 3 (30)
A1: ='Tab 4 (31)'!A1:H1 -> V. UBEZPIECZENIE SPOŁECZNE ROLNIKÓW
A2: TABLICA 2 (29). LICZBA UBEZPIECZONYCH WEDŁUG STATUSU UBEZPIECZONEGO | J2: Powrót do spisu treści
A3: Wyszczególnienie | B3: Ogółem 1) 2) 3) | C3: z tego:
C4: Fundusz Składkowy (ubezpieczenie wypadkowe, chorobowe i macierzyńskie na wniosek) | D4: Fundusz Składkowy (ubezpieczenie wypadkowe, chorobowe i macierzyńskie z mocy ustawy w zakresie ograniczonym) 1) | E4: Fundusz Emerytalno-Rentowy (ubezpieczenie emerytalno-rentowe na wniosek) | F4: Fundusz Emerytalno-Rentowy (ubezpieczenie emerytalno-rentowe z mocy ustawy) 2) | G4: Fundusz Składkowy i Emerytalno-Rentowy (łącznie objętych ubezpieczeniem wypadkowym, chorobowym i macierzyńskim oraz ubezpieczeniem emerytalno-rentowym) | H4: w tym: ubezpieczeni na wniosek
B5: ='Tab 1 (28)'!B7:L7 -> STAN NA DZIEŃ 30 CZERWCA 2022 R.
A6: OGÓŁEM | B6: =SUM(B8:B13) -> 1123333 | C6: =SUM(C8:C13) -> 9578 | D6: =SUM(D8:D13) -> 11305 | E6: =SUM(E8:E13) -> 15372 | F6: =SUM(F8:F13) -> 2 | G6: =SUM(G8:G13) -> 1087076 | H6: =SUM(H8:H13) -> 117925
A7: z tego:
A8: Liczba rolników | B8: =SUM(C8:G8) -> 667715 | C8: 5093 | D8: 0 | E8: 3166 | F8: 2 | G8: 659454 | H8: 74962
A9: Liczba współmałżonków | B9: =SUM(C9:G9) -> 290560 | C9: 1559 | D9: 0 | E9: 1426 | F9: 0 | G9: 287575 | H9: 23283
A10: Liczba domowników | B10: =SUM(C10:G10) -> 143200 | C10: 2926 | D10: 0 | E10: 227 | F10: 0 | G10: 140047 | H10: 19680
A11: Liczba pomocników rolnika | B11: =SUM(C11:G11) -> 11305 | C11: 0 | D11: 11305 | E11: 0 | F11: 0 | G11: 0 | H11: 0
A12: Liczba ubezpieczonych z tytułu przyznania świadczenia pielęgnacyjnego lub specjalnego zasiłku opiekuńczego albo zasiłku dla opiekuna | B12: =SUM(C12:G12) -> 10544 | C12: 0 | D12: 0 | E12: 10544 | F12: 0 | G12: 0 | H12: 0
A13: Liczba członków rodzin sprawujących opiekę nad dzieckiem 3) | B13: =SUM(C13:G13) -> 9 | C13: 0 | D13: 0 | E13: 9 | F13: 0 | G13: 0 | H13: 0
A14: 1) Liczba pomocników rolnika podlegających ubezpieczeniu wypadkowemu, chorobowemu i macierzyńskiemu z mocy ustawy w zakresie ograniczonym do jednorazowego odszkodowania z tytułu stałego lub długotrwałego uszczerbku na zdrowiu albo śmierci wskutek wypadku przy pracy rolniczej lub rolniczej choroby zawodowej z tytułu świadczenia odpłatnej pomocy przy zbiorach chmielu, owoców warzyw, tytoniu, ziół i roślin zielarskich.
A15: 2) Liczba rolników/współmałżonków podlegających obowiązkowo ubezpieczeniu z tytułu pobierania renty strukturalnej przyznanej i wypłacanej przez Agencję Restrukturyzacji i Modernizacji Rolnictwa zgodnie z ustawą z dnia 28 listopada 2003 r. o wspieraniu rozwoju obszarów wiejskich ze środków pochodzących z Sekcji Gwarancji Europejskiego Funduszu Orientacji i Gwarancji Rolnej.
A16: 3) Liczba członków rodzin (rolnika lub domownika) sprawujących opiekę nad dzieckiem podlegających ubezpieczeniu emerytalno-rentowemu na wniosek na podstawie art.16c ustawy o ubezpieczeniu społecznym rolników.
A18: TABLICA 3 (30). LICZBA UBEZPIECZONYCH I PŁATNIKÓW SKŁADEK
A19: Wyszczególnienie | B19: 2021 rok | D19: 2022 rok
B20: II kwartał (stan na dzień 30 czerwca) | C20: Przeciętna za I półrocze | D20: I kwartał (stan na dzień 31 marca) | E20: II kwartał (stan na dzień 30 czerwca) | F20: Przeciętna za I półrocze | G20: porównanie (wzrost/spadek)
G21: II kwartału 2022 r. z I kwartałem 2022 r. | H21: II kwartału 2022 r. z II kwartałem 2021 r. | I21: I półrocza 2022 r. z I półroczem 2021 r.
A22: LICZBA PŁATNIKÓW
A23: OGÓŁEM | B23: 878634 | C23: 881792 | D23: 858878 | E23: 851371 | F23: 855125 | G23: =E23/D23-1 -> -0.008740473 | H23: =E23/B23-1 -> -0.031028847 | I23: =F23/C23-1 -> -0.030241826
A24: Fundusz Składkowy | B24: 870152 | C24: 873328 | D24: 850258 | E24: 842635 | F24: 846447 | G24: =E24/D24-1 -> -0.008965514 | H24: =E24/B24-1 -> -0.031623211 | I24: =F24/C24-1 -> -0.030779959
A25: Fundusz Emerytalno-Rentowy | B25: 871713 | C25: 875006 | D25: 852753 | E25: 845281 | F25: 849017 | G25: =E25/D25-1 -> -0.008762209 | H25: =E25/B25-1 -> -0.030321906 | I25: =F25/C25-1 -> -0.029701511
A26: LICZBA UBEZPIECZONYCH
A27: OGÓŁEM | B27: 1173413 | C27: 1170243 | D27: 1127508 | E27: 1123333 | F27: 1125421 | G27: =E27/D27-1 -> -0.0037028562 | H27: =E27/B27-1 -> -0.04267892 | I27: =F27/C27-1 -> -0.038301447
A28: Fundusz Składkowy | B28: 1159050 | C28: 1156042 | D28: 1112519 | E28: 1107959 | F28: 1110239 | G28: =E28/D28-1 -> -0.0040988064 | H28: =E28/B28-1 -> -0.044080066 | I28: =F28/C28-1 -> -0.039620533
A29: Fundusz Emerytalno-Rentowy | B29: 1139330 | C29: 1145364 | D29: 1114056 | E29: 1102450 | F29: 1108253 | G29: =E29/D29-1 -> -0.010417789 | H29: =E29/B29-1 -> -0.032369902 | I29: =F29/C29-1 -> -0.032401053

Sheet Tab 4 (31)
A1: ='Tab 1 (28)'!A1:L1 -> V. UBEZPIECZENIE SPOŁECZNE ROLNIKÓW | I1: Powrót do spisu treści
A3: TABLICA 4 (31). LICZBA UBEZPIECZONYCH WEDŁUG WOJEWÓDZTW
A4: Wyszczególnienie | B4: Ogółem 1) 2) | C4: z tego:
C5: Fundusz Składkowy (ubezpieczenie wypadkowe, chorobowe i macierzyńskie na wniosek) | D5: Fundusz Składkowy (ubezpieczenie wypadkowe, chorobowe i macierzyńskie z mocy ustawy w zakresie ograniczonym) 1) | E5: Fundusz Emerytalno-Rentowy (ubezpieczenie emerytalno-rentowe na wniosek) | F5: Fundusz Emerytalno-Rentowy (ubezpieczenie emerytalno-rentowe z mocy ustawy)2) | G5: Fundusz Składkowy i Emerytalno-Rentowy (łącznie objętych ubezpieczeniem wypadkowym, chorobowym i macierzyńskim oraz ubezpieczeniem emerytalno-rentowym)
G6: Ogółem | H6: w tym ubezpieczeni na wniosek
B7: ='Tab 2 (29) i 3 (30)'!B5:H5 -> STAN NA DZIEŃ 30 CZERWCA 2022 R.
A8: OGÓŁEM | B8: =SUM(B9:B24) -> 1123333 | C8: =SUM(C9:C24) -> 9578 | D8: =SUM(D9:D24) -> 11305 | E8: =SUM(E9:E24) -> 15372 | F8: =SUM(F9:F24) -> 2 | G8: =SUM(G9:G24) -> 1087076 | H8: =SUM(H9:H24) -> 117925
A9: dolnośląskie | B9: =SUM(C9:G9) -> 38751 | C9: 134 | D9: 1088 | E9: 321 | F9: 1 | G9: 37207 | H9: 1776
A10: kujawsko-pomorskie | B10: =SUM(C10:G10) -> 60199 | C10: 753 | D10: 135 | E10: 739 | F10: 0 | G10: 58572 | H10: 2311
A11: lubelskie | B11: =SUM(C11:G11) -> 143322 | C11: 481 | D11: 1387 | E11: 1779 | F11: 0 | G11: 139675 | H11: 6389
A12: lubuskie | B12: =SUM(C12:G12) -> 13318 | C12: 80 | D12: 144 | E12: 117 | F12: 0 | G12: 12977 | H12: 1060
A13: łódzkie | B13: =SUM(C13:G13) -> 88664 | C13: 1001 | D13: 991 | E13: 991 | F13: 0 | G13: 85681 | H13: 6377
A14: małopolskie | B14: =SUM(C14:G14) -> 131445 | C14: 3438 | D14: 198 | E14: 1902 | F14: 0 | G14: 125907 | H14: 44716
A15: mazowieckie | B15: =SUM(C15:G15) -> 161447 | C15: 811 | D15: 4935 | E15: 1938 | F15: 0 | G15: 153763 | H15: 10049
A16: opolskie | B16: =SUM(C16:G16) -> 24074 | C16: 89 | D16: 19 | E16: 160 | F16: 0 | G16: 23806 | H16: 1440
A17: podkarpackie | B17: =SUM(C17:G17) -> 82071 | C17: 296 | D17: 108 | E17: 2214 | F17: 0 | G17: 79453 | H17: 14326
A18: podlaskie | B18: =SUM(C18:G18) -> 78578 | C18: 396 | D18: 248 | E18: 1123 | F18: 0 | G18: 76811 | H18: 4882
A19: pomorskie | B19: =SUM(C19:G19) -> 37420 | C19: 203 | D19: 210 | E19: 479 | F19: 1 | G19: 36527 | H19: 3619
A20: śląskie | B20: =SUM(C20:G20) -> 30916 | C20: 89 | D20: 133 | E20: 468 | F20: 0 | G20: 30226 | H20: 4507
... A24: zachodniopomorskie | B24: =SUM(C24:G24) -> 22501 | C24: 62 | D24: 142 | E24: 223 | F24: 0 | G24: 22074 | H24: 886
A25: 1) Liczba pomocników rolników świadczących pomoc przy zbiorach podlegających ubezpieczeniu z mocy ustawy w zakresie ograniczonym do świadczeń takich jak jednorazowe odszkodowanie z tytułu stałego lub długotrwałego uszczerbku na zdrowiu albo śmierci wskutek wypadku przy pracy rolniczej lub rolniczej choroby zawodowej.
A26: 2) Liczba rolników/współmałżonków ubezpieczonych obowiązkowo z tytułu pobierania renty strukturalnej przyznanej i wypłacanej przez Agencję Restrukturyzacji i Modernizacji Rolnictwa zgodnie z ustawą z dnia 28 listopada 2003 r. o wspieraniu rozwoju obszarów wiejskich ze środków pochodzących z Sekcji Gwarancji Europejskiego Funduszu Orientacji i Gwarancji Rolnej.

Sheet Tab 5 (32) i 6 (33)
A1: ='Tab 2 (29) i 3 (30)'!A1:I1 -> V. UBEZPIECZENIE SPOŁECZNE ROLNIKÓW
A2: TABLICA 5 (32). LICZBA UBEZPIECZONYCH Z TYTUŁU PROWADZENIA JEDNOCZEŚNIE DZIAŁALNOŚCI ROLNICZEJ I POZAROLNICZEJ DZIAŁALNOŚCI GOSPODARCZEJ WEDŁUG WOJEWÓDZTW | E2: Powrót do spisu treści
A3: Wyszczególnienie | B3: Ogółem | C3: z tego:
C4: rolnicy/współmałżonkowie | D4: domownicy
B6: ='Tab 4 (31)'!B7:H7 -> STAN NA DZIEŃ 30 CZERWCA 2022 R.
A7: OGÓŁEM | B7: =SUM(B8:B23) -> 75836 | C7: =SUM(C8:C23) -> 69508 | D7: =SUM(D8:D23) -> 6328
A8: dolnośląskie | B8: =SUM(C8:D8) -> 3378 | C8: 3090 | D8: 288
A9: kujawsko-pomorskie | B9: =SUM(C9:D9) -> 3445 | C9: 3248 | D9: 197
A10: lubelskie | B10: =SUM(C10:D10) -> 9210 | C10: 8697 | D10: 513
A11: lubuskie | B11: =SUM(C11:D11) -> 1296 | C11: 1173 | D11: 123
A12: łódzkie | B12: =SUM(C12:D12) -> 6731 | C12: 6236 | D12: 495
A13: małopolskie | B13: =SUM(C13:D13) -> 7779 | C13: 6700 | D13: 1079
A14: mazowieckie | B14: =SUM(C14:D14) -> 10317 | C14: 9652 | D14: 665
A15: opolskie | B15: =SUM(C15:D15) -> 1985 | C15: 1750 | D15: 235
A16: podkarpackie | B16: =SUM(C16:D16) -> 5708 | C16: 5305 | D16: 403
A17: podlaskie | B17: =SUM(C17:D17) -> 4087 | C17: 3776 | D17: 311
A18: pomorskie | B18: =SUM(C18:D18) -> 2432 | C18: 2183 | D18: 249
A19: śląskie | B19: =SUM(C19:D19) -> 3246 | C19: 2978 | D19: 268
... A23: zachodniopomorskie | B23: =SUM(C23:D23) -> 1980 | C23: 1869 | D23: 111
A25: TABLICA 6 (33). LICZBA UBEZPIECZONYCH W KRUS OBJĘTYCH JEDNOCZEŚNIE UBEZPIECZENIEM SPOŁECZNYM W ZUS Z TYTUŁU UMOWY ZLECENIA LUB PEŁNIENIA FUNKCJI W RADZIE NADZORCZEJ WEDŁUG WOJEWÓDZTW
A26: Wyszczególnienie | B26: Ogółem | C26: z tego:
C27: rolnicy/współmałżonkowie | D27: domownicy
B29: =B6 -> STAN NA DZIEŃ 30 CZERWCA 2022 R.
A30: OGÓŁEM | B30: =SUM(B31:B46) -> 11420 | C30: =SUM(C31:C46) -> 10244 | D30: =SUM(D31:D46) -> 1176
A31: dolnośląskie | B31: =SUM(C31:D31) -> 364 | C31: 315 | D31: 49
A32: kujawsko-pomorskie | B32: =SUM(C32:D32) -> 651 | C32: 605 | D32: 46
A33: lubelskie | B33: =SUM(C33:D33) -> 1336 | C33: 1234 | D33: 102
A34: lubuskie | B34: =SUM(C34:D34) -> 150 | C34: 138 | D34: 12
A35: łódzkie | B35: =SUM(C35:D35) -> 823 | C35: 749 | D35: 74
A36: małopolskie | B36: =SUM(C36:D36) -> 1335 | C36: 1130 | D36: 205
A37: mazowieckie | B37: =SUM(C37:D37) -> 1425 | C37: 1336 | D37: 89
A38: opolskie | B38: =SUM(C38:D38) -> 385 | C38: 315 | D38: 70
A39: podkarpackie | B39: =SUM(C39:D39) -> 683 | C39: 618 | D39: 65
A40: podlaskie | B40: =SUM(C40:D40) -> 1010 | C40: 907 | D40: 103
A41: pomorskie | B41: =SUM(C41:D41) -> 387 | C41: 327 | D41: 60
A42: śląskie | B42: =SUM(C42:D42) -> 302 | C42: 268 | D42: 34
... A46: zachodniopomorskie | B46: =SUM(C46:D46) -> 372 | C46: 339 | D46: 33

Sheet Tab 7 (34) i 8 (35)
A1: ='Tab 5 (32) i 6 (33)'!A1:D1 -> V. UBEZPIECZENIE SPOŁECZNE ROLNIKÓW
A2: TABLICA 7 (34). PRZYPIS I WPŁYWY NALEŻNOŚCI Z TYTUŁU SKŁADEK NA UBEZPIECZENIE SPOŁECZNE ROLNIKÓW WEDŁUG WOJEWÓDZTW | J2: Powrót do spisu treści
A3: Wyszczególnienie | B3: Przypis należności z tytułu składek | E3: Wpływy z tytułu należności składkowych | H3: Wskaźnik ściągalności (wpływy ogółem/przypis ogółem) | I3: Składki finansowane z budżetu państwa na ubezpieczenie emerytalno-rentowe za osoby sprawujące opiekę nad dzieckiem 1)
B4: Ogółem | C4: Fundusz Składkowy (ubezpieczenie wypadkowe, chorobowe i macierzyńskie) | D4: Fundusz Emerytalno-Rentowy (ubezpieczenie emerytalno-rentowe) | E4: Ogółem | F4: Fundusz Składkowy (ubezpieczenie wypadkowe, chorobowe i macierzyńskie) | G4: Fundusz Emerytalno-Rentowy (ubezpieczenie emerytalno-rentowe)
B5: ='Tab 1 (24) i 2 (25)'!B22:G22 -> II KWARTAŁ 2022 R.
B6: w złotych
A7: OGÓŁEM | B7: =SUM(B8:B23) -> 576349812 | C7: =SUM(C8:C23) -> 1.9711968e+08 | D7: =SUM(D8:D23) -> 3.7923014e+08 | E7: =SUM(E8:E23) -> 5.7502606e+08 | F7: =SUM(F8:F23) -> 1.9574664e+08 | G7: =SUM(G8:G23) -> 3.7927942e+08 | H7: =E7/B7 -> 0.99770322 | I7: =SUM(I8:I23) -> 14014815
A8: dolnośląskie | B8: =SUM(C8:D8) -> 21308533 | C8: 6801119.5 | D8: 14507414 | E8: 21286150 | F8: 6734362.3 | G8: 14551787 | H8: =E8/B8 -> 0.99894955 | I8: 239156
A9: kujawsko-pomorskie | B9: =SUM(C9:D9) -> 32246349 | C9: 10554966 | D9: 21691382 | E9: 32099541 | F9: 10447502 | G9: 21652039 | H9: =E9/B9 -> 0.99544732 | I9: 457274
A10: lubelskie | B10: =SUM(C10:D10) -> 72841484 | C10: 25242099 | D10: 47599385 | E10: 72140069 | F10: 24831825 | G10: 47308244 | H10: =E10/B10 -> 0.99037066 | I10: 2020325
A11: lubuskie | B11: =SUM(C11:D11) -> 7483357.9 | C11: 2354569.5 | D11: 5128788.3 | E11: 7501399.5 | F11: 2348318.6 | G11: 5153080.8 | H11: =E11/B11 -> 1.0024109 | I11: 86625
A12: łódzkie | B12: =SUM(C12:D12) -> 45300497 | C12: 15620355 | D12: 29680142 | E12: 45482165 | F12: 15617260 | G12: 29864906 | H12: =E12/B12 -> 1.0040103 | I12: 914001
A13: małopolskie | B13: =SUM(C13:D13) -> 64102606 | C13: 23054978 | D13: 41047629 | E13: 64152980 | F13: 23019484 | G13: 41133495 | H13: =E13/B13 -> 1.0007858 | I13: 2605347
A14: mazowieckie | B14: =SUM(C14:D14) -> 81274416 | C14: 28334970 | D14: 52939446 | E14: 81234889 | F14: 28123480 | G14: 53111409 | H14: =E14/B14 -> 0.99951366 | I14: 1755918
A15: opolskie | B15: =SUM(C15:D15) -> 13146568 | C15: 4226008.5 | D15: 8920559 | E15: 12968195 | F15: 4167449.7 | G15: 8800745.6 | H15: =E15/B15 -> 0.98643203 | I15: 255783
A16: podkarpackie | B16: =SUM(C16:D16) -> 40871012 | C16: 14147467 | D16: 26723545 | E16: 40848757 | F16: 14099636 | G16: 26749121 | H16: =E16/B16 -> 0.99945549 | I16: 1462214
A17: podlaskie | B17: =SUM(C17:D17) -> 39386272 | C17: 13815395 | D17: 25570877 | E17: 39300288 | F17: 13750020 | G17: 25550268 | H17: =E17/B17 -> 0.99781691 | I17: 1018637
A18: pomorskie | B18: =SUM(C18:D18) -> 19795135 | C18: 6561207.5 | D18: 13233928 | E18: 19592707 | F18: 6465682.4 | G18: 13127024 | H18: =E18/B18 -> 0.98977383 | I18: 439349
A19: śląskie | B19: =SUM(C19:D19) -> 16434598 | C19: 5463855.1 | D19: 10970743 | E19: 16364202 | F19: 5429359.4 | G19: 10934842 | H19: =E19/B19 -> 0.99571657 | I19: 272086
... A23: zachodniopomorskie | B23: =SUM(C23:D23) -> 12963218 | C23: 3929397.7 | D23: 9033820.1 | E23: 12889392 | F23: 3910617.7 | G23: 8978774.4 | H23: =E23/B23 -> 0.99430499 | I23: 79709
A24: 1) Składki finansowane z budżetu państwa na ubezpieczenie emerytalno-rentowe za osoby sprawujące osobistą opiekę nad dzieckiem; uprawnienie do finansowania składek jest związane z wiekiem dziecka, nad którym sprawowana jest osobista opieka i realizowane przez okres do 3 lat, nie dłużej jednak niż do ukończenia przez dziecko 5 roku życia, a w przypadku sprawowania opieki nad dzieckiem niepełnosprawnym przez okres 6 lat, nie dłużej jednak niż do ukończenia przez dziecko 18 roku życia.
A26: TABLICA 8 (35). DECYZJE O PODLEGANIU I USTANIU UBEZPIECZENIA SPOŁECZNEGO ROLNIKÓW WEDŁUG WOJEWÓDZTW
A27: Wyszczególnienie | B27: Liczba wydanych decyzji
B28: o podleganiu ubezpieczeniu społecznemu rolników | C28: o ustaniu ubezpieczenia społecznego rolników
B29: =B5 -> II KWARTAŁ 2022 R.
A30: OGÓŁEM | B30: =SUM(B31:B46) -> 25689 | C30: =SUM(C31:C46) -> 42628
A31: dolnośląskie | B31: 833 | C31: 1398
A32: kujawsko-pomorskie | B32: 986 | C32: 1893
A33: lubelskie | B33: 3252 | C33: 5407
A34: lubuskie | B34: 314 | C34: 492
A35: łódzkie | B35: 1960 | C35: 3202
A36: małopolskie | B36: 3887 | C36: 6075
A37: mazowieckie | B37: 2932 | C37: 4916
A38: opolskie | B38: 474 | C38: 941
A39: podkarpackie | B39: 2815 | C39: 4547
A40: podlaskie | B40: 1482 | C40: 2475
A41: pomorskie | B41: 724 | C41: 1187
A42: śląskie | B42: 780 | C42: 1203
... A46: zachodniopomorskie | B46: 497 | C46: 1014

Sheet Tab 1 (36) i 2 (37)
A1: VI. UBEZPIECZENIA ZDROWOTNE
A2: TABLICA 1 (36). LICZBA OSÓB PODLEGAJĄCYCH UBEZPIECZENIU ZDROWOTNEMU WEDŁUG WOJEWÓDZTW | N2: Powrót do spisu treści
A3: Wyszczególnienie | B3: Ogółem | C3: z tego: | L3: członkowie rodzin rolników i domowników 4) | M3: członkowie rodzin emerytów i rencistów 4)
C4: rolnicy prowadzący działalność rolniczą w gospodarstwach rolnych poniżej 6 ha przelicz.1) | D4: domownicy rolników pracujący w gospodarstwach rolnych poniżej 6 ha przelicz.1) | E4: rolnicy prowadzący działalność rolniczą w gospodarstwach rolnych 6 ha przelicz. i więcej | F4: domownicy pracujący w gospodarstwach rolnych 6 ha przelicz. i więcej | G4: rolnicy prowadzący gospodarstwo rolne i dział specjalny produkcji rolnej 2) | H4: rolnicy prowadzący wyłącznie działy specjalne produkcji rolnej 2) | I4: domownicy rolników pracujący wyłącznie w działach specjalnych produkcji rolnej 2) | J4: pomocnicy rolników 3) | K4: emeryci i renciści
B5: W CZERWCU 2022 ROKU
A6: Ogółem | B6: =SUM(B7:B22) -> 2113693 | C6: =SUM(C7:C22) -> 580164 | D6: =SUM(D7:D22) -> 93017 | E6: =SUM(E7:E22) -> 359588 | F6: =SUM(F7:F22) -> 49558 | G6: =SUM(G7:G22) -> 11343 | H6: =SUM(H7:H22) -> 2889 | I6: =SUM(I7:I22) -> 169 | ... M6: =SUM(M7:M22) -> 29153
A7: dolnośląskie | B7: =SUM(C7:K7) -> 76475 | C7: 17396 | D7: 2679 | E7: 14845 | F7: 2257 | G7: 422 | H7: 135 | I7: 6 | J7: 1248 | K7: 37487 | L7: 13762 | M7: 807
A8: kujawsko-pomorskie | B8: =SUM(C8:K8) -> 126992 | C8: 18934 | D8: 1858 | E8: 33168 | F8: 3764 | G8: 497 | H8: 124 | I8: 6 | J8: 147 | K8: 68494 | L8: 26234 | M8: 2039
A9: lubelskie | B9: =SUM(C9:K9) -> 270156 | C9: 74682 | D9: 7728 | E9: 51414 | F9: 5266 | G9: 532 | H9: 47 | I9: 0 | J9: 1548 | K9: 128939 | L9: 68278 | M9: 4042
A10: lubuskie | B10: =SUM(C10:K10) -> 26451 | C10: 6061 | D10: 950 | E10: 4829 | F10: 786 | G10: 257 | H10: 98 | I10: 7 | J10: 158 | K10: 13305 | L10: 5218 | M10: 354
A11: łódzkie | B11: =SUM(C11:K11) -> 175015 | C11: 47948 | D11: 5809 | E11: 28922 | F11: 3804 | G11: 1035 | H11: 140 | I11: 8 | J11: 1078 | K11: 86271 | L11: 36856 | M11: 1449
A12: małopolskie | B12: =SUM(C12:K12) -> 215814 | C12: 87063 | D12: 27695 | E12: 11123 | F12: 1785 | G12: 719 | H12: 132 | I12: 3 | J12: 239 | K12: 87055 | L12: 76587 | M12: 4249
A13: mazowieckie | B13: =SUM(C13:K13) -> 316377 | C13: 82724 | D13: 8956 | E13: 56005 | F13: 6070 | G13: 1745 | H13: 300 | I13: 23 | J13: 5304 | K13: 155250 | L13: 73069 | M13: 3652
A14: opolskie | B14: =SUM(C14:K14) -> 44120 | C14: 9709 | D14: 1728 | E14: 10407 | F14: 1879 | G14: 226 | H14: 67 | I14: 10 | J14: 18 | K14: 20076 | L14: 12257 | M14: 350
A15: podkarpackie | B15: =SUM(C15:K15) -> 137112 | C15: 60690 | D15: 9020 | E15: 7806 | F15: 1134 | G15: 410 | H15: 51 | I15: 4 | J15: 110 | K15: 57887 | L15: 40902 | M15: 1995
A16: podlaskie | B16: =SUM(C16:K16) -> 148998 | C16: 36283 | D16: 4885 | E16: 29794 | F16: 5283 | G16: 390 | H16: 41 | I16: 2 | J16: 257 | K16: 72063 | L16: 39451 | M16: 2367
A17: pomorskie | B17: =SUM(C17:K17) -> 69865 | C17: 17915 | D17: 3633 | E17: 12377 | F17: 2052 | G17: 482 | H17: 148 | I17: 10 | J17: 238 | K17: 33010 | L17: 19749 | M17: 1163
A18: śląskie | B18: =SUM(C18:K18) -> 58891 | C18: 18487 | D18: 3003 | E18: 6547 | F18: 1013 | G18: 908 | H18: 363 | I18: 26 | J18: 146 | K18: 28398 | L18: 11961 | M18: 621
... A22: zachodniopomorskie | B22: =SUM(C22:K22) -> 43784 | C22: 9218 | D22: 997 | E22: 10125 | F22: 1324 | G22: 290 | H22: 116 | I22: 7 | J22: 160 | K22: 21547 | L22: 8505 | M22: 537
A23: 1) Za rolników i domowników prowadzących działalność rolniczą w gospodarstwach rolnych poniżej 6 ha przeliczeniowych składka na ubezpieczenie zdrowotne finansowana jest z dotacji budżetowej.
A24: 2) Dział specjalny produkcji rolnej w rozumieniu ustawy o ubezpieczeniu społecznym rolników, o którym mowa w załączniku do ustawy o ubezpieczeniu społecznym rolników.
A25: 3) Obowiązek ubezpieczenia zdrowotnego pomocników rolnika powstaje od dnia zgłoszenia do tego ubezpieczenia w trybie ustawy o ubezpieczeniu społecznym rolników, a ustaje z dniem rozwiązania lub wygaśnięcia umowy o pomocy przy zbiorach.
A26: 4) Za członków rodzin rolników, domowników i świadczeniobiorców nie jest odprowadzana składka na ubezpieczenie zdrowotne.
A27: TABLICA 2 (37). PRZYPIS SKŁADEK NA UBEZPIECZENIE ZDROWOTNE
A28: Wyszczególnienie | C28: I PÓŁROCZE 2022 R.
C29: Kwota w złotych
A30: Ogółem z tego: | C30: =SUM(C31:C34) -> 1.7978247e+09
A31: składka od emerytów i rencistów | C31: 837596986
A32: składka za rolników i domowników | C32: 931002000
A33: składka za pomocników rolnika | C33: 5910767.2
A34: działy specjalne produkcji rolnej | C34: 23314937

Sheet Strona końcowa
A1: Oddziały Regionalne Kasy Rolniczego Ubezpieczenia Społecznego
A27: Opracowano w Biurze Statystyki na podstawie danych statystycznych Kasy Rolniczego Ubezpieczenia Społecznego.
A31: www.krus.gov.pl
