Workbook

Sheet Strona tytułowa
B6: KASA ROLNICZEGO UBEZPIECZENIA SPOŁECZNEGO
A15: KWARTALNA INFORMACJA STATYSTYCZNA
A17: II KWARTAŁ 2022 R.
A34: Warszawa 2022 rok

Sheet Spis treści
A1: SPIS TREŚCI
B2: Nr | C2: Str.
A3: Uwagi wstępne | B3: x | C3: 5
A4: Objaśnienia znaków umownych | B4: x | C4: 11
A5: Objaśnienia skrótów | B5: x | C5: 11
A6: SPIS TABLIC STATYSTYCZNYCH
A7: I. EMERYTURY I RENTY REALIZOWANE PRZEZ KRUS
A8: Emerytury i renty | B8: 1 | C8: 12
A9: Zwiększenia do emerytur i rent finansowane z Funduszu Emerytalno-Rentowego, wypłacane przy świadczeniach pracowniczych | B9: 2 | C9: 13
A10: Wnioski o przyznanie emerytur i rent według rodzajów świadczeń | B10: 3 | C10: 13
A11: Decyzje i postępowania umorzone w sprawach o emerytury i renty według rodzajów świadczeń | B11: 4 | C11: 14
A12: Decyzje i postępowania umorzone w sprawach o emerytury i renty według województw | B12: 5 | C12: 14
A13: Wnioski o przyznanie emerytur i rent rolniczych rozpatrywane z zastosowaniem przepisów wspólnotowych UE | B13: 6 | C13: 15
A14: Decyzje w sprawach wniosków o przyznanie emerytur i rent rolniczych z zastosowaniem przepisów wspólnotowych UE | B14: 7 | C14: 15
A15: Wnioski o przyznanie emerytur i rent rolniczych z zastosowaniem postanowień umów dwustronnych o zabezpieczeniu społecznym | B15: 8 | C15: 16
A16: Decyzje w sprawach wniosków o przyznanie emerytur i rent rolniczych z zastosowaniem postanowień umów dwustronnych o zabezpieczeniu społecznym | B16: 9 | C16: 16
A17: Świadczenia emerytalno-rentowe transferowane do poszczególnych państw UE/EFTA i Wielkiej Brytanii oraz do innych państw na podstawie umów dwustronnych | B17: 10 | C17: 17
A18: II. FUNDUSZ EMERYTALNO-RENTOWY
A19: 1. EMERYTURY I RENTY
A20: Przeciętna miesięczna liczba emerytur i rent według rodzajów świadczeń | B20: 1 (11) | C20: 18
A21: Liczba ubezpieczonych oraz przeciętna miesięczna liczba świadczeniobiorców według województw | B21: 2 (12) | C21: 19
A22: Przeciętne miesięczne świadczenia emerytalno-rentowe według województw | B22: 3 (13) | C22: 20
A23: Przeciętna miesięczna liczba emerytur i rent według województw oraz świadczeń emerytalnych wypłaconych przez MON, MSWiA i MS | B23: 4 (14) | C23: 21
A24: Wydatki na świadczenia emerytalno-rentowe według rodzajów świadczeń | B24: 5 (15) | C24: 22
A25: Wydatki na świadczenia emerytalno-rentowe według województw oraz świadczenia emerytalne wypłacone przez MON, MSWiA i MS | B25: 6 (16) | C25: 24
A26: Przeciętne miesięczne świadczenie emerytalno-rentowe według rodzajów świadczeń | B26: 7 (17) | C26: 25
A27: Przeciętne miesięczne świadczenie emerytalno-rentowe według województw oraz przeciętne miesięczne świadczenie emerytalne wypłacone przez MON, MSWiA i MS | B27: 8 (18) | C27: 26
B28: Nr | C28: Str.
A29: 2. ZASIŁKI
A30: Zasiłki macierzyńskie | B30: 9 (19) | C30: 27
A31: Zasiłki macierzyńskie według województw | B31: 10 (20) | C31: 27
A32: Zasiłki pogrzebowe | B32: 11 (21) | C32: 28
A33: Zasiłki pogrzebowe według województw | B33: 12 (22) | C33: 28
A34: III. ŚWIADCZENIA FINANSOWANE Z BUDŻETU PAŃSTWA
A35: Świadczenia finansowane z budżetu państwa zlecone do wypłaty Kasie Rolniczego Ubezpieczenia Społecznego | B35: 1 (23) | C35: 29
A36: IV. FUNDUSZ SKŁADKOWY UBEZPIECZENIA SPOŁECZNEGO ROLNIKÓW
A37: Zasiłki chorobowe i jednorazowe odszkodowania | B37: 1 (24) | C37: 30
A38: Zasiłki chorobowe i jednorazowe odszkodowania według województw | B38: 2 (25) | C38: 30
A39: Wypadki przy pracy rolniczej i choroby zawodowe rolników | B39: 3 (26) | C39: 32
A40: Wypadki i choroby zawodowe, z tytułu których przyznano jednorazowe odszkodowania według województw | B40: 4 (27) | C40: 32
...

Sheet Uwagi wstępne
A1: UWAGI WSTĘPNE | C1: Powrót do spisu treści
B2: Kwartalna Informacja Statystyczna zawiera podstawowe dane, zagregowane tematycznie, dotyczące realizacji zadań wynikających z ustawy z dnia 20 grudnia 1990 r. o ubezpieczeniu społecznym rolników oraz zadań zleconych do wypłaty Kasie Rolniczego Ubezpieczenia Społecznego.
B3: Ze względu na zaokrąglenia danych, w niektórych przypadkach sumy składników mogą się różnić od podanych wielkości "ogółem".
B4: Przeciętne i wskaźniki obliczono z reguły na podstawie danych liczbowych, wyrażonych z większą dokładnością niż podano w tablicach.
A5: I. | B5: Dział Emerytury i renty realizowane przez KRUS zawiera informacje dotyczące m.in. przyznawania i wypłat świadczeń emerytalno-rentowych.
B6: Kwoty wypłat emerytur i rent wykazywane są łącznie z:
B7: - wypłatami z innych systemów ubezpieczeniowych w przypadku zbiegu uprawnień do świadczeń z tych systemów z uprawnieniami do świadczeń z funduszu emerytalno-rentowego,
B8: - wypłatami dokonywanymi w związku z zatrudnieniem poza rolnictwem, czynną służbą wojskową i działalnością kombatancką na podstawie art. 25 ust. 2a ustawy o ubezpieczeniu społecznym rolników,
B9: Ponadto:
B10: - emerytury prezentowane są łącznie z rodzicielskimi świadczeniami uzupełniającymi, ze świadczeniami rolnymi w wysokości 50% ze względu na uprawnienia do świadczeń pracowniczych zbiegających się ze świadczeniami zagranicznymi oraz z emeryturami finansowanymi z funduszu emerytalno-rentowego, a wypłaconymi przez MON, MSWiA, MS,
B11: - renty prezentowane są łącznie z rentami socjalnymi.
B12: Świadczenia pracownicze wypłacane przy świadczeniach rolniczych, finansowane są z Funduszu Ubezpieczeń Społecznych, którym dysponuje Zakład Ubezpieczeń Społecznych.
B13: W związku z akcesją Polski do Unii Europejskiej, KRUS realizuje zadania wynikające z przepisów rozporządzeń unijnych w sprawie koordynacji systemów zabezpieczenia społecznego. Zadania te realizuje Centrala KRUS jako instytucja łącznikowa oraz wytypowane jednostki organizacyjne KRUS, pełniące funkcję instytucji właściwych w postępowaniu międzynarodowym, są to: Oddział Regionalny KRUS w Krakowie – Wydział Świadczeń Zagranicznych w Nowym Sączu oraz Placówka Terenowa KRUS w Ostrowie Wielkopolskim.
B14: Ponadto Kasa realizuje zadania wynikające z zawartych umów dwustronnych o zabezpieczeniu społecznym. Zadania te realizuje Centrala KRUS, jako instytucja łącznikowa oraz Oddział Regionalny KRUS w Krakowie - Wydział Świadczeń Zagranicznych w Nowym Sączu, pełniący funkcje instytucji właściwej w postępowaniu międzynarodowym.
A15: II. | B15: Dział Fundusz Emerytalno-Rentowy zawiera informacje dotyczące świadczeń pieniężnych z ubezpieczenia emerytalno-rentowego, finansowanych z funduszu emerytalno-rentowego, tj.:
B16: • emerytura rolnicza przysługuje ubezpieczonemu (rolnikowi, domownikowi), który spełnia łącznie następujące warunki:
B17: - osiągnął wiek emerytalny - który wynosi 60 lat dla kobiety i 65 lat dla mężczyzny,
B18: - podlegał ubezpieczeniu emerytalno-rentowemu przez okres co najmniej 25 lat.
B19: Emerytury prezentowane są łącznie ze świadczeniami rolnymi w wysokości 50% ze względu na uprawnienia do świadczeń pracowniczych zbiegających się ze świadczeniami zagranicznymi oraz z emeryturami finansowanymi z funduszu emerytalno-rentowego, a wypłaconymi przez MON, MSWiA i MS.
B20: • renta rolnicza z tytułu niezdolności do pracy przysługuje ubezpieczonemu (rolnikowi, domownikowi), który spełnia łącznie następujące warunki:
B21: - podlegał ubezpieczeniu emerytalno-rentowemu przez wymagany okres wynoszący od 1 roku do 5 lat w zależności od wieku, w jakim powstała całkowita niezdolność do pracy.
B22: - jest trwale lub okresowo całkowicie niezdolny do pracy w gospodarstwie rolnym,
B23: - całkowita niezdolność do pracy w gospodarstwie rolnym powstała w okresie podlegania ubezpieczeniu emerytalno-rentowemu lub nie później niż w ciągu 18 miesięcy od ustania tych okresów,
B24: • renta rodzinna przysługuje uprawnionym członkom rodziny zmarłego emeryta/rencisty oraz ubezpieczonego, który w chwili śmierci spełniał warunki do uzyskania emerytury rolniczej lub renty rolniczej z tytułu niezdolności do pracy.
B25: Za członków rodziny uprawnionych do renty rodzinnej uznaje się przede wszystkim dzieci do ukończenia 16 lat, a jeżeli przekroczyły ten wiek - do ukończenia nauki w szkole, nie dłużej jednak niż do osiągnięcia 25 lat życia oraz dzieci bez względu na wiek, jeżeli w okresie nauki stały się całkowicie niezdolne do pracy. Ponadto, jeżeli dziecko osiągnęło 25 lat życia, będąc na ostatnim roku studiów, prawo do renty rodzinnej przedłuża się do zakończenia tego roku studiów. Na równi z dziećmi traktowane są przyjęte na utrzymanie i wychowanie wnuki oraz rodzeństwo.
B26: Z prawa do renty rodzinnej mogą korzystać także małżonek zmarłego (wdowa, wdowiec) i rodzice, o ile spełnią warunki do tego świadczenia. Wszystkim uprawnionym członkom rodziny przysługuje jedna wspólna renta rodzinna, która może ulec podziałowi pomiędzy uprawnionych na równe części.
B27: • dodatek pielęgnacyjny przysługuje osobie uprawnionej do emerytury lub renty, jeżeli osoba ta została uznana za całkowicie niezdolną do pracy oraz do samodzielnej egzystencji albo ukończyła 75 lat.
... B42: Kwota nie obejmuje należnych świadczeń z innych systemów ubezpieczeniowych, wypłacanych w tzw. zbiegu z emeryturą lub rentą rolną.
A43: III. | B43: Dział Świadczenia finansowane z budżetu państwa zawiera informacje dotyczące świadczeń finansowanych z budżetu państwa zleconych do wypłaty KRUS, tj.:
B44: - świadczeń pieniężnych dla inwalidów wojennych, wojskowych i osób represjonowanych,
B45: - zasiłków pogrzebowych wypłaconych po osobach pobierających wyżej wymienione świadczenia i po członkach ich rodzin,
B46: - dodatków kombatanckich,
B47: - dodatków pieniężnych dla inwalidów wojennych,
B48: - ryczałtów energetycznych,
B49: - świadczeń pieniężnych dla żołnierzy zastępczej służby wojskowej,
B50: - świadczeń pieniężnych dla osób deportowanych do pracy przymusowej,
B51: - dodatków kompensacyjnych,
B52: - świadczeń pieniężnych dla cywilnych niewidomych ofiar działań wojennych,
B53: - dodatków dla weterana poszkodowanego,
B54: - rodzicielskich świadczeń uzupełniających,
...

Sheet Objaśnienia i skróty
A1: OBJAŚNIENIA ZNAKÓW UMOWNYCH | C1: Powrót do spisu treści
A3: Symbol | B3: Opis
A4: Kreska (-) | B4: zjawisko nie wystąpiło
A5: Zero (0) | B5: zjawisko istniało w wielkości mniejszej od 0,5
A6: Zero (0,0) | B6: zjawisko istniało w wielkości mniejszej od 0,05
A7: Kropka (.) | B7: brak informacji albo brak informacji wiarygodnych
A8: Znak (x) | B8: wypełnienie pozycji jest niemożliwe lub niecelowe
A9: „w tym” | B9: oznacza, że nie podaje się wszystkich składników sumy
A10: "z tego" | B10: oznacza, że podaje się wszystkie składniki sumy
A12: OBJAŚNIENIA SKRÓTÓW
A14: Skrót | B14: Znaczenie
A15: KRUS | B15: Kasa Rolniczego Ubezpieczenia Społecznego
A16: ZUS | B16: Zakład Ubezpieczeń Społecznych
A17: Fundusz Składkowy | B17: Fundusz Składkowy Ubezpieczenia Społecznego Rolników
A18: MON | B18: Ministerstwo Obrony Narodowej
A19: MSWiA | B19: Zakład Emerytalno-Rentowy Ministerstwa Spraw Wewnętrznych i Administracji
A20: MS | B20: Ministerstwo Sprawiedliwości
A21: NFZ | B21: Narodowy Fundusz Zdrowia
A22: FER | B22: Fundusz Emerytalno-Rentowy
A23: UE | B23: Unia Europejska
A24: EFTA | B24: Europejskie Stowarzyszenie Wolnego Handlu
A25: zł | B25: złoty

Sheet Tab 1
A1: I. EMERYTURY I RENTY REALIZOWANE PRZEZ KRUS | J1: Powrót do spisu treści
A2: TABLICA 1. EMERYTURY I RENTY
A3: Wyszczególnienie | B3: 2021 rok | D3: 2022 rok
B4: II kwartał | C4: I półrocze | D4: I kwartał | E4: II kwartał | F4: I półrocze | G4: porównanie (wzrost/spadek)
G5: II kwartału 2022 r. z I kwartałem 2022 r. | H5: II kwartału 2022 r. z II kwartałem 2021 r. | I5: I półrocza 2022 r. z I półroczem 2021 r.
A6: OGÓŁEM
A7: Przeciętna miesięczna liczba świadczeniobiorców | B7: 1041084 | C7: 1047548 | D7: 1005612 | E7: 995710 | F7: 1000661 | G7: =E7/D7-1 -> -0.0098467401 | H7: =E7/B7-1 -> -0.043583419 | I7: =F7/C7-1 -> -0.044758808
A8: w tym świadczenia zbiegowe pracownicze | B8: 46901 | C8: 48056 | D8: 40762 | E8: 38774 | F8: 39768 | G8: =E8/D8-1 -> -0.048770914 | H8: =E8/B8-1 -> -0.17327989 | I8: =F8/C8-1 -> -0.17246546
A9: Kwota wypłat w zł | B9: 4.4925939e+09 | C9: 8.9296144e+09 | D9: 4.3963712e+09 | E9: 4.5008074e+09 | F9: 8.8971786e+09 | G9: =E9/D9-1 -> 0.023755104 | H9: =E9/B9-1 -> 0.0018282258 | I9: =F9/C9-1 -> -0.003632387
A10: w tym świadczenia zbiegowe pracownicze | B10: 2.228906e+08 | C10: 4.498973e+08 | D10: 1.9813219e+08 | E10: 1.9821582e+08 | F10: 3.9634801e+08 | G10: =E10/D10-1 -> 0.00042211112 | H10: =E10/B10-1 -> -0.11070355 | I10: =F10/C10-1 -> -0.1190256
A11: Przeciętne świadczenie w zł | B11: 1438.44 | C11: 1420.72 | D11: 1457.28 | E11: 1506.73 | F11: 1481.88 | G11: =E11/D11-1 -> 0.033933081 | H11: =E11/B11-1 -> 0.047475042 | I11: =F11/C11-1 -> 0.043048595
A12: EMERYTURY
A13: Przeciętna miesięczna liczba świadczeniobiorców | B13: 814476 | C13: 820365 | D13: 784324 | E13: 774928 | F13: 779626 | G13: =E13/D13-1 -> -0.011979743 | H13: =E13/B13-1 -> -0.048556372 | I13: =F13/C13-1 -> -0.049659603
A14: Kwota wypłat w zł | B14: 3.5337287e+09 | C14: 7.030746e+09 | D14: 3.4393928e+09 | E14: 3.5142178e+09 | F14: 6.9536106e+09 | G14: =E14/D14-1 -> 0.021755284 | H14: =E14/B14-1 -> -0.005521327 | I14: =F14/C14-1 -> -0.010971152
A15: Przeciętne świadczenie w zł | B15: 1446.22 | C15: 1428.38 | D15: 1461.72 | E15: 1511.63 | F15: 1486.53 | G15: =E15/D15-1 -> 0.034144706 | H15: =E15/B15-1 -> 0.04522825 | I15: =F15/C15-1 -> 0.040710455
A16: RENTY Z TYTUŁU NIEZDOLNOŚCI DO PRACY
A17: Przeciętna miesięczna liczba świadczeniobiorców | B17: 184440 | C17: 185177 | D17: 179636 | E17: 178874 | F17: 179255 | G17: =E17/D17-1 -> -0.0042419114 | H17: =E17/B17-1 -> -0.030177836 | I17: =F17/C17-1 -> -0.031980214
A18: w tym renty z tytułu niezdolności do pracy wypadkowe | B18: 12261 | C18: 12308 | D18: 12042 | E18: 12018 | F18: 12030 | G18: =E18/D18-1 -> -0.0019930244 | H18: =E18/B18-1 -> -0.019818938 | I18: =F18/C18-1 -> -0.022586935
A19: Kwota wypłat w zł | B19: 7.2399715e+08 | C19: 1.4359441e+09 | D19: 7.1876837e+08 | E19: 7.3753799e+08 | F19: 1.4563064e+09 | G19: =E19/D19-1 -> 0.026113579 | H19: =E19/B19-1 -> 0.018702888 | I19: =F19/C19-1 -> 0.014180392
A20: w tym renty z tytułu niezdolności do pracy wypadkowe | B20: 52800017 | C20: 1.043554e+08 | D20: 52666971 | E20: 53968508 | F20: 1.0663548e+08 | G20: =E20/D20-1 -> 0.024712601 | H20: =E20/B20-1 -> 0.022130512 | I20: =F20/C20-1 -> 0.021849181
A21: Przeciętne świadczenie w zł | B21: 1308.46 | C21: 1292.41 | D21: 1333.75 | E21: 1374.41 | F21: 1354.03 | G21: =E21/D21-1 -> 0.030485473 | H21: =E21/B21-1 -> 0.050402764 | I21: =F21/C21-1 -> 0.047678368
A22: RENTY RODZINNE
A23: Przeciętna miesięczna liczba świadczeniobiorców | B23: 42168 | C23: 42005 | D23: 41652 | E23: 41908 | F23: 41780 | G23: =E23/D23-1 -> 0.0061461634 | H23: =E23/B23-1 -> -0.0061658129 | I23: =F23/C23-1 -> -0.0053565052
A24: Kwota wypłat w zł | B24: 2.3484263e+08 | C24: 4.6287398e+08 | D24: 2.381869e+08 | E24: 2.4903067e+08 | F24: 4.8721757e+08 | G24: =E24/D24-1 -> 0.045526346 | H24: =E24/B24-1 -> 0.060415128 | I24: =F24/C24-1 -> 0.052592272
A25: Przeciętne świadczenie w zł | B25: 1856.4 | C25: 1836.58 | D25: 1906.18 | E25: 1980.76 | F25: 1943.58 | G25: =E25/D25-1 -> 0.039125371 | H25: =E25/B25-1 -> 0.066989873 | I25: =F25/C25-1 -> 0.058260462
A26: ŚWIADCZENIA PIENIĘŻNE DLA CYWILNYCH NIEWIDOMYCH OFIAR DZIAŁAŃ WOJENNYCH
A27: Kwota wypłat w zł | B27: 25514.64 | C27: 50337.44 | D27: 23086.28 | E27: 20977.5 | F27: 44063.78 | G27: =E27/D27-1 -> -0.09134343 | H27: =E27/B27-1 -> -0.17782497 | I27: =F27/C27-1 -> -0.12463208

Sheet Tab 2 i 3
A1: ='Tab 1'!A1:I1 -> I. EMERYTURY I RENTY REALIZOWANE PRZEZ KRUS | J1: Powrót do spisu treści
A3: TABLICA 2. ZWIĘKSZENIA DO EMERYTUR I RENT FINANSOWANE Z FUNDUSZU EMERYTALNO-RENTOWEGO, WYPŁACANE PRZY ŚWIADCZENIACH PRACOWNICZYCH
A4: Wyszczególnienie | B4: 2021 rok | D4: 2022 rok
B5: II kwartał | C5: I półrocze | D5: I kwartał | E5: II kwartał | F5: I półrocze | G5: porównanie (wzrost/spadek)
G6: II kwartału 2022 r. z I kwartałem 2022 r. | H6: II kwartału 2022 r. z II kwartałem 2021 r. | I6: I półrocza 2022 r. z I półroczem 2021 r.
A7: OGÓŁEM
A8: Przeciętna miesięczna liczba osób | B8: 634685 | C8: 636345 | D8: 629189 | E8: 627606 | F8: 628398 | G8: =E8/D8-1 -> -0.0025159372 | H8: =E8/B8-1 -> -0.011153564 | I8: =F8/C8-1 -> -0.012488509
A9: Kwota wypłat w zł | B9: 1.865885e+08 | C9: 3.6840753e+08 | D9: 1.9144891e+08 | E9: 1.9915657e+08 | F9: 3.9060547e+08 | G9: =E9/D9-1 -> 0.04025963 | H9: =E9/B9-1 -> 0.067357118 | I9: =F9/C9-1 -> 0.06025378
A10: EMERYTURY
A11: Przeciętna miesięczna liczba osób | B11: 510579 | C11: 512026 | D11: 507693 | E11: 506853 | F11: 507273 | G11: =E11/D11-1 -> -0.0016545432 | H11: =E11/B11-1 -> -0.0072975974 | I11: =F11/C11-1 -> -0.0092827317
A12: Kwota wypłat w zł | B12: 1.6566523e+08 | C12: 3.269608e+08 | D12: 1.7015784e+08 | E12: 1.7723166e+08 | F12: 3.473895e+08 | G12: =E12/D12-1 -> 0.041572142 | H12: =E12/B12-1 -> 0.069818136 | I12: =F12/C12-1 -> 0.0624806
A13: RENTY Z TYTUŁU NIEZDOLNOŚCI DO PRACY
A14: Przeciętna miesięczna liczba osób | B14: 10753 | C14: 10852 | D14: 10182 | E14: 9850 | F14: 10016 | G14: =E14/D14-1 -> -0.032606561 | H14: =E14/B14-1 -> -0.083976565 | I14: =F14/C14-1 -> -0.077036491
A15: Kwota wypłat w zł | B15: 3104145.8 | C15: 6191667.2 | D15: 3037260.2 | E15: 3047368.5 | F15: 6084628.7 | G15: =E15/D15-1 -> 0.0033281179 | H15: =E15/B15-1 -> -0.018290797 | I15: =F15/C15-1 -> -0.017287501
A16: RENTY RODZINNE
A17: Przeciętna miesięczna liczba osób | B17: 113353 | C17: 113466 | D17: 111314 | E17: 110903 | F17: 111109 | G17: =E17/D17-1 -> -0.0036922579 | H17: =E17/B17-1 -> -0.021613896 | I17: =F17/C17-1 -> -0.020772742
A18: Kwota wypłat w zł | B18: 17819130 | C18: 35255062 | D18: 18253806 | E18: 18877534 | F18: 37131340 | G18: =E18/D18-1 -> 0.034169741 | H18: =E18/B18-1 -> 0.059397045 | I18: =F18/C18-1 -> 0.053220092
A20: TABLICA 3. WNIOSKI O PRZYZNANIE EMERYTUR I RENT WEDŁUG RODZAJÓW ŚWIADCZEŃ
A21: Wyszczególnienie | B21: Wnioski pozostałe z poprzedniego okresu | C21: Zarejestrowane wnioski | D21: Załatwione wnioski | F21: Wnioski pozostałe do załatwienia w następnym okresie
D22: Razem | E22: w tym po terminie ustawowym
B23: II KWARTAŁ 2022 R.
A24: OGÓŁEM | B24: =B25+B27+B31 -> 18236 | C24: =C25+C27+C31 -> 18836 | D24: =D25+D27+D31 -> 20905 | E24: =E25+E27+E31 -> 1 | F24: =F25+F27+F31 -> 16167
A25: Emerytury razem | B25: 1609 | C25: 6171 | D25: 5185 | E25: 1 | F25: 2595
A26: w tym wcześniejsze | B26: 2 | C26: 3 | D26: 5 | E26: 0 | F26: 0
A27: Renty razem, z tego: | B27: =B28+B30 -> 16627 | C27: =C28+C30 -> 12665 | D27: =D28+D30 -> 15720 | E27: =E28+E30 -> 0 | F27: =F28+F30 -> 13572
A28: Renty z tytułu niezdolności do pracy | B28: 16278 | C28: 11622 | D28: 14584 | E28: 0 | F28: 13316
A29: w tym renty z tytułu niezdolności do pracy wypadkowe | B29: 766 | C29: 549 | D29: 676 | E29: 0 | F29: 639
A30: Renty rodzinne | B30: 349 | C30: 1043 | D30: 1136 | E30: 0 | F30: 256
A31: Emerytury i renty z art. 9 ustawy z dnia 24 lutego 1990 r. | B31: 0 | C31: 0 | D31: 0 | E31: 0 | F31: 0

Sheet Tab 4 i 5
A1: ='Tab 2 i 3'!A1:F1 -> I. EMERYTURY I RENTY REALIZOWANE PRZEZ KRUS | H1: Powrót do spisu treści
A2: TABLICA 4. DECYZJE I POSTĘPOWANIA UMORZONE W SPRAWACH O EMERYTURY I RENTY WEDŁUG RODZAJÓW ŚWIADCZEŃ
A3: Wyszczególnienie | B3: Liczba wydanych decyzji i postępowań umorzonych | C3: Liczba wydanych decyzji | G3: Postępowania umorzone
C4: Ogółem | D4: przyznających świadczenia | E4: odmownych | F4: udział odmownych decyzji do ogółem wydanych decyzji
B5: ='Tab 2 i 3'!B23:F23 -> II KWARTAŁ 2022 R.
A6: OGÓŁEM | B6: =C6+G6 -> 20905 | C6: =D6+E6 -> 20624 | D6: =D7+D9+D13 -> 18785 | E6: =E7+E9 -> 1839 | F6: =E6/C6 -> 0.08916796 | G6: =G7+G9 -> 281
A7: Emerytury razem | B7: 5185 | C7: 5119 | D7: 4696 | E7: 423 | F7: =E7/C7 -> 0.082633327 | G7: 66
A8: w tym wcześniejsze | B8: 5 | C8: 5 | D8: 5 | E8: 0 | F8: =E8/C8 -> 0 | G8: 0
A9: Renty razem, z tego: | B9: 15720 | C9: 15505 | D9: 14089 | E9: 1416 | F9: =E9/C9 -> 0.091325379 | G9: 215
A10: Renty z tytułu niezdolności do pracy razem | B10: 14584 | C10: 14400 | D10: 13056 | E10: 1344 | F10: =E10/C10 -> 0.093333333 | G10: 184
A11: w tym renty z tytułu niezdolności do pracy wypadkowe | B11: 676 | C11: 669 | D11: 559 | E11: 110 | F11: =E11/C11 -> 0.16442451 | G11: 7
A12: Renty rodzinne | B12: 1136 | C12: 1105 | D12: 1033 | E12: 72 | F12: =E12/C12 -> 0.065158371 | G12: 31
A13: Emerytury i renty z art. 9 ustawy z dnia 24 lutego 1990 r. | B13: 0 | C13: 0 | D13: 0 | E13: 0 | F13: - | G13: 0
A15: TABLICA 5. DECYZJE I POSTĘPOWANIA UMORZONE W SPRAWACH O EMERYTURY I RENTY WEDŁUG WOJEWÓDZTW
A16: Wyszczególnienie | B16: Liczba wydanych decyzji i postępowań umorzonych | C16: Liczba wydanych decyzji | G16: Postępowania umorzone
C17: Ogółem | D17: przyznających świadczenia | E17: odmownych | F17: udział odmownych decyzji do ogółem wydanych decyzji
B18: =B5 -> II KWARTAŁ 2022 R.
A19: OGÓŁEM | B19: =SUM(B20:B35) -> 20905 | C19: =SUM(C20:C35) -> 20624 | D19: =SUM(D20:D35) -> 18785 | E19: =SUM(E20:E35) -> 1839 | F19: =E19/C19 -> 0.08916796 | G19: =SUM(G20:G35) -> 281
A20: dolnośląskie | B20: =C20+G20 -> 615 | C20: =SUM(D20:E20) -> 606 | D20: 542 | E20: 64 | F20: =E20/C20 -> 0.10561056 | G20: 9
A21: kujawsko-pomorskie | B21: =C21+G21 -> 1302 | C21: =SUM(D21:E21) -> 1288 | D21: 1206 | E21: 82 | F21: =E21/C21 -> 0.063664596 | G21: 14
A22: lubelskie | B22: =C22+G22 -> 2459 | C22: =SUM(D22:E22) -> 2425 | D22: 2113 | E22: 312 | F22: =E22/C22 -> 0.12865979 | G22: 34
A23: lubuskie | B23: =C23+G23 -> 238 | C23: =SUM(D23:E23) -> 231 | D23: 217 | E23: 14 | F23: =E23/C23 -> 0.060606061 | G23: 7
A24: łódzkie | B24: =C24+G24 -> 1564 | C24: =SUM(D24:E24) -> 1554 | D24: 1397 | E24: 157 | F24: =E24/C24 -> 0.1010296 | G24: 10
A25: małopolskie | B25: =C25+G25 -> 2446 | C25: =SUM(D25:E25) -> 2418 | D25: 2248 | E25: 170 | F25: =E25/C25 -> 0.070306038 | G25: 28
A26: mazowieckie | B26: =C26+G26 -> 3068 | C26: =SUM(D26:E26) -> 3034 | D26: 2770 | E26: 264 | F26: =E26/C26 -> 0.087013843 | G26: 34
A27: opolskie | B27: =C27+G27 -> 260 | C27: =SUM(D27:E27) -> 257 | D27: 229 | E27: 28 | F27: =E27/C27 -> 0.10894942 | G27: 3
A28: podkarpackie | B28: =C28+G28 -> 1507 | C28: =SUM(D28:E28) -> 1475 | D28: 1369 | E28: 106 | F28: =E28/C28 -> 0.071864407 | G28: 32
A29: podlaskie | B29: =C29+G29 -> 1610 | C29: =SUM(D29:E29) -> 1585 | D29: 1402 | E29: 183 | F29: =E29/C29 -> 0.11545741 | G29: 25
A30: pomorskie | B30: =C30+G30 -> 640 | C30: =SUM(D30:E30) -> 630 | D30: 584 | E30: 46 | F30: =E30/C30 -> 0.073015873 | G30: 10
A31: śląskie | B31: =C31+G31 -> 560 | C31: =SUM(D31:E31) -> 555 | D31: 510 | E31: 45 | F31: =E31/C31 -> 0.081081081 | G31: 5
... A35: zachodniopomorskie | B35: =C35+G35 -> 379 | C35: =SUM(D35:E35) -> 375 | D35: 335 | E35: 40 | F35: =E35/C35 -> 0.10666667 | G35: 4

Sheet Tab 6 i 7
A1: ='Tab 4 i 5'!A1:G1 -> I. EMERYTURY I RENTY REALIZOWANE PRZEZ KRUS | H1: Powrót do spisu treści
A3: TABLICA 6. WNIOSKI O PRZYZNANIE EMERYTUR I RENT ROLNICZYCH ROZPATRYWANE Z ZASTOSOWANIEM PRZEPISÓW WSPÓLNOTOWYCH UE
A4: Wyszczególnienie | B4: Liczba wniosków pozostałych do załatwienia z poprzedniego okresu sprawozdawczego | C4: Liczba wniosków które wpłynęły w okresie sprawozdawczym | D4: Liczba wniosków przekazanych do instytucji zagranicznych | E4: Liczba spraw załatwionych ogółem | F4: Liczba spraw, w których trwa postępowanie międzynarodowe
B5: ='Tab 2 i 3'!B23:F23 -> II KWARTAŁ 2022 R.
A6: OGÓŁEM | B6: =B7+B9 -> 952 | C6: =C7+C9 -> 650 | D6: =D7+D9 -> 177 | E6: =E7+E9 -> 770 | F6: =F7+F9 -> 914
A7: Emerytury razem | B7: 301 | C7: 278 | D7: 86 | E7: 317 | F7: 313
A8: w tym wcześniejsze | B8: 13 | C8: 6 | D8: 1 | E8: 11 | F8: 8
A9: Renty razem, z tego: | B9: 651 | C9: 372 | D9: 91 | E9: 453 | F9: 601
A10: Renty z tytułu niezdolności do pracy razem | B10: 562 | C10: 299 | D10: 66 | E10: 362 | F10: 522
A11: w tym renty z tytułu niezdolności do pracy wypadkowe | B11: 15 | C11: 7 | D11: 0 | E11: 13 | F11: 9
A12: Renty rodzinne | B12: 89 | C12: 73 | D12: 25 | E12: 91 | F12: 79
A14: TABLICA 7. DECYZJE W SPRAWACH WNIOSKÓW O PRZYZNANIE EMERYTUR I RENT ROLNICZYCH Z ZASTOSOWANIEM PRZEPISÓW WSPÓLNOTOWYCH UE
A15: Wyszczególnienie | B15: Liczba wydanych decyzji
B16: Ogółem | C16: w tym: | G16: Decyzji odmownych
C17: Decyzji ostatecznych | F17: Decyzji tymczasowych
C18: Razem | D18: Płatne pro rata temporis 1) | E18: Płatne na podstawie tylko polskich okresów ubezpieczenia
B19: =B5 -> II KWARTAŁ 2022 R.
A20: OGÓŁEM | B20: =C20+F20+G20 -> 703 | C20: =SUM(D20:E20) -> 483 | D20: =D21+D23 -> 221 | E20: =E21+E23 -> 262 | F20: =F21+F23 -> 113 | G20: =G21+G23 -> 107
A21: Emerytury razem | B21: =C21+F21+G21 -> 297 | C21: =SUM(D21:E21) -> 176 | D21: 88 | E21: 88 | F21: 57 | G21: 64
A22: w tym wcześniejsze | B22: =C22+F22+G22 -> 10 | C22: =SUM(D22:E22) -> 2 | D22: 2 | E22: 0 | F22: 0 | G22: 8
A23: Renty razem, z tego: | B23: =C23+F23+G23 -> 406 | C23: =SUM(D23:E23) -> 307 | D23: 133 | E23: 174 | F23: 56 | G23: 43
A24: Renty z tytułu niezdolności do pracy razem | B24: =C24+F24+G24 -> 328 | C24: =SUM(D24:E24) -> 255 | D24: 107 | E24: 148 | F24: 42 | G24: 31
A25: w tym renty z tytułu niezdolności do pracy wypadkowe | B25: =C25+F25+G25 -> 12 | C25: =SUM(D25:E25) -> 7 | D25: 2 | E25: 5 | F25: 2 | G25: 3
A26: Renty rodzinne | B26: =C26+F26+G26 -> 78 | C26: =SUM(D26:E26) -> 52 | D26: 26 | E26: 26 | F26: 14 | G26: 12
A27: 1) "pro rata temporis" emerytura ustalana i wypłacana jest w wysokościach częściowych, wynikających z proporcji okresów ubezpieczenia przebytych w danym państwie członkowskim do łącznych okresów ubezpieczenia przebytych we wszystkich państwach członkowskich. Każde państwo wypłaca emeryturę (rentę) wyłącznie za okresy ubezpieczenia przebyte na swoim terytorium.

Sheet Tab 8 i 9
A1: ='Tab 6 i 7'!A1:G1 -> I. EMERYTURY I RENTY REALIZOWANE PRZEZ KRUS | G1: Powrót do spisu treści
A3: TABLICA 8. WNIOSKI O PRZYZNANIE EMERYTUR I RENT ROLNICZYCH Z ZASTOSOWANIEM POSTANOWIEŃ UMÓW DWUSTRONNYCH O ZABEZPIECZENIU SPOŁECZNYM
A4: Wyszczególnienie | B4: Liczba wniosków pozostałych do załatwienia z poprzedniego okresu sprawozdawczego | C4: Liczba wniosków które wpłynęły w okresie sprawozdawczym | D4: Liczba wniosków przekazanych do instytucji zagranicznych | E4: Liczba spraw załatwionych ogółem | F4: Liczba spraw, w których trwa postępowanie międzynarodowe
B5: ='Tab 6 i 7'!B19:G19 -> II KWARTAŁ 2022 R.
A6: OGÓŁEM | B6: =B7+B9 -> 41 | C6: =C7+C9 -> 17 | D6: =D7+D9 -> 0 | E6: =E7+E9 -> 36 | F6: =F7+F9 -> 22
A7: Emerytury razem | B7: 21 | C7: 14 | D7: 0 | E7: 18 | F7: 17
A8: w tym wcześniejsze | B8: 0 | C8: 0 | D8: 0 | E8: 0 | F8: 0
A9: Renty razem, z tego: | B9: =B10+B12 -> 20 | C9: =C10+C12 -> 3 | D9: =D10+D12 -> 0 | E9: =E10+E12 -> 18 | F9: =F10+F12 -> 5
A10: Renty z tytułu niezdolności do pracy razem | B10: 17 | C10: 2 | D10: 0 | E10: 15 | F10: 4
A11: w tym renty z tytułu niezdolności do pracy wypadkowe | B11: 2 | C11: 0 | D11: 0 | E11: 0 | F11: 2
A12: Renty rodzinne | B12: 3 | C12: 1 | D12: 0 | E12: 3 | F12: 1
A14: TABLICA 9. DECYZJE W SPRAWACH WNIOSKÓW O PRZYZNANIE EMERYTUR I RENT ROLNICZYCH Z ZASTOSOWANIEM POSTANOWIEŃ UMÓW DWUSTRONNYCH O ZABEZPIECZENIU SPOŁECZNYM
A15: Wyszczególnienie | B15: Liczba wydanych decyzji
B16: Ogółem | C16: w tym: | F16: Decyzji odmownych
C17: Decyzji ostatecznych
C18: Razem | D18: Płatne pro rata temporis 1) | E18: Płatne na podstawie tylko polskich okresów ubezpieczenia
B19: =B5 -> II KWARTAŁ 2022 R.
A20: OGÓŁEM | B20: =B21+B23 -> 35 | C20: =C21+C23 -> 27 | D20: =D21+D23 -> 10 | E20: =E21+E23 -> 17 | F20: =F21+F23 -> 8
A21: Emerytury razem | B21: 18 | C21: 13 | D21: 8 | E21: 5 | F21: 5
A22: w tym wcześniejsze | B22: 0 | C22: 0 | D22: 0 | E22: 0 | F22: 0
A23: Renty razem, z tego: | B23: =B24+B26 -> 17 | C23: =C24+C26 -> 14 | D23: =D24+D26 -> 2 | E23: =E24+E26 -> 12 | F23: =F24+F26 -> 3
A24: Renty z tytułu niezdolności do pracy razem | B24: 15 | C24: 13 | D24: 2 | E24: 11 | F24: 2
A25: w tym renty z tytułu niezdolności do pracy wypadkowe | B25: 0 | C25: 0 | D25: 0 | E25: 0 | F25: 0
A26: Renty rodzinne | B26: 2 | C26: 1 | D26: 0 | E26: 1 | F26: 1
A27: 1) "pro rata temporis" emerytura ustalana i wypłacana jest w wysokościach częściowych, wynikających z proporcji okresów ubezpieczenia przebytych w danym państwie członkowskim do łącznych okresów ubezpieczenia przebytych we wszystkich państwach członkowskich. Każde państwo wypłaca emeryturę (rentę) wyłącznie za okresy ubezpieczenia przebyte na swoim terytorium.

Sheet Tab 10
A1: ='Tab 8 i 9'!A1:F1 -> I. EMERYTURY I RENTY REALIZOWANE PRZEZ KRUS | L1: Powrót do spisu treści
A3: TABLICA 10. ŚWIADCZENIA EMERYTALNO-RENTOWE TRANSFEROWANE DO POSZCZEGÓLNYCH PAŃSTW UE/EFTA I WIELKIEJ BRYTANII ORAZ DO INNYCH PAŃSTW NA PODSTAWIE UMÓW DWUSTRONNYCH
A4: Wyszczególnienie | B4: Razem emerytury i renty | D4: Emerytury | F4: Renty z tytułu niezdolności do pracy | H4: w tym: renty z tytułu niezdolności do pracy wypadkowe | J4: Renty rodzinne
B5: Przeciętna liczba osób | C5: Kwota wypłat w zł | D5: Przeciętna liczba osób | E5: Kwota wypłat w zł | F5: Przeciętna liczba osób | G5: Kwota wypłat w zł | H5: Przeciętna liczba osób | I5: Kwota wypłat w zł | J5: Przeciętna liczba osób | K5: Kwota wypłat w zł
B6: ='Tab 8 i 9'!B19:F19 -> II KWARTAŁ 2022 R.
A7: OGÓŁEM | B7: 3829 | C7: 9204578.5 | D7: 3139 | E7: 7246702.3 | F7: 301 | G7: 953797.39 | H7: 4 | I7: 32494.36 | J7: 389 | K7: 1004078.8
A8: w tym:
A9: świadczenia "zbiegowe" | B9: 43 | C9: 227311.98 | D9: 42 | E9: 222174.36 | F9: 1 | G9: 5137.62 | H9: 0 | I9: 0 | J9: 0 | K9: 0
A10: z tego:
A11: do państw UE/EFTA i Wielkiej Brytanii razem | B11: 3561 | C11: 8123450 | D11: 2894 | E11: 6269569.7 | F11: 295 | G11: 921415.18 | H11: 4 | I11: 32494.36 | J11: 372 | K11: 932465.1
A12: Austria | B12: 90 | C12: 193106.64 | D12: 56 | E12: 118050.58 | F12: 27 | G12: 58267.14 | H12: 0 | I12: 0 | J12: 7 | K12: 16788.92
A13: Belgia | B13: 42 | C13: 198961.21 | D13: 21 | E13: 74760.96 | F13: 17 | G13: 113717.83 | H13: 0 | I13: 0 | J13: 4 | K13: 10482.42
A14: Bułgaria | B14: 0 | C14: 0 | D14: 0 | E14: 0 | F14: 0 | G14: 0 | H14: 0 | I14: 0 | J14: 0 | K14: 0
A15: Chorwacja | B15: 0 | C15: 0 | D15: 0 | E15: 0 | F15: 0 | G15: 0 | H15: 0 | I15: 0 | J15: 0 | K15: 0
A16: Cypr | B16: 0 | C16: 0 | D16: 0 | E16: 0 | F16: 0 | G16: 0 | H16: 0 | I16: 0 | J16: 0 | K16: 0
A17: Czechy | B17: 2 | C17: 11349.92 | D17: 0 | E17: 0 | F17: 2 | G17: 11349.92 | H17: 0 | I17: 0 | J17: 0 | K17: 0
A18: Dania | B18: 0 | C18: 0 | D18: 0 | E18: 0 | F18: 0 | G18: 0 | H18: 0 | I18: 0 | J18: 0 | K18: 0
A19: Estonia | B19: 0 | C19: 0 | D19: 0 | E19: 0 | F19: 0 | G19: 0 | H19: 0 | I19: 0 | J19: 0 | K19: 0
A20: Finlandia | B20: 0 | C20: 0 | D20: 0 | E20: 0 | F20: 0 | G20: 0 | H20: 0 | I20: 0 | J20: 0 | K20: 0
A21: Francja | B21: 23 | C21: 98268.69 | D21: 19 | E21: 91078.49 | F21: 3 | G21: 7119.19 | H21: 0 | I21: 0 | J21: 1 | K21: 71.01
A22: Grecja | B22: 0 | C22: 0 | D22: 0 | E22: 0 | F22: 0 | G22: 0 | H22: 0 | I22: 0 | J22: 0 | K22: 0
... A55: USA | B55: 115 | C55: 525698.95 | D55: 107 | E55: 493401.15 | F55: 2 | G55: 9068.18 | H55: 0 | I55: 0 | J55: 6 | K55: 23229.62

Sheet Tab 1 (11)
A1: II. FUNDUSZ EMERYTALNO-RENTOWY | J1: Powrót do spisu treści
A2: TABLICA 1 (11). PRZECIĘTNA MIESIĘCZNA LICZBA EMERYTUR I RENT WEDŁUG RODZAJÓW ŚWIADCZEŃ
A3: Wyszczególnienie | B3: 2021 rok | D3: 2022 rok
B4: II kwartał | C4: I półrocze | D4: I kwartał | E4: II kwartał | F4: I półrocze | G4: porównanie (wzrost/spadek)
G5: II kwartału 2022 r. z I kwartałem 2022 r. | H5: II kwartału 2022 r. z II kwartałem 2021 r. | I5: I półrocza 2022 r. z I półroczem 2021 r.
A6: OGÓŁEM
A7: EMERYTURY I RENTY ogółem | B7: 1039932 | C7: 1046420 | D7: 1004336 | E7: 994394 | F7: 999365 | G7: =E7/D7-1 -> -0.0098990776 | H7: =E7/B7-1 -> -0.043789402 | I7: =F7/C7-1 -> -0.044967604
A8: Emerytury | B8: 813324 | C8: 819237 | D8: 783048 | E8: 773611 | F8: 778330 | G8: =E8/D8-1 -> -0.012051624 | H8: =E8/B8-1 -> -0.048828019 | I8: =F8/C8-1 -> -0.049933047
A9: Renty | B9: 226608 | C9: 227182 | D9: 221288 | E9: 220783 | F9: 221035 | G9: =E9/D9-1 -> -0.0022820939 | H9: =E9/B9-1 -> -0.025705183 | I9: =F9/C9-1 -> -0.027057601
A10: EMERYTURY
A11: EMERYTURY RAZEM | B11: 813324 | C11: 819237 | D11: 783048 | E11: 773611 | F11: 778330 | G11: =E11/D11-1 -> -0.012051624 | H11: =E11/B11-1 -> -0.048828019 | I11: =F11/C11-1 -> -0.049933047
A12: w tym emerytury wcześniejsze | B12: 22215 | C12: 24396 | D12: 11288 | E12: 7296 | F12: 9292 | G12: =E12/D12-1 -> -0.35364989 | H12: =E12/B12-1 -> -0.67157326 | I12: =F12/C12-1 -> -0.61911789
A13: Emerytury rolnicze | B13: 706830 | C13: 709866 | D13: 691581 | E13: 687014 | F13: 689298 | G13: =E13/D13-1 -> -0.0066037095 | H13: =E13/B13-1 -> -0.02803503 | I13: =F13/C13-1 -> -0.028974483
A14: Emerytury za przekazane gospodarstwo rolne Państwu | B14: 17231 | C14: 17703 | D14: 14817 | E14: 14023 | F14: 14420 | G14: =E14/D14-1 -> -0.053587096 | H14: =E14/B14-1 -> -0.18617608 | I14: =F14/C14-1 -> -0.18544879
A15: Emerytury za przekazane gospodarstwo rolne następcy | B15: 86500 | C15: 88880 | D15: 74034 | E15: 69997 | F15: 72016 | G15: =E15/D15-1 -> -0.054529 | H15: =E15/B15-1 -> -0.19078613 | I15: =F15/C15-1 -> -0.18973897
A16: Emerytury nie związane z przekazaniem gospodarstwa rolnego | B16: 2763 | C16: 2789 | D16: 2616 | E16: 2576 | F16: 2596 | G16: =E16/D16-1 -> -0.01529052 | H16: =E16/B16-1 -> -0.067680058 | I16: =F16/C16-1 -> -0.06920043
A17: RENTY
A18: RENTY RAZEM | B18: 226608 | C18: 227182 | D18: 221288 | E18: 220783 | F18: 221035 | G18: =E18/D18-1 -> -0.0022820939 | H18: =E18/B18-1 -> -0.025705183 | I18: =F18/C18-1 -> -0.027057601
A19: RENTY Z TYTUŁU NIEZDOLNOŚCI DO PRACY RAZEM | B19: 184440 | C19: 185177 | D19: 179636 | E19: 178874 | F19: 179255 | G19: =E19/D19-1 -> -0.0042419114 | H19: =E19/B19-1 -> -0.030177836 | I19: =F19/C19-1 -> -0.031980214
A20: w tym renty z tytułu niezdolności do pracy wypadkowe | B20: 12261 | C20: 12308 | D20: 12042 | E20: 12018 | F20: 12030 | G20: =E20/D20-1 -> -0.0019930244 | H20: =E20/B20-1 -> -0.019818938 | I20: =F20/C20-1 -> -0.022586935
A21: Renty rolnicze z tytułu niezdolności do pracy | B21: 181974 | C21: 182670 | D21: 177410 | E21: 176745 | F21: 177078 | G21: =E21/D21-1 -> -0.0037483795 | H21: =E21/B21-1 -> -0.028734874 | I21: =F21/C21-1 -> -0.03061258
A22: Renty z tytułu niezdolności do pracy za przekazane gospodarstwo rolne Państwu | B22: 196 | C22: 201 | D22: 172 | E22: 161 | F22: 167 | G22: =E22/D22-1 -> -0.063953488 | H22: =E22/B22-1 -> -0.17857143 | I22: =F22/C22-1 -> -0.16915423
A23: Renty z tytułu niezdolności do pracy za przekazane gospodarstwo rolne następcy | B23: 566 | C23: 573 | D23: 505 | E23: 477 | F23: 491 | G23: =E23/D23-1 -> -0.055445545 | H23: =E23/B23-1 -> -0.15724382 | I23: =F23/C23-1 -> -0.14310646
A24: Renty z tytułu niezdolności do pracy nie związane z przekazaniem gospodarstwa rolnego | B24: 1704 | C24: 1734 | D24: 1548 | E24: 1491 | F24: 1520 | G24: =E24/D24-1 -> -0.036821705 | H24: =E24/B24-1 -> -0.125 | I24: =F24/C24-1 -> -0.12341407
A25: RENTY RODZINNE RAZEM | B25: 42168 | C25: 42005 | D25: 41652 | E25: 41908 | F25: 41780 | G25: =E25/D25-1 -> 0.0061461634 | H25: =E25/B25-1 -> -0.0061658129 | I25: =F25/C25-1 -> -0.0053565052
A26: w tym renty rodzinne wypadkowe | B26: 858 | C26: 858 | D26: 827 | E26: 817 | F26: 822 | G26: =E26/D26-1 -> -0.012091898 | H26: =E26/B26-1 -> -0.047785548 | I26: =F26/C26-1 -> -0.041958042
A27: Renty rodzinne rolnicze | B27: 40650 | C27: 40471 | D27: 40201 | E27: 40476 | F27: 40339 | G27: =E27/D27-1 -> 0.0068406259 | H27: =E27/B27-1 -> -0.0042804428 | I27: =F27/C27-1 -> -0.0032615947
A28: Renty rodzinne za przekazane gospodarstwo rolne Państwu | B28: 334 | C28: 341 | D28: 313 | E28: 310 | F28: 311 | G28: =E28/D28-1 -> -0.0095846645 | H28: =E28/B28-1 -> -0.071856287 | I28: =F28/C28-1 -> -0.08797654
A29: Renty rodzinne za przekazane gospodarstwo rolne następcy | B29: 832 | C29: 839 | D29: 793 | E29: 782 | F29: 788 | G29: =E29/D29-1 -> -0.013871375 | H29: =E29/B29-1 -> -0.060096154 | I29: =F29/C29-1 -> -0.060786651
A30: Renty rodzinne nie związane z przekazaniem gospodarstwa rolnego | B30: 352 | C30: 355 | D30: 344 | E30: 341 | F30: 343 | G30: =E30/D30-1 -> -0.0087209302 | H30: =E30/B30-1 -> -0.03125 | I30: =F30/C30-1 -> -0.033802817

Sheet Tab 2 (12) i wykres 1
A1: ='Tab 1 (11)'!A1:I1 -> II. FUNDUSZ EMERYTALNO-RENTOWY | F1: Powrót do spisu treści
A2: TABLICA 2 (12). LICZBA UBEZPIECZONYCH ORAZ PRZECIĘTNA MIESIĘCZNA LICZBA ŚWIADCZENIOBIORCÓW WEDŁUG WOJEWÓDZTW
A3: Wyszczególnienie | B3: Liczba ubezpieczonych stan na 30 czerwca 2022 r. | C3: Przeciętna miesięczna liczba świadczeniobiorców w II kwartale 2022 r.
A4: dolnośląskie | B4: 38751 | C4: 37156
A5: kujawsko-pomorskie | B5: 60199 | C5: 67342
A6: lubelskie | B6: 143322 | C6: 127372
A7: lubuskie | B7: 13318 | C7: 13234
A8: łódzkie | B8: 88664 | C8: 84552
A9: małopolskie | B9: 131445 | C9: 85889
A10: mazowieckie | B10: 161447 | C10: 152840
A11: opolskie | B11: 24074 | C11: 19933
A12: podkarpackie | B12: 82071 | C12: 56914
A13: podlaskie | B13: 78578 | C13: 70800
A14: pomorskie | B14: 37420 | C14: 32493
A15: śląskie | B15: 30916 | C15: 28188
... A19: zachodniopomorskie | B19: 22501 | C19: 21273
A20: MON | C20: 92
A21: MSWiA | C21: 424
A22: MS | C22: 47
A23: Ogółem | B23: =SUM(B4:B22) -> 1123333 | C23: 994394
A25: WYKRES NR 1. PRZECIĘTNA MIESIĘCZNA LICZBA ŚWIADCZENIOBIORCÓW NA TLE LICZBY UBEZPIECZONYCH

Sheet Tab 3 (13) i wykres 2
A1: ='Tab 2 (12) i wykres 1'!A1:E1 -> II. FUNDUSZ EMERYTALNO-RENTOWY | F1: Powrót do spisu treści
A2: TABLICA 3 (13). PRZECIĘTNE MIESIĘCZNE ŚWIADCZENIA EMERYTALNO-RENTOWE WEDŁUG WOJEWÓDZTW
A3: Wyszczególnienie | B3: Świadczenia rolne wypłacane z FER | C3: Świadczenia realizowane przez KRUS ogółem
B4: w złotych
B5: ='Tab 10'!B6:K6 -> II KWARTAŁ 2022 R.
A6: dolnośląskie | B6: 1382.1 | C6: 1547.25
A7: kujawsko-pomorskie | B7: 1447.13 | C7: 1519.05
A8: lubelskie | B8: 1425.32 | C8: 1516.95
A9: lubuskie | B9: 1353.03 | C9: 1624.03
A10: łódzkie | B10: 1433.14 | C10: 1507.14
A11: małopolskie | B11: 1395.99 | C11: 1475.16
A12: mazowieckie | B12: 1428.09 | C12: 1485.55
A13: opolskie | B13: 1422.68 | C13: 1532.61
A14: podkarpackie | B14: 1415.48 | C14: 1498.03
A15: podlaskie | B15: 1450.39 | C15: 1505.22
A16: pomorskie | B16: 1415.97 | C16: 1515.01
A17: śląskie | B17: 1350.63 | C17: 1637.85
... A24: MS | B24: 607.56 | C24: 607.56
A27: WYKRES NR 2. PRZECIĘTNE MIESIĘCZNE ŚWIADCZENIA ROLNE WYPŁACANE Z FER W ODNIESIENIU DO ŚWIADCZEŃ REALIZOWANYCH PRZEZ KRUS OGÓŁEM

Sheet Tab 4 (14)
A1: ='Tab 3 (13) i wykres 2'!A1:E1 -> II. FUNDUSZ EMERYTALNO-RENTOWY | I1: Powrót do spisu treści
A3: TABLICA 4 (14). PRZECIĘTNA MIESIĘCZNA LICZBA EMERYTUR I RENT WEDŁUG WOJEWÓDZTW ORAZ ŚWIADCZEŃ EMERYTALNYCH WYPŁACONYCH PRZEZ MON, MSWiA i MS
A4: Wyszczególnienie | B4: Ogółem | C4: z tego:
C5: emerytury | D5: renty razem | E5: z tego:
E6: z tytułu niezdolności do pracy | G6: rodzinne
E7: ogółem | F7: w tym wypadkowe | G7: ogółem | H7: w tym wypadkowe
B9: I PÓŁROCZE 2022 R.
A10: OGÓŁEM | B10: 999365 | C10: 778330 | D10: 221035 | E10: 179255 | F10: 12030 | G10: 41780 | H10: 822
A11: dolnośląskie | B11: 37383 | C11: 29284 | D11: 8100 | E11: 6577 | F11: 465 | G11: 1522 | H11: 26
A12: kujawsko-pomorskie | B12: 67649 | C12: 52531 | D12: 15118 | E12: 12700 | F12: 1033 | G12: 2418 | H12: 63
A13: lubelskie | B13: 128060 | C13: 99728 | D13: 28331 | E13: 23205 | F13: 1490 | G13: 5127 | H13: 119
A14: lubuskie | B14: 13337 | C14: 9860 | D14: 3477 | E14: 2916 | F14: 188 | G14: 561 | H14: 9
A15: łódzkie | B15: 85044 | C15: 71280 | D15: 13764 | E15: 10661 | F15: 926 | G15: 3103 | H15: 47
A16: małopolskie | B16: 86172 | C16: 58247 | D16: 27924 | E16: 24168 | F16: 1143 | G16: 3756 | H16: 67
A17: mazowieckie | B17: 153596 | C17: 124389 | D17: 29208 | E17: 22283 | F17: 1632 | G17: 6925 | H17: 116
A18: opolskie | B18: 20065 | C18: 17195 | D18: 2869 | E18: 2156 | F18: 164 | G18: 713 | H18: 14
A19: podkarpackie | B19: 57312 | C19: 43087 | D19: 14225 | E19: 11921 | F19: 611 | G19: 2304 | H19: 28
A20: podlaskie | B20: 71198 | C20: 57144 | D20: 14055 | E20: 11075 | F20: 785 | G20: 2980 | H20: 67
A21: pomorskie | B21: 32596 | C21: 24086 | D21: 8510 | E21: 6966 | F21: 449 | G21: 1545 | H21: 31
... A26: zachodniopomorskie | B26: 21404 | C26: 16657 | D26: 4747 | E26: 3860 | F26: 271 | G26: 888 | H26: 20
A27: Emerytury finansowane z funduszu emerytalno-rentowego, wypłacane przez MON, MSWiA, MS z tego: | B27: =C27 -> 574 | C27: 574 | D27: 0 | E27: 0 | F27: 0 | G27: 0 | H27: 0
A28: MON | B28: =C28 -> 93 | C28: 93 | D28: 0 | E28: 0 | F28: 0 | G28: 0 | H28: 0
A29: MSWiA | B29: =C29 -> 434 | C29: 434 | D29: 0 | E29: 0 | F29: 0 | G29: 0 | H29: 0
A30: MS | B30: =C30 -> 47 | C30: 47 | D30: 0 | E30: 0 | F30: 0 | G30: 0 | H30: 0

Sheet Tab 5 (15)
A1: ='Tab 4 (14)'!A1:H1 -> II. FUNDUSZ EMERYTALNO-RENTOWY | J1: Powrót do spisu treści
A3: TABLICA 5 (15). WYDATKI NA ŚWIADCZENIA EMERYTALNO-RENTOWE WEDŁUG RODZAJÓW ŚWIADCZEŃ
A4: Wyszczególnienie | B4: 2021 rok | D4: 2022 rok
B5: II kwartał | C5: I półrocze | D5: I kwartał | E5: II kwartał | F5: I półrocze | G5: porównanie (wzrost/spadek)
G6: II kwartału 2022 r. z I kwartałem 2022 r. | H6: II kwartału 2022 r. z II kwartałem 2021 r. | I6: I półrocza 2022 r. z I półroczem 2021 r.
B7: w złotych
A8: OGÓŁEM1)
A9: EMERYTURY I RENTY z tego: | B9: =B10+B11 -> 4.1944004e+09 | C9: =C10+C11 -> 8.3301305e+09 | D9: =D10+D11 -> 4.1241697e+09 | E9: =E10+E11 -> 4.2262866e+09 | F9: =F10+F11 -> 8.3504564e+09 | G9: =E9/D9-1 -> 0.024760593 | H9: =E9/B9-1 -> 0.0076020826 | I9: =F9/C9-1 -> 0.0024400377
A10: Emerytury | B10: =B13 -> 3.2864767e+09 | C10: =C13 -> 6.5316102e+09 | D10: =D13 -> 3.2194034e+09 | E10: =E13 -> 3.2944285e+09 | F10: =F13 -> 6.5138319e+09 | G10: =E10/D10-1 -> 0.023304034 | H10: =E10/B10-1 -> 0.0024195477 | I10: =F10/C10-1 -> -0.0027218939
A11: Renty | B11: =B20 -> 9.0792375e+08 | C11: =C20 -> 1798520288 | D11: =D20 -> 9.0476633e+08 | E11: =E20 -> 9.3185814e+08 | F11: =F20 -> 1.8366245e+09 | G11: =E11/D11-1 -> 0.029943426 | H11: =E11/B11-1 -> 0.026361676 | I11: =F11/C11-1 -> 0.021186407
A12: EMERYTURY
A13: EMERYTURY RAZEM | B13: =SUM(B15:B18) -> 3.2864767e+09 | C13: =SUM(C15:C18) -> 6.5316102e+09 | D13: =SUM(D15:D18) -> 3.2194034e+09 | E13: =SUM(E15:E18) -> 3.2944285e+09 | F13: =SUM(F15:F18) -> 6.5138319e+09 | G13: =E13/D13-1 -> 0.023304034 | H13: =E13/B13-1 -> 0.0024195477 | I13: =F13/C13-1 -> -0.0027218939
A14: w tym emerytury wcześniejsze | B14: 84502594 | C14: 1.8255767e+08 | D14: 43631128 | E14: 28545790 | F14: 72176919 | G14: =E14/D14-1 -> -0.34574714 | H14: =E14/B14-1 -> -0.66219036 | I14: =F14/C14-1 -> -0.60463498
A15: Emerytury rolnicze | B15: 2.8977279e+09 | C15: 5.7448376e+09 | D15: 2.8769183e+09 | E15: 2.9550888e+09 | F15: 5.8320071e+09 | G15: =E15/D15-1 -> 0.027171595 | H15: =E15/B15-1 -> 0.019795115 | I15: =F15/C15-1 -> 0.015173545
A16: Emerytury za przekazane gospodarstwo rolne Państwu | B16: 59499807 | C16: 1.2047732e+08 | D16: 52319745 | E16: 51760633 | F16: 1.0408038e+08 | G16: =E16/D16-1 -> -0.010686434 | H16: =E16/B16-1 -> -0.13007057 | I16: =F16/C16-1 -> -0.13609984
A17: Emerytury za przekazane gospodarstwo rolne następcy | B17: 3.1752788e+08 | C17: 6.4294831e+08 | D17: 2.7882321e+08 | E17: 2.7590255e+08 | F17: 5.5472576e+08 | G17: =E17/D17-1 -> -0.010474962 | H17: =E17/B17-1 -> -0.13109188 | I17: =F17/C17-1 -> -0.13721562
A18: Emerytury nie związane z przekazaniem gospodarstwa rolnego | B18: 11721068 | C18: 23347009 | D18: 11342100 | E18: 11676498 | F18: 23018598 | G18: =E18/D18-1 -> 0.02948288 | H18: =E18/B18-1 -> -0.0038025094 | I18: =F18/C18-1 -> -0.014066477
A19: RENTY
A20: RENTY RAZEM z tego: | B20: =B21+B27 -> 9.0792375e+08 | C20: =C21+C27 -> 1798520288 | D20: =D21+D27 -> 9.0476633e+08 | E20: =E21+E27 -> 9.3185814e+08 | F20: =F21+F27 -> 1.8366245e+09 | G20: =E20/D20-1 -> 0.029943426 | H20: =E20/B20-1 -> 0.026361676 | I20: =F20/C20-1 -> 0.021186407
A21: RENTY Z TYTUŁU NIEZDOLNOŚCI DO PRACY RAZEM | B21: =SUM(B23:B26) -> 7.1779696e+08 | C21: =SUM(C23:C26) -> 1.4239651e+09 | D21: =SUM(D23:D26) -> 7.1225905e+08 | E21: =SUM(E23:E26) -> 7.3042998e+08 | F21: =SUM(F23:F26) -> 1.442689e+09 | G21: =E21/D21-1 -> 0.025511695 | H21: =E21/B21-1 -> 0.01759972 | I21: =F21/C21-1 -> 0.013149133
A22: w tym renty z tytułu niezdolności do pracy wypadkowe | B22: 48482371 | C22: 96070154 | D22: 47937297 | E22: 48672429 | F22: 96609725 | G22: =E22/D22-1 -> 0.015335284 | H22: =E22/B22-1 -> 0.0039201387 | I22: =F22/C22-1 -> 0.0056164344
A23: Renty rolnicze z tytułu niezdolności do pracy | B23: 7.0850604e+08 | C23: 1.4052945e+09 | D23: 7.0367274e+08 | E23: 7.2181432e+08 | F23: 1.4254871e+09 | G23: =E23/D23-1 -> 0.025781276 | H23: =E23/B23-1 -> 0.018783576 | I23: =F23/C23-1 -> 0.014368936
A24: Renty z tytułu niezdolności do pracy za przekazane gospodarstwo rolne Państwu | B24: 663328.59 | C24: 1356670.2 | D24: 600600.08 | E24: 647741.85 | F24: 1248341.9 | G24: =E24/D24-1 -> 0.078491115 | H24: =E24/B24-1 -> -0.023497766 | I24: =F24/C24-1 -> -0.079848674
A25: Renty z tytułu niezdolności do pracy za przekazane gospodarstwo rolne następcy | B25: 1820720.5 | C25: 3642847 | D25: 1647899.3 | E25: 1603488.9 | F25: 3251388.1 | G25: =E25/D25-1 -> -0.0269497 | H25: =E25/B25-1 -> -0.11931082 | I25: =F25/C25-1 -> -0.1074596
A26: Renty z tytułu niezdolności do pracy nie związane z przekazaniem gospodarstwa rolnego | B26: 6806865.1 | C26: 13671135 | D26: 6337809.4 | E26: 6364432.2 | F26: 12702242 | G26: =E26/D26-1 -> 0.0042006233 | H26: =E26/B26-1 -> -0.064998043 | I26: =F26/C26-1 -> -0.070871457
A27: RENTY RODZINNE RAZEM | B27: =SUM(B29:B32) -> 1.9012679e+08 | C27: =SUM(C29:C32) -> 3.7455516e+08 | D27: =SUM(D29:D32) -> 1.9250729e+08 | E27: =SUM(E29:E32) -> 2.0142815e+08 | F27: =SUM(F29:F32) -> 3.9393544e+08 | G27: =E27/D27-1 -> 0.04634042 | H27: =E27/B27-1 -> 0.059441209 | I27: =F27/C27-1 -> 0.051742116
A28: w tym renty rodzinne wypadkowe | B28: 4008855.4 | C28: 7941392.4 | D28: 3922680.4 | E28: 4015783.6 | F28: 7938464 | G28: =E28/D28-1 -> 0.023734572 | H28: =E28/B28-1 -> 0.0017282315 | I28: =F28/C28-1 -> -0.0003687439
A29: Renty rodzinne rolnicze | B29: 1.8209801e+08 | C29: 3.5858889e+08 | D29: 1.8465766e+08 | E29: 1.9328134e+08 | F29: 3.77939e+08 | G29: =E29/D29-1 -> 0.046700921 | H29: =E29/B29-1 -> 0.061413812 | I29: =F29/C29-1 -> 0.053961838
A30: Renty rodzinne za przekazane gospodarstwo rolne Państwu | B30: 1824034.8 | C30: 3658658.5 | D30: 1758328.5 | E30: 1825662 | F30: 3583990.5 | G30: =E30/D30-1 -> 0.038294063 | H30: =E30/B30-1 -> 0.00089207178 | I30: =F30/C30-1 -> -0.020408587
A31: Renty rodzinne za przekazane gospodarstwo rolne następcy | B31: 4440272 | C31: 8817285.7 | D31: 4329209 | E31: 4475466.6 | F31: 8804675.6 | G31: =E31/D31-1 -> 0.033783899 | H31: =E31/B31-1 -> 0.0079262149 | I31: =F31/C31-1 -> -0.0014301567
A32: Renty rodzinne nie związane z przekazaniem gospodarstwa rolnego | B32: 1764471.5 | C32: 3490331.9 | D32: 1762088.4 | E32: 1845683.1 | F32: 3607771.5 | G32: =E32/D32-1 -> 0.047440661 | H32: =E32/B32-1 -> 0.046025973 | I32: =F32/C32-1 -> 0.033647121
A33: 1) Kwota nie obejmuje należnych świadczeń z innych systemów ubezpieczeniowych, wypłacanych w tzw. zbiegu z emeryturą lub rentą rolną.

Sheet Wykres 3
A1: ='Tab 2 (12) i wykres 1'!A1:E1 -> II. FUNDUSZ EMERYTALNO-RENTOWY | G1: Powrót do spisu treści
A3: Dane do wykresu nr 3
A4: Wyszczególnienie | B4: Emerytury | C4: Renty z tytułu niezdolności do pracy | D4: Renty rodzinne | E4: Emerytury finansowane z Funduszu Emerytalno-Rentowego, a wypłacane przez MON, MSWiA i MS | F4: Ogółem
A5: Kwota w zł | B5: ='Tab 5 (15)'!E13-'Wykres 3'!E5 -> 3.2933259e+09 | C5: ='Tab 5 (15)'!E21 -> 7.3042998e+08 | D5: ='Tab 5 (15)'!E27 -> 2.0142815e+08 | E5: 1102586.4 | F5: =SUM(B5:E5) -> 4.2262866e+09
A6: Udział procentowy | B6: =ROUND(B5/$F$5,4) -> 0.7792 | C6: =ROUND(C5/$F$5,4) -> 0.1728 | D6: =ROUND(D5/$F$5,4) -> 0.0477 | E6: =ROUND(E5/$F$5,4) -> 0.0003 | F6: =F5/$F$5 -> 1

Sheet Tab 6 (16)
A1: ='Tab 1 (11)'!A1 -> II. FUNDUSZ EMERYTALNO-RENTOWY | I1: Powrót do spisu treści
A3: TABLICA 6 (16). WYDATKI NA ŚWIADCZENIA EMERYTALNO-RENTOWE WEDŁUG WOJEWÓDZTW ORAZ ŚWIADCZENIA EMERYTALNE WYPŁACONE PRZEZ MON, MSWiA i MS
A4: Wyszczególnienie | B4: Ogółem1) | C4: z tego:
C5: emerytury | D5: renty razem | E5: z tego:
E6: z tytułu niezdolności do pracy | G6: rodzinne
E7: ogółem | F7: w tym wypadkowe | G7: ogółem | H7: w tym wypadkowe
B9: ='Tab 4 (14)'!B9:H9 -> I PÓŁROCZE 2022 R.
B10: w złotych
A11: OGÓŁEM | B11: =SUM(B12:B28) -> 8.3504564e+09 | C11: =SUM(C12:C28) -> 6.5138319e+09 | D11: =SUM(D12:D27) -> 1.8366245e+09 | E11: =SUM(E12:E27) -> 1.442689e+09 | F11: =SUM(F12:F27) -> 96609725 | G11: =SUM(G12:G27) -> 3.9393544e+08 | H11: =SUM(H12:H27) -> 7938464
A12: dolnośląskie | B12: =SUM(C12:D12) -> 3.0466605e+08 | C12: 2.3885711e+08 | D12: 65808934 | E12: 51958506 | F12: 3598334.9 | G12: 13850429 | H12: 214449.67
A13: kujawsko-pomorskie | B13: =SUM(C13:D13) -> 5.7774061e+08 | C13: 4.4809912e+08 | D13: 1.2964149e+08 | E13: 1.0436178e+08 | F13: 8533898.5 | G13: 25279710 | H13: 688231.21
A14: lubelskie | B14: =SUM(C14:D14) -> 1.0759448e+09 | C14: 8.4073587e+08 | D14: 2.352089e+08 | E14: 1.8710091e+08 | F14: 11988382 | G14: 48107989 | H14: 1104160
A15: lubuskie | B15: =SUM(C15:D15) -> 1.0619013e+08 | C15: 78019805 | D15: 28170322 | E15: 23002240 | F15: 1414780.1 | G15: 5168081.2 | H15: 77673.62
A16: łódzkie | B16: =SUM(C16:D16) -> 7.1890322e+08 | C16: 5.9837681e+08 | D16: 1.2052641e+08 | E16: 86298585 | F16: 7395229.7 | G16: 34227829 | H16: 625577.62
A17: małopolskie | B17: =SUM(C17:D17) -> 7.0930987e+08 | C17: 4.8151208e+08 | D17: 2.2779779e+08 | E17: 1.936958e+08 | F17: 9107245.8 | G17: 34101982 | H17: 618446.87
A18: mazowieckie | B18: =SUM(C18:D18) -> 1.2936011e+09 | C18: 1.0518964e+09 | D18: 2.4170467e+08 | E18: 1.7840607e+08 | F18: 13243736 | G18: 63298602 | H18: 1120883.5
A19: opolskie | B19: =SUM(C19:D19) -> 1.6889186e+08 | C19: 1.4405842e+08 | D19: 24833440 | E19: 17727493 | F19: 1351833.9 | G19: 7105946.9 | H19: 128779.57
A20: podkarpackie | B20: =SUM(C20:D20) -> 4.7763385e+08 | C20: 3.6063537e+08 | D20: 1.1699848e+08 | E20: 95500696 | F20: 4868408.1 | G20: 21497783 | H20: 274957.43
A21: podlaskie | B21: =SUM(C21:D21) -> 6.0900024e+08 | C21: 4.9077914e+08 | D21: 1.182211e+08 | E21: 89257052 | F21: 6337278.6 | G21: 28964048 | H21: 646840.13
A22: pomorskie | B22: =SUM(C22:D22) -> 2.726724e+08 | C22: 2.0177649e+08 | D22: 70895909 | E22: 56204638 | F22: 3627165 | G22: 14691271 | H22: 289179.81
A23: śląskie | B23: =SUM(C23:D23) -> 2.2601628e+08 | C23: 1.8017748e+08 | D23: 45838799 | E23: 36746143 | F23: 2558009 | G23: 9092655.7 | H23: 196496.82
... A27: zachodniopomorskie | B27: =SUM(C27:D27) -> 1.7831315e+08 | C27: 1.382632e+08 | D27: 40049948 | E27: 31085902 | F27: 2122430.6 | G27: 8964046.1 | H27: 167896.8
A28: Emerytury finansowane z funduszu emerytalno-rentowego, wypłacane przez MON, MSWiA, MS z tego: | B28: =B29+B30+B31 -> 2183253.3 | C28: =C29+C30+C31 -> 2183253.3 | D28: 0 | E28: 0 | F28: 0 | G28: 0 | H28: 0
A29: MON | B29: =C29 -> 403559.24 | C29: 403559.24 | D29: 0 | E29: 0 | F29: 0 | G29: 0 | H29: 0
A30: MSWiA | B30: =C30 -> 1613964.6 | C30: 1613964.6 | D30: 0 | E30: 0 | F30: 0 | G30: 0 | H30: 0
A31: MS | B31: =C31 -> 165729.37 | C31: 165729.37 | D31: 0 | E31: 0 | F31: 0 | G31: 0 | H31: 0
A32: 1) Kwota nie obejmuje należnych świadczeń z innych systemów ubezpieczeniowych, wypłacanych w tzw. zbiegu z emeryturą lub rentą rolną.

Sheet Tab 7 (17)
A1: ='Tab 1 (11)'!A1 -> II. FUNDUSZ EMERYTALNO-RENTOWY | J1: Powrót do spisu treści
A3: TABLICA 7 (17). PRZECIĘTNE MIESIĘCZNE ŚWIADCZENIE EMERYTALNO-RENTOWE WEDŁUG ODZAJÓW ŚWIADCZEŃ
A4: Wyszczególnienie | B4: 2021 rok | D4: 2022 rok
B5: II kwartał | C5: I półrocze | D5: I kwartał | E5: II kwartał | F5: I półrocze | G5: porównanie (wzrost/spadek)
G6: II kwartału 2022 r. z I kwartałem 2022 r. | H6: II kwartału 2022 r. z II kwartałem 2021 r. | I6: I półrocza 2022 r. z I półroczem 2021 r.
B7: w złotych
A8: OGÓŁEM1)
A9: EMERYTURY I RENTY z tego: | B9: 1344.45 | C9: 1326.77 | D9: 1368.79 | E9: 1416.7 | F9: 1392.63 | G9: =E9/D9-1 -> 0.035001717 | H9: =E9/B9-1 -> 0.053739447 | I9: =F9/C9-1 -> 0.04963935
A10: Emerytury | B10: 1346.93 | C10: 1328.8 | D10: 1370.46 | E10: 1419.5 | F10: 1394.83 | G10: =E10/D10-1 -> 0.035783606 | H10: =E10/B10-1 -> 0.053878078 | I10: =F10/C10-1 -> 0.049691451
A11: Renty | B11: 1335.53 | C11: 1319.44 | D11: 1362.88 | E11: 1406.9 | F11: 1384.86 | G11: =E11/D11-1 -> 0.032299249 | H11: =E11/B11-1 -> 0.053439458 | I11: =F11/C11-1 -> 0.049581641
A12: EMERYTURY
A13: EMERYTURY RAZEM | B13: 1346.93 | C13: 1328.8 | D13: 1370.46 | E13: 1419.5 | F13: 1394.83 | G13: =E13/D13-1 -> 0.035783606 | H13: =E13/B13-1 -> 0.053878078 | I13: =F13/C13-1 -> 0.049691451
A14: w tym emerytury wcześniejsze | B14: 1267.97 | C14: 1247.2 | D14: 1288.46 | E14: 1304.23 | F14: 1294.65 | G14: =E14/D14-1 -> 0.012239418 | H14: =E14/B14-1 -> 0.028596891 | I14: =F14/C14-1 -> 0.038045221
A15: Emerytury rolnicze | B15: 1366.54 | C15: 1348.81 | D15: 1386.64 | E15: 1433.78 | F15: 1410.13 | G15: =E15/D15-1 -> 0.033995846 | H15: =E15/B15-1 -> 0.04920456 | I15: =F15/C15-1 -> 0.045462296
A16: Emerytury za przekazane gospodarstwo rolne Państwu | B16: 1151.04 | C16: 1134.28 | D16: 1177.05 | E16: 1230.35 | F16: 1202.96 | G16: =E16/D16-1 -> 0.045282698 | H16: =E16/B16-1 -> 0.068902905 | I16: =F16/C16-1 -> 0.060549423
A17: Emerytury za przekazane gospodarstwo rolne następcy | B17: 1223.62 | C17: 1205.65 | D17: 1255.38 | E17: 1313.87 | F17: 1283.81 | G17: =E17/D17-1 -> 0.04659147 | H17: =E17/B17-1 -> 0.073756558 | I17: =F17/C17-1 -> 0.064828101
A18: Emerytury nie związane z przekazaniem gospodarstwa rolnego | B18: 1413.88 | C18: 1395.02 | D18: 1445.04 | E18: 1510.74 | F18: 1477.64 | G18: =E18/D18-1 -> 0.045465869 | H18: =E18/B18-1 -> 0.068506521 | I18: =F18/C18-1 -> 0.059224957
A19: RENTY
A20: RENTY RAZEM z tego: | B20: 1335.53 | C20: 1319.44 | D20: 1362.88 | E20: 1406.9 | F20: 1384.86 | G20: =E20/D20-1 -> 0.032299249 | H20: =E20/B20-1 -> 0.053439458 | I20: =F20/C20-1 -> 0.049581641
A21: RENTY Z TYTUŁU NIEZDOLNOŚCI DO PRACY RAZEM | B21: 1297.25 | C21: 1281.62 | D21: 1321.67 | E21: 1361.16 | F21: 1341.37 | G21: =E21/D21-1 -> 0.029878865 | H21: =E21/B21-1 -> 0.049265754 | I21: =F21/C21-1 -> 0.046620683
A22: w tym renty z tytułu niezdolności do pracy wypadkowe | B22: 1318.03 | C22: 1300.92 | D22: 1326.98 | E22: 1350.02 | F22: 1338.49 | G22: =E22/D22-1 -> 0.017362733 | H22: =E22/B22-1 -> 0.024271071 | I22: =F22/C22-1 -> 0.028879562
A23: Renty rolnicze z tytułu niezdolności do pracy | B23: 1297.81 | C23: 1282.18 | D23: 1322.12 | E23: 1361.31 | F23: 1341.68 | G23: =E23/D23-1 -> 0.029641787 | H23: =E23/B23-1 -> 0.04892858 | I23: =F23/C23-1 -> 0.046405341
A24: Renty z tytułu niezdolności do pracy za przekazane gospodarstwo rolne Państwu | B24: 1126.19 | C24: 1124.93 | D24: 1161.7 | E24: 1338.31 | F24: 1247.09 | G24: =E24/D24-1 -> 0.1520272 | H24: =E24/B24-1 -> 0.18835188 | I24: =F24/C24-1 -> 0.10859342
A25: Renty z tytułu niezdolności do pracy za przekazane gospodarstwo rolne następcy | B25: 1072.91 | C25: 1059.28 | D25: 1087 | E25: 1121.32 | F25: 1103.66 | G25: =E25/D25-1 -> 0.031573137 | H25: =E25/B25-1 -> 0.04512028 | I25: =F25/C25-1 -> 0.041896382
A26: Renty z tytułu niezdolności do pracy nie związane z przekazaniem gospodarstwa rolnego | B26: 1331.81 | C26: 1314.41 | D26: 1364.44 | E26: 1422.54 | F26: 1392.94 | G26: =E26/D26-1 -> 0.042581572 | H26: =E26/B26-1 -> 0.068125333 | I26: =F26/C26-1 -> 0.059745437
A27: RENTY RODZINNE RAZEM | B27: 1502.93 | C27: 1486.15 | D27: 1540.61 | E27: 1602.13 | F27: 1571.47 | G27: =E27/D27-1 -> 0.039932235 | H27: =E27/B27-1 -> 0.066004405 | I27: =F27/C27-1 -> 0.057410086
A28: w tym renty rodzinne wypadkowe | B28: 1556.84 | C28: 1543.22 | D28: 1581.09 | E28: 1637.76 | F28: 1609.26 | G28: =E28/D28-1 -> 0.035842362 | H28: =E28/B28-1 -> 0.051977082 | I28: =F28/C28-1 -> 0.042793639
A29: Renty rodzinne rolnicze | B29: 1493.23 | C29: 1476.74 | D29: 1531.11 | E29: 1591.74 | F29: 1561.52 | G29: =E29/D29-1 -> 0.039598722 | H29: =E29/B29-1 -> 0.065971083 | I29: =F29/C29-1 -> 0.057410241
A30: Renty rodzinne za przekazane gospodarstwo rolne Państwu | B30: 1818.58 | C30: 1789.95 | D30: 1872.55 | E30: 1965.19 | F30: 1918.62 | G30: =E30/D30-1 -> 0.049472644 | H30: =E30/B30-1 -> 0.080617845 | I30: =F30/C30-1 -> 0.07188469
A31: Renty rodzinne za przekazane gospodarstwo rolne następcy | B31: 1778.96 | C31: 1751.89 | D31: 1819 | E31: 1908.51 | F31: 1863.42 | G31: =E31/D31-1 -> 0.049208356 | H31: =E31/B31-1 -> 0.072823447 | I31: =F31/C31-1 -> 0.063662673
A32: Renty rodzinne nie związane z przekazaniem gospodarstwa rolnego | B32: 1670.9 | C32: 1638.65 | D32: 1707.45 | E32: 1804.19 | F32: 1755.61 | G32: =E32/D32-1 -> 0.056657589 | H32: =E32/B32-1 -> 0.079771381 | I32: =F32/C32-1 -> 0.071375828
A33: 1) Kwota nie obejmuje należnych świadczeń z innych systemów ubezpieczeniowych, wypłacanych w tzw. zbiegu z emeryturą lub rentą rolną.

Sheet Tab 8 (18)
A1: ='Tab 1 (11)'!A1 -> II. FUNDUSZ EMERYTALNO-RENTOWY | I1: Powrót do spisu treści
A3: TABLICA 8 (18). PRZECIĘTNE MIESIĘCZNE ŚWIADCZENIE EMERYTALNO-RENTOWE WEDŁUG WOJEWÓDZTW ORAZ PRZECIĘTNE MIESIĘCZNE ŚWIADCZENIE EMERYTALNE WYPŁACONE PRZEZ MON, MSWiA i MS
A4: Wyszczególnienie | B4: Ogółem1) | C4: w tym:
C5: emerytury | D5: renty razem | E5: z tego:
E6: z tytułu niezdolności do pracy | G6: rodzinne
E7: ogółem | F7: w tym wypadkowe | G7: ogółem | H7: w tym wypadkowe
B9: ='Tab 6 (16)'!B9:H9 -> I PÓŁROCZE 2022 R.
B10: w złotych
A11: OGÓŁEM | B11: 1392.63 | C11: 1394.83 | D11: 1384.86 | E11: 1341.37 | F11: 1338.49 | G11: 1571.47 | H11: 1609.26
A12: dolnośląskie | B12: 1358.3 | C12: 1359.44 | D12: 1354.18 | E12: 1316.61 | F12: 1291.11 | G12: 1516.53 | H12: 1383.55
A13: kujawsko-pomorskie | B13: 1423.37 | C13: 1421.69 | D13: 1429.22 | E13: 1369.54 | F13: 1377.55 | G13: 1742.71 | H13: 1835.28
A14: lubelskie | B14: 1400.32 | C14: 1405.04 | D14: 1383.68 | E14: 1343.86 | F14: 1341.28 | G14: 1563.93 | H14: 1542.12
A15: lubuskie | B15: 1327.04 | C15: 1318.82 | D15: 1350.38 | E15: 1314.71 | F15: 1253.13 | G15: 1535.83 | H15: 1438.4
A16: łódzkie | B16: 1408.89 | C16: 1399.12 | D16: 1459.49 | E16: 1349.2 | F16: 1331.51 | G16: 1838.43 | H16: 2242.21
A17: małopolskie | B17: 1371.9 | C17: 1377.78 | D17: 1359.62 | E17: 1335.77 | F17: 1327.78 | G17: 1513.09 | H17: 1530.81
A18: mazowieckie | B18: 1403.68 | C18: 1409.42 | D18: 1379.22 | E18: 1334.39 | F18: 1352.23 | G18: 1523.51 | H18: 1608.15
A19: opolskie | B19: 1402.91 | C19: 1396.29 | D19: 1442.55 | E19: 1370.4 | F19: 1375.21 | G19: 1660.66 | H19: 1570.48
A20: podkarpackie | B20: 1388.98 | C20: 1394.99 | D20: 1370.79 | E20: 1335.21 | F20: 1328.71 | G20: 1554.88 | H20: 1656.37
A21: podlaskie | B21: 1425.6 | C21: 1431.41 | D21: 1401.94 | E21: 1343.26 | F21: 1344.92 | G21: 1620 | H21: 1621.15
A22: pomorskie | B22: 1394.19 | C22: 1396.22 | D22: 1388.46 | E22: 1344.83 | F22: 1346.89 | G22: 1585.16 | H22: 1546.42
... A27: zachodniopomorskie | B27: 1388.47 | C27: 1383.45 | D27: 1406.1 | E27: 1342.34 | F27: 1307.72 | G27: 1683.39 | H27: 1422.85
A28: Emerytury finansowane z funduszu emerytalno-rentowego, wypłacane przez MON, MSWiA, MS z tego: | B28: =C28 -> 633.56 | C28: 633.56 | D28: 0 | E28: 0 | F28: 0 | G28: 0 | H28: 0
A29: MON | B29: =C29 -> 720.64 | C29: 720.64 | D29: 0 | E29: 0 | F29: 0 | G29: 0 | H29: 0
A30: MSWiA | B30: =C30 -> 620.28 | C30: 620.28 | D30: 0 | E30: 0 | F30: 0 | G30: 0 | H30: 0
A31: MS | B31: =C31 -> 583.55 | C31: 583.55 | D31: 0 | E31: 0 | F31: 0 | G31: 0 | H31: 0
A32: 1) Kwota nie obejmuje należnych świadczeń z innych systemów ubezpieczeniowych, wypłacanych w tzw. zbiegu z emeryturą lub rentą rolną.

Sheet Tab 9 (19) i 10 (20)
A1: ='Tab 8 (18)'!A1:H1 -> II. FUNDUSZ EMERYTALNO-RENTOWY | J1: Powrót do spisu treści
A3: TABLICA 9 (19). ZASIŁKI MACIERZYŃSKIE
A4: Wyszczególnienie | B4: 2021 rok | D4: 2022 rok
B5: II kwartał | C5: I półrocze | D5: I kwartał | E5: II kwartał | F5: I półrocze | G5: porównanie (wzrost/spadek)
G6: II kwartału 2022 r. z I kwartałem 2022 r. | H6: II kwartału 2022 r. z II kwartałem 2021 r. | I6: I półrocza 2022 r. z I półroczem 2021 r.
