Workbook

Sheet Wstęp
A1: Państwowe Gospodarstwo Wodne Wody Polskie
J2: nr sprawy: | K2: P.RZP.
A3: RAPORT PODSUMOWUJĄCY z dokonanej oceny ryzyka / aktualizacji oceny ryzyka * w obszarze zasilania ujęcia wody wykorzystywanego do poboru wody przeznaczonej do spożycia przez ludzi * niewłaściwe skreślić
A10: Dostawca wody:
D11: (adres)
A14: Ujęcie , dla którego sporządzona została ocena ryzyka (nazwa ujęcia/ miejscowość/ gmina):
A18: Właściwy terytorialnie Regionalny Zarząd Gospodarki Wodnej:
A21: ID OCENY RYZYKA:
F22: (wypełnia właściwy RZGW)
A23: Data wpływu oceny ryzyka do RZGW:
F24: (wypełnia właściwy RZGW)
A25: Data wpływu raportu podsumowującego do RZGW:
F26: (wypełnia właściwy RZGW)

Sheet 1 Dane dostawcy wody
A1: I. DANE IDENTYFIKUJĄCE DOSTAWCĘ WODY - ODPOWIEDZIALNEGO ZA DOKONANIE OCENY RYZYKA W OBSZARZE ZASILANIA UJĘCIA WODY
A2: Lp. | B2: Informacja wymagana | D2: Pole do uzupełnienia
A3: 1 | B3: 2 | D3: 3
A4: 1 | B4: Imię i nazwisko albo nazwa (firma)
A5: 2a | B5: Dane adresowe dostawcy wody | C5: ulica
A6: 2b | C6: numer budynku/lokalu
A7: 2c | C7: kod pocztowy
A8: 2d | C8: miejscowość
A9: 3 | B9: Numer w rejestrze przedsiębiorców Krajowego Rejestru Sądowego albo w Centralnej Ewidencji i Informacji o Działalności Gospodarczej [o ile taki numer posiada]
A10: 4 | B10: Numer identyfikacji podatkowej (NIP) [o ile taki numer posiada]
A11: 5 | B11: Numer telefonu
A12: 6 | B12: Adres poczty elektronicznej
A13: 7 | B13: Dane kontaktowe osoby sporządzającej raport podsumowujący

Sheet 1a Strefa zaop_1b Dane ujęcia
A1: 1a. STREFA ZAOPATRZENIA W WODĘ - oznaczenie strefy zaopatrzenia wraz z ujęciami wody wykorzystywanymi do poboru wody przeznaczonej do spożycia przez ludzi | D1: 1b. DANE UJĘCIA WODY wykorzystywanego do poboru wody przeznaczonej do spożycia przez ludzi, dla którego opracowano ocenę ryzyka w obszarze zasilania ujęcia
A2: Informacja | B2: Pole do uzupełnienia | D2: Nazwa ujęcia | E2: Adres ujęcia (jeżeli posiada, w innym wypadku należy podać współrzędne poszczególnych studni w odpowiedniej kolumnie 9 i 10) [niewymagane] | F2: Liczba istniejących studni na ujęciu (wody powierzchniowe) i / lub studni ujęcia (wody podziemne) (eksploatowanych, awaryjnych, zastępczych, nieczynnych) | G2: Ujęty poziom wodonośny (wody podziemne) | H2: Woda powierzchniowa (np. nazwa cieku, akwenu, zbiornika, itp.) | I2: Identyfikator studni ujęcia CBDH (Centralna Baza Danych Hydrogeologicznych - prowadzona przez PIG-PIB) | J2: Współrzędne geograficzne ujęcia* - szerokość * - w przypadku ujęcia wielootworowego należy podać współrzędne wszystkich studni | K2: Współrzędne geograficzne ujęcia* - długość * - w przypadku ujęcia wielootworowego należy podać współrzędne wszystkich studni | L2: Ustalone / zatwierdzone zasoby eksploatacyjne ujęcia [m3/h] [niewymagane] | M2: Numer aktualnego pozwolenia wodnoprawnego na pobór wód do zaopatrzenia ludności w wodę przeznaczoną do spożycia [niewymagane] | N2: Data wydania pozwolenia wodnoprawnego [niewymagane] | O2: Data obowiązywania pozwolenia wodnoprawnego [niewymagane] | P2: Organ wydający pozwolenie wodnoprawne na pobór wód do zaopatrzenia ludności w wodę przeznaczoną do spożycia [niewymagane] | Q2: Rzeczywisty pobór wód podziemnych / powierzchniowych za rok poprzedzający dokonaną ocenę ryzyka [m3/rok] dla ujęcia | R2: Średniodobowy pobór wód podziemnych / powierzchniowych za rok poprzedzający dokonaną ocenę ryzyka [m3/d] dla ujęcia
A3: 1 | B3: 2 | D3: 3 | E3: 4 | F3: 5 | G3: 6 | H3: 7 | I3: 8 | J3: 9 | K3: 10 | L3: 11 | M3: 12 | N3: 13 | O3: 14 | P3: 15 | Q3: 16 | R3: 17
A4: Nazwa strefy zaopatrzenia (np. wodociąg Karki Dolne… - najczęściej zgodnie z miejscowością lub obszarem, który ujęcia zaopatruje w wodę)
A5: Liczba ujęć w strefie zaopatrzenia (dotyczy ilości ujęć w strefie zaopatrzenia w wodę należących do raportującego) / następnie od kolumny nr 3 w części Ib arkusza należy opisać wyłącznie 1 ujęcie. Kolejne ujęcie należy opisać w ramach odrębnej tabeli raportowej a nie w kolejnych wierszach w części Ib arkusza
A6: Miejscowości zaopatrywane w wodę do spożycia, w granicach strefy zaopatrzenia (dotyczy strefy zaopatrzenia obsługiwanej przez podmiot raportujący np. gmina, miejscowość / dodatkowo dopuszcza się dołączenie załącznika graficznego)
A7: Liczba ludności zaopatrywanej w wodę przeznaczoną do spożycia, w granicach strefy zaopatrzenia - z uwzględnieniem podziału na ujęcia (w przypadku braku danych podać szacunek na podstawie realizowanego poboru i średniego zużycia / 1 mieszkańca / dobę)

Sheet 2 Charakterystyka ob_zasilania
A1: II. CHARAKTERYSTYKA OBSZARU ZASILANIA UJĘCIA WODY WYKORZYSTYWANEGO DO POBORU WODY PRZEZNACZONEJ DO SPOŻYCIA PRZEZ LUDZI
A2: UWAGA! Należy wypełnić dla ujęcia wskazanego w arkuszu "1a Strefa zaopatrzenia"
A3: Lp. | B3: Oznaczenie i identyfikacja obszaru zasilania ujęcia wody - art. 4f ust. 2 pkt 2 lit. a | M3: Dane o strefie ochronnej ujęcia - art. 4f ust. 2 pkt 2 lit. b | Q3: Dane o obszarze ochronnym zbiornika wód śródlądowych - art. 4f ust. 1 pkt 6 (dot. zawartości oceny ryzyka) | V3: Dane o zagospodarowaniu terenu w granicach obszaru zasilania ujęcia wody, dopływie wody oraz odnawialności zasobów ujęcia wody - art. 4f ust. 2 pkt 2 lit. d | AA3: Dane o lokalizacji innych ujęć / wszystkich ujęć wody wykorzystywanych do poboru wody przeznaczonej do spożycia przez ludzi w obszarze zasilania ujęcia tej wody - art. 4f ust. 2 pkt 2 lit. c | AB3: Analiza ryzyka
B4: Nazwa ujęcia | C4: Rodzaj ujęcia (ujęcie wody powierzchniowej, podziemnej, infiltracyjne, mieszane) | D4: Województwo/a | E4: Powiat/y | F4: Gmina/y | G4: Nazwa/y JCWP, w obrębie których zlokalizowany jest obszar zasilania ujęcia wody | H4: Kod/y JCWP, w obrębie których zlokalizowany jest obszar zasilania ujęcia wody | I4: JCWPd, w obrębie których zlokalizowany jest obszar zasilania ujęcia wody (kod) | J4: Powierzchnia obszaru zasilania [km2] [niewymagane] | K4: Czy obszar zasilania ujęcia wody został wyznaczony na podstawie: zatwierdzonej dokumentacji hydrogeologicznej / analizy hydrogeologicznej na potrzeby analizy ryzyka; analiz hydrologicznych służących ustaleniu zasobów eksploatacyjnych ujęcia wód powierzchniowych/służących analizie ryzyka? [TAK/NIE]? (należy podać tytuł(ły) opracowania(wań)) | L4: Czy obszar zasilania ujęcia wody jest przedstawiony w pliku wektorowym (np. shp)? [TAK / NIE] - jeśli TAK niezbędne przekazanie pliku do organu - jeśli NIE obszar zasilania przedstawiony na mapie wskazującej granicę obszaru zasilania | M4: Rodzaj ustanowionej strefy ochronnej (teren ochrony bezpośredniej / teren ochrony pośredniej) | N4: Nr decyzji / publikator rozporządzenia | O4: Data wydania | P4: Organ wydający | Q4: Czy został ustanowiony? [TAK/NIE] | R4: Nazwa oraz numer zbiornika wód podziemnych / nazwa zbiornika wód powierzchniowych [jeśli ustanowiono obszar ochronny] | S4: Publikator rozporządzenia | T4: Data wydania | U4: Organ wydający | V4: Informacja o wykorzystaniu / zagospodarowaniu gruntów w granicach obszaru zasilania ujęcia [opis] | W4: Informacja o dopływie wody do ujęcia [np. opis czasu dopływu wody do ujęcia (pionowy i/lub poziomy) w latach] (na podstawie danych analizy ryzyka, dokumentacji hydrogeologicznej, analiz hydrologicznych, oceny ryzyka) | X4: Informacja o kierunku dopływu wody do ujęcia, czasie przepływu wody z rejonu zidentyfikowanych ognisk zanieczyszczeń do ujęcia wody [w latach] (na podstawie danych analizy ryzyka, dokumentacji hydrogeologicznej, analiz hydrologicznych, oceny ryzyka) [niewymagane] | Y4: Informacja o procesach odnawiania zasobów wody [opis] | Z4: Wielkość przyjętego dla obszaru bilansowego modułu zasobów odnawialnych [m3/d*km2] [niewymagane] | AA4: Współrzędne geograficzne wszystkich ujęć wody raportującego wykorzystywanych do poboru wody przeznaczonej do spożycia przez ludzi w obszarze zasilania ujęcia wody raportującego oraz ogólna informacja opisowa (bez podawania współrzędnych) o funkcjonowaniu innych ujęć wody wykorzystywanych do poboru wody przeznaczonej do spożycia przez ludzi w obszarze zasilania raportowanego ujęcia wody | AB4: Czy ujęcie posiada opracowaną analizę ryzyka w rozumieniu art. 133 ust. 3 ustawy Prawo wodne? [TAK/NIE]
A5: 1 | B5: 2 | C5: 3 | D5: 4 | E5: 5 | F5: 6 | G5: 7 | H5: 8 | I5: 9 | J5: 10 | K5: 11 | L5: 12 | M5: 13 | N5: 14 | O5: 15 | P5: 16 | Q5: 17 | R5: 18 | S5: 19 | T5: 20 | U5: 21 | V5: 22 | W5: 23 | X5: 24 | Y5: 25 | Z5: 26 | AA5: 27 | AB5: 28

Sheet 3 Wyniki_monitoringu
A1: III. PODSUMOWANIE WYNIKÓW MONITORINGU WÓD POWIERZCHNIOWYCH I PODZIEMNYCH
A2: Lp. | B2: Podsumowanie wyników monitoringu wód powierzchniowych i podziemnych służący dokonaniu oceny stanu wód, o którym mowa art. 349 ust. 1 pkt 1 ustawy Prawo wodne - art. 4f ust. 2 pkt 4 lit. a | E2: Podsumowanie wyników badań parametrów - lista obserwacyjna - art. 4f ust. 2 pkt 4 lit. b | G2: Monitoring JCWP pobieranych na potrzeby zaopatrzenia w wodę przeznaczoną do spożycia przez ludzi - art. 4f ust. 2 pkt 4 lit. c
B3: Wyniki monitoringu wód powierzchniowych i podziemnych - czy są dostępne? [TAK/NIE] Jeśli dane są dostępne należy je przedstawić odrębnie dla każdej jednolitej części wód | C3: Jednolita część wód, której dotyczy monitoring [powierzchniowa: nazwa i kod oraz podziemna: kod] | D3: Parametry, dla których odnotowano przekroczenia wartości dobrego stanu wód [opis] | E3: Podsumowanie wyników badań parametrów objętych listą obserwacyjną (art. 13 ust. 8 dyrektywy Parlamentu Europejskiego i Rady (UE) 2020/2184 z dnia 16 grudnia 2020 r. w sprawie jakości wody przeznaczonej do spożycia przez ludzi) | F3: Uzasadnienie braku badań | G3: Czy wody pobierane są z jednolitej części wód powierzchniowych? [TAK/NIE] jeśli NIE - nie dotyczy | H3: Jeśli pobór z JCWP - ocena, czy wody powierzchniowe odpowiadają wymaganiom, jakim powinny odpowiadać wody wykorzystywane do zaopatrzenia ludności w wodę przeznaczoną do spożycia na podstawie art. 74 ust. 1 ustawy Prawo wodne ocena dotyczy jakości WODY SUROWEJ [TAK - odpowiadają/funkcjonujące ujęcie; NIE]
A4: 1 | B4: 2 | C4: 3 | D4: 4 | E4: 5 | F4: 6 | G4: 7 | H4: 8

Sheet 4Wykaz zagrożeń_środki kontroli
A1: IV. OCENA RYZYKA W OBSZARZE ZASILANIA UJĘCIA WODY ORAZ PROPOZYCJA ŚRODKÓW KONTROLI RYZYKA, KTÓRE NALEŻY UZNAĆ ZA ISTOTNE W ZWIĄZKU Z WYKAZEM ZAGROŻEŃ I ZDARZEŃ NIEBEZPIECZNYCH ORAZ OCENĄ RYZYKA
A2: Lp. | B2: Wykaz zagrożeń i zdarzeń niebezpiecznych w obszarze zasilania ujęcia wykorzystywanego do poboru wody przeznaczonej do spożycia przez ludzi wraz z oceną ryzyka, jakie mogłyby stwarzać dla jakości tej wody [uzupełnia dostawca wody] - art. 4f ust. 2 pkt 3 oraz art. 4f ust. 1 pkt 5 (ocena ryzyka zawiera obligatoryjnie analizę ryzyka, która wymaga identyfikacji zagrożeń stanu) | P2: Propozycja środków/działań zapobiegających ryzyku art. 4f ust. 2 pkt 5 [wyszczególnienie / opis]
B3: Czy zagrożenie występuje / zostało zidentyfikowane? [TAK / NIE] | C3: Czy występują / mogą wystąpić zdarzenia niebezpieczne? [TAK / NIE] | D3: Zidentyfikowane zagrożenie | E3: Zdarzenie niebezpieczne [związane z zidentyfikowanym w kol. 4 zagrożeniem również w przypadku potencjalnego wystąpienia] | F3: Przyczyna ryzyka | G3: Skutki zidentyfikowanego ryzyka dla ujęcia | H3: Ocena ryzyka - art. 4f ust. 2 pkt 3 UWAGA!!! propozycja obliczenia poziomu ryzyka opartego na matrycy trójparametrycznej ma charakter wyłącznie pomocniczy (źródło: Strefy ochronne ujęć wód podziemnych - analiza ryzyka i projektowanie; poradnik metodyczny; Część 1 Analiza ryzyka dla ustanowienia stref ochronnych ujęć wód podziemnych; PIG-PIB; Warszawa 2022); nie ma obowiązku zastosowania parametru V (podatność na zagrożenie) | M3: Opis ryzyka. Wyjaśnienie, czy występuje ryzyko pogorszenia jakości wody w stopniu zagrażającym zdrowiu ludzi? | N3: Identyfikacja podmiotu powodującego ryzyko [niewymagane] | O3: Propozycja środków kontroli ryzyka dla zidentyfikowanych zagrożeń / zdarzeń niebezpiecznych [wskazanie grupy środków: prawne/techniczne/finansowe/organizacyjne/działania] | P3: Propozycja środków/działań zapobiegających ryzyku | Q3: Opis działania | R3: Możliwość prawna zastosowania działania [TAK/NIE] jeśli TAK -kol. 20 [niewymagane] | S3: Podstawa prawna działania [niewymagane]
H4: Prawdopodobieństwo (P) | I4: Dotkliwość następstw (D) | J4: Podatność obszaru zasilania na zagrożenie / zdarzenie niebezpieczne (V) [niewymagane] | K4: Poziom ryzyka R = P*D*V [wzór odpowiednio dostosowany] | L4: Ewaluacja ryzyka [np. akceptowalne, kontrolowane, nieakceptowalne]
A5: 1 | B5: 2 | C5: 3 | D5: 4 | E5: 5 | F5: 6 | G5: 7 | H5: 8 | I5: 9 | J5: 10 | K5: 11 | L5: 12 | M5: 13 | N5: 15 | O5: 16 | P5: 17 | Q5: 18 | R5: 19 | S5: 20

Sheet Spis załączników
A1: XXX. Spis załączników
A2: Lp. | B2: Nr załącznika i jego tytuł | C2: Rodzaj załącznika (graficzny, tabelaryczny, warstwy wektorowe?)
A3: 1 | B3: 2 | C3: 3
A4: 1
A5: 2
A6: 3
A7: 4
A8: 5

Sheet Pomoc_źródła
B1: Pomocnicze wskazanie potencjalnych źródeł do wykorzystania na potrzeby wypełnienia poszczególnych arkuszy
B2: arkusz: 1 Dane dostawcy wody | I2: 1a Strefa zaopatrzenia (arkusz: 1a Strefa zaop_1b Dane ujęcia) | M2: 1b Dane ujęcia (arkusz: 1a Strefa zaop_1b Dane ujęcia) | AC2: arkusz: 2 Charakterystyka ob_zasilania | BE2: arkusz: 3 Wyniki_monitoringu | BL2: arkusz: 4 Wykaz zagrożeń_środki kontroli
B3: DANE IDENTYFIKUJĄCE DOSTAWCĘ WODY - ODPOWIEDZIALNEGO ZA DOKONANIE OCENY RYZYKA W OBSZARZE ZASILANIA UJĘCIA WODY | I3: STREFA ZAOPATRZENIA W WODĘ - oznaczenie strefy zaopatrzenia wraz z ujęciami wody wykorzystywanymi do poboru wody przeznaczonej do spożycia przez ludzi STREFA ZAOPATRZENIA W WODĘ - oznaczenie strefy zaopatrzenia wraz z ujęciami wody wykorzystywanymi do poboru wody przeznaczonej do spożycia przez ludzi | AC3: Charakterystyka obszaru zasilania ujęcia wody [uzupełnia dostawca wody] | BD3: Analiza ryzyka | BE3: Podsumowanie wyników monitoringu wód powierzchniowych i podziemnych [uzupełnia dostawca wody] - art. 4f ust. 2 pkt 4 | BL3: OCENA RYZYKA W OBSZARZE ZASILANIA UJĘCIA WODY ORAZ PROPOZYCJA ŚRODKÓW KONTROLI RYZYKA, KTÓRE NALEŻY UZNAĆ ZA ISTOTNE W ZWIĄZKU Z WYKAZEM ZAGROŻEŃ I ZDARZEŃ NIEBEZPIECZNYCH ORAZ OCENĄ RYZYKA Wykaz zagrożeń i zdarzeń niebezpiecznych w obszarze zasilania ujęcia wykorzystywanego do poboru wody przeznaczonej do spożycia przez ludzi wraz z oceną ryzyka, jakie mogłyby stwarzać dla jakości tej wody - art. 4f ust. 2 pkt 3 oraz art. 4f ust. 1 pkt 5 (ocena ryzyka zawiera obligatoryjnie analizę ryzyka, która wymaga identyfikacji zagrożeń stanu) | BZ3: Propozycja środków/działań zapobiegających ryzyku - art. 4f ust. 2 pkt 5
I4: STREFA ZAOPATRZENIA W WODĘ - oznaczenie strefy zaopatrzenia wraz z ujęciami wody wykorzystywanymi do poboru wody przeznaczonej do spożycia przez ludzi | M4: 1b. Dane ujęcia wody wykorzystywanego do poboru wody przeznaczonej do spożycia przez ludzi, dla którego opracowano ocenę ryzyka w obszarze zasilania ujęcia | AC4: Oznaczenie i identyfikacja obszaru zasilania ujęcia wody - art. 4f ust. 2 pkt 2 lit. a | AO4: Dane o strefie ochronnej ujęcia - art. 4f ust. 2 pkt 2 lit. b | AS4: Dane o obszarze ochronnym zbiornika wód śródlądowych - art. 4f ust. 1 pkt 6 (dot. zawartości oceny ryzyka) | AX4: Dane o zagospodarowaniu terenu w granicach obszaru zasilania ujęcia wody, dopływie wody oraz odnawialności zasobów ujęcia wody - art. 4f ust. 2 pkt 2 lit. d | BC4: Dane o lokalizacji innych ujęć / wszystkich ujęć wody wykorzystywanych do poboru wody przeznaczonej do spożycia przez ludzi w obszarze zasilania ujęcia tej wody - art. 4f ust. 2 pkt 2 lit. c | BE4: Podsumowanie wyników monitoringu wód powierzchniowych / podziemnych służący dokonaniu oceny stanu wód, o którym mowa art. 349 ust. 1 pkt 1 ustawy Prawo wodne | BH4: Podsumowanie wyników badań parametrów - lista obserwacyjna - art. 4f ust. 2 pkt 4 lit. b | BJ4: Monitoring JCWP pobieranych na potrzeby zaopatrzenia w wodę przeznaczoną do spożycia przez ludzi - art. 4f ust. 2 pkt 4 lit. c
B5: Imię i nazwisko albo nazwa (firma) | C5: Adres zamieszkania albo siedziby (ulica, kod pocztowy, miejscowość) | D5: Numer w rejestrze przedsiębiorców (o ile posiada) | E5: NIP (o ile posiada) | F5: Numer telefonu | G5: Adres poczty elektronicznej | H5: Dane kontaktowe osoby sporządzającej raport podsumowujący | I5: Nazwa strefy zaopatrzenia (np. wodociąg Karki Dolne… - najczęściej zgodnie z miejscowością lub obszarem, który ujęcia zaopatruje w wodę) | J5: Liczba ujęć w strefie zaopatrzenia (dotyczy ilości ujęć w strefie zaopatrzenia w wodę należących do raportującego) / następnie od kolumny nr 3 w części Ib arkusza należy opisać wyłącznie 1 ujęcie. Kolejne ujęcie należy opisać w ramach odrębnej tabeli raportowej a nie w kolejnych wierszach w części Ib arkusza | K5: Miejscowości zaopatrywane w wodę do spożycia, w granicach strefy zaopatrzenia (dotyczy strefy zaopatrzenia obsługiwanej przez podmiot raportujący np. gmina, miejscowość / dodatkowo dopuszcza się dołączenie załącznika graficznego) | L5: Liczba ludności zaopatrywanej w wodę przeznaczoną do spożycia, w granicach strefy zaopatrzenia - z uwzględnieniem podziału na ujęcia (w przypadku braku danych podać szacunek na podstawie realizowanego poboru i średniego zużycia / 1 mieszkańca / dobę) | M5: Nazwa ujęcia | O5: Liczba istniejących studni na ujęciu (wody powierzchniowe) i / lub studni ujęcia (wody podziemne) (eksploatowanych, awaryjnych, zastępczych, nieczynnych) | P5: Ujęty poziom wodonośny (wody podziemne) | T5: Współrzędne geograficzne ujęcia* - szerokość * - w przypadku ujęcia wielootworowego należy podać współrzędne wszystkich studni | U5: Współrzędne geograficzne ujęcia* - długość * - w przypadku ujęcia wielootworowego należy podać współrzędne wszystkich studni | V5: Ustalone / zatwierdzone zasoby eksploatacyjne ujęcia [m3/h] (wody podziemne) | W5: Numer aktualnego pozwolenia wodnoprawnego na pobór wód do zaopatrzenia ludności w wodę przeznaczoną do spożycia | X5: Data wydania pozwolenia wodnoprawnego | Y5: Data obowiązywania pozwolenia wodnoprawnego | Z5: Organ wydający pozwolenie wodnoprawne na pobór wód do zaopatrzenia ludności w wodę przeznaczoną do spożycia | AA5: Rzeczywisty pobór wód podziemnych / powierzchniowych za rok poprzedzający dokonaną ocenę ryzyka [m3/rok] dla ujęcia | AB5: Średniodobowy pobór wód podziemnych / powierzchniowych za rok poprzedzający dokonaną ocenę ryzyka [m3/d] dla ujęcia | AC5: Nazwa ujęcia | AE5: Województwo/a | AF5: Powiat/y | AG5: Gmina/y | AH5: Nazwa/y JCWP, w obrębie których zlokalizowany jest obszar zasilania ujęcia wody | AI5: Kod/y JCWP, w obrębie których zlokalizowany jest obszar zasilania ujęcia wody | AJ5: JCWPd, w obrębie których zlokalizowany jest obszar zasilania ujęcia wody (kod) | AL5: Czy obszar zasilania ujęcia wody został wyznaczony na podstawie: zatwierdzonej dokumentacji hydrogeologicznej / analizy hydrogeologicznej na potrzeby analizy ryzyka; analiz hydrologicznych służących ustaleniu zasobów eksploatacyjnych ujęcia wód powierzchniowych/służących analizie ryzyka? [TAK/NIE]? (należy podać tytuł(ły) opracowania(wań)) | AN5: Czy obszar zasilania ujęcia wody jest przedstawiony w pliku wektorowym (np. shp)? [TAK / NIE] - jeśli TAK niezbędne przekazanie pliku do organu - jeśli NIE obszar zasilania przedstawiony na mapie wskazującej granicę obszaru zasilania | AO5: Rodzaj ustanowionej strefy ochronnej (teren ochrony bezpośredniej/ teren ochrony pośredniej) | AP5: Nr decyzji / publikator rozporządzenia | AQ5: Data wydania | AR5: Organ wydający | AS5: Czy został ustanowiony? [TAK/NIE/informacja o złożeniu wniosku do wojewody] | AT5: Nazwa oraz numer zbiornika wód podziemnych / nazwa zbiornika wód powierzchniowych [jeśli ustanowiono obszar ochronny podać numer zbiornika i jego nazwę] | AU5: Publikator rozporządzenia | AV5: Data wydania | AX5: Informacja o wykorzystaniu / zagospodarowaniu gruntów w granicach obszaru zasilania ujęcia [opis] | AY5: Informacja o dopływie wody do ujęcia [np. opis czasu dopływu wody do ujęcia (pionowy i/lub poziomy) w latach] (na podstawie danych analizy ryzyka, dokumentacji hydrogeologicznej, analiz hydrologicznych, oceny ryzyka) | AZ5: Informacja o kierunku dopływu wody do ujęcia, czasie przepływu wody z rejonu zidentyfikowanych ognisk zanieczyszczeń do ujęcia wody [w latach] (na podstawie danych analizy ryzyka, dokumentacji hydrogeologicznej, analiz hydrologicznych, oceny ryzyka) | BA5: Informacja o procesach odnawiania zasobów wody [opis] | BB5: Wielkość przyjętego dla obszaru bilansowego modułu zasobów odnawialnych [m3/d*km2] | BC5: Współrzędne geograficzne wszystkich ujęć wody raportującego wykorzystywanych do poboru wody przeznaczonej do spożycia przez ludzi w obszarze zasilania ujęcia wody raportującego oraz ogólna informacja opisowa (bez podawania współrzędnych) o funkcjonowaniu innych ujęć wody wykorzystywanych do poboru wody przeznaczonej do spożycia przez ludzi w obszarze zasilania raportowanego ujęcia wody | BD5: Czy ujęcie posiada opracowaną analizę ryzyka w rozumieniu art. 133 ust. 3 ustawy Prawo wodne? [TAK / NIE] | BE5: Wyniki monitoringu wód powierzchniowych i podziemnych - czy są dostępne? [TAK/NIE] Jeśli dane są dostępne należy je przedstawić odrębnie dla każej jednolitej części wód | BF5: Jednolita część wód, której dotyczy monitoring [powierzchniowa: nazwa, kod oraz podziemna: kod] | BG5: Parametry, dla których odnotowano przekroczenia wartości dobrego stanu wód [opis] | BH5: Podsumowanie wyników badań parametrów objętych listą obserwacyjną (art. 13 ust. 8 dyrektywy Parlamentu Europejskiego i Rady (UE) 2020/2184 z dnia 16 grudnia 2020 r. w sprawie jakości wody przeznaczonej do spożycia przez ludzi) | BI5: Uzasadnienie braku badań | BJ5: Czy wody pobierane są z jednolitej części wód powierzchniowych? [TAK / NIE] jeśli NIE - nie dotyczy | BK5: Jeśli pobór z JCWP - ocena, czy wody powierzchniowe odpowiadają wymaganiom, jakim powinny odpowiadać wody wykorzystywane do zaopatrzenia ludności w wodę przeznaczoną do spożycia na podstawie art. 74 ust. 1 ustawy Prawo wodne ocena dotyczy jakości WODY SUROWEJ [TAK / NIE] | BL5: Czy zagrożenie występuje / zostało zidentyfikowane? [TAK / NIE] | BM5: Czy występują / mogą wystąpić zdarzenia niebezpieczne? [TAK / NIE] | BN5: Zidentyfikowane zagrożenie | BO5: Zdarzenie niebezpieczne [związane z zidentyfikowanym w kol. 4 zagrożeniem również w przypadku potencjalnego wystąpienia] | BP5: Przyczyna ryzyka | BQ5: Skutki zidentyfikowanego ryzyka dla ujęcia | BR5: Ocena ryzyka - art. 4f ust. 2 pkt 3 | BW5: Opis ryzyka. Wyjaśnienie czy występuje ryzyko pogorszenia jakości wody w stopniu zagrażającym zdrowiu ludzi? | BX5: Identyfikacja podmiotu powodującego ryzyko | BY5: Propozycja środków kontroli ryzyka dla zidentyfikowanych zagrożeń / zdarzeń niebezpiecznych [wskazanie grupy środków: prawne/techniczne/finansowe/organizacyjne/działania] | BZ5: Propozycja środków/działań zapobiegających ryzyku | CA5: Opis działania | CB5: Możliwość prawna zastosowania działania [TAK / NIE] jeśliTAK - kol. 20 | CC5: Podstawa prawna działania
N6: Adres ujęcia (jeżeli posiada, w innym wypadku należy podać współrzędne poszczególnych studni w odpowiedniej kolumnie 9 i 10) | Q6: Nazwa cieku (wody powierzchniowe) | R6: Woda powierzchniowa (np. nazwa cieku, akwenu, zbiornika, itp.) | S6: Identyfikator studni ujęcia CBDH (Centralna Baza Danych Hydrogeologicznych - prowadzona przez PIG-PIB) | AD6: Rodzaj ujęcia (ujęcie wody powierzchniowej, podziemnej, infiltracyjne, mieszane) | AK6: Powierzchnia obszaru zasilania [km2] | AM6: Powierzchni obszaru zasilania [km2] | AW6: Organ wydający | BR6: Prawdopodobieństwo (P) | BS6: Dotkliwość następstw (D) | BT6: Podatność obszaru zasilania na zagrożenie / zdarzenie niebezpieczne (V) | BU6: Poziom ryzyka R=P*D*V | BV6: Ewaluacja ryzyka [np. akceptowalne, kontrolowane, nieakceptowalne]
B7: źródło: właściciel ujęcia https://aplikacja.ceidg.gov.pl/ Portal Rejestrów Sądowych https://wyszukiwarka-krs.ms.gov.pl/ | F7: źródło: właściciel ujęcia | I7: źródło: właściciel ujęcia | L7: źródło: właściciel ujęcia ocena obszarowa jakości wody przeznaczonej do spożycia przez ludzi (Państwowy Powiatowy Inspektor Sanitarny) | M7: źródło: właściciel ujęcia | N7: źródło: właściciel ujęcia | O7: Dokumentacja hydrogeologiczna, karty otworów, operat, pozwolenie wodnoprawne | Q7: Plany Gospodarowania Wodami (http://karty.apgw.gov.pl:4200/informacje) / http://karty.apgw.gov.pl:4200/jcw-powierzchniowe oraz Hydroportal https://wody.isok.gov.pl/imap_kzgw/?gpmap=gpSIGW&moduleId=gpPGW | R7: źródło: właściciel ujęcia | S7: np. https://geolog.pgi.gov.pl/ | T7: Dokumentacja hydrogeologiczna (w tym zasobowa), operat, pozwolenie wodnoprawne | W7: Decyzje administracyjne | AA7: źródło: właściciel ujęcia / Dane własne (książka eksploatacji ujęcia) | AC7: Dokumentacja hydrogeologiczna, operat, pozwolenie wodnoprawne | AD7: źródło: właściciel ujęcia | AE7: źródło: właściciel ujęcia | AH7: Plany Gospodarowania Wodami (http://karty.apgw.gov.pl:4200/informacje) / http://karty.apgw.gov.pl:4200/jcw-powierzchniowe oraz Hydroportal https://wody.isok.gov.pl/imap_kzgw/?gpmap=gpSIGW&moduleId=gpPGW | AJ7: Plany Gospodarowania Wodami (http://karty.apgw.gov.pl:4200/jcw-podziemne) | AK7: https://apgw.gov.pl | AL7: źródło: właściciel ujęcia | AO7: Decyzja administracyjna / akt prawa miejscowego / pomocniczo: https://www.gov.pl/web/wody-polskie/nowelizacja-ustawy-o-zbiorowym-zaopatrzeniu-w-wode-i-zbiorowym-odprowadzaniu-sciekow | AS7: pomocniczo: https://www.gov.pl/web/wody-polskie/nowelizacja-ustawy-o-zbiorowym-zaopatrzeniu-w-wode-i-zbiorowym-odprowadzaniu-sciekow | AT7: Akt prawa miejscowego \ Geoportal \ Geoportal \ HydroGeoPortal \ pomocniczo: https://www.gov.pl/web/wody-polskie/nowelizacja-ustawy-o-zbiorowym-zaopatrzeniu-w-wode-i-zbiorowym-odprowadzaniu-sciekow | AU7: Akt prawa miejscowego \ pomocniczo: https://www.gov.pl/web/wody-polskie/nowelizacja-ustawy-o-zbiorowym-zaopatrzeniu-w-wode-i-zbiorowym-odprowadzaniu-sciekow | AX7: Miejscowe Plany Zagospodarowania Przestrzennego, BDOT10k | AY7: Dokumentacja hydrogeologiczna, hydrologiczna, analizy hydrogeologiczne, hydrologiczne sporządzone na potrzeby analizy ryzyka | AZ7: Dokumentacja hydrogeologiczna, hydrologiczna, analizy hydrogeologiczne, hydrologiczne sporządzone na potrzeby analizy ryzyka | BA7: Na podstawie danych z Dokumentacji hydrogeologicznej | BB7: Na podstawie danych z Dokumentacji hydrogeologicznej | BC7: Centralny Bank Danych Hydrogeologicznych (PIG-PIB) na podstawie kart otworów, HydroGeoPortal (https://epsh.pgi.gov.pl/epsh/) | BD7: źródło: właściciel ujęcia | BE7: źródło: właściciel ujęcia JCWP: GIOŚ - najnowsze kompletne dla JCWP dane monitoringowe https://wody.gios.gov.pl/pjwp/publication/367 JCWPd: GIOŚ - najnowsze kompletne dla JCWPd dane monitoringowe | BF7: Plany Gospodarowania Wodami (http://karty.apgw.gov.pl:4200/informacje) | BG7: Włąściciel ujęcia JCWP: GIOŚ - najnowsze kompletne dla JCWP dane monitoringowe https://wody.gios.gov.pl/pjwp/publication/367 JCWPd: GIOŚ - najnowsze kompletne dla JCWPd dane monitoringowe | BH7: Właściciel ujęcia /informacja własna | BI7: Właściciel ujęcia /informacja własna | BJ7: Karty IIaPGW (Jcwp przenaczone do zaopatrzenia w wodę do spożycia przez ludzi) /pomocniczo karty charakterystyk JCWP dla IIaPGW (Jcwp przenaczone do zaopatrzenia w wodę do spożycia przez ludzi) http://karty.apgw.gov.pl:4200/jcw-powierzchniowe http://karty.apgw.gov.pl:4200/jcw-podziemne | BK7: Właściciel ujęcia Zgodnie z rozporządzeniem Ministra Gospodarki Morskiej i Żeglugi Śródlądowej z dnia 29 sierpnia 2019 r. w sprawie wymagań, jakim powinny odpowiadać wody powierzchniowe wykorzystywane do zaopatrzenia ludności w wodę przeznaczoną do spożycia (Dz.U. z 2019 r. poz. 1747) / funkcjonowanie ujęcia | BL7: Informacja własna / rozporządzenie z dnia 29 sierpnia 2019 r. w sprawie wymagań, jakim powinny odpowiadać wody powierzchniowe wykorzystywane do zaopatrzenia ludności w wodę przeznaczoną do spożycia (Dz.U. z 2019 r. poz. 1747) Rozporządzenie z dnia 22 maja 2026 r. w sprawie jakości wody przeznaczonej do spożycia przez ludzi (Dz.U. z 2026 r., poz. 748) / Plan Gospodarowania Wodami | BM7: Właściciel ujęcia / analiza własna | BR7: Właściciel ujęcia / dokumentacja hydrogeologiczna, karty otworów studziennych, analiza ryzyka; Pomocniczo: https://www.gov.pl/web/wody-polskie/nowelizacja-ustawy-o-zbiorowym-zaopatrzeniu-w-wode-i-zbiorowym-odprowadzaniu-sciekow (baza presji, analiza presji) | BW7: Właściciel ujęcia / analiza własna | BX7: Dokumentacja hydrogeologiczna, hydrologiczna, analizy hydrogeologiczne, hydrologiczne sporządzone na potrzeby analizy ryzyka pomocniczo: https://www.gov.pl/web/wody-polskie/nowelizacja-ustawy-o-zbiorowym-zaopatrzeniu-w-wode-i-zbiorowym-odprowadzaniu-sciekow (baza presji, analiza presji) | BY7: Właściciel ujęcia / analiza własna | BZ7: Właściciel ujęcia / analiza własna

Sheet 4a Wykaz zagrożeń_dlaRZGW
A1: IV. OCENA RYZYKA W OBSZARZE ZASILANIA UJĘCIA WODY ORAZ PROPOZYCJA ŚRODKÓW KONTROLI RYZYKA, KTÓRE NALEŻY UZNAĆ ZA ISTOTNE W ZWIĄZKU Z WYKAZEM ZAGROŻEŃ I ZDARZEŃ NIEBEZPIECZNYCH ORAZ OCENĄ RYZYKA
A2: Lp. | B2: Wykaz zagrożeń i zdarzeń niebezpiecznych w obszarze zasilania ujęcia wykorzystywanego do poboru wody przeznaczonej do spożycia przez ludzi wraz z oceną ryzyka, jakie mogłyby stwarzać dla jakości tej wody | R2: Propozycja działań zapobiegających ryzyku lub służących jego kontroli, polegających na ustaleniu przyczyn i skutków zanieczyszczenia wody oraz podmiotu odpowiedzialnego za zanieczyszczenie, a także wykonywanie środka kontroli - konsultacja z dostawcą wody | V2: Działania realizowane przez Dyrektora Regionalnego Zarządu Gospodarki Wodnej (wypełnia właściwy RZGW)
B3: Czy zagrożenie występuje / zostało zidentyfikowane? [TAK / NIE] | C3: Czy występują / mogą wystąpić zdarzenia niebezpieczne? [TAK / NIE] | D3: Zidentyfikowane zagrożenie | E3: Zdarzenie niebezpieczne | F3: Element oceny stanu, na który wpływa zidentyfikowane zagrożenie / zdarzenie niebezpieczne [chemiczny, ilościowy, chemiczny i ilościowy] | G3: Przyczyna ryzyka | H3: Skutki zidentyfikowanego ryzyka dla ujęcia | I3: Ocena ryzyka | N3: Opis ryzyka. Wyjaśnienie, czy występuje ryzyko pogorszenia jakości tej wody w stopniu zagrażającym zdrowiu ludzi? | O3: Rodzaj presji (źródło danych: analiza presji, PGW, inne) | P3: Identyfikacja podmiotu powodującego ryzyko (odpowiedzialnego za zanieczyszczenie) | Q3: Propozycja środków kontroli ryzyka dla zidentyfikowanych zagrożeń / zdarzeń niebezpiecznych | R3: Propozycja działania zapobiegającego ryzyku (np. dodatkowy monitoring dostawcy wody, kontrola gospodarowania wodami, strefa ochronna - TOB+TOP, itp.) | S3: Opis działania | T3: Możliwość prawna zastosowania działania [TAK/NIE] jeśli TAK -kol. 21 | U3: Podstawa prawna działania | V3: art. 4f ust. 6 - konsultacja z dostawcą wody | W3: art. 4f ust. 9 - konsultacja z dostawcą wody | X3: art. 4f ust. 10 - informowanie o ryzyku w celu podjęcia działań zapobiegających ryzyku lub służących jego kontroli | AA3: art. 4f ust. 11 - informacja o działaniach podjętych przez: | AD3: art. 4f ust. 14 | AE3: art. 4f ust. 15 - informacja o wynikach dodatkowego przeglądu pozwoleń wodnoprawnych otrzymana od: | AG3: art. 4f ust. 16 - przegląd skuteczności działań, o których mowa w art. 4f ust. 6, 9, 11 oraz 13-15 za rok:
I4: Prawdopodobieństwo (P) | J4: Dotkliwość następstw (D) | K4: Podatność obszaru zasilania na zagrożenie / zdarzenie niebezpieczne (V) | L4: Poziom ryzyka R = P*D*V | M4: Ewaluacja ryzyka [akceptowalne, kontrolowane, nieakceptowalne] | V4: Ustalenie przyczyn i skutków zanieczyszczenia wody, które stwarzają ryzyka, w szczególności w ramach kontroli gospodarowania wodami | W4: Identyfikacja podmiotów odpowiedzialnych za zanieczyszczenie wody, które stwarza ryzyko | X4: podmiotu odpowiedzialnego za zanieczyszczenie | Y4: właściwego ze względu na miejsce występowania ryzyka wójta (burmistrza, prezydenta miasta) | Z4: właściwego ze względu na miejsce występowania ryzyka wojewodę | AA4: podmiot odpowiedzialny za zanieczyszczenie | AB4: właściwego ze względu na miejsce występowania ryzyka wójta (burmistrza, prezydenta miasta) | AC4: właściwego ze względu na miejsce występowania ryzyka wojewodę (w szczególności ocena potrzeby ustanowienia strefy ochronnej obejmującej teren ochrony bezpośredniej i teren ochrony pośredniej) | AD4: Dodatkowy przegląd pozwoleń wodnoprawnych - informowanie organów właściwych w sprawach pozwoleń wodnoprawnych i pozwoleń zintegrowanych | AE4: organu właściwego w sprawach pozwoleń wodnoprawnych | AF4: organu właściwego w sprawach pozwoleń zintegrowanych | AG4: 2026 | AH4: 2027 | AI4: 2028 | AJ4: 2029 | AK4: 2030 | AL4: 2031 | AM4: Dodatkowe uwagi
A5: 1 | B5: 2 | C5: 3 | D5: 4 | E5: 5 | F5: 6 | G5: 7 | H5: 8 | I5: 9 | J5: 10 | K5: 11 | L5: 12 | M5: 13 | N5: 14 | O5: 15 | P5: 16 | Q5: 17 | R5: 18 | S5: 19 | T5: 20 | U5: 21 | V5: 22 | W5: 23 | X5: 24 | Y5: 25 | Z5: 26 | AA5: 27 | AB5: 28 | AC5: 29 | AD5: 30 | AE5: 31 | AF5: 32 | AG5: 33 | AH5: 34 | AI5: 35 | AJ5: 36 | AK5: 37 | AL5: 38 | AM5: 39
A6: ='4Wykaz zagrożeń_środki kontroli'!A6 -> 0 | B6: ='4Wykaz zagrożeń_środki kontroli'!B6 -> 0 | C6: ='4Wykaz zagrożeń_środki kontroli'!C6 -> 0 | D6: ='4Wykaz zagrożeń_środki kontroli'!D6 -> 0 | E6: ='4Wykaz zagrożeń_środki kontroli'!E6 -> 0 | F6: ='4Wykaz zagrożeń_środki kontroli'!#REF! -> #REF! | G6: ='4Wykaz zagrożeń_środki kontroli'!F6 -> 0 | H6: ='4Wykaz zagrożeń_środki kontroli'!G6 -> 0 | I6: ='4Wykaz zagrożeń_środki kontroli'!H6 -> 0 | J6: ='4Wykaz zagrożeń_środki kontroli'!I6 -> 0 | K6: ='4Wykaz zagrożeń_środki kontroli'!J6 -> 0 | L6: ='4Wykaz zagrożeń_środki kontroli'!K6 -> 0 | M6: ='4Wykaz zagrożeń_środki kontroli'!L6 -> 0 | N6: ='4Wykaz zagrożeń_środki kontroli'!M6 -> 0 | O6: ='4Wykaz zagrożeń_środki kontroli'!#REF! -> #REF! | P6: ='4Wykaz zagrożeń_środki kontroli'!N6 -> 0 | Q6: ='4Wykaz zagrożeń_środki kontroli'!O6 -> 0 | R6: ='4Wykaz zagrożeń_środki kontroli'!P6 -> 0 | S6: ='4Wykaz zagrożeń_środki kontroli'!Q6 -> 0 | T6: ='4Wykaz zagrożeń_środki kontroli'!R6 -> 0 | U6: ='4Wykaz zagrożeń_środki kontroli'!S6 -> 0
A7: ='4Wykaz zagrożeń_środki kontroli'!A7 -> 0 | B7: ='4Wykaz zagrożeń_środki kontroli'!B7 -> 0 | C7: ='4Wykaz zagrożeń_środki kontroli'!C7 -> 0 | D7: ='4Wykaz zagrożeń_środki kontroli'!D7 -> 0 | E7: ='4Wykaz zagrożeń_środki kontroli'!E7 -> 0 | F7: ='4Wykaz zagrożeń_środki kontroli'!#REF! -> #REF! | G7: ='4Wykaz zagrożeń_środki kontroli'!F7 -> 0 | H7: ='4Wykaz zagrożeń_środki kontroli'!G7 -> 0 | I7: ='4Wykaz zagrożeń_środki kontroli'!H7 -> 0 | J7: ='4Wykaz zagrożeń_środki kontroli'!I7 -> 0 | K7: ='4Wykaz zagrożeń_środki kontroli'!J7 -> 0 | L7: ='4Wykaz zagrożeń_środki kontroli'!K7 -> 0 | M7: ='4Wykaz zagrożeń_środki kontroli'!L7 -> 0 | N7: ='4Wykaz zagrożeń_środki kontroli'!M7 -> 0 | O7: ='4Wykaz zagrożeń_środki kontroli'!#REF! -> #REF! | P7: ='4Wykaz zagrożeń_środki kontroli'!N7 -> 0 | Q7: ='4Wykaz zagrożeń_środki kontroli'!O7 -> 0 | R7: ='4Wykaz zagrożeń_środki kontroli'!P7 -> 0 | S7: ='4Wykaz zagrożeń_środki kontroli'!Q7 -> 0 | T7: ='4Wykaz zagrożeń_środki kontroli'!R7 -> 0 | U7: ='4Wykaz zagrożeń_środki kontroli'!S7 -> 0
A8: ='4Wykaz zagrożeń_środki kontroli'!A8 -> 0 | B8: ='4Wykaz zagrożeń_środki kontroli'!B8 -> 0 | C8: ='4Wykaz zagrożeń_środki kontroli'!C8 -> 0 | D8: ='4Wykaz zagrożeń_środki kontroli'!D8 -> 0 | E8: ='4Wykaz zagrożeń_środki kontroli'!E8 -> 0 | F8: ='4Wykaz zagrożeń_środki kontroli'!#REF! -> #REF! | G8: ='4Wykaz zagrożeń_środki kontroli'!F8 -> 0 | H8: ='4Wykaz zagrożeń_środki kontroli'!G8 -> 0 | I8: ='4Wykaz zagrożeń_środki kontroli'!H8 -> 0 | J8: ='4Wykaz zagrożeń_środki kontroli'!I8 -> 0 | K8: ='4Wykaz zagrożeń_środki kontroli'!J8 -> 0 | L8: ='4Wykaz zagrożeń_środki kontroli'!K8 -> 0 | M8: ='4Wykaz zagrożeń_środki kontroli'!L8 -> 0 | N8: ='4Wykaz zagrożeń_środki kontroli'!M8 -> 0 | O8: ='4Wykaz zagrożeń_środki kontroli'!#REF! -> #REF! | P8: ='4Wykaz zagrożeń_środki kontroli'!N8 -> 0 | Q8: ='4Wykaz zagrożeń_środki kontroli'!O8 -> 0 | R8: ='4Wykaz zagrożeń_środki kontroli'!P8 -> 0 | S8: ='4Wykaz zagrożeń_środki kontroli'!Q8 -> 0 | T8: ='4Wykaz zagrożeń_środki kontroli'!R8 -> 0 | U8: ='4Wykaz zagrożeń_środki kontroli'!S8 -> 0
A9: ='4Wykaz zagrożeń_środki kontroli'!A9 -> 0 | B9: ='4Wykaz zagrożeń_środki kontroli'!B9 -> 0 | C9: ='4Wykaz zagrożeń_środki kontroli'!C9 -> 0 | D9: ='4Wykaz zagrożeń_środki kontroli'!D9 -> 0 | E9: ='4Wykaz zagrożeń_środki kontroli'!E9 -> 0 | F9: ='4Wykaz zagrożeń_środki kontroli'!#REF! -> #REF! | G9: ='4Wykaz zagrożeń_środki kontroli'!F9 -> 0 | H9: ='4Wykaz zagrożeń_środki kontroli'!G9 -> 0 | I9: ='4Wykaz zagrożeń_środki kontroli'!H9 -> 0 | J9: ='4Wykaz zagrożeń_środki kontroli'!I9 -> 0 | K9: ='4Wykaz zagrożeń_środki kontroli'!J9 -> 0 | L9: ='4Wykaz zagrożeń_środki kontroli'!K9 -> 0 | M9: ='4Wykaz zagrożeń_środki kontroli'!L9 -> 0 | N9: ='4Wykaz zagrożeń_środki kontroli'!M9 -> 0 | O9: ='4Wykaz zagrożeń_środki kontroli'!#REF! -> #REF! | P9: ='4Wykaz zagrożeń_środki kontroli'!N9 -> 0 | Q9: ='4Wykaz zagrożeń_środki kontroli'!O9 -> 0 | R9: ='4Wykaz zagrożeń_środki kontroli'!P9 -> 0 | S9: ='4Wykaz zagrożeń_środki kontroli'!Q9 -> 0 | T9: ='4Wykaz zagrożeń_środki kontroli'!R9 -> 0 | U9: ='4Wykaz zagrożeń_środki kontroli'!S9 -> 0
A10: ='4Wykaz zagrożeń_środki kontroli'!A10 -> 0 | B10: ='4Wykaz zagrożeń_środki kontroli'!B10 -> 0 | C10: ='4Wykaz zagrożeń_środki kontroli'!C10 -> 0 | D10: ='4Wykaz zagrożeń_środki kontroli'!D10 -> 0 | E10: ='4Wykaz zagrożeń_środki kontroli'!E10 -> 0 | F10: ='4Wykaz zagrożeń_środki kontroli'!#REF! -> #REF! | G10: ='4Wykaz zagrożeń_środki kontroli'!F10 -> 0 | H10: ='4Wykaz zagrożeń_środki kontroli'!G10 -> 0 | I10: ='4Wykaz zagrożeń_środki kontroli'!H10 -> 0 | J10: ='4Wykaz zagrożeń_środki kontroli'!I10 -> 0 | K10: ='4Wykaz zagrożeń_środki kontroli'!J10 -> 0 | L10: ='4Wykaz zagrożeń_środki kontroli'!K10 -> 0 | M10: ='4Wykaz zagrożeń_środki kontroli'!L10 -> 0 | N10: ='4Wykaz zagrożeń_środki kontroli'!M10 -> 0 | O10: ='4Wykaz zagrożeń_środki kontroli'!#REF! -> #REF! | P10: ='4Wykaz zagrożeń_środki kontroli'!N10 -> 0 | Q10: ='4Wykaz zagrożeń_środki kontroli'!O10 -> 0 | R10: ='4Wykaz zagrożeń_środki kontroli'!P10 -> 0 | S10: ='4Wykaz zagrożeń_środki kontroli'!Q10 -> 0 | T10: ='4Wykaz zagrożeń_środki kontroli'!R10 -> 0 | U10: ='4Wykaz zagrożeń_środki kontroli'!S10 -> 0
A11: ='4Wykaz zagrożeń_środki kontroli'!A11 -> 0 | B11: ='4Wykaz zagrożeń_środki kontroli'!B11 -> 0 | C11: ='4Wykaz zagrożeń_środki kontroli'!C11 -> 0 | D11: ='4Wykaz zagrożeń_środki kontroli'!D11 -> 0 | E11: ='4Wykaz zagrożeń_środki kontroli'!E11 -> 0 | F11: ='4Wykaz zagrożeń_środki kontroli'!#REF! -> #REF! | G11: ='4Wykaz zagrożeń_środki kontroli'!F11 -> 0 | H11: ='4Wykaz zagrożeń_środki kontroli'!G11 -> 0 | I11: ='4Wykaz zagrożeń_środki kontroli'!H11 -> 0 | J11: ='4Wykaz zagrożeń_środki kontroli'!I11 -> 0 | K11: ='4Wykaz zagrożeń_środki kontroli'!J11 -> 0 | L11: ='4Wykaz zagrożeń_środki kontroli'!K11 -> 0 | M11: ='4Wykaz zagrożeń_środki kontroli'!L11 -> 0 | N11: ='4Wykaz zagrożeń_środki kontroli'!M11 -> 0 | O11: ='4Wykaz zagrożeń_środki kontroli'!#REF! -> #REF! | P11: ='4Wykaz zagrożeń_środki kontroli'!N11 -> 0 | Q11: ='4Wykaz zagrożeń_środki kontroli'!O11 -> 0 | R11: ='4Wykaz zagrożeń_środki kontroli'!P11 -> 0 | S11: ='4Wykaz zagrożeń_środki kontroli'!Q11 -> 0 | T11: ='4Wykaz zagrożeń_środki kontroli'!R11 -> 0 | U11: ='4Wykaz zagrożeń_środki kontroli'!S11 -> 0
A12: ='4Wykaz zagrożeń_środki kontroli'!A12 -> 0 | B12: ='4Wykaz zagrożeń_środki kontroli'!B12 -> 0 | C12: ='4Wykaz zagrożeń_środki kontroli'!C12 -> 0 | D12: ='4Wykaz zagrożeń_środki kontroli'!D12 -> 0 | E12: ='4Wykaz zagrożeń_środki kontroli'!E12 -> 0 | F12: ='4Wykaz zagrożeń_środki kontroli'!#REF! -> #REF! | G12: ='4Wykaz zagrożeń_środki kontroli'!F12 -> 0 | H12: ='4Wykaz zagrożeń_środki kontroli'!G12 -> 0 | I12: ='4Wykaz zagrożeń_środki kontroli'!H12 -> 0 | J12: ='4Wykaz zagrożeń_środki kontroli'!I12 -> 0 | K12: ='4Wykaz zagrożeń_środki kontroli'!J12 -> 0 | L12: ='4Wykaz zagrożeń_środki kontroli'!K12 -> 0 | M12: ='4Wykaz zagrożeń_środki kontroli'!L12 -> 0 | N12: ='4Wykaz zagrożeń_środki kontroli'!M12 -> 0 | O12: ='4Wykaz zagrożeń_środki kontroli'!#REF! -> #REF! | P12: ='4Wykaz zagrożeń_środki kontroli'!N12 -> 0 | Q12: ='4Wykaz zagrożeń_środki kontroli'!O12 -> 0 | R12: ='4Wykaz zagrożeń_środki kontroli'!P12 -> 0 | S12: ='4Wykaz zagrożeń_środki kontroli'!Q12 -> 0 | T12: ='4Wykaz zagrożeń_środki kontroli'!R12 -> 0 | U12: ='4Wykaz zagrożeń_środki kontroli'!S12 -> 0
A13: ='4Wykaz zagrożeń_środki kontroli'!A13 -> 0 | B13: ='4Wykaz zagrożeń_środki kontroli'!B13 -> 0 | C13: ='4Wykaz zagrożeń_środki kontroli'!C13 -> 0 | D13: ='4Wykaz zagrożeń_środki kontroli'!D13 -> 0 | E13: ='4Wykaz zagrożeń_środki kontroli'!E13 -> 0 | F13: ='4Wykaz zagrożeń_środki kontroli'!#REF! -> #REF! | G13: ='4Wykaz zagrożeń_środki kontroli'!F13 -> 0 | H13: ='4Wykaz zagrożeń_środki kontroli'!G13 -> 0 | I13: ='4Wykaz zagrożeń_środki kontroli'!H13 -> 0 | J13: ='4Wykaz zagrożeń_środki kontroli'!I13 -> 0 | K13: ='4Wykaz zagrożeń_środki kontroli'!J13 -> 0 | L13: ='4Wykaz zagrożeń_środki kontroli'!K13 -> 0 | M13: ='4Wykaz zagrożeń_środki kontroli'!L13 -> 0 | N13: ='4Wykaz zagrożeń_środki kontroli'!M13 -> 0 | O13: ='4Wykaz zagrożeń_środki kontroli'!#REF! -> #REF! | P13: ='4Wykaz zagrożeń_środki kontroli'!N13 -> 0 | Q13: ='4Wykaz zagrożeń_środki kontroli'!O13 -> 0 | R13: ='4Wykaz zagrożeń_środki kontroli'!P13 -> 0 | S13: ='4Wykaz zagrożeń_środki kontroli'!Q13 -> 0 | T13: ='4Wykaz zagrożeń_środki kontroli'!R13 -> 0 | U13: ='4Wykaz zagrożeń_środki kontroli'!S13 -> 0
A14: ='4Wykaz zagrożeń_środki kontroli'!A14 -> 0 | B14: ='4Wykaz zagrożeń_środki kontroli'!B14 -> 0 | C14: ='4Wykaz zagrożeń_środki kontroli'!C14 -> 0 | D14: ='4Wykaz zagrożeń_środki kontroli'!D14 -> 0 | E14: ='4Wykaz zagrożeń_środki kontroli'!E14 -> 0 | F14: ='4Wykaz zagrożeń_środki kontroli'!#REF! -> #REF! | G14: ='4Wykaz zagrożeń_środki kontroli'!F14 -> 0 | H14: ='4Wykaz zagrożeń_środki kontroli'!G14 -> 0 | I14: ='4Wykaz zagrożeń_środki kontroli'!H14 -> 0 | J14: ='4Wykaz zagrożeń_środki kontroli'!I14 -> 0 | K14: ='4Wykaz zagrożeń_środki kontroli'!J14 -> 0 | L14: ='4Wykaz zagrożeń_środki kontroli'!K14 -> 0 | M14: ='4Wykaz zagrożeń_środki kontroli'!L14 -> 0 | N14: ='4Wykaz zagrożeń_środki kontroli'!M14 -> 0 | O14: ='4Wykaz zagrożeń_środki kontroli'!#REF! -> #REF! | P14: ='4Wykaz zagrożeń_środki kontroli'!N14 -> 0 | Q14: ='4Wykaz zagrożeń_środki kontroli'!O14 -> 0 | R14: ='4Wykaz zagrożeń_środki kontroli'!P14 -> 0 | S14: ='4Wykaz zagrożeń_środki kontroli'!Q14 -> 0 | T14: ='4Wykaz zagrożeń_środki kontroli'!R14 -> 0 | U14: ='4Wykaz zagrożeń_środki kontroli'!S14 -> 0
A15: ='4Wykaz zagrożeń_środki kontroli'!A15 -> 0 | B15: ='4Wykaz zagrożeń_środki kontroli'!B15 -> 0 | C15: ='4Wykaz zagrożeń_środki kontroli'!C15 -> 0 | D15: ='4Wykaz zagrożeń_środki kontroli'!D15 -> 0 | E15: ='4Wykaz zagrożeń_środki kontroli'!E15 -> 0 | F15: ='4Wykaz zagrożeń_środki kontroli'!#REF! -> #REF! | G15: ='4Wykaz zagrożeń_środki kontroli'!F15 -> 0 | H15: ='4Wykaz zagrożeń_środki kontroli'!G15 -> 0 | I15: ='4Wykaz zagrożeń_środki kontroli'!H15 -> 0 | J15: ='4Wykaz zagrożeń_środki kontroli'!I15 -> 0 | K15: ='4Wykaz zagrożeń_środki kontroli'!J15 -> 0 | L15: ='4Wykaz zagrożeń_środki kontroli'!K15 -> 0 | M15: ='4Wykaz zagrożeń_środki kontroli'!L15 -> 0 | N15: ='4Wykaz zagrożeń_środki kontroli'!M15 -> 0 | O15: ='4Wykaz zagrożeń_środki kontroli'!#REF! -> #REF! | P15: ='4Wykaz zagrożeń_środki kontroli'!N15 -> 0 | Q15: ='4Wykaz zagrożeń_środki kontroli'!O15 -> 0 | R15: ='4Wykaz zagrożeń_środki kontroli'!P15 -> 0 | S15: ='4Wykaz zagrożeń_środki kontroli'!Q15 -> 0 | T15: ='4Wykaz zagrożeń_środki kontroli'!R15 -> 0 | U15: ='4Wykaz zagrożeń_środki kontroli'!S15 -> 0
A16: ='4Wykaz zagrożeń_środki kontroli'!A16 -> 0 | B16: ='4Wykaz zagrożeń_środki kontroli'!B16 -> 0 | C16: ='4Wykaz zagrożeń_środki kontroli'!C16 -> 0 | D16: ='4Wykaz zagrożeń_środki kontroli'!D16 -> 0 | E16: ='4Wykaz zagrożeń_środki kontroli'!E16 -> 0 | F16: ='4Wykaz zagrożeń_środki kontroli'!#REF! -> #REF! | G16: ='4Wykaz zagrożeń_środki kontroli'!F16 -> 0 | H16: ='4Wykaz zagrożeń_środki kontroli'!G16 -> 0 | I16: ='4Wykaz zagrożeń_środki kontroli'!H16 -> 0 | J16: ='4Wykaz zagrożeń_środki kontroli'!I16 -> 0 | K16: ='4Wykaz zagrożeń_środki kontroli'!J16 -> 0 | L16: ='4Wykaz zagrożeń_środki kontroli'!K16 -> 0 | M16: ='4Wykaz zagrożeń_środki kontroli'!L16 -> 0 | N16: ='4Wykaz zagrożeń_środki kontroli'!M16 -> 0 | O16: ='4Wykaz zagrożeń_środki kontroli'!#REF! -> #REF! | P16: ='4Wykaz zagrożeń_środki kontroli'!N16 -> 0 | Q16: ='4Wykaz zagrożeń_środki kontroli'!O16 -> 0 | R16: ='4Wykaz zagrożeń_środki kontroli'!P16 -> 0 | S16: ='4Wykaz zagrożeń_środki kontroli'!Q16 -> 0 | T16: ='4Wykaz zagrożeń_środki kontroli'!R16 -> 0 | U16: ='4Wykaz zagrożeń_środki kontroli'!S16 -> 0
A17: ='4Wykaz zagrożeń_środki kontroli'!A17 -> 0 | B17: ='4Wykaz zagrożeń_środki kontroli'!B17 -> 0 | C17: ='4Wykaz zagrożeń_środki kontroli'!C17 -> 0 | D17: ='4Wykaz zagrożeń_środki kontroli'!D17 -> 0 | E17: ='4Wykaz zagrożeń_środki kontroli'!E17 -> 0 | F17: ='4Wykaz zagrożeń_środki kontroli'!#REF! -> #REF! | G17: ='4Wykaz zagrożeń_środki kontroli'!F17 -> 0 | H17: ='4Wykaz zagrożeń_środki kontroli'!G17 -> 0 | I17: ='4Wykaz zagrożeń_środki kontroli'!H17 -> 0 | J17: ='4Wykaz zagrożeń_środki kontroli'!I17 -> 0 | K17: ='4Wykaz zagrożeń_środki kontroli'!J17 -> 0 | L17: ='4Wykaz zagrożeń_środki kontroli'!K17 -> 0 | M17: ='4Wykaz zagrożeń_środki kontroli'!L17 -> 0 | N17: ='4Wykaz zagrożeń_środki kontroli'!M17 -> 0 | O17: ='4Wykaz zagrożeń_środki kontroli'!#REF! -> #REF! | P17: ='4Wykaz zagrożeń_środki kontroli'!N17 -> 0 | Q17: ='4Wykaz zagrożeń_środki kontroli'!O17 -> 0 | R17: ='4Wykaz zagrożeń_środki kontroli'!P17 -> 0 | S17: ='4Wykaz zagrożeń_środki kontroli'!Q17 -> 0 | T17: ='4Wykaz zagrożeń_środki kontroli'!R17 -> 0 | U17: ='4Wykaz zagrożeń_środki kontroli'!S17 -> 0
... A80: ='4Wykaz zagrożeń_środki kontroli'!A80 -> 0 | B80: ='4Wykaz zagrożeń_środki kontroli'!B80 -> 0 | C80: ='4Wykaz zagrożeń_środki kontroli'!C80 -> 0 | D80: ='4Wykaz zagrożeń_środki kontroli'!D80 -> 0 | E80: ='4Wykaz zagrożeń_środki kontroli'!E80 -> 0 | F80: ='4Wykaz zagrożeń_środki kontroli'!#REF! -> #REF! | G80: ='4Wykaz zagrożeń_środki kontroli'!F80 -> 0 | H80: ='4Wykaz zagrożeń_środki kontroli'!G80 -> 0 | I80: ='4Wykaz zagrożeń_środki kontroli'!H80 -> 0 | J80: ='4Wykaz zagrożeń_środki kontroli'!I80 -> 0 | K80: ='4Wykaz zagrożeń_środki kontroli'!J80 -> 0 | L80: ='4Wykaz zagrożeń_środki kontroli'!K80 -> 0 | M80: ='4Wykaz zagrożeń_środki kontroli'!L80 -> 0 | N80: ='4Wykaz zagrożeń_środki kontroli'!M80 -> 0 | O80: ='4Wykaz zagrożeń_środki kontroli'!#REF! -> #REF! | P80: ='4Wykaz zagrożeń_środki kontroli'!N80 -> 0 | Q80: ='4Wykaz zagrożeń_środki kontroli'!O80 -> 0 | R80: ='4Wykaz zagrożeń_środki kontroli'!P80 -> 0 | S80: ='4Wykaz zagrożeń_środki kontroli'!Q80 -> 0 | T80: ='4Wykaz zagrożeń_środki kontroli'!R80 -> 0 | U80: ='4Wykaz zagrożeń_środki kontroli'!S80 -> 0

Sheet Listy rozwijalne
A1: Arkusz 2:
A3: Rodzaj ujęcia | E3: Rodzaj ustanowionej strefy ochronnej
A5: powierzchniowe | C5: TAK | E5: TOB
A6: podziemne | C6: NIE | E6: TOB+TOP
A7: infiltracyjne
A8: mieszane
A11: Arkusz 3:
A13: Klasa jakości wody
A15: A1
A16: A2
A17: A3
A18: pozaklasowe
A21: Arkusz 4:
A23: Rodzaj presji | C23: Ewaluacja ryzyka: | F23: Element oceny stanu:
A25: komunalna | C25: akceptowalne | F25: chemiczny
A26: rolnicza | C26: kontrolowane | F26: ilościowy
A27: przemysłowa | C27: nieakceptowalne | F27: chemiczny i ilościowy
A28: depozycja atmosferyczna
A29: inne: punktowe
A30: inne: liniowe
A31: inne: obszarowe
