{"text_format":"1","workbook":"xlsx","n_sheets":45,"sheets":["Wybór rodzaju działalności","Instrukcja Wytwarzanie","Formularz Wytwarzanie","Instrukcja Wytwórca Sur","Wybór Wytwarzanie","Instrukcja Obrót","Formularz Obrót Hurtowy","Wybór Obrót","Instrukcja Hurtownia","Instrukcja Badania","Instrukcja Pozafarmaceutyczne","Instrukcja Wytwórca","Instrukcja Wzorce","Instrukcja Hurtownia sur","Środki odurzające Wzorce","Środki odurzające Hurt sur","Psychotropy Wzorce","Psychotropy Hurt sur","Prekursory Wzorce","Prekursory Hurt sur","Formularz Wytwórcy","Wytwarzanie Badania","Wytwarzanie pozafarmaceutyczne","Wytwórcy Surowce Substancje","Wytwórcy Surowce","Wytwórcy Substancje","Instrukcja Hurtownia Wet","Wytwórcy Produkty","Wytwórcy Przepakowywanie","Odurzajace Hurt Wet","Odurzajace Hurt","Psychotropy Hurt Wet","Psychotropy Hurt","Zapotrzebowanie Sur","Zapotrzebowanie badania","Zapotrzebowanie pozafarm","Zapotrzebowanie","Listy","Lista Narkotyki Surowce","Lista Narkotyki","Lista Narkotyki Wet","Lista Psychotropy Wet","Lista Psychotropy Substancje","Lista Psychotropy","Lista Prekursory"],"not_rendered":{"charts":0,"images":0,"macros":1,"external_links":0,"defined_names":1005,"comments":0,"pivot_tables":0},"unopened":[],"bounds":{"document_bytes":16777216,"sheet_cells":100000,"rows_first":2000,"rows_last":500,"rows_between":2000,"halvings":0,"cell_chars":16384,"cell_head_chars":4096},"cells_cut":0,"cells_raw":0,"read":"whole","date_system":"1900"}

{"sheet":"Wybór rodzaju działalności","index":0,"n_rows":10,"n_cols":6,"rows_kept":10,"cut":false,"hidden":false,"merged":[[9,0,13,3],[0,0,3,8],[9,5,13,8]]}
["Roczne Sprawozdanie z obrotu środkami odurzającymi, substancjami psychotropowymi i prekursorami kat. 1 oraz ich wytwarzania, przetwarzania, przerabiania, przywozu, dystrybucji lub stosowania"]
[]
[]
[]
[]
[]
[]
[]
[]
["Dotyczy podmiotów posiadających zezwolenie na obrót hurtowy środkami odurzającymi, substancjami psychotropowymi lub prekursorami kategorii 1 zgodnie z Art.40 ust. 1 oraz ust. 2 pkt 1 Ustawy o Przeciwdziałaniu Narkomanii",null,null,null,null,"Dotyczy podmiotów posiadających zezwolenie na wytwarzanie, przetwarzanie, przerabianie, przywóz, dystrybucję lub stosowanie środków odurzających, substancji psychotropowych lub prekursorów kategorii 1 wymienione w art.35 ust. 1 Ustawy o Przeciwdziałaniu Narkomanii"]

{"sheet":"Instrukcja Wytwarzanie","index":1,"n_rows":27,"n_cols":1,"rows_kept":27,"cut":false,"hidden":true,"merged":[[26,0,26,7],[14,0,14,7],[15,0,15,7],[16,0,16,7],[18,0,18,7],[19,0,19,7],[17,0,17,7],[24,0,24,7],[25,0,25,7],[4,0,7,7],[8,0,8,7],[9,0,10,7],[11,0,11,7],[12,0,12,7],[13,0,13,7],[20,0,20,7],[21,0,21,7],[22,0,22,7],[23,0,23,7]]}
[]
[]
[]
[]
["Instrukcja - Wytwarzanie, Przetwarzanie, Przerabianie, Przywóz, Dystrybucja lub Stosowanie"]
[]
[]
[]
["Wstęp"]
["Niniejsza instrukcja opisuje w jaki sposób wypełnić roczne sprawozdanie dla podmiotów zajmujących się wytwarzaniem, przetwarzaniem, przerabianiem, przywozem, dystrybucją lub stosowaniem środków odurzających, substancji psychotropowych oraz prekursorów kategorii 1 w ramach zezwoleń wymienionych w Art. 35 ust. 1 Ustawy o Przeciwdziałaniu Narkomanii. Sprawozdanie należy wypełniać dokładnie z zasadami przedstawionymi w instrukcji po uprzednim zapoznaniu się z nią. Pierwszym krokiem w wypełnianiu sprawozdania jest wypełnienie Formularza. Następnie należy wybrać i wypełnić tabele odpowiadające działalności którą prowadzi podmiot. W sytuacji gdy podmiot prowadzi więcej niż jeden rodzaj działalności w ramach posiadanego zezwolenia, konieczne jest wypełnienie wszystkich dotyczących ich tabel. W wypadku braku działalności w ramach zezwolenia w raportowanym roku kalendarzowym wypełniony powinien zostać jedynie formularz, z odpowiednią informacją w polu uwag."]
[]
["Formularz"]
["1. Nazwa podmiotu - w polu tym powinna znaleźć się pełna nazwa raportującego zgodna z posiadanym zezwoleniem na obrót hurtowy substancjami kontrolowanymi."]
["2. Adres prowadzenia działalności - dokładny adres na który wydane zostało zezwolenie"]
["3. Adres siedziby - dokładny adres siedziby podmiotu, jeżeli jest inny niż adres prowadzenia działalności"]
["4. Nr zezwolenia na wytwarzanie lub import produktów leczniczych- numer zezwolenia na wytwarzanie lub import  w rozumieniu Art. 38 Ustawy Prawo Farmaceutyczne"]
["5. Nr zezwolenia na wytwarzanie, przetwarzanie, przerabianie, przywóz, dystrybucje lub stosowanie substancji kontrolowanych- numer zezwolenia wydanego w oparciu o Art. 35 ust. 1 Ustawy o Przeciwdziałaniu Narkomanii"]
["6. Rodzaje działalności - Rodzaje prowadzonej przez podmiot działalności w ramach zezwolenia wynikającego z Art.. 35. ust. 1 Ustawy o Przeciwdziałaniu Narkomanii"]
["6. Osoba odpowiedzialna za wypełnienie sprawozdania - dane osoby odpowiedzialnej za wypełnienie sprawozdania, będącą jednocześnie osobą odpowiedzialną za nadzór nad wytwarzaniem, przetwarzaniem, przerabianiem, przywozem, dystrybucją lub stosowaniem środków odurzających, substancji psychotropowych lub prekursorów kategorii 1."]
["7. Uwagi - miejsce na wszelkie dodatkowe informacje"]
["Wybór rodzaju działalności"]
["1. Produkty Lecznicze - dotyczy podmiotów działających w ramach zezwolenia na wytwarzanie lub Import produktu leczniczego zgodnie z Art. 38 ust. 1 Ustawy Prawo Farmaceutyczne oraz zezwolenie Głównego Inspektora Farmaceutycznego wymienione w Art. 35 ust. 1 Ustawy o Przeciwdziałaniu Narkomanii"]
["2. Surowce Farmaceutyczne - dotyczy podmiotów zajmujących się wytwarzaniem, przetwarzaniem, przerabianiem, przywozem lub dystrybucją surowców farmaceutycznych w ramach zezwolenia Głównego Inspektora Farmaceutycznego wymienionego w Art. 35 ust. 1 Ustawy o Przeciwdziałaniu Narkomanii"]
["3. Produkcja Pozafarmaceutyczna - dotyczy podmiotów, które wykorzystują środki odurzające, substamcje psychotropowe lub prekursory kat. 1 w działalności pozafarmaceutycznej(np. wytwarzanie aromatów), oraz podmiotów u których wytwarzanie substancji kontrolowanych jest efektem ubocznym prowadzonej działalności(np. produkcja oleju CBD z konopii włóknistych)"]
["4. Prowadzenie badań - dotyczy podmiotów prowadzących badania  z wykorzystaniem środków odurzających, substancji psychotropowych lub prekursorów kat. 1, a także produktów leczniczych zawierających powyższe substancje w ramach zezwolenia wydanego przez Głównego Inspektora Farmaceutycznego wymienionego w Art. 35 ust. 1 Ustawy o Przeciwdziałaniu Narkomanii"]
[]
["Po wypełnieniu formularza oraz wszystkich tabel dotyczących podmiotu należy zapisać arkusz z tytułem \"WytMZ76NazwaPodmiotu\" i przesłać go w formie elektronicznej do Głównego Inspektoratu Farmaceutycznego na adres gif@gif.gov.pl."]

{"sheet":"Formularz Wytwarzanie","index":2,"n_rows":24,"n_cols":5,"rows_kept":24,"cut":false,"hidden":true,"merged":[[21,1,21,5],[22,1,22,5],[23,1,23,5],[18,0,18,1],[16,0,16,2],[16,3,16,5],[17,0,17,2],[17,3,17,5],[19,0,19,5],[20,1,20,2],[20,4,20,5],[15,1,15,5],[4,0,4,5],[5,1,5,5],[6,0,6,5],[7,1,7,5],[8,1,8,3],[9,3,9,5],[10,1,10,5],[11,0,11,5],[12,1,12,5],[13,1,13,3],[14,3,14,5]]}
[]
[]
[]
[]
["Roczne sprawozdanie z wytwarzania przetwarzania, przerabiania, przywozu lub dystrybucji środków odurzających, substancji psychotropowych i prekursorów kategorii 1"]
["Nazwa podmiotu:"]
["Adres prowadzenia działalności"]
["REGON:"]
["Ulica:",null,null,null,"Nr"]
["Kod pocztowy:",null,"Miasto:"]
["Telefon:"]
["Adres siedziby:"]
["REGON:"]
["Ulica:",null,null,null,"Nr"]
["Kod pocztowy:",null,"Miasto:"]
["Telefon:"]
["Nr zezwolenia na wytwarzanie lub import produktu leczniczego:"]
["Nr zezwolenia na wytwarzanie, przetwarzanie, przerabianie, przywóz, dystrybucje lub stosowanie substancji kontrolowanych"]
["Rodzaje działalności:"]
["Osoba odpowiedzialna za wypełnienie sprawozdania:"]
["Imię:",null,null,"Nazwisko:"]
["Telefon:"]
["Data (dzień, miesiąc, rok):"]
["Uwagi:\n\n"]

{"sheet":"Instrukcja Wytwórca Sur","index":3,"n_rows":38,"n_cols":1,"rows_kept":38,"cut":false,"hidden":true,"merged":[[30,0,30,7],[35,0,35,7],[36,0,36,7],[37,0,37,7],[31,0,31,7],[32,0,32,7],[33,0,33,7],[34,0,34,7],[24,0,24,7],[25,0,25,7],[26,0,26,7],[29,0,29,7],[28,0,28,7],[27,0,27,7],[21,0,21,7],[22,0,22,7],[23,0,23,7],[19,0,19,7],[20,0,20,7],[8,0,8,7],[4,0,7,7],[14,0,14,7],[15,0,15,7],[18,0,18,7],[9,0,9,7],[10,0,10,7],[11,0,11,7],[12,0,12,7],[13,0,13,7],[16,0,16,7],[17,0,17,7]]}
[]
[]
[]
[]
["Instrukcja - Wytwarzanie Surowca Farmaceutycznego"]
[]
[]
[]
["Tabela dotycząca substancji czynnych wykorzystanych do produkcji surowca"]
["1. Nazwa substancji - międzynarodowa nazwa substancji której dotyczy proces wytwarzania, przetwarzania, przerabiania, przywozu lub dystrybucji"]
["2. Nazwa czystej postaci substancji - Nazwa czystej postaci substancji kontrolowanej zgodna z wykazem substancji kontrolowanych opublikowanych w rozporządzeniu Ministra Zdrowia w sprawie wykazu substancji psychotropowych, środków odurzających oraz nowych substancji psychoaktywnych"]
["3. Ilość substancji dnia 01.01 okresu sprawozdawczego, wyrażona w gramach czystej postaci substancji zgodnie z przelicznikiem publikowanym na Green/Yellow/Red List przez Międzynarodową Radę Kontroli Narkotyków (INCB)"]
["4. Przychód substancji w okresie sprawozdawczym, rozbity na import, substancję kupioną w kraju oraz substancję wytworzoną w procesie syntezy, wyrażona w gramach czystej postaci substancji"]
["5. Wykorzystanie substancji w okresie sprawozdawczym, wyrażone w gramach czystej postaci substancji, podzielone na:"]
["a) Produkcje surowca, składającą się z informacji o wytworzonym surowcu w postaci:"]
[{"$f":"\"- Nazwy wytworzonego surowca/surowców\"","v":"- Nazwy wytworzonego surowca/surowców"}]
[{"$f":"\"- Wielkości jednostkowego opakowania surowca podanej w gramach substancji czynnej\"","v":"- Wielkości jednostkowego opakowania surowca podanej w gramach substancji czynnej"}]
["oraz informacji o:"]
[{"$f":"\"- ilości wytworzonego surowca wyrażonej w gramach czystej postaci substancji czynnej\"","v":"- ilości wytworzonego surowca wyrażonej w gramach czystej postaci substancji czynnej"}]
[{"$f":"\"- ilości substancji wykorzystanej w wyniku różnych procesów produkcyjnych takich jak kontrola jakości, które zaszły w wyniku produkcji surowca\"","v":"- ilości substancji wykorzystanej w wyniku różnych procesów produkcyjnych takich jak kontrola jakości, które zaszły w wyniku produkcji surowca"}]
["b) Przetwarzaniu na substancje nie będące substancjami kontrolowanymi"]
["c) Przetworzeniu na inną substancję z grupy substancji kontrolowanych"]
["6. Sprzedaż substancji nie wykorzystanej do produkcji surowca, rozdzielona na sprzedaż krajową oraz wewnątrzwspólnotową dostawę/wywóz, wyrażona w gramach czystej postaci substancji"]
["7. Utylizacja substancji nie wykorzytanej do produkcji surowca, wyrażona w gramach czystej postaci substancji"]
["8. Ilośc substancji dnia 31.12 okresu sprawozdawczego pozostałej po produkcji surowca, wyrażona w gramach czystej postaci substancji, liczba ta powinna być równa ilości substancji dnia 01.01 - przychód - wykorzystanie -sprzedaż - utylizacja"]
["Tabela dotycząca surowców"]
["1. Nazwa surowca farmaceutycznego - Pełna nazwa surowca farmaceutycznego"]
["2. Wielkość opakowania - ilość gramów substancji czynnej w jednostkowym opakowaniu surowca"]
["3. Nazwa substancji czynnej - Substancja czynna surowca zgodna z charakterystyką produktu leczniczego lub Rejestrem Produktów Leczniczych"]
["4. Nazwa czystej postaci substancji czynnej - Czysta postać substancji czynnej zawartej w surowcu"]
["5. Ilość surowca posiadana w dniu 01.01 okresu sprawozdawczego, wyrażona w gramach czystej postaci substancji czynnej"]
["6. Przychód surowca wyrażony w gramach czystej substancji czynnej, podzielony na kupno w kraju, import oraz surowiec wytworzony samodzielnie. Ilość surowca wytworzonego samodzielnie powinna być zgodna z ilością wytworzonej formy dla wskazanego surowca w tabeli dotyczącej substancji czynnych"]
["7. Sprzedaż surowca do hurtowni, inna sprzedaż krajowa oraz eksport surowca wyrażone w gramach czystej postaci substancji czynnej"]
["8. Utylizacja surowca, wyrażona w gramach czystej postaci substancji czynnej"]
["9. Ilość posiadanego surowca dnia 31.12 okresu sprawozdawczego, wyrażona w gramach czystej postaci substancji, liczba ta powinna być równa ilości surowca dnia 01.01 + przychód surowca - sprzedaż - utylizacja"]
["Zapotrzebowanie"]
["1.W arkuszu Zapotrzebowanie podmioty posiadające zezwolenie na wytwarzanie, przetwarzanie, przerabianie, przywóz lub dystrybucję mają obowiązek przedstawienia swojego zapotrzebowania na substancje kontrolowane na przyszły rok wynikających z przewidywanych potrzeb produkcyjnych"]
["2. Przewidywane zapotrzebowanie przedstawione powinno być w formie zapotrzebowania na łączną czystą postać substancji kontrolowanej, z rozdzieleniem na planowane wykorzystanie substancji na zaspokojenie potrzeb rynku krajowego oraz wykorzystanie jej w celach eksportowych"]

{"sheet":"Wybór Wytwarzanie","index":4,"n_rows":12,"n_cols":7,"rows_kept":12,"cut":false,"hidden":true,"merged":[[5,0,5,6],[11,0,20,0],[11,2,20,2],[11,4,20,4],[11,6,20,6]]}
[]
[]
[]
[]
[]
["Wybór rodzaju prowadzonej działalności w ramach zezwolenia na wytwarzanie, przetwarzanie, przerabianie, przywóz, dystrybucję lub stosowanie"]
[]
[]
[]
[]
[]
["Dotyczy podmiotów działających w ramach zezwolenia na wytwarzanie lub Import produktu leczniczego zgodnie z Art. 38 ust. 1 Ustawy Prawo Farmaceutyczne oraz zezwolenie Głównego Inspektora Farmaceutycznego wymienione w Art. 35 ust. 1 Ustawy o Przeciwdziałaniu Narkomanii",null,"Dotyczy podmiotów zajmujących się wytwarzaniem, przetwarzaniem, przerabianiem, przywozem lub dystrybucją surowców farmaceutycznych w ramach zezwolenia Głównego Inspektora Farmaceutycznego wymienionego w Art. 35 ust. 1 Ustawy o Przeciwdziałaniu Narkomanii",null,"Dotyczy podmiotów, które wykorzystują środki odurzające, substamcje psychotropowe lub prekursory kat. 1 w działalności pozafarmaceutycznej(np. wytwarzanie aromatów), oraz podmiotów u których wytwarzanie substancji kontrolowanych jest efektem ubocznym prowadzonej działalności",null,"Dotyczy podmiotów prowadzących badania  z wykorzystaniem środków odurzających, substancji psychotropowych lub prekursorów kat. 1, a także produktów leczniczych zawierających powyższe substancje w ramach zezwolenia wydanego przez Głównego Inspektora Farmaceutycznego wymienionego w Art. 35 ust. 1 Ustawy o Przeciwdziałaniu Narkomanii"]

{"sheet":"Instrukcja Obrót","index":5,"n_rows":27,"n_cols":1,"rows_kept":27,"cut":false,"hidden":true,"merged":[[26,0,26,7],[20,0,20,7],[19,0,19,7],[21,0,21,7],[22,0,22,7],[23,0,23,7],[24,0,24,7],[14,0,14,7],[15,0,15,7],[16,0,16,7],[17,0,17,7],[18,0,18,7],[13,0,13,7],[4,0,7,7],[8,0,8,7],[9,0,10,7],[11,0,11,7],[12,0,12,7]]}
[]
[]
[]
[]
["Instrukcja - Obrót Hurtowy"]
[]
[]
[]
["Wstęp"]
["Niniejsza instrukcja opisuje w jaki sposób wypełnić roczne sprawozdanie dla podmiotów zajmujących się obrotem hurtowym produktami leczniczymi zawierającymi środki odurzające, substancje psychotropowe oraz Prekursory kategorii 1 w ramach zezwolenia wydanego w oparciu o Art. 40 ust. 1 oraz ust. 2 pkt 1 Ustawy o Przeciwdziałaniu Narkomanii. Sprawozdanie należy wypełniać dokładnie z zasadami przedstawionymi w instrukcji po uprzednim zapoznaniu się z nią. Pierwszym krokiem w wypełnianiu sprawozdania jest wypełnienie Formularza. Następnie należy wybrać i wypełnić tabele odpowiadające działalności którą prowadzi podmiot. W sytuacji gdy podmiot prowadzi więcej niż jeden rodzaj działalności w ramach posiadanego zezwolenia, konieczne jest wypełnienie wszystkich dotyczących ich tabel. W wypadku braku obrotu w raportowanym roku kalendarzowym wypełniony powinien zostać jedynie formularz, z informacją o braku obrotu w polu Uwagi."]
[]
["Formularz"]
["1. Nazwa podmiotu - pełna nazwa raportującego zgodna z posiadanym zezwoleniem na obrót hurtowy substancjami kontrolowanymi."]
["2. Adres prowadzenia działalności - dokładny adres na który wydane zostało zezwolenie"]
["3. Adres siedziby - dokładny adres siedziby podmiotu, jeżeli jest inny niż adres prowadzenia działalności"]
["4. Nr koncesji na prowadzenie hurtowni farmaceutycznej - numer zezwolenia na obrót hurtowy produktami leczniczymi w rozumieniu Art. 74 Ustawy Prawo Farmaceutyczne, jeżeli podmiot prowadzi obrót hurtowy produktami leczniczymi lub obrót hurtowy produktami leczniczymi weterynaryjnymi."]
["5. Nr zezwolenia na prowadzenie obrotu substancjami kontrolowanymi - numer zezwolenia wydanego w oparciu o Art. 40 ust. 1 oraz ust. 2 pkt 1 Ustawy o Przeciwdziałaniu Narkomanii"]
["6. Rodzaje działalności - Rodzaje prowadzonej przez podmiot działalności w ramach zezwolenia na obrót hurtowy substancjami kontrolowanymi."]
["7. Osoba odpowiedzialna za wypełnienie sprawozdania - dane osoby odpowiedzialnej za wypełnienie sprawozdania, będącą jednocześnie osobą odpowiedzialną za nadzór nad obrotem środkami odurzającymi, substancjami psychotropowymi lub prekursorami kategorii 1."]
["8. Uwagi - miejsce na wszelkie dodatkowe informacje, w tym informację o braku obrotu jeśli nie miał on miejsca w roku sprawozdawczym."]
["Wybór rodzaju działalności"]
["1. Obrót Hurtowy Produktami Leczniczymi Weterynaryjnymi - wypełniany przez podmioty zajmujące się obrotem produktami leczniczymi weterynaryjnymi zawierającymi substancje kontrolowane w ramach zezwolenia z Art. 40 ust. 1 oraz ust. 2 pkt 1 Ustawy o Przeciwdziałaniu Narkomanii oraz zezwolenia uzyskanego od Głównego Lekarza Weterynarii w rozumieniu Art. 74  ust. 3 Ustawy Prawo Farmaceutyczne"]
["2. Obrót Hurtowy Produktami Leczniczymi - wypełniany przez podmioty działające w ramach zezwolenia Głównego Inspektora Farmaceutycznego w zakresie prowadzenia hurtowni farmaceutycznej w rozumieniu Art. 74 ust. 1 Ustawy Prawo Farmaceutyczne oraz zezwolenia z Art. 40 ust. 1 oraz ust. 2 pkt 1 Ustawy o Przeciwdziałaniu Narkomanii"]
["3. Obrót Hurtowy Surowcami Farmaceutycznymi - dotyczy podmiotów zajmujących się obrotem hurtowym surowcami farmaceutycznymi w ramach zezwolenia z Art. 40 ust. 1 oraz ust. 2 pkt 1 Ustawy o Przeciwdziałaniu Narkomanii"]
["4. Obrót Hurtowy Wzorcami/Substancjami Chemicznymi nie będącymi API - Dotyczy podmiotów obracających wzorcami analitycznymi oraz substancjami chemicznymi nie będącymi API zawierającymi środki odurzające, substancje psychotropowe lub prekursory kategorii 1 w ramach zezwolenia z Art.. 40 ust. 1 oraz ust. 2 pkt 1 Ustawy o Przeciwdzialaniu Narkomanii"]
[]
["Po wypełnieniu formularza oraz wszystkich odpowiadających prowadzonej działalności tabel należy zapisać arkusz z tytułem \"ObrotMZ76NazwaPodmiotu\" i przesłać go w formie elektronicznej do Głównego Inspektoratu Farmaceutycznego na adres gif@gif.gov.pl."]

{"sheet":"Formularz Obrót Hurtowy","index":6,"n_rows":24,"n_cols":5,"rows_kept":24,"cut":false,"hidden":true,"merged":[[9,3,9,5],[4,0,4,5],[5,1,5,5],[6,0,6,5],[7,1,7,5],[8,1,8,3],[19,0,19,5],[10,1,10,5],[11,0,11,5],[12,1,12,5],[13,1,13,3],[14,3,14,5],[15,1,15,5],[16,0,16,2],[16,3,16,5],[17,0,17,2],[17,3,17,5],[18,0,18,1],[20,1,20,2],[20,4,20,5],[21,1,21,5],[22,1,22,5],[23,1,23,5]]}
[]
[]
[]
[]
["Roczne sprawozdanie z obrotu hurtowego środkami odurzającymi, substancjami psychotropowymi i prekursorami kategorii 1"]
["Nazwa podmiotu:"]
["Adres prowadzenia działalności"]
["REGON:"]
["Ulica:",null,null,null,"Nr"]
["Kod pocztowy:",null,"Miasto:"]
["Telefon:"]
["Adres siedziby:"]
["REGON:"]
["Ulica:",null,null,null,"Nr"]
["Kod pocztowy:",null,"Miasto:"]
["Telefon:"]
["Nr koncesji na prowadzenie hurtowni farmaceutycznej:"]
["Nr zezwolenia na prowadzenie obrotu hurtowego środkami odurzającymi, substancjami psychotropowymi lub prekursorami kat. 1:"]
["Rodzaje działalności:"]
["Osoba odpowiedzialna za wypełnienie sprawozdania:"]
["Imię:",null,null,"Nazwisko:"]
["Telefon:"]
["Data (dzień, miesiąc, rok):"]
["Uwagi:\n\n"]

{"sheet":"Wybór Obrót","index":7,"n_rows":12,"n_cols":7,"rows_kept":12,"cut":false,"hidden":true,"merged":[[5,0,5,6],[11,0,20,0],[11,2,20,2],[11,4,20,4],[11,6,20,6]]}
[]
[]
[]
[]
[]
["Wybór rodzaju prowadzonej działalności w ramach zezwolenia na Obrót Hurtowy"]
[]
[]
[]
[]
[]
["Dotyczy podmiotów posiadających zezwolenie na prowadzenie Hurtowni Farmaceutycznej weterynaryjnych produktów leczniczych zgodnie z Art.74 ust. 3 Ustawy Prawo Farmaceutyczne oraz Zezwolenia na Obrót Hurtowy Środkami Odurzającymi, Substancjami psychotropowymi lub prekursorami kategorii 1 zgodnie z Art.40 ust. 1 oraz ust. 2 pkt 1 Ustawy  o Przeciwdziałaniu Narkomanii",null,"Dotyczy podmiotów prowadzących obrót hurtowy produktami leczniczymi w ramach zezwolenia na prowadzenie Hurtowni Farmaceutycznej zgodnie z Art.74 Ustawy Prawo Farmaceutyczne oraz Zezwolenia na Obrót Hurtowy Środkami Odurzającymi, Substancjami psychotropowymi lub prekursorami kategorii 1 zgodnie z Art.40 ust. 1 oraz ust. 2 pkt 1 Ustawy o Przeciwdziałaniu Narkomanii",null,"Dotyczy podmiotów zajmujących się obrotem hurtowym surowcami farmaceutycznymi w ramach zezwolenia z Art. 40 ust. 1 oraz ust. 2 pkt 1 Ustawy o Przeciwdziałaniu Narkomanii",null,"Dotyczy podmiotów obracających wzorcami analitycznymi oraz substancjami chemicznymi nie będącymi API zawierającymi środki odurzające, substancje psychotropowe lub prekursory kategorii 1 w ramach zezwolenia z Art.. 40 ust. 1 oraz ust. 2 pkt 1 Ustawy o Przeciwdzialaniu Narkomanii"]

{"sheet":"Instrukcja Hurtownia","index":8,"n_rows":22,"n_cols":1,"rows_kept":22,"cut":false,"hidden":true,"merged":[[21,0,21,7],[15,0,15,7],[16,0,16,7],[17,0,17,7],[18,0,18,7],[19,0,19,7],[20,0,20,7],[4,0,7,7],[14,0,14,7],[8,0,8,7],[9,0,9,7],[10,0,10,7],[11,0,11,7],[12,0,12,7],[13,0,13,7]]}
[]
[]
[]
[]
["Instrukcja - Obrót produktami leczniczymi"]
[]
[]
[]
["Tabele"]
["1. Na tabele składa się kilka elementów  w postaci Informacji o produkcie, stanach magazynowych na początek i koniec roku, przychodzie i rozchodzie oraz liczbie zutylizowanych opakowań."]
["2. Informacje o produkcie - pełne informacje o wskazanym produkcie, mogą być one wypełnione na dwa sposoby:"]
["a) wybranie nazwy handlowej produktu z listy, a następnie zależnie od potrzeb wybranie lub wpisanie formy farmaceutycznej, dawki i wielkości opakowania"]
["b) ręczne wpisanie nazwy handlowej produktu oraz pozostałych informacji o produkcie w wypadku gdy produkt nie znajduje się na liście"]
["3. Substancja czynna - w sytuacji samodzielnego wpisywania substancji czynnej podana powinna zostać nazwa substancji wpisana dla produktu w Rejestrze Produktów Leczniczych lub charakterystyce produktu leczniczego w wypadku produktów nie występujących w rejestrze."]
["4. Forma farmaceutyczna - forma produktu zgodna z Rejestrem Produktów Leczniczych lub charakterystyką produktu leczniczego"]
["5. Dawka jednostkowa w mg - Ilość substancji czynnej w jednostce produktu w przeliczeniu na mg zgodna z Rejestrem Produktów Leczniczych lub charakterystyką produktu. W wypadku roztworów jako dawkę rozumie się liczbę mg na ml produktu przy jednoczesnym traktowaniu ilości ml w opakowaniu jako jego wielkości, lub też ilości mg w ampułce w wypadku traktowania ilości ampułek w opakowaniu jako jego wielkość. W wypadku systemów transdermalnych przez jednostkową dawkę rozumie się łączną zawartość substancji kontrolowanej w pojedyńczym plastrze."]
["6. Wielkość opakowania - liczba jednostkowych dawek produktu w pojedynczym opakowaniu produktu."]
["7. Stan na dzień 01.01 roku sprawozdawczego - ilość opakowań produktu posiadana przez podmiot na początku okresu sprawozdawczego."]
["8. Przychód - ilość opakowań nabytych przez całą długość raportowanego okresu sprawozdawczego, z rozróżnieniem na źródło przychodu."]
["9. Rozchód - ilość opakowań sprzedanych przez całą długość okresu sprawozdawczego."]
["10. Utylizacja - liczba zutylizowanych opakowań"]
["11. Stan na ostatni dzień roku sprawozdawczego - ilość opakowań produktu posiadana na końcu okresu sprawozdawczego. Ilość ta powinna być równa Stanowi na początek okresu + przychód - rozchód - utylizacja."]

{"sheet":"Instrukcja Badania","index":9,"n_rows":19,"n_cols":1,"rows_kept":19,"cut":false,"hidden":true,"merged":[[18,0,18,7],[4,0,6,7],[7,0,7,7],[8,0,8,7],[10,0,10,7],[11,0,11,7],[12,0,12,7],[9,0,9,7],[13,0,13,7],[14,0,14,7],[15,0,15,7],[16,0,16,7],[17,0,17,7]]}
[]
[]
[]
[]
["Instrukcja - Badania"]
[]
[]
["Tabela dotycząca badań"]
["1. Badana Substancja - Nazwa substancji lub produktu leczniczego zawierających środek odurzający, substancję psychotropową lub prekursor kategorii I na których prowadzone były badania"]
["2. Czysta postać badanej substancji - nazwa czystej postaci substancji kontrolowanej znajdującej się w przedmiocie badań, wymieniona w Rozporządzeniu Ministra Zdrowia w sprawie wykazu substancji psychotropowych, środków odurzających oraz nowych substancji psychoaktywnych lub w Rozporządzeniu (WE) NR 273/2004 w sprawie prekursorów narkotykowych"]
["2. Cel badania - krótki opis celu badań (np. badania kryminalistyczne, badania fizykochemiczne)"]
["3. Stan na dzień 01.01 - ilość niewykorzystanegoj w poprzednim roku kalendarzowym materiału badawczego znajdująca się w posiadaniu podmiotu na początku okresu sprawozdawczego, wyrażona w gramach czystej postaci substancji kontrolowanej zgodnej z przelicznikiem publikowanym na Green/Yellow/Red List przez Międzynarodową Radę Kontroli Narkotyków"]
["4. Przychód w roku sprawozdawczym - ilość substancji kontrolowanej zakupionej i wytworzonej w celu przeprowadzenia badań, wyrażona w gramach czystej postaci substancji kontrolowanej"]
["5. Wykorzystano w badaniach - ilość substancji kontrolowanej, wyrażona w gramach czystej postaci substancji, wykorzystana w okresie sprawozdzawczym w badaniach"]
["6. Utylizacja - Ilość zutylizowanego w okresie sprawozdawczym środka odurzającego, substancji psychotropowej lub prekursora kat. 1, wyrażona w gramach czystej postaci substancji"]
["7. Stan na dzień 31.12 - ilość niewykorzystanego w okresie sprawozdawczym materiału badawczego pozostająca na stanie podmiotu, wyrażona w gramach czystej postaci substancji"]
["Zapotrzebowanie"]
["1.W arkuszu Zapotrzebowanie podmioty posiadające zezwolenie na wytwarzanie, przetwarzanie, przerabianie, przywóz, dystrybucję lub stosowanie mają obowiązek przedstawienia swojego zapotrzebowania na substancje kontrolowane na przyszły rok wynikających z przewidywanych potrzeb badawczych"]
["2. Przewidywane zapotrzebowanie przedstawione powinno być w formie zapotrzebowania na łączną czystą postać substancji kontrolowanej"]

{"sheet":"Instrukcja Pozafarmaceutyczne","index":10,"n_rows":18,"n_cols":1,"rows_kept":18,"cut":false,"hidden":true,"merged":[[4,0,6,7],[7,0,7,7],[8,0,8,7],[12,0,12,7],[13,0,13,7],[9,0,9,7],[14,0,14,7],[16,0,16,7],[17,0,17,7],[11,0,11,7],[10,0,10,7],[15,0,15,7]]}
[]
[]
[]
[]
["Instrukcja - Produkcja Pozafarmaceutyczna"]
[]
[]
["Tabela dotycząca wytwarzania pozafarmaceutycznego"]
["1. Wykorzystywana/Powstająca Substancja - Nazwa środka odurzającego, substancji psychotropowej lub prekursora kat. 1 wykorzystywanego lub powstającego w procesie produkcji pozafarmaceutycznej"]
["2. Sposób wykorzystywania/powstawania - krótki opis celu w jakim wykorzystywana/produkowana jest substancja kontrolowana (np. produkcja farb, produkcja oleju CBD)"]
["3. Stan na dzień 01.01 - ilość niewykorzystanej/niezutylizowanej w poprzednim roku kalendarzowym substancji znajdująca się w posiadaniu podmiotu na początku okresu sprawozdawczego, wyrażona w gramach czystej postaci substancji kontrolowanej zgodnej z przelicznikiem publikowanym na Green/Yellow/Red List przez Międzynarodową Radę Kontroli Narkotyków (w wypadku GBL podać ilość GBL bez przeliczania)"]
["4. Przychód w roku sprawozdawczym - ilość substancji kontrolowanej zakupionej i wytworzonej w ramach prowadzonej działalności z podziałem na nabycie w kraju i za granicą, wyrażona w gramach czystej postaci substancji"]
["5. Wykorzystano w produkcji - ilość substancji kontrolowanej, wyrażona w gramach czystej postaci substancji, wykorzystana w okresie sprawozdzawczym w produkcji pozafarmaceutycznej"]
["6. Utylizacja - Ilość zutylizowanego w okresie sprawozdawczym środka odurzającego, substancji psychotropowej lub prekursora kat. 1, wyrażona w gramach czystej postaci substancji"]
["7. Stan na dzień 31.12 - ilość niewykorzystanej/niezutylizowanej substancji w raportowanym okresie sprawozdawczym pozostająca na stanie podmiotu, wyrażona w gramach czystej postaci substancji"]
["Zapotrzebowanie"]
["1.W arkuszu Zapotrzebowanie podmioty posiadające zezwolenie na wytwarzanie, przetwarzanie, przerabianie, przywóz lub dystrybucję mają obowiązek przedstawienia swojego zapotrzebowania na substancje kontrolowane na przyszły rok wynikających z przewidywanych potrzeb produkcyjnych"]
["2. Przewidywane zapotrzebowanie przedstawione powinno być w formie zapotrzebowania na łączną czystą postać substancji kontrolowanej"]

{"sheet":"Instrukcja Wytwórca","index":11,"n_rows":59,"n_cols":1,"rows_kept":59,"cut":false,"hidden":true,"merged":[[16,0,16,7],[17,0,17,7],[28,0,28,7],[18,0,18,7],[19,0,19,7],[25,0,25,7],[26,0,26,7],[27,0,27,7],[35,0,35,7],[36,0,36,7],[37,0,37,7],[49,0,49,7],[45,0,45,7],[46,0,46,7],[44,0,44,7],[43,0,43,7],[47,0,47,7],[48,0,48,7],[42,0,42,7],[38,0,38,7],[39,0,39,7],[40,0,40,7],[41,0,41,7],[58,0,58,7],[52,0,52,7],[53,0,53,7],[50,0,50,7],[51,0,51,7],[54,0,54,7],[55,0,55,7],[56,0,56,7],[57,0,57,7],[34,0,34,7],[14,0,14,7],[8,0,8,7],[7,0,7,7],[12,0,12,7],[32,0,32,7],[33,0,33,7],[22,0,22,7],[21,0,21,7],[20,0,20,7],[23,0,23,7],[24,0,24,7],[29,0,29,7],[30,0,30,7],[31,0,31,7],[15,0,15,7],[4,0,6,7],[13,0,13,7],[9,0,9,7],[10,0,10,7],[11,0,11,7]]}
[]
[]
[]
[]
["Instrukcja - Wytwarzanie Produktów Leczniczych"]
[]
[]
["Tabela dotycząca substancji czynnych wykorzywstywanych do produkcji produktów leczniczych"]
["1. Nazwa substancji - międzynarodowa nazwa substancji której dotyczy proces wytwarzania, przetwarzania, przerabiania, przywozu lub dystrybucji"]
["2. Nazwa czystej postaci substancji - Nazwa czystej postaci substancji kontrolowanej zgodna z wykazem substancji kontrolowanych opublikowanych w rozporządzeniu Ministra Zdrowia w sprawie wykazu substancji psychotropowych, środków odurzających oraz nowych substancji psychoaktywnych"]
["3. Ilość substancji dnia 01.01 okresu sprawozdawczego, wyrażona w gramach czystej postaci substancji zgodnie z przelicznikiem publikowanym na Green/Yellow/Red List przez Międzynarodową Radę Kontroli Narkotyków (INCB)"]
["4. Przychód substancji w okresie sprawozdawczym, rozbity na import, substancję kupioną w kraju oraz substancję wytworzoną w procesie syntezy, wyrażona w gramach czystej postaci substancji"]
["5. Wykorzystanie substancji w okresie sprawozdawczym, wyrażone w gramach czystej postaci substancji, podzielone na:"]
["a) Produkcje produktów leczniczych składającą się z następujących informacji o produkcie:"]
[{"$f":"\"- Nazwa produktu leczniczego\"","v":"- Nazwa produktu leczniczego"}]
[{"$f":"\"- Forma farmaceutyczna produktu\"","v":"- Forma farmaceutyczna produktu"}]
[{"$f":"\"- dawka jednostkowa w mg\"","v":"- dawka jednostkowa w mg"}]
[{"$f":"\"- wielkość opakowania produktu\"","v":"- wielkość opakowania produktu"}]
["oraz informacji o :"]
[{"$f":"\"- łącznej ilości wytworzonego produktu wyrażonej w gramach czystej postaci substancji czynnej\"","v":"- łącznej ilości wytworzonego produktu wyrażonej w gramach czystej postaci substancji czynnej"}]
[{"$f":"\"- ilości substancji wykorzystanej w wyniku różnych procesów produkcyjnych takich jak kontrola jakości przeprowadzonych przy produkcji wskazanego produktu leczniczego, wyrażonej w gramach czystej postaci substancji czynnej\"","v":"- ilości substancji wykorzystanej w wyniku różnych procesów produkcyjnych takich jak kontrola jakości przeprowadzonych przy produkcji wskazanego produktu leczniczego, wyrażonej w gramach czystej postaci substancji czynnej"}]
["b) Przetwarzaniu na substancje nie będące substancjami kontrolowanymi"]
["c) Przetworzeniu na inną substancję z grupy substancji kontrolowanych"]
["6. Sprzedaż substancji nie wykorzystanej do produkcji formy farmaceutycznej, rozdzielona na sprzedaż krajową oraz eksport, wyrażona w gramach czystej postaci substancji"]
["7. Utylizacja substancji nie wykorzytanej do produkcji formy farmaceutycznej, wyrażona w gramach czystej postaci substancji"]
["8. Ilośc substancji dnia 31.12 okresu sprawozdawczego pozostałej po produkcji formy farmaceutycznej, wyrażona w gramach czystej postaci substancji, liczba ta powinna być równa ilości substancji dnia 01.01 - przychód - wykorzystanie -sprzedaż - utylizacja"]
["Tabela dotycząca produktów leczniczych"]
["1. Nazwa produktu leczniczego - Oficjalna nazwa produktu leczniczego"]
["2. Nazwa substancji czynnej - Substancja czynna produktu zgodna z charakterystyką produktu leczniczego lub Rejestrem Produktów Leczniczych"]
["4. Forma farmaceutyczna - forma produktu zgodna z Rejestrem Produktów Leczniczych lub charakterystyką produktu leczniczego"]
["5. Dawka jednostkowa w mg - Ilość substancji czynnej w jednostce produktu w przeliczeniu na mg zgodna z Rejestrem Produktów Leczniczych lub charakterystyką produktu. W wypadku roztworów jako dawkę rozumie się liczbę mg na ml produktu przy jednoczesnym traktowaniu ilości ml w opakowaniu jako jego wielkości, lub też ilości mg w ampułce w wypadku traktowania ilości ampułek w opakowaniu jako jego wielkość. W wypadku systemów transdermalnych przez jednostkową dawkę rozumie się łączną zawartość substancji kontrolowanej w pojedyńczym plastrze."]
["6. Wielkość opakowania - liczba jednostkowych dawek produktu w pojedynczym opakowaniu produktu."]
["7. Nazwa czystej postaci substancji czynnej - Czysta postać substancji czynnej zawartej w produkcie"]
["8. Informacja czy produkt należy do grupy III-N w wypadku środków odurzających"]
["9. Ilość produktu posiadana w dniu 01.01 okresu sprawozdawczego, wyrażona w gramach czystej postaci substancji czynnej"]
["10. Przychód produktu wyrażony w gramach czystej substancji czynnej, podzielony na kupno w kraju, import oraz produkt wytworzony samodzielnie. Ilość produktu wytworzonego samodzielnie powinna być zgodna z ilością wytworzonej formy dla wskazanego produktu w tabeli dotyczącej substancji"]
["11. Sprzedaż produktu do hurtowni, inna sprzedaż krajowa oraz eksport produktu wyrażone w gramach czystej postaci substancji czynnej"]
["12. Utylizacja produktów, wyrażona w gramach czystej postaci substancji czynnej"]
["13. Ilość posiadanego produktu dnia 31.12 okresu sprawozdawczego, wyrażona w gramach czystej postaci substancji, liczba ta powinna być równa ilości produktu dnia 01.01 + przychód produktu - sprzedaż - utylizacja"]
["Tabela dotycząca przepakowywania"]
["1. Tabele dotyczącą przepakowywania wypełniają podmioty przepakowujące produkty lecznicze w ramach zezwolenia na wytwarzanie, przetwarzanie, przerabianie, przywóz lub dystrybucję środków odurzających, substancji psychotropowych oraz prekursorów kat. 1"]
["2. Tabela składa się z dwóch części, jednej dotyczącej produktu przed przepakowaniem oraz drugiej dotyczącej już przepakowanego produktu"]
["3. Informacje dotyczące nieprzepakowanego jeszcze produktu składają się z:"]
["a) Nazwy produktu"]
["b) Nazwie substancji czynnej zgodnej z Rejestrem Produktów Leczniczych lub charakterystyką produktu leczniczego"]
["c) Dawce produktu w postaci Ilości substancji czynnej w jednostce produktu. W wypadku roztworów jako dawkę rozumie się liczbę mg na ml produktu przy jednoczesnym traktowaniu ilości ml w opakowaniu jako jego wielkości, lub też ilości mg w ampułce w wypadku traktowania ilości ampułek w opakowaniu jako jego wielkość."]
["d) Wielkości opakowania produktu będącej ilością jednostkowych dawek produktu w jednym opakowaniu"]
["4. Czy produkt przepakowany w ramach kontraktu - Wybrać Tak w wypadku gdy podmiot przepakowuje lub serializuje cudze produkty na rzecz jego właściciela w ramach kontraktu"]
["5. Liczba opakowań produktu posiadana w dniu 01.01 okresu sprawozdawczego."]
["6. Przychód produktu leczniczego przeznaczonego do przepakowania z rozbiciem na źródło jego pochodzenia, wyrażony w liczbie opakowań"]
["7. Sprzedaż produktu jeszcze nie przepakowanego wyrażona w opakowaniach"]
["8. Liczba zutylizowanego produktu wyrażona w opakowaniach"]
["9. Ilość jeszcze nie przepakowanych posiadanych opakowań w dniu 31.12 okresu sprawozdawczego. Liczba ta powinna być równa ilości produktu posiadanego dnia 01.01 + przychód produktu - utylizacja - ilość przepakowanego produktu"]
["10. Druga część tabeli poświęcona jest informacjom o już przepakowanym produkcie, sposób jej wypełniania jest analogiczny do sposobu wypełniania pierwszej części tabeli, z wyjątkiem podania ilości przepakowanych opakowań oraz ilości opakowań przeznaczonych na próby archiwalne"]
["11. Próby Archiwalne - ilość opakowań produktu wykorzystanych do przeprowadzenia prób archiwalnych"]
["12. Ilość przepakowanych opakowań w dniu 31.12 okresu sprawozdawczego powinna być równa ilości przepakowanego produktu posiadanego 01.01 + przychód produktu + ilość przepakowanego produktu - sprzedaż produktu - próby archiwalne - utylizacja"]
["Zapotrzebowanie"]
["1.W arkuszu Zapotrzebowanie podmioty posiadające zezwolenie na wytwarzanie, przetwarzanie, przerabianie, przywóz lub dystrybucję mają obowiązek przedstawienia swojego zapotrzebowania na substancje kontrolowane na przyszły rok wynikających z przewidywanych potrzeb produkcyjnych"]
["2. Przewidywane zapotrzebowanie przedstawione powinno być w formie zapotrzebowania na łączną czystą postać substancji kontrolowanej, z rozdzieleniem na planowane wykorzystanie substancji na zaspokojenie potrzeb rynku krajowego oraz wykorzystanie jej w celach eksportowych"]

{"sheet":"Instrukcja Wzorce","index":12,"n_rows":17,"n_cols":1,"rows_kept":17,"cut":false,"hidden":true,"merged":[[16,0,16,7],[12,0,12,7],[13,0,13,7],[14,0,14,7],[15,0,15,7],[11,0,11,7],[4,0,6,7],[7,0,7,7],[8,0,8,7],[9,0,9,7],[10,0,10,7]]}
[]
[]
[]
[]
["Instrukcja - Obrót Hurtowy Wzorcami/Substancjami chemicznymi nie będącymi API"]
[]
[]
["Tabele"]
["1. Na tabele składa się kilka elementów  w postaci Informacji o wzorcu/substancji chemicznej, stanach magazynowych na początek i koniec roku, przychodzie i rozchodzie oraz liczbie zutylizowanego wzorca/substancji."]
["2. Informacje o wzorcu/substancji zawierające:"]
["a) Nazwę wzorca/substancji podlegającego obrotowi"]
["b) Nazwę czystej postaci substancji kontrolowanej zawartej we wzorcu/substancji chemicznej, znajdujacą sie w Rozporządzeniu Ministra Zdrowia w sprawie wykazu substancji psychotropowych, środków odurzających oraz nowych substancji psychoaktywnych lub w Rozporządzeniu (WE) NR 273/2004 w sprawie prekursorów narkotykowych"]
["3. Stan na dzień 01.01 roku sprawozdawczego - ilość wzorca/substancji chemicznej wyrażona w mg czystej substancji kontrolowanej w posiadaniu podmiotu na początku okresu sprawozdawczego"]
["4. Przychód - ilość wzorca/substancji chemicznej nabyta przez czas trwania okresu sprawozdawczego z rozbiciem na źródła przychodu wyrażona w mg czystej substancji kontrolowanej"]
["5. Rozchód - ilość wzorca/substancji chemicznej wyrażona w mg czystej substancji kontrolowanej sprzedana przez całą długość okresu sprawozdawczego"]
["6. Utylizacja - liczba zutylizowanego wzorca/substancji chemicznej wyrażona w mg czystej substancji kontrolowanej"]
["7. Stan na dzień 31.12 roku sprawozdawczego - ilość wzorca/substancji chemicznej wyrażona w mg czystej substancji kontrolowanej posiadana na końcu okresu sprawozdawczego. Ilość ta powinna być równa stanowi na 01.01 + przychód - rozchód - utylizacja."]

{"sheet":"Instrukcja Hurtownia sur","index":13,"n_rows":19,"n_cols":1,"rows_kept":19,"cut":false,"hidden":true,"merged":[[4,0,6,7],[7,0,7,7],[8,0,8,7],[9,0,9,7],[10,0,10,7],[20,0,20,7],[21,0,21,7],[22,0,22,7],[12,0,12,7],[11,0,11,7],[13,0,13,7],[18,0,18,7],[14,0,14,7],[15,0,15,7],[16,0,16,7],[17,0,17,7]]}
[]
[]
[]
[]
["Instrukcja - Obrót Hurtowy Surowcami Farmaceutycznymi"]
[]
[]
["Tabele"]
["1. Na tabele składa się kilka elementów  w postaci Informacji o surowcu, stanach magazynowych na początek i koniec roku, przychodzie i rozchodzie oraz liczbie zutylizowanych opakowań."]
["2. Informacje o surowcu - pełne informacje o wskazanym surowcu, mogą być one wypełnione na dwa sposoby:"]
["a) wybranie surowca z listy, a następnie zależnie od potrzeb wybranie lub wpisanie ilości surowca w opakowaniu"]
["b) ręczne wpisanie nazwy surowca oraz pozostałych informacji o surowcu w wypadku gdy surowiec nie znajduje się na liście"]
["3. Nazwa czystej postaci substancji kontrolowanej - nazwa czystej postaci substancji kontrolowanej będącej substancją czynną surowca, wymieniona w Rozporządzeniu Ministra Zdrowia w sprawie wykazu substancji psychotropowych, środków odurzających oraz nowych substancji psychoaktywnych lub w Rozporządzeniu (WE) NR 273/2004 w sprawie prekursorów narkotykowych"]
["4. Ilość surowca w jednostkowym opakowaniu w gramach- wyrażona w gramach ilość  surowca zapakowana w jednostkowe opakowanie"]
["5. Stan na dzień 01.01 roku sprawozdawczego - ilość opakowań surowca w posiadaniu podmiotu na początku okresu sprawozdawczego"]
["6. Przychód - ilość opakowań surowca nabyta przez czas trwania okresu sprawozdawczego z rozbiciem na źródła przychodu"]
["7. Rozchód - ilość opakowań surowca sprzedana przez całą długość okresu sprawozdawczego"]
["8. Utylizacja - liczba zutylizowanych opakowań surowca"]
["9. Stan na dzień 31.12 roku sprawozdawczego - ilość opakowań surowca posiadana na końcu okresu sprawozdawczego. Ilość ta powinna być równa Stanowi na początek okresu + przychód - rozchód - utylizacja."]

{"sheet":"Środki odurzające Wzorce","index":14,"n_rows":9,"n_cols":13,"rows_kept":9,"cut":false,"hidden":true,"merged":[[5,0,5,12],[6,0,6,1],[6,2,8,2],[6,3,6,5],[6,6,6,10],[6,11,8,11],[6,12,8,12],[7,0,8,0],[7,1,8,1],[7,3,7,4],[7,5,8,5],[7,6,7,9],[7,10,8,10]]}
[]
[]
[]
[]
[]
["Roczne sprawozdanie z obrotu środkami odurzającymi"]
["Informacje o wzorcu",null,"Stan na dzień 01.01 okresu sprawozdawczego","Przychód",null,null,"Rozchód",null,null,null,null,"Utylizacja","Stan na dzień 31.12 okresu sprawozdawczego"]
["Międzynarodowa/Handlowa nazwa środka odurzającego","Nazwa czystej postaci środka odurzającego",null,"Ilość wzorca/substancji nabyta w kraju",null,"Wewnątrzwspólnotowe nabycie/przywóz","Ilość wzorca/substancji sprzedana w kraju",null,null,null,"Wewnątrzwspólnotowa dostawa/wywóz"]
[null,null,null,"Ilość wzorca/substancji nabyta od wytwórcy","Ilość wzorca/substancji nabyta od hurtowni farmaceutycznych",null,"Sprzedaż do obrotu detalicznego","Sprzedaż do hurtowni farmaceutycznych","Sprzedaż do działalności medycznej","Inna sprzedaż"]

{"sheet":"Środki odurzające Hurt sur","index":15,"n_rows":300,"n_cols":14,"rows_kept":300,"cut":false,"hidden":true,"merged":[[7,0,8,0],[5,0,5,13],[7,4,7,5],[6,4,6,6],[7,6,8,6],[6,3,8,3],[6,13,8,13],[6,7,6,11],[7,7,7,10],[6,12,8,12],[7,11,8,11],[6,0,6,2],[7,1,8,1],[7,2,8,2]]}
[]
[]
[]
[]
[]
["Roczne sprawozdanie z obrotu środkami odurzającymi"]
["Informacje o środku odurzającym",null,null,"Stan na dzień 01.01 okresu sprawozdawczego","Przychód",null,null,"Rozchód",null,null,null,null,"Utylizacja","Stan na dzień 31.12 okresu sprawozdawczego"]
["Międzynarodowa/Handlowa nazwa środka odurzającego","Nazwa czystej postaci środka odurzającego","Ilość surowca w jednostkowym opakowaniu w gramach",null,"Ilość surowca nabyta w kraju",null,"Wewnątrzwspólnotowe nabycie/przywóz","Ilość surowca sprzedana w kraju",null,null,null,"Wewnątrzwspólnotowa dostawa/wywóz"]
[null,null,null,null,"Ilość surowca nabyta od wytwórcy","Ilość surowca nabyta od hurtowni farmaceutycznych",null,"Sprzedaż do obrotu detalicznego","Sprzedaż do hurtowni farmaceutycznych","Sprzedaż do działalności medycznej","Inna sprzedaż"]
[null,{"$f":"IFERROR(IF(A10=\"\",\"\",VLOOKUP(A10,'Lista Narkotyki Surowce'!$A$2:$B$60,2,FALSE)),\"\")","v":""},{"$f":"IFERROR(IF(A10=\"\",\"\",HLOOKUP(A10,'Lista Narkotyki Surowce'!$H$1:$BN$7,2,FALSE)),\"\")","v":""}]
[null,{"$f":"IFERROR(IF(A11=\"\",\"\",VLOOKUP(A11,'Lista Narkotyki Surowce'!$A$2:$B$60,2,FALSE)),\"\")","v":""},{"$f":"IFERROR(IF(A11=\"\",\"\",HLOOKUP(A11,'Lista Narkotyki Surowce'!$H$1:$BN$7,2,FALSE)),\"\")","v":""}]
[null,{"$f":"IFERROR(IF(A12=\"\",\"\",VLOOKUP(A12,'Lista Narkotyki Surowce'!$A$2:$B$60,2,FALSE)),\"\")","v":""},{"$f":"IFERROR(IF(A12=\"\",\"\",HLOOKUP(A12,'Lista Narkotyki Surowce'!$H$1:$BN$7,2,FALSE)),\"\")","v":""}]
[null,{"$f":"IFERROR(IF(A13=\"\",\"\",VLOOKUP(A13,'Lista Narkotyki Surowce'!$A$2:$B$60,2,FALSE)),\"\")","v":""},{"$f":"IFERROR(IF(A13=\"\",\"\",HLOOKUP(A13,'Lista Narkotyki Surowce'!$H$1:$BN$7,2,FALSE)),\"\")","v":""}]
[null,{"$f":"IFERROR(IF(A14=\"\",\"\",VLOOKUP(A14,'Lista Narkotyki Surowce'!$A$2:$B$60,2,FALSE)),\"\")","v":""},{"$f":"IFERROR(IF(A14=\"\",\"\",HLOOKUP(A14,'Lista Narkotyki Surowce'!$H$1:$BN$7,2,FALSE)),\"\")","v":""}]
[null,{"$f":"IFERROR(IF(A15=\"\",\"\",VLOOKUP(A15,'Lista Narkotyki Surowce'!$A$2:$B$60,2,FALSE)),\"\")","v":""},{"$f":"IFERROR(IF(A15=\"\",\"\",HLOOKUP(A15,'Lista Narkotyki Surowce'!$H$1:$BN$7,2,FALSE)),\"\")","v":""}]
[null,{"$f":"IFERROR(IF(A16=\"\",\"\",VLOOKUP(A16,'Lista Narkotyki Surowce'!$A$2:$B$60,2,FALSE)),\"\")","v":""},{"$f":"IFERROR(IF(A16=\"\",\"\",HLOOKUP(A16,'Lista Narkotyki Surowce'!$H$1:$BN$7,2,FALSE)),\"\")","v":""}]
[null,{"$f":"IFERROR(IF(A17=\"\",\"\",VLOOKUP(A17,'Lista Narkotyki Surowce'!$A$2:$B$60,2,FALSE)),\"\")","v":""},{"$f":"IFERROR(IF(A17=\"\",\"\",HLOOKUP(A17,'Lista Narkotyki Surowce'!$H$1:$BN$7,2,FALSE)),\"\")","v":""}]
[null,{"$f":"IFERROR(IF(A18=\"\",\"\",VLOOKUP(A18,'Lista Narkotyki Surowce'!$A$2:$B$60,2,FALSE)),\"\")","v":""},{"$f":"IFERROR(IF(A18=\"\",\"\",HLOOKUP(A18,'Lista Narkotyki Surowce'!$H$1:$BN$7,2,FALSE)),\"\")","v":""}]
[null,{"$f":"IFERROR(IF(A19=\"\",\"\",VLOOKUP(A19,'Lista Narkotyki Surowce'!$A$2:$B$60,2,FALSE)),\"\")","v":""},{"$f":"IFERROR(IF(A19=\"\",\"\",HLOOKUP(A19,'Lista Narkotyki Surowce'!$H$1:$BN$7,2,FALSE)),\"\")","v":""}]
[null,{"$f":"IFERROR(IF(A20=\"\",\"\",VLOOKUP(A20,'Lista Narkotyki Surowce'!$A$2:$B$60,2,FALSE)),\"\")","v":""},{"$f":"IFERROR(IF(A20=\"\",\"\",HLOOKUP(A20,'Lista Narkotyki Surowce'!$H$1:$BN$7,2,FALSE)),\"\")","v":""}]
[null,{"$f":"IFERROR(IF(A21=\"\",\"\",VLOOKUP(A21,'Lista Narkotyki Surowce'!$A$2:$B$60,2,FALSE)),\"\")","v":""},{"$f":"IFERROR(IF(A21=\"\",\"\",HLOOKUP(A21,'Lista Narkotyki Surowce'!$H$1:$BN$7,2,FALSE)),\"\")","v":""}]
[null,{"$f":"IFERROR(IF(A22=\"\",\"\",VLOOKUP(A22,'Lista Narkotyki Surowce'!$A$2:$B$60,2,FALSE)),\"\")","v":""},{"$f":"IFERROR(IF(A22=\"\",\"\",HLOOKUP(A22,'Lista Narkotyki Surowce'!$H$1:$BN$7,2,FALSE)),\"\")","v":""}]
[null,{"$f":"IFERROR(IF(A23=\"\",\"\",VLOOKUP(A23,'Lista Narkotyki Surowce'!$A$2:$B$60,2,FALSE)),\"\")","v":""},{"$f":"IFERROR(IF(A23=\"\",\"\",HLOOKUP(A23,'Lista Narkotyki Surowce'!$H$1:$BN$7,2,FALSE)),\"\")","v":""}]
[null,{"$f":"IFERROR(IF(A24=\"\",\"\",VLOOKUP(A24,'Lista Narkotyki Surowce'!$A$2:$B$60,2,FALSE)),\"\")","v":""},{"$f":"IFERROR(IF(A24=\"\",\"\",HLOOKUP(A24,'Lista Narkotyki Surowce'!$H$1:$BN$7,2,FALSE)),\"\")","v":""}]
[null,{"$f":"IFERROR(IF(A25=\"\",\"\",VLOOKUP(A25,'Lista Narkotyki Surowce'!$A$2:$B$60,2,FALSE)),\"\")","v":""},{"$f":"IFERROR(IF(A25=\"\",\"\",HLOOKUP(A25,'Lista Narkotyki Surowce'!$H$1:$BN$7,2,FALSE)),\"\")","v":""}]
[null,{"$f":"IFERROR(IF(A26=\"\",\"\",VLOOKUP(A26,'Lista Narkotyki Surowce'!$A$2:$B$60,2,FALSE)),\"\")","v":""},{"$f":"IFERROR(IF(A26=\"\",\"\",HLOOKUP(A26,'Lista Narkotyki Surowce'!$H$1:$BN$7,2,FALSE)),\"\")","v":""}]
[null,{"$f":"IFERROR(IF(A27=\"\",\"\",VLOOKUP(A27,'Lista Narkotyki Surowce'!$A$2:$B$60,2,FALSE)),\"\")","v":""},{"$f":"IFERROR(IF(A27=\"\",\"\",HLOOKUP(A27,'Lista Narkotyki Surowce'!$H$1:$BN$7,2,FALSE)),\"\")","v":""}]
[null,{"$f":"IFERROR(IF(A28=\"\",\"\",VLOOKUP(A28,'Lista Narkotyki Surowce'!$A$2:$B$60,2,FALSE)),\"\")","v":""},{"$f":"IFERROR(IF(A28=\"\",\"\",HLOOKUP(A28,'Lista Narkotyki Surowce'!$H$1:$BN$7,2,FALSE)),\"\")","v":""}]
[null,{"$f":"IFERROR(IF(A29=\"\",\"\",VLOOKUP(A29,'Lista Narkotyki Surowce'!$A$2:$B$60,2,FALSE)),\"\")","v":""},{"$f":"IFERROR(IF(A29=\"\",\"\",HLOOKUP(A29,'Lista Narkotyki Surowce'!$H$1:$BN$7,2,FALSE)),\"\")","v":""}]
[null,{"$f":"IFERROR(IF(A30=\"\",\"\",VLOOKUP(A30,'Lista Narkotyki Surowce'!$A$2:$B$60,2,FALSE)),\"\")","v":""},{"$f":"IFERROR(IF(A30=\"\",\"\",HLOOKUP(A30,'Lista Narkotyki Surowce'!$H$1:$BN$7,2,FALSE)),\"\")","v":""}]
[null,{"$f":"IFERROR(IF(A31=\"\",\"\",VLOOKUP(A31,'Lista Narkotyki Surowce'!$A$2:$B$60,2,FALSE)),\"\")","v":""},{"$f":"IFERROR(IF(A31=\"\",\"\",HLOOKUP(A31,'Lista Narkotyki Surowce'!$H$1:$BN$7,2,FALSE)),\"\")","v":""}]
[null,{"$f":"IFERROR(IF(A32=\"\",\"\",VLOOKUP(A32,'Lista Narkotyki Surowce'!$A$2:$B$60,2,FALSE)),\"\")","v":""},{"$f":"IFERROR(IF(A32=\"\",\"\",HLOOKUP(A32,'Lista Narkotyki Surowce'!$H$1:$BN$7,2,FALSE)),\"\")","v":""}]
[null,{"$f":"IFERROR(IF(A33=\"\",\"\",VLOOKUP(A33,'Lista Narkotyki Surowce'!$A$2:$B$60,2,FALSE)),\"\")","v":""},{"$f":"IFERROR(IF(A33=\"\",\"\",HLOOKUP(A33,'Lista Narkotyki Surowce'!$H$1:$BN$7,2,FALSE)),\"\")","v":""}]
[null,{"$f":"IFERROR(IF(A34=\"\",\"\",VLOOKUP(A34,'Lista Narkotyki Surowce'!$A$2:$B$60,2,FALSE)),\"\")","v":""},{"$f":"IFERROR(IF(A34=\"\",\"\",HLOOKUP(A34,'Lista Narkotyki Surowce'!$H$1:$BN$7,2,FALSE)),\"\")","v":""}]
[null,{"$f":"IFERROR(IF(A35=\"\",\"\",VLOOKUP(A35,'Lista Narkotyki Surowce'!$A$2:$B$60,2,FALSE)),\"\")","v":""},{"$f":"IFERROR(IF(A35=\"\",\"\",HLOOKUP(A35,'Lista Narkotyki Surowce'!$H$1:$BN$7,2,FALSE)),\"\")","v":""}]
[null,{"$f":"IFERROR(IF(A36=\"\",\"\",VLOOKUP(A36,'Lista Narkotyki Surowce'!$A$2:$B$60,2,FALSE)),\"\")","v":""},{"$f":"IFERROR(IF(A36=\"\",\"\",HLOOKUP(A36,'Lista Narkotyki Surowce'!$H$1:$BN$7,2,FALSE)),\"\")","v":""}]
[null,{"$f":"IFERROR(IF(A37=\"\",\"\",VLOOKUP(A37,'Lista Narkotyki Surowce'!$A$2:$B$60,2,FALSE)),\"\")","v":""},{"$f":"IFERROR(IF(A37=\"\",\"\",HLOOKUP(A37,'Lista Narkotyki Surowce'!$H$1:$BN$7,2,FALSE)),\"\")","v":""}]
[null,{"$f":"IFERROR(IF(A38=\"\",\"\",VLOOKUP(A38,'Lista Narkotyki Surowce'!$A$2:$B$60,2,FALSE)),\"\")","v":""},{"$f":"IFERROR(IF(A38=\"\",\"\",HLOOKUP(A38,'Lista Narkotyki Surowce'!$H$1:$BN$7,2,FALSE)),\"\")","v":""}]
[null,{"$f":"IFERROR(IF(A39=\"\",\"\",VLOOKUP(A39,'Lista Narkotyki Surowce'!$A$2:$B$60,2,FALSE)),\"\")","v":""},{"$f":"IFERROR(IF(A39=\"\",\"\",HLOOKUP(A39,'Lista Narkotyki Surowce'!$H$1:$BN$7,2,FALSE)),\"\")","v":""}]
[null,{"$f":"IFERROR(IF(A40=\"\",\"\",VLOOKUP(A40,'Lista Narkotyki Surowce'!$A$2:$B$60,2,FALSE)),\"\")","v":""},{"$f":"IFERROR(IF(A40=\"\",\"\",HLOOKUP(A40,'Lista Narkotyki Surowce'!$H$1:$BN$7,2,FALSE)),\"\")","v":""}]
[null,{"$f":"IFERROR(IF(A41=\"\",\"\",VLOOKUP(A41,'Lista Narkotyki Surowce'!$A$2:$B$60,2,FALSE)),\"\")","v":""},{"$f":"IFERROR(IF(A41=\"\",\"\",HLOOKUP(A41,'Lista Narkotyki Surowce'!$H$1:$BN$7,2,FALSE)),\"\")","v":""}]
[null,{"$f":"IFERROR(IF(A42=\"\",\"\",VLOOKUP(A42,'Lista Narkotyki Surowce'!$A$2:$B$60,2,FALSE)),\"\")","v":""},{"$f":"IFERROR(IF(A42=\"\",\"\",HLOOKUP(A42,'Lista Narkotyki Surowce'!$H$1:$BN$7,2,FALSE)),\"\")","v":""}]
[null,{"$f":"IFERROR(IF(A43=\"\",\"\",VLOOKUP(A43,'Lista Narkotyki Surowce'!$A$2:$B$60,2,FALSE)),\"\")","v":""},{"$f":"IFERROR(IF(A43=\"\",\"\",HLOOKUP(A43,'Lista Narkotyki Surowce'!$H$1:$BN$7,2,FALSE)),\"\")","v":""}]
[null,{"$f":"IFERROR(IF(A44=\"\",\"\",VLOOKUP(A44,'Lista Narkotyki Surowce'!$A$2:$B$60,2,FALSE)),\"\")","v":""},{"$f":"IFERROR(IF(A44=\"\",\"\",HLOOKUP(A44,'Lista Narkotyki Surowce'!$H$1:$BN$7,2,FALSE)),\"\")","v":""}]
[null,{"$f":"IFERROR(IF(A45=\"\",\"\",VLOOKUP(A45,'Lista Narkotyki Surowce'!$A$2:$B$60,2,FALSE)),\"\")","v":""},{"$f":"IFERROR(IF(A45=\"\",\"\",HLOOKUP(A45,'Lista Narkotyki Surowce'!$H$1:$BN$7,2,FALSE)),\"\")","v":""}]
[null,{"$f":"IFERROR(IF(A46=\"\",\"\",VLOOKUP(A46,'Lista Narkotyki Surowce'!$A$2:$B$60,2,FALSE)),\"\")","v":""},{"$f":"IFERROR(IF(A46=\"\",\"\",HLOOKUP(A46,'Lista Narkotyki Surowce'!$H$1:$BN$7,2,FALSE)),\"\")","v":""}]
[null,{"$f":"IFERROR(IF(A47=\"\",\"\",VLOOKUP(A47,'Lista Narkotyki Surowce'!$A$2:$B$60,2,FALSE)),\"\")","v":""},{"$f":"IFERROR(IF(A47=\"\",\"\",HLOOKUP(A47,'Lista Narkotyki Surowce'!$H$1:$BN$7,2,FALSE)),\"\")","v":""}]
[null,{"$f":"IFERROR(IF(A48=\"\",\"\",VLOOKUP(A48,'Lista Narkotyki Surowce'!$A$2:$B$60,2,FALSE)),\"\")","v":""},{"$f":"IFERROR(IF(A48=\"\",\"\",HLOOKUP(A48,'Lista Narkotyki Surowce'!$H$1:$BN$7,2,FALSE)),\"\")","v":""}]
[null,{"$f":"IFERROR(IF(A49=\"\",\"\",VLOOKUP(A49,'Lista Narkotyki Surowce'!$A$2:$B$60,2,FALSE)),\"\")","v":""},{"$f":"IFERROR(IF(A49=\"\",\"\",HLOOKUP(A49,'Lista Narkotyki Surowce'!$H$1:$BN$7,2,FALSE)),\"\")","v":""}]
[null,{"$f":"IFERROR(IF(A50=\"\",\"\",VLOOKUP(A50,'Lista Narkotyki Surowce'!$A$2:$B$60,2,FALSE)),\"\")","v":""},{"$f":"IFERROR(IF(A50=\"\",\"\",HLOOKUP(A50,'Lista Narkotyki Surowce'!$H$1:$BN$7,2,FALSE)),\"\")","v":""}]
[null,{"$f":"IFERROR(IF(A51=\"\",\"\",VLOOKUP(A51,'Lista Narkotyki Surowce'!$A$2:$B$60,2,FALSE)),\"\")","v":""},{"$f":"IFERROR(IF(A51=\"\",\"\",HLOOKUP(A51,'Lista Narkotyki Surowce'!$H$1:$BN$7,2,FALSE)),\"\")","v":""}]
[null,{"$f":"IFERROR(IF(A52=\"\",\"\",VLOOKUP(A52,'Lista Narkotyki Surowce'!$A$2:$B$60,2,FALSE)),\"\")","v":""},{"$f":"IFERROR(IF(A52=\"\",\"\",HLOOKUP(A52,'Lista Narkotyki Surowce'!$H$1:$BN$7,2,FALSE)),\"\")","v":""}]
[null,{"$f":"IFERROR(IF(A53=\"\",\"\",VLOOKUP(A53,'Lista Narkotyki Surowce'!$A$2:$B$60,2,FALSE)),\"\")","v":""},{"$f":"IFERROR(IF(A53=\"\",\"\",HLOOKUP(A53,'Lista Narkotyki Surowce'!$H$1:$BN$7,2,FALSE)),\"\")","v":""}]
[null,{"$f":"IFERROR(IF(A54=\"\",\"\",VLOOKUP(A54,'Lista Narkotyki Surowce'!$A$2:$B$60,2,FALSE)),\"\")","v":""},{"$f":"IFERROR(IF(A54=\"\",\"\",HLOOKUP(A54,'Lista Narkotyki Surowce'!$H$1:$BN$7,2,FALSE)),\"\")","v":""}]
[null,{"$f":"IFERROR(IF(A55=\"\",\"\",VLOOKUP(A55,'Lista Narkotyki Surowce'!$A$2:$B$60,2,FALSE)),\"\")","v":""},{"$f":"IFERROR(IF(A55=\"\",\"\",HLOOKUP(A55,'Lista Narkotyki Surowce'!$H$1:$BN$7,2,FALSE)),\"\")","v":""}]
[null,{"$f":"IFERROR(IF(A56=\"\",\"\",VLOOKUP(A56,'Lista Narkotyki Surowce'!$A$2:$B$60,2,FALSE)),\"\")","v":""},{"$f":"IFERROR(IF(A56=\"\",\"\",HLOOKUP(A56,'Lista Narkotyki Surowce'!$H$1:$BN$7,2,FALSE)),\"\")","v":""}]
[null,{"$f":"IFERROR(IF(A57=\"\",\"\",VLOOKUP(A57,'Lista Narkotyki Surowce'!$A$2:$B$60,2,FALSE)),\"\")","v":""},{"$f":"IFERROR(IF(A57=\"\",\"\",HLOOKUP(A57,'Lista Narkotyki Surowce'!$H$1:$BN$7,2,FALSE)),\"\")","v":""}]
[null,{"$f":"IFERROR(IF(A58=\"\",\"\",VLOOKUP(A58,'Lista Narkotyki Surowce'!$A$2:$B$60,2,FALSE)),\"\")","v":""},{"$f":"IFERROR(IF(A58=\"\",\"\",HLOOKUP(A58,'Lista Narkotyki Surowce'!$H$1:$BN$7,2,FALSE)),\"\")","v":""}]
[null,{"$f":"IFERROR(IF(A59=\"\",\"\",VLOOKUP(A59,'Lista Narkotyki Surowce'!$A$2:$B$60,2,FALSE)),\"\")","v":""},{"$f":"IFERROR(IF(A59=\"\",\"\",HLOOKUP(A59,'Lista Narkotyki Surowce'!$H$1:$BN$7,2,FALSE)),\"\")","v":""}]
[null,{"$f":"IFERROR(IF(A60=\"\",\"\",VLOOKUP(A60,'Lista Narkotyki Surowce'!$A$2:$B$60,2,FALSE)),\"\")","v":""},{"$f":"IFERROR(IF(A60=\"\",\"\",HLOOKUP(A60,'Lista Narkotyki Surowce'!$H$1:$BN$7,2,FALSE)),\"\")","v":""}]
[null,{"$f":"IFERROR(IF(A61=\"\",\"\",VLOOKUP(A61,'Lista Narkotyki Surowce'!$A$2:$B$60,2,FALSE)),\"\")","v":""},{"$f":"IFERROR(IF(A61=\"\",\"\",HLOOKUP(A61,'Lista Narkotyki Surowce'!$H$1:$BN$7,2,FALSE)),\"\")","v":""}]
[null,{"$f":"IFERROR(IF(A62=\"\",\"\",VLOOKUP(A62,'Lista Narkotyki Surowce'!$A$2:$B$60,2,FALSE)),\"\")","v":""},{"$f":"IFERROR(IF(A62=\"\",\"\",HLOOKUP(A62,'Lista Narkotyki Surowce'!$H$1:$BN$7,2,FALSE)),\"\")","v":""}]
[null,{"$f":"IFERROR(IF(A63=\"\",\"\",VLOOKUP(A63,'Lista Narkotyki Surowce'!$A$2:$B$60,2,FALSE)),\"\")","v":""},{"$f":"IFERROR(IF(A63=\"\",\"\",HLOOKUP(A63,'Lista Narkotyki Surowce'!$H$1:$BN$7,2,FALSE)),\"\")","v":""}]
[null,{"$f":"IFERROR(IF(A64=\"\",\"\",VLOOKUP(A64,'Lista Narkotyki Surowce'!$A$2:$B$60,2,FALSE)),\"\")","v":""},{"$f":"IFERROR(IF(A64=\"\",\"\",HLOOKUP(A64,'Lista Narkotyki Surowce'!$H$1:$BN$7,2,FALSE)),\"\")","v":""}]
[null,{"$f":"IFERROR(IF(A65=\"\",\"\",VLOOKUP(A65,'Lista Narkotyki Surowce'!$A$2:$B$60,2,FALSE)),\"\")","v":""},{"$f":"IFERROR(IF(A65=\"\",\"\",HLOOKUP(A65,'Lista Narkotyki Surowce'!$H$1:$BN$7,2,FALSE)),\"\")","v":""}]
[null,{"$f":"IFERROR(IF(A66=\"\",\"\",VLOOKUP(A66,'Lista Narkotyki Surowce'!$A$2:$B$60,2,FALSE)),\"\")","v":""},{"$f":"IFERROR(IF(A66=\"\",\"\",HLOOKUP(A66,'Lista Narkotyki Surowce'!$H$1:$BN$7,2,FALSE)),\"\")","v":""}]
[null,{"$f":"IFERROR(IF(A67=\"\",\"\",VLOOKUP(A67,'Lista Narkotyki Surowce'!$A$2:$B$60,2,FALSE)),\"\")","v":""},{"$f":"IFERROR(IF(A67=\"\",\"\",HLOOKUP(A67,'Lista Narkotyki Surowce'!$H$1:$BN$7,2,FALSE)),\"\")","v":""}]
[null,{"$f":"IFERROR(IF(A68=\"\",\"\",VLOOKUP(A68,'Lista Narkotyki Surowce'!$A$2:$B$60,2,FALSE)),\"\")","v":""},{"$f":"IFERROR(IF(A68=\"\",\"\",HLOOKUP(A68,'Lista Narkotyki Surowce'!$H$1:$BN$7,2,FALSE)),\"\")","v":""}]
[null,{"$f":"IFERROR(IF(A69=\"\",\"\",VLOOKUP(A69,'Lista Narkotyki Surowce'!$A$2:$B$60,2,FALSE)),\"\")","v":""},{"$f":"IFERROR(IF(A69=\"\",\"\",HLOOKUP(A69,'Lista Narkotyki Surowce'!$H$1:$BN$7,2,FALSE)),\"\")","v":""}]
[null,{"$f":"IFERROR(IF(A70=\"\",\"\",VLOOKUP(A70,'Lista Narkotyki Surowce'!$A$2:$B$60,2,FALSE)),\"\")","v":""},{"$f":"IFERROR(IF(A70=\"\",\"\",HLOOKUP(A70,'Lista Narkotyki Surowce'!$H$1:$BN$7,2,FALSE)),\"\")","v":""}]
[null,{"$f":"IFERROR(IF(A71=\"\",\"\",VLOOKUP(A71,'Lista Narkotyki Surowce'!$A$2:$B$60,2,FALSE)),\"\")","v":""},{"$f":"IFERROR(IF(A71=\"\",\"\",HLOOKUP(A71,'Lista Narkotyki Surowce'!$H$1:$BN$7,2,FALSE)),\"\")","v":""}]
[null,{"$f":"IFERROR(IF(A72=\"\",\"\",VLOOKUP(A72,'Lista Narkotyki Surowce'!$A$2:$B$60,2,FALSE)),\"\")","v":""},{"$f":"IFERROR(IF(A72=\"\",\"\",HLOOKUP(A72,'Lista Narkotyki Surowce'!$H$1:$BN$7,2,FALSE)),\"\")","v":""}]
[null,{"$f":"IFERROR(IF(A73=\"\",\"\",VLOOKUP(A73,'Lista Narkotyki Surowce'!$A$2:$B$60,2,FALSE)),\"\")","v":""},{"$f":"IFERROR(IF(A73=\"\",\"\",HLOOKUP(A73,'Lista Narkotyki Surowce'!$H$1:$BN$7,2,FALSE)),\"\")","v":""}]
[null,{"$f":"IFERROR(IF(A74=\"\",\"\",VLOOKUP(A74,'Lista Narkotyki Surowce'!$A$2:$B$60,2,FALSE)),\"\")","v":""},{"$f":"IFERROR(IF(A74=\"\",\"\",HLOOKUP(A74,'Lista Narkotyki Surowce'!$H$1:$BN$7,2,FALSE)),\"\")","v":""}]
[null,{"$f":"IFERROR(IF(A75=\"\",\"\",VLOOKUP(A75,'Lista Narkotyki Surowce'!$A$2:$B$60,2,FALSE)),\"\")","v":""},{"$f":"IFERROR(IF(A75=\"\",\"\",HLOOKUP(A75,'Lista Narkotyki Surowce'!$H$1:$BN$7,2,FALSE)),\"\")","v":""}]
[null,{"$f":"IFERROR(IF(A76=\"\",\"\",VLOOKUP(A76,'Lista Narkotyki Surowce'!$A$2:$B$60,2,FALSE)),\"\")","v":""},{"$f":"IFERROR(IF(A76=\"\",\"\",HLOOKUP(A76,'Lista Narkotyki Surowce'!$H$1:$BN$7,2,FALSE)),\"\")","v":""}]
[null,{"$f":"IFERROR(IF(A77=\"\",\"\",VLOOKUP(A77,'Lista Narkotyki Surowce'!$A$2:$B$60,2,FALSE)),\"\")","v":""},{"$f":"IFERROR(IF(A77=\"\",\"\",HLOOKUP(A77,'Lista Narkotyki Surowce'!$H$1:$BN$7,2,FALSE)),\"\")","v":""}]
[null,{"$f":"IFERROR(IF(A78=\"\",\"\",VLOOKUP(A78,'Lista Narkotyki Surowce'!$A$2:$B$60,2,FALSE)),\"\")","v":""},{"$f":"IFERROR(IF(A78=\"\",\"\",HLOOKUP(A78,'Lista Narkotyki Surowce'!$H$1:$BN$7,2,FALSE)),\"\")","v":""}]
[null,{"$f":"IFERROR(IF(A79=\"\",\"\",VLOOKUP(A79,'Lista Narkotyki Surowce'!$A$2:$B$60,2,FALSE)),\"\")","v":""},{"$f":"IFERROR(IF(A79=\"\",\"\",HLOOKUP(A79,'Lista Narkotyki Surowce'!$H$1:$BN$7,2,FALSE)),\"\")","v":""}]
[null,{"$f":"IFERROR(IF(A80=\"\",\"\",VLOOKUP(A80,'Lista Narkotyki Surowce'!$A$2:$B$60,2,FALSE)),\"\")","v":""},{"$f":"IFERROR(IF(A80=\"\",\"\",HLOOKUP(A80,'Lista Narkotyki Surowce'!$H$1:$BN$7,2,FALSE)),\"\")","v":""}]
[null,{"$f":"IFERROR(IF(A81=\"\",\"\",VLOOKUP(A81,'Lista Narkotyki Surowce'!$A$2:$B$60,2,FALSE)),\"\")","v":""},{"$f":"IFERROR(IF(A81=\"\",\"\",HLOOKUP(A81,'Lista Narkotyki Surowce'!$H$1:$BN$7,2,FALSE)),\"\")","v":""}]
[null,{"$f":"IFERROR(IF(A82=\"\",\"\",VLOOKUP(A82,'Lista Narkotyki Surowce'!$A$2:$B$60,2,FALSE)),\"\")","v":""},{"$f":"IFERROR(IF(A82=\"\",\"\",HLOOKUP(A82,'Lista Narkotyki Surowce'!$H$1:$BN$7,2,FALSE)),\"\")","v":""}]
[null,{"$f":"IFERROR(IF(A83=\"\",\"\",VLOOKUP(A83,'Lista Narkotyki Surowce'!$A$2:$B$60,2,FALSE)),\"\")","v":""},{"$f":"IFERROR(IF(A83=\"\",\"\",HLOOKUP(A83,'Lista Narkotyki Surowce'!$H$1:$BN$7,2,FALSE)),\"\")","v":""}]
[null,{"$f":"IFERROR(IF(A84=\"\",\"\",VLOOKUP(A84,'Lista Narkotyki Surowce'!$A$2:$B$60,2,FALSE)),\"\")","v":""},{"$f":"IFERROR(IF(A84=\"\",\"\",HLOOKUP(A84,'Lista Narkotyki Surowce'!$H$1:$BN$7,2,FALSE)),\"\")","v":""}]
[null,{"$f":"IFERROR(IF(A85=\"\",\"\",VLOOKUP(A85,'Lista Narkotyki Surowce'!$A$2:$B$60,2,FALSE)),\"\")","v":""},{"$f":"IFERROR(IF(A85=\"\",\"\",HLOOKUP(A85,'Lista Narkotyki Surowce'!$H$1:$BN$7,2,FALSE)),\"\")","v":""}]
[null,{"$f":"IFERROR(IF(A86=\"\",\"\",VLOOKUP(A86,'Lista Narkotyki Surowce'!$A$2:$B$60,2,FALSE)),\"\")","v":""},{"$f":"IFERROR(IF(A86=\"\",\"\",HLOOKUP(A86,'Lista Narkotyki Surowce'!$H$1:$BN$7,2,FALSE)),\"\")","v":""}]
[null,{"$f":"IFERROR(IF(A87=\"\",\"\",VLOOKUP(A87,'Lista Narkotyki Surowce'!$A$2:$B$60,2,FALSE)),\"\")","v":""},{"$f":"IFERROR(IF(A87=\"\",\"\",HLOOKUP(A87,'Lista Narkotyki Surowce'!$H$1:$BN$7,2,FALSE)),\"\")","v":""}]
[null,{"$f":"IFERROR(IF(A88=\"\",\"\",VLOOKUP(A88,'Lista Narkotyki Surowce'!$A$2:$B$60,2,FALSE)),\"\")","v":""},{"$f":"IFERROR(IF(A88=\"\",\"\",HLOOKUP(A88,'Lista Narkotyki Surowce'!$H$1:$BN$7,2,FALSE)),\"\")","v":""}]
[null,{"$f":"IFERROR(IF(A89=\"\",\"\",VLOOKUP(A89,'Lista Narkotyki Surowce'!$A$2:$B$60,2,FALSE)),\"\")","v":""},{"$f":"IFERROR(IF(A89=\"\",\"\",HLOOKUP(A89,'Lista Narkotyki Surowce'!$H$1:$BN$7,2,FALSE)),\"\")","v":""}]
[null,{"$f":"IFERROR(IF(A90=\"\",\"\",VLOOKUP(A90,'Lista Narkotyki Surowce'!$A$2:$B$60,2,FALSE)),\"\")","v":""},{"$f":"IFERROR(IF(A90=\"\",\"\",HLOOKUP(A90,'Lista Narkotyki Surowce'!$H$1:$BN$7,2,FALSE)),\"\")","v":""}]
[null,{"$f":"IFERROR(IF(A91=\"\",\"\",VLOOKUP(A91,'Lista Narkotyki Surowce'!$A$2:$B$60,2,FALSE)),\"\")","v":""},{"$f":"IFERROR(IF(A91=\"\",\"\",HLOOKUP(A91,'Lista Narkotyki Surowce'!$H$1:$BN$7,2,FALSE)),\"\")","v":""}]
[null,{"$f":"IFERROR(IF(A92=\"\",\"\",VLOOKUP(A92,'Lista Narkotyki Surowce'!$A$2:$B$60,2,FALSE)),\"\")","v":""},{"$f":"IFERROR(IF(A92=\"\",\"\",HLOOKUP(A92,'Lista Narkotyki Surowce'!$H$1:$BN$7,2,FALSE)),\"\")","v":""}]
[null,{"$f":"IFERROR(IF(A93=\"\",\"\",VLOOKUP(A93,'Lista Narkotyki Surowce'!$A$2:$B$60,2,FALSE)),\"\")","v":""},{"$f":"IFERROR(IF(A93=\"\",\"\",HLOOKUP(A93,'Lista Narkotyki Surowce'!$H$1:$BN$7,2,FALSE)),\"\")","v":""}]
[null,{"$f":"IFERROR(IF(A94=\"\",\"\",VLOOKUP(A94,'Lista Narkotyki Surowce'!$A$2:$B$60,2,FALSE)),\"\")","v":""},{"$f":"IFERROR(IF(A94=\"\",\"\",HLOOKUP(A94,'Lista Narkotyki Surowce'!$H$1:$BN$7,2,FALSE)),\"\")","v":""}]
[null,{"$f":"IFERROR(IF(A95=\"\",\"\",VLOOKUP(A95,'Lista Narkotyki Surowce'!$A$2:$B$60,2,FALSE)),\"\")","v":""},{"$f":"IFERROR(IF(A95=\"\",\"\",HLOOKUP(A95,'Lista Narkotyki Surowce'!$H$1:$BN$7,2,FALSE)),\"\")","v":""}]
[null,{"$f":"IFERROR(IF(A96=\"\",\"\",VLOOKUP(A96,'Lista Narkotyki Surowce'!$A$2:$B$60,2,FALSE)),\"\")","v":""},{"$f":"IFERROR(IF(A96=\"\",\"\",HLOOKUP(A96,'Lista Narkotyki Surowce'!$H$1:$BN$7,2,FALSE)),\"\")","v":""}]
[null,{"$f":"IFERROR(IF(A97=\"\",\"\",VLOOKUP(A97,'Lista Narkotyki Surowce'!$A$2:$B$60,2,FALSE)),\"\")","v":""},{"$f":"IFERROR(IF(A97=\"\",\"\",HLOOKUP(A97,'Lista Narkotyki Surowce'!$H$1:$BN$7,2,FALSE)),\"\")","v":""}]
[null,{"$f":"IFERROR(IF(A98=\"\",\"\",VLOOKUP(A98,'Lista Narkotyki Surowce'!$A$2:$B$60,2,FALSE)),\"\")","v":""},{"$f":"IFERROR(IF(A98=\"\",\"\",HLOOKUP(A98,'Lista Narkotyki Surowce'!$H$1:$BN$7,2,FALSE)),\"\")","v":""}]
[null,{"$f":"IFERROR(IF(A99=\"\",\"\",VLOOKUP(A99,'Lista Narkotyki Surowce'!$A$2:$B$60,2,FALSE)),\"\")","v":""},{"$f":"IFERROR(IF(A99=\"\",\"\",HLOOKUP(A99,'Lista Narkotyki Surowce'!$H$1:$BN$7,2,FALSE)),\"\")","v":""}]
[null,{"$f":"IFERROR(IF(A100=\"\",\"\",VLOOKUP(A100,'Lista Narkotyki Surowce'!$A$2:$B$60,2,FALSE)),\"\")","v":""},{"$f":"IFERROR(IF(A100=\"\",\"\",HLOOKUP(A100,'Lista Narkotyki Surowce'!$H$1:$BN$7,2,FALSE)),\"\")","v":""}]
[null,{"$f":"IFERROR(IF(A101=\"\",\"\",VLOOKUP(A101,'Lista Narkotyki Surowce'!$A$2:$B$60,2,FALSE)),\"\")","v":""},{"$f":"IFERROR(IF(A101=\"\",\"\",HLOOKUP(A101,'Lista Narkotyki Surowce'!$H$1:$BN$7,2,FALSE)),\"\")","v":""}]
[null,{"$f":"IFERROR(IF(A102=\"\",\"\",VLOOKUP(A102,'Lista Narkotyki Surowce'!$A$2:$B$60,2,FALSE)),\"\")","v":""},{"$f":"IFERROR(IF(A102=\"\",\"\",HLOOKUP(A102,'Lista Narkotyki Surowce'!$H$1:$BN$7,2,FALSE)),\"\")","v":""}]
[null,{"$f":"IFERROR(IF(A103=\"\",\"\",VLOOKUP(A103,'Lista Narkotyki Surowce'!$A$2:$B$60,2,FALSE)),\"\")","v":""},{"$f":"IFERROR(IF(A103=\"\",\"\",HLOOKUP(A103,'Lista Narkotyki Surowce'!$H$1:$BN$7,2,FALSE)),\"\")","v":""}]
[null,{"$f":"IFERROR(IF(A104=\"\",\"\",VLOOKUP(A104,'Lista Narkotyki Surowce'!$A$2:$B$60,2,FALSE)),\"\")","v":""},{"$f":"IFERROR(IF(A104=\"\",\"\",HLOOKUP(A104,'Lista Narkotyki Surowce'!$H$1:$BN$7,2,FALSE)),\"\")","v":""}]
[null,{"$f":"IFERROR(IF(A105=\"\",\"\",VLOOKUP(A105,'Lista Narkotyki Surowce'!$A$2:$B$60,2,FALSE)),\"\")","v":""},{"$f":"IFERROR(IF(A105=\"\",\"\",HLOOKUP(A105,'Lista Narkotyki Surowce'!$H$1:$BN$7,2,FALSE)),\"\")","v":""}]
[null,{"$f":"IFERROR(IF(A106=\"\",\"\",VLOOKUP(A106,'Lista Narkotyki Surowce'!$A$2:$B$60,2,FALSE)),\"\")","v":""},{"$f":"IFERROR(IF(A106=\"\",\"\",HLOOKUP(A106,'Lista Narkotyki Surowce'!$H$1:$BN$7,2,FALSE)),\"\")","v":""}]
[null,{"$f":"IFERROR(IF(A107=\"\",\"\",VLOOKUP(A107,'Lista Narkotyki Surowce'!$A$2:$B$60,2,FALSE)),\"\")","v":""},{"$f":"IFERROR(IF(A107=\"\",\"\",HLOOKUP(A107,'Lista Narkotyki Surowce'!$H$1:$BN$7,2,FALSE)),\"\")","v":""}]
[null,{"$f":"IFERROR(IF(A108=\"\",\"\",VLOOKUP(A108,'Lista Narkotyki Surowce'!$A$2:$B$60,2,FALSE)),\"\")","v":""},{"$f":"IFERROR(IF(A108=\"\",\"\",HLOOKUP(A108,'Lista Narkotyki Surowce'!$H$1:$BN$7,2,FALSE)),\"\")","v":""}]
[null,{"$f":"IFERROR(IF(A109=\"\",\"\",VLOOKUP(A109,'Lista Narkotyki Surowce'!$A$2:$B$60,2,FALSE)),\"\")","v":""},{"$f":"IFERROR(IF(A109=\"\",\"\",HLOOKUP(A109,'Lista Narkotyki Surowce'!$H$1:$BN$7,2,FALSE)),\"\")","v":""}]
[null,{"$f":"IFERROR(IF(A110=\"\",\"\",VLOOKUP(A110,'Lista Narkotyki Surowce'!$A$2:$B$60,2,FALSE)),\"\")","v":""},{"$f":"IFERROR(IF(A110=\"\",\"\",HLOOKUP(A110,'Lista Narkotyki Surowce'!$H$1:$BN$7,2,FALSE)),\"\")","v":""}]
[null,{"$f":"IFERROR(IF(A111=\"\",\"\",VLOOKUP(A111,'Lista Narkotyki Surowce'!$A$2:$B$60,2,FALSE)),\"\")","v":""},{"$f":"IFERROR(IF(A111=\"\",\"\",HLOOKUP(A111,'Lista Narkotyki Surowce'!$H$1:$BN$7,2,FALSE)),\"\")","v":""}]
[null,{"$f":"IFERROR(IF(A112=\"\",\"\",VLOOKUP(A112,'Lista Narkotyki Surowce'!$A$2:$B$60,2,FALSE)),\"\")","v":""},{"$f":"IFERROR(IF(A112=\"\",\"\",HLOOKUP(A112,'Lista Narkotyki Surowce'!$H$1:$BN$7,2,FALSE)),\"\")","v":""}]
[null,{"$f":"IFERROR(IF(A113=\"\",\"\",VLOOKUP(A113,'Lista Narkotyki Surowce'!$A$2:$B$60,2,FALSE)),\"\")","v":""},{"$f":"IFERROR(IF(A113=\"\",\"\",HLOOKUP(A113,'Lista Narkotyki Surowce'!$H$1:$BN$7,2,FALSE)),\"\")","v":""}]
[null,{"$f":"IFERROR(IF(A114=\"\",\"\",VLOOKUP(A114,'Lista Narkotyki Surowce'!$A$2:$B$60,2,FALSE)),\"\")","v":""},{"$f":"IFERROR(IF(A114=\"\",\"\",HLOOKUP(A114,'Lista Narkotyki Surowce'!$H$1:$BN$7,2,FALSE)),\"\")","v":""}]
[null,{"$f":"IFERROR(IF(A115=\"\",\"\",VLOOKUP(A115,'Lista Narkotyki Surowce'!$A$2:$B$60,2,FALSE)),\"\")","v":""},{"$f":"IFERROR(IF(A115=\"\",\"\",HLOOKUP(A115,'Lista Narkotyki Surowce'!$H$1:$BN$7,2,FALSE)),\"\")","v":""}]
[null,{"$f":"IFERROR(IF(A116=\"\",\"\",VLOOKUP(A116,'Lista Narkotyki Surowce'!$A$2:$B$60,2,FALSE)),\"\")","v":""},{"$f":"IFERROR(IF(A116=\"\",\"\",HLOOKUP(A116,'Lista Narkotyki Surowce'!$H$1:$BN$7,2,FALSE)),\"\")","v":""}]
[null,{"$f":"IFERROR(IF(A117=\"\",\"\",VLOOKUP(A117,'Lista Narkotyki Surowce'!$A$2:$B$60,2,FALSE)),\"\")","v":""},{"$f":"IFERROR(IF(A117=\"\",\"\",HLOOKUP(A117,'Lista Narkotyki Surowce'!$H$1:$BN$7,2,FALSE)),\"\")","v":""}]
[null,{"$f":"IFERROR(IF(A118=\"\",\"\",VLOOKUP(A118,'Lista Narkotyki Surowce'!$A$2:$B$60,2,FALSE)),\"\")","v":""},{"$f":"IFERROR(IF(A118=\"\",\"\",HLOOKUP(A118,'Lista Narkotyki Surowce'!$H$1:$BN$7,2,FALSE)),\"\")","v":""}]
[null,{"$f":"IFERROR(IF(A119=\"\",\"\",VLOOKUP(A119,'Lista Narkotyki Surowce'!$A$2:$B$60,2,FALSE)),\"\")","v":""},{"$f":"IFERROR(IF(A119=\"\",\"\",HLOOKUP(A119,'Lista Narkotyki Surowce'!$H$1:$BN$7,2,FALSE)),\"\")","v":""}]
[null,{"$f":"IFERROR(IF(A120=\"\",\"\",VLOOKUP(A120,'Lista Narkotyki Surowce'!$A$2:$B$60,2,FALSE)),\"\")","v":""},{"$f":"IFERROR(IF(A120=\"\",\"\",HLOOKUP(A120,'Lista Narkotyki Surowce'!$H$1:$BN$7,2,FALSE)),\"\")","v":""}]
[null,{"$f":"IFERROR(IF(A121=\"\",\"\",VLOOKUP(A121,'Lista Narkotyki Surowce'!$A$2:$B$60,2,FALSE)),\"\")","v":""},{"$f":"IFERROR(IF(A121=\"\",\"\",HLOOKUP(A121,'Lista Narkotyki Surowce'!$H$1:$BN$7,2,FALSE)),\"\")","v":""}]
[null,{"$f":"IFERROR(IF(A122=\"\",\"\",VLOOKUP(A122,'Lista Narkotyki Surowce'!$A$2:$B$60,2,FALSE)),\"\")","v":""},{"$f":"IFERROR(IF(A122=\"\",\"\",HLOOKUP(A122,'Lista Narkotyki Surowce'!$H$1:$BN$7,2,FALSE)),\"\")","v":""}]
[null,{"$f":"IFERROR(IF(A123=\"\",\"\",VLOOKUP(A123,'Lista Narkotyki Surowce'!$A$2:$B$60,2,FALSE)),\"\")","v":""},{"$f":"IFERROR(IF(A123=\"\",\"\",HLOOKUP(A123,'Lista Narkotyki Surowce'!$H$1:$BN$7,2,FALSE)),\"\")","v":""}]
[null,{"$f":"IFERROR(IF(A124=\"\",\"\",VLOOKUP(A124,'Lista Narkotyki Surowce'!$A$2:$B$60,2,FALSE)),\"\")","v":""},{"$f":"IFERROR(IF(A124=\"\",\"\",HLOOKUP(A124,'Lista Narkotyki Surowce'!$H$1:$BN$7,2,FALSE)),\"\")","v":""}]
[null,{"$f":"IFERROR(IF(A125=\"\",\"\",VLOOKUP(A125,'Lista Narkotyki Surowce'!$A$2:$B$60,2,FALSE)),\"\")","v":""},{"$f":"IFERROR(IF(A125=\"\",\"\",HLOOKUP(A125,'Lista Narkotyki Surowce'!$H$1:$BN$7,2,FALSE)),\"\")","v":""}]
[null,{"$f":"IFERROR(IF(A126=\"\",\"\",VLOOKUP(A126,'Lista Narkotyki Surowce'!$A$2:$B$60,2,FALSE)),\"\")","v":""},{"$f":"IFERROR(IF(A126=\"\",\"\",HLOOKUP(A126,'Lista Narkotyki Surowce'!$H$1:$BN$7,2,FALSE)),\"\")","v":""}]
[null,{"$f":"IFERROR(IF(A127=\"\",\"\",VLOOKUP(A127,'Lista Narkotyki Surowce'!$A$2:$B$60,2,FALSE)),\"\")","v":""},{"$f":"IFERROR(IF(A127=\"\",\"\",HLOOKUP(A127,'Lista Narkotyki Surowce'!$H$1:$BN$7,2,FALSE)),\"\")","v":""}]
[null,{"$f":"IFERROR(IF(A128=\"\",\"\",VLOOKUP(A128,'Lista Narkotyki Surowce'!$A$2:$B$60,2,FALSE)),\"\")","v":""},{"$f":"IFERROR(IF(A128=\"\",\"\",HLOOKUP(A128,'Lista Narkotyki Surowce'!$H$1:$BN$7,2,FALSE)),\"\")","v":""}]
[null,{"$f":"IFERROR(IF(A129=\"\",\"\",VLOOKUP(A129,'Lista Narkotyki Surowce'!$A$2:$B$60,2,FALSE)),\"\")","v":""},{"$f":"IFERROR(IF(A129=\"\",\"\",HLOOKUP(A129,'Lista Narkotyki Surowce'!$H$1:$BN$7,2,FALSE)),\"\")","v":""}]
[null,{"$f":"IFERROR(IF(A130=\"\",\"\",VLOOKUP(A130,'Lista Narkotyki Surowce'!$A$2:$B$60,2,FALSE)),\"\")","v":""},{"$f":"IFERROR(IF(A130=\"\",\"\",HLOOKUP(A130,'Lista Narkotyki Surowce'!$H$1:$BN$7,2,FALSE)),\"\")","v":""}]
[null,{"$f":"IFERROR(IF(A131=\"\",\"\",VLOOKUP(A131,'Lista Narkotyki Surowce'!$A$2:$B$60,2,FALSE)),\"\")","v":""},{"$f":"IFERROR(IF(A131=\"\",\"\",HLOOKUP(A131,'Lista Narkotyki Surowce'!$H$1:$BN$7,2,FALSE)),\"\")","v":""}]
[null,{"$f":"IFERROR(IF(A132=\"\",\"\",VLOOKUP(A132,'Lista Narkotyki Surowce'!$A$2:$B$60,2,FALSE)),\"\")","v":""},{"$f":"IFERROR(IF(A132=\"\",\"\",HLOOKUP(A132,'Lista Narkotyki Surowce'!$H$1:$BN$7,2,FALSE)),\"\")","v":""}]
[null,{"$f":"IFERROR(IF(A133=\"\",\"\",VLOOKUP(A133,'Lista Narkotyki Surowce'!$A$2:$B$60,2,FALSE)),\"\")","v":""},{"$f":"IFERROR(IF(A133=\"\",\"\",HLOOKUP(A133,'Lista Narkotyki Surowce'!$H$1:$BN$7,2,FALSE)),\"\")","v":""}]
[null,{"$f":"IFERROR(IF(A134=\"\",\"\",VLOOKUP(A134,'Lista Narkotyki Surowce'!$A$2:$B$60,2,FALSE)),\"\")","v":""},{"$f":"IFERROR(IF(A134=\"\",\"\",HLOOKUP(A134,'Lista Narkotyki Surowce'!$H$1:$BN$7,2,FALSE)),\"\")","v":""}]
[null,{"$f":"IFERROR(IF(A135=\"\",\"\",VLOOKUP(A135,'Lista Narkotyki Surowce'!$A$2:$B$60,2,FALSE)),\"\")","v":""},{"$f":"IFERROR(IF(A135=\"\",\"\",HLOOKUP(A135,'Lista Narkotyki Surowce'!$H$1:$BN$7,2,FALSE)),\"\")","v":""}]
[null,{"$f":"IFERROR(IF(A136=\"\",\"\",VLOOKUP(A136,'Lista Narkotyki Surowce'!$A$2:$B$60,2,FALSE)),\"\")","v":""},{"$f":"IFERROR(IF(A136=\"\",\"\",HLOOKUP(A136,'Lista Narkotyki Surowce'!$H$1:$BN$7,2,FALSE)),\"\")","v":""}]
[null,{"$f":"IFERROR(IF(A137=\"\",\"\",VLOOKUP(A137,'Lista Narkotyki Surowce'!$A$2:$B$60,2,FALSE)),\"\")","v":""},{"$f":"IFERROR(IF(A137=\"\",\"\",HLOOKUP(A137,'Lista Narkotyki Surowce'!$H$1:$BN$7,2,FALSE)),\"\")","v":""}]
[null,{"$f":"IFERROR(IF(A138=\"\",\"\",VLOOKUP(A138,'Lista Narkotyki Surowce'!$A$2:$B$60,2,FALSE)),\"\")","v":""},{"$f":"IFERROR(IF(A138=\"\",\"\",HLOOKUP(A138,'Lista Narkotyki Surowce'!$H$1:$BN$7,2,FALSE)),\"\")","v":""}]
[null,{"$f":"IFERROR(IF(A139=\"\",\"\",VLOOKUP(A139,'Lista Narkotyki Surowce'!$A$2:$B$60,2,FALSE)),\"\")","v":""},{"$f":"IFERROR(IF(A139=\"\",\"\",HLOOKUP(A139,'Lista Narkotyki Surowce'!$H$1:$BN$7,2,FALSE)),\"\")","v":""}]
[null,{"$f":"IFERROR(IF(A140=\"\",\"\",VLOOKUP(A140,'Lista Narkotyki Surowce'!$A$2:$B$60,2,FALSE)),\"\")","v":""},{"$f":"IFERROR(IF(A140=\"\",\"\",HLOOKUP(A140,'Lista Narkotyki Surowce'!$H$1:$BN$7,2,FALSE)),\"\")","v":""}]
[null,{"$f":"IFERROR(IF(A141=\"\",\"\",VLOOKUP(A141,'Lista Narkotyki Surowce'!$A$2:$B$60,2,FALSE)),\"\")","v":""},{"$f":"IFERROR(IF(A141=\"\",\"\",HLOOKUP(A141,'Lista Narkotyki Surowce'!$H$1:$BN$7,2,FALSE)),\"\")","v":""}]
[null,{"$f":"IFERROR(IF(A142=\"\",\"\",VLOOKUP(A142,'Lista Narkotyki Surowce'!$A$2:$B$60,2,FALSE)),\"\")","v":""},{"$f":"IFERROR(IF(A142=\"\",\"\",HLOOKUP(A142,'Lista Narkotyki Surowce'!$H$1:$BN$7,2,FALSE)),\"\")","v":""}]
[null,{"$f":"IFERROR(IF(A143=\"\",\"\",VLOOKUP(A143,'Lista Narkotyki Surowce'!$A$2:$B$60,2,FALSE)),\"\")","v":""},{"$f":"IFERROR(IF(A143=\"\",\"\",HLOOKUP(A143,'Lista Narkotyki Surowce'!$H$1:$BN$7,2,FALSE)),\"\")","v":""}]
[null,{"$f":"IFERROR(IF(A144=\"\",\"\",VLOOKUP(A144,'Lista Narkotyki Surowce'!$A$2:$B$60,2,FALSE)),\"\")","v":""},{"$f":"IFERROR(IF(A144=\"\",\"\",HLOOKUP(A144,'Lista Narkotyki Surowce'!$H$1:$BN$7,2,FALSE)),\"\")","v":""}]
[null,{"$f":"IFERROR(IF(A145=\"\",\"\",VLOOKUP(A145,'Lista Narkotyki Surowce'!$A$2:$B$60,2,FALSE)),\"\")","v":""},{"$f":"IFERROR(IF(A145=\"\",\"\",HLOOKUP(A145,'Lista Narkotyki Surowce'!$H$1:$BN$7,2,FALSE)),\"\")","v":""}]
[null,{"$f":"IFERROR(IF(A146=\"\",\"\",VLOOKUP(A146,'Lista Narkotyki Surowce'!$A$2:$B$60,2,FALSE)),\"\")","v":""},{"$f":"IFERROR(IF(A146=\"\",\"\",HLOOKUP(A146,'Lista Narkotyki Surowce'!$H$1:$BN$7,2,FALSE)),\"\")","v":""}]
[null,{"$f":"IFERROR(IF(A147=\"\",\"\",VLOOKUP(A147,'Lista Narkotyki Surowce'!$A$2:$B$60,2,FALSE)),\"\")","v":""},{"$f":"IFERROR(IF(A147=\"\",\"\",HLOOKUP(A147,'Lista Narkotyki Surowce'!$H$1:$BN$7,2,FALSE)),\"\")","v":""}]
[null,{"$f":"IFERROR(IF(A148=\"\",\"\",VLOOKUP(A148,'Lista Narkotyki Surowce'!$A$2:$B$60,2,FALSE)),\"\")","v":""},{"$f":"IFERROR(IF(A148=\"\",\"\",HLOOKUP(A148,'Lista Narkotyki Surowce'!$H$1:$BN$7,2,FALSE)),\"\")","v":""}]
[null,{"$f":"IFERROR(IF(A149=\"\",\"\",VLOOKUP(A149,'Lista Narkotyki Surowce'!$A$2:$B$60,2,FALSE)),\"\")","v":""},{"$f":"IFERROR(IF(A149=\"\",\"\",HLOOKUP(A149,'Lista Narkotyki Surowce'!$H$1:$BN$7,2,FALSE)),\"\")","v":""}]
[null,{"$f":"IFERROR(IF(A150=\"\",\"\",VLOOKUP(A150,'Lista Narkotyki Surowce'!$A$2:$B$60,2,FALSE)),\"\")","v":""},{"$f":"IFERROR(IF(A150=\"\",\"\",HLOOKUP(A150,'Lista Narkotyki Surowce'!$H$1:$BN$7,2,FALSE)),\"\")","v":""}]
[null,{"$f":"IFERROR(IF(A151=\"\",\"\",VLOOKUP(A151,'Lista Narkotyki Surowce'!$A$2:$B$60,2,FALSE)),\"\")","v":""},{"$f":"IFERROR(IF(A151=\"\",\"\",HLOOKUP(A151,'Lista Narkotyki Surowce'!$H$1:$BN$7,2,FALSE)),\"\")","v":""}]
[null,{"$f":"IFERROR(IF(A152=\"\",\"\",VLOOKUP(A152,'Lista Narkotyki Surowce'!$A$2:$B$60,2,FALSE)),\"\")","v":""},{"$f":"IFERROR(IF(A152=\"\",\"\",HLOOKUP(A152,'Lista Narkotyki Surowce'!$H$1:$BN$7,2,FALSE)),\"\")","v":""}]
[null,{"$f":"IFERROR(IF(A153=\"\",\"\",VLOOKUP(A153,'Lista Narkotyki Surowce'!$A$2:$B$60,2,FALSE)),\"\")","v":""},{"$f":"IFERROR(IF(A153=\"\",\"\",HLOOKUP(A153,'Lista Narkotyki Surowce'!$H$1:$BN$7,2,FALSE)),\"\")","v":""}]
[null,{"$f":"IFERROR(IF(A154=\"\",\"\",VLOOKUP(A154,'Lista Narkotyki Surowce'!$A$2:$B$60,2,FALSE)),\"\")","v":""},{"$f":"IFERROR(IF(A154=\"\",\"\",HLOOKUP(A154,'Lista Narkotyki Surowce'!$H$1:$BN$7,2,FALSE)),\"\")","v":""}]
[null,{"$f":"IFERROR(IF(A155=\"\",\"\",VLOOKUP(A155,'Lista Narkotyki Surowce'!$A$2:$B$60,2,FALSE)),\"\")","v":""},{"$f":"IFERROR(IF(A155=\"\",\"\",HLOOKUP(A155,'Lista Narkotyki Surowce'!$H$1:$BN$7,2,FALSE)),\"\")","v":""}]
[null,{"$f":"IFERROR(IF(A156=\"\",\"\",VLOOKUP(A156,'Lista Narkotyki Surowce'!$A$2:$B$60,2,FALSE)),\"\")","v":""},{"$f":"IFERROR(IF(A156=\"\",\"\",HLOOKUP(A156,'Lista Narkotyki Surowce'!$H$1:$BN$7,2,FALSE)),\"\")","v":""}]
[null,{"$f":"IFERROR(IF(A157=\"\",\"\",VLOOKUP(A157,'Lista Narkotyki Surowce'!$A$2:$B$60,2,FALSE)),\"\")","v":""},{"$f":"IFERROR(IF(A157=\"\",\"\",HLOOKUP(A157,'Lista Narkotyki Surowce'!$H$1:$BN$7,2,FALSE)),\"\")","v":""}]
[null,{"$f":"IFERROR(IF(A158=\"\",\"\",VLOOKUP(A158,'Lista Narkotyki Surowce'!$A$2:$B$60,2,FALSE)),\"\")","v":""},{"$f":"IFERROR(IF(A158=\"\",\"\",HLOOKUP(A158,'Lista Narkotyki Surowce'!$H$1:$BN$7,2,FALSE)),\"\")","v":""}]
[null,{"$f":"IFERROR(IF(A159=\"\",\"\",VLOOKUP(A159,'Lista Narkotyki Surowce'!$A$2:$B$60,2,FALSE)),\"\")","v":""},{"$f":"IFERROR(IF(A159=\"\",\"\",HLOOKUP(A159,'Lista Narkotyki Surowce'!$H$1:$BN$7,2,FALSE)),\"\")","v":""}]
[null,{"$f":"IFERROR(IF(A160=\"\",\"\",VLOOKUP(A160,'Lista Narkotyki Surowce'!$A$2:$B$60,2,FALSE)),\"\")","v":""},{"$f":"IFERROR(IF(A160=\"\",\"\",HLOOKUP(A160,'Lista Narkotyki Surowce'!$H$1:$BN$7,2,FALSE)),\"\")","v":""}]
[null,{"$f":"IFERROR(IF(A161=\"\",\"\",VLOOKUP(A161,'Lista Narkotyki Surowce'!$A$2:$B$60,2,FALSE)),\"\")","v":""},{"$f":"IFERROR(IF(A161=\"\",\"\",HLOOKUP(A161,'Lista Narkotyki Surowce'!$H$1:$BN$7,2,FALSE)),\"\")","v":""}]
[null,{"$f":"IFERROR(IF(A162=\"\",\"\",VLOOKUP(A162,'Lista Narkotyki Surowce'!$A$2:$B$60,2,FALSE)),\"\")","v":""},{"$f":"IFERROR(IF(A162=\"\",\"\",HLOOKUP(A162,'Lista Narkotyki Surowce'!$H$1:$BN$7,2,FALSE)),\"\")","v":""}]
[null,{"$f":"IFERROR(IF(A163=\"\",\"\",VLOOKUP(A163,'Lista Narkotyki Surowce'!$A$2:$B$60,2,FALSE)),\"\")","v":""},{"$f":"IFERROR(IF(A163=\"\",\"\",HLOOKUP(A163,'Lista Narkotyki Surowce'!$H$1:$BN$7,2,FALSE)),\"\")","v":""}]
[null,{"$f":"IFERROR(IF(A164=\"\",\"\",VLOOKUP(A164,'Lista Narkotyki Surowce'!$A$2:$B$60,2,FALSE)),\"\")","v":""},{"$f":"IFERROR(IF(A164=\"\",\"\",HLOOKUP(A164,'Lista Narkotyki Surowce'!$H$1:$BN$7,2,FALSE)),\"\")","v":""}]
[null,{"$f":"IFERROR(IF(A165=\"\",\"\",VLOOKUP(A165,'Lista Narkotyki Surowce'!$A$2:$B$60,2,FALSE)),\"\")","v":""},{"$f":"IFERROR(IF(A165=\"\",\"\",HLOOKUP(A165,'Lista Narkotyki Surowce'!$H$1:$BN$7,2,FALSE)),\"\")","v":""}]
[null,{"$f":"IFERROR(IF(A166=\"\",\"\",VLOOKUP(A166,'Lista Narkotyki Surowce'!$A$2:$B$60,2,FALSE)),\"\")","v":""},{"$f":"IFERROR(IF(A166=\"\",\"\",HLOOKUP(A166,'Lista Narkotyki Surowce'!$H$1:$BN$7,2,FALSE)),\"\")","v":""}]
[null,{"$f":"IFERROR(IF(A167=\"\",\"\",VLOOKUP(A167,'Lista Narkotyki Surowce'!$A$2:$B$60,2,FALSE)),\"\")","v":""},{"$f":"IFERROR(IF(A167=\"\",\"\",HLOOKUP(A167,'Lista Narkotyki Surowce'!$H$1:$BN$7,2,FALSE)),\"\")","v":""}]
[null,{"$f":"IFERROR(IF(A168=\"\",\"\",VLOOKUP(A168,'Lista Narkotyki Surowce'!$A$2:$B$60,2,FALSE)),\"\")","v":""},{"$f":"IFERROR(IF(A168=\"\",\"\",HLOOKUP(A168,'Lista Narkotyki Surowce'!$H$1:$BN$7,2,FALSE)),\"\")","v":""}]
[null,{"$f":"IFERROR(IF(A169=\"\",\"\",VLOOKUP(A169,'Lista Narkotyki Surowce'!$A$2:$B$60,2,FALSE)),\"\")","v":""},{"$f":"IFERROR(IF(A169=\"\",\"\",HLOOKUP(A169,'Lista Narkotyki Surowce'!$H$1:$BN$7,2,FALSE)),\"\")","v":""}]
[null,{"$f":"IFERROR(IF(A170=\"\",\"\",VLOOKUP(A170,'Lista Narkotyki Surowce'!$A$2:$B$60,2,FALSE)),\"\")","v":""},{"$f":"IFERROR(IF(A170=\"\",\"\",HLOOKUP(A170,'Lista Narkotyki Surowce'!$H$1:$BN$7,2,FALSE)),\"\")","v":""}]
[null,{"$f":"IFERROR(IF(A171=\"\",\"\",VLOOKUP(A171,'Lista Narkotyki Surowce'!$A$2:$B$60,2,FALSE)),\"\")","v":""},{"$f":"IFERROR(IF(A171=\"\",\"\",HLOOKUP(A171,'Lista Narkotyki Surowce'!$H$1:$BN$7,2,FALSE)),\"\")","v":""}]
[null,{"$f":"IFERROR(IF(A172=\"\",\"\",VLOOKUP(A172,'Lista Narkotyki Surowce'!$A$2:$B$60,2,FALSE)),\"\")","v":""},{"$f":"IFERROR(IF(A172=\"\",\"\",HLOOKUP(A172,'Lista Narkotyki Surowce'!$H$1:$BN$7,2,FALSE)),\"\")","v":""}]
[null,{"$f":"IFERROR(IF(A173=\"\",\"\",VLOOKUP(A173,'Lista Narkotyki Surowce'!$A$2:$B$60,2,FALSE)),\"\")","v":""},{"$f":"IFERROR(IF(A173=\"\",\"\",HLOOKUP(A173,'Lista Narkotyki Surowce'!$H$1:$BN$7,2,FALSE)),\"\")","v":""}]
[null,{"$f":"IFERROR(IF(A174=\"\",\"\",VLOOKUP(A174,'Lista Narkotyki Surowce'!$A$2:$B$60,2,FALSE)),\"\")","v":""},{"$f":"IFERROR(IF(A174=\"\",\"\",HLOOKUP(A174,'Lista Narkotyki Surowce'!$H$1:$BN$7,2,FALSE)),\"\")","v":""}]
[null,{"$f":"IFERROR(IF(A175=\"\",\"\",VLOOKUP(A175,'Lista Narkotyki Surowce'!$A$2:$B$60,2,FALSE)),\"\")","v":""},{"$f":"IFERROR(IF(A175=\"\",\"\",HLOOKUP(A175,'Lista Narkotyki Surowce'!$H$1:$BN$7,2,FALSE)),\"\")","v":""}]
[null,{"$f":"IFERROR(IF(A176=\"\",\"\",VLOOKUP(A176,'Lista Narkotyki Surowce'!$A$2:$B$60,2,FALSE)),\"\")","v":""},{"$f":"IFERROR(IF(A176=\"\",\"\",HLOOKUP(A176,'Lista Narkotyki Surowce'!$H$1:$BN$7,2,FALSE)),\"\")","v":""}]
[null,{"$f":"IFERROR(IF(A177=\"\",\"\",VLOOKUP(A177,'Lista Narkotyki Surowce'!$A$2:$B$60,2,FALSE)),\"\")","v":""},{"$f":"IFERROR(IF(A177=\"\",\"\",HLOOKUP(A177,'Lista Narkotyki Surowce'!$H$1:$BN$7,2,FALSE)),\"\")","v":""}]
[null,{"$f":"IFERROR(IF(A178=\"\",\"\",VLOOKUP(A178,'Lista Narkotyki Surowce'!$A$2:$B$60,2,FALSE)),\"\")","v":""},{"$f":"IFERROR(IF(A178=\"\",\"\",HLOOKUP(A178,'Lista Narkotyki Surowce'!$H$1:$BN$7,2,FALSE)),\"\")","v":""}]
[null,{"$f":"IFERROR(IF(A179=\"\",\"\",VLOOKUP(A179,'Lista Narkotyki Surowce'!$A$2:$B$60,2,FALSE)),\"\")","v":""},{"$f":"IFERROR(IF(A179=\"\",\"\",HLOOKUP(A179,'Lista Narkotyki Surowce'!$H$1:$BN$7,2,FALSE)),\"\")","v":""}]
[null,{"$f":"IFERROR(IF(A180=\"\",\"\",VLOOKUP(A180,'Lista Narkotyki Surowce'!$A$2:$B$60,2,FALSE)),\"\")","v":""},{"$f":"IFERROR(IF(A180=\"\",\"\",HLOOKUP(A180,'Lista Narkotyki Surowce'!$H$1:$BN$7,2,FALSE)),\"\")","v":""}]
[null,{"$f":"IFERROR(IF(A181=\"\",\"\",VLOOKUP(A181,'Lista Narkotyki Surowce'!$A$2:$B$60,2,FALSE)),\"\")","v":""},{"$f":"IFERROR(IF(A181=\"\",\"\",HLOOKUP(A181,'Lista Narkotyki Surowce'!$H$1:$BN$7,2,FALSE)),\"\")","v":""}]
[null,{"$f":"IFERROR(IF(A182=\"\",\"\",VLOOKUP(A182,'Lista Narkotyki Surowce'!$A$2:$B$60,2,FALSE)),\"\")","v":""},{"$f":"IFERROR(IF(A182=\"\",\"\",HLOOKUP(A182,'Lista Narkotyki Surowce'!$H$1:$BN$7,2,FALSE)),\"\")","v":""}]
[null,{"$f":"IFERROR(IF(A183=\"\",\"\",VLOOKUP(A183,'Lista Narkotyki Surowce'!$A$2:$B$60,2,FALSE)),\"\")","v":""},{"$f":"IFERROR(IF(A183=\"\",\"\",HLOOKUP(A183,'Lista Narkotyki Surowce'!$H$1:$BN$7,2,FALSE)),\"\")","v":""}]
[null,{"$f":"IFERROR(IF(A184=\"\",\"\",VLOOKUP(A184,'Lista Narkotyki Surowce'!$A$2:$B$60,2,FALSE)),\"\")","v":""},{"$f":"IFERROR(IF(A184=\"\",\"\",HLOOKUP(A184,'Lista Narkotyki Surowce'!$H$1:$BN$7,2,FALSE)),\"\")","v":""}]
[null,{"$f":"IFERROR(IF(A185=\"\",\"\",VLOOKUP(A185,'Lista Narkotyki Surowce'!$A$2:$B$60,2,FALSE)),\"\")","v":""},{"$f":"IFERROR(IF(A185=\"\",\"\",HLOOKUP(A185,'Lista Narkotyki Surowce'!$H$1:$BN$7,2,FALSE)),\"\")","v":""}]
[null,{"$f":"IFERROR(IF(A186=\"\",\"\",VLOOKUP(A186,'Lista Narkotyki Surowce'!$A$2:$B$60,2,FALSE)),\"\")","v":""},{"$f":"IFERROR(IF(A186=\"\",\"\",HLOOKUP(A186,'Lista Narkotyki Surowce'!$H$1:$BN$7,2,FALSE)),\"\")","v":""}]
[null,{"$f":"IFERROR(IF(A187=\"\",\"\",VLOOKUP(A187,'Lista Narkotyki Surowce'!$A$2:$B$60,2,FALSE)),\"\")","v":""},{"$f":"IFERROR(IF(A187=\"\",\"\",HLOOKUP(A187,'Lista Narkotyki Surowce'!$H$1:$BN$7,2,FALSE)),\"\")","v":""}]
[null,{"$f":"IFERROR(IF(A188=\"\",\"\",VLOOKUP(A188,'Lista Narkotyki Surowce'!$A$2:$B$60,2,FALSE)),\"\")","v":""},{"$f":"IFERROR(IF(A188=\"\",\"\",HLOOKUP(A188,'Lista Narkotyki Surowce'!$H$1:$BN$7,2,FALSE)),\"\")","v":""}]
[null,{"$f":"IFERROR(IF(A189=\"\",\"\",VLOOKUP(A189,'Lista Narkotyki Surowce'!$A$2:$B$60,2,FALSE)),\"\")","v":""},{"$f":"IFERROR(IF(A189=\"\",\"\",HLOOKUP(A189,'Lista Narkotyki Surowce'!$H$1:$BN$7,2,FALSE)),\"\")","v":""}]
[null,{"$f":"IFERROR(IF(A190=\"\",\"\",VLOOKUP(A190,'Lista Narkotyki Surowce'!$A$2:$B$60,2,FALSE)),\"\")","v":""},{"$f":"IFERROR(IF(A190=\"\",\"\",HLOOKUP(A190,'Lista Narkotyki Surowce'!$H$1:$BN$7,2,FALSE)),\"\")","v":""}]
[null,{"$f":"IFERROR(IF(A191=\"\",\"\",VLOOKUP(A191,'Lista Narkotyki Surowce'!$A$2:$B$60,2,FALSE)),\"\")","v":""},{"$f":"IFERROR(IF(A191=\"\",\"\",HLOOKUP(A191,'Lista Narkotyki Surowce'!$H$1:$BN$7,2,FALSE)),\"\")","v":""}]
[null,{"$f":"IFERROR(IF(A192=\"\",\"\",VLOOKUP(A192,'Lista Narkotyki Surowce'!$A$2:$B$60,2,FALSE)),\"\")","v":""},{"$f":"IFERROR(IF(A192=\"\",\"\",HLOOKUP(A192,'Lista Narkotyki Surowce'!$H$1:$BN$7,2,FALSE)),\"\")","v":""}]
[null,{"$f":"IFERROR(IF(A193=\"\",\"\",VLOOKUP(A193,'Lista Narkotyki Surowce'!$A$2:$B$60,2,FALSE)),\"\")","v":""},{"$f":"IFERROR(IF(A193=\"\",\"\",HLOOKUP(A193,'Lista Narkotyki Surowce'!$H$1:$BN$7,2,FALSE)),\"\")","v":""}]
[null,{"$f":"IFERROR(IF(A194=\"\",\"\",VLOOKUP(A194,'Lista Narkotyki Surowce'!$A$2:$B$60,2,FALSE)),\"\")","v":""},{"$f":"IFERROR(IF(A194=\"\",\"\",HLOOKUP(A194,'Lista Narkotyki Surowce'!$H$1:$BN$7,2,FALSE)),\"\")","v":""}]
[null,{"$f":"IFERROR(IF(A195=\"\",\"\",VLOOKUP(A195,'Lista Narkotyki Surowce'!$A$2:$B$60,2,FALSE)),\"\")","v":""},{"$f":"IFERROR(IF(A195=\"\",\"\",HLOOKUP(A195,'Lista Narkotyki Surowce'!$H$1:$BN$7,2,FALSE)),\"\")","v":""}]
[null,{"$f":"IFERROR(IF(A196=\"\",\"\",VLOOKUP(A196,'Lista Narkotyki Surowce'!$A$2:$B$60,2,FALSE)),\"\")","v":""},{"$f":"IFERROR(IF(A196=\"\",\"\",HLOOKUP(A196,'Lista Narkotyki Surowce'!$H$1:$BN$7,2,FALSE)),\"\")","v":""}]
[null,{"$f":"IFERROR(IF(A197=\"\",\"\",VLOOKUP(A197,'Lista Narkotyki Surowce'!$A$2:$B$60,2,FALSE)),\"\")","v":""},{"$f":"IFERROR(IF(A197=\"\",\"\",HLOOKUP(A197,'Lista Narkotyki Surowce'!$H$1:$BN$7,2,FALSE)),\"\")","v":""}]
[null,{"$f":"IFERROR(IF(A198=\"\",\"\",VLOOKUP(A198,'Lista Narkotyki Surowce'!$A$2:$B$60,2,FALSE)),\"\")","v":""},{"$f":"IFERROR(IF(A198=\"\",\"\",HLOOKUP(A198,'Lista Narkotyki Surowce'!$H$1:$BN$7,2,FALSE)),\"\")","v":""}]
[null,{"$f":"IFERROR(IF(A199=\"\",\"\",VLOOKUP(A199,'Lista Narkotyki Surowce'!$A$2:$B$60,2,FALSE)),\"\")","v":""},{"$f":"IFERROR(IF(A199=\"\",\"\",HLOOKUP(A199,'Lista Narkotyki Surowce'!$H$1:$BN$7,2,FALSE)),\"\")","v":""}]
[null,{"$f":"IFERROR(IF(A200=\"\",\"\",VLOOKUP(A200,'Lista Narkotyki Surowce'!$A$2:$B$60,2,FALSE)),\"\")","v":""},{"$f":"IFERROR(IF(A200=\"\",\"\",HLOOKUP(A200,'Lista Narkotyki Surowce'!$H$1:$BN$7,2,FALSE)),\"\")","v":""}]
[null,{"$f":"IFERROR(IF(A201=\"\",\"\",VLOOKUP(A201,'Lista Narkotyki Surowce'!$A$2:$B$60,2,FALSE)),\"\")","v":""},{"$f":"IFERROR(IF(A201=\"\",\"\",HLOOKUP(A201,'Lista Narkotyki Surowce'!$H$1:$BN$7,2,FALSE)),\"\")","v":""}]
[null,{"$f":"IFERROR(IF(A202=\"\",\"\",VLOOKUP(A202,'Lista Narkotyki Surowce'!$A$2:$B$60,2,FALSE)),\"\")","v":""},{"$f":"IFERROR(IF(A202=\"\",\"\",HLOOKUP(A202,'Lista Narkotyki Surowce'!$H$1:$BN$7,2,FALSE)),\"\")","v":""}]
[null,{"$f":"IFERROR(IF(A203=\"\",\"\",VLOOKUP(A203,'Lista Narkotyki Surowce'!$A$2:$B$60,2,FALSE)),\"\")","v":""},{"$f":"IFERROR(IF(A203=\"\",\"\",HLOOKUP(A203,'Lista Narkotyki Surowce'!$H$1:$BN$7,2,FALSE)),\"\")","v":""}]
[null,{"$f":"IFERROR(IF(A204=\"\",\"\",VLOOKUP(A204,'Lista Narkotyki Surowce'!$A$2:$B$60,2,FALSE)),\"\")","v":""},{"$f":"IFERROR(IF(A204=\"\",\"\",HLOOKUP(A204,'Lista Narkotyki Surowce'!$H$1:$BN$7,2,FALSE)),\"\")","v":""}]
[null,{"$f":"IFERROR(IF(A205=\"\",\"\",VLOOKUP(A205,'Lista Narkotyki Surowce'!$A$2:$B$60,2,FALSE)),\"\")","v":""},{"$f":"IFERROR(IF(A205=\"\",\"\",HLOOKUP(A205,'Lista Narkotyki Surowce'!$H$1:$BN$7,2,FALSE)),\"\")","v":""}]
[null,{"$f":"IFERROR(IF(A206=\"\",\"\",VLOOKUP(A206,'Lista Narkotyki Surowce'!$A$2:$B$60,2,FALSE)),\"\")","v":""},{"$f":"IFERROR(IF(A206=\"\",\"\",HLOOKUP(A206,'Lista Narkotyki Surowce'!$H$1:$BN$7,2,FALSE)),\"\")","v":""}]
[null,{"$f":"IFERROR(IF(A207=\"\",\"\",VLOOKUP(A207,'Lista Narkotyki Surowce'!$A$2:$B$60,2,FALSE)),\"\")","v":""},{"$f":"IFERROR(IF(A207=\"\",\"\",HLOOKUP(A207,'Lista Narkotyki Surowce'!$H$1:$BN$7,2,FALSE)),\"\")","v":""}]
[null,{"$f":"IFERROR(IF(A208=\"\",\"\",VLOOKUP(A208,'Lista Narkotyki Surowce'!$A$2:$B$60,2,FALSE)),\"\")","v":""},{"$f":"IFERROR(IF(A208=\"\",\"\",HLOOKUP(A208,'Lista Narkotyki Surowce'!$H$1:$BN$7,2,FALSE)),\"\")","v":""}]
[null,{"$f":"IFERROR(IF(A209=\"\",\"\",VLOOKUP(A209,'Lista Narkotyki Surowce'!$A$2:$B$60,2,FALSE)),\"\")","v":""},{"$f":"IFERROR(IF(A209=\"\",\"\",HLOOKUP(A209,'Lista Narkotyki Surowce'!$H$1:$BN$7,2,FALSE)),\"\")","v":""}]
[null,{"$f":"IFERROR(IF(A210=\"\",\"\",VLOOKUP(A210,'Lista Narkotyki Surowce'!$A$2:$B$60,2,FALSE)),\"\")","v":""},{"$f":"IFERROR(IF(A210=\"\",\"\",HLOOKUP(A210,'Lista Narkotyki Surowce'!$H$1:$BN$7,2,FALSE)),\"\")","v":""}]
[null,{"$f":"IFERROR(IF(A211=\"\",\"\",VLOOKUP(A211,'Lista Narkotyki Surowce'!$A$2:$B$60,2,FALSE)),\"\")","v":""},{"$f":"IFERROR(IF(A211=\"\",\"\",HLOOKUP(A211,'Lista Narkotyki Surowce'!$H$1:$BN$7,2,FALSE)),\"\")","v":""}]
[null,{"$f":"IFERROR(IF(A212=\"\",\"\",VLOOKUP(A212,'Lista Narkotyki Surowce'!$A$2:$B$60,2,FALSE)),\"\")","v":""},{"$f":"IFERROR(IF(A212=\"\",\"\",HLOOKUP(A212,'Lista Narkotyki Surowce'!$H$1:$BN$7,2,FALSE)),\"\")","v":""}]
[null,{"$f":"IFERROR(IF(A213=\"\",\"\",VLOOKUP(A213,'Lista Narkotyki Surowce'!$A$2:$B$60,2,FALSE)),\"\")","v":""},{"$f":"IFERROR(IF(A213=\"\",\"\",HLOOKUP(A213,'Lista Narkotyki Surowce'!$H$1:$BN$7,2,FALSE)),\"\")","v":""}]
[null,{"$f":"IFERROR(IF(A214=\"\",\"\",VLOOKUP(A214,'Lista Narkotyki Surowce'!$A$2:$B$60,2,FALSE)),\"\")","v":""},{"$f":"IFERROR(IF(A214=\"\",\"\",HLOOKUP(A214,'Lista Narkotyki Surowce'!$H$1:$BN$7,2,FALSE)),\"\")","v":""}]
[null,{"$f":"IFERROR(IF(A215=\"\",\"\",VLOOKUP(A215,'Lista Narkotyki Surowce'!$A$2:$B$60,2,FALSE)),\"\")","v":""},{"$f":"IFERROR(IF(A215=\"\",\"\",HLOOKUP(A215,'Lista Narkotyki Surowce'!$H$1:$BN$7,2,FALSE)),\"\")","v":""}]
[null,{"$f":"IFERROR(IF(A216=\"\",\"\",VLOOKUP(A216,'Lista Narkotyki Surowce'!$A$2:$B$60,2,FALSE)),\"\")","v":""},{"$f":"IFERROR(IF(A216=\"\",\"\",HLOOKUP(A216,'Lista Narkotyki Surowce'!$H$1:$BN$7,2,FALSE)),\"\")","v":""}]
[null,{"$f":"IFERROR(IF(A217=\"\",\"\",VLOOKUP(A217,'Lista Narkotyki Surowce'!$A$2:$B$60,2,FALSE)),\"\")","v":""},{"$f":"IFERROR(IF(A217=\"\",\"\",HLOOKUP(A217,'Lista Narkotyki Surowce'!$H$1:$BN$7,2,FALSE)),\"\")","v":""}]
[null,{"$f":"IFERROR(IF(A218=\"\",\"\",VLOOKUP(A218,'Lista Narkotyki Surowce'!$A$2:$B$60,2,FALSE)),\"\")","v":""},{"$f":"IFERROR(IF(A218=\"\",\"\",HLOOKUP(A218,'Lista Narkotyki Surowce'!$H$1:$BN$7,2,FALSE)),\"\")","v":""}]
[null,{"$f":"IFERROR(IF(A219=\"\",\"\",VLOOKUP(A219,'Lista Narkotyki Surowce'!$A$2:$B$60,2,FALSE)),\"\")","v":""},{"$f":"IFERROR(IF(A219=\"\",\"\",HLOOKUP(A219,'Lista Narkotyki Surowce'!$H$1:$BN$7,2,FALSE)),\"\")","v":""}]
[null,{"$f":"IFERROR(IF(A220=\"\",\"\",VLOOKUP(A220,'Lista Narkotyki Surowce'!$A$2:$B$60,2,FALSE)),\"\")","v":""},{"$f":"IFERROR(IF(A220=\"\",\"\",HLOOKUP(A220,'Lista Narkotyki Surowce'!$H$1:$BN$7,2,FALSE)),\"\")","v":""}]
[null,{"$f":"IFERROR(IF(A221=\"\",\"\",VLOOKUP(A221,'Lista Narkotyki Surowce'!$A$2:$B$60,2,FALSE)),\"\")","v":""},{"$f":"IFERROR(IF(A221=\"\",\"\",HLOOKUP(A221,'Lista Narkotyki Surowce'!$H$1:$BN$7,2,FALSE)),\"\")","v":""}]
[null,{"$f":"IFERROR(IF(A222=\"\",\"\",VLOOKUP(A222,'Lista Narkotyki Surowce'!$A$2:$B$60,2,FALSE)),\"\")","v":""},{"$f":"IFERROR(IF(A222=\"\",\"\",HLOOKUP(A222,'Lista Narkotyki Surowce'!$H$1:$BN$7,2,FALSE)),\"\")","v":""}]
[null,{"$f":"IFERROR(IF(A223=\"\",\"\",VLOOKUP(A223,'Lista Narkotyki Surowce'!$A$2:$B$60,2,FALSE)),\"\")","v":""},{"$f":"IFERROR(IF(A223=\"\",\"\",HLOOKUP(A223,'Lista Narkotyki Surowce'!$H$1:$BN$7,2,FALSE)),\"\")","v":""}]
[null,{"$f":"IFERROR(IF(A224=\"\",\"\",VLOOKUP(A224,'Lista Narkotyki Surowce'!$A$2:$B$60,2,FALSE)),\"\")","v":""},{"$f":"IFERROR(IF(A224=\"\",\"\",HLOOKUP(A224,'Lista Narkotyki Surowce'!$H$1:$BN$7,2,FALSE)),\"\")","v":""}]
[null,{"$f":"IFERROR(IF(A225=\"\",\"\",VLOOKUP(A225,'Lista Narkotyki Surowce'!$A$2:$B$60,2,FALSE)),\"\")","v":""},{"$f":"IFERROR(IF(A225=\"\",\"\",HLOOKUP(A225,'Lista Narkotyki Surowce'!$H$1:$BN$7,2,FALSE)),\"\")","v":""}]
[null,{"$f":"IFERROR(IF(A226=\"\",\"\",VLOOKUP(A226,'Lista Narkotyki Surowce'!$A$2:$B$60,2,FALSE)),\"\")","v":""},{"$f":"IFERROR(IF(A226=\"\",\"\",HLOOKUP(A226,'Lista Narkotyki Surowce'!$H$1:$BN$7,2,FALSE)),\"\")","v":""}]
[null,{"$f":"IFERROR(IF(A227=\"\",\"\",VLOOKUP(A227,'Lista Narkotyki Surowce'!$A$2:$B$60,2,FALSE)),\"\")","v":""},{"$f":"IFERROR(IF(A227=\"\",\"\",HLOOKUP(A227,'Lista Narkotyki Surowce'!$H$1:$BN$7,2,FALSE)),\"\")","v":""}]
[null,{"$f":"IFERROR(IF(A228=\"\",\"\",VLOOKUP(A228,'Lista Narkotyki Surowce'!$A$2:$B$60,2,FALSE)),\"\")","v":""},{"$f":"IFERROR(IF(A228=\"\",\"\",HLOOKUP(A228,'Lista Narkotyki Surowce'!$H$1:$BN$7,2,FALSE)),\"\")","v":""}]
[null,{"$f":"IFERROR(IF(A229=\"\",\"\",VLOOKUP(A229,'Lista Narkotyki Surowce'!$A$2:$B$60,2,FALSE)),\"\")","v":""},{"$f":"IFERROR(IF(A229=\"\",\"\",HLOOKUP(A229,'Lista Narkotyki Surowce'!$H$1:$BN$7,2,FALSE)),\"\")","v":""}]
[null,{"$f":"IFERROR(IF(A230=\"\",\"\",VLOOKUP(A230,'Lista Narkotyki Surowce'!$A$2:$B$60,2,FALSE)),\"\")","v":""},{"$f":"IFERROR(IF(A230=\"\",\"\",HLOOKUP(A230,'Lista Narkotyki Surowce'!$H$1:$BN$7,2,FALSE)),\"\")","v":""}]
[null,{"$f":"IFERROR(IF(A231=\"\",\"\",VLOOKUP(A231,'Lista Narkotyki Surowce'!$A$2:$B$60,2,FALSE)),\"\")","v":""},{"$f":"IFERROR(IF(A231=\"\",\"\",HLOOKUP(A231,'Lista Narkotyki Surowce'!$H$1:$BN$7,2,FALSE)),\"\")","v":""}]
[null,{"$f":"IFERROR(IF(A232=\"\",\"\",VLOOKUP(A232,'Lista Narkotyki Surowce'!$A$2:$B$60,2,FALSE)),\"\")","v":""},{"$f":"IFERROR(IF(A232=\"\",\"\",HLOOKUP(A232,'Lista Narkotyki Surowce'!$H$1:$BN$7,2,FALSE)),\"\")","v":""}]
[null,{"$f":"IFERROR(IF(A233=\"\",\"\",VLOOKUP(A233,'Lista Narkotyki Surowce'!$A$2:$B$60,2,FALSE)),\"\")","v":""},{"$f":"IFERROR(IF(A233=\"\",\"\",HLOOKUP(A233,'Lista Narkotyki Surowce'!$H$1:$BN$7,2,FALSE)),\"\")","v":""}]
[null,{"$f":"IFERROR(IF(A234=\"\",\"\",VLOOKUP(A234,'Lista Narkotyki Surowce'!$A$2:$B$60,2,FALSE)),\"\")","v":""},{"$f":"IFERROR(IF(A234=\"\",\"\",HLOOKUP(A234,'Lista Narkotyki Surowce'!$H$1:$BN$7,2,FALSE)),\"\")","v":""}]
[null,{"$f":"IFERROR(IF(A235=\"\",\"\",VLOOKUP(A235,'Lista Narkotyki Surowce'!$A$2:$B$60,2,FALSE)),\"\")","v":""},{"$f":"IFERROR(IF(A235=\"\",\"\",HLOOKUP(A235,'Lista Narkotyki Surowce'!$H$1:$BN$7,2,FALSE)),\"\")","v":""}]
[null,{"$f":"IFERROR(IF(A236=\"\",\"\",VLOOKUP(A236,'Lista Narkotyki Surowce'!$A$2:$B$60,2,FALSE)),\"\")","v":""},{"$f":"IFERROR(IF(A236=\"\",\"\",HLOOKUP(A236,'Lista Narkotyki Surowce'!$H$1:$BN$7,2,FALSE)),\"\")","v":""}]
[null,{"$f":"IFERROR(IF(A237=\"\",\"\",VLOOKUP(A237,'Lista Narkotyki Surowce'!$A$2:$B$60,2,FALSE)),\"\")","v":""},{"$f":"IFERROR(IF(A237=\"\",\"\",HLOOKUP(A237,'Lista Narkotyki Surowce'!$H$1:$BN$7,2,FALSE)),\"\")","v":""}]
[null,{"$f":"IFERROR(IF(A238=\"\",\"\",VLOOKUP(A238,'Lista Narkotyki Surowce'!$A$2:$B$60,2,FALSE)),\"\")","v":""},{"$f":"IFERROR(IF(A238=\"\",\"\",HLOOKUP(A238,'Lista Narkotyki Surowce'!$H$1:$BN$7,2,FALSE)),\"\")","v":""}]
[null,{"$f":"IFERROR(IF(A239=\"\",\"\",VLOOKUP(A239,'Lista Narkotyki Surowce'!$A$2:$B$60,2,FALSE)),\"\")","v":""},{"$f":"IFERROR(IF(A239=\"\",\"\",HLOOKUP(A239,'Lista Narkotyki Surowce'!$H$1:$BN$7,2,FALSE)),\"\")","v":""}]
[null,{"$f":"IFERROR(IF(A240=\"\",\"\",VLOOKUP(A240,'Lista Narkotyki Surowce'!$A$2:$B$60,2,FALSE)),\"\")","v":""},{"$f":"IFERROR(IF(A240=\"\",\"\",HLOOKUP(A240,'Lista Narkotyki Surowce'!$H$1:$BN$7,2,FALSE)),\"\")","v":""}]
[null,{"$f":"IFERROR(IF(A241=\"\",\"\",VLOOKUP(A241,'Lista Narkotyki Surowce'!$A$2:$B$60,2,FALSE)),\"\")","v":""},{"$f":"IFERROR(IF(A241=\"\",\"\",HLOOKUP(A241,'Lista Narkotyki Surowce'!$H$1:$BN$7,2,FALSE)),\"\")","v":""}]
[null,{"$f":"IFERROR(IF(A242=\"\",\"\",VLOOKUP(A242,'Lista Narkotyki Surowce'!$A$2:$B$60,2,FALSE)),\"\")","v":""},{"$f":"IFERROR(IF(A242=\"\",\"\",HLOOKUP(A242,'Lista Narkotyki Surowce'!$H$1:$BN$7,2,FALSE)),\"\")","v":""}]
[null,{"$f":"IFERROR(IF(A243=\"\",\"\",VLOOKUP(A243,'Lista Narkotyki Surowce'!$A$2:$B$60,2,FALSE)),\"\")","v":""},{"$f":"IFERROR(IF(A243=\"\",\"\",HLOOKUP(A243,'Lista Narkotyki Surowce'!$H$1:$BN$7,2,FALSE)),\"\")","v":""}]
[null,{"$f":"IFERROR(IF(A244=\"\",\"\",VLOOKUP(A244,'Lista Narkotyki Surowce'!$A$2:$B$60,2,FALSE)),\"\")","v":""},{"$f":"IFERROR(IF(A244=\"\",\"\",HLOOKUP(A244,'Lista Narkotyki Surowce'!$H$1:$BN$7,2,FALSE)),\"\")","v":""}]
[null,{"$f":"IFERROR(IF(A245=\"\",\"\",VLOOKUP(A245,'Lista Narkotyki Surowce'!$A$2:$B$60,2,FALSE)),\"\")","v":""},{"$f":"IFERROR(IF(A245=\"\",\"\",HLOOKUP(A245,'Lista Narkotyki Surowce'!$H$1:$BN$7,2,FALSE)),\"\")","v":""}]
[null,{"$f":"IFERROR(IF(A246=\"\",\"\",VLOOKUP(A246,'Lista Narkotyki Surowce'!$A$2:$B$60,2,FALSE)),\"\")","v":""},{"$f":"IFERROR(IF(A246=\"\",\"\",HLOOKUP(A246,'Lista Narkotyki Surowce'!$H$1:$BN$7,2,FALSE)),\"\")","v":""}]
[null,{"$f":"IFERROR(IF(A247=\"\",\"\",VLOOKUP(A247,'Lista Narkotyki Surowce'!$A$2:$B$60,2,FALSE)),\"\")","v":""},{"$f":"IFERROR(IF(A247=\"\",\"\",HLOOKUP(A247,'Lista Narkotyki Surowce'!$H$1:$BN$7,2,FALSE)),\"\")","v":""}]
[null,{"$f":"IFERROR(IF(A248=\"\",\"\",VLOOKUP(A248,'Lista Narkotyki Surowce'!$A$2:$B$60,2,FALSE)),\"\")","v":""},{"$f":"IFERROR(IF(A248=\"\",\"\",HLOOKUP(A248,'Lista Narkotyki Surowce'!$H$1:$BN$7,2,FALSE)),\"\")","v":""}]
[null,{"$f":"IFERROR(IF(A249=\"\",\"\",VLOOKUP(A249,'Lista Narkotyki Surowce'!$A$2:$B$60,2,FALSE)),\"\")","v":""},{"$f":"IFERROR(IF(A249=\"\",\"\",HLOOKUP(A249,'Lista Narkotyki Surowce'!$H$1:$BN$7,2,FALSE)),\"\")","v":""}]
[null,{"$f":"IFERROR(IF(A250=\"\",\"\",VLOOKUP(A250,'Lista Narkotyki Surowce'!$A$2:$B$60,2,FALSE)),\"\")","v":""},{"$f":"IFERROR(IF(A250=\"\",\"\",HLOOKUP(A250,'Lista Narkotyki Surowce'!$H$1:$BN$7,2,FALSE)),\"\")","v":""}]
[null,{"$f":"IFERROR(IF(A251=\"\",\"\",VLOOKUP(A251,'Lista Narkotyki Surowce'!$A$2:$B$60,2,FALSE)),\"\")","v":""},{"$f":"IFERROR(IF(A251=\"\",\"\",HLOOKUP(A251,'Lista Narkotyki Surowce'!$H$1:$BN$7,2,FALSE)),\"\")","v":""}]
[null,{"$f":"IFERROR(IF(A252=\"\",\"\",VLOOKUP(A252,'Lista Narkotyki Surowce'!$A$2:$B$60,2,FALSE)),\"\")","v":""},{"$f":"IFERROR(IF(A252=\"\",\"\",HLOOKUP(A252,'Lista Narkotyki Surowce'!$H$1:$BN$7,2,FALSE)),\"\")","v":""}]
[null,{"$f":"IFERROR(IF(A253=\"\",\"\",VLOOKUP(A253,'Lista Narkotyki Surowce'!$A$2:$B$60,2,FALSE)),\"\")","v":""},{"$f":"IFERROR(IF(A253=\"\",\"\",HLOOKUP(A253,'Lista Narkotyki Surowce'!$H$1:$BN$7,2,FALSE)),\"\")","v":""}]
[null,{"$f":"IFERROR(IF(A254=\"\",\"\",VLOOKUP(A254,'Lista Narkotyki Surowce'!$A$2:$B$60,2,FALSE)),\"\")","v":""},{"$f":"IFERROR(IF(A254=\"\",\"\",HLOOKUP(A254,'Lista Narkotyki Surowce'!$H$1:$BN$7,2,FALSE)),\"\")","v":""}]
[null,{"$f":"IFERROR(IF(A255=\"\",\"\",VLOOKUP(A255,'Lista Narkotyki Surowce'!$A$2:$B$60,2,FALSE)),\"\")","v":""},{"$f":"IFERROR(IF(A255=\"\",\"\",HLOOKUP(A255,'Lista Narkotyki Surowce'!$H$1:$BN$7,2,FALSE)),\"\")","v":""}]
[null,{"$f":"IFERROR(IF(A256=\"\",\"\",VLOOKUP(A256,'Lista Narkotyki Surowce'!$A$2:$B$60,2,FALSE)),\"\")","v":""},{"$f":"IFERROR(IF(A256=\"\",\"\",HLOOKUP(A256,'Lista Narkotyki Surowce'!$H$1:$BN$7,2,FALSE)),\"\")","v":""}]
[null,{"$f":"IFERROR(IF(A257=\"\",\"\",VLOOKUP(A257,'Lista Narkotyki Surowce'!$A$2:$B$60,2,FALSE)),\"\")","v":""},{"$f":"IFERROR(IF(A257=\"\",\"\",HLOOKUP(A257,'Lista Narkotyki Surowce'!$H$1:$BN$7,2,FALSE)),\"\")","v":""}]
[null,{"$f":"IFERROR(IF(A258=\"\",\"\",VLOOKUP(A258,'Lista Narkotyki Surowce'!$A$2:$B$60,2,FALSE)),\"\")","v":""},{"$f":"IFERROR(IF(A258=\"\",\"\",HLOOKUP(A258,'Lista Narkotyki Surowce'!$H$1:$BN$7,2,FALSE)),\"\")","v":""}]
[null,{"$f":"IFERROR(IF(A259=\"\",\"\",VLOOKUP(A259,'Lista Narkotyki Surowce'!$A$2:$B$60,2,FALSE)),\"\")","v":""},{"$f":"IFERROR(IF(A259=\"\",\"\",HLOOKUP(A259,'Lista Narkotyki Surowce'!$H$1:$BN$7,2,FALSE)),\"\")","v":""}]
[null,{"$f":"IFERROR(IF(A260=\"\",\"\",VLOOKUP(A260,'Lista Narkotyki Surowce'!$A$2:$B$60,2,FALSE)),\"\")","v":""},{"$f":"IFERROR(IF(A260=\"\",\"\",HLOOKUP(A260,'Lista Narkotyki Surowce'!$H$1:$BN$7,2,FALSE)),\"\")","v":""}]
[null,{"$f":"IFERROR(IF(A261=\"\",\"\",VLOOKUP(A261,'Lista Narkotyki Surowce'!$A$2:$B$60,2,FALSE)),\"\")","v":""},{"$f":"IFERROR(IF(A261=\"\",\"\",HLOOKUP(A261,'Lista Narkotyki Surowce'!$H$1:$BN$7,2,FALSE)),\"\")","v":""}]
[null,{"$f":"IFERROR(IF(A262=\"\",\"\",VLOOKUP(A262,'Lista Narkotyki Surowce'!$A$2:$B$60,2,FALSE)),\"\")","v":""},{"$f":"IFERROR(IF(A262=\"\",\"\",HLOOKUP(A262,'Lista Narkotyki Surowce'!$H$1:$BN$7,2,FALSE)),\"\")","v":""}]
[null,{"$f":"IFERROR(IF(A263=\"\",\"\",VLOOKUP(A263,'Lista Narkotyki Surowce'!$A$2:$B$60,2,FALSE)),\"\")","v":""},{"$f":"IFERROR(IF(A263=\"\",\"\",HLOOKUP(A263,'Lista Narkotyki Surowce'!$H$1:$BN$7,2,FALSE)),\"\")","v":""}]
[null,{"$f":"IFERROR(IF(A264=\"\",\"\",VLOOKUP(A264,'Lista Narkotyki Surowce'!$A$2:$B$60,2,FALSE)),\"\")","v":""},{"$f":"IFERROR(IF(A264=\"\",\"\",HLOOKUP(A264,'Lista Narkotyki Surowce'!$H$1:$BN$7,2,FALSE)),\"\")","v":""}]
[null,{"$f":"IFERROR(IF(A265=\"\",\"\",VLOOKUP(A265,'Lista Narkotyki Surowce'!$A$2:$B$60,2,FALSE)),\"\")","v":""},{"$f":"IFERROR(IF(A265=\"\",\"\",HLOOKUP(A265,'Lista Narkotyki Surowce'!$H$1:$BN$7,2,FALSE)),\"\")","v":""}]
[null,{"$f":"IFERROR(IF(A266=\"\",\"\",VLOOKUP(A266,'Lista Narkotyki Surowce'!$A$2:$B$60,2,FALSE)),\"\")","v":""},{"$f":"IFERROR(IF(A266=\"\",\"\",HLOOKUP(A266,'Lista Narkotyki Surowce'!$H$1:$BN$7,2,FALSE)),\"\")","v":""}]
[null,{"$f":"IFERROR(IF(A267=\"\",\"\",VLOOKUP(A267,'Lista Narkotyki Surowce'!$A$2:$B$60,2,FALSE)),\"\")","v":""},{"$f":"IFERROR(IF(A267=\"\",\"\",HLOOKUP(A267,'Lista Narkotyki Surowce'!$H$1:$BN$7,2,FALSE)),\"\")","v":""}]
[null,{"$f":"IFERROR(IF(A268=\"\",\"\",VLOOKUP(A268,'Lista Narkotyki Surowce'!$A$2:$B$60,2,FALSE)),\"\")","v":""},{"$f":"IFERROR(IF(A268=\"\",\"\",HLOOKUP(A268,'Lista Narkotyki Surowce'!$H$1:$BN$7,2,FALSE)),\"\")","v":""}]
[null,{"$f":"IFERROR(IF(A269=\"\",\"\",VLOOKUP(A269,'Lista Narkotyki Surowce'!$A$2:$B$60,2,FALSE)),\"\")","v":""},{"$f":"IFERROR(IF(A269=\"\",\"\",HLOOKUP(A269,'Lista Narkotyki Surowce'!$H$1:$BN$7,2,FALSE)),\"\")","v":""}]
[null,{"$f":"IFERROR(IF(A270=\"\",\"\",VLOOKUP(A270,'Lista Narkotyki Surowce'!$A$2:$B$60,2,FALSE)),\"\")","v":""},{"$f":"IFERROR(IF(A270=\"\",\"\",HLOOKUP(A270,'Lista Narkotyki Surowce'!$H$1:$BN$7,2,FALSE)),\"\")","v":""}]
[null,{"$f":"IFERROR(IF(A271=\"\",\"\",VLOOKUP(A271,'Lista Narkotyki Surowce'!$A$2:$B$60,2,FALSE)),\"\")","v":""},{"$f":"IFERROR(IF(A271=\"\",\"\",HLOOKUP(A271,'Lista Narkotyki Surowce'!$H$1:$BN$7,2,FALSE)),\"\")","v":""}]
[null,{"$f":"IFERROR(IF(A272=\"\",\"\",VLOOKUP(A272,'Lista Narkotyki Surowce'!$A$2:$B$60,2,FALSE)),\"\")","v":""},{"$f":"IFERROR(IF(A272=\"\",\"\",HLOOKUP(A272,'Lista Narkotyki Surowce'!$H$1:$BN$7,2,FALSE)),\"\")","v":""}]
[null,{"$f":"IFERROR(IF(A273=\"\",\"\",VLOOKUP(A273,'Lista Narkotyki Surowce'!$A$2:$B$60,2,FALSE)),\"\")","v":""},{"$f":"IFERROR(IF(A273=\"\",\"\",HLOOKUP(A273,'Lista Narkotyki Surowce'!$H$1:$BN$7,2,FALSE)),\"\")","v":""}]
[null,{"$f":"IFERROR(IF(A274=\"\",\"\",VLOOKUP(A274,'Lista Narkotyki Surowce'!$A$2:$B$60,2,FALSE)),\"\")","v":""},{"$f":"IFERROR(IF(A274=\"\",\"\",HLOOKUP(A274,'Lista Narkotyki Surowce'!$H$1:$BN$7,2,FALSE)),\"\")","v":""}]
[null,{"$f":"IFERROR(IF(A275=\"\",\"\",VLOOKUP(A275,'Lista Narkotyki Surowce'!$A$2:$B$60,2,FALSE)),\"\")","v":""},{"$f":"IFERROR(IF(A275=\"\",\"\",HLOOKUP(A275,'Lista Narkotyki Surowce'!$H$1:$BN$7,2,FALSE)),\"\")","v":""}]
[null,{"$f":"IFERROR(IF(A276=\"\",\"\",VLOOKUP(A276,'Lista Narkotyki Surowce'!$A$2:$B$60,2,FALSE)),\"\")","v":""},{"$f":"IFERROR(IF(A276=\"\",\"\",HLOOKUP(A276,'Lista Narkotyki Surowce'!$H$1:$BN$7,2,FALSE)),\"\")","v":""}]
[null,{"$f":"IFERROR(IF(A277=\"\",\"\",VLOOKUP(A277,'Lista Narkotyki Surowce'!$A$2:$B$60,2,FALSE)),\"\")","v":""},{"$f":"IFERROR(IF(A277=\"\",\"\",HLOOKUP(A277,'Lista Narkotyki Surowce'!$H$1:$BN$7,2,FALSE)),\"\")","v":""}]
[null,{"$f":"IFERROR(IF(A278=\"\",\"\",VLOOKUP(A278,'Lista Narkotyki Surowce'!$A$2:$B$60,2,FALSE)),\"\")","v":""},{"$f":"IFERROR(IF(A278=\"\",\"\",HLOOKUP(A278,'Lista Narkotyki Surowce'!$H$1:$BN$7,2,FALSE)),\"\")","v":""}]
[null,{"$f":"IFERROR(IF(A279=\"\",\"\",VLOOKUP(A279,'Lista Narkotyki Surowce'!$A$2:$B$60,2,FALSE)),\"\")","v":""},{"$f":"IFERROR(IF(A279=\"\",\"\",HLOOKUP(A279,'Lista Narkotyki Surowce'!$H$1:$BN$7,2,FALSE)),\"\")","v":""}]
[null,{"$f":"IFERROR(IF(A280=\"\",\"\",VLOOKUP(A280,'Lista Narkotyki Surowce'!$A$2:$B$60,2,FALSE)),\"\")","v":""},{"$f":"IFERROR(IF(A280=\"\",\"\",HLOOKUP(A280,'Lista Narkotyki Surowce'!$H$1:$BN$7,2,FALSE)),\"\")","v":""}]
[null,{"$f":"IFERROR(IF(A281=\"\",\"\",VLOOKUP(A281,'Lista Narkotyki Surowce'!$A$2:$B$60,2,FALSE)),\"\")","v":""},{"$f":"IFERROR(IF(A281=\"\",\"\",HLOOKUP(A281,'Lista Narkotyki Surowce'!$H$1:$BN$7,2,FALSE)),\"\")","v":""}]
[null,{"$f":"IFERROR(IF(A282=\"\",\"\",VLOOKUP(A282,'Lista Narkotyki Surowce'!$A$2:$B$60,2,FALSE)),\"\")","v":""},{"$f":"IFERROR(IF(A282=\"\",\"\",HLOOKUP(A282,'Lista Narkotyki Surowce'!$H$1:$BN$7,2,FALSE)),\"\")","v":""}]
[null,{"$f":"IFERROR(IF(A283=\"\",\"\",VLOOKUP(A283,'Lista Narkotyki Surowce'!$A$2:$B$60,2,FALSE)),\"\")","v":""},{"$f":"IFERROR(IF(A283=\"\",\"\",HLOOKUP(A283,'Lista Narkotyki Surowce'!$H$1:$BN$7,2,FALSE)),\"\")","v":""}]
[null,{"$f":"IFERROR(IF(A284=\"\",\"\",VLOOKUP(A284,'Lista Narkotyki Surowce'!$A$2:$B$60,2,FALSE)),\"\")","v":""},{"$f":"IFERROR(IF(A284=\"\",\"\",HLOOKUP(A284,'Lista Narkotyki Surowce'!$H$1:$BN$7,2,FALSE)),\"\")","v":""}]
[null,{"$f":"IFERROR(IF(A285=\"\",\"\",VLOOKUP(A285,'Lista Narkotyki Surowce'!$A$2:$B$60,2,FALSE)),\"\")","v":""},{"$f":"IFERROR(IF(A285=\"\",\"\",HLOOKUP(A285,'Lista Narkotyki Surowce'!$H$1:$BN$7,2,FALSE)),\"\")","v":""}]
[null,{"$f":"IFERROR(IF(A286=\"\",\"\",VLOOKUP(A286,'Lista Narkotyki Surowce'!$A$2:$B$60,2,FALSE)),\"\")","v":""},{"$f":"IFERROR(IF(A286=\"\",\"\",HLOOKUP(A286,'Lista Narkotyki Surowce'!$H$1:$BN$7,2,FALSE)),\"\")","v":""}]
[null,{"$f":"IFERROR(IF(A287=\"\",\"\",VLOOKUP(A287,'Lista Narkotyki Surowce'!$A$2:$B$60,2,FALSE)),\"\")","v":""},{"$f":"IFERROR(IF(A287=\"\",\"\",HLOOKUP(A287,'Lista Narkotyki Surowce'!$H$1:$BN$7,2,FALSE)),\"\")","v":""}]
[null,{"$f":"IFERROR(IF(A288=\"\",\"\",VLOOKUP(A288,'Lista Narkotyki Surowce'!$A$2:$B$60,2,FALSE)),\"\")","v":""},{"$f":"IFERROR(IF(A288=\"\",\"\",HLOOKUP(A288,'Lista Narkotyki Surowce'!$H$1:$BN$7,2,FALSE)),\"\")","v":""}]
[null,{"$f":"IFERROR(IF(A289=\"\",\"\",VLOOKUP(A289,'Lista Narkotyki Surowce'!$A$2:$B$60,2,FALSE)),\"\")","v":""},{"$f":"IFERROR(IF(A289=\"\",\"\",HLOOKUP(A289,'Lista Narkotyki Surowce'!$H$1:$BN$7,2,FALSE)),\"\")","v":""}]
[null,{"$f":"IFERROR(IF(A290=\"\",\"\",VLOOKUP(A290,'Lista Narkotyki Surowce'!$A$2:$B$60,2,FALSE)),\"\")","v":""},{"$f":"IFERROR(IF(A290=\"\",\"\",HLOOKUP(A290,'Lista Narkotyki Surowce'!$H$1:$BN$7,2,FALSE)),\"\")","v":""}]
[null,{"$f":"IFERROR(IF(A291=\"\",\"\",VLOOKUP(A291,'Lista Narkotyki Surowce'!$A$2:$B$60,2,FALSE)),\"\")","v":""},{"$f":"IFERROR(IF(A291=\"\",\"\",HLOOKUP(A291,'Lista Narkotyki Surowce'!$H$1:$BN$7,2,FALSE)),\"\")","v":""}]
[null,{"$f":"IFERROR(IF(A292=\"\",\"\",VLOOKUP(A292,'Lista Narkotyki Surowce'!$A$2:$B$60,2,FALSE)),\"\")","v":""},{"$f":"IFERROR(IF(A292=\"\",\"\",HLOOKUP(A292,'Lista Narkotyki Surowce'!$H$1:$BN$7,2,FALSE)),\"\")","v":""}]
[null,{"$f":"IFERROR(IF(A293=\"\",\"\",VLOOKUP(A293,'Lista Narkotyki Surowce'!$A$2:$B$60,2,FALSE)),\"\")","v":""},{"$f":"IFERROR(IF(A293=\"\",\"\",HLOOKUP(A293,'Lista Narkotyki Surowce'!$H$1:$BN$7,2,FALSE)),\"\")","v":""}]
[null,{"$f":"IFERROR(IF(A294=\"\",\"\",VLOOKUP(A294,'Lista Narkotyki Surowce'!$A$2:$B$60,2,FALSE)),\"\")","v":""},{"$f":"IFERROR(IF(A294=\"\",\"\",HLOOKUP(A294,'Lista Narkotyki Surowce'!$H$1:$BN$7,2,FALSE)),\"\")","v":""}]
[null,{"$f":"IFERROR(IF(A295=\"\",\"\",VLOOKUP(A295,'Lista Narkotyki Surowce'!$A$2:$B$60,2,FALSE)),\"\")","v":""},{"$f":"IFERROR(IF(A295=\"\",\"\",HLOOKUP(A295,'Lista Narkotyki Surowce'!$H$1:$BN$7,2,FALSE)),\"\")","v":""}]
[null,{"$f":"IFERROR(IF(A296=\"\",\"\",VLOOKUP(A296,'Lista Narkotyki Surowce'!$A$2:$B$60,2,FALSE)),\"\")","v":""},{"$f":"IFERROR(IF(A296=\"\",\"\",HLOOKUP(A296,'Lista Narkotyki Surowce'!$H$1:$BN$7,2,FALSE)),\"\")","v":""}]
[null,{"$f":"IFERROR(IF(A297=\"\",\"\",VLOOKUP(A297,'Lista Narkotyki Surowce'!$A$2:$B$60,2,FALSE)),\"\")","v":""},{"$f":"IFERROR(IF(A297=\"\",\"\",HLOOKUP(A297,'Lista Narkotyki Surowce'!$H$1:$BN$7,2,FALSE)),\"\")","v":""}]
[null,{"$f":"IFERROR(IF(A298=\"\",\"\",VLOOKUP(A298,'Lista Narkotyki Surowce'!$A$2:$B$60,2,FALSE)),\"\")","v":""},{"$f":"IFERROR(IF(A298=\"\",\"\",HLOOKUP(A298,'Lista Narkotyki Surowce'!$H$1:$BN$7,2,FALSE)),\"\")","v":""}]
[null,{"$f":"IFERROR(IF(A299=\"\",\"\",VLOOKUP(A299,'Lista Narkotyki Surowce'!$A$2:$B$60,2,FALSE)),\"\")","v":""},{"$f":"IFERROR(IF(A299=\"\",\"\",HLOOKUP(A299,'Lista Narkotyki Surowce'!$H$1:$BN$7,2,FALSE)),\"\")","v":""}]
[null,{"$f":"IFERROR(IF(A300=\"\",\"\",VLOOKUP(A300,'Lista Narkotyki Surowce'!$A$2:$B$60,2,FALSE)),\"\")","v":""},{"$f":"IFERROR(IF(A300=\"\",\"\",HLOOKUP(A300,'Lista Narkotyki Surowce'!$H$1:$BN$7,2,FALSE)),\"\")","v":""}]

{"sheet":"Psychotropy Wzorce","index":16,"n_rows":9,"n_cols":13,"rows_kept":9,"cut":false,"hidden":true,"merged":[[5,0,5,12],[6,0,6,1],[6,2,8,2],[6,3,6,5],[6,6,6,10],[6,11,8,11],[6,12,8,12],[7,0,8,0],[7,1,8,1],[7,3,7,4],[7,5,8,5],[7,6,7,9],[7,10,8,10]]}
[]
[]
[]
[]
[]
["Roczne sprawozdanie z obrotu substancjami psychotropowymi"]
["Informacje o wzorcu",null,"Stan na dzień 01.01 okresu sprawozdawczego","Przychód",null,null,"Rozchód",null,null,null,null,"Utylizacja","Stan na dzień 31.12 okresu sprawozdawczego"]
["Międzynarodowa/Handlowa nazwa substancji psychotropowej","Nazwa czystej postaci substancji psychotropowej",null,"Ilość wzorca/substancji nabyta w kraju",null,"Wewnątrzwspólnotowe nabycie/przywóz","Ilość wzorca/substancji sprzedana w kraju",null,null,null,"Wewnątrzwspólnotowa dostawa/wywóz"]
[null,null,null,"Ilość wzorca/substancji nabyta od wytwórcy","Ilość wzorca/substancji nabyta od hurtowni farmaceutycznych",null,"Sprzedaż do obrotu detalicznego","Sprzedaż do hurtowni farmaceutycznych","Sprzedaż do działalności medycznej","Inna sprzedaż"]

{"sheet":"Psychotropy Hurt sur","index":17,"n_rows":300,"n_cols":14,"rows_kept":300,"cut":false,"hidden":true,"merged":[[7,6,8,6],[7,7,7,10],[7,11,8,11],[5,0,5,13],[6,3,8,3],[6,4,6,6],[6,7,6,11],[6,12,8,12],[6,13,8,13],[7,4,7,5],[6,0,6,2],[7,0,8,0],[7,1,8,1],[7,2,8,2]]}
[]
[]
[]
[]
[]
["Roczne sprawozdanie z obrotu substancjami psychotropowymi"]
["Informacje o substancji psychotropowej",null,null,"Stan na dzień 01.01 okresu sprawozdawczego","Przychód",null,null,"Rozchód",null,null,null,null,"Utylizacja","Stan na dzień 31.12 okresu sprawozdawczego"]
["Międzynarodowa/Handlowa nazwa substancji psychotropowej","Nazwa czystej postaci substancji psychotropowej","Ilość surowca w jednostkowym opakowaniu w gramach",null,"Ilość surowca nabyta w kraju",null,"Wewnątrzwspólnotowe nabycie/przywóz","Ilość surowcaj sprzedana w kraju",null,null,null,"Wewnątrzwspólnotowa dostawa/wywóz"]
[null,null,null,null,"Ilość surowca nabyta od wytwórcy","Ilość surowca nabyta od hurtowni farmaceutycznych",null,"Sprzedaż do obrotu detalicznego","Sprzedaż do hurtowni farmaceutycznych","Sprzedaż do działalności medycznej","Inna sprzedaż"]
[null,{"$f":"IFERROR(IF(A10=\"\",\"\",VLOOKUP(A10,'Lista Psychotropy Substancje'!$A$2:$B$60,2,FALSE)),\"\")","v":""},{"$f":"IFERROR(IF(A10=\"\",\"\",HLOOKUP(A10,'Lista Psychotropy Substancje'!$H$1:$BN$7,2,FALSE)),\"\")","v":""}]
[null,{"$f":"IFERROR(IF(A11=\"\",\"\",VLOOKUP(A11,'Lista Psychotropy Substancje'!$A$2:$B$60,2,FALSE)),\"\")","v":""},{"$f":"IFERROR(IF(A11=\"\",\"\",HLOOKUP(A11,'Lista Psychotropy Substancje'!$H$1:$BN$7,2,FALSE)),\"\")","v":""}]
[null,{"$f":"IFERROR(IF(A12=\"\",\"\",VLOOKUP(A12,'Lista Psychotropy Substancje'!$A$2:$B$60,2,FALSE)),\"\")","v":""},{"$f":"IFERROR(IF(A12=\"\",\"\",HLOOKUP(A12,'Lista Psychotropy Substancje'!$H$1:$BN$7,2,FALSE)),\"\")","v":""}]
[null,{"$f":"IFERROR(IF(A13=\"\",\"\",VLOOKUP(A13,'Lista Psychotropy Substancje'!$A$2:$B$60,2,FALSE)),\"\")","v":""},{"$f":"IFERROR(IF(A13=\"\",\"\",HLOOKUP(A13,'Lista Psychotropy Substancje'!$H$1:$BN$7,2,FALSE)),\"\")","v":""}]
[null,{"$f":"IFERROR(IF(A14=\"\",\"\",VLOOKUP(A14,'Lista Psychotropy Substancje'!$A$2:$B$60,2,FALSE)),\"\")","v":""},{"$f":"IFERROR(IF(A14=\"\",\"\",HLOOKUP(A14,'Lista Psychotropy Substancje'!$H$1:$BN$7,2,FALSE)),\"\")","v":""}]
[null,{"$f":"IFERROR(IF(A15=\"\",\"\",VLOOKUP(A15,'Lista Psychotropy Substancje'!$A$2:$B$60,2,FALSE)),\"\")","v":""},{"$f":"IFERROR(IF(A15=\"\",\"\",HLOOKUP(A15,'Lista Psychotropy Substancje'!$H$1:$BN$7,2,FALSE)),\"\")","v":""}]
[null,{"$f":"IFERROR(IF(A16=\"\",\"\",VLOOKUP(A16,'Lista Psychotropy Substancje'!$A$2:$B$60,2,FALSE)),\"\")","v":""},{"$f":"IFERROR(IF(A16=\"\",\"\",HLOOKUP(A16,'Lista Psychotropy Substancje'!$H$1:$BN$7,2,FALSE)),\"\")","v":""}]
[null,{"$f":"IFERROR(IF(A17=\"\",\"\",VLOOKUP(A17,'Lista Psychotropy Substancje'!$A$2:$B$60,2,FALSE)),\"\")","v":""},{"$f":"IFERROR(IF(A17=\"\",\"\",HLOOKUP(A17,'Lista Psychotropy Substancje'!$H$1:$BN$7,2,FALSE)),\"\")","v":""}]
[null,{"$f":"IFERROR(IF(A18=\"\",\"\",VLOOKUP(A18,'Lista Psychotropy Substancje'!$A$2:$B$60,2,FALSE)),\"\")","v":""},{"$f":"IFERROR(IF(A18=\"\",\"\",HLOOKUP(A18,'Lista Psychotropy Substancje'!$H$1:$BN$7,2,FALSE)),\"\")","v":""}]
[null,{"$f":"IFERROR(IF(A19=\"\",\"\",VLOOKUP(A19,'Lista Psychotropy Substancje'!$A$2:$B$60,2,FALSE)),\"\")","v":""},{"$f":"IFERROR(IF(A19=\"\",\"\",HLOOKUP(A19,'Lista Psychotropy Substancje'!$H$1:$BN$7,2,FALSE)),\"\")","v":""}]
[null,{"$f":"IFERROR(IF(A20=\"\",\"\",VLOOKUP(A20,'Lista Psychotropy Substancje'!$A$2:$B$60,2,FALSE)),\"\")","v":""},{"$f":"IFERROR(IF(A20=\"\",\"\",HLOOKUP(A20,'Lista Psychotropy Substancje'!$H$1:$BN$7,2,FALSE)),\"\")","v":""}]
[null,{"$f":"IFERROR(IF(A21=\"\",\"\",VLOOKUP(A21,'Lista Psychotropy Substancje'!$A$2:$B$60,2,FALSE)),\"\")","v":""},{"$f":"IFERROR(IF(A21=\"\",\"\",HLOOKUP(A21,'Lista Psychotropy Substancje'!$H$1:$BN$7,2,FALSE)),\"\")","v":""}]
[null,{"$f":"IFERROR(IF(A22=\"\",\"\",VLOOKUP(A22,'Lista Psychotropy Substancje'!$A$2:$B$60,2,FALSE)),\"\")","v":""},{"$f":"IFERROR(IF(A22=\"\",\"\",HLOOKUP(A22,'Lista Psychotropy Substancje'!$H$1:$BN$7,2,FALSE)),\"\")","v":""}]
[null,{"$f":"IFERROR(IF(A23=\"\",\"\",VLOOKUP(A23,'Lista Psychotropy Substancje'!$A$2:$B$60,2,FALSE)),\"\")","v":""},{"$f":"IFERROR(IF(A23=\"\",\"\",HLOOKUP(A23,'Lista Psychotropy Substancje'!$H$1:$BN$7,2,FALSE)),\"\")","v":""}]
[null,{"$f":"IFERROR(IF(A24=\"\",\"\",VLOOKUP(A24,'Lista Psychotropy Substancje'!$A$2:$B$60,2,FALSE)),\"\")","v":""},{"$f":"IFERROR(IF(A24=\"\",\"\",HLOOKUP(A24,'Lista Psychotropy Substancje'!$H$1:$BN$7,2,FALSE)),\"\")","v":""}]
[null,{"$f":"IFERROR(IF(A25=\"\",\"\",VLOOKUP(A25,'Lista Psychotropy Substancje'!$A$2:$B$60,2,FALSE)),\"\")","v":""},{"$f":"IFERROR(IF(A25=\"\",\"\",HLOOKUP(A25,'Lista Psychotropy Substancje'!$H$1:$BN$7,2,FALSE)),\"\")","v":""}]
[null,{"$f":"IFERROR(IF(A26=\"\",\"\",VLOOKUP(A26,'Lista Psychotropy Substancje'!$A$2:$B$60,2,FALSE)),\"\")","v":""},{"$f":"IFERROR(IF(A26=\"\",\"\",HLOOKUP(A26,'Lista Psychotropy Substancje'!$H$1:$BN$7,2,FALSE)),\"\")","v":""}]
[null,{"$f":"IFERROR(IF(A27=\"\",\"\",VLOOKUP(A27,'Lista Psychotropy Substancje'!$A$2:$B$60,2,FALSE)),\"\")","v":""},{"$f":"IFERROR(IF(A27=\"\",\"\",HLOOKUP(A27,'Lista Psychotropy Substancje'!$H$1:$BN$7,2,FALSE)),\"\")","v":""}]
[null,{"$f":"IFERROR(IF(A28=\"\",\"\",VLOOKUP(A28,'Lista Psychotropy Substancje'!$A$2:$B$60,2,FALSE)),\"\")","v":""},{"$f":"IFERROR(IF(A28=\"\",\"\",HLOOKUP(A28,'Lista Psychotropy Substancje'!$H$1:$BN$7,2,FALSE)),\"\")","v":""}]
[null,{"$f":"IFERROR(IF(A29=\"\",\"\",VLOOKUP(A29,'Lista Psychotropy Substancje'!$A$2:$B$60,2,FALSE)),\"\")","v":""},{"$f":"IFERROR(IF(A29=\"\",\"\",HLOOKUP(A29,'Lista Psychotropy Substancje'!$H$1:$BN$7,2,FALSE)),\"\")","v":""}]
[null,{"$f":"IFERROR(IF(A30=\"\",\"\",VLOOKUP(A30,'Lista Psychotropy Substancje'!$A$2:$B$60,2,FALSE)),\"\")","v":""},{"$f":"IFERROR(IF(A30=\"\",\"\",HLOOKUP(A30,'Lista Psychotropy Substancje'!$H$1:$BN$7,2,FALSE)),\"\")","v":""}]
[null,{"$f":"IFERROR(IF(A31=\"\",\"\",VLOOKUP(A31,'Lista Psychotropy Substancje'!$A$2:$B$60,2,FALSE)),\"\")","v":""},{"$f":"IFERROR(IF(A31=\"\",\"\",HLOOKUP(A31,'Lista Psychotropy Substancje'!$H$1:$BN$7,2,FALSE)),\"\")","v":""}]
[null,{"$f":"IFERROR(IF(A32=\"\",\"\",VLOOKUP(A32,'Lista Psychotropy Substancje'!$A$2:$B$60,2,FALSE)),\"\")","v":""},{"$f":"IFERROR(IF(A32=\"\",\"\",HLOOKUP(A32,'Lista Psychotropy Substancje'!$H$1:$BN$7,2,FALSE)),\"\")","v":""}]
[null,{"$f":"IFERROR(IF(A33=\"\",\"\",VLOOKUP(A33,'Lista Psychotropy Substancje'!$A$2:$B$60,2,FALSE)),\"\")","v":""},{"$f":"IFERROR(IF(A33=\"\",\"\",HLOOKUP(A33,'Lista Psychotropy Substancje'!$H$1:$BN$7,2,FALSE)),\"\")","v":""}]
[null,{"$f":"IFERROR(IF(A34=\"\",\"\",VLOOKUP(A34,'Lista Psychotropy Substancje'!$A$2:$B$60,2,FALSE)),\"\")","v":""},{"$f":"IFERROR(IF(A34=\"\",\"\",HLOOKUP(A34,'Lista Psychotropy Substancje'!$H$1:$BN$7,2,FALSE)),\"\")","v":""}]
[null,{"$f":"IFERROR(IF(A35=\"\",\"\",VLOOKUP(A35,'Lista Psychotropy Substancje'!$A$2:$B$60,2,FALSE)),\"\")","v":""},{"$f":"IFERROR(IF(A35=\"\",\"\",HLOOKUP(A35,'Lista Psychotropy Substancje'!$H$1:$BN$7,2,FALSE)),\"\")","v":""}]
[null,{"$f":"IFERROR(IF(A36=\"\",\"\",VLOOKUP(A36,'Lista Psychotropy Substancje'!$A$2:$B$60,2,FALSE)),\"\")","v":""},{"$f":"IFERROR(IF(A36=\"\",\"\",HLOOKUP(A36,'Lista Psychotropy Substancje'!$H$1:$BN$7,2,FALSE)),\"\")","v":""}]
[null,{"$f":"IFERROR(IF(A37=\"\",\"\",VLOOKUP(A37,'Lista Psychotropy Substancje'!$A$2:$B$60,2,FALSE)),\"\")","v":""},{"$f":"IFERROR(IF(A37=\"\",\"\",HLOOKUP(A37,'Lista Psychotropy Substancje'!$H$1:$BN$7,2,FALSE)),\"\")","v":""}]
[null,{"$f":"IFERROR(IF(A38=\"\",\"\",VLOOKUP(A38,'Lista Psychotropy Substancje'!$A$2:$B$60,2,FALSE)),\"\")","v":""},{"$f":"IFERROR(IF(A38=\"\",\"\",HLOOKUP(A38,'Lista Psychotropy Substancje'!$H$1:$BN$7,2,FALSE)),\"\")","v":""}]
[null,{"$f":"IFERROR(IF(A39=\"\",\"\",VLOOKUP(A39,'Lista Psychotropy Substancje'!$A$2:$B$60,2,FALSE)),\"\")","v":""},{"$f":"IFERROR(IF(A39=\"\",\"\",HLOOKUP(A39,'Lista Psychotropy Substancje'!$H$1:$BN$7,2,FALSE)),\"\")","v":""}]
[null,{"$f":"IFERROR(IF(A40=\"\",\"\",VLOOKUP(A40,'Lista Psychotropy Substancje'!$A$2:$B$60,2,FALSE)),\"\")","v":""},{"$f":"IFERROR(IF(A40=\"\",\"\",HLOOKUP(A40,'Lista Psychotropy Substancje'!$H$1:$BN$7,2,FALSE)),\"\")","v":""}]
[null,{"$f":"IFERROR(IF(A41=\"\",\"\",VLOOKUP(A41,'Lista Psychotropy Substancje'!$A$2:$B$60,2,FALSE)),\"\")","v":""},{"$f":"IFERROR(IF(A41=\"\",\"\",HLOOKUP(A41,'Lista Psychotropy Substancje'!$H$1:$BN$7,2,FALSE)),\"\")","v":""}]
[null,{"$f":"IFERROR(IF(A42=\"\",\"\",VLOOKUP(A42,'Lista Psychotropy Substancje'!$A$2:$B$60,2,FALSE)),\"\")","v":""},{"$f":"IFERROR(IF(A42=\"\",\"\",HLOOKUP(A42,'Lista Psychotropy Substancje'!$H$1:$BN$7,2,FALSE)),\"\")","v":""}]
[null,{"$f":"IFERROR(IF(A43=\"\",\"\",VLOOKUP(A43,'Lista Psychotropy Substancje'!$A$2:$B$60,2,FALSE)),\"\")","v":""},{"$f":"IFERROR(IF(A43=\"\",\"\",HLOOKUP(A43,'Lista Psychotropy Substancje'!$H$1:$BN$7,2,FALSE)),\"\")","v":""}]
[null,{"$f":"IFERROR(IF(A44=\"\",\"\",VLOOKUP(A44,'Lista Psychotropy Substancje'!$A$2:$B$60,2,FALSE)),\"\")","v":""},{"$f":"IFERROR(IF(A44=\"\",\"\",HLOOKUP(A44,'Lista Psychotropy Substancje'!$H$1:$BN$7,2,FALSE)),\"\")","v":""}]
[null,{"$f":"IFERROR(IF(A45=\"\",\"\",VLOOKUP(A45,'Lista Psychotropy Substancje'!$A$2:$B$60,2,FALSE)),\"\")","v":""},{"$f":"IFERROR(IF(A45=\"\",\"\",HLOOKUP(A45,'Lista Psychotropy Substancje'!$H$1:$BN$7,2,FALSE)),\"\")","v":""}]
[null,{"$f":"IFERROR(IF(A46=\"\",\"\",VLOOKUP(A46,'Lista Psychotropy Substancje'!$A$2:$B$60,2,FALSE)),\"\")","v":""},{"$f":"IFERROR(IF(A46=\"\",\"\",HLOOKUP(A46,'Lista Psychotropy Substancje'!$H$1:$BN$7,2,FALSE)),\"\")","v":""}]
[null,{"$f":"IFERROR(IF(A47=\"\",\"\",VLOOKUP(A47,'Lista Psychotropy Substancje'!$A$2:$B$60,2,FALSE)),\"\")","v":""},{"$f":"IFERROR(IF(A47=\"\",\"\",HLOOKUP(A47,'Lista Psychotropy Substancje'!$H$1:$BN$7,2,FALSE)),\"\")","v":""}]
[null,{"$f":"IFERROR(IF(A48=\"\",\"\",VLOOKUP(A48,'Lista Psychotropy Substancje'!$A$2:$B$60,2,FALSE)),\"\")","v":""},{"$f":"IFERROR(IF(A48=\"\",\"\",HLOOKUP(A48,'Lista Psychotropy Substancje'!$H$1:$BN$7,2,FALSE)),\"\")","v":""}]
[null,{"$f":"IFERROR(IF(A49=\"\",\"\",VLOOKUP(A49,'Lista Psychotropy Substancje'!$A$2:$B$60,2,FALSE)),\"\")","v":""},{"$f":"IFERROR(IF(A49=\"\",\"\",HLOOKUP(A49,'Lista Psychotropy Substancje'!$H$1:$BN$7,2,FALSE)),\"\")","v":""}]
[null,{"$f":"IFERROR(IF(A50=\"\",\"\",VLOOKUP(A50,'Lista Psychotropy Substancje'!$A$2:$B$60,2,FALSE)),\"\")","v":""},{"$f":"IFERROR(IF(A50=\"\",\"\",HLOOKUP(A50,'Lista Psychotropy Substancje'!$H$1:$BN$7,2,FALSE)),\"\")","v":""}]
[null,{"$f":"IFERROR(IF(A51=\"\",\"\",VLOOKUP(A51,'Lista Psychotropy Substancje'!$A$2:$B$60,2,FALSE)),\"\")","v":""},{"$f":"IFERROR(IF(A51=\"\",\"\",HLOOKUP(A51,'Lista Psychotropy Substancje'!$H$1:$BN$7,2,FALSE)),\"\")","v":""}]
[null,{"$f":"IFERROR(IF(A52=\"\",\"\",VLOOKUP(A52,'Lista Psychotropy Substancje'!$A$2:$B$60,2,FALSE)),\"\")","v":""},{"$f":"IFERROR(IF(A52=\"\",\"\",HLOOKUP(A52,'Lista Psychotropy Substancje'!$H$1:$BN$7,2,FALSE)),\"\")","v":""}]
[null,{"$f":"IFERROR(IF(A53=\"\",\"\",VLOOKUP(A53,'Lista Psychotropy Substancje'!$A$2:$B$60,2,FALSE)),\"\")","v":""},{"$f":"IFERROR(IF(A53=\"\",\"\",HLOOKUP(A53,'Lista Psychotropy Substancje'!$H$1:$BN$7,2,FALSE)),\"\")","v":""}]
[null,{"$f":"IFERROR(IF(A54=\"\",\"\",VLOOKUP(A54,'Lista Psychotropy Substancje'!$A$2:$B$60,2,FALSE)),\"\")","v":""},{"$f":"IFERROR(IF(A54=\"\",\"\",HLOOKUP(A54,'Lista Psychotropy Substancje'!$H$1:$BN$7,2,FALSE)),\"\")","v":""}]
[null,{"$f":"IFERROR(IF(A55=\"\",\"\",VLOOKUP(A55,'Lista Psychotropy Substancje'!$A$2:$B$60,2,FALSE)),\"\")","v":""},{"$f":"IFERROR(IF(A55=\"\",\"\",HLOOKUP(A55,'Lista Psychotropy Substancje'!$H$1:$BN$7,2,FALSE)),\"\")","v":""}]
[null,{"$f":"IFERROR(IF(A56=\"\",\"\",VLOOKUP(A56,'Lista Psychotropy Substancje'!$A$2:$B$60,2,FALSE)),\"\")","v":""},{"$f":"IFERROR(IF(A56=\"\",\"\",HLOOKUP(A56,'Lista Psychotropy Substancje'!$H$1:$BN$7,2,FALSE)),\"\")","v":""}]
[null,{"$f":"IFERROR(IF(A57=\"\",\"\",VLOOKUP(A57,'Lista Psychotropy Substancje'!$A$2:$B$60,2,FALSE)),\"\")","v":""},{"$f":"IFERROR(IF(A57=\"\",\"\",HLOOKUP(A57,'Lista Psychotropy Substancje'!$H$1:$BN$7,2,FALSE)),\"\")","v":""}]
[null,{"$f":"IFERROR(IF(A58=\"\",\"\",VLOOKUP(A58,'Lista Psychotropy Substancje'!$A$2:$B$60,2,FALSE)),\"\")","v":""},{"$f":"IFERROR(IF(A58=\"\",\"\",HLOOKUP(A58,'Lista Psychotropy Substancje'!$H$1:$BN$7,2,FALSE)),\"\")","v":""}]
[null,{"$f":"IFERROR(IF(A59=\"\",\"\",VLOOKUP(A59,'Lista Psychotropy Substancje'!$A$2:$B$60,2,FALSE)),\"\")","v":""},{"$f":"IFERROR(IF(A59=\"\",\"\",HLOOKUP(A59,'Lista Psychotropy Substancje'!$H$1:$BN$7,2,FALSE)),\"\")","v":""}]
[null,{"$f":"IFERROR(IF(A60=\"\",\"\",VLOOKUP(A60,'Lista Psychotropy Substancje'!$A$2:$B$60,2,FALSE)),\"\")","v":""},{"$f":"IFERROR(IF(A60=\"\",\"\",HLOOKUP(A60,'Lista Psychotropy Substancje'!$H$1:$BN$7,2,FALSE)),\"\")","v":""}]
[null,{"$f":"IFERROR(IF(A61=\"\",\"\",VLOOKUP(A61,'Lista Psychotropy Substancje'!$A$2:$B$60,2,FALSE)),\"\")","v":""},{"$f":"IFERROR(IF(A61=\"\",\"\",HLOOKUP(A61,'Lista Psychotropy Substancje'!$H$1:$BN$7,2,FALSE)),\"\")","v":""}]
[null,{"$f":"IFERROR(IF(A62=\"\",\"\",VLOOKUP(A62,'Lista Psychotropy Substancje'!$A$2:$B$60,2,FALSE)),\"\")","v":""},{"$f":"IFERROR(IF(A62=\"\",\"\",HLOOKUP(A62,'Lista Psychotropy Substancje'!$H$1:$BN$7,2,FALSE)),\"\")","v":""}]
[null,{"$f":"IFERROR(IF(A63=\"\",\"\",VLOOKUP(A63,'Lista Psychotropy Substancje'!$A$2:$B$60,2,FALSE)),\"\")","v":""},{"$f":"IFERROR(IF(A63=\"\",\"\",HLOOKUP(A63,'Lista Psychotropy Substancje'!$H$1:$BN$7,2,FALSE)),\"\")","v":""}]
[null,{"$f":"IFERROR(IF(A64=\"\",\"\",VLOOKUP(A64,'Lista Psychotropy Substancje'!$A$2:$B$60,2,FALSE)),\"\")","v":""},{"$f":"IFERROR(IF(A64=\"\",\"\",HLOOKUP(A64,'Lista Psychotropy Substancje'!$H$1:$BN$7,2,FALSE)),\"\")","v":""}]
[null,{"$f":"IFERROR(IF(A65=\"\",\"\",VLOOKUP(A65,'Lista Psychotropy Substancje'!$A$2:$B$60,2,FALSE)),\"\")","v":""},{"$f":"IFERROR(IF(A65=\"\",\"\",HLOOKUP(A65,'Lista Psychotropy Substancje'!$H$1:$BN$7,2,FALSE)),\"\")","v":""}]
[null,{"$f":"IFERROR(IF(A66=\"\",\"\",VLOOKUP(A66,'Lista Psychotropy Substancje'!$A$2:$B$60,2,FALSE)),\"\")","v":""},{"$f":"IFERROR(IF(A66=\"\",\"\",HLOOKUP(A66,'Lista Psychotropy Substancje'!$H$1:$BN$7,2,FALSE)),\"\")","v":""}]
[null,{"$f":"IFERROR(IF(A67=\"\",\"\",VLOOKUP(A67,'Lista Psychotropy Substancje'!$A$2:$B$60,2,FALSE)),\"\")","v":""},{"$f":"IFERROR(IF(A67=\"\",\"\",HLOOKUP(A67,'Lista Psychotropy Substancje'!$H$1:$BN$7,2,FALSE)),\"\")","v":""}]
[null,{"$f":"IFERROR(IF(A68=\"\",\"\",VLOOKUP(A68,'Lista Psychotropy Substancje'!$A$2:$B$60,2,FALSE)),\"\")","v":""},{"$f":"IFERROR(IF(A68=\"\",\"\",HLOOKUP(A68,'Lista Psychotropy Substancje'!$H$1:$BN$7,2,FALSE)),\"\")","v":""}]
[null,{"$f":"IFERROR(IF(A69=\"\",\"\",VLOOKUP(A69,'Lista Psychotropy Substancje'!$A$2:$B$60,2,FALSE)),\"\")","v":""},{"$f":"IFERROR(IF(A69=\"\",\"\",HLOOKUP(A69,'Lista Psychotropy Substancje'!$H$1:$BN$7,2,FALSE)),\"\")","v":""}]
[null,{"$f":"IFERROR(IF(A70=\"\",\"\",VLOOKUP(A70,'Lista Psychotropy Substancje'!$A$2:$B$60,2,FALSE)),\"\")","v":""},{"$f":"IFERROR(IF(A70=\"\",\"\",HLOOKUP(A70,'Lista Psychotropy Substancje'!$H$1:$BN$7,2,FALSE)),\"\")","v":""}]
[null,{"$f":"IFERROR(IF(A71=\"\",\"\",VLOOKUP(A71,'Lista Psychotropy Substancje'!$A$2:$B$60,2,FALSE)),\"\")","v":""},{"$f":"IFERROR(IF(A71=\"\",\"\",HLOOKUP(A71,'Lista Psychotropy Substancje'!$H$1:$BN$7,2,FALSE)),\"\")","v":""}]
[null,{"$f":"IFERROR(IF(A72=\"\",\"\",VLOOKUP(A72,'Lista Psychotropy Substancje'!$A$2:$B$60,2,FALSE)),\"\")","v":""},{"$f":"IFERROR(IF(A72=\"\",\"\",HLOOKUP(A72,'Lista Psychotropy Substancje'!$H$1:$BN$7,2,FALSE)),\"\")","v":""}]
[null,{"$f":"IFERROR(IF(A73=\"\",\"\",VLOOKUP(A73,'Lista Psychotropy Substancje'!$A$2:$B$60,2,FALSE)),\"\")","v":""},{"$f":"IFERROR(IF(A73=\"\",\"\",HLOOKUP(A73,'Lista Psychotropy Substancje'!$H$1:$BN$7,2,FALSE)),\"\")","v":""}]
[null,{"$f":"IFERROR(IF(A74=\"\",\"\",VLOOKUP(A74,'Lista Psychotropy Substancje'!$A$2:$B$60,2,FALSE)),\"\")","v":""},{"$f":"IFERROR(IF(A74=\"\",\"\",HLOOKUP(A74,'Lista Psychotropy Substancje'!$H$1:$BN$7,2,FALSE)),\"\")","v":""}]
[null,{"$f":"IFERROR(IF(A75=\"\",\"\",VLOOKUP(A75,'Lista Psychotropy Substancje'!$A$2:$B$60,2,FALSE)),\"\")","v":""},{"$f":"IFERROR(IF(A75=\"\",\"\",HLOOKUP(A75,'Lista Psychotropy Substancje'!$H$1:$BN$7,2,FALSE)),\"\")","v":""}]
[null,{"$f":"IFERROR(IF(A76=\"\",\"\",VLOOKUP(A76,'Lista Psychotropy Substancje'!$A$2:$B$60,2,FALSE)),\"\")","v":""},{"$f":"IFERROR(IF(A76=\"\",\"\",HLOOKUP(A76,'Lista Psychotropy Substancje'!$H$1:$BN$7,2,FALSE)),\"\")","v":""}]
[null,{"$f":"IFERROR(IF(A77=\"\",\"\",VLOOKUP(A77,'Lista Psychotropy Substancje'!$A$2:$B$60,2,FALSE)),\"\")","v":""},{"$f":"IFERROR(IF(A77=\"\",\"\",HLOOKUP(A77,'Lista Psychotropy Substancje'!$H$1:$BN$7,2,FALSE)),\"\")","v":""}]
[null,{"$f":"IFERROR(IF(A78=\"\",\"\",VLOOKUP(A78,'Lista Psychotropy Substancje'!$A$2:$B$60,2,FALSE)),\"\")","v":""},{"$f":"IFERROR(IF(A78=\"\",\"\",HLOOKUP(A78,'Lista Psychotropy Substancje'!$H$1:$BN$7,2,FALSE)),\"\")","v":""}]
[null,{"$f":"IFERROR(IF(A79=\"\",\"\",VLOOKUP(A79,'Lista Psychotropy Substancje'!$A$2:$B$60,2,FALSE)),\"\")","v":""},{"$f":"IFERROR(IF(A79=\"\",\"\",HLOOKUP(A79,'Lista Psychotropy Substancje'!$H$1:$BN$7,2,FALSE)),\"\")","v":""}]
[null,{"$f":"IFERROR(IF(A80=\"\",\"\",VLOOKUP(A80,'Lista Psychotropy Substancje'!$A$2:$B$60,2,FALSE)),\"\")","v":""},{"$f":"IFERROR(IF(A80=\"\",\"\",HLOOKUP(A80,'Lista Psychotropy Substancje'!$H$1:$BN$7,2,FALSE)),\"\")","v":""}]
[null,{"$f":"IFERROR(IF(A81=\"\",\"\",VLOOKUP(A81,'Lista Psychotropy Substancje'!$A$2:$B$60,2,FALSE)),\"\")","v":""},{"$f":"IFERROR(IF(A81=\"\",\"\",HLOOKUP(A81,'Lista Psychotropy Substancje'!$H$1:$BN$7,2,FALSE)),\"\")","v":""}]
[null,{"$f":"IFERROR(IF(A82=\"\",\"\",VLOOKUP(A82,'Lista Psychotropy Substancje'!$A$2:$B$60,2,FALSE)),\"\")","v":""},{"$f":"IFERROR(IF(A82=\"\",\"\",HLOOKUP(A82,'Lista Psychotropy Substancje'!$H$1:$BN$7,2,FALSE)),\"\")","v":""}]
[null,{"$f":"IFERROR(IF(A83=\"\",\"\",VLOOKUP(A83,'Lista Psychotropy Substancje'!$A$2:$B$60,2,FALSE)),\"\")","v":""},{"$f":"IFERROR(IF(A83=\"\",\"\",HLOOKUP(A83,'Lista Psychotropy Substancje'!$H$1:$BN$7,2,FALSE)),\"\")","v":""}]
[null,{"$f":"IFERROR(IF(A84=\"\",\"\",VLOOKUP(A84,'Lista Psychotropy Substancje'!$A$2:$B$60,2,FALSE)),\"\")","v":""},{"$f":"IFERROR(IF(A84=\"\",\"\",HLOOKUP(A84,'Lista Psychotropy Substancje'!$H$1:$BN$7,2,FALSE)),\"\")","v":""}]
[null,{"$f":"IFERROR(IF(A85=\"\",\"\",VLOOKUP(A85,'Lista Psychotropy Substancje'!$A$2:$B$60,2,FALSE)),\"\")","v":""},{"$f":"IFERROR(IF(A85=\"\",\"\",HLOOKUP(A85,'Lista Psychotropy Substancje'!$H$1:$BN$7,2,FALSE)),\"\")","v":""}]
[null,{"$f":"IFERROR(IF(A86=\"\",\"\",VLOOKUP(A86,'Lista Psychotropy Substancje'!$A$2:$B$60,2,FALSE)),\"\")","v":""},{"$f":"IFERROR(IF(A86=\"\",\"\",HLOOKUP(A86,'Lista Psychotropy Substancje'!$H$1:$BN$7,2,FALSE)),\"\")","v":""}]
[null,{"$f":"IFERROR(IF(A87=\"\",\"\",VLOOKUP(A87,'Lista Psychotropy Substancje'!$A$2:$B$60,2,FALSE)),\"\")","v":""},{"$f":"IFERROR(IF(A87=\"\",\"\",HLOOKUP(A87,'Lista Psychotropy Substancje'!$H$1:$BN$7,2,FALSE)),\"\")","v":""}]
[null,{"$f":"IFERROR(IF(A88=\"\",\"\",VLOOKUP(A88,'Lista Psychotropy Substancje'!$A$2:$B$60,2,FALSE)),\"\")","v":""},{"$f":"IFERROR(IF(A88=\"\",\"\",HLOOKUP(A88,'Lista Psychotropy Substancje'!$H$1:$BN$7,2,FALSE)),\"\")","v":""}]
[null,{"$f":"IFERROR(IF(A89=\"\",\"\",VLOOKUP(A89,'Lista Psychotropy Substancje'!$A$2:$B$60,2,FALSE)),\"\")","v":""},{"$f":"IFERROR(IF(A89=\"\",\"\",HLOOKUP(A89,'Lista Psychotropy Substancje'!$H$1:$BN$7,2,FALSE)),\"\")","v":""}]
[null,{"$f":"IFERROR(IF(A90=\"\",\"\",VLOOKUP(A90,'Lista Psychotropy Substancje'!$A$2:$B$60,2,FALSE)),\"\")","v":""},{"$f":"IFERROR(IF(A90=\"\",\"\",HLOOKUP(A90,'Lista Psychotropy Substancje'!$H$1:$BN$7,2,FALSE)),\"\")","v":""}]
[null,{"$f":"IFERROR(IF(A91=\"\",\"\",VLOOKUP(A91,'Lista Psychotropy Substancje'!$A$2:$B$60,2,FALSE)),\"\")","v":""},{"$f":"IFERROR(IF(A91=\"\",\"\",HLOOKUP(A91,'Lista Psychotropy Substancje'!$H$1:$BN$7,2,FALSE)),\"\")","v":""}]
[null,{"$f":"IFERROR(IF(A92=\"\",\"\",VLOOKUP(A92,'Lista Psychotropy Substancje'!$A$2:$B$60,2,FALSE)),\"\")","v":""},{"$f":"IFERROR(IF(A92=\"\",\"\",HLOOKUP(A92,'Lista Psychotropy Substancje'!$H$1:$BN$7,2,FALSE)),\"\")","v":""}]
[null,{"$f":"IFERROR(IF(A93=\"\",\"\",VLOOKUP(A93,'Lista Psychotropy Substancje'!$A$2:$B$60,2,FALSE)),\"\")","v":""},{"$f":"IFERROR(IF(A93=\"\",\"\",HLOOKUP(A93,'Lista Psychotropy Substancje'!$H$1:$BN$7,2,FALSE)),\"\")","v":""}]
[null,{"$f":"IFERROR(IF(A94=\"\",\"\",VLOOKUP(A94,'Lista Psychotropy Substancje'!$A$2:$B$60,2,FALSE)),\"\")","v":""},{"$f":"IFERROR(IF(A94=\"\",\"\",HLOOKUP(A94,'Lista Psychotropy Substancje'!$H$1:$BN$7,2,FALSE)),\"\")","v":""}]
[null,{"$f":"IFERROR(IF(A95=\"\",\"\",VLOOKUP(A95,'Lista Psychotropy Substancje'!$A$2:$B$60,2,FALSE)),\"\")","v":""},{"$f":"IFERROR(IF(A95=\"\",\"\",HLOOKUP(A95,'Lista Psychotropy Substancje'!$H$1:$BN$7,2,FALSE)),\"\")","v":""}]
[null,{"$f":"IFERROR(IF(A96=\"\",\"\",VLOOKUP(A96,'Lista Psychotropy Substancje'!$A$2:$B$60,2,FALSE)),\"\")","v":""},{"$f":"IFERROR(IF(A96=\"\",\"\",HLOOKUP(A96,'Lista Psychotropy Substancje'!$H$1:$BN$7,2,FALSE)),\"\")","v":""}]
[null,{"$f":"IFERROR(IF(A97=\"\",\"\",VLOOKUP(A97,'Lista Psychotropy Substancje'!$A$2:$B$60,2,FALSE)),\"\")","v":""},{"$f":"IFERROR(IF(A97=\"\",\"\",HLOOKUP(A97,'Lista Psychotropy Substancje'!$H$1:$BN$7,2,FALSE)),\"\")","v":""}]
[null,{"$f":"IFERROR(IF(A98=\"\",\"\",VLOOKUP(A98,'Lista Psychotropy Substancje'!$A$2:$B$60,2,FALSE)),\"\")","v":""},{"$f":"IFERROR(IF(A98=\"\",\"\",HLOOKUP(A98,'Lista Psychotropy Substancje'!$H$1:$BN$7,2,FALSE)),\"\")","v":""}]
[null,{"$f":"IFERROR(IF(A99=\"\",\"\",VLOOKUP(A99,'Lista Psychotropy Substancje'!$A$2:$B$60,2,FALSE)),\"\")","v":""},{"$f":"IFERROR(IF(A99=\"\",\"\",HLOOKUP(A99,'Lista Psychotropy Substancje'!$H$1:$BN$7,2,FALSE)),\"\")","v":""}]
[null,{"$f":"IFERROR(IF(A100=\"\",\"\",VLOOKUP(A100,'Lista Psychotropy Substancje'!$A$2:$B$60,2,FALSE)),\"\")","v":""},{"$f":"IFERROR(IF(A100=\"\",\"\",HLOOKUP(A100,'Lista Psychotropy Substancje'!$H$1:$BN$7,2,FALSE)),\"\")","v":""}]
[null,{"$f":"IFERROR(IF(A101=\"\",\"\",VLOOKUP(A101,'Lista Psychotropy Substancje'!$A$2:$B$60,2,FALSE)),\"\")","v":""},{"$f":"IFERROR(IF(A101=\"\",\"\",HLOOKUP(A101,'Lista Psychotropy Substancje'!$H$1:$BN$7,2,FALSE)),\"\")","v":""}]
[null,{"$f":"IFERROR(IF(A102=\"\",\"\",VLOOKUP(A102,'Lista Psychotropy Substancje'!$A$2:$B$60,2,FALSE)),\"\")","v":""},{"$f":"IFERROR(IF(A102=\"\",\"\",HLOOKUP(A102,'Lista Psychotropy Substancje'!$H$1:$BN$7,2,FALSE)),\"\")","v":""}]
[null,{"$f":"IFERROR(IF(A103=\"\",\"\",VLOOKUP(A103,'Lista Psychotropy Substancje'!$A$2:$B$60,2,FALSE)),\"\")","v":""},{"$f":"IFERROR(IF(A103=\"\",\"\",HLOOKUP(A103,'Lista Psychotropy Substancje'!$H$1:$BN$7,2,FALSE)),\"\")","v":""}]
[null,{"$f":"IFERROR(IF(A104=\"\",\"\",VLOOKUP(A104,'Lista Psychotropy Substancje'!$A$2:$B$60,2,FALSE)),\"\")","v":""},{"$f":"IFERROR(IF(A104=\"\",\"\",HLOOKUP(A104,'Lista Psychotropy Substancje'!$H$1:$BN$7,2,FALSE)),\"\")","v":""}]
[null,{"$f":"IFERROR(IF(A105=\"\",\"\",VLOOKUP(A105,'Lista Psychotropy Substancje'!$A$2:$B$60,2,FALSE)),\"\")","v":""},{"$f":"IFERROR(IF(A105=\"\",\"\",HLOOKUP(A105,'Lista Psychotropy Substancje'!$H$1:$BN$7,2,FALSE)),\"\")","v":""}]
[null,{"$f":"IFERROR(IF(A106=\"\",\"\",VLOOKUP(A106,'Lista Psychotropy Substancje'!$A$2:$B$60,2,FALSE)),\"\")","v":""},{"$f":"IFERROR(IF(A106=\"\",\"\",HLOOKUP(A106,'Lista Psychotropy Substancje'!$H$1:$BN$7,2,FALSE)),\"\")","v":""}]
[null,{"$f":"IFERROR(IF(A107=\"\",\"\",VLOOKUP(A107,'Lista Psychotropy Substancje'!$A$2:$B$60,2,FALSE)),\"\")","v":""},{"$f":"IFERROR(IF(A107=\"\",\"\",HLOOKUP(A107,'Lista Psychotropy Substancje'!$H$1:$BN$7,2,FALSE)),\"\")","v":""}]
[null,{"$f":"IFERROR(IF(A108=\"\",\"\",VLOOKUP(A108,'Lista Psychotropy Substancje'!$A$2:$B$60,2,FALSE)),\"\")","v":""},{"$f":"IFERROR(IF(A108=\"\",\"\",HLOOKUP(A108,'Lista Psychotropy Substancje'!$H$1:$BN$7,2,FALSE)),\"\")","v":""}]
[null,{"$f":"IFERROR(IF(A109=\"\",\"\",VLOOKUP(A109,'Lista Psychotropy Substancje'!$A$2:$B$60,2,FALSE)),\"\")","v":""},{"$f":"IFERROR(IF(A109=\"\",\"\",HLOOKUP(A109,'Lista Psychotropy Substancje'!$H$1:$BN$7,2,FALSE)),\"\")","v":""}]
[null,{"$f":"IFERROR(IF(A110=\"\",\"\",VLOOKUP(A110,'Lista Psychotropy Substancje'!$A$2:$B$60,2,FALSE)),\"\")","v":""},{"$f":"IFERROR(IF(A110=\"\",\"\",HLOOKUP(A110,'Lista Psychotropy Substancje'!$H$1:$BN$7,2,FALSE)),\"\")","v":""}]
[null,{"$f":"IFERROR(IF(A111=\"\",\"\",VLOOKUP(A111,'Lista Psychotropy Substancje'!$A$2:$B$60,2,FALSE)),\"\")","v":""},{"$f":"IFERROR(IF(A111=\"\",\"\",HLOOKUP(A111,'Lista Psychotropy Substancje'!$H$1:$BN$7,2,FALSE)),\"\")","v":""}]
[null,{"$f":"IFERROR(IF(A112=\"\",\"\",VLOOKUP(A112,'Lista Psychotropy Substancje'!$A$2:$B$60,2,FALSE)),\"\")","v":""},{"$f":"IFERROR(IF(A112=\"\",\"\",HLOOKUP(A112,'Lista Psychotropy Substancje'!$H$1:$BN$7,2,FALSE)),\"\")","v":""}]
[null,{"$f":"IFERROR(IF(A113=\"\",\"\",VLOOKUP(A113,'Lista Psychotropy Substancje'!$A$2:$B$60,2,FALSE)),\"\")","v":""},{"$f":"IFERROR(IF(A113=\"\",\"\",HLOOKUP(A113,'Lista Psychotropy Substancje'!$H$1:$BN$7,2,FALSE)),\"\")","v":""}]
[null,{"$f":"IFERROR(IF(A114=\"\",\"\",VLOOKUP(A114,'Lista Psychotropy Substancje'!$A$2:$B$60,2,FALSE)),\"\")","v":""},{"$f":"IFERROR(IF(A114=\"\",\"\",HLOOKUP(A114,'Lista Psychotropy Substancje'!$H$1:$BN$7,2,FALSE)),\"\")","v":""}]
[null,{"$f":"IFERROR(IF(A115=\"\",\"\",VLOOKUP(A115,'Lista Psychotropy Substancje'!$A$2:$B$60,2,FALSE)),\"\")","v":""},{"$f":"IFERROR(IF(A115=\"\",\"\",HLOOKUP(A115,'Lista Psychotropy Substancje'!$H$1:$BN$7,2,FALSE)),\"\")","v":""}]
[null,{"$f":"IFERROR(IF(A116=\"\",\"\",VLOOKUP(A116,'Lista Psychotropy Substancje'!$A$2:$B$60,2,FALSE)),\"\")","v":""},{"$f":"IFERROR(IF(A116=\"\",\"\",HLOOKUP(A116,'Lista Psychotropy Substancje'!$H$1:$BN$7,2,FALSE)),\"\")","v":""}]
[null,{"$f":"IFERROR(IF(A117=\"\",\"\",VLOOKUP(A117,'Lista Psychotropy Substancje'!$A$2:$B$60,2,FALSE)),\"\")","v":""},{"$f":"IFERROR(IF(A117=\"\",\"\",HLOOKUP(A117,'Lista Psychotropy Substancje'!$H$1:$BN$7,2,FALSE)),\"\")","v":""}]
[null,{"$f":"IFERROR(IF(A118=\"\",\"\",VLOOKUP(A118,'Lista Psychotropy Substancje'!$A$2:$B$60,2,FALSE)),\"\")","v":""},{"$f":"IFERROR(IF(A118=\"\",\"\",HLOOKUP(A118,'Lista Psychotropy Substancje'!$H$1:$BN$7,2,FALSE)),\"\")","v":""}]
[null,{"$f":"IFERROR(IF(A119=\"\",\"\",VLOOKUP(A119,'Lista Psychotropy Substancje'!$A$2:$B$60,2,FALSE)),\"\")","v":""},{"$f":"IFERROR(IF(A119=\"\",\"\",HLOOKUP(A119,'Lista Psychotropy Substancje'!$H$1:$BN$7,2,FALSE)),\"\")","v":""}]
[null,{"$f":"IFERROR(IF(A120=\"\",\"\",VLOOKUP(A120,'Lista Psychotropy Substancje'!$A$2:$B$60,2,FALSE)),\"\")","v":""},{"$f":"IFERROR(IF(A120=\"\",\"\",HLOOKUP(A120,'Lista Psychotropy Substancje'!$H$1:$BN$7,2,FALSE)),\"\")","v":""}]
[null,{"$f":"IFERROR(IF(A121=\"\",\"\",VLOOKUP(A121,'Lista Psychotropy Substancje'!$A$2:$B$60,2,FALSE)),\"\")","v":""},{"$f":"IFERROR(IF(A121=\"\",\"\",HLOOKUP(A121,'Lista Psychotropy Substancje'!$H$1:$BN$7,2,FALSE)),\"\")","v":""}]
[null,{"$f":"IFERROR(IF(A122=\"\",\"\",VLOOKUP(A122,'Lista Psychotropy Substancje'!$A$2:$B$60,2,FALSE)),\"\")","v":""},{"$f":"IFERROR(IF(A122=\"\",\"\",HLOOKUP(A122,'Lista Psychotropy Substancje'!$H$1:$BN$7,2,FALSE)),\"\")","v":""}]
[null,{"$f":"IFERROR(IF(A123=\"\",\"\",VLOOKUP(A123,'Lista Psychotropy Substancje'!$A$2:$B$60,2,FALSE)),\"\")","v":""},{"$f":"IFERROR(IF(A123=\"\",\"\",HLOOKUP(A123,'Lista Psychotropy Substancje'!$H$1:$BN$7,2,FALSE)),\"\")","v":""}]
[null,{"$f":"IFERROR(IF(A124=\"\",\"\",VLOOKUP(A124,'Lista Psychotropy Substancje'!$A$2:$B$60,2,FALSE)),\"\")","v":""},{"$f":"IFERROR(IF(A124=\"\",\"\",HLOOKUP(A124,'Lista Psychotropy Substancje'!$H$1:$BN$7,2,FALSE)),\"\")","v":""}]
[null,{"$f":"IFERROR(IF(A125=\"\",\"\",VLOOKUP(A125,'Lista Psychotropy Substancje'!$A$2:$B$60,2,FALSE)),\"\")","v":""},{"$f":"IFERROR(IF(A125=\"\",\"\",HLOOKUP(A125,'Lista Psychotropy Substancje'!$H$1:$BN$7,2,FALSE)),\"\")","v":""}]
[null,{"$f":"IFERROR(IF(A126=\"\",\"\",VLOOKUP(A126,'Lista Psychotropy Substancje'!$A$2:$B$60,2,FALSE)),\"\")","v":""},{"$f":"IFERROR(IF(A126=\"\",\"\",HLOOKUP(A126,'Lista Psychotropy Substancje'!$H$1:$BN$7,2,FALSE)),\"\")","v":""}]
[null,{"$f":"IFERROR(IF(A127=\"\",\"\",VLOOKUP(A127,'Lista Psychotropy Substancje'!$A$2:$B$60,2,FALSE)),\"\")","v":""},{"$f":"IFERROR(IF(A127=\"\",\"\",HLOOKUP(A127,'Lista Psychotropy Substancje'!$H$1:$BN$7,2,FALSE)),\"\")","v":""}]
[null,{"$f":"IFERROR(IF(A128=\"\",\"\",VLOOKUP(A128,'Lista Psychotropy Substancje'!$A$2:$B$60,2,FALSE)),\"\")","v":""},{"$f":"IFERROR(IF(A128=\"\",\"\",HLOOKUP(A128,'Lista Psychotropy Substancje'!$H$1:$BN$7,2,FALSE)),\"\")","v":""}]
[null,{"$f":"IFERROR(IF(A129=\"\",\"\",VLOOKUP(A129,'Lista Psychotropy Substancje'!$A$2:$B$60,2,FALSE)),\"\")","v":""},{"$f":"IFERROR(IF(A129=\"\",\"\",HLOOKUP(A129,'Lista Psychotropy Substancje'!$H$1:$BN$7,2,FALSE)),\"\")","v":""}]
[null,{"$f":"IFERROR(IF(A130=\"\",\"\",VLOOKUP(A130,'Lista Psychotropy Substancje'!$A$2:$B$60,2,FALSE)),\"\")","v":""},{"$f":"IFERROR(IF(A130=\"\",\"\",HLOOKUP(A130,'Lista Psychotropy Substancje'!$H$1:$BN$7,2,FALSE)),\"\")","v":""}]
[null,{"$f":"IFERROR(IF(A131=\"\",\"\",VLOOKUP(A131,'Lista Psychotropy Substancje'!$A$2:$B$60,2,FALSE)),\"\")","v":""},{"$f":"IFERROR(IF(A131=\"\",\"\",HLOOKUP(A131,'Lista Psychotropy Substancje'!$H$1:$BN$7,2,FALSE)),\"\")","v":""}]
[null,{"$f":"IFERROR(IF(A132=\"\",\"\",VLOOKUP(A132,'Lista Psychotropy Substancje'!$A$2:$B$60,2,FALSE)),\"\")","v":""},{"$f":"IFERROR(IF(A132=\"\",\"\",HLOOKUP(A132,'Lista Psychotropy Substancje'!$H$1:$BN$7,2,FALSE)),\"\")","v":""}]
[null,{"$f":"IFERROR(IF(A133=\"\",\"\",VLOOKUP(A133,'Lista Psychotropy Substancje'!$A$2:$B$60,2,FALSE)),\"\")","v":""},{"$f":"IFERROR(IF(A133=\"\",\"\",HLOOKUP(A133,'Lista Psychotropy Substancje'!$H$1:$BN$7,2,FALSE)),\"\")","v":""}]
[null,{"$f":"IFERROR(IF(A134=\"\",\"\",VLOOKUP(A134,'Lista Psychotropy Substancje'!$A$2:$B$60,2,FALSE)),\"\")","v":""},{"$f":"IFERROR(IF(A134=\"\",\"\",HLOOKUP(A134,'Lista Psychotropy Substancje'!$H$1:$BN$7,2,FALSE)),\"\")","v":""}]
[null,{"$f":"IFERROR(IF(A135=\"\",\"\",VLOOKUP(A135,'Lista Psychotropy Substancje'!$A$2:$B$60,2,FALSE)),\"\")","v":""},{"$f":"IFERROR(IF(A135=\"\",\"\",HLOOKUP(A135,'Lista Psychotropy Substancje'!$H$1:$BN$7,2,FALSE)),\"\")","v":""}]
[null,{"$f":"IFERROR(IF(A136=\"\",\"\",VLOOKUP(A136,'Lista Psychotropy Substancje'!$A$2:$B$60,2,FALSE)),\"\")","v":""},{"$f":"IFERROR(IF(A136=\"\",\"\",HLOOKUP(A136,'Lista Psychotropy Substancje'!$H$1:$BN$7,2,FALSE)),\"\")","v":""}]
[null,{"$f":"IFERROR(IF(A137=\"\",\"\",VLOOKUP(A137,'Lista Psychotropy Substancje'!$A$2:$B$60,2,FALSE)),\"\")","v":""},{"$f":"IFERROR(IF(A137=\"\",\"\",HLOOKUP(A137,'Lista Psychotropy Substancje'!$H$1:$BN$7,2,FALSE)),\"\")","v":""}]
[null,{"$f":"IFERROR(IF(A138=\"\",\"\",VLOOKUP(A138,'Lista Psychotropy Substancje'!$A$2:$B$60,2,FALSE)),\"\")","v":""},{"$f":"IFERROR(IF(A138=\"\",\"\",HLOOKUP(A138,'Lista Psychotropy Substancje'!$H$1:$BN$7,2,FALSE)),\"\")","v":""}]
[null,{"$f":"IFERROR(IF(A139=\"\",\"\",VLOOKUP(A139,'Lista Psychotropy Substancje'!$A$2:$B$60,2,FALSE)),\"\")","v":""},{"$f":"IFERROR(IF(A139=\"\",\"\",HLOOKUP(A139,'Lista Psychotropy Substancje'!$H$1:$BN$7,2,FALSE)),\"\")","v":""}]
[null,{"$f":"IFERROR(IF(A140=\"\",\"\",VLOOKUP(A140,'Lista Psychotropy Substancje'!$A$2:$B$60,2,FALSE)),\"\")","v":""},{"$f":"IFERROR(IF(A140=\"\",\"\",HLOOKUP(A140,'Lista Psychotropy Substancje'!$H$1:$BN$7,2,FALSE)),\"\")","v":""}]
[null,{"$f":"IFERROR(IF(A141=\"\",\"\",VLOOKUP(A141,'Lista Psychotropy Substancje'!$A$2:$B$60,2,FALSE)),\"\")","v":""},{"$f":"IFERROR(IF(A141=\"\",\"\",HLOOKUP(A141,'Lista Psychotropy Substancje'!$H$1:$BN$7,2,FALSE)),\"\")","v":""}]
[null,{"$f":"IFERROR(IF(A142=\"\",\"\",VLOOKUP(A142,'Lista Psychotropy Substancje'!$A$2:$B$60,2,FALSE)),\"\")","v":""},{"$f":"IFERROR(IF(A142=\"\",\"\",HLOOKUP(A142,'Lista Psychotropy Substancje'!$H$1:$BN$7,2,FALSE)),\"\")","v":""}]
[null,{"$f":"IFERROR(IF(A143=\"\",\"\",VLOOKUP(A143,'Lista Psychotropy Substancje'!$A$2:$B$60,2,FALSE)),\"\")","v":""},{"$f":"IFERROR(IF(A143=\"\",\"\",HLOOKUP(A143,'Lista Psychotropy Substancje'!$H$1:$BN$7,2,FALSE)),\"\")","v":""}]
[null,{"$f":"IFERROR(IF(A144=\"\",\"\",VLOOKUP(A144,'Lista Psychotropy Substancje'!$A$2:$B$60,2,FALSE)),\"\")","v":""},{"$f":"IFERROR(IF(A144=\"\",\"\",HLOOKUP(A144,'Lista Psychotropy Substancje'!$H$1:$BN$7,2,FALSE)),\"\")","v":""}]
[null,{"$f":"IFERROR(IF(A145=\"\",\"\",VLOOKUP(A145,'Lista Psychotropy Substancje'!$A$2:$B$60,2,FALSE)),\"\")","v":""},{"$f":"IFERROR(IF(A145=\"\",\"\",HLOOKUP(A145,'Lista Psychotropy Substancje'!$H$1:$BN$7,2,FALSE)),\"\")","v":""}]
[null,{"$f":"IFERROR(IF(A146=\"\",\"\",VLOOKUP(A146,'Lista Psychotropy Substancje'!$A$2:$B$60,2,FALSE)),\"\")","v":""},{"$f":"IFERROR(IF(A146=\"\",\"\",HLOOKUP(A146,'Lista Psychotropy Substancje'!$H$1:$BN$7,2,FALSE)),\"\")","v":""}]
[null,{"$f":"IFERROR(IF(A147=\"\",\"\",VLOOKUP(A147,'Lista Psychotropy Substancje'!$A$2:$B$60,2,FALSE)),\"\")","v":""},{"$f":"IFERROR(IF(A147=\"\",\"\",HLOOKUP(A147,'Lista Psychotropy Substancje'!$H$1:$BN$7,2,FALSE)),\"\")","v":""}]
[null,{"$f":"IFERROR(IF(A148=\"\",\"\",VLOOKUP(A148,'Lista Psychotropy Substancje'!$A$2:$B$60,2,FALSE)),\"\")","v":""},{"$f":"IFERROR(IF(A148=\"\",\"\",HLOOKUP(A148,'Lista Psychotropy Substancje'!$H$1:$BN$7,2,FALSE)),\"\")","v":""}]
[null,{"$f":"IFERROR(IF(A149=\"\",\"\",VLOOKUP(A149,'Lista Psychotropy Substancje'!$A$2:$B$60,2,FALSE)),\"\")","v":""},{"$f":"IFERROR(IF(A149=\"\",\"\",HLOOKUP(A149,'Lista Psychotropy Substancje'!$H$1:$BN$7,2,FALSE)),\"\")","v":""}]
[null,{"$f":"IFERROR(IF(A150=\"\",\"\",VLOOKUP(A150,'Lista Psychotropy Substancje'!$A$2:$B$60,2,FALSE)),\"\")","v":""},{"$f":"IFERROR(IF(A150=\"\",\"\",HLOOKUP(A150,'Lista Psychotropy Substancje'!$H$1:$BN$7,2,FALSE)),\"\")","v":""}]
[null,{"$f":"IFERROR(IF(A151=\"\",\"\",VLOOKUP(A151,'Lista Psychotropy Substancje'!$A$2:$B$60,2,FALSE)),\"\")","v":""},{"$f":"IFERROR(IF(A151=\"\",\"\",HLOOKUP(A151,'Lista Psychotropy Substancje'!$H$1:$BN$7,2,FALSE)),\"\")","v":""}]
[null,{"$f":"IFERROR(IF(A152=\"\",\"\",VLOOKUP(A152,'Lista Psychotropy Substancje'!$A$2:$B$60,2,FALSE)),\"\")","v":""},{"$f":"IFERROR(IF(A152=\"\",\"\",HLOOKUP(A152,'Lista Psychotropy Substancje'!$H$1:$BN$7,2,FALSE)),\"\")","v":""}]
[null,{"$f":"IFERROR(IF(A153=\"\",\"\",VLOOKUP(A153,'Lista Psychotropy Substancje'!$A$2:$B$60,2,FALSE)),\"\")","v":""},{"$f":"IFERROR(IF(A153=\"\",\"\",HLOOKUP(A153,'Lista Psychotropy Substancje'!$H$1:$BN$7,2,FALSE)),\"\")","v":""}]
[null,{"$f":"IFERROR(IF(A154=\"\",\"\",VLOOKUP(A154,'Lista Psychotropy Substancje'!$A$2:$B$60,2,FALSE)),\"\")","v":""},{"$f":"IFERROR(IF(A154=\"\",\"\",HLOOKUP(A154,'Lista Psychotropy Substancje'!$H$1:$BN$7,2,FALSE)),\"\")","v":""}]
[null,{"$f":"IFERROR(IF(A155=\"\",\"\",VLOOKUP(A155,'Lista Psychotropy Substancje'!$A$2:$B$60,2,FALSE)),\"\")","v":""},{"$f":"IFERROR(IF(A155=\"\",\"\",HLOOKUP(A155,'Lista Psychotropy Substancje'!$H$1:$BN$7,2,FALSE)),\"\")","v":""}]
[null,{"$f":"IFERROR(IF(A156=\"\",\"\",VLOOKUP(A156,'Lista Psychotropy Substancje'!$A$2:$B$60,2,FALSE)),\"\")","v":""},{"$f":"IFERROR(IF(A156=\"\",\"\",HLOOKUP(A156,'Lista Psychotropy Substancje'!$H$1:$BN$7,2,FALSE)),\"\")","v":""}]
[null,{"$f":"IFERROR(IF(A157=\"\",\"\",VLOOKUP(A157,'Lista Psychotropy Substancje'!$A$2:$B$60,2,FALSE)),\"\")","v":""},{"$f":"IFERROR(IF(A157=\"\",\"\",HLOOKUP(A157,'Lista Psychotropy Substancje'!$H$1:$BN$7,2,FALSE)),\"\")","v":""}]
[null,{"$f":"IFERROR(IF(A158=\"\",\"\",VLOOKUP(A158,'Lista Psychotropy Substancje'!$A$2:$B$60,2,FALSE)),\"\")","v":""},{"$f":"IFERROR(IF(A158=\"\",\"\",HLOOKUP(A158,'Lista Psychotropy Substancje'!$H$1:$BN$7,2,FALSE)),\"\")","v":""}]
[null,{"$f":"IFERROR(IF(A159=\"\",\"\",VLOOKUP(A159,'Lista Psychotropy Substancje'!$A$2:$B$60,2,FALSE)),\"\")","v":""},{"$f":"IFERROR(IF(A159=\"\",\"\",HLOOKUP(A159,'Lista Psychotropy Substancje'!$H$1:$BN$7,2,FALSE)),\"\")","v":""}]
[null,{"$f":"IFERROR(IF(A160=\"\",\"\",VLOOKUP(A160,'Lista Psychotropy Substancje'!$A$2:$B$60,2,FALSE)),\"\")","v":""},{"$f":"IFERROR(IF(A160=\"\",\"\",HLOOKUP(A160,'Lista Psychotropy Substancje'!$H$1:$BN$7,2,FALSE)),\"\")","v":""}]
[null,{"$f":"IFERROR(IF(A161=\"\",\"\",VLOOKUP(A161,'Lista Psychotropy Substancje'!$A$2:$B$60,2,FALSE)),\"\")","v":""},{"$f":"IFERROR(IF(A161=\"\",\"\",HLOOKUP(A161,'Lista Psychotropy Substancje'!$H$1:$BN$7,2,FALSE)),\"\")","v":""}]
[null,{"$f":"IFERROR(IF(A162=\"\",\"\",VLOOKUP(A162,'Lista Psychotropy Substancje'!$A$2:$B$60,2,FALSE)),\"\")","v":""},{"$f":"IFERROR(IF(A162=\"\",\"\",HLOOKUP(A162,'Lista Psychotropy Substancje'!$H$1:$BN$7,2,FALSE)),\"\")","v":""}]
[null,{"$f":"IFERROR(IF(A163=\"\",\"\",VLOOKUP(A163,'Lista Psychotropy Substancje'!$A$2:$B$60,2,FALSE)),\"\")","v":""},{"$f":"IFERROR(IF(A163=\"\",\"\",HLOOKUP(A163,'Lista Psychotropy Substancje'!$H$1:$BN$7,2,FALSE)),\"\")","v":""}]
[null,{"$f":"IFERROR(IF(A164=\"\",\"\",VLOOKUP(A164,'Lista Psychotropy Substancje'!$A$2:$B$60,2,FALSE)),\"\")","v":""},{"$f":"IFERROR(IF(A164=\"\",\"\",HLOOKUP(A164,'Lista Psychotropy Substancje'!$H$1:$BN$7,2,FALSE)),\"\")","v":""}]
[null,{"$f":"IFERROR(IF(A165=\"\",\"\",VLOOKUP(A165,'Lista Psychotropy Substancje'!$A$2:$B$60,2,FALSE)),\"\")","v":""},{"$f":"IFERROR(IF(A165=\"\",\"\",HLOOKUP(A165,'Lista Psychotropy Substancje'!$H$1:$BN$7,2,FALSE)),\"\")","v":""}]
[null,{"$f":"IFERROR(IF(A166=\"\",\"\",VLOOKUP(A166,'Lista Psychotropy Substancje'!$A$2:$B$60,2,FALSE)),\"\")","v":""},{"$f":"IFERROR(IF(A166=\"\",\"\",HLOOKUP(A166,'Lista Psychotropy Substancje'!$H$1:$BN$7,2,FALSE)),\"\")","v":""}]
[null,{"$f":"IFERROR(IF(A167=\"\",\"\",VLOOKUP(A167,'Lista Psychotropy Substancje'!$A$2:$B$60,2,FALSE)),\"\")","v":""},{"$f":"IFERROR(IF(A167=\"\",\"\",HLOOKUP(A167,'Lista Psychotropy Substancje'!$H$1:$BN$7,2,FALSE)),\"\")","v":""}]
[null,{"$f":"IFERROR(IF(A168=\"\",\"\",VLOOKUP(A168,'Lista Psychotropy Substancje'!$A$2:$B$60,2,FALSE)),\"\")","v":""},{"$f":"IFERROR(IF(A168=\"\",\"\",HLOOKUP(A168,'Lista Psychotropy Substancje'!$H$1:$BN$7,2,FALSE)),\"\")","v":""}]
[null,{"$f":"IFERROR(IF(A169=\"\",\"\",VLOOKUP(A169,'Lista Psychotropy Substancje'!$A$2:$B$60,2,FALSE)),\"\")","v":""},{"$f":"IFERROR(IF(A169=\"\",\"\",HLOOKUP(A169,'Lista Psychotropy Substancje'!$H$1:$BN$7,2,FALSE)),\"\")","v":""}]
[null,{"$f":"IFERROR(IF(A170=\"\",\"\",VLOOKUP(A170,'Lista Psychotropy Substancje'!$A$2:$B$60,2,FALSE)),\"\")","v":""},{"$f":"IFERROR(IF(A170=\"\",\"\",HLOOKUP(A170,'Lista Psychotropy Substancje'!$H$1:$BN$7,2,FALSE)),\"\")","v":""}]
[null,{"$f":"IFERROR(IF(A171=\"\",\"\",VLOOKUP(A171,'Lista Psychotropy Substancje'!$A$2:$B$60,2,FALSE)),\"\")","v":""},{"$f":"IFERROR(IF(A171=\"\",\"\",HLOOKUP(A171,'Lista Psychotropy Substancje'!$H$1:$BN$7,2,FALSE)),\"\")","v":""}]
[null,{"$f":"IFERROR(IF(A172=\"\",\"\",VLOOKUP(A172,'Lista Psychotropy Substancje'!$A$2:$B$60,2,FALSE)),\"\")","v":""},{"$f":"IFERROR(IF(A172=\"\",\"\",HLOOKUP(A172,'Lista Psychotropy Substancje'!$H$1:$BN$7,2,FALSE)),\"\")","v":""}]
[null,{"$f":"IFERROR(IF(A173=\"\",\"\",VLOOKUP(A173,'Lista Psychotropy Substancje'!$A$2:$B$60,2,FALSE)),\"\")","v":""},{"$f":"IFERROR(IF(A173=\"\",\"\",HLOOKUP(A173,'Lista Psychotropy Substancje'!$H$1:$BN$7,2,FALSE)),\"\")","v":""}]
[null,{"$f":"IFERROR(IF(A174=\"\",\"\",VLOOKUP(A174,'Lista Psychotropy Substancje'!$A$2:$B$60,2,FALSE)),\"\")","v":""},{"$f":"IFERROR(IF(A174=\"\",\"\",HLOOKUP(A174,'Lista Psychotropy Substancje'!$H$1:$BN$7,2,FALSE)),\"\")","v":""}]
[null,{"$f":"IFERROR(IF(A175=\"\",\"\",VLOOKUP(A175,'Lista Psychotropy Substancje'!$A$2:$B$60,2,FALSE)),\"\")","v":""},{"$f":"IFERROR(IF(A175=\"\",\"\",HLOOKUP(A175,'Lista Psychotropy Substancje'!$H$1:$BN$7,2,FALSE)),\"\")","v":""}]
[null,{"$f":"IFERROR(IF(A176=\"\",\"\",VLOOKUP(A176,'Lista Psychotropy Substancje'!$A$2:$B$60,2,FALSE)),\"\")","v":""},{"$f":"IFERROR(IF(A176=\"\",\"\",HLOOKUP(A176,'Lista Psychotropy Substancje'!$H$1:$BN$7,2,FALSE)),\"\")","v":""}]
[null,{"$f":"IFERROR(IF(A177=\"\",\"\",VLOOKUP(A177,'Lista Psychotropy Substancje'!$A$2:$B$60,2,FALSE)),\"\")","v":""},{"$f":"IFERROR(IF(A177=\"\",\"\",HLOOKUP(A177,'Lista Psychotropy Substancje'!$H$1:$BN$7,2,FALSE)),\"\")","v":""}]
[null,{"$f":"IFERROR(IF(A178=\"\",\"\",VLOOKUP(A178,'Lista Psychotropy Substancje'!$A$2:$B$60,2,FALSE)),\"\")","v":""},{"$f":"IFERROR(IF(A178=\"\",\"\",HLOOKUP(A178,'Lista Psychotropy Substancje'!$H$1:$BN$7,2,FALSE)),\"\")","v":""}]
[null,{"$f":"IFERROR(IF(A179=\"\",\"\",VLOOKUP(A179,'Lista Psychotropy Substancje'!$A$2:$B$60,2,FALSE)),\"\")","v":""},{"$f":"IFERROR(IF(A179=\"\",\"\",HLOOKUP(A179,'Lista Psychotropy Substancje'!$H$1:$BN$7,2,FALSE)),\"\")","v":""}]
[null,{"$f":"IFERROR(IF(A180=\"\",\"\",VLOOKUP(A180,'Lista Psychotropy Substancje'!$A$2:$B$60,2,FALSE)),\"\")","v":""},{"$f":"IFERROR(IF(A180=\"\",\"\",HLOOKUP(A180,'Lista Psychotropy Substancje'!$H$1:$BN$7,2,FALSE)),\"\")","v":""}]
[null,{"$f":"IFERROR(IF(A181=\"\",\"\",VLOOKUP(A181,'Lista Psychotropy Substancje'!$A$2:$B$60,2,FALSE)),\"\")","v":""},{"$f":"IFERROR(IF(A181=\"\",\"\",HLOOKUP(A181,'Lista Psychotropy Substancje'!$H$1:$BN$7,2,FALSE)),\"\")","v":""}]
[null,{"$f":"IFERROR(IF(A182=\"\",\"\",VLOOKUP(A182,'Lista Psychotropy Substancje'!$A$2:$B$60,2,FALSE)),\"\")","v":""},{"$f":"IFERROR(IF(A182=\"\",\"\",HLOOKUP(A182,'Lista Psychotropy Substancje'!$H$1:$BN$7,2,FALSE)),\"\")","v":""}]
[null,{"$f":"IFERROR(IF(A183=\"\",\"\",VLOOKUP(A183,'Lista Psychotropy Substancje'!$A$2:$B$60,2,FALSE)),\"\")","v":""},{"$f":"IFERROR(IF(A183=\"\",\"\",HLOOKUP(A183,'Lista Psychotropy Substancje'!$H$1:$BN$7,2,FALSE)),\"\")","v":""}]
[null,{"$f":"IFERROR(IF(A184=\"\",\"\",VLOOKUP(A184,'Lista Psychotropy Substancje'!$A$2:$B$60,2,FALSE)),\"\")","v":""},{"$f":"IFERROR(IF(A184=\"\",\"\",HLOOKUP(A184,'Lista Psychotropy Substancje'!$H$1:$BN$7,2,FALSE)),\"\")","v":""}]
[null,{"$f":"IFERROR(IF(A185=\"\",\"\",VLOOKUP(A185,'Lista Psychotropy Substancje'!$A$2:$B$60,2,FALSE)),\"\")","v":""},{"$f":"IFERROR(IF(A185=\"\",\"\",HLOOKUP(A185,'Lista Psychotropy Substancje'!$H$1:$BN$7,2,FALSE)),\"\")","v":""}]
[null,{"$f":"IFERROR(IF(A186=\"\",\"\",VLOOKUP(A186,'Lista Psychotropy Substancje'!$A$2:$B$60,2,FALSE)),\"\")","v":""},{"$f":"IFERROR(IF(A186=\"\",\"\",HLOOKUP(A186,'Lista Psychotropy Substancje'!$H$1:$BN$7,2,FALSE)),\"\")","v":""}]
[null,{"$f":"IFERROR(IF(A187=\"\",\"\",VLOOKUP(A187,'Lista Psychotropy Substancje'!$A$2:$B$60,2,FALSE)),\"\")","v":""},{"$f":"IFERROR(IF(A187=\"\",\"\",HLOOKUP(A187,'Lista Psychotropy Substancje'!$H$1:$BN$7,2,FALSE)),\"\")","v":""}]
[null,{"$f":"IFERROR(IF(A188=\"\",\"\",VLOOKUP(A188,'Lista Psychotropy Substancje'!$A$2:$B$60,2,FALSE)),\"\")","v":""},{"$f":"IFERROR(IF(A188=\"\",\"\",HLOOKUP(A188,'Lista Psychotropy Substancje'!$H$1:$BN$7,2,FALSE)),\"\")","v":""}]
[null,{"$f":"IFERROR(IF(A189=\"\",\"\",VLOOKUP(A189,'Lista Psychotropy Substancje'!$A$2:$B$60,2,FALSE)),\"\")","v":""},{"$f":"IFERROR(IF(A189=\"\",\"\",HLOOKUP(A189,'Lista Psychotropy Substancje'!$H$1:$BN$7,2,FALSE)),\"\")","v":""}]
[null,{"$f":"IFERROR(IF(A190=\"\",\"\",VLOOKUP(A190,'Lista Psychotropy Substancje'!$A$2:$B$60,2,FALSE)),\"\")","v":""},{"$f":"IFERROR(IF(A190=\"\",\"\",HLOOKUP(A190,'Lista Psychotropy Substancje'!$H$1:$BN$7,2,FALSE)),\"\")","v":""}]
[null,{"$f":"IFERROR(IF(A191=\"\",\"\",VLOOKUP(A191,'Lista Psychotropy Substancje'!$A$2:$B$60,2,FALSE)),\"\")","v":""},{"$f":"IFERROR(IF(A191=\"\",\"\",HLOOKUP(A191,'Lista Psychotropy Substancje'!$H$1:$BN$7,2,FALSE)),\"\")","v":""}]
[null,{"$f":"IFERROR(IF(A192=\"\",\"\",VLOOKUP(A192,'Lista Psychotropy Substancje'!$A$2:$B$60,2,FALSE)),\"\")","v":""},{"$f":"IFERROR(IF(A192=\"\",\"\",HLOOKUP(A192,'Lista Psychotropy Substancje'!$H$1:$BN$7,2,FALSE)),\"\")","v":""}]
[null,{"$f":"IFERROR(IF(A193=\"\",\"\",VLOOKUP(A193,'Lista Psychotropy Substancje'!$A$2:$B$60,2,FALSE)),\"\")","v":""},{"$f":"IFERROR(IF(A193=\"\",\"\",HLOOKUP(A193,'Lista Psychotropy Substancje'!$H$1:$BN$7,2,FALSE)),\"\")","v":""}]
[null,{"$f":"IFERROR(IF(A194=\"\",\"\",VLOOKUP(A194,'Lista Psychotropy Substancje'!$A$2:$B$60,2,FALSE)),\"\")","v":""},{"$f":"IFERROR(IF(A194=\"\",\"\",HLOOKUP(A194,'Lista Psychotropy Substancje'!$H$1:$BN$7,2,FALSE)),\"\")","v":""}]
[null,{"$f":"IFERROR(IF(A195=\"\",\"\",VLOOKUP(A195,'Lista Psychotropy Substancje'!$A$2:$B$60,2,FALSE)),\"\")","v":""},{"$f":"IFERROR(IF(A195=\"\",\"\",HLOOKUP(A195,'Lista Psychotropy Substancje'!$H$1:$BN$7,2,FALSE)),\"\")","v":""}]
[null,{"$f":"IFERROR(IF(A196=\"\",\"\",VLOOKUP(A196,'Lista Psychotropy Substancje'!$A$2:$B$60,2,FALSE)),\"\")","v":""},{"$f":"IFERROR(IF(A196=\"\",\"\",HLOOKUP(A196,'Lista Psychotropy Substancje'!$H$1:$BN$7,2,FALSE)),\"\")","v":""}]
[null,{"$f":"IFERROR(IF(A197=\"\",\"\",VLOOKUP(A197,'Lista Psychotropy Substancje'!$A$2:$B$60,2,FALSE)),\"\")","v":""},{"$f":"IFERROR(IF(A197=\"\",\"\",HLOOKUP(A197,'Lista Psychotropy Substancje'!$H$1:$BN$7,2,FALSE)),\"\")","v":""}]
[null,{"$f":"IFERROR(IF(A198=\"\",\"\",VLOOKUP(A198,'Lista Psychotropy Substancje'!$A$2:$B$60,2,FALSE)),\"\")","v":""},{"$f":"IFERROR(IF(A198=\"\",\"\",HLOOKUP(A198,'Lista Psychotropy Substancje'!$H$1:$BN$7,2,FALSE)),\"\")","v":""}]
[null,{"$f":"IFERROR(IF(A199=\"\",\"\",VLOOKUP(A199,'Lista Psychotropy Substancje'!$A$2:$B$60,2,FALSE)),\"\")","v":""},{"$f":"IFERROR(IF(A199=\"\",\"\",HLOOKUP(A199,'Lista Psychotropy Substancje'!$H$1:$BN$7,2,FALSE)),\"\")","v":""}]
[null,{"$f":"IFERROR(IF(A200=\"\",\"\",VLOOKUP(A200,'Lista Psychotropy Substancje'!$A$2:$B$60,2,FALSE)),\"\")","v":""},{"$f":"IFERROR(IF(A200=\"\",\"\",HLOOKUP(A200,'Lista Psychotropy Substancje'!$H$1:$BN$7,2,FALSE)),\"\")","v":""}]
[null,{"$f":"IFERROR(IF(A201=\"\",\"\",VLOOKUP(A201,'Lista Psychotropy Substancje'!$A$2:$B$60,2,FALSE)),\"\")","v":""},{"$f":"IFERROR(IF(A201=\"\",\"\",HLOOKUP(A201,'Lista Psychotropy Substancje'!$H$1:$BN$7,2,FALSE)),\"\")","v":""}]
[null,{"$f":"IFERROR(IF(A202=\"\",\"\",VLOOKUP(A202,'Lista Psychotropy Substancje'!$A$2:$B$60,2,FALSE)),\"\")","v":""},{"$f":"IFERROR(IF(A202=\"\",\"\",HLOOKUP(A202,'Lista Psychotropy Substancje'!$H$1:$BN$7,2,FALSE)),\"\")","v":""}]
[null,{"$f":"IFERROR(IF(A203=\"\",\"\",VLOOKUP(A203,'Lista Psychotropy Substancje'!$A$2:$B$60,2,FALSE)),\"\")","v":""},{"$f":"IFERROR(IF(A203=\"\",\"\",HLOOKUP(A203,'Lista Psychotropy Substancje'!$H$1:$BN$7,2,FALSE)),\"\")","v":""}]
[null,{"$f":"IFERROR(IF(A204=\"\",\"\",VLOOKUP(A204,'Lista Psychotropy Substancje'!$A$2:$B$60,2,FALSE)),\"\")","v":""},{"$f":"IFERROR(IF(A204=\"\",\"\",HLOOKUP(A204,'Lista Psychotropy Substancje'!$H$1:$BN$7,2,FALSE)),\"\")","v":""}]
[null,{"$f":"IFERROR(IF(A205=\"\",\"\",VLOOKUP(A205,'Lista Psychotropy Substancje'!$A$2:$B$60,2,FALSE)),\"\")","v":""},{"$f":"IFERROR(IF(A205=\"\",\"\",HLOOKUP(A205,'Lista Psychotropy Substancje'!$H$1:$BN$7,2,FALSE)),\"\")","v":""}]
[null,{"$f":"IFERROR(IF(A206=\"\",\"\",VLOOKUP(A206,'Lista Psychotropy Substancje'!$A$2:$B$60,2,FALSE)),\"\")","v":""},{"$f":"IFERROR(IF(A206=\"\",\"\",HLOOKUP(A206,'Lista Psychotropy Substancje'!$H$1:$BN$7,2,FALSE)),\"\")","v":""}]
[null,{"$f":"IFERROR(IF(A207=\"\",\"\",VLOOKUP(A207,'Lista Psychotropy Substancje'!$A$2:$B$60,2,FALSE)),\"\")","v":""},{"$f":"IFERROR(IF(A207=\"\",\"\",HLOOKUP(A207,'Lista Psychotropy Substancje'!$H$1:$BN$7,2,FALSE)),\"\")","v":""}]
[null,{"$f":"IFERROR(IF(A208=\"\",\"\",VLOOKUP(A208,'Lista Psychotropy Substancje'!$A$2:$B$60,2,FALSE)),\"\")","v":""},{"$f":"IFERROR(IF(A208=\"\",\"\",HLOOKUP(A208,'Lista Psychotropy Substancje'!$H$1:$BN$7,2,FALSE)),\"\")","v":""}]
[null,{"$f":"IFERROR(IF(A209=\"\",\"\",VLOOKUP(A209,'Lista Psychotropy Substancje'!$A$2:$B$60,2,FALSE)),\"\")","v":""},{"$f":"IFERROR(IF(A209=\"\",\"\",HLOOKUP(A209,'Lista Psychotropy Substancje'!$H$1:$BN$7,2,FALSE)),\"\")","v":""}]
[null,{"$f":"IFERROR(IF(A210=\"\",\"\",VLOOKUP(A210,'Lista Psychotropy Substancje'!$A$2:$B$60,2,FALSE)),\"\")","v":""},{"$f":"IFERROR(IF(A210=\"\",\"\",HLOOKUP(A210,'Lista Psychotropy Substancje'!$H$1:$BN$7,2,FALSE)),\"\")","v":""}]
[null,{"$f":"IFERROR(IF(A211=\"\",\"\",VLOOKUP(A211,'Lista Psychotropy Substancje'!$A$2:$B$60,2,FALSE)),\"\")","v":""},{"$f":"IFERROR(IF(A211=\"\",\"\",HLOOKUP(A211,'Lista Psychotropy Substancje'!$H$1:$BN$7,2,FALSE)),\"\")","v":""}]
[null,{"$f":"IFERROR(IF(A212=\"\",\"\",VLOOKUP(A212,'Lista Psychotropy Substancje'!$A$2:$B$60,2,FALSE)),\"\")","v":""},{"$f":"IFERROR(IF(A212=\"\",\"\",HLOOKUP(A212,'Lista Psychotropy Substancje'!$H$1:$BN$7,2,FALSE)),\"\")","v":""}]
[null,{"$f":"IFERROR(IF(A213=\"\",\"\",VLOOKUP(A213,'Lista Psychotropy Substancje'!$A$2:$B$60,2,FALSE)),\"\")","v":""},{"$f":"IFERROR(IF(A213=\"\",\"\",HLOOKUP(A213,'Lista Psychotropy Substancje'!$H$1:$BN$7,2,FALSE)),\"\")","v":""}]
[null,{"$f":"IFERROR(IF(A214=\"\",\"\",VLOOKUP(A214,'Lista Psychotropy Substancje'!$A$2:$B$60,2,FALSE)),\"\")","v":""},{"$f":"IFERROR(IF(A214=\"\",\"\",HLOOKUP(A214,'Lista Psychotropy Substancje'!$H$1:$BN$7,2,FALSE)),\"\")","v":""}]
[null,{"$f":"IFERROR(IF(A215=\"\",\"\",VLOOKUP(A215,'Lista Psychotropy Substancje'!$A$2:$B$60,2,FALSE)),\"\")","v":""},{"$f":"IFERROR(IF(A215=\"\",\"\",HLOOKUP(A215,'Lista Psychotropy Substancje'!$H$1:$BN$7,2,FALSE)),\"\")","v":""}]
[null,{"$f":"IFERROR(IF(A216=\"\",\"\",VLOOKUP(A216,'Lista Psychotropy Substancje'!$A$2:$B$60,2,FALSE)),\"\")","v":""},{"$f":"IFERROR(IF(A216=\"\",\"\",HLOOKUP(A216,'Lista Psychotropy Substancje'!$H$1:$BN$7,2,FALSE)),\"\")","v":""}]
[null,{"$f":"IFERROR(IF(A217=\"\",\"\",VLOOKUP(A217,'Lista Psychotropy Substancje'!$A$2:$B$60,2,FALSE)),\"\")","v":""},{"$f":"IFERROR(IF(A217=\"\",\"\",HLOOKUP(A217,'Lista Psychotropy Substancje'!$H$1:$BN$7,2,FALSE)),\"\")","v":""}]
[null,{"$f":"IFERROR(IF(A218=\"\",\"\",VLOOKUP(A218,'Lista Psychotropy Substancje'!$A$2:$B$60,2,FALSE)),\"\")","v":""},{"$f":"IFERROR(IF(A218=\"\",\"\",HLOOKUP(A218,'Lista Psychotropy Substancje'!$H$1:$BN$7,2,FALSE)),\"\")","v":""}]
[null,{"$f":"IFERROR(IF(A219=\"\",\"\",VLOOKUP(A219,'Lista Psychotropy Substancje'!$A$2:$B$60,2,FALSE)),\"\")","v":""},{"$f":"IFERROR(IF(A219=\"\",\"\",HLOOKUP(A219,'Lista Psychotropy Substancje'!$H$1:$BN$7,2,FALSE)),\"\")","v":""}]
[null,{"$f":"IFERROR(IF(A220=\"\",\"\",VLOOKUP(A220,'Lista Psychotropy Substancje'!$A$2:$B$60,2,FALSE)),\"\")","v":""},{"$f":"IFERROR(IF(A220=\"\",\"\",HLOOKUP(A220,'Lista Psychotropy Substancje'!$H$1:$BN$7,2,FALSE)),\"\")","v":""}]
[null,{"$f":"IFERROR(IF(A221=\"\",\"\",VLOOKUP(A221,'Lista Psychotropy Substancje'!$A$2:$B$60,2,FALSE)),\"\")","v":""},{"$f":"IFERROR(IF(A221=\"\",\"\",HLOOKUP(A221,'Lista Psychotropy Substancje'!$H$1:$BN$7,2,FALSE)),\"\")","v":""}]
[null,{"$f":"IFERROR(IF(A222=\"\",\"\",VLOOKUP(A222,'Lista Psychotropy Substancje'!$A$2:$B$60,2,FALSE)),\"\")","v":""},{"$f":"IFERROR(IF(A222=\"\",\"\",HLOOKUP(A222,'Lista Psychotropy Substancje'!$H$1:$BN$7,2,FALSE)),\"\")","v":""}]
[null,{"$f":"IFERROR(IF(A223=\"\",\"\",VLOOKUP(A223,'Lista Psychotropy Substancje'!$A$2:$B$60,2,FALSE)),\"\")","v":""},{"$f":"IFERROR(IF(A223=\"\",\"\",HLOOKUP(A223,'Lista Psychotropy Substancje'!$H$1:$BN$7,2,FALSE)),\"\")","v":""}]
[null,{"$f":"IFERROR(IF(A224=\"\",\"\",VLOOKUP(A224,'Lista Psychotropy Substancje'!$A$2:$B$60,2,FALSE)),\"\")","v":""},{"$f":"IFERROR(IF(A224=\"\",\"\",HLOOKUP(A224,'Lista Psychotropy Substancje'!$H$1:$BN$7,2,FALSE)),\"\")","v":""}]
[null,{"$f":"IFERROR(IF(A225=\"\",\"\",VLOOKUP(A225,'Lista Psychotropy Substancje'!$A$2:$B$60,2,FALSE)),\"\")","v":""},{"$f":"IFERROR(IF(A225=\"\",\"\",HLOOKUP(A225,'Lista Psychotropy Substancje'!$H$1:$BN$7,2,FALSE)),\"\")","v":""}]
[null,{"$f":"IFERROR(IF(A226=\"\",\"\",VLOOKUP(A226,'Lista Psychotropy Substancje'!$A$2:$B$60,2,FALSE)),\"\")","v":""},{"$f":"IFERROR(IF(A226=\"\",\"\",HLOOKUP(A226,'Lista Psychotropy Substancje'!$H$1:$BN$7,2,FALSE)),\"\")","v":""}]
[null,{"$f":"IFERROR(IF(A227=\"\",\"\",VLOOKUP(A227,'Lista Psychotropy Substancje'!$A$2:$B$60,2,FALSE)),\"\")","v":""},{"$f":"IFERROR(IF(A227=\"\",\"\",HLOOKUP(A227,'Lista Psychotropy Substancje'!$H$1:$BN$7,2,FALSE)),\"\")","v":""}]
[null,{"$f":"IFERROR(IF(A228=\"\",\"\",VLOOKUP(A228,'Lista Psychotropy Substancje'!$A$2:$B$60,2,FALSE)),\"\")","v":""},{"$f":"IFERROR(IF(A228=\"\",\"\",HLOOKUP(A228,'Lista Psychotropy Substancje'!$H$1:$BN$7,2,FALSE)),\"\")","v":""}]
[null,{"$f":"IFERROR(IF(A229=\"\",\"\",VLOOKUP(A229,'Lista Psychotropy Substancje'!$A$2:$B$60,2,FALSE)),\"\")","v":""},{"$f":"IFERROR(IF(A229=\"\",\"\",HLOOKUP(A229,'Lista Psychotropy Substancje'!$H$1:$BN$7,2,FALSE)),\"\")","v":""}]
[null,{"$f":"IFERROR(IF(A230=\"\",\"\",VLOOKUP(A230,'Lista Psychotropy Substancje'!$A$2:$B$60,2,FALSE)),\"\")","v":""},{"$f":"IFERROR(IF(A230=\"\",\"\",HLOOKUP(A230,'Lista Psychotropy Substancje'!$H$1:$BN$7,2,FALSE)),\"\")","v":""}]
[null,{"$f":"IFERROR(IF(A231=\"\",\"\",VLOOKUP(A231,'Lista Psychotropy Substancje'!$A$2:$B$60,2,FALSE)),\"\")","v":""},{"$f":"IFERROR(IF(A231=\"\",\"\",HLOOKUP(A231,'Lista Psychotropy Substancje'!$H$1:$BN$7,2,FALSE)),\"\")","v":""}]
[null,{"$f":"IFERROR(IF(A232=\"\",\"\",VLOOKUP(A232,'Lista Psychotropy Substancje'!$A$2:$B$60,2,FALSE)),\"\")","v":""},{"$f":"IFERROR(IF(A232=\"\",\"\",HLOOKUP(A232,'Lista Psychotropy Substancje'!$H$1:$BN$7,2,FALSE)),\"\")","v":""}]
[null,{"$f":"IFERROR(IF(A233=\"\",\"\",VLOOKUP(A233,'Lista Psychotropy Substancje'!$A$2:$B$60,2,FALSE)),\"\")","v":""},{"$f":"IFERROR(IF(A233=\"\",\"\",HLOOKUP(A233,'Lista Psychotropy Substancje'!$H$1:$BN$7,2,FALSE)),\"\")","v":""}]
[null,{"$f":"IFERROR(IF(A234=\"\",\"\",VLOOKUP(A234,'Lista Psychotropy Substancje'!$A$2:$B$60,2,FALSE)),\"\")","v":""},{"$f":"IFERROR(IF(A234=\"\",\"\",HLOOKUP(A234,'Lista Psychotropy Substancje'!$H$1:$BN$7,2,FALSE)),\"\")","v":""}]
[null,{"$f":"IFERROR(IF(A235=\"\",\"\",VLOOKUP(A235,'Lista Psychotropy Substancje'!$A$2:$B$60,2,FALSE)),\"\")","v":""},{"$f":"IFERROR(IF(A235=\"\",\"\",HLOOKUP(A235,'Lista Psychotropy Substancje'!$H$1:$BN$7,2,FALSE)),\"\")","v":""}]
[null,{"$f":"IFERROR(IF(A236=\"\",\"\",VLOOKUP(A236,'Lista Psychotropy Substancje'!$A$2:$B$60,2,FALSE)),\"\")","v":""},{"$f":"IFERROR(IF(A236=\"\",\"\",HLOOKUP(A236,'Lista Psychotropy Substancje'!$H$1:$BN$7,2,FALSE)),\"\")","v":""}]
[null,{"$f":"IFERROR(IF(A237=\"\",\"\",VLOOKUP(A237,'Lista Psychotropy Substancje'!$A$2:$B$60,2,FALSE)),\"\")","v":""},{"$f":"IFERROR(IF(A237=\"\",\"\",HLOOKUP(A237,'Lista Psychotropy Substancje'!$H$1:$BN$7,2,FALSE)),\"\")","v":""}]
[null,{"$f":"IFERROR(IF(A238=\"\",\"\",VLOOKUP(A238,'Lista Psychotropy Substancje'!$A$2:$B$60,2,FALSE)),\"\")","v":""},{"$f":"IFERROR(IF(A238=\"\",\"\",HLOOKUP(A238,'Lista Psychotropy Substancje'!$H$1:$BN$7,2,FALSE)),\"\")","v":""}]
[null,{"$f":"IFERROR(IF(A239=\"\",\"\",VLOOKUP(A239,'Lista Psychotropy Substancje'!$A$2:$B$60,2,FALSE)),\"\")","v":""},{"$f":"IFERROR(IF(A239=\"\",\"\",HLOOKUP(A239,'Lista Psychotropy Substancje'!$H$1:$BN$7,2,FALSE)),\"\")","v":""}]
[null,{"$f":"IFERROR(IF(A240=\"\",\"\",VLOOKUP(A240,'Lista Psychotropy Substancje'!$A$2:$B$60,2,FALSE)),\"\")","v":""},{"$f":"IFERROR(IF(A240=\"\",\"\",HLOOKUP(A240,'Lista Psychotropy Substancje'!$H$1:$BN$7,2,FALSE)),\"\")","v":""}]
[null,{"$f":"IFERROR(IF(A241=\"\",\"\",VLOOKUP(A241,'Lista Psychotropy Substancje'!$A$2:$B$60,2,FALSE)),\"\")","v":""},{"$f":"IFERROR(IF(A241=\"\",\"\",HLOOKUP(A241,'Lista Psychotropy Substancje'!$H$1:$BN$7,2,FALSE)),\"\")","v":""}]
[null,{"$f":"IFERROR(IF(A242=\"\",\"\",VLOOKUP(A242,'Lista Psychotropy Substancje'!$A$2:$B$60,2,FALSE)),\"\")","v":""},{"$f":"IFERROR(IF(A242=\"\",\"\",HLOOKUP(A242,'Lista Psychotropy Substancje'!$H$1:$BN$7,2,FALSE)),\"\")","v":""}]
[null,{"$f":"IFERROR(IF(A243=\"\",\"\",VLOOKUP(A243,'Lista Psychotropy Substancje'!$A$2:$B$60,2,FALSE)),\"\")","v":""},{"$f":"IFERROR(IF(A243=\"\",\"\",HLOOKUP(A243,'Lista Psychotropy Substancje'!$H$1:$BN$7,2,FALSE)),\"\")","v":""}]
[null,{"$f":"IFERROR(IF(A244=\"\",\"\",VLOOKUP(A244,'Lista Psychotropy Substancje'!$A$2:$B$60,2,FALSE)),\"\")","v":""},{"$f":"IFERROR(IF(A244=\"\",\"\",HLOOKUP(A244,'Lista Psychotropy Substancje'!$H$1:$BN$7,2,FALSE)),\"\")","v":""}]
[null,{"$f":"IFERROR(IF(A245=\"\",\"\",VLOOKUP(A245,'Lista Psychotropy Substancje'!$A$2:$B$60,2,FALSE)),\"\")","v":""},{"$f":"IFERROR(IF(A245=\"\",\"\",HLOOKUP(A245,'Lista Psychotropy Substancje'!$H$1:$BN$7,2,FALSE)),\"\")","v":""}]
[null,{"$f":"IFERROR(IF(A246=\"\",\"\",VLOOKUP(A246,'Lista Psychotropy Substancje'!$A$2:$B$60,2,FALSE)),\"\")","v":""},{"$f":"IFERROR(IF(A246=\"\",\"\",HLOOKUP(A246,'Lista Psychotropy Substancje'!$H$1:$BN$7,2,FALSE)),\"\")","v":""}]
[null,{"$f":"IFERROR(IF(A247=\"\",\"\",VLOOKUP(A247,'Lista Psychotropy Substancje'!$A$2:$B$60,2,FALSE)),\"\")","v":""},{"$f":"IFERROR(IF(A247=\"\",\"\",HLOOKUP(A247,'Lista Psychotropy Substancje'!$H$1:$BN$7,2,FALSE)),\"\")","v":""}]
[null,{"$f":"IFERROR(IF(A248=\"\",\"\",VLOOKUP(A248,'Lista Psychotropy Substancje'!$A$2:$B$60,2,FALSE)),\"\")","v":""},{"$f":"IFERROR(IF(A248=\"\",\"\",HLOOKUP(A248,'Lista Psychotropy Substancje'!$H$1:$BN$7,2,FALSE)),\"\")","v":""}]
[null,{"$f":"IFERROR(IF(A249=\"\",\"\",VLOOKUP(A249,'Lista Psychotropy Substancje'!$A$2:$B$60,2,FALSE)),\"\")","v":""},{"$f":"IFERROR(IF(A249=\"\",\"\",HLOOKUP(A249,'Lista Psychotropy Substancje'!$H$1:$BN$7,2,FALSE)),\"\")","v":""}]
[null,{"$f":"IFERROR(IF(A250=\"\",\"\",VLOOKUP(A250,'Lista Psychotropy Substancje'!$A$2:$B$60,2,FALSE)),\"\")","v":""},{"$f":"IFERROR(IF(A250=\"\",\"\",HLOOKUP(A250,'Lista Psychotropy Substancje'!$H$1:$BN$7,2,FALSE)),\"\")","v":""}]
[null,{"$f":"IFERROR(IF(A251=\"\",\"\",VLOOKUP(A251,'Lista Psychotropy Substancje'!$A$2:$B$60,2,FALSE)),\"\")","v":""},{"$f":"IFERROR(IF(A251=\"\",\"\",HLOOKUP(A251,'Lista Psychotropy Substancje'!$H$1:$BN$7,2,FALSE)),\"\")","v":""}]
[null,{"$f":"IFERROR(IF(A252=\"\",\"\",VLOOKUP(A252,'Lista Psychotropy Substancje'!$A$2:$B$60,2,FALSE)),\"\")","v":""},{"$f":"IFERROR(IF(A252=\"\",\"\",HLOOKUP(A252,'Lista Psychotropy Substancje'!$H$1:$BN$7,2,FALSE)),\"\")","v":""}]
[null,{"$f":"IFERROR(IF(A253=\"\",\"\",VLOOKUP(A253,'Lista Psychotropy Substancje'!$A$2:$B$60,2,FALSE)),\"\")","v":""},{"$f":"IFERROR(IF(A253=\"\",\"\",HLOOKUP(A253,'Lista Psychotropy Substancje'!$H$1:$BN$7,2,FALSE)),\"\")","v":""}]
[null,{"$f":"IFERROR(IF(A254=\"\",\"\",VLOOKUP(A254,'Lista Psychotropy Substancje'!$A$2:$B$60,2,FALSE)),\"\")","v":""},{"$f":"IFERROR(IF(A254=\"\",\"\",HLOOKUP(A254,'Lista Psychotropy Substancje'!$H$1:$BN$7,2,FALSE)),\"\")","v":""}]
[null,{"$f":"IFERROR(IF(A255=\"\",\"\",VLOOKUP(A255,'Lista Psychotropy Substancje'!$A$2:$B$60,2,FALSE)),\"\")","v":""},{"$f":"IFERROR(IF(A255=\"\",\"\",HLOOKUP(A255,'Lista Psychotropy Substancje'!$H$1:$BN$7,2,FALSE)),\"\")","v":""}]
[null,{"$f":"IFERROR(IF(A256=\"\",\"\",VLOOKUP(A256,'Lista Psychotropy Substancje'!$A$2:$B$60,2,FALSE)),\"\")","v":""},{"$f":"IFERROR(IF(A256=\"\",\"\",HLOOKUP(A256,'Lista Psychotropy Substancje'!$H$1:$BN$7,2,FALSE)),\"\")","v":""}]
[null,{"$f":"IFERROR(IF(A257=\"\",\"\",VLOOKUP(A257,'Lista Psychotropy Substancje'!$A$2:$B$60,2,FALSE)),\"\")","v":""},{"$f":"IFERROR(IF(A257=\"\",\"\",HLOOKUP(A257,'Lista Psychotropy Substancje'!$H$1:$BN$7,2,FALSE)),\"\")","v":""}]
[null,{"$f":"IFERROR(IF(A258=\"\",\"\",VLOOKUP(A258,'Lista Psychotropy Substancje'!$A$2:$B$60,2,FALSE)),\"\")","v":""},{"$f":"IFERROR(IF(A258=\"\",\"\",HLOOKUP(A258,'Lista Psychotropy Substancje'!$H$1:$BN$7,2,FALSE)),\"\")","v":""}]
[null,{"$f":"IFERROR(IF(A259=\"\",\"\",VLOOKUP(A259,'Lista Psychotropy Substancje'!$A$2:$B$60,2,FALSE)),\"\")","v":""},{"$f":"IFERROR(IF(A259=\"\",\"\",HLOOKUP(A259,'Lista Psychotropy Substancje'!$H$1:$BN$7,2,FALSE)),\"\")","v":""}]
[null,{"$f":"IFERROR(IF(A260=\"\",\"\",VLOOKUP(A260,'Lista Psychotropy Substancje'!$A$2:$B$60,2,FALSE)),\"\")","v":""},{"$f":"IFERROR(IF(A260=\"\",\"\",HLOOKUP(A260,'Lista Psychotropy Substancje'!$H$1:$BN$7,2,FALSE)),\"\")","v":""}]
[null,{"$f":"IFERROR(IF(A261=\"\",\"\",VLOOKUP(A261,'Lista Psychotropy Substancje'!$A$2:$B$60,2,FALSE)),\"\")","v":""},{"$f":"IFERROR(IF(A261=\"\",\"\",HLOOKUP(A261,'Lista Psychotropy Substancje'!$H$1:$BN$7,2,FALSE)),\"\")","v":""}]
[null,{"$f":"IFERROR(IF(A262=\"\",\"\",VLOOKUP(A262,'Lista Psychotropy Substancje'!$A$2:$B$60,2,FALSE)),\"\")","v":""},{"$f":"IFERROR(IF(A262=\"\",\"\",HLOOKUP(A262,'Lista Psychotropy Substancje'!$H$1:$BN$7,2,FALSE)),\"\")","v":""}]
[null,{"$f":"IFERROR(IF(A263=\"\",\"\",VLOOKUP(A263,'Lista Psychotropy Substancje'!$A$2:$B$60,2,FALSE)),\"\")","v":""},{"$f":"IFERROR(IF(A263=\"\",\"\",HLOOKUP(A263,'Lista Psychotropy Substancje'!$H$1:$BN$7,2,FALSE)),\"\")","v":""}]
[null,{"$f":"IFERROR(IF(A264=\"\",\"\",VLOOKUP(A264,'Lista Psychotropy Substancje'!$A$2:$B$60,2,FALSE)),\"\")","v":""},{"$f":"IFERROR(IF(A264=\"\",\"\",HLOOKUP(A264,'Lista Psychotropy Substancje'!$H$1:$BN$7,2,FALSE)),\"\")","v":""}]
[null,{"$f":"IFERROR(IF(A265=\"\",\"\",VLOOKUP(A265,'Lista Psychotropy Substancje'!$A$2:$B$60,2,FALSE)),\"\")","v":""},{"$f":"IFERROR(IF(A265=\"\",\"\",HLOOKUP(A265,'Lista Psychotropy Substancje'!$H$1:$BN$7,2,FALSE)),\"\")","v":""}]
[null,{"$f":"IFERROR(IF(A266=\"\",\"\",VLOOKUP(A266,'Lista Psychotropy Substancje'!$A$2:$B$60,2,FALSE)),\"\")","v":""},{"$f":"IFERROR(IF(A266=\"\",\"\",HLOOKUP(A266,'Lista Psychotropy Substancje'!$H$1:$BN$7,2,FALSE)),\"\")","v":""}]
[null,{"$f":"IFERROR(IF(A267=\"\",\"\",VLOOKUP(A267,'Lista Psychotropy Substancje'!$A$2:$B$60,2,FALSE)),\"\")","v":""},{"$f":"IFERROR(IF(A267=\"\",\"\",HLOOKUP(A267,'Lista Psychotropy Substancje'!$H$1:$BN$7,2,FALSE)),\"\")","v":""}]
[null,{"$f":"IFERROR(IF(A268=\"\",\"\",VLOOKUP(A268,'Lista Psychotropy Substancje'!$A$2:$B$60,2,FALSE)),\"\")","v":""},{"$f":"IFERROR(IF(A268=\"\",\"\",HLOOKUP(A268,'Lista Psychotropy Substancje'!$H$1:$BN$7,2,FALSE)),\"\")","v":""}]
[null,{"$f":"IFERROR(IF(A269=\"\",\"\",VLOOKUP(A269,'Lista Psychotropy Substancje'!$A$2:$B$60,2,FALSE)),\"\")","v":""},{"$f":"IFERROR(IF(A269=\"\",\"\",HLOOKUP(A269,'Lista Psychotropy Substancje'!$H$1:$BN$7,2,FALSE)),\"\")","v":""}]
[null,{"$f":"IFERROR(IF(A270=\"\",\"\",VLOOKUP(A270,'Lista Psychotropy Substancje'!$A$2:$B$60,2,FALSE)),\"\")","v":""},{"$f":"IFERROR(IF(A270=\"\",\"\",HLOOKUP(A270,'Lista Psychotropy Substancje'!$H$1:$BN$7,2,FALSE)),\"\")","v":""}]
[null,{"$f":"IFERROR(IF(A271=\"\",\"\",VLOOKUP(A271,'Lista Psychotropy Substancje'!$A$2:$B$60,2,FALSE)),\"\")","v":""},{"$f":"IFERROR(IF(A271=\"\",\"\",HLOOKUP(A271,'Lista Psychotropy Substancje'!$H$1:$BN$7,2,FALSE)),\"\")","v":""}]
[null,{"$f":"IFERROR(IF(A272=\"\",\"\",VLOOKUP(A272,'Lista Psychotropy Substancje'!$A$2:$B$60,2,FALSE)),\"\")","v":""},{"$f":"IFERROR(IF(A272=\"\",\"\",HLOOKUP(A272,'Lista Psychotropy Substancje'!$H$1:$BN$7,2,FALSE)),\"\")","v":""}]
[null,{"$f":"IFERROR(IF(A273=\"\",\"\",VLOOKUP(A273,'Lista Psychotropy Substancje'!$A$2:$B$60,2,FALSE)),\"\")","v":""},{"$f":"IFERROR(IF(A273=\"\",\"\",HLOOKUP(A273,'Lista Psychotropy Substancje'!$H$1:$BN$7,2,FALSE)),\"\")","v":""}]
[null,{"$f":"IFERROR(IF(A274=\"\",\"\",VLOOKUP(A274,'Lista Psychotropy Substancje'!$A$2:$B$60,2,FALSE)),\"\")","v":""},{"$f":"IFERROR(IF(A274=\"\",\"\",HLOOKUP(A274,'Lista Psychotropy Substancje'!$H$1:$BN$7,2,FALSE)),\"\")","v":""}]
[null,{"$f":"IFERROR(IF(A275=\"\",\"\",VLOOKUP(A275,'Lista Psychotropy Substancje'!$A$2:$B$60,2,FALSE)),\"\")","v":""},{"$f":"IFERROR(IF(A275=\"\",\"\",HLOOKUP(A275,'Lista Psychotropy Substancje'!$H$1:$BN$7,2,FALSE)),\"\")","v":""}]
[null,{"$f":"IFERROR(IF(A276=\"\",\"\",VLOOKUP(A276,'Lista Psychotropy Substancje'!$A$2:$B$60,2,FALSE)),\"\")","v":""},{"$f":"IFERROR(IF(A276=\"\",\"\",HLOOKUP(A276,'Lista Psychotropy Substancje'!$H$1:$BN$7,2,FALSE)),\"\")","v":""}]
[null,{"$f":"IFERROR(IF(A277=\"\",\"\",VLOOKUP(A277,'Lista Psychotropy Substancje'!$A$2:$B$60,2,FALSE)),\"\")","v":""},{"$f":"IFERROR(IF(A277=\"\",\"\",HLOOKUP(A277,'Lista Psychotropy Substancje'!$H$1:$BN$7,2,FALSE)),\"\")","v":""}]
[null,{"$f":"IFERROR(IF(A278=\"\",\"\",VLOOKUP(A278,'Lista Psychotropy Substancje'!$A$2:$B$60,2,FALSE)),\"\")","v":""},{"$f":"IFERROR(IF(A278=\"\",\"\",HLOOKUP(A278,'Lista Psychotropy Substancje'!$H$1:$BN$7,2,FALSE)),\"\")","v":""}]
[null,{"$f":"IFERROR(IF(A279=\"\",\"\",VLOOKUP(A279,'Lista Psychotropy Substancje'!$A$2:$B$60,2,FALSE)),\"\")","v":""},{"$f":"IFERROR(IF(A279=\"\",\"\",HLOOKUP(A279,'Lista Psychotropy Substancje'!$H$1:$BN$7,2,FALSE)),\"\")","v":""}]
[null,{"$f":"IFERROR(IF(A280=\"\",\"\",VLOOKUP(A280,'Lista Psychotropy Substancje'!$A$2:$B$60,2,FALSE)),\"\")","v":""},{"$f":"IFERROR(IF(A280=\"\",\"\",HLOOKUP(A280,'Lista Psychotropy Substancje'!$H$1:$BN$7,2,FALSE)),\"\")","v":""}]
[null,{"$f":"IFERROR(IF(A281=\"\",\"\",VLOOKUP(A281,'Lista Psychotropy Substancje'!$A$2:$B$60,2,FALSE)),\"\")","v":""},{"$f":"IFERROR(IF(A281=\"\",\"\",HLOOKUP(A281,'Lista Psychotropy Substancje'!$H$1:$BN$7,2,FALSE)),\"\")","v":""}]
[null,{"$f":"IFERROR(IF(A282=\"\",\"\",VLOOKUP(A282,'Lista Psychotropy Substancje'!$A$2:$B$60,2,FALSE)),\"\")","v":""},{"$f":"IFERROR(IF(A282=\"\",\"\",HLOOKUP(A282,'Lista Psychotropy Substancje'!$H$1:$BN$7,2,FALSE)),\"\")","v":""}]
[null,{"$f":"IFERROR(IF(A283=\"\",\"\",VLOOKUP(A283,'Lista Psychotropy Substancje'!$A$2:$B$60,2,FALSE)),\"\")","v":""},{"$f":"IFERROR(IF(A283=\"\",\"\",HLOOKUP(A283,'Lista Psychotropy Substancje'!$H$1:$BN$7,2,FALSE)),\"\")","v":""}]
[null,{"$f":"IFERROR(IF(A284=\"\",\"\",VLOOKUP(A284,'Lista Psychotropy Substancje'!$A$2:$B$60,2,FALSE)),\"\")","v":""},{"$f":"IFERROR(IF(A284=\"\",\"\",HLOOKUP(A284,'Lista Psychotropy Substancje'!$H$1:$BN$7,2,FALSE)),\"\")","v":""}]
[null,{"$f":"IFERROR(IF(A285=\"\",\"\",VLOOKUP(A285,'Lista Psychotropy Substancje'!$A$2:$B$60,2,FALSE)),\"\")","v":""},{"$f":"IFERROR(IF(A285=\"\",\"\",HLOOKUP(A285,'Lista Psychotropy Substancje'!$H$1:$BN$7,2,FALSE)),\"\")","v":""}]
[null,{"$f":"IFERROR(IF(A286=\"\",\"\",VLOOKUP(A286,'Lista Psychotropy Substancje'!$A$2:$B$60,2,FALSE)),\"\")","v":""},{"$f":"IFERROR(IF(A286=\"\",\"\",HLOOKUP(A286,'Lista Psychotropy Substancje'!$H$1:$BN$7,2,FALSE)),\"\")","v":""}]
[null,{"$f":"IFERROR(IF(A287=\"\",\"\",VLOOKUP(A287,'Lista Psychotropy Substancje'!$A$2:$B$60,2,FALSE)),\"\")","v":""},{"$f":"IFERROR(IF(A287=\"\",\"\",HLOOKUP(A287,'Lista Psychotropy Substancje'!$H$1:$BN$7,2,FALSE)),\"\")","v":""}]
[null,{"$f":"IFERROR(IF(A288=\"\",\"\",VLOOKUP(A288,'Lista Psychotropy Substancje'!$A$2:$B$60,2,FALSE)),\"\")","v":""},{"$f":"IFERROR(IF(A288=\"\",\"\",HLOOKUP(A288,'Lista Psychotropy Substancje'!$H$1:$BN$7,2,FALSE)),\"\")","v":""}]
[null,{"$f":"IFERROR(IF(A289=\"\",\"\",VLOOKUP(A289,'Lista Psychotropy Substancje'!$A$2:$B$60,2,FALSE)),\"\")","v":""},{"$f":"IFERROR(IF(A289=\"\",\"\",HLOOKUP(A289,'Lista Psychotropy Substancje'!$H$1:$BN$7,2,FALSE)),\"\")","v":""}]
[null,{"$f":"IFERROR(IF(A290=\"\",\"\",VLOOKUP(A290,'Lista Psychotropy Substancje'!$A$2:$B$60,2,FALSE)),\"\")","v":""},{"$f":"IFERROR(IF(A290=\"\",\"\",HLOOKUP(A290,'Lista Psychotropy Substancje'!$H$1:$BN$7,2,FALSE)),\"\")","v":""}]
[null,{"$f":"IFERROR(IF(A291=\"\",\"\",VLOOKUP(A291,'Lista Psychotropy Substancje'!$A$2:$B$60,2,FALSE)),\"\")","v":""},{"$f":"IFERROR(IF(A291=\"\",\"\",HLOOKUP(A291,'Lista Psychotropy Substancje'!$H$1:$BN$7,2,FALSE)),\"\")","v":""}]
[null,{"$f":"IFERROR(IF(A292=\"\",\"\",VLOOKUP(A292,'Lista Psychotropy Substancje'!$A$2:$B$60,2,FALSE)),\"\")","v":""},{"$f":"IFERROR(IF(A292=\"\",\"\",HLOOKUP(A292,'Lista Psychotropy Substancje'!$H$1:$BN$7,2,FALSE)),\"\")","v":""}]
[null,{"$f":"IFERROR(IF(A293=\"\",\"\",VLOOKUP(A293,'Lista Psychotropy Substancje'!$A$2:$B$60,2,FALSE)),\"\")","v":""},{"$f":"IFERROR(IF(A293=\"\",\"\",HLOOKUP(A293,'Lista Psychotropy Substancje'!$H$1:$BN$7,2,FALSE)),\"\")","v":""}]
[null,{"$f":"IFERROR(IF(A294=\"\",\"\",VLOOKUP(A294,'Lista Psychotropy Substancje'!$A$2:$B$60,2,FALSE)),\"\")","v":""},{"$f":"IFERROR(IF(A294=\"\",\"\",HLOOKUP(A294,'Lista Psychotropy Substancje'!$H$1:$BN$7,2,FALSE)),\"\")","v":""}]
[null,{"$f":"IFERROR(IF(A295=\"\",\"\",VLOOKUP(A295,'Lista Psychotropy Substancje'!$A$2:$B$60,2,FALSE)),\"\")","v":""},{"$f":"IFERROR(IF(A295=\"\",\"\",HLOOKUP(A295,'Lista Psychotropy Substancje'!$H$1:$BN$7,2,FALSE)),\"\")","v":""}]
[null,{"$f":"IFERROR(IF(A296=\"\",\"\",VLOOKUP(A296,'Lista Psychotropy Substancje'!$A$2:$B$60,2,FALSE)),\"\")","v":""},{"$f":"IFERROR(IF(A296=\"\",\"\",HLOOKUP(A296,'Lista Psychotropy Substancje'!$H$1:$BN$7,2,FALSE)),\"\")","v":""}]
[null,{"$f":"IFERROR(IF(A297=\"\",\"\",VLOOKUP(A297,'Lista Psychotropy Substancje'!$A$2:$B$60,2,FALSE)),\"\")","v":""},{"$f":"IFERROR(IF(A297=\"\",\"\",HLOOKUP(A297,'Lista Psychotropy Substancje'!$H$1:$BN$7,2,FALSE)),\"\")","v":""}]
[null,{"$f":"IFERROR(IF(A298=\"\",\"\",VLOOKUP(A298,'Lista Psychotropy Substancje'!$A$2:$B$60,2,FALSE)),\"\")","v":""},{"$f":"IFERROR(IF(A298=\"\",\"\",HLOOKUP(A298,'Lista Psychotropy Substancje'!$H$1:$BN$7,2,FALSE)),\"\")","v":""}]
[null,{"$f":"IFERROR(IF(A299=\"\",\"\",VLOOKUP(A299,'Lista Psychotropy Substancje'!$A$2:$B$60,2,FALSE)),\"\")","v":""},{"$f":"IFERROR(IF(A299=\"\",\"\",HLOOKUP(A299,'Lista Psychotropy Substancje'!$H$1:$BN$7,2,FALSE)),\"\")","v":""}]
[null,{"$f":"IFERROR(IF(A300=\"\",\"\",VLOOKUP(A300,'Lista Psychotropy Substancje'!$A$2:$B$60,2,FALSE)),\"\")","v":""},{"$f":"IFERROR(IF(A300=\"\",\"\",HLOOKUP(A300,'Lista Psychotropy Substancje'!$H$1:$BN$7,2,FALSE)),\"\")","v":""}]

{"sheet":"Prekursory Wzorce","index":18,"n_rows":9,"n_cols":13,"rows_kept":9,"cut":false,"hidden":true,"merged":[[5,0,5,12],[6,0,6,1],[6,2,8,2],[6,3,6,5],[6,6,6,10],[6,11,8,11],[6,12,8,12],[7,0,8,0],[7,1,8,1],[7,3,7,4],[7,5,8,5],[7,6,7,9],[7,10,8,10]]}
[]
[]
[]
[]
[]
["Roczne sprawozdanie z obrotu prekursorami"]
["Informacje o wzorcu",null,"Stan na dzień 01.01 okresu sprawozdawczego","Przychód",null,null,"Rozchód",null,null,null,null,"Utylizacja","Stan na dzień 31.12 okresu sprawozdawczego"]
["Międzynarodowa/Handlowa nazwa prekursora","Nazwa czystej postaci prekursora",null,"Ilość wzorca/substancji nabyta w kraju",null,"Wewnątrzwspólnotowe nabycie/przywóz","Ilość wzorca/substancji sprzedana w kraju",null,null,null,"Wewnątrzwspólnotowa dostawa/wywóz"]
[null,null,null,"Ilość wzorca/substancji nabyta od wytwórcy","Ilość wzorca/substancji nabyta od hurtowni farmaceutycznych",null,"Sprzedaż do obrotu detalicznego","Sprzedaż do hurtowni farmaceutycznych","Sprzedaż do działalności medycznej","Inna sprzedaż"]

{"sheet":"Prekursory Hurt sur","index":19,"n_rows":300,"n_cols":14,"rows_kept":300,"cut":false,"hidden":true,"merged":[[7,0,8,0],[7,6,8,6],[7,7,7,10],[7,11,8,11],[5,0,5,13],[6,3,8,3],[6,4,6,6],[6,7,6,11],[6,12,8,12],[6,13,8,13],[7,4,7,5],[6,0,6,2],[7,1,8,1],[7,2,8,2]]}
[]
[]
[]
[]
[]
["Roczne sprawozdanie z obrotu prekursorami"]
["Informacje o prekursorze kat. 1",null,null,"Stan na dzień 01.01 okresu sprawozdawczego","Przychód",null,null,"Rozchód",null,null,null,null,"Utylizacja","Stan na dzień 31.12 okresu sprawozdawczego"]
["Międzynarodowa/Handlowa nazwa prekursora","Nazwa czystej postaci prekursora","Ilość surowca w jednostkowym opakowaniu w gramach",null,"Ilość surowca nabyta w kraju",null,"Wewnątrzwspólnotowe nabycie/przywóz","Ilość surowca sprzedana w kraju",null,null,null,"Wewnątrzwspólnotowa dostawa/wywóz"]
[null,null,null,null,"Ilość surowca nabyta od wytwórcy","Ilość surowca nabyta od hurtowni farmaceutycznych",null,"Sprzedaż do obrotu detalicznego","Sprzedaż do hurtowni farmaceutycznych","Sprzedaż do działalności medycznej","Inna sprzedaż"]
[null,{"$f":"IFERROR(IF(A10=\"\",\"\",VLOOKUP(A10,'Lista Prekursory'!$A$2:$B$60,2,FALSE)),\"\")","v":""},{"$f":"IFERROR(IF(A10=\"\",\"\",HLOOKUP(A10,'Lista Prekursory'!$H$1:$BN$7,2,FALSE)),\"\")","v":""}]
[null,{"$f":"IFERROR(IF(A11=\"\",\"\",VLOOKUP(A11,'Lista Prekursory'!$A$2:$B$60,2,FALSE)),\"\")","v":""},{"$f":"IFERROR(IF(A11=\"\",\"\",HLOOKUP(A11,'Lista Prekursory'!$H$1:$BN$7,2,FALSE)),\"\")","v":""}]
[null,{"$f":"IFERROR(IF(A12=\"\",\"\",VLOOKUP(A12,'Lista Prekursory'!$A$2:$B$60,2,FALSE)),\"\")","v":""},{"$f":"IFERROR(IF(A12=\"\",\"\",HLOOKUP(A12,'Lista Prekursory'!$H$1:$BN$7,2,FALSE)),\"\")","v":""}]
[null,{"$f":"IFERROR(IF(A13=\"\",\"\",VLOOKUP(A13,'Lista Prekursory'!$A$2:$B$60,2,FALSE)),\"\")","v":""},{"$f":"IFERROR(IF(A13=\"\",\"\",HLOOKUP(A13,'Lista Prekursory'!$H$1:$BN$7,2,FALSE)),\"\")","v":""}]
[null,{"$f":"IFERROR(IF(A14=\"\",\"\",VLOOKUP(A14,'Lista Prekursory'!$A$2:$B$60,2,FALSE)),\"\")","v":""},{"$f":"IFERROR(IF(A14=\"\",\"\",HLOOKUP(A14,'Lista Prekursory'!$H$1:$BN$7,2,FALSE)),\"\")","v":""}]
[null,{"$f":"IFERROR(IF(A15=\"\",\"\",VLOOKUP(A15,'Lista Prekursory'!$A$2:$B$60,2,FALSE)),\"\")","v":""},{"$f":"IFERROR(IF(A15=\"\",\"\",HLOOKUP(A15,'Lista Prekursory'!$H$1:$BN$7,2,FALSE)),\"\")","v":""}]
[null,{"$f":"IFERROR(IF(A16=\"\",\"\",VLOOKUP(A16,'Lista Prekursory'!$A$2:$B$60,2,FALSE)),\"\")","v":""},{"$f":"IFERROR(IF(A16=\"\",\"\",HLOOKUP(A16,'Lista Prekursory'!$H$1:$BN$7,2,FALSE)),\"\")","v":""}]
[null,{"$f":"IFERROR(IF(A17=\"\",\"\",VLOOKUP(A17,'Lista Prekursory'!$A$2:$B$60,2,FALSE)),\"\")","v":""},{"$f":"IFERROR(IF(A17=\"\",\"\",HLOOKUP(A17,'Lista Prekursory'!$H$1:$BN$7,2,FALSE)),\"\")","v":""}]
[null,{"$f":"IFERROR(IF(A18=\"\",\"\",VLOOKUP(A18,'Lista Prekursory'!$A$2:$B$60,2,FALSE)),\"\")","v":""},{"$f":"IFERROR(IF(A18=\"\",\"\",HLOOKUP(A18,'Lista Prekursory'!$H$1:$BN$7,2,FALSE)),\"\")","v":""}]
[null,{"$f":"IFERROR(IF(A19=\"\",\"\",VLOOKUP(A19,'Lista Prekursory'!$A$2:$B$60,2,FALSE)),\"\")","v":""},{"$f":"IFERROR(IF(A19=\"\",\"\",HLOOKUP(A19,'Lista Prekursory'!$H$1:$BN$7,2,FALSE)),\"\")","v":""}]
[null,{"$f":"IFERROR(IF(A20=\"\",\"\",VLOOKUP(A20,'Lista Prekursory'!$A$2:$B$60,2,FALSE)),\"\")","v":""},{"$f":"IFERROR(IF(A20=\"\",\"\",HLOOKUP(A20,'Lista Prekursory'!$H$1:$BN$7,2,FALSE)),\"\")","v":""}]
[null,{"$f":"IFERROR(IF(A21=\"\",\"\",VLOOKUP(A21,'Lista Prekursory'!$A$2:$B$60,2,FALSE)),\"\")","v":""},{"$f":"IFERROR(IF(A21=\"\",\"\",HLOOKUP(A21,'Lista Prekursory'!$H$1:$BN$7,2,FALSE)),\"\")","v":""}]
[null,{"$f":"IFERROR(IF(A22=\"\",\"\",VLOOKUP(A22,'Lista Prekursory'!$A$2:$B$60,2,FALSE)),\"\")","v":""},{"$f":"IFERROR(IF(A22=\"\",\"\",HLOOKUP(A22,'Lista Prekursory'!$H$1:$BN$7,2,FALSE)),\"\")","v":""}]
[null,{"$f":"IFERROR(IF(A23=\"\",\"\",VLOOKUP(A23,'Lista Prekursory'!$A$2:$B$60,2,FALSE)),\"\")","v":""},{"$f":"IFERROR(IF(A23=\"\",\"\",HLOOKUP(A23,'Lista Prekursory'!$H$1:$BN$7,2,FALSE)),\"\")","v":""}]
[null,{"$f":"IFERROR(IF(A24=\"\",\"\",VLOOKUP(A24,'Lista Prekursory'!$A$2:$B$60,2,FALSE)),\"\")","v":""},{"$f":"IFERROR(IF(A24=\"\",\"\",HLOOKUP(A24,'Lista Prekursory'!$H$1:$BN$7,2,FALSE)),\"\")","v":""}]
[null,{"$f":"IFERROR(IF(A25=\"\",\"\",VLOOKUP(A25,'Lista Prekursory'!$A$2:$B$60,2,FALSE)),\"\")","v":""},{"$f":"IFERROR(IF(A25=\"\",\"\",HLOOKUP(A25,'Lista Prekursory'!$H$1:$BN$7,2,FALSE)),\"\")","v":""}]
[null,{"$f":"IFERROR(IF(A26=\"\",\"\",VLOOKUP(A26,'Lista Prekursory'!$A$2:$B$60,2,FALSE)),\"\")","v":""},{"$f":"IFERROR(IF(A26=\"\",\"\",HLOOKUP(A26,'Lista Prekursory'!$H$1:$BN$7,2,FALSE)),\"\")","v":""}]
[null,{"$f":"IFERROR(IF(A27=\"\",\"\",VLOOKUP(A27,'Lista Prekursory'!$A$2:$B$60,2,FALSE)),\"\")","v":""},{"$f":"IFERROR(IF(A27=\"\",\"\",HLOOKUP(A27,'Lista Prekursory'!$H$1:$BN$7,2,FALSE)),\"\")","v":""}]
[null,{"$f":"IFERROR(IF(A28=\"\",\"\",VLOOKUP(A28,'Lista Prekursory'!$A$2:$B$60,2,FALSE)),\"\")","v":""},{"$f":"IFERROR(IF(A28=\"\",\"\",HLOOKUP(A28,'Lista Prekursory'!$H$1:$BN$7,2,FALSE)),\"\")","v":""}]
[null,{"$f":"IFERROR(IF(A29=\"\",\"\",VLOOKUP(A29,'Lista Prekursory'!$A$2:$B$60,2,FALSE)),\"\")","v":""},{"$f":"IFERROR(IF(A29=\"\",\"\",HLOOKUP(A29,'Lista Prekursory'!$H$1:$BN$7,2,FALSE)),\"\")","v":""}]
[null,{"$f":"IFERROR(IF(A30=\"\",\"\",VLOOKUP(A30,'Lista Prekursory'!$A$2:$B$60,2,FALSE)),\"\")","v":""},{"$f":"IFERROR(IF(A30=\"\",\"\",HLOOKUP(A30,'Lista Prekursory'!$H$1:$BN$7,2,FALSE)),\"\")","v":""}]
[null,{"$f":"IFERROR(IF(A31=\"\",\"\",VLOOKUP(A31,'Lista Prekursory'!$A$2:$B$60,2,FALSE)),\"\")","v":""},{"$f":"IFERROR(IF(A31=\"\",\"\",HLOOKUP(A31,'Lista Prekursory'!$H$1:$BN$7,2,FALSE)),\"\")","v":""}]
[null,{"$f":"IFERROR(IF(A32=\"\",\"\",VLOOKUP(A32,'Lista Prekursory'!$A$2:$B$60,2,FALSE)),\"\")","v":""},{"$f":"IFERROR(IF(A32=\"\",\"\",HLOOKUP(A32,'Lista Prekursory'!$H$1:$BN$7,2,FALSE)),\"\")","v":""}]
[null,{"$f":"IFERROR(IF(A33=\"\",\"\",VLOOKUP(A33,'Lista Prekursory'!$A$2:$B$60,2,FALSE)),\"\")","v":""},{"$f":"IFERROR(IF(A33=\"\",\"\",HLOOKUP(A33,'Lista Prekursory'!$H$1:$BN$7,2,FALSE)),\"\")","v":""}]
[null,{"$f":"IFERROR(IF(A34=\"\",\"\",VLOOKUP(A34,'Lista Prekursory'!$A$2:$B$60,2,FALSE)),\"\")","v":""},{"$f":"IFERROR(IF(A34=\"\",\"\",HLOOKUP(A34,'Lista Prekursory'!$H$1:$BN$7,2,FALSE)),\"\")","v":""}]
[null,{"$f":"IFERROR(IF(A35=\"\",\"\",VLOOKUP(A35,'Lista Prekursory'!$A$2:$B$60,2,FALSE)),\"\")","v":""},{"$f":"IFERROR(IF(A35=\"\",\"\",HLOOKUP(A35,'Lista Prekursory'!$H$1:$BN$7,2,FALSE)),\"\")","v":""}]
[null,{"$f":"IFERROR(IF(A36=\"\",\"\",VLOOKUP(A36,'Lista Prekursory'!$A$2:$B$60,2,FALSE)),\"\")","v":""},{"$f":"IFERROR(IF(A36=\"\",\"\",HLOOKUP(A36,'Lista Prekursory'!$H$1:$BN$7,2,FALSE)),\"\")","v":""}]
[null,{"$f":"IFERROR(IF(A37=\"\",\"\",VLOOKUP(A37,'Lista Prekursory'!$A$2:$B$60,2,FALSE)),\"\")","v":""},{"$f":"IFERROR(IF(A37=\"\",\"\",HLOOKUP(A37,'Lista Prekursory'!$H$1:$BN$7,2,FALSE)),\"\")","v":""}]
[null,{"$f":"IFERROR(IF(A38=\"\",\"\",VLOOKUP(A38,'Lista Prekursory'!$A$2:$B$60,2,FALSE)),\"\")","v":""},{"$f":"IFERROR(IF(A38=\"\",\"\",HLOOKUP(A38,'Lista Prekursory'!$H$1:$BN$7,2,FALSE)),\"\")","v":""}]
[null,{"$f":"IFERROR(IF(A39=\"\",\"\",VLOOKUP(A39,'Lista Prekursory'!$A$2:$B$60,2,FALSE)),\"\")","v":""},{"$f":"IFERROR(IF(A39=\"\",\"\",HLOOKUP(A39,'Lista Prekursory'!$H$1:$BN$7,2,FALSE)),\"\")","v":""}]
[null,{"$f":"IFERROR(IF(A40=\"\",\"\",VLOOKUP(A40,'Lista Prekursory'!$A$2:$B$60,2,FALSE)),\"\")","v":""},{"$f":"IFERROR(IF(A40=\"\",\"\",HLOOKUP(A40,'Lista Prekursory'!$H$1:$BN$7,2,FALSE)),\"\")","v":""}]
[null,{"$f":"IFERROR(IF(A41=\"\",\"\",VLOOKUP(A41,'Lista Prekursory'!$A$2:$B$60,2,FALSE)),\"\")","v":""},{"$f":"IFERROR(IF(A41=\"\",\"\",HLOOKUP(A41,'Lista Prekursory'!$H$1:$BN$7,2,FALSE)),\"\")","v":""}]
[null,{"$f":"IFERROR(IF(A42=\"\",\"\",VLOOKUP(A42,'Lista Prekursory'!$A$2:$B$60,2,FALSE)),\"\")","v":""},{"$f":"IFERROR(IF(A42=\"\",\"\",HLOOKUP(A42,'Lista Prekursory'!$H$1:$BN$7,2,FALSE)),\"\")","v":""}]
[null,{"$f":"IFERROR(IF(A43=\"\",\"\",VLOOKUP(A43,'Lista Prekursory'!$A$2:$B$60,2,FALSE)),\"\")","v":""},{"$f":"IFERROR(IF(A43=\"\",\"\",HLOOKUP(A43,'Lista Prekursory'!$H$1:$BN$7,2,FALSE)),\"\")","v":""}]
[null,{"$f":"IFERROR(IF(A44=\"\",\"\",VLOOKUP(A44,'Lista Prekursory'!$A$2:$B$60,2,FALSE)),\"\")","v":""},{"$f":"IFERROR(IF(A44=\"\",\"\",HLOOKUP(A44,'Lista Prekursory'!$H$1:$BN$7,2,FALSE)),\"\")","v":""}]
[null,{"$f":"IFERROR(IF(A45=\"\",\"\",VLOOKUP(A45,'Lista Prekursory'!$A$2:$B$60,2,FALSE)),\"\")","v":""},{"$f":"IFERROR(IF(A45=\"\",\"\",HLOOKUP(A45,'Lista Prekursory'!$H$1:$BN$7,2,FALSE)),\"\")","v":""}]
[null,{"$f":"IFERROR(IF(A46=\"\",\"\",VLOOKUP(A46,'Lista Prekursory'!$A$2:$B$60,2,FALSE)),\"\")","v":""},{"$f":"IFERROR(IF(A46=\"\",\"\",HLOOKUP(A46,'Lista Prekursory'!$H$1:$BN$7,2,FALSE)),\"\")","v":""}]
[null,{"$f":"IFERROR(IF(A47=\"\",\"\",VLOOKUP(A47,'Lista Prekursory'!$A$2:$B$60,2,FALSE)),\"\")","v":""},{"$f":"IFERROR(IF(A47=\"\",\"\",HLOOKUP(A47,'Lista Prekursory'!$H$1:$BN$7,2,FALSE)),\"\")","v":""}]
[null,{"$f":"IFERROR(IF(A48=\"\",\"\",VLOOKUP(A48,'Lista Prekursory'!$A$2:$B$60,2,FALSE)),\"\")","v":""},{"$f":"IFERROR(IF(A48=\"\",\"\",HLOOKUP(A48,'Lista Prekursory'!$H$1:$BN$7,2,FALSE)),\"\")","v":""}]
[null,{"$f":"IFERROR(IF(A49=\"\",\"\",VLOOKUP(A49,'Lista Prekursory'!$A$2:$B$60,2,FALSE)),\"\")","v":""},{"$f":"IFERROR(IF(A49=\"\",\"\",HLOOKUP(A49,'Lista Prekursory'!$H$1:$BN$7,2,FALSE)),\"\")","v":""}]
[null,{"$f":"IFERROR(IF(A50=\"\",\"\",VLOOKUP(A50,'Lista Prekursory'!$A$2:$B$60,2,FALSE)),\"\")","v":""},{"$f":"IFERROR(IF(A50=\"\",\"\",HLOOKUP(A50,'Lista Prekursory'!$H$1:$BN$7,2,FALSE)),\"\")","v":""}]
[null,{"$f":"IFERROR(IF(A51=\"\",\"\",VLOOKUP(A51,'Lista Prekursory'!$A$2:$B$60,2,FALSE)),\"\")","v":""},{"$f":"IFERROR(IF(A51=\"\",\"\",HLOOKUP(A51,'Lista Prekursory'!$H$1:$BN$7,2,FALSE)),\"\")","v":""}]
[null,{"$f":"IFERROR(IF(A52=\"\",\"\",VLOOKUP(A52,'Lista Prekursory'!$A$2:$B$60,2,FALSE)),\"\")","v":""},{"$f":"IFERROR(IF(A52=\"\",\"\",HLOOKUP(A52,'Lista Prekursory'!$H$1:$BN$7,2,FALSE)),\"\")","v":""}]
[null,{"$f":"IFERROR(IF(A53=\"\",\"\",VLOOKUP(A53,'Lista Prekursory'!$A$2:$B$60,2,FALSE)),\"\")","v":""},{"$f":"IFERROR(IF(A53=\"\",\"\",HLOOKUP(A53,'Lista Prekursory'!$H$1:$BN$7,2,FALSE)),\"\")","v":""}]
[null,{"$f":"IFERROR(IF(A54=\"\",\"\",VLOOKUP(A54,'Lista Prekursory'!$A$2:$B$60,2,FALSE)),\"\")","v":""},{"$f":"IFERROR(IF(A54=\"\",\"\",HLOOKUP(A54,'Lista Prekursory'!$H$1:$BN$7,2,FALSE)),\"\")","v":""}]
[null,{"$f":"IFERROR(IF(A55=\"\",\"\",VLOOKUP(A55,'Lista Prekursory'!$A$2:$B$60,2,FALSE)),\"\")","v":""},{"$f":"IFERROR(IF(A55=\"\",\"\",HLOOKUP(A55,'Lista Prekursory'!$H$1:$BN$7,2,FALSE)),\"\")","v":""}]
[null,{"$f":"IFERROR(IF(A56=\"\",\"\",VLOOKUP(A56,'Lista Prekursory'!$A$2:$B$60,2,FALSE)),\"\")","v":""},{"$f":"IFERROR(IF(A56=\"\",\"\",HLOOKUP(A56,'Lista Prekursory'!$H$1:$BN$7,2,FALSE)),\"\")","v":""}]
[null,{"$f":"IFERROR(IF(A57=\"\",\"\",VLOOKUP(A57,'Lista Prekursory'!$A$2:$B$60,2,FALSE)),\"\")","v":""},{"$f":"IFERROR(IF(A57=\"\",\"\",HLOOKUP(A57,'Lista Prekursory'!$H$1:$BN$7,2,FALSE)),\"\")","v":""}]
[null,{"$f":"IFERROR(IF(A58=\"\",\"\",VLOOKUP(A58,'Lista Prekursory'!$A$2:$B$60,2,FALSE)),\"\")","v":""},{"$f":"IFERROR(IF(A58=\"\",\"\",HLOOKUP(A58,'Lista Prekursory'!$H$1:$BN$7,2,FALSE)),\"\")","v":""}]
[null,{"$f":"IFERROR(IF(A59=\"\",\"\",VLOOKUP(A59,'Lista Prekursory'!$A$2:$B$60,2,FALSE)),\"\")","v":""},{"$f":"IFERROR(IF(A59=\"\",\"\",HLOOKUP(A59,'Lista Prekursory'!$H$1:$BN$7,2,FALSE)),\"\")","v":""}]
[null,{"$f":"IFERROR(IF(A60=\"\",\"\",VLOOKUP(A60,'Lista Prekursory'!$A$2:$B$60,2,FALSE)),\"\")","v":""},{"$f":"IFERROR(IF(A60=\"\",\"\",HLOOKUP(A60,'Lista Prekursory'!$H$1:$BN$7,2,FALSE)),\"\")","v":""}]
[null,{"$f":"IFERROR(IF(A61=\"\",\"\",VLOOKUP(A61,'Lista Prekursory'!$A$2:$B$60,2,FALSE)),\"\")","v":""},{"$f":"IFERROR(IF(A61=\"\",\"\",HLOOKUP(A61,'Lista Prekursory'!$H$1:$BN$7,2,FALSE)),\"\")","v":""}]
[null,{"$f":"IFERROR(IF(A62=\"\",\"\",VLOOKUP(A62,'Lista Prekursory'!$A$2:$B$60,2,FALSE)),\"\")","v":""},{"$f":"IFERROR(IF(A62=\"\",\"\",HLOOKUP(A62,'Lista Prekursory'!$H$1:$BN$7,2,FALSE)),\"\")","v":""}]
[null,{"$f":"IFERROR(IF(A63=\"\",\"\",VLOOKUP(A63,'Lista Prekursory'!$A$2:$B$60,2,FALSE)),\"\")","v":""},{"$f":"IFERROR(IF(A63=\"\",\"\",HLOOKUP(A63,'Lista Prekursory'!$H$1:$BN$7,2,FALSE)),\"\")","v":""}]
[null,{"$f":"IFERROR(IF(A64=\"\",\"\",VLOOKUP(A64,'Lista Prekursory'!$A$2:$B$60,2,FALSE)),\"\")","v":""},{"$f":"IFERROR(IF(A64=\"\",\"\",HLOOKUP(A64,'Lista Prekursory'!$H$1:$BN$7,2,FALSE)),\"\")","v":""}]
[null,{"$f":"IFERROR(IF(A65=\"\",\"\",VLOOKUP(A65,'Lista Prekursory'!$A$2:$B$60,2,FALSE)),\"\")","v":""},{"$f":"IFERROR(IF(A65=\"\",\"\",HLOOKUP(A65,'Lista Prekursory'!$H$1:$BN$7,2,FALSE)),\"\")","v":""}]
[null,{"$f":"IFERROR(IF(A66=\"\",\"\",VLOOKUP(A66,'Lista Prekursory'!$A$2:$B$60,2,FALSE)),\"\")","v":""},{"$f":"IFERROR(IF(A66=\"\",\"\",HLOOKUP(A66,'Lista Prekursory'!$H$1:$BN$7,2,FALSE)),\"\")","v":""}]
[null,{"$f":"IFERROR(IF(A67=\"\",\"\",VLOOKUP(A67,'Lista Prekursory'!$A$2:$B$60,2,FALSE)),\"\")","v":""},{"$f":"IFERROR(IF(A67=\"\",\"\",HLOOKUP(A67,'Lista Prekursory'!$H$1:$BN$7,2,FALSE)),\"\")","v":""}]
[null,{"$f":"IFERROR(IF(A68=\"\",\"\",VLOOKUP(A68,'Lista Prekursory'!$A$2:$B$60,2,FALSE)),\"\")","v":""},{"$f":"IFERROR(IF(A68=\"\",\"\",HLOOKUP(A68,'Lista Prekursory'!$H$1:$BN$7,2,FALSE)),\"\")","v":""}]
[null,{"$f":"IFERROR(IF(A69=\"\",\"\",VLOOKUP(A69,'Lista Prekursory'!$A$2:$B$60,2,FALSE)),\"\")","v":""},{"$f":"IFERROR(IF(A69=\"\",\"\",HLOOKUP(A69,'Lista Prekursory'!$H$1:$BN$7,2,FALSE)),\"\")","v":""}]
[null,{"$f":"IFERROR(IF(A70=\"\",\"\",VLOOKUP(A70,'Lista Prekursory'!$A$2:$B$60,2,FALSE)),\"\")","v":""},{"$f":"IFERROR(IF(A70=\"\",\"\",HLOOKUP(A70,'Lista Prekursory'!$H$1:$BN$7,2,FALSE)),\"\")","v":""}]
[null,{"$f":"IFERROR(IF(A71=\"\",\"\",VLOOKUP(A71,'Lista Prekursory'!$A$2:$B$60,2,FALSE)),\"\")","v":""},{"$f":"IFERROR(IF(A71=\"\",\"\",HLOOKUP(A71,'Lista Prekursory'!$H$1:$BN$7,2,FALSE)),\"\")","v":""}]
[null,{"$f":"IFERROR(IF(A72=\"\",\"\",VLOOKUP(A72,'Lista Prekursory'!$A$2:$B$60,2,FALSE)),\"\")","v":""},{"$f":"IFERROR(IF(A72=\"\",\"\",HLOOKUP(A72,'Lista Prekursory'!$H$1:$BN$7,2,FALSE)),\"\")","v":""}]
[null,{"$f":"IFERROR(IF(A73=\"\",\"\",VLOOKUP(A73,'Lista Prekursory'!$A$2:$B$60,2,FALSE)),\"\")","v":""},{"$f":"IFERROR(IF(A73=\"\",\"\",HLOOKUP(A73,'Lista Prekursory'!$H$1:$BN$7,2,FALSE)),\"\")","v":""}]
[null,{"$f":"IFERROR(IF(A74=\"\",\"\",VLOOKUP(A74,'Lista Prekursory'!$A$2:$B$60,2,FALSE)),\"\")","v":""},{"$f":"IFERROR(IF(A74=\"\",\"\",HLOOKUP(A74,'Lista Prekursory'!$H$1:$BN$7,2,FALSE)),\"\")","v":""}]
[null,{"$f":"IFERROR(IF(A75=\"\",\"\",VLOOKUP(A75,'Lista Prekursory'!$A$2:$B$60,2,FALSE)),\"\")","v":""},{"$f":"IFERROR(IF(A75=\"\",\"\",HLOOKUP(A75,'Lista Prekursory'!$H$1:$BN$7,2,FALSE)),\"\")","v":""}]
[null,{"$f":"IFERROR(IF(A76=\"\",\"\",VLOOKUP(A76,'Lista Prekursory'!$A$2:$B$60,2,FALSE)),\"\")","v":""},{"$f":"IFERROR(IF(A76=\"\",\"\",HLOOKUP(A76,'Lista Prekursory'!$H$1:$BN$7,2,FALSE)),\"\")","v":""}]
[null,{"$f":"IFERROR(IF(A77=\"\",\"\",VLOOKUP(A77,'Lista Prekursory'!$A$2:$B$60,2,FALSE)),\"\")","v":""},{"$f":"IFERROR(IF(A77=\"\",\"\",HLOOKUP(A77,'Lista Prekursory'!$H$1:$BN$7,2,FALSE)),\"\")","v":""}]
[null,{"$f":"IFERROR(IF(A78=\"\",\"\",VLOOKUP(A78,'Lista Prekursory'!$A$2:$B$60,2,FALSE)),\"\")","v":""},{"$f":"IFERROR(IF(A78=\"\",\"\",HLOOKUP(A78,'Lista Prekursory'!$H$1:$BN$7,2,FALSE)),\"\")","v":""}]
[null,{"$f":"IFERROR(IF(A79=\"\",\"\",VLOOKUP(A79,'Lista Prekursory'!$A$2:$B$60,2,FALSE)),\"\")","v":""},{"$f":"IFERROR(IF(A79=\"\",\"\",HLOOKUP(A79,'Lista Prekursory'!$H$1:$BN$7,2,FALSE)),\"\")","v":""}]
[null,{"$f":"IFERROR(IF(A80=\"\",\"\",VLOOKUP(A80,'Lista Prekursory'!$A$2:$B$60,2,FALSE)),\"\")","v":""},{"$f":"IFERROR(IF(A80=\"\",\"\",HLOOKUP(A80,'Lista Prekursory'!$H$1:$BN$7,2,FALSE)),\"\")","v":""}]
[null,{"$f":"IFERROR(IF(A81=\"\",\"\",VLOOKUP(A81,'Lista Prekursory'!$A$2:$B$60,2,FALSE)),\"\")","v":""},{"$f":"IFERROR(IF(A81=\"\",\"\",HLOOKUP(A81,'Lista Prekursory'!$H$1:$BN$7,2,FALSE)),\"\")","v":""}]
[null,{"$f":"IFERROR(IF(A82=\"\",\"\",VLOOKUP(A82,'Lista Prekursory'!$A$2:$B$60,2,FALSE)),\"\")","v":""},{"$f":"IFERROR(IF(A82=\"\",\"\",HLOOKUP(A82,'Lista Prekursory'!$H$1:$BN$7,2,FALSE)),\"\")","v":""}]
[null,{"$f":"IFERROR(IF(A83=\"\",\"\",VLOOKUP(A83,'Lista Prekursory'!$A$2:$B$60,2,FALSE)),\"\")","v":""},{"$f":"IFERROR(IF(A83=\"\",\"\",HLOOKUP(A83,'Lista Prekursory'!$H$1:$BN$7,2,FALSE)),\"\")","v":""}]
[null,{"$f":"IFERROR(IF(A84=\"\",\"\",VLOOKUP(A84,'Lista Prekursory'!$A$2:$B$60,2,FALSE)),\"\")","v":""},{"$f":"IFERROR(IF(A84=\"\",\"\",HLOOKUP(A84,'Lista Prekursory'!$H$1:$BN$7,2,FALSE)),\"\")","v":""}]
[null,{"$f":"IFERROR(IF(A85=\"\",\"\",VLOOKUP(A85,'Lista Prekursory'!$A$2:$B$60,2,FALSE)),\"\")","v":""},{"$f":"IFERROR(IF(A85=\"\",\"\",HLOOKUP(A85,'Lista Prekursory'!$H$1:$BN$7,2,FALSE)),\"\")","v":""}]
[null,{"$f":"IFERROR(IF(A86=\"\",\"\",VLOOKUP(A86,'Lista Prekursory'!$A$2:$B$60,2,FALSE)),\"\")","v":""},{"$f":"IFERROR(IF(A86=\"\",\"\",HLOOKUP(A86,'Lista Prekursory'!$H$1:$BN$7,2,FALSE)),\"\")","v":""}]
[null,{"$f":"IFERROR(IF(A87=\"\",\"\",VLOOKUP(A87,'Lista Prekursory'!$A$2:$B$60,2,FALSE)),\"\")","v":""},{"$f":"IFERROR(IF(A87=\"\",\"\",HLOOKUP(A87,'Lista Prekursory'!$H$1:$BN$7,2,FALSE)),\"\")","v":""}]
[null,{"$f":"IFERROR(IF(A88=\"\",\"\",VLOOKUP(A88,'Lista Prekursory'!$A$2:$B$60,2,FALSE)),\"\")","v":""},{"$f":"IFERROR(IF(A88=\"\",\"\",HLOOKUP(A88,'Lista Prekursory'!$H$1:$BN$7,2,FALSE)),\"\")","v":""}]
[null,{"$f":"IFERROR(IF(A89=\"\",\"\",VLOOKUP(A89,'Lista Prekursory'!$A$2:$B$60,2,FALSE)),\"\")","v":""},{"$f":"IFERROR(IF(A89=\"\",\"\",HLOOKUP(A89,'Lista Prekursory'!$H$1:$BN$7,2,FALSE)),\"\")","v":""}]
[null,{"$f":"IFERROR(IF(A90=\"\",\"\",VLOOKUP(A90,'Lista Prekursory'!$A$2:$B$60,2,FALSE)),\"\")","v":""},{"$f":"IFERROR(IF(A90=\"\",\"\",HLOOKUP(A90,'Lista Prekursory'!$H$1:$BN$7,2,FALSE)),\"\")","v":""}]
[null,{"$f":"IFERROR(IF(A91=\"\",\"\",VLOOKUP(A91,'Lista Prekursory'!$A$2:$B$60,2,FALSE)),\"\")","v":""},{"$f":"IFERROR(IF(A91=\"\",\"\",HLOOKUP(A91,'Lista Prekursory'!$H$1:$BN$7,2,FALSE)),\"\")","v":""}]
[null,{"$f":"IFERROR(IF(A92=\"\",\"\",VLOOKUP(A92,'Lista Prekursory'!$A$2:$B$60,2,FALSE)),\"\")","v":""},{"$f":"IFERROR(IF(A92=\"\",\"\",HLOOKUP(A92,'Lista Prekursory'!$H$1:$BN$7,2,FALSE)),\"\")","v":""}]
[null,{"$f":"IFERROR(IF(A93=\"\",\"\",VLOOKUP(A93,'Lista Prekursory'!$A$2:$B$60,2,FALSE)),\"\")","v":""},{"$f":"IFERROR(IF(A93=\"\",\"\",HLOOKUP(A93,'Lista Prekursory'!$H$1:$BN$7,2,FALSE)),\"\")","v":""}]
[null,{"$f":"IFERROR(IF(A94=\"\",\"\",VLOOKUP(A94,'Lista Prekursory'!$A$2:$B$60,2,FALSE)),\"\")","v":""},{"$f":"IFERROR(IF(A94=\"\",\"\",HLOOKUP(A94,'Lista Prekursory'!$H$1:$BN$7,2,FALSE)),\"\")","v":""}]
[null,{"$f":"IFERROR(IF(A95=\"\",\"\",VLOOKUP(A95,'Lista Prekursory'!$A$2:$B$60,2,FALSE)),\"\")","v":""},{"$f":"IFERROR(IF(A95=\"\",\"\",HLOOKUP(A95,'Lista Prekursory'!$H$1:$BN$7,2,FALSE)),\"\")","v":""}]
[null,{"$f":"IFERROR(IF(A96=\"\",\"\",VLOOKUP(A96,'Lista Prekursory'!$A$2:$B$60,2,FALSE)),\"\")","v":""},{"$f":"IFERROR(IF(A96=\"\",\"\",HLOOKUP(A96,'Lista Prekursory'!$H$1:$BN$7,2,FALSE)),\"\")","v":""}]
[null,{"$f":"IFERROR(IF(A97=\"\",\"\",VLOOKUP(A97,'Lista Prekursory'!$A$2:$B$60,2,FALSE)),\"\")","v":""},{"$f":"IFERROR(IF(A97=\"\",\"\",HLOOKUP(A97,'Lista Prekursory'!$H$1:$BN$7,2,FALSE)),\"\")","v":""}]
[null,{"$f":"IFERROR(IF(A98=\"\",\"\",VLOOKUP(A98,'Lista Prekursory'!$A$2:$B$60,2,FALSE)),\"\")","v":""},{"$f":"IFERROR(IF(A98=\"\",\"\",HLOOKUP(A98,'Lista Prekursory'!$H$1:$BN$7,2,FALSE)),\"\")","v":""}]
[null,{"$f":"IFERROR(IF(A99=\"\",\"\",VLOOKUP(A99,'Lista Prekursory'!$A$2:$B$60,2,FALSE)),\"\")","v":""},{"$f":"IFERROR(IF(A99=\"\",\"\",HLOOKUP(A99,'Lista Prekursory'!$H$1:$BN$7,2,FALSE)),\"\")","v":""}]
[null,{"$f":"IFERROR(IF(A100=\"\",\"\",VLOOKUP(A100,'Lista Prekursory'!$A$2:$B$60,2,FALSE)),\"\")","v":""},{"$f":"IFERROR(IF(A100=\"\",\"\",HLOOKUP(A100,'Lista Prekursory'!$H$1:$BN$7,2,FALSE)),\"\")","v":""}]
[null,{"$f":"IFERROR(IF(A101=\"\",\"\",VLOOKUP(A101,'Lista Prekursory'!$A$2:$B$60,2,FALSE)),\"\")","v":""},{"$f":"IFERROR(IF(A101=\"\",\"\",HLOOKUP(A101,'Lista Prekursory'!$H$1:$BN$7,2,FALSE)),\"\")","v":""}]
[null,{"$f":"IFERROR(IF(A102=\"\",\"\",VLOOKUP(A102,'Lista Prekursory'!$A$2:$B$60,2,FALSE)),\"\")","v":""},{"$f":"IFERROR(IF(A102=\"\",\"\",HLOOKUP(A102,'Lista Prekursory'!$H$1:$BN$7,2,FALSE)),\"\")","v":""}]
[null,{"$f":"IFERROR(IF(A103=\"\",\"\",VLOOKUP(A103,'Lista Prekursory'!$A$2:$B$60,2,FALSE)),\"\")","v":""},{"$f":"IFERROR(IF(A103=\"\",\"\",HLOOKUP(A103,'Lista Prekursory'!$H$1:$BN$7,2,FALSE)),\"\")","v":""}]
[null,{"$f":"IFERROR(IF(A104=\"\",\"\",VLOOKUP(A104,'Lista Prekursory'!$A$2:$B$60,2,FALSE)),\"\")","v":""},{"$f":"IFERROR(IF(A104=\"\",\"\",HLOOKUP(A104,'Lista Prekursory'!$H$1:$BN$7,2,FALSE)),\"\")","v":""}]
[null,{"$f":"IFERROR(IF(A105=\"\",\"\",VLOOKUP(A105,'Lista Prekursory'!$A$2:$B$60,2,FALSE)),\"\")","v":""},{"$f":"IFERROR(IF(A105=\"\",\"\",HLOOKUP(A105,'Lista Prekursory'!$H$1:$BN$7,2,FALSE)),\"\")","v":""}]
[null,{"$f":"IFERROR(IF(A106=\"\",\"\",VLOOKUP(A106,'Lista Prekursory'!$A$2:$B$60,2,FALSE)),\"\")","v":""},{"$f":"IFERROR(IF(A106=\"\",\"\",HLOOKUP(A106,'Lista Prekursory'!$H$1:$BN$7,2,FALSE)),\"\")","v":""}]
[null,{"$f":"IFERROR(IF(A107=\"\",\"\",VLOOKUP(A107,'Lista Prekursory'!$A$2:$B$60,2,FALSE)),\"\")","v":""},{"$f":"IFERROR(IF(A107=\"\",\"\",HLOOKUP(A107,'Lista Prekursory'!$H$1:$BN$7,2,FALSE)),\"\")","v":""}]
[null,{"$f":"IFERROR(IF(A108=\"\",\"\",VLOOKUP(A108,'Lista Prekursory'!$A$2:$B$60,2,FALSE)),\"\")","v":""},{"$f":"IFERROR(IF(A108=\"\",\"\",HLOOKUP(A108,'Lista Prekursory'!$H$1:$BN$7,2,FALSE)),\"\")","v":""}]
[null,{"$f":"IFERROR(IF(A109=\"\",\"\",VLOOKUP(A109,'Lista Prekursory'!$A$2:$B$60,2,FALSE)),\"\")","v":""},{"$f":"IFERROR(IF(A109=\"\",\"\",HLOOKUP(A109,'Lista Prekursory'!$H$1:$BN$7,2,FALSE)),\"\")","v":""}]
[null,{"$f":"IFERROR(IF(A110=\"\",\"\",VLOOKUP(A110,'Lista Prekursory'!$A$2:$B$60,2,FALSE)),\"\")","v":""},{"$f":"IFERROR(IF(A110=\"\",\"\",HLOOKUP(A110,'Lista Prekursory'!$H$1:$BN$7,2,FALSE)),\"\")","v":""}]
[null,{"$f":"IFERROR(IF(A111=\"\",\"\",VLOOKUP(A111,'Lista Prekursory'!$A$2:$B$60,2,FALSE)),\"\")","v":""},{"$f":"IFERROR(IF(A111=\"\",\"\",HLOOKUP(A111,'Lista Prekursory'!$H$1:$BN$7,2,FALSE)),\"\")","v":""}]
[null,{"$f":"IFERROR(IF(A112=\"\",\"\",VLOOKUP(A112,'Lista Prekursory'!$A$2:$B$60,2,FALSE)),\"\")","v":""},{"$f":"IFERROR(IF(A112=\"\",\"\",HLOOKUP(A112,'Lista Prekursory'!$H$1:$BN$7,2,FALSE)),\"\")","v":""}]
[null,{"$f":"IFERROR(IF(A113=\"\",\"\",VLOOKUP(A113,'Lista Prekursory'!$A$2:$B$60,2,FALSE)),\"\")","v":""},{"$f":"IFERROR(IF(A113=\"\",\"\",HLOOKUP(A113,'Lista Prekursory'!$H$1:$BN$7,2,FALSE)),\"\")","v":""}]
[null,{"$f":"IFERROR(IF(A114=\"\",\"\",VLOOKUP(A114,'Lista Prekursory'!$A$2:$B$60,2,FALSE)),\"\")","v":""},{"$f":"IFERROR(IF(A114=\"\",\"\",HLOOKUP(A114,'Lista Prekursory'!$H$1:$BN$7,2,FALSE)),\"\")","v":""}]
[null,{"$f":"IFERROR(IF(A115=\"\",\"\",VLOOKUP(A115,'Lista Prekursory'!$A$2:$B$60,2,FALSE)),\"\")","v":""},{"$f":"IFERROR(IF(A115=\"\",\"\",HLOOKUP(A115,'Lista Prekursory'!$H$1:$BN$7,2,FALSE)),\"\")","v":""}]
[null,{"$f":"IFERROR(IF(A116=\"\",\"\",VLOOKUP(A116,'Lista Prekursory'!$A$2:$B$60,2,FALSE)),\"\")","v":""},{"$f":"IFERROR(IF(A116=\"\",\"\",HLOOKUP(A116,'Lista Prekursory'!$H$1:$BN$7,2,FALSE)),\"\")","v":""}]
[null,{"$f":"IFERROR(IF(A117=\"\",\"\",VLOOKUP(A117,'Lista Prekursory'!$A$2:$B$60,2,FALSE)),\"\")","v":""},{"$f":"IFERROR(IF(A117=\"\",\"\",HLOOKUP(A117,'Lista Prekursory'!$H$1:$BN$7,2,FALSE)),\"\")","v":""}]
[null,{"$f":"IFERROR(IF(A118=\"\",\"\",VLOOKUP(A118,'Lista Prekursory'!$A$2:$B$60,2,FALSE)),\"\")","v":""},{"$f":"IFERROR(IF(A118=\"\",\"\",HLOOKUP(A118,'Lista Prekursory'!$H$1:$BN$7,2,FALSE)),\"\")","v":""}]
[null,{"$f":"IFERROR(IF(A119=\"\",\"\",VLOOKUP(A119,'Lista Prekursory'!$A$2:$B$60,2,FALSE)),\"\")","v":""},{"$f":"IFERROR(IF(A119=\"\",\"\",HLOOKUP(A119,'Lista Prekursory'!$H$1:$BN$7,2,FALSE)),\"\")","v":""}]
[null,{"$f":"IFERROR(IF(A120=\"\",\"\",VLOOKUP(A120,'Lista Prekursory'!$A$2:$B$60,2,FALSE)),\"\")","v":""},{"$f":"IFERROR(IF(A120=\"\",\"\",HLOOKUP(A120,'Lista Prekursory'!$H$1:$BN$7,2,FALSE)),\"\")","v":""}]
[null,{"$f":"IFERROR(IF(A121=\"\",\"\",VLOOKUP(A121,'Lista Prekursory'!$A$2:$B$60,2,FALSE)),\"\")","v":""},{"$f":"IFERROR(IF(A121=\"\",\"\",HLOOKUP(A121,'Lista Prekursory'!$H$1:$BN$7,2,FALSE)),\"\")","v":""}]
[null,{"$f":"IFERROR(IF(A122=\"\",\"\",VLOOKUP(A122,'Lista Prekursory'!$A$2:$B$60,2,FALSE)),\"\")","v":""},{"$f":"IFERROR(IF(A122=\"\",\"\",HLOOKUP(A122,'Lista Prekursory'!$H$1:$BN$7,2,FALSE)),\"\")","v":""}]
[null,{"$f":"IFERROR(IF(A123=\"\",\"\",VLOOKUP(A123,'Lista Prekursory'!$A$2:$B$60,2,FALSE)),\"\")","v":""},{"$f":"IFERROR(IF(A123=\"\",\"\",HLOOKUP(A123,'Lista Prekursory'!$H$1:$BN$7,2,FALSE)),\"\")","v":""}]
[null,{"$f":"IFERROR(IF(A124=\"\",\"\",VLOOKUP(A124,'Lista Prekursory'!$A$2:$B$60,2,FALSE)),\"\")","v":""},{"$f":"IFERROR(IF(A124=\"\",\"\",HLOOKUP(A124,'Lista Prekursory'!$H$1:$BN$7,2,FALSE)),\"\")","v":""}]
[null,{"$f":"IFERROR(IF(A125=\"\",\"\",VLOOKUP(A125,'Lista Prekursory'!$A$2:$B$60,2,FALSE)),\"\")","v":""},{"$f":"IFERROR(IF(A125=\"\",\"\",HLOOKUP(A125,'Lista Prekursory'!$H$1:$BN$7,2,FALSE)),\"\")","v":""}]
[null,{"$f":"IFERROR(IF(A126=\"\",\"\",VLOOKUP(A126,'Lista Prekursory'!$A$2:$B$60,2,FALSE)),\"\")","v":""},{"$f":"IFERROR(IF(A126=\"\",\"\",HLOOKUP(A126,'Lista Prekursory'!$H$1:$BN$7,2,FALSE)),\"\")","v":""}]
[null,{"$f":"IFERROR(IF(A127=\"\",\"\",VLOOKUP(A127,'Lista Prekursory'!$A$2:$B$60,2,FALSE)),\"\")","v":""},{"$f":"IFERROR(IF(A127=\"\",\"\",HLOOKUP(A127,'Lista Prekursory'!$H$1:$BN$7,2,FALSE)),\"\")","v":""}]
[null,{"$f":"IFERROR(IF(A128=\"\",\"\",VLOOKUP(A128,'Lista Prekursory'!$A$2:$B$60,2,FALSE)),\"\")","v":""},{"$f":"IFERROR(IF(A128=\"\",\"\",HLOOKUP(A128,'Lista Prekursory'!$H$1:$BN$7,2,FALSE)),\"\")","v":""}]
[null,{"$f":"IFERROR(IF(A129=\"\",\"\",VLOOKUP(A129,'Lista Prekursory'!$A$2:$B$60,2,FALSE)),\"\")","v":""},{"$f":"IFERROR(IF(A129=\"\",\"\",HLOOKUP(A129,'Lista Prekursory'!$H$1:$BN$7,2,FALSE)),\"\")","v":""}]
[null,{"$f":"IFERROR(IF(A130=\"\",\"\",VLOOKUP(A130,'Lista Prekursory'!$A$2:$B$60,2,FALSE)),\"\")","v":""},{"$f":"IFERROR(IF(A130=\"\",\"\",HLOOKUP(A130,'Lista Prekursory'!$H$1:$BN$7,2,FALSE)),\"\")","v":""}]
[null,{"$f":"IFERROR(IF(A131=\"\",\"\",VLOOKUP(A131,'Lista Prekursory'!$A$2:$B$60,2,FALSE)),\"\")","v":""},{"$f":"IFERROR(IF(A131=\"\",\"\",HLOOKUP(A131,'Lista Prekursory'!$H$1:$BN$7,2,FALSE)),\"\")","v":""}]
[null,{"$f":"IFERROR(IF(A132=\"\",\"\",VLOOKUP(A132,'Lista Prekursory'!$A$2:$B$60,2,FALSE)),\"\")","v":""},{"$f":"IFERROR(IF(A132=\"\",\"\",HLOOKUP(A132,'Lista Prekursory'!$H$1:$BN$7,2,FALSE)),\"\")","v":""}]
[null,{"$f":"IFERROR(IF(A133=\"\",\"\",VLOOKUP(A133,'Lista Prekursory'!$A$2:$B$60,2,FALSE)),\"\")","v":""},{"$f":"IFERROR(IF(A133=\"\",\"\",HLOOKUP(A133,'Lista Prekursory'!$H$1:$BN$7,2,FALSE)),\"\")","v":""}]
[null,{"$f":"IFERROR(IF(A134=\"\",\"\",VLOOKUP(A134,'Lista Prekursory'!$A$2:$B$60,2,FALSE)),\"\")","v":""},{"$f":"IFERROR(IF(A134=\"\",\"\",HLOOKUP(A134,'Lista Prekursory'!$H$1:$BN$7,2,FALSE)),\"\")","v":""}]
[null,{"$f":"IFERROR(IF(A135=\"\",\"\",VLOOKUP(A135,'Lista Prekursory'!$A$2:$B$60,2,FALSE)),\"\")","v":""},{"$f":"IFERROR(IF(A135=\"\",\"\",HLOOKUP(A135,'Lista Prekursory'!$H$1:$BN$7,2,FALSE)),\"\")","v":""}]
[null,{"$f":"IFERROR(IF(A136=\"\",\"\",VLOOKUP(A136,'Lista Prekursory'!$A$2:$B$60,2,FALSE)),\"\")","v":""},{"$f":"IFERROR(IF(A136=\"\",\"\",HLOOKUP(A136,'Lista Prekursory'!$H$1:$BN$7,2,FALSE)),\"\")","v":""}]
[null,{"$f":"IFERROR(IF(A137=\"\",\"\",VLOOKUP(A137,'Lista Prekursory'!$A$2:$B$60,2,FALSE)),\"\")","v":""},{"$f":"IFERROR(IF(A137=\"\",\"\",HLOOKUP(A137,'Lista Prekursory'!$H$1:$BN$7,2,FALSE)),\"\")","v":""}]
[null,{"$f":"IFERROR(IF(A138=\"\",\"\",VLOOKUP(A138,'Lista Prekursory'!$A$2:$B$60,2,FALSE)),\"\")","v":""},{"$f":"IFERROR(IF(A138=\"\",\"\",HLOOKUP(A138,'Lista Prekursory'!$H$1:$BN$7,2,FALSE)),\"\")","v":""}]
[null,{"$f":"IFERROR(IF(A139=\"\",\"\",VLOOKUP(A139,'Lista Prekursory'!$A$2:$B$60,2,FALSE)),\"\")","v":""},{"$f":"IFERROR(IF(A139=\"\",\"\",HLOOKUP(A139,'Lista Prekursory'!$H$1:$BN$7,2,FALSE)),\"\")","v":""}]
[null,{"$f":"IFERROR(IF(A140=\"\",\"\",VLOOKUP(A140,'Lista Prekursory'!$A$2:$B$60,2,FALSE)),\"\")","v":""},{"$f":"IFERROR(IF(A140=\"\",\"\",HLOOKUP(A140,'Lista Prekursory'!$H$1:$BN$7,2,FALSE)),\"\")","v":""}]
[null,{"$f":"IFERROR(IF(A141=\"\",\"\",VLOOKUP(A141,'Lista Prekursory'!$A$2:$B$60,2,FALSE)),\"\")","v":""},{"$f":"IFERROR(IF(A141=\"\",\"\",HLOOKUP(A141,'Lista Prekursory'!$H$1:$BN$7,2,FALSE)),\"\")","v":""}]
[null,{"$f":"IFERROR(IF(A142=\"\",\"\",VLOOKUP(A142,'Lista Prekursory'!$A$2:$B$60,2,FALSE)),\"\")","v":""},{"$f":"IFERROR(IF(A142=\"\",\"\",HLOOKUP(A142,'Lista Prekursory'!$H$1:$BN$7,2,FALSE)),\"\")","v":""}]
[null,{"$f":"IFERROR(IF(A143=\"\",\"\",VLOOKUP(A143,'Lista Prekursory'!$A$2:$B$60,2,FALSE)),\"\")","v":""},{"$f":"IFERROR(IF(A143=\"\",\"\",HLOOKUP(A143,'Lista Prekursory'!$H$1:$BN$7,2,FALSE)),\"\")","v":""}]
[null,{"$f":"IFERROR(IF(A144=\"\",\"\",VLOOKUP(A144,'Lista Prekursory'!$A$2:$B$60,2,FALSE)),\"\")","v":""},{"$f":"IFERROR(IF(A144=\"\",\"\",HLOOKUP(A144,'Lista Prekursory'!$H$1:$BN$7,2,FALSE)),\"\")","v":""}]
[null,{"$f":"IFERROR(IF(A145=\"\",\"\",VLOOKUP(A145,'Lista Prekursory'!$A$2:$B$60,2,FALSE)),\"\")","v":""},{"$f":"IFERROR(IF(A145=\"\",\"\",HLOOKUP(A145,'Lista Prekursory'!$H$1:$BN$7,2,FALSE)),\"\")","v":""}]
[null,{"$f":"IFERROR(IF(A146=\"\",\"\",VLOOKUP(A146,'Lista Prekursory'!$A$2:$B$60,2,FALSE)),\"\")","v":""},{"$f":"IFERROR(IF(A146=\"\",\"\",HLOOKUP(A146,'Lista Prekursory'!$H$1:$BN$7,2,FALSE)),\"\")","v":""}]
[null,{"$f":"IFERROR(IF(A147=\"\",\"\",VLOOKUP(A147,'Lista Prekursory'!$A$2:$B$60,2,FALSE)),\"\")","v":""},{"$f":"IFERROR(IF(A147=\"\",\"\",HLOOKUP(A147,'Lista Prekursory'!$H$1:$BN$7,2,FALSE)),\"\")","v":""}]
[null,{"$f":"IFERROR(IF(A148=\"\",\"\",VLOOKUP(A148,'Lista Prekursory'!$A$2:$B$60,2,FALSE)),\"\")","v":""},{"$f":"IFERROR(IF(A148=\"\",\"\",HLOOKUP(A148,'Lista Prekursory'!$H$1:$BN$7,2,FALSE)),\"\")","v":""}]
[null,{"$f":"IFERROR(IF(A149=\"\",\"\",VLOOKUP(A149,'Lista Prekursory'!$A$2:$B$60,2,FALSE)),\"\")","v":""},{"$f":"IFERROR(IF(A149=\"\",\"\",HLOOKUP(A149,'Lista Prekursory'!$H$1:$BN$7,2,FALSE)),\"\")","v":""}]
[null,{"$f":"IFERROR(IF(A150=\"\",\"\",VLOOKUP(A150,'Lista Prekursory'!$A$2:$B$60,2,FALSE)),\"\")","v":""},{"$f":"IFERROR(IF(A150=\"\",\"\",HLOOKUP(A150,'Lista Prekursory'!$H$1:$BN$7,2,FALSE)),\"\")","v":""}]
[null,{"$f":"IFERROR(IF(A151=\"\",\"\",VLOOKUP(A151,'Lista Prekursory'!$A$2:$B$60,2,FALSE)),\"\")","v":""},{"$f":"IFERROR(IF(A151=\"\",\"\",HLOOKUP(A151,'Lista Prekursory'!$H$1:$BN$7,2,FALSE)),\"\")","v":""}]
[null,{"$f":"IFERROR(IF(A152=\"\",\"\",VLOOKUP(A152,'Lista Prekursory'!$A$2:$B$60,2,FALSE)),\"\")","v":""},{"$f":"IFERROR(IF(A152=\"\",\"\",HLOOKUP(A152,'Lista Prekursory'!$H$1:$BN$7,2,FALSE)),\"\")","v":""}]
[null,{"$f":"IFERROR(IF(A153=\"\",\"\",VLOOKUP(A153,'Lista Prekursory'!$A$2:$B$60,2,FALSE)),\"\")","v":""},{"$f":"IFERROR(IF(A153=\"\",\"\",HLOOKUP(A153,'Lista Prekursory'!$H$1:$BN$7,2,FALSE)),\"\")","v":""}]
[null,{"$f":"IFERROR(IF(A154=\"\",\"\",VLOOKUP(A154,'Lista Prekursory'!$A$2:$B$60,2,FALSE)),\"\")","v":""},{"$f":"IFERROR(IF(A154=\"\",\"\",HLOOKUP(A154,'Lista Prekursory'!$H$1:$BN$7,2,FALSE)),\"\")","v":""}]
[null,{"$f":"IFERROR(IF(A155=\"\",\"\",VLOOKUP(A155,'Lista Prekursory'!$A$2:$B$60,2,FALSE)),\"\")","v":""},{"$f":"IFERROR(IF(A155=\"\",\"\",HLOOKUP(A155,'Lista Prekursory'!$H$1:$BN$7,2,FALSE)),\"\")","v":""}]
[null,{"$f":"IFERROR(IF(A156=\"\",\"\",VLOOKUP(A156,'Lista Prekursory'!$A$2:$B$60,2,FALSE)),\"\")","v":""},{"$f":"IFERROR(IF(A156=\"\",\"\",HLOOKUP(A156,'Lista Prekursory'!$H$1:$BN$7,2,FALSE)),\"\")","v":""}]
[null,{"$f":"IFERROR(IF(A157=\"\",\"\",VLOOKUP(A157,'Lista Prekursory'!$A$2:$B$60,2,FALSE)),\"\")","v":""},{"$f":"IFERROR(IF(A157=\"\",\"\",HLOOKUP(A157,'Lista Prekursory'!$H$1:$BN$7,2,FALSE)),\"\")","v":""}]
[null,{"$f":"IFERROR(IF(A158=\"\",\"\",VLOOKUP(A158,'Lista Prekursory'!$A$2:$B$60,2,FALSE)),\"\")","v":""},{"$f":"IFERROR(IF(A158=\"\",\"\",HLOOKUP(A158,'Lista Prekursory'!$H$1:$BN$7,2,FALSE)),\"\")","v":""}]
[null,{"$f":"IFERROR(IF(A159=\"\",\"\",VLOOKUP(A159,'Lista Prekursory'!$A$2:$B$60,2,FALSE)),\"\")","v":""},{"$f":"IFERROR(IF(A159=\"\",\"\",HLOOKUP(A159,'Lista Prekursory'!$H$1:$BN$7,2,FALSE)),\"\")","v":""}]
[null,{"$f":"IFERROR(IF(A160=\"\",\"\",VLOOKUP(A160,'Lista Prekursory'!$A$2:$B$60,2,FALSE)),\"\")","v":""},{"$f":"IFERROR(IF(A160=\"\",\"\",HLOOKUP(A160,'Lista Prekursory'!$H$1:$BN$7,2,FALSE)),\"\")","v":""}]
[null,{"$f":"IFERROR(IF(A161=\"\",\"\",VLOOKUP(A161,'Lista Prekursory'!$A$2:$B$60,2,FALSE)),\"\")","v":""},{"$f":"IFERROR(IF(A161=\"\",\"\",HLOOKUP(A161,'Lista Prekursory'!$H$1:$BN$7,2,FALSE)),\"\")","v":""}]
[null,{"$f":"IFERROR(IF(A162=\"\",\"\",VLOOKUP(A162,'Lista Prekursory'!$A$2:$B$60,2,FALSE)),\"\")","v":""},{"$f":"IFERROR(IF(A162=\"\",\"\",HLOOKUP(A162,'Lista Prekursory'!$H$1:$BN$7,2,FALSE)),\"\")","v":""}]
[null,{"$f":"IFERROR(IF(A163=\"\",\"\",VLOOKUP(A163,'Lista Prekursory'!$A$2:$B$60,2,FALSE)),\"\")","v":""},{"$f":"IFERROR(IF(A163=\"\",\"\",HLOOKUP(A163,'Lista Prekursory'!$H$1:$BN$7,2,FALSE)),\"\")","v":""}]
[null,{"$f":"IFERROR(IF(A164=\"\",\"\",VLOOKUP(A164,'Lista Prekursory'!$A$2:$B$60,2,FALSE)),\"\")","v":""},{"$f":"IFERROR(IF(A164=\"\",\"\",HLOOKUP(A164,'Lista Prekursory'!$H$1:$BN$7,2,FALSE)),\"\")","v":""}]
[null,{"$f":"IFERROR(IF(A165=\"\",\"\",VLOOKUP(A165,'Lista Prekursory'!$A$2:$B$60,2,FALSE)),\"\")","v":""},{"$f":"IFERROR(IF(A165=\"\",\"\",HLOOKUP(A165,'Lista Prekursory'!$H$1:$BN$7,2,FALSE)),\"\")","v":""}]
[null,{"$f":"IFERROR(IF(A166=\"\",\"\",VLOOKUP(A166,'Lista Prekursory'!$A$2:$B$60,2,FALSE)),\"\")","v":""},{"$f":"IFERROR(IF(A166=\"\",\"\",HLOOKUP(A166,'Lista Prekursory'!$H$1:$BN$7,2,FALSE)),\"\")","v":""}]
[null,{"$f":"IFERROR(IF(A167=\"\",\"\",VLOOKUP(A167,'Lista Prekursory'!$A$2:$B$60,2,FALSE)),\"\")","v":""},{"$f":"IFERROR(IF(A167=\"\",\"\",HLOOKUP(A167,'Lista Prekursory'!$H$1:$BN$7,2,FALSE)),\"\")","v":""}]
[null,{"$f":"IFERROR(IF(A168=\"\",\"\",VLOOKUP(A168,'Lista Prekursory'!$A$2:$B$60,2,FALSE)),\"\")","v":""},{"$f":"IFERROR(IF(A168=\"\",\"\",HLOOKUP(A168,'Lista Prekursory'!$H$1:$BN$7,2,FALSE)),\"\")","v":""}]
[null,{"$f":"IFERROR(IF(A169=\"\",\"\",VLOOKUP(A169,'Lista Prekursory'!$A$2:$B$60,2,FALSE)),\"\")","v":""},{"$f":"IFERROR(IF(A169=\"\",\"\",HLOOKUP(A169,'Lista Prekursory'!$H$1:$BN$7,2,FALSE)),\"\")","v":""}]
[null,{"$f":"IFERROR(IF(A170=\"\",\"\",VLOOKUP(A170,'Lista Prekursory'!$A$2:$B$60,2,FALSE)),\"\")","v":""},{"$f":"IFERROR(IF(A170=\"\",\"\",HLOOKUP(A170,'Lista Prekursory'!$H$1:$BN$7,2,FALSE)),\"\")","v":""}]
[null,{"$f":"IFERROR(IF(A171=\"\",\"\",VLOOKUP(A171,'Lista Prekursory'!$A$2:$B$60,2,FALSE)),\"\")","v":""},{"$f":"IFERROR(IF(A171=\"\",\"\",HLOOKUP(A171,'Lista Prekursory'!$H$1:$BN$7,2,FALSE)),\"\")","v":""}]
[null,{"$f":"IFERROR(IF(A172=\"\",\"\",VLOOKUP(A172,'Lista Prekursory'!$A$2:$B$60,2,FALSE)),\"\")","v":""},{"$f":"IFERROR(IF(A172=\"\",\"\",HLOOKUP(A172,'Lista Prekursory'!$H$1:$BN$7,2,FALSE)),\"\")","v":""}]
[null,{"$f":"IFERROR(IF(A173=\"\",\"\",VLOOKUP(A173,'Lista Prekursory'!$A$2:$B$60,2,FALSE)),\"\")","v":""},{"$f":"IFERROR(IF(A173=\"\",\"\",HLOOKUP(A173,'Lista Prekursory'!$H$1:$BN$7,2,FALSE)),\"\")","v":""}]
[null,{"$f":"IFERROR(IF(A174=\"\",\"\",VLOOKUP(A174,'Lista Prekursory'!$A$2:$B$60,2,FALSE)),\"\")","v":""},{"$f":"IFERROR(IF(A174=\"\",\"\",HLOOKUP(A174,'Lista Prekursory'!$H$1:$BN$7,2,FALSE)),\"\")","v":""}]
[null,{"$f":"IFERROR(IF(A175=\"\",\"\",VLOOKUP(A175,'Lista Prekursory'!$A$2:$B$60,2,FALSE)),\"\")","v":""},{"$f":"IFERROR(IF(A175=\"\",\"\",HLOOKUP(A175,'Lista Prekursory'!$H$1:$BN$7,2,FALSE)),\"\")","v":""}]
[null,{"$f":"IFERROR(IF(A176=\"\",\"\",VLOOKUP(A176,'Lista Prekursory'!$A$2:$B$60,2,FALSE)),\"\")","v":""},{"$f":"IFERROR(IF(A176=\"\",\"\",HLOOKUP(A176,'Lista Prekursory'!$H$1:$BN$7,2,FALSE)),\"\")","v":""}]
[null,{"$f":"IFERROR(IF(A177=\"\",\"\",VLOOKUP(A177,'Lista Prekursory'!$A$2:$B$60,2,FALSE)),\"\")","v":""},{"$f":"IFERROR(IF(A177=\"\",\"\",HLOOKUP(A177,'Lista Prekursory'!$H$1:$BN$7,2,FALSE)),\"\")","v":""}]
[null,{"$f":"IFERROR(IF(A178=\"\",\"\",VLOOKUP(A178,'Lista Prekursory'!$A$2:$B$60,2,FALSE)),\"\")","v":""},{"$f":"IFERROR(IF(A178=\"\",\"\",HLOOKUP(A178,'Lista Prekursory'!$H$1:$BN$7,2,FALSE)),\"\")","v":""}]
[null,{"$f":"IFERROR(IF(A179=\"\",\"\",VLOOKUP(A179,'Lista Prekursory'!$A$2:$B$60,2,FALSE)),\"\")","v":""},{"$f":"IFERROR(IF(A179=\"\",\"\",HLOOKUP(A179,'Lista Prekursory'!$H$1:$BN$7,2,FALSE)),\"\")","v":""}]
[null,{"$f":"IFERROR(IF(A180=\"\",\"\",VLOOKUP(A180,'Lista Prekursory'!$A$2:$B$60,2,FALSE)),\"\")","v":""},{"$f":"IFERROR(IF(A180=\"\",\"\",HLOOKUP(A180,'Lista Prekursory'!$H$1:$BN$7,2,FALSE)),\"\")","v":""}]
[null,{"$f":"IFERROR(IF(A181=\"\",\"\",VLOOKUP(A181,'Lista Prekursory'!$A$2:$B$60,2,FALSE)),\"\")","v":""},{"$f":"IFERROR(IF(A181=\"\",\"\",HLOOKUP(A181,'Lista Prekursory'!$H$1:$BN$7,2,FALSE)),\"\")","v":""}]
[null,{"$f":"IFERROR(IF(A182=\"\",\"\",VLOOKUP(A182,'Lista Prekursory'!$A$2:$B$60,2,FALSE)),\"\")","v":""},{"$f":"IFERROR(IF(A182=\"\",\"\",HLOOKUP(A182,'Lista Prekursory'!$H$1:$BN$7,2,FALSE)),\"\")","v":""}]
[null,{"$f":"IFERROR(IF(A183=\"\",\"\",VLOOKUP(A183,'Lista Prekursory'!$A$2:$B$60,2,FALSE)),\"\")","v":""},{"$f":"IFERROR(IF(A183=\"\",\"\",HLOOKUP(A183,'Lista Prekursory'!$H$1:$BN$7,2,FALSE)),\"\")","v":""}]
[null,{"$f":"IFERROR(IF(A184=\"\",\"\",VLOOKUP(A184,'Lista Prekursory'!$A$2:$B$60,2,FALSE)),\"\")","v":""},{"$f":"IFERROR(IF(A184=\"\",\"\",HLOOKUP(A184,'Lista Prekursory'!$H$1:$BN$7,2,FALSE)),\"\")","v":""}]
[null,{"$f":"IFERROR(IF(A185=\"\",\"\",VLOOKUP(A185,'Lista Prekursory'!$A$2:$B$60,2,FALSE)),\"\")","v":""},{"$f":"IFERROR(IF(A185=\"\",\"\",HLOOKUP(A185,'Lista Prekursory'!$H$1:$BN$7,2,FALSE)),\"\")","v":""}]
[null,{"$f":"IFERROR(IF(A186=\"\",\"\",VLOOKUP(A186,'Lista Prekursory'!$A$2:$B$60,2,FALSE)),\"\")","v":""},{"$f":"IFERROR(IF(A186=\"\",\"\",HLOOKUP(A186,'Lista Prekursory'!$H$1:$BN$7,2,FALSE)),\"\")","v":""}]
[null,{"$f":"IFERROR(IF(A187=\"\",\"\",VLOOKUP(A187,'Lista Prekursory'!$A$2:$B$60,2,FALSE)),\"\")","v":""},{"$f":"IFERROR(IF(A187=\"\",\"\",HLOOKUP(A187,'Lista Prekursory'!$H$1:$BN$7,2,FALSE)),\"\")","v":""}]
[null,{"$f":"IFERROR(IF(A188=\"\",\"\",VLOOKUP(A188,'Lista Prekursory'!$A$2:$B$60,2,FALSE)),\"\")","v":""},{"$f":"IFERROR(IF(A188=\"\",\"\",HLOOKUP(A188,'Lista Prekursory'!$H$1:$BN$7,2,FALSE)),\"\")","v":""}]
[null,{"$f":"IFERROR(IF(A189=\"\",\"\",VLOOKUP(A189,'Lista Prekursory'!$A$2:$B$60,2,FALSE)),\"\")","v":""},{"$f":"IFERROR(IF(A189=\"\",\"\",HLOOKUP(A189,'Lista Prekursory'!$H$1:$BN$7,2,FALSE)),\"\")","v":""}]
[null,{"$f":"IFERROR(IF(A190=\"\",\"\",VLOOKUP(A190,'Lista Prekursory'!$A$2:$B$60,2,FALSE)),\"\")","v":""},{"$f":"IFERROR(IF(A190=\"\",\"\",HLOOKUP(A190,'Lista Prekursory'!$H$1:$BN$7,2,FALSE)),\"\")","v":""}]
[null,{"$f":"IFERROR(IF(A191=\"\",\"\",VLOOKUP(A191,'Lista Prekursory'!$A$2:$B$60,2,FALSE)),\"\")","v":""},{"$f":"IFERROR(IF(A191=\"\",\"\",HLOOKUP(A191,'Lista Prekursory'!$H$1:$BN$7,2,FALSE)),\"\")","v":""}]
[null,{"$f":"IFERROR(IF(A192=\"\",\"\",VLOOKUP(A192,'Lista Prekursory'!$A$2:$B$60,2,FALSE)),\"\")","v":""},{"$f":"IFERROR(IF(A192=\"\",\"\",HLOOKUP(A192,'Lista Prekursory'!$H$1:$BN$7,2,FALSE)),\"\")","v":""}]
[null,{"$f":"IFERROR(IF(A193=\"\",\"\",VLOOKUP(A193,'Lista Prekursory'!$A$2:$B$60,2,FALSE)),\"\")","v":""},{"$f":"IFERROR(IF(A193=\"\",\"\",HLOOKUP(A193,'Lista Prekursory'!$H$1:$BN$7,2,FALSE)),\"\")","v":""}]
[null,{"$f":"IFERROR(IF(A194=\"\",\"\",VLOOKUP(A194,'Lista Prekursory'!$A$2:$B$60,2,FALSE)),\"\")","v":""},{"$f":"IFERROR(IF(A194=\"\",\"\",HLOOKUP(A194,'Lista Prekursory'!$H$1:$BN$7,2,FALSE)),\"\")","v":""}]
[null,{"$f":"IFERROR(IF(A195=\"\",\"\",VLOOKUP(A195,'Lista Prekursory'!$A$2:$B$60,2,FALSE)),\"\")","v":""},{"$f":"IFERROR(IF(A195=\"\",\"\",HLOOKUP(A195,'Lista Prekursory'!$H$1:$BN$7,2,FALSE)),\"\")","v":""}]
[null,{"$f":"IFERROR(IF(A196=\"\",\"\",VLOOKUP(A196,'Lista Prekursory'!$A$2:$B$60,2,FALSE)),\"\")","v":""},{"$f":"IFERROR(IF(A196=\"\",\"\",HLOOKUP(A196,'Lista Prekursory'!$H$1:$BN$7,2,FALSE)),\"\")","v":""}]
[null,{"$f":"IFERROR(IF(A197=\"\",\"\",VLOOKUP(A197,'Lista Prekursory'!$A$2:$B$60,2,FALSE)),\"\")","v":""},{"$f":"IFERROR(IF(A197=\"\",\"\",HLOOKUP(A197,'Lista Prekursory'!$H$1:$BN$7,2,FALSE)),\"\")","v":""}]
[null,{"$f":"IFERROR(IF(A198=\"\",\"\",VLOOKUP(A198,'Lista Prekursory'!$A$2:$B$60,2,FALSE)),\"\")","v":""},{"$f":"IFERROR(IF(A198=\"\",\"\",HLOOKUP(A198,'Lista Prekursory'!$H$1:$BN$7,2,FALSE)),\"\")","v":""}]
[null,{"$f":"IFERROR(IF(A199=\"\",\"\",VLOOKUP(A199,'Lista Prekursory'!$A$2:$B$60,2,FALSE)),\"\")","v":""},{"$f":"IFERROR(IF(A199=\"\",\"\",HLOOKUP(A199,'Lista Prekursory'!$H$1:$BN$7,2,FALSE)),\"\")","v":""}]
[null,{"$f":"IFERROR(IF(A200=\"\",\"\",VLOOKUP(A200,'Lista Prekursory'!$A$2:$B$60,2,FALSE)),\"\")","v":""},{"$f":"IFERROR(IF(A200=\"\",\"\",HLOOKUP(A200,'Lista Prekursory'!$H$1:$BN$7,2,FALSE)),\"\")","v":""}]
[null,{"$f":"IFERROR(IF(A201=\"\",\"\",VLOOKUP(A201,'Lista Prekursory'!$A$2:$B$60,2,FALSE)),\"\")","v":""},{"$f":"IFERROR(IF(A201=\"\",\"\",HLOOKUP(A201,'Lista Prekursory'!$H$1:$BN$7,2,FALSE)),\"\")","v":""}]
[null,{"$f":"IFERROR(IF(A202=\"\",\"\",VLOOKUP(A202,'Lista Prekursory'!$A$2:$B$60,2,FALSE)),\"\")","v":""},{"$f":"IFERROR(IF(A202=\"\",\"\",HLOOKUP(A202,'Lista Prekursory'!$H$1:$BN$7,2,FALSE)),\"\")","v":""}]
[null,{"$f":"IFERROR(IF(A203=\"\",\"\",VLOOKUP(A203,'Lista Prekursory'!$A$2:$B$60,2,FALSE)),\"\")","v":""},{"$f":"IFERROR(IF(A203=\"\",\"\",HLOOKUP(A203,'Lista Prekursory'!$H$1:$BN$7,2,FALSE)),\"\")","v":""}]
[null,{"$f":"IFERROR(IF(A204=\"\",\"\",VLOOKUP(A204,'Lista Prekursory'!$A$2:$B$60,2,FALSE)),\"\")","v":""},{"$f":"IFERROR(IF(A204=\"\",\"\",HLOOKUP(A204,'Lista Prekursory'!$H$1:$BN$7,2,FALSE)),\"\")","v":""}]
[null,{"$f":"IFERROR(IF(A205=\"\",\"\",VLOOKUP(A205,'Lista Prekursory'!$A$2:$B$60,2,FALSE)),\"\")","v":""},{"$f":"IFERROR(IF(A205=\"\",\"\",HLOOKUP(A205,'Lista Prekursory'!$H$1:$BN$7,2,FALSE)),\"\")","v":""}]
[null,{"$f":"IFERROR(IF(A206=\"\",\"\",VLOOKUP(A206,'Lista Prekursory'!$A$2:$B$60,2,FALSE)),\"\")","v":""},{"$f":"IFERROR(IF(A206=\"\",\"\",HLOOKUP(A206,'Lista Prekursory'!$H$1:$BN$7,2,FALSE)),\"\")","v":""}]
[null,{"$f":"IFERROR(IF(A207=\"\",\"\",VLOOKUP(A207,'Lista Prekursory'!$A$2:$B$60,2,FALSE)),\"\")","v":""},{"$f":"IFERROR(IF(A207=\"\",\"\",HLOOKUP(A207,'Lista Prekursory'!$H$1:$BN$7,2,FALSE)),\"\")","v":""}]
[null,{"$f":"IFERROR(IF(A208=\"\",\"\",VLOOKUP(A208,'Lista Prekursory'!$A$2:$B$60,2,FALSE)),\"\")","v":""},{"$f":"IFERROR(IF(A208=\"\",\"\",HLOOKUP(A208,'Lista Prekursory'!$H$1:$BN$7,2,FALSE)),\"\")","v":""}]
[null,{"$f":"IFERROR(IF(A209=\"\",\"\",VLOOKUP(A209,'Lista Prekursory'!$A$2:$B$60,2,FALSE)),\"\")","v":""},{"$f":"IFERROR(IF(A209=\"\",\"\",HLOOKUP(A209,'Lista Prekursory'!$H$1:$BN$7,2,FALSE)),\"\")","v":""}]
[null,{"$f":"IFERROR(IF(A210=\"\",\"\",VLOOKUP(A210,'Lista Prekursory'!$A$2:$B$60,2,FALSE)),\"\")","v":""},{"$f":"IFERROR(IF(A210=\"\",\"\",HLOOKUP(A210,'Lista Prekursory'!$H$1:$BN$7,2,FALSE)),\"\")","v":""}]
[null,{"$f":"IFERROR(IF(A211=\"\",\"\",VLOOKUP(A211,'Lista Prekursory'!$A$2:$B$60,2,FALSE)),\"\")","v":""},{"$f":"IFERROR(IF(A211=\"\",\"\",HLOOKUP(A211,'Lista Prekursory'!$H$1:$BN$7,2,FALSE)),\"\")","v":""}]
[null,{"$f":"IFERROR(IF(A212=\"\",\"\",VLOOKUP(A212,'Lista Prekursory'!$A$2:$B$60,2,FALSE)),\"\")","v":""},{"$f":"IFERROR(IF(A212=\"\",\"\",HLOOKUP(A212,'Lista Prekursory'!$H$1:$BN$7,2,FALSE)),\"\")","v":""}]
[null,{"$f":"IFERROR(IF(A213=\"\",\"\",VLOOKUP(A213,'Lista Prekursory'!$A$2:$B$60,2,FALSE)),\"\")","v":""},{"$f":"IFERROR(IF(A213=\"\",\"\",HLOOKUP(A213,'Lista Prekursory'!$H$1:$BN$7,2,FALSE)),\"\")","v":""}]
[null,{"$f":"IFERROR(IF(A214=\"\",\"\",VLOOKUP(A214,'Lista Prekursory'!$A$2:$B$60,2,FALSE)),\"\")","v":""},{"$f":"IFERROR(IF(A214=\"\",\"\",HLOOKUP(A214,'Lista Prekursory'!$H$1:$BN$7,2,FALSE)),\"\")","v":""}]
[null,{"$f":"IFERROR(IF(A215=\"\",\"\",VLOOKUP(A215,'Lista Prekursory'!$A$2:$B$60,2,FALSE)),\"\")","v":""},{"$f":"IFERROR(IF(A215=\"\",\"\",HLOOKUP(A215,'Lista Prekursory'!$H$1:$BN$7,2,FALSE)),\"\")","v":""}]
[null,{"$f":"IFERROR(IF(A216=\"\",\"\",VLOOKUP(A216,'Lista Prekursory'!$A$2:$B$60,2,FALSE)),\"\")","v":""},{"$f":"IFERROR(IF(A216=\"\",\"\",HLOOKUP(A216,'Lista Prekursory'!$H$1:$BN$7,2,FALSE)),\"\")","v":""}]
[null,{"$f":"IFERROR(IF(A217=\"\",\"\",VLOOKUP(A217,'Lista Prekursory'!$A$2:$B$60,2,FALSE)),\"\")","v":""},{"$f":"IFERROR(IF(A217=\"\",\"\",HLOOKUP(A217,'Lista Prekursory'!$H$1:$BN$7,2,FALSE)),\"\")","v":""}]
[null,{"$f":"IFERROR(IF(A218=\"\",\"\",VLOOKUP(A218,'Lista Prekursory'!$A$2:$B$60,2,FALSE)),\"\")","v":""},{"$f":"IFERROR(IF(A218=\"\",\"\",HLOOKUP(A218,'Lista Prekursory'!$H$1:$BN$7,2,FALSE)),\"\")","v":""}]
[null,{"$f":"IFERROR(IF(A219=\"\",\"\",VLOOKUP(A219,'Lista Prekursory'!$A$2:$B$60,2,FALSE)),\"\")","v":""},{"$f":"IFERROR(IF(A219=\"\",\"\",HLOOKUP(A219,'Lista Prekursory'!$H$1:$BN$7,2,FALSE)),\"\")","v":""}]
[null,{"$f":"IFERROR(IF(A220=\"\",\"\",VLOOKUP(A220,'Lista Prekursory'!$A$2:$B$60,2,FALSE)),\"\")","v":""},{"$f":"IFERROR(IF(A220=\"\",\"\",HLOOKUP(A220,'Lista Prekursory'!$H$1:$BN$7,2,FALSE)),\"\")","v":""}]
[null,{"$f":"IFERROR(IF(A221=\"\",\"\",VLOOKUP(A221,'Lista Prekursory'!$A$2:$B$60,2,FALSE)),\"\")","v":""},{"$f":"IFERROR(IF(A221=\"\",\"\",HLOOKUP(A221,'Lista Prekursory'!$H$1:$BN$7,2,FALSE)),\"\")","v":""}]
[null,{"$f":"IFERROR(IF(A222=\"\",\"\",VLOOKUP(A222,'Lista Prekursory'!$A$2:$B$60,2,FALSE)),\"\")","v":""},{"$f":"IFERROR(IF(A222=\"\",\"\",HLOOKUP(A222,'Lista Prekursory'!$H$1:$BN$7,2,FALSE)),\"\")","v":""}]
[null,{"$f":"IFERROR(IF(A223=\"\",\"\",VLOOKUP(A223,'Lista Prekursory'!$A$2:$B$60,2,FALSE)),\"\")","v":""},{"$f":"IFERROR(IF(A223=\"\",\"\",HLOOKUP(A223,'Lista Prekursory'!$H$1:$BN$7,2,FALSE)),\"\")","v":""}]
[null,{"$f":"IFERROR(IF(A224=\"\",\"\",VLOOKUP(A224,'Lista Prekursory'!$A$2:$B$60,2,FALSE)),\"\")","v":""},{"$f":"IFERROR(IF(A224=\"\",\"\",HLOOKUP(A224,'Lista Prekursory'!$H$1:$BN$7,2,FALSE)),\"\")","v":""}]
[null,{"$f":"IFERROR(IF(A225=\"\",\"\",VLOOKUP(A225,'Lista Prekursory'!$A$2:$B$60,2,FALSE)),\"\")","v":""},{"$f":"IFERROR(IF(A225=\"\",\"\",HLOOKUP(A225,'Lista Prekursory'!$H$1:$BN$7,2,FALSE)),\"\")","v":""}]
[null,{"$f":"IFERROR(IF(A226=\"\",\"\",VLOOKUP(A226,'Lista Prekursory'!$A$2:$B$60,2,FALSE)),\"\")","v":""},{"$f":"IFERROR(IF(A226=\"\",\"\",HLOOKUP(A226,'Lista Prekursory'!$H$1:$BN$7,2,FALSE)),\"\")","v":""}]
[null,{"$f":"IFERROR(IF(A227=\"\",\"\",VLOOKUP(A227,'Lista Prekursory'!$A$2:$B$60,2,FALSE)),\"\")","v":""},{"$f":"IFERROR(IF(A227=\"\",\"\",HLOOKUP(A227,'Lista Prekursory'!$H$1:$BN$7,2,FALSE)),\"\")","v":""}]
[null,{"$f":"IFERROR(IF(A228=\"\",\"\",VLOOKUP(A228,'Lista Prekursory'!$A$2:$B$60,2,FALSE)),\"\")","v":""},{"$f":"IFERROR(IF(A228=\"\",\"\",HLOOKUP(A228,'Lista Prekursory'!$H$1:$BN$7,2,FALSE)),\"\")","v":""}]
[null,{"$f":"IFERROR(IF(A229=\"\",\"\",VLOOKUP(A229,'Lista Prekursory'!$A$2:$B$60,2,FALSE)),\"\")","v":""},{"$f":"IFERROR(IF(A229=\"\",\"\",HLOOKUP(A229,'Lista Prekursory'!$H$1:$BN$7,2,FALSE)),\"\")","v":""}]
[null,{"$f":"IFERROR(IF(A230=\"\",\"\",VLOOKUP(A230,'Lista Prekursory'!$A$2:$B$60,2,FALSE)),\"\")","v":""},{"$f":"IFERROR(IF(A230=\"\",\"\",HLOOKUP(A230,'Lista Prekursory'!$H$1:$BN$7,2,FALSE)),\"\")","v":""}]
[null,{"$f":"IFERROR(IF(A231=\"\",\"\",VLOOKUP(A231,'Lista Prekursory'!$A$2:$B$60,2,FALSE)),\"\")","v":""},{"$f":"IFERROR(IF(A231=\"\",\"\",HLOOKUP(A231,'Lista Prekursory'!$H$1:$BN$7,2,FALSE)),\"\")","v":""}]
[null,{"$f":"IFERROR(IF(A232=\"\",\"\",VLOOKUP(A232,'Lista Prekursory'!$A$2:$B$60,2,FALSE)),\"\")","v":""},{"$f":"IFERROR(IF(A232=\"\",\"\",HLOOKUP(A232,'Lista Prekursory'!$H$1:$BN$7,2,FALSE)),\"\")","v":""}]
[null,{"$f":"IFERROR(IF(A233=\"\",\"\",VLOOKUP(A233,'Lista Prekursory'!$A$2:$B$60,2,FALSE)),\"\")","v":""},{"$f":"IFERROR(IF(A233=\"\",\"\",HLOOKUP(A233,'Lista Prekursory'!$H$1:$BN$7,2,FALSE)),\"\")","v":""}]
[null,{"$f":"IFERROR(IF(A234=\"\",\"\",VLOOKUP(A234,'Lista Prekursory'!$A$2:$B$60,2,FALSE)),\"\")","v":""},{"$f":"IFERROR(IF(A234=\"\",\"\",HLOOKUP(A234,'Lista Prekursory'!$H$1:$BN$7,2,FALSE)),\"\")","v":""}]
[null,{"$f":"IFERROR(IF(A235=\"\",\"\",VLOOKUP(A235,'Lista Prekursory'!$A$2:$B$60,2,FALSE)),\"\")","v":""},{"$f":"IFERROR(IF(A235=\"\",\"\",HLOOKUP(A235,'Lista Prekursory'!$H$1:$BN$7,2,FALSE)),\"\")","v":""}]
[null,{"$f":"IFERROR(IF(A236=\"\",\"\",VLOOKUP(A236,'Lista Prekursory'!$A$2:$B$60,2,FALSE)),\"\")","v":""},{"$f":"IFERROR(IF(A236=\"\",\"\",HLOOKUP(A236,'Lista Prekursory'!$H$1:$BN$7,2,FALSE)),\"\")","v":""}]
[null,{"$f":"IFERROR(IF(A237=\"\",\"\",VLOOKUP(A237,'Lista Prekursory'!$A$2:$B$60,2,FALSE)),\"\")","v":""},{"$f":"IFERROR(IF(A237=\"\",\"\",HLOOKUP(A237,'Lista Prekursory'!$H$1:$BN$7,2,FALSE)),\"\")","v":""}]
[null,{"$f":"IFERROR(IF(A238=\"\",\"\",VLOOKUP(A238,'Lista Prekursory'!$A$2:$B$60,2,FALSE)),\"\")","v":""},{"$f":"IFERROR(IF(A238=\"\",\"\",HLOOKUP(A238,'Lista Prekursory'!$H$1:$BN$7,2,FALSE)),\"\")","v":""}]
[null,{"$f":"IFERROR(IF(A239=\"\",\"\",VLOOKUP(A239,'Lista Prekursory'!$A$2:$B$60,2,FALSE)),\"\")","v":""},{"$f":"IFERROR(IF(A239=\"\",\"\",HLOOKUP(A239,'Lista Prekursory'!$H$1:$BN$7,2,FALSE)),\"\")","v":""}]
[null,{"$f":"IFERROR(IF(A240=\"\",\"\",VLOOKUP(A240,'Lista Prekursory'!$A$2:$B$60,2,FALSE)),\"\")","v":""},{"$f":"IFERROR(IF(A240=\"\",\"\",HLOOKUP(A240,'Lista Prekursory'!$H$1:$BN$7,2,FALSE)),\"\")","v":""}]
[null,{"$f":"IFERROR(IF(A241=\"\",\"\",VLOOKUP(A241,'Lista Prekursory'!$A$2:$B$60,2,FALSE)),\"\")","v":""},{"$f":"IFERROR(IF(A241=\"\",\"\",HLOOKUP(A241,'Lista Prekursory'!$H$1:$BN$7,2,FALSE)),\"\")","v":""}]
[null,{"$f":"IFERROR(IF(A242=\"\",\"\",VLOOKUP(A242,'Lista Prekursory'!$A$2:$B$60,2,FALSE)),\"\")","v":""},{"$f":"IFERROR(IF(A242=\"\",\"\",HLOOKUP(A242,'Lista Prekursory'!$H$1:$BN$7,2,FALSE)),\"\")","v":""}]
[null,{"$f":"IFERROR(IF(A243=\"\",\"\",VLOOKUP(A243,'Lista Prekursory'!$A$2:$B$60,2,FALSE)),\"\")","v":""},{"$f":"IFERROR(IF(A243=\"\",\"\",HLOOKUP(A243,'Lista Prekursory'!$H$1:$BN$7,2,FALSE)),\"\")","v":""}]
[null,{"$f":"IFERROR(IF(A244=\"\",\"\",VLOOKUP(A244,'Lista Prekursory'!$A$2:$B$60,2,FALSE)),\"\")","v":""},{"$f":"IFERROR(IF(A244=\"\",\"\",HLOOKUP(A244,'Lista Prekursory'!$H$1:$BN$7,2,FALSE)),\"\")","v":""}]
[null,{"$f":"IFERROR(IF(A245=\"\",\"\",VLOOKUP(A245,'Lista Prekursory'!$A$2:$B$60,2,FALSE)),\"\")","v":""},{"$f":"IFERROR(IF(A245=\"\",\"\",HLOOKUP(A245,'Lista Prekursory'!$H$1:$BN$7,2,FALSE)),\"\")","v":""}]
[null,{"$f":"IFERROR(IF(A246=\"\",\"\",VLOOKUP(A246,'Lista Prekursory'!$A$2:$B$60,2,FALSE)),\"\")","v":""},{"$f":"IFERROR(IF(A246=\"\",\"\",HLOOKUP(A246,'Lista Prekursory'!$H$1:$BN$7,2,FALSE)),\"\")","v":""}]
[null,{"$f":"IFERROR(IF(A247=\"\",\"\",VLOOKUP(A247,'Lista Prekursory'!$A$2:$B$60,2,FALSE)),\"\")","v":""},{"$f":"IFERROR(IF(A247=\"\",\"\",HLOOKUP(A247,'Lista Prekursory'!$H$1:$BN$7,2,FALSE)),\"\")","v":""}]
[null,{"$f":"IFERROR(IF(A248=\"\",\"\",VLOOKUP(A248,'Lista Prekursory'!$A$2:$B$60,2,FALSE)),\"\")","v":""},{"$f":"IFERROR(IF(A248=\"\",\"\",HLOOKUP(A248,'Lista Prekursory'!$H$1:$BN$7,2,FALSE)),\"\")","v":""}]
[null,{"$f":"IFERROR(IF(A249=\"\",\"\",VLOOKUP(A249,'Lista Prekursory'!$A$2:$B$60,2,FALSE)),\"\")","v":""},{"$f":"IFERROR(IF(A249=\"\",\"\",HLOOKUP(A249,'Lista Prekursory'!$H$1:$BN$7,2,FALSE)),\"\")","v":""}]
[null,{"$f":"IFERROR(IF(A250=\"\",\"\",VLOOKUP(A250,'Lista Prekursory'!$A$2:$B$60,2,FALSE)),\"\")","v":""},{"$f":"IFERROR(IF(A250=\"\",\"\",HLOOKUP(A250,'Lista Prekursory'!$H$1:$BN$7,2,FALSE)),\"\")","v":""}]
[null,{"$f":"IFERROR(IF(A251=\"\",\"\",VLOOKUP(A251,'Lista Prekursory'!$A$2:$B$60,2,FALSE)),\"\")","v":""},{"$f":"IFERROR(IF(A251=\"\",\"\",HLOOKUP(A251,'Lista Prekursory'!$H$1:$BN$7,2,FALSE)),\"\")","v":""}]
[null,{"$f":"IFERROR(IF(A252=\"\",\"\",VLOOKUP(A252,'Lista Prekursory'!$A$2:$B$60,2,FALSE)),\"\")","v":""},{"$f":"IFERROR(IF(A252=\"\",\"\",HLOOKUP(A252,'Lista Prekursory'!$H$1:$BN$7,2,FALSE)),\"\")","v":""}]
[null,{"$f":"IFERROR(IF(A253=\"\",\"\",VLOOKUP(A253,'Lista Prekursory'!$A$2:$B$60,2,FALSE)),\"\")","v":""},{"$f":"IFERROR(IF(A253=\"\",\"\",HLOOKUP(A253,'Lista Prekursory'!$H$1:$BN$7,2,FALSE)),\"\")","v":""}]
[null,{"$f":"IFERROR(IF(A254=\"\",\"\",VLOOKUP(A254,'Lista Prekursory'!$A$2:$B$60,2,FALSE)),\"\")","v":""},{"$f":"IFERROR(IF(A254=\"\",\"\",HLOOKUP(A254,'Lista Prekursory'!$H$1:$BN$7,2,FALSE)),\"\")","v":""}]
[null,{"$f":"IFERROR(IF(A255=\"\",\"\",VLOOKUP(A255,'Lista Prekursory'!$A$2:$B$60,2,FALSE)),\"\")","v":""},{"$f":"IFERROR(IF(A255=\"\",\"\",HLOOKUP(A255,'Lista Prekursory'!$H$1:$BN$7,2,FALSE)),\"\")","v":""}]
[null,{"$f":"IFERROR(IF(A256=\"\",\"\",VLOOKUP(A256,'Lista Prekursory'!$A$2:$B$60,2,FALSE)),\"\")","v":""},{"$f":"IFERROR(IF(A256=\"\",\"\",HLOOKUP(A256,'Lista Prekursory'!$H$1:$BN$7,2,FALSE)),\"\")","v":""}]
[null,{"$f":"IFERROR(IF(A257=\"\",\"\",VLOOKUP(A257,'Lista Prekursory'!$A$2:$B$60,2,FALSE)),\"\")","v":""},{"$f":"IFERROR(IF(A257=\"\",\"\",HLOOKUP(A257,'Lista Prekursory'!$H$1:$BN$7,2,FALSE)),\"\")","v":""}]
[null,{"$f":"IFERROR(IF(A258=\"\",\"\",VLOOKUP(A258,'Lista Prekursory'!$A$2:$B$60,2,FALSE)),\"\")","v":""},{"$f":"IFERROR(IF(A258=\"\",\"\",HLOOKUP(A258,'Lista Prekursory'!$H$1:$BN$7,2,FALSE)),\"\")","v":""}]
[null,{"$f":"IFERROR(IF(A259=\"\",\"\",VLOOKUP(A259,'Lista Prekursory'!$A$2:$B$60,2,FALSE)),\"\")","v":""},{"$f":"IFERROR(IF(A259=\"\",\"\",HLOOKUP(A259,'Lista Prekursory'!$H$1:$BN$7,2,FALSE)),\"\")","v":""}]
[null,{"$f":"IFERROR(IF(A260=\"\",\"\",VLOOKUP(A260,'Lista Prekursory'!$A$2:$B$60,2,FALSE)),\"\")","v":""},{"$f":"IFERROR(IF(A260=\"\",\"\",HLOOKUP(A260,'Lista Prekursory'!$H$1:$BN$7,2,FALSE)),\"\")","v":""}]
[null,{"$f":"IFERROR(IF(A261=\"\",\"\",VLOOKUP(A261,'Lista Prekursory'!$A$2:$B$60,2,FALSE)),\"\")","v":""},{"$f":"IFERROR(IF(A261=\"\",\"\",HLOOKUP(A261,'Lista Prekursory'!$H$1:$BN$7,2,FALSE)),\"\")","v":""}]
[null,{"$f":"IFERROR(IF(A262=\"\",\"\",VLOOKUP(A262,'Lista Prekursory'!$A$2:$B$60,2,FALSE)),\"\")","v":""},{"$f":"IFERROR(IF(A262=\"\",\"\",HLOOKUP(A262,'Lista Prekursory'!$H$1:$BN$7,2,FALSE)),\"\")","v":""}]
[null,{"$f":"IFERROR(IF(A263=\"\",\"\",VLOOKUP(A263,'Lista Prekursory'!$A$2:$B$60,2,FALSE)),\"\")","v":""},{"$f":"IFERROR(IF(A263=\"\",\"\",HLOOKUP(A263,'Lista Prekursory'!$H$1:$BN$7,2,FALSE)),\"\")","v":""}]
[null,{"$f":"IFERROR(IF(A264=\"\",\"\",VLOOKUP(A264,'Lista Prekursory'!$A$2:$B$60,2,FALSE)),\"\")","v":""},{"$f":"IFERROR(IF(A264=\"\",\"\",HLOOKUP(A264,'Lista Prekursory'!$H$1:$BN$7,2,FALSE)),\"\")","v":""}]
[null,{"$f":"IFERROR(IF(A265=\"\",\"\",VLOOKUP(A265,'Lista Prekursory'!$A$2:$B$60,2,FALSE)),\"\")","v":""},{"$f":"IFERROR(IF(A265=\"\",\"\",HLOOKUP(A265,'Lista Prekursory'!$H$1:$BN$7,2,FALSE)),\"\")","v":""}]
[null,{"$f":"IFERROR(IF(A266=\"\",\"\",VLOOKUP(A266,'Lista Prekursory'!$A$2:$B$60,2,FALSE)),\"\")","v":""},{"$f":"IFERROR(IF(A266=\"\",\"\",HLOOKUP(A266,'Lista Prekursory'!$H$1:$BN$7,2,FALSE)),\"\")","v":""}]
[null,{"$f":"IFERROR(IF(A267=\"\",\"\",VLOOKUP(A267,'Lista Prekursory'!$A$2:$B$60,2,FALSE)),\"\")","v":""},{"$f":"IFERROR(IF(A267=\"\",\"\",HLOOKUP(A267,'Lista Prekursory'!$H$1:$BN$7,2,FALSE)),\"\")","v":""}]
[null,{"$f":"IFERROR(IF(A268=\"\",\"\",VLOOKUP(A268,'Lista Prekursory'!$A$2:$B$60,2,FALSE)),\"\")","v":""},{"$f":"IFERROR(IF(A268=\"\",\"\",HLOOKUP(A268,'Lista Prekursory'!$H$1:$BN$7,2,FALSE)),\"\")","v":""}]
[null,{"$f":"IFERROR(IF(A269=\"\",\"\",VLOOKUP(A269,'Lista Prekursory'!$A$2:$B$60,2,FALSE)),\"\")","v":""},{"$f":"IFERROR(IF(A269=\"\",\"\",HLOOKUP(A269,'Lista Prekursory'!$H$1:$BN$7,2,FALSE)),\"\")","v":""}]
[null,{"$f":"IFERROR(IF(A270=\"\",\"\",VLOOKUP(A270,'Lista Prekursory'!$A$2:$B$60,2,FALSE)),\"\")","v":""},{"$f":"IFERROR(IF(A270=\"\",\"\",HLOOKUP(A270,'Lista Prekursory'!$H$1:$BN$7,2,FALSE)),\"\")","v":""}]
[null,{"$f":"IFERROR(IF(A271=\"\",\"\",VLOOKUP(A271,'Lista Prekursory'!$A$2:$B$60,2,FALSE)),\"\")","v":""},{"$f":"IFERROR(IF(A271=\"\",\"\",HLOOKUP(A271,'Lista Prekursory'!$H$1:$BN$7,2,FALSE)),\"\")","v":""}]
[null,{"$f":"IFERROR(IF(A272=\"\",\"\",VLOOKUP(A272,'Lista Prekursory'!$A$2:$B$60,2,FALSE)),\"\")","v":""},{"$f":"IFERROR(IF(A272=\"\",\"\",HLOOKUP(A272,'Lista Prekursory'!$H$1:$BN$7,2,FALSE)),\"\")","v":""}]
[null,{"$f":"IFERROR(IF(A273=\"\",\"\",VLOOKUP(A273,'Lista Prekursory'!$A$2:$B$60,2,FALSE)),\"\")","v":""},{"$f":"IFERROR(IF(A273=\"\",\"\",HLOOKUP(A273,'Lista Prekursory'!$H$1:$BN$7,2,FALSE)),\"\")","v":""}]
[null,{"$f":"IFERROR(IF(A274=\"\",\"\",VLOOKUP(A274,'Lista Prekursory'!$A$2:$B$60,2,FALSE)),\"\")","v":""},{"$f":"IFERROR(IF(A274=\"\",\"\",HLOOKUP(A274,'Lista Prekursory'!$H$1:$BN$7,2,FALSE)),\"\")","v":""}]
[null,{"$f":"IFERROR(IF(A275=\"\",\"\",VLOOKUP(A275,'Lista Prekursory'!$A$2:$B$60,2,FALSE)),\"\")","v":""},{"$f":"IFERROR(IF(A275=\"\",\"\",HLOOKUP(A275,'Lista Prekursory'!$H$1:$BN$7,2,FALSE)),\"\")","v":""}]
[null,{"$f":"IFERROR(IF(A276=\"\",\"\",VLOOKUP(A276,'Lista Prekursory'!$A$2:$B$60,2,FALSE)),\"\")","v":""},{"$f":"IFERROR(IF(A276=\"\",\"\",HLOOKUP(A276,'Lista Prekursory'!$H$1:$BN$7,2,FALSE)),\"\")","v":""}]
[null,{"$f":"IFERROR(IF(A277=\"\",\"\",VLOOKUP(A277,'Lista Prekursory'!$A$2:$B$60,2,FALSE)),\"\")","v":""},{"$f":"IFERROR(IF(A277=\"\",\"\",HLOOKUP(A277,'Lista Prekursory'!$H$1:$BN$7,2,FALSE)),\"\")","v":""}]
[null,{"$f":"IFERROR(IF(A278=\"\",\"\",VLOOKUP(A278,'Lista Prekursory'!$A$2:$B$60,2,FALSE)),\"\")","v":""},{"$f":"IFERROR(IF(A278=\"\",\"\",HLOOKUP(A278,'Lista Prekursory'!$H$1:$BN$7,2,FALSE)),\"\")","v":""}]
[null,{"$f":"IFERROR(IF(A279=\"\",\"\",VLOOKUP(A279,'Lista Prekursory'!$A$2:$B$60,2,FALSE)),\"\")","v":""},{"$f":"IFERROR(IF(A279=\"\",\"\",HLOOKUP(A279,'Lista Prekursory'!$H$1:$BN$7,2,FALSE)),\"\")","v":""}]
[null,{"$f":"IFERROR(IF(A280=\"\",\"\",VLOOKUP(A280,'Lista Prekursory'!$A$2:$B$60,2,FALSE)),\"\")","v":""},{"$f":"IFERROR(IF(A280=\"\",\"\",HLOOKUP(A280,'Lista Prekursory'!$H$1:$BN$7,2,FALSE)),\"\")","v":""}]
[null,{"$f":"IFERROR(IF(A281=\"\",\"\",VLOOKUP(A281,'Lista Prekursory'!$A$2:$B$60,2,FALSE)),\"\")","v":""},{"$f":"IFERROR(IF(A281=\"\",\"\",HLOOKUP(A281,'Lista Prekursory'!$H$1:$BN$7,2,FALSE)),\"\")","v":""}]
[null,{"$f":"IFERROR(IF(A282=\"\",\"\",VLOOKUP(A282,'Lista Prekursory'!$A$2:$B$60,2,FALSE)),\"\")","v":""},{"$f":"IFERROR(IF(A282=\"\",\"\",HLOOKUP(A282,'Lista Prekursory'!$H$1:$BN$7,2,FALSE)),\"\")","v":""}]
[null,{"$f":"IFERROR(IF(A283=\"\",\"\",VLOOKUP(A283,'Lista Prekursory'!$A$2:$B$60,2,FALSE)),\"\")","v":""},{"$f":"IFERROR(IF(A283=\"\",\"\",HLOOKUP(A283,'Lista Prekursory'!$H$1:$BN$7,2,FALSE)),\"\")","v":""}]
[null,{"$f":"IFERROR(IF(A284=\"\",\"\",VLOOKUP(A284,'Lista Prekursory'!$A$2:$B$60,2,FALSE)),\"\")","v":""},{"$f":"IFERROR(IF(A284=\"\",\"\",HLOOKUP(A284,'Lista Prekursory'!$H$1:$BN$7,2,FALSE)),\"\")","v":""}]
[null,{"$f":"IFERROR(IF(A285=\"\",\"\",VLOOKUP(A285,'Lista Prekursory'!$A$2:$B$60,2,FALSE)),\"\")","v":""},{"$f":"IFERROR(IF(A285=\"\",\"\",HLOOKUP(A285,'Lista Prekursory'!$H$1:$BN$7,2,FALSE)),\"\")","v":""}]
[null,{"$f":"IFERROR(IF(A286=\"\",\"\",VLOOKUP(A286,'Lista Prekursory'!$A$2:$B$60,2,FALSE)),\"\")","v":""},{"$f":"IFERROR(IF(A286=\"\",\"\",HLOOKUP(A286,'Lista Prekursory'!$H$1:$BN$7,2,FALSE)),\"\")","v":""}]
[null,{"$f":"IFERROR(IF(A287=\"\",\"\",VLOOKUP(A287,'Lista Prekursory'!$A$2:$B$60,2,FALSE)),\"\")","v":""},{"$f":"IFERROR(IF(A287=\"\",\"\",HLOOKUP(A287,'Lista Prekursory'!$H$1:$BN$7,2,FALSE)),\"\")","v":""}]
[null,{"$f":"IFERROR(IF(A288=\"\",\"\",VLOOKUP(A288,'Lista Prekursory'!$A$2:$B$60,2,FALSE)),\"\")","v":""},{"$f":"IFERROR(IF(A288=\"\",\"\",HLOOKUP(A288,'Lista Prekursory'!$H$1:$BN$7,2,FALSE)),\"\")","v":""}]
[null,{"$f":"IFERROR(IF(A289=\"\",\"\",VLOOKUP(A289,'Lista Prekursory'!$A$2:$B$60,2,FALSE)),\"\")","v":""},{"$f":"IFERROR(IF(A289=\"\",\"\",HLOOKUP(A289,'Lista Prekursory'!$H$1:$BN$7,2,FALSE)),\"\")","v":""}]
[null,{"$f":"IFERROR(IF(A290=\"\",\"\",VLOOKUP(A290,'Lista Prekursory'!$A$2:$B$60,2,FALSE)),\"\")","v":""},{"$f":"IFERROR(IF(A290=\"\",\"\",HLOOKUP(A290,'Lista Prekursory'!$H$1:$BN$7,2,FALSE)),\"\")","v":""}]
[null,{"$f":"IFERROR(IF(A291=\"\",\"\",VLOOKUP(A291,'Lista Prekursory'!$A$2:$B$60,2,FALSE)),\"\")","v":""},{"$f":"IFERROR(IF(A291=\"\",\"\",HLOOKUP(A291,'Lista Prekursory'!$H$1:$BN$7,2,FALSE)),\"\")","v":""}]
[null,{"$f":"IFERROR(IF(A292=\"\",\"\",VLOOKUP(A292,'Lista Prekursory'!$A$2:$B$60,2,FALSE)),\"\")","v":""},{"$f":"IFERROR(IF(A292=\"\",\"\",HLOOKUP(A292,'Lista Prekursory'!$H$1:$BN$7,2,FALSE)),\"\")","v":""}]
[null,{"$f":"IFERROR(IF(A293=\"\",\"\",VLOOKUP(A293,'Lista Prekursory'!$A$2:$B$60,2,FALSE)),\"\")","v":""},{"$f":"IFERROR(IF(A293=\"\",\"\",HLOOKUP(A293,'Lista Prekursory'!$H$1:$BN$7,2,FALSE)),\"\")","v":""}]
[null,{"$f":"IFERROR(IF(A294=\"\",\"\",VLOOKUP(A294,'Lista Prekursory'!$A$2:$B$60,2,FALSE)),\"\")","v":""},{"$f":"IFERROR(IF(A294=\"\",\"\",HLOOKUP(A294,'Lista Prekursory'!$H$1:$BN$7,2,FALSE)),\"\")","v":""}]
[null,{"$f":"IFERROR(IF(A295=\"\",\"\",VLOOKUP(A295,'Lista Prekursory'!$A$2:$B$60,2,FALSE)),\"\")","v":""},{"$f":"IFERROR(IF(A295=\"\",\"\",HLOOKUP(A295,'Lista Prekursory'!$H$1:$BN$7,2,FALSE)),\"\")","v":""}]
[null,{"$f":"IFERROR(IF(A296=\"\",\"\",VLOOKUP(A296,'Lista Prekursory'!$A$2:$B$60,2,FALSE)),\"\")","v":""},{"$f":"IFERROR(IF(A296=\"\",\"\",HLOOKUP(A296,'Lista Prekursory'!$H$1:$BN$7,2,FALSE)),\"\")","v":""}]
[null,{"$f":"IFERROR(IF(A297=\"\",\"\",VLOOKUP(A297,'Lista Prekursory'!$A$2:$B$60,2,FALSE)),\"\")","v":""},{"$f":"IFERROR(IF(A297=\"\",\"\",HLOOKUP(A297,'Lista Prekursory'!$H$1:$BN$7,2,FALSE)),\"\")","v":""}]
[null,{"$f":"IFERROR(IF(A298=\"\",\"\",VLOOKUP(A298,'Lista Prekursory'!$A$2:$B$60,2,FALSE)),\"\")","v":""},{"$f":"IFERROR(IF(A298=\"\",\"\",HLOOKUP(A298,'Lista Prekursory'!$H$1:$BN$7,2,FALSE)),\"\")","v":""}]
[null,{"$f":"IFERROR(IF(A299=\"\",\"\",VLOOKUP(A299,'Lista Prekursory'!$A$2:$B$60,2,FALSE)),\"\")","v":""},{"$f":"IFERROR(IF(A299=\"\",\"\",HLOOKUP(A299,'Lista Prekursory'!$H$1:$BN$7,2,FALSE)),\"\")","v":""}]
[null,{"$f":"IFERROR(IF(A300=\"\",\"\",VLOOKUP(A300,'Lista Prekursory'!$A$2:$B$60,2,FALSE)),\"\")","v":""},{"$f":"IFERROR(IF(A300=\"\",\"\",HLOOKUP(A300,'Lista Prekursory'!$H$1:$BN$7,2,FALSE)),\"\")","v":""}]

{"sheet":"Formularz Wytwórcy","index":20,"n_rows":23,"n_cols":5,"rows_kept":23,"cut":false,"hidden":true,"merged":[[20,1,20,5],[21,1,21,5],[22,1,22,5],[16,0,16,2],[16,3,16,5],[17,0,17,2],[17,3,17,5],[18,0,18,5],[19,1,19,2],[19,4,19,5],[15,1,15,5],[4,0,4,5],[5,1,5,5],[6,0,6,5],[7,1,7,5],[8,1,8,3],[9,3,9,5],[10,1,10,5],[11,0,11,5],[12,1,12,5],[13,1,13,3],[14,3,14,5]]}
[]
[]
[]
[]
["Roczne sprawozdanie z wytwarzania przetwarzania, przerabiania, przywozu lub dystrybucji środków odurzających, substancji psychotropowych i prekursorów kategorii 1"]
["Nazwa podmiotu:"]
["Adres prowadzenia działalności"]
["REGON:"]
["Ulica:",null,null,null,"Nr"]
["Kod pocztowy:",null,"Miasto:"]
["Telefon:"]
["Adres siedziby:"]
["REGON:"]
["Ulica:",null,null,null,"Nr"]
["Kod pocztowy:",null,"Miasto:"]
["Telefon:"]
["Nr zezwolenia na wytwarzanie lub import produktu leczniczego:"]
["Nr zezwolenia na wytwarzanie, przetwarzanie, przerabianie, przywóz lub dystrybucje substancji kontrolowanych"]
["Osoba odpowiedzialna za wypełnienie sprawozdania:"]
["Imię:",null,null,"Nazwisko:"]
["Telefon:"]
["Data (dzień, miesiąc, rok):"]
["Uwagi:\n\n"]

{"sheet":"Wytwarzanie Badania","index":21,"n_rows":476,"n_cols":18,"rows_kept":476,"cut":false,"hidden":true,"merged":[[434,1,438,1],[439,1,443,1],[444,1,448,1],[6,1,8,1],[9,1,13,1],[14,1,18,1],[19,1,23,1],[24,1,28,1],[29,1,33,1],[399,1,403,1],[404,1,408,1],[409,1,413,1],[414,1,418,1],[419,1,423,1],[424,1,428,1],[369,1,373,1],[374,1,378,1],[379,1,383,1],[384,1,388,1],[389,1,393,1],[394,1,398,1],[339,1,343,1],[344,1,348,1],[64,1,68,1],[444,7,448,7],[444,8,448,8],[444,9,448,9],[151,1,153,1],[154,1,158,1],[159,1,163,1],[164,1,168,1],[169,1,173,1],[174,1,178,1],[179,1,183,1],[429,8,433,8],[429,9,433,9],[424,7,428,7],[424,8,428,8],[424,9,428,9],[414,9,418,9],[409,8,413,8],[409,9,413,9],[404,9,408,9],[394,9,398,9],[389,8,393,8],[389,9,393,9],[384,9,388,9],[374,9,378,9],[444,0,448,0],[444,2,448,2],[444,3,448,3],[444,4,448,4],[444,5,448,5],[444,6,448,6],[434,9,438,9],[439,0,443,0],[439,2,443,2],[439,3,443,3],[439,4,443,4],[439,5,443,5],[439,6,443,6],[439,7,443,7],[439,8,443,8],[439,9,443,9],[434,0,438,0],[434,2,438,2],[434,3,438,3],[434,4,438,4],[434,5,438,5],[434,6,438,6],[434,7,438,7],[434,8,438,8],[429,0,433,0],[429,2,433,2],[429,3,433,3],[429,4,433,4],[429,5,433,5],[429,6,433,6],[429,7,433,7],[424,0,428,0],[424,2,428,2],[424,3,428,3],[424,4,428,4],[424,5,428,5],[424,6,428,6],[429,1,433,1],[419,0,423,0],[419,2,423,2],[419,3,423,3],[419,4,423,4],[419,5,423,5],[419,6,423,6],[419,7,423,7],[419,8,423,8],[419,9,423,9],[414,0,418,0],[414,2,418,2],[414,3,418,3],[414,4,418,4],[414,5,418,5],[414,6,418,6],[414,7,418,7],[414,8,418,8],[404,7,408,7],[404,8,408,8],[409,0,413,0],[409,2,413,2],[409,3,413,3],[409,4,413,4],[409,5,413,5],[409,6,413,6],[409,7,413,7],[404,0,408,0],[404,2,408,2],[404,3,408,3],[404,4,408,4],[404,5,408,5],[404,6,408,6],[399,0,403,0],[399,2,403,2],[399,3,403,3],[399,4,403,4],[399,5,403,5],[399,6,403,6],[399,7,403,7],[399,8,403,8],[399,9,403,9],[379,9,383,9],[394,0,398,0],[394,2,398,2],[394,3,398,3],[394,4,398,4],[394,5,398,5],[394,6,398,6],[394,7,398,7],[394,8,398,8],[384,7,388,7],[384,8,388,8],[389,0,393,0],[389,2,393,2],[389,3,393,3],[389,4,393,4],[389,5,393,5],[389,6,393,6],[389,7,393,7],[384,0,388,0],[384,2,388,2],[384,3,388,3],[384,4,388,4],[384,5,388,5],[384,6,388,6],[374,0,378,0],[374,2,378,2],[374,3,378,3],[374,4,378,4],[374,5,378,5],[374,6,378,6],[374,7,378,7],[374,8,378,8],[379,0,383,0],[379,2,383,2],[379,3,383,3],[379,4,383,4],[379,5,383,5],[379,6,383,6],[379,7,383,7],[379,8,383,8],[364,7,368,7],[364,8,368,8],[364,9,368,9],[369,0,373,0],[369,2,373,2],[369,3,373,3],[369,4,373,4],[369,5,373,5],[369,6,373,6],[369,7,373,7],[364,0,368,0],[364,2,368,2],[364,3,368,3],[364,4,368,4],[364,5,368,5],[364,6,368,6],[369,8,373,8],[369,9,373,9],[364,1,368,1],[359,0,363,0],[359,2,363,2],[359,3,363,3],[359,4,363,4],[359,5,363,5],[359,6,363,6],[359,7,363,7],[359,8,363,8],[359,9,363,9],[359,1,363,1],[354,0,358,0],[354,2,358,2],[354,3,358,3],[354,4,358,4],[354,5,358,5],[354,6,358,6],[354,7,358,7],[354,8,358,8],[354,9,358,9],[354,1,358,1],[344,7,348,7],[344,8,348,8],[344,9,348,9],[349,0,353,0],[349,2,353,2],[349,3,353,3],[349,4,353,4],[349,5,353,5],[349,6,353,6],[349,7,353,7],[344,0,348,0],[344,2,348,2],[344,3,348,3],[344,4,348,4],[344,5,348,5],[344,6,348,6],[349,8,353,8],[349,9,353,9],[349,1,353,1],[339,0,343,0],[339,2,343,2],[339,3,343,3],[339,4,343,4],[339,5,343,5],[339,6,343,6],[339,7,343,7],[339,8,343,8],[339,9,343,9],[334,0,338,0],[334,2,338,2],[334,3,338,3],[334,4,338,4],[334,5,338,5],[334,6,338,6],[334,7,338,7],[334,8,338,8],[334,9,338,9],[334,1,338,1],[324,7,328,7],[324,8,328,8],[324,9,328,9],[329,0,333,0],[329,2,333,2],[329,3,333,3],[329,4,333,4],[329,5,333,5],[329,6,333,6],[329,7,333,7],[324,0,328,0],[324,2,328,2],[324,3,328,3],[324,4,328,4],[324,5,328,5],[324,6,328,6],[329,8,333,8],[329,9,333,9],[324,1,328,1],[329,1,333,1],[319,0,323,0],[319,2,323,2],[319,3,323,3],[319,4,323,4],[319,5,323,5],[319,6,323,6],[319,7,323,7],[319,8,323,8],[319,9,323,9],[319,1,323,1],[314,0,318,0],[314,2,318,2],[314,3,318,3],[314,4,318,4],[314,5,318,5],[314,6,318,6],[314,7,318,7],[314,8,318,8],[314,9,318,9],[314,1,318,1],[309,0,313,0],[309,2,313,2],[309,3,313,3],[309,4,313,4],[309,5,313,5],[309,6,313,6],[309,7,313,7],[309,8,313,8],[309,9,313,9],[309,1,313,1],[304,0,308,0],[304,2,308,2],[304,3,308,3],[304,4,308,4],[304,5,308,5],[304,6,308,6],[304,7,308,7],[304,8,308,8],[304,9,308,9],[304,1,308,1],[294,7,298,7],[294,8,298,8],[294,9,298,9],[299,0,300,9],[301,0,303,0],[301,2,303,2],[301,3,303,3],[301,4,301,6],[301,7,303,7],[301,8,303,8],[294,0,298,0],[294,2,298,2],[294,3,298,3],[294,4,298,4],[294,5,298,5],[294,6,298,6],[301,9,303,9],[302,4,303,4],[302,5,303,5],[302,6,303,6],[294,1,298,1],[301,1,303,1],[289,0,293,0],[289,2,293,2],[289,3,293,3],[289,4,293,4],[289,5,293,5],[289,6,293,6],[289,7,293,7],[289,8,293,8],[289,9,293,9],[289,1,293,1],[284,0,288,0],[284,2,288,2],[284,3,288,3],[284,4,288,4],[284,5,288,5],[284,6,288,6],[284,7,288,7],[284,8,288,8],[284,9,288,9],[284,1,288,1],[274,7,278,7],[274,8,278,8],[274,9,278,9],[279,0,283,0],[279,2,283,2],[279,3,283,3],[279,4,283,4],[279,5,283,5],[279,6,283,6],[279,7,283,7],[274,0,278,0],[274,2,278,2],[274,3,278,3],[274,4,278,4],[274,5,278,5],[274,6,278,6],[279,8,283,8],[279,9,283,9],[279,1,283,1],[274,1,278,1],[269,0,273,0],[269,2,273,2],[269,3,273,3],[269,4,273,4],[269,5,273,5],[269,6,273,6],[269,7,273,7],[269,8,273,8],[269,9,273,9],[269,1,273,1],[264,0,268,0],[264,2,268,2],[264,3,268,3],[264,4,268,4],[264,5,268,5],[264,6,268,6],[264,7,268,7],[264,8,268,8],[264,9,268,9],[264,1,268,1],[254,7,258,7],[254,8,258,8],[254,9,258,9],[259,0,263,0],[259,2,263,2],[259,3,263,3],[259,4,263,4],[259,5,263,5],[259,6,263,6],[259,7,263,7],[254,0,258,0],[254,2,258,2],[254,3,258,3],[254,4,258,4],[254,5,258,5],[254,6,258,6],[259,8,263,8],[259,9,263,9],[254,1,258,1],[259,1,263,1],[249,0,253,0],[249,2,253,2],[249,3,253,3],[249,4,253,4],[249,5,253,5],[249,6,253,6],[249,7,253,7],[249,8,253,8],[249,9,253,9],[249,1,253,1],[244,0,248,0],[244,2,248,2],[244,3,248,3],[244,4,248,4],[244,5,248,5],[244,6,248,6],[244,7,248,7],[244,8,248,8],[244,9,248,9],[244,1,248,1],[234,7,238,7],[234,8,238,8],[234,9,238,9],[239,0,243,0],[239,2,243,2],[239,3,243,3],[239,4,243,4],[239,5,243,5],[239,6,243,6],[239,7,243,7],[234,0,238,0],[234,2,238,2],[234,3,238,3],[234,4,238,4],[234,5,238,5],[234,6,238,6],[239,8,243,8],[239,9,243,9],[234,1,238,1],[239,1,243,1],[229,0,233,0],[229,2,233,2],[229,3,233,3],[229,4,233,4],[229,5,233,5],[229,6,233,6],[229,7,233,7],[229,8,233,8],[229,9,233,9],[229,1,233,1],[224,0,228,0],[224,2,228,2],[224,3,228,3],[224,4,228,4],[224,5,228,5],[224,6,228,6],[224,7,228,7],[224,8,228,8],[224,9,228,9],[224,1,228,1],[214,7,218,7],[214,8,218,8],[214,9,218,9],[219,0,223,0],[219,2,223,2],[219,3,223,3],[219,4,223,4],[219,5,223,5],[219,6,223,6],[219,7,223,7],[214,0,218,0],[214,2,218,2],[214,3,218,3],[214,4,218,4],[214,5,218,5],[214,6,218,6],[214,1,218,1],[219,8,223,8],[219,9,223,9],[219,1,223,1],[209,0,213,0],[209,2,213,2],[209,3,213,3],[209,4,213,4],[209,5,213,5],[209,6,213,6],[209,7,213,7],[209,8,213,8],[209,9,213,9],[209,1,213,1],[204,0,208,0],[204,2,208,2],[204,3,208,3],[204,4,208,4],[204,5,208,5],[204,6,208,6],[204,7,208,7],[204,8,208,8],[204,9,208,9],[204,1,208,1],[194,7,198,7],[194,8,198,8],[194,9,198,9],[199,0,203,0],[199,2,203,2],[199,3,203,3],[199,4,203,4],[199,5,203,5],[199,6,203,6],[199,7,203,7],[194,0,198,0],[194,2,198,2],[194,3,198,3],[194,4,198,4],[194,5,198,5],[194,6,198,6],[199,8,203,8],[199,9,203,9],[194,1,198,1],[199,1,203,1],[189,0,193,0],[189,2,193,2],[189,3,193,3],[189,4,193,4],[189,5,193,5],[189,6,193,6],[189,7,193,7],[189,8,193,8],[189,9,193,9],[189,1,193,1],[184,0,188,0],[184,2,188,2],[184,3,188,3],[184,4,188,4],[184,5,188,5],[184,6,188,6],[184,7,188,7],[184,8,188,8],[184,9,188,9],[184,1,188,1],[174,7,178,7],[174,8,178,8],[174,9,178,9],[179,0,183,0],[179,2,183,2],[179,3,183,3],[179,4,183,4],[179,5,183,5],[179,6,183,6],[179,7,183,7],[174,0,178,0],[174,2,178,2],[174,3,178,3],[174,4,178,4],[174,5,178,5],[174,6,178,6],[179,8,183,8],[179,9,183,9],[169,0,173,0],[169,2,173,2],[169,3,173,3],[169,4,173,4],[169,5,173,5],[169,6,173,6],[169,7,173,7],[169,8,173,8],[169,9,173,9],[164,0,168,0],[164,2,168,2],[164,3,168,3],[164,4,168,4],[164,5,168,5],[164,6,168,6],[164,7,168,7],[164,8,168,8],[164,9,168,9],[154,7,158,7],[154,8,158,8],[154,9,158,9],[159,0,163,0],[159,2,163,2],[159,3,163,3],[159,4,163,4],[159,5,163,5],[159,6,163,6],[159,7,163,7],[154,0,158,0],[154,2,158,2],[154,3,158,3],[154,4,158,4],[154,5,158,5],[154,6,158,6],[159,8,163,8],[159,9,163,9],[149,0,150,9],[151,0,153,0],[151,2,153,2],[151,3,153,3],[151,7,153,7],[151,8,153,8],[151,9,153,9],[152,4,153,4],[152,5,153,5],[152,6,153,6],[144,0,148,0],[144,2,148,2],[144,3,148,3],[144,4,148,4],[144,5,148,5],[144,6,148,6],[144,7,148,7],[144,8,148,8],[144,9,148,9],[144,1,148,1],[139,0,143,0],[139,2,143,2],[139,3,143,3],[139,4,143,4],[139,5,143,5],[139,6,143,6],[139,7,143,7],[139,8,143,8],[139,9,143,9],[139,1,143,1],[129,7,133,7],[129,8,133,8],[129,9,133,9],[134,0,138,0],[134,2,138,2],[134,3,138,3],[134,4,138,4],[134,5,138,5],[134,6,138,6],[134,7,138,7],[129,0,133,0],[129,2,133,2],[129,3,133,3],[129,4,133,4],[129,5,133,5],[129,6,133,6],[134,8,138,8],[134,9,138,9],[129,1,133,1],[134,1,138,1],[124,0,128,0],[124,2,128,2],[124,3,128,3],[124,4,128,4],[124,5,128,5],[124,6,128,6],[124,7,128,7],[124,8,128,8],[124,9,128,9],[124,1,128,1],[119,0,123,0],[119,2,123,2],[119,3,123,3],[119,4,123,4],[119,5,123,5],[119,6,123,6],[119,7,123,7],[119,8,123,8],[119,9,123,9],[119,1,123,1],[109,7,113,7],[109,8,113,8],[109,9,113,9],[114,0,118,0],[114,2,118,2],[114,3,118,3],[114,4,118,4],[114,5,118,5],[114,6,118,6],[114,7,118,7],[109,0,113,0],[109,2,113,2],[109,3,113,3],[109,4,113,4],[109,5,113,5],[109,6,113,6],[114,8,118,8],[114,9,118,9],[109,1,113,1],[114,1,118,1],[104,0,108,0],[104,2,108,2],[104,3,108,3],[104,4,108,4],[104,5,108,5],[104,6,108,6],[104,7,108,7],[104,8,108,8],[104,9,108,9],[104,1,108,1],[99,0,103,0],[99,2,103,2],[99,3,103,3],[99,4,103,4],[99,5,103,5],[99,6,103,6],[99,7,103,7],[99,8,103,8],[99,9,103,9],[99,1,103,1],[89,7,93,7],[89,8,93,8],[89,9,93,9],[94,0,98,0],[94,2,98,2],[94,3,98,3],[94,4,98,4],[94,5,98,5],[94,6,98,6],[94,7,98,7],[89,0,93,0],[89,2,93,2],[89,3,93,3],[89,4,93,4],[89,5,93,5],[89,6,93,6],[94,8,98,8],[94,9,98,9],[89,1,93,1],[94,1,98,1],[84,0,88,0],[84,2,88,2],[84,3,88,3],[84,4,88,4],[84,5,88,5],[84,6,88,6],[84,7,88,7],[84,8,88,8],[84,9,88,9],[84,1,88,1],[79,0,83,0],[79,2,83,2],[79,3,83,3],[79,4,83,4],[79,5,83,5],[79,6,83,6],[79,7,83,7],[79,8,83,8],[79,9,83,9],[79,1,83,1],[69,7,73,7],[69,8,73,8],[69,9,73,9],[74,0,78,0],[74,2,78,2],[74,3,78,3],[74,4,78,4],[74,5,78,5],[74,6,78,6],[74,7,78,7],[69,0,73,0],[69,2,73,2],[69,3,73,3],[69,4,73,4],[69,5,73,5],[69,6,73,6],[74,8,78,8],[74,9,78,9],[69,1,73,1],[74,1,78,1],[64,0,68,0],[64,2,68,2],[64,3,68,3],[64,4,68,4],[64,5,68,5],[64,6,68,6],[64,7,68,7],[64,8,68,8],[64,9,68,9],[59,0,63,0],[59,2,63,2],[59,3,63,3],[59,4,63,4],[59,5,63,5],[59,6,63,6],[59,7,63,7],[59,8,63,8],[59,9,63,9],[59,1,63,1],[49,7,53,7],[49,8,53,8],[49,9,53,9],[54,0,58,0],[54,2,58,2],[54,3,58,3],[54,4,58,4],[54,5,58,5],[54,6,58,6],[54,7,58,7],[49,0,53,0],[49,2,53,2],[49,3,53,3],[49,4,53,4],[49,5,53,5],[49,6,53,6],[54,8,58,8],[54,9,58,9],[49,1,53,1],[54,1,58,1],[44,0,48,0],[44,2,48,2],[44,3,48,3],[44,4,48,4],[44,5,48,5],[44,6,48,6],[44,7,48,7],[44,8,48,8],[44,9,48,9],[44,1,48,1],[39,0,43,0],[39,2,43,2],[39,3,43,3],[39,4,43,4],[39,5,43,5],[39,6,43,6],[39,7,43,7],[39,8,43,8],[39,9,43,9],[39,1,43,1],[29,7,33,7],[29,8,33,8],[29,9,33,9],[34,0,38,0],[34,2,38,2],[34,3,38,3],[34,4,38,4],[34,5,38,5],[34,6,38,6],[34,7,38,7],[29,0,33,0],[29,2,33,2],[29,3,33,3],[29,4,33,4],[29,5,33,5],[29,6,33,6],[34,8,38,8],[34,9,38,9],[34,1,38,1],[24,0,28,0],[24,2,28,2],[24,3,28,3],[24,4,28,4],[24,5,28,5],[24,6,28,6],[24,7,28,7],[24,8,28,8],[24,9,28,9],[19,0,23,0],[19,2,23,2],[19,3,23,3],[19,4,23,4],[19,5,23,5],[19,6,23,6],[19,7,23,7],[19,8,23,8],[19,9,23,9],[14,0,18,0],[14,2,18,2],[14,3,18,3],[14,4,18,4],[14,5,18,5],[14,6,18,6],[14,7,18,7],[14,8,18,8],[14,9,18,9],[7,6,8,6],[9,0,13,0],[9,2,13,2],[9,3,13,3],[9,4,13,4],[9,5,13,5],[9,6,13,6],[4,0,5,9],[6,0,8,0],[6,2,8,2],[6,3,8,3],[6,4,6,6],[6,7,8,7],[6,8,8,8],[6,9,8,9],[7,4,8,4],[7,5,8,5],[9,7,13,7],[9,8,13,8],[9,9,13,9]]}
[]
[]
[]
[]
["Badania - substancje psychotropowe"]
[]
["Przedmiot badań","Czysta postać badnej substancji","Cel badania","Stan na dzień 01.01 okresu sprawozdawczego","Przychód w roku sprawozdawczym",null,null,"Wykorzystano w badaniach","Utylizacja","Stan na dzień 31.12 okresu sprawozdawczego"]
[null,null,null,null,"Kupione w kraju","Wewnątrzwspólnotowe nabycie/przywóz","Produkcja własna"]
[]
[null,null,null,null,null,null,null,null,null,null,null,null,null,null,null,null,null,{"$f":"#REF!","v":{"$error":"#REF!"}}]
[null,null,null,null,null,null,null,null,null,null,null,null,null,null,null,null,null,{"$f":"R10","v":{"$error":"#REF!"}}]
[null,null,null,null,null,null,null,null,null,null,null,null,null,null,null,null,null,{"$f":"R11","v":{"$error":"#REF!"}}]
[null,null,null,null,null,null,null,null,null,null,null,null,null,null,null,null,null,{"$f":"R12","v":{"$error":"#REF!"}}]
[null,null,null,null,null,null,null,null,null,null,null,null,null,null,null,null,null,{"$f":"R13","v":{"$error":"#REF!"}}]
[null,null,null,null,null,null,null,null,null,null,null,null,null,null,null,null,null,{"$f":"#REF!","v":{"$error":"#REF!"}}]
[null,null,null,null,null,null,null,null,null,null,null,null,null,null,null,null,null,{"$f":"R15","v":{"$error":"#REF!"}}]
[null,null,null,null,null,null,null,null,null,null,null,null,null,null,null,null,null,{"$f":"R16","v":{"$error":"#REF!"}}]
[null,null,null,null,null,null,null,null,null,null,null,null,null,null,null,null,null,{"$f":"R17","v":{"$error":"#REF!"}}]
[null,null,null,null,null,null,null,null,null,null,null,null,null,null,null,null,null,{"$f":"R18","v":{"$error":"#REF!"}}]
[null,null,null,null,null,null,null,null,null,null,null,null,null,null,null,null,null,{"$f":"#REF!","v":{"$error":"#REF!"}}]
[null,null,null,null,null,null,null,null,null,null,null,null,null,null,null,null,null,{"$f":"R20","v":{"$error":"#REF!"}}]
[null,null,null,null,null,null,null,null,null,null,null,null,null,null,null,null,null,{"$f":"R21","v":{"$error":"#REF!"}}]
[null,null,null,null,null,null,null,null,null,null,null,null,null,null,null,null,null,{"$f":"R22","v":{"$error":"#REF!"}}]
[null,null,null,null,null,null,null,null,null,null,null,null,null,null,null,null,null,{"$f":"R23","v":{"$error":"#REF!"}}]
[null,null,null,null,null,null,null,null,null,null,null,null,null,null,null,null,null,{"$f":"#REF!","v":{"$error":"#REF!"}}]
[null,null,null,null,null,null,null,null,null,null,null,null,null,null,null,null,null,{"$f":"R25","v":{"$error":"#REF!"}}]
[null,null,null,null,null,null,null,null,null,null,null,null,null,null,null,null,null,{"$f":"R26","v":{"$error":"#REF!"}}]
[null,null,null,null,null,null,null,null,null,null,null,null,null,null,null,null,null,{"$f":"R27","v":{"$error":"#REF!"}}]
[null,null,null,null,null,null,null,null,null,null,null,null,null,null,null,null,null,{"$f":"R28","v":{"$error":"#REF!"}}]
[null,null,null,null,null,null,null,null,null,null,null,null,null,null,null,null,null,{"$f":"#REF!","v":{"$error":"#REF!"}}]
[null,null,null,null,null,null,null,null,null,null,null,null,null,null,null,null,null,{"$f":"R30","v":{"$error":"#REF!"}}]
[null,null,null,null,null,null,null,null,null,null,null,null,null,null,null,null,null,{"$f":"R31","v":{"$error":"#REF!"}}]
[null,null,null,null,null,null,null,null,null,null,null,null,null,null,null,null,null,{"$f":"R32","v":{"$error":"#REF!"}}]
[null,null,null,null,null,null,null,null,null,null,null,null,null,null,null,null,null,{"$f":"R33","v":{"$error":"#REF!"}}]
[null,null,null,null,null,null,null,null,null,null,null,null,null,null,null,null,null,{"$f":"#REF!","v":{"$error":"#REF!"}}]
[null,null,null,null,null,null,null,null,null,null,null,null,null,null,null,null,null,{"$f":"R35","v":{"$error":"#REF!"}}]
[null,null,null,null,null,null,null,null,null,null,null,null,null,null,null,null,null,{"$f":"R36","v":{"$error":"#REF!"}}]
[null,null,null,null,null,null,null,null,null,null,null,null,null,null,null,null,null,{"$f":"R37","v":{"$error":"#REF!"}}]
[null,null,null,null,null,null,null,null,null,null,null,null,null,null,null,null,null,{"$f":"R38","v":{"$error":"#REF!"}}]
[null,null,null,null,null,null,null,null,null,null,null,null,null,null,null,null,null,{"$f":"#REF!","v":{"$error":"#REF!"}}]
[null,null,null,null,null,null,null,null,null,null,null,null,null,null,null,null,null,{"$f":"R40","v":{"$error":"#REF!"}}]
[null,null,null,null,null,null,null,null,null,null,null,null,null,null,null,null,null,{"$f":"R41","v":{"$error":"#REF!"}}]
[null,null,null,null,null,null,null,null,null,null,null,null,null,null,null,null,null,{"$f":"R42","v":{"$error":"#REF!"}}]
[null,null,null,null,null,null,null,null,null,null,null,null,null,null,null,null,null,{"$f":"R43","v":{"$error":"#REF!"}}]
[null,null,null,null,null,null,null,null,null,null,null,null,null,null,null,null,null,{"$f":"#REF!","v":{"$error":"#REF!"}}]
[null,null,null,null,null,null,null,null,null,null,null,null,null,null,null,null,null,{"$f":"R45","v":{"$error":"#REF!"}}]
[null,null,null,null,null,null,null,null,null,null,null,null,null,null,null,null,null,{"$f":"R46","v":{"$error":"#REF!"}}]
[null,null,null,null,null,null,null,null,null,null,null,null,null,null,null,null,null,{"$f":"R47","v":{"$error":"#REF!"}}]
[null,null,null,null,null,null,null,null,null,null,null,null,null,null,null,null,null,{"$f":"R48","v":{"$error":"#REF!"}}]
[null,null,null,null,null,null,null,null,null,null,null,null,null,null,null,null,null,{"$f":"#REF!","v":{"$error":"#REF!"}}]
[null,null,null,null,null,null,null,null,null,null,null,null,null,null,null,null,null,{"$f":"R50","v":{"$error":"#REF!"}}]
[null,null,null,null,null,null,null,null,null,null,null,null,null,null,null,null,null,{"$f":"R51","v":{"$error":"#REF!"}}]
[null,null,null,null,null,null,null,null,null,null,null,null,null,null,null,null,null,{"$f":"R52","v":{"$error":"#REF!"}}]
[null,null,null,null,null,null,null,null,null,null,null,null,null,null,null,null,null,{"$f":"R53","v":{"$error":"#REF!"}}]
[null,null,null,null,null,null,null,null,null,null,null,null,null,null,null,null,null,{"$f":"#REF!","v":{"$error":"#REF!"}}]
[null,null,null,null,null,null,null,null,null,null,null,null,null,null,null,null,null,{"$f":"R55","v":{"$error":"#REF!"}}]
[null,null,null,null,null,null,null,null,null,null,null,null,null,null,null,null,null,{"$f":"R56","v":{"$error":"#REF!"}}]
[null,null,null,null,null,null,null,null,null,null,null,null,null,null,null,null,null,{"$f":"R57","v":{"$error":"#REF!"}}]
[null,null,null,null,null,null,null,null,null,null,null,null,null,null,null,null,null,{"$f":"R58","v":{"$error":"#REF!"}}]
[null,null,null,null,null,null,null,null,null,null,null,null,null,null,null,null,null,{"$f":"#REF!","v":{"$error":"#REF!"}}]
[null,null,null,null,null,null,null,null,null,null,null,null,null,null,null,null,null,{"$f":"R60","v":{"$error":"#REF!"}}]
[null,null,null,null,null,null,null,null,null,null,null,null,null,null,null,null,null,{"$f":"R61","v":{"$error":"#REF!"}}]
[null,null,null,null,null,null,null,null,null,null,null,null,null,null,null,null,null,{"$f":"R62","v":{"$error":"#REF!"}}]
[null,null,null,null,null,null,null,null,null,null,null,null,null,null,null,null,null,{"$f":"R63","v":{"$error":"#REF!"}}]
[null,null,null,null,null,null,null,null,null,null,null,null,null,null,null,null,null,{"$f":"#REF!","v":{"$error":"#REF!"}}]
[null,null,null,null,null,null,null,null,null,null,null,null,null,null,null,null,null,{"$f":"R65","v":{"$error":"#REF!"}}]
[null,null,null,null,null,null,null,null,null,null,null,null,null,null,null,null,null,{"$f":"R66","v":{"$error":"#REF!"}}]
[null,null,null,null,null,null,null,null,null,null,null,null,null,null,null,null,null,{"$f":"R67","v":{"$error":"#REF!"}}]
[null,null,null,null,null,null,null,null,null,null,null,null,null,null,null,null,null,{"$f":"R68","v":{"$error":"#REF!"}}]
[null,null,null,null,null,null,null,null,null,null,null,null,null,null,null,null,null,{"$f":"#REF!","v":{"$error":"#REF!"}}]
[null,null,null,null,null,null,null,null,null,null,null,null,null,null,null,null,null,{"$f":"R70","v":{"$error":"#REF!"}}]
[null,null,null,null,null,null,null,null,null,null,null,null,null,null,null,null,null,{"$f":"R71","v":{"$error":"#REF!"}}]
[null,null,null,null,null,null,null,null,null,null,null,null,null,null,null,null,null,{"$f":"R72","v":{"$error":"#REF!"}}]
[null,null,null,null,null,null,null,null,null,null,null,null,null,null,null,null,null,{"$f":"R73","v":{"$error":"#REF!"}}]
[null,null,null,null,null,null,null,null,null,null,null,null,null,null,null,null,null,{"$f":"#REF!","v":{"$error":"#REF!"}}]
[null,null,null,null,null,null,null,null,null,null,null,null,null,null,null,null,null,{"$f":"R75","v":{"$error":"#REF!"}}]
[null,null,null,null,null,null,null,null,null,null,null,null,null,null,null,null,null,{"$f":"R76","v":{"$error":"#REF!"}}]
[null,null,null,null,null,null,null,null,null,null,null,null,null,null,null,null,null,{"$f":"R77","v":{"$error":"#REF!"}}]
[null,null,null,null,null,null,null,null,null,null,null,null,null,null,null,null,null,{"$f":"R78","v":{"$error":"#REF!"}}]
[null,null,null,null,null,null,null,null,null,null,null,null,null,null,null,null,null,{"$f":"#REF!","v":{"$error":"#REF!"}}]
[null,null,null,null,null,null,null,null,null,null,null,null,null,null,null,null,null,{"$f":"R80","v":{"$error":"#REF!"}}]
[null,null,null,null,null,null,null,null,null,null,null,null,null,null,null,null,null,{"$f":"R81","v":{"$error":"#REF!"}}]
[null,null,null,null,null,null,null,null,null,null,null,null,null,null,null,null,null,{"$f":"R82","v":{"$error":"#REF!"}}]
[null,null,null,null,null,null,null,null,null,null,null,null,null,null,null,null,null,{"$f":"R83","v":{"$error":"#REF!"}}]
[null,null,null,null,null,null,null,null,null,null,null,null,null,null,null,null,null,{"$f":"#REF!","v":{"$error":"#REF!"}}]
[null,null,null,null,null,null,null,null,null,null,null,null,null,null,null,null,null,{"$f":"R85","v":{"$error":"#REF!"}}]
[null,null,null,null,null,null,null,null,null,null,null,null,null,null,null,null,null,{"$f":"R86","v":{"$error":"#REF!"}}]
[null,null,null,null,null,null,null,null,null,null,null,null,null,null,null,null,null,{"$f":"R87","v":{"$error":"#REF!"}}]
[null,null,null,null,null,null,null,null,null,null,null,null,null,null,null,null,null,{"$f":"R88","v":{"$error":"#REF!"}}]
[null,null,null,null,null,null,null,null,null,null,null,null,null,null,null,null,null,{"$f":"#REF!","v":{"$error":"#REF!"}}]
[null,null,null,null,null,null,null,null,null,null,null,null,null,null,null,null,null,{"$f":"R90","v":{"$error":"#REF!"}}]
[null,null,null,null,null,null,null,null,null,null,null,null,null,null,null,null,null,{"$f":"R91","v":{"$error":"#REF!"}}]
[null,null,null,null,null,null,null,null,null,null,null,null,null,null,null,null,null,{"$f":"R92","v":{"$error":"#REF!"}}]
[null,null,null,null,null,null,null,null,null,null,null,null,null,null,null,null,null,{"$f":"R93","v":{"$error":"#REF!"}}]
[null,null,null,null,null,null,null,null,null,null,null,null,null,null,null,null,null,{"$f":"#REF!","v":{"$error":"#REF!"}}]
[null,null,null,null,null,null,null,null,null,null,null,null,null,null,null,null,null,{"$f":"R95","v":{"$error":"#REF!"}}]
[null,null,null,null,null,null,null,null,null,null,null,null,null,null,null,null,null,{"$f":"R96","v":{"$error":"#REF!"}}]
[null,null,null,null,null,null,null,null,null,null,null,null,null,null,null,null,null,{"$f":"R97","v":{"$error":"#REF!"}}]
[null,null,null,null,null,null,null,null,null,null,null,null,null,null,null,null,null,{"$f":"R98","v":{"$error":"#REF!"}}]
[null,null,null,null,null,null,null,null,null,null,null,null,null,null,null,null,null,{"$f":"#REF!","v":{"$error":"#REF!"}}]
[null,null,null,null,null,null,null,null,null,null,null,null,null,null,null,null,null,{"$f":"R100","v":{"$error":"#REF!"}}]
[null,null,null,null,null,null,null,null,null,null,null,null,null,null,null,null,null,{"$f":"R101","v":{"$error":"#REF!"}}]
[null,null,null,null,null,null,null,null,null,null,null,null,null,null,null,null,null,{"$f":"R102","v":{"$error":"#REF!"}}]
[null,null,null,null,null,null,null,null,null,null,null,null,null,null,null,null,null,{"$f":"R103","v":{"$error":"#REF!"}}]
[null,null,null,null,null,null,null,null,null,null,null,null,null,null,null,null,null,{"$f":"#REF!","v":{"$error":"#REF!"}}]
[null,null,null,null,null,null,null,null,null,null,null,null,null,null,null,null,null,{"$f":"R105","v":{"$error":"#REF!"}}]
[null,null,null,null,null,null,null,null,null,null,null,null,null,null,null,null,null,{"$f":"R106","v":{"$error":"#REF!"}}]
[null,null,null,null,null,null,null,null,null,null,null,null,null,null,null,null,null,{"$f":"R107","v":{"$error":"#REF!"}}]
[null,null,null,null,null,null,null,null,null,null,null,null,null,null,null,null,null,{"$f":"R108","v":{"$error":"#REF!"}}]
[null,null,null,null,null,null,null,null,null,null,null,null,null,null,null,null,null,{"$f":"#REF!","v":{"$error":"#REF!"}}]
[null,null,null,null,null,null,null,null,null,null,null,null,null,null,null,null,null,{"$f":"R110","v":{"$error":"#REF!"}}]
[null,null,null,null,null,null,null,null,null,null,null,null,null,null,null,null,null,{"$f":"R111","v":{"$error":"#REF!"}}]
[null,null,null,null,null,null,null,null,null,null,null,null,null,null,null,null,null,{"$f":"R112","v":{"$error":"#REF!"}}]
[null,null,null,null,null,null,null,null,null,null,null,null,null,null,null,null,null,{"$f":"R113","v":{"$error":"#REF!"}}]
[null,null,null,null,null,null,null,null,null,null,null,null,null,null,null,null,null,{"$f":"#REF!","v":{"$error":"#REF!"}}]
[null,null,null,null,null,null,null,null,null,null,null,null,null,null,null,null,null,{"$f":"R115","v":{"$error":"#REF!"}}]
[null,null,null,null,null,null,null,null,null,null,null,null,null,null,null,null,null,{"$f":"R116","v":{"$error":"#REF!"}}]
[null,null,null,null,null,null,null,null,null,null,null,null,null,null,null,null,null,{"$f":"R117","v":{"$error":"#REF!"}}]
[null,null,null,null,null,null,null,null,null,null,null,null,null,null,null,null,null,{"$f":"R118","v":{"$error":"#REF!"}}]
[null,null,null,null,null,null,null,null,null,null,null,null,null,null,null,null,null,{"$f":"#REF!","v":{"$error":"#REF!"}}]
[null,null,null,null,null,null,null,null,null,null,null,null,null,null,null,null,null,{"$f":"R120","v":{"$error":"#REF!"}}]
[null,null,null,null,null,null,null,null,null,null,null,null,null,null,null,null,null,{"$f":"R121","v":{"$error":"#REF!"}}]
[null,null,null,null,null,null,null,null,null,null,null,null,null,null,null,null,null,{"$f":"R122","v":{"$error":"#REF!"}}]
[null,null,null,null,null,null,null,null,null,null,null,null,null,null,null,null,null,{"$f":"R123","v":{"$error":"#REF!"}}]
[null,null,null,null,null,null,null,null,null,null,null,null,null,null,null,null,null,{"$f":"#REF!","v":{"$error":"#REF!"}}]
[null,null,null,null,null,null,null,null,null,null,null,null,null,null,null,null,null,{"$f":"R125","v":{"$error":"#REF!"}}]
[null,null,null,null,null,null,null,null,null,null,null,null,null,null,null,null,null,{"$f":"R126","v":{"$error":"#REF!"}}]
[null,null,null,null,null,null,null,null,null,null,null,null,null,null,null,null,null,{"$f":"R127","v":{"$error":"#REF!"}}]
[null,null,null,null,null,null,null,null,null,null,null,null,null,null,null,null,null,{"$f":"R128","v":{"$error":"#REF!"}}]
[null,null,null,null,null,null,null,null,null,null,null,null,null,null,null,null,null,{"$f":"#REF!","v":{"$error":"#REF!"}}]
[null,null,null,null,null,null,null,null,null,null,null,null,null,null,null,null,null,{"$f":"R130","v":{"$error":"#REF!"}}]
[null,null,null,null,null,null,null,null,null,null,null,null,null,null,null,null,null,{"$f":"R131","v":{"$error":"#REF!"}}]
[null,null,null,null,null,null,null,null,null,null,null,null,null,null,null,null,null,{"$f":"R132","v":{"$error":"#REF!"}}]
[null,null,null,null,null,null,null,null,null,null,null,null,null,null,null,null,null,{"$f":"R133","v":{"$error":"#REF!"}}]
[null,null,null,null,null,null,null,null,null,null,null,null,null,null,null,null,null,{"$f":"#REF!","v":{"$error":"#REF!"}}]
[null,null,null,null,null,null,null,null,null,null,null,null,null,null,null,null,null,{"$f":"R135","v":{"$error":"#REF!"}}]
[null,null,null,null,null,null,null,null,null,null,null,null,null,null,null,null,null,{"$f":"R136","v":{"$error":"#REF!"}}]
[null,null,null,null,null,null,null,null,null,null,null,null,null,null,null,null,null,{"$f":"R137","v":{"$error":"#REF!"}}]
[null,null,null,null,null,null,null,null,null,null,null,null,null,null,null,null,null,{"$f":"R138","v":{"$error":"#REF!"}}]
[null,null,null,null,null,null,null,null,null,null,null,null,null,null,null,null,null,{"$f":"#REF!","v":{"$error":"#REF!"}}]
[null,null,null,null,null,null,null,null,null,null,null,null,null,null,null,null,null,{"$f":"R140","v":{"$error":"#REF!"}}]
[null,null,null,null,null,null,null,null,null,null,null,null,null,null,null,null,null,{"$f":"R141","v":{"$error":"#REF!"}}]
[null,null,null,null,null,null,null,null,null,null,null,null,null,null,null,null,null,{"$f":"R142","v":{"$error":"#REF!"}}]
[null,null,null,null,null,null,null,null,null,null,null,null,null,null,null,null,null,{"$f":"R143","v":{"$error":"#REF!"}}]
[null,null,null,null,null,null,null,null,null,null,null,null,null,null,null,null,null,{"$f":"#REF!","v":{"$error":"#REF!"}}]
[null,null,null,null,null,null,null,null,null,null,null,null,null,null,null,null,null,{"$f":"R145","v":{"$error":"#REF!"}}]
[null,null,null,null,null,null,null,null,null,null,null,null,null,null,null,null,null,{"$f":"R146","v":{"$error":"#REF!"}}]
[null,null,null,null,null,null,null,null,null,null,null,null,null,null,null,null,null,{"$f":"R147","v":{"$error":"#REF!"}}]
[null,null,null,null,null,null,null,null,null,null,null,null,null,null,null,null,null,{"$f":"R148","v":{"$error":"#REF!"}}]
["Badania - środki odurzające",null,null,null,null,null,null,null,null,null,null,null,null,null,null,null,null,{"$f":"#REF!","v":{"$error":"#REF!"}}]
[null,null,null,null,null,null,null,null,null,null,null,null,null,null,null,null,null,{"$f":"R150","v":{"$error":"#REF!"}}]
["Przedmiot badań","Czysta postać badanej substancji","Cel badania","Stan na dzień 01.01 okresu sprawozdawczego","Przychód w roku sprawozdawczym",null,null,"Wykorzystano w badaniach","Utylizacja","Stan na dzień 31.12 okresu sprawozdawczego",null,null,null,null,null,null,null,{"$f":"R151","v":{"$error":"#REF!"}}]
[null,null,null,null,"Kupione w kraju","Wewnątrzwspólnotowe nabycie/przywóz","Produkcja własna",null,null,null,null,null,null,null,null,null,null,{"$f":"R152","v":{"$error":"#REF!"}}]
[null,null,null,null,null,null,null,null,null,null,null,null,null,null,null,null,null,{"$f":"R153","v":{"$error":"#REF!"}}]
[null,null,null,null,null,null,null,null,null,null,null,null,null,null,null,null,null,{"$f":"#REF!","v":{"$error":"#REF!"}}]
[null,null,null,null,null,null,null,null,null,null,null,null,null,null,null,null,null,{"$f":"R155","v":{"$error":"#REF!"}}]
[null,null,null,null,null,null,null,null,null,null,null,null,null,null,null,null,"Tak",{"$f":"R156","v":{"$error":"#REF!"}}]
[null,null,null,null,null,null,null,null,null,null,null,null,null,null,null,null,"Nie",{"$f":"R157","v":{"$error":"#REF!"}}]
[null,null,null,null,null,null,null,null,null,null,null,null,null,null,null,null,null,{"$f":"R158","v":{"$error":"#REF!"}}]
[null,null,null,null,null,null,null,null,null,null,null,null,null,null,null,null,null,{"$f":"#REF!","v":{"$error":"#REF!"}}]
[null,null,null,null,null,null,null,null,null,null,null,null,null,null,null,null,null,{"$f":"R160","v":{"$error":"#REF!"}}]
[null,null,null,null,null,null,null,null,null,null,null,null,null,null,null,null,null,{"$f":"R161","v":{"$error":"#REF!"}}]
[null,null,null,null,null,null,null,null,null,null,null,null,null,null,null,null,null,{"$f":"R162","v":{"$error":"#REF!"}}]
[null,null,null,null,null,null,null,null,null,null,null,null,null,null,null,null,null,{"$f":"R163","v":{"$error":"#REF!"}}]
[null,null,null,null,null,null,null,null,null,null,null,null,null,null,null,null,null,{"$f":"#REF!","v":{"$error":"#REF!"}}]
[null,null,null,null,null,null,null,null,null,null,null,null,null,null,null,null,null,{"$f":"R165","v":{"$error":"#REF!"}}]
[null,null,null,null,null,null,null,null,null,null,null,null,null,null,null,null,null,{"$f":"R166","v":{"$error":"#REF!"}}]
[null,null,null,null,null,null,null,null,null,null,null,null,null,null,null,null,null,{"$f":"R167","v":{"$error":"#REF!"}}]
[null,null,null,null,null,null,null,null,null,null,null,null,null,null,null,null,null,{"$f":"R168","v":{"$error":"#REF!"}}]
[null,null,null,null,null,null,null,null,null,null,null,null,null,null,null,null,null,{"$f":"#REF!","v":{"$error":"#REF!"}}]
[null,null,null,null,null,null,null,null,null,null,null,null,null,null,null,null,null,{"$f":"R170","v":{"$error":"#REF!"}}]
[null,null,null,null,null,null,null,null,null,null,null,null,null,null,null,null,null,{"$f":"R171","v":{"$error":"#REF!"}}]
[null,null,null,null,null,null,null,null,null,null,null,null,null,null,null,null,null,{"$f":"R172","v":{"$error":"#REF!"}}]
[null,null,null,null,null,null,null,null,null,null,null,null,null,null,null,null,null,{"$f":"R173","v":{"$error":"#REF!"}}]
[null,null,null,null,null,null,null,null,null,null,null,null,null,null,null,null,null,{"$f":"#REF!","v":{"$error":"#REF!"}}]
[null,null,null,null,null,null,null,null,null,null,null,null,null,null,null,null,null,{"$f":"R175","v":{"$error":"#REF!"}}]
[null,null,null,null,null,null,null,null,null,null,null,null,null,null,null,null,null,{"$f":"R176","v":{"$error":"#REF!"}}]
[null,null,null,null,null,null,null,null,null,null,null,null,null,null,null,null,null,{"$f":"R177","v":{"$error":"#REF!"}}]
[null,null,null,null,null,null,null,null,null,null,null,null,null,null,null,null,null,{"$f":"R178","v":{"$error":"#REF!"}}]
[null,null,null,null,null,null,null,null,null,null,null,null,null,null,null,null,null,{"$f":"#REF!","v":{"$error":"#REF!"}}]
[null,null,null,null,null,null,null,null,null,null,null,null,null,null,null,null,null,{"$f":"R180","v":{"$error":"#REF!"}}]
[null,null,null,null,null,null,null,null,null,null,null,null,null,null,null,null,null,{"$f":"R181","v":{"$error":"#REF!"}}]
[null,null,null,null,null,null,null,null,null,null,null,null,null,null,null,null,null,{"$f":"R182","v":{"$error":"#REF!"}}]
[null,null,null,null,null,null,null,null,null,null,null,null,null,null,null,null,null,{"$f":"R183","v":{"$error":"#REF!"}}]
[null,null,null,null,null,null,null,null,null,null,null,null,null,null,null,null,null,{"$f":"#REF!","v":{"$error":"#REF!"}}]
[null,null,null,null,null,null,null,null,null,null,null,null,null,null,null,null,null,{"$f":"R185","v":{"$error":"#REF!"}}]
[null,null,null,null,null,null,null,null,null,null,null,null,null,null,null,null,null,{"$f":"R186","v":{"$error":"#REF!"}}]
[null,null,null,null,null,null,null,null,null,null,null,null,null,null,null,null,null,{"$f":"R187","v":{"$error":"#REF!"}}]
[null,null,null,null,null,null,null,null,null,null,null,null,null,null,null,null,null,{"$f":"R188","v":{"$error":"#REF!"}}]
[null,null,null,null,null,null,null,null,null,null,null,null,null,null,null,null,null,{"$f":"#REF!","v":{"$error":"#REF!"}}]
[null,null,null,null,null,null,null,null,null,null,null,null,null,null,null,null,null,{"$f":"R190","v":{"$error":"#REF!"}}]
[null,null,null,null,null,null,null,null,null,null,null,null,null,null,null,null,null,{"$f":"R191","v":{"$error":"#REF!"}}]
[null,null,null,null,null,null,null,null,null,null,null,null,null,null,null,null,null,{"$f":"R192","v":{"$error":"#REF!"}}]
[null,null,null,null,null,null,null,null,null,null,null,null,null,null,null,null,null,{"$f":"R193","v":{"$error":"#REF!"}}]
[null,null,null,null,null,null,null,null,null,null,null,null,null,null,null,null,null,{"$f":"#REF!","v":{"$error":"#REF!"}}]
[null,null,null,null,null,null,null,null,null,null,null,null,null,null,null,null,null,{"$f":"R195","v":{"$error":"#REF!"}}]
[null,null,null,null,null,null,null,null,null,null,null,null,null,null,null,null,null,{"$f":"R196","v":{"$error":"#REF!"}}]
[null,null,null,null,null,null,null,null,null,null,null,null,null,null,null,null,null,{"$f":"R197","v":{"$error":"#REF!"}}]
[null,null,null,null,null,null,null,null,null,null,null,null,null,null,null,null,null,{"$f":"R198","v":{"$error":"#REF!"}}]
[null,null,null,null,null,null,null,null,null,null,null,null,null,null,null,null,null,{"$f":"#REF!","v":{"$error":"#REF!"}}]
[null,null,null,null,null,null,null,null,null,null,null,null,null,null,null,null,null,{"$f":"R200","v":{"$error":"#REF!"}}]
[null,null,null,null,null,null,null,null,null,null,null,null,null,null,null,null,null,{"$f":"R201","v":{"$error":"#REF!"}}]
[null,null,null,null,null,null,null,null,null,null,null,null,null,null,null,null,null,{"$f":"R202","v":{"$error":"#REF!"}}]
[null,null,null,null,null,null,null,null,null,null,null,null,null,null,null,null,null,{"$f":"R203","v":{"$error":"#REF!"}}]
[null,null,null,null,null,null,null,null,null,null,null,null,null,null,null,null,null,{"$f":"#REF!","v":{"$error":"#REF!"}}]
[null,null,null,null,null,null,null,null,null,null,null,null,null,null,null,null,null,{"$f":"R205","v":{"$error":"#REF!"}}]
[null,null,null,null,null,null,null,null,null,null,null,null,null,null,null,null,null,{"$f":"R206","v":{"$error":"#REF!"}}]
[null,null,null,null,null,null,null,null,null,null,null,null,null,null,null,null,null,{"$f":"R207","v":{"$error":"#REF!"}}]
[null,null,null,null,null,null,null,null,null,null,null,null,null,null,null,null,null,{"$f":"R208","v":{"$error":"#REF!"}}]
[null,null,null,null,null,null,null,null,null,null,null,null,null,null,null,null,null,{"$f":"#REF!","v":{"$error":"#REF!"}}]
[null,null,null,null,null,null,null,null,null,null,null,null,null,null,null,null,null,{"$f":"R210","v":{"$error":"#REF!"}}]
[null,null,null,null,null,null,null,null,null,null,null,null,null,null,null,null,null,{"$f":"R211","v":{"$error":"#REF!"}}]
[null,null,null,null,null,null,null,null,null,null,null,null,null,null,null,null,null,{"$f":"R212","v":{"$error":"#REF!"}}]
[null,null,null,null,null,null,null,null,null,null,null,null,null,null,null,null,null,{"$f":"R213","v":{"$error":"#REF!"}}]
[null,null,null,null,null,null,null,null,null,null,null,null,null,null,null,null,null,{"$f":"#REF!","v":{"$error":"#REF!"}}]
[null,null,null,null,null,null,null,null,null,null,null,null,null,null,null,null,null,{"$f":"R215","v":{"$error":"#REF!"}}]
[null,null,null,null,null,null,null,null,null,null,null,null,null,null,null,null,null,{"$f":"R216","v":{"$error":"#REF!"}}]
[null,null,null,null,null,null,null,null,null,null,null,null,null,null,null,null,null,{"$f":"R217","v":{"$error":"#REF!"}}]
[null,null,null,null,null,null,null,null,null,null,null,null,null,null,null,null,null,{"$f":"R218","v":{"$error":"#REF!"}}]
[null,null,null,null,null,null,null,null,null,null,null,null,null,null,null,null,null,{"$f":"#REF!","v":{"$error":"#REF!"}}]
[null,null,null,null,null,null,null,null,null,null,null,null,null,null,null,null,null,{"$f":"R220","v":{"$error":"#REF!"}}]
[null,null,null,null,null,null,null,null,null,null,null,null,null,null,null,null,null,{"$f":"R221","v":{"$error":"#REF!"}}]
[null,null,null,null,null,null,null,null,null,null,null,null,null,null,null,null,null,{"$f":"R222","v":{"$error":"#REF!"}}]
[null,null,null,null,null,null,null,null,null,null,null,null,null,null,null,null,null,{"$f":"R223","v":{"$error":"#REF!"}}]
[null,null,null,null,null,null,null,null,null,null,null,null,null,null,null,null,null,{"$f":"#REF!","v":{"$error":"#REF!"}}]
[null,null,null,null,null,null,null,null,null,null,null,null,null,null,null,null,null,{"$f":"R225","v":{"$error":"#REF!"}}]
[null,null,null,null,null,null,null,null,null,null,null,null,null,null,null,null,null,{"$f":"R226","v":{"$error":"#REF!"}}]
[null,null,null,null,null,null,null,null,null,null,null,null,null,null,null,null,null,{"$f":"R227","v":{"$error":"#REF!"}}]
[null,null,null,null,null,null,null,null,null,null,null,null,null,null,null,null,null,{"$f":"R228","v":{"$error":"#REF!"}}]
[null,null,null,null,null,null,null,null,null,null,null,null,null,null,null,null,null,{"$f":"#REF!","v":{"$error":"#REF!"}}]
[null,null,null,null,null,null,null,null,null,null,null,null,null,null,null,null,null,{"$f":"R230","v":{"$error":"#REF!"}}]
[null,null,null,null,null,null,null,null,null,null,null,null,null,null,null,null,null,{"$f":"R231","v":{"$error":"#REF!"}}]
[null,null,null,null,null,null,null,null,null,null,null,null,null,null,null,null,null,{"$f":"R232","v":{"$error":"#REF!"}}]
[null,null,null,null,null,null,null,null,null,null,null,null,null,null,null,null,null,{"$f":"R233","v":{"$error":"#REF!"}}]
[null,null,null,null,null,null,null,null,null,null,null,null,null,null,null,null,null,{"$f":"#REF!","v":{"$error":"#REF!"}}]
[null,null,null,null,null,null,null,null,null,null,null,null,null,null,null,null,null,{"$f":"R235","v":{"$error":"#REF!"}}]
[null,null,null,null,null,null,null,null,null,null,null,null,null,null,null,null,null,{"$f":"R236","v":{"$error":"#REF!"}}]
[null,null,null,null,null,null,null,null,null,null,null,null,null,null,null,null,null,{"$f":"R237","v":{"$error":"#REF!"}}]
[null,null,null,null,null,null,null,null,null,null,null,null,null,null,null,null,null,{"$f":"R238","v":{"$error":"#REF!"}}]
[null,null,null,null,null,null,null,null,null,null,null,null,null,null,null,null,null,{"$f":"#REF!","v":{"$error":"#REF!"}}]
[null,null,null,null,null,null,null,null,null,null,null,null,null,null,null,null,null,{"$f":"R240","v":{"$error":"#REF!"}}]
[null,null,null,null,null,null,null,null,null,null,null,null,null,null,null,null,null,{"$f":"R241","v":{"$error":"#REF!"}}]
[null,null,null,null,null,null,null,null,null,null,null,null,null,null,null,null,null,{"$f":"R242","v":{"$error":"#REF!"}}]
[null,null,null,null,null,null,null,null,null,null,null,null,null,null,null,null,null,{"$f":"R243","v":{"$error":"#REF!"}}]
[null,null,null,null,null,null,null,null,null,null,null,null,null,null,null,null,null,{"$f":"#REF!","v":{"$error":"#REF!"}}]
[null,null,null,null,null,null,null,null,null,null,null,null,null,null,null,null,null,{"$f":"R245","v":{"$error":"#REF!"}}]
[null,null,null,null,null,null,null,null,null,null,null,null,null,null,null,null,null,{"$f":"R246","v":{"$error":"#REF!"}}]
[null,null,null,null,null,null,null,null,null,null,null,null,null,null,null,null,null,{"$f":"R247","v":{"$error":"#REF!"}}]
[null,null,null,null,null,null,null,null,null,null,null,null,null,null,null,null,null,{"$f":"R248","v":{"$error":"#REF!"}}]
[null,null,null,null,null,null,null,null,null,null,null,null,null,null,null,null,null,{"$f":"#REF!","v":{"$error":"#REF!"}}]
[null,null,null,null,null,null,null,null,null,null,null,null,null,null,null,null,null,{"$f":"R250","v":{"$error":"#REF!"}}]
[null,null,null,null,null,null,null,null,null,null,null,null,null,null,null,null,null,{"$f":"R251","v":{"$error":"#REF!"}}]
[null,null,null,null,null,null,null,null,null,null,null,null,null,null,null,null,null,{"$f":"R252","v":{"$error":"#REF!"}}]
[null,null,null,null,null,null,null,null,null,null,null,null,null,null,null,null,null,{"$f":"R253","v":{"$error":"#REF!"}}]
[null,null,null,null,null,null,null,null,null,null,null,null,null,null,null,null,null,{"$f":"#REF!","v":{"$error":"#REF!"}}]
[null,null,null,null,null,null,null,null,null,null,null,null,null,null,null,null,null,{"$f":"R255","v":{"$error":"#REF!"}}]
[null,null,null,null,null,null,null,null,null,null,null,null,null,null,null,null,null,{"$f":"R256","v":{"$error":"#REF!"}}]
[null,null,null,null,null,null,null,null,null,null,null,null,null,null,null,null,null,{"$f":"R257","v":{"$error":"#REF!"}}]
[null,null,null,null,null,null,null,null,null,null,null,null,null,null,null,null,null,{"$f":"R258","v":{"$error":"#REF!"}}]
[null,null,null,null,null,null,null,null,null,null,null,null,null,null,null,null,null,{"$f":"#REF!","v":{"$error":"#REF!"}}]
[null,null,null,null,null,null,null,null,null,null,null,null,null,null,null,null,null,{"$f":"R260","v":{"$error":"#REF!"}}]
[null,null,null,null,null,null,null,null,null,null,null,null,null,null,null,null,null,{"$f":"R261","v":{"$error":"#REF!"}}]
[null,null,null,null,null,null,null,null,null,null,null,null,null,null,null,null,null,{"$f":"R262","v":{"$error":"#REF!"}}]
[null,null,null,null,null,null,null,null,null,null,null,null,null,null,null,null,null,{"$f":"R263","v":{"$error":"#REF!"}}]
[null,null,null,null,null,null,null,null,null,null,null,null,null,null,null,null,null,{"$f":"#REF!","v":{"$error":"#REF!"}}]
[null,null,null,null,null,null,null,null,null,null,null,null,null,null,null,null,null,{"$f":"R265","v":{"$error":"#REF!"}}]
[null,null,null,null,null,null,null,null,null,null,null,null,null,null,null,null,null,{"$f":"R266","v":{"$error":"#REF!"}}]
[null,null,null,null,null,null,null,null,null,null,null,null,null,null,null,null,null,{"$f":"R267","v":{"$error":"#REF!"}}]
[null,null,null,null,null,null,null,null,null,null,null,null,null,null,null,null,null,{"$f":"R268","v":{"$error":"#REF!"}}]
[null,null,null,null,null,null,null,null,null,null,null,null,null,null,null,null,null,{"$f":"#REF!","v":{"$error":"#REF!"}}]
[null,null,null,null,null,null,null,null,null,null,null,null,null,null,null,null,null,{"$f":"R270","v":{"$error":"#REF!"}}]
[null,null,null,null,null,null,null,null,null,null,null,null,null,null,null,null,null,{"$f":"R271","v":{"$error":"#REF!"}}]
[null,null,null,null,null,null,null,null,null,null,null,null,null,null,null,null,null,{"$f":"R272","v":{"$error":"#REF!"}}]
[null,null,null,null,null,null,null,null,null,null,null,null,null,null,null,null,null,{"$f":"R273","v":{"$error":"#REF!"}}]
[null,null,null,null,null,null,null,null,null,null,null,null,null,null,null,null,null,{"$f":"#REF!","v":{"$error":"#REF!"}}]
[null,null,null,null,null,null,null,null,null,null,null,null,null,null,null,null,null,{"$f":"R275","v":{"$error":"#REF!"}}]
[null,null,null,null,null,null,null,null,null,null,null,null,null,null,null,null,null,{"$f":"R276","v":{"$error":"#REF!"}}]
[null,null,null,null,null,null,null,null,null,null,null,null,null,null,null,null,null,{"$f":"R277","v":{"$error":"#REF!"}}]
[null,null,null,null,null,null,null,null,null,null,null,null,null,null,null,null,null,{"$f":"R278","v":{"$error":"#REF!"}}]
[null,null,null,null,null,null,null,null,null,null,null,null,null,null,null,null,null,{"$f":"#REF!","v":{"$error":"#REF!"}}]
[null,null,null,null,null,null,null,null,null,null,null,null,null,null,null,null,null,{"$f":"R280","v":{"$error":"#REF!"}}]
[null,null,null,null,null,null,null,null,null,null,null,null,null,null,null,null,null,{"$f":"R281","v":{"$error":"#REF!"}}]
[null,null,null,null,null,null,null,null,null,null,null,null,null,null,null,null,null,{"$f":"R282","v":{"$error":"#REF!"}}]
[null,null,null,null,null,null,null,null,null,null,null,null,null,null,null,null,null,{"$f":"R283","v":{"$error":"#REF!"}}]
[null,null,null,null,null,null,null,null,null,null,null,null,null,null,null,null,null,{"$f":"#REF!","v":{"$error":"#REF!"}}]
[null,null,null,null,null,null,null,null,null,null,null,null,null,null,null,null,null,{"$f":"R285","v":{"$error":"#REF!"}}]
[null,null,null,null,null,null,null,null,null,null,null,null,null,null,null,null,null,{"$f":"R286","v":{"$error":"#REF!"}}]
[null,null,null,null,null,null,null,null,null,null,null,null,null,null,null,null,null,{"$f":"R287","v":{"$error":"#REF!"}}]
[null,null,null,null,null,null,null,null,null,null,null,null,null,null,null,null,null,{"$f":"R288","v":{"$error":"#REF!"}}]
[null,null,null,null,null,null,null,null,null,null,null,null,null,null,null,null,null,{"$f":"#REF!","v":{"$error":"#REF!"}}]
[null,null,null,null,null,null,null,null,null,null,null,null,null,null,null,null,null,{"$f":"R290","v":{"$error":"#REF!"}}]
[null,null,null,null,null,null,null,null,null,null,null,null,null,null,null,null,null,{"$f":"R291","v":{"$error":"#REF!"}}]
[null,null,null,null,null,null,null,null,null,null,null,null,null,null,null,null,null,{"$f":"R292","v":{"$error":"#REF!"}}]
[null,null,null,null,null,null,null,null,null,null,null,null,null,null,null,null,null,{"$f":"R293","v":{"$error":"#REF!"}}]
[null,null,null,null,null,null,null,null,null,null,null,null,null,null,null,null,null,{"$f":"#REF!","v":{"$error":"#REF!"}}]
[null,null,null,null,null,null,null,null,null,null,null,null,null,null,null,null,null,{"$f":"R295","v":{"$error":"#REF!"}}]
[null,null,null,null,null,null,null,null,null,null,null,null,null,null,null,null,null,{"$f":"R296","v":{"$error":"#REF!"}}]
[null,null,null,null,null,null,null,null,null,null,null,null,null,null,null,null,null,{"$f":"R297","v":{"$error":"#REF!"}}]
[null,null,null,null,null,null,null,null,null,null,null,null,null,null,null,null,null,{"$f":"R298","v":{"$error":"#REF!"}}]
["Badania - prekursory kat. 1",null,null,null,null,null,null,null,null,null,null,null,null,null,null,null,null,{"$f":"#REF!","v":{"$error":"#REF!"}}]
[null,null,null,null,null,null,null,null,null,null,null,null,null,null,null,null,null,{"$f":"R300","v":{"$error":"#REF!"}}]
["Przedmiot badań","Czysta postać badanej substancji","Cel badania","Stan na dzień 01.01 okresu sprawozdawczego","Przychód w roku sprawozdawczym",null,null,"Wykorzystano w badaniach","Utylizacja","Stan na dzień 31.12 okresu sprawozdawczego",null,null,null,null,null,null,null,{"$f":"R301","v":{"$error":"#REF!"}}]
[null,null,null,null,"Kupione w kraju","Wewnątrzwspólnotowe nabycie/przywóz","Produkcja Własna",null,null,null,null,null,null,null,null,null,null,{"$f":"R302","v":{"$error":"#REF!"}}]
[null,null,null,null,null,null,null,null,null,null,null,null,null,null,null,null,null,{"$f":"R303","v":{"$error":"#REF!"}}]
[null,null,null,null,null,null,null,null,null,null,null,null,null,null,null,null,null,{"$f":"#REF!","v":{"$error":"#REF!"}}]
[null,null,null,null,null,null,null,null,null,null,null,null,null,null,null,null,null,{"$f":"R305","v":{"$error":"#REF!"}}]
[null,null,null,null,null,null,null,null,null,null,null,null,null,null,null,null,null,{"$f":"R306","v":{"$error":"#REF!"}}]
[null,null,null,null,null,null,null,null,null,null,null,null,null,null,null,null,null,{"$f":"R307","v":{"$error":"#REF!"}}]
[null,null,null,null,null,null,null,null,null,null,null,null,null,null,null,null,null,{"$f":"R308","v":{"$error":"#REF!"}}]
[null,null,null,null,null,null,null,null,null,null,null,null,null,null,null,null,null,{"$f":"#REF!","v":{"$error":"#REF!"}}]
[null,null,null,null,null,null,null,null,null,null,null,null,null,null,null,null,null,{"$f":"R310","v":{"$error":"#REF!"}}]
[null,null,null,null,null,null,null,null,null,null,null,null,null,null,null,null,null,{"$f":"R311","v":{"$error":"#REF!"}}]
[null,null,null,null,null,null,null,null,null,null,null,null,null,null,null,null,null,{"$f":"R312","v":{"$error":"#REF!"}}]
[null,null,null,null,null,null,null,null,null,null,null,null,null,null,null,null,null,{"$f":"R313","v":{"$error":"#REF!"}}]
[null,null,null,null,null,null,null,null,null,null,null,null,null,null,null,null,null,{"$f":"#REF!","v":{"$error":"#REF!"}}]
[null,null,null,null,null,null,null,null,null,null,null,null,null,null,null,null,null,{"$f":"R315","v":{"$error":"#REF!"}}]
[null,null,null,null,null,null,null,null,null,null,null,null,null,null,null,null,null,{"$f":"R316","v":{"$error":"#REF!"}}]
[null,null,null,null,null,null,null,null,null,null,null,null,null,null,null,null,null,{"$f":"R317","v":{"$error":"#REF!"}}]
[null,null,null,null,null,null,null,null,null,null,null,null,null,null,null,null,null,{"$f":"R318","v":{"$error":"#REF!"}}]
[null,null,null,null,null,null,null,null,null,null,null,null,null,null,null,null,null,{"$f":"#REF!","v":{"$error":"#REF!"}}]
[null,null,null,null,null,null,null,null,null,null,null,null,null,null,null,null,null,{"$f":"R320","v":{"$error":"#REF!"}}]
[null,null,null,null,null,null,null,null,null,null,null,null,null,null,null,null,null,{"$f":"R321","v":{"$error":"#REF!"}}]
[null,null,null,null,null,null,null,null,null,null,null,null,null,null,null,null,null,{"$f":"R322","v":{"$error":"#REF!"}}]
[null,null,null,null,null,null,null,null,null,null,null,null,null,null,null,null,null,{"$f":"R323","v":{"$error":"#REF!"}}]
[null,null,null,null,null,null,null,null,null,null,null,null,null,null,null,null,null,{"$f":"#REF!","v":{"$error":"#REF!"}}]
[null,null,null,null,null,null,null,null,null,null,null,null,null,null,null,null,null,{"$f":"R325","v":{"$error":"#REF!"}}]
[null,null,null,null,null,null,null,null,null,null,null,null,null,null,null,null,null,{"$f":"R326","v":{"$error":"#REF!"}}]
[null,null,null,null,null,null,null,null,null,null,null,null,null,null,null,null,null,{"$f":"R327","v":{"$error":"#REF!"}}]
[null,null,null,null,null,null,null,null,null,null,null,null,null,null,null,null,null,{"$f":"R328","v":{"$error":"#REF!"}}]
[null,null,null,null,null,null,null,null,null,null,null,null,null,null,null,null,null,{"$f":"#REF!","v":{"$error":"#REF!"}}]
[null,null,null,null,null,null,null,null,null,null,null,null,null,null,null,null,null,{"$f":"R330","v":{"$error":"#REF!"}}]
[null,null,null,null,null,null,null,null,null,null,null,null,null,null,null,null,null,{"$f":"R331","v":{"$error":"#REF!"}}]
[null,null,null,null,null,null,null,null,null,null,null,null,null,null,null,null,null,{"$f":"R332","v":{"$error":"#REF!"}}]
[null,null,null,null,null,null,null,null,null,null,null,null,null,null,null,null,null,{"$f":"R333","v":{"$error":"#REF!"}}]
[null,null,null,null,null,null,null,null,null,null,null,null,null,null,null,null,null,{"$f":"#REF!","v":{"$error":"#REF!"}}]
[null,null,null,null,null,null,null,null,null,null,null,null,null,null,null,null,null,{"$f":"R335","v":{"$error":"#REF!"}}]
[null,null,null,null,null,null,null,null,null,null,null,null,null,null,null,null,null,{"$f":"R336","v":{"$error":"#REF!"}}]
[null,null,null,null,null,null,null,null,null,null,null,null,null,null,null,null,null,{"$f":"R337","v":{"$error":"#REF!"}}]
[null,null,null,null,null,null,null,null,null,null,null,null,null,null,null,null,null,{"$f":"R338","v":{"$error":"#REF!"}}]
[null,null,null,null,null,null,null,null,null,null,null,null,null,null,null,null,null,{"$f":"#REF!","v":{"$error":"#REF!"}}]
[null,null,null,null,null,null,null,null,null,null,null,null,null,null,null,null,null,{"$f":"R340","v":{"$error":"#REF!"}}]
[null,null,null,null,null,null,null,null,null,null,null,null,null,null,null,null,null,{"$f":"R341","v":{"$error":"#REF!"}}]
[null,null,null,null,null,null,null,null,null,null,null,null,null,null,null,null,null,{"$f":"R342","v":{"$error":"#REF!"}}]
[null,null,null,null,null,null,null,null,null,null,null,null,null,null,null,null,null,{"$f":"R343","v":{"$error":"#REF!"}}]
[null,null,null,null,null,null,null,null,null,null,null,null,null,null,null,null,null,{"$f":"#REF!","v":{"$error":"#REF!"}}]
[null,null,null,null,null,null,null,null,null,null,null,null,null,null,null,null,null,{"$f":"R345","v":{"$error":"#REF!"}}]
[null,null,null,null,null,null,null,null,null,null,null,null,null,null,null,null,null,{"$f":"R346","v":{"$error":"#REF!"}}]
[null,null,null,null,null,null,null,null,null,null,null,null,null,null,null,null,null,{"$f":"R347","v":{"$error":"#REF!"}}]
[null,null,null,null,null,null,null,null,null,null,null,null,null,null,null,null,null,{"$f":"R348","v":{"$error":"#REF!"}}]
[null,null,null,null,null,null,null,null,null,null,null,null,null,null,null,null,null,{"$f":"#REF!","v":{"$error":"#REF!"}}]
[null,null,null,null,null,null,null,null,null,null,null,null,null,null,null,null,null,{"$f":"R350","v":{"$error":"#REF!"}}]
[null,null,null,null,null,null,null,null,null,null,null,null,null,null,null,null,null,{"$f":"R351","v":{"$error":"#REF!"}}]
[null,null,null,null,null,null,null,null,null,null,null,null,null,null,null,null,null,{"$f":"R352","v":{"$error":"#REF!"}}]
[null,null,null,null,null,null,null,null,null,null,null,null,null,null,null,null,null,{"$f":"R353","v":{"$error":"#REF!"}}]
[null,null,null,null,null,null,null,null,null,null,null,null,null,null,null,null,null,{"$f":"#REF!","v":{"$error":"#REF!"}}]
[null,null,null,null,null,null,null,null,null,null,null,null,null,null,null,null,null,{"$f":"R355","v":{"$error":"#REF!"}}]
[null,null,null,null,null,null,null,null,null,null,null,null,null,null,null,null,null,{"$f":"R356","v":{"$error":"#REF!"}}]
[null,null,null,null,null,null,null,null,null,null,null,null,null,null,null,null,null,{"$f":"R357","v":{"$error":"#REF!"}}]
[null,null,null,null,null,null,null,null,null,null,null,null,null,null,null,null,null,{"$f":"R358","v":{"$error":"#REF!"}}]
[null,null,null,null,null,null,null,null,null,null,null,null,null,null,null,null,null,{"$f":"#REF!","v":{"$error":"#REF!"}}]
[null,null,null,null,null,null,null,null,null,null,null,null,null,null,null,null,null,{"$f":"R360","v":{"$error":"#REF!"}}]
[null,null,null,null,null,null,null,null,null,null,null,null,null,null,null,null,null,{"$f":"R361","v":{"$error":"#REF!"}}]
[null,null,null,null,null,null,null,null,null,null,null,null,null,null,null,null,null,{"$f":"R362","v":{"$error":"#REF!"}}]
[null,null,null,null,null,null,null,null,null,null,null,null,null,null,null,null,null,{"$f":"R363","v":{"$error":"#REF!"}}]
[null,null,null,null,null,null,null,null,null,null,null,null,null,null,null,null,null,{"$f":"#REF!","v":{"$error":"#REF!"}}]
[null,null,null,null,null,null,null,null,null,null,null,null,null,null,null,null,null,{"$f":"R365","v":{"$error":"#REF!"}}]
[null,null,null,null,null,null,null,null,null,null,null,null,null,null,null,null,null,{"$f":"R366","v":{"$error":"#REF!"}}]
[null,null,null,null,null,null,null,null,null,null,null,null,null,null,null,null,null,{"$f":"R367","v":{"$error":"#REF!"}}]
[null,null,null,null,null,null,null,null,null,null,null,null,null,null,null,null,null,{"$f":"R368","v":{"$error":"#REF!"}}]
[null,null,null,null,null,null,null,null,null,null,null,null,null,null,null,null,null,{"$f":"#REF!","v":{"$error":"#REF!"}}]
[null,null,null,null,null,null,null,null,null,null,null,null,null,null,null,null,null,{"$f":"R370","v":{"$error":"#REF!"}}]
[null,null,null,null,null,null,null,null,null,null,null,null,null,null,null,null,null,{"$f":"R371","v":{"$error":"#REF!"}}]
[null,null,null,null,null,null,null,null,null,null,null,null,null,null,null,null,null,{"$f":"R372","v":{"$error":"#REF!"}}]
[null,null,null,null,null,null,null,null,null,null,null,null,null,null,null,null,null,{"$f":"R373","v":{"$error":"#REF!"}}]
[null,null,null,null,null,null,null,null,null,null,null,null,null,null,null,null,null,{"$f":"#REF!","v":{"$error":"#REF!"}}]
[null,null,null,null,null,null,null,null,null,null,null,null,null,null,null,null,null,{"$f":"R375","v":{"$error":"#REF!"}}]
[null,null,null,null,null,null,null,null,null,null,null,null,null,null,null,null,null,{"$f":"R376","v":{"$error":"#REF!"}}]
[null,null,null,null,null,null,null,null,null,null,null,null,null,null,null,null,null,{"$f":"R377","v":{"$error":"#REF!"}}]
[null,null,null,null,null,null,null,null,null,null,null,null,null,null,null,null,null,{"$f":"R378","v":{"$error":"#REF!"}}]
[null,null,null,null,null,null,null,null,null,null,null,null,null,null,null,null,null,{"$f":"#REF!","v":{"$error":"#REF!"}}]
[null,null,null,null,null,null,null,null,null,null,null,null,null,null,null,null,null,{"$f":"R380","v":{"$error":"#REF!"}}]
[null,null,null,null,null,null,null,null,null,null,null,null,null,null,null,null,null,{"$f":"R381","v":{"$error":"#REF!"}}]
[null,null,null,null,null,null,null,null,null,null,null,null,null,null,null,null,null,{"$f":"R382","v":{"$error":"#REF!"}}]
[null,null,null,null,null,null,null,null,null,null,null,null,null,null,null,null,null,{"$f":"R383","v":{"$error":"#REF!"}}]
[null,null,null,null,null,null,null,null,null,null,null,null,null,null,null,null,null,{"$f":"#REF!","v":{"$error":"#REF!"}}]
[null,null,null,null,null,null,null,null,null,null,null,null,null,null,null,null,null,{"$f":"R385","v":{"$error":"#REF!"}}]
[null,null,null,null,null,null,null,null,null,null,null,null,null,null,null,null,null,{"$f":"R386","v":{"$error":"#REF!"}}]
[null,null,null,null,null,null,null,null,null,null,null,null,null,null,null,null,null,{"$f":"R387","v":{"$error":"#REF!"}}]
[null,null,null,null,null,null,null,null,null,null,null,null,null,null,null,null,null,{"$f":"R388","v":{"$error":"#REF!"}}]
[null,null,null,null,null,null,null,null,null,null,null,null,null,null,null,null,null,{"$f":"#REF!","v":{"$error":"#REF!"}}]
[null,null,null,null,null,null,null,null,null,null,null,null,null,null,null,null,null,{"$f":"R390","v":{"$error":"#REF!"}}]
[null,null,null,null,null,null,null,null,null,null,null,null,null,null,null,null,null,{"$f":"R391","v":{"$error":"#REF!"}}]
[null,null,null,null,null,null,null,null,null,null,null,null,null,null,null,null,null,{"$f":"R392","v":{"$error":"#REF!"}}]
[null,null,null,null,null,null,null,null,null,null,null,null,null,null,null,null,null,{"$f":"R393","v":{"$error":"#REF!"}}]
[null,null,null,null,null,null,null,null,null,null,null,null,null,null,null,null,null,{"$f":"#REF!","v":{"$error":"#REF!"}}]
[null,null,null,null,null,null,null,null,null,null,null,null,null,null,null,null,null,{"$f":"R395","v":{"$error":"#REF!"}}]
[null,null,null,null,null,null,null,null,null,null,null,null,null,null,null,null,null,{"$f":"R396","v":{"$error":"#REF!"}}]
[null,null,null,null,null,null,null,null,null,null,null,null,null,null,null,null,null,{"$f":"R397","v":{"$error":"#REF!"}}]
[null,null,null,null,null,null,null,null,null,null,null,null,null,null,null,null,null,{"$f":"R398","v":{"$error":"#REF!"}}]
[null,null,null,null,null,null,null,null,null,null,null,null,null,null,null,null,null,{"$f":"#REF!","v":{"$error":"#REF!"}}]
[null,null,null,null,null,null,null,null,null,null,null,null,null,null,null,null,null,{"$f":"R400","v":{"$error":"#REF!"}}]
[null,null,null,null,null,null,null,null,null,null,null,null,null,null,null,null,null,{"$f":"R401","v":{"$error":"#REF!"}}]
[null,null,null,null,null,null,null,null,null,null,null,null,null,null,null,null,null,{"$f":"R402","v":{"$error":"#REF!"}}]
[null,null,null,null,null,null,null,null,null,null,null,null,null,null,null,null,null,{"$f":"R403","v":{"$error":"#REF!"}}]
[null,null,null,null,null,null,null,null,null,null,null,null,null,null,null,null,null,{"$f":"#REF!","v":{"$error":"#REF!"}}]
[null,null,null,null,null,null,null,null,null,null,null,null,null,null,null,null,null,{"$f":"R405","v":{"$error":"#REF!"}}]
[null,null,null,null,null,null,null,null,null,null,null,null,null,null,null,null,null,{"$f":"R406","v":{"$error":"#REF!"}}]
[null,null,null,null,null,null,null,null,null,null,null,null,null,null,null,null,null,{"$f":"R407","v":{"$error":"#REF!"}}]
[null,null,null,null,null,null,null,null,null,null,null,null,null,null,null,null,null,{"$f":"R408","v":{"$error":"#REF!"}}]
[null,null,null,null,null,null,null,null,null,null,null,null,null,null,null,null,null,{"$f":"#REF!","v":{"$error":"#REF!"}}]
[null,null,null,null,null,null,null,null,null,null,null,null,null,null,null,null,null,{"$f":"R410","v":{"$error":"#REF!"}}]
[null,null,null,null,null,null,null,null,null,null,null,null,null,null,null,null,null,{"$f":"R411","v":{"$error":"#REF!"}}]
[null,null,null,null,null,null,null,null,null,null,null,null,null,null,null,null,null,{"$f":"R412","v":{"$error":"#REF!"}}]
[null,null,null,null,null,null,null,null,null,null,null,null,null,null,null,null,null,{"$f":"R413","v":{"$error":"#REF!"}}]
[null,null,null,null,null,null,null,null,null,null,null,null,null,null,null,null,null,{"$f":"#REF!","v":{"$error":"#REF!"}}]
[null,null,null,null,null,null,null,null,null,null,null,null,null,null,null,null,null,{"$f":"R415","v":{"$error":"#REF!"}}]
[null,null,null,null,null,null,null,null,null,null,null,null,null,null,null,null,null,{"$f":"R416","v":{"$error":"#REF!"}}]
[null,null,null,null,null,null,null,null,null,null,null,null,null,null,null,null,null,{"$f":"R417","v":{"$error":"#REF!"}}]
[null,null,null,null,null,null,null,null,null,null,null,null,null,null,null,null,null,{"$f":"R418","v":{"$error":"#REF!"}}]
[null,null,null,null,null,null,null,null,null,null,null,null,null,null,null,null,null,{"$f":"#REF!","v":{"$error":"#REF!"}}]
[null,null,null,null,null,null,null,null,null,null,null,null,null,null,null,null,null,{"$f":"R420","v":{"$error":"#REF!"}}]
[null,null,null,null,null,null,null,null,null,null,null,null,null,null,null,null,null,{"$f":"R421","v":{"$error":"#REF!"}}]
[null,null,null,null,null,null,null,null,null,null,null,null,null,null,null,null,null,{"$f":"R422","v":{"$error":"#REF!"}}]
[null,null,null,null,null,null,null,null,null,null,null,null,null,null,null,null,null,{"$f":"R423","v":{"$error":"#REF!"}}]
[null,null,null,null,null,null,null,null,null,null,null,null,null,null,null,null,null,{"$f":"#REF!","v":{"$error":"#REF!"}}]
[null,null,null,null,null,null,null,null,null,null,null,null,null,null,null,null,null,{"$f":"R425","v":{"$error":"#REF!"}}]
[null,null,null,null,null,null,null,null,null,null,null,null,null,null,null,null,null,{"$f":"R426","v":{"$error":"#REF!"}}]
[null,null,null,null,null,null,null,null,null,null,null,null,null,null,null,null,null,{"$f":"R427","v":{"$error":"#REF!"}}]
[null,null,null,null,null,null,null,null,null,null,null,null,null,null,null,null,null,{"$f":"R428","v":{"$error":"#REF!"}}]
[null,null,null,null,null,null,null,null,null,null,null,null,null,null,null,null,null,{"$f":"#REF!","v":{"$error":"#REF!"}}]
[null,null,null,null,null,null,null,null,null,null,null,null,null,null,null,null,null,{"$f":"R430","v":{"$error":"#REF!"}}]
[null,null,null,null,null,null,null,null,null,null,null,null,null,null,null,null,null,{"$f":"R431","v":{"$error":"#REF!"}}]
[null,null,null,null,null,null,null,null,null,null,null,null,null,null,null,null,null,{"$f":"R432","v":{"$error":"#REF!"}}]
[null,null,null,null,null,null,null,null,null,null,null,null,null,null,null,null,null,{"$f":"R433","v":{"$error":"#REF!"}}]
[null,null,null,null,null,null,null,null,null,null,null,null,null,null,null,null,null,{"$f":"#REF!","v":{"$error":"#REF!"}}]
[null,null,null,null,null,null,null,null,null,null,null,null,null,null,null,null,null,{"$f":"R435","v":{"$error":"#REF!"}}]
[null,null,null,null,null,null,null,null,null,null,null,null,null,null,null,null,null,{"$f":"R436","v":{"$error":"#REF!"}}]
[null,null,null,null,null,null,null,null,null,null,null,null,null,null,null,null,null,{"$f":"R437","v":{"$error":"#REF!"}}]
[null,null,null,null,null,null,null,null,null,null,null,null,null,null,null,null,null,{"$f":"R438","v":{"$error":"#REF!"}}]
[null,null,null,null,null,null,null,null,null,null,null,null,null,null,null,null,null,{"$f":"#REF!","v":{"$error":"#REF!"}}]
[null,null,null,null,null,null,null,null,null,null,null,null,null,null,null,null,null,{"$f":"R440","v":{"$error":"#REF!"}}]
[null,null,null,null,null,null,null,null,null,null,null,null,null,null,null,null,null,{"$f":"R441","v":{"$error":"#REF!"}}]
[null,null,null,null,null,null,null,null,null,null,null,null,null,null,null,null,null,{"$f":"R442","v":{"$error":"#REF!"}}]
[null,null,null,null,null,null,null,null,null,null,null,null,null,null,null,null,null,{"$f":"R443","v":{"$error":"#REF!"}}]
[null,null,null,null,null,null,null,null,null,null,null,null,null,null,null,null,null,{"$f":"#REF!","v":{"$error":"#REF!"}}]
[null,null,null,null,null,null,null,null,null,null,null,null,null,null,null,null,null,{"$f":"R445","v":{"$error":"#REF!"}}]
[null,null,null,null,null,null,null,null,null,null,null,null,null,null,null,null,null,{"$f":"R446","v":{"$error":"#REF!"}}]
[null,null,null,null,null,null,null,null,null,null,null,null,null,null,null,null,null,{"$f":"R447","v":{"$error":"#REF!"}}]
[null,null,null,null,null,null,null,null,null,null,null,null,null,null,null,null,null,{"$f":"R448","v":{"$error":"#REF!"}}]
[null,null,null,null,null,null,null,null,null,null,null,null,null,null,null,null,null,{"$f":"#REF!","v":{"$error":"#REF!"}}]
[null,null,null,null,null,null,null,null,null,null,null,null,null,null,null,null,null,{"$f":"R450","v":{"$error":"#REF!"}}]
[null,null,null,null,null,null,null,null,null,null,null,null,null,null,null,null,null,{"$f":"R451","v":{"$error":"#REF!"}}]
[null,null,null,null,null,null,null,null,null,null,null,null,null,null,null,null,null,{"$f":"R452","v":{"$error":"#REF!"}}]
[null,null,null,null,null,null,null,null,null,null,null,null,null,null,null,null,null,{"$f":"R453","v":{"$error":"#REF!"}}]
[null,null,null,null,null,null,null,null,null,null,null,null,null,null,null,null,null,{"$f":"#REF!","v":{"$error":"#REF!"}}]
[null,null,null,null,null,null,null,null,null,null,null,null,null,null,null,null,null,{"$f":"R455","v":{"$error":"#REF!"}}]
[null,null,null,null,null,null,null,null,null,null,null,null,null,null,null,null,null,{"$f":"R456","v":{"$error":"#REF!"}}]
[null,null,null,null,null,null,null,null,null,null,null,null,null,null,null,null,null,{"$f":"R457","v":{"$error":"#REF!"}}]
[null,null,null,null,null,null,null,null,null,null,null,null,null,null,null,null,null,{"$f":"R458","v":{"$error":"#REF!"}}]
[null,null,null,null,null,null,null,null,null,null,null,null,null,null,null,null,null,{"$f":"#REF!","v":{"$error":"#REF!"}}]
[null,null,null,null,null,null,null,null,null,null,null,null,null,null,null,null,null,{"$f":"R460","v":{"$error":"#REF!"}}]
[null,null,null,null,null,null,null,null,null,null,null,null,null,null,null,null,null,{"$f":"R461","v":{"$error":"#REF!"}}]
[null,null,null,null,null,null,null,null,null,null,null,null,null,null,null,null,null,{"$f":"R462","v":{"$error":"#REF!"}}]
[null,null,null,null,null,null,null,null,null,null,null,null,null,null,null,null,null,{"$f":"R463","v":{"$error":"#REF!"}}]
[null,null,null,null,null,null,null,null,null,null,null,null,null,null,null,null,null,{"$f":"#REF!","v":{"$error":"#REF!"}}]
[null,null,null,null,null,null,null,null,null,null,null,null,null,null,null,null,null,{"$f":"R465","v":{"$error":"#REF!"}}]
[null,null,null,null,null,null,null,null,null,null,null,null,null,null,null,null,null,{"$f":"R466","v":{"$error":"#REF!"}}]
[null,null,null,null,null,null,null,null,null,null,null,null,null,null,null,null,null,{"$f":"R467","v":{"$error":"#REF!"}}]
[null,null,null,null,null,null,null,null,null,null,null,null,null,null,null,null,null,{"$f":"R468","v":{"$error":"#REF!"}}]
[null,null,null,null,null,null,null,null,null,null,null,null,null,null,null,null,null,{"$f":"#REF!","v":{"$error":"#REF!"}}]
[null,null,null,null,null,null,null,null,null,null,null,null,null,null,null,null,null,{"$f":"R470","v":{"$error":"#REF!"}}]
[null,null,null,null,null,null,null,null,null,null,null,null,null,null,null,null,null,{"$f":"R471","v":{"$error":"#REF!"}}]
[null,null,null,null,null,null,null,null,null,null,null,null,null,null,null,null,null,{"$f":"R472","v":{"$error":"#REF!"}}]
[null,null,null,null,null,null,null,null,null,null,null,null,null,null,null,null,null,{"$f":"R473","v":{"$error":"#REF!"}}]
[null,null,null,null,null,null,null,null,null,null,null,null,null,null,null,null,null,{"$f":"#REF!","v":{"$error":"#REF!"}}]
[null,null,null,null,null,null,null,null,null,null,null,null,null,null,null,null,null,{"$f":"R475","v":{"$error":"#REF!"}}]

{"sheet":"Wytwarzanie pozafarmaceutyczne","index":22,"n_rows":476,"n_cols":17,"rows_kept":476,"cut":false,"hidden":true,"merged":[[444,6,448,6],[444,7,448,7],[444,8,448,8],[444,0,448,0],[444,1,448,1],[444,2,448,2],[444,3,448,3],[444,4,448,4],[439,6,443,6],[439,7,443,7],[439,8,443,8],[439,0,443,0],[439,1,443,1],[439,2,443,2],[439,3,443,3],[439,4,443,4],[439,5,443,5],[444,5,448,5],[434,6,438,6],[434,7,438,7],[434,8,438,8],[434,0,438,0],[434,1,438,1],[434,2,438,2],[434,3,438,3],[434,4,438,4],[429,6,433,6],[429,7,433,7],[429,8,433,8],[429,0,433,0],[429,1,433,1],[429,2,433,2],[429,3,433,3],[429,4,433,4],[429,5,433,5],[434,5,438,5],[424,6,428,6],[424,7,428,7],[424,8,428,8],[424,0,428,0],[424,1,428,1],[424,2,428,2],[424,3,428,3],[424,4,428,4],[419,6,423,6],[419,7,423,7],[419,8,423,8],[419,0,423,0],[419,1,423,1],[419,2,423,2],[419,3,423,3],[419,4,423,4],[419,5,423,5],[424,5,428,5],[414,6,418,6],[414,7,418,7],[414,8,418,8],[414,0,418,0],[414,1,418,1],[414,2,418,2],[414,3,418,3],[414,4,418,4],[409,6,413,6],[409,7,413,7],[409,8,413,8],[409,0,413,0],[409,1,413,1],[409,2,413,2],[409,3,413,3],[409,4,413,4],[409,5,413,5],[414,5,418,5],[404,6,408,6],[404,7,408,7],[404,8,408,8],[404,0,408,0],[404,1,408,1],[404,2,408,2],[404,3,408,3],[404,4,408,4],[399,6,403,6],[399,7,403,7],[399,8,403,8],[399,0,403,0],[399,1,403,1],[399,2,403,2],[399,3,403,3],[399,4,403,4],[399,5,403,5],[404,5,408,5],[394,6,398,6],[394,7,398,7],[394,8,398,8],[394,0,398,0],[394,1,398,1],[394,2,398,2],[394,3,398,3],[394,4,398,4],[389,6,393,6],[389,7,393,7],[389,8,393,8],[389,0,393,0],[389,1,393,1],[389,2,393,2],[389,3,393,3],[389,4,393,4],[389,5,393,5],[394,5,398,5],[384,6,388,6],[384,7,388,7],[384,8,388,8],[384,0,388,0],[384,1,388,1],[384,2,388,2],[384,3,388,3],[384,4,388,4],[379,6,383,6],[379,7,383,7],[379,8,383,8],[379,0,383,0],[379,1,383,1],[379,2,383,2],[379,3,383,3],[379,4,383,4],[379,5,383,5],[384,5,388,5],[374,6,378,6],[374,7,378,7],[374,8,378,8],[374,0,378,0],[374,1,378,1],[374,2,378,2],[374,3,378,3],[374,4,378,4],[369,6,373,6],[369,7,373,7],[369,8,373,8],[369,0,373,0],[369,1,373,1],[369,2,373,2],[369,3,373,3],[369,4,373,4],[369,5,373,5],[374,5,378,5],[364,6,368,6],[364,7,368,7],[364,8,368,8],[364,0,368,0],[364,1,368,1],[364,2,368,2],[364,3,368,3],[364,4,368,4],[359,6,363,6],[359,7,363,7],[359,8,363,8],[359,0,363,0],[359,1,363,1],[359,2,363,2],[359,3,363,3],[359,4,363,4],[359,5,363,5],[364,5,368,5],[354,6,358,6],[354,7,358,7],[354,8,358,8],[354,0,358,0],[354,1,358,1],[354,2,358,2],[354,3,358,3],[354,4,358,4],[349,6,353,6],[349,7,353,7],[349,8,353,8],[349,0,353,0],[349,1,353,1],[349,2,353,2],[349,3,353,3],[349,4,353,4],[349,5,353,5],[354,5,358,5],[344,6,348,6],[344,7,348,7],[344,8,348,8],[344,0,348,0],[344,1,348,1],[344,2,348,2],[344,3,348,3],[344,4,348,4],[339,6,343,6],[339,7,343,7],[339,8,343,8],[339,0,343,0],[339,1,343,1],[339,2,343,2],[339,3,343,3],[339,4,343,4],[339,5,343,5],[344,5,348,5],[334,6,338,6],[334,7,338,7],[334,8,338,8],[334,0,338,0],[334,1,338,1],[334,2,338,2],[334,3,338,3],[334,4,338,4],[329,6,333,6],[329,7,333,7],[329,8,333,8],[329,0,333,0],[329,1,333,1],[329,2,333,2],[329,3,333,3],[329,4,333,4],[329,5,333,5],[334,5,338,5],[324,6,328,6],[324,7,328,7],[324,8,328,8],[324,0,328,0],[324,1,328,1],[324,2,328,2],[324,3,328,3],[324,4,328,4],[319,6,323,6],[319,7,323,7],[319,8,323,8],[319,0,323,0],[319,1,323,1],[319,2,323,2],[319,3,323,3],[319,4,323,4],[319,5,323,5],[324,5,328,5],[314,6,318,6],[314,7,318,7],[314,8,318,8],[314,0,318,0],[314,1,318,1],[314,2,318,2],[314,3,318,3],[314,4,318,4],[309,6,313,6],[309,7,313,7],[309,8,313,8],[309,0,313,0],[309,1,313,1],[309,2,313,2],[309,3,313,3],[309,4,313,4],[309,5,313,5],[314,5,318,5],[299,0,300,8],[301,0,303,0],[301,1,303,1],[301,2,303,2],[301,7,303,7],[301,8,303,8],[302,3,303,3],[301,6,303,6],[301,3,301,5],[302,5,303,5],[304,6,308,6],[304,7,308,7],[304,8,308,8],[302,4,303,4],[304,0,308,0],[304,1,308,1],[304,2,308,2],[304,3,308,3],[304,4,308,4],[304,5,308,5],[294,6,298,6],[294,7,298,7],[294,8,298,8],[294,0,298,0],[294,1,298,1],[294,2,298,2],[294,3,298,3],[294,4,298,4],[289,6,293,6],[289,7,293,7],[289,8,293,8],[289,0,293,0],[289,1,293,1],[289,2,293,2],[289,3,293,3],[289,4,293,4],[289,5,293,5],[294,5,298,5],[284,6,288,6],[284,7,288,7],[284,8,288,8],[284,0,288,0],[284,1,288,1],[284,2,288,2],[284,3,288,3],[284,4,288,4],[279,6,283,6],[279,7,283,7],[279,8,283,8],[279,0,283,0],[279,1,283,1],[279,2,283,2],[279,3,283,3],[279,4,283,4],[279,5,283,5],[284,5,288,5],[274,6,278,6],[274,7,278,7],[274,8,278,8],[274,0,278,0],[274,1,278,1],[274,2,278,2],[274,3,278,3],[274,4,278,4],[269,6,273,6],[269,7,273,7],[269,8,273,8],[269,0,273,0],[269,1,273,1],[269,2,273,2],[269,3,273,3],[269,4,273,4],[269,5,273,5],[274,5,278,5],[264,6,268,6],[264,7,268,7],[264,8,268,8],[264,0,268,0],[264,1,268,1],[264,2,268,2],[264,3,268,3],[264,4,268,4],[259,6,263,6],[259,7,263,7],[259,8,263,8],[259,0,263,0],[259,1,263,1],[259,2,263,2],[259,3,263,3],[259,4,263,4],[259,5,263,5],[264,5,268,5],[254,6,258,6],[254,7,258,7],[254,8,258,8],[254,0,258,0],[254,1,258,1],[254,2,258,2],[254,3,258,3],[254,4,258,4],[249,6,253,6],[249,7,253,7],[249,8,253,8],[249,0,253,0],[249,1,253,1],[249,2,253,2],[249,3,253,3],[249,4,253,4],[249,5,253,5],[254,5,258,5],[244,6,248,6],[244,7,248,7],[244,8,248,8],[244,0,248,0],[244,1,248,1],[244,2,248,2],[244,3,248,3],[244,4,248,4],[239,6,243,6],[239,7,243,7],[239,8,243,8],[239,0,243,0],[239,1,243,1],[239,2,243,2],[239,3,243,3],[239,4,243,4],[239,5,243,5],[244,5,248,5],[234,6,238,6],[234,7,238,7],[234,8,238,8],[234,0,238,0],[234,1,238,1],[234,2,238,2],[234,3,238,3],[234,4,238,4],[229,6,233,6],[229,7,233,7],[229,8,233,8],[229,0,233,0],[229,1,233,1],[229,2,233,2],[229,3,233,3],[229,4,233,4],[229,5,233,5],[234,5,238,5],[224,6,228,6],[224,7,228,7],[224,8,228,8],[224,0,228,0],[224,1,228,1],[224,2,228,2],[224,3,228,3],[224,4,228,4],[219,6,223,6],[219,7,223,7],[219,8,223,8],[219,0,223,0],[219,1,223,1],[219,2,223,2],[219,3,223,3],[219,4,223,4],[219,5,223,5],[224,5,228,5],[214,6,218,6],[214,7,218,7],[214,8,218,8],[214,0,218,0],[214,1,218,1],[214,2,218,2],[214,3,218,3],[214,4,218,4],[209,6,213,6],[209,7,213,7],[209,8,213,8],[209,0,213,0],[209,1,213,1],[209,2,213,2],[209,3,213,3],[209,4,213,4],[209,5,213,5],[214,5,218,5],[204,6,208,6],[204,7,208,7],[204,8,208,8],[204,0,208,0],[204,1,208,1],[204,2,208,2],[204,3,208,3],[204,4,208,4],[199,6,203,6],[199,7,203,7],[199,8,203,8],[199,0,203,0],[199,1,203,1],[199,2,203,2],[199,3,203,3],[199,4,203,4],[199,5,203,5],[204,5,208,5],[194,6,198,6],[194,7,198,7],[194,8,198,8],[194,0,198,0],[194,1,198,1],[194,2,198,2],[194,3,198,3],[194,4,198,4],[189,6,193,6],[189,7,193,7],[189,8,193,8],[189,0,193,0],[189,1,193,1],[189,2,193,2],[189,3,193,3],[189,4,193,4],[189,5,193,5],[194,5,198,5],[184,6,188,6],[184,7,188,7],[184,8,188,8],[184,0,188,0],[184,1,188,1],[184,2,188,2],[184,3,188,3],[184,4,188,4],[179,6,183,6],[179,7,183,7],[179,8,183,8],[179,0,183,0],[179,1,183,1],[179,2,183,2],[179,3,183,3],[179,4,183,4],[179,5,183,5],[184,5,188,5],[174,6,178,6],[174,7,178,7],[174,8,178,8],[174,0,178,0],[174,1,178,1],[174,2,178,2],[174,3,178,3],[174,4,178,4],[169,6,173,6],[169,7,173,7],[169,8,173,8],[169,0,173,0],[169,1,173,1],[169,2,173,2],[169,3,173,3],[169,4,173,4],[169,5,173,5],[174,5,178,5],[164,6,168,6],[164,7,168,7],[164,8,168,8],[164,0,168,0],[164,1,168,1],[164,2,168,2],[164,3,168,3],[164,4,168,4],[159,6,163,6],[159,7,163,7],[159,8,163,8],[159,0,163,0],[159,1,163,1],[159,2,163,2],[159,3,163,3],[159,4,163,4],[159,5,163,5],[164,5,168,5],[149,0,150,8],[151,0,153,0],[151,1,153,1],[151,2,153,2],[151,7,153,7],[151,8,153,8],[152,3,153,3],[151,6,153,6],[152,5,153,5],[151,3,151,5],[154,6,158,6],[154,7,158,7],[154,8,158,8],[152,4,153,4],[154,0,158,0],[154,1,158,1],[154,2,158,2],[154,3,158,3],[154,4,158,4],[154,5,158,5],[144,6,148,6],[144,7,148,7],[144,8,148,8],[144,0,148,0],[144,1,148,1],[144,2,148,2],[144,3,148,3],[144,4,148,4],[139,6,143,6],[139,7,143,7],[139,8,143,8],[139,0,143,0],[139,1,143,1],[139,2,143,2],[139,3,143,3],[139,4,143,4],[139,5,143,5],[144,5,148,5],[134,6,138,6],[134,7,138,7],[134,8,138,8],[134,0,138,0],[134,1,138,1],[134,2,138,2],[134,3,138,3],[134,4,138,4],[129,6,133,6],[129,7,133,7],[129,8,133,8],[129,0,133,0],[129,1,133,1],[129,2,133,2],[129,3,133,3],[129,4,133,4],[129,5,133,5],[134,5,138,5],[124,6,128,6],[124,7,128,7],[124,8,128,8],[124,0,128,0],[124,1,128,1],[124,2,128,2],[124,3,128,3],[124,4,128,4],[119,6,123,6],[119,7,123,7],[119,8,123,8],[119,0,123,0],[119,1,123,1],[119,2,123,2],[119,3,123,3],[119,4,123,4],[119,5,123,5],[124,5,128,5],[114,6,118,6],[114,7,118,7],[114,8,118,8],[114,0,118,0],[114,1,118,1],[114,2,118,2],[114,3,118,3],[114,4,118,4],[109,6,113,6],[109,7,113,7],[109,8,113,8],[109,0,113,0],[109,1,113,1],[109,2,113,2],[109,3,113,3],[109,4,113,4],[109,5,113,5],[114,5,118,5],[104,6,108,6],[104,7,108,7],[104,8,108,8],[104,0,108,0],[104,1,108,1],[104,2,108,2],[104,3,108,3],[104,4,108,4],[99,6,103,6],[99,7,103,7],[99,8,103,8],[99,0,103,0],[99,1,103,1],[99,2,103,2],[99,3,103,3],[99,4,103,4],[99,5,103,5],[104,5,108,5],[94,6,98,6],[94,7,98,7],[94,8,98,8],[94,0,98,0],[94,1,98,1],[94,2,98,2],[94,3,98,3],[94,4,98,4],[89,6,93,6],[89,7,93,7],[89,8,93,8],[89,0,93,0],[89,1,93,1],[89,2,93,2],[89,3,93,3],[89,4,93,4],[89,5,93,5],[94,5,98,5],[84,6,88,6],[84,7,88,7],[84,8,88,8],[84,0,88,0],[84,1,88,1],[84,2,88,2],[84,3,88,3],[84,4,88,4],[79,6,83,6],[79,7,83,7],[79,8,83,8],[79,0,83,0],[79,1,83,1],[79,2,83,2],[79,3,83,3],[79,4,83,4],[79,5,83,5],[84,5,88,5],[74,6,78,6],[74,7,78,7],[74,8,78,8],[74,0,78,0],[74,1,78,1],[74,2,78,2],[74,3,78,3],[74,4,78,4],[69,6,73,6],[69,7,73,7],[69,8,73,8],[69,0,73,0],[69,1,73,1],[69,2,73,2],[69,3,73,3],[69,4,73,4],[69,5,73,5],[74,5,78,5],[64,6,68,6],[64,7,68,7],[64,8,68,8],[64,0,68,0],[64,1,68,1],[64,2,68,2],[64,3,68,3],[64,4,68,4],[59,6,63,6],[59,7,63,7],[59,8,63,8],[59,0,63,0],[59,1,63,1],[59,2,63,2],[59,3,63,3],[59,4,63,4],[59,5,63,5],[64,5,68,5],[54,6,58,6],[54,7,58,7],[54,8,58,8],[54,0,58,0],[54,1,58,1],[54,2,58,2],[54,3,58,3],[54,4,58,4],[49,6,53,6],[49,7,53,7],[49,8,53,8],[49,0,53,0],[49,1,53,1],[49,2,53,2],[49,3,53,3],[49,4,53,4],[49,5,53,5],[54,5,58,5],[44,6,48,6],[44,7,48,7],[44,8,48,8],[44,0,48,0],[44,1,48,1],[44,2,48,2],[44,3,48,3],[44,4,48,4],[39,6,43,6],[39,7,43,7],[39,8,43,8],[39,0,43,0],[39,1,43,1],[39,2,43,2],[39,3,43,3],[39,4,43,4],[39,5,43,5],[44,5,48,5],[34,6,38,6],[34,7,38,7],[34,8,38,8],[34,0,38,0],[34,1,38,1],[34,2,38,2],[34,3,38,3],[34,4,38,4],[29,6,33,6],[29,7,33,7],[29,8,33,8],[29,0,33,0],[29,1,33,1],[29,2,33,2],[29,3,33,3],[29,4,33,4],[29,5,33,5],[34,5,38,5],[24,6,28,6],[24,7,28,7],[24,8,28,8],[24,0,28,0],[24,1,28,1],[24,2,28,2],[24,3,28,3],[24,4,28,4],[19,6,23,6],[19,7,23,7],[19,8,23,8],[19,0,23,0],[19,1,23,1],[19,2,23,2],[19,3,23,3],[19,4,23,4],[19,5,23,5],[24,5,28,5],[14,6,18,6],[14,7,18,7],[14,8,18,8],[14,0,18,0],[14,1,18,1],[14,2,18,2],[14,3,18,3],[14,4,18,4],[9,6,13,6],[9,7,13,7],[9,8,13,8],[9,5,13,5],[14,5,18,5],[7,4,8,4],[9,0,13,0],[9,1,13,1],[9,2,13,2],[9,3,13,3],[9,4,13,4],[4,0,5,8],[6,0,8,0],[6,1,8,1],[6,2,8,2],[6,7,8,7],[6,8,8,8],[7,3,8,3],[6,6,8,6],[7,5,8,5],[6,3,6,5]]}
[]
[]
[]
[]
["Wykorzystanie pozafarmaceutyczne - substancje psychotropowe"]
[]
["Wykorzystywana/Powstająca Substancja","Sposób wykorzystania/powstawania","Stan na dzień 01.01 okresu sprawozdawczego","Przychód w roku sprawozdawczym",null,null,"Wykorzystano w produkcji","Utylizacja","Stan na dzień 31.12 okresu sprawozdawczego"]
[null,null,null,"Kupione w kraju","Wewnątrzwspólnotowe nabycie/przywóz","Produkcja własna"]
[]
[null,null,null,null,null,null,null,null,null,null,null,null,null,null,null,null,{"$f":"#REF!","v":{"$error":"#REF!"}}]
[null,null,null,null,null,null,null,null,null,null,null,null,null,null,null,null,{"$f":"Q10","v":{"$error":"#REF!"}}]
[null,null,null,null,null,null,null,null,null,null,null,null,null,null,null,null,{"$f":"Q11","v":{"$error":"#REF!"}}]
[null,null,null,null,null,null,null,null,null,null,null,null,null,null,null,null,{"$f":"Q12","v":{"$error":"#REF!"}}]
[null,null,null,null,null,null,null,null,null,null,null,null,null,null,null,null,{"$f":"Q13","v":{"$error":"#REF!"}}]
[null,null,null,null,null,null,null,null,null,null,null,null,null,null,null,null,{"$f":"#REF!","v":{"$error":"#REF!"}}]
[null,null,null,null,null,null,null,null,null,null,null,null,null,null,null,null,{"$f":"Q15","v":{"$error":"#REF!"}}]
[null,null,null,null,null,null,null,null,null,null,null,null,null,null,null,null,{"$f":"Q16","v":{"$error":"#REF!"}}]
[null,null,null,null,null,null,null,null,null,null,null,null,null,null,null,null,{"$f":"Q17","v":{"$error":"#REF!"}}]
[null,null,null,null,null,null,null,null,null,null,null,null,null,null,null,null,{"$f":"Q18","v":{"$error":"#REF!"}}]
[null,null,null,null,null,null,null,null,null,null,null,null,null,null,null,null,{"$f":"#REF!","v":{"$error":"#REF!"}}]
[null,null,null,null,null,null,null,null,null,null,null,null,null,null,null,null,{"$f":"Q20","v":{"$error":"#REF!"}}]
[null,null,null,null,null,null,null,null,null,null,null,null,null,null,null,null,{"$f":"Q21","v":{"$error":"#REF!"}}]
[null,null,null,null,null,null,null,null,null,null,null,null,null,null,null,null,{"$f":"Q22","v":{"$error":"#REF!"}}]
[null,null,null,null,null,null,null,null,null,null,null,null,null,null,null,null,{"$f":"Q23","v":{"$error":"#REF!"}}]
[null,null,null,null,null,null,null,null,null,null,null,null,null,null,null,null,{"$f":"#REF!","v":{"$error":"#REF!"}}]
[null,null,null,null,null,null,null,null,null,null,null,null,null,null,null,null,{"$f":"Q25","v":{"$error":"#REF!"}}]
[null,null,null,null,null,null,null,null,null,null,null,null,null,null,null,null,{"$f":"Q26","v":{"$error":"#REF!"}}]
[null,null,null,null,null,null,null,null,null,null,null,null,null,null,null,null,{"$f":"Q27","v":{"$error":"#REF!"}}]
[null,null,null,null,null,null,null,null,null,null,null,null,null,null,null,null,{"$f":"Q28","v":{"$error":"#REF!"}}]
[null,null,null,null,null,null,null,null,null,null,null,null,null,null,null,null,{"$f":"#REF!","v":{"$error":"#REF!"}}]
[null,null,null,null,null,null,null,null,null,null,null,null,null,null,null,null,{"$f":"Q30","v":{"$error":"#REF!"}}]
[null,null,null,null,null,null,null,null,null,null,null,null,null,null,null,null,{"$f":"Q31","v":{"$error":"#REF!"}}]
[null,null,null,null,null,null,null,null,null,null,null,null,null,null,null,null,{"$f":"Q32","v":{"$error":"#REF!"}}]
[null,null,null,null,null,null,null,null,null,null,null,null,null,null,null,null,{"$f":"Q33","v":{"$error":"#REF!"}}]
[null,null,null,null,null,null,null,null,null,null,null,null,null,null,null,null,{"$f":"#REF!","v":{"$error":"#REF!"}}]
[null,null,null,null,null,null,null,null,null,null,null,null,null,null,null,null,{"$f":"Q35","v":{"$error":"#REF!"}}]
[null,null,null,null,null,null,null,null,null,null,null,null,null,null,null,null,{"$f":"Q36","v":{"$error":"#REF!"}}]
[null,null,null,null,null,null,null,null,null,null,null,null,null,null,null,null,{"$f":"Q37","v":{"$error":"#REF!"}}]
[null,null,null,null,null,null,null,null,null,null,null,null,null,null,null,null,{"$f":"Q38","v":{"$error":"#REF!"}}]
[null,null,null,null,null,null,null,null,null,null,null,null,null,null,null,null,{"$f":"#REF!","v":{"$error":"#REF!"}}]
[null,null,null,null,null,null,null,null,null,null,null,null,null,null,null,null,{"$f":"Q40","v":{"$error":"#REF!"}}]
[null,null,null,null,null,null,null,null,null,null,null,null,null,null,null,null,{"$f":"Q41","v":{"$error":"#REF!"}}]
[null,null,null,null,null,null,null,null,null,null,null,null,null,null,null,null,{"$f":"Q42","v":{"$error":"#REF!"}}]
[null,null,null,null,null,null,null,null,null,null,null,null,null,null,null,null,{"$f":"Q43","v":{"$error":"#REF!"}}]
[null,null,null,null,null,null,null,null,null,null,null,null,null,null,null,null,{"$f":"#REF!","v":{"$error":"#REF!"}}]
[null,null,null,null,null,null,null,null,null,null,null,null,null,null,null,null,{"$f":"Q45","v":{"$error":"#REF!"}}]
[null,null,null,null,null,null,null,null,null,null,null,null,null,null,null,null,{"$f":"Q46","v":{"$error":"#REF!"}}]
[null,null,null,null,null,null,null,null,null,null,null,null,null,null,null,null,{"$f":"Q47","v":{"$error":"#REF!"}}]
[null,null,null,null,null,null,null,null,null,null,null,null,null,null,null,null,{"$f":"Q48","v":{"$error":"#REF!"}}]
[null,null,null,null,null,null,null,null,null,null,null,null,null,null,null,null,{"$f":"#REF!","v":{"$error":"#REF!"}}]
[null,null,null,null,null,null,null,null,null,null,null,null,null,null,null,null,{"$f":"Q50","v":{"$error":"#REF!"}}]
[null,null,null,null,null,null,null,null,null,null,null,null,null,null,null,null,{"$f":"Q51","v":{"$error":"#REF!"}}]
[null,null,null,null,null,null,null,null,null,null,null,null,null,null,null,null,{"$f":"Q52","v":{"$error":"#REF!"}}]
[null,null,null,null,null,null,null,null,null,null,null,null,null,null,null,null,{"$f":"Q53","v":{"$error":"#REF!"}}]
[null,null,null,null,null,null,null,null,null,null,null,null,null,null,null,null,{"$f":"#REF!","v":{"$error":"#REF!"}}]
[null,null,null,null,null,null,null,null,null,null,null,null,null,null,null,null,{"$f":"Q55","v":{"$error":"#REF!"}}]
[null,null,null,null,null,null,null,null,null,null,null,null,null,null,null,null,{"$f":"Q56","v":{"$error":"#REF!"}}]
[null,null,null,null,null,null,null,null,null,null,null,null,null,null,null,null,{"$f":"Q57","v":{"$error":"#REF!"}}]
[null,null,null,null,null,null,null,null,null,null,null,null,null,null,null,null,{"$f":"Q58","v":{"$error":"#REF!"}}]
[null,null,null,null,null,null,null,null,null,null,null,null,null,null,null,null,{"$f":"#REF!","v":{"$error":"#REF!"}}]
[null,null,null,null,null,null,null,null,null,null,null,null,null,null,null,null,{"$f":"Q60","v":{"$error":"#REF!"}}]
[null,null,null,null,null,null,null,null,null,null,null,null,null,null,null,null,{"$f":"Q61","v":{"$error":"#REF!"}}]
[null,null,null,null,null,null,null,null,null,null,null,null,null,null,null,null,{"$f":"Q62","v":{"$error":"#REF!"}}]
[null,null,null,null,null,null,null,null,null,null,null,null,null,null,null,null,{"$f":"Q63","v":{"$error":"#REF!"}}]
[null,null,null,null,null,null,null,null,null,null,null,null,null,null,null,null,{"$f":"#REF!","v":{"$error":"#REF!"}}]
[null,null,null,null,null,null,null,null,null,null,null,null,null,null,null,null,{"$f":"Q65","v":{"$error":"#REF!"}}]
[null,null,null,null,null,null,null,null,null,null,null,null,null,null,null,null,{"$f":"Q66","v":{"$error":"#REF!"}}]
[null,null,null,null,null,null,null,null,null,null,null,null,null,null,null,null,{"$f":"Q67","v":{"$error":"#REF!"}}]
[null,null,null,null,null,null,null,null,null,null,null,null,null,null,null,null,{"$f":"Q68","v":{"$error":"#REF!"}}]
[null,null,null,null,null,null,null,null,null,null,null,null,null,null,null,null,{"$f":"#REF!","v":{"$error":"#REF!"}}]
[null,null,null,null,null,null,null,null,null,null,null,null,null,null,null,null,{"$f":"Q70","v":{"$error":"#REF!"}}]
[null,null,null,null,null,null,null,null,null,null,null,null,null,null,null,null,{"$f":"Q71","v":{"$error":"#REF!"}}]
[null,null,null,null,null,null,null,null,null,null,null,null,null,null,null,null,{"$f":"Q72","v":{"$error":"#REF!"}}]
[null,null,null,null,null,null,null,null,null,null,null,null,null,null,null,null,{"$f":"Q73","v":{"$error":"#REF!"}}]
[null,null,null,null,null,null,null,null,null,null,null,null,null,null,null,null,{"$f":"#REF!","v":{"$error":"#REF!"}}]
[null,null,null,null,null,null,null,null,null,null,null,null,null,null,null,null,{"$f":"Q75","v":{"$error":"#REF!"}}]
[null,null,null,null,null,null,null,null,null,null,null,null,null,null,null,null,{"$f":"Q76","v":{"$error":"#REF!"}}]
[null,null,null,null,null,null,null,null,null,null,null,null,null,null,null,null,{"$f":"Q77","v":{"$error":"#REF!"}}]
[null,null,null,null,null,null,null,null,null,null,null,null,null,null,null,null,{"$f":"Q78","v":{"$error":"#REF!"}}]
[null,null,null,null,null,null,null,null,null,null,null,null,null,null,null,null,{"$f":"#REF!","v":{"$error":"#REF!"}}]
[null,null,null,null,null,null,null,null,null,null,null,null,null,null,null,null,{"$f":"Q80","v":{"$error":"#REF!"}}]
[null,null,null,null,null,null,null,null,null,null,null,null,null,null,null,null,{"$f":"Q81","v":{"$error":"#REF!"}}]
[null,null,null,null,null,null,null,null,null,null,null,null,null,null,null,null,{"$f":"Q82","v":{"$error":"#REF!"}}]
[null,null,null,null,null,null,null,null,null,null,null,null,null,null,null,null,{"$f":"Q83","v":{"$error":"#REF!"}}]
[null,null,null,null,null,null,null,null,null,null,null,null,null,null,null,null,{"$f":"#REF!","v":{"$error":"#REF!"}}]
[null,null,null,null,null,null,null,null,null,null,null,null,null,null,null,null,{"$f":"Q85","v":{"$error":"#REF!"}}]
[null,null,null,null,null,null,null,null,null,null,null,null,null,null,null,null,{"$f":"Q86","v":{"$error":"#REF!"}}]
[null,null,null,null,null,null,null,null,null,null,null,null,null,null,null,null,{"$f":"Q87","v":{"$error":"#REF!"}}]
[null,null,null,null,null,null,null,null,null,null,null,null,null,null,null,null,{"$f":"Q88","v":{"$error":"#REF!"}}]
[null,null,null,null,null,null,null,null,null,null,null,null,null,null,null,null,{"$f":"#REF!","v":{"$error":"#REF!"}}]
[null,null,null,null,null,null,null,null,null,null,null,null,null,null,null,null,{"$f":"Q90","v":{"$error":"#REF!"}}]
[null,null,null,null,null,null,null,null,null,null,null,null,null,null,null,null,{"$f":"Q91","v":{"$error":"#REF!"}}]
[null,null,null,null,null,null,null,null,null,null,null,null,null,null,null,null,{"$f":"Q92","v":{"$error":"#REF!"}}]
[null,null,null,null,null,null,null,null,null,null,null,null,null,null,null,null,{"$f":"Q93","v":{"$error":"#REF!"}}]
[null,null,null,null,null,null,null,null,null,null,null,null,null,null,null,null,{"$f":"#REF!","v":{"$error":"#REF!"}}]
[null,null,null,null,null,null,null,null,null,null,null,null,null,null,null,null,{"$f":"Q95","v":{"$error":"#REF!"}}]
[null,null,null,null,null,null,null,null,null,null,null,null,null,null,null,null,{"$f":"Q96","v":{"$error":"#REF!"}}]
[null,null,null,null,null,null,null,null,null,null,null,null,null,null,null,null,{"$f":"Q97","v":{"$error":"#REF!"}}]
[null,null,null,null,null,null,null,null,null,null,null,null,null,null,null,null,{"$f":"Q98","v":{"$error":"#REF!"}}]
[null,null,null,null,null,null,null,null,null,null,null,null,null,null,null,null,{"$f":"#REF!","v":{"$error":"#REF!"}}]
[null,null,null,null,null,null,null,null,null,null,null,null,null,null,null,null,{"$f":"Q100","v":{"$error":"#REF!"}}]
[null,null,null,null,null,null,null,null,null,null,null,null,null,null,null,null,{"$f":"Q101","v":{"$error":"#REF!"}}]
[null,null,null,null,null,null,null,null,null,null,null,null,null,null,null,null,{"$f":"Q102","v":{"$error":"#REF!"}}]
[null,null,null,null,null,null,null,null,null,null,null,null,null,null,null,null,{"$f":"Q103","v":{"$error":"#REF!"}}]
[null,null,null,null,null,null,null,null,null,null,null,null,null,null,null,null,{"$f":"#REF!","v":{"$error":"#REF!"}}]
[null,null,null,null,null,null,null,null,null,null,null,null,null,null,null,null,{"$f":"Q105","v":{"$error":"#REF!"}}]
[null,null,null,null,null,null,null,null,null,null,null,null,null,null,null,null,{"$f":"Q106","v":{"$error":"#REF!"}}]
[null,null,null,null,null,null,null,null,null,null,null,null,null,null,null,null,{"$f":"Q107","v":{"$error":"#REF!"}}]
[null,null,null,null,null,null,null,null,null,null,null,null,null,null,null,null,{"$f":"Q108","v":{"$error":"#REF!"}}]
[null,null,null,null,null,null,null,null,null,null,null,null,null,null,null,null,{"$f":"#REF!","v":{"$error":"#REF!"}}]
[null,null,null,null,null,null,null,null,null,null,null,null,null,null,null,null,{"$f":"Q110","v":{"$error":"#REF!"}}]
[null,null,null,null,null,null,null,null,null,null,null,null,null,null,null,null,{"$f":"Q111","v":{"$error":"#REF!"}}]
[null,null,null,null,null,null,null,null,null,null,null,null,null,null,null,null,{"$f":"Q112","v":{"$error":"#REF!"}}]
[null,null,null,null,null,null,null,null,null,null,null,null,null,null,null,null,{"$f":"Q113","v":{"$error":"#REF!"}}]
[null,null,null,null,null,null,null,null,null,null,null,null,null,null,null,null,{"$f":"#REF!","v":{"$error":"#REF!"}}]
[null,null,null,null,null,null,null,null,null,null,null,null,null,null,null,null,{"$f":"Q115","v":{"$error":"#REF!"}}]
[null,null,null,null,null,null,null,null,null,null,null,null,null,null,null,null,{"$f":"Q116","v":{"$error":"#REF!"}}]
[null,null,null,null,null,null,null,null,null,null,null,null,null,null,null,null,{"$f":"Q117","v":{"$error":"#REF!"}}]
[null,null,null,null,null,null,null,null,null,null,null,null,null,null,null,null,{"$f":"Q118","v":{"$error":"#REF!"}}]
[null,null,null,null,null,null,null,null,null,null,null,null,null,null,null,null,{"$f":"#REF!","v":{"$error":"#REF!"}}]
[null,null,null,null,null,null,null,null,null,null,null,null,null,null,null,null,{"$f":"Q120","v":{"$error":"#REF!"}}]
[null,null,null,null,null,null,null,null,null,null,null,null,null,null,null,null,{"$f":"Q121","v":{"$error":"#REF!"}}]
[null,null,null,null,null,null,null,null,null,null,null,null,null,null,null,null,{"$f":"Q122","v":{"$error":"#REF!"}}]
[null,null,null,null,null,null,null,null,null,null,null,null,null,null,null,null,{"$f":"Q123","v":{"$error":"#REF!"}}]
[null,null,null,null,null,null,null,null,null,null,null,null,null,null,null,null,{"$f":"#REF!","v":{"$error":"#REF!"}}]
[null,null,null,null,null,null,null,null,null,null,null,null,null,null,null,null,{"$f":"Q125","v":{"$error":"#REF!"}}]
[null,null,null,null,null,null,null,null,null,null,null,null,null,null,null,null,{"$f":"Q126","v":{"$error":"#REF!"}}]
[null,null,null,null,null,null,null,null,null,null,null,null,null,null,null,null,{"$f":"Q127","v":{"$error":"#REF!"}}]
[null,null,null,null,null,null,null,null,null,null,null,null,null,null,null,null,{"$f":"Q128","v":{"$error":"#REF!"}}]
[null,null,null,null,null,null,null,null,null,null,null,null,null,null,null,null,{"$f":"#REF!","v":{"$error":"#REF!"}}]
[null,null,null,null,null,null,null,null,null,null,null,null,null,null,null,null,{"$f":"Q130","v":{"$error":"#REF!"}}]
[null,null,null,null,null,null,null,null,null,null,null,null,null,null,null,null,{"$f":"Q131","v":{"$error":"#REF!"}}]
[null,null,null,null,null,null,null,null,null,null,null,null,null,null,null,null,{"$f":"Q132","v":{"$error":"#REF!"}}]
[null,null,null,null,null,null,null,null,null,null,null,null,null,null,null,null,{"$f":"Q133","v":{"$error":"#REF!"}}]
[null,null,null,null,null,null,null,null,null,null,null,null,null,null,null,null,{"$f":"#REF!","v":{"$error":"#REF!"}}]
[null,null,null,null,null,null,null,null,null,null,null,null,null,null,null,null,{"$f":"Q135","v":{"$error":"#REF!"}}]
[null,null,null,null,null,null,null,null,null,null,null,null,null,null,null,null,{"$f":"Q136","v":{"$error":"#REF!"}}]
[null,null,null,null,null,null,null,null,null,null,null,null,null,null,null,null,{"$f":"Q137","v":{"$error":"#REF!"}}]
[null,null,null,null,null,null,null,null,null,null,null,null,null,null,null,null,{"$f":"Q138","v":{"$error":"#REF!"}}]
[null,null,null,null,null,null,null,null,null,null,null,null,null,null,null,null,{"$f":"#REF!","v":{"$error":"#REF!"}}]
[null,null,null,null,null,null,null,null,null,null,null,null,null,null,null,null,{"$f":"Q140","v":{"$error":"#REF!"}}]
[null,null,null,null,null,null,null,null,null,null,null,null,null,null,null,null,{"$f":"Q141","v":{"$error":"#REF!"}}]
[null,null,null,null,null,null,null,null,null,null,null,null,null,null,null,null,{"$f":"Q142","v":{"$error":"#REF!"}}]
[null,null,null,null,null,null,null,null,null,null,null,null,null,null,null,null,{"$f":"Q143","v":{"$error":"#REF!"}}]
[null,null,null,null,null,null,null,null,null,null,null,null,null,null,null,null,{"$f":"#REF!","v":{"$error":"#REF!"}}]
[null,null,null,null,null,null,null,null,null,null,null,null,null,null,null,null,{"$f":"Q145","v":{"$error":"#REF!"}}]
[null,null,null,null,null,null,null,null,null,null,null,null,null,null,null,null,{"$f":"Q146","v":{"$error":"#REF!"}}]
[null,null,null,null,null,null,null,null,null,null,null,null,null,null,null,null,{"$f":"Q147","v":{"$error":"#REF!"}}]
[null,null,null,null,null,null,null,null,null,null,null,null,null,null,null,null,{"$f":"Q148","v":{"$error":"#REF!"}}]
["Wykorzystanie pozafarmaceutyczne - środki odurzające",null,null,null,null,null,null,null,null,null,null,null,null,null,null,null,{"$f":"#REF!","v":{"$error":"#REF!"}}]
[null,null,null,null,null,null,null,null,null,null,null,null,null,null,null,null,{"$f":"Q150","v":{"$error":"#REF!"}}]
["Wykorzystywana/Powstająca Substancja","Sposób wykorzystania/powstawania","Stan na dzień 01.01 okresu sprawozdawczego","Przychód w roku sprawozdawczym",null,null,"Wykorzystano w produkcji","Utylizacja","Stan na dzień 31.12 okresu sprawozdawczego",null,null,null,null,null,null,null,{"$f":"Q151","v":{"$error":"#REF!"}}]
[null,null,null,"Kupione w kraju","Wewnątrzwspólnotowe nabycie/przywóz","Produkcja własna",null,null,null,null,null,null,null,null,null,null,{"$f":"Q152","v":{"$error":"#REF!"}}]
[null,null,null,null,null,null,null,null,null,null,null,null,null,null,null,null,{"$f":"Q153","v":{"$error":"#REF!"}}]
[null,null,null,null,null,null,null,null,null,null,null,null,null,null,null,null,{"$f":"#REF!","v":{"$error":"#REF!"}}]
[null,null,null,null,null,null,null,null,null,null,null,null,null,null,null,null,{"$f":"Q155","v":{"$error":"#REF!"}}]
[null,null,null,null,null,null,null,null,null,null,null,null,null,null,null,"Tak",{"$f":"Q156","v":{"$error":"#REF!"}}]
[null,null,null,null,null,null,null,null,null,null,null,null,null,null,null,"Nie",{"$f":"Q157","v":{"$error":"#REF!"}}]
[null,null,null,null,null,null,null,null,null,null,null,null,null,null,null,null,{"$f":"Q158","v":{"$error":"#REF!"}}]
[null,null,null,null,null,null,null,null,null,null,null,null,null,null,null,null,{"$f":"#REF!","v":{"$error":"#REF!"}}]
[null,null,null,null,null,null,null,null,null,null,null,null,null,null,null,null,{"$f":"Q160","v":{"$error":"#REF!"}}]
[null,null,null,null,null,null,null,null,null,null,null,null,null,null,null,null,{"$f":"Q161","v":{"$error":"#REF!"}}]
[null,null,null,null,null,null,null,null,null,null,null,null,null,null,null,null,{"$f":"Q162","v":{"$error":"#REF!"}}]
[null,null,null,null,null,null,null,null,null,null,null,null,null,null,null,null,{"$f":"Q163","v":{"$error":"#REF!"}}]
[null,null,null,null,null,null,null,null,null,null,null,null,null,null,null,null,{"$f":"#REF!","v":{"$error":"#REF!"}}]
[null,null,null,null,null,null,null,null,null,null,null,null,null,null,null,null,{"$f":"Q165","v":{"$error":"#REF!"}}]
[null,null,null,null,null,null,null,null,null,null,null,null,null,null,null,null,{"$f":"Q166","v":{"$error":"#REF!"}}]
[null,null,null,null,null,null,null,null,null,null,null,null,null,null,null,null,{"$f":"Q167","v":{"$error":"#REF!"}}]
[null,null,null,null,null,null,null,null,null,null,null,null,null,null,null,null,{"$f":"Q168","v":{"$error":"#REF!"}}]
[null,null,null,null,null,null,null,null,null,null,null,null,null,null,null,null,{"$f":"#REF!","v":{"$error":"#REF!"}}]
[null,null,null,null,null,null,null,null,null,null,null,null,null,null,null,null,{"$f":"Q170","v":{"$error":"#REF!"}}]
[null,null,null,null,null,null,null,null,null,null,null,null,null,null,null,null,{"$f":"Q171","v":{"$error":"#REF!"}}]
[null,null,null,null,null,null,null,null,null,null,null,null,null,null,null,null,{"$f":"Q172","v":{"$error":"#REF!"}}]
[null,null,null,null,null,null,null,null,null,null,null,null,null,null,null,null,{"$f":"Q173","v":{"$error":"#REF!"}}]
[null,null,null,null,null,null,null,null,null,null,null,null,null,null,null,null,{"$f":"#REF!","v":{"$error":"#REF!"}}]
[null,null,null,null,null,null,null,null,null,null,null,null,null,null,null,null,{"$f":"Q175","v":{"$error":"#REF!"}}]
[null,null,null,null,null,null,null,null,null,null,null,null,null,null,null,null,{"$f":"Q176","v":{"$error":"#REF!"}}]
[null,null,null,null,null,null,null,null,null,null,null,null,null,null,null,null,{"$f":"Q177","v":{"$error":"#REF!"}}]
[null,null,null,null,null,null,null,null,null,null,null,null,null,null,null,null,{"$f":"Q178","v":{"$error":"#REF!"}}]
[null,null,null,null,null,null,null,null,null,null,null,null,null,null,null,null,{"$f":"#REF!","v":{"$error":"#REF!"}}]
[null,null,null,null,null,null,null,null,null,null,null,null,null,null,null,null,{"$f":"Q180","v":{"$error":"#REF!"}}]
[null,null,null,null,null,null,null,null,null,null,null,null,null,null,null,null,{"$f":"Q181","v":{"$error":"#REF!"}}]
[null,null,null,null,null,null,null,null,null,null,null,null,null,null,null,null,{"$f":"Q182","v":{"$error":"#REF!"}}]
[null,null,null,null,null,null,null,null,null,null,null,null,null,null,null,null,{"$f":"Q183","v":{"$error":"#REF!"}}]
[null,null,null,null,null,null,null,null,null,null,null,null,null,null,null,null,{"$f":"#REF!","v":{"$error":"#REF!"}}]
[null,null,null,null,null,null,null,null,null,null,null,null,null,null,null,null,{"$f":"Q185","v":{"$error":"#REF!"}}]
[null,null,null,null,null,null,null,null,null,null,null,null,null,null,null,null,{"$f":"Q186","v":{"$error":"#REF!"}}]
[null,null,null,null,null,null,null,null,null,null,null,null,null,null,null,null,{"$f":"Q187","v":{"$error":"#REF!"}}]
[null,null,null,null,null,null,null,null,null,null,null,null,null,null,null,null,{"$f":"Q188","v":{"$error":"#REF!"}}]
[null,null,null,null,null,null,null,null,null,null,null,null,null,null,null,null,{"$f":"#REF!","v":{"$error":"#REF!"}}]
[null,null,null,null,null,null,null,null,null,null,null,null,null,null,null,null,{"$f":"Q190","v":{"$error":"#REF!"}}]
[null,null,null,null,null,null,null,null,null,null,null,null,null,null,null,null,{"$f":"Q191","v":{"$error":"#REF!"}}]
[null,null,null,null,null,null,null,null,null,null,null,null,null,null,null,null,{"$f":"Q192","v":{"$error":"#REF!"}}]
[null,null,null,null,null,null,null,null,null,null,null,null,null,null,null,null,{"$f":"Q193","v":{"$error":"#REF!"}}]
[null,null,null,null,null,null,null,null,null,null,null,null,null,null,null,null,{"$f":"#REF!","v":{"$error":"#REF!"}}]
[null,null,null,null,null,null,null,null,null,null,null,null,null,null,null,null,{"$f":"Q195","v":{"$error":"#REF!"}}]
[null,null,null,null,null,null,null,null,null,null,null,null,null,null,null,null,{"$f":"Q196","v":{"$error":"#REF!"}}]
[null,null,null,null,null,null,null,null,null,null,null,null,null,null,null,null,{"$f":"Q197","v":{"$error":"#REF!"}}]
[null,null,null,null,null,null,null,null,null,null,null,null,null,null,null,null,{"$f":"Q198","v":{"$error":"#REF!"}}]
[null,null,null,null,null,null,null,null,null,null,null,null,null,null,null,null,{"$f":"#REF!","v":{"$error":"#REF!"}}]
[null,null,null,null,null,null,null,null,null,null,null,null,null,null,null,null,{"$f":"Q200","v":{"$error":"#REF!"}}]
[null,null,null,null,null,null,null,null,null,null,null,null,null,null,null,null,{"$f":"Q201","v":{"$error":"#REF!"}}]
[null,null,null,null,null,null,null,null,null,null,null,null,null,null,null,null,{"$f":"Q202","v":{"$error":"#REF!"}}]
[null,null,null,null,null,null,null,null,null,null,null,null,null,null,null,null,{"$f":"Q203","v":{"$error":"#REF!"}}]
[null,null,null,null,null,null,null,null,null,null,null,null,null,null,null,null,{"$f":"#REF!","v":{"$error":"#REF!"}}]
[null,null,null,null,null,null,null,null,null,null,null,null,null,null,null,null,{"$f":"Q205","v":{"$error":"#REF!"}}]
[null,null,null,null,null,null,null,null,null,null,null,null,null,null,null,null,{"$f":"Q206","v":{"$error":"#REF!"}}]
[null,null,null,null,null,null,null,null,null,null,null,null,null,null,null,null,{"$f":"Q207","v":{"$error":"#REF!"}}]
[null,null,null,null,null,null,null,null,null,null,null,null,null,null,null,null,{"$f":"Q208","v":{"$error":"#REF!"}}]
[null,null,null,null,null,null,null,null,null,null,null,null,null,null,null,null,{"$f":"#REF!","v":{"$error":"#REF!"}}]
[null,null,null,null,null,null,null,null,null,null,null,null,null,null,null,null,{"$f":"Q210","v":{"$error":"#REF!"}}]
[null,null,null,null,null,null,null,null,null,null,null,null,null,null,null,null,{"$f":"Q211","v":{"$error":"#REF!"}}]
[null,null,null,null,null,null,null,null,null,null,null,null,null,null,null,null,{"$f":"Q212","v":{"$error":"#REF!"}}]
[null,null,null,null,null,null,null,null,null,null,null,null,null,null,null,null,{"$f":"Q213","v":{"$error":"#REF!"}}]
[null,null,null,null,null,null,null,null,null,null,null,null,null,null,null,null,{"$f":"#REF!","v":{"$error":"#REF!"}}]
[null,null,null,null,null,null,null,null,null,null,null,null,null,null,null,null,{"$f":"Q215","v":{"$error":"#REF!"}}]
[null,null,null,null,null,null,null,null,null,null,null,null,null,null,null,null,{"$f":"Q216","v":{"$error":"#REF!"}}]
[null,null,null,null,null,null,null,null,null,null,null,null,null,null,null,null,{"$f":"Q217","v":{"$error":"#REF!"}}]
[null,null,null,null,null,null,null,null,null,null,null,null,null,null,null,null,{"$f":"Q218","v":{"$error":"#REF!"}}]
[null,null,null,null,null,null,null,null,null,null,null,null,null,null,null,null,{"$f":"#REF!","v":{"$error":"#REF!"}}]
[null,null,null,null,null,null,null,null,null,null,null,null,null,null,null,null,{"$f":"Q220","v":{"$error":"#REF!"}}]
[null,null,null,null,null,null,null,null,null,null,null,null,null,null,null,null,{"$f":"Q221","v":{"$error":"#REF!"}}]
[null,null,null,null,null,null,null,null,null,null,null,null,null,null,null,null,{"$f":"Q222","v":{"$error":"#REF!"}}]
[null,null,null,null,null,null,null,null,null,null,null,null,null,null,null,null,{"$f":"Q223","v":{"$error":"#REF!"}}]
[null,null,null,null,null,null,null,null,null,null,null,null,null,null,null,null,{"$f":"#REF!","v":{"$error":"#REF!"}}]
[null,null,null,null,null,null,null,null,null,null,null,null,null,null,null,null,{"$f":"Q225","v":{"$error":"#REF!"}}]
[null,null,null,null,null,null,null,null,null,null,null,null,null,null,null,null,{"$f":"Q226","v":{"$error":"#REF!"}}]
[null,null,null,null,null,null,null,null,null,null,null,null,null,null,null,null,{"$f":"Q227","v":{"$error":"#REF!"}}]
[null,null,null,null,null,null,null,null,null,null,null,null,null,null,null,null,{"$f":"Q228","v":{"$error":"#REF!"}}]
[null,null,null,null,null,null,null,null,null,null,null,null,null,null,null,null,{"$f":"#REF!","v":{"$error":"#REF!"}}]
[null,null,null,null,null,null,null,null,null,null,null,null,null,null,null,null,{"$f":"Q230","v":{"$error":"#REF!"}}]
[null,null,null,null,null,null,null,null,null,null,null,null,null,null,null,null,{"$f":"Q231","v":{"$error":"#REF!"}}]
[null,null,null,null,null,null,null,null,null,null,null,null,null,null,null,null,{"$f":"Q232","v":{"$error":"#REF!"}}]
[null,null,null,null,null,null,null,null,null,null,null,null,null,null,null,null,{"$f":"Q233","v":{"$error":"#REF!"}}]
[null,null,null,null,null,null,null,null,null,null,null,null,null,null,null,null,{"$f":"#REF!","v":{"$error":"#REF!"}}]
[null,null,null,null,null,null,null,null,null,null,null,null,null,null,null,null,{"$f":"Q235","v":{"$error":"#REF!"}}]
[null,null,null,null,null,null,null,null,null,null,null,null,null,null,null,null,{"$f":"Q236","v":{"$error":"#REF!"}}]
[null,null,null,null,null,null,null,null,null,null,null,null,null,null,null,null,{"$f":"Q237","v":{"$error":"#REF!"}}]
[null,null,null,null,null,null,null,null,null,null,null,null,null,null,null,null,{"$f":"Q238","v":{"$error":"#REF!"}}]
[null,null,null,null,null,null,null,null,null,null,null,null,null,null,null,null,{"$f":"#REF!","v":{"$error":"#REF!"}}]
[null,null,null,null,null,null,null,null,null,null,null,null,null,null,null,null,{"$f":"Q240","v":{"$error":"#REF!"}}]
[null,null,null,null,null,null,null,null,null,null,null,null,null,null,null,null,{"$f":"Q241","v":{"$error":"#REF!"}}]
[null,null,null,null,null,null,null,null,null,null,null,null,null,null,null,null,{"$f":"Q242","v":{"$error":"#REF!"}}]
[null,null,null,null,null,null,null,null,null,null,null,null,null,null,null,null,{"$f":"Q243","v":{"$error":"#REF!"}}]
[null,null,null,null,null,null,null,null,null,null,null,null,null,null,null,null,{"$f":"#REF!","v":{"$error":"#REF!"}}]
[null,null,null,null,null,null,null,null,null,null,null,null,null,null,null,null,{"$f":"Q245","v":{"$error":"#REF!"}}]
[null,null,null,null,null,null,null,null,null,null,null,null,null,null,null,null,{"$f":"Q246","v":{"$error":"#REF!"}}]
[null,null,null,null,null,null,null,null,null,null,null,null,null,null,null,null,{"$f":"Q247","v":{"$error":"#REF!"}}]
[null,null,null,null,null,null,null,null,null,null,null,null,null,null,null,null,{"$f":"Q248","v":{"$error":"#REF!"}}]
[null,null,null,null,null,null,null,null,null,null,null,null,null,null,null,null,{"$f":"#REF!","v":{"$error":"#REF!"}}]
[null,null,null,null,null,null,null,null,null,null,null,null,null,null,null,null,{"$f":"Q250","v":{"$error":"#REF!"}}]
[null,null,null,null,null,null,null,null,null,null,null,null,null,null,null,null,{"$f":"Q251","v":{"$error":"#REF!"}}]
[null,null,null,null,null,null,null,null,null,null,null,null,null,null,null,null,{"$f":"Q252","v":{"$error":"#REF!"}}]
[null,null,null,null,null,null,null,null,null,null,null,null,null,null,null,null,{"$f":"Q253","v":{"$error":"#REF!"}}]
[null,null,null,null,null,null,null,null,null,null,null,null,null,null,null,null,{"$f":"#REF!","v":{"$error":"#REF!"}}]
[null,null,null,null,null,null,null,null,null,null,null,null,null,null,null,null,{"$f":"Q255","v":{"$error":"#REF!"}}]
[null,null,null,null,null,null,null,null,null,null,null,null,null,null,null,null,{"$f":"Q256","v":{"$error":"#REF!"}}]
[null,null,null,null,null,null,null,null,null,null,null,null,null,null,null,null,{"$f":"Q257","v":{"$error":"#REF!"}}]
[null,null,null,null,null,null,null,null,null,null,null,null,null,null,null,null,{"$f":"Q258","v":{"$error":"#REF!"}}]
[null,null,null,null,null,null,null,null,null,null,null,null,null,null,null,null,{"$f":"#REF!","v":{"$error":"#REF!"}}]
[null,null,null,null,null,null,null,null,null,null,null,null,null,null,null,null,{"$f":"Q260","v":{"$error":"#REF!"}}]
[null,null,null,null,null,null,null,null,null,null,null,null,null,null,null,null,{"$f":"Q261","v":{"$error":"#REF!"}}]
[null,null,null,null,null,null,null,null,null,null,null,null,null,null,null,null,{"$f":"Q262","v":{"$error":"#REF!"}}]
[null,null,null,null,null,null,null,null,null,null,null,null,null,null,null,null,{"$f":"Q263","v":{"$error":"#REF!"}}]
[null,null,null,null,null,null,null,null,null,null,null,null,null,null,null,null,{"$f":"#REF!","v":{"$error":"#REF!"}}]
[null,null,null,null,null,null,null,null,null,null,null,null,null,null,null,null,{"$f":"Q265","v":{"$error":"#REF!"}}]
[null,null,null,null,null,null,null,null,null,null,null,null,null,null,null,null,{"$f":"Q266","v":{"$error":"#REF!"}}]
[null,null,null,null,null,null,null,null,null,null,null,null,null,null,null,null,{"$f":"Q267","v":{"$error":"#REF!"}}]
[null,null,null,null,null,null,null,null,null,null,null,null,null,null,null,null,{"$f":"Q268","v":{"$error":"#REF!"}}]
[null,null,null,null,null,null,null,null,null,null,null,null,null,null,null,null,{"$f":"#REF!","v":{"$error":"#REF!"}}]
[null,null,null,null,null,null,null,null,null,null,null,null,null,null,null,null,{"$f":"Q270","v":{"$error":"#REF!"}}]
[null,null,null,null,null,null,null,null,null,null,null,null,null,null,null,null,{"$f":"Q271","v":{"$error":"#REF!"}}]
[null,null,null,null,null,null,null,null,null,null,null,null,null,null,null,null,{"$f":"Q272","v":{"$error":"#REF!"}}]
[null,null,null,null,null,null,null,null,null,null,null,null,null,null,null,null,{"$f":"Q273","v":{"$error":"#REF!"}}]
[null,null,null,null,null,null,null,null,null,null,null,null,null,null,null,null,{"$f":"#REF!","v":{"$error":"#REF!"}}]
[null,null,null,null,null,null,null,null,null,null,null,null,null,null,null,null,{"$f":"Q275","v":{"$error":"#REF!"}}]
[null,null,null,null,null,null,null,null,null,null,null,null,null,null,null,null,{"$f":"Q276","v":{"$error":"#REF!"}}]
[null,null,null,null,null,null,null,null,null,null,null,null,null,null,null,null,{"$f":"Q277","v":{"$error":"#REF!"}}]
[null,null,null,null,null,null,null,null,null,null,null,null,null,null,null,null,{"$f":"Q278","v":{"$error":"#REF!"}}]
[null,null,null,null,null,null,null,null,null,null,null,null,null,null,null,null,{"$f":"#REF!","v":{"$error":"#REF!"}}]
[null,null,null,null,null,null,null,null,null,null,null,null,null,null,null,null,{"$f":"Q280","v":{"$error":"#REF!"}}]
[null,null,null,null,null,null,null,null,null,null,null,null,null,null,null,null,{"$f":"Q281","v":{"$error":"#REF!"}}]
[null,null,null,null,null,null,null,null,null,null,null,null,null,null,null,null,{"$f":"Q282","v":{"$error":"#REF!"}}]
[null,null,null,null,null,null,null,null,null,null,null,null,null,null,null,null,{"$f":"Q283","v":{"$error":"#REF!"}}]
[null,null,null,null,null,null,null,null,null,null,null,null,null,null,null,null,{"$f":"#REF!","v":{"$error":"#REF!"}}]
[null,null,null,null,null,null,null,null,null,null,null,null,null,null,null,null,{"$f":"Q285","v":{"$error":"#REF!"}}]
[null,null,null,null,null,null,null,null,null,null,null,null,null,null,null,null,{"$f":"Q286","v":{"$error":"#REF!"}}]
[null,null,null,null,null,null,null,null,null,null,null,null,null,null,null,null,{"$f":"Q287","v":{"$error":"#REF!"}}]
[null,null,null,null,null,null,null,null,null,null,null,null,null,null,null,null,{"$f":"Q288","v":{"$error":"#REF!"}}]
[null,null,null,null,null,null,null,null,null,null,null,null,null,null,null,null,{"$f":"#REF!","v":{"$error":"#REF!"}}]
[null,null,null,null,null,null,null,null,null,null,null,null,null,null,null,null,{"$f":"Q290","v":{"$error":"#REF!"}}]
[null,null,null,null,null,null,null,null,null,null,null,null,null,null,null,null,{"$f":"Q291","v":{"$error":"#REF!"}}]
[null,null,null,null,null,null,null,null,null,null,null,null,null,null,null,null,{"$f":"Q292","v":{"$error":"#REF!"}}]
[null,null,null,null,null,null,null,null,null,null,null,null,null,null,null,null,{"$f":"Q293","v":{"$error":"#REF!"}}]
[null,null,null,null,null,null,null,null,null,null,null,null,null,null,null,null,{"$f":"#REF!","v":{"$error":"#REF!"}}]
[null,null,null,null,null,null,null,null,null,null,null,null,null,null,null,null,{"$f":"Q295","v":{"$error":"#REF!"}}]
[null,null,null,null,null,null,null,null,null,null,null,null,null,null,null,null,{"$f":"Q296","v":{"$error":"#REF!"}}]
[null,null,null,null,null,null,null,null,null,null,null,null,null,null,null,null,{"$f":"Q297","v":{"$error":"#REF!"}}]
[null,null,null,null,null,null,null,null,null,null,null,null,null,null,null,null,{"$f":"Q298","v":{"$error":"#REF!"}}]
["Wytwarzanie pozafarmaceutyczne - prekursory kat. 1",null,null,null,null,null,null,null,null,null,null,null,null,null,null,null,{"$f":"#REF!","v":{"$error":"#REF!"}}]
[null,null,null,null,null,null,null,null,null,null,null,null,null,null,null,null,{"$f":"Q300","v":{"$error":"#REF!"}}]
["Wykorzystywana/Powstająca Substancja","Sposób wykorzystania/powstawania","Stan na dzień 01.01 okresu sprawozdawczego","Przychód w roku sprawozdawczym",null,null,"Wykorzystano w produkcji","Utylizacja","Stan na dzień 31.12 okresu sprawozdawczego",null,null,null,null,null,null,null,{"$f":"Q301","v":{"$error":"#REF!"}}]
[null,null,null,"Kupione w kraju","Wewnątrzwspólnotowe nabycie/przywóz","Produkcja Własna",null,null,null,null,null,null,null,null,null,null,{"$f":"Q302","v":{"$error":"#REF!"}}]
[null,null,null,null,null,null,null,null,null,null,null,null,null,null,null,null,{"$f":"Q303","v":{"$error":"#REF!"}}]
[null,null,null,null,null,null,null,null,null,null,null,null,null,null,null,null,{"$f":"#REF!","v":{"$error":"#REF!"}}]
[null,null,null,null,null,null,null,null,null,null,null,null,null,null,null,null,{"$f":"Q305","v":{"$error":"#REF!"}}]
[null,null,null,null,null,null,null,null,null,null,null,null,null,null,null,null,{"$f":"Q306","v":{"$error":"#REF!"}}]
[null,null,null,null,null,null,null,null,null,null,null,null,null,null,null,null,{"$f":"Q307","v":{"$error":"#REF!"}}]
[null,null,null,null,null,null,null,null,null,null,null,null,null,null,null,null,{"$f":"Q308","v":{"$error":"#REF!"}}]
[null,null,null,null,null,null,null,null,null,null,null,null,null,null,null,null,{"$f":"#REF!","v":{"$error":"#REF!"}}]
[null,null,null,null,null,null,null,null,null,null,null,null,null,null,null,null,{"$f":"Q310","v":{"$error":"#REF!"}}]
[null,null,null,null,null,null,null,null,null,null,null,null,null,null,null,null,{"$f":"Q311","v":{"$error":"#REF!"}}]
[null,null,null,null,null,null,null,null,null,null,null,null,null,null,null,null,{"$f":"Q312","v":{"$error":"#REF!"}}]
[null,null,null,null,null,null,null,null,null,null,null,null,null,null,null,null,{"$f":"Q313","v":{"$error":"#REF!"}}]
[null,null,null,null,null,null,null,null,null,null,null,null,null,null,null,null,{"$f":"#REF!","v":{"$error":"#REF!"}}]
[null,null,null,null,null,null,null,null,null,null,null,null,null,null,null,null,{"$f":"Q315","v":{"$error":"#REF!"}}]
[null,null,null,null,null,null,null,null,null,null,null,null,null,null,null,null,{"$f":"Q316","v":{"$error":"#REF!"}}]
[null,null,null,null,null,null,null,null,null,null,null,null,null,null,null,null,{"$f":"Q317","v":{"$error":"#REF!"}}]
[null,null,null,null,null,null,null,null,null,null,null,null,null,null,null,null,{"$f":"Q318","v":{"$error":"#REF!"}}]
[null,null,null,null,null,null,null,null,null,null,null,null,null,null,null,null,{"$f":"#REF!","v":{"$error":"#REF!"}}]
[null,null,null,null,null,null,null,null,null,null,null,null,null,null,null,null,{"$f":"Q320","v":{"$error":"#REF!"}}]
[null,null,null,null,null,null,null,null,null,null,null,null,null,null,null,null,{"$f":"Q321","v":{"$error":"#REF!"}}]
[null,null,null,null,null,null,null,null,null,null,null,null,null,null,null,null,{"$f":"Q322","v":{"$error":"#REF!"}}]
[null,null,null,null,null,null,null,null,null,null,null,null,null,null,null,null,{"$f":"Q323","v":{"$error":"#REF!"}}]
[null,null,null,null,null,null,null,null,null,null,null,null,null,null,null,null,{"$f":"#REF!","v":{"$error":"#REF!"}}]
[null,null,null,null,null,null,null,null,null,null,null,null,null,null,null,null,{"$f":"Q325","v":{"$error":"#REF!"}}]
[null,null,null,null,null,null,null,null,null,null,null,null,null,null,null,null,{"$f":"Q326","v":{"$error":"#REF!"}}]
[null,null,null,null,null,null,null,null,null,null,null,null,null,null,null,null,{"$f":"Q327","v":{"$error":"#REF!"}}]
[null,null,null,null,null,null,null,null,null,null,null,null,null,null,null,null,{"$f":"Q328","v":{"$error":"#REF!"}}]
[null,null,null,null,null,null,null,null,null,null,null,null,null,null,null,null,{"$f":"#REF!","v":{"$error":"#REF!"}}]
[null,null,null,null,null,null,null,null,null,null,null,null,null,null,null,null,{"$f":"Q330","v":{"$error":"#REF!"}}]
[null,null,null,null,null,null,null,null,null,null,null,null,null,null,null,null,{"$f":"Q331","v":{"$error":"#REF!"}}]
[null,null,null,null,null,null,null,null,null,null,null,null,null,null,null,null,{"$f":"Q332","v":{"$error":"#REF!"}}]
[null,null,null,null,null,null,null,null,null,null,null,null,null,null,null,null,{"$f":"Q333","v":{"$error":"#REF!"}}]
[null,null,null,null,null,null,null,null,null,null,null,null,null,null,null,null,{"$f":"#REF!","v":{"$error":"#REF!"}}]
[null,null,null,null,null,null,null,null,null,null,null,null,null,null,null,null,{"$f":"Q335","v":{"$error":"#REF!"}}]
[null,null,null,null,null,null,null,null,null,null,null,null,null,null,null,null,{"$f":"Q336","v":{"$error":"#REF!"}}]
[null,null,null,null,null,null,null,null,null,null,null,null,null,null,null,null,{"$f":"Q337","v":{"$error":"#REF!"}}]
[null,null,null,null,null,null,null,null,null,null,null,null,null,null,null,null,{"$f":"Q338","v":{"$error":"#REF!"}}]
[null,null,null,null,null,null,null,null,null,null,null,null,null,null,null,null,{"$f":"#REF!","v":{"$error":"#REF!"}}]
[null,null,null,null,null,null,null,null,null,null,null,null,null,null,null,null,{"$f":"Q340","v":{"$error":"#REF!"}}]
[null,null,null,null,null,null,null,null,null,null,null,null,null,null,null,null,{"$f":"Q341","v":{"$error":"#REF!"}}]
[null,null,null,null,null,null,null,null,null,null,null,null,null,null,null,null,{"$f":"Q342","v":{"$error":"#REF!"}}]
[null,null,null,null,null,null,null,null,null,null,null,null,null,null,null,null,{"$f":"Q343","v":{"$error":"#REF!"}}]
[null,null,null,null,null,null,null,null,null,null,null,null,null,null,null,null,{"$f":"#REF!","v":{"$error":"#REF!"}}]
[null,null,null,null,null,null,null,null,null,null,null,null,null,null,null,null,{"$f":"Q345","v":{"$error":"#REF!"}}]
[null,null,null,null,null,null,null,null,null,null,null,null,null,null,null,null,{"$f":"Q346","v":{"$error":"#REF!"}}]
[null,null,null,null,null,null,null,null,null,null,null,null,null,null,null,null,{"$f":"Q347","v":{"$error":"#REF!"}}]
[null,null,null,null,null,null,null,null,null,null,null,null,null,null,null,null,{"$f":"Q348","v":{"$error":"#REF!"}}]
[null,null,null,null,null,null,null,null,null,null,null,null,null,null,null,null,{"$f":"#REF!","v":{"$error":"#REF!"}}]
[null,null,null,null,null,null,null,null,null,null,null,null,null,null,null,null,{"$f":"Q350","v":{"$error":"#REF!"}}]
[null,null,null,null,null,null,null,null,null,null,null,null,null,null,null,null,{"$f":"Q351","v":{"$error":"#REF!"}}]
[null,null,null,null,null,null,null,null,null,null,null,null,null,null,null,null,{"$f":"Q352","v":{"$error":"#REF!"}}]
[null,null,null,null,null,null,null,null,null,null,null,null,null,null,null,null,{"$f":"Q353","v":{"$error":"#REF!"}}]
[null,null,null,null,null,null,null,null,null,null,null,null,null,null,null,null,{"$f":"#REF!","v":{"$error":"#REF!"}}]
[null,null,null,null,null,null,null,null,null,null,null,null,null,null,null,null,{"$f":"Q355","v":{"$error":"#REF!"}}]
[null,null,null,null,null,null,null,null,null,null,null,null,null,null,null,null,{"$f":"Q356","v":{"$error":"#REF!"}}]
[null,null,null,null,null,null,null,null,null,null,null,null,null,null,null,null,{"$f":"Q357","v":{"$error":"#REF!"}}]
[null,null,null,null,null,null,null,null,null,null,null,null,null,null,null,null,{"$f":"Q358","v":{"$error":"#REF!"}}]
[null,null,null,null,null,null,null,null,null,null,null,null,null,null,null,null,{"$f":"#REF!","v":{"$error":"#REF!"}}]
[null,null,null,null,null,null,null,null,null,null,null,null,null,null,null,null,{"$f":"Q360","v":{"$error":"#REF!"}}]
[null,null,null,null,null,null,null,null,null,null,null,null,null,null,null,null,{"$f":"Q361","v":{"$error":"#REF!"}}]
[null,null,null,null,null,null,null,null,null,null,null,null,null,null,null,null,{"$f":"Q362","v":{"$error":"#REF!"}}]
[null,null,null,null,null,null,null,null,null,null,null,null,null,null,null,null,{"$f":"Q363","v":{"$error":"#REF!"}}]
[null,null,null,null,null,null,null,null,null,null,null,null,null,null,null,null,{"$f":"#REF!","v":{"$error":"#REF!"}}]
[null,null,null,null,null,null,null,null,null,null,null,null,null,null,null,null,{"$f":"Q365","v":{"$error":"#REF!"}}]
[null,null,null,null,null,null,null,null,null,null,null,null,null,null,null,null,{"$f":"Q366","v":{"$error":"#REF!"}}]
[null,null,null,null,null,null,null,null,null,null,null,null,null,null,null,null,{"$f":"Q367","v":{"$error":"#REF!"}}]
[null,null,null,null,null,null,null,null,null,null,null,null,null,null,null,null,{"$f":"Q368","v":{"$error":"#REF!"}}]
[null,null,null,null,null,null,null,null,null,null,null,null,null,null,null,null,{"$f":"#REF!","v":{"$error":"#REF!"}}]
[null,null,null,null,null,null,null,null,null,null,null,null,null,null,null,null,{"$f":"Q370","v":{"$error":"#REF!"}}]
[null,null,null,null,null,null,null,null,null,null,null,null,null,null,null,null,{"$f":"Q371","v":{"$error":"#REF!"}}]
[null,null,null,null,null,null,null,null,null,null,null,null,null,null,null,null,{"$f":"Q372","v":{"$error":"#REF!"}}]
[null,null,null,null,null,null,null,null,null,null,null,null,null,null,null,null,{"$f":"Q373","v":{"$error":"#REF!"}}]
[null,null,null,null,null,null,null,null,null,null,null,null,null,null,null,null,{"$f":"#REF!","v":{"$error":"#REF!"}}]
[null,null,null,null,null,null,null,null,null,null,null,null,null,null,null,null,{"$f":"Q375","v":{"$error":"#REF!"}}]
[null,null,null,null,null,null,null,null,null,null,null,null,null,null,null,null,{"$f":"Q376","v":{"$error":"#REF!"}}]
[null,null,null,null,null,null,null,null,null,null,null,null,null,null,null,null,{"$f":"Q377","v":{"$error":"#REF!"}}]
[null,null,null,null,null,null,null,null,null,null,null,null,null,null,null,null,{"$f":"Q378","v":{"$error":"#REF!"}}]
[null,null,null,null,null,null,null,null,null,null,null,null,null,null,null,null,{"$f":"#REF!","v":{"$error":"#REF!"}}]
[null,null,null,null,null,null,null,null,null,null,null,null,null,null,null,null,{"$f":"Q380","v":{"$error":"#REF!"}}]
[null,null,null,null,null,null,null,null,null,null,null,null,null,null,null,null,{"$f":"Q381","v":{"$error":"#REF!"}}]
[null,null,null,null,null,null,null,null,null,null,null,null,null,null,null,null,{"$f":"Q382","v":{"$error":"#REF!"}}]
[null,null,null,null,null,null,null,null,null,null,null,null,null,null,null,null,{"$f":"Q383","v":{"$error":"#REF!"}}]
[null,null,null,null,null,null,null,null,null,null,null,null,null,null,null,null,{"$f":"#REF!","v":{"$error":"#REF!"}}]
[null,null,null,null,null,null,null,null,null,null,null,null,null,null,null,null,{"$f":"Q385","v":{"$error":"#REF!"}}]
[null,null,null,null,null,null,null,null,null,null,null,null,null,null,null,null,{"$f":"Q386","v":{"$error":"#REF!"}}]
[null,null,null,null,null,null,null,null,null,null,null,null,null,null,null,null,{"$f":"Q387","v":{"$error":"#REF!"}}]
[null,null,null,null,null,null,null,null,null,null,null,null,null,null,null,null,{"$f":"Q388","v":{"$error":"#REF!"}}]
[null,null,null,null,null,null,null,null,null,null,null,null,null,null,null,null,{"$f":"#REF!","v":{"$error":"#REF!"}}]
[null,null,null,null,null,null,null,null,null,null,null,null,null,null,null,null,{"$f":"Q390","v":{"$error":"#REF!"}}]
[null,null,null,null,null,null,null,null,null,null,null,null,null,null,null,null,{"$f":"Q391","v":{"$error":"#REF!"}}]
[null,null,null,null,null,null,null,null,null,null,null,null,null,null,null,null,{"$f":"Q392","v":{"$error":"#REF!"}}]
[null,null,null,null,null,null,null,null,null,null,null,null,null,null,null,null,{"$f":"Q393","v":{"$error":"#REF!"}}]
[null,null,null,null,null,null,null,null,null,null,null,null,null,null,null,null,{"$f":"#REF!","v":{"$error":"#REF!"}}]
[null,null,null,null,null,null,null,null,null,null,null,null,null,null,null,null,{"$f":"Q395","v":{"$error":"#REF!"}}]
[null,null,null,null,null,null,null,null,null,null,null,null,null,null,null,null,{"$f":"Q396","v":{"$error":"#REF!"}}]
[null,null,null,null,null,null,null,null,null,null,null,null,null,null,null,null,{"$f":"Q397","v":{"$error":"#REF!"}}]
[null,null,null,null,null,null,null,null,null,null,null,null,null,null,null,null,{"$f":"Q398","v":{"$error":"#REF!"}}]
[null,null,null,null,null,null,null,null,null,null,null,null,null,null,null,null,{"$f":"#REF!","v":{"$error":"#REF!"}}]
[null,null,null,null,null,null,null,null,null,null,null,null,null,null,null,null,{"$f":"Q400","v":{"$error":"#REF!"}}]
[null,null,null,null,null,null,null,null,null,null,null,null,null,null,null,null,{"$f":"Q401","v":{"$error":"#REF!"}}]
[null,null,null,null,null,null,null,null,null,null,null,null,null,null,null,null,{"$f":"Q402","v":{"$error":"#REF!"}}]
[null,null,null,null,null,null,null,null,null,null,null,null,null,null,null,null,{"$f":"Q403","v":{"$error":"#REF!"}}]
[null,null,null,null,null,null,null,null,null,null,null,null,null,null,null,null,{"$f":"#REF!","v":{"$error":"#REF!"}}]
[null,null,null,null,null,null,null,null,null,null,null,null,null,null,null,null,{"$f":"Q405","v":{"$error":"#REF!"}}]
[null,null,null,null,null,null,null,null,null,null,null,null,null,null,null,null,{"$f":"Q406","v":{"$error":"#REF!"}}]
[null,null,null,null,null,null,null,null,null,null,null,null,null,null,null,null,{"$f":"Q407","v":{"$error":"#REF!"}}]
[null,null,null,null,null,null,null,null,null,null,null,null,null,null,null,null,{"$f":"Q408","v":{"$error":"#REF!"}}]
[null,null,null,null,null,null,null,null,null,null,null,null,null,null,null,null,{"$f":"#REF!","v":{"$error":"#REF!"}}]
[null,null,null,null,null,null,null,null,null,null,null,null,null,null,null,null,{"$f":"Q410","v":{"$error":"#REF!"}}]
[null,null,null,null,null,null,null,null,null,null,null,null,null,null,null,null,{"$f":"Q411","v":{"$error":"#REF!"}}]
[null,null,null,null,null,null,null,null,null,null,null,null,null,null,null,null,{"$f":"Q412","v":{"$error":"#REF!"}}]
[null,null,null,null,null,null,null,null,null,null,null,null,null,null,null,null,{"$f":"Q413","v":{"$error":"#REF!"}}]
[null,null,null,null,null,null,null,null,null,null,null,null,null,null,null,null,{"$f":"#REF!","v":{"$error":"#REF!"}}]
[null,null,null,null,null,null,null,null,null,null,null,null,null,null,null,null,{"$f":"Q415","v":{"$error":"#REF!"}}]
[null,null,null,null,null,null,null,null,null,null,null,null,null,null,null,null,{"$f":"Q416","v":{"$error":"#REF!"}}]
[null,null,null,null,null,null,null,null,null,null,null,null,null,null,null,null,{"$f":"Q417","v":{"$error":"#REF!"}}]
[null,null,null,null,null,null,null,null,null,null,null,null,null,null,null,null,{"$f":"Q418","v":{"$error":"#REF!"}}]
[null,null,null,null,null,null,null,null,null,null,null,null,null,null,null,null,{"$f":"#REF!","v":{"$error":"#REF!"}}]
[null,null,null,null,null,null,null,null,null,null,null,null,null,null,null,null,{"$f":"Q420","v":{"$error":"#REF!"}}]
[null,null,null,null,null,null,null,null,null,null,null,null,null,null,null,null,{"$f":"Q421","v":{"$error":"#REF!"}}]
[null,null,null,null,null,null,null,null,null,null,null,null,null,null,null,null,{"$f":"Q422","v":{"$error":"#REF!"}}]
[null,null,null,null,null,null,null,null,null,null,null,null,null,null,null,null,{"$f":"Q423","v":{"$error":"#REF!"}}]
[null,null,null,null,null,null,null,null,null,null,null,null,null,null,null,null,{"$f":"#REF!","v":{"$error":"#REF!"}}]
[null,null,null,null,null,null,null,null,null,null,null,null,null,null,null,null,{"$f":"Q425","v":{"$error":"#REF!"}}]
[null,null,null,null,null,null,null,null,null,null,null,null,null,null,null,null,{"$f":"Q426","v":{"$error":"#REF!"}}]
[null,null,null,null,null,null,null,null,null,null,null,null,null,null,null,null,{"$f":"Q427","v":{"$error":"#REF!"}}]
[null,null,null,null,null,null,null,null,null,null,null,null,null,null,null,null,{"$f":"Q428","v":{"$error":"#REF!"}}]
[null,null,null,null,null,null,null,null,null,null,null,null,null,null,null,null,{"$f":"#REF!","v":{"$error":"#REF!"}}]
[null,null,null,null,null,null,null,null,null,null,null,null,null,null,null,null,{"$f":"Q430","v":{"$error":"#REF!"}}]
[null,null,null,null,null,null,null,null,null,null,null,null,null,null,null,null,{"$f":"Q431","v":{"$error":"#REF!"}}]
[null,null,null,null,null,null,null,null,null,null,null,null,null,null,null,null,{"$f":"Q432","v":{"$error":"#REF!"}}]
[null,null,null,null,null,null,null,null,null,null,null,null,null,null,null,null,{"$f":"Q433","v":{"$error":"#REF!"}}]
[null,null,null,null,null,null,null,null,null,null,null,null,null,null,null,null,{"$f":"#REF!","v":{"$error":"#REF!"}}]
[null,null,null,null,null,null,null,null,null,null,null,null,null,null,null,null,{"$f":"Q435","v":{"$error":"#REF!"}}]
[null,null,null,null,null,null,null,null,null,null,null,null,null,null,null,null,{"$f":"Q436","v":{"$error":"#REF!"}}]
[null,null,null,null,null,null,null,null,null,null,null,null,null,null,null,null,{"$f":"Q437","v":{"$error":"#REF!"}}]
[null,null,null,null,null,null,null,null,null,null,null,null,null,null,null,null,{"$f":"Q438","v":{"$error":"#REF!"}}]
[null,null,null,null,null,null,null,null,null,null,null,null,null,null,null,null,{"$f":"#REF!","v":{"$error":"#REF!"}}]
[null,null,null,null,null,null,null,null,null,null,null,null,null,null,null,null,{"$f":"Q440","v":{"$error":"#REF!"}}]
[null,null,null,null,null,null,null,null,null,null,null,null,null,null,null,null,{"$f":"Q441","v":{"$error":"#REF!"}}]
[null,null,null,null,null,null,null,null,null,null,null,null,null,null,null,null,{"$f":"Q442","v":{"$error":"#REF!"}}]
[null,null,null,null,null,null,null,null,null,null,null,null,null,null,null,null,{"$f":"Q443","v":{"$error":"#REF!"}}]
[null,null,null,null,null,null,null,null,null,null,null,null,null,null,null,null,{"$f":"#REF!","v":{"$error":"#REF!"}}]
[null,null,null,null,null,null,null,null,null,null,null,null,null,null,null,null,{"$f":"Q445","v":{"$error":"#REF!"}}]
[null,null,null,null,null,null,null,null,null,null,null,null,null,null,null,null,{"$f":"Q446","v":{"$error":"#REF!"}}]
[null,null,null,null,null,null,null,null,null,null,null,null,null,null,null,null,{"$f":"Q447","v":{"$error":"#REF!"}}]
[null,null,null,null,null,null,null,null,null,null,null,null,null,null,null,null,{"$f":"Q448","v":{"$error":"#REF!"}}]
[null,null,null,null,null,null,null,null,null,null,null,null,null,null,null,null,{"$f":"#REF!","v":{"$error":"#REF!"}}]
[null,null,null,null,null,null,null,null,null,null,null,null,null,null,null,null,{"$f":"Q450","v":{"$error":"#REF!"}}]
[null,null,null,null,null,null,null,null,null,null,null,null,null,null,null,null,{"$f":"Q451","v":{"$error":"#REF!"}}]
[null,null,null,null,null,null,null,null,null,null,null,null,null,null,null,null,{"$f":"Q452","v":{"$error":"#REF!"}}]
[null,null,null,null,null,null,null,null,null,null,null,null,null,null,null,null,{"$f":"Q453","v":{"$error":"#REF!"}}]
[null,null,null,null,null,null,null,null,null,null,null,null,null,null,null,null,{"$f":"#REF!","v":{"$error":"#REF!"}}]
[null,null,null,null,null,null,null,null,null,null,null,null,null,null,null,null,{"$f":"Q455","v":{"$error":"#REF!"}}]
[null,null,null,null,null,null,null,null,null,null,null,null,null,null,null,null,{"$f":"Q456","v":{"$error":"#REF!"}}]
[null,null,null,null,null,null,null,null,null,null,null,null,null,null,null,null,{"$f":"Q457","v":{"$error":"#REF!"}}]
[null,null,null,null,null,null,null,null,null,null,null,null,null,null,null,null,{"$f":"Q458","v":{"$error":"#REF!"}}]
[null,null,null,null,null,null,null,null,null,null,null,null,null,null,null,null,{"$f":"#REF!","v":{"$error":"#REF!"}}]
[null,null,null,null,null,null,null,null,null,null,null,null,null,null,null,null,{"$f":"Q460","v":{"$error":"#REF!"}}]
[null,null,null,null,null,null,null,null,null,null,null,null,null,null,null,null,{"$f":"Q461","v":{"$error":"#REF!"}}]
[null,null,null,null,null,null,null,null,null,null,null,null,null,null,null,null,{"$f":"Q462","v":{"$error":"#REF!"}}]
[null,null,null,null,null,null,null,null,null,null,null,null,null,null,null,null,{"$f":"Q463","v":{"$error":"#REF!"}}]
[null,null,null,null,null,null,null,null,null,null,null,null,null,null,null,null,{"$f":"#REF!","v":{"$error":"#REF!"}}]
[null,null,null,null,null,null,null,null,null,null,null,null,null,null,null,null,{"$f":"Q465","v":{"$error":"#REF!"}}]
[null,null,null,null,null,null,null,null,null,null,null,null,null,null,null,null,{"$f":"Q466","v":{"$error":"#REF!"}}]
[null,null,null,null,null,null,null,null,null,null,null,null,null,null,null,null,{"$f":"Q467","v":{"$error":"#REF!"}}]
[null,null,null,null,null,null,null,null,null,null,null,null,null,null,null,null,{"$f":"Q468","v":{"$error":"#REF!"}}]
[null,null,null,null,null,null,null,null,null,null,null,null,null,null,null,null,{"$f":"#REF!","v":{"$error":"#REF!"}}]
[null,null,null,null,null,null,null,null,null,null,null,null,null,null,null,null,{"$f":"Q470","v":{"$error":"#REF!"}}]
[null,null,null,null,null,null,null,null,null,null,null,null,null,null,null,null,{"$f":"Q471","v":{"$error":"#REF!"}}]
[null,null,null,null,null,null,null,null,null,null,null,null,null,null,null,null,{"$f":"Q472","v":{"$error":"#REF!"}}]
[null,null,null,null,null,null,null,null,null,null,null,null,null,null,null,null,{"$f":"Q473","v":{"$error":"#REF!"}}]
[null,null,null,null,null,null,null,null,null,null,null,null,null,null,null,null,{"$f":"#REF!","v":{"$error":"#REF!"}}]
[null,null,null,null,null,null,null,null,null,null,null,null,null,null,null,null,{"$f":"Q475","v":{"$error":"#REF!"}}]

{"sheet":"Wytwórcy Surowce Substancje","index":23,"n_rows":476,"n_cols":26,"rows_kept":476,"cut":false,"hidden":true,"merged":[[444,14,448,14],[444,15,448,15],[444,16,448,16],[444,17,448,17],[444,0,448,0],[444,1,448,1],[444,2,448,2],[444,3,448,3],[444,4,448,4],[444,5,448,5],[439,14,443,14],[439,15,443,15],[439,16,443,16],[439,17,443,17],[439,0,443,0],[439,1,443,1],[439,2,443,2],[439,3,443,3],[439,4,443,4],[439,5,443,5],[434,14,438,14],[434,15,438,15],[434,16,438,16],[434,17,438,17],[434,0,438,0],[434,1,438,1],[434,2,438,2],[434,3,438,3],[434,4,438,4],[434,5,438,5],[429,14,433,14],[429,15,433,15],[429,16,433,16],[429,17,433,17],[429,0,433,0],[429,1,433,1],[429,2,433,2],[429,3,433,3],[429,4,433,4],[429,5,433,5],[424,14,428,14],[424,15,428,15],[424,16,428,16],[424,17,428,17],[424,0,428,0],[424,1,428,1],[424,2,428,2],[424,3,428,3],[424,4,428,4],[424,5,428,5],[419,14,423,14],[419,15,423,15],[419,16,423,16],[419,17,423,17],[419,0,423,0],[419,1,423,1],[419,2,423,2],[419,3,423,3],[419,4,423,4],[419,5,423,5],[414,14,418,14],[414,15,418,15],[414,16,418,16],[414,17,418,17],[414,0,418,0],[414,1,418,1],[414,2,418,2],[414,3,418,3],[414,4,418,4],[414,5,418,5],[409,14,413,14],[409,15,413,15],[409,16,413,16],[409,17,413,17],[409,0,413,0],[409,1,413,1],[409,2,413,2],[409,3,413,3],[409,4,413,4],[409,5,413,5],[404,14,408,14],[404,15,408,15],[404,16,408,16],[404,17,408,17],[404,0,408,0],[404,1,408,1],[404,2,408,2],[404,3,408,3],[404,4,408,4],[404,5,408,5],[399,14,403,14],[399,15,403,15],[399,16,403,16],[399,17,403,17],[399,0,403,0],[399,1,403,1],[399,2,403,2],[399,3,403,3],[399,4,403,4],[399,5,403,5],[394,14,398,14],[394,15,398,15],[394,16,398,16],[394,17,398,17],[394,0,398,0],[394,1,398,1],[394,2,398,2],[394,3,398,3],[394,4,398,4],[394,5,398,5],[389,14,393,14],[389,15,393,15],[389,16,393,16],[389,17,393,17],[389,0,393,0],[389,1,393,1],[389,2,393,2],[389,3,393,3],[389,4,393,4],[389,5,393,5],[384,14,388,14],[384,15,388,15],[384,16,388,16],[384,17,388,17],[384,0,388,0],[384,1,388,1],[384,2,388,2],[384,3,388,3],[384,4,388,4],[384,5,388,5],[379,14,383,14],[379,15,383,15],[379,16,383,16],[379,17,383,17],[379,0,383,0],[379,1,383,1],[379,2,383,2],[379,3,383,3],[379,4,383,4],[379,5,383,5],[374,14,378,14],[374,15,378,15],[374,16,378,16],[374,17,378,17],[374,0,378,0],[374,1,378,1],[374,2,378,2],[374,3,378,3],[374,4,378,4],[374,5,378,5],[369,14,373,14],[369,15,373,15],[369,16,373,16],[369,17,373,17],[369,0,373,0],[369,1,373,1],[369,2,373,2],[369,3,373,3],[369,4,373,4],[369,5,373,5],[364,14,368,14],[364,15,368,15],[364,16,368,16],[364,17,368,17],[364,0,368,0],[364,1,368,1],[364,2,368,2],[364,3,368,3],[364,4,368,4],[364,5,368,5],[359,14,363,14],[359,15,363,15],[359,16,363,16],[359,17,363,17],[359,0,363,0],[359,1,363,1],[359,2,363,2],[359,3,363,3],[359,4,363,4],[359,5,363,5],[354,14,358,14],[354,15,358,15],[354,16,358,16],[354,17,358,17],[354,0,358,0],[354,1,358,1],[354,2,358,2],[354,3,358,3],[354,4,358,4],[354,5,358,5],[349,14,353,14],[349,15,353,15],[349,16,353,16],[349,17,353,17],[349,0,353,0],[349,1,353,1],[349,2,353,2],[349,3,353,3],[349,4,353,4],[349,5,353,5],[344,14,348,14],[344,15,348,15],[344,16,348,16],[344,17,348,17],[344,0,348,0],[344,1,348,1],[344,2,348,2],[344,3,348,3],[344,4,348,4],[344,5,348,5],[339,14,343,14],[339,15,343,15],[339,16,343,16],[339,17,343,17],[339,0,343,0],[339,1,343,1],[339,2,343,2],[339,3,343,3],[339,4,343,4],[339,5,343,5],[334,14,338,14],[334,15,338,15],[334,16,338,16],[334,17,338,17],[334,0,338,0],[334,1,338,1],[334,2,338,2],[334,3,338,3],[334,4,338,4],[334,5,338,5],[329,14,333,14],[329,15,333,15],[329,16,333,16],[329,17,333,17],[329,0,333,0],[329,1,333,1],[329,2,333,2],[329,3,333,3],[329,4,333,4],[329,5,333,5],[324,14,328,14],[324,15,328,15],[324,16,328,16],[324,17,328,17],[324,0,328,0],[324,1,328,1],[324,2,328,2],[324,3,328,3],[324,4,328,4],[324,5,328,5],[319,14,323,14],[319,15,323,15],[319,16,323,16],[319,17,323,17],[319,0,323,0],[319,1,323,1],[319,2,323,2],[319,3,323,3],[319,4,323,4],[319,5,323,5],[314,14,318,14],[314,15,318,15],[314,16,318,16],[314,17,318,17],[314,0,318,0],[314,1,318,1],[314,2,318,2],[314,3,318,3],[314,4,318,4],[314,5,318,5],[309,14,313,14],[309,15,313,15],[309,16,313,16],[309,17,313,17],[309,0,313,0],[309,1,313,1],[309,2,313,2],[309,3,313,3],[309,4,313,4],[309,5,313,5],[304,14,308,14],[304,15,308,15],[304,16,308,16],[304,17,308,17],[304,0,308,0],[304,1,308,1],[304,2,308,2],[304,3,308,3],[304,4,308,4],[304,5,308,5],[301,16,303,16],[301,17,303,17],[302,3,303,3],[302,4,303,4],[302,5,303,5],[302,6,302,9],[302,10,302,11],[302,12,302,13],[302,14,303,14],[301,0,303,0],[301,1,303,1],[301,2,303,2],[301,3,301,5],[301,6,301,13],[301,14,301,15],[302,15,303,15],[294,14,298,14],[294,15,298,15],[294,16,298,16],[294,17,298,17],[299,0,300,17],[294,0,298,0],[294,1,298,1],[294,2,298,2],[294,3,298,3],[294,4,298,4],[294,5,298,5],[289,5,293,5],[289,14,293,14],[289,15,293,15],[289,16,293,16],[289,17,293,17],[284,14,288,14],[284,15,288,15],[284,16,288,16],[284,17,288,17],[284,5,288,5],[289,0,293,0],[289,1,293,1],[289,2,293,2],[289,3,293,3],[289,4,293,4],[284,0,288,0],[284,1,288,1],[284,2,288,2],[284,3,288,3],[284,4,288,4],[279,5,283,5],[279,14,283,14],[279,15,283,15],[279,16,283,16],[279,17,283,17],[274,14,278,14],[274,15,278,15],[274,16,278,16],[274,17,278,17],[274,5,278,5],[279,0,283,0],[279,1,283,1],[279,2,283,2],[279,3,283,3],[279,4,283,4],[274,0,278,0],[274,1,278,1],[274,2,278,2],[274,3,278,3],[274,4,278,4],[269,5,273,5],[269,14,273,14],[269,15,273,15],[269,16,273,16],[269,17,273,17],[264,14,268,14],[264,15,268,15],[264,16,268,16],[264,17,268,17],[264,5,268,5],[269,0,273,0],[269,1,273,1],[269,2,273,2],[269,3,273,3],[269,4,273,4],[264,0,268,0],[264,1,268,1],[264,2,268,2],[264,3,268,3],[264,4,268,4],[259,5,263,5],[259,14,263,14],[259,15,263,15],[259,16,263,16],[259,17,263,17],[254,14,258,14],[254,15,258,15],[254,16,258,16],[254,17,258,17],[254,5,258,5],[259,0,263,0],[259,1,263,1],[259,2,263,2],[259,3,263,3],[259,4,263,4],[254,0,258,0],[254,1,258,1],[254,2,258,2],[254,3,258,3],[254,4,258,4],[249,5,253,5],[249,14,253,14],[249,15,253,15],[249,16,253,16],[249,17,253,17],[244,14,248,14],[244,15,248,15],[244,16,248,16],[244,17,248,17],[244,5,248,5],[249,0,253,0],[249,1,253,1],[249,2,253,2],[249,3,253,3],[249,4,253,4],[244,0,248,0],[244,1,248,1],[244,2,248,2],[244,3,248,3],[244,4,248,4],[239,5,243,5],[239,14,243,14],[239,15,243,15],[239,16,243,16],[239,17,243,17],[234,14,238,14],[234,15,238,15],[234,16,238,16],[234,17,238,17],[234,5,238,5],[239,0,243,0],[239,1,243,1],[239,2,243,2],[239,3,243,3],[239,4,243,4],[234,0,238,0],[234,1,238,1],[234,2,238,2],[234,3,238,3],[234,4,238,4],[229,5,233,5],[229,14,233,14],[229,15,233,15],[229,16,233,16],[229,17,233,17],[224,14,228,14],[224,15,228,15],[224,16,228,16],[224,17,228,17],[224,5,228,5],[229,0,233,0],[229,1,233,1],[229,2,233,2],[229,3,233,3],[229,4,233,4],[224,0,228,0],[224,1,228,1],[224,2,228,2],[224,3,228,3],[224,4,228,4],[219,5,223,5],[219,14,223,14],[219,15,223,15],[219,16,223,16],[219,17,223,17],[214,14,218,14],[214,15,218,15],[214,16,218,16],[214,17,218,17],[214,5,218,5],[219,0,223,0],[219,1,223,1],[219,2,223,2],[219,3,223,3],[219,4,223,4],[214,0,218,0],[214,1,218,1],[214,2,218,2],[214,3,218,3],[214,4,218,4],[209,5,213,5],[209,14,213,14],[209,15,213,15],[209,16,213,16],[209,17,213,17],[204,14,208,14],[204,15,208,15],[204,16,208,16],[204,17,208,17],[204,5,208,5],[209,0,213,0],[209,1,213,1],[209,2,213,2],[209,3,213,3],[209,4,213,4],[204,0,208,0],[204,1,208,1],[204,2,208,2],[204,3,208,3],[204,4,208,4],[199,5,203,5],[199,14,203,14],[199,15,203,15],[199,16,203,16],[199,17,203,17],[194,14,198,14],[194,15,198,15],[194,16,198,16],[194,17,198,17],[194,5,198,5],[199,0,203,0],[199,1,203,1],[199,2,203,2],[199,3,203,3],[199,4,203,4],[194,0,198,0],[194,1,198,1],[194,2,198,2],[194,3,198,3],[194,4,198,4],[189,5,193,5],[189,14,193,14],[189,15,193,15],[189,16,193,16],[189,17,193,17],[184,14,188,14],[184,15,188,15],[184,16,188,16],[184,17,188,17],[184,5,188,5],[189,0,193,0],[189,1,193,1],[189,2,193,2],[189,3,193,3],[189,4,193,4],[184,0,188,0],[184,1,188,1],[184,2,188,2],[184,3,188,3],[184,4,188,4],[179,5,183,5],[179,14,183,14],[179,15,183,15],[179,16,183,16],[179,17,183,17],[174,14,178,14],[174,15,178,15],[174,16,178,16],[174,17,178,17],[174,5,178,5],[179,0,183,0],[179,1,183,1],[179,2,183,2],[179,3,183,3],[179,4,183,4],[174,0,178,0],[174,1,178,1],[174,2,178,2],[174,3,178,3],[174,4,178,4],[169,0,173,0],[169,1,173,1],[169,2,173,2],[169,3,173,3],[169,4,173,4],[159,14,163,14],[159,15,163,15],[159,16,163,16],[159,17,163,17],[164,0,168,0],[164,1,168,1],[164,2,168,2],[164,3,168,3],[164,4,168,4],[164,5,168,5],[169,5,173,5],[169,14,173,14],[169,15,173,15],[169,16,173,16],[169,17,173,17],[164,14,168,14],[164,15,168,15],[164,16,168,16],[164,17,168,17],[154,15,158,15],[154,16,158,16],[154,17,158,17],[159,0,163,0],[159,1,163,1],[159,2,163,2],[159,3,163,3],[159,4,163,4],[159,5,163,5],[154,0,158,0],[154,1,158,1],[154,2,158,2],[154,3,158,3],[154,4,158,4],[154,5,158,5],[154,14,158,14],[152,4,153,4],[152,5,153,5],[152,6,152,9],[152,10,152,11],[152,12,152,13],[149,0,150,17],[151,0,153,0],[151,1,153,1],[151,2,153,2],[151,3,151,5],[151,6,151,13],[151,14,151,15],[151,16,153,16],[151,17,153,17],[152,3,153,3],[152,14,153,14],[152,15,153,15],[144,14,148,14],[144,15,148,15],[144,16,148,16],[144,17,148,17],[144,0,148,0],[144,1,148,1],[144,2,148,2],[144,3,148,3],[144,4,148,4],[144,5,148,5],[139,14,143,14],[139,15,143,15],[139,16,143,16],[139,17,143,17],[139,0,143,0],[139,1,143,1],[139,2,143,2],[139,3,143,3],[139,4,143,4],[139,5,143,5],[134,14,138,14],[134,15,138,15],[134,16,138,16],[134,17,138,17],[134,0,138,0],[134,1,138,1],[134,2,138,2],[134,3,138,3],[134,4,138,4],[134,5,138,5],[129,14,133,14],[129,15,133,15],[129,16,133,16],[129,17,133,17],[129,0,133,0],[129,1,133,1],[129,2,133,2],[129,3,133,3],[129,4,133,4],[129,5,133,5],[124,14,128,14],[124,15,128,15],[124,16,128,16],[124,17,128,17],[124,0,128,0],[124,1,128,1],[124,2,128,2],[124,3,128,3],[124,4,128,4],[124,5,128,5],[119,14,123,14],[119,15,123,15],[119,16,123,16],[119,17,123,17],[119,0,123,0],[119,1,123,1],[119,2,123,2],[119,3,123,3],[119,4,123,4],[119,5,123,5],[114,14,118,14],[114,15,118,15],[114,16,118,16],[114,17,118,17],[114,0,118,0],[114,1,118,1],[114,2,118,2],[114,3,118,3],[114,4,118,4],[114,5,118,5],[109,14,113,14],[109,15,113,15],[109,16,113,16],[109,17,113,17],[109,0,113,0],[109,1,113,1],[109,2,113,2],[109,3,113,3],[109,4,113,4],[109,5,113,5],[104,14,108,14],[104,15,108,15],[104,16,108,16],[104,17,108,17],[104,0,108,0],[104,1,108,1],[104,2,108,2],[104,3,108,3],[104,4,108,4],[104,5,108,5],[99,14,103,14],[99,15,103,15],[99,16,103,16],[99,17,103,17],[99,0,103,0],[99,1,103,1],[99,2,103,2],[99,3,103,3],[99,4,103,4],[99,5,103,5],[94,14,98,14],[94,15,98,15],[94,16,98,16],[94,17,98,17],[94,0,98,0],[94,1,98,1],[94,2,98,2],[94,3,98,3],[94,4,98,4],[94,5,98,5],[89,14,93,14],[89,15,93,15],[89,16,93,16],[89,17,93,17],[89,0,93,0],[89,1,93,1],[89,2,93,2],[89,3,93,3],[89,4,93,4],[89,5,93,5],[84,14,88,14],[84,15,88,15],[84,16,88,16],[84,17,88,17],[84,0,88,0],[84,1,88,1],[84,2,88,2],[84,3,88,3],[84,4,88,4],[84,5,88,5],[79,14,83,14],[79,15,83,15],[79,16,83,16],[79,17,83,17],[79,0,83,0],[79,1,83,1],[79,2,83,2],[79,3,83,3],[79,4,83,4],[79,5,83,5],[74,14,78,14],[74,15,78,15],[74,16,78,16],[74,17,78,17],[74,0,78,0],[74,1,78,1],[74,2,78,2],[74,3,78,3],[74,4,78,4],[74,5,78,5],[69,14,73,14],[69,15,73,15],[69,16,73,16],[69,17,73,17],[69,0,73,0],[69,1,73,1],[69,2,73,2],[69,3,73,3],[69,4,73,4],[69,5,73,5],[64,14,68,14],[64,15,68,15],[64,16,68,16],[64,17,68,17],[64,0,68,0],[64,1,68,1],[64,2,68,2],[64,3,68,3],[64,4,68,4],[64,5,68,5],[59,14,63,14],[59,15,63,15],[59,16,63,16],[59,17,63,17],[59,0,63,0],[59,1,63,1],[59,2,63,2],[59,3,63,3],[59,4,63,4],[59,5,63,5],[54,14,58,14],[54,15,58,15],[54,16,58,16],[54,17,58,17],[54,0,58,0],[54,1,58,1],[54,2,58,2],[54,3,58,3],[54,4,58,4],[54,5,58,5],[49,14,53,14],[49,15,53,15],[49,16,53,16],[49,17,53,17],[49,0,53,0],[49,1,53,1],[49,2,53,2],[49,3,53,3],[49,4,53,4],[49,5,53,5],[44,14,48,14],[44,15,48,15],[44,16,48,16],[44,17,48,17],[44,0,48,0],[44,1,48,1],[44,2,48,2],[44,3,48,3],[44,4,48,4],[44,5,48,5],[39,14,43,14],[39,15,43,15],[39,16,43,16],[39,17,43,17],[39,0,43,0],[39,1,43,1],[39,2,43,2],[39,3,43,3],[39,4,43,4],[39,5,43,5],[34,14,38,14],[34,15,38,15],[34,16,38,16],[34,17,38,17],[34,0,38,0],[34,1,38,1],[34,2,38,2],[34,3,38,3],[34,4,38,4],[34,5,38,5],[29,14,33,14],[29,15,33,15],[29,16,33,16],[29,17,33,17],[29,0,33,0],[29,1,33,1],[29,2,33,2],[29,3,33,3],[29,4,33,4],[29,5,33,5],[24,14,28,14],[24,15,28,15],[24,16,28,16],[24,17,28,17],[24,0,28,0],[24,1,28,1],[24,2,28,2],[24,3,28,3],[24,4,28,4],[24,5,28,5],[19,14,23,14],[19,15,23,15],[19,16,23,16],[19,17,23,17],[19,0,23,0],[19,1,23,1],[19,2,23,2],[19,3,23,3],[19,4,23,4],[19,5,23,5],[14,14,18,14],[14,15,18,15],[14,16,18,16],[14,17,18,17],[14,0,18,0],[14,1,18,1],[14,2,18,2],[14,3,18,3],[14,4,18,4],[14,5,18,5],[9,14,13,14],[9,15,13,15],[9,16,13,16],[9,17,13,17],[7,14,8,14],[7,15,8,15],[9,0,13,0],[9,1,13,1],[9,2,13,2],[9,3,13,3],[9,4,13,4],[9,5,13,5],[7,4,8,4],[7,5,8,5],[7,6,7,9],[7,10,7,11],[7,12,7,13],[4,0,5,17],[6,0,8,0],[6,1,8,1],[6,2,8,2],[6,3,6,5],[6,6,6,13],[6,14,6,15],[6,16,8,16],[6,17,8,17],[7,3,8,3]]}
[]
[]
[]
[]
["Roczne sprawozdanie z wytwarzania, przetwarzania i przerobu - surowce farmaceutyczne, substancje psychotropowe"]
[]
["Nazwa substancji","Nazwa czystej postaci substancji czynnej","Stan na dzień 01.01 okresu sprawozdawczego","Przychód w roku sprawozdawczym",null,null,"Wykorzystanie w roku sprawozdawczym",null,null,null,null,null,null,null,"Sprzedaż",null,"Utylizacja","Stan na dzień 31.12 okresu sprawozdawczego"]
[null,null,null,"Wewnątrzwspólnotowe nabycie/przywóz","Nabyte w kraju","Produkcja własna","Zużyto na produkcję surowca farmaceutycznego",null,null,null,"Przetworzono na substancje niekontrolowane",null,"Przetworzono na inne substancje kontrolowane",null,"Sprzedaż krajowa","Wewnątrzwspólnotowa dostawa/wywóz"]
[null,null,null,null,null,null,"Nazwa surowca farmaceutycznego","Wielkość opakowania","Ilość wytworzonego surowca","Zużyto na kontrole jakości/straty produkcyjne","Nazwa substancji","Ilość przetworzonej substancji","Nazwa substancji","Ilość przetworzonej substancji"]
[null,null,null,null,null,null,null,null,null,null,null,null,null,null,null,null,null,null,null,null,null,null,null,null,null,{"$f":"A10","v":0}]
[null,null,null,null,null,null,null,null,null,null,null,null,null,null,null,null,null,null,null,null,null,null,null,null,null,{"$f":"Z10","v":0}]
[null,null,null,null,null,null,null,null,null,null,null,null,null,null,null,null,null,null,null,null,null,null,null,null,null,{"$f":"Z11","v":0}]
[null,null,null,null,null,null,null,null,null,null,null,null,null,null,null,null,null,null,null,null,null,null,null,null,null,{"$f":"Z12","v":0}]
[null,null,null,null,null,null,null,null,null,null,null,null,null,null,null,null,null,null,null,null,null,null,null,null,null,{"$f":"Z13","v":0}]
[null,null,null,null,null,null,null,null,null,null,null,null,null,null,null,null,null,null,null,null,null,null,null,null,null,{"$f":"A15","v":0}]
[null,null,null,null,null,null,null,null,null,null,null,null,null,null,null,null,null,null,null,null,null,null,null,null,null,{"$f":"Z15","v":0}]
[null,null,null,null,null,null,null,null,null,null,null,null,null,null,null,null,null,null,null,null,null,null,null,null,null,{"$f":"Z16","v":0}]
[null,null,null,null,null,null,null,null,null,null,null,null,null,null,null,null,null,null,null,null,null,null,null,null,null,{"$f":"Z17","v":0}]
[null,null,null,null,null,null,null,null,null,null,null,null,null,null,null,null,null,null,null,null,null,null,null,null,null,{"$f":"Z18","v":0}]
[null,null,null,null,null,null,null,null,null,null,null,null,null,null,null,null,null,null,null,null,null,null,null,null,null,{"$f":"A20","v":0}]
[null,null,null,null,null,null,null,null,null,null,null,null,null,null,null,null,null,null,null,null,null,null,null,null,null,{"$f":"Z20","v":0}]
[null,null,null,null,null,null,null,null,null,null,null,null,null,null,null,null,null,null,null,null,null,null,null,null,null,{"$f":"Z21","v":0}]
[null,null,null,null,null,null,null,null,null,null,null,null,null,null,null,null,null,null,null,null,null,null,null,null,null,{"$f":"Z22","v":0}]
[null,null,null,null,null,null,null,null,null,null,null,null,null,null,null,null,null,null,null,null,null,null,null,null,null,{"$f":"Z23","v":0}]
[null,null,null,null,null,null,null,null,null,null,null,null,null,null,null,null,null,null,null,null,null,null,null,null,null,{"$f":"A25","v":0}]
[null,null,null,null,null,null,null,null,null,null,null,null,null,null,null,null,null,null,null,null,null,null,null,null,null,{"$f":"Z25","v":0}]
[null,null,null,null,null,null,null,null,null,null,null,null,null,null,null,null,null,null,null,null,null,null,null,null,null,{"$f":"Z26","v":0}]
[null,null,null,null,null,null,null,null,null,null,null,null,null,null,null,null,null,null,null,null,null,null,null,null,null,{"$f":"Z27","v":0}]
[null,null,null,null,null,null,null,null,null,null,null,null,null,null,null,null,null,null,null,null,null,null,null,null,null,{"$f":"Z28","v":0}]
[null,null,null,null,null,null,null,null,null,null,null,null,null,null,null,null,null,null,null,null,null,null,null,null,null,{"$f":"A30","v":0}]
[null,null,null,null,null,null,null,null,null,null,null,null,null,null,null,null,null,null,null,null,null,null,null,null,null,{"$f":"Z30","v":0}]
[null,null,null,null,null,null,null,null,null,null,null,null,null,null,null,null,null,null,null,null,null,null,null,null,null,{"$f":"Z31","v":0}]
[null,null,null,null,null,null,null,null,null,null,null,null,null,null,null,null,null,null,null,null,null,null,null,null,null,{"$f":"Z32","v":0}]
[null,null,null,null,null,null,null,null,null,null,null,null,null,null,null,null,null,null,null,null,null,null,null,null,null,{"$f":"Z33","v":0}]
[null,null,null,null,null,null,null,null,null,null,null,null,null,null,null,null,null,null,null,null,null,null,null,null,null,{"$f":"A35","v":0}]
[null,null,null,null,null,null,null,null,null,null,null,null,null,null,null,null,null,null,null,null,null,null,null,null,null,{"$f":"Z35","v":0}]
[null,null,null,null,null,null,null,null,null,null,null,null,null,null,null,null,null,null,null,null,null,null,null,null,null,{"$f":"Z36","v":0}]
[null,null,null,null,null,null,null,null,null,null,null,null,null,null,null,null,null,null,null,null,null,null,null,null,null,{"$f":"Z37","v":0}]
[null,null,null,null,null,null,null,null,null,null,null,null,null,null,null,null,null,null,null,null,null,null,null,null,null,{"$f":"Z38","v":0}]
[null,null,null,null,null,null,null,null,null,null,null,null,null,null,null,null,null,null,null,null,null,null,null,null,null,{"$f":"A40","v":0}]
[null,null,null,null,null,null,null,null,null,null,null,null,null,null,null,null,null,null,null,null,null,null,null,null,null,{"$f":"Z40","v":0}]
[null,null,null,null,null,null,null,null,null,null,null,null,null,null,null,null,null,null,null,null,null,null,null,null,null,{"$f":"Z41","v":0}]
[null,null,null,null,null,null,null,null,null,null,null,null,null,null,null,null,null,null,null,null,null,null,null,null,null,{"$f":"Z42","v":0}]
[null,null,null,null,null,null,null,null,null,null,null,null,null,null,null,null,null,null,null,null,null,null,null,null,null,{"$f":"Z43","v":0}]
[null,null,null,null,null,null,null,null,null,null,null,null,null,null,null,null,null,null,null,null,null,null,null,null,null,{"$f":"A45","v":0}]
[null,null,null,null,null,null,null,null,null,null,null,null,null,null,null,null,null,null,null,null,null,null,null,null,null,{"$f":"Z45","v":0}]
[null,null,null,null,null,null,null,null,null,null,null,null,null,null,null,null,null,null,null,null,null,null,null,null,null,{"$f":"Z46","v":0}]
[null,null,null,null,null,null,null,null,null,null,null,null,null,null,null,null,null,null,null,null,null,null,null,null,null,{"$f":"Z47","v":0}]
[null,null,null,null,null,null,null,null,null,null,null,null,null,null,null,null,null,null,null,null,null,null,null,null,null,{"$f":"Z48","v":0}]
[null,null,null,null,null,null,null,null,null,null,null,null,null,null,null,null,null,null,null,null,null,null,null,null,null,{"$f":"A50","v":0}]
[null,null,null,null,null,null,null,null,null,null,null,null,null,null,null,null,null,null,null,null,null,null,null,null,null,{"$f":"Z50","v":0}]
[null,null,null,null,null,null,null,null,null,null,null,null,null,null,null,null,null,null,null,null,null,null,null,null,null,{"$f":"Z51","v":0}]
[null,null,null,null,null,null,null,null,null,null,null,null,null,null,null,null,null,null,null,null,null,null,null,null,null,{"$f":"Z52","v":0}]
[null,null,null,null,null,null,null,null,null,null,null,null,null,null,null,null,null,null,null,null,null,null,null,null,null,{"$f":"Z53","v":0}]
[null,null,null,null,null,null,null,null,null,null,null,null,null,null,null,null,null,null,null,null,null,null,null,null,null,{"$f":"A55","v":0}]
[null,null,null,null,null,null,null,null,null,null,null,null,null,null,null,null,null,null,null,null,null,null,null,null,null,{"$f":"Z55","v":0}]
[null,null,null,null,null,null,null,null,null,null,null,null,null,null,null,null,null,null,null,null,null,null,null,null,null,{"$f":"Z56","v":0}]
[null,null,null,null,null,null,null,null,null,null,null,null,null,null,null,null,null,null,null,null,null,null,null,null,null,{"$f":"Z57","v":0}]
[null,null,null,null,null,null,null,null,null,null,null,null,null,null,null,null,null,null,null,null,null,null,null,null,null,{"$f":"Z58","v":0}]
[null,null,null,null,null,null,null,null,null,null,null,null,null,null,null,null,null,null,null,null,null,null,null,null,null,{"$f":"A60","v":0}]
[null,null,null,null,null,null,null,null,null,null,null,null,null,null,null,null,null,null,null,null,null,null,null,null,null,{"$f":"Z60","v":0}]
[null,null,null,null,null,null,null,null,null,null,null,null,null,null,null,null,null,null,null,null,null,null,null,null,null,{"$f":"Z61","v":0}]
[null,null,null,null,null,null,null,null,null,null,null,null,null,null,null,null,null,null,null,null,null,null,null,null,null,{"$f":"Z62","v":0}]
[null,null,null,null,null,null,null,null,null,null,null,null,null,null,null,null,null,null,null,null,null,null,null,null,null,{"$f":"Z63","v":0}]
[null,null,null,null,null,null,null,null,null,null,null,null,null,null,null,null,null,null,null,null,null,null,null,null,null,{"$f":"A65","v":0}]
[null,null,null,null,null,null,null,null,null,null,null,null,null,null,null,null,null,null,null,null,null,null,null,null,null,{"$f":"Z65","v":0}]
[null,null,null,null,null,null,null,null,null,null,null,null,null,null,null,null,null,null,null,null,null,null,null,null,null,{"$f":"Z66","v":0}]
[null,null,null,null,null,null,null,null,null,null,null,null,null,null,null,null,null,null,null,null,null,null,null,null,null,{"$f":"Z67","v":0}]
[null,null,null,null,null,null,null,null,null,null,null,null,null,null,null,null,null,null,null,null,null,null,null,null,null,{"$f":"Z68","v":0}]
[null,null,null,null,null,null,null,null,null,null,null,null,null,null,null,null,null,null,null,null,null,null,null,null,null,{"$f":"A70","v":0}]
[null,null,null,null,null,null,null,null,null,null,null,null,null,null,null,null,null,null,null,null,null,null,null,null,null,{"$f":"Z70","v":0}]
[null,null,null,null,null,null,null,null,null,null,null,null,null,null,null,null,null,null,null,null,null,null,null,null,null,{"$f":"Z71","v":0}]
[null,null,null,null,null,null,null,null,null,null,null,null,null,null,null,null,null,null,null,null,null,null,null,null,null,{"$f":"Z72","v":0}]
[null,null,null,null,null,null,null,null,null,null,null,null,null,null,null,null,null,null,null,null,null,null,null,null,null,{"$f":"Z73","v":0}]
[null,null,null,null,null,null,null,null,null,null,null,null,null,null,null,null,null,null,null,null,null,null,null,null,null,{"$f":"A75","v":0}]
[null,null,null,null,null,null,null,null,null,null,null,null,null,null,null,null,null,null,null,null,null,null,null,null,null,{"$f":"Z75","v":0}]
[null,null,null,null,null,null,null,null,null,null,null,null,null,null,null,null,null,null,null,null,null,null,null,null,null,{"$f":"Z76","v":0}]
[null,null,null,null,null,null,null,null,null,null,null,null,null,null,null,null,null,null,null,null,null,null,null,null,null,{"$f":"Z77","v":0}]
[null,null,null,null,null,null,null,null,null,null,null,null,null,null,null,null,null,null,null,null,null,null,null,null,null,{"$f":"Z78","v":0}]
[null,null,null,null,null,null,null,null,null,null,null,null,null,null,null,null,null,null,null,null,null,null,null,null,null,{"$f":"A80","v":0}]
[null,null,null,null,null,null,null,null,null,null,null,null,null,null,null,null,null,null,null,null,null,null,null,null,null,{"$f":"Z80","v":0}]
[null,null,null,null,null,null,null,null,null,null,null,null,null,null,null,null,null,null,null,null,null,null,null,null,null,{"$f":"Z81","v":0}]
[null,null,null,null,null,null,null,null,null,null,null,null,null,null,null,null,null,null,null,null,null,null,null,null,null,{"$f":"Z82","v":0}]
[null,null,null,null,null,null,null,null,null,null,null,null,null,null,null,null,null,null,null,null,null,null,null,null,null,{"$f":"Z83","v":0}]
[null,null,null,null,null,null,null,null,null,null,null,null,null,null,null,null,null,null,null,null,null,null,null,null,null,{"$f":"A85","v":0}]
[null,null,null,null,null,null,null,null,null,null,null,null,null,null,null,null,null,null,null,null,null,null,null,null,null,{"$f":"Z85","v":0}]
[null,null,null,null,null,null,null,null,null,null,null,null,null,null,null,null,null,null,null,null,null,null,null,null,null,{"$f":"Z86","v":0}]
[null,null,null,null,null,null,null,null,null,null,null,null,null,null,null,null,null,null,null,null,null,null,null,null,null,{"$f":"Z87","v":0}]
[null,null,null,null,null,null,null,null,null,null,null,null,null,null,null,null,null,null,null,null,null,null,null,null,null,{"$f":"Z88","v":0}]
[null,null,null,null,null,null,null,null,null,null,null,null,null,null,null,null,null,null,null,null,null,null,null,null,null,{"$f":"A90","v":0}]
[null,null,null,null,null,null,null,null,null,null,null,null,null,null,null,null,null,null,null,null,null,null,null,null,null,{"$f":"Z90","v":0}]
[null,null,null,null,null,null,null,null,null,null,null,null,null,null,null,null,null,null,null,null,null,null,null,null,null,{"$f":"Z91","v":0}]
[null,null,null,null,null,null,null,null,null,null,null,null,null,null,null,null,null,null,null,null,null,null,null,null,null,{"$f":"Z92","v":0}]
[null,null,null,null,null,null,null,null,null,null,null,null,null,null,null,null,null,null,null,null,null,null,null,null,null,{"$f":"Z93","v":0}]
[null,null,null,null,null,null,null,null,null,null,null,null,null,null,null,null,null,null,null,null,null,null,null,null,null,{"$f":"A95","v":0}]
[null,null,null,null,null,null,null,null,null,null,null,null,null,null,null,null,null,null,null,null,null,null,null,null,null,{"$f":"Z95","v":0}]
[null,null,null,null,null,null,null,null,null,null,null,null,null,null,null,null,null,null,null,null,null,null,null,null,null,{"$f":"Z96","v":0}]
[null,null,null,null,null,null,null,null,null,null,null,null,null,null,null,null,null,null,null,null,null,null,null,null,null,{"$f":"Z97","v":0}]
[null,null,null,null,null,null,null,null,null,null,null,null,null,null,null,null,null,null,null,null,null,null,null,null,null,{"$f":"Z98","v":0}]
[null,null,null,null,null,null,null,null,null,null,null,null,null,null,null,null,null,null,null,null,null,null,null,null,null,{"$f":"A100","v":0}]
[null,null,null,null,null,null,null,null,null,null,null,null,null,null,null,null,null,null,null,null,null,null,null,null,null,{"$f":"Z100","v":0}]
[null,null,null,null,null,null,null,null,null,null,null,null,null,null,null,null,null,null,null,null,null,null,null,null,null,{"$f":"Z101","v":0}]
[null,null,null,null,null,null,null,null,null,null,null,null,null,null,null,null,null,null,null,null,null,null,null,null,null,{"$f":"Z102","v":0}]
[null,null,null,null,null,null,null,null,null,null,null,null,null,null,null,null,null,null,null,null,null,null,null,null,null,{"$f":"Z103","v":0}]
[null,null,null,null,null,null,null,null,null,null,null,null,null,null,null,null,null,null,null,null,null,null,null,null,null,{"$f":"A105","v":0}]
[null,null,null,null,null,null,null,null,null,null,null,null,null,null,null,null,null,null,null,null,null,null,null,null,null,{"$f":"Z105","v":0}]
[null,null,null,null,null,null,null,null,null,null,null,null,null,null,null,null,null,null,null,null,null,null,null,null,null,{"$f":"Z106","v":0}]
[null,null,null,null,null,null,null,null,null,null,null,null,null,null,null,null,null,null,null,null,null,null,null,null,null,{"$f":"Z107","v":0}]
[null,null,null,null,null,null,null,null,null,null,null,null,null,null,null,null,null,null,null,null,null,null,null,null,null,{"$f":"Z108","v":0}]
[null,null,null,null,null,null,null,null,null,null,null,null,null,null,null,null,null,null,null,null,null,null,null,null,null,{"$f":"A110","v":0}]
[null,null,null,null,null,null,null,null,null,null,null,null,null,null,null,null,null,null,null,null,null,null,null,null,null,{"$f":"Z110","v":0}]
[null,null,null,null,null,null,null,null,null,null,null,null,null,null,null,null,null,null,null,null,null,null,null,null,null,{"$f":"Z111","v":0}]
[null,null,null,null,null,null,null,null,null,null,null,null,null,null,null,null,null,null,null,null,null,null,null,null,null,{"$f":"Z112","v":0}]
[null,null,null,null,null,null,null,null,null,null,null,null,null,null,null,null,null,null,null,null,null,null,null,null,null,{"$f":"Z113","v":0}]
[null,null,null,null,null,null,null,null,null,null,null,null,null,null,null,null,null,null,null,null,null,null,null,null,null,{"$f":"A115","v":0}]
[null,null,null,null,null,null,null,null,null,null,null,null,null,null,null,null,null,null,null,null,null,null,null,null,null,{"$f":"Z115","v":0}]
[null,null,null,null,null,null,null,null,null,null,null,null,null,null,null,null,null,null,null,null,null,null,null,null,null,{"$f":"Z116","v":0}]
[null,null,null,null,null,null,null,null,null,null,null,null,null,null,null,null,null,null,null,null,null,null,null,null,null,{"$f":"Z117","v":0}]
[null,null,null,null,null,null,null,null,null,null,null,null,null,null,null,null,null,null,null,null,null,null,null,null,null,{"$f":"Z118","v":0}]
[null,null,null,null,null,null,null,null,null,null,null,null,null,null,null,null,null,null,null,null,null,null,null,null,null,{"$f":"A120","v":0}]
[null,null,null,null,null,null,null,null,null,null,null,null,null,null,null,null,null,null,null,null,null,null,null,null,null,{"$f":"Z120","v":0}]
[null,null,null,null,null,null,null,null,null,null,null,null,null,null,null,null,null,null,null,null,null,null,null,null,null,{"$f":"Z121","v":0}]
[null,null,null,null,null,null,null,null,null,null,null,null,null,null,null,null,null,null,null,null,null,null,null,null,null,{"$f":"Z122","v":0}]
[null,null,null,null,null,null,null,null,null,null,null,null,null,null,null,null,null,null,null,null,null,null,null,null,null,{"$f":"Z123","v":0}]
[null,null,null,null,null,null,null,null,null,null,null,null,null,null,null,null,null,null,null,null,null,null,null,null,null,{"$f":"A125","v":0}]
[null,null,null,null,null,null,null,null,null,null,null,null,null,null,null,null,null,null,null,null,null,null,null,null,null,{"$f":"Z125","v":0}]
[null,null,null,null,null,null,null,null,null,null,null,null,null,null,null,null,null,null,null,null,null,null,null,null,null,{"$f":"Z126","v":0}]
[null,null,null,null,null,null,null,null,null,null,null,null,null,null,null,null,null,null,null,null,null,null,null,null,null,{"$f":"Z127","v":0}]
[null,null,null,null,null,null,null,null,null,null,null,null,null,null,null,null,null,null,null,null,null,null,null,null,null,{"$f":"Z128","v":0}]
[null,null,null,null,null,null,null,null,null,null,null,null,null,null,null,null,null,null,null,null,null,null,null,null,null,{"$f":"A130","v":0}]
[null,null,null,null,null,null,null,null,null,null,null,null,null,null,null,null,null,null,null,null,null,null,null,null,null,{"$f":"Z130","v":0}]
[null,null,null,null,null,null,null,null,null,null,null,null,null,null,null,null,null,null,null,null,null,null,null,null,null,{"$f":"Z131","v":0}]
[null,null,null,null,null,null,null,null,null,null,null,null,null,null,null,null,null,null,null,null,null,null,null,null,null,{"$f":"Z132","v":0}]
[null,null,null,null,null,null,null,null,null,null,null,null,null,null,null,null,null,null,null,null,null,null,null,null,null,{"$f":"Z133","v":0}]
[null,null,null,null,null,null,null,null,null,null,null,null,null,null,null,null,null,null,null,null,null,null,null,null,null,{"$f":"A135","v":0}]
[null,null,null,null,null,null,null,null,null,null,null,null,null,null,null,null,null,null,null,null,null,null,null,null,null,{"$f":"Z135","v":0}]
[null,null,null,null,null,null,null,null,null,null,null,null,null,null,null,null,null,null,null,null,null,null,null,null,null,{"$f":"Z136","v":0}]
[null,null,null,null,null,null,null,null,null,null,null,null,null,null,null,null,null,null,null,null,null,null,null,null,null,{"$f":"Z137","v":0}]
[null,null,null,null,null,null,null,null,null,null,null,null,null,null,null,null,null,null,null,null,null,null,null,null,null,{"$f":"Z138","v":0}]
[null,null,null,null,null,null,null,null,null,null,null,null,null,null,null,null,null,null,null,null,null,null,null,null,null,{"$f":"A140","v":0}]
[null,null,null,null,null,null,null,null,null,null,null,null,null,null,null,null,null,null,null,null,null,null,null,null,null,{"$f":"Z140","v":0}]
[null,null,null,null,null,null,null,null,null,null,null,null,null,null,null,null,null,null,null,null,null,null,null,null,null,{"$f":"Z141","v":0}]
[null,null,null,null,null,null,null,null,null,null,null,null,null,null,null,null,null,null,null,null,null,null,null,null,null,{"$f":"Z142","v":0}]
[null,null,null,null,null,null,null,null,null,null,null,null,null,null,null,null,null,null,null,null,null,null,null,null,null,{"$f":"Z143","v":0}]
[null,null,null,null,null,null,null,null,null,null,null,null,null,null,null,null,null,null,null,null,null,null,null,null,null,{"$f":"A145","v":0}]
[null,null,null,null,null,null,null,null,null,null,null,null,null,null,null,null,null,null,null,null,null,null,null,null,null,{"$f":"Z145","v":0}]
[null,null,null,null,null,null,null,null,null,null,null,null,null,null,null,null,null,null,null,null,null,null,null,null,null,{"$f":"Z146","v":0}]
[null,null,null,null,null,null,null,null,null,null,null,null,null,null,null,null,null,null,null,null,null,null,null,null,null,{"$f":"Z147","v":0}]
[null,null,null,null,null,null,null,null,null,null,null,null,null,null,null,null,null,null,null,null,null,null,null,null,null,{"$f":"Z148","v":0}]
["Roczne sprawozdanie z wytwarzania, przetwarzania i przerobu - surowce farmaceutyczne, Środki odurzające",null,null,null,null,null,null,null,null,null,null,null,null,null,null,null,null,null,null,null,null,null,null,null,null,{"$f":"A150","v":"Roczne sprawozdanie z wytwarzania, przetwarzania i przerobu - surowce farmaceutyczne, Środki odurzające"}]
[null,null,null,null,null,null,null,null,null,null,null,null,null,null,null,null,null,null,null,null,null,null,null,null,null,{"$f":"Z150","v":"Roczne sprawozdanie z wytwarzania, przetwarzania i przerobu - surowce farmaceutyczne, Środki odurzające"}]
["Nazwa substancji","Nazwa czystej postaci substancji","Stan na dzień 01.01 okresu sprawozdawczego","Przychód w roku sprawozdawczym",null,null,"Wykorzystanie w roku sprawozdawczym",null,null,null,null,null,null,null,"Sprzedaż",null,"Utylizacja","Stan na dzień 31.12 okresu sprawozdawczego",null,null,null,null,null,null,null,{"$f":"Z151","v":"Roczne sprawozdanie z wytwarzania, przetwarzania i przerobu - surowce farmaceutyczne, Środki odurzające"}]
[null,null,null,"Wewnątrzwspólnotowe nabycie/przywóz","Nabyte w kraju","Produkcja własna","Zużyto na produkcję formy farmaceutycznej",null,null,null,"Przetworzono na substancje niekontrolowane",null,"Przetworzono na inne substancje kontrolowane",null,"Sprzedaż krajowa","Wewnątrzwspólnotowa dostawa/wywóz",null,null,null,null,null,null,null,null,null,{"$f":"Z152","v":"Roczne sprawozdanie z wytwarzania, przetwarzania i przerobu - surowce farmaceutyczne, Środki odurzające"}]
[null,null,null,null,null,null,"Nazwa surowca farmaceutycznego","Wielkość opakowania","Ilość wytworzonego surowca","Zużyto na kontrole jakości/straty produkcyjne","Nazwa substancji","Ilość przetworzonej substancji","Nazwa substancji","Ilość przetworzonej substancji",null,null,null,null,null,null,null,null,null,null,null,{"$f":"Z153","v":"Roczne sprawozdanie z wytwarzania, przetwarzania i przerobu - surowce farmaceutyczne, Środki odurzające"}]
[null,null,null,null,null,null,null,null,null,null,null,null,null,null,null,null,null,null,null,null,null,null,null,null,null,{"$f":"A155","v":0}]
[null,null,null,null,null,null,null,null,null,null,null,null,null,null,null,null,null,null,null,null,null,null,null,null,null,{"$f":"Z155","v":0}]
[null,null,null,null,null,null,null,null,null,null,null,null,null,null,null,null,null,null,null,null,null,null,null,null,"Tak",{"$f":"Z156","v":0}]
[null,null,null,null,null,null,null,null,null,null,null,null,null,null,null,null,null,null,null,null,null,null,null,null,"Nie",{"$f":"Z157","v":0}]
[null,null,null,null,null,null,null,null,null,null,null,null,null,null,null,null,null,null,null,null,null,null,null,null,null,{"$f":"Z158","v":0}]
[null,null,null,null,null,null,null,null,null,null,null,null,null,null,null,null,null,null,null,null,null,null,null,null,null,{"$f":"A160","v":0}]
[null,null,null,null,null,null,null,null,null,null,null,null,null,null,null,null,null,null,null,null,null,null,null,null,null,{"$f":"Z160","v":0}]
[null,null,null,null,null,null,null,null,null,null,null,null,null,null,null,null,null,null,null,null,null,null,null,null,null,{"$f":"Z161","v":0}]
[null,null,null,null,null,null,null,null,null,null,null,null,null,null,null,null,null,null,null,null,null,null,null,null,null,{"$f":"Z162","v":0}]
[null,null,null,null,null,null,null,null,null,null,null,null,null,null,null,null,null,null,null,null,null,null,null,null,null,{"$f":"Z163","v":0}]
[null,null,null,null,null,null,null,null,null,null,null,null,null,null,null,null,null,null,null,null,null,null,null,null,null,{"$f":"A165","v":0}]
[null,null,null,null,null,null,null,null,null,null,null,null,null,null,null,null,null,null,null,null,null,null,null,null,null,{"$f":"Z165","v":0}]
[null,null,null,null,null,null,null,null,null,null,null,null,null,null,null,null,null,null,null,null,null,null,null,null,null,{"$f":"Z166","v":0}]
[null,null,null,null,null,null,null,null,null,null,null,null,null,null,null,null,null,null,null,null,null,null,null,null,null,{"$f":"Z167","v":0}]
[null,null,null,null,null,null,null,null,null,null,null,null,null,null,null,null,null,null,null,null,null,null,null,null,null,{"$f":"Z168","v":0}]
[null,null,null,null,null,null,null,null,null,null,null,null,null,null,null,null,null,null,null,null,null,null,null,null,null,{"$f":"A170","v":0}]
[null,null,null,null,null,null,null,null,null,null,null,null,null,null,null,null,null,null,null,null,null,null,null,null,null,{"$f":"Z170","v":0}]
[null,null,null,null,null,null,null,null,null,null,null,null,null,null,null,null,null,null,null,null,null,null,null,null,null,{"$f":"Z171","v":0}]
[null,null,null,null,null,null,null,null,null,null,null,null,null,null,null,null,null,null,null,null,null,null,null,null,null,{"$f":"Z172","v":0}]
[null,null,null,null,null,null,null,null,null,null,null,null,null,null,null,null,null,null,null,null,null,null,null,null,null,{"$f":"Z173","v":0}]
[null,null,null,null,null,null,null,null,null,null,null,null,null,null,null,null,null,null,null,null,null,null,null,null,null,{"$f":"A175","v":0}]
[null,null,null,null,null,null,null,null,null,null,null,null,null,null,null,null,null,null,null,null,null,null,null,null,null,{"$f":"Z175","v":0}]
[null,null,null,null,null,null,null,null,null,null,null,null,null,null,null,null,null,null,null,null,null,null,null,null,null,{"$f":"Z176","v":0}]
[null,null,null,null,null,null,null,null,null,null,null,null,null,null,null,null,null,null,null,null,null,null,null,null,null,{"$f":"Z177","v":0}]
[null,null,null,null,null,null,null,null,null,null,null,null,null,null,null,null,null,null,null,null,null,null,null,null,null,{"$f":"Z178","v":0}]
[null,null,null,null,null,null,null,null,null,null,null,null,null,null,null,null,null,null,null,null,null,null,null,null,null,{"$f":"A180","v":0}]
[null,null,null,null,null,null,null,null,null,null,null,null,null,null,null,null,null,null,null,null,null,null,null,null,null,{"$f":"Z180","v":0}]
[null,null,null,null,null,null,null,null,null,null,null,null,null,null,null,null,null,null,null,null,null,null,null,null,null,{"$f":"Z181","v":0}]
[null,null,null,null,null,null,null,null,null,null,null,null,null,null,null,null,null,null,null,null,null,null,null,null,null,{"$f":"Z182","v":0}]
[null,null,null,null,null,null,null,null,null,null,null,null,null,null,null,null,null,null,null,null,null,null,null,null,null,{"$f":"Z183","v":0}]
[null,null,null,null,null,null,null,null,null,null,null,null,null,null,null,null,null,null,null,null,null,null,null,null,null,{"$f":"A185","v":0}]
[null,null,null,null,null,null,null,null,null,null,null,null,null,null,null,null,null,null,null,null,null,null,null,null,null,{"$f":"Z185","v":0}]
[null,null,null,null,null,null,null,null,null,null,null,null,null,null,null,null,null,null,null,null,null,null,null,null,null,{"$f":"Z186","v":0}]
[null,null,null,null,null,null,null,null,null,null,null,null,null,null,null,null,null,null,null,null,null,null,null,null,null,{"$f":"Z187","v":0}]
[null,null,null,null,null,null,null,null,null,null,null,null,null,null,null,null,null,null,null,null,null,null,null,null,null,{"$f":"Z188","v":0}]
[null,null,null,null,null,null,null,null,null,null,null,null,null,null,null,null,null,null,null,null,null,null,null,null,null,{"$f":"A190","v":0}]
[null,null,null,null,null,null,null,null,null,null,null,null,null,null,null,null,null,null,null,null,null,null,null,null,null,{"$f":"Z190","v":0}]
[null,null,null,null,null,null,null,null,null,null,null,null,null,null,null,null,null,null,null,null,null,null,null,null,null,{"$f":"Z191","v":0}]
[null,null,null,null,null,null,null,null,null,null,null,null,null,null,null,null,null,null,null,null,null,null,null,null,null,{"$f":"Z192","v":0}]
[null,null,null,null,null,null,null,null,null,null,null,null,null,null,null,null,null,null,null,null,null,null,null,null,null,{"$f":"Z193","v":0}]
[null,null,null,null,null,null,null,null,null,null,null,null,null,null,null,null,null,null,null,null,null,null,null,null,null,{"$f":"A195","v":0}]
[null,null,null,null,null,null,null,null,null,null,null,null,null,null,null,null,null,null,null,null,null,null,null,null,null,{"$f":"Z195","v":0}]
[null,null,null,null,null,null,null,null,null,null,null,null,null,null,null,null,null,null,null,null,null,null,null,null,null,{"$f":"Z196","v":0}]
[null,null,null,null,null,null,null,null,null,null,null,null,null,null,null,null,null,null,null,null,null,null,null,null,null,{"$f":"Z197","v":0}]
[null,null,null,null,null,null,null,null,null,null,null,null,null,null,null,null,null,null,null,null,null,null,null,null,null,{"$f":"Z198","v":0}]
[null,null,null,null,null,null,null,null,null,null,null,null,null,null,null,null,null,null,null,null,null,null,null,null,null,{"$f":"A200","v":0}]
[null,null,null,null,null,null,null,null,null,null,null,null,null,null,null,null,null,null,null,null,null,null,null,null,null,{"$f":"Z200","v":0}]
[null,null,null,null,null,null,null,null,null,null,null,null,null,null,null,null,null,null,null,null,null,null,null,null,null,{"$f":"Z201","v":0}]
[null,null,null,null,null,null,null,null,null,null,null,null,null,null,null,null,null,null,null,null,null,null,null,null,null,{"$f":"Z202","v":0}]
[null,null,null,null,null,null,null,null,null,null,null,null,null,null,null,null,null,null,null,null,null,null,null,null,null,{"$f":"Z203","v":0}]
[null,null,null,null,null,null,null,null,null,null,null,null,null,null,null,null,null,null,null,null,null,null,null,null,null,{"$f":"A205","v":0}]
[null,null,null,null,null,null,null,null,null,null,null,null,null,null,null,null,null,null,null,null,null,null,null,null,null,{"$f":"Z205","v":0}]
[null,null,null,null,null,null,null,null,null,null,null,null,null,null,null,null,null,null,null,null,null,null,null,null,null,{"$f":"Z206","v":0}]
[null,null,null,null,null,null,null,null,null,null,null,null,null,null,null,null,null,null,null,null,null,null,null,null,null,{"$f":"Z207","v":0}]
[null,null,null,null,null,null,null,null,null,null,null,null,null,null,null,null,null,null,null,null,null,null,null,null,null,{"$f":"Z208","v":0}]
[null,null,null,null,null,null,null,null,null,null,null,null,null,null,null,null,null,null,null,null,null,null,null,null,null,{"$f":"A210","v":0}]
[null,null,null,null,null,null,null,null,null,null,null,null,null,null,null,null,null,null,null,null,null,null,null,null,null,{"$f":"Z210","v":0}]
[null,null,null,null,null,null,null,null,null,null,null,null,null,null,null,null,null,null,null,null,null,null,null,null,null,{"$f":"Z211","v":0}]
[null,null,null,null,null,null,null,null,null,null,null,null,null,null,null,null,null,null,null,null,null,null,null,null,null,{"$f":"Z212","v":0}]
[null,null,null,null,null,null,null,null,null,null,null,null,null,null,null,null,null,null,null,null,null,null,null,null,null,{"$f":"Z213","v":0}]
[null,null,null,null,null,null,null,null,null,null,null,null,null,null,null,null,null,null,null,null,null,null,null,null,null,{"$f":"A215","v":0}]
[null,null,null,null,null,null,null,null,null,null,null,null,null,null,null,null,null,null,null,null,null,null,null,null,null,{"$f":"Z215","v":0}]
[null,null,null,null,null,null,null,null,null,null,null,null,null,null,null,null,null,null,null,null,null,null,null,null,null,{"$f":"Z216","v":0}]
[null,null,null,null,null,null,null,null,null,null,null,null,null,null,null,null,null,null,null,null,null,null,null,null,null,{"$f":"Z217","v":0}]
[null,null,null,null,null,null,null,null,null,null,null,null,null,null,null,null,null,null,null,null,null,null,null,null,null,{"$f":"Z218","v":0}]
[null,null,null,null,null,null,null,null,null,null,null,null,null,null,null,null,null,null,null,null,null,null,null,null,null,{"$f":"A220","v":0}]
[null,null,null,null,null,null,null,null,null,null,null,null,null,null,null,null,null,null,null,null,null,null,null,null,null,{"$f":"Z220","v":0}]
[null,null,null,null,null,null,null,null,null,null,null,null,null,null,null,null,null,null,null,null,null,null,null,null,null,{"$f":"Z221","v":0}]
[null,null,null,null,null,null,null,null,null,null,null,null,null,null,null,null,null,null,null,null,null,null,null,null,null,{"$f":"Z222","v":0}]
[null,null,null,null,null,null,null,null,null,null,null,null,null,null,null,null,null,null,null,null,null,null,null,null,null,{"$f":"Z223","v":0}]
[null,null,null,null,null,null,null,null,null,null,null,null,null,null,null,null,null,null,null,null,null,null,null,null,null,{"$f":"A225","v":0}]
[null,null,null,null,null,null,null,null,null,null,null,null,null,null,null,null,null,null,null,null,null,null,null,null,null,{"$f":"Z225","v":0}]
[null,null,null,null,null,null,null,null,null,null,null,null,null,null,null,null,null,null,null,null,null,null,null,null,null,{"$f":"Z226","v":0}]
[null,null,null,null,null,null,null,null,null,null,null,null,null,null,null,null,null,null,null,null,null,null,null,null,null,{"$f":"Z227","v":0}]
[null,null,null,null,null,null,null,null,null,null,null,null,null,null,null,null,null,null,null,null,null,null,null,null,null,{"$f":"Z228","v":0}]
[null,null,null,null,null,null,null,null,null,null,null,null,null,null,null,null,null,null,null,null,null,null,null,null,null,{"$f":"A230","v":0}]
[null,null,null,null,null,null,null,null,null,null,null,null,null,null,null,null,null,null,null,null,null,null,null,null,null,{"$f":"Z230","v":0}]
[null,null,null,null,null,null,null,null,null,null,null,null,null,null,null,null,null,null,null,null,null,null,null,null,null,{"$f":"Z231","v":0}]
[null,null,null,null,null,null,null,null,null,null,null,null,null,null,null,null,null,null,null,null,null,null,null,null,null,{"$f":"Z232","v":0}]
[null,null,null,null,null,null,null,null,null,null,null,null,null,null,null,null,null,null,null,null,null,null,null,null,null,{"$f":"Z233","v":0}]
[null,null,null,null,null,null,null,null,null,null,null,null,null,null,null,null,null,null,null,null,null,null,null,null,null,{"$f":"A235","v":0}]
[null,null,null,null,null,null,null,null,null,null,null,null,null,null,null,null,null,null,null,null,null,null,null,null,null,{"$f":"Z235","v":0}]
[null,null,null,null,null,null,null,null,null,null,null,null,null,null,null,null,null,null,null,null,null,null,null,null,null,{"$f":"Z236","v":0}]
[null,null,null,null,null,null,null,null,null,null,null,null,null,null,null,null,null,null,null,null,null,null,null,null,null,{"$f":"Z237","v":0}]
[null,null,null,null,null,null,null,null,null,null,null,null,null,null,null,null,null,null,null,null,null,null,null,null,null,{"$f":"Z238","v":0}]
[null,null,null,null,null,null,null,null,null,null,null,null,null,null,null,null,null,null,null,null,null,null,null,null,null,{"$f":"A240","v":0}]
[null,null,null,null,null,null,null,null,null,null,null,null,null,null,null,null,null,null,null,null,null,null,null,null,null,{"$f":"Z240","v":0}]
[null,null,null,null,null,null,null,null,null,null,null,null,null,null,null,null,null,null,null,null,null,null,null,null,null,{"$f":"Z241","v":0}]
[null,null,null,null,null,null,null,null,null,null,null,null,null,null,null,null,null,null,null,null,null,null,null,null,null,{"$f":"Z242","v":0}]
[null,null,null,null,null,null,null,null,null,null,null,null,null,null,null,null,null,null,null,null,null,null,null,null,null,{"$f":"Z243","v":0}]
[null,null,null,null,null,null,null,null,null,null,null,null,null,null,null,null,null,null,null,null,null,null,null,null,null,{"$f":"A245","v":0}]
[null,null,null,null,null,null,null,null,null,null,null,null,null,null,null,null,null,null,null,null,null,null,null,null,null,{"$f":"Z245","v":0}]
[null,null,null,null,null,null,null,null,null,null,null,null,null,null,null,null,null,null,null,null,null,null,null,null,null,{"$f":"Z246","v":0}]
[null,null,null,null,null,null,null,null,null,null,null,null,null,null,null,null,null,null,null,null,null,null,null,null,null,{"$f":"Z247","v":0}]
[null,null,null,null,null,null,null,null,null,null,null,null,null,null,null,null,null,null,null,null,null,null,null,null,null,{"$f":"Z248","v":0}]
[null,null,null,null,null,null,null,null,null,null,null,null,null,null,null,null,null,null,null,null,null,null,null,null,null,{"$f":"A250","v":0}]
[null,null,null,null,null,null,null,null,null,null,null,null,null,null,null,null,null,null,null,null,null,null,null,null,null,{"$f":"Z250","v":0}]
[null,null,null,null,null,null,null,null,null,null,null,null,null,null,null,null,null,null,null,null,null,null,null,null,null,{"$f":"Z251","v":0}]
[null,null,null,null,null,null,null,null,null,null,null,null,null,null,null,null,null,null,null,null,null,null,null,null,null,{"$f":"Z252","v":0}]
[null,null,null,null,null,null,null,null,null,null,null,null,null,null,null,null,null,null,null,null,null,null,null,null,null,{"$f":"Z253","v":0}]
[null,null,null,null,null,null,null,null,null,null,null,null,null,null,null,null,null,null,null,null,null,null,null,null,null,{"$f":"A255","v":0}]
[null,null,null,null,null,null,null,null,null,null,null,null,null,null,null,null,null,null,null,null,null,null,null,null,null,{"$f":"Z255","v":0}]
[null,null,null,null,null,null,null,null,null,null,null,null,null,null,null,null,null,null,null,null,null,null,null,null,null,{"$f":"Z256","v":0}]
[null,null,null,null,null,null,null,null,null,null,null,null,null,null,null,null,null,null,null,null,null,null,null,null,null,{"$f":"Z257","v":0}]
[null,null,null,null,null,null,null,null,null,null,null,null,null,null,null,null,null,null,null,null,null,null,null,null,null,{"$f":"Z258","v":0}]
[null,null,null,null,null,null,null,null,null,null,null,null,null,null,null,null,null,null,null,null,null,null,null,null,null,{"$f":"A260","v":0}]
[null,null,null,null,null,null,null,null,null,null,null,null,null,null,null,null,null,null,null,null,null,null,null,null,null,{"$f":"Z260","v":0}]
[null,null,null,null,null,null,null,null,null,null,null,null,null,null,null,null,null,null,null,null,null,null,null,null,null,{"$f":"Z261","v":0}]
[null,null,null,null,null,null,null,null,null,null,null,null,null,null,null,null,null,null,null,null,null,null,null,null,null,{"$f":"Z262","v":0}]
[null,null,null,null,null,null,null,null,null,null,null,null,null,null,null,null,null,null,null,null,null,null,null,null,null,{"$f":"Z263","v":0}]
[null,null,null,null,null,null,null,null,null,null,null,null,null,null,null,null,null,null,null,null,null,null,null,null,null,{"$f":"A265","v":0}]
[null,null,null,null,null,null,null,null,null,null,null,null,null,null,null,null,null,null,null,null,null,null,null,null,null,{"$f":"Z265","v":0}]
[null,null,null,null,null,null,null,null,null,null,null,null,null,null,null,null,null,null,null,null,null,null,null,null,null,{"$f":"Z266","v":0}]
[null,null,null,null,null,null,null,null,null,null,null,null,null,null,null,null,null,null,null,null,null,null,null,null,null,{"$f":"Z267","v":0}]
[null,null,null,null,null,null,null,null,null,null,null,null,null,null,null,null,null,null,null,null,null,null,null,null,null,{"$f":"Z268","v":0}]
[null,null,null,null,null,null,null,null,null,null,null,null,null,null,null,null,null,null,null,null,null,null,null,null,null,{"$f":"A270","v":0}]
[null,null,null,null,null,null,null,null,null,null,null,null,null,null,null,null,null,null,null,null,null,null,null,null,null,{"$f":"Z270","v":0}]
[null,null,null,null,null,null,null,null,null,null,null,null,null,null,null,null,null,null,null,null,null,null,null,null,null,{"$f":"Z271","v":0}]
[null,null,null,null,null,null,null,null,null,null,null,null,null,null,null,null,null,null,null,null,null,null,null,null,null,{"$f":"Z272","v":0}]
[null,null,null,null,null,null,null,null,null,null,null,null,null,null,null,null,null,null,null,null,null,null,null,null,null,{"$f":"Z273","v":0}]
[null,null,null,null,null,null,null,null,null,null,null,null,null,null,null,null,null,null,null,null,null,null,null,null,null,{"$f":"A275","v":0}]
[null,null,null,null,null,null,null,null,null,null,null,null,null,null,null,null,null,null,null,null,null,null,null,null,null,{"$f":"Z275","v":0}]
[null,null,null,null,null,null,null,null,null,null,null,null,null,null,null,null,null,null,null,null,null,null,null,null,null,{"$f":"Z276","v":0}]
[null,null,null,null,null,null,null,null,null,null,null,null,null,null,null,null,null,null,null,null,null,null,null,null,null,{"$f":"Z277","v":0}]
[null,null,null,null,null,null,null,null,null,null,null,null,null,null,null,null,null,null,null,null,null,null,null,null,null,{"$f":"Z278","v":0}]
[null,null,null,null,null,null,null,null,null,null,null,null,null,null,null,null,null,null,null,null,null,null,null,null,null,{"$f":"A280","v":0}]
[null,null,null,null,null,null,null,null,null,null,null,null,null,null,null,null,null,null,null,null,null,null,null,null,null,{"$f":"Z280","v":0}]
[null,null,null,null,null,null,null,null,null,null,null,null,null,null,null,null,null,null,null,null,null,null,null,null,null,{"$f":"Z281","v":0}]
[null,null,null,null,null,null,null,null,null,null,null,null,null,null,null,null,null,null,null,null,null,null,null,null,null,{"$f":"Z282","v":0}]
[null,null,null,null,null,null,null,null,null,null,null,null,null,null,null,null,null,null,null,null,null,null,null,null,null,{"$f":"Z283","v":0}]
[null,null,null,null,null,null,null,null,null,null,null,null,null,null,null,null,null,null,null,null,null,null,null,null,null,{"$f":"A285","v":0}]
[null,null,null,null,null,null,null,null,null,null,null,null,null,null,null,null,null,null,null,null,null,null,null,null,null,{"$f":"Z285","v":0}]
[null,null,null,null,null,null,null,null,null,null,null,null,null,null,null,null,null,null,null,null,null,null,null,null,null,{"$f":"Z286","v":0}]
[null,null,null,null,null,null,null,null,null,null,null,null,null,null,null,null,null,null,null,null,null,null,null,null,null,{"$f":"Z287","v":0}]
[null,null,null,null,null,null,null,null,null,null,null,null,null,null,null,null,null,null,null,null,null,null,null,null,null,{"$f":"Z288","v":0}]
[null,null,null,null,null,null,null,null,null,null,null,null,null,null,null,null,null,null,null,null,null,null,null,null,null,{"$f":"A290","v":0}]
[null,null,null,null,null,null,null,null,null,null,null,null,null,null,null,null,null,null,null,null,null,null,null,null,null,{"$f":"Z290","v":0}]
[null,null,null,null,null,null,null,null,null,null,null,null,null,null,null,null,null,null,null,null,null,null,null,null,null,{"$f":"Z291","v":0}]
[null,null,null,null,null,null,null,null,null,null,null,null,null,null,null,null,null,null,null,null,null,null,null,null,null,{"$f":"Z292","v":0}]
[null,null,null,null,null,null,null,null,null,null,null,null,null,null,null,null,null,null,null,null,null,null,null,null,null,{"$f":"Z293","v":0}]
[null,null,null,null,null,null,null,null,null,null,null,null,null,null,null,null,null,null,null,null,null,null,null,null,null,{"$f":"A295","v":0}]
[null,null,null,null,null,null,null,null,null,null,null,null,null,null,null,null,null,null,null,null,null,null,null,null,null,{"$f":"Z295","v":0}]
[null,null,null,null,null,null,null,null,null,null,null,null,null,null,null,null,null,null,null,null,null,null,null,null,null,{"$f":"Z296","v":0}]
[null,null,null,null,null,null,null,null,null,null,null,null,null,null,null,null,null,null,null,null,null,null,null,null,null,{"$f":"Z297","v":0}]
[null,null,null,null,null,null,null,null,null,null,null,null,null,null,null,null,null,null,null,null,null,null,null,null,null,{"$f":"Z298","v":0}]
["Roczne sprawozdanie z wytwarzania, przetwarzania i przerobu - surowce farmaceutyczne, Prekursory",null,null,null,null,null,null,null,null,null,null,null,null,null,null,null,null,null,null,null,null,null,null,null,null,{"$f":"A300","v":"Roczne sprawozdanie z wytwarzania, przetwarzania i przerobu - surowce farmaceutyczne, Prekursory"}]
[null,null,null,null,null,null,null,null,null,null,null,null,null,null,null,null,null,null,null,null,null,null,null,null,null,{"$f":"Z300","v":"Roczne sprawozdanie z wytwarzania, przetwarzania i przerobu - surowce farmaceutyczne, Prekursory"}]
["Nazwa substancji","Nazwa czystej postaci substancji","Stan na dzień 01.01 okresu sprawozdawczego","Przychód w roku sprawozdawczym",null,null,"Wykorzystanie w roku sprawozdawczym",null,null,null,null,null,null,null,"Sprzedaż",null,"Utylizacja","Stan na dzień 31.12 okresu sprawozdawczego",null,null,null,null,null,null,null,{"$f":"Z301","v":"Roczne sprawozdanie z wytwarzania, przetwarzania i przerobu - surowce farmaceutyczne, Prekursory"}]
[null,null,null,"Wewnątrzwspólnotowe nabycie/przywóz","Kupione w kraju","Produkcja własna","Zużyto na produkcję formy farmaceutycznej",null,null,null,"Przetworzono na substancje niekontrolowane",null,"Przetworzono na inne substancje kontrolowane",null,"Sprzedaż krajowa","Wewnątrzwspólnotowa dostawa/wywóz",null,null,null,null,null,null,null,null,null,{"$f":"Z302","v":"Roczne sprawozdanie z wytwarzania, przetwarzania i przerobu - surowce farmaceutyczne, Prekursory"}]
[null,null,null,null,null,null,"Nazwa produktu leczniczego","Wielkość opakowania","Ilość wytworzonej formy","Zużyto na kontrole jakości/straty produkcyjne","Nazwa substancji","Ilość przetworzonej substancji","Nazwa substancji","Ilość przetworzonej substancji",null,null,null,null,null,null,null,null,null,null,null,{"$f":"Z303","v":"Roczne sprawozdanie z wytwarzania, przetwarzania i przerobu - surowce farmaceutyczne, Prekursory"}]
[null,null,null,null,null,null,null,null,null,null,null,null,null,null,null,null,null,null,null,null,null,null,null,null,null,{"$f":"A305","v":0}]
[null,null,null,null,null,null,null,null,null,null,null,null,null,null,null,null,null,null,null,null,null,null,null,null,null,{"$f":"Z305","v":0}]
[null,null,null,null,null,null,null,null,null,null,null,null,null,null,null,null,null,null,null,null,null,null,null,null,null,{"$f":"Z306","v":0}]
[null,null,null,null,null,null,null,null,null,null,null,null,null,null,null,null,null,null,null,null,null,null,null,null,null,{"$f":"Z307","v":0}]
[null,null,null,null,null,null,null,null,null,null,null,null,null,null,null,null,null,null,null,null,null,null,null,null,null,{"$f":"Z308","v":0}]
[null,null,null,null,null,null,null,null,null,null,null,null,null,null,null,null,null,null,null,null,null,null,null,null,null,{"$f":"A310","v":0}]
[null,null,null,null,null,null,null,null,null,null,null,null,null,null,null,null,null,null,null,null,null,null,null,null,null,{"$f":"Z310","v":0}]
[null,null,null,null,null,null,null,null,null,null,null,null,null,null,null,null,null,null,null,null,null,null,null,null,null,{"$f":"Z311","v":0}]
[null,null,null,null,null,null,null,null,null,null,null,null,null,null,null,null,null,null,null,null,null,null,null,null,null,{"$f":"Z312","v":0}]
[null,null,null,null,null,null,null,null,null,null,null,null,null,null,null,null,null,null,null,null,null,null,null,null,null,{"$f":"Z313","v":0}]
[null,null,null,null,null,null,null,null,null,null,null,null,null,null,null,null,null,null,null,null,null,null,null,null,null,{"$f":"A315","v":0}]
[null,null,null,null,null,null,null,null,null,null,null,null,null,null,null,null,null,null,null,null,null,null,null,null,null,{"$f":"Z315","v":0}]
[null,null,null,null,null,null,null,null,null,null,null,null,null,null,null,null,null,null,null,null,null,null,null,null,null,{"$f":"Z316","v":0}]
[null,null,null,null,null,null,null,null,null,null,null,null,null,null,null,null,null,null,null,null,null,null,null,null,null,{"$f":"Z317","v":0}]
[null,null,null,null,null,null,null,null,null,null,null,null,null,null,null,null,null,null,null,null,null,null,null,null,null,{"$f":"Z318","v":0}]
[null,null,null,null,null,null,null,null,null,null,null,null,null,null,null,null,null,null,null,null,null,null,null,null,null,{"$f":"A320","v":0}]
[null,null,null,null,null,null,null,null,null,null,null,null,null,null,null,null,null,null,null,null,null,null,null,null,null,{"$f":"Z320","v":0}]
[null,null,null,null,null,null,null,null,null,null,null,null,null,null,null,null,null,null,null,null,null,null,null,null,null,{"$f":"Z321","v":0}]
[null,null,null,null,null,null,null,null,null,null,null,null,null,null,null,null,null,null,null,null,null,null,null,null,null,{"$f":"Z322","v":0}]
[null,null,null,null,null,null,null,null,null,null,null,null,null,null,null,null,null,null,null,null,null,null,null,null,null,{"$f":"Z323","v":0}]
[null,null,null,null,null,null,null,null,null,null,null,null,null,null,null,null,null,null,null,null,null,null,null,null,null,{"$f":"A325","v":0}]
[null,null,null,null,null,null,null,null,null,null,null,null,null,null,null,null,null,null,null,null,null,null,null,null,null,{"$f":"Z325","v":0}]
[null,null,null,null,null,null,null,null,null,null,null,null,null,null,null,null,null,null,null,null,null,null,null,null,null,{"$f":"Z326","v":0}]
[null,null,null,null,null,null,null,null,null,null,null,null,null,null,null,null,null,null,null,null,null,null,null,null,null,{"$f":"Z327","v":0}]
[null,null,null,null,null,null,null,null,null,null,null,null,null,null,null,null,null,null,null,null,null,null,null,null,null,{"$f":"Z328","v":0}]
[null,null,null,null,null,null,null,null,null,null,null,null,null,null,null,null,null,null,null,null,null,null,null,null,null,{"$f":"A330","v":0}]
[null,null,null,null,null,null,null,null,null,null,null,null,null,null,null,null,null,null,null,null,null,null,null,null,null,{"$f":"Z330","v":0}]
[null,null,null,null,null,null,null,null,null,null,null,null,null,null,null,null,null,null,null,null,null,null,null,null,null,{"$f":"Z331","v":0}]
[null,null,null,null,null,null,null,null,null,null,null,null,null,null,null,null,null,null,null,null,null,null,null,null,null,{"$f":"Z332","v":0}]
[null,null,null,null,null,null,null,null,null,null,null,null,null,null,null,null,null,null,null,null,null,null,null,null,null,{"$f":"Z333","v":0}]
[null,null,null,null,null,null,null,null,null,null,null,null,null,null,null,null,null,null,null,null,null,null,null,null,null,{"$f":"A335","v":0}]
[null,null,null,null,null,null,null,null,null,null,null,null,null,null,null,null,null,null,null,null,null,null,null,null,null,{"$f":"Z335","v":0}]
[null,null,null,null,null,null,null,null,null,null,null,null,null,null,null,null,null,null,null,null,null,null,null,null,null,{"$f":"Z336","v":0}]
[null,null,null,null,null,null,null,null,null,null,null,null,null,null,null,null,null,null,null,null,null,null,null,null,null,{"$f":"Z337","v":0}]
[null,null,null,null,null,null,null,null,null,null,null,null,null,null,null,null,null,null,null,null,null,null,null,null,null,{"$f":"Z338","v":0}]
[null,null,null,null,null,null,null,null,null,null,null,null,null,null,null,null,null,null,null,null,null,null,null,null,null,{"$f":"A340","v":0}]
[null,null,null,null,null,null,null,null,null,null,null,null,null,null,null,null,null,null,null,null,null,null,null,null,null,{"$f":"Z340","v":0}]
[null,null,null,null,null,null,null,null,null,null,null,null,null,null,null,null,null,null,null,null,null,null,null,null,null,{"$f":"Z341","v":0}]
[null,null,null,null,null,null,null,null,null,null,null,null,null,null,null,null,null,null,null,null,null,null,null,null,null,{"$f":"Z342","v":0}]
[null,null,null,null,null,null,null,null,null,null,null,null,null,null,null,null,null,null,null,null,null,null,null,null,null,{"$f":"Z343","v":0}]
[null,null,null,null,null,null,null,null,null,null,null,null,null,null,null,null,null,null,null,null,null,null,null,null,null,{"$f":"A345","v":0}]
[null,null,null,null,null,null,null,null,null,null,null,null,null,null,null,null,null,null,null,null,null,null,null,null,null,{"$f":"Z345","v":0}]
[null,null,null,null,null,null,null,null,null,null,null,null,null,null,null,null,null,null,null,null,null,null,null,null,null,{"$f":"Z346","v":0}]
[null,null,null,null,null,null,null,null,null,null,null,null,null,null,null,null,null,null,null,null,null,null,null,null,null,{"$f":"Z347","v":0}]
[null,null,null,null,null,null,null,null,null,null,null,null,null,null,null,null,null,null,null,null,null,null,null,null,null,{"$f":"Z348","v":0}]
[null,null,null,null,null,null,null,null,null,null,null,null,null,null,null,null,null,null,null,null,null,null,null,null,null,{"$f":"A350","v":0}]
[null,null,null,null,null,null,null,null,null,null,null,null,null,null,null,null,null,null,null,null,null,null,null,null,null,{"$f":"Z350","v":0}]
[null,null,null,null,null,null,null,null,null,null,null,null,null,null,null,null,null,null,null,null,null,null,null,null,null,{"$f":"Z351","v":0}]
[null,null,null,null,null,null,null,null,null,null,null,null,null,null,null,null,null,null,null,null,null,null,null,null,null,{"$f":"Z352","v":0}]
[null,null,null,null,null,null,null,null,null,null,null,null,null,null,null,null,null,null,null,null,null,null,null,null,null,{"$f":"Z353","v":0}]
[null,null,null,null,null,null,null,null,null,null,null,null,null,null,null,null,null,null,null,null,null,null,null,null,null,{"$f":"A355","v":0}]
[null,null,null,null,null,null,null,null,null,null,null,null,null,null,null,null,null,null,null,null,null,null,null,null,null,{"$f":"Z355","v":0}]
[null,null,null,null,null,null,null,null,null,null,null,null,null,null,null,null,null,null,null,null,null,null,null,null,null,{"$f":"Z356","v":0}]
[null,null,null,null,null,null,null,null,null,null,null,null,null,null,null,null,null,null,null,null,null,null,null,null,null,{"$f":"Z357","v":0}]
[null,null,null,null,null,null,null,null,null,null,null,null,null,null,null,null,null,null,null,null,null,null,null,null,null,{"$f":"Z358","v":0}]
[null,null,null,null,null,null,null,null,null,null,null,null,null,null,null,null,null,null,null,null,null,null,null,null,null,{"$f":"A360","v":0}]
[null,null,null,null,null,null,null,null,null,null,null,null,null,null,null,null,null,null,null,null,null,null,null,null,null,{"$f":"Z360","v":0}]
[null,null,null,null,null,null,null,null,null,null,null,null,null,null,null,null,null,null,null,null,null,null,null,null,null,{"$f":"Z361","v":0}]
[null,null,null,null,null,null,null,null,null,null,null,null,null,null,null,null,null,null,null,null,null,null,null,null,null,{"$f":"Z362","v":0}]
[null,null,null,null,null,null,null,null,null,null,null,null,null,null,null,null,null,null,null,null,null,null,null,null,null,{"$f":"Z363","v":0}]
[null,null,null,null,null,null,null,null,null,null,null,null,null,null,null,null,null,null,null,null,null,null,null,null,null,{"$f":"A365","v":0}]
[null,null,null,null,null,null,null,null,null,null,null,null,null,null,null,null,null,null,null,null,null,null,null,null,null,{"$f":"Z365","v":0}]
[null,null,null,null,null,null,null,null,null,null,null,null,null,null,null,null,null,null,null,null,null,null,null,null,null,{"$f":"Z366","v":0}]
[null,null,null,null,null,null,null,null,null,null,null,null,null,null,null,null,null,null,null,null,null,null,null,null,null,{"$f":"Z367","v":0}]
[null,null,null,null,null,null,null,null,null,null,null,null,null,null,null,null,null,null,null,null,null,null,null,null,null,{"$f":"Z368","v":0}]
[null,null,null,null,null,null,null,null,null,null,null,null,null,null,null,null,null,null,null,null,null,null,null,null,null,{"$f":"A370","v":0}]
[null,null,null,null,null,null,null,null,null,null,null,null,null,null,null,null,null,null,null,null,null,null,null,null,null,{"$f":"Z370","v":0}]
[null,null,null,null,null,null,null,null,null,null,null,null,null,null,null,null,null,null,null,null,null,null,null,null,null,{"$f":"Z371","v":0}]
[null,null,null,null,null,null,null,null,null,null,null,null,null,null,null,null,null,null,null,null,null,null,null,null,null,{"$f":"Z372","v":0}]
[null,null,null,null,null,null,null,null,null,null,null,null,null,null,null,null,null,null,null,null,null,null,null,null,null,{"$f":"Z373","v":0}]
[null,null,null,null,null,null,null,null,null,null,null,null,null,null,null,null,null,null,null,null,null,null,null,null,null,{"$f":"A375","v":0}]
[null,null,null,null,null,null,null,null,null,null,null,null,null,null,null,null,null,null,null,null,null,null,null,null,null,{"$f":"Z375","v":0}]
[null,null,null,null,null,null,null,null,null,null,null,null,null,null,null,null,null,null,null,null,null,null,null,null,null,{"$f":"Z376","v":0}]
[null,null,null,null,null,null,null,null,null,null,null,null,null,null,null,null,null,null,null,null,null,null,null,null,null,{"$f":"Z377","v":0}]
[null,null,null,null,null,null,null,null,null,null,null,null,null,null,null,null,null,null,null,null,null,null,null,null,null,{"$f":"Z378","v":0}]
[null,null,null,null,null,null,null,null,null,null,null,null,null,null,null,null,null,null,null,null,null,null,null,null,null,{"$f":"A380","v":0}]
[null,null,null,null,null,null,null,null,null,null,null,null,null,null,null,null,null,null,null,null,null,null,null,null,null,{"$f":"Z380","v":0}]
[null,null,null,null,null,null,null,null,null,null,null,null,null,null,null,null,null,null,null,null,null,null,null,null,null,{"$f":"Z381","v":0}]
[null,null,null,null,null,null,null,null,null,null,null,null,null,null,null,null,null,null,null,null,null,null,null,null,null,{"$f":"Z382","v":0}]
[null,null,null,null,null,null,null,null,null,null,null,null,null,null,null,null,null,null,null,null,null,null,null,null,null,{"$f":"Z383","v":0}]
[null,null,null,null,null,null,null,null,null,null,null,null,null,null,null,null,null,null,null,null,null,null,null,null,null,{"$f":"A385","v":0}]
[null,null,null,null,null,null,null,null,null,null,null,null,null,null,null,null,null,null,null,null,null,null,null,null,null,{"$f":"Z385","v":0}]
[null,null,null,null,null,null,null,null,null,null,null,null,null,null,null,null,null,null,null,null,null,null,null,null,null,{"$f":"Z386","v":0}]
[null,null,null,null,null,null,null,null,null,null,null,null,null,null,null,null,null,null,null,null,null,null,null,null,null,{"$f":"Z387","v":0}]
[null,null,null,null,null,null,null,null,null,null,null,null,null,null,null,null,null,null,null,null,null,null,null,null,null,{"$f":"Z388","v":0}]
[null,null,null,null,null,null,null,null,null,null,null,null,null,null,null,null,null,null,null,null,null,null,null,null,null,{"$f":"A390","v":0}]
[null,null,null,null,null,null,null,null,null,null,null,null,null,null,null,null,null,null,null,null,null,null,null,null,null,{"$f":"Z390","v":0}]
[null,null,null,null,null,null,null,null,null,null,null,null,null,null,null,null,null,null,null,null,null,null,null,null,null,{"$f":"Z391","v":0}]
[null,null,null,null,null,null,null,null,null,null,null,null,null,null,null,null,null,null,null,null,null,null,null,null,null,{"$f":"Z392","v":0}]
[null,null,null,null,null,null,null,null,null,null,null,null,null,null,null,null,null,null,null,null,null,null,null,null,null,{"$f":"Z393","v":0}]
[null,null,null,null,null,null,null,null,null,null,null,null,null,null,null,null,null,null,null,null,null,null,null,null,null,{"$f":"A395","v":0}]
[null,null,null,null,null,null,null,null,null,null,null,null,null,null,null,null,null,null,null,null,null,null,null,null,null,{"$f":"Z395","v":0}]
[null,null,null,null,null,null,null,null,null,null,null,null,null,null,null,null,null,null,null,null,null,null,null,null,null,{"$f":"Z396","v":0}]
[null,null,null,null,null,null,null,null,null,null,null,null,null,null,null,null,null,null,null,null,null,null,null,null,null,{"$f":"Z397","v":0}]
[null,null,null,null,null,null,null,null,null,null,null,null,null,null,null,null,null,null,null,null,null,null,null,null,null,{"$f":"Z398","v":0}]
[null,null,null,null,null,null,null,null,null,null,null,null,null,null,null,null,null,null,null,null,null,null,null,null,null,{"$f":"A400","v":0}]
[null,null,null,null,null,null,null,null,null,null,null,null,null,null,null,null,null,null,null,null,null,null,null,null,null,{"$f":"Z400","v":0}]
[null,null,null,null,null,null,null,null,null,null,null,null,null,null,null,null,null,null,null,null,null,null,null,null,null,{"$f":"Z401","v":0}]
[null,null,null,null,null,null,null,null,null,null,null,null,null,null,null,null,null,null,null,null,null,null,null,null,null,{"$f":"Z402","v":0}]
[null,null,null,null,null,null,null,null,null,null,null,null,null,null,null,null,null,null,null,null,null,null,null,null,null,{"$f":"Z403","v":0}]
[null,null,null,null,null,null,null,null,null,null,null,null,null,null,null,null,null,null,null,null,null,null,null,null,null,{"$f":"A405","v":0}]
[null,null,null,null,null,null,null,null,null,null,null,null,null,null,null,null,null,null,null,null,null,null,null,null,null,{"$f":"Z405","v":0}]
[null,null,null,null,null,null,null,null,null,null,null,null,null,null,null,null,null,null,null,null,null,null,null,null,null,{"$f":"Z406","v":0}]
[null,null,null,null,null,null,null,null,null,null,null,null,null,null,null,null,null,null,null,null,null,null,null,null,null,{"$f":"Z407","v":0}]
[null,null,null,null,null,null,null,null,null,null,null,null,null,null,null,null,null,null,null,null,null,null,null,null,null,{"$f":"Z408","v":0}]
[null,null,null,null,null,null,null,null,null,null,null,null,null,null,null,null,null,null,null,null,null,null,null,null,null,{"$f":"A410","v":0}]
[null,null,null,null,null,null,null,null,null,null,null,null,null,null,null,null,null,null,null,null,null,null,null,null,null,{"$f":"Z410","v":0}]
[null,null,null,null,null,null,null,null,null,null,null,null,null,null,null,null,null,null,null,null,null,null,null,null,null,{"$f":"Z411","v":0}]
[null,null,null,null,null,null,null,null,null,null,null,null,null,null,null,null,null,null,null,null,null,null,null,null,null,{"$f":"Z412","v":0}]
[null,null,null,null,null,null,null,null,null,null,null,null,null,null,null,null,null,null,null,null,null,null,null,null,null,{"$f":"Z413","v":0}]
[null,null,null,null,null,null,null,null,null,null,null,null,null,null,null,null,null,null,null,null,null,null,null,null,null,{"$f":"A415","v":0}]
[null,null,null,null,null,null,null,null,null,null,null,null,null,null,null,null,null,null,null,null,null,null,null,null,null,{"$f":"Z415","v":0}]
[null,null,null,null,null,null,null,null,null,null,null,null,null,null,null,null,null,null,null,null,null,null,null,null,null,{"$f":"Z416","v":0}]
[null,null,null,null,null,null,null,null,null,null,null,null,null,null,null,null,null,null,null,null,null,null,null,null,null,{"$f":"Z417","v":0}]
[null,null,null,null,null,null,null,null,null,null,null,null,null,null,null,null,null,null,null,null,null,null,null,null,null,{"$f":"Z418","v":0}]
[null,null,null,null,null,null,null,null,null,null,null,null,null,null,null,null,null,null,null,null,null,null,null,null,null,{"$f":"A420","v":0}]
[null,null,null,null,null,null,null,null,null,null,null,null,null,null,null,null,null,null,null,null,null,null,null,null,null,{"$f":"Z420","v":0}]
[null,null,null,null,null,null,null,null,null,null,null,null,null,null,null,null,null,null,null,null,null,null,null,null,null,{"$f":"Z421","v":0}]
[null,null,null,null,null,null,null,null,null,null,null,null,null,null,null,null,null,null,null,null,null,null,null,null,null,{"$f":"Z422","v":0}]
[null,null,null,null,null,null,null,null,null,null,null,null,null,null,null,null,null,null,null,null,null,null,null,null,null,{"$f":"Z423","v":0}]
[null,null,null,null,null,null,null,null,null,null,null,null,null,null,null,null,null,null,null,null,null,null,null,null,null,{"$f":"A425","v":0}]
[null,null,null,null,null,null,null,null,null,null,null,null,null,null,null,null,null,null,null,null,null,null,null,null,null,{"$f":"Z425","v":0}]
[null,null,null,null,null,null,null,null,null,null,null,null,null,null,null,null,null,null,null,null,null,null,null,null,null,{"$f":"Z426","v":0}]
[null,null,null,null,null,null,null,null,null,null,null,null,null,null,null,null,null,null,null,null,null,null,null,null,null,{"$f":"Z427","v":0}]
[null,null,null,null,null,null,null,null,null,null,null,null,null,null,null,null,null,null,null,null,null,null,null,null,null,{"$f":"Z428","v":0}]
[null,null,null,null,null,null,null,null,null,null,null,null,null,null,null,null,null,null,null,null,null,null,null,null,null,{"$f":"A430","v":0}]
[null,null,null,null,null,null,null,null,null,null,null,null,null,null,null,null,null,null,null,null,null,null,null,null,null,{"$f":"Z430","v":0}]
[null,null,null,null,null,null,null,null,null,null,null,null,null,null,null,null,null,null,null,null,null,null,null,null,null,{"$f":"Z431","v":0}]
[null,null,null,null,null,null,null,null,null,null,null,null,null,null,null,null,null,null,null,null,null,null,null,null,null,{"$f":"Z432","v":0}]
[null,null,null,null,null,null,null,null,null,null,null,null,null,null,null,null,null,null,null,null,null,null,null,null,null,{"$f":"Z433","v":0}]
[null,null,null,null,null,null,null,null,null,null,null,null,null,null,null,null,null,null,null,null,null,null,null,null,null,{"$f":"A435","v":0}]
[null,null,null,null,null,null,null,null,null,null,null,null,null,null,null,null,null,null,null,null,null,null,null,null,null,{"$f":"Z435","v":0}]
[null,null,null,null,null,null,null,null,null,null,null,null,null,null,null,null,null,null,null,null,null,null,null,null,null,{"$f":"Z436","v":0}]
[null,null,null,null,null,null,null,null,null,null,null,null,null,null,null,null,null,null,null,null,null,null,null,null,null,{"$f":"Z437","v":0}]
[null,null,null,null,null,null,null,null,null,null,null,null,null,null,null,null,null,null,null,null,null,null,null,null,null,{"$f":"Z438","v":0}]
[null,null,null,null,null,null,null,null,null,null,null,null,null,null,null,null,null,null,null,null,null,null,null,null,null,{"$f":"A440","v":0}]
[null,null,null,null,null,null,null,null,null,null,null,null,null,null,null,null,null,null,null,null,null,null,null,null,null,{"$f":"Z440","v":0}]
[null,null,null,null,null,null,null,null,null,null,null,null,null,null,null,null,null,null,null,null,null,null,null,null,null,{"$f":"Z441","v":0}]
[null,null,null,null,null,null,null,null,null,null,null,null,null,null,null,null,null,null,null,null,null,null,null,null,null,{"$f":"Z442","v":0}]
[null,null,null,null,null,null,null,null,null,null,null,null,null,null,null,null,null,null,null,null,null,null,null,null,null,{"$f":"Z443","v":0}]
[null,null,null,null,null,null,null,null,null,null,null,null,null,null,null,null,null,null,null,null,null,null,null,null,null,{"$f":"A445","v":0}]
[null,null,null,null,null,null,null,null,null,null,null,null,null,null,null,null,null,null,null,null,null,null,null,null,null,{"$f":"Z445","v":0}]
[null,null,null,null,null,null,null,null,null,null,null,null,null,null,null,null,null,null,null,null,null,null,null,null,null,{"$f":"Z446","v":0}]
[null,null,null,null,null,null,null,null,null,null,null,null,null,null,null,null,null,null,null,null,null,null,null,null,null,{"$f":"Z447","v":0}]
[null,null,null,null,null,null,null,null,null,null,null,null,null,null,null,null,null,null,null,null,null,null,null,null,null,{"$f":"Z448","v":0}]
[null,null,null,null,null,null,null,null,null,null,null,null,null,null,null,null,null,null,null,null,null,null,null,null,null,{"$f":"A450","v":0}]
[null,null,null,null,null,null,null,null,null,null,null,null,null,null,null,null,null,null,null,null,null,null,null,null,null,{"$f":"Z450","v":0}]
[null,null,null,null,null,null,null,null,null,null,null,null,null,null,null,null,null,null,null,null,null,null,null,null,null,{"$f":"Z451","v":0}]
[null,null,null,null,null,null,null,null,null,null,null,null,null,null,null,null,null,null,null,null,null,null,null,null,null,{"$f":"Z452","v":0}]
[null,null,null,null,null,null,null,null,null,null,null,null,null,null,null,null,null,null,null,null,null,null,null,null,null,{"$f":"Z453","v":0}]
[null,null,null,null,null,null,null,null,null,null,null,null,null,null,null,null,null,null,null,null,null,null,null,null,null,{"$f":"A455","v":0}]
[null,null,null,null,null,null,null,null,null,null,null,null,null,null,null,null,null,null,null,null,null,null,null,null,null,{"$f":"Z455","v":0}]
[null,null,null,null,null,null,null,null,null,null,null,null,null,null,null,null,null,null,null,null,null,null,null,null,null,{"$f":"Z456","v":0}]
[null,null,null,null,null,null,null,null,null,null,null,null,null,null,null,null,null,null,null,null,null,null,null,null,null,{"$f":"Z457","v":0}]
[null,null,null,null,null,null,null,null,null,null,null,null,null,null,null,null,null,null,null,null,null,null,null,null,null,{"$f":"Z458","v":0}]
[null,null,null,null,null,null,null,null,null,null,null,null,null,null,null,null,null,null,null,null,null,null,null,null,null,{"$f":"A460","v":0}]
[null,null,null,null,null,null,null,null,null,null,null,null,null,null,null,null,null,null,null,null,null,null,null,null,null,{"$f":"Z460","v":0}]
[null,null,null,null,null,null,null,null,null,null,null,null,null,null,null,null,null,null,null,null,null,null,null,null,null,{"$f":"Z461","v":0}]
[null,null,null,null,null,null,null,null,null,null,null,null,null,null,null,null,null,null,null,null,null,null,null,null,null,{"$f":"Z462","v":0}]
[null,null,null,null,null,null,null,null,null,null,null,null,null,null,null,null,null,null,null,null,null,null,null,null,null,{"$f":"Z463","v":0}]
[null,null,null,null,null,null,null,null,null,null,null,null,null,null,null,null,null,null,null,null,null,null,null,null,null,{"$f":"A465","v":0}]
[null,null,null,null,null,null,null,null,null,null,null,null,null,null,null,null,null,null,null,null,null,null,null,null,null,{"$f":"Z465","v":0}]
[null,null,null,null,null,null,null,null,null,null,null,null,null,null,null,null,null,null,null,null,null,null,null,null,null,{"$f":"Z466","v":0}]
[null,null,null,null,null,null,null,null,null,null,null,null,null,null,null,null,null,null,null,null,null,null,null,null,null,{"$f":"Z467","v":0}]
[null,null,null,null,null,null,null,null,null,null,null,null,null,null,null,null,null,null,null,null,null,null,null,null,null,{"$f":"Z468","v":0}]
[null,null,null,null,null,null,null,null,null,null,null,null,null,null,null,null,null,null,null,null,null,null,null,null,null,{"$f":"A470","v":0}]
[null,null,null,null,null,null,null,null,null,null,null,null,null,null,null,null,null,null,null,null,null,null,null,null,null,{"$f":"Z470","v":0}]
[null,null,null,null,null,null,null,null,null,null,null,null,null,null,null,null,null,null,null,null,null,null,null,null,null,{"$f":"Z471","v":0}]
[null,null,null,null,null,null,null,null,null,null,null,null,null,null,null,null,null,null,null,null,null,null,null,null,null,{"$f":"Z472","v":0}]
[null,null,null,null,null,null,null,null,null,null,null,null,null,null,null,null,null,null,null,null,null,null,null,null,null,{"$f":"Z473","v":0}]
[null,null,null,null,null,null,null,null,null,null,null,null,null,null,null,null,null,null,null,null,null,null,null,null,null,{"$f":"A475","v":0}]
[null,null,null,null,null,null,null,null,null,null,null,null,null,null,null,null,null,null,null,null,null,null,null,null,null,{"$f":"Z475","v":0}]

{"sheet":"Wytwórcy Surowce","index":24,"n_rows":476,"n_cols":21,"rows_kept":476,"cut":false,"hidden":true,"merged":[[119,1,123,1],[124,1,128,1],[129,1,133,1],[134,1,138,1],[139,1,143,1],[144,1,148,1],[404,1,408,1],[409,1,413,1],[414,1,418,1],[419,1,423,1],[424,1,428,1],[429,1,433,1],[434,1,438,1],[439,1,443,1],[444,1,448,1],[6,1,8,1],[9,1,13,1],[14,1,18,1],[19,1,23,1],[24,1,28,1],[29,1,33,1],[34,1,38,1],[39,1,43,1],[44,1,48,1],[49,1,53,1],[54,1,58,1],[59,1,63,1],[64,1,68,1],[69,1,73,1],[74,1,78,1],[79,1,83,1],[84,1,88,1],[89,1,93,1],[94,1,98,1],[99,1,103,1],[104,1,108,1],[109,1,113,1],[114,1,118,1],[319,1,323,1],[324,1,328,1],[329,1,333,1],[334,1,338,1],[339,1,343,1],[344,1,348,1],[349,1,353,1],[354,1,358,1],[359,1,363,1],[364,1,368,1],[369,1,373,1],[151,1,153,1],[154,1,158,1],[159,1,163,1],[164,1,168,1],[169,1,173,1],[174,1,178,1],[179,1,183,1],[184,1,188,1],[189,1,193,1],[194,1,198,1],[199,1,203,1],[204,1,208,1],[209,1,213,1],[214,1,218,1],[219,1,223,1],[374,1,378,1],[379,1,383,1],[384,1,388,1],[389,1,393,1],[394,1,398,1],[399,1,403,1],[234,1,238,1],[239,1,243,1],[244,1,248,1],[249,1,253,1],[254,1,258,1],[259,1,263,1],[264,1,268,1],[269,1,273,1],[274,1,278,1],[279,1,283,1],[284,1,288,1],[289,1,293,1],[294,1,298,1],[301,1,303,1],[304,1,308,1],[309,1,313,1],[314,1,318,1],[224,1,228,1],[229,1,233,1],[289,2,293,2],[284,2,288,2],[279,2,283,2],[274,2,278,2],[139,3,143,3],[134,3,138,3],[119,3,123,3],[114,3,118,3],[99,3,103,3],[94,3,98,3],[79,3,83,3],[74,3,78,3],[59,3,63,3],[54,3,58,3],[39,3,43,3],[154,2,158,2],[159,2,163,2],[164,2,168,2],[169,2,173,2],[174,2,178,2],[179,2,183,2],[184,2,188,2],[189,2,193,2],[194,2,198,2],[199,2,203,2],[204,2,208,2],[209,2,213,2],[214,2,218,2],[219,2,223,2],[224,2,228,2],[34,3,38,3],[84,0,88,0],[79,0,83,0],[74,0,78,0],[69,0,73,0],[64,0,68,0],[59,0,63,0],[54,0,58,0],[49,0,53,0],[44,0,48,0],[39,0,43,0],[34,0,38,0],[219,0,223,0],[214,0,218,0],[209,0,213,0],[204,0,208,0],[199,0,203,0],[194,0,198,0],[189,0,193,0],[184,0,188,0],[149,0,150,12],[151,0,153,0],[151,3,153,3],[151,4,153,4],[151,5,151,7],[151,12,153,12],[152,5,153,5],[152,6,153,6],[152,7,153,7],[144,11,148,11],[144,12,148,12],[144,9,148,9],[29,0,33,0],[24,0,28,0],[19,0,23,0],[304,9,308,9],[309,9,313,9],[302,8,302,9],[179,0,183,0],[174,0,178,0],[169,0,173,0],[164,0,168,0],[159,0,163,0],[154,0,158,0],[139,0,143,0],[134,0,138,0],[129,0,133,0],[124,0,128,0],[119,0,123,0],[114,0,118,0],[109,0,113,0],[104,0,108,0],[99,0,103,0],[94,0,98,0],[89,0,93,0],[264,0,268,0],[259,0,263,0],[254,0,258,0],[249,0,253,0],[244,0,248,0],[239,0,243,0],[234,0,238,0],[229,0,233,0],[224,0,228,0],[359,0,363,0],[354,0,358,0],[349,0,353,0],[344,0,348,0],[339,0,343,0],[334,0,338,0],[329,0,333,0],[324,0,328,0],[319,0,323,0],[314,0,318,0],[309,0,313,0],[294,0,298,0],[289,0,293,0],[284,0,288,0],[279,0,283,0],[274,0,278,0],[269,0,273,0],[444,0,448,0],[439,0,443,0],[434,0,438,0],[429,0,433,0],[424,0,428,0],[419,0,423,0],[414,0,418,0],[409,0,413,0],[404,0,408,0],[399,0,403,0],[394,0,398,0],[389,0,393,0],[384,0,388,0],[379,0,383,0],[374,0,378,0],[369,0,373,0],[364,0,368,0],[229,2,233,2],[234,2,238,2],[334,3,338,3],[339,3,343,3],[279,3,283,3],[284,3,288,3],[289,3,293,3],[294,3,298,3],[301,3,303,3],[304,3,308,3],[249,3,253,3],[254,3,258,3],[259,3,263,3],[264,3,268,3],[269,3,273,3],[274,3,278,3],[219,3,223,3],[224,3,228,3],[229,3,233,3],[234,3,238,3],[239,3,243,3],[244,3,248,3],[314,3,318,3],[319,3,323,3],[324,3,328,3],[329,3,333,3],[339,2,343,2],[309,2,313,2],[314,2,318,2],[254,2,258,2],[259,2,263,2],[244,2,248,2],[152,8,152,9],[444,11,448,11],[444,12,448,12],[444,8,448,8],[444,10,448,10],[439,12,443,12],[444,4,448,4],[444,5,448,5],[444,6,448,6],[444,7,448,7],[439,8,443,8],[439,10,443,10],[439,11,443,11],[439,4,443,4],[439,5,443,5],[439,6,443,6],[439,7,443,7],[424,11,428,11],[424,12,428,12],[424,8,428,8],[424,10,428,10],[419,12,423,12],[424,4,428,4],[424,5,428,5],[424,6,428,6],[424,7,428,7],[419,8,423,8],[419,10,423,10],[419,11,423,11],[419,4,423,4],[419,5,423,5],[419,6,423,6],[439,3,443,3],[444,3,448,3],[439,2,443,2],[444,2,448,2],[439,9,443,9],[444,9,448,9],[434,11,438,11],[434,12,438,12],[434,8,438,8],[434,10,438,10],[429,12,433,12],[434,4,438,4],[434,5,438,5],[434,6,438,6],[434,7,438,7],[429,8,433,8],[429,10,433,10],[429,11,433,11],[429,4,433,4],[429,5,433,5],[429,6,433,6],[429,7,433,7],[434,3,438,3],[429,3,433,3],[429,2,433,2],[434,2,438,2],[429,9,433,9],[434,9,438,9],[419,7,423,7],[419,3,423,3],[424,3,428,3],[419,2,423,2],[424,2,428,2],[419,9,423,9],[424,9,428,9],[414,11,418,11],[414,12,418,12],[414,8,418,8],[414,10,418,10],[409,12,413,12],[414,4,418,4],[414,5,418,5],[414,6,418,6],[414,7,418,7],[409,8,413,8],[409,10,413,10],[409,11,413,11],[409,4,413,4],[409,5,413,5],[409,6,413,6],[409,7,413,7],[409,3,413,3],[414,3,418,3],[409,2,413,2],[414,2,418,2],[409,9,413,9],[414,9,418,9],[404,12,408,12],[404,8,408,8],[404,10,408,10],[399,12,403,12],[404,4,408,4],[404,5,408,5],[404,6,408,6],[404,7,408,7],[399,8,403,8],[399,10,403,10],[399,11,403,11],[399,4,403,4],[399,5,403,5],[399,6,403,6],[399,7,403,7],[404,3,408,3],[399,3,403,3],[394,12,398,12],[394,8,398,8],[394,10,398,10],[389,12,393,12],[394,4,398,4],[394,5,398,5],[394,6,398,6],[394,7,398,7],[389,8,393,8],[389,10,393,10],[389,11,393,11],[389,4,393,4],[389,5,393,5],[389,6,393,6],[389,7,393,7],[389,3,393,3],[394,3,398,3],[389,9,393,9],[394,9,398,9],[384,5,388,5],[384,6,388,6],[384,7,388,7],[379,8,383,8],[379,10,383,10],[379,11,383,11],[379,4,383,4],[379,5,383,5],[379,6,383,6],[379,7,383,7],[379,3,383,3],[384,3,388,3],[399,2,403,2],[404,2,408,2],[399,9,403,9],[404,9,408,9],[394,11,398,11],[389,2,393,2],[394,2,398,2],[404,11,408,11],[379,2,383,2],[384,2,388,2],[379,9,383,9],[384,9,388,9],[374,12,378,12],[374,8,378,8],[374,10,378,10],[369,12,373,12],[374,4,378,4],[374,5,378,5],[374,6,378,6],[374,7,378,7],[369,8,373,8],[369,10,373,10],[369,11,373,11],[369,4,373,4],[369,5,373,5],[369,6,373,6],[369,7,373,7],[374,3,378,3],[369,3,373,3],[369,2,373,2],[374,2,378,2],[369,9,373,9],[374,9,378,9],[384,11,388,11],[384,12,388,12],[384,8,388,8],[384,10,388,10],[379,12,383,12],[384,4,388,4],[354,2,358,2],[349,9,353,9],[354,9,358,9],[364,11,368,11],[364,12,368,12],[364,8,368,8],[364,10,368,10],[359,12,363,12],[364,4,368,4],[364,5,368,5],[364,6,368,6],[364,7,368,7],[359,8,363,8],[359,10,363,10],[359,11,363,11],[359,4,363,4],[359,5,363,5],[359,6,363,6],[359,7,363,7],[359,3,363,3],[364,3,368,3],[374,11,378,11],[344,3,348,3],[359,2,363,2],[364,2,368,2],[359,9,363,9],[364,9,368,9],[354,11,358,11],[354,12,358,12],[354,8,358,8],[354,10,358,10],[349,12,353,12],[354,4,358,4],[354,5,358,5],[354,6,358,6],[354,7,358,7],[349,8,353,8],[349,10,353,10],[349,11,353,11],[349,4,353,4],[349,5,353,5],[349,6,353,6],[349,7,353,7],[349,3,353,3],[354,3,358,3],[349,2,353,2],[344,2,348,2],[339,9,343,9],[344,9,348,9],[334,11,338,11],[334,12,338,12],[334,8,338,8],[334,10,338,10],[329,12,333,12],[334,4,338,4],[334,5,338,5],[334,6,338,6],[334,7,338,7],[329,8,333,8],[329,10,333,10],[329,11,333,11],[329,4,333,4],[329,5,333,5],[329,6,333,6],[329,7,333,7],[339,8,343,8],[339,10,343,10],[339,11,343,11],[339,4,343,4],[339,5,343,5],[339,6,343,6],[339,7,343,7],[329,2,333,2],[334,2,338,2],[329,9,333,9],[334,9,338,9],[344,11,348,11],[344,12,348,12],[344,8,348,8],[344,10,348,10],[339,12,343,12],[344,4,348,4],[344,5,348,5],[344,6,348,6],[344,7,348,7],[324,8,328,8],[324,10,328,10],[319,12,323,12],[324,4,328,4],[324,5,328,5],[324,6,328,6],[324,7,328,7],[319,8,323,8],[319,10,323,10],[319,11,323,11],[319,4,323,4],[319,5,323,5],[319,6,323,6],[319,7,323,7],[319,2,323,2],[324,2,328,2],[319,9,323,9],[324,9,328,9],[324,11,328,11],[324,12,328,12],[314,11,318,11],[314,12,318,12],[314,8,318,8],[314,10,318,10],[309,12,313,12],[314,4,318,4],[314,5,318,5],[314,6,318,6],[314,7,318,7],[309,8,313,8],[309,10,313,10],[309,11,313,11],[309,4,313,4],[309,5,313,5],[309,6,313,6],[309,7,313,7],[309,3,313,3],[314,9,318,9],[304,10,308,10],[304,11,308,11],[304,12,308,12],[304,0,308,0],[304,4,308,4],[304,5,308,5],[304,6,308,6],[304,7,308,7],[302,6,303,6],[302,7,303,7],[294,10,298,10],[294,11,298,11],[294,12,298,12],[299,0,300,12],[301,0,303,0],[301,4,303,4],[301,5,301,7],[301,12,303,12],[302,5,303,5],[301,11,303,11],[301,2,303,2],[304,2,308,2],[294,2,298,2],[301,8,301,10],[302,10,303,10],[304,8,308,8],[294,4,298,4],[294,5,298,5],[294,6,298,6],[294,7,298,7],[294,9,298,9],[294,8,298,8],[289,9,293,9],[289,8,293,8],[289,10,293,10],[289,11,293,11],[284,8,288,8],[284,9,288,9],[284,10,288,10],[284,11,288,11],[284,12,288,12],[289,4,293,4],[289,5,293,5],[289,6,293,6],[279,10,283,10],[279,11,283,11],[279,12,283,12],[284,4,288,4],[284,5,288,5],[284,6,288,6],[284,7,288,7],[289,7,293,7],[289,12,293,12],[274,12,278,12],[279,4,283,4],[279,5,283,5],[279,6,283,6],[279,7,283,7],[279,8,283,8],[279,9,283,9],[274,9,278,9],[274,8,278,8],[274,10,278,10],[274,11,278,11],[274,4,278,4],[274,5,278,5],[274,6,278,6],[274,7,278,7],[264,2,268,2],[269,2,273,2],[259,12,263,12],[264,4,268,4],[264,5,268,5],[264,6,268,6],[264,7,268,7],[264,9,268,9],[264,8,268,8],[259,9,263,9],[259,8,263,8],[259,10,263,10],[259,11,263,11],[269,8,273,8],[269,10,273,10],[269,11,273,11],[269,12,273,12],[264,10,268,10],[264,11,268,11],[264,12,268,12],[269,4,273,4],[269,5,273,5],[269,6,273,6],[269,7,273,7],[269,9,273,9],[259,4,263,4],[259,5,263,5],[259,6,263,6],[259,7,263,7],[249,5,253,5],[249,6,253,6],[249,7,253,7],[249,9,253,9],[249,8,253,8],[244,9,248,9],[244,8,248,8],[244,10,248,10],[244,11,248,11],[229,4,233,4],[229,5,233,5],[229,6,233,6],[229,7,233,7],[239,8,243,8],[239,10,243,10],[239,11,243,11],[239,12,243,12],[234,10,238,10],[234,11,238,11],[234,12,238,12],[239,4,243,4],[239,5,243,5],[239,6,243,6],[239,7,243,7],[249,2,253,2],[254,8,258,8],[254,9,258,9],[254,10,258,10],[254,11,258,11],[254,12,258,12],[239,2,243,2],[229,12,233,12],[234,4,238,4],[234,5,238,5],[234,6,238,6],[234,7,238,7],[234,9,238,9],[234,8,238,8],[229,9,233,9],[229,8,233,8],[229,10,233,10],[229,11,233,11],[249,10,253,10],[249,11,253,11],[249,12,253,12],[254,4,258,4],[254,5,258,5],[254,6,258,6],[254,7,258,7],[244,4,248,4],[244,5,248,5],[244,6,248,6],[244,7,248,7],[239,9,243,9],[244,12,248,12],[249,4,253,4],[219,10,223,10],[219,11,223,11],[219,12,223,12],[224,4,228,4],[224,5,228,5],[224,6,228,6],[224,7,228,7],[214,12,218,12],[219,4,223,4],[219,5,223,5],[219,6,223,6],[219,7,223,7],[219,9,223,9],[219,8,223,8],[214,9,218,9],[214,8,218,8],[214,10,218,10],[214,11,218,11],[224,8,228,8],[224,9,228,9],[224,10,228,10],[224,11,228,11],[224,12,228,12],[214,3,218,3],[209,11,213,11],[209,12,213,12],[214,4,218,4],[214,5,218,5],[214,6,218,6],[214,7,218,7],[204,10,208,10],[204,11,208,11],[204,12,208,12],[209,4,213,4],[209,5,213,5],[209,6,213,6],[209,7,213,7],[209,9,213,9],[204,3,208,3],[209,3,213,3],[209,8,213,8],[209,10,213,10],[204,4,208,4],[204,5,208,5],[204,6,208,6],[204,7,208,7],[204,9,208,9],[204,8,208,8],[174,3,178,3],[179,3,183,3],[179,8,183,8],[179,9,183,9],[179,10,183,10],[194,3,198,3],[199,3,203,3],[189,11,193,11],[189,12,193,12],[194,4,198,4],[194,5,198,5],[194,6,198,6],[194,7,198,7],[184,12,188,12],[189,4,193,4],[189,5,193,5],[189,6,193,6],[189,7,193,7],[189,9,193,9],[189,8,193,8],[184,9,188,9],[184,8,188,8],[184,10,188,10],[184,11,188,11],[189,3,193,3],[184,3,188,3],[189,10,193,10],[199,12,203,12],[179,11,183,11],[179,12,183,12],[184,4,188,4],[184,5,188,5],[184,6,188,6],[184,7,188,7],[174,10,178,10],[174,11,178,11],[174,12,178,12],[179,4,183,4],[179,5,183,5],[179,6,183,6],[179,7,183,7],[174,4,178,4],[174,5,178,5],[174,6,178,6],[174,7,178,7],[174,9,178,9],[174,8,178,8],[199,9,203,9],[199,8,203,8],[199,10,203,10],[199,11,203,11],[194,8,198,8],[194,9,198,9],[194,10,198,10],[194,11,198,11],[194,12,198,12],[199,4,203,4],[199,5,203,5],[199,6,203,6],[199,7,203,7],[159,5,163,5],[159,6,163,6],[159,7,163,7],[159,9,163,9],[159,8,163,8],[154,9,158,9],[154,8,158,8],[154,10,158,10],[154,11,158,11],[154,4,158,4],[164,12,168,12],[159,10,163,10],[154,5,158,5],[154,6,158,6],[154,7,158,7],[169,4,173,4],[169,5,173,5],[169,6,173,6],[169,7,173,7],[169,9,173,9],[169,8,173,8],[159,3,163,3],[154,3,158,3],[169,12,173,12],[144,8,148,8],[144,10,148,10],[144,0,148,0],[144,3,148,3],[144,4,148,4],[144,5,148,5],[144,6,148,6],[144,7,148,7],[151,8,151,10],[152,10,153,10],[151,11,153,11],[151,2,153,2],[144,2,148,2],[169,10,173,10],[169,11,173,11],[164,8,168,8],[164,10,168,10],[164,11,168,11],[164,3,168,3],[169,3,173,3],[159,11,163,11],[159,12,163,12],[164,4,168,4],[164,5,168,5],[164,6,168,6],[164,7,168,7],[164,9,168,9],[154,12,158,12],[159,4,163,4],[139,8,143,8],[139,9,143,9],[139,10,143,10],[139,4,143,4],[139,5,143,5],[139,6,143,6],[139,7,143,7],[134,11,138,11],[134,12,138,12],[134,9,138,9],[134,8,138,8],[134,10,138,10],[134,4,138,4],[134,5,138,5],[134,6,138,6],[134,7,138,7],[134,2,138,2],[139,2,143,2],[129,11,133,11],[129,12,133,12],[129,9,133,9],[129,8,133,8],[129,10,133,10],[129,3,133,3],[129,4,133,4],[129,5,133,5],[129,6,133,6],[129,7,133,7],[124,11,128,11],[124,12,128,12],[124,9,128,9],[124,8,128,8],[124,10,128,10],[124,3,128,3],[124,4,128,4],[124,5,128,5],[124,6,128,6],[124,7,128,7],[104,11,108,11],[104,12,108,12],[104,9,108,9],[104,8,108,8],[104,10,108,10],[104,3,108,3],[104,4,108,4],[104,5,108,5],[104,6,108,6],[104,7,108,7],[124,2,128,2],[129,2,133,2],[139,11,143,11],[139,12,143,12],[119,8,123,8],[119,9,123,9],[119,10,123,10],[119,4,123,4],[119,5,123,5],[119,6,123,6],[119,7,123,7],[114,11,118,11],[114,12,118,12],[114,9,118,9],[114,8,118,8],[114,10,118,10],[114,4,118,4],[114,5,118,5],[114,6,118,6],[114,7,118,7],[114,2,118,2],[119,2,123,2],[104,2,108,2],[109,2,113,2],[119,11,123,11],[119,12,123,12],[99,8,103,8],[99,9,103,9],[99,10,103,10],[99,4,103,4],[99,5,103,5],[99,6,103,6],[99,7,103,7],[94,11,98,11],[94,12,98,12],[94,9,98,9],[94,8,98,8],[94,10,98,10],[94,4,98,4],[94,5,98,5],[94,6,98,6],[94,7,98,7],[94,2,98,2],[99,2,103,2],[109,11,113,11],[109,12,113,12],[109,9,113,9],[109,8,113,8],[109,10,113,10],[109,3,113,3],[109,4,113,4],[109,5,113,5],[109,6,113,6],[109,7,113,7],[89,11,93,11],[89,12,93,12],[89,9,93,9],[89,8,93,8],[89,10,93,10],[89,3,93,3],[89,4,93,4],[89,5,93,5],[89,6,93,6],[89,7,93,7],[84,11,88,11],[84,12,88,12],[84,9,88,9],[84,8,88,8],[84,10,88,10],[84,3,88,3],[84,4,88,4],[84,5,88,5],[84,6,88,6],[84,7,88,7],[64,11,68,11],[64,12,68,12],[64,9,68,9],[64,8,68,8],[64,10,68,10],[64,3,68,3],[64,4,68,4],[64,5,68,5],[64,6,68,6],[64,7,68,7],[84,2,88,2],[89,2,93,2],[99,11,103,11],[99,12,103,12],[79,8,83,8],[79,9,83,9]],"merged_total":1163,"flags":["merged_cut"]}
[]
[]
[]
[]
["Roczne sprawozdanie z wytwarzania, przetwarzania i przerobu - surowce farmaceutyczne, Substancje Psychotropowe"]
[]
["Nazwa substancji","Wielkość opakowania","Nazwa substancji czynnej","Nazwa czystej postaci substancji czynnej","Stan na dzień 01.01 okresu sprawozdawczego","Przychód w roku sprawozdawczym",null,null,"Sprzedaż",null,null,"Utylizacja","Stan na dzień 31.12 okresu sprawozdawczego"]
[null,null,null,null,null,"Wewnątrzwspólnotowe nabycie/przywóz","Kupione w kraju","Produkcja własna","Sprzedaż",null,"Wewnątrzwspólnotowa dostawa/wywóz"]
[null,null,null,null,null,null,null,null,"Sprzedaż do hurtowni","Inna sprzedaż krajowa"]
[null,null,null,null,null,null,null,null,null,null,null,null,null,null,null,null,null,null,null,null,{"$f":"A10","v":0}]
[null,null,null,null,null,null,null,null,null,null,null,null,null,null,null,null,null,null,null,null,{"$f":"U10","v":0}]
[null,null,null,null,null,null,null,null,null,null,null,null,null,null,null,null,null,null,null,null,{"$f":"U11","v":0}]
[null,null,null,null,null,null,null,null,null,null,null,null,null,null,null,null,null,null,null,null,{"$f":"U12","v":0}]
[null,null,null,null,null,null,null,null,null,null,null,null,null,null,null,null,null,null,null,null,{"$f":"U13","v":0}]
[null,null,null,null,null,null,null,null,null,null,null,null,null,null,null,null,null,null,null,null,{"$f":"A15","v":0}]
[null,null,null,null,null,null,null,null,null,null,null,null,null,null,null,null,null,null,null,null,{"$f":"U15","v":0}]
[null,null,null,null,null,null,null,null,null,null,null,null,null,null,null,null,null,null,null,null,{"$f":"U16","v":0}]
[null,null,null,null,null,null,null,null,null,null,null,null,null,null,null,null,null,null,null,null,{"$f":"U17","v":0}]
[null,null,null,null,null,null,null,null,null,null,null,null,null,null,null,null,null,null,null,null,{"$f":"U18","v":0}]
[null,null,null,null,null,null,null,null,null,null,null,null,null,null,null,null,null,null,null,null,{"$f":"A20","v":0}]
[null,null,null,null,null,null,null,null,null,null,null,null,null,null,null,null,null,null,null,null,{"$f":"U20","v":0}]
[null,null,null,null,null,null,null,null,null,null,null,null,null,null,null,null,null,null,null,null,{"$f":"U21","v":0}]
[null,null,null,null,null,null,null,null,null,null,null,null,null,null,null,null,null,null,null,null,{"$f":"U22","v":0}]
[null,null,null,null,null,null,null,null,null,null,null,null,null,null,null,null,null,null,null,null,{"$f":"U23","v":0}]
[null,null,null,null,null,null,null,null,null,null,null,null,null,null,null,null,null,null,null,null,{"$f":"A25","v":0}]
[null,null,null,null,null,null,null,null,null,null,null,null,null,null,null,null,null,null,null,null,{"$f":"U25","v":0}]
[null,null,null,null,null,null,null,null,null,null,null,null,null,null,null,null,null,null,null,null,{"$f":"U26","v":0}]
[null,null,null,null,null,null,null,null,null,null,null,null,null,null,null,null,null,null,null,null,{"$f":"U27","v":0}]
[null,null,null,null,null,null,null,null,null,null,null,null,null,null,null,null,null,null,null,null,{"$f":"U28","v":0}]
[null,null,null,null,null,null,null,null,null,null,null,null,null,null,null,null,null,null,null,null,{"$f":"A30","v":0}]
[null,null,null,null,null,null,null,null,null,null,null,null,null,null,null,null,null,null,null,null,{"$f":"U30","v":0}]
[null,null,null,null,null,null,null,null,null,null,null,null,null,null,null,null,null,null,null,null,{"$f":"U31","v":0}]
[null,null,null,null,null,null,null,null,null,null,null,null,null,null,null,null,null,null,null,null,{"$f":"U32","v":0}]
[null,null,null,null,null,null,null,null,null,null,null,null,null,null,null,null,null,null,null,null,{"$f":"U33","v":0}]
[null,null,null,null,null,null,null,null,null,null,null,null,null,null,null,null,null,null,null,null,{"$f":"A35","v":0}]
[null,null,null,null,null,null,null,null,null,null,null,null,null,null,null,null,null,null,null,null,{"$f":"U35","v":0}]
[null,null,null,null,null,null,null,null,null,null,null,null,null,null,null,null,null,null,null,null,{"$f":"U36","v":0}]
[null,null,null,null,null,null,null,null,null,null,null,null,null,null,null,null,null,null,null,null,{"$f":"U37","v":0}]
[null,null,null,null,null,null,null,null,null,null,null,null,null,null,null,null,null,null,null,null,{"$f":"U38","v":0}]
[null,null,null,null,null,null,null,null,null,null,null,null,null,null,null,null,null,null,null,null,{"$f":"A40","v":0}]
[null,null,null,null,null,null,null,null,null,null,null,null,null,null,null,null,null,null,null,null,{"$f":"U40","v":0}]
[null,null,null,null,null,null,null,null,null,null,null,null,null,null,null,null,null,null,null,null,{"$f":"U41","v":0}]
[null,null,null,null,null,null,null,null,null,null,null,null,null,null,null,null,null,null,null,null,{"$f":"U42","v":0}]
[null,null,null,null,null,null,null,null,null,null,null,null,null,null,null,null,null,null,null,null,{"$f":"U43","v":0}]
[null,null,null,null,null,null,null,null,null,null,null,null,null,null,null,null,null,null,null,null,{"$f":"A45","v":0}]
[null,null,null,null,null,null,null,null,null,null,null,null,null,null,null,null,null,null,null,null,{"$f":"U45","v":0}]
[null,null,null,null,null,null,null,null,null,null,null,null,null,null,null,null,null,null,null,null,{"$f":"U46","v":0}]
[null,null,null,null,null,null,null,null,null,null,null,null,null,null,null,null,null,null,null,null,{"$f":"U47","v":0}]
[null,null,null,null,null,null,null,null,null,null,null,null,null,null,null,null,null,null,null,null,{"$f":"U48","v":0}]
[null,null,null,null,null,null,null,null,null,null,null,null,null,null,null,null,null,null,null,null,{"$f":"A50","v":0}]
[null,null,null,null,null,null,null,null,null,null,null,null,null,null,null,null,null,null,null,null,{"$f":"U50","v":0}]
[null,null,null,null,null,null,null,null,null,null,null,null,null,null,null,null,null,null,null,null,{"$f":"U51","v":0}]
[null,null,null,null,null,null,null,null,null,null,null,null,null,null,null,null,null,null,null,null,{"$f":"U52","v":0}]
[null,null,null,null,null,null,null,null,null,null,null,null,null,null,null,null,null,null,null,null,{"$f":"U53","v":0}]
[null,null,null,null,null,null,null,null,null,null,null,null,null,null,null,null,null,null,null,null,{"$f":"A55","v":0}]
[null,null,null,null,null,null,null,null,null,null,null,null,null,null,null,null,null,null,null,null,{"$f":"U55","v":0}]
[null,null,null,null,null,null,null,null,null,null,null,null,null,null,null,null,null,null,null,null,{"$f":"U56","v":0}]
[null,null,null,null,null,null,null,null,null,null,null,null,null,null,null,null,null,null,null,null,{"$f":"U57","v":0}]
[null,null,null,null,null,null,null,null,null,null,null,null,null,null,null,null,null,null,null,null,{"$f":"U58","v":0}]
[null,null,null,null,null,null,null,null,null,null,null,null,null,null,null,null,null,null,null,null,{"$f":"A60","v":0}]
[null,null,null,null,null,null,null,null,null,null,null,null,null,null,null,null,null,null,null,null,{"$f":"U60","v":0}]
[null,null,null,null,null,null,null,null,null,null,null,null,null,null,null,null,null,null,null,null,{"$f":"U61","v":0}]
[null,null,null,null,null,null,null,null,null,null,null,null,null,null,null,null,null,null,null,null,{"$f":"U62","v":0}]
[null,null,null,null,null,null,null,null,null,null,null,null,null,null,null,null,null,null,null,null,{"$f":"U63","v":0}]
[null,null,null,null,null,null,null,null,null,null,null,null,null,null,null,null,null,null,null,null,{"$f":"A65","v":0}]
[null,null,null,null,null,null,null,null,null,null,null,null,null,null,null,null,null,null,null,null,{"$f":"U65","v":0}]
[null,null,null,null,null,null,null,null,null,null,null,null,null,null,null,null,null,null,null,null,{"$f":"U66","v":0}]
[null,null,null,null,null,null,null,null,null,null,null,null,null,null,null,null,null,null,null,null,{"$f":"U67","v":0}]
[null,null,null,null,null,null,null,null,null,null,null,null,null,null,null,null,null,null,null,null,{"$f":"U68","v":0}]
[null,null,null,null,null,null,null,null,null,null,null,null,null,null,null,null,null,null,null,null,{"$f":"A70","v":0}]
[null,null,null,null,null,null,null,null,null,null,null,null,null,null,null,null,null,null,null,null,{"$f":"U70","v":0}]
[null,null,null,null,null,null,null,null,null,null,null,null,null,null,null,null,null,null,null,null,{"$f":"U71","v":0}]
[null,null,null,null,null,null,null,null,null,null,null,null,null,null,null,null,null,null,null,null,{"$f":"U72","v":0}]
[null,null,null,null,null,null,null,null,null,null,null,null,null,null,null,null,null,null,null,null,{"$f":"U73","v":0}]
[null,null,null,null,null,null,null,null,null,null,null,null,null,null,null,null,null,null,null,null,{"$f":"A75","v":0}]
[null,null,null,null,null,null,null,null,null,null,null,null,null,null,null,null,null,null,null,null,{"$f":"U75","v":0}]
[null,null,null,null,null,null,null,null,null,null,null,null,null,null,null,null,null,null,null,null,{"$f":"U76","v":0}]
[null,null,null,null,null,null,null,null,null,null,null,null,null,null,null,null,null,null,null,null,{"$f":"U77","v":0}]
[null,null,null,null,null,null,null,null,null,null,null,null,null,null,null,null,null,null,null,null,{"$f":"U78","v":0}]
[null,null,null,null,null,null,null,null,null,null,null,null,null,null,null,null,null,null,null,null,{"$f":"A80","v":0}]
[null,null,null,null,null,null,null,null,null,null,null,null,null,null,null,null,null,null,null,null,{"$f":"U80","v":0}]
[null,null,null,null,null,null,null,null,null,null,null,null,null,null,null,null,null,null,null,null,{"$f":"U81","v":0}]
[null,null,null,null,null,null,null,null,null,null,null,null,null,null,null,null,null,null,null,null,{"$f":"U82","v":0}]
[null,null,null,null,null,null,null,null,null,null,null,null,null,null,null,null,null,null,null,null,{"$f":"U83","v":0}]
[null,null,null,null,null,null,null,null,null,null,null,null,null,null,null,null,null,null,null,null,{"$f":"A85","v":0}]
[null,null,null,null,null,null,null,null,null,null,null,null,null,null,null,null,null,null,null,null,{"$f":"U85","v":0}]
[null,null,null,null,null,null,null,null,null,null,null,null,null,null,null,null,null,null,null,null,{"$f":"U86","v":0}]
[null,null,null,null,null,null,null,null,null,null,null,null,null,null,null,null,null,null,null,null,{"$f":"U87","v":0}]
[null,null,null,null,null,null,null,null,null,null,null,null,null,null,null,null,null,null,null,null,{"$f":"U88","v":0}]
[null,null,null,null,null,null,null,null,null,null,null,null,null,null,null,null,null,null,null,null,{"$f":"A90","v":0}]
[null,null,null,null,null,null,null,null,null,null,null,null,null,null,null,null,null,null,null,null,{"$f":"U90","v":0}]
[null,null,null,null,null,null,null,null,null,null,null,null,null,null,null,null,null,null,null,null,{"$f":"U91","v":0}]
[null,null,null,null,null,null,null,null,null,null,null,null,null,null,null,null,null,null,null,null,{"$f":"U92","v":0}]
[null,null,null,null,null,null,null,null,null,null,null,null,null,null,null,null,null,null,null,null,{"$f":"U93","v":0}]
[null,null,null,null,null,null,null,null,null,null,null,null,null,null,null,null,null,null,null,null,{"$f":"A95","v":0}]
[null,null,null,null,null,null,null,null,null,null,null,null,null,null,null,null,null,null,null,null,{"$f":"U95","v":0}]
[null,null,null,null,null,null,null,null,null,null,null,null,null,null,null,null,null,null,null,null,{"$f":"U96","v":0}]
[null,null,null,null,null,null,null,null,null,null,null,null,null,null,null,null,null,null,null,null,{"$f":"U97","v":0}]
[null,null,null,null,null,null,null,null,null,null,null,null,null,null,null,null,null,null,null,null,{"$f":"U98","v":0}]
[null,null,null,null,null,null,null,null,null,null,null,null,null,null,null,null,null,null,null,null,{"$f":"A100","v":0}]
[null,null,null,null,null,null,null,null,null,null,null,null,null,null,null,null,null,null,null,null,{"$f":"U100","v":0}]
[null,null,null,null,null,null,null,null,null,null,null,null,null,null,null,null,null,null,null,null,{"$f":"U101","v":0}]
[null,null,null,null,null,null,null,null,null,null,null,null,null,null,null,null,null,null,null,null,{"$f":"U102","v":0}]
[null,null,null,null,null,null,null,null,null,null,null,null,null,null,null,null,null,null,null,null,{"$f":"U103","v":0}]
[null,null,null,null,null,null,null,null,null,null,null,null,null,null,null,null,null,null,null,null,{"$f":"A105","v":0}]
[null,null,null,null,null,null,null,null,null,null,null,null,null,null,null,null,null,null,null,null,{"$f":"U105","v":0}]
[null,null,null,null,null,null,null,null,null,null,null,null,null,null,null,null,null,null,null,null,{"$f":"U106","v":0}]
[null,null,null,null,null,null,null,null,null,null,null,null,null,null,null,null,null,null,null,null,{"$f":"U107","v":0}]
[null,null,null,null,null,null,null,null,null,null,null,null,null,null,null,null,null,null,null,null,{"$f":"U108","v":0}]
[null,null,null,null,null,null,null,null,null,null,null,null,null,null,null,null,null,null,null,null,{"$f":"A110","v":0}]
[null,null,null,null,null,null,null,null,null,null,null,null,null,null,null,null,null,null,null,null,{"$f":"U110","v":0}]
[null,null,null,null,null,null,null,null,null,null,null,null,null,null,null,null,null,null,null,null,{"$f":"U111","v":0}]
[null,null,null,null,null,null,null,null,null,null,null,null,null,null,null,null,null,null,null,null,{"$f":"U112","v":0}]
[null,null,null,null,null,null,null,null,null,null,null,null,null,null,null,null,null,null,null,null,{"$f":"U113","v":0}]
[null,null,null,null,null,null,null,null,null,null,null,null,null,null,null,null,null,null,null,null,{"$f":"A115","v":0}]
[null,null,null,null,null,null,null,null,null,null,null,null,null,null,null,null,null,null,null,null,{"$f":"U115","v":0}]
[null,null,null,null,null,null,null,null,null,null,null,null,null,null,null,null,null,null,null,null,{"$f":"U116","v":0}]
[null,null,null,null,null,null,null,null,null,null,null,null,null,null,null,null,null,null,null,null,{"$f":"U117","v":0}]
[null,null,null,null,null,null,null,null,null,null,null,null,null,null,null,null,null,null,null,null,{"$f":"U118","v":0}]
[null,null,null,null,null,null,null,null,null,null,null,null,null,null,null,null,null,null,null,null,{"$f":"A120","v":0}]
[null,null,null,null,null,null,null,null,null,null,null,null,null,null,null,null,null,null,null,null,{"$f":"U120","v":0}]
[null,null,null,null,null,null,null,null,null,null,null,null,null,null,null,null,null,null,null,null,{"$f":"U121","v":0}]
[null,null,null,null,null,null,null,null,null,null,null,null,null,null,null,null,null,null,null,null,{"$f":"U122","v":0}]
[null,null,null,null,null,null,null,null,null,null,null,null,null,null,null,null,null,null,null,null,{"$f":"U123","v":0}]
[null,null,null,null,null,null,null,null,null,null,null,null,null,null,null,null,null,null,null,null,{"$f":"A125","v":0}]
[null,null,null,null,null,null,null,null,null,null,null,null,null,null,null,null,null,null,null,null,{"$f":"U125","v":0}]
[null,null,null,null,null,null,null,null,null,null,null,null,null,null,null,null,null,null,null,null,{"$f":"U126","v":0}]
[null,null,null,null,null,null,null,null,null,null,null,null,null,null,null,null,null,null,null,null,{"$f":"U127","v":0}]
[null,null,null,null,null,null,null,null,null,null,null,null,null,null,null,null,null,null,null,null,{"$f":"U128","v":0}]
[null,null,null,null,null,null,null,null,null,null,null,null,null,null,null,null,null,null,null,null,{"$f":"A130","v":0}]
[null,null,null,null,null,null,null,null,null,null,null,null,null,null,null,null,null,null,null,null,{"$f":"U130","v":0}]
[null,null,null,null,null,null,null,null,null,null,null,null,null,null,null,null,null,null,null,null,{"$f":"U131","v":0}]
[null,null,null,null,null,null,null,null,null,null,null,null,null,null,null,null,null,null,null,null,{"$f":"U132","v":0}]
[null,null,null,null,null,null,null,null,null,null,null,null,null,null,null,null,null,null,null,null,{"$f":"U133","v":0}]
[null,null,null,null,null,null,null,null,null,null,null,null,null,null,null,null,null,null,null,null,{"$f":"A135","v":0}]
[null,null,null,null,null,null,null,null,null,null,null,null,null,null,null,null,null,null,null,null,{"$f":"U135","v":0}]
[null,null,null,null,null,null,null,null,null,null,null,null,null,null,null,null,null,null,null,null,{"$f":"U136","v":0}]
[null,null,null,null,null,null,null,null,null,null,null,null,null,null,null,null,null,null,null,null,{"$f":"U137","v":0}]
[null,null,null,null,null,null,null,null,null,null,null,null,null,null,null,null,null,null,null,null,{"$f":"U138","v":0}]
[null,null,null,null,null,null,null,null,null,null,null,null,null,null,null,null,null,null,null,null,{"$f":"A140","v":0}]
[null,null,null,null,null,null,null,null,null,null,null,null,null,null,null,null,null,null,null,null,{"$f":"U140","v":0}]
[null,null,null,null,null,null,null,null,null,null,null,null,null,null,null,null,null,null,null,null,{"$f":"U141","v":0}]
[null,null,null,null,null,null,null,null,null,null,null,null,null,null,null,null,null,null,null,null,{"$f":"U142","v":0}]
[null,null,null,null,null,null,null,null,null,null,null,null,null,null,null,null,null,null,null,null,{"$f":"U143","v":0}]
[null,null,null,null,null,null,null,null,null,null,null,null,null,null,null,null,null,null,null,null,{"$f":"A145","v":0}]
[null,null,null,null,null,null,null,null,null,null,null,null,null,null,null,null,null,null,null,null,{"$f":"U145","v":0}]
[null,null,null,null,null,null,null,null,null,null,null,null,null,null,null,null,null,null,null,null,{"$f":"U146","v":0}]
[null,null,null,null,null,null,null,null,null,null,null,null,null,null,null,null,null,null,null,null,{"$f":"U147","v":0}]
[null,null,null,null,null,null,null,null,null,null,null,null,null,null,null,null,null,null,null,null,{"$f":"U148","v":0}]
["Roczne sprawozdanie z wytwarzania, przetwarzania i przerobu - surowce farmaceutyczne, Środki Odurzające",null,null,null,null,null,null,null,null,null,null,null,null,null,null,null,null,null,null,null,{"$f":"A150","v":"Roczne sprawozdanie z wytwarzania, przetwarzania i przerobu - surowce farmaceutyczne, Środki Odurzające"}]
[null,null,null,null,null,null,null,null,null,null,null,null,null,null,null,null,null,null,null,null,{"$f":"U150","v":"Roczne sprawozdanie z wytwarzania, przetwarzania i przerobu - surowce farmaceutyczne, Środki Odurzające"}]
["Nazwa surowca","Wielkość opakowania","Nazwa substancji czynnej","Nazwa czystej postaci substancji czynnej","Stan na dzień 01.01 okresu sprawozdawczego","Przychód w roku sprawozdawczym",null,null,"Sprzedaż",null,null,"Utylizacja","Stan na dzień 31.12 okresu sprawozdawczego",null,null,null,null,null,null,null,{"$f":"U151","v":"Roczne sprawozdanie z wytwarzania, przetwarzania i przerobu - surowce farmaceutyczne, Środki Odurzające"}]
[null,null,null,null,null,"Wewnątrzwspólnotowe nabycie/przywóz","Kupione w kraju","Produkcja własna","Sprzedaż krajowa",null,"Wewnątrzwspólnotowa dostawa/wywóz",null,null,null,null,null,null,null,null,null,{"$f":"U152","v":"Roczne sprawozdanie z wytwarzania, przetwarzania i przerobu - surowce farmaceutyczne, Środki Odurzające"}]
[null,null,null,null,null,null,null,null,"Sprzedaż do hurtowni","Inna sprzedaż krajowa",null,null,null,null,null,null,null,null,null,null,{"$f":"U153","v":"Roczne sprawozdanie z wytwarzania, przetwarzania i przerobu - surowce farmaceutyczne, Środki Odurzające"}]
[null,null,null,null,null,null,null,null,null,null,null,null,null,null,null,null,null,null,null,null,{"$f":"A155","v":0}]
[null,null,null,null,null,null,null,null,null,null,null,null,null,null,null,null,null,null,null,null,{"$f":"U155","v":0}]
[null,null,null,null,null,null,null,null,null,null,null,null,null,null,null,null,null,null,null,"Tak",{"$f":"U156","v":0}]
[null,null,null,null,null,null,null,null,null,null,null,null,null,null,null,null,null,null,null,"Nie",{"$f":"U157","v":0}]
[null,null,null,null,null,null,null,null,null,null,null,null,null,null,null,null,null,null,null,null,{"$f":"U158","v":0}]
[null,null,null,null,null,null,null,null,null,null,null,null,null,null,null,null,null,null,null,null,{"$f":"A160","v":0}]
[null,null,null,null,null,null,null,null,null,null,null,null,null,null,null,null,null,null,null,null,{"$f":"U160","v":0}]
[null,null,null,null,null,null,null,null,null,null,null,null,null,null,null,null,null,null,null,null,{"$f":"U161","v":0}]
[null,null,null,null,null,null,null,null,null,null,null,null,null,null,null,null,null,null,null,null,{"$f":"U162","v":0}]
[null,null,null,null,null,null,null,null,null,null,null,null,null,null,null,null,null,null,null,null,{"$f":"U163","v":0}]
[null,null,null,null,null,null,null,null,null,null,null,null,null,null,null,null,null,null,null,null,{"$f":"A165","v":0}]
[null,null,null,null,null,null,null,null,null,null,null,null,null,null,null,null,null,null,null,null,{"$f":"U165","v":0}]
[null,null,null,null,null,null,null,null,null,null,null,null,null,null,null,null,null,null,null,null,{"$f":"U166","v":0}]
[null,null,null,null,null,null,null,null,null,null,null,null,null,null,null,null,null,null,null,null,{"$f":"U167","v":0}]
[null,null,null,null,null,null,null,null,null,null,null,null,null,null,null,null,null,null,null,null,{"$f":"U168","v":0}]
[null,null,null,null,null,null,null,null,null,null,null,null,null,null,null,null,null,null,null,null,{"$f":"A170","v":0}]
[null,null,null,null,null,null,null,null,null,null,null,null,null,null,null,null,null,null,null,null,{"$f":"U170","v":0}]
[null,null,null,null,null,null,null,null,null,null,null,null,null,null,null,null,null,null,null,null,{"$f":"U171","v":0}]
[null,null,null,null,null,null,null,null,null,null,null,null,null,null,null,null,null,null,null,null,{"$f":"U172","v":0}]
[null,null,null,null,null,null,null,null,null,null,null,null,null,null,null,null,null,null,null,null,{"$f":"U173","v":0}]
[null,null,null,null,null,null,null,null,null,null,null,null,null,null,null,null,null,null,null,null,{"$f":"A175","v":0}]
[null,null,null,null,null,null,null,null,null,null,null,null,null,null,null,null,null,null,null,null,{"$f":"U175","v":0}]
[null,null,null,null,null,null,null,null,null,null,null,null,null,null,null,null,null,null,null,null,{"$f":"U176","v":0}]
[null,null,null,null,null,null,null,null,null,null,null,null,null,null,null,null,null,null,null,null,{"$f":"U177","v":0}]
[null,null,null,null,null,null,null,null,null,null,null,null,null,null,null,null,null,null,null,null,{"$f":"U178","v":0}]
[null,null,null,null,null,null,null,null,null,null,null,null,null,null,null,null,null,null,null,null,{"$f":"A180","v":0}]
[null,null,null,null,null,null,null,null,null,null,null,null,null,null,null,null,null,null,null,null,{"$f":"U180","v":0}]
[null,null,null,null,null,null,null,null,null,null,null,null,null,null,null,null,null,null,null,null,{"$f":"U181","v":0}]
[null,null,null,null,null,null,null,null,null,null,null,null,null,null,null,null,null,null,null,null,{"$f":"U182","v":0}]
[null,null,null,null,null,null,null,null,null,null,null,null,null,null,null,null,null,null,null,null,{"$f":"U183","v":0}]
[null,null,null,null,null,null,null,null,null,null,null,null,null,null,null,null,null,null,null,null,{"$f":"A185","v":0}]
[null,null,null,null,null,null,null,null,null,null,null,null,null,null,null,null,null,null,null,null,{"$f":"U185","v":0}]
[null,null,null,null,null,null,null,null,null,null,null,null,null,null,null,null,null,null,null,null,{"$f":"U186","v":0}]
[null,null,null,null,null,null,null,null,null,null,null,null,null,null,null,null,null,null,null,null,{"$f":"U187","v":0}]
[null,null,null,null,null,null,null,null,null,null,null,null,null,null,null,null,null,null,null,null,{"$f":"U188","v":0}]
[null,null,null,null,null,null,null,null,null,null,null,null,null,null,null,null,null,null,null,null,{"$f":"A190","v":0}]
[null,null,null,null,null,null,null,null,null,null,null,null,null,null,null,null,null,null,null,null,{"$f":"U190","v":0}]
[null,null,null,null,null,null,null,null,null,null,null,null,null,null,null,null,null,null,null,null,{"$f":"U191","v":0}]
[null,null,null,null,null,null,null,null,null,null,null,null,null,null,null,null,null,null,null,null,{"$f":"U192","v":0}]
[null,null,null,null,null,null,null,null,null,null,null,null,null,null,null,null,null,null,null,null,{"$f":"U193","v":0}]
[null,null,null,null,null,null,null,null,null,null,null,null,null,null,null,null,null,null,null,null,{"$f":"A195","v":0}]
[null,null,null,null,null,null,null,null,null,null,null,null,null,null,null,null,null,null,null,null,{"$f":"U195","v":0}]
[null,null,null,null,null,null,null,null,null,null,null,null,null,null,null,null,null,null,null,null,{"$f":"U196","v":0}]
[null,null,null,null,null,null,null,null,null,null,null,null,null,null,null,null,null,null,null,null,{"$f":"U197","v":0}]
[null,null,null,null,null,null,null,null,null,null,null,null,null,null,null,null,null,null,null,null,{"$f":"U198","v":0}]
[null,null,null,null,null,null,null,null,null,null,null,null,null,null,null,null,null,null,null,null,{"$f":"A200","v":0}]
[null,null,null,null,null,null,null,null,null,null,null,null,null,null,null,null,null,null,null,null,{"$f":"U200","v":0}]
[null,null,null,null,null,null,null,null,null,null,null,null,null,null,null,null,null,null,null,null,{"$f":"U201","v":0}]
[null,null,null,null,null,null,null,null,null,null,null,null,null,null,null,null,null,null,null,null,{"$f":"U202","v":0}]
[null,null,null,null,null,null,null,null,null,null,null,null,null,null,null,null,null,null,null,null,{"$f":"U203","v":0}]
[null,null,null,null,null,null,null,null,null,null,null,null,null,null,null,null,null,null,null,null,{"$f":"A205","v":0}]
[null,null,null,null,null,null,null,null,null,null,null,null,null,null,null,null,null,null,null,null,{"$f":"U205","v":0}]
[null,null,null,null,null,null,null,null,null,null,null,null,null,null,null,null,null,null,null,null,{"$f":"U206","v":0}]
[null,null,null,null,null,null,null,null,null,null,null,null,null,null,null,null,null,null,null,null,{"$f":"U207","v":0}]
[null,null,null,null,null,null,null,null,null,null,null,null,null,null,null,null,null,null,null,null,{"$f":"U208","v":0}]
[null,null,null,null,null,null,null,null,null,null,null,null,null,null,null,null,null,null,null,null,{"$f":"A210","v":0}]
[null,null,null,null,null,null,null,null,null,null,null,null,null,null,null,null,null,null,null,null,{"$f":"U210","v":0}]
[null,null,null,null,null,null,null,null,null,null,null,null,null,null,null,null,null,null,null,null,{"$f":"U211","v":0}]
[null,null,null,null,null,null,null,null,null,null,null,null,null,null,null,null,null,null,null,null,{"$f":"U212","v":0}]
[null,null,null,null,null,null,null,null,null,null,null,null,null,null,null,null,null,null,null,null,{"$f":"U213","v":0}]
[null,null,null,null,null,null,null,null,null,null,null,null,null,null,null,null,null,null,null,null,{"$f":"A215","v":0}]
[null,null,null,null,null,null,null,null,null,null,null,null,null,null,null,null,null,null,null,null,{"$f":"U215","v":0}]
[null,null,null,null,null,null,null,null,null,null,null,null,null,null,null,null,null,null,null,null,{"$f":"U216","v":0}]
[null,null,null,null,null,null,null,null,null,null,null,null,null,null,null,null,null,null,null,null,{"$f":"U217","v":0}]
[null,null,null,null,null,null,null,null,null,null,null,null,null,null,null,null,null,null,null,null,{"$f":"U218","v":0}]
[null,null,null,null,null,null,null,null,null,null,null,null,null,null,null,null,null,null,null,null,{"$f":"A220","v":0}]
[null,null,null,null,null,null,null,null,null,null,null,null,null,null,null,null,null,null,null,null,{"$f":"U220","v":0}]
[null,null,null,null,null,null,null,null,null,null,null,null,null,null,null,null,null,null,null,null,{"$f":"U221","v":0}]
[null,null,null,null,null,null,null,null,null,null,null,null,null,null,null,null,null,null,null,null,{"$f":"U222","v":0}]
[null,null,null,null,null,null,null,null,null,null,null,null,null,null,null,null,null,null,null,null,{"$f":"U223","v":0}]
[null,null,null,null,null,null,null,null,null,null,null,null,null,null,null,null,null,null,null,null,{"$f":"A225","v":0}]
[null,null,null,null,null,null,null,null,null,null,null,null,null,null,null,null,null,null,null,null,{"$f":"U225","v":0}]
[null,null,null,null,null,null,null,null,null,null,null,null,null,null,null,null,null,null,null,null,{"$f":"U226","v":0}]
[null,null,null,null,null,null,null,null,null,null,null,null,null,null,null,null,null,null,null,null,{"$f":"U227","v":0}]
[null,null,null,null,null,null,null,null,null,null,null,null,null,null,null,null,null,null,null,null,{"$f":"U228","v":0}]
[null,null,null,null,null,null,null,null,null,null,null,null,null,null,null,null,null,null,null,null,{"$f":"A230","v":0}]
[null,null,null,null,null,null,null,null,null,null,null,null,null,null,null,null,null,null,null,null,{"$f":"U230","v":0}]
[null,null,null,null,null,null,null,null,null,null,null,null,null,null,null,null,null,null,null,null,{"$f":"U231","v":0}]
[null,null,null,null,null,null,null,null,null,null,null,null,null,null,null,null,null,null,null,null,{"$f":"U232","v":0}]
[null,null,null,null,null,null,null,null,null,null,null,null,null,null,null,null,null,null,null,null,{"$f":"U233","v":0}]
[null,null,null,null,null,null,null,null,null,null,null,null,null,null,null,null,null,null,null,null,{"$f":"A235","v":0}]
[null,null,null,null,null,null,null,null,null,null,null,null,null,null,null,null,null,null,null,null,{"$f":"U235","v":0}]
[null,null,null,null,null,null,null,null,null,null,null,null,null,null,null,null,null,null,null,null,{"$f":"U236","v":0}]
[null,null,null,null,null,null,null,null,null,null,null,null,null,null,null,null,null,null,null,null,{"$f":"U237","v":0}]
[null,null,null,null,null,null,null,null,null,null,null,null,null,null,null,null,null,null,null,null,{"$f":"U238","v":0}]
[null,null,null,null,null,null,null,null,null,null,null,null,null,null,null,null,null,null,null,null,{"$f":"A240","v":0}]
[null,null,null,null,null,null,null,null,null,null,null,null,null,null,null,null,null,null,null,null,{"$f":"U240","v":0}]
[null,null,null,null,null,null,null,null,null,null,null,null,null,null,null,null,null,null,null,null,{"$f":"U241","v":0}]
[null,null,null,null,null,null,null,null,null,null,null,null,null,null,null,null,null,null,null,null,{"$f":"U242","v":0}]
[null,null,null,null,null,null,null,null,null,null,null,null,null,null,null,null,null,null,null,null,{"$f":"U243","v":0}]
[null,null,null,null,null,null,null,null,null,null,null,null,null,null,null,null,null,null,null,null,{"$f":"A245","v":0}]
[null,null,null,null,null,null,null,null,null,null,null,null,null,null,null,null,null,null,null,null,{"$f":"U245","v":0}]
[null,null,null,null,null,null,null,null,null,null,null,null,null,null,null,null,null,null,null,null,{"$f":"U246","v":0}]
[null,null,null,null,null,null,null,null,null,null,null,null,null,null,null,null,null,null,null,null,{"$f":"U247","v":0}]
[null,null,null,null,null,null,null,null,null,null,null,null,null,null,null,null,null,null,null,null,{"$f":"U248","v":0}]
[null,null,null,null,null,null,null,null,null,null,null,null,null,null,null,null,null,null,null,null,{"$f":"A250","v":0}]
[null,null,null,null,null,null,null,null,null,null,null,null,null,null,null,null,null,null,null,null,{"$f":"U250","v":0}]
[null,null,null,null,null,null,null,null,null,null,null,null,null,null,null,null,null,null,null,null,{"$f":"U251","v":0}]
[null,null,null,null,null,null,null,null,null,null,null,null,null,null,null,null,null,null,null,null,{"$f":"U252","v":0}]
[null,null,null,null,null,null,null,null,null,null,null,null,null,null,null,null,null,null,null,null,{"$f":"U253","v":0}]
[null,null,null,null,null,null,null,null,null,null,null,null,null,null,null,null,null,null,null,null,{"$f":"A255","v":0}]
[null,null,null,null,null,null,null,null,null,null,null,null,null,null,null,null,null,null,null,null,{"$f":"U255","v":0}]
[null,null,null,null,null,null,null,null,null,null,null,null,null,null,null,null,null,null,null,null,{"$f":"U256","v":0}]
[null,null,null,null,null,null,null,null,null,null,null,null,null,null,null,null,null,null,null,null,{"$f":"U257","v":0}]
[null,null,null,null,null,null,null,null,null,null,null,null,null,null,null,null,null,null,null,null,{"$f":"U258","v":0}]
[null,null,null,null,null,null,null,null,null,null,null,null,null,null,null,null,null,null,null,null,{"$f":"A260","v":0}]
[null,null,null,null,null,null,null,null,null,null,null,null,null,null,null,null,null,null,null,null,{"$f":"U260","v":0}]
[null,null,null,null,null,null,null,null,null,null,null,null,null,null,null,null,null,null,null,null,{"$f":"U261","v":0}]
[null,null,null,null,null,null,null,null,null,null,null,null,null,null,null,null,null,null,null,null,{"$f":"U262","v":0}]
[null,null,null,null,null,null,null,null,null,null,null,null,null,null,null,null,null,null,null,null,{"$f":"U263","v":0}]
[null,null,null,null,null,null,null,null,null,null,null,null,null,null,null,null,null,null,null,null,{"$f":"A265","v":0}]
[null,null,null,null,null,null,null,null,null,null,null,null,null,null,null,null,null,null,null,null,{"$f":"U265","v":0}]
[null,null,null,null,null,null,null,null,null,null,null,null,null,null,null,null,null,null,null,null,{"$f":"U266","v":0}]
[null,null,null,null,null,null,null,null,null,null,null,null,null,null,null,null,null,null,null,null,{"$f":"U267","v":0}]
[null,null,null,null,null,null,null,null,null,null,null,null,null,null,null,null,null,null,null,null,{"$f":"U268","v":0}]
[null,null,null,null,null,null,null,null,null,null,null,null,null,null,null,null,null,null,null,null,{"$f":"A270","v":0}]
[null,null,null,null,null,null,null,null,null,null,null,null,null,null,null,null,null,null,null,null,{"$f":"U270","v":0}]
[null,null,null,null,null,null,null,null,null,null,null,null,null,null,null,null,null,null,null,null,{"$f":"U271","v":0}]
[null,null,null,null,null,null,null,null,null,null,null,null,null,null,null,null,null,null,null,null,{"$f":"U272","v":0}]
[null,null,null,null,null,null,null,null,null,null,null,null,null,null,null,null,null,null,null,null,{"$f":"U273","v":0}]
[null,null,null,null,null,null,null,null,null,null,null,null,null,null,null,null,null,null,null,null,{"$f":"A275","v":0}]
[null,null,null,null,null,null,null,null,null,null,null,null,null,null,null,null,null,null,null,null,{"$f":"U275","v":0}]
[null,null,null,null,null,null,null,null,null,null,null,null,null,null,null,null,null,null,null,null,{"$f":"U276","v":0}]
[null,null,null,null,null,null,null,null,null,null,null,null,null,null,null,null,null,null,null,null,{"$f":"U277","v":0}]
[null,null,null,null,null,null,null,null,null,null,null,null,null,null,null,null,null,null,null,null,{"$f":"U278","v":0}]
[null,null,null,null,null,null,null,null,null,null,null,null,null,null,null,null,null,null,null,null,{"$f":"A280","v":0}]
[null,null,null,null,null,null,null,null,null,null,null,null,null,null,null,null,null,null,null,null,{"$f":"U280","v":0}]
[null,null,null,null,null,null,null,null,null,null,null,null,null,null,null,null,null,null,null,null,{"$f":"U281","v":0}]
[null,null,null,null,null,null,null,null,null,null,null,null,null,null,null,null,null,null,null,null,{"$f":"U282","v":0}]
[null,null,null,null,null,null,null,null,null,null,null,null,null,null,null,null,null,null,null,null,{"$f":"U283","v":0}]
[null,null,null,null,null,null,null,null,null,null,null,null,null,null,null,null,null,null,null,null,{"$f":"A285","v":0}]
[null,null,null,null,null,null,null,null,null,null,null,null,null,null,null,null,null,null,null,null,{"$f":"U285","v":0}]
[null,null,null,null,null,null,null,null,null,null,null,null,null,null,null,null,null,null,null,null,{"$f":"U286","v":0}]
[null,null,null,null,null,null,null,null,null,null,null,null,null,null,null,null,null,null,null,null,{"$f":"U287","v":0}]
[null,null,null,null,null,null,null,null,null,null,null,null,null,null,null,null,null,null,null,null,{"$f":"U288","v":0}]
[null,null,null,null,null,null,null,null,null,null,null,null,null,null,null,null,null,null,null,null,{"$f":"A290","v":0}]
[null,null,null,null,null,null,null,null,null,null,null,null,null,null,null,null,null,null,null,null,{"$f":"U290","v":0}]
[null,null,null,null,null,null,null,null,null,null,null,null,null,null,null,null,null,null,null,null,{"$f":"U291","v":0}]
[null,null,null,null,null,null,null,null,null,null,null,null,null,null,null,null,null,null,null,null,{"$f":"U292","v":0}]
[null,null,null,null,null,null,null,null,null,null,null,null,null,null,null,null,null,null,null,null,{"$f":"U293","v":0}]
[null,null,null,null,null,null,null,null,null,null,null,null,null,null,null,null,null,null,null,null,{"$f":"A295","v":0}]
[null,null,null,null,null,null,null,null,null,null,null,null,null,null,null,null,null,null,null,null,{"$f":"U295","v":0}]
[null,null,null,null,null,null,null,null,null,null,null,null,null,null,null,null,null,null,null,null,{"$f":"U296","v":0}]
[null,null,null,null,null,null,null,null,null,null,null,null,null,null,null,null,null,null,null,null,{"$f":"U297","v":0}]
[null,null,null,null,null,null,null,null,null,null,null,null,null,null,null,null,null,null,null,null,{"$f":"U298","v":0}]
["Roczne sprawozdanie z wytwarzania, przetwarzania i przerobu - surowce farmaceutyczne, Prekursory kat. 1",null,null,null,null,null,null,null,null,null,null,null,null,null,null,null,null,null,null,null,{"$f":"A300","v":"Roczne sprawozdanie z wytwarzania, przetwarzania i przerobu - surowce farmaceutyczne, Prekursory kat. 1"}]
[null,null,null,null,null,null,null,null,null,null,null,null,null,null,null,null,null,null,null,null,{"$f":"U300","v":"Roczne sprawozdanie z wytwarzania, przetwarzania i przerobu - surowce farmaceutyczne, Prekursory kat. 1"}]
["Nazwa surowca farmaceutycznego","Wielkość opakowania","Nazwa substancji czynnej","Nazwa czystej postaci substancji czynnej","Stan na dzień 01.01 okresu sprawozdawczego","Przychód w roku sprawozdawczym",null,null,"Sprzedaż",null,null,"Utylizacja","Stan na dzień 31.12 okresu sprawozdawczego",null,null,null,null,null,null,null,{"$f":"U301","v":"Roczne sprawozdanie z wytwarzania, przetwarzania i przerobu - surowce farmaceutyczne, Prekursory kat. 1"}]
[null,null,null,null,null,"Wewnątrzwspólnotowe nabycie/przywóz","Kupione w kraju","Produkcja własna","Sprzedaż krajowa",null,"Wewnątrzwspólnotowa dostawa/wywóz",null,null,null,null,null,null,null,null,null,{"$f":"U302","v":"Roczne sprawozdanie z wytwarzania, przetwarzania i przerobu - surowce farmaceutyczne, Prekursory kat. 1"}]
[null,null,null,null,null,null,null,null,"Sprzedaż do hurtowni","Inna sprzedaż krajowa",null,null,null,null,null,null,null,null,null,null,{"$f":"U303","v":"Roczne sprawozdanie z wytwarzania, przetwarzania i przerobu - surowce farmaceutyczne, Prekursory kat. 1"}]
[null,null,null,null,null,null,null,null,null,null,null,null,null,null,null,null,null,null,null,null,{"$f":"A305","v":0}]
[null,null,null,null,null,null,null,null,null,null,null,null,null,null,null,null,null,null,null,null,{"$f":"U305","v":0}]
[null,null,null,null,null,null,null,null,null,null,null,null,null,null,null,null,null,null,null,null,{"$f":"U306","v":0}]
[null,null,null,null,null,null,null,null,null,null,null,null,null,null,null,null,null,null,null,null,{"$f":"U307","v":0}]
[null,null,null,null,null,null,null,null,null,null,null,null,null,null,null,null,null,null,null,null,{"$f":"U308","v":0}]
[null,null,null,null,null,null,null,null,null,null,null,null,null,null,null,null,null,null,null,null,{"$f":"A310","v":0}]
[null,null,null,null,null,null,null,null,null,null,null,null,null,null,null,null,null,null,null,null,{"$f":"U310","v":0}]
[null,null,null,null,null,null,null,null,null,null,null,null,null,null,null,null,null,null,null,null,{"$f":"U311","v":0}]
[null,null,null,null,null,null,null,null,null,null,null,null,null,null,null,null,null,null,null,null,{"$f":"U312","v":0}]
[null,null,null,null,null,null,null,null,null,null,null,null,null,null,null,null,null,null,null,null,{"$f":"U313","v":0}]
[null,null,null,null,null,null,null,null,null,null,null,null,null,null,null,null,null,null,null,null,{"$f":"A315","v":0}]
[null,null,null,null,null,null,null,null,null,null,null,null,null,null,null,null,null,null,null,null,{"$f":"U315","v":0}]
[null,null,null,null,null,null,null,null,null,null,null,null,null,null,null,null,null,null,null,null,{"$f":"U316","v":0}]
[null,null,null,null,null,null,null,null,null,null,null,null,null,null,null,null,null,null,null,null,{"$f":"U317","v":0}]
[null,null,null,null,null,null,null,null,null,null,null,null,null,null,null,null,null,null,null,null,{"$f":"U318","v":0}]
[null,null,null,null,null,null,null,null,null,null,null,null,null,null,null,null,null,null,null,null,{"$f":"A320","v":0}]
[null,null,null,null,null,null,null,null,null,null,null,null,null,null,null,null,null,null,null,null,{"$f":"U320","v":0}]
[null,null,null,null,null,null,null,null,null,null,null,null,null,null,null,null,null,null,null,null,{"$f":"U321","v":0}]
[null,null,null,null,null,null,null,null,null,null,null,null,null,null,null,null,null,null,null,null,{"$f":"U322","v":0}]
[null,null,null,null,null,null,null,null,null,null,null,null,null,null,null,null,null,null,null,null,{"$f":"U323","v":0}]
[null,null,null,null,null,null,null,null,null,null,null,null,null,null,null,null,null,null,null,null,{"$f":"A325","v":0}]
[null,null,null,null,null,null,null,null,null,null,null,null,null,null,null,null,null,null,null,null,{"$f":"U325","v":0}]
[null,null,null,null,null,null,null,null,null,null,null,null,null,null,null,null,null,null,null,null,{"$f":"U326","v":0}]
[null,null,null,null,null,null,null,null,null,null,null,null,null,null,null,null,null,null,null,null,{"$f":"U327","v":0}]
[null,null,null,null,null,null,null,null,null,null,null,null,null,null,null,null,null,null,null,null,{"$f":"U328","v":0}]
[null,null,null,null,null,null,null,null,null,null,null,null,null,null,null,null,null,null,null,null,{"$f":"A330","v":0}]
[null,null,null,null,null,null,null,null,null,null,null,null,null,null,null,null,null,null,null,null,{"$f":"U330","v":0}]
[null,null,null,null,null,null,null,null,null,null,null,null,null,null,null,null,null,null,null,null,{"$f":"U331","v":0}]
[null,null,null,null,null,null,null,null,null,null,null,null,null,null,null,null,null,null,null,null,{"$f":"U332","v":0}]
[null,null,null,null,null,null,null,null,null,null,null,null,null,null,null,null,null,null,null,null,{"$f":"U333","v":0}]
[null,null,null,null,null,null,null,null,null,null,null,null,null,null,null,null,null,null,null,null,{"$f":"A335","v":0}]
[null,null,null,null,null,null,null,null,null,null,null,null,null,null,null,null,null,null,null,null,{"$f":"U335","v":0}]
[null,null,null,null,null,null,null,null,null,null,null,null,null,null,null,null,null,null,null,null,{"$f":"U336","v":0}]
[null,null,null,null,null,null,null,null,null,null,null,null,null,null,null,null,null,null,null,null,{"$f":"U337","v":0}]
[null,null,null,null,null,null,null,null,null,null,null,null,null,null,null,null,null,null,null,null,{"$f":"U338","v":0}]
[null,null,null,null,null,null,null,null,null,null,null,null,null,null,null,null,null,null,null,null,{"$f":"A340","v":0}]
[null,null,null,null,null,null,null,null,null,null,null,null,null,null,null,null,null,null,null,null,{"$f":"U340","v":0}]
[null,null,null,null,null,null,null,null,null,null,null,null,null,null,null,null,null,null,null,null,{"$f":"U341","v":0}]
[null,null,null,null,null,null,null,null,null,null,null,null,null,null,null,null,null,null,null,null,{"$f":"U342","v":0}]
[null,null,null,null,null,null,null,null,null,null,null,null,null,null,null,null,null,null,null,null,{"$f":"U343","v":0}]
[null,null,null,null,null,null,null,null,null,null,null,null,null,null,null,null,null,null,null,null,{"$f":"A345","v":0}]
[null,null,null,null,null,null,null,null,null,null,null,null,null,null,null,null,null,null,null,null,{"$f":"U345","v":0}]
[null,null,null,null,null,null,null,null,null,null,null,null,null,null,null,null,null,null,null,null,{"$f":"U346","v":0}]
[null,null,null,null,null,null,null,null,null,null,null,null,null,null,null,null,null,null,null,null,{"$f":"U347","v":0}]
[null,null,null,null,null,null,null,null,null,null,null,null,null,null,null,null,null,null,null,null,{"$f":"U348","v":0}]
[null,null,null,null,null,null,null,null,null,null,null,null,null,null,null,null,null,null,null,null,{"$f":"A350","v":0}]
[null,null,null,null,null,null,null,null,null,null,null,null,null,null,null,null,null,null,null,null,{"$f":"U350","v":0}]
[null,null,null,null,null,null,null,null,null,null,null,null,null,null,null,null,null,null,null,null,{"$f":"U351","v":0}]
[null,null,null,null,null,null,null,null,null,null,null,null,null,null,null,null,null,null,null,null,{"$f":"U352","v":0}]
[null,null,null,null,null,null,null,null,null,null,null,null,null,null,null,null,null,null,null,null,{"$f":"U353","v":0}]
[null,null,null,null,null,null,null,null,null,null,null,null,null,null,null,null,null,null,null,null,{"$f":"A355","v":0}]
[null,null,null,null,null,null,null,null,null,null,null,null,null,null,null,null,null,null,null,null,{"$f":"U355","v":0}]
[null,null,null,null,null,null,null,null,null,null,null,null,null,null,null,null,null,null,null,null,{"$f":"U356","v":0}]
[null,null,null,null,null,null,null,null,null,null,null,null,null,null,null,null,null,null,null,null,{"$f":"U357","v":0}]
[null,null,null,null,null,null,null,null,null,null,null,null,null,null,null,null,null,null,null,null,{"$f":"U358","v":0}]
[null,null,null,null,null,null,null,null,null,null,null,null,null,null,null,null,null,null,null,null,{"$f":"A360","v":0}]
[null,null,null,null,null,null,null,null,null,null,null,null,null,null,null,null,null,null,null,null,{"$f":"U360","v":0}]
[null,null,null,null,null,null,null,null,null,null,null,null,null,null,null,null,null,null,null,null,{"$f":"U361","v":0}]
[null,null,null,null,null,null,null,null,null,null,null,null,null,null,null,null,null,null,null,null,{"$f":"U362","v":0}]
[null,null,null,null,null,null,null,null,null,null,null,null,null,null,null,null,null,null,null,null,{"$f":"U363","v":0}]
[null,null,null,null,null,null,null,null,null,null,null,null,null,null,null,null,null,null,null,null,{"$f":"A365","v":0}]
[null,null,null,null,null,null,null,null,null,null,null,null,null,null,null,null,null,null,null,null,{"$f":"U365","v":0}]
[null,null,null,null,null,null,null,null,null,null,null,null,null,null,null,null,null,null,null,null,{"$f":"U366","v":0}]
[null,null,null,null,null,null,null,null,null,null,null,null,null,null,null,null,null,null,null,null,{"$f":"U367","v":0}]
[null,null,null,null,null,null,null,null,null,null,null,null,null,null,null,null,null,null,null,null,{"$f":"U368","v":0}]
[null,null,null,null,null,null,null,null,null,null,null,null,null,null,null,null,null,null,null,null,{"$f":"A370","v":0}]
[null,null,null,null,null,null,null,null,null,null,null,null,null,null,null,null,null,null,null,null,{"$f":"U370","v":0}]
[null,null,null,null,null,null,null,null,null,null,null,null,null,null,null,null,null,null,null,null,{"$f":"U371","v":0}]
[null,null,null,null,null,null,null,null,null,null,null,null,null,null,null,null,null,null,null,null,{"$f":"U372","v":0}]
[null,null,null,null,null,null,null,null,null,null,null,null,null,null,null,null,null,null,null,null,{"$f":"U373","v":0}]
[null,null,null,null,null,null,null,null,null,null,null,null,null,null,null,null,null,null,null,null,{"$f":"A375","v":0}]
[null,null,null,null,null,null,null,null,null,null,null,null,null,null,null,null,null,null,null,null,{"$f":"U375","v":0}]
[null,null,null,null,null,null,null,null,null,null,null,null,null,null,null,null,null,null,null,null,{"$f":"U376","v":0}]
[null,null,null,null,null,null,null,null,null,null,null,null,null,null,null,null,null,null,null,null,{"$f":"U377","v":0}]
[null,null,null,null,null,null,null,null,null,null,null,null,null,null,null,null,null,null,null,null,{"$f":"U378","v":0}]
[null,null,null,null,null,null,null,null,null,null,null,null,null,null,null,null,null,null,null,null,{"$f":"A380","v":0}]
[null,null,null,null,null,null,null,null,null,null,null,null,null,null,null,null,null,null,null,null,{"$f":"U380","v":0}]
[null,null,null,null,null,null,null,null,null,null,null,null,null,null,null,null,null,null,null,null,{"$f":"U381","v":0}]
[null,null,null,null,null,null,null,null,null,null,null,null,null,null,null,null,null,null,null,null,{"$f":"U382","v":0}]
[null,null,null,null,null,null,null,null,null,null,null,null,null,null,null,null,null,null,null,null,{"$f":"U383","v":0}]
[null,null,null,null,null,null,null,null,null,null,null,null,null,null,null,null,null,null,null,null,{"$f":"A385","v":0}]
[null,null,null,null,null,null,null,null,null,null,null,null,null,null,null,null,null,null,null,null,{"$f":"U385","v":0}]
[null,null,null,null,null,null,null,null,null,null,null,null,null,null,null,null,null,null,null,null,{"$f":"U386","v":0}]
[null,null,null,null,null,null,null,null,null,null,null,null,null,null,null,null,null,null,null,null,{"$f":"U387","v":0}]
[null,null,null,null,null,null,null,null,null,null,null,null,null,null,null,null,null,null,null,null,{"$f":"U388","v":0}]
[null,null,null,null,null,null,null,null,null,null,null,null,null,null,null,null,null,null,null,null,{"$f":"A390","v":0}]
[null,null,null,null,null,null,null,null,null,null,null,null,null,null,null,null,null,null,null,null,{"$f":"U390","v":0}]
[null,null,null,null,null,null,null,null,null,null,null,null,null,null,null,null,null,null,null,null,{"$f":"U391","v":0}]
[null,null,null,null,null,null,null,null,null,null,null,null,null,null,null,null,null,null,null,null,{"$f":"U392","v":0}]
[null,null,null,null,null,null,null,null,null,null,null,null,null,null,null,null,null,null,null,null,{"$f":"U393","v":0}]
[null,null,null,null,null,null,null,null,null,null,null,null,null,null,null,null,null,null,null,null,{"$f":"A395","v":0}]
[null,null,null,null,null,null,null,null,null,null,null,null,null,null,null,null,null,null,null,null,{"$f":"U395","v":0}]
[null,null,null,null,null,null,null,null,null,null,null,null,null,null,null,null,null,null,null,null,{"$f":"U396","v":0}]
[null,null,null,null,null,null,null,null,null,null,null,null,null,null,null,null,null,null,null,null,{"$f":"U397","v":0}]
[null,null,null,null,null,null,null,null,null,null,null,null,null,null,null,null,null,null,null,null,{"$f":"U398","v":0}]
[null,null,null,null,null,null,null,null,null,null,null,null,null,null,null,null,null,null,null,null,{"$f":"A400","v":0}]
[null,null,null,null,null,null,null,null,null,null,null,null,null,null,null,null,null,null,null,null,{"$f":"U400","v":0}]
[null,null,null,null,null,null,null,null,null,null,null,null,null,null,null,null,null,null,null,null,{"$f":"U401","v":0}]
[null,null,null,null,null,null,null,null,null,null,null,null,null,null,null,null,null,null,null,null,{"$f":"U402","v":0}]
[null,null,null,null,null,null,null,null,null,null,null,null,null,null,null,null,null,null,null,null,{"$f":"U403","v":0}]
[null,null,null,null,null,null,null,null,null,null,null,null,null,null,null,null,null,null,null,null,{"$f":"A405","v":0}]
[null,null,null,null,null,null,null,null,null,null,null,null,null,null,null,null,null,null,null,null,{"$f":"U405","v":0}]
[null,null,null,null,null,null,null,null,null,null,null,null,null,null,null,null,null,null,null,null,{"$f":"U406","v":0}]
[null,null,null,null,null,null,null,null,null,null,null,null,null,null,null,null,null,null,null,null,{"$f":"U407","v":0}]
[null,null,null,null,null,null,null,null,null,null,null,null,null,null,null,null,null,null,null,null,{"$f":"U408","v":0}]
[null,null,null,null,null,null,null,null,null,null,null,null,null,null,null,null,null,null,null,null,{"$f":"A410","v":0}]
[null,null,null,null,null,null,null,null,null,null,null,null,null,null,null,null,null,null,null,null,{"$f":"U410","v":0}]
[null,null,null,null,null,null,null,null,null,null,null,null,null,null,null,null,null,null,null,null,{"$f":"U411","v":0}]
[null,null,null,null,null,null,null,null,null,null,null,null,null,null,null,null,null,null,null,null,{"$f":"U412","v":0}]
[null,null,null,null,null,null,null,null,null,null,null,null,null,null,null,null,null,null,null,null,{"$f":"U413","v":0}]
[null,null,null,null,null,null,null,null,null,null,null,null,null,null,null,null,null,null,null,null,{"$f":"A415","v":0}]
[null,null,null,null,null,null,null,null,null,null,null,null,null,null,null,null,null,null,null,null,{"$f":"U415","v":0}]
[null,null,null,null,null,null,null,null,null,null,null,null,null,null,null,null,null,null,null,null,{"$f":"U416","v":0}]
[null,null,null,null,null,null,null,null,null,null,null,null,null,null,null,null,null,null,null,null,{"$f":"U417","v":0}]
[null,null,null,null,null,null,null,null,null,null,null,null,null,null,null,null,null,null,null,null,{"$f":"U418","v":0}]
[null,null,null,null,null,null,null,null,null,null,null,null,null,null,null,null,null,null,null,null,{"$f":"A420","v":0}]
[null,null,null,null,null,null,null,null,null,null,null,null,null,null,null,null,null,null,null,null,{"$f":"U420","v":0}]
[null,null,null,null,null,null,null,null,null,null,null,null,null,null,null,null,null,null,null,null,{"$f":"U421","v":0}]
[null,null,null,null,null,null,null,null,null,null,null,null,null,null,null,null,null,null,null,null,{"$f":"U422","v":0}]
[null,null,null,null,null,null,null,null,null,null,null,null,null,null,null,null,null,null,null,null,{"$f":"U423","v":0}]
[null,null,null,null,null,null,null,null,null,null,null,null,null,null,null,null,null,null,null,null,{"$f":"A425","v":0}]
[null,null,null,null,null,null,null,null,null,null,null,null,null,null,null,null,null,null,null,null,{"$f":"U425","v":0}]
[null,null,null,null,null,null,null,null,null,null,null,null,null,null,null,null,null,null,null,null,{"$f":"U426","v":0}]
[null,null,null,null,null,null,null,null,null,null,null,null,null,null,null,null,null,null,null,null,{"$f":"U427","v":0}]
[null,null,null,null,null,null,null,null,null,null,null,null,null,null,null,null,null,null,null,null,{"$f":"U428","v":0}]
[null,null,null,null,null,null,null,null,null,null,null,null,null,null,null,null,null,null,null,null,{"$f":"A430","v":0}]
[null,null,null,null,null,null,null,null,null,null,null,null,null,null,null,null,null,null,null,null,{"$f":"U430","v":0}]
[null,null,null,null,null,null,null,null,null,null,null,null,null,null,null,null,null,null,null,null,{"$f":"U431","v":0}]
[null,null,null,null,null,null,null,null,null,null,null,null,null,null,null,null,null,null,null,null,{"$f":"U432","v":0}]
[null,null,null,null,null,null,null,null,null,null,null,null,null,null,null,null,null,null,null,null,{"$f":"U433","v":0}]
[null,null,null,null,null,null,null,null,null,null,null,null,null,null,null,null,null,null,null,null,{"$f":"A435","v":0}]
[null,null,null,null,null,null,null,null,null,null,null,null,null,null,null,null,null,null,null,null,{"$f":"U435","v":0}]
[null,null,null,null,null,null,null,null,null,null,null,null,null,null,null,null,null,null,null,null,{"$f":"U436","v":0}]
[null,null,null,null,null,null,null,null,null,null,null,null,null,null,null,null,null,null,null,null,{"$f":"U437","v":0}]
[null,null,null,null,null,null,null,null,null,null,null,null,null,null,null,null,null,null,null,null,{"$f":"U438","v":0}]
[null,null,null,null,null,null,null,null,null,null,null,null,null,null,null,null,null,null,null,null,{"$f":"A440","v":0}]
[null,null,null,null,null,null,null,null,null,null,null,null,null,null,null,null,null,null,null,null,{"$f":"U440","v":0}]
[null,null,null,null,null,null,null,null,null,null,null,null,null,null,null,null,null,null,null,null,{"$f":"U441","v":0}]
[null,null,null,null,null,null,null,null,null,null,null,null,null,null,null,null,null,null,null,null,{"$f":"U442","v":0}]
[null,null,null,null,null,null,null,null,null,null,null,null,null,null,null,null,null,null,null,null,{"$f":"U443","v":0}]
[null,null,null,null,null,null,null,null,null,null,null,null,null,null,null,null,null,null,null,null,{"$f":"A445","v":0}]
[null,null,null,null,null,null,null,null,null,null,null,null,null,null,null,null,null,null,null,null,{"$f":"U445","v":0}]
[null,null,null,null,null,null,null,null,null,null,null,null,null,null,null,null,null,null,null,null,{"$f":"U446","v":0}]
[null,null,null,null,null,null,null,null,null,null,null,null,null,null,null,null,null,null,null,null,{"$f":"U447","v":0}]
[null,null,null,null,null,null,null,null,null,null,null,null,null,null,null,null,null,null,null,null,{"$f":"U448","v":0}]
[null,null,null,null,null,null,null,null,null,null,null,null,null,null,null,null,null,null,null,null,{"$f":"A450","v":0}]
[null,null,null,null,null,null,null,null,null,null,null,null,null,null,null,null,null,null,null,null,{"$f":"U450","v":0}]
[null,null,null,null,null,null,null,null,null,null,null,null,null,null,null,null,null,null,null,null,{"$f":"U451","v":0}]
[null,null,null,null,null,null,null,null,null,null,null,null,null,null,null,null,null,null,null,null,{"$f":"U452","v":0}]
[null,null,null,null,null,null,null,null,null,null,null,null,null,null,null,null,null,null,null,null,{"$f":"U453","v":0}]
[null,null,null,null,null,null,null,null,null,null,null,null,null,null,null,null,null,null,null,null,{"$f":"A455","v":0}]
[null,null,null,null,null,null,null,null,null,null,null,null,null,null,null,null,null,null,null,null,{"$f":"U455","v":0}]
[null,null,null,null,null,null,null,null,null,null,null,null,null,null,null,null,null,null,null,null,{"$f":"U456","v":0}]
[null,null,null,null,null,null,null,null,null,null,null,null,null,null,null,null,null,null,null,null,{"$f":"U457","v":0}]
[null,null,null,null,null,null,null,null,null,null,null,null,null,null,null,null,null,null,null,null,{"$f":"U458","v":0}]
[null,null,null,null,null,null,null,null,null,null,null,null,null,null,null,null,null,null,null,null,{"$f":"A460","v":0}]
[null,null,null,null,null,null,null,null,null,null,null,null,null,null,null,null,null,null,null,null,{"$f":"U460","v":0}]
[null,null,null,null,null,null,null,null,null,null,null,null,null,null,null,null,null,null,null,null,{"$f":"U461","v":0}]
[null,null,null,null,null,null,null,null,null,null,null,null,null,null,null,null,null,null,null,null,{"$f":"U462","v":0}]
[null,null,null,null,null,null,null,null,null,null,null,null,null,null,null,null,null,null,null,null,{"$f":"U463","v":0}]
[null,null,null,null,null,null,null,null,null,null,null,null,null,null,null,null,null,null,null,null,{"$f":"A465","v":0}]
[null,null,null,null,null,null,null,null,null,null,null,null,null,null,null,null,null,null,null,null,{"$f":"U465","v":0}]
[null,null,null,null,null,null,null,null,null,null,null,null,null,null,null,null,null,null,null,null,{"$f":"U466","v":0}]
[null,null,null,null,null,null,null,null,null,null,null,null,null,null,null,null,null,null,null,null,{"$f":"U467","v":0}]
[null,null,null,null,null,null,null,null,null,null,null,null,null,null,null,null,null,null,null,null,{"$f":"U468","v":0}]
[null,null,null,null,null,null,null,null,null,null,null,null,null,null,null,null,null,null,null,null,{"$f":"A470","v":0}]
[null,null,null,null,null,null,null,null,null,null,null,null,null,null,null,null,null,null,null,null,{"$f":"U470","v":0}]
[null,null,null,null,null,null,null,null,null,null,null,null,null,null,null,null,null,null,null,null,{"$f":"U471","v":0}]
[null,null,null,null,null,null,null,null,null,null,null,null,null,null,null,null,null,null,null,null,{"$f":"U472","v":0}]
[null,null,null,null,null,null,null,null,null,null,null,null,null,null,null,null,null,null,null,null,{"$f":"U473","v":0}]
[null,null,null,null,null,null,null,null,null,null,null,null,null,null,null,null,null,null,null,null,{"$f":"A475","v":0}]
[null,null,null,null,null,null,null,null,null,null,null,null,null,null,null,null,null,null,null,null,{"$f":"U475","v":0}]

{"sheet":"Wytwórcy Substancje","index":25,"n_rows":479,"n_cols":29,"rows_kept":479,"cut":false,"hidden":true,"merged":[[446,6,446,7],[447,6,447,7],[448,6,448,7],[449,6,449,7],[450,6,450,7],[451,6,451,7],[424,6,424,7],[425,6,425,7],[426,6,426,7],[427,6,427,7],[428,6,428,7],[429,6,429,7],[430,6,430,7],[431,6,431,7],[432,6,432,7],[433,6,433,7],[434,6,434,7],[435,6,435,7],[436,6,436,7],[437,6,437,7],[438,6,438,7],[439,6,439,7],[440,6,440,7],[67,6,67,7],[68,6,68,7],[69,6,69,7],[70,6,70,7],[102,6,102,7],[103,6,103,7],[104,6,104,7],[105,6,105,7],[124,6,124,7],[125,6,125,7],[126,6,126,7],[127,6,127,7],[128,6,128,7],[129,6,129,7],[130,6,130,7],[131,6,131,7],[132,6,132,7],[106,6,106,7],[107,6,107,7],[108,6,108,7],[109,6,109,7],[81,6,81,7],[82,6,82,7],[83,6,83,7],[84,6,84,7],[85,6,85,7],[86,6,86,7],[87,6,87,7],[88,6,88,7],[89,6,89,7],[90,6,90,7],[91,6,91,7],[50,6,50,7],[51,6,51,7],[52,6,52,7],[53,6,53,7],[54,6,54,7],[55,6,55,7],[56,6,56,7],[57,6,57,7],[58,6,58,7],[59,6,59,7],[60,6,60,7],[61,6,61,7],[62,6,62,7],[63,6,63,7],[64,6,64,7],[65,6,65,7],[66,6,66,7],[23,6,23,7],[24,6,24,7],[25,6,25,7],[26,6,26,7],[37,6,37,7],[38,6,38,7],[39,6,39,7],[40,6,40,7],[41,6,41,7],[42,6,42,7],[43,6,43,7],[44,6,44,7],[45,6,45,7],[46,6,46,7],[47,6,47,7],[48,6,48,7],[49,6,49,7],[36,6,36,7],[154,6,154,10],[154,11,155,11],[154,12,155,12],[154,13,155,13],[154,14,155,14],[154,16,155,16],[154,15,155,15],[8,6,8,10],[8,11,9,11],[8,12,9,12],[8,13,9,13],[8,14,9,14],[8,15,9,15],[8,16,9,16],[9,6,9,7],[305,6,305,10],[305,11,306,11],[305,12,306,12],[305,13,306,13],[305,14,306,14],[305,15,306,15],[305,16,306,16],[306,6,306,7],[28,6,28,7],[29,6,29,7],[30,6,30,7],[31,6,31,7],[32,6,32,7],[33,6,33,7],[34,6,34,7],[35,6,35,7],[10,6,10,7],[303,17,303,18],[303,19,306,19],[304,17,306,17],[304,18,306,18],[152,6,152,16],[152,17,152,18],[153,18,155,18],[145,17,149,17],[145,18,149,18],[145,19,149,19],[135,17,139,17],[135,18,139,18],[261,1,265,1],[153,13,153,14],[153,15,153,16],[304,13,304,14],[304,15,304,16],[153,17,155,17],[152,19,155,19],[296,1,300,1],[161,1,165,1],[166,1,170,1],[171,1,175,1],[176,1,180,1],[181,1,185,1],[186,1,190,1],[191,1,195,1],[145,1,149,1],[135,19,139,19],[271,5,275,5],[211,19,215,19],[303,6,303,16],[30,1,34,1],[35,1,39,1],[40,1,44,1],[45,1,49,1],[50,1,54,1],[55,1,59,1],[60,1,64,1],[65,1,69,1],[70,1,74,1],[75,1,79,1],[80,1,84,1],[85,1,89,1],[152,1,155,1],[156,1,160,1],[303,1,306,1],[266,1,270,1],[271,1,275,1],[276,1,280,1],[281,1,285,1],[286,1,290,1],[291,1,295,1],[447,18,451,18],[447,19,451,19],[447,20,451,20],[447,0,451,0],[447,2,451,2],[447,3,451,3],[447,4,451,4],[447,5,451,5],[447,17,451,17],[437,18,441,18],[437,19,441,19],[437,20,441,20],[442,0,446,0],[442,2,446,2],[442,3,446,3],[442,4,446,4],[442,5,446,5],[442,17,446,17],[442,18,446,18],[442,19,446,19],[442,1,446,1],[447,1,451,1],[442,20,446,20],[437,0,441,0],[437,2,441,2],[437,3,441,3],[437,4,441,4],[437,5,441,5],[442,6,442,7],[443,6,443,7],[444,6,444,7],[445,6,445,7],[437,17,441,17],[437,1,441,1],[427,18,431,18],[427,19,431,19],[427,20,431,20],[432,0,436,0],[432,2,436,2],[432,3,436,3],[432,4,436,4],[432,5,436,5],[432,17,436,17],[432,18,436,18],[432,19,436,19],[432,20,436,20],[427,1,431,1],[432,1,436,1],[427,0,431,0],[427,2,431,2],[427,3,431,3],[427,4,431,4],[427,5,431,5],[427,17,431,17],[441,6,441,7],[417,18,421,18],[417,19,421,19],[417,20,421,20],[422,0,426,0],[422,2,426,2],[422,3,426,3],[422,4,426,4],[422,5,426,5],[422,17,426,17],[422,18,426,18],[422,19,426,19],[422,20,426,20],[417,0,421,0],[417,2,421,2],[417,17,421,17],[417,1,421,1],[422,1,426,1],[417,6,417,7],[418,6,418,7],[419,6,419,7],[420,6,420,7],[421,6,421,7],[422,6,422,7],[423,6,423,7],[417,3,421,3],[417,4,421,4],[417,5,421,5],[407,18,411,18],[407,19,411,19],[407,20,411,20],[412,0,416,0],[412,2,416,2],[412,3,416,3],[412,4,416,4],[412,5,416,5],[412,17,416,17],[412,18,416,18],[412,19,416,19],[412,20,416,20],[407,0,411,0],[407,2,411,2],[407,3,411,3],[407,4,411,4],[407,5,411,5],[407,17,411,17],[407,1,411,1],[412,1,416,1],[407,6,407,7],[408,6,408,7],[409,6,409,7],[410,6,410,7],[411,6,411,7],[412,6,412,7],[413,6,413,7],[414,6,414,7],[415,6,415,7],[416,6,416,7],[397,18,401,18],[397,19,401,19],[397,20,401,20],[402,0,406,0],[402,2,406,2],[402,3,406,3],[402,4,406,4],[402,5,406,5],[402,17,406,17],[402,18,406,18],[402,19,406,19],[402,20,406,20],[397,0,401,0],[397,2,401,2],[397,3,401,3],[397,4,401,4],[397,5,401,5],[397,17,401,17],[397,1,401,1],[402,1,406,1],[406,6,406,7],[397,6,397,7],[398,6,398,7],[399,6,399,7],[400,6,400,7],[401,6,401,7],[402,6,402,7],[403,6,403,7],[404,6,404,7],[405,6,405,7],[387,18,391,18],[387,19,391,19],[387,20,391,20],[392,0,396,0],[392,2,396,2],[392,3,396,3],[392,4,396,4],[392,5,396,5],[392,17,396,17],[392,18,396,18],[392,19,396,19],[392,20,396,20],[387,0,391,0],[387,2,391,2],[387,3,391,3],[387,4,391,4],[387,5,391,5],[387,17,391,17],[387,1,391,1],[392,1,396,1],[387,6,387,7],[388,6,388,7],[389,6,389,7],[390,6,390,7],[391,6,391,7],[392,6,392,7],[393,6,393,7],[394,6,394,7],[395,6,395,7],[396,6,396,7],[377,20,381,20],[382,0,386,0],[382,2,386,2],[382,3,386,3],[382,4,386,4],[382,5,386,5],[382,17,386,17],[382,18,386,18],[382,19,386,19],[382,20,386,20],[377,0,381,0],[377,2,381,2],[377,3,381,3],[377,4,381,4],[377,5,381,5],[377,17,381,17],[377,1,381,1],[377,18,381,18],[377,19,381,19],[386,6,386,7],[377,6,377,7],[378,6,378,7],[379,6,379,7],[380,6,380,7],[381,6,381,7],[382,6,382,7],[383,6,383,7],[384,6,384,7],[385,6,385,7],[382,1,386,1],[367,18,371,18],[367,19,371,19],[367,20,371,20],[372,0,376,0],[372,2,376,2],[372,3,376,3],[372,4,376,4],[372,5,376,5],[372,17,376,17],[372,18,376,18],[372,19,376,19],[372,20,376,20],[367,1,371,1],[372,1,376,1],[367,0,371,0],[367,2,371,2],[367,3,371,3],[367,4,371,4],[367,5,371,5],[367,17,371,17],[367,6,367,7],[368,6,368,7],[369,6,369,7],[370,6,370,7],[371,6,371,7],[372,6,372,7],[373,6,373,7],[374,6,374,7],[375,6,375,7],[376,6,376,7],[362,0,366,0],[362,2,366,2],[362,3,366,3],[362,4,366,4],[362,5,366,5],[362,17,366,17],[362,18,366,18],[362,19,366,19],[362,20,366,20],[357,0,361,0],[357,2,361,2],[357,3,361,3],[357,4,361,4],[357,5,361,5],[357,17,361,17],[357,18,361,18],[357,19,361,19],[357,20,361,20],[357,1,361,1],[362,1,366,1],[366,6,366,7],[357,6,357,7],[358,6,358,7],[359,6,359,7],[360,6,360,7],[361,6,361,7],[362,6,362,7],[363,6,363,7],[364,6,364,7],[365,6,365,7],[347,18,351,18],[347,19,351,19],[347,20,351,20],[352,0,356,0],[352,2,356,2],[352,3,356,3],[352,4,356,4],[352,5,356,5],[352,17,356,17],[352,18,356,18],[352,19,356,19],[352,20,356,20],[347,0,351,0],[347,2,351,2],[347,3,351,3],[347,4,351,4],[347,5,351,5],[347,17,351,17],[347,1,351,1],[352,1,356,1],[347,6,347,7],[348,6,348,7],[349,6,349,7],[350,6,350,7],[351,6,351,7],[352,6,352,7],[353,6,353,7],[354,6,354,7],[355,6,355,7],[356,6,356,7],[342,0,346,0],[342,2,346,2],[342,3,346,3],[342,4,346,4],[342,5,346,5],[342,17,346,17],[342,18,346,18],[342,19,346,19],[342,20,346,20],[337,0,341,0],[337,2,341,2],[337,3,341,3],[337,4,341,4],[337,5,341,5],[337,17,341,17],[337,18,341,18],[337,19,341,19],[337,20,341,20],[337,1,341,1],[342,1,346,1],[346,6,346,7],[337,6,337,7],[338,6,338,7],[339,6,339,7],[340,6,340,7],[341,6,341,7],[342,6,342,7],[343,6,343,7],[344,6,344,7],[345,6,345,7],[327,18,331,18],[327,19,331,19],[327,20,331,20],[332,0,336,0],[332,2,336,2],[332,3,336,3],[332,4,336,4],[332,5,336,5],[332,17,336,17],[332,18,336,18],[332,19,336,19],[332,20,336,20],[327,0,331,0],[327,2,331,2],[327,3,331,3],[327,4,331,4],[327,5,331,5],[327,17,331,17],[327,1,331,1],[332,1,336,1],[327,6,327,7],[328,6,328,7],[329,6,329,7],[330,6,330,7],[331,6,331,7],[332,6,332,7],[333,6,333,7],[334,6,334,7],[335,6,335,7],[336,6,336,7],[322,0,326,0],[322,2,326,2],[322,3,326,3],[322,4,326,4],[322,5,326,5],[322,17,326,17],[322,18,326,18],[322,19,326,19],[322,20,326,20],[317,0,321,0],[317,2,321,2],[317,3,321,3],[317,4,321,4],[317,5,321,5],[317,17,321,17],[317,1,321,1],[317,18,321,18],[317,19,321,19],[317,20,321,20],[322,1,326,1],[326,6,326,7],[317,6,317,7],[318,6,318,7],[319,6,319,7],[320,6,320,7],[321,6,321,7],[322,6,322,7],[323,6,323,7],[324,6,324,7],[325,6,325,7],[307,18,311,18],[307,19,311,19],[307,20,311,20],[312,0,316,0],[312,2,316,2],[312,3,316,3],[312,4,316,4],[312,5,316,5],[312,17,316,17],[312,18,316,18],[312,19,316,19],[312,20,316,20],[307,1,311,1],[312,1,316,1],[307,0,311,0],[307,2,311,2],[307,3,311,3],[307,4,311,4],[307,5,311,5],[307,17,311,17],[307,6,307,7],[308,6,308,7],[309,6,309,7],[310,6,310,7],[311,6,311,7],[312,6,312,7],[313,6,313,7],[314,6,314,7],[315,6,315,7],[316,6,316,7],[145,20,149,20],[301,0,302,20],[303,0,306,0],[303,2,306,2],[303,3,303,5],[303,20,306,20],[304,3,306,3],[304,4,306,4],[304,5,306,5],[304,6,304,12],[291,17,295,17],[281,18,285,18],[281,19,285,19],[281,20,285,20],[286,0,290,0],[286,2,290,2],[286,3,290,3],[286,4,290,4],[286,5,290,5],[286,17,290,17],[281,5,285,5],[276,0,280,0],[276,2,280,2],[276,3,280,3],[276,4,280,4],[276,5,280,5],[271,0,275,0],[271,2,275,2],[271,3,275,3],[271,4,275,4],[291,18,295,18],[291,19,295,19],[135,20,139,20],[140,17,144,17],[140,18,144,18],[140,19,144,19],[140,20,144,20],[286,18,290,18],[286,19,290,19],[286,20,290,20],[271,17,275,17],[261,18,265,18],[261,19,265,19],[261,20,265,20],[251,18,255,18],[251,19,255,19],[251,20,255,20],[241,18,245,18],[241,19,245,19],[241,20,245,20],[231,18,235,18],[231,19,235,19],[281,17,285,17],[271,18,275,18],[271,19,275,19],[271,20,275,20],[276,17,280,17],[276,18,280,18],[276,19,280,19],[276,20,280,20],[221,18,225,18],[221,19,225,19],[221,20,225,20],[211,18,215,18],[125,17,129,17],[125,18,129,18],[125,19,129,19],[125,20,129,20],[130,17,134,17],[130,18,134,18],[130,19,134,19],[130,20,134,20],[115,17,119,17],[115,18,119,18],[115,19,119,19],[115,20,119,20],[120,17,124,17],[120,18,124,18],[120,19,124,19],[120,20,124,20],[105,17,109,17],[105,18,109,18],[105,19,109,19],[105,20,109,20],[110,17,114,17],[110,18,114,18],[110,19,114,19],[110,20,114,20],[95,17,99,17],[95,18,99,18],[95,19,99,19],[95,20,99,20],[100,17,104,17],[100,18,104,18],[100,19,104,19],[100,20,104,20],[85,17,89,17],[85,18,89,18],[85,19,89,19],[85,20,89,20],[90,17,94,17],[90,18,94,18],[90,19,94,19],[90,20,94,20],[75,17,79,17],[75,18,79,18],[75,19,79,19],[75,20,79,20],[80,17,84,17],[80,18,84,18],[80,19,84,19],[80,20,84,20],[70,17,74,17],[70,18,74,18],[70,19,74,19],[70,20,74,20],[55,18,59,18],[55,19,59,19],[55,20,59,20],[60,17,64,17],[60,18,64,18],[60,19,64,19],[60,20,64,20],[45,18,49,18],[45,19,49,19],[45,20,49,20],[50,17,54,17],[50,18,54,18],[50,19,54,19],[50,20,54,20],[40,17,44,17],[40,18,44,18],[40,19,44,19],[40,20,44,20],[145,0,149,0],[145,2,149,2],[145,3,149,3],[145,4,149,4],[145,5,149,5],[35,17,39,17],[45,17,49,17],[55,17,59,17],[65,17,69,17],[135,0,139,0],[135,2,139,2],[135,3,139,3],[135,4,139,4],[135,5,139,5],[140,0,144,0],[140,2,144,2],[140,3,144,3],[140,4,144,4],[140,5,144,5],[135,1,139,1],[140,1,144,1],[125,0,129,0],[125,2,129,2],[125,3,129,3],[125,4,129,4],[65,18,69,18],[65,19,69,19],[65,20,69,20],[125,5,129,5],[130,0,134,0],[130,2,134,2],[130,3,134,3],[130,4,134,4],[130,5,134,5],[125,1,129,1],[130,1,134,1],[115,0,119,0],[115,2,119,2],[115,3,119,3],[115,4,119,4],[115,5,119,5],[120,0,124,0],[120,2,124,2],[120,3,124,3],[120,4,124,4],[120,5,124,5],[115,1,119,1],[120,1,124,1],[110,0,114,0],[110,2,114,2],[110,3,114,3],[110,4,114,4],[110,5,114,5],[105,1,109,1],[110,1,114,1],[95,0,99,0],[95,2,99,2],[95,3,99,3],[95,4,99,4],[95,5,99,5],[100,0,104,0],[100,2,104,2],[100,3,104,3],[100,4,104,4],[100,5,104,5],[95,1,99,1],[100,1,104,1],[90,0,94,0],[90,2,94,2],[90,3,94,3],[90,4,94,4],[90,5,94,5],[90,1,94,1],[75,0,79,0],[75,2,79,2],[75,3,79,3],[75,4,79,4],[75,5,79,5],[80,0,84,0],[80,2,84,2],[80,3,84,3],[80,4,84,4],[80,5,84,5],[105,0,109,0],[105,2,109,2],[105,3,109,3],[105,4,109,4],[105,5,109,5],[70,0,74,0],[70,2,74,2],[70,3,74,3],[70,4,74,4],[70,5,74,5],[55,0,59,0],[55,2,59,2],[55,3,59,3],[55,4,59,4],[55,5,59,5],[60,0,64,0],[60,2,64,2],[60,3,64,3],[60,4,64,4],[60,5,64,5],[85,0,89,0],[85,2,89,2],[85,3,89,3],[85,4,89,4],[85,5,89,5],[45,5,49,5],[50,0,54,0],[50,2,54,2],[50,3,54,3],[50,4,54,4],[50,5,54,5],[35,0,39,0],[35,2,39,2],[35,3,39,3],[35,4,39,4],[35,5,39,5],[40,0,44,0],[40,2,44,2],[40,3,44,3],[40,4,44,4],[40,5,44,5],[65,0,69,0],[65,2,69,2],[65,3,69,3],[65,4,69,4],[65,5,69,5],[291,20,295,20],[296,0,300,0],[296,2,300,2],[296,3,300,3],[296,4,300,4],[296,5,300,5],[296,17,300,17],[296,18,300,18],[296,19,300,19],[296,20,300,20],[291,0,295,0],[291,2,295,2],[291,3,295,3],[291,4,295,4],[291,5,295,5],[281,0,285,0],[281,2,285,2],[281,3,285,3],[281,4,285,4],[266,0,270,0],[266,2,270,2],[266,3,270,3],[266,4,270,4],[266,5,270,5],[266,17,270,17],[266,18,270,18],[266,19,270,19],[266,20,270,20],[261,0,265,0],[261,2,265,2],[261,3,265,3],[261,4,265,4],[261,5,265,5],[261,17,265,17],[256,0,260,0],[256,2,260,2],[256,3,260,3],[256,4,260,4],[256,5,260,5],[256,17,260,17],[256,18,260,18],[256,19,260,19],[256,20,260,20],[251,0,255,0],[251,2,255,2],[251,3,255,3],[251,4,255,4],[251,5,255,5],[251,17,255,17],[251,1,255,1],[256,1,260,1],[246,0,250,0],[246,2,250,2],[246,3,250,3],[246,4,250,4],[246,5,250,5],[246,17,250,17],[246,18,250,18],[246,19,250,19],[246,20,250,20],[241,0,245,0],[241,2,245,2],[241,3,245,3],[241,4,245,4],[241,5,245,5],[241,17,245,17],[241,1,245,1],[246,1,250,1],[231,20,235,20],[236,0,240,0],[236,2,240,2],[236,3,240,3],[236,4,240,4],[236,5,240,5],[236,17,240,17],[236,18,240,18],[236,19,240,19],[236,20,240,20],[231,0,235,0],[231,2,235,2],[231,3,235,3],[231,4,235,4],[231,5,235,5],[231,17,235,17],[231,1,235,1],[236,1,240,1],[226,0,230,0],[226,2,230,2],[226,3,230,3],[226,4,230,4],[226,5,230,5],[226,17,230,17],[226,18,230,18],[226,19,230,19],[226,20,230,20],[221,0,225,0],[221,2,225,2],[221,3,225,3],[221,4,225,4],[221,5,225,5],[221,17,225,17],[221,1,225,1],[226,1,230,1],[211,20,215,20],[216,0,220,0],[216,2,220,2],[216,3,220,3],[216,4,220,4],[216,5,220,5],[216,17,220,17],[216,18,220,18],[216,19,220,19],[216,20,220,20],[211,0,215,0],[211,2,215,2],[211,3,215,3],[211,4,215,4],[211,5,215,5],[211,17,215,17],[211,1,215,1],[216,1,220,1],[201,18,205,18],[201,19,205,19],[201,20,205,20],[206,0,210,0],[206,2,210,2],[206,3,210,3],[206,4,210,4],[206,5,210,5],[206,17,210,17],[206,18,210,18],[206,19,210,19],[206,20,210,20],[201,0,205,0],[201,2,205,2],[201,3,205,3],[201,4,205,4],[201,5,205,5],[201,17,205,17],[201,1,205,1],[206,1,210,1],[191,18,195,18],[191,19,195,19],[191,20,195,20],[196,0,200,0],[196,2,200,2],[196,3,200,3],[196,4,200,4],[196,5,200,5],[196,17,200,17]],"merged_total":1219,"flags":["merged_cut"]}
[]
[]
[]
[]
["Roczne sprawozdanie z wytwarzania, przetwarzania i przerobu - substansje czynne, substancje psychotropowe"]
[]
["Nazwa substancji","Nazwa czystej postaci substancji","Stan na 01.01 okresu sprawozdawczego","Przychód w roku sprawozdawczym",null,null,"Wykorzystanie w roku sprawozdawczym",null,null,null,null,null,null,null,null,null,null,"Sprzedaż",null,"Utylizacja","Stan na dzień 31.12 okresu sprawozdawczego",null,null,null,null,null,null,null,{"$f":"AC6","v":0}]
[null,null,null,"Wewnątrzwspólnotowe nabycie/przywóz","Nabyte w kraju","Produkcja własna","Zużyto na produkcję produktów leczniczych",null,null,null,null,null,null,"Przetworzono na substancje niekontrolowane",null,"Przetworzono na inne substancje kontrolowane",null,"Sprzedaż krajowa","Wewnątrzwspólnotowa dostawa/wywóz",null,null,null,null,null,null,null,null,null,{"$f":"AC7","v":0}]
[null,null,null,null,null,null,"Informacje o Produkcie",null,null,null,null,"Ilość wytworzonego produktu","Zużyto na kontrole jakości/straty produkcyjne","Nazwa substancji","Ilość przetworzonej substancji","Nazwa substancji","Ilość przetworzonej substancji"]
[null,null,null,null,null,null,"Nazwa produktu leczniczego",null,"Forma Farmaceutyczna","Dawka jednostkowa w mg","Wielkość opakowania",null,null,null,null,null,null,null,null,null,null,null,null,null,null,null,null,null,{"$f":"AC8","v":0}]
[null,null,null,null,null,null,null,null,null,null,null,null,null,null,null,null,null,null,null,null,null,null,null,null,null,null,null,null,{"$f":"A11","v":0}]
[null,null,null,null,null,null,null,null,null,null,null,null,null,null,null,null,null,null,null,null,null,null,null,null,null,null,null,null,{"$f":"AC11","v":0}]
[null,null,null,null,null,null,null,null,null,null,null,null,null,null,null,null,null,null,null,null,null,null,null,null,null,null,null,null,{"$f":"AC12","v":0}]
[null,null,null,null,null,null,null,null,null,null,null,null,null,null,null,null,null,null,null,null,null,null,null,null,null,null,null,null,{"$f":"AC13","v":0}]
[null,null,null,null,null,null,null,null,null,null,null,null,null,null,null,null,null,null,null,null,null,null,null,null,null,null,null,null,{"$f":"AC14","v":0}]
[null,null,null,null,null,null,null,null,null,null,null,null,null,null,null,null,null,null,null,null,null,null,null,null,null,null,null,null,{"$f":"A16","v":0}]
[null,null,null,null,null,null,null,null,null,null,null,null,null,null,null,null,null,null,null,null,null,null,null,null,null,null,null,null,{"$f":"AC16","v":0}]
[null,null,null,null,null,null,null,null,null,null,null,null,null,null,null,null,null,null,null,null,null,null,null,null,null,null,null,null,{"$f":"AC17","v":0}]
[null,null,null,null,null,null,null,null,null,null,null,null,null,null,null,null,null,null,null,null,null,null,null,null,null,null,null,null,{"$f":"AC18","v":0}]
[null,null,null,null,null,null,null,null,null,null,null,null,null,null,null,null,null,null,null,null,null,null,null,null,null,null,null,null,{"$f":"AC19","v":0}]
[null,null,null,null,null,null,null,null,null,null,null,null,null,null,null,null,null,null,null,null,null,null,null,null,null,null,null,null,{"$f":"A21","v":0}]
[null,null,null,null,null,null,null,null,null,null,null,null,null,null,null,null,null,null,null,null,null,null,null,null,null,null,null,null,{"$f":"AC21","v":0}]
[null,null,null,null,null,null,null,null,null,null,null,null,null,null,null,null,null,null,null,null,null,null,null,null,null,null,null,null,{"$f":"AC22","v":0}]
[null,null,null,null,null,null,null,null,null,null,null,null,null,null,null,null,null,null,null,null,null,null,null,null,null,null,null,null,{"$f":"AC23","v":0}]
[null,null,null,null,null,null,null,null,null,null,null,null,null,null,null,null,null,null,null,null,null,null,null,null,null,null,null,null,{"$f":"AC24","v":0}]
[null,null,null,null,null,null,null,null,null,null,null,null,null,null,null,null,null,null,null,null,null,null,null,null,null,null,null,null,{"$f":"A26","v":0}]
[null,null,null,null,null,null,null,null,null,null,null,null,null,null,null,null,null,null,null,null,null,null,null,null,null,null,null,null,{"$f":"AC26","v":0}]
[null,null,null,null,null,null,null,null,null,null,null,null,null,null,null,null,null,null,null,null,null,null,null,null,null,null,null,null,{"$f":"AC27","v":0}]
[null,null,null,null,null,null,null,null,null,null,null,null,null,null,null,null,null,null,null,null,null,null,null,null,null,null,null,null,{"$f":"AC28","v":0}]
[null,null,null,null,null,null,null,null,null,null,null,null,null,null,null,null,null,null,null,null,null,null,null,null,null,null,null,null,{"$f":"AC29","v":0}]
[null,null,null,null,null,null,null,null,null,null,null,null,null,null,null,null,null,null,null,null,null,null,null,null,null,null,null,null,{"$f":"A31","v":0}]
[null,null,null,null,null,null,null,null,null,null,null,null,null,null,null,null,null,null,null,null,null,null,null,null,null,null,null,null,{"$f":"AC31","v":0}]
[null,null,null,null,null,null,null,null,null,null,null,null,null,null,null,null,null,null,null,null,null,null,null,null,null,null,null,null,{"$f":"AC32","v":0}]
[null,null,null,null,null,null,null,null,null,null,null,null,null,null,null,null,null,null,null,null,null,null,null,null,null,null,null,null,{"$f":"AC33","v":0}]
[null,null,null,null,null,null,null,null,null,null,null,null,null,null,null,null,null,null,null,null,null,null,null,null,null,null,null,null,{"$f":"AC34","v":0}]
[null,null,null,null,null,null,null,null,null,null,null,null,null,null,null,null,null,null,null,null,null,null,null,null,null,null,null,null,{"$f":"A36","v":0}]
[null,null,null,null,null,null,null,null,null,null,null,null,null,null,null,null,null,null,null,null,null,null,null,null,null,null,null,null,{"$f":"AC36","v":0}]
[null,null,null,null,null,null,null,null,null,null,null,null,null,null,null,null,null,null,null,null,null,null,null,null,null,null,null,null,{"$f":"AC37","v":0}]
[null,null,null,null,null,null,null,null,null,null,null,null,null,null,null,null,null,null,null,null,null,null,null,null,null,null,null,null,{"$f":"AC38","v":0}]
[null,null,null,null,null,null,null,null,null,null,null,null,null,null,null,null,null,null,null,null,null,null,null,null,null,null,null,null,{"$f":"AC39","v":0}]
[null,null,null,null,null,null,null,null,null,null,null,null,null,null,null,null,null,null,null,null,null,null,null,null,null,null,null,null,{"$f":"A41","v":0}]
[null,null,null,null,null,null,null,null,null,null,null,null,null,null,null,null,null,null,null,null,null,null,null,null,null,null,null,null,{"$f":"AC41","v":0}]
[null,null,null,null,null,null,null,null,null,null,null,null,null,null,null,null,null,null,null,null,null,null,null,null,null,null,null,null,{"$f":"AC42","v":0}]
[null,null,null,null,null,null,null,null,null,null,null,null,null,null,null,null,null,null,null,null,null,null,null,null,null,null,null,null,{"$f":"AC43","v":0}]
[null,null,null,null,null,null,null,null,null,null,null,null,null,null,null,null,null,null,null,null,null,null,null,null,null,null,null,null,{"$f":"AC44","v":0}]
[null,null,null,null,null,null,null,null,null,null,null,null,null,null,null,null,null,null,null,null,null,null,null,null,null,null,null,null,{"$f":"A46","v":0}]
[null,null,null,null,null,null,null,null,null,null,null,null,null,null,null,null,null,null,null,null,null,null,null,null,null,null,null,null,{"$f":"AC46","v":0}]
[null,null,null,null,null,null,null,null,null,null,null,null,null,null,null,null,null,null,null,null,null,null,null,null,null,null,null,null,{"$f":"AC47","v":0}]
[null,null,null,null,null,null,null,null,null,null,null,null,null,null,null,null,null,null,null,null,null,null,null,null,null,null,null,null,{"$f":"AC48","v":0}]
[null,null,null,null,null,null,null,null,null,null,null,null,null,null,null,null,null,null,null,null,null,null,null,null,null,null,null,null,{"$f":"AC49","v":0}]
[null,null,null,null,null,null,null,null,null,null,null,null,null,null,null,null,null,null,null,null,null,null,null,null,null,null,null,null,{"$f":"A51","v":0}]
[null,null,null,null,null,null,null,null,null,null,null,null,null,null,null,null,null,null,null,null,null,null,null,null,null,null,null,null,{"$f":"AC51","v":0}]
[null,null,null,null,null,null,null,null,null,null,null,null,null,null,null,null,null,null,null,null,null,null,null,null,null,null,null,null,{"$f":"AC52","v":0}]
[null,null,null,null,null,null,null,null,null,null,null,null,null,null,null,null,null,null,null,null,null,null,null,null,null,null,null,null,{"$f":"AC53","v":0}]
[null,null,null,null,null,null,null,null,null,null,null,null,null,null,null,null,null,null,null,null,null,null,null,null,null,null,null,null,{"$f":"AC54","v":0}]
[null,null,null,null,null,null,null,null,null,null,null,null,null,null,null,null,null,null,null,null,null,null,null,null,null,null,null,null,{"$f":"A56","v":0}]
[null,null,null,null,null,null,null,null,null,null,null,null,null,null,null,null,null,null,null,null,null,null,null,null,null,null,null,null,{"$f":"AC56","v":0}]
[null,null,null,null,null,null,null,null,null,null,null,null,null,null,null,null,null,null,null,null,null,null,null,null,null,null,null,null,{"$f":"AC57","v":0}]
[null,null,null,null,null,null,null,null,null,null,null,null,null,null,null,null,null,null,null,null,null,null,null,null,null,null,null,null,{"$f":"AC58","v":0}]
[null,null,null,null,null,null,null,null,null,null,null,null,null,null,null,null,null,null,null,null,null,null,null,null,null,null,null,null,{"$f":"AC59","v":0}]
[null,null,null,null,null,null,null,null,null,null,null,null,null,null,null,null,null,null,null,null,null,null,null,null,null,null,null,null,{"$f":"A61","v":0}]
[null,null,null,null,null,null,null,null,null,null,null,null,null,null,null,null,null,null,null,null,null,null,null,null,null,null,null,null,{"$f":"AC61","v":0}]
[null,null,null,null,null,null,null,null,null,null,null,null,null,null,null,null,null,null,null,null,null,null,null,null,null,null,null,null,{"$f":"AC62","v":0}]
[null,null,null,null,null,null,null,null,null,null,null,null,null,null,null,null,null,null,null,null,null,null,null,null,null,null,null,null,{"$f":"AC63","v":0}]
[null,null,null,null,null,null,null,null,null,null,null,null,null,null,null,null,null,null,null,null,null,null,null,null,null,null,null,null,{"$f":"AC64","v":0}]
[null,null,null,null,null,null,null,null,null,null,null,null,null,null,null,null,null,null,null,null,null,null,null,null,null,null,null,null,{"$f":"A66","v":0}]
[null,null,null,null,null,null,null,null,null,null,null,null,null,null,null,null,null,null,null,null,null,null,null,null,null,null,null,null,{"$f":"AC66","v":0}]
[null,null,null,null,null,null,null,null,null,null,null,null,null,null,null,null,null,null,null,null,null,null,null,null,null,null,null,null,{"$f":"AC67","v":0}]
[null,null,null,null,null,null,null,null,null,null,null,null,null,null,null,null,null,null,null,null,null,null,null,null,null,null,null,null,{"$f":"AC68","v":0}]
[null,null,null,null,null,null,null,null,null,null,null,null,null,null,null,null,null,null,null,null,null,null,null,null,null,null,null,null,{"$f":"AC69","v":0}]
[null,null,null,null,null,null,null,null,null,null,null,null,null,null,null,null,null,null,null,null,null,null,null,null,null,null,null,null,{"$f":"A71","v":0}]
[null,null,null,null,null,null,null,null,null,null,null,null,null,null,null,null,null,null,null,null,null,null,null,null,null,null,null,null,{"$f":"AC71","v":0}]
[null,null,null,null,null,null,null,null,null,null,null,null,null,null,null,null,null,null,null,null,null,null,null,null,null,null,null,null,{"$f":"AC72","v":0}]
[null,null,null,null,null,null,null,null,null,null,null,null,null,null,null,null,null,null,null,null,null,null,null,null,null,null,null,null,{"$f":"AC73","v":0}]
[null,null,null,null,null,null,null,null,null,null,null,null,null,null,null,null,null,null,null,null,null,null,null,null,null,null,null,null,{"$f":"AC74","v":0}]
[null,null,null,null,null,null,null,null,null,null,null,null,null,null,null,null,null,null,null,null,null,null,null,null,null,null,null,null,{"$f":"A76","v":0}]
[null,null,null,null,null,null,null,null,null,null,null,null,null,null,null,null,null,null,null,null,null,null,null,null,null,null,null,null,{"$f":"AC76","v":0}]
[null,null,null,null,null,null,null,null,null,null,null,null,null,null,null,null,null,null,null,null,null,null,null,null,null,null,null,null,{"$f":"AC77","v":0}]
[null,null,null,null,null,null,null,null,null,null,null,null,null,null,null,null,null,null,null,null,null,null,null,null,null,null,null,null,{"$f":"AC78","v":0}]
[null,null,null,null,null,null,null,null,null,null,null,null,null,null,null,null,null,null,null,null,null,null,null,null,null,null,null,null,{"$f":"AC79","v":0}]
[null,null,null,null,null,null,null,null,null,null,null,null,null,null,null,null,null,null,null,null,null,null,null,null,null,null,null,null,{"$f":"A81","v":0}]
[null,null,null,null,null,null,null,null,null,null,null,null,null,null,null,null,null,null,null,null,null,null,null,null,null,null,null,null,{"$f":"AC81","v":0}]
[null,null,null,null,null,null,null,null,null,null,null,null,null,null,null,null,null,null,null,null,null,null,null,null,null,null,null,null,{"$f":"AC82","v":0}]
[null,null,null,null,null,null,null,null,null,null,null,null,null,null,null,null,null,null,null,null,null,null,null,null,null,null,null,null,{"$f":"AC83","v":0}]
[null,null,null,null,null,null,null,null,null,null,null,null,null,null,null,null,null,null,null,null,null,null,null,null,null,null,null,null,{"$f":"AC84","v":0}]
[null,null,null,null,null,null,null,null,null,null,null,null,null,null,null,null,null,null,null,null,null,null,null,null,null,null,null,null,{"$f":"A86","v":0}]
[null,null,null,null,null,null,null,null,null,null,null,null,null,null,null,null,null,null,null,null,null,null,null,null,null,null,null,null,{"$f":"AC86","v":0}]
[null,null,null,null,null,null,null,null,null,null,null,null,null,null,null,null,null,null,null,null,null,null,null,null,null,null,null,null,{"$f":"AC87","v":0}]
[null,null,null,null,null,null,null,null,null,null,null,null,null,null,null,null,null,null,null,null,null,null,null,null,null,null,null,null,{"$f":"AC88","v":0}]
[null,null,null,null,null,null,null,null,null,null,null,null,null,null,null,null,null,null,null,null,null,null,null,null,null,null,null,null,{"$f":"AC89","v":0}]
[null,null,null,null,null,null,null,null,null,null,null,null,null,null,null,null,null,null,null,null,null,null,null,null,null,null,null,null,{"$f":"A91","v":0}]
[null,null,null,null,null,null,null,null,null,null,null,null,null,null,null,null,null,null,null,null,null,null,null,null,null,null,null,null,{"$f":"AC91","v":0}]
[null,null,null,null,null,null,null,null,null,null,null,null,null,null,null,null,null,null,null,null,null,null,null,null,null,null,null,null,{"$f":"AC92","v":0}]
[null,null,null,null,null,null,null,null,null,null,null,null,null,null,null,null,null,null,null,null,null,null,null,null,null,null,null,null,{"$f":"AC93","v":0}]
[null,null,null,null,null,null,null,null,null,null,null,null,null,null,null,null,null,null,null,null,null,null,null,null,null,null,null,null,{"$f":"AC94","v":0}]
[null,null,null,null,null,null,null,null,null,null,null,null,null,null,null,null,null,null,null,null,null,null,null,null,null,null,null,null,{"$f":"A96","v":0}]
[null,null,null,null,null,null,null,null,null,null,null,null,null,null,null,null,null,null,null,null,null,null,null,null,null,null,null,null,{"$f":"AC96","v":0}]
[null,null,null,null,null,null,null,null,null,null,null,null,null,null,null,null,null,null,null,null,null,null,null,null,null,null,null,null,{"$f":"AC97","v":0}]
[null,null,null,null,null,null,null,null,null,null,null,null,null,null,null,null,null,null,null,null,null,null,null,null,null,null,null,null,{"$f":"AC98","v":0}]
[null,null,null,null,null,null,null,null,null,null,null,null,null,null,null,null,null,null,null,null,null,null,null,null,null,null,null,null,{"$f":"AC99","v":0}]
[null,null,null,null,null,null,null,null,null,null,null,null,null,null,null,null,null,null,null,null,null,null,null,null,null,null,null,null,{"$f":"A101","v":0}]
[null,null,null,null,null,null,null,null,null,null,null,null,null,null,null,null,null,null,null,null,null,null,null,null,null,null,null,null,{"$f":"AC101","v":0}]
[null,null,null,null,null,null,null,null,null,null,null,null,null,null,null,null,null,null,null,null,null,null,null,null,null,null,null,null,{"$f":"AC102","v":0}]
[null,null,null,null,null,null,null,null,null,null,null,null,null,null,null,null,null,null,null,null,null,null,null,null,null,null,null,null,{"$f":"AC103","v":0}]
[null,null,null,null,null,null,null,null,null,null,null,null,null,null,null,null,null,null,null,null,null,null,null,null,null,null,null,null,{"$f":"AC104","v":0}]
[null,null,null,null,null,null,null,null,null,null,null,null,null,null,null,null,null,null,null,null,null,null,null,null,null,null,null,null,{"$f":"A106","v":0}]
[null,null,null,null,null,null,null,null,null,null,null,null,null,null,null,null,null,null,null,null,null,null,null,null,null,null,null,null,{"$f":"AC106","v":0}]
[null,null,null,null,null,null,null,null,null,null,null,null,null,null,null,null,null,null,null,null,null,null,null,null,null,null,null,null,{"$f":"AC107","v":0}]
[null,null,null,null,null,null,null,null,null,null,null,null,null,null,null,null,null,null,null,null,null,null,null,null,null,null,null,null,{"$f":"AC108","v":0}]
[null,null,null,null,null,null,null,null,null,null,null,null,null,null,null,null,null,null,null,null,null,null,null,null,null,null,null,null,{"$f":"AC109","v":0}]
[null,null,null,null,null,null,null,null,null,null,null,null,null,null,null,null,null,null,null,null,null,null,null,null,null,null,null,null,{"$f":"A111","v":0}]
[null,null,null,null,null,null,null,null,null,null,null,null,null,null,null,null,null,null,null,null,null,null,null,null,null,null,null,null,{"$f":"AC111","v":0}]
[null,null,null,null,null,null,null,null,null,null,null,null,null,null,null,null,null,null,null,null,null,null,null,null,null,null,null,null,{"$f":"AC112","v":0}]
[null,null,null,null,null,null,null,null,null,null,null,null,null,null,null,null,null,null,null,null,null,null,null,null,null,null,null,null,{"$f":"AC113","v":0}]
[null,null,null,null,null,null,null,null,null,null,null,null,null,null,null,null,null,null,null,null,null,null,null,null,null,null,null,null,{"$f":"AC114","v":0}]
[null,null,null,null,null,null,null,null,null,null,null,null,null,null,null,null,null,null,null,null,null,null,null,null,null,null,null,null,{"$f":"A116","v":0}]
[null,null,null,null,null,null,null,null,null,null,null,null,null,null,null,null,null,null,null,null,null,null,null,null,null,null,null,null,{"$f":"AC116","v":0}]
[null,null,null,null,null,null,null,null,null,null,null,null,null,null,null,null,null,null,null,null,null,null,null,null,null,null,null,null,{"$f":"AC117","v":0}]
[null,null,null,null,null,null,null,null,null,null,null,null,null,null,null,null,null,null,null,null,null,null,null,null,null,null,null,null,{"$f":"AC118","v":0}]
[null,null,null,null,null,null,null,null,null,null,null,null,null,null,null,null,null,null,null,null,null,null,null,null,null,null,null,null,{"$f":"AC119","v":0}]
[null,null,null,null,null,null,null,null,null,null,null,null,null,null,null,null,null,null,null,null,null,null,null,null,null,null,null,null,{"$f":"A121","v":0}]
[null,null,null,null,null,null,null,null,null,null,null,null,null,null,null,null,null,null,null,null,null,null,null,null,null,null,null,null,{"$f":"AC121","v":0}]
[null,null,null,null,null,null,null,null,null,null,null,null,null,null,null,null,null,null,null,null,null,null,null,null,null,null,null,null,{"$f":"AC122","v":0}]
[null,null,null,null,null,null,null,null,null,null,null,null,null,null,null,null,null,null,null,null,null,null,null,null,null,null,null,null,{"$f":"AC123","v":0}]
[null,null,null,null,null,null,null,null,null,null,null,null,null,null,null,null,null,null,null,null,null,null,null,null,null,null,null,null,{"$f":"AC124","v":0}]
[null,null,null,null,null,null,null,null,null,null,null,null,null,null,null,null,null,null,null,null,null,null,null,null,null,null,null,null,{"$f":"A126","v":0}]
[null,null,null,null,null,null,null,null,null,null,null,null,null,null,null,null,null,null,null,null,null,null,null,null,null,null,null,null,{"$f":"AC126","v":0}]
[null,null,null,null,null,null,null,null,null,null,null,null,null,null,null,null,null,null,null,null,null,null,null,null,null,null,null,null,{"$f":"AC127","v":0}]
[null,null,null,null,null,null,null,null,null,null,null,null,null,null,null,null,null,null,null,null,null,null,null,null,null,null,null,null,{"$f":"AC128","v":0}]
[null,null,null,null,null,null,null,null,null,null,null,null,null,null,null,null,null,null,null,null,null,null,null,null,null,null,null,null,{"$f":"AC129","v":0}]
[null,null,null,null,null,null,null,null,null,null,null,null,null,null,null,null,null,null,null,null,null,null,null,null,null,null,null,null,{"$f":"A131","v":0}]
[null,null,null,null,null,null,null,null,null,null,null,null,null,null,null,null,null,null,null,null,null,null,null,null,null,null,null,null,{"$f":"AC131","v":0}]
[null,null,null,null,null,null,null,null,null,null,null,null,null,null,null,null,null,null,null,null,null,null,null,null,null,null,null,null,{"$f":"AC132","v":0}]
[null,null,null,null,null,null,null,null,null,null,null,null,null,null,null,null,null,null,null,null,null,null,null,null,null,null,null,null,{"$f":"AC133","v":0}]
[null,null,null,null,null,null,null,null,null,null,null,null,null,null,null,null,null,null,null,null,null,null,null,null,null,null,null,null,{"$f":"AC134","v":0}]
[null,null,null,null,null,null,null,null,null,null,null,null,null,null,null,null,null,null,null,null,null,null,null,null,null,null,null,null,{"$f":"A136","v":0}]
[null,null,null,null,null,null,null,null,null,null,null,null,null,null,null,null,null,null,null,null,null,null,null,null,null,null,null,null,{"$f":"AC136","v":0}]
[null,null,null,null,null,null,null,null,null,null,null,null,null,null,null,null,null,null,null,null,null,null,null,null,null,null,null,null,{"$f":"AC137","v":0}]
[null,null,null,null,null,null,null,null,null,null,null,null,null,null,null,null,null,null,null,null,null,null,null,null,null,null,null,null,{"$f":"AC138","v":0}]
[null,null,null,null,null,null,null,null,null,null,null,null,null,null,null,null,null,null,null,null,null,null,null,null,null,null,null,null,{"$f":"AC139","v":0}]
[null,null,null,null,null,null,null,null,null,null,null,null,null,null,null,null,null,null,null,null,null,null,null,null,null,null,null,null,{"$f":"A141","v":0}]
[null,null,null,null,null,null,null,null,null,null,null,null,null,null,null,null,null,null,null,null,null,null,null,null,null,null,null,null,{"$f":"AC141","v":0}]
[null,null,null,null,null,null,null,null,null,null,null,null,null,null,null,null,null,null,null,null,null,null,null,null,null,null,null,null,{"$f":"AC142","v":0}]
[null,null,null,null,null,null,null,null,null,null,null,null,null,null,null,null,null,null,null,null,null,null,null,null,null,null,null,null,{"$f":"AC143","v":0}]
[null,null,null,null,null,null,null,null,null,null,null,null,null,null,null,null,null,null,null,null,null,null,null,null,null,null,null,null,{"$f":"AC144","v":0}]
[null,null,null,null,null,null,null,null,null,null,null,null,null,null,null,null,null,null,null,null,null,null,null,null,null,null,null,null,{"$f":"A146","v":0}]
[null,null,null,null,null,null,null,null,null,null,null,null,null,null,null,null,null,null,null,null,null,null,null,null,null,null,null,null,{"$f":"AC146","v":0}]
[null,null,null,null,null,null,null,null,null,null,null,null,null,null,null,null,null,null,null,null,null,null,null,null,null,null,null,null,{"$f":"AC147","v":0}]
[null,null,null,null,null,null,null,null,null,null,null,null,null,null,null,null,null,null,null,null,null,null,null,null,null,null,null,null,{"$f":"AC148","v":0}]
[null,null,null,null,null,null,null,null,null,null,null,null,null,null,null,null,null,null,null,null,null,null,null,null,null,null,null,null,{"$f":"AC149","v":0}]
["Roczne sprawozdanie z wytwarzania, przetwarzania i przerobu - substancje czynne, Środki odurzające",null,null,null,null,null,null,null,null,null,null,null,null,null,null,null,null,null,null,null,null,null,null,null,null,null,null,null,{"$f":"A151","v":"Roczne sprawozdanie z wytwarzania, przetwarzania i przerobu - substancje czynne, Środki odurzające"}]
[null,null,null,null,null,null,null,null,null,null,null,null,null,null,null,null,null,null,null,null,null,null,null,null,null,null,null,null,{"$f":"AC151","v":"Roczne sprawozdanie z wytwarzania, przetwarzania i przerobu - substancje czynne, Środki odurzające"}]
["Nazwa substancji","Nazwa czystej postaci substancji","Stan na 01.01 okresu sprawozdawczego","Przychód w roku sprawozdawczym",null,null,"Wykorzystanie w roku sprawozdawczym",null,null,null,null,null,null,null,null,null,null,"Sprzedaż",null,"Utylizacja","Stan na dzień 31.12 okresu sprawozdawczego",null,null,null,null,null,null,null,{"$f":"AC152","v":"Roczne sprawozdanie z wytwarzania, przetwarzania i przerobu - substancje czynne, Środki odurzające"}]
[null,null,null,"Wewnątrzwspólnotowe nabycie/przywóz","Nabyte w kraju","Produkcja własna","Zużyto na produkcję produktów leczniczych",null,null,null,null,null,null,"Przetworzono na substancje niekontrolowane",null,"Przetworzono na inne substancje kontrolowane",null,"Sprzedaż krajowa","Wewnątrzwspólnotowa dostawa/wywóz",null,null,null,null,null,null,null,null,null,{"$f":"AC153","v":"Roczne sprawozdanie z wytwarzania, przetwarzania i przerobu - substancje czynne, Środki odurzające"}]
[null,null,null,null,null,null,"Informacje o Produkcie",null,null,null,null,"Ilość wytworzonego produktu","Zużyto na kontrole jakości/straty produkcyjne","Nazwa substancji","Ilość przetworzonej substancji","Nazwa substancji","Ilość przetworzonej substancji"]
[null,null,null,null,null,null,"Nazwa produktu leczniczego","Forma Farmaceutyczna","Dawka jednostkowa w mg","Wielkość opakowania","Czy produkt z grupy III-N",null,null,null,null,null,null,null,null,null,null,null,null,null,null,null,null,null,{"$f":"AC154","v":"Roczne sprawozdanie z wytwarzania, przetwarzania i przerobu - substancje czynne, Środki odurzające"}]
[null,null,null,null,null,null,null,null,null,null,null,null,null,null,null,null,null,null,null,null,null,null,null,null,null,null,null,null,{"$f":"A157","v":0}]
[null,null,null,null,null,null,null,null,null,null,null,null,null,null,null,null,null,null,null,null,null,null,null,null,null,null,null,null,{"$f":"AC157","v":0}]
[null,null,null,null,null,null,null,null,null,null,null,null,null,null,null,null,null,null,null,null,null,null,null,null,null,null,null,"Tak",{"$f":"AC158","v":0}]
[null,null,null,null,null,null,null,null,null,null,null,null,null,null,null,null,null,null,null,null,null,null,null,null,null,null,null,"Nie",{"$f":"AC159","v":0}]
[null,null,null,null,null,null,null,null,null,null,null,null,null,null,null,null,null,null,null,null,null,null,null,null,null,null,null,null,{"$f":"AC160","v":0}]
[null,null,null,null,null,null,null,null,null,null,null,null,null,null,null,null,null,null,null,null,null,null,null,null,null,null,null,null,{"$f":"A162","v":0}]
[null,null,null,null,null,null,null,null,null,null,null,null,null,null,null,null,null,null,null,null,null,null,null,null,null,null,null,null,{"$f":"AC162","v":0}]
[null,null,null,null,null,null,null,null,null,null,null,null,null,null,null,null,null,null,null,null,null,null,null,null,null,null,null,null,{"$f":"AC163","v":0}]
[null,null,null,null,null,null,null,null,null,null,null,null,null,null,null,null,null,null,null,null,null,null,null,null,null,null,null,null,{"$f":"AC164","v":0}]
[null,null,null,null,null,null,null,null,null,null,null,null,null,null,null,null,null,null,null,null,null,null,null,null,null,null,null,null,{"$f":"AC165","v":0}]
[null,null,null,null,null,null,null,null,null,null,null,null,null,null,null,null,null,null,null,null,null,null,null,null,null,null,null,null,{"$f":"A167","v":0}]
[null,null,null,null,null,null,null,null,null,null,null,null,null,null,null,null,null,null,null,null,null,null,null,null,null,null,null,null,{"$f":"AC167","v":0}]
[null,null,null,null,null,null,null,null,null,null,null,null,null,null,null,null,null,null,null,null,null,null,null,null,null,null,null,null,{"$f":"AC168","v":0}]
[null,null,null,null,null,null,null,null,null,null,null,null,null,null,null,null,null,null,null,null,null,null,null,null,null,null,null,null,{"$f":"AC169","v":0}]
[null,null,null,null,null,null,null,null,null,null,null,null,null,null,null,null,null,null,null,null,null,null,null,null,null,null,null,null,{"$f":"AC170","v":0}]
[null,null,null,null,null,null,null,null,null,null,null,null,null,null,null,null,null,null,null,null,null,null,null,null,null,null,null,null,{"$f":"A172","v":0}]
[null,null,null,null,null,null,null,null,null,null,null,null,null,null,null,null,null,null,null,null,null,null,null,null,null,null,null,null,{"$f":"AC172","v":0}]
[null,null,null,null,null,null,null,null,null,null,null,null,null,null,null,null,null,null,null,null,null,null,null,null,null,null,null,null,{"$f":"AC173","v":0}]
[null,null,null,null,null,null,null,null,null,null,null,null,null,null,null,null,null,null,null,null,null,null,null,null,null,null,null,null,{"$f":"AC174","v":0}]
[null,null,null,null,null,null,null,null,null,null,null,null,null,null,null,null,null,null,null,null,null,null,null,null,null,null,null,null,{"$f":"AC175","v":0}]
[null,null,null,null,null,null,null,null,null,null,null,null,null,null,null,null,null,null,null,null,null,null,null,null,null,null,null,null,{"$f":"A177","v":0}]
[null,null,null,null,null,null,null,null,null,null,null,null,null,null,null,null,null,null,null,null,null,null,null,null,null,null,null,null,{"$f":"AC177","v":0}]
[null,null,null,null,null,null,null,null,null,null,null,null,null,null,null,null,null,null,null,null,null,null,null,null,null,null,null,null,{"$f":"AC178","v":0}]
[null,null,null,null,null,null,null,null,null,null,null,null,null,null,null,null,null,null,null,null,null,null,null,null,null,null,null,null,{"$f":"AC179","v":0}]
[null,null,null,null,null,null,null,null,null,null,null,null,null,null,null,null,null,null,null,null,null,null,null,null,null,null,null,null,{"$f":"AC180","v":0}]
[null,null,null,null,null,null,null,null,null,null,null,null,null,null,null,null,null,null,null,null,null,null,null,null,null,null,null,null,{"$f":"A182","v":0}]
[null,null,null,null,null,null,null,null,null,null,null,null,null,null,null,null,null,null,null,null,null,null,null,null,null,null,null,null,{"$f":"AC182","v":0}]
[null,null,null,null,null,null,null,null,null,null,null,null,null,null,null,null,null,null,null,null,null,null,null,null,null,null,null,null,{"$f":"AC183","v":0}]
[null,null,null,null,null,null,null,null,null,null,null,null,null,null,null,null,null,null,null,null,null,null,null,null,null,null,null,null,{"$f":"AC184","v":0}]
[null,null,null,null,null,null,null,null,null,null,null,null,null,null,null,null,null,null,null,null,null,null,null,null,null,null,null,null,{"$f":"AC185","v":0}]
[null,null,null,null,null,null,null,null,null,null,null,null,null,null,null,null,null,null,null,null,null,null,null,null,null,null,null,null,{"$f":"A187","v":0}]
[null,null,null,null,null,null,null,null,null,null,null,null,null,null,null,null,null,null,null,null,null,null,null,null,null,null,null,null,{"$f":"AC187","v":0}]
[null,null,null,null,null,null,null,null,null,null,null,null,null,null,null,null,null,null,null,null,null,null,null,null,null,null,null,null,{"$f":"AC188","v":0}]
[null,null,null,null,null,null,null,null,null,null,null,null,null,null,null,null,null,null,null,null,null,null,null,null,null,null,null,null,{"$f":"AC189","v":0}]
[null,null,null,null,null,null,null,null,null,null,null,null,null,null,null,null,null,null,null,null,null,null,null,null,null,null,null,null,{"$f":"AC190","v":0}]
[null,null,null,null,null,null,null,null,null,null,null,null,null,null,null,null,null,null,null,null,null,null,null,null,null,null,null,null,{"$f":"A192","v":0}]
[null,null,null,null,null,null,null,null,null,null,null,null,null,null,null,null,null,null,null,null,null,null,null,null,null,null,null,null,{"$f":"AC192","v":0}]
[null,null,null,null,null,null,null,null,null,null,null,null,null,null,null,null,null,null,null,null,null,null,null,null,null,null,null,null,{"$f":"AC193","v":0}]
[null,null,null,null,null,null,null,null,null,null,null,null,null,null,null,null,null,null,null,null,null,null,null,null,null,null,null,null,{"$f":"AC194","v":0}]
[null,null,null,null,null,null,null,null,null,null,null,null,null,null,null,null,null,null,null,null,null,null,null,null,null,null,null,null,{"$f":"AC195","v":0}]
[null,null,null,null,null,null,null,null,null,null,null,null,null,null,null,null,null,null,null,null,null,null,null,null,null,null,null,null,{"$f":"A197","v":0}]
[null,null,null,null,null,null,null,null,null,null,null,null,null,null,null,null,null,null,null,null,null,null,null,null,null,null,null,null,{"$f":"AC197","v":0}]
[null,null,null,null,null,null,null,null,null,null,null,null,null,null,null,null,null,null,null,null,null,null,null,null,null,null,null,null,{"$f":"AC198","v":0}]
[null,null,null,null,null,null,null,null,null,null,null,null,null,null,null,null,null,null,null,null,null,null,null,null,null,null,null,null,{"$f":"AC199","v":0}]
[null,null,null,null,null,null,null,null,null,null,null,null,null,null,null,null,null,null,null,null,null,null,null,null,null,null,null,null,{"$f":"AC200","v":0}]
[null,null,null,null,null,null,null,null,null,null,null,null,null,null,null,null,null,null,null,null,null,null,null,null,null,null,null,null,{"$f":"A202","v":0}]
[null,null,null,null,null,null,null,null,null,null,null,null,null,null,null,null,null,null,null,null,null,null,null,null,null,null,null,null,{"$f":"AC202","v":0}]
[null,null,null,null,null,null,null,null,null,null,null,null,null,null,null,null,null,null,null,null,null,null,null,null,null,null,null,null,{"$f":"AC203","v":0}]
[null,null,null,null,null,null,null,null,null,null,null,null,null,null,null,null,null,null,null,null,null,null,null,null,null,null,null,null,{"$f":"AC204","v":0}]
[null,null,null,null,null,null,null,null,null,null,null,null,null,null,null,null,null,null,null,null,null,null,null,null,null,null,null,null,{"$f":"AC205","v":0}]
[null,null,null,null,null,null,null,null,null,null,null,null,null,null,null,null,null,null,null,null,null,null,null,null,null,null,null,null,{"$f":"A207","v":0}]
[null,null,null,null,null,null,null,null,null,null,null,null,null,null,null,null,null,null,null,null,null,null,null,null,null,null,null,null,{"$f":"AC207","v":0}]
[null,null,null,null,null,null,null,null,null,null,null,null,null,null,null,null,null,null,null,null,null,null,null,null,null,null,null,null,{"$f":"AC208","v":0}]
[null,null,null,null,null,null,null,null,null,null,null,null,null,null,null,null,null,null,null,null,null,null,null,null,null,null,null,null,{"$f":"AC209","v":0}]
[null,null,null,null,null,null,null,null,null,null,null,null,null,null,null,null,null,null,null,null,null,null,null,null,null,null,null,null,{"$f":"AC210","v":0}]
[null,null,null,null,null,null,null,null,null,null,null,null,null,null,null,null,null,null,null,null,null,null,null,null,null,null,null,null,{"$f":"A212","v":0}]
[null,null,null,null,null,null,null,null,null,null,null,null,null,null,null,null,null,null,null,null,null,null,null,null,null,null,null,null,{"$f":"AC212","v":0}]
[null,null,null,null,null,null,null,null,null,null,null,null,null,null,null,null,null,null,null,null,null,null,null,null,null,null,null,null,{"$f":"AC213","v":0}]
[null,null,null,null,null,null,null,null,null,null,null,null,null,null,null,null,null,null,null,null,null,null,null,null,null,null,null,null,{"$f":"AC214","v":0}]
[null,null,null,null,null,null,null,null,null,null,null,null,null,null,null,null,null,null,null,null,null,null,null,null,null,null,null,null,{"$f":"AC215","v":0}]
[null,null,null,null,null,null,null,null,null,null,null,null,null,null,null,null,null,null,null,null,null,null,null,null,null,null,null,null,{"$f":"A217","v":0}]
[null,null,null,null,null,null,null,null,null,null,null,null,null,null,null,null,null,null,null,null,null,null,null,null,null,null,null,null,{"$f":"AC217","v":0}]
[null,null,null,null,null,null,null,null,null,null,null,null,null,null,null,null,null,null,null,null,null,null,null,null,null,null,null,null,{"$f":"AC218","v":0}]
[null,null,null,null,null,null,null,null,null,null,null,null,null,null,null,null,null,null,null,null,null,null,null,null,null,null,null,null,{"$f":"AC219","v":0}]
[null,null,null,null,null,null,null,null,null,null,null,null,null,null,null,null,null,null,null,null,null,null,null,null,null,null,null,null,{"$f":"AC220","v":0}]
[null,null,null,null,null,null,null,null,null,null,null,null,null,null,null,null,null,null,null,null,null,null,null,null,null,null,null,null,{"$f":"A222","v":0}]
[null,null,null,null,null,null,null,null,null,null,null,null,null,null,null,null,null,null,null,null,null,null,null,null,null,null,null,null,{"$f":"AC222","v":0}]
[null,null,null,null,null,null,null,null,null,null,null,null,null,null,null,null,null,null,null,null,null,null,null,null,null,null,null,null,{"$f":"AC223","v":0}]
[null,null,null,null,null,null,null,null,null,null,null,null,null,null,null,null,null,null,null,null,null,null,null,null,null,null,null,null,{"$f":"AC224","v":0}]
[null,null,null,null,null,null,null,null,null,null,null,null,null,null,null,null,null,null,null,null,null,null,null,null,null,null,null,null,{"$f":"AC225","v":0}]
[null,null,null,null,null,null,null,null,null,null,null,null,null,null,null,null,null,null,null,null,null,null,null,null,null,null,null,null,{"$f":"A227","v":0}]
[null,null,null,null,null,null,null,null,null,null,null,null,null,null,null,null,null,null,null,null,null,null,null,null,null,null,null,null,{"$f":"AC227","v":0}]
[null,null,null,null,null,null,null,null,null,null,null,null,null,null,null,null,null,null,null,null,null,null,null,null,null,null,null,null,{"$f":"AC228","v":0}]
[null,null,null,null,null,null,null,null,null,null,null,null,null,null,null,null,null,null,null,null,null,null,null,null,null,null,null,null,{"$f":"AC229","v":0}]
[null,null,null,null,null,null,null,null,null,null,null,null,null,null,null,null,null,null,null,null,null,null,null,null,null,null,null,null,{"$f":"AC230","v":0}]
[null,null,null,null,null,null,null,null,null,null,null,null,null,null,null,null,null,null,null,null,null,null,null,null,null,null,null,null,{"$f":"A232","v":0}]
[null,null,null,null,null,null,null,null,null,null,null,null,null,null,null,null,null,null,null,null,null,null,null,null,null,null,null,null,{"$f":"AC232","v":0}]
[null,null,null,null,null,null,null,null,null,null,null,null,null,null,null,null,null,null,null,null,null,null,null,null,null,null,null,null,{"$f":"AC233","v":0}]
[null,null,null,null,null,null,null,null,null,null,null,null,null,null,null,null,null,null,null,null,null,null,null,null,null,null,null,null,{"$f":"AC234","v":0}]
[null,null,null,null,null,null,null,null,null,null,null,null,null,null,null,null,null,null,null,null,null,null,null,null,null,null,null,null,{"$f":"AC235","v":0}]
[null,null,null,null,null,null,null,null,null,null,null,null,null,null,null,null,null,null,null,null,null,null,null,null,null,null,null,null,{"$f":"A237","v":0}]
[null,null,null,null,null,null,null,null,null,null,null,null,null,null,null,null,null,null,null,null,null,null,null,null,null,null,null,null,{"$f":"AC237","v":0}]
[null,null,null,null,null,null,null,null,null,null,null,null,null,null,null,null,null,null,null,null,null,null,null,null,null,null,null,null,{"$f":"AC238","v":0}]
[null,null,null,null,null,null,null,null,null,null,null,null,null,null,null,null,null,null,null,null,null,null,null,null,null,null,null,null,{"$f":"AC239","v":0}]
[null,null,null,null,null,null,null,null,null,null,null,null,null,null,null,null,null,null,null,null,null,null,null,null,null,null,null,null,{"$f":"AC240","v":0}]
[null,null,null,null,null,null,null,null,null,null,null,null,null,null,null,null,null,null,null,null,null,null,null,null,null,null,null,null,{"$f":"A242","v":0}]
[null,null,null,null,null,null,null,null,null,null,null,null,null,null,null,null,null,null,null,null,null,null,null,null,null,null,null,null,{"$f":"AC242","v":0}]
[null,null,null,null,null,null,null,null,null,null,null,null,null,null,null,null,null,null,null,null,null,null,null,null,null,null,null,null,{"$f":"AC243","v":0}]
[null,null,null,null,null,null,null,null,null,null,null,null,null,null,null,null,null,null,null,null,null,null,null,null,null,null,null,null,{"$f":"AC244","v":0}]
[null,null,null,null,null,null,null,null,null,null,null,null,null,null,null,null,null,null,null,null,null,null,null,null,null,null,null,null,{"$f":"AC245","v":0}]
[null,null,null,null,null,null,null,null,null,null,null,null,null,null,null,null,null,null,null,null,null,null,null,null,null,null,null,null,{"$f":"A247","v":0}]
[null,null,null,null,null,null,null,null,null,null,null,null,null,null,null,null,null,null,null,null,null,null,null,null,null,null,null,null,{"$f":"AC247","v":0}]
[null,null,null,null,null,null,null,null,null,null,null,null,null,null,null,null,null,null,null,null,null,null,null,null,null,null,null,null,{"$f":"AC248","v":0}]
[null,null,null,null,null,null,null,null,null,null,null,null,null,null,null,null,null,null,null,null,null,null,null,null,null,null,null,null,{"$f":"AC249","v":0}]
[null,null,null,null,null,null,null,null,null,null,null,null,null,null,null,null,null,null,null,null,null,null,null,null,null,null,null,null,{"$f":"AC250","v":0}]
[null,null,null,null,null,null,null,null,null,null,null,null,null,null,null,null,null,null,null,null,null,null,null,null,null,null,null,null,{"$f":"A252","v":0}]
[null,null,null,null,null,null,null,null,null,null,null,null,null,null,null,null,null,null,null,null,null,null,null,null,null,null,null,null,{"$f":"AC252","v":0}]
[null,null,null,null,null,null,null,null,null,null,null,null,null,null,null,null,null,null,null,null,null,null,null,null,null,null,null,null,{"$f":"AC253","v":0}]
[null,null,null,null,null,null,null,null,null,null,null,null,null,null,null,null,null,null,null,null,null,null,null,null,null,null,null,null,{"$f":"AC254","v":0}]
[null,null,null,null,null,null,null,null,null,null,null,null,null,null,null,null,null,null,null,null,null,null,null,null,null,null,null,null,{"$f":"AC255","v":0}]
[null,null,null,null,null,null,null,null,null,null,null,null,null,null,null,null,null,null,null,null,null,null,null,null,null,null,null,null,{"$f":"A257","v":0}]
[null,null,null,null,null,null,null,null,null,null,null,null,null,null,null,null,null,null,null,null,null,null,null,null,null,null,null,null,{"$f":"AC257","v":0}]
[null,null,null,null,null,null,null,null,null,null,null,null,null,null,null,null,null,null,null,null,null,null,null,null,null,null,null,null,{"$f":"AC258","v":0}]
[null,null,null,null,null,null,null,null,null,null,null,null,null,null,null,null,null,null,null,null,null,null,null,null,null,null,null,null,{"$f":"AC259","v":0}]
[null,null,null,null,null,null,null,null,null,null,null,null,null,null,null,null,null,null,null,null,null,null,null,null,null,null,null,null,{"$f":"AC260","v":0}]
[null,null,null,null,null,null,null,null,null,null,null,null,null,null,null,null,null,null,null,null,null,null,null,null,null,null,null,null,{"$f":"A262","v":0}]
[null,null,null,null,null,null,null,null,null,null,null,null,null,null,null,null,null,null,null,null,null,null,null,null,null,null,null,null,{"$f":"AC262","v":0}]
[null,null,null,null,null,null,null,null,null,null,null,null,null,null,null,null,null,null,null,null,null,null,null,null,null,null,null,null,{"$f":"AC263","v":0}]
[null,null,null,null,null,null,null,null,null,null,null,null,null,null,null,null,null,null,null,null,null,null,null,null,null,null,null,null,{"$f":"AC264","v":0}]
[null,null,null,null,null,null,null,null,null,null,null,null,null,null,null,null,null,null,null,null,null,null,null,null,null,null,null,null,{"$f":"AC265","v":0}]
[null,null,null,null,null,null,null,null,null,null,null,null,null,null,null,null,null,null,null,null,null,null,null,null,null,null,null,null,{"$f":"A267","v":0}]
[null,null,null,null,null,null,null,null,null,null,null,null,null,null,null,null,null,null,null,null,null,null,null,null,null,null,null,null,{"$f":"AC267","v":0}]
[null,null,null,null,null,null,null,null,null,null,null,null,null,null,null,null,null,null,null,null,null,null,null,null,null,null,null,null,{"$f":"AC268","v":0}]
[null,null,null,null,null,null,null,null,null,null,null,null,null,null,null,null,null,null,null,null,null,null,null,null,null,null,null,null,{"$f":"AC269","v":0}]
[null,null,null,null,null,null,null,null,null,null,null,null,null,null,null,null,null,null,null,null,null,null,null,null,null,null,null,null,{"$f":"AC270","v":0}]
[null,null,null,null,null,null,null,null,null,null,null,null,null,null,null,null,null,null,null,null,null,null,null,null,null,null,null,null,{"$f":"A272","v":0}]
[null,null,null,null,null,null,null,null,null,null,null,null,null,null,null,null,null,null,null,null,null,null,null,null,null,null,null,null,{"$f":"AC272","v":0}]
[null,null,null,null,null,null,null,null,null,null,null,null,null,null,null,null,null,null,null,null,null,null,null,null,null,null,null,null,{"$f":"AC273","v":0}]
[null,null,null,null,null,null,null,null,null,null,null,null,null,null,null,null,null,null,null,null,null,null,null,null,null,null,null,null,{"$f":"AC274","v":0}]
[null,null,null,null,null,null,null,null,null,null,null,null,null,null,null,null,null,null,null,null,null,null,null,null,null,null,null,null,{"$f":"AC275","v":0}]
[null,null,null,null,null,null,null,null,null,null,null,null,null,null,null,null,null,null,null,null,null,null,null,null,null,null,null,null,{"$f":"A277","v":0}]
[null,null,null,null,null,null,null,null,null,null,null,null,null,null,null,null,null,null,null,null,null,null,null,null,null,null,null,null,{"$f":"AC277","v":0}]
[null,null,null,null,null,null,null,null,null,null,null,null,null,null,null,null,null,null,null,null,null,null,null,null,null,null,null,null,{"$f":"AC278","v":0}]
[null,null,null,null,null,null,null,null,null,null,null,null,null,null,null,null,null,null,null,null,null,null,null,null,null,null,null,null,{"$f":"AC279","v":0}]
[null,null,null,null,null,null,null,null,null,null,null,null,null,null,null,null,null,null,null,null,null,null,null,null,null,null,null,null,{"$f":"AC280","v":0}]
[null,null,null,null,null,null,null,null,null,null,null,null,null,null,null,null,null,null,null,null,null,null,null,null,null,null,null,null,{"$f":"A282","v":0}]
[null,null,null,null,null,null,null,null,null,null,null,null,null,null,null,null,null,null,null,null,null,null,null,null,null,null,null,null,{"$f":"AC282","v":0}]
[null,null,null,null,null,null,null,null,null,null,null,null,null,null,null,null,null,null,null,null,null,null,null,null,null,null,null,null,{"$f":"AC283","v":0}]
[null,null,null,null,null,null,null,null,null,null,null,null,null,null,null,null,null,null,null,null,null,null,null,null,null,null,null,null,{"$f":"AC284","v":0}]
[null,null,null,null,null,null,null,null,null,null,null,null,null,null,null,null,null,null,null,null,null,null,null,null,null,null,null,null,{"$f":"AC285","v":0}]
[null,null,null,null,null,null,null,null,null,null,null,null,null,null,null,null,null,null,null,null,null,null,null,null,null,null,null,null,{"$f":"A287","v":0}]
[null,null,null,null,null,null,null,null,null,null,null,null,null,null,null,null,null,null,null,null,null,null,null,null,null,null,null,null,{"$f":"AC287","v":0}]
[null,null,null,null,null,null,null,null,null,null,null,null,null,null,null,null,null,null,null,null,null,null,null,null,null,null,null,null,{"$f":"AC288","v":0}]
[null,null,null,null,null,null,null,null,null,null,null,null,null,null,null,null,null,null,null,null,null,null,null,null,null,null,null,null,{"$f":"AC289","v":0}]
[null,null,null,null,null,null,null,null,null,null,null,null,null,null,null,null,null,null,null,null,null,null,null,null,null,null,null,null,{"$f":"AC290","v":0}]
[null,null,null,null,null,null,null,null,null,null,null,null,null,null,null,null,null,null,null,null,null,null,null,null,null,null,null,null,{"$f":"A292","v":0}]
[null,null,null,null,null,null,null,null,null,null,null,null,null,null,null,null,null,null,null,null,null,null,null,null,null,null,null,null,{"$f":"AC292","v":0}]
[null,null,null,null,null,null,null,null,null,null,null,null,null,null,null,null,null,null,null,null,null,null,null,null,null,null,null,null,{"$f":"AC293","v":0}]
[null,null,null,null,null,null,null,null,null,null,null,null,null,null,null,null,null,null,null,null,null,null,null,null,null,null,null,null,{"$f":"AC294","v":0}]
[null,null,null,null,null,null,null,null,null,null,null,null,null,null,null,null,null,null,null,null,null,null,null,null,null,null,null,null,{"$f":"AC295","v":0}]
[null,null,null,null,null,null,null,null,null,null,null,null,null,null,null,null,null,null,null,null,null,null,null,null,null,null,null,null,{"$f":"A297","v":0}]
[null,null,null,null,null,null,null,null,null,null,null,null,null,null,null,null,null,null,null,null,null,null,null,null,null,null,null,null,{"$f":"AC297","v":0}]
[null,null,null,null,null,null,null,null,null,null,null,null,null,null,null,null,null,null,null,null,null,null,null,null,null,null,null,null,{"$f":"AC298","v":0}]
[null,null,null,null,null,null,null,null,null,null,null,null,null,null,null,null,null,null,null,null,null,null,null,null,null,null,null,null,{"$f":"AC299","v":0}]
[null,null,null,null,null,null,null,null,null,null,null,null,null,null,null,null,null,null,null,null,null,null,null,null,null,null,null,null,{"$f":"AC300","v":0}]
["Roczne sprawozdanie z wytwarzania, przetwarzania i przerobu - substancje czynne, Prekursory",null,null,null,null,null,null,null,null,null,null,null,null,null,null,null,null,null,null,null,null,null,null,null,null,null,null,null,{"$f":"A302","v":"Roczne sprawozdanie z wytwarzania, przetwarzania i przerobu - substancje czynne, Prekursory"}]
[null,null,null,null,null,null,null,null,null,null,null,null,null,null,null,null,null,null,null,null,null,null,null,null,null,null,null,null,{"$f":"AC302","v":"Roczne sprawozdanie z wytwarzania, przetwarzania i przerobu - substancje czynne, Prekursory"}]
["Nazwa substancji","Nazwa czystej postaci substancji","Stan na 01.01 okresu sprawozdawczego","Przychód w roku sprawozdawczym",null,null,"Wykorzystanie w roku sprawozdawczym",null,null,null,null,null,null,null,null,null,null,"Sprzedaż",null,"Utylizacja","Stan na dzień 31.12 okresu sprawozdawczego",null,null,null,null,null,null,null,{"$f":"AC303","v":"Roczne sprawozdanie z wytwarzania, przetwarzania i przerobu - substancje czynne, Prekursory"}]
[null,null,null,"Wewnątrzwspólnotowe nabycie/przywóz","Nabyte w kraju","Produkcja własna","Zużyto na produkcję produktów leczniczych",null,null,null,null,null,null,"Przetworzono na substancje niekontrolowane",null,"Przetworzono na inne substancje kontrolowane",null,"Sprzedaż krajowa","Wewnątrzwspólnotowa dostawa/wywóz",null,null,null,null,null,null,null,null,null,{"$f":"AC304","v":"Roczne sprawozdanie z wytwarzania, przetwarzania i przerobu - substancje czynne, Prekursory"}]
[null,null,null,null,null,null,"Informacje o Produkcie",null,null,null,null,"Ilość wytworzonego produktu","Zużyto na kontrole jakości/straty produkcyjne","Nazwa substancji","Ilość przetworzonej substancji","Nazwa substancji","Ilość przetworzonej substancji"]
[null,null,null,null,null,null,"Nazwa produktu leczniczego",null,"Forma Farmaceutyczna","Dawka jednostkowa w mg","Wielkość opakowania",null,null,null,null,null,null,null,null,null,null,null,null,null,null,null,null,null,{"$f":"AC305","v":"Roczne sprawozdanie z wytwarzania, przetwarzania i przerobu - substancje czynne, Prekursory"}]
[null,null,null,null,null,null,null,null,null,null,null,null,null,null,null,null,null,null,null,null,null,null,null,null,null,null,null,null,{"$f":"A308","v":0}]
[null,null,null,null,null,null,null,null,null,null,null,null,null,null,null,null,null,null,null,null,null,null,null,null,null,null,null,null,{"$f":"AC308","v":0}]
[null,null,null,null,null,null,null,null,null,null,null,null,null,null,null,null,null,null,null,null,null,null,null,null,null,null,null,null,{"$f":"AC309","v":0}]
[null,null,null,null,null,null,null,null,null,null,null,null,null,null,null,null,null,null,null,null,null,null,null,null,null,null,null,null,{"$f":"AC310","v":0}]
[null,null,null,null,null,null,null,null,null,null,null,null,null,null,null,null,null,null,null,null,null,null,null,null,null,null,null,null,{"$f":"AC311","v":0}]
[null,null,null,null,null,null,null,null,null,null,null,null,null,null,null,null,null,null,null,null,null,null,null,null,null,null,null,null,{"$f":"A313","v":0}]
[null,null,null,null,null,null,null,null,null,null,null,null,null,null,null,null,null,null,null,null,null,null,null,null,null,null,null,null,{"$f":"AC313","v":0}]
[null,null,null,null,null,null,null,null,null,null,null,null,null,null,null,null,null,null,null,null,null,null,null,null,null,null,null,null,{"$f":"AC314","v":0}]
[null,null,null,null,null,null,null,null,null,null,null,null,null,null,null,null,null,null,null,null,null,null,null,null,null,null,null,null,{"$f":"AC315","v":0}]
[null,null,null,null,null,null,null,null,null,null,null,null,null,null,null,null,null,null,null,null,null,null,null,null,null,null,null,null,{"$f":"AC316","v":0}]
[null,null,null,null,null,null,null,null,null,null,null,null,null,null,null,null,null,null,null,null,null,null,null,null,null,null,null,null,{"$f":"A318","v":0}]
[null,null,null,null,null,null,null,null,null,null,null,null,null,null,null,null,null,null,null,null,null,null,null,null,null,null,null,null,{"$f":"AC318","v":0}]
[null,null,null,null,null,null,null,null,null,null,null,null,null,null,null,null,null,null,null,null,null,null,null,null,null,null,null,null,{"$f":"AC319","v":0}]
[null,null,null,null,null,null,null,null,null,null,null,null,null,null,null,null,null,null,null,null,null,null,null,null,null,null,null,null,{"$f":"AC320","v":0}]
[null,null,null,null,null,null,null,null,null,null,null,null,null,null,null,null,null,null,null,null,null,null,null,null,null,null,null,null,{"$f":"AC321","v":0}]
[null,null,null,null,null,null,null,null,null,null,null,null,null,null,null,null,null,null,null,null,null,null,null,null,null,null,null,null,{"$f":"A323","v":0}]
[null,null,null,null,null,null,null,null,null,null,null,null,null,null,null,null,null,null,null,null,null,null,null,null,null,null,null,null,{"$f":"AC323","v":0}]
[null,null,null,null,null,null,null,null,null,null,null,null,null,null,null,null,null,null,null,null,null,null,null,null,null,null,null,null,{"$f":"AC324","v":0}]
[null,null,null,null,null,null,null,null,null,null,null,null,null,null,null,null,null,null,null,null,null,null,null,null,null,null,null,null,{"$f":"AC325","v":0}]
[null,null,null,null,null,null,null,null,null,null,null,null,null,null,null,null,null,null,null,null,null,null,null,null,null,null,null,null,{"$f":"AC326","v":0}]
[null,null,null,null,null,null,null,null,null,null,null,null,null,null,null,null,null,null,null,null,null,null,null,null,null,null,null,null,{"$f":"A328","v":0}]
[null,null,null,null,null,null,null,null,null,null,null,null,null,null,null,null,null,null,null,null,null,null,null,null,null,null,null,null,{"$f":"AC328","v":0}]
[null,null,null,null,null,null,null,null,null,null,null,null,null,null,null,null,null,null,null,null,null,null,null,null,null,null,null,null,{"$f":"AC329","v":0}]
[null,null,null,null,null,null,null,null,null,null,null,null,null,null,null,null,null,null,null,null,null,null,null,null,null,null,null,null,{"$f":"AC330","v":0}]
[null,null,null,null,null,null,null,null,null,null,null,null,null,null,null,null,null,null,null,null,null,null,null,null,null,null,null,null,{"$f":"AC331","v":0}]
[null,null,null,null,null,null,null,null,null,null,null,null,null,null,null,null,null,null,null,null,null,null,null,null,null,null,null,null,{"$f":"A333","v":0}]
[null,null,null,null,null,null,null,null,null,null,null,null,null,null,null,null,null,null,null,null,null,null,null,null,null,null,null,null,{"$f":"AC333","v":0}]
[null,null,null,null,null,null,null,null,null,null,null,null,null,null,null,null,null,null,null,null,null,null,null,null,null,null,null,null,{"$f":"AC334","v":0}]
[null,null,null,null,null,null,null,null,null,null,null,null,null,null,null,null,null,null,null,null,null,null,null,null,null,null,null,null,{"$f":"AC335","v":0}]
[null,null,null,null,null,null,null,null,null,null,null,null,null,null,null,null,null,null,null,null,null,null,null,null,null,null,null,null,{"$f":"AC336","v":0}]
[null,null,null,null,null,null,null,null,null,null,null,null,null,null,null,null,null,null,null,null,null,null,null,null,null,null,null,null,{"$f":"A338","v":0}]
[null,null,null,null,null,null,null,null,null,null,null,null,null,null,null,null,null,null,null,null,null,null,null,null,null,null,null,null,{"$f":"AC338","v":0}]
[null,null,null,null,null,null,null,null,null,null,null,null,null,null,null,null,null,null,null,null,null,null,null,null,null,null,null,null,{"$f":"AC339","v":0}]
[null,null,null,null,null,null,null,null,null,null,null,null,null,null,null,null,null,null,null,null,null,null,null,null,null,null,null,null,{"$f":"AC340","v":0}]
[null,null,null,null,null,null,null,null,null,null,null,null,null,null,null,null,null,null,null,null,null,null,null,null,null,null,null,null,{"$f":"AC341","v":0}]
[null,null,null,null,null,null,null,null,null,null,null,null,null,null,null,null,null,null,null,null,null,null,null,null,null,null,null,null,{"$f":"A343","v":0}]
[null,null,null,null,null,null,null,null,null,null,null,null,null,null,null,null,null,null,null,null,null,null,null,null,null,null,null,null,{"$f":"AC343","v":0}]
[null,null,null,null,null,null,null,null,null,null,null,null,null,null,null,null,null,null,null,null,null,null,null,null,null,null,null,null,{"$f":"AC344","v":0}]
[null,null,null,null,null,null,null,null,null,null,null,null,null,null,null,null,null,null,null,null,null,null,null,null,null,null,null,null,{"$f":"AC345","v":0}]
[null,null,null,null,null,null,null,null,null,null,null,null,null,null,null,null,null,null,null,null,null,null,null,null,null,null,null,null,{"$f":"AC346","v":0}]
[null,null,null,null,null,null,null,null,null,null,null,null,null,null,null,null,null,null,null,null,null,null,null,null,null,null,null,null,{"$f":"A348","v":0}]
[null,null,null,null,null,null,null,null,null,null,null,null,null,null,null,null,null,null,null,null,null,null,null,null,null,null,null,null,{"$f":"AC348","v":0}]
[null,null,null,null,null,null,null,null,null,null,null,null,null,null,null,null,null,null,null,null,null,null,null,null,null,null,null,null,{"$f":"AC349","v":0}]
[null,null,null,null,null,null,null,null,null,null,null,null,null,null,null,null,null,null,null,null,null,null,null,null,null,null,null,null,{"$f":"AC350","v":0}]
[null,null,null,null,null,null,null,null,null,null,null,null,null,null,null,null,null,null,null,null,null,null,null,null,null,null,null,null,{"$f":"AC351","v":0}]
[null,null,null,null,null,null,null,null,null,null,null,null,null,null,null,null,null,null,null,null,null,null,null,null,null,null,null,null,{"$f":"A353","v":0}]
[null,null,null,null,null,null,null,null,null,null,null,null,null,null,null,null,null,null,null,null,null,null,null,null,null,null,null,null,{"$f":"AC353","v":0}]
[null,null,null,null,null,null,null,null,null,null,null,null,null,null,null,null,null,null,null,null,null,null,null,null,null,null,null,null,{"$f":"AC354","v":0}]
[null,null,null,null,null,null,null,null,null,null,null,null,null,null,null,null,null,null,null,null,null,null,null,null,null,null,null,null,{"$f":"AC355","v":0}]
[null,null,null,null,null,null,null,null,null,null,null,null,null,null,null,null,null,null,null,null,null,null,null,null,null,null,null,null,{"$f":"AC356","v":0}]
[null,null,null,null,null,null,null,null,null,null,null,null,null,null,null,null,null,null,null,null,null,null,null,null,null,null,null,null,{"$f":"A358","v":0}]
[null,null,null,null,null,null,null,null,null,null,null,null,null,null,null,null,null,null,null,null,null,null,null,null,null,null,null,null,{"$f":"AC358","v":0}]
[null,null,null,null,null,null,null,null,null,null,null,null,null,null,null,null,null,null,null,null,null,null,null,null,null,null,null,null,{"$f":"AC359","v":0}]
[null,null,null,null,null,null,null,null,null,null,null,null,null,null,null,null,null,null,null,null,null,null,null,null,null,null,null,null,{"$f":"AC360","v":0}]
[null,null,null,null,null,null,null,null,null,null,null,null,null,null,null,null,null,null,null,null,null,null,null,null,null,null,null,null,{"$f":"AC361","v":0}]
[null,null,null,null,null,null,null,null,null,null,null,null,null,null,null,null,null,null,null,null,null,null,null,null,null,null,null,null,{"$f":"A363","v":0}]
[null,null,null,null,null,null,null,null,null,null,null,null,null,null,null,null,null,null,null,null,null,null,null,null,null,null,null,null,{"$f":"AC363","v":0}]
[null,null,null,null,null,null,null,null,null,null,null,null,null,null,null,null,null,null,null,null,null,null,null,null,null,null,null,null,{"$f":"AC364","v":0}]
[null,null,null,null,null,null,null,null,null,null,null,null,null,null,null,null,null,null,null,null,null,null,null,null,null,null,null,null,{"$f":"AC365","v":0}]
[null,null,null,null,null,null,null,null,null,null,null,null,null,null,null,null,null,null,null,null,null,null,null,null,null,null,null,null,{"$f":"AC366","v":0}]
[null,null,null,null,null,null,null,null,null,null,null,null,null,null,null,null,null,null,null,null,null,null,null,null,null,null,null,null,{"$f":"A368","v":0}]
[null,null,null,null,null,null,null,null,null,null,null,null,null,null,null,null,null,null,null,null,null,null,null,null,null,null,null,null,{"$f":"AC368","v":0}]
[null,null,null,null,null,null,null,null,null,null,null,null,null,null,null,null,null,null,null,null,null,null,null,null,null,null,null,null,{"$f":"AC369","v":0}]
[null,null,null,null,null,null,null,null,null,null,null,null,null,null,null,null,null,null,null,null,null,null,null,null,null,null,null,null,{"$f":"AC370","v":0}]
[null,null,null,null,null,null,null,null,null,null,null,null,null,null,null,null,null,null,null,null,null,null,null,null,null,null,null,null,{"$f":"AC371","v":0}]
[null,null,null,null,null,null,null,null,null,null,null,null,null,null,null,null,null,null,null,null,null,null,null,null,null,null,null,null,{"$f":"A373","v":0}]
[null,null,null,null,null,null,null,null,null,null,null,null,null,null,null,null,null,null,null,null,null,null,null,null,null,null,null,null,{"$f":"AC373","v":0}]
[null,null,null,null,null,null,null,null,null,null,null,null,null,null,null,null,null,null,null,null,null,null,null,null,null,null,null,null,{"$f":"AC374","v":0}]
[null,null,null,null,null,null,null,null,null,null,null,null,null,null,null,null,null,null,null,null,null,null,null,null,null,null,null,null,{"$f":"AC375","v":0}]
[null,null,null,null,null,null,null,null,null,null,null,null,null,null,null,null,null,null,null,null,null,null,null,null,null,null,null,null,{"$f":"AC376","v":0}]
[null,null,null,null,null,null,null,null,null,null,null,null,null,null,null,null,null,null,null,null,null,null,null,null,null,null,null,null,{"$f":"A378","v":0}]
[null,null,null,null,null,null,null,null,null,null,null,null,null,null,null,null,null,null,null,null,null,null,null,null,null,null,null,null,{"$f":"AC378","v":0}]
[null,null,null,null,null,null,null,null,null,null,null,null,null,null,null,null,null,null,null,null,null,null,null,null,null,null,null,null,{"$f":"AC379","v":0}]
[null,null,null,null,null,null,null,null,null,null,null,null,null,null,null,null,null,null,null,null,null,null,null,null,null,null,null,null,{"$f":"AC380","v":0}]
[null,null,null,null,null,null,null,null,null,null,null,null,null,null,null,null,null,null,null,null,null,null,null,null,null,null,null,null,{"$f":"AC381","v":0}]
[null,null,null,null,null,null,null,null,null,null,null,null,null,null,null,null,null,null,null,null,null,null,null,null,null,null,null,null,{"$f":"A383","v":0}]
[null,null,null,null,null,null,null,null,null,null,null,null,null,null,null,null,null,null,null,null,null,null,null,null,null,null,null,null,{"$f":"AC383","v":0}]
[null,null,null,null,null,null,null,null,null,null,null,null,null,null,null,null,null,null,null,null,null,null,null,null,null,null,null,null,{"$f":"AC384","v":0}]
[null,null,null,null,null,null,null,null,null,null,null,null,null,null,null,null,null,null,null,null,null,null,null,null,null,null,null,null,{"$f":"AC385","v":0}]
[null,null,null,null,null,null,null,null,null,null,null,null,null,null,null,null,null,null,null,null,null,null,null,null,null,null,null,null,{"$f":"AC386","v":0}]
[null,null,null,null,null,null,null,null,null,null,null,null,null,null,null,null,null,null,null,null,null,null,null,null,null,null,null,null,{"$f":"A388","v":0}]
[null,null,null,null,null,null,null,null,null,null,null,null,null,null,null,null,null,null,null,null,null,null,null,null,null,null,null,null,{"$f":"AC388","v":0}]
[null,null,null,null,null,null,null,null,null,null,null,null,null,null,null,null,null,null,null,null,null,null,null,null,null,null,null,null,{"$f":"AC389","v":0}]
[null,null,null,null,null,null,null,null,null,null,null,null,null,null,null,null,null,null,null,null,null,null,null,null,null,null,null,null,{"$f":"AC390","v":0}]
[null,null,null,null,null,null,null,null,null,null,null,null,null,null,null,null,null,null,null,null,null,null,null,null,null,null,null,null,{"$f":"AC391","v":0}]
[null,null,null,null,null,null,null,null,null,null,null,null,null,null,null,null,null,null,null,null,null,null,null,null,null,null,null,null,{"$f":"A393","v":0}]
[null,null,null,null,null,null,null,null,null,null,null,null,null,null,null,null,null,null,null,null,null,null,null,null,null,null,null,null,{"$f":"AC393","v":0}]
[null,null,null,null,null,null,null,null,null,null,null,null,null,null,null,null,null,null,null,null,null,null,null,null,null,null,null,null,{"$f":"AC394","v":0}]
[null,null,null,null,null,null,null,null,null,null,null,null,null,null,null,null,null,null,null,null,null,null,null,null,null,null,null,null,{"$f":"AC395","v":0}]
[null,null,null,null,null,null,null,null,null,null,null,null,null,null,null,null,null,null,null,null,null,null,null,null,null,null,null,null,{"$f":"AC396","v":0}]
[null,null,null,null,null,null,null,null,null,null,null,null,null,null,null,null,null,null,null,null,null,null,null,null,null,null,null,null,{"$f":"A398","v":0}]
[null,null,null,null,null,null,null,null,null,null,null,null,null,null,null,null,null,null,null,null,null,null,null,null,null,null,null,null,{"$f":"AC398","v":0}]
[null,null,null,null,null,null,null,null,null,null,null,null,null,null,null,null,null,null,null,null,null,null,null,null,null,null,null,null,{"$f":"AC399","v":0}]
[null,null,null,null,null,null,null,null,null,null,null,null,null,null,null,null,null,null,null,null,null,null,null,null,null,null,null,null,{"$f":"AC400","v":0}]
[null,null,null,null,null,null,null,null,null,null,null,null,null,null,null,null,null,null,null,null,null,null,null,null,null,null,null,null,{"$f":"AC401","v":0}]
[null,null,null,null,null,null,null,null,null,null,null,null,null,null,null,null,null,null,null,null,null,null,null,null,null,null,null,null,{"$f":"A403","v":0}]
[null,null,null,null,null,null,null,null,null,null,null,null,null,null,null,null,null,null,null,null,null,null,null,null,null,null,null,null,{"$f":"AC403","v":0}]
[null,null,null,null,null,null,null,null,null,null,null,null,null,null,null,null,null,null,null,null,null,null,null,null,null,null,null,null,{"$f":"AC404","v":0}]
[null,null,null,null,null,null,null,null,null,null,null,null,null,null,null,null,null,null,null,null,null,null,null,null,null,null,null,null,{"$f":"AC405","v":0}]
[null,null,null,null,null,null,null,null,null,null,null,null,null,null,null,null,null,null,null,null,null,null,null,null,null,null,null,null,{"$f":"AC406","v":0}]
[null,null,null,null,null,null,null,null,null,null,null,null,null,null,null,null,null,null,null,null,null,null,null,null,null,null,null,null,{"$f":"A408","v":0}]
[null,null,null,null,null,null,null,null,null,null,null,null,null,null,null,null,null,null,null,null,null,null,null,null,null,null,null,null,{"$f":"AC408","v":0}]
[null,null,null,null,null,null,null,null,null,null,null,null,null,null,null,null,null,null,null,null,null,null,null,null,null,null,null,null,{"$f":"AC409","v":0}]
[null,null,null,null,null,null,null,null,null,null,null,null,null,null,null,null,null,null,null,null,null,null,null,null,null,null,null,null,{"$f":"AC410","v":0}]
[null,null,null,null,null,null,null,null,null,null,null,null,null,null,null,null,null,null,null,null,null,null,null,null,null,null,null,null,{"$f":"AC411","v":0}]
[null,null,null,null,null,null,null,null,null,null,null,null,null,null,null,null,null,null,null,null,null,null,null,null,null,null,null,null,{"$f":"A413","v":0}]
[null,null,null,null,null,null,null,null,null,null,null,null,null,null,null,null,null,null,null,null,null,null,null,null,null,null,null,null,{"$f":"AC413","v":0}]
[null,null,null,null,null,null,null,null,null,null,null,null,null,null,null,null,null,null,null,null,null,null,null,null,null,null,null,null,{"$f":"AC414","v":0}]
[null,null,null,null,null,null,null,null,null,null,null,null,null,null,null,null,null,null,null,null,null,null,null,null,null,null,null,null,{"$f":"AC415","v":0}]
[null,null,null,null,null,null,null,null,null,null,null,null,null,null,null,null,null,null,null,null,null,null,null,null,null,null,null,null,{"$f":"AC416","v":0}]
[null,null,null,null,null,null,null,null,null,null,null,null,null,null,null,null,null,null,null,null,null,null,null,null,null,null,null,null,{"$f":"A418","v":0}]
[null,null,null,null,null,null,null,null,null,null,null,null,null,null,null,null,null,null,null,null,null,null,null,null,null,null,null,null,{"$f":"AC418","v":0}]
[null,null,null,null,null,null,null,null,null,null,null,null,null,null,null,null,null,null,null,null,null,null,null,null,null,null,null,null,{"$f":"AC419","v":0}]
[null,null,null,null,null,null,null,null,null,null,null,null,null,null,null,null,null,null,null,null,null,null,null,null,null,null,null,null,{"$f":"AC420","v":0}]
[null,null,null,null,null,null,null,null,null,null,null,null,null,null,null,null,null,null,null,null,null,null,null,null,null,null,null,null,{"$f":"AC421","v":0}]
[null,null,null,null,null,null,null,null,null,null,null,null,null,null,null,null,null,null,null,null,null,null,null,null,null,null,null,null,{"$f":"A423","v":0}]
[null,null,null,null,null,null,null,null,null,null,null,null,null,null,null,null,null,null,null,null,null,null,null,null,null,null,null,null,{"$f":"AC423","v":0}]
[null,null,null,null,null,null,null,null,null,null,null,null,null,null,null,null,null,null,null,null,null,null,null,null,null,null,null,null,{"$f":"AC424","v":0}]
[null,null,null,null,null,null,null,null,null,null,null,null,null,null,null,null,null,null,null,null,null,null,null,null,null,null,null,null,{"$f":"AC425","v":0}]
[null,null,null,null,null,null,null,null,null,null,null,null,null,null,null,null,null,null,null,null,null,null,null,null,null,null,null,null,{"$f":"AC426","v":0}]
[null,null,null,null,null,null,null,null,null,null,null,null,null,null,null,null,null,null,null,null,null,null,null,null,null,null,null,null,{"$f":"A428","v":0}]
[null,null,null,null,null,null,null,null,null,null,null,null,null,null,null,null,null,null,null,null,null,null,null,null,null,null,null,null,{"$f":"AC428","v":0}]
[null,null,null,null,null,null,null,null,null,null,null,null,null,null,null,null,null,null,null,null,null,null,null,null,null,null,null,null,{"$f":"AC429","v":0}]
[null,null,null,null,null,null,null,null,null,null,null,null,null,null,null,null,null,null,null,null,null,null,null,null,null,null,null,null,{"$f":"AC430","v":0}]
[null,null,null,null,null,null,null,null,null,null,null,null,null,null,null,null,null,null,null,null,null,null,null,null,null,null,null,null,{"$f":"AC431","v":0}]
[null,null,null,null,null,null,null,null,null,null,null,null,null,null,null,null,null,null,null,null,null,null,null,null,null,null,null,null,{"$f":"A433","v":0}]
[null,null,null,null,null,null,null,null,null,null,null,null,null,null,null,null,null,null,null,null,null,null,null,null,null,null,null,null,{"$f":"AC433","v":0}]
[null,null,null,null,null,null,null,null,null,null,null,null,null,null,null,null,null,null,null,null,null,null,null,null,null,null,null,null,{"$f":"AC434","v":0}]
[null,null,null,null,null,null,null,null,null,null,null,null,null,null,null,null,null,null,null,null,null,null,null,null,null,null,null,null,{"$f":"AC435","v":0}]
[null,null,null,null,null,null,null,null,null,null,null,null,null,null,null,null,null,null,null,null,null,null,null,null,null,null,null,null,{"$f":"AC436","v":0}]
[null,null,null,null,null,null,null,null,null,null,null,null,null,null,null,null,null,null,null,null,null,null,null,null,null,null,null,null,{"$f":"A438","v":0}]
[null,null,null,null,null,null,null,null,null,null,null,null,null,null,null,null,null,null,null,null,null,null,null,null,null,null,null,null,{"$f":"AC438","v":0}]
[null,null,null,null,null,null,null,null,null,null,null,null,null,null,null,null,null,null,null,null,null,null,null,null,null,null,null,null,{"$f":"AC439","v":0}]
[null,null,null,null,null,null,null,null,null,null,null,null,null,null,null,null,null,null,null,null,null,null,null,null,null,null,null,null,{"$f":"AC440","v":0}]
[null,null,null,null,null,null,null,null,null,null,null,null,null,null,null,null,null,null,null,null,null,null,null,null,null,null,null,null,{"$f":"AC441","v":0}]
[null,null,null,null,null,null,null,null,null,null,null,null,null,null,null,null,null,null,null,null,null,null,null,null,null,null,null,null,{"$f":"A443","v":0}]
[null,null,null,null,null,null,null,null,null,null,null,null,null,null,null,null,null,null,null,null,null,null,null,null,null,null,null,null,{"$f":"AC443","v":0}]
[null,null,null,null,null,null,null,null,null,null,null,null,null,null,null,null,null,null,null,null,null,null,null,null,null,null,null,null,{"$f":"AC444","v":0}]
[null,null,null,null,null,null,null,null,null,null,null,null,null,null,null,null,null,null,null,null,null,null,null,null,null,null,null,null,{"$f":"AC445","v":0}]
[null,null,null,null,null,null,null,null,null,null,null,null,null,null,null,null,null,null,null,null,null,null,null,null,null,null,null,null,{"$f":"AC446","v":0}]
[null,null,null,null,null,null,null,null,null,null,null,null,null,null,null,null,null,null,null,null,null,null,null,null,null,null,null,null,{"$f":"A448","v":0}]
[null,null,null,null,null,null,null,null,null,null,null,null,null,null,null,null,null,null,null,null,null,null,null,null,null,null,null,null,{"$f":"AC448","v":0}]
[null,null,null,null,null,null,null,null,null,null,null,null,null,null,null,null,null,null,null,null,null,null,null,null,null,null,null,null,{"$f":"AC449","v":0}]
[null,null,null,null,null,null,null,null,null,null,null,null,null,null,null,null,null,null,null,null,null,null,null,null,null,null,null,null,{"$f":"AC450","v":0}]
[null,null,null,null,null,null,null,null,null,null,null,null,null,null,null,null,null,null,null,null,null,null,null,null,null,null,null,null,{"$f":"AC451","v":0}]
[null,null,null,null,null,null,null,null,null,null,null,null,null,null,null,null,null,null,null,null,null,null,null,null,null,null,null,null,{"$f":"A453","v":0}]
[null,null,null,null,null,null,null,null,null,null,null,null,null,null,null,null,null,null,null,null,null,null,null,null,null,null,null,null,{"$f":"AC453","v":0}]
[null,null,null,null,null,null,null,null,null,null,null,null,null,null,null,null,null,null,null,null,null,null,null,null,null,null,null,null,{"$f":"AC454","v":0}]
[null,null,null,null,null,null,null,null,null,null,null,null,null,null,null,null,null,null,null,null,null,null,null,null,null,null,null,null,{"$f":"AC455","v":0}]
[null,null,null,null,null,null,null,null,null,null,null,null,null,null,null,null,null,null,null,null,null,null,null,null,null,null,null,null,{"$f":"AC456","v":0}]
[null,null,null,null,null,null,null,null,null,null,null,null,null,null,null,null,null,null,null,null,null,null,null,null,null,null,null,null,{"$f":"A458","v":0}]
[null,null,null,null,null,null,null,null,null,null,null,null,null,null,null,null,null,null,null,null,null,null,null,null,null,null,null,null,{"$f":"AC458","v":0}]
[null,null,null,null,null,null,null,null,null,null,null,null,null,null,null,null,null,null,null,null,null,null,null,null,null,null,null,null,{"$f":"AC459","v":0}]
[null,null,null,null,null,null,null,null,null,null,null,null,null,null,null,null,null,null,null,null,null,null,null,null,null,null,null,null,{"$f":"AC460","v":0}]
[null,null,null,null,null,null,null,null,null,null,null,null,null,null,null,null,null,null,null,null,null,null,null,null,null,null,null,null,{"$f":"AC461","v":0}]
[null,null,null,null,null,null,null,null,null,null,null,null,null,null,null,null,null,null,null,null,null,null,null,null,null,null,null,null,{"$f":"A463","v":0}]
[null,null,null,null,null,null,null,null,null,null,null,null,null,null,null,null,null,null,null,null,null,null,null,null,null,null,null,null,{"$f":"AC463","v":0}]
[null,null,null,null,null,null,null,null,null,null,null,null,null,null,null,null,null,null,null,null,null,null,null,null,null,null,null,null,{"$f":"AC464","v":0}]
[null,null,null,null,null,null,null,null,null,null,null,null,null,null,null,null,null,null,null,null,null,null,null,null,null,null,null,null,{"$f":"AC465","v":0}]
[null,null,null,null,null,null,null,null,null,null,null,null,null,null,null,null,null,null,null,null,null,null,null,null,null,null,null,null,{"$f":"AC466","v":0}]
[null,null,null,null,null,null,null,null,null,null,null,null,null,null,null,null,null,null,null,null,null,null,null,null,null,null,null,null,{"$f":"A468","v":0}]
[null,null,null,null,null,null,null,null,null,null,null,null,null,null,null,null,null,null,null,null,null,null,null,null,null,null,null,null,{"$f":"AC468","v":0}]
[null,null,null,null,null,null,null,null,null,null,null,null,null,null,null,null,null,null,null,null,null,null,null,null,null,null,null,null,{"$f":"AC469","v":0}]
[null,null,null,null,null,null,null,null,null,null,null,null,null,null,null,null,null,null,null,null,null,null,null,null,null,null,null,null,{"$f":"AC470","v":0}]
[null,null,null,null,null,null,null,null,null,null,null,null,null,null,null,null,null,null,null,null,null,null,null,null,null,null,null,null,{"$f":"AC471","v":0}]
[null,null,null,null,null,null,null,null,null,null,null,null,null,null,null,null,null,null,null,null,null,null,null,null,null,null,null,null,{"$f":"A473","v":0}]
[null,null,null,null,null,null,null,null,null,null,null,null,null,null,null,null,null,null,null,null,null,null,null,null,null,null,null,null,{"$f":"AC473","v":0}]
[null,null,null,null,null,null,null,null,null,null,null,null,null,null,null,null,null,null,null,null,null,null,null,null,null,null,null,null,{"$f":"AC474","v":0}]
[null,null,null,null,null,null,null,null,null,null,null,null,null,null,null,null,null,null,null,null,null,null,null,null,null,null,null,null,{"$f":"AC475","v":0}]
[null,null,null,null,null,null,null,null,null,null,null,null,null,null,null,null,null,null,null,null,null,null,null,null,null,null,null,null,{"$f":"AC476","v":0}]
[null,null,null,null,null,null,null,null,null,null,null,null,null,null,null,null,null,null,null,null,null,null,null,null,null,null,null,null,{"$f":"A478","v":0}]
[null,null,null,null,null,null,null,null,null,null,null,null,null,null,null,null,null,null,null,null,null,null,null,null,null,null,null,null,{"$f":"AC478","v":0}]

{"sheet":"Instrukcja Hurtownia Wet","index":26,"n_rows":20,"n_cols":1,"rows_kept":20,"cut":false,"hidden":true,"merged":[[19,0,19,7],[13,0,13,7],[14,0,14,7],[15,0,15,7],[16,0,16,7],[17,0,17,7],[18,0,18,7],[4,0,6,7],[12,0,12,7],[7,0,7,7],[8,0,8,7],[9,0,9,7],[10,0,10,7],[11,0,11,7]]}
[]
[]
[]
[]
["Instrukcja - Obrót produktami leczniczymi weterynaryjnymi"]
[]
[]
["1. Na tabele składa się kilka elementów  w postaci Informacji o produkcie, stanach magazynowych na początek i koniec roku, przychodzie i rozchodzie oraz liczbie zutylizowanych opakowań."]
["2. Informacje o produkcie - pełne informacje o wskazanym produkcie, mogą być one wypełnione na dwa sposoby:"]
["a) wybranie nazwy handlowej produktu z listy, a następnie zależnie od potrzeb wybranie lub wpisanie formy farmaceutycznej, dawki i wielkości opakowania"]
["b) ręczne wpisanie nazwy handlowej produktu oraz pozostałych informacji o produkcie w wypadku gdy produkt nie znajduje się na liście"]
["3. Substancja czynna - w sytuacji samodzielnego wpisywania substancji czynnej podana powinna zostać nazwa substancji wpisana dla produktu w Rejestrze Produktów Leczniczych lub charakterystyce produktu leczniczego w wypadku produktów nie występujących w rejestrze."]
["4. Forma farmaceutyczna - forma produktu zgodna z Rejestrem Produktów Leczniczych lub charakterystyką produktu leczniczego"]
["5. Dawka jednostkowa w mg - Ilość substancji czynnej w jednostce produktu w przeliczeniu na mg zgodna z Rejestrem Produktów Leczniczych lub charakterystyką produktu. W wypadku roztworów jako dawkę rozumie się liczbę mg na ml produktu przy jednoczesnym traktowaniu ilości ml w opakowaniu jako jego wielkości, lub też ilości mg w ampułce w wypadku traktowania ilości ampułek w opakowaniu jako jego wielkość. W wypadku systemów transdermalnych przez jednostkową dawkę rozumie się łączną zawartość substancji kontrolowanej w pojedyńczym plastrze."]
["6. Wielkość opakowania - liczba jednostkowych dawek produktu w pojedynczym opakowaniu produktu."]
["7. Stan na dzień 01.01 roku sprawozdawczego - ilość opakowań produktu posiadana przez podmiot na początku okresu sprawozdawczego."]
["8. Przychód - ilość opakowań nabytych przez całą długość raportowanego okresu sprawozdawczego, z rozróżnieniem na źródło przychodu."]
["9. Rozchód - ilość opakowań sprzedanych przez całą długość okresu sprawozdawczego."]
["10. Utylizacja - liczba zutylizowanych opakowań"]
["11. Stan na ostatni dzień roku sprawozdawczego - ilość opakowań produktu posiadana na końcu okresu sprawozdawczego. Ilość ta powinna być równa Stanowi na początek okresu + przychód - rozchód - utylizacja."]

{"sheet":"Wytwórcy Produkty","index":27,"n_rows":314,"n_cols":16,"rows_kept":314,"cut":false,"hidden":true,"merged":[[439,3,443,3],[439,4,443,4],[444,2,448,2],[444,3,448,3],[444,4,448,4],[9,2,13,2],[9,3,13,3],[9,4,13,4],[14,2,18,2],[14,3,18,3],[14,4,18,4],[19,2,23,2],[19,3,23,3],[19,4,23,4],[24,2,28,2],[24,3,28,3],[24,4,28,4],[29,2,33,2],[29,3,33,3],[29,4,33,4],[34,2,38,2],[34,3,38,3],[34,4,38,4],[39,2,43,2],[39,3,43,3],[39,4,43,4],[409,2,413,2],[409,3,413,3],[409,4,413,4],[414,2,418,2],[414,3,418,3],[414,4,418,4],[419,2,423,2],[419,3,423,3],[419,4,423,4],[424,2,428,2],[424,3,428,3],[424,4,428,4],[64,3,68,3],[64,4,68,4],[69,2,73,2],[69,3,73,3],[69,4,73,4],[74,2,78,2],[259,4,263,4],[264,2,268,2],[264,3,268,3],[264,4,268,4],[269,2,273,2],[269,3,273,3],[269,4,273,4],[274,2,278,2],[149,2,153,2],[149,3,153,3],[149,4,153,4],[154,2,158,2],[154,3,158,3],[154,4,158,4],[284,2,288,2],[284,3,288,3],[284,4,288,4],[289,2,293,2],[289,3,293,3],[289,4,293,4],[429,2,433,2],[429,3,433,3],[429,4,433,4],[434,2,438,2],[434,3,438,3],[434,4,438,4],[294,3,298,3],[294,4,298,4],[299,2,303,2],[299,3,303,3],[299,4,303,4],[304,2,308,2],[304,3,308,3],[304,4,308,4],[161,3,163,3],[161,4,163,4],[6,2,8,2],[6,3,8,3],[6,4,8,4],[311,2,313,2],[311,3,313,3],[311,4,313,4],[314,2,318,2],[314,3,318,3],[314,4,318,4],[54,2,58,2],[54,3,58,3],[54,4,58,4],[59,2,63,2],[59,3,63,3],[59,4,63,4],[64,2,68,2],[214,3,218,3],[214,4,218,4],[219,2,223,2],[219,3,223,3],[219,4,223,4],[224,2,228,2],[224,3,228,3],[224,4,228,4],[229,2,233,2],[229,3,233,3],[229,4,233,4],[234,2,238,2],[234,3,238,3],[234,4,238,4],[239,2,243,2],[239,3,243,3],[239,4,243,4],[161,2,163,2],[164,2,168,2],[164,3,168,3],[164,4,168,4],[169,2,173,2],[169,3,173,3],[169,4,173,4],[174,2,178,2],[174,3,178,3],[174,4,178,4],[179,2,183,2],[179,3,183,3],[179,4,183,4],[184,2,188,2],[184,3,188,3],[184,4,188,4],[189,2,193,2],[189,3,193,3],[189,4,193,4],[419,1,423,1],[424,1,428,1],[429,1,433,1],[434,1,438,1],[439,1,443,1],[444,1,448,1],[7,11,7,12],[162,11,162,12],[312,11,312,12],[311,1,313,1],[314,1,318,1],[319,1,323,1],[324,1,328,1],[329,1,333,1],[334,1,338,1],[339,1,343,1],[344,1,348,1],[349,1,353,1],[354,1,358,1],[359,1,363,1],[364,1,368,1],[369,1,373,1],[374,1,378,1],[379,1,383,1],[384,1,388,1],[389,1,393,1],[149,1,153,1],[154,1,158,1],[161,1,163,1],[164,1,168,1],[169,1,173,1],[174,1,178,1],[179,1,183,1],[184,1,188,1],[189,1,193,1],[194,1,198,1],[199,1,203,1],[204,1,208,1],[209,1,213,1],[214,1,218,1],[219,1,223,1],[224,1,228,1],[229,1,233,1],[6,1,8,1],[9,1,13,1],[14,1,18,1],[19,1,23,1],[24,1,28,1],[29,1,33,1],[34,1,38,1],[39,1,43,1],[44,1,48,1],[49,1,53,1],[54,1,58,1],[59,1,63,1],[64,1,68,1],[69,1,73,1],[74,1,78,1],[79,1,83,1],[84,1,88,1],[429,6,433,7],[434,6,438,7],[439,6,443,7],[6,11,6,13],[7,13,8,13],[161,11,161,13],[162,13,163,13],[311,11,311,13],[312,13,313,13],[311,14,313,14],[161,14,163,14],[6,14,8,14],[414,11,418,11],[414,12,418,12],[414,13,418,13],[414,14,418,14],[404,11,408,11],[404,12,408,12],[404,13,408,13],[394,11,398,11],[394,12,398,12],[394,13,398,13],[394,14,398,14],[384,11,388,11],[384,12,388,12],[384,13,388,13],[384,14,388,14],[374,11,378,11],[374,12,378,12],[374,13,378,13],[374,14,378,14],[364,11,368,11],[444,0,448,0],[444,5,448,5],[444,8,448,8],[444,9,448,9],[444,10,448,10],[434,11,438,11],[434,12,438,12],[434,13,438,13],[434,14,438,14],[434,15,438,15],[439,0,443,0],[439,5,443,5],[439,8,443,8],[439,9,443,9],[439,10,443,10],[439,11,443,11],[439,12,443,12],[439,13,443,13],[439,14,443,14],[439,15,443,15],[434,0,438,0],[434,5,438,5],[434,8,438,8],[434,9,438,9],[434,10,438,10],[444,11,448,11],[444,12,448,12],[444,13,448,13],[444,14,448,14],[444,15,448,15],[444,6,448,7],[439,2,443,2],[424,15,428,15],[429,0,433,0],[429,5,433,5],[429,8,433,8],[429,9,433,9],[429,10,433,10],[429,11,433,11],[429,12,433,12],[429,13,433,13],[429,14,433,14],[429,15,433,15],[424,0,428,0],[424,5,428,5],[424,8,428,8],[424,9,428,9],[424,10,428,10],[419,0,423,0],[419,5,423,5],[419,8,423,8],[419,9,423,9],[419,10,423,10],[419,11,423,11],[419,12,423,12],[419,13,423,13],[419,14,423,14],[419,15,423,15],[424,11,428,11],[424,12,428,12],[424,13,428,13],[424,14,428,14],[419,6,423,7],[424,6,428,7],[414,0,418,0],[414,5,418,5],[414,8,418,8],[414,9,418,9],[414,10,418,10],[404,14,408,14],[404,15,408,15],[409,0,413,0],[409,5,413,5],[409,8,413,8],[409,9,413,9],[409,10,413,10],[409,11,413,11],[409,12,413,12],[409,13,413,13],[409,14,413,14],[409,15,413,15],[404,0,408,0],[404,5,408,5],[404,8,408,8],[404,9,408,9],[404,10,408,10],[414,15,418,15],[404,6,408,7],[409,6,413,7],[414,6,418,7],[404,1,408,1],[409,1,413,1],[414,1,418,1],[404,2,408,2],[404,3,408,3],[404,4,408,4],[394,15,398,15],[399,0,403,0],[399,5,403,5],[399,8,403,8],[399,9,403,9],[399,10,403,10],[399,11,403,11],[399,12,403,12],[399,13,403,13],[399,14,403,14],[399,15,403,15],[394,0,398,0],[394,5,398,5],[394,8,398,8],[394,9,398,9],[394,10,398,10],[394,6,398,7],[399,6,403,7],[394,1,398,1],[399,1,403,1],[394,2,398,2],[394,3,398,3],[394,4,398,4],[399,2,403,2],[399,3,403,3],[399,4,403,4],[384,15,388,15],[389,0,393,0],[389,5,393,5],[389,8,393,8],[389,9,393,9],[389,10,393,10],[389,11,393,11],[389,12,393,12],[389,13,393,13],[389,14,393,14],[389,15,393,15],[384,0,388,0],[384,5,388,5],[384,8,388,8],[384,9,388,9],[384,10,388,10],[384,6,388,7],[389,6,393,7],[384,2,388,2],[384,3,388,3],[384,4,388,4],[389,2,393,2],[389,3,393,3],[389,4,393,4],[374,15,378,15],[379,0,383,0],[379,5,383,5],[379,8,383,8],[379,9,383,9],[379,10,383,10],[379,11,383,11],[379,12,383,12],[379,13,383,13],[379,14,383,14],[379,15,383,15],[374,0,378,0],[374,5,378,5],[374,8,378,8],[374,9,378,9],[374,10,378,10],[374,6,378,7],[379,6,383,7],[374,2,378,2],[374,3,378,3],[374,4,378,4],[379,2,383,2],[379,3,383,3],[379,4,383,4],[364,12,368,12],[364,13,368,13],[364,14,368,14],[364,15,368,15],[369,0,373,0],[369,5,373,5],[369,8,373,8],[369,9,373,9],[369,10,373,10],[369,11,373,11],[369,12,373,12],[369,13,373,13],[369,14,373,14],[369,15,373,15],[364,0,368,0],[364,5,368,5],[364,8,368,8],[364,9,368,9],[364,10,368,10],[364,6,368,7],[369,6,373,7],[364,2,368,2],[364,3,368,3],[364,4,368,4],[369,2,373,2],[369,3,373,3],[369,4,373,4],[354,11,358,11],[354,12,358,12],[354,13,358,13],[354,14,358,14],[354,15,358,15],[359,0,363,0],[359,5,363,5],[359,8,363,8],[359,9,363,9],[359,10,363,10],[359,11,363,11],[359,12,363,12],[359,13,363,13],[359,14,363,14],[359,15,363,15],[354,0,358,0],[354,5,358,5],[354,8,358,8],[354,9,358,9],[354,10,358,10],[354,6,358,7],[359,6,363,7],[354,2,358,2],[354,3,358,3],[354,4,358,4],[359,2,363,2],[359,3,363,3],[359,4,363,4],[344,11,348,11],[344,12,348,12],[344,13,348,13],[344,14,348,14],[344,15,348,15],[349,0,353,0],[349,5,353,5],[349,8,353,8],[349,9,353,9],[349,10,353,10],[349,11,353,11],[349,12,353,12],[349,13,353,13],[349,14,353,14],[349,15,353,15],[344,0,348,0],[344,5,348,5],[344,8,348,8],[344,9,348,9],[344,10,348,10],[344,6,348,7],[349,6,353,7],[344,2,348,2],[344,3,348,3],[344,4,348,4],[349,2,353,2],[349,3,353,3],[349,4,353,4],[334,11,338,11],[334,12,338,12],[334,13,338,13],[334,14,338,14],[334,15,338,15],[339,0,343,0],[339,5,343,5],[339,8,343,8],[339,9,343,9],[339,10,343,10],[339,11,343,11],[339,12,343,12],[339,13,343,13],[339,14,343,14],[339,15,343,15],[334,0,338,0],[334,5,338,5],[334,8,338,8],[334,9,338,9],[334,10,338,10],[334,6,338,7],[339,6,343,7],[334,2,338,2],[334,3,338,3],[334,4,338,4],[339,2,343,2],[339,3,343,3],[339,4,343,4],[324,11,328,11],[324,12,328,12],[324,13,328,13],[324,14,328,14],[324,15,328,15],[329,0,333,0],[329,5,333,5],[329,8,333,8],[329,9,333,9],[329,10,333,10],[329,11,333,11],[329,12,333,12],[329,13,333,13],[329,14,333,14],[329,15,333,15],[324,0,328,0],[324,5,328,5],[324,8,328,8],[324,9,328,9],[324,10,328,10],[324,6,328,7],[329,6,333,7],[324,2,328,2],[324,3,328,3],[324,4,328,4],[329,2,333,2],[329,3,333,3],[329,4,333,4],[314,11,318,11],[314,12,318,12],[314,13,318,13],[314,14,318,14],[314,15,318,15],[319,0,323,0],[319,5,323,5],[319,8,323,8],[319,9,323,9],[319,10,323,10],[319,11,323,11],[319,12,323,12],[319,13,323,13],[319,14,323,14],[319,15,323,15],[314,0,318,0],[314,5,318,5],[314,8,318,8],[314,9,318,9],[314,10,318,10],[314,6,318,7],[319,6,323,7],[319,2,323,2],[319,3,323,3],[319,4,323,4],[309,0,310,15],[311,0,313,0],[311,5,313,5],[311,6,313,7],[311,8,311,10],[311,15,313,15],[312,8,313,8],[312,9,313,9],[312,10,313,10],[149,14,153,14],[149,15,153,15],[154,0,158,0],[154,5,158,5],[154,8,158,8],[154,9,158,9],[154,10,158,10],[154,11,158,11],[154,12,158,12],[154,13,158,13],[154,14,158,14],[154,15,158,15],[149,10,153,10],[149,11,153,11],[149,12,153,12],[149,0,153,0],[149,5,153,5],[149,8,153,8],[149,9,153,9],[149,13,153,13],[304,0,308,0],[304,5,308,5],[304,6,308,6],[139,13,143,13],[139,14,143,14],[139,15,143,15],[144,0,148,0],[144,5,148,5],[144,8,148,8],[144,9,148,9],[144,10,148,10],[144,11,148,11],[144,12,148,12],[144,13,148,13],[144,14,148,14],[144,15,148,15],[139,10,143,10],[139,11,143,11],[139,12,143,12],[139,0,143,0],[139,5,143,5],[139,8,143,8],[139,9,143,9],[139,1,143,1],[144,1,148,1],[139,2,143,2],[139,3,143,3],[139,4,143,4],[144,2,148,2],[144,3,148,3],[144,4,148,4],[129,13,133,13],[129,14,133,14],[129,15,133,15],[134,0,138,0],[134,5,138,5],[134,8,138,8],[134,9,138,9],[134,10,138,10],[134,11,138,11],[134,12,138,12],[134,13,138,13],[134,14,138,14],[134,15,138,15],[129,10,133,10],[129,11,133,11],[129,12,133,12],[129,0,133,0],[129,5,133,5],[129,8,133,8],[129,9,133,9],[129,1,133,1],[134,1,138,1],[129,2,133,2],[129,3,133,3],[129,4,133,4],[134,2,138,2],[134,3,138,3],[134,4,138,4],[119,13,123,13],[119,14,123,14],[119,15,123,15],[124,0,128,0],[124,5,128,5],[124,8,128,8],[124,9,128,9],[124,10,128,10],[124,11,128,11],[124,12,128,12],[124,13,128,13],[124,14,128,14],[124,15,128,15],[119,10,123,10],[119,11,123,11],[119,12,123,12],[119,0,123,0],[119,5,123,5],[119,8,123,8],[119,9,123,9],[119,1,123,1],[124,1,128,1],[119,2,123,2],[119,3,123,3],[119,4,123,4],[124,2,128,2],[124,3,128,3],[124,4,128,4],[109,13,113,13],[109,9,113,9],[109,14,113,14],[109,15,113,15],[114,0,118,0],[114,5,118,5],[114,8,118,8],[114,9,118,9],[114,10,118,10],[114,11,118,11],[114,12,118,12],[114,13,118,13],[114,14,118,14],[114,15,118,15],[109,10,113,10],[109,11,113,11],[109,12,113,12],[109,0,113,0],[109,5,113,5],[109,8,113,8],[109,1,113,1],[114,1,118,1],[109,2,113,2],[109,3,113,3],[109,4,113,4],[114,2,118,2],[114,3,118,3],[114,4,118,4],[99,14,103,14],[99,15,103,15],[104,0,108,0],[104,5,108,5],[104,8,108,8],[104,9,108,9],[104,10,108,10],[104,11,108,11],[104,12,108,12],[104,13,108,13],[104,14,108,14],[104,15,108,15],[99,10,103,10],[99,11,103,11],[99,12,103,12],[99,0,103,0],[99,5,103,5],[99,8,103,8],[99,9,103,9],[99,13,103,13],[99,1,103,1],[104,1,108,1],[99,2,103,2],[99,3,103,3],[99,4,103,4],[104,2,108,2],[104,3,108,3],[104,4,108,4],[89,13,93,13],[89,14,93,14],[89,15,93,15],[94,0,98,0],[94,5,98,5],[94,8,98,8],[94,9,98,9],[94,10,98,10],[94,11,98,11],[94,12,98,12],[94,13,98,13],[94,14,98,14],[94,15,98,15],[89,10,93,10],[89,11,93,11],[89,12,93,12],[89,0,93,0],[89,5,93,5],[89,8,93,8],[89,9,93,9],[89,6,93,7],[89,1,93,1],[94,1,98,1],[89,2,93,2],[89,3,93,3],[89,4,93,4],[94,2,98,2],[94,3,98,3],[94,4,98,4],[79,13,83,13],[79,14,83,14],[79,15,83,15],[84,0,88,0],[84,5,88,5],[84,8,88,8],[84,9,88,9],[84,10,88,10],[84,11,88,11],[84,12,88,12],[84,13,88,13],[84,14,88,14],[84,15,88,15],[79,10,83,10],[79,11,83,11],[79,12,83,12],[79,0,83,0],[79,5,83,5],[79,8,83,8],[79,9,83,9],[79,2,83,2],[79,3,83,3],[79,4,83,4],[84,2,88,2],[84,3,88,3],[84,4,88,4],[69,13,73,13],[69,14,73,14],[69,15,73,15],[74,0,78,0],[74,5,78,5],[74,8,78,8],[74,9,78,9],[74,10,78,10],[74,11,78,11],[74,12,78,12],[74,13,78,13],[74,14,78,14],[74,15,78,15],[69,10,73,10],[69,11,73,11],[69,12,73,12],[69,0,73,0],[69,5,73,5],[69,8,73,8],[69,9,73,9],[74,3,78,3],[74,4,78,4],[59,13,63,13],[59,9,63,9],[59,14,63,14],[59,15,63,15],[64,0,68,0],[64,5,68,5],[64,8,68,8],[64,9,68,9],[64,10,68,10],[64,11,68,11],[64,12,68,12],[64,13,68,13],[64,14,68,14],[64,15,68,15],[59,10,63,10],[59,11,63,11],[59,12,63,12],[59,0,63,0],[59,5,63,5],[59,8,63,8],[49,14,53,14],[49,15,53,15],[54,0,58,0],[54,5,58,5],[54,8,58,8],[54,9,58,9],[54,10,58,10],[54,11,58,11],[54,12,58,12],[54,13,58,13],[54,14,58,14],[54,15,58,15],[49,10,53,10],[49,11,53,11],[49,12,53,12],[49,0,53,0],[49,5,53,5],[49,8,53,8],[49,9,53,9],[49,13,53,13],[49,2,53,2],[49,3,53,3],[49,4,53,4],[39,13,43,13],[39,14,43,14],[39,15,43,15],[44,0,48,0],[44,5,48,5],[44,8,48,8],[44,9,48,9],[44,10,48,10],[44,11,48,11],[44,12,48,12],[44,13,48,13],[44,14,48,14],[44,15,48,15],[39,10,43,10],[39,11,43,11],[39,12,43,12],[39,0,43,0],[39,5,43,5],[39,8,43,8],[39,9,43,9],[44,2,48,2],[44,3,48,3],[44,4,48,4],[29,15,33,15],[34,0,38,0],[34,5,38,5],[34,8,38,8],[34,9,38,9],[34,10,38,10],[34,11,38,11],[34,12,38,12],[34,13,38,13],[34,14,38,14],[34,15,38,15],[29,11,33,11],[29,12,33,12],[29,13,33,13],[29,0,33,0],[29,5,33,5],[29,8,33,8],[29,9,33,9],[29,10,33,10],[29,14,33,14],[14,10,18,10],[19,0,23,0],[19,5,23,5],[19,8,23,8],[19,9,23,9],[19,10,23,10],[24,0,28,0],[24,5,28,5],[24,11,28,11],[24,12,28,12],[24,13,28,13],[14,14,18,14],[14,15,18,15],[24,8,28,8],[24,9,28,9],[19,11,23,11],[19,12,23,12],[19,13,23,13],[19,14,23,14],[19,15,23,15],[14,11,18,11],[14,12,18,12],[14,13,18,13],[9,5,13,5],[9,8,13,8],[9,9,13,9],[299,13,303,13],[299,14,303,14],[299,15,303,15],[289,13,293,13],[289,14,293,14],[289,15,293,15],[294,0,298,0],[294,5,298,5],[294,6,298,6],[294,8,298,8],[294,9,298,9],[294,10,298,10],[294,11,298,11],[294,12,298,12],[294,13,298,13],[294,14,298,14],[294,15,298,15],[289,10,293,10],[289,11,293,11],[289,12,293,12],[289,0,293,0],[289,5,293,5],[289,6,293,6],[24,14,28,14],[24,15,28,15],[14,0,18,0],[14,5,18,5],[14,8,18,8],[14,9,18,9],[304,8,308,8],[304,9,308,9],[304,10,308,10],[304,11,308,11],[304,12,308,12],[304,13,308,13],[304,14,308,14],[304,15,308,15],[299,10,303,10],[299,11,303,11],[299,12,303,12],[299,0,303,0],[299,5,303,5],[299,6,303,6],[299,8,303,8],[299,9,303,9],[299,7,303,7],[304,7,308,7],[299,1,303,1],[304,1,308,1],[289,8,293,8],[289,9,293,9],[289,7,293,7],[294,7,298,7],[279,13,283,13],[279,14,283,14],[279,15,283,15],[284,0,288,0],[284,5,288,5],[284,6,288,6],[284,8,288,8],[284,9,288,9],[284,10,288,10],[284,11,288,11],[284,12,288,12],[284,13,288,13],[284,14,288,14],[284,15,288,15],[279,10,283,10],[279,11,283,11],[279,12,283,12],[279,0,283,0],[279,5,283,5],[279,6,283,6],[279,8,283,8],[279,9,283,9],[284,7,288,7],[279,1,283,1],[284,1,288,1],[289,1,293,1],[294,1,298,1],[294,2,298,2]],"merged_total":1371,"flags":["merged_cut"]}
[]
[]
[]
[]
["Roczne sprawozdanie z wytwarzania, przetwarzania i przerobu - produkty farmaceutyczne, substancje psychotropowe"]
[]
["Nazwa produktu farmaceutycznego","Nazwa substancji czynnej","Forma Farmaceutyczna","Dawka jednostkowa w mg","Wielkość opakowania","Nazwa czystej postaci substancji czynnej","Stan na dzień 01.01 okresu sprawozdzawczego",null,"Przychód w roku sprawozdawczym",null,null,"Sprzedaż",null,null,"Utylizacja","Stan na dzień 31.12 okresu sprawozdawczego"]
[null,null,null,null,null,null,null,null,"Wewnątrzwspólnotowe nabycie/przywóz","Kupione w kraju","Produkcja własna","Sprzedaż krajowa",null,"Wewnątrzwspólnotowa dostawa/wywóz"]
[null,null,null,null,null,null,null,null,null,null,null,"Sprzedaż do hurtowni","Inna sprzedaż krajowa"]
[]
[]
[]
[]
[]
[]
[]
[]
[]
[]
[]
[]
[]
[]
[]
[]
[]
[]
[]
[]
[]
[]
[]
[]
[]
[]
[]
[]
[]
[]
[]
[]
[]
[]
[]
[]
[]
[]
[]
[]
[]
[]
[]
[]
[]
[]
[]
[]
[]
[]
[]
[]
[]
[]
[]
[]
[]
[]
[]
[]
[]
[]
[]
[]
[]
[]
[]
[]
[]
[]
[]
[]
[]
[]
[]
[]
[]
[]
[]
[]
[]
[]
[]
[]
[]
[]
[]
[]
[]
[]
[]
[]
[]
[]
[]
[]
[]
[]
[]
[]
[]
[]
[]
[]
[]
[]
[]
[]
[]
[]
[]
[]
[]
[]
[]
[]
[]
[]
[]
[]
[]
[]
[]
[]
[]
[]
[]
[]
[]
[]
[]
[]
[]
[]
[]
[]
[]
[]
[]
[]
[]
[]
[]
[]
[]
[]
[]
[]
[]
[]
["Roczne sprawozdanie z wytwarzania, przetwarzania i przerobu - produkty farmaceutyczne, środki odurzające"]
[]
["Nazwa produktu farmaceutycznego","Nazwa substancji czynnej","Forma Farmaceutyczna","Dawka jednostkowa w mg","Wielkość opakowania","Nazwa czystej postaci substancji czynnej","Produkt z grupy III-N","Stan na dzień 01.01 okresu sprawozdzawczego","Przychód w roku sprawozdawczym",null,null,"Sprzedaż",null,null,"Utylizacja","Stan na dzień 31.12 okresu sprawozdawczego"]
[null,null,null,null,null,null,null,null,"Wewnątrzwspólnotowe nabycie/przywóz","Kupione w kraju","Produkcja własna","Sprzedaż krajowa",null,"Wewnątrzwspólnotowa dostawa/wywóz"]
[null,null,null,null,null,null,null,null,null,null,null,"Sprzedaż do hurtowni","Inna sprzedaż krajowa"]
[]
[]
[]
[]
[]
[]
[]
[]
[]
[]
[]
[]
[]
[]
[]
[]
[]
[]
[]
[]
[]
[]
[]
[]
[]
[]
[]
[]
[]
[]
[]
[]
[]
[]
[]
[]
[]
[]
[]
[]
[]
[]
[]
[]
[]
[]
[]
[]
[]
[]
[]
[]
[]
[]
[]
[]
[]
[]
[]
[]
[]
[]
[]
[]
[]
[]
[]
[]
[]
[]
[]
[]
[]
[]
[]
[]
[]
[]
[]
[]
[]
[]
[]
[]
[]
[]
[]
[]
[]
[]
[]
[]
[]
[]
[]
[]
[]
[]
[]
[]
[]
[]
[]
[]
[]
[]
[]
[]
[]
[]
[]
[]
[]
[]
[]
[]
[]
[]
[]
[]
[]
[]
[]
[]
[]
[]
[]
[]
[]
[]
[]
[]
[]
[]
[]
[]
[]
[]
[]
[]
[]
[]
[]
[]
[]
["Roczne sprawozdanie z wytwarzania, przetwarzania i przerobu - produkty farmaceutyczne, prekursory kat. 1"]
[]
["Nazwa produktu farmaceutycznego","Nazwa substancji czynnej","Forma Farmaceutyczna","Dawka jednostkowa w mg","Wielkość opakowania","Nazwa czystej postaci substancji czynnej","Stan na dzień 01.01 okresu sprawozdzawczego",null,"Przychód w roku sprawozdawczym",null,null,"Sprzedaż",null,null,"Utylizacja","Stan na dzień 31.12 okresu sprawozdawczego"]
[null,null,null,null,null,null,null,null,"Wewnątrzwspólnotowe nabycie/przywóz","Kupione w kraju","Produkcja własna","Sprzedaż krajowa",null,"Wewnątrzwspólnotowa dostawa/wywóz"]
[null,null,null,null,null,null,null,null,null,null,null,"Sprzedaż do hurtowni","Inna sprzedaż krajowa"]

{"sheet":"Wytwórcy Przepakowywanie","index":28,"n_rows":405,"n_cols":35,"rows_kept":405,"cut":false,"hidden":true,"merged":[[7,4,9,4],[202,4,204,4],[402,4,404,4],[402,10,404,10],[402,22,404,22],[403,12,404,12],[403,13,404,13],[403,16,404,16],[403,17,404,17],[402,11,402,13],[402,14,404,14],[402,15,404,15],[402,16,402,19],[402,21,404,21],[403,18,404,18],[403,19,404,19],[403,11,404,11],[402,20,404,20],[402,0,402,3],[402,5,404,5],[402,6,402,8],[402,9,404,9],[403,0,404,0],[403,1,404,1],[403,2,404,2],[403,3,404,3],[403,6,403,7],[403,8,404,8],[399,0,400,22],[401,0,401,10],[401,11,401,22],[202,22,204,22],[203,0,204,0],[203,1,204,1],[203,2,204,2],[203,3,204,3],[203,6,203,7],[203,8,204,8],[202,15,204,15],[202,16,202,19],[202,21,204,21],[203,11,204,11],[203,12,204,12],[203,18,204,18],[203,19,204,19],[202,20,204,20],[202,0,202,3],[202,5,204,5],[202,6,202,8],[202,9,204,9],[203,13,204,13],[203,16,204,16],[203,17,204,17],[202,11,202,13],[202,14,204,14],[202,10,204,10],[7,9,9,9],[6,11,6,22],[7,14,9,14],[8,17,9,17],[8,18,9,18],[8,13,9,13],[8,12,9,12],[8,11,9,11],[8,19,9,19],[7,11,7,13],[7,21,9,21],[7,22,9,22],[8,16,9,16],[7,20,9,20],[7,10,9,10],[199,0,200,22],[201,0,201,10],[201,11,201,22],[4,0,5,22],[7,0,7,3],[8,3,9,3],[8,2,9,2],[8,1,9,1],[8,0,9,0],[8,6,8,7],[8,8,9,8],[7,15,9,15],[7,16,7,19],[7,5,9,5],[7,6,7,8],[6,0,6,10]]}
[]
[]
[]
[]
["Roczne sprawozdanie z wytwarzania, przetwarzania i przerobu - Przepakowywanie Substancje psychotropowe"]
[]
["Produkt przed przepakowaniem",null,null,null,null,null,null,null,null,null,null,"Przepakowany produkt"]
["Informacje o produkcie",null,null,null,"Czy produkt przepakowywany w ramach kontraktu","Stan na dzień 01.01 okresu sprawozdawczego","Przychód w roku sprawozdawczym",null,null,"Utylizacja","Stan na dzień 31.12 okresu sprawozdawczego","Informacje o przepakowanym produkcie",null,null,"Ilość przepakowanego produktu","Stan na dzień 01.01 okresu sprawozdawczego","Sprzedaż",null,null,null,"Próby archiwalne","Utylizacja","Stan na dzień 31.12 okresu sprawozdawczego"]
["Nazwa Handlowa produktu","Nazwa substancji czynnej","Dawka","Wielkość Opakowania",null,null,"Wewnątrzwspólnotowe nabycie/przywóz",null,"Kupione w kraju",null,null,"Nazwa Przepakowanego produktu","Dawka","Wielkość opakowania przepakowanego produktu",null,null,"Sprzedaż do hurtowni","Sprzedaż do instytucji medycznych","Inna sprzedaż","Wewnątrzwspólnotowa dostawa/wywóz"]
[null,null,null,null,null,null,"Importowana ilość","Kraj importu"]
[null,null,null,null,null,null,null,null,null,null,null,null,null,null,null,null,null,null,null,null,null,null,null,null,null,null,null,null,null,null,null,null,null,null,"Tak"]
[null,null,null,null,null,null,null,null,null,null,null,null,null,null,null,null,null,null,null,null,null,null,null,null,null,null,null,null,null,null,null,null,null,null,"Nie"]
[]
[]
[]
[]
[]
[]
[]
[]
[]
[]
[]
[]
[]
[]
[]
[]
[]
[]
[]
[]
[]
[]
[]
[]
[]
[]
[]
[]
[]
[]
[]
[]
[]
[]
[]
[]
[]
[]
[]
[]
[]
[]
[]
[]
[]
[]
[]
[]
[]
[]
[]
[]
[]
[]
[]
[]
[]
[]
[]
[]
[]
[]
[]
[]
[]
[]
[]
[]
[]
[]
[]
[]
[]
[]
[]
[]
[]
[]
[]
[]
[]
[]
[]
[]
[]
[]
[]
[]
[]
[]
[]
[]
[]
[]
[]
[]
[]
[]
[]
[]
[]
[]
[]
[]
[]
[]
[]
[]
[]
[]
[]
[]
[]
[]
[]
[]
[]
[]
[]
[]
[]
[]
[]
[]
[]
[]
[]
[]
[]
[]
[]
[]
[]
[]
[]
[]
[]
[]
[]
[]
[]
[]
[]
[]
[]
[]
[]
[]
[]
[]
[]
[]
[]
[]
[]
[]
[]
[]
[]
[]
[]
[]
[]
[]
[]
[]
[]
[]
[]
[]
[]
[]
[]
[]
[]
[]
[]
[]
[]
[]
[]
[]
[]
[]
[]
[]
[]
["Roczne sprawozdanie z wytwarzania, przetwarzania i przerobu - Przepakowywanie środków odurzających"]
[]
["Produkt przed przepakowaniem",null,null,null,null,null,null,null,null,null,null,"Przepakowany produkt"]
["Informacje o produkcie",null,null,null,"Czy produkt przepakowywany w ramach kontraktu","Stan na dzień 01.01 okresu sprawozdawczego","Przychód w roku sprawozdawczym",null,null,"Utylizacja","Stan na dzień 31.12 okresu sprawozdawczego","Informacje o przepakowanym produkcie",null,null,"Ilość przepakowanego produktu","Stan na dzień 01.01 okresu sprawozdawczego","Sprzedaż",null,null,null,"Próby Archiwalne","Utylizacja","Stan na dzień 31.12 okresu sprawozdawczego"]
["Nazwa Handlowa produktu","Nazwa substancji czynnej","Dawka","Wielkość Opakowania",null,null,"Wewnątrzwspólnotowe nabycie/przywóz",null,"Kupione w kraju",null,null,"Nazwa Przepakowanego produktu","Dawka","Wielkość opakowania przepakowanego produktu",null,null,"Sprzedaż do hurtowni","Sprzedaż do instytucji medycznych","Inna sprzedaż","Wewnątrzwspólnotowa dostawa/wywóz"]
[null,null,null,null,null,null,"Importowana ilość","Kraj importu"]
[]
[]
[]
[]
[]
[]
[]
[]
[]
[]
[]
[]
[]
[]
[]
[]
[]
[]
[]
[]
[]
[]
[]
[]
[]
[]
[]
[]
[]
[]
[]
[]
[]
[]
[]
[]
[]
[]
[]
[]
[]
[]
[]
[]
[]
[]
[]
[]
[]
[]
[]
[]
[]
[]
[]
[]
[]
[]
[]
[]
[]
[]
[]
[]
[]
[]
[]
[]
[]
[]
[]
[]
[]
[]
[]
[]
[]
[]
[]
[]
[]
[]
[]
[]
[]
[]
[]
[]
[]
[]
[]
[]
[]
[]
[]
[]
[]
[]
[]
[]
[]
[]
[]
[]
[]
[]
[]
[]
[]
[]
[]
[]
[]
[]
[]
[]
[]
[]
[]
[]
[]
[]
[]
[]
[]
[]
[]
[]
[]
[]
[]
[]
[]
[]
[]
[]
[]
[]
[]
[]
[]
[]
[]
[]
[]
[]
[]
[]
[]
[]
[]
[]
[]
[]
[]
[]
[]
[]
[]
[]
[]
[]
[]
[]
[]
[]
[]
[]
[]
[]
[]
[]
[]
[]
[]
[]
[]
[]
[]
[]
[]
[]
[]
[]
[]
[]
[]
[]
[]
[]
[]
[]
[]
[]
["Roczne sprawozdanie z wytwarzania, przetwarzania i przerobu - Przepakowywanie prekursorów"]
[]
["Produkt przed przepakowaniem",null,null,null,null,null,null,null,null,null,null,"Przepakowany produkt"]
["Informacje o produkcie",null,null,null,"Czy produkt przepakowany w ramach kontraktu","Stan na dzień 01.01 okresu sprawozdawczego","Przychód w roku sprawozdawczym",null,null,"Utylizacja","Stan na dzień 31.12 okresu sprawozdawczego","Informacje o przepakowanym produkcie",null,null,"Ilość przepakowanego produktu","Stan na dzień 01.01 okresu sprawozdawczego","Sprzedaż",null,null,null,"Próby Archiwalne","Utylizacja","Stan na dzień 31.12 okresu sprawozdawczego"]
["Nazwa Handlowa produktu","Nazwa substancji czynnej","Dawka","Wielkość Opakowania",null,null,"Wewnątrzwspólnotowe nabycie/przywóz",null,"Kupione w kraju",null,null,"Nazwa Przepakowanego produktu","Dawka","Wielkość opakowania przepakowanego produktu",null,null,"Sprzedaż do hurtowni","Sprzedaż do instytucji medycznych","Inna sprzedaż","Wewnątrzwspólnotowa dostawa/wywóz"]
[null,null,null,null,null,null,"Importowana ilość","Kraj importu"]

{"sheet":"Odurzajace Hurt Wet","index":29,"n_rows":250,"n_cols":30,"rows_kept":250,"cut":false,"hidden":true,"merged":[[7,13,8,13],[4,0,5,15],[6,0,6,4],[6,5,8,5],[6,6,6,8],[6,9,6,13],[6,14,8,14],[6,15,8,15],[7,0,8,0],[7,1,8,1],[7,2,8,2],[7,3,8,3],[7,4,8,4],[7,6,7,7],[7,8,8,8],[7,9,7,12]]}
[]
[]
[]
[]
["Roczne sprawozdanie z obrotu środkami odurzającymi"]
[]
["Informacje o produkcie",null,null,null,null,"Stan na dzień 01.01 roku sprawozdawczego","Przychód",null,null,"Rozchód",null,null,null,null,"Utylizacja","Stan na dzień 31.12 okresu sprawozdawczego"]
["Nazwa handlowa produktu","Substancja czynna","Forma farmaceutyczna","Dawka jednostkowa w mg","Wielkość opakowania",null,"Ilość opakowań nabyta w kraju",null,"Wewnątrzwspólnotowe nabycie/przywóz","Ilość opakowań sprzedana w kraju",null,null,null,"Wewnątrzwspólnotowa dostawa/wywóz"]
[null,null,null,null,null,"Stan na dzień 01.01.2022","Ilość opakowań nabyta od wytwórców","Ilość opakowań nabyta od hurtowni",null,"Ilość opakowań sprzedana do obrotu detalicznego","Ilość opakowań sprzedana do hurtowni","Ilość opakowań sprzedana do instytucji medycznych","Inna sprzedaż krajowa",null,null,"Stan na dzień 31.12.2022"]
[null,{"$f":"IFERROR(IF(A10=\"\",\"\",VLOOKUP(A10,'Lista Narkotyki Wet'!$A$2:$B$69,2,FALSE)),\"\")","v":""},{"$f":"IFERROR(IF(A10=\"\",\"\",HLOOKUP(A10,'Lista Narkotyki Wet'!$H$34:$BW$37,2,FALSE)),\"\")","v":""},{"$f":"IFERROR(IF(A10=\"\",\"\",HLOOKUP(A10,'Lista Narkotyki Wet'!$H$1:$BW$7,2,FALSE)),\"\")","v":""},{"$f":"IFERROR(IF(A10=\"\",\"\",HLOOKUP(A10,'Lista Narkotyki Wet'!$H$13:$BW$18,2,FALSE)),\"\")","v":""},null,null,null,null,null,null,null,null,null,null,null,null,null,null,null,null,null,null,null,null,null,null,null,{"$f":"A10&1","v":"1"},{"$f":"A10&2","v":"2"}]
[null,{"$f":"IFERROR(IF(A11=\"\",\"\",VLOOKUP(A11,'Lista Narkotyki Wet'!$A$2:$B$69,2,FALSE)),\"\")","v":""},{"$f":"IFERROR(IF(A11=\"\",\"\",HLOOKUP(A11,'Lista Narkotyki Wet'!$H$34:$BW$37,2,FALSE)),\"\")","v":""},{"$f":"IFERROR(IF(A11=\"\",\"\",HLOOKUP(A11,'Lista Narkotyki Wet'!$H$1:$BW$7,2,FALSE)),\"\")","v":""},{"$f":"IFERROR(IF(A11=\"\",\"\",HLOOKUP(A11,'Lista Narkotyki Wet'!$H$13:$BW$18,2,FALSE)),\"\")","v":""},null,null,null,null,null,null,null,null,null,null,null,null,null,null,null,null,null,null,null,null,null,null,null,{"$f":"A11&1","v":"1"},{"$f":"A11&2","v":"2"}]
[null,{"$f":"IFERROR(IF(A12=\"\",\"\",VLOOKUP(A12,'Lista Narkotyki Wet'!$A$2:$B$69,2,FALSE)),\"\")","v":""},{"$f":"IFERROR(IF(A12=\"\",\"\",HLOOKUP(A12,'Lista Narkotyki Wet'!$H$34:$BW$37,2,FALSE)),\"\")","v":""},{"$f":"IFERROR(IF(A12=\"\",\"\",HLOOKUP(A12,'Lista Narkotyki Wet'!$H$1:$BW$7,2,FALSE)),\"\")","v":""},{"$f":"IFERROR(IF(A12=\"\",\"\",HLOOKUP(A12,'Lista Narkotyki Wet'!$H$13:$BW$18,2,FALSE)),\"\")","v":""},null,null,null,null,null,null,null,null,null,null,null,null,null,null,null,null,null,null,null,null,null,null,null,"1","2"]
[null,{"$f":"IFERROR(IF(A13=\"\",\"\",VLOOKUP(A13,'Lista Narkotyki Wet'!$A$2:$B$69,2,FALSE)),\"\")","v":""},{"$f":"IFERROR(IF(A13=\"\",\"\",HLOOKUP(A13,'Lista Narkotyki Wet'!$H$34:$BW$37,2,FALSE)),\"\")","v":""},{"$f":"IFERROR(IF(A13=\"\",\"\",HLOOKUP(A13,'Lista Narkotyki Wet'!$H$1:$BW$7,2,FALSE)),\"\")","v":""},{"$f":"IFERROR(IF(A13=\"\",\"\",HLOOKUP(A13,'Lista Narkotyki Wet'!$H$13:$BW$18,2,FALSE)),\"\")","v":""},null,null,null,null,null,null,null,null,null,null,null,null,null,null,null,null,null,null,null,null,null,null,null,"1","2"]
[null,{"$f":"IFERROR(IF(A14=\"\",\"\",VLOOKUP(A14,'Lista Narkotyki Wet'!$A$2:$B$69,2,FALSE)),\"\")","v":""},{"$f":"IFERROR(IF(A14=\"\",\"\",HLOOKUP(A14,'Lista Narkotyki Wet'!$H$34:$BW$37,2,FALSE)),\"\")","v":""},{"$f":"IFERROR(IF(A14=\"\",\"\",HLOOKUP(A14,'Lista Narkotyki Wet'!$H$1:$BW$7,2,FALSE)),\"\")","v":""},{"$f":"IFERROR(IF(A14=\"\",\"\",HLOOKUP(A14,'Lista Narkotyki Wet'!$H$13:$BW$18,2,FALSE)),\"\")","v":""},null,null,null,null,null,null,null,null,null,null,null,null,null,null,null,null,null,null,null,null,null,null,null,"1","2"]
[null,{"$f":"IFERROR(IF(A15=\"\",\"\",VLOOKUP(A15,'Lista Narkotyki Wet'!$A$2:$B$69,2,FALSE)),\"\")","v":""},{"$f":"IFERROR(IF(A15=\"\",\"\",HLOOKUP(A15,'Lista Narkotyki Wet'!$H$34:$BW$37,2,FALSE)),\"\")","v":""},{"$f":"IFERROR(IF(A15=\"\",\"\",HLOOKUP(A15,'Lista Narkotyki Wet'!$H$1:$BW$7,2,FALSE)),\"\")","v":""},{"$f":"IFERROR(IF(A15=\"\",\"\",HLOOKUP(A15,'Lista Narkotyki Wet'!$H$13:$BW$18,2,FALSE)),\"\")","v":""},null,null,null,null,null,null,null,null,null,null,null,null,null,null,null,null,null,null,null,null,null,null,null,"1","2"]
[null,{"$f":"IFERROR(IF(A16=\"\",\"\",VLOOKUP(A16,'Lista Narkotyki Wet'!$A$2:$B$69,2,FALSE)),\"\")","v":""},{"$f":"IFERROR(IF(A16=\"\",\"\",HLOOKUP(A16,'Lista Narkotyki Wet'!$H$34:$BW$37,2,FALSE)),\"\")","v":""},{"$f":"IFERROR(IF(A16=\"\",\"\",HLOOKUP(A16,'Lista Narkotyki Wet'!$H$1:$BW$7,2,FALSE)),\"\")","v":""},{"$f":"IFERROR(IF(A16=\"\",\"\",HLOOKUP(A16,'Lista Narkotyki Wet'!$H$13:$BW$18,2,FALSE)),\"\")","v":""},null,null,null,null,null,null,null,null,null,null,null,null,null,null,null,null,null,null,null,null,null,null,null,"1","2"]
[null,{"$f":"IFERROR(IF(A17=\"\",\"\",VLOOKUP(A17,'Lista Narkotyki Wet'!$A$2:$B$69,2,FALSE)),\"\")","v":""},{"$f":"IFERROR(IF(A17=\"\",\"\",HLOOKUP(A17,'Lista Narkotyki Wet'!$H$34:$BW$37,2,FALSE)),\"\")","v":""},{"$f":"IFERROR(IF(A17=\"\",\"\",HLOOKUP(A17,'Lista Narkotyki Wet'!$H$1:$BW$7,2,FALSE)),\"\")","v":""},{"$f":"IFERROR(IF(A17=\"\",\"\",HLOOKUP(A17,'Lista Narkotyki Wet'!$H$13:$BW$18,2,FALSE)),\"\")","v":""},null,null,null,null,null,null,null,null,null,null,null,null,null,null,null,null,null,null,null,null,null,null,null,"1","2"]
[null,{"$f":"IFERROR(IF(A18=\"\",\"\",VLOOKUP(A18,'Lista Narkotyki Wet'!$A$2:$B$69,2,FALSE)),\"\")","v":""},{"$f":"IFERROR(IF(A18=\"\",\"\",HLOOKUP(A18,'Lista Narkotyki Wet'!$H$34:$BW$37,2,FALSE)),\"\")","v":""},{"$f":"IFERROR(IF(A18=\"\",\"\",HLOOKUP(A18,'Lista Narkotyki Wet'!$H$1:$BW$7,2,FALSE)),\"\")","v":""},{"$f":"IFERROR(IF(A18=\"\",\"\",HLOOKUP(A18,'Lista Narkotyki Wet'!$H$13:$BW$18,2,FALSE)),\"\")","v":""},null,null,null,null,null,null,null,null,null,null,null,null,null,null,null,null,null,null,null,null,null,null,null,"1","2"]
[null,{"$f":"IFERROR(IF(A19=\"\",\"\",VLOOKUP(A19,'Lista Narkotyki Wet'!$A$2:$B$69,2,FALSE)),\"\")","v":""},{"$f":"IFERROR(IF(A19=\"\",\"\",HLOOKUP(A19,'Lista Narkotyki Wet'!$H$34:$BW$37,2,FALSE)),\"\")","v":""},{"$f":"IFERROR(IF(A19=\"\",\"\",HLOOKUP(A19,'Lista Narkotyki Wet'!$H$1:$BW$7,2,FALSE)),\"\")","v":""},{"$f":"IFERROR(IF(A19=\"\",\"\",HLOOKUP(A19,'Lista Narkotyki Wet'!$H$13:$BW$18,2,FALSE)),\"\")","v":""},null,null,null,null,null,null,null,null,null,null,null,null,null,null,null,null,null,null,null,null,null,null,null,"1","2"]
[null,{"$f":"IFERROR(IF(A20=\"\",\"\",VLOOKUP(A20,'Lista Narkotyki Wet'!$A$2:$B$69,2,FALSE)),\"\")","v":""},{"$f":"IFERROR(IF(A20=\"\",\"\",HLOOKUP(A20,'Lista Narkotyki Wet'!$H$34:$BW$37,2,FALSE)),\"\")","v":""},{"$f":"IFERROR(IF(A20=\"\",\"\",HLOOKUP(A20,'Lista Narkotyki Wet'!$H$1:$BW$7,2,FALSE)),\"\")","v":""},{"$f":"IFERROR(IF(A20=\"\",\"\",HLOOKUP(A20,'Lista Narkotyki Wet'!$H$13:$BW$18,2,FALSE)),\"\")","v":""},null,null,null,null,null,null,null,null,null,null,null,null,null,null,null,null,null,null,null,null,null,null,null,"1","2"]
[null,{"$f":"IFERROR(IF(A21=\"\",\"\",VLOOKUP(A21,'Lista Narkotyki Wet'!$A$2:$B$69,2,FALSE)),\"\")","v":""},{"$f":"IFERROR(IF(A21=\"\",\"\",HLOOKUP(A21,'Lista Narkotyki Wet'!$H$34:$BW$37,2,FALSE)),\"\")","v":""},{"$f":"IFERROR(IF(A21=\"\",\"\",HLOOKUP(A21,'Lista Narkotyki Wet'!$H$1:$BW$7,2,FALSE)),\"\")","v":""},{"$f":"IFERROR(IF(A21=\"\",\"\",HLOOKUP(A21,'Lista Narkotyki Wet'!$H$13:$BW$18,2,FALSE)),\"\")","v":""},null,null,null,null,null,null,null,null,null,null,null,null,null,null,null,null,null,null,null,null,null,null,null,"1","2"]
[null,{"$f":"IFERROR(IF(A22=\"\",\"\",VLOOKUP(A22,'Lista Narkotyki Wet'!$A$2:$B$69,2,FALSE)),\"\")","v":""},{"$f":"IFERROR(IF(A22=\"\",\"\",HLOOKUP(A22,'Lista Narkotyki Wet'!$H$34:$BW$37,2,FALSE)),\"\")","v":""},{"$f":"IFERROR(IF(A22=\"\",\"\",HLOOKUP(A22,'Lista Narkotyki Wet'!$H$1:$BW$7,2,FALSE)),\"\")","v":""},{"$f":"IFERROR(IF(A22=\"\",\"\",HLOOKUP(A22,'Lista Narkotyki Wet'!$H$13:$BW$18,2,FALSE)),\"\")","v":""},null,null,null,null,null,null,null,null,null,null,null,null,null,null,null,null,null,null,null,null,null,null,null,"1","2"]
[null,{"$f":"IFERROR(IF(A23=\"\",\"\",VLOOKUP(A23,'Lista Narkotyki Wet'!$A$2:$B$69,2,FALSE)),\"\")","v":""},{"$f":"IFERROR(IF(A23=\"\",\"\",HLOOKUP(A23,'Lista Narkotyki Wet'!$H$34:$BW$37,2,FALSE)),\"\")","v":""},{"$f":"IFERROR(IF(A23=\"\",\"\",HLOOKUP(A23,'Lista Narkotyki Wet'!$H$1:$BW$7,2,FALSE)),\"\")","v":""},{"$f":"IFERROR(IF(A23=\"\",\"\",HLOOKUP(A23,'Lista Narkotyki Wet'!$H$13:$BW$18,2,FALSE)),\"\")","v":""},null,null,null,null,null,null,null,null,null,null,null,null,null,null,null,null,null,null,null,null,null,null,null,"1","2"]
[null,{"$f":"IFERROR(IF(A24=\"\",\"\",VLOOKUP(A24,'Lista Narkotyki Wet'!$A$2:$B$69,2,FALSE)),\"\")","v":""},{"$f":"IFERROR(IF(A24=\"\",\"\",HLOOKUP(A24,'Lista Narkotyki Wet'!$H$34:$BW$37,2,FALSE)),\"\")","v":""},{"$f":"IFERROR(IF(A24=\"\",\"\",HLOOKUP(A24,'Lista Narkotyki Wet'!$H$1:$BW$7,2,FALSE)),\"\")","v":""},{"$f":"IFERROR(IF(A24=\"\",\"\",HLOOKUP(A24,'Lista Narkotyki Wet'!$H$13:$BW$18,2,FALSE)),\"\")","v":""},null,null,null,null,null,null,null,null,null,null,null,null,null,null,null,null,null,null,null,null,null,null,null,"1","2"]
[null,{"$f":"IFERROR(IF(A25=\"\",\"\",VLOOKUP(A25,'Lista Narkotyki Wet'!$A$2:$B$69,2,FALSE)),\"\")","v":""},{"$f":"IFERROR(IF(A25=\"\",\"\",HLOOKUP(A25,'Lista Narkotyki Wet'!$H$34:$BW$37,2,FALSE)),\"\")","v":""},{"$f":"IFERROR(IF(A25=\"\",\"\",HLOOKUP(A25,'Lista Narkotyki Wet'!$H$1:$BW$7,2,FALSE)),\"\")","v":""},{"$f":"IFERROR(IF(A25=\"\",\"\",HLOOKUP(A25,'Lista Narkotyki Wet'!$H$13:$BW$18,2,FALSE)),\"\")","v":""},null,null,null,null,null,null,null,null,null,null,null,null,null,null,null,null,null,null,null,null,null,null,null,"1","2"]
[null,{"$f":"IFERROR(IF(A26=\"\",\"\",VLOOKUP(A26,'Lista Narkotyki Wet'!$A$2:$B$69,2,FALSE)),\"\")","v":""},{"$f":"IFERROR(IF(A26=\"\",\"\",HLOOKUP(A26,'Lista Narkotyki Wet'!$H$34:$BW$37,2,FALSE)),\"\")","v":""},{"$f":"IFERROR(IF(A26=\"\",\"\",HLOOKUP(A26,'Lista Narkotyki Wet'!$H$1:$BW$7,2,FALSE)),\"\")","v":""},{"$f":"IFERROR(IF(A26=\"\",\"\",HLOOKUP(A26,'Lista Narkotyki Wet'!$H$13:$BW$18,2,FALSE)),\"\")","v":""},null,null,null,null,null,null,null,null,null,null,null,null,null,null,null,null,null,null,null,null,null,null,null,"1","2"]
[null,{"$f":"IFERROR(IF(A27=\"\",\"\",VLOOKUP(A27,'Lista Narkotyki Wet'!$A$2:$B$69,2,FALSE)),\"\")","v":""},{"$f":"IFERROR(IF(A27=\"\",\"\",HLOOKUP(A27,'Lista Narkotyki Wet'!$H$34:$BW$37,2,FALSE)),\"\")","v":""},{"$f":"IFERROR(IF(A27=\"\",\"\",HLOOKUP(A27,'Lista Narkotyki Wet'!$H$1:$BW$7,2,FALSE)),\"\")","v":""},{"$f":"IFERROR(IF(A27=\"\",\"\",HLOOKUP(A27,'Lista Narkotyki Wet'!$H$13:$BW$18,2,FALSE)),\"\")","v":""},null,null,null,null,null,null,null,null,null,null,null,null,null,null,null,null,null,null,null,null,null,null,null,"1","2"]
[null,{"$f":"IFERROR(IF(A28=\"\",\"\",VLOOKUP(A28,'Lista Narkotyki Wet'!$A$2:$B$69,2,FALSE)),\"\")","v":""},{"$f":"IFERROR(IF(A28=\"\",\"\",HLOOKUP(A28,'Lista Narkotyki Wet'!$H$34:$BW$37,2,FALSE)),\"\")","v":""},{"$f":"IFERROR(IF(A28=\"\",\"\",HLOOKUP(A28,'Lista Narkotyki Wet'!$H$1:$BW$7,2,FALSE)),\"\")","v":""},{"$f":"IFERROR(IF(A28=\"\",\"\",HLOOKUP(A28,'Lista Narkotyki Wet'!$H$13:$BW$18,2,FALSE)),\"\")","v":""},null,null,null,null,null,null,null,null,null,null,null,null,null,null,null,null,null,null,null,null,null,null,null,"1","2"]
[null,{"$f":"IFERROR(IF(A29=\"\",\"\",VLOOKUP(A29,'Lista Narkotyki Wet'!$A$2:$B$69,2,FALSE)),\"\")","v":""},{"$f":"IFERROR(IF(A29=\"\",\"\",HLOOKUP(A29,'Lista Narkotyki Wet'!$H$34:$BW$37,2,FALSE)),\"\")","v":""},{"$f":"IFERROR(IF(A29=\"\",\"\",HLOOKUP(A29,'Lista Narkotyki Wet'!$H$1:$BW$7,2,FALSE)),\"\")","v":""},{"$f":"IFERROR(IF(A29=\"\",\"\",HLOOKUP(A29,'Lista Narkotyki Wet'!$H$13:$BW$18,2,FALSE)),\"\")","v":""},null,null,null,null,null,null,null,null,null,null,null,null,null,null,null,null,null,null,null,null,null,null,null,"1","2"]
[null,{"$f":"IFERROR(IF(A30=\"\",\"\",VLOOKUP(A30,'Lista Narkotyki Wet'!$A$2:$B$69,2,FALSE)),\"\")","v":""},{"$f":"IFERROR(IF(A30=\"\",\"\",HLOOKUP(A30,'Lista Narkotyki Wet'!$H$34:$BW$37,2,FALSE)),\"\")","v":""},{"$f":"IFERROR(IF(A30=\"\",\"\",HLOOKUP(A30,'Lista Narkotyki Wet'!$H$1:$BW$7,2,FALSE)),\"\")","v":""},{"$f":"IFERROR(IF(A30=\"\",\"\",HLOOKUP(A30,'Lista Narkotyki Wet'!$H$13:$BW$18,2,FALSE)),\"\")","v":""},null,null,null,null,null,null,null,null,null,null,null,null,null,null,null,null,null,null,null,null,null,null,null,"1","2"]
[null,{"$f":"IFERROR(IF(A31=\"\",\"\",VLOOKUP(A31,'Lista Narkotyki Wet'!$A$2:$B$69,2,FALSE)),\"\")","v":""},{"$f":"IFERROR(IF(A31=\"\",\"\",HLOOKUP(A31,'Lista Narkotyki Wet'!$H$34:$BW$37,2,FALSE)),\"\")","v":""},{"$f":"IFERROR(IF(A31=\"\",\"\",HLOOKUP(A31,'Lista Narkotyki Wet'!$H$1:$BW$7,2,FALSE)),\"\")","v":""},{"$f":"IFERROR(IF(A31=\"\",\"\",HLOOKUP(A31,'Lista Narkotyki Wet'!$H$13:$BW$18,2,FALSE)),\"\")","v":""},null,null,null,null,null,null,null,null,null,null,null,null,null,null,null,null,null,null,null,null,null,null,null,"1","2"]
[null,{"$f":"IFERROR(IF(A32=\"\",\"\",VLOOKUP(A32,'Lista Narkotyki Wet'!$A$2:$B$69,2,FALSE)),\"\")","v":""},{"$f":"IFERROR(IF(A32=\"\",\"\",HLOOKUP(A32,'Lista Narkotyki Wet'!$H$34:$BW$37,2,FALSE)),\"\")","v":""},{"$f":"IFERROR(IF(A32=\"\",\"\",HLOOKUP(A32,'Lista Narkotyki Wet'!$H$1:$BW$7,2,FALSE)),\"\")","v":""},{"$f":"IFERROR(IF(A32=\"\",\"\",HLOOKUP(A32,'Lista Narkotyki Wet'!$H$13:$BW$18,2,FALSE)),\"\")","v":""},null,null,null,null,null,null,null,null,null,null,null,null,null,null,null,null,null,null,null,null,null,null,null,"1","2"]
[null,{"$f":"IFERROR(IF(A33=\"\",\"\",VLOOKUP(A33,'Lista Narkotyki Wet'!$A$2:$B$69,2,FALSE)),\"\")","v":""},{"$f":"IFERROR(IF(A33=\"\",\"\",HLOOKUP(A33,'Lista Narkotyki Wet'!$H$34:$BW$37,2,FALSE)),\"\")","v":""},{"$f":"IFERROR(IF(A33=\"\",\"\",HLOOKUP(A33,'Lista Narkotyki Wet'!$H$1:$BW$7,2,FALSE)),\"\")","v":""},{"$f":"IFERROR(IF(A33=\"\",\"\",HLOOKUP(A33,'Lista Narkotyki Wet'!$H$13:$BW$18,2,FALSE)),\"\")","v":""},null,null,null,null,null,null,null,null,null,null,null,null,null,null,null,null,null,null,null,null,null,null,null,"1","2"]
[null,{"$f":"IFERROR(IF(A34=\"\",\"\",VLOOKUP(A34,'Lista Narkotyki Wet'!$A$2:$B$69,2,FALSE)),\"\")","v":""},{"$f":"IFERROR(IF(A34=\"\",\"\",HLOOKUP(A34,'Lista Narkotyki Wet'!$H$34:$BW$37,2,FALSE)),\"\")","v":""},{"$f":"IFERROR(IF(A34=\"\",\"\",HLOOKUP(A34,'Lista Narkotyki Wet'!$H$1:$BW$7,2,FALSE)),\"\")","v":""},{"$f":"IFERROR(IF(A34=\"\",\"\",HLOOKUP(A34,'Lista Narkotyki Wet'!$H$13:$BW$18,2,FALSE)),\"\")","v":""},null,null,null,null,null,null,null,null,null,null,null,null,null,null,null,null,null,null,null,null,null,null,null,"1","2"]
[null,{"$f":"IFERROR(IF(A35=\"\",\"\",VLOOKUP(A35,'Lista Narkotyki Wet'!$A$2:$B$69,2,FALSE)),\"\")","v":""},{"$f":"IFERROR(IF(A35=\"\",\"\",HLOOKUP(A35,'Lista Narkotyki Wet'!$H$34:$BW$37,2,FALSE)),\"\")","v":""},{"$f":"IFERROR(IF(A35=\"\",\"\",HLOOKUP(A35,'Lista Narkotyki Wet'!$H$1:$BW$7,2,FALSE)),\"\")","v":""},{"$f":"IFERROR(IF(A35=\"\",\"\",HLOOKUP(A35,'Lista Narkotyki Wet'!$H$13:$BW$18,2,FALSE)),\"\")","v":""},null,null,null,null,null,null,null,null,null,null,null,null,null,null,null,null,null,null,null,null,null,null,null,"1","2"]
[null,{"$f":"IFERROR(IF(A36=\"\",\"\",VLOOKUP(A36,'Lista Narkotyki Wet'!$A$2:$B$69,2,FALSE)),\"\")","v":""},{"$f":"IFERROR(IF(A36=\"\",\"\",HLOOKUP(A36,'Lista Narkotyki Wet'!$H$34:$BW$37,2,FALSE)),\"\")","v":""},{"$f":"IFERROR(IF(A36=\"\",\"\",HLOOKUP(A36,'Lista Narkotyki Wet'!$H$1:$BW$7,2,FALSE)),\"\")","v":""},{"$f":"IFERROR(IF(A36=\"\",\"\",HLOOKUP(A36,'Lista Narkotyki Wet'!$H$13:$BW$18,2,FALSE)),\"\")","v":""},null,null,null,null,null,null,null,null,null,null,null,null,null,null,null,null,null,null,null,null,null,null,null,"1","2"]
[null,{"$f":"IFERROR(IF(A37=\"\",\"\",VLOOKUP(A37,'Lista Narkotyki Wet'!$A$2:$B$69,2,FALSE)),\"\")","v":""},{"$f":"IFERROR(IF(A37=\"\",\"\",HLOOKUP(A37,'Lista Narkotyki Wet'!$H$34:$BW$37,2,FALSE)),\"\")","v":""},{"$f":"IFERROR(IF(A37=\"\",\"\",HLOOKUP(A37,'Lista Narkotyki Wet'!$H$1:$BW$7,2,FALSE)),\"\")","v":""},{"$f":"IFERROR(IF(A37=\"\",\"\",HLOOKUP(A37,'Lista Narkotyki Wet'!$H$13:$BW$18,2,FALSE)),\"\")","v":""},null,null,null,null,null,null,null,null,null,null,null,null,null,null,null,null,null,null,null,null,null,null,null,"1","2"]
[null,{"$f":"IFERROR(IF(A38=\"\",\"\",VLOOKUP(A38,'Lista Narkotyki Wet'!$A$2:$B$69,2,FALSE)),\"\")","v":""},{"$f":"IFERROR(IF(A38=\"\",\"\",HLOOKUP(A38,'Lista Narkotyki Wet'!$H$34:$BW$37,2,FALSE)),\"\")","v":""},{"$f":"IFERROR(IF(A38=\"\",\"\",HLOOKUP(A38,'Lista Narkotyki Wet'!$H$1:$BW$7,2,FALSE)),\"\")","v":""},{"$f":"IFERROR(IF(A38=\"\",\"\",HLOOKUP(A38,'Lista Narkotyki Wet'!$H$13:$BW$18,2,FALSE)),\"\")","v":""},null,null,null,null,null,null,null,null,null,null,null,null,null,null,null,null,null,null,null,null,null,null,null,"1","2"]
[null,{"$f":"IFERROR(IF(A39=\"\",\"\",VLOOKUP(A39,'Lista Narkotyki Wet'!$A$2:$B$69,2,FALSE)),\"\")","v":""},{"$f":"IFERROR(IF(A39=\"\",\"\",HLOOKUP(A39,'Lista Narkotyki Wet'!$H$34:$BW$37,2,FALSE)),\"\")","v":""},{"$f":"IFERROR(IF(A39=\"\",\"\",HLOOKUP(A39,'Lista Narkotyki Wet'!$H$1:$BW$7,2,FALSE)),\"\")","v":""},{"$f":"IFERROR(IF(A39=\"\",\"\",HLOOKUP(A39,'Lista Narkotyki Wet'!$H$13:$BW$18,2,FALSE)),\"\")","v":""},null,null,null,null,null,null,null,null,null,null,null,null,null,null,null,null,null,null,null,null,null,null,null,"1","2"]
[null,{"$f":"IFERROR(IF(A40=\"\",\"\",VLOOKUP(A40,'Lista Narkotyki Wet'!$A$2:$B$69,2,FALSE)),\"\")","v":""},{"$f":"IFERROR(IF(A40=\"\",\"\",HLOOKUP(A40,'Lista Narkotyki Wet'!$H$34:$BW$37,2,FALSE)),\"\")","v":""},{"$f":"IFERROR(IF(A40=\"\",\"\",HLOOKUP(A40,'Lista Narkotyki Wet'!$H$1:$BW$7,2,FALSE)),\"\")","v":""},{"$f":"IFERROR(IF(A40=\"\",\"\",HLOOKUP(A40,'Lista Narkotyki Wet'!$H$13:$BW$18,2,FALSE)),\"\")","v":""},null,null,null,null,null,null,null,null,null,null,null,null,null,null,null,null,null,null,null,null,null,null,null,"1","2"]
[null,{"$f":"IFERROR(IF(A41=\"\",\"\",VLOOKUP(A41,'Lista Narkotyki Wet'!$A$2:$B$69,2,FALSE)),\"\")","v":""},{"$f":"IFERROR(IF(A41=\"\",\"\",HLOOKUP(A41,'Lista Narkotyki Wet'!$H$34:$BW$37,2,FALSE)),\"\")","v":""},{"$f":"IFERROR(IF(A41=\"\",\"\",HLOOKUP(A41,'Lista Narkotyki Wet'!$H$1:$BW$7,2,FALSE)),\"\")","v":""},{"$f":"IFERROR(IF(A41=\"\",\"\",HLOOKUP(A41,'Lista Narkotyki Wet'!$H$13:$BW$18,2,FALSE)),\"\")","v":""},null,null,null,null,null,null,null,null,null,null,null,null,null,null,null,null,null,null,null,null,null,null,null,"1","2"]
[null,{"$f":"IFERROR(IF(A42=\"\",\"\",VLOOKUP(A42,'Lista Narkotyki Wet'!$A$2:$B$69,2,FALSE)),\"\")","v":""},{"$f":"IFERROR(IF(A42=\"\",\"\",HLOOKUP(A42,'Lista Narkotyki Wet'!$H$34:$BW$37,2,FALSE)),\"\")","v":""},{"$f":"IFERROR(IF(A42=\"\",\"\",HLOOKUP(A42,'Lista Narkotyki Wet'!$H$1:$BW$7,2,FALSE)),\"\")","v":""},{"$f":"IFERROR(IF(A42=\"\",\"\",HLOOKUP(A42,'Lista Narkotyki Wet'!$H$13:$BW$18,2,FALSE)),\"\")","v":""},null,null,null,null,null,null,null,null,null,null,null,null,null,null,null,null,null,null,null,null,null,null,null,"1","2"]
[null,{"$f":"IFERROR(IF(A43=\"\",\"\",VLOOKUP(A43,'Lista Narkotyki Wet'!$A$2:$B$69,2,FALSE)),\"\")","v":""},{"$f":"IFERROR(IF(A43=\"\",\"\",HLOOKUP(A43,'Lista Narkotyki Wet'!$H$34:$BW$37,2,FALSE)),\"\")","v":""},{"$f":"IFERROR(IF(A43=\"\",\"\",HLOOKUP(A43,'Lista Narkotyki Wet'!$H$1:$BW$7,2,FALSE)),\"\")","v":""},{"$f":"IFERROR(IF(A43=\"\",\"\",HLOOKUP(A43,'Lista Narkotyki Wet'!$H$13:$BW$18,2,FALSE)),\"\")","v":""},null,null,null,null,null,null,null,null,null,null,null,null,null,null,null,null,null,null,null,null,null,null,null,"1","2"]
[null,{"$f":"IFERROR(IF(A44=\"\",\"\",VLOOKUP(A44,'Lista Narkotyki Wet'!$A$2:$B$69,2,FALSE)),\"\")","v":""},{"$f":"IFERROR(IF(A44=\"\",\"\",HLOOKUP(A44,'Lista Narkotyki Wet'!$H$34:$BW$37,2,FALSE)),\"\")","v":""},{"$f":"IFERROR(IF(A44=\"\",\"\",HLOOKUP(A44,'Lista Narkotyki Wet'!$H$1:$BW$7,2,FALSE)),\"\")","v":""},{"$f":"IFERROR(IF(A44=\"\",\"\",HLOOKUP(A44,'Lista Narkotyki Wet'!$H$13:$BW$18,2,FALSE)),\"\")","v":""},null,null,null,null,null,null,null,null,null,null,null,null,null,null,null,null,null,null,null,null,null,null,null,"1","2"]
[null,{"$f":"IFERROR(IF(A45=\"\",\"\",VLOOKUP(A45,'Lista Narkotyki Wet'!$A$2:$B$69,2,FALSE)),\"\")","v":""},{"$f":"IFERROR(IF(A45=\"\",\"\",HLOOKUP(A45,'Lista Narkotyki Wet'!$H$34:$BW$37,2,FALSE)),\"\")","v":""},{"$f":"IFERROR(IF(A45=\"\",\"\",HLOOKUP(A45,'Lista Narkotyki Wet'!$H$1:$BW$7,2,FALSE)),\"\")","v":""},{"$f":"IFERROR(IF(A45=\"\",\"\",HLOOKUP(A45,'Lista Narkotyki Wet'!$H$13:$BW$18,2,FALSE)),\"\")","v":""},null,null,null,null,null,null,null,null,null,null,null,null,null,null,null,null,null,null,null,null,null,null,null,"1","2"]
[null,{"$f":"IFERROR(IF(A46=\"\",\"\",VLOOKUP(A46,'Lista Narkotyki Wet'!$A$2:$B$69,2,FALSE)),\"\")","v":""},{"$f":"IFERROR(IF(A46=\"\",\"\",HLOOKUP(A46,'Lista Narkotyki Wet'!$H$34:$BW$37,2,FALSE)),\"\")","v":""},{"$f":"IFERROR(IF(A46=\"\",\"\",HLOOKUP(A46,'Lista Narkotyki Wet'!$H$1:$BW$7,2,FALSE)),\"\")","v":""},{"$f":"IFERROR(IF(A46=\"\",\"\",HLOOKUP(A46,'Lista Narkotyki Wet'!$H$13:$BW$18,2,FALSE)),\"\")","v":""},null,null,null,null,null,null,null,null,null,null,null,null,null,null,null,null,null,null,null,null,null,null,null,"1","2"]
[null,{"$f":"IFERROR(IF(A47=\"\",\"\",VLOOKUP(A47,'Lista Narkotyki Wet'!$A$2:$B$69,2,FALSE)),\"\")","v":""},{"$f":"IFERROR(IF(A47=\"\",\"\",HLOOKUP(A47,'Lista Narkotyki Wet'!$H$34:$BW$37,2,FALSE)),\"\")","v":""},{"$f":"IFERROR(IF(A47=\"\",\"\",HLOOKUP(A47,'Lista Narkotyki Wet'!$H$1:$BW$7,2,FALSE)),\"\")","v":""},{"$f":"IFERROR(IF(A47=\"\",\"\",HLOOKUP(A47,'Lista Narkotyki Wet'!$H$13:$BW$18,2,FALSE)),\"\")","v":""},null,null,null,null,null,null,null,null,null,null,null,null,null,null,null,null,null,null,null,null,null,null,null,"1","2"]
[null,{"$f":"IFERROR(IF(A48=\"\",\"\",VLOOKUP(A48,'Lista Narkotyki Wet'!$A$2:$B$69,2,FALSE)),\"\")","v":""},{"$f":"IFERROR(IF(A48=\"\",\"\",HLOOKUP(A48,'Lista Narkotyki Wet'!$H$34:$BW$37,2,FALSE)),\"\")","v":""},{"$f":"IFERROR(IF(A48=\"\",\"\",HLOOKUP(A48,'Lista Narkotyki Wet'!$H$1:$BW$7,2,FALSE)),\"\")","v":""},{"$f":"IFERROR(IF(A48=\"\",\"\",HLOOKUP(A48,'Lista Narkotyki Wet'!$H$13:$BW$18,2,FALSE)),\"\")","v":""},null,null,null,null,null,null,null,null,null,null,null,null,null,null,null,null,null,null,null,null,null,null,null,"1","2"]
[null,{"$f":"IFERROR(IF(A49=\"\",\"\",VLOOKUP(A49,'Lista Narkotyki Wet'!$A$2:$B$69,2,FALSE)),\"\")","v":""},{"$f":"IFERROR(IF(A49=\"\",\"\",HLOOKUP(A49,'Lista Narkotyki Wet'!$H$34:$BW$37,2,FALSE)),\"\")","v":""},{"$f":"IFERROR(IF(A49=\"\",\"\",HLOOKUP(A49,'Lista Narkotyki Wet'!$H$1:$BW$7,2,FALSE)),\"\")","v":""},{"$f":"IFERROR(IF(A49=\"\",\"\",HLOOKUP(A49,'Lista Narkotyki Wet'!$H$13:$BW$18,2,FALSE)),\"\")","v":""},null,null,null,null,null,null,null,null,null,null,null,null,null,null,null,null,null,null,null,null,null,null,null,"1","2"]
[null,{"$f":"IFERROR(IF(A50=\"\",\"\",VLOOKUP(A50,'Lista Narkotyki Wet'!$A$2:$B$69,2,FALSE)),\"\")","v":""},{"$f":"IFERROR(IF(A50=\"\",\"\",HLOOKUP(A50,'Lista Narkotyki Wet'!$H$34:$BW$37,2,FALSE)),\"\")","v":""},{"$f":"IFERROR(IF(A50=\"\",\"\",HLOOKUP(A50,'Lista Narkotyki Wet'!$H$1:$BW$7,2,FALSE)),\"\")","v":""},{"$f":"IFERROR(IF(A50=\"\",\"\",HLOOKUP(A50,'Lista Narkotyki Wet'!$H$13:$BW$18,2,FALSE)),\"\")","v":""},null,null,null,null,null,null,null,null,null,null,null,null,null,null,null,null,null,null,null,null,null,null,null,"1","2"]
[null,{"$f":"IFERROR(IF(A51=\"\",\"\",VLOOKUP(A51,'Lista Narkotyki Wet'!$A$2:$B$69,2,FALSE)),\"\")","v":""},{"$f":"IFERROR(IF(A51=\"\",\"\",HLOOKUP(A51,'Lista Narkotyki Wet'!$H$34:$BW$37,2,FALSE)),\"\")","v":""},{"$f":"IFERROR(IF(A51=\"\",\"\",HLOOKUP(A51,'Lista Narkotyki Wet'!$H$1:$BW$7,2,FALSE)),\"\")","v":""},{"$f":"IFERROR(IF(A51=\"\",\"\",HLOOKUP(A51,'Lista Narkotyki Wet'!$H$13:$BW$18,2,FALSE)),\"\")","v":""},null,null,null,null,null,null,null,null,null,null,null,null,null,null,null,null,null,null,null,null,null,null,null,"1","2"]
[null,{"$f":"IFERROR(IF(A52=\"\",\"\",VLOOKUP(A52,'Lista Narkotyki Wet'!$A$2:$B$69,2,FALSE)),\"\")","v":""},{"$f":"IFERROR(IF(A52=\"\",\"\",HLOOKUP(A52,'Lista Narkotyki Wet'!$H$34:$BW$37,2,FALSE)),\"\")","v":""},{"$f":"IFERROR(IF(A52=\"\",\"\",HLOOKUP(A52,'Lista Narkotyki Wet'!$H$1:$BW$7,2,FALSE)),\"\")","v":""},{"$f":"IFERROR(IF(A52=\"\",\"\",HLOOKUP(A52,'Lista Narkotyki Wet'!$H$13:$BW$18,2,FALSE)),\"\")","v":""},null,null,null,null,null,null,null,null,null,null,null,null,null,null,null,null,null,null,null,null,null,null,null,"1","2"]
[null,{"$f":"IFERROR(IF(A53=\"\",\"\",VLOOKUP(A53,'Lista Narkotyki Wet'!$A$2:$B$69,2,FALSE)),\"\")","v":""},{"$f":"IFERROR(IF(A53=\"\",\"\",HLOOKUP(A53,'Lista Narkotyki Wet'!$H$34:$BW$37,2,FALSE)),\"\")","v":""},{"$f":"IFERROR(IF(A53=\"\",\"\",HLOOKUP(A53,'Lista Narkotyki Wet'!$H$1:$BW$7,2,FALSE)),\"\")","v":""},{"$f":"IFERROR(IF(A53=\"\",\"\",HLOOKUP(A53,'Lista Narkotyki Wet'!$H$13:$BW$18,2,FALSE)),\"\")","v":""},null,null,null,null,null,null,null,null,null,null,null,null,null,null,null,null,null,null,null,null,null,null,null,"1","2"]
[null,{"$f":"IFERROR(IF(A54=\"\",\"\",VLOOKUP(A54,'Lista Narkotyki Wet'!$A$2:$B$69,2,FALSE)),\"\")","v":""},{"$f":"IFERROR(IF(A54=\"\",\"\",HLOOKUP(A54,'Lista Narkotyki Wet'!$H$34:$BW$37,2,FALSE)),\"\")","v":""},{"$f":"IFERROR(IF(A54=\"\",\"\",HLOOKUP(A54,'Lista Narkotyki Wet'!$H$1:$BW$7,2,FALSE)),\"\")","v":""},{"$f":"IFERROR(IF(A54=\"\",\"\",HLOOKUP(A54,'Lista Narkotyki Wet'!$H$13:$BW$18,2,FALSE)),\"\")","v":""},null,null,null,null,null,null,null,null,null,null,null,null,null,null,null,null,null,null,null,null,null,null,null,"1","2"]
[null,{"$f":"IFERROR(IF(A55=\"\",\"\",VLOOKUP(A55,'Lista Narkotyki Wet'!$A$2:$B$69,2,FALSE)),\"\")","v":""},{"$f":"IFERROR(IF(A55=\"\",\"\",HLOOKUP(A55,'Lista Narkotyki Wet'!$H$34:$BW$37,2,FALSE)),\"\")","v":""},{"$f":"IFERROR(IF(A55=\"\",\"\",HLOOKUP(A55,'Lista Narkotyki Wet'!$H$1:$BW$7,2,FALSE)),\"\")","v":""},{"$f":"IFERROR(IF(A55=\"\",\"\",HLOOKUP(A55,'Lista Narkotyki Wet'!$H$13:$BW$18,2,FALSE)),\"\")","v":""},null,null,null,null,null,null,null,null,null,null,null,null,null,null,null,null,null,null,null,null,null,null,null,"1","2"]
[null,{"$f":"IFERROR(IF(A56=\"\",\"\",VLOOKUP(A56,'Lista Narkotyki Wet'!$A$2:$B$69,2,FALSE)),\"\")","v":""},{"$f":"IFERROR(IF(A56=\"\",\"\",HLOOKUP(A56,'Lista Narkotyki Wet'!$H$34:$BW$37,2,FALSE)),\"\")","v":""},{"$f":"IFERROR(IF(A56=\"\",\"\",HLOOKUP(A56,'Lista Narkotyki Wet'!$H$1:$BW$7,2,FALSE)),\"\")","v":""},{"$f":"IFERROR(IF(A56=\"\",\"\",HLOOKUP(A56,'Lista Narkotyki Wet'!$H$13:$BW$18,2,FALSE)),\"\")","v":""},null,null,null,null,null,null,null,null,null,null,null,null,null,null,null,null,null,null,null,null,null,null,null,"1","2"]
[null,{"$f":"IFERROR(IF(A57=\"\",\"\",VLOOKUP(A57,'Lista Narkotyki Wet'!$A$2:$B$69,2,FALSE)),\"\")","v":""},{"$f":"IFERROR(IF(A57=\"\",\"\",HLOOKUP(A57,'Lista Narkotyki Wet'!$H$34:$BW$37,2,FALSE)),\"\")","v":""},{"$f":"IFERROR(IF(A57=\"\",\"\",HLOOKUP(A57,'Lista Narkotyki Wet'!$H$1:$BW$7,2,FALSE)),\"\")","v":""},{"$f":"IFERROR(IF(A57=\"\",\"\",HLOOKUP(A57,'Lista Narkotyki Wet'!$H$13:$BW$18,2,FALSE)),\"\")","v":""},null,null,null,null,null,null,null,null,null,null,null,null,null,null,null,null,null,null,null,null,null,null,null,"1","2"]
[null,{"$f":"IFERROR(IF(A58=\"\",\"\",VLOOKUP(A58,'Lista Narkotyki Wet'!$A$2:$B$69,2,FALSE)),\"\")","v":""},{"$f":"IFERROR(IF(A58=\"\",\"\",HLOOKUP(A58,'Lista Narkotyki Wet'!$H$34:$BW$37,2,FALSE)),\"\")","v":""},{"$f":"IFERROR(IF(A58=\"\",\"\",HLOOKUP(A58,'Lista Narkotyki Wet'!$H$1:$BW$7,2,FALSE)),\"\")","v":""},{"$f":"IFERROR(IF(A58=\"\",\"\",HLOOKUP(A58,'Lista Narkotyki Wet'!$H$13:$BW$18,2,FALSE)),\"\")","v":""},null,null,null,null,null,null,null,null,null,null,null,null,null,null,null,null,null,null,null,null,null,null,null,"1","2"]
[null,{"$f":"IFERROR(IF(A59=\"\",\"\",VLOOKUP(A59,'Lista Narkotyki Wet'!$A$2:$B$69,2,FALSE)),\"\")","v":""},{"$f":"IFERROR(IF(A59=\"\",\"\",HLOOKUP(A59,'Lista Narkotyki Wet'!$H$34:$BW$37,2,FALSE)),\"\")","v":""},{"$f":"IFERROR(IF(A59=\"\",\"\",HLOOKUP(A59,'Lista Narkotyki Wet'!$H$1:$BW$7,2,FALSE)),\"\")","v":""},{"$f":"IFERROR(IF(A59=\"\",\"\",HLOOKUP(A59,'Lista Narkotyki Wet'!$H$13:$BW$18,2,FALSE)),\"\")","v":""},null,null,null,null,null,null,null,null,null,null,null,null,null,null,null,null,null,null,null,null,null,null,null,"1","2"]
[null,{"$f":"IFERROR(IF(A60=\"\",\"\",VLOOKUP(A60,'Lista Narkotyki Wet'!$A$2:$B$69,2,FALSE)),\"\")","v":""},{"$f":"IFERROR(IF(A60=\"\",\"\",HLOOKUP(A60,'Lista Narkotyki Wet'!$H$34:$BW$37,2,FALSE)),\"\")","v":""},{"$f":"IFERROR(IF(A60=\"\",\"\",HLOOKUP(A60,'Lista Narkotyki Wet'!$H$1:$BW$7,2,FALSE)),\"\")","v":""},{"$f":"IFERROR(IF(A60=\"\",\"\",HLOOKUP(A60,'Lista Narkotyki Wet'!$H$13:$BW$18,2,FALSE)),\"\")","v":""},null,null,null,null,null,null,null,null,null,null,null,null,null,null,null,null,null,null,null,null,null,null,null,"1","2"]
[null,{"$f":"IFERROR(IF(A61=\"\",\"\",VLOOKUP(A61,'Lista Narkotyki Wet'!$A$2:$B$69,2,FALSE)),\"\")","v":""},{"$f":"IFERROR(IF(A61=\"\",\"\",HLOOKUP(A61,'Lista Narkotyki Wet'!$H$34:$BW$37,2,FALSE)),\"\")","v":""},{"$f":"IFERROR(IF(A61=\"\",\"\",HLOOKUP(A61,'Lista Narkotyki Wet'!$H$1:$BW$7,2,FALSE)),\"\")","v":""},{"$f":"IFERROR(IF(A61=\"\",\"\",HLOOKUP(A61,'Lista Narkotyki Wet'!$H$13:$BW$18,2,FALSE)),\"\")","v":""},null,null,null,null,null,null,null,null,null,null,null,null,null,null,null,null,null,null,null,null,null,null,null,"1","2"]
[null,{"$f":"IFERROR(IF(A62=\"\",\"\",VLOOKUP(A62,'Lista Narkotyki Wet'!$A$2:$B$69,2,FALSE)),\"\")","v":""},{"$f":"IFERROR(IF(A62=\"\",\"\",HLOOKUP(A62,'Lista Narkotyki Wet'!$H$34:$BW$37,2,FALSE)),\"\")","v":""},{"$f":"IFERROR(IF(A62=\"\",\"\",HLOOKUP(A62,'Lista Narkotyki Wet'!$H$1:$BW$7,2,FALSE)),\"\")","v":""},{"$f":"IFERROR(IF(A62=\"\",\"\",HLOOKUP(A62,'Lista Narkotyki Wet'!$H$13:$BW$18,2,FALSE)),\"\")","v":""},null,null,null,null,null,null,null,null,null,null,null,null,null,null,null,null,null,null,null,null,null,null,null,"1","2"]
[null,{"$f":"IFERROR(IF(A63=\"\",\"\",VLOOKUP(A63,'Lista Narkotyki Wet'!$A$2:$B$69,2,FALSE)),\"\")","v":""},{"$f":"IFERROR(IF(A63=\"\",\"\",HLOOKUP(A63,'Lista Narkotyki Wet'!$H$34:$BW$37,2,FALSE)),\"\")","v":""},{"$f":"IFERROR(IF(A63=\"\",\"\",HLOOKUP(A63,'Lista Narkotyki Wet'!$H$1:$BW$7,2,FALSE)),\"\")","v":""},{"$f":"IFERROR(IF(A63=\"\",\"\",HLOOKUP(A63,'Lista Narkotyki Wet'!$H$13:$BW$18,2,FALSE)),\"\")","v":""},null,null,null,null,null,null,null,null,null,null,null,null,null,null,null,null,null,null,null,null,null,null,null,"1","2"]
[null,{"$f":"IFERROR(IF(A64=\"\",\"\",VLOOKUP(A64,'Lista Narkotyki Wet'!$A$2:$B$69,2,FALSE)),\"\")","v":""},{"$f":"IFERROR(IF(A64=\"\",\"\",HLOOKUP(A64,'Lista Narkotyki Wet'!$H$34:$BW$37,2,FALSE)),\"\")","v":""},{"$f":"IFERROR(IF(A64=\"\",\"\",HLOOKUP(A64,'Lista Narkotyki Wet'!$H$1:$BW$7,2,FALSE)),\"\")","v":""},{"$f":"IFERROR(IF(A64=\"\",\"\",HLOOKUP(A64,'Lista Narkotyki Wet'!$H$13:$BW$18,2,FALSE)),\"\")","v":""},null,null,null,null,null,null,null,null,null,null,null,null,null,null,null,null,null,null,null,null,null,null,null,"1","2"]
[null,{"$f":"IFERROR(IF(A65=\"\",\"\",VLOOKUP(A65,'Lista Narkotyki Wet'!$A$2:$B$69,2,FALSE)),\"\")","v":""},{"$f":"IFERROR(IF(A65=\"\",\"\",HLOOKUP(A65,'Lista Narkotyki Wet'!$H$34:$BW$37,2,FALSE)),\"\")","v":""},{"$f":"IFERROR(IF(A65=\"\",\"\",HLOOKUP(A65,'Lista Narkotyki Wet'!$H$1:$BW$7,2,FALSE)),\"\")","v":""},{"$f":"IFERROR(IF(A65=\"\",\"\",HLOOKUP(A65,'Lista Narkotyki Wet'!$H$13:$BW$18,2,FALSE)),\"\")","v":""},null,null,null,null,null,null,null,null,null,null,null,null,null,null,null,null,null,null,null,null,null,null,null,"1","2"]
[null,{"$f":"IFERROR(IF(A66=\"\",\"\",VLOOKUP(A66,'Lista Narkotyki Wet'!$A$2:$B$69,2,FALSE)),\"\")","v":""},{"$f":"IFERROR(IF(A66=\"\",\"\",HLOOKUP(A66,'Lista Narkotyki Wet'!$H$34:$BW$37,2,FALSE)),\"\")","v":""},{"$f":"IFERROR(IF(A66=\"\",\"\",HLOOKUP(A66,'Lista Narkotyki Wet'!$H$1:$BW$7,2,FALSE)),\"\")","v":""},{"$f":"IFERROR(IF(A66=\"\",\"\",HLOOKUP(A66,'Lista Narkotyki Wet'!$H$13:$BW$18,2,FALSE)),\"\")","v":""},null,null,null,null,null,null,null,null,null,null,null,null,null,null,null,null,null,null,null,null,null,null,null,"1","2"]
[null,{"$f":"IFERROR(IF(A67=\"\",\"\",VLOOKUP(A67,'Lista Narkotyki Wet'!$A$2:$B$69,2,FALSE)),\"\")","v":""},{"$f":"IFERROR(IF(A67=\"\",\"\",HLOOKUP(A67,'Lista Narkotyki Wet'!$H$34:$BW$37,2,FALSE)),\"\")","v":""},{"$f":"IFERROR(IF(A67=\"\",\"\",HLOOKUP(A67,'Lista Narkotyki Wet'!$H$1:$BW$7,2,FALSE)),\"\")","v":""},{"$f":"IFERROR(IF(A67=\"\",\"\",HLOOKUP(A67,'Lista Narkotyki Wet'!$H$13:$BW$18,2,FALSE)),\"\")","v":""},null,null,null,null,null,null,null,null,null,null,null,null,null,null,null,null,null,null,null,null,null,null,null,"1","2"]
[null,{"$f":"IFERROR(IF(A68=\"\",\"\",VLOOKUP(A68,'Lista Narkotyki Wet'!$A$2:$B$69,2,FALSE)),\"\")","v":""},{"$f":"IFERROR(IF(A68=\"\",\"\",HLOOKUP(A68,'Lista Narkotyki Wet'!$H$34:$BW$37,2,FALSE)),\"\")","v":""},{"$f":"IFERROR(IF(A68=\"\",\"\",HLOOKUP(A68,'Lista Narkotyki Wet'!$H$1:$BW$7,2,FALSE)),\"\")","v":""},{"$f":"IFERROR(IF(A68=\"\",\"\",HLOOKUP(A68,'Lista Narkotyki Wet'!$H$13:$BW$18,2,FALSE)),\"\")","v":""},null,null,null,null,null,null,null,null,null,null,null,null,null,null,null,null,null,null,null,null,null,null,null,"1","2"]
[null,{"$f":"IFERROR(IF(A69=\"\",\"\",VLOOKUP(A69,'Lista Narkotyki Wet'!$A$2:$B$69,2,FALSE)),\"\")","v":""},{"$f":"IFERROR(IF(A69=\"\",\"\",HLOOKUP(A69,'Lista Narkotyki Wet'!$H$34:$BW$37,2,FALSE)),\"\")","v":""},{"$f":"IFERROR(IF(A69=\"\",\"\",HLOOKUP(A69,'Lista Narkotyki Wet'!$H$1:$BW$7,2,FALSE)),\"\")","v":""},{"$f":"IFERROR(IF(A69=\"\",\"\",HLOOKUP(A69,'Lista Narkotyki Wet'!$H$13:$BW$18,2,FALSE)),\"\")","v":""},null,null,null,null,null,null,null,null,null,null,null,null,null,null,null,null,null,null,null,null,null,null,null,"1","2"]
[null,{"$f":"IFERROR(IF(A70=\"\",\"\",VLOOKUP(A70,'Lista Narkotyki Wet'!$A$2:$B$69,2,FALSE)),\"\")","v":""},{"$f":"IFERROR(IF(A70=\"\",\"\",HLOOKUP(A70,'Lista Narkotyki Wet'!$H$34:$BW$37,2,FALSE)),\"\")","v":""},{"$f":"IFERROR(IF(A70=\"\",\"\",HLOOKUP(A70,'Lista Narkotyki Wet'!$H$1:$BW$7,2,FALSE)),\"\")","v":""},{"$f":"IFERROR(IF(A70=\"\",\"\",HLOOKUP(A70,'Lista Narkotyki Wet'!$H$13:$BW$18,2,FALSE)),\"\")","v":""},null,null,null,null,null,null,null,null,null,null,null,null,null,null,null,null,null,null,null,null,null,null,null,"1","2"]
[null,{"$f":"IFERROR(IF(A71=\"\",\"\",VLOOKUP(A71,'Lista Narkotyki Wet'!$A$2:$B$69,2,FALSE)),\"\")","v":""},{"$f":"IFERROR(IF(A71=\"\",\"\",HLOOKUP(A71,'Lista Narkotyki Wet'!$H$34:$BW$37,2,FALSE)),\"\")","v":""},{"$f":"IFERROR(IF(A71=\"\",\"\",HLOOKUP(A71,'Lista Narkotyki Wet'!$H$1:$BW$7,2,FALSE)),\"\")","v":""},{"$f":"IFERROR(IF(A71=\"\",\"\",HLOOKUP(A71,'Lista Narkotyki Wet'!$H$13:$BW$18,2,FALSE)),\"\")","v":""},null,null,null,null,null,null,null,null,null,null,null,null,null,null,null,null,null,null,null,null,null,null,null,"1","2"]
[null,{"$f":"IFERROR(IF(A72=\"\",\"\",VLOOKUP(A72,'Lista Narkotyki Wet'!$A$2:$B$69,2,FALSE)),\"\")","v":""},{"$f":"IFERROR(IF(A72=\"\",\"\",HLOOKUP(A72,'Lista Narkotyki Wet'!$H$34:$BW$37,2,FALSE)),\"\")","v":""},{"$f":"IFERROR(IF(A72=\"\",\"\",HLOOKUP(A72,'Lista Narkotyki Wet'!$H$1:$BW$7,2,FALSE)),\"\")","v":""},{"$f":"IFERROR(IF(A72=\"\",\"\",HLOOKUP(A72,'Lista Narkotyki Wet'!$H$13:$BW$18,2,FALSE)),\"\")","v":""},null,null,null,null,null,null,null,null,null,null,null,null,null,null,null,null,null,null,null,null,null,null,null,"1","2"]
[null,{"$f":"IFERROR(IF(A73=\"\",\"\",VLOOKUP(A73,'Lista Narkotyki Wet'!$A$2:$B$69,2,FALSE)),\"\")","v":""},{"$f":"IFERROR(IF(A73=\"\",\"\",HLOOKUP(A73,'Lista Narkotyki Wet'!$H$34:$BW$37,2,FALSE)),\"\")","v":""},{"$f":"IFERROR(IF(A73=\"\",\"\",HLOOKUP(A73,'Lista Narkotyki Wet'!$H$1:$BW$7,2,FALSE)),\"\")","v":""},{"$f":"IFERROR(IF(A73=\"\",\"\",HLOOKUP(A73,'Lista Narkotyki Wet'!$H$13:$BW$18,2,FALSE)),\"\")","v":""},null,null,null,null,null,null,null,null,null,null,null,null,null,null,null,null,null,null,null,null,null,null,null,"1","2"]
[null,{"$f":"IFERROR(IF(A74=\"\",\"\",VLOOKUP(A74,'Lista Narkotyki Wet'!$A$2:$B$69,2,FALSE)),\"\")","v":""},{"$f":"IFERROR(IF(A74=\"\",\"\",HLOOKUP(A74,'Lista Narkotyki Wet'!$H$34:$BW$37,2,FALSE)),\"\")","v":""},{"$f":"IFERROR(IF(A74=\"\",\"\",HLOOKUP(A74,'Lista Narkotyki Wet'!$H$1:$BW$7,2,FALSE)),\"\")","v":""},{"$f":"IFERROR(IF(A74=\"\",\"\",HLOOKUP(A74,'Lista Narkotyki Wet'!$H$13:$BW$18,2,FALSE)),\"\")","v":""},null,null,null,null,null,null,null,null,null,null,null,null,null,null,null,null,null,null,null,null,null,null,null,"1","2"]
[null,{"$f":"IFERROR(IF(A75=\"\",\"\",VLOOKUP(A75,'Lista Narkotyki Wet'!$A$2:$B$69,2,FALSE)),\"\")","v":""},{"$f":"IFERROR(IF(A75=\"\",\"\",HLOOKUP(A75,'Lista Narkotyki Wet'!$H$34:$BW$37,2,FALSE)),\"\")","v":""},{"$f":"IFERROR(IF(A75=\"\",\"\",HLOOKUP(A75,'Lista Narkotyki Wet'!$H$1:$BW$7,2,FALSE)),\"\")","v":""},{"$f":"IFERROR(IF(A75=\"\",\"\",HLOOKUP(A75,'Lista Narkotyki Wet'!$H$13:$BW$18,2,FALSE)),\"\")","v":""},null,null,null,null,null,null,null,null,null,null,null,null,null,null,null,null,null,null,null,null,null,null,null,{"$f":"A75&1","v":"1"},{"$f":"A75&2","v":"2"}]
[null,{"$f":"IFERROR(IF(A76=\"\",\"\",VLOOKUP(A76,'Lista Narkotyki Wet'!$A$2:$B$69,2,FALSE)),\"\")","v":""},{"$f":"IFERROR(IF(A76=\"\",\"\",HLOOKUP(A76,'Lista Narkotyki Wet'!$H$34:$BW$37,2,FALSE)),\"\")","v":""},{"$f":"IFERROR(IF(A76=\"\",\"\",HLOOKUP(A76,'Lista Narkotyki Wet'!$H$1:$BW$7,2,FALSE)),\"\")","v":""},{"$f":"IFERROR(IF(A76=\"\",\"\",HLOOKUP(A76,'Lista Narkotyki Wet'!$H$13:$BW$18,2,FALSE)),\"\")","v":""},null,null,null,null,null,null,null,null,null,null,null,null,null,null,null,null,null,null,null,null,null,null,null,"1","2"]
[null,{"$f":"IFERROR(IF(A77=\"\",\"\",VLOOKUP(A77,'Lista Narkotyki Wet'!$A$2:$B$69,2,FALSE)),\"\")","v":""},{"$f":"IFERROR(IF(A77=\"\",\"\",HLOOKUP(A77,'Lista Narkotyki Wet'!$H$34:$BW$37,2,FALSE)),\"\")","v":""},{"$f":"IFERROR(IF(A77=\"\",\"\",HLOOKUP(A77,'Lista Narkotyki Wet'!$H$1:$BW$7,2,FALSE)),\"\")","v":""},{"$f":"IFERROR(IF(A77=\"\",\"\",HLOOKUP(A77,'Lista Narkotyki Wet'!$H$13:$BW$18,2,FALSE)),\"\")","v":""},null,null,null,null,null,null,null,null,null,null,null,null,null,null,null,null,null,null,null,null,null,null,null,"1","2"]
[null,{"$f":"IFERROR(IF(A78=\"\",\"\",VLOOKUP(A78,'Lista Narkotyki Wet'!$A$2:$B$69,2,FALSE)),\"\")","v":""},{"$f":"IFERROR(IF(A78=\"\",\"\",HLOOKUP(A78,'Lista Narkotyki Wet'!$H$34:$BW$37,2,FALSE)),\"\")","v":""},{"$f":"IFERROR(IF(A78=\"\",\"\",HLOOKUP(A78,'Lista Narkotyki Wet'!$H$1:$BW$7,2,FALSE)),\"\")","v":""},{"$f":"IFERROR(IF(A78=\"\",\"\",HLOOKUP(A78,'Lista Narkotyki Wet'!$H$13:$BW$18,2,FALSE)),\"\")","v":""},null,null,null,null,null,null,null,null,null,null,null,null,null,null,null,null,null,null,null,null,null,null,null,"1","2"]
[null,{"$f":"IFERROR(IF(A79=\"\",\"\",VLOOKUP(A79,'Lista Narkotyki Wet'!$A$2:$B$69,2,FALSE)),\"\")","v":""},{"$f":"IFERROR(IF(A79=\"\",\"\",HLOOKUP(A79,'Lista Narkotyki Wet'!$H$34:$BW$37,2,FALSE)),\"\")","v":""},{"$f":"IFERROR(IF(A79=\"\",\"\",HLOOKUP(A79,'Lista Narkotyki Wet'!$H$1:$BW$7,2,FALSE)),\"\")","v":""},{"$f":"IFERROR(IF(A79=\"\",\"\",HLOOKUP(A79,'Lista Narkotyki Wet'!$H$13:$BW$18,2,FALSE)),\"\")","v":""},null,null,null,null,null,null,null,null,null,null,null,null,null,null,null,null,null,null,null,null,null,null,null,"1","2"]
[null,{"$f":"IFERROR(IF(A80=\"\",\"\",VLOOKUP(A80,'Lista Narkotyki Wet'!$A$2:$B$69,2,FALSE)),\"\")","v":""},{"$f":"IFERROR(IF(A80=\"\",\"\",HLOOKUP(A80,'Lista Narkotyki Wet'!$H$34:$BW$37,2,FALSE)),\"\")","v":""},{"$f":"IFERROR(IF(A80=\"\",\"\",HLOOKUP(A80,'Lista Narkotyki Wet'!$H$1:$BW$7,2,FALSE)),\"\")","v":""},{"$f":"IFERROR(IF(A80=\"\",\"\",HLOOKUP(A80,'Lista Narkotyki Wet'!$H$13:$BW$18,2,FALSE)),\"\")","v":""},null,null,null,null,null,null,null,null,null,null,null,null,null,null,null,null,null,null,null,null,null,null,null,"1","2"]
[null,{"$f":"IFERROR(IF(A81=\"\",\"\",VLOOKUP(A81,'Lista Narkotyki Wet'!$A$2:$B$69,2,FALSE)),\"\")","v":""},{"$f":"IFERROR(IF(A81=\"\",\"\",HLOOKUP(A81,'Lista Narkotyki Wet'!$H$34:$BW$37,2,FALSE)),\"\")","v":""},{"$f":"IFERROR(IF(A81=\"\",\"\",HLOOKUP(A81,'Lista Narkotyki Wet'!$H$1:$BW$7,2,FALSE)),\"\")","v":""},{"$f":"IFERROR(IF(A81=\"\",\"\",HLOOKUP(A81,'Lista Narkotyki Wet'!$H$13:$BW$18,2,FALSE)),\"\")","v":""},null,null,null,null,null,null,null,null,null,null,null,null,null,null,null,null,null,null,null,null,null,null,null,"1","2"]
[null,{"$f":"IFERROR(IF(A82=\"\",\"\",VLOOKUP(A82,'Lista Narkotyki Wet'!$A$2:$B$69,2,FALSE)),\"\")","v":""},{"$f":"IFERROR(IF(A82=\"\",\"\",HLOOKUP(A82,'Lista Narkotyki Wet'!$H$34:$BW$37,2,FALSE)),\"\")","v":""},{"$f":"IFERROR(IF(A82=\"\",\"\",HLOOKUP(A82,'Lista Narkotyki Wet'!$H$1:$BW$7,2,FALSE)),\"\")","v":""},{"$f":"IFERROR(IF(A82=\"\",\"\",HLOOKUP(A82,'Lista Narkotyki Wet'!$H$13:$BW$18,2,FALSE)),\"\")","v":""},null,null,null,null,null,null,null,null,null,null,null,null,null,null,null,null,null,null,null,null,null,null,null,"1","2"]
[null,{"$f":"IFERROR(IF(A83=\"\",\"\",VLOOKUP(A83,'Lista Narkotyki Wet'!$A$2:$B$69,2,FALSE)),\"\")","v":""},{"$f":"IFERROR(IF(A83=\"\",\"\",HLOOKUP(A83,'Lista Narkotyki Wet'!$H$34:$BW$37,2,FALSE)),\"\")","v":""},{"$f":"IFERROR(IF(A83=\"\",\"\",HLOOKUP(A83,'Lista Narkotyki Wet'!$H$1:$BW$7,2,FALSE)),\"\")","v":""},{"$f":"IFERROR(IF(A83=\"\",\"\",HLOOKUP(A83,'Lista Narkotyki Wet'!$H$13:$BW$18,2,FALSE)),\"\")","v":""},null,null,null,null,null,null,null,null,null,null,null,null,null,null,null,null,null,null,null,null,null,null,null,"1","2"]
[null,{"$f":"IFERROR(IF(A84=\"\",\"\",VLOOKUP(A84,'Lista Narkotyki Wet'!$A$2:$B$69,2,FALSE)),\"\")","v":""},{"$f":"IFERROR(IF(A84=\"\",\"\",HLOOKUP(A84,'Lista Narkotyki Wet'!$H$34:$BW$37,2,FALSE)),\"\")","v":""},{"$f":"IFERROR(IF(A84=\"\",\"\",HLOOKUP(A84,'Lista Narkotyki Wet'!$H$1:$BW$7,2,FALSE)),\"\")","v":""},{"$f":"IFERROR(IF(A84=\"\",\"\",HLOOKUP(A84,'Lista Narkotyki Wet'!$H$13:$BW$18,2,FALSE)),\"\")","v":""},null,null,null,null,null,null,null,null,null,null,null,null,null,null,null,null,null,null,null,null,null,null,null,"1","2"]
[null,{"$f":"IFERROR(IF(A85=\"\",\"\",VLOOKUP(A85,'Lista Narkotyki Wet'!$A$2:$B$69,2,FALSE)),\"\")","v":""},{"$f":"IFERROR(IF(A85=\"\",\"\",HLOOKUP(A85,'Lista Narkotyki Wet'!$H$34:$BW$37,2,FALSE)),\"\")","v":""},{"$f":"IFERROR(IF(A85=\"\",\"\",HLOOKUP(A85,'Lista Narkotyki Wet'!$H$1:$BW$7,2,FALSE)),\"\")","v":""},{"$f":"IFERROR(IF(A85=\"\",\"\",HLOOKUP(A85,'Lista Narkotyki Wet'!$H$13:$BW$18,2,FALSE)),\"\")","v":""},null,null,null,null,null,null,null,null,null,null,null,null,null,null,null,null,null,null,null,null,null,null,null,"1","2"]
[null,{"$f":"IFERROR(IF(A86=\"\",\"\",VLOOKUP(A86,'Lista Narkotyki Wet'!$A$2:$B$69,2,FALSE)),\"\")","v":""},{"$f":"IFERROR(IF(A86=\"\",\"\",HLOOKUP(A86,'Lista Narkotyki Wet'!$H$34:$BW$37,2,FALSE)),\"\")","v":""},{"$f":"IFERROR(IF(A86=\"\",\"\",HLOOKUP(A86,'Lista Narkotyki Wet'!$H$1:$BW$7,2,FALSE)),\"\")","v":""},{"$f":"IFERROR(IF(A86=\"\",\"\",HLOOKUP(A86,'Lista Narkotyki Wet'!$H$13:$BW$18,2,FALSE)),\"\")","v":""},null,null,null,null,null,null,null,null,null,null,null,null,null,null,null,null,null,null,null,null,null,null,null,"1","2"]
[null,{"$f":"IFERROR(IF(A87=\"\",\"\",VLOOKUP(A87,'Lista Narkotyki Wet'!$A$2:$B$69,2,FALSE)),\"\")","v":""},{"$f":"IFERROR(IF(A87=\"\",\"\",HLOOKUP(A87,'Lista Narkotyki Wet'!$H$34:$BW$37,2,FALSE)),\"\")","v":""},{"$f":"IFERROR(IF(A87=\"\",\"\",HLOOKUP(A87,'Lista Narkotyki Wet'!$H$1:$BW$7,2,FALSE)),\"\")","v":""},{"$f":"IFERROR(IF(A87=\"\",\"\",HLOOKUP(A87,'Lista Narkotyki Wet'!$H$13:$BW$18,2,FALSE)),\"\")","v":""},null,null,null,null,null,null,null,null,null,null,null,null,null,null,null,null,null,null,null,null,null,null,null,"1","2"]
[null,{"$f":"IFERROR(IF(A88=\"\",\"\",VLOOKUP(A88,'Lista Narkotyki Wet'!$A$2:$B$69,2,FALSE)),\"\")","v":""},{"$f":"IFERROR(IF(A88=\"\",\"\",HLOOKUP(A88,'Lista Narkotyki Wet'!$H$34:$BW$37,2,FALSE)),\"\")","v":""},{"$f":"IFERROR(IF(A88=\"\",\"\",HLOOKUP(A88,'Lista Narkotyki Wet'!$H$1:$BW$7,2,FALSE)),\"\")","v":""},{"$f":"IFERROR(IF(A88=\"\",\"\",HLOOKUP(A88,'Lista Narkotyki Wet'!$H$13:$BW$18,2,FALSE)),\"\")","v":""},null,null,null,null,null,null,null,null,null,null,null,null,null,null,null,null,null,null,null,null,null,null,null,"1","2"]
[null,{"$f":"IFERROR(IF(A89=\"\",\"\",VLOOKUP(A89,'Lista Narkotyki Wet'!$A$2:$B$69,2,FALSE)),\"\")","v":""},{"$f":"IFERROR(IF(A89=\"\",\"\",HLOOKUP(A89,'Lista Narkotyki Wet'!$H$34:$BW$37,2,FALSE)),\"\")","v":""},{"$f":"IFERROR(IF(A89=\"\",\"\",HLOOKUP(A89,'Lista Narkotyki Wet'!$H$1:$BW$7,2,FALSE)),\"\")","v":""},{"$f":"IFERROR(IF(A89=\"\",\"\",HLOOKUP(A89,'Lista Narkotyki Wet'!$H$13:$BW$18,2,FALSE)),\"\")","v":""},null,null,null,null,null,null,null,null,null,null,null,null,null,null,null,null,null,null,null,null,null,null,null,"1","2"]
[null,{"$f":"IFERROR(IF(A90=\"\",\"\",VLOOKUP(A90,'Lista Narkotyki Wet'!$A$2:$B$69,2,FALSE)),\"\")","v":""},{"$f":"IFERROR(IF(A90=\"\",\"\",HLOOKUP(A90,'Lista Narkotyki Wet'!$H$34:$BW$37,2,FALSE)),\"\")","v":""},{"$f":"IFERROR(IF(A90=\"\",\"\",HLOOKUP(A90,'Lista Narkotyki Wet'!$H$1:$BW$7,2,FALSE)),\"\")","v":""},{"$f":"IFERROR(IF(A90=\"\",\"\",HLOOKUP(A90,'Lista Narkotyki Wet'!$H$13:$BW$18,2,FALSE)),\"\")","v":""},null,null,null,null,null,null,null,null,null,null,null,null,null,null,null,null,null,null,null,null,null,null,null,"1","2"]
[null,{"$f":"IFERROR(IF(A91=\"\",\"\",VLOOKUP(A91,'Lista Narkotyki Wet'!$A$2:$B$69,2,FALSE)),\"\")","v":""},{"$f":"IFERROR(IF(A91=\"\",\"\",HLOOKUP(A91,'Lista Narkotyki Wet'!$H$34:$BW$37,2,FALSE)),\"\")","v":""},{"$f":"IFERROR(IF(A91=\"\",\"\",HLOOKUP(A91,'Lista Narkotyki Wet'!$H$1:$BW$7,2,FALSE)),\"\")","v":""},{"$f":"IFERROR(IF(A91=\"\",\"\",HLOOKUP(A91,'Lista Narkotyki Wet'!$H$13:$BW$18,2,FALSE)),\"\")","v":""},null,null,null,null,null,null,null,null,null,null,null,null,null,null,null,null,null,null,null,null,null,null,null,"1","2"]
[null,{"$f":"IFERROR(IF(A92=\"\",\"\",VLOOKUP(A92,'Lista Narkotyki Wet'!$A$2:$B$69,2,FALSE)),\"\")","v":""},{"$f":"IFERROR(IF(A92=\"\",\"\",HLOOKUP(A92,'Lista Narkotyki Wet'!$H$34:$BW$37,2,FALSE)),\"\")","v":""},{"$f":"IFERROR(IF(A92=\"\",\"\",HLOOKUP(A92,'Lista Narkotyki Wet'!$H$1:$BW$7,2,FALSE)),\"\")","v":""},{"$f":"IFERROR(IF(A92=\"\",\"\",HLOOKUP(A92,'Lista Narkotyki Wet'!$H$13:$BW$18,2,FALSE)),\"\")","v":""},null,null,null,null,null,null,null,null,null,null,null,null,null,null,null,null,null,null,null,null,null,null,null,"1","2"]
[null,{"$f":"IFERROR(IF(A93=\"\",\"\",VLOOKUP(A93,'Lista Narkotyki Wet'!$A$2:$B$69,2,FALSE)),\"\")","v":""},{"$f":"IFERROR(IF(A93=\"\",\"\",HLOOKUP(A93,'Lista Narkotyki Wet'!$H$34:$BW$37,2,FALSE)),\"\")","v":""},{"$f":"IFERROR(IF(A93=\"\",\"\",HLOOKUP(A93,'Lista Narkotyki Wet'!$H$1:$BW$7,2,FALSE)),\"\")","v":""},{"$f":"IFERROR(IF(A93=\"\",\"\",HLOOKUP(A93,'Lista Narkotyki Wet'!$H$13:$BW$18,2,FALSE)),\"\")","v":""},null,null,null,null,null,null,null,null,null,null,null,null,null,null,null,null,null,null,null,null,null,null,null,"1","2"]
[null,{"$f":"IFERROR(IF(A94=\"\",\"\",VLOOKUP(A94,'Lista Narkotyki Wet'!$A$2:$B$69,2,FALSE)),\"\")","v":""},{"$f":"IFERROR(IF(A94=\"\",\"\",HLOOKUP(A94,'Lista Narkotyki Wet'!$H$34:$BW$37,2,FALSE)),\"\")","v":""},{"$f":"IFERROR(IF(A94=\"\",\"\",HLOOKUP(A94,'Lista Narkotyki Wet'!$H$1:$BW$7,2,FALSE)),\"\")","v":""},{"$f":"IFERROR(IF(A94=\"\",\"\",HLOOKUP(A94,'Lista Narkotyki Wet'!$H$13:$BW$18,2,FALSE)),\"\")","v":""},null,null,null,null,null,null,null,null,null,null,null,null,null,null,null,null,null,null,null,null,null,null,null,"1","2"]
[null,{"$f":"IFERROR(IF(A95=\"\",\"\",VLOOKUP(A95,'Lista Narkotyki Wet'!$A$2:$B$69,2,FALSE)),\"\")","v":""},{"$f":"IFERROR(IF(A95=\"\",\"\",HLOOKUP(A95,'Lista Narkotyki Wet'!$H$34:$BW$37,2,FALSE)),\"\")","v":""},{"$f":"IFERROR(IF(A95=\"\",\"\",HLOOKUP(A95,'Lista Narkotyki Wet'!$H$1:$BW$7,2,FALSE)),\"\")","v":""},{"$f":"IFERROR(IF(A95=\"\",\"\",HLOOKUP(A95,'Lista Narkotyki Wet'!$H$13:$BW$18,2,FALSE)),\"\")","v":""},null,null,null,null,null,null,null,null,null,null,null,null,null,null,null,null,null,null,null,null,null,null,null,"1","2"]
[null,{"$f":"IFERROR(IF(A96=\"\",\"\",VLOOKUP(A96,'Lista Narkotyki Wet'!$A$2:$B$69,2,FALSE)),\"\")","v":""},{"$f":"IFERROR(IF(A96=\"\",\"\",HLOOKUP(A96,'Lista Narkotyki Wet'!$H$34:$BW$37,2,FALSE)),\"\")","v":""},{"$f":"IFERROR(IF(A96=\"\",\"\",HLOOKUP(A96,'Lista Narkotyki Wet'!$H$1:$BW$7,2,FALSE)),\"\")","v":""},{"$f":"IFERROR(IF(A96=\"\",\"\",HLOOKUP(A96,'Lista Narkotyki Wet'!$H$13:$BW$18,2,FALSE)),\"\")","v":""},null,null,null,null,null,null,null,null,null,null,null,null,null,null,null,null,null,null,null,null,null,null,null,"1","2"]
[null,{"$f":"IFERROR(IF(A97=\"\",\"\",VLOOKUP(A97,'Lista Narkotyki Wet'!$A$2:$B$69,2,FALSE)),\"\")","v":""},{"$f":"IFERROR(IF(A97=\"\",\"\",HLOOKUP(A97,'Lista Narkotyki Wet'!$H$34:$BW$37,2,FALSE)),\"\")","v":""},{"$f":"IFERROR(IF(A97=\"\",\"\",HLOOKUP(A97,'Lista Narkotyki Wet'!$H$1:$BW$7,2,FALSE)),\"\")","v":""},{"$f":"IFERROR(IF(A97=\"\",\"\",HLOOKUP(A97,'Lista Narkotyki Wet'!$H$13:$BW$18,2,FALSE)),\"\")","v":""},null,null,null,null,null,null,null,null,null,null,null,null,null,null,null,null,null,null,null,null,null,null,null,"1","2"]
[null,{"$f":"IFERROR(IF(A98=\"\",\"\",VLOOKUP(A98,'Lista Narkotyki Wet'!$A$2:$B$69,2,FALSE)),\"\")","v":""},{"$f":"IFERROR(IF(A98=\"\",\"\",HLOOKUP(A98,'Lista Narkotyki Wet'!$H$34:$BW$37,2,FALSE)),\"\")","v":""},{"$f":"IFERROR(IF(A98=\"\",\"\",HLOOKUP(A98,'Lista Narkotyki Wet'!$H$1:$BW$7,2,FALSE)),\"\")","v":""},{"$f":"IFERROR(IF(A98=\"\",\"\",HLOOKUP(A98,'Lista Narkotyki Wet'!$H$13:$BW$18,2,FALSE)),\"\")","v":""},null,null,null,null,null,null,null,null,null,null,null,null,null,null,null,null,null,null,null,null,null,null,null,"1","2"]
[null,{"$f":"IFERROR(IF(A99=\"\",\"\",VLOOKUP(A99,'Lista Narkotyki Wet'!$A$2:$B$69,2,FALSE)),\"\")","v":""},{"$f":"IFERROR(IF(A99=\"\",\"\",HLOOKUP(A99,'Lista Narkotyki Wet'!$H$34:$BW$37,2,FALSE)),\"\")","v":""},{"$f":"IFERROR(IF(A99=\"\",\"\",HLOOKUP(A99,'Lista Narkotyki Wet'!$H$1:$BW$7,2,FALSE)),\"\")","v":""},{"$f":"IFERROR(IF(A99=\"\",\"\",HLOOKUP(A99,'Lista Narkotyki Wet'!$H$13:$BW$18,2,FALSE)),\"\")","v":""},null,null,null,null,null,null,null,null,null,null,null,null,null,null,null,null,null,null,null,null,null,null,null,"1","2"]
[null,{"$f":"IFERROR(IF(A100=\"\",\"\",VLOOKUP(A100,'Lista Narkotyki Wet'!$A$2:$B$69,2,FALSE)),\"\")","v":""},{"$f":"IFERROR(IF(A100=\"\",\"\",HLOOKUP(A100,'Lista Narkotyki Wet'!$H$34:$BW$37,2,FALSE)),\"\")","v":""},{"$f":"IFERROR(IF(A100=\"\",\"\",HLOOKUP(A100,'Lista Narkotyki Wet'!$H$1:$BW$7,2,FALSE)),\"\")","v":""},{"$f":"IFERROR(IF(A100=\"\",\"\",HLOOKUP(A100,'Lista Narkotyki Wet'!$H$13:$BW$18,2,FALSE)),\"\")","v":""},null,null,null,null,null,null,null,null,null,null,null,null,null,null,null,null,null,null,null,null,null,null,null,"1","2"]
[null,{"$f":"IFERROR(IF(A101=\"\",\"\",VLOOKUP(A101,'Lista Narkotyki Wet'!$A$2:$B$69,2,FALSE)),\"\")","v":""},{"$f":"IFERROR(IF(A101=\"\",\"\",HLOOKUP(A101,'Lista Narkotyki Wet'!$H$34:$BW$37,2,FALSE)),\"\")","v":""},{"$f":"IFERROR(IF(A101=\"\",\"\",HLOOKUP(A101,'Lista Narkotyki Wet'!$H$1:$BW$7,2,FALSE)),\"\")","v":""},{"$f":"IFERROR(IF(A101=\"\",\"\",HLOOKUP(A101,'Lista Narkotyki Wet'!$H$13:$BW$18,2,FALSE)),\"\")","v":""},null,null,null,null,null,null,null,null,null,null,null,null,null,null,null,null,null,null,null,null,null,null,null,"1","2"]
[null,{"$f":"IFERROR(IF(A102=\"\",\"\",VLOOKUP(A102,'Lista Narkotyki Wet'!$A$2:$B$69,2,FALSE)),\"\")","v":""},{"$f":"IFERROR(IF(A102=\"\",\"\",HLOOKUP(A102,'Lista Narkotyki Wet'!$H$34:$BW$37,2,FALSE)),\"\")","v":""},{"$f":"IFERROR(IF(A102=\"\",\"\",HLOOKUP(A102,'Lista Narkotyki Wet'!$H$1:$BW$7,2,FALSE)),\"\")","v":""},{"$f":"IFERROR(IF(A102=\"\",\"\",HLOOKUP(A102,'Lista Narkotyki Wet'!$H$13:$BW$18,2,FALSE)),\"\")","v":""},null,null,null,null,null,null,null,null,null,null,null,null,null,null,null,null,null,null,null,null,null,null,null,"1","2"]
[null,{"$f":"IFERROR(IF(A103=\"\",\"\",VLOOKUP(A103,'Lista Narkotyki Wet'!$A$2:$B$69,2,FALSE)),\"\")","v":""},{"$f":"IFERROR(IF(A103=\"\",\"\",HLOOKUP(A103,'Lista Narkotyki Wet'!$H$34:$BW$37,2,FALSE)),\"\")","v":""},{"$f":"IFERROR(IF(A103=\"\",\"\",HLOOKUP(A103,'Lista Narkotyki Wet'!$H$1:$BW$7,2,FALSE)),\"\")","v":""},{"$f":"IFERROR(IF(A103=\"\",\"\",HLOOKUP(A103,'Lista Narkotyki Wet'!$H$13:$BW$18,2,FALSE)),\"\")","v":""},null,null,null,null,null,null,null,null,null,null,null,null,null,null,null,null,null,null,null,null,null,null,null,"1","2"]
[null,{"$f":"IFERROR(IF(A104=\"\",\"\",VLOOKUP(A104,'Lista Narkotyki Wet'!$A$2:$B$69,2,FALSE)),\"\")","v":""},{"$f":"IFERROR(IF(A104=\"\",\"\",HLOOKUP(A104,'Lista Narkotyki Wet'!$H$34:$BW$37,2,FALSE)),\"\")","v":""},{"$f":"IFERROR(IF(A104=\"\",\"\",HLOOKUP(A104,'Lista Narkotyki Wet'!$H$1:$BW$7,2,FALSE)),\"\")","v":""},{"$f":"IFERROR(IF(A104=\"\",\"\",HLOOKUP(A104,'Lista Narkotyki Wet'!$H$13:$BW$18,2,FALSE)),\"\")","v":""},null,null,null,null,null,null,null,null,null,null,null,null,null,null,null,null,null,null,null,null,null,null,null,"1","2"]
[null,{"$f":"IFERROR(IF(A105=\"\",\"\",VLOOKUP(A105,'Lista Narkotyki Wet'!$A$2:$B$69,2,FALSE)),\"\")","v":""},{"$f":"IFERROR(IF(A105=\"\",\"\",HLOOKUP(A105,'Lista Narkotyki Wet'!$H$34:$BW$37,2,FALSE)),\"\")","v":""},{"$f":"IFERROR(IF(A105=\"\",\"\",HLOOKUP(A105,'Lista Narkotyki Wet'!$H$1:$BW$7,2,FALSE)),\"\")","v":""},{"$f":"IFERROR(IF(A105=\"\",\"\",HLOOKUP(A105,'Lista Narkotyki Wet'!$H$13:$BW$18,2,FALSE)),\"\")","v":""},null,null,null,null,null,null,null,null,null,null,null,null,null,null,null,null,null,null,null,null,null,null,null,"1","2"]
[null,{"$f":"IFERROR(IF(A106=\"\",\"\",VLOOKUP(A106,'Lista Narkotyki Wet'!$A$2:$B$69,2,FALSE)),\"\")","v":""},{"$f":"IFERROR(IF(A106=\"\",\"\",HLOOKUP(A106,'Lista Narkotyki Wet'!$H$34:$BW$37,2,FALSE)),\"\")","v":""},{"$f":"IFERROR(IF(A106=\"\",\"\",HLOOKUP(A106,'Lista Narkotyki Wet'!$H$1:$BW$7,2,FALSE)),\"\")","v":""},{"$f":"IFERROR(IF(A106=\"\",\"\",HLOOKUP(A106,'Lista Narkotyki Wet'!$H$13:$BW$18,2,FALSE)),\"\")","v":""},null,null,null,null,null,null,null,null,null,null,null,null,null,null,null,null,null,null,null,null,null,null,null,"1","2"]
[null,{"$f":"IFERROR(IF(A107=\"\",\"\",VLOOKUP(A107,'Lista Narkotyki Wet'!$A$2:$B$69,2,FALSE)),\"\")","v":""},{"$f":"IFERROR(IF(A107=\"\",\"\",HLOOKUP(A107,'Lista Narkotyki Wet'!$H$34:$BW$37,2,FALSE)),\"\")","v":""},{"$f":"IFERROR(IF(A107=\"\",\"\",HLOOKUP(A107,'Lista Narkotyki Wet'!$H$1:$BW$7,2,FALSE)),\"\")","v":""},{"$f":"IFERROR(IF(A107=\"\",\"\",HLOOKUP(A107,'Lista Narkotyki Wet'!$H$13:$BW$18,2,FALSE)),\"\")","v":""},null,null,null,null,null,null,null,null,null,null,null,null,null,null,null,null,null,null,null,null,null,null,null,"1","2"]
[null,{"$f":"IFERROR(IF(A108=\"\",\"\",VLOOKUP(A108,'Lista Narkotyki Wet'!$A$2:$B$69,2,FALSE)),\"\")","v":""},{"$f":"IFERROR(IF(A108=\"\",\"\",HLOOKUP(A108,'Lista Narkotyki Wet'!$H$34:$BW$37,2,FALSE)),\"\")","v":""},{"$f":"IFERROR(IF(A108=\"\",\"\",HLOOKUP(A108,'Lista Narkotyki Wet'!$H$1:$BW$7,2,FALSE)),\"\")","v":""},{"$f":"IFERROR(IF(A108=\"\",\"\",HLOOKUP(A108,'Lista Narkotyki Wet'!$H$13:$BW$18,2,FALSE)),\"\")","v":""},null,null,null,null,null,null,null,null,null,null,null,null,null,null,null,null,null,null,null,null,null,null,null,"1","2"]
[null,{"$f":"IFERROR(IF(A109=\"\",\"\",VLOOKUP(A109,'Lista Narkotyki Wet'!$A$2:$B$69,2,FALSE)),\"\")","v":""},{"$f":"IFERROR(IF(A109=\"\",\"\",HLOOKUP(A109,'Lista Narkotyki Wet'!$H$34:$BW$37,2,FALSE)),\"\")","v":""},{"$f":"IFERROR(IF(A109=\"\",\"\",HLOOKUP(A109,'Lista Narkotyki Wet'!$H$1:$BW$7,2,FALSE)),\"\")","v":""},{"$f":"IFERROR(IF(A109=\"\",\"\",HLOOKUP(A109,'Lista Narkotyki Wet'!$H$13:$BW$18,2,FALSE)),\"\")","v":""},null,null,null,null,null,null,null,null,null,null,null,null,null,null,null,null,null,null,null,null,null,null,null,"1","2"]
[null,{"$f":"IFERROR(IF(A110=\"\",\"\",VLOOKUP(A110,'Lista Narkotyki Wet'!$A$2:$B$69,2,FALSE)),\"\")","v":""},{"$f":"IFERROR(IF(A110=\"\",\"\",HLOOKUP(A110,'Lista Narkotyki Wet'!$H$34:$BW$37,2,FALSE)),\"\")","v":""},{"$f":"IFERROR(IF(A110=\"\",\"\",HLOOKUP(A110,'Lista Narkotyki Wet'!$H$1:$BW$7,2,FALSE)),\"\")","v":""},{"$f":"IFERROR(IF(A110=\"\",\"\",HLOOKUP(A110,'Lista Narkotyki Wet'!$H$13:$BW$18,2,FALSE)),\"\")","v":""},null,null,null,null,null,null,null,null,null,null,null,null,null,null,null,null,null,null,null,null,null,null,null,"1","2"]
[null,{"$f":"IFERROR(IF(A111=\"\",\"\",VLOOKUP(A111,'Lista Narkotyki Wet'!$A$2:$B$69,2,FALSE)),\"\")","v":""},{"$f":"IFERROR(IF(A111=\"\",\"\",HLOOKUP(A111,'Lista Narkotyki Wet'!$H$34:$BW$37,2,FALSE)),\"\")","v":""},{"$f":"IFERROR(IF(A111=\"\",\"\",HLOOKUP(A111,'Lista Narkotyki Wet'!$H$1:$BW$7,2,FALSE)),\"\")","v":""},{"$f":"IFERROR(IF(A111=\"\",\"\",HLOOKUP(A111,'Lista Narkotyki Wet'!$H$13:$BW$18,2,FALSE)),\"\")","v":""},null,null,null,null,null,null,null,null,null,null,null,null,null,null,null,null,null,null,null,null,null,null,null,"1","2"]
[null,{"$f":"IFERROR(IF(A112=\"\",\"\",VLOOKUP(A112,'Lista Narkotyki Wet'!$A$2:$B$69,2,FALSE)),\"\")","v":""},{"$f":"IFERROR(IF(A112=\"\",\"\",HLOOKUP(A112,'Lista Narkotyki Wet'!$H$34:$BW$37,2,FALSE)),\"\")","v":""},{"$f":"IFERROR(IF(A112=\"\",\"\",HLOOKUP(A112,'Lista Narkotyki Wet'!$H$1:$BW$7,2,FALSE)),\"\")","v":""},{"$f":"IFERROR(IF(A112=\"\",\"\",HLOOKUP(A112,'Lista Narkotyki Wet'!$H$13:$BW$18,2,FALSE)),\"\")","v":""},null,null,null,null,null,null,null,null,null,null,null,null,null,null,null,null,null,null,null,null,null,null,null,"1","2"]
[null,{"$f":"IFERROR(IF(A113=\"\",\"\",VLOOKUP(A113,'Lista Narkotyki Wet'!$A$2:$B$69,2,FALSE)),\"\")","v":""},{"$f":"IFERROR(IF(A113=\"\",\"\",HLOOKUP(A113,'Lista Narkotyki Wet'!$H$34:$BW$37,2,FALSE)),\"\")","v":""},{"$f":"IFERROR(IF(A113=\"\",\"\",HLOOKUP(A113,'Lista Narkotyki Wet'!$H$1:$BW$7,2,FALSE)),\"\")","v":""},{"$f":"IFERROR(IF(A113=\"\",\"\",HLOOKUP(A113,'Lista Narkotyki Wet'!$H$13:$BW$18,2,FALSE)),\"\")","v":""},null,null,null,null,null,null,null,null,null,null,null,null,null,null,null,null,null,null,null,null,null,null,null,"1","2"]
[null,{"$f":"IFERROR(IF(A114=\"\",\"\",VLOOKUP(A114,'Lista Narkotyki Wet'!$A$2:$B$69,2,FALSE)),\"\")","v":""},{"$f":"IFERROR(IF(A114=\"\",\"\",HLOOKUP(A114,'Lista Narkotyki Wet'!$H$34:$BW$37,2,FALSE)),\"\")","v":""},{"$f":"IFERROR(IF(A114=\"\",\"\",HLOOKUP(A114,'Lista Narkotyki Wet'!$H$1:$BW$7,2,FALSE)),\"\")","v":""},{"$f":"IFERROR(IF(A114=\"\",\"\",HLOOKUP(A114,'Lista Narkotyki Wet'!$H$13:$BW$18,2,FALSE)),\"\")","v":""},null,null,null,null,null,null,null,null,null,null,null,null,null,null,null,null,null,null,null,null,null,null,null,"1","2"]
[null,{"$f":"IFERROR(IF(A115=\"\",\"\",VLOOKUP(A115,'Lista Narkotyki Wet'!$A$2:$B$69,2,FALSE)),\"\")","v":""},{"$f":"IFERROR(IF(A115=\"\",\"\",HLOOKUP(A115,'Lista Narkotyki Wet'!$H$34:$BW$37,2,FALSE)),\"\")","v":""},{"$f":"IFERROR(IF(A115=\"\",\"\",HLOOKUP(A115,'Lista Narkotyki Wet'!$H$1:$BW$7,2,FALSE)),\"\")","v":""},{"$f":"IFERROR(IF(A115=\"\",\"\",HLOOKUP(A115,'Lista Narkotyki Wet'!$H$13:$BW$18,2,FALSE)),\"\")","v":""},null,null,null,null,null,null,null,null,null,null,null,null,null,null,null,null,null,null,null,null,null,null,null,"1","2"]
[null,{"$f":"IFERROR(IF(A116=\"\",\"\",VLOOKUP(A116,'Lista Narkotyki Wet'!$A$2:$B$69,2,FALSE)),\"\")","v":""},{"$f":"IFERROR(IF(A116=\"\",\"\",HLOOKUP(A116,'Lista Narkotyki Wet'!$H$34:$BW$37,2,FALSE)),\"\")","v":""},{"$f":"IFERROR(IF(A116=\"\",\"\",HLOOKUP(A116,'Lista Narkotyki Wet'!$H$1:$BW$7,2,FALSE)),\"\")","v":""},{"$f":"IFERROR(IF(A116=\"\",\"\",HLOOKUP(A116,'Lista Narkotyki Wet'!$H$13:$BW$18,2,FALSE)),\"\")","v":""},null,null,null,null,null,null,null,null,null,null,null,null,null,null,null,null,null,null,null,null,null,null,null,"1","2"]
[null,{"$f":"IFERROR(IF(A117=\"\",\"\",VLOOKUP(A117,'Lista Narkotyki Wet'!$A$2:$B$69,2,FALSE)),\"\")","v":""},{"$f":"IFERROR(IF(A117=\"\",\"\",HLOOKUP(A117,'Lista Narkotyki Wet'!$H$34:$BW$37,2,FALSE)),\"\")","v":""},{"$f":"IFERROR(IF(A117=\"\",\"\",HLOOKUP(A117,'Lista Narkotyki Wet'!$H$1:$BW$7,2,FALSE)),\"\")","v":""},{"$f":"IFERROR(IF(A117=\"\",\"\",HLOOKUP(A117,'Lista Narkotyki Wet'!$H$13:$BW$18,2,FALSE)),\"\")","v":""},null,null,null,null,null,null,null,null,null,null,null,null,null,null,null,null,null,null,null,null,null,null,null,"1","2"]
[null,{"$f":"IFERROR(IF(A118=\"\",\"\",VLOOKUP(A118,'Lista Narkotyki Wet'!$A$2:$B$69,2,FALSE)),\"\")","v":""},{"$f":"IFERROR(IF(A118=\"\",\"\",HLOOKUP(A118,'Lista Narkotyki Wet'!$H$34:$BW$37,2,FALSE)),\"\")","v":""},{"$f":"IFERROR(IF(A118=\"\",\"\",HLOOKUP(A118,'Lista Narkotyki Wet'!$H$1:$BW$7,2,FALSE)),\"\")","v":""},{"$f":"IFERROR(IF(A118=\"\",\"\",HLOOKUP(A118,'Lista Narkotyki Wet'!$H$13:$BW$18,2,FALSE)),\"\")","v":""},null,null,null,null,null,null,null,null,null,null,null,null,null,null,null,null,null,null,null,null,null,null,null,"1","2"]
[null,{"$f":"IFERROR(IF(A119=\"\",\"\",VLOOKUP(A119,'Lista Narkotyki Wet'!$A$2:$B$69,2,FALSE)),\"\")","v":""},{"$f":"IFERROR(IF(A119=\"\",\"\",HLOOKUP(A119,'Lista Narkotyki Wet'!$H$34:$BW$37,2,FALSE)),\"\")","v":""},{"$f":"IFERROR(IF(A119=\"\",\"\",HLOOKUP(A119,'Lista Narkotyki Wet'!$H$1:$BW$7,2,FALSE)),\"\")","v":""},{"$f":"IFERROR(IF(A119=\"\",\"\",HLOOKUP(A119,'Lista Narkotyki Wet'!$H$13:$BW$18,2,FALSE)),\"\")","v":""},null,null,null,null,null,null,null,null,null,null,null,null,null,null,null,null,null,null,null,null,null,null,null,"1","2"]
[null,{"$f":"IFERROR(IF(A120=\"\",\"\",VLOOKUP(A120,'Lista Narkotyki Wet'!$A$2:$B$69,2,FALSE)),\"\")","v":""},{"$f":"IFERROR(IF(A120=\"\",\"\",HLOOKUP(A120,'Lista Narkotyki Wet'!$H$34:$BW$37,2,FALSE)),\"\")","v":""},{"$f":"IFERROR(IF(A120=\"\",\"\",HLOOKUP(A120,'Lista Narkotyki Wet'!$H$1:$BW$7,2,FALSE)),\"\")","v":""},{"$f":"IFERROR(IF(A120=\"\",\"\",HLOOKUP(A120,'Lista Narkotyki Wet'!$H$13:$BW$18,2,FALSE)),\"\")","v":""},null,null,null,null,null,null,null,null,null,null,null,null,null,null,null,null,null,null,null,null,null,null,null,"1","2"]
[null,{"$f":"IFERROR(IF(A121=\"\",\"\",VLOOKUP(A121,'Lista Narkotyki Wet'!$A$2:$B$69,2,FALSE)),\"\")","v":""},{"$f":"IFERROR(IF(A121=\"\",\"\",HLOOKUP(A121,'Lista Narkotyki Wet'!$H$34:$BW$37,2,FALSE)),\"\")","v":""},{"$f":"IFERROR(IF(A121=\"\",\"\",HLOOKUP(A121,'Lista Narkotyki Wet'!$H$1:$BW$7,2,FALSE)),\"\")","v":""},{"$f":"IFERROR(IF(A121=\"\",\"\",HLOOKUP(A121,'Lista Narkotyki Wet'!$H$13:$BW$18,2,FALSE)),\"\")","v":""},null,null,null,null,null,null,null,null,null,null,null,null,null,null,null,null,null,null,null,null,null,null,null,"1","2"]
[null,{"$f":"IFERROR(IF(A122=\"\",\"\",VLOOKUP(A122,'Lista Narkotyki Wet'!$A$2:$B$69,2,FALSE)),\"\")","v":""},{"$f":"IFERROR(IF(A122=\"\",\"\",HLOOKUP(A122,'Lista Narkotyki Wet'!$H$34:$BW$37,2,FALSE)),\"\")","v":""},{"$f":"IFERROR(IF(A122=\"\",\"\",HLOOKUP(A122,'Lista Narkotyki Wet'!$H$1:$BW$7,2,FALSE)),\"\")","v":""},{"$f":"IFERROR(IF(A122=\"\",\"\",HLOOKUP(A122,'Lista Narkotyki Wet'!$H$13:$BW$18,2,FALSE)),\"\")","v":""},null,null,null,null,null,null,null,null,null,null,null,null,null,null,null,null,null,null,null,null,null,null,null,"1","2"]
[null,{"$f":"IFERROR(IF(A123=\"\",\"\",VLOOKUP(A123,'Lista Narkotyki Wet'!$A$2:$B$69,2,FALSE)),\"\")","v":""},{"$f":"IFERROR(IF(A123=\"\",\"\",HLOOKUP(A123,'Lista Narkotyki Wet'!$H$34:$BW$37,2,FALSE)),\"\")","v":""},{"$f":"IFERROR(IF(A123=\"\",\"\",HLOOKUP(A123,'Lista Narkotyki Wet'!$H$1:$BW$7,2,FALSE)),\"\")","v":""},{"$f":"IFERROR(IF(A123=\"\",\"\",HLOOKUP(A123,'Lista Narkotyki Wet'!$H$13:$BW$18,2,FALSE)),\"\")","v":""},null,null,null,null,null,null,null,null,null,null,null,null,null,null,null,null,null,null,null,null,null,null,null,"1","2"]
[null,{"$f":"IFERROR(IF(A124=\"\",\"\",VLOOKUP(A124,'Lista Narkotyki Wet'!$A$2:$B$69,2,FALSE)),\"\")","v":""},{"$f":"IFERROR(IF(A124=\"\",\"\",HLOOKUP(A124,'Lista Narkotyki Wet'!$H$34:$BW$37,2,FALSE)),\"\")","v":""},{"$f":"IFERROR(IF(A124=\"\",\"\",HLOOKUP(A124,'Lista Narkotyki Wet'!$H$1:$BW$7,2,FALSE)),\"\")","v":""},{"$f":"IFERROR(IF(A124=\"\",\"\",HLOOKUP(A124,'Lista Narkotyki Wet'!$H$13:$BW$18,2,FALSE)),\"\")","v":""},null,null,null,null,null,null,null,null,null,null,null,null,null,null,null,null,null,null,null,null,null,null,null,"1","2"]
[null,{"$f":"IFERROR(IF(A125=\"\",\"\",VLOOKUP(A125,'Lista Narkotyki Wet'!$A$2:$B$69,2,FALSE)),\"\")","v":""},{"$f":"IFERROR(IF(A125=\"\",\"\",HLOOKUP(A125,'Lista Narkotyki Wet'!$H$34:$BW$37,2,FALSE)),\"\")","v":""},{"$f":"IFERROR(IF(A125=\"\",\"\",HLOOKUP(A125,'Lista Narkotyki Wet'!$H$1:$BW$7,2,FALSE)),\"\")","v":""},{"$f":"IFERROR(IF(A125=\"\",\"\",HLOOKUP(A125,'Lista Narkotyki Wet'!$H$13:$BW$18,2,FALSE)),\"\")","v":""},null,null,null,null,null,null,null,null,null,null,null,null,null,null,null,null,null,null,null,null,null,null,null,"1","2"]
[null,{"$f":"IFERROR(IF(A126=\"\",\"\",VLOOKUP(A126,'Lista Narkotyki Wet'!$A$2:$B$69,2,FALSE)),\"\")","v":""},{"$f":"IFERROR(IF(A126=\"\",\"\",HLOOKUP(A126,'Lista Narkotyki Wet'!$H$34:$BW$37,2,FALSE)),\"\")","v":""},{"$f":"IFERROR(IF(A126=\"\",\"\",HLOOKUP(A126,'Lista Narkotyki Wet'!$H$1:$BW$7,2,FALSE)),\"\")","v":""},{"$f":"IFERROR(IF(A126=\"\",\"\",HLOOKUP(A126,'Lista Narkotyki Wet'!$H$13:$BW$18,2,FALSE)),\"\")","v":""},null,null,null,null,null,null,null,null,null,null,null,null,null,null,null,null,null,null,null,null,null,null,null,"1","2"]
[null,{"$f":"IFERROR(IF(A127=\"\",\"\",VLOOKUP(A127,'Lista Narkotyki Wet'!$A$2:$B$69,2,FALSE)),\"\")","v":""},{"$f":"IFERROR(IF(A127=\"\",\"\",HLOOKUP(A127,'Lista Narkotyki Wet'!$H$34:$BW$37,2,FALSE)),\"\")","v":""},{"$f":"IFERROR(IF(A127=\"\",\"\",HLOOKUP(A127,'Lista Narkotyki Wet'!$H$1:$BW$7,2,FALSE)),\"\")","v":""},{"$f":"IFERROR(IF(A127=\"\",\"\",HLOOKUP(A127,'Lista Narkotyki Wet'!$H$13:$BW$18,2,FALSE)),\"\")","v":""},null,null,null,null,null,null,null,null,null,null,null,null,null,null,null,null,null,null,null,null,null,null,null,"1","2"]
[null,{"$f":"IFERROR(IF(A128=\"\",\"\",VLOOKUP(A128,'Lista Narkotyki Wet'!$A$2:$B$69,2,FALSE)),\"\")","v":""},{"$f":"IFERROR(IF(A128=\"\",\"\",HLOOKUP(A128,'Lista Narkotyki Wet'!$H$34:$BW$37,2,FALSE)),\"\")","v":""},{"$f":"IFERROR(IF(A128=\"\",\"\",HLOOKUP(A128,'Lista Narkotyki Wet'!$H$1:$BW$7,2,FALSE)),\"\")","v":""},{"$f":"IFERROR(IF(A128=\"\",\"\",HLOOKUP(A128,'Lista Narkotyki Wet'!$H$13:$BW$18,2,FALSE)),\"\")","v":""},null,null,null,null,null,null,null,null,null,null,null,null,null,null,null,null,null,null,null,null,null,null,null,"1","2"]
[null,{"$f":"IFERROR(IF(A129=\"\",\"\",VLOOKUP(A129,'Lista Narkotyki Wet'!$A$2:$B$69,2,FALSE)),\"\")","v":""},{"$f":"IFERROR(IF(A129=\"\",\"\",HLOOKUP(A129,'Lista Narkotyki Wet'!$H$34:$BW$37,2,FALSE)),\"\")","v":""},{"$f":"IFERROR(IF(A129=\"\",\"\",HLOOKUP(A129,'Lista Narkotyki Wet'!$H$1:$BW$7,2,FALSE)),\"\")","v":""},{"$f":"IFERROR(IF(A129=\"\",\"\",HLOOKUP(A129,'Lista Narkotyki Wet'!$H$13:$BW$18,2,FALSE)),\"\")","v":""},null,null,null,null,null,null,null,null,null,null,null,null,null,null,null,null,null,null,null,null,null,null,null,"1","2"]
[null,{"$f":"IFERROR(IF(A130=\"\",\"\",VLOOKUP(A130,'Lista Narkotyki Wet'!$A$2:$B$69,2,FALSE)),\"\")","v":""},{"$f":"IFERROR(IF(A130=\"\",\"\",HLOOKUP(A130,'Lista Narkotyki Wet'!$H$34:$BW$37,2,FALSE)),\"\")","v":""},{"$f":"IFERROR(IF(A130=\"\",\"\",HLOOKUP(A130,'Lista Narkotyki Wet'!$H$1:$BW$7,2,FALSE)),\"\")","v":""},{"$f":"IFERROR(IF(A130=\"\",\"\",HLOOKUP(A130,'Lista Narkotyki Wet'!$H$13:$BW$18,2,FALSE)),\"\")","v":""},null,null,null,null,null,null,null,null,null,null,null,null,null,null,null,null,null,null,null,null,null,null,null,"1","2"]
[null,{"$f":"IFERROR(IF(A131=\"\",\"\",VLOOKUP(A131,'Lista Narkotyki Wet'!$A$2:$B$69,2,FALSE)),\"\")","v":""},{"$f":"IFERROR(IF(A131=\"\",\"\",HLOOKUP(A131,'Lista Narkotyki Wet'!$H$34:$BW$37,2,FALSE)),\"\")","v":""},{"$f":"IFERROR(IF(A131=\"\",\"\",HLOOKUP(A131,'Lista Narkotyki Wet'!$H$1:$BW$7,2,FALSE)),\"\")","v":""},{"$f":"IFERROR(IF(A131=\"\",\"\",HLOOKUP(A131,'Lista Narkotyki Wet'!$H$13:$BW$18,2,FALSE)),\"\")","v":""},null,null,null,null,null,null,null,null,null,null,null,null,null,null,null,null,null,null,null,null,null,null,null,"1","2"]
[null,{"$f":"IFERROR(IF(A132=\"\",\"\",VLOOKUP(A132,'Lista Narkotyki Wet'!$A$2:$B$69,2,FALSE)),\"\")","v":""},{"$f":"IFERROR(IF(A132=\"\",\"\",HLOOKUP(A132,'Lista Narkotyki Wet'!$H$34:$BW$37,2,FALSE)),\"\")","v":""},{"$f":"IFERROR(IF(A132=\"\",\"\",HLOOKUP(A132,'Lista Narkotyki Wet'!$H$1:$BW$7,2,FALSE)),\"\")","v":""},{"$f":"IFERROR(IF(A132=\"\",\"\",HLOOKUP(A132,'Lista Narkotyki Wet'!$H$13:$BW$18,2,FALSE)),\"\")","v":""},null,null,null,null,null,null,null,null,null,null,null,null,null,null,null,null,null,null,null,null,null,null,null,"1","2"]
[null,{"$f":"IFERROR(IF(A133=\"\",\"\",VLOOKUP(A133,'Lista Narkotyki Wet'!$A$2:$B$69,2,FALSE)),\"\")","v":""},{"$f":"IFERROR(IF(A133=\"\",\"\",HLOOKUP(A133,'Lista Narkotyki Wet'!$H$34:$BW$37,2,FALSE)),\"\")","v":""},{"$f":"IFERROR(IF(A133=\"\",\"\",HLOOKUP(A133,'Lista Narkotyki Wet'!$H$1:$BW$7,2,FALSE)),\"\")","v":""},{"$f":"IFERROR(IF(A133=\"\",\"\",HLOOKUP(A133,'Lista Narkotyki Wet'!$H$13:$BW$18,2,FALSE)),\"\")","v":""},null,null,null,null,null,null,null,null,null,null,null,null,null,null,null,null,null,null,null,null,null,null,null,"1","2"]
[null,{"$f":"IFERROR(IF(A134=\"\",\"\",VLOOKUP(A134,'Lista Narkotyki Wet'!$A$2:$B$69,2,FALSE)),\"\")","v":""},{"$f":"IFERROR(IF(A134=\"\",\"\",HLOOKUP(A134,'Lista Narkotyki Wet'!$H$34:$BW$37,2,FALSE)),\"\")","v":""},{"$f":"IFERROR(IF(A134=\"\",\"\",HLOOKUP(A134,'Lista Narkotyki Wet'!$H$1:$BW$7,2,FALSE)),\"\")","v":""},{"$f":"IFERROR(IF(A134=\"\",\"\",HLOOKUP(A134,'Lista Narkotyki Wet'!$H$13:$BW$18,2,FALSE)),\"\")","v":""},null,null,null,null,null,null,null,null,null,null,null,null,null,null,null,null,null,null,null,null,null,null,null,"1","2"]
[null,{"$f":"IFERROR(IF(A135=\"\",\"\",VLOOKUP(A135,'Lista Narkotyki Wet'!$A$2:$B$69,2,FALSE)),\"\")","v":""},{"$f":"IFERROR(IF(A135=\"\",\"\",HLOOKUP(A135,'Lista Narkotyki Wet'!$H$34:$BW$37,2,FALSE)),\"\")","v":""},{"$f":"IFERROR(IF(A135=\"\",\"\",HLOOKUP(A135,'Lista Narkotyki Wet'!$H$1:$BW$7,2,FALSE)),\"\")","v":""},{"$f":"IFERROR(IF(A135=\"\",\"\",HLOOKUP(A135,'Lista Narkotyki Wet'!$H$13:$BW$18,2,FALSE)),\"\")","v":""},null,null,null,null,null,null,null,null,null,null,null,null,null,null,null,null,null,null,null,null,null,null,null,"1","2"]
[null,{"$f":"IFERROR(IF(A136=\"\",\"\",VLOOKUP(A136,'Lista Narkotyki Wet'!$A$2:$B$69,2,FALSE)),\"\")","v":""},{"$f":"IFERROR(IF(A136=\"\",\"\",HLOOKUP(A136,'Lista Narkotyki Wet'!$H$34:$BW$37,2,FALSE)),\"\")","v":""},{"$f":"IFERROR(IF(A136=\"\",\"\",HLOOKUP(A136,'Lista Narkotyki Wet'!$H$1:$BW$7,2,FALSE)),\"\")","v":""},{"$f":"IFERROR(IF(A136=\"\",\"\",HLOOKUP(A136,'Lista Narkotyki Wet'!$H$13:$BW$18,2,FALSE)),\"\")","v":""},null,null,null,null,null,null,null,null,null,null,null,null,null,null,null,null,null,null,null,null,null,null,null,"1","2"]
[null,{"$f":"IFERROR(IF(A137=\"\",\"\",VLOOKUP(A137,'Lista Narkotyki Wet'!$A$2:$B$69,2,FALSE)),\"\")","v":""},{"$f":"IFERROR(IF(A137=\"\",\"\",HLOOKUP(A137,'Lista Narkotyki Wet'!$H$34:$BW$37,2,FALSE)),\"\")","v":""},{"$f":"IFERROR(IF(A137=\"\",\"\",HLOOKUP(A137,'Lista Narkotyki Wet'!$H$1:$BW$7,2,FALSE)),\"\")","v":""},{"$f":"IFERROR(IF(A137=\"\",\"\",HLOOKUP(A137,'Lista Narkotyki Wet'!$H$13:$BW$18,2,FALSE)),\"\")","v":""},null,null,null,null,null,null,null,null,null,null,null,null,null,null,null,null,null,null,null,null,null,null,null,"1","2"]
[null,{"$f":"IFERROR(IF(A138=\"\",\"\",VLOOKUP(A138,'Lista Narkotyki Wet'!$A$2:$B$69,2,FALSE)),\"\")","v":""},{"$f":"IFERROR(IF(A138=\"\",\"\",HLOOKUP(A138,'Lista Narkotyki Wet'!$H$34:$BW$37,2,FALSE)),\"\")","v":""},{"$f":"IFERROR(IF(A138=\"\",\"\",HLOOKUP(A138,'Lista Narkotyki Wet'!$H$1:$BW$7,2,FALSE)),\"\")","v":""},{"$f":"IFERROR(IF(A138=\"\",\"\",HLOOKUP(A138,'Lista Narkotyki Wet'!$H$13:$BW$18,2,FALSE)),\"\")","v":""},null,null,null,null,null,null,null,null,null,null,null,null,null,null,null,null,null,null,null,null,null,null,null,"1","2"]
[null,{"$f":"IFERROR(IF(A139=\"\",\"\",VLOOKUP(A139,'Lista Narkotyki Wet'!$A$2:$B$69,2,FALSE)),\"\")","v":""},{"$f":"IFERROR(IF(A139=\"\",\"\",HLOOKUP(A139,'Lista Narkotyki Wet'!$H$34:$BW$37,2,FALSE)),\"\")","v":""},{"$f":"IFERROR(IF(A139=\"\",\"\",HLOOKUP(A139,'Lista Narkotyki Wet'!$H$1:$BW$7,2,FALSE)),\"\")","v":""},{"$f":"IFERROR(IF(A139=\"\",\"\",HLOOKUP(A139,'Lista Narkotyki Wet'!$H$13:$BW$18,2,FALSE)),\"\")","v":""},null,null,null,null,null,null,null,null,null,null,null,null,null,null,null,null,null,null,null,null,null,null,null,{"$f":"A139&1","v":"1"},{"$f":"A139&2","v":"2"}]
[null,{"$f":"IFERROR(IF(A140=\"\",\"\",VLOOKUP(A140,'Lista Narkotyki Wet'!$A$2:$B$69,2,FALSE)),\"\")","v":""},{"$f":"IFERROR(IF(A140=\"\",\"\",HLOOKUP(A140,'Lista Narkotyki Wet'!$H$34:$BW$37,2,FALSE)),\"\")","v":""},{"$f":"IFERROR(IF(A140=\"\",\"\",HLOOKUP(A140,'Lista Narkotyki Wet'!$H$1:$BW$7,2,FALSE)),\"\")","v":""},{"$f":"IFERROR(IF(A140=\"\",\"\",HLOOKUP(A140,'Lista Narkotyki Wet'!$H$13:$BW$18,2,FALSE)),\"\")","v":""},null,null,null,null,null,null,null,null,null,null,null,null,null,null,null,null,null,null,null,null,null,null,null,"1","2"]
[null,{"$f":"IFERROR(IF(A141=\"\",\"\",VLOOKUP(A141,'Lista Narkotyki Wet'!$A$2:$B$69,2,FALSE)),\"\")","v":""},{"$f":"IFERROR(IF(A141=\"\",\"\",HLOOKUP(A141,'Lista Narkotyki Wet'!$H$34:$BW$37,2,FALSE)),\"\")","v":""},{"$f":"IFERROR(IF(A141=\"\",\"\",HLOOKUP(A141,'Lista Narkotyki Wet'!$H$1:$BW$7,2,FALSE)),\"\")","v":""},{"$f":"IFERROR(IF(A141=\"\",\"\",HLOOKUP(A141,'Lista Narkotyki Wet'!$H$13:$BW$18,2,FALSE)),\"\")","v":""},null,null,null,null,null,null,null,null,null,null,null,null,null,null,null,null,null,null,null,null,null,null,null,"1","2"]
[null,{"$f":"IFERROR(IF(A142=\"\",\"\",VLOOKUP(A142,'Lista Narkotyki Wet'!$A$2:$B$69,2,FALSE)),\"\")","v":""},{"$f":"IFERROR(IF(A142=\"\",\"\",HLOOKUP(A142,'Lista Narkotyki Wet'!$H$34:$BW$37,2,FALSE)),\"\")","v":""},{"$f":"IFERROR(IF(A142=\"\",\"\",HLOOKUP(A142,'Lista Narkotyki Wet'!$H$1:$BW$7,2,FALSE)),\"\")","v":""},{"$f":"IFERROR(IF(A142=\"\",\"\",HLOOKUP(A142,'Lista Narkotyki Wet'!$H$13:$BW$18,2,FALSE)),\"\")","v":""},null,null,null,null,null,null,null,null,null,null,null,null,null,null,null,null,null,null,null,null,null,null,null,"1","2"]
[null,{"$f":"IFERROR(IF(A143=\"\",\"\",VLOOKUP(A143,'Lista Narkotyki Wet'!$A$2:$B$69,2,FALSE)),\"\")","v":""},{"$f":"IFERROR(IF(A143=\"\",\"\",HLOOKUP(A143,'Lista Narkotyki Wet'!$H$34:$BW$37,2,FALSE)),\"\")","v":""},{"$f":"IFERROR(IF(A143=\"\",\"\",HLOOKUP(A143,'Lista Narkotyki Wet'!$H$1:$BW$7,2,FALSE)),\"\")","v":""},{"$f":"IFERROR(IF(A143=\"\",\"\",HLOOKUP(A143,'Lista Narkotyki Wet'!$H$13:$BW$18,2,FALSE)),\"\")","v":""},null,null,null,null,null,null,null,null,null,null,null,null,null,null,null,null,null,null,null,null,null,null,null,"1","2"]
[null,{"$f":"IFERROR(IF(A144=\"\",\"\",VLOOKUP(A144,'Lista Narkotyki Wet'!$A$2:$B$69,2,FALSE)),\"\")","v":""},{"$f":"IFERROR(IF(A144=\"\",\"\",HLOOKUP(A144,'Lista Narkotyki Wet'!$H$34:$BW$37,2,FALSE)),\"\")","v":""},{"$f":"IFERROR(IF(A144=\"\",\"\",HLOOKUP(A144,'Lista Narkotyki Wet'!$H$1:$BW$7,2,FALSE)),\"\")","v":""},{"$f":"IFERROR(IF(A144=\"\",\"\",HLOOKUP(A144,'Lista Narkotyki Wet'!$H$13:$BW$18,2,FALSE)),\"\")","v":""},null,null,null,null,null,null,null,null,null,null,null,null,null,null,null,null,null,null,null,null,null,null,null,"1","2"]
[null,{"$f":"IFERROR(IF(A145=\"\",\"\",VLOOKUP(A145,'Lista Narkotyki Wet'!$A$2:$B$69,2,FALSE)),\"\")","v":""},{"$f":"IFERROR(IF(A145=\"\",\"\",HLOOKUP(A145,'Lista Narkotyki Wet'!$H$34:$BW$37,2,FALSE)),\"\")","v":""},{"$f":"IFERROR(IF(A145=\"\",\"\",HLOOKUP(A145,'Lista Narkotyki Wet'!$H$1:$BW$7,2,FALSE)),\"\")","v":""},{"$f":"IFERROR(IF(A145=\"\",\"\",HLOOKUP(A145,'Lista Narkotyki Wet'!$H$13:$BW$18,2,FALSE)),\"\")","v":""},null,null,null,null,null,null,null,null,null,null,null,null,null,null,null,null,null,null,null,null,null,null,null,"1","2"]
[null,{"$f":"IFERROR(IF(A146=\"\",\"\",VLOOKUP(A146,'Lista Narkotyki Wet'!$A$2:$B$69,2,FALSE)),\"\")","v":""},{"$f":"IFERROR(IF(A146=\"\",\"\",HLOOKUP(A146,'Lista Narkotyki Wet'!$H$34:$BW$37,2,FALSE)),\"\")","v":""},{"$f":"IFERROR(IF(A146=\"\",\"\",HLOOKUP(A146,'Lista Narkotyki Wet'!$H$1:$BW$7,2,FALSE)),\"\")","v":""},{"$f":"IFERROR(IF(A146=\"\",\"\",HLOOKUP(A146,'Lista Narkotyki Wet'!$H$13:$BW$18,2,FALSE)),\"\")","v":""},null,null,null,null,null,null,null,null,null,null,null,null,null,null,null,null,null,null,null,null,null,null,null,"1","2"]
[null,{"$f":"IFERROR(IF(A147=\"\",\"\",VLOOKUP(A147,'Lista Narkotyki Wet'!$A$2:$B$69,2,FALSE)),\"\")","v":""},{"$f":"IFERROR(IF(A147=\"\",\"\",HLOOKUP(A147,'Lista Narkotyki Wet'!$H$34:$BW$37,2,FALSE)),\"\")","v":""},{"$f":"IFERROR(IF(A147=\"\",\"\",HLOOKUP(A147,'Lista Narkotyki Wet'!$H$1:$BW$7,2,FALSE)),\"\")","v":""},{"$f":"IFERROR(IF(A147=\"\",\"\",HLOOKUP(A147,'Lista Narkotyki Wet'!$H$13:$BW$18,2,FALSE)),\"\")","v":""},null,null,null,null,null,null,null,null,null,null,null,null,null,null,null,null,null,null,null,null,null,null,null,"1","2"]
[null,{"$f":"IFERROR(IF(A148=\"\",\"\",VLOOKUP(A148,'Lista Narkotyki Wet'!$A$2:$B$69,2,FALSE)),\"\")","v":""},{"$f":"IFERROR(IF(A148=\"\",\"\",HLOOKUP(A148,'Lista Narkotyki Wet'!$H$34:$BW$37,2,FALSE)),\"\")","v":""},{"$f":"IFERROR(IF(A148=\"\",\"\",HLOOKUP(A148,'Lista Narkotyki Wet'!$H$1:$BW$7,2,FALSE)),\"\")","v":""},{"$f":"IFERROR(IF(A148=\"\",\"\",HLOOKUP(A148,'Lista Narkotyki Wet'!$H$13:$BW$18,2,FALSE)),\"\")","v":""},null,null,null,null,null,null,null,null,null,null,null,null,null,null,null,null,null,null,null,null,null,null,null,"1","2"]
[null,{"$f":"IFERROR(IF(A149=\"\",\"\",VLOOKUP(A149,'Lista Narkotyki Wet'!$A$2:$B$69,2,FALSE)),\"\")","v":""},{"$f":"IFERROR(IF(A149=\"\",\"\",HLOOKUP(A149,'Lista Narkotyki Wet'!$H$34:$BW$37,2,FALSE)),\"\")","v":""},{"$f":"IFERROR(IF(A149=\"\",\"\",HLOOKUP(A149,'Lista Narkotyki Wet'!$H$1:$BW$7,2,FALSE)),\"\")","v":""},{"$f":"IFERROR(IF(A149=\"\",\"\",HLOOKUP(A149,'Lista Narkotyki Wet'!$H$13:$BW$18,2,FALSE)),\"\")","v":""},null,null,null,null,null,null,null,null,null,null,null,null,null,null,null,null,null,null,null,null,null,null,null,"1","2"]
[null,{"$f":"IFERROR(IF(A150=\"\",\"\",VLOOKUP(A150,'Lista Narkotyki Wet'!$A$2:$B$69,2,FALSE)),\"\")","v":""},{"$f":"IFERROR(IF(A150=\"\",\"\",HLOOKUP(A150,'Lista Narkotyki Wet'!$H$34:$BW$37,2,FALSE)),\"\")","v":""},{"$f":"IFERROR(IF(A150=\"\",\"\",HLOOKUP(A150,'Lista Narkotyki Wet'!$H$1:$BW$7,2,FALSE)),\"\")","v":""},{"$f":"IFERROR(IF(A150=\"\",\"\",HLOOKUP(A150,'Lista Narkotyki Wet'!$H$13:$BW$18,2,FALSE)),\"\")","v":""},null,null,null,null,null,null,null,null,null,null,null,null,null,null,null,null,null,null,null,null,null,null,null,"1","2"]
[null,{"$f":"IFERROR(IF(A151=\"\",\"\",VLOOKUP(A151,'Lista Narkotyki Wet'!$A$2:$B$69,2,FALSE)),\"\")","v":""},{"$f":"IFERROR(IF(A151=\"\",\"\",HLOOKUP(A151,'Lista Narkotyki Wet'!$H$34:$BW$37,2,FALSE)),\"\")","v":""},{"$f":"IFERROR(IF(A151=\"\",\"\",HLOOKUP(A151,'Lista Narkotyki Wet'!$H$1:$BW$7,2,FALSE)),\"\")","v":""},{"$f":"IFERROR(IF(A151=\"\",\"\",HLOOKUP(A151,'Lista Narkotyki Wet'!$H$13:$BW$18,2,FALSE)),\"\")","v":""},null,null,null,null,null,null,null,null,null,null,null,null,null,null,null,null,null,null,null,null,null,null,null,"1","2"]
[null,{"$f":"IFERROR(IF(A152=\"\",\"\",VLOOKUP(A152,'Lista Narkotyki Wet'!$A$2:$B$69,2,FALSE)),\"\")","v":""},{"$f":"IFERROR(IF(A152=\"\",\"\",HLOOKUP(A152,'Lista Narkotyki Wet'!$H$34:$BW$37,2,FALSE)),\"\")","v":""},{"$f":"IFERROR(IF(A152=\"\",\"\",HLOOKUP(A152,'Lista Narkotyki Wet'!$H$1:$BW$7,2,FALSE)),\"\")","v":""},{"$f":"IFERROR(IF(A152=\"\",\"\",HLOOKUP(A152,'Lista Narkotyki Wet'!$H$13:$BW$18,2,FALSE)),\"\")","v":""},null,null,null,null,null,null,null,null,null,null,null,null,null,null,null,null,null,null,null,null,null,null,null,"1","2"]
[null,{"$f":"IFERROR(IF(A153=\"\",\"\",VLOOKUP(A153,'Lista Narkotyki Wet'!$A$2:$B$69,2,FALSE)),\"\")","v":""},{"$f":"IFERROR(IF(A153=\"\",\"\",HLOOKUP(A153,'Lista Narkotyki Wet'!$H$34:$BW$37,2,FALSE)),\"\")","v":""},{"$f":"IFERROR(IF(A153=\"\",\"\",HLOOKUP(A153,'Lista Narkotyki Wet'!$H$1:$BW$7,2,FALSE)),\"\")","v":""},{"$f":"IFERROR(IF(A153=\"\",\"\",HLOOKUP(A153,'Lista Narkotyki Wet'!$H$13:$BW$18,2,FALSE)),\"\")","v":""},null,null,null,null,null,null,null,null,null,null,null,null,null,null,null,null,null,null,null,null,null,null,null,"1","2"]
[null,{"$f":"IFERROR(IF(A154=\"\",\"\",VLOOKUP(A154,'Lista Narkotyki Wet'!$A$2:$B$69,2,FALSE)),\"\")","v":""},{"$f":"IFERROR(IF(A154=\"\",\"\",HLOOKUP(A154,'Lista Narkotyki Wet'!$H$34:$BW$37,2,FALSE)),\"\")","v":""},{"$f":"IFERROR(IF(A154=\"\",\"\",HLOOKUP(A154,'Lista Narkotyki Wet'!$H$1:$BW$7,2,FALSE)),\"\")","v":""},{"$f":"IFERROR(IF(A154=\"\",\"\",HLOOKUP(A154,'Lista Narkotyki Wet'!$H$13:$BW$18,2,FALSE)),\"\")","v":""},null,null,null,null,null,null,null,null,null,null,null,null,null,null,null,null,null,null,null,null,null,null,null,"1","2"]
[null,{"$f":"IFERROR(IF(A155=\"\",\"\",VLOOKUP(A155,'Lista Narkotyki Wet'!$A$2:$B$69,2,FALSE)),\"\")","v":""},{"$f":"IFERROR(IF(A155=\"\",\"\",HLOOKUP(A155,'Lista Narkotyki Wet'!$H$34:$BW$37,2,FALSE)),\"\")","v":""},{"$f":"IFERROR(IF(A155=\"\",\"\",HLOOKUP(A155,'Lista Narkotyki Wet'!$H$1:$BW$7,2,FALSE)),\"\")","v":""},{"$f":"IFERROR(IF(A155=\"\",\"\",HLOOKUP(A155,'Lista Narkotyki Wet'!$H$13:$BW$18,2,FALSE)),\"\")","v":""},null,null,null,null,null,null,null,null,null,null,null,null,null,null,null,null,null,null,null,null,null,null,null,"1","2"]
[null,{"$f":"IFERROR(IF(A156=\"\",\"\",VLOOKUP(A156,'Lista Narkotyki Wet'!$A$2:$B$69,2,FALSE)),\"\")","v":""},{"$f":"IFERROR(IF(A156=\"\",\"\",HLOOKUP(A156,'Lista Narkotyki Wet'!$H$34:$BW$37,2,FALSE)),\"\")","v":""},{"$f":"IFERROR(IF(A156=\"\",\"\",HLOOKUP(A156,'Lista Narkotyki Wet'!$H$1:$BW$7,2,FALSE)),\"\")","v":""},{"$f":"IFERROR(IF(A156=\"\",\"\",HLOOKUP(A156,'Lista Narkotyki Wet'!$H$13:$BW$18,2,FALSE)),\"\")","v":""},null,null,null,null,null,null,null,null,null,null,null,null,null,null,null,null,null,null,null,null,null,null,null,"1","2"]
[null,{"$f":"IFERROR(IF(A157=\"\",\"\",VLOOKUP(A157,'Lista Narkotyki Wet'!$A$2:$B$69,2,FALSE)),\"\")","v":""},{"$f":"IFERROR(IF(A157=\"\",\"\",HLOOKUP(A157,'Lista Narkotyki Wet'!$H$34:$BW$37,2,FALSE)),\"\")","v":""},{"$f":"IFERROR(IF(A157=\"\",\"\",HLOOKUP(A157,'Lista Narkotyki Wet'!$H$1:$BW$7,2,FALSE)),\"\")","v":""},{"$f":"IFERROR(IF(A157=\"\",\"\",HLOOKUP(A157,'Lista Narkotyki Wet'!$H$13:$BW$18,2,FALSE)),\"\")","v":""},null,null,null,null,null,null,null,null,null,null,null,null,null,null,null,null,null,null,null,null,null,null,null,"1","2"]
[null,{"$f":"IFERROR(IF(A158=\"\",\"\",VLOOKUP(A158,'Lista Narkotyki Wet'!$A$2:$B$69,2,FALSE)),\"\")","v":""},{"$f":"IFERROR(IF(A158=\"\",\"\",HLOOKUP(A158,'Lista Narkotyki Wet'!$H$34:$BW$37,2,FALSE)),\"\")","v":""},{"$f":"IFERROR(IF(A158=\"\",\"\",HLOOKUP(A158,'Lista Narkotyki Wet'!$H$1:$BW$7,2,FALSE)),\"\")","v":""},{"$f":"IFERROR(IF(A158=\"\",\"\",HLOOKUP(A158,'Lista Narkotyki Wet'!$H$13:$BW$18,2,FALSE)),\"\")","v":""},null,null,null,null,null,null,null,null,null,null,null,null,null,null,null,null,null,null,null,null,null,null,null,"1","2"]
[null,{"$f":"IFERROR(IF(A159=\"\",\"\",VLOOKUP(A159,'Lista Narkotyki Wet'!$A$2:$B$69,2,FALSE)),\"\")","v":""},{"$f":"IFERROR(IF(A159=\"\",\"\",HLOOKUP(A159,'Lista Narkotyki Wet'!$H$34:$BW$37,2,FALSE)),\"\")","v":""},{"$f":"IFERROR(IF(A159=\"\",\"\",HLOOKUP(A159,'Lista Narkotyki Wet'!$H$1:$BW$7,2,FALSE)),\"\")","v":""},{"$f":"IFERROR(IF(A159=\"\",\"\",HLOOKUP(A159,'Lista Narkotyki Wet'!$H$13:$BW$18,2,FALSE)),\"\")","v":""},null,null,null,null,null,null,null,null,null,null,null,null,null,null,null,null,null,null,null,null,null,null,null,"1","2"]
[null,{"$f":"IFERROR(IF(A160=\"\",\"\",VLOOKUP(A160,'Lista Narkotyki Wet'!$A$2:$B$69,2,FALSE)),\"\")","v":""},{"$f":"IFERROR(IF(A160=\"\",\"\",HLOOKUP(A160,'Lista Narkotyki Wet'!$H$34:$BW$37,2,FALSE)),\"\")","v":""},{"$f":"IFERROR(IF(A160=\"\",\"\",HLOOKUP(A160,'Lista Narkotyki Wet'!$H$1:$BW$7,2,FALSE)),\"\")","v":""},{"$f":"IFERROR(IF(A160=\"\",\"\",HLOOKUP(A160,'Lista Narkotyki Wet'!$H$13:$BW$18,2,FALSE)),\"\")","v":""},null,null,null,null,null,null,null,null,null,null,null,null,null,null,null,null,null,null,null,null,null,null,null,"1","2"]
[null,{"$f":"IFERROR(IF(A161=\"\",\"\",VLOOKUP(A161,'Lista Narkotyki Wet'!$A$2:$B$69,2,FALSE)),\"\")","v":""},{"$f":"IFERROR(IF(A161=\"\",\"\",HLOOKUP(A161,'Lista Narkotyki Wet'!$H$34:$BW$37,2,FALSE)),\"\")","v":""},{"$f":"IFERROR(IF(A161=\"\",\"\",HLOOKUP(A161,'Lista Narkotyki Wet'!$H$1:$BW$7,2,FALSE)),\"\")","v":""},{"$f":"IFERROR(IF(A161=\"\",\"\",HLOOKUP(A161,'Lista Narkotyki Wet'!$H$13:$BW$18,2,FALSE)),\"\")","v":""},null,null,null,null,null,null,null,null,null,null,null,null,null,null,null,null,null,null,null,null,null,null,null,"1","2"]
[null,{"$f":"IFERROR(IF(A162=\"\",\"\",VLOOKUP(A162,'Lista Narkotyki Wet'!$A$2:$B$69,2,FALSE)),\"\")","v":""},{"$f":"IFERROR(IF(A162=\"\",\"\",HLOOKUP(A162,'Lista Narkotyki Wet'!$H$34:$BW$37,2,FALSE)),\"\")","v":""},{"$f":"IFERROR(IF(A162=\"\",\"\",HLOOKUP(A162,'Lista Narkotyki Wet'!$H$1:$BW$7,2,FALSE)),\"\")","v":""},{"$f":"IFERROR(IF(A162=\"\",\"\",HLOOKUP(A162,'Lista Narkotyki Wet'!$H$13:$BW$18,2,FALSE)),\"\")","v":""},null,null,null,null,null,null,null,null,null,null,null,null,null,null,null,null,null,null,null,null,null,null,null,"1","2"]
[null,{"$f":"IFERROR(IF(A163=\"\",\"\",VLOOKUP(A163,'Lista Narkotyki Wet'!$A$2:$B$69,2,FALSE)),\"\")","v":""},{"$f":"IFERROR(IF(A163=\"\",\"\",HLOOKUP(A163,'Lista Narkotyki Wet'!$H$34:$BW$37,2,FALSE)),\"\")","v":""},{"$f":"IFERROR(IF(A163=\"\",\"\",HLOOKUP(A163,'Lista Narkotyki Wet'!$H$1:$BW$7,2,FALSE)),\"\")","v":""},{"$f":"IFERROR(IF(A163=\"\",\"\",HLOOKUP(A163,'Lista Narkotyki Wet'!$H$13:$BW$18,2,FALSE)),\"\")","v":""},null,null,null,null,null,null,null,null,null,null,null,null,null,null,null,null,null,null,null,null,null,null,null,"1","2"]
[null,{"$f":"IFERROR(IF(A164=\"\",\"\",VLOOKUP(A164,'Lista Narkotyki Wet'!$A$2:$B$69,2,FALSE)),\"\")","v":""},{"$f":"IFERROR(IF(A164=\"\",\"\",HLOOKUP(A164,'Lista Narkotyki Wet'!$H$34:$BW$37,2,FALSE)),\"\")","v":""},{"$f":"IFERROR(IF(A164=\"\",\"\",HLOOKUP(A164,'Lista Narkotyki Wet'!$H$1:$BW$7,2,FALSE)),\"\")","v":""},{"$f":"IFERROR(IF(A164=\"\",\"\",HLOOKUP(A164,'Lista Narkotyki Wet'!$H$13:$BW$18,2,FALSE)),\"\")","v":""},null,null,null,null,null,null,null,null,null,null,null,null,null,null,null,null,null,null,null,null,null,null,null,"1","2"]
[null,{"$f":"IFERROR(IF(A165=\"\",\"\",VLOOKUP(A165,'Lista Narkotyki Wet'!$A$2:$B$69,2,FALSE)),\"\")","v":""},{"$f":"IFERROR(IF(A165=\"\",\"\",HLOOKUP(A165,'Lista Narkotyki Wet'!$H$34:$BW$37,2,FALSE)),\"\")","v":""},{"$f":"IFERROR(IF(A165=\"\",\"\",HLOOKUP(A165,'Lista Narkotyki Wet'!$H$1:$BW$7,2,FALSE)),\"\")","v":""},{"$f":"IFERROR(IF(A165=\"\",\"\",HLOOKUP(A165,'Lista Narkotyki Wet'!$H$13:$BW$18,2,FALSE)),\"\")","v":""},null,null,null,null,null,null,null,null,null,null,null,null,null,null,null,null,null,null,null,null,null,null,null,"1","2"]
[null,{"$f":"IFERROR(IF(A166=\"\",\"\",VLOOKUP(A166,'Lista Narkotyki Wet'!$A$2:$B$69,2,FALSE)),\"\")","v":""},{"$f":"IFERROR(IF(A166=\"\",\"\",HLOOKUP(A166,'Lista Narkotyki Wet'!$H$34:$BW$37,2,FALSE)),\"\")","v":""},{"$f":"IFERROR(IF(A166=\"\",\"\",HLOOKUP(A166,'Lista Narkotyki Wet'!$H$1:$BW$7,2,FALSE)),\"\")","v":""},{"$f":"IFERROR(IF(A166=\"\",\"\",HLOOKUP(A166,'Lista Narkotyki Wet'!$H$13:$BW$18,2,FALSE)),\"\")","v":""},null,null,null,null,null,null,null,null,null,null,null,null,null,null,null,null,null,null,null,null,null,null,null,"1","2"]
[null,{"$f":"IFERROR(IF(A167=\"\",\"\",VLOOKUP(A167,'Lista Narkotyki Wet'!$A$2:$B$69,2,FALSE)),\"\")","v":""},{"$f":"IFERROR(IF(A167=\"\",\"\",HLOOKUP(A167,'Lista Narkotyki Wet'!$H$34:$BW$37,2,FALSE)),\"\")","v":""},{"$f":"IFERROR(IF(A167=\"\",\"\",HLOOKUP(A167,'Lista Narkotyki Wet'!$H$1:$BW$7,2,FALSE)),\"\")","v":""},{"$f":"IFERROR(IF(A167=\"\",\"\",HLOOKUP(A167,'Lista Narkotyki Wet'!$H$13:$BW$18,2,FALSE)),\"\")","v":""},null,null,null,null,null,null,null,null,null,null,null,null,null,null,null,null,null,null,null,null,null,null,null,"1","2"]
[null,{"$f":"IFERROR(IF(A168=\"\",\"\",VLOOKUP(A168,'Lista Narkotyki Wet'!$A$2:$B$69,2,FALSE)),\"\")","v":""},{"$f":"IFERROR(IF(A168=\"\",\"\",HLOOKUP(A168,'Lista Narkotyki Wet'!$H$34:$BW$37,2,FALSE)),\"\")","v":""},{"$f":"IFERROR(IF(A168=\"\",\"\",HLOOKUP(A168,'Lista Narkotyki Wet'!$H$1:$BW$7,2,FALSE)),\"\")","v":""},{"$f":"IFERROR(IF(A168=\"\",\"\",HLOOKUP(A168,'Lista Narkotyki Wet'!$H$13:$BW$18,2,FALSE)),\"\")","v":""},null,null,null,null,null,null,null,null,null,null,null,null,null,null,null,null,null,null,null,null,null,null,null,"1","2"]
[null,{"$f":"IFERROR(IF(A169=\"\",\"\",VLOOKUP(A169,'Lista Narkotyki Wet'!$A$2:$B$69,2,FALSE)),\"\")","v":""},{"$f":"IFERROR(IF(A169=\"\",\"\",HLOOKUP(A169,'Lista Narkotyki Wet'!$H$34:$BW$37,2,FALSE)),\"\")","v":""},{"$f":"IFERROR(IF(A169=\"\",\"\",HLOOKUP(A169,'Lista Narkotyki Wet'!$H$1:$BW$7,2,FALSE)),\"\")","v":""},{"$f":"IFERROR(IF(A169=\"\",\"\",HLOOKUP(A169,'Lista Narkotyki Wet'!$H$13:$BW$18,2,FALSE)),\"\")","v":""},null,null,null,null,null,null,null,null,null,null,null,null,null,null,null,null,null,null,null,null,null,null,null,"1","2"]
[null,{"$f":"IFERROR(IF(A170=\"\",\"\",VLOOKUP(A170,'Lista Narkotyki Wet'!$A$2:$B$69,2,FALSE)),\"\")","v":""},{"$f":"IFERROR(IF(A170=\"\",\"\",HLOOKUP(A170,'Lista Narkotyki Wet'!$H$34:$BW$37,2,FALSE)),\"\")","v":""},{"$f":"IFERROR(IF(A170=\"\",\"\",HLOOKUP(A170,'Lista Narkotyki Wet'!$H$1:$BW$7,2,FALSE)),\"\")","v":""},{"$f":"IFERROR(IF(A170=\"\",\"\",HLOOKUP(A170,'Lista Narkotyki Wet'!$H$13:$BW$18,2,FALSE)),\"\")","v":""},null,null,null,null,null,null,null,null,null,null,null,null,null,null,null,null,null,null,null,null,null,null,null,"1","2"]
[null,{"$f":"IFERROR(IF(A171=\"\",\"\",VLOOKUP(A171,'Lista Narkotyki Wet'!$A$2:$B$69,2,FALSE)),\"\")","v":""},{"$f":"IFERROR(IF(A171=\"\",\"\",HLOOKUP(A171,'Lista Narkotyki Wet'!$H$34:$BW$37,2,FALSE)),\"\")","v":""},{"$f":"IFERROR(IF(A171=\"\",\"\",HLOOKUP(A171,'Lista Narkotyki Wet'!$H$1:$BW$7,2,FALSE)),\"\")","v":""},{"$f":"IFERROR(IF(A171=\"\",\"\",HLOOKUP(A171,'Lista Narkotyki Wet'!$H$13:$BW$18,2,FALSE)),\"\")","v":""},null,null,null,null,null,null,null,null,null,null,null,null,null,null,null,null,null,null,null,null,null,null,null,"1","2"]
[null,{"$f":"IFERROR(IF(A172=\"\",\"\",VLOOKUP(A172,'Lista Narkotyki Wet'!$A$2:$B$69,2,FALSE)),\"\")","v":""},{"$f":"IFERROR(IF(A172=\"\",\"\",HLOOKUP(A172,'Lista Narkotyki Wet'!$H$34:$BW$37,2,FALSE)),\"\")","v":""},{"$f":"IFERROR(IF(A172=\"\",\"\",HLOOKUP(A172,'Lista Narkotyki Wet'!$H$1:$BW$7,2,FALSE)),\"\")","v":""},{"$f":"IFERROR(IF(A172=\"\",\"\",HLOOKUP(A172,'Lista Narkotyki Wet'!$H$13:$BW$18,2,FALSE)),\"\")","v":""},null,null,null,null,null,null,null,null,null,null,null,null,null,null,null,null,null,null,null,null,null,null,null,"1","2"]
[null,{"$f":"IFERROR(IF(A173=\"\",\"\",VLOOKUP(A173,'Lista Narkotyki Wet'!$A$2:$B$69,2,FALSE)),\"\")","v":""},{"$f":"IFERROR(IF(A173=\"\",\"\",HLOOKUP(A173,'Lista Narkotyki Wet'!$H$34:$BW$37,2,FALSE)),\"\")","v":""},{"$f":"IFERROR(IF(A173=\"\",\"\",HLOOKUP(A173,'Lista Narkotyki Wet'!$H$1:$BW$7,2,FALSE)),\"\")","v":""},{"$f":"IFERROR(IF(A173=\"\",\"\",HLOOKUP(A173,'Lista Narkotyki Wet'!$H$13:$BW$18,2,FALSE)),\"\")","v":""},null,null,null,null,null,null,null,null,null,null,null,null,null,null,null,null,null,null,null,null,null,null,null,"1","2"]
[null,{"$f":"IFERROR(IF(A174=\"\",\"\",VLOOKUP(A174,'Lista Narkotyki Wet'!$A$2:$B$69,2,FALSE)),\"\")","v":""},{"$f":"IFERROR(IF(A174=\"\",\"\",HLOOKUP(A174,'Lista Narkotyki Wet'!$H$34:$BW$37,2,FALSE)),\"\")","v":""},{"$f":"IFERROR(IF(A174=\"\",\"\",HLOOKUP(A174,'Lista Narkotyki Wet'!$H$1:$BW$7,2,FALSE)),\"\")","v":""},{"$f":"IFERROR(IF(A174=\"\",\"\",HLOOKUP(A174,'Lista Narkotyki Wet'!$H$13:$BW$18,2,FALSE)),\"\")","v":""},null,null,null,null,null,null,null,null,null,null,null,null,null,null,null,null,null,null,null,null,null,null,null,"1","2"]
[null,{"$f":"IFERROR(IF(A175=\"\",\"\",VLOOKUP(A175,'Lista Narkotyki Wet'!$A$2:$B$69,2,FALSE)),\"\")","v":""},{"$f":"IFERROR(IF(A175=\"\",\"\",HLOOKUP(A175,'Lista Narkotyki Wet'!$H$34:$BW$37,2,FALSE)),\"\")","v":""},{"$f":"IFERROR(IF(A175=\"\",\"\",HLOOKUP(A175,'Lista Narkotyki Wet'!$H$1:$BW$7,2,FALSE)),\"\")","v":""},{"$f":"IFERROR(IF(A175=\"\",\"\",HLOOKUP(A175,'Lista Narkotyki Wet'!$H$13:$BW$18,2,FALSE)),\"\")","v":""},null,null,null,null,null,null,null,null,null,null,null,null,null,null,null,null,null,null,null,null,null,null,null,"1","2"]
[null,{"$f":"IFERROR(IF(A176=\"\",\"\",VLOOKUP(A176,'Lista Narkotyki Wet'!$A$2:$B$69,2,FALSE)),\"\")","v":""},{"$f":"IFERROR(IF(A176=\"\",\"\",HLOOKUP(A176,'Lista Narkotyki Wet'!$H$34:$BW$37,2,FALSE)),\"\")","v":""},{"$f":"IFERROR(IF(A176=\"\",\"\",HLOOKUP(A176,'Lista Narkotyki Wet'!$H$1:$BW$7,2,FALSE)),\"\")","v":""},{"$f":"IFERROR(IF(A176=\"\",\"\",HLOOKUP(A176,'Lista Narkotyki Wet'!$H$13:$BW$18,2,FALSE)),\"\")","v":""},null,null,null,null,null,null,null,null,null,null,null,null,null,null,null,null,null,null,null,null,null,null,null,"1","2"]
[null,{"$f":"IFERROR(IF(A177=\"\",\"\",VLOOKUP(A177,'Lista Narkotyki Wet'!$A$2:$B$69,2,FALSE)),\"\")","v":""},{"$f":"IFERROR(IF(A177=\"\",\"\",HLOOKUP(A177,'Lista Narkotyki Wet'!$H$34:$BW$37,2,FALSE)),\"\")","v":""},{"$f":"IFERROR(IF(A177=\"\",\"\",HLOOKUP(A177,'Lista Narkotyki Wet'!$H$1:$BW$7,2,FALSE)),\"\")","v":""},{"$f":"IFERROR(IF(A177=\"\",\"\",HLOOKUP(A177,'Lista Narkotyki Wet'!$H$13:$BW$18,2,FALSE)),\"\")","v":""},null,null,null,null,null,null,null,null,null,null,null,null,null,null,null,null,null,null,null,null,null,null,null,"1","2"]
[null,{"$f":"IFERROR(IF(A178=\"\",\"\",VLOOKUP(A178,'Lista Narkotyki Wet'!$A$2:$B$69,2,FALSE)),\"\")","v":""},{"$f":"IFERROR(IF(A178=\"\",\"\",HLOOKUP(A178,'Lista Narkotyki Wet'!$H$34:$BW$37,2,FALSE)),\"\")","v":""},{"$f":"IFERROR(IF(A178=\"\",\"\",HLOOKUP(A178,'Lista Narkotyki Wet'!$H$1:$BW$7,2,FALSE)),\"\")","v":""},{"$f":"IFERROR(IF(A178=\"\",\"\",HLOOKUP(A178,'Lista Narkotyki Wet'!$H$13:$BW$18,2,FALSE)),\"\")","v":""},null,null,null,null,null,null,null,null,null,null,null,null,null,null,null,null,null,null,null,null,null,null,null,"1","2"]
[null,{"$f":"IFERROR(IF(A179=\"\",\"\",VLOOKUP(A179,'Lista Narkotyki Wet'!$A$2:$B$69,2,FALSE)),\"\")","v":""},{"$f":"IFERROR(IF(A179=\"\",\"\",HLOOKUP(A179,'Lista Narkotyki Wet'!$H$34:$BW$37,2,FALSE)),\"\")","v":""},{"$f":"IFERROR(IF(A179=\"\",\"\",HLOOKUP(A179,'Lista Narkotyki Wet'!$H$1:$BW$7,2,FALSE)),\"\")","v":""},{"$f":"IFERROR(IF(A179=\"\",\"\",HLOOKUP(A179,'Lista Narkotyki Wet'!$H$13:$BW$18,2,FALSE)),\"\")","v":""},null,null,null,null,null,null,null,null,null,null,null,null,null,null,null,null,null,null,null,null,null,null,null,"1","2"]
[null,{"$f":"IFERROR(IF(A180=\"\",\"\",VLOOKUP(A180,'Lista Narkotyki Wet'!$A$2:$B$69,2,FALSE)),\"\")","v":""},{"$f":"IFERROR(IF(A180=\"\",\"\",HLOOKUP(A180,'Lista Narkotyki Wet'!$H$34:$BW$37,2,FALSE)),\"\")","v":""},{"$f":"IFERROR(IF(A180=\"\",\"\",HLOOKUP(A180,'Lista Narkotyki Wet'!$H$1:$BW$7,2,FALSE)),\"\")","v":""},{"$f":"IFERROR(IF(A180=\"\",\"\",HLOOKUP(A180,'Lista Narkotyki Wet'!$H$13:$BW$18,2,FALSE)),\"\")","v":""},null,null,null,null,null,null,null,null,null,null,null,null,null,null,null,null,null,null,null,null,null,null,null,"1","2"]
[null,{"$f":"IFERROR(IF(A181=\"\",\"\",VLOOKUP(A181,'Lista Narkotyki Wet'!$A$2:$B$69,2,FALSE)),\"\")","v":""},{"$f":"IFERROR(IF(A181=\"\",\"\",HLOOKUP(A181,'Lista Narkotyki Wet'!$H$34:$BW$37,2,FALSE)),\"\")","v":""},{"$f":"IFERROR(IF(A181=\"\",\"\",HLOOKUP(A181,'Lista Narkotyki Wet'!$H$1:$BW$7,2,FALSE)),\"\")","v":""},{"$f":"IFERROR(IF(A181=\"\",\"\",HLOOKUP(A181,'Lista Narkotyki Wet'!$H$13:$BW$18,2,FALSE)),\"\")","v":""},null,null,null,null,null,null,null,null,null,null,null,null,null,null,null,null,null,null,null,null,null,null,null,"1","2"]
[null,{"$f":"IFERROR(IF(A182=\"\",\"\",VLOOKUP(A182,'Lista Narkotyki Wet'!$A$2:$B$69,2,FALSE)),\"\")","v":""},{"$f":"IFERROR(IF(A182=\"\",\"\",HLOOKUP(A182,'Lista Narkotyki Wet'!$H$34:$BW$37,2,FALSE)),\"\")","v":""},{"$f":"IFERROR(IF(A182=\"\",\"\",HLOOKUP(A182,'Lista Narkotyki Wet'!$H$1:$BW$7,2,FALSE)),\"\")","v":""},{"$f":"IFERROR(IF(A182=\"\",\"\",HLOOKUP(A182,'Lista Narkotyki Wet'!$H$13:$BW$18,2,FALSE)),\"\")","v":""},null,null,null,null,null,null,null,null,null,null,null,null,null,null,null,null,null,null,null,null,null,null,null,"1","2"]
[null,{"$f":"IFERROR(IF(A183=\"\",\"\",VLOOKUP(A183,'Lista Narkotyki Wet'!$A$2:$B$69,2,FALSE)),\"\")","v":""},{"$f":"IFERROR(IF(A183=\"\",\"\",HLOOKUP(A183,'Lista Narkotyki Wet'!$H$34:$BW$37,2,FALSE)),\"\")","v":""},{"$f":"IFERROR(IF(A183=\"\",\"\",HLOOKUP(A183,'Lista Narkotyki Wet'!$H$1:$BW$7,2,FALSE)),\"\")","v":""},{"$f":"IFERROR(IF(A183=\"\",\"\",HLOOKUP(A183,'Lista Narkotyki Wet'!$H$13:$BW$18,2,FALSE)),\"\")","v":""},null,null,null,null,null,null,null,null,null,null,null,null,null,null,null,null,null,null,null,null,null,null,null,"1","2"]
[null,{"$f":"IFERROR(IF(A184=\"\",\"\",VLOOKUP(A184,'Lista Narkotyki Wet'!$A$2:$B$69,2,FALSE)),\"\")","v":""},{"$f":"IFERROR(IF(A184=\"\",\"\",HLOOKUP(A184,'Lista Narkotyki Wet'!$H$34:$BW$37,2,FALSE)),\"\")","v":""},{"$f":"IFERROR(IF(A184=\"\",\"\",HLOOKUP(A184,'Lista Narkotyki Wet'!$H$1:$BW$7,2,FALSE)),\"\")","v":""},{"$f":"IFERROR(IF(A184=\"\",\"\",HLOOKUP(A184,'Lista Narkotyki Wet'!$H$13:$BW$18,2,FALSE)),\"\")","v":""},null,null,null,null,null,null,null,null,null,null,null,null,null,null,null,null,null,null,null,null,null,null,null,"1","2"]
[null,{"$f":"IFERROR(IF(A185=\"\",\"\",VLOOKUP(A185,'Lista Narkotyki Wet'!$A$2:$B$69,2,FALSE)),\"\")","v":""},{"$f":"IFERROR(IF(A185=\"\",\"\",HLOOKUP(A185,'Lista Narkotyki Wet'!$H$34:$BW$37,2,FALSE)),\"\")","v":""},{"$f":"IFERROR(IF(A185=\"\",\"\",HLOOKUP(A185,'Lista Narkotyki Wet'!$H$1:$BW$7,2,FALSE)),\"\")","v":""},{"$f":"IFERROR(IF(A185=\"\",\"\",HLOOKUP(A185,'Lista Narkotyki Wet'!$H$13:$BW$18,2,FALSE)),\"\")","v":""},null,null,null,null,null,null,null,null,null,null,null,null,null,null,null,null,null,null,null,null,null,null,null,"1","2"]
[null,{"$f":"IFERROR(IF(A186=\"\",\"\",VLOOKUP(A186,'Lista Narkotyki Wet'!$A$2:$B$69,2,FALSE)),\"\")","v":""},{"$f":"IFERROR(IF(A186=\"\",\"\",HLOOKUP(A186,'Lista Narkotyki Wet'!$H$34:$BW$37,2,FALSE)),\"\")","v":""},{"$f":"IFERROR(IF(A186=\"\",\"\",HLOOKUP(A186,'Lista Narkotyki Wet'!$H$1:$BW$7,2,FALSE)),\"\")","v":""},{"$f":"IFERROR(IF(A186=\"\",\"\",HLOOKUP(A186,'Lista Narkotyki Wet'!$H$13:$BW$18,2,FALSE)),\"\")","v":""},null,null,null,null,null,null,null,null,null,null,null,null,null,null,null,null,null,null,null,null,null,null,null,"1","2"]
[null,{"$f":"IFERROR(IF(A187=\"\",\"\",VLOOKUP(A187,'Lista Narkotyki Wet'!$A$2:$B$69,2,FALSE)),\"\")","v":""},{"$f":"IFERROR(IF(A187=\"\",\"\",HLOOKUP(A187,'Lista Narkotyki Wet'!$H$34:$BW$37,2,FALSE)),\"\")","v":""},{"$f":"IFERROR(IF(A187=\"\",\"\",HLOOKUP(A187,'Lista Narkotyki Wet'!$H$1:$BW$7,2,FALSE)),\"\")","v":""},{"$f":"IFERROR(IF(A187=\"\",\"\",HLOOKUP(A187,'Lista Narkotyki Wet'!$H$13:$BW$18,2,FALSE)),\"\")","v":""},null,null,null,null,null,null,null,null,null,null,null,null,null,null,null,null,null,null,null,null,null,null,null,"1","2"]
[null,{"$f":"IFERROR(IF(A188=\"\",\"\",VLOOKUP(A188,'Lista Narkotyki Wet'!$A$2:$B$69,2,FALSE)),\"\")","v":""},{"$f":"IFERROR(IF(A188=\"\",\"\",HLOOKUP(A188,'Lista Narkotyki Wet'!$H$34:$BW$37,2,FALSE)),\"\")","v":""},{"$f":"IFERROR(IF(A188=\"\",\"\",HLOOKUP(A188,'Lista Narkotyki Wet'!$H$1:$BW$7,2,FALSE)),\"\")","v":""},{"$f":"IFERROR(IF(A188=\"\",\"\",HLOOKUP(A188,'Lista Narkotyki Wet'!$H$13:$BW$18,2,FALSE)),\"\")","v":""},null,null,null,null,null,null,null,null,null,null,null,null,null,null,null,null,null,null,null,null,null,null,null,"1","2"]
[null,{"$f":"IFERROR(IF(A189=\"\",\"\",VLOOKUP(A189,'Lista Narkotyki Wet'!$A$2:$B$69,2,FALSE)),\"\")","v":""},{"$f":"IFERROR(IF(A189=\"\",\"\",HLOOKUP(A189,'Lista Narkotyki Wet'!$H$34:$BW$37,2,FALSE)),\"\")","v":""},{"$f":"IFERROR(IF(A189=\"\",\"\",HLOOKUP(A189,'Lista Narkotyki Wet'!$H$1:$BW$7,2,FALSE)),\"\")","v":""},{"$f":"IFERROR(IF(A189=\"\",\"\",HLOOKUP(A189,'Lista Narkotyki Wet'!$H$13:$BW$18,2,FALSE)),\"\")","v":""},null,null,null,null,null,null,null,null,null,null,null,null,null,null,null,null,null,null,null,null,null,null,null,"1","2"]
[null,{"$f":"IFERROR(IF(A190=\"\",\"\",VLOOKUP(A190,'Lista Narkotyki Wet'!$A$2:$B$69,2,FALSE)),\"\")","v":""},{"$f":"IFERROR(IF(A190=\"\",\"\",HLOOKUP(A190,'Lista Narkotyki Wet'!$H$34:$BW$37,2,FALSE)),\"\")","v":""},{"$f":"IFERROR(IF(A190=\"\",\"\",HLOOKUP(A190,'Lista Narkotyki Wet'!$H$1:$BW$7,2,FALSE)),\"\")","v":""},{"$f":"IFERROR(IF(A190=\"\",\"\",HLOOKUP(A190,'Lista Narkotyki Wet'!$H$13:$BW$18,2,FALSE)),\"\")","v":""},null,null,null,null,null,null,null,null,null,null,null,null,null,null,null,null,null,null,null,null,null,null,null,"1","2"]
[null,{"$f":"IFERROR(IF(A191=\"\",\"\",VLOOKUP(A191,'Lista Narkotyki Wet'!$A$2:$B$69,2,FALSE)),\"\")","v":""},{"$f":"IFERROR(IF(A191=\"\",\"\",HLOOKUP(A191,'Lista Narkotyki Wet'!$H$34:$BW$37,2,FALSE)),\"\")","v":""},{"$f":"IFERROR(IF(A191=\"\",\"\",HLOOKUP(A191,'Lista Narkotyki Wet'!$H$1:$BW$7,2,FALSE)),\"\")","v":""},{"$f":"IFERROR(IF(A191=\"\",\"\",HLOOKUP(A191,'Lista Narkotyki Wet'!$H$13:$BW$18,2,FALSE)),\"\")","v":""},null,null,null,null,null,null,null,null,null,null,null,null,null,null,null,null,null,null,null,null,null,null,null,"1","2"]
[null,{"$f":"IFERROR(IF(A192=\"\",\"\",VLOOKUP(A192,'Lista Narkotyki Wet'!$A$2:$B$69,2,FALSE)),\"\")","v":""},{"$f":"IFERROR(IF(A192=\"\",\"\",HLOOKUP(A192,'Lista Narkotyki Wet'!$H$34:$BW$37,2,FALSE)),\"\")","v":""},{"$f":"IFERROR(IF(A192=\"\",\"\",HLOOKUP(A192,'Lista Narkotyki Wet'!$H$1:$BW$7,2,FALSE)),\"\")","v":""},{"$f":"IFERROR(IF(A192=\"\",\"\",HLOOKUP(A192,'Lista Narkotyki Wet'!$H$13:$BW$18,2,FALSE)),\"\")","v":""},null,null,null,null,null,null,null,null,null,null,null,null,null,null,null,null,null,null,null,null,null,null,null,"1","2"]
[null,{"$f":"IFERROR(IF(A193=\"\",\"\",VLOOKUP(A193,'Lista Narkotyki Wet'!$A$2:$B$69,2,FALSE)),\"\")","v":""},{"$f":"IFERROR(IF(A193=\"\",\"\",HLOOKUP(A193,'Lista Narkotyki Wet'!$H$34:$BW$37,2,FALSE)),\"\")","v":""},{"$f":"IFERROR(IF(A193=\"\",\"\",HLOOKUP(A193,'Lista Narkotyki Wet'!$H$1:$BW$7,2,FALSE)),\"\")","v":""},{"$f":"IFERROR(IF(A193=\"\",\"\",HLOOKUP(A193,'Lista Narkotyki Wet'!$H$13:$BW$18,2,FALSE)),\"\")","v":""},null,null,null,null,null,null,null,null,null,null,null,null,null,null,null,null,null,null,null,null,null,null,null,"1","2"]
[null,{"$f":"IFERROR(IF(A194=\"\",\"\",VLOOKUP(A194,'Lista Narkotyki Wet'!$A$2:$B$69,2,FALSE)),\"\")","v":""},{"$f":"IFERROR(IF(A194=\"\",\"\",HLOOKUP(A194,'Lista Narkotyki Wet'!$H$34:$BW$37,2,FALSE)),\"\")","v":""},{"$f":"IFERROR(IF(A194=\"\",\"\",HLOOKUP(A194,'Lista Narkotyki Wet'!$H$1:$BW$7,2,FALSE)),\"\")","v":""},{"$f":"IFERROR(IF(A194=\"\",\"\",HLOOKUP(A194,'Lista Narkotyki Wet'!$H$13:$BW$18,2,FALSE)),\"\")","v":""},null,null,null,null,null,null,null,null,null,null,null,null,null,null,null,null,null,null,null,null,null,null,null,"1","2"]
[null,{"$f":"IFERROR(IF(A195=\"\",\"\",VLOOKUP(A195,'Lista Narkotyki Wet'!$A$2:$B$69,2,FALSE)),\"\")","v":""},{"$f":"IFERROR(IF(A195=\"\",\"\",HLOOKUP(A195,'Lista Narkotyki Wet'!$H$34:$BW$37,2,FALSE)),\"\")","v":""},{"$f":"IFERROR(IF(A195=\"\",\"\",HLOOKUP(A195,'Lista Narkotyki Wet'!$H$1:$BW$7,2,FALSE)),\"\")","v":""},{"$f":"IFERROR(IF(A195=\"\",\"\",HLOOKUP(A195,'Lista Narkotyki Wet'!$H$13:$BW$18,2,FALSE)),\"\")","v":""},null,null,null,null,null,null,null,null,null,null,null,null,null,null,null,null,null,null,null,null,null,null,null,"1","2"]
[null,{"$f":"IFERROR(IF(A196=\"\",\"\",VLOOKUP(A196,'Lista Narkotyki Wet'!$A$2:$B$69,2,FALSE)),\"\")","v":""},{"$f":"IFERROR(IF(A196=\"\",\"\",HLOOKUP(A196,'Lista Narkotyki Wet'!$H$34:$BW$37,2,FALSE)),\"\")","v":""},{"$f":"IFERROR(IF(A196=\"\",\"\",HLOOKUP(A196,'Lista Narkotyki Wet'!$H$1:$BW$7,2,FALSE)),\"\")","v":""},{"$f":"IFERROR(IF(A196=\"\",\"\",HLOOKUP(A196,'Lista Narkotyki Wet'!$H$13:$BW$18,2,FALSE)),\"\")","v":""},null,null,null,null,null,null,null,null,null,null,null,null,null,null,null,null,null,null,null,null,null,null,null,"1","2"]
[null,{"$f":"IFERROR(IF(A197=\"\",\"\",VLOOKUP(A197,'Lista Narkotyki Wet'!$A$2:$B$69,2,FALSE)),\"\")","v":""},{"$f":"IFERROR(IF(A197=\"\",\"\",HLOOKUP(A197,'Lista Narkotyki Wet'!$H$34:$BW$37,2,FALSE)),\"\")","v":""},{"$f":"IFERROR(IF(A197=\"\",\"\",HLOOKUP(A197,'Lista Narkotyki Wet'!$H$1:$BW$7,2,FALSE)),\"\")","v":""},{"$f":"IFERROR(IF(A197=\"\",\"\",HLOOKUP(A197,'Lista Narkotyki Wet'!$H$13:$BW$18,2,FALSE)),\"\")","v":""},null,null,null,null,null,null,null,null,null,null,null,null,null,null,null,null,null,null,null,null,null,null,null,"1","2"]
[null,{"$f":"IFERROR(IF(A198=\"\",\"\",VLOOKUP(A198,'Lista Narkotyki Wet'!$A$2:$B$69,2,FALSE)),\"\")","v":""},{"$f":"IFERROR(IF(A198=\"\",\"\",HLOOKUP(A198,'Lista Narkotyki Wet'!$H$34:$BW$37,2,FALSE)),\"\")","v":""},{"$f":"IFERROR(IF(A198=\"\",\"\",HLOOKUP(A198,'Lista Narkotyki Wet'!$H$1:$BW$7,2,FALSE)),\"\")","v":""},{"$f":"IFERROR(IF(A198=\"\",\"\",HLOOKUP(A198,'Lista Narkotyki Wet'!$H$13:$BW$18,2,FALSE)),\"\")","v":""},null,null,null,null,null,null,null,null,null,null,null,null,null,null,null,null,null,null,null,null,null,null,null,"1","2"]
[null,{"$f":"IFERROR(IF(A199=\"\",\"\",VLOOKUP(A199,'Lista Narkotyki Wet'!$A$2:$B$69,2,FALSE)),\"\")","v":""},{"$f":"IFERROR(IF(A199=\"\",\"\",HLOOKUP(A199,'Lista Narkotyki Wet'!$H$34:$BW$37,2,FALSE)),\"\")","v":""},{"$f":"IFERROR(IF(A199=\"\",\"\",HLOOKUP(A199,'Lista Narkotyki Wet'!$H$1:$BW$7,2,FALSE)),\"\")","v":""},{"$f":"IFERROR(IF(A199=\"\",\"\",HLOOKUP(A199,'Lista Narkotyki Wet'!$H$13:$BW$18,2,FALSE)),\"\")","v":""},null,null,null,null,null,null,null,null,null,null,null,null,null,null,null,null,null,null,null,null,null,null,null,"1","2"]
[null,{"$f":"IFERROR(IF(A200=\"\",\"\",VLOOKUP(A200,'Lista Narkotyki Wet'!$A$2:$B$69,2,FALSE)),\"\")","v":""},{"$f":"IFERROR(IF(A200=\"\",\"\",HLOOKUP(A200,'Lista Narkotyki Wet'!$H$34:$BW$37,2,FALSE)),\"\")","v":""},{"$f":"IFERROR(IF(A200=\"\",\"\",HLOOKUP(A200,'Lista Narkotyki Wet'!$H$1:$BW$7,2,FALSE)),\"\")","v":""},{"$f":"IFERROR(IF(A200=\"\",\"\",HLOOKUP(A200,'Lista Narkotyki Wet'!$H$13:$BW$18,2,FALSE)),\"\")","v":""},null,null,null,null,null,null,null,null,null,null,null,null,null,null,null,null,null,null,null,null,null,null,null,"1","2"]
[null,{"$f":"IFERROR(IF(A201=\"\",\"\",VLOOKUP(A201,'Lista Narkotyki Wet'!$A$2:$B$69,2,FALSE)),\"\")","v":""},{"$f":"IFERROR(IF(A201=\"\",\"\",HLOOKUP(A201,'Lista Narkotyki Wet'!$H$34:$BW$37,2,FALSE)),\"\")","v":""},null,null,null,null,null,null,null,null,null,null,null,null,null,null,null,null,null,null,null,null,null,null,null,null,null,"1","2"]
[null,{"$f":"IFERROR(IF(A202=\"\",\"\",VLOOKUP(A202,'Lista Narkotyki Wet'!$A$2:$B$69,2,FALSE)),\"\")","v":""},{"$f":"IFERROR(IF(A202=\"\",\"\",HLOOKUP(A202,'Lista Narkotyki Wet'!$H$34:$BW$37,2,FALSE)),\"\")","v":""},null,null,null,null,null,null,null,null,null,null,null,null,null,null,null,null,null,null,null,null,null,null,null,null,null,"1","2"]
[null,{"$f":"IFERROR(IF(A203=\"\",\"\",VLOOKUP(A203,'Lista Narkotyki Wet'!$A$2:$B$69,2,FALSE)),\"\")","v":""},{"$f":"IFERROR(IF(A203=\"\",\"\",HLOOKUP(A203,'Lista Narkotyki Wet'!$H$34:$BW$37,2,FALSE)),\"\")","v":""},null,null,null,null,null,null,null,null,null,null,null,null,null,null,null,null,null,null,null,null,null,null,null,null,null,{"$f":"A203&1","v":"1"},{"$f":"A203&2","v":"2"}]
[null,{"$f":"IFERROR(IF(A204=\"\",\"\",VLOOKUP(A204,'Lista Narkotyki Wet'!$A$2:$B$69,2,FALSE)),\"\")","v":""},{"$f":"IFERROR(IF(A204=\"\",\"\",HLOOKUP(A204,'Lista Narkotyki Wet'!$H$34:$BW$37,2,FALSE)),\"\")","v":""},null,null,null,null,null,null,null,null,null,null,null,null,null,null,null,null,null,null,null,null,null,null,null,null,null,"1","2"]
[null,{"$f":"IFERROR(IF(A205=\"\",\"\",VLOOKUP(A205,'Lista Narkotyki Wet'!$A$2:$B$69,2,FALSE)),\"\")","v":""},{"$f":"IFERROR(IF(A205=\"\",\"\",HLOOKUP(A205,'Lista Narkotyki Wet'!$H$34:$BW$37,2,FALSE)),\"\")","v":""},null,null,null,null,null,null,null,null,null,null,null,null,null,null,null,null,null,null,null,null,null,null,null,null,null,"1","2"]
[null,{"$f":"IFERROR(IF(A206=\"\",\"\",VLOOKUP(A206,'Lista Narkotyki Wet'!$A$2:$B$69,2,FALSE)),\"\")","v":""},{"$f":"IFERROR(IF(A206=\"\",\"\",HLOOKUP(A206,'Lista Narkotyki Wet'!$H$34:$BW$37,2,FALSE)),\"\")","v":""},null,null,null,null,null,null,null,null,null,null,null,null,null,null,null,null,null,null,null,null,null,null,null,null,null,"1","2"]
[null,{"$f":"IFERROR(IF(A207=\"\",\"\",VLOOKUP(A207,'Lista Narkotyki Wet'!$A$2:$B$69,2,FALSE)),\"\")","v":""},{"$f":"IFERROR(IF(A207=\"\",\"\",HLOOKUP(A207,'Lista Narkotyki Wet'!$H$34:$BW$37,2,FALSE)),\"\")","v":""},null,null,null,null,null,null,null,null,null,null,null,null,null,null,null,null,null,null,null,null,null,null,null,null,null,"1","2"]
[null,{"$f":"IFERROR(IF(A208=\"\",\"\",VLOOKUP(A208,'Lista Narkotyki Wet'!$A$2:$B$69,2,FALSE)),\"\")","v":""},{"$f":"IFERROR(IF(A208=\"\",\"\",HLOOKUP(A208,'Lista Narkotyki Wet'!$H$34:$BW$37,2,FALSE)),\"\")","v":""},null,null,null,null,null,null,null,null,null,null,null,null,null,null,null,null,null,null,null,null,null,null,null,null,null,"1","2"]
[null,{"$f":"IFERROR(IF(A209=\"\",\"\",VLOOKUP(A209,'Lista Narkotyki Wet'!$A$2:$B$69,2,FALSE)),\"\")","v":""},{"$f":"IFERROR(IF(A209=\"\",\"\",HLOOKUP(A209,'Lista Narkotyki Wet'!$H$34:$BW$37,2,FALSE)),\"\")","v":""},null,null,null,null,null,null,null,null,null,null,null,null,null,null,null,null,null,null,null,null,null,null,null,null,null,"1","2"]
[null,{"$f":"IFERROR(IF(A210=\"\",\"\",VLOOKUP(A210,'Lista Narkotyki Wet'!$A$2:$B$69,2,FALSE)),\"\")","v":""},{"$f":"IFERROR(IF(A210=\"\",\"\",HLOOKUP(A210,'Lista Narkotyki Wet'!$H$34:$BW$37,2,FALSE)),\"\")","v":""},null,null,null,null,null,null,null,null,null,null,null,null,null,null,null,null,null,null,null,null,null,null,null,null,null,"1","2"]
[null,{"$f":"IFERROR(IF(A211=\"\",\"\",VLOOKUP(A211,'Lista Narkotyki Wet'!$A$2:$B$69,2,FALSE)),\"\")","v":""},{"$f":"IFERROR(IF(A211=\"\",\"\",HLOOKUP(A211,'Lista Narkotyki Wet'!$H$34:$BW$37,2,FALSE)),\"\")","v":""},null,null,null,null,null,null,null,null,null,null,null,null,null,null,null,null,null,null,null,null,null,null,null,null,null,"1","2"]
[null,{"$f":"IFERROR(IF(A212=\"\",\"\",VLOOKUP(A212,'Lista Narkotyki Wet'!$A$2:$B$69,2,FALSE)),\"\")","v":""},{"$f":"IFERROR(IF(A212=\"\",\"\",HLOOKUP(A212,'Lista Narkotyki Wet'!$H$34:$BW$37,2,FALSE)),\"\")","v":""},null,null,null,null,null,null,null,null,null,null,null,null,null,null,null,null,null,null,null,null,null,null,null,null,null,"1","2"]
[null,{"$f":"IFERROR(IF(A213=\"\",\"\",VLOOKUP(A213,'Lista Narkotyki Wet'!$A$2:$B$69,2,FALSE)),\"\")","v":""},{"$f":"IFERROR(IF(A213=\"\",\"\",HLOOKUP(A213,'Lista Narkotyki Wet'!$H$34:$BW$37,2,FALSE)),\"\")","v":""},null,null,null,null,null,null,null,null,null,null,null,null,null,null,null,null,null,null,null,null,null,null,null,null,null,"1","2"]
[null,{"$f":"IFERROR(IF(A214=\"\",\"\",VLOOKUP(A214,'Lista Narkotyki Wet'!$A$2:$B$69,2,FALSE)),\"\")","v":""},{"$f":"IFERROR(IF(A214=\"\",\"\",HLOOKUP(A214,'Lista Narkotyki Wet'!$H$34:$BW$37,2,FALSE)),\"\")","v":""},null,null,null,null,null,null,null,null,null,null,null,null,null,null,null,null,null,null,null,null,null,null,null,null,null,"1","2"]
[null,{"$f":"IFERROR(IF(A215=\"\",\"\",VLOOKUP(A215,'Lista Narkotyki Wet'!$A$2:$B$69,2,FALSE)),\"\")","v":""},{"$f":"IFERROR(IF(A215=\"\",\"\",HLOOKUP(A215,'Lista Narkotyki Wet'!$H$34:$BW$37,2,FALSE)),\"\")","v":""},null,null,null,null,null,null,null,null,null,null,null,null,null,null,null,null,null,null,null,null,null,null,null,null,null,"1","2"]
[null,{"$f":"IFERROR(IF(A216=\"\",\"\",VLOOKUP(A216,'Lista Narkotyki Wet'!$A$2:$B$69,2,FALSE)),\"\")","v":""},{"$f":"IFERROR(IF(A216=\"\",\"\",HLOOKUP(A216,'Lista Narkotyki Wet'!$H$34:$BW$37,2,FALSE)),\"\")","v":""},null,null,null,null,null,null,null,null,null,null,null,null,null,null,null,null,null,null,null,null,null,null,null,null,null,"1","2"]
[null,{"$f":"IFERROR(IF(A217=\"\",\"\",VLOOKUP(A217,'Lista Narkotyki Wet'!$A$2:$B$69,2,FALSE)),\"\")","v":""},{"$f":"IFERROR(IF(A217=\"\",\"\",HLOOKUP(A217,'Lista Narkotyki Wet'!$H$34:$BW$37,2,FALSE)),\"\")","v":""},null,null,null,null,null,null,null,null,null,null,null,null,null,null,null,null,null,null,null,null,null,null,null,null,null,"1","2"]
[null,{"$f":"IFERROR(IF(A218=\"\",\"\",VLOOKUP(A218,'Lista Narkotyki Wet'!$A$2:$B$69,2,FALSE)),\"\")","v":""},{"$f":"IFERROR(IF(A218=\"\",\"\",HLOOKUP(A218,'Lista Narkotyki Wet'!$H$34:$BW$37,2,FALSE)),\"\")","v":""},null,null,null,null,null,null,null,null,null,null,null,null,null,null,null,null,null,null,null,null,null,null,null,null,null,"1","2"]
[null,{"$f":"IFERROR(IF(A219=\"\",\"\",VLOOKUP(A219,'Lista Narkotyki Wet'!$A$2:$B$69,2,FALSE)),\"\")","v":""},{"$f":"IFERROR(IF(A219=\"\",\"\",HLOOKUP(A219,'Lista Narkotyki Wet'!$H$34:$BW$37,2,FALSE)),\"\")","v":""},null,null,null,null,null,null,null,null,null,null,null,null,null,null,null,null,null,null,null,null,null,null,null,null,null,"1","2"]
[null,{"$f":"IFERROR(IF(A220=\"\",\"\",VLOOKUP(A220,'Lista Narkotyki Wet'!$A$2:$B$69,2,FALSE)),\"\")","v":""},{"$f":"IFERROR(IF(A220=\"\",\"\",HLOOKUP(A220,'Lista Narkotyki Wet'!$H$34:$BW$37,2,FALSE)),\"\")","v":""},null,null,null,null,null,null,null,null,null,null,null,null,null,null,null,null,null,null,null,null,null,null,null,null,null,"1","2"]
[null,{"$f":"IFERROR(IF(A221=\"\",\"\",VLOOKUP(A221,'Lista Narkotyki Wet'!$A$2:$B$69,2,FALSE)),\"\")","v":""},{"$f":"IFERROR(IF(A221=\"\",\"\",HLOOKUP(A221,'Lista Narkotyki Wet'!$H$34:$BW$37,2,FALSE)),\"\")","v":""},null,null,null,null,null,null,null,null,null,null,null,null,null,null,null,null,null,null,null,null,null,null,null,null,null,"1","2"]
[null,{"$f":"IFERROR(IF(A222=\"\",\"\",VLOOKUP(A222,'Lista Narkotyki Wet'!$A$2:$B$69,2,FALSE)),\"\")","v":""},{"$f":"IFERROR(IF(A222=\"\",\"\",HLOOKUP(A222,'Lista Narkotyki Wet'!$H$34:$BW$37,2,FALSE)),\"\")","v":""},null,null,null,null,null,null,null,null,null,null,null,null,null,null,null,null,null,null,null,null,null,null,null,null,null,"1","2"]
[null,{"$f":"IFERROR(IF(A223=\"\",\"\",VLOOKUP(A223,'Lista Narkotyki Wet'!$A$2:$B$69,2,FALSE)),\"\")","v":""},{"$f":"IFERROR(IF(A223=\"\",\"\",HLOOKUP(A223,'Lista Narkotyki Wet'!$H$34:$BW$37,2,FALSE)),\"\")","v":""},null,null,null,null,null,null,null,null,null,null,null,null,null,null,null,null,null,null,null,null,null,null,null,null,null,"1","2"]
[null,{"$f":"IFERROR(IF(A224=\"\",\"\",VLOOKUP(A224,'Lista Narkotyki Wet'!$A$2:$B$69,2,FALSE)),\"\")","v":""},{"$f":"IFERROR(IF(A224=\"\",\"\",HLOOKUP(A224,'Lista Narkotyki Wet'!$H$34:$BW$37,2,FALSE)),\"\")","v":""},null,null,null,null,null,null,null,null,null,null,null,null,null,null,null,null,null,null,null,null,null,null,null,null,null,"1","2"]
[null,{"$f":"IFERROR(IF(A225=\"\",\"\",VLOOKUP(A225,'Lista Narkotyki Wet'!$A$2:$B$69,2,FALSE)),\"\")","v":""},{"$f":"IFERROR(IF(A225=\"\",\"\",HLOOKUP(A225,'Lista Narkotyki Wet'!$H$34:$BW$37,2,FALSE)),\"\")","v":""},null,null,null,null,null,null,null,null,null,null,null,null,null,null,null,null,null,null,null,null,null,null,null,null,null,"1","2"]
[null,{"$f":"IFERROR(IF(A226=\"\",\"\",VLOOKUP(A226,'Lista Narkotyki Wet'!$A$2:$B$69,2,FALSE)),\"\")","v":""},{"$f":"IFERROR(IF(A226=\"\",\"\",HLOOKUP(A226,'Lista Narkotyki Wet'!$H$34:$BW$37,2,FALSE)),\"\")","v":""},null,null,null,null,null,null,null,null,null,null,null,null,null,null,null,null,null,null,null,null,null,null,null,null,null,"1","2"]
[null,{"$f":"IFERROR(IF(A227=\"\",\"\",VLOOKUP(A227,'Lista Narkotyki Wet'!$A$2:$B$69,2,FALSE)),\"\")","v":""},{"$f":"IFERROR(IF(A227=\"\",\"\",HLOOKUP(A227,'Lista Narkotyki Wet'!$H$34:$BW$37,2,FALSE)),\"\")","v":""},null,null,null,null,null,null,null,null,null,null,null,null,null,null,null,null,null,null,null,null,null,null,null,null,null,"1","2"]
[null,{"$f":"IFERROR(IF(A228=\"\",\"\",VLOOKUP(A228,'Lista Narkotyki Wet'!$A$2:$B$69,2,FALSE)),\"\")","v":""},{"$f":"IFERROR(IF(A228=\"\",\"\",HLOOKUP(A228,'Lista Narkotyki Wet'!$H$34:$BW$37,2,FALSE)),\"\")","v":""},null,null,null,null,null,null,null,null,null,null,null,null,null,null,null,null,null,null,null,null,null,null,null,null,null,"1","2"]
[null,{"$f":"IFERROR(IF(A229=\"\",\"\",VLOOKUP(A229,'Lista Narkotyki Wet'!$A$2:$B$69,2,FALSE)),\"\")","v":""},{"$f":"IFERROR(IF(A229=\"\",\"\",HLOOKUP(A229,'Lista Narkotyki Wet'!$H$34:$BW$37,2,FALSE)),\"\")","v":""},null,null,null,null,null,null,null,null,null,null,null,null,null,null,null,null,null,null,null,null,null,null,null,null,null,"1","2"]
[null,{"$f":"IFERROR(IF(A230=\"\",\"\",VLOOKUP(A230,'Lista Narkotyki Wet'!$A$2:$B$69,2,FALSE)),\"\")","v":""},{"$f":"IFERROR(IF(A230=\"\",\"\",HLOOKUP(A230,'Lista Narkotyki Wet'!$H$34:$BW$37,2,FALSE)),\"\")","v":""},null,null,null,null,null,null,null,null,null,null,null,null,null,null,null,null,null,null,null,null,null,null,null,null,null,"1","2"]
[null,{"$f":"IFERROR(IF(A231=\"\",\"\",VLOOKUP(A231,'Lista Narkotyki Wet'!$A$2:$B$69,2,FALSE)),\"\")","v":""},{"$f":"IFERROR(IF(A231=\"\",\"\",HLOOKUP(A231,'Lista Narkotyki Wet'!$H$34:$BW$37,2,FALSE)),\"\")","v":""},null,null,null,null,null,null,null,null,null,null,null,null,null,null,null,null,null,null,null,null,null,null,null,null,null,"1","2"]
[null,{"$f":"IFERROR(IF(A232=\"\",\"\",VLOOKUP(A232,'Lista Narkotyki Wet'!$A$2:$B$69,2,FALSE)),\"\")","v":""},{"$f":"IFERROR(IF(A232=\"\",\"\",HLOOKUP(A232,'Lista Narkotyki Wet'!$H$34:$BW$37,2,FALSE)),\"\")","v":""},null,null,null,null,null,null,null,null,null,null,null,null,null,null,null,null,null,null,null,null,null,null,null,null,null,"1","2"]
[null,{"$f":"IFERROR(IF(A233=\"\",\"\",VLOOKUP(A233,'Lista Narkotyki Wet'!$A$2:$B$69,2,FALSE)),\"\")","v":""},{"$f":"IFERROR(IF(A233=\"\",\"\",HLOOKUP(A233,'Lista Narkotyki Wet'!$H$34:$BW$37,2,FALSE)),\"\")","v":""},null,null,null,null,null,null,null,null,null,null,null,null,null,null,null,null,null,null,null,null,null,null,null,null,null,"1","2"]
[null,{"$f":"IFERROR(IF(A234=\"\",\"\",VLOOKUP(A234,'Lista Narkotyki Wet'!$A$2:$B$69,2,FALSE)),\"\")","v":""},{"$f":"IFERROR(IF(A234=\"\",\"\",HLOOKUP(A234,'Lista Narkotyki Wet'!$H$34:$BW$37,2,FALSE)),\"\")","v":""},null,null,null,null,null,null,null,null,null,null,null,null,null,null,null,null,null,null,null,null,null,null,null,null,null,"1","2"]
[null,{"$f":"IFERROR(IF(A235=\"\",\"\",VLOOKUP(A235,'Lista Narkotyki Wet'!$A$2:$B$69,2,FALSE)),\"\")","v":""},{"$f":"IFERROR(IF(A235=\"\",\"\",HLOOKUP(A235,'Lista Narkotyki Wet'!$H$34:$BW$37,2,FALSE)),\"\")","v":""},null,null,null,null,null,null,null,null,null,null,null,null,null,null,null,null,null,null,null,null,null,null,null,null,null,"1","2"]
[null,{"$f":"IFERROR(IF(A236=\"\",\"\",VLOOKUP(A236,'Lista Narkotyki Wet'!$A$2:$B$69,2,FALSE)),\"\")","v":""},{"$f":"IFERROR(IF(A236=\"\",\"\",HLOOKUP(A236,'Lista Narkotyki Wet'!$H$34:$BW$37,2,FALSE)),\"\")","v":""},null,null,null,null,null,null,null,null,null,null,null,null,null,null,null,null,null,null,null,null,null,null,null,null,null,"1","2"]
[null,{"$f":"IFERROR(IF(A237=\"\",\"\",VLOOKUP(A237,'Lista Narkotyki Wet'!$A$2:$B$69,2,FALSE)),\"\")","v":""},{"$f":"IFERROR(IF(A237=\"\",\"\",HLOOKUP(A237,'Lista Narkotyki Wet'!$H$34:$BW$37,2,FALSE)),\"\")","v":""},null,null,null,null,null,null,null,null,null,null,null,null,null,null,null,null,null,null,null,null,null,null,null,null,null,"1","2"]
[null,{"$f":"IFERROR(IF(A238=\"\",\"\",VLOOKUP(A238,'Lista Narkotyki Wet'!$A$2:$B$69,2,FALSE)),\"\")","v":""},{"$f":"IFERROR(IF(A238=\"\",\"\",HLOOKUP(A238,'Lista Narkotyki Wet'!$H$34:$BW$37,2,FALSE)),\"\")","v":""},null,null,null,null,null,null,null,null,null,null,null,null,null,null,null,null,null,null,null,null,null,null,null,null,null,"1","2"]
[null,{"$f":"IFERROR(IF(A239=\"\",\"\",VLOOKUP(A239,'Lista Narkotyki Wet'!$A$2:$B$69,2,FALSE)),\"\")","v":""},{"$f":"IFERROR(IF(A239=\"\",\"\",HLOOKUP(A239,'Lista Narkotyki Wet'!$H$34:$BW$37,2,FALSE)),\"\")","v":""},null,null,null,null,null,null,null,null,null,null,null,null,null,null,null,null,null,null,null,null,null,null,null,null,null,"1","2"]
[null,{"$f":"IFERROR(IF(A240=\"\",\"\",VLOOKUP(A240,'Lista Narkotyki Wet'!$A$2:$B$69,2,FALSE)),\"\")","v":""},{"$f":"IFERROR(IF(A240=\"\",\"\",HLOOKUP(A240,'Lista Narkotyki Wet'!$H$34:$BW$37,2,FALSE)),\"\")","v":""},null,null,null,null,null,null,null,null,null,null,null,null,null,null,null,null,null,null,null,null,null,null,null,null,null,"1","2"]
[null,{"$f":"IFERROR(IF(A241=\"\",\"\",VLOOKUP(A241,'Lista Narkotyki Wet'!$A$2:$B$69,2,FALSE)),\"\")","v":""},{"$f":"IFERROR(IF(A241=\"\",\"\",HLOOKUP(A241,'Lista Narkotyki Wet'!$H$34:$BW$37,2,FALSE)),\"\")","v":""},null,null,null,null,null,null,null,null,null,null,null,null,null,null,null,null,null,null,null,null,null,null,null,null,null,"1","2"]
[null,{"$f":"IFERROR(IF(A242=\"\",\"\",VLOOKUP(A242,'Lista Narkotyki Wet'!$A$2:$B$69,2,FALSE)),\"\")","v":""},{"$f":"IFERROR(IF(A242=\"\",\"\",HLOOKUP(A242,'Lista Narkotyki Wet'!$H$34:$BW$37,2,FALSE)),\"\")","v":""},null,null,null,null,null,null,null,null,null,null,null,null,null,null,null,null,null,null,null,null,null,null,null,null,null,"1","2"]
[null,{"$f":"IFERROR(IF(A243=\"\",\"\",VLOOKUP(A243,'Lista Narkotyki Wet'!$A$2:$B$69,2,FALSE)),\"\")","v":""},{"$f":"IFERROR(IF(A243=\"\",\"\",HLOOKUP(A243,'Lista Narkotyki Wet'!$H$34:$BW$37,2,FALSE)),\"\")","v":""},null,null,null,null,null,null,null,null,null,null,null,null,null,null,null,null,null,null,null,null,null,null,null,null,null,"1","2"]
[null,{"$f":"IFERROR(IF(A244=\"\",\"\",VLOOKUP(A244,'Lista Narkotyki Wet'!$A$2:$B$69,2,FALSE)),\"\")","v":""},{"$f":"IFERROR(IF(A244=\"\",\"\",HLOOKUP(A244,'Lista Narkotyki Wet'!$H$34:$BW$37,2,FALSE)),\"\")","v":""},null,null,null,null,null,null,null,null,null,null,null,null,null,null,null,null,null,null,null,null,null,null,null,null,null,"1","2"]
[null,{"$f":"IFERROR(IF(A245=\"\",\"\",VLOOKUP(A245,'Lista Narkotyki Wet'!$A$2:$B$69,2,FALSE)),\"\")","v":""},{"$f":"IFERROR(IF(A245=\"\",\"\",HLOOKUP(A245,'Lista Narkotyki Wet'!$H$34:$BW$37,2,FALSE)),\"\")","v":""},null,null,null,null,null,null,null,null,null,null,null,null,null,null,null,null,null,null,null,null,null,null,null,null,null,"1","2"]
[null,{"$f":"IFERROR(IF(A246=\"\",\"\",VLOOKUP(A246,'Lista Narkotyki Wet'!$A$2:$B$69,2,FALSE)),\"\")","v":""},{"$f":"IFERROR(IF(A246=\"\",\"\",HLOOKUP(A246,'Lista Narkotyki Wet'!$H$34:$BW$37,2,FALSE)),\"\")","v":""},null,null,null,null,null,null,null,null,null,null,null,null,null,null,null,null,null,null,null,null,null,null,null,null,null,"1","2"]
[null,{"$f":"IFERROR(IF(A247=\"\",\"\",VLOOKUP(A247,'Lista Narkotyki Wet'!$A$2:$B$69,2,FALSE)),\"\")","v":""},{"$f":"IFERROR(IF(A247=\"\",\"\",HLOOKUP(A247,'Lista Narkotyki Wet'!$H$34:$BW$37,2,FALSE)),\"\")","v":""},null,null,null,null,null,null,null,null,null,null,null,null,null,null,null,null,null,null,null,null,null,null,null,null,null,"1","2"]
[null,{"$f":"IFERROR(IF(A248=\"\",\"\",VLOOKUP(A248,'Lista Narkotyki Wet'!$A$2:$B$69,2,FALSE)),\"\")","v":""},{"$f":"IFERROR(IF(A248=\"\",\"\",HLOOKUP(A248,'Lista Narkotyki Wet'!$H$34:$BW$37,2,FALSE)),\"\")","v":""},null,null,null,null,null,null,null,null,null,null,null,null,null,null,null,null,null,null,null,null,null,null,null,null,null,{"$f":"A248&1","v":"1"},{"$f":"A248&2","v":"2"}]
[null,{"$f":"IFERROR(IF(A249=\"\",\"\",VLOOKUP(A249,'Lista Narkotyki Wet'!$A$2:$B$69,2,FALSE)),\"\")","v":""},{"$f":"IFERROR(IF(A249=\"\",\"\",HLOOKUP(A249,'Lista Narkotyki Wet'!$H$34:$BW$37,2,FALSE)),\"\")","v":""},null,null,null,null,null,null,null,null,null,null,null,null,null,null,null,null,null,null,null,null,null,null,null,null,null,{"$f":"A249&1","v":"1"},{"$f":"A249&2","v":"2"}]
[null,{"$f":"IFERROR(IF(A250=\"\",\"\",VLOOKUP(A250,'Lista Narkotyki Wet'!$A$2:$B$69,2,FALSE)),\"\")","v":""},{"$f":"IFERROR(IF(A250=\"\",\"\",HLOOKUP(A250,'Lista Narkotyki Wet'!$H$34:$BW$37,2,FALSE)),\"\")","v":""},null,null,null,null,null,null,null,null,null,null,null,null,null,null,null,null,null,null,null,null,null,null,null,null,null,{"$f":"A250&1","v":"1"},{"$f":"A250&2","v":"2"}]

{"sheet":"Odurzajace Hurt","index":30,"n_rows":250,"n_cols":30,"rows_kept":250,"cut":false,"hidden":true,"merged":[[4,0,5,15],[6,5,8,5],[6,15,8,15],[7,6,7,7],[7,8,8,8],[6,6,6,8],[6,9,6,13],[7,13,8,13],[6,14,8,14],[7,9,7,12],[6,0,6,4],[7,0,8,0],[7,1,8,1],[7,2,8,2],[7,3,8,3],[7,4,8,4]]}
[]
[]
[]
[]
["Roczne sprawozdanie z obrotu środkami odurzającymi"]
[]
["Informacje o produkcie",null,null,null,null,"Stan na dzień 01.01 okresu sprawozdawczego","Przychód",null,null,"Rozchód",null,null,null,null,"Utylizacja","Stan na dzień 31.12 okresu sprawozdawczego"]
["Nazwa handlowa produktu","Substancja czynna","Forma farmaceutyczna","Dawka jednostkowa w mg","Wielkość opakowania",null,"Ilość opakowań nabyta w kraju",null,"Wewnątrzwspólnotowe nabycie/przywóz","Ilość opakowań sprzedana w kraju",null,null,null,"Wewnątrzwspólnotowa dostawa/wywóz"]
[null,null,null,null,null,"Stan na dzień 01.01.2022","Ilość opakowań nabyta od wytwórców","Ilość opakowań nabyta od hurtowni",null,"Ilość opakowań sprzedana do obrotu detalicznego","Ilość opakowań sprzedana do hurtowni","Ilość opakowań sprzedana do instytucji medycznych","Inna sprzedaż krajowa",null,null,"Stan na dzień 31.12.2022"]
[null,{"$f":"IFERROR(IF(A10=\"\",\"\",VLOOKUP(A10,'Lista Narkotyki'!$A$2:$B$60,2,FALSE)),\"\")","v":""},{"$f":"IFERROR(IF(A10=\"\",\"\",HLOOKUP(A10,'Lista Narkotyki'!$H$34:$BN$37,2,FALSE)),\"\")","v":""},{"$f":"IFERROR(IF(A10=\"\",\"\",HLOOKUP(A10,'Lista Narkotyki'!$H$1:$BN$7,2,FALSE)),\"\")","v":""},{"$f":"IFERROR(IF(A10=\"\",\"\",HLOOKUP(A10,'Lista Narkotyki'!$H$13:$BN$18,2,FALSE)),\"\")","v":""},null,null,null,null,null,null,null,null,null,null,null,null,null,null,null,null,null,null,null,null,null,null,null,{"$f":"A10&1","v":"1"},{"$f":"A10&2","v":"2"}]
[null,{"$f":"IFERROR(IF(A11=\"\",\"\",VLOOKUP(A11,'Lista Narkotyki'!$A$2:$B$60,2,FALSE)),\"\")","v":""},{"$f":"IFERROR(IF(A11=\"\",\"\",HLOOKUP(A11,'Lista Narkotyki'!$H$34:$BN$37,2,FALSE)),\"\")","v":""},{"$f":"IFERROR(IF(A11=\"\",\"\",HLOOKUP(A11,'Lista Narkotyki'!$H$1:$BN$7,2,FALSE)),\"\")","v":""},{"$f":"IFERROR(IF(A11=\"\",\"\",HLOOKUP(A11,'Lista Narkotyki'!$H$13:$BN$18,2,FALSE)),\"\")","v":""},null,null,null,null,null,null,null,null,null,null,null,null,null,null,null,null,null,null,null,null,null,null,null,{"$f":"A11&1","v":"1"},{"$f":"A11&2","v":"2"}]
[null,{"$f":"IFERROR(IF(A12=\"\",\"\",VLOOKUP(A12,'Lista Narkotyki'!$A$2:$B$60,2,FALSE)),\"\")","v":""},{"$f":"IFERROR(IF(A12=\"\",\"\",HLOOKUP(A12,'Lista Narkotyki'!$H$34:$BN$37,2,FALSE)),\"\")","v":""},{"$f":"IFERROR(IF(A12=\"\",\"\",HLOOKUP(A12,'Lista Narkotyki'!$H$1:$BN$7,2,FALSE)),\"\")","v":""},{"$f":"IFERROR(IF(A12=\"\",\"\",HLOOKUP(A12,'Lista Narkotyki'!$H$13:$BN$18,2,FALSE)),\"\")","v":""},null,null,null,null,null,null,null,null,null,null,null,null,null,null,null,null,null,null,null,null,null,null,null,"1","2"]
[null,{"$f":"IFERROR(IF(A13=\"\",\"\",VLOOKUP(A13,'Lista Narkotyki'!$A$2:$B$60,2,FALSE)),\"\")","v":""},{"$f":"IFERROR(IF(A13=\"\",\"\",HLOOKUP(A13,'Lista Narkotyki'!$H$34:$BN$37,2,FALSE)),\"\")","v":""},{"$f":"IFERROR(IF(A13=\"\",\"\",HLOOKUP(A13,'Lista Narkotyki'!$H$1:$BN$7,2,FALSE)),\"\")","v":""},{"$f":"IFERROR(IF(A13=\"\",\"\",HLOOKUP(A13,'Lista Narkotyki'!$H$13:$BN$18,2,FALSE)),\"\")","v":""},null,null,null,null,null,null,null,null,null,null,null,null,null,null,null,null,null,null,null,null,null,null,null,"1","2"]
[null,{"$f":"IFERROR(IF(A14=\"\",\"\",VLOOKUP(A14,'Lista Narkotyki'!$A$2:$B$60,2,FALSE)),\"\")","v":""},{"$f":"IFERROR(IF(A14=\"\",\"\",HLOOKUP(A14,'Lista Narkotyki'!$H$34:$BN$37,2,FALSE)),\"\")","v":""},{"$f":"IFERROR(IF(A14=\"\",\"\",HLOOKUP(A14,'Lista Narkotyki'!$H$1:$BN$7,2,FALSE)),\"\")","v":""},{"$f":"IFERROR(IF(A14=\"\",\"\",HLOOKUP(A14,'Lista Narkotyki'!$H$13:$BN$18,2,FALSE)),\"\")","v":""},null,null,null,null,null,null,null,null,null,null,null,null,null,null,null,null,null,null,null,null,null,null,null,"1","2"]
[null,{"$f":"IFERROR(IF(A15=\"\",\"\",VLOOKUP(A15,'Lista Narkotyki'!$A$2:$B$60,2,FALSE)),\"\")","v":""},{"$f":"IFERROR(IF(A15=\"\",\"\",HLOOKUP(A15,'Lista Narkotyki'!$H$34:$BN$37,2,FALSE)),\"\")","v":""},{"$f":"IFERROR(IF(A15=\"\",\"\",HLOOKUP(A15,'Lista Narkotyki'!$H$1:$BN$7,2,FALSE)),\"\")","v":""},{"$f":"IFERROR(IF(A15=\"\",\"\",HLOOKUP(A15,'Lista Narkotyki'!$H$13:$BN$18,2,FALSE)),\"\")","v":""},null,null,null,null,null,null,null,null,null,null,null,null,null,null,null,null,null,null,null,null,null,null,null,"1","2"]
[null,{"$f":"IFERROR(IF(A16=\"\",\"\",VLOOKUP(A16,'Lista Narkotyki'!$A$2:$B$60,2,FALSE)),\"\")","v":""},{"$f":"IFERROR(IF(A16=\"\",\"\",HLOOKUP(A16,'Lista Narkotyki'!$H$34:$BN$37,2,FALSE)),\"\")","v":""},{"$f":"IFERROR(IF(A16=\"\",\"\",HLOOKUP(A16,'Lista Narkotyki'!$H$1:$BN$7,2,FALSE)),\"\")","v":""},{"$f":"IFERROR(IF(A16=\"\",\"\",HLOOKUP(A16,'Lista Narkotyki'!$H$13:$BN$18,2,FALSE)),\"\")","v":""},null,null,null,null,null,null,null,null,null,null,null,null,null,null,null,null,null,null,null,null,null,null,null,"1","2"]
[null,{"$f":"IFERROR(IF(A17=\"\",\"\",VLOOKUP(A17,'Lista Narkotyki'!$A$2:$B$60,2,FALSE)),\"\")","v":""},{"$f":"IFERROR(IF(A17=\"\",\"\",HLOOKUP(A17,'Lista Narkotyki'!$H$34:$BN$37,2,FALSE)),\"\")","v":""},{"$f":"IFERROR(IF(A17=\"\",\"\",HLOOKUP(A17,'Lista Narkotyki'!$H$1:$BN$7,2,FALSE)),\"\")","v":""},{"$f":"IFERROR(IF(A17=\"\",\"\",HLOOKUP(A17,'Lista Narkotyki'!$H$13:$BN$18,2,FALSE)),\"\")","v":""},null,null,null,null,null,null,null,null,null,null,null,null,null,null,null,null,null,null,null,null,null,null,null,"1","2"]
[null,{"$f":"IFERROR(IF(A18=\"\",\"\",VLOOKUP(A18,'Lista Narkotyki'!$A$2:$B$60,2,FALSE)),\"\")","v":""},{"$f":"IFERROR(IF(A18=\"\",\"\",HLOOKUP(A18,'Lista Narkotyki'!$H$34:$BN$37,2,FALSE)),\"\")","v":""},{"$f":"IFERROR(IF(A18=\"\",\"\",HLOOKUP(A18,'Lista Narkotyki'!$H$1:$BN$7,2,FALSE)),\"\")","v":""},{"$f":"IFERROR(IF(A18=\"\",\"\",HLOOKUP(A18,'Lista Narkotyki'!$H$13:$BN$18,2,FALSE)),\"\")","v":""},null,null,null,null,null,null,null,null,null,null,null,null,null,null,null,null,null,null,null,null,null,null,null,"1","2"]
[null,{"$f":"IFERROR(IF(A19=\"\",\"\",VLOOKUP(A19,'Lista Narkotyki'!$A$2:$B$60,2,FALSE)),\"\")","v":""},{"$f":"IFERROR(IF(A19=\"\",\"\",HLOOKUP(A19,'Lista Narkotyki'!$H$34:$BN$37,2,FALSE)),\"\")","v":""},{"$f":"IFERROR(IF(A19=\"\",\"\",HLOOKUP(A19,'Lista Narkotyki'!$H$1:$BN$7,2,FALSE)),\"\")","v":""},{"$f":"IFERROR(IF(A19=\"\",\"\",HLOOKUP(A19,'Lista Narkotyki'!$H$13:$BN$18,2,FALSE)),\"\")","v":""},null,null,null,null,null,null,null,null,null,null,null,null,null,null,null,null,null,null,null,null,null,null,null,"1","2"]
[null,{"$f":"IFERROR(IF(A20=\"\",\"\",VLOOKUP(A20,'Lista Narkotyki'!$A$2:$B$60,2,FALSE)),\"\")","v":""},{"$f":"IFERROR(IF(A20=\"\",\"\",HLOOKUP(A20,'Lista Narkotyki'!$H$34:$BN$37,2,FALSE)),\"\")","v":""},{"$f":"IFERROR(IF(A20=\"\",\"\",HLOOKUP(A20,'Lista Narkotyki'!$H$1:$BN$7,2,FALSE)),\"\")","v":""},{"$f":"IFERROR(IF(A20=\"\",\"\",HLOOKUP(A20,'Lista Narkotyki'!$H$13:$BN$18,2,FALSE)),\"\")","v":""},null,null,null,null,null,null,null,null,null,null,null,null,null,null,null,null,null,null,null,null,null,null,null,"1","2"]
[null,{"$f":"IFERROR(IF(A21=\"\",\"\",VLOOKUP(A21,'Lista Narkotyki'!$A$2:$B$60,2,FALSE)),\"\")","v":""},{"$f":"IFERROR(IF(A21=\"\",\"\",HLOOKUP(A21,'Lista Narkotyki'!$H$34:$BN$37,2,FALSE)),\"\")","v":""},{"$f":"IFERROR(IF(A21=\"\",\"\",HLOOKUP(A21,'Lista Narkotyki'!$H$1:$BN$7,2,FALSE)),\"\")","v":""},{"$f":"IFERROR(IF(A21=\"\",\"\",HLOOKUP(A21,'Lista Narkotyki'!$H$13:$BN$18,2,FALSE)),\"\")","v":""},null,null,null,null,null,null,null,null,null,null,null,null,null,null,null,null,null,null,null,null,null,null,null,"1","2"]
[null,{"$f":"IFERROR(IF(A22=\"\",\"\",VLOOKUP(A22,'Lista Narkotyki'!$A$2:$B$60,2,FALSE)),\"\")","v":""},{"$f":"IFERROR(IF(A22=\"\",\"\",HLOOKUP(A22,'Lista Narkotyki'!$H$34:$BN$37,2,FALSE)),\"\")","v":""},{"$f":"IFERROR(IF(A22=\"\",\"\",HLOOKUP(A22,'Lista Narkotyki'!$H$1:$BN$7,2,FALSE)),\"\")","v":""},{"$f":"IFERROR(IF(A22=\"\",\"\",HLOOKUP(A22,'Lista Narkotyki'!$H$13:$BN$18,2,FALSE)),\"\")","v":""},null,null,null,null,null,null,null,null,null,null,null,null,null,null,null,null,null,null,null,null,null,null,null,"1","2"]
[null,{"$f":"IFERROR(IF(A23=\"\",\"\",VLOOKUP(A23,'Lista Narkotyki'!$A$2:$B$60,2,FALSE)),\"\")","v":""},{"$f":"IFERROR(IF(A23=\"\",\"\",HLOOKUP(A23,'Lista Narkotyki'!$H$34:$BN$37,2,FALSE)),\"\")","v":""},{"$f":"IFERROR(IF(A23=\"\",\"\",HLOOKUP(A23,'Lista Narkotyki'!$H$1:$BN$7,2,FALSE)),\"\")","v":""},{"$f":"IFERROR(IF(A23=\"\",\"\",HLOOKUP(A23,'Lista Narkotyki'!$H$13:$BN$18,2,FALSE)),\"\")","v":""},null,null,null,null,null,null,null,null,null,null,null,null,null,null,null,null,null,null,null,null,null,null,null,"1","2"]
[null,{"$f":"IFERROR(IF(A24=\"\",\"\",VLOOKUP(A24,'Lista Narkotyki'!$A$2:$B$60,2,FALSE)),\"\")","v":""},{"$f":"IFERROR(IF(A24=\"\",\"\",HLOOKUP(A24,'Lista Narkotyki'!$H$34:$BN$37,2,FALSE)),\"\")","v":""},{"$f":"IFERROR(IF(A24=\"\",\"\",HLOOKUP(A24,'Lista Narkotyki'!$H$1:$BN$7,2,FALSE)),\"\")","v":""},{"$f":"IFERROR(IF(A24=\"\",\"\",HLOOKUP(A24,'Lista Narkotyki'!$H$13:$BN$18,2,FALSE)),\"\")","v":""},null,null,null,null,null,null,null,null,null,null,null,null,null,null,null,null,null,null,null,null,null,null,null,"1","2"]
[null,{"$f":"IFERROR(IF(A25=\"\",\"\",VLOOKUP(A25,'Lista Narkotyki'!$A$2:$B$60,2,FALSE)),\"\")","v":""},{"$f":"IFERROR(IF(A25=\"\",\"\",HLOOKUP(A25,'Lista Narkotyki'!$H$34:$BN$37,2,FALSE)),\"\")","v":""},{"$f":"IFERROR(IF(A25=\"\",\"\",HLOOKUP(A25,'Lista Narkotyki'!$H$1:$BN$7,2,FALSE)),\"\")","v":""},{"$f":"IFERROR(IF(A25=\"\",\"\",HLOOKUP(A25,'Lista Narkotyki'!$H$13:$BN$18,2,FALSE)),\"\")","v":""},null,null,null,null,null,null,null,null,null,null,null,null,null,null,null,null,null,null,null,null,null,null,null,"1","2"]
[null,{"$f":"IFERROR(IF(A26=\"\",\"\",VLOOKUP(A26,'Lista Narkotyki'!$A$2:$B$60,2,FALSE)),\"\")","v":""},{"$f":"IFERROR(IF(A26=\"\",\"\",HLOOKUP(A26,'Lista Narkotyki'!$H$34:$BN$37,2,FALSE)),\"\")","v":""},{"$f":"IFERROR(IF(A26=\"\",\"\",HLOOKUP(A26,'Lista Narkotyki'!$H$1:$BN$7,2,FALSE)),\"\")","v":""},{"$f":"IFERROR(IF(A26=\"\",\"\",HLOOKUP(A26,'Lista Narkotyki'!$H$13:$BN$18,2,FALSE)),\"\")","v":""},null,null,null,null,null,null,null,null,null,null,null,null,null,null,null,null,null,null,null,null,null,null,null,"1","2"]
[null,{"$f":"IFERROR(IF(A27=\"\",\"\",VLOOKUP(A27,'Lista Narkotyki'!$A$2:$B$60,2,FALSE)),\"\")","v":""},{"$f":"IFERROR(IF(A27=\"\",\"\",HLOOKUP(A27,'Lista Narkotyki'!$H$34:$BN$37,2,FALSE)),\"\")","v":""},{"$f":"IFERROR(IF(A27=\"\",\"\",HLOOKUP(A27,'Lista Narkotyki'!$H$1:$BN$7,2,FALSE)),\"\")","v":""},{"$f":"IFERROR(IF(A27=\"\",\"\",HLOOKUP(A27,'Lista Narkotyki'!$H$13:$BN$18,2,FALSE)),\"\")","v":""},null,null,null,null,null,null,null,null,null,null,null,null,null,null,null,null,null,null,null,null,null,null,null,"1","2"]
[null,{"$f":"IFERROR(IF(A28=\"\",\"\",VLOOKUP(A28,'Lista Narkotyki'!$A$2:$B$60,2,FALSE)),\"\")","v":""},{"$f":"IFERROR(IF(A28=\"\",\"\",HLOOKUP(A28,'Lista Narkotyki'!$H$34:$BN$37,2,FALSE)),\"\")","v":""},{"$f":"IFERROR(IF(A28=\"\",\"\",HLOOKUP(A28,'Lista Narkotyki'!$H$1:$BN$7,2,FALSE)),\"\")","v":""},{"$f":"IFERROR(IF(A28=\"\",\"\",HLOOKUP(A28,'Lista Narkotyki'!$H$13:$BN$18,2,FALSE)),\"\")","v":""},null,null,null,null,null,null,null,null,null,null,null,null,null,null,null,null,null,null,null,null,null,null,null,"1","2"]
[null,{"$f":"IFERROR(IF(A29=\"\",\"\",VLOOKUP(A29,'Lista Narkotyki'!$A$2:$B$60,2,FALSE)),\"\")","v":""},{"$f":"IFERROR(IF(A29=\"\",\"\",HLOOKUP(A29,'Lista Narkotyki'!$H$34:$BN$37,2,FALSE)),\"\")","v":""},{"$f":"IFERROR(IF(A29=\"\",\"\",HLOOKUP(A29,'Lista Narkotyki'!$H$1:$BN$7,2,FALSE)),\"\")","v":""},{"$f":"IFERROR(IF(A29=\"\",\"\",HLOOKUP(A29,'Lista Narkotyki'!$H$13:$BN$18,2,FALSE)),\"\")","v":""},null,null,null,null,null,null,null,null,null,null,null,null,null,null,null,null,null,null,null,null,null,null,null,"1","2"]
[null,{"$f":"IFERROR(IF(A30=\"\",\"\",VLOOKUP(A30,'Lista Narkotyki'!$A$2:$B$60,2,FALSE)),\"\")","v":""},{"$f":"IFERROR(IF(A30=\"\",\"\",HLOOKUP(A30,'Lista Narkotyki'!$H$34:$BN$37,2,FALSE)),\"\")","v":""},{"$f":"IFERROR(IF(A30=\"\",\"\",HLOOKUP(A30,'Lista Narkotyki'!$H$1:$BN$7,2,FALSE)),\"\")","v":""},{"$f":"IFERROR(IF(A30=\"\",\"\",HLOOKUP(A30,'Lista Narkotyki'!$H$13:$BN$18,2,FALSE)),\"\")","v":""},null,null,null,null,null,null,null,null,null,null,null,null,null,null,null,null,null,null,null,null,null,null,null,"1","2"]
[null,{"$f":"IFERROR(IF(A31=\"\",\"\",VLOOKUP(A31,'Lista Narkotyki'!$A$2:$B$60,2,FALSE)),\"\")","v":""},{"$f":"IFERROR(IF(A31=\"\",\"\",HLOOKUP(A31,'Lista Narkotyki'!$H$34:$BN$37,2,FALSE)),\"\")","v":""},{"$f":"IFERROR(IF(A31=\"\",\"\",HLOOKUP(A31,'Lista Narkotyki'!$H$1:$BN$7,2,FALSE)),\"\")","v":""},{"$f":"IFERROR(IF(A31=\"\",\"\",HLOOKUP(A31,'Lista Narkotyki'!$H$13:$BN$18,2,FALSE)),\"\")","v":""},null,null,null,null,null,null,null,null,null,null,null,null,null,null,null,null,null,null,null,null,null,null,null,"1","2"]
[null,{"$f":"IFERROR(IF(A32=\"\",\"\",VLOOKUP(A32,'Lista Narkotyki'!$A$2:$B$60,2,FALSE)),\"\")","v":""},{"$f":"IFERROR(IF(A32=\"\",\"\",HLOOKUP(A32,'Lista Narkotyki'!$H$34:$BN$37,2,FALSE)),\"\")","v":""},{"$f":"IFERROR(IF(A32=\"\",\"\",HLOOKUP(A32,'Lista Narkotyki'!$H$1:$BN$7,2,FALSE)),\"\")","v":""},{"$f":"IFERROR(IF(A32=\"\",\"\",HLOOKUP(A32,'Lista Narkotyki'!$H$13:$BN$18,2,FALSE)),\"\")","v":""},null,null,null,null,null,null,null,null,null,null,null,null,null,null,null,null,null,null,null,null,null,null,null,"1","2"]
[null,{"$f":"IFERROR(IF(A33=\"\",\"\",VLOOKUP(A33,'Lista Narkotyki'!$A$2:$B$60,2,FALSE)),\"\")","v":""},{"$f":"IFERROR(IF(A33=\"\",\"\",HLOOKUP(A33,'Lista Narkotyki'!$H$34:$BN$37,2,FALSE)),\"\")","v":""},{"$f":"IFERROR(IF(A33=\"\",\"\",HLOOKUP(A33,'Lista Narkotyki'!$H$1:$BN$7,2,FALSE)),\"\")","v":""},{"$f":"IFERROR(IF(A33=\"\",\"\",HLOOKUP(A33,'Lista Narkotyki'!$H$13:$BN$18,2,FALSE)),\"\")","v":""},null,null,null,null,null,null,null,null,null,null,null,null,null,null,null,null,null,null,null,null,null,null,null,"1","2"]
[null,{"$f":"IFERROR(IF(A34=\"\",\"\",VLOOKUP(A34,'Lista Narkotyki'!$A$2:$B$60,2,FALSE)),\"\")","v":""},{"$f":"IFERROR(IF(A34=\"\",\"\",HLOOKUP(A34,'Lista Narkotyki'!$H$34:$BN$37,2,FALSE)),\"\")","v":""},{"$f":"IFERROR(IF(A34=\"\",\"\",HLOOKUP(A34,'Lista Narkotyki'!$H$1:$BN$7,2,FALSE)),\"\")","v":""},{"$f":"IFERROR(IF(A34=\"\",\"\",HLOOKUP(A34,'Lista Narkotyki'!$H$13:$BN$18,2,FALSE)),\"\")","v":""},null,null,null,null,null,null,null,null,null,null,null,null,null,null,null,null,null,null,null,null,null,null,null,"1","2"]
[null,{"$f":"IFERROR(IF(A35=\"\",\"\",VLOOKUP(A35,'Lista Narkotyki'!$A$2:$B$60,2,FALSE)),\"\")","v":""},{"$f":"IFERROR(IF(A35=\"\",\"\",HLOOKUP(A35,'Lista Narkotyki'!$H$34:$BN$37,2,FALSE)),\"\")","v":""},{"$f":"IFERROR(IF(A35=\"\",\"\",HLOOKUP(A35,'Lista Narkotyki'!$H$1:$BN$7,2,FALSE)),\"\")","v":""},{"$f":"IFERROR(IF(A35=\"\",\"\",HLOOKUP(A35,'Lista Narkotyki'!$H$13:$BN$18,2,FALSE)),\"\")","v":""},null,null,null,null,null,null,null,null,null,null,null,null,null,null,null,null,null,null,null,null,null,null,null,"1","2"]
[null,{"$f":"IFERROR(IF(A36=\"\",\"\",VLOOKUP(A36,'Lista Narkotyki'!$A$2:$B$60,2,FALSE)),\"\")","v":""},{"$f":"IFERROR(IF(A36=\"\",\"\",HLOOKUP(A36,'Lista Narkotyki'!$H$34:$BN$37,2,FALSE)),\"\")","v":""},{"$f":"IFERROR(IF(A36=\"\",\"\",HLOOKUP(A36,'Lista Narkotyki'!$H$1:$BN$7,2,FALSE)),\"\")","v":""},{"$f":"IFERROR(IF(A36=\"\",\"\",HLOOKUP(A36,'Lista Narkotyki'!$H$13:$BN$18,2,FALSE)),\"\")","v":""},null,null,null,null,null,null,null,null,null,null,null,null,null,null,null,null,null,null,null,null,null,null,null,"1","2"]
[null,{"$f":"IFERROR(IF(A37=\"\",\"\",VLOOKUP(A37,'Lista Narkotyki'!$A$2:$B$60,2,FALSE)),\"\")","v":""},{"$f":"IFERROR(IF(A37=\"\",\"\",HLOOKUP(A37,'Lista Narkotyki'!$H$34:$BN$37,2,FALSE)),\"\")","v":""},{"$f":"IFERROR(IF(A37=\"\",\"\",HLOOKUP(A37,'Lista Narkotyki'!$H$1:$BN$7,2,FALSE)),\"\")","v":""},{"$f":"IFERROR(IF(A37=\"\",\"\",HLOOKUP(A37,'Lista Narkotyki'!$H$13:$BN$18,2,FALSE)),\"\")","v":""},null,null,null,null,null,null,null,null,null,null,null,null,null,null,null,null,null,null,null,null,null,null,null,"1","2"]
[null,{"$f":"IFERROR(IF(A38=\"\",\"\",VLOOKUP(A38,'Lista Narkotyki'!$A$2:$B$60,2,FALSE)),\"\")","v":""},{"$f":"IFERROR(IF(A38=\"\",\"\",HLOOKUP(A38,'Lista Narkotyki'!$H$34:$BN$37,2,FALSE)),\"\")","v":""},{"$f":"IFERROR(IF(A38=\"\",\"\",HLOOKUP(A38,'Lista Narkotyki'!$H$1:$BN$7,2,FALSE)),\"\")","v":""},{"$f":"IFERROR(IF(A38=\"\",\"\",HLOOKUP(A38,'Lista Narkotyki'!$H$13:$BN$18,2,FALSE)),\"\")","v":""},null,null,null,null,null,null,null,null,null,null,null,null,null,null,null,null,null,null,null,null,null,null,null,"1","2"]
[null,{"$f":"IFERROR(IF(A39=\"\",\"\",VLOOKUP(A39,'Lista Narkotyki'!$A$2:$B$60,2,FALSE)),\"\")","v":""},{"$f":"IFERROR(IF(A39=\"\",\"\",HLOOKUP(A39,'Lista Narkotyki'!$H$34:$BN$37,2,FALSE)),\"\")","v":""},{"$f":"IFERROR(IF(A39=\"\",\"\",HLOOKUP(A39,'Lista Narkotyki'!$H$1:$BN$7,2,FALSE)),\"\")","v":""},{"$f":"IFERROR(IF(A39=\"\",\"\",HLOOKUP(A39,'Lista Narkotyki'!$H$13:$BN$18,2,FALSE)),\"\")","v":""},null,null,null,null,null,null,null,null,null,null,null,null,null,null,null,null,null,null,null,null,null,null,null,"1","2"]
[null,{"$f":"IFERROR(IF(A40=\"\",\"\",VLOOKUP(A40,'Lista Narkotyki'!$A$2:$B$60,2,FALSE)),\"\")","v":""},{"$f":"IFERROR(IF(A40=\"\",\"\",HLOOKUP(A40,'Lista Narkotyki'!$H$34:$BN$37,2,FALSE)),\"\")","v":""},{"$f":"IFERROR(IF(A40=\"\",\"\",HLOOKUP(A40,'Lista Narkotyki'!$H$1:$BN$7,2,FALSE)),\"\")","v":""},{"$f":"IFERROR(IF(A40=\"\",\"\",HLOOKUP(A40,'Lista Narkotyki'!$H$13:$BN$18,2,FALSE)),\"\")","v":""},null,null,null,null,null,null,null,null,null,null,null,null,null,null,null,null,null,null,null,null,null,null,null,"1","2"]
[null,{"$f":"IFERROR(IF(A41=\"\",\"\",VLOOKUP(A41,'Lista Narkotyki'!$A$2:$B$60,2,FALSE)),\"\")","v":""},{"$f":"IFERROR(IF(A41=\"\",\"\",HLOOKUP(A41,'Lista Narkotyki'!$H$34:$BN$37,2,FALSE)),\"\")","v":""},{"$f":"IFERROR(IF(A41=\"\",\"\",HLOOKUP(A41,'Lista Narkotyki'!$H$1:$BN$7,2,FALSE)),\"\")","v":""},{"$f":"IFERROR(IF(A41=\"\",\"\",HLOOKUP(A41,'Lista Narkotyki'!$H$13:$BN$18,2,FALSE)),\"\")","v":""},null,null,null,null,null,null,null,null,null,null,null,null,null,null,null,null,null,null,null,null,null,null,null,"1","2"]
[null,{"$f":"IFERROR(IF(A42=\"\",\"\",VLOOKUP(A42,'Lista Narkotyki'!$A$2:$B$60,2,FALSE)),\"\")","v":""},{"$f":"IFERROR(IF(A42=\"\",\"\",HLOOKUP(A42,'Lista Narkotyki'!$H$34:$BN$37,2,FALSE)),\"\")","v":""},{"$f":"IFERROR(IF(A42=\"\",\"\",HLOOKUP(A42,'Lista Narkotyki'!$H$1:$BN$7,2,FALSE)),\"\")","v":""},{"$f":"IFERROR(IF(A42=\"\",\"\",HLOOKUP(A42,'Lista Narkotyki'!$H$13:$BN$18,2,FALSE)),\"\")","v":""},null,null,null,null,null,null,null,null,null,null,null,null,null,null,null,null,null,null,null,null,null,null,null,"1","2"]
[null,{"$f":"IFERROR(IF(A43=\"\",\"\",VLOOKUP(A43,'Lista Narkotyki'!$A$2:$B$60,2,FALSE)),\"\")","v":""},{"$f":"IFERROR(IF(A43=\"\",\"\",HLOOKUP(A43,'Lista Narkotyki'!$H$34:$BN$37,2,FALSE)),\"\")","v":""},{"$f":"IFERROR(IF(A43=\"\",\"\",HLOOKUP(A43,'Lista Narkotyki'!$H$1:$BN$7,2,FALSE)),\"\")","v":""},{"$f":"IFERROR(IF(A43=\"\",\"\",HLOOKUP(A43,'Lista Narkotyki'!$H$13:$BN$18,2,FALSE)),\"\")","v":""},null,null,null,null,null,null,null,null,null,null,null,null,null,null,null,null,null,null,null,null,null,null,null,"1","2"]
[null,{"$f":"IFERROR(IF(A44=\"\",\"\",VLOOKUP(A44,'Lista Narkotyki'!$A$2:$B$60,2,FALSE)),\"\")","v":""},{"$f":"IFERROR(IF(A44=\"\",\"\",HLOOKUP(A44,'Lista Narkotyki'!$H$34:$BN$37,2,FALSE)),\"\")","v":""},{"$f":"IFERROR(IF(A44=\"\",\"\",HLOOKUP(A44,'Lista Narkotyki'!$H$1:$BN$7,2,FALSE)),\"\")","v":""},{"$f":"IFERROR(IF(A44=\"\",\"\",HLOOKUP(A44,'Lista Narkotyki'!$H$13:$BN$18,2,FALSE)),\"\")","v":""},null,null,null,null,null,null,null,null,null,null,null,null,null,null,null,null,null,null,null,null,null,null,null,"1","2"]
[null,{"$f":"IFERROR(IF(A45=\"\",\"\",VLOOKUP(A45,'Lista Narkotyki'!$A$2:$B$60,2,FALSE)),\"\")","v":""},{"$f":"IFERROR(IF(A45=\"\",\"\",HLOOKUP(A45,'Lista Narkotyki'!$H$34:$BN$37,2,FALSE)),\"\")","v":""},{"$f":"IFERROR(IF(A45=\"\",\"\",HLOOKUP(A45,'Lista Narkotyki'!$H$1:$BN$7,2,FALSE)),\"\")","v":""},{"$f":"IFERROR(IF(A45=\"\",\"\",HLOOKUP(A45,'Lista Narkotyki'!$H$13:$BN$18,2,FALSE)),\"\")","v":""},null,null,null,null,null,null,null,null,null,null,null,null,null,null,null,null,null,null,null,null,null,null,null,"1","2"]
[null,{"$f":"IFERROR(IF(A46=\"\",\"\",VLOOKUP(A46,'Lista Narkotyki'!$A$2:$B$60,2,FALSE)),\"\")","v":""},{"$f":"IFERROR(IF(A46=\"\",\"\",HLOOKUP(A46,'Lista Narkotyki'!$H$34:$BN$37,2,FALSE)),\"\")","v":""},{"$f":"IFERROR(IF(A46=\"\",\"\",HLOOKUP(A46,'Lista Narkotyki'!$H$1:$BN$7,2,FALSE)),\"\")","v":""},{"$f":"IFERROR(IF(A46=\"\",\"\",HLOOKUP(A46,'Lista Narkotyki'!$H$13:$BN$18,2,FALSE)),\"\")","v":""},null,null,null,null,null,null,null,null,null,null,null,null,null,null,null,null,null,null,null,null,null,null,null,"1","2"]
[null,{"$f":"IFERROR(IF(A47=\"\",\"\",VLOOKUP(A47,'Lista Narkotyki'!$A$2:$B$60,2,FALSE)),\"\")","v":""},{"$f":"IFERROR(IF(A47=\"\",\"\",HLOOKUP(A47,'Lista Narkotyki'!$H$34:$BN$37,2,FALSE)),\"\")","v":""},{"$f":"IFERROR(IF(A47=\"\",\"\",HLOOKUP(A47,'Lista Narkotyki'!$H$1:$BN$7,2,FALSE)),\"\")","v":""},{"$f":"IFERROR(IF(A47=\"\",\"\",HLOOKUP(A47,'Lista Narkotyki'!$H$13:$BN$18,2,FALSE)),\"\")","v":""},null,null,null,null,null,null,null,null,null,null,null,null,null,null,null,null,null,null,null,null,null,null,null,"1","2"]
[null,{"$f":"IFERROR(IF(A48=\"\",\"\",VLOOKUP(A48,'Lista Narkotyki'!$A$2:$B$60,2,FALSE)),\"\")","v":""},{"$f":"IFERROR(IF(A48=\"\",\"\",HLOOKUP(A48,'Lista Narkotyki'!$H$34:$BN$37,2,FALSE)),\"\")","v":""},{"$f":"IFERROR(IF(A48=\"\",\"\",HLOOKUP(A48,'Lista Narkotyki'!$H$1:$BN$7,2,FALSE)),\"\")","v":""},{"$f":"IFERROR(IF(A48=\"\",\"\",HLOOKUP(A48,'Lista Narkotyki'!$H$13:$BN$18,2,FALSE)),\"\")","v":""},null,null,null,null,null,null,null,null,null,null,null,null,null,null,null,null,null,null,null,null,null,null,null,"1","2"]
[null,{"$f":"IFERROR(IF(A49=\"\",\"\",VLOOKUP(A49,'Lista Narkotyki'!$A$2:$B$60,2,FALSE)),\"\")","v":""},{"$f":"IFERROR(IF(A49=\"\",\"\",HLOOKUP(A49,'Lista Narkotyki'!$H$34:$BN$37,2,FALSE)),\"\")","v":""},{"$f":"IFERROR(IF(A49=\"\",\"\",HLOOKUP(A49,'Lista Narkotyki'!$H$1:$BN$7,2,FALSE)),\"\")","v":""},{"$f":"IFERROR(IF(A49=\"\",\"\",HLOOKUP(A49,'Lista Narkotyki'!$H$13:$BN$18,2,FALSE)),\"\")","v":""},null,null,null,null,null,null,null,null,null,null,null,null,null,null,null,null,null,null,null,null,null,null,null,"1","2"]
[null,{"$f":"IFERROR(IF(A50=\"\",\"\",VLOOKUP(A50,'Lista Narkotyki'!$A$2:$B$60,2,FALSE)),\"\")","v":""},{"$f":"IFERROR(IF(A50=\"\",\"\",HLOOKUP(A50,'Lista Narkotyki'!$H$34:$BN$37,2,FALSE)),\"\")","v":""},{"$f":"IFERROR(IF(A50=\"\",\"\",HLOOKUP(A50,'Lista Narkotyki'!$H$1:$BN$7,2,FALSE)),\"\")","v":""},{"$f":"IFERROR(IF(A50=\"\",\"\",HLOOKUP(A50,'Lista Narkotyki'!$H$13:$BN$18,2,FALSE)),\"\")","v":""},null,null,null,null,null,null,null,null,null,null,null,null,null,null,null,null,null,null,null,null,null,null,null,"1","2"]
[null,{"$f":"IFERROR(IF(A51=\"\",\"\",VLOOKUP(A51,'Lista Narkotyki'!$A$2:$B$60,2,FALSE)),\"\")","v":""},{"$f":"IFERROR(IF(A51=\"\",\"\",HLOOKUP(A51,'Lista Narkotyki'!$H$34:$BN$37,2,FALSE)),\"\")","v":""},{"$f":"IFERROR(IF(A51=\"\",\"\",HLOOKUP(A51,'Lista Narkotyki'!$H$1:$BN$7,2,FALSE)),\"\")","v":""},{"$f":"IFERROR(IF(A51=\"\",\"\",HLOOKUP(A51,'Lista Narkotyki'!$H$13:$BN$18,2,FALSE)),\"\")","v":""},null,null,null,null,null,null,null,null,null,null,null,null,null,null,null,null,null,null,null,null,null,null,null,"1","2"]
[null,{"$f":"IFERROR(IF(A52=\"\",\"\",VLOOKUP(A52,'Lista Narkotyki'!$A$2:$B$60,2,FALSE)),\"\")","v":""},{"$f":"IFERROR(IF(A52=\"\",\"\",HLOOKUP(A52,'Lista Narkotyki'!$H$34:$BN$37,2,FALSE)),\"\")","v":""},{"$f":"IFERROR(IF(A52=\"\",\"\",HLOOKUP(A52,'Lista Narkotyki'!$H$1:$BN$7,2,FALSE)),\"\")","v":""},{"$f":"IFERROR(IF(A52=\"\",\"\",HLOOKUP(A52,'Lista Narkotyki'!$H$13:$BN$18,2,FALSE)),\"\")","v":""},null,null,null,null,null,null,null,null,null,null,null,null,null,null,null,null,null,null,null,null,null,null,null,"1","2"]
[null,{"$f":"IFERROR(IF(A53=\"\",\"\",VLOOKUP(A53,'Lista Narkotyki'!$A$2:$B$60,2,FALSE)),\"\")","v":""},{"$f":"IFERROR(IF(A53=\"\",\"\",HLOOKUP(A53,'Lista Narkotyki'!$H$34:$BN$37,2,FALSE)),\"\")","v":""},{"$f":"IFERROR(IF(A53=\"\",\"\",HLOOKUP(A53,'Lista Narkotyki'!$H$1:$BN$7,2,FALSE)),\"\")","v":""},{"$f":"IFERROR(IF(A53=\"\",\"\",HLOOKUP(A53,'Lista Narkotyki'!$H$13:$BN$18,2,FALSE)),\"\")","v":""},null,null,null,null,null,null,null,null,null,null,null,null,null,null,null,null,null,null,null,null,null,null,null,"1","2"]
[null,{"$f":"IFERROR(IF(A54=\"\",\"\",VLOOKUP(A54,'Lista Narkotyki'!$A$2:$B$60,2,FALSE)),\"\")","v":""},{"$f":"IFERROR(IF(A54=\"\",\"\",HLOOKUP(A54,'Lista Narkotyki'!$H$34:$BN$37,2,FALSE)),\"\")","v":""},{"$f":"IFERROR(IF(A54=\"\",\"\",HLOOKUP(A54,'Lista Narkotyki'!$H$1:$BN$7,2,FALSE)),\"\")","v":""},{"$f":"IFERROR(IF(A54=\"\",\"\",HLOOKUP(A54,'Lista Narkotyki'!$H$13:$BN$18,2,FALSE)),\"\")","v":""},null,null,null,null,null,null,null,null,null,null,null,null,null,null,null,null,null,null,null,null,null,null,null,"1","2"]
[null,{"$f":"IFERROR(IF(A55=\"\",\"\",VLOOKUP(A55,'Lista Narkotyki'!$A$2:$B$60,2,FALSE)),\"\")","v":""},{"$f":"IFERROR(IF(A55=\"\",\"\",HLOOKUP(A55,'Lista Narkotyki'!$H$34:$BN$37,2,FALSE)),\"\")","v":""},{"$f":"IFERROR(IF(A55=\"\",\"\",HLOOKUP(A55,'Lista Narkotyki'!$H$1:$BN$7,2,FALSE)),\"\")","v":""},{"$f":"IFERROR(IF(A55=\"\",\"\",HLOOKUP(A55,'Lista Narkotyki'!$H$13:$BN$18,2,FALSE)),\"\")","v":""},null,null,null,null,null,null,null,null,null,null,null,null,null,null,null,null,null,null,null,null,null,null,null,"1","2"]
[null,{"$f":"IFERROR(IF(A56=\"\",\"\",VLOOKUP(A56,'Lista Narkotyki'!$A$2:$B$60,2,FALSE)),\"\")","v":""},{"$f":"IFERROR(IF(A56=\"\",\"\",HLOOKUP(A56,'Lista Narkotyki'!$H$34:$BN$37,2,FALSE)),\"\")","v":""},{"$f":"IFERROR(IF(A56=\"\",\"\",HLOOKUP(A56,'Lista Narkotyki'!$H$1:$BN$7,2,FALSE)),\"\")","v":""},{"$f":"IFERROR(IF(A56=\"\",\"\",HLOOKUP(A56,'Lista Narkotyki'!$H$13:$BN$18,2,FALSE)),\"\")","v":""},null,null,null,null,null,null,null,null,null,null,null,null,null,null,null,null,null,null,null,null,null,null,null,"1","2"]
[null,{"$f":"IFERROR(IF(A57=\"\",\"\",VLOOKUP(A57,'Lista Narkotyki'!$A$2:$B$60,2,FALSE)),\"\")","v":""},{"$f":"IFERROR(IF(A57=\"\",\"\",HLOOKUP(A57,'Lista Narkotyki'!$H$34:$BN$37,2,FALSE)),\"\")","v":""},{"$f":"IFERROR(IF(A57=\"\",\"\",HLOOKUP(A57,'Lista Narkotyki'!$H$1:$BN$7,2,FALSE)),\"\")","v":""},{"$f":"IFERROR(IF(A57=\"\",\"\",HLOOKUP(A57,'Lista Narkotyki'!$H$13:$BN$18,2,FALSE)),\"\")","v":""},null,null,null,null,null,null,null,null,null,null,null,null,null,null,null,null,null,null,null,null,null,null,null,"1","2"]
[null,{"$f":"IFERROR(IF(A58=\"\",\"\",VLOOKUP(A58,'Lista Narkotyki'!$A$2:$B$60,2,FALSE)),\"\")","v":""},{"$f":"IFERROR(IF(A58=\"\",\"\",HLOOKUP(A58,'Lista Narkotyki'!$H$34:$BN$37,2,FALSE)),\"\")","v":""},{"$f":"IFERROR(IF(A58=\"\",\"\",HLOOKUP(A58,'Lista Narkotyki'!$H$1:$BN$7,2,FALSE)),\"\")","v":""},{"$f":"IFERROR(IF(A58=\"\",\"\",HLOOKUP(A58,'Lista Narkotyki'!$H$13:$BN$18,2,FALSE)),\"\")","v":""},null,null,null,null,null,null,null,null,null,null,null,null,null,null,null,null,null,null,null,null,null,null,null,"1","2"]
[null,{"$f":"IFERROR(IF(A59=\"\",\"\",VLOOKUP(A59,'Lista Narkotyki'!$A$2:$B$60,2,FALSE)),\"\")","v":""},{"$f":"IFERROR(IF(A59=\"\",\"\",HLOOKUP(A59,'Lista Narkotyki'!$H$34:$BN$37,2,FALSE)),\"\")","v":""},{"$f":"IFERROR(IF(A59=\"\",\"\",HLOOKUP(A59,'Lista Narkotyki'!$H$1:$BN$7,2,FALSE)),\"\")","v":""},{"$f":"IFERROR(IF(A59=\"\",\"\",HLOOKUP(A59,'Lista Narkotyki'!$H$13:$BN$18,2,FALSE)),\"\")","v":""},null,null,null,null,null,null,null,null,null,null,null,null,null,null,null,null,null,null,null,null,null,null,null,"1","2"]
[null,{"$f":"IFERROR(IF(A60=\"\",\"\",VLOOKUP(A60,'Lista Narkotyki'!$A$2:$B$60,2,FALSE)),\"\")","v":""},{"$f":"IFERROR(IF(A60=\"\",\"\",HLOOKUP(A60,'Lista Narkotyki'!$H$34:$BN$37,2,FALSE)),\"\")","v":""},{"$f":"IFERROR(IF(A60=\"\",\"\",HLOOKUP(A60,'Lista Narkotyki'!$H$1:$BN$7,2,FALSE)),\"\")","v":""},{"$f":"IFERROR(IF(A60=\"\",\"\",HLOOKUP(A60,'Lista Narkotyki'!$H$13:$BN$18,2,FALSE)),\"\")","v":""},null,null,null,null,null,null,null,null,null,null,null,null,null,null,null,null,null,null,null,null,null,null,null,"1","2"]
[null,{"$f":"IFERROR(IF(A61=\"\",\"\",VLOOKUP(A61,'Lista Narkotyki'!$A$2:$B$60,2,FALSE)),\"\")","v":""},{"$f":"IFERROR(IF(A61=\"\",\"\",HLOOKUP(A61,'Lista Narkotyki'!$H$34:$BN$37,2,FALSE)),\"\")","v":""},{"$f":"IFERROR(IF(A61=\"\",\"\",HLOOKUP(A61,'Lista Narkotyki'!$H$1:$BN$7,2,FALSE)),\"\")","v":""},{"$f":"IFERROR(IF(A61=\"\",\"\",HLOOKUP(A61,'Lista Narkotyki'!$H$13:$BN$18,2,FALSE)),\"\")","v":""},null,null,null,null,null,null,null,null,null,null,null,null,null,null,null,null,null,null,null,null,null,null,null,"1","2"]
[null,{"$f":"IFERROR(IF(A62=\"\",\"\",VLOOKUP(A62,'Lista Narkotyki'!$A$2:$B$60,2,FALSE)),\"\")","v":""},{"$f":"IFERROR(IF(A62=\"\",\"\",HLOOKUP(A62,'Lista Narkotyki'!$H$34:$BN$37,2,FALSE)),\"\")","v":""},{"$f":"IFERROR(IF(A62=\"\",\"\",HLOOKUP(A62,'Lista Narkotyki'!$H$1:$BN$7,2,FALSE)),\"\")","v":""},{"$f":"IFERROR(IF(A62=\"\",\"\",HLOOKUP(A62,'Lista Narkotyki'!$H$13:$BN$18,2,FALSE)),\"\")","v":""},null,null,null,null,null,null,null,null,null,null,null,null,null,null,null,null,null,null,null,null,null,null,null,"1","2"]
[null,{"$f":"IFERROR(IF(A63=\"\",\"\",VLOOKUP(A63,'Lista Narkotyki'!$A$2:$B$60,2,FALSE)),\"\")","v":""},{"$f":"IFERROR(IF(A63=\"\",\"\",HLOOKUP(A63,'Lista Narkotyki'!$H$34:$BN$37,2,FALSE)),\"\")","v":""},{"$f":"IFERROR(IF(A63=\"\",\"\",HLOOKUP(A63,'Lista Narkotyki'!$H$1:$BN$7,2,FALSE)),\"\")","v":""},{"$f":"IFERROR(IF(A63=\"\",\"\",HLOOKUP(A63,'Lista Narkotyki'!$H$13:$BN$18,2,FALSE)),\"\")","v":""},null,null,null,null,null,null,null,null,null,null,null,null,null,null,null,null,null,null,null,null,null,null,null,"1","2"]
[null,{"$f":"IFERROR(IF(A64=\"\",\"\",VLOOKUP(A64,'Lista Narkotyki'!$A$2:$B$60,2,FALSE)),\"\")","v":""},{"$f":"IFERROR(IF(A64=\"\",\"\",HLOOKUP(A64,'Lista Narkotyki'!$H$34:$BN$37,2,FALSE)),\"\")","v":""},{"$f":"IFERROR(IF(A64=\"\",\"\",HLOOKUP(A64,'Lista Narkotyki'!$H$1:$BN$7,2,FALSE)),\"\")","v":""},{"$f":"IFERROR(IF(A64=\"\",\"\",HLOOKUP(A64,'Lista Narkotyki'!$H$13:$BN$18,2,FALSE)),\"\")","v":""},null,null,null,null,null,null,null,null,null,null,null,null,null,null,null,null,null,null,null,null,null,null,null,"1","2"]
[null,{"$f":"IFERROR(IF(A65=\"\",\"\",VLOOKUP(A65,'Lista Narkotyki'!$A$2:$B$60,2,FALSE)),\"\")","v":""},{"$f":"IFERROR(IF(A65=\"\",\"\",HLOOKUP(A65,'Lista Narkotyki'!$H$34:$BN$37,2,FALSE)),\"\")","v":""},{"$f":"IFERROR(IF(A65=\"\",\"\",HLOOKUP(A65,'Lista Narkotyki'!$H$1:$BN$7,2,FALSE)),\"\")","v":""},{"$f":"IFERROR(IF(A65=\"\",\"\",HLOOKUP(A65,'Lista Narkotyki'!$H$13:$BN$18,2,FALSE)),\"\")","v":""},null,null,null,null,null,null,null,null,null,null,null,null,null,null,null,null,null,null,null,null,null,null,null,"1","2"]
[null,{"$f":"IFERROR(IF(A66=\"\",\"\",VLOOKUP(A66,'Lista Narkotyki'!$A$2:$B$60,2,FALSE)),\"\")","v":""},{"$f":"IFERROR(IF(A66=\"\",\"\",HLOOKUP(A66,'Lista Narkotyki'!$H$34:$BN$37,2,FALSE)),\"\")","v":""},{"$f":"IFERROR(IF(A66=\"\",\"\",HLOOKUP(A66,'Lista Narkotyki'!$H$1:$BN$7,2,FALSE)),\"\")","v":""},{"$f":"IFERROR(IF(A66=\"\",\"\",HLOOKUP(A66,'Lista Narkotyki'!$H$13:$BN$18,2,FALSE)),\"\")","v":""},null,null,null,null,null,null,null,null,null,null,null,null,null,null,null,null,null,null,null,null,null,null,null,"1","2"]
[null,{"$f":"IFERROR(IF(A67=\"\",\"\",VLOOKUP(A67,'Lista Narkotyki'!$A$2:$B$60,2,FALSE)),\"\")","v":""},{"$f":"IFERROR(IF(A67=\"\",\"\",HLOOKUP(A67,'Lista Narkotyki'!$H$34:$BN$37,2,FALSE)),\"\")","v":""},{"$f":"IFERROR(IF(A67=\"\",\"\",HLOOKUP(A67,'Lista Narkotyki'!$H$1:$BN$7,2,FALSE)),\"\")","v":""},{"$f":"IFERROR(IF(A67=\"\",\"\",HLOOKUP(A67,'Lista Narkotyki'!$H$13:$BN$18,2,FALSE)),\"\")","v":""},null,null,null,null,null,null,null,null,null,null,null,null,null,null,null,null,null,null,null,null,null,null,null,"1","2"]
[null,{"$f":"IFERROR(IF(A68=\"\",\"\",VLOOKUP(A68,'Lista Narkotyki'!$A$2:$B$60,2,FALSE)),\"\")","v":""},{"$f":"IFERROR(IF(A68=\"\",\"\",HLOOKUP(A68,'Lista Narkotyki'!$H$34:$BN$37,2,FALSE)),\"\")","v":""},{"$f":"IFERROR(IF(A68=\"\",\"\",HLOOKUP(A68,'Lista Narkotyki'!$H$1:$BN$7,2,FALSE)),\"\")","v":""},{"$f":"IFERROR(IF(A68=\"\",\"\",HLOOKUP(A68,'Lista Narkotyki'!$H$13:$BN$18,2,FALSE)),\"\")","v":""},null,null,null,null,null,null,null,null,null,null,null,null,null,null,null,null,null,null,null,null,null,null,null,"1","2"]
[null,{"$f":"IFERROR(IF(A69=\"\",\"\",VLOOKUP(A69,'Lista Narkotyki'!$A$2:$B$60,2,FALSE)),\"\")","v":""},{"$f":"IFERROR(IF(A69=\"\",\"\",HLOOKUP(A69,'Lista Narkotyki'!$H$34:$BN$37,2,FALSE)),\"\")","v":""},{"$f":"IFERROR(IF(A69=\"\",\"\",HLOOKUP(A69,'Lista Narkotyki'!$H$1:$BN$7,2,FALSE)),\"\")","v":""},{"$f":"IFERROR(IF(A69=\"\",\"\",HLOOKUP(A69,'Lista Narkotyki'!$H$13:$BN$18,2,FALSE)),\"\")","v":""},null,null,null,null,null,null,null,null,null,null,null,null,null,null,null,null,null,null,null,null,null,null,null,"1","2"]
[null,{"$f":"IFERROR(IF(A70=\"\",\"\",VLOOKUP(A70,'Lista Narkotyki'!$A$2:$B$60,2,FALSE)),\"\")","v":""},{"$f":"IFERROR(IF(A70=\"\",\"\",HLOOKUP(A70,'Lista Narkotyki'!$H$34:$BN$37,2,FALSE)),\"\")","v":""},{"$f":"IFERROR(IF(A70=\"\",\"\",HLOOKUP(A70,'Lista Narkotyki'!$H$1:$BN$7,2,FALSE)),\"\")","v":""},{"$f":"IFERROR(IF(A70=\"\",\"\",HLOOKUP(A70,'Lista Narkotyki'!$H$13:$BN$18,2,FALSE)),\"\")","v":""},null,null,null,null,null,null,null,null,null,null,null,null,null,null,null,null,null,null,null,null,null,null,null,"1","2"]
[null,{"$f":"IFERROR(IF(A71=\"\",\"\",VLOOKUP(A71,'Lista Narkotyki'!$A$2:$B$60,2,FALSE)),\"\")","v":""},{"$f":"IFERROR(IF(A71=\"\",\"\",HLOOKUP(A71,'Lista Narkotyki'!$H$34:$BN$37,2,FALSE)),\"\")","v":""},{"$f":"IFERROR(IF(A71=\"\",\"\",HLOOKUP(A71,'Lista Narkotyki'!$H$1:$BN$7,2,FALSE)),\"\")","v":""},{"$f":"IFERROR(IF(A71=\"\",\"\",HLOOKUP(A71,'Lista Narkotyki'!$H$13:$BN$18,2,FALSE)),\"\")","v":""},null,null,null,null,null,null,null,null,null,null,null,null,null,null,null,null,null,null,null,null,null,null,null,"1","2"]
[null,{"$f":"IFERROR(IF(A72=\"\",\"\",VLOOKUP(A72,'Lista Narkotyki'!$A$2:$B$60,2,FALSE)),\"\")","v":""},{"$f":"IFERROR(IF(A72=\"\",\"\",HLOOKUP(A72,'Lista Narkotyki'!$H$34:$BN$37,2,FALSE)),\"\")","v":""},{"$f":"IFERROR(IF(A72=\"\",\"\",HLOOKUP(A72,'Lista Narkotyki'!$H$1:$BN$7,2,FALSE)),\"\")","v":""},{"$f":"IFERROR(IF(A72=\"\",\"\",HLOOKUP(A72,'Lista Narkotyki'!$H$13:$BN$18,2,FALSE)),\"\")","v":""},null,null,null,null,null,null,null,null,null,null,null,null,null,null,null,null,null,null,null,null,null,null,null,"1","2"]
[null,{"$f":"IFERROR(IF(A73=\"\",\"\",VLOOKUP(A73,'Lista Narkotyki'!$A$2:$B$60,2,FALSE)),\"\")","v":""},{"$f":"IFERROR(IF(A73=\"\",\"\",HLOOKUP(A73,'Lista Narkotyki'!$H$34:$BN$37,2,FALSE)),\"\")","v":""},{"$f":"IFERROR(IF(A73=\"\",\"\",HLOOKUP(A73,'Lista Narkotyki'!$H$1:$BN$7,2,FALSE)),\"\")","v":""},{"$f":"IFERROR(IF(A73=\"\",\"\",HLOOKUP(A73,'Lista Narkotyki'!$H$13:$BN$18,2,FALSE)),\"\")","v":""},null,null,null,null,null,null,null,null,null,null,null,null,null,null,null,null,null,null,null,null,null,null,null,"1","2"]
[null,{"$f":"IFERROR(IF(A74=\"\",\"\",VLOOKUP(A74,'Lista Narkotyki'!$A$2:$B$60,2,FALSE)),\"\")","v":""},{"$f":"IFERROR(IF(A74=\"\",\"\",HLOOKUP(A74,'Lista Narkotyki'!$H$34:$BN$37,2,FALSE)),\"\")","v":""},{"$f":"IFERROR(IF(A74=\"\",\"\",HLOOKUP(A74,'Lista Narkotyki'!$H$1:$BN$7,2,FALSE)),\"\")","v":""},{"$f":"IFERROR(IF(A74=\"\",\"\",HLOOKUP(A74,'Lista Narkotyki'!$H$13:$BN$18,2,FALSE)),\"\")","v":""},null,null,null,null,null,null,null,null,null,null,null,null,null,null,null,null,null,null,null,null,null,null,null,"1","2"]
[null,{"$f":"IFERROR(IF(A75=\"\",\"\",VLOOKUP(A75,'Lista Narkotyki'!$A$2:$B$60,2,FALSE)),\"\")","v":""},{"$f":"IFERROR(IF(A75=\"\",\"\",HLOOKUP(A75,'Lista Narkotyki'!$H$34:$BN$37,2,FALSE)),\"\")","v":""},{"$f":"IFERROR(IF(A75=\"\",\"\",HLOOKUP(A75,'Lista Narkotyki'!$H$1:$BN$7,2,FALSE)),\"\")","v":""},{"$f":"IFERROR(IF(A75=\"\",\"\",HLOOKUP(A75,'Lista Narkotyki'!$H$13:$BN$18,2,FALSE)),\"\")","v":""},null,null,null,null,null,null,null,null,null,null,null,null,null,null,null,null,null,null,null,null,null,null,null,{"$f":"A75&1","v":"1"},{"$f":"A75&2","v":"2"}]
[null,{"$f":"IFERROR(IF(A76=\"\",\"\",VLOOKUP(A76,'Lista Narkotyki'!$A$2:$B$60,2,FALSE)),\"\")","v":""},{"$f":"IFERROR(IF(A76=\"\",\"\",HLOOKUP(A76,'Lista Narkotyki'!$H$34:$BN$37,2,FALSE)),\"\")","v":""},{"$f":"IFERROR(IF(A76=\"\",\"\",HLOOKUP(A76,'Lista Narkotyki'!$H$1:$BN$7,2,FALSE)),\"\")","v":""},{"$f":"IFERROR(IF(A76=\"\",\"\",HLOOKUP(A76,'Lista Narkotyki'!$H$13:$BN$18,2,FALSE)),\"\")","v":""},null,null,null,null,null,null,null,null,null,null,null,null,null,null,null,null,null,null,null,null,null,null,null,"1","2"]
[null,{"$f":"IFERROR(IF(A77=\"\",\"\",VLOOKUP(A77,'Lista Narkotyki'!$A$2:$B$60,2,FALSE)),\"\")","v":""},{"$f":"IFERROR(IF(A77=\"\",\"\",HLOOKUP(A77,'Lista Narkotyki'!$H$34:$BN$37,2,FALSE)),\"\")","v":""},{"$f":"IFERROR(IF(A77=\"\",\"\",HLOOKUP(A77,'Lista Narkotyki'!$H$1:$BN$7,2,FALSE)),\"\")","v":""},{"$f":"IFERROR(IF(A77=\"\",\"\",HLOOKUP(A77,'Lista Narkotyki'!$H$13:$BN$18,2,FALSE)),\"\")","v":""},null,null,null,null,null,null,null,null,null,null,null,null,null,null,null,null,null,null,null,null,null,null,null,"1","2"]
[null,{"$f":"IFERROR(IF(A78=\"\",\"\",VLOOKUP(A78,'Lista Narkotyki'!$A$2:$B$60,2,FALSE)),\"\")","v":""},{"$f":"IFERROR(IF(A78=\"\",\"\",HLOOKUP(A78,'Lista Narkotyki'!$H$34:$BN$37,2,FALSE)),\"\")","v":""},{"$f":"IFERROR(IF(A78=\"\",\"\",HLOOKUP(A78,'Lista Narkotyki'!$H$1:$BN$7,2,FALSE)),\"\")","v":""},{"$f":"IFERROR(IF(A78=\"\",\"\",HLOOKUP(A78,'Lista Narkotyki'!$H$13:$BN$18,2,FALSE)),\"\")","v":""},null,null,null,null,null,null,null,null,null,null,null,null,null,null,null,null,null,null,null,null,null,null,null,"1","2"]
[null,{"$f":"IFERROR(IF(A79=\"\",\"\",VLOOKUP(A79,'Lista Narkotyki'!$A$2:$B$60,2,FALSE)),\"\")","v":""},{"$f":"IFERROR(IF(A79=\"\",\"\",HLOOKUP(A79,'Lista Narkotyki'!$H$34:$BN$37,2,FALSE)),\"\")","v":""},{"$f":"IFERROR(IF(A79=\"\",\"\",HLOOKUP(A79,'Lista Narkotyki'!$H$1:$BN$7,2,FALSE)),\"\")","v":""},{"$f":"IFERROR(IF(A79=\"\",\"\",HLOOKUP(A79,'Lista Narkotyki'!$H$13:$BN$18,2,FALSE)),\"\")","v":""},null,null,null,null,null,null,null,null,null,null,null,null,null,null,null,null,null,null,null,null,null,null,null,"1","2"]
[null,{"$f":"IFERROR(IF(A80=\"\",\"\",VLOOKUP(A80,'Lista Narkotyki'!$A$2:$B$60,2,FALSE)),\"\")","v":""},{"$f":"IFERROR(IF(A80=\"\",\"\",HLOOKUP(A80,'Lista Narkotyki'!$H$34:$BN$37,2,FALSE)),\"\")","v":""},{"$f":"IFERROR(IF(A80=\"\",\"\",HLOOKUP(A80,'Lista Narkotyki'!$H$1:$BN$7,2,FALSE)),\"\")","v":""},{"$f":"IFERROR(IF(A80=\"\",\"\",HLOOKUP(A80,'Lista Narkotyki'!$H$13:$BN$18,2,FALSE)),\"\")","v":""},null,null,null,null,null,null,null,null,null,null,null,null,null,null,null,null,null,null,null,null,null,null,null,"1","2"]
[null,{"$f":"IFERROR(IF(A81=\"\",\"\",VLOOKUP(A81,'Lista Narkotyki'!$A$2:$B$60,2,FALSE)),\"\")","v":""},{"$f":"IFERROR(IF(A81=\"\",\"\",HLOOKUP(A81,'Lista Narkotyki'!$H$34:$BN$37,2,FALSE)),\"\")","v":""},{"$f":"IFERROR(IF(A81=\"\",\"\",HLOOKUP(A81,'Lista Narkotyki'!$H$1:$BN$7,2,FALSE)),\"\")","v":""},{"$f":"IFERROR(IF(A81=\"\",\"\",HLOOKUP(A81,'Lista Narkotyki'!$H$13:$BN$18,2,FALSE)),\"\")","v":""},null,null,null,null,null,null,null,null,null,null,null,null,null,null,null,null,null,null,null,null,null,null,null,"1","2"]
[null,{"$f":"IFERROR(IF(A82=\"\",\"\",VLOOKUP(A82,'Lista Narkotyki'!$A$2:$B$60,2,FALSE)),\"\")","v":""},{"$f":"IFERROR(IF(A82=\"\",\"\",HLOOKUP(A82,'Lista Narkotyki'!$H$34:$BN$37,2,FALSE)),\"\")","v":""},{"$f":"IFERROR(IF(A82=\"\",\"\",HLOOKUP(A82,'Lista Narkotyki'!$H$1:$BN$7,2,FALSE)),\"\")","v":""},{"$f":"IFERROR(IF(A82=\"\",\"\",HLOOKUP(A82,'Lista Narkotyki'!$H$13:$BN$18,2,FALSE)),\"\")","v":""},null,null,null,null,null,null,null,null,null,null,null,null,null,null,null,null,null,null,null,null,null,null,null,"1","2"]
[null,{"$f":"IFERROR(IF(A83=\"\",\"\",VLOOKUP(A83,'Lista Narkotyki'!$A$2:$B$60,2,FALSE)),\"\")","v":""},{"$f":"IFERROR(IF(A83=\"\",\"\",HLOOKUP(A83,'Lista Narkotyki'!$H$34:$BN$37,2,FALSE)),\"\")","v":""},{"$f":"IFERROR(IF(A83=\"\",\"\",HLOOKUP(A83,'Lista Narkotyki'!$H$1:$BN$7,2,FALSE)),\"\")","v":""},{"$f":"IFERROR(IF(A83=\"\",\"\",HLOOKUP(A83,'Lista Narkotyki'!$H$13:$BN$18,2,FALSE)),\"\")","v":""},null,null,null,null,null,null,null,null,null,null,null,null,null,null,null,null,null,null,null,null,null,null,null,"1","2"]
[null,{"$f":"IFERROR(IF(A84=\"\",\"\",VLOOKUP(A84,'Lista Narkotyki'!$A$2:$B$60,2,FALSE)),\"\")","v":""},{"$f":"IFERROR(IF(A84=\"\",\"\",HLOOKUP(A84,'Lista Narkotyki'!$H$34:$BN$37,2,FALSE)),\"\")","v":""},{"$f":"IFERROR(IF(A84=\"\",\"\",HLOOKUP(A84,'Lista Narkotyki'!$H$1:$BN$7,2,FALSE)),\"\")","v":""},{"$f":"IFERROR(IF(A84=\"\",\"\",HLOOKUP(A84,'Lista Narkotyki'!$H$13:$BN$18,2,FALSE)),\"\")","v":""},null,null,null,null,null,null,null,null,null,null,null,null,null,null,null,null,null,null,null,null,null,null,null,"1","2"]
[null,{"$f":"IFERROR(IF(A85=\"\",\"\",VLOOKUP(A85,'Lista Narkotyki'!$A$2:$B$60,2,FALSE)),\"\")","v":""},{"$f":"IFERROR(IF(A85=\"\",\"\",HLOOKUP(A85,'Lista Narkotyki'!$H$34:$BN$37,2,FALSE)),\"\")","v":""},{"$f":"IFERROR(IF(A85=\"\",\"\",HLOOKUP(A85,'Lista Narkotyki'!$H$1:$BN$7,2,FALSE)),\"\")","v":""},{"$f":"IFERROR(IF(A85=\"\",\"\",HLOOKUP(A85,'Lista Narkotyki'!$H$13:$BN$18,2,FALSE)),\"\")","v":""},null,null,null,null,null,null,null,null,null,null,null,null,null,null,null,null,null,null,null,null,null,null,null,"1","2"]
[null,{"$f":"IFERROR(IF(A86=\"\",\"\",VLOOKUP(A86,'Lista Narkotyki'!$A$2:$B$60,2,FALSE)),\"\")","v":""},{"$f":"IFERROR(IF(A86=\"\",\"\",HLOOKUP(A86,'Lista Narkotyki'!$H$34:$BN$37,2,FALSE)),\"\")","v":""},{"$f":"IFERROR(IF(A86=\"\",\"\",HLOOKUP(A86,'Lista Narkotyki'!$H$1:$BN$7,2,FALSE)),\"\")","v":""},{"$f":"IFERROR(IF(A86=\"\",\"\",HLOOKUP(A86,'Lista Narkotyki'!$H$13:$BN$18,2,FALSE)),\"\")","v":""},null,null,null,null,null,null,null,null,null,null,null,null,null,null,null,null,null,null,null,null,null,null,null,"1","2"]
[null,{"$f":"IFERROR(IF(A87=\"\",\"\",VLOOKUP(A87,'Lista Narkotyki'!$A$2:$B$60,2,FALSE)),\"\")","v":""},{"$f":"IFERROR(IF(A87=\"\",\"\",HLOOKUP(A87,'Lista Narkotyki'!$H$34:$BN$37,2,FALSE)),\"\")","v":""},{"$f":"IFERROR(IF(A87=\"\",\"\",HLOOKUP(A87,'Lista Narkotyki'!$H$1:$BN$7,2,FALSE)),\"\")","v":""},{"$f":"IFERROR(IF(A87=\"\",\"\",HLOOKUP(A87,'Lista Narkotyki'!$H$13:$BN$18,2,FALSE)),\"\")","v":""},null,null,null,null,null,null,null,null,null,null,null,null,null,null,null,null,null,null,null,null,null,null,null,"1","2"]
[null,{"$f":"IFERROR(IF(A88=\"\",\"\",VLOOKUP(A88,'Lista Narkotyki'!$A$2:$B$60,2,FALSE)),\"\")","v":""},{"$f":"IFERROR(IF(A88=\"\",\"\",HLOOKUP(A88,'Lista Narkotyki'!$H$34:$BN$37,2,FALSE)),\"\")","v":""},{"$f":"IFERROR(IF(A88=\"\",\"\",HLOOKUP(A88,'Lista Narkotyki'!$H$1:$BN$7,2,FALSE)),\"\")","v":""},{"$f":"IFERROR(IF(A88=\"\",\"\",HLOOKUP(A88,'Lista Narkotyki'!$H$13:$BN$18,2,FALSE)),\"\")","v":""},null,null,null,null,null,null,null,null,null,null,null,null,null,null,null,null,null,null,null,null,null,null,null,"1","2"]
[null,{"$f":"IFERROR(IF(A89=\"\",\"\",VLOOKUP(A89,'Lista Narkotyki'!$A$2:$B$60,2,FALSE)),\"\")","v":""},{"$f":"IFERROR(IF(A89=\"\",\"\",HLOOKUP(A89,'Lista Narkotyki'!$H$34:$BN$37,2,FALSE)),\"\")","v":""},{"$f":"IFERROR(IF(A89=\"\",\"\",HLOOKUP(A89,'Lista Narkotyki'!$H$1:$BN$7,2,FALSE)),\"\")","v":""},{"$f":"IFERROR(IF(A89=\"\",\"\",HLOOKUP(A89,'Lista Narkotyki'!$H$13:$BN$18,2,FALSE)),\"\")","v":""},null,null,null,null,null,null,null,null,null,null,null,null,null,null,null,null,null,null,null,null,null,null,null,"1","2"]
[null,{"$f":"IFERROR(IF(A90=\"\",\"\",VLOOKUP(A90,'Lista Narkotyki'!$A$2:$B$60,2,FALSE)),\"\")","v":""},{"$f":"IFERROR(IF(A90=\"\",\"\",HLOOKUP(A90,'Lista Narkotyki'!$H$34:$BN$37,2,FALSE)),\"\")","v":""},{"$f":"IFERROR(IF(A90=\"\",\"\",HLOOKUP(A90,'Lista Narkotyki'!$H$1:$BN$7,2,FALSE)),\"\")","v":""},{"$f":"IFERROR(IF(A90=\"\",\"\",HLOOKUP(A90,'Lista Narkotyki'!$H$13:$BN$18,2,FALSE)),\"\")","v":""},null,null,null,null,null,null,null,null,null,null,null,null,null,null,null,null,null,null,null,null,null,null,null,"1","2"]
[null,{"$f":"IFERROR(IF(A91=\"\",\"\",VLOOKUP(A91,'Lista Narkotyki'!$A$2:$B$60,2,FALSE)),\"\")","v":""},{"$f":"IFERROR(IF(A91=\"\",\"\",HLOOKUP(A91,'Lista Narkotyki'!$H$34:$BN$37,2,FALSE)),\"\")","v":""},{"$f":"IFERROR(IF(A91=\"\",\"\",HLOOKUP(A91,'Lista Narkotyki'!$H$1:$BN$7,2,FALSE)),\"\")","v":""},{"$f":"IFERROR(IF(A91=\"\",\"\",HLOOKUP(A91,'Lista Narkotyki'!$H$13:$BN$18,2,FALSE)),\"\")","v":""},null,null,null,null,null,null,null,null,null,null,null,null,null,null,null,null,null,null,null,null,null,null,null,"1","2"]
[null,{"$f":"IFERROR(IF(A92=\"\",\"\",VLOOKUP(A92,'Lista Narkotyki'!$A$2:$B$60,2,FALSE)),\"\")","v":""},{"$f":"IFERROR(IF(A92=\"\",\"\",HLOOKUP(A92,'Lista Narkotyki'!$H$34:$BN$37,2,FALSE)),\"\")","v":""},{"$f":"IFERROR(IF(A92=\"\",\"\",HLOOKUP(A92,'Lista Narkotyki'!$H$1:$BN$7,2,FALSE)),\"\")","v":""},{"$f":"IFERROR(IF(A92=\"\",\"\",HLOOKUP(A92,'Lista Narkotyki'!$H$13:$BN$18,2,FALSE)),\"\")","v":""},null,null,null,null,null,null,null,null,null,null,null,null,null,null,null,null,null,null,null,null,null,null,null,"1","2"]
[null,{"$f":"IFERROR(IF(A93=\"\",\"\",VLOOKUP(A93,'Lista Narkotyki'!$A$2:$B$60,2,FALSE)),\"\")","v":""},{"$f":"IFERROR(IF(A93=\"\",\"\",HLOOKUP(A93,'Lista Narkotyki'!$H$34:$BN$37,2,FALSE)),\"\")","v":""},{"$f":"IFERROR(IF(A93=\"\",\"\",HLOOKUP(A93,'Lista Narkotyki'!$H$1:$BN$7,2,FALSE)),\"\")","v":""},{"$f":"IFERROR(IF(A93=\"\",\"\",HLOOKUP(A93,'Lista Narkotyki'!$H$13:$BN$18,2,FALSE)),\"\")","v":""},null,null,null,null,null,null,null,null,null,null,null,null,null,null,null,null,null,null,null,null,null,null,null,"1","2"]
[null,{"$f":"IFERROR(IF(A94=\"\",\"\",VLOOKUP(A94,'Lista Narkotyki'!$A$2:$B$60,2,FALSE)),\"\")","v":""},{"$f":"IFERROR(IF(A94=\"\",\"\",HLOOKUP(A94,'Lista Narkotyki'!$H$34:$BN$37,2,FALSE)),\"\")","v":""},{"$f":"IFERROR(IF(A94=\"\",\"\",HLOOKUP(A94,'Lista Narkotyki'!$H$1:$BN$7,2,FALSE)),\"\")","v":""},{"$f":"IFERROR(IF(A94=\"\",\"\",HLOOKUP(A94,'Lista Narkotyki'!$H$13:$BN$18,2,FALSE)),\"\")","v":""},null,null,null,null,null,null,null,null,null,null,null,null,null,null,null,null,null,null,null,null,null,null,null,"1","2"]
[null,{"$f":"IFERROR(IF(A95=\"\",\"\",VLOOKUP(A95,'Lista Narkotyki'!$A$2:$B$60,2,FALSE)),\"\")","v":""},{"$f":"IFERROR(IF(A95=\"\",\"\",HLOOKUP(A95,'Lista Narkotyki'!$H$34:$BN$37,2,FALSE)),\"\")","v":""},{"$f":"IFERROR(IF(A95=\"\",\"\",HLOOKUP(A95,'Lista Narkotyki'!$H$1:$BN$7,2,FALSE)),\"\")","v":""},{"$f":"IFERROR(IF(A95=\"\",\"\",HLOOKUP(A95,'Lista Narkotyki'!$H$13:$BN$18,2,FALSE)),\"\")","v":""},null,null,null,null,null,null,null,null,null,null,null,null,null,null,null,null,null,null,null,null,null,null,null,"1","2"]
[null,{"$f":"IFERROR(IF(A96=\"\",\"\",VLOOKUP(A96,'Lista Narkotyki'!$A$2:$B$60,2,FALSE)),\"\")","v":""},{"$f":"IFERROR(IF(A96=\"\",\"\",HLOOKUP(A96,'Lista Narkotyki'!$H$34:$BN$37,2,FALSE)),\"\")","v":""},{"$f":"IFERROR(IF(A96=\"\",\"\",HLOOKUP(A96,'Lista Narkotyki'!$H$1:$BN$7,2,FALSE)),\"\")","v":""},{"$f":"IFERROR(IF(A96=\"\",\"\",HLOOKUP(A96,'Lista Narkotyki'!$H$13:$BN$18,2,FALSE)),\"\")","v":""},null,null,null,null,null,null,null,null,null,null,null,null,null,null,null,null,null,null,null,null,null,null,null,"1","2"]
[null,{"$f":"IFERROR(IF(A97=\"\",\"\",VLOOKUP(A97,'Lista Narkotyki'!$A$2:$B$60,2,FALSE)),\"\")","v":""},{"$f":"IFERROR(IF(A97=\"\",\"\",HLOOKUP(A97,'Lista Narkotyki'!$H$34:$BN$37,2,FALSE)),\"\")","v":""},{"$f":"IFERROR(IF(A97=\"\",\"\",HLOOKUP(A97,'Lista Narkotyki'!$H$1:$BN$7,2,FALSE)),\"\")","v":""},{"$f":"IFERROR(IF(A97=\"\",\"\",HLOOKUP(A97,'Lista Narkotyki'!$H$13:$BN$18,2,FALSE)),\"\")","v":""},null,null,null,null,null,null,null,null,null,null,null,null,null,null,null,null,null,null,null,null,null,null,null,"1","2"]
[null,{"$f":"IFERROR(IF(A98=\"\",\"\",VLOOKUP(A98,'Lista Narkotyki'!$A$2:$B$60,2,FALSE)),\"\")","v":""},{"$f":"IFERROR(IF(A98=\"\",\"\",HLOOKUP(A98,'Lista Narkotyki'!$H$34:$BN$37,2,FALSE)),\"\")","v":""},{"$f":"IFERROR(IF(A98=\"\",\"\",HLOOKUP(A98,'Lista Narkotyki'!$H$1:$BN$7,2,FALSE)),\"\")","v":""},{"$f":"IFERROR(IF(A98=\"\",\"\",HLOOKUP(A98,'Lista Narkotyki'!$H$13:$BN$18,2,FALSE)),\"\")","v":""},null,null,null,null,null,null,null,null,null,null,null,null,null,null,null,null,null,null,null,null,null,null,null,"1","2"]
[null,{"$f":"IFERROR(IF(A99=\"\",\"\",VLOOKUP(A99,'Lista Narkotyki'!$A$2:$B$60,2,FALSE)),\"\")","v":""},{"$f":"IFERROR(IF(A99=\"\",\"\",HLOOKUP(A99,'Lista Narkotyki'!$H$34:$BN$37,2,FALSE)),\"\")","v":""},{"$f":"IFERROR(IF(A99=\"\",\"\",HLOOKUP(A99,'Lista Narkotyki'!$H$1:$BN$7,2,FALSE)),\"\")","v":""},{"$f":"IFERROR(IF(A99=\"\",\"\",HLOOKUP(A99,'Lista Narkotyki'!$H$13:$BN$18,2,FALSE)),\"\")","v":""},null,null,null,null,null,null,null,null,null,null,null,null,null,null,null,null,null,null,null,null,null,null,null,"1","2"]
[null,{"$f":"IFERROR(IF(A100=\"\",\"\",VLOOKUP(A100,'Lista Narkotyki'!$A$2:$B$60,2,FALSE)),\"\")","v":""},{"$f":"IFERROR(IF(A100=\"\",\"\",HLOOKUP(A100,'Lista Narkotyki'!$H$34:$BN$37,2,FALSE)),\"\")","v":""},{"$f":"IFERROR(IF(A100=\"\",\"\",HLOOKUP(A100,'Lista Narkotyki'!$H$1:$BN$7,2,FALSE)),\"\")","v":""},{"$f":"IFERROR(IF(A100=\"\",\"\",HLOOKUP(A100,'Lista Narkotyki'!$H$13:$BN$18,2,FALSE)),\"\")","v":""},null,null,null,null,null,null,null,null,null,null,null,null,null,null,null,null,null,null,null,null,null,null,null,"1","2"]
[null,{"$f":"IFERROR(IF(A101=\"\",\"\",VLOOKUP(A101,'Lista Narkotyki'!$A$2:$B$60,2,FALSE)),\"\")","v":""},{"$f":"IFERROR(IF(A101=\"\",\"\",HLOOKUP(A101,'Lista Narkotyki'!$H$34:$BN$37,2,FALSE)),\"\")","v":""},{"$f":"IFERROR(IF(A101=\"\",\"\",HLOOKUP(A101,'Lista Narkotyki'!$H$1:$BN$7,2,FALSE)),\"\")","v":""},{"$f":"IFERROR(IF(A101=\"\",\"\",HLOOKUP(A101,'Lista Narkotyki'!$H$13:$BN$18,2,FALSE)),\"\")","v":""},null,null,null,null,null,null,null,null,null,null,null,null,null,null,null,null,null,null,null,null,null,null,null,"1","2"]
[null,{"$f":"IFERROR(IF(A102=\"\",\"\",VLOOKUP(A102,'Lista Narkotyki'!$A$2:$B$60,2,FALSE)),\"\")","v":""},{"$f":"IFERROR(IF(A102=\"\",\"\",HLOOKUP(A102,'Lista Narkotyki'!$H$34:$BN$37,2,FALSE)),\"\")","v":""},{"$f":"IFERROR(IF(A102=\"\",\"\",HLOOKUP(A102,'Lista Narkotyki'!$H$1:$BN$7,2,FALSE)),\"\")","v":""},{"$f":"IFERROR(IF(A102=\"\",\"\",HLOOKUP(A102,'Lista Narkotyki'!$H$13:$BN$18,2,FALSE)),\"\")","v":""},null,null,null,null,null,null,null,null,null,null,null,null,null,null,null,null,null,null,null,null,null,null,null,"1","2"]
[null,{"$f":"IFERROR(IF(A103=\"\",\"\",VLOOKUP(A103,'Lista Narkotyki'!$A$2:$B$60,2,FALSE)),\"\")","v":""},{"$f":"IFERROR(IF(A103=\"\",\"\",HLOOKUP(A103,'Lista Narkotyki'!$H$34:$BN$37,2,FALSE)),\"\")","v":""},{"$f":"IFERROR(IF(A103=\"\",\"\",HLOOKUP(A103,'Lista Narkotyki'!$H$1:$BN$7,2,FALSE)),\"\")","v":""},{"$f":"IFERROR(IF(A103=\"\",\"\",HLOOKUP(A103,'Lista Narkotyki'!$H$13:$BN$18,2,FALSE)),\"\")","v":""},null,null,null,null,null,null,null,null,null,null,null,null,null,null,null,null,null,null,null,null,null,null,null,"1","2"]
[null,{"$f":"IFERROR(IF(A104=\"\",\"\",VLOOKUP(A104,'Lista Narkotyki'!$A$2:$B$60,2,FALSE)),\"\")","v":""},{"$f":"IFERROR(IF(A104=\"\",\"\",HLOOKUP(A104,'Lista Narkotyki'!$H$34:$BN$37,2,FALSE)),\"\")","v":""},{"$f":"IFERROR(IF(A104=\"\",\"\",HLOOKUP(A104,'Lista Narkotyki'!$H$1:$BN$7,2,FALSE)),\"\")","v":""},{"$f":"IFERROR(IF(A104=\"\",\"\",HLOOKUP(A104,'Lista Narkotyki'!$H$13:$BN$18,2,FALSE)),\"\")","v":""},null,null,null,null,null,null,null,null,null,null,null,null,null,null,null,null,null,null,null,null,null,null,null,"1","2"]
[null,{"$f":"IFERROR(IF(A105=\"\",\"\",VLOOKUP(A105,'Lista Narkotyki'!$A$2:$B$60,2,FALSE)),\"\")","v":""},{"$f":"IFERROR(IF(A105=\"\",\"\",HLOOKUP(A105,'Lista Narkotyki'!$H$34:$BN$37,2,FALSE)),\"\")","v":""},{"$f":"IFERROR(IF(A105=\"\",\"\",HLOOKUP(A105,'Lista Narkotyki'!$H$1:$BN$7,2,FALSE)),\"\")","v":""},{"$f":"IFERROR(IF(A105=\"\",\"\",HLOOKUP(A105,'Lista Narkotyki'!$H$13:$BN$18,2,FALSE)),\"\")","v":""},null,null,null,null,null,null,null,null,null,null,null,null,null,null,null,null,null,null,null,null,null,null,null,"1","2"]
[null,{"$f":"IFERROR(IF(A106=\"\",\"\",VLOOKUP(A106,'Lista Narkotyki'!$A$2:$B$60,2,FALSE)),\"\")","v":""},{"$f":"IFERROR(IF(A106=\"\",\"\",HLOOKUP(A106,'Lista Narkotyki'!$H$34:$BN$37,2,FALSE)),\"\")","v":""},{"$f":"IFERROR(IF(A106=\"\",\"\",HLOOKUP(A106,'Lista Narkotyki'!$H$1:$BN$7,2,FALSE)),\"\")","v":""},{"$f":"IFERROR(IF(A106=\"\",\"\",HLOOKUP(A106,'Lista Narkotyki'!$H$13:$BN$18,2,FALSE)),\"\")","v":""},null,null,null,null,null,null,null,null,null,null,null,null,null,null,null,null,null,null,null,null,null,null,null,"1","2"]
[null,{"$f":"IFERROR(IF(A107=\"\",\"\",VLOOKUP(A107,'Lista Narkotyki'!$A$2:$B$60,2,FALSE)),\"\")","v":""},{"$f":"IFERROR(IF(A107=\"\",\"\",HLOOKUP(A107,'Lista Narkotyki'!$H$34:$BN$37,2,FALSE)),\"\")","v":""},{"$f":"IFERROR(IF(A107=\"\",\"\",HLOOKUP(A107,'Lista Narkotyki'!$H$1:$BN$7,2,FALSE)),\"\")","v":""},{"$f":"IFERROR(IF(A107=\"\",\"\",HLOOKUP(A107,'Lista Narkotyki'!$H$13:$BN$18,2,FALSE)),\"\")","v":""},null,null,null,null,null,null,null,null,null,null,null,null,null,null,null,null,null,null,null,null,null,null,null,"1","2"]
[null,{"$f":"IFERROR(IF(A108=\"\",\"\",VLOOKUP(A108,'Lista Narkotyki'!$A$2:$B$60,2,FALSE)),\"\")","v":""},{"$f":"IFERROR(IF(A108=\"\",\"\",HLOOKUP(A108,'Lista Narkotyki'!$H$34:$BN$37,2,FALSE)),\"\")","v":""},{"$f":"IFERROR(IF(A108=\"\",\"\",HLOOKUP(A108,'Lista Narkotyki'!$H$1:$BN$7,2,FALSE)),\"\")","v":""},{"$f":"IFERROR(IF(A108=\"\",\"\",HLOOKUP(A108,'Lista Narkotyki'!$H$13:$BN$18,2,FALSE)),\"\")","v":""},null,null,null,null,null,null,null,null,null,null,null,null,null,null,null,null,null,null,null,null,null,null,null,"1","2"]
[null,{"$f":"IFERROR(IF(A109=\"\",\"\",VLOOKUP(A109,'Lista Narkotyki'!$A$2:$B$60,2,FALSE)),\"\")","v":""},{"$f":"IFERROR(IF(A109=\"\",\"\",HLOOKUP(A109,'Lista Narkotyki'!$H$34:$BN$37,2,FALSE)),\"\")","v":""},{"$f":"IFERROR(IF(A109=\"\",\"\",HLOOKUP(A109,'Lista Narkotyki'!$H$1:$BN$7,2,FALSE)),\"\")","v":""},{"$f":"IFERROR(IF(A109=\"\",\"\",HLOOKUP(A109,'Lista Narkotyki'!$H$13:$BN$18,2,FALSE)),\"\")","v":""},null,null,null,null,null,null,null,null,null,null,null,null,null,null,null,null,null,null,null,null,null,null,null,"1","2"]
[null,{"$f":"IFERROR(IF(A110=\"\",\"\",VLOOKUP(A110,'Lista Narkotyki'!$A$2:$B$60,2,FALSE)),\"\")","v":""},{"$f":"IFERROR(IF(A110=\"\",\"\",HLOOKUP(A110,'Lista Narkotyki'!$H$34:$BN$37,2,FALSE)),\"\")","v":""},{"$f":"IFERROR(IF(A110=\"\",\"\",HLOOKUP(A110,'Lista Narkotyki'!$H$1:$BN$7,2,FALSE)),\"\")","v":""},{"$f":"IFERROR(IF(A110=\"\",\"\",HLOOKUP(A110,'Lista Narkotyki'!$H$13:$BN$18,2,FALSE)),\"\")","v":""},null,null,null,null,null,null,null,null,null,null,null,null,null,null,null,null,null,null,null,null,null,null,null,"1","2"]
[null,{"$f":"IFERROR(IF(A111=\"\",\"\",VLOOKUP(A111,'Lista Narkotyki'!$A$2:$B$60,2,FALSE)),\"\")","v":""},{"$f":"IFERROR(IF(A111=\"\",\"\",HLOOKUP(A111,'Lista Narkotyki'!$H$34:$BN$37,2,FALSE)),\"\")","v":""},{"$f":"IFERROR(IF(A111=\"\",\"\",HLOOKUP(A111,'Lista Narkotyki'!$H$1:$BN$7,2,FALSE)),\"\")","v":""},{"$f":"IFERROR(IF(A111=\"\",\"\",HLOOKUP(A111,'Lista Narkotyki'!$H$13:$BN$18,2,FALSE)),\"\")","v":""},null,null,null,null,null,null,null,null,null,null,null,null,null,null,null,null,null,null,null,null,null,null,null,"1","2"]
[null,{"$f":"IFERROR(IF(A112=\"\",\"\",VLOOKUP(A112,'Lista Narkotyki'!$A$2:$B$60,2,FALSE)),\"\")","v":""},{"$f":"IFERROR(IF(A112=\"\",\"\",HLOOKUP(A112,'Lista Narkotyki'!$H$34:$BN$37,2,FALSE)),\"\")","v":""},{"$f":"IFERROR(IF(A112=\"\",\"\",HLOOKUP(A112,'Lista Narkotyki'!$H$1:$BN$7,2,FALSE)),\"\")","v":""},{"$f":"IFERROR(IF(A112=\"\",\"\",HLOOKUP(A112,'Lista Narkotyki'!$H$13:$BN$18,2,FALSE)),\"\")","v":""},null,null,null,null,null,null,null,null,null,null,null,null,null,null,null,null,null,null,null,null,null,null,null,"1","2"]
[null,{"$f":"IFERROR(IF(A113=\"\",\"\",VLOOKUP(A113,'Lista Narkotyki'!$A$2:$B$60,2,FALSE)),\"\")","v":""},{"$f":"IFERROR(IF(A113=\"\",\"\",HLOOKUP(A113,'Lista Narkotyki'!$H$34:$BN$37,2,FALSE)),\"\")","v":""},{"$f":"IFERROR(IF(A113=\"\",\"\",HLOOKUP(A113,'Lista Narkotyki'!$H$1:$BN$7,2,FALSE)),\"\")","v":""},{"$f":"IFERROR(IF(A113=\"\",\"\",HLOOKUP(A113,'Lista Narkotyki'!$H$13:$BN$18,2,FALSE)),\"\")","v":""},null,null,null,null,null,null,null,null,null,null,null,null,null,null,null,null,null,null,null,null,null,null,null,"1","2"]
[null,{"$f":"IFERROR(IF(A114=\"\",\"\",VLOOKUP(A114,'Lista Narkotyki'!$A$2:$B$60,2,FALSE)),\"\")","v":""},{"$f":"IFERROR(IF(A114=\"\",\"\",HLOOKUP(A114,'Lista Narkotyki'!$H$34:$BN$37,2,FALSE)),\"\")","v":""},{"$f":"IFERROR(IF(A114=\"\",\"\",HLOOKUP(A114,'Lista Narkotyki'!$H$1:$BN$7,2,FALSE)),\"\")","v":""},{"$f":"IFERROR(IF(A114=\"\",\"\",HLOOKUP(A114,'Lista Narkotyki'!$H$13:$BN$18,2,FALSE)),\"\")","v":""},null,null,null,null,null,null,null,null,null,null,null,null,null,null,null,null,null,null,null,null,null,null,null,"1","2"]
[null,{"$f":"IFERROR(IF(A115=\"\",\"\",VLOOKUP(A115,'Lista Narkotyki'!$A$2:$B$60,2,FALSE)),\"\")","v":""},{"$f":"IFERROR(IF(A115=\"\",\"\",HLOOKUP(A115,'Lista Narkotyki'!$H$34:$BN$37,2,FALSE)),\"\")","v":""},{"$f":"IFERROR(IF(A115=\"\",\"\",HLOOKUP(A115,'Lista Narkotyki'!$H$1:$BN$7,2,FALSE)),\"\")","v":""},{"$f":"IFERROR(IF(A115=\"\",\"\",HLOOKUP(A115,'Lista Narkotyki'!$H$13:$BN$18,2,FALSE)),\"\")","v":""},null,null,null,null,null,null,null,null,null,null,null,null,null,null,null,null,null,null,null,null,null,null,null,"1","2"]
[null,{"$f":"IFERROR(IF(A116=\"\",\"\",VLOOKUP(A116,'Lista Narkotyki'!$A$2:$B$60,2,FALSE)),\"\")","v":""},{"$f":"IFERROR(IF(A116=\"\",\"\",HLOOKUP(A116,'Lista Narkotyki'!$H$34:$BN$37,2,FALSE)),\"\")","v":""},{"$f":"IFERROR(IF(A116=\"\",\"\",HLOOKUP(A116,'Lista Narkotyki'!$H$1:$BN$7,2,FALSE)),\"\")","v":""},{"$f":"IFERROR(IF(A116=\"\",\"\",HLOOKUP(A116,'Lista Narkotyki'!$H$13:$BN$18,2,FALSE)),\"\")","v":""},null,null,null,null,null,null,null,null,null,null,null,null,null,null,null,null,null,null,null,null,null,null,null,"1","2"]
[null,{"$f":"IFERROR(IF(A117=\"\",\"\",VLOOKUP(A117,'Lista Narkotyki'!$A$2:$B$60,2,FALSE)),\"\")","v":""},{"$f":"IFERROR(IF(A117=\"\",\"\",HLOOKUP(A117,'Lista Narkotyki'!$H$34:$BN$37,2,FALSE)),\"\")","v":""},{"$f":"IFERROR(IF(A117=\"\",\"\",HLOOKUP(A117,'Lista Narkotyki'!$H$1:$BN$7,2,FALSE)),\"\")","v":""},{"$f":"IFERROR(IF(A117=\"\",\"\",HLOOKUP(A117,'Lista Narkotyki'!$H$13:$BN$18,2,FALSE)),\"\")","v":""},null,null,null,null,null,null,null,null,null,null,null,null,null,null,null,null,null,null,null,null,null,null,null,"1","2"]
[null,{"$f":"IFERROR(IF(A118=\"\",\"\",VLOOKUP(A118,'Lista Narkotyki'!$A$2:$B$60,2,FALSE)),\"\")","v":""},{"$f":"IFERROR(IF(A118=\"\",\"\",HLOOKUP(A118,'Lista Narkotyki'!$H$34:$BN$37,2,FALSE)),\"\")","v":""},{"$f":"IFERROR(IF(A118=\"\",\"\",HLOOKUP(A118,'Lista Narkotyki'!$H$1:$BN$7,2,FALSE)),\"\")","v":""},{"$f":"IFERROR(IF(A118=\"\",\"\",HLOOKUP(A118,'Lista Narkotyki'!$H$13:$BN$18,2,FALSE)),\"\")","v":""},null,null,null,null,null,null,null,null,null,null,null,null,null,null,null,null,null,null,null,null,null,null,null,"1","2"]
[null,{"$f":"IFERROR(IF(A119=\"\",\"\",VLOOKUP(A119,'Lista Narkotyki'!$A$2:$B$60,2,FALSE)),\"\")","v":""},{"$f":"IFERROR(IF(A119=\"\",\"\",HLOOKUP(A119,'Lista Narkotyki'!$H$34:$BN$37,2,FALSE)),\"\")","v":""},{"$f":"IFERROR(IF(A119=\"\",\"\",HLOOKUP(A119,'Lista Narkotyki'!$H$1:$BN$7,2,FALSE)),\"\")","v":""},{"$f":"IFERROR(IF(A119=\"\",\"\",HLOOKUP(A119,'Lista Narkotyki'!$H$13:$BN$18,2,FALSE)),\"\")","v":""},null,null,null,null,null,null,null,null,null,null,null,null,null,null,null,null,null,null,null,null,null,null,null,"1","2"]
[null,{"$f":"IFERROR(IF(A120=\"\",\"\",VLOOKUP(A120,'Lista Narkotyki'!$A$2:$B$60,2,FALSE)),\"\")","v":""},{"$f":"IFERROR(IF(A120=\"\",\"\",HLOOKUP(A120,'Lista Narkotyki'!$H$34:$BN$37,2,FALSE)),\"\")","v":""},{"$f":"IFERROR(IF(A120=\"\",\"\",HLOOKUP(A120,'Lista Narkotyki'!$H$1:$BN$7,2,FALSE)),\"\")","v":""},{"$f":"IFERROR(IF(A120=\"\",\"\",HLOOKUP(A120,'Lista Narkotyki'!$H$13:$BN$18,2,FALSE)),\"\")","v":""},null,null,null,null,null,null,null,null,null,null,null,null,null,null,null,null,null,null,null,null,null,null,null,"1","2"]
[null,{"$f":"IFERROR(IF(A121=\"\",\"\",VLOOKUP(A121,'Lista Narkotyki'!$A$2:$B$60,2,FALSE)),\"\")","v":""},{"$f":"IFERROR(IF(A121=\"\",\"\",HLOOKUP(A121,'Lista Narkotyki'!$H$34:$BN$37,2,FALSE)),\"\")","v":""},{"$f":"IFERROR(IF(A121=\"\",\"\",HLOOKUP(A121,'Lista Narkotyki'!$H$1:$BN$7,2,FALSE)),\"\")","v":""},{"$f":"IFERROR(IF(A121=\"\",\"\",HLOOKUP(A121,'Lista Narkotyki'!$H$13:$BN$18,2,FALSE)),\"\")","v":""},null,null,null,null,null,null,null,null,null,null,null,null,null,null,null,null,null,null,null,null,null,null,null,"1","2"]
[null,{"$f":"IFERROR(IF(A122=\"\",\"\",VLOOKUP(A122,'Lista Narkotyki'!$A$2:$B$60,2,FALSE)),\"\")","v":""},{"$f":"IFERROR(IF(A122=\"\",\"\",HLOOKUP(A122,'Lista Narkotyki'!$H$34:$BN$37,2,FALSE)),\"\")","v":""},{"$f":"IFERROR(IF(A122=\"\",\"\",HLOOKUP(A122,'Lista Narkotyki'!$H$1:$BN$7,2,FALSE)),\"\")","v":""},{"$f":"IFERROR(IF(A122=\"\",\"\",HLOOKUP(A122,'Lista Narkotyki'!$H$13:$BN$18,2,FALSE)),\"\")","v":""},null,null,null,null,null,null,null,null,null,null,null,null,null,null,null,null,null,null,null,null,null,null,null,"1","2"]
[null,{"$f":"IFERROR(IF(A123=\"\",\"\",VLOOKUP(A123,'Lista Narkotyki'!$A$2:$B$60,2,FALSE)),\"\")","v":""},{"$f":"IFERROR(IF(A123=\"\",\"\",HLOOKUP(A123,'Lista Narkotyki'!$H$34:$BN$37,2,FALSE)),\"\")","v":""},{"$f":"IFERROR(IF(A123=\"\",\"\",HLOOKUP(A123,'Lista Narkotyki'!$H$1:$BN$7,2,FALSE)),\"\")","v":""},{"$f":"IFERROR(IF(A123=\"\",\"\",HLOOKUP(A123,'Lista Narkotyki'!$H$13:$BN$18,2,FALSE)),\"\")","v":""},null,null,null,null,null,null,null,null,null,null,null,null,null,null,null,null,null,null,null,null,null,null,null,"1","2"]
[null,{"$f":"IFERROR(IF(A124=\"\",\"\",VLOOKUP(A124,'Lista Narkotyki'!$A$2:$B$60,2,FALSE)),\"\")","v":""},{"$f":"IFERROR(IF(A124=\"\",\"\",HLOOKUP(A124,'Lista Narkotyki'!$H$34:$BN$37,2,FALSE)),\"\")","v":""},{"$f":"IFERROR(IF(A124=\"\",\"\",HLOOKUP(A124,'Lista Narkotyki'!$H$1:$BN$7,2,FALSE)),\"\")","v":""},{"$f":"IFERROR(IF(A124=\"\",\"\",HLOOKUP(A124,'Lista Narkotyki'!$H$13:$BN$18,2,FALSE)),\"\")","v":""},null,null,null,null,null,null,null,null,null,null,null,null,null,null,null,null,null,null,null,null,null,null,null,"1","2"]
[null,{"$f":"IFERROR(IF(A125=\"\",\"\",VLOOKUP(A125,'Lista Narkotyki'!$A$2:$B$60,2,FALSE)),\"\")","v":""},{"$f":"IFERROR(IF(A125=\"\",\"\",HLOOKUP(A125,'Lista Narkotyki'!$H$34:$BN$37,2,FALSE)),\"\")","v":""},{"$f":"IFERROR(IF(A125=\"\",\"\",HLOOKUP(A125,'Lista Narkotyki'!$H$1:$BN$7,2,FALSE)),\"\")","v":""},{"$f":"IFERROR(IF(A125=\"\",\"\",HLOOKUP(A125,'Lista Narkotyki'!$H$13:$BN$18,2,FALSE)),\"\")","v":""},null,null,null,null,null,null,null,null,null,null,null,null,null,null,null,null,null,null,null,null,null,null,null,"1","2"]
[null,{"$f":"IFERROR(IF(A126=\"\",\"\",VLOOKUP(A126,'Lista Narkotyki'!$A$2:$B$60,2,FALSE)),\"\")","v":""},{"$f":"IFERROR(IF(A126=\"\",\"\",HLOOKUP(A126,'Lista Narkotyki'!$H$34:$BN$37,2,FALSE)),\"\")","v":""},{"$f":"IFERROR(IF(A126=\"\",\"\",HLOOKUP(A126,'Lista Narkotyki'!$H$1:$BN$7,2,FALSE)),\"\")","v":""},{"$f":"IFERROR(IF(A126=\"\",\"\",HLOOKUP(A126,'Lista Narkotyki'!$H$13:$BN$18,2,FALSE)),\"\")","v":""},null,null,null,null,null,null,null,null,null,null,null,null,null,null,null,null,null,null,null,null,null,null,null,"1","2"]
[null,{"$f":"IFERROR(IF(A127=\"\",\"\",VLOOKUP(A127,'Lista Narkotyki'!$A$2:$B$60,2,FALSE)),\"\")","v":""},{"$f":"IFERROR(IF(A127=\"\",\"\",HLOOKUP(A127,'Lista Narkotyki'!$H$34:$BN$37,2,FALSE)),\"\")","v":""},{"$f":"IFERROR(IF(A127=\"\",\"\",HLOOKUP(A127,'Lista Narkotyki'!$H$1:$BN$7,2,FALSE)),\"\")","v":""},{"$f":"IFERROR(IF(A127=\"\",\"\",HLOOKUP(A127,'Lista Narkotyki'!$H$13:$BN$18,2,FALSE)),\"\")","v":""},null,null,null,null,null,null,null,null,null,null,null,null,null,null,null,null,null,null,null,null,null,null,null,"1","2"]
[null,{"$f":"IFERROR(IF(A128=\"\",\"\",VLOOKUP(A128,'Lista Narkotyki'!$A$2:$B$60,2,FALSE)),\"\")","v":""},{"$f":"IFERROR(IF(A128=\"\",\"\",HLOOKUP(A128,'Lista Narkotyki'!$H$34:$BN$37,2,FALSE)),\"\")","v":""},{"$f":"IFERROR(IF(A128=\"\",\"\",HLOOKUP(A128,'Lista Narkotyki'!$H$1:$BN$7,2,FALSE)),\"\")","v":""},{"$f":"IFERROR(IF(A128=\"\",\"\",HLOOKUP(A128,'Lista Narkotyki'!$H$13:$BN$18,2,FALSE)),\"\")","v":""},null,null,null,null,null,null,null,null,null,null,null,null,null,null,null,null,null,null,null,null,null,null,null,"1","2"]
[null,{"$f":"IFERROR(IF(A129=\"\",\"\",VLOOKUP(A129,'Lista Narkotyki'!$A$2:$B$60,2,FALSE)),\"\")","v":""},{"$f":"IFERROR(IF(A129=\"\",\"\",HLOOKUP(A129,'Lista Narkotyki'!$H$34:$BN$37,2,FALSE)),\"\")","v":""},{"$f":"IFERROR(IF(A129=\"\",\"\",HLOOKUP(A129,'Lista Narkotyki'!$H$1:$BN$7,2,FALSE)),\"\")","v":""},{"$f":"IFERROR(IF(A129=\"\",\"\",HLOOKUP(A129,'Lista Narkotyki'!$H$13:$BN$18,2,FALSE)),\"\")","v":""},null,null,null,null,null,null,null,null,null,null,null,null,null,null,null,null,null,null,null,null,null,null,null,"1","2"]
[null,{"$f":"IFERROR(IF(A130=\"\",\"\",VLOOKUP(A130,'Lista Narkotyki'!$A$2:$B$60,2,FALSE)),\"\")","v":""},{"$f":"IFERROR(IF(A130=\"\",\"\",HLOOKUP(A130,'Lista Narkotyki'!$H$34:$BN$37,2,FALSE)),\"\")","v":""},{"$f":"IFERROR(IF(A130=\"\",\"\",HLOOKUP(A130,'Lista Narkotyki'!$H$1:$BN$7,2,FALSE)),\"\")","v":""},{"$f":"IFERROR(IF(A130=\"\",\"\",HLOOKUP(A130,'Lista Narkotyki'!$H$13:$BN$18,2,FALSE)),\"\")","v":""},null,null,null,null,null,null,null,null,null,null,null,null,null,null,null,null,null,null,null,null,null,null,null,"1","2"]
[null,{"$f":"IFERROR(IF(A131=\"\",\"\",VLOOKUP(A131,'Lista Narkotyki'!$A$2:$B$60,2,FALSE)),\"\")","v":""},{"$f":"IFERROR(IF(A131=\"\",\"\",HLOOKUP(A131,'Lista Narkotyki'!$H$34:$BN$37,2,FALSE)),\"\")","v":""},{"$f":"IFERROR(IF(A131=\"\",\"\",HLOOKUP(A131,'Lista Narkotyki'!$H$1:$BN$7,2,FALSE)),\"\")","v":""},{"$f":"IFERROR(IF(A131=\"\",\"\",HLOOKUP(A131,'Lista Narkotyki'!$H$13:$BN$18,2,FALSE)),\"\")","v":""},null,null,null,null,null,null,null,null,null,null,null,null,null,null,null,null,null,null,null,null,null,null,null,"1","2"]
[null,{"$f":"IFERROR(IF(A132=\"\",\"\",VLOOKUP(A132,'Lista Narkotyki'!$A$2:$B$60,2,FALSE)),\"\")","v":""},{"$f":"IFERROR(IF(A132=\"\",\"\",HLOOKUP(A132,'Lista Narkotyki'!$H$34:$BN$37,2,FALSE)),\"\")","v":""},{"$f":"IFERROR(IF(A132=\"\",\"\",HLOOKUP(A132,'Lista Narkotyki'!$H$1:$BN$7,2,FALSE)),\"\")","v":""},{"$f":"IFERROR(IF(A132=\"\",\"\",HLOOKUP(A132,'Lista Narkotyki'!$H$13:$BN$18,2,FALSE)),\"\")","v":""},null,null,null,null,null,null,null,null,null,null,null,null,null,null,null,null,null,null,null,null,null,null,null,"1","2"]
[null,{"$f":"IFERROR(IF(A133=\"\",\"\",VLOOKUP(A133,'Lista Narkotyki'!$A$2:$B$60,2,FALSE)),\"\")","v":""},{"$f":"IFERROR(IF(A133=\"\",\"\",HLOOKUP(A133,'Lista Narkotyki'!$H$34:$BN$37,2,FALSE)),\"\")","v":""},{"$f":"IFERROR(IF(A133=\"\",\"\",HLOOKUP(A133,'Lista Narkotyki'!$H$1:$BN$7,2,FALSE)),\"\")","v":""},{"$f":"IFERROR(IF(A133=\"\",\"\",HLOOKUP(A133,'Lista Narkotyki'!$H$13:$BN$18,2,FALSE)),\"\")","v":""},null,null,null,null,null,null,null,null,null,null,null,null,null,null,null,null,null,null,null,null,null,null,null,"1","2"]
[null,{"$f":"IFERROR(IF(A134=\"\",\"\",VLOOKUP(A134,'Lista Narkotyki'!$A$2:$B$60,2,FALSE)),\"\")","v":""},{"$f":"IFERROR(IF(A134=\"\",\"\",HLOOKUP(A134,'Lista Narkotyki'!$H$34:$BN$37,2,FALSE)),\"\")","v":""},{"$f":"IFERROR(IF(A134=\"\",\"\",HLOOKUP(A134,'Lista Narkotyki'!$H$1:$BN$7,2,FALSE)),\"\")","v":""},{"$f":"IFERROR(IF(A134=\"\",\"\",HLOOKUP(A134,'Lista Narkotyki'!$H$13:$BN$18,2,FALSE)),\"\")","v":""},null,null,null,null,null,null,null,null,null,null,null,null,null,null,null,null,null,null,null,null,null,null,null,"1","2"]
[null,{"$f":"IFERROR(IF(A135=\"\",\"\",VLOOKUP(A135,'Lista Narkotyki'!$A$2:$B$60,2,FALSE)),\"\")","v":""},{"$f":"IFERROR(IF(A135=\"\",\"\",HLOOKUP(A135,'Lista Narkotyki'!$H$34:$BN$37,2,FALSE)),\"\")","v":""},{"$f":"IFERROR(IF(A135=\"\",\"\",HLOOKUP(A135,'Lista Narkotyki'!$H$1:$BN$7,2,FALSE)),\"\")","v":""},{"$f":"IFERROR(IF(A135=\"\",\"\",HLOOKUP(A135,'Lista Narkotyki'!$H$13:$BN$18,2,FALSE)),\"\")","v":""},null,null,null,null,null,null,null,null,null,null,null,null,null,null,null,null,null,null,null,null,null,null,null,"1","2"]
[null,{"$f":"IFERROR(IF(A136=\"\",\"\",VLOOKUP(A136,'Lista Narkotyki'!$A$2:$B$60,2,FALSE)),\"\")","v":""},{"$f":"IFERROR(IF(A136=\"\",\"\",HLOOKUP(A136,'Lista Narkotyki'!$H$34:$BN$37,2,FALSE)),\"\")","v":""},{"$f":"IFERROR(IF(A136=\"\",\"\",HLOOKUP(A136,'Lista Narkotyki'!$H$1:$BN$7,2,FALSE)),\"\")","v":""},{"$f":"IFERROR(IF(A136=\"\",\"\",HLOOKUP(A136,'Lista Narkotyki'!$H$13:$BN$18,2,FALSE)),\"\")","v":""},null,null,null,null,null,null,null,null,null,null,null,null,null,null,null,null,null,null,null,null,null,null,null,"1","2"]
[null,{"$f":"IFERROR(IF(A137=\"\",\"\",VLOOKUP(A137,'Lista Narkotyki'!$A$2:$B$60,2,FALSE)),\"\")","v":""},{"$f":"IFERROR(IF(A137=\"\",\"\",HLOOKUP(A137,'Lista Narkotyki'!$H$34:$BN$37,2,FALSE)),\"\")","v":""},{"$f":"IFERROR(IF(A137=\"\",\"\",HLOOKUP(A137,'Lista Narkotyki'!$H$1:$BN$7,2,FALSE)),\"\")","v":""},{"$f":"IFERROR(IF(A137=\"\",\"\",HLOOKUP(A137,'Lista Narkotyki'!$H$13:$BN$18,2,FALSE)),\"\")","v":""},null,null,null,null,null,null,null,null,null,null,null,null,null,null,null,null,null,null,null,null,null,null,null,"1","2"]
[null,{"$f":"IFERROR(IF(A138=\"\",\"\",VLOOKUP(A138,'Lista Narkotyki'!$A$2:$B$60,2,FALSE)),\"\")","v":""},{"$f":"IFERROR(IF(A138=\"\",\"\",HLOOKUP(A138,'Lista Narkotyki'!$H$34:$BN$37,2,FALSE)),\"\")","v":""},{"$f":"IFERROR(IF(A138=\"\",\"\",HLOOKUP(A138,'Lista Narkotyki'!$H$1:$BN$7,2,FALSE)),\"\")","v":""},{"$f":"IFERROR(IF(A138=\"\",\"\",HLOOKUP(A138,'Lista Narkotyki'!$H$13:$BN$18,2,FALSE)),\"\")","v":""},null,null,null,null,null,null,null,null,null,null,null,null,null,null,null,null,null,null,null,null,null,null,null,"1","2"]
[null,{"$f":"IFERROR(IF(A139=\"\",\"\",VLOOKUP(A139,'Lista Narkotyki'!$A$2:$B$60,2,FALSE)),\"\")","v":""},{"$f":"IFERROR(IF(A139=\"\",\"\",HLOOKUP(A139,'Lista Narkotyki'!$H$34:$BN$37,2,FALSE)),\"\")","v":""},{"$f":"IFERROR(IF(A139=\"\",\"\",HLOOKUP(A139,'Lista Narkotyki'!$H$1:$BN$7,2,FALSE)),\"\")","v":""},{"$f":"IFERROR(IF(A139=\"\",\"\",HLOOKUP(A139,'Lista Narkotyki'!$H$13:$BN$18,2,FALSE)),\"\")","v":""},null,null,null,null,null,null,null,null,null,null,null,null,null,null,null,null,null,null,null,null,null,null,null,{"$f":"A139&1","v":"1"},{"$f":"A139&2","v":"2"}]
[null,{"$f":"IFERROR(IF(A140=\"\",\"\",VLOOKUP(A140,'Lista Narkotyki'!$A$2:$B$60,2,FALSE)),\"\")","v":""},{"$f":"IFERROR(IF(A140=\"\",\"\",HLOOKUP(A140,'Lista Narkotyki'!$H$34:$BN$37,2,FALSE)),\"\")","v":""},{"$f":"IFERROR(IF(A140=\"\",\"\",HLOOKUP(A140,'Lista Narkotyki'!$H$1:$BN$7,2,FALSE)),\"\")","v":""},{"$f":"IFERROR(IF(A140=\"\",\"\",HLOOKUP(A140,'Lista Narkotyki'!$H$13:$BN$18,2,FALSE)),\"\")","v":""},null,null,null,null,null,null,null,null,null,null,null,null,null,null,null,null,null,null,null,null,null,null,null,"1","2"]
[null,{"$f":"IFERROR(IF(A141=\"\",\"\",VLOOKUP(A141,'Lista Narkotyki'!$A$2:$B$60,2,FALSE)),\"\")","v":""},{"$f":"IFERROR(IF(A141=\"\",\"\",HLOOKUP(A141,'Lista Narkotyki'!$H$34:$BN$37,2,FALSE)),\"\")","v":""},{"$f":"IFERROR(IF(A141=\"\",\"\",HLOOKUP(A141,'Lista Narkotyki'!$H$1:$BN$7,2,FALSE)),\"\")","v":""},{"$f":"IFERROR(IF(A141=\"\",\"\",HLOOKUP(A141,'Lista Narkotyki'!$H$13:$BN$18,2,FALSE)),\"\")","v":""},null,null,null,null,null,null,null,null,null,null,null,null,null,null,null,null,null,null,null,null,null,null,null,"1","2"]
[null,{"$f":"IFERROR(IF(A142=\"\",\"\",VLOOKUP(A142,'Lista Narkotyki'!$A$2:$B$60,2,FALSE)),\"\")","v":""},{"$f":"IFERROR(IF(A142=\"\",\"\",HLOOKUP(A142,'Lista Narkotyki'!$H$34:$BN$37,2,FALSE)),\"\")","v":""},{"$f":"IFERROR(IF(A142=\"\",\"\",HLOOKUP(A142,'Lista Narkotyki'!$H$1:$BN$7,2,FALSE)),\"\")","v":""},{"$f":"IFERROR(IF(A142=\"\",\"\",HLOOKUP(A142,'Lista Narkotyki'!$H$13:$BN$18,2,FALSE)),\"\")","v":""},null,null,null,null,null,null,null,null,null,null,null,null,null,null,null,null,null,null,null,null,null,null,null,"1","2"]
[null,{"$f":"IFERROR(IF(A143=\"\",\"\",VLOOKUP(A143,'Lista Narkotyki'!$A$2:$B$60,2,FALSE)),\"\")","v":""},{"$f":"IFERROR(IF(A143=\"\",\"\",HLOOKUP(A143,'Lista Narkotyki'!$H$34:$BN$37,2,FALSE)),\"\")","v":""},{"$f":"IFERROR(IF(A143=\"\",\"\",HLOOKUP(A143,'Lista Narkotyki'!$H$1:$BN$7,2,FALSE)),\"\")","v":""},{"$f":"IFERROR(IF(A143=\"\",\"\",HLOOKUP(A143,'Lista Narkotyki'!$H$13:$BN$18,2,FALSE)),\"\")","v":""},null,null,null,null,null,null,null,null,null,null,null,null,null,null,null,null,null,null,null,null,null,null,null,"1","2"]
[null,{"$f":"IFERROR(IF(A144=\"\",\"\",VLOOKUP(A144,'Lista Narkotyki'!$A$2:$B$60,2,FALSE)),\"\")","v":""},{"$f":"IFERROR(IF(A144=\"\",\"\",HLOOKUP(A144,'Lista Narkotyki'!$H$34:$BN$37,2,FALSE)),\"\")","v":""},{"$f":"IFERROR(IF(A144=\"\",\"\",HLOOKUP(A144,'Lista Narkotyki'!$H$1:$BN$7,2,FALSE)),\"\")","v":""},{"$f":"IFERROR(IF(A144=\"\",\"\",HLOOKUP(A144,'Lista Narkotyki'!$H$13:$BN$18,2,FALSE)),\"\")","v":""},null,null,null,null,null,null,null,null,null,null,null,null,null,null,null,null,null,null,null,null,null,null,null,"1","2"]
[null,{"$f":"IFERROR(IF(A145=\"\",\"\",VLOOKUP(A145,'Lista Narkotyki'!$A$2:$B$60,2,FALSE)),\"\")","v":""},{"$f":"IFERROR(IF(A145=\"\",\"\",HLOOKUP(A145,'Lista Narkotyki'!$H$34:$BN$37,2,FALSE)),\"\")","v":""},{"$f":"IFERROR(IF(A145=\"\",\"\",HLOOKUP(A145,'Lista Narkotyki'!$H$1:$BN$7,2,FALSE)),\"\")","v":""},{"$f":"IFERROR(IF(A145=\"\",\"\",HLOOKUP(A145,'Lista Narkotyki'!$H$13:$BN$18,2,FALSE)),\"\")","v":""},null,null,null,null,null,null,null,null,null,null,null,null,null,null,null,null,null,null,null,null,null,null,null,"1","2"]
[null,{"$f":"IFERROR(IF(A146=\"\",\"\",VLOOKUP(A146,'Lista Narkotyki'!$A$2:$B$60,2,FALSE)),\"\")","v":""},{"$f":"IFERROR(IF(A146=\"\",\"\",HLOOKUP(A146,'Lista Narkotyki'!$H$34:$BN$37,2,FALSE)),\"\")","v":""},{"$f":"IFERROR(IF(A146=\"\",\"\",HLOOKUP(A146,'Lista Narkotyki'!$H$1:$BN$7,2,FALSE)),\"\")","v":""},{"$f":"IFERROR(IF(A146=\"\",\"\",HLOOKUP(A146,'Lista Narkotyki'!$H$13:$BN$18,2,FALSE)),\"\")","v":""},null,null,null,null,null,null,null,null,null,null,null,null,null,null,null,null,null,null,null,null,null,null,null,"1","2"]
[null,{"$f":"IFERROR(IF(A147=\"\",\"\",VLOOKUP(A147,'Lista Narkotyki'!$A$2:$B$60,2,FALSE)),\"\")","v":""},{"$f":"IFERROR(IF(A147=\"\",\"\",HLOOKUP(A147,'Lista Narkotyki'!$H$34:$BN$37,2,FALSE)),\"\")","v":""},{"$f":"IFERROR(IF(A147=\"\",\"\",HLOOKUP(A147,'Lista Narkotyki'!$H$1:$BN$7,2,FALSE)),\"\")","v":""},{"$f":"IFERROR(IF(A147=\"\",\"\",HLOOKUP(A147,'Lista Narkotyki'!$H$13:$BN$18,2,FALSE)),\"\")","v":""},null,null,null,null,null,null,null,null,null,null,null,null,null,null,null,null,null,null,null,null,null,null,null,"1","2"]
[null,{"$f":"IFERROR(IF(A148=\"\",\"\",VLOOKUP(A148,'Lista Narkotyki'!$A$2:$B$60,2,FALSE)),\"\")","v":""},{"$f":"IFERROR(IF(A148=\"\",\"\",HLOOKUP(A148,'Lista Narkotyki'!$H$34:$BN$37,2,FALSE)),\"\")","v":""},{"$f":"IFERROR(IF(A148=\"\",\"\",HLOOKUP(A148,'Lista Narkotyki'!$H$1:$BN$7,2,FALSE)),\"\")","v":""},{"$f":"IFERROR(IF(A148=\"\",\"\",HLOOKUP(A148,'Lista Narkotyki'!$H$13:$BN$18,2,FALSE)),\"\")","v":""},null,null,null,null,null,null,null,null,null,null,null,null,null,null,null,null,null,null,null,null,null,null,null,"1","2"]
[null,{"$f":"IFERROR(IF(A149=\"\",\"\",VLOOKUP(A149,'Lista Narkotyki'!$A$2:$B$60,2,FALSE)),\"\")","v":""},{"$f":"IFERROR(IF(A149=\"\",\"\",HLOOKUP(A149,'Lista Narkotyki'!$H$34:$BN$37,2,FALSE)),\"\")","v":""},{"$f":"IFERROR(IF(A149=\"\",\"\",HLOOKUP(A149,'Lista Narkotyki'!$H$1:$BN$7,2,FALSE)),\"\")","v":""},{"$f":"IFERROR(IF(A149=\"\",\"\",HLOOKUP(A149,'Lista Narkotyki'!$H$13:$BN$18,2,FALSE)),\"\")","v":""},null,null,null,null,null,null,null,null,null,null,null,null,null,null,null,null,null,null,null,null,null,null,null,"1","2"]
[null,{"$f":"IFERROR(IF(A150=\"\",\"\",VLOOKUP(A150,'Lista Narkotyki'!$A$2:$B$60,2,FALSE)),\"\")","v":""},{"$f":"IFERROR(IF(A150=\"\",\"\",HLOOKUP(A150,'Lista Narkotyki'!$H$34:$BN$37,2,FALSE)),\"\")","v":""},{"$f":"IFERROR(IF(A150=\"\",\"\",HLOOKUP(A150,'Lista Narkotyki'!$H$1:$BN$7,2,FALSE)),\"\")","v":""},{"$f":"IFERROR(IF(A150=\"\",\"\",HLOOKUP(A150,'Lista Narkotyki'!$H$13:$BN$18,2,FALSE)),\"\")","v":""},null,null,null,null,null,null,null,null,null,null,null,null,null,null,null,null,null,null,null,null,null,null,null,"1","2"]
[null,{"$f":"IFERROR(IF(A151=\"\",\"\",VLOOKUP(A151,'Lista Narkotyki'!$A$2:$B$60,2,FALSE)),\"\")","v":""},{"$f":"IFERROR(IF(A151=\"\",\"\",HLOOKUP(A151,'Lista Narkotyki'!$H$34:$BN$37,2,FALSE)),\"\")","v":""},{"$f":"IFERROR(IF(A151=\"\",\"\",HLOOKUP(A151,'Lista Narkotyki'!$H$1:$BN$7,2,FALSE)),\"\")","v":""},{"$f":"IFERROR(IF(A151=\"\",\"\",HLOOKUP(A151,'Lista Narkotyki'!$H$13:$BN$18,2,FALSE)),\"\")","v":""},null,null,null,null,null,null,null,null,null,null,null,null,null,null,null,null,null,null,null,null,null,null,null,"1","2"]
[null,{"$f":"IFERROR(IF(A152=\"\",\"\",VLOOKUP(A152,'Lista Narkotyki'!$A$2:$B$60,2,FALSE)),\"\")","v":""},{"$f":"IFERROR(IF(A152=\"\",\"\",HLOOKUP(A152,'Lista Narkotyki'!$H$34:$BN$37,2,FALSE)),\"\")","v":""},{"$f":"IFERROR(IF(A152=\"\",\"\",HLOOKUP(A152,'Lista Narkotyki'!$H$1:$BN$7,2,FALSE)),\"\")","v":""},{"$f":"IFERROR(IF(A152=\"\",\"\",HLOOKUP(A152,'Lista Narkotyki'!$H$13:$BN$18,2,FALSE)),\"\")","v":""},null,null,null,null,null,null,null,null,null,null,null,null,null,null,null,null,null,null,null,null,null,null,null,"1","2"]
[null,{"$f":"IFERROR(IF(A153=\"\",\"\",VLOOKUP(A153,'Lista Narkotyki'!$A$2:$B$60,2,FALSE)),\"\")","v":""},{"$f":"IFERROR(IF(A153=\"\",\"\",HLOOKUP(A153,'Lista Narkotyki'!$H$34:$BN$37,2,FALSE)),\"\")","v":""},{"$f":"IFERROR(IF(A153=\"\",\"\",HLOOKUP(A153,'Lista Narkotyki'!$H$1:$BN$7,2,FALSE)),\"\")","v":""},{"$f":"IFERROR(IF(A153=\"\",\"\",HLOOKUP(A153,'Lista Narkotyki'!$H$13:$BN$18,2,FALSE)),\"\")","v":""},null,null,null,null,null,null,null,null,null,null,null,null,null,null,null,null,null,null,null,null,null,null,null,"1","2"]
[null,{"$f":"IFERROR(IF(A154=\"\",\"\",VLOOKUP(A154,'Lista Narkotyki'!$A$2:$B$60,2,FALSE)),\"\")","v":""},{"$f":"IFERROR(IF(A154=\"\",\"\",HLOOKUP(A154,'Lista Narkotyki'!$H$34:$BN$37,2,FALSE)),\"\")","v":""},{"$f":"IFERROR(IF(A154=\"\",\"\",HLOOKUP(A154,'Lista Narkotyki'!$H$1:$BN$7,2,FALSE)),\"\")","v":""},{"$f":"IFERROR(IF(A154=\"\",\"\",HLOOKUP(A154,'Lista Narkotyki'!$H$13:$BN$18,2,FALSE)),\"\")","v":""},null,null,null,null,null,null,null,null,null,null,null,null,null,null,null,null,null,null,null,null,null,null,null,"1","2"]
[null,{"$f":"IFERROR(IF(A155=\"\",\"\",VLOOKUP(A155,'Lista Narkotyki'!$A$2:$B$60,2,FALSE)),\"\")","v":""},{"$f":"IFERROR(IF(A155=\"\",\"\",HLOOKUP(A155,'Lista Narkotyki'!$H$34:$BN$37,2,FALSE)),\"\")","v":""},{"$f":"IFERROR(IF(A155=\"\",\"\",HLOOKUP(A155,'Lista Narkotyki'!$H$1:$BN$7,2,FALSE)),\"\")","v":""},{"$f":"IFERROR(IF(A155=\"\",\"\",HLOOKUP(A155,'Lista Narkotyki'!$H$13:$BN$18,2,FALSE)),\"\")","v":""},null,null,null,null,null,null,null,null,null,null,null,null,null,null,null,null,null,null,null,null,null,null,null,"1","2"]
[null,{"$f":"IFERROR(IF(A156=\"\",\"\",VLOOKUP(A156,'Lista Narkotyki'!$A$2:$B$60,2,FALSE)),\"\")","v":""},{"$f":"IFERROR(IF(A156=\"\",\"\",HLOOKUP(A156,'Lista Narkotyki'!$H$34:$BN$37,2,FALSE)),\"\")","v":""},{"$f":"IFERROR(IF(A156=\"\",\"\",HLOOKUP(A156,'Lista Narkotyki'!$H$1:$BN$7,2,FALSE)),\"\")","v":""},{"$f":"IFERROR(IF(A156=\"\",\"\",HLOOKUP(A156,'Lista Narkotyki'!$H$13:$BN$18,2,FALSE)),\"\")","v":""},null,null,null,null,null,null,null,null,null,null,null,null,null,null,null,null,null,null,null,null,null,null,null,"1","2"]
[null,{"$f":"IFERROR(IF(A157=\"\",\"\",VLOOKUP(A157,'Lista Narkotyki'!$A$2:$B$60,2,FALSE)),\"\")","v":""},{"$f":"IFERROR(IF(A157=\"\",\"\",HLOOKUP(A157,'Lista Narkotyki'!$H$34:$BN$37,2,FALSE)),\"\")","v":""},{"$f":"IFERROR(IF(A157=\"\",\"\",HLOOKUP(A157,'Lista Narkotyki'!$H$1:$BN$7,2,FALSE)),\"\")","v":""},{"$f":"IFERROR(IF(A157=\"\",\"\",HLOOKUP(A157,'Lista Narkotyki'!$H$13:$BN$18,2,FALSE)),\"\")","v":""},null,null,null,null,null,null,null,null,null,null,null,null,null,null,null,null,null,null,null,null,null,null,null,"1","2"]
[null,{"$f":"IFERROR(IF(A158=\"\",\"\",VLOOKUP(A158,'Lista Narkotyki'!$A$2:$B$60,2,FALSE)),\"\")","v":""},{"$f":"IFERROR(IF(A158=\"\",\"\",HLOOKUP(A158,'Lista Narkotyki'!$H$34:$BN$37,2,FALSE)),\"\")","v":""},{"$f":"IFERROR(IF(A158=\"\",\"\",HLOOKUP(A158,'Lista Narkotyki'!$H$1:$BN$7,2,FALSE)),\"\")","v":""},{"$f":"IFERROR(IF(A158=\"\",\"\",HLOOKUP(A158,'Lista Narkotyki'!$H$13:$BN$18,2,FALSE)),\"\")","v":""},null,null,null,null,null,null,null,null,null,null,null,null,null,null,null,null,null,null,null,null,null,null,null,"1","2"]
[null,{"$f":"IFERROR(IF(A159=\"\",\"\",VLOOKUP(A159,'Lista Narkotyki'!$A$2:$B$60,2,FALSE)),\"\")","v":""},{"$f":"IFERROR(IF(A159=\"\",\"\",HLOOKUP(A159,'Lista Narkotyki'!$H$34:$BN$37,2,FALSE)),\"\")","v":""},{"$f":"IFERROR(IF(A159=\"\",\"\",HLOOKUP(A159,'Lista Narkotyki'!$H$1:$BN$7,2,FALSE)),\"\")","v":""},{"$f":"IFERROR(IF(A159=\"\",\"\",HLOOKUP(A159,'Lista Narkotyki'!$H$13:$BN$18,2,FALSE)),\"\")","v":""},null,null,null,null,null,null,null,null,null,null,null,null,null,null,null,null,null,null,null,null,null,null,null,"1","2"]
[null,{"$f":"IFERROR(IF(A160=\"\",\"\",VLOOKUP(A160,'Lista Narkotyki'!$A$2:$B$60,2,FALSE)),\"\")","v":""},{"$f":"IFERROR(IF(A160=\"\",\"\",HLOOKUP(A160,'Lista Narkotyki'!$H$34:$BN$37,2,FALSE)),\"\")","v":""},{"$f":"IFERROR(IF(A160=\"\",\"\",HLOOKUP(A160,'Lista Narkotyki'!$H$1:$BN$7,2,FALSE)),\"\")","v":""},{"$f":"IFERROR(IF(A160=\"\",\"\",HLOOKUP(A160,'Lista Narkotyki'!$H$13:$BN$18,2,FALSE)),\"\")","v":""},null,null,null,null,null,null,null,null,null,null,null,null,null,null,null,null,null,null,null,null,null,null,null,"1","2"]
[null,{"$f":"IFERROR(IF(A161=\"\",\"\",VLOOKUP(A161,'Lista Narkotyki'!$A$2:$B$60,2,FALSE)),\"\")","v":""},{"$f":"IFERROR(IF(A161=\"\",\"\",HLOOKUP(A161,'Lista Narkotyki'!$H$34:$BN$37,2,FALSE)),\"\")","v":""},{"$f":"IFERROR(IF(A161=\"\",\"\",HLOOKUP(A161,'Lista Narkotyki'!$H$1:$BN$7,2,FALSE)),\"\")","v":""},{"$f":"IFERROR(IF(A161=\"\",\"\",HLOOKUP(A161,'Lista Narkotyki'!$H$13:$BN$18,2,FALSE)),\"\")","v":""},null,null,null,null,null,null,null,null,null,null,null,null,null,null,null,null,null,null,null,null,null,null,null,"1","2"]
[null,{"$f":"IFERROR(IF(A162=\"\",\"\",VLOOKUP(A162,'Lista Narkotyki'!$A$2:$B$60,2,FALSE)),\"\")","v":""},{"$f":"IFERROR(IF(A162=\"\",\"\",HLOOKUP(A162,'Lista Narkotyki'!$H$34:$BN$37,2,FALSE)),\"\")","v":""},{"$f":"IFERROR(IF(A162=\"\",\"\",HLOOKUP(A162,'Lista Narkotyki'!$H$1:$BN$7,2,FALSE)),\"\")","v":""},{"$f":"IFERROR(IF(A162=\"\",\"\",HLOOKUP(A162,'Lista Narkotyki'!$H$13:$BN$18,2,FALSE)),\"\")","v":""},null,null,null,null,null,null,null,null,null,null,null,null,null,null,null,null,null,null,null,null,null,null,null,"1","2"]
[null,{"$f":"IFERROR(IF(A163=\"\",\"\",VLOOKUP(A163,'Lista Narkotyki'!$A$2:$B$60,2,FALSE)),\"\")","v":""},{"$f":"IFERROR(IF(A163=\"\",\"\",HLOOKUP(A163,'Lista Narkotyki'!$H$34:$BN$37,2,FALSE)),\"\")","v":""},{"$f":"IFERROR(IF(A163=\"\",\"\",HLOOKUP(A163,'Lista Narkotyki'!$H$1:$BN$7,2,FALSE)),\"\")","v":""},{"$f":"IFERROR(IF(A163=\"\",\"\",HLOOKUP(A163,'Lista Narkotyki'!$H$13:$BN$18,2,FALSE)),\"\")","v":""},null,null,null,null,null,null,null,null,null,null,null,null,null,null,null,null,null,null,null,null,null,null,null,"1","2"]
[null,{"$f":"IFERROR(IF(A164=\"\",\"\",VLOOKUP(A164,'Lista Narkotyki'!$A$2:$B$60,2,FALSE)),\"\")","v":""},{"$f":"IFERROR(IF(A164=\"\",\"\",HLOOKUP(A164,'Lista Narkotyki'!$H$34:$BN$37,2,FALSE)),\"\")","v":""},{"$f":"IFERROR(IF(A164=\"\",\"\",HLOOKUP(A164,'Lista Narkotyki'!$H$1:$BN$7,2,FALSE)),\"\")","v":""},{"$f":"IFERROR(IF(A164=\"\",\"\",HLOOKUP(A164,'Lista Narkotyki'!$H$13:$BN$18,2,FALSE)),\"\")","v":""},null,null,null,null,null,null,null,null,null,null,null,null,null,null,null,null,null,null,null,null,null,null,null,"1","2"]
[null,{"$f":"IFERROR(IF(A165=\"\",\"\",VLOOKUP(A165,'Lista Narkotyki'!$A$2:$B$60,2,FALSE)),\"\")","v":""},{"$f":"IFERROR(IF(A165=\"\",\"\",HLOOKUP(A165,'Lista Narkotyki'!$H$34:$BN$37,2,FALSE)),\"\")","v":""},{"$f":"IFERROR(IF(A165=\"\",\"\",HLOOKUP(A165,'Lista Narkotyki'!$H$1:$BN$7,2,FALSE)),\"\")","v":""},{"$f":"IFERROR(IF(A165=\"\",\"\",HLOOKUP(A165,'Lista Narkotyki'!$H$13:$BN$18,2,FALSE)),\"\")","v":""},null,null,null,null,null,null,null,null,null,null,null,null,null,null,null,null,null,null,null,null,null,null,null,"1","2"]
[null,{"$f":"IFERROR(IF(A166=\"\",\"\",VLOOKUP(A166,'Lista Narkotyki'!$A$2:$B$60,2,FALSE)),\"\")","v":""},{"$f":"IFERROR(IF(A166=\"\",\"\",HLOOKUP(A166,'Lista Narkotyki'!$H$34:$BN$37,2,FALSE)),\"\")","v":""},{"$f":"IFERROR(IF(A166=\"\",\"\",HLOOKUP(A166,'Lista Narkotyki'!$H$1:$BN$7,2,FALSE)),\"\")","v":""},{"$f":"IFERROR(IF(A166=\"\",\"\",HLOOKUP(A166,'Lista Narkotyki'!$H$13:$BN$18,2,FALSE)),\"\")","v":""},null,null,null,null,null,null,null,null,null,null,null,null,null,null,null,null,null,null,null,null,null,null,null,"1","2"]
[null,{"$f":"IFERROR(IF(A167=\"\",\"\",VLOOKUP(A167,'Lista Narkotyki'!$A$2:$B$60,2,FALSE)),\"\")","v":""},{"$f":"IFERROR(IF(A167=\"\",\"\",HLOOKUP(A167,'Lista Narkotyki'!$H$34:$BN$37,2,FALSE)),\"\")","v":""},{"$f":"IFERROR(IF(A167=\"\",\"\",HLOOKUP(A167,'Lista Narkotyki'!$H$1:$BN$7,2,FALSE)),\"\")","v":""},{"$f":"IFERROR(IF(A167=\"\",\"\",HLOOKUP(A167,'Lista Narkotyki'!$H$13:$BN$18,2,FALSE)),\"\")","v":""},null,null,null,null,null,null,null,null,null,null,null,null,null,null,null,null,null,null,null,null,null,null,null,"1","2"]
[null,{"$f":"IFERROR(IF(A168=\"\",\"\",VLOOKUP(A168,'Lista Narkotyki'!$A$2:$B$60,2,FALSE)),\"\")","v":""},{"$f":"IFERROR(IF(A168=\"\",\"\",HLOOKUP(A168,'Lista Narkotyki'!$H$34:$BN$37,2,FALSE)),\"\")","v":""},{"$f":"IFERROR(IF(A168=\"\",\"\",HLOOKUP(A168,'Lista Narkotyki'!$H$1:$BN$7,2,FALSE)),\"\")","v":""},{"$f":"IFERROR(IF(A168=\"\",\"\",HLOOKUP(A168,'Lista Narkotyki'!$H$13:$BN$18,2,FALSE)),\"\")","v":""},null,null,null,null,null,null,null,null,null,null,null,null,null,null,null,null,null,null,null,null,null,null,null,"1","2"]
[null,{"$f":"IFERROR(IF(A169=\"\",\"\",VLOOKUP(A169,'Lista Narkotyki'!$A$2:$B$60,2,FALSE)),\"\")","v":""},{"$f":"IFERROR(IF(A169=\"\",\"\",HLOOKUP(A169,'Lista Narkotyki'!$H$34:$BN$37,2,FALSE)),\"\")","v":""},{"$f":"IFERROR(IF(A169=\"\",\"\",HLOOKUP(A169,'Lista Narkotyki'!$H$1:$BN$7,2,FALSE)),\"\")","v":""},{"$f":"IFERROR(IF(A169=\"\",\"\",HLOOKUP(A169,'Lista Narkotyki'!$H$13:$BN$18,2,FALSE)),\"\")","v":""},null,null,null,null,null,null,null,null,null,null,null,null,null,null,null,null,null,null,null,null,null,null,null,"1","2"]
[null,{"$f":"IFERROR(IF(A170=\"\",\"\",VLOOKUP(A170,'Lista Narkotyki'!$A$2:$B$60,2,FALSE)),\"\")","v":""},{"$f":"IFERROR(IF(A170=\"\",\"\",HLOOKUP(A170,'Lista Narkotyki'!$H$34:$BN$37,2,FALSE)),\"\")","v":""},{"$f":"IFERROR(IF(A170=\"\",\"\",HLOOKUP(A170,'Lista Narkotyki'!$H$1:$BN$7,2,FALSE)),\"\")","v":""},{"$f":"IFERROR(IF(A170=\"\",\"\",HLOOKUP(A170,'Lista Narkotyki'!$H$13:$BN$18,2,FALSE)),\"\")","v":""},null,null,null,null,null,null,null,null,null,null,null,null,null,null,null,null,null,null,null,null,null,null,null,"1","2"]
[null,{"$f":"IFERROR(IF(A171=\"\",\"\",VLOOKUP(A171,'Lista Narkotyki'!$A$2:$B$60,2,FALSE)),\"\")","v":""},{"$f":"IFERROR(IF(A171=\"\",\"\",HLOOKUP(A171,'Lista Narkotyki'!$H$34:$BN$37,2,FALSE)),\"\")","v":""},{"$f":"IFERROR(IF(A171=\"\",\"\",HLOOKUP(A171,'Lista Narkotyki'!$H$1:$BN$7,2,FALSE)),\"\")","v":""},{"$f":"IFERROR(IF(A171=\"\",\"\",HLOOKUP(A171,'Lista Narkotyki'!$H$13:$BN$18,2,FALSE)),\"\")","v":""},null,null,null,null,null,null,null,null,null,null,null,null,null,null,null,null,null,null,null,null,null,null,null,"1","2"]
[null,{"$f":"IFERROR(IF(A172=\"\",\"\",VLOOKUP(A172,'Lista Narkotyki'!$A$2:$B$60,2,FALSE)),\"\")","v":""},{"$f":"IFERROR(IF(A172=\"\",\"\",HLOOKUP(A172,'Lista Narkotyki'!$H$34:$BN$37,2,FALSE)),\"\")","v":""},{"$f":"IFERROR(IF(A172=\"\",\"\",HLOOKUP(A172,'Lista Narkotyki'!$H$1:$BN$7,2,FALSE)),\"\")","v":""},{"$f":"IFERROR(IF(A172=\"\",\"\",HLOOKUP(A172,'Lista Narkotyki'!$H$13:$BN$18,2,FALSE)),\"\")","v":""},null,null,null,null,null,null,null,null,null,null,null,null,null,null,null,null,null,null,null,null,null,null,null,"1","2"]
[null,{"$f":"IFERROR(IF(A173=\"\",\"\",VLOOKUP(A173,'Lista Narkotyki'!$A$2:$B$60,2,FALSE)),\"\")","v":""},{"$f":"IFERROR(IF(A173=\"\",\"\",HLOOKUP(A173,'Lista Narkotyki'!$H$34:$BN$37,2,FALSE)),\"\")","v":""},{"$f":"IFERROR(IF(A173=\"\",\"\",HLOOKUP(A173,'Lista Narkotyki'!$H$1:$BN$7,2,FALSE)),\"\")","v":""},{"$f":"IFERROR(IF(A173=\"\",\"\",HLOOKUP(A173,'Lista Narkotyki'!$H$13:$BN$18,2,FALSE)),\"\")","v":""},null,null,null,null,null,null,null,null,null,null,null,null,null,null,null,null,null,null,null,null,null,null,null,"1","2"]
[null,{"$f":"IFERROR(IF(A174=\"\",\"\",VLOOKUP(A174,'Lista Narkotyki'!$A$2:$B$60,2,FALSE)),\"\")","v":""},{"$f":"IFERROR(IF(A174=\"\",\"\",HLOOKUP(A174,'Lista Narkotyki'!$H$34:$BN$37,2,FALSE)),\"\")","v":""},{"$f":"IFERROR(IF(A174=\"\",\"\",HLOOKUP(A174,'Lista Narkotyki'!$H$1:$BN$7,2,FALSE)),\"\")","v":""},{"$f":"IFERROR(IF(A174=\"\",\"\",HLOOKUP(A174,'Lista Narkotyki'!$H$13:$BN$18,2,FALSE)),\"\")","v":""},null,null,null,null,null,null,null,null,null,null,null,null,null,null,null,null,null,null,null,null,null,null,null,"1","2"]
[null,{"$f":"IFERROR(IF(A175=\"\",\"\",VLOOKUP(A175,'Lista Narkotyki'!$A$2:$B$60,2,FALSE)),\"\")","v":""},{"$f":"IFERROR(IF(A175=\"\",\"\",HLOOKUP(A175,'Lista Narkotyki'!$H$34:$BN$37,2,FALSE)),\"\")","v":""},{"$f":"IFERROR(IF(A175=\"\",\"\",HLOOKUP(A175,'Lista Narkotyki'!$H$1:$BN$7,2,FALSE)),\"\")","v":""},{"$f":"IFERROR(IF(A175=\"\",\"\",HLOOKUP(A175,'Lista Narkotyki'!$H$13:$BN$18,2,FALSE)),\"\")","v":""},null,null,null,null,null,null,null,null,null,null,null,null,null,null,null,null,null,null,null,null,null,null,null,"1","2"]
[null,{"$f":"IFERROR(IF(A176=\"\",\"\",VLOOKUP(A176,'Lista Narkotyki'!$A$2:$B$60,2,FALSE)),\"\")","v":""},{"$f":"IFERROR(IF(A176=\"\",\"\",HLOOKUP(A176,'Lista Narkotyki'!$H$34:$BN$37,2,FALSE)),\"\")","v":""},{"$f":"IFERROR(IF(A176=\"\",\"\",HLOOKUP(A176,'Lista Narkotyki'!$H$1:$BN$7,2,FALSE)),\"\")","v":""},{"$f":"IFERROR(IF(A176=\"\",\"\",HLOOKUP(A176,'Lista Narkotyki'!$H$13:$BN$18,2,FALSE)),\"\")","v":""},null,null,null,null,null,null,null,null,null,null,null,null,null,null,null,null,null,null,null,null,null,null,null,"1","2"]
[null,{"$f":"IFERROR(IF(A177=\"\",\"\",VLOOKUP(A177,'Lista Narkotyki'!$A$2:$B$60,2,FALSE)),\"\")","v":""},{"$f":"IFERROR(IF(A177=\"\",\"\",HLOOKUP(A177,'Lista Narkotyki'!$H$34:$BN$37,2,FALSE)),\"\")","v":""},{"$f":"IFERROR(IF(A177=\"\",\"\",HLOOKUP(A177,'Lista Narkotyki'!$H$1:$BN$7,2,FALSE)),\"\")","v":""},{"$f":"IFERROR(IF(A177=\"\",\"\",HLOOKUP(A177,'Lista Narkotyki'!$H$13:$BN$18,2,FALSE)),\"\")","v":""},null,null,null,null,null,null,null,null,null,null,null,null,null,null,null,null,null,null,null,null,null,null,null,"1","2"]
[null,{"$f":"IFERROR(IF(A178=\"\",\"\",VLOOKUP(A178,'Lista Narkotyki'!$A$2:$B$60,2,FALSE)),\"\")","v":""},{"$f":"IFERROR(IF(A178=\"\",\"\",HLOOKUP(A178,'Lista Narkotyki'!$H$34:$BN$37,2,FALSE)),\"\")","v":""},{"$f":"IFERROR(IF(A178=\"\",\"\",HLOOKUP(A178,'Lista Narkotyki'!$H$1:$BN$7,2,FALSE)),\"\")","v":""},{"$f":"IFERROR(IF(A178=\"\",\"\",HLOOKUP(A178,'Lista Narkotyki'!$H$13:$BN$18,2,FALSE)),\"\")","v":""},null,null,null,null,null,null,null,null,null,null,null,null,null,null,null,null,null,null,null,null,null,null,null,"1","2"]
[null,{"$f":"IFERROR(IF(A179=\"\",\"\",VLOOKUP(A179,'Lista Narkotyki'!$A$2:$B$60,2,FALSE)),\"\")","v":""},{"$f":"IFERROR(IF(A179=\"\",\"\",HLOOKUP(A179,'Lista Narkotyki'!$H$34:$BN$37,2,FALSE)),\"\")","v":""},{"$f":"IFERROR(IF(A179=\"\",\"\",HLOOKUP(A179,'Lista Narkotyki'!$H$1:$BN$7,2,FALSE)),\"\")","v":""},{"$f":"IFERROR(IF(A179=\"\",\"\",HLOOKUP(A179,'Lista Narkotyki'!$H$13:$BN$18,2,FALSE)),\"\")","v":""},null,null,null,null,null,null,null,null,null,null,null,null,null,null,null,null,null,null,null,null,null,null,null,"1","2"]
[null,{"$f":"IFERROR(IF(A180=\"\",\"\",VLOOKUP(A180,'Lista Narkotyki'!$A$2:$B$60,2,FALSE)),\"\")","v":""},{"$f":"IFERROR(IF(A180=\"\",\"\",HLOOKUP(A180,'Lista Narkotyki'!$H$34:$BN$37,2,FALSE)),\"\")","v":""},{"$f":"IFERROR(IF(A180=\"\",\"\",HLOOKUP(A180,'Lista Narkotyki'!$H$1:$BN$7,2,FALSE)),\"\")","v":""},{"$f":"IFERROR(IF(A180=\"\",\"\",HLOOKUP(A180,'Lista Narkotyki'!$H$13:$BN$18,2,FALSE)),\"\")","v":""},null,null,null,null,null,null,null,null,null,null,null,null,null,null,null,null,null,null,null,null,null,null,null,"1","2"]
[null,{"$f":"IFERROR(IF(A181=\"\",\"\",VLOOKUP(A181,'Lista Narkotyki'!$A$2:$B$60,2,FALSE)),\"\")","v":""},{"$f":"IFERROR(IF(A181=\"\",\"\",HLOOKUP(A181,'Lista Narkotyki'!$H$34:$BN$37,2,FALSE)),\"\")","v":""},{"$f":"IFERROR(IF(A181=\"\",\"\",HLOOKUP(A181,'Lista Narkotyki'!$H$1:$BN$7,2,FALSE)),\"\")","v":""},{"$f":"IFERROR(IF(A181=\"\",\"\",HLOOKUP(A181,'Lista Narkotyki'!$H$13:$BN$18,2,FALSE)),\"\")","v":""},null,null,null,null,null,null,null,null,null,null,null,null,null,null,null,null,null,null,null,null,null,null,null,"1","2"]
[null,{"$f":"IFERROR(IF(A182=\"\",\"\",VLOOKUP(A182,'Lista Narkotyki'!$A$2:$B$60,2,FALSE)),\"\")","v":""},{"$f":"IFERROR(IF(A182=\"\",\"\",HLOOKUP(A182,'Lista Narkotyki'!$H$34:$BN$37,2,FALSE)),\"\")","v":""},{"$f":"IFERROR(IF(A182=\"\",\"\",HLOOKUP(A182,'Lista Narkotyki'!$H$1:$BN$7,2,FALSE)),\"\")","v":""},{"$f":"IFERROR(IF(A182=\"\",\"\",HLOOKUP(A182,'Lista Narkotyki'!$H$13:$BN$18,2,FALSE)),\"\")","v":""},null,null,null,null,null,null,null,null,null,null,null,null,null,null,null,null,null,null,null,null,null,null,null,"1","2"]
[null,{"$f":"IFERROR(IF(A183=\"\",\"\",VLOOKUP(A183,'Lista Narkotyki'!$A$2:$B$60,2,FALSE)),\"\")","v":""},{"$f":"IFERROR(IF(A183=\"\",\"\",HLOOKUP(A183,'Lista Narkotyki'!$H$34:$BN$37,2,FALSE)),\"\")","v":""},{"$f":"IFERROR(IF(A183=\"\",\"\",HLOOKUP(A183,'Lista Narkotyki'!$H$1:$BN$7,2,FALSE)),\"\")","v":""},{"$f":"IFERROR(IF(A183=\"\",\"\",HLOOKUP(A183,'Lista Narkotyki'!$H$13:$BN$18,2,FALSE)),\"\")","v":""},null,null,null,null,null,null,null,null,null,null,null,null,null,null,null,null,null,null,null,null,null,null,null,"1","2"]
[null,{"$f":"IFERROR(IF(A184=\"\",\"\",VLOOKUP(A184,'Lista Narkotyki'!$A$2:$B$60,2,FALSE)),\"\")","v":""},{"$f":"IFERROR(IF(A184=\"\",\"\",HLOOKUP(A184,'Lista Narkotyki'!$H$34:$BN$37,2,FALSE)),\"\")","v":""},{"$f":"IFERROR(IF(A184=\"\",\"\",HLOOKUP(A184,'Lista Narkotyki'!$H$1:$BN$7,2,FALSE)),\"\")","v":""},{"$f":"IFERROR(IF(A184=\"\",\"\",HLOOKUP(A184,'Lista Narkotyki'!$H$13:$BN$18,2,FALSE)),\"\")","v":""},null,null,null,null,null,null,null,null,null,null,null,null,null,null,null,null,null,null,null,null,null,null,null,{"$f":"A184&1","v":"1"},{"$f":"A184&2","v":"2"}]
[null,{"$f":"IFERROR(IF(A185=\"\",\"\",VLOOKUP(A185,'Lista Narkotyki'!$A$2:$B$60,2,FALSE)),\"\")","v":""},{"$f":"IFERROR(IF(A185=\"\",\"\",HLOOKUP(A185,'Lista Narkotyki'!$H$34:$BN$37,2,FALSE)),\"\")","v":""},{"$f":"IFERROR(IF(A185=\"\",\"\",HLOOKUP(A185,'Lista Narkotyki'!$H$1:$BN$7,2,FALSE)),\"\")","v":""},{"$f":"IFERROR(IF(A185=\"\",\"\",HLOOKUP(A185,'Lista Narkotyki'!$H$13:$BN$18,2,FALSE)),\"\")","v":""},null,null,null,null,null,null,null,null,null,null,null,null,null,null,null,null,null,null,null,null,null,null,null,"1","2"]
[null,{"$f":"IFERROR(IF(A186=\"\",\"\",VLOOKUP(A186,'Lista Narkotyki'!$A$2:$B$60,2,FALSE)),\"\")","v":""},{"$f":"IFERROR(IF(A186=\"\",\"\",HLOOKUP(A186,'Lista Narkotyki'!$H$34:$BN$37,2,FALSE)),\"\")","v":""},{"$f":"IFERROR(IF(A186=\"\",\"\",HLOOKUP(A186,'Lista Narkotyki'!$H$1:$BN$7,2,FALSE)),\"\")","v":""},{"$f":"IFERROR(IF(A186=\"\",\"\",HLOOKUP(A186,'Lista Narkotyki'!$H$13:$BN$18,2,FALSE)),\"\")","v":""},null,null,null,null,null,null,null,null,null,null,null,null,null,null,null,null,null,null,null,null,null,null,null,"1","2"]
[null,{"$f":"IFERROR(IF(A187=\"\",\"\",VLOOKUP(A187,'Lista Narkotyki'!$A$2:$B$60,2,FALSE)),\"\")","v":""},{"$f":"IFERROR(IF(A187=\"\",\"\",HLOOKUP(A187,'Lista Narkotyki'!$H$34:$BN$37,2,FALSE)),\"\")","v":""},{"$f":"IFERROR(IF(A187=\"\",\"\",HLOOKUP(A187,'Lista Narkotyki'!$H$1:$BN$7,2,FALSE)),\"\")","v":""},{"$f":"IFERROR(IF(A187=\"\",\"\",HLOOKUP(A187,'Lista Narkotyki'!$H$13:$BN$18,2,FALSE)),\"\")","v":""},null,null,null,null,null,null,null,null,null,null,null,null,null,null,null,null,null,null,null,null,null,null,null,"1","2"]
[null,{"$f":"IFERROR(IF(A188=\"\",\"\",VLOOKUP(A188,'Lista Narkotyki'!$A$2:$B$60,2,FALSE)),\"\")","v":""},{"$f":"IFERROR(IF(A188=\"\",\"\",HLOOKUP(A188,'Lista Narkotyki'!$H$34:$BN$37,2,FALSE)),\"\")","v":""},{"$f":"IFERROR(IF(A188=\"\",\"\",HLOOKUP(A188,'Lista Narkotyki'!$H$1:$BN$7,2,FALSE)),\"\")","v":""},{"$f":"IFERROR(IF(A188=\"\",\"\",HLOOKUP(A188,'Lista Narkotyki'!$H$13:$BN$18,2,FALSE)),\"\")","v":""},null,null,null,null,null,null,null,null,null,null,null,null,null,null,null,null,null,null,null,null,null,null,null,"1","2"]
[null,{"$f":"IFERROR(IF(A189=\"\",\"\",VLOOKUP(A189,'Lista Narkotyki'!$A$2:$B$60,2,FALSE)),\"\")","v":""},{"$f":"IFERROR(IF(A189=\"\",\"\",HLOOKUP(A189,'Lista Narkotyki'!$H$34:$BN$37,2,FALSE)),\"\")","v":""},{"$f":"IFERROR(IF(A189=\"\",\"\",HLOOKUP(A189,'Lista Narkotyki'!$H$1:$BN$7,2,FALSE)),\"\")","v":""},{"$f":"IFERROR(IF(A189=\"\",\"\",HLOOKUP(A189,'Lista Narkotyki'!$H$13:$BN$18,2,FALSE)),\"\")","v":""},null,null,null,null,null,null,null,null,null,null,null,null,null,null,null,null,null,null,null,null,null,null,null,"1","2"]
[null,{"$f":"IFERROR(IF(A190=\"\",\"\",VLOOKUP(A190,'Lista Narkotyki'!$A$2:$B$60,2,FALSE)),\"\")","v":""},{"$f":"IFERROR(IF(A190=\"\",\"\",HLOOKUP(A190,'Lista Narkotyki'!$H$34:$BN$37,2,FALSE)),\"\")","v":""},{"$f":"IFERROR(IF(A190=\"\",\"\",HLOOKUP(A190,'Lista Narkotyki'!$H$1:$BN$7,2,FALSE)),\"\")","v":""},{"$f":"IFERROR(IF(A190=\"\",\"\",HLOOKUP(A190,'Lista Narkotyki'!$H$13:$BN$18,2,FALSE)),\"\")","v":""},null,null,null,null,null,null,null,null,null,null,null,null,null,null,null,null,null,null,null,null,null,null,null,"1","2"]
[null,{"$f":"IFERROR(IF(A191=\"\",\"\",VLOOKUP(A191,'Lista Narkotyki'!$A$2:$B$60,2,FALSE)),\"\")","v":""},{"$f":"IFERROR(IF(A191=\"\",\"\",HLOOKUP(A191,'Lista Narkotyki'!$H$34:$BN$37,2,FALSE)),\"\")","v":""},{"$f":"IFERROR(IF(A191=\"\",\"\",HLOOKUP(A191,'Lista Narkotyki'!$H$1:$BN$7,2,FALSE)),\"\")","v":""},{"$f":"IFERROR(IF(A191=\"\",\"\",HLOOKUP(A191,'Lista Narkotyki'!$H$13:$BN$18,2,FALSE)),\"\")","v":""},null,null,null,null,null,null,null,null,null,null,null,null,null,null,null,null,null,null,null,null,null,null,null,"1","2"]
[null,{"$f":"IFERROR(IF(A192=\"\",\"\",VLOOKUP(A192,'Lista Narkotyki'!$A$2:$B$60,2,FALSE)),\"\")","v":""},{"$f":"IFERROR(IF(A192=\"\",\"\",HLOOKUP(A192,'Lista Narkotyki'!$H$34:$BN$37,2,FALSE)),\"\")","v":""},{"$f":"IFERROR(IF(A192=\"\",\"\",HLOOKUP(A192,'Lista Narkotyki'!$H$1:$BN$7,2,FALSE)),\"\")","v":""},{"$f":"IFERROR(IF(A192=\"\",\"\",HLOOKUP(A192,'Lista Narkotyki'!$H$13:$BN$18,2,FALSE)),\"\")","v":""},null,null,null,null,null,null,null,null,null,null,null,null,null,null,null,null,null,null,null,null,null,null,null,"1","2"]
[null,{"$f":"IFERROR(IF(A193=\"\",\"\",VLOOKUP(A193,'Lista Narkotyki'!$A$2:$B$60,2,FALSE)),\"\")","v":""},{"$f":"IFERROR(IF(A193=\"\",\"\",HLOOKUP(A193,'Lista Narkotyki'!$H$34:$BN$37,2,FALSE)),\"\")","v":""},{"$f":"IFERROR(IF(A193=\"\",\"\",HLOOKUP(A193,'Lista Narkotyki'!$H$1:$BN$7,2,FALSE)),\"\")","v":""},{"$f":"IFERROR(IF(A193=\"\",\"\",HLOOKUP(A193,'Lista Narkotyki'!$H$13:$BN$18,2,FALSE)),\"\")","v":""},null,null,null,null,null,null,null,null,null,null,null,null,null,null,null,null,null,null,null,null,null,null,null,"1","2"]
[null,{"$f":"IFERROR(IF(A194=\"\",\"\",VLOOKUP(A194,'Lista Narkotyki'!$A$2:$B$60,2,FALSE)),\"\")","v":""},{"$f":"IFERROR(IF(A194=\"\",\"\",HLOOKUP(A194,'Lista Narkotyki'!$H$34:$BN$37,2,FALSE)),\"\")","v":""},{"$f":"IFERROR(IF(A194=\"\",\"\",HLOOKUP(A194,'Lista Narkotyki'!$H$1:$BN$7,2,FALSE)),\"\")","v":""},{"$f":"IFERROR(IF(A194=\"\",\"\",HLOOKUP(A194,'Lista Narkotyki'!$H$13:$BN$18,2,FALSE)),\"\")","v":""},null,null,null,null,null,null,null,null,null,null,null,null,null,null,null,null,null,null,null,null,null,null,null,"1","2"]
[null,{"$f":"IFERROR(IF(A195=\"\",\"\",VLOOKUP(A195,'Lista Narkotyki'!$A$2:$B$60,2,FALSE)),\"\")","v":""},{"$f":"IFERROR(IF(A195=\"\",\"\",HLOOKUP(A195,'Lista Narkotyki'!$H$34:$BN$37,2,FALSE)),\"\")","v":""},{"$f":"IFERROR(IF(A195=\"\",\"\",HLOOKUP(A195,'Lista Narkotyki'!$H$1:$BN$7,2,FALSE)),\"\")","v":""},{"$f":"IFERROR(IF(A195=\"\",\"\",HLOOKUP(A195,'Lista Narkotyki'!$H$13:$BN$18,2,FALSE)),\"\")","v":""},null,null,null,null,null,null,null,null,null,null,null,null,null,null,null,null,null,null,null,null,null,null,null,"1","2"]
[null,{"$f":"IFERROR(IF(A196=\"\",\"\",VLOOKUP(A196,'Lista Narkotyki'!$A$2:$B$60,2,FALSE)),\"\")","v":""},{"$f":"IFERROR(IF(A196=\"\",\"\",HLOOKUP(A196,'Lista Narkotyki'!$H$34:$BN$37,2,FALSE)),\"\")","v":""},{"$f":"IFERROR(IF(A196=\"\",\"\",HLOOKUP(A196,'Lista Narkotyki'!$H$1:$BN$7,2,FALSE)),\"\")","v":""},{"$f":"IFERROR(IF(A196=\"\",\"\",HLOOKUP(A196,'Lista Narkotyki'!$H$13:$BN$18,2,FALSE)),\"\")","v":""},null,null,null,null,null,null,null,null,null,null,null,null,null,null,null,null,null,null,null,null,null,null,null,"1","2"]
[null,{"$f":"IFERROR(IF(A197=\"\",\"\",VLOOKUP(A197,'Lista Narkotyki'!$A$2:$B$60,2,FALSE)),\"\")","v":""},{"$f":"IFERROR(IF(A197=\"\",\"\",HLOOKUP(A197,'Lista Narkotyki'!$H$34:$BN$37,2,FALSE)),\"\")","v":""},{"$f":"IFERROR(IF(A197=\"\",\"\",HLOOKUP(A197,'Lista Narkotyki'!$H$1:$BN$7,2,FALSE)),\"\")","v":""},{"$f":"IFERROR(IF(A197=\"\",\"\",HLOOKUP(A197,'Lista Narkotyki'!$H$13:$BN$18,2,FALSE)),\"\")","v":""},null,null,null,null,null,null,null,null,null,null,null,null,null,null,null,null,null,null,null,null,null,null,null,"1","2"]
[null,{"$f":"IFERROR(IF(A198=\"\",\"\",VLOOKUP(A198,'Lista Narkotyki'!$A$2:$B$60,2,FALSE)),\"\")","v":""},{"$f":"IFERROR(IF(A198=\"\",\"\",HLOOKUP(A198,'Lista Narkotyki'!$H$34:$BN$37,2,FALSE)),\"\")","v":""},{"$f":"IFERROR(IF(A198=\"\",\"\",HLOOKUP(A198,'Lista Narkotyki'!$H$1:$BN$7,2,FALSE)),\"\")","v":""},{"$f":"IFERROR(IF(A198=\"\",\"\",HLOOKUP(A198,'Lista Narkotyki'!$H$13:$BN$18,2,FALSE)),\"\")","v":""},null,null,null,null,null,null,null,null,null,null,null,null,null,null,null,null,null,null,null,null,null,null,null,"1","2"]
[null,{"$f":"IFERROR(IF(A199=\"\",\"\",VLOOKUP(A199,'Lista Narkotyki'!$A$2:$B$60,2,FALSE)),\"\")","v":""},{"$f":"IFERROR(IF(A199=\"\",\"\",HLOOKUP(A199,'Lista Narkotyki'!$H$34:$BN$37,2,FALSE)),\"\")","v":""},{"$f":"IFERROR(IF(A199=\"\",\"\",HLOOKUP(A199,'Lista Narkotyki'!$H$1:$BN$7,2,FALSE)),\"\")","v":""},{"$f":"IFERROR(IF(A199=\"\",\"\",HLOOKUP(A199,'Lista Narkotyki'!$H$13:$BN$18,2,FALSE)),\"\")","v":""},null,null,null,null,null,null,null,null,null,null,null,null,null,null,null,null,null,null,null,null,null,null,null,"1","2"]
[null,{"$f":"IFERROR(IF(A200=\"\",\"\",VLOOKUP(A200,'Lista Narkotyki'!$A$2:$B$60,2,FALSE)),\"\")","v":""},{"$f":"IFERROR(IF(A200=\"\",\"\",HLOOKUP(A200,'Lista Narkotyki'!$H$34:$BN$37,2,FALSE)),\"\")","v":""},{"$f":"IFERROR(IF(A200=\"\",\"\",HLOOKUP(A200,'Lista Narkotyki'!$H$1:$BN$7,2,FALSE)),\"\")","v":""},{"$f":"IFERROR(IF(A200=\"\",\"\",HLOOKUP(A200,'Lista Narkotyki'!$H$13:$BN$18,2,FALSE)),\"\")","v":""},null,null,null,null,null,null,null,null,null,null,null,null,null,null,null,null,null,null,null,null,null,null,null,"1","2"]
[null,{"$f":"IFERROR(IF(A201=\"\",\"\",VLOOKUP(A201,'Lista Narkotyki'!$A$2:$B$60,2,FALSE)),\"\")","v":""},{"$f":"IFERROR(IF(A201=\"\",\"\",HLOOKUP(A201,'Lista Narkotyki'!$H$34:$BN$37,2,FALSE)),\"\")","v":""},{"$f":"IFERROR(IF(A201=\"\",\"\",HLOOKUP(A201,'Lista Narkotyki'!$H$1:$BN$7,2,FALSE)),\"\")","v":""},null,null,null,null,null,null,null,null,null,null,null,null,null,null,null,null,null,null,null,null,null,null,null,null,"1","2"]
[null,{"$f":"IFERROR(IF(A202=\"\",\"\",VLOOKUP(A202,'Lista Narkotyki'!$A$2:$B$60,2,FALSE)),\"\")","v":""},{"$f":"IFERROR(IF(A202=\"\",\"\",HLOOKUP(A202,'Lista Narkotyki'!$H$34:$BN$37,2,FALSE)),\"\")","v":""},{"$f":"IFERROR(IF(A202=\"\",\"\",HLOOKUP(A202,'Lista Narkotyki'!$H$1:$BN$7,2,FALSE)),\"\")","v":""},null,null,null,null,null,null,null,null,null,null,null,null,null,null,null,null,null,null,null,null,null,null,null,null,"1","2"]
[null,{"$f":"IFERROR(IF(A203=\"\",\"\",VLOOKUP(A203,'Lista Narkotyki'!$A$2:$B$60,2,FALSE)),\"\")","v":""},{"$f":"IFERROR(IF(A203=\"\",\"\",HLOOKUP(A203,'Lista Narkotyki'!$H$34:$BN$37,2,FALSE)),\"\")","v":""},{"$f":"IFERROR(IF(A203=\"\",\"\",HLOOKUP(A203,'Lista Narkotyki'!$H$1:$BN$7,2,FALSE)),\"\")","v":""},null,null,null,null,null,null,null,null,null,null,null,null,null,null,null,null,null,null,null,null,null,null,null,null,"1","2"]
[null,{"$f":"IFERROR(IF(A204=\"\",\"\",VLOOKUP(A204,'Lista Narkotyki'!$A$2:$B$60,2,FALSE)),\"\")","v":""},{"$f":"IFERROR(IF(A204=\"\",\"\",HLOOKUP(A204,'Lista Narkotyki'!$H$34:$BN$37,2,FALSE)),\"\")","v":""},{"$f":"IFERROR(IF(A204=\"\",\"\",HLOOKUP(A204,'Lista Narkotyki'!$H$1:$BN$7,2,FALSE)),\"\")","v":""},null,null,null,null,null,null,null,null,null,null,null,null,null,null,null,null,null,null,null,null,null,null,null,null,"1","2"]
[null,{"$f":"IFERROR(IF(A205=\"\",\"\",VLOOKUP(A205,'Lista Narkotyki'!$A$2:$B$60,2,FALSE)),\"\")","v":""},{"$f":"IFERROR(IF(A205=\"\",\"\",HLOOKUP(A205,'Lista Narkotyki'!$H$34:$BN$37,2,FALSE)),\"\")","v":""},{"$f":"IFERROR(IF(A205=\"\",\"\",HLOOKUP(A205,'Lista Narkotyki'!$H$1:$BN$7,2,FALSE)),\"\")","v":""},null,null,null,null,null,null,null,null,null,null,null,null,null,null,null,null,null,null,null,null,null,null,null,null,"1","2"]
[null,{"$f":"IFERROR(IF(A206=\"\",\"\",VLOOKUP(A206,'Lista Narkotyki'!$A$2:$B$60,2,FALSE)),\"\")","v":""},{"$f":"IFERROR(IF(A206=\"\",\"\",HLOOKUP(A206,'Lista Narkotyki'!$H$34:$BN$37,2,FALSE)),\"\")","v":""},{"$f":"IFERROR(IF(A206=\"\",\"\",HLOOKUP(A206,'Lista Narkotyki'!$H$1:$BN$7,2,FALSE)),\"\")","v":""},null,null,null,null,null,null,null,null,null,null,null,null,null,null,null,null,null,null,null,null,null,null,null,null,"1","2"]
[null,{"$f":"IFERROR(IF(A207=\"\",\"\",VLOOKUP(A207,'Lista Narkotyki'!$A$2:$B$60,2,FALSE)),\"\")","v":""},{"$f":"IFERROR(IF(A207=\"\",\"\",HLOOKUP(A207,'Lista Narkotyki'!$H$34:$BN$37,2,FALSE)),\"\")","v":""},{"$f":"IFERROR(IF(A207=\"\",\"\",HLOOKUP(A207,'Lista Narkotyki'!$H$1:$BN$7,2,FALSE)),\"\")","v":""},null,null,null,null,null,null,null,null,null,null,null,null,null,null,null,null,null,null,null,null,null,null,null,null,"1","2"]
[null,{"$f":"IFERROR(IF(A208=\"\",\"\",VLOOKUP(A208,'Lista Narkotyki'!$A$2:$B$60,2,FALSE)),\"\")","v":""},{"$f":"IFERROR(IF(A208=\"\",\"\",HLOOKUP(A208,'Lista Narkotyki'!$H$34:$BN$37,2,FALSE)),\"\")","v":""},{"$f":"IFERROR(IF(A208=\"\",\"\",HLOOKUP(A208,'Lista Narkotyki'!$H$1:$BN$7,2,FALSE)),\"\")","v":""},null,null,null,null,null,null,null,null,null,null,null,null,null,null,null,null,null,null,null,null,null,null,null,null,"1","2"]
[null,{"$f":"IFERROR(IF(A209=\"\",\"\",VLOOKUP(A209,'Lista Narkotyki'!$A$2:$B$60,2,FALSE)),\"\")","v":""},{"$f":"IFERROR(IF(A209=\"\",\"\",HLOOKUP(A209,'Lista Narkotyki'!$H$34:$BN$37,2,FALSE)),\"\")","v":""},{"$f":"IFERROR(IF(A209=\"\",\"\",HLOOKUP(A209,'Lista Narkotyki'!$H$1:$BN$7,2,FALSE)),\"\")","v":""},null,null,null,null,null,null,null,null,null,null,null,null,null,null,null,null,null,null,null,null,null,null,null,null,"1","2"]
[null,{"$f":"IFERROR(IF(A210=\"\",\"\",VLOOKUP(A210,'Lista Narkotyki'!$A$2:$B$60,2,FALSE)),\"\")","v":""},{"$f":"IFERROR(IF(A210=\"\",\"\",HLOOKUP(A210,'Lista Narkotyki'!$H$34:$BN$37,2,FALSE)),\"\")","v":""},{"$f":"IFERROR(IF(A210=\"\",\"\",HLOOKUP(A210,'Lista Narkotyki'!$H$1:$BN$7,2,FALSE)),\"\")","v":""},null,null,null,null,null,null,null,null,null,null,null,null,null,null,null,null,null,null,null,null,null,null,null,null,"1","2"]
[null,{"$f":"IFERROR(IF(A211=\"\",\"\",VLOOKUP(A211,'Lista Narkotyki'!$A$2:$B$60,2,FALSE)),\"\")","v":""},{"$f":"IFERROR(IF(A211=\"\",\"\",HLOOKUP(A211,'Lista Narkotyki'!$H$34:$BN$37,2,FALSE)),\"\")","v":""},{"$f":"IFERROR(IF(A211=\"\",\"\",HLOOKUP(A211,'Lista Narkotyki'!$H$1:$BN$7,2,FALSE)),\"\")","v":""},null,null,null,null,null,null,null,null,null,null,null,null,null,null,null,null,null,null,null,null,null,null,null,null,"1","2"]
[null,{"$f":"IFERROR(IF(A212=\"\",\"\",VLOOKUP(A212,'Lista Narkotyki'!$A$2:$B$60,2,FALSE)),\"\")","v":""},{"$f":"IFERROR(IF(A212=\"\",\"\",HLOOKUP(A212,'Lista Narkotyki'!$H$34:$BN$37,2,FALSE)),\"\")","v":""},{"$f":"IFERROR(IF(A212=\"\",\"\",HLOOKUP(A212,'Lista Narkotyki'!$H$1:$BN$7,2,FALSE)),\"\")","v":""},null,null,null,null,null,null,null,null,null,null,null,null,null,null,null,null,null,null,null,null,null,null,null,null,"1","2"]
[null,{"$f":"IFERROR(IF(A213=\"\",\"\",VLOOKUP(A213,'Lista Narkotyki'!$A$2:$B$60,2,FALSE)),\"\")","v":""},{"$f":"IFERROR(IF(A213=\"\",\"\",HLOOKUP(A213,'Lista Narkotyki'!$H$34:$BN$37,2,FALSE)),\"\")","v":""},{"$f":"IFERROR(IF(A213=\"\",\"\",HLOOKUP(A213,'Lista Narkotyki'!$H$1:$BN$7,2,FALSE)),\"\")","v":""},null,null,null,null,null,null,null,null,null,null,null,null,null,null,null,null,null,null,null,null,null,null,null,null,"1","2"]
[null,{"$f":"IFERROR(IF(A214=\"\",\"\",VLOOKUP(A214,'Lista Narkotyki'!$A$2:$B$60,2,FALSE)),\"\")","v":""},{"$f":"IFERROR(IF(A214=\"\",\"\",HLOOKUP(A214,'Lista Narkotyki'!$H$34:$BN$37,2,FALSE)),\"\")","v":""},{"$f":"IFERROR(IF(A214=\"\",\"\",HLOOKUP(A214,'Lista Narkotyki'!$H$1:$BN$7,2,FALSE)),\"\")","v":""},null,null,null,null,null,null,null,null,null,null,null,null,null,null,null,null,null,null,null,null,null,null,null,null,"1","2"]
[null,{"$f":"IFERROR(IF(A215=\"\",\"\",VLOOKUP(A215,'Lista Narkotyki'!$A$2:$B$60,2,FALSE)),\"\")","v":""},{"$f":"IFERROR(IF(A215=\"\",\"\",HLOOKUP(A215,'Lista Narkotyki'!$H$34:$BN$37,2,FALSE)),\"\")","v":""},{"$f":"IFERROR(IF(A215=\"\",\"\",HLOOKUP(A215,'Lista Narkotyki'!$H$1:$BN$7,2,FALSE)),\"\")","v":""},null,null,null,null,null,null,null,null,null,null,null,null,null,null,null,null,null,null,null,null,null,null,null,null,"1","2"]
[null,{"$f":"IFERROR(IF(A216=\"\",\"\",VLOOKUP(A216,'Lista Narkotyki'!$A$2:$B$60,2,FALSE)),\"\")","v":""},{"$f":"IFERROR(IF(A216=\"\",\"\",HLOOKUP(A216,'Lista Narkotyki'!$H$34:$BN$37,2,FALSE)),\"\")","v":""},{"$f":"IFERROR(IF(A216=\"\",\"\",HLOOKUP(A216,'Lista Narkotyki'!$H$1:$BN$7,2,FALSE)),\"\")","v":""},null,null,null,null,null,null,null,null,null,null,null,null,null,null,null,null,null,null,null,null,null,null,null,null,"1","2"]
[null,{"$f":"IFERROR(IF(A217=\"\",\"\",VLOOKUP(A217,'Lista Narkotyki'!$A$2:$B$60,2,FALSE)),\"\")","v":""},{"$f":"IFERROR(IF(A217=\"\",\"\",HLOOKUP(A217,'Lista Narkotyki'!$H$34:$BN$37,2,FALSE)),\"\")","v":""},{"$f":"IFERROR(IF(A217=\"\",\"\",HLOOKUP(A217,'Lista Narkotyki'!$H$1:$BN$7,2,FALSE)),\"\")","v":""},null,null,null,null,null,null,null,null,null,null,null,null,null,null,null,null,null,null,null,null,null,null,null,null,"1","2"]
[null,{"$f":"IFERROR(IF(A218=\"\",\"\",VLOOKUP(A218,'Lista Narkotyki'!$A$2:$B$60,2,FALSE)),\"\")","v":""},{"$f":"IFERROR(IF(A218=\"\",\"\",HLOOKUP(A218,'Lista Narkotyki'!$H$34:$BN$37,2,FALSE)),\"\")","v":""},{"$f":"IFERROR(IF(A218=\"\",\"\",HLOOKUP(A218,'Lista Narkotyki'!$H$1:$BN$7,2,FALSE)),\"\")","v":""},null,null,null,null,null,null,null,null,null,null,null,null,null,null,null,null,null,null,null,null,null,null,null,null,"1","2"]
[null,{"$f":"IFERROR(IF(A219=\"\",\"\",VLOOKUP(A219,'Lista Narkotyki'!$A$2:$B$60,2,FALSE)),\"\")","v":""},{"$f":"IFERROR(IF(A219=\"\",\"\",HLOOKUP(A219,'Lista Narkotyki'!$H$34:$BN$37,2,FALSE)),\"\")","v":""},{"$f":"IFERROR(IF(A219=\"\",\"\",HLOOKUP(A219,'Lista Narkotyki'!$H$1:$BN$7,2,FALSE)),\"\")","v":""},null,null,null,null,null,null,null,null,null,null,null,null,null,null,null,null,null,null,null,null,null,null,null,null,"1","2"]
[null,{"$f":"IFERROR(IF(A220=\"\",\"\",VLOOKUP(A220,'Lista Narkotyki'!$A$2:$B$60,2,FALSE)),\"\")","v":""},{"$f":"IFERROR(IF(A220=\"\",\"\",HLOOKUP(A220,'Lista Narkotyki'!$H$34:$BN$37,2,FALSE)),\"\")","v":""},{"$f":"IFERROR(IF(A220=\"\",\"\",HLOOKUP(A220,'Lista Narkotyki'!$H$1:$BN$7,2,FALSE)),\"\")","v":""},null,null,null,null,null,null,null,null,null,null,null,null,null,null,null,null,null,null,null,null,null,null,null,null,"1","2"]
[null,{"$f":"IFERROR(IF(A221=\"\",\"\",VLOOKUP(A221,'Lista Narkotyki'!$A$2:$B$60,2,FALSE)),\"\")","v":""},{"$f":"IFERROR(IF(A221=\"\",\"\",HLOOKUP(A221,'Lista Narkotyki'!$H$34:$BN$37,2,FALSE)),\"\")","v":""},{"$f":"IFERROR(IF(A221=\"\",\"\",HLOOKUP(A221,'Lista Narkotyki'!$H$1:$BN$7,2,FALSE)),\"\")","v":""},null,null,null,null,null,null,null,null,null,null,null,null,null,null,null,null,null,null,null,null,null,null,null,null,"1","2"]
[null,{"$f":"IFERROR(IF(A222=\"\",\"\",VLOOKUP(A222,'Lista Narkotyki'!$A$2:$B$60,2,FALSE)),\"\")","v":""},{"$f":"IFERROR(IF(A222=\"\",\"\",HLOOKUP(A222,'Lista Narkotyki'!$H$34:$BN$37,2,FALSE)),\"\")","v":""},{"$f":"IFERROR(IF(A222=\"\",\"\",HLOOKUP(A222,'Lista Narkotyki'!$H$1:$BN$7,2,FALSE)),\"\")","v":""},null,null,null,null,null,null,null,null,null,null,null,null,null,null,null,null,null,null,null,null,null,null,null,null,"1","2"]
[null,{"$f":"IFERROR(IF(A223=\"\",\"\",VLOOKUP(A223,'Lista Narkotyki'!$A$2:$B$60,2,FALSE)),\"\")","v":""},{"$f":"IFERROR(IF(A223=\"\",\"\",HLOOKUP(A223,'Lista Narkotyki'!$H$34:$BN$37,2,FALSE)),\"\")","v":""},{"$f":"IFERROR(IF(A223=\"\",\"\",HLOOKUP(A223,'Lista Narkotyki'!$H$1:$BN$7,2,FALSE)),\"\")","v":""},null,null,null,null,null,null,null,null,null,null,null,null,null,null,null,null,null,null,null,null,null,null,null,null,"1","2"]
[null,{"$f":"IFERROR(IF(A224=\"\",\"\",VLOOKUP(A224,'Lista Narkotyki'!$A$2:$B$60,2,FALSE)),\"\")","v":""},{"$f":"IFERROR(IF(A224=\"\",\"\",HLOOKUP(A224,'Lista Narkotyki'!$H$34:$BN$37,2,FALSE)),\"\")","v":""},{"$f":"IFERROR(IF(A224=\"\",\"\",HLOOKUP(A224,'Lista Narkotyki'!$H$1:$BN$7,2,FALSE)),\"\")","v":""},null,null,null,null,null,null,null,null,null,null,null,null,null,null,null,null,null,null,null,null,null,null,null,null,"1","2"]
[null,{"$f":"IFERROR(IF(A225=\"\",\"\",VLOOKUP(A225,'Lista Narkotyki'!$A$2:$B$60,2,FALSE)),\"\")","v":""},{"$f":"IFERROR(IF(A225=\"\",\"\",HLOOKUP(A225,'Lista Narkotyki'!$H$34:$BN$37,2,FALSE)),\"\")","v":""},{"$f":"IFERROR(IF(A225=\"\",\"\",HLOOKUP(A225,'Lista Narkotyki'!$H$1:$BN$7,2,FALSE)),\"\")","v":""},null,null,null,null,null,null,null,null,null,null,null,null,null,null,null,null,null,null,null,null,null,null,null,null,"1","2"]
[null,{"$f":"IFERROR(IF(A226=\"\",\"\",VLOOKUP(A226,'Lista Narkotyki'!$A$2:$B$60,2,FALSE)),\"\")","v":""},{"$f":"IFERROR(IF(A226=\"\",\"\",HLOOKUP(A226,'Lista Narkotyki'!$H$34:$BN$37,2,FALSE)),\"\")","v":""},{"$f":"IFERROR(IF(A226=\"\",\"\",HLOOKUP(A226,'Lista Narkotyki'!$H$1:$BN$7,2,FALSE)),\"\")","v":""},null,null,null,null,null,null,null,null,null,null,null,null,null,null,null,null,null,null,null,null,null,null,null,null,"1","2"]
[null,{"$f":"IFERROR(IF(A227=\"\",\"\",VLOOKUP(A227,'Lista Narkotyki'!$A$2:$B$60,2,FALSE)),\"\")","v":""},{"$f":"IFERROR(IF(A227=\"\",\"\",HLOOKUP(A227,'Lista Narkotyki'!$H$34:$BN$37,2,FALSE)),\"\")","v":""},{"$f":"IFERROR(IF(A227=\"\",\"\",HLOOKUP(A227,'Lista Narkotyki'!$H$1:$BN$7,2,FALSE)),\"\")","v":""},null,null,null,null,null,null,null,null,null,null,null,null,null,null,null,null,null,null,null,null,null,null,null,null,"1","2"]
[null,{"$f":"IFERROR(IF(A228=\"\",\"\",VLOOKUP(A228,'Lista Narkotyki'!$A$2:$B$60,2,FALSE)),\"\")","v":""},{"$f":"IFERROR(IF(A228=\"\",\"\",HLOOKUP(A228,'Lista Narkotyki'!$H$34:$BN$37,2,FALSE)),\"\")","v":""},{"$f":"IFERROR(IF(A228=\"\",\"\",HLOOKUP(A228,'Lista Narkotyki'!$H$1:$BN$7,2,FALSE)),\"\")","v":""},null,null,null,null,null,null,null,null,null,null,null,null,null,null,null,null,null,null,null,null,null,null,null,null,"1","2"]
[null,{"$f":"IFERROR(IF(A229=\"\",\"\",VLOOKUP(A229,'Lista Narkotyki'!$A$2:$B$60,2,FALSE)),\"\")","v":""},{"$f":"IFERROR(IF(A229=\"\",\"\",HLOOKUP(A229,'Lista Narkotyki'!$H$34:$BN$37,2,FALSE)),\"\")","v":""},{"$f":"IFERROR(IF(A229=\"\",\"\",HLOOKUP(A229,'Lista Narkotyki'!$H$1:$BN$7,2,FALSE)),\"\")","v":""},null,null,null,null,null,null,null,null,null,null,null,null,null,null,null,null,null,null,null,null,null,null,null,null,"1","2"]
[null,{"$f":"IFERROR(IF(A230=\"\",\"\",VLOOKUP(A230,'Lista Narkotyki'!$A$2:$B$60,2,FALSE)),\"\")","v":""},{"$f":"IFERROR(IF(A230=\"\",\"\",HLOOKUP(A230,'Lista Narkotyki'!$H$34:$BN$37,2,FALSE)),\"\")","v":""},{"$f":"IFERROR(IF(A230=\"\",\"\",HLOOKUP(A230,'Lista Narkotyki'!$H$1:$BN$7,2,FALSE)),\"\")","v":""},null,null,null,null,null,null,null,null,null,null,null,null,null,null,null,null,null,null,null,null,null,null,null,null,"1","2"]
[null,{"$f":"IFERROR(IF(A231=\"\",\"\",VLOOKUP(A231,'Lista Narkotyki'!$A$2:$B$60,2,FALSE)),\"\")","v":""},{"$f":"IFERROR(IF(A231=\"\",\"\",HLOOKUP(A231,'Lista Narkotyki'!$H$34:$BN$37,2,FALSE)),\"\")","v":""},{"$f":"IFERROR(IF(A231=\"\",\"\",HLOOKUP(A231,'Lista Narkotyki'!$H$1:$BN$7,2,FALSE)),\"\")","v":""},null,null,null,null,null,null,null,null,null,null,null,null,null,null,null,null,null,null,null,null,null,null,null,null,"1","2"]
[null,{"$f":"IFERROR(IF(A232=\"\",\"\",VLOOKUP(A232,'Lista Narkotyki'!$A$2:$B$60,2,FALSE)),\"\")","v":""},{"$f":"IFERROR(IF(A232=\"\",\"\",HLOOKUP(A232,'Lista Narkotyki'!$H$34:$BN$37,2,FALSE)),\"\")","v":""},{"$f":"IFERROR(IF(A232=\"\",\"\",HLOOKUP(A232,'Lista Narkotyki'!$H$1:$BN$7,2,FALSE)),\"\")","v":""},null,null,null,null,null,null,null,null,null,null,null,null,null,null,null,null,null,null,null,null,null,null,null,null,"1","2"]
[null,{"$f":"IFERROR(IF(A233=\"\",\"\",VLOOKUP(A233,'Lista Narkotyki'!$A$2:$B$60,2,FALSE)),\"\")","v":""},{"$f":"IFERROR(IF(A233=\"\",\"\",HLOOKUP(A233,'Lista Narkotyki'!$H$34:$BN$37,2,FALSE)),\"\")","v":""},{"$f":"IFERROR(IF(A233=\"\",\"\",HLOOKUP(A233,'Lista Narkotyki'!$H$1:$BN$7,2,FALSE)),\"\")","v":""},null,null,null,null,null,null,null,null,null,null,null,null,null,null,null,null,null,null,null,null,null,null,null,null,"1","2"]
[null,{"$f":"IFERROR(IF(A234=\"\",\"\",VLOOKUP(A234,'Lista Narkotyki'!$A$2:$B$60,2,FALSE)),\"\")","v":""},{"$f":"IFERROR(IF(A234=\"\",\"\",HLOOKUP(A234,'Lista Narkotyki'!$H$34:$BN$37,2,FALSE)),\"\")","v":""},{"$f":"IFERROR(IF(A234=\"\",\"\",HLOOKUP(A234,'Lista Narkotyki'!$H$1:$BN$7,2,FALSE)),\"\")","v":""},null,null,null,null,null,null,null,null,null,null,null,null,null,null,null,null,null,null,null,null,null,null,null,null,"1","2"]
[null,{"$f":"IFERROR(IF(A235=\"\",\"\",VLOOKUP(A235,'Lista Narkotyki'!$A$2:$B$60,2,FALSE)),\"\")","v":""},{"$f":"IFERROR(IF(A235=\"\",\"\",HLOOKUP(A235,'Lista Narkotyki'!$H$34:$BN$37,2,FALSE)),\"\")","v":""},{"$f":"IFERROR(IF(A235=\"\",\"\",HLOOKUP(A235,'Lista Narkotyki'!$H$1:$BN$7,2,FALSE)),\"\")","v":""},null,null,null,null,null,null,null,null,null,null,null,null,null,null,null,null,null,null,null,null,null,null,null,null,"1","2"]
[null,{"$f":"IFERROR(IF(A236=\"\",\"\",VLOOKUP(A236,'Lista Narkotyki'!$A$2:$B$60,2,FALSE)),\"\")","v":""},{"$f":"IFERROR(IF(A236=\"\",\"\",HLOOKUP(A236,'Lista Narkotyki'!$H$34:$BN$37,2,FALSE)),\"\")","v":""},{"$f":"IFERROR(IF(A236=\"\",\"\",HLOOKUP(A236,'Lista Narkotyki'!$H$1:$BN$7,2,FALSE)),\"\")","v":""},null,null,null,null,null,null,null,null,null,null,null,null,null,null,null,null,null,null,null,null,null,null,null,null,"1","2"]
[null,{"$f":"IFERROR(IF(A237=\"\",\"\",VLOOKUP(A237,'Lista Narkotyki'!$A$2:$B$60,2,FALSE)),\"\")","v":""},{"$f":"IFERROR(IF(A237=\"\",\"\",HLOOKUP(A237,'Lista Narkotyki'!$H$34:$BN$37,2,FALSE)),\"\")","v":""},{"$f":"IFERROR(IF(A237=\"\",\"\",HLOOKUP(A237,'Lista Narkotyki'!$H$1:$BN$7,2,FALSE)),\"\")","v":""},null,null,null,null,null,null,null,null,null,null,null,null,null,null,null,null,null,null,null,null,null,null,null,null,"1","2"]
[null,{"$f":"IFERROR(IF(A238=\"\",\"\",VLOOKUP(A238,'Lista Narkotyki'!$A$2:$B$60,2,FALSE)),\"\")","v":""},{"$f":"IFERROR(IF(A238=\"\",\"\",HLOOKUP(A238,'Lista Narkotyki'!$H$34:$BN$37,2,FALSE)),\"\")","v":""},{"$f":"IFERROR(IF(A238=\"\",\"\",HLOOKUP(A238,'Lista Narkotyki'!$H$1:$BN$7,2,FALSE)),\"\")","v":""},null,null,null,null,null,null,null,null,null,null,null,null,null,null,null,null,null,null,null,null,null,null,null,null,"1","2"]
[null,{"$f":"IFERROR(IF(A239=\"\",\"\",VLOOKUP(A239,'Lista Narkotyki'!$A$2:$B$60,2,FALSE)),\"\")","v":""},{"$f":"IFERROR(IF(A239=\"\",\"\",HLOOKUP(A239,'Lista Narkotyki'!$H$34:$BN$37,2,FALSE)),\"\")","v":""},{"$f":"IFERROR(IF(A239=\"\",\"\",HLOOKUP(A239,'Lista Narkotyki'!$H$1:$BN$7,2,FALSE)),\"\")","v":""},null,null,null,null,null,null,null,null,null,null,null,null,null,null,null,null,null,null,null,null,null,null,null,null,"1","2"]
[null,{"$f":"IFERROR(IF(A240=\"\",\"\",VLOOKUP(A240,'Lista Narkotyki'!$A$2:$B$60,2,FALSE)),\"\")","v":""},{"$f":"IFERROR(IF(A240=\"\",\"\",HLOOKUP(A240,'Lista Narkotyki'!$H$34:$BN$37,2,FALSE)),\"\")","v":""},{"$f":"IFERROR(IF(A240=\"\",\"\",HLOOKUP(A240,'Lista Narkotyki'!$H$1:$BN$7,2,FALSE)),\"\")","v":""},null,null,null,null,null,null,null,null,null,null,null,null,null,null,null,null,null,null,null,null,null,null,null,null,"1","2"]
[null,{"$f":"IFERROR(IF(A241=\"\",\"\",VLOOKUP(A241,'Lista Narkotyki'!$A$2:$B$60,2,FALSE)),\"\")","v":""},{"$f":"IFERROR(IF(A241=\"\",\"\",HLOOKUP(A241,'Lista Narkotyki'!$H$34:$BN$37,2,FALSE)),\"\")","v":""},{"$f":"IFERROR(IF(A241=\"\",\"\",HLOOKUP(A241,'Lista Narkotyki'!$H$1:$BN$7,2,FALSE)),\"\")","v":""},null,null,null,null,null,null,null,null,null,null,null,null,null,null,null,null,null,null,null,null,null,null,null,null,"1","2"]
[null,{"$f":"IFERROR(IF(A242=\"\",\"\",VLOOKUP(A242,'Lista Narkotyki'!$A$2:$B$60,2,FALSE)),\"\")","v":""},{"$f":"IFERROR(IF(A242=\"\",\"\",HLOOKUP(A242,'Lista Narkotyki'!$H$34:$BN$37,2,FALSE)),\"\")","v":""},{"$f":"IFERROR(IF(A242=\"\",\"\",HLOOKUP(A242,'Lista Narkotyki'!$H$1:$BN$7,2,FALSE)),\"\")","v":""},null,null,null,null,null,null,null,null,null,null,null,null,null,null,null,null,null,null,null,null,null,null,null,null,"1","2"]
[null,{"$f":"IFERROR(IF(A243=\"\",\"\",VLOOKUP(A243,'Lista Narkotyki'!$A$2:$B$60,2,FALSE)),\"\")","v":""},{"$f":"IFERROR(IF(A243=\"\",\"\",HLOOKUP(A243,'Lista Narkotyki'!$H$34:$BN$37,2,FALSE)),\"\")","v":""},{"$f":"IFERROR(IF(A243=\"\",\"\",HLOOKUP(A243,'Lista Narkotyki'!$H$1:$BN$7,2,FALSE)),\"\")","v":""},null,null,null,null,null,null,null,null,null,null,null,null,null,null,null,null,null,null,null,null,null,null,null,null,"1","2"]
[null,{"$f":"IFERROR(IF(A244=\"\",\"\",VLOOKUP(A244,'Lista Narkotyki'!$A$2:$B$60,2,FALSE)),\"\")","v":""},{"$f":"IFERROR(IF(A244=\"\",\"\",HLOOKUP(A244,'Lista Narkotyki'!$H$34:$BN$37,2,FALSE)),\"\")","v":""},{"$f":"IFERROR(IF(A244=\"\",\"\",HLOOKUP(A244,'Lista Narkotyki'!$H$1:$BN$7,2,FALSE)),\"\")","v":""},null,null,null,null,null,null,null,null,null,null,null,null,null,null,null,null,null,null,null,null,null,null,null,null,"1","2"]
[null,{"$f":"IFERROR(IF(A245=\"\",\"\",VLOOKUP(A245,'Lista Narkotyki'!$A$2:$B$60,2,FALSE)),\"\")","v":""},{"$f":"IFERROR(IF(A245=\"\",\"\",HLOOKUP(A245,'Lista Narkotyki'!$H$34:$BN$37,2,FALSE)),\"\")","v":""},{"$f":"IFERROR(IF(A245=\"\",\"\",HLOOKUP(A245,'Lista Narkotyki'!$H$1:$BN$7,2,FALSE)),\"\")","v":""},null,null,null,null,null,null,null,null,null,null,null,null,null,null,null,null,null,null,null,null,null,null,null,null,"1","2"]
[null,{"$f":"IFERROR(IF(A246=\"\",\"\",VLOOKUP(A246,'Lista Narkotyki'!$A$2:$B$60,2,FALSE)),\"\")","v":""},{"$f":"IFERROR(IF(A246=\"\",\"\",HLOOKUP(A246,'Lista Narkotyki'!$H$34:$BN$37,2,FALSE)),\"\")","v":""},{"$f":"IFERROR(IF(A246=\"\",\"\",HLOOKUP(A246,'Lista Narkotyki'!$H$1:$BN$7,2,FALSE)),\"\")","v":""},null,null,null,null,null,null,null,null,null,null,null,null,null,null,null,null,null,null,null,null,null,null,null,null,"1","2"]
[null,{"$f":"IFERROR(IF(A247=\"\",\"\",VLOOKUP(A247,'Lista Narkotyki'!$A$2:$B$60,2,FALSE)),\"\")","v":""},{"$f":"IFERROR(IF(A247=\"\",\"\",HLOOKUP(A247,'Lista Narkotyki'!$H$34:$BN$37,2,FALSE)),\"\")","v":""},{"$f":"IFERROR(IF(A247=\"\",\"\",HLOOKUP(A247,'Lista Narkotyki'!$H$1:$BN$7,2,FALSE)),\"\")","v":""},null,null,null,null,null,null,null,null,null,null,null,null,null,null,null,null,null,null,null,null,null,null,null,null,"1","2"]
[null,{"$f":"IFERROR(IF(A248=\"\",\"\",VLOOKUP(A248,'Lista Narkotyki'!$A$2:$B$60,2,FALSE)),\"\")","v":""},{"$f":"IFERROR(IF(A248=\"\",\"\",HLOOKUP(A248,'Lista Narkotyki'!$H$34:$BN$37,2,FALSE)),\"\")","v":""},{"$f":"IFERROR(IF(A248=\"\",\"\",HLOOKUP(A248,'Lista Narkotyki'!$H$1:$BN$7,2,FALSE)),\"\")","v":""},null,null,null,null,null,null,null,null,null,null,null,null,null,null,null,null,null,null,null,null,null,null,null,null,{"$f":"A248&1","v":"1"},{"$f":"A248&2","v":"2"}]
[null,{"$f":"IFERROR(IF(A249=\"\",\"\",VLOOKUP(A249,'Lista Narkotyki'!$A$2:$B$60,2,FALSE)),\"\")","v":""},{"$f":"IFERROR(IF(A249=\"\",\"\",HLOOKUP(A249,'Lista Narkotyki'!$H$34:$BN$37,2,FALSE)),\"\")","v":""},{"$f":"IFERROR(IF(A249=\"\",\"\",HLOOKUP(A249,'Lista Narkotyki'!$H$1:$BN$7,2,FALSE)),\"\")","v":""},null,null,null,null,null,null,null,null,null,null,null,null,null,null,null,null,null,null,null,null,null,null,null,null,{"$f":"A249&1","v":"1"},{"$f":"A249&2","v":"2"}]
[null,{"$f":"IFERROR(IF(A250=\"\",\"\",VLOOKUP(A250,'Lista Narkotyki'!$A$2:$B$60,2,FALSE)),\"\")","v":""},{"$f":"IFERROR(IF(A250=\"\",\"\",HLOOKUP(A250,'Lista Narkotyki'!$H$34:$BN$37,2,FALSE)),\"\")","v":""},{"$f":"IFERROR(IF(A250=\"\",\"\",HLOOKUP(A250,'Lista Narkotyki'!$H$1:$BN$7,2,FALSE)),\"\")","v":""},null,null,null,null,null,null,null,null,null,null,null,null,null,null,null,null,null,null,null,null,null,null,null,null,{"$f":"A250&1","v":"1"},{"$f":"A250&2","v":"2"}]

{"sheet":"Psychotropy Hurt Wet","index":31,"n_rows":250,"n_cols":30,"rows_kept":250,"cut":false,"hidden":true,"merged":[[7,13,8,13],[4,0,5,15],[6,0,6,4],[6,5,8,5],[6,6,6,8],[6,9,6,13],[6,14,8,14],[6,15,8,15],[7,0,8,0],[7,1,8,1],[7,2,8,2],[7,3,8,3],[7,4,8,4],[7,6,7,7],[7,8,8,8],[7,9,7,12]]}
[]
[]
[]
[]
["Roczne sprawozdanie z obrotu substancjami psychotropowymi"]
[]
["Informacje o produkcie",null,null,null,null,"Stan na dzień 01.01 okresu sprawozdawczego","Przychód",null,null,"Rozchód",null,null,null,null,"Utylizacja","Stan na dzień 31.12 okresu sprawozdawczego"]
["Nazwa handlowa produktu","Substancja czynna","Forma farmaceutyczna","Dawka jednostkowa w mg","Wielkość opakowania","Stan na dzień 01.01.2022","Ilość opakowań nabyta w kraju",null,"Wewnątrzwspólnotowe nabycie/przywóz","Ilość opakowań sprzedana w kraju",null,null,null,"Wewnątrzwspólnotowa dostawa/wywóz"]
[null,null,null,null,null,null,"Ilość opakowań nabyta od wytwórców","Ilość opakowań nabyta od hurtowni",null,"Ilość opakowań sprzedana do obrotu detalicznego","Ilość opakowań sprzedana do hurtowni","Ilość opakowań sprzedana do instytucji medycznych","Inna sprzedaż krajowa",null,null,"Stan na dzień 31.12.2022"]
[null,{"$f":"IFERROR(IF(A10=\"\",\"\",VLOOKUP(A10,'Lista Psychotropy Wet'!$A$2:$B$100,2,FALSE)),\"\")","v":""},{"$f":"IFERROR(IF(A10=\"\",\"\",HLOOKUP(A10,'Lista Psychotropy Wet'!$H$34:$DA$37,2,FALSE)),\"\")","v":""},{"$f":"IFERROR(IF(A10=\"\",\"\",HLOOKUP(A10,'Lista Psychotropy Wet'!$H$1:$DA$7,2,FALSE)),\"\")","v":""},{"$f":"IFERROR(IF(A10=\"\",\"\",HLOOKUP(A10,'Lista Psychotropy Wet'!$H$13:$DA$18,2,FALSE)),\"\")","v":""},null,null,null,null,null,null,null,null,null,null,null,null,null,null,null,null,null,null,null,null,null,null,null,{"$f":"A10&1","v":"1"},{"$f":"A10&2","v":"2"}]
[null,{"$f":"IFERROR(IF(A11=\"\",\"\",VLOOKUP(A11,'Lista Psychotropy Wet'!$A$2:$B$100,2,FALSE)),\"\")","v":""},{"$f":"IFERROR(IF(A11=\"\",\"\",HLOOKUP(A11,'Lista Psychotropy Wet'!$H$34:$DA$37,2,FALSE)),\"\")","v":""},{"$f":"IFERROR(IF(A11=\"\",\"\",HLOOKUP(A11,'Lista Psychotropy Wet'!$H$1:$DA$7,2,FALSE)),\"\")","v":""},{"$f":"IFERROR(IF(A11=\"\",\"\",HLOOKUP(A11,'Lista Psychotropy Wet'!$H$13:$DA$18,2,FALSE)),\"\")","v":""},null,null,null,null,null,null,null,null,null,null,null,null,null,null,null,null,null,null,null,null,null,null,null,"1","2"]
[null,{"$f":"IFERROR(IF(A12=\"\",\"\",VLOOKUP(A12,'Lista Psychotropy Wet'!$A$2:$B$100,2,FALSE)),\"\")","v":""},{"$f":"IFERROR(IF(A12=\"\",\"\",HLOOKUP(A12,'Lista Psychotropy Wet'!$H$34:$DA$37,2,FALSE)),\"\")","v":""},{"$f":"IFERROR(IF(A12=\"\",\"\",HLOOKUP(A12,'Lista Psychotropy Wet'!$H$1:$DA$7,2,FALSE)),\"\")","v":""},{"$f":"IFERROR(IF(A12=\"\",\"\",HLOOKUP(A12,'Lista Psychotropy Wet'!$H$13:$DA$18,2,FALSE)),\"\")","v":""},null,null,null,null,null,null,null,null,null,null,null,null,null,null,null,null,null,null,null,null,null,null,null,"1","2"]
[null,{"$f":"IFERROR(IF(A13=\"\",\"\",VLOOKUP(A13,'Lista Psychotropy Wet'!$A$2:$B$100,2,FALSE)),\"\")","v":""},{"$f":"IFERROR(IF(A13=\"\",\"\",HLOOKUP(A13,'Lista Psychotropy Wet'!$H$34:$DA$37,2,FALSE)),\"\")","v":""},{"$f":"IFERROR(IF(A13=\"\",\"\",HLOOKUP(A13,'Lista Psychotropy Wet'!$H$1:$DA$7,2,FALSE)),\"\")","v":""},{"$f":"IFERROR(IF(A13=\"\",\"\",HLOOKUP(A13,'Lista Psychotropy Wet'!$H$13:$DA$18,2,FALSE)),\"\")","v":""},null,null,null,null,null,null,null,null,null,null,null,null,null,null,null,null,null,null,null,null,null,null,null,"1","2"]
[null,{"$f":"IFERROR(IF(A14=\"\",\"\",VLOOKUP(A14,'Lista Psychotropy Wet'!$A$2:$B$100,2,FALSE)),\"\")","v":""},{"$f":"IFERROR(IF(A14=\"\",\"\",HLOOKUP(A14,'Lista Psychotropy Wet'!$H$34:$DA$37,2,FALSE)),\"\")","v":""},{"$f":"IFERROR(IF(A14=\"\",\"\",HLOOKUP(A14,'Lista Psychotropy Wet'!$H$1:$DA$7,2,FALSE)),\"\")","v":""},{"$f":"IFERROR(IF(A14=\"\",\"\",HLOOKUP(A14,'Lista Psychotropy Wet'!$H$13:$DA$18,2,FALSE)),\"\")","v":""},null,null,null,null,null,null,null,null,null,null,null,null,null,null,null,null,null,null,null,null,null,null,null,"1","2"]
[null,{"$f":"IFERROR(IF(A15=\"\",\"\",VLOOKUP(A15,'Lista Psychotropy Wet'!$A$2:$B$100,2,FALSE)),\"\")","v":""},{"$f":"IFERROR(IF(A15=\"\",\"\",HLOOKUP(A15,'Lista Psychotropy Wet'!$H$34:$DA$37,2,FALSE)),\"\")","v":""},{"$f":"IFERROR(IF(A15=\"\",\"\",HLOOKUP(A15,'Lista Psychotropy Wet'!$H$1:$DA$7,2,FALSE)),\"\")","v":""},{"$f":"IFERROR(IF(A15=\"\",\"\",HLOOKUP(A15,'Lista Psychotropy Wet'!$H$13:$DA$18,2,FALSE)),\"\")","v":""},null,null,null,null,null,null,null,null,null,null,null,null,null,null,null,null,null,null,null,null,null,null,null,"1","2"]
[null,{"$f":"IFERROR(IF(A16=\"\",\"\",VLOOKUP(A16,'Lista Psychotropy Wet'!$A$2:$B$100,2,FALSE)),\"\")","v":""},{"$f":"IFERROR(IF(A16=\"\",\"\",HLOOKUP(A16,'Lista Psychotropy Wet'!$H$34:$DA$37,2,FALSE)),\"\")","v":""},{"$f":"IFERROR(IF(A16=\"\",\"\",HLOOKUP(A16,'Lista Psychotropy Wet'!$H$1:$DA$7,2,FALSE)),\"\")","v":""},{"$f":"IFERROR(IF(A16=\"\",\"\",HLOOKUP(A16,'Lista Psychotropy Wet'!$H$13:$DA$18,2,FALSE)),\"\")","v":""},null,null,null,null,null,null,null,null,null,null,null,null,null,null,null,null,null,null,null,null,null,null,null,"1","2"]
[null,{"$f":"IFERROR(IF(A17=\"\",\"\",VLOOKUP(A17,'Lista Psychotropy Wet'!$A$2:$B$100,2,FALSE)),\"\")","v":""},{"$f":"IFERROR(IF(A17=\"\",\"\",HLOOKUP(A17,'Lista Psychotropy Wet'!$H$34:$DA$37,2,FALSE)),\"\")","v":""},{"$f":"IFERROR(IF(A17=\"\",\"\",HLOOKUP(A17,'Lista Psychotropy Wet'!$H$1:$DA$7,2,FALSE)),\"\")","v":""},{"$f":"IFERROR(IF(A17=\"\",\"\",HLOOKUP(A17,'Lista Psychotropy Wet'!$H$13:$DA$18,2,FALSE)),\"\")","v":""},null,null,null,null,null,null,null,null,null,null,null,null,null,null,null,null,null,null,null,null,null,null,null,"1","2"]
[null,{"$f":"IFERROR(IF(A18=\"\",\"\",VLOOKUP(A18,'Lista Psychotropy Wet'!$A$2:$B$100,2,FALSE)),\"\")","v":""},{"$f":"IFERROR(IF(A18=\"\",\"\",HLOOKUP(A18,'Lista Psychotropy Wet'!$H$34:$DA$37,2,FALSE)),\"\")","v":""},{"$f":"IFERROR(IF(A18=\"\",\"\",HLOOKUP(A18,'Lista Psychotropy Wet'!$H$1:$DA$7,2,FALSE)),\"\")","v":""},{"$f":"IFERROR(IF(A18=\"\",\"\",HLOOKUP(A18,'Lista Psychotropy Wet'!$H$13:$DA$18,2,FALSE)),\"\")","v":""},null,null,null,null,null,null,null,null,null,null,null,null,null,null,null,null,null,null,null,null,null,null,null,"1","2"]
[null,{"$f":"IFERROR(IF(A19=\"\",\"\",VLOOKUP(A19,'Lista Psychotropy Wet'!$A$2:$B$100,2,FALSE)),\"\")","v":""},{"$f":"IFERROR(IF(A19=\"\",\"\",HLOOKUP(A19,'Lista Psychotropy Wet'!$H$34:$DA$37,2,FALSE)),\"\")","v":""},{"$f":"IFERROR(IF(A19=\"\",\"\",HLOOKUP(A19,'Lista Psychotropy Wet'!$H$1:$DA$7,2,FALSE)),\"\")","v":""},{"$f":"IFERROR(IF(A19=\"\",\"\",HLOOKUP(A19,'Lista Psychotropy Wet'!$H$13:$DA$18,2,FALSE)),\"\")","v":""},null,null,null,null,null,null,null,null,null,null,null,null,null,null,null,null,null,null,null,null,null,null,null,"1","2"]
[null,{"$f":"IFERROR(IF(A20=\"\",\"\",VLOOKUP(A20,'Lista Psychotropy Wet'!$A$2:$B$100,2,FALSE)),\"\")","v":""},{"$f":"IFERROR(IF(A20=\"\",\"\",HLOOKUP(A20,'Lista Psychotropy Wet'!$H$34:$DA$37,2,FALSE)),\"\")","v":""},{"$f":"IFERROR(IF(A20=\"\",\"\",HLOOKUP(A20,'Lista Psychotropy Wet'!$H$1:$DA$7,2,FALSE)),\"\")","v":""},{"$f":"IFERROR(IF(A20=\"\",\"\",HLOOKUP(A20,'Lista Psychotropy Wet'!$H$13:$DA$18,2,FALSE)),\"\")","v":""},null,null,null,null,null,null,null,null,null,null,null,null,null,null,null,null,null,null,null,null,null,null,null,"1","2"]
[null,{"$f":"IFERROR(IF(A21=\"\",\"\",VLOOKUP(A21,'Lista Psychotropy Wet'!$A$2:$B$100,2,FALSE)),\"\")","v":""},{"$f":"IFERROR(IF(A21=\"\",\"\",HLOOKUP(A21,'Lista Psychotropy Wet'!$H$34:$DA$37,2,FALSE)),\"\")","v":""},{"$f":"IFERROR(IF(A21=\"\",\"\",HLOOKUP(A21,'Lista Psychotropy Wet'!$H$1:$DA$7,2,FALSE)),\"\")","v":""},{"$f":"IFERROR(IF(A21=\"\",\"\",HLOOKUP(A21,'Lista Psychotropy Wet'!$H$13:$DA$18,2,FALSE)),\"\")","v":""},null,null,null,null,null,null,null,null,null,null,null,null,null,null,null,null,null,null,null,null,null,null,null,"1","2"]
[null,{"$f":"IFERROR(IF(A22=\"\",\"\",VLOOKUP(A22,'Lista Psychotropy Wet'!$A$2:$B$100,2,FALSE)),\"\")","v":""},{"$f":"IFERROR(IF(A22=\"\",\"\",HLOOKUP(A22,'Lista Psychotropy Wet'!$H$34:$DA$37,2,FALSE)),\"\")","v":""},{"$f":"IFERROR(IF(A22=\"\",\"\",HLOOKUP(A22,'Lista Psychotropy Wet'!$H$1:$DA$7,2,FALSE)),\"\")","v":""},{"$f":"IFERROR(IF(A22=\"\",\"\",HLOOKUP(A22,'Lista Psychotropy Wet'!$H$13:$DA$18,2,FALSE)),\"\")","v":""},null,null,null,null,null,null,null,null,null,null,null,null,null,null,null,null,null,null,null,null,null,null,null,"1","2"]
[null,{"$f":"IFERROR(IF(A23=\"\",\"\",VLOOKUP(A23,'Lista Psychotropy Wet'!$A$2:$B$100,2,FALSE)),\"\")","v":""},{"$f":"IFERROR(IF(A23=\"\",\"\",HLOOKUP(A23,'Lista Psychotropy Wet'!$H$34:$DA$37,2,FALSE)),\"\")","v":""},{"$f":"IFERROR(IF(A23=\"\",\"\",HLOOKUP(A23,'Lista Psychotropy Wet'!$H$1:$DA$7,2,FALSE)),\"\")","v":""},{"$f":"IFERROR(IF(A23=\"\",\"\",HLOOKUP(A23,'Lista Psychotropy Wet'!$H$13:$DA$18,2,FALSE)),\"\")","v":""},null,null,null,null,null,null,null,null,null,null,null,null,null,null,null,null,null,null,null,null,null,null,null,"1","2"]
[null,{"$f":"IFERROR(IF(A24=\"\",\"\",VLOOKUP(A24,'Lista Psychotropy Wet'!$A$2:$B$100,2,FALSE)),\"\")","v":""},{"$f":"IFERROR(IF(A24=\"\",\"\",HLOOKUP(A24,'Lista Psychotropy Wet'!$H$34:$DA$37,2,FALSE)),\"\")","v":""},{"$f":"IFERROR(IF(A24=\"\",\"\",HLOOKUP(A24,'Lista Psychotropy Wet'!$H$1:$DA$7,2,FALSE)),\"\")","v":""},{"$f":"IFERROR(IF(A24=\"\",\"\",HLOOKUP(A24,'Lista Psychotropy Wet'!$H$13:$DA$18,2,FALSE)),\"\")","v":""},null,null,null,null,null,null,null,null,null,null,null,null,null,null,null,null,null,null,null,null,null,null,null,"1","2"]
[null,{"$f":"IFERROR(IF(A25=\"\",\"\",VLOOKUP(A25,'Lista Psychotropy Wet'!$A$2:$B$100,2,FALSE)),\"\")","v":""},{"$f":"IFERROR(IF(A25=\"\",\"\",HLOOKUP(A25,'Lista Psychotropy Wet'!$H$34:$DA$37,2,FALSE)),\"\")","v":""},{"$f":"IFERROR(IF(A25=\"\",\"\",HLOOKUP(A25,'Lista Psychotropy Wet'!$H$1:$DA$7,2,FALSE)),\"\")","v":""},{"$f":"IFERROR(IF(A25=\"\",\"\",HLOOKUP(A25,'Lista Psychotropy Wet'!$H$13:$DA$18,2,FALSE)),\"\")","v":""},null,null,null,null,null,null,null,null,null,null,null,null,null,null,null,null,null,null,null,null,null,null,null,"1","2"]
[null,{"$f":"IFERROR(IF(A26=\"\",\"\",VLOOKUP(A26,'Lista Psychotropy Wet'!$A$2:$B$100,2,FALSE)),\"\")","v":""},{"$f":"IFERROR(IF(A26=\"\",\"\",HLOOKUP(A26,'Lista Psychotropy Wet'!$H$34:$DA$37,2,FALSE)),\"\")","v":""},{"$f":"IFERROR(IF(A26=\"\",\"\",HLOOKUP(A26,'Lista Psychotropy Wet'!$H$1:$DA$7,2,FALSE)),\"\")","v":""},{"$f":"IFERROR(IF(A26=\"\",\"\",HLOOKUP(A26,'Lista Psychotropy Wet'!$H$13:$DA$18,2,FALSE)),\"\")","v":""},null,null,null,null,null,null,null,null,null,null,null,null,null,null,null,null,null,null,null,null,null,null,null,"1","2"]
[null,{"$f":"IFERROR(IF(A27=\"\",\"\",VLOOKUP(A27,'Lista Psychotropy Wet'!$A$2:$B$100,2,FALSE)),\"\")","v":""},{"$f":"IFERROR(IF(A27=\"\",\"\",HLOOKUP(A27,'Lista Psychotropy Wet'!$H$34:$DA$37,2,FALSE)),\"\")","v":""},{"$f":"IFERROR(IF(A27=\"\",\"\",HLOOKUP(A27,'Lista Psychotropy Wet'!$H$1:$DA$7,2,FALSE)),\"\")","v":""},{"$f":"IFERROR(IF(A27=\"\",\"\",HLOOKUP(A27,'Lista Psychotropy Wet'!$H$13:$DA$18,2,FALSE)),\"\")","v":""},null,null,null,null,null,null,null,null,null,null,null,null,null,null,null,null,null,null,null,null,null,null,null,"1","2"]
[null,{"$f":"IFERROR(IF(A28=\"\",\"\",VLOOKUP(A28,'Lista Psychotropy Wet'!$A$2:$B$100,2,FALSE)),\"\")","v":""},{"$f":"IFERROR(IF(A28=\"\",\"\",HLOOKUP(A28,'Lista Psychotropy Wet'!$H$34:$DA$37,2,FALSE)),\"\")","v":""},{"$f":"IFERROR(IF(A28=\"\",\"\",HLOOKUP(A28,'Lista Psychotropy Wet'!$H$1:$DA$7,2,FALSE)),\"\")","v":""},{"$f":"IFERROR(IF(A28=\"\",\"\",HLOOKUP(A28,'Lista Psychotropy Wet'!$H$13:$DA$18,2,FALSE)),\"\")","v":""},null,null,null,null,null,null,null,null,null,null,null,null,null,null,null,null,null,null,null,null,null,null,null,"1","2"]
[null,{"$f":"IFERROR(IF(A29=\"\",\"\",VLOOKUP(A29,'Lista Psychotropy Wet'!$A$2:$B$100,2,FALSE)),\"\")","v":""},{"$f":"IFERROR(IF(A29=\"\",\"\",HLOOKUP(A29,'Lista Psychotropy Wet'!$H$34:$DA$37,2,FALSE)),\"\")","v":""},{"$f":"IFERROR(IF(A29=\"\",\"\",HLOOKUP(A29,'Lista Psychotropy Wet'!$H$1:$DA$7,2,FALSE)),\"\")","v":""},{"$f":"IFERROR(IF(A29=\"\",\"\",HLOOKUP(A29,'Lista Psychotropy Wet'!$H$13:$DA$18,2,FALSE)),\"\")","v":""},null,null,null,null,null,null,null,null,null,null,null,null,null,null,null,null,null,null,null,null,null,null,null,"1","2"]
[null,{"$f":"IFERROR(IF(A30=\"\",\"\",VLOOKUP(A30,'Lista Psychotropy Wet'!$A$2:$B$100,2,FALSE)),\"\")","v":""},{"$f":"IFERROR(IF(A30=\"\",\"\",HLOOKUP(A30,'Lista Psychotropy Wet'!$H$34:$DA$37,2,FALSE)),\"\")","v":""},{"$f":"IFERROR(IF(A30=\"\",\"\",HLOOKUP(A30,'Lista Psychotropy Wet'!$H$1:$DA$7,2,FALSE)),\"\")","v":""},{"$f":"IFERROR(IF(A30=\"\",\"\",HLOOKUP(A30,'Lista Psychotropy Wet'!$H$13:$DA$18,2,FALSE)),\"\")","v":""},null,null,null,null,null,null,null,null,null,null,null,null,null,null,null,null,null,null,null,null,null,null,null,"1","2"]
[null,{"$f":"IFERROR(IF(A31=\"\",\"\",VLOOKUP(A31,'Lista Psychotropy Wet'!$A$2:$B$100,2,FALSE)),\"\")","v":""},{"$f":"IFERROR(IF(A31=\"\",\"\",HLOOKUP(A31,'Lista Psychotropy Wet'!$H$34:$DA$37,2,FALSE)),\"\")","v":""},{"$f":"IFERROR(IF(A31=\"\",\"\",HLOOKUP(A31,'Lista Psychotropy Wet'!$H$1:$DA$7,2,FALSE)),\"\")","v":""},{"$f":"IFERROR(IF(A31=\"\",\"\",HLOOKUP(A31,'Lista Psychotropy Wet'!$H$13:$DA$18,2,FALSE)),\"\")","v":""},null,null,null,null,null,null,null,null,null,null,null,null,null,null,null,null,null,null,null,null,null,null,null,"1","2"]
[null,{"$f":"IFERROR(IF(A32=\"\",\"\",VLOOKUP(A32,'Lista Psychotropy Wet'!$A$2:$B$100,2,FALSE)),\"\")","v":""},{"$f":"IFERROR(IF(A32=\"\",\"\",HLOOKUP(A32,'Lista Psychotropy Wet'!$H$34:$DA$37,2,FALSE)),\"\")","v":""},{"$f":"IFERROR(IF(A32=\"\",\"\",HLOOKUP(A32,'Lista Psychotropy Wet'!$H$1:$DA$7,2,FALSE)),\"\")","v":""},{"$f":"IFERROR(IF(A32=\"\",\"\",HLOOKUP(A32,'Lista Psychotropy Wet'!$H$13:$DA$18,2,FALSE)),\"\")","v":""},null,null,null,null,null,null,null,null,null,null,null,null,null,null,null,null,null,null,null,null,null,null,null,"1","2"]
[null,{"$f":"IFERROR(IF(A33=\"\",\"\",VLOOKUP(A33,'Lista Psychotropy Wet'!$A$2:$B$100,2,FALSE)),\"\")","v":""},{"$f":"IFERROR(IF(A33=\"\",\"\",HLOOKUP(A33,'Lista Psychotropy Wet'!$H$34:$DA$37,2,FALSE)),\"\")","v":""},{"$f":"IFERROR(IF(A33=\"\",\"\",HLOOKUP(A33,'Lista Psychotropy Wet'!$H$1:$DA$7,2,FALSE)),\"\")","v":""},{"$f":"IFERROR(IF(A33=\"\",\"\",HLOOKUP(A33,'Lista Psychotropy Wet'!$H$13:$DA$18,2,FALSE)),\"\")","v":""},null,null,null,null,null,null,null,null,null,null,null,null,null,null,null,null,null,null,null,null,null,null,null,"1","2"]
[null,{"$f":"IFERROR(IF(A34=\"\",\"\",VLOOKUP(A34,'Lista Psychotropy Wet'!$A$2:$B$100,2,FALSE)),\"\")","v":""},{"$f":"IFERROR(IF(A34=\"\",\"\",HLOOKUP(A34,'Lista Psychotropy Wet'!$H$34:$DA$37,2,FALSE)),\"\")","v":""},{"$f":"IFERROR(IF(A34=\"\",\"\",HLOOKUP(A34,'Lista Psychotropy Wet'!$H$1:$DA$7,2,FALSE)),\"\")","v":""},{"$f":"IFERROR(IF(A34=\"\",\"\",HLOOKUP(A34,'Lista Psychotropy Wet'!$H$13:$DA$18,2,FALSE)),\"\")","v":""},null,null,null,null,null,null,null,null,null,null,null,null,null,null,null,null,null,null,null,null,null,null,null,"1","2"]
[null,{"$f":"IFERROR(IF(A35=\"\",\"\",VLOOKUP(A35,'Lista Psychotropy Wet'!$A$2:$B$100,2,FALSE)),\"\")","v":""},{"$f":"IFERROR(IF(A35=\"\",\"\",HLOOKUP(A35,'Lista Psychotropy Wet'!$H$34:$DA$37,2,FALSE)),\"\")","v":""},{"$f":"IFERROR(IF(A35=\"\",\"\",HLOOKUP(A35,'Lista Psychotropy Wet'!$H$1:$DA$7,2,FALSE)),\"\")","v":""},{"$f":"IFERROR(IF(A35=\"\",\"\",HLOOKUP(A35,'Lista Psychotropy Wet'!$H$13:$DA$18,2,FALSE)),\"\")","v":""},null,null,null,null,null,null,null,null,null,null,null,null,null,null,null,null,null,null,null,null,null,null,null,"1","2"]
[null,{"$f":"IFERROR(IF(A36=\"\",\"\",VLOOKUP(A36,'Lista Psychotropy Wet'!$A$2:$B$100,2,FALSE)),\"\")","v":""},{"$f":"IFERROR(IF(A36=\"\",\"\",HLOOKUP(A36,'Lista Psychotropy Wet'!$H$34:$DA$37,2,FALSE)),\"\")","v":""},{"$f":"IFERROR(IF(A36=\"\",\"\",HLOOKUP(A36,'Lista Psychotropy Wet'!$H$1:$DA$7,2,FALSE)),\"\")","v":""},{"$f":"IFERROR(IF(A36=\"\",\"\",HLOOKUP(A36,'Lista Psychotropy Wet'!$H$13:$DA$18,2,FALSE)),\"\")","v":""},null,null,null,null,null,null,null,null,null,null,null,null,null,null,null,null,null,null,null,null,null,null,null,"1","2"]
[null,{"$f":"IFERROR(IF(A37=\"\",\"\",VLOOKUP(A37,'Lista Psychotropy Wet'!$A$2:$B$100,2,FALSE)),\"\")","v":""},{"$f":"IFERROR(IF(A37=\"\",\"\",HLOOKUP(A37,'Lista Psychotropy Wet'!$H$34:$DA$37,2,FALSE)),\"\")","v":""},{"$f":"IFERROR(IF(A37=\"\",\"\",HLOOKUP(A37,'Lista Psychotropy Wet'!$H$1:$DA$7,2,FALSE)),\"\")","v":""},{"$f":"IFERROR(IF(A37=\"\",\"\",HLOOKUP(A37,'Lista Psychotropy Wet'!$H$13:$DA$18,2,FALSE)),\"\")","v":""},null,null,null,null,null,null,null,null,null,null,null,null,null,null,null,null,null,null,null,null,null,null,null,"1","2"]
[null,{"$f":"IFERROR(IF(A38=\"\",\"\",VLOOKUP(A38,'Lista Psychotropy Wet'!$A$2:$B$100,2,FALSE)),\"\")","v":""},{"$f":"IFERROR(IF(A38=\"\",\"\",HLOOKUP(A38,'Lista Psychotropy Wet'!$H$34:$DA$37,2,FALSE)),\"\")","v":""},{"$f":"IFERROR(IF(A38=\"\",\"\",HLOOKUP(A38,'Lista Psychotropy Wet'!$H$1:$DA$7,2,FALSE)),\"\")","v":""},{"$f":"IFERROR(IF(A38=\"\",\"\",HLOOKUP(A38,'Lista Psychotropy Wet'!$H$13:$DA$18,2,FALSE)),\"\")","v":""},null,null,null,null,null,null,null,null,null,null,null,null,null,null,null,null,null,null,null,null,null,null,null,"1","2"]
[null,{"$f":"IFERROR(IF(A39=\"\",\"\",VLOOKUP(A39,'Lista Psychotropy Wet'!$A$2:$B$100,2,FALSE)),\"\")","v":""},{"$f":"IFERROR(IF(A39=\"\",\"\",HLOOKUP(A39,'Lista Psychotropy Wet'!$H$34:$DA$37,2,FALSE)),\"\")","v":""},{"$f":"IFERROR(IF(A39=\"\",\"\",HLOOKUP(A39,'Lista Psychotropy Wet'!$H$1:$DA$7,2,FALSE)),\"\")","v":""},{"$f":"IFERROR(IF(A39=\"\",\"\",HLOOKUP(A39,'Lista Psychotropy Wet'!$H$13:$DA$18,2,FALSE)),\"\")","v":""},null,null,null,null,null,null,null,null,null,null,null,null,null,null,null,null,null,null,null,null,null,null,null,"1","2"]
[null,{"$f":"IFERROR(IF(A40=\"\",\"\",VLOOKUP(A40,'Lista Psychotropy Wet'!$A$2:$B$100,2,FALSE)),\"\")","v":""},{"$f":"IFERROR(IF(A40=\"\",\"\",HLOOKUP(A40,'Lista Psychotropy Wet'!$H$34:$DA$37,2,FALSE)),\"\")","v":""},{"$f":"IFERROR(IF(A40=\"\",\"\",HLOOKUP(A40,'Lista Psychotropy Wet'!$H$1:$DA$7,2,FALSE)),\"\")","v":""},{"$f":"IFERROR(IF(A40=\"\",\"\",HLOOKUP(A40,'Lista Psychotropy Wet'!$H$13:$DA$18,2,FALSE)),\"\")","v":""},null,null,null,null,null,null,null,null,null,null,null,null,null,null,null,null,null,null,null,null,null,null,null,"1","2"]
[null,{"$f":"IFERROR(IF(A41=\"\",\"\",VLOOKUP(A41,'Lista Psychotropy Wet'!$A$2:$B$100,2,FALSE)),\"\")","v":""},{"$f":"IFERROR(IF(A41=\"\",\"\",HLOOKUP(A41,'Lista Psychotropy Wet'!$H$34:$DA$37,2,FALSE)),\"\")","v":""},{"$f":"IFERROR(IF(A41=\"\",\"\",HLOOKUP(A41,'Lista Psychotropy Wet'!$H$1:$DA$7,2,FALSE)),\"\")","v":""},{"$f":"IFERROR(IF(A41=\"\",\"\",HLOOKUP(A41,'Lista Psychotropy Wet'!$H$13:$DA$18,2,FALSE)),\"\")","v":""},null,null,null,null,null,null,null,null,null,null,null,null,null,null,null,null,null,null,null,null,null,null,null,"1","2"]
[null,{"$f":"IFERROR(IF(A42=\"\",\"\",VLOOKUP(A42,'Lista Psychotropy Wet'!$A$2:$B$100,2,FALSE)),\"\")","v":""},{"$f":"IFERROR(IF(A42=\"\",\"\",HLOOKUP(A42,'Lista Psychotropy Wet'!$H$34:$DA$37,2,FALSE)),\"\")","v":""},{"$f":"IFERROR(IF(A42=\"\",\"\",HLOOKUP(A42,'Lista Psychotropy Wet'!$H$1:$DA$7,2,FALSE)),\"\")","v":""},{"$f":"IFERROR(IF(A42=\"\",\"\",HLOOKUP(A42,'Lista Psychotropy Wet'!$H$13:$DA$18,2,FALSE)),\"\")","v":""},null,null,null,null,null,null,null,null,null,null,null,null,null,null,null,null,null,null,null,null,null,null,null,"1","2"]
[null,{"$f":"IFERROR(IF(A43=\"\",\"\",VLOOKUP(A43,'Lista Psychotropy Wet'!$A$2:$B$100,2,FALSE)),\"\")","v":""},{"$f":"IFERROR(IF(A43=\"\",\"\",HLOOKUP(A43,'Lista Psychotropy Wet'!$H$34:$DA$37,2,FALSE)),\"\")","v":""},{"$f":"IFERROR(IF(A43=\"\",\"\",HLOOKUP(A43,'Lista Psychotropy Wet'!$H$1:$DA$7,2,FALSE)),\"\")","v":""},{"$f":"IFERROR(IF(A43=\"\",\"\",HLOOKUP(A43,'Lista Psychotropy Wet'!$H$13:$DA$18,2,FALSE)),\"\")","v":""},null,null,null,null,null,null,null,null,null,null,null,null,null,null,null,null,null,null,null,null,null,null,null,"1","2"]
[null,{"$f":"IFERROR(IF(A44=\"\",\"\",VLOOKUP(A44,'Lista Psychotropy Wet'!$A$2:$B$100,2,FALSE)),\"\")","v":""},{"$f":"IFERROR(IF(A44=\"\",\"\",HLOOKUP(A44,'Lista Psychotropy Wet'!$H$34:$DA$37,2,FALSE)),\"\")","v":""},{"$f":"IFERROR(IF(A44=\"\",\"\",HLOOKUP(A44,'Lista Psychotropy Wet'!$H$1:$DA$7,2,FALSE)),\"\")","v":""},{"$f":"IFERROR(IF(A44=\"\",\"\",HLOOKUP(A44,'Lista Psychotropy Wet'!$H$13:$DA$18,2,FALSE)),\"\")","v":""},null,null,null,null,null,null,null,null,null,null,null,null,null,null,null,null,null,null,null,null,null,null,null,"1","2"]
[null,{"$f":"IFERROR(IF(A45=\"\",\"\",VLOOKUP(A45,'Lista Psychotropy Wet'!$A$2:$B$100,2,FALSE)),\"\")","v":""},{"$f":"IFERROR(IF(A45=\"\",\"\",HLOOKUP(A45,'Lista Psychotropy Wet'!$H$34:$DA$37,2,FALSE)),\"\")","v":""},{"$f":"IFERROR(IF(A45=\"\",\"\",HLOOKUP(A45,'Lista Psychotropy Wet'!$H$1:$DA$7,2,FALSE)),\"\")","v":""},{"$f":"IFERROR(IF(A45=\"\",\"\",HLOOKUP(A45,'Lista Psychotropy Wet'!$H$13:$DA$18,2,FALSE)),\"\")","v":""},null,null,null,null,null,null,null,null,null,null,null,null,null,null,null,null,null,null,null,null,null,null,null,"1","2"]
[null,{"$f":"IFERROR(IF(A46=\"\",\"\",VLOOKUP(A46,'Lista Psychotropy Wet'!$A$2:$B$100,2,FALSE)),\"\")","v":""},{"$f":"IFERROR(IF(A46=\"\",\"\",HLOOKUP(A46,'Lista Psychotropy Wet'!$H$34:$DA$37,2,FALSE)),\"\")","v":""},{"$f":"IFERROR(IF(A46=\"\",\"\",HLOOKUP(A46,'Lista Psychotropy Wet'!$H$1:$DA$7,2,FALSE)),\"\")","v":""},{"$f":"IFERROR(IF(A46=\"\",\"\",HLOOKUP(A46,'Lista Psychotropy Wet'!$H$13:$DA$18,2,FALSE)),\"\")","v":""},null,null,null,null,null,null,null,null,null,null,null,null,null,null,null,null,null,null,null,null,null,null,null,"1","2"]
[null,{"$f":"IFERROR(IF(A47=\"\",\"\",VLOOKUP(A47,'Lista Psychotropy Wet'!$A$2:$B$100,2,FALSE)),\"\")","v":""},{"$f":"IFERROR(IF(A47=\"\",\"\",HLOOKUP(A47,'Lista Psychotropy Wet'!$H$34:$DA$37,2,FALSE)),\"\")","v":""},{"$f":"IFERROR(IF(A47=\"\",\"\",HLOOKUP(A47,'Lista Psychotropy Wet'!$H$1:$DA$7,2,FALSE)),\"\")","v":""},{"$f":"IFERROR(IF(A47=\"\",\"\",HLOOKUP(A47,'Lista Psychotropy Wet'!$H$13:$DA$18,2,FALSE)),\"\")","v":""},null,null,null,null,null,null,null,null,null,null,null,null,null,null,null,null,null,null,null,null,null,null,null,"1","2"]
[null,{"$f":"IFERROR(IF(A48=\"\",\"\",VLOOKUP(A48,'Lista Psychotropy Wet'!$A$2:$B$100,2,FALSE)),\"\")","v":""},{"$f":"IFERROR(IF(A48=\"\",\"\",HLOOKUP(A48,'Lista Psychotropy Wet'!$H$34:$DA$37,2,FALSE)),\"\")","v":""},{"$f":"IFERROR(IF(A48=\"\",\"\",HLOOKUP(A48,'Lista Psychotropy Wet'!$H$1:$DA$7,2,FALSE)),\"\")","v":""},{"$f":"IFERROR(IF(A48=\"\",\"\",HLOOKUP(A48,'Lista Psychotropy Wet'!$H$13:$DA$18,2,FALSE)),\"\")","v":""},null,null,null,null,null,null,null,null,null,null,null,null,null,null,null,null,null,null,null,null,null,null,null,"1","2"]
[null,{"$f":"IFERROR(IF(A49=\"\",\"\",VLOOKUP(A49,'Lista Psychotropy Wet'!$A$2:$B$100,2,FALSE)),\"\")","v":""},{"$f":"IFERROR(IF(A49=\"\",\"\",HLOOKUP(A49,'Lista Psychotropy Wet'!$H$34:$DA$37,2,FALSE)),\"\")","v":""},{"$f":"IFERROR(IF(A49=\"\",\"\",HLOOKUP(A49,'Lista Psychotropy Wet'!$H$1:$DA$7,2,FALSE)),\"\")","v":""},{"$f":"IFERROR(IF(A49=\"\",\"\",HLOOKUP(A49,'Lista Psychotropy Wet'!$H$13:$DA$18,2,FALSE)),\"\")","v":""},null,null,null,null,null,null,null,null,null,null,null,null,null,null,null,null,null,null,null,null,null,null,null,"1","2"]
[null,{"$f":"IFERROR(IF(A50=\"\",\"\",VLOOKUP(A50,'Lista Psychotropy Wet'!$A$2:$B$100,2,FALSE)),\"\")","v":""},{"$f":"IFERROR(IF(A50=\"\",\"\",HLOOKUP(A50,'Lista Psychotropy Wet'!$H$34:$DA$37,2,FALSE)),\"\")","v":""},{"$f":"IFERROR(IF(A50=\"\",\"\",HLOOKUP(A50,'Lista Psychotropy Wet'!$H$1:$DA$7,2,FALSE)),\"\")","v":""},{"$f":"IFERROR(IF(A50=\"\",\"\",HLOOKUP(A50,'Lista Psychotropy Wet'!$H$13:$DA$18,2,FALSE)),\"\")","v":""},null,null,null,null,null,null,null,null,null,null,null,null,null,null,null,null,null,null,null,null,null,null,null,"1","2"]
[null,{"$f":"IFERROR(IF(A51=\"\",\"\",VLOOKUP(A51,'Lista Psychotropy Wet'!$A$2:$B$100,2,FALSE)),\"\")","v":""},{"$f":"IFERROR(IF(A51=\"\",\"\",HLOOKUP(A51,'Lista Psychotropy Wet'!$H$34:$DA$37,2,FALSE)),\"\")","v":""},{"$f":"IFERROR(IF(A51=\"\",\"\",HLOOKUP(A51,'Lista Psychotropy Wet'!$H$1:$DA$7,2,FALSE)),\"\")","v":""},{"$f":"IFERROR(IF(A51=\"\",\"\",HLOOKUP(A51,'Lista Psychotropy Wet'!$H$13:$DA$18,2,FALSE)),\"\")","v":""},null,null,null,null,null,null,null,null,null,null,null,null,null,null,null,null,null,null,null,null,null,null,null,"1","2"]
[null,{"$f":"IFERROR(IF(A52=\"\",\"\",VLOOKUP(A52,'Lista Psychotropy Wet'!$A$2:$B$100,2,FALSE)),\"\")","v":""},{"$f":"IFERROR(IF(A52=\"\",\"\",HLOOKUP(A52,'Lista Psychotropy Wet'!$H$34:$DA$37,2,FALSE)),\"\")","v":""},{"$f":"IFERROR(IF(A52=\"\",\"\",HLOOKUP(A52,'Lista Psychotropy Wet'!$H$1:$DA$7,2,FALSE)),\"\")","v":""},{"$f":"IFERROR(IF(A52=\"\",\"\",HLOOKUP(A52,'Lista Psychotropy Wet'!$H$13:$DA$18,2,FALSE)),\"\")","v":""},null,null,null,null,null,null,null,null,null,null,null,null,null,null,null,null,null,null,null,null,null,null,null,"1","2"]
[null,{"$f":"IFERROR(IF(A53=\"\",\"\",VLOOKUP(A53,'Lista Psychotropy Wet'!$A$2:$B$100,2,FALSE)),\"\")","v":""},{"$f":"IFERROR(IF(A53=\"\",\"\",HLOOKUP(A53,'Lista Psychotropy Wet'!$H$34:$DA$37,2,FALSE)),\"\")","v":""},{"$f":"IFERROR(IF(A53=\"\",\"\",HLOOKUP(A53,'Lista Psychotropy Wet'!$H$1:$DA$7,2,FALSE)),\"\")","v":""},{"$f":"IFERROR(IF(A53=\"\",\"\",HLOOKUP(A53,'Lista Psychotropy Wet'!$H$13:$DA$18,2,FALSE)),\"\")","v":""},null,null,null,null,null,null,null,null,null,null,null,null,null,null,null,null,null,null,null,null,null,null,null,"1","2"]
[null,{"$f":"IFERROR(IF(A54=\"\",\"\",VLOOKUP(A54,'Lista Psychotropy Wet'!$A$2:$B$100,2,FALSE)),\"\")","v":""},{"$f":"IFERROR(IF(A54=\"\",\"\",HLOOKUP(A54,'Lista Psychotropy Wet'!$H$34:$DA$37,2,FALSE)),\"\")","v":""},{"$f":"IFERROR(IF(A54=\"\",\"\",HLOOKUP(A54,'Lista Psychotropy Wet'!$H$1:$DA$7,2,FALSE)),\"\")","v":""},{"$f":"IFERROR(IF(A54=\"\",\"\",HLOOKUP(A54,'Lista Psychotropy Wet'!$H$13:$DA$18,2,FALSE)),\"\")","v":""},null,null,null,null,null,null,null,null,null,null,null,null,null,null,null,null,null,null,null,null,null,null,null,"1","2"]
[null,{"$f":"IFERROR(IF(A55=\"\",\"\",VLOOKUP(A55,'Lista Psychotropy Wet'!$A$2:$B$100,2,FALSE)),\"\")","v":""},{"$f":"IFERROR(IF(A55=\"\",\"\",HLOOKUP(A55,'Lista Psychotropy Wet'!$H$34:$DA$37,2,FALSE)),\"\")","v":""},{"$f":"IFERROR(IF(A55=\"\",\"\",HLOOKUP(A55,'Lista Psychotropy Wet'!$H$1:$DA$7,2,FALSE)),\"\")","v":""},{"$f":"IFERROR(IF(A55=\"\",\"\",HLOOKUP(A55,'Lista Psychotropy Wet'!$H$13:$DA$18,2,FALSE)),\"\")","v":""},null,null,null,null,null,null,null,null,null,null,null,null,null,null,null,null,null,null,null,null,null,null,null,"1","2"]
[null,{"$f":"IFERROR(IF(A56=\"\",\"\",VLOOKUP(A56,'Lista Psychotropy Wet'!$A$2:$B$100,2,FALSE)),\"\")","v":""},{"$f":"IFERROR(IF(A56=\"\",\"\",HLOOKUP(A56,'Lista Psychotropy Wet'!$H$34:$DA$37,2,FALSE)),\"\")","v":""},{"$f":"IFERROR(IF(A56=\"\",\"\",HLOOKUP(A56,'Lista Psychotropy Wet'!$H$1:$DA$7,2,FALSE)),\"\")","v":""},{"$f":"IFERROR(IF(A56=\"\",\"\",HLOOKUP(A56,'Lista Psychotropy Wet'!$H$13:$DA$18,2,FALSE)),\"\")","v":""},null,null,null,null,null,null,null,null,null,null,null,null,null,null,null,null,null,null,null,null,null,null,null,"1","2"]
[null,{"$f":"IFERROR(IF(A57=\"\",\"\",VLOOKUP(A57,'Lista Psychotropy Wet'!$A$2:$B$100,2,FALSE)),\"\")","v":""},{"$f":"IFERROR(IF(A57=\"\",\"\",HLOOKUP(A57,'Lista Psychotropy Wet'!$H$34:$DA$37,2,FALSE)),\"\")","v":""},{"$f":"IFERROR(IF(A57=\"\",\"\",HLOOKUP(A57,'Lista Psychotropy Wet'!$H$1:$DA$7,2,FALSE)),\"\")","v":""},{"$f":"IFERROR(IF(A57=\"\",\"\",HLOOKUP(A57,'Lista Psychotropy Wet'!$H$13:$DA$18,2,FALSE)),\"\")","v":""},null,null,null,null,null,null,null,null,null,null,null,null,null,null,null,null,null,null,null,null,null,null,null,"1","2"]
[null,{"$f":"IFERROR(IF(A58=\"\",\"\",VLOOKUP(A58,'Lista Psychotropy Wet'!$A$2:$B$100,2,FALSE)),\"\")","v":""},{"$f":"IFERROR(IF(A58=\"\",\"\",HLOOKUP(A58,'Lista Psychotropy Wet'!$H$34:$DA$37,2,FALSE)),\"\")","v":""},{"$f":"IFERROR(IF(A58=\"\",\"\",HLOOKUP(A58,'Lista Psychotropy Wet'!$H$1:$DA$7,2,FALSE)),\"\")","v":""},{"$f":"IFERROR(IF(A58=\"\",\"\",HLOOKUP(A58,'Lista Psychotropy Wet'!$H$13:$DA$18,2,FALSE)),\"\")","v":""},null,null,null,null,null,null,null,null,null,null,null,null,null,null,null,null,null,null,null,null,null,null,null,"1","2"]
[null,{"$f":"IFERROR(IF(A59=\"\",\"\",VLOOKUP(A59,'Lista Psychotropy Wet'!$A$2:$B$100,2,FALSE)),\"\")","v":""},{"$f":"IFERROR(IF(A59=\"\",\"\",HLOOKUP(A59,'Lista Psychotropy Wet'!$H$34:$DA$37,2,FALSE)),\"\")","v":""},{"$f":"IFERROR(IF(A59=\"\",\"\",HLOOKUP(A59,'Lista Psychotropy Wet'!$H$1:$DA$7,2,FALSE)),\"\")","v":""},{"$f":"IFERROR(IF(A59=\"\",\"\",HLOOKUP(A59,'Lista Psychotropy Wet'!$H$13:$DA$18,2,FALSE)),\"\")","v":""},null,null,null,null,null,null,null,null,null,null,null,null,null,null,null,null,null,null,null,null,null,null,null,"1","2"]
[null,{"$f":"IFERROR(IF(A60=\"\",\"\",VLOOKUP(A60,'Lista Psychotropy Wet'!$A$2:$B$100,2,FALSE)),\"\")","v":""},{"$f":"IFERROR(IF(A60=\"\",\"\",HLOOKUP(A60,'Lista Psychotropy Wet'!$H$34:$DA$37,2,FALSE)),\"\")","v":""},{"$f":"IFERROR(IF(A60=\"\",\"\",HLOOKUP(A60,'Lista Psychotropy Wet'!$H$1:$DA$7,2,FALSE)),\"\")","v":""},{"$f":"IFERROR(IF(A60=\"\",\"\",HLOOKUP(A60,'Lista Psychotropy Wet'!$H$13:$DA$18,2,FALSE)),\"\")","v":""},null,null,null,null,null,null,null,null,null,null,null,null,null,null,null,null,null,null,null,null,null,null,null,"1","2"]
[null,{"$f":"IFERROR(IF(A61=\"\",\"\",VLOOKUP(A61,'Lista Psychotropy Wet'!$A$2:$B$100,2,FALSE)),\"\")","v":""},{"$f":"IFERROR(IF(A61=\"\",\"\",HLOOKUP(A61,'Lista Psychotropy Wet'!$H$34:$DA$37,2,FALSE)),\"\")","v":""},{"$f":"IFERROR(IF(A61=\"\",\"\",HLOOKUP(A61,'Lista Psychotropy Wet'!$H$1:$DA$7,2,FALSE)),\"\")","v":""},{"$f":"IFERROR(IF(A61=\"\",\"\",HLOOKUP(A61,'Lista Psychotropy Wet'!$H$13:$DA$18,2,FALSE)),\"\")","v":""},null,null,null,null,null,null,null,null,null,null,null,null,null,null,null,null,null,null,null,null,null,null,null,"1","2"]
[null,{"$f":"IFERROR(IF(A62=\"\",\"\",VLOOKUP(A62,'Lista Psychotropy Wet'!$A$2:$B$100,2,FALSE)),\"\")","v":""},{"$f":"IFERROR(IF(A62=\"\",\"\",HLOOKUP(A62,'Lista Psychotropy Wet'!$H$34:$DA$37,2,FALSE)),\"\")","v":""},{"$f":"IFERROR(IF(A62=\"\",\"\",HLOOKUP(A62,'Lista Psychotropy Wet'!$H$1:$DA$7,2,FALSE)),\"\")","v":""},{"$f":"IFERROR(IF(A62=\"\",\"\",HLOOKUP(A62,'Lista Psychotropy Wet'!$H$13:$DA$18,2,FALSE)),\"\")","v":""},null,null,null,null,null,null,null,null,null,null,null,null,null,null,null,null,null,null,null,null,null,null,null,"1","2"]
[null,{"$f":"IFERROR(IF(A63=\"\",\"\",VLOOKUP(A63,'Lista Psychotropy Wet'!$A$2:$B$100,2,FALSE)),\"\")","v":""},{"$f":"IFERROR(IF(A63=\"\",\"\",HLOOKUP(A63,'Lista Psychotropy Wet'!$H$34:$DA$37,2,FALSE)),\"\")","v":""},{"$f":"IFERROR(IF(A63=\"\",\"\",HLOOKUP(A63,'Lista Psychotropy Wet'!$H$1:$DA$7,2,FALSE)),\"\")","v":""},{"$f":"IFERROR(IF(A63=\"\",\"\",HLOOKUP(A63,'Lista Psychotropy Wet'!$H$13:$DA$18,2,FALSE)),\"\")","v":""},null,null,null,null,null,null,null,null,null,null,null,null,null,null,null,null,null,null,null,null,null,null,null,"1","2"]
[null,{"$f":"IFERROR(IF(A64=\"\",\"\",VLOOKUP(A64,'Lista Psychotropy Wet'!$A$2:$B$100,2,FALSE)),\"\")","v":""},{"$f":"IFERROR(IF(A64=\"\",\"\",HLOOKUP(A64,'Lista Psychotropy Wet'!$H$34:$DA$37,2,FALSE)),\"\")","v":""},{"$f":"IFERROR(IF(A64=\"\",\"\",HLOOKUP(A64,'Lista Psychotropy Wet'!$H$1:$DA$7,2,FALSE)),\"\")","v":""},{"$f":"IFERROR(IF(A64=\"\",\"\",HLOOKUP(A64,'Lista Psychotropy Wet'!$H$13:$DA$18,2,FALSE)),\"\")","v":""},null,null,null,null,null,null,null,null,null,null,null,null,null,null,null,null,null,null,null,null,null,null,null,"1","2"]
[null,{"$f":"IFERROR(IF(A65=\"\",\"\",VLOOKUP(A65,'Lista Psychotropy Wet'!$A$2:$B$100,2,FALSE)),\"\")","v":""},{"$f":"IFERROR(IF(A65=\"\",\"\",HLOOKUP(A65,'Lista Psychotropy Wet'!$H$34:$DA$37,2,FALSE)),\"\")","v":""},{"$f":"IFERROR(IF(A65=\"\",\"\",HLOOKUP(A65,'Lista Psychotropy Wet'!$H$1:$DA$7,2,FALSE)),\"\")","v":""},{"$f":"IFERROR(IF(A65=\"\",\"\",HLOOKUP(A65,'Lista Psychotropy Wet'!$H$13:$DA$18,2,FALSE)),\"\")","v":""},null,null,null,null,null,null,null,null,null,null,null,null,null,null,null,null,null,null,null,null,null,null,null,"1","2"]
[null,{"$f":"IFERROR(IF(A66=\"\",\"\",VLOOKUP(A66,'Lista Psychotropy Wet'!$A$2:$B$100,2,FALSE)),\"\")","v":""},{"$f":"IFERROR(IF(A66=\"\",\"\",HLOOKUP(A66,'Lista Psychotropy Wet'!$H$34:$DA$37,2,FALSE)),\"\")","v":""},{"$f":"IFERROR(IF(A66=\"\",\"\",HLOOKUP(A66,'Lista Psychotropy Wet'!$H$1:$DA$7,2,FALSE)),\"\")","v":""},{"$f":"IFERROR(IF(A66=\"\",\"\",HLOOKUP(A66,'Lista Psychotropy Wet'!$H$13:$DA$18,2,FALSE)),\"\")","v":""},null,null,null,null,null,null,null,null,null,null,null,null,null,null,null,null,null,null,null,null,null,null,null,"1","2"]
[null,{"$f":"IFERROR(IF(A67=\"\",\"\",VLOOKUP(A67,'Lista Psychotropy Wet'!$A$2:$B$100,2,FALSE)),\"\")","v":""},{"$f":"IFERROR(IF(A67=\"\",\"\",HLOOKUP(A67,'Lista Psychotropy Wet'!$H$34:$DA$37,2,FALSE)),\"\")","v":""},{"$f":"IFERROR(IF(A67=\"\",\"\",HLOOKUP(A67,'Lista Psychotropy Wet'!$H$1:$DA$7,2,FALSE)),\"\")","v":""},{"$f":"IFERROR(IF(A67=\"\",\"\",HLOOKUP(A67,'Lista Psychotropy Wet'!$H$13:$DA$18,2,FALSE)),\"\")","v":""},null,null,null,null,null,null,null,null,null,null,null,null,null,null,null,null,null,null,null,null,null,null,null,"1","2"]
[null,{"$f":"IFERROR(IF(A68=\"\",\"\",VLOOKUP(A68,'Lista Psychotropy Wet'!$A$2:$B$100,2,FALSE)),\"\")","v":""},{"$f":"IFERROR(IF(A68=\"\",\"\",HLOOKUP(A68,'Lista Psychotropy Wet'!$H$34:$DA$37,2,FALSE)),\"\")","v":""},{"$f":"IFERROR(IF(A68=\"\",\"\",HLOOKUP(A68,'Lista Psychotropy Wet'!$H$1:$DA$7,2,FALSE)),\"\")","v":""},{"$f":"IFERROR(IF(A68=\"\",\"\",HLOOKUP(A68,'Lista Psychotropy Wet'!$H$13:$DA$18,2,FALSE)),\"\")","v":""},null,null,null,null,null,null,null,null,null,null,null,null,null,null,null,null,null,null,null,null,null,null,null,"1","2"]
[null,{"$f":"IFERROR(IF(A69=\"\",\"\",VLOOKUP(A69,'Lista Psychotropy Wet'!$A$2:$B$100,2,FALSE)),\"\")","v":""},{"$f":"IFERROR(IF(A69=\"\",\"\",HLOOKUP(A69,'Lista Psychotropy Wet'!$H$34:$DA$37,2,FALSE)),\"\")","v":""},{"$f":"IFERROR(IF(A69=\"\",\"\",HLOOKUP(A69,'Lista Psychotropy Wet'!$H$1:$DA$7,2,FALSE)),\"\")","v":""},{"$f":"IFERROR(IF(A69=\"\",\"\",HLOOKUP(A69,'Lista Psychotropy Wet'!$H$13:$DA$18,2,FALSE)),\"\")","v":""},null,null,null,null,null,null,null,null,null,null,null,null,null,null,null,null,null,null,null,null,null,null,null,"1","2"]
[null,{"$f":"IFERROR(IF(A70=\"\",\"\",VLOOKUP(A70,'Lista Psychotropy Wet'!$A$2:$B$100,2,FALSE)),\"\")","v":""},{"$f":"IFERROR(IF(A70=\"\",\"\",HLOOKUP(A70,'Lista Psychotropy Wet'!$H$34:$DA$37,2,FALSE)),\"\")","v":""},{"$f":"IFERROR(IF(A70=\"\",\"\",HLOOKUP(A70,'Lista Psychotropy Wet'!$H$1:$DA$7,2,FALSE)),\"\")","v":""},{"$f":"IFERROR(IF(A70=\"\",\"\",HLOOKUP(A70,'Lista Psychotropy Wet'!$H$13:$DA$18,2,FALSE)),\"\")","v":""},null,null,null,null,null,null,null,null,null,null,null,null,null,null,null,null,null,null,null,null,null,null,null,"1","2"]
[null,{"$f":"IFERROR(IF(A71=\"\",\"\",VLOOKUP(A71,'Lista Psychotropy Wet'!$A$2:$B$100,2,FALSE)),\"\")","v":""},{"$f":"IFERROR(IF(A71=\"\",\"\",HLOOKUP(A71,'Lista Psychotropy Wet'!$H$34:$DA$37,2,FALSE)),\"\")","v":""},{"$f":"IFERROR(IF(A71=\"\",\"\",HLOOKUP(A71,'Lista Psychotropy Wet'!$H$1:$DA$7,2,FALSE)),\"\")","v":""},{"$f":"IFERROR(IF(A71=\"\",\"\",HLOOKUP(A71,'Lista Psychotropy Wet'!$H$13:$DA$18,2,FALSE)),\"\")","v":""},null,null,null,null,null,null,null,null,null,null,null,null,null,null,null,null,null,null,null,null,null,null,null,"1","2"]
[null,{"$f":"IFERROR(IF(A72=\"\",\"\",VLOOKUP(A72,'Lista Psychotropy Wet'!$A$2:$B$100,2,FALSE)),\"\")","v":""},{"$f":"IFERROR(IF(A72=\"\",\"\",HLOOKUP(A72,'Lista Psychotropy Wet'!$H$34:$DA$37,2,FALSE)),\"\")","v":""},{"$f":"IFERROR(IF(A72=\"\",\"\",HLOOKUP(A72,'Lista Psychotropy Wet'!$H$1:$DA$7,2,FALSE)),\"\")","v":""},{"$f":"IFERROR(IF(A72=\"\",\"\",HLOOKUP(A72,'Lista Psychotropy Wet'!$H$13:$DA$18,2,FALSE)),\"\")","v":""},null,null,null,null,null,null,null,null,null,null,null,null,null,null,null,null,null,null,null,null,null,null,null,"1","2"]
[null,{"$f":"IFERROR(IF(A73=\"\",\"\",VLOOKUP(A73,'Lista Psychotropy Wet'!$A$2:$B$100,2,FALSE)),\"\")","v":""},{"$f":"IFERROR(IF(A73=\"\",\"\",HLOOKUP(A73,'Lista Psychotropy Wet'!$H$34:$DA$37,2,FALSE)),\"\")","v":""},{"$f":"IFERROR(IF(A73=\"\",\"\",HLOOKUP(A73,'Lista Psychotropy Wet'!$H$1:$DA$7,2,FALSE)),\"\")","v":""},{"$f":"IFERROR(IF(A73=\"\",\"\",HLOOKUP(A73,'Lista Psychotropy Wet'!$H$13:$DA$18,2,FALSE)),\"\")","v":""},null,null,null,null,null,null,null,null,null,null,null,null,null,null,null,null,null,null,null,null,null,null,null,"1","2"]
[null,{"$f":"IFERROR(IF(A74=\"\",\"\",VLOOKUP(A74,'Lista Psychotropy Wet'!$A$2:$B$100,2,FALSE)),\"\")","v":""},{"$f":"IFERROR(IF(A74=\"\",\"\",HLOOKUP(A74,'Lista Psychotropy Wet'!$H$34:$DA$37,2,FALSE)),\"\")","v":""},{"$f":"IFERROR(IF(A74=\"\",\"\",HLOOKUP(A74,'Lista Psychotropy Wet'!$H$1:$DA$7,2,FALSE)),\"\")","v":""},{"$f":"IFERROR(IF(A74=\"\",\"\",HLOOKUP(A74,'Lista Psychotropy Wet'!$H$13:$DA$18,2,FALSE)),\"\")","v":""},null,null,null,null,null,null,null,null,null,null,null,null,null,null,null,null,null,null,null,null,null,null,null,{"$f":"A74&1","v":"1"},{"$f":"A74&2","v":"2"}]
[null,{"$f":"IFERROR(IF(A75=\"\",\"\",VLOOKUP(A75,'Lista Psychotropy Wet'!$A$2:$B$100,2,FALSE)),\"\")","v":""},{"$f":"IFERROR(IF(A75=\"\",\"\",HLOOKUP(A75,'Lista Psychotropy Wet'!$H$34:$DA$37,2,FALSE)),\"\")","v":""},{"$f":"IFERROR(IF(A75=\"\",\"\",HLOOKUP(A75,'Lista Psychotropy Wet'!$H$1:$DA$7,2,FALSE)),\"\")","v":""},{"$f":"IFERROR(IF(A75=\"\",\"\",HLOOKUP(A75,'Lista Psychotropy Wet'!$H$13:$DA$18,2,FALSE)),\"\")","v":""},null,null,null,null,null,null,null,null,null,null,null,null,null,null,null,null,null,null,null,null,null,null,null,"1","2"]
[null,{"$f":"IFERROR(IF(A76=\"\",\"\",VLOOKUP(A76,'Lista Psychotropy Wet'!$A$2:$B$100,2,FALSE)),\"\")","v":""},{"$f":"IFERROR(IF(A76=\"\",\"\",HLOOKUP(A76,'Lista Psychotropy Wet'!$H$34:$DA$37,2,FALSE)),\"\")","v":""},{"$f":"IFERROR(IF(A76=\"\",\"\",HLOOKUP(A76,'Lista Psychotropy Wet'!$H$1:$DA$7,2,FALSE)),\"\")","v":""},{"$f":"IFERROR(IF(A76=\"\",\"\",HLOOKUP(A76,'Lista Psychotropy Wet'!$H$13:$DA$18,2,FALSE)),\"\")","v":""},null,null,null,null,null,null,null,null,null,null,null,null,null,null,null,null,null,null,null,null,null,null,null,"1","2"]
[null,{"$f":"IFERROR(IF(A77=\"\",\"\",VLOOKUP(A77,'Lista Psychotropy Wet'!$A$2:$B$100,2,FALSE)),\"\")","v":""},{"$f":"IFERROR(IF(A77=\"\",\"\",HLOOKUP(A77,'Lista Psychotropy Wet'!$H$34:$DA$37,2,FALSE)),\"\")","v":""},{"$f":"IFERROR(IF(A77=\"\",\"\",HLOOKUP(A77,'Lista Psychotropy Wet'!$H$1:$DA$7,2,FALSE)),\"\")","v":""},{"$f":"IFERROR(IF(A77=\"\",\"\",HLOOKUP(A77,'Lista Psychotropy Wet'!$H$13:$DA$18,2,FALSE)),\"\")","v":""},null,null,null,null,null,null,null,null,null,null,null,null,null,null,null,null,null,null,null,null,null,null,null,"1","2"]
[null,{"$f":"IFERROR(IF(A78=\"\",\"\",VLOOKUP(A78,'Lista Psychotropy Wet'!$A$2:$B$100,2,FALSE)),\"\")","v":""},{"$f":"IFERROR(IF(A78=\"\",\"\",HLOOKUP(A78,'Lista Psychotropy Wet'!$H$34:$DA$37,2,FALSE)),\"\")","v":""},{"$f":"IFERROR(IF(A78=\"\",\"\",HLOOKUP(A78,'Lista Psychotropy Wet'!$H$1:$DA$7,2,FALSE)),\"\")","v":""},{"$f":"IFERROR(IF(A78=\"\",\"\",HLOOKUP(A78,'Lista Psychotropy Wet'!$H$13:$DA$18,2,FALSE)),\"\")","v":""},null,null,null,null,null,null,null,null,null,null,null,null,null,null,null,null,null,null,null,null,null,null,null,"1","2"]
[null,{"$f":"IFERROR(IF(A79=\"\",\"\",VLOOKUP(A79,'Lista Psychotropy Wet'!$A$2:$B$100,2,FALSE)),\"\")","v":""},{"$f":"IFERROR(IF(A79=\"\",\"\",HLOOKUP(A79,'Lista Psychotropy Wet'!$H$34:$DA$37,2,FALSE)),\"\")","v":""},{"$f":"IFERROR(IF(A79=\"\",\"\",HLOOKUP(A79,'Lista Psychotropy Wet'!$H$1:$DA$7,2,FALSE)),\"\")","v":""},{"$f":"IFERROR(IF(A79=\"\",\"\",HLOOKUP(A79,'Lista Psychotropy Wet'!$H$13:$DA$18,2,FALSE)),\"\")","v":""},null,null,null,null,null,null,null,null,null,null,null,null,null,null,null,null,null,null,null,null,null,null,null,"1","2"]
[null,{"$f":"IFERROR(IF(A80=\"\",\"\",VLOOKUP(A80,'Lista Psychotropy Wet'!$A$2:$B$100,2,FALSE)),\"\")","v":""},{"$f":"IFERROR(IF(A80=\"\",\"\",HLOOKUP(A80,'Lista Psychotropy Wet'!$H$34:$DA$37,2,FALSE)),\"\")","v":""},{"$f":"IFERROR(IF(A80=\"\",\"\",HLOOKUP(A80,'Lista Psychotropy Wet'!$H$1:$DA$7,2,FALSE)),\"\")","v":""},{"$f":"IFERROR(IF(A80=\"\",\"\",HLOOKUP(A80,'Lista Psychotropy Wet'!$H$13:$DA$18,2,FALSE)),\"\")","v":""},null,null,null,null,null,null,null,null,null,null,null,null,null,null,null,null,null,null,null,null,null,null,null,"1","2"]
[null,{"$f":"IFERROR(IF(A81=\"\",\"\",VLOOKUP(A81,'Lista Psychotropy Wet'!$A$2:$B$100,2,FALSE)),\"\")","v":""},{"$f":"IFERROR(IF(A81=\"\",\"\",HLOOKUP(A81,'Lista Psychotropy Wet'!$H$34:$DA$37,2,FALSE)),\"\")","v":""},{"$f":"IFERROR(IF(A81=\"\",\"\",HLOOKUP(A81,'Lista Psychotropy Wet'!$H$1:$DA$7,2,FALSE)),\"\")","v":""},{"$f":"IFERROR(IF(A81=\"\",\"\",HLOOKUP(A81,'Lista Psychotropy Wet'!$H$13:$DA$18,2,FALSE)),\"\")","v":""},null,null,null,null,null,null,null,null,null,null,null,null,null,null,null,null,null,null,null,null,null,null,null,"1","2"]
[null,{"$f":"IFERROR(IF(A82=\"\",\"\",VLOOKUP(A82,'Lista Psychotropy Wet'!$A$2:$B$100,2,FALSE)),\"\")","v":""},{"$f":"IFERROR(IF(A82=\"\",\"\",HLOOKUP(A82,'Lista Psychotropy Wet'!$H$34:$DA$37,2,FALSE)),\"\")","v":""},{"$f":"IFERROR(IF(A82=\"\",\"\",HLOOKUP(A82,'Lista Psychotropy Wet'!$H$1:$DA$7,2,FALSE)),\"\")","v":""},{"$f":"IFERROR(IF(A82=\"\",\"\",HLOOKUP(A82,'Lista Psychotropy Wet'!$H$13:$DA$18,2,FALSE)),\"\")","v":""},null,null,null,null,null,null,null,null,null,null,null,null,null,null,null,null,null,null,null,null,null,null,null,"1","2"]
[null,{"$f":"IFERROR(IF(A83=\"\",\"\",VLOOKUP(A83,'Lista Psychotropy Wet'!$A$2:$B$100,2,FALSE)),\"\")","v":""},{"$f":"IFERROR(IF(A83=\"\",\"\",HLOOKUP(A83,'Lista Psychotropy Wet'!$H$34:$DA$37,2,FALSE)),\"\")","v":""},{"$f":"IFERROR(IF(A83=\"\",\"\",HLOOKUP(A83,'Lista Psychotropy Wet'!$H$1:$DA$7,2,FALSE)),\"\")","v":""},{"$f":"IFERROR(IF(A83=\"\",\"\",HLOOKUP(A83,'Lista Psychotropy Wet'!$H$13:$DA$18,2,FALSE)),\"\")","v":""},null,null,null,null,null,null,null,null,null,null,null,null,null,null,null,null,null,null,null,null,null,null,null,"1","2"]
[null,{"$f":"IFERROR(IF(A84=\"\",\"\",VLOOKUP(A84,'Lista Psychotropy Wet'!$A$2:$B$100,2,FALSE)),\"\")","v":""},{"$f":"IFERROR(IF(A84=\"\",\"\",HLOOKUP(A84,'Lista Psychotropy Wet'!$H$34:$DA$37,2,FALSE)),\"\")","v":""},{"$f":"IFERROR(IF(A84=\"\",\"\",HLOOKUP(A84,'Lista Psychotropy Wet'!$H$1:$DA$7,2,FALSE)),\"\")","v":""},{"$f":"IFERROR(IF(A84=\"\",\"\",HLOOKUP(A84,'Lista Psychotropy Wet'!$H$13:$DA$18,2,FALSE)),\"\")","v":""},null,null,null,null,null,null,null,null,null,null,null,null,null,null,null,null,null,null,null,null,null,null,null,"1","2"]
[null,{"$f":"IFERROR(IF(A85=\"\",\"\",VLOOKUP(A85,'Lista Psychotropy Wet'!$A$2:$B$100,2,FALSE)),\"\")","v":""},{"$f":"IFERROR(IF(A85=\"\",\"\",HLOOKUP(A85,'Lista Psychotropy Wet'!$H$34:$DA$37,2,FALSE)),\"\")","v":""},{"$f":"IFERROR(IF(A85=\"\",\"\",HLOOKUP(A85,'Lista Psychotropy Wet'!$H$1:$DA$7,2,FALSE)),\"\")","v":""},{"$f":"IFERROR(IF(A85=\"\",\"\",HLOOKUP(A85,'Lista Psychotropy Wet'!$H$13:$DA$18,2,FALSE)),\"\")","v":""},null,null,null,null,null,null,null,null,null,null,null,null,null,null,null,null,null,null,null,null,null,null,null,"1","2"]
[null,{"$f":"IFERROR(IF(A86=\"\",\"\",VLOOKUP(A86,'Lista Psychotropy Wet'!$A$2:$B$100,2,FALSE)),\"\")","v":""},{"$f":"IFERROR(IF(A86=\"\",\"\",HLOOKUP(A86,'Lista Psychotropy Wet'!$H$34:$DA$37,2,FALSE)),\"\")","v":""},{"$f":"IFERROR(IF(A86=\"\",\"\",HLOOKUP(A86,'Lista Psychotropy Wet'!$H$1:$DA$7,2,FALSE)),\"\")","v":""},{"$f":"IFERROR(IF(A86=\"\",\"\",HLOOKUP(A86,'Lista Psychotropy Wet'!$H$13:$DA$18,2,FALSE)),\"\")","v":""},null,null,null,null,null,null,null,null,null,null,null,null,null,null,null,null,null,null,null,null,null,null,null,"1","2"]
[null,{"$f":"IFERROR(IF(A87=\"\",\"\",VLOOKUP(A87,'Lista Psychotropy Wet'!$A$2:$B$100,2,FALSE)),\"\")","v":""},{"$f":"IFERROR(IF(A87=\"\",\"\",HLOOKUP(A87,'Lista Psychotropy Wet'!$H$34:$DA$37,2,FALSE)),\"\")","v":""},{"$f":"IFERROR(IF(A87=\"\",\"\",HLOOKUP(A87,'Lista Psychotropy Wet'!$H$1:$DA$7,2,FALSE)),\"\")","v":""},{"$f":"IFERROR(IF(A87=\"\",\"\",HLOOKUP(A87,'Lista Psychotropy Wet'!$H$13:$DA$18,2,FALSE)),\"\")","v":""},null,null,null,null,null,null,null,null,null,null,null,null,null,null,null,null,null,null,null,null,null,null,null,"1","2"]
[null,{"$f":"IFERROR(IF(A88=\"\",\"\",VLOOKUP(A88,'Lista Psychotropy Wet'!$A$2:$B$100,2,FALSE)),\"\")","v":""},{"$f":"IFERROR(IF(A88=\"\",\"\",HLOOKUP(A88,'Lista Psychotropy Wet'!$H$34:$DA$37,2,FALSE)),\"\")","v":""},{"$f":"IFERROR(IF(A88=\"\",\"\",HLOOKUP(A88,'Lista Psychotropy Wet'!$H$1:$DA$7,2,FALSE)),\"\")","v":""},{"$f":"IFERROR(IF(A88=\"\",\"\",HLOOKUP(A88,'Lista Psychotropy Wet'!$H$13:$DA$18,2,FALSE)),\"\")","v":""},null,null,null,null,null,null,null,null,null,null,null,null,null,null,null,null,null,null,null,null,null,null,null,"1","2"]
[null,{"$f":"IFERROR(IF(A89=\"\",\"\",VLOOKUP(A89,'Lista Psychotropy Wet'!$A$2:$B$100,2,FALSE)),\"\")","v":""},{"$f":"IFERROR(IF(A89=\"\",\"\",HLOOKUP(A89,'Lista Psychotropy Wet'!$H$34:$DA$37,2,FALSE)),\"\")","v":""},{"$f":"IFERROR(IF(A89=\"\",\"\",HLOOKUP(A89,'Lista Psychotropy Wet'!$H$1:$DA$7,2,FALSE)),\"\")","v":""},{"$f":"IFERROR(IF(A89=\"\",\"\",HLOOKUP(A89,'Lista Psychotropy Wet'!$H$13:$DA$18,2,FALSE)),\"\")","v":""},null,null,null,null,null,null,null,null,null,null,null,null,null,null,null,null,null,null,null,null,null,null,null,"1","2"]
[null,{"$f":"IFERROR(IF(A90=\"\",\"\",VLOOKUP(A90,'Lista Psychotropy Wet'!$A$2:$B$100,2,FALSE)),\"\")","v":""},{"$f":"IFERROR(IF(A90=\"\",\"\",HLOOKUP(A90,'Lista Psychotropy Wet'!$H$34:$DA$37,2,FALSE)),\"\")","v":""},{"$f":"IFERROR(IF(A90=\"\",\"\",HLOOKUP(A90,'Lista Psychotropy Wet'!$H$1:$DA$7,2,FALSE)),\"\")","v":""},{"$f":"IFERROR(IF(A90=\"\",\"\",HLOOKUP(A90,'Lista Psychotropy Wet'!$H$13:$DA$18,2,FALSE)),\"\")","v":""},null,null,null,null,null,null,null,null,null,null,null,null,null,null,null,null,null,null,null,null,null,null,null,"1","2"]
[null,{"$f":"IFERROR(IF(A91=\"\",\"\",VLOOKUP(A91,'Lista Psychotropy Wet'!$A$2:$B$100,2,FALSE)),\"\")","v":""},{"$f":"IFERROR(IF(A91=\"\",\"\",HLOOKUP(A91,'Lista Psychotropy Wet'!$H$34:$DA$37,2,FALSE)),\"\")","v":""},{"$f":"IFERROR(IF(A91=\"\",\"\",HLOOKUP(A91,'Lista Psychotropy Wet'!$H$1:$DA$7,2,FALSE)),\"\")","v":""},{"$f":"IFERROR(IF(A91=\"\",\"\",HLOOKUP(A91,'Lista Psychotropy Wet'!$H$13:$DA$18,2,FALSE)),\"\")","v":""},null,null,null,null,null,null,null,null,null,null,null,null,null,null,null,null,null,null,null,null,null,null,null,"1","2"]
[null,{"$f":"IFERROR(IF(A92=\"\",\"\",VLOOKUP(A92,'Lista Psychotropy Wet'!$A$2:$B$100,2,FALSE)),\"\")","v":""},{"$f":"IFERROR(IF(A92=\"\",\"\",HLOOKUP(A92,'Lista Psychotropy Wet'!$H$34:$DA$37,2,FALSE)),\"\")","v":""},{"$f":"IFERROR(IF(A92=\"\",\"\",HLOOKUP(A92,'Lista Psychotropy Wet'!$H$1:$DA$7,2,FALSE)),\"\")","v":""},{"$f":"IFERROR(IF(A92=\"\",\"\",HLOOKUP(A92,'Lista Psychotropy Wet'!$H$13:$DA$18,2,FALSE)),\"\")","v":""},null,null,null,null,null,null,null,null,null,null,null,null,null,null,null,null,null,null,null,null,null,null,null,"1","2"]
[null,{"$f":"IFERROR(IF(A93=\"\",\"\",VLOOKUP(A93,'Lista Psychotropy Wet'!$A$2:$B$100,2,FALSE)),\"\")","v":""},{"$f":"IFERROR(IF(A93=\"\",\"\",HLOOKUP(A93,'Lista Psychotropy Wet'!$H$34:$DA$37,2,FALSE)),\"\")","v":""},{"$f":"IFERROR(IF(A93=\"\",\"\",HLOOKUP(A93,'Lista Psychotropy Wet'!$H$1:$DA$7,2,FALSE)),\"\")","v":""},{"$f":"IFERROR(IF(A93=\"\",\"\",HLOOKUP(A93,'Lista Psychotropy Wet'!$H$13:$DA$18,2,FALSE)),\"\")","v":""},null,null,null,null,null,null,null,null,null,null,null,null,null,null,null,null,null,null,null,null,null,null,null,"1","2"]
[null,{"$f":"IFERROR(IF(A94=\"\",\"\",VLOOKUP(A94,'Lista Psychotropy Wet'!$A$2:$B$100,2,FALSE)),\"\")","v":""},{"$f":"IFERROR(IF(A94=\"\",\"\",HLOOKUP(A94,'Lista Psychotropy Wet'!$H$34:$DA$37,2,FALSE)),\"\")","v":""},{"$f":"IFERROR(IF(A94=\"\",\"\",HLOOKUP(A94,'Lista Psychotropy Wet'!$H$1:$DA$7,2,FALSE)),\"\")","v":""},{"$f":"IFERROR(IF(A94=\"\",\"\",HLOOKUP(A94,'Lista Psychotropy Wet'!$H$13:$DA$18,2,FALSE)),\"\")","v":""},null,null,null,null,null,null,null,null,null,null,null,null,null,null,null,null,null,null,null,null,null,null,null,"1","2"]
[null,{"$f":"IFERROR(IF(A95=\"\",\"\",VLOOKUP(A95,'Lista Psychotropy Wet'!$A$2:$B$100,2,FALSE)),\"\")","v":""},{"$f":"IFERROR(IF(A95=\"\",\"\",HLOOKUP(A95,'Lista Psychotropy Wet'!$H$34:$DA$37,2,FALSE)),\"\")","v":""},{"$f":"IFERROR(IF(A95=\"\",\"\",HLOOKUP(A95,'Lista Psychotropy Wet'!$H$1:$DA$7,2,FALSE)),\"\")","v":""},{"$f":"IFERROR(IF(A95=\"\",\"\",HLOOKUP(A95,'Lista Psychotropy Wet'!$H$13:$DA$18,2,FALSE)),\"\")","v":""},null,null,null,null,null,null,null,null,null,null,null,null,null,null,null,null,null,null,null,null,null,null,null,"1","2"]
[null,{"$f":"IFERROR(IF(A96=\"\",\"\",VLOOKUP(A96,'Lista Psychotropy Wet'!$A$2:$B$100,2,FALSE)),\"\")","v":""},{"$f":"IFERROR(IF(A96=\"\",\"\",HLOOKUP(A96,'Lista Psychotropy Wet'!$H$34:$DA$37,2,FALSE)),\"\")","v":""},{"$f":"IFERROR(IF(A96=\"\",\"\",HLOOKUP(A96,'Lista Psychotropy Wet'!$H$1:$DA$7,2,FALSE)),\"\")","v":""},{"$f":"IFERROR(IF(A96=\"\",\"\",HLOOKUP(A96,'Lista Psychotropy Wet'!$H$13:$DA$18,2,FALSE)),\"\")","v":""},null,null,null,null,null,null,null,null,null,null,null,null,null,null,null,null,null,null,null,null,null,null,null,"1","2"]
[null,{"$f":"IFERROR(IF(A97=\"\",\"\",VLOOKUP(A97,'Lista Psychotropy Wet'!$A$2:$B$100,2,FALSE)),\"\")","v":""},{"$f":"IFERROR(IF(A97=\"\",\"\",HLOOKUP(A97,'Lista Psychotropy Wet'!$H$34:$DA$37,2,FALSE)),\"\")","v":""},{"$f":"IFERROR(IF(A97=\"\",\"\",HLOOKUP(A97,'Lista Psychotropy Wet'!$H$1:$DA$7,2,FALSE)),\"\")","v":""},{"$f":"IFERROR(IF(A97=\"\",\"\",HLOOKUP(A97,'Lista Psychotropy Wet'!$H$13:$DA$18,2,FALSE)),\"\")","v":""},null,null,null,null,null,null,null,null,null,null,null,null,null,null,null,null,null,null,null,null,null,null,null,"1","2"]
[null,{"$f":"IFERROR(IF(A98=\"\",\"\",VLOOKUP(A98,'Lista Psychotropy Wet'!$A$2:$B$100,2,FALSE)),\"\")","v":""},{"$f":"IFERROR(IF(A98=\"\",\"\",HLOOKUP(A98,'Lista Psychotropy Wet'!$H$34:$DA$37,2,FALSE)),\"\")","v":""},{"$f":"IFERROR(IF(A98=\"\",\"\",HLOOKUP(A98,'Lista Psychotropy Wet'!$H$1:$DA$7,2,FALSE)),\"\")","v":""},{"$f":"IFERROR(IF(A98=\"\",\"\",HLOOKUP(A98,'Lista Psychotropy Wet'!$H$13:$DA$18,2,FALSE)),\"\")","v":""},null,null,null,null,null,null,null,null,null,null,null,null,null,null,null,null,null,null,null,null,null,null,null,"1","2"]
[null,{"$f":"IFERROR(IF(A99=\"\",\"\",VLOOKUP(A99,'Lista Psychotropy Wet'!$A$2:$B$100,2,FALSE)),\"\")","v":""},{"$f":"IFERROR(IF(A99=\"\",\"\",HLOOKUP(A99,'Lista Psychotropy Wet'!$H$34:$DA$37,2,FALSE)),\"\")","v":""},{"$f":"IFERROR(IF(A99=\"\",\"\",HLOOKUP(A99,'Lista Psychotropy Wet'!$H$1:$DA$7,2,FALSE)),\"\")","v":""},{"$f":"IFERROR(IF(A99=\"\",\"\",HLOOKUP(A99,'Lista Psychotropy Wet'!$H$13:$DA$18,2,FALSE)),\"\")","v":""},null,null,null,null,null,null,null,null,null,null,null,null,null,null,null,null,null,null,null,null,null,null,null,"1","2"]
[null,{"$f":"IFERROR(IF(A100=\"\",\"\",VLOOKUP(A100,'Lista Psychotropy Wet'!$A$2:$B$100,2,FALSE)),\"\")","v":""},{"$f":"IFERROR(IF(A100=\"\",\"\",HLOOKUP(A100,'Lista Psychotropy Wet'!$H$34:$DA$37,2,FALSE)),\"\")","v":""},{"$f":"IFERROR(IF(A100=\"\",\"\",HLOOKUP(A100,'Lista Psychotropy Wet'!$H$1:$DA$7,2,FALSE)),\"\")","v":""},{"$f":"IFERROR(IF(A100=\"\",\"\",HLOOKUP(A100,'Lista Psychotropy Wet'!$H$13:$DA$18,2,FALSE)),\"\")","v":""},null,null,null,null,null,null,null,null,null,null,null,null,null,null,null,null,null,null,null,null,null,null,null,"1","2"]
[null,{"$f":"IFERROR(IF(A101=\"\",\"\",VLOOKUP(A101,'Lista Psychotropy Wet'!$A$2:$B$100,2,FALSE)),\"\")","v":""},{"$f":"IFERROR(IF(A101=\"\",\"\",HLOOKUP(A101,'Lista Psychotropy Wet'!$H$34:$DA$37,2,FALSE)),\"\")","v":""},{"$f":"IFERROR(IF(A101=\"\",\"\",HLOOKUP(A101,'Lista Psychotropy Wet'!$H$1:$DA$7,2,FALSE)),\"\")","v":""},{"$f":"IFERROR(IF(A101=\"\",\"\",HLOOKUP(A101,'Lista Psychotropy Wet'!$H$13:$DA$18,2,FALSE)),\"\")","v":""},null,null,null,null,null,null,null,null,null,null,null,null,null,null,null,null,null,null,null,null,null,null,null,"1","2"]
[null,{"$f":"IFERROR(IF(A102=\"\",\"\",VLOOKUP(A102,'Lista Psychotropy Wet'!$A$2:$B$100,2,FALSE)),\"\")","v":""},{"$f":"IFERROR(IF(A102=\"\",\"\",HLOOKUP(A102,'Lista Psychotropy Wet'!$H$34:$DA$37,2,FALSE)),\"\")","v":""},{"$f":"IFERROR(IF(A102=\"\",\"\",HLOOKUP(A102,'Lista Psychotropy Wet'!$H$1:$DA$7,2,FALSE)),\"\")","v":""},{"$f":"IFERROR(IF(A102=\"\",\"\",HLOOKUP(A102,'Lista Psychotropy Wet'!$H$13:$DA$18,2,FALSE)),\"\")","v":""},null,null,null,null,null,null,null,null,null,null,null,null,null,null,null,null,null,null,null,null,null,null,null,"1","2"]
[null,{"$f":"IFERROR(IF(A103=\"\",\"\",VLOOKUP(A103,'Lista Psychotropy Wet'!$A$2:$B$100,2,FALSE)),\"\")","v":""},{"$f":"IFERROR(IF(A103=\"\",\"\",HLOOKUP(A103,'Lista Psychotropy Wet'!$H$34:$DA$37,2,FALSE)),\"\")","v":""},{"$f":"IFERROR(IF(A103=\"\",\"\",HLOOKUP(A103,'Lista Psychotropy Wet'!$H$1:$DA$7,2,FALSE)),\"\")","v":""},{"$f":"IFERROR(IF(A103=\"\",\"\",HLOOKUP(A103,'Lista Psychotropy Wet'!$H$13:$DA$18,2,FALSE)),\"\")","v":""},null,null,null,null,null,null,null,null,null,null,null,null,null,null,null,null,null,null,null,null,null,null,null,"1","2"]
[null,{"$f":"IFERROR(IF(A104=\"\",\"\",VLOOKUP(A104,'Lista Psychotropy Wet'!$A$2:$B$100,2,FALSE)),\"\")","v":""},{"$f":"IFERROR(IF(A104=\"\",\"\",HLOOKUP(A104,'Lista Psychotropy Wet'!$H$34:$DA$37,2,FALSE)),\"\")","v":""},{"$f":"IFERROR(IF(A104=\"\",\"\",HLOOKUP(A104,'Lista Psychotropy Wet'!$H$1:$DA$7,2,FALSE)),\"\")","v":""},{"$f":"IFERROR(IF(A104=\"\",\"\",HLOOKUP(A104,'Lista Psychotropy Wet'!$H$13:$DA$18,2,FALSE)),\"\")","v":""},null,null,null,null,null,null,null,null,null,null,null,null,null,null,null,null,null,null,null,null,null,null,null,"1","2"]
[null,{"$f":"IFERROR(IF(A105=\"\",\"\",VLOOKUP(A105,'Lista Psychotropy Wet'!$A$2:$B$100,2,FALSE)),\"\")","v":""},{"$f":"IFERROR(IF(A105=\"\",\"\",HLOOKUP(A105,'Lista Psychotropy Wet'!$H$34:$DA$37,2,FALSE)),\"\")","v":""},{"$f":"IFERROR(IF(A105=\"\",\"\",HLOOKUP(A105,'Lista Psychotropy Wet'!$H$1:$DA$7,2,FALSE)),\"\")","v":""},{"$f":"IFERROR(IF(A105=\"\",\"\",HLOOKUP(A105,'Lista Psychotropy Wet'!$H$13:$DA$18,2,FALSE)),\"\")","v":""},null,null,null,null,null,null,null,null,null,null,null,null,null,null,null,null,null,null,null,null,null,null,null,"1","2"]
[null,{"$f":"IFERROR(IF(A106=\"\",\"\",VLOOKUP(A106,'Lista Psychotropy Wet'!$A$2:$B$100,2,FALSE)),\"\")","v":""},{"$f":"IFERROR(IF(A106=\"\",\"\",HLOOKUP(A106,'Lista Psychotropy Wet'!$H$34:$DA$37,2,FALSE)),\"\")","v":""},{"$f":"IFERROR(IF(A106=\"\",\"\",HLOOKUP(A106,'Lista Psychotropy Wet'!$H$1:$DA$7,2,FALSE)),\"\")","v":""},{"$f":"IFERROR(IF(A106=\"\",\"\",HLOOKUP(A106,'Lista Psychotropy Wet'!$H$13:$DA$18,2,FALSE)),\"\")","v":""},null,null,null,null,null,null,null,null,null,null,null,null,null,null,null,null,null,null,null,null,null,null,null,"1","2"]
[null,{"$f":"IFERROR(IF(A107=\"\",\"\",VLOOKUP(A107,'Lista Psychotropy Wet'!$A$2:$B$100,2,FALSE)),\"\")","v":""},{"$f":"IFERROR(IF(A107=\"\",\"\",HLOOKUP(A107,'Lista Psychotropy Wet'!$H$34:$DA$37,2,FALSE)),\"\")","v":""},{"$f":"IFERROR(IF(A107=\"\",\"\",HLOOKUP(A107,'Lista Psychotropy Wet'!$H$1:$DA$7,2,FALSE)),\"\")","v":""},{"$f":"IFERROR(IF(A107=\"\",\"\",HLOOKUP(A107,'Lista Psychotropy Wet'!$H$13:$DA$18,2,FALSE)),\"\")","v":""},null,null,null,null,null,null,null,null,null,null,null,null,null,null,null,null,null,null,null,null,null,null,null,"1","2"]
[null,{"$f":"IFERROR(IF(A108=\"\",\"\",VLOOKUP(A108,'Lista Psychotropy Wet'!$A$2:$B$100,2,FALSE)),\"\")","v":""},{"$f":"IFERROR(IF(A108=\"\",\"\",HLOOKUP(A108,'Lista Psychotropy Wet'!$H$34:$DA$37,2,FALSE)),\"\")","v":""},{"$f":"IFERROR(IF(A108=\"\",\"\",HLOOKUP(A108,'Lista Psychotropy Wet'!$H$1:$DA$7,2,FALSE)),\"\")","v":""},{"$f":"IFERROR(IF(A108=\"\",\"\",HLOOKUP(A108,'Lista Psychotropy Wet'!$H$13:$DA$18,2,FALSE)),\"\")","v":""},null,null,null,null,null,null,null,null,null,null,null,null,null,null,null,null,null,null,null,null,null,null,null,"1","2"]
[null,{"$f":"IFERROR(IF(A109=\"\",\"\",VLOOKUP(A109,'Lista Psychotropy Wet'!$A$2:$B$100,2,FALSE)),\"\")","v":""},{"$f":"IFERROR(IF(A109=\"\",\"\",HLOOKUP(A109,'Lista Psychotropy Wet'!$H$34:$DA$37,2,FALSE)),\"\")","v":""},{"$f":"IFERROR(IF(A109=\"\",\"\",HLOOKUP(A109,'Lista Psychotropy Wet'!$H$1:$DA$7,2,FALSE)),\"\")","v":""},{"$f":"IFERROR(IF(A109=\"\",\"\",HLOOKUP(A109,'Lista Psychotropy Wet'!$H$13:$DA$18,2,FALSE)),\"\")","v":""},null,null,null,null,null,null,null,null,null,null,null,null,null,null,null,null,null,null,null,null,null,null,null,"1","2"]
[null,{"$f":"IFERROR(IF(A110=\"\",\"\",VLOOKUP(A110,'Lista Psychotropy Wet'!$A$2:$B$100,2,FALSE)),\"\")","v":""},{"$f":"IFERROR(IF(A110=\"\",\"\",HLOOKUP(A110,'Lista Psychotropy Wet'!$H$34:$DA$37,2,FALSE)),\"\")","v":""},{"$f":"IFERROR(IF(A110=\"\",\"\",HLOOKUP(A110,'Lista Psychotropy Wet'!$H$1:$DA$7,2,FALSE)),\"\")","v":""},{"$f":"IFERROR(IF(A110=\"\",\"\",HLOOKUP(A110,'Lista Psychotropy Wet'!$H$13:$DA$18,2,FALSE)),\"\")","v":""},null,null,null,null,null,null,null,null,null,null,null,null,null,null,null,null,null,null,null,null,null,null,null,"1","2"]
[null,{"$f":"IFERROR(IF(A111=\"\",\"\",VLOOKUP(A111,'Lista Psychotropy Wet'!$A$2:$B$100,2,FALSE)),\"\")","v":""},{"$f":"IFERROR(IF(A111=\"\",\"\",HLOOKUP(A111,'Lista Psychotropy Wet'!$H$34:$DA$37,2,FALSE)),\"\")","v":""},{"$f":"IFERROR(IF(A111=\"\",\"\",HLOOKUP(A111,'Lista Psychotropy Wet'!$H$1:$DA$7,2,FALSE)),\"\")","v":""},{"$f":"IFERROR(IF(A111=\"\",\"\",HLOOKUP(A111,'Lista Psychotropy Wet'!$H$13:$DA$18,2,FALSE)),\"\")","v":""},null,null,null,null,null,null,null,null,null,null,null,null,null,null,null,null,null,null,null,null,null,null,null,"1","2"]
[null,{"$f":"IFERROR(IF(A112=\"\",\"\",VLOOKUP(A112,'Lista Psychotropy Wet'!$A$2:$B$100,2,FALSE)),\"\")","v":""},{"$f":"IFERROR(IF(A112=\"\",\"\",HLOOKUP(A112,'Lista Psychotropy Wet'!$H$34:$DA$37,2,FALSE)),\"\")","v":""},{"$f":"IFERROR(IF(A112=\"\",\"\",HLOOKUP(A112,'Lista Psychotropy Wet'!$H$1:$DA$7,2,FALSE)),\"\")","v":""},{"$f":"IFERROR(IF(A112=\"\",\"\",HLOOKUP(A112,'Lista Psychotropy Wet'!$H$13:$DA$18,2,FALSE)),\"\")","v":""},null,null,null,null,null,null,null,null,null,null,null,null,null,null,null,null,null,null,null,null,null,null,null,"1","2"]
[null,{"$f":"IFERROR(IF(A113=\"\",\"\",VLOOKUP(A113,'Lista Psychotropy Wet'!$A$2:$B$100,2,FALSE)),\"\")","v":""},{"$f":"IFERROR(IF(A113=\"\",\"\",HLOOKUP(A113,'Lista Psychotropy Wet'!$H$34:$DA$37,2,FALSE)),\"\")","v":""},{"$f":"IFERROR(IF(A113=\"\",\"\",HLOOKUP(A113,'Lista Psychotropy Wet'!$H$1:$DA$7,2,FALSE)),\"\")","v":""},{"$f":"IFERROR(IF(A113=\"\",\"\",HLOOKUP(A113,'Lista Psychotropy Wet'!$H$13:$DA$18,2,FALSE)),\"\")","v":""},null,null,null,null,null,null,null,null,null,null,null,null,null,null,null,null,null,null,null,null,null,null,null,"1","2"]
[null,{"$f":"IFERROR(IF(A114=\"\",\"\",VLOOKUP(A114,'Lista Psychotropy Wet'!$A$2:$B$100,2,FALSE)),\"\")","v":""},{"$f":"IFERROR(IF(A114=\"\",\"\",HLOOKUP(A114,'Lista Psychotropy Wet'!$H$34:$DA$37,2,FALSE)),\"\")","v":""},{"$f":"IFERROR(IF(A114=\"\",\"\",HLOOKUP(A114,'Lista Psychotropy Wet'!$H$1:$DA$7,2,FALSE)),\"\")","v":""},{"$f":"IFERROR(IF(A114=\"\",\"\",HLOOKUP(A114,'Lista Psychotropy Wet'!$H$13:$DA$18,2,FALSE)),\"\")","v":""},null,null,null,null,null,null,null,null,null,null,null,null,null,null,null,null,null,null,null,null,null,null,null,"1","2"]
[null,{"$f":"IFERROR(IF(A115=\"\",\"\",VLOOKUP(A115,'Lista Psychotropy Wet'!$A$2:$B$100,2,FALSE)),\"\")","v":""},{"$f":"IFERROR(IF(A115=\"\",\"\",HLOOKUP(A115,'Lista Psychotropy Wet'!$H$34:$DA$37,2,FALSE)),\"\")","v":""},{"$f":"IFERROR(IF(A115=\"\",\"\",HLOOKUP(A115,'Lista Psychotropy Wet'!$H$1:$DA$7,2,FALSE)),\"\")","v":""},{"$f":"IFERROR(IF(A115=\"\",\"\",HLOOKUP(A115,'Lista Psychotropy Wet'!$H$13:$DA$18,2,FALSE)),\"\")","v":""},null,null,null,null,null,null,null,null,null,null,null,null,null,null,null,null,null,null,null,null,null,null,null,"1","2"]
[null,{"$f":"IFERROR(IF(A116=\"\",\"\",VLOOKUP(A116,'Lista Psychotropy Wet'!$A$2:$B$100,2,FALSE)),\"\")","v":""},{"$f":"IFERROR(IF(A116=\"\",\"\",HLOOKUP(A116,'Lista Psychotropy Wet'!$H$34:$DA$37,2,FALSE)),\"\")","v":""},{"$f":"IFERROR(IF(A116=\"\",\"\",HLOOKUP(A116,'Lista Psychotropy Wet'!$H$1:$DA$7,2,FALSE)),\"\")","v":""},{"$f":"IFERROR(IF(A116=\"\",\"\",HLOOKUP(A116,'Lista Psychotropy Wet'!$H$13:$DA$18,2,FALSE)),\"\")","v":""},null,null,null,null,null,null,null,null,null,null,null,null,null,null,null,null,null,null,null,null,null,null,null,"1","2"]
[null,{"$f":"IFERROR(IF(A117=\"\",\"\",VLOOKUP(A117,'Lista Psychotropy Wet'!$A$2:$B$100,2,FALSE)),\"\")","v":""},{"$f":"IFERROR(IF(A117=\"\",\"\",HLOOKUP(A117,'Lista Psychotropy Wet'!$H$34:$DA$37,2,FALSE)),\"\")","v":""},{"$f":"IFERROR(IF(A117=\"\",\"\",HLOOKUP(A117,'Lista Psychotropy Wet'!$H$1:$DA$7,2,FALSE)),\"\")","v":""},{"$f":"IFERROR(IF(A117=\"\",\"\",HLOOKUP(A117,'Lista Psychotropy Wet'!$H$13:$DA$18,2,FALSE)),\"\")","v":""},null,null,null,null,null,null,null,null,null,null,null,null,null,null,null,null,null,null,null,null,null,null,null,"1","2"]
[null,{"$f":"IFERROR(IF(A118=\"\",\"\",VLOOKUP(A118,'Lista Psychotropy Wet'!$A$2:$B$100,2,FALSE)),\"\")","v":""},{"$f":"IFERROR(IF(A118=\"\",\"\",HLOOKUP(A118,'Lista Psychotropy Wet'!$H$34:$DA$37,2,FALSE)),\"\")","v":""},{"$f":"IFERROR(IF(A118=\"\",\"\",HLOOKUP(A118,'Lista Psychotropy Wet'!$H$1:$DA$7,2,FALSE)),\"\")","v":""},{"$f":"IFERROR(IF(A118=\"\",\"\",HLOOKUP(A118,'Lista Psychotropy Wet'!$H$13:$DA$18,2,FALSE)),\"\")","v":""},null,null,null,null,null,null,null,null,null,null,null,null,null,null,null,null,null,null,null,null,null,null,null,"1","2"]
[null,{"$f":"IFERROR(IF(A119=\"\",\"\",VLOOKUP(A119,'Lista Psychotropy Wet'!$A$2:$B$100,2,FALSE)),\"\")","v":""},{"$f":"IFERROR(IF(A119=\"\",\"\",HLOOKUP(A119,'Lista Psychotropy Wet'!$H$34:$DA$37,2,FALSE)),\"\")","v":""},{"$f":"IFERROR(IF(A119=\"\",\"\",HLOOKUP(A119,'Lista Psychotropy Wet'!$H$1:$DA$7,2,FALSE)),\"\")","v":""},{"$f":"IFERROR(IF(A119=\"\",\"\",HLOOKUP(A119,'Lista Psychotropy Wet'!$H$13:$DA$18,2,FALSE)),\"\")","v":""},null,null,null,null,null,null,null,null,null,null,null,null,null,null,null,null,null,null,null,null,null,null,null,"1","2"]
[null,{"$f":"IFERROR(IF(A120=\"\",\"\",VLOOKUP(A120,'Lista Psychotropy Wet'!$A$2:$B$100,2,FALSE)),\"\")","v":""},{"$f":"IFERROR(IF(A120=\"\",\"\",HLOOKUP(A120,'Lista Psychotropy Wet'!$H$34:$DA$37,2,FALSE)),\"\")","v":""},{"$f":"IFERROR(IF(A120=\"\",\"\",HLOOKUP(A120,'Lista Psychotropy Wet'!$H$1:$DA$7,2,FALSE)),\"\")","v":""},{"$f":"IFERROR(IF(A120=\"\",\"\",HLOOKUP(A120,'Lista Psychotropy Wet'!$H$13:$DA$18,2,FALSE)),\"\")","v":""},null,null,null,null,null,null,null,null,null,null,null,null,null,null,null,null,null,null,null,null,null,null,null,"1","2"]
[null,{"$f":"IFERROR(IF(A121=\"\",\"\",VLOOKUP(A121,'Lista Psychotropy Wet'!$A$2:$B$100,2,FALSE)),\"\")","v":""},{"$f":"IFERROR(IF(A121=\"\",\"\",HLOOKUP(A121,'Lista Psychotropy Wet'!$H$34:$DA$37,2,FALSE)),\"\")","v":""},{"$f":"IFERROR(IF(A121=\"\",\"\",HLOOKUP(A121,'Lista Psychotropy Wet'!$H$1:$DA$7,2,FALSE)),\"\")","v":""},{"$f":"IFERROR(IF(A121=\"\",\"\",HLOOKUP(A121,'Lista Psychotropy Wet'!$H$13:$DA$18,2,FALSE)),\"\")","v":""},null,null,null,null,null,null,null,null,null,null,null,null,null,null,null,null,null,null,null,null,null,null,null,"1","2"]
[null,{"$f":"IFERROR(IF(A122=\"\",\"\",VLOOKUP(A122,'Lista Psychotropy Wet'!$A$2:$B$100,2,FALSE)),\"\")","v":""},{"$f":"IFERROR(IF(A122=\"\",\"\",HLOOKUP(A122,'Lista Psychotropy Wet'!$H$34:$DA$37,2,FALSE)),\"\")","v":""},{"$f":"IFERROR(IF(A122=\"\",\"\",HLOOKUP(A122,'Lista Psychotropy Wet'!$H$1:$DA$7,2,FALSE)),\"\")","v":""},{"$f":"IFERROR(IF(A122=\"\",\"\",HLOOKUP(A122,'Lista Psychotropy Wet'!$H$13:$DA$18,2,FALSE)),\"\")","v":""},null,null,null,null,null,null,null,null,null,null,null,null,null,null,null,null,null,null,null,null,null,null,null,"1","2"]
[null,{"$f":"IFERROR(IF(A123=\"\",\"\",VLOOKUP(A123,'Lista Psychotropy Wet'!$A$2:$B$100,2,FALSE)),\"\")","v":""},{"$f":"IFERROR(IF(A123=\"\",\"\",HLOOKUP(A123,'Lista Psychotropy Wet'!$H$34:$DA$37,2,FALSE)),\"\")","v":""},{"$f":"IFERROR(IF(A123=\"\",\"\",HLOOKUP(A123,'Lista Psychotropy Wet'!$H$1:$DA$7,2,FALSE)),\"\")","v":""},{"$f":"IFERROR(IF(A123=\"\",\"\",HLOOKUP(A123,'Lista Psychotropy Wet'!$H$13:$DA$18,2,FALSE)),\"\")","v":""},null,null,null,null,null,null,null,null,null,null,null,null,null,null,null,null,null,null,null,null,null,null,null,"1","2"]
[null,{"$f":"IFERROR(IF(A124=\"\",\"\",VLOOKUP(A124,'Lista Psychotropy Wet'!$A$2:$B$100,2,FALSE)),\"\")","v":""},{"$f":"IFERROR(IF(A124=\"\",\"\",HLOOKUP(A124,'Lista Psychotropy Wet'!$H$34:$DA$37,2,FALSE)),\"\")","v":""},{"$f":"IFERROR(IF(A124=\"\",\"\",HLOOKUP(A124,'Lista Psychotropy Wet'!$H$1:$DA$7,2,FALSE)),\"\")","v":""},{"$f":"IFERROR(IF(A124=\"\",\"\",HLOOKUP(A124,'Lista Psychotropy Wet'!$H$13:$DA$18,2,FALSE)),\"\")","v":""},null,null,null,null,null,null,null,null,null,null,null,null,null,null,null,null,null,null,null,null,null,null,null,"1","2"]
[null,{"$f":"IFERROR(IF(A125=\"\",\"\",VLOOKUP(A125,'Lista Psychotropy Wet'!$A$2:$B$100,2,FALSE)),\"\")","v":""},{"$f":"IFERROR(IF(A125=\"\",\"\",HLOOKUP(A125,'Lista Psychotropy Wet'!$H$34:$DA$37,2,FALSE)),\"\")","v":""},{"$f":"IFERROR(IF(A125=\"\",\"\",HLOOKUP(A125,'Lista Psychotropy Wet'!$H$1:$DA$7,2,FALSE)),\"\")","v":""},{"$f":"IFERROR(IF(A125=\"\",\"\",HLOOKUP(A125,'Lista Psychotropy Wet'!$H$13:$DA$18,2,FALSE)),\"\")","v":""},null,null,null,null,null,null,null,null,null,null,null,null,null,null,null,null,null,null,null,null,null,null,null,"1","2"]
[null,{"$f":"IFERROR(IF(A126=\"\",\"\",VLOOKUP(A126,'Lista Psychotropy Wet'!$A$2:$B$100,2,FALSE)),\"\")","v":""},{"$f":"IFERROR(IF(A126=\"\",\"\",HLOOKUP(A126,'Lista Psychotropy Wet'!$H$34:$DA$37,2,FALSE)),\"\")","v":""},{"$f":"IFERROR(IF(A126=\"\",\"\",HLOOKUP(A126,'Lista Psychotropy Wet'!$H$1:$DA$7,2,FALSE)),\"\")","v":""},{"$f":"IFERROR(IF(A126=\"\",\"\",HLOOKUP(A126,'Lista Psychotropy Wet'!$H$13:$DA$18,2,FALSE)),\"\")","v":""},null,null,null,null,null,null,null,null,null,null,null,null,null,null,null,null,null,null,null,null,null,null,null,"1","2"]
[null,{"$f":"IFERROR(IF(A127=\"\",\"\",VLOOKUP(A127,'Lista Psychotropy Wet'!$A$2:$B$100,2,FALSE)),\"\")","v":""},{"$f":"IFERROR(IF(A127=\"\",\"\",HLOOKUP(A127,'Lista Psychotropy Wet'!$H$34:$DA$37,2,FALSE)),\"\")","v":""},{"$f":"IFERROR(IF(A127=\"\",\"\",HLOOKUP(A127,'Lista Psychotropy Wet'!$H$1:$DA$7,2,FALSE)),\"\")","v":""},{"$f":"IFERROR(IF(A127=\"\",\"\",HLOOKUP(A127,'Lista Psychotropy Wet'!$H$13:$DA$18,2,FALSE)),\"\")","v":""},null,null,null,null,null,null,null,null,null,null,null,null,null,null,null,null,null,null,null,null,null,null,null,"1","2"]
[null,{"$f":"IFERROR(IF(A128=\"\",\"\",VLOOKUP(A128,'Lista Psychotropy Wet'!$A$2:$B$100,2,FALSE)),\"\")","v":""},{"$f":"IFERROR(IF(A128=\"\",\"\",HLOOKUP(A128,'Lista Psychotropy Wet'!$H$34:$DA$37,2,FALSE)),\"\")","v":""},{"$f":"IFERROR(IF(A128=\"\",\"\",HLOOKUP(A128,'Lista Psychotropy Wet'!$H$1:$DA$7,2,FALSE)),\"\")","v":""},{"$f":"IFERROR(IF(A128=\"\",\"\",HLOOKUP(A128,'Lista Psychotropy Wet'!$H$13:$DA$18,2,FALSE)),\"\")","v":""},null,null,null,null,null,null,null,null,null,null,null,null,null,null,null,null,null,null,null,null,null,null,null,"1","2"]
[null,{"$f":"IFERROR(IF(A129=\"\",\"\",VLOOKUP(A129,'Lista Psychotropy Wet'!$A$2:$B$100,2,FALSE)),\"\")","v":""},{"$f":"IFERROR(IF(A129=\"\",\"\",HLOOKUP(A129,'Lista Psychotropy Wet'!$H$34:$DA$37,2,FALSE)),\"\")","v":""},{"$f":"IFERROR(IF(A129=\"\",\"\",HLOOKUP(A129,'Lista Psychotropy Wet'!$H$1:$DA$7,2,FALSE)),\"\")","v":""},{"$f":"IFERROR(IF(A129=\"\",\"\",HLOOKUP(A129,'Lista Psychotropy Wet'!$H$13:$DA$18,2,FALSE)),\"\")","v":""},null,null,null,null,null,null,null,null,null,null,null,null,null,null,null,null,null,null,null,null,null,null,null,"1","2"]
[null,{"$f":"IFERROR(IF(A130=\"\",\"\",VLOOKUP(A130,'Lista Psychotropy Wet'!$A$2:$B$100,2,FALSE)),\"\")","v":""},{"$f":"IFERROR(IF(A130=\"\",\"\",HLOOKUP(A130,'Lista Psychotropy Wet'!$H$34:$DA$37,2,FALSE)),\"\")","v":""},{"$f":"IFERROR(IF(A130=\"\",\"\",HLOOKUP(A130,'Lista Psychotropy Wet'!$H$1:$DA$7,2,FALSE)),\"\")","v":""},{"$f":"IFERROR(IF(A130=\"\",\"\",HLOOKUP(A130,'Lista Psychotropy Wet'!$H$13:$DA$18,2,FALSE)),\"\")","v":""},null,null,null,null,null,null,null,null,null,null,null,null,null,null,null,null,null,null,null,null,null,null,null,"1","2"]
[null,{"$f":"IFERROR(IF(A131=\"\",\"\",VLOOKUP(A131,'Lista Psychotropy Wet'!$A$2:$B$100,2,FALSE)),\"\")","v":""},{"$f":"IFERROR(IF(A131=\"\",\"\",HLOOKUP(A131,'Lista Psychotropy Wet'!$H$34:$DA$37,2,FALSE)),\"\")","v":""},{"$f":"IFERROR(IF(A131=\"\",\"\",HLOOKUP(A131,'Lista Psychotropy Wet'!$H$1:$DA$7,2,FALSE)),\"\")","v":""},{"$f":"IFERROR(IF(A131=\"\",\"\",HLOOKUP(A131,'Lista Psychotropy Wet'!$H$13:$DA$18,2,FALSE)),\"\")","v":""},null,null,null,null,null,null,null,null,null,null,null,null,null,null,null,null,null,null,null,null,null,null,null,"1","2"]
[null,{"$f":"IFERROR(IF(A132=\"\",\"\",VLOOKUP(A132,'Lista Psychotropy Wet'!$A$2:$B$100,2,FALSE)),\"\")","v":""},{"$f":"IFERROR(IF(A132=\"\",\"\",HLOOKUP(A132,'Lista Psychotropy Wet'!$H$34:$DA$37,2,FALSE)),\"\")","v":""},{"$f":"IFERROR(IF(A132=\"\",\"\",HLOOKUP(A132,'Lista Psychotropy Wet'!$H$1:$DA$7,2,FALSE)),\"\")","v":""},{"$f":"IFERROR(IF(A132=\"\",\"\",HLOOKUP(A132,'Lista Psychotropy Wet'!$H$13:$DA$18,2,FALSE)),\"\")","v":""},null,null,null,null,null,null,null,null,null,null,null,null,null,null,null,null,null,null,null,null,null,null,null,"1","2"]
[null,{"$f":"IFERROR(IF(A133=\"\",\"\",VLOOKUP(A133,'Lista Psychotropy Wet'!$A$2:$B$100,2,FALSE)),\"\")","v":""},{"$f":"IFERROR(IF(A133=\"\",\"\",HLOOKUP(A133,'Lista Psychotropy Wet'!$H$34:$DA$37,2,FALSE)),\"\")","v":""},{"$f":"IFERROR(IF(A133=\"\",\"\",HLOOKUP(A133,'Lista Psychotropy Wet'!$H$1:$DA$7,2,FALSE)),\"\")","v":""},{"$f":"IFERROR(IF(A133=\"\",\"\",HLOOKUP(A133,'Lista Psychotropy Wet'!$H$13:$DA$18,2,FALSE)),\"\")","v":""},null,null,null,null,null,null,null,null,null,null,null,null,null,null,null,null,null,null,null,null,null,null,null,"1","2"]
[null,{"$f":"IFERROR(IF(A134=\"\",\"\",VLOOKUP(A134,'Lista Psychotropy Wet'!$A$2:$B$100,2,FALSE)),\"\")","v":""},{"$f":"IFERROR(IF(A134=\"\",\"\",HLOOKUP(A134,'Lista Psychotropy Wet'!$H$34:$DA$37,2,FALSE)),\"\")","v":""},{"$f":"IFERROR(IF(A134=\"\",\"\",HLOOKUP(A134,'Lista Psychotropy Wet'!$H$1:$DA$7,2,FALSE)),\"\")","v":""},{"$f":"IFERROR(IF(A134=\"\",\"\",HLOOKUP(A134,'Lista Psychotropy Wet'!$H$13:$DA$18,2,FALSE)),\"\")","v":""},null,null,null,null,null,null,null,null,null,null,null,null,null,null,null,null,null,null,null,null,null,null,null,"1","2"]
[null,{"$f":"IFERROR(IF(A135=\"\",\"\",VLOOKUP(A135,'Lista Psychotropy Wet'!$A$2:$B$100,2,FALSE)),\"\")","v":""},{"$f":"IFERROR(IF(A135=\"\",\"\",HLOOKUP(A135,'Lista Psychotropy Wet'!$H$34:$DA$37,2,FALSE)),\"\")","v":""},{"$f":"IFERROR(IF(A135=\"\",\"\",HLOOKUP(A135,'Lista Psychotropy Wet'!$H$1:$DA$7,2,FALSE)),\"\")","v":""},{"$f":"IFERROR(IF(A135=\"\",\"\",HLOOKUP(A135,'Lista Psychotropy Wet'!$H$13:$DA$18,2,FALSE)),\"\")","v":""},null,null,null,null,null,null,null,null,null,null,null,null,null,null,null,null,null,null,null,null,null,null,null,"1","2"]
[null,{"$f":"IFERROR(IF(A136=\"\",\"\",VLOOKUP(A136,'Lista Psychotropy Wet'!$A$2:$B$100,2,FALSE)),\"\")","v":""},{"$f":"IFERROR(IF(A136=\"\",\"\",HLOOKUP(A136,'Lista Psychotropy Wet'!$H$34:$DA$37,2,FALSE)),\"\")","v":""},{"$f":"IFERROR(IF(A136=\"\",\"\",HLOOKUP(A136,'Lista Psychotropy Wet'!$H$1:$DA$7,2,FALSE)),\"\")","v":""},{"$f":"IFERROR(IF(A136=\"\",\"\",HLOOKUP(A136,'Lista Psychotropy Wet'!$H$13:$DA$18,2,FALSE)),\"\")","v":""},null,null,null,null,null,null,null,null,null,null,null,null,null,null,null,null,null,null,null,null,null,null,null,"1","2"]
[null,{"$f":"IFERROR(IF(A137=\"\",\"\",VLOOKUP(A137,'Lista Psychotropy Wet'!$A$2:$B$100,2,FALSE)),\"\")","v":""},{"$f":"IFERROR(IF(A137=\"\",\"\",HLOOKUP(A137,'Lista Psychotropy Wet'!$H$34:$DA$37,2,FALSE)),\"\")","v":""},{"$f":"IFERROR(IF(A137=\"\",\"\",HLOOKUP(A137,'Lista Psychotropy Wet'!$H$1:$DA$7,2,FALSE)),\"\")","v":""},{"$f":"IFERROR(IF(A137=\"\",\"\",HLOOKUP(A137,'Lista Psychotropy Wet'!$H$13:$DA$18,2,FALSE)),\"\")","v":""},null,null,null,null,null,null,null,null,null,null,null,null,null,null,null,null,null,null,null,null,null,null,null,"1","2"]
[null,{"$f":"IFERROR(IF(A138=\"\",\"\",VLOOKUP(A138,'Lista Psychotropy Wet'!$A$2:$B$100,2,FALSE)),\"\")","v":""},{"$f":"IFERROR(IF(A138=\"\",\"\",HLOOKUP(A138,'Lista Psychotropy Wet'!$H$34:$DA$37,2,FALSE)),\"\")","v":""},{"$f":"IFERROR(IF(A138=\"\",\"\",HLOOKUP(A138,'Lista Psychotropy Wet'!$H$1:$DA$7,2,FALSE)),\"\")","v":""},{"$f":"IFERROR(IF(A138=\"\",\"\",HLOOKUP(A138,'Lista Psychotropy Wet'!$H$13:$DA$18,2,FALSE)),\"\")","v":""},null,null,null,null,null,null,null,null,null,null,null,null,null,null,null,null,null,null,null,null,null,null,null,{"$f":"A138&1","v":"1"},{"$f":"A138&2","v":"2"}]
[null,{"$f":"IFERROR(IF(A139=\"\",\"\",VLOOKUP(A139,'Lista Psychotropy Wet'!$A$2:$B$100,2,FALSE)),\"\")","v":""},{"$f":"IFERROR(IF(A139=\"\",\"\",HLOOKUP(A139,'Lista Psychotropy Wet'!$H$34:$DA$37,2,FALSE)),\"\")","v":""},{"$f":"IFERROR(IF(A139=\"\",\"\",HLOOKUP(A139,'Lista Psychotropy Wet'!$H$1:$DA$7,2,FALSE)),\"\")","v":""},{"$f":"IFERROR(IF(A139=\"\",\"\",HLOOKUP(A139,'Lista Psychotropy Wet'!$H$13:$DA$18,2,FALSE)),\"\")","v":""},null,null,null,null,null,null,null,null,null,null,null,null,null,null,null,null,null,null,null,null,null,null,null,"1","2"]
[null,{"$f":"IFERROR(IF(A140=\"\",\"\",VLOOKUP(A140,'Lista Psychotropy Wet'!$A$2:$B$100,2,FALSE)),\"\")","v":""},{"$f":"IFERROR(IF(A140=\"\",\"\",HLOOKUP(A140,'Lista Psychotropy Wet'!$H$34:$DA$37,2,FALSE)),\"\")","v":""},{"$f":"IFERROR(IF(A140=\"\",\"\",HLOOKUP(A140,'Lista Psychotropy Wet'!$H$1:$DA$7,2,FALSE)),\"\")","v":""},{"$f":"IFERROR(IF(A140=\"\",\"\",HLOOKUP(A140,'Lista Psychotropy Wet'!$H$13:$DA$18,2,FALSE)),\"\")","v":""},null,null,null,null,null,null,null,null,null,null,null,null,null,null,null,null,null,null,null,null,null,null,null,"1","2"]
[null,{"$f":"IFERROR(IF(A141=\"\",\"\",VLOOKUP(A141,'Lista Psychotropy Wet'!$A$2:$B$100,2,FALSE)),\"\")","v":""},{"$f":"IFERROR(IF(A141=\"\",\"\",HLOOKUP(A141,'Lista Psychotropy Wet'!$H$34:$DA$37,2,FALSE)),\"\")","v":""},{"$f":"IFERROR(IF(A141=\"\",\"\",HLOOKUP(A141,'Lista Psychotropy Wet'!$H$1:$DA$7,2,FALSE)),\"\")","v":""},{"$f":"IFERROR(IF(A141=\"\",\"\",HLOOKUP(A141,'Lista Psychotropy Wet'!$H$13:$DA$18,2,FALSE)),\"\")","v":""},null,null,null,null,null,null,null,null,null,null,null,null,null,null,null,null,null,null,null,null,null,null,null,"1","2"]
[null,{"$f":"IFERROR(IF(A142=\"\",\"\",VLOOKUP(A142,'Lista Psychotropy Wet'!$A$2:$B$100,2,FALSE)),\"\")","v":""},{"$f":"IFERROR(IF(A142=\"\",\"\",HLOOKUP(A142,'Lista Psychotropy Wet'!$H$34:$DA$37,2,FALSE)),\"\")","v":""},{"$f":"IFERROR(IF(A142=\"\",\"\",HLOOKUP(A142,'Lista Psychotropy Wet'!$H$1:$DA$7,2,FALSE)),\"\")","v":""},{"$f":"IFERROR(IF(A142=\"\",\"\",HLOOKUP(A142,'Lista Psychotropy Wet'!$H$13:$DA$18,2,FALSE)),\"\")","v":""},null,null,null,null,null,null,null,null,null,null,null,null,null,null,null,null,null,null,null,null,null,null,null,"1","2"]
[null,{"$f":"IFERROR(IF(A143=\"\",\"\",VLOOKUP(A143,'Lista Psychotropy Wet'!$A$2:$B$100,2,FALSE)),\"\")","v":""},{"$f":"IFERROR(IF(A143=\"\",\"\",HLOOKUP(A143,'Lista Psychotropy Wet'!$H$34:$DA$37,2,FALSE)),\"\")","v":""},{"$f":"IFERROR(IF(A143=\"\",\"\",HLOOKUP(A143,'Lista Psychotropy Wet'!$H$1:$DA$7,2,FALSE)),\"\")","v":""},{"$f":"IFERROR(IF(A143=\"\",\"\",HLOOKUP(A143,'Lista Psychotropy Wet'!$H$13:$DA$18,2,FALSE)),\"\")","v":""},null,null,null,null,null,null,null,null,null,null,null,null,null,null,null,null,null,null,null,null,null,null,null,"1","2"]
[null,{"$f":"IFERROR(IF(A144=\"\",\"\",VLOOKUP(A144,'Lista Psychotropy Wet'!$A$2:$B$100,2,FALSE)),\"\")","v":""},{"$f":"IFERROR(IF(A144=\"\",\"\",HLOOKUP(A144,'Lista Psychotropy Wet'!$H$34:$DA$37,2,FALSE)),\"\")","v":""},{"$f":"IFERROR(IF(A144=\"\",\"\",HLOOKUP(A144,'Lista Psychotropy Wet'!$H$1:$DA$7,2,FALSE)),\"\")","v":""},{"$f":"IFERROR(IF(A144=\"\",\"\",HLOOKUP(A144,'Lista Psychotropy Wet'!$H$13:$DA$18,2,FALSE)),\"\")","v":""},null,null,null,null,null,null,null,null,null,null,null,null,null,null,null,null,null,null,null,null,null,null,null,"1","2"]
[null,{"$f":"IFERROR(IF(A145=\"\",\"\",VLOOKUP(A145,'Lista Psychotropy Wet'!$A$2:$B$100,2,FALSE)),\"\")","v":""},{"$f":"IFERROR(IF(A145=\"\",\"\",HLOOKUP(A145,'Lista Psychotropy Wet'!$H$34:$DA$37,2,FALSE)),\"\")","v":""},{"$f":"IFERROR(IF(A145=\"\",\"\",HLOOKUP(A145,'Lista Psychotropy Wet'!$H$1:$DA$7,2,FALSE)),\"\")","v":""},{"$f":"IFERROR(IF(A145=\"\",\"\",HLOOKUP(A145,'Lista Psychotropy Wet'!$H$13:$DA$18,2,FALSE)),\"\")","v":""},null,null,null,null,null,null,null,null,null,null,null,null,null,null,null,null,null,null,null,null,null,null,null,"1","2"]
[null,{"$f":"IFERROR(IF(A146=\"\",\"\",VLOOKUP(A146,'Lista Psychotropy Wet'!$A$2:$B$100,2,FALSE)),\"\")","v":""},{"$f":"IFERROR(IF(A146=\"\",\"\",HLOOKUP(A146,'Lista Psychotropy Wet'!$H$34:$DA$37,2,FALSE)),\"\")","v":""},{"$f":"IFERROR(IF(A146=\"\",\"\",HLOOKUP(A146,'Lista Psychotropy Wet'!$H$1:$DA$7,2,FALSE)),\"\")","v":""},{"$f":"IFERROR(IF(A146=\"\",\"\",HLOOKUP(A146,'Lista Psychotropy Wet'!$H$13:$DA$18,2,FALSE)),\"\")","v":""},null,null,null,null,null,null,null,null,null,null,null,null,null,null,null,null,null,null,null,null,null,null,null,"1","2"]
[null,{"$f":"IFERROR(IF(A147=\"\",\"\",VLOOKUP(A147,'Lista Psychotropy Wet'!$A$2:$B$100,2,FALSE)),\"\")","v":""},{"$f":"IFERROR(IF(A147=\"\",\"\",HLOOKUP(A147,'Lista Psychotropy Wet'!$H$34:$DA$37,2,FALSE)),\"\")","v":""},{"$f":"IFERROR(IF(A147=\"\",\"\",HLOOKUP(A147,'Lista Psychotropy Wet'!$H$1:$DA$7,2,FALSE)),\"\")","v":""},{"$f":"IFERROR(IF(A147=\"\",\"\",HLOOKUP(A147,'Lista Psychotropy Wet'!$H$13:$DA$18,2,FALSE)),\"\")","v":""},null,null,null,null,null,null,null,null,null,null,null,null,null,null,null,null,null,null,null,null,null,null,null,"1","2"]
[null,{"$f":"IFERROR(IF(A148=\"\",\"\",VLOOKUP(A148,'Lista Psychotropy Wet'!$A$2:$B$100,2,FALSE)),\"\")","v":""},{"$f":"IFERROR(IF(A148=\"\",\"\",HLOOKUP(A148,'Lista Psychotropy Wet'!$H$34:$DA$37,2,FALSE)),\"\")","v":""},{"$f":"IFERROR(IF(A148=\"\",\"\",HLOOKUP(A148,'Lista Psychotropy Wet'!$H$1:$DA$7,2,FALSE)),\"\")","v":""},{"$f":"IFERROR(IF(A148=\"\",\"\",HLOOKUP(A148,'Lista Psychotropy Wet'!$H$13:$DA$18,2,FALSE)),\"\")","v":""},null,null,null,null,null,null,null,null,null,null,null,null,null,null,null,null,null,null,null,null,null,null,null,"1","2"]
[null,{"$f":"IFERROR(IF(A149=\"\",\"\",VLOOKUP(A149,'Lista Psychotropy Wet'!$A$2:$B$100,2,FALSE)),\"\")","v":""},{"$f":"IFERROR(IF(A149=\"\",\"\",HLOOKUP(A149,'Lista Psychotropy Wet'!$H$34:$DA$37,2,FALSE)),\"\")","v":""},{"$f":"IFERROR(IF(A149=\"\",\"\",HLOOKUP(A149,'Lista Psychotropy Wet'!$H$1:$DA$7,2,FALSE)),\"\")","v":""},{"$f":"IFERROR(IF(A149=\"\",\"\",HLOOKUP(A149,'Lista Psychotropy Wet'!$H$13:$DA$18,2,FALSE)),\"\")","v":""},null,null,null,null,null,null,null,null,null,null,null,null,null,null,null,null,null,null,null,null,null,null,null,"1","2"]
[null,{"$f":"IFERROR(IF(A150=\"\",\"\",VLOOKUP(A150,'Lista Psychotropy Wet'!$A$2:$B$100,2,FALSE)),\"\")","v":""},{"$f":"IFERROR(IF(A150=\"\",\"\",HLOOKUP(A150,'Lista Psychotropy Wet'!$H$34:$DA$37,2,FALSE)),\"\")","v":""},{"$f":"IFERROR(IF(A150=\"\",\"\",HLOOKUP(A150,'Lista Psychotropy Wet'!$H$1:$DA$7,2,FALSE)),\"\")","v":""},{"$f":"IFERROR(IF(A150=\"\",\"\",HLOOKUP(A150,'Lista Psychotropy Wet'!$H$13:$DA$18,2,FALSE)),\"\")","v":""},null,null,null,null,null,null,null,null,null,null,null,null,null,null,null,null,null,null,null,null,null,null,null,"1","2"]
[null,{"$f":"IFERROR(IF(A151=\"\",\"\",VLOOKUP(A151,'Lista Psychotropy Wet'!$A$2:$B$100,2,FALSE)),\"\")","v":""},{"$f":"IFERROR(IF(A151=\"\",\"\",HLOOKUP(A151,'Lista Psychotropy Wet'!$H$34:$DA$37,2,FALSE)),\"\")","v":""},{"$f":"IFERROR(IF(A151=\"\",\"\",HLOOKUP(A151,'Lista Psychotropy Wet'!$H$1:$DA$7,2,FALSE)),\"\")","v":""},{"$f":"IFERROR(IF(A151=\"\",\"\",HLOOKUP(A151,'Lista Psychotropy Wet'!$H$13:$DA$18,2,FALSE)),\"\")","v":""},null,null,null,null,null,null,null,null,null,null,null,null,null,null,null,null,null,null,null,null,null,null,null,"1","2"]
[null,{"$f":"IFERROR(IF(A152=\"\",\"\",VLOOKUP(A152,'Lista Psychotropy Wet'!$A$2:$B$100,2,FALSE)),\"\")","v":""},{"$f":"IFERROR(IF(A152=\"\",\"\",HLOOKUP(A152,'Lista Psychotropy Wet'!$H$34:$DA$37,2,FALSE)),\"\")","v":""},{"$f":"IFERROR(IF(A152=\"\",\"\",HLOOKUP(A152,'Lista Psychotropy Wet'!$H$1:$DA$7,2,FALSE)),\"\")","v":""},{"$f":"IFERROR(IF(A152=\"\",\"\",HLOOKUP(A152,'Lista Psychotropy Wet'!$H$13:$DA$18,2,FALSE)),\"\")","v":""},null,null,null,null,null,null,null,null,null,null,null,null,null,null,null,null,null,null,null,null,null,null,null,"1","2"]
[null,{"$f":"IFERROR(IF(A153=\"\",\"\",VLOOKUP(A153,'Lista Psychotropy Wet'!$A$2:$B$100,2,FALSE)),\"\")","v":""},{"$f":"IFERROR(IF(A153=\"\",\"\",HLOOKUP(A153,'Lista Psychotropy Wet'!$H$34:$DA$37,2,FALSE)),\"\")","v":""},{"$f":"IFERROR(IF(A153=\"\",\"\",HLOOKUP(A153,'Lista Psychotropy Wet'!$H$1:$DA$7,2,FALSE)),\"\")","v":""},{"$f":"IFERROR(IF(A153=\"\",\"\",HLOOKUP(A153,'Lista Psychotropy Wet'!$H$13:$DA$18,2,FALSE)),\"\")","v":""},null,null,null,null,null,null,null,null,null,null,null,null,null,null,null,null,null,null,null,null,null,null,null,"1","2"]
[null,{"$f":"IFERROR(IF(A154=\"\",\"\",VLOOKUP(A154,'Lista Psychotropy Wet'!$A$2:$B$100,2,FALSE)),\"\")","v":""},{"$f":"IFERROR(IF(A154=\"\",\"\",HLOOKUP(A154,'Lista Psychotropy Wet'!$H$34:$DA$37,2,FALSE)),\"\")","v":""},{"$f":"IFERROR(IF(A154=\"\",\"\",HLOOKUP(A154,'Lista Psychotropy Wet'!$H$1:$DA$7,2,FALSE)),\"\")","v":""},{"$f":"IFERROR(IF(A154=\"\",\"\",HLOOKUP(A154,'Lista Psychotropy Wet'!$H$13:$DA$18,2,FALSE)),\"\")","v":""},null,null,null,null,null,null,null,null,null,null,null,null,null,null,null,null,null,null,null,null,null,null,null,"1","2"]
[null,{"$f":"IFERROR(IF(A155=\"\",\"\",VLOOKUP(A155,'Lista Psychotropy Wet'!$A$2:$B$100,2,FALSE)),\"\")","v":""},{"$f":"IFERROR(IF(A155=\"\",\"\",HLOOKUP(A155,'Lista Psychotropy Wet'!$H$34:$DA$37,2,FALSE)),\"\")","v":""},{"$f":"IFERROR(IF(A155=\"\",\"\",HLOOKUP(A155,'Lista Psychotropy Wet'!$H$1:$DA$7,2,FALSE)),\"\")","v":""},{"$f":"IFERROR(IF(A155=\"\",\"\",HLOOKUP(A155,'Lista Psychotropy Wet'!$H$13:$DA$18,2,FALSE)),\"\")","v":""},null,null,null,null,null,null,null,null,null,null,null,null,null,null,null,null,null,null,null,null,null,null,null,"1","2"]
[null,{"$f":"IFERROR(IF(A156=\"\",\"\",VLOOKUP(A156,'Lista Psychotropy Wet'!$A$2:$B$100,2,FALSE)),\"\")","v":""},{"$f":"IFERROR(IF(A156=\"\",\"\",HLOOKUP(A156,'Lista Psychotropy Wet'!$H$34:$DA$37,2,FALSE)),\"\")","v":""},{"$f":"IFERROR(IF(A156=\"\",\"\",HLOOKUP(A156,'Lista Psychotropy Wet'!$H$1:$DA$7,2,FALSE)),\"\")","v":""},{"$f":"IFERROR(IF(A156=\"\",\"\",HLOOKUP(A156,'Lista Psychotropy Wet'!$H$13:$DA$18,2,FALSE)),\"\")","v":""},null,null,null,null,null,null,null,null,null,null,null,null,null,null,null,null,null,null,null,null,null,null,null,"1","2"]
[null,{"$f":"IFERROR(IF(A157=\"\",\"\",VLOOKUP(A157,'Lista Psychotropy Wet'!$A$2:$B$100,2,FALSE)),\"\")","v":""},{"$f":"IFERROR(IF(A157=\"\",\"\",HLOOKUP(A157,'Lista Psychotropy Wet'!$H$34:$DA$37,2,FALSE)),\"\")","v":""},{"$f":"IFERROR(IF(A157=\"\",\"\",HLOOKUP(A157,'Lista Psychotropy Wet'!$H$1:$DA$7,2,FALSE)),\"\")","v":""},{"$f":"IFERROR(IF(A157=\"\",\"\",HLOOKUP(A157,'Lista Psychotropy Wet'!$H$13:$DA$18,2,FALSE)),\"\")","v":""},null,null,null,null,null,null,null,null,null,null,null,null,null,null,null,null,null,null,null,null,null,null,null,"1","2"]
[null,{"$f":"IFERROR(IF(A158=\"\",\"\",VLOOKUP(A158,'Lista Psychotropy Wet'!$A$2:$B$100,2,FALSE)),\"\")","v":""},{"$f":"IFERROR(IF(A158=\"\",\"\",HLOOKUP(A158,'Lista Psychotropy Wet'!$H$34:$DA$37,2,FALSE)),\"\")","v":""},{"$f":"IFERROR(IF(A158=\"\",\"\",HLOOKUP(A158,'Lista Psychotropy Wet'!$H$1:$DA$7,2,FALSE)),\"\")","v":""},{"$f":"IFERROR(IF(A158=\"\",\"\",HLOOKUP(A158,'Lista Psychotropy Wet'!$H$13:$DA$18,2,FALSE)),\"\")","v":""},null,null,null,null,null,null,null,null,null,null,null,null,null,null,null,null,null,null,null,null,null,null,null,"1","2"]
[null,{"$f":"IFERROR(IF(A159=\"\",\"\",VLOOKUP(A159,'Lista Psychotropy Wet'!$A$2:$B$100,2,FALSE)),\"\")","v":""},{"$f":"IFERROR(IF(A159=\"\",\"\",HLOOKUP(A159,'Lista Psychotropy Wet'!$H$34:$DA$37,2,FALSE)),\"\")","v":""},{"$f":"IFERROR(IF(A159=\"\",\"\",HLOOKUP(A159,'Lista Psychotropy Wet'!$H$1:$DA$7,2,FALSE)),\"\")","v":""},{"$f":"IFERROR(IF(A159=\"\",\"\",HLOOKUP(A159,'Lista Psychotropy Wet'!$H$13:$DA$18,2,FALSE)),\"\")","v":""},null,null,null,null,null,null,null,null,null,null,null,null,null,null,null,null,null,null,null,null,null,null,null,"1","2"]
[null,{"$f":"IFERROR(IF(A160=\"\",\"\",VLOOKUP(A160,'Lista Psychotropy Wet'!$A$2:$B$100,2,FALSE)),\"\")","v":""},{"$f":"IFERROR(IF(A160=\"\",\"\",HLOOKUP(A160,'Lista Psychotropy Wet'!$H$34:$DA$37,2,FALSE)),\"\")","v":""},{"$f":"IFERROR(IF(A160=\"\",\"\",HLOOKUP(A160,'Lista Psychotropy Wet'!$H$1:$DA$7,2,FALSE)),\"\")","v":""},{"$f":"IFERROR(IF(A160=\"\",\"\",HLOOKUP(A160,'Lista Psychotropy Wet'!$H$13:$DA$18,2,FALSE)),\"\")","v":""},null,null,null,null,null,null,null,null,null,null,null,null,null,null,null,null,null,null,null,null,null,null,null,"1","2"]
[null,{"$f":"IFERROR(IF(A161=\"\",\"\",VLOOKUP(A161,'Lista Psychotropy Wet'!$A$2:$B$100,2,FALSE)),\"\")","v":""},{"$f":"IFERROR(IF(A161=\"\",\"\",HLOOKUP(A161,'Lista Psychotropy Wet'!$H$34:$DA$37,2,FALSE)),\"\")","v":""},{"$f":"IFERROR(IF(A161=\"\",\"\",HLOOKUP(A161,'Lista Psychotropy Wet'!$H$1:$DA$7,2,FALSE)),\"\")","v":""},{"$f":"IFERROR(IF(A161=\"\",\"\",HLOOKUP(A161,'Lista Psychotropy Wet'!$H$13:$DA$18,2,FALSE)),\"\")","v":""},null,null,null,null,null,null,null,null,null,null,null,null,null,null,null,null,null,null,null,null,null,null,null,"1","2"]
[null,{"$f":"IFERROR(IF(A162=\"\",\"\",VLOOKUP(A162,'Lista Psychotropy Wet'!$A$2:$B$100,2,FALSE)),\"\")","v":""},{"$f":"IFERROR(IF(A162=\"\",\"\",HLOOKUP(A162,'Lista Psychotropy Wet'!$H$34:$DA$37,2,FALSE)),\"\")","v":""},{"$f":"IFERROR(IF(A162=\"\",\"\",HLOOKUP(A162,'Lista Psychotropy Wet'!$H$1:$DA$7,2,FALSE)),\"\")","v":""},{"$f":"IFERROR(IF(A162=\"\",\"\",HLOOKUP(A162,'Lista Psychotropy Wet'!$H$13:$DA$18,2,FALSE)),\"\")","v":""},null,null,null,null,null,null,null,null,null,null,null,null,null,null,null,null,null,null,null,null,null,null,null,"1","2"]
[null,{"$f":"IFERROR(IF(A163=\"\",\"\",VLOOKUP(A163,'Lista Psychotropy Wet'!$A$2:$B$100,2,FALSE)),\"\")","v":""},{"$f":"IFERROR(IF(A163=\"\",\"\",HLOOKUP(A163,'Lista Psychotropy Wet'!$H$34:$DA$37,2,FALSE)),\"\")","v":""},{"$f":"IFERROR(IF(A163=\"\",\"\",HLOOKUP(A163,'Lista Psychotropy Wet'!$H$1:$DA$7,2,FALSE)),\"\")","v":""},{"$f":"IFERROR(IF(A163=\"\",\"\",HLOOKUP(A163,'Lista Psychotropy Wet'!$H$13:$DA$18,2,FALSE)),\"\")","v":""},null,null,null,null,null,null,null,null,null,null,null,null,null,null,null,null,null,null,null,null,null,null,null,"1","2"]
[null,{"$f":"IFERROR(IF(A164=\"\",\"\",VLOOKUP(A164,'Lista Psychotropy Wet'!$A$2:$B$100,2,FALSE)),\"\")","v":""},{"$f":"IFERROR(IF(A164=\"\",\"\",HLOOKUP(A164,'Lista Psychotropy Wet'!$H$34:$DA$37,2,FALSE)),\"\")","v":""},{"$f":"IFERROR(IF(A164=\"\",\"\",HLOOKUP(A164,'Lista Psychotropy Wet'!$H$1:$DA$7,2,FALSE)),\"\")","v":""},{"$f":"IFERROR(IF(A164=\"\",\"\",HLOOKUP(A164,'Lista Psychotropy Wet'!$H$13:$DA$18,2,FALSE)),\"\")","v":""},null,null,null,null,null,null,null,null,null,null,null,null,null,null,null,null,null,null,null,null,null,null,null,"1","2"]
[null,{"$f":"IFERROR(IF(A165=\"\",\"\",VLOOKUP(A165,'Lista Psychotropy Wet'!$A$2:$B$100,2,FALSE)),\"\")","v":""},{"$f":"IFERROR(IF(A165=\"\",\"\",HLOOKUP(A165,'Lista Psychotropy Wet'!$H$34:$DA$37,2,FALSE)),\"\")","v":""},{"$f":"IFERROR(IF(A165=\"\",\"\",HLOOKUP(A165,'Lista Psychotropy Wet'!$H$1:$DA$7,2,FALSE)),\"\")","v":""},{"$f":"IFERROR(IF(A165=\"\",\"\",HLOOKUP(A165,'Lista Psychotropy Wet'!$H$13:$DA$18,2,FALSE)),\"\")","v":""},null,null,null,null,null,null,null,null,null,null,null,null,null,null,null,null,null,null,null,null,null,null,null,"1","2"]
[null,{"$f":"IFERROR(IF(A166=\"\",\"\",VLOOKUP(A166,'Lista Psychotropy Wet'!$A$2:$B$100,2,FALSE)),\"\")","v":""},{"$f":"IFERROR(IF(A166=\"\",\"\",HLOOKUP(A166,'Lista Psychotropy Wet'!$H$34:$DA$37,2,FALSE)),\"\")","v":""},{"$f":"IFERROR(IF(A166=\"\",\"\",HLOOKUP(A166,'Lista Psychotropy Wet'!$H$1:$DA$7,2,FALSE)),\"\")","v":""},{"$f":"IFERROR(IF(A166=\"\",\"\",HLOOKUP(A166,'Lista Psychotropy Wet'!$H$13:$DA$18,2,FALSE)),\"\")","v":""},null,null,null,null,null,null,null,null,null,null,null,null,null,null,null,null,null,null,null,null,null,null,null,"1","2"]
[null,{"$f":"IFERROR(IF(A167=\"\",\"\",VLOOKUP(A167,'Lista Psychotropy Wet'!$A$2:$B$100,2,FALSE)),\"\")","v":""},{"$f":"IFERROR(IF(A167=\"\",\"\",HLOOKUP(A167,'Lista Psychotropy Wet'!$H$34:$DA$37,2,FALSE)),\"\")","v":""},{"$f":"IFERROR(IF(A167=\"\",\"\",HLOOKUP(A167,'Lista Psychotropy Wet'!$H$1:$DA$7,2,FALSE)),\"\")","v":""},{"$f":"IFERROR(IF(A167=\"\",\"\",HLOOKUP(A167,'Lista Psychotropy Wet'!$H$13:$DA$18,2,FALSE)),\"\")","v":""},null,null,null,null,null,null,null,null,null,null,null,null,null,null,null,null,null,null,null,null,null,null,null,"1","2"]
[null,{"$f":"IFERROR(IF(A168=\"\",\"\",VLOOKUP(A168,'Lista Psychotropy Wet'!$A$2:$B$100,2,FALSE)),\"\")","v":""},{"$f":"IFERROR(IF(A168=\"\",\"\",HLOOKUP(A168,'Lista Psychotropy Wet'!$H$34:$DA$37,2,FALSE)),\"\")","v":""},{"$f":"IFERROR(IF(A168=\"\",\"\",HLOOKUP(A168,'Lista Psychotropy Wet'!$H$1:$DA$7,2,FALSE)),\"\")","v":""},{"$f":"IFERROR(IF(A168=\"\",\"\",HLOOKUP(A168,'Lista Psychotropy Wet'!$H$13:$DA$18,2,FALSE)),\"\")","v":""},null,null,null,null,null,null,null,null,null,null,null,null,null,null,null,null,null,null,null,null,null,null,null,"1","2"]
[null,{"$f":"IFERROR(IF(A169=\"\",\"\",VLOOKUP(A169,'Lista Psychotropy Wet'!$A$2:$B$100,2,FALSE)),\"\")","v":""},{"$f":"IFERROR(IF(A169=\"\",\"\",HLOOKUP(A169,'Lista Psychotropy Wet'!$H$34:$DA$37,2,FALSE)),\"\")","v":""},{"$f":"IFERROR(IF(A169=\"\",\"\",HLOOKUP(A169,'Lista Psychotropy Wet'!$H$1:$DA$7,2,FALSE)),\"\")","v":""},{"$f":"IFERROR(IF(A169=\"\",\"\",HLOOKUP(A169,'Lista Psychotropy Wet'!$H$13:$DA$18,2,FALSE)),\"\")","v":""},null,null,null,null,null,null,null,null,null,null,null,null,null,null,null,null,null,null,null,null,null,null,null,"1","2"]
[null,{"$f":"IFERROR(IF(A170=\"\",\"\",VLOOKUP(A170,'Lista Psychotropy Wet'!$A$2:$B$100,2,FALSE)),\"\")","v":""},{"$f":"IFERROR(IF(A170=\"\",\"\",HLOOKUP(A170,'Lista Psychotropy Wet'!$H$34:$DA$37,2,FALSE)),\"\")","v":""},{"$f":"IFERROR(IF(A170=\"\",\"\",HLOOKUP(A170,'Lista Psychotropy Wet'!$H$1:$DA$7,2,FALSE)),\"\")","v":""},{"$f":"IFERROR(IF(A170=\"\",\"\",HLOOKUP(A170,'Lista Psychotropy Wet'!$H$13:$DA$18,2,FALSE)),\"\")","v":""},null,null,null,null,null,null,null,null,null,null,null,null,null,null,null,null,null,null,null,null,null,null,null,"1","2"]
[null,{"$f":"IFERROR(IF(A171=\"\",\"\",VLOOKUP(A171,'Lista Psychotropy Wet'!$A$2:$B$100,2,FALSE)),\"\")","v":""},{"$f":"IFERROR(IF(A171=\"\",\"\",HLOOKUP(A171,'Lista Psychotropy Wet'!$H$34:$DA$37,2,FALSE)),\"\")","v":""},{"$f":"IFERROR(IF(A171=\"\",\"\",HLOOKUP(A171,'Lista Psychotropy Wet'!$H$1:$DA$7,2,FALSE)),\"\")","v":""},{"$f":"IFERROR(IF(A171=\"\",\"\",HLOOKUP(A171,'Lista Psychotropy Wet'!$H$13:$DA$18,2,FALSE)),\"\")","v":""},null,null,null,null,null,null,null,null,null,null,null,null,null,null,null,null,null,null,null,null,null,null,null,"1","2"]
[null,{"$f":"IFERROR(IF(A172=\"\",\"\",VLOOKUP(A172,'Lista Psychotropy Wet'!$A$2:$B$100,2,FALSE)),\"\")","v":""},{"$f":"IFERROR(IF(A172=\"\",\"\",HLOOKUP(A172,'Lista Psychotropy Wet'!$H$34:$DA$37,2,FALSE)),\"\")","v":""},{"$f":"IFERROR(IF(A172=\"\",\"\",HLOOKUP(A172,'Lista Psychotropy Wet'!$H$1:$DA$7,2,FALSE)),\"\")","v":""},{"$f":"IFERROR(IF(A172=\"\",\"\",HLOOKUP(A172,'Lista Psychotropy Wet'!$H$13:$DA$18,2,FALSE)),\"\")","v":""},null,null,null,null,null,null,null,null,null,null,null,null,null,null,null,null,null,null,null,null,null,null,null,"1","2"]
[null,{"$f":"IFERROR(IF(A173=\"\",\"\",VLOOKUP(A173,'Lista Psychotropy Wet'!$A$2:$B$100,2,FALSE)),\"\")","v":""},{"$f":"IFERROR(IF(A173=\"\",\"\",HLOOKUP(A173,'Lista Psychotropy Wet'!$H$34:$DA$37,2,FALSE)),\"\")","v":""},{"$f":"IFERROR(IF(A173=\"\",\"\",HLOOKUP(A173,'Lista Psychotropy Wet'!$H$1:$DA$7,2,FALSE)),\"\")","v":""},{"$f":"IFERROR(IF(A173=\"\",\"\",HLOOKUP(A173,'Lista Psychotropy Wet'!$H$13:$DA$18,2,FALSE)),\"\")","v":""},null,null,null,null,null,null,null,null,null,null,null,null,null,null,null,null,null,null,null,null,null,null,null,"1","2"]
[null,{"$f":"IFERROR(IF(A174=\"\",\"\",VLOOKUP(A174,'Lista Psychotropy Wet'!$A$2:$B$100,2,FALSE)),\"\")","v":""},{"$f":"IFERROR(IF(A174=\"\",\"\",HLOOKUP(A174,'Lista Psychotropy Wet'!$H$34:$DA$37,2,FALSE)),\"\")","v":""},{"$f":"IFERROR(IF(A174=\"\",\"\",HLOOKUP(A174,'Lista Psychotropy Wet'!$H$1:$DA$7,2,FALSE)),\"\")","v":""},{"$f":"IFERROR(IF(A174=\"\",\"\",HLOOKUP(A174,'Lista Psychotropy Wet'!$H$13:$DA$18,2,FALSE)),\"\")","v":""},null,null,null,null,null,null,null,null,null,null,null,null,null,null,null,null,null,null,null,null,null,null,null,"1","2"]
[null,{"$f":"IFERROR(IF(A175=\"\",\"\",VLOOKUP(A175,'Lista Psychotropy Wet'!$A$2:$B$100,2,FALSE)),\"\")","v":""},{"$f":"IFERROR(IF(A175=\"\",\"\",HLOOKUP(A175,'Lista Psychotropy Wet'!$H$34:$DA$37,2,FALSE)),\"\")","v":""},{"$f":"IFERROR(IF(A175=\"\",\"\",HLOOKUP(A175,'Lista Psychotropy Wet'!$H$1:$DA$7,2,FALSE)),\"\")","v":""},{"$f":"IFERROR(IF(A175=\"\",\"\",HLOOKUP(A175,'Lista Psychotropy Wet'!$H$13:$DA$18,2,FALSE)),\"\")","v":""},null,null,null,null,null,null,null,null,null,null,null,null,null,null,null,null,null,null,null,null,null,null,null,"1","2"]
[null,{"$f":"IFERROR(IF(A176=\"\",\"\",VLOOKUP(A176,'Lista Psychotropy Wet'!$A$2:$B$100,2,FALSE)),\"\")","v":""},{"$f":"IFERROR(IF(A176=\"\",\"\",HLOOKUP(A176,'Lista Psychotropy Wet'!$H$34:$DA$37,2,FALSE)),\"\")","v":""},{"$f":"IFERROR(IF(A176=\"\",\"\",HLOOKUP(A176,'Lista Psychotropy Wet'!$H$1:$DA$7,2,FALSE)),\"\")","v":""},{"$f":"IFERROR(IF(A176=\"\",\"\",HLOOKUP(A176,'Lista Psychotropy Wet'!$H$13:$DA$18,2,FALSE)),\"\")","v":""},null,null,null,null,null,null,null,null,null,null,null,null,null,null,null,null,null,null,null,null,null,null,null,"1","2"]
[null,{"$f":"IFERROR(IF(A177=\"\",\"\",VLOOKUP(A177,'Lista Psychotropy Wet'!$A$2:$B$100,2,FALSE)),\"\")","v":""},{"$f":"IFERROR(IF(A177=\"\",\"\",HLOOKUP(A177,'Lista Psychotropy Wet'!$H$34:$DA$37,2,FALSE)),\"\")","v":""},{"$f":"IFERROR(IF(A177=\"\",\"\",HLOOKUP(A177,'Lista Psychotropy Wet'!$H$1:$DA$7,2,FALSE)),\"\")","v":""},{"$f":"IFERROR(IF(A177=\"\",\"\",HLOOKUP(A177,'Lista Psychotropy Wet'!$H$13:$DA$18,2,FALSE)),\"\")","v":""},null,null,null,null,null,null,null,null,null,null,null,null,null,null,null,null,null,null,null,null,null,null,null,"1","2"]
[null,{"$f":"IFERROR(IF(A178=\"\",\"\",VLOOKUP(A178,'Lista Psychotropy Wet'!$A$2:$B$100,2,FALSE)),\"\")","v":""},{"$f":"IFERROR(IF(A178=\"\",\"\",HLOOKUP(A178,'Lista Psychotropy Wet'!$H$34:$DA$37,2,FALSE)),\"\")","v":""},{"$f":"IFERROR(IF(A178=\"\",\"\",HLOOKUP(A178,'Lista Psychotropy Wet'!$H$1:$DA$7,2,FALSE)),\"\")","v":""},{"$f":"IFERROR(IF(A178=\"\",\"\",HLOOKUP(A178,'Lista Psychotropy Wet'!$H$13:$DA$18,2,FALSE)),\"\")","v":""},null,null,null,null,null,null,null,null,null,null,null,null,null,null,null,null,null,null,null,null,null,null,null,"1","2"]
[null,{"$f":"IFERROR(IF(A179=\"\",\"\",VLOOKUP(A179,'Lista Psychotropy Wet'!$A$2:$B$100,2,FALSE)),\"\")","v":""},{"$f":"IFERROR(IF(A179=\"\",\"\",HLOOKUP(A179,'Lista Psychotropy Wet'!$H$34:$DA$37,2,FALSE)),\"\")","v":""},{"$f":"IFERROR(IF(A179=\"\",\"\",HLOOKUP(A179,'Lista Psychotropy Wet'!$H$1:$DA$7,2,FALSE)),\"\")","v":""},{"$f":"IFERROR(IF(A179=\"\",\"\",HLOOKUP(A179,'Lista Psychotropy Wet'!$H$13:$DA$18,2,FALSE)),\"\")","v":""},null,null,null,null,null,null,null,null,null,null,null,null,null,null,null,null,null,null,null,null,null,null,null,"1","2"]
[null,{"$f":"IFERROR(IF(A180=\"\",\"\",VLOOKUP(A180,'Lista Psychotropy Wet'!$A$2:$B$100,2,FALSE)),\"\")","v":""},{"$f":"IFERROR(IF(A180=\"\",\"\",HLOOKUP(A180,'Lista Psychotropy Wet'!$H$34:$DA$37,2,FALSE)),\"\")","v":""},{"$f":"IFERROR(IF(A180=\"\",\"\",HLOOKUP(A180,'Lista Psychotropy Wet'!$H$1:$DA$7,2,FALSE)),\"\")","v":""},{"$f":"IFERROR(IF(A180=\"\",\"\",HLOOKUP(A180,'Lista Psychotropy Wet'!$H$13:$DA$18,2,FALSE)),\"\")","v":""},null,null,null,null,null,null,null,null,null,null,null,null,null,null,null,null,null,null,null,null,null,null,null,"1","2"]
[null,{"$f":"IFERROR(IF(A181=\"\",\"\",VLOOKUP(A181,'Lista Psychotropy Wet'!$A$2:$B$100,2,FALSE)),\"\")","v":""},{"$f":"IFERROR(IF(A181=\"\",\"\",HLOOKUP(A181,'Lista Psychotropy Wet'!$H$34:$DA$37,2,FALSE)),\"\")","v":""},{"$f":"IFERROR(IF(A181=\"\",\"\",HLOOKUP(A181,'Lista Psychotropy Wet'!$H$1:$DA$7,2,FALSE)),\"\")","v":""},{"$f":"IFERROR(IF(A181=\"\",\"\",HLOOKUP(A181,'Lista Psychotropy Wet'!$H$13:$DA$18,2,FALSE)),\"\")","v":""},null,null,null,null,null,null,null,null,null,null,null,null,null,null,null,null,null,null,null,null,null,null,null,"1","2"]
[null,{"$f":"IFERROR(IF(A182=\"\",\"\",VLOOKUP(A182,'Lista Psychotropy Wet'!$A$2:$B$100,2,FALSE)),\"\")","v":""},{"$f":"IFERROR(IF(A182=\"\",\"\",HLOOKUP(A182,'Lista Psychotropy Wet'!$H$34:$DA$37,2,FALSE)),\"\")","v":""},{"$f":"IFERROR(IF(A182=\"\",\"\",HLOOKUP(A182,'Lista Psychotropy Wet'!$H$1:$DA$7,2,FALSE)),\"\")","v":""},{"$f":"IFERROR(IF(A182=\"\",\"\",HLOOKUP(A182,'Lista Psychotropy Wet'!$H$13:$DA$18,2,FALSE)),\"\")","v":""},null,null,null,null,null,null,null,null,null,null,null,null,null,null,null,null,null,null,null,null,null,null,null,"1","2"]
[null,{"$f":"IFERROR(IF(A183=\"\",\"\",VLOOKUP(A183,'Lista Psychotropy Wet'!$A$2:$B$100,2,FALSE)),\"\")","v":""},{"$f":"IFERROR(IF(A183=\"\",\"\",HLOOKUP(A183,'Lista Psychotropy Wet'!$H$34:$DA$37,2,FALSE)),\"\")","v":""},{"$f":"IFERROR(IF(A183=\"\",\"\",HLOOKUP(A183,'Lista Psychotropy Wet'!$H$1:$DA$7,2,FALSE)),\"\")","v":""},{"$f":"IFERROR(IF(A183=\"\",\"\",HLOOKUP(A183,'Lista Psychotropy Wet'!$H$13:$DA$18,2,FALSE)),\"\")","v":""},null,null,null,null,null,null,null,null,null,null,null,null,null,null,null,null,null,null,null,null,null,null,null,"1","2"]
[null,{"$f":"IFERROR(IF(A184=\"\",\"\",VLOOKUP(A184,'Lista Psychotropy Wet'!$A$2:$B$100,2,FALSE)),\"\")","v":""},{"$f":"IFERROR(IF(A184=\"\",\"\",HLOOKUP(A184,'Lista Psychotropy Wet'!$H$34:$DA$37,2,FALSE)),\"\")","v":""},{"$f":"IFERROR(IF(A184=\"\",\"\",HLOOKUP(A184,'Lista Psychotropy Wet'!$H$1:$DA$7,2,FALSE)),\"\")","v":""},{"$f":"IFERROR(IF(A184=\"\",\"\",HLOOKUP(A184,'Lista Psychotropy Wet'!$H$13:$DA$18,2,FALSE)),\"\")","v":""},null,null,null,null,null,null,null,null,null,null,null,null,null,null,null,null,null,null,null,null,null,null,null,"1","2"]
[null,{"$f":"IFERROR(IF(A185=\"\",\"\",VLOOKUP(A185,'Lista Psychotropy Wet'!$A$2:$B$100,2,FALSE)),\"\")","v":""},{"$f":"IFERROR(IF(A185=\"\",\"\",HLOOKUP(A185,'Lista Psychotropy Wet'!$H$34:$DA$37,2,FALSE)),\"\")","v":""},{"$f":"IFERROR(IF(A185=\"\",\"\",HLOOKUP(A185,'Lista Psychotropy Wet'!$H$1:$DA$7,2,FALSE)),\"\")","v":""},{"$f":"IFERROR(IF(A185=\"\",\"\",HLOOKUP(A185,'Lista Psychotropy Wet'!$H$13:$DA$18,2,FALSE)),\"\")","v":""},null,null,null,null,null,null,null,null,null,null,null,null,null,null,null,null,null,null,null,null,null,null,null,"1","2"]
[null,{"$f":"IFERROR(IF(A186=\"\",\"\",VLOOKUP(A186,'Lista Psychotropy Wet'!$A$2:$B$100,2,FALSE)),\"\")","v":""},{"$f":"IFERROR(IF(A186=\"\",\"\",HLOOKUP(A186,'Lista Psychotropy Wet'!$H$34:$DA$37,2,FALSE)),\"\")","v":""},{"$f":"IFERROR(IF(A186=\"\",\"\",HLOOKUP(A186,'Lista Psychotropy Wet'!$H$1:$DA$7,2,FALSE)),\"\")","v":""},{"$f":"IFERROR(IF(A186=\"\",\"\",HLOOKUP(A186,'Lista Psychotropy Wet'!$H$13:$DA$18,2,FALSE)),\"\")","v":""},null,null,null,null,null,null,null,null,null,null,null,null,null,null,null,null,null,null,null,null,null,null,null,"1","2"]
[null,{"$f":"IFERROR(IF(A187=\"\",\"\",VLOOKUP(A187,'Lista Psychotropy Wet'!$A$2:$B$100,2,FALSE)),\"\")","v":""},{"$f":"IFERROR(IF(A187=\"\",\"\",HLOOKUP(A187,'Lista Psychotropy Wet'!$H$34:$DA$37,2,FALSE)),\"\")","v":""},{"$f":"IFERROR(IF(A187=\"\",\"\",HLOOKUP(A187,'Lista Psychotropy Wet'!$H$1:$DA$7,2,FALSE)),\"\")","v":""},{"$f":"IFERROR(IF(A187=\"\",\"\",HLOOKUP(A187,'Lista Psychotropy Wet'!$H$13:$DA$18,2,FALSE)),\"\")","v":""},null,null,null,null,null,null,null,null,null,null,null,null,null,null,null,null,null,null,null,null,null,null,null,"1","2"]
[null,{"$f":"IFERROR(IF(A188=\"\",\"\",VLOOKUP(A188,'Lista Psychotropy Wet'!$A$2:$B$100,2,FALSE)),\"\")","v":""},{"$f":"IFERROR(IF(A188=\"\",\"\",HLOOKUP(A188,'Lista Psychotropy Wet'!$H$34:$DA$37,2,FALSE)),\"\")","v":""},{"$f":"IFERROR(IF(A188=\"\",\"\",HLOOKUP(A188,'Lista Psychotropy Wet'!$H$1:$DA$7,2,FALSE)),\"\")","v":""},{"$f":"IFERROR(IF(A188=\"\",\"\",HLOOKUP(A188,'Lista Psychotropy Wet'!$H$13:$DA$18,2,FALSE)),\"\")","v":""},null,null,null,null,null,null,null,null,null,null,null,null,null,null,null,null,null,null,null,null,null,null,null,"1","2"]
[null,{"$f":"IFERROR(IF(A189=\"\",\"\",VLOOKUP(A189,'Lista Psychotropy Wet'!$A$2:$B$100,2,FALSE)),\"\")","v":""},{"$f":"IFERROR(IF(A189=\"\",\"\",HLOOKUP(A189,'Lista Psychotropy Wet'!$H$34:$DA$37,2,FALSE)),\"\")","v":""},{"$f":"IFERROR(IF(A189=\"\",\"\",HLOOKUP(A189,'Lista Psychotropy Wet'!$H$1:$DA$7,2,FALSE)),\"\")","v":""},{"$f":"IFERROR(IF(A189=\"\",\"\",HLOOKUP(A189,'Lista Psychotropy Wet'!$H$13:$DA$18,2,FALSE)),\"\")","v":""},null,null,null,null,null,null,null,null,null,null,null,null,null,null,null,null,null,null,null,null,null,null,null,"1","2"]
[null,{"$f":"IFERROR(IF(A190=\"\",\"\",VLOOKUP(A190,'Lista Psychotropy Wet'!$A$2:$B$100,2,FALSE)),\"\")","v":""},{"$f":"IFERROR(IF(A190=\"\",\"\",HLOOKUP(A190,'Lista Psychotropy Wet'!$H$34:$DA$37,2,FALSE)),\"\")","v":""},{"$f":"IFERROR(IF(A190=\"\",\"\",HLOOKUP(A190,'Lista Psychotropy Wet'!$H$1:$DA$7,2,FALSE)),\"\")","v":""},{"$f":"IFERROR(IF(A190=\"\",\"\",HLOOKUP(A190,'Lista Psychotropy Wet'!$H$13:$DA$18,2,FALSE)),\"\")","v":""},null,null,null,null,null,null,null,null,null,null,null,null,null,null,null,null,null,null,null,null,null,null,null,"1","2"]
[null,{"$f":"IFERROR(IF(A191=\"\",\"\",VLOOKUP(A191,'Lista Psychotropy Wet'!$A$2:$B$100,2,FALSE)),\"\")","v":""},{"$f":"IFERROR(IF(A191=\"\",\"\",HLOOKUP(A191,'Lista Psychotropy Wet'!$H$34:$DA$37,2,FALSE)),\"\")","v":""},{"$f":"IFERROR(IF(A191=\"\",\"\",HLOOKUP(A191,'Lista Psychotropy Wet'!$H$1:$DA$7,2,FALSE)),\"\")","v":""},{"$f":"IFERROR(IF(A191=\"\",\"\",HLOOKUP(A191,'Lista Psychotropy Wet'!$H$13:$DA$18,2,FALSE)),\"\")","v":""},null,null,null,null,null,null,null,null,null,null,null,null,null,null,null,null,null,null,null,null,null,null,null,"1","2"]
[null,{"$f":"IFERROR(IF(A192=\"\",\"\",VLOOKUP(A192,'Lista Psychotropy Wet'!$A$2:$B$100,2,FALSE)),\"\")","v":""},{"$f":"IFERROR(IF(A192=\"\",\"\",HLOOKUP(A192,'Lista Psychotropy Wet'!$H$34:$DA$37,2,FALSE)),\"\")","v":""},{"$f":"IFERROR(IF(A192=\"\",\"\",HLOOKUP(A192,'Lista Psychotropy Wet'!$H$1:$DA$7,2,FALSE)),\"\")","v":""},{"$f":"IFERROR(IF(A192=\"\",\"\",HLOOKUP(A192,'Lista Psychotropy Wet'!$H$13:$DA$18,2,FALSE)),\"\")","v":""},null,null,null,null,null,null,null,null,null,null,null,null,null,null,null,null,null,null,null,null,null,null,null,"1","2"]
[null,{"$f":"IFERROR(IF(A193=\"\",\"\",VLOOKUP(A193,'Lista Psychotropy Wet'!$A$2:$B$100,2,FALSE)),\"\")","v":""},{"$f":"IFERROR(IF(A193=\"\",\"\",HLOOKUP(A193,'Lista Psychotropy Wet'!$H$34:$DA$37,2,FALSE)),\"\")","v":""},{"$f":"IFERROR(IF(A193=\"\",\"\",HLOOKUP(A193,'Lista Psychotropy Wet'!$H$1:$DA$7,2,FALSE)),\"\")","v":""},{"$f":"IFERROR(IF(A193=\"\",\"\",HLOOKUP(A193,'Lista Psychotropy Wet'!$H$13:$DA$18,2,FALSE)),\"\")","v":""},null,null,null,null,null,null,null,null,null,null,null,null,null,null,null,null,null,null,null,null,null,null,null,"1","2"]
[null,{"$f":"IFERROR(IF(A194=\"\",\"\",VLOOKUP(A194,'Lista Psychotropy Wet'!$A$2:$B$100,2,FALSE)),\"\")","v":""},{"$f":"IFERROR(IF(A194=\"\",\"\",HLOOKUP(A194,'Lista Psychotropy Wet'!$H$34:$DA$37,2,FALSE)),\"\")","v":""},{"$f":"IFERROR(IF(A194=\"\",\"\",HLOOKUP(A194,'Lista Psychotropy Wet'!$H$1:$DA$7,2,FALSE)),\"\")","v":""},{"$f":"IFERROR(IF(A194=\"\",\"\",HLOOKUP(A194,'Lista Psychotropy Wet'!$H$13:$DA$18,2,FALSE)),\"\")","v":""},null,null,null,null,null,null,null,null,null,null,null,null,null,null,null,null,null,null,null,null,null,null,null,"1","2"]
[null,{"$f":"IFERROR(IF(A195=\"\",\"\",VLOOKUP(A195,'Lista Psychotropy Wet'!$A$2:$B$100,2,FALSE)),\"\")","v":""},{"$f":"IFERROR(IF(A195=\"\",\"\",HLOOKUP(A195,'Lista Psychotropy Wet'!$H$34:$DA$37,2,FALSE)),\"\")","v":""},{"$f":"IFERROR(IF(A195=\"\",\"\",HLOOKUP(A195,'Lista Psychotropy Wet'!$H$1:$DA$7,2,FALSE)),\"\")","v":""},{"$f":"IFERROR(IF(A195=\"\",\"\",HLOOKUP(A195,'Lista Psychotropy Wet'!$H$13:$DA$18,2,FALSE)),\"\")","v":""},null,null,null,null,null,null,null,null,null,null,null,null,null,null,null,null,null,null,null,null,null,null,null,"1","2"]
[null,{"$f":"IFERROR(IF(A196=\"\",\"\",VLOOKUP(A196,'Lista Psychotropy Wet'!$A$2:$B$100,2,FALSE)),\"\")","v":""},{"$f":"IFERROR(IF(A196=\"\",\"\",HLOOKUP(A196,'Lista Psychotropy Wet'!$H$34:$DA$37,2,FALSE)),\"\")","v":""},{"$f":"IFERROR(IF(A196=\"\",\"\",HLOOKUP(A196,'Lista Psychotropy Wet'!$H$1:$DA$7,2,FALSE)),\"\")","v":""},{"$f":"IFERROR(IF(A196=\"\",\"\",HLOOKUP(A196,'Lista Psychotropy Wet'!$H$13:$DA$18,2,FALSE)),\"\")","v":""},null,null,null,null,null,null,null,null,null,null,null,null,null,null,null,null,null,null,null,null,null,null,null,"1","2"]
[null,{"$f":"IFERROR(IF(A197=\"\",\"\",VLOOKUP(A197,'Lista Psychotropy Wet'!$A$2:$B$100,2,FALSE)),\"\")","v":""},{"$f":"IFERROR(IF(A197=\"\",\"\",HLOOKUP(A197,'Lista Psychotropy Wet'!$H$34:$DA$37,2,FALSE)),\"\")","v":""},{"$f":"IFERROR(IF(A197=\"\",\"\",HLOOKUP(A197,'Lista Psychotropy Wet'!$H$1:$DA$7,2,FALSE)),\"\")","v":""},{"$f":"IFERROR(IF(A197=\"\",\"\",HLOOKUP(A197,'Lista Psychotropy Wet'!$H$13:$DA$18,2,FALSE)),\"\")","v":""},null,null,null,null,null,null,null,null,null,null,null,null,null,null,null,null,null,null,null,null,null,null,null,"1","2"]
[null,{"$f":"IFERROR(IF(A198=\"\",\"\",VLOOKUP(A198,'Lista Psychotropy Wet'!$A$2:$B$100,2,FALSE)),\"\")","v":""},{"$f":"IFERROR(IF(A198=\"\",\"\",HLOOKUP(A198,'Lista Psychotropy Wet'!$H$34:$DA$37,2,FALSE)),\"\")","v":""},{"$f":"IFERROR(IF(A198=\"\",\"\",HLOOKUP(A198,'Lista Psychotropy Wet'!$H$1:$DA$7,2,FALSE)),\"\")","v":""},{"$f":"IFERROR(IF(A198=\"\",\"\",HLOOKUP(A198,'Lista Psychotropy Wet'!$H$13:$DA$18,2,FALSE)),\"\")","v":""},null,null,null,null,null,null,null,null,null,null,null,null,null,null,null,null,null,null,null,null,null,null,null,"1","2"]
[null,{"$f":"IFERROR(IF(A199=\"\",\"\",VLOOKUP(A199,'Lista Psychotropy Wet'!$A$2:$B$100,2,FALSE)),\"\")","v":""},{"$f":"IFERROR(IF(A199=\"\",\"\",HLOOKUP(A199,'Lista Psychotropy Wet'!$H$34:$DA$37,2,FALSE)),\"\")","v":""},{"$f":"IFERROR(IF(A199=\"\",\"\",HLOOKUP(A199,'Lista Psychotropy Wet'!$H$1:$DA$7,2,FALSE)),\"\")","v":""},{"$f":"IFERROR(IF(A199=\"\",\"\",HLOOKUP(A199,'Lista Psychotropy Wet'!$H$13:$DA$18,2,FALSE)),\"\")","v":""},null,null,null,null,null,null,null,null,null,null,null,null,null,null,null,null,null,null,null,null,null,null,null,"1","2"]
[null,{"$f":"IFERROR(IF(A200=\"\",\"\",VLOOKUP(A200,'Lista Psychotropy Wet'!$A$2:$B$100,2,FALSE)),\"\")","v":""},{"$f":"IFERROR(IF(A200=\"\",\"\",HLOOKUP(A200,'Lista Psychotropy Wet'!$H$34:$DA$37,2,FALSE)),\"\")","v":""},{"$f":"IFERROR(IF(A200=\"\",\"\",HLOOKUP(A200,'Lista Psychotropy Wet'!$H$1:$DA$7,2,FALSE)),\"\")","v":""},{"$f":"IFERROR(IF(A200=\"\",\"\",HLOOKUP(A200,'Lista Psychotropy Wet'!$H$13:$DA$18,2,FALSE)),\"\")","v":""},null,null,null,null,null,null,null,null,null,null,null,null,null,null,null,null,null,null,null,null,null,null,null,"1","2"]
[null,{"$f":"IFERROR(IF(A201=\"\",\"\",VLOOKUP(A201,'Lista Psychotropy Wet'!$A$2:$B$100,2,FALSE)),\"\")","v":""},{"$f":"IFERROR(IF(A201=\"\",\"\",HLOOKUP(A201,'Lista Psychotropy Wet'!$H$34:$DA$37,2,FALSE)),\"\")","v":""},{"$f":"IFERROR(IF(A201=\"\",\"\",HLOOKUP(A201,'Lista Psychotropy Wet'!$H$1:$DA$7,2,FALSE)),\"\")","v":""},{"$f":"IFERROR(IF(A201=\"\",\"\",HLOOKUP(A201,'Lista Psychotropy Wet'!$H$13:$DA$18,2,FALSE)),\"\")","v":""},null,null,null,null,null,null,null,null,null,null,null,null,null,null,null,null,null,null,null,null,null,null,null,"1","2"]
[null,{"$f":"IFERROR(IF(A202=\"\",\"\",VLOOKUP(A202,'Lista Psychotropy Wet'!$A$2:$B$100,2,FALSE)),\"\")","v":""},{"$f":"IFERROR(IF(A202=\"\",\"\",HLOOKUP(A202,'Lista Psychotropy Wet'!$H$34:$DA$37,2,FALSE)),\"\")","v":""},{"$f":"IFERROR(IF(A202=\"\",\"\",HLOOKUP(A202,'Lista Psychotropy Wet'!$H$1:$DA$7,2,FALSE)),\"\")","v":""},{"$f":"IFERROR(IF(A202=\"\",\"\",HLOOKUP(A202,'Lista Psychotropy Wet'!$H$13:$DA$18,2,FALSE)),\"\")","v":""},null,null,null,null,null,null,null,null,null,null,null,null,null,null,null,null,null,null,null,null,null,null,null,{"$f":"A202&1","v":"1"},{"$f":"A202&2","v":"2"}]
[null,{"$f":"IFERROR(IF(A203=\"\",\"\",VLOOKUP(A203,'Lista Psychotropy Wet'!$A$2:$B$100,2,FALSE)),\"\")","v":""},{"$f":"IFERROR(IF(A203=\"\",\"\",HLOOKUP(A203,'Lista Psychotropy Wet'!$H$34:$DA$37,2,FALSE)),\"\")","v":""},{"$f":"IFERROR(IF(A203=\"\",\"\",HLOOKUP(A203,'Lista Psychotropy Wet'!$H$1:$DA$7,2,FALSE)),\"\")","v":""},{"$f":"IFERROR(IF(A203=\"\",\"\",HLOOKUP(A203,'Lista Psychotropy Wet'!$H$13:$DA$18,2,FALSE)),\"\")","v":""},null,null,null,null,null,null,null,null,null,null,null,null,null,null,null,null,null,null,null,null,null,null,null,"1","2"]
[null,{"$f":"IFERROR(IF(A204=\"\",\"\",VLOOKUP(A204,'Lista Psychotropy Wet'!$A$2:$B$100,2,FALSE)),\"\")","v":""},{"$f":"IFERROR(IF(A204=\"\",\"\",HLOOKUP(A204,'Lista Psychotropy Wet'!$H$34:$DA$37,2,FALSE)),\"\")","v":""},{"$f":"IFERROR(IF(A204=\"\",\"\",HLOOKUP(A204,'Lista Psychotropy Wet'!$H$1:$DA$7,2,FALSE)),\"\")","v":""},{"$f":"IFERROR(IF(A204=\"\",\"\",HLOOKUP(A204,'Lista Psychotropy Wet'!$H$13:$DA$18,2,FALSE)),\"\")","v":""},null,null,null,null,null,null,null,null,null,null,null,null,null,null,null,null,null,null,null,null,null,null,null,"1","2"]
[null,{"$f":"IFERROR(IF(A205=\"\",\"\",VLOOKUP(A205,'Lista Psychotropy Wet'!$A$2:$B$100,2,FALSE)),\"\")","v":""},{"$f":"IFERROR(IF(A205=\"\",\"\",HLOOKUP(A205,'Lista Psychotropy Wet'!$H$34:$DA$37,2,FALSE)),\"\")","v":""},{"$f":"IFERROR(IF(A205=\"\",\"\",HLOOKUP(A205,'Lista Psychotropy Wet'!$H$1:$DA$7,2,FALSE)),\"\")","v":""},{"$f":"IFERROR(IF(A205=\"\",\"\",HLOOKUP(A205,'Lista Psychotropy Wet'!$H$13:$DA$18,2,FALSE)),\"\")","v":""},null,null,null,null,null,null,null,null,null,null,null,null,null,null,null,null,null,null,null,null,null,null,null,"1","2"]
[null,{"$f":"IFERROR(IF(A206=\"\",\"\",VLOOKUP(A206,'Lista Psychotropy Wet'!$A$2:$B$100,2,FALSE)),\"\")","v":""},{"$f":"IFERROR(IF(A206=\"\",\"\",HLOOKUP(A206,'Lista Psychotropy Wet'!$H$34:$DA$37,2,FALSE)),\"\")","v":""},{"$f":"IFERROR(IF(A206=\"\",\"\",HLOOKUP(A206,'Lista Psychotropy Wet'!$H$1:$DA$7,2,FALSE)),\"\")","v":""},{"$f":"IFERROR(IF(A206=\"\",\"\",HLOOKUP(A206,'Lista Psychotropy Wet'!$H$13:$DA$18,2,FALSE)),\"\")","v":""},null,null,null,null,null,null,null,null,null,null,null,null,null,null,null,null,null,null,null,null,null,null,null,"1","2"]
[null,{"$f":"IFERROR(IF(A207=\"\",\"\",VLOOKUP(A207,'Lista Psychotropy Wet'!$A$2:$B$100,2,FALSE)),\"\")","v":""},{"$f":"IFERROR(IF(A207=\"\",\"\",HLOOKUP(A207,'Lista Psychotropy Wet'!$H$34:$DA$37,2,FALSE)),\"\")","v":""},{"$f":"IFERROR(IF(A207=\"\",\"\",HLOOKUP(A207,'Lista Psychotropy Wet'!$H$1:$DA$7,2,FALSE)),\"\")","v":""},{"$f":"IFERROR(IF(A207=\"\",\"\",HLOOKUP(A207,'Lista Psychotropy Wet'!$H$13:$DA$18,2,FALSE)),\"\")","v":""},null,null,null,null,null,null,null,null,null,null,null,null,null,null,null,null,null,null,null,null,null,null,null,"1","2"]
[null,{"$f":"IFERROR(IF(A208=\"\",\"\",VLOOKUP(A208,'Lista Psychotropy Wet'!$A$2:$B$100,2,FALSE)),\"\")","v":""},{"$f":"IFERROR(IF(A208=\"\",\"\",HLOOKUP(A208,'Lista Psychotropy Wet'!$H$34:$DA$37,2,FALSE)),\"\")","v":""},{"$f":"IFERROR(IF(A208=\"\",\"\",HLOOKUP(A208,'Lista Psychotropy Wet'!$H$1:$DA$7,2,FALSE)),\"\")","v":""},{"$f":"IFERROR(IF(A208=\"\",\"\",HLOOKUP(A208,'Lista Psychotropy Wet'!$H$13:$DA$18,2,FALSE)),\"\")","v":""},null,null,null,null,null,null,null,null,null,null,null,null,null,null,null,null,null,null,null,null,null,null,null,"1","2"]
[null,{"$f":"IFERROR(IF(A209=\"\",\"\",VLOOKUP(A209,'Lista Psychotropy Wet'!$A$2:$B$100,2,FALSE)),\"\")","v":""},{"$f":"IFERROR(IF(A209=\"\",\"\",HLOOKUP(A209,'Lista Psychotropy Wet'!$H$34:$DA$37,2,FALSE)),\"\")","v":""},{"$f":"IFERROR(IF(A209=\"\",\"\",HLOOKUP(A209,'Lista Psychotropy Wet'!$H$1:$DA$7,2,FALSE)),\"\")","v":""},{"$f":"IFERROR(IF(A209=\"\",\"\",HLOOKUP(A209,'Lista Psychotropy Wet'!$H$13:$DA$18,2,FALSE)),\"\")","v":""},null,null,null,null,null,null,null,null,null,null,null,null,null,null,null,null,null,null,null,null,null,null,null,"1","2"]
[null,{"$f":"IFERROR(IF(A210=\"\",\"\",VLOOKUP(A210,'Lista Psychotropy Wet'!$A$2:$B$100,2,FALSE)),\"\")","v":""},{"$f":"IFERROR(IF(A210=\"\",\"\",HLOOKUP(A210,'Lista Psychotropy Wet'!$H$34:$DA$37,2,FALSE)),\"\")","v":""},{"$f":"IFERROR(IF(A210=\"\",\"\",HLOOKUP(A210,'Lista Psychotropy Wet'!$H$1:$DA$7,2,FALSE)),\"\")","v":""},{"$f":"IFERROR(IF(A210=\"\",\"\",HLOOKUP(A210,'Lista Psychotropy Wet'!$H$13:$DA$18,2,FALSE)),\"\")","v":""},null,null,null,null,null,null,null,null,null,null,null,null,null,null,null,null,null,null,null,null,null,null,null,"1","2"]
[null,{"$f":"IFERROR(IF(A211=\"\",\"\",VLOOKUP(A211,'Lista Psychotropy Wet'!$A$2:$B$100,2,FALSE)),\"\")","v":""},{"$f":"IFERROR(IF(A211=\"\",\"\",HLOOKUP(A211,'Lista Psychotropy Wet'!$H$34:$DA$37,2,FALSE)),\"\")","v":""},{"$f":"IFERROR(IF(A211=\"\",\"\",HLOOKUP(A211,'Lista Psychotropy Wet'!$H$1:$DA$7,2,FALSE)),\"\")","v":""},{"$f":"IFERROR(IF(A211=\"\",\"\",HLOOKUP(A211,'Lista Psychotropy Wet'!$H$13:$DA$18,2,FALSE)),\"\")","v":""},null,null,null,null,null,null,null,null,null,null,null,null,null,null,null,null,null,null,null,null,null,null,null,"1","2"]
[null,{"$f":"IFERROR(IF(A212=\"\",\"\",VLOOKUP(A212,'Lista Psychotropy Wet'!$A$2:$B$100,2,FALSE)),\"\")","v":""},{"$f":"IFERROR(IF(A212=\"\",\"\",HLOOKUP(A212,'Lista Psychotropy Wet'!$H$34:$DA$37,2,FALSE)),\"\")","v":""},{"$f":"IFERROR(IF(A212=\"\",\"\",HLOOKUP(A212,'Lista Psychotropy Wet'!$H$1:$DA$7,2,FALSE)),\"\")","v":""},{"$f":"IFERROR(IF(A212=\"\",\"\",HLOOKUP(A212,'Lista Psychotropy Wet'!$H$13:$DA$18,2,FALSE)),\"\")","v":""},null,null,null,null,null,null,null,null,null,null,null,null,null,null,null,null,null,null,null,null,null,null,null,"1","2"]
[null,{"$f":"IFERROR(IF(A213=\"\",\"\",VLOOKUP(A213,'Lista Psychotropy Wet'!$A$2:$B$100,2,FALSE)),\"\")","v":""},{"$f":"IFERROR(IF(A213=\"\",\"\",HLOOKUP(A213,'Lista Psychotropy Wet'!$H$34:$DA$37,2,FALSE)),\"\")","v":""},{"$f":"IFERROR(IF(A213=\"\",\"\",HLOOKUP(A213,'Lista Psychotropy Wet'!$H$1:$DA$7,2,FALSE)),\"\")","v":""},{"$f":"IFERROR(IF(A213=\"\",\"\",HLOOKUP(A213,'Lista Psychotropy Wet'!$H$13:$DA$18,2,FALSE)),\"\")","v":""},null,null,null,null,null,null,null,null,null,null,null,null,null,null,null,null,null,null,null,null,null,null,null,"1","2"]
[null,{"$f":"IFERROR(IF(A214=\"\",\"\",VLOOKUP(A214,'Lista Psychotropy Wet'!$A$2:$B$100,2,FALSE)),\"\")","v":""},{"$f":"IFERROR(IF(A214=\"\",\"\",HLOOKUP(A214,'Lista Psychotropy Wet'!$H$34:$DA$37,2,FALSE)),\"\")","v":""},{"$f":"IFERROR(IF(A214=\"\",\"\",HLOOKUP(A214,'Lista Psychotropy Wet'!$H$1:$DA$7,2,FALSE)),\"\")","v":""},{"$f":"IFERROR(IF(A214=\"\",\"\",HLOOKUP(A214,'Lista Psychotropy Wet'!$H$13:$DA$18,2,FALSE)),\"\")","v":""},null,null,null,null,null,null,null,null,null,null,null,null,null,null,null,null,null,null,null,null,null,null,null,"1","2"]
[null,{"$f":"IFERROR(IF(A215=\"\",\"\",VLOOKUP(A215,'Lista Psychotropy Wet'!$A$2:$B$100,2,FALSE)),\"\")","v":""},{"$f":"IFERROR(IF(A215=\"\",\"\",HLOOKUP(A215,'Lista Psychotropy Wet'!$H$34:$DA$37,2,FALSE)),\"\")","v":""},{"$f":"IFERROR(IF(A215=\"\",\"\",HLOOKUP(A215,'Lista Psychotropy Wet'!$H$1:$DA$7,2,FALSE)),\"\")","v":""},{"$f":"IFERROR(IF(A215=\"\",\"\",HLOOKUP(A215,'Lista Psychotropy Wet'!$H$13:$DA$18,2,FALSE)),\"\")","v":""},null,null,null,null,null,null,null,null,null,null,null,null,null,null,null,null,null,null,null,null,null,null,null,"1","2"]
[null,{"$f":"IFERROR(IF(A216=\"\",\"\",VLOOKUP(A216,'Lista Psychotropy Wet'!$A$2:$B$100,2,FALSE)),\"\")","v":""},{"$f":"IFERROR(IF(A216=\"\",\"\",HLOOKUP(A216,'Lista Psychotropy Wet'!$H$34:$DA$37,2,FALSE)),\"\")","v":""},{"$f":"IFERROR(IF(A216=\"\",\"\",HLOOKUP(A216,'Lista Psychotropy Wet'!$H$1:$DA$7,2,FALSE)),\"\")","v":""},{"$f":"IFERROR(IF(A216=\"\",\"\",HLOOKUP(A216,'Lista Psychotropy Wet'!$H$13:$DA$18,2,FALSE)),\"\")","v":""},null,null,null,null,null,null,null,null,null,null,null,null,null,null,null,null,null,null,null,null,null,null,null,"1","2"]
[null,{"$f":"IFERROR(IF(A217=\"\",\"\",VLOOKUP(A217,'Lista Psychotropy Wet'!$A$2:$B$100,2,FALSE)),\"\")","v":""},{"$f":"IFERROR(IF(A217=\"\",\"\",HLOOKUP(A217,'Lista Psychotropy Wet'!$H$34:$DA$37,2,FALSE)),\"\")","v":""},{"$f":"IFERROR(IF(A217=\"\",\"\",HLOOKUP(A217,'Lista Psychotropy Wet'!$H$1:$DA$7,2,FALSE)),\"\")","v":""},{"$f":"IFERROR(IF(A217=\"\",\"\",HLOOKUP(A217,'Lista Psychotropy Wet'!$H$13:$DA$18,2,FALSE)),\"\")","v":""},null,null,null,null,null,null,null,null,null,null,null,null,null,null,null,null,null,null,null,null,null,null,null,"1","2"]
[null,{"$f":"IFERROR(IF(A218=\"\",\"\",VLOOKUP(A218,'Lista Psychotropy Wet'!$A$2:$B$100,2,FALSE)),\"\")","v":""},{"$f":"IFERROR(IF(A218=\"\",\"\",HLOOKUP(A218,'Lista Psychotropy Wet'!$H$34:$DA$37,2,FALSE)),\"\")","v":""},{"$f":"IFERROR(IF(A218=\"\",\"\",HLOOKUP(A218,'Lista Psychotropy Wet'!$H$1:$DA$7,2,FALSE)),\"\")","v":""},{"$f":"IFERROR(IF(A218=\"\",\"\",HLOOKUP(A218,'Lista Psychotropy Wet'!$H$13:$DA$18,2,FALSE)),\"\")","v":""},null,null,null,null,null,null,null,null,null,null,null,null,null,null,null,null,null,null,null,null,null,null,null,"1","2"]
[null,{"$f":"IFERROR(IF(A219=\"\",\"\",VLOOKUP(A219,'Lista Psychotropy Wet'!$A$2:$B$100,2,FALSE)),\"\")","v":""},{"$f":"IFERROR(IF(A219=\"\",\"\",HLOOKUP(A219,'Lista Psychotropy Wet'!$H$34:$DA$37,2,FALSE)),\"\")","v":""},{"$f":"IFERROR(IF(A219=\"\",\"\",HLOOKUP(A219,'Lista Psychotropy Wet'!$H$1:$DA$7,2,FALSE)),\"\")","v":""},{"$f":"IFERROR(IF(A219=\"\",\"\",HLOOKUP(A219,'Lista Psychotropy Wet'!$H$13:$DA$18,2,FALSE)),\"\")","v":""},null,null,null,null,null,null,null,null,null,null,null,null,null,null,null,null,null,null,null,null,null,null,null,"1","2"]
[null,{"$f":"IFERROR(IF(A220=\"\",\"\",VLOOKUP(A220,'Lista Psychotropy Wet'!$A$2:$B$100,2,FALSE)),\"\")","v":""},{"$f":"IFERROR(IF(A220=\"\",\"\",HLOOKUP(A220,'Lista Psychotropy Wet'!$H$34:$DA$37,2,FALSE)),\"\")","v":""},{"$f":"IFERROR(IF(A220=\"\",\"\",HLOOKUP(A220,'Lista Psychotropy Wet'!$H$1:$DA$7,2,FALSE)),\"\")","v":""},{"$f":"IFERROR(IF(A220=\"\",\"\",HLOOKUP(A220,'Lista Psychotropy Wet'!$H$13:$DA$18,2,FALSE)),\"\")","v":""},null,null,null,null,null,null,null,null,null,null,null,null,null,null,null,null,null,null,null,null,null,null,null,"1","2"]
[null,{"$f":"IFERROR(IF(A221=\"\",\"\",VLOOKUP(A221,'Lista Psychotropy Wet'!$A$2:$B$100,2,FALSE)),\"\")","v":""},{"$f":"IFERROR(IF(A221=\"\",\"\",HLOOKUP(A221,'Lista Psychotropy Wet'!$H$34:$DA$37,2,FALSE)),\"\")","v":""},{"$f":"IFERROR(IF(A221=\"\",\"\",HLOOKUP(A221,'Lista Psychotropy Wet'!$H$1:$DA$7,2,FALSE)),\"\")","v":""},{"$f":"IFERROR(IF(A221=\"\",\"\",HLOOKUP(A221,'Lista Psychotropy Wet'!$H$13:$DA$18,2,FALSE)),\"\")","v":""},null,null,null,null,null,null,null,null,null,null,null,null,null,null,null,null,null,null,null,null,null,null,null,"1","2"]
[null,{"$f":"IFERROR(IF(A222=\"\",\"\",VLOOKUP(A222,'Lista Psychotropy Wet'!$A$2:$B$100,2,FALSE)),\"\")","v":""},{"$f":"IFERROR(IF(A222=\"\",\"\",HLOOKUP(A222,'Lista Psychotropy Wet'!$H$34:$DA$37,2,FALSE)),\"\")","v":""},{"$f":"IFERROR(IF(A222=\"\",\"\",HLOOKUP(A222,'Lista Psychotropy Wet'!$H$1:$DA$7,2,FALSE)),\"\")","v":""},{"$f":"IFERROR(IF(A222=\"\",\"\",HLOOKUP(A222,'Lista Psychotropy Wet'!$H$13:$DA$18,2,FALSE)),\"\")","v":""},null,null,null,null,null,null,null,null,null,null,null,null,null,null,null,null,null,null,null,null,null,null,null,"1","2"]
[null,{"$f":"IFERROR(IF(A223=\"\",\"\",VLOOKUP(A223,'Lista Psychotropy Wet'!$A$2:$B$100,2,FALSE)),\"\")","v":""},{"$f":"IFERROR(IF(A223=\"\",\"\",HLOOKUP(A223,'Lista Psychotropy Wet'!$H$34:$DA$37,2,FALSE)),\"\")","v":""},{"$f":"IFERROR(IF(A223=\"\",\"\",HLOOKUP(A223,'Lista Psychotropy Wet'!$H$1:$DA$7,2,FALSE)),\"\")","v":""},{"$f":"IFERROR(IF(A223=\"\",\"\",HLOOKUP(A223,'Lista Psychotropy Wet'!$H$13:$DA$18,2,FALSE)),\"\")","v":""},null,null,null,null,null,null,null,null,null,null,null,null,null,null,null,null,null,null,null,null,null,null,null,"1","2"]
[null,{"$f":"IFERROR(IF(A224=\"\",\"\",VLOOKUP(A224,'Lista Psychotropy Wet'!$A$2:$B$100,2,FALSE)),\"\")","v":""},{"$f":"IFERROR(IF(A224=\"\",\"\",HLOOKUP(A224,'Lista Psychotropy Wet'!$H$34:$DA$37,2,FALSE)),\"\")","v":""},{"$f":"IFERROR(IF(A224=\"\",\"\",HLOOKUP(A224,'Lista Psychotropy Wet'!$H$1:$DA$7,2,FALSE)),\"\")","v":""},{"$f":"IFERROR(IF(A224=\"\",\"\",HLOOKUP(A224,'Lista Psychotropy Wet'!$H$13:$DA$18,2,FALSE)),\"\")","v":""},null,null,null,null,null,null,null,null,null,null,null,null,null,null,null,null,null,null,null,null,null,null,null,"1","2"]
[null,{"$f":"IFERROR(IF(A225=\"\",\"\",VLOOKUP(A225,'Lista Psychotropy Wet'!$A$2:$B$100,2,FALSE)),\"\")","v":""},{"$f":"IFERROR(IF(A225=\"\",\"\",HLOOKUP(A225,'Lista Psychotropy Wet'!$H$34:$DA$37,2,FALSE)),\"\")","v":""},{"$f":"IFERROR(IF(A225=\"\",\"\",HLOOKUP(A225,'Lista Psychotropy Wet'!$H$1:$DA$7,2,FALSE)),\"\")","v":""},{"$f":"IFERROR(IF(A225=\"\",\"\",HLOOKUP(A225,'Lista Psychotropy Wet'!$H$13:$DA$18,2,FALSE)),\"\")","v":""},null,null,null,null,null,null,null,null,null,null,null,null,null,null,null,null,null,null,null,null,null,null,null,"1","2"]
[null,{"$f":"IFERROR(IF(A226=\"\",\"\",VLOOKUP(A226,'Lista Psychotropy Wet'!$A$2:$B$100,2,FALSE)),\"\")","v":""},{"$f":"IFERROR(IF(A226=\"\",\"\",HLOOKUP(A226,'Lista Psychotropy Wet'!$H$34:$DA$37,2,FALSE)),\"\")","v":""},{"$f":"IFERROR(IF(A226=\"\",\"\",HLOOKUP(A226,'Lista Psychotropy Wet'!$H$1:$DA$7,2,FALSE)),\"\")","v":""},{"$f":"IFERROR(IF(A226=\"\",\"\",HLOOKUP(A226,'Lista Psychotropy Wet'!$H$13:$DA$18,2,FALSE)),\"\")","v":""},null,null,null,null,null,null,null,null,null,null,null,null,null,null,null,null,null,null,null,null,null,null,null,"1","2"]
[null,{"$f":"IFERROR(IF(A227=\"\",\"\",VLOOKUP(A227,'Lista Psychotropy Wet'!$A$2:$B$100,2,FALSE)),\"\")","v":""},{"$f":"IFERROR(IF(A227=\"\",\"\",HLOOKUP(A227,'Lista Psychotropy Wet'!$H$34:$DA$37,2,FALSE)),\"\")","v":""},{"$f":"IFERROR(IF(A227=\"\",\"\",HLOOKUP(A227,'Lista Psychotropy Wet'!$H$1:$DA$7,2,FALSE)),\"\")","v":""},{"$f":"IFERROR(IF(A227=\"\",\"\",HLOOKUP(A227,'Lista Psychotropy Wet'!$H$13:$DA$18,2,FALSE)),\"\")","v":""},null,null,null,null,null,null,null,null,null,null,null,null,null,null,null,null,null,null,null,null,null,null,null,"1","2"]
[null,{"$f":"IFERROR(IF(A228=\"\",\"\",VLOOKUP(A228,'Lista Psychotropy Wet'!$A$2:$B$100,2,FALSE)),\"\")","v":""},{"$f":"IFERROR(IF(A228=\"\",\"\",HLOOKUP(A228,'Lista Psychotropy Wet'!$H$34:$DA$37,2,FALSE)),\"\")","v":""},{"$f":"IFERROR(IF(A228=\"\",\"\",HLOOKUP(A228,'Lista Psychotropy Wet'!$H$1:$DA$7,2,FALSE)),\"\")","v":""},{"$f":"IFERROR(IF(A228=\"\",\"\",HLOOKUP(A228,'Lista Psychotropy Wet'!$H$13:$DA$18,2,FALSE)),\"\")","v":""},null,null,null,null,null,null,null,null,null,null,null,null,null,null,null,null,null,null,null,null,null,null,null,"1","2"]
[null,{"$f":"IFERROR(IF(A229=\"\",\"\",VLOOKUP(A229,'Lista Psychotropy Wet'!$A$2:$B$100,2,FALSE)),\"\")","v":""},{"$f":"IFERROR(IF(A229=\"\",\"\",HLOOKUP(A229,'Lista Psychotropy Wet'!$H$34:$DA$37,2,FALSE)),\"\")","v":""},{"$f":"IFERROR(IF(A229=\"\",\"\",HLOOKUP(A229,'Lista Psychotropy Wet'!$H$1:$DA$7,2,FALSE)),\"\")","v":""},{"$f":"IFERROR(IF(A229=\"\",\"\",HLOOKUP(A229,'Lista Psychotropy Wet'!$H$13:$DA$18,2,FALSE)),\"\")","v":""},null,null,null,null,null,null,null,null,null,null,null,null,null,null,null,null,null,null,null,null,null,null,null,"1","2"]
[null,{"$f":"IFERROR(IF(A230=\"\",\"\",VLOOKUP(A230,'Lista Psychotropy Wet'!$A$2:$B$100,2,FALSE)),\"\")","v":""},{"$f":"IFERROR(IF(A230=\"\",\"\",HLOOKUP(A230,'Lista Psychotropy Wet'!$H$34:$DA$37,2,FALSE)),\"\")","v":""},{"$f":"IFERROR(IF(A230=\"\",\"\",HLOOKUP(A230,'Lista Psychotropy Wet'!$H$1:$DA$7,2,FALSE)),\"\")","v":""},{"$f":"IFERROR(IF(A230=\"\",\"\",HLOOKUP(A230,'Lista Psychotropy Wet'!$H$13:$DA$18,2,FALSE)),\"\")","v":""},null,null,null,null,null,null,null,null,null,null,null,null,null,null,null,null,null,null,null,null,null,null,null,"1","2"]
[null,{"$f":"IFERROR(IF(A231=\"\",\"\",VLOOKUP(A231,'Lista Psychotropy Wet'!$A$2:$B$100,2,FALSE)),\"\")","v":""},{"$f":"IFERROR(IF(A231=\"\",\"\",HLOOKUP(A231,'Lista Psychotropy Wet'!$H$34:$DA$37,2,FALSE)),\"\")","v":""},{"$f":"IFERROR(IF(A231=\"\",\"\",HLOOKUP(A231,'Lista Psychotropy Wet'!$H$1:$DA$7,2,FALSE)),\"\")","v":""},{"$f":"IFERROR(IF(A231=\"\",\"\",HLOOKUP(A231,'Lista Psychotropy Wet'!$H$13:$DA$18,2,FALSE)),\"\")","v":""},null,null,null,null,null,null,null,null,null,null,null,null,null,null,null,null,null,null,null,null,null,null,null,"1","2"]
[null,{"$f":"IFERROR(IF(A232=\"\",\"\",VLOOKUP(A232,'Lista Psychotropy Wet'!$A$2:$B$100,2,FALSE)),\"\")","v":""},{"$f":"IFERROR(IF(A232=\"\",\"\",HLOOKUP(A232,'Lista Psychotropy Wet'!$H$34:$DA$37,2,FALSE)),\"\")","v":""},{"$f":"IFERROR(IF(A232=\"\",\"\",HLOOKUP(A232,'Lista Psychotropy Wet'!$H$1:$DA$7,2,FALSE)),\"\")","v":""},{"$f":"IFERROR(IF(A232=\"\",\"\",HLOOKUP(A232,'Lista Psychotropy Wet'!$H$13:$DA$18,2,FALSE)),\"\")","v":""},null,null,null,null,null,null,null,null,null,null,null,null,null,null,null,null,null,null,null,null,null,null,null,"1","2"]
[null,{"$f":"IFERROR(IF(A233=\"\",\"\",VLOOKUP(A233,'Lista Psychotropy Wet'!$A$2:$B$100,2,FALSE)),\"\")","v":""},{"$f":"IFERROR(IF(A233=\"\",\"\",HLOOKUP(A233,'Lista Psychotropy Wet'!$H$34:$DA$37,2,FALSE)),\"\")","v":""},{"$f":"IFERROR(IF(A233=\"\",\"\",HLOOKUP(A233,'Lista Psychotropy Wet'!$H$1:$DA$7,2,FALSE)),\"\")","v":""},{"$f":"IFERROR(IF(A233=\"\",\"\",HLOOKUP(A233,'Lista Psychotropy Wet'!$H$13:$DA$18,2,FALSE)),\"\")","v":""},null,null,null,null,null,null,null,null,null,null,null,null,null,null,null,null,null,null,null,null,null,null,null,"1","2"]
[null,{"$f":"IFERROR(IF(A234=\"\",\"\",VLOOKUP(A234,'Lista Psychotropy Wet'!$A$2:$B$100,2,FALSE)),\"\")","v":""},{"$f":"IFERROR(IF(A234=\"\",\"\",HLOOKUP(A234,'Lista Psychotropy Wet'!$H$34:$DA$37,2,FALSE)),\"\")","v":""},{"$f":"IFERROR(IF(A234=\"\",\"\",HLOOKUP(A234,'Lista Psychotropy Wet'!$H$1:$DA$7,2,FALSE)),\"\")","v":""},{"$f":"IFERROR(IF(A234=\"\",\"\",HLOOKUP(A234,'Lista Psychotropy Wet'!$H$13:$DA$18,2,FALSE)),\"\")","v":""},null,null,null,null,null,null,null,null,null,null,null,null,null,null,null,null,null,null,null,null,null,null,null,"1","2"]
[null,{"$f":"IFERROR(IF(A235=\"\",\"\",VLOOKUP(A235,'Lista Psychotropy Wet'!$A$2:$B$100,2,FALSE)),\"\")","v":""},{"$f":"IFERROR(IF(A235=\"\",\"\",HLOOKUP(A235,'Lista Psychotropy Wet'!$H$34:$DA$37,2,FALSE)),\"\")","v":""},{"$f":"IFERROR(IF(A235=\"\",\"\",HLOOKUP(A235,'Lista Psychotropy Wet'!$H$1:$DA$7,2,FALSE)),\"\")","v":""},{"$f":"IFERROR(IF(A235=\"\",\"\",HLOOKUP(A235,'Lista Psychotropy Wet'!$H$13:$DA$18,2,FALSE)),\"\")","v":""},null,null,null,null,null,null,null,null,null,null,null,null,null,null,null,null,null,null,null,null,null,null,null,"1","2"]
[null,{"$f":"IFERROR(IF(A236=\"\",\"\",VLOOKUP(A236,'Lista Psychotropy Wet'!$A$2:$B$100,2,FALSE)),\"\")","v":""},{"$f":"IFERROR(IF(A236=\"\",\"\",HLOOKUP(A236,'Lista Psychotropy Wet'!$H$34:$DA$37,2,FALSE)),\"\")","v":""},{"$f":"IFERROR(IF(A236=\"\",\"\",HLOOKUP(A236,'Lista Psychotropy Wet'!$H$1:$DA$7,2,FALSE)),\"\")","v":""},{"$f":"IFERROR(IF(A236=\"\",\"\",HLOOKUP(A236,'Lista Psychotropy Wet'!$H$13:$DA$18,2,FALSE)),\"\")","v":""},null,null,null,null,null,null,null,null,null,null,null,null,null,null,null,null,null,null,null,null,null,null,null,"1","2"]
[null,{"$f":"IFERROR(IF(A237=\"\",\"\",VLOOKUP(A237,'Lista Psychotropy Wet'!$A$2:$B$100,2,FALSE)),\"\")","v":""},{"$f":"IFERROR(IF(A237=\"\",\"\",HLOOKUP(A237,'Lista Psychotropy Wet'!$H$34:$DA$37,2,FALSE)),\"\")","v":""},{"$f":"IFERROR(IF(A237=\"\",\"\",HLOOKUP(A237,'Lista Psychotropy Wet'!$H$1:$DA$7,2,FALSE)),\"\")","v":""},{"$f":"IFERROR(IF(A237=\"\",\"\",HLOOKUP(A237,'Lista Psychotropy Wet'!$H$13:$DA$18,2,FALSE)),\"\")","v":""},null,null,null,null,null,null,null,null,null,null,null,null,null,null,null,null,null,null,null,null,null,null,null,"1","2"]
[null,{"$f":"IFERROR(IF(A238=\"\",\"\",VLOOKUP(A238,'Lista Psychotropy Wet'!$A$2:$B$100,2,FALSE)),\"\")","v":""},{"$f":"IFERROR(IF(A238=\"\",\"\",HLOOKUP(A238,'Lista Psychotropy Wet'!$H$34:$DA$37,2,FALSE)),\"\")","v":""},{"$f":"IFERROR(IF(A238=\"\",\"\",HLOOKUP(A238,'Lista Psychotropy Wet'!$H$1:$DA$7,2,FALSE)),\"\")","v":""},{"$f":"IFERROR(IF(A238=\"\",\"\",HLOOKUP(A238,'Lista Psychotropy Wet'!$H$13:$DA$18,2,FALSE)),\"\")","v":""},null,null,null,null,null,null,null,null,null,null,null,null,null,null,null,null,null,null,null,null,null,null,null,"1","2"]
[null,{"$f":"IFERROR(IF(A239=\"\",\"\",VLOOKUP(A239,'Lista Psychotropy Wet'!$A$2:$B$100,2,FALSE)),\"\")","v":""},{"$f":"IFERROR(IF(A239=\"\",\"\",HLOOKUP(A239,'Lista Psychotropy Wet'!$H$34:$DA$37,2,FALSE)),\"\")","v":""},{"$f":"IFERROR(IF(A239=\"\",\"\",HLOOKUP(A239,'Lista Psychotropy Wet'!$H$1:$DA$7,2,FALSE)),\"\")","v":""},{"$f":"IFERROR(IF(A239=\"\",\"\",HLOOKUP(A239,'Lista Psychotropy Wet'!$H$13:$DA$18,2,FALSE)),\"\")","v":""},null,null,null,null,null,null,null,null,null,null,null,null,null,null,null,null,null,null,null,null,null,null,null,"1","2"]
[null,{"$f":"IFERROR(IF(A240=\"\",\"\",VLOOKUP(A240,'Lista Psychotropy Wet'!$A$2:$B$100,2,FALSE)),\"\")","v":""},{"$f":"IFERROR(IF(A240=\"\",\"\",HLOOKUP(A240,'Lista Psychotropy Wet'!$H$34:$DA$37,2,FALSE)),\"\")","v":""},{"$f":"IFERROR(IF(A240=\"\",\"\",HLOOKUP(A240,'Lista Psychotropy Wet'!$H$1:$DA$7,2,FALSE)),\"\")","v":""},{"$f":"IFERROR(IF(A240=\"\",\"\",HLOOKUP(A240,'Lista Psychotropy Wet'!$H$13:$DA$18,2,FALSE)),\"\")","v":""},null,null,null,null,null,null,null,null,null,null,null,null,null,null,null,null,null,null,null,null,null,null,null,"1","2"]
[null,{"$f":"IFERROR(IF(A241=\"\",\"\",VLOOKUP(A241,'Lista Psychotropy Wet'!$A$2:$B$100,2,FALSE)),\"\")","v":""},{"$f":"IFERROR(IF(A241=\"\",\"\",HLOOKUP(A241,'Lista Psychotropy Wet'!$H$34:$DA$37,2,FALSE)),\"\")","v":""},{"$f":"IFERROR(IF(A241=\"\",\"\",HLOOKUP(A241,'Lista Psychotropy Wet'!$H$1:$DA$7,2,FALSE)),\"\")","v":""},{"$f":"IFERROR(IF(A241=\"\",\"\",HLOOKUP(A241,'Lista Psychotropy Wet'!$H$13:$DA$18,2,FALSE)),\"\")","v":""},null,null,null,null,null,null,null,null,null,null,null,null,null,null,null,null,null,null,null,null,null,null,null,"1","2"]
[null,{"$f":"IFERROR(IF(A242=\"\",\"\",VLOOKUP(A242,'Lista Psychotropy Wet'!$A$2:$B$100,2,FALSE)),\"\")","v":""},{"$f":"IFERROR(IF(A242=\"\",\"\",HLOOKUP(A242,'Lista Psychotropy Wet'!$H$34:$DA$37,2,FALSE)),\"\")","v":""},{"$f":"IFERROR(IF(A242=\"\",\"\",HLOOKUP(A242,'Lista Psychotropy Wet'!$H$1:$DA$7,2,FALSE)),\"\")","v":""},{"$f":"IFERROR(IF(A242=\"\",\"\",HLOOKUP(A242,'Lista Psychotropy Wet'!$H$13:$DA$18,2,FALSE)),\"\")","v":""},null,null,null,null,null,null,null,null,null,null,null,null,null,null,null,null,null,null,null,null,null,null,null,"1","2"]
[null,{"$f":"IFERROR(IF(A243=\"\",\"\",VLOOKUP(A243,'Lista Psychotropy Wet'!$A$2:$B$100,2,FALSE)),\"\")","v":""},{"$f":"IFERROR(IF(A243=\"\",\"\",HLOOKUP(A243,'Lista Psychotropy Wet'!$H$34:$DA$37,2,FALSE)),\"\")","v":""},{"$f":"IFERROR(IF(A243=\"\",\"\",HLOOKUP(A243,'Lista Psychotropy Wet'!$H$1:$DA$7,2,FALSE)),\"\")","v":""},{"$f":"IFERROR(IF(A243=\"\",\"\",HLOOKUP(A243,'Lista Psychotropy Wet'!$H$13:$DA$18,2,FALSE)),\"\")","v":""},null,null,null,null,null,null,null,null,null,null,null,null,null,null,null,null,null,null,null,null,null,null,null,"1","2"]
[null,{"$f":"IFERROR(IF(A244=\"\",\"\",VLOOKUP(A244,'Lista Psychotropy Wet'!$A$2:$B$100,2,FALSE)),\"\")","v":""},{"$f":"IFERROR(IF(A244=\"\",\"\",HLOOKUP(A244,'Lista Psychotropy Wet'!$H$34:$DA$37,2,FALSE)),\"\")","v":""},{"$f":"IFERROR(IF(A244=\"\",\"\",HLOOKUP(A244,'Lista Psychotropy Wet'!$H$1:$DA$7,2,FALSE)),\"\")","v":""},{"$f":"IFERROR(IF(A244=\"\",\"\",HLOOKUP(A244,'Lista Psychotropy Wet'!$H$13:$DA$18,2,FALSE)),\"\")","v":""},null,null,null,null,null,null,null,null,null,null,null,null,null,null,null,null,null,null,null,null,null,null,null,"1","2"]
[null,{"$f":"IFERROR(IF(A245=\"\",\"\",VLOOKUP(A245,'Lista Psychotropy Wet'!$A$2:$B$100,2,FALSE)),\"\")","v":""},{"$f":"IFERROR(IF(A245=\"\",\"\",HLOOKUP(A245,'Lista Psychotropy Wet'!$H$34:$DA$37,2,FALSE)),\"\")","v":""},{"$f":"IFERROR(IF(A245=\"\",\"\",HLOOKUP(A245,'Lista Psychotropy Wet'!$H$1:$DA$7,2,FALSE)),\"\")","v":""},{"$f":"IFERROR(IF(A245=\"\",\"\",HLOOKUP(A245,'Lista Psychotropy Wet'!$H$13:$DA$18,2,FALSE)),\"\")","v":""},null,null,null,null,null,null,null,null,null,null,null,null,null,null,null,null,null,null,null,null,null,null,null,"1","2"]
[null,{"$f":"IFERROR(IF(A246=\"\",\"\",VLOOKUP(A246,'Lista Psychotropy Wet'!$A$2:$B$100,2,FALSE)),\"\")","v":""},{"$f":"IFERROR(IF(A246=\"\",\"\",HLOOKUP(A246,'Lista Psychotropy Wet'!$H$34:$DA$37,2,FALSE)),\"\")","v":""},{"$f":"IFERROR(IF(A246=\"\",\"\",HLOOKUP(A246,'Lista Psychotropy Wet'!$H$1:$DA$7,2,FALSE)),\"\")","v":""},{"$f":"IFERROR(IF(A246=\"\",\"\",HLOOKUP(A246,'Lista Psychotropy Wet'!$H$13:$DA$18,2,FALSE)),\"\")","v":""},null,null,null,null,null,null,null,null,null,null,null,null,null,null,null,null,null,null,null,null,null,null,null,"1","2"]
[null,{"$f":"IFERROR(IF(A247=\"\",\"\",VLOOKUP(A247,'Lista Psychotropy Wet'!$A$2:$B$100,2,FALSE)),\"\")","v":""},{"$f":"IFERROR(IF(A247=\"\",\"\",HLOOKUP(A247,'Lista Psychotropy Wet'!$H$34:$DA$37,2,FALSE)),\"\")","v":""},{"$f":"IFERROR(IF(A247=\"\",\"\",HLOOKUP(A247,'Lista Psychotropy Wet'!$H$1:$DA$7,2,FALSE)),\"\")","v":""},{"$f":"IFERROR(IF(A247=\"\",\"\",HLOOKUP(A247,'Lista Psychotropy Wet'!$H$13:$DA$18,2,FALSE)),\"\")","v":""},null,null,null,null,null,null,null,null,null,null,null,null,null,null,null,null,null,null,null,null,null,null,null,"1","2"]
[null,{"$f":"IFERROR(IF(A248=\"\",\"\",VLOOKUP(A248,'Lista Psychotropy Wet'!$A$2:$B$100,2,FALSE)),\"\")","v":""},{"$f":"IFERROR(IF(A248=\"\",\"\",HLOOKUP(A248,'Lista Psychotropy Wet'!$H$34:$DA$37,2,FALSE)),\"\")","v":""},{"$f":"IFERROR(IF(A248=\"\",\"\",HLOOKUP(A248,'Lista Psychotropy Wet'!$H$1:$DA$7,2,FALSE)),\"\")","v":""},{"$f":"IFERROR(IF(A248=\"\",\"\",HLOOKUP(A248,'Lista Psychotropy Wet'!$H$13:$DA$18,2,FALSE)),\"\")","v":""},null,null,null,null,null,null,null,null,null,null,null,null,null,null,null,null,null,null,null,null,null,null,null,"1","2"]
[null,{"$f":"IFERROR(IF(A249=\"\",\"\",VLOOKUP(A249,'Lista Psychotropy Wet'!$A$2:$B$100,2,FALSE)),\"\")","v":""},{"$f":"IFERROR(IF(A249=\"\",\"\",HLOOKUP(A249,'Lista Psychotropy Wet'!$H$34:$DA$37,2,FALSE)),\"\")","v":""},{"$f":"IFERROR(IF(A249=\"\",\"\",HLOOKUP(A249,'Lista Psychotropy Wet'!$H$1:$DA$7,2,FALSE)),\"\")","v":""},{"$f":"IFERROR(IF(A249=\"\",\"\",HLOOKUP(A249,'Lista Psychotropy Wet'!$H$13:$DA$18,2,FALSE)),\"\")","v":""},null,null,null,null,null,null,null,null,null,null,null,null,null,null,null,null,null,null,null,null,null,null,null,"1","2"]
[null,{"$f":"IFERROR(IF(A250=\"\",\"\",VLOOKUP(A250,'Lista Psychotropy Wet'!$A$2:$B$100,2,FALSE)),\"\")","v":""},{"$f":"IFERROR(IF(A250=\"\",\"\",HLOOKUP(A250,'Lista Psychotropy Wet'!$H$34:$DA$37,2,FALSE)),\"\")","v":""},{"$f":"IFERROR(IF(A250=\"\",\"\",HLOOKUP(A250,'Lista Psychotropy Wet'!$H$1:$DA$7,2,FALSE)),\"\")","v":""},{"$f":"IFERROR(IF(A250=\"\",\"\",HLOOKUP(A250,'Lista Psychotropy Wet'!$H$13:$DA$18,2,FALSE)),\"\")","v":""},null,null,null,null,null,null,null,null,null,null,null,null,null,null,null,null,null,null,null,null,null,null,null,"1","2"]

{"sheet":"Psychotropy Hurt","index":32,"n_rows":250,"n_cols":30,"rows_kept":250,"cut":false,"hidden":true,"merged":[[4,0,5,15],[6,5,8,5],[6,6,6,8],[6,9,6,13],[6,14,8,14],[6,15,8,15],[7,6,7,7],[7,8,8,8],[7,13,8,13],[7,9,7,12],[6,0,6,4],[7,0,8,0],[7,1,8,1],[7,2,8,2],[7,3,8,3],[7,4,8,4]]}
[]
[]
[]
[]
["Roczne sprawozdanie z obrotu substancjami psychotropowymi"]
[]
["Informacje o produkcie",null,null,null,null,"Stan na dzień 01.01 okresu sprawozdawczego","Przychód",null,null,"Rozchód",null,null,null,null,"Utylizacja","Stan na dzień 31.12 okresu sprawozdawczego"]
["Nazwa handlowa produktu","Substancja czynna","Forma farmaceutyczna","Dawka jednostkowa w mg","Wielkość opakowania","Stan na dzień 01.01.2022","Ilość opakowań nabyta w kraju",null,"Wewnątrzwspólnotowe nabycie/przywóz","Ilość opakowań sprzedana w kraju",null,null,null,"Wewnątrzwspólnotowa dostawa/wywóz"]
[null,null,null,null,null,null,"Ilość opakowań nabyta od wytwórców","Ilość opakowań nabyta od hurtowni",null,"Ilość opakowań sprzedana do obrotu detalicznego","Ilość opakowań sprzedana do hurtowni","Ilość opakowań sprzedana do instytucji medycznych","Inna sprzedaż krajowa",null,null,"Stan na dzień 31.12.2022"]
[null,{"$f":"IFERROR(IF(A10=\"\",\"\",VLOOKUP(A10,'Lista Psychotropy'!$A$2:$B$98,2,FALSE)),\"\")","v":""},{"$f":"IFERROR(IF(A10=\"\",\"\",HLOOKUP(A10,'Lista Psychotropy'!$H$34:$CY$37,2,FALSE)),\"\")","v":""},{"$f":"IFERROR(IF(A10=\"\",\"\",HLOOKUP(A10,'Lista Psychotropy'!$H$1:$CY$7,2,FALSE)),\"\")","v":""},{"$f":"IFERROR(IF(A10=\"\",\"\",HLOOKUP(A10,'Lista Psychotropy'!$H$13:$CY$18,2,FALSE)),\"\")","v":""},null,null,null,null,null,null,null,null,null,null,null,null,null,null,null,null,null,null,null,null,null,null,null,{"$f":"A10&1","v":"1"},{"$f":"A10&2","v":"2"}]
[null,{"$f":"IFERROR(IF(A11=\"\",\"\",VLOOKUP(A11,'Lista Psychotropy'!$A$2:$B$98,2,FALSE)),\"\")","v":""},{"$f":"IFERROR(IF(A11=\"\",\"\",HLOOKUP(A11,'Lista Psychotropy'!$H$34:$CY$37,2,FALSE)),\"\")","v":""},{"$f":"IFERROR(IF(A11=\"\",\"\",HLOOKUP(A11,'Lista Psychotropy'!$H$1:$CY$7,2,FALSE)),\"\")","v":""},{"$f":"IFERROR(IF(A11=\"\",\"\",HLOOKUP(A11,'Lista Psychotropy'!$H$13:$CY$18,2,FALSE)),\"\")","v":""},null,null,null,null,null,null,null,null,null,null,null,null,null,null,null,null,null,null,null,null,null,null,null,"1","2"]
[null,{"$f":"IFERROR(IF(A12=\"\",\"\",VLOOKUP(A12,'Lista Psychotropy'!$A$2:$B$98,2,FALSE)),\"\")","v":""},{"$f":"IFERROR(IF(A12=\"\",\"\",HLOOKUP(A12,'Lista Psychotropy'!$H$34:$CY$37,2,FALSE)),\"\")","v":""},{"$f":"IFERROR(IF(A12=\"\",\"\",HLOOKUP(A12,'Lista Psychotropy'!$H$1:$CY$7,2,FALSE)),\"\")","v":""},{"$f":"IFERROR(IF(A12=\"\",\"\",HLOOKUP(A12,'Lista Psychotropy'!$H$13:$CY$18,2,FALSE)),\"\")","v":""},null,null,null,null,null,null,null,null,null,null,null,null,null,null,null,null,null,null,null,null,null,null,null,"1","2"]
[null,{"$f":"IFERROR(IF(A13=\"\",\"\",VLOOKUP(A13,'Lista Psychotropy'!$A$2:$B$98,2,FALSE)),\"\")","v":""},{"$f":"IFERROR(IF(A13=\"\",\"\",HLOOKUP(A13,'Lista Psychotropy'!$H$34:$CY$37,2,FALSE)),\"\")","v":""},{"$f":"IFERROR(IF(A13=\"\",\"\",HLOOKUP(A13,'Lista Psychotropy'!$H$1:$CY$7,2,FALSE)),\"\")","v":""},{"$f":"IFERROR(IF(A13=\"\",\"\",HLOOKUP(A13,'Lista Psychotropy'!$H$13:$CY$18,2,FALSE)),\"\")","v":""},null,null,null,null,null,null,null,null,null,null,null,null,null,null,null,null,null,null,null,null,null,null,null,"1","2"]
[null,{"$f":"IFERROR(IF(A14=\"\",\"\",VLOOKUP(A14,'Lista Psychotropy'!$A$2:$B$98,2,FALSE)),\"\")","v":""},{"$f":"IFERROR(IF(A14=\"\",\"\",HLOOKUP(A14,'Lista Psychotropy'!$H$34:$CY$37,2,FALSE)),\"\")","v":""},{"$f":"IFERROR(IF(A14=\"\",\"\",HLOOKUP(A14,'Lista Psychotropy'!$H$1:$CY$7,2,FALSE)),\"\")","v":""},{"$f":"IFERROR(IF(A14=\"\",\"\",HLOOKUP(A14,'Lista Psychotropy'!$H$13:$CY$18,2,FALSE)),\"\")","v":""},null,null,null,null,null,null,null,null,null,null,null,null,null,null,null,null,null,null,null,null,null,null,null,"1","2"]
[null,{"$f":"IFERROR(IF(A15=\"\",\"\",VLOOKUP(A15,'Lista Psychotropy'!$A$2:$B$98,2,FALSE)),\"\")","v":""},{"$f":"IFERROR(IF(A15=\"\",\"\",HLOOKUP(A15,'Lista Psychotropy'!$H$34:$CY$37,2,FALSE)),\"\")","v":""},{"$f":"IFERROR(IF(A15=\"\",\"\",HLOOKUP(A15,'Lista Psychotropy'!$H$1:$CY$7,2,FALSE)),\"\")","v":""},{"$f":"IFERROR(IF(A15=\"\",\"\",HLOOKUP(A15,'Lista Psychotropy'!$H$13:$CY$18,2,FALSE)),\"\")","v":""},null,null,null,null,null,null,null,null,null,null,null,null,null,null,null,null,null,null,null,null,null,null,null,"1","2"]
[null,{"$f":"IFERROR(IF(A16=\"\",\"\",VLOOKUP(A16,'Lista Psychotropy'!$A$2:$B$98,2,FALSE)),\"\")","v":""},{"$f":"IFERROR(IF(A16=\"\",\"\",HLOOKUP(A16,'Lista Psychotropy'!$H$34:$CY$37,2,FALSE)),\"\")","v":""},{"$f":"IFERROR(IF(A16=\"\",\"\",HLOOKUP(A16,'Lista Psychotropy'!$H$1:$CY$7,2,FALSE)),\"\")","v":""},{"$f":"IFERROR(IF(A16=\"\",\"\",HLOOKUP(A16,'Lista Psychotropy'!$H$13:$CY$18,2,FALSE)),\"\")","v":""},null,null,null,null,null,null,null,null,null,null,null,null,null,null,null,null,null,null,null,null,null,null,null,"1","2"]
[null,{"$f":"IFERROR(IF(A17=\"\",\"\",VLOOKUP(A17,'Lista Psychotropy'!$A$2:$B$98,2,FALSE)),\"\")","v":""},{"$f":"IFERROR(IF(A17=\"\",\"\",HLOOKUP(A17,'Lista Psychotropy'!$H$34:$CY$37,2,FALSE)),\"\")","v":""},{"$f":"IFERROR(IF(A17=\"\",\"\",HLOOKUP(A17,'Lista Psychotropy'!$H$1:$CY$7,2,FALSE)),\"\")","v":""},{"$f":"IFERROR(IF(A17=\"\",\"\",HLOOKUP(A17,'Lista Psychotropy'!$H$13:$CY$18,2,FALSE)),\"\")","v":""},null,null,null,null,null,null,null,null,null,null,null,null,null,null,null,null,null,null,null,null,null,null,null,"1","2"]
[null,{"$f":"IFERROR(IF(A18=\"\",\"\",VLOOKUP(A18,'Lista Psychotropy'!$A$2:$B$98,2,FALSE)),\"\")","v":""},{"$f":"IFERROR(IF(A18=\"\",\"\",HLOOKUP(A18,'Lista Psychotropy'!$H$34:$CY$37,2,FALSE)),\"\")","v":""},{"$f":"IFERROR(IF(A18=\"\",\"\",HLOOKUP(A18,'Lista Psychotropy'!$H$1:$CY$7,2,FALSE)),\"\")","v":""},{"$f":"IFERROR(IF(A18=\"\",\"\",HLOOKUP(A18,'Lista Psychotropy'!$H$13:$CY$18,2,FALSE)),\"\")","v":""},null,null,null,null,null,null,null,null,null,null,null,null,null,null,null,null,null,null,null,null,null,null,null,"1","2"]
[null,{"$f":"IFERROR(IF(A19=\"\",\"\",VLOOKUP(A19,'Lista Psychotropy'!$A$2:$B$98,2,FALSE)),\"\")","v":""},{"$f":"IFERROR(IF(A19=\"\",\"\",HLOOKUP(A19,'Lista Psychotropy'!$H$34:$CY$37,2,FALSE)),\"\")","v":""},{"$f":"IFERROR(IF(A19=\"\",\"\",HLOOKUP(A19,'Lista Psychotropy'!$H$1:$CY$7,2,FALSE)),\"\")","v":""},{"$f":"IFERROR(IF(A19=\"\",\"\",HLOOKUP(A19,'Lista Psychotropy'!$H$13:$CY$18,2,FALSE)),\"\")","v":""},null,null,null,null,null,null,null,null,null,null,null,null,null,null,null,null,null,null,null,null,null,null,null,"1","2"]
[null,{"$f":"IFERROR(IF(A20=\"\",\"\",VLOOKUP(A20,'Lista Psychotropy'!$A$2:$B$98,2,FALSE)),\"\")","v":""},{"$f":"IFERROR(IF(A20=\"\",\"\",HLOOKUP(A20,'Lista Psychotropy'!$H$34:$CY$37,2,FALSE)),\"\")","v":""},{"$f":"IFERROR(IF(A20=\"\",\"\",HLOOKUP(A20,'Lista Psychotropy'!$H$1:$CY$7,2,FALSE)),\"\")","v":""},{"$f":"IFERROR(IF(A20=\"\",\"\",HLOOKUP(A20,'Lista Psychotropy'!$H$13:$CY$18,2,FALSE)),\"\")","v":""},null,null,null,null,null,null,null,null,null,null,null,null,null,null,null,null,null,null,null,null,null,null,null,"1","2"]
[null,{"$f":"IFERROR(IF(A21=\"\",\"\",VLOOKUP(A21,'Lista Psychotropy'!$A$2:$B$98,2,FALSE)),\"\")","v":""},{"$f":"IFERROR(IF(A21=\"\",\"\",HLOOKUP(A21,'Lista Psychotropy'!$H$34:$CY$37,2,FALSE)),\"\")","v":""},{"$f":"IFERROR(IF(A21=\"\",\"\",HLOOKUP(A21,'Lista Psychotropy'!$H$1:$CY$7,2,FALSE)),\"\")","v":""},{"$f":"IFERROR(IF(A21=\"\",\"\",HLOOKUP(A21,'Lista Psychotropy'!$H$13:$CY$18,2,FALSE)),\"\")","v":""},null,null,null,null,null,null,null,null,null,null,null,null,null,null,null,null,null,null,null,null,null,null,null,"1","2"]
[null,{"$f":"IFERROR(IF(A22=\"\",\"\",VLOOKUP(A22,'Lista Psychotropy'!$A$2:$B$98,2,FALSE)),\"\")","v":""},{"$f":"IFERROR(IF(A22=\"\",\"\",HLOOKUP(A22,'Lista Psychotropy'!$H$34:$CY$37,2,FALSE)),\"\")","v":""},{"$f":"IFERROR(IF(A22=\"\",\"\",HLOOKUP(A22,'Lista Psychotropy'!$H$1:$CY$7,2,FALSE)),\"\")","v":""},{"$f":"IFERROR(IF(A22=\"\",\"\",HLOOKUP(A22,'Lista Psychotropy'!$H$13:$CY$18,2,FALSE)),\"\")","v":""},null,null,null,null,null,null,null,null,null,null,null,null,null,null,null,null,null,null,null,null,null,null,null,"1","2"]
[null,{"$f":"IFERROR(IF(A23=\"\",\"\",VLOOKUP(A23,'Lista Psychotropy'!$A$2:$B$98,2,FALSE)),\"\")","v":""},{"$f":"IFERROR(IF(A23=\"\",\"\",HLOOKUP(A23,'Lista Psychotropy'!$H$34:$CY$37,2,FALSE)),\"\")","v":""},{"$f":"IFERROR(IF(A23=\"\",\"\",HLOOKUP(A23,'Lista Psychotropy'!$H$1:$CY$7,2,FALSE)),\"\")","v":""},{"$f":"IFERROR(IF(A23=\"\",\"\",HLOOKUP(A23,'Lista Psychotropy'!$H$13:$CY$18,2,FALSE)),\"\")","v":""},null,null,null,null,null,null,null,null,null,null,null,null,null,null,null,null,null,null,null,null,null,null,null,"1","2"]
[null,{"$f":"IFERROR(IF(A24=\"\",\"\",VLOOKUP(A24,'Lista Psychotropy'!$A$2:$B$98,2,FALSE)),\"\")","v":""},{"$f":"IFERROR(IF(A24=\"\",\"\",HLOOKUP(A24,'Lista Psychotropy'!$H$34:$CY$37,2,FALSE)),\"\")","v":""},{"$f":"IFERROR(IF(A24=\"\",\"\",HLOOKUP(A24,'Lista Psychotropy'!$H$1:$CY$7,2,FALSE)),\"\")","v":""},{"$f":"IFERROR(IF(A24=\"\",\"\",HLOOKUP(A24,'Lista Psychotropy'!$H$13:$CY$18,2,FALSE)),\"\")","v":""},null,null,null,null,null,null,null,null,null,null,null,null,null,null,null,null,null,null,null,null,null,null,null,"1","2"]
[null,{"$f":"IFERROR(IF(A25=\"\",\"\",VLOOKUP(A25,'Lista Psychotropy'!$A$2:$B$98,2,FALSE)),\"\")","v":""},{"$f":"IFERROR(IF(A25=\"\",\"\",HLOOKUP(A25,'Lista Psychotropy'!$H$34:$CY$37,2,FALSE)),\"\")","v":""},{"$f":"IFERROR(IF(A25=\"\",\"\",HLOOKUP(A25,'Lista Psychotropy'!$H$1:$CY$7,2,FALSE)),\"\")","v":""},{"$f":"IFERROR(IF(A25=\"\",\"\",HLOOKUP(A25,'Lista Psychotropy'!$H$13:$CY$18,2,FALSE)),\"\")","v":""},null,null,null,null,null,null,null,null,null,null,null,null,null,null,null,null,null,null,null,null,null,null,null,"1","2"]
[null,{"$f":"IFERROR(IF(A26=\"\",\"\",VLOOKUP(A26,'Lista Psychotropy'!$A$2:$B$98,2,FALSE)),\"\")","v":""},{"$f":"IFERROR(IF(A26=\"\",\"\",HLOOKUP(A26,'Lista Psychotropy'!$H$34:$CY$37,2,FALSE)),\"\")","v":""},{"$f":"IFERROR(IF(A26=\"\",\"\",HLOOKUP(A26,'Lista Psychotropy'!$H$1:$CY$7,2,FALSE)),\"\")","v":""},{"$f":"IFERROR(IF(A26=\"\",\"\",HLOOKUP(A26,'Lista Psychotropy'!$H$13:$CY$18,2,FALSE)),\"\")","v":""},null,null,null,null,null,null,null,null,null,null,null,null,null,null,null,null,null,null,null,null,null,null,null,"1","2"]
[null,{"$f":"IFERROR(IF(A27=\"\",\"\",VLOOKUP(A27,'Lista Psychotropy'!$A$2:$B$98,2,FALSE)),\"\")","v":""},{"$f":"IFERROR(IF(A27=\"\",\"\",HLOOKUP(A27,'Lista Psychotropy'!$H$34:$CY$37,2,FALSE)),\"\")","v":""},{"$f":"IFERROR(IF(A27=\"\",\"\",HLOOKUP(A27,'Lista Psychotropy'!$H$1:$CY$7,2,FALSE)),\"\")","v":""},{"$f":"IFERROR(IF(A27=\"\",\"\",HLOOKUP(A27,'Lista Psychotropy'!$H$13:$CY$18,2,FALSE)),\"\")","v":""},null,null,null,null,null,null,null,null,null,null,null,null,null,null,null,null,null,null,null,null,null,null,null,"1","2"]
[null,{"$f":"IFERROR(IF(A28=\"\",\"\",VLOOKUP(A28,'Lista Psychotropy'!$A$2:$B$98,2,FALSE)),\"\")","v":""},{"$f":"IFERROR(IF(A28=\"\",\"\",HLOOKUP(A28,'Lista Psychotropy'!$H$34:$CY$37,2,FALSE)),\"\")","v":""},{"$f":"IFERROR(IF(A28=\"\",\"\",HLOOKUP(A28,'Lista Psychotropy'!$H$1:$CY$7,2,FALSE)),\"\")","v":""},{"$f":"IFERROR(IF(A28=\"\",\"\",HLOOKUP(A28,'Lista Psychotropy'!$H$13:$CY$18,2,FALSE)),\"\")","v":""},null,null,null,null,null,null,null,null,null,null,null,null,null,null,null,null,null,null,null,null,null,null,null,"1","2"]
[null,{"$f":"IFERROR(IF(A29=\"\",\"\",VLOOKUP(A29,'Lista Psychotropy'!$A$2:$B$98,2,FALSE)),\"\")","v":""},{"$f":"IFERROR(IF(A29=\"\",\"\",HLOOKUP(A29,'Lista Psychotropy'!$H$34:$CY$37,2,FALSE)),\"\")","v":""},{"$f":"IFERROR(IF(A29=\"\",\"\",HLOOKUP(A29,'Lista Psychotropy'!$H$1:$CY$7,2,FALSE)),\"\")","v":""},{"$f":"IFERROR(IF(A29=\"\",\"\",HLOOKUP(A29,'Lista Psychotropy'!$H$13:$CY$18,2,FALSE)),\"\")","v":""},null,null,null,null,null,null,null,null,null,null,null,null,null,null,null,null,null,null,null,null,null,null,null,"1","2"]
[null,{"$f":"IFERROR(IF(A30=\"\",\"\",VLOOKUP(A30,'Lista Psychotropy'!$A$2:$B$98,2,FALSE)),\"\")","v":""},{"$f":"IFERROR(IF(A30=\"\",\"\",HLOOKUP(A30,'Lista Psychotropy'!$H$34:$CY$37,2,FALSE)),\"\")","v":""},{"$f":"IFERROR(IF(A30=\"\",\"\",HLOOKUP(A30,'Lista Psychotropy'!$H$1:$CY$7,2,FALSE)),\"\")","v":""},{"$f":"IFERROR(IF(A30=\"\",\"\",HLOOKUP(A30,'Lista Psychotropy'!$H$13:$CY$18,2,FALSE)),\"\")","v":""},null,null,null,null,null,null,null,null,null,null,null,null,null,null,null,null,null,null,null,null,null,null,null,"1","2"]
[null,{"$f":"IFERROR(IF(A31=\"\",\"\",VLOOKUP(A31,'Lista Psychotropy'!$A$2:$B$98,2,FALSE)),\"\")","v":""},{"$f":"IFERROR(IF(A31=\"\",\"\",HLOOKUP(A31,'Lista Psychotropy'!$H$34:$CY$37,2,FALSE)),\"\")","v":""},{"$f":"IFERROR(IF(A31=\"\",\"\",HLOOKUP(A31,'Lista Psychotropy'!$H$1:$CY$7,2,FALSE)),\"\")","v":""},{"$f":"IFERROR(IF(A31=\"\",\"\",HLOOKUP(A31,'Lista Psychotropy'!$H$13:$CY$18,2,FALSE)),\"\")","v":""},null,null,null,null,null,null,null,null,null,null,null,null,null,null,null,null,null,null,null,null,null,null,null,"1","2"]
[null,{"$f":"IFERROR(IF(A32=\"\",\"\",VLOOKUP(A32,'Lista Psychotropy'!$A$2:$B$98,2,FALSE)),\"\")","v":""},{"$f":"IFERROR(IF(A32=\"\",\"\",HLOOKUP(A32,'Lista Psychotropy'!$H$34:$CY$37,2,FALSE)),\"\")","v":""},{"$f":"IFERROR(IF(A32=\"\",\"\",HLOOKUP(A32,'Lista Psychotropy'!$H$1:$CY$7,2,FALSE)),\"\")","v":""},{"$f":"IFERROR(IF(A32=\"\",\"\",HLOOKUP(A32,'Lista Psychotropy'!$H$13:$CY$18,2,FALSE)),\"\")","v":""},null,null,null,null,null,null,null,null,null,null,null,null,null,null,null,null,null,null,null,null,null,null,null,"1","2"]
[null,{"$f":"IFERROR(IF(A33=\"\",\"\",VLOOKUP(A33,'Lista Psychotropy'!$A$2:$B$98,2,FALSE)),\"\")","v":""},{"$f":"IFERROR(IF(A33=\"\",\"\",HLOOKUP(A33,'Lista Psychotropy'!$H$34:$CY$37,2,FALSE)),\"\")","v":""},{"$f":"IFERROR(IF(A33=\"\",\"\",HLOOKUP(A33,'Lista Psychotropy'!$H$1:$CY$7,2,FALSE)),\"\")","v":""},{"$f":"IFERROR(IF(A33=\"\",\"\",HLOOKUP(A33,'Lista Psychotropy'!$H$13:$CY$18,2,FALSE)),\"\")","v":""},null,null,null,null,null,null,null,null,null,null,null,null,null,null,null,null,null,null,null,null,null,null,null,"1","2"]
[null,{"$f":"IFERROR(IF(A34=\"\",\"\",VLOOKUP(A34,'Lista Psychotropy'!$A$2:$B$98,2,FALSE)),\"\")","v":""},{"$f":"IFERROR(IF(A34=\"\",\"\",HLOOKUP(A34,'Lista Psychotropy'!$H$34:$CY$37,2,FALSE)),\"\")","v":""},{"$f":"IFERROR(IF(A34=\"\",\"\",HLOOKUP(A34,'Lista Psychotropy'!$H$1:$CY$7,2,FALSE)),\"\")","v":""},{"$f":"IFERROR(IF(A34=\"\",\"\",HLOOKUP(A34,'Lista Psychotropy'!$H$13:$CY$18,2,FALSE)),\"\")","v":""},null,null,null,null,null,null,null,null,null,null,null,null,null,null,null,null,null,null,null,null,null,null,null,"1","2"]
[null,{"$f":"IFERROR(IF(A35=\"\",\"\",VLOOKUP(A35,'Lista Psychotropy'!$A$2:$B$98,2,FALSE)),\"\")","v":""},{"$f":"IFERROR(IF(A35=\"\",\"\",HLOOKUP(A35,'Lista Psychotropy'!$H$34:$CY$37,2,FALSE)),\"\")","v":""},{"$f":"IFERROR(IF(A35=\"\",\"\",HLOOKUP(A35,'Lista Psychotropy'!$H$1:$CY$7,2,FALSE)),\"\")","v":""},{"$f":"IFERROR(IF(A35=\"\",\"\",HLOOKUP(A35,'Lista Psychotropy'!$H$13:$CY$18,2,FALSE)),\"\")","v":""},null,null,null,null,null,null,null,null,null,null,null,null,null,null,null,null,null,null,null,null,null,null,null,"1","2"]
[null,{"$f":"IFERROR(IF(A36=\"\",\"\",VLOOKUP(A36,'Lista Psychotropy'!$A$2:$B$98,2,FALSE)),\"\")","v":""},{"$f":"IFERROR(IF(A36=\"\",\"\",HLOOKUP(A36,'Lista Psychotropy'!$H$34:$CY$37,2,FALSE)),\"\")","v":""},{"$f":"IFERROR(IF(A36=\"\",\"\",HLOOKUP(A36,'Lista Psychotropy'!$H$1:$CY$7,2,FALSE)),\"\")","v":""},{"$f":"IFERROR(IF(A36=\"\",\"\",HLOOKUP(A36,'Lista Psychotropy'!$H$13:$CY$18,2,FALSE)),\"\")","v":""},null,null,null,null,null,null,null,null,null,null,null,null,null,null,null,null,null,null,null,null,null,null,null,"1","2"]
[null,{"$f":"IFERROR(IF(A37=\"\",\"\",VLOOKUP(A37,'Lista Psychotropy'!$A$2:$B$98,2,FALSE)),\"\")","v":""},{"$f":"IFERROR(IF(A37=\"\",\"\",HLOOKUP(A37,'Lista Psychotropy'!$H$34:$CY$37,2,FALSE)),\"\")","v":""},{"$f":"IFERROR(IF(A37=\"\",\"\",HLOOKUP(A37,'Lista Psychotropy'!$H$1:$CY$7,2,FALSE)),\"\")","v":""},{"$f":"IFERROR(IF(A37=\"\",\"\",HLOOKUP(A37,'Lista Psychotropy'!$H$13:$CY$18,2,FALSE)),\"\")","v":""},null,null,null,null,null,null,null,null,null,null,null,null,null,null,null,null,null,null,null,null,null,null,null,"1","2"]
[null,{"$f":"IFERROR(IF(A38=\"\",\"\",VLOOKUP(A38,'Lista Psychotropy'!$A$2:$B$98,2,FALSE)),\"\")","v":""},{"$f":"IFERROR(IF(A38=\"\",\"\",HLOOKUP(A38,'Lista Psychotropy'!$H$34:$CY$37,2,FALSE)),\"\")","v":""},{"$f":"IFERROR(IF(A38=\"\",\"\",HLOOKUP(A38,'Lista Psychotropy'!$H$1:$CY$7,2,FALSE)),\"\")","v":""},{"$f":"IFERROR(IF(A38=\"\",\"\",HLOOKUP(A38,'Lista Psychotropy'!$H$13:$CY$18,2,FALSE)),\"\")","v":""},null,null,null,null,null,null,null,null,null,null,null,null,null,null,null,null,null,null,null,null,null,null,null,"1","2"]
[null,{"$f":"IFERROR(IF(A39=\"\",\"\",VLOOKUP(A39,'Lista Psychotropy'!$A$2:$B$98,2,FALSE)),\"\")","v":""},{"$f":"IFERROR(IF(A39=\"\",\"\",HLOOKUP(A39,'Lista Psychotropy'!$H$34:$CY$37,2,FALSE)),\"\")","v":""},{"$f":"IFERROR(IF(A39=\"\",\"\",HLOOKUP(A39,'Lista Psychotropy'!$H$1:$CY$7,2,FALSE)),\"\")","v":""},{"$f":"IFERROR(IF(A39=\"\",\"\",HLOOKUP(A39,'Lista Psychotropy'!$H$13:$CY$18,2,FALSE)),\"\")","v":""},null,null,null,null,null,null,null,null,null,null,null,null,null,null,null,null,null,null,null,null,null,null,null,"1","2"]
[null,{"$f":"IFERROR(IF(A40=\"\",\"\",VLOOKUP(A40,'Lista Psychotropy'!$A$2:$B$98,2,FALSE)),\"\")","v":""},{"$f":"IFERROR(IF(A40=\"\",\"\",HLOOKUP(A40,'Lista Psychotropy'!$H$34:$CY$37,2,FALSE)),\"\")","v":""},{"$f":"IFERROR(IF(A40=\"\",\"\",HLOOKUP(A40,'Lista Psychotropy'!$H$1:$CY$7,2,FALSE)),\"\")","v":""},{"$f":"IFERROR(IF(A40=\"\",\"\",HLOOKUP(A40,'Lista Psychotropy'!$H$13:$CY$18,2,FALSE)),\"\")","v":""},null,null,null,null,null,null,null,null,null,null,null,null,null,null,null,null,null,null,null,null,null,null,null,"1","2"]
[null,{"$f":"IFERROR(IF(A41=\"\",\"\",VLOOKUP(A41,'Lista Psychotropy'!$A$2:$B$98,2,FALSE)),\"\")","v":""},{"$f":"IFERROR(IF(A41=\"\",\"\",HLOOKUP(A41,'Lista Psychotropy'!$H$34:$CY$37,2,FALSE)),\"\")","v":""},{"$f":"IFERROR(IF(A41=\"\",\"\",HLOOKUP(A41,'Lista Psychotropy'!$H$1:$CY$7,2,FALSE)),\"\")","v":""},{"$f":"IFERROR(IF(A41=\"\",\"\",HLOOKUP(A41,'Lista Psychotropy'!$H$13:$CY$18,2,FALSE)),\"\")","v":""},null,null,null,null,null,null,null,null,null,null,null,null,null,null,null,null,null,null,null,null,null,null,null,"1","2"]
[null,{"$f":"IFERROR(IF(A42=\"\",\"\",VLOOKUP(A42,'Lista Psychotropy'!$A$2:$B$98,2,FALSE)),\"\")","v":""},{"$f":"IFERROR(IF(A42=\"\",\"\",HLOOKUP(A42,'Lista Psychotropy'!$H$34:$CY$37,2,FALSE)),\"\")","v":""},{"$f":"IFERROR(IF(A42=\"\",\"\",HLOOKUP(A42,'Lista Psychotropy'!$H$1:$CY$7,2,FALSE)),\"\")","v":""},{"$f":"IFERROR(IF(A42=\"\",\"\",HLOOKUP(A42,'Lista Psychotropy'!$H$13:$CY$18,2,FALSE)),\"\")","v":""},null,null,null,null,null,null,null,null,null,null,null,null,null,null,null,null,null,null,null,null,null,null,null,"1","2"]
[null,{"$f":"IFERROR(IF(A43=\"\",\"\",VLOOKUP(A43,'Lista Psychotropy'!$A$2:$B$98,2,FALSE)),\"\")","v":""},{"$f":"IFERROR(IF(A43=\"\",\"\",HLOOKUP(A43,'Lista Psychotropy'!$H$34:$CY$37,2,FALSE)),\"\")","v":""},{"$f":"IFERROR(IF(A43=\"\",\"\",HLOOKUP(A43,'Lista Psychotropy'!$H$1:$CY$7,2,FALSE)),\"\")","v":""},{"$f":"IFERROR(IF(A43=\"\",\"\",HLOOKUP(A43,'Lista Psychotropy'!$H$13:$CY$18,2,FALSE)),\"\")","v":""},null,null,null,null,null,null,null,null,null,null,null,null,null,null,null,null,null,null,null,null,null,null,null,"1","2"]
[null,{"$f":"IFERROR(IF(A44=\"\",\"\",VLOOKUP(A44,'Lista Psychotropy'!$A$2:$B$98,2,FALSE)),\"\")","v":""},{"$f":"IFERROR(IF(A44=\"\",\"\",HLOOKUP(A44,'Lista Psychotropy'!$H$34:$CY$37,2,FALSE)),\"\")","v":""},{"$f":"IFERROR(IF(A44=\"\",\"\",HLOOKUP(A44,'Lista Psychotropy'!$H$1:$CY$7,2,FALSE)),\"\")","v":""},{"$f":"IFERROR(IF(A44=\"\",\"\",HLOOKUP(A44,'Lista Psychotropy'!$H$13:$CY$18,2,FALSE)),\"\")","v":""},null,null,null,null,null,null,null,null,null,null,null,null,null,null,null,null,null,null,null,null,null,null,null,"1","2"]
[null,{"$f":"IFERROR(IF(A45=\"\",\"\",VLOOKUP(A45,'Lista Psychotropy'!$A$2:$B$98,2,FALSE)),\"\")","v":""},{"$f":"IFERROR(IF(A45=\"\",\"\",HLOOKUP(A45,'Lista Psychotropy'!$H$34:$CY$37,2,FALSE)),\"\")","v":""},{"$f":"IFERROR(IF(A45=\"\",\"\",HLOOKUP(A45,'Lista Psychotropy'!$H$1:$CY$7,2,FALSE)),\"\")","v":""},{"$f":"IFERROR(IF(A45=\"\",\"\",HLOOKUP(A45,'Lista Psychotropy'!$H$13:$CY$18,2,FALSE)),\"\")","v":""},null,null,null,null,null,null,null,null,null,null,null,null,null,null,null,null,null,null,null,null,null,null,null,"1","2"]
[null,{"$f":"IFERROR(IF(A46=\"\",\"\",VLOOKUP(A46,'Lista Psychotropy'!$A$2:$B$98,2,FALSE)),\"\")","v":""},{"$f":"IFERROR(IF(A46=\"\",\"\",HLOOKUP(A46,'Lista Psychotropy'!$H$34:$CY$37,2,FALSE)),\"\")","v":""},{"$f":"IFERROR(IF(A46=\"\",\"\",HLOOKUP(A46,'Lista Psychotropy'!$H$1:$CY$7,2,FALSE)),\"\")","v":""},{"$f":"IFERROR(IF(A46=\"\",\"\",HLOOKUP(A46,'Lista Psychotropy'!$H$13:$CY$18,2,FALSE)),\"\")","v":""},null,null,null,null,null,null,null,null,null,null,null,null,null,null,null,null,null,null,null,null,null,null,null,"1","2"]
[null,{"$f":"IFERROR(IF(A47=\"\",\"\",VLOOKUP(A47,'Lista Psychotropy'!$A$2:$B$98,2,FALSE)),\"\")","v":""},{"$f":"IFERROR(IF(A47=\"\",\"\",HLOOKUP(A47,'Lista Psychotropy'!$H$34:$CY$37,2,FALSE)),\"\")","v":""},{"$f":"IFERROR(IF(A47=\"\",\"\",HLOOKUP(A47,'Lista Psychotropy'!$H$1:$CY$7,2,FALSE)),\"\")","v":""},{"$f":"IFERROR(IF(A47=\"\",\"\",HLOOKUP(A47,'Lista Psychotropy'!$H$13:$CY$18,2,FALSE)),\"\")","v":""},null,null,null,null,null,null,null,null,null,null,null,null,null,null,null,null,null,null,null,null,null,null,null,"1","2"]
[null,{"$f":"IFERROR(IF(A48=\"\",\"\",VLOOKUP(A48,'Lista Psychotropy'!$A$2:$B$98,2,FALSE)),\"\")","v":""},{"$f":"IFERROR(IF(A48=\"\",\"\",HLOOKUP(A48,'Lista Psychotropy'!$H$34:$CY$37,2,FALSE)),\"\")","v":""},{"$f":"IFERROR(IF(A48=\"\",\"\",HLOOKUP(A48,'Lista Psychotropy'!$H$1:$CY$7,2,FALSE)),\"\")","v":""},{"$f":"IFERROR(IF(A48=\"\",\"\",HLOOKUP(A48,'Lista Psychotropy'!$H$13:$CY$18,2,FALSE)),\"\")","v":""},null,null,null,null,null,null,null,null,null,null,null,null,null,null,null,null,null,null,null,null,null,null,null,"1","2"]
[null,{"$f":"IFERROR(IF(A49=\"\",\"\",VLOOKUP(A49,'Lista Psychotropy'!$A$2:$B$98,2,FALSE)),\"\")","v":""},{"$f":"IFERROR(IF(A49=\"\",\"\",HLOOKUP(A49,'Lista Psychotropy'!$H$34:$CY$37,2,FALSE)),\"\")","v":""},{"$f":"IFERROR(IF(A49=\"\",\"\",HLOOKUP(A49,'Lista Psychotropy'!$H$1:$CY$7,2,FALSE)),\"\")","v":""},{"$f":"IFERROR(IF(A49=\"\",\"\",HLOOKUP(A49,'Lista Psychotropy'!$H$13:$CY$18,2,FALSE)),\"\")","v":""},null,null,null,null,null,null,null,null,null,null,null,null,null,null,null,null,null,null,null,null,null,null,null,"1","2"]
[null,{"$f":"IFERROR(IF(A50=\"\",\"\",VLOOKUP(A50,'Lista Psychotropy'!$A$2:$B$98,2,FALSE)),\"\")","v":""},{"$f":"IFERROR(IF(A50=\"\",\"\",HLOOKUP(A50,'Lista Psychotropy'!$H$34:$CY$37,2,FALSE)),\"\")","v":""},{"$f":"IFERROR(IF(A50=\"\",\"\",HLOOKUP(A50,'Lista Psychotropy'!$H$1:$CY$7,2,FALSE)),\"\")","v":""},{"$f":"IFERROR(IF(A50=\"\",\"\",HLOOKUP(A50,'Lista Psychotropy'!$H$13:$CY$18,2,FALSE)),\"\")","v":""},null,null,null,null,null,null,null,null,null,null,null,null,null,null,null,null,null,null,null,null,null,null,null,"1","2"]
[null,{"$f":"IFERROR(IF(A51=\"\",\"\",VLOOKUP(A51,'Lista Psychotropy'!$A$2:$B$98,2,FALSE)),\"\")","v":""},{"$f":"IFERROR(IF(A51=\"\",\"\",HLOOKUP(A51,'Lista Psychotropy'!$H$34:$CY$37,2,FALSE)),\"\")","v":""},{"$f":"IFERROR(IF(A51=\"\",\"\",HLOOKUP(A51,'Lista Psychotropy'!$H$1:$CY$7,2,FALSE)),\"\")","v":""},{"$f":"IFERROR(IF(A51=\"\",\"\",HLOOKUP(A51,'Lista Psychotropy'!$H$13:$CY$18,2,FALSE)),\"\")","v":""},null,null,null,null,null,null,null,null,null,null,null,null,null,null,null,null,null,null,null,null,null,null,null,"1","2"]
[null,{"$f":"IFERROR(IF(A52=\"\",\"\",VLOOKUP(A52,'Lista Psychotropy'!$A$2:$B$98,2,FALSE)),\"\")","v":""},{"$f":"IFERROR(IF(A52=\"\",\"\",HLOOKUP(A52,'Lista Psychotropy'!$H$34:$CY$37,2,FALSE)),\"\")","v":""},{"$f":"IFERROR(IF(A52=\"\",\"\",HLOOKUP(A52,'Lista Psychotropy'!$H$1:$CY$7,2,FALSE)),\"\")","v":""},{"$f":"IFERROR(IF(A52=\"\",\"\",HLOOKUP(A52,'Lista Psychotropy'!$H$13:$CY$18,2,FALSE)),\"\")","v":""},null,null,null,null,null,null,null,null,null,null,null,null,null,null,null,null,null,null,null,null,null,null,null,"1","2"]
[null,{"$f":"IFERROR(IF(A53=\"\",\"\",VLOOKUP(A53,'Lista Psychotropy'!$A$2:$B$98,2,FALSE)),\"\")","v":""},{"$f":"IFERROR(IF(A53=\"\",\"\",HLOOKUP(A53,'Lista Psychotropy'!$H$34:$CY$37,2,FALSE)),\"\")","v":""},{"$f":"IFERROR(IF(A53=\"\",\"\",HLOOKUP(A53,'Lista Psychotropy'!$H$1:$CY$7,2,FALSE)),\"\")","v":""},{"$f":"IFERROR(IF(A53=\"\",\"\",HLOOKUP(A53,'Lista Psychotropy'!$H$13:$CY$18,2,FALSE)),\"\")","v":""},null,null,null,null,null,null,null,null,null,null,null,null,null,null,null,null,null,null,null,null,null,null,null,"1","2"]
[null,{"$f":"IFERROR(IF(A54=\"\",\"\",VLOOKUP(A54,'Lista Psychotropy'!$A$2:$B$98,2,FALSE)),\"\")","v":""},{"$f":"IFERROR(IF(A54=\"\",\"\",HLOOKUP(A54,'Lista Psychotropy'!$H$34:$CY$37,2,FALSE)),\"\")","v":""},{"$f":"IFERROR(IF(A54=\"\",\"\",HLOOKUP(A54,'Lista Psychotropy'!$H$1:$CY$7,2,FALSE)),\"\")","v":""},{"$f":"IFERROR(IF(A54=\"\",\"\",HLOOKUP(A54,'Lista Psychotropy'!$H$13:$CY$18,2,FALSE)),\"\")","v":""},null,null,null,null,null,null,null,null,null,null,null,null,null,null,null,null,null,null,null,null,null,null,null,"1","2"]
[null,{"$f":"IFERROR(IF(A55=\"\",\"\",VLOOKUP(A55,'Lista Psychotropy'!$A$2:$B$98,2,FALSE)),\"\")","v":""},{"$f":"IFERROR(IF(A55=\"\",\"\",HLOOKUP(A55,'Lista Psychotropy'!$H$34:$CY$37,2,FALSE)),\"\")","v":""},{"$f":"IFERROR(IF(A55=\"\",\"\",HLOOKUP(A55,'Lista Psychotropy'!$H$1:$CY$7,2,FALSE)),\"\")","v":""},{"$f":"IFERROR(IF(A55=\"\",\"\",HLOOKUP(A55,'Lista Psychotropy'!$H$13:$CY$18,2,FALSE)),\"\")","v":""},null,null,null,null,null,null,null,null,null,null,null,null,null,null,null,null,null,null,null,null,null,null,null,"1","2"]
[null,{"$f":"IFERROR(IF(A56=\"\",\"\",VLOOKUP(A56,'Lista Psychotropy'!$A$2:$B$98,2,FALSE)),\"\")","v":""},{"$f":"IFERROR(IF(A56=\"\",\"\",HLOOKUP(A56,'Lista Psychotropy'!$H$34:$CY$37,2,FALSE)),\"\")","v":""},{"$f":"IFERROR(IF(A56=\"\",\"\",HLOOKUP(A56,'Lista Psychotropy'!$H$1:$CY$7,2,FALSE)),\"\")","v":""},{"$f":"IFERROR(IF(A56=\"\",\"\",HLOOKUP(A56,'Lista Psychotropy'!$H$13:$CY$18,2,FALSE)),\"\")","v":""},null,null,null,null,null,null,null,null,null,null,null,null,null,null,null,null,null,null,null,null,null,null,null,"1","2"]
[null,{"$f":"IFERROR(IF(A57=\"\",\"\",VLOOKUP(A57,'Lista Psychotropy'!$A$2:$B$98,2,FALSE)),\"\")","v":""},{"$f":"IFERROR(IF(A57=\"\",\"\",HLOOKUP(A57,'Lista Psychotropy'!$H$34:$CY$37,2,FALSE)),\"\")","v":""},{"$f":"IFERROR(IF(A57=\"\",\"\",HLOOKUP(A57,'Lista Psychotropy'!$H$1:$CY$7,2,FALSE)),\"\")","v":""},{"$f":"IFERROR(IF(A57=\"\",\"\",HLOOKUP(A57,'Lista Psychotropy'!$H$13:$CY$18,2,FALSE)),\"\")","v":""},null,null,null,null,null,null,null,null,null,null,null,null,null,null,null,null,null,null,null,null,null,null,null,"1","2"]
[null,{"$f":"IFERROR(IF(A58=\"\",\"\",VLOOKUP(A58,'Lista Psychotropy'!$A$2:$B$98,2,FALSE)),\"\")","v":""},{"$f":"IFERROR(IF(A58=\"\",\"\",HLOOKUP(A58,'Lista Psychotropy'!$H$34:$CY$37,2,FALSE)),\"\")","v":""},{"$f":"IFERROR(IF(A58=\"\",\"\",HLOOKUP(A58,'Lista Psychotropy'!$H$1:$CY$7,2,FALSE)),\"\")","v":""},{"$f":"IFERROR(IF(A58=\"\",\"\",HLOOKUP(A58,'Lista Psychotropy'!$H$13:$CY$18,2,FALSE)),\"\")","v":""},null,null,null,null,null,null,null,null,null,null,null,null,null,null,null,null,null,null,null,null,null,null,null,"1","2"]
[null,{"$f":"IFERROR(IF(A59=\"\",\"\",VLOOKUP(A59,'Lista Psychotropy'!$A$2:$B$98,2,FALSE)),\"\")","v":""},{"$f":"IFERROR(IF(A59=\"\",\"\",HLOOKUP(A59,'Lista Psychotropy'!$H$34:$CY$37,2,FALSE)),\"\")","v":""},{"$f":"IFERROR(IF(A59=\"\",\"\",HLOOKUP(A59,'Lista Psychotropy'!$H$1:$CY$7,2,FALSE)),\"\")","v":""},{"$f":"IFERROR(IF(A59=\"\",\"\",HLOOKUP(A59,'Lista Psychotropy'!$H$13:$CY$18,2,FALSE)),\"\")","v":""},null,null,null,null,null,null,null,null,null,null,null,null,null,null,null,null,null,null,null,null,null,null,null,"1","2"]
[null,{"$f":"IFERROR(IF(A60=\"\",\"\",VLOOKUP(A60,'Lista Psychotropy'!$A$2:$B$98,2,FALSE)),\"\")","v":""},{"$f":"IFERROR(IF(A60=\"\",\"\",HLOOKUP(A60,'Lista Psychotropy'!$H$34:$CY$37,2,FALSE)),\"\")","v":""},{"$f":"IFERROR(IF(A60=\"\",\"\",HLOOKUP(A60,'Lista Psychotropy'!$H$1:$CY$7,2,FALSE)),\"\")","v":""},{"$f":"IFERROR(IF(A60=\"\",\"\",HLOOKUP(A60,'Lista Psychotropy'!$H$13:$CY$18,2,FALSE)),\"\")","v":""},null,null,null,null,null,null,null,null,null,null,null,null,null,null,null,null,null,null,null,null,null,null,null,"1","2"]
[null,{"$f":"IFERROR(IF(A61=\"\",\"\",VLOOKUP(A61,'Lista Psychotropy'!$A$2:$B$98,2,FALSE)),\"\")","v":""},{"$f":"IFERROR(IF(A61=\"\",\"\",HLOOKUP(A61,'Lista Psychotropy'!$H$34:$CY$37,2,FALSE)),\"\")","v":""},{"$f":"IFERROR(IF(A61=\"\",\"\",HLOOKUP(A61,'Lista Psychotropy'!$H$1:$CY$7,2,FALSE)),\"\")","v":""},{"$f":"IFERROR(IF(A61=\"\",\"\",HLOOKUP(A61,'Lista Psychotropy'!$H$13:$CY$18,2,FALSE)),\"\")","v":""},null,null,null,null,null,null,null,null,null,null,null,null,null,null,null,null,null,null,null,null,null,null,null,"1","2"]
[null,{"$f":"IFERROR(IF(A62=\"\",\"\",VLOOKUP(A62,'Lista Psychotropy'!$A$2:$B$98,2,FALSE)),\"\")","v":""},{"$f":"IFERROR(IF(A62=\"\",\"\",HLOOKUP(A62,'Lista Psychotropy'!$H$34:$CY$37,2,FALSE)),\"\")","v":""},{"$f":"IFERROR(IF(A62=\"\",\"\",HLOOKUP(A62,'Lista Psychotropy'!$H$1:$CY$7,2,FALSE)),\"\")","v":""},{"$f":"IFERROR(IF(A62=\"\",\"\",HLOOKUP(A62,'Lista Psychotropy'!$H$13:$CY$18,2,FALSE)),\"\")","v":""},null,null,null,null,null,null,null,null,null,null,null,null,null,null,null,null,null,null,null,null,null,null,null,"1","2"]
[null,{"$f":"IFERROR(IF(A63=\"\",\"\",VLOOKUP(A63,'Lista Psychotropy'!$A$2:$B$98,2,FALSE)),\"\")","v":""},{"$f":"IFERROR(IF(A63=\"\",\"\",HLOOKUP(A63,'Lista Psychotropy'!$H$34:$CY$37,2,FALSE)),\"\")","v":""},{"$f":"IFERROR(IF(A63=\"\",\"\",HLOOKUP(A63,'Lista Psychotropy'!$H$1:$CY$7,2,FALSE)),\"\")","v":""},{"$f":"IFERROR(IF(A63=\"\",\"\",HLOOKUP(A63,'Lista Psychotropy'!$H$13:$CY$18,2,FALSE)),\"\")","v":""},null,null,null,null,null,null,null,null,null,null,null,null,null,null,null,null,null,null,null,null,null,null,null,"1","2"]
[null,{"$f":"IFERROR(IF(A64=\"\",\"\",VLOOKUP(A64,'Lista Psychotropy'!$A$2:$B$98,2,FALSE)),\"\")","v":""},{"$f":"IFERROR(IF(A64=\"\",\"\",HLOOKUP(A64,'Lista Psychotropy'!$H$34:$CY$37,2,FALSE)),\"\")","v":""},{"$f":"IFERROR(IF(A64=\"\",\"\",HLOOKUP(A64,'Lista Psychotropy'!$H$1:$CY$7,2,FALSE)),\"\")","v":""},{"$f":"IFERROR(IF(A64=\"\",\"\",HLOOKUP(A64,'Lista Psychotropy'!$H$13:$CY$18,2,FALSE)),\"\")","v":""},null,null,null,null,null,null,null,null,null,null,null,null,null,null,null,null,null,null,null,null,null,null,null,"1","2"]
[null,{"$f":"IFERROR(IF(A65=\"\",\"\",VLOOKUP(A65,'Lista Psychotropy'!$A$2:$B$98,2,FALSE)),\"\")","v":""},{"$f":"IFERROR(IF(A65=\"\",\"\",HLOOKUP(A65,'Lista Psychotropy'!$H$34:$CY$37,2,FALSE)),\"\")","v":""},{"$f":"IFERROR(IF(A65=\"\",\"\",HLOOKUP(A65,'Lista Psychotropy'!$H$1:$CY$7,2,FALSE)),\"\")","v":""},{"$f":"IFERROR(IF(A65=\"\",\"\",HLOOKUP(A65,'Lista Psychotropy'!$H$13:$CY$18,2,FALSE)),\"\")","v":""},null,null,null,null,null,null,null,null,null,null,null,null,null,null,null,null,null,null,null,null,null,null,null,"1","2"]
[null,{"$f":"IFERROR(IF(A66=\"\",\"\",VLOOKUP(A66,'Lista Psychotropy'!$A$2:$B$98,2,FALSE)),\"\")","v":""},{"$f":"IFERROR(IF(A66=\"\",\"\",HLOOKUP(A66,'Lista Psychotropy'!$H$34:$CY$37,2,FALSE)),\"\")","v":""},{"$f":"IFERROR(IF(A66=\"\",\"\",HLOOKUP(A66,'Lista Psychotropy'!$H$1:$CY$7,2,FALSE)),\"\")","v":""},{"$f":"IFERROR(IF(A66=\"\",\"\",HLOOKUP(A66,'Lista Psychotropy'!$H$13:$CY$18,2,FALSE)),\"\")","v":""},null,null,null,null,null,null,null,null,null,null,null,null,null,null,null,null,null,null,null,null,null,null,null,"1","2"]
[null,{"$f":"IFERROR(IF(A67=\"\",\"\",VLOOKUP(A67,'Lista Psychotropy'!$A$2:$B$98,2,FALSE)),\"\")","v":""},{"$f":"IFERROR(IF(A67=\"\",\"\",HLOOKUP(A67,'Lista Psychotropy'!$H$34:$CY$37,2,FALSE)),\"\")","v":""},{"$f":"IFERROR(IF(A67=\"\",\"\",HLOOKUP(A67,'Lista Psychotropy'!$H$1:$CY$7,2,FALSE)),\"\")","v":""},{"$f":"IFERROR(IF(A67=\"\",\"\",HLOOKUP(A67,'Lista Psychotropy'!$H$13:$CY$18,2,FALSE)),\"\")","v":""},null,null,null,null,null,null,null,null,null,null,null,null,null,null,null,null,null,null,null,null,null,null,null,"1","2"]
[null,{"$f":"IFERROR(IF(A68=\"\",\"\",VLOOKUP(A68,'Lista Psychotropy'!$A$2:$B$98,2,FALSE)),\"\")","v":""},{"$f":"IFERROR(IF(A68=\"\",\"\",HLOOKUP(A68,'Lista Psychotropy'!$H$34:$CY$37,2,FALSE)),\"\")","v":""},{"$f":"IFERROR(IF(A68=\"\",\"\",HLOOKUP(A68,'Lista Psychotropy'!$H$1:$CY$7,2,FALSE)),\"\")","v":""},{"$f":"IFERROR(IF(A68=\"\",\"\",HLOOKUP(A68,'Lista Psychotropy'!$H$13:$CY$18,2,FALSE)),\"\")","v":""},null,null,null,null,null,null,null,null,null,null,null,null,null,null,null,null,null,null,null,null,null,null,null,"1","2"]
[null,{"$f":"IFERROR(IF(A69=\"\",\"\",VLOOKUP(A69,'Lista Psychotropy'!$A$2:$B$98,2,FALSE)),\"\")","v":""},{"$f":"IFERROR(IF(A69=\"\",\"\",HLOOKUP(A69,'Lista Psychotropy'!$H$34:$CY$37,2,FALSE)),\"\")","v":""},{"$f":"IFERROR(IF(A69=\"\",\"\",HLOOKUP(A69,'Lista Psychotropy'!$H$1:$CY$7,2,FALSE)),\"\")","v":""},{"$f":"IFERROR(IF(A69=\"\",\"\",HLOOKUP(A69,'Lista Psychotropy'!$H$13:$CY$18,2,FALSE)),\"\")","v":""},null,null,null,null,null,null,null,null,null,null,null,null,null,null,null,null,null,null,null,null,null,null,null,"1","2"]
[null,{"$f":"IFERROR(IF(A70=\"\",\"\",VLOOKUP(A70,'Lista Psychotropy'!$A$2:$B$98,2,FALSE)),\"\")","v":""},{"$f":"IFERROR(IF(A70=\"\",\"\",HLOOKUP(A70,'Lista Psychotropy'!$H$34:$CY$37,2,FALSE)),\"\")","v":""},{"$f":"IFERROR(IF(A70=\"\",\"\",HLOOKUP(A70,'Lista Psychotropy'!$H$1:$CY$7,2,FALSE)),\"\")","v":""},{"$f":"IFERROR(IF(A70=\"\",\"\",HLOOKUP(A70,'Lista Psychotropy'!$H$13:$CY$18,2,FALSE)),\"\")","v":""},null,null,null,null,null,null,null,null,null,null,null,null,null,null,null,null,null,null,null,null,null,null,null,"1","2"]
[null,{"$f":"IFERROR(IF(A71=\"\",\"\",VLOOKUP(A71,'Lista Psychotropy'!$A$2:$B$98,2,FALSE)),\"\")","v":""},{"$f":"IFERROR(IF(A71=\"\",\"\",HLOOKUP(A71,'Lista Psychotropy'!$H$34:$CY$37,2,FALSE)),\"\")","v":""},{"$f":"IFERROR(IF(A71=\"\",\"\",HLOOKUP(A71,'Lista Psychotropy'!$H$1:$CY$7,2,FALSE)),\"\")","v":""},{"$f":"IFERROR(IF(A71=\"\",\"\",HLOOKUP(A71,'Lista Psychotropy'!$H$13:$CY$18,2,FALSE)),\"\")","v":""},null,null,null,null,null,null,null,null,null,null,null,null,null,null,null,null,null,null,null,null,null,null,null,"1","2"]
[null,{"$f":"IFERROR(IF(A72=\"\",\"\",VLOOKUP(A72,'Lista Psychotropy'!$A$2:$B$98,2,FALSE)),\"\")","v":""},{"$f":"IFERROR(IF(A72=\"\",\"\",HLOOKUP(A72,'Lista Psychotropy'!$H$34:$CY$37,2,FALSE)),\"\")","v":""},{"$f":"IFERROR(IF(A72=\"\",\"\",HLOOKUP(A72,'Lista Psychotropy'!$H$1:$CY$7,2,FALSE)),\"\")","v":""},{"$f":"IFERROR(IF(A72=\"\",\"\",HLOOKUP(A72,'Lista Psychotropy'!$H$13:$CY$18,2,FALSE)),\"\")","v":""},null,null,null,null,null,null,null,null,null,null,null,null,null,null,null,null,null,null,null,null,null,null,null,"1","2"]
[null,{"$f":"IFERROR(IF(A73=\"\",\"\",VLOOKUP(A73,'Lista Psychotropy'!$A$2:$B$98,2,FALSE)),\"\")","v":""},{"$f":"IFERROR(IF(A73=\"\",\"\",HLOOKUP(A73,'Lista Psychotropy'!$H$34:$CY$37,2,FALSE)),\"\")","v":""},{"$f":"IFERROR(IF(A73=\"\",\"\",HLOOKUP(A73,'Lista Psychotropy'!$H$1:$CY$7,2,FALSE)),\"\")","v":""},{"$f":"IFERROR(IF(A73=\"\",\"\",HLOOKUP(A73,'Lista Psychotropy'!$H$13:$CY$18,2,FALSE)),\"\")","v":""},null,null,null,null,null,null,null,null,null,null,null,null,null,null,null,null,null,null,null,null,null,null,null,"1","2"]
[null,{"$f":"IFERROR(IF(A74=\"\",\"\",VLOOKUP(A74,'Lista Psychotropy'!$A$2:$B$98,2,FALSE)),\"\")","v":""},{"$f":"IFERROR(IF(A74=\"\",\"\",HLOOKUP(A74,'Lista Psychotropy'!$H$34:$CY$37,2,FALSE)),\"\")","v":""},{"$f":"IFERROR(IF(A74=\"\",\"\",HLOOKUP(A74,'Lista Psychotropy'!$H$1:$CY$7,2,FALSE)),\"\")","v":""},{"$f":"IFERROR(IF(A74=\"\",\"\",HLOOKUP(A74,'Lista Psychotropy'!$H$13:$CY$18,2,FALSE)),\"\")","v":""},null,null,null,null,null,null,null,null,null,null,null,null,null,null,null,null,null,null,null,null,null,null,null,{"$f":"A74&1","v":"1"},{"$f":"A74&2","v":"2"}]
[null,{"$f":"IFERROR(IF(A75=\"\",\"\",VLOOKUP(A75,'Lista Psychotropy'!$A$2:$B$98,2,FALSE)),\"\")","v":""},{"$f":"IFERROR(IF(A75=\"\",\"\",HLOOKUP(A75,'Lista Psychotropy'!$H$34:$CY$37,2,FALSE)),\"\")","v":""},{"$f":"IFERROR(IF(A75=\"\",\"\",HLOOKUP(A75,'Lista Psychotropy'!$H$1:$CY$7,2,FALSE)),\"\")","v":""},{"$f":"IFERROR(IF(A75=\"\",\"\",HLOOKUP(A75,'Lista Psychotropy'!$H$13:$CY$18,2,FALSE)),\"\")","v":""},null,null,null,null,null,null,null,null,null,null,null,null,null,null,null,null,null,null,null,null,null,null,null,"1","2"]
[null,{"$f":"IFERROR(IF(A76=\"\",\"\",VLOOKUP(A76,'Lista Psychotropy'!$A$2:$B$98,2,FALSE)),\"\")","v":""},{"$f":"IFERROR(IF(A76=\"\",\"\",HLOOKUP(A76,'Lista Psychotropy'!$H$34:$CY$37,2,FALSE)),\"\")","v":""},{"$f":"IFERROR(IF(A76=\"\",\"\",HLOOKUP(A76,'Lista Psychotropy'!$H$1:$CY$7,2,FALSE)),\"\")","v":""},{"$f":"IFERROR(IF(A76=\"\",\"\",HLOOKUP(A76,'Lista Psychotropy'!$H$13:$CY$18,2,FALSE)),\"\")","v":""},null,null,null,null,null,null,null,null,null,null,null,null,null,null,null,null,null,null,null,null,null,null,null,"1","2"]
[null,{"$f":"IFERROR(IF(A77=\"\",\"\",VLOOKUP(A77,'Lista Psychotropy'!$A$2:$B$98,2,FALSE)),\"\")","v":""},{"$f":"IFERROR(IF(A77=\"\",\"\",HLOOKUP(A77,'Lista Psychotropy'!$H$34:$CY$37,2,FALSE)),\"\")","v":""},{"$f":"IFERROR(IF(A77=\"\",\"\",HLOOKUP(A77,'Lista Psychotropy'!$H$1:$CY$7,2,FALSE)),\"\")","v":""},{"$f":"IFERROR(IF(A77=\"\",\"\",HLOOKUP(A77,'Lista Psychotropy'!$H$13:$CY$18,2,FALSE)),\"\")","v":""},null,null,null,null,null,null,null,null,null,null,null,null,null,null,null,null,null,null,null,null,null,null,null,"1","2"]
[null,{"$f":"IFERROR(IF(A78=\"\",\"\",VLOOKUP(A78,'Lista Psychotropy'!$A$2:$B$98,2,FALSE)),\"\")","v":""},{"$f":"IFERROR(IF(A78=\"\",\"\",HLOOKUP(A78,'Lista Psychotropy'!$H$34:$CY$37,2,FALSE)),\"\")","v":""},{"$f":"IFERROR(IF(A78=\"\",\"\",HLOOKUP(A78,'Lista Psychotropy'!$H$1:$CY$7,2,FALSE)),\"\")","v":""},{"$f":"IFERROR(IF(A78=\"\",\"\",HLOOKUP(A78,'Lista Psychotropy'!$H$13:$CY$18,2,FALSE)),\"\")","v":""},null,null,null,null,null,null,null,null,null,null,null,null,null,null,null,null,null,null,null,null,null,null,null,"1","2"]
[null,{"$f":"IFERROR(IF(A79=\"\",\"\",VLOOKUP(A79,'Lista Psychotropy'!$A$2:$B$98,2,FALSE)),\"\")","v":""},{"$f":"IFERROR(IF(A79=\"\",\"\",HLOOKUP(A79,'Lista Psychotropy'!$H$34:$CY$37,2,FALSE)),\"\")","v":""},{"$f":"IFERROR(IF(A79=\"\",\"\",HLOOKUP(A79,'Lista Psychotropy'!$H$1:$CY$7,2,FALSE)),\"\")","v":""},{"$f":"IFERROR(IF(A79=\"\",\"\",HLOOKUP(A79,'Lista Psychotropy'!$H$13:$CY$18,2,FALSE)),\"\")","v":""},null,null,null,null,null,null,null,null,null,null,null,null,null,null,null,null,null,null,null,null,null,null,null,"1","2"]
[null,{"$f":"IFERROR(IF(A80=\"\",\"\",VLOOKUP(A80,'Lista Psychotropy'!$A$2:$B$98,2,FALSE)),\"\")","v":""},{"$f":"IFERROR(IF(A80=\"\",\"\",HLOOKUP(A80,'Lista Psychotropy'!$H$34:$CY$37,2,FALSE)),\"\")","v":""},{"$f":"IFERROR(IF(A80=\"\",\"\",HLOOKUP(A80,'Lista Psychotropy'!$H$1:$CY$7,2,FALSE)),\"\")","v":""},{"$f":"IFERROR(IF(A80=\"\",\"\",HLOOKUP(A80,'Lista Psychotropy'!$H$13:$CY$18,2,FALSE)),\"\")","v":""},null,null,null,null,null,null,null,null,null,null,null,null,null,null,null,null,null,null,null,null,null,null,null,"1","2"]
[null,{"$f":"IFERROR(IF(A81=\"\",\"\",VLOOKUP(A81,'Lista Psychotropy'!$A$2:$B$98,2,FALSE)),\"\")","v":""},{"$f":"IFERROR(IF(A81=\"\",\"\",HLOOKUP(A81,'Lista Psychotropy'!$H$34:$CY$37,2,FALSE)),\"\")","v":""},{"$f":"IFERROR(IF(A81=\"\",\"\",HLOOKUP(A81,'Lista Psychotropy'!$H$1:$CY$7,2,FALSE)),\"\")","v":""},{"$f":"IFERROR(IF(A81=\"\",\"\",HLOOKUP(A81,'Lista Psychotropy'!$H$13:$CY$18,2,FALSE)),\"\")","v":""},null,null,null,null,null,null,null,null,null,null,null,null,null,null,null,null,null,null,null,null,null,null,null,"1","2"]
[null,{"$f":"IFERROR(IF(A82=\"\",\"\",VLOOKUP(A82,'Lista Psychotropy'!$A$2:$B$98,2,FALSE)),\"\")","v":""},{"$f":"IFERROR(IF(A82=\"\",\"\",HLOOKUP(A82,'Lista Psychotropy'!$H$34:$CY$37,2,FALSE)),\"\")","v":""},{"$f":"IFERROR(IF(A82=\"\",\"\",HLOOKUP(A82,'Lista Psychotropy'!$H$1:$CY$7,2,FALSE)),\"\")","v":""},{"$f":"IFERROR(IF(A82=\"\",\"\",HLOOKUP(A82,'Lista Psychotropy'!$H$13:$CY$18,2,FALSE)),\"\")","v":""},null,null,null,null,null,null,null,null,null,null,null,null,null,null,null,null,null,null,null,null,null,null,null,"1","2"]
[null,{"$f":"IFERROR(IF(A83=\"\",\"\",VLOOKUP(A83,'Lista Psychotropy'!$A$2:$B$98,2,FALSE)),\"\")","v":""},{"$f":"IFERROR(IF(A83=\"\",\"\",HLOOKUP(A83,'Lista Psychotropy'!$H$34:$CY$37,2,FALSE)),\"\")","v":""},{"$f":"IFERROR(IF(A83=\"\",\"\",HLOOKUP(A83,'Lista Psychotropy'!$H$1:$CY$7,2,FALSE)),\"\")","v":""},{"$f":"IFERROR(IF(A83=\"\",\"\",HLOOKUP(A83,'Lista Psychotropy'!$H$13:$CY$18,2,FALSE)),\"\")","v":""},null,null,null,null,null,null,null,null,null,null,null,null,null,null,null,null,null,null,null,null,null,null,null,"1","2"]
[null,{"$f":"IFERROR(IF(A84=\"\",\"\",VLOOKUP(A84,'Lista Psychotropy'!$A$2:$B$98,2,FALSE)),\"\")","v":""},{"$f":"IFERROR(IF(A84=\"\",\"\",HLOOKUP(A84,'Lista Psychotropy'!$H$34:$CY$37,2,FALSE)),\"\")","v":""},{"$f":"IFERROR(IF(A84=\"\",\"\",HLOOKUP(A84,'Lista Psychotropy'!$H$1:$CY$7,2,FALSE)),\"\")","v":""},{"$f":"IFERROR(IF(A84=\"\",\"\",HLOOKUP(A84,'Lista Psychotropy'!$H$13:$CY$18,2,FALSE)),\"\")","v":""},null,null,null,null,null,null,null,null,null,null,null,null,null,null,null,null,null,null,null,null,null,null,null,"1","2"]
[null,{"$f":"IFERROR(IF(A85=\"\",\"\",VLOOKUP(A85,'Lista Psychotropy'!$A$2:$B$98,2,FALSE)),\"\")","v":""},{"$f":"IFERROR(IF(A85=\"\",\"\",HLOOKUP(A85,'Lista Psychotropy'!$H$34:$CY$37,2,FALSE)),\"\")","v":""},{"$f":"IFERROR(IF(A85=\"\",\"\",HLOOKUP(A85,'Lista Psychotropy'!$H$1:$CY$7,2,FALSE)),\"\")","v":""},{"$f":"IFERROR(IF(A85=\"\",\"\",HLOOKUP(A85,'Lista Psychotropy'!$H$13:$CY$18,2,FALSE)),\"\")","v":""},null,null,null,null,null,null,null,null,null,null,null,null,null,null,null,null,null,null,null,null,null,null,null,"1","2"]
[null,{"$f":"IFERROR(IF(A86=\"\",\"\",VLOOKUP(A86,'Lista Psychotropy'!$A$2:$B$98,2,FALSE)),\"\")","v":""},{"$f":"IFERROR(IF(A86=\"\",\"\",HLOOKUP(A86,'Lista Psychotropy'!$H$34:$CY$37,2,FALSE)),\"\")","v":""},{"$f":"IFERROR(IF(A86=\"\",\"\",HLOOKUP(A86,'Lista Psychotropy'!$H$1:$CY$7,2,FALSE)),\"\")","v":""},{"$f":"IFERROR(IF(A86=\"\",\"\",HLOOKUP(A86,'Lista Psychotropy'!$H$13:$CY$18,2,FALSE)),\"\")","v":""},null,null,null,null,null,null,null,null,null,null,null,null,null,null,null,null,null,null,null,null,null,null,null,"1","2"]
[null,{"$f":"IFERROR(IF(A87=\"\",\"\",VLOOKUP(A87,'Lista Psychotropy'!$A$2:$B$98,2,FALSE)),\"\")","v":""},{"$f":"IFERROR(IF(A87=\"\",\"\",HLOOKUP(A87,'Lista Psychotropy'!$H$34:$CY$37,2,FALSE)),\"\")","v":""},{"$f":"IFERROR(IF(A87=\"\",\"\",HLOOKUP(A87,'Lista Psychotropy'!$H$1:$CY$7,2,FALSE)),\"\")","v":""},{"$f":"IFERROR(IF(A87=\"\",\"\",HLOOKUP(A87,'Lista Psychotropy'!$H$13:$CY$18,2,FALSE)),\"\")","v":""},null,null,null,null,null,null,null,null,null,null,null,null,null,null,null,null,null,null,null,null,null,null,null,"1","2"]
[null,{"$f":"IFERROR(IF(A88=\"\",\"\",VLOOKUP(A88,'Lista Psychotropy'!$A$2:$B$98,2,FALSE)),\"\")","v":""},{"$f":"IFERROR(IF(A88=\"\",\"\",HLOOKUP(A88,'Lista Psychotropy'!$H$34:$CY$37,2,FALSE)),\"\")","v":""},{"$f":"IFERROR(IF(A88=\"\",\"\",HLOOKUP(A88,'Lista Psychotropy'!$H$1:$CY$7,2,FALSE)),\"\")","v":""},{"$f":"IFERROR(IF(A88=\"\",\"\",HLOOKUP(A88,'Lista Psychotropy'!$H$13:$CY$18,2,FALSE)),\"\")","v":""},null,null,null,null,null,null,null,null,null,null,null,null,null,null,null,null,null,null,null,null,null,null,null,"1","2"]
[null,{"$f":"IFERROR(IF(A89=\"\",\"\",VLOOKUP(A89,'Lista Psychotropy'!$A$2:$B$98,2,FALSE)),\"\")","v":""},{"$f":"IFERROR(IF(A89=\"\",\"\",HLOOKUP(A89,'Lista Psychotropy'!$H$34:$CY$37,2,FALSE)),\"\")","v":""},{"$f":"IFERROR(IF(A89=\"\",\"\",HLOOKUP(A89,'Lista Psychotropy'!$H$1:$CY$7,2,FALSE)),\"\")","v":""},{"$f":"IFERROR(IF(A89=\"\",\"\",HLOOKUP(A89,'Lista Psychotropy'!$H$13:$CY$18,2,FALSE)),\"\")","v":""},null,null,null,null,null,null,null,null,null,null,null,null,null,null,null,null,null,null,null,null,null,null,null,"1","2"]
[null,{"$f":"IFERROR(IF(A90=\"\",\"\",VLOOKUP(A90,'Lista Psychotropy'!$A$2:$B$98,2,FALSE)),\"\")","v":""},{"$f":"IFERROR(IF(A90=\"\",\"\",HLOOKUP(A90,'Lista Psychotropy'!$H$34:$CY$37,2,FALSE)),\"\")","v":""},{"$f":"IFERROR(IF(A90=\"\",\"\",HLOOKUP(A90,'Lista Psychotropy'!$H$1:$CY$7,2,FALSE)),\"\")","v":""},{"$f":"IFERROR(IF(A90=\"\",\"\",HLOOKUP(A90,'Lista Psychotropy'!$H$13:$CY$18,2,FALSE)),\"\")","v":""},null,null,null,null,null,null,null,null,null,null,null,null,null,null,null,null,null,null,null,null,null,null,null,"1","2"]
[null,{"$f":"IFERROR(IF(A91=\"\",\"\",VLOOKUP(A91,'Lista Psychotropy'!$A$2:$B$98,2,FALSE)),\"\")","v":""},{"$f":"IFERROR(IF(A91=\"\",\"\",HLOOKUP(A91,'Lista Psychotropy'!$H$34:$CY$37,2,FALSE)),\"\")","v":""},{"$f":"IFERROR(IF(A91=\"\",\"\",HLOOKUP(A91,'Lista Psychotropy'!$H$1:$CY$7,2,FALSE)),\"\")","v":""},{"$f":"IFERROR(IF(A91=\"\",\"\",HLOOKUP(A91,'Lista Psychotropy'!$H$13:$CY$18,2,FALSE)),\"\")","v":""},null,null,null,null,null,null,null,null,null,null,null,null,null,null,null,null,null,null,null,null,null,null,null,"1","2"]
[null,{"$f":"IFERROR(IF(A92=\"\",\"\",VLOOKUP(A92,'Lista Psychotropy'!$A$2:$B$98,2,FALSE)),\"\")","v":""},{"$f":"IFERROR(IF(A92=\"\",\"\",HLOOKUP(A92,'Lista Psychotropy'!$H$34:$CY$37,2,FALSE)),\"\")","v":""},{"$f":"IFERROR(IF(A92=\"\",\"\",HLOOKUP(A92,'Lista Psychotropy'!$H$1:$CY$7,2,FALSE)),\"\")","v":""},{"$f":"IFERROR(IF(A92=\"\",\"\",HLOOKUP(A92,'Lista Psychotropy'!$H$13:$CY$18,2,FALSE)),\"\")","v":""},null,null,null,null,null,null,null,null,null,null,null,null,null,null,null,null,null,null,null,null,null,null,null,"1","2"]
[null,{"$f":"IFERROR(IF(A93=\"\",\"\",VLOOKUP(A93,'Lista Psychotropy'!$A$2:$B$98,2,FALSE)),\"\")","v":""},{"$f":"IFERROR(IF(A93=\"\",\"\",HLOOKUP(A93,'Lista Psychotropy'!$H$34:$CY$37,2,FALSE)),\"\")","v":""},{"$f":"IFERROR(IF(A93=\"\",\"\",HLOOKUP(A93,'Lista Psychotropy'!$H$1:$CY$7,2,FALSE)),\"\")","v":""},{"$f":"IFERROR(IF(A93=\"\",\"\",HLOOKUP(A93,'Lista Psychotropy'!$H$13:$CY$18,2,FALSE)),\"\")","v":""},null,null,null,null,null,null,null,null,null,null,null,null,null,null,null,null,null,null,null,null,null,null,null,"1","2"]
[null,{"$f":"IFERROR(IF(A94=\"\",\"\",VLOOKUP(A94,'Lista Psychotropy'!$A$2:$B$98,2,FALSE)),\"\")","v":""},{"$f":"IFERROR(IF(A94=\"\",\"\",HLOOKUP(A94,'Lista Psychotropy'!$H$34:$CY$37,2,FALSE)),\"\")","v":""},{"$f":"IFERROR(IF(A94=\"\",\"\",HLOOKUP(A94,'Lista Psychotropy'!$H$1:$CY$7,2,FALSE)),\"\")","v":""},{"$f":"IFERROR(IF(A94=\"\",\"\",HLOOKUP(A94,'Lista Psychotropy'!$H$13:$CY$18,2,FALSE)),\"\")","v":""},null,null,null,null,null,null,null,null,null,null,null,null,null,null,null,null,null,null,null,null,null,null,null,"1","2"]
[null,{"$f":"IFERROR(IF(A95=\"\",\"\",VLOOKUP(A95,'Lista Psychotropy'!$A$2:$B$98,2,FALSE)),\"\")","v":""},{"$f":"IFERROR(IF(A95=\"\",\"\",HLOOKUP(A95,'Lista Psychotropy'!$H$34:$CY$37,2,FALSE)),\"\")","v":""},{"$f":"IFERROR(IF(A95=\"\",\"\",HLOOKUP(A95,'Lista Psychotropy'!$H$1:$CY$7,2,FALSE)),\"\")","v":""},{"$f":"IFERROR(IF(A95=\"\",\"\",HLOOKUP(A95,'Lista Psychotropy'!$H$13:$CY$18,2,FALSE)),\"\")","v":""},null,null,null,null,null,null,null,null,null,null,null,null,null,null,null,null,null,null,null,null,null,null,null,"1","2"]
[null,{"$f":"IFERROR(IF(A96=\"\",\"\",VLOOKUP(A96,'Lista Psychotropy'!$A$2:$B$98,2,FALSE)),\"\")","v":""},{"$f":"IFERROR(IF(A96=\"\",\"\",HLOOKUP(A96,'Lista Psychotropy'!$H$34:$CY$37,2,FALSE)),\"\")","v":""},{"$f":"IFERROR(IF(A96=\"\",\"\",HLOOKUP(A96,'Lista Psychotropy'!$H$1:$CY$7,2,FALSE)),\"\")","v":""},{"$f":"IFERROR(IF(A96=\"\",\"\",HLOOKUP(A96,'Lista Psychotropy'!$H$13:$CY$18,2,FALSE)),\"\")","v":""},null,null,null,null,null,null,null,null,null,null,null,null,null,null,null,null,null,null,null,null,null,null,null,"1","2"]
[null,{"$f":"IFERROR(IF(A97=\"\",\"\",VLOOKUP(A97,'Lista Psychotropy'!$A$2:$B$98,2,FALSE)),\"\")","v":""},{"$f":"IFERROR(IF(A97=\"\",\"\",HLOOKUP(A97,'Lista Psychotropy'!$H$34:$CY$37,2,FALSE)),\"\")","v":""},{"$f":"IFERROR(IF(A97=\"\",\"\",HLOOKUP(A97,'Lista Psychotropy'!$H$1:$CY$7,2,FALSE)),\"\")","v":""},{"$f":"IFERROR(IF(A97=\"\",\"\",HLOOKUP(A97,'Lista Psychotropy'!$H$13:$CY$18,2,FALSE)),\"\")","v":""},null,null,null,null,null,null,null,null,null,null,null,null,null,null,null,null,null,null,null,null,null,null,null,"1","2"]
[null,{"$f":"IFERROR(IF(A98=\"\",\"\",VLOOKUP(A98,'Lista Psychotropy'!$A$2:$B$98,2,FALSE)),\"\")","v":""},{"$f":"IFERROR(IF(A98=\"\",\"\",HLOOKUP(A98,'Lista Psychotropy'!$H$34:$CY$37,2,FALSE)),\"\")","v":""},{"$f":"IFERROR(IF(A98=\"\",\"\",HLOOKUP(A98,'Lista Psychotropy'!$H$1:$CY$7,2,FALSE)),\"\")","v":""},{"$f":"IFERROR(IF(A98=\"\",\"\",HLOOKUP(A98,'Lista Psychotropy'!$H$13:$CY$18,2,FALSE)),\"\")","v":""},null,null,null,null,null,null,null,null,null,null,null,null,null,null,null,null,null,null,null,null,null,null,null,"1","2"]
[null,{"$f":"IFERROR(IF(A99=\"\",\"\",VLOOKUP(A99,'Lista Psychotropy'!$A$2:$B$98,2,FALSE)),\"\")","v":""},{"$f":"IFERROR(IF(A99=\"\",\"\",HLOOKUP(A99,'Lista Psychotropy'!$H$34:$CY$37,2,FALSE)),\"\")","v":""},{"$f":"IFERROR(IF(A99=\"\",\"\",HLOOKUP(A99,'Lista Psychotropy'!$H$1:$CY$7,2,FALSE)),\"\")","v":""},{"$f":"IFERROR(IF(A99=\"\",\"\",HLOOKUP(A99,'Lista Psychotropy'!$H$13:$CY$18,2,FALSE)),\"\")","v":""},null,null,null,null,null,null,null,null,null,null,null,null,null,null,null,null,null,null,null,null,null,null,null,"1","2"]
[null,{"$f":"IFERROR(IF(A100=\"\",\"\",VLOOKUP(A100,'Lista Psychotropy'!$A$2:$B$98,2,FALSE)),\"\")","v":""},{"$f":"IFERROR(IF(A100=\"\",\"\",HLOOKUP(A100,'Lista Psychotropy'!$H$34:$CY$37,2,FALSE)),\"\")","v":""},{"$f":"IFERROR(IF(A100=\"\",\"\",HLOOKUP(A100,'Lista Psychotropy'!$H$1:$CY$7,2,FALSE)),\"\")","v":""},{"$f":"IFERROR(IF(A100=\"\",\"\",HLOOKUP(A100,'Lista Psychotropy'!$H$13:$CY$18,2,FALSE)),\"\")","v":""},null,null,null,null,null,null,null,null,null,null,null,null,null,null,null,null,null,null,null,null,null,null,null,"1","2"]
[null,{"$f":"IFERROR(IF(A101=\"\",\"\",VLOOKUP(A101,'Lista Psychotropy'!$A$2:$B$98,2,FALSE)),\"\")","v":""},{"$f":"IFERROR(IF(A101=\"\",\"\",HLOOKUP(A101,'Lista Psychotropy'!$H$34:$CY$37,2,FALSE)),\"\")","v":""},{"$f":"IFERROR(IF(A101=\"\",\"\",HLOOKUP(A101,'Lista Psychotropy'!$H$1:$CY$7,2,FALSE)),\"\")","v":""},{"$f":"IFERROR(IF(A101=\"\",\"\",HLOOKUP(A101,'Lista Psychotropy'!$H$13:$CY$18,2,FALSE)),\"\")","v":""},null,null,null,null,null,null,null,null,null,null,null,null,null,null,null,null,null,null,null,null,null,null,null,"1","2"]
[null,{"$f":"IFERROR(IF(A102=\"\",\"\",VLOOKUP(A102,'Lista Psychotropy'!$A$2:$B$98,2,FALSE)),\"\")","v":""},{"$f":"IFERROR(IF(A102=\"\",\"\",HLOOKUP(A102,'Lista Psychotropy'!$H$34:$CY$37,2,FALSE)),\"\")","v":""},{"$f":"IFERROR(IF(A102=\"\",\"\",HLOOKUP(A102,'Lista Psychotropy'!$H$1:$CY$7,2,FALSE)),\"\")","v":""},{"$f":"IFERROR(IF(A102=\"\",\"\",HLOOKUP(A102,'Lista Psychotropy'!$H$13:$CY$18,2,FALSE)),\"\")","v":""},null,null,null,null,null,null,null,null,null,null,null,null,null,null,null,null,null,null,null,null,null,null,null,"1","2"]
[null,{"$f":"IFERROR(IF(A103=\"\",\"\",VLOOKUP(A103,'Lista Psychotropy'!$A$2:$B$98,2,FALSE)),\"\")","v":""},{"$f":"IFERROR(IF(A103=\"\",\"\",HLOOKUP(A103,'Lista Psychotropy'!$H$34:$CY$37,2,FALSE)),\"\")","v":""},{"$f":"IFERROR(IF(A103=\"\",\"\",HLOOKUP(A103,'Lista Psychotropy'!$H$1:$CY$7,2,FALSE)),\"\")","v":""},{"$f":"IFERROR(IF(A103=\"\",\"\",HLOOKUP(A103,'Lista Psychotropy'!$H$13:$CY$18,2,FALSE)),\"\")","v":""},null,null,null,null,null,null,null,null,null,null,null,null,null,null,null,null,null,null,null,null,null,null,null,"1","2"]
[null,{"$f":"IFERROR(IF(A104=\"\",\"\",VLOOKUP(A104,'Lista Psychotropy'!$A$2:$B$98,2,FALSE)),\"\")","v":""},{"$f":"IFERROR(IF(A104=\"\",\"\",HLOOKUP(A104,'Lista Psychotropy'!$H$34:$CY$37,2,FALSE)),\"\")","v":""},{"$f":"IFERROR(IF(A104=\"\",\"\",HLOOKUP(A104,'Lista Psychotropy'!$H$1:$CY$7,2,FALSE)),\"\")","v":""},{"$f":"IFERROR(IF(A104=\"\",\"\",HLOOKUP(A104,'Lista Psychotropy'!$H$13:$CY$18,2,FALSE)),\"\")","v":""},null,null,null,null,null,null,null,null,null,null,null,null,null,null,null,null,null,null,null,null,null,null,null,"1","2"]
[null,{"$f":"IFERROR(IF(A105=\"\",\"\",VLOOKUP(A105,'Lista Psychotropy'!$A$2:$B$98,2,FALSE)),\"\")","v":""},{"$f":"IFERROR(IF(A105=\"\",\"\",HLOOKUP(A105,'Lista Psychotropy'!$H$34:$CY$37,2,FALSE)),\"\")","v":""},{"$f":"IFERROR(IF(A105=\"\",\"\",HLOOKUP(A105,'Lista Psychotropy'!$H$1:$CY$7,2,FALSE)),\"\")","v":""},{"$f":"IFERROR(IF(A105=\"\",\"\",HLOOKUP(A105,'Lista Psychotropy'!$H$13:$CY$18,2,FALSE)),\"\")","v":""},null,null,null,null,null,null,null,null,null,null,null,null,null,null,null,null,null,null,null,null,null,null,null,"1","2"]
[null,{"$f":"IFERROR(IF(A106=\"\",\"\",VLOOKUP(A106,'Lista Psychotropy'!$A$2:$B$98,2,FALSE)),\"\")","v":""},{"$f":"IFERROR(IF(A106=\"\",\"\",HLOOKUP(A106,'Lista Psychotropy'!$H$34:$CY$37,2,FALSE)),\"\")","v":""},{"$f":"IFERROR(IF(A106=\"\",\"\",HLOOKUP(A106,'Lista Psychotropy'!$H$1:$CY$7,2,FALSE)),\"\")","v":""},{"$f":"IFERROR(IF(A106=\"\",\"\",HLOOKUP(A106,'Lista Psychotropy'!$H$13:$CY$18,2,FALSE)),\"\")","v":""},null,null,null,null,null,null,null,null,null,null,null,null,null,null,null,null,null,null,null,null,null,null,null,"1","2"]
[null,{"$f":"IFERROR(IF(A107=\"\",\"\",VLOOKUP(A107,'Lista Psychotropy'!$A$2:$B$98,2,FALSE)),\"\")","v":""},{"$f":"IFERROR(IF(A107=\"\",\"\",HLOOKUP(A107,'Lista Psychotropy'!$H$34:$CY$37,2,FALSE)),\"\")","v":""},{"$f":"IFERROR(IF(A107=\"\",\"\",HLOOKUP(A107,'Lista Psychotropy'!$H$1:$CY$7,2,FALSE)),\"\")","v":""},{"$f":"IFERROR(IF(A107=\"\",\"\",HLOOKUP(A107,'Lista Psychotropy'!$H$13:$CY$18,2,FALSE)),\"\")","v":""},null,null,null,null,null,null,null,null,null,null,null,null,null,null,null,null,null,null,null,null,null,null,null,"1","2"]
[null,{"$f":"IFERROR(IF(A108=\"\",\"\",VLOOKUP(A108,'Lista Psychotropy'!$A$2:$B$98,2,FALSE)),\"\")","v":""},{"$f":"IFERROR(IF(A108=\"\",\"\",HLOOKUP(A108,'Lista Psychotropy'!$H$34:$CY$37,2,FALSE)),\"\")","v":""},{"$f":"IFERROR(IF(A108=\"\",\"\",HLOOKUP(A108,'Lista Psychotropy'!$H$1:$CY$7,2,FALSE)),\"\")","v":""},{"$f":"IFERROR(IF(A108=\"\",\"\",HLOOKUP(A108,'Lista Psychotropy'!$H$13:$CY$18,2,FALSE)),\"\")","v":""},null,null,null,null,null,null,null,null,null,null,null,null,null,null,null,null,null,null,null,null,null,null,null,"1","2"]
[null,{"$f":"IFERROR(IF(A109=\"\",\"\",VLOOKUP(A109,'Lista Psychotropy'!$A$2:$B$98,2,FALSE)),\"\")","v":""},{"$f":"IFERROR(IF(A109=\"\",\"\",HLOOKUP(A109,'Lista Psychotropy'!$H$34:$CY$37,2,FALSE)),\"\")","v":""},{"$f":"IFERROR(IF(A109=\"\",\"\",HLOOKUP(A109,'Lista Psychotropy'!$H$1:$CY$7,2,FALSE)),\"\")","v":""},{"$f":"IFERROR(IF(A109=\"\",\"\",HLOOKUP(A109,'Lista Psychotropy'!$H$13:$CY$18,2,FALSE)),\"\")","v":""},null,null,null,null,null,null,null,null,null,null,null,null,null,null,null,null,null,null,null,null,null,null,null,"1","2"]
[null,{"$f":"IFERROR(IF(A110=\"\",\"\",VLOOKUP(A110,'Lista Psychotropy'!$A$2:$B$98,2,FALSE)),\"\")","v":""},{"$f":"IFERROR(IF(A110=\"\",\"\",HLOOKUP(A110,'Lista Psychotropy'!$H$34:$CY$37,2,FALSE)),\"\")","v":""},{"$f":"IFERROR(IF(A110=\"\",\"\",HLOOKUP(A110,'Lista Psychotropy'!$H$1:$CY$7,2,FALSE)),\"\")","v":""},{"$f":"IFERROR(IF(A110=\"\",\"\",HLOOKUP(A110,'Lista Psychotropy'!$H$13:$CY$18,2,FALSE)),\"\")","v":""},null,null,null,null,null,null,null,null,null,null,null,null,null,null,null,null,null,null,null,null,null,null,null,"1","2"]
[null,{"$f":"IFERROR(IF(A111=\"\",\"\",VLOOKUP(A111,'Lista Psychotropy'!$A$2:$B$98,2,FALSE)),\"\")","v":""},{"$f":"IFERROR(IF(A111=\"\",\"\",HLOOKUP(A111,'Lista Psychotropy'!$H$34:$CY$37,2,FALSE)),\"\")","v":""},{"$f":"IFERROR(IF(A111=\"\",\"\",HLOOKUP(A111,'Lista Psychotropy'!$H$1:$CY$7,2,FALSE)),\"\")","v":""},{"$f":"IFERROR(IF(A111=\"\",\"\",HLOOKUP(A111,'Lista Psychotropy'!$H$13:$CY$18,2,FALSE)),\"\")","v":""},null,null,null,null,null,null,null,null,null,null,null,null,null,null,null,null,null,null,null,null,null,null,null,"1","2"]
[null,{"$f":"IFERROR(IF(A112=\"\",\"\",VLOOKUP(A112,'Lista Psychotropy'!$A$2:$B$98,2,FALSE)),\"\")","v":""},{"$f":"IFERROR(IF(A112=\"\",\"\",HLOOKUP(A112,'Lista Psychotropy'!$H$34:$CY$37,2,FALSE)),\"\")","v":""},{"$f":"IFERROR(IF(A112=\"\",\"\",HLOOKUP(A112,'Lista Psychotropy'!$H$1:$CY$7,2,FALSE)),\"\")","v":""},{"$f":"IFERROR(IF(A112=\"\",\"\",HLOOKUP(A112,'Lista Psychotropy'!$H$13:$CY$18,2,FALSE)),\"\")","v":""},null,null,null,null,null,null,null,null,null,null,null,null,null,null,null,null,null,null,null,null,null,null,null,"1","2"]
[null,{"$f":"IFERROR(IF(A113=\"\",\"\",VLOOKUP(A113,'Lista Psychotropy'!$A$2:$B$98,2,FALSE)),\"\")","v":""},{"$f":"IFERROR(IF(A113=\"\",\"\",HLOOKUP(A113,'Lista Psychotropy'!$H$34:$CY$37,2,FALSE)),\"\")","v":""},{"$f":"IFERROR(IF(A113=\"\",\"\",HLOOKUP(A113,'Lista Psychotropy'!$H$1:$CY$7,2,FALSE)),\"\")","v":""},{"$f":"IFERROR(IF(A113=\"\",\"\",HLOOKUP(A113,'Lista Psychotropy'!$H$13:$CY$18,2,FALSE)),\"\")","v":""},null,null,null,null,null,null,null,null,null,null,null,null,null,null,null,null,null,null,null,null,null,null,null,"1","2"]
[null,{"$f":"IFERROR(IF(A114=\"\",\"\",VLOOKUP(A114,'Lista Psychotropy'!$A$2:$B$98,2,FALSE)),\"\")","v":""},{"$f":"IFERROR(IF(A114=\"\",\"\",HLOOKUP(A114,'Lista Psychotropy'!$H$34:$CY$37,2,FALSE)),\"\")","v":""},{"$f":"IFERROR(IF(A114=\"\",\"\",HLOOKUP(A114,'Lista Psychotropy'!$H$1:$CY$7,2,FALSE)),\"\")","v":""},{"$f":"IFERROR(IF(A114=\"\",\"\",HLOOKUP(A114,'Lista Psychotropy'!$H$13:$CY$18,2,FALSE)),\"\")","v":""},null,null,null,null,null,null,null,null,null,null,null,null,null,null,null,null,null,null,null,null,null,null,null,"1","2"]
[null,{"$f":"IFERROR(IF(A115=\"\",\"\",VLOOKUP(A115,'Lista Psychotropy'!$A$2:$B$98,2,FALSE)),\"\")","v":""},{"$f":"IFERROR(IF(A115=\"\",\"\",HLOOKUP(A115,'Lista Psychotropy'!$H$34:$CY$37,2,FALSE)),\"\")","v":""},{"$f":"IFERROR(IF(A115=\"\",\"\",HLOOKUP(A115,'Lista Psychotropy'!$H$1:$CY$7,2,FALSE)),\"\")","v":""},{"$f":"IFERROR(IF(A115=\"\",\"\",HLOOKUP(A115,'Lista Psychotropy'!$H$13:$CY$18,2,FALSE)),\"\")","v":""},null,null,null,null,null,null,null,null,null,null,null,null,null,null,null,null,null,null,null,null,null,null,null,"1","2"]
[null,{"$f":"IFERROR(IF(A116=\"\",\"\",VLOOKUP(A116,'Lista Psychotropy'!$A$2:$B$98,2,FALSE)),\"\")","v":""},{"$f":"IFERROR(IF(A116=\"\",\"\",HLOOKUP(A116,'Lista Psychotropy'!$H$34:$CY$37,2,FALSE)),\"\")","v":""},{"$f":"IFERROR(IF(A116=\"\",\"\",HLOOKUP(A116,'Lista Psychotropy'!$H$1:$CY$7,2,FALSE)),\"\")","v":""},{"$f":"IFERROR(IF(A116=\"\",\"\",HLOOKUP(A116,'Lista Psychotropy'!$H$13:$CY$18,2,FALSE)),\"\")","v":""},null,null,null,null,null,null,null,null,null,null,null,null,null,null,null,null,null,null,null,null,null,null,null,"1","2"]
[null,{"$f":"IFERROR(IF(A117=\"\",\"\",VLOOKUP(A117,'Lista Psychotropy'!$A$2:$B$98,2,FALSE)),\"\")","v":""},{"$f":"IFERROR(IF(A117=\"\",\"\",HLOOKUP(A117,'Lista Psychotropy'!$H$34:$CY$37,2,FALSE)),\"\")","v":""},{"$f":"IFERROR(IF(A117=\"\",\"\",HLOOKUP(A117,'Lista Psychotropy'!$H$1:$CY$7,2,FALSE)),\"\")","v":""},{"$f":"IFERROR(IF(A117=\"\",\"\",HLOOKUP(A117,'Lista Psychotropy'!$H$13:$CY$18,2,FALSE)),\"\")","v":""},null,null,null,null,null,null,null,null,null,null,null,null,null,null,null,null,null,null,null,null,null,null,null,"1","2"]
[null,{"$f":"IFERROR(IF(A118=\"\",\"\",VLOOKUP(A118,'Lista Psychotropy'!$A$2:$B$98,2,FALSE)),\"\")","v":""},{"$f":"IFERROR(IF(A118=\"\",\"\",HLOOKUP(A118,'Lista Psychotropy'!$H$34:$CY$37,2,FALSE)),\"\")","v":""},{"$f":"IFERROR(IF(A118=\"\",\"\",HLOOKUP(A118,'Lista Psychotropy'!$H$1:$CY$7,2,FALSE)),\"\")","v":""},{"$f":"IFERROR(IF(A118=\"\",\"\",HLOOKUP(A118,'Lista Psychotropy'!$H$13:$CY$18,2,FALSE)),\"\")","v":""},null,null,null,null,null,null,null,null,null,null,null,null,null,null,null,null,null,null,null,null,null,null,null,"1","2"]
[null,{"$f":"IFERROR(IF(A119=\"\",\"\",VLOOKUP(A119,'Lista Psychotropy'!$A$2:$B$98,2,FALSE)),\"\")","v":""},{"$f":"IFERROR(IF(A119=\"\",\"\",HLOOKUP(A119,'Lista Psychotropy'!$H$34:$CY$37,2,FALSE)),\"\")","v":""},{"$f":"IFERROR(IF(A119=\"\",\"\",HLOOKUP(A119,'Lista Psychotropy'!$H$1:$CY$7,2,FALSE)),\"\")","v":""},{"$f":"IFERROR(IF(A119=\"\",\"\",HLOOKUP(A119,'Lista Psychotropy'!$H$13:$CY$18,2,FALSE)),\"\")","v":""},null,null,null,null,null,null,null,null,null,null,null,null,null,null,null,null,null,null,null,null,null,null,null,"1","2"]
[null,{"$f":"IFERROR(IF(A120=\"\",\"\",VLOOKUP(A120,'Lista Psychotropy'!$A$2:$B$98,2,FALSE)),\"\")","v":""},{"$f":"IFERROR(IF(A120=\"\",\"\",HLOOKUP(A120,'Lista Psychotropy'!$H$34:$CY$37,2,FALSE)),\"\")","v":""},{"$f":"IFERROR(IF(A120=\"\",\"\",HLOOKUP(A120,'Lista Psychotropy'!$H$1:$CY$7,2,FALSE)),\"\")","v":""},{"$f":"IFERROR(IF(A120=\"\",\"\",HLOOKUP(A120,'Lista Psychotropy'!$H$13:$CY$18,2,FALSE)),\"\")","v":""},null,null,null,null,null,null,null,null,null,null,null,null,null,null,null,null,null,null,null,null,null,null,null,"1","2"]
[null,{"$f":"IFERROR(IF(A121=\"\",\"\",VLOOKUP(A121,'Lista Psychotropy'!$A$2:$B$98,2,FALSE)),\"\")","v":""},{"$f":"IFERROR(IF(A121=\"\",\"\",HLOOKUP(A121,'Lista Psychotropy'!$H$34:$CY$37,2,FALSE)),\"\")","v":""},{"$f":"IFERROR(IF(A121=\"\",\"\",HLOOKUP(A121,'Lista Psychotropy'!$H$1:$CY$7,2,FALSE)),\"\")","v":""},{"$f":"IFERROR(IF(A121=\"\",\"\",HLOOKUP(A121,'Lista Psychotropy'!$H$13:$CY$18,2,FALSE)),\"\")","v":""},null,null,null,null,null,null,null,null,null,null,null,null,null,null,null,null,null,null,null,null,null,null,null,"1","2"]
[null,{"$f":"IFERROR(IF(A122=\"\",\"\",VLOOKUP(A122,'Lista Psychotropy'!$A$2:$B$98,2,FALSE)),\"\")","v":""},{"$f":"IFERROR(IF(A122=\"\",\"\",HLOOKUP(A122,'Lista Psychotropy'!$H$34:$CY$37,2,FALSE)),\"\")","v":""},{"$f":"IFERROR(IF(A122=\"\",\"\",HLOOKUP(A122,'Lista Psychotropy'!$H$1:$CY$7,2,FALSE)),\"\")","v":""},{"$f":"IFERROR(IF(A122=\"\",\"\",HLOOKUP(A122,'Lista Psychotropy'!$H$13:$CY$18,2,FALSE)),\"\")","v":""},null,null,null,null,null,null,null,null,null,null,null,null,null,null,null,null,null,null,null,null,null,null,null,"1","2"]
[null,{"$f":"IFERROR(IF(A123=\"\",\"\",VLOOKUP(A123,'Lista Psychotropy'!$A$2:$B$98,2,FALSE)),\"\")","v":""},{"$f":"IFERROR(IF(A123=\"\",\"\",HLOOKUP(A123,'Lista Psychotropy'!$H$34:$CY$37,2,FALSE)),\"\")","v":""},{"$f":"IFERROR(IF(A123=\"\",\"\",HLOOKUP(A123,'Lista Psychotropy'!$H$1:$CY$7,2,FALSE)),\"\")","v":""},{"$f":"IFERROR(IF(A123=\"\",\"\",HLOOKUP(A123,'Lista Psychotropy'!$H$13:$CY$18,2,FALSE)),\"\")","v":""},null,null,null,null,null,null,null,null,null,null,null,null,null,null,null,null,null,null,null,null,null,null,null,"1","2"]
[null,{"$f":"IFERROR(IF(A124=\"\",\"\",VLOOKUP(A124,'Lista Psychotropy'!$A$2:$B$98,2,FALSE)),\"\")","v":""},{"$f":"IFERROR(IF(A124=\"\",\"\",HLOOKUP(A124,'Lista Psychotropy'!$H$34:$CY$37,2,FALSE)),\"\")","v":""},{"$f":"IFERROR(IF(A124=\"\",\"\",HLOOKUP(A124,'Lista Psychotropy'!$H$1:$CY$7,2,FALSE)),\"\")","v":""},{"$f":"IFERROR(IF(A124=\"\",\"\",HLOOKUP(A124,'Lista Psychotropy'!$H$13:$CY$18,2,FALSE)),\"\")","v":""},null,null,null,null,null,null,null,null,null,null,null,null,null,null,null,null,null,null,null,null,null,null,null,"1","2"]
[null,{"$f":"IFERROR(IF(A125=\"\",\"\",VLOOKUP(A125,'Lista Psychotropy'!$A$2:$B$98,2,FALSE)),\"\")","v":""},{"$f":"IFERROR(IF(A125=\"\",\"\",HLOOKUP(A125,'Lista Psychotropy'!$H$34:$CY$37,2,FALSE)),\"\")","v":""},{"$f":"IFERROR(IF(A125=\"\",\"\",HLOOKUP(A125,'Lista Psychotropy'!$H$1:$CY$7,2,FALSE)),\"\")","v":""},{"$f":"IFERROR(IF(A125=\"\",\"\",HLOOKUP(A125,'Lista Psychotropy'!$H$13:$CY$18,2,FALSE)),\"\")","v":""},null,null,null,null,null,null,null,null,null,null,null,null,null,null,null,null,null,null,null,null,null,null,null,"1","2"]
[null,{"$f":"IFERROR(IF(A126=\"\",\"\",VLOOKUP(A126,'Lista Psychotropy'!$A$2:$B$98,2,FALSE)),\"\")","v":""},{"$f":"IFERROR(IF(A126=\"\",\"\",HLOOKUP(A126,'Lista Psychotropy'!$H$34:$CY$37,2,FALSE)),\"\")","v":""},{"$f":"IFERROR(IF(A126=\"\",\"\",HLOOKUP(A126,'Lista Psychotropy'!$H$1:$CY$7,2,FALSE)),\"\")","v":""},{"$f":"IFERROR(IF(A126=\"\",\"\",HLOOKUP(A126,'Lista Psychotropy'!$H$13:$CY$18,2,FALSE)),\"\")","v":""},null,null,null,null,null,null,null,null,null,null,null,null,null,null,null,null,null,null,null,null,null,null,null,"1","2"]
[null,{"$f":"IFERROR(IF(A127=\"\",\"\",VLOOKUP(A127,'Lista Psychotropy'!$A$2:$B$98,2,FALSE)),\"\")","v":""},{"$f":"IFERROR(IF(A127=\"\",\"\",HLOOKUP(A127,'Lista Psychotropy'!$H$34:$CY$37,2,FALSE)),\"\")","v":""},{"$f":"IFERROR(IF(A127=\"\",\"\",HLOOKUP(A127,'Lista Psychotropy'!$H$1:$CY$7,2,FALSE)),\"\")","v":""},{"$f":"IFERROR(IF(A127=\"\",\"\",HLOOKUP(A127,'Lista Psychotropy'!$H$13:$CY$18,2,FALSE)),\"\")","v":""},null,null,null,null,null,null,null,null,null,null,null,null,null,null,null,null,null,null,null,null,null,null,null,"1","2"]
[null,{"$f":"IFERROR(IF(A128=\"\",\"\",VLOOKUP(A128,'Lista Psychotropy'!$A$2:$B$98,2,FALSE)),\"\")","v":""},{"$f":"IFERROR(IF(A128=\"\",\"\",HLOOKUP(A128,'Lista Psychotropy'!$H$34:$CY$37,2,FALSE)),\"\")","v":""},{"$f":"IFERROR(IF(A128=\"\",\"\",HLOOKUP(A128,'Lista Psychotropy'!$H$1:$CY$7,2,FALSE)),\"\")","v":""},{"$f":"IFERROR(IF(A128=\"\",\"\",HLOOKUP(A128,'Lista Psychotropy'!$H$13:$CY$18,2,FALSE)),\"\")","v":""},null,null,null,null,null,null,null,null,null,null,null,null,null,null,null,null,null,null,null,null,null,null,null,"1","2"]
[null,{"$f":"IFERROR(IF(A129=\"\",\"\",VLOOKUP(A129,'Lista Psychotropy'!$A$2:$B$98,2,FALSE)),\"\")","v":""},{"$f":"IFERROR(IF(A129=\"\",\"\",HLOOKUP(A129,'Lista Psychotropy'!$H$34:$CY$37,2,FALSE)),\"\")","v":""},{"$f":"IFERROR(IF(A129=\"\",\"\",HLOOKUP(A129,'Lista Psychotropy'!$H$1:$CY$7,2,FALSE)),\"\")","v":""},{"$f":"IFERROR(IF(A129=\"\",\"\",HLOOKUP(A129,'Lista Psychotropy'!$H$13:$CY$18,2,FALSE)),\"\")","v":""},null,null,null,null,null,null,null,null,null,null,null,null,null,null,null,null,null,null,null,null,null,null,null,"1","2"]
[null,{"$f":"IFERROR(IF(A130=\"\",\"\",VLOOKUP(A130,'Lista Psychotropy'!$A$2:$B$98,2,FALSE)),\"\")","v":""},{"$f":"IFERROR(IF(A130=\"\",\"\",HLOOKUP(A130,'Lista Psychotropy'!$H$34:$CY$37,2,FALSE)),\"\")","v":""},{"$f":"IFERROR(IF(A130=\"\",\"\",HLOOKUP(A130,'Lista Psychotropy'!$H$1:$CY$7,2,FALSE)),\"\")","v":""},{"$f":"IFERROR(IF(A130=\"\",\"\",HLOOKUP(A130,'Lista Psychotropy'!$H$13:$CY$18,2,FALSE)),\"\")","v":""},null,null,null,null,null,null,null,null,null,null,null,null,null,null,null,null,null,null,null,null,null,null,null,"1","2"]
[null,{"$f":"IFERROR(IF(A131=\"\",\"\",VLOOKUP(A131,'Lista Psychotropy'!$A$2:$B$98,2,FALSE)),\"\")","v":""},{"$f":"IFERROR(IF(A131=\"\",\"\",HLOOKUP(A131,'Lista Psychotropy'!$H$34:$CY$37,2,FALSE)),\"\")","v":""},{"$f":"IFERROR(IF(A131=\"\",\"\",HLOOKUP(A131,'Lista Psychotropy'!$H$1:$CY$7,2,FALSE)),\"\")","v":""},{"$f":"IFERROR(IF(A131=\"\",\"\",HLOOKUP(A131,'Lista Psychotropy'!$H$13:$CY$18,2,FALSE)),\"\")","v":""},null,null,null,null,null,null,null,null,null,null,null,null,null,null,null,null,null,null,null,null,null,null,null,"1","2"]
[null,{"$f":"IFERROR(IF(A132=\"\",\"\",VLOOKUP(A132,'Lista Psychotropy'!$A$2:$B$98,2,FALSE)),\"\")","v":""},{"$f":"IFERROR(IF(A132=\"\",\"\",HLOOKUP(A132,'Lista Psychotropy'!$H$34:$CY$37,2,FALSE)),\"\")","v":""},{"$f":"IFERROR(IF(A132=\"\",\"\",HLOOKUP(A132,'Lista Psychotropy'!$H$1:$CY$7,2,FALSE)),\"\")","v":""},{"$f":"IFERROR(IF(A132=\"\",\"\",HLOOKUP(A132,'Lista Psychotropy'!$H$13:$CY$18,2,FALSE)),\"\")","v":""},null,null,null,null,null,null,null,null,null,null,null,null,null,null,null,null,null,null,null,null,null,null,null,"1","2"]
[null,{"$f":"IFERROR(IF(A133=\"\",\"\",VLOOKUP(A133,'Lista Psychotropy'!$A$2:$B$98,2,FALSE)),\"\")","v":""},{"$f":"IFERROR(IF(A133=\"\",\"\",HLOOKUP(A133,'Lista Psychotropy'!$H$34:$CY$37,2,FALSE)),\"\")","v":""},{"$f":"IFERROR(IF(A133=\"\",\"\",HLOOKUP(A133,'Lista Psychotropy'!$H$1:$CY$7,2,FALSE)),\"\")","v":""},{"$f":"IFERROR(IF(A133=\"\",\"\",HLOOKUP(A133,'Lista Psychotropy'!$H$13:$CY$18,2,FALSE)),\"\")","v":""},null,null,null,null,null,null,null,null,null,null,null,null,null,null,null,null,null,null,null,null,null,null,null,"1","2"]
[null,{"$f":"IFERROR(IF(A134=\"\",\"\",VLOOKUP(A134,'Lista Psychotropy'!$A$2:$B$98,2,FALSE)),\"\")","v":""},{"$f":"IFERROR(IF(A134=\"\",\"\",HLOOKUP(A134,'Lista Psychotropy'!$H$34:$CY$37,2,FALSE)),\"\")","v":""},{"$f":"IFERROR(IF(A134=\"\",\"\",HLOOKUP(A134,'Lista Psychotropy'!$H$1:$CY$7,2,FALSE)),\"\")","v":""},{"$f":"IFERROR(IF(A134=\"\",\"\",HLOOKUP(A134,'Lista Psychotropy'!$H$13:$CY$18,2,FALSE)),\"\")","v":""},null,null,null,null,null,null,null,null,null,null,null,null,null,null,null,null,null,null,null,null,null,null,null,"1","2"]
[null,{"$f":"IFERROR(IF(A135=\"\",\"\",VLOOKUP(A135,'Lista Psychotropy'!$A$2:$B$98,2,FALSE)),\"\")","v":""},{"$f":"IFERROR(IF(A135=\"\",\"\",HLOOKUP(A135,'Lista Psychotropy'!$H$34:$CY$37,2,FALSE)),\"\")","v":""},{"$f":"IFERROR(IF(A135=\"\",\"\",HLOOKUP(A135,'Lista Psychotropy'!$H$1:$CY$7,2,FALSE)),\"\")","v":""},{"$f":"IFERROR(IF(A135=\"\",\"\",HLOOKUP(A135,'Lista Psychotropy'!$H$13:$CY$18,2,FALSE)),\"\")","v":""},null,null,null,null,null,null,null,null,null,null,null,null,null,null,null,null,null,null,null,null,null,null,null,"1","2"]
[null,{"$f":"IFERROR(IF(A136=\"\",\"\",VLOOKUP(A136,'Lista Psychotropy'!$A$2:$B$98,2,FALSE)),\"\")","v":""},{"$f":"IFERROR(IF(A136=\"\",\"\",HLOOKUP(A136,'Lista Psychotropy'!$H$34:$CY$37,2,FALSE)),\"\")","v":""},{"$f":"IFERROR(IF(A136=\"\",\"\",HLOOKUP(A136,'Lista Psychotropy'!$H$1:$CY$7,2,FALSE)),\"\")","v":""},{"$f":"IFERROR(IF(A136=\"\",\"\",HLOOKUP(A136,'Lista Psychotropy'!$H$13:$CY$18,2,FALSE)),\"\")","v":""},null,null,null,null,null,null,null,null,null,null,null,null,null,null,null,null,null,null,null,null,null,null,null,"1","2"]
[null,{"$f":"IFERROR(IF(A137=\"\",\"\",VLOOKUP(A137,'Lista Psychotropy'!$A$2:$B$98,2,FALSE)),\"\")","v":""},{"$f":"IFERROR(IF(A137=\"\",\"\",HLOOKUP(A137,'Lista Psychotropy'!$H$34:$CY$37,2,FALSE)),\"\")","v":""},{"$f":"IFERROR(IF(A137=\"\",\"\",HLOOKUP(A137,'Lista Psychotropy'!$H$1:$CY$7,2,FALSE)),\"\")","v":""},{"$f":"IFERROR(IF(A137=\"\",\"\",HLOOKUP(A137,'Lista Psychotropy'!$H$13:$CY$18,2,FALSE)),\"\")","v":""},null,null,null,null,null,null,null,null,null,null,null,null,null,null,null,null,null,null,null,null,null,null,null,"1","2"]
[null,{"$f":"IFERROR(IF(A138=\"\",\"\",VLOOKUP(A138,'Lista Psychotropy'!$A$2:$B$98,2,FALSE)),\"\")","v":""},{"$f":"IFERROR(IF(A138=\"\",\"\",HLOOKUP(A138,'Lista Psychotropy'!$H$34:$CY$37,2,FALSE)),\"\")","v":""},{"$f":"IFERROR(IF(A138=\"\",\"\",HLOOKUP(A138,'Lista Psychotropy'!$H$1:$CY$7,2,FALSE)),\"\")","v":""},{"$f":"IFERROR(IF(A138=\"\",\"\",HLOOKUP(A138,'Lista Psychotropy'!$H$13:$CY$18,2,FALSE)),\"\")","v":""},null,null,null,null,null,null,null,null,null,null,null,null,null,null,null,null,null,null,null,null,null,null,null,{"$f":"A138&1","v":"1"},{"$f":"A138&2","v":"2"}]
[null,{"$f":"IFERROR(IF(A139=\"\",\"\",VLOOKUP(A139,'Lista Psychotropy'!$A$2:$B$98,2,FALSE)),\"\")","v":""},{"$f":"IFERROR(IF(A139=\"\",\"\",HLOOKUP(A139,'Lista Psychotropy'!$H$34:$CY$37,2,FALSE)),\"\")","v":""},{"$f":"IFERROR(IF(A139=\"\",\"\",HLOOKUP(A139,'Lista Psychotropy'!$H$1:$CY$7,2,FALSE)),\"\")","v":""},{"$f":"IFERROR(IF(A139=\"\",\"\",HLOOKUP(A139,'Lista Psychotropy'!$H$13:$CY$18,2,FALSE)),\"\")","v":""},null,null,null,null,null,null,null,null,null,null,null,null,null,null,null,null,null,null,null,null,null,null,null,"1","2"]
[null,{"$f":"IFERROR(IF(A140=\"\",\"\",VLOOKUP(A140,'Lista Psychotropy'!$A$2:$B$98,2,FALSE)),\"\")","v":""},{"$f":"IFERROR(IF(A140=\"\",\"\",HLOOKUP(A140,'Lista Psychotropy'!$H$34:$CY$37,2,FALSE)),\"\")","v":""},{"$f":"IFERROR(IF(A140=\"\",\"\",HLOOKUP(A140,'Lista Psychotropy'!$H$1:$CY$7,2,FALSE)),\"\")","v":""},{"$f":"IFERROR(IF(A140=\"\",\"\",HLOOKUP(A140,'Lista Psychotropy'!$H$13:$CY$18,2,FALSE)),\"\")","v":""},null,null,null,null,null,null,null,null,null,null,null,null,null,null,null,null,null,null,null,null,null,null,null,"1","2"]
[null,{"$f":"IFERROR(IF(A141=\"\",\"\",VLOOKUP(A141,'Lista Psychotropy'!$A$2:$B$98,2,FALSE)),\"\")","v":""},{"$f":"IFERROR(IF(A141=\"\",\"\",HLOOKUP(A141,'Lista Psychotropy'!$H$34:$CY$37,2,FALSE)),\"\")","v":""},{"$f":"IFERROR(IF(A141=\"\",\"\",HLOOKUP(A141,'Lista Psychotropy'!$H$1:$CY$7,2,FALSE)),\"\")","v":""},{"$f":"IFERROR(IF(A141=\"\",\"\",HLOOKUP(A141,'Lista Psychotropy'!$H$13:$CY$18,2,FALSE)),\"\")","v":""},null,null,null,null,null,null,null,null,null,null,null,null,null,null,null,null,null,null,null,null,null,null,null,"1","2"]
[null,{"$f":"IFERROR(IF(A142=\"\",\"\",VLOOKUP(A142,'Lista Psychotropy'!$A$2:$B$98,2,FALSE)),\"\")","v":""},{"$f":"IFERROR(IF(A142=\"\",\"\",HLOOKUP(A142,'Lista Psychotropy'!$H$34:$CY$37,2,FALSE)),\"\")","v":""},{"$f":"IFERROR(IF(A142=\"\",\"\",HLOOKUP(A142,'Lista Psychotropy'!$H$1:$CY$7,2,FALSE)),\"\")","v":""},{"$f":"IFERROR(IF(A142=\"\",\"\",HLOOKUP(A142,'Lista Psychotropy'!$H$13:$CY$18,2,FALSE)),\"\")","v":""},null,null,null,null,null,null,null,null,null,null,null,null,null,null,null,null,null,null,null,null,null,null,null,"1","2"]
[null,{"$f":"IFERROR(IF(A143=\"\",\"\",VLOOKUP(A143,'Lista Psychotropy'!$A$2:$B$98,2,FALSE)),\"\")","v":""},{"$f":"IFERROR(IF(A143=\"\",\"\",HLOOKUP(A143,'Lista Psychotropy'!$H$34:$CY$37,2,FALSE)),\"\")","v":""},{"$f":"IFERROR(IF(A143=\"\",\"\",HLOOKUP(A143,'Lista Psychotropy'!$H$1:$CY$7,2,FALSE)),\"\")","v":""},{"$f":"IFERROR(IF(A143=\"\",\"\",HLOOKUP(A143,'Lista Psychotropy'!$H$13:$CY$18,2,FALSE)),\"\")","v":""},null,null,null,null,null,null,null,null,null,null,null,null,null,null,null,null,null,null,null,null,null,null,null,"1","2"]
[null,{"$f":"IFERROR(IF(A144=\"\",\"\",VLOOKUP(A144,'Lista Psychotropy'!$A$2:$B$98,2,FALSE)),\"\")","v":""},{"$f":"IFERROR(IF(A144=\"\",\"\",HLOOKUP(A144,'Lista Psychotropy'!$H$34:$CY$37,2,FALSE)),\"\")","v":""},{"$f":"IFERROR(IF(A144=\"\",\"\",HLOOKUP(A144,'Lista Psychotropy'!$H$1:$CY$7,2,FALSE)),\"\")","v":""},{"$f":"IFERROR(IF(A144=\"\",\"\",HLOOKUP(A144,'Lista Psychotropy'!$H$13:$CY$18,2,FALSE)),\"\")","v":""},null,null,null,null,null,null,null,null,null,null,null,null,null,null,null,null,null,null,null,null,null,null,null,"1","2"]
[null,{"$f":"IFERROR(IF(A145=\"\",\"\",VLOOKUP(A145,'Lista Psychotropy'!$A$2:$B$98,2,FALSE)),\"\")","v":""},{"$f":"IFERROR(IF(A145=\"\",\"\",HLOOKUP(A145,'Lista Psychotropy'!$H$34:$CY$37,2,FALSE)),\"\")","v":""},{"$f":"IFERROR(IF(A145=\"\",\"\",HLOOKUP(A145,'Lista Psychotropy'!$H$1:$CY$7,2,FALSE)),\"\")","v":""},{"$f":"IFERROR(IF(A145=\"\",\"\",HLOOKUP(A145,'Lista Psychotropy'!$H$13:$CY$18,2,FALSE)),\"\")","v":""},null,null,null,null,null,null,null,null,null,null,null,null,null,null,null,null,null,null,null,null,null,null,null,"1","2"]
[null,{"$f":"IFERROR(IF(A146=\"\",\"\",VLOOKUP(A146,'Lista Psychotropy'!$A$2:$B$98,2,FALSE)),\"\")","v":""},{"$f":"IFERROR(IF(A146=\"\",\"\",HLOOKUP(A146,'Lista Psychotropy'!$H$34:$CY$37,2,FALSE)),\"\")","v":""},{"$f":"IFERROR(IF(A146=\"\",\"\",HLOOKUP(A146,'Lista Psychotropy'!$H$1:$CY$7,2,FALSE)),\"\")","v":""},{"$f":"IFERROR(IF(A146=\"\",\"\",HLOOKUP(A146,'Lista Psychotropy'!$H$13:$CY$18,2,FALSE)),\"\")","v":""},null,null,null,null,null,null,null,null,null,null,null,null,null,null,null,null,null,null,null,null,null,null,null,"1","2"]
[null,{"$f":"IFERROR(IF(A147=\"\",\"\",VLOOKUP(A147,'Lista Psychotropy'!$A$2:$B$98,2,FALSE)),\"\")","v":""},{"$f":"IFERROR(IF(A147=\"\",\"\",HLOOKUP(A147,'Lista Psychotropy'!$H$34:$CY$37,2,FALSE)),\"\")","v":""},{"$f":"IFERROR(IF(A147=\"\",\"\",HLOOKUP(A147,'Lista Psychotropy'!$H$1:$CY$7,2,FALSE)),\"\")","v":""},{"$f":"IFERROR(IF(A147=\"\",\"\",HLOOKUP(A147,'Lista Psychotropy'!$H$13:$CY$18,2,FALSE)),\"\")","v":""},null,null,null,null,null,null,null,null,null,null,null,null,null,null,null,null,null,null,null,null,null,null,null,"1","2"]
[null,{"$f":"IFERROR(IF(A148=\"\",\"\",VLOOKUP(A148,'Lista Psychotropy'!$A$2:$B$98,2,FALSE)),\"\")","v":""},{"$f":"IFERROR(IF(A148=\"\",\"\",HLOOKUP(A148,'Lista Psychotropy'!$H$34:$CY$37,2,FALSE)),\"\")","v":""},{"$f":"IFERROR(IF(A148=\"\",\"\",HLOOKUP(A148,'Lista Psychotropy'!$H$1:$CY$7,2,FALSE)),\"\")","v":""},{"$f":"IFERROR(IF(A148=\"\",\"\",HLOOKUP(A148,'Lista Psychotropy'!$H$13:$CY$18,2,FALSE)),\"\")","v":""},null,null,null,null,null,null,null,null,null,null,null,null,null,null,null,null,null,null,null,null,null,null,null,"1","2"]
[null,{"$f":"IFERROR(IF(A149=\"\",\"\",VLOOKUP(A149,'Lista Psychotropy'!$A$2:$B$98,2,FALSE)),\"\")","v":""},{"$f":"IFERROR(IF(A149=\"\",\"\",HLOOKUP(A149,'Lista Psychotropy'!$H$34:$CY$37,2,FALSE)),\"\")","v":""},{"$f":"IFERROR(IF(A149=\"\",\"\",HLOOKUP(A149,'Lista Psychotropy'!$H$1:$CY$7,2,FALSE)),\"\")","v":""},{"$f":"IFERROR(IF(A149=\"\",\"\",HLOOKUP(A149,'Lista Psychotropy'!$H$13:$CY$18,2,FALSE)),\"\")","v":""},null,null,null,null,null,null,null,null,null,null,null,null,null,null,null,null,null,null,null,null,null,null,null,"1","2"]
[null,{"$f":"IFERROR(IF(A150=\"\",\"\",VLOOKUP(A150,'Lista Psychotropy'!$A$2:$B$98,2,FALSE)),\"\")","v":""},{"$f":"IFERROR(IF(A150=\"\",\"\",HLOOKUP(A150,'Lista Psychotropy'!$H$34:$CY$37,2,FALSE)),\"\")","v":""},{"$f":"IFERROR(IF(A150=\"\",\"\",HLOOKUP(A150,'Lista Psychotropy'!$H$1:$CY$7,2,FALSE)),\"\")","v":""},{"$f":"IFERROR(IF(A150=\"\",\"\",HLOOKUP(A150,'Lista Psychotropy'!$H$13:$CY$18,2,FALSE)),\"\")","v":""},null,null,null,null,null,null,null,null,null,null,null,null,null,null,null,null,null,null,null,null,null,null,null,"1","2"]
[null,{"$f":"IFERROR(IF(A151=\"\",\"\",VLOOKUP(A151,'Lista Psychotropy'!$A$2:$B$98,2,FALSE)),\"\")","v":""},{"$f":"IFERROR(IF(A151=\"\",\"\",HLOOKUP(A151,'Lista Psychotropy'!$H$34:$CY$37,2,FALSE)),\"\")","v":""},{"$f":"IFERROR(IF(A151=\"\",\"\",HLOOKUP(A151,'Lista Psychotropy'!$H$1:$CY$7,2,FALSE)),\"\")","v":""},{"$f":"IFERROR(IF(A151=\"\",\"\",HLOOKUP(A151,'Lista Psychotropy'!$H$13:$CY$18,2,FALSE)),\"\")","v":""},null,null,null,null,null,null,null,null,null,null,null,null,null,null,null,null,null,null,null,null,null,null,null,"1","2"]
[null,{"$f":"IFERROR(IF(A152=\"\",\"\",VLOOKUP(A152,'Lista Psychotropy'!$A$2:$B$98,2,FALSE)),\"\")","v":""},{"$f":"IFERROR(IF(A152=\"\",\"\",HLOOKUP(A152,'Lista Psychotropy'!$H$34:$CY$37,2,FALSE)),\"\")","v":""},{"$f":"IFERROR(IF(A152=\"\",\"\",HLOOKUP(A152,'Lista Psychotropy'!$H$1:$CY$7,2,FALSE)),\"\")","v":""},{"$f":"IFERROR(IF(A152=\"\",\"\",HLOOKUP(A152,'Lista Psychotropy'!$H$13:$CY$18,2,FALSE)),\"\")","v":""},null,null,null,null,null,null,null,null,null,null,null,null,null,null,null,null,null,null,null,null,null,null,null,"1","2"]
[null,{"$f":"IFERROR(IF(A153=\"\",\"\",VLOOKUP(A153,'Lista Psychotropy'!$A$2:$B$98,2,FALSE)),\"\")","v":""},{"$f":"IFERROR(IF(A153=\"\",\"\",HLOOKUP(A153,'Lista Psychotropy'!$H$34:$CY$37,2,FALSE)),\"\")","v":""},{"$f":"IFERROR(IF(A153=\"\",\"\",HLOOKUP(A153,'Lista Psychotropy'!$H$1:$CY$7,2,FALSE)),\"\")","v":""},{"$f":"IFERROR(IF(A153=\"\",\"\",HLOOKUP(A153,'Lista Psychotropy'!$H$13:$CY$18,2,FALSE)),\"\")","v":""},null,null,null,null,null,null,null,null,null,null,null,null,null,null,null,null,null,null,null,null,null,null,null,"1","2"]
[null,{"$f":"IFERROR(IF(A154=\"\",\"\",VLOOKUP(A154,'Lista Psychotropy'!$A$2:$B$98,2,FALSE)),\"\")","v":""},{"$f":"IFERROR(IF(A154=\"\",\"\",HLOOKUP(A154,'Lista Psychotropy'!$H$34:$CY$37,2,FALSE)),\"\")","v":""},{"$f":"IFERROR(IF(A154=\"\",\"\",HLOOKUP(A154,'Lista Psychotropy'!$H$1:$CY$7,2,FALSE)),\"\")","v":""},{"$f":"IFERROR(IF(A154=\"\",\"\",HLOOKUP(A154,'Lista Psychotropy'!$H$13:$CY$18,2,FALSE)),\"\")","v":""},null,null,null,null,null,null,null,null,null,null,null,null,null,null,null,null,null,null,null,null,null,null,null,"1","2"]
[null,{"$f":"IFERROR(IF(A155=\"\",\"\",VLOOKUP(A155,'Lista Psychotropy'!$A$2:$B$98,2,FALSE)),\"\")","v":""},{"$f":"IFERROR(IF(A155=\"\",\"\",HLOOKUP(A155,'Lista Psychotropy'!$H$34:$CY$37,2,FALSE)),\"\")","v":""},{"$f":"IFERROR(IF(A155=\"\",\"\",HLOOKUP(A155,'Lista Psychotropy'!$H$1:$CY$7,2,FALSE)),\"\")","v":""},{"$f":"IFERROR(IF(A155=\"\",\"\",HLOOKUP(A155,'Lista Psychotropy'!$H$13:$CY$18,2,FALSE)),\"\")","v":""},null,null,null,null,null,null,null,null,null,null,null,null,null,null,null,null,null,null,null,null,null,null,null,"1","2"]
[null,{"$f":"IFERROR(IF(A156=\"\",\"\",VLOOKUP(A156,'Lista Psychotropy'!$A$2:$B$98,2,FALSE)),\"\")","v":""},{"$f":"IFERROR(IF(A156=\"\",\"\",HLOOKUP(A156,'Lista Psychotropy'!$H$34:$CY$37,2,FALSE)),\"\")","v":""},{"$f":"IFERROR(IF(A156=\"\",\"\",HLOOKUP(A156,'Lista Psychotropy'!$H$1:$CY$7,2,FALSE)),\"\")","v":""},{"$f":"IFERROR(IF(A156=\"\",\"\",HLOOKUP(A156,'Lista Psychotropy'!$H$13:$CY$18,2,FALSE)),\"\")","v":""},null,null,null,null,null,null,null,null,null,null,null,null,null,null,null,null,null,null,null,null,null,null,null,"1","2"]
[null,{"$f":"IFERROR(IF(A157=\"\",\"\",VLOOKUP(A157,'Lista Psychotropy'!$A$2:$B$98,2,FALSE)),\"\")","v":""},{"$f":"IFERROR(IF(A157=\"\",\"\",HLOOKUP(A157,'Lista Psychotropy'!$H$34:$CY$37,2,FALSE)),\"\")","v":""},{"$f":"IFERROR(IF(A157=\"\",\"\",HLOOKUP(A157,'Lista Psychotropy'!$H$1:$CY$7,2,FALSE)),\"\")","v":""},{"$f":"IFERROR(IF(A157=\"\",\"\",HLOOKUP(A157,'Lista Psychotropy'!$H$13:$CY$18,2,FALSE)),\"\")","v":""},null,null,null,null,null,null,null,null,null,null,null,null,null,null,null,null,null,null,null,null,null,null,null,"1","2"]
[null,{"$f":"IFERROR(IF(A158=\"\",\"\",VLOOKUP(A158,'Lista Psychotropy'!$A$2:$B$98,2,FALSE)),\"\")","v":""},{"$f":"IFERROR(IF(A158=\"\",\"\",HLOOKUP(A158,'Lista Psychotropy'!$H$34:$CY$37,2,FALSE)),\"\")","v":""},{"$f":"IFERROR(IF(A158=\"\",\"\",HLOOKUP(A158,'Lista Psychotropy'!$H$1:$CY$7,2,FALSE)),\"\")","v":""},{"$f":"IFERROR(IF(A158=\"\",\"\",HLOOKUP(A158,'Lista Psychotropy'!$H$13:$CY$18,2,FALSE)),\"\")","v":""},null,null,null,null,null,null,null,null,null,null,null,null,null,null,null,null,null,null,null,null,null,null,null,"1","2"]
[null,{"$f":"IFERROR(IF(A159=\"\",\"\",VLOOKUP(A159,'Lista Psychotropy'!$A$2:$B$98,2,FALSE)),\"\")","v":""},{"$f":"IFERROR(IF(A159=\"\",\"\",HLOOKUP(A159,'Lista Psychotropy'!$H$34:$CY$37,2,FALSE)),\"\")","v":""},{"$f":"IFERROR(IF(A159=\"\",\"\",HLOOKUP(A159,'Lista Psychotropy'!$H$1:$CY$7,2,FALSE)),\"\")","v":""},{"$f":"IFERROR(IF(A159=\"\",\"\",HLOOKUP(A159,'Lista Psychotropy'!$H$13:$CY$18,2,FALSE)),\"\")","v":""},null,null,null,null,null,null,null,null,null,null,null,null,null,null,null,null,null,null,null,null,null,null,null,"1","2"]
[null,{"$f":"IFERROR(IF(A160=\"\",\"\",VLOOKUP(A160,'Lista Psychotropy'!$A$2:$B$98,2,FALSE)),\"\")","v":""},{"$f":"IFERROR(IF(A160=\"\",\"\",HLOOKUP(A160,'Lista Psychotropy'!$H$34:$CY$37,2,FALSE)),\"\")","v":""},{"$f":"IFERROR(IF(A160=\"\",\"\",HLOOKUP(A160,'Lista Psychotropy'!$H$1:$CY$7,2,FALSE)),\"\")","v":""},{"$f":"IFERROR(IF(A160=\"\",\"\",HLOOKUP(A160,'Lista Psychotropy'!$H$13:$CY$18,2,FALSE)),\"\")","v":""},null,null,null,null,null,null,null,null,null,null,null,null,null,null,null,null,null,null,null,null,null,null,null,"1","2"]
[null,{"$f":"IFERROR(IF(A161=\"\",\"\",VLOOKUP(A161,'Lista Psychotropy'!$A$2:$B$98,2,FALSE)),\"\")","v":""},{"$f":"IFERROR(IF(A161=\"\",\"\",HLOOKUP(A161,'Lista Psychotropy'!$H$34:$CY$37,2,FALSE)),\"\")","v":""},{"$f":"IFERROR(IF(A161=\"\",\"\",HLOOKUP(A161,'Lista Psychotropy'!$H$1:$CY$7,2,FALSE)),\"\")","v":""},{"$f":"IFERROR(IF(A161=\"\",\"\",HLOOKUP(A161,'Lista Psychotropy'!$H$13:$CY$18,2,FALSE)),\"\")","v":""},null,null,null,null,null,null,null,null,null,null,null,null,null,null,null,null,null,null,null,null,null,null,null,"1","2"]
[null,{"$f":"IFERROR(IF(A162=\"\",\"\",VLOOKUP(A162,'Lista Psychotropy'!$A$2:$B$98,2,FALSE)),\"\")","v":""},{"$f":"IFERROR(IF(A162=\"\",\"\",HLOOKUP(A162,'Lista Psychotropy'!$H$34:$CY$37,2,FALSE)),\"\")","v":""},{"$f":"IFERROR(IF(A162=\"\",\"\",HLOOKUP(A162,'Lista Psychotropy'!$H$1:$CY$7,2,FALSE)),\"\")","v":""},{"$f":"IFERROR(IF(A162=\"\",\"\",HLOOKUP(A162,'Lista Psychotropy'!$H$13:$CY$18,2,FALSE)),\"\")","v":""},null,null,null,null,null,null,null,null,null,null,null,null,null,null,null,null,null,null,null,null,null,null,null,"1","2"]
[null,{"$f":"IFERROR(IF(A163=\"\",\"\",VLOOKUP(A163,'Lista Psychotropy'!$A$2:$B$98,2,FALSE)),\"\")","v":""},{"$f":"IFERROR(IF(A163=\"\",\"\",HLOOKUP(A163,'Lista Psychotropy'!$H$34:$CY$37,2,FALSE)),\"\")","v":""},{"$f":"IFERROR(IF(A163=\"\",\"\",HLOOKUP(A163,'Lista Psychotropy'!$H$1:$CY$7,2,FALSE)),\"\")","v":""},{"$f":"IFERROR(IF(A163=\"\",\"\",HLOOKUP(A163,'Lista Psychotropy'!$H$13:$CY$18,2,FALSE)),\"\")","v":""},null,null,null,null,null,null,null,null,null,null,null,null,null,null,null,null,null,null,null,null,null,null,null,"1","2"]
[null,{"$f":"IFERROR(IF(A164=\"\",\"\",VLOOKUP(A164,'Lista Psychotropy'!$A$2:$B$98,2,FALSE)),\"\")","v":""},{"$f":"IFERROR(IF(A164=\"\",\"\",HLOOKUP(A164,'Lista Psychotropy'!$H$34:$CY$37,2,FALSE)),\"\")","v":""},{"$f":"IFERROR(IF(A164=\"\",\"\",HLOOKUP(A164,'Lista Psychotropy'!$H$1:$CY$7,2,FALSE)),\"\")","v":""},{"$f":"IFERROR(IF(A164=\"\",\"\",HLOOKUP(A164,'Lista Psychotropy'!$H$13:$CY$18,2,FALSE)),\"\")","v":""},null,null,null,null,null,null,null,null,null,null,null,null,null,null,null,null,null,null,null,null,null,null,null,"1","2"]
[null,{"$f":"IFERROR(IF(A165=\"\",\"\",VLOOKUP(A165,'Lista Psychotropy'!$A$2:$B$98,2,FALSE)),\"\")","v":""},{"$f":"IFERROR(IF(A165=\"\",\"\",HLOOKUP(A165,'Lista Psychotropy'!$H$34:$CY$37,2,FALSE)),\"\")","v":""},{"$f":"IFERROR(IF(A165=\"\",\"\",HLOOKUP(A165,'Lista Psychotropy'!$H$1:$CY$7,2,FALSE)),\"\")","v":""},{"$f":"IFERROR(IF(A165=\"\",\"\",HLOOKUP(A165,'Lista Psychotropy'!$H$13:$CY$18,2,FALSE)),\"\")","v":""},null,null,null,null,null,null,null,null,null,null,null,null,null,null,null,null,null,null,null,null,null,null,null,"1","2"]
[null,{"$f":"IFERROR(IF(A166=\"\",\"\",VLOOKUP(A166,'Lista Psychotropy'!$A$2:$B$98,2,FALSE)),\"\")","v":""},{"$f":"IFERROR(IF(A166=\"\",\"\",HLOOKUP(A166,'Lista Psychotropy'!$H$34:$CY$37,2,FALSE)),\"\")","v":""},{"$f":"IFERROR(IF(A166=\"\",\"\",HLOOKUP(A166,'Lista Psychotropy'!$H$1:$CY$7,2,FALSE)),\"\")","v":""},{"$f":"IFERROR(IF(A166=\"\",\"\",HLOOKUP(A166,'Lista Psychotropy'!$H$13:$CY$18,2,FALSE)),\"\")","v":""},null,null,null,null,null,null,null,null,null,null,null,null,null,null,null,null,null,null,null,null,null,null,null,"1","2"]
[null,{"$f":"IFERROR(IF(A167=\"\",\"\",VLOOKUP(A167,'Lista Psychotropy'!$A$2:$B$98,2,FALSE)),\"\")","v":""},{"$f":"IFERROR(IF(A167=\"\",\"\",HLOOKUP(A167,'Lista Psychotropy'!$H$34:$CY$37,2,FALSE)),\"\")","v":""},{"$f":"IFERROR(IF(A167=\"\",\"\",HLOOKUP(A167,'Lista Psychotropy'!$H$1:$CY$7,2,FALSE)),\"\")","v":""},{"$f":"IFERROR(IF(A167=\"\",\"\",HLOOKUP(A167,'Lista Psychotropy'!$H$13:$CY$18,2,FALSE)),\"\")","v":""},null,null,null,null,null,null,null,null,null,null,null,null,null,null,null,null,null,null,null,null,null,null,null,"1","2"]
[null,{"$f":"IFERROR(IF(A168=\"\",\"\",VLOOKUP(A168,'Lista Psychotropy'!$A$2:$B$98,2,FALSE)),\"\")","v":""},{"$f":"IFERROR(IF(A168=\"\",\"\",HLOOKUP(A168,'Lista Psychotropy'!$H$34:$CY$37,2,FALSE)),\"\")","v":""},{"$f":"IFERROR(IF(A168=\"\",\"\",HLOOKUP(A168,'Lista Psychotropy'!$H$1:$CY$7,2,FALSE)),\"\")","v":""},{"$f":"IFERROR(IF(A168=\"\",\"\",HLOOKUP(A168,'Lista Psychotropy'!$H$13:$CY$18,2,FALSE)),\"\")","v":""},null,null,null,null,null,null,null,null,null,null,null,null,null,null,null,null,null,null,null,null,null,null,null,"1","2"]
[null,{"$f":"IFERROR(IF(A169=\"\",\"\",VLOOKUP(A169,'Lista Psychotropy'!$A$2:$B$98,2,FALSE)),\"\")","v":""},{"$f":"IFERROR(IF(A169=\"\",\"\",HLOOKUP(A169,'Lista Psychotropy'!$H$34:$CY$37,2,FALSE)),\"\")","v":""},{"$f":"IFERROR(IF(A169=\"\",\"\",HLOOKUP(A169,'Lista Psychotropy'!$H$1:$CY$7,2,FALSE)),\"\")","v":""},{"$f":"IFERROR(IF(A169=\"\",\"\",HLOOKUP(A169,'Lista Psychotropy'!$H$13:$CY$18,2,FALSE)),\"\")","v":""},null,null,null,null,null,null,null,null,null,null,null,null,null,null,null,null,null,null,null,null,null,null,null,"1","2"]
[null,{"$f":"IFERROR(IF(A170=\"\",\"\",VLOOKUP(A170,'Lista Psychotropy'!$A$2:$B$98,2,FALSE)),\"\")","v":""},{"$f":"IFERROR(IF(A170=\"\",\"\",HLOOKUP(A170,'Lista Psychotropy'!$H$34:$CY$37,2,FALSE)),\"\")","v":""},{"$f":"IFERROR(IF(A170=\"\",\"\",HLOOKUP(A170,'Lista Psychotropy'!$H$1:$CY$7,2,FALSE)),\"\")","v":""},{"$f":"IFERROR(IF(A170=\"\",\"\",HLOOKUP(A170,'Lista Psychotropy'!$H$13:$CY$18,2,FALSE)),\"\")","v":""},null,null,null,null,null,null,null,null,null,null,null,null,null,null,null,null,null,null,null,null,null,null,null,"1","2"]
[null,{"$f":"IFERROR(IF(A171=\"\",\"\",VLOOKUP(A171,'Lista Psychotropy'!$A$2:$B$98,2,FALSE)),\"\")","v":""},{"$f":"IFERROR(IF(A171=\"\",\"\",HLOOKUP(A171,'Lista Psychotropy'!$H$34:$CY$37,2,FALSE)),\"\")","v":""},{"$f":"IFERROR(IF(A171=\"\",\"\",HLOOKUP(A171,'Lista Psychotropy'!$H$1:$CY$7,2,FALSE)),\"\")","v":""},{"$f":"IFERROR(IF(A171=\"\",\"\",HLOOKUP(A171,'Lista Psychotropy'!$H$13:$CY$18,2,FALSE)),\"\")","v":""},null,null,null,null,null,null,null,null,null,null,null,null,null,null,null,null,null,null,null,null,null,null,null,"1","2"]
[null,{"$f":"IFERROR(IF(A172=\"\",\"\",VLOOKUP(A172,'Lista Psychotropy'!$A$2:$B$98,2,FALSE)),\"\")","v":""},{"$f":"IFERROR(IF(A172=\"\",\"\",HLOOKUP(A172,'Lista Psychotropy'!$H$34:$CY$37,2,FALSE)),\"\")","v":""},{"$f":"IFERROR(IF(A172=\"\",\"\",HLOOKUP(A172,'Lista Psychotropy'!$H$1:$CY$7,2,FALSE)),\"\")","v":""},{"$f":"IFERROR(IF(A172=\"\",\"\",HLOOKUP(A172,'Lista Psychotropy'!$H$13:$CY$18,2,FALSE)),\"\")","v":""},null,null,null,null,null,null,null,null,null,null,null,null,null,null,null,null,null,null,null,null,null,null,null,"1","2"]
[null,{"$f":"IFERROR(IF(A173=\"\",\"\",VLOOKUP(A173,'Lista Psychotropy'!$A$2:$B$98,2,FALSE)),\"\")","v":""},{"$f":"IFERROR(IF(A173=\"\",\"\",HLOOKUP(A173,'Lista Psychotropy'!$H$34:$CY$37,2,FALSE)),\"\")","v":""},{"$f":"IFERROR(IF(A173=\"\",\"\",HLOOKUP(A173,'Lista Psychotropy'!$H$1:$CY$7,2,FALSE)),\"\")","v":""},{"$f":"IFERROR(IF(A173=\"\",\"\",HLOOKUP(A173,'Lista Psychotropy'!$H$13:$CY$18,2,FALSE)),\"\")","v":""},null,null,null,null,null,null,null,null,null,null,null,null,null,null,null,null,null,null,null,null,null,null,null,"1","2"]
[null,{"$f":"IFERROR(IF(A174=\"\",\"\",VLOOKUP(A174,'Lista Psychotropy'!$A$2:$B$98,2,FALSE)),\"\")","v":""},{"$f":"IFERROR(IF(A174=\"\",\"\",HLOOKUP(A174,'Lista Psychotropy'!$H$34:$CY$37,2,FALSE)),\"\")","v":""},{"$f":"IFERROR(IF(A174=\"\",\"\",HLOOKUP(A174,'Lista Psychotropy'!$H$1:$CY$7,2,FALSE)),\"\")","v":""},{"$f":"IFERROR(IF(A174=\"\",\"\",HLOOKUP(A174,'Lista Psychotropy'!$H$13:$CY$18,2,FALSE)),\"\")","v":""},null,null,null,null,null,null,null,null,null,null,null,null,null,null,null,null,null,null,null,null,null,null,null,"1","2"]
[null,{"$f":"IFERROR(IF(A175=\"\",\"\",VLOOKUP(A175,'Lista Psychotropy'!$A$2:$B$98,2,FALSE)),\"\")","v":""},{"$f":"IFERROR(IF(A175=\"\",\"\",HLOOKUP(A175,'Lista Psychotropy'!$H$34:$CY$37,2,FALSE)),\"\")","v":""},{"$f":"IFERROR(IF(A175=\"\",\"\",HLOOKUP(A175,'Lista Psychotropy'!$H$1:$CY$7,2,FALSE)),\"\")","v":""},{"$f":"IFERROR(IF(A175=\"\",\"\",HLOOKUP(A175,'Lista Psychotropy'!$H$13:$CY$18,2,FALSE)),\"\")","v":""},null,null,null,null,null,null,null,null,null,null,null,null,null,null,null,null,null,null,null,null,null,null,null,"1","2"]
[null,{"$f":"IFERROR(IF(A176=\"\",\"\",VLOOKUP(A176,'Lista Psychotropy'!$A$2:$B$98,2,FALSE)),\"\")","v":""},{"$f":"IFERROR(IF(A176=\"\",\"\",HLOOKUP(A176,'Lista Psychotropy'!$H$34:$CY$37,2,FALSE)),\"\")","v":""},{"$f":"IFERROR(IF(A176=\"\",\"\",HLOOKUP(A176,'Lista Psychotropy'!$H$1:$CY$7,2,FALSE)),\"\")","v":""},{"$f":"IFERROR(IF(A176=\"\",\"\",HLOOKUP(A176,'Lista Psychotropy'!$H$13:$CY$18,2,FALSE)),\"\")","v":""},null,null,null,null,null,null,null,null,null,null,null,null,null,null,null,null,null,null,null,null,null,null,null,"1","2"]
[null,{"$f":"IFERROR(IF(A177=\"\",\"\",VLOOKUP(A177,'Lista Psychotropy'!$A$2:$B$98,2,FALSE)),\"\")","v":""},{"$f":"IFERROR(IF(A177=\"\",\"\",HLOOKUP(A177,'Lista Psychotropy'!$H$34:$CY$37,2,FALSE)),\"\")","v":""},{"$f":"IFERROR(IF(A177=\"\",\"\",HLOOKUP(A177,'Lista Psychotropy'!$H$1:$CY$7,2,FALSE)),\"\")","v":""},{"$f":"IFERROR(IF(A177=\"\",\"\",HLOOKUP(A177,'Lista Psychotropy'!$H$13:$CY$18,2,FALSE)),\"\")","v":""},null,null,null,null,null,null,null,null,null,null,null,null,null,null,null,null,null,null,null,null,null,null,null,"1","2"]
[null,{"$f":"IFERROR(IF(A178=\"\",\"\",VLOOKUP(A178,'Lista Psychotropy'!$A$2:$B$98,2,FALSE)),\"\")","v":""},{"$f":"IFERROR(IF(A178=\"\",\"\",HLOOKUP(A178,'Lista Psychotropy'!$H$34:$CY$37,2,FALSE)),\"\")","v":""},{"$f":"IFERROR(IF(A178=\"\",\"\",HLOOKUP(A178,'Lista Psychotropy'!$H$1:$CY$7,2,FALSE)),\"\")","v":""},{"$f":"IFERROR(IF(A178=\"\",\"\",HLOOKUP(A178,'Lista Psychotropy'!$H$13:$CY$18,2,FALSE)),\"\")","v":""},null,null,null,null,null,null,null,null,null,null,null,null,null,null,null,null,null,null,null,null,null,null,null,"1","2"]
[null,{"$f":"IFERROR(IF(A179=\"\",\"\",VLOOKUP(A179,'Lista Psychotropy'!$A$2:$B$98,2,FALSE)),\"\")","v":""},{"$f":"IFERROR(IF(A179=\"\",\"\",HLOOKUP(A179,'Lista Psychotropy'!$H$34:$CY$37,2,FALSE)),\"\")","v":""},{"$f":"IFERROR(IF(A179=\"\",\"\",HLOOKUP(A179,'Lista Psychotropy'!$H$1:$CY$7,2,FALSE)),\"\")","v":""},{"$f":"IFERROR(IF(A179=\"\",\"\",HLOOKUP(A179,'Lista Psychotropy'!$H$13:$CY$18,2,FALSE)),\"\")","v":""},null,null,null,null,null,null,null,null,null,null,null,null,null,null,null,null,null,null,null,null,null,null,null,"1","2"]
[null,{"$f":"IFERROR(IF(A180=\"\",\"\",VLOOKUP(A180,'Lista Psychotropy'!$A$2:$B$98,2,FALSE)),\"\")","v":""},{"$f":"IFERROR(IF(A180=\"\",\"\",HLOOKUP(A180,'Lista Psychotropy'!$H$34:$CY$37,2,FALSE)),\"\")","v":""},{"$f":"IFERROR(IF(A180=\"\",\"\",HLOOKUP(A180,'Lista Psychotropy'!$H$1:$CY$7,2,FALSE)),\"\")","v":""},{"$f":"IFERROR(IF(A180=\"\",\"\",HLOOKUP(A180,'Lista Psychotropy'!$H$13:$CY$18,2,FALSE)),\"\")","v":""},null,null,null,null,null,null,null,null,null,null,null,null,null,null,null,null,null,null,null,null,null,null,null,"1","2"]
[null,{"$f":"IFERROR(IF(A181=\"\",\"\",VLOOKUP(A181,'Lista Psychotropy'!$A$2:$B$98,2,FALSE)),\"\")","v":""},{"$f":"IFERROR(IF(A181=\"\",\"\",HLOOKUP(A181,'Lista Psychotropy'!$H$34:$CY$37,2,FALSE)),\"\")","v":""},{"$f":"IFERROR(IF(A181=\"\",\"\",HLOOKUP(A181,'Lista Psychotropy'!$H$1:$CY$7,2,FALSE)),\"\")","v":""},{"$f":"IFERROR(IF(A181=\"\",\"\",HLOOKUP(A181,'Lista Psychotropy'!$H$13:$CY$18,2,FALSE)),\"\")","v":""},null,null,null,null,null,null,null,null,null,null,null,null,null,null,null,null,null,null,null,null,null,null,null,"1","2"]
[null,{"$f":"IFERROR(IF(A182=\"\",\"\",VLOOKUP(A182,'Lista Psychotropy'!$A$2:$B$98,2,FALSE)),\"\")","v":""},{"$f":"IFERROR(IF(A182=\"\",\"\",HLOOKUP(A182,'Lista Psychotropy'!$H$34:$CY$37,2,FALSE)),\"\")","v":""},{"$f":"IFERROR(IF(A182=\"\",\"\",HLOOKUP(A182,'Lista Psychotropy'!$H$1:$CY$7,2,FALSE)),\"\")","v":""},{"$f":"IFERROR(IF(A182=\"\",\"\",HLOOKUP(A182,'Lista Psychotropy'!$H$13:$CY$18,2,FALSE)),\"\")","v":""},null,null,null,null,null,null,null,null,null,null,null,null,null,null,null,null,null,null,null,null,null,null,null,"1","2"]
[null,{"$f":"IFERROR(IF(A183=\"\",\"\",VLOOKUP(A183,'Lista Psychotropy'!$A$2:$B$98,2,FALSE)),\"\")","v":""},{"$f":"IFERROR(IF(A183=\"\",\"\",HLOOKUP(A183,'Lista Psychotropy'!$H$34:$CY$37,2,FALSE)),\"\")","v":""},{"$f":"IFERROR(IF(A183=\"\",\"\",HLOOKUP(A183,'Lista Psychotropy'!$H$1:$CY$7,2,FALSE)),\"\")","v":""},{"$f":"IFERROR(IF(A183=\"\",\"\",HLOOKUP(A183,'Lista Psychotropy'!$H$13:$CY$18,2,FALSE)),\"\")","v":""},null,null,null,null,null,null,null,null,null,null,null,null,null,null,null,null,null,null,null,null,null,null,null,"1","2"]
[null,{"$f":"IFERROR(IF(A184=\"\",\"\",VLOOKUP(A184,'Lista Psychotropy'!$A$2:$B$98,2,FALSE)),\"\")","v":""},{"$f":"IFERROR(IF(A184=\"\",\"\",HLOOKUP(A184,'Lista Psychotropy'!$H$34:$CY$37,2,FALSE)),\"\")","v":""},{"$f":"IFERROR(IF(A184=\"\",\"\",HLOOKUP(A184,'Lista Psychotropy'!$H$1:$CY$7,2,FALSE)),\"\")","v":""},{"$f":"IFERROR(IF(A184=\"\",\"\",HLOOKUP(A184,'Lista Psychotropy'!$H$13:$CY$18,2,FALSE)),\"\")","v":""},null,null,null,null,null,null,null,null,null,null,null,null,null,null,null,null,null,null,null,null,null,null,null,"1","2"]
[null,{"$f":"IFERROR(IF(A185=\"\",\"\",VLOOKUP(A185,'Lista Psychotropy'!$A$2:$B$98,2,FALSE)),\"\")","v":""},{"$f":"IFERROR(IF(A185=\"\",\"\",HLOOKUP(A185,'Lista Psychotropy'!$H$34:$CY$37,2,FALSE)),\"\")","v":""},{"$f":"IFERROR(IF(A185=\"\",\"\",HLOOKUP(A185,'Lista Psychotropy'!$H$1:$CY$7,2,FALSE)),\"\")","v":""},{"$f":"IFERROR(IF(A185=\"\",\"\",HLOOKUP(A185,'Lista Psychotropy'!$H$13:$CY$18,2,FALSE)),\"\")","v":""},null,null,null,null,null,null,null,null,null,null,null,null,null,null,null,null,null,null,null,null,null,null,null,"1","2"]
[null,{"$f":"IFERROR(IF(A186=\"\",\"\",VLOOKUP(A186,'Lista Psychotropy'!$A$2:$B$98,2,FALSE)),\"\")","v":""},{"$f":"IFERROR(IF(A186=\"\",\"\",HLOOKUP(A186,'Lista Psychotropy'!$H$34:$CY$37,2,FALSE)),\"\")","v":""},{"$f":"IFERROR(IF(A186=\"\",\"\",HLOOKUP(A186,'Lista Psychotropy'!$H$1:$CY$7,2,FALSE)),\"\")","v":""},{"$f":"IFERROR(IF(A186=\"\",\"\",HLOOKUP(A186,'Lista Psychotropy'!$H$13:$CY$18,2,FALSE)),\"\")","v":""},null,null,null,null,null,null,null,null,null,null,null,null,null,null,null,null,null,null,null,null,null,null,null,"1","2"]
[null,{"$f":"IFERROR(IF(A187=\"\",\"\",VLOOKUP(A187,'Lista Psychotropy'!$A$2:$B$98,2,FALSE)),\"\")","v":""},{"$f":"IFERROR(IF(A187=\"\",\"\",HLOOKUP(A187,'Lista Psychotropy'!$H$34:$CY$37,2,FALSE)),\"\")","v":""},{"$f":"IFERROR(IF(A187=\"\",\"\",HLOOKUP(A187,'Lista Psychotropy'!$H$1:$CY$7,2,FALSE)),\"\")","v":""},{"$f":"IFERROR(IF(A187=\"\",\"\",HLOOKUP(A187,'Lista Psychotropy'!$H$13:$CY$18,2,FALSE)),\"\")","v":""},null,null,null,null,null,null,null,null,null,null,null,null,null,null,null,null,null,null,null,null,null,null,null,"1","2"]
[null,{"$f":"IFERROR(IF(A188=\"\",\"\",VLOOKUP(A188,'Lista Psychotropy'!$A$2:$B$98,2,FALSE)),\"\")","v":""},{"$f":"IFERROR(IF(A188=\"\",\"\",HLOOKUP(A188,'Lista Psychotropy'!$H$34:$CY$37,2,FALSE)),\"\")","v":""},{"$f":"IFERROR(IF(A188=\"\",\"\",HLOOKUP(A188,'Lista Psychotropy'!$H$1:$CY$7,2,FALSE)),\"\")","v":""},{"$f":"IFERROR(IF(A188=\"\",\"\",HLOOKUP(A188,'Lista Psychotropy'!$H$13:$CY$18,2,FALSE)),\"\")","v":""},null,null,null,null,null,null,null,null,null,null,null,null,null,null,null,null,null,null,null,null,null,null,null,"1","2"]
[null,{"$f":"IFERROR(IF(A189=\"\",\"\",VLOOKUP(A189,'Lista Psychotropy'!$A$2:$B$98,2,FALSE)),\"\")","v":""},{"$f":"IFERROR(IF(A189=\"\",\"\",HLOOKUP(A189,'Lista Psychotropy'!$H$34:$CY$37,2,FALSE)),\"\")","v":""},{"$f":"IFERROR(IF(A189=\"\",\"\",HLOOKUP(A189,'Lista Psychotropy'!$H$1:$CY$7,2,FALSE)),\"\")","v":""},{"$f":"IFERROR(IF(A189=\"\",\"\",HLOOKUP(A189,'Lista Psychotropy'!$H$13:$CY$18,2,FALSE)),\"\")","v":""},null,null,null,null,null,null,null,null,null,null,null,null,null,null,null,null,null,null,null,null,null,null,null,"1","2"]
[null,{"$f":"IFERROR(IF(A190=\"\",\"\",VLOOKUP(A190,'Lista Psychotropy'!$A$2:$B$98,2,FALSE)),\"\")","v":""},{"$f":"IFERROR(IF(A190=\"\",\"\",HLOOKUP(A190,'Lista Psychotropy'!$H$34:$CY$37,2,FALSE)),\"\")","v":""},{"$f":"IFERROR(IF(A190=\"\",\"\",HLOOKUP(A190,'Lista Psychotropy'!$H$1:$CY$7,2,FALSE)),\"\")","v":""},{"$f":"IFERROR(IF(A190=\"\",\"\",HLOOKUP(A190,'Lista Psychotropy'!$H$13:$CY$18,2,FALSE)),\"\")","v":""},null,null,null,null,null,null,null,null,null,null,null,null,null,null,null,null,null,null,null,null,null,null,null,"1","2"]
[null,{"$f":"IFERROR(IF(A191=\"\",\"\",VLOOKUP(A191,'Lista Psychotropy'!$A$2:$B$98,2,FALSE)),\"\")","v":""},{"$f":"IFERROR(IF(A191=\"\",\"\",HLOOKUP(A191,'Lista Psychotropy'!$H$34:$CY$37,2,FALSE)),\"\")","v":""},{"$f":"IFERROR(IF(A191=\"\",\"\",HLOOKUP(A191,'Lista Psychotropy'!$H$1:$CY$7,2,FALSE)),\"\")","v":""},{"$f":"IFERROR(IF(A191=\"\",\"\",HLOOKUP(A191,'Lista Psychotropy'!$H$13:$CY$18,2,FALSE)),\"\")","v":""},null,null,null,null,null,null,null,null,null,null,null,null,null,null,null,null,null,null,null,null,null,null,null,"1","2"]
[null,{"$f":"IFERROR(IF(A192=\"\",\"\",VLOOKUP(A192,'Lista Psychotropy'!$A$2:$B$98,2,FALSE)),\"\")","v":""},{"$f":"IFERROR(IF(A192=\"\",\"\",HLOOKUP(A192,'Lista Psychotropy'!$H$34:$CY$37,2,FALSE)),\"\")","v":""},{"$f":"IFERROR(IF(A192=\"\",\"\",HLOOKUP(A192,'Lista Psychotropy'!$H$1:$CY$7,2,FALSE)),\"\")","v":""},{"$f":"IFERROR(IF(A192=\"\",\"\",HLOOKUP(A192,'Lista Psychotropy'!$H$13:$CY$18,2,FALSE)),\"\")","v":""},null,null,null,null,null,null,null,null,null,null,null,null,null,null,null,null,null,null,null,null,null,null,null,"1","2"]
[null,{"$f":"IFERROR(IF(A193=\"\",\"\",VLOOKUP(A193,'Lista Psychotropy'!$A$2:$B$98,2,FALSE)),\"\")","v":""},{"$f":"IFERROR(IF(A193=\"\",\"\",HLOOKUP(A193,'Lista Psychotropy'!$H$34:$CY$37,2,FALSE)),\"\")","v":""},{"$f":"IFERROR(IF(A193=\"\",\"\",HLOOKUP(A193,'Lista Psychotropy'!$H$1:$CY$7,2,FALSE)),\"\")","v":""},{"$f":"IFERROR(IF(A193=\"\",\"\",HLOOKUP(A193,'Lista Psychotropy'!$H$13:$CY$18,2,FALSE)),\"\")","v":""},null,null,null,null,null,null,null,null,null,null,null,null,null,null,null,null,null,null,null,null,null,null,null,"1","2"]
[null,{"$f":"IFERROR(IF(A194=\"\",\"\",VLOOKUP(A194,'Lista Psychotropy'!$A$2:$B$98,2,FALSE)),\"\")","v":""},{"$f":"IFERROR(IF(A194=\"\",\"\",HLOOKUP(A194,'Lista Psychotropy'!$H$34:$CY$37,2,FALSE)),\"\")","v":""},{"$f":"IFERROR(IF(A194=\"\",\"\",HLOOKUP(A194,'Lista Psychotropy'!$H$1:$CY$7,2,FALSE)),\"\")","v":""},{"$f":"IFERROR(IF(A194=\"\",\"\",HLOOKUP(A194,'Lista Psychotropy'!$H$13:$CY$18,2,FALSE)),\"\")","v":""},null,null,null,null,null,null,null,null,null,null,null,null,null,null,null,null,null,null,null,null,null,null,null,"1","2"]
[null,{"$f":"IFERROR(IF(A195=\"\",\"\",VLOOKUP(A195,'Lista Psychotropy'!$A$2:$B$98,2,FALSE)),\"\")","v":""},{"$f":"IFERROR(IF(A195=\"\",\"\",HLOOKUP(A195,'Lista Psychotropy'!$H$34:$CY$37,2,FALSE)),\"\")","v":""},{"$f":"IFERROR(IF(A195=\"\",\"\",HLOOKUP(A195,'Lista Psychotropy'!$H$1:$CY$7,2,FALSE)),\"\")","v":""},{"$f":"IFERROR(IF(A195=\"\",\"\",HLOOKUP(A195,'Lista Psychotropy'!$H$13:$CY$18,2,FALSE)),\"\")","v":""},null,null,null,null,null,null,null,null,null,null,null,null,null,null,null,null,null,null,null,null,null,null,null,"1","2"]
[null,{"$f":"IFERROR(IF(A196=\"\",\"\",VLOOKUP(A196,'Lista Psychotropy'!$A$2:$B$98,2,FALSE)),\"\")","v":""},{"$f":"IFERROR(IF(A196=\"\",\"\",HLOOKUP(A196,'Lista Psychotropy'!$H$34:$CY$37,2,FALSE)),\"\")","v":""},{"$f":"IFERROR(IF(A196=\"\",\"\",HLOOKUP(A196,'Lista Psychotropy'!$H$1:$CY$7,2,FALSE)),\"\")","v":""},{"$f":"IFERROR(IF(A196=\"\",\"\",HLOOKUP(A196,'Lista Psychotropy'!$H$13:$CY$18,2,FALSE)),\"\")","v":""},null,null,null,null,null,null,null,null,null,null,null,null,null,null,null,null,null,null,null,null,null,null,null,"1","2"]
[null,{"$f":"IFERROR(IF(A197=\"\",\"\",VLOOKUP(A197,'Lista Psychotropy'!$A$2:$B$98,2,FALSE)),\"\")","v":""},{"$f":"IFERROR(IF(A197=\"\",\"\",HLOOKUP(A197,'Lista Psychotropy'!$H$34:$CY$37,2,FALSE)),\"\")","v":""},{"$f":"IFERROR(IF(A197=\"\",\"\",HLOOKUP(A197,'Lista Psychotropy'!$H$1:$CY$7,2,FALSE)),\"\")","v":""},{"$f":"IFERROR(IF(A197=\"\",\"\",HLOOKUP(A197,'Lista Psychotropy'!$H$13:$CY$18,2,FALSE)),\"\")","v":""},null,null,null,null,null,null,null,null,null,null,null,null,null,null,null,null,null,null,null,null,null,null,null,"1","2"]
[null,{"$f":"IFERROR(IF(A198=\"\",\"\",VLOOKUP(A198,'Lista Psychotropy'!$A$2:$B$98,2,FALSE)),\"\")","v":""},{"$f":"IFERROR(IF(A198=\"\",\"\",HLOOKUP(A198,'Lista Psychotropy'!$H$34:$CY$37,2,FALSE)),\"\")","v":""},{"$f":"IFERROR(IF(A198=\"\",\"\",HLOOKUP(A198,'Lista Psychotropy'!$H$1:$CY$7,2,FALSE)),\"\")","v":""},{"$f":"IFERROR(IF(A198=\"\",\"\",HLOOKUP(A198,'Lista Psychotropy'!$H$13:$CY$18,2,FALSE)),\"\")","v":""},null,null,null,null,null,null,null,null,null,null,null,null,null,null,null,null,null,null,null,null,null,null,null,"1","2"]
[null,{"$f":"IFERROR(IF(A199=\"\",\"\",VLOOKUP(A199,'Lista Psychotropy'!$A$2:$B$98,2,FALSE)),\"\")","v":""},{"$f":"IFERROR(IF(A199=\"\",\"\",HLOOKUP(A199,'Lista Psychotropy'!$H$34:$CY$37,2,FALSE)),\"\")","v":""},{"$f":"IFERROR(IF(A199=\"\",\"\",HLOOKUP(A199,'Lista Psychotropy'!$H$1:$CY$7,2,FALSE)),\"\")","v":""},{"$f":"IFERROR(IF(A199=\"\",\"\",HLOOKUP(A199,'Lista Psychotropy'!$H$13:$CY$18,2,FALSE)),\"\")","v":""},null,null,null,null,null,null,null,null,null,null,null,null,null,null,null,null,null,null,null,null,null,null,null,"1","2"]
[null,{"$f":"IFERROR(IF(A200=\"\",\"\",VLOOKUP(A200,'Lista Psychotropy'!$A$2:$B$98,2,FALSE)),\"\")","v":""},{"$f":"IFERROR(IF(A200=\"\",\"\",HLOOKUP(A200,'Lista Psychotropy'!$H$34:$CY$37,2,FALSE)),\"\")","v":""},{"$f":"IFERROR(IF(A200=\"\",\"\",HLOOKUP(A200,'Lista Psychotropy'!$H$1:$CY$7,2,FALSE)),\"\")","v":""},{"$f":"IFERROR(IF(A200=\"\",\"\",HLOOKUP(A200,'Lista Psychotropy'!$H$13:$CY$18,2,FALSE)),\"\")","v":""},null,null,null,null,null,null,null,null,null,null,null,null,null,null,null,null,null,null,null,null,null,null,null,"1","2"]
[null,{"$f":"IFERROR(IF(A201=\"\",\"\",VLOOKUP(A201,'Lista Psychotropy'!$A$2:$B$98,2,FALSE)),\"\")","v":""},{"$f":"IFERROR(IF(A201=\"\",\"\",HLOOKUP(A201,'Lista Psychotropy'!$H$34:$CY$37,2,FALSE)),\"\")","v":""},{"$f":"IFERROR(IF(A201=\"\",\"\",HLOOKUP(A201,'Lista Psychotropy'!$H$1:$CY$7,2,FALSE)),\"\")","v":""},{"$f":"IFERROR(IF(A201=\"\",\"\",HLOOKUP(A201,'Lista Psychotropy'!$H$13:$CY$18,2,FALSE)),\"\")","v":""},null,null,null,null,null,null,null,null,null,null,null,null,null,null,null,null,null,null,null,null,null,null,null,"1","2"]
[null,{"$f":"IFERROR(IF(A202=\"\",\"\",VLOOKUP(A202,'Lista Psychotropy'!$A$2:$B$98,2,FALSE)),\"\")","v":""},{"$f":"IFERROR(IF(A202=\"\",\"\",HLOOKUP(A202,'Lista Psychotropy'!$H$34:$CY$37,2,FALSE)),\"\")","v":""},{"$f":"IFERROR(IF(A202=\"\",\"\",HLOOKUP(A202,'Lista Psychotropy'!$H$1:$CY$7,2,FALSE)),\"\")","v":""},{"$f":"IFERROR(IF(A202=\"\",\"\",HLOOKUP(A202,'Lista Psychotropy'!$H$13:$CY$18,2,FALSE)),\"\")","v":""},null,null,null,null,null,null,null,null,null,null,null,null,null,null,null,null,null,null,null,null,null,null,null,{"$f":"A202&1","v":"1"},{"$f":"A202&2","v":"2"}]
[null,{"$f":"IFERROR(IF(A203=\"\",\"\",VLOOKUP(A203,'Lista Psychotropy'!$A$2:$B$98,2,FALSE)),\"\")","v":""},{"$f":"IFERROR(IF(A203=\"\",\"\",HLOOKUP(A203,'Lista Psychotropy'!$H$34:$CY$37,2,FALSE)),\"\")","v":""},{"$f":"IFERROR(IF(A203=\"\",\"\",HLOOKUP(A203,'Lista Psychotropy'!$H$1:$CY$7,2,FALSE)),\"\")","v":""},{"$f":"IFERROR(IF(A203=\"\",\"\",HLOOKUP(A203,'Lista Psychotropy'!$H$13:$CY$18,2,FALSE)),\"\")","v":""},null,null,null,null,null,null,null,null,null,null,null,null,null,null,null,null,null,null,null,null,null,null,null,"1","2"]
[null,{"$f":"IFERROR(IF(A204=\"\",\"\",VLOOKUP(A204,'Lista Psychotropy'!$A$2:$B$98,2,FALSE)),\"\")","v":""},{"$f":"IFERROR(IF(A204=\"\",\"\",HLOOKUP(A204,'Lista Psychotropy'!$H$34:$CY$37,2,FALSE)),\"\")","v":""},{"$f":"IFERROR(IF(A204=\"\",\"\",HLOOKUP(A204,'Lista Psychotropy'!$H$1:$CY$7,2,FALSE)),\"\")","v":""},{"$f":"IFERROR(IF(A204=\"\",\"\",HLOOKUP(A204,'Lista Psychotropy'!$H$13:$CY$18,2,FALSE)),\"\")","v":""},null,null,null,null,null,null,null,null,null,null,null,null,null,null,null,null,null,null,null,null,null,null,null,"1","2"]
[null,{"$f":"IFERROR(IF(A205=\"\",\"\",VLOOKUP(A205,'Lista Psychotropy'!$A$2:$B$98,2,FALSE)),\"\")","v":""},{"$f":"IFERROR(IF(A205=\"\",\"\",HLOOKUP(A205,'Lista Psychotropy'!$H$34:$CY$37,2,FALSE)),\"\")","v":""},{"$f":"IFERROR(IF(A205=\"\",\"\",HLOOKUP(A205,'Lista Psychotropy'!$H$1:$CY$7,2,FALSE)),\"\")","v":""},{"$f":"IFERROR(IF(A205=\"\",\"\",HLOOKUP(A205,'Lista Psychotropy'!$H$13:$CY$18,2,FALSE)),\"\")","v":""},null,null,null,null,null,null,null,null,null,null,null,null,null,null,null,null,null,null,null,null,null,null,null,"1","2"]
[null,{"$f":"IFERROR(IF(A206=\"\",\"\",VLOOKUP(A206,'Lista Psychotropy'!$A$2:$B$98,2,FALSE)),\"\")","v":""},{"$f":"IFERROR(IF(A206=\"\",\"\",HLOOKUP(A206,'Lista Psychotropy'!$H$34:$CY$37,2,FALSE)),\"\")","v":""},{"$f":"IFERROR(IF(A206=\"\",\"\",HLOOKUP(A206,'Lista Psychotropy'!$H$1:$CY$7,2,FALSE)),\"\")","v":""},{"$f":"IFERROR(IF(A206=\"\",\"\",HLOOKUP(A206,'Lista Psychotropy'!$H$13:$CY$18,2,FALSE)),\"\")","v":""},null,null,null,null,null,null,null,null,null,null,null,null,null,null,null,null,null,null,null,null,null,null,null,"1","2"]
[null,{"$f":"IFERROR(IF(A207=\"\",\"\",VLOOKUP(A207,'Lista Psychotropy'!$A$2:$B$98,2,FALSE)),\"\")","v":""},{"$f":"IFERROR(IF(A207=\"\",\"\",HLOOKUP(A207,'Lista Psychotropy'!$H$34:$CY$37,2,FALSE)),\"\")","v":""},{"$f":"IFERROR(IF(A207=\"\",\"\",HLOOKUP(A207,'Lista Psychotropy'!$H$1:$CY$7,2,FALSE)),\"\")","v":""},{"$f":"IFERROR(IF(A207=\"\",\"\",HLOOKUP(A207,'Lista Psychotropy'!$H$13:$CY$18,2,FALSE)),\"\")","v":""},null,null,null,null,null,null,null,null,null,null,null,null,null,null,null,null,null,null,null,null,null,null,null,"1","2"]
[null,{"$f":"IFERROR(IF(A208=\"\",\"\",VLOOKUP(A208,'Lista Psychotropy'!$A$2:$B$98,2,FALSE)),\"\")","v":""},{"$f":"IFERROR(IF(A208=\"\",\"\",HLOOKUP(A208,'Lista Psychotropy'!$H$34:$CY$37,2,FALSE)),\"\")","v":""},{"$f":"IFERROR(IF(A208=\"\",\"\",HLOOKUP(A208,'Lista Psychotropy'!$H$1:$CY$7,2,FALSE)),\"\")","v":""},{"$f":"IFERROR(IF(A208=\"\",\"\",HLOOKUP(A208,'Lista Psychotropy'!$H$13:$CY$18,2,FALSE)),\"\")","v":""},null,null,null,null,null,null,null,null,null,null,null,null,null,null,null,null,null,null,null,null,null,null,null,"1","2"]
[null,{"$f":"IFERROR(IF(A209=\"\",\"\",VLOOKUP(A209,'Lista Psychotropy'!$A$2:$B$98,2,FALSE)),\"\")","v":""},{"$f":"IFERROR(IF(A209=\"\",\"\",HLOOKUP(A209,'Lista Psychotropy'!$H$34:$CY$37,2,FALSE)),\"\")","v":""},{"$f":"IFERROR(IF(A209=\"\",\"\",HLOOKUP(A209,'Lista Psychotropy'!$H$1:$CY$7,2,FALSE)),\"\")","v":""},{"$f":"IFERROR(IF(A209=\"\",\"\",HLOOKUP(A209,'Lista Psychotropy'!$H$13:$CY$18,2,FALSE)),\"\")","v":""},null,null,null,null,null,null,null,null,null,null,null,null,null,null,null,null,null,null,null,null,null,null,null,"1","2"]
[null,{"$f":"IFERROR(IF(A210=\"\",\"\",VLOOKUP(A210,'Lista Psychotropy'!$A$2:$B$98,2,FALSE)),\"\")","v":""},{"$f":"IFERROR(IF(A210=\"\",\"\",HLOOKUP(A210,'Lista Psychotropy'!$H$34:$CY$37,2,FALSE)),\"\")","v":""},{"$f":"IFERROR(IF(A210=\"\",\"\",HLOOKUP(A210,'Lista Psychotropy'!$H$1:$CY$7,2,FALSE)),\"\")","v":""},{"$f":"IFERROR(IF(A210=\"\",\"\",HLOOKUP(A210,'Lista Psychotropy'!$H$13:$CY$18,2,FALSE)),\"\")","v":""},null,null,null,null,null,null,null,null,null,null,null,null,null,null,null,null,null,null,null,null,null,null,null,"1","2"]
[null,{"$f":"IFERROR(IF(A211=\"\",\"\",VLOOKUP(A211,'Lista Psychotropy'!$A$2:$B$98,2,FALSE)),\"\")","v":""},{"$f":"IFERROR(IF(A211=\"\",\"\",HLOOKUP(A211,'Lista Psychotropy'!$H$34:$CY$37,2,FALSE)),\"\")","v":""},{"$f":"IFERROR(IF(A211=\"\",\"\",HLOOKUP(A211,'Lista Psychotropy'!$H$1:$CY$7,2,FALSE)),\"\")","v":""},{"$f":"IFERROR(IF(A211=\"\",\"\",HLOOKUP(A211,'Lista Psychotropy'!$H$13:$CY$18,2,FALSE)),\"\")","v":""},null,null,null,null,null,null,null,null,null,null,null,null,null,null,null,null,null,null,null,null,null,null,null,"1","2"]
[null,{"$f":"IFERROR(IF(A212=\"\",\"\",VLOOKUP(A212,'Lista Psychotropy'!$A$2:$B$98,2,FALSE)),\"\")","v":""},{"$f":"IFERROR(IF(A212=\"\",\"\",HLOOKUP(A212,'Lista Psychotropy'!$H$34:$CY$37,2,FALSE)),\"\")","v":""},{"$f":"IFERROR(IF(A212=\"\",\"\",HLOOKUP(A212,'Lista Psychotropy'!$H$1:$CY$7,2,FALSE)),\"\")","v":""},{"$f":"IFERROR(IF(A212=\"\",\"\",HLOOKUP(A212,'Lista Psychotropy'!$H$13:$CY$18,2,FALSE)),\"\")","v":""},null,null,null,null,null,null,null,null,null,null,null,null,null,null,null,null,null,null,null,null,null,null,null,"1","2"]
[null,{"$f":"IFERROR(IF(A213=\"\",\"\",VLOOKUP(A213,'Lista Psychotropy'!$A$2:$B$98,2,FALSE)),\"\")","v":""},{"$f":"IFERROR(IF(A213=\"\",\"\",HLOOKUP(A213,'Lista Psychotropy'!$H$34:$CY$37,2,FALSE)),\"\")","v":""},{"$f":"IFERROR(IF(A213=\"\",\"\",HLOOKUP(A213,'Lista Psychotropy'!$H$1:$CY$7,2,FALSE)),\"\")","v":""},{"$f":"IFERROR(IF(A213=\"\",\"\",HLOOKUP(A213,'Lista Psychotropy'!$H$13:$CY$18,2,FALSE)),\"\")","v":""},null,null,null,null,null,null,null,null,null,null,null,null,null,null,null,null,null,null,null,null,null,null,null,"1","2"]
[null,{"$f":"IFERROR(IF(A214=\"\",\"\",VLOOKUP(A214,'Lista Psychotropy'!$A$2:$B$98,2,FALSE)),\"\")","v":""},{"$f":"IFERROR(IF(A214=\"\",\"\",HLOOKUP(A214,'Lista Psychotropy'!$H$34:$CY$37,2,FALSE)),\"\")","v":""},{"$f":"IFERROR(IF(A214=\"\",\"\",HLOOKUP(A214,'Lista Psychotropy'!$H$1:$CY$7,2,FALSE)),\"\")","v":""},{"$f":"IFERROR(IF(A214=\"\",\"\",HLOOKUP(A214,'Lista Psychotropy'!$H$13:$CY$18,2,FALSE)),\"\")","v":""},null,null,null,null,null,null,null,null,null,null,null,null,null,null,null,null,null,null,null,null,null,null,null,"1","2"]
[null,{"$f":"IFERROR(IF(A215=\"\",\"\",VLOOKUP(A215,'Lista Psychotropy'!$A$2:$B$98,2,FALSE)),\"\")","v":""},{"$f":"IFERROR(IF(A215=\"\",\"\",HLOOKUP(A215,'Lista Psychotropy'!$H$34:$CY$37,2,FALSE)),\"\")","v":""},{"$f":"IFERROR(IF(A215=\"\",\"\",HLOOKUP(A215,'Lista Psychotropy'!$H$1:$CY$7,2,FALSE)),\"\")","v":""},{"$f":"IFERROR(IF(A215=\"\",\"\",HLOOKUP(A215,'Lista Psychotropy'!$H$13:$CY$18,2,FALSE)),\"\")","v":""},null,null,null,null,null,null,null,null,null,null,null,null,null,null,null,null,null,null,null,null,null,null,null,"1","2"]
[null,{"$f":"IFERROR(IF(A216=\"\",\"\",VLOOKUP(A216,'Lista Psychotropy'!$A$2:$B$98,2,FALSE)),\"\")","v":""},{"$f":"IFERROR(IF(A216=\"\",\"\",HLOOKUP(A216,'Lista Psychotropy'!$H$34:$CY$37,2,FALSE)),\"\")","v":""},{"$f":"IFERROR(IF(A216=\"\",\"\",HLOOKUP(A216,'Lista Psychotropy'!$H$1:$CY$7,2,FALSE)),\"\")","v":""},{"$f":"IFERROR(IF(A216=\"\",\"\",HLOOKUP(A216,'Lista Psychotropy'!$H$13:$CY$18,2,FALSE)),\"\")","v":""},null,null,null,null,null,null,null,null,null,null,null,null,null,null,null,null,null,null,null,null,null,null,null,"1","2"]
[null,{"$f":"IFERROR(IF(A217=\"\",\"\",VLOOKUP(A217,'Lista Psychotropy'!$A$2:$B$98,2,FALSE)),\"\")","v":""},{"$f":"IFERROR(IF(A217=\"\",\"\",HLOOKUP(A217,'Lista Psychotropy'!$H$34:$CY$37,2,FALSE)),\"\")","v":""},{"$f":"IFERROR(IF(A217=\"\",\"\",HLOOKUP(A217,'Lista Psychotropy'!$H$1:$CY$7,2,FALSE)),\"\")","v":""},{"$f":"IFERROR(IF(A217=\"\",\"\",HLOOKUP(A217,'Lista Psychotropy'!$H$13:$CY$18,2,FALSE)),\"\")","v":""},null,null,null,null,null,null,null,null,null,null,null,null,null,null,null,null,null,null,null,null,null,null,null,"1","2"]
[null,{"$f":"IFERROR(IF(A218=\"\",\"\",VLOOKUP(A218,'Lista Psychotropy'!$A$2:$B$98,2,FALSE)),\"\")","v":""},{"$f":"IFERROR(IF(A218=\"\",\"\",HLOOKUP(A218,'Lista Psychotropy'!$H$34:$CY$37,2,FALSE)),\"\")","v":""},{"$f":"IFERROR(IF(A218=\"\",\"\",HLOOKUP(A218,'Lista Psychotropy'!$H$1:$CY$7,2,FALSE)),\"\")","v":""},{"$f":"IFERROR(IF(A218=\"\",\"\",HLOOKUP(A218,'Lista Psychotropy'!$H$13:$CY$18,2,FALSE)),\"\")","v":""},null,null,null,null,null,null,null,null,null,null,null,null,null,null,null,null,null,null,null,null,null,null,null,"1","2"]
[null,{"$f":"IFERROR(IF(A219=\"\",\"\",VLOOKUP(A219,'Lista Psychotropy'!$A$2:$B$98,2,FALSE)),\"\")","v":""},{"$f":"IFERROR(IF(A219=\"\",\"\",HLOOKUP(A219,'Lista Psychotropy'!$H$34:$CY$37,2,FALSE)),\"\")","v":""},{"$f":"IFERROR(IF(A219=\"\",\"\",HLOOKUP(A219,'Lista Psychotropy'!$H$1:$CY$7,2,FALSE)),\"\")","v":""},{"$f":"IFERROR(IF(A219=\"\",\"\",HLOOKUP(A219,'Lista Psychotropy'!$H$13:$CY$18,2,FALSE)),\"\")","v":""},null,null,null,null,null,null,null,null,null,null,null,null,null,null,null,null,null,null,null,null,null,null,null,"1","2"]
[null,{"$f":"IFERROR(IF(A220=\"\",\"\",VLOOKUP(A220,'Lista Psychotropy'!$A$2:$B$98,2,FALSE)),\"\")","v":""},{"$f":"IFERROR(IF(A220=\"\",\"\",HLOOKUP(A220,'Lista Psychotropy'!$H$34:$CY$37,2,FALSE)),\"\")","v":""},{"$f":"IFERROR(IF(A220=\"\",\"\",HLOOKUP(A220,'Lista Psychotropy'!$H$1:$CY$7,2,FALSE)),\"\")","v":""},{"$f":"IFERROR(IF(A220=\"\",\"\",HLOOKUP(A220,'Lista Psychotropy'!$H$13:$CY$18,2,FALSE)),\"\")","v":""},null,null,null,null,null,null,null,null,null,null,null,null,null,null,null,null,null,null,null,null,null,null,null,"1","2"]
[null,{"$f":"IFERROR(IF(A221=\"\",\"\",VLOOKUP(A221,'Lista Psychotropy'!$A$2:$B$98,2,FALSE)),\"\")","v":""},{"$f":"IFERROR(IF(A221=\"\",\"\",HLOOKUP(A221,'Lista Psychotropy'!$H$34:$CY$37,2,FALSE)),\"\")","v":""},{"$f":"IFERROR(IF(A221=\"\",\"\",HLOOKUP(A221,'Lista Psychotropy'!$H$1:$CY$7,2,FALSE)),\"\")","v":""},{"$f":"IFERROR(IF(A221=\"\",\"\",HLOOKUP(A221,'Lista Psychotropy'!$H$13:$CY$18,2,FALSE)),\"\")","v":""},null,null,null,null,null,null,null,null,null,null,null,null,null,null,null,null,null,null,null,null,null,null,null,"1","2"]
[null,{"$f":"IFERROR(IF(A222=\"\",\"\",VLOOKUP(A222,'Lista Psychotropy'!$A$2:$B$98,2,FALSE)),\"\")","v":""},{"$f":"IFERROR(IF(A222=\"\",\"\",HLOOKUP(A222,'Lista Psychotropy'!$H$34:$CY$37,2,FALSE)),\"\")","v":""},{"$f":"IFERROR(IF(A222=\"\",\"\",HLOOKUP(A222,'Lista Psychotropy'!$H$1:$CY$7,2,FALSE)),\"\")","v":""},{"$f":"IFERROR(IF(A222=\"\",\"\",HLOOKUP(A222,'Lista Psychotropy'!$H$13:$CY$18,2,FALSE)),\"\")","v":""},null,null,null,null,null,null,null,null,null,null,null,null,null,null,null,null,null,null,null,null,null,null,null,"1","2"]
[null,{"$f":"IFERROR(IF(A223=\"\",\"\",VLOOKUP(A223,'Lista Psychotropy'!$A$2:$B$98,2,FALSE)),\"\")","v":""},{"$f":"IFERROR(IF(A223=\"\",\"\",HLOOKUP(A223,'Lista Psychotropy'!$H$34:$CY$37,2,FALSE)),\"\")","v":""},{"$f":"IFERROR(IF(A223=\"\",\"\",HLOOKUP(A223,'Lista Psychotropy'!$H$1:$CY$7,2,FALSE)),\"\")","v":""},{"$f":"IFERROR(IF(A223=\"\",\"\",HLOOKUP(A223,'Lista Psychotropy'!$H$13:$CY$18,2,FALSE)),\"\")","v":""},null,null,null,null,null,null,null,null,null,null,null,null,null,null,null,null,null,null,null,null,null,null,null,"1","2"]
[null,{"$f":"IFERROR(IF(A224=\"\",\"\",VLOOKUP(A224,'Lista Psychotropy'!$A$2:$B$98,2,FALSE)),\"\")","v":""},{"$f":"IFERROR(IF(A224=\"\",\"\",HLOOKUP(A224,'Lista Psychotropy'!$H$34:$CY$37,2,FALSE)),\"\")","v":""},{"$f":"IFERROR(IF(A224=\"\",\"\",HLOOKUP(A224,'Lista Psychotropy'!$H$1:$CY$7,2,FALSE)),\"\")","v":""},{"$f":"IFERROR(IF(A224=\"\",\"\",HLOOKUP(A224,'Lista Psychotropy'!$H$13:$CY$18,2,FALSE)),\"\")","v":""},null,null,null,null,null,null,null,null,null,null,null,null,null,null,null,null,null,null,null,null,null,null,null,"1","2"]
[null,{"$f":"IFERROR(IF(A225=\"\",\"\",VLOOKUP(A225,'Lista Psychotropy'!$A$2:$B$98,2,FALSE)),\"\")","v":""},{"$f":"IFERROR(IF(A225=\"\",\"\",HLOOKUP(A225,'Lista Psychotropy'!$H$34:$CY$37,2,FALSE)),\"\")","v":""},{"$f":"IFERROR(IF(A225=\"\",\"\",HLOOKUP(A225,'Lista Psychotropy'!$H$1:$CY$7,2,FALSE)),\"\")","v":""},{"$f":"IFERROR(IF(A225=\"\",\"\",HLOOKUP(A225,'Lista Psychotropy'!$H$13:$CY$18,2,FALSE)),\"\")","v":""},null,null,null,null,null,null,null,null,null,null,null,null,null,null,null,null,null,null,null,null,null,null,null,"1","2"]
[null,{"$f":"IFERROR(IF(A226=\"\",\"\",VLOOKUP(A226,'Lista Psychotropy'!$A$2:$B$98,2,FALSE)),\"\")","v":""},{"$f":"IFERROR(IF(A226=\"\",\"\",HLOOKUP(A226,'Lista Psychotropy'!$H$34:$CY$37,2,FALSE)),\"\")","v":""},{"$f":"IFERROR(IF(A226=\"\",\"\",HLOOKUP(A226,'Lista Psychotropy'!$H$1:$CY$7,2,FALSE)),\"\")","v":""},{"$f":"IFERROR(IF(A226=\"\",\"\",HLOOKUP(A226,'Lista Psychotropy'!$H$13:$CY$18,2,FALSE)),\"\")","v":""},null,null,null,null,null,null,null,null,null,null,null,null,null,null,null,null,null,null,null,null,null,null,null,"1","2"]
[null,{"$f":"IFERROR(IF(A227=\"\",\"\",VLOOKUP(A227,'Lista Psychotropy'!$A$2:$B$98,2,FALSE)),\"\")","v":""},{"$f":"IFERROR(IF(A227=\"\",\"\",HLOOKUP(A227,'Lista Psychotropy'!$H$34:$CY$37,2,FALSE)),\"\")","v":""},{"$f":"IFERROR(IF(A227=\"\",\"\",HLOOKUP(A227,'Lista Psychotropy'!$H$1:$CY$7,2,FALSE)),\"\")","v":""},{"$f":"IFERROR(IF(A227=\"\",\"\",HLOOKUP(A227,'Lista Psychotropy'!$H$13:$CY$18,2,FALSE)),\"\")","v":""},null,null,null,null,null,null,null,null,null,null,null,null,null,null,null,null,null,null,null,null,null,null,null,"1","2"]
[null,{"$f":"IFERROR(IF(A228=\"\",\"\",VLOOKUP(A228,'Lista Psychotropy'!$A$2:$B$98,2,FALSE)),\"\")","v":""},{"$f":"IFERROR(IF(A228=\"\",\"\",HLOOKUP(A228,'Lista Psychotropy'!$H$34:$CY$37,2,FALSE)),\"\")","v":""},{"$f":"IFERROR(IF(A228=\"\",\"\",HLOOKUP(A228,'Lista Psychotropy'!$H$1:$CY$7,2,FALSE)),\"\")","v":""},{"$f":"IFERROR(IF(A228=\"\",\"\",HLOOKUP(A228,'Lista Psychotropy'!$H$13:$CY$18,2,FALSE)),\"\")","v":""},null,null,null,null,null,null,null,null,null,null,null,null,null,null,null,null,null,null,null,null,null,null,null,"1","2"]
[null,{"$f":"IFERROR(IF(A229=\"\",\"\",VLOOKUP(A229,'Lista Psychotropy'!$A$2:$B$98,2,FALSE)),\"\")","v":""},{"$f":"IFERROR(IF(A229=\"\",\"\",HLOOKUP(A229,'Lista Psychotropy'!$H$34:$CY$37,2,FALSE)),\"\")","v":""},{"$f":"IFERROR(IF(A229=\"\",\"\",HLOOKUP(A229,'Lista Psychotropy'!$H$1:$CY$7,2,FALSE)),\"\")","v":""},{"$f":"IFERROR(IF(A229=\"\",\"\",HLOOKUP(A229,'Lista Psychotropy'!$H$13:$CY$18,2,FALSE)),\"\")","v":""},null,null,null,null,null,null,null,null,null,null,null,null,null,null,null,null,null,null,null,null,null,null,null,"1","2"]
[null,{"$f":"IFERROR(IF(A230=\"\",\"\",VLOOKUP(A230,'Lista Psychotropy'!$A$2:$B$98,2,FALSE)),\"\")","v":""},{"$f":"IFERROR(IF(A230=\"\",\"\",HLOOKUP(A230,'Lista Psychotropy'!$H$34:$CY$37,2,FALSE)),\"\")","v":""},{"$f":"IFERROR(IF(A230=\"\",\"\",HLOOKUP(A230,'Lista Psychotropy'!$H$1:$CY$7,2,FALSE)),\"\")","v":""},{"$f":"IFERROR(IF(A230=\"\",\"\",HLOOKUP(A230,'Lista Psychotropy'!$H$13:$CY$18,2,FALSE)),\"\")","v":""},null,null,null,null,null,null,null,null,null,null,null,null,null,null,null,null,null,null,null,null,null,null,null,"1","2"]
[null,{"$f":"IFERROR(IF(A231=\"\",\"\",VLOOKUP(A231,'Lista Psychotropy'!$A$2:$B$98,2,FALSE)),\"\")","v":""},{"$f":"IFERROR(IF(A231=\"\",\"\",HLOOKUP(A231,'Lista Psychotropy'!$H$34:$CY$37,2,FALSE)),\"\")","v":""},{"$f":"IFERROR(IF(A231=\"\",\"\",HLOOKUP(A231,'Lista Psychotropy'!$H$1:$CY$7,2,FALSE)),\"\")","v":""},{"$f":"IFERROR(IF(A231=\"\",\"\",HLOOKUP(A231,'Lista Psychotropy'!$H$13:$CY$18,2,FALSE)),\"\")","v":""},null,null,null,null,null,null,null,null,null,null,null,null,null,null,null,null,null,null,null,null,null,null,null,"1","2"]
[null,{"$f":"IFERROR(IF(A232=\"\",\"\",VLOOKUP(A232,'Lista Psychotropy'!$A$2:$B$98,2,FALSE)),\"\")","v":""},{"$f":"IFERROR(IF(A232=\"\",\"\",HLOOKUP(A232,'Lista Psychotropy'!$H$34:$CY$37,2,FALSE)),\"\")","v":""},{"$f":"IFERROR(IF(A232=\"\",\"\",HLOOKUP(A232,'Lista Psychotropy'!$H$1:$CY$7,2,FALSE)),\"\")","v":""},{"$f":"IFERROR(IF(A232=\"\",\"\",HLOOKUP(A232,'Lista Psychotropy'!$H$13:$CY$18,2,FALSE)),\"\")","v":""},null,null,null,null,null,null,null,null,null,null,null,null,null,null,null,null,null,null,null,null,null,null,null,"1","2"]
[null,{"$f":"IFERROR(IF(A233=\"\",\"\",VLOOKUP(A233,'Lista Psychotropy'!$A$2:$B$98,2,FALSE)),\"\")","v":""},{"$f":"IFERROR(IF(A233=\"\",\"\",HLOOKUP(A233,'Lista Psychotropy'!$H$34:$CY$37,2,FALSE)),\"\")","v":""},{"$f":"IFERROR(IF(A233=\"\",\"\",HLOOKUP(A233,'Lista Psychotropy'!$H$1:$CY$7,2,FALSE)),\"\")","v":""},{"$f":"IFERROR(IF(A233=\"\",\"\",HLOOKUP(A233,'Lista Psychotropy'!$H$13:$CY$18,2,FALSE)),\"\")","v":""},null,null,null,null,null,null,null,null,null,null,null,null,null,null,null,null,null,null,null,null,null,null,null,"1","2"]
[null,{"$f":"IFERROR(IF(A234=\"\",\"\",VLOOKUP(A234,'Lista Psychotropy'!$A$2:$B$98,2,FALSE)),\"\")","v":""},{"$f":"IFERROR(IF(A234=\"\",\"\",HLOOKUP(A234,'Lista Psychotropy'!$H$34:$CY$37,2,FALSE)),\"\")","v":""},{"$f":"IFERROR(IF(A234=\"\",\"\",HLOOKUP(A234,'Lista Psychotropy'!$H$1:$CY$7,2,FALSE)),\"\")","v":""},{"$f":"IFERROR(IF(A234=\"\",\"\",HLOOKUP(A234,'Lista Psychotropy'!$H$13:$CY$18,2,FALSE)),\"\")","v":""},null,null,null,null,null,null,null,null,null,null,null,null,null,null,null,null,null,null,null,null,null,null,null,"1","2"]
[null,{"$f":"IFERROR(IF(A235=\"\",\"\",VLOOKUP(A235,'Lista Psychotropy'!$A$2:$B$98,2,FALSE)),\"\")","v":""},{"$f":"IFERROR(IF(A235=\"\",\"\",HLOOKUP(A235,'Lista Psychotropy'!$H$34:$CY$37,2,FALSE)),\"\")","v":""},{"$f":"IFERROR(IF(A235=\"\",\"\",HLOOKUP(A235,'Lista Psychotropy'!$H$1:$CY$7,2,FALSE)),\"\")","v":""},{"$f":"IFERROR(IF(A235=\"\",\"\",HLOOKUP(A235,'Lista Psychotropy'!$H$13:$CY$18,2,FALSE)),\"\")","v":""},null,null,null,null,null,null,null,null,null,null,null,null,null,null,null,null,null,null,null,null,null,null,null,"1","2"]
[null,{"$f":"IFERROR(IF(A236=\"\",\"\",VLOOKUP(A236,'Lista Psychotropy'!$A$2:$B$98,2,FALSE)),\"\")","v":""},{"$f":"IFERROR(IF(A236=\"\",\"\",HLOOKUP(A236,'Lista Psychotropy'!$H$34:$CY$37,2,FALSE)),\"\")","v":""},{"$f":"IFERROR(IF(A236=\"\",\"\",HLOOKUP(A236,'Lista Psychotropy'!$H$1:$CY$7,2,FALSE)),\"\")","v":""},{"$f":"IFERROR(IF(A236=\"\",\"\",HLOOKUP(A236,'Lista Psychotropy'!$H$13:$CY$18,2,FALSE)),\"\")","v":""},null,null,null,null,null,null,null,null,null,null,null,null,null,null,null,null,null,null,null,null,null,null,null,"1","2"]
[null,{"$f":"IFERROR(IF(A237=\"\",\"\",VLOOKUP(A237,'Lista Psychotropy'!$A$2:$B$98,2,FALSE)),\"\")","v":""},{"$f":"IFERROR(IF(A237=\"\",\"\",HLOOKUP(A237,'Lista Psychotropy'!$H$34:$CY$37,2,FALSE)),\"\")","v":""},{"$f":"IFERROR(IF(A237=\"\",\"\",HLOOKUP(A237,'Lista Psychotropy'!$H$1:$CY$7,2,FALSE)),\"\")","v":""},{"$f":"IFERROR(IF(A237=\"\",\"\",HLOOKUP(A237,'Lista Psychotropy'!$H$13:$CY$18,2,FALSE)),\"\")","v":""},null,null,null,null,null,null,null,null,null,null,null,null,null,null,null,null,null,null,null,null,null,null,null,"1","2"]
[null,{"$f":"IFERROR(IF(A238=\"\",\"\",VLOOKUP(A238,'Lista Psychotropy'!$A$2:$B$98,2,FALSE)),\"\")","v":""},{"$f":"IFERROR(IF(A238=\"\",\"\",HLOOKUP(A238,'Lista Psychotropy'!$H$34:$CY$37,2,FALSE)),\"\")","v":""},{"$f":"IFERROR(IF(A238=\"\",\"\",HLOOKUP(A238,'Lista Psychotropy'!$H$1:$CY$7,2,FALSE)),\"\")","v":""},{"$f":"IFERROR(IF(A238=\"\",\"\",HLOOKUP(A238,'Lista Psychotropy'!$H$13:$CY$18,2,FALSE)),\"\")","v":""},null,null,null,null,null,null,null,null,null,null,null,null,null,null,null,null,null,null,null,null,null,null,null,"1","2"]
[null,{"$f":"IFERROR(IF(A239=\"\",\"\",VLOOKUP(A239,'Lista Psychotropy'!$A$2:$B$98,2,FALSE)),\"\")","v":""},{"$f":"IFERROR(IF(A239=\"\",\"\",HLOOKUP(A239,'Lista Psychotropy'!$H$34:$CY$37,2,FALSE)),\"\")","v":""},{"$f":"IFERROR(IF(A239=\"\",\"\",HLOOKUP(A239,'Lista Psychotropy'!$H$1:$CY$7,2,FALSE)),\"\")","v":""},{"$f":"IFERROR(IF(A239=\"\",\"\",HLOOKUP(A239,'Lista Psychotropy'!$H$13:$CY$18,2,FALSE)),\"\")","v":""},null,null,null,null,null,null,null,null,null,null,null,null,null,null,null,null,null,null,null,null,null,null,null,"1","2"]
[null,{"$f":"IFERROR(IF(A240=\"\",\"\",VLOOKUP(A240,'Lista Psychotropy'!$A$2:$B$98,2,FALSE)),\"\")","v":""},{"$f":"IFERROR(IF(A240=\"\",\"\",HLOOKUP(A240,'Lista Psychotropy'!$H$34:$CY$37,2,FALSE)),\"\")","v":""},{"$f":"IFERROR(IF(A240=\"\",\"\",HLOOKUP(A240,'Lista Psychotropy'!$H$1:$CY$7,2,FALSE)),\"\")","v":""},{"$f":"IFERROR(IF(A240=\"\",\"\",HLOOKUP(A240,'Lista Psychotropy'!$H$13:$CY$18,2,FALSE)),\"\")","v":""},null,null,null,null,null,null,null,null,null,null,null,null,null,null,null,null,null,null,null,null,null,null,null,"1","2"]
[null,{"$f":"IFERROR(IF(A241=\"\",\"\",VLOOKUP(A241,'Lista Psychotropy'!$A$2:$B$98,2,FALSE)),\"\")","v":""},{"$f":"IFERROR(IF(A241=\"\",\"\",HLOOKUP(A241,'Lista Psychotropy'!$H$34:$CY$37,2,FALSE)),\"\")","v":""},{"$f":"IFERROR(IF(A241=\"\",\"\",HLOOKUP(A241,'Lista Psychotropy'!$H$1:$CY$7,2,FALSE)),\"\")","v":""},{"$f":"IFERROR(IF(A241=\"\",\"\",HLOOKUP(A241,'Lista Psychotropy'!$H$13:$CY$18,2,FALSE)),\"\")","v":""},null,null,null,null,null,null,null,null,null,null,null,null,null,null,null,null,null,null,null,null,null,null,null,"1","2"]
[null,{"$f":"IFERROR(IF(A242=\"\",\"\",VLOOKUP(A242,'Lista Psychotropy'!$A$2:$B$98,2,FALSE)),\"\")","v":""},{"$f":"IFERROR(IF(A242=\"\",\"\",HLOOKUP(A242,'Lista Psychotropy'!$H$34:$CY$37,2,FALSE)),\"\")","v":""},{"$f":"IFERROR(IF(A242=\"\",\"\",HLOOKUP(A242,'Lista Psychotropy'!$H$1:$CY$7,2,FALSE)),\"\")","v":""},{"$f":"IFERROR(IF(A242=\"\",\"\",HLOOKUP(A242,'Lista Psychotropy'!$H$13:$CY$18,2,FALSE)),\"\")","v":""},null,null,null,null,null,null,null,null,null,null,null,null,null,null,null,null,null,null,null,null,null,null,null,"1","2"]
[null,{"$f":"IFERROR(IF(A243=\"\",\"\",VLOOKUP(A243,'Lista Psychotropy'!$A$2:$B$98,2,FALSE)),\"\")","v":""},{"$f":"IFERROR(IF(A243=\"\",\"\",HLOOKUP(A243,'Lista Psychotropy'!$H$34:$CY$37,2,FALSE)),\"\")","v":""},{"$f":"IFERROR(IF(A243=\"\",\"\",HLOOKUP(A243,'Lista Psychotropy'!$H$1:$CY$7,2,FALSE)),\"\")","v":""},{"$f":"IFERROR(IF(A243=\"\",\"\",HLOOKUP(A243,'Lista Psychotropy'!$H$13:$CY$18,2,FALSE)),\"\")","v":""},null,null,null,null,null,null,null,null,null,null,null,null,null,null,null,null,null,null,null,null,null,null,null,"1","2"]
[null,{"$f":"IFERROR(IF(A244=\"\",\"\",VLOOKUP(A244,'Lista Psychotropy'!$A$2:$B$98,2,FALSE)),\"\")","v":""},{"$f":"IFERROR(IF(A244=\"\",\"\",HLOOKUP(A244,'Lista Psychotropy'!$H$34:$CY$37,2,FALSE)),\"\")","v":""},{"$f":"IFERROR(IF(A244=\"\",\"\",HLOOKUP(A244,'Lista Psychotropy'!$H$1:$CY$7,2,FALSE)),\"\")","v":""},{"$f":"IFERROR(IF(A244=\"\",\"\",HLOOKUP(A244,'Lista Psychotropy'!$H$13:$CY$18,2,FALSE)),\"\")","v":""},null,null,null,null,null,null,null,null,null,null,null,null,null,null,null,null,null,null,null,null,null,null,null,"1","2"]
[null,{"$f":"IFERROR(IF(A245=\"\",\"\",VLOOKUP(A245,'Lista Psychotropy'!$A$2:$B$98,2,FALSE)),\"\")","v":""},{"$f":"IFERROR(IF(A245=\"\",\"\",HLOOKUP(A245,'Lista Psychotropy'!$H$34:$CY$37,2,FALSE)),\"\")","v":""},{"$f":"IFERROR(IF(A245=\"\",\"\",HLOOKUP(A245,'Lista Psychotropy'!$H$1:$CY$7,2,FALSE)),\"\")","v":""},{"$f":"IFERROR(IF(A245=\"\",\"\",HLOOKUP(A245,'Lista Psychotropy'!$H$13:$CY$18,2,FALSE)),\"\")","v":""},null,null,null,null,null,null,null,null,null,null,null,null,null,null,null,null,null,null,null,null,null,null,null,"1","2"]
[null,{"$f":"IFERROR(IF(A246=\"\",\"\",VLOOKUP(A246,'Lista Psychotropy'!$A$2:$B$98,2,FALSE)),\"\")","v":""},{"$f":"IFERROR(IF(A246=\"\",\"\",HLOOKUP(A246,'Lista Psychotropy'!$H$34:$CY$37,2,FALSE)),\"\")","v":""},{"$f":"IFERROR(IF(A246=\"\",\"\",HLOOKUP(A246,'Lista Psychotropy'!$H$1:$CY$7,2,FALSE)),\"\")","v":""},{"$f":"IFERROR(IF(A246=\"\",\"\",HLOOKUP(A246,'Lista Psychotropy'!$H$13:$CY$18,2,FALSE)),\"\")","v":""},null,null,null,null,null,null,null,null,null,null,null,null,null,null,null,null,null,null,null,null,null,null,null,"1","2"]
[null,{"$f":"IFERROR(IF(A247=\"\",\"\",VLOOKUP(A247,'Lista Psychotropy'!$A$2:$B$98,2,FALSE)),\"\")","v":""},{"$f":"IFERROR(IF(A247=\"\",\"\",HLOOKUP(A247,'Lista Psychotropy'!$H$34:$CY$37,2,FALSE)),\"\")","v":""},{"$f":"IFERROR(IF(A247=\"\",\"\",HLOOKUP(A247,'Lista Psychotropy'!$H$1:$CY$7,2,FALSE)),\"\")","v":""},{"$f":"IFERROR(IF(A247=\"\",\"\",HLOOKUP(A247,'Lista Psychotropy'!$H$13:$CY$18,2,FALSE)),\"\")","v":""},null,null,null,null,null,null,null,null,null,null,null,null,null,null,null,null,null,null,null,null,null,null,null,"1","2"]
[null,{"$f":"IFERROR(IF(A248=\"\",\"\",VLOOKUP(A248,'Lista Psychotropy'!$A$2:$B$98,2,FALSE)),\"\")","v":""},{"$f":"IFERROR(IF(A248=\"\",\"\",HLOOKUP(A248,'Lista Psychotropy'!$H$34:$CY$37,2,FALSE)),\"\")","v":""},{"$f":"IFERROR(IF(A248=\"\",\"\",HLOOKUP(A248,'Lista Psychotropy'!$H$1:$CY$7,2,FALSE)),\"\")","v":""},{"$f":"IFERROR(IF(A248=\"\",\"\",HLOOKUP(A248,'Lista Psychotropy'!$H$13:$CY$18,2,FALSE)),\"\")","v":""},null,null,null,null,null,null,null,null,null,null,null,null,null,null,null,null,null,null,null,null,null,null,null,"1","2"]
[null,{"$f":"IFERROR(IF(A249=\"\",\"\",VLOOKUP(A249,'Lista Psychotropy'!$A$2:$B$98,2,FALSE)),\"\")","v":""},{"$f":"IFERROR(IF(A249=\"\",\"\",HLOOKUP(A249,'Lista Psychotropy'!$H$34:$CY$37,2,FALSE)),\"\")","v":""},{"$f":"IFERROR(IF(A249=\"\",\"\",HLOOKUP(A249,'Lista Psychotropy'!$H$1:$CY$7,2,FALSE)),\"\")","v":""},{"$f":"IFERROR(IF(A249=\"\",\"\",HLOOKUP(A249,'Lista Psychotropy'!$H$13:$CY$18,2,FALSE)),\"\")","v":""},null,null,null,null,null,null,null,null,null,null,null,null,null,null,null,null,null,null,null,null,null,null,null,"1","2"]
[null,{"$f":"IFERROR(IF(A250=\"\",\"\",VLOOKUP(A250,'Lista Psychotropy'!$A$2:$B$98,2,FALSE)),\"\")","v":""},{"$f":"IFERROR(IF(A250=\"\",\"\",HLOOKUP(A250,'Lista Psychotropy'!$H$34:$CY$37,2,FALSE)),\"\")","v":""},{"$f":"IFERROR(IF(A250=\"\",\"\",HLOOKUP(A250,'Lista Psychotropy'!$H$1:$CY$7,2,FALSE)),\"\")","v":""},{"$f":"IFERROR(IF(A250=\"\",\"\",HLOOKUP(A250,'Lista Psychotropy'!$H$13:$CY$18,2,FALSE)),\"\")","v":""},null,null,null,null,null,null,null,null,null,null,null,null,null,null,null,null,null,null,null,null,null,null,null,"1","2"]

{"sheet":"Zapotrzebowanie Sur","index":33,"n_rows":6,"n_cols":11,"rows_kept":6,"cut":false,"hidden":true,"merged":[[4,0,4,2],[4,4,4,6],[4,8,4,10]]}
[]
[]
[]
[]
["Środki odurzające",null,null,null,"Substancje psychotropowe",null,null,null,"Prekursory kat. 1"]
["Nazwa substancji","Zapotrzebowanie na rynek krajowy","Zapotrzebowanie na potrzeby eksportu",null,"Nazwa substancji","Zapotrzebowanie na rynek krajowy","Zapotrzebowanie na potrzeby eksportu",null,"Nazwa substancji","Zapotrzebowanie na rynek krajowy","Zapotrzebowanie na potrzeby eksportu"]

{"sheet":"Zapotrzebowanie badania","index":34,"n_rows":6,"n_cols":8,"rows_kept":6,"cut":false,"hidden":true,"merged":[[4,0,4,1],[4,3,4,4],[4,6,4,7]]}
[]
[]
[]
[]
["Środki odurzające",null,null,"Substancje psychotropowe",null,null,"Prekursory kat. 1"]
["Nazwa substancji","Zapotrzebowanie na badania",null,"Nazwa substancji","Zapotrzebowanie na badania",null,"Nazwa substancji","Zapotrzebowanie na badania"]

{"sheet":"Zapotrzebowanie pozafarm","index":35,"n_rows":6,"n_cols":8,"rows_kept":6,"cut":false,"hidden":true,"merged":[[4,0,4,1],[4,3,4,4],[4,6,4,7]]}
[]
[]
[]
[]
["Środki odurzające",null,null,"Substancje psychotropowe",null,null,"Prekursory kat. 1"]
["Nazwa substancji","Zapotrzebowanie",null,"Nazwa substancji","Zapotrzebowanie",null,"Nazwa substancji","Zapotrzebowanie"]

{"sheet":"Zapotrzebowanie","index":36,"n_rows":6,"n_cols":11,"rows_kept":6,"cut":false,"hidden":true,"merged":[[4,0,4,2],[4,4,4,6],[4,8,4,10]]}
[]
[]
[]
[]
["Środki odurzające",null,null,null,"Substancje psychotropowe",null,null,null,"Prekursory kat. 1"]
["Nazwa substancji","Zapotrzebowanie na rynek krajowy","Zapotrzebowanie na potrzeby eksportu",null,"Nazwa substancji","Zapotrzebowanie na rynek krajowy","Zapotrzebowanie na potrzeby eksportu",null,"Nazwa substancji","Zapotrzebowanie na rynek krajowy","Zapotrzebowanie na potrzeby eksportu"]

{"sheet":"Listy","index":37,"n_rows":197,"n_cols":39,"rows_kept":197,"cut":false,"hidden":true,"merged":[]}
["Leki psychotropowe","substancja czynna","dawki","wielkość opakowania",null,null,"Środki odurzające","substancja czynna","dawki","wielkość opakowania",null,null,"Prekursory","substancja czynna","dawki","wielkość opakowania",null,null,null,"Środki odurzające","substancja czynna"]
["Phenoleptil","Fenobarbital",25,100,null,null,"Accordeon","Oksykodon",5,100,null,null,null,null,null,null,null,null,null,"Accordeon","Oksykodon"]
[null,null,100,null,null,null,null,null,10,null,null,null,"Subst. Ephedrini HCl","Efedryna",1000,1]
["Euthasol","Pentobarbital",null,null,null,null,null,null,20,null,null,null,null,null,5000]
["Vetaketam","Ketamina",null,null,null,null,null,null,40,null,null,null,null,null,10000,null,null,null,null,null,null,null,"Oksykodon",null,"przelicznik",null,null,"Accordeon","Oxycodone Kalceks","Oxycodone Molteni","Oxycodone Polpharma","Oxycontin","Oxydolor","Oxydolor Fast","Oxyduo","Oxylaxon","OxyNorm","Reltebon","Targin"]
["Exagon","Pentobarbital",null,null,null,null,null,null,80,null,null,null,null,null,25000,null,null,null,null,null,null,null,{"$f":"IF(U2=$W$5,T2,\"\")","v":"Accordeon"},"Accordeon",0.9,null,"Dawka",5,10,10,10,5,5,10,5,5,1,5,5]
[null,null,null,null,null,null,"Antidol 15","Kodeina",15,10,null,null,null,null,null,null,null,"Accordeon",null,"Antidol 15","Kodeina",null,{"$f":"IF(U3=$W$5,T3,\"\")","v":""},"Oxycodone Kalceks",0.9,null,null,10,50,50,null,10,10,null,10,10,10,10,10]
[null,null,null,null,null,null,"Ascodan","Kodeina",8,10,null,null,null,null,null,null,null,"Antidol 15",null,"Ascodan","Kodeina",null,"","Oxycodone Molteni",0.9,null,null,20,null,null,null,20,20,null,20,20,null,20,20]
[null,null,null,null,null,null,"Cannabis Flos Aurora","Cannabis",10000,1,null,null,null,null,null,null,null,"Ascodan",null,"Cannabis Flos Aurora","Cannabis",null,"","Oxycodone Polpharma",0.9,null,null,40,null,null,null,40,40,null,null,40,null,40,40]
[null,null,null,null,null,null,"DHC Continus","Dihydrokodeina",60,60,null,null,null,null,null,null,null,"Cannabis Flos Aurora",null,"DHC Continus","Dihydrokodeina",null,"","Oxycontin",0.9,null,null,80,null,null,null,80,80]
[null,null,null,null,null,null,null,null,90,null,null,null,null,null,null,null,null,"DHC Continus",null,null,null,null,"","Oxydolor",0.9]
[null,null,null,null,null,null,"Dolcontral","Petydyna",50,10,null,null,null,null,null,null,null,"Dolcontral",null,"Dolcontral","Petydyna",null,"","Oxydolor Fast",0.9]
[null,null,null,null,null,null,null,null,100,null,null,null,null,null,null,null,null,"Doltard",null,null,null,null,"","Oxyduo",0.9]
[null,null,null,null,null,null,"Doltard","Morfina",10,20,null,null,null,null,null,null,null,"Durogesic",null,"Doltard","Morfina",null,"","Oxylaxon",0.9]
[null,null,null,null,null,null,null,null,30,null,null,null,null,null,null,null,null,"Effentora",null,null,null,null,"","OxyNorm",0.9]
[null,null,null,null,null,null,null,null,60,null,null,null,null,null,null,null,null,"Fentanyl Actavis",null,null,null,null,"","Reltebon",0.9,null,null,{"$f":"AB5&1","v":"Accordeon1"},"Oxycodone Kalceks1","Oxycodone Molteni1","Oxycodone Polpharma1","Oxycontin1","Oxydolor1","Oxydolor Fast1","Oxyduo1","Oxylaxon1","OxyNorm1","Reltebon1","Targin1"]
[null,null,null,null,null,null,null,null,100,null,null,null,null,null,null,null,null,"Fentanyl Kalceks",null,null,null,null,"","Targin",0.9,null,"Wielkość opakowania 1",100,5,5,5,60,60,30,60,30,250,60,60]
[null,null,null,null,null,null,"Durogesic","Fentanyl",2.1,5,null,null,null,null,null,null,null,"Fentanyl WZF",null,"Durogesic","Fentanyl",null,"",null,null,null,null,null,10,10,10,null,null,null,null,null,20]
[null,null,null,null,null,null,null,null,4.2,null,null,null,null,null,null,null,null,"Instanyl",null,null,null,null,"",null,null,null,null,null,20,20]
[null,null,null,null,null,null,null,null,8.4,null,null,null,null,null,null,null,null,"Levomethadone HCl Molteni",null,null,null,null,""]
[null,null,null,null,null,null,null,null,12.6,null,null,null,null,null,null,null,null,"Maracex",null,null,null,null,""]
[null,null,null,null,null,null,null,null,16.8,null,null,null,null,null,null,null,null,"Matrifen",null,null,null,null,""]
[null,null,null,null,null,null,"Effentora","Fentanyl",0.1,4,null,null,null,null,null,null,null,"Methadone hydrochloride Molteni",null,"Effentora","Fentanyl",null,""]
[null,null,null,null,null,null,null,null,0.2,null,null,null,null,null,null,null,null,"Misyo",null,null,null,null,"",null,null,null,null,{"$f":"AB5","v":"Accordeon"},{"$f":"AC5","v":"Oxycodone Kalceks"},"Oxycodone Molteni","Oxycodone Polpharma","Oxycontin","Oxydolor","Oxydolor Fast","Oxyduo","Oxylaxon","OxyNorm","Reltebon","Targin"]
[null,null,null,null,null,null,null,null,0.4,null,null,null,null,null,null,null,null,"Morphine Kalceks",null,null,null,null,"",null,null,null,"Wielkość opakowania 2",100,5,5,5,60,60,30,60,30,250,60,60]
[null,null,null,null,null,null,null,null,0.1,28,null,null,null,null,null,null,null,"Morphini sulfas WZF",null,null,null,null,"",null,null,null,null,null,10,10,10,null,null,null,null,null,20]
[null,null,null,null,null,null,null,null,0.2,null,null,null,null,null,null,null,null,"Morphini sulfas WZF 0,1% Spinal",null,null,null,null,"",null,null,null,null,null,20,20]
[null,null,null,null,null,null,null,null,0.4,null,null,null,null,null,null,null,null,"MST Continus",null,null,null,null,""]
[null,null,null,null,null,null,"Fentanyl Actavis","Fentanyl",4.125,10,null,null,null,null,null,null,null,"Nalpain",null,"Fentanyl Actavis","Fentanyl",null,""]
[null,null,null,null,null,null,null,null,8.25,5,null,null,null,null,null,null,null,"Neoazarina",null,null,null,null,""]
[null,null,null,null,null,null,null,null,8.25,10,null,null,null,null,null,null,null,"Oxycodone Kalceks",null,null,null,null,""]
[null,null,null,null,null,null,null,null,12.375,5,null,null,null,null,null,null,null,"Oxycodone Molteni",null,null,null,null,""]
[null,null,null,null,null,null,null,null,12.375,10,null,null,null,null,null,null,null,"Oxycodone Polpharma",null,null,null,null,""]
[null,null,null,null,null,null,null,null,16.5,5,null,null,null,null,null,null,null,"Oxycontin",null,null,null,null,""]
[null,null,null,null,null,null,null,null,16.5,10,null,null,null,null,null,null,null,"Oxydolor",null,null,null,null,""]
[null,null,null,null,null,null,"Fentanyl Kalceks","Fentanyl",0.1,50,null,null,null,null,null,null,null,"Oxydolor Fast",null,"Fentanyl Kalceks","Fentanyl",null,""]
[null,null,null,null,null,null,"Fentanyl WZF","Fentanyl",0.1,10,null,null,null,null,null,null,null,"Oxyduo",null,"Fentanyl WZF","Fentanyl",null,""]
[null,null,null,null,null,null,null,null,0.1,50,null,null,null,null,null,null,null,"Oxylaxon",null,null,null,null,""]
[null,null,null,null,null,null,null,null,0.5,10,null,null,null,null,null,null,null,"OxyNorm",null,null,null,null,""]
[null,null,null,null,null,null,null,null,0.5,50,null,null,null,null,null,null,null,"Pecfent",null,null,null,null,""]
[null,null,null,null,null,null,"Instanyl","Fentanyl",0.9,1,null,null,null,null,null,null,null,"Reasec",null,"Instanyl","Fentanyl",null,""]
[null,null,null,null,null,null,null,null,2.9,null,null,null,null,null,null,null,null,"Reltebon",null,null,null,null,""]
[null,null,null,null,null,null,null,null,10,null,null,null,null,null,null,null,null,"Remifentanil B.Braun",null,null,null,null,""]
[null,null,null,null,null,null,"Levomethadone HCl Molteni","Metadon",2.5,1000,null,null,null,null,null,null,null,"Remifentanyl Actavis",null,"Levomethadone HCl Molteni","Metadon",null,""]
[null,null,null,null,null,null,null,null,5,500,null,null,null,null,null,null,null,"Sevredol",null,null,null,null,""]
[null,null,null,null,null,null,"Maracex","Morfina",20,10,null,null,null,null,null,null,null,"Subst. Morphinum HCL",null,"Maracex","Morfina",null,""]
[null,null,null,null,null,null,"Matrifen","Fentanyl",1.38,5,null,null,null,null,null,null,null,"Subst. Codeini Phosphate Hemihydricus",null,"Matrifen","Fentanyl",null,""]
[null,null,null,null,null,null,null,null,2.75,null,null,null,null,null,null,null,null,"Targin",null,null,null,null,""]
[null,null,null,null,null,null,null,null,5.5,null,null,null,null,null,null,null,null,"Vellofent",null,null,null,null,""]
[null,null,null,null,null,null,null,null,8.25,null,null,null,null,null,null,null,null,null,null,null,null,null,""]
[null,null,null,null,null,null,null,null,11,null,null,null,null,null,null,null,null,null,null,null,null,null,""]
[null,null,null,null,null,null,"Methadone hydrochloride Molteni","Metadon",1,10,null,null,null,null,null,null,null,null,null,"Methadone hydrochloride Molteni","Metadon",null,""]
[null,null,null,null,null,null,null,null,1,20,null,null,null,null,null,null,null,null,null,null,null,null,""]
[null,null,null,null,null,null,null,null,1,100,null,null,null,null,null,null,null,null,null,null,null,null,""]
[null,null,null,null,null,null,null,null,1,1000,null,null,null,null,null,null,null,null,null,null,null,null,""]
[null,null,null,null,null,null,null,null,5,1000,null,null,null,null,null,null,null,null,null,null,null,null,""]
[null,null,null,null,null,null,"Misyo","Metadon",10,1000,null,null,null,null,null,null,null,null,null,"Misyo","Metadon",null,""]
[null,null,null,null,null,null,"Morphine Kalceks","Morfina",10,10,null,null,null,null,null,null,null,null,null,"Morphine Kalceks","Morfina",null,""]
[null,null,null,null,null,null,"Morphini sulfas WZF","Morfina",10,10,null,null,null,null,null,null,null,null,null,"Morphini sulfas WZF","Morfina",null,""]
[null,null,null,null,null,null,null,null,20,null,null,null,null,null,null,null,null,null,null,null,null,null,""]
[null,null,null,null,null,null,"Morphini sulfas WZF 0,1% Spinal","Morfina",2,10,null,null,null,null,null,null,null,null,null,"Morphini sulfas WZF 0,1% Spinal","Morfina",null,""]
[null,null,null,null,null,null,"MST Continus","Morfina",10,60,null,null,null,null,null,null,null,null,null,"MST Continus","Morfina",null,""]
[null,null,null,null,null,null,null,null,30,null,null,null,null,null,null,null,null,null,null,null,null,null,""]
[null,null,null,null,null,null,null,null,60,null,null,null,null,null,null,null,null,null,null,null,null,null,""]
[null,null,null,null,null,null,null,null,100,null,null,null,null,null,null,null,null,null,null,null,null,null,""]
[null,null,null,null,null,null,null,null,200,null,null,null,null,null,null,null,null,null,null,null,null,null,""]
[null,null,null,null,null,null,"Nalpain","Nalbufina",10,20,null,null,null,null,null,null,null,null,null,"Nalpain","Nalbufina",null,""]
[null,null,null,null,null,null,"Neoazarina","Kodeina",10,10,null,null,null,null,null,null,null,null,null,"Neoazarina","Kodeina",null,""]
[null,null,null,null,null,null,"Oxycodone Kalceks","Oksykodon",10,10,null,null,null,null,null,null,null,null,null,"Oxycodone Kalceks","Oksykodon",null,""]
[null,null,null,null,null,null,null,null,10,20,null,null,null,null,null,null,null,null,null,null,null,null,""]
[null,null,null,null,null,null,null,null,50,5,null,null,null,null,null,null,null,null,null,null,null,null,{"$f":"IF(U67=$W$5,T67,\"\")","v":""}]
[null,null,null,null,null,null,"Oxycodone Molteni","Oksykodon",10,5,null,null,null,null,null,null,null,null,null,"Oxycodone Molteni","Oksykodon",null,""]
[null,null,null,null,null,null,null,null,10,20,null,null,null,null,null,null,null,null,null,null,null,null,"Oxycodone Kalceks"]
[null,null,null,null,null,null,null,null,10,10,null,null,null,null,null,null,null,null,null,null,null,null,""]
[null,null,null,null,null,null,null,null,50,5,null,null,null,null,null,null,null,null,null,null,null,null,""]
[null,null,null,null,null,null,"Oxycodone Polpharma","Oksykodon",10,5,null,null,null,null,null,null,null,null,null,"Oxycodone Polpharma","Oksykodon",null,"Oxycodone Molteni"]
[null,null,null,null,null,null,null,null,10,10,null,null,null,null,null,null,null,null,null,null,null,null,""]
[null,null,null,null,null,null,"Oxycontin","Oksykodon",5,60,null,null,null,null,null,null,null,null,null,"Oxycontin","Oksykodon",null,""]
[null,null,null,null,null,null,null,null,10,null,null,null,null,null,null,null,null,null,null,null,null,null,""]
[null,null,null,null,null,null,null,null,20,null,null,null,null,null,null,null,null,null,null,null,null,null,"Oxycodone Polpharma"]
[null,null,null,null,null,null,null,null,40,null,null,null,null,null,null,null,null,null,null,null,null,null,""]
[null,null,null,null,null,null,null,null,80,null,null,null,null,null,null,null,null,null,null,null,null,null,"Oxycontin"]
[null,null,null,null,null,null,"Oxydolor","Oksykodon",5,60,null,null,null,null,null,null,null,null,null,"Oxydolor","Oksykodon",null,""]
[null,null,null,null,null,null,null,null,10,null,null,null,null,null,null,null,null,null,null,null,null,null,""]
[null,null,null,null,null,null,null,null,20,null,null,null,null,null,null,null,null,null,null,null,null,null,""]
[null,null,null,null,null,null,null,null,40,null,null,null,null,null,null,null,null,null,null,null,null,null,""]
[null,null,null,null,null,null,null,null,80,null,null,null,null,null,null,null,null,null,null,null,null,null,"Oxydolor"]
[null,null,null,null,null,null,"Oxydolor Fast","Oksykodon",10,30,null,null,null,null,null,null,null,null,null,"Oxydolor Fast","Oksykodon",null,""]
[null,null,null,null,null,null,"Oxyduo","Oksykodon",5,60,null,null,null,null,null,null,null,null,null,"Oxyduo","Oksykodon",null,""]
[null,null,null,null,null,null,null,null,10,60,null,null,null,null,null,null,null,null,null,null,null,null,""]
[null,null,null,null,null,null,null,null,20,60,null,null,null,null,null,null,null,null,null,null,null,null,""]
[null,null,null,null,null,null,"Oxylaxon","Oksykodon",5,30,null,null,null,null,null,null,null,null,null,"Oxylaxon","Oksykodon",null,"Oxydolor Fast"]
[null,null,null,null,null,null,null,null,10,30,null,null,null,null,null,null,null,null,null,null,null,null,"Oxyduo"]
[null,null,null,null,null,null,null,null,20,30,null,null,null,null,null,null,null,null,null,null,null,null,""]
[null,null,null,null,null,null,null,null,40,30,null,null,null,null,null,null,null,null,null,null,null,null,""]
[null,null,null,null,null,null,"OxyNorm","Oksykodon",1,250,null,null,null,null,null,null,null,null,null,"OxyNorm","Oksykodon",null,"Oxylaxon"]
[null,null,null,null,null,null,null,null,10,10,null,null,null,null,null,null,null,null,null,null,null,null,""]
[null,null,null,null,null,null,null,null,10,20,null,null,null,null,null,null,null,null,null,null,null,null,""]
[null,null,null,null,null,null,"Pecfent","Fentanyl",1.55,1,null,null,null,null,null,null,null,null,null,"Pecfent","Fentanyl",null,""]
[null,null,null,null,null,null,null,null,1.55,4,null,null,null,null,null,null,null,null,null,null,null,null,"OxyNorm"]
[null,null,null,null,null,null,null,null,6.2,1,null,null,null,null,null,null,null,null,null,null,null,null,""]
[null,null,null,null,null,null,null,null,6.2,4,null,null,null,null,null,null,null,null,null,null,null,null,""]
[null,null,null,null,null,null,"Reasec","Difenoksylat",2.5,20,null,null,null,null,null,null,null,null,null,"Reasec","Difenoksylat",null,""]
[null,null,null,null,null,null,"Reltebon","Oksykodon",5,60,null,null,null,null,null,null,null,null,null,"Reltebon","Oksykodon",null,""]
[null,null,null,null,null,null,null,null,10,null,null,null,null,null,null,null,null,null,null,null,null,null,""]
[null,null,null,null,null,null,null,null,20,null,null,null,null,null,null,null,null,null,null,null,null,null,""]
[null,null,null,null,null,null,null,null,40,null,null,null,null,null,null,null,null,null,null,null,null,null,""]
[null,null,null,null,null,null,"Remifentanil B.Braun","Remifentanyl",1,5,null,null,null,null,null,null,null,null,null,"Remifentanil B.Braun","Remifentanyl",null,"Reltebon"]
[null,null,null,null,null,null,null,null,2,5,null,null,null,null,null,null,null,null,null,null,null,null,""]
[null,null,null,null,null,null,null,null,5,5,null,null,null,null,null,null,null,null,null,null,null,null,""]
[null,null,null,null,null,null,"Remifentanyl Actavis","Remifentanyl",2,5,null,null,null,null,null,null,null,null,null,"Remifentanyl Actavis","Remifentanyl",null,""]
[null,null,null,null,null,null,null,null,5,5,null,null,null,null,null,null,null,null,null,null,null,null,""]
[null,null,null,null,null,null,"Sevredol","Morfina",20,60,null,null,null,null,null,null,null,null,null,"Sevredol","Morfina",null,""]
[null,null,null,null,null,null,"Subst. Morphinum HCL","Morfina",1000,1,null,null,null,null,null,null,null,null,null,"Subst. Morphinum HCL","Morfina",null,""]
[null,null,null,null,null,null,null,null,5000,null,null,null,null,null,null,null,null,null,null,null,null,null,""]
[null,null,null,null,null,null,"Subst. Codeini Phosphate Hemihydricus","Kodeina",500,null,null,null,null,null,null,null,null,null,null,"Subst. Codeini Phosphate Hemihydricus","Kodeina",null,""]
[null,null,null,null,null,null,null,null,1000,null,null,null,null,null,null,null,null,null,null,null,null,null,""]
[null,null,null,null,null,null,null,null,5000,null,null,null,null,null,null,null,null,null,null,null,null,null,""]
[null,null,null,null,null,null,null,null,10000,null,null,null,null,null,null,null,null,null,null,null,null,null,{"$f":"IF(U115=$W$5,T115,\"\")","v":""}]
[null,null,null,null,null,null,"Targin","Oksykodon",5,60,null,null,null,null,null,null,null,null,null,"Targin","Oksykodon",null,{"$f":"IF(U116=$W$5,T116,\"\")","v":""}]
[null,null,null,null,null,null,null,null,10,null,null,null,null,null,null,null,null,null,null,null,null,null,""]
[null,null,null,null,null,null,null,null,20,null,null,null,null,null,null,null,null,null,null,null,null,null,""]
[null,null,null,null,null,null,null,null,40,null,null,null,null,null,null,null,null,null,null,null,null,null,""]
[null,null,null,null,null,null,"Vellofent","Fentanyl",0.26700000000000002,30,null,null,null,null,null,null,null,null,null,"Vellofent","Fentanyl",null,"Targin"]
[null,null,null,null,null,null,null,null,0.4,30,null,null,null,null,null,null,null,null,null,null,null,null,""]
[]
[]
[null,null,null,null,null,null,null,null,null,null,null,null,null,null,null,null,null,"Prekursory"]
[null,null,null,null,null,null,null,null,null,null,null,null,null,null,null,null,null,"Efrinol"]
[null,null,null,null,null,null,null,null,null,null,null,null,null,null,null,null,null,"Ephedrinum hydrochlor. WZF"]
[null,null,null,null,null,null,"Leki weterynaryjne",null,null,null,null,"Narkotyki",null,null,null,null,null,"Tussipect","Psychotropy"]
[null,null,null,null,null,"Narkotyki",null,"Psychotropy",null,null,null,null,null,null,null,null,null,"Subst. Chlorowodorek Efedryny","Afobam"]
[null,null,null,null,null,"Comfortan",null,"Bioketan",null,null,null,null,null,null,null,null,null,null,"Alpragen"]
[null,null,null,null,null,"Fentadon",null,"Bupaq Multidose",null,null,null,"Accordeon","Bedica",null,null,null,null,null,"Alprazolam Aurovitas"]
[null,null,null,null,null,"Captivon 98",null,"Bupredine Multidose",null,null,null,"Antidol 15","Bedrocan",null,null,null,null,null,"Alprox"]
[null,null,null,null,null,null,null,"Dormazolam",null,null,null,"Ascodan","Bedrolite",null,null,null,null,null,"ApoDream"]
[null,null,null,null,null,null,null,"Euthasol Vet",null,null,null,"Cannabis Flos Aurora","Cannabis Flos Aurora 20%","Cannabis Flos THC 8%",null,null,null,null,"Apo-Zolpin"]
[null,null,null,null,null,null,null,"Exagon",null,null,null,"DHC Continus","Cannabis Flos Aurora 22%",null,null,null,null,null,"Bellergot"]
[null,null,null,null,null,null,null,"Ketamidor",null,null,null,"Dolcontral","Dafalgan Codeine",null,null,null,null,null,"Bromox"]
[null,null,null,null,null,null,null,"Ketamina",null,null,null,"Doltard","Dionina",null,null,null,null,null,"Bunondol","Buccolam"]
[null,null,null,null,null,null,null,"Morbital",null,null,null,"Durogesic",null,null,null,null,null,null,"Clonazepamum TZF","Bunorfin","Clonazepam"]
[null,null,null,null,null,null,null,"Phenoleptil",null,null,null,"Effentora","Efferalgan Codeine",null,null,null,null,null,"Cloranxen"]
[null,null,null,null,null,null,null,"Solupam",null,null,null,"Fentanyl Actavis","Fenta MX",null,null,null,null,null,"Concerta"]
[null,null,null,null,null,null,null,"Vetaketam",null,null,null,"Fentanyl Kalceks",null,null,null,null,null,null,"Dobroson"]
[null,null,null,null,null,null,null,null,null,null,null,"Fentanyl WZF","Herbapini",null,null,null,null,null,"Dormicum"]
[null,null,null,null,null,null,null,null,null,null,null,"Instanyl",null,null,null,null,null,null,"Elenium","Elvanse"]
[null,null,null,null,null,null,null,null,null,null,null,"Levomethadone HCl Molteni",null,null,null,null,null,null,"Estazolam Espefa","Esogno"]
[null,null,null,null,null,null,null,null,null,null,null,"Maracex",null,null,null,null,null,null,"Estazolam Polfarmex"]
[null,null,null,null,null,null,null,null,null,null,null,"Matrifen",null,null,null,null,null,null,"Estazolam TZF","Frisium"]
[null,null,null,null,null,null,null,null,null,null,null,"Methadone hydrochloride Molteni",null,null,null,null,null,null,"Gardenal"]
[null,null,null,null,null,null,null,null,null,null,null,"Misyo",null,null,null,null,null,null,"Imovane","Hypnogen"]
[null,null,null,null,null,null,null,null,null,null,null,"Morphine Kalceks",null,null,null,null,null,null,"Ketalar 10"]
[null,null,null,null,null,null,null,null,null,null,null,"Morphini sulfas WZF",null,null,null,null,null,null,"Ketalar 50"]
[null,null,null,null,null,null,null,null,null,null,null,"Morphini sulfas WZF 0,1% Spinal",null,null,null,null,null,null,"Ketax 500","Ketamin Inressa"]
[null,null,null,null,null,null,null,null,null,null,null,"MST Continus",null,null,null,null,null,null,"Lorabex","Lexotan"]
[null,null,null,null,null,null,null,null,null,null,null,"Nalpain",null,null,null,null,null,null,"Lorafen"]
[null,null,null,null,null,null,null,null,null,null,null,"Neoazarina","Nurofen Plus",null,null,null,null,null,"Lorazepam Orion"]
[null,null,null,null,null,null,null,null,null,null,null,"Oxycodone Kalceks","Oramorph",null,null,null,null,null,"Luminalum"]
[null,null,null,null,null,null,null,null,null,null,null,"Oxycodone Molteni",null,null,null,null,null,null,"Medazepam TZF"]
[null,null,null,null,null,null,null,null,null,null,null,"Oxycodone Polpharma",null,null,null,null,null,null,"Medikinet"]
[null,null,null,null,null,null,null,null,null,null,null,"Oxycontin",null,null,null,null,null,null,"Medikinet CR"]
[null,null,null,null,null,null,null,null,null,null,null,"Oxydolor",null,null,null,null,null,null,"Melodyn"]
[null,null,null,null,null,null,null,null,null,null,null,"Oxydolor Fast",null,null,null,null,null,null,"Midanium"]
[null,null,null,null,null,null,null,null,null,null,null,"Oxyduo",null,null,null,null,null,null,"Midazolam Accord"]
[null,null,null,null,null,null,null,null,null,null,null,"Oxylaxon",null,null,null,null,null,null,"Midazolam Kalceks"]
[null,null,null,null,null,null,null,null,null,null,null,"OxyNorm",null,null,null,null,null,null,"Midazolam Normon","Midazolam Sandoz"]
[null,null,null,null,null,null,null,null,null,null,null,"Pecfent",null,null,null,null,null,null,"Milocardin"]
[null,null,null,null,null,null,null,null,null,null,null,"Reasec",null,null,null,null,null,null,"Morfeo"]
[null,null,null,null,null,null,null,null,null,null,null,"Reltebon",null,null,null,null,null,null,"Nasen"]
[null,null,null,null,null,null,null,null,null,null,null,"Remifentanil B.Braun",null,null,null,null,null,null,"Neorelium","Neurol"]
[null,null,null,null,null,null,null,null,null,null,null,"Remifentanyl Actavis","Sativex",null,null,null,null,null,"Nitrazepam GSK","Neurol SR"]
[null,null,null,null,null,null,null,null,null,null,null,"Sevredol","Sir. Pini. Comp",null,null,null,null,null,"Noctofer"]
[null,null,null,null,null,null,null,null,null,null,null,"Subst. Morphinum HCL","Solpadeine",null,"Sufentanil Chiesi",null,null,null,"Nomefren","Noxizol"]
[null,null,null,null,null,null,null,null,null,null,null,"Subst. Codeini Phosphate Hemihydricus","Solpadeine Max",null,null,null,null,null,"Onirex"]
[null,null,null,null,null,null,null,null,null,null,null,"Targin","Talvolisen Forte",null,"Talinat",null,null,null,"Oxazepam Espefa"]
[null,null,null,null,null,null,null,null,null,null,null,"Vellofent","Talvolisen",null,null,null,null,null,"Oxazepam GSK"]
[null,null,null,null,null,null,null,null,null,null,null,"Vendal retard","Thiocodin",null,null,null,null,null,"Oxazepam TZF"]
[null,null,null,null,null,null,null,null,null,null,null,"Ultiva","Ultracod",null,null,null,null,null,"Palexia retard"]
[null,null,null,null,null,null,null,null,null,null,null,"Xancodal",null,null,null,null,null,null,"Pentozocinum WZF"]
[null,null,null,null,null,null,null,null,null,null,null,"Xanconalon",null,null,null,null,null,null,"Polsen"]
[null,null,null,null,null,null,null,null,null,null,null,null,null,null,null,null,null,null,"Relanium"]
[null,null,null,null,null,null,null,null,null,null,null,null,null,null,null,null,null,null,"Relsed","Rohypnol"]
[null,null,null,null,null,null,null,null,null,null,null,null,null,null,null,null,null,null,"Rudotel"]
[null,null,null,null,null,null,null,null,null,null,null,null,null,null,null,null,null,null,"Sedam","Sanval"]
[null,null,null,null,null,null,null,null,null,null,null,null,null,null,null,null,null,null,"Senzop"]
[null,null,null,null,null,null,null,null,null,null,null,null,null,null,null,null,null,null,"Signopam"]
[null,null,null,null,null,null,null,null,null,null,null,null,null,null,null,null,null,null,"Sopodorm ","Stillnox"]
[null,null,null,null,null,null,null,null,null,null,null,null,null,null,null,null,null,null,"Suboxone"]
[null,null,null,null,null,null,null,null,null,null,null,null,null,null,null,null,null,null,"Subst. Fenobarbital","Subst. Fenobarbital Sodowy"]
[null,null,null,null,null,null,null,null,null,null,null,null,null,null,null,null,null,null,"Transtec","Teseda"]
[null,null,null,null,null,null,null,null,null,null,null,null,null,null,null,null,null,null,"Tranxene","Temelor"]
[null,null,null,null,null,null,null,null,null,null,null,null,null,null,null,null,null,null,"Xanax"]
[null,null,null,null,null,null,null,null,null,null,null,null,null,null,null,null,null,null,"Xanax SR","Xyrem"]
[null,null,null,null,null,null,null,null,null,null,null,null,null,null,null,null,null,null,"Zolpic","Zolpidem Vitabalans"]
[null,null,null,null,null,null,null,null,null,null,null,null,null,null,null,null,null,null,"ZolpiGen","Zolsana"]
[null,null,null,null,null,null,null,null,null,null,null,null,null,null,null,null,null,null,"Zomiren","Zopitin"]
[null,null,null,null,null,null,null,null,null,null,null,null,null,null,null,null,null,null,"Zomiren SR"]

{"sheet":"Lista Narkotyki Surowce","index":38,"n_rows":66,"n_cols":16,"rows_kept":66,"cut":false,"hidden":true,"merged":[]}
["Produkt","Substancja czynna","Substancja czysta",null,null,null,"Dawka","Bedica","Bedrocan","Bedrolite","Cannabis Flos Aurora 8%","Cannabis Flos Aurora 20%","Cannabis Flos Aurora 22%","Dionina","Morfiny Chlorowodorek","Kodeiny Fosforan"]
["Bedica","Cannabis","Cannabis",null,null,null,null,5,5,5,10,10,10,1,1,0.5]
["Bedrocan","Cannabis","Cannabis",null,null,null,null,null,null,null,null,null,null,null,5,1]
["Bedrolite","Cannabis","Cannabis",null,null,null,null,null,null,null,null,null,null,null,null,5]
["Cannabis Flos Aurora 8%","Cannabis","Cannabis",null,null,null,null,null,null,null,null,null,null,null,null,10]
["Cannabis Flos Aurora 20%","Cannabis","Cannabis"]
["Cannabis Flos Aurora 22%","Cannabis","Cannabis"]
["Dionina","Etylomorfina","Etylomorfina"]
["Morfiny Chlorowodorek","Morfina","Morfina"]
["Kodeiny Fosforan","Kodeina","Kodeina"]
[]
[]
[]
[]
[]
[]
[]
[]
[]
[]
[]
[]
[]
[]
[]
[]
[]
[]
[]
[]
[]
[]
[]
[]
[]
[]
[]
[]
[]
[]
[]
[]
[null,null,null,null,null,null,"Postać farmaceutyczna 2",{"$f":"H34&2","v":"2"},"2","2","2","2","2","2","2","2"]
[null,null,null,null,null,null,null,{"$f":"IF(H35=\"\",\"\",H35)","v":""},"","","","","","","",""]
[null,null,null,null,null,null,null,{"$f":"IF(H36=\"\",\"\",H36)","v":""},"","","","","","","",""]
[null,null,null,null,null,null,null,{"$f":"IF(H37=\"\",\"\",H37)","v":""},"","","","","","","",""]
[]
[]
[]
[]
[]
[]
[]
[]
[]
[]
[]
[]
[]
[]
[]
[]
[]
[null,{"$f":"IF(#REF!=\"\",\"\",#REF!)","v":{"$error":"#REF!"}},{"$f":"IF(#REF!=\"\",\"\",#REF!)","v":{"$error":"#REF!"}},{"$f":"IF(#REF!=\"\",\"\",#REF!)","v":{"$error":"#REF!"}},{"$f":"IF(H38=\"\",\"\",H38)","v":""},"","",{"$f":"IF(#REF!=\"\",\"\",#REF!)","v":{"$error":"#REF!"}},{"$f":"IF(#REF!=\"\",\"\",#REF!)","v":{"$error":"#REF!"}},{"$f":"IF(N38=\"\",\"\",N38)","v":""},{"$f":"IF(#REF!=\"\",\"\",#REF!)","v":{"$error":"#REF!"}},{"$f":"IF(#REF!=\"\",\"\",#REF!)","v":{"$error":"#REF!"}},{"$f":"IF(#REF!=\"\",\"\",#REF!)","v":{"$error":"#REF!"}},{"$f":"IF(#REF!=\"\",\"\",#REF!)","v":{"$error":"#REF!"}},{"$f":"IF(#REF!=\"\",\"\",#REF!)","v":{"$error":"#REF!"}},{"$f":"IF(#REF!=\"\",\"\",#REF!)","v":{"$error":"#REF!"}}]
[null,{"$f":"IF(#REF!=\"\",\"\",#REF!)","v":{"$error":"#REF!"}},{"$f":"IF(#REF!=\"\",\"\",#REF!)","v":{"$error":"#REF!"}},{"$f":"IF(#REF!=\"\",\"\",#REF!)","v":{"$error":"#REF!"}},"","","",{"$f":"IF(#REF!=\"\",\"\",#REF!)","v":{"$error":"#REF!"}},{"$f":"IF(#REF!=\"\",\"\",#REF!)","v":{"$error":"#REF!"}},{"$f":"IF(N39=\"\",\"\",N39)","v":""},{"$f":"IF(#REF!=\"\",\"\",#REF!)","v":{"$error":"#REF!"}},{"$f":"IF(#REF!=\"\",\"\",#REF!)","v":{"$error":"#REF!"}},{"$f":"IF(#REF!=\"\",\"\",#REF!)","v":{"$error":"#REF!"}},{"$f":"IF(#REF!=\"\",\"\",#REF!)","v":{"$error":"#REF!"}},{"$f":"IF(#REF!=\"\",\"\",#REF!)","v":{"$error":"#REF!"}},{"$f":"IF(#REF!=\"\",\"\",#REF!)","v":{"$error":"#REF!"}}]
[null,{"$f":"IF(#REF!=\"\",\"\",#REF!)","v":{"$error":"#REF!"}},{"$f":"IF(#REF!=\"\",\"\",#REF!)","v":{"$error":"#REF!"}},{"$f":"IF(#REF!=\"\",\"\",#REF!)","v":{"$error":"#REF!"}},"","","",{"$f":"IF(#REF!=\"\",\"\",#REF!)","v":{"$error":"#REF!"}},{"$f":"IF(#REF!=\"\",\"\",#REF!)","v":{"$error":"#REF!"}},{"$f":"IF(N40=\"\",\"\",N40)","v":""},{"$f":"IF(#REF!=\"\",\"\",#REF!)","v":{"$error":"#REF!"}},{"$f":"IF(#REF!=\"\",\"\",#REF!)","v":{"$error":"#REF!"}},{"$f":"IF(#REF!=\"\",\"\",#REF!)","v":{"$error":"#REF!"}},{"$f":"IF(#REF!=\"\",\"\",#REF!)","v":{"$error":"#REF!"}},{"$f":"IF(#REF!=\"\",\"\",#REF!)","v":{"$error":"#REF!"}},{"$f":"IF(#REF!=\"\",\"\",#REF!)","v":{"$error":"#REF!"}}]

{"sheet":"Lista Narkotyki","index":39,"n_rows":60,"n_cols":66,"rows_kept":60,"cut":false,"hidden":true,"merged":[]}
["Produkt","Substancja czynna","Substancja czysta",null,null,null,"Dawka","Accordeon","Antidol 15","Ascodan","Dafalgan Codeine","DHC Continus","Dolcontral","Doltard","Durogesic","Effentora","Efferalgan Codeine","Fenta MX","Fentanyl Actavis","Fentanyl Kalceks","Fentanyl WZF","Herbapini","Instanyl","Levomethadone HCl Molteni","Maracex","Matrifen","Methadone hydrochloride Molteni","Misyo","Morphine Kalceks","Morphini sulfas WZF","Morphini sulfas WZF 0,1% Spinal","MST Continus","Nalpain","Neoazarina","Nurofen Plus","Oramorph","Oxycodone Kalceks","Oxycodone Molteni","Oxycodone Polpharma","Oxycontin","Oxydolor","Oxydolor Fast","Oxyduo","Oxylaxon","OxyNorm","Pecfent","Reasec","Reltebon","Remifentanil B.Braun","Sativex","Sevredol","Sirupus Pini. Comp","Solpadeine","Solpadeine Max","Sufentanil Chiesi","Syrop Sosnowy Złożony Aflofarm","Talvolisen","Talvolisen Forte","Targin","Thiocodin","Vellofent","Vendal retard","Ultiva","Ultracod","Xancodal","Xanconalon"]
["Accordeon","Oxycodoni hydrochloridum","Oksykodon",null,null,null,null,5,15,8,30,60,50,10,2.1,0.1,30,5.78,4.125,0.05,0.05,0.6,0.9,2.5,20,1.38,1,10,10,10,1,10,10,10,12.8,2,10,10,10,5,5,5,5,5,1,1.55,2.5,5,1,27,20,0.5,8,12.8,{"$f":"5/1000","v":5.0000000000000001E-3},0.5,20,30,5,1.5,6.7000000000000004E-2,10,1,30,5,5]
["Antidol 15","Codeini phosphas","Kodeina",null,null,null,null,10,null,null,null,90,null,30,4.2,0.2,null,11.56,8.25,null,null,null,2.9,5,null,2.75,null,null,null,20,null,30,null,null,null,20,50,50,50,10,10,10,10,10,10,6.2,null,10,2,null,null,null,null,null,{"$f":"50/1000","v":0.05},null,null,null,10,15,0.13300000000000001,30,2,null,10,10]
["Ascodan","Codeini phosphas","Kodeina",null,null,null,null,20,null,null,null,null,null,60,8.4,0.4,null,17.34,12.375,null,null,null,10,null,null,5.5,null,null,null,null,null,60,null,null,null,null,null,null,null,20,20,20,20,20,null,null,null,20,5,null,null,null,null,null,null,null,null,null,20,null,0.26700000000000002,60,5,null,20,20]
["Dafalgan Codeine","Codeini phosphas","Kodeina",null,null,null,null,40,null,null,null,null,null,100,12.6,0.6,null,23.12,16.5,null,null,null,null,null,null,8.25,null,null,null,null,null,100,null,null,null,null,null,null,null,40,40,null,40,40,null,null,null,40,null,null,null,null,null,null,null,null,null,null,40,null,0.4,100,null,null,40,40]
["DHC Continus","Dihydrocodeini tartras","Dihydrokodeina",null,null,null,null,80,null,null,null,null,null,null,16.8,0.8,null,null,null,null,null,null,null,null,null,11,null,null,null,null,null,200,null,null,null,null,null,null,null,80,80,null,null,null,null,null,null,80,null,null,null,null,null,null,null,null,null,null,null,null,0.53300000000000003,200,null,null,80]
["Dolcontral","Pethidini hydrochloridum","Petydyna",null,null,null,null,null,null,null,null,null,null,null,null,null,null,null,null,null,null,null,null,null,null,null,null,null,null,null,null,null,null,null,null,null,null,null,null,null,null,null,null,null,null,null,null,null,null,null,null,null,null,null,null,null,null,null,null,null,0.8]
["Doltard","Morphini sulfas","Morfina"]
["Durogesic","Fentanylum","Fentanyl"]
["Effentora","Fentanylum","Fentanyl"]
["Efferalgan Codeine","Codeini phosphas","Kodeina"]
["Fenta MX","Fentanylum","Fentanyl"]
["Fentanyl Actavis","Fentanylum","Fentanyl",null,null,null,"Wielkość opakowania 1","Accordeon","Antidol 15","Ascodan","Dafalgan Codeine","DHC Continus","Dolcontral","Doltard","Durogesic","Effentora","Efferalgan Codeine","Fenta MX","Fentanyl Actavis","Fentanyl Kalceks","Fentanyl WZF","Herbapini","Instanyl","Levomethadone HCl Molteni","Maracex","Matrifen","Methadone hydrochloride Molteni","Misyo","Morphine Kalceks","Morphini sulfas WZF","Morphini sulfas WZF 0,1% Spinal","MST Continus","Nalpain","Neoazarina","Nurofen Plus","Oramorph","Oxycodone Kalceks","Oxycodone Molteni","Oxycodone Polpharma","Oxycontin","Oxydolor","Oxydolor Fast","Oxyduo","Oxylaxon","OxyNorm","Pecfent","Reasec","Reltebon","Remifentanil B.Braun","Sativex","Sevredol","Sirupus Pini. Comp","Solpadeine","Solpadeine Max","Sufentanil Chiesi",{"$f":"BD1","v":"Syrop Sosnowy Złożony Aflofarm"},"Talvolisen","Talvolisen Forte","Targin","Thiocodin","Vellofent","Vendal retard","Ultiva","Ultracod","Xancodal","Xanconalon"]
["Fentanyl Kalceks","Fentanylum","Fentanyl",null,null,null,null,100,10,10,16,60,10,20,5,4,16,5,5,10,10,116,1,500,10,5,10,100,10,10,20,60,20,10,12,20,5,5,5,60,60,30,60,30,250,1,20,60,5,30,60,125,12,8,25,125,20,10,60,10,30,30,5,30,100,30]
["Fentanyl WZF","Fentanyli citras","Fentanyl",null,null,null,null,null,null,null,null,null,20,100,null,28,null,10,10,20,20,null,null,1000,null,null,20,1000,null,null,null,null,null,20,24,null,10,10,10,30,null,null,null,null,10,4,null,30,null,null,null,null,24,10,50,null,null,20,null,16,null,null,null,null,null,60]
["Herbapini","Codeini phosphas","Kodeina",null,null,null,null,null,null,null,null,null,null,null,null,null,null,16,null,50,50,null,null,null,null,null,100,null,null,null,null,null,null,null,null,null,20,20,null,null,null,null,null,null,20,null,null,null,null,null,null,null,null,12,null,null,null,null,null,20]
["Instanyl","Fentanylum","Fentanyl",null,null,null,null,null,null,null,null,null,null,null,null,null,null,20,null,null,null,null,null,null,null,null,1000,null,null,null,null,null,null,null,null,null,25,80,null,null,null,null,null,null,null,null,null,null,null,null,null,null,null,16,null,null,null,null,null,100]
["Levomethadone HCl Molteni","Levomethadoni hydrochloridum","Metadon"]
["Maracex","Morphini hydrochloridum","Morfina"]
["Matrifen","Fentanylum","Fentanyl"]
["Methadone hydrochloride Molteni","Methadoni hydrochloridum","Metadon"]
["Misyo","Methadoni hydrochloridum","Metadon"]
["Morphine Kalceks","Morphini hydrochloridum","Morfina",null,null,null,"Wielkość opakowania 2",{"$f":"H13&1","v":"Accordeon1"},{"$f":"I13&1","v":"Antidol 151"},"Ascodan1","Dafalgan Codeine1","DHC Continus1","Dolcontral1","Doltard1","Durogesic1","Effentora1","Efferalgan Codeine1","Fenta MX1","Fentanyl Actavis1","Fentanyl Kalceks1","Fentanyl WZF1","Herbapini1","Instanyl1","Levomethadone HCl Molteni1","Maracex1","Matrifen1","Methadone hydrochloride Molteni1","Misyo1","Morphine Kalceks1","Morphini sulfas WZF1","Morphini sulfas WZF 0,1% Spinal1","MST Continus1","Nalpain1","Neoazarina1","Nurofen Plus1","Oramorph1","Oxycodone Kalceks1","Oxycodone Molteni1","Oxycodone Polpharma1","Oxycontin1","Oxydolor1","Oxydolor Fast1","Oxyduo1","Oxylaxon1","OxyNorm1","Pecfent1","Reasec1","Reltebon1","Remifentanil B.Braun1","Sativex1","Sevredol1","Sirupus Pini. Comp1","Solpadeine1","Solpadeine Max1","Sufentanil Chiesi1","Syrop Sosnowy Złożony Aflofarm1","Talvolisen1","Talvolisen Forte1","Targin1","Thiocodin1","Vellofent1","Vendal retard1",{"$f":"BK13&1","v":"Ultiva1"},{"$f":"BL13&1","v":"Ultracod1"},{"$f":"BM13&1","v":"Xancodal1"},{"$f":"BN13&1","v":"Xanconalon1"}]
["Morphini sulfas WZF","Morphini sulfas","Morfina",null,null,null,null,{"$f":"IF(H14=\"\",\"\",H14)","v":100},{"$f":"IF(I14=\"\",\"\",I14)","v":10},10,16,60,10,20,5,4,16,5,5,10,10,116,1,500,10,5,10,100,10,10,20,60,20,10,12,20,5,5,5,60,60,30,60,30,250,1,20,60,5,30,60,125,12,8,25,125,20,10,60,10,30,30,{"$f":"IF(BK14=\"\",\"\",BK14)","v":5},30,100,30]
["Morphini sulfas WZF 0,1% Spinal","Morphini sulfas","Morfina",null,null,null,null,"",{"$f":"IF(I15=\"\",\"\",I15)","v":""},"","","",20,100,"",28,"",10,10,20,20,"","",1000,"","",20,1000,"","","","","",20,24,100,10,10,10,30,"","","","",10,4,"",30,"","","","",24,{"$f":"IF(BB15=\"\",\"\",BB15)","v":10},50,{"$f":"IF(BD15=\"\",\"\",BD15)","v":""},"",20,"",16,"","","","","",60]
["MST Continus","Morphini sulfas","Morfina",null,null,null,null,"",{"$f":"IF(I16=\"\",\"\",I16)","v":""},"","","","","","","","",16,"",50,50,"","","","","",100,"","","","","","","","","",20,20,"","","","","","",20,"","","","","","","","",12,"","","","","",20,"","","","","",""]
["Nalpain","Nalbuphini hydrochloridum","Nalbupina",null,null,null,null,"","","","","","","","","","",20,"","","","","","","","",1000,"","","",{"$f":"IF(AE17=\"\",\"\",AE17)","v":""},"","","","","",25,80,"","","","","","","","","","","","","","","",16,"","","","","",100,"","","","","",""]
["Neoazarina","Codeini phosphas","Kodeina",null,null,null,null,"","","","","","","","","","","","","","","","","","","","","","","","","","","","","","","","","","","","","","","","","","","","","","","","","","","","","","","","","","",""]
["Nurofen Plus","Codeini phosphas","Kodeina",null,null,null,null,"","","","","","","","","","","","","","","","","","","","","","","","","","","","","","","","","","","","","","","","","","","","","","","","","","","","","","",{"$f":"IF(BJ19=\"\",\"\",BJ19)","v":""},"","","",""]
["Oramorph","Morphini sulfas","Morfina",null,null,null,null,"",{"$f":"IF(I20=\"\",\"\",I20)","v":""},"","","","","","","","","","","","","","","","","","","","","","","","","","","","","","","","","","","","","","","","","","","","","","","","","","","","","","","","",""]
["Oxycodone Kalceks","Oxycodone hydrochloride","Oksykodon",null,null,null,null,"","","","","","","","","","","","","","","","","","","","","","","","","","","","","","","","","","","","","","","","","","","","","","","","","","","","","","","","","","",""]
["Oxycodone Molteni","Oxycodoni hydrochloridum","Oksykodon",null,null,null,null,"","","","","","","","","","","","","","","","","","","","","","","","","","","","","","","","","","","","","","","","","","","","","","","","","","","","","","","","","","",""]
["Oxycodone Polpharma","Oxycodoni hydrochloridum","Oksykodon"]
["Oxycontin","Oxycodoni hydrochloridum","Oksykodon",null,null,null,"Postać farmaceutyczna 1",{"$f":"H1","v":"Accordeon"},{"$f":"I1","v":"Antidol 15"},"Ascodan","Dafalgan Codeine","DHC Continus","Dolcontral","Doltard","Durogesic","Effentora","Efferalgan Codeine","Fenta MX","Fentanyl Actavis","Fentanyl Kalceks","Fentanyl WZF","Herbapini","Instanyl","Levomethadone HCl Molteni","Maracex","Matrifen","Methadone hydrochloride Molteni","Misyo","Morphine Kalceks","Morphini sulfas WZF","Morphini sulfas WZF 0,1% Spinal","MST Continus","Nalpain","Neoazarina","Nurofen Plus","Oramorph","Oxycodone Kalceks","Oxycodone Molteni","Oxycodone Polpharma","Oxycontin","Oxydolor","Oxydolor Fast","Oxyduo","Oxylaxon","OxyNorm","Pecfent","Reasec","Reltebon","Remifentanil B.Braun","Sativex","Sevredol","Sirupus Pini. Comp","Solpadeine","Solpadeine Max","Sufentanil Chiesi",{"$f":"BD1","v":"Syrop Sosnowy Złożony Aflofarm"},"Talvolisen","Talvolisen Forte","Targin","Thiocodin","Vellofent","Vendal retard",{"$f":"BK1","v":"Ultiva"},{"$f":"BL1","v":"Ultracod"},{"$f":"BM1","v":"Xancodal"},{"$f":"BN1","v":"Xanconalon"}]
["Oxydolor","Oxycodoni hydrochloridum","Oksykodon",null,null,null,null,"Tabletki o przed. uwal.","Tabletki","Tabletki","Tabletki","Tabletki o zmodyfikowanym uwalnianiu","Roztwór do wstrzykiwań","Tabletki o przedłużonym uwalnianiu","Fentanylum","Fentanylum","Tabletki Musujące","System transdermalny","System transdermalny","Roztwór do wstrzykiwań","Roztwór do wstrzykiwań","Syrop","Aerozol do nosa","Roztwór doustny","Roztwór do wstrzykiwań","System transdermalny","syrop","Koncentrat do sporządzania roztworu doustnego","Roztwór do wstrzykiwań","Roztwór do wstrzykiwań","Roztwór do wstrzykiwań","Tabletki powlekane o zmodyfikowanym uwalnianiu","Roztwór do wstrzykiwań","Tabletki powlekane","Tabletki powlekane","Roztwór doustny","Roztwór do wstrzykiwań","Roztwór do wstrzykiwań","Roztwór do wstrzykiwań","Tabletki o przedłużonym uwalnianiu","Tabletki o przedłużonym uwalnianiu","Tabletki powlekane","Tabletki o przedłużonym uwalnianiu","Tabletki o przedłużonym uwalnianiu","Roztwór do wstrzykiwań","Aerozol do nosa","Tabletki","Tabletki o przedłużonym uwalnianiu","Proszek do sporządzania koncentratu roztworu do wstrzykiwań","Aerozol do stosowania w jamie ustnej","Tabletki powlekane","Syrop","Tabletki","Tabletki musujące","Roztwór do wstrzykiwań","Syrop","Tabletki","Kapsułki","Tabletki o przedłużonym uwalnianiu","Tabletki","Tabletki podjęzykowe","Tabletki powlekane o przedłużonym uwalnianiu","Proszek do sporządzania koncentratu roztworu do wstrzykiwań","Tabletki","Tabletki o przedłużonym uwalnianiu","Tabletki o przedłużonym uwalnianiu"]
["Oxydolor Fast","Oxycodoni hydrochloridum","Oksykodon",null,null,null,null,null,null,null,null,null,null,null,null,null,null,null,null,null,null,null,null,null,null,null,null,null,null,null,null,null,null,null,null,null,null,null,null,null,null,null,null,null,null,null,null,null,null,null,null,null,"Tabletki musujące",null,null,null,null,null,null,"Syrop"]
["Oxyduo","Oxycodoni hydrochloridum","Oksykodon",null,null,null,null,null,null,null,null,null,null,null,null,null,null,null,null,null,null,null,null,null,null,null,null,null,null,null,null,null,null,null,null,null,null,null,null,null,null,null,null,null,null,null,null,null,null,null,null,null,"Kapsułki"]
["Oxylaxon","Oxycodoni hydrochloridum","Oksykodon"]
["OxyNorm","Oxycodoni hydrochloridum","Oksykodon"]
["Pecfent","Fentanylum","Fentanyl"]
["Reasec","Diphenoxylati hydrochloridum","Difenoksylat"]
["Reltebon","Oxycodoni hydrochloridum","Oksykodon"]
["Remifentanil B.Braun","Remifentanili hydrochloridum","Remifentanyl",null,null,null,"Postać farmaceutyczna 2",{"$f":"H34&2","v":"Accordeon2"},{"$f":"I34&2","v":"Antidol 152"},"Ascodan2","Dafalgan Codeine2","DHC Continus2","Dolcontral2","Doltard2","Durogesic2","Effentora2","Efferalgan Codeine2","Fenta MX2","Fentanyl Actavis2","Fentanyl Kalceks2","Fentanyl WZF2","Herbapini2","Instanyl2","Levomethadone HCl Molteni2","Maracex2","Matrifen2","Methadone hydrochloride Molteni2","Misyo2","Morphine Kalceks2","Morphini sulfas WZF2","Morphini sulfas WZF 0,1% Spinal2","MST Continus2","Nalpain2","Neoazarina2","Nurofen Plus2","Oramorph2","Oxycodone Kalceks2","Oxycodone Molteni2","Oxycodone Polpharma2","Oxycontin2","Oxydolor2","Oxydolor Fast2","Oxyduo2","Oxylaxon2","OxyNorm2","Pecfent2","Reasec2","Reltebon2","Remifentanil B.Braun2","Sativex2","Sevredol2","Sirupus Pini. Comp2","Solpadeine2","Solpadeine Max2","Sufentanil Chiesi2","Syrop Sosnowy Złożony Aflofarm2","Talvolisen2","Talvolisen Forte2","Targin2","Thiocodin2","Vellofent2","Vendal retard2","Ultiva2",{"$f":"BL34&2","v":"Ultracod2"},{"$f":"BM34&2","v":"Xancodal2"},{"$f":"BN34&2","v":"Xanconalon2"}]
["Sativex","Cannabidiolum + Delta-9-tetrahydrocannabinolum","Cannabis",null,null,null,null,{"$f":"IF(H35=\"\",\"\",H35)","v":"Tabletki o przed. uwal."},{"$f":"IF(I35=\"\",\"\",I35)","v":"Tabletki"},"Tabletki","Tabletki","Tabletki o zmodyfikowanym uwalnianiu","Roztwór do wstrzykiwań","Tabletki o przedłużonym uwalnianiu","Fentanylum","Fentanylum","Tabletki Musujące","System transdermalny","System transdermalny","Roztwór do wstrzykiwań","Roztwór do wstrzykiwań","Syrop","Aerozol do nosa","Roztwór doustny","Roztwór do wstrzykiwań","System transdermalny","syrop","Koncentrat do sporządzania roztworu doustnego","Roztwór do wstrzykiwań","Roztwór do wstrzykiwań","Roztwór do wstrzykiwań","Tabletki powlekane o zmodyfikowanym uwalnianiu","Roztwór do wstrzykiwań","Tabletki powlekane","Tabletki powlekane","Roztwór doustny","Roztwór do wstrzykiwań","Roztwór do wstrzykiwań","Roztwór do wstrzykiwań","Tabletki o przedłużonym uwalnianiu","Tabletki o przedłużonym uwalnianiu","Tabletki powlekane","Tabletki o przedłużonym uwalnianiu","Tabletki o przedłużonym uwalnianiu","Roztwór do wstrzykiwań","Aerozol do nosa","Tabletki","Tabletki o przedłużonym uwalnianiu","Proszek do sporządzania koncentratu roztworu do wstrzykiwań","Aerozol do stosowania w jamie ustnej","Tabletki powlekane","Syrop","Tabletki","Tabletki musujące","Roztwór do wstrzykiwań","Syrop","Tabletki","Kapsułki","Tabletki o przedłużonym uwalnianiu","Tabletki","Tabletki podjęzykowe","Tabletki powlekane o przedłużonym uwalnianiu","Proszek do sporządzania koncentratu roztworu do wstrzykiwań",{"$f":"IF(BL35=\"\",\"\",BL35)","v":"Tabletki"},"Tabletki o przedłużonym uwalnianiu","Tabletki o przedłużonym uwalnianiu"]
["Sevredol","Morphini sulfas","Morfina",null,null,null,null,"",{"$f":"IF(I36=\"\",\"\",I36)","v":""},"","","","","","","","","","","","","","","","","","","","","","","","","","","","","","","","","","","","","","","","","","","","Tabletki musujące","","","","","","","Syrop","","","","","",""]
["Sirupus Pini. Comp","Codeini phosphas","Kodeina",null,null,null,null,"",{"$f":"IF(I37=\"\",\"\",I37)","v":""},"","","","","","","","","","","","","","","","","","","","","","","","","","","","","","","","","","","","","","","","","","","","Kapsułki","","","","","","","","","","","","",""]
["Solpadeine","Codeini phosphas","Kodeina",null,null,null,null,"","","","","","","","","","","","","","","","","","","","","","","","","","","","","","","","","","","","","","","","","","","","","","","","","","","","","","","","","","",""]
["Solpadeine Max","Codeini phosphas","Kodeina",null,null,null,null,"","","","","","","","","","","","","","","","","","","","","","","","","","","","","","","","","","","","","","","","","","","","","","","","","","","","","","","","","","",""]
["Sufentanil Chiesi","Sufentailum","Sufentanyl",null,null,null,null,"","","","","","","","","","","","","","","","","","","","","","","","","","","","","","","","","","","","","","","","","","","","","","","","","","","","","","","",{"$f":"IF(BK40=\"\",\"\",BK40)","v":""},"","",""]
["Syrop sosnowy złożony Aflofarm","Codeini phosphas","Kodeina",null,null,null,null,"",{"$f":"IF(I41=\"\",\"\",I41)","v":""},"","","","","","","","","","","","","","","","","","","","","","","","","","","","","","","","","","","","","","","","","","","","","","","","","","","","","","","","",""]
["Talvolisen","Codeini phosphas","Kodeina"]
["Talvolisen Forte","Codeini phosphas","Kodeina"]
["Targin","Oxycodoni hydrochloridum","Oksykodon"]
["Thiocodin","Codeini phosphas","Kodeina"]
["Vellofent","Fentanyli citras","Fentanyl"]
["Vendal retard","Morphini hydrochloridum","Morfina"]
["Ultiva","Remifentanili hydrochloridum","Remifentanyl"]
["Ultracod","Codeini phosphas","Kodeina"]
["Xancodal","Oxycodoni hydrochloridum","Oksykodon"]
["Xanconalon","Oxycodoni hydrochloridum","Oksykodon"]

{"sheet":"Lista Narkotyki Wet","index":40,"n_rows":54,"n_cols":24,"rows_kept":54,"cut":false,"hidden":true,"merged":[]}
["Produkt","Substancja czynna","Substancja czysta",null,null,null,"Dawka","Comfortan","Fentadon","Captivon 98","Insistor"]
["Comfortan","Methadoni Hydrochloridum","Metadon",null,null,null,null,10,{"$f":"50/1000","v":0.05},9.8000000000000007,10]
["Fentadon","Fentanylum","Fentanyl"]
["Captivon 98","Etorphine Hydrochloride","Etorfina"]
["Insistor","Methadoni Hydrochloridum","Metadon"]
[]
[]
[]
[]
[]
[]
[]
[null,null,null,null,null,null,"Wielkość opakowania 1",{"$f":"H1","v":"Comfortan"},{"$f":"I1","v":"Fentadon"},{"$f":"J1","v":"Captivon 98"},"Insistor"]
[null,null,null,null,null,null,null,10,10,5,10]
[]
[]
[]
[]
[]
[]
[]
[]
[null,null,null,null,null,null,"Wielkość opakowania 2",{"$f":"H13&1","v":"Comfortan1"},{"$f":"I13&1","v":"Fentadon1"},{"$f":"J13&1","v":"Captivon 981"},{"$f":"K13&1","v":"Insistor1"}]
[null,null,null,null,null,null,null,{"$f":"IF(H14=\"\",\"\",H14)","v":10},{"$f":"IF(I14=\"\",\"\",I14)","v":10},{"$f":"IF(J14=\"\",\"\",J14)","v":5},10,"",{"$f":"IF(M14=\"\",\"\",M14)","v":""},"","","",""]
[null,null,null,null,null,null,null,{"$f":"IF(H15=\"\",\"\",H15)","v":""},"",{"$f":"IF(J15=\"\",\"\",J15)","v":""},"","",{"$f":"IF(M15=\"\",\"\",M15)","v":""},"","","",""]
[null,null,null,null,null,null,null,"","",{"$f":"IF(J16=\"\",\"\",J16)","v":""},"","",{"$f":"IF(M16=\"\",\"\",M16)","v":""},"","","",""]
[null,null,null,null,null,null,null,"","",{"$f":"IF(J17=\"\",\"\",J17)","v":""},"","",{"$f":"IF(M17=\"\",\"\",M17)","v":""},"","","",""]
[null,null,null,null,null,null,null,"","",{"$f":"IF(J18=\"\",\"\",J18)","v":""},"","",{"$f":"IF(M18=\"\",\"\",M18)","v":""},"","","",""]
[null,null,null,null,null,null,null,"","",{"$f":"IF(J19=\"\",\"\",J19)","v":""},"","",{"$f":"IF(M19=\"\",\"\",M19)","v":""},"","","",""]
[null,null,null,null,null,null,null,"","",{"$f":"IF(J20=\"\",\"\",J20)","v":""},"","",{"$f":"IF(M20=\"\",\"\",M20)","v":""},"","","",""]
[null,null,null,null,null,null,null,"","",{"$f":"IF(J21=\"\",\"\",J21)","v":""},"","",{"$f":"IF(M21=\"\",\"\",M21)","v":""},"","","",""]
[]
[]
[null,null,null,null,null,null,"Postać farmaceutyczna 1",{"$f":"H13","v":"Comfortan"},{"$f":"I13","v":"Fentadon"},{"$f":"J13","v":"Captivon 98"},{"$f":"K13","v":"Insistor"}]
[null,null,null,null,null,null,null,"Roztwór do wstrzykiwań","Roztwór do wstrzykiwań","Roztwór do wstrzykiwań","Roztwór do wstrzykiwań"]
[]
[]
[]
[]
[]
[]
[]
[null,null,null,null,null,null,"Postać farmaceutyczna 2",{"$f":"H34&2","v":"Comfortan2"},{"$f":"I34&2","v":"Fentadon2"},{"$f":"J34&2","v":"Captivon 982"},{"$f":"K34&2","v":"Insistor2"}]
[null,null,null,null,null,null,null,{"$f":"IF(H35=\"\",\"\",H35)","v":"Roztwór do wstrzykiwań"},{"$f":"IF(I35=\"\",\"\",I35)","v":"Roztwór do wstrzykiwań"},"Roztwór do wstrzykiwań","Roztwór do wstrzykiwań","","","","","","","","","","","","",""]
[null,null,null,null,null,null,null,{"$f":"IF(H36=\"\",\"\",H36)","v":""},"","","","","","","","","","","","","","","",""]
[null,null,null,null,null,null,null,"","","","","","","","","","","","","","","","",""]
[null,null,null,null,null,null,null,"","","","","","","","","","","","","","","","",""]
[null,null,null,null,null,null,null,"","","","","","","","","","","","","","","","",""]
[null,null,null,null,null,null,null,"","","","","","","","","","","","","","","","",""]
[null,null,null,null,null,null,null,"","","","","","","","","","","","","","","","",""]
[null,null,null,null,null,null,null,"","","","","","","","","","","","","","","","",""]
[]
[]
[null,null,null,null,null,null,null,{"$f":"IF(H45=\"\",\"\",H45)","v":""}]

{"sheet":"Lista Psychotropy Wet","index":41,"n_rows":51,"n_cols":26,"rows_kept":51,"cut":false,"hidden":true,"merged":[]}
["Produkt","Substancja czynna","Substancja czysta",null,null,null,"Dawka","Bioketan","Bupaq Multidose","Bupredine Multidose","Dormazolam","Euthasol Vet","Exagon","Ketamidor","Ketamina","Morbital","Phenoleptil","Solupam","Vetaketam"]
["Bioketan","Ketaminum","Ketamina",null,null,null,null,100,0.3,0.3,5,400,400,100,100,133.30000000000001,25,5,100]
["Bupaq Multidose","Buprenorphini hydrochloride","Buprenorfina",null,null,null,null,null,null,null,null,null,null,null,null,null,100]
["Bupredine Multidose","Buprenorphini hydrochloride","Buprenorfina"]
["Dormazolam","Midazolamum","Midazolamum"]
["Euthasol Vet","Pentobarbital sodium","Pentobarbital"]
["Exagon","Pentobarbital sodium","Pentobarbital"]
["Ketamidor","Ketamini hydrochloridum","Ketamina"]
["Ketamina","Ketaminum","Ketamina"]
["Morbital","Pentobarbital sodium + Pentobarbital","Pentobarbital"]
["Phenoleptil","Phenobarbitalum","Fenobarbital"]
["Solupam","Diazepamum","Diazepam"]
["Vetaketam","Ketaminum","Ketamina",null,null,null,"Wielkość opakowania 1",{"$f":"H1","v":"Bioketan"},{"$f":"I1","v":"Bupaq Multidose"},"Bupredine Multidose","Dormazolam","Euthasol Vet","Exagon","Ketamidor","Ketamina","Morbital","Phenoleptil","Solupam","Vetaketam"]
[null,null,null,null,null,null,null,10,10,5,20,100,100,10,10,100,100,10,10]
[null,null,null,null,null,null,null,50,50,10,null,250,500,50,50,null,null,null,20]
[null,null,null,null,null,null,null,100,100,20,null,null,null,null,null,null,null,null,50]
[null,null,null,null,null,null,null,null,null,50]
[null,null,null,null,null,null,null,null,null,100]
[]
[]
[]
[]
[null,null,null,null,null,null,"Wielkość opakowania 2",{"$f":"H13&1","v":"Bioketan1"},{"$f":"I13&1","v":"Bupaq Multidose1"},"Bupredine Multidose1","Dormazolam1","Euthasol Vet1","Exagon1","Ketamidor1","Ketamina1","Morbital1","Phenoleptil1","Solupam1","Vetaketam1"]
[null,null,null,null,null,null,null,{"$f":"IF(H14=\"\",\"\",H14)","v":10},{"$f":"IF(I14=\"\",\"\",I14)","v":10},5,20,100,100,10,10,100,100,10,10,"","","",""]
[null,null,null,null,null,null,null,{"$f":"IF(H15=\"\",\"\",H15)","v":50},50,10,"",250,500,50,50,"","","",20,"","","",""]
[null,null,null,null,null,null,null,100,100,20,"","","","","","","","",50,"","","",""]
[null,null,null,null,null,null,null,"","",50,"","","","","","","","","","","","",""]
[null,null,null,null,null,null,null,"","",100,"","","","","","","","","","","","",""]
[null,null,null,null,null,null,null,"","","","","","","","","","","","","","","",""]
[null,null,null,null,null,null,null,"","","","","","","","","","","","","","","",""]
[null,null,null,null,null,null,null,"","","","","","","","","","","","","","","",""]
[null,null,null,null,null,null,null,"","","","","","","","","","","","","","","","",{"$f":"IF(X22=\"\",\"\",X22)","v":""}]
[]
[null,null,null,null,null,null,"Postać farmaceutyczna 1",{"$f":"H1","v":"Bioketan"},{"$f":"I1","v":"Bupaq Multidose"},"Bupredine Multidose","Dormazolam","Euthasol Vet","Exagon","Ketamidor","Ketamina","Morbital","Phenoleptil","Solupam","Vetaketam"]
[null,null,null,null,null,null,null,"Roztwór do wstrzykiwań","Roztwór do wstrzykiwań","Roztwór do wstrzykiwań","Roztwór do wstrzykiwań","Roztwór do wstrzykiwań","Roztwór do wstrzykiwań","Roztwór do wstrzykiwań","Roztwór do wstrzykiwań","Roztwór do wstrzykiwań","Tabletki","Roztwór do wstrzykiwań","Roztwór do wstrzykiwań"]
[]
[]
[]
[]
[]
[]
[]
[null,null,null,null,null,null,"Postać farmaceutyczna 2",{"$f":"H34&2","v":"Bioketan2"},{"$f":"I34&2","v":"Bupaq Multidose2"},"Bupredine Multidose2","Dormazolam2","Euthasol Vet2","Exagon2","Ketamidor2","Ketamina2","Morbital2","Phenoleptil2","Solupam2","Vetaketam2"]
[null,null,null,null,null,null,null,{"$f":"IF(H35=\"\",\"\",H35)","v":"Roztwór do wstrzykiwań"},{"$f":"IF(I35=\"\",\"\",I35)","v":"Roztwór do wstrzykiwań"},"Roztwór do wstrzykiwań","Roztwór do wstrzykiwań",{"$f":"IF(L35=\"\",\"\",L35)","v":"Roztwór do wstrzykiwań"},{"$f":"IF(M35=\"\",\"\",M35)","v":"Roztwór do wstrzykiwań"},"Roztwór do wstrzykiwań","Roztwór do wstrzykiwań","Roztwór do wstrzykiwań","Tabletki","Roztwór do wstrzykiwań","Roztwór do wstrzykiwań","","","","","",{"$f":"IF(Y24=\"\",\"\",Y24)","v":""},""]
[null,null,null,null,null,null,null,{"$f":"IF(H36=\"\",\"\",H36)","v":""},"","","","","","","","","","","","","","","","","",""]
[null,null,null,null,null,null,null,"","","","","","","","","","","","","","","","","","",""]
[null,null,null,null,null,null,null,"","","","","","","","","","","","","","","","","","",""]
[null,null,null,null,null,null,null,"","","","","","","","","","","","","","","","","","",""]
[null,null,null,null,null,null,null,"","","","","","","","","","","","","","","","","","",""]
[null,null,null,null,null,null,null,"","","","","","","","","","","","","","","","","","",""]
[null,null,null,null,null,null,null,"","","","","","","","","","","","","","","","","","",""]

{"sheet":"Lista Psychotropy Substancje","index":42,"n_rows":4,"n_cols":9,"rows_kept":4,"cut":false,"hidden":true,"merged":[]}
["Produkt","Substancja czysta",null,null,null,null,"Dawka","Fenobarbital","Fenobarbital Sodowy"]
["Fenobarbital","Fenobarbital",null,null,null,null,null,1,1]
["Fenobarbital Sodowy","Fenobarbital",null,null,null,null,null,5,5]
[null,null,null,null,null,null,null,10,10]

{"sheet":"Lista Psychotropy","index":43,"n_rows":83,"n_cols":89,"rows_kept":83,"cut":false,"hidden":true,"merged":[]}
["Produkt","Substancja czynna","Substancja czysta",null,null,null,"Dawka","Afobam","Alpragen","Alprazolam Aurovitas","Alprox","ApoDream","Apo-Zolpin","ApoZolpin","Bellergot","Bromox","Buccolam","Bunondol","Bunorfin","Clonazepamum TZF","Cloranxen","Concerta","Dobroson","Dormicum","Elenium","Elvanse","Esogno","Estazolam Espefa","Estazolam Polfarmex","Estazolam TZF","Frisium 10","Gardenal","Hypnogen","Imovane","Ketalar 10","Ketalar 50","Lexotan","Lorabex","Lorafen","Lorazepam Orion","Luminalum","Medazepam TZF","Medikinet","Medikinet CR","Melodyn","Midanium","Midazolam Accord","Midazolam Kalceks","Midazolam Sandoz","Morfeo","Nasen","Neorelium","Neurol","Neurol SR","Nitrazepam GSK","Noctofer","Nomefren","Noxizol","Onirex","Oxazepam Espefa","Oxazepam GSK","Oksazepam TZF","Palexia retard","Pentazocinum WZF","Polsen","Relanium","Relsed","Rohypnol","Rudotel","Sanval","Sedam","Senzop","Signopam","Stilnox","Suboxone","Teseda","Transtec","Tranxene","Xanax","Xanax SR","Xyrem","Zolpic","Zolpidem Genoptim","Zolpidem Vitabalans","ZolpiGen","Zomiren","Zomiren SR","Zolsana","Zopitin"]
["Afobam","Alprazolamum","Alprazolam",null,null,null,null,0.25,0.25,0.25,0.25,7.5,10,10,20,3,5,0.2,2,0.5,5,18,7.5,7.5,5,30,1,2,2,2,10,null,10,7.5,10,50,3,0.5,1,1,100,10,5,5,20,1,1,1,1,10,10,5,0.25,0.5,5,0.5,5,10,10,10,10,10,50,30,10,2,5,1,10,10,3,7.5,10,10,2,10,20,5,0.25,0.5,500,10,10,10,10,0.25,0.5,10,7.5]
["Alpragen","Alprazolamum","Alprazolam",null,null,null,null,0.5,0.5,0.5,0.5,null,null,null,null,6,2.5,0.3,8,1,10,36,null,15,10,50,2,null,null,null,null,null,null,null,null,null,6,1,2.5,2.5,15,null,10,10,30,5,5,5,5,null,null,null,1,null,null,1,null,null,null,null,null,null,100,null,null,5,10,2,null,null,6,null,null,null,4,null,30,10,0.5,1,null,null,null,null,null,0.5,1]
["Alprazolam Aurovitas","Alprazolamum","Alprazolam",null,null,null,null,1,1,1,1,null,null,null,null,null,7.5,0.4,null,2,null,null,null,null,25,70,3,null,null,null,null,null,null,null,null,null,null,2.5,null,null,null,null,20,20,40,null,null,null,null,null,null,null,null,null,null,null,null,null,null,null,null,null,150,null,null,0.3125,null,null,null,null,null,null,null,null,8,null,40,null,1,2,null,null,null,null,null,1]
["Alprox","Alprazolamum","Alprazolam",null,null,null,null,null,null,null,null,null,null,null,null,null,10,null,null,null,null,null,null,null,null,null,null,null,null,null,null,null,null,null,null,null,null,4,null,null,null,null,null,30,null,null,null,null,null,null,null,null,null,null,null,null,null,null,null,null,null,null,200,null,null,null,null,null,null,null,null,null,null,null,12,null,null,null,2]
["ApoDream","Zopiclonum","Zopilkon",null,null,null,null,null,null,null,null,null,null,null,null,null,null,null,null,null,null,null,null,null,null,null,null,null,null,null,null,null,null,null,null,null,null,null,null,null,null,null,null,40,null,null,null,null,null,null,null,null,null,null,null,null,null,null,null,null,null,null,250,null,null,null,null,null,null,null,null,null,null,null,16]
["Apo-Zolpin","Zolpidemi tartras","Zolpidem",null,null,null,null,null,null,null,null,null,null,null,null,null,null,null,null,null,null,null,null,null,null,null,null,null,null,null,null,null,null,null,null,null,null,null,null,null,null,null,null,50]
["ApoZolpin","Zolpidemi tartras","Zolpidem",null,null,null,null,null,null,null,null,null,null,null,null,null,null,null,null,null,null,null,null,null,null,null,null,null,null,null,null,null,null,null,null,null,null,null,null,null,null,null,null,60]
["Bellergot","Phenobarbitalum","Fenobarbital"]
["Bromox","Bromazepamum","Bromazepam"]
["Buccolam","Buprenorphini hydrochloridum","Buprenorfina"]
["Bunondol","Buprenorphini hydrochloridum","Buprenorfina"]
["Bunorfin","Buprenorphini hydrochloridum","Buprenorfina",null,null,null,"Wielkość opakowania 1",{"$f":"H1","v":"Afobam"},"Alpragen","Alprazolam Aurovitas","Alprox","ApoDream","Apo-Zolpin","ApoZolpin","Bellergot","Bromox","Buccolam","Bunondol","Bunorfin","Clonazepamum TZF","Cloranxen","Concerta","Dobroson","Dormicum","Elenium","Elvanse","Esogno","Estazolam Espefa","Estazolam Polfarmex","Estazolam TZF","Frisium 10","Gardenal","Hypnogen","Imovane","Ketalar 10","Ketalar 50","Lexotan","Lorabex","Lorafen",{"$f":"AN1","v":"Lorazepam Orion"},"Luminalum","Medazepam TZF","Medikinet","Medikinet CR","Melodyn","Midanium","Midazolam Accord","Midazolam Kalceks","Midazolam Sandoz","Morfeo","Nasen","Neorelium","Neurol","Neurol SR","Nitrazepam GSK","Noctofer","Nomefren","Noxizol","Onirex","Oxazepam Espefa","Oxazepam GSK","Oksazepam TZF","Palexia retard","Pentazocinum WZF","Polsen","Relanium","Relsed","Rohypnol","Rudotel",{"$f":"BR1","v":"Sanval"},"Sedam","Senzop","Signopam","Stilnox","Suboxone","Teseda","Transtec","Tranxene","Xanax","Xanax SR","Xyrem","Zolpic","Zolpidem Genoptim","Zolpidem Vitabalans","ZolpiGen","Zomiren","Zomiren SR","Zolsana","Zopitin"]
["Clonazepamum TZF","Clonazepamum","Klonazepam",null,null,null,null,30,30,30,30,20,20,20,30,30,2,5,7,10,30,30,20,10,20,28,7,20,20,20,20,null,20,20,100,100,30,25,25,30,10,20,30,30,5,10,10,5,5,10,20,20,30,30,20,20,20,20,20,20,20,20,60,10,10,100,5,20,20,20,30,20,20,10,7,20,5,30,30,30,240,20,20,20,20,30,30,20,20]
["Cloranxen","Dikalii Clorazepas","Klorazepan",null,null,null,null,100,60,1000,null,null,30,30,null,null,4,30,28,30,null,null,null,100,null,30,14,28,28,28,10,null,7,null,null,null,null,5,null,20,250,null,null,null,null,15,30,10,25,20,30,100,null,null,null,null,null,10,10,10,null,50,null,null,20,10,null,null,null,10,null,null,null,14,28,null,10,10,50,60,null,10,30,null,10,null,null,10,100]
["Concerta","Methylphenidati hydrochloridum","Metylofenidat",null,null,null,null,null,null,null,null,null,50,50,null,null,null,60,null,null,null,null,null,null,null,null,28,null,null,null,50,null,15,null,null,null,null,10,null,50,null,null,null,null,null,50,50,15,50,30,10,null,null,null,null,null,null,60,100,null,null,null,null,null,30,20,null,null,null,null,null,null,null,20,null,null,3,null,100,null,null,30,null,null,null,null,null,30,10]
["Dobroson","Zopiclonum","Zopilkon",null,null,null,null,null,null,null,null,null,null,null,null,null,null,null,null,null,null,null,null,null,null,null,null,null,null,null,null,null,30,null,null,null,null,null,null,100,null,null,null,null,null,null,null,25,null,null,null,null,null,null,null,null,null,null,null,null,null,null,null,null,null,null,null,null,null,null,null,null,null,7,null,null,null,null,null,null,null,null,null,null,null,null,null,null,30]
["Dormicum","Midazolami maleas","Midazolam",null,null,null,null,null,null,null,null,null,null,null,null,null,null,null,null,null,null,null,null,null,null,null,null,null,null,null,null,null,100,null,null,null,null,null,null,null,null,null,null,null,null,null,null,30]
["Elenium","Chlordiazepoxidum","Chlordiazepoksyd",null,null,null,null,null,null,null,null,null,null,null,null,null,null,null,null,null,null,null,null,null,null,null,null,null,null,null,null,null,null,null,null,null,null,null,null,null,null,null,null,null,null,null,null,50]
["Elvanse","Lisdexamfetamini dimesylas","Deksoamfetamina",null,null,null,null,null,null,null,null,null,null,null,null,null,null,null,null,null,null,null,null,null,null,null,null,null,null,null,null,null,null,null,null,null,null,null,null,null,null,null,null,null,null,null,null,100]
["Esogno","Eszopiclonum","Zopiklon"]
["Estazolam Espefa","Estazolamum","Estazolam"]
["Estazolam Polfarmex","Estazolamum","Estazolam",null,null,null,"Wielkość opakowania 2",{"$f":"H1&1","v":"Afobam1"},"Alpragen1","Alprazolam Aurovitas1","Alprox1","ApoDream1","Apo-Zolpin1","ApoZolpin1","Bellergot1","Bromox1","Buccolam1","Bunondol1","Bunorfin1","Clonazepamum TZF1","Cloranxen1","Concerta1","Dobroson1","Dormicum1","Elenium1","Elvanse1","Esogno1","Estazolam Espefa1","Estazolam Polfarmex1","Estazolam TZF1","Frisium 101","Gardenal1","Hypnogen1","Imovane1","Ketalar 101","Ketalar 501","Lexotan1","Lorabex1","Lorafen1",{"$f":"AN1&1","v":"Lorazepam Orion1"},"Luminalum1","Medazepam TZF1","Medikinet1","Medikinet CR1","Melodyn1","Midanium1","Midazolam Accord1","Midazolam Kalceks1","Midazolam Sandoz1","Morfeo1","Nasen1","Neorelium1","Neurol1","Neurol SR1","Nitrazepam GSK1","Noctofer1","Nomefren1","Noxizol1","Onirex1","Oxazepam Espefa1","Oxazepam GSK1","Oksazepam TZF1","Palexia retard1","Pentazocinum WZF1","Polsen1","Relanium1","Relsed1","Rohypnol1","Rudotel1",{"$f":"BR1&1","v":"Sanval1"},"Sedam1","Senzop1","Signopam1","Stilnox1","Suboxone1","Teseda1","Transtec1","Tranxene1","Xanax1","Xanax SR1","Xyrem1","Zolpic1","Zolpidem Genoptim1","Zolpidem Vitabalans1","ZolpiGen1","Zomiren1","Zomiren SR1","Zolsana1","Zopitin1"]
["Estazolam TZF","Estazolamum","Estazolam",null,null,null,null,{"$f":"IF(H14=\"\",\"\",H14)","v":30},{"$f":"IF(I14=\"\",\"\",I14)","v":30},30,30,20,{"$f":"IF(M14=\"\",\"\",M14)","v":20},20,30,30,2,5,7,10,30,30,20,10,20,28,7,20,{"$f":"IF(AC14=\"\",\"\",AC14)","v":20},20,20,"",20,20,100,100,30,25,25,30,10,20,30,30,5,10,10,5,5,10,20,20,30,30,20,20,20,20,{"$f":"IF(BG14=\"\",\"\",BG14)","v":20},20,20,20,60,10,10,{"$f":"IF(BN14=\"\",\"\",BN14)","v":100},5,20,20,{"$f":"IF(BR14=\"\",\"\",BR14)","v":20},30,20,20,10,7,20,5,30,30,30,240,20,{"$f":"IF(CE14=\"\",\"\",CE14)","v":20},20,20,30,30,20,20]
["Frisium 10","Clobazamum","Klobazam",null,null,null,null,100,{"$f":"IF(I15=\"\",\"\",I15)","v":60},{"$f":"IF(J15=\"\",\"\",J15)","v":1000},50,{"$f":"IF(L15=\"\",\"\",L15)","v":""},30,30,{"$f":"IF(O15=\"\",\"\",O15)","v":""},"",4,30,28,30,"","","",100,"",30,14,28,{"$f":"IF(AC15=\"\",\"\",AC15)","v":28},28,10,"",7,"","","","",5,"",20,250,"","","","",15,30,10,25,20,30,100,"","","","","",10,{"$f":"IF(BG15=\"\",\"\",BG15)","v":10},10,"",50,"","",20,{"$f":"IF(BN15=\"\",\"\",BN15)","v":10},"","","",10,"","","",14,28,"",10,10,50,60,"",10,30,"",10,"","",10,100]
["Gardenal","Phenobarbitalum Sodium","Fenobarbital",null,null,null,null,"",{"$f":"IF(I16=\"\",\"\",I16)","v":""},"",20,"",50,50,"","","",60,"","","","","","","","",28,"","","",50,"",15,"","","","",10,"",50,"","","","","",50,50,15,50,30,10,"","","","","","",60,{"$f":"IF(BG16=\"\",\"\",BG16)","v":100},"","","","","",30,{"$f":"IF(BN16=\"\",\"\",BN16)","v":20},"","","","","","","",20,"","",3,"",100,"","",30,"","","","","",30,10]
["Hypnogen","Zolpidemi tartras","Zolpidem",null,null,null,null,"","","",100,"","",null,"","","","","","","","","","","","","","","","","","",30,"","","","","","",100,"","","","","","","",25,"","","","","","","","","","","","","","","","","","","","","","","","","",7,"","","","","","","","","","","","","","",30]
["Imovane","Zopiclonum","Zopilkon",null,null,null,null,"","","","","","",null,"","","","","","","","","","","","","","","","","","",100,"","","","","","","","","","","","","","",30,"","","","","","","","","","","","","","","","","","","","","","","","","","","","","","","","","","","","","","","","",""]
["Ketalar 10","Ketamini hydrochloridum","Ketamina",null,null,null,null,"","","","","","",null,"","","","","","","","","","","","","","","","","","","","","","","","","","","","","","","","","",50,"","","","","","","","","","","","","","","","","","","","",{"$f":"IF(BQ19=\"\",\"\",BQ19)","v":""},"","","","","","","","","","","","","","","","","","","",""]
["Ketalar 50","Ketamini hydrochloridum","Ketamina",null,null,null,null,"",{"$f":"IF(I20=\"\",\"\",I20)","v":""},"","","","",null,"","","","","","","","","","","","","","","","","","","","","","","","","","","","","","","","","",100,"","","","","","","","","","","","","","","","","","","","","","","","","","","","","","","","","","","","","","","","",""]
["Lexotan","Bromazepamum","Bromazepam",null,null,null,null,"","","","","","",null,"","","","","","","","","","","","","","","","","","","","","","","","","","","","","","","","","","","","","","","","","","","","","","","","","","","","","","","","","","","","","","","","","","","","","","","","","","",""]
["Lorabex","Lorazepamum","Lorazepam",null,null,null,null,"","","","","","",null,"","","","","","","","","","","","","","","","","","","","","","","","","","","","","","","","","","","","","","","","","","","","","","","","","","","","","","","","","","","","","","","","","","","","","","","","","","",""]
["Lorafen","Lorazepamum","Lorazepam"]
["Lorazepam Orion","Lorazepamum","Lorazepam",null,null,null,"Postać farmaceutyczna 1",{"$f":"H1","v":"Afobam"},"Alpragen","Alprazolam Aurovitas","Alprox","ApoDream","Apo-Zolpin","ApoZolpin","Bellergot","Bromox","Buccolam","Bunondol","Bunorfin","Clonazepamum TZF","Cloranxen","Concerta","Dobroson","Dormicum","Elenium","Elvanse","Esogno","Estazolam Espefa","Estazolam Polfarmex","Estazolam TZF","Frisium 10","Gardenal","Hypnogen","Imovane","Ketalar 10","Ketalar 50","Lexotan","Lorabex","Lorafen",{"$f":"AN1","v":"Lorazepam Orion"},"Luminalum","Medazepam TZF","Medikinet","Medikinet CR","Melodyn","Midanium","Midazolam Accord","Midazolam Kalceks","Midazolam Sandoz","Morfeo","Nasen","Neorelium","Neurol","Neurol SR","Nitrazepam GSK","Noctofer","Nomefren","Noxizol","Onirex","Oxazepam Espefa","Oxazepam GSK","Oksazepam TZF","Palexia retard","Pentazocinum WZF","Polsen","Relanium","Relsed","Rohypnol","Rudotel",{"$f":"BR1","v":"Sanval"},"Sedam","Senzop","Signopam","Stilnox","Suboxone","Teseda","Transtec","Tranxene","Xanax","Xanax SR","Xyrem","Zolpic","Zolpidem Genoptim","Zolpidem Vitabalans","ZolpiGen","Zomiren","Zomiren SR","Zolsana","Zopitin"]
["Luminalum","Phenobarbitalum","Fenobarbital",null,null,null,null,"Tabletki","Tabletki","Tabletki","Tabletki","Tabletki powlekane","Tabletki powlekane","Tabletki powlekane","Tabletki powlekane","Kapsułki twarde","Roztwór do stosowania w jamie ustnej","Tabletki podjęzykowe","Tabletki podjęzykowe","Tabletki","Tabletki","Tabletki o przedłużonym uwalnianiu","Tabletki powlekane","Tabletki powlekane","Tabletki drażowane","Kapsułki twarde","Tabletki powlekane","Tabletki","Tabletki","Tabletki","Tabletki","Roztwór do wstrzykiwań","Tabletki powlekane","Tabletki powlekane","Roztwór do wstrzykiwań","Roztwór do wstrzykiwań","Tabletki","Tabletki","Tabletki drażowane","Tabletki","Tabletki","Kapsułki twarde","Tabletki","Kapsułki o zmodyfikowanym uwalnianiu, twarde","System transdermalny","Roztwór do wstrzykiwań","Roztwór do wstrzykiwań lub infuzji","Roztwór do wstrzykiwań lub infuzji","Roztwór do wstrzykiwań lub infuzji","Kapsułki twarde","Tabletki powlekane","Tabletki powlekane","Tabletki","Tabletki o przedłużonym uwalnianiu","Tabletki","Tabletki","Tabletki","Tabletki powlekane","Tabletki powlekane","Tabletki powlekane","Tabletki powlekane","Tabletki powlekane","Tabletki o przedłużonym uwalnianiu","Roztwór do wstrzykiwań","Tabletki powlekane","Roztwór do wstrzykiwan","Roztwór, mikrowlewka doodbytnicza","Tabletki","Tabletki","Tabletki powlekane","Tabletki","Tabletki powlekane","Tabletki","Tabletki powlekane","Tabletki podjęzykowe","Tabletki","System transdermalny","Kapsułki","Tabletki","Tabletki o przedłużonym uwalnianiu","Roztwór doustny","Tabletki powlekane","Tabletki powlekane","Tabletki powlekane","Tabletki powlekane","Tabletki","Tabletki o zmodyfikowanym uwalnianiu","Tabletki powlekane","Tabletki powlekane"]
["Medazepam TZF","Medazepamum","Medazepam",null,null,null,null,null,null,null,null,null,null,null,null,null,null,"Roztwór do wstrzykiwań",null,"Roztwór do wstrzykiwań",null,null,null,null,null,null,null,null,null,null,null,null,null,null,null,null,null,"Roztwór do wstrzykiwań",null,null,null,null,null,null,null,null,null,null,null,null,null,"Roztwór do wstrzykiwań",null,null,null,null,null,null,null,null,null,null,null,null,null,"Tabletki",null,null,null,null,null,null,null,null,null,null,null,"Kapsułki twarde"]
["Medikinet","Methylphenidati hydrochloridum","Metylofenidat",null,null,null,null,null,null,null,null,null,null,null,null,null,null,null,null,null,null,null,null,null,null,null,null,null,null,null,null,null,null,null,null,null,null,null,null,null,null,null,null,null,null,null,null,null,null,null,null,null,null,null,null,null,null,null,null,null,null,null,null,null,null,"Zawiesina doustna",null,null,null,null,null,null,null,null,null,null,null,"Proszek i rozpuszczalnik do sporządzania roztworu do wstrzykiwań"]
["Medikinet CR","Methylphenidati hydrochloridum","Metylofenidat"]
["Melodyn","Buprenorphinum","Buprenorfina"]
["Midanium","Midazolamum","Midazolam"]
["Midazolam Accord","Midazolami hydrochloridum","Midazolam"]
["Midazolam Kalceks","Midazolamum","Midazolam"]
["Midazolam Sandoz","Midazolami hydrochloridum","Midazolam",null,null,null,"Postać farmaceutyczna 2",{"$f":"H34&2","v":"Afobam2"},{"$f":"I34&2","v":"Alpragen2"},"Alprazolam Aurovitas2","Alprox2","ApoDream2","Apo-Zolpin2","ApoZolpin2","Bellergot2","Bromox2","Buccolam2","Bunondol2","Bunorfin2","Clonazepamum TZF2","Cloranxen2","Concerta2","Dobroson2","Dormicum2","Elenium2","Elvanse2","Esogno2","Estazolam Espefa2","Estazolam Polfarmex2","Estazolam TZF2","Frisium 102","Gardenal2","Hypnogen2","Imovane2","Ketalar 102","Ketalar 502","Lexotan2","Lorabex2","Lorafen2","Lorazepam Orion2","Luminalum2","Medazepam TZF2","Medikinet2","Medikinet CR2","Melodyn2","Midanium2","Midazolam Accord2","Midazolam Kalceks2","Midazolam Sandoz2","Morfeo2","Nasen2","Neorelium2","Neurol2","Neurol SR2","Nitrazepam GSK2","Noctofer2","Nomefren2","Noxizol2","Onirex2","Oxazepam Espefa2","Oxazepam GSK2","Oksazepam TZF2","Palexia retard2","Pentazocinum WZF2","Polsen2","Relanium2","Relsed2","Rohypnol2","Rudotel2","Sanval2","Sedam2","Senzop2",{"$f":"BU34&2","v":"Signopam2"},"Stilnox2","Suboxone2","Teseda2","Transtec2","Tranxene2","Xanax2","Xanax SR2","Xyrem2","Zolpic2","Zolpidem Genoptim2","Zolpidem Vitabalans2","ZolpiGen2","Zomiren2","Zomiren SR2","Zolsana2","Zopitin2"]
["Morfeo","Zaleplonum","Zaleplon",null,null,null,null,{"$f":"IF(H35=\"\",\"\",H35)","v":"Tabletki"},{"$f":"IF(I35=\"\",\"\",I35)","v":"Tabletki"},"Tabletki","Tabletki","Tabletki powlekane","Tabletki powlekane","Tabletki powlekane","Tabletki powlekane","Kapsułki twarde","Roztwór do stosowania w jamie ustnej","Tabletki podjęzykowe","Tabletki podjęzykowe","Tabletki","Tabletki","Tabletki o przedłużonym uwalnianiu","Tabletki powlekane","Tabletki powlekane","Tabletki drażowane","Kapsułki twarde","Tabletki powlekane","Tabletki","Tabletki","Tabletki","Tabletki","Roztwór do wstrzykiwań","Tabletki powlekane","Tabletki powlekane","Roztwór do wstrzykiwań","Roztwór do wstrzykiwań","Tabletki","Tabletki","Tabletki drażowane","Tabletki","Tabletki","Kapsułki twarde","Tabletki","Kapsułki o zmodyfikowanym uwalnianiu, twarde","System transdermalny","Roztwór do wstrzykiwań","Roztwór do wstrzykiwań lub infuzji","Roztwór do wstrzykiwań lub infuzji","Roztwór do wstrzykiwań lub infuzji","Kapsułki twarde","Tabletki powlekane","Tabletki powlekane","Tabletki","Tabletki o przedłużonym uwalnianiu","Tabletki","Tabletki","Tabletki","Tabletki powlekane","Tabletki powlekane","Tabletki powlekane","Tabletki powlekane","Tabletki powlekane","Tabletki o przedłużonym uwalnianiu","Roztwór do wstrzykiwań","Tabletki powlekane","Roztwór do wstrzykiwan","Roztwór, mikrowlewka doodbytnicza","Tabletki","Tabletki","Tabletki powlekane","Tabletki","Tabletki powlekane",{"$f":"IF(BU35=\"\",\"\",BU35)","v":"Tabletki"},"Tabletki powlekane","Tabletki podjęzykowe","Tabletki","System transdermalny","Kapsułki","Tabletki","Tabletki o przedłużonym uwalnianiu","Roztwór doustny","Tabletki powlekane","Tabletki powlekane","Tabletki powlekane","Tabletki powlekane","Tabletki","Tabletki o zmodyfikowanym uwalnianiu","Tabletki powlekane","Tabletki powlekane"]
["Nasen","Zolpidemi tartras","Zolpidem",null,null,null,null,"",{"$f":"IF(I36=\"\",\"\",I36)","v":""},"","","","","","","","","Roztwór do wstrzykiwań","","Roztwór do wstrzykiwań","","","","","","","","","","","","","","","","","","Roztwór do wstrzykiwań","","","","","","","","","","","","","","Roztwór do wstrzykiwań","","","","","","","","","","","","","","Tabletki","","","","","","","","","","","","Kapsułki twarde","","","","","","","","","","",""]
["Neorelium","Diazepamum","Diazepam",null,null,null,null,"",{"$f":"IF(I37=\"\",\"\",I37)","v":""},"","","","","","","","","","","","","","","","","","","","","","","","","","","","","","","","","","","","","","","","","","","","","","","","","","","","","","","","","Zawiesina doustna","","","","","","","","","","","","Proszek i rozpuszczalnik do sporządzania roztworu do wstrzykiwań","","","","","","","","","","",""]
["Neurol","Alprazolamum","Alprazolam",null,null,null,null,"","","","","","","","","","","","","","","","","","","","","","","","","","","","","","","","","","","","","","","","","","","","","","","","","","","","","","","","","","","","","","","","","","","","","","","","","","","","","","","","","",""]
["Neurol SR","Alprazolamum","Alprazolam",null,null,null,null,"","","","","","","","","","","","","","","","","","","","","","","","","","","","","","","","","","","","","","","","","","","","","","","","","","","","","","","","","","","","","","","","","","","","","","","","","","","","","","","","","",""]
["Nitrazepam GSK","Nitrazepamum","Nitrazepam",null,null,null,null,"","","","","","","","","","","","","","","","","","","","","","","","","","","","","","","","","","","","","","","","","","","","","","","","","","","","","","","","","","","","","","","","",{"$f":"IF(BT40=\"\",\"\",BT40)","v":""},"","","","","","","","","","","","","","","","",""]
["Noctofer","Lormetazepamum","Lormetazepam",null,null,null,null,"",{"$f":"IF(I41=\"\",\"\",I41)","v":""},"","","","","","","","","","","","","","","","","","","","","","","","","","","","","","","","","","","","","","","","","","","","","","","","","","","","","","","","","","","","","","","","","","","","","","","","","","","","","","","",""]
["Nomefren","Nitrazepamum","Nitrazepam",null,null,null,null,"","","","","","","","","","","","","","","","","","","","","","","","","","","","","","","","","","","","","","","","","","","","","","","","","","","","","","","","","","","","","","","","","","","","","","","","","","","","","","","","","",""]
["Noxizol","Zolpidemi tartras","Zolpidem"]
["Onirex","Zolpidemi tartras","Zolpidem"]
["Oxazepam Espefa","Oxazepamum","Oksazepam"]
["Oxazepam GSK","Oxazepamum","Oksazepam"]
["Oksazepam TZF","Oxazepamum","Oksazepam"]
["Palexia retard","Tapentadolum","Tapentadol"]
["Pentazocinum WZF","Pentazocini lactas","Pentazocyna"]
["Polsen","Zolpidemi tartras","Zolpidem"]
["Relanium","Diazepamum","Diazepam"]
["Relsed","Diazepamum","Diazepam"]
["Rohypnol","Flunitrazepamum","Flunitrazepam"]
["Rudotel","Medazepamum","Medazepam"]
["Sanval","Zolpidemi tartras","Zolpidem"]
["Sedam","Bromazepamum","Bromazepam"]
["Senzop","Zopiclonum","Zopiklon"]
["Signopam","Temazepamum","Temazepam"]
["Stilnox","Zolpidemi tartras","Zolpidem"]
["Suboxone","Buprenorphini hydrochloridum","Buprenorfina"]
["Teseda","Temazepamum","Temazepam"]
["Transtec","Buprenorphinum","Buprenorfina"]
["Tranxene","Dikalii Clorazepas","Klorazepan"]
["Xanax","Alprazolamum","Alprazolam"]
["Xanax SR","Alprazolamum","Alprazolam"]
["Xyrem","Natrii hydroxybutyras","GHB"]
["Zolpic","Zolpidemi tartras","Zolpidem"]
["Zolpidem Genoptim","Zolpidemi tartras","Zolpidem"]
["Zolpidem Vitabalans","Zolpidemi tartras","Zolpidem"]
["ZolpiGen","Zolpidemi tartras","Zolpidem"]
["Zomiren","Alprazolamum","Alprazolam"]
["Zomiren SR","Alprazolamum","Alprazolam"]
["Zolsana","Zolpidemi tartras","Zolpidem"]
["Zopitin","Zopiclonum","Zopiklon"]

{"sheet":"Lista Prekursory","index":44,"n_rows":46,"n_cols":9,"rows_kept":46,"cut":false,"hidden":true,"merged":[]}
["Produkt","Substancja czysta",null,null,null,null,"Dawka","Efedryny Chlorowodorek"]
["Efedryny Chlorowodorek","Efedryna",null,null,null,null,null,0.5]
[null,null,null,null,null,null,null,1]
[null,null,null,null,null,null,null,5]
[null,null,null,null,null,null,null,10]
[null,null,null,null,null,null,null,25]
[]
[]
[]
[]
[]
[]
[]
[]
[]
[]
[]
[]
[]
[]
[null,null,null,null,null,null,null,null,{"$f":"IF(I11=\"\",\"\",I11)","v":""}]
[null,null,null,null,null,null,null,null,{"$f":"IF(I12=\"\",\"\",I12)","v":""}]
[null,null,null,null,null,null,null,null,""]
[null,null,null,null,null,null,null,null,""]
[null,null,null,null,null,null,null,null,""]
[null,null,null,null,null,null,null,null,""]
[null,null,null,null,null,null,null,null,""]
[null,null,null,null,null,null,null,null,""]
[null,null,null,null,null,null,null,null,""]
[]
[]
[]
[]
[]
[]
[]
[]
[]
[]
[]
[null,null,null,null,null,null,{"$f":"IF(G32=\"\",\"\",G32)","v":""}]
[null,null,null,null,null,null,{"$f":"IF(G33=\"\",\"\",G33)","v":""}]
[null,null,null,null,null,null,""]
[null,null,null,null,null,null,""]
[null,null,null,null,null,null,""]
[null,null,null,null,null,null,""]