{"text_format":"1","workbook":"xlsx","n_sheets":56,"sheets":["Start","OGOLNE_ROL_EKSP","Pakiety_warianty","S_Menu","S_Dane_ogolne","S_Zestawienie dzialek","S_Karta opisu działki RSS(0)","S_Karta opisu działki RSS(1)","KOD","S_Spisy gat wskaznik RSS(0)","S_Spisy gat wskaznik RSS(1)","SSG","Wymogi 4(5).1.RSS(0)","Wymogi 4(5).1.RSS(1)","W41","Wymogi 4(5).2. RSS(1)","W42","Wymogi 4(5).3. RSS(0)","Wymogi 4(5).3. RSS(1)","W43","Wymogi 4(5).4. RSS(1)","W44","Wymogi 4(5).5. RSS(0)","Wymogi 4(5).5. RSS(1)","W45","Wymogi 4(5).6. RSS(0)","Wymogi 4(5).6. RSS(1)","W46","Zdjecia fitosocjologiczne(0)","Zdjecia fitosocjologiczne(1)","S_Ostoje","S_Uwagi","listy_slownikowe","P_Menu","P_Dane_ogolne","P_Zestawienie dzialek","P_Karta opisu dzialki RSO(0)","P_Karta opisu dzialki RSO(1)","P_KOD","P_Wymogi 4.8. RSO(0)","P_Wymogi 4.8. RSO(1)","PW48","P_Wymogi 4.9. RSO(0)","P_Wymogi 4.9. RSO(1)","PW49","P_Wymogi 4.10. RSO(0)","P_Wymogi 4.10. RSO(1)","PW410","P_Wymogi 4.11. RSO(0)","P_Wymogi 4.11. RSO(1)","PW411","P_Kontrola pkt RSO(0)","P_Kontrola pkt RSO(1)","P_Ostoje","P_Uwagi","P_listy_slownikowe"],"not_rendered":{"charts":0,"images":8,"macros":1,"external_links":0,"defined_names":73,"comments":34,"pivot_tables":0},"unopened":[],"bounds":{"document_bytes":16777216,"sheet_cells":100000,"rows_first":2000,"rows_last":500,"rows_between":2000,"halvings":0,"cell_chars":16384,"cell_head_chars":4096},"cells_cut":0,"cells_raw":0,"read":"whole","date_system":"1900"}

{"sheet":"Start","index":0,"n_rows":26,"n_cols":16,"rows_kept":26,"cut":false,"hidden":false,"merged":[[14,3,14,11],[15,3,15,12],[8,2,8,10],[13,3,13,9],[11,3,11,9],[12,3,12,9],[10,3,10,9],[18,11,18,13],[17,1,17,4],[25,5,25,8],[24,5,24,8],[19,5,19,8],[20,5,20,8],[23,5,23,8],[17,11,17,13]]}
[]
[]
[]
[]
[]
[]
[]
[]
[null,null,"DOKUMENTACJA PRZYRODNICZA "]
[]
[null,null,null,"DANE ROLNIKA LUB ZARZĄDCY, DANE EKSPERTA (-ÓW)"]
[null,null,null,"PAKIETY I WARIANTY"]
[null,null,null,"DOKUMENTACJA PRZYRODNICZA SIEDLISKOWA",null,null,null,null,null,null,null,null,null,null,null,{"$f":"Pakiety_warianty!I4","v":0}]
[null,null,null,"DOKUMENTACJA PRZYRODNICZA ORNITOLOGICZNA",null,null,null,null,null,null,null,null,null,null,null,{"$f":"Pakiety_warianty!I24","v":0}]
[]
[null,null,null,"WERSJA 1.0. - 08.04.2021"]
[]
[null,"Część merytoryczna:",null,null,null,"Minsterstwo Rolnictwa i Rozwoju Wsi",null,null,null,null,null,"Część informatyczna:"]
[null,null,null,null,null,"Wydział Działań  Rolnośrodowiskowych",null,null,null,null,null,"Centrum Doradztwa Rolniczego"]
[null,null,null,null,null,"Departament Klimatu i Środowiska",null,null,null,null,null,"Oddział w Radomiu"]
[null,null,null,null,null,"ul. Wspólna 30; 00-930 Warszawa",null,null,null,null,null,"ul. Chorzowska 16/18, 26-600 Radom"]
[null,null,null,null,null,"sekterariat.ks@minrol.gov.pl",null,null,null,null,null,"radom@cdr.gov.pl"]
[]
[null,null,null,null,null,"Instytut Technologiczno-Przyrodniczy"]
[null,null,null,null,null,"al. Hrabska 3, Falenty, 05-090 Raszyn"]
[null,null,null,null,null,"itp@itp.edu.pl"]

{"sheet":"OGOLNE_ROL_EKSP","index":1,"n_rows":58,"n_cols":19,"rows_kept":58,"cut":false,"hidden":false,"merged":[[35,2,35,3],[36,2,36,3],[37,1,37,3],[32,1,32,2],[25,2,25,3],[29,2,29,3],[31,1,31,3],[33,2,33,3],[34,2,34,3],[21,2,21,3],[53,2,53,3],[57,2,57,3],[39,2,39,3],[43,2,43,3],[45,1,45,3],[46,1,46,2],[47,2,47,3],[48,2,48,3],[49,2,49,3],[50,2,50,3],[51,1,51,3],[52,2,52,3],[38,2,38,3],[23,1,23,3],[24,2,24,3],[22,2,22,3],[0,4,0,5],[15,2,15,3],[3,1,3,3],[5,2,5,3],[4,1,4,2],[6,2,6,3],[9,1,9,3],[7,2,7,3],[8,2,8,3],[10,2,10,3],[11,2,11,3],[2,1,2,3],[18,1,18,2],[19,2,19,3],[20,2,20,3]]}
[null,null,null,null,"Powrót"]
[]
[null,"DANE ROLNIKA LUB ZARZĄDCY, DANE EKSPERTA (-ÓW)",null,null,null,null,null,null,null,null,null,null,null,null,null,null,null,null,"Uwagi"]
[null,"DANE ROLNIKA LUB ZARZĄDCY",null,null,null,null,1,{"$f":"SUM(H5:H9)+SUM(H11:H16)","v":0}]
[null,"Numer identyfikacyjny producenta rolnego: ",null,null,null,null,1,{"$f":"COUNTA(D5)","v":0}]
[null,"Imię:  ",null,null,null,null,{"$f":"COUNTA(C6)","v":0},{"$f":"COUNTA(C6)","v":0}]
[null,"Nazwisko lub nazwa: ",null,null,null,null,1,{"$f":"COUNTA(C7)","v":0},null,null,null,null,null,null,null,"upr_nr"]
[null,"Numer telefonu:\n[można podać kilka numerów telefonów]",null,null,null,null,1,0,null,null,null,null,null,null,null,1234]
[null,"E-mail:\n[jeśli dotyczy; można podać kilka adresów e-mail]",null,null,null,null,{"$f":"COUNTA(C9)","v":0},0,null,null,null,null,null,null,null,0]
[null,"Adres do korespondencji",null,null,null,null,1,{"$f":"H4","v":0},null,null,null,null,null,null,null,0]
[null,"Miejscowość:",null,null,null,null,1,0]
[null,"Ulica:",null,null,null,null,{"$f":"COUNTA(C12)","v":0},0]
[null,"Numer domu:",null,null,null,null,1,0]
[null,"Numer mieszkania:",null,null,null,null,{"$f":"COUNTA(C14)","v":0},0]
[null,"Kod pocztowy:",null,null,null,null,1,0]
[null,"Poczta:",null,null,null,null,1,0]
[null,null,null,null,null,null,1]
[null,"DANE EKSPERTA",{"$f":"IF(H32>0,\"- 1\",\"\")","v":""},null,null,null,1,{"$f":"SUM(H19:H23)+SUM(H25:H30)","v":0},"Ekspert","upr_nr","tel","email","miejsc","ul","nr_d",null,"kod","poczt"]
[null,"Aktualny numer zaświadczenia:",null,null,null,null,1,{"$f":"COUNTA(D19)","v":0}]
[null,"Imię:  ",null,null,null,null,1,{"$f":"COUNTA(C20)","v":0},{"$f":"C20&\" \"&C21","v":" "},{"$f":"D19","v":0},{"$f":"C22","v":0},{"$f":"C23","v":0},{"$f":"C25","v":0},{"$f":"C26","v":0},{"$f":"C27","v":0},null,{"$f":"C29","v":0},{"$f":"C30","v":0}]
[null,"Nazwisko: ",null,null,null,null,1,{"$f":"COUNTA(C21)","v":0},{"$f":"C34&\" \"&C35","v":" "},{"$f":"D33","v":0},{"$f":"C36","v":0},{"$f":"C37","v":0},{"$f":"C39","v":0},{"$f":"C40","v":0},{"$f":"C41","v":0},null,{"$f":"C43","v":0},{"$f":"C44","v":0}]
[null,"Numer telefonu:\n[można podać kilka numerów telefonów]",null,null,null,null,1,0,{"$f":"C48&\" \"&C49","v":" "},{"$f":"D47","v":0},{"$f":"C50","v":0},{"$f":"C51","v":0},{"$f":"C53","v":0},{"$f":"C54","v":0},{"$f":"C55","v":0},null,{"$f":"C57","v":0},{"$f":"C58","v":0}]
[null,"E-mail:\n[jeśli dotyczy; można podać kilka adresów e-mail]",null,null,null,null,1,0]
[null,"Adres do korespondencji",null,null,null,null,1,{"$f":"H18","v":0}]
[null,"Miejscowość:",null,null,null,null,1,0]
[null,"Ulica:",null,null,null,null,{"$f":"COUNTA(C26)","v":0},0]
[null,"Numer domu:",null,null,null,null,1,0]
[null,"Numer mieszkania:",null,null,null,null,{"$f":"COUNTA(C28)","v":0},0]
[null,"Kod pocztowy:",null,null,null,null,1,0]
[null,"Poczta:",null,null,null,null,1,0]
[null,null,null,null,null,null,1,null,null,null,null,null,null,null,null,null,null,null,"jak jest kolejny ekspert - kliknąć \"+\""]
[null,"DANE EKSPERTA - 2",null,null,null,null,{"$f":"$H$32","v":0},{"$f":"SUM(H33:H37)+SUM(H39:H44)","v":0}]
[null,"Aktualny numer zaświadczenia:",null,null,null,null,{"$f":"$H$32","v":0},{"$f":"COUNTA(D33)","v":0}]
[null,"Imię:  ",null,null,null,null,0,{"$f":"COUNTA(C34)","v":0}]
[null,"Nazwisko: ",null,null,null,null,0,{"$f":"COUNTA(C35)","v":0}]
[null,"Numer telefonu:\n[można podać kilka numerów telefonów]",null,null,null,null,0,0]
[null,"E-mail:\n[jeśli dotyczy; można podać kilka adresów e-mail]",null,null,null,null,0,0]
[null,"Adres do korespondencji",null,null,null,null,0,{"$f":"H32","v":0}]
[null,"Miejscowość:",null,null,null,null,0,0]
[null,"Ulica:",null,null,null,null,{"$f":"COUNTA(C40)","v":0},0]
[null,"Numer domu:",null,null,null,null,0,0]
[null,"Numer mieszkania:",null,null,null,null,{"$f":"COUNTA(C42)","v":0},0]
[null,"Kod pocztowy:",null,null,null,null,0,0]
[null,"Poczta:",null,null,null,null,0,0]
[null,null,null,null,null,null,1]
[null,"DANE EKSPERTA - 3",null,null,null,null,{"$f":"$H$46","v":0},{"$f":"SUM(H47:H51)+SUM(H53:H58)","v":0}]
[null,"Aktualny numer zaświadczenia:",null,null,null,null,{"$f":"$H$46","v":0},{"$f":"COUNTA(D47)","v":0}]
[null,"Imię:  ",null,null,null,null,0,{"$f":"COUNTA(C48)","v":0}]
[null,"Nazwisko: ",null,null,null,null,0,{"$f":"COUNTA(C49)","v":0}]
[null,"Numer telefonu:\n[można podać kilka numerów telefonów]",null,null,null,null,0,0]
[null,"E-mail:\n[jeśli dotyczy; można podać kilka adresów e-mail]",null,null,null,null,0,0]
[null,"Adres do korespondencji",null,null,null,null,0,{"$f":"H46","v":0}]
[null,"Miejscowość:",null,null,null,null,0,0]
[null,"Ulica:",null,null,null,null,{"$f":"COUNTA(C54)","v":0},0]
[null,"Numer domu:",null,null,null,null,0,0]
[null,"Numer mieszkania:",null,null,null,null,{"$f":"COUNTA(C56)","v":0},0]
[null,"Kod pocztowy:",null,null,null,null,0,0]
[null,"Poczta:",null,null,null,null,0,0]

{"sheet":"Pakiety_warianty","index":2,"n_rows":36,"n_cols":16,"rows_kept":36,"cut":false,"hidden":false,"merged":[[0,5,0,6],[1,1,1,6]]}
[null,null,null,null,null,"Powrót"]
[null,"PAKIETY I WARIANTY",null,null,null,null,null,null,null,null,null,null,null,null,null,"Lista wariantów"]
[null,null,"Numer i nazwa pakietu:"]
[null,null,"4.","Cenne siedliska i zagrożone gatunki ptaków na obszarach NATURA 2000",null,null,null,null,{"$f":"COUNTIFS(N7:N13,TRUE)","v":0}]
[null,null,null,"Nazwa wariantu:",null,null,null,null,null,null,null,"RSO","rss",null,null,{"$f":"COUNTA(P6:P22)","v":0}]
[null,null,null,"RSS"]
[null,null,null,"4.1.  ","Zmiennowilgotne łąki trzęślicowe",null,null,null,false,{"$f":"IF(I7=TRUE,D7&E7,\"\")","v":""},null,"RSO1","RSS1",{"$f":"OR(I7,I16)","v":false}]
[null,null,null,"4.2.  ","Zalewowe łąki selernicowe i słonorośla",null,null,null,false,{"$f":"IF(I8=TRUE,D8&E8,\"\")","v":""},null,"RSO2","RSS2",{"$f":"OR(I8,I17)","v":false}]
[null,null,null,"4.3.  ","Murawy",null,null,null,false,"",null,"RSO3","RSS3",{"$f":"OR(I9,I18)","v":false}]
[null,null,null,"4.4.  ","Półnaturalne łąki wilgotne",null,null,null,false,"",null,"RSO4","RSS4",false]
[null,null,null,"4.5.  ","Półnaturalne łąki świeże",null,null,null,false,"","","RSO5","RSS5",false]
[null,null,null,"4.6.1.","Torfowiska - wymogi obowiązkowe",null,null,null,false,"","","RSO6","RSS6",false]
[null,null,null,"4.6.2.","Torfowiska - wymogi obowiązkowe i uzupełniające ",null,null,null,false,"","","RSO7","RSS7",false]
[null,null,null,null,null,null,null,null,null,null,null,"RSO8","RSS8"]
[null,null,"5.","Cenne siedliska poza obszarami  NATURA 2000",null,null,null,null,null,null,null,"RSO9","RSS9"]
[null,null,null,"5.1.  ","Zmiennowilgotne łąki trzęślicowe",null,null,null,false,"",null,"RSO10","RSS10"]
[null,null,null,"5.2.  ","Zalewowe łąki selernicowe i słonorośla",null,null,null,false,"",null,"RSO11","RSS11"]
[null,null,null,"5.3.  ","Murawy",null,null,null,false,"",null,"RSO12","RSS12"]
[null,null,null,"5.4.  ","Półnaturalne łąki wilgotne",null,null,null,false,"",null,"RSO13","RSS13"]
[null,null,null,"5.5.  ","Półnaturalne łąki świeże",null,null,null,false,"",null,"RSO14","RSS14"]
[null,null,null,"5.6.1.","Torfowiska - wymogi obowiązkowe",null,null,null,false,"",null,"RSO15","RSS15"]
[null,null,null,"5.6.2.","Torfowiska - wymogi obowiązkowe i uzupełniające",null,null,null,false,"",null,"RSO16","RSS16"]
[null,null,null,null,null,null,null,null,null,"",null,"RSO17","RSS17"]
[null,null,"4.","Cenne siedliska i zagrożone gatunki ptaków na obszarach NATURA 2000",null,null,null,null,{"$f":"COUNTIFS(I26:I30,TRUE)","v":0},"",null,"RSO18","RSS18"]
[null,null,null,"RSO",null,null,null,null,null,null,null,"RSO19","RSS19"]
[null,null,null,"4.8.  ","Ochrona siedlisk lęgowych ptaków: rycyka, kszyka, krwawodzioba lub czajki",null,null,null,false,"",null,"RSO20","RSS20"]
[null,null,null,"4.9.  ","Ochrona siedlisk lęgowych ptaków: wodniczki",null,null,null,false,"",null,"RSO21","RSS21"]
[null,null,null,"4.10. ","Ochrona siedlisk lęgowych ptaków: dubelta lub kulika wielkiego",null,null,null,false,"",null,"RSO22","RSS22"]
[null,null,null,"4.11. ","Ochrona siedlisk lęgowych ptaków: derkacza",null,null,null,false,"",null,"RSO23","RSS23"]
[null,null,null,null,null,null,null,null,null,{"$f":"D30&E30","v":""},null,"RSO24","RSS24"]
[null,null,null,null,null,null,null,null,null,null,null,"RSO25","RSS25"]
[null,null,null,null,null,null,null,null,null,null,null,"RSO26","RSS26"]
[null,null,null,null,null,null,null,null,null,null,null,"RSO27","RSS27"]
[null,null,null,null,null,null,null,null,null,null,null,"RSO28","RSS28"]
[null,null,null,null,null,null,null,null,null,null,null,"RSO29","RSS29"]
[null,null,null,null,null,null,null,null,null,null,null,"RSO30","RSS30"]

{"sheet":"S_Menu","index":3,"n_rows":13,"n_cols":16,"rows_kept":13,"cut":false,"hidden":true,"merged":[[11,2,11,9],[12,2,12,4],[10,2,10,7],[0,11,0,12],[3,2,3,10],[4,2,4,10],[5,2,5,10],[6,2,6,10],[8,2,8,4],[1,1,1,11]]}
[null,null,null,null,null,null,null,null,null,null,null,"POWRÓT",null,null,null,"Uwagi"]
[null,"DOKUMENTACJA PRZYRODNICZA SIEDLISKOWA"]
[]
[null,null,"Dane ogólne"]
[null,null,"Zestawienie działek rolnych i RSS"]
[null,null,"Karty opisów działek RSS"]
[null,null,"Diagnoza siedliska – spisy gatunków wskaźnikowych",null,null,null,null,null,null,null,null,null,null,null,null,"4(5).5."]
[]
[null,null,"WYMOGI DLA WARIANTU: ",null,null,{"$f":"IF(Pakiety_warianty!N7=TRUE,\"4(5).1.\",\"\")","v":""},{"$f":"IF(Pakiety_warianty!N8=TRUE,\"4(5).2.\",\"\")","v":""},{"$f":"IF(Pakiety_warianty!N9=TRUE,\"4(5).3.\",\"\")","v":""},{"$f":"IF(Pakiety_warianty!N10=TRUE,\"4(5).4.\",\"\")","v":""},{"$f":"IF(Pakiety_warianty!N11=TRUE,\"4(5).5.\",\"\")","v":""},{"$f":"IF(Pakiety_warianty!N12=TRUE,\"4(5).6.1.\",\"\")","v":""},{"$f":"IF(Pakiety_warianty!N13=TRUE,\"4(5).6.2.\",\"\")","v":""}]
[]
[null,null,"Diagnoza siedliska – zdjęcia fitosocjologiczne"]
[null,null,"Elementy krajobrazu rolniczego nieużytkowane rolniczo (ostoje)"]
[null,null,"Uwagi eksperta/rolnika"]

{"sheet":"S_Dane_ogolne","index":4,"n_rows":74,"n_cols":11,"rows_kept":74,"cut":false,"hidden":true,"merged":[[1,1,1,2],[54,1,54,2],[67,1,67,2],[49,1,49,2],[62,1,62,2],[2,1,2,2],[28,1,28,2],[42,1,42,2],[36,1,36,2],[8,1,8,2],[16,1,16,2],[17,1,17,2],[22,1,22,2]]}
[null,null,null,"Powrót"]
[null,"Pierwsza strona dokumentacji do przekazania do BP ARiMR"]
[null,"DOKUMENTACJA PRZYRODNICZA SIEDLISKOWA\nNA POTRZEBY DZIAŁANIA ROLNO-ŚRODOWISKOWO-KLIMATYCZNEGO \nPROW 2014-2020\nrealizowanego w zakresie wariantów siedliskowych 4.1./5.1.-4.6./5.6. pakietów 4. i 5. \n",null,null,null,null,null,null,null,null,"Uwagi"]
[null,"Okres realizacji zobowiązania                   od:","2020-03-15",null,{"$f":"IFERROR(YEAR(C4),YEAR(TODAY()))","v":2020}]
[null,"do:","2025-03-15",null,{"$f":"YEAR(C5)","v":2025}]
[null,"Cel złożenia dokumentacji ","pierwsze zgłoszenie"]
[null,"Data sporządzenia dokumentacji w pierwszym zgłoszeniu:"]
[null,"Data sporządzenia korekty:"]
[null,"Złożenie korekty dokumentacji w zakresie:\n"]
[null,"zmiany w części \"Dane ogólne\""]
[null,"zmiany w części \"Zestawienie działek\" "]
[null,"dodanie nowej/nowych działki/działek RSS "]
[null,"zmiany w części \"Karta opisu działki RSS\""]
[null,"zmiany w części \"Wymogi dla działki RSS\" "]
[null,"zmiany w części \"Ostoje\""]
[null,"zmiany w części \"Załączniki\""]
[null,"Uzasadnienie korekty"]
[]
[]
[null,"Czytelny podpis rolnika lub zarządcy, data"]
[null,"Czytelny podpis eksperta, data"]
[]
[null,"DANE ROLNIKA LUB ZARZĄDCY",null,null,null,{"$f":"OGOLNE_ROL_EKSP!G4","v":1}]
[null,"Numer identyfikacyjny producenta rolnego ",{"$f":"OGOLNE_ROL_EKSP!D5","v":0},null,null,{"$f":"OGOLNE_ROL_EKSP!G5","v":1}]
[null,"Imię",{"$f":"OGOLNE_ROL_EKSP!C6","v":0},null,null,{"$f":"OGOLNE_ROL_EKSP!G6","v":0}]
[null,"Nazwisko/Nazwa",{"$f":"OGOLNE_ROL_EKSP!C7","v":0},null,null,{"$f":"OGOLNE_ROL_EKSP!G7","v":1}]
[null,"Numer telefonu [można podać kilka numerów telefonów]",{"$f":"OGOLNE_ROL_EKSP!C8","v":0},null,null,{"$f":"OGOLNE_ROL_EKSP!G8","v":1}]
[null,"E-mail [jeśli dotyczy; można podać kilka adresów e-mail]",{"$f":"OGOLNE_ROL_EKSP!C9","v":0},null,null,{"$f":"OGOLNE_ROL_EKSP!G9","v":0}]
[null,"Adres do korespondencji:",null,null,null,{"$f":"OGOLNE_ROL_EKSP!G10","v":1}]
[null,"Miejscowość",{"$f":"OGOLNE_ROL_EKSP!C11","v":0},null,null,{"$f":"OGOLNE_ROL_EKSP!G11","v":1}]
[null,"Ulica",{"$f":"OGOLNE_ROL_EKSP!C12","v":0},null,null,{"$f":"OGOLNE_ROL_EKSP!G12","v":0}]
[null,"Numer domu",{"$f":"OGOLNE_ROL_EKSP!C13","v":0},null,null,{"$f":"OGOLNE_ROL_EKSP!G13","v":1}]
[null,"Numer mieszkania",{"$f":"OGOLNE_ROL_EKSP!C14","v":0},null,null,{"$f":"OGOLNE_ROL_EKSP!G14","v":0}]
[null,"Kod pocztowy ",{"$f":"OGOLNE_ROL_EKSP!C15","v":0},null,null,{"$f":"OGOLNE_ROL_EKSP!G15","v":1}]
[null,"Poczta ",{"$f":"OGOLNE_ROL_EKSP!C16","v":0},null,null,{"$f":"OGOLNE_ROL_EKSP!G16","v":1}]
[]
[null,{"$f":"OGOLNE_ROL_EKSP!B18&\" \"&OGOLNE_ROL_EKSP!C18","v":"DANE EKSPERTA "},null,null,null,{"$f":"F39","v":0}]
[]
[null,"Imię i nazwisko ",null,null,null,{"$f":"IFERROR(MATCH(C39,OGOLNE_ROL_EKSP!$I$20:$I$22,0),0)","v":0},null,null,null,null,"wybrać z listy - reszta danych robi się sama"]
[null,"Aktualny numer zaświadczenia",{"$f":"OFFSET(OGOLNE_ROL_EKSP!$I$19,$F$39,1)","v":0},null,null,{"$f":"IF(F39=0,0,OGOLNE_ROL_EKSP!G19)","v":0}]
[null,"Numer telefonu [można podać kilka numerów telefonów]",{"$f":"OFFSET(OGOLNE_ROL_EKSP!$I$19,$F$39,2)","v":0},null,null,{"$f":"IF($F$39=0,0,OGOLNE_ROL_EKSP!G22)","v":0}]
[null,"E-mail [można podać kilka adresów e-mail]",{"$f":"OFFSET(OGOLNE_ROL_EKSP!$I$19,$F$39,3)","v":0},null,null,{"$f":"IF($F$39=0,0,OGOLNE_ROL_EKSP!G23)","v":0}]
[null,"Adres do korespondencji:",null,null,null,{"$f":"IF($F$39=0,0,OGOLNE_ROL_EKSP!G24)","v":0}]
[null,"Miejscowość",{"$f":"OFFSET(OGOLNE_ROL_EKSP!$I$19,$F$39,4)","v":0},null,null,{"$f":"IF($F$39=0,0,OGOLNE_ROL_EKSP!G25)","v":0}]
[null,"Ulica",{"$f":"OFFSET(OGOLNE_ROL_EKSP!$I$19,$F$39,5)","v":0},null,null,{"$f":"IF($F$39=0,0,OGOLNE_ROL_EKSP!G26)","v":0}]
[null,"Numer domu",{"$f":"OFFSET(OGOLNE_ROL_EKSP!$I$19,$F$39,6)","v":0},null,null,{"$f":"IF($F$39=0,0,OGOLNE_ROL_EKSP!G27)","v":0}]
[null,"Numer mieszkania",{"$f":"OFFSET(OGOLNE_ROL_EKSP!$I$19,$F$39,7)","v":0},null,null,{"$f":"IF($F$39=0,0,OGOLNE_ROL_EKSP!G28)","v":0}]
[null,"Kod pocztowy ",{"$f":"OFFSET(OGOLNE_ROL_EKSP!$I$19,$F$39,8)","v":0},null,null,{"$f":"IF($F$39=0,0,OGOLNE_ROL_EKSP!G29)","v":0}]
[null,"Poczta",{"$f":"OFFSET(OGOLNE_ROL_EKSP!$I$19,$F$39,9)","v":0},null,null,{"$f":"IF($F$39=0,0,OGOLNE_ROL_EKSP!G30)","v":0}]
[null,{"$f":"OGOLNE_ROL_EKSP!B32","v":"DANE EKSPERTA - 2"},null,null,null,{"$f":"F51","v":0}]
[null,"Imię i nazwisko ",null,null,null,{"$f":"IFERROR(MATCH(C51,OGOLNE_ROL_EKSP!$I$20:$I$22,0),0)","v":0}]
[null,"Aktualny numer zaświadczenia",{"$f":"OFFSET(OGOLNE_ROL_EKSP!$I$19,$F$51,1)","v":0},null,null,{"$f":"IF(F51=0,0,OGOLNE_ROL_EKSP!G33)","v":0}]
[null,"Numer telefonu [można podać kilka numerów telefonów]",{"$f":"OFFSET(OGOLNE_ROL_EKSP!$I$19,$F$51,2)","v":0},null,null,{"$f":"IF($F$51=0,0,OGOLNE_ROL_EKSP!G36)","v":0}]
[null,"E-mail [można podać kilka adresów e-mail]",{"$f":"OFFSET(OGOLNE_ROL_EKSP!$I$19,$F$51,3)","v":0},null,null,{"$f":"IF($F$51=0,0,OGOLNE_ROL_EKSP!G37)","v":0}]
[null,"Adres do korespondencji:",null,null,null,{"$f":"IF($F$51=0,0,OGOLNE_ROL_EKSP!G38)","v":0}]
[null,"Miejscowość",{"$f":"OFFSET(OGOLNE_ROL_EKSP!$I$19,$F$51,4)","v":0},null,null,{"$f":"IF($F$51=0,0,OGOLNE_ROL_EKSP!G39)","v":0}]
[null,"Ulica",{"$f":"OFFSET(OGOLNE_ROL_EKSP!$I$19,$F$51,5)","v":0},null,null,{"$f":"IF($F$51=0,0,OGOLNE_ROL_EKSP!G40)","v":0}]
[null,"Numer domu",{"$f":"OFFSET(OGOLNE_ROL_EKSP!$I$19,$F$51,6)","v":0},null,null,{"$f":"IF($F$51=0,0,OGOLNE_ROL_EKSP!G41)","v":0}]
[null,"Numer mieszkania",{"$f":"OFFSET(OGOLNE_ROL_EKSP!$I$19,$F$51,7)","v":0},null,null,{"$f":"IF($F$51=0,0,OGOLNE_ROL_EKSP!G42)","v":0}]
[null,"Kod pocztowy ",{"$f":"OFFSET(OGOLNE_ROL_EKSP!$I$19,$F$51,8)","v":0},null,null,{"$f":"IF($F$51=0,0,OGOLNE_ROL_EKSP!G43)","v":0}]
[null,"Poczta",{"$f":"OFFSET(OGOLNE_ROL_EKSP!$I$19,$F$51,9)","v":0},null,null,{"$f":"IF($F$51=0,0,OGOLNE_ROL_EKSP!G44)","v":0}]
[]
[null,{"$f":"OGOLNE_ROL_EKSP!B46","v":"DANE EKSPERTA - 3"},null,null,null,{"$f":"F64","v":0}]
[null,"Imię i nazwisko ",null,null,null,{"$f":"IFERROR(MATCH(C64,OGOLNE_ROL_EKSP!$I$20:$I$22,0),0)","v":0}]
[null,"Aktualny numer zaświadczenia",{"$f":"OFFSET(OGOLNE_ROL_EKSP!$I$19,$F$64,1)","v":0},null,null,{"$f":"IF(F64=0,0,OGOLNE_ROL_EKSP!G47)","v":0}]
[null,"Numer telefonu [można podać kilka numerów telefonów]",{"$f":"OFFSET(OGOLNE_ROL_EKSP!$I$19,$F$64,2)","v":0},null,null,{"$f":"IF($F$64=0,0,OGOLNE_ROL_EKSP!G50)","v":0}]
[null,"E-mail [można podać kilka adresów e-mail]",{"$f":"OFFSET(OGOLNE_ROL_EKSP!$I$19,$F$64,3)","v":0},null,null,{"$f":"IF($F$64=0,0,OGOLNE_ROL_EKSP!G51)","v":0}]
[null,"Adres do korespondencji:",null,null,null,{"$f":"IF($F$64=0,0,OGOLNE_ROL_EKSP!G52)","v":0}]
[null,"Miejscowość",{"$f":"OFFSET(OGOLNE_ROL_EKSP!$I$19,$F$64,4)","v":0},null,null,{"$f":"IF($F$64=0,0,OGOLNE_ROL_EKSP!G53)","v":0}]
[null,"Ulica",{"$f":"OFFSET(OGOLNE_ROL_EKSP!$I$19,$F$64,5)","v":0},null,null,{"$f":"IF($F$64=0,0,OGOLNE_ROL_EKSP!G54)","v":0}]
[null,"Numer domu",{"$f":"OFFSET(OGOLNE_ROL_EKSP!$I$19,$F$64,6)","v":0},null,null,{"$f":"IF($F$64=0,0,OGOLNE_ROL_EKSP!G55)","v":0}]
[null,"Numer mieszkania",{"$f":"OFFSET(OGOLNE_ROL_EKSP!$I$19,$F$64,7)","v":0},null,null,{"$f":"IF($F$64=0,0,OGOLNE_ROL_EKSP!G56)","v":0}]
[null,"Kod pocztowy ",{"$f":"OFFSET(OGOLNE_ROL_EKSP!$I$19,$F$64,8)","v":0},null,null,{"$f":"IF($F$64=0,0,OGOLNE_ROL_EKSP!G57)","v":0}]
[null,"Poczta",{"$f":"OFFSET(OGOLNE_ROL_EKSP!$I$19,$F$64,9)","v":0},null,null,{"$f":"IF($F$64=0,0,OGOLNE_ROL_EKSP!G58)","v":0}]

{"sheet":"S_Zestawienie dzialek","index":5,"n_rows":127,"n_cols":59,"rows_kept":127,"cut":false,"hidden":true,"merged":[[118,1,118,2],[126,1,126,2],[2,1,2,14],[3,8,3,12],[4,12,5,12],[4,10,5,10],[3,6,5,6],[3,4,5,4],[4,9,5,9],[3,13,5,13],[3,14,5,14],[3,7,5,7],[4,11,5,11],[4,8,5,8],[3,3,4,3],[3,2,5,2],[3,1,5,1],[3,5,4,5],[0,13,0,14]]}
[null,null,null,null,null,null,null,null,null,null,null,null,"Powrót",null,null,null,null,null,null,null,null,null,null,null,"4.1.  "]
[null,null,null,null,null,null,null,null,null,null,null,null,null,null,null,null,null,null,null,null,null,null,null,null,null,null,null,"dz. ew"]
[null,"Zestawienie działek rolnych i RSS",null,null,null,null,null,null,null,null,null,null,null,null,null,null,null,null,null,null,null,null,null,null,null,null,null,{"$f":"COUNTA(H7:H110)","v":0},{"$f":"MATCH(AC4,$X$6:$X$110,0)","v":{"$error":"#N/A"}},{"$f":"MATCH(AD4,$X$6:$X$110,0)","v":{"$error":"#N/A"}},{"$error":"#N/A"},{"$error":"#N/A"},{"$error":"#N/A"},{"$error":"#N/A"},{"$error":"#N/A"},{"$error":"#N/A"},{"$error":"#N/A"},{"$error":"#N/A"},{"$error":"#N/A"},{"$error":"#N/A"},{"$error":"#N/A"},{"$error":"#N/A"},null,null,{"$f":"104-COUNTIFS(AC7:AC110,0)","v":0},{"$f":"104-COUNTIFS(AD7:AD110,0)","v":0},{"$f":"104-COUNTIFS(AE7:AE110,0)","v":0},0,0,0,0,0,0,0,0,0,0,0]
[null,"Numer pakietu","Numer i nazwa wariantu","Oznaczenie działki  RSS (zgodne z dołączonym szkicem) ","Powierzchnia działki RSS\n(ha do 0,01 ha)","Oznaczenie działki rolnej (zgodne z dołączonym szkicem),\n  na RSS","Powierzchnia działki rolnej (ha do 0,01 ha),","Powierzchnia działki rolnej w granicach działki ewidencyjnej lub jej części \n(ha do 0,01 ha), ","Numer i położenie działki ewidencyjnej\n",null,null,null,null,"PZO/PO\n","Zakres \ndokumentacji",null,null,null,null,null,null,null,{"$f":"COUNTA(D7:D110)","v":0},null,null,null,{"$f":"Pakiety_warianty!P5+1","v":1},{"$f":"COUNTA(AC4:AP4)","v":14},"4.1.  ","5.1.  ","4.2.  ","5.2.  ","4.3.  ","5.3.  ","4.4.  ","5.4.  ","4.5.  ","5.5.  ","4.6.1.","4.6.2.","5.6.1.","5.6.2.","RSS","Duplikat","4.1.  ","5.1.  ","4.2.  ","5.2.  ","4.3.  ","5.3.  ","4.4.  ","5.4.  ","4.5.  ","5.5.  ","4.6.1.","4.6.2.","5.6.1.","5.6.2 "]
[null,null,null,null,null,null,null,null,"Numer działki ew.","Obręb ewidencyjny","Gmina","Powiat","Województwo",null,null,null,null,null,null,null,null,"dz.rol","Lista",null,"pust","Inna pow.","LISTA WAR.","DZ ROL","rss","rss","rss","rss","rss","rss","rss","rss","rss","rss","rss","rss","rss","rss","RSS<=0,5","RSS","rss","rss","rss","rss","rss","rss","rss","rss","rss","rss","rss","rss","rss","rss"]
[null,null,null,null,null,null,null,null,null,null,null,null,null,null,null,null,null,null,null,null,null,null,null,null,null,null,null,{"$f":"COUNTA(H7:H110)+6","v":6}]
[null,{"$f":"Q7","v":""},null,null,{"$f":"IF(D7=\"\",0,SUMIF($T$7:T110,D7,$H$7:H110))","v":0},null,{"$f":"IF(F7=\"\",0,SUMIF($U$7:U110,F7,$H$7:H110))","v":0},null,null,null,null,null,null,null,null,null,{"$f":"LEFT(C7,2)","v":""},{"$f":"Q7","v":""},{"$f":"C7","v":0},{"$f":"D7","v":0},{"$f":"F7","v":0},{"$f":"COUNTIF($F$7:$F$110,F7)","v":0},null,{"$f":"IF(V7>0,LEFT(S7,6),\"\")","v":""},{"$f":"COUNTA(B7:H7)","v":3},{"$f":"IF(LEN(X7&U7)>11,\"\",(X7))","v":""},{"$f":"Pakiety_warianty!P7","v":0},null,{"$f":"IF($X7=$AC$4,$D7,0)","v":0},{"$f":"IF($X7=$AD$4,$D7,0)","v":0},{"$f":"IF($X7=$AE$4,$D7,0)","v":0},{"$f":"IF($X7=$AF$4,$D7,0)","v":0},{"$f":"IF($X7=$AG$4,$D7,0)","v":0},{"$f":"IF($X7=$AH$4,$D7,0)","v":0},{"$f":"IF($X7=$AI$4,$D7,0)","v":0},{"$f":"IF($X7=$AJ$4,$D7,0)","v":0},{"$f":"IF($X7=$AK$4,$D7,0)","v":0},{"$f":"IF($X7=$AL$4,$D7,0)","v":0},{"$f":"IF($X7=$AM$4,$D7,0)","v":0},{"$f":"IF($X7=$AN$4,$D7,0)","v":0},{"$f":"IF($X7=$AQ$4,$D7,0)","v":0},{"$f":"IF($X7=$AP$4,$D7,0)","v":0},{"$f":"IF(G7<=0.5,F7,\" \")","v":0},{"$f":"COUNTIF($D$7:$D$110,D7)","v":0}]
[null,{"$f":"IF(R8=R7,\"\",R8)","v":""},null,null,{"$f":"IF(D8=\"\",0,SUMIF($T$7:T111,D8,$H$7:H111))","v":0},null,{"$f":"IF(F8=\"\",0,SUMIF($U$7:U111,F8,$H$7:H111))","v":0},null,null,null,null,null,null,null,null,null,{"$f":"LEFT(C8,2)","v":""},{"$f":"IF(Q8=\"\",R7,Q8)","v":""},{"$f":"IF(C8=\"\",S7,C8)","v":0},{"$f":"IF(D8=\"\",T7,D8)","v":0},{"$f":"IF(F8=\"\",U7,F8)","v":0},{"$f":"COUNTIF($F$7:$F$110,F8)","v":0},null,{"$f":"IF(V8>0,LEFT(S8,6),\"\")","v":""},{"$f":"COUNTA(B8:H8)","v":3},{"$f":"IF(LEN(X8&U8)>11,\"\",(X8))","v":""},{"$f":"Pakiety_warianty!P8","v":0},null,{"$f":"IF($X8=$AC$4,$D8,0)","v":0},{"$f":"IF($X8=$AD$4,$D8,0)","v":0},{"$f":"IF($X8=$AE$4,$D8,0)","v":0},{"$f":"IF($X8=$AF$4,$D8,0)","v":0},{"$f":"IF($X8=$AG$4,$D8,0)","v":0},{"$f":"IF($X8=$AH$4,$D8,0)","v":0},{"$f":"IF($X8=$AI$4,$D8,0)","v":0},{"$f":"IF($X8=$AJ$4,$D8,0)","v":0},{"$f":"IF($X8=$AK$4,$D8,0)","v":0},{"$f":"IF($X8=$AL$4,$D8,0)","v":0},{"$f":"IF($X8=$AM$4,$D8,0)","v":0},{"$f":"IF($X8=$AN$4,$D8,0)","v":0},{"$f":"IF($X8=$AQ$4,$D8,0)","v":0},{"$f":"IF($X8=$AP$4,$D8,0)","v":0},{"$f":"IF(G8<=0.5,F8,\" \")","v":0},{"$f":"COUNTIF($D$7:$D$110,D8)","v":0}]
[null,{"$f":"IF(R9=R8,\"\",R9)","v":""},null,null,{"$f":"IF(D9=\"\",0,SUMIF($T$7:T112,D9,$H$7:H112))","v":0},null,{"$f":"IF(F9=\"\",0,SUMIF($U$7:U112,F9,$H$7:H112))","v":0},null,null,null,null,null,null,null,null,null,"",{"$f":"IF(Q9=\"\",R8,Q9)","v":""},{"$f":"IF(C9=\"\",S8,C9)","v":0},{"$f":"IF(D9=\"\",T8,D9)","v":0},0,0,null,{"$f":"IF(V9>0,LEFT(S9,6),\"\")","v":""},3,"",{"$f":"Pakiety_warianty!P9","v":0},null,0,0,0,0,0,0,0,0,0,0,0,0,0,0,0,0]
[null,"",null,null,{"$f":"IF(D10=\"\",0,SUMIF($T$7:T113,D10,$H$7:H113))","v":0},null,{"$f":"IF(F10=\"\",0,SUMIF($U$7:U113,F10,$H$7:H113))","v":0},null,null,null,null,null,null,null,null,null,"","",0,0,0,0,null,"",3,"",{"$f":"Pakiety_warianty!P10","v":0},null,0,0,0,0,0,0,0,0,0,0,0,0,0,0,0,0]
[null,"",null,null,{"$f":"IF(D11=\"\",0,SUMIF($T$7:T114,D11,$H$7:H114))","v":0},null,{"$f":"IF(F11=\"\",0,SUMIF($U$7:U114,F11,$H$7:H114))","v":0},null,null,null,null,null,null,null,null,null,"","",0,0,0,0,null,"",3,"",{"$f":"Pakiety_warianty!P11","v":0},null,0,0,0,0,0,0,0,0,0,0,0,0,0,0,0,0]
[null,"",null,null,{"$f":"IF(D12=\"\",0,SUMIF($T$7:T115,D12,$H$7:H115))","v":0},null,{"$f":"IF(F12=\"\",0,SUMIF($U$7:U115,F12,$H$7:H115))","v":0},null,null,null,null,null,null,null,null,null,"","",0,0,0,0,null,"",3,"",{"$f":"Pakiety_warianty!P12","v":0},null,0,0,0,0,0,0,0,0,0,0,0,0,0,0,0,0]
[null,"",null,null,{"$f":"IF(D13=\"\",0,SUMIF($T$7:T116,D13,$H$7:H116))","v":0},null,{"$f":"IF(F13=\"\",0,SUMIF($U$7:U116,F13,$H$7:H116))","v":0},null,null,null,null,null,null,null,null,null,"","",0,0,0,0,null,"",3,"",{"$f":"Pakiety_warianty!P13","v":0},null,0,0,0,0,0,0,0,0,0,0,0,0,0,0,0,0]
[null,"",null,null,{"$f":"IF(D14=\"\",0,SUMIF($T$7:T116,D14,$H$7:H116))","v":0},null,{"$f":"IF(F14=\"\",0,SUMIF($U$7:U116,F14,$H$7:H116))","v":0},null,null,null,null,null,null,null,null,null,"","",0,0,0,0,null,"",3,"",{"$f":"Pakiety_warianty!P14","v":0},null,0,0,0,0,0,0,0,0,0,0,0,0,0,0,0,0]
[null,"",null,null,{"$f":"IF(D15=\"\",0,SUMIF($T$7:T118,D15,$H$7:H118))","v":0},null,{"$f":"IF(F15=\"\",0,SUMIF($U$7:U118,F15,$H$7:H118))","v":0},null,null,null,null,null,null,null,null,null,"","",0,0,0,0,null,"",3,"",{"$f":"Pakiety_warianty!P15","v":0},null,0,0,0,0,0,0,0,0,0,0,0,0,0,0,0,0]
[null,"",null,null,{"$f":"IF(D16=\"\",0,SUMIF($T$7:T119,D16,$H$7:H119))","v":0},null,{"$f":"IF(F16=\"\",0,SUMIF($U$7:U119,F16,$H$7:H119))","v":0},null,null,null,null,null,null,null,null,null,"","",0,0,0,0,null,"",3,"",{"$f":"Pakiety_warianty!P16","v":0},null,0,0,0,0,0,0,0,0,0,0,0,0,0,0,0,0]
[null,"",null,null,{"$f":"IF(D17=\"\",0,SUMIF($T$7:T120,D17,$H$7:H120))","v":0},null,{"$f":"IF(F17=\"\",0,SUMIF($U$7:U120,F17,$H$7:H120))","v":0},null,null,null,null,null,null,null,null,null,"","",0,0,0,0,null,"",3,"",{"$f":"Pakiety_warianty!P17","v":0},null,0,0,0,0,0,0,0,0,0,0,0,0,0,0,0,0]
[null,"",null,null,{"$f":"IF(D18=\"\",0,SUMIF($T$7:T121,D18,$H$7:H121))","v":0},null,{"$f":"IF(F18=\"\",0,SUMIF($U$7:U121,F18,$H$7:H121))","v":0},null,null,null,null,null,null,null,null,null,"","",0,0,0,0,null,"",3,"",{"$f":"Pakiety_warianty!P18","v":0},null,0,0,0,0,0,0,0,0,0,0,0,0,0,0,0,0]
[null,"",null,null,{"$f":"IF(D19=\"\",0,SUMIF($T$7:T122,D19,$H$7:H122))","v":0},null,{"$f":"IF(F19=\"\",0,SUMIF($U$7:U122,F19,$H$7:H122))","v":0},null,null,null,null,null,null,null,null,null,"","",{"$f":"IF(C19=\"\",S18,C19)","v":0},{"$f":"IF(D19=\"\",T18,D19)","v":0},0,0,null,"",3,"",{"$f":"Pakiety_warianty!P19","v":0},null,0,0,0,0,0,0,0,0,0,0,0,0,0,0,0,0,null,null,null,null,null,null,null,null,null,null,null,null,null,null," "]
[null,"",null,null,{"$f":"IF(D20=\"\",0,SUMIF($T$7:T123,D20,$H$7:H123))","v":0},null,{"$f":"IF(F20=\"\",0,SUMIF($U$7:U123,F20,$H$7:H123))","v":0},null,null,null,null,null,null,null,null,null,"","",0,0,0,0,null,"",3,"",{"$f":"Pakiety_warianty!P20","v":0},null,0,0,0,0,0,0,0,0,0,0,0,0,0,0,0,0,null,null,null,null,null,null,null,null,null,null,null,null,null,null," "]
[null,"",null,null,{"$f":"IF(D21=\"\",0,SUMIF($T$7:T124,D21,$H$7:H124))","v":0},null,{"$f":"IF(F21=\"\",0,SUMIF($U$7:U124,F21,$H$7:H124))","v":0},null,null,null,null,null,null,null,null,null,"","",0,0,0,0,null,"",3,"",{"$f":"Pakiety_warianty!P21","v":0},null,0,0,0,0,0,0,0,0,0,0,0,0,0,0,0,0]
[null,"",null,null,{"$f":"IF(D22=\"\",0,SUMIF($T$7:T125,D22,$H$7:H125))","v":0},null,{"$f":"IF(F22=\"\",0,SUMIF($U$7:U125,F22,$H$7:H125))","v":0},null,null,null,null,null,null,null,null,null,"","",0,0,0,0,null,"",3,"",{"$f":"Pakiety_warianty!P22","v":0},null,0,0,0,0,0,0,0,0,0,0,0,0,0,0,0,0]
[null,"",null,null,{"$f":"IF(D23=\"\",0,SUMIF($T$7:T126,D23,$H$7:H126))","v":0},null,{"$f":"IF(F23=\"\",0,SUMIF($U$7:U126,F23,$H$7:H126))","v":0},null,null,null,null,null,null,null,null,null,"","",0,0,0,0,null,"",3,"",null,null,0,0,0,0,0,0,0,0,0,0,0,0,0,0,0,0]
[null,"",null,null,{"$f":"IF(D24=\"\",0,SUMIF($T$7:T127,D24,$H$7:H127))","v":0},null,{"$f":"IF(F24=\"\",0,SUMIF($U$7:U127,F24,$H$7:H127))","v":0},null,null,null,null,null,null,null,null,null,"","",0,0,0,0,null,"",3,"",null,null,0,0,0,0,0,0,0,0,0,0,0,0,0,0,0,0]
[null,"",null,null,{"$f":"IF(D25=\"\",0,SUMIF($T$7:T128,D25,$H$7:H128))","v":0},null,{"$f":"IF(F25=\"\",0,SUMIF($U$7:U128,F25,$H$7:H128))","v":0},null,null,null,null,null,null,null,null,null,"","",0,0,0,0,null,"",3,"",null,null,0,0,0,0,0,0,0,0,0,0,0,0,0,0,0,0]
[null,"",null,null,{"$f":"IF(D26=\"\",0,SUMIF($T$7:T129,D26,$H$7:H129))","v":0},null,{"$f":"IF(F26=\"\",0,SUMIF($U$7:U129,F26,$H$7:H129))","v":0},null,null,null,null,null,null,null,null,null,"","",0,0,0,0,null,"",3,"",null,null,0,0,0,0,0,0,0,0,0,0,0,0,0,0,0,0]
[null,"",null,null,{"$f":"IF(D27=\"\",0,SUMIF($T$7:T130,D27,$H$7:H130))","v":0},null,{"$f":"IF(F27=\"\",0,SUMIF($U$7:U130,F27,$H$7:H130))","v":0},null,null,null,null,null,null,null,null,null,"","",0,0,0,0,null,"",3,"",null,null,0,0,0,0,0,0,0,0,0,0,0,0,0,0,0,0]
[null,"",null,null,{"$f":"IF(D28=\"\",0,SUMIF($T$7:T131,D28,$H$7:H131))","v":0},null,{"$f":"IF(F28=\"\",0,SUMIF($U$7:U131,F28,$H$7:H131))","v":0},null,null,null,null,null,null,null,null,null,"","",0,0,0,0,null,"",3,"",null,null,0,0,0,0,0,0,0,0,0,0,0,0,0,0,0,0]
[null,{"$f":"IF(R29=R28,\"\",R29)","v":""},null,null,{"$f":"IF(D29=\"\",0,SUMIF($T$7:T132,D29,$H$7:H132))","v":0},null,{"$f":"IF(F29=\"\",0,SUMIF($U$7:U132,F29,$H$7:H132))","v":0},null,null,null,null,null,null,null,null,null,{"$f":"LEFT(C29,2)","v":""},{"$f":"IF(Q29=\"\",R28,Q29)","v":""},{"$f":"IF(C29=\"\",S28,C29)","v":0},{"$f":"IF(D29=\"\",T28,D29)","v":0},{"$f":"IF(F29=\"\",U28,F29)","v":0},0,null,"",3,"",null,null,0,0,0,0,0,0,0,0,0,0,0,0,0,0,0,0]
[null,"",null,null,{"$f":"IF(D30=\"\",0,SUMIF($T$7:T133,D30,$H$7:H133))","v":0},null,{"$f":"IF(F30=\"\",0,SUMIF($U$7:U133,F30,$H$7:H133))","v":0},null,null,null,null,null,null,null,null,null,"","",0,0,0,0,null,"",3,"",null,null,0,0,0,0,0,0,0,0,0,0,0,0,0,0,0,0]
[null,"",null,null,{"$f":"IF(D31=\"\",0,SUMIF($T$7:T134,D31,$H$7:H134))","v":0},null,{"$f":"IF(F31=\"\",0,SUMIF($U$7:U134,F31,$H$7:H134))","v":0},null,null,null,null,null,null,null,null,null,"","",0,0,0,0,null,"",3,"",null,null,0,0,0,0,0,0,0,0,0,0,0,0,0,0,0,0]
[null,"",null,null,{"$f":"IF(D32=\"\",0,SUMIF($T$7:T135,D32,$H$7:H135))","v":0},null,{"$f":"IF(F32=\"\",0,SUMIF($U$7:U135,F32,$H$7:H135))","v":0},null,null,null,null,null,null,null,null,null,"","",0,0,0,0,null,"",3,"",null,null,0,0,0,0,0,0,0,0,0,0,0,0,0,0,0,0]
[null,"",null,null,{"$f":"IF(D33=\"\",0,SUMIF($T$7:T136,D33,$H$7:H136))","v":0},null,{"$f":"IF(F33=\"\",0,SUMIF($U$7:U136,F33,$H$7:H136))","v":0},null,null,null,null,null,null,null,null,null,"","",0,0,0,0,null,"",3,"",null,null,0,0,0,0,0,0,0,0,0,0,0,0,0,0,0,0]
[null,"",null,null,{"$f":"IF(D34=\"\",0,SUMIF($T$7:T137,D34,$H$7:H137))","v":0},null,{"$f":"IF(F34=\"\",0,SUMIF($U$7:U137,F34,$H$7:H137))","v":0},null,null,null,null,null,null,null,null,null,"","",0,0,0,0,null,"",3,"",null,null,0,0,0,0,0,0,0,0,0,0,0,0,0,0,0,0]
[null,"",null,null,{"$f":"IF(D35=\"\",0,SUMIF($T$7:T138,D35,$H$7:H138))","v":0},null,{"$f":"IF(F35=\"\",0,SUMIF($U$7:U138,F35,$H$7:H138))","v":0},null,null,null,null,null,null,null,null,null,"","",0,0,0,0,null,"",3,"",null,null,0,0,0,0,0,0,0,0,0,0,0,0,0,0,0,0]
[null,"",null,null,{"$f":"IF(D36=\"\",0,SUMIF($T$7:T139,D36,$H$7:H139))","v":0},null,{"$f":"IF(F36=\"\",0,SUMIF($U$7:U139,F36,$H$7:H139))","v":0},null,null,null,null,null,null,null,null,null,"","",0,0,0,0,null,"",3,"",null,null,0,0,0,0,0,0,0,0,0,0,0,0,0,0,0,0]
[null,"",null,null,{"$f":"IF(D37=\"\",0,SUMIF($T$7:T140,D37,$H$7:H140))","v":0},null,{"$f":"IF(F37=\"\",0,SUMIF($U$7:U140,F37,$H$7:H140))","v":0},null,null,null,null,null,null,null,null,null,"","",0,0,0,0,null,"",3,"",null,null,0,0,0,0,0,0,0,0,0,0,0,0,0,0,0,0]
[null,"",null,null,{"$f":"IF(D38=\"\",0,SUMIF($T$7:T141,D38,$H$7:H141))","v":0},null,{"$f":"IF(F38=\"\",0,SUMIF($U$7:U141,F38,$H$7:H141))","v":0},null,null,null,null,null,null,null,null,null,"","",0,0,0,0,null,"",3,"",null,null,0,0,0,0,0,0,0,0,0,0,0,0,0,0,0,0]
[null,"",null,null,{"$f":"IF(D39=\"\",0,SUMIF($T$7:T142,D39,$H$7:H142))","v":0},null,{"$f":"IF(F39=\"\",0,SUMIF($U$7:U142,F39,$H$7:H142))","v":0},null,null,null,null,null,null,null,null,null,"","",0,0,0,0,null,"",3,"",null,null,0,0,0,0,0,0,0,0,0,0,0,0,0,0,0,0]
[null,"",null,null,{"$f":"IF(D40=\"\",0,SUMIF($T$7:T143,D40,$H$7:H143))","v":0},null,{"$f":"IF(F40=\"\",0,SUMIF($U$7:U143,F40,$H$7:H143))","v":0},null,null,null,null,null,null,null,null,null,"","",0,0,0,0,null,"",3,"",null,null,0,0,0,0,0,0,0,0,0,0,0,0,0,0,0,0]
[null,"",null,null,{"$f":"IF(D41=\"\",0,SUMIF($T$7:T144,D41,$H$7:H144))","v":0},null,{"$f":"IF(F41=\"\",0,SUMIF($U$7:U144,F41,$H$7:H144))","v":0},null,null,null,null,null,null,null,null,null,"","",0,0,0,0,null,"",3,"",null,null,0,0,0,0,0,0,0,0,0,0,0,0,0,0,0,0]
[null,"",null,null,{"$f":"IF(D42=\"\",0,SUMIF($T$7:T145,D42,$H$7:H145))","v":0},null,{"$f":"IF(F42=\"\",0,SUMIF($U$7:U145,F42,$H$7:H145))","v":0},null,null,null,null,null,null,null,null,null,"","",0,0,0,0,null,"",3,"",null,null,0,0,0,0,0,0,0,0,0,0,0,0,0,0,0,0]
[null,"",null,null,{"$f":"IF(D43=\"\",0,SUMIF($T$7:T146,D43,$H$7:H146))","v":0},null,{"$f":"IF(F43=\"\",0,SUMIF($U$7:U146,F43,$H$7:H146))","v":0},null,null,null,null,null,null,null,null,null,"","",0,0,0,0,null,"",3,"",null,null,0,0,0,0,0,0,0,0,0,0,0,0,0,0,0,0]
[null,"",null,null,{"$f":"IF(D44=\"\",0,SUMIF($T$7:T147,D44,$H$7:H147))","v":0},null,{"$f":"IF(F44=\"\",0,SUMIF($U$7:U147,F44,$H$7:H147))","v":0},null,null,null,null,null,null,null,null,null,"","",0,0,0,0,null,"",3,"",null,null,0,0,0,0,0,0,0,0,0,0,0,0,0,0,0,0]
[null,"",null,null,{"$f":"IF(D45=\"\",0,SUMIF($T$7:T148,D45,$H$7:H148))","v":0},null,{"$f":"IF(F45=\"\",0,SUMIF($U$7:U148,F45,$H$7:H148))","v":0},null,null,null,null,null,null,null,null,null,"","",0,0,0,0,null,"",3,"",null,null,0,0,0,0,0,0,0,0,0,0,0,0,0,0,0,0]
[null,"",null,null,{"$f":"IF(D46=\"\",0,SUMIF($T$7:T149,D46,$H$7:H149))","v":0},null,{"$f":"IF(F46=\"\",0,SUMIF($U$7:U149,F46,$H$7:H149))","v":0},null,null,null,null,null,null,null,null,null,"","",0,0,0,0,null,"",3,"",null,null,0,0,0,0,0,0,0,0,0,0,0,0,0,0,0,0]
[null,"",null,null,{"$f":"IF(D47=\"\",0,SUMIF($T$7:T150,D47,$H$7:H150))","v":0},null,{"$f":"IF(F47=\"\",0,SUMIF($U$7:U150,F47,$H$7:H150))","v":0},null,null,null,null,null,null,null,null,null,"","",0,0,0,0,null,"",3,"",null,null,0,0,0,0,0,0,0,0,0,0,0,0,0,0,0,0]
[null,"",null,null,{"$f":"IF(D48=\"\",0,SUMIF($T$7:T151,D48,$H$7:H151))","v":0},null,{"$f":"IF(F48=\"\",0,SUMIF($U$7:U151,F48,$H$7:H151))","v":0},null,null,null,null,null,null,null,null,null,"","",0,0,0,0,null,"",3,"",null,null,0,0,0,0,0,0,0,0,0,0,0,0,0,0,0,0]
[null,"",null,null,{"$f":"IF(D49=\"\",0,SUMIF($T$7:T152,D49,$H$7:H152))","v":0},null,{"$f":"IF(F49=\"\",0,SUMIF($U$7:U152,F49,$H$7:H152))","v":0},null,null,null,null,null,null,null,null,null,"","",0,0,0,0,null,"",3,"",null,null,0,0,0,0,0,0,0,0,0,0,0,0,0,0,0,0]
[null,"",null,null,{"$f":"IF(D50=\"\",0,SUMIF($T$7:T153,D50,$H$7:H153))","v":0},null,{"$f":"IF(F50=\"\",0,SUMIF($U$7:U153,F50,$H$7:H153))","v":0},null,null,null,null,null,null,null,null,null,"","",0,0,0,0,null,"",3,"",null,null,0,0,0,0,0,0,0,0,0,0,0,0,0,0,0,0]
[null,"",null,null,{"$f":"IF(D51=\"\",0,SUMIF($T$7:T154,D51,$H$7:H154))","v":0},null,{"$f":"IF(F51=\"\",0,SUMIF($U$7:U154,F51,$H$7:H154))","v":0},null,null,null,null,null,null,null,null,null,"","",0,0,0,0,null,"",3,"",null,null,0,0,0,0,0,0,0,0,0,0,0,0,0,0,0,0]
[null,"",null,null,{"$f":"IF(D52=\"\",0,SUMIF($T$7:T155,D52,$H$7:H155))","v":0},null,{"$f":"IF(F52=\"\",0,SUMIF($U$7:U155,F52,$H$7:H155))","v":0},null,null,null,null,null,null,null,null,null,"","",0,0,0,0,null,"",3,"",null,null,0,0,0,0,0,0,0,0,0,0,0,0,0,0,0,0]
[null,"",null,null,{"$f":"IF(D53=\"\",0,SUMIF($T$7:T156,D53,$H$7:H156))","v":0},null,{"$f":"IF(F53=\"\",0,SUMIF($U$7:U156,F53,$H$7:H156))","v":0},null,null,null,null,null,null,null,null,null,"","",0,0,0,0,null,"",3,"",null,null,0,0,0,0,0,0,0,0,0,0,0,0,0,0,0,0]
[null,"",null,null,{"$f":"IF(D54=\"\",0,SUMIF($T$7:T157,D54,$H$7:H157))","v":0},null,{"$f":"IF(F54=\"\",0,SUMIF($U$7:U157,F54,$H$7:H157))","v":0},null,null,null,null,null,null,null,null,null,"","",0,0,0,0,null,"",3,"",null,null,0,0,0,0,0,0,0,0,0,0,0,0,0,0,0,0]
[null,"",null,null,{"$f":"IF(D55=\"\",0,SUMIF($T$7:T158,D55,$H$7:H158))","v":0},null,{"$f":"IF(F55=\"\",0,SUMIF($U$7:U158,F55,$H$7:H158))","v":0},null,null,null,null,null,null,null,null,null,"","",0,0,0,0,null,"",3,"",null,null,0,0,0,0,0,0,0,0,0,0,0,0,0,0,0,0]
[null,"",null,null,{"$f":"IF(D56=\"\",0,SUMIF($T$7:T159,D56,$H$7:H159))","v":0},null,{"$f":"IF(F56=\"\",0,SUMIF($U$7:U159,F56,$H$7:H159))","v":0},null,null,null,null,null,null,null,null,null,"","",0,0,0,0,null,"",3,"",null,null,0,0,0,0,0,0,0,0,0,0,0,0,0,0,0,0]
[null,"",null,null,{"$f":"IF(D57=\"\",0,SUMIF($T$7:T160,D57,$H$7:H160))","v":0},null,{"$f":"IF(F57=\"\",0,SUMIF($U$7:U160,F57,$H$7:H160))","v":0},null,null,null,null,null,null,null,null,null,"","",0,0,0,0,null,"",3,"",null,null,0,0,0,0,0,0,0,0,0,0,0,0,0,0,0,0]
[null,"",null,null,{"$f":"IF(D58=\"\",0,SUMIF($T$7:T161,D58,$H$7:H161))","v":0},null,{"$f":"IF(F58=\"\",0,SUMIF($U$7:U161,F58,$H$7:H161))","v":0},null,null,null,null,null,null,null,null,null,"","",0,0,0,0,null,"",3,"",null,null,0,0,0,0,0,0,0,0,0,0,0,0,0,0,0,0]
[null,"",null,null,{"$f":"IF(D59=\"\",0,SUMIF($T$7:T162,D59,$H$7:H162))","v":0},null,{"$f":"IF(F59=\"\",0,SUMIF($U$7:U162,F59,$H$7:H162))","v":0},null,null,null,null,null,null,null,null,null,"","",0,0,0,0,null,"",3,"",null,null,0,0,0,0,0,0,0,0,0,0,0,0,0,0,0,0]
[null,"",null,null,{"$f":"IF(D60=\"\",0,SUMIF($T$7:T163,D60,$H$7:H163))","v":0},null,{"$f":"IF(F60=\"\",0,SUMIF($U$7:U163,F60,$H$7:H163))","v":0},null,null,null,null,null,null,null,null,null,"","",0,0,0,0,null,"",3,"",null,null,0,0,0,0,0,0,0,0,0,0,0,0,0,0,0,0]
[null,"",null,null,{"$f":"IF(D61=\"\",0,SUMIF($T$7:T164,D61,$H$7:H164))","v":0},null,{"$f":"IF(F61=\"\",0,SUMIF($U$7:U164,F61,$H$7:H164))","v":0},null,null,null,null,null,null,null,null,null,"","",0,0,0,0,null,"",3,"",null,null,0,0,0,0,0,0,0,0,0,0,0,0,0,0,0,0]
[null,"",null,null,{"$f":"IF(D62=\"\",0,SUMIF($T$7:T165,D62,$H$7:H165))","v":0},null,{"$f":"IF(F62=\"\",0,SUMIF($U$7:U165,F62,$H$7:H165))","v":0},null,null,null,null,null,null,null,null,null,"","",0,0,0,0,null,"",3,"",null,null,0,0,0,0,0,0,0,0,0,0,0,0,0,0,0,0]
[null,"",null,null,{"$f":"IF(D63=\"\",0,SUMIF($T$7:T166,D63,$H$7:H166))","v":0},null,{"$f":"IF(F63=\"\",0,SUMIF($U$7:U166,F63,$H$7:H166))","v":0},null,null,null,null,null,null,null,null,null,"","",0,0,0,0,null,"",3,"",null,null,0,0,0,0,0,0,0,0,0,0,0,0,0,0,0,0]
[null,"",null,null,{"$f":"IF(D64=\"\",0,SUMIF($T$7:T167,D64,$H$7:H167))","v":0},null,{"$f":"IF(F64=\"\",0,SUMIF($U$7:U167,F64,$H$7:H167))","v":0},null,null,null,null,null,null,null,null,null,"","",0,0,0,0,null,"",3,"",null,null,0,0,0,0,0,0,0,0,0,0,0,0,0,0,0,0]
[null,"",null,null,{"$f":"IF(D65=\"\",0,SUMIF($T$7:T168,D65,$H$7:H168))","v":0},null,{"$f":"IF(F65=\"\",0,SUMIF($U$7:U168,F65,$H$7:H168))","v":0},null,null,null,null,null,null,null,null,null,"","",0,0,0,0,null,"",3,"",null,null,0,0,0,0,0,0,0,0,0,0,0,0,0,0,0,0]
[null,"",null,null,{"$f":"IF(D66=\"\",0,SUMIF($T$7:T169,D66,$H$7:H169))","v":0},null,{"$f":"IF(F66=\"\",0,SUMIF($U$7:U169,F66,$H$7:H169))","v":0},null,null,null,null,null,null,null,null,null,"","",0,0,0,0,null,"",3,"",null,null,0,0,0,0,0,0,0,0,0,0,0,0,0,0,0,0]
[null,"",null,null,{"$f":"IF(D67=\"\",0,SUMIF($T$7:T170,D67,$H$7:H170))","v":0},null,{"$f":"IF(F67=\"\",0,SUMIF($U$7:U170,F67,$H$7:H170))","v":0},null,null,null,null,null,null,null,null,null,"","",0,0,0,0,null,"",3,"",null,null,0,0,0,0,0,0,0,0,0,0,0,0,0,0,0,0]
[null,"",null,null,{"$f":"IF(D68=\"\",0,SUMIF($T$7:T171,D68,$H$7:H171))","v":0},null,{"$f":"IF(F68=\"\",0,SUMIF($U$7:U171,F68,$H$7:H171))","v":0},null,null,null,null,null,null,null,null,null,"","",0,0,0,0,null,"",3,"",null,null,0,0,0,0,0,0,0,0,0,0,0,0,0,0,0,0]
[null,"",null,null,{"$f":"IF(D69=\"\",0,SUMIF($T$7:T172,D69,$H$7:H172))","v":0},null,{"$f":"IF(F69=\"\",0,SUMIF($U$7:U172,F69,$H$7:H172))","v":0},null,null,null,null,null,null,null,null,null,"","",0,0,0,0,null,"",3,"",null,null,0,0,0,0,0,0,0,0,0,0,0,0,0,0,0,0]
[null,"",null,null,{"$f":"IF(D70=\"\",0,SUMIF($T$7:T173,D70,$H$7:H173))","v":0},null,{"$f":"IF(F70=\"\",0,SUMIF($U$7:U173,F70,$H$7:H173))","v":0},null,null,null,null,null,null,null,null,null,"","",0,0,0,0,null,"",3,"",null,null,0,0,0,0,0,0,0,0,0,0,0,0,0,0,0,0]
[null,"",null,null,{"$f":"IF(D71=\"\",0,SUMIF($T$7:T174,D71,$H$7:H174))","v":0},null,{"$f":"IF(F71=\"\",0,SUMIF($U$7:U174,F71,$H$7:H174))","v":0},null,null,null,null,null,null,null,null,null,"","",0,0,0,0,null,"",3,"",null,null,0,0,0,0,0,0,0,0,0,0,0,0,0,0,0,0]
[null,"",null,null,{"$f":"IF(D72=\"\",0,SUMIF($T$7:T175,D72,$H$7:H175))","v":0},null,{"$f":"IF(F72=\"\",0,SUMIF($U$7:U175,F72,$H$7:H175))","v":0},null,null,null,null,null,null,null,null,null,"","",0,0,0,{"$f":"COUNTIF($F$7:$F$110,F72)","v":0},null,"",{"$f":"COUNTA(B72:H72)","v":3},{"$f":"IF(LEN(X72&U72)>11,\"\",(X72))","v":""},null,null,{"$f":"IF($X72=$AC$4,$D72,0)","v":0},{"$f":"IF($X72=$AD$4,$D72,0)","v":0},{"$f":"IF($X72=$AE$4,$D72,0)","v":0},{"$f":"IF($X72=$AF$4,$D72,0)","v":0},{"$f":"IF($X72=$AG$4,$D72,0)","v":0},{"$f":"IF($X72=$AH$4,$D72,0)","v":0},{"$f":"IF($X72=$AI$4,$D72,0)","v":0},{"$f":"IF($X72=$AJ$4,$D72,0)","v":0},{"$f":"IF($X72=$AK$4,$D72,0)","v":0},{"$f":"IF($X72=$AL$4,$D72,0)","v":0},{"$f":"IF($X72=$AM$4,$D72,0)","v":0},{"$f":"IF($X72=$AN$4,$D72,0)","v":0},{"$f":"IF($X72=$AQ$4,$D72,0)","v":0},{"$f":"IF($X72=$AP$4,$D72,0)","v":0},{"$f":"IF(G72<=0.5,F72,\" \")","v":0},{"$f":"COUNTIF($D$7:$D$110,D72)","v":0}]
[null,"",null,null,{"$f":"IF(D73=\"\",0,SUMIF($T$7:T176,D73,$H$7:H176))","v":0},null,{"$f":"IF(F73=\"\",0,SUMIF($U$7:U176,F73,$H$7:H176))","v":0},null,null,null,null,null,null,null,null,null,"","",0,0,0,0,null,{"$f":"IF(V73>0,LEFT(S73,6),\"\")","v":""},3,"",null,null,0,0,0,0,0,0,0,0,0,0,0,0,0,0,0,0]
[null,"",null,null,{"$f":"IF(D74=\"\",0,SUMIF($T$7:T177,D74,$H$7:H177))","v":0},null,{"$f":"IF(F74=\"\",0,SUMIF($U$7:U177,F74,$H$7:H177))","v":0},null,null,null,null,null,null,null,null,null,"","",0,0,0,0,null,"",3,"",null,null,0,0,0,0,0,0,0,0,0,0,0,0,0,0,0,0]
[null,"",null,null,{"$f":"IF(D75=\"\",0,SUMIF($T$7:T178,D75,$H$7:H178))","v":0},null,{"$f":"IF(F75=\"\",0,SUMIF($U$7:U178,F75,$H$7:H178))","v":0},null,null,null,null,null,null,null,null,null,"","",0,0,0,0,null,"",3,"",null,null,0,0,0,0,0,0,0,0,0,0,0,0,0,0,0,0]
[null,"",null,null,{"$f":"IF(D76=\"\",0,SUMIF($T$7:T179,D76,$H$7:H179))","v":0},null,{"$f":"IF(F76=\"\",0,SUMIF($U$7:U179,F76,$H$7:H179))","v":0},null,null,null,null,null,null,null,null,null,"","",0,0,0,0,null,"",3,"",null,null,0,0,0,0,0,0,0,0,0,0,0,0,0,0,0,0]
[null,"",null,null,{"$f":"IF(D77=\"\",0,SUMIF($T$7:T180,D77,$H$7:H180))","v":0},null,{"$f":"IF(F77=\"\",0,SUMIF($U$7:U180,F77,$H$7:H180))","v":0},null,null,null,null,null,null,null,null,null,"","",0,0,0,0,null,"",3,"",null,null,0,0,0,0,0,0,0,0,0,0,0,0,0,0,0,0]
[null,"",null,null,{"$f":"IF(D78=\"\",0,SUMIF($T$7:T181,D78,$H$7:H181))","v":0},null,{"$f":"IF(F78=\"\",0,SUMIF($U$7:U181,F78,$H$7:H181))","v":0},null,null,null,null,null,null,null,null,null,"","",0,0,0,0,null,"",3,"",null,null,0,0,0,0,0,0,0,0,0,0,0,0,0,0,0,0]
[null,"",null,null,{"$f":"IF(D79=\"\",0,SUMIF($T$7:T182,D79,$H$7:H182))","v":0},null,{"$f":"IF(F79=\"\",0,SUMIF($U$7:U182,F79,$H$7:H182))","v":0},null,null,null,null,null,null,null,null,null,"","",0,0,0,0,null,"",3,"",null,null,0,0,0,0,0,0,0,0,0,0,0,0,0,0,0,0]
[null,"",null,null,{"$f":"IF(D80=\"\",0,SUMIF($T$7:T183,D80,$H$7:H183))","v":0},null,{"$f":"IF(F80=\"\",0,SUMIF($U$7:U183,F80,$H$7:H183))","v":0},null,null,null,null,null,null,null,null,null,"","",0,0,0,0,null,"",3,"",null,null,0,0,0,0,0,0,0,0,0,0,0,0,0,0,0,0]
[null,"",null,null,{"$f":"IF(D81=\"\",0,SUMIF($T$7:T184,D81,$H$7:H184))","v":0},null,{"$f":"IF(F81=\"\",0,SUMIF($U$7:U184,F81,$H$7:H184))","v":0},null,null,null,null,null,null,null,null,null,"","",0,0,0,0,null,"",3,"",null,null,0,0,0,0,0,0,0,0,0,0,0,0,0,0,0,0]
[null,"",null,null,{"$f":"IF(D82=\"\",0,SUMIF($T$7:T185,D82,$H$7:H185))","v":0},null,{"$f":"IF(F82=\"\",0,SUMIF($U$7:U185,F82,$H$7:H185))","v":0},null,null,null,null,null,null,null,null,null,"","",0,0,0,0,null,"",3,"",null,null,0,0,0,0,0,0,0,0,0,0,0,0,0,0,0,0]
[null,"",null,null,{"$f":"IF(D83=\"\",0,SUMIF($T$7:T186,D83,$H$7:H186))","v":0},null,{"$f":"IF(F83=\"\",0,SUMIF($U$7:U186,F83,$H$7:H186))","v":0},null,null,null,null,null,null,null,null,null,"","",0,0,0,0,null,"",3,"",null,null,0,0,0,0,0,0,0,0,0,0,0,0,0,0,0,0]
[null,"",null,null,{"$f":"IF(D84=\"\",0,SUMIF($T$7:T187,D84,$H$7:H187))","v":0},null,{"$f":"IF(F84=\"\",0,SUMIF($U$7:U187,F84,$H$7:H187))","v":0},null,null,null,null,null,null,null,null,null,"","",0,0,0,0,null,"",3,"",null,null,0,0,0,0,0,0,0,0,0,0,0,0,0,0,0,0]
[null,"",null,null,{"$f":"IF(D85=\"\",0,SUMIF($T$7:T188,D85,$H$7:H188))","v":0},null,{"$f":"IF(F85=\"\",0,SUMIF($U$7:U188,F85,$H$7:H188))","v":0},null,null,null,null,null,null,null,null,null,"","",0,0,0,0,null,"",3,"",null,null,0,0,0,0,0,0,0,0,0,0,0,0,0,0,0,0]
[null,"",null,null,{"$f":"IF(D86=\"\",0,SUMIF($T$7:T189,D86,$H$7:H189))","v":0},null,{"$f":"IF(F86=\"\",0,SUMIF($U$7:U189,F86,$H$7:H189))","v":0},null,null,null,null,null,null,null,null,null,"","",0,0,0,0,null,"",3,"",null,null,0,0,0,0,0,0,0,0,0,0,0,0,0,0,0,0]
[null,"",null,null,{"$f":"IF(D87=\"\",0,SUMIF($T$7:T190,D87,$H$7:H190))","v":0},null,{"$f":"IF(F87=\"\",0,SUMIF($U$7:U190,F87,$H$7:H190))","v":0},null,null,null,null,null,null,null,null,null,"","",0,0,0,0,null,"",3,"",null,null,0,0,0,0,0,0,0,0,0,0,0,0,0,0,0,0]
[null,"",null,null,{"$f":"IF(D88=\"\",0,SUMIF($T$7:T191,D88,$H$7:H191))","v":0},null,{"$f":"IF(F88=\"\",0,SUMIF($U$7:U191,F88,$H$7:H191))","v":0},null,null,null,null,null,null,null,null,null,"","",0,0,0,0,null,"",3,"",null,null,0,0,0,0,0,0,0,0,0,0,0,0,0,0,0,0]
[null,"",null,null,{"$f":"IF(D89=\"\",0,SUMIF($T$7:T192,D89,$H$7:H192))","v":0},null,{"$f":"IF(F89=\"\",0,SUMIF($U$7:U192,F89,$H$7:H192))","v":0},null,null,null,null,null,null,null,null,null,"","",0,0,0,0,null,"",3,"",null,null,0,0,0,0,0,0,0,0,0,0,0,0,0,0,0,0]
[null,"",null,null,{"$f":"IF(D90=\"\",0,SUMIF($T$7:T193,D90,$H$7:H193))","v":0},null,{"$f":"IF(F90=\"\",0,SUMIF($U$7:U193,F90,$H$7:H193))","v":0},null,null,null,null,null,null,null,null,null,"","",0,0,0,0,null,"",3,"",null,null,0,0,0,0,0,0,0,0,0,0,0,0,0,0,0,0]
[null,"",null,null,{"$f":"IF(D91=\"\",0,SUMIF($T$7:T194,D91,$H$7:H194))","v":0},null,{"$f":"IF(F91=\"\",0,SUMIF($U$7:U194,F91,$H$7:H194))","v":0},null,null,null,null,null,null,null,null,null,"","",0,0,0,0,null,"",3,"",null,null,0,0,0,0,0,0,0,0,0,0,0,0,0,0,0,0]
[null,"",null,null,{"$f":"IF(D92=\"\",0,SUMIF($T$7:T195,D92,$H$7:H195))","v":0},null,{"$f":"IF(F92=\"\",0,SUMIF($U$7:U195,F92,$H$7:H195))","v":0},null,null,null,null,null,null,null,null,null,"","",0,0,0,0,null,"",3,"",null,null,0,0,0,0,0,0,0,0,0,0,0,0,0,0,0,0]
[null,{"$f":"IF(R93=R92,\"\",R93)","v":""},null,null,{"$f":"IF(D93=\"\",0,SUMIF($T$7:T196,D93,$H$7:H196))","v":0},null,{"$f":"IF(F93=\"\",0,SUMIF($U$7:U196,F93,$H$7:H196))","v":0},null,null,null,null,null,null,null,null,null,{"$f":"LEFT(C93,2)","v":""},{"$f":"IF(Q93=\"\",R92,Q93)","v":""},{"$f":"IF(C93=\"\",S92,C93)","v":0},{"$f":"IF(D93=\"\",T92,D93)","v":0},{"$f":"IF(F93=\"\",U92,F93)","v":0},0,null,"",3,"",null,null,0,0,0,0,0,0,0,0,0,0,0,0,0,0,0,0]
[null,"",null,null,{"$f":"IF(D94=\"\",0,SUMIF($T$7:T197,D94,$H$7:H197))","v":0},null,{"$f":"IF(F94=\"\",0,SUMIF($U$7:U197,F94,$H$7:H197))","v":0},null,null,null,null,null,null,null,null,null,"","",0,0,0,0,null,"",3,"",null,null,0,0,0,0,0,0,0,0,0,0,0,0,0,0,0,0]
[null,"",null,null,{"$f":"IF(D95=\"\",0,SUMIF($T$7:T198,D95,$H$7:H198))","v":0},null,{"$f":"IF(F95=\"\",0,SUMIF($U$7:U198,F95,$H$7:H198))","v":0},null,null,null,null,null,null,null,null,null,"","",0,0,0,0,null,"",3,"",null,null,0,0,0,0,0,0,0,0,0,0,0,0,0,0,0,0]
[null,"",null,null,{"$f":"IF(D96=\"\",0,SUMIF($T$7:T199,D96,$H$7:H199))","v":0},null,{"$f":"IF(F96=\"\",0,SUMIF($U$7:U199,F96,$H$7:H199))","v":0},null,null,null,null,null,null,null,null,null,"","",0,0,0,0,null,"",3,"",null,null,0,0,0,0,0,0,0,0,0,0,0,0,0,0,0,0]
[null,"",null,null,{"$f":"IF(D97=\"\",0,SUMIF($T$7:T200,D97,$H$7:H200))","v":0},null,{"$f":"IF(F97=\"\",0,SUMIF($U$7:U200,F97,$H$7:H200))","v":0},null,null,null,null,null,null,null,null,null,"","",0,0,0,0,null,"",3,"",null,null,0,0,0,0,0,0,0,0,0,0,0,0,0,0,0,0]
[null,"",null,null,{"$f":"IF(D98=\"\",0,SUMIF($T$7:T201,D98,$H$7:H201))","v":0},null,{"$f":"IF(F98=\"\",0,SUMIF($U$7:U201,F98,$H$7:H201))","v":0},null,null,null,null,null,null,null,null,null,"","",0,0,0,0,null,"",3,"",null,null,0,0,0,0,0,0,0,0,0,0,0,0,0,0,0,0]
[null,"",null,null,{"$f":"IF(D99=\"\",0,SUMIF($T$7:T202,D99,$H$7:H202))","v":0},null,{"$f":"IF(F99=\"\",0,SUMIF($U$7:U202,F99,$H$7:H202))","v":0},null,null,null,null,null,null,null,null,null,"","",0,0,0,0,null,"",3,"",null,null,0,0,0,0,0,0,0,0,0,0,0,0,0,0,0,0]
[null,"",null,null,{"$f":"IF(D100=\"\",0,SUMIF($T$7:T203,D100,$H$7:H203))","v":0},null,{"$f":"IF(F100=\"\",0,SUMIF($U$7:U203,F100,$H$7:H203))","v":0},null,null,null,null,null,null,null,null,null,"","",0,0,0,0,null,"",3,"",null,null,0,0,0,0,0,0,0,0,0,0,0,0,0,0,0,0]
[null,"",null,null,{"$f":"IF(D101=\"\",0,SUMIF($T$7:T204,D101,$H$7:H204))","v":0},null,{"$f":"IF(F101=\"\",0,SUMIF($U$7:U204,F101,$H$7:H204))","v":0},null,null,null,null,null,null,null,null,null,"","",0,0,0,0,null,"",3,"",null,null,0,0,0,0,0,0,0,0,0,0,0,0,0,0,0,0]
[null,"",null,null,{"$f":"IF(D102=\"\",0,SUMIF($T$7:T205,D102,$H$7:H205))","v":0},null,{"$f":"IF(F102=\"\",0,SUMIF($U$7:U205,F102,$H$7:H205))","v":0},null,null,null,null,null,null,null,null,null,"","",0,0,0,0,null,"",3,"",null,null,0,0,0,0,0,0,0,0,0,0,0,0,0,0,0,0]
[null,"",null,null,{"$f":"IF(D103=\"\",0,SUMIF($T$7:T206,D103,$H$7:H206))","v":0},null,{"$f":"IF(F103=\"\",0,SUMIF($U$7:U206,F103,$H$7:H206))","v":0},null,null,null,null,null,null,null,null,null,"","",0,0,0,0,null,"",3,"",null,null,0,0,0,0,0,0,0,0,0,0,0,0,0,0,0,0]
[null,"",null,null,{"$f":"IF(D104=\"\",0,SUMIF($T$7:T207,D104,$H$7:H207))","v":0},null,{"$f":"IF(F104=\"\",0,SUMIF($U$7:U207,F104,$H$7:H207))","v":0},null,null,null,null,null,null,null,null,null,"","",0,0,0,0,null,"",3,"",null,null,0,0,0,0,0,0,0,0,0,0,0,0,0,0,0,0]
[null,"",null,null,{"$f":"IF(D105=\"\",0,SUMIF($T$7:T208,D105,$H$7:H208))","v":0},null,{"$f":"IF(F105=\"\",0,SUMIF($U$7:U208,F105,$H$7:H208))","v":0},null,null,null,null,null,null,null,null,null,"","",0,0,0,0,null,"",3,"",null,null,0,0,0,0,0,0,0,0,0,0,0,0,0,0,0,0]
[null,"",null,null,{"$f":"IF(D106=\"\",0,SUMIF($T$7:T209,D106,$H$7:H209))","v":0},null,{"$f":"IF(F106=\"\",0,SUMIF($U$7:U209,F106,$H$7:H209))","v":0},null,null,null,null,null,null,null,null,null,"","",0,0,0,0,null,"",3,"",null,null,0,0,0,0,0,0,0,0,0,0,0,0,0,0,0,0]
[null,"",null,null,{"$f":"IF(D107=\"\",0,SUMIF($T$7:T210,D107,$H$7:H210))","v":0},null,{"$f":"IF(F107=\"\",0,SUMIF($U$7:U210,F107,$H$7:H210))","v":0},null,null,null,null,null,null,null,null,null,"","",0,0,0,0,null,"",3,"",null,null,0,0,0,0,0,0,0,0,0,0,0,0,0,0,0,0]
[null,"",null,null,{"$f":"IF(D108=\"\",0,SUMIF($T$7:T211,D108,$H$7:H211))","v":0},null,{"$f":"IF(F108=\"\",0,SUMIF($U$7:U211,F108,$H$7:H211))","v":0},null,null,null,null,null,null,null,null,null,"","",0,0,0,0,null,"",3,"",null,null,0,0,0,0,0,0,0,0,0,0,0,0,0,0,0,0]
[null,"",null,null,{"$f":"IF(D109=\"\",0,SUMIF($T$7:T212,D109,$H$7:H212))","v":0},null,{"$f":"IF(F109=\"\",0,SUMIF($U$7:U212,F109,$H$7:H212))","v":0},null,null,null,null,null,null,null,null,null,"","",0,0,0,0,null,"",3,"",null,null,0,0,0,0,0,0,0,0,0,0,0,0,0,0,0,0]
[null,"",null,null,{"$f":"IF(D110=\"\",0,SUMIF($T$7:T213,D110,$H$7:H213))","v":0},null,{"$f":"IF(F110=\"\",0,SUMIF($U$7:U213,F110,$H$7:H213))","v":0},null,null,null,null,null,null,null,null,null,"","",0,0,0,0,null,"",3,"",null,null,0,0,0,0,0,0,0,0,0,0,0,0,0,0,0,0]
[null,null,{"$f":"\"Suma dla wariantu \" &X111","v":"Suma dla wariantu 4.1.  "},"X",{"$f":"SUMIF($X$7:$X$110,X111,$E$7:$E$110)","v":0},"X",{"$f":"H111","v":0},{"$f":"SUMIF($Z$7:$Z$110,X111,$G$7:$G$110)","v":0},null,null,null,null,null,null,null,null,null,null,null,null,null,null,null,"4.1.  ",{"$f":"IF(E111=0,3,COUNTA(B111:H111))","v":3},null,null,null,"X",0,0,0,0,0,0,0,0,0,0,0,0,0,"X",0]
[null,null,{"$f":"\"Suma dla wariantu \" &X112","v":"Suma dla wariantu 4.2.  "},"X",{"$f":"SUMIF($X$7:$X$110,X112,$E$7:$E$110)","v":0},"X",{"$f":"H112","v":0},{"$f":"SUMIF($Z$7:$Z$110,X112,$G$7:$G$110)","v":0},null,null,null,null,null,null,null,null,null,null,null,null,null,null,null,"4.2.  ",{"$f":"IF(E112=0,3,COUNTA(B112:H112))","v":3},null,null,null,0,0,"X",0,{"$f":"IF($X112=$AG$4,$D112,0)","v":0},0,0,0,0,0,0,0,0,0,"X",0]
[null,null,"Suma dla wariantu 4.3.  ","X",{"$f":"SUMIF($X$7:$X$110,X113,$E$7:$E$110)","v":0},"X",0,0,null,null,null,null,null,null,null,null,null,null,null,null,null,null,null,"4.3.  ",3,null,null,null,0,0,0,0,"X",0,0,0,0,0,0,0,0,0,null,0]
[null,null,"Suma dla wariantu 4.4.  ","X",0,"X",0,0,null,null,null,null,null,null,null,null,null,null,null,null,null,null,null,"4.4.  ",3]
[null,null,"Suma dla wariantu 4.5.  ","X",0,"X",0,0,null,null,null,null,null,null,null,null,null,null,null,null,null,null,null,"4.5.  ",3]
[null,null,"Suma dla wariantu 4.6.1.","X",0,"X",0,0,null,null,null,null,null,null,null,null,null,null,null,null,null,null,null,"4.6.1.",3]
[null,null,"Suma dla wariantu 4.6.2.","X",0,"X",0,0,null,null,null,null,null,null,null,null,null,null,null,null,null,null,null,"4.6.2.",3]
[null,null,"Suma dla wariantu 4.7.  ","X",0,"X",0,0,null,null,null,null,null,null,null,null,null,null,null,null,null,null,null,"4.7.  ",3]
[null,"Suma dla wariantów w pakiecie 4.",null,"X",{"$f":"SUM(E111:E118)","v":0},"X",{"$f":"SUM(G111:G118)","v":0},{"$f":"SUM(H111:H118)","v":0},null,null,null,null,null,null,null,null,null,null,null,null,null,null,null,null,3]
[null,null,{"$f":"\"Suma dla wariantu \" &X120","v":"Suma dla wariantu 5.1.  "},"X",{"$f":"SUMIF($X$7:$X$110,X120,$E$7:$E$110)","v":0},"X",0,{"$f":"SUMIF($Z$7:$Z$110,X120,$H$7:$H$110)","v":0},null,null,null,null,null,null,null,null,null,null,null,null,null,null,null,"5.1.  ",{"$f":"IF(H120=0,3,COUNTA(B120:H120))","v":3}]
[null,null,{"$f":"\"Suma dla wariantu \" &X121","v":"Suma dla wariantu 5.2.  "},"X",{"$f":"SUMIF($X$7:$X$110,X121,$E$7:$E$110)","v":0},"X",0,{"$f":"SUMIF($Z$7:$Z$110,X121,$H$7:$H$110)","v":0},null,null,null,null,null,null,null,null,null,null,null,null,null,null,null,"5.2.  ",3]
[null,null,"Suma dla wariantu 5.3.  ","X",0,"X",0,0,null,null,null,null,null,null,null,null,null,null,null,null,null,null,null,"5.3.  ",3]
[null,null,"Suma dla wariantu 5.4.  ","X",0,"X",0,0,null,null,null,null,null,null,null,null,null,null,null,null,null,null,null,"5.4.  ",3]
[null,null,"Suma dla wariantu 5.5.  ","X",0,"X",0,0,null,null,null,null,null,null,null,null,null,null,null,null,null,null,null,"5.5.  ",3]
[null,null,"Suma dla wariantu 5.6.1.","X",0,"X",0,0,null,null,null,null,null,null,null,null,null,null,null,null,null,null,null,"5.6.1.",3]
[null,null,"Suma dla wariantu 5.6.2.","X",0,"X",0,0,null,null,null,null,null,null,null,null,null,null,null,null,null,null,null,"5.6.2.",3]
[null,"Suma dla wariantów w pakiecie 5.",null,"X",{"$f":"SUM(E120:E126)","v":0},"X",{"$f":"SUM(G120:G126)","v":0},0,null,null,null,null,null,null,null,null,null,null,null,null,null,null,null,null,3]

{"sheet":"S_Karta opisu działki RSS(0)","index":6,"n_rows":91,"n_cols":33,"rows_kept":91,"cut":false,"hidden":true,"merged":[[88,6,88,8],[89,6,89,8],[90,6,90,8],[81,1,81,7],[82,1,82,2],[82,3,82,4],[83,1,83,8],[86,1,87,5],[86,6,86,8],[87,6,87,8],[79,1,79,3],[79,4,79,6],[79,7,79,8],[80,1,80,3],[80,4,80,6],[80,7,80,8],[77,1,77,3],[77,4,77,6],[77,7,77,8],[78,1,78,3],[78,4,78,6],[78,7,78,8],[73,1,73,7],[74,1,74,8],[75,1,75,3],[75,4,75,6],[75,7,75,8],[76,1,76,3],[76,4,76,6],[76,7,76,8],[71,1,71,3],[71,4,71,6],[71,7,71,8],[72,1,72,3],[72,4,72,6],[72,7,72,8],[69,1,69,3],[69,4,69,6],[69,7,69,8],[70,1,70,3],[70,4,70,6],[70,7,70,8],[67,1,67,3],[67,4,67,6],[67,7,67,8],[68,1,68,3],[68,4,68,6],[68,7,68,8],[63,1,63,7],[64,1,64,8],[65,1,65,3],[65,4,65,6],[65,7,65,8],[66,1,66,3],[66,4,66,6],[66,7,66,8],[53,1,53,8],[54,1,54,2],[54,3,55,3],[54,4,55,4],[54,5,54,6],[54,7,55,7],[54,8,55,8],[51,1,51,3],[51,4,51,6],[51,7,51,8],[52,1,52,3],[52,4,52,6],[52,7,52,8],[49,1,49,3],[49,4,49,6],[49,7,49,8],[50,1,50,3],[50,4,50,6],[50,7,50,8],[47,1,47,3],[47,4,47,6],[47,7,47,8],[48,1,48,3],[48,4,48,6],[48,7,48,8],[44,1,44,8],[45,1,45,3],[45,4,45,6],[45,7,45,8],[46,1,46,3],[46,4,46,6],[46,7,46,8],[30,1,36,2],[30,3,36,3],[30,7,36,8],[37,1,43,2],[37,3,43,3],[37,7,43,8],[21,1,22,2],[21,4,22,4],[21,5,22,5],[21,6,22,6],[21,7,22,8],[23,1,29,2],[23,3,29,3],[23,7,29,8],[16,1,16,3],[16,4,16,8],[17,1,17,3],[17,4,17,8],[18,1,18,8],[20,1,20,8],[13,1,13,3],[13,4,13,8],[14,1,14,3],[14,4,14,8],[15,1,15,3],[15,4,15,8],[10,1,10,3],[10,4,10,6],[10,7,10,8],[11,1,11,3],[11,4,11,8],[12,1,12,3],[12,4,12,8],[8,1,8,3],[8,4,8,6],[8,7,8,8],[9,1,9,3],[9,4,9,6],[9,7,9,8],[6,1,6,3],[6,4,6,6],[6,7,6,8],[7,1,7,3],[7,4,7,6],[7,7,7,8],[2,1,2,7],[3,1,3,7],[4,1,4,3],[4,4,4,6],[4,7,4,8],[5,1,5,3],[5,4,5,6],[5,7,5,8]]}
[null,null,null,null,null,null,null,null,"Powrót",null,null,null,1,null,"←"]
[null,null,null,null,null,null,null,null,null,null,null,null,1]
[null,"Karta opisu działki RSS numer:",null,null,null,null,null,null,null,null,null,null,1,null,null,"lista rss","Nazwa arkusza"]
[null,"Położenie działki RSS na obszarze chronionym:",null,null,null,null,null,null,null,null,null,null,1,null,null,{"$f":"'S_Zestawienie dzialek'!W4+1","v":1},{"$f":"\"S_Karta opisu działki \"&I3","v":"S_Karta opisu działki "}]
[null,"Obszar Natura 2000 (zatwierdzony)",null,null,"Park narodowy",null,null,"Rezerwat",null,null,null,null,{"$f":"SUM(M6:M11)","v":0}]
[null,null,null,null,null,null,null,null,null,null,null,null,{"$f":"COUNTA(B6:I6)","v":0},null,null,{"$f":"'S_Zestawienie dzialek'!W7","v":0}]
[null,null,null,null,null,null,null,null,null,null,null,null,{"$f":"COUNTA(B7:I7)","v":0},null,null,{"$f":"'S_Zestawienie dzialek'!W8","v":0}]
[null,null,null,null,null,null,null,null,null,null,null,null,0,null,null,{"$f":"'S_Zestawienie dzialek'!W9","v":0}]
[null,null,null,null,null,null,null,null,null,null,null,null,0,null,null,{"$f":"'S_Zestawienie dzialek'!W10","v":0}]
[null,null,null,null,null,null,null,null,null,null,null,null,0,null,null,{"$f":"'S_Zestawienie dzialek'!W11","v":0}]
[null,null,null,null,null,null,null,null,null,null,null,null,0,null,null,{"$f":"'S_Zestawienie dzialek'!W12","v":0}]
[null,"Park krajobrazowy",null,null,"Pozostałe formy ochrony przyrody (zatwierdzone)",null,null,null,null,null,null,null,{"$f":"SUM(M13:M18)","v":0},null,null,{"$f":"'S_Zestawienie dzialek'!W13","v":0}]
[null,null,null,null,null,null,null,null,null,null,null,null,0,null,null,{"$f":"'S_Zestawienie dzialek'!W14","v":0}]
[null,null,null,null,null,null,null,null,null,null,null,null,0,null,null,{"$f":"'S_Zestawienie dzialek'!W15","v":0}]
[null,null,null,null,null,null,null,null,null,null,null,null,0,null,null,{"$f":"'S_Zestawienie dzialek'!W16","v":0}]
[null,null,null,null,null,null,null,null,null,null,null,null,0,null,null,{"$f":"'S_Zestawienie dzialek'!W17","v":0}]
[null,null,null,null,null,null,null,null,null,null,null,null,0,null,null,{"$f":"'S_Zestawienie dzialek'!W18","v":0}]
[{"$f":"IF($I$4=\"nie\",\"←kliknij -\",\"\")","v":""},null,null,null,null,null,null,null,null,null,null,null,0,null,null,{"$f":"'S_Zestawienie dzialek'!W19","v":0}]
[null,"Data przeprowadzenia badań w terenie\n",null,null,null,null,null,null,null,null,null,null,1,null,null,{"$f":"'S_Zestawienie dzialek'!W20","v":0}]
[null,1,null,2,null,3,null,4,null,null,null,null,4,null,null,{"$f":"'S_Zestawienie dzialek'!W21","v":0}]
[null,"Diagnoza roślinności i siedliska przyrodniczego",null,null,null,null,null,null,null,null,null,null,1,null,null,{"$f":"'S_Zestawienie dzialek'!W22","v":0}]
[null,null,null,"Udział w pow. RSS [%]","Jednostka fitosocjologiczna","Nawiązania do innych jedn. fitosocj. (jeśli dotyczy)","Siedlisko przyrodnicze Natura 2000 \n(jeśli dotyczy)\n","Opis roślinności uwzględniający jej zróżnicowanie \ni położenie na działce \n",null,null,null,null,5,null,null,{"$f":"'S_Zestawienie dzialek'!W23","v":0}]
[null,null,null,{"$f":"IF(AND(SUM(D24:D44)<>100, SUM(D24:D44)>0),\"Suma różna od 100%\",\"\")","v":""},null,null,null,null,null,null,null,null,1,null,null,{"$f":"'S_Zestawienie dzialek'!W24","v":0}]
[null,"Siedlisko kwalifikujące do wariantu  ",null,null,null,null,null,null,null,null,null,null,1,null,null,{"$f":"'S_Zestawienie dzialek'!W25","v":0}]
[null,null,null,null,null,null,null,null,null,null,null,null,{"$f":"COUNTA(E25:G25)","v":0},null,null,{"$f":"'S_Zestawienie dzialek'!W26","v":0}]
[null,null,null,null,null,null,null,null,null,null,null,null,0,null,null,{"$f":"'S_Zestawienie dzialek'!W27","v":0}]
[null,null,null,null,null,null,null,null,null,null,null,null,0,null,null,{"$f":"'S_Zestawienie dzialek'!W28","v":0}]
[null,null,null,null,null,null,null,null,null,null,null,null,0,null,null,{"$f":"'S_Zestawienie dzialek'!W29","v":0}]
[null,null,null,null,null,null,null,null,null,null,null,null,0,null,null,{"$f":"'S_Zestawienie dzialek'!W30","v":0}]
[null,null,null,null,null,null,null,null,null,null,null,null,1,null,null,{"$f":"'S_Zestawienie dzialek'!W31","v":0}]
[null,"Siedliska kwalifikujące do innych wariantów siedliskowych",null,null,null,null,null,null,null,null,null,null,1,null,null,{"$f":"'S_Zestawienie dzialek'!W32","v":0}]
[null,null,null,null,null,null,null,null,null,null,null,null,0,null,null,{"$f":"'S_Zestawienie dzialek'!W33","v":0}]
[null,null,null,null,null,null,null,null,null,null,null,null,0,null,null,{"$f":"'S_Zestawienie dzialek'!W34","v":0}]
[null,null,null,null,null,null,null,null,null,null,null,null,0,null,null,{"$f":"'S_Zestawienie dzialek'!W35","v":0}]
[null,null,null,null,null,null,null,null,null,null,null,null,0,null,null,{"$f":"'S_Zestawienie dzialek'!W36","v":0}]
[null,null,null,null,null,null,null,null,null,null,null,null,0,null,null,{"$f":"'S_Zestawienie dzialek'!W37","v":0}]
[null,null,null,null,null,null,null,null,null,null,null,null,1]
[null,"Niejednorodności \n",null,null,null,null,null,null,null,null,null,null,1]
[null,null,null,null,null,null,null,null,null,null,null,null,0]
[null,null,null,null,null,null,null,null,null,null,null,null,0]
[null,null,null,null,null,null,null,null,null,null,null,null,0]
[null,null,null,null,null,null,null,null,null,null,null,null,0]
[null,null,null,null,null,null,null,null,null,null,null,null,0]
[null,null,null,null,null,null,null,null,null,null,null,null,1]
[null,"Chronione i zagrożone gatunki roślin \n",null,null,null,null,null,null,null,null,null,null,{"$f":"COUNTA(B45:I45)","v":1}]
[null,"nazwa łacińska",null,null,"nazwa polska",null,null,"częstość występowania gatunku\n",null,null,null,null,3]
[null,null,null,null,null,null,null,null,null,null,null,null,{"$f":"COUNTA(B47:I47)","v":0},null,"Brak chronionych lub zagrożonych gatunków roślin"]
[null,null,null,null,null,null,null,null,null,null,null,null,{"$f":"COUNTA(B48:I48)","v":0}]
[null,null,null,null,null,null,null,null,null,null,null,null,0]
[null,null,null,null,null,null,null,null,null,null,null,null,0]
[null,null,null,null,null,null,null,null,null,null,null,null,0]
[null,null,null,null,null,null,null,null,null,null,null,null,0]
[null,null,null,null,null,null,null,null,null,null,null,null,0]
[null,"Niepożądane obce gatunki roślin ",null,null,null,null,null,null,null,null,null,null,1]
[null,"nazwa",null,"częstość występowania gatunku","dopuszczenie stosowania środków ochrony roślin","nazwa",null,"częstość występowania gatunku","dopuszczenie stosowania środków ochrony roślin",null,null,null,6]
[null,"polska","łacińska",null,null,"polska","łacińska",null,null,null,"poz_1","poz_2",4]
[null,null,{"$f":"OFFSET(listy_slownikowe!$AF$2,K57,0)","v":" "},null,null,null,{"$f":"OFFSET(listy_slownikowe!$AF$2,L57,0)","v":" "},null,null,null,{"$f":"IFERROR(MATCH(B57,listy_slownikowe!$AE$2:$AE$27,0)-1,0)","v":0},{"$f":"IFERROR(MATCH(F57,listy_slownikowe!$AE$2:$AE$27,0)-1,0)","v":0},{"$f":"COUNTA(B57:I57)-2","v":0}]
[null,null,{"$f":"OFFSET(listy_slownikowe!$AF$2,K58,0)","v":" "},null,null,null,{"$f":"OFFSET(listy_slownikowe!$AF$2,L58,0)","v":" "},null,null,null,{"$f":"IFERROR(MATCH(B58,listy_slownikowe!$AE$2:$AE$27,0)-1,0)","v":0},{"$f":"IFERROR(MATCH(F58,listy_slownikowe!$AE$2:$AE$27,0)-1,0)","v":0},{"$f":"COUNTA(B58:I58)-2","v":0}]
[null,null,{"$f":"OFFSET(listy_slownikowe!$AF$2,K59,0)","v":" "},null,null,null,{"$f":"OFFSET(listy_slownikowe!$AF$2,L59,0)","v":" "},null,null,null,{"$f":"IFERROR(MATCH(B59,listy_slownikowe!$AE$2:$AE$27,0)-1,0)","v":0},{"$f":"IFERROR(MATCH(F59,listy_slownikowe!$AE$2:$AE$27,0)-1,0)","v":0},0]
[null,null,{"$f":"OFFSET(listy_slownikowe!$AF$2,K60,0)","v":" "},null,null,null,{"$f":"OFFSET(listy_slownikowe!$AF$2,L60,0)","v":" "},null,null,null,{"$f":"IFERROR(MATCH(B60,listy_slownikowe!$AE$2:$AE$27,0)-1,0)","v":0},{"$f":"IFERROR(MATCH(F60,listy_slownikowe!$AE$2:$AE$27,0)-1,0)","v":0},0]
[null,null,{"$f":"OFFSET(listy_slownikowe!$AF$2,K61,0)","v":" "},null,null,null,{"$f":"OFFSET(listy_slownikowe!$AF$2,L61,0)","v":" "},null,null,null,{"$f":"IFERROR(MATCH(B61,listy_slownikowe!$AE$2:$AE$27,0)-1,0)","v":0},{"$f":"IFERROR(MATCH(F61,listy_slownikowe!$AE$2:$AE$27,0)-1,0)","v":0},0]
[null,null,{"$f":"OFFSET(listy_slownikowe!$AF$2,K62,0)","v":" "},null,null,null,{"$f":"OFFSET(listy_slownikowe!$AF$2,L62,0)","v":" "},null,null,null,{"$f":"IFERROR(MATCH(B62,listy_slownikowe!$AE$2:$AE$27,0)-1,0)","v":0},{"$f":"IFERROR(MATCH(F62,listy_slownikowe!$AE$2:$AE$27,0)-1,0)","v":0},0]
[null,null,{"$f":"OFFSET(listy_slownikowe!$AF$2,K63,0)","v":" "},null,null,null,{"$f":"OFFSET(listy_slownikowe!$AF$2,L63,0)","v":" "},null,null,null,{"$f":"IFERROR(MATCH(B63,listy_slownikowe!$AE$2:$AE$27,0)-1,0)","v":0},{"$f":"IFERROR(MATCH(F63,listy_slownikowe!$AE$2:$AE$27,0)-1,0)","v":0},0]
[null,"sumaryczne pokrycie powierzchni działki [%] "]
[null,"Niepożądane gatunki rodzime roślin zielnych",null,null,null,null,null,null,null,null,null,null,{"$f":"COUNTA(B65:I65)","v":1}]
[null,"nazwa łacińska",null,null,"nazwa polska",null,null,"częstość występowania gatunku\n",null,null,null,null,3]
[null,null,null,null,null,null,null,null,null,null,null,null,{"$f":"COUNTA(B67:I67)+1","v":1},null,"Brak"]
[null,null,null,null,null,null,null,null,null,null,null,null,{"$f":"COUNTA(B68:I68)","v":0}]
[null,null,null,null,null,null,null,null,null,null,null,null,0]
[null,null,null,null,null,null,null,null,null,null,null,null,0]
[null,null,null,null,null,null,null,null,null,null,null,null,0]
[null,null,null,null,null,null,null,null,null,null,null,null,0]
[null,null,null,null,null,null,null,null,null,null,null,null,0]
[null,"sumaryczne pokrycie powierzchni działki [%]",null,null,null,null,null,null,null,null,null,null,1]
[null,"Gatunki krzewów i podrostu drzew",null,null,null,null,null,null,null,null,null,null,1]
[null,"nazwa łacińska",null,null,"nazwa polska",null,null,"częstość występowania gatunku\n",null,null,null,null,3]
[null,null,null,null,null,null,null,null,null,null,null,null,{"$f":"COUNTA(B77:I77)+1","v":1}]
[null,null,null,null,null,null,null,null,null,null,null,null,{"$f":"COUNTA(B78:I78)","v":0}]
[null,null,null,null,null,null,null,null,null,null,null,null,0]
[null,null,null,null,null,null,null,null,null,null,null,null,0]
[null,null,null,null,null,null,null,null,null,null,null,null,0]
[null,"sumaryczne pokrycie powierzchni działki [%]",null,null,null,null,null,null,null,null,null,null,1]
[null,"Urządzenia wodne \n",null,null,null,"Położenie w terenie i ukształtowanie powierzchni",null,"Wysokość n.p.m. ",null,null,null,null,3]
[null,"Użytkowanie działki RSS w ciągu ostatnich 5 lat",null,null,null,null,null,null,null,null,null,null,1]
[null,"dominujący rodzaj użytkowania",null,"dominujący termin pierwszego koszenia",null,"nawożenie",null,"zwierzęta",null,null,null,null,4]
[null,"częstotliwość koszenia",null,"podsiew nasion",null,"rodzaj nawożenia",null,"obsada na 1 ha w terminie od 01-05 do 30-10",null,null,null,null,4]
[null,"Wariant lub warianty wdrażane w działanie rolnośrodowiskowym PROW 2014-2020 na powierzchni znajdującej się w granicach opisywanej działki RSS zgłaszanej do zobowiązania rolno-środowiskowo-klimatycznego w PROW 2014-2020",null,null,null,null,null,null,null,null,null,null,1,null,null,null,null,null,null,null,null,null,null,null,null,null,null,null,null,null,null,null,"OK"]
[null,null,null,null,null,null,null,null,null,null,null,null,1]
[null,null,null,null,null,null,null,null,null,null,null,null,{"$f":"COUNTA(G89)","v":0}]
[null,null,null,null,null,null,null,null,null,null,null,null,0]
[null,null,null,null,null,null,null,null,null,null,null,null,0]

{"sheet":"S_Karta opisu działki RSS(1)","index":7,"n_rows":91,"n_cols":33,"rows_kept":91,"cut":false,"hidden":true,"merged":[[6,1,6,3],[6,4,6,6],[6,7,6,8],[7,1,7,3],[7,4,7,6],[7,7,7,8],[2,1,2,7],[3,1,3,7],[4,1,4,3],[4,4,4,6],[4,7,4,8],[5,1,5,3],[5,4,5,6],[5,7,5,8],[10,1,10,3],[10,4,10,6],[10,7,10,8],[11,1,11,3],[11,4,11,8],[12,1,12,3],[12,4,12,8],[8,1,8,3],[8,4,8,6],[8,7,8,8],[9,1,9,3],[9,4,9,6],[9,7,9,8],[16,1,16,3],[16,4,16,8],[17,1,17,3],[17,4,17,8],[18,1,18,8],[20,1,20,8],[13,1,13,3],[13,4,13,8],[14,1,14,3],[14,4,14,8],[15,1,15,3],[15,4,15,8],[30,1,36,2],[30,3,36,3],[30,7,36,8],[37,1,43,2],[37,3,43,3],[37,7,43,8],[21,1,22,2],[21,4,22,4],[21,5,22,5],[21,6,22,6],[21,7,22,8],[23,1,29,2],[23,3,29,3],[23,7,29,8],[47,1,47,3],[47,4,47,6],[47,7,47,8],[48,1,48,3],[48,4,48,6],[48,7,48,8],[44,1,44,8],[45,1,45,3],[45,4,45,6],[45,7,45,8],[46,1,46,3],[46,4,46,6],[46,7,46,8],[51,1,51,3],[51,4,51,6],[51,7,51,8],[52,1,52,3],[52,4,52,6],[52,7,52,8],[49,1,49,3],[49,4,49,6],[49,7,49,8],[50,1,50,3],[50,4,50,6],[50,7,50,8],[63,1,63,7],[64,1,64,8],[65,1,65,3],[65,4,65,6],[65,7,65,8],[66,1,66,3],[66,4,66,6],[66,7,66,8],[53,1,53,8],[54,1,54,2],[54,3,55,3],[54,4,55,4],[54,5,54,6],[54,7,55,7],[54,8,55,8],[69,1,69,3],[69,4,69,6],[69,7,69,8],[70,1,70,3],[70,4,70,6],[70,7,70,8],[67,1,67,3],[67,4,67,6],[67,7,67,8],[68,1,68,3],[68,4,68,6],[68,7,68,8],[73,1,73,7],[74,1,74,8],[75,1,75,3],[75,4,75,6],[75,7,75,8],[76,1,76,3],[76,4,76,6],[76,7,76,8],[71,1,71,3],[71,4,71,6],[71,7,71,8],[72,1,72,3],[72,4,72,6],[72,7,72,8],[79,1,79,3],[79,4,79,6],[79,7,79,8],[80,1,80,3],[80,4,80,6],[80,7,80,8],[77,1,77,3],[77,4,77,6],[77,7,77,8],[78,1,78,3],[78,4,78,6],[78,7,78,8],[88,6,88,8],[89,6,89,8],[90,6,90,8],[81,1,81,7],[82,1,82,2],[82,3,82,4],[83,1,83,8],[86,1,87,5],[86,6,86,8],[87,6,87,8]]}
[null,null,null,null,null,null,null,null,"Powrót",null,null,null,1,null,"←"]
[null,null,null,null,null,null,null,null,null,null,null,null,1]
[null,"Karta opisu działki RSS numer:",null,null,null,null,null,null,null,null,null,null,1,null,null,"lista rss","Nazwa arkusza"]
[null,"Położenie działki RSS na obszarze chronionym:",null,null,null,null,null,null,null,null,null,null,1,null,null,{"$f":"'S_Zestawienie dzialek'!W4+1","v":1},{"$f":"\"S_Karta opisu działki \"&I3","v":"S_Karta opisu działki "}]
[null,"Obszar Natura 2000 (zatwierdzony)",null,null,"Park narodowy",null,null,"Rezerwat",null,null,null,null,{"$f":"SUM(M6:M11)","v":0}]
[null,null,null,null,null,null,null,null,null,null,null,null,{"$f":"COUNTA(B6:I6)","v":0},null,null,{"$f":"'S_Zestawienie dzialek'!W7","v":0}]
[null,null,null,null,null,null,null,null,null,null,null,null,{"$f":"COUNTA(B7:I7)","v":0},null,null,{"$f":"'S_Zestawienie dzialek'!W8","v":0}]
[null,null,null,null,null,null,null,null,null,null,null,null,0,null,null,{"$f":"'S_Zestawienie dzialek'!W9","v":0}]
[null,null,null,null,null,null,null,null,null,null,null,null,0,null,null,{"$f":"'S_Zestawienie dzialek'!W10","v":0}]
[null,null,null,null,null,null,null,null,null,null,null,null,0,null,null,{"$f":"'S_Zestawienie dzialek'!W11","v":0}]
[null,null,null,null,null,null,null,null,null,null,null,null,0,null,null,{"$f":"'S_Zestawienie dzialek'!W12","v":0}]
[null,"Park krajobrazowy",null,null,"Pozostałe formy ochrony przyrody (zatwierdzone)",null,null,null,null,null,null,null,{"$f":"SUM(M13:M18)","v":0},null,null,{"$f":"'S_Zestawienie dzialek'!W13","v":0}]
[null,null,null,null,null,null,null,null,null,null,null,null,0,null,null,{"$f":"'S_Zestawienie dzialek'!W14","v":0}]
[null,null,null,null,null,null,null,null,null,null,null,null,0,null,null,{"$f":"'S_Zestawienie dzialek'!W15","v":0}]
[null,null,null,null,null,null,null,null,null,null,null,null,0,null,null,{"$f":"'S_Zestawienie dzialek'!W16","v":0}]
[null,null,null,null,null,null,null,null,null,null,null,null,0,null,null,{"$f":"'S_Zestawienie dzialek'!W17","v":0}]
[null,null,null,null,null,null,null,null,null,null,null,null,0,null,null,{"$f":"'S_Zestawienie dzialek'!W18","v":0}]
[{"$f":"IF($I$4=\"nie\",\"←kliknij -\",\"\")","v":""},null,null,null,null,null,null,null,null,null,null,null,0,null,null,{"$f":"'S_Zestawienie dzialek'!W19","v":0}]
[null,"Data przeprowadzenia badań w terenie\n",null,null,null,null,null,null,null,null,null,null,1,null,null,{"$f":"'S_Zestawienie dzialek'!W20","v":0}]
[null,1,null,2,null,3,null,4,null,null,null,null,4,null,null,{"$f":"'S_Zestawienie dzialek'!W21","v":0}]
[null,"Diagnoza roślinności i siedliska przyrodniczego",null,null,null,null,null,null,null,null,null,null,1,null,null,{"$f":"'S_Zestawienie dzialek'!W22","v":0}]
[null,null,null,"Udział w pow. RSS [%]","Jednostka fitosocjologiczna","Nawiązania do innych jedn. fitosocj. (jeśli dotyczy)","Siedlisko przyrodnicze Natura 2000 \n(jeśli dotyczy)\n","Opis roślinności uwzględniający jej zróżnicowanie \ni położenie na działce \n",null,null,null,null,5,null,null,{"$f":"'S_Zestawienie dzialek'!W23","v":0}]
[null,null,null,{"$f":"IF(AND(SUM(D24:D44)<>100, SUM(D24:D44)>0),\"Suma różna od 100%\",\"\")","v":""},null,null,null,null,null,null,null,null,1,null,null,{"$f":"'S_Zestawienie dzialek'!W24","v":0}]
[null,"Siedlisko kwalifikujące do wariantu  ",null,null,null,null,null,null,null,null,null,null,1,null,null,{"$f":"'S_Zestawienie dzialek'!W25","v":0}]
[null,null,null,null,null,null,null,null,null,null,null,null,{"$f":"COUNTA(E25:G25)","v":0},null,null,{"$f":"'S_Zestawienie dzialek'!W26","v":0}]
[null,null,null,null,null,null,null,null,null,null,null,null,0,null,null,{"$f":"'S_Zestawienie dzialek'!W27","v":0}]
[null,null,null,null,null,null,null,null,null,null,null,null,0,null,null,{"$f":"'S_Zestawienie dzialek'!W28","v":0}]
[null,null,null,null,null,null,null,null,null,null,null,null,0,null,null,{"$f":"'S_Zestawienie dzialek'!W29","v":0}]
[null,null,null,null,null,null,null,null,null,null,null,null,0,null,null,{"$f":"'S_Zestawienie dzialek'!W30","v":0}]
[null,null,null,null,null,null,null,null,null,null,null,null,1,null,null,{"$f":"'S_Zestawienie dzialek'!W31","v":0}]
[null,"Siedliska kwalifikujące do innych wariantów siedliskowych",null,null,null,null,null,null,null,null,null,null,1,null,null,{"$f":"'S_Zestawienie dzialek'!W32","v":0}]
[null,null,null,null,null,null,null,null,null,null,null,null,0,null,null,{"$f":"'S_Zestawienie dzialek'!W33","v":0}]
[null,null,null,null,null,null,null,null,null,null,null,null,0,null,null,{"$f":"'S_Zestawienie dzialek'!W34","v":0}]
[null,null,null,null,null,null,null,null,null,null,null,null,0,null,null,{"$f":"'S_Zestawienie dzialek'!W35","v":0}]
[null,null,null,null,null,null,null,null,null,null,null,null,0,null,null,{"$f":"'S_Zestawienie dzialek'!W36","v":0}]
[null,null,null,null,null,null,null,null,null,null,null,null,0,null,null,{"$f":"'S_Zestawienie dzialek'!W37","v":0}]
[null,null,null,null,null,null,null,null,null,null,null,null,1]
[null,"Niejednorodności \n",null,null,null,null,null,null,null,null,null,null,1]
[null,null,null,null,null,null,null,null,null,null,null,null,0]
[null,null,null,null,null,null,null,null,null,null,null,null,0]
[null,null,null,null,null,null,null,null,null,null,null,null,0]
[null,null,null,null,null,null,null,null,null,null,null,null,0]
[null,null,null,null,null,null,null,null,null,null,null,null,0]
[null,null,null,null,null,null,null,null,null,null,null,null,1]
[null,"Chronione i zagrożone gatunki roślin \n",null,null,null,null,null,null,null,null,null,null,{"$f":"COUNTA(B45:I45)","v":1}]
[null,"nazwa łacińska",null,null,"nazwa polska",null,null,"częstość występowania gatunku\n",null,null,null,null,3]
[null,null,null,null,null,null,null,null,null,null,null,null,{"$f":"COUNTA(B47:I47)","v":0},null,"Brak chronionych lub zagrożonych gatunków roślin"]
[null,null,null,null,null,null,null,null,null,null,null,null,{"$f":"COUNTA(B48:I48)","v":0}]
[null,null,null,null,null,null,null,null,null,null,null,null,0]
[null,null,null,null,null,null,null,null,null,null,null,null,0]
[null,null,null,null,null,null,null,null,null,null,null,null,0]
[null,null,null,null,null,null,null,null,null,null,null,null,0]
[null,null,null,null,null,null,null,null,null,null,null,null,0]
[null,"Niepożądane obce gatunki roślin ",null,null,null,null,null,null,null,null,null,null,1]
[null,"nazwa",null,"częstość występowania gatunku","dopuszczenie stosowania środków ochrony roślin","nazwa",null,"częstość występowania gatunku","dopuszczenie stosowania środków ochrony roślin",null,null,null,6]
[null,"polska","łacińska",null,null,"polska","łacińska",null,null,null,"poz_1","poz_2",4]
[null,null,{"$f":"OFFSET(listy_slownikowe!$AF$2,K57,0)","v":" "},null,null,null,{"$f":"OFFSET(listy_slownikowe!$AF$2,L57,0)","v":" "},null,null,null,{"$f":"IFERROR(MATCH(B57,listy_slownikowe!$AE$2:$AE$27,0)-1,0)","v":0},{"$f":"IFERROR(MATCH(F57,listy_slownikowe!$AE$2:$AE$27,0)-1,0)","v":0},{"$f":"COUNTA(B57:I57)-2","v":0}]
[null,null,{"$f":"OFFSET(listy_slownikowe!$AF$2,K58,0)","v":" "},null,null,null,{"$f":"OFFSET(listy_slownikowe!$AF$2,L58,0)","v":" "},null,null,null,{"$f":"IFERROR(MATCH(B58,listy_slownikowe!$AE$2:$AE$27,0)-1,0)","v":0},{"$f":"IFERROR(MATCH(F58,listy_slownikowe!$AE$2:$AE$27,0)-1,0)","v":0},{"$f":"COUNTA(B58:I58)-2","v":0}]
[null,null,{"$f":"OFFSET(listy_slownikowe!$AF$2,K59,0)","v":" "},null,null,null,{"$f":"OFFSET(listy_slownikowe!$AF$2,L59,0)","v":" "},null,null,null,{"$f":"IFERROR(MATCH(B59,listy_slownikowe!$AE$2:$AE$27,0)-1,0)","v":0},{"$f":"IFERROR(MATCH(F59,listy_slownikowe!$AE$2:$AE$27,0)-1,0)","v":0},0]
[null,null,{"$f":"OFFSET(listy_slownikowe!$AF$2,K60,0)","v":" "},null,null,null,{"$f":"OFFSET(listy_slownikowe!$AF$2,L60,0)","v":" "},null,null,null,{"$f":"IFERROR(MATCH(B60,listy_slownikowe!$AE$2:$AE$27,0)-1,0)","v":0},{"$f":"IFERROR(MATCH(F60,listy_slownikowe!$AE$2:$AE$27,0)-1,0)","v":0},0]
[null,null,{"$f":"OFFSET(listy_slownikowe!$AF$2,K61,0)","v":" "},null,null,null,{"$f":"OFFSET(listy_slownikowe!$AF$2,L61,0)","v":" "},null,null,null,{"$f":"IFERROR(MATCH(B61,listy_slownikowe!$AE$2:$AE$27,0)-1,0)","v":0},{"$f":"IFERROR(MATCH(F61,listy_slownikowe!$AE$2:$AE$27,0)-1,0)","v":0},0]
[null,null,{"$f":"OFFSET(listy_slownikowe!$AF$2,K62,0)","v":" "},null,null,null,{"$f":"OFFSET(listy_slownikowe!$AF$2,L62,0)","v":" "},null,null,null,{"$f":"IFERROR(MATCH(B62,listy_slownikowe!$AE$2:$AE$27,0)-1,0)","v":0},{"$f":"IFERROR(MATCH(F62,listy_slownikowe!$AE$2:$AE$27,0)-1,0)","v":0},0]
[null,null,{"$f":"OFFSET(listy_slownikowe!$AF$2,K63,0)","v":" "},null,null,null,{"$f":"OFFSET(listy_slownikowe!$AF$2,L63,0)","v":" "},null,null,null,{"$f":"IFERROR(MATCH(B63,listy_slownikowe!$AE$2:$AE$27,0)-1,0)","v":0},{"$f":"IFERROR(MATCH(F63,listy_slownikowe!$AE$2:$AE$27,0)-1,0)","v":0},0]
[null,"sumaryczne pokrycie powierzchni działki [%] "]
[null,"Niepożądane gatunki rodzime roślin zielnych",null,null,null,null,null,null,null,null,null,null,{"$f":"COUNTA(B65:I65)","v":1}]
[null,"nazwa łacińska",null,null,"nazwa polska",null,null,"częstość występowania gatunku\n",null,null,null,null,3]
[null,null,null,null,null,null,null,null,null,null,null,null,{"$f":"COUNTA(B67:I67)+1","v":1},null,"Brak"]
[null,null,null,null,null,null,null,null,null,null,null,null,{"$f":"COUNTA(B68:I68)","v":0}]
[null,null,null,null,null,null,null,null,null,null,null,null,0]
[null,null,null,null,null,null,null,null,null,null,null,null,0]
[null,null,null,null,null,null,null,null,null,null,null,null,0]
[null,null,null,null,null,null,null,null,null,null,null,null,0]
[null,null,null,null,null,null,null,null,null,null,null,null,0]
[null,"sumaryczne pokrycie powierzchni działki [%]",null,null,null,null,null,null,null,null,null,null,1]
[null,"Gatunki krzewów i podrostu drzew",null,null,null,null,null,null,null,null,null,null,1]
[null,"nazwa łacińska",null,null,"nazwa polska",null,null,"częstość występowania gatunku\n",null,null,null,null,3]
[null,null,null,null,null,null,null,null,null,null,null,null,{"$f":"COUNTA(B77:I77)+1","v":1}]
[null,null,null,null,null,null,null,null,null,null,null,null,{"$f":"COUNTA(B78:I78)","v":0}]
[null,null,null,null,null,null,null,null,null,null,null,null,0]
[null,null,null,null,null,null,null,null,null,null,null,null,0]
[null,null,null,null,null,null,null,null,null,null,null,null,0]
[null,"sumaryczne pokrycie powierzchni działki [%]",null,null,null,null,null,null,null,null,null,null,1]
[null,"Urządzenia wodne \n",null,null,null,"Położenie w terenie i ukształtowanie powierzchni",null,"Wysokość n.p.m. ",null,null,null,null,3]
[null,"Użytkowanie działki RSS w ciągu ostatnich 5 lat",null,null,null,null,null,null,null,null,null,null,1]
[null,"dominujący rodzaj użytkowania",null,"dominujący termin pierwszego koszenia",null,"nawożenie",null,"zwierzęta",null,null,null,null,4]
[null,"częstotliwość koszenia",null,"podsiew nasion",null,"rodzaj nawożenia",null,"obsada na 1 ha w terminie od 01-05 do 30-10",null,null,null,null,4]
[null,"Wariant lub warianty wdrażane w działanie rolnośrodowiskowym PROW 2014-2020 na powierzchni znajdującej się w granicach opisywanej działki RSS zgłaszanej do zobowiązania rolno-środowiskowo-klimatycznego w PROW 2014-2020",null,null,null,null,null,null,null,null,null,null,1,null,null,null,null,null,null,null,null,null,null,null,null,null,null,null,null,null,null,null,"OK"]
[null,null,null,null,null,null,null,null,null,null,null,null,1]
[null,null,null,null,null,null,null,null,null,null,null,null,{"$f":"COUNTA(G89)","v":0}]
[null,null,null,null,null,null,null,null,null,null,null,null,0]
[null,null,null,null,null,null,null,null,null,null,null,null,0]

{"sheet":"KOD","index":8,"n_rows":0,"n_cols":0,"rows_kept":0,"cut":false,"hidden":true,"merged":[]}

{"sheet":"S_Spisy gat wskaznik RSS(0)","index":9,"n_rows":2702,"n_cols":17,"rows_kept":2702,"cut":false,"hidden":true,"merged":[[2701,1,2701,2],[2701,3,2701,5],[2698,1,2698,2],[2698,3,2698,5],[2699,1,2699,2],[2699,3,2699,5],[2700,1,2700,2],[2700,3,2700,5],[2694,1,2694,2],[2694,3,2694,5],[2695,1,2695,6],[2696,1,2696,2],[2696,3,2696,5],[2697,1,2697,2],[2697,3,2697,5],[2691,1,2691,2],[2691,3,2691,5],[2692,1,2692,2],[2692,3,2692,5],[2693,1,2693,2],[2693,3,2693,5],[2688,1,2688,2],[2688,3,2688,5],[2689,1,2689,2],[2689,3,2689,5],[2690,1,2690,2],[2690,3,2690,5],[2685,1,2685,2],[2685,3,2685,5],[2686,1,2686,2],[2686,3,2686,5],[2687,1,2687,2],[2687,3,2687,5],[2681,1,2681,6],[2682,1,2682,2],[2682,3,2682,5],[2683,1,2683,2],[2683,3,2683,5],[2684,1,2684,2],[2684,3,2684,5],[2674,1,2674,2],[2674,3,2674,5],[2676,1,2676,5],[2677,1,2677,6],[2678,1,2678,3],[2678,4,2678,6],[2671,1,2671,2],[2671,3,2671,5],[2672,1,2672,2],[2672,3,2672,5],[2673,1,2673,2],[2673,3,2673,5],[2667,1,2667,2],[2667,3,2667,5],[2668,1,2668,6],[2669,1,2669,2],[2669,3,2669,5],[2670,1,2670,2],[2670,3,2670,5],[2664,1,2664,2],[2664,3,2664,5],[2665,1,2665,2],[2665,3,2665,5],[2666,1,2666,2],[2666,3,2666,5],[2661,1,2661,2],[2661,3,2661,5],[2662,1,2662,2],[2662,3,2662,5],[2663,1,2663,2],[2663,3,2663,5],[2658,1,2658,2],[2658,3,2658,5],[2659,1,2659,2],[2659,3,2659,5],[2660,1,2660,2],[2660,3,2660,5],[2654,1,2654,6],[2655,1,2655,2],[2655,3,2655,5],[2656,1,2656,2],[2656,3,2656,5],[2657,1,2657,2],[2657,3,2657,5],[2647,1,2647,2],[2647,3,2647,5],[2649,1,2649,5],[2650,1,2650,6],[2651,1,2651,3],[2651,4,2651,6],[2644,1,2644,2],[2644,3,2644,5],[2645,1,2645,2],[2645,3,2645,5],[2646,1,2646,2],[2646,3,2646,5],[2640,1,2640,2],[2640,3,2640,5],[2641,1,2641,6],[2642,1,2642,2],[2642,3,2642,5],[2643,1,2643,2],[2643,3,2643,5],[2637,1,2637,2],[2637,3,2637,5],[2638,1,2638,2],[2638,3,2638,5],[2639,1,2639,2],[2639,3,2639,5],[2634,1,2634,2],[2634,3,2634,5],[2635,1,2635,2],[2635,3,2635,5],[2636,1,2636,2],[2636,3,2636,5],[2631,1,2631,2],[2631,3,2631,5],[2632,1,2632,2],[2632,3,2632,5],[2633,1,2633,2],[2633,3,2633,5],[2627,1,2627,6],[2628,1,2628,2],[2628,3,2628,5],[2629,1,2629,2],[2629,3,2629,5],[2630,1,2630,2],[2630,3,2630,5],[2620,1,2620,2],[2620,3,2620,5],[2622,1,2622,5],[2623,1,2623,6],[2624,1,2624,3],[2624,4,2624,6],[2617,1,2617,2],[2617,3,2617,5],[2618,1,2618,2],[2618,3,2618,5],[2619,1,2619,2],[2619,3,2619,5],[2613,1,2613,2],[2613,3,2613,5],[2614,1,2614,6],[2615,1,2615,2],[2615,3,2615,5],[2616,1,2616,2],[2616,3,2616,5],[2610,1,2610,2],[2610,3,2610,5],[2611,1,2611,2],[2611,3,2611,5],[2612,1,2612,2],[2612,3,2612,5],[2607,1,2607,2],[2607,3,2607,5],[2608,1,2608,2],[2608,3,2608,5],[2609,1,2609,2],[2609,3,2609,5],[2604,1,2604,2],[2604,3,2604,5],[2605,1,2605,2],[2605,3,2605,5],[2606,1,2606,2],[2606,3,2606,5],[2600,1,2600,6],[2601,1,2601,2],[2601,3,2601,5],[2602,1,2602,2],[2602,3,2602,5],[2603,1,2603,2],[2603,3,2603,5],[2593,1,2593,2],[2593,3,2593,5],[2595,1,2595,5],[2596,1,2596,6],[2597,1,2597,3],[2597,4,2597,6],[2590,1,2590,2],[2590,3,2590,5],[2591,1,2591,2],[2591,3,2591,5],[2592,1,2592,2],[2592,3,2592,5],[2586,1,2586,2],[2586,3,2586,5],[2587,1,2587,6],[2588,1,2588,2],[2588,3,2588,5],[2589,1,2589,2],[2589,3,2589,5],[2583,1,2583,2],[2583,3,2583,5],[2584,1,2584,2],[2584,3,2584,5],[2585,1,2585,2],[2585,3,2585,5],[2580,1,2580,2],[2580,3,2580,5],[2581,1,2581,2],[2581,3,2581,5],[2582,1,2582,2],[2582,3,2582,5],[2577,1,2577,2],[2577,3,2577,5],[2578,1,2578,2],[2578,3,2578,5],[2579,1,2579,2],[2579,3,2579,5],[2573,1,2573,6],[2574,1,2574,2],[2574,3,2574,5],[2575,1,2575,2],[2575,3,2575,5],[2576,1,2576,2],[2576,3,2576,5],[2566,1,2566,2],[2566,3,2566,5],[2568,1,2568,5],[2569,1,2569,6],[2570,1,2570,3],[2570,4,2570,6],[2563,1,2563,2],[2563,3,2563,5],[2564,1,2564,2],[2564,3,2564,5],[2565,1,2565,2],[2565,3,2565,5],[2559,1,2559,2],[2559,3,2559,5],[2560,1,2560,6],[2561,1,2561,2],[2561,3,2561,5],[2562,1,2562,2],[2562,3,2562,5],[2556,1,2556,2],[2556,3,2556,5],[2557,1,2557,2],[2557,3,2557,5],[2558,1,2558,2],[2558,3,2558,5],[2553,1,2553,2],[2553,3,2553,5],[2554,1,2554,2],[2554,3,2554,5],[2555,1,2555,2],[2555,3,2555,5],[2550,1,2550,2],[2550,3,2550,5],[2551,1,2551,2],[2551,3,2551,5],[2552,1,2552,2],[2552,3,2552,5],[2546,1,2546,6],[2547,1,2547,2],[2547,3,2547,5],[2548,1,2548,2],[2548,3,2548,5],[2549,1,2549,2],[2549,3,2549,5],[2539,1,2539,2],[2539,3,2539,5],[2541,1,2541,5],[2542,1,2542,6],[2543,1,2543,3],[2543,4,2543,6],[2536,1,2536,2],[2536,3,2536,5],[2537,1,2537,2],[2537,3,2537,5],[2538,1,2538,2],[2538,3,2538,5],[2532,1,2532,2],[2532,3,2532,5],[2533,1,2533,6],[2534,1,2534,2],[2534,3,2534,5],[2535,1,2535,2],[2535,3,2535,5],[2529,1,2529,2],[2529,3,2529,5],[2530,1,2530,2],[2530,3,2530,5],[2531,1,2531,2],[2531,3,2531,5],[2526,1,2526,2],[2526,3,2526,5],[2527,1,2527,2],[2527,3,2527,5],[2528,1,2528,2],[2528,3,2528,5],[2523,1,2523,2],[2523,3,2523,5],[2524,1,2524,2],[2524,3,2524,5],[2525,1,2525,2],[2525,3,2525,5],[2519,1,2519,6],[2520,1,2520,2],[2520,3,2520,5],[2521,1,2521,2],[2521,3,2521,5],[2522,1,2522,2],[2522,3,2522,5],[2512,1,2512,2],[2512,3,2512,5],[2514,1,2514,5],[2515,1,2515,6],[2516,1,2516,3],[2516,4,2516,6],[2509,1,2509,2],[2509,3,2509,5],[2510,1,2510,2],[2510,3,2510,5],[2511,1,2511,2],[2511,3,2511,5],[2505,1,2505,2],[2505,3,2505,5],[2506,1,2506,6],[2507,1,2507,2],[2507,3,2507,5],[2508,1,2508,2],[2508,3,2508,5],[2502,1,2502,2],[2502,3,2502,5],[2503,1,2503,2],[2503,3,2503,5],[2504,1,2504,2],[2504,3,2504,5],[2499,1,2499,2],[2499,3,2499,5],[2500,1,2500,2],[2500,3,2500,5],[2501,1,2501,2],[2501,3,2501,5],[2496,1,2496,2],[2496,3,2496,5],[2497,1,2497,2],[2497,3,2497,5],[2498,1,2498,2],[2498,3,2498,5],[2492,1,2492,6],[2493,1,2493,2],[2493,3,2493,5],[2494,1,2494,2],[2494,3,2494,5],[2495,1,2495,2],[2495,3,2495,5],[2485,1,2485,2],[2485,3,2485,5],[2487,1,2487,5],[2488,1,2488,6],[2489,1,2489,3],[2489,4,2489,6],[2482,1,2482,2],[2482,3,2482,5],[2483,1,2483,2],[2483,3,2483,5],[2484,1,2484,2],[2484,3,2484,5],[2478,1,2478,2],[2478,3,2478,5],[2479,1,2479,6],[2480,1,2480,2],[2480,3,2480,5],[2481,1,2481,2],[2481,3,2481,5],[2475,1,2475,2],[2475,3,2475,5],[2476,1,2476,2],[2476,3,2476,5],[2477,1,2477,2],[2477,3,2477,5],[2472,1,2472,2],[2472,3,2472,5],[2473,1,2473,2],[2473,3,2473,5],[2474,1,2474,2],[2474,3,2474,5],[2469,1,2469,2],[2469,3,2469,5],[2470,1,2470,2],[2470,3,2470,5],[2471,1,2471,2],[2471,3,2471,5],[2465,1,2465,6],[2466,1,2466,2],[2466,3,2466,5],[2467,1,2467,2],[2467,3,2467,5],[2468,1,2468,2],[2468,3,2468,5],[2458,1,2458,2],[2458,3,2458,5],[2460,1,2460,5],[2461,1,2461,6],[2462,1,2462,3],[2462,4,2462,6],[2455,1,2455,2],[2455,3,2455,5],[2456,1,2456,2],[2456,3,2456,5],[2457,1,2457,2],[2457,3,2457,5],[2451,1,2451,2],[2451,3,2451,5],[2452,1,2452,6],[2453,1,2453,2],[2453,3,2453,5],[2454,1,2454,2],[2454,3,2454,5],[2448,1,2448,2],[2448,3,2448,5],[2449,1,2449,2],[2449,3,2449,5],[2450,1,2450,2],[2450,3,2450,5],[2445,1,2445,2],[2445,3,2445,5],[2446,1,2446,2],[2446,3,2446,5],[2447,1,2447,2],[2447,3,2447,5],[2442,1,2442,2],[2442,3,2442,5],[2443,1,2443,2],[2443,3,2443,5],[2444,1,2444,2],[2444,3,2444,5],[2438,1,2438,6],[2439,1,2439,2],[2439,3,2439,5],[2440,1,2440,2],[2440,3,2440,5],[2441,1,2441,2],[2441,3,2441,5],[2431,1,2431,2],[2431,3,2431,5],[2433,1,2433,5],[2434,1,2434,6],[2435,1,2435,3],[2435,4,2435,6],[2428,1,2428,2],[2428,3,2428,5],[2429,1,2429,2],[2429,3,2429,5],[2430,1,2430,2],[2430,3,2430,5],[2424,1,2424,2],[2424,3,2424,5],[2425,1,2425,6],[2426,1,2426,2],[2426,3,2426,5],[2427,1,2427,2],[2427,3,2427,5],[2421,1,2421,2],[2421,3,2421,5],[2422,1,2422,2],[2422,3,2422,5],[2423,1,2423,2],[2423,3,2423,5],[2418,1,2418,2],[2418,3,2418,5],[2419,1,2419,2],[2419,3,2419,5],[2420,1,2420,2],[2420,3,2420,5],[2415,1,2415,2],[2415,3,2415,5],[2416,1,2416,2],[2416,3,2416,5],[2417,1,2417,2],[2417,3,2417,5],[2411,1,2411,6],[2412,1,2412,2],[2412,3,2412,5],[2413,1,2413,2],[2413,3,2413,5],[2414,1,2414,2],[2414,3,2414,5],[2404,1,2404,2],[2404,3,2404,5],[2406,1,2406,5],[2407,1,2407,6],[2408,1,2408,3],[2408,4,2408,6],[2401,1,2401,2],[2401,3,2401,5],[2402,1,2402,2],[2402,3,2402,5],[2403,1,2403,2],[2403,3,2403,5],[2397,1,2397,2],[2397,3,2397,5],[2398,1,2398,6],[2399,1,2399,2],[2399,3,2399,5],[2400,1,2400,2],[2400,3,2400,5],[2394,1,2394,2],[2394,3,2394,5],[2395,1,2395,2],[2395,3,2395,5],[2396,1,2396,2],[2396,3,2396,5],[2391,1,2391,2],[2391,3,2391,5],[2392,1,2392,2],[2392,3,2392,5],[2393,1,2393,2],[2393,3,2393,5],[2388,1,2388,2],[2388,3,2388,5],[2389,1,2389,2],[2389,3,2389,5],[2390,1,2390,2],[2390,3,2390,5],[2384,1,2384,6],[2385,1,2385,2],[2385,3,2385,5],[2386,1,2386,2],[2386,3,2386,5],[2387,1,2387,2],[2387,3,2387,5],[2377,1,2377,2],[2377,3,2377,5],[2379,1,2379,5],[2380,1,2380,6],[2381,1,2381,3],[2381,4,2381,6],[2374,1,2374,2],[2374,3,2374,5],[2375,1,2375,2],[2375,3,2375,5],[2376,1,2376,2],[2376,3,2376,5],[2370,1,2370,2],[2370,3,2370,5],[2371,1,2371,6],[2372,1,2372,2],[2372,3,2372,5],[2373,1,2373,2],[2373,3,2373,5],[2367,1,2367,2],[2367,3,2367,5],[2368,1,2368,2],[2368,3,2368,5],[2369,1,2369,2],[2369,3,2369,5],[2364,1,2364,2],[2364,3,2364,5],[2365,1,2365,2],[2365,3,2365,5],[2366,1,2366,2],[2366,3,2366,5],[2361,1,2361,2],[2361,3,2361,5],[2362,1,2362,2],[2362,3,2362,5],[2363,1,2363,2],[2363,3,2363,5],[2357,1,2357,6],[2358,1,2358,2],[2358,3,2358,5],[2359,1,2359,2],[2359,3,2359,5],[2360,1,2360,2],[2360,3,2360,5],[2350,1,2350,2],[2350,3,2350,5],[2352,1,2352,5],[2353,1,2353,6],[2354,1,2354,3],[2354,4,2354,6],[2347,1,2347,2],[2347,3,2347,5],[2348,1,2348,2],[2348,3,2348,5],[2349,1,2349,2],[2349,3,2349,5],[2343,1,2343,2],[2343,3,2343,5],[2344,1,2344,6],[2345,1,2345,2],[2345,3,2345,5],[2346,1,2346,2],[2346,3,2346,5],[2340,1,2340,2],[2340,3,2340,5],[2341,1,2341,2],[2341,3,2341,5],[2342,1,2342,2],[2342,3,2342,5],[2337,1,2337,2],[2337,3,2337,5],[2338,1,2338,2],[2338,3,2338,5],[2339,1,2339,2],[2339,3,2339,5],[2334,1,2334,2],[2334,3,2334,5],[2335,1,2335,2],[2335,3,2335,5],[2336,1,2336,2],[2336,3,2336,5],[2330,1,2330,6],[2331,1,2331,2],[2331,3,2331,5],[2332,1,2332,2],[2332,3,2332,5],[2333,1,2333,2],[2333,3,2333,5],[2323,1,2323,2],[2323,3,2323,5],[2325,1,2325,5],[2326,1,2326,6],[2327,1,2327,3],[2327,4,2327,6],[2320,1,2320,2],[2320,3,2320,5],[2321,1,2321,2],[2321,3,2321,5],[2322,1,2322,2],[2322,3,2322,5],[2316,1,2316,2],[2316,3,2316,5],[2317,1,2317,6],[2318,1,2318,2],[2318,3,2318,5],[2319,1,2319,2],[2319,3,2319,5],[2313,1,2313,2],[2313,3,2313,5],[2314,1,2314,2],[2314,3,2314,5],[2315,1,2315,2],[2315,3,2315,5],[2310,1,2310,2],[2310,3,2310,5],[2311,1,2311,2],[2311,3,2311,5],[2312,1,2312,2],[2312,3,2312,5],[2307,1,2307,2],[2307,3,2307,5],[2308,1,2308,2],[2308,3,2308,5],[2309,1,2309,2],[2309,3,2309,5],[2303,1,2303,6],[2304,1,2304,2],[2304,3,2304,5],[2305,1,2305,2],[2305,3,2305,5],[2306,1,2306,2],[2306,3,2306,5],[2296,1,2296,2],[2296,3,2296,5],[2298,1,2298,5],[2299,1,2299,6],[2300,1,2300,3],[2300,4,2300,6],[2293,1,2293,2],[2293,3,2293,5],[2294,1,2294,2],[2294,3,2294,5],[2295,1,2295,2],[2295,3,2295,5],[2289,1,2289,2],[2289,3,2289,5],[2290,1,2290,6],[2291,1,2291,2],[2291,3,2291,5],[2292,1,2292,2],[2292,3,2292,5],[2286,1,2286,2],[2286,3,2286,5],[2287,1,2287,2],[2287,3,2287,5],[2288,1,2288,2],[2288,3,2288,5],[2283,1,2283,2],[2283,3,2283,5],[2284,1,2284,2],[2284,3,2284,5],[2285,1,2285,2],[2285,3,2285,5],[2280,1,2280,2],[2280,3,2280,5],[2281,1,2281,2],[2281,3,2281,5],[2282,1,2282,2],[2282,3,2282,5],[2276,1,2276,6],[2277,1,2277,2],[2277,3,2277,5],[2278,1,2278,2],[2278,3,2278,5],[2279,1,2279,2],[2279,3,2279,5],[2269,1,2269,2],[2269,3,2269,5],[2271,1,2271,5],[2272,1,2272,6],[2273,1,2273,3],[2273,4,2273,6],[2266,1,2266,2],[2266,3,2266,5],[2267,1,2267,2],[2267,3,2267,5],[2268,1,2268,2],[2268,3,2268,5],[2262,1,2262,2],[2262,3,2262,5],[2263,1,2263,6],[2264,1,2264,2],[2264,3,2264,5],[2265,1,2265,2],[2265,3,2265,5],[2259,1,2259,2],[2259,3,2259,5],[2260,1,2260,2],[2260,3,2260,5],[2261,1,2261,2],[2261,3,2261,5],[2256,1,2256,2],[2256,3,2256,5],[2257,1,2257,2],[2257,3,2257,5],[2258,1,2258,2],[2258,3,2258,5],[2253,1,2253,2],[2253,3,2253,5],[2254,1,2254,2],[2254,3,2254,5],[2255,1,2255,2],[2255,3,2255,5],[2249,1,2249,6],[2250,1,2250,2],[2250,3,2250,5],[2251,1,2251,2],[2251,3,2251,5],[2252,1,2252,2],[2252,3,2252,5],[2242,1,2242,2],[2242,3,2242,5],[2244,1,2244,5],[2245,1,2245,6],[2246,1,2246,3],[2246,4,2246,6],[2239,1,2239,2],[2239,3,2239,5],[2240,1,2240,2],[2240,3,2240,5],[2241,1,2241,2],[2241,3,2241,5],[2235,1,2235,2],[2235,3,2235,5],[2236,1,2236,6],[2237,1,2237,2],[2237,3,2237,5],[2238,1,2238,2],[2238,3,2238,5],[2232,1,2232,2],[2232,3,2232,5],[2233,1,2233,2],[2233,3,2233,5],[2234,1,2234,2],[2234,3,2234,5],[2229,1,2229,2],[2229,3,2229,5],[2230,1,2230,2],[2230,3,2230,5],[2231,1,2231,2],[2231,3,2231,5],[2226,1,2226,2],[2226,3,2226,5],[2227,1,2227,2],[2227,3,2227,5],[2228,1,2228,2],[2228,3,2228,5],[2222,1,2222,6],[2223,1,2223,2],[2223,3,2223,5],[2224,1,2224,2],[2224,3,2224,5],[2225,1,2225,2],[2225,3,2225,5],[2215,1,2215,2],[2215,3,2215,5],[2217,1,2217,5],[2218,1,2218,6],[2219,1,2219,3],[2219,4,2219,6],[2212,1,2212,2],[2212,3,2212,5],[2213,1,2213,2],[2213,3,2213,5],[2214,1,2214,2],[2214,3,2214,5],[2208,1,2208,2],[2208,3,2208,5],[2209,1,2209,6],[2210,1,2210,2],[2210,3,2210,5],[2211,1,2211,2],[2211,3,2211,5],[2205,1,2205,2],[2205,3,2205,5],[2206,1,2206,2],[2206,3,2206,5],[2207,1,2207,2],[2207,3,2207,5],[2202,1,2202,2],[2202,3,2202,5],[2203,1,2203,2],[2203,3,2203,5],[2204,1,2204,2],[2204,3,2204,5],[2199,1,2199,2],[2199,3,2199,5],[2200,1,2200,2],[2200,3,2200,5],[2201,1,2201,2],[2201,3,2201,5],[2195,1,2195,6],[2196,1,2196,2],[2196,3,2196,5],[2197,1,2197,2],[2197,3,2197,5],[2198,1,2198,2],[2198,3,2198,5],[2188,1,2188,2],[2188,3,2188,5],[2190,1,2190,5],[2191,1,2191,6],[2192,1,2192,3],[2192,4,2192,6],[2185,1,2185,2],[2185,3,2185,5],[2186,1,2186,2],[2186,3,2186,5],[2187,1,2187,2],[2187,3,2187,5],[2181,1,2181,2],[2181,3,2181,5],[2182,1,2182,6],[2183,1,2183,2],[2183,3,2183,5],[2184,1,2184,2],[2184,3,2184,5],[2178,1,2178,2],[2178,3,2178,5],[2179,1,2179,2],[2179,3,2179,5],[2180,1,2180,2],[2180,3,2180,5],[2175,1,2175,2],[2175,3,2175,5],[2176,1,2176,2],[2176,3,2176,5],[2177,1,2177,2],[2177,3,2177,5],[2172,1,2172,2],[2172,3,2172,5],[2173,1,2173,2],[2173,3,2173,5],[2174,1,2174,2],[2174,3,2174,5],[2168,1,2168,6],[2169,1,2169,2],[2169,3,2169,5],[2170,1,2170,2],[2170,3,2170,5],[2171,1,2171,2],[2171,3,2171,5],[2161,1,2161,2],[2161,3,2161,5],[2163,1,2163,5],[2164,1,2164,6],[2165,1,2165,3],[2165,4,2165,6],[2158,1,2158,2],[2158,3,2158,5],[2159,1,2159,2],[2159,3,2159,5],[2160,1,2160,2],[2160,3,2160,5],[2154,1,2154,2],[2154,3,2154,5],[2155,1,2155,6],[2156,1,2156,2],[2156,3,2156,5],[2157,1,2157,2],[2157,3,2157,5],[2151,1,2151,2],[2151,3,2151,5],[2152,1,2152,2],[2152,3,2152,5],[2153,1,2153,2],[2153,3,2153,5],[2148,1,2148,2],[2148,3,2148,5],[2149,1,2149,2],[2149,3,2149,5],[2150,1,2150,2],[2150,3,2150,5],[2145,1,2145,2],[2145,3,2145,5],[2146,1,2146,2],[2146,3,2146,5],[2147,1,2147,2],[2147,3,2147,5],[2141,1,2141,6],[2142,1,2142,2],[2142,3,2142,5],[2143,1,2143,2],[2143,3,2143,5],[2144,1,2144,2],[2144,3,2144,5],[2134,1,2134,2],[2134,3,2134,5],[2136,1,2136,5],[2137,1,2137,6],[2138,1,2138,3],[2138,4,2138,6],[2131,1,2131,2],[2131,3,2131,5],[2132,1,2132,2],[2132,3,2132,5],[2133,1,2133,2],[2133,3,2133,5],[2127,1,2127,2],[2127,3,2127,5],[2128,1,2128,6],[2129,1,2129,2],[2129,3,2129,5],[2130,1,2130,2],[2130,3,2130,5],[2124,1,2124,2],[2124,3,2124,5],[2125,1,2125,2],[2125,3,2125,5],[2126,1,2126,2],[2126,3,2126,5],[2121,1,2121,2],[2121,3,2121,5],[2122,1,2122,2],[2122,3,2122,5],[2123,1,2123,2],[2123,3,2123,5],[2118,1,2118,2],[2118,3,2118,5],[2119,1,2119,2],[2119,3,2119,5],[2120,1,2120,2],[2120,3,2120,5],[2114,1,2114,6],[2115,1,2115,2],[2115,3,2115,5],[2116,1,2116,2],[2116,3,2116,5],[2117,1,2117,2],[2117,3,2117,5],[2107,1,2107,2],[2107,3,2107,5],[2109,1,2109,5],[2110,1,2110,6],[2111,1,2111,3],[2111,4,2111,6],[2104,1,2104,2],[2104,3,2104,5],[2105,1,2105,2],[2105,3,2105,5],[2106,1,2106,2],[2106,3,2106,5],[2100,1,2100,2],[2100,3,2100,5],[2101,1,2101,6],[2102,1,2102,2],[2102,3,2102,5],[2103,1,2103,2],[2103,3,2103,5],[2097,1,2097,2],[2097,3,2097,5],[2098,1,2098,2],[2098,3,2098,5],[2099,1,2099,2],[2099,3,2099,5],[2094,1,2094,2],[2094,3,2094,5],[2095,1,2095,2],[2095,3,2095,5],[2096,1,2096,2],[2096,3,2096,5],[2091,1,2091,2],[2091,3,2091,5],[2092,1,2092,2],[2092,3,2092,5],[2093,1,2093,2]],"merged_total":4401,"flags":["merged_cut"]}
[null,null,null,null,null,null,"Powrót",null,"poz","pust"]
[null,null,null,null,null,null,null,null,null,{"$f":"COUNTIFS(J4:J2702,\">0\")","v":0}]
[null,"Diagnoza siedliska – spisy gatunków wskaźnikowych\ni dominujących dla działki:",null,null,null,null,null,null,null,1,null,null,null,null,null,"lista rss","Nazwa arkusza"]
[null,"Spis gatunków numer:",null,null,null,null,1,null,null,{"$f":"J8","v":0},null,null,null,null,null,{"$f":"'S_Zestawienie dzialek'!W4+1","v":1},{"$f":"\"S_Spisy gat wskaznik \"&$G$3","v":"S_Spisy gat wskaznik "}]
[null,"Współrzędne geograficzne",null,null,null,null,null,null,null,{"$f":"J9","v":0}]
[null,"Długość geograficzna [E] ",null,null,"Szerokość geograficzna [N]",null,null,null,null,{"$f":"J9","v":0},null,null,null,null,null,{"$f":"'S_Zestawienie dzialek'!W7","v":0}]
[null,"stopnie","minuty","sekundy","stopnie","minuty","sekundy",null,null,{"$f":"J8","v":0},null,null,null,null,null,{"$f":"'S_Zestawienie dzialek'!W8","v":0}]
[null,null,null,null,null,null,null,null,null,{"$f":"J10+J24","v":0},null,null,null,null,null,{"$f":"'S_Zestawienie dzialek'!W9","v":0}]
[null,"Gatunki wskaźnikowe",null,null,null,null,null,null,null,{"$f":"J10","v":0},null,null,null,null,null,{"$f":"'S_Zestawienie dzialek'!W10","v":0}]
[null,"nazwa łacińska",null,"nazwa polska",null,null,"walor wskaźnikowy ",null,null,{"$f":"SUM(J11:J22)","v":0},null,null,null,null,null,{"$f":"'S_Zestawienie dzialek'!W11","v":0}]
[null,{"$f":"OFFSET(listy_slownikowe!$AG$2,I11,0)","v":" "},null,null,null,null,{"$f":"OFFSET(listy_slownikowe!$AI$2,I11,0)","v":" "},null,{"$f":"IFERROR(MATCH(D11,listy_slownikowe!$AH$3:$AH$326,0),0)","v":0},{"$f":"I11","v":0},null,null,null,null,null,{"$f":"'S_Zestawienie dzialek'!W12","v":0}]
[null,{"$f":"OFFSET(listy_slownikowe!$AG$2,I12,0)","v":" "},null,null,null,null,{"$f":"OFFSET(listy_slownikowe!$AI$2,I12,0)","v":" "},null,{"$f":"IFERROR(MATCH(D12,listy_slownikowe!$AH$3:$AH$326,0),0)","v":0},{"$f":"I12","v":0},null,null,null,null,null,{"$f":"'S_Zestawienie dzialek'!W13","v":0}]
[null,{"$f":"OFFSET(listy_slownikowe!$AG$2,I13,0)","v":" "},null,null,null,null,{"$f":"OFFSET(listy_slownikowe!$AI$2,I13,0)","v":" "},null,{"$f":"IFERROR(MATCH(D13,listy_slownikowe!$AH$3:$AH$326,0),0)","v":0},0,null,null,null,null,null,{"$f":"'S_Zestawienie dzialek'!W14","v":0}]
[null,{"$f":"OFFSET(listy_slownikowe!$AG$2,I14,0)","v":" "},null,null,null,null,{"$f":"OFFSET(listy_slownikowe!$AI$2,I14,0)","v":" "},null,{"$f":"IFERROR(MATCH(D14,listy_slownikowe!$AH$3:$AH$326,0),0)","v":0},0,null,null,null,null,null,{"$f":"'S_Zestawienie dzialek'!W15","v":0}]
[null,{"$f":"OFFSET(listy_slownikowe!$AG$2,I15,0)","v":" "},null,null,null,null,{"$f":"OFFSET(listy_slownikowe!$AI$2,I15,0)","v":" "},null,{"$f":"IFERROR(MATCH(D15,listy_slownikowe!$AH$3:$AH$326,0),0)","v":0},0,null,null,null,null,null,{"$f":"'S_Zestawienie dzialek'!W16","v":0}]
[null,{"$f":"OFFSET(listy_slownikowe!$AG$2,I16,0)","v":" "},null,null,null,null,{"$f":"OFFSET(listy_slownikowe!$AI$2,I16,0)","v":" "},null,{"$f":"IFERROR(MATCH(D16,listy_slownikowe!$AH$3:$AH$326,0),0)","v":0},0,null,null,null,null,null,{"$f":"'S_Zestawienie dzialek'!W17","v":0}]
[null,{"$f":"OFFSET(listy_slownikowe!$AG$2,I17,0)","v":" "},null,null,null,null,{"$f":"OFFSET(listy_slownikowe!$AI$2,I17,0)","v":" "},null,{"$f":"IFERROR(MATCH(D17,listy_slownikowe!$AH$3:$AH$326,0),0)","v":0},0,null,null,null,null,null,{"$f":"'S_Zestawienie dzialek'!W18","v":0}]
[null,{"$f":"OFFSET(listy_slownikowe!$AG$2,I18,0)","v":" "},null,null,null,null,{"$f":"OFFSET(listy_slownikowe!$AI$2,I18,0)","v":" "},null,{"$f":"IFERROR(MATCH(D18,listy_slownikowe!$AH$3:$AH$326,0),0)","v":0},0,null,null,null,null,null,{"$f":"'S_Zestawienie dzialek'!W19","v":0}]
[null,{"$f":"OFFSET(listy_slownikowe!$AG$2,I19,0)","v":" "},null,null,null,null,{"$f":"OFFSET(listy_slownikowe!$AI$2,I19,0)","v":" "},null,{"$f":"IFERROR(MATCH(D19,listy_slownikowe!$AH$3:$AH$326,0),0)","v":0},0,null,null,null,null,null,{"$f":"'S_Zestawienie dzialek'!W20","v":0}]
[null,{"$f":"OFFSET(listy_slownikowe!$AG$2,I20,0)","v":" "},null,null,null,null,{"$f":"OFFSET(listy_slownikowe!$AI$2,I20,0)","v":" "},null,{"$f":"IFERROR(MATCH(D20,listy_slownikowe!$AH$3:$AH$326,0),0)","v":0},0,null,null,null,null,null,{"$f":"'S_Zestawienie dzialek'!W21","v":0}]
[null,{"$f":"OFFSET(listy_slownikowe!$AG$2,I21,0)","v":" "},null,null,null,null,{"$f":"OFFSET(listy_slownikowe!$AI$2,I21,0)","v":" "},null,{"$f":"IFERROR(MATCH(D21,listy_slownikowe!$AH$3:$AH$326,0),0)","v":0},0,null,null,null,null,null,{"$f":"'S_Zestawienie dzialek'!W22","v":0}]
[null,{"$f":"OFFSET(listy_slownikowe!$AG$2,I22,0)","v":" "},null,null,null,null,{"$f":"OFFSET(listy_slownikowe!$AI$2,I22,0)","v":" "},null,{"$f":"IFERROR(MATCH(D22,listy_slownikowe!$AH$3:$AH$326,0),0)","v":0},0,null,null,null,null,null,{"$f":"'S_Zestawienie dzialek'!W23","v":0}]
[null,"Gatunki dominujące i subdominujące",null,null,null,null,null,null,null,{"$f":"J24","v":0},null,null,null,null,null,{"$f":"'S_Zestawienie dzialek'!W24","v":0}]
[null,"nazwa łacińska",null,"nazwa polska",null,null,"udział [%]",null,null,{"$f":"SUM(J25:J29)","v":0},null,null,null,null,null,{"$f":"'S_Zestawienie dzialek'!W25","v":0}]
[null,null,null,null,null,null,null,null,null,{"$f":"COUNTA(B25:G25)","v":0},null,null,null,null,null,{"$f":"'S_Zestawienie dzialek'!W26","v":0}]
[null,null,null,null,null,null,null,null,null,0,null,null,null,null,null,{"$f":"'S_Zestawienie dzialek'!W27","v":0}]
[null,null,null,null,null,null,null,null,null,0,null,null,null,null,null,{"$f":"'S_Zestawienie dzialek'!W28","v":0}]
[null,null,null,null,null,null,null,null,null,0,null,null,null,null,null,{"$f":"'S_Zestawienie dzialek'!W29","v":0}]
[null,null,null,null,null,null,null,null,null,0,null,null,null,null,null,{"$f":"'S_Zestawienie dzialek'!W30","v":0}]
[null,null,null,null,null,null,null,null,null,null,null,null,null,null,null,{"$f":"'S_Zestawienie dzialek'!W31","v":0}]
[null,"Spis gatunków numer:",null,null,null,null,{"$f":"G4+1","v":2},null,null,{"$f":"J35","v":0},null,null,null,null,null,{"$f":"'S_Zestawienie dzialek'!W32","v":0}]
[null,"Współrzędne geograficzne",null,null,null,null,null,null,null,{"$f":"J36","v":0},null,null,null,null,null,{"$f":"'S_Zestawienie dzialek'!W33","v":0}]
[null,"Długość geograficzna [E] ",null,null,"Szerokość geograficzna [N]",null,null,null,null,{"$f":"J36","v":0},null,null,null,null,null,{"$f":"'S_Zestawienie dzialek'!W34","v":0}]
[null,"stopnie","minuty","sekundy","stopnie","minuty","sekundy",null,null,{"$f":"J35","v":0},null,null,null,null,null,{"$f":"'S_Zestawienie dzialek'!W35","v":0}]
[null,null,null,null,null,null,null,null,null,{"$f":"J37+J51","v":0},null,null,null,null,null,{"$f":"'S_Zestawienie dzialek'!W36","v":0}]
[null,"Gatunki wskaźnikowe",null,null,null,null,null,null,null,{"$f":"J37","v":0},null,null,null,null,null,{"$f":"'S_Zestawienie dzialek'!W37","v":0}]
[null,"nazwa łacińska",null,"nazwa polska",null,null,"walor ",null,null,{"$f":"SUM(J38:J49)","v":0}]
[null,{"$f":"OFFSET(listy_slownikowe!$AG$2,I38,0)","v":" "},null,null,null,null,{"$f":"OFFSET(listy_slownikowe!$AI$2,I38,0)","v":" "},null,{"$f":"IFERROR(MATCH(D38,listy_slownikowe!$AH$3:$AH$326,0),0)","v":0},{"$f":"I38","v":0}]
[null,{"$f":"OFFSET(listy_slownikowe!$AG$2,I39,0)","v":" "},null,null,null,null,{"$f":"OFFSET(listy_slownikowe!$AI$2,I39,0)","v":" "},null,{"$f":"IFERROR(MATCH(D39,listy_slownikowe!$AH$3:$AH$326,0),0)","v":0},{"$f":"I39","v":0}]
[null,{"$f":"OFFSET(listy_slownikowe!$AG$2,I40,0)","v":" "},null,null,null,null,{"$f":"OFFSET(listy_slownikowe!$AI$2,I40,0)","v":" "},null,{"$f":"IFERROR(MATCH(D40,listy_slownikowe!$AH$3:$AH$326,0),0)","v":0},0]
[null,{"$f":"OFFSET(listy_slownikowe!$AG$2,I41,0)","v":" "},null,null,null,null,{"$f":"OFFSET(listy_slownikowe!$AI$2,I41,0)","v":" "},null,{"$f":"IFERROR(MATCH(D41,listy_slownikowe!$AH$3:$AH$326,0),0)","v":0},0]
[null,{"$f":"OFFSET(listy_slownikowe!$AG$2,I42,0)","v":" "},null,null,null,null,{"$f":"OFFSET(listy_slownikowe!$AI$2,I42,0)","v":" "},null,{"$f":"IFERROR(MATCH(D42,listy_slownikowe!$AH$3:$AH$326,0),0)","v":0},0]
[null,{"$f":"OFFSET(listy_slownikowe!$AG$2,I43,0)","v":" "},null,null,null,null,{"$f":"OFFSET(listy_slownikowe!$AI$2,I43,0)","v":" "},null,{"$f":"IFERROR(MATCH(D43,listy_slownikowe!$AH$3:$AH$326,0),0)","v":0},0]
[null,{"$f":"OFFSET(listy_slownikowe!$AG$2,I44,0)","v":" "},null,null,null,null,{"$f":"OFFSET(listy_slownikowe!$AI$2,I44,0)","v":" "},null,{"$f":"IFERROR(MATCH(D44,listy_slownikowe!$AH$3:$AH$326,0),0)","v":0},0]
[null,{"$f":"OFFSET(listy_slownikowe!$AG$2,I45,0)","v":" "},null,null,null,null,{"$f":"OFFSET(listy_slownikowe!$AI$2,I45,0)","v":" "},null,{"$f":"IFERROR(MATCH(D45,listy_slownikowe!$AH$3:$AH$326,0),0)","v":0},0]
[null,{"$f":"OFFSET(listy_slownikowe!$AG$2,I46,0)","v":" "},null,null,null,null,{"$f":"OFFSET(listy_slownikowe!$AI$2,I46,0)","v":" "},null,{"$f":"IFERROR(MATCH(D46,listy_slownikowe!$AH$3:$AH$326,0),0)","v":0},0]
[null,{"$f":"OFFSET(listy_slownikowe!$AG$2,I47,0)","v":" "},null,null,null,null,{"$f":"OFFSET(listy_slownikowe!$AI$2,I47,0)","v":" "},null,{"$f":"IFERROR(MATCH(D47,listy_slownikowe!$AH$3:$AH$326,0),0)","v":0},0]
[null,{"$f":"OFFSET(listy_slownikowe!$AG$2,I48,0)","v":" "},null,null,null,null,{"$f":"OFFSET(listy_slownikowe!$AI$2,I48,0)","v":" "},null,{"$f":"IFERROR(MATCH(D48,listy_slownikowe!$AH$3:$AH$326,0),0)","v":0},0]
[null,{"$f":"OFFSET(listy_slownikowe!$AG$2,I49,0)","v":" "},null,null,null,null,{"$f":"OFFSET(listy_slownikowe!$AI$2,I49,0)","v":" "},null,{"$f":"IFERROR(MATCH(D49,listy_slownikowe!$AH$3:$AH$326,0),0)","v":0},0]
[null,"Gatunki dominujące i subdominujące",null,null,null,null,null,null,null,{"$f":"J51","v":0}]
[null,"nazwa łacińska",null,"nazwa polska",null,null,"udział [%]",null,null,{"$f":"SUM(J52:J56)","v":0}]
[null,null,null,null,null,null,null,null,null,{"$f":"COUNTA(B52:G52)","v":0}]
[null,null,null,null,null,null,null,null,null,0]
[null,null,null,null,null,null,null,null,null,0]
[null,null,null,null,null,null,null,null,null,0]
[null,null,null,null,null,null,null,null,null,0]
[]
[null,"Spis gatunków numer:",null,null,null,null,{"$f":"G31+1","v":3},null,null,{"$f":"J62","v":0}]
[null,"Współrzędne geograficzne",null,null,null,null,null,null,null,{"$f":"J63","v":0}]
[null,"Długość geograficzna [E] ",null,null,"Szerokość geograficzna [N]",null,null,null,null,{"$f":"J63","v":0}]
[null,"stopnie","minuty","sekundy","stopnie","minuty","sekundy",null,null,{"$f":"J62","v":0}]
[null,null,null,null,null,null,null,null,null,{"$f":"J64+J78","v":0}]
[null,"Gatunki wskaźnikowe",null,null,null,null,null,null,null,{"$f":"J64","v":0}]
[null,"nazwa łacińska",null,"nazwa polska",null,null,"walor ",null,null,{"$f":"SUM(J65:J76)","v":0}]
[null,{"$f":"OFFSET(listy_slownikowe!$AG$2,I65,0)","v":" "},null,null,null,null,{"$f":"OFFSET(listy_slownikowe!$AI$2,I65,0)","v":" "},null,{"$f":"IFERROR(MATCH(D65,listy_slownikowe!$AH$3:$AH$326,0),0)","v":0},{"$f":"I65","v":0}]
[null,{"$f":"OFFSET(listy_slownikowe!$AG$2,I66,0)","v":" "},null,null,null,null,{"$f":"OFFSET(listy_slownikowe!$AI$2,I66,0)","v":" "},null,{"$f":"IFERROR(MATCH(D66,listy_slownikowe!$AH$3:$AH$326,0),0)","v":0},{"$f":"I66","v":0}]
[null,{"$f":"OFFSET(listy_slownikowe!$AG$2,I67,0)","v":" "},null,null,null,null,{"$f":"OFFSET(listy_slownikowe!$AI$2,I67,0)","v":" "},null,{"$f":"IFERROR(MATCH(D67,listy_slownikowe!$AH$3:$AH$326,0),0)","v":0},0]
[null,{"$f":"OFFSET(listy_slownikowe!$AG$2,I68,0)","v":" "},null,null,null,null,{"$f":"OFFSET(listy_slownikowe!$AI$2,I68,0)","v":" "},null,{"$f":"IFERROR(MATCH(D68,listy_slownikowe!$AH$3:$AH$326,0),0)","v":0},0]
[null,{"$f":"OFFSET(listy_slownikowe!$AG$2,I69,0)","v":" "},null,null,null,null,{"$f":"OFFSET(listy_slownikowe!$AI$2,I69,0)","v":" "},null,{"$f":"IFERROR(MATCH(D69,listy_slownikowe!$AH$3:$AH$326,0),0)","v":0},0]
[null,{"$f":"OFFSET(listy_slownikowe!$AG$2,I70,0)","v":" "},null,null,null,null,{"$f":"OFFSET(listy_slownikowe!$AI$2,I70,0)","v":" "},null,{"$f":"IFERROR(MATCH(D70,listy_slownikowe!$AH$3:$AH$326,0),0)","v":0},0]
[null,{"$f":"OFFSET(listy_slownikowe!$AG$2,I71,0)","v":" "},null,null,null,null,{"$f":"OFFSET(listy_slownikowe!$AI$2,I71,0)","v":" "},null,{"$f":"IFERROR(MATCH(D71,listy_slownikowe!$AH$3:$AH$326,0),0)","v":0},0]
[null,{"$f":"OFFSET(listy_slownikowe!$AG$2,I72,0)","v":" "},null,null,null,null,{"$f":"OFFSET(listy_slownikowe!$AI$2,I72,0)","v":" "},null,{"$f":"IFERROR(MATCH(D72,listy_slownikowe!$AH$3:$AH$326,0),0)","v":0},0]
[null,{"$f":"OFFSET(listy_slownikowe!$AG$2,I73,0)","v":" "},null,null,null,null,{"$f":"OFFSET(listy_slownikowe!$AI$2,I73,0)","v":" "},null,{"$f":"IFERROR(MATCH(D73,listy_slownikowe!$AH$3:$AH$326,0),0)","v":0},0]
[null,{"$f":"OFFSET(listy_slownikowe!$AG$2,I74,0)","v":" "},null,null,null,null,{"$f":"OFFSET(listy_slownikowe!$AI$2,I74,0)","v":" "},null,{"$f":"IFERROR(MATCH(D74,listy_slownikowe!$AH$3:$AH$326,0),0)","v":0},0]
[null,{"$f":"OFFSET(listy_slownikowe!$AG$2,I75,0)","v":" "},null,"",null,null,{"$f":"OFFSET(listy_slownikowe!$AI$2,I75,0)","v":" "},null,{"$f":"IFERROR(MATCH(D75,listy_slownikowe!$AH$3:$AH$326,0),0)","v":0},0]
[null,{"$f":"OFFSET(listy_slownikowe!$AG$2,I76,0)","v":" "},null,null,null,null,{"$f":"OFFSET(listy_slownikowe!$AI$2,I76,0)","v":" "},null,{"$f":"IFERROR(MATCH(D76,listy_slownikowe!$AH$3:$AH$326,0),0)","v":0},0]
[null,"Gatunki dominujące i subdominujące",null,null,null,null,null,null,null,{"$f":"J78","v":0}]
[null,"nazwa łacińska",null,"nazwa polska",null,null,"udział [%]",null,null,{"$f":"SUM(J79:J83)","v":0}]
[null,null,null,null,null,null,null,null,null,{"$f":"COUNTA(B79:G79)","v":0}]
[null,null,null,null,null,null,null,null,null,0]
[null,null,null,null,null,null,null,null,null,0]
[null,null,null,null,null,null,null,null,null,0]
[null,null,null,null,null,null,null,null,null,0]
[]
[null,"Spis gatunków numer:",null,null,null,null,{"$f":"G58+1","v":4},null,null,{"$f":"J89","v":0}]
[null,"Współrzędne geograficzne",null,null,null,null,null,null,null,{"$f":"J90","v":0}]
[null,"Długość geograficzna [E] ",null,null,"Szerokość geograficzna [N]",null,null,null,null,{"$f":"J90","v":0}]
[null,"stopnie","minuty","sekundy","stopnie","minuty","sekundy",null,null,{"$f":"J89","v":0}]
[null,null,null,null,null,null,null,null,null,{"$f":"J91+J105","v":0}]
[null,"Gatunki wskaźnikowe",null,null,null,null,null,null,null,{"$f":"J91","v":0}]
[null,"nazwa łacińska",null,"nazwa polska",null,null,"walor ",null,null,{"$f":"SUM(J92:J103)","v":0}]
[null,{"$f":"OFFSET(listy_slownikowe!$AG$2,I92,0)","v":" "},null,null,null,null,{"$f":"OFFSET(listy_slownikowe!$AI$2,I92,0)","v":" "},null,{"$f":"IFERROR(MATCH(D92,listy_slownikowe!$AH$3:$AH$326,0),0)","v":0},{"$f":"I92","v":0}]
[null,{"$f":"OFFSET(listy_slownikowe!$AG$2,I93,0)","v":" "},null,null,null,null,{"$f":"OFFSET(listy_slownikowe!$AI$2,I93,0)","v":" "},null,{"$f":"IFERROR(MATCH(D93,listy_slownikowe!$AH$3:$AH$326,0),0)","v":0},{"$f":"I93","v":0}]
[null,{"$f":"OFFSET(listy_slownikowe!$AG$2,I94,0)","v":" "},null,null,null,null,{"$f":"OFFSET(listy_slownikowe!$AI$2,I94,0)","v":" "},null,{"$f":"IFERROR(MATCH(D94,listy_slownikowe!$AH$3:$AH$326,0),0)","v":0},0]
[null,{"$f":"OFFSET(listy_slownikowe!$AG$2,I95,0)","v":" "},null,null,null,null,{"$f":"OFFSET(listy_slownikowe!$AI$2,I95,0)","v":" "},null,{"$f":"IFERROR(MATCH(D95,listy_slownikowe!$AH$3:$AH$326,0),0)","v":0},0]
[null,{"$f":"OFFSET(listy_slownikowe!$AG$2,I96,0)","v":" "},null,null,null,null,{"$f":"OFFSET(listy_slownikowe!$AI$2,I96,0)","v":" "},null,{"$f":"IFERROR(MATCH(D96,listy_slownikowe!$AH$3:$AH$326,0),0)","v":0},0]
[null,{"$f":"OFFSET(listy_slownikowe!$AG$2,I97,0)","v":" "},null,null,null,null,{"$f":"OFFSET(listy_slownikowe!$AI$2,I97,0)","v":" "},null,{"$f":"IFERROR(MATCH(D97,listy_slownikowe!$AH$3:$AH$326,0),0)","v":0},0]
[null,{"$f":"OFFSET(listy_slownikowe!$AG$2,I98,0)","v":" "},null,null,null,null,{"$f":"OFFSET(listy_slownikowe!$AI$2,I98,0)","v":" "},null,{"$f":"IFERROR(MATCH(D98,listy_slownikowe!$AH$3:$AH$326,0),0)","v":0},0]
[null,{"$f":"OFFSET(listy_slownikowe!$AG$2,I99,0)","v":" "},null,null,null,null,{"$f":"OFFSET(listy_slownikowe!$AI$2,I99,0)","v":" "},null,{"$f":"IFERROR(MATCH(D99,listy_slownikowe!$AH$3:$AH$326,0),0)","v":0},0]
[null,{"$f":"OFFSET(listy_slownikowe!$AG$2,I100,0)","v":" "},null,null,null,null,{"$f":"OFFSET(listy_slownikowe!$AI$2,I100,0)","v":" "},null,{"$f":"IFERROR(MATCH(D100,listy_slownikowe!$AH$3:$AH$326,0),0)","v":0},0]
[null,{"$f":"OFFSET(listy_slownikowe!$AG$2,I101,0)","v":" "},null,null,null,null,{"$f":"OFFSET(listy_slownikowe!$AI$2,I101,0)","v":" "},null,{"$f":"IFERROR(MATCH(D101,listy_slownikowe!$AH$3:$AH$326,0),0)","v":0},0]
[null,{"$f":"OFFSET(listy_slownikowe!$AG$2,I102,0)","v":" "},null,"",null,null,{"$f":"OFFSET(listy_slownikowe!$AI$2,I102,0)","v":" "},null,{"$f":"IFERROR(MATCH(D102,listy_slownikowe!$AH$3:$AH$326,0),0)","v":0},0]
[null,{"$f":"OFFSET(listy_slownikowe!$AG$2,I103,0)","v":" "},null,null,null,null,{"$f":"OFFSET(listy_slownikowe!$AI$2,I103,0)","v":" "},null,{"$f":"IFERROR(MATCH(D103,listy_slownikowe!$AH$3:$AH$326,0),0)","v":0},0]
[null,"Gatunki dominujące i subdominujące",null,null,null,null,null,null,null,{"$f":"J105","v":0}]
[null,"nazwa łacińska",null,"nazwa polska",null,null,"udział [%]",null,null,{"$f":"SUM(J106:J110)","v":0}]
[null,null,null,null,null,null,null,null,null,{"$f":"COUNTA(B106:G106)","v":0}]
[null,null,null,null,null,null,null,null,null,0]
[null,null,null,null,null,null,null,null,null,0]
[null,null,null,null,null,null,null,null,null,0]
[null,null,null,null,null,null,null,null,null,0]
[]
[null,"Spis gatunków numer:",null,null,null,null,{"$f":"G85+1","v":5},null,null,{"$f":"J116","v":0}]
[null,"Współrzędne geograficzne",null,null,null,null,null,null,null,{"$f":"J117","v":0}]
[null,"Długość geograficzna [E] ",null,null,"Szerokość geograficzna [N]",null,null,null,null,{"$f":"J117","v":0}]
[null,"stopnie","minuty","sekundy","stopnie","minuty","sekundy",null,null,{"$f":"J116","v":0}]
[null,null,null,null,null,null,null,null,null,{"$f":"J118+J132","v":0}]
[null,"Gatunki wskaźnikowe",null,null,null,null,null,null,null,{"$f":"J118","v":0}]
[null,"nazwa łacińska",null,"nazwa polska",null,null,"walor ",null,null,{"$f":"SUM(J119:J130)","v":0}]
[null,{"$f":"OFFSET(listy_slownikowe!$AG$2,I119,0)","v":" "},null,null,null,null,{"$f":"OFFSET(listy_slownikowe!$AI$2,I119,0)","v":" "},null,{"$f":"IFERROR(MATCH(D119,listy_slownikowe!$AH$3:$AH$326,0),0)","v":0},{"$f":"I119","v":0}]
[null,{"$f":"OFFSET(listy_slownikowe!$AG$2,I120,0)","v":" "},null,null,null,null,{"$f":"OFFSET(listy_slownikowe!$AI$2,I120,0)","v":" "},null,{"$f":"IFERROR(MATCH(D120,listy_slownikowe!$AH$3:$AH$326,0),0)","v":0},{"$f":"I120","v":0}]
[null,{"$f":"OFFSET(listy_slownikowe!$AG$2,I121,0)","v":" "},null,null,null,null,{"$f":"OFFSET(listy_slownikowe!$AI$2,I121,0)","v":" "},null,{"$f":"IFERROR(MATCH(D121,listy_slownikowe!$AH$3:$AH$326,0),0)","v":0},0]
[null,{"$f":"OFFSET(listy_slownikowe!$AG$2,I122,0)","v":" "},null,null,null,null,{"$f":"OFFSET(listy_slownikowe!$AI$2,I122,0)","v":" "},null,{"$f":"IFERROR(MATCH(D122,listy_slownikowe!$AH$3:$AH$326,0),0)","v":0},0]
[null,{"$f":"OFFSET(listy_slownikowe!$AG$2,I123,0)","v":" "},null,null,null,null,{"$f":"OFFSET(listy_slownikowe!$AI$2,I123,0)","v":" "},null,{"$f":"IFERROR(MATCH(D123,listy_slownikowe!$AH$3:$AH$326,0),0)","v":0},0]
[null,{"$f":"OFFSET(listy_slownikowe!$AG$2,I124,0)","v":" "},null,null,null,null,{"$f":"OFFSET(listy_slownikowe!$AI$2,I124,0)","v":" "},null,{"$f":"IFERROR(MATCH(D124,listy_slownikowe!$AH$3:$AH$326,0),0)","v":0},0]
[null,{"$f":"OFFSET(listy_slownikowe!$AG$2,I125,0)","v":" "},null,null,null,null,{"$f":"OFFSET(listy_slownikowe!$AI$2,I125,0)","v":" "},null,{"$f":"IFERROR(MATCH(D125,listy_slownikowe!$AH$3:$AH$326,0),0)","v":0},0]
[null,{"$f":"OFFSET(listy_slownikowe!$AG$2,I126,0)","v":" "},null,null,null,null,{"$f":"OFFSET(listy_slownikowe!$AI$2,I126,0)","v":" "},null,{"$f":"IFERROR(MATCH(D126,listy_slownikowe!$AH$3:$AH$326,0),0)","v":0},0]
[null,{"$f":"OFFSET(listy_slownikowe!$AG$2,I127,0)","v":" "},null,null,null,null,{"$f":"OFFSET(listy_slownikowe!$AI$2,I127,0)","v":" "},null,{"$f":"IFERROR(MATCH(D127,listy_slownikowe!$AH$3:$AH$326,0),0)","v":0},0]
[null,{"$f":"OFFSET(listy_slownikowe!$AG$2,I128,0)","v":" "},null,null,null,null,{"$f":"OFFSET(listy_slownikowe!$AI$2,I128,0)","v":" "},null,{"$f":"IFERROR(MATCH(D128,listy_slownikowe!$AH$3:$AH$326,0),0)","v":0},0]
[null,{"$f":"OFFSET(listy_slownikowe!$AG$2,I129,0)","v":" "},null,"",null,null,{"$f":"OFFSET(listy_slownikowe!$AI$2,I129,0)","v":" "},null,{"$f":"IFERROR(MATCH(D129,listy_slownikowe!$AH$3:$AH$326,0),0)","v":0},0]
[null,{"$f":"OFFSET(listy_slownikowe!$AG$2,I130,0)","v":" "},null,null,null,null,{"$f":"OFFSET(listy_slownikowe!$AI$2,I130,0)","v":" "},null,{"$f":"IFERROR(MATCH(D130,listy_slownikowe!$AH$3:$AH$326,0),0)","v":0},0]
[null,"Gatunki dominujące i subdominujące",null,null,null,null,null,null,null,{"$f":"J132","v":0}]
[null,"nazwa łacińska",null,"nazwa polska",null,null,"udział [%]",null,null,{"$f":"SUM(J133:J137)","v":0}]
[null,null,null,null,null,null,null,null,null,{"$f":"COUNTA(B133:G133)","v":0}]
[null,null,null,null,null,null,null,null,null,0]
[null,null,null,null,null,null,null,null,null,0]
[null,null,null,null,null,null,null,null,null,0]
[null,null,null,null,null,null,null,null,null,0]
[]
[null,"Spis gatunków numer:",null,null,null,null,{"$f":"G112+1","v":6},null,null,{"$f":"J143","v":0}]
[null,"Współrzędne geograficzne",null,null,null,null,null,null,null,{"$f":"J144","v":0}]
[null,"Długość geograficzna [E] ",null,null,"Szerokość geograficzna [N]",null,null,null,null,{"$f":"J144","v":0}]
[null,"stopnie","minuty","sekundy","stopnie","minuty","sekundy",null,null,{"$f":"J143","v":0}]
[null,null,null,null,null,null,null,null,null,{"$f":"J145+J159","v":0}]
[null,"Gatunki wskaźnikowe",null,null,null,null,null,null,null,{"$f":"J145","v":0}]
[null,"nazwa łacińska",null,"nazwa polska",null,null,"walor ",null,null,{"$f":"SUM(J146:J157)","v":0}]
[null,{"$f":"OFFSET(listy_slownikowe!$AG$2,I146,0)","v":" "},null,null,null,null,{"$f":"OFFSET(listy_slownikowe!$AI$2,I146,0)","v":" "},null,{"$f":"IFERROR(MATCH(D146,listy_slownikowe!$AH$3:$AH$326,0),0)","v":0},{"$f":"I146","v":0}]
[null,{"$f":"OFFSET(listy_slownikowe!$AG$2,I147,0)","v":" "},null,null,null,null,{"$f":"OFFSET(listy_slownikowe!$AI$2,I147,0)","v":" "},null,{"$f":"IFERROR(MATCH(D147,listy_slownikowe!$AH$3:$AH$326,0),0)","v":0},{"$f":"I147","v":0}]
[null,{"$f":"OFFSET(listy_slownikowe!$AG$2,I148,0)","v":" "},null,null,null,null,{"$f":"OFFSET(listy_slownikowe!$AI$2,I148,0)","v":" "},null,{"$f":"IFERROR(MATCH(D148,listy_slownikowe!$AH$3:$AH$326,0),0)","v":0},0]
[null,{"$f":"OFFSET(listy_slownikowe!$AG$2,I149,0)","v":" "},null,null,null,null,{"$f":"OFFSET(listy_slownikowe!$AI$2,I149,0)","v":" "},null,{"$f":"IFERROR(MATCH(D149,listy_slownikowe!$AH$3:$AH$326,0),0)","v":0},0]
[null,{"$f":"OFFSET(listy_slownikowe!$AG$2,I150,0)","v":" "},null,null,null,null,{"$f":"OFFSET(listy_slownikowe!$AI$2,I150,0)","v":" "},null,{"$f":"IFERROR(MATCH(D150,listy_slownikowe!$AH$3:$AH$326,0),0)","v":0},0]
[null,{"$f":"OFFSET(listy_slownikowe!$AG$2,I151,0)","v":" "},null,null,null,null,{"$f":"OFFSET(listy_slownikowe!$AI$2,I151,0)","v":" "},null,{"$f":"IFERROR(MATCH(D151,listy_slownikowe!$AH$3:$AH$326,0),0)","v":0},0]
[null,{"$f":"OFFSET(listy_slownikowe!$AG$2,I152,0)","v":" "},null,null,null,null,{"$f":"OFFSET(listy_slownikowe!$AI$2,I152,0)","v":" "},null,{"$f":"IFERROR(MATCH(D152,listy_slownikowe!$AH$3:$AH$326,0),0)","v":0},0]
[null,{"$f":"OFFSET(listy_slownikowe!$AG$2,I153,0)","v":" "},null,null,null,null,{"$f":"OFFSET(listy_slownikowe!$AI$2,I153,0)","v":" "},null,{"$f":"IFERROR(MATCH(D153,listy_slownikowe!$AH$3:$AH$326,0),0)","v":0},0]
[null,{"$f":"OFFSET(listy_slownikowe!$AG$2,I154,0)","v":" "},null,null,null,null,{"$f":"OFFSET(listy_slownikowe!$AI$2,I154,0)","v":" "},null,{"$f":"IFERROR(MATCH(D154,listy_slownikowe!$AH$3:$AH$326,0),0)","v":0},0]
[null,{"$f":"OFFSET(listy_slownikowe!$AG$2,I155,0)","v":" "},null,null,null,null,{"$f":"OFFSET(listy_slownikowe!$AI$2,I155,0)","v":" "},null,{"$f":"IFERROR(MATCH(D155,listy_slownikowe!$AH$3:$AH$326,0),0)","v":0},0]
[null,{"$f":"OFFSET(listy_slownikowe!$AG$2,I156,0)","v":" "},null,"",null,null,{"$f":"OFFSET(listy_slownikowe!$AI$2,I156,0)","v":" "},null,{"$f":"IFERROR(MATCH(D156,listy_slownikowe!$AH$3:$AH$326,0),0)","v":0},0]
[null,{"$f":"OFFSET(listy_slownikowe!$AG$2,I157,0)","v":" "},null,null,null,null,{"$f":"OFFSET(listy_slownikowe!$AI$2,I157,0)","v":" "},null,{"$f":"IFERROR(MATCH(D157,listy_slownikowe!$AH$3:$AH$326,0),0)","v":0},0]
[null,"Gatunki dominujące i subdominujące",null,null,null,null,null,null,null,{"$f":"J159","v":0}]
[null,"nazwa łacińska",null,"nazwa polska",null,null,"udział [%]",null,null,{"$f":"SUM(J160:J164)","v":0}]
[null,null,null,null,null,null,null,null,null,{"$f":"COUNTA(B160:G160)","v":0}]
[null,null,null,null,null,null,null,null,null,0]
[null,null,null,null,null,null,null,null,null,0]
[null,null,null,null,null,null,null,null,null,0]
[null,null,null,null,null,null,null,null,null,0]
[]
[null,"Spis gatunków numer:",null,null,null,null,{"$f":"G139+1","v":7},null,null,{"$f":"J170","v":0}]
[null,"Współrzędne geograficzne",null,null,null,null,null,null,null,{"$f":"J171","v":0}]
[null,"Długość geograficzna [E] ",null,null,"Szerokość geograficzna [N]",null,null,null,null,{"$f":"J171","v":0}]
[null,"stopnie","minuty","sekundy","stopnie","minuty","sekundy",null,null,{"$f":"J170","v":0}]
[null,null,null,null,null,null,null,null,null,{"$f":"J172+J186","v":0}]
[null,"Gatunki wskaźnikowe",null,null,null,null,null,null,null,{"$f":"J172","v":0}]
[null,"nazwa łacińska",null,"nazwa polska",null,null,"walor ",null,null,{"$f":"SUM(J173:J184)","v":0}]
[null,{"$f":"OFFSET(listy_slownikowe!$AG$2,I173,0)","v":" "},null,null,null,null,{"$f":"OFFSET(listy_slownikowe!$AI$2,I173,0)","v":" "},null,{"$f":"IFERROR(MATCH(D173,listy_slownikowe!$AH$3:$AH$326,0),0)","v":0},{"$f":"I173","v":0}]
[null,{"$f":"OFFSET(listy_slownikowe!$AG$2,I174,0)","v":" "},null,null,null,null,{"$f":"OFFSET(listy_slownikowe!$AI$2,I174,0)","v":" "},null,{"$f":"IFERROR(MATCH(D174,listy_slownikowe!$AH$3:$AH$326,0),0)","v":0},{"$f":"I174","v":0}]
[null,{"$f":"OFFSET(listy_slownikowe!$AG$2,I175,0)","v":" "},null,null,null,null,{"$f":"OFFSET(listy_slownikowe!$AI$2,I175,0)","v":" "},null,{"$f":"IFERROR(MATCH(D175,listy_slownikowe!$AH$3:$AH$326,0),0)","v":0},0]
[null,{"$f":"OFFSET(listy_slownikowe!$AG$2,I176,0)","v":" "},null,null,null,null,{"$f":"OFFSET(listy_slownikowe!$AI$2,I176,0)","v":" "},null,{"$f":"IFERROR(MATCH(D176,listy_slownikowe!$AH$3:$AH$326,0),0)","v":0},0]
[null,{"$f":"OFFSET(listy_slownikowe!$AG$2,I177,0)","v":" "},null,null,null,null,{"$f":"OFFSET(listy_slownikowe!$AI$2,I177,0)","v":" "},null,{"$f":"IFERROR(MATCH(D177,listy_slownikowe!$AH$3:$AH$326,0),0)","v":0},0]
[null,{"$f":"OFFSET(listy_slownikowe!$AG$2,I178,0)","v":" "},null,null,null,null,{"$f":"OFFSET(listy_slownikowe!$AI$2,I178,0)","v":" "},null,{"$f":"IFERROR(MATCH(D178,listy_slownikowe!$AH$3:$AH$326,0),0)","v":0},0]
[null,{"$f":"OFFSET(listy_slownikowe!$AG$2,I179,0)","v":" "},null,null,null,null,{"$f":"OFFSET(listy_slownikowe!$AI$2,I179,0)","v":" "},null,{"$f":"IFERROR(MATCH(D179,listy_slownikowe!$AH$3:$AH$326,0),0)","v":0},0]
[null,{"$f":"OFFSET(listy_slownikowe!$AG$2,I180,0)","v":" "},null,null,null,null,{"$f":"OFFSET(listy_slownikowe!$AI$2,I180,0)","v":" "},null,{"$f":"IFERROR(MATCH(D180,listy_slownikowe!$AH$3:$AH$326,0),0)","v":0},0]
[null,{"$f":"OFFSET(listy_slownikowe!$AG$2,I181,0)","v":" "},null,null,null,null,{"$f":"OFFSET(listy_slownikowe!$AI$2,I181,0)","v":" "},null,{"$f":"IFERROR(MATCH(D181,listy_slownikowe!$AH$3:$AH$326,0),0)","v":0},0]
[null,{"$f":"OFFSET(listy_slownikowe!$AG$2,I182,0)","v":" "},null,null,null,null,{"$f":"OFFSET(listy_slownikowe!$AI$2,I182,0)","v":" "},null,{"$f":"IFERROR(MATCH(D182,listy_slownikowe!$AH$3:$AH$326,0),0)","v":0},0]
[null,{"$f":"OFFSET(listy_slownikowe!$AG$2,I183,0)","v":" "},null,"",null,null,{"$f":"OFFSET(listy_slownikowe!$AI$2,I183,0)","v":" "},null,{"$f":"IFERROR(MATCH(D183,listy_slownikowe!$AH$3:$AH$326,0),0)","v":0},0]
[null,{"$f":"OFFSET(listy_slownikowe!$AG$2,I184,0)","v":" "},null,null,null,null,{"$f":"OFFSET(listy_slownikowe!$AI$2,I184,0)","v":" "},null,{"$f":"IFERROR(MATCH(D184,listy_slownikowe!$AH$3:$AH$326,0),0)","v":0},0]
[null,"Gatunki dominujące i subdominujące",null,null,null,null,null,null,null,{"$f":"J186","v":0}]
[null,"nazwa łacińska",null,"nazwa polska",null,null,"udział [%]",null,null,{"$f":"SUM(J187:J191)","v":0}]
[null,null,null,null,null,null,null,null,null,{"$f":"COUNTA(B187:G187)","v":0}]
[null,null,null,null,null,null,null,null,null,0]
[null,null,null,null,null,null,null,null,null,0]
[null,null,null,null,null,null,null,null,null,0]
[null,null,null,null,null,null,null,null,null,0]
[]
[null,"Spis gatunków numer:",null,null,null,null,{"$f":"G166+1","v":8},null,null,{"$f":"J197","v":0}]
[null,"Współrzędne geograficzne",null,null,null,null,null,null,null,{"$f":"J198","v":0}]
[null,"Długość geograficzna [E] ",null,null,"Szerokość geograficzna [N]",null,null,null,null,{"$f":"J198","v":0}]
[null,"stopnie","minuty","sekundy","stopnie","minuty","sekundy",null,null,{"$f":"J197","v":0}]
[null,null,null,null,null,null,null,null,null,{"$f":"J199+J213","v":0}]
[null,"Gatunki wskaźnikowe",null,null,null,null,null,null,null,{"$f":"J199","v":0}]
[null,"nazwa łacińska",null,"nazwa polska",null,null,"walor ",null,null,{"$f":"SUM(J200:J211)","v":0}]
[null,{"$f":"OFFSET(listy_slownikowe!$AG$2,I200,0)","v":" "},null,null,null,null,{"$f":"OFFSET(listy_slownikowe!$AI$2,I200,0)","v":" "},null,{"$f":"IFERROR(MATCH(D200,listy_slownikowe!$AH$3:$AH$326,0),0)","v":0},{"$f":"I200","v":0}]
[null,{"$f":"OFFSET(listy_slownikowe!$AG$2,I201,0)","v":" "},null,null,null,null,{"$f":"OFFSET(listy_slownikowe!$AI$2,I201,0)","v":" "},null,{"$f":"IFERROR(MATCH(D201,listy_slownikowe!$AH$3:$AH$326,0),0)","v":0},{"$f":"I201","v":0}]
[null,{"$f":"OFFSET(listy_slownikowe!$AG$2,I202,0)","v":" "},null,null,null,null,{"$f":"OFFSET(listy_slownikowe!$AI$2,I202,0)","v":" "},null,{"$f":"IFERROR(MATCH(D202,listy_slownikowe!$AH$3:$AH$326,0),0)","v":0},0]
[null,{"$f":"OFFSET(listy_slownikowe!$AG$2,I203,0)","v":" "},null,null,null,null,{"$f":"OFFSET(listy_slownikowe!$AI$2,I203,0)","v":" "},null,{"$f":"IFERROR(MATCH(D203,listy_slownikowe!$AH$3:$AH$326,0),0)","v":0},0]
[null,{"$f":"OFFSET(listy_slownikowe!$AG$2,I204,0)","v":" "},null,null,null,null,{"$f":"OFFSET(listy_slownikowe!$AI$2,I204,0)","v":" "},null,{"$f":"IFERROR(MATCH(D204,listy_slownikowe!$AH$3:$AH$326,0),0)","v":0},0]
[null,{"$f":"OFFSET(listy_slownikowe!$AG$2,I205,0)","v":" "},null,null,null,null,{"$f":"OFFSET(listy_slownikowe!$AI$2,I205,0)","v":" "},null,{"$f":"IFERROR(MATCH(D205,listy_slownikowe!$AH$3:$AH$326,0),0)","v":0},0]
[null,{"$f":"OFFSET(listy_slownikowe!$AG$2,I206,0)","v":" "},null,null,null,null,{"$f":"OFFSET(listy_slownikowe!$AI$2,I206,0)","v":" "},null,{"$f":"IFERROR(MATCH(D206,listy_slownikowe!$AH$3:$AH$326,0),0)","v":0},0]
[null,{"$f":"OFFSET(listy_slownikowe!$AG$2,I207,0)","v":" "},null,null,null,null,{"$f":"OFFSET(listy_slownikowe!$AI$2,I207,0)","v":" "},null,{"$f":"IFERROR(MATCH(D207,listy_slownikowe!$AH$3:$AH$326,0),0)","v":0},0]
[null,{"$f":"OFFSET(listy_slownikowe!$AG$2,I208,0)","v":" "},null,null,null,null,{"$f":"OFFSET(listy_slownikowe!$AI$2,I208,0)","v":" "},null,{"$f":"IFERROR(MATCH(D208,listy_slownikowe!$AH$3:$AH$326,0),0)","v":0},0]
[null,{"$f":"OFFSET(listy_slownikowe!$AG$2,I209,0)","v":" "},null,null,null,null,{"$f":"OFFSET(listy_slownikowe!$AI$2,I209,0)","v":" "},null,{"$f":"IFERROR(MATCH(D209,listy_slownikowe!$AH$3:$AH$326,0),0)","v":0},0]
[null,{"$f":"OFFSET(listy_slownikowe!$AG$2,I210,0)","v":" "},null,"",null,null,{"$f":"OFFSET(listy_slownikowe!$AI$2,I210,0)","v":" "},null,{"$f":"IFERROR(MATCH(D210,listy_slownikowe!$AH$3:$AH$326,0),0)","v":0},0]
[null,{"$f":"OFFSET(listy_slownikowe!$AG$2,I211,0)","v":" "},null,null,null,null,{"$f":"OFFSET(listy_slownikowe!$AI$2,I211,0)","v":" "},null,{"$f":"IFERROR(MATCH(D211,listy_slownikowe!$AH$3:$AH$326,0),0)","v":0},0]
[null,"Gatunki dominujące i subdominujące",null,null,null,null,null,null,null,{"$f":"J213","v":0}]
[null,"nazwa łacińska",null,"nazwa polska",null,null,"udział [%]",null,null,{"$f":"SUM(J214:J218)","v":0}]
[null,null,null,null,null,null,null,null,null,{"$f":"COUNTA(B214:G214)","v":0}]
[null,null,null,null,null,null,null,null,null,0]
[null,null,null,null,null,null,null,null,null,0]
[null,null,null,null,null,null,null,null,null,0]
[null,null,null,null,null,null,null,null,null,0]
[]
[null,"Spis gatunków numer:",null,null,null,null,{"$f":"G193+1","v":9},null,null,{"$f":"J224","v":0}]
[null,"Współrzędne geograficzne",null,null,null,null,null,null,null,{"$f":"J225","v":0}]
[null,"Długość geograficzna [E] ",null,null,"Szerokość geograficzna [N]",null,null,null,null,{"$f":"J225","v":0}]
[null,"stopnie","minuty","sekundy","stopnie","minuty","sekundy",null,null,{"$f":"J224","v":0}]
[null,null,null,null,null,null,null,null,null,{"$f":"J226+J240","v":0}]
[null,"Gatunki wskaźnikowe",null,null,null,null,null,null,null,{"$f":"J226","v":0}]
[null,"nazwa łacińska",null,"nazwa polska",null,null,"walor ",null,null,{"$f":"SUM(J227:J238)","v":0}]
[null,{"$f":"OFFSET(listy_slownikowe!$AG$2,I227,0)","v":" "},null,null,null,null,{"$f":"OFFSET(listy_slownikowe!$AI$2,I227,0)","v":" "},null,{"$f":"IFERROR(MATCH(D227,listy_slownikowe!$AH$3:$AH$326,0),0)","v":0},{"$f":"I227","v":0}]
[null,{"$f":"OFFSET(listy_slownikowe!$AG$2,I228,0)","v":" "},null,null,null,null,{"$f":"OFFSET(listy_slownikowe!$AI$2,I228,0)","v":" "},null,{"$f":"IFERROR(MATCH(D228,listy_slownikowe!$AH$3:$AH$326,0),0)","v":0},{"$f":"I228","v":0}]
[null,{"$f":"OFFSET(listy_slownikowe!$AG$2,I229,0)","v":" "},null,null,null,null,{"$f":"OFFSET(listy_slownikowe!$AI$2,I229,0)","v":" "},null,{"$f":"IFERROR(MATCH(D229,listy_slownikowe!$AH$3:$AH$326,0),0)","v":0},0]
[null,{"$f":"OFFSET(listy_slownikowe!$AG$2,I230,0)","v":" "},null,null,null,null,{"$f":"OFFSET(listy_slownikowe!$AI$2,I230,0)","v":" "},null,{"$f":"IFERROR(MATCH(D230,listy_slownikowe!$AH$3:$AH$326,0),0)","v":0},0]
[null,{"$f":"OFFSET(listy_slownikowe!$AG$2,I231,0)","v":" "},null,null,null,null,{"$f":"OFFSET(listy_slownikowe!$AI$2,I231,0)","v":" "},null,{"$f":"IFERROR(MATCH(D231,listy_slownikowe!$AH$3:$AH$326,0),0)","v":0},0]
[null,{"$f":"OFFSET(listy_slownikowe!$AG$2,I232,0)","v":" "},null,null,null,null,{"$f":"OFFSET(listy_slownikowe!$AI$2,I232,0)","v":" "},null,{"$f":"IFERROR(MATCH(D232,listy_slownikowe!$AH$3:$AH$326,0),0)","v":0},0]
[null,{"$f":"OFFSET(listy_slownikowe!$AG$2,I233,0)","v":" "},null,null,null,null,{"$f":"OFFSET(listy_slownikowe!$AI$2,I233,0)","v":" "},null,{"$f":"IFERROR(MATCH(D233,listy_slownikowe!$AH$3:$AH$326,0),0)","v":0},0]
[null,{"$f":"OFFSET(listy_slownikowe!$AG$2,I234,0)","v":" "},null,null,null,null,{"$f":"OFFSET(listy_slownikowe!$AI$2,I234,0)","v":" "},null,{"$f":"IFERROR(MATCH(D234,listy_slownikowe!$AH$3:$AH$326,0),0)","v":0},0]
[null,{"$f":"OFFSET(listy_slownikowe!$AG$2,I235,0)","v":" "},null,null,null,null,{"$f":"OFFSET(listy_slownikowe!$AI$2,I235,0)","v":" "},null,{"$f":"IFERROR(MATCH(D235,listy_slownikowe!$AH$3:$AH$326,0),0)","v":0},0]
[null,{"$f":"OFFSET(listy_slownikowe!$AG$2,I236,0)","v":" "},null,null,null,null,{"$f":"OFFSET(listy_slownikowe!$AI$2,I236,0)","v":" "},null,{"$f":"IFERROR(MATCH(D236,listy_slownikowe!$AH$3:$AH$326,0),0)","v":0},0]
[null,{"$f":"OFFSET(listy_slownikowe!$AG$2,I237,0)","v":" "},null,"",null,null,{"$f":"OFFSET(listy_slownikowe!$AI$2,I237,0)","v":" "},null,{"$f":"IFERROR(MATCH(D237,listy_slownikowe!$AH$3:$AH$326,0),0)","v":0},0]
[null,{"$f":"OFFSET(listy_slownikowe!$AG$2,I238,0)","v":" "},null,null,null,null,{"$f":"OFFSET(listy_slownikowe!$AI$2,I238,0)","v":" "},null,{"$f":"IFERROR(MATCH(D238,listy_slownikowe!$AH$3:$AH$326,0),0)","v":0},0]
[null,"Gatunki dominujące i subdominujące",null,null,null,null,null,null,null,{"$f":"J240","v":0}]
[null,"nazwa łacińska",null,"nazwa polska",null,null,"udział [%]",null,null,{"$f":"SUM(J241:J245)","v":0}]
[null,null,null,null,null,null,null,null,null,{"$f":"COUNTA(B241:G241)","v":0}]
[null,null,null,null,null,null,null,null,null,0]
[null,null,null,null,null,null,null,null,null,0]
[null,null,null,null,null,null,null,null,null,0]
[null,null,null,null,null,null,null,null,null,0]
[]
[null,"Spis gatunków numer:",null,null,null,null,{"$f":"G220+1","v":10},null,null,{"$f":"J251","v":0}]
[null,"Współrzędne geograficzne",null,null,null,null,null,null,null,{"$f":"J252","v":0}]
[null,"Długość geograficzna [E] ",null,null,"Szerokość geograficzna [N]",null,null,null,null,{"$f":"J252","v":0}]
[null,"stopnie","minuty","sekundy","stopnie","minuty","sekundy",null,null,{"$f":"J251","v":0}]
[null,null,null,null,null,null,null,null,null,{"$f":"J253+J267","v":0}]
[null,"Gatunki wskaźnikowe",null,null,null,null,null,null,null,{"$f":"J253","v":0}]
[null,"nazwa łacińska",null,"nazwa polska",null,null,"walor ",null,null,{"$f":"SUM(J254:J265)","v":0}]
[null,{"$f":"OFFSET(listy_slownikowe!$AG$2,I254,0)","v":" "},null,null,null,null,{"$f":"OFFSET(listy_slownikowe!$AI$2,I254,0)","v":" "},null,{"$f":"IFERROR(MATCH(D254,listy_slownikowe!$AH$3:$AH$326,0),0)","v":0},{"$f":"I254","v":0}]
[null,{"$f":"OFFSET(listy_slownikowe!$AG$2,I255,0)","v":" "},null,null,null,null,{"$f":"OFFSET(listy_slownikowe!$AI$2,I255,0)","v":" "},null,{"$f":"IFERROR(MATCH(D255,listy_slownikowe!$AH$3:$AH$326,0),0)","v":0},{"$f":"I255","v":0}]
[null,{"$f":"OFFSET(listy_slownikowe!$AG$2,I256,0)","v":" "},null,null,null,null,{"$f":"OFFSET(listy_slownikowe!$AI$2,I256,0)","v":" "},null,{"$f":"IFERROR(MATCH(D256,listy_slownikowe!$AH$3:$AH$326,0),0)","v":0},0]
[null,{"$f":"OFFSET(listy_slownikowe!$AG$2,I257,0)","v":" "},null,null,null,null,{"$f":"OFFSET(listy_slownikowe!$AI$2,I257,0)","v":" "},null,{"$f":"IFERROR(MATCH(D257,listy_slownikowe!$AH$3:$AH$326,0),0)","v":0},0]
[null,{"$f":"OFFSET(listy_slownikowe!$AG$2,I258,0)","v":" "},null,null,null,null,{"$f":"OFFSET(listy_slownikowe!$AI$2,I258,0)","v":" "},null,{"$f":"IFERROR(MATCH(D258,listy_slownikowe!$AH$3:$AH$326,0),0)","v":0},0]
[null,{"$f":"OFFSET(listy_slownikowe!$AG$2,I259,0)","v":" "},null,null,null,null,{"$f":"OFFSET(listy_slownikowe!$AI$2,I259,0)","v":" "},null,{"$f":"IFERROR(MATCH(D259,listy_slownikowe!$AH$3:$AH$326,0),0)","v":0},0]
[null,{"$f":"OFFSET(listy_slownikowe!$AG$2,I260,0)","v":" "},null,null,null,null,{"$f":"OFFSET(listy_slownikowe!$AI$2,I260,0)","v":" "},null,{"$f":"IFERROR(MATCH(D260,listy_slownikowe!$AH$3:$AH$326,0),0)","v":0},0]
[null,{"$f":"OFFSET(listy_slownikowe!$AG$2,I261,0)","v":" "},null,null,null,null,{"$f":"OFFSET(listy_slownikowe!$AI$2,I261,0)","v":" "},null,{"$f":"IFERROR(MATCH(D261,listy_slownikowe!$AH$3:$AH$326,0),0)","v":0},0]
[null,{"$f":"OFFSET(listy_slownikowe!$AG$2,I262,0)","v":" "},null,null,null,null,{"$f":"OFFSET(listy_slownikowe!$AI$2,I262,0)","v":" "},null,{"$f":"IFERROR(MATCH(D262,listy_slownikowe!$AH$3:$AH$326,0),0)","v":0},0]
[null,{"$f":"OFFSET(listy_slownikowe!$AG$2,I263,0)","v":" "},null,null,null,null,{"$f":"OFFSET(listy_slownikowe!$AI$2,I263,0)","v":" "},null,{"$f":"IFERROR(MATCH(D263,listy_slownikowe!$AH$3:$AH$326,0),0)","v":0},0]
[null,{"$f":"OFFSET(listy_slownikowe!$AG$2,I264,0)","v":" "},null,"",null,null,{"$f":"OFFSET(listy_slownikowe!$AI$2,I264,0)","v":" "},null,{"$f":"IFERROR(MATCH(D264,listy_slownikowe!$AH$3:$AH$326,0),0)","v":0},0]
[null,{"$f":"OFFSET(listy_slownikowe!$AG$2,I265,0)","v":" "},null,null,null,null,{"$f":"OFFSET(listy_slownikowe!$AI$2,I265,0)","v":" "},null,{"$f":"IFERROR(MATCH(D265,listy_slownikowe!$AH$3:$AH$326,0),0)","v":0},0]
[null,"Gatunki dominujące i subdominujące",null,null,null,null,null,null,null,{"$f":"J267","v":0}]
[null,"nazwa łacińska",null,"nazwa polska",null,null,"udział [%]",null,null,{"$f":"SUM(J268:J272)","v":0}]
[null,null,null,null,null,null,null,null,null,{"$f":"COUNTA(B268:G268)","v":0}]
[null,null,null,null,null,null,null,null,null,0]
[null,null,null,null,null,null,null,null,null,0]
[null,null,null,null,null,null,null,null,null,0]
[null,null,null,null,null,null,null,null,null,0]
[]
[null,"Spis gatunków numer:",null,null,null,null,{"$f":"G247+1","v":11},null,null,{"$f":"J278","v":0}]
[null,"Współrzędne geograficzne",null,null,null,null,null,null,null,{"$f":"J279","v":0}]
[null,"Długość geograficzna [E] ",null,null,"Szerokość geograficzna [N]",null,null,null,null,{"$f":"J279","v":0}]
[null,"stopnie","minuty","sekundy","stopnie","minuty","sekundy",null,null,{"$f":"J278","v":0}]
[null,null,null,null,null,null,null,null,null,{"$f":"J280+J294","v":0}]
[null,"Gatunki wskaźnikowe",null,null,null,null,null,null,null,{"$f":"J280","v":0}]
[null,"nazwa łacińska",null,"nazwa polska",null,null,"walor ",null,null,{"$f":"SUM(J281:J292)","v":0}]
[null,{"$f":"OFFSET(listy_slownikowe!$AG$2,I281,0)","v":" "},null,null,null,null,{"$f":"OFFSET(listy_slownikowe!$AI$2,I281,0)","v":" "},null,{"$f":"IFERROR(MATCH(D281,listy_slownikowe!$AH$3:$AH$326,0),0)","v":0},{"$f":"I281","v":0}]
[null,{"$f":"OFFSET(listy_slownikowe!$AG$2,I282,0)","v":" "},null,null,null,null,{"$f":"OFFSET(listy_slownikowe!$AI$2,I282,0)","v":" "},null,{"$f":"IFERROR(MATCH(D282,listy_slownikowe!$AH$3:$AH$326,0),0)","v":0},{"$f":"I282","v":0}]
[null,{"$f":"OFFSET(listy_slownikowe!$AG$2,I283,0)","v":" "},null,null,null,null,{"$f":"OFFSET(listy_slownikowe!$AI$2,I283,0)","v":" "},null,{"$f":"IFERROR(MATCH(D283,listy_slownikowe!$AH$3:$AH$326,0),0)","v":0},0]
[null,{"$f":"OFFSET(listy_slownikowe!$AG$2,I284,0)","v":" "},null,null,null,null,{"$f":"OFFSET(listy_slownikowe!$AI$2,I284,0)","v":" "},null,{"$f":"IFERROR(MATCH(D284,listy_slownikowe!$AH$3:$AH$326,0),0)","v":0},0]
[null,{"$f":"OFFSET(listy_slownikowe!$AG$2,I285,0)","v":" "},null,null,null,null,{"$f":"OFFSET(listy_slownikowe!$AI$2,I285,0)","v":" "},null,{"$f":"IFERROR(MATCH(D285,listy_slownikowe!$AH$3:$AH$326,0),0)","v":0},0]
[null,{"$f":"OFFSET(listy_slownikowe!$AG$2,I286,0)","v":" "},null,null,null,null,{"$f":"OFFSET(listy_slownikowe!$AI$2,I286,0)","v":" "},null,{"$f":"IFERROR(MATCH(D286,listy_slownikowe!$AH$3:$AH$326,0),0)","v":0},0]
[null,{"$f":"OFFSET(listy_slownikowe!$AG$2,I287,0)","v":" "},null,null,null,null,{"$f":"OFFSET(listy_slownikowe!$AI$2,I287,0)","v":" "},null,{"$f":"IFERROR(MATCH(D287,listy_slownikowe!$AH$3:$AH$326,0),0)","v":0},0]
[null,{"$f":"OFFSET(listy_slownikowe!$AG$2,I288,0)","v":" "},null,null,null,null,{"$f":"OFFSET(listy_slownikowe!$AI$2,I288,0)","v":" "},null,{"$f":"IFERROR(MATCH(D288,listy_slownikowe!$AH$3:$AH$326,0),0)","v":0},0]
[null,{"$f":"OFFSET(listy_slownikowe!$AG$2,I289,0)","v":" "},null,null,null,null,{"$f":"OFFSET(listy_slownikowe!$AI$2,I289,0)","v":" "},null,{"$f":"IFERROR(MATCH(D289,listy_slownikowe!$AH$3:$AH$326,0),0)","v":0},0]
[null,{"$f":"OFFSET(listy_slownikowe!$AG$2,I290,0)","v":" "},null,null,null,null,{"$f":"OFFSET(listy_slownikowe!$AI$2,I290,0)","v":" "},null,{"$f":"IFERROR(MATCH(D290,listy_slownikowe!$AH$3:$AH$326,0),0)","v":0},0]
[null,{"$f":"OFFSET(listy_slownikowe!$AG$2,I291,0)","v":" "},null,"",null,null,{"$f":"OFFSET(listy_slownikowe!$AI$2,I291,0)","v":" "},null,{"$f":"IFERROR(MATCH(D291,listy_slownikowe!$AH$3:$AH$326,0),0)","v":0},0]
[null,{"$f":"OFFSET(listy_slownikowe!$AG$2,I292,0)","v":" "},null,null,null,null,{"$f":"OFFSET(listy_slownikowe!$AI$2,I292,0)","v":" "},null,{"$f":"IFERROR(MATCH(D292,listy_slownikowe!$AH$3:$AH$326,0),0)","v":0},0]
[null,"Gatunki dominujące i subdominujące",null,null,null,null,null,null,null,{"$f":"J294","v":0}]
[null,"nazwa łacińska",null,"nazwa polska",null,null,"udział [%]",null,null,{"$f":"SUM(J295:J299)","v":0}]
[null,null,null,null,null,null,null,null,null,{"$f":"COUNTA(B295:G295)","v":0}]
[null,null,null,null,null,null,null,null,null,0]
[null,null,null,null,null,null,null,null,null,0]
[null,null,null,null,null,null,null,null,null,0]
[null,null,null,null,null,null,null,null,null,0]
[]
[null,"Spis gatunków numer:",null,null,null,null,{"$f":"G274+1","v":12},null,null,{"$f":"J305","v":0}]
[null,"Współrzędne geograficzne",null,null,null,null,null,null,null,{"$f":"J306","v":0}]
[null,"Długość geograficzna [E] ",null,null,"Szerokość geograficzna [N]",null,null,null,null,{"$f":"J306","v":0}]
[null,"stopnie","minuty","sekundy","stopnie","minuty","sekundy",null,null,{"$f":"J305","v":0}]
[null,null,null,null,null,null,null,null,null,{"$f":"J307+J321","v":0}]
[null,"Gatunki wskaźnikowe",null,null,null,null,null,null,null,{"$f":"J307","v":0}]
[null,"nazwa łacińska",null,"nazwa polska",null,null,"walor ",null,null,{"$f":"SUM(J308:J319)","v":0}]
[null,{"$f":"OFFSET(listy_slownikowe!$AG$2,I308,0)","v":" "},null,null,null,null,{"$f":"OFFSET(listy_slownikowe!$AI$2,I308,0)","v":" "},null,{"$f":"IFERROR(MATCH(D308,listy_slownikowe!$AH$3:$AH$326,0),0)","v":0},{"$f":"I308","v":0}]
[null,{"$f":"OFFSET(listy_slownikowe!$AG$2,I309,0)","v":" "},null,null,null,null,{"$f":"OFFSET(listy_slownikowe!$AI$2,I309,0)","v":" "},null,{"$f":"IFERROR(MATCH(D309,listy_slownikowe!$AH$3:$AH$326,0),0)","v":0},{"$f":"I309","v":0}]
[null,{"$f":"OFFSET(listy_slownikowe!$AG$2,I310,0)","v":" "},null,null,null,null,{"$f":"OFFSET(listy_slownikowe!$AI$2,I310,0)","v":" "},null,{"$f":"IFERROR(MATCH(D310,listy_slownikowe!$AH$3:$AH$326,0),0)","v":0},0]
[null,{"$f":"OFFSET(listy_slownikowe!$AG$2,I311,0)","v":" "},null,null,null,null,{"$f":"OFFSET(listy_slownikowe!$AI$2,I311,0)","v":" "},null,{"$f":"IFERROR(MATCH(D311,listy_slownikowe!$AH$3:$AH$326,0),0)","v":0},0]
[null,{"$f":"OFFSET(listy_slownikowe!$AG$2,I312,0)","v":" "},null,null,null,null,{"$f":"OFFSET(listy_slownikowe!$AI$2,I312,0)","v":" "},null,{"$f":"IFERROR(MATCH(D312,listy_slownikowe!$AH$3:$AH$326,0),0)","v":0},0]
[null,{"$f":"OFFSET(listy_slownikowe!$AG$2,I313,0)","v":" "},null,null,null,null,{"$f":"OFFSET(listy_slownikowe!$AI$2,I313,0)","v":" "},null,{"$f":"IFERROR(MATCH(D313,listy_slownikowe!$AH$3:$AH$326,0),0)","v":0},0]
[null,{"$f":"OFFSET(listy_slownikowe!$AG$2,I314,0)","v":" "},null,null,null,null,{"$f":"OFFSET(listy_slownikowe!$AI$2,I314,0)","v":" "},null,{"$f":"IFERROR(MATCH(D314,listy_slownikowe!$AH$3:$AH$326,0),0)","v":0},0]
[null,{"$f":"OFFSET(listy_slownikowe!$AG$2,I315,0)","v":" "},null,null,null,null,{"$f":"OFFSET(listy_slownikowe!$AI$2,I315,0)","v":" "},null,{"$f":"IFERROR(MATCH(D315,listy_slownikowe!$AH$3:$AH$326,0),0)","v":0},0]
[null,{"$f":"OFFSET(listy_slownikowe!$AG$2,I316,0)","v":" "},null,null,null,null,{"$f":"OFFSET(listy_slownikowe!$AI$2,I316,0)","v":" "},null,{"$f":"IFERROR(MATCH(D316,listy_slownikowe!$AH$3:$AH$326,0),0)","v":0},0]
[null,{"$f":"OFFSET(listy_slownikowe!$AG$2,I317,0)","v":" "},null,null,null,null,{"$f":"OFFSET(listy_slownikowe!$AI$2,I317,0)","v":" "},null,{"$f":"IFERROR(MATCH(D317,listy_slownikowe!$AH$3:$AH$326,0),0)","v":0},0]
[null,{"$f":"OFFSET(listy_slownikowe!$AG$2,I318,0)","v":" "},null,"",null,null,{"$f":"OFFSET(listy_slownikowe!$AI$2,I318,0)","v":" "},null,{"$f":"IFERROR(MATCH(D318,listy_slownikowe!$AH$3:$AH$326,0),0)","v":0},0]
[null,{"$f":"OFFSET(listy_slownikowe!$AG$2,I319,0)","v":" "},null,null,null,null,{"$f":"OFFSET(listy_slownikowe!$AI$2,I319,0)","v":" "},null,{"$f":"IFERROR(MATCH(D319,listy_slownikowe!$AH$3:$AH$326,0),0)","v":0},0]
[null,"Gatunki dominujące i subdominujące",null,null,null,null,null,null,null,{"$f":"J321","v":0}]
[null,"nazwa łacińska",null,"nazwa polska",null,null,"udział [%]",null,null,{"$f":"SUM(J322:J326)","v":0}]
[null,null,null,null,null,null,null,null,null,{"$f":"COUNTA(B322:G322)","v":0}]
[null,null,null,null,null,null,null,null,null,0]
[null,null,null,null,null,null,null,null,null,0]
[null,null,null,null,null,null,null,null,null,0]
[null,null,null,null,null,null,null,null,null,0]
[]
[null,"Spis gatunków numer:",null,null,null,null,{"$f":"G301+1","v":13},null,null,{"$f":"J332","v":0}]
[null,"Współrzędne geograficzne",null,null,null,null,null,null,null,{"$f":"J333","v":0}]
[null,"Długość geograficzna [E] ",null,null,"Szerokość geograficzna [N]",null,null,null,null,{"$f":"J333","v":0}]
[null,"stopnie","minuty","sekundy","stopnie","minuty","sekundy",null,null,{"$f":"J332","v":0}]
[null,null,null,null,null,null,null,null,null,{"$f":"J334+J348","v":0}]
[null,"Gatunki wskaźnikowe",null,null,null,null,null,null,null,{"$f":"J334","v":0}]
[null,"nazwa łacińska",null,"nazwa polska",null,null,"walor ",null,null,{"$f":"SUM(J335:J346)","v":0}]
[null,{"$f":"OFFSET(listy_slownikowe!$AG$2,I335,0)","v":" "},null,"",null,null,{"$f":"OFFSET(listy_slownikowe!$AI$2,I335,0)","v":" "},null,{"$f":"IFERROR(MATCH(D335,listy_slownikowe!$AH$3:$AH$326,0),0)","v":0},{"$f":"I335","v":0}]
[null,{"$f":"OFFSET(listy_slownikowe!$AG$2,I336,0)","v":" "},null,null,null,null,{"$f":"OFFSET(listy_slownikowe!$AI$2,I336,0)","v":" "},null,{"$f":"IFERROR(MATCH(D336,listy_slownikowe!$AH$3:$AH$326,0),0)","v":0},{"$f":"I336","v":0}]
[null,{"$f":"OFFSET(listy_slownikowe!$AG$2,I337,0)","v":" "},null,null,null,null,{"$f":"OFFSET(listy_slownikowe!$AI$2,I337,0)","v":" "},null,{"$f":"IFERROR(MATCH(D337,listy_slownikowe!$AH$3:$AH$326,0),0)","v":0},0]
[null,{"$f":"OFFSET(listy_slownikowe!$AG$2,I338,0)","v":" "},null,null,null,null,{"$f":"OFFSET(listy_slownikowe!$AI$2,I338,0)","v":" "},null,{"$f":"IFERROR(MATCH(D338,listy_slownikowe!$AH$3:$AH$326,0),0)","v":0},0]
[null,{"$f":"OFFSET(listy_slownikowe!$AG$2,I339,0)","v":" "},null,null,null,null,{"$f":"OFFSET(listy_slownikowe!$AI$2,I339,0)","v":" "},null,{"$f":"IFERROR(MATCH(D339,listy_slownikowe!$AH$3:$AH$326,0),0)","v":0},0]
[null,{"$f":"OFFSET(listy_slownikowe!$AG$2,I340,0)","v":" "},null,null,null,null,{"$f":"OFFSET(listy_slownikowe!$AI$2,I340,0)","v":" "},null,{"$f":"IFERROR(MATCH(D340,listy_slownikowe!$AH$3:$AH$326,0),0)","v":0},0]
[null,{"$f":"OFFSET(listy_slownikowe!$AG$2,I341,0)","v":" "},null,null,null,null,{"$f":"OFFSET(listy_slownikowe!$AI$2,I341,0)","v":" "},null,{"$f":"IFERROR(MATCH(D341,listy_slownikowe!$AH$3:$AH$326,0),0)","v":0},0]
[null,{"$f":"OFFSET(listy_slownikowe!$AG$2,I342,0)","v":" "},null,null,null,null,{"$f":"OFFSET(listy_slownikowe!$AI$2,I342,0)","v":" "},null,{"$f":"IFERROR(MATCH(D342,listy_slownikowe!$AH$3:$AH$326,0),0)","v":0},0]
[null,{"$f":"OFFSET(listy_slownikowe!$AG$2,I343,0)","v":" "},null,null,null,null,{"$f":"OFFSET(listy_slownikowe!$AI$2,I343,0)","v":" "},null,{"$f":"IFERROR(MATCH(D343,listy_slownikowe!$AH$3:$AH$326,0),0)","v":0},0]
[null,{"$f":"OFFSET(listy_slownikowe!$AG$2,I344,0)","v":" "},null,null,null,null,{"$f":"OFFSET(listy_slownikowe!$AI$2,I344,0)","v":" "},null,{"$f":"IFERROR(MATCH(D344,listy_slownikowe!$AH$3:$AH$326,0),0)","v":0},0]
[null,{"$f":"OFFSET(listy_slownikowe!$AG$2,I345,0)","v":" "},null,"",null,null,{"$f":"OFFSET(listy_slownikowe!$AI$2,I345,0)","v":" "},null,{"$f":"IFERROR(MATCH(D345,listy_slownikowe!$AH$3:$AH$326,0),0)","v":0},0]
[null,{"$f":"OFFSET(listy_slownikowe!$AG$2,I346,0)","v":" "},null,null,null,null,{"$f":"OFFSET(listy_slownikowe!$AI$2,I346,0)","v":" "},null,{"$f":"IFERROR(MATCH(D346,listy_slownikowe!$AH$3:$AH$326,0),0)","v":0},0]
[null,"Gatunki dominujące i subdominujące",null,null,null,null,null,null,null,{"$f":"J348","v":0}]
[null,"nazwa łacińska",null,"nazwa polska",null,null,"udział [%]",null,null,{"$f":"SUM(J349:J353)","v":0}]
[null,null,null,null,null,null,null,null,null,{"$f":"COUNTA(B349:G349)","v":0}]
[null,null,null,null,null,null,null,null,null,0]
[null,null,null,null,null,null,null,null,null,0]
[null,null,null,null,null,null,null,null,null,0]
[null,null,null,null,null,null,null,null,null,0]
[]
[null,"Spis gatunków numer:",null,null,null,null,{"$f":"G328+1","v":14},null,null,{"$f":"J359","v":0}]
[null,"Współrzędne geograficzne",null,null,null,null,null,null,null,{"$f":"J360","v":0}]
[null,"Długość geograficzna [E] ",null,null,"Szerokość geograficzna [N]",null,null,null,null,{"$f":"J360","v":0}]
[null,"stopnie","minuty","sekundy","stopnie","minuty","sekundy",null,null,{"$f":"J359","v":0}]
[null,null,null,null,null,null,null,null,null,{"$f":"J361+J375","v":0}]
[null,"Gatunki wskaźnikowe",null,null,null,null,null,null,null,{"$f":"J361","v":0}]
[null,"nazwa łacińska",null,"nazwa polska",null,null,"walor ",null,null,{"$f":"SUM(J362:J373)","v":0}]
[null,{"$f":"OFFSET(listy_slownikowe!$AG$2,I362,0)","v":" "},null,null,null,null,{"$f":"OFFSET(listy_slownikowe!$AI$2,I362,0)","v":" "},null,{"$f":"IFERROR(MATCH(D362,listy_slownikowe!$AH$3:$AH$326,0),0)","v":0},{"$f":"I362","v":0}]
[null,{"$f":"OFFSET(listy_slownikowe!$AG$2,I363,0)","v":" "},null,null,null,null,{"$f":"OFFSET(listy_slownikowe!$AI$2,I363,0)","v":" "},null,{"$f":"IFERROR(MATCH(D363,listy_slownikowe!$AH$3:$AH$326,0),0)","v":0},{"$f":"I363","v":0}]
[null,{"$f":"OFFSET(listy_slownikowe!$AG$2,I364,0)","v":" "},null,null,null,null,{"$f":"OFFSET(listy_slownikowe!$AI$2,I364,0)","v":" "},null,{"$f":"IFERROR(MATCH(D364,listy_slownikowe!$AH$3:$AH$326,0),0)","v":0},0]
[null,{"$f":"OFFSET(listy_slownikowe!$AG$2,I365,0)","v":" "},null,null,null,null,{"$f":"OFFSET(listy_slownikowe!$AI$2,I365,0)","v":" "},null,{"$f":"IFERROR(MATCH(D365,listy_slownikowe!$AH$3:$AH$326,0),0)","v":0},0]
[null,{"$f":"OFFSET(listy_slownikowe!$AG$2,I366,0)","v":" "},null,null,null,null,{"$f":"OFFSET(listy_slownikowe!$AI$2,I366,0)","v":" "},null,{"$f":"IFERROR(MATCH(D366,listy_slownikowe!$AH$3:$AH$326,0),0)","v":0},0]
[null,{"$f":"OFFSET(listy_slownikowe!$AG$2,I367,0)","v":" "},null,null,null,null,{"$f":"OFFSET(listy_slownikowe!$AI$2,I367,0)","v":" "},null,{"$f":"IFERROR(MATCH(D367,listy_slownikowe!$AH$3:$AH$326,0),0)","v":0},0]
[null,{"$f":"OFFSET(listy_slownikowe!$AG$2,I368,0)","v":" "},null,null,null,null,{"$f":"OFFSET(listy_slownikowe!$AI$2,I368,0)","v":" "},null,{"$f":"IFERROR(MATCH(D368,listy_slownikowe!$AH$3:$AH$326,0),0)","v":0},0]
[null,{"$f":"OFFSET(listy_slownikowe!$AG$2,I369,0)","v":" "},null,null,null,null,{"$f":"OFFSET(listy_slownikowe!$AI$2,I369,0)","v":" "},null,{"$f":"IFERROR(MATCH(D369,listy_slownikowe!$AH$3:$AH$326,0),0)","v":0},0]
[null,{"$f":"OFFSET(listy_slownikowe!$AG$2,I370,0)","v":" "},null,null,null,null,{"$f":"OFFSET(listy_slownikowe!$AI$2,I370,0)","v":" "},null,{"$f":"IFERROR(MATCH(D370,listy_slownikowe!$AH$3:$AH$326,0),0)","v":0},0]
[null,{"$f":"OFFSET(listy_slownikowe!$AG$2,I371,0)","v":" "},null,null,null,null,{"$f":"OFFSET(listy_slownikowe!$AI$2,I371,0)","v":" "},null,{"$f":"IFERROR(MATCH(D371,listy_slownikowe!$AH$3:$AH$326,0),0)","v":0},0]
[null,{"$f":"OFFSET(listy_slownikowe!$AG$2,I372,0)","v":" "},null,"",null,null,{"$f":"OFFSET(listy_slownikowe!$AI$2,I372,0)","v":" "},null,{"$f":"IFERROR(MATCH(D372,listy_slownikowe!$AH$3:$AH$326,0),0)","v":0},0]
[null,{"$f":"OFFSET(listy_slownikowe!$AG$2,I373,0)","v":" "},null,null,null,null,{"$f":"OFFSET(listy_slownikowe!$AI$2,I373,0)","v":" "},null,{"$f":"IFERROR(MATCH(D373,listy_slownikowe!$AH$3:$AH$326,0),0)","v":0},0]
[null,"Gatunki dominujące i subdominujące",null,null,null,null,null,null,null,{"$f":"J375","v":0}]
[null,"nazwa łacińska",null,"nazwa polska",null,null,"udział [%]",null,null,{"$f":"SUM(J376:J380)","v":0}]
[null,null,null,null,null,null,null,null,null,{"$f":"COUNTA(B376:G376)","v":0}]
[null,null,null,null,null,null,null,null,null,0]
[null,null,null,null,null,null,null,null,null,0]
[null,null,null,null,null,null,null,null,null,0]
[null,null,null,null,null,null,null,null,null,0]
[]
[null,"Spis gatunków numer:",null,null,null,null,{"$f":"G355+1","v":15},null,null,{"$f":"J386","v":0}]
[null,"Współrzędne geograficzne",null,null,null,null,null,null,null,{"$f":"J387","v":0}]
[null,"Długość geograficzna [E] ",null,null,"Szerokość geograficzna [N]",null,null,null,null,{"$f":"J387","v":0}]
[null,"stopnie","minuty","sekundy","stopnie","minuty","sekundy",null,null,{"$f":"J386","v":0}]
[null,null,null,null,null,null,null,null,null,{"$f":"J388+J402","v":0}]
[null,"Gatunki wskaźnikowe",null,null,null,null,null,null,null,{"$f":"J388","v":0}]
[null,"nazwa łacińska",null,"nazwa polska",null,null,"walor ",null,null,{"$f":"SUM(J389:J400)","v":0}]
[null,{"$f":"OFFSET(listy_slownikowe!$AG$2,I389,0)","v":" "},null,null,null,null,{"$f":"OFFSET(listy_slownikowe!$AI$2,I389,0)","v":" "},null,{"$f":"IFERROR(MATCH(D389,listy_slownikowe!$AH$3:$AH$326,0),0)","v":0},{"$f":"I389","v":0}]
[null,{"$f":"OFFSET(listy_slownikowe!$AG$2,I390,0)","v":" "},null,null,null,null,{"$f":"OFFSET(listy_slownikowe!$AI$2,I390,0)","v":" "},null,{"$f":"IFERROR(MATCH(D390,listy_slownikowe!$AH$3:$AH$326,0),0)","v":0},{"$f":"I390","v":0}]
[null,{"$f":"OFFSET(listy_slownikowe!$AG$2,I391,0)","v":" "},null,null,null,null,{"$f":"OFFSET(listy_slownikowe!$AI$2,I391,0)","v":" "},null,{"$f":"IFERROR(MATCH(D391,listy_slownikowe!$AH$3:$AH$326,0),0)","v":0},0]
[null,{"$f":"OFFSET(listy_slownikowe!$AG$2,I392,0)","v":" "},null,null,null,null,{"$f":"OFFSET(listy_slownikowe!$AI$2,I392,0)","v":" "},null,{"$f":"IFERROR(MATCH(D392,listy_slownikowe!$AH$3:$AH$326,0),0)","v":0},0]
[null,{"$f":"OFFSET(listy_slownikowe!$AG$2,I393,0)","v":" "},null,null,null,null,{"$f":"OFFSET(listy_slownikowe!$AI$2,I393,0)","v":" "},null,{"$f":"IFERROR(MATCH(D393,listy_slownikowe!$AH$3:$AH$326,0),0)","v":0},0]
[null,{"$f":"OFFSET(listy_slownikowe!$AG$2,I394,0)","v":" "},null,null,null,null,{"$f":"OFFSET(listy_slownikowe!$AI$2,I394,0)","v":" "},null,{"$f":"IFERROR(MATCH(D394,listy_slownikowe!$AH$3:$AH$326,0),0)","v":0},0]
[null,{"$f":"OFFSET(listy_slownikowe!$AG$2,I395,0)","v":" "},null,null,null,null,{"$f":"OFFSET(listy_slownikowe!$AI$2,I395,0)","v":" "},null,{"$f":"IFERROR(MATCH(D395,listy_slownikowe!$AH$3:$AH$326,0),0)","v":0},0]
[null,{"$f":"OFFSET(listy_slownikowe!$AG$2,I396,0)","v":" "},null,null,null,null,{"$f":"OFFSET(listy_slownikowe!$AI$2,I396,0)","v":" "},null,{"$f":"IFERROR(MATCH(D396,listy_slownikowe!$AH$3:$AH$326,0),0)","v":0},0]
[null,{"$f":"OFFSET(listy_slownikowe!$AG$2,I397,0)","v":" "},null,null,null,null,{"$f":"OFFSET(listy_slownikowe!$AI$2,I397,0)","v":" "},null,{"$f":"IFERROR(MATCH(D397,listy_slownikowe!$AH$3:$AH$326,0),0)","v":0},0]
[null,{"$f":"OFFSET(listy_slownikowe!$AG$2,I398,0)","v":" "},null,null,null,null,{"$f":"OFFSET(listy_slownikowe!$AI$2,I398,0)","v":" "},null,{"$f":"IFERROR(MATCH(D398,listy_slownikowe!$AH$3:$AH$326,0),0)","v":0},0]
[null,{"$f":"OFFSET(listy_slownikowe!$AG$2,I399,0)","v":" "},null,"",null,null,{"$f":"OFFSET(listy_slownikowe!$AI$2,I399,0)","v":" "},null,{"$f":"IFERROR(MATCH(D399,listy_slownikowe!$AH$3:$AH$326,0),0)","v":0},0]
[null,{"$f":"OFFSET(listy_slownikowe!$AG$2,I400,0)","v":" "},null,null,null,null,{"$f":"OFFSET(listy_slownikowe!$AI$2,I400,0)","v":" "},null,{"$f":"IFERROR(MATCH(D400,listy_slownikowe!$AH$3:$AH$326,0),0)","v":0},0]
[null,"Gatunki dominujące i subdominujące",null,null,null,null,null,null,null,{"$f":"J402","v":0}]
[null,"nazwa łacińska",null,"nazwa polska",null,null,"udział [%]",null,null,{"$f":"SUM(J403:J407)","v":0}]
[null,null,null,null,null,null,null,null,null,{"$f":"COUNTA(B403:G403)","v":0}]
[null,null,null,null,null,null,null,null,null,0]
[null,null,null,null,null,null,null,null,null,0]
[null,null,null,null,null,null,null,null,null,0]
[null,null,null,null,null,null,null,null,null,0]
[]
[null,"Spis gatunków numer:",null,null,null,null,{"$f":"G382+1","v":16},null,null,{"$f":"J413","v":0}]
[null,"Współrzędne geograficzne",null,null,null,null,null,null,null,{"$f":"J414","v":0}]
[null,"Długość geograficzna [E] ",null,null,"Szerokość geograficzna [N]",null,null,null,null,{"$f":"J414","v":0}]
[null,"stopnie","minuty","sekundy","stopnie","minuty","sekundy",null,null,{"$f":"J413","v":0}]
[null,null,null,null,null,null,null,null,null,{"$f":"J415+J429","v":0}]
[null,"Gatunki wskaźnikowe",null,null,null,null,null,null,null,{"$f":"J415","v":0}]
[null,"nazwa łacińska",null,"nazwa polska",null,null,"walor ",null,null,{"$f":"SUM(J416:J427)","v":0}]
[null,{"$f":"OFFSET(listy_slownikowe!$AG$2,I416,0)","v":" "},null,null,null,null,{"$f":"OFFSET(listy_slownikowe!$AI$2,I416,0)","v":" "},null,{"$f":"IFERROR(MATCH(D416,listy_slownikowe!$AH$3:$AH$326,0),0)","v":0},{"$f":"I416","v":0}]
[null,{"$f":"OFFSET(listy_slownikowe!$AG$2,I417,0)","v":" "},null,null,null,null,{"$f":"OFFSET(listy_slownikowe!$AI$2,I417,0)","v":" "},null,{"$f":"IFERROR(MATCH(D417,listy_slownikowe!$AH$3:$AH$326,0),0)","v":0},{"$f":"I417","v":0}]
[null,{"$f":"OFFSET(listy_slownikowe!$AG$2,I418,0)","v":" "},null,null,null,null,{"$f":"OFFSET(listy_slownikowe!$AI$2,I418,0)","v":" "},null,{"$f":"IFERROR(MATCH(D418,listy_slownikowe!$AH$3:$AH$326,0),0)","v":0},0]
[null,{"$f":"OFFSET(listy_slownikowe!$AG$2,I419,0)","v":" "},null,null,null,null,{"$f":"OFFSET(listy_slownikowe!$AI$2,I419,0)","v":" "},null,{"$f":"IFERROR(MATCH(D419,listy_slownikowe!$AH$3:$AH$326,0),0)","v":0},0]
[null,{"$f":"OFFSET(listy_slownikowe!$AG$2,I420,0)","v":" "},null,null,null,null,{"$f":"OFFSET(listy_slownikowe!$AI$2,I420,0)","v":" "},null,{"$f":"IFERROR(MATCH(D420,listy_slownikowe!$AH$3:$AH$326,0),0)","v":0},0]
[null,{"$f":"OFFSET(listy_slownikowe!$AG$2,I421,0)","v":" "},null,null,null,null,{"$f":"OFFSET(listy_slownikowe!$AI$2,I421,0)","v":" "},null,{"$f":"IFERROR(MATCH(D421,listy_slownikowe!$AH$3:$AH$326,0),0)","v":0},0]
[null,{"$f":"OFFSET(listy_slownikowe!$AG$2,I422,0)","v":" "},null,null,null,null,{"$f":"OFFSET(listy_slownikowe!$AI$2,I422,0)","v":" "},null,{"$f":"IFERROR(MATCH(D422,listy_slownikowe!$AH$3:$AH$326,0),0)","v":0},0]
[null,{"$f":"OFFSET(listy_slownikowe!$AG$2,I423,0)","v":" "},null,null,null,null,{"$f":"OFFSET(listy_slownikowe!$AI$2,I423,0)","v":" "},null,{"$f":"IFERROR(MATCH(D423,listy_slownikowe!$AH$3:$AH$326,0),0)","v":0},0]
[null,{"$f":"OFFSET(listy_slownikowe!$AG$2,I424,0)","v":" "},null,null,null,null,{"$f":"OFFSET(listy_slownikowe!$AI$2,I424,0)","v":" "},null,{"$f":"IFERROR(MATCH(D424,listy_slownikowe!$AH$3:$AH$326,0),0)","v":0},0]
[null,{"$f":"OFFSET(listy_slownikowe!$AG$2,I425,0)","v":" "},null,null,null,null,{"$f":"OFFSET(listy_slownikowe!$AI$2,I425,0)","v":" "},null,{"$f":"IFERROR(MATCH(D425,listy_slownikowe!$AH$3:$AH$326,0),0)","v":0},0]
[null,{"$f":"OFFSET(listy_slownikowe!$AG$2,I426,0)","v":" "},null,"",null,null,{"$f":"OFFSET(listy_slownikowe!$AI$2,I426,0)","v":" "},null,{"$f":"IFERROR(MATCH(D426,listy_slownikowe!$AH$3:$AH$326,0),0)","v":0},0]
[null,{"$f":"OFFSET(listy_slownikowe!$AG$2,I427,0)","v":" "},null,null,null,null,{"$f":"OFFSET(listy_slownikowe!$AI$2,I427,0)","v":" "},null,{"$f":"IFERROR(MATCH(D427,listy_slownikowe!$AH$3:$AH$326,0),0)","v":0},0]
[null,"Gatunki dominujące i subdominujące",null,null,null,null,null,null,null,{"$f":"J429","v":0}]
[null,"nazwa łacińska",null,"nazwa polska",null,null,"udział [%]",null,null,{"$f":"SUM(J430:J434)","v":0}]
[null,null,null,null,null,null,null,null,null,{"$f":"COUNTA(B430:G430)","v":0}]
[null,null,null,null,null,null,null,null,null,0]
[null,null,null,null,null,null,null,null,null,0]
[null,null,null,null,null,null,null,null,null,0]
[null,null,null,null,null,null,null,null,null,0]
[]
[null,"Spis gatunków numer:",null,null,null,null,{"$f":"G409+1","v":17},null,null,{"$f":"J440","v":0}]
[null,"Współrzędne geograficzne",null,null,null,null,null,null,null,{"$f":"J441","v":0}]
[null,"Długość geograficzna [E] ",null,null,"Szerokość geograficzna [N]",null,null,null,null,{"$f":"J441","v":0}]
[null,"stopnie","minuty","sekundy","stopnie","minuty","sekundy",null,null,{"$f":"J440","v":0}]
[null,null,null,null,null,null,null,null,null,{"$f":"J442+J456","v":0}]
[null,"Gatunki wskaźnikowe",null,null,null,null,null,null,null,{"$f":"J442","v":0}]
[null,"nazwa łacińska",null,"nazwa polska",null,null,"walor ",null,null,{"$f":"SUM(J443:J454)","v":0}]
[null,{"$f":"OFFSET(listy_slownikowe!$AG$2,I443,0)","v":" "},null,null,null,null,{"$f":"OFFSET(listy_slownikowe!$AI$2,I443,0)","v":" "},null,{"$f":"IFERROR(MATCH(D443,listy_slownikowe!$AH$3:$AH$326,0),0)","v":0},{"$f":"I443","v":0}]
[null,{"$f":"OFFSET(listy_slownikowe!$AG$2,I444,0)","v":" "},null,null,null,null,{"$f":"OFFSET(listy_slownikowe!$AI$2,I444,0)","v":" "},null,{"$f":"IFERROR(MATCH(D444,listy_slownikowe!$AH$3:$AH$326,0),0)","v":0},{"$f":"I444","v":0}]
[null,{"$f":"OFFSET(listy_slownikowe!$AG$2,I445,0)","v":" "},null,null,null,null,{"$f":"OFFSET(listy_slownikowe!$AI$2,I445,0)","v":" "},null,{"$f":"IFERROR(MATCH(D445,listy_slownikowe!$AH$3:$AH$326,0),0)","v":0},0]
[null,{"$f":"OFFSET(listy_slownikowe!$AG$2,I446,0)","v":" "},null,null,null,null,{"$f":"OFFSET(listy_slownikowe!$AI$2,I446,0)","v":" "},null,{"$f":"IFERROR(MATCH(D446,listy_slownikowe!$AH$3:$AH$326,0),0)","v":0},0]
[null,{"$f":"OFFSET(listy_slownikowe!$AG$2,I447,0)","v":" "},null,null,null,null,{"$f":"OFFSET(listy_slownikowe!$AI$2,I447,0)","v":" "},null,{"$f":"IFERROR(MATCH(D447,listy_slownikowe!$AH$3:$AH$326,0),0)","v":0},0]
[null,{"$f":"OFFSET(listy_slownikowe!$AG$2,I448,0)","v":" "},null,null,null,null,{"$f":"OFFSET(listy_slownikowe!$AI$2,I448,0)","v":" "},null,{"$f":"IFERROR(MATCH(D448,listy_slownikowe!$AH$3:$AH$326,0),0)","v":0},0]
[null,{"$f":"OFFSET(listy_slownikowe!$AG$2,I449,0)","v":" "},null,null,null,null,{"$f":"OFFSET(listy_slownikowe!$AI$2,I449,0)","v":" "},null,{"$f":"IFERROR(MATCH(D449,listy_slownikowe!$AH$3:$AH$326,0),0)","v":0},0]
[null,{"$f":"OFFSET(listy_slownikowe!$AG$2,I450,0)","v":" "},null,null,null,null,{"$f":"OFFSET(listy_slownikowe!$AI$2,I450,0)","v":" "},null,{"$f":"IFERROR(MATCH(D450,listy_slownikowe!$AH$3:$AH$326,0),0)","v":0},0]
[null,{"$f":"OFFSET(listy_slownikowe!$AG$2,I451,0)","v":" "},null,null,null,null,{"$f":"OFFSET(listy_slownikowe!$AI$2,I451,0)","v":" "},null,{"$f":"IFERROR(MATCH(D451,listy_slownikowe!$AH$3:$AH$326,0),0)","v":0},0]
[null,{"$f":"OFFSET(listy_slownikowe!$AG$2,I452,0)","v":" "},null,null,null,null,{"$f":"OFFSET(listy_slownikowe!$AI$2,I452,0)","v":" "},null,{"$f":"IFERROR(MATCH(D452,listy_slownikowe!$AH$3:$AH$326,0),0)","v":0},0]
[null,{"$f":"OFFSET(listy_slownikowe!$AG$2,I453,0)","v":" "},null,"",null,null,{"$f":"OFFSET(listy_slownikowe!$AI$2,I453,0)","v":" "},null,{"$f":"IFERROR(MATCH(D453,listy_slownikowe!$AH$3:$AH$326,0),0)","v":0},0]
[null,{"$f":"OFFSET(listy_slownikowe!$AG$2,I454,0)","v":" "},null,null,null,null,{"$f":"OFFSET(listy_slownikowe!$AI$2,I454,0)","v":" "},null,{"$f":"IFERROR(MATCH(D454,listy_slownikowe!$AH$3:$AH$326,0),0)","v":0},0]
[null,"Gatunki dominujące i subdominujące",null,null,null,null,null,null,null,{"$f":"J456","v":0}]
[null,"nazwa łacińska",null,"nazwa polska",null,null,"udział [%]",null,null,{"$f":"SUM(J457:J461)","v":0}]
[null,null,null,null,null,null,null,null,null,{"$f":"COUNTA(B457:G457)","v":0}]
[null,null,null,null,null,null,null,null,null,0]
[null,null,null,null,null,null,null,null,null,0]
[null,null,null,null,null,null,null,null,null,0]
[null,null,null,null,null,null,null,null,null,0]
[]
[null,"Spis gatunków numer:",null,null,null,null,{"$f":"G436+1","v":18},null,null,{"$f":"J467","v":0}]
[null,"Współrzędne geograficzne",null,null,null,null,null,null,null,{"$f":"J468","v":0}]
[null,"Długość geograficzna [E] ",null,null,"Szerokość geograficzna [N]",null,null,null,null,{"$f":"J468","v":0}]
[null,"stopnie","minuty","sekundy","stopnie","minuty","sekundy",null,null,{"$f":"J467","v":0}]
[null,null,null,null,null,null,null,null,null,{"$f":"J469+J483","v":0}]
[null,"Gatunki wskaźnikowe",null,null,null,null,null,null,null,{"$f":"J469","v":0}]
[null,"nazwa łacińska",null,"nazwa polska",null,null,"walor ",null,null,{"$f":"SUM(J470:J481)","v":0}]
[null,{"$f":"OFFSET(listy_slownikowe!$AG$2,I470,0)","v":" "},null,null,null,null,{"$f":"OFFSET(listy_slownikowe!$AI$2,I470,0)","v":" "},null,{"$f":"IFERROR(MATCH(D470,listy_slownikowe!$AH$3:$AH$326,0),0)","v":0},{"$f":"I470","v":0}]
[null,{"$f":"OFFSET(listy_slownikowe!$AG$2,I471,0)","v":" "},null,null,null,null,{"$f":"OFFSET(listy_slownikowe!$AI$2,I471,0)","v":" "},null,{"$f":"IFERROR(MATCH(D471,listy_slownikowe!$AH$3:$AH$326,0),0)","v":0},{"$f":"I471","v":0}]
[null,{"$f":"OFFSET(listy_slownikowe!$AG$2,I472,0)","v":" "},null,null,null,null,{"$f":"OFFSET(listy_slownikowe!$AI$2,I472,0)","v":" "},null,{"$f":"IFERROR(MATCH(D472,listy_slownikowe!$AH$3:$AH$326,0),0)","v":0},0]
[null,{"$f":"OFFSET(listy_slownikowe!$AG$2,I473,0)","v":" "},null,null,null,null,{"$f":"OFFSET(listy_slownikowe!$AI$2,I473,0)","v":" "},null,{"$f":"IFERROR(MATCH(D473,listy_slownikowe!$AH$3:$AH$326,0),0)","v":0},0]
[null,{"$f":"OFFSET(listy_slownikowe!$AG$2,I474,0)","v":" "},null,null,null,null,{"$f":"OFFSET(listy_slownikowe!$AI$2,I474,0)","v":" "},null,{"$f":"IFERROR(MATCH(D474,listy_slownikowe!$AH$3:$AH$326,0),0)","v":0},0]
[null,{"$f":"OFFSET(listy_slownikowe!$AG$2,I475,0)","v":" "},null,null,null,null,{"$f":"OFFSET(listy_slownikowe!$AI$2,I475,0)","v":" "},null,{"$f":"IFERROR(MATCH(D475,listy_slownikowe!$AH$3:$AH$326,0),0)","v":0},0]
[null,{"$f":"OFFSET(listy_slownikowe!$AG$2,I476,0)","v":" "},null,null,null,null,{"$f":"OFFSET(listy_slownikowe!$AI$2,I476,0)","v":" "},null,{"$f":"IFERROR(MATCH(D476,listy_slownikowe!$AH$3:$AH$326,0),0)","v":0},0]
[null,{"$f":"OFFSET(listy_slownikowe!$AG$2,I477,0)","v":" "},null,null,null,null,{"$f":"OFFSET(listy_slownikowe!$AI$2,I477,0)","v":" "},null,{"$f":"IFERROR(MATCH(D477,listy_slownikowe!$AH$3:$AH$326,0),0)","v":0},0]
[null,{"$f":"OFFSET(listy_slownikowe!$AG$2,I478,0)","v":" "},null,null,null,null,{"$f":"OFFSET(listy_slownikowe!$AI$2,I478,0)","v":" "},null,{"$f":"IFERROR(MATCH(D478,listy_slownikowe!$AH$3:$AH$326,0),0)","v":0},0]
[null,{"$f":"OFFSET(listy_slownikowe!$AG$2,I479,0)","v":" "},null,null,null,null,{"$f":"OFFSET(listy_slownikowe!$AI$2,I479,0)","v":" "},null,{"$f":"IFERROR(MATCH(D479,listy_slownikowe!$AH$3:$AH$326,0),0)","v":0},0]
[null,{"$f":"OFFSET(listy_slownikowe!$AG$2,I480,0)","v":" "},null,"",null,null,{"$f":"OFFSET(listy_slownikowe!$AI$2,I480,0)","v":" "},null,{"$f":"IFERROR(MATCH(D480,listy_slownikowe!$AH$3:$AH$326,0),0)","v":0},0]
[null,{"$f":"OFFSET(listy_slownikowe!$AG$2,I481,0)","v":" "},null,null,null,null,{"$f":"OFFSET(listy_slownikowe!$AI$2,I481,0)","v":" "},null,{"$f":"IFERROR(MATCH(D481,listy_slownikowe!$AH$3:$AH$326,0),0)","v":0},0]
[null,"Gatunki dominujące i subdominujące",null,null,null,null,null,null,null,{"$f":"J483","v":0}]
[null,"nazwa łacińska",null,"nazwa polska",null,null,"udział [%]",null,null,{"$f":"SUM(J484:J488)","v":0}]
[null,null,null,null,null,null,null,null,null,{"$f":"COUNTA(B484:G484)","v":0}]
[null,null,null,null,null,null,null,null,null,0]
[null,null,null,null,null,null,null,null,null,0]
[null,null,null,null,null,null,null,null,null,0]
[null,null,null,null,null,null,null,null,null,0]
[]
[null,"Spis gatunków numer:",null,null,null,null,{"$f":"G463+1","v":19},null,null,{"$f":"J494","v":0}]
[null,"Współrzędne geograficzne",null,null,null,null,null,null,null,{"$f":"J495","v":0}]
[null,"Długość geograficzna [E] ",null,null,"Szerokość geograficzna [N]",null,null,null,null,{"$f":"J495","v":0}]
[null,"stopnie","minuty","sekundy","stopnie","minuty","sekundy",null,null,{"$f":"J494","v":0}]
[null,null,null,null,null,null,null,null,null,{"$f":"J496+J510","v":0}]
[null,"Gatunki wskaźnikowe",null,null,null,null,null,null,null,{"$f":"J496","v":0}]
[null,"nazwa łacińska",null,"nazwa polska",null,null,"walor ",null,null,{"$f":"SUM(J497:J508)","v":0}]
[null,{"$f":"OFFSET(listy_slownikowe!$AG$2,I497,0)","v":" "},null,null,null,null,{"$f":"OFFSET(listy_slownikowe!$AI$2,I497,0)","v":" "},null,{"$f":"IFERROR(MATCH(D497,listy_slownikowe!$AH$3:$AH$326,0),0)","v":0},{"$f":"I497","v":0}]
[null,{"$f":"OFFSET(listy_slownikowe!$AG$2,I498,0)","v":" "},null,null,null,null,{"$f":"OFFSET(listy_slownikowe!$AI$2,I498,0)","v":" "},null,{"$f":"IFERROR(MATCH(D498,listy_slownikowe!$AH$3:$AH$326,0),0)","v":0},{"$f":"I498","v":0}]
[null,{"$f":"OFFSET(listy_slownikowe!$AG$2,I499,0)","v":" "},null,null,null,null,{"$f":"OFFSET(listy_slownikowe!$AI$2,I499,0)","v":" "},null,{"$f":"IFERROR(MATCH(D499,listy_slownikowe!$AH$3:$AH$326,0),0)","v":0},0]
[null,{"$f":"OFFSET(listy_slownikowe!$AG$2,I500,0)","v":" "},null,null,null,null,{"$f":"OFFSET(listy_slownikowe!$AI$2,I500,0)","v":" "},null,{"$f":"IFERROR(MATCH(D500,listy_slownikowe!$AH$3:$AH$326,0),0)","v":0},0]
[null,{"$f":"OFFSET(listy_slownikowe!$AG$2,I501,0)","v":" "},null,null,null,null,{"$f":"OFFSET(listy_slownikowe!$AI$2,I501,0)","v":" "},null,{"$f":"IFERROR(MATCH(D501,listy_slownikowe!$AH$3:$AH$326,0),0)","v":0},0]
[null,{"$f":"OFFSET(listy_slownikowe!$AG$2,I502,0)","v":" "},null,null,null,null,{"$f":"OFFSET(listy_slownikowe!$AI$2,I502,0)","v":" "},null,{"$f":"IFERROR(MATCH(D502,listy_slownikowe!$AH$3:$AH$326,0),0)","v":0},0]
[null,{"$f":"OFFSET(listy_slownikowe!$AG$2,I503,0)","v":" "},null,null,null,null,{"$f":"OFFSET(listy_slownikowe!$AI$2,I503,0)","v":" "},null,{"$f":"IFERROR(MATCH(D503,listy_slownikowe!$AH$3:$AH$326,0),0)","v":0},0]
[null,{"$f":"OFFSET(listy_slownikowe!$AG$2,I504,0)","v":" "},null,null,null,null,{"$f":"OFFSET(listy_slownikowe!$AI$2,I504,0)","v":" "},null,{"$f":"IFERROR(MATCH(D504,listy_slownikowe!$AH$3:$AH$326,0),0)","v":0},0]
[null,{"$f":"OFFSET(listy_slownikowe!$AG$2,I505,0)","v":" "},null,null,null,null,{"$f":"OFFSET(listy_slownikowe!$AI$2,I505,0)","v":" "},null,{"$f":"IFERROR(MATCH(D505,listy_slownikowe!$AH$3:$AH$326,0),0)","v":0},0]
[null,{"$f":"OFFSET(listy_slownikowe!$AG$2,I506,0)","v":" "},null,null,null,null,{"$f":"OFFSET(listy_slownikowe!$AI$2,I506,0)","v":" "},null,{"$f":"IFERROR(MATCH(D506,listy_slownikowe!$AH$3:$AH$326,0),0)","v":0},0]
[null,{"$f":"OFFSET(listy_slownikowe!$AG$2,I507,0)","v":" "},null,"",null,null,{"$f":"OFFSET(listy_slownikowe!$AI$2,I507,0)","v":" "},null,{"$f":"IFERROR(MATCH(D507,listy_slownikowe!$AH$3:$AH$326,0),0)","v":0},0]
[null,{"$f":"OFFSET(listy_slownikowe!$AG$2,I508,0)","v":" "},null,null,null,null,{"$f":"OFFSET(listy_slownikowe!$AI$2,I508,0)","v":" "},null,{"$f":"IFERROR(MATCH(D508,listy_slownikowe!$AH$3:$AH$326,0),0)","v":0},0]
[null,"Gatunki dominujące i subdominujące",null,null,null,null,null,null,null,{"$f":"J510","v":0}]
[null,"nazwa łacińska",null,"nazwa polska",null,null,"udział [%]",null,null,{"$f":"SUM(J511:J515)","v":0}]
[null,null,null,null,null,null,null,null,null,{"$f":"COUNTA(B511:G511)","v":0}]
[null,null,null,null,null,null,null,null,null,0]
[null,null,null,null,null,null,null,null,null,0]
[null,null,null,null,null,null,null,null,null,0]
[null,null,null,null,null,null,null,null,null,0]
[]
[null,"Spis gatunków numer:",null,null,null,null,{"$f":"G490+1","v":20},null,null,{"$f":"J521","v":0}]
[null,"Współrzędne geograficzne",null,null,null,null,null,null,null,{"$f":"J522","v":0}]
[null,"Długość geograficzna [E] ",null,null,"Szerokość geograficzna [N]",null,null,null,null,{"$f":"J522","v":0}]
[null,"stopnie","minuty","sekundy","stopnie","minuty","sekundy",null,null,{"$f":"J521","v":0}]
[null,null,null,null,null,null,null,null,null,{"$f":"J523+J537","v":0}]
[null,"Gatunki wskaźnikowe",null,null,null,null,null,null,null,{"$f":"J523","v":0}]
[null,"nazwa łacińska",null,"nazwa polska",null,null,"walor ",null,null,{"$f":"SUM(J524:J535)","v":0}]
[null,{"$f":"OFFSET(listy_slownikowe!$AG$2,I524,0)","v":" "},null,null,null,null,{"$f":"OFFSET(listy_slownikowe!$AI$2,I524,0)","v":" "},null,{"$f":"IFERROR(MATCH(D524,listy_slownikowe!$AH$3:$AH$326,0),0)","v":0},{"$f":"I524","v":0}]
[null,{"$f":"OFFSET(listy_slownikowe!$AG$2,I525,0)","v":" "},null,null,null,null,{"$f":"OFFSET(listy_slownikowe!$AI$2,I525,0)","v":" "},null,{"$f":"IFERROR(MATCH(D525,listy_slownikowe!$AH$3:$AH$326,0),0)","v":0},{"$f":"I525","v":0}]
[null,{"$f":"OFFSET(listy_slownikowe!$AG$2,I526,0)","v":" "},null,null,null,null,{"$f":"OFFSET(listy_slownikowe!$AI$2,I526,0)","v":" "},null,{"$f":"IFERROR(MATCH(D526,listy_slownikowe!$AH$3:$AH$326,0),0)","v":0},0]
[null,{"$f":"OFFSET(listy_slownikowe!$AG$2,I527,0)","v":" "},null,null,null,null,{"$f":"OFFSET(listy_slownikowe!$AI$2,I527,0)","v":" "},null,{"$f":"IFERROR(MATCH(D527,listy_slownikowe!$AH$3:$AH$326,0),0)","v":0},0]
[null,{"$f":"OFFSET(listy_slownikowe!$AG$2,I528,0)","v":" "},null,null,null,null,{"$f":"OFFSET(listy_slownikowe!$AI$2,I528,0)","v":" "},null,{"$f":"IFERROR(MATCH(D528,listy_slownikowe!$AH$3:$AH$326,0),0)","v":0},0]
[null,{"$f":"OFFSET(listy_slownikowe!$AG$2,I529,0)","v":" "},null,null,null,null,{"$f":"OFFSET(listy_slownikowe!$AI$2,I529,0)","v":" "},null,{"$f":"IFERROR(MATCH(D529,listy_slownikowe!$AH$3:$AH$326,0),0)","v":0},0]
[null,{"$f":"OFFSET(listy_slownikowe!$AG$2,I530,0)","v":" "},null,null,null,null,{"$f":"OFFSET(listy_slownikowe!$AI$2,I530,0)","v":" "},null,{"$f":"IFERROR(MATCH(D530,listy_slownikowe!$AH$3:$AH$326,0),0)","v":0},0]
[null,{"$f":"OFFSET(listy_slownikowe!$AG$2,I531,0)","v":" "},null,null,null,null,{"$f":"OFFSET(listy_slownikowe!$AI$2,I531,0)","v":" "},null,{"$f":"IFERROR(MATCH(D531,listy_slownikowe!$AH$3:$AH$326,0),0)","v":0},0]
[null,{"$f":"OFFSET(listy_slownikowe!$AG$2,I532,0)","v":" "},null,null,null,null,{"$f":"OFFSET(listy_slownikowe!$AI$2,I532,0)","v":" "},null,{"$f":"IFERROR(MATCH(D532,listy_slownikowe!$AH$3:$AH$326,0),0)","v":0},0]
[null,{"$f":"OFFSET(listy_slownikowe!$AG$2,I533,0)","v":" "},null,null,null,null,{"$f":"OFFSET(listy_slownikowe!$AI$2,I533,0)","v":" "},null,{"$f":"IFERROR(MATCH(D533,listy_slownikowe!$AH$3:$AH$326,0),0)","v":0},0]
[null,{"$f":"OFFSET(listy_slownikowe!$AG$2,I534,0)","v":" "},null,"",null,null,{"$f":"OFFSET(listy_slownikowe!$AI$2,I534,0)","v":" "},null,{"$f":"IFERROR(MATCH(D534,listy_slownikowe!$AH$3:$AH$326,0),0)","v":0},0]
[null,{"$f":"OFFSET(listy_slownikowe!$AG$2,I535,0)","v":" "},null,null,null,null,{"$f":"OFFSET(listy_slownikowe!$AI$2,I535,0)","v":" "},null,{"$f":"IFERROR(MATCH(D535,listy_slownikowe!$AH$3:$AH$326,0),0)","v":0},0]
[null,"Gatunki dominujące i subdominujące",null,null,null,null,null,null,null,{"$f":"J537","v":0}]
[null,"nazwa łacińska",null,"nazwa polska",null,null,"udział [%]",null,null,{"$f":"SUM(J538:J542)","v":0}]
[null,null,null,null,null,null,null,null,null,{"$f":"COUNTA(B538:G538)","v":0}]
[null,null,null,null,null,null,null,null,null,0]
[null,null,null,null,null,null,null,null,null,0]
[null,null,null,null,null,null,null,null,null,0]
[null,null,null,null,null,null,null,null,null,0]
[]
[null,"Spis gatunków numer:",null,null,null,null,{"$f":"G517+1","v":21},null,null,{"$f":"J548","v":0}]
[null,"Współrzędne geograficzne",null,null,null,null,null,null,null,{"$f":"J549","v":0}]
[null,"Długość geograficzna [E] ",null,null,"Szerokość geograficzna [N]",null,null,null,null,{"$f":"J549","v":0}]
[null,"stopnie","minuty","sekundy","stopnie","minuty","sekundy",null,null,{"$f":"J548","v":0}]
[null,null,null,null,null,null,null,null,null,{"$f":"J550+J564","v":0}]
[null,"Gatunki wskaźnikowe",null,null,null,null,null,null,null,{"$f":"J550","v":0}]
[null,"nazwa łacińska",null,"nazwa polska",null,null,"walor ",null,null,{"$f":"SUM(J551:J562)","v":0}]
[null,{"$f":"OFFSET(listy_slownikowe!$AG$2,I551,0)","v":" "},null,null,null,null,{"$f":"OFFSET(listy_slownikowe!$AI$2,I551,0)","v":" "},null,{"$f":"IFERROR(MATCH(D551,listy_slownikowe!$AH$3:$AH$326,0),0)","v":0},{"$f":"I551","v":0}]
[null,{"$f":"OFFSET(listy_slownikowe!$AG$2,I552,0)","v":" "},null,null,null,null,{"$f":"OFFSET(listy_slownikowe!$AI$2,I552,0)","v":" "},null,{"$f":"IFERROR(MATCH(D552,listy_slownikowe!$AH$3:$AH$326,0),0)","v":0},{"$f":"I552","v":0}]
[null,{"$f":"OFFSET(listy_slownikowe!$AG$2,I553,0)","v":" "},null,null,null,null,{"$f":"OFFSET(listy_slownikowe!$AI$2,I553,0)","v":" "},null,{"$f":"IFERROR(MATCH(D553,listy_slownikowe!$AH$3:$AH$326,0),0)","v":0},0]
[null,{"$f":"OFFSET(listy_slownikowe!$AG$2,I554,0)","v":" "},null,null,null,null,{"$f":"OFFSET(listy_slownikowe!$AI$2,I554,0)","v":" "},null,{"$f":"IFERROR(MATCH(D554,listy_slownikowe!$AH$3:$AH$326,0),0)","v":0},0]
[null,{"$f":"OFFSET(listy_slownikowe!$AG$2,I555,0)","v":" "},null,null,null,null,{"$f":"OFFSET(listy_slownikowe!$AI$2,I555,0)","v":" "},null,{"$f":"IFERROR(MATCH(D555,listy_slownikowe!$AH$3:$AH$326,0),0)","v":0},0]
[null,{"$f":"OFFSET(listy_slownikowe!$AG$2,I556,0)","v":" "},null,null,null,null,{"$f":"OFFSET(listy_slownikowe!$AI$2,I556,0)","v":" "},null,{"$f":"IFERROR(MATCH(D556,listy_slownikowe!$AH$3:$AH$326,0),0)","v":0},0]
[null,{"$f":"OFFSET(listy_slownikowe!$AG$2,I557,0)","v":" "},null,null,null,null,{"$f":"OFFSET(listy_slownikowe!$AI$2,I557,0)","v":" "},null,{"$f":"IFERROR(MATCH(D557,listy_slownikowe!$AH$3:$AH$326,0),0)","v":0},0]
[null,{"$f":"OFFSET(listy_slownikowe!$AG$2,I558,0)","v":" "},null,null,null,null,{"$f":"OFFSET(listy_slownikowe!$AI$2,I558,0)","v":" "},null,{"$f":"IFERROR(MATCH(D558,listy_slownikowe!$AH$3:$AH$326,0),0)","v":0},0]
[null,{"$f":"OFFSET(listy_slownikowe!$AG$2,I559,0)","v":" "},null,null,null,null,{"$f":"OFFSET(listy_slownikowe!$AI$2,I559,0)","v":" "},null,{"$f":"IFERROR(MATCH(D559,listy_slownikowe!$AH$3:$AH$326,0),0)","v":0},0]
[null,{"$f":"OFFSET(listy_slownikowe!$AG$2,I560,0)","v":" "},null,null,null,null,{"$f":"OFFSET(listy_slownikowe!$AI$2,I560,0)","v":" "},null,{"$f":"IFERROR(MATCH(D560,listy_slownikowe!$AH$3:$AH$326,0),0)","v":0},0]
[null,{"$f":"OFFSET(listy_slownikowe!$AG$2,I561,0)","v":" "},null,"",null,null,{"$f":"OFFSET(listy_slownikowe!$AI$2,I561,0)","v":" "},null,{"$f":"IFERROR(MATCH(D561,listy_slownikowe!$AH$3:$AH$326,0),0)","v":0},0]
[null,{"$f":"OFFSET(listy_slownikowe!$AG$2,I562,0)","v":" "},null,null,null,null,{"$f":"OFFSET(listy_slownikowe!$AI$2,I562,0)","v":" "},null,{"$f":"IFERROR(MATCH(D562,listy_slownikowe!$AH$3:$AH$326,0),0)","v":0},0]
[null,"Gatunki dominujące i subdominujące",null,null,null,null,null,null,null,{"$f":"J564","v":0}]
[null,"nazwa łacińska",null,"nazwa polska",null,null,"udział [%]",null,null,{"$f":"SUM(J565:J569)","v":0}]
[null,null,null,null,null,null,null,null,null,{"$f":"COUNTA(B565:G565)","v":0}]
[null,null,null,null,null,null,null,null,null,0]
[null,null,null,null,null,null,null,null,null,0]
[null,null,null,null,null,null,null,null,null,0]
[null,null,null,null,null,null,null,null,null,0]
[]
[null,"Spis gatunków numer:",null,null,null,null,{"$f":"G544+1","v":22},null,null,{"$f":"J575","v":0}]
[null,"Współrzędne geograficzne",null,null,null,null,null,null,null,{"$f":"J576","v":0}]
[null,"Długość geograficzna [E] ",null,null,"Szerokość geograficzna [N]",null,null,null,null,{"$f":"J576","v":0}]
[null,"stopnie","minuty","sekundy","stopnie","minuty","sekundy",null,null,{"$f":"J575","v":0}]
[null,null,null,null,null,null,null,null,null,{"$f":"J577+J591","v":0}]
[null,"Gatunki wskaźnikowe",null,null,null,null,null,null,null,{"$f":"J577","v":0}]
[null,"nazwa łacińska",null,"nazwa polska",null,null,"walor ",null,null,{"$f":"SUM(J578:J589)","v":0}]
[null,{"$f":"OFFSET(listy_slownikowe!$AG$2,I578,0)","v":" "},null,null,null,null,{"$f":"OFFSET(listy_slownikowe!$AI$2,I578,0)","v":" "},null,{"$f":"IFERROR(MATCH(D578,listy_slownikowe!$AH$3:$AH$326,0),0)","v":0},{"$f":"I578","v":0}]
[null,{"$f":"OFFSET(listy_slownikowe!$AG$2,I579,0)","v":" "},null,null,null,null,{"$f":"OFFSET(listy_slownikowe!$AI$2,I579,0)","v":" "},null,{"$f":"IFERROR(MATCH(D579,listy_slownikowe!$AH$3:$AH$326,0),0)","v":0},{"$f":"I579","v":0}]
[null,{"$f":"OFFSET(listy_slownikowe!$AG$2,I580,0)","v":" "},null,null,null,null,{"$f":"OFFSET(listy_slownikowe!$AI$2,I580,0)","v":" "},null,{"$f":"IFERROR(MATCH(D580,listy_slownikowe!$AH$3:$AH$326,0),0)","v":0},0]
[null,{"$f":"OFFSET(listy_slownikowe!$AG$2,I581,0)","v":" "},null,null,null,null,{"$f":"OFFSET(listy_slownikowe!$AI$2,I581,0)","v":" "},null,{"$f":"IFERROR(MATCH(D581,listy_slownikowe!$AH$3:$AH$326,0),0)","v":0},0]
[null,{"$f":"OFFSET(listy_slownikowe!$AG$2,I582,0)","v":" "},null,null,null,null,{"$f":"OFFSET(listy_slownikowe!$AI$2,I582,0)","v":" "},null,{"$f":"IFERROR(MATCH(D582,listy_slownikowe!$AH$3:$AH$326,0),0)","v":0},0]
[null,{"$f":"OFFSET(listy_slownikowe!$AG$2,I583,0)","v":" "},null,null,null,null,{"$f":"OFFSET(listy_slownikowe!$AI$2,I583,0)","v":" "},null,{"$f":"IFERROR(MATCH(D583,listy_slownikowe!$AH$3:$AH$326,0),0)","v":0},0]
[null,{"$f":"OFFSET(listy_slownikowe!$AG$2,I584,0)","v":" "},null,null,null,null,{"$f":"OFFSET(listy_slownikowe!$AI$2,I584,0)","v":" "},null,{"$f":"IFERROR(MATCH(D584,listy_slownikowe!$AH$3:$AH$326,0),0)","v":0},0]
[null,{"$f":"OFFSET(listy_slownikowe!$AG$2,I585,0)","v":" "},null,null,null,null,{"$f":"OFFSET(listy_slownikowe!$AI$2,I585,0)","v":" "},null,{"$f":"IFERROR(MATCH(D585,listy_slownikowe!$AH$3:$AH$326,0),0)","v":0},0]
[null,{"$f":"OFFSET(listy_slownikowe!$AG$2,I586,0)","v":" "},null,null,null,null,{"$f":"OFFSET(listy_slownikowe!$AI$2,I586,0)","v":" "},null,{"$f":"IFERROR(MATCH(D586,listy_slownikowe!$AH$3:$AH$326,0),0)","v":0},0]
[null,{"$f":"OFFSET(listy_slownikowe!$AG$2,I587,0)","v":" "},null,null,null,null,{"$f":"OFFSET(listy_slownikowe!$AI$2,I587,0)","v":" "},null,{"$f":"IFERROR(MATCH(D587,listy_slownikowe!$AH$3:$AH$326,0),0)","v":0},0]
[null,{"$f":"OFFSET(listy_slownikowe!$AG$2,I588,0)","v":" "},null,"",null,null,{"$f":"OFFSET(listy_slownikowe!$AI$2,I588,0)","v":" "},null,{"$f":"IFERROR(MATCH(D588,listy_slownikowe!$AH$3:$AH$326,0),0)","v":0},0]
[null,{"$f":"OFFSET(listy_slownikowe!$AG$2,I589,0)","v":" "},null,null,null,null,{"$f":"OFFSET(listy_slownikowe!$AI$2,I589,0)","v":" "},null,{"$f":"IFERROR(MATCH(D589,listy_slownikowe!$AH$3:$AH$326,0),0)","v":0},0]
[null,"Gatunki dominujące i subdominujące",null,null,null,null,null,null,null,{"$f":"J591","v":0}]
[null,"nazwa łacińska",null,"nazwa polska",null,null,"udział [%]",null,null,{"$f":"SUM(J592:J596)","v":0}]
[null,null,null,null,null,null,null,null,null,{"$f":"COUNTA(B592:G592)","v":0}]
[null,null,null,null,null,null,null,null,null,0]
[null,null,null,null,null,null,null,null,null,0]
[null,null,null,null,null,null,null,null,null,0]
[null,null,null,null,null,null,null,null,null,0]
[]
[null,"Spis gatunków numer:",null,null,null,null,{"$f":"G571+1","v":23},null,null,{"$f":"J602","v":0}]
[null,"Współrzędne geograficzne",null,null,null,null,null,null,null,{"$f":"J603","v":0}]
[null,"Długość geograficzna [E] ",null,null,"Szerokość geograficzna [N]",null,null,null,null,{"$f":"J603","v":0}]
[null,"stopnie","minuty","sekundy","stopnie","minuty","sekundy",null,null,{"$f":"J602","v":0}]
[null,null,null,null,null,null,null,null,null,{"$f":"J604+J618","v":0}]
[null,"Gatunki wskaźnikowe",null,null,null,null,null,null,null,{"$f":"J604","v":0}]
[null,"nazwa łacińska",null,"nazwa polska",null,null,"walor ",null,null,{"$f":"SUM(J605:J616)","v":0}]
[null,{"$f":"OFFSET(listy_slownikowe!$AG$2,I605,0)","v":" "},null,null,null,null,{"$f":"OFFSET(listy_slownikowe!$AI$2,I605,0)","v":" "},null,{"$f":"IFERROR(MATCH(D605,listy_slownikowe!$AH$3:$AH$326,0),0)","v":0},{"$f":"I605","v":0}]
[null,{"$f":"OFFSET(listy_slownikowe!$AG$2,I606,0)","v":" "},null,null,null,null,{"$f":"OFFSET(listy_slownikowe!$AI$2,I606,0)","v":" "},null,{"$f":"IFERROR(MATCH(D606,listy_slownikowe!$AH$3:$AH$326,0),0)","v":0},{"$f":"I606","v":0}]
[null,{"$f":"OFFSET(listy_slownikowe!$AG$2,I607,0)","v":" "},null,null,null,null,{"$f":"OFFSET(listy_slownikowe!$AI$2,I607,0)","v":" "},null,{"$f":"IFERROR(MATCH(D607,listy_slownikowe!$AH$3:$AH$326,0),0)","v":0},0]
[null,{"$f":"OFFSET(listy_slownikowe!$AG$2,I608,0)","v":" "},null,null,null,null,{"$f":"OFFSET(listy_slownikowe!$AI$2,I608,0)","v":" "},null,{"$f":"IFERROR(MATCH(D608,listy_slownikowe!$AH$3:$AH$326,0),0)","v":0},0]
[null,{"$f":"OFFSET(listy_slownikowe!$AG$2,I609,0)","v":" "},null,null,null,null,{"$f":"OFFSET(listy_slownikowe!$AI$2,I609,0)","v":" "},null,{"$f":"IFERROR(MATCH(D609,listy_slownikowe!$AH$3:$AH$326,0),0)","v":0},0]
[null,{"$f":"OFFSET(listy_slownikowe!$AG$2,I610,0)","v":" "},null,null,null,null,{"$f":"OFFSET(listy_slownikowe!$AI$2,I610,0)","v":" "},null,{"$f":"IFERROR(MATCH(D610,listy_slownikowe!$AH$3:$AH$326,0),0)","v":0},0]
[null,{"$f":"OFFSET(listy_slownikowe!$AG$2,I611,0)","v":" "},null,null,null,null,{"$f":"OFFSET(listy_slownikowe!$AI$2,I611,0)","v":" "},null,{"$f":"IFERROR(MATCH(D611,listy_slownikowe!$AH$3:$AH$326,0),0)","v":0},0]
[null,{"$f":"OFFSET(listy_slownikowe!$AG$2,I612,0)","v":" "},null,null,null,null,{"$f":"OFFSET(listy_slownikowe!$AI$2,I612,0)","v":" "},null,{"$f":"IFERROR(MATCH(D612,listy_slownikowe!$AH$3:$AH$326,0),0)","v":0},0]
[null,{"$f":"OFFSET(listy_slownikowe!$AG$2,I613,0)","v":" "},null,null,null,null,{"$f":"OFFSET(listy_slownikowe!$AI$2,I613,0)","v":" "},null,{"$f":"IFERROR(MATCH(D613,listy_slownikowe!$AH$3:$AH$326,0),0)","v":0},0]
[null,{"$f":"OFFSET(listy_slownikowe!$AG$2,I614,0)","v":" "},null,null,null,null,{"$f":"OFFSET(listy_slownikowe!$AI$2,I614,0)","v":" "},null,{"$f":"IFERROR(MATCH(D614,listy_slownikowe!$AH$3:$AH$326,0),0)","v":0},0]
[null,{"$f":"OFFSET(listy_slownikowe!$AG$2,I615,0)","v":" "},null,"",null,null,{"$f":"OFFSET(listy_slownikowe!$AI$2,I615,0)","v":" "},null,{"$f":"IFERROR(MATCH(D615,listy_slownikowe!$AH$3:$AH$326,0),0)","v":0},0]
[null,{"$f":"OFFSET(listy_slownikowe!$AG$2,I616,0)","v":" "},null,null,null,null,{"$f":"OFFSET(listy_slownikowe!$AI$2,I616,0)","v":" "},null,{"$f":"IFERROR(MATCH(D616,listy_slownikowe!$AH$3:$AH$326,0),0)","v":0},0]
[null,"Gatunki dominujące i subdominujące",null,null,null,null,null,null,null,{"$f":"J618","v":0}]
[null,"nazwa łacińska",null,"nazwa polska",null,null,"udział [%]",null,null,{"$f":"SUM(J619:J623)","v":0}]
[null,null,null,null,null,null,null,null,null,{"$f":"COUNTA(B619:G619)","v":0}]
[null,null,null,null,null,null,null,null,null,0]
[null,null,null,null,null,null,null,null,null,0]
[null,null,null,null,null,null,null,null,null,0]
[null,null,null,null,null,null,null,null,null,0]
[]
[null,"Spis gatunków numer:",null,null,null,null,{"$f":"G598+1","v":24},null,null,{"$f":"J629","v":0}]
[null,"Współrzędne geograficzne",null,null,null,null,null,null,null,{"$f":"J630","v":0}]
[null,"Długość geograficzna [E] ",null,null,"Szerokość geograficzna [N]",null,null,null,null,{"$f":"J630","v":0}]
[null,"stopnie","minuty","sekundy","stopnie","minuty","sekundy",null,null,{"$f":"J629","v":0}]
[null,null,null,null,null,null,null,null,null,{"$f":"J631+J645","v":0}]
[null,"Gatunki wskaźnikowe",null,null,null,null,null,null,null,{"$f":"J631","v":0}]
[null,"nazwa łacińska",null,"nazwa polska",null,null,"walor ",null,null,{"$f":"SUM(J632:J643)","v":0}]
[null,{"$f":"OFFSET(listy_slownikowe!$AG$2,I632,0)","v":" "},null,null,null,null,{"$f":"OFFSET(listy_slownikowe!$AI$2,I632,0)","v":" "},null,{"$f":"IFERROR(MATCH(D632,listy_slownikowe!$AH$3:$AH$326,0),0)","v":0},{"$f":"I632","v":0}]
[null,{"$f":"OFFSET(listy_slownikowe!$AG$2,I633,0)","v":" "},null,null,null,null,{"$f":"OFFSET(listy_slownikowe!$AI$2,I633,0)","v":" "},null,{"$f":"IFERROR(MATCH(D633,listy_slownikowe!$AH$3:$AH$326,0),0)","v":0},{"$f":"I633","v":0}]
[null,{"$f":"OFFSET(listy_slownikowe!$AG$2,I634,0)","v":" "},null,null,null,null,{"$f":"OFFSET(listy_slownikowe!$AI$2,I634,0)","v":" "},null,{"$f":"IFERROR(MATCH(D634,listy_slownikowe!$AH$3:$AH$326,0),0)","v":0},0]
[null,{"$f":"OFFSET(listy_slownikowe!$AG$2,I635,0)","v":" "},null,null,null,null,{"$f":"OFFSET(listy_slownikowe!$AI$2,I635,0)","v":" "},null,{"$f":"IFERROR(MATCH(D635,listy_slownikowe!$AH$3:$AH$326,0),0)","v":0},0]
[null,{"$f":"OFFSET(listy_slownikowe!$AG$2,I636,0)","v":" "},null,null,null,null,{"$f":"OFFSET(listy_slownikowe!$AI$2,I636,0)","v":" "},null,{"$f":"IFERROR(MATCH(D636,listy_slownikowe!$AH$3:$AH$326,0),0)","v":0},0]
[null,{"$f":"OFFSET(listy_slownikowe!$AG$2,I637,0)","v":" "},null,null,null,null,{"$f":"OFFSET(listy_slownikowe!$AI$2,I637,0)","v":" "},null,{"$f":"IFERROR(MATCH(D637,listy_slownikowe!$AH$3:$AH$326,0),0)","v":0},0]
[null,{"$f":"OFFSET(listy_slownikowe!$AG$2,I638,0)","v":" "},null,null,null,null,{"$f":"OFFSET(listy_slownikowe!$AI$2,I638,0)","v":" "},null,{"$f":"IFERROR(MATCH(D638,listy_slownikowe!$AH$3:$AH$326,0),0)","v":0},0]
[null,{"$f":"OFFSET(listy_slownikowe!$AG$2,I639,0)","v":" "},null,null,null,null,{"$f":"OFFSET(listy_slownikowe!$AI$2,I639,0)","v":" "},null,{"$f":"IFERROR(MATCH(D639,listy_slownikowe!$AH$3:$AH$326,0),0)","v":0},0]
[null,{"$f":"OFFSET(listy_slownikowe!$AG$2,I640,0)","v":" "},null,null,null,null,{"$f":"OFFSET(listy_slownikowe!$AI$2,I640,0)","v":" "},null,{"$f":"IFERROR(MATCH(D640,listy_slownikowe!$AH$3:$AH$326,0),0)","v":0},0]
[null,{"$f":"OFFSET(listy_slownikowe!$AG$2,I641,0)","v":" "},null,null,null,null,{"$f":"OFFSET(listy_slownikowe!$AI$2,I641,0)","v":" "},null,{"$f":"IFERROR(MATCH(D641,listy_slownikowe!$AH$3:$AH$326,0),0)","v":0},0]
[null,{"$f":"OFFSET(listy_slownikowe!$AG$2,I642,0)","v":" "},null,"",null,null,{"$f":"OFFSET(listy_slownikowe!$AI$2,I642,0)","v":" "},null,{"$f":"IFERROR(MATCH(D642,listy_slownikowe!$AH$3:$AH$326,0),0)","v":0},0]
[null,{"$f":"OFFSET(listy_slownikowe!$AG$2,I643,0)","v":" "},null,null,null,null,{"$f":"OFFSET(listy_slownikowe!$AI$2,I643,0)","v":" "},null,{"$f":"IFERROR(MATCH(D643,listy_slownikowe!$AH$3:$AH$326,0),0)","v":0},0]
[null,"Gatunki dominujące i subdominujące",null,null,null,null,null,null,null,{"$f":"J645","v":0}]
[null,"nazwa łacińska",null,"nazwa polska",null,null,"udział [%]",null,null,{"$f":"SUM(J646:J650)","v":0}]
[null,null,null,null,null,null,null,null,null,{"$f":"COUNTA(B646:G646)","v":0}]
[null,null,null,null,null,null,null,null,null,0]
[null,null,null,null,null,null,null,null,null,0]
[null,null,null,null,null,null,null,null,null,0]
[null,null,null,null,null,null,null,null,null,0]
[]
[null,"Spis gatunków numer:",null,null,null,null,{"$f":"G625+1","v":25},null,null,{"$f":"J656","v":0}]
[null,"Współrzędne geograficzne",null,null,null,null,null,null,null,{"$f":"J657","v":0}]
[null,"Długość geograficzna [E] ",null,null,"Szerokość geograficzna [N]",null,null,null,null,{"$f":"J657","v":0}]
[null,"stopnie","minuty","sekundy","stopnie","minuty","sekundy",null,null,{"$f":"J656","v":0}]
[null,null,null,null,null,null,null,null,null,{"$f":"J658+J672","v":0}]
[null,"Gatunki wskaźnikowe",null,null,null,null,null,null,null,{"$f":"J658","v":0}]
[null,"nazwa łacińska",null,"nazwa polska",null,null,"walor ",null,null,{"$f":"SUM(J659:J670)","v":0}]
[null,{"$f":"OFFSET(listy_slownikowe!$AG$2,I659,0)","v":" "},null,null,null,null,{"$f":"OFFSET(listy_slownikowe!$AI$2,I659,0)","v":" "},null,{"$f":"IFERROR(MATCH(D659,listy_slownikowe!$AH$3:$AH$326,0),0)","v":0},{"$f":"I659","v":0}]
[null,{"$f":"OFFSET(listy_slownikowe!$AG$2,I660,0)","v":" "},null,null,null,null,{"$f":"OFFSET(listy_slownikowe!$AI$2,I660,0)","v":" "},null,{"$f":"IFERROR(MATCH(D660,listy_slownikowe!$AH$3:$AH$326,0),0)","v":0},{"$f":"I660","v":0}]
[null,{"$f":"OFFSET(listy_slownikowe!$AG$2,I661,0)","v":" "},null,null,null,null,{"$f":"OFFSET(listy_slownikowe!$AI$2,I661,0)","v":" "},null,{"$f":"IFERROR(MATCH(D661,listy_slownikowe!$AH$3:$AH$326,0),0)","v":0},0]
[null,{"$f":"OFFSET(listy_slownikowe!$AG$2,I662,0)","v":" "},null,null,null,null,{"$f":"OFFSET(listy_slownikowe!$AI$2,I662,0)","v":" "},null,{"$f":"IFERROR(MATCH(D662,listy_slownikowe!$AH$3:$AH$326,0),0)","v":0},0]
[null,{"$f":"OFFSET(listy_slownikowe!$AG$2,I663,0)","v":" "},null,null,null,null,{"$f":"OFFSET(listy_slownikowe!$AI$2,I663,0)","v":" "},null,{"$f":"IFERROR(MATCH(D663,listy_slownikowe!$AH$3:$AH$326,0),0)","v":0},0]
[null,{"$f":"OFFSET(listy_slownikowe!$AG$2,I664,0)","v":" "},null,null,null,null,{"$f":"OFFSET(listy_slownikowe!$AI$2,I664,0)","v":" "},null,{"$f":"IFERROR(MATCH(D664,listy_slownikowe!$AH$3:$AH$326,0),0)","v":0},0]
[null,{"$f":"OFFSET(listy_slownikowe!$AG$2,I665,0)","v":" "},null,null,null,null,{"$f":"OFFSET(listy_slownikowe!$AI$2,I665,0)","v":" "},null,{"$f":"IFERROR(MATCH(D665,listy_slownikowe!$AH$3:$AH$326,0),0)","v":0},0]
[null,{"$f":"OFFSET(listy_slownikowe!$AG$2,I666,0)","v":" "},null,null,null,null,{"$f":"OFFSET(listy_slownikowe!$AI$2,I666,0)","v":" "},null,{"$f":"IFERROR(MATCH(D666,listy_slownikowe!$AH$3:$AH$326,0),0)","v":0},0]
[null,{"$f":"OFFSET(listy_slownikowe!$AG$2,I667,0)","v":" "},null,null,null,null,{"$f":"OFFSET(listy_slownikowe!$AI$2,I667,0)","v":" "},null,{"$f":"IFERROR(MATCH(D667,listy_slownikowe!$AH$3:$AH$326,0),0)","v":0},0]
[null,{"$f":"OFFSET(listy_slownikowe!$AG$2,I668,0)","v":" "},null,null,null,null,{"$f":"OFFSET(listy_slownikowe!$AI$2,I668,0)","v":" "},null,{"$f":"IFERROR(MATCH(D668,listy_slownikowe!$AH$3:$AH$326,0),0)","v":0},0]
[null,{"$f":"OFFSET(listy_slownikowe!$AG$2,I669,0)","v":" "},null,"",null,null,{"$f":"OFFSET(listy_slownikowe!$AI$2,I669,0)","v":" "},null,{"$f":"IFERROR(MATCH(D669,listy_slownikowe!$AH$3:$AH$326,0),0)","v":0},0]
[null,{"$f":"OFFSET(listy_slownikowe!$AG$2,I670,0)","v":" "},null,null,null,null,{"$f":"OFFSET(listy_slownikowe!$AI$2,I670,0)","v":" "},null,{"$f":"IFERROR(MATCH(D670,listy_slownikowe!$AH$3:$AH$326,0),0)","v":0},0]
[null,"Gatunki dominujące i subdominujące",null,null,null,null,null,null,null,{"$f":"J672","v":0}]
[null,"nazwa łacińska",null,"nazwa polska",null,null,"udział [%]",null,null,{"$f":"SUM(J673:J677)","v":0}]
[null,null,null,null,null,null,null,null,null,{"$f":"COUNTA(B673:G673)","v":0}]
[null,null,null,null,null,null,null,null,null,0]
[null,null,null,null,null,null,null,null,null,0]
[null,null,null,null,null,null,null,null,null,0]
[null,null,null,null,null,null,null,null,null,0]
[]
[null,"Spis gatunków numer:",null,null,null,null,{"$f":"G652+1","v":26},null,null,{"$f":"J683","v":0}]
[null,"Współrzędne geograficzne",null,null,null,null,null,null,null,{"$f":"J684","v":0}]
[null,"Długość geograficzna [E] ",null,null,"Szerokość geograficzna [N]",null,null,null,null,{"$f":"J684","v":0}]
[null,"stopnie","minuty","sekundy","stopnie","minuty","sekundy",null,null,{"$f":"J683","v":0}]
[null,null,null,null,null,null,null,null,null,{"$f":"J685+J699","v":0}]
[null,"Gatunki wskaźnikowe",null,null,null,null,null,null,null,{"$f":"J685","v":0}]
[null,"nazwa łacińska",null,"nazwa polska",null,null,"walor ",null,null,{"$f":"SUM(J686:J697)","v":0}]
[null,{"$f":"OFFSET(listy_slownikowe!$AG$2,I686,0)","v":" "},null,null,null,null,{"$f":"OFFSET(listy_slownikowe!$AI$2,I686,0)","v":" "},null,{"$f":"IFERROR(MATCH(D686,listy_slownikowe!$AH$3:$AH$326,0),0)","v":0},{"$f":"I686","v":0}]
[null,{"$f":"OFFSET(listy_slownikowe!$AG$2,I687,0)","v":" "},null,null,null,null,{"$f":"OFFSET(listy_slownikowe!$AI$2,I687,0)","v":" "},null,{"$f":"IFERROR(MATCH(D687,listy_slownikowe!$AH$3:$AH$326,0),0)","v":0},{"$f":"I687","v":0}]
[null,{"$f":"OFFSET(listy_slownikowe!$AG$2,I688,0)","v":" "},null,null,null,null,{"$f":"OFFSET(listy_slownikowe!$AI$2,I688,0)","v":" "},null,{"$f":"IFERROR(MATCH(D688,listy_slownikowe!$AH$3:$AH$326,0),0)","v":0},0]
[null,{"$f":"OFFSET(listy_slownikowe!$AG$2,I689,0)","v":" "},null,null,null,null,{"$f":"OFFSET(listy_slownikowe!$AI$2,I689,0)","v":" "},null,{"$f":"IFERROR(MATCH(D689,listy_slownikowe!$AH$3:$AH$326,0),0)","v":0},0]
[null,{"$f":"OFFSET(listy_slownikowe!$AG$2,I690,0)","v":" "},null,null,null,null,{"$f":"OFFSET(listy_slownikowe!$AI$2,I690,0)","v":" "},null,{"$f":"IFERROR(MATCH(D690,listy_slownikowe!$AH$3:$AH$326,0),0)","v":0},0]
[null,{"$f":"OFFSET(listy_slownikowe!$AG$2,I691,0)","v":" "},null,null,null,null,{"$f":"OFFSET(listy_slownikowe!$AI$2,I691,0)","v":" "},null,{"$f":"IFERROR(MATCH(D691,listy_slownikowe!$AH$3:$AH$326,0),0)","v":0},0]
[null,{"$f":"OFFSET(listy_slownikowe!$AG$2,I692,0)","v":" "},null,null,null,null,{"$f":"OFFSET(listy_slownikowe!$AI$2,I692,0)","v":" "},null,{"$f":"IFERROR(MATCH(D692,listy_slownikowe!$AH$3:$AH$326,0),0)","v":0},0]
[null,{"$f":"OFFSET(listy_slownikowe!$AG$2,I693,0)","v":" "},null,null,null,null,{"$f":"OFFSET(listy_slownikowe!$AI$2,I693,0)","v":" "},null,{"$f":"IFERROR(MATCH(D693,listy_slownikowe!$AH$3:$AH$326,0),0)","v":0},0]
[null,{"$f":"OFFSET(listy_slownikowe!$AG$2,I694,0)","v":" "},null,null,null,null,{"$f":"OFFSET(listy_slownikowe!$AI$2,I694,0)","v":" "},null,{"$f":"IFERROR(MATCH(D694,listy_slownikowe!$AH$3:$AH$326,0),0)","v":0},0]
[null,{"$f":"OFFSET(listy_slownikowe!$AG$2,I695,0)","v":" "},null,null,null,null,{"$f":"OFFSET(listy_slownikowe!$AI$2,I695,0)","v":" "},null,{"$f":"IFERROR(MATCH(D695,listy_slownikowe!$AH$3:$AH$326,0),0)","v":0},0]
[null,{"$f":"OFFSET(listy_slownikowe!$AG$2,I696,0)","v":" "},null,"",null,null,{"$f":"OFFSET(listy_slownikowe!$AI$2,I696,0)","v":" "},null,{"$f":"IFERROR(MATCH(D696,listy_slownikowe!$AH$3:$AH$326,0),0)","v":0},0]
[null,{"$f":"OFFSET(listy_slownikowe!$AG$2,I697,0)","v":" "},null,null,null,null,{"$f":"OFFSET(listy_slownikowe!$AI$2,I697,0)","v":" "},null,{"$f":"IFERROR(MATCH(D697,listy_slownikowe!$AH$3:$AH$326,0),0)","v":0},0]
[null,"Gatunki dominujące i subdominujące",null,null,null,null,null,null,null,{"$f":"J699","v":0}]
[null,"nazwa łacińska",null,"nazwa polska",null,null,"udział [%]",null,null,{"$f":"SUM(J700:J704)","v":0}]
[null,null,null,null,null,null,null,null,null,{"$f":"COUNTA(B700:G700)","v":0}]
[null,null,null,null,null,null,null,null,null,0]
[null,null,null,null,null,null,null,null,null,0]
[null,null,null,null,null,null,null,null,null,0]
[null,null,null,null,null,null,null,null,null,0]
[]
[null,"Spis gatunków numer:",null,null,null,null,{"$f":"G679+1","v":27},null,null,{"$f":"J710","v":0}]
[null,"Współrzędne geograficzne",null,null,null,null,null,null,null,{"$f":"J711","v":0}]
[null,"Długość geograficzna [E] ",null,null,"Szerokość geograficzna [N]",null,null,null,null,{"$f":"J711","v":0}]
[null,"stopnie","minuty","sekundy","stopnie","minuty","sekundy",null,null,{"$f":"J710","v":0}]
[null,null,null,null,null,null,null,null,null,{"$f":"J712+J726","v":0}]
[null,"Gatunki wskaźnikowe",null,null,null,null,null,null,null,{"$f":"J712","v":0}]
[null,"nazwa łacińska",null,"nazwa polska",null,null,"walor ",null,null,{"$f":"SUM(J713:J724)","v":0}]
[null,{"$f":"OFFSET(listy_slownikowe!$AG$2,I713,0)","v":" "},null,null,null,null,{"$f":"OFFSET(listy_slownikowe!$AI$2,I713,0)","v":" "},null,{"$f":"IFERROR(MATCH(D713,listy_slownikowe!$AH$3:$AH$326,0),0)","v":0},{"$f":"I713","v":0}]
[null,{"$f":"OFFSET(listy_slownikowe!$AG$2,I714,0)","v":" "},null,null,null,null,{"$f":"OFFSET(listy_slownikowe!$AI$2,I714,0)","v":" "},null,{"$f":"IFERROR(MATCH(D714,listy_slownikowe!$AH$3:$AH$326,0),0)","v":0},{"$f":"I714","v":0}]
[null,{"$f":"OFFSET(listy_slownikowe!$AG$2,I715,0)","v":" "},null,null,null,null,{"$f":"OFFSET(listy_slownikowe!$AI$2,I715,0)","v":" "},null,{"$f":"IFERROR(MATCH(D715,listy_slownikowe!$AH$3:$AH$326,0),0)","v":0},0]
[null,{"$f":"OFFSET(listy_slownikowe!$AG$2,I716,0)","v":" "},null,null,null,null,{"$f":"OFFSET(listy_slownikowe!$AI$2,I716,0)","v":" "},null,{"$f":"IFERROR(MATCH(D716,listy_slownikowe!$AH$3:$AH$326,0),0)","v":0},0]
[null,{"$f":"OFFSET(listy_slownikowe!$AG$2,I717,0)","v":" "},null,null,null,null,{"$f":"OFFSET(listy_slownikowe!$AI$2,I717,0)","v":" "},null,{"$f":"IFERROR(MATCH(D717,listy_slownikowe!$AH$3:$AH$326,0),0)","v":0},0]
[null,{"$f":"OFFSET(listy_slownikowe!$AG$2,I718,0)","v":" "},null,null,null,null,{"$f":"OFFSET(listy_slownikowe!$AI$2,I718,0)","v":" "},null,{"$f":"IFERROR(MATCH(D718,listy_slownikowe!$AH$3:$AH$326,0),0)","v":0},0]
[null,{"$f":"OFFSET(listy_slownikowe!$AG$2,I719,0)","v":" "},null,null,null,null,{"$f":"OFFSET(listy_slownikowe!$AI$2,I719,0)","v":" "},null,{"$f":"IFERROR(MATCH(D719,listy_slownikowe!$AH$3:$AH$326,0),0)","v":0},0]
[null,{"$f":"OFFSET(listy_slownikowe!$AG$2,I720,0)","v":" "},null,null,null,null,{"$f":"OFFSET(listy_slownikowe!$AI$2,I720,0)","v":" "},null,{"$f":"IFERROR(MATCH(D720,listy_slownikowe!$AH$3:$AH$326,0),0)","v":0},0]
[null,{"$f":"OFFSET(listy_slownikowe!$AG$2,I721,0)","v":" "},null,null,null,null,{"$f":"OFFSET(listy_slownikowe!$AI$2,I721,0)","v":" "},null,{"$f":"IFERROR(MATCH(D721,listy_slownikowe!$AH$3:$AH$326,0),0)","v":0},0]
[null,{"$f":"OFFSET(listy_slownikowe!$AG$2,I722,0)","v":" "},null,null,null,null,{"$f":"OFFSET(listy_slownikowe!$AI$2,I722,0)","v":" "},null,{"$f":"IFERROR(MATCH(D722,listy_slownikowe!$AH$3:$AH$326,0),0)","v":0},0]
[null,{"$f":"OFFSET(listy_slownikowe!$AG$2,I723,0)","v":" "},null,"",null,null,{"$f":"OFFSET(listy_slownikowe!$AI$2,I723,0)","v":" "},null,{"$f":"IFERROR(MATCH(D723,listy_slownikowe!$AH$3:$AH$326,0),0)","v":0},0]
[null,{"$f":"OFFSET(listy_slownikowe!$AG$2,I724,0)","v":" "},null,null,null,null,{"$f":"OFFSET(listy_slownikowe!$AI$2,I724,0)","v":" "},null,{"$f":"IFERROR(MATCH(D724,listy_slownikowe!$AH$3:$AH$326,0),0)","v":0},0]
[null,"Gatunki dominujące i subdominujące",null,null,null,null,null,null,null,{"$f":"J726","v":0}]
[null,"nazwa łacińska",null,"nazwa polska",null,null,"udział [%]",null,null,{"$f":"SUM(J727:J731)","v":0}]
[null,null,null,null,null,null,null,null,null,{"$f":"COUNTA(B727:G727)","v":0}]
[null,null,null,null,null,null,null,null,null,0]
[null,null,null,null,null,null,null,null,null,0]
[null,null,null,null,null,null,null,null,null,0]
[null,null,null,null,null,null,null,null,null,0]
[]
[null,"Spis gatunków numer:",null,null,null,null,{"$f":"G706+1","v":28},null,null,{"$f":"J737","v":0}]
[null,"Współrzędne geograficzne",null,null,null,null,null,null,null,{"$f":"J738","v":0}]
[null,"Długość geograficzna [E] ",null,null,"Szerokość geograficzna [N]",null,null,null,null,{"$f":"J738","v":0}]
[null,"stopnie","minuty","sekundy","stopnie","minuty","sekundy",null,null,{"$f":"J737","v":0}]
[null,null,null,null,null,null,null,null,null,{"$f":"J739+J753","v":0}]
[null,"Gatunki wskaźnikowe",null,null,null,null,null,null,null,{"$f":"J739","v":0}]
[null,"nazwa łacińska",null,"nazwa polska",null,null,"walor ",null,null,{"$f":"SUM(J740:J751)","v":0}]
[null,{"$f":"OFFSET(listy_slownikowe!$AG$2,I740,0)","v":" "},null,null,null,null,{"$f":"OFFSET(listy_slownikowe!$AI$2,I740,0)","v":" "},null,{"$f":"IFERROR(MATCH(D740,listy_slownikowe!$AH$3:$AH$326,0),0)","v":0},{"$f":"I740","v":0}]
[null,{"$f":"OFFSET(listy_slownikowe!$AG$2,I741,0)","v":" "},null,null,null,null,{"$f":"OFFSET(listy_slownikowe!$AI$2,I741,0)","v":" "},null,{"$f":"IFERROR(MATCH(D741,listy_slownikowe!$AH$3:$AH$326,0),0)","v":0},{"$f":"I741","v":0}]
[null,{"$f":"OFFSET(listy_slownikowe!$AG$2,I742,0)","v":" "},null,null,null,null,{"$f":"OFFSET(listy_slownikowe!$AI$2,I742,0)","v":" "},null,{"$f":"IFERROR(MATCH(D742,listy_slownikowe!$AH$3:$AH$326,0),0)","v":0},0]
[null,{"$f":"OFFSET(listy_slownikowe!$AG$2,I743,0)","v":" "},null,null,null,null,{"$f":"OFFSET(listy_slownikowe!$AI$2,I743,0)","v":" "},null,{"$f":"IFERROR(MATCH(D743,listy_slownikowe!$AH$3:$AH$326,0),0)","v":0},0]
[null,{"$f":"OFFSET(listy_slownikowe!$AG$2,I744,0)","v":" "},null,null,null,null,{"$f":"OFFSET(listy_slownikowe!$AI$2,I744,0)","v":" "},null,{"$f":"IFERROR(MATCH(D744,listy_slownikowe!$AH$3:$AH$326,0),0)","v":0},0]
[null,{"$f":"OFFSET(listy_slownikowe!$AG$2,I745,0)","v":" "},null,null,null,null,{"$f":"OFFSET(listy_slownikowe!$AI$2,I745,0)","v":" "},null,{"$f":"IFERROR(MATCH(D745,listy_slownikowe!$AH$3:$AH$326,0),0)","v":0},0]
[null,{"$f":"OFFSET(listy_slownikowe!$AG$2,I746,0)","v":" "},null,null,null,null,{"$f":"OFFSET(listy_slownikowe!$AI$2,I746,0)","v":" "},null,{"$f":"IFERROR(MATCH(D746,listy_slownikowe!$AH$3:$AH$326,0),0)","v":0},0]
[null,{"$f":"OFFSET(listy_slownikowe!$AG$2,I747,0)","v":" "},null,null,null,null,{"$f":"OFFSET(listy_slownikowe!$AI$2,I747,0)","v":" "},null,{"$f":"IFERROR(MATCH(D747,listy_slownikowe!$AH$3:$AH$326,0),0)","v":0},0]
[null,{"$f":"OFFSET(listy_slownikowe!$AG$2,I748,0)","v":" "},null,null,null,null,{"$f":"OFFSET(listy_slownikowe!$AI$2,I748,0)","v":" "},null,{"$f":"IFERROR(MATCH(D748,listy_slownikowe!$AH$3:$AH$326,0),0)","v":0},0]
[null,{"$f":"OFFSET(listy_slownikowe!$AG$2,I749,0)","v":" "},null,null,null,null,{"$f":"OFFSET(listy_slownikowe!$AI$2,I749,0)","v":" "},null,{"$f":"IFERROR(MATCH(D749,listy_slownikowe!$AH$3:$AH$326,0),0)","v":0},0]
[null,{"$f":"OFFSET(listy_slownikowe!$AG$2,I750,0)","v":" "},null,"",null,null,{"$f":"OFFSET(listy_slownikowe!$AI$2,I750,0)","v":" "},null,{"$f":"IFERROR(MATCH(D750,listy_slownikowe!$AH$3:$AH$326,0),0)","v":0},0]
[null,{"$f":"OFFSET(listy_slownikowe!$AG$2,I751,0)","v":" "},null,null,null,null,{"$f":"OFFSET(listy_slownikowe!$AI$2,I751,0)","v":" "},null,{"$f":"IFERROR(MATCH(D751,listy_slownikowe!$AH$3:$AH$326,0),0)","v":0},0]
[null,"Gatunki dominujące i subdominujące",null,null,null,null,null,null,null,{"$f":"J753","v":0}]
[null,"nazwa łacińska",null,"nazwa polska",null,null,"udział [%]",null,null,{"$f":"SUM(J754:J758)","v":0}]
[null,null,null,null,null,null,null,null,null,{"$f":"COUNTA(B754:G754)","v":0}]
[null,null,null,null,null,null,null,null,null,0]
[null,null,null,null,null,null,null,null,null,0]
[null,null,null,null,null,null,null,null,null,0]
[null,null,null,null,null,null,null,null,null,0]
[]
[null,"Spis gatunków numer:",null,null,null,null,{"$f":"G733+1","v":29},null,null,{"$f":"J764","v":0}]
[null,"Współrzędne geograficzne",null,null,null,null,null,null,null,{"$f":"J765","v":0}]
[null,"Długość geograficzna [E] ",null,null,"Szerokość geograficzna [N]",null,null,null,null,{"$f":"J765","v":0}]
[null,"stopnie","minuty","sekundy","stopnie","minuty","sekundy",null,null,{"$f":"J764","v":0}]
[null,null,null,null,null,null,null,null,null,{"$f":"J766+J780","v":0}]
[null,"Gatunki wskaźnikowe",null,null,null,null,null,null,null,{"$f":"J766","v":0}]
[null,"nazwa łacińska",null,"nazwa polska",null,null,"walor ",null,null,{"$f":"SUM(J767:J778)","v":0}]
[null,{"$f":"OFFSET(listy_slownikowe!$AG$2,I767,0)","v":" "},null,null,null,null,{"$f":"OFFSET(listy_slownikowe!$AI$2,I767,0)","v":" "},null,{"$f":"IFERROR(MATCH(D767,listy_slownikowe!$AH$3:$AH$326,0),0)","v":0},{"$f":"I767","v":0}]
[null,{"$f":"OFFSET(listy_slownikowe!$AG$2,I768,0)","v":" "},null,null,null,null,{"$f":"OFFSET(listy_slownikowe!$AI$2,I768,0)","v":" "},null,{"$f":"IFERROR(MATCH(D768,listy_slownikowe!$AH$3:$AH$326,0),0)","v":0},{"$f":"I768","v":0}]
[null,{"$f":"OFFSET(listy_slownikowe!$AG$2,I769,0)","v":" "},null,null,null,null,{"$f":"OFFSET(listy_slownikowe!$AI$2,I769,0)","v":" "},null,{"$f":"IFERROR(MATCH(D769,listy_slownikowe!$AH$3:$AH$326,0),0)","v":0},0]
[null,{"$f":"OFFSET(listy_slownikowe!$AG$2,I770,0)","v":" "},null,null,null,null,{"$f":"OFFSET(listy_slownikowe!$AI$2,I770,0)","v":" "},null,{"$f":"IFERROR(MATCH(D770,listy_slownikowe!$AH$3:$AH$326,0),0)","v":0},0]
[null,{"$f":"OFFSET(listy_slownikowe!$AG$2,I771,0)","v":" "},null,null,null,null,{"$f":"OFFSET(listy_slownikowe!$AI$2,I771,0)","v":" "},null,{"$f":"IFERROR(MATCH(D771,listy_slownikowe!$AH$3:$AH$326,0),0)","v":0},0]
[null,{"$f":"OFFSET(listy_slownikowe!$AG$2,I772,0)","v":" "},null,null,null,null,{"$f":"OFFSET(listy_slownikowe!$AI$2,I772,0)","v":" "},null,{"$f":"IFERROR(MATCH(D772,listy_slownikowe!$AH$3:$AH$326,0),0)","v":0},0]
[null,{"$f":"OFFSET(listy_slownikowe!$AG$2,I773,0)","v":" "},null,null,null,null,{"$f":"OFFSET(listy_slownikowe!$AI$2,I773,0)","v":" "},null,{"$f":"IFERROR(MATCH(D773,listy_slownikowe!$AH$3:$AH$326,0),0)","v":0},0]
[null,{"$f":"OFFSET(listy_slownikowe!$AG$2,I774,0)","v":" "},null,null,null,null,{"$f":"OFFSET(listy_slownikowe!$AI$2,I774,0)","v":" "},null,{"$f":"IFERROR(MATCH(D774,listy_slownikowe!$AH$3:$AH$326,0),0)","v":0},0]
[null,{"$f":"OFFSET(listy_slownikowe!$AG$2,I775,0)","v":" "},null,null,null,null,{"$f":"OFFSET(listy_slownikowe!$AI$2,I775,0)","v":" "},null,{"$f":"IFERROR(MATCH(D775,listy_slownikowe!$AH$3:$AH$326,0),0)","v":0},0]
[null,{"$f":"OFFSET(listy_slownikowe!$AG$2,I776,0)","v":" "},null,null,null,null,{"$f":"OFFSET(listy_slownikowe!$AI$2,I776,0)","v":" "},null,{"$f":"IFERROR(MATCH(D776,listy_slownikowe!$AH$3:$AH$326,0),0)","v":0},0]
[null,{"$f":"OFFSET(listy_slownikowe!$AG$2,I777,0)","v":" "},null,"",null,null,{"$f":"OFFSET(listy_slownikowe!$AI$2,I777,0)","v":" "},null,{"$f":"IFERROR(MATCH(D777,listy_slownikowe!$AH$3:$AH$326,0),0)","v":0},0]
[null,{"$f":"OFFSET(listy_slownikowe!$AG$2,I778,0)","v":" "},null,null,null,null,{"$f":"OFFSET(listy_slownikowe!$AI$2,I778,0)","v":" "},null,{"$f":"IFERROR(MATCH(D778,listy_slownikowe!$AH$3:$AH$326,0),0)","v":0},0]
[null,"Gatunki dominujące i subdominujące",null,null,null,null,null,null,null,{"$f":"J780","v":0}]
[null,"nazwa łacińska",null,"nazwa polska",null,null,"udział [%]",null,null,{"$f":"SUM(J781:J785)","v":0}]
[null,null,null,null,null,null,null,null,null,{"$f":"COUNTA(B781:G781)","v":0}]
[null,null,null,null,null,null,null,null,null,0]
[null,null,null,null,null,null,null,null,null,0]
[null,null,null,null,null,null,null,null,null,0]
[null,null,null,null,null,null,null,null,null,0]
[]
[null,"Spis gatunków numer:",null,null,null,null,{"$f":"G760+1","v":30},null,null,{"$f":"J791","v":0}]
[null,"Współrzędne geograficzne",null,null,null,null,null,null,null,{"$f":"J792","v":0}]
[null,"Długość geograficzna [E] ",null,null,"Szerokość geograficzna [N]",null,null,null,null,{"$f":"J792","v":0}]
[null,"stopnie","minuty","sekundy","stopnie","minuty","sekundy",null,null,{"$f":"J791","v":0}]
[null,null,null,null,null,null,null,null,null,{"$f":"J793+J807","v":0}]
[null,"Gatunki wskaźnikowe",null,null,null,null,null,null,null,{"$f":"J793","v":0}]
[null,"nazwa łacińska",null,"nazwa polska",null,null,"walor ",null,null,{"$f":"SUM(J794:J805)","v":0}]
[null,{"$f":"OFFSET(listy_slownikowe!$AG$2,I794,0)","v":" "},null,null,null,null,{"$f":"OFFSET(listy_slownikowe!$AI$2,I794,0)","v":" "},null,{"$f":"IFERROR(MATCH(D794,listy_slownikowe!$AH$3:$AH$326,0),0)","v":0},{"$f":"I794","v":0}]
[null,{"$f":"OFFSET(listy_slownikowe!$AG$2,I795,0)","v":" "},null,null,null,null,{"$f":"OFFSET(listy_slownikowe!$AI$2,I795,0)","v":" "},null,{"$f":"IFERROR(MATCH(D795,listy_slownikowe!$AH$3:$AH$326,0),0)","v":0},{"$f":"I795","v":0}]
[null,{"$f":"OFFSET(listy_slownikowe!$AG$2,I796,0)","v":" "},null,null,null,null,{"$f":"OFFSET(listy_slownikowe!$AI$2,I796,0)","v":" "},null,{"$f":"IFERROR(MATCH(D796,listy_slownikowe!$AH$3:$AH$326,0),0)","v":0},0]
[null,{"$f":"OFFSET(listy_slownikowe!$AG$2,I797,0)","v":" "},null,null,null,null,{"$f":"OFFSET(listy_slownikowe!$AI$2,I797,0)","v":" "},null,{"$f":"IFERROR(MATCH(D797,listy_slownikowe!$AH$3:$AH$326,0),0)","v":0},0]
[null,{"$f":"OFFSET(listy_slownikowe!$AG$2,I798,0)","v":" "},null,null,null,null,{"$f":"OFFSET(listy_slownikowe!$AI$2,I798,0)","v":" "},null,{"$f":"IFERROR(MATCH(D798,listy_slownikowe!$AH$3:$AH$326,0),0)","v":0},0]
[null,{"$f":"OFFSET(listy_slownikowe!$AG$2,I799,0)","v":" "},null,null,null,null,{"$f":"OFFSET(listy_slownikowe!$AI$2,I799,0)","v":" "},null,{"$f":"IFERROR(MATCH(D799,listy_slownikowe!$AH$3:$AH$326,0),0)","v":0},0]
[null,{"$f":"OFFSET(listy_slownikowe!$AG$2,I800,0)","v":" "},null,null,null,null,{"$f":"OFFSET(listy_slownikowe!$AI$2,I800,0)","v":" "},null,{"$f":"IFERROR(MATCH(D800,listy_slownikowe!$AH$3:$AH$326,0),0)","v":0},0]
[null,{"$f":"OFFSET(listy_slownikowe!$AG$2,I801,0)","v":" "},null,null,null,null,{"$f":"OFFSET(listy_slownikowe!$AI$2,I801,0)","v":" "},null,{"$f":"IFERROR(MATCH(D801,listy_slownikowe!$AH$3:$AH$326,0),0)","v":0},0]
[null,{"$f":"OFFSET(listy_slownikowe!$AG$2,I802,0)","v":" "},null,null,null,null,{"$f":"OFFSET(listy_slownikowe!$AI$2,I802,0)","v":" "},null,{"$f":"IFERROR(MATCH(D802,listy_slownikowe!$AH$3:$AH$326,0),0)","v":0},0]
[null,{"$f":"OFFSET(listy_slownikowe!$AG$2,I803,0)","v":" "},null,null,null,null,{"$f":"OFFSET(listy_slownikowe!$AI$2,I803,0)","v":" "},null,{"$f":"IFERROR(MATCH(D803,listy_slownikowe!$AH$3:$AH$326,0),0)","v":0},0]
[null,{"$f":"OFFSET(listy_slownikowe!$AG$2,I804,0)","v":" "},null,"",null,null,{"$f":"OFFSET(listy_slownikowe!$AI$2,I804,0)","v":" "},null,{"$f":"IFERROR(MATCH(D804,listy_slownikowe!$AH$3:$AH$326,0),0)","v":0},0]
[null,{"$f":"OFFSET(listy_slownikowe!$AG$2,I805,0)","v":" "},null,null,null,null,{"$f":"OFFSET(listy_slownikowe!$AI$2,I805,0)","v":" "},null,{"$f":"IFERROR(MATCH(D805,listy_slownikowe!$AH$3:$AH$326,0),0)","v":0},0]
[null,"Gatunki dominujące i subdominujące",null,null,null,null,null,null,null,{"$f":"J807","v":0}]
[null,"nazwa łacińska",null,"nazwa polska",null,null,"udział [%]",null,null,{"$f":"SUM(J808:J812)","v":0}]
[null,null,null,null,null,null,null,null,null,{"$f":"COUNTA(B808:G808)","v":0}]
[null,null,null,null,null,null,null,null,null,0]
[null,null,null,null,null,null,null,null,null,0]
[null,null,null,null,null,null,null,null,null,0]
[null,null,null,null,null,null,null,null,null,0]
[]
[null,"Spis gatunków numer:",null,null,null,null,{"$f":"G787+1","v":31},null,null,{"$f":"J818","v":0}]
[null,"Współrzędne geograficzne",null,null,null,null,null,null,null,{"$f":"J819","v":0}]
[null,"Długość geograficzna [E] ",null,null,"Szerokość geograficzna [N]",null,null,null,null,{"$f":"J819","v":0}]
[null,"stopnie","minuty","sekundy","stopnie","minuty","sekundy",null,null,{"$f":"J818","v":0}]
[null,null,null,null,null,null,null,null,null,{"$f":"J820+J834","v":0}]
[null,"Gatunki wskaźnikowe",null,null,null,null,null,null,null,{"$f":"J820","v":0}]
[null,"nazwa łacińska",null,"nazwa polska",null,null,"walor ",null,null,{"$f":"SUM(J821:J832)","v":0}]
[null,{"$f":"OFFSET(listy_slownikowe!$AG$2,I821,0)","v":" "},null,null,null,null,{"$f":"OFFSET(listy_slownikowe!$AI$2,I821,0)","v":" "},null,{"$f":"IFERROR(MATCH(D821,listy_slownikowe!$AH$3:$AH$326,0),0)","v":0},{"$f":"I821","v":0}]
[null,{"$f":"OFFSET(listy_slownikowe!$AG$2,I822,0)","v":" "},null,null,null,null,{"$f":"OFFSET(listy_slownikowe!$AI$2,I822,0)","v":" "},null,{"$f":"IFERROR(MATCH(D822,listy_slownikowe!$AH$3:$AH$326,0),0)","v":0},{"$f":"I822","v":0}]
[null,{"$f":"OFFSET(listy_slownikowe!$AG$2,I823,0)","v":" "},null,null,null,null,{"$f":"OFFSET(listy_slownikowe!$AI$2,I823,0)","v":" "},null,{"$f":"IFERROR(MATCH(D823,listy_slownikowe!$AH$3:$AH$326,0),0)","v":0},0]
[null,{"$f":"OFFSET(listy_slownikowe!$AG$2,I824,0)","v":" "},null,null,null,null,{"$f":"OFFSET(listy_slownikowe!$AI$2,I824,0)","v":" "},null,{"$f":"IFERROR(MATCH(D824,listy_slownikowe!$AH$3:$AH$326,0),0)","v":0},0]
[null,{"$f":"OFFSET(listy_slownikowe!$AG$2,I825,0)","v":" "},null,null,null,null,{"$f":"OFFSET(listy_slownikowe!$AI$2,I825,0)","v":" "},null,{"$f":"IFERROR(MATCH(D825,listy_slownikowe!$AH$3:$AH$326,0),0)","v":0},0]
[null,{"$f":"OFFSET(listy_slownikowe!$AG$2,I826,0)","v":" "},null,null,null,null,{"$f":"OFFSET(listy_slownikowe!$AI$2,I826,0)","v":" "},null,{"$f":"IFERROR(MATCH(D826,listy_slownikowe!$AH$3:$AH$326,0),0)","v":0},0]
[null,{"$f":"OFFSET(listy_slownikowe!$AG$2,I827,0)","v":" "},null,null,null,null,{"$f":"OFFSET(listy_slownikowe!$AI$2,I827,0)","v":" "},null,{"$f":"IFERROR(MATCH(D827,listy_slownikowe!$AH$3:$AH$326,0),0)","v":0},0]
[null,{"$f":"OFFSET(listy_slownikowe!$AG$2,I828,0)","v":" "},null,null,null,null,{"$f":"OFFSET(listy_slownikowe!$AI$2,I828,0)","v":" "},null,{"$f":"IFERROR(MATCH(D828,listy_slownikowe!$AH$3:$AH$326,0),0)","v":0},0]
[null,{"$f":"OFFSET(listy_slownikowe!$AG$2,I829,0)","v":" "},null,null,null,null,{"$f":"OFFSET(listy_slownikowe!$AI$2,I829,0)","v":" "},null,{"$f":"IFERROR(MATCH(D829,listy_slownikowe!$AH$3:$AH$326,0),0)","v":0},0]
[null,{"$f":"OFFSET(listy_slownikowe!$AG$2,I830,0)","v":" "},null,null,null,null,{"$f":"OFFSET(listy_slownikowe!$AI$2,I830,0)","v":" "},null,{"$f":"IFERROR(MATCH(D830,listy_slownikowe!$AH$3:$AH$326,0),0)","v":0},0]
[null,{"$f":"OFFSET(listy_slownikowe!$AG$2,I831,0)","v":" "},null,"",null,null,{"$f":"OFFSET(listy_slownikowe!$AI$2,I831,0)","v":" "},null,{"$f":"IFERROR(MATCH(D831,listy_slownikowe!$AH$3:$AH$326,0),0)","v":0},0]
[null,{"$f":"OFFSET(listy_slownikowe!$AG$2,I832,0)","v":" "},null,null,null,null,{"$f":"OFFSET(listy_slownikowe!$AI$2,I832,0)","v":" "},null,{"$f":"IFERROR(MATCH(D832,listy_slownikowe!$AH$3:$AH$326,0),0)","v":0},0]
[null,"Gatunki dominujące i subdominujące",null,null,null,null,null,null,null,{"$f":"J834","v":0}]
[null,"nazwa łacińska",null,"nazwa polska",null,null,"udział [%]",null,null,{"$f":"SUM(J835:J839)","v":0}]
[null,null,null,null,null,null,null,null,null,{"$f":"COUNTA(B835:G835)","v":0}]
[null,null,null,null,null,null,null,null,null,0]
[null,null,null,null,null,null,null,null,null,0]
[null,null,null,null,null,null,null,null,null,0]
[null,null,null,null,null,null,null,null,null,0]
[]
[null,"Spis gatunków numer:",null,null,null,null,{"$f":"G814+1","v":32},null,null,{"$f":"J845","v":0}]
[null,"Współrzędne geograficzne",null,null,null,null,null,null,null,{"$f":"J846","v":0}]
[null,"Długość geograficzna [E] ",null,null,"Szerokość geograficzna [N]",null,null,null,null,{"$f":"J846","v":0}]
[null,"stopnie","minuty","sekundy","stopnie","minuty","sekundy",null,null,{"$f":"J845","v":0}]
[null,null,null,null,null,null,null,null,null,{"$f":"J847+J861","v":0}]
[null,"Gatunki wskaźnikowe",null,null,null,null,null,null,null,{"$f":"J847","v":0}]
[null,"nazwa łacińska",null,"nazwa polska",null,null,"walor ",null,null,{"$f":"SUM(J848:J859)","v":0}]
[null,{"$f":"OFFSET(listy_slownikowe!$AG$2,I848,0)","v":" "},null,null,null,null,{"$f":"OFFSET(listy_slownikowe!$AI$2,I848,0)","v":" "},null,{"$f":"IFERROR(MATCH(D848,listy_slownikowe!$AH$3:$AH$326,0),0)","v":0},{"$f":"I848","v":0}]
[null,{"$f":"OFFSET(listy_slownikowe!$AG$2,I849,0)","v":" "},null,null,null,null,{"$f":"OFFSET(listy_slownikowe!$AI$2,I849,0)","v":" "},null,{"$f":"IFERROR(MATCH(D849,listy_slownikowe!$AH$3:$AH$326,0),0)","v":0},{"$f":"I849","v":0}]
[null,{"$f":"OFFSET(listy_slownikowe!$AG$2,I850,0)","v":" "},null,null,null,null,{"$f":"OFFSET(listy_slownikowe!$AI$2,I850,0)","v":" "},null,{"$f":"IFERROR(MATCH(D850,listy_slownikowe!$AH$3:$AH$326,0),0)","v":0},0]
[null,{"$f":"OFFSET(listy_slownikowe!$AG$2,I851,0)","v":" "},null,null,null,null,{"$f":"OFFSET(listy_slownikowe!$AI$2,I851,0)","v":" "},null,{"$f":"IFERROR(MATCH(D851,listy_slownikowe!$AH$3:$AH$326,0),0)","v":0},0]
[null,{"$f":"OFFSET(listy_slownikowe!$AG$2,I852,0)","v":" "},null,null,null,null,{"$f":"OFFSET(listy_slownikowe!$AI$2,I852,0)","v":" "},null,{"$f":"IFERROR(MATCH(D852,listy_slownikowe!$AH$3:$AH$326,0),0)","v":0},0]
[null,{"$f":"OFFSET(listy_slownikowe!$AG$2,I853,0)","v":" "},null,null,null,null,{"$f":"OFFSET(listy_slownikowe!$AI$2,I853,0)","v":" "},null,{"$f":"IFERROR(MATCH(D853,listy_slownikowe!$AH$3:$AH$326,0),0)","v":0},0]
[null,{"$f":"OFFSET(listy_slownikowe!$AG$2,I854,0)","v":" "},null,null,null,null,{"$f":"OFFSET(listy_slownikowe!$AI$2,I854,0)","v":" "},null,{"$f":"IFERROR(MATCH(D854,listy_slownikowe!$AH$3:$AH$326,0),0)","v":0},0]
[null,{"$f":"OFFSET(listy_slownikowe!$AG$2,I855,0)","v":" "},null,null,null,null,{"$f":"OFFSET(listy_slownikowe!$AI$2,I855,0)","v":" "},null,{"$f":"IFERROR(MATCH(D855,listy_slownikowe!$AH$3:$AH$326,0),0)","v":0},0]
[null,{"$f":"OFFSET(listy_slownikowe!$AG$2,I856,0)","v":" "},null,null,null,null,{"$f":"OFFSET(listy_slownikowe!$AI$2,I856,0)","v":" "},null,{"$f":"IFERROR(MATCH(D856,listy_slownikowe!$AH$3:$AH$326,0),0)","v":0},0]
[null,{"$f":"OFFSET(listy_slownikowe!$AG$2,I857,0)","v":" "},null,null,null,null,{"$f":"OFFSET(listy_slownikowe!$AI$2,I857,0)","v":" "},null,{"$f":"IFERROR(MATCH(D857,listy_slownikowe!$AH$3:$AH$326,0),0)","v":0},0]
[null,{"$f":"OFFSET(listy_slownikowe!$AG$2,I858,0)","v":" "},null,"",null,null,{"$f":"OFFSET(listy_slownikowe!$AI$2,I858,0)","v":" "},null,{"$f":"IFERROR(MATCH(D858,listy_slownikowe!$AH$3:$AH$326,0),0)","v":0},0]
[null,{"$f":"OFFSET(listy_slownikowe!$AG$2,I859,0)","v":" "},null,null,null,null,{"$f":"OFFSET(listy_slownikowe!$AI$2,I859,0)","v":" "},null,{"$f":"IFERROR(MATCH(D859,listy_slownikowe!$AH$3:$AH$326,0),0)","v":0},0]
[null,"Gatunki dominujące i subdominujące",null,null,null,null,null,null,null,{"$f":"J861","v":0}]
[null,"nazwa łacińska",null,"nazwa polska",null,null,"udział [%]",null,null,{"$f":"SUM(J862:J866)","v":0}]
[null,null,null,null,null,null,null,null,null,{"$f":"COUNTA(B862:G862)","v":0}]
[null,null,null,null,null,null,null,null,null,0]
[null,null,null,null,null,null,null,null,null,0]
[null,null,null,null,null,null,null,null,null,0]
[null,null,null,null,null,null,null,null,null,0]
[]
[null,"Spis gatunków numer:",null,null,null,null,{"$f":"G841+1","v":33},null,null,{"$f":"J872","v":0}]
[null,"Współrzędne geograficzne",null,null,null,null,null,null,null,{"$f":"J873","v":0}]
[null,"Długość geograficzna [E] ",null,null,"Szerokość geograficzna [N]",null,null,null,null,{"$f":"J873","v":0}]
[null,"stopnie","minuty","sekundy","stopnie","minuty","sekundy",null,null,{"$f":"J872","v":0}]
[null,null,null,null,null,null,null,null,null,{"$f":"J874+J888","v":0}]
[null,"Gatunki wskaźnikowe",null,null,null,null,null,null,null,{"$f":"J874","v":0}]
[null,"nazwa łacińska",null,"nazwa polska",null,null,"walor ",null,null,{"$f":"SUM(J875:J886)","v":0}]
[null,{"$f":"OFFSET(listy_slownikowe!$AG$2,I875,0)","v":" "},null,null,null,null,{"$f":"OFFSET(listy_slownikowe!$AI$2,I875,0)","v":" "},null,{"$f":"IFERROR(MATCH(D875,listy_slownikowe!$AH$3:$AH$326,0),0)","v":0},{"$f":"I875","v":0}]
[null,{"$f":"OFFSET(listy_slownikowe!$AG$2,I876,0)","v":" "},null,null,null,null,{"$f":"OFFSET(listy_slownikowe!$AI$2,I876,0)","v":" "},null,{"$f":"IFERROR(MATCH(D876,listy_slownikowe!$AH$3:$AH$326,0),0)","v":0},{"$f":"I876","v":0}]
[null,{"$f":"OFFSET(listy_slownikowe!$AG$2,I877,0)","v":" "},null,null,null,null,{"$f":"OFFSET(listy_slownikowe!$AI$2,I877,0)","v":" "},null,{"$f":"IFERROR(MATCH(D877,listy_slownikowe!$AH$3:$AH$326,0),0)","v":0},0]
[null,{"$f":"OFFSET(listy_slownikowe!$AG$2,I878,0)","v":" "},null,null,null,null,{"$f":"OFFSET(listy_slownikowe!$AI$2,I878,0)","v":" "},null,{"$f":"IFERROR(MATCH(D878,listy_slownikowe!$AH$3:$AH$326,0),0)","v":0},0]
[null,{"$f":"OFFSET(listy_slownikowe!$AG$2,I879,0)","v":" "},null,null,null,null,{"$f":"OFFSET(listy_slownikowe!$AI$2,I879,0)","v":" "},null,{"$f":"IFERROR(MATCH(D879,listy_slownikowe!$AH$3:$AH$326,0),0)","v":0},0]
[null,{"$f":"OFFSET(listy_slownikowe!$AG$2,I880,0)","v":" "},null,null,null,null,{"$f":"OFFSET(listy_slownikowe!$AI$2,I880,0)","v":" "},null,{"$f":"IFERROR(MATCH(D880,listy_slownikowe!$AH$3:$AH$326,0),0)","v":0},0]
[null,{"$f":"OFFSET(listy_slownikowe!$AG$2,I881,0)","v":" "},null,null,null,null,{"$f":"OFFSET(listy_slownikowe!$AI$2,I881,0)","v":" "},null,{"$f":"IFERROR(MATCH(D881,listy_slownikowe!$AH$3:$AH$326,0),0)","v":0},0]
[null,{"$f":"OFFSET(listy_slownikowe!$AG$2,I882,0)","v":" "},null,null,null,null,{"$f":"OFFSET(listy_slownikowe!$AI$2,I882,0)","v":" "},null,{"$f":"IFERROR(MATCH(D882,listy_slownikowe!$AH$3:$AH$326,0),0)","v":0},0]
[null,{"$f":"OFFSET(listy_slownikowe!$AG$2,I883,0)","v":" "},null,null,null,null,{"$f":"OFFSET(listy_slownikowe!$AI$2,I883,0)","v":" "},null,{"$f":"IFERROR(MATCH(D883,listy_slownikowe!$AH$3:$AH$326,0),0)","v":0},0]
[null,{"$f":"OFFSET(listy_slownikowe!$AG$2,I884,0)","v":" "},null,null,null,null,{"$f":"OFFSET(listy_slownikowe!$AI$2,I884,0)","v":" "},null,{"$f":"IFERROR(MATCH(D884,listy_slownikowe!$AH$3:$AH$326,0),0)","v":0},0]
[null,{"$f":"OFFSET(listy_slownikowe!$AG$2,I885,0)","v":" "},null,"",null,null,{"$f":"OFFSET(listy_slownikowe!$AI$2,I885,0)","v":" "},null,{"$f":"IFERROR(MATCH(D885,listy_slownikowe!$AH$3:$AH$326,0),0)","v":0},0]
[null,{"$f":"OFFSET(listy_slownikowe!$AG$2,I886,0)","v":" "},null,null,null,null,{"$f":"OFFSET(listy_slownikowe!$AI$2,I886,0)","v":" "},null,{"$f":"IFERROR(MATCH(D886,listy_slownikowe!$AH$3:$AH$326,0),0)","v":0},0]
[null,"Gatunki dominujące i subdominujące",null,null,null,null,null,null,null,{"$f":"J888","v":0}]
[null,"nazwa łacińska",null,"nazwa polska",null,null,"udział [%]",null,null,{"$f":"SUM(J889:J893)","v":0}]
[null,null,null,null,null,null,null,null,null,{"$f":"COUNTA(B889:G889)","v":0}]
[null,null,null,null,null,null,null,null,null,0]
[null,null,null,null,null,null,null,null,null,0]
[null,null,null,null,null,null,null,null,null,0]
[null,null,null,null,null,null,null,null,null,0]
[]
[null,"Spis gatunków numer:",null,null,null,null,{"$f":"G868+1","v":34},null,null,{"$f":"J899","v":0}]
[null,"Współrzędne geograficzne",null,null,null,null,null,null,null,{"$f":"J900","v":0}]
[null,"Długość geograficzna [E] ",null,null,"Szerokość geograficzna [N]",null,null,null,null,{"$f":"J900","v":0}]
[null,"stopnie","minuty","sekundy","stopnie","minuty","sekundy",null,null,{"$f":"J899","v":0}]
[null,null,null,null,null,null,null,null,null,{"$f":"J901+J915","v":0}]
[null,"Gatunki wskaźnikowe",null,null,null,null,null,null,null,{"$f":"J901","v":0}]
[null,"nazwa łacińska",null,"nazwa polska",null,null,"walor ",null,null,{"$f":"SUM(J902:J913)","v":0}]
[null,{"$f":"OFFSET(listy_slownikowe!$AG$2,I902,0)","v":" "},null,null,null,null,{"$f":"OFFSET(listy_slownikowe!$AI$2,I902,0)","v":" "},null,{"$f":"IFERROR(MATCH(D902,listy_slownikowe!$AH$3:$AH$326,0),0)","v":0},{"$f":"I902","v":0}]
[null,{"$f":"OFFSET(listy_slownikowe!$AG$2,I903,0)","v":" "},null,null,null,null,{"$f":"OFFSET(listy_slownikowe!$AI$2,I903,0)","v":" "},null,{"$f":"IFERROR(MATCH(D903,listy_slownikowe!$AH$3:$AH$326,0),0)","v":0},{"$f":"I903","v":0}]
[null,{"$f":"OFFSET(listy_slownikowe!$AG$2,I904,0)","v":" "},null,null,null,null,{"$f":"OFFSET(listy_slownikowe!$AI$2,I904,0)","v":" "},null,{"$f":"IFERROR(MATCH(D904,listy_slownikowe!$AH$3:$AH$326,0),0)","v":0},0]
[null,{"$f":"OFFSET(listy_slownikowe!$AG$2,I905,0)","v":" "},null,null,null,null,{"$f":"OFFSET(listy_slownikowe!$AI$2,I905,0)","v":" "},null,{"$f":"IFERROR(MATCH(D905,listy_slownikowe!$AH$3:$AH$326,0),0)","v":0},0]
[null,{"$f":"OFFSET(listy_slownikowe!$AG$2,I906,0)","v":" "},null,null,null,null,{"$f":"OFFSET(listy_slownikowe!$AI$2,I906,0)","v":" "},null,{"$f":"IFERROR(MATCH(D906,listy_slownikowe!$AH$3:$AH$326,0),0)","v":0},0]
[null,{"$f":"OFFSET(listy_slownikowe!$AG$2,I907,0)","v":" "},null,null,null,null,{"$f":"OFFSET(listy_slownikowe!$AI$2,I907,0)","v":" "},null,{"$f":"IFERROR(MATCH(D907,listy_slownikowe!$AH$3:$AH$326,0),0)","v":0},0]
[null,{"$f":"OFFSET(listy_slownikowe!$AG$2,I908,0)","v":" "},null,null,null,null,{"$f":"OFFSET(listy_slownikowe!$AI$2,I908,0)","v":" "},null,{"$f":"IFERROR(MATCH(D908,listy_slownikowe!$AH$3:$AH$326,0),0)","v":0},0]
[null,{"$f":"OFFSET(listy_slownikowe!$AG$2,I909,0)","v":" "},null,null,null,null,{"$f":"OFFSET(listy_slownikowe!$AI$2,I909,0)","v":" "},null,{"$f":"IFERROR(MATCH(D909,listy_slownikowe!$AH$3:$AH$326,0),0)","v":0},0]
[null,{"$f":"OFFSET(listy_slownikowe!$AG$2,I910,0)","v":" "},null,null,null,null,{"$f":"OFFSET(listy_slownikowe!$AI$2,I910,0)","v":" "},null,{"$f":"IFERROR(MATCH(D910,listy_slownikowe!$AH$3:$AH$326,0),0)","v":0},0]
[null,{"$f":"OFFSET(listy_slownikowe!$AG$2,I911,0)","v":" "},null,null,null,null,{"$f":"OFFSET(listy_slownikowe!$AI$2,I911,0)","v":" "},null,{"$f":"IFERROR(MATCH(D911,listy_slownikowe!$AH$3:$AH$326,0),0)","v":0},0]
[null,{"$f":"OFFSET(listy_slownikowe!$AG$2,I912,0)","v":" "},null,"",null,null,{"$f":"OFFSET(listy_slownikowe!$AI$2,I912,0)","v":" "},null,{"$f":"IFERROR(MATCH(D912,listy_slownikowe!$AH$3:$AH$326,0),0)","v":0},0]
[null,{"$f":"OFFSET(listy_slownikowe!$AG$2,I913,0)","v":" "},null,null,null,null,{"$f":"OFFSET(listy_slownikowe!$AI$2,I913,0)","v":" "},null,{"$f":"IFERROR(MATCH(D913,listy_slownikowe!$AH$3:$AH$326,0),0)","v":0},0]
[null,"Gatunki dominujące i subdominujące",null,null,null,null,null,null,null,{"$f":"J915","v":0}]
[null,"nazwa łacińska",null,"nazwa polska",null,null,"udział [%]",null,null,{"$f":"SUM(J916:J920)","v":0}]
[null,null,null,null,null,null,null,null,null,{"$f":"COUNTA(B916:G916)","v":0}]
[null,null,null,null,null,null,null,null,null,0]
[null,null,null,null,null,null,null,null,null,0]
[null,null,null,null,null,null,null,null,null,0]
[null,null,null,null,null,null,null,null,null,0]
[]
[null,"Spis gatunków numer:",null,null,null,null,{"$f":"G895+1","v":35},null,null,{"$f":"J926","v":0}]
[null,"Współrzędne geograficzne",null,null,null,null,null,null,null,{"$f":"J927","v":0}]
[null,"Długość geograficzna [E] ",null,null,"Szerokość geograficzna [N]",null,null,null,null,{"$f":"J927","v":0}]
[null,"stopnie","minuty","sekundy","stopnie","minuty","sekundy",null,null,{"$f":"J926","v":0}]
[null,null,null,null,null,null,null,null,null,{"$f":"J928+J942","v":0}]
[null,"Gatunki wskaźnikowe",null,null,null,null,null,null,null,{"$f":"J928","v":0}]
[null,"nazwa łacińska",null,"nazwa polska",null,null,"walor ",null,null,{"$f":"SUM(J929:J940)","v":0}]
[null,{"$f":"OFFSET(listy_slownikowe!$AG$2,I929,0)","v":" "},null,null,null,null,{"$f":"OFFSET(listy_slownikowe!$AI$2,I929,0)","v":" "},null,{"$f":"IFERROR(MATCH(D929,listy_slownikowe!$AH$3:$AH$326,0),0)","v":0},{"$f":"I929","v":0}]
[null,{"$f":"OFFSET(listy_slownikowe!$AG$2,I930,0)","v":" "},null,null,null,null,{"$f":"OFFSET(listy_slownikowe!$AI$2,I930,0)","v":" "},null,{"$f":"IFERROR(MATCH(D930,listy_slownikowe!$AH$3:$AH$326,0),0)","v":0},{"$f":"I930","v":0}]
[null,{"$f":"OFFSET(listy_slownikowe!$AG$2,I931,0)","v":" "},null,null,null,null,{"$f":"OFFSET(listy_slownikowe!$AI$2,I931,0)","v":" "},null,{"$f":"IFERROR(MATCH(D931,listy_slownikowe!$AH$3:$AH$326,0),0)","v":0},0]
[null,{"$f":"OFFSET(listy_slownikowe!$AG$2,I932,0)","v":" "},null,null,null,null,{"$f":"OFFSET(listy_slownikowe!$AI$2,I932,0)","v":" "},null,{"$f":"IFERROR(MATCH(D932,listy_slownikowe!$AH$3:$AH$326,0),0)","v":0},0]
[null,{"$f":"OFFSET(listy_slownikowe!$AG$2,I933,0)","v":" "},null,null,null,null,{"$f":"OFFSET(listy_slownikowe!$AI$2,I933,0)","v":" "},null,{"$f":"IFERROR(MATCH(D933,listy_slownikowe!$AH$3:$AH$326,0),0)","v":0},0]
[null,{"$f":"OFFSET(listy_slownikowe!$AG$2,I934,0)","v":" "},null,null,null,null,{"$f":"OFFSET(listy_slownikowe!$AI$2,I934,0)","v":" "},null,{"$f":"IFERROR(MATCH(D934,listy_slownikowe!$AH$3:$AH$326,0),0)","v":0},0]
[null,{"$f":"OFFSET(listy_slownikowe!$AG$2,I935,0)","v":" "},null,null,null,null,{"$f":"OFFSET(listy_slownikowe!$AI$2,I935,0)","v":" "},null,{"$f":"IFERROR(MATCH(D935,listy_slownikowe!$AH$3:$AH$326,0),0)","v":0},0]
[null,{"$f":"OFFSET(listy_slownikowe!$AG$2,I936,0)","v":" "},null,null,null,null,{"$f":"OFFSET(listy_slownikowe!$AI$2,I936,0)","v":" "},null,{"$f":"IFERROR(MATCH(D936,listy_slownikowe!$AH$3:$AH$326,0),0)","v":0},0]
[null,{"$f":"OFFSET(listy_slownikowe!$AG$2,I937,0)","v":" "},null,null,null,null,{"$f":"OFFSET(listy_slownikowe!$AI$2,I937,0)","v":" "},null,{"$f":"IFERROR(MATCH(D937,listy_slownikowe!$AH$3:$AH$326,0),0)","v":0},0]
[null,{"$f":"OFFSET(listy_slownikowe!$AG$2,I938,0)","v":" "},null,null,null,null,{"$f":"OFFSET(listy_slownikowe!$AI$2,I938,0)","v":" "},null,{"$f":"IFERROR(MATCH(D938,listy_slownikowe!$AH$3:$AH$326,0),0)","v":0},0]
[null,{"$f":"OFFSET(listy_slownikowe!$AG$2,I939,0)","v":" "},null,"",null,null,{"$f":"OFFSET(listy_slownikowe!$AI$2,I939,0)","v":" "},null,{"$f":"IFERROR(MATCH(D939,listy_slownikowe!$AH$3:$AH$326,0),0)","v":0},0]
[null,{"$f":"OFFSET(listy_slownikowe!$AG$2,I940,0)","v":" "},null,null,null,null,{"$f":"OFFSET(listy_slownikowe!$AI$2,I940,0)","v":" "},null,{"$f":"IFERROR(MATCH(D940,listy_slownikowe!$AH$3:$AH$326,0),0)","v":0},0]
[null,"Gatunki dominujące i subdominujące",null,null,null,null,null,null,null,{"$f":"J942","v":0}]
[null,"nazwa łacińska",null,"nazwa polska",null,null,"udział [%]",null,null,{"$f":"SUM(J943:J947)","v":0}]
[null,null,null,null,null,null,null,null,null,{"$f":"COUNTA(B943:G943)","v":0}]
[null,null,null,null,null,null,null,null,null,0]
[null,null,null,null,null,null,null,null,null,0]
[null,null,null,null,null,null,null,null,null,0]
[null,null,null,null,null,null,null,null,null,0]
[]
[null,"Spis gatunków numer:",null,null,null,null,{"$f":"G922+1","v":36},null,null,{"$f":"J953","v":0}]
[null,"Współrzędne geograficzne",null,null,null,null,null,null,null,{"$f":"J954","v":0}]
[null,"Długość geograficzna [E] ",null,null,"Szerokość geograficzna [N]",null,null,null,null,{"$f":"J954","v":0}]
[null,"stopnie","minuty","sekundy","stopnie","minuty","sekundy",null,null,{"$f":"J953","v":0}]
[null,null,null,null,null,null,null,null,null,{"$f":"J955+J969","v":0}]
[null,"Gatunki wskaźnikowe",null,null,null,null,null,null,null,{"$f":"J955","v":0}]
[null,"nazwa łacińska",null,"nazwa polska",null,null,"walor ",null,null,{"$f":"SUM(J956:J967)","v":0}]
[null,{"$f":"OFFSET(listy_slownikowe!$AG$2,I956,0)","v":" "},null,null,null,null,{"$f":"OFFSET(listy_slownikowe!$AI$2,I956,0)","v":" "},null,{"$f":"IFERROR(MATCH(D956,listy_slownikowe!$AH$3:$AH$326,0),0)","v":0},{"$f":"I956","v":0}]
[null,{"$f":"OFFSET(listy_slownikowe!$AG$2,I957,0)","v":" "},null,null,null,null,{"$f":"OFFSET(listy_slownikowe!$AI$2,I957,0)","v":" "},null,{"$f":"IFERROR(MATCH(D957,listy_slownikowe!$AH$3:$AH$326,0),0)","v":0},{"$f":"I957","v":0}]
[null,{"$f":"OFFSET(listy_slownikowe!$AG$2,I958,0)","v":" "},null,null,null,null,{"$f":"OFFSET(listy_slownikowe!$AI$2,I958,0)","v":" "},null,{"$f":"IFERROR(MATCH(D958,listy_slownikowe!$AH$3:$AH$326,0),0)","v":0},0]
[null,{"$f":"OFFSET(listy_slownikowe!$AG$2,I959,0)","v":" "},null,null,null,null,{"$f":"OFFSET(listy_slownikowe!$AI$2,I959,0)","v":" "},null,{"$f":"IFERROR(MATCH(D959,listy_slownikowe!$AH$3:$AH$326,0),0)","v":0},0]
[null,{"$f":"OFFSET(listy_slownikowe!$AG$2,I960,0)","v":" "},null,null,null,null,{"$f":"OFFSET(listy_slownikowe!$AI$2,I960,0)","v":" "},null,{"$f":"IFERROR(MATCH(D960,listy_slownikowe!$AH$3:$AH$326,0),0)","v":0},0]
[null,{"$f":"OFFSET(listy_slownikowe!$AG$2,I961,0)","v":" "},null,null,null,null,{"$f":"OFFSET(listy_slownikowe!$AI$2,I961,0)","v":" "},null,{"$f":"IFERROR(MATCH(D961,listy_slownikowe!$AH$3:$AH$326,0),0)","v":0},0]
[null,{"$f":"OFFSET(listy_slownikowe!$AG$2,I962,0)","v":" "},null,null,null,null,{"$f":"OFFSET(listy_slownikowe!$AI$2,I962,0)","v":" "},null,{"$f":"IFERROR(MATCH(D962,listy_slownikowe!$AH$3:$AH$326,0),0)","v":0},0]
[null,{"$f":"OFFSET(listy_slownikowe!$AG$2,I963,0)","v":" "},null,null,null,null,{"$f":"OFFSET(listy_slownikowe!$AI$2,I963,0)","v":" "},null,{"$f":"IFERROR(MATCH(D963,listy_slownikowe!$AH$3:$AH$326,0),0)","v":0},0]
[null,{"$f":"OFFSET(listy_slownikowe!$AG$2,I964,0)","v":" "},null,null,null,null,{"$f":"OFFSET(listy_slownikowe!$AI$2,I964,0)","v":" "},null,{"$f":"IFERROR(MATCH(D964,listy_slownikowe!$AH$3:$AH$326,0),0)","v":0},0]
[null,{"$f":"OFFSET(listy_slownikowe!$AG$2,I965,0)","v":" "},null,null,null,null,{"$f":"OFFSET(listy_slownikowe!$AI$2,I965,0)","v":" "},null,{"$f":"IFERROR(MATCH(D965,listy_slownikowe!$AH$3:$AH$326,0),0)","v":0},0]
[null,{"$f":"OFFSET(listy_slownikowe!$AG$2,I966,0)","v":" "},null,"",null,null,{"$f":"OFFSET(listy_slownikowe!$AI$2,I966,0)","v":" "},null,{"$f":"IFERROR(MATCH(D966,listy_slownikowe!$AH$3:$AH$326,0),0)","v":0},0]
[null,{"$f":"OFFSET(listy_slownikowe!$AG$2,I967,0)","v":" "},null,null,null,null,{"$f":"OFFSET(listy_slownikowe!$AI$2,I967,0)","v":" "},null,{"$f":"IFERROR(MATCH(D967,listy_slownikowe!$AH$3:$AH$326,0),0)","v":0},0]
[null,"Gatunki dominujące i subdominujące",null,null,null,null,null,null,null,{"$f":"J969","v":0}]
[null,"nazwa łacińska",null,"nazwa polska",null,null,"udział [%]",null,null,{"$f":"SUM(J970:J974)","v":0}]
[null,null,null,null,null,null,null,null,null,{"$f":"COUNTA(B970:G970)","v":0}]
[null,null,null,null,null,null,null,null,null,0]
[null,null,null,null,null,null,null,null,null,0]
[null,null,null,null,null,null,null,null,null,0]
[null,null,null,null,null,null,null,null,null,0]
[]
[null,"Spis gatunków numer:",null,null,null,null,{"$f":"G949+1","v":37},null,null,{"$f":"J980","v":0}]
[null,"Współrzędne geograficzne",null,null,null,null,null,null,null,{"$f":"J981","v":0}]
[null,"Długość geograficzna [E] ",null,null,"Szerokość geograficzna [N]",null,null,null,null,{"$f":"J981","v":0}]
[null,"stopnie","minuty","sekundy","stopnie","minuty","sekundy",null,null,{"$f":"J980","v":0}]
[null,null,null,null,null,null,null,null,null,{"$f":"J982+J996","v":0}]
[null,"Gatunki wskaźnikowe",null,null,null,null,null,null,null,{"$f":"J982","v":0}]
[null,"nazwa łacińska",null,"nazwa polska",null,null,"walor ",null,null,{"$f":"SUM(J983:J994)","v":0}]
[null,{"$f":"OFFSET(listy_slownikowe!$AG$2,I983,0)","v":" "},null,null,null,null,{"$f":"OFFSET(listy_slownikowe!$AI$2,I983,0)","v":" "},null,{"$f":"IFERROR(MATCH(D983,listy_slownikowe!$AH$3:$AH$326,0),0)","v":0},{"$f":"I983","v":0}]
[null,{"$f":"OFFSET(listy_slownikowe!$AG$2,I984,0)","v":" "},null,null,null,null,{"$f":"OFFSET(listy_slownikowe!$AI$2,I984,0)","v":" "},null,{"$f":"IFERROR(MATCH(D984,listy_slownikowe!$AH$3:$AH$326,0),0)","v":0},{"$f":"I984","v":0}]
[null,{"$f":"OFFSET(listy_slownikowe!$AG$2,I985,0)","v":" "},null,null,null,null,{"$f":"OFFSET(listy_slownikowe!$AI$2,I985,0)","v":" "},null,{"$f":"IFERROR(MATCH(D985,listy_slownikowe!$AH$3:$AH$326,0),0)","v":0},0]
[null,{"$f":"OFFSET(listy_slownikowe!$AG$2,I986,0)","v":" "},null,null,null,null,{"$f":"OFFSET(listy_slownikowe!$AI$2,I986,0)","v":" "},null,{"$f":"IFERROR(MATCH(D986,listy_slownikowe!$AH$3:$AH$326,0),0)","v":0},0]
[null,{"$f":"OFFSET(listy_slownikowe!$AG$2,I987,0)","v":" "},null,null,null,null,{"$f":"OFFSET(listy_slownikowe!$AI$2,I987,0)","v":" "},null,{"$f":"IFERROR(MATCH(D987,listy_slownikowe!$AH$3:$AH$326,0),0)","v":0},0]
[null,{"$f":"OFFSET(listy_slownikowe!$AG$2,I988,0)","v":" "},null,null,null,null,{"$f":"OFFSET(listy_slownikowe!$AI$2,I988,0)","v":" "},null,{"$f":"IFERROR(MATCH(D988,listy_slownikowe!$AH$3:$AH$326,0),0)","v":0},0]
[null,{"$f":"OFFSET(listy_slownikowe!$AG$2,I989,0)","v":" "},null,null,null,null,{"$f":"OFFSET(listy_slownikowe!$AI$2,I989,0)","v":" "},null,{"$f":"IFERROR(MATCH(D989,listy_slownikowe!$AH$3:$AH$326,0),0)","v":0},0]
[null,{"$f":"OFFSET(listy_slownikowe!$AG$2,I990,0)","v":" "},null,null,null,null,{"$f":"OFFSET(listy_slownikowe!$AI$2,I990,0)","v":" "},null,{"$f":"IFERROR(MATCH(D990,listy_slownikowe!$AH$3:$AH$326,0),0)","v":0},0]
[null,{"$f":"OFFSET(listy_slownikowe!$AG$2,I991,0)","v":" "},null,null,null,null,{"$f":"OFFSET(listy_slownikowe!$AI$2,I991,0)","v":" "},null,{"$f":"IFERROR(MATCH(D991,listy_slownikowe!$AH$3:$AH$326,0),0)","v":0},0]
[null,{"$f":"OFFSET(listy_slownikowe!$AG$2,I992,0)","v":" "},null,null,null,null,{"$f":"OFFSET(listy_slownikowe!$AI$2,I992,0)","v":" "},null,{"$f":"IFERROR(MATCH(D992,listy_slownikowe!$AH$3:$AH$326,0),0)","v":0},0]
[null,{"$f":"OFFSET(listy_slownikowe!$AG$2,I993,0)","v":" "},null,"",null,null,{"$f":"OFFSET(listy_slownikowe!$AI$2,I993,0)","v":" "},null,{"$f":"IFERROR(MATCH(D993,listy_slownikowe!$AH$3:$AH$326,0),0)","v":0},0]
[null,{"$f":"OFFSET(listy_slownikowe!$AG$2,I994,0)","v":" "},null,null,null,null,{"$f":"OFFSET(listy_slownikowe!$AI$2,I994,0)","v":" "},null,{"$f":"IFERROR(MATCH(D994,listy_slownikowe!$AH$3:$AH$326,0),0)","v":0},0]
[null,"Gatunki dominujące i subdominujące",null,null,null,null,null,null,null,{"$f":"J996","v":0}]
[null,"nazwa łacińska",null,"nazwa polska",null,null,"udział [%]",null,null,{"$f":"SUM(J997:J1001)","v":0}]
[null,null,null,null,null,null,null,null,null,{"$f":"COUNTA(B997:G997)","v":0}]
[null,null,null,null,null,null,null,null,null,0]
[null,null,null,null,null,null,null,null,null,0]
[null,null,null,null,null,null,null,null,null,0]
[null,null,null,null,null,null,null,null,null,0]
[]
[null,"Spis gatunków numer:",null,null,null,null,{"$f":"G976+1","v":38},null,null,{"$f":"J1007","v":0}]
[null,"Współrzędne geograficzne",null,null,null,null,null,null,null,{"$f":"J1008","v":0}]
[null,"Długość geograficzna [E] ",null,null,"Szerokość geograficzna [N]",null,null,null,null,{"$f":"J1008","v":0}]
[null,"stopnie","minuty","sekundy","stopnie","minuty","sekundy",null,null,{"$f":"J1007","v":0}]
[null,null,null,null,null,null,null,null,null,{"$f":"J1009+J1023","v":0}]
[null,"Gatunki wskaźnikowe",null,null,null,null,null,null,null,{"$f":"J1009","v":0}]
[null,"nazwa łacińska",null,"nazwa polska",null,null,"walor ",null,null,{"$f":"SUM(J1010:J1021)","v":0}]
[null,{"$f":"OFFSET(listy_slownikowe!$AG$2,I1010,0)","v":" "},null,null,null,null,{"$f":"OFFSET(listy_slownikowe!$AI$2,I1010,0)","v":" "},null,{"$f":"IFERROR(MATCH(D1010,listy_slownikowe!$AH$3:$AH$326,0),0)","v":0},{"$f":"I1010","v":0}]
[null,{"$f":"OFFSET(listy_slownikowe!$AG$2,I1011,0)","v":" "},null,null,null,null,{"$f":"OFFSET(listy_slownikowe!$AI$2,I1011,0)","v":" "},null,{"$f":"IFERROR(MATCH(D1011,listy_slownikowe!$AH$3:$AH$326,0),0)","v":0},{"$f":"I1011","v":0}]
[null,{"$f":"OFFSET(listy_slownikowe!$AG$2,I1012,0)","v":" "},null,null,null,null,{"$f":"OFFSET(listy_slownikowe!$AI$2,I1012,0)","v":" "},null,{"$f":"IFERROR(MATCH(D1012,listy_slownikowe!$AH$3:$AH$326,0),0)","v":0},0]
[null,{"$f":"OFFSET(listy_slownikowe!$AG$2,I1013,0)","v":" "},null,null,null,null,{"$f":"OFFSET(listy_slownikowe!$AI$2,I1013,0)","v":" "},null,{"$f":"IFERROR(MATCH(D1013,listy_slownikowe!$AH$3:$AH$326,0),0)","v":0},0]
[null,{"$f":"OFFSET(listy_slownikowe!$AG$2,I1014,0)","v":" "},null,null,null,null,{"$f":"OFFSET(listy_slownikowe!$AI$2,I1014,0)","v":" "},null,{"$f":"IFERROR(MATCH(D1014,listy_slownikowe!$AH$3:$AH$326,0),0)","v":0},0]
[null,{"$f":"OFFSET(listy_slownikowe!$AG$2,I1015,0)","v":" "},null,null,null,null,{"$f":"OFFSET(listy_slownikowe!$AI$2,I1015,0)","v":" "},null,{"$f":"IFERROR(MATCH(D1015,listy_slownikowe!$AH$3:$AH$326,0),0)","v":0},0]
[null,{"$f":"OFFSET(listy_slownikowe!$AG$2,I1016,0)","v":" "},null,null,null,null,{"$f":"OFFSET(listy_slownikowe!$AI$2,I1016,0)","v":" "},null,{"$f":"IFERROR(MATCH(D1016,listy_slownikowe!$AH$3:$AH$326,0),0)","v":0},0]
[null,{"$f":"OFFSET(listy_slownikowe!$AG$2,I1017,0)","v":" "},null,null,null,null,{"$f":"OFFSET(listy_slownikowe!$AI$2,I1017,0)","v":" "},null,{"$f":"IFERROR(MATCH(D1017,listy_slownikowe!$AH$3:$AH$326,0),0)","v":0},0]
[null,{"$f":"OFFSET(listy_slownikowe!$AG$2,I1018,0)","v":" "},null,null,null,null,{"$f":"OFFSET(listy_slownikowe!$AI$2,I1018,0)","v":" "},null,{"$f":"IFERROR(MATCH(D1018,listy_slownikowe!$AH$3:$AH$326,0),0)","v":0},0]
[null,{"$f":"OFFSET(listy_slownikowe!$AG$2,I1019,0)","v":" "},null,null,null,null,{"$f":"OFFSET(listy_slownikowe!$AI$2,I1019,0)","v":" "},null,{"$f":"IFERROR(MATCH(D1019,listy_slownikowe!$AH$3:$AH$326,0),0)","v":0},0]
[null,{"$f":"OFFSET(listy_slownikowe!$AG$2,I1020,0)","v":" "},null,"",null,null,{"$f":"OFFSET(listy_slownikowe!$AI$2,I1020,0)","v":" "},null,{"$f":"IFERROR(MATCH(D1020,listy_slownikowe!$AH$3:$AH$326,0),0)","v":0},0]
[null,{"$f":"OFFSET(listy_slownikowe!$AG$2,I1021,0)","v":" "},null,null,null,null,{"$f":"OFFSET(listy_slownikowe!$AI$2,I1021,0)","v":" "},null,{"$f":"IFERROR(MATCH(D1021,listy_slownikowe!$AH$3:$AH$326,0),0)","v":0},0]
[null,"Gatunki dominujące i subdominujące",null,null,null,null,null,null,null,{"$f":"J1023","v":0}]
[null,"nazwa łacińska",null,"nazwa polska",null,null,"udział [%]",null,null,{"$f":"SUM(J1024:J1028)","v":0}]
[null,null,null,null,null,null,null,null,null,{"$f":"COUNTA(B1024:G1024)","v":0}]
[null,null,null,null,null,null,null,null,null,0]
[null,null,null,null,null,null,null,null,null,0]
[null,null,null,null,null,null,null,null,null,0]
[null,null,null,null,null,null,null,null,null,0]
[]
[null,"Spis gatunków numer:",null,null,null,null,{"$f":"G1003+1","v":39},null,null,{"$f":"J1034","v":0}]
[null,"Współrzędne geograficzne",null,null,null,null,null,null,null,{"$f":"J1035","v":0}]
[null,"Długość geograficzna [E] ",null,null,"Szerokość geograficzna [N]",null,null,null,null,{"$f":"J1035","v":0}]
[null,"stopnie","minuty","sekundy","stopnie","minuty","sekundy",null,null,{"$f":"J1034","v":0}]
[null,null,null,null,null,null,null,null,null,{"$f":"J1036+J1050","v":0}]
[null,"Gatunki wskaźnikowe",null,null,null,null,null,null,null,{"$f":"J1036","v":0}]
[null,"nazwa łacińska",null,"nazwa polska",null,null,"walor ",null,null,{"$f":"SUM(J1037:J1048)","v":0}]
[null,{"$f":"OFFSET(listy_slownikowe!$AG$2,I1037,0)","v":" "},null,null,null,null,{"$f":"OFFSET(listy_slownikowe!$AI$2,I1037,0)","v":" "},null,{"$f":"IFERROR(MATCH(D1037,listy_slownikowe!$AH$3:$AH$326,0),0)","v":0},{"$f":"I1037","v":0}]
[null,{"$f":"OFFSET(listy_slownikowe!$AG$2,I1038,0)","v":" "},null,null,null,null,{"$f":"OFFSET(listy_slownikowe!$AI$2,I1038,0)","v":" "},null,{"$f":"IFERROR(MATCH(D1038,listy_slownikowe!$AH$3:$AH$326,0),0)","v":0},{"$f":"I1038","v":0}]
[null,{"$f":"OFFSET(listy_slownikowe!$AG$2,I1039,0)","v":" "},null,null,null,null,{"$f":"OFFSET(listy_slownikowe!$AI$2,I1039,0)","v":" "},null,{"$f":"IFERROR(MATCH(D1039,listy_slownikowe!$AH$3:$AH$326,0),0)","v":0},0]
[null,{"$f":"OFFSET(listy_slownikowe!$AG$2,I1040,0)","v":" "},null,null,null,null,{"$f":"OFFSET(listy_slownikowe!$AI$2,I1040,0)","v":" "},null,{"$f":"IFERROR(MATCH(D1040,listy_slownikowe!$AH$3:$AH$326,0),0)","v":0},0]
[null,{"$f":"OFFSET(listy_slownikowe!$AG$2,I1041,0)","v":" "},null,null,null,null,{"$f":"OFFSET(listy_slownikowe!$AI$2,I1041,0)","v":" "},null,{"$f":"IFERROR(MATCH(D1041,listy_slownikowe!$AH$3:$AH$326,0),0)","v":0},0]
[null,{"$f":"OFFSET(listy_slownikowe!$AG$2,I1042,0)","v":" "},null,null,null,null,{"$f":"OFFSET(listy_slownikowe!$AI$2,I1042,0)","v":" "},null,{"$f":"IFERROR(MATCH(D1042,listy_slownikowe!$AH$3:$AH$326,0),0)","v":0},0]
[null,{"$f":"OFFSET(listy_slownikowe!$AG$2,I1043,0)","v":" "},null,null,null,null,{"$f":"OFFSET(listy_slownikowe!$AI$2,I1043,0)","v":" "},null,{"$f":"IFERROR(MATCH(D1043,listy_slownikowe!$AH$3:$AH$326,0),0)","v":0},0]
[null,{"$f":"OFFSET(listy_slownikowe!$AG$2,I1044,0)","v":" "},null,null,null,null,{"$f":"OFFSET(listy_slownikowe!$AI$2,I1044,0)","v":" "},null,{"$f":"IFERROR(MATCH(D1044,listy_slownikowe!$AH$3:$AH$326,0),0)","v":0},0]
[null,{"$f":"OFFSET(listy_slownikowe!$AG$2,I1045,0)","v":" "},null,null,null,null,{"$f":"OFFSET(listy_slownikowe!$AI$2,I1045,0)","v":" "},null,{"$f":"IFERROR(MATCH(D1045,listy_slownikowe!$AH$3:$AH$326,0),0)","v":0},0]
[null,{"$f":"OFFSET(listy_slownikowe!$AG$2,I1046,0)","v":" "},null,null,null,null,{"$f":"OFFSET(listy_slownikowe!$AI$2,I1046,0)","v":" "},null,{"$f":"IFERROR(MATCH(D1046,listy_slownikowe!$AH$3:$AH$326,0),0)","v":0},0]
[null,{"$f":"OFFSET(listy_slownikowe!$AG$2,I1047,0)","v":" "},null,"",null,null,{"$f":"OFFSET(listy_slownikowe!$AI$2,I1047,0)","v":" "},null,{"$f":"IFERROR(MATCH(D1047,listy_slownikowe!$AH$3:$AH$326,0),0)","v":0},0]
[null,{"$f":"OFFSET(listy_slownikowe!$AG$2,I1048,0)","v":" "},null,null,null,null,{"$f":"OFFSET(listy_slownikowe!$AI$2,I1048,0)","v":" "},null,{"$f":"IFERROR(MATCH(D1048,listy_slownikowe!$AH$3:$AH$326,0),0)","v":0},0]
[null,"Gatunki dominujące i subdominujące",null,null,null,null,null,null,null,{"$f":"J1050","v":0}]
[null,"nazwa łacińska",null,"nazwa polska",null,null,"udział [%]",null,null,{"$f":"SUM(J1051:J1055)","v":0}]
[null,null,null,null,null,null,null,null,null,{"$f":"COUNTA(B1051:G1051)","v":0}]
[null,null,null,null,null,null,null,null,null,0]
[null,null,null,null,null,null,null,null,null,0]
[null,null,null,null,null,null,null,null,null,0]
[null,null,null,null,null,null,null,null,null,0]
[]
[null,"Spis gatunków numer:",null,null,null,null,{"$f":"G1030+1","v":40},null,null,{"$f":"J1061","v":0}]
[null,"Współrzędne geograficzne",null,null,null,null,null,null,null,{"$f":"J1062","v":0}]
[null,"Długość geograficzna [E] ",null,null,"Szerokość geograficzna [N]",null,null,null,null,{"$f":"J1062","v":0}]
[null,"stopnie","minuty","sekundy","stopnie","minuty","sekundy",null,null,{"$f":"J1061","v":0}]
[null,null,null,null,null,null,null,null,null,{"$f":"J1063+J1077","v":0}]
[null,"Gatunki wskaźnikowe",null,null,null,null,null,null,null,{"$f":"J1063","v":0}]
[null,"nazwa łacińska",null,"nazwa polska",null,null,"walor ",null,null,{"$f":"SUM(J1064:J1075)","v":0}]
[null,{"$f":"OFFSET(listy_slownikowe!$AG$2,I1064,0)","v":" "},null,null,null,null,{"$f":"OFFSET(listy_slownikowe!$AI$2,I1064,0)","v":" "},null,{"$f":"IFERROR(MATCH(D1064,listy_slownikowe!$AH$3:$AH$326,0),0)","v":0},{"$f":"I1064","v":0}]
[null,{"$f":"OFFSET(listy_slownikowe!$AG$2,I1065,0)","v":" "},null,null,null,null,{"$f":"OFFSET(listy_slownikowe!$AI$2,I1065,0)","v":" "},null,{"$f":"IFERROR(MATCH(D1065,listy_slownikowe!$AH$3:$AH$326,0),0)","v":0},{"$f":"I1065","v":0}]
[null,{"$f":"OFFSET(listy_slownikowe!$AG$2,I1066,0)","v":" "},null,null,null,null,{"$f":"OFFSET(listy_slownikowe!$AI$2,I1066,0)","v":" "},null,{"$f":"IFERROR(MATCH(D1066,listy_slownikowe!$AH$3:$AH$326,0),0)","v":0},0]
[null,{"$f":"OFFSET(listy_slownikowe!$AG$2,I1067,0)","v":" "},null,null,null,null,{"$f":"OFFSET(listy_slownikowe!$AI$2,I1067,0)","v":" "},null,{"$f":"IFERROR(MATCH(D1067,listy_slownikowe!$AH$3:$AH$326,0),0)","v":0},0]
[null,{"$f":"OFFSET(listy_slownikowe!$AG$2,I1068,0)","v":" "},null,null,null,null,{"$f":"OFFSET(listy_slownikowe!$AI$2,I1068,0)","v":" "},null,{"$f":"IFERROR(MATCH(D1068,listy_slownikowe!$AH$3:$AH$326,0),0)","v":0},0]
[null,{"$f":"OFFSET(listy_slownikowe!$AG$2,I1069,0)","v":" "},null,null,null,null,{"$f":"OFFSET(listy_slownikowe!$AI$2,I1069,0)","v":" "},null,{"$f":"IFERROR(MATCH(D1069,listy_slownikowe!$AH$3:$AH$326,0),0)","v":0},0]
[null,{"$f":"OFFSET(listy_slownikowe!$AG$2,I1070,0)","v":" "},null,null,null,null,{"$f":"OFFSET(listy_slownikowe!$AI$2,I1070,0)","v":" "},null,{"$f":"IFERROR(MATCH(D1070,listy_slownikowe!$AH$3:$AH$326,0),0)","v":0},0]
[null,{"$f":"OFFSET(listy_slownikowe!$AG$2,I1071,0)","v":" "},null,null,null,null,{"$f":"OFFSET(listy_slownikowe!$AI$2,I1071,0)","v":" "},null,{"$f":"IFERROR(MATCH(D1071,listy_slownikowe!$AH$3:$AH$326,0),0)","v":0},0]
[null,{"$f":"OFFSET(listy_slownikowe!$AG$2,I1072,0)","v":" "},null,null,null,null,{"$f":"OFFSET(listy_slownikowe!$AI$2,I1072,0)","v":" "},null,{"$f":"IFERROR(MATCH(D1072,listy_slownikowe!$AH$3:$AH$326,0),0)","v":0},0]
[null,{"$f":"OFFSET(listy_slownikowe!$AG$2,I1073,0)","v":" "},null,null,null,null,{"$f":"OFFSET(listy_slownikowe!$AI$2,I1073,0)","v":" "},null,{"$f":"IFERROR(MATCH(D1073,listy_slownikowe!$AH$3:$AH$326,0),0)","v":0},0]
[null,{"$f":"OFFSET(listy_slownikowe!$AG$2,I1074,0)","v":" "},null,"",null,null,{"$f":"OFFSET(listy_slownikowe!$AI$2,I1074,0)","v":" "},null,{"$f":"IFERROR(MATCH(D1074,listy_slownikowe!$AH$3:$AH$326,0),0)","v":0},0]
[null,{"$f":"OFFSET(listy_slownikowe!$AG$2,I1075,0)","v":" "},null,null,null,null,{"$f":"OFFSET(listy_slownikowe!$AI$2,I1075,0)","v":" "},null,{"$f":"IFERROR(MATCH(D1075,listy_slownikowe!$AH$3:$AH$326,0),0)","v":0},0]
[null,"Gatunki dominujące i subdominujące",null,null,null,null,null,null,null,{"$f":"J1077","v":0}]
[null,"nazwa łacińska",null,"nazwa polska",null,null,"udział [%]",null,null,{"$f":"SUM(J1078:J1082)","v":0}]
[null,null,null,null,null,null,null,null,null,{"$f":"COUNTA(B1078:G1078)","v":0}]
[null,null,null,null,null,null,null,null,null,0]
[null,null,null,null,null,null,null,null,null,0]
[null,null,null,null,null,null,null,null,null,0]
[null,null,null,null,null,null,null,null,null,0]
[]
[null,"Spis gatunków numer:",null,null,null,null,{"$f":"G1057+1","v":41},null,null,{"$f":"J1088","v":0}]
[null,"Współrzędne geograficzne",null,null,null,null,null,null,null,{"$f":"J1089","v":0}]
[null,"Długość geograficzna [E] ",null,null,"Szerokość geograficzna [N]",null,null,null,null,{"$f":"J1089","v":0}]
[null,"stopnie","minuty","sekundy","stopnie","minuty","sekundy",null,null,{"$f":"J1088","v":0}]
[null,null,null,null,null,null,null,null,null,{"$f":"J1090+J1104","v":0}]
[null,"Gatunki wskaźnikowe",null,null,null,null,null,null,null,{"$f":"J1090","v":0}]
[null,"nazwa łacińska",null,"nazwa polska",null,null,"walor ",null,null,{"$f":"SUM(J1091:J1102)","v":0}]
[null,{"$f":"OFFSET(listy_slownikowe!$AG$2,I1091,0)","v":" "},null,null,null,null,{"$f":"OFFSET(listy_slownikowe!$AI$2,I1091,0)","v":" "},null,{"$f":"IFERROR(MATCH(D1091,listy_slownikowe!$AH$3:$AH$326,0),0)","v":0},{"$f":"I1091","v":0}]
[null,{"$f":"OFFSET(listy_slownikowe!$AG$2,I1092,0)","v":" "},null,null,null,null,{"$f":"OFFSET(listy_slownikowe!$AI$2,I1092,0)","v":" "},null,{"$f":"IFERROR(MATCH(D1092,listy_slownikowe!$AH$3:$AH$326,0),0)","v":0},{"$f":"I1092","v":0}]
[null,{"$f":"OFFSET(listy_slownikowe!$AG$2,I1093,0)","v":" "},null,null,null,null,{"$f":"OFFSET(listy_slownikowe!$AI$2,I1093,0)","v":" "},null,{"$f":"IFERROR(MATCH(D1093,listy_slownikowe!$AH$3:$AH$326,0),0)","v":0},0]
[null,{"$f":"OFFSET(listy_slownikowe!$AG$2,I1094,0)","v":" "},null,null,null,null,{"$f":"OFFSET(listy_slownikowe!$AI$2,I1094,0)","v":" "},null,{"$f":"IFERROR(MATCH(D1094,listy_slownikowe!$AH$3:$AH$326,0),0)","v":0},0]
[null,{"$f":"OFFSET(listy_slownikowe!$AG$2,I1095,0)","v":" "},null,null,null,null,{"$f":"OFFSET(listy_slownikowe!$AI$2,I1095,0)","v":" "},null,{"$f":"IFERROR(MATCH(D1095,listy_slownikowe!$AH$3:$AH$326,0),0)","v":0},0]
[null,{"$f":"OFFSET(listy_slownikowe!$AG$2,I1096,0)","v":" "},null,null,null,null,{"$f":"OFFSET(listy_slownikowe!$AI$2,I1096,0)","v":" "},null,{"$f":"IFERROR(MATCH(D1096,listy_slownikowe!$AH$3:$AH$326,0),0)","v":0},0]
[null,{"$f":"OFFSET(listy_slownikowe!$AG$2,I1097,0)","v":" "},null,null,null,null,{"$f":"OFFSET(listy_slownikowe!$AI$2,I1097,0)","v":" "},null,{"$f":"IFERROR(MATCH(D1097,listy_slownikowe!$AH$3:$AH$326,0),0)","v":0},0]
[null,{"$f":"OFFSET(listy_slownikowe!$AG$2,I1098,0)","v":" "},null,null,null,null,{"$f":"OFFSET(listy_slownikowe!$AI$2,I1098,0)","v":" "},null,{"$f":"IFERROR(MATCH(D1098,listy_slownikowe!$AH$3:$AH$326,0),0)","v":0},0]
[null,{"$f":"OFFSET(listy_slownikowe!$AG$2,I1099,0)","v":" "},null,null,null,null,{"$f":"OFFSET(listy_slownikowe!$AI$2,I1099,0)","v":" "},null,{"$f":"IFERROR(MATCH(D1099,listy_slownikowe!$AH$3:$AH$326,0),0)","v":0},0]
[null,{"$f":"OFFSET(listy_slownikowe!$AG$2,I1100,0)","v":" "},null,null,null,null,{"$f":"OFFSET(listy_slownikowe!$AI$2,I1100,0)","v":" "},null,{"$f":"IFERROR(MATCH(D1100,listy_slownikowe!$AH$3:$AH$326,0),0)","v":0},0]
[null,{"$f":"OFFSET(listy_slownikowe!$AG$2,I1101,0)","v":" "},null,"",null,null,{"$f":"OFFSET(listy_slownikowe!$AI$2,I1101,0)","v":" "},null,{"$f":"IFERROR(MATCH(D1101,listy_slownikowe!$AH$3:$AH$326,0),0)","v":0},0]
[null,{"$f":"OFFSET(listy_slownikowe!$AG$2,I1102,0)","v":" "},null,null,null,null,{"$f":"OFFSET(listy_slownikowe!$AI$2,I1102,0)","v":" "},null,{"$f":"IFERROR(MATCH(D1102,listy_slownikowe!$AH$3:$AH$326,0),0)","v":0},0]
[null,"Gatunki dominujące i subdominujące",null,null,null,null,null,null,null,{"$f":"J1104","v":0}]
[null,"nazwa łacińska",null,"nazwa polska",null,null,"udział [%]",null,null,{"$f":"SUM(J1105:J1109)","v":0}]
[null,null,null,null,null,null,null,null,null,{"$f":"COUNTA(B1105:G1105)","v":0}]
[null,null,null,null,null,null,null,null,null,0]
[null,null,null,null,null,null,null,null,null,0]
[null,null,null,null,null,null,null,null,null,0]
[null,null,null,null,null,null,null,null,null,0]
[]
[null,"Spis gatunków numer:",null,null,null,null,{"$f":"G1084+1","v":42},null,null,{"$f":"J1115","v":0}]
[null,"Współrzędne geograficzne",null,null,null,null,null,null,null,{"$f":"J1116","v":0}]
[null,"Długość geograficzna [E] ",null,null,"Szerokość geograficzna [N]",null,null,null,null,{"$f":"J1116","v":0}]
[null,"stopnie","minuty","sekundy","stopnie","minuty","sekundy",null,null,{"$f":"J1115","v":0}]
[null,null,null,null,null,null,null,null,null,{"$f":"J1117+J1131","v":0}]
[null,"Gatunki wskaźnikowe",null,null,null,null,null,null,null,{"$f":"J1117","v":0}]
[null,"nazwa łacińska",null,"nazwa polska",null,null,"walor ",null,null,{"$f":"SUM(J1118:J1129)","v":0}]
[null,{"$f":"OFFSET(listy_slownikowe!$AG$2,I1118,0)","v":" "},null,null,null,null,{"$f":"OFFSET(listy_slownikowe!$AI$2,I1118,0)","v":" "},null,{"$f":"IFERROR(MATCH(D1118,listy_slownikowe!$AH$3:$AH$326,0),0)","v":0},{"$f":"I1118","v":0}]
[null,{"$f":"OFFSET(listy_slownikowe!$AG$2,I1119,0)","v":" "},null,null,null,null,{"$f":"OFFSET(listy_slownikowe!$AI$2,I1119,0)","v":" "},null,{"$f":"IFERROR(MATCH(D1119,listy_slownikowe!$AH$3:$AH$326,0),0)","v":0},{"$f":"I1119","v":0}]
[null,{"$f":"OFFSET(listy_slownikowe!$AG$2,I1120,0)","v":" "},null,null,null,null,{"$f":"OFFSET(listy_slownikowe!$AI$2,I1120,0)","v":" "},null,{"$f":"IFERROR(MATCH(D1120,listy_slownikowe!$AH$3:$AH$326,0),0)","v":0},0]
[null,{"$f":"OFFSET(listy_slownikowe!$AG$2,I1121,0)","v":" "},null,null,null,null,{"$f":"OFFSET(listy_slownikowe!$AI$2,I1121,0)","v":" "},null,{"$f":"IFERROR(MATCH(D1121,listy_slownikowe!$AH$3:$AH$326,0),0)","v":0},0]
[null,{"$f":"OFFSET(listy_slownikowe!$AG$2,I1122,0)","v":" "},null,null,null,null,{"$f":"OFFSET(listy_slownikowe!$AI$2,I1122,0)","v":" "},null,{"$f":"IFERROR(MATCH(D1122,listy_slownikowe!$AH$3:$AH$326,0),0)","v":0},0]
[null,{"$f":"OFFSET(listy_slownikowe!$AG$2,I1123,0)","v":" "},null,null,null,null,{"$f":"OFFSET(listy_slownikowe!$AI$2,I1123,0)","v":" "},null,{"$f":"IFERROR(MATCH(D1123,listy_slownikowe!$AH$3:$AH$326,0),0)","v":0},0]
[null,{"$f":"OFFSET(listy_slownikowe!$AG$2,I1124,0)","v":" "},null,null,null,null,{"$f":"OFFSET(listy_slownikowe!$AI$2,I1124,0)","v":" "},null,{"$f":"IFERROR(MATCH(D1124,listy_slownikowe!$AH$3:$AH$326,0),0)","v":0},0]
[null,{"$f":"OFFSET(listy_slownikowe!$AG$2,I1125,0)","v":" "},null,null,null,null,{"$f":"OFFSET(listy_slownikowe!$AI$2,I1125,0)","v":" "},null,{"$f":"IFERROR(MATCH(D1125,listy_slownikowe!$AH$3:$AH$326,0),0)","v":0},0]
[null,{"$f":"OFFSET(listy_slownikowe!$AG$2,I1126,0)","v":" "},null,null,null,null,{"$f":"OFFSET(listy_slownikowe!$AI$2,I1126,0)","v":" "},null,{"$f":"IFERROR(MATCH(D1126,listy_slownikowe!$AH$3:$AH$326,0),0)","v":0},0]
[null,{"$f":"OFFSET(listy_slownikowe!$AG$2,I1127,0)","v":" "},null,null,null,null,{"$f":"OFFSET(listy_slownikowe!$AI$2,I1127,0)","v":" "},null,{"$f":"IFERROR(MATCH(D1127,listy_slownikowe!$AH$3:$AH$326,0),0)","v":0},0]
[null,{"$f":"OFFSET(listy_slownikowe!$AG$2,I1128,0)","v":" "},null,"",null,null,{"$f":"OFFSET(listy_slownikowe!$AI$2,I1128,0)","v":" "},null,{"$f":"IFERROR(MATCH(D1128,listy_slownikowe!$AH$3:$AH$326,0),0)","v":0},0]
[null,{"$f":"OFFSET(listy_slownikowe!$AG$2,I1129,0)","v":" "},null,null,null,null,{"$f":"OFFSET(listy_slownikowe!$AI$2,I1129,0)","v":" "},null,{"$f":"IFERROR(MATCH(D1129,listy_slownikowe!$AH$3:$AH$326,0),0)","v":0},0]
[null,"Gatunki dominujące i subdominujące",null,null,null,null,null,null,null,{"$f":"J1131","v":0}]
[null,"nazwa łacińska",null,"nazwa polska",null,null,"udział [%]",null,null,{"$f":"SUM(J1132:J1136)","v":0}]
[null,null,null,null,null,null,null,null,null,{"$f":"COUNTA(B1132:G1132)","v":0}]
[null,null,null,null,null,null,null,null,null,0]
[null,null,null,null,null,null,null,null,null,0]
[null,null,null,null,null,null,null,null,null,0]
[null,null,null,null,null,null,null,null,null,0]
[]
[null,"Spis gatunków numer:",null,null,null,null,{"$f":"G1111+1","v":43},null,null,{"$f":"J1142","v":0}]
[null,"Współrzędne geograficzne",null,null,null,null,null,null,null,{"$f":"J1143","v":0}]
[null,"Długość geograficzna [E] ",null,null,"Szerokość geograficzna [N]",null,null,null,null,{"$f":"J1143","v":0}]
[null,"stopnie","minuty","sekundy","stopnie","minuty","sekundy",null,null,{"$f":"J1142","v":0}]
[null,null,null,null,null,null,null,null,null,{"$f":"J1144+J1158","v":0}]
[null,"Gatunki wskaźnikowe",null,null,null,null,null,null,null,{"$f":"J1144","v":0}]
[null,"nazwa łacińska",null,"nazwa polska",null,null,"walor ",null,null,{"$f":"SUM(J1145:J1156)","v":0}]
[null,{"$f":"OFFSET(listy_slownikowe!$AG$2,I1145,0)","v":" "},null,null,null,null,{"$f":"OFFSET(listy_slownikowe!$AI$2,I1145,0)","v":" "},null,{"$f":"IFERROR(MATCH(D1145,listy_slownikowe!$AH$3:$AH$326,0),0)","v":0},{"$f":"I1145","v":0}]
[null,{"$f":"OFFSET(listy_slownikowe!$AG$2,I1146,0)","v":" "},null,null,null,null,{"$f":"OFFSET(listy_slownikowe!$AI$2,I1146,0)","v":" "},null,{"$f":"IFERROR(MATCH(D1146,listy_slownikowe!$AH$3:$AH$326,0),0)","v":0},{"$f":"I1146","v":0}]
[null,{"$f":"OFFSET(listy_slownikowe!$AG$2,I1147,0)","v":" "},null,null,null,null,{"$f":"OFFSET(listy_slownikowe!$AI$2,I1147,0)","v":" "},null,{"$f":"IFERROR(MATCH(D1147,listy_slownikowe!$AH$3:$AH$326,0),0)","v":0},0]
[null,{"$f":"OFFSET(listy_slownikowe!$AG$2,I1148,0)","v":" "},null,null,null,null,{"$f":"OFFSET(listy_slownikowe!$AI$2,I1148,0)","v":" "},null,{"$f":"IFERROR(MATCH(D1148,listy_slownikowe!$AH$3:$AH$326,0),0)","v":0},0]
[null,{"$f":"OFFSET(listy_slownikowe!$AG$2,I1149,0)","v":" "},null,null,null,null,{"$f":"OFFSET(listy_slownikowe!$AI$2,I1149,0)","v":" "},null,{"$f":"IFERROR(MATCH(D1149,listy_slownikowe!$AH$3:$AH$326,0),0)","v":0},0]
[null,{"$f":"OFFSET(listy_slownikowe!$AG$2,I1150,0)","v":" "},null,null,null,null,{"$f":"OFFSET(listy_slownikowe!$AI$2,I1150,0)","v":" "},null,{"$f":"IFERROR(MATCH(D1150,listy_slownikowe!$AH$3:$AH$326,0),0)","v":0},0]
[null,{"$f":"OFFSET(listy_slownikowe!$AG$2,I1151,0)","v":" "},null,null,null,null,{"$f":"OFFSET(listy_slownikowe!$AI$2,I1151,0)","v":" "},null,{"$f":"IFERROR(MATCH(D1151,listy_slownikowe!$AH$3:$AH$326,0),0)","v":0},0]
[null,{"$f":"OFFSET(listy_slownikowe!$AG$2,I1152,0)","v":" "},null,null,null,null,{"$f":"OFFSET(listy_slownikowe!$AI$2,I1152,0)","v":" "},null,{"$f":"IFERROR(MATCH(D1152,listy_slownikowe!$AH$3:$AH$326,0),0)","v":0},0]
[null,{"$f":"OFFSET(listy_slownikowe!$AG$2,I1153,0)","v":" "},null,null,null,null,{"$f":"OFFSET(listy_slownikowe!$AI$2,I1153,0)","v":" "},null,{"$f":"IFERROR(MATCH(D1153,listy_slownikowe!$AH$3:$AH$326,0),0)","v":0},0]
[null,{"$f":"OFFSET(listy_slownikowe!$AG$2,I1154,0)","v":" "},null,null,null,null,{"$f":"OFFSET(listy_slownikowe!$AI$2,I1154,0)","v":" "},null,{"$f":"IFERROR(MATCH(D1154,listy_slownikowe!$AH$3:$AH$326,0),0)","v":0},0]
[null,{"$f":"OFFSET(listy_slownikowe!$AG$2,I1155,0)","v":" "},null,"",null,null,{"$f":"OFFSET(listy_slownikowe!$AI$2,I1155,0)","v":" "},null,{"$f":"IFERROR(MATCH(D1155,listy_slownikowe!$AH$3:$AH$326,0),0)","v":0},0]
[null,{"$f":"OFFSET(listy_slownikowe!$AG$2,I1156,0)","v":" "},null,null,null,null,{"$f":"OFFSET(listy_slownikowe!$AI$2,I1156,0)","v":" "},null,{"$f":"IFERROR(MATCH(D1156,listy_slownikowe!$AH$3:$AH$326,0),0)","v":0},0]
[null,"Gatunki dominujące i subdominujące",null,null,null,null,null,null,null,{"$f":"J1158","v":0}]
[null,"nazwa łacińska",null,"nazwa polska",null,null,"udział [%]",null,null,{"$f":"SUM(J1159:J1163)","v":0}]
[null,null,null,null,null,null,null,null,null,{"$f":"COUNTA(B1159:G1159)","v":0}]
[null,null,null,null,null,null,null,null,null,0]
[null,null,null,null,null,null,null,null,null,0]
[null,null,null,null,null,null,null,null,null,0]
[null,null,null,null,null,null,null,null,null,0]
[]
[null,"Spis gatunków numer:",null,null,null,null,{"$f":"G1138+1","v":44},null,null,{"$f":"J1169","v":0}]
[null,"Współrzędne geograficzne",null,null,null,null,null,null,null,{"$f":"J1170","v":0}]
[null,"Długość geograficzna [E] ",null,null,"Szerokość geograficzna [N]",null,null,null,null,{"$f":"J1170","v":0}]
[null,"stopnie","minuty","sekundy","stopnie","minuty","sekundy",null,null,{"$f":"J1169","v":0}]
[null,null,null,null,null,null,null,null,null,{"$f":"J1171+J1185","v":0}]
[null,"Gatunki wskaźnikowe",null,null,null,null,null,null,null,{"$f":"J1171","v":0}]
[null,"nazwa łacińska",null,"nazwa polska",null,null,"walor ",null,null,{"$f":"SUM(J1172:J1183)","v":0}]
[null,{"$f":"OFFSET(listy_slownikowe!$AG$2,I1172,0)","v":" "},null,null,null,null,{"$f":"OFFSET(listy_slownikowe!$AI$2,I1172,0)","v":" "},null,{"$f":"IFERROR(MATCH(D1172,listy_slownikowe!$AH$3:$AH$326,0),0)","v":0},{"$f":"I1172","v":0}]
[null,{"$f":"OFFSET(listy_slownikowe!$AG$2,I1173,0)","v":" "},null,null,null,null,{"$f":"OFFSET(listy_slownikowe!$AI$2,I1173,0)","v":" "},null,{"$f":"IFERROR(MATCH(D1173,listy_slownikowe!$AH$3:$AH$326,0),0)","v":0},{"$f":"I1173","v":0}]
[null,{"$f":"OFFSET(listy_slownikowe!$AG$2,I1174,0)","v":" "},null,null,null,null,{"$f":"OFFSET(listy_slownikowe!$AI$2,I1174,0)","v":" "},null,{"$f":"IFERROR(MATCH(D1174,listy_slownikowe!$AH$3:$AH$326,0),0)","v":0},0]
[null,{"$f":"OFFSET(listy_slownikowe!$AG$2,I1175,0)","v":" "},null,null,null,null,{"$f":"OFFSET(listy_slownikowe!$AI$2,I1175,0)","v":" "},null,{"$f":"IFERROR(MATCH(D1175,listy_slownikowe!$AH$3:$AH$326,0),0)","v":0},0]
[null,{"$f":"OFFSET(listy_slownikowe!$AG$2,I1176,0)","v":" "},null,null,null,null,{"$f":"OFFSET(listy_slownikowe!$AI$2,I1176,0)","v":" "},null,{"$f":"IFERROR(MATCH(D1176,listy_slownikowe!$AH$3:$AH$326,0),0)","v":0},0]
[null,{"$f":"OFFSET(listy_slownikowe!$AG$2,I1177,0)","v":" "},null,null,null,null,{"$f":"OFFSET(listy_slownikowe!$AI$2,I1177,0)","v":" "},null,{"$f":"IFERROR(MATCH(D1177,listy_slownikowe!$AH$3:$AH$326,0),0)","v":0},0]
[null,{"$f":"OFFSET(listy_slownikowe!$AG$2,I1178,0)","v":" "},null,null,null,null,{"$f":"OFFSET(listy_slownikowe!$AI$2,I1178,0)","v":" "},null,{"$f":"IFERROR(MATCH(D1178,listy_slownikowe!$AH$3:$AH$326,0),0)","v":0},0]
[null,{"$f":"OFFSET(listy_slownikowe!$AG$2,I1179,0)","v":" "},null,null,null,null,{"$f":"OFFSET(listy_slownikowe!$AI$2,I1179,0)","v":" "},null,{"$f":"IFERROR(MATCH(D1179,listy_slownikowe!$AH$3:$AH$326,0),0)","v":0},0]
[null,{"$f":"OFFSET(listy_slownikowe!$AG$2,I1180,0)","v":" "},null,null,null,null,{"$f":"OFFSET(listy_slownikowe!$AI$2,I1180,0)","v":" "},null,{"$f":"IFERROR(MATCH(D1180,listy_slownikowe!$AH$3:$AH$326,0),0)","v":0},0]
[null,{"$f":"OFFSET(listy_slownikowe!$AG$2,I1181,0)","v":" "},null,null,null,null,{"$f":"OFFSET(listy_slownikowe!$AI$2,I1181,0)","v":" "},null,{"$f":"IFERROR(MATCH(D1181,listy_slownikowe!$AH$3:$AH$326,0),0)","v":0},0]
[null,{"$f":"OFFSET(listy_slownikowe!$AG$2,I1182,0)","v":" "},null,"",null,null,{"$f":"OFFSET(listy_slownikowe!$AI$2,I1182,0)","v":" "},null,{"$f":"IFERROR(MATCH(D1182,listy_slownikowe!$AH$3:$AH$326,0),0)","v":0},0]
[null,{"$f":"OFFSET(listy_slownikowe!$AG$2,I1183,0)","v":" "},null,null,null,null,{"$f":"OFFSET(listy_slownikowe!$AI$2,I1183,0)","v":" "},null,{"$f":"IFERROR(MATCH(D1183,listy_slownikowe!$AH$3:$AH$326,0),0)","v":0},0]
[null,"Gatunki dominujące i subdominujące",null,null,null,null,null,null,null,{"$f":"J1185","v":0}]
[null,"nazwa łacińska",null,"nazwa polska",null,null,"udział [%]",null,null,{"$f":"SUM(J1186:J1190)","v":0}]
[null,null,null,null,null,null,null,null,null,{"$f":"COUNTA(B1186:G1186)","v":0}]
[null,null,null,null,null,null,null,null,null,0]
[null,null,null,null,null,null,null,null,null,0]
[null,null,null,null,null,null,null,null,null,0]
[null,null,null,null,null,null,null,null,null,0]
[]
[null,"Spis gatunków numer:",null,null,null,null,{"$f":"G1165+1","v":45},null,null,{"$f":"J1196","v":0}]
[null,"Współrzędne geograficzne",null,null,null,null,null,null,null,{"$f":"J1197","v":0}]
[null,"Długość geograficzna [E] ",null,null,"Szerokość geograficzna [N]",null,null,null,null,{"$f":"J1197","v":0}]
[null,"stopnie","minuty","sekundy","stopnie","minuty","sekundy",null,null,{"$f":"J1196","v":0}]
[null,null,null,null,null,null,null,null,null,{"$f":"J1198+J1212","v":0}]
[null,"Gatunki wskaźnikowe",null,null,null,null,null,null,null,{"$f":"J1198","v":0}]
[null,"nazwa łacińska",null,"nazwa polska",null,null,"walor ",null,null,{"$f":"SUM(J1199:J1210)","v":0}]
[null,{"$f":"OFFSET(listy_slownikowe!$AG$2,I1199,0)","v":" "},null,null,null,null,{"$f":"OFFSET(listy_slownikowe!$AI$2,I1199,0)","v":" "},null,{"$f":"IFERROR(MATCH(D1199,listy_slownikowe!$AH$3:$AH$326,0),0)","v":0},{"$f":"I1199","v":0}]
[null,{"$f":"OFFSET(listy_slownikowe!$AG$2,I1200,0)","v":" "},null,null,null,null,{"$f":"OFFSET(listy_slownikowe!$AI$2,I1200,0)","v":" "},null,{"$f":"IFERROR(MATCH(D1200,listy_slownikowe!$AH$3:$AH$326,0),0)","v":0},{"$f":"I1200","v":0}]
[null,{"$f":"OFFSET(listy_slownikowe!$AG$2,I1201,0)","v":" "},null,null,null,null,{"$f":"OFFSET(listy_slownikowe!$AI$2,I1201,0)","v":" "},null,{"$f":"IFERROR(MATCH(D1201,listy_slownikowe!$AH$3:$AH$326,0),0)","v":0},0]
[null,{"$f":"OFFSET(listy_slownikowe!$AG$2,I1202,0)","v":" "},null,null,null,null,{"$f":"OFFSET(listy_slownikowe!$AI$2,I1202,0)","v":" "},null,{"$f":"IFERROR(MATCH(D1202,listy_slownikowe!$AH$3:$AH$326,0),0)","v":0},0]
[null,{"$f":"OFFSET(listy_slownikowe!$AG$2,I1203,0)","v":" "},null,null,null,null,{"$f":"OFFSET(listy_slownikowe!$AI$2,I1203,0)","v":" "},null,{"$f":"IFERROR(MATCH(D1203,listy_slownikowe!$AH$3:$AH$326,0),0)","v":0},0]
[null,{"$f":"OFFSET(listy_slownikowe!$AG$2,I1204,0)","v":" "},null,null,null,null,{"$f":"OFFSET(listy_slownikowe!$AI$2,I1204,0)","v":" "},null,{"$f":"IFERROR(MATCH(D1204,listy_slownikowe!$AH$3:$AH$326,0),0)","v":0},0]
[null,{"$f":"OFFSET(listy_slownikowe!$AG$2,I1205,0)","v":" "},null,null,null,null,{"$f":"OFFSET(listy_slownikowe!$AI$2,I1205,0)","v":" "},null,{"$f":"IFERROR(MATCH(D1205,listy_slownikowe!$AH$3:$AH$326,0),0)","v":0},0]
[null,{"$f":"OFFSET(listy_slownikowe!$AG$2,I1206,0)","v":" "},null,null,null,null,{"$f":"OFFSET(listy_slownikowe!$AI$2,I1206,0)","v":" "},null,{"$f":"IFERROR(MATCH(D1206,listy_slownikowe!$AH$3:$AH$326,0),0)","v":0},0]
[null,{"$f":"OFFSET(listy_slownikowe!$AG$2,I1207,0)","v":" "},null,null,null,null,{"$f":"OFFSET(listy_slownikowe!$AI$2,I1207,0)","v":" "},null,{"$f":"IFERROR(MATCH(D1207,listy_slownikowe!$AH$3:$AH$326,0),0)","v":0},0]
[null,{"$f":"OFFSET(listy_slownikowe!$AG$2,I1208,0)","v":" "},null,null,null,null,{"$f":"OFFSET(listy_slownikowe!$AI$2,I1208,0)","v":" "},null,{"$f":"IFERROR(MATCH(D1208,listy_slownikowe!$AH$3:$AH$326,0),0)","v":0},0]
[null,{"$f":"OFFSET(listy_slownikowe!$AG$2,I1209,0)","v":" "},null,"",null,null,{"$f":"OFFSET(listy_slownikowe!$AI$2,I1209,0)","v":" "},null,{"$f":"IFERROR(MATCH(D1209,listy_slownikowe!$AH$3:$AH$326,0),0)","v":0},0]
[null,{"$f":"OFFSET(listy_slownikowe!$AG$2,I1210,0)","v":" "},null,null,null,null,{"$f":"OFFSET(listy_slownikowe!$AI$2,I1210,0)","v":" "},null,{"$f":"IFERROR(MATCH(D1210,listy_slownikowe!$AH$3:$AH$326,0),0)","v":0},0]
[null,"Gatunki dominujące i subdominujące",null,null,null,null,null,null,null,{"$f":"J1212","v":0}]
[null,"nazwa łacińska",null,"nazwa polska",null,null,"udział [%]",null,null,{"$f":"SUM(J1213:J1217)","v":0}]
[null,null,null,null,null,null,null,null,null,{"$f":"COUNTA(B1213:G1213)","v":0}]
[null,null,null,null,null,null,null,null,null,0]
[null,null,null,null,null,null,null,null,null,0]
[null,null,null,null,null,null,null,null,null,0]
[null,null,null,null,null,null,null,null,null,0]
[]
[null,"Spis gatunków numer:",null,null,null,null,{"$f":"G1192+1","v":46},null,null,{"$f":"J1223","v":0}]
[null,"Współrzędne geograficzne",null,null,null,null,null,null,null,{"$f":"J1224","v":0}]
[null,"Długość geograficzna [E] ",null,null,"Szerokość geograficzna [N]",null,null,null,null,{"$f":"J1224","v":0}]
[null,"stopnie","minuty","sekundy","stopnie","minuty","sekundy",null,null,{"$f":"J1223","v":0}]
[null,null,null,null,null,null,null,null,null,{"$f":"J1225+J1239","v":0}]
[null,"Gatunki wskaźnikowe",null,null,null,null,null,null,null,{"$f":"J1225","v":0}]
[null,"nazwa łacińska",null,"nazwa polska",null,null,"walor ",null,null,{"$f":"SUM(J1226:J1237)","v":0}]
[null,{"$f":"OFFSET(listy_slownikowe!$AG$2,I1226,0)","v":" "},null,null,null,null,{"$f":"OFFSET(listy_slownikowe!$AI$2,I1226,0)","v":" "},null,{"$f":"IFERROR(MATCH(D1226,listy_slownikowe!$AH$3:$AH$326,0),0)","v":0},{"$f":"I1226","v":0}]
[null,{"$f":"OFFSET(listy_slownikowe!$AG$2,I1227,0)","v":" "},null,null,null,null,{"$f":"OFFSET(listy_slownikowe!$AI$2,I1227,0)","v":" "},null,{"$f":"IFERROR(MATCH(D1227,listy_slownikowe!$AH$3:$AH$326,0),0)","v":0},{"$f":"I1227","v":0}]
[null,{"$f":"OFFSET(listy_slownikowe!$AG$2,I1228,0)","v":" "},null,null,null,null,{"$f":"OFFSET(listy_slownikowe!$AI$2,I1228,0)","v":" "},null,{"$f":"IFERROR(MATCH(D1228,listy_slownikowe!$AH$3:$AH$326,0),0)","v":0},0]
[null,{"$f":"OFFSET(listy_slownikowe!$AG$2,I1229,0)","v":" "},null,null,null,null,{"$f":"OFFSET(listy_slownikowe!$AI$2,I1229,0)","v":" "},null,{"$f":"IFERROR(MATCH(D1229,listy_slownikowe!$AH$3:$AH$326,0),0)","v":0},0]
[null,{"$f":"OFFSET(listy_slownikowe!$AG$2,I1230,0)","v":" "},null,null,null,null,{"$f":"OFFSET(listy_slownikowe!$AI$2,I1230,0)","v":" "},null,{"$f":"IFERROR(MATCH(D1230,listy_slownikowe!$AH$3:$AH$326,0),0)","v":0},0]
[null,{"$f":"OFFSET(listy_slownikowe!$AG$2,I1231,0)","v":" "},null,null,null,null,{"$f":"OFFSET(listy_slownikowe!$AI$2,I1231,0)","v":" "},null,{"$f":"IFERROR(MATCH(D1231,listy_slownikowe!$AH$3:$AH$326,0),0)","v":0},0]
[null,{"$f":"OFFSET(listy_slownikowe!$AG$2,I1232,0)","v":" "},null,null,null,null,{"$f":"OFFSET(listy_slownikowe!$AI$2,I1232,0)","v":" "},null,{"$f":"IFERROR(MATCH(D1232,listy_slownikowe!$AH$3:$AH$326,0),0)","v":0},0]
[null,{"$f":"OFFSET(listy_slownikowe!$AG$2,I1233,0)","v":" "},null,null,null,null,{"$f":"OFFSET(listy_slownikowe!$AI$2,I1233,0)","v":" "},null,{"$f":"IFERROR(MATCH(D1233,listy_slownikowe!$AH$3:$AH$326,0),0)","v":0},0]
[null,{"$f":"OFFSET(listy_slownikowe!$AG$2,I1234,0)","v":" "},null,null,null,null,{"$f":"OFFSET(listy_slownikowe!$AI$2,I1234,0)","v":" "},null,{"$f":"IFERROR(MATCH(D1234,listy_slownikowe!$AH$3:$AH$326,0),0)","v":0},0]
[null,{"$f":"OFFSET(listy_slownikowe!$AG$2,I1235,0)","v":" "},null,null,null,null,{"$f":"OFFSET(listy_slownikowe!$AI$2,I1235,0)","v":" "},null,{"$f":"IFERROR(MATCH(D1235,listy_slownikowe!$AH$3:$AH$326,0),0)","v":0},0]
[null,{"$f":"OFFSET(listy_slownikowe!$AG$2,I1236,0)","v":" "},null,"",null,null,{"$f":"OFFSET(listy_slownikowe!$AI$2,I1236,0)","v":" "},null,{"$f":"IFERROR(MATCH(D1236,listy_slownikowe!$AH$3:$AH$326,0),0)","v":0},0]
[null,{"$f":"OFFSET(listy_slownikowe!$AG$2,I1237,0)","v":" "},null,null,null,null,{"$f":"OFFSET(listy_slownikowe!$AI$2,I1237,0)","v":" "},null,{"$f":"IFERROR(MATCH(D1237,listy_slownikowe!$AH$3:$AH$326,0),0)","v":0},0]
[null,"Gatunki dominujące i subdominujące",null,null,null,null,null,null,null,{"$f":"J1239","v":0}]
[null,"nazwa łacińska",null,"nazwa polska",null,null,"udział [%]",null,null,{"$f":"SUM(J1240:J1244)","v":0}]
[null,null,null,null,null,null,null,null,null,{"$f":"COUNTA(B1240:G1240)","v":0}]
[null,null,null,null,null,null,null,null,null,0]
[null,null,null,null,null,null,null,null,null,0]
[null,null,null,null,null,null,null,null,null,0]
[null,null,null,null,null,null,null,null,null,0]
[]
[null,"Spis gatunków numer:",null,null,null,null,{"$f":"G1219+1","v":47},null,null,{"$f":"J1250","v":0}]
[null,"Współrzędne geograficzne",null,null,null,null,null,null,null,{"$f":"J1251","v":0}]
[null,"Długość geograficzna [E] ",null,null,"Szerokość geograficzna [N]",null,null,null,null,{"$f":"J1251","v":0}]
[null,"stopnie","minuty","sekundy","stopnie","minuty","sekundy",null,null,{"$f":"J1250","v":0}]
[null,null,null,null,null,null,null,null,null,{"$f":"J1252+J1266","v":0}]
[null,"Gatunki wskaźnikowe",null,null,null,null,null,null,null,{"$f":"J1252","v":0}]
[null,"nazwa łacińska",null,"nazwa polska",null,null,"walor ",null,null,{"$f":"SUM(J1253:J1264)","v":0}]
[null,{"$f":"OFFSET(listy_slownikowe!$AG$2,I1253,0)","v":" "},null,null,null,null,{"$f":"OFFSET(listy_slownikowe!$AI$2,I1253,0)","v":" "},null,{"$f":"IFERROR(MATCH(D1253,listy_slownikowe!$AH$3:$AH$326,0),0)","v":0},{"$f":"I1253","v":0}]
[null,{"$f":"OFFSET(listy_slownikowe!$AG$2,I1254,0)","v":" "},null,null,null,null,{"$f":"OFFSET(listy_slownikowe!$AI$2,I1254,0)","v":" "},null,{"$f":"IFERROR(MATCH(D1254,listy_slownikowe!$AH$3:$AH$326,0),0)","v":0},{"$f":"I1254","v":0}]
[null,{"$f":"OFFSET(listy_slownikowe!$AG$2,I1255,0)","v":" "},null,null,null,null,{"$f":"OFFSET(listy_slownikowe!$AI$2,I1255,0)","v":" "},null,{"$f":"IFERROR(MATCH(D1255,listy_slownikowe!$AH$3:$AH$326,0),0)","v":0},0]
[null,{"$f":"OFFSET(listy_slownikowe!$AG$2,I1256,0)","v":" "},null,null,null,null,{"$f":"OFFSET(listy_slownikowe!$AI$2,I1256,0)","v":" "},null,{"$f":"IFERROR(MATCH(D1256,listy_slownikowe!$AH$3:$AH$326,0),0)","v":0},0]
[null,{"$f":"OFFSET(listy_slownikowe!$AG$2,I1257,0)","v":" "},null,null,null,null,{"$f":"OFFSET(listy_slownikowe!$AI$2,I1257,0)","v":" "},null,{"$f":"IFERROR(MATCH(D1257,listy_slownikowe!$AH$3:$AH$326,0),0)","v":0},0]
[null,{"$f":"OFFSET(listy_slownikowe!$AG$2,I1258,0)","v":" "},null,null,null,null,{"$f":"OFFSET(listy_slownikowe!$AI$2,I1258,0)","v":" "},null,{"$f":"IFERROR(MATCH(D1258,listy_slownikowe!$AH$3:$AH$326,0),0)","v":0},0]
[null,{"$f":"OFFSET(listy_slownikowe!$AG$2,I1259,0)","v":" "},null,null,null,null,{"$f":"OFFSET(listy_slownikowe!$AI$2,I1259,0)","v":" "},null,{"$f":"IFERROR(MATCH(D1259,listy_slownikowe!$AH$3:$AH$326,0),0)","v":0},0]
[null,{"$f":"OFFSET(listy_slownikowe!$AG$2,I1260,0)","v":" "},null,null,null,null,{"$f":"OFFSET(listy_slownikowe!$AI$2,I1260,0)","v":" "},null,{"$f":"IFERROR(MATCH(D1260,listy_slownikowe!$AH$3:$AH$326,0),0)","v":0},0]
[null,{"$f":"OFFSET(listy_slownikowe!$AG$2,I1261,0)","v":" "},null,null,null,null,{"$f":"OFFSET(listy_slownikowe!$AI$2,I1261,0)","v":" "},null,{"$f":"IFERROR(MATCH(D1261,listy_slownikowe!$AH$3:$AH$326,0),0)","v":0},0]
[null,{"$f":"OFFSET(listy_slownikowe!$AG$2,I1262,0)","v":" "},null,null,null,null,{"$f":"OFFSET(listy_slownikowe!$AI$2,I1262,0)","v":" "},null,{"$f":"IFERROR(MATCH(D1262,listy_slownikowe!$AH$3:$AH$326,0),0)","v":0},0]
[null,{"$f":"OFFSET(listy_slownikowe!$AG$2,I1263,0)","v":" "},null,"",null,null,{"$f":"OFFSET(listy_slownikowe!$AI$2,I1263,0)","v":" "},null,{"$f":"IFERROR(MATCH(D1263,listy_slownikowe!$AH$3:$AH$326,0),0)","v":0},0]
[null,{"$f":"OFFSET(listy_slownikowe!$AG$2,I1264,0)","v":" "},null,null,null,null,{"$f":"OFFSET(listy_slownikowe!$AI$2,I1264,0)","v":" "},null,{"$f":"IFERROR(MATCH(D1264,listy_slownikowe!$AH$3:$AH$326,0),0)","v":0},0]
[null,"Gatunki dominujące i subdominujące",null,null,null,null,null,null,null,{"$f":"J1266","v":0}]
[null,"nazwa łacińska",null,"nazwa polska",null,null,"udział [%]",null,null,{"$f":"SUM(J1267:J1271)","v":0}]
[null,null,null,null,null,null,null,null,null,{"$f":"COUNTA(B1267:G1267)","v":0}]
[null,null,null,null,null,null,null,null,null,0]
[null,null,null,null,null,null,null,null,null,0]
[null,null,null,null,null,null,null,null,null,0]
[null,null,null,null,null,null,null,null,null,0]
[]
[null,"Spis gatunków numer:",null,null,null,null,{"$f":"G1246+1","v":48},null,null,{"$f":"J1277","v":0}]
[null,"Współrzędne geograficzne",null,null,null,null,null,null,null,{"$f":"J1278","v":0}]
[null,"Długość geograficzna [E] ",null,null,"Szerokość geograficzna [N]",null,null,null,null,{"$f":"J1278","v":0}]
[null,"stopnie","minuty","sekundy","stopnie","minuty","sekundy",null,null,{"$f":"J1277","v":0}]
[null,null,null,null,null,null,null,null,null,{"$f":"J1279+J1293","v":0}]
[null,"Gatunki wskaźnikowe",null,null,null,null,null,null,null,{"$f":"J1279","v":0}]
[null,"nazwa łacińska",null,"nazwa polska",null,null,"walor ",null,null,{"$f":"SUM(J1280:J1291)","v":0}]
[null,{"$f":"OFFSET(listy_slownikowe!$AG$2,I1280,0)","v":" "},null,null,null,null,{"$f":"OFFSET(listy_slownikowe!$AI$2,I1280,0)","v":" "},null,{"$f":"IFERROR(MATCH(D1280,listy_slownikowe!$AH$3:$AH$326,0),0)","v":0},{"$f":"I1280","v":0}]
[null,{"$f":"OFFSET(listy_slownikowe!$AG$2,I1281,0)","v":" "},null,null,null,null,{"$f":"OFFSET(listy_slownikowe!$AI$2,I1281,0)","v":" "},null,{"$f":"IFERROR(MATCH(D1281,listy_slownikowe!$AH$3:$AH$326,0),0)","v":0},{"$f":"I1281","v":0}]
[null,{"$f":"OFFSET(listy_slownikowe!$AG$2,I1282,0)","v":" "},null,null,null,null,{"$f":"OFFSET(listy_slownikowe!$AI$2,I1282,0)","v":" "},null,{"$f":"IFERROR(MATCH(D1282,listy_slownikowe!$AH$3:$AH$326,0),0)","v":0},0]
[null,{"$f":"OFFSET(listy_slownikowe!$AG$2,I1283,0)","v":" "},null,null,null,null,{"$f":"OFFSET(listy_slownikowe!$AI$2,I1283,0)","v":" "},null,{"$f":"IFERROR(MATCH(D1283,listy_slownikowe!$AH$3:$AH$326,0),0)","v":0},0]
[null,{"$f":"OFFSET(listy_slownikowe!$AG$2,I1284,0)","v":" "},null,null,null,null,{"$f":"OFFSET(listy_slownikowe!$AI$2,I1284,0)","v":" "},null,{"$f":"IFERROR(MATCH(D1284,listy_slownikowe!$AH$3:$AH$326,0),0)","v":0},0]
[null,{"$f":"OFFSET(listy_slownikowe!$AG$2,I1285,0)","v":" "},null,null,null,null,{"$f":"OFFSET(listy_slownikowe!$AI$2,I1285,0)","v":" "},null,{"$f":"IFERROR(MATCH(D1285,listy_slownikowe!$AH$3:$AH$326,0),0)","v":0},0]
[null,{"$f":"OFFSET(listy_slownikowe!$AG$2,I1286,0)","v":" "},null,null,null,null,{"$f":"OFFSET(listy_slownikowe!$AI$2,I1286,0)","v":" "},null,{"$f":"IFERROR(MATCH(D1286,listy_slownikowe!$AH$3:$AH$326,0),0)","v":0},0]
[null,{"$f":"OFFSET(listy_slownikowe!$AG$2,I1287,0)","v":" "},null,null,null,null,{"$f":"OFFSET(listy_slownikowe!$AI$2,I1287,0)","v":" "},null,{"$f":"IFERROR(MATCH(D1287,listy_slownikowe!$AH$3:$AH$326,0),0)","v":0},0]
[null,{"$f":"OFFSET(listy_slownikowe!$AG$2,I1288,0)","v":" "},null,null,null,null,{"$f":"OFFSET(listy_slownikowe!$AI$2,I1288,0)","v":" "},null,{"$f":"IFERROR(MATCH(D1288,listy_slownikowe!$AH$3:$AH$326,0),0)","v":0},0]
[null,{"$f":"OFFSET(listy_slownikowe!$AG$2,I1289,0)","v":" "},null,null,null,null,{"$f":"OFFSET(listy_slownikowe!$AI$2,I1289,0)","v":" "},null,{"$f":"IFERROR(MATCH(D1289,listy_slownikowe!$AH$3:$AH$326,0),0)","v":0},0]
[null,{"$f":"OFFSET(listy_slownikowe!$AG$2,I1290,0)","v":" "},null,"",null,null,{"$f":"OFFSET(listy_slownikowe!$AI$2,I1290,0)","v":" "},null,{"$f":"IFERROR(MATCH(D1290,listy_slownikowe!$AH$3:$AH$326,0),0)","v":0},0]
[null,{"$f":"OFFSET(listy_slownikowe!$AG$2,I1291,0)","v":" "},null,null,null,null,{"$f":"OFFSET(listy_slownikowe!$AI$2,I1291,0)","v":" "},null,{"$f":"IFERROR(MATCH(D1291,listy_slownikowe!$AH$3:$AH$326,0),0)","v":0},0]
[null,"Gatunki dominujące i subdominujące",null,null,null,null,null,null,null,{"$f":"J1293","v":0}]
[null,"nazwa łacińska",null,"nazwa polska",null,null,"udział [%]",null,null,{"$f":"SUM(J1294:J1298)","v":0}]
[null,null,null,null,null,null,null,null,null,{"$f":"COUNTA(B1294:G1294)","v":0}]
[null,null,null,null,null,null,null,null,null,0]
[null,null,null,null,null,null,null,null,null,0]
[null,null,null,null,null,null,null,null,null,0]
[null,null,null,null,null,null,null,null,null,0]
[]
[null,"Spis gatunków numer:",null,null,null,null,{"$f":"G1273+1","v":49},null,null,{"$f":"J1304","v":0}]
[null,"Współrzędne geograficzne",null,null,null,null,null,null,null,{"$f":"J1305","v":0}]
[null,"Długość geograficzna [E] ",null,null,"Szerokość geograficzna [N]",null,null,null,null,{"$f":"J1305","v":0}]
[null,"stopnie","minuty","sekundy","stopnie","minuty","sekundy",null,null,{"$f":"J1304","v":0}]
[null,null,null,null,null,null,null,null,null,{"$f":"J1306+J1320","v":0}]
[null,"Gatunki wskaźnikowe",null,null,null,null,null,null,null,{"$f":"J1306","v":0}]
[null,"nazwa łacińska",null,"nazwa polska",null,null,"walor ",null,null,{"$f":"SUM(J1307:J1318)","v":0}]
[null,{"$f":"OFFSET(listy_slownikowe!$AG$2,I1307,0)","v":" "},null,null,null,null,{"$f":"OFFSET(listy_slownikowe!$AI$2,I1307,0)","v":" "},null,{"$f":"IFERROR(MATCH(D1307,listy_slownikowe!$AH$3:$AH$326,0),0)","v":0},{"$f":"I1307","v":0}]
[null,{"$f":"OFFSET(listy_slownikowe!$AG$2,I1308,0)","v":" "},null,null,null,null,{"$f":"OFFSET(listy_slownikowe!$AI$2,I1308,0)","v":" "},null,{"$f":"IFERROR(MATCH(D1308,listy_slownikowe!$AH$3:$AH$326,0),0)","v":0},{"$f":"I1308","v":0}]
[null,{"$f":"OFFSET(listy_slownikowe!$AG$2,I1309,0)","v":" "},null,null,null,null,{"$f":"OFFSET(listy_slownikowe!$AI$2,I1309,0)","v":" "},null,{"$f":"IFERROR(MATCH(D1309,listy_slownikowe!$AH$3:$AH$326,0),0)","v":0},0]
[null,{"$f":"OFFSET(listy_slownikowe!$AG$2,I1310,0)","v":" "},null,null,null,null,{"$f":"OFFSET(listy_slownikowe!$AI$2,I1310,0)","v":" "},null,{"$f":"IFERROR(MATCH(D1310,listy_slownikowe!$AH$3:$AH$326,0),0)","v":0},0]
[null,{"$f":"OFFSET(listy_slownikowe!$AG$2,I1311,0)","v":" "},null,null,null,null,{"$f":"OFFSET(listy_slownikowe!$AI$2,I1311,0)","v":" "},null,{"$f":"IFERROR(MATCH(D1311,listy_slownikowe!$AH$3:$AH$326,0),0)","v":0},0]
[null,{"$f":"OFFSET(listy_slownikowe!$AG$2,I1312,0)","v":" "},null,null,null,null,{"$f":"OFFSET(listy_slownikowe!$AI$2,I1312,0)","v":" "},null,{"$f":"IFERROR(MATCH(D1312,listy_slownikowe!$AH$3:$AH$326,0),0)","v":0},0]
[null,{"$f":"OFFSET(listy_slownikowe!$AG$2,I1313,0)","v":" "},null,null,null,null,{"$f":"OFFSET(listy_slownikowe!$AI$2,I1313,0)","v":" "},null,{"$f":"IFERROR(MATCH(D1313,listy_slownikowe!$AH$3:$AH$326,0),0)","v":0},0]
[null,{"$f":"OFFSET(listy_slownikowe!$AG$2,I1314,0)","v":" "},null,null,null,null,{"$f":"OFFSET(listy_slownikowe!$AI$2,I1314,0)","v":" "},null,{"$f":"IFERROR(MATCH(D1314,listy_slownikowe!$AH$3:$AH$326,0),0)","v":0},0]
[null,{"$f":"OFFSET(listy_slownikowe!$AG$2,I1315,0)","v":" "},null,null,null,null,{"$f":"OFFSET(listy_slownikowe!$AI$2,I1315,0)","v":" "},null,{"$f":"IFERROR(MATCH(D1315,listy_slownikowe!$AH$3:$AH$326,0),0)","v":0},0]
[null,{"$f":"OFFSET(listy_slownikowe!$AG$2,I1316,0)","v":" "},null,null,null,null,{"$f":"OFFSET(listy_slownikowe!$AI$2,I1316,0)","v":" "},null,{"$f":"IFERROR(MATCH(D1316,listy_slownikowe!$AH$3:$AH$326,0),0)","v":0},0]
[null,{"$f":"OFFSET(listy_slownikowe!$AG$2,I1317,0)","v":" "},null,"",null,null,{"$f":"OFFSET(listy_slownikowe!$AI$2,I1317,0)","v":" "},null,{"$f":"IFERROR(MATCH(D1317,listy_slownikowe!$AH$3:$AH$326,0),0)","v":0},0]
[null,{"$f":"OFFSET(listy_slownikowe!$AG$2,I1318,0)","v":" "},null,null,null,null,{"$f":"OFFSET(listy_slownikowe!$AI$2,I1318,0)","v":" "},null,{"$f":"IFERROR(MATCH(D1318,listy_slownikowe!$AH$3:$AH$326,0),0)","v":0},0]
[null,"Gatunki dominujące i subdominujące",null,null,null,null,null,null,null,{"$f":"J1320","v":0}]
[null,"nazwa łacińska",null,"nazwa polska",null,null,"udział [%]",null,null,{"$f":"SUM(J1321:J1325)","v":0}]
[null,null,null,null,null,null,null,null,null,{"$f":"COUNTA(B1321:G1321)","v":0}]
[null,null,null,null,null,null,null,null,null,0]
[null,null,null,null,null,null,null,null,null,0]
[null,null,null,null,null,null,null,null,null,0]
[null,null,null,null,null,null,null,null,null,0]
[]
[null,"Spis gatunków numer:",null,null,null,null,{"$f":"G1300+1","v":50},null,null,{"$f":"J1331","v":0}]
[null,"Współrzędne geograficzne",null,null,null,null,null,null,null,{"$f":"J1332","v":0}]
[null,"Długość geograficzna [E] ",null,null,"Szerokość geograficzna [N]",null,null,null,null,{"$f":"J1332","v":0}]
[null,"stopnie","minuty","sekundy","stopnie","minuty","sekundy",null,null,{"$f":"J1331","v":0}]
[null,null,null,null,null,null,null,null,null,{"$f":"J1333+J1347","v":0}]
[null,"Gatunki wskaźnikowe",null,null,null,null,null,null,null,{"$f":"J1333","v":0}]
[null,"nazwa łacińska",null,"nazwa polska",null,null,"walor ",null,null,{"$f":"SUM(J1334:J1345)","v":0}]
[null,{"$f":"OFFSET(listy_slownikowe!$AG$2,I1334,0)","v":" "},null,null,null,null,{"$f":"OFFSET(listy_slownikowe!$AI$2,I1334,0)","v":" "},null,{"$f":"IFERROR(MATCH(D1334,listy_slownikowe!$AH$3:$AH$326,0),0)","v":0},{"$f":"I1334","v":0}]
[null,{"$f":"OFFSET(listy_slownikowe!$AG$2,I1335,0)","v":" "},null,null,null,null,{"$f":"OFFSET(listy_slownikowe!$AI$2,I1335,0)","v":" "},null,{"$f":"IFERROR(MATCH(D1335,listy_slownikowe!$AH$3:$AH$326,0),0)","v":0},{"$f":"I1335","v":0}]
[null,{"$f":"OFFSET(listy_slownikowe!$AG$2,I1336,0)","v":" "},null,null,null,null,{"$f":"OFFSET(listy_slownikowe!$AI$2,I1336,0)","v":" "},null,{"$f":"IFERROR(MATCH(D1336,listy_slownikowe!$AH$3:$AH$326,0),0)","v":0},0]
[null,{"$f":"OFFSET(listy_slownikowe!$AG$2,I1337,0)","v":" "},null,null,null,null,{"$f":"OFFSET(listy_slownikowe!$AI$2,I1337,0)","v":" "},null,{"$f":"IFERROR(MATCH(D1337,listy_slownikowe!$AH$3:$AH$326,0),0)","v":0},0]
[null,{"$f":"OFFSET(listy_slownikowe!$AG$2,I1338,0)","v":" "},null,null,null,null,{"$f":"OFFSET(listy_slownikowe!$AI$2,I1338,0)","v":" "},null,{"$f":"IFERROR(MATCH(D1338,listy_slownikowe!$AH$3:$AH$326,0),0)","v":0},0]
[null,{"$f":"OFFSET(listy_slownikowe!$AG$2,I1339,0)","v":" "},null,null,null,null,{"$f":"OFFSET(listy_slownikowe!$AI$2,I1339,0)","v":" "},null,{"$f":"IFERROR(MATCH(D1339,listy_slownikowe!$AH$3:$AH$326,0),0)","v":0},0]
[null,{"$f":"OFFSET(listy_slownikowe!$AG$2,I1340,0)","v":" "},null,null,null,null,{"$f":"OFFSET(listy_slownikowe!$AI$2,I1340,0)","v":" "},null,{"$f":"IFERROR(MATCH(D1340,listy_slownikowe!$AH$3:$AH$326,0),0)","v":0},0]
[null,{"$f":"OFFSET(listy_slownikowe!$AG$2,I1341,0)","v":" "},null,null,null,null,{"$f":"OFFSET(listy_slownikowe!$AI$2,I1341,0)","v":" "},null,{"$f":"IFERROR(MATCH(D1341,listy_slownikowe!$AH$3:$AH$326,0),0)","v":0},0]
[null,{"$f":"OFFSET(listy_slownikowe!$AG$2,I1342,0)","v":" "},null,null,null,null,{"$f":"OFFSET(listy_slownikowe!$AI$2,I1342,0)","v":" "},null,{"$f":"IFERROR(MATCH(D1342,listy_slownikowe!$AH$3:$AH$326,0),0)","v":0},0]
[null,{"$f":"OFFSET(listy_slownikowe!$AG$2,I1343,0)","v":" "},null,null,null,null,{"$f":"OFFSET(listy_slownikowe!$AI$2,I1343,0)","v":" "},null,{"$f":"IFERROR(MATCH(D1343,listy_slownikowe!$AH$3:$AH$326,0),0)","v":0},0]
[null,{"$f":"OFFSET(listy_slownikowe!$AG$2,I1344,0)","v":" "},null,"",null,null,{"$f":"OFFSET(listy_slownikowe!$AI$2,I1344,0)","v":" "},null,{"$f":"IFERROR(MATCH(D1344,listy_slownikowe!$AH$3:$AH$326,0),0)","v":0},0]
[null,{"$f":"OFFSET(listy_slownikowe!$AG$2,I1345,0)","v":" "},null,null,null,null,{"$f":"OFFSET(listy_slownikowe!$AI$2,I1345,0)","v":" "},null,{"$f":"IFERROR(MATCH(D1345,listy_slownikowe!$AH$3:$AH$326,0),0)","v":0},0]
[null,"Gatunki dominujące i subdominujące",null,null,null,null,null,null,null,{"$f":"J1347","v":0}]
[null,"nazwa łacińska",null,"nazwa polska",null,null,"udział [%]",null,null,{"$f":"SUM(J1348:J1352)","v":0}]
[null,null,null,null,null,null,null,null,null,{"$f":"COUNTA(B1348:G1348)","v":0}]
[null,null,null,null,null,null,null,null,null,0]
[null,null,null,null,null,null,null,null,null,0]
[null,null,null,null,null,null,null,null,null,0]
[null,null,null,null,null,null,null,null,null,0]
[]
[null,"Spis gatunków numer:",null,null,null,null,{"$f":"G1327+1","v":51},null,null,{"$f":"J1358","v":0}]
[null,"Współrzędne geograficzne",null,null,null,null,null,null,null,{"$f":"J1359","v":0}]
[null,"Długość geograficzna [E] ",null,null,"Szerokość geograficzna [N]",null,null,null,null,{"$f":"J1359","v":0}]
[null,"stopnie","minuty","sekundy","stopnie","minuty","sekundy",null,null,{"$f":"J1358","v":0}]
[null,null,null,null,null,null,null,null,null,{"$f":"J1360+J1374","v":0}]
[null,"Gatunki wskaźnikowe",null,null,null,null,null,null,null,{"$f":"J1360","v":0}]
[null,"nazwa łacińska",null,"nazwa polska",null,null,"walor ",null,null,{"$f":"SUM(J1361:J1372)","v":0}]
[null,{"$f":"OFFSET(listy_slownikowe!$AG$2,I1361,0)","v":" "},null,null,null,null,{"$f":"OFFSET(listy_slownikowe!$AI$2,I1361,0)","v":" "},null,{"$f":"IFERROR(MATCH(D1361,listy_slownikowe!$AH$3:$AH$326,0),0)","v":0},{"$f":"I1361","v":0}]
[null,{"$f":"OFFSET(listy_slownikowe!$AG$2,I1362,0)","v":" "},null,null,null,null,{"$f":"OFFSET(listy_slownikowe!$AI$2,I1362,0)","v":" "},null,{"$f":"IFERROR(MATCH(D1362,listy_slownikowe!$AH$3:$AH$326,0),0)","v":0},{"$f":"I1362","v":0}]
[null,{"$f":"OFFSET(listy_slownikowe!$AG$2,I1363,0)","v":" "},null,null,null,null,{"$f":"OFFSET(listy_slownikowe!$AI$2,I1363,0)","v":" "},null,{"$f":"IFERROR(MATCH(D1363,listy_slownikowe!$AH$3:$AH$326,0),0)","v":0},0]
[null,{"$f":"OFFSET(listy_slownikowe!$AG$2,I1364,0)","v":" "},null,null,null,null,{"$f":"OFFSET(listy_slownikowe!$AI$2,I1364,0)","v":" "},null,{"$f":"IFERROR(MATCH(D1364,listy_slownikowe!$AH$3:$AH$326,0),0)","v":0},0]
[null,{"$f":"OFFSET(listy_slownikowe!$AG$2,I1365,0)","v":" "},null,null,null,null,{"$f":"OFFSET(listy_slownikowe!$AI$2,I1365,0)","v":" "},null,{"$f":"IFERROR(MATCH(D1365,listy_slownikowe!$AH$3:$AH$326,0),0)","v":0},0]
[null,{"$f":"OFFSET(listy_slownikowe!$AG$2,I1366,0)","v":" "},null,null,null,null,{"$f":"OFFSET(listy_slownikowe!$AI$2,I1366,0)","v":" "},null,{"$f":"IFERROR(MATCH(D1366,listy_slownikowe!$AH$3:$AH$326,0),0)","v":0},0]
[null,{"$f":"OFFSET(listy_slownikowe!$AG$2,I1367,0)","v":" "},null,null,null,null,{"$f":"OFFSET(listy_slownikowe!$AI$2,I1367,0)","v":" "},null,{"$f":"IFERROR(MATCH(D1367,listy_slownikowe!$AH$3:$AH$326,0),0)","v":0},0]
[null,{"$f":"OFFSET(listy_slownikowe!$AG$2,I1368,0)","v":" "},null,null,null,null,{"$f":"OFFSET(listy_slownikowe!$AI$2,I1368,0)","v":" "},null,{"$f":"IFERROR(MATCH(D1368,listy_slownikowe!$AH$3:$AH$326,0),0)","v":0},0]
[null,{"$f":"OFFSET(listy_slownikowe!$AG$2,I1369,0)","v":" "},null,null,null,null,{"$f":"OFFSET(listy_slownikowe!$AI$2,I1369,0)","v":" "},null,{"$f":"IFERROR(MATCH(D1369,listy_slownikowe!$AH$3:$AH$326,0),0)","v":0},0]
[null,{"$f":"OFFSET(listy_slownikowe!$AG$2,I1370,0)","v":" "},null,null,null,null,{"$f":"OFFSET(listy_slownikowe!$AI$2,I1370,0)","v":" "},null,{"$f":"IFERROR(MATCH(D1370,listy_slownikowe!$AH$3:$AH$326,0),0)","v":0},0]
[null,{"$f":"OFFSET(listy_slownikowe!$AG$2,I1371,0)","v":" "},null,"",null,null,{"$f":"OFFSET(listy_slownikowe!$AI$2,I1371,0)","v":" "},null,{"$f":"IFERROR(MATCH(D1371,listy_slownikowe!$AH$3:$AH$326,0),0)","v":0},0]
[null,{"$f":"OFFSET(listy_slownikowe!$AG$2,I1372,0)","v":" "},null,null,null,null,{"$f":"OFFSET(listy_slownikowe!$AI$2,I1372,0)","v":" "},null,{"$f":"IFERROR(MATCH(D1372,listy_slownikowe!$AH$3:$AH$326,0),0)","v":0},0]
[null,"Gatunki dominujące i subdominujące",null,null,null,null,null,null,null,{"$f":"J1374","v":0}]
[null,"nazwa łacińska",null,"nazwa polska",null,null,"udział [%]",null,null,{"$f":"SUM(J1375:J1379)","v":0}]
[null,null,null,null,null,null,null,null,null,{"$f":"COUNTA(B1375:G1375)","v":0}]
[null,null,null,null,null,null,null,null,null,0]
[null,null,null,null,null,null,null,null,null,0]
[null,null,null,null,null,null,null,null,null,0]
[null,null,null,null,null,null,null,null,null,0]
[]
[null,"Spis gatunków numer:",null,null,null,null,{"$f":"G1354+1","v":52},null,null,{"$f":"J1385","v":0}]
[null,"Współrzędne geograficzne",null,null,null,null,null,null,null,{"$f":"J1386","v":0}]
[null,"Długość geograficzna [E] ",null,null,"Szerokość geograficzna [N]",null,null,null,null,{"$f":"J1386","v":0}]
[null,"stopnie","minuty","sekundy","stopnie","minuty","sekundy",null,null,{"$f":"J1385","v":0}]
[null,null,null,null,null,null,null,null,null,{"$f":"J1387+J1401","v":0}]
[null,"Gatunki wskaźnikowe",null,null,null,null,null,null,null,{"$f":"J1387","v":0}]
[null,"nazwa łacińska",null,"nazwa polska",null,null,"walor ",null,null,{"$f":"SUM(J1388:J1399)","v":0}]
[null,{"$f":"OFFSET(listy_slownikowe!$AG$2,I1388,0)","v":" "},null,null,null,null,{"$f":"OFFSET(listy_slownikowe!$AI$2,I1388,0)","v":" "},null,{"$f":"IFERROR(MATCH(D1388,listy_slownikowe!$AH$3:$AH$326,0),0)","v":0},{"$f":"I1388","v":0}]
[null,{"$f":"OFFSET(listy_slownikowe!$AG$2,I1389,0)","v":" "},null,null,null,null,{"$f":"OFFSET(listy_slownikowe!$AI$2,I1389,0)","v":" "},null,{"$f":"IFERROR(MATCH(D1389,listy_slownikowe!$AH$3:$AH$326,0),0)","v":0},{"$f":"I1389","v":0}]
[null,{"$f":"OFFSET(listy_slownikowe!$AG$2,I1390,0)","v":" "},null,null,null,null,{"$f":"OFFSET(listy_slownikowe!$AI$2,I1390,0)","v":" "},null,{"$f":"IFERROR(MATCH(D1390,listy_slownikowe!$AH$3:$AH$326,0),0)","v":0},0]
[null,{"$f":"OFFSET(listy_slownikowe!$AG$2,I1391,0)","v":" "},null,null,null,null,{"$f":"OFFSET(listy_slownikowe!$AI$2,I1391,0)","v":" "},null,{"$f":"IFERROR(MATCH(D1391,listy_slownikowe!$AH$3:$AH$326,0),0)","v":0},0]
[null,{"$f":"OFFSET(listy_slownikowe!$AG$2,I1392,0)","v":" "},null,null,null,null,{"$f":"OFFSET(listy_slownikowe!$AI$2,I1392,0)","v":" "},null,{"$f":"IFERROR(MATCH(D1392,listy_slownikowe!$AH$3:$AH$326,0),0)","v":0},0]
[null,{"$f":"OFFSET(listy_slownikowe!$AG$2,I1393,0)","v":" "},null,null,null,null,{"$f":"OFFSET(listy_slownikowe!$AI$2,I1393,0)","v":" "},null,{"$f":"IFERROR(MATCH(D1393,listy_slownikowe!$AH$3:$AH$326,0),0)","v":0},0]
[null,{"$f":"OFFSET(listy_slownikowe!$AG$2,I1394,0)","v":" "},null,null,null,null,{"$f":"OFFSET(listy_slownikowe!$AI$2,I1394,0)","v":" "},null,{"$f":"IFERROR(MATCH(D1394,listy_slownikowe!$AH$3:$AH$326,0),0)","v":0},0]
[null,{"$f":"OFFSET(listy_slownikowe!$AG$2,I1395,0)","v":" "},null,null,null,null,{"$f":"OFFSET(listy_slownikowe!$AI$2,I1395,0)","v":" "},null,{"$f":"IFERROR(MATCH(D1395,listy_slownikowe!$AH$3:$AH$326,0),0)","v":0},0]
[null,{"$f":"OFFSET(listy_slownikowe!$AG$2,I1396,0)","v":" "},null,null,null,null,{"$f":"OFFSET(listy_slownikowe!$AI$2,I1396,0)","v":" "},null,{"$f":"IFERROR(MATCH(D1396,listy_slownikowe!$AH$3:$AH$326,0),0)","v":0},0]
[null,{"$f":"OFFSET(listy_slownikowe!$AG$2,I1397,0)","v":" "},null,null,null,null,{"$f":"OFFSET(listy_slownikowe!$AI$2,I1397,0)","v":" "},null,{"$f":"IFERROR(MATCH(D1397,listy_slownikowe!$AH$3:$AH$326,0),0)","v":0},0]
[null,{"$f":"OFFSET(listy_slownikowe!$AG$2,I1398,0)","v":" "},null,"",null,null,{"$f":"OFFSET(listy_slownikowe!$AI$2,I1398,0)","v":" "},null,{"$f":"IFERROR(MATCH(D1398,listy_slownikowe!$AH$3:$AH$326,0),0)","v":0},0]
[null,{"$f":"OFFSET(listy_slownikowe!$AG$2,I1399,0)","v":" "},null,null,null,null,{"$f":"OFFSET(listy_slownikowe!$AI$2,I1399,0)","v":" "},null,{"$f":"IFERROR(MATCH(D1399,listy_slownikowe!$AH$3:$AH$326,0),0)","v":0},0]
[null,"Gatunki dominujące i subdominujące",null,null,null,null,null,null,null,{"$f":"J1401","v":0}]
[null,"nazwa łacińska",null,"nazwa polska",null,null,"udział [%]",null,null,{"$f":"SUM(J1402:J1406)","v":0}]
[null,null,null,null,null,null,null,null,null,{"$f":"COUNTA(B1402:G1402)","v":0}]
[null,null,null,null,null,null,null,null,null,0]
[null,null,null,null,null,null,null,null,null,0]
[null,null,null,null,null,null,null,null,null,0]
[null,null,null,null,null,null,null,null,null,0]
[]
[null,"Spis gatunków numer:",null,null,null,null,{"$f":"G1381+1","v":53},null,null,{"$f":"J1412","v":0}]
[null,"Współrzędne geograficzne",null,null,null,null,null,null,null,{"$f":"J1413","v":0}]
[null,"Długość geograficzna [E] ",null,null,"Szerokość geograficzna [N]",null,null,null,null,{"$f":"J1413","v":0}]
[null,"stopnie","minuty","sekundy","stopnie","minuty","sekundy",null,null,{"$f":"J1412","v":0}]
[null,null,null,null,null,null,null,null,null,{"$f":"J1414+J1428","v":0}]
[null,"Gatunki wskaźnikowe",null,null,null,null,null,null,null,{"$f":"J1414","v":0}]
[null,"nazwa łacińska",null,"nazwa polska",null,null,"walor ",null,null,{"$f":"SUM(J1415:J1426)","v":0}]
[null,{"$f":"OFFSET(listy_slownikowe!$AG$2,I1415,0)","v":" "},null,null,null,null,{"$f":"OFFSET(listy_slownikowe!$AI$2,I1415,0)","v":" "},null,{"$f":"IFERROR(MATCH(D1415,listy_slownikowe!$AH$3:$AH$326,0),0)","v":0},{"$f":"I1415","v":0}]
[null,{"$f":"OFFSET(listy_slownikowe!$AG$2,I1416,0)","v":" "},null,null,null,null,{"$f":"OFFSET(listy_slownikowe!$AI$2,I1416,0)","v":" "},null,{"$f":"IFERROR(MATCH(D1416,listy_slownikowe!$AH$3:$AH$326,0),0)","v":0},{"$f":"I1416","v":0}]
[null,{"$f":"OFFSET(listy_slownikowe!$AG$2,I1417,0)","v":" "},null,null,null,null,{"$f":"OFFSET(listy_slownikowe!$AI$2,I1417,0)","v":" "},null,{"$f":"IFERROR(MATCH(D1417,listy_slownikowe!$AH$3:$AH$326,0),0)","v":0},0]
[null,{"$f":"OFFSET(listy_slownikowe!$AG$2,I1418,0)","v":" "},null,null,null,null,{"$f":"OFFSET(listy_slownikowe!$AI$2,I1418,0)","v":" "},null,{"$f":"IFERROR(MATCH(D1418,listy_slownikowe!$AH$3:$AH$326,0),0)","v":0},0]
[null,{"$f":"OFFSET(listy_slownikowe!$AG$2,I1419,0)","v":" "},null,null,null,null,{"$f":"OFFSET(listy_slownikowe!$AI$2,I1419,0)","v":" "},null,{"$f":"IFERROR(MATCH(D1419,listy_slownikowe!$AH$3:$AH$326,0),0)","v":0},0]
[null,{"$f":"OFFSET(listy_slownikowe!$AG$2,I1420,0)","v":" "},null,null,null,null,{"$f":"OFFSET(listy_slownikowe!$AI$2,I1420,0)","v":" "},null,{"$f":"IFERROR(MATCH(D1420,listy_slownikowe!$AH$3:$AH$326,0),0)","v":0},0]
[null,{"$f":"OFFSET(listy_slownikowe!$AG$2,I1421,0)","v":" "},null,null,null,null,{"$f":"OFFSET(listy_slownikowe!$AI$2,I1421,0)","v":" "},null,{"$f":"IFERROR(MATCH(D1421,listy_slownikowe!$AH$3:$AH$326,0),0)","v":0},0]
[null,{"$f":"OFFSET(listy_slownikowe!$AG$2,I1422,0)","v":" "},null,null,null,null,{"$f":"OFFSET(listy_slownikowe!$AI$2,I1422,0)","v":" "},null,{"$f":"IFERROR(MATCH(D1422,listy_slownikowe!$AH$3:$AH$326,0),0)","v":0},0]
[null,{"$f":"OFFSET(listy_slownikowe!$AG$2,I1423,0)","v":" "},null,null,null,null,{"$f":"OFFSET(listy_slownikowe!$AI$2,I1423,0)","v":" "},null,{"$f":"IFERROR(MATCH(D1423,listy_slownikowe!$AH$3:$AH$326,0),0)","v":0},0]
[null,{"$f":"OFFSET(listy_slownikowe!$AG$2,I1424,0)","v":" "},null,null,null,null,{"$f":"OFFSET(listy_slownikowe!$AI$2,I1424,0)","v":" "},null,{"$f":"IFERROR(MATCH(D1424,listy_slownikowe!$AH$3:$AH$326,0),0)","v":0},0]
[null,{"$f":"OFFSET(listy_slownikowe!$AG$2,I1425,0)","v":" "},null,"",null,null,{"$f":"OFFSET(listy_slownikowe!$AI$2,I1425,0)","v":" "},null,{"$f":"IFERROR(MATCH(D1425,listy_slownikowe!$AH$3:$AH$326,0),0)","v":0},0]
[null,{"$f":"OFFSET(listy_slownikowe!$AG$2,I1426,0)","v":" "},null,null,null,null,{"$f":"OFFSET(listy_slownikowe!$AI$2,I1426,0)","v":" "},null,{"$f":"IFERROR(MATCH(D1426,listy_slownikowe!$AH$3:$AH$326,0),0)","v":0},0]
[null,"Gatunki dominujące i subdominujące",null,null,null,null,null,null,null,{"$f":"J1428","v":0}]
[null,"nazwa łacińska",null,"nazwa polska",null,null,"udział [%]",null,null,{"$f":"SUM(J1429:J1433)","v":0}]
[null,null,null,null,null,null,null,null,null,{"$f":"COUNTA(B1429:G1429)","v":0}]
[null,null,null,null,null,null,null,null,null,0]
[null,null,null,null,null,null,null,null,null,0]
[null,null,null,null,null,null,null,null,null,0]
[null,null,null,null,null,null,null,null,null,0]
[]
[null,"Spis gatunków numer:",null,null,null,null,{"$f":"G1408+1","v":54},null,null,{"$f":"J1439","v":0}]
[null,"Współrzędne geograficzne",null,null,null,null,null,null,null,{"$f":"J1440","v":0}]
[null,"Długość geograficzna [E] ",null,null,"Szerokość geograficzna [N]",null,null,null,null,{"$f":"J1440","v":0}]
[null,"stopnie","minuty","sekundy","stopnie","minuty","sekundy",null,null,{"$f":"J1439","v":0}]
[null,null,null,null,null,null,null,null,null,{"$f":"J1441+J1455","v":0}]
[null,"Gatunki wskaźnikowe",null,null,null,null,null,null,null,{"$f":"J1441","v":0}]
[null,"nazwa łacińska",null,"nazwa polska",null,null,"walor ",null,null,{"$f":"SUM(J1442:J1453)","v":0}]
[null,{"$f":"OFFSET(listy_slownikowe!$AG$2,I1442,0)","v":" "},null,null,null,null,{"$f":"OFFSET(listy_slownikowe!$AI$2,I1442,0)","v":" "},null,{"$f":"IFERROR(MATCH(D1442,listy_slownikowe!$AH$3:$AH$326,0),0)","v":0},{"$f":"I1442","v":0}]
[null,{"$f":"OFFSET(listy_slownikowe!$AG$2,I1443,0)","v":" "},null,null,null,null,{"$f":"OFFSET(listy_slownikowe!$AI$2,I1443,0)","v":" "},null,{"$f":"IFERROR(MATCH(D1443,listy_slownikowe!$AH$3:$AH$326,0),0)","v":0},{"$f":"I1443","v":0}]
[null,{"$f":"OFFSET(listy_slownikowe!$AG$2,I1444,0)","v":" "},null,null,null,null,{"$f":"OFFSET(listy_slownikowe!$AI$2,I1444,0)","v":" "},null,{"$f":"IFERROR(MATCH(D1444,listy_slownikowe!$AH$3:$AH$326,0),0)","v":0},0]
[null,{"$f":"OFFSET(listy_slownikowe!$AG$2,I1445,0)","v":" "},null,null,null,null,{"$f":"OFFSET(listy_slownikowe!$AI$2,I1445,0)","v":" "},null,{"$f":"IFERROR(MATCH(D1445,listy_slownikowe!$AH$3:$AH$326,0),0)","v":0},0]
[null,{"$f":"OFFSET(listy_slownikowe!$AG$2,I1446,0)","v":" "},null,null,null,null,{"$f":"OFFSET(listy_slownikowe!$AI$2,I1446,0)","v":" "},null,{"$f":"IFERROR(MATCH(D1446,listy_slownikowe!$AH$3:$AH$326,0),0)","v":0},0]
[null,{"$f":"OFFSET(listy_slownikowe!$AG$2,I1447,0)","v":" "},null,null,null,null,{"$f":"OFFSET(listy_slownikowe!$AI$2,I1447,0)","v":" "},null,{"$f":"IFERROR(MATCH(D1447,listy_slownikowe!$AH$3:$AH$326,0),0)","v":0},0]
[null,{"$f":"OFFSET(listy_slownikowe!$AG$2,I1448,0)","v":" "},null,null,null,null,{"$f":"OFFSET(listy_slownikowe!$AI$2,I1448,0)","v":" "},null,{"$f":"IFERROR(MATCH(D1448,listy_slownikowe!$AH$3:$AH$326,0),0)","v":0},0]
[null,{"$f":"OFFSET(listy_slownikowe!$AG$2,I1449,0)","v":" "},null,null,null,null,{"$f":"OFFSET(listy_slownikowe!$AI$2,I1449,0)","v":" "},null,{"$f":"IFERROR(MATCH(D1449,listy_slownikowe!$AH$3:$AH$326,0),0)","v":0},0]
[null,{"$f":"OFFSET(listy_slownikowe!$AG$2,I1450,0)","v":" "},null,null,null,null,{"$f":"OFFSET(listy_slownikowe!$AI$2,I1450,0)","v":" "},null,{"$f":"IFERROR(MATCH(D1450,listy_slownikowe!$AH$3:$AH$326,0),0)","v":0},0]
[null,{"$f":"OFFSET(listy_slownikowe!$AG$2,I1451,0)","v":" "},null,null,null,null,{"$f":"OFFSET(listy_slownikowe!$AI$2,I1451,0)","v":" "},null,{"$f":"IFERROR(MATCH(D1451,listy_slownikowe!$AH$3:$AH$326,0),0)","v":0},0]
[null,{"$f":"OFFSET(listy_slownikowe!$AG$2,I1452,0)","v":" "},null,"",null,null,{"$f":"OFFSET(listy_slownikowe!$AI$2,I1452,0)","v":" "},null,{"$f":"IFERROR(MATCH(D1452,listy_slownikowe!$AH$3:$AH$326,0),0)","v":0},0]
[null,{"$f":"OFFSET(listy_slownikowe!$AG$2,I1453,0)","v":" "},null,null,null,null,{"$f":"OFFSET(listy_slownikowe!$AI$2,I1453,0)","v":" "},null,{"$f":"IFERROR(MATCH(D1453,listy_slownikowe!$AH$3:$AH$326,0),0)","v":0},0]
[null,"Gatunki dominujące i subdominujące",null,null,null,null,null,null,null,{"$f":"J1455","v":0}]
[null,"nazwa łacińska",null,"nazwa polska",null,null,"udział [%]",null,null,{"$f":"SUM(J1456:J1460)","v":0}]
[null,null,null,null,null,null,null,null,null,{"$f":"COUNTA(B1456:G1456)","v":0}]
[null,null,null,null,null,null,null,null,null,0]
[null,null,null,null,null,null,null,null,null,0]
[null,null,null,null,null,null,null,null,null,0]
[null,null,null,null,null,null,null,null,null,0]
[]
[null,"Spis gatunków numer:",null,null,null,null,{"$f":"G1435+1","v":55},null,null,{"$f":"J1466","v":0}]
[null,"Współrzędne geograficzne",null,null,null,null,null,null,null,{"$f":"J1467","v":0}]
[null,"Długość geograficzna [E] ",null,null,"Szerokość geograficzna [N]",null,null,null,null,{"$f":"J1467","v":0}]
[null,"stopnie","minuty","sekundy","stopnie","minuty","sekundy",null,null,{"$f":"J1466","v":0}]
[null,null,null,null,null,null,null,null,null,{"$f":"J1468+J1482","v":0}]
[null,"Gatunki wskaźnikowe",null,null,null,null,null,null,null,{"$f":"J1468","v":0}]
[null,"nazwa łacińska",null,"nazwa polska",null,null,"walor ",null,null,{"$f":"SUM(J1469:J1480)","v":0}]
[null,{"$f":"OFFSET(listy_slownikowe!$AG$2,I1469,0)","v":" "},null,null,null,null,{"$f":"OFFSET(listy_slownikowe!$AI$2,I1469,0)","v":" "},null,{"$f":"IFERROR(MATCH(D1469,listy_slownikowe!$AH$3:$AH$326,0),0)","v":0},{"$f":"I1469","v":0}]
[null,{"$f":"OFFSET(listy_slownikowe!$AG$2,I1470,0)","v":" "},null,null,null,null,{"$f":"OFFSET(listy_slownikowe!$AI$2,I1470,0)","v":" "},null,{"$f":"IFERROR(MATCH(D1470,listy_slownikowe!$AH$3:$AH$326,0),0)","v":0},{"$f":"I1470","v":0}]
[null,{"$f":"OFFSET(listy_slownikowe!$AG$2,I1471,0)","v":" "},null,null,null,null,{"$f":"OFFSET(listy_slownikowe!$AI$2,I1471,0)","v":" "},null,{"$f":"IFERROR(MATCH(D1471,listy_slownikowe!$AH$3:$AH$326,0),0)","v":0},0]
[null,{"$f":"OFFSET(listy_slownikowe!$AG$2,I1472,0)","v":" "},null,null,null,null,{"$f":"OFFSET(listy_slownikowe!$AI$2,I1472,0)","v":" "},null,{"$f":"IFERROR(MATCH(D1472,listy_slownikowe!$AH$3:$AH$326,0),0)","v":0},0]
[null,{"$f":"OFFSET(listy_slownikowe!$AG$2,I1473,0)","v":" "},null,null,null,null,{"$f":"OFFSET(listy_slownikowe!$AI$2,I1473,0)","v":" "},null,{"$f":"IFERROR(MATCH(D1473,listy_slownikowe!$AH$3:$AH$326,0),0)","v":0},0]
[null,{"$f":"OFFSET(listy_slownikowe!$AG$2,I1474,0)","v":" "},null,null,null,null,{"$f":"OFFSET(listy_slownikowe!$AI$2,I1474,0)","v":" "},null,{"$f":"IFERROR(MATCH(D1474,listy_slownikowe!$AH$3:$AH$326,0),0)","v":0},0]
[null,{"$f":"OFFSET(listy_slownikowe!$AG$2,I1475,0)","v":" "},null,null,null,null,{"$f":"OFFSET(listy_slownikowe!$AI$2,I1475,0)","v":" "},null,{"$f":"IFERROR(MATCH(D1475,listy_slownikowe!$AH$3:$AH$326,0),0)","v":0},0]
[null,{"$f":"OFFSET(listy_slownikowe!$AG$2,I1476,0)","v":" "},null,null,null,null,{"$f":"OFFSET(listy_slownikowe!$AI$2,I1476,0)","v":" "},null,{"$f":"IFERROR(MATCH(D1476,listy_slownikowe!$AH$3:$AH$326,0),0)","v":0},0]
[null,{"$f":"OFFSET(listy_slownikowe!$AG$2,I1477,0)","v":" "},null,null,null,null,{"$f":"OFFSET(listy_slownikowe!$AI$2,I1477,0)","v":" "},null,{"$f":"IFERROR(MATCH(D1477,listy_slownikowe!$AH$3:$AH$326,0),0)","v":0},0]
[null,{"$f":"OFFSET(listy_slownikowe!$AG$2,I1478,0)","v":" "},null,null,null,null,{"$f":"OFFSET(listy_slownikowe!$AI$2,I1478,0)","v":" "},null,{"$f":"IFERROR(MATCH(D1478,listy_slownikowe!$AH$3:$AH$326,0),0)","v":0},0]
[null,{"$f":"OFFSET(listy_slownikowe!$AG$2,I1479,0)","v":" "},null,"",null,null,{"$f":"OFFSET(listy_slownikowe!$AI$2,I1479,0)","v":" "},null,{"$f":"IFERROR(MATCH(D1479,listy_slownikowe!$AH$3:$AH$326,0),0)","v":0},0]
[null,{"$f":"OFFSET(listy_slownikowe!$AG$2,I1480,0)","v":" "},null,null,null,null,{"$f":"OFFSET(listy_slownikowe!$AI$2,I1480,0)","v":" "},null,{"$f":"IFERROR(MATCH(D1480,listy_slownikowe!$AH$3:$AH$326,0),0)","v":0},0]
[null,"Gatunki dominujące i subdominujące",null,null,null,null,null,null,null,{"$f":"J1482","v":0}]
[null,"nazwa łacińska",null,"nazwa polska",null,null,"udział [%]",null,null,{"$f":"SUM(J1483:J1487)","v":0}]
[null,null,null,null,null,null,null,null,null,{"$f":"COUNTA(B1483:G1483)","v":0}]
[null,null,null,null,null,null,null,null,null,0]
[null,null,null,null,null,null,null,null,null,0]
[null,null,null,null,null,null,null,null,null,0]
[null,null,null,null,null,null,null,null,null,0]
[]
[null,"Spis gatunków numer:",null,null,null,null,{"$f":"G1462+1","v":56},null,null,{"$f":"J1493","v":0}]
[null,"Współrzędne geograficzne",null,null,null,null,null,null,null,{"$f":"J1494","v":0}]
[null,"Długość geograficzna [E] ",null,null,"Szerokość geograficzna [N]",null,null,null,null,{"$f":"J1494","v":0}]
[null,"stopnie","minuty","sekundy","stopnie","minuty","sekundy",null,null,{"$f":"J1493","v":0}]
[null,null,null,null,null,null,null,null,null,{"$f":"J1495+J1509","v":0}]
[null,"Gatunki wskaźnikowe",null,null,null,null,null,null,null,{"$f":"J1495","v":0}]
[null,"nazwa łacińska",null,"nazwa polska",null,null,"walor ",null,null,{"$f":"SUM(J1496:J1507)","v":0}]
[null,{"$f":"OFFSET(listy_slownikowe!$AG$2,I1496,0)","v":" "},null,null,null,null,{"$f":"OFFSET(listy_slownikowe!$AI$2,I1496,0)","v":" "},null,{"$f":"IFERROR(MATCH(D1496,listy_slownikowe!$AH$3:$AH$326,0),0)","v":0},{"$f":"I1496","v":0}]
[null,{"$f":"OFFSET(listy_slownikowe!$AG$2,I1497,0)","v":" "},null,null,null,null,{"$f":"OFFSET(listy_slownikowe!$AI$2,I1497,0)","v":" "},null,{"$f":"IFERROR(MATCH(D1497,listy_slownikowe!$AH$3:$AH$326,0),0)","v":0},{"$f":"I1497","v":0}]
[null,{"$f":"OFFSET(listy_slownikowe!$AG$2,I1498,0)","v":" "},null,null,null,null,{"$f":"OFFSET(listy_slownikowe!$AI$2,I1498,0)","v":" "},null,{"$f":"IFERROR(MATCH(D1498,listy_slownikowe!$AH$3:$AH$326,0),0)","v":0},0]
[null,{"$f":"OFFSET(listy_slownikowe!$AG$2,I1499,0)","v":" "},null,null,null,null,{"$f":"OFFSET(listy_slownikowe!$AI$2,I1499,0)","v":" "},null,{"$f":"IFERROR(MATCH(D1499,listy_slownikowe!$AH$3:$AH$326,0),0)","v":0},0]
[null,{"$f":"OFFSET(listy_slownikowe!$AG$2,I1500,0)","v":" "},null,null,null,null,{"$f":"OFFSET(listy_slownikowe!$AI$2,I1500,0)","v":" "},null,{"$f":"IFERROR(MATCH(D1500,listy_slownikowe!$AH$3:$AH$326,0),0)","v":0},0]
[null,{"$f":"OFFSET(listy_slownikowe!$AG$2,I1501,0)","v":" "},null,null,null,null,{"$f":"OFFSET(listy_slownikowe!$AI$2,I1501,0)","v":" "},null,{"$f":"IFERROR(MATCH(D1501,listy_slownikowe!$AH$3:$AH$326,0),0)","v":0},0]
[null,{"$f":"OFFSET(listy_slownikowe!$AG$2,I1502,0)","v":" "},null,null,null,null,{"$f":"OFFSET(listy_slownikowe!$AI$2,I1502,0)","v":" "},null,{"$f":"IFERROR(MATCH(D1502,listy_slownikowe!$AH$3:$AH$326,0),0)","v":0},0]
[null,{"$f":"OFFSET(listy_slownikowe!$AG$2,I1503,0)","v":" "},null,null,null,null,{"$f":"OFFSET(listy_slownikowe!$AI$2,I1503,0)","v":" "},null,{"$f":"IFERROR(MATCH(D1503,listy_slownikowe!$AH$3:$AH$326,0),0)","v":0},0]
[null,{"$f":"OFFSET(listy_slownikowe!$AG$2,I1504,0)","v":" "},null,null,null,null,{"$f":"OFFSET(listy_slownikowe!$AI$2,I1504,0)","v":" "},null,{"$f":"IFERROR(MATCH(D1504,listy_slownikowe!$AH$3:$AH$326,0),0)","v":0},0]
[null,{"$f":"OFFSET(listy_slownikowe!$AG$2,I1505,0)","v":" "},null,null,null,null,{"$f":"OFFSET(listy_slownikowe!$AI$2,I1505,0)","v":" "},null,{"$f":"IFERROR(MATCH(D1505,listy_slownikowe!$AH$3:$AH$326,0),0)","v":0},0]
[null,{"$f":"OFFSET(listy_slownikowe!$AG$2,I1506,0)","v":" "},null,"",null,null,{"$f":"OFFSET(listy_slownikowe!$AI$2,I1506,0)","v":" "},null,{"$f":"IFERROR(MATCH(D1506,listy_slownikowe!$AH$3:$AH$326,0),0)","v":0},0]
[null,{"$f":"OFFSET(listy_slownikowe!$AG$2,I1507,0)","v":" "},null,null,null,null,{"$f":"OFFSET(listy_slownikowe!$AI$2,I1507,0)","v":" "},null,{"$f":"IFERROR(MATCH(D1507,listy_slownikowe!$AH$3:$AH$326,0),0)","v":0},0]
[null,"Gatunki dominujące i subdominujące",null,null,null,null,null,null,null,{"$f":"J1509","v":0}]
[null,"nazwa łacińska",null,"nazwa polska",null,null,"udział [%]",null,null,{"$f":"SUM(J1510:J1514)","v":0}]
[null,null,null,null,null,null,null,null,null,{"$f":"COUNTA(B1510:G1510)","v":0}]
[null,null,null,null,null,null,null,null,null,0]
[null,null,null,null,null,null,null,null,null,0]
[null,null,null,null,null,null,null,null,null,0]
[null,null,null,null,null,null,null,null,null,0]
[]
[null,"Spis gatunków numer:",null,null,null,null,{"$f":"G1489+1","v":57},null,null,{"$f":"J1520","v":0}]
[null,"Współrzędne geograficzne",null,null,null,null,null,null,null,{"$f":"J1521","v":0}]
[null,"Długość geograficzna [E] ",null,null,"Szerokość geograficzna [N]",null,null,null,null,{"$f":"J1521","v":0}]
[null,"stopnie","minuty","sekundy","stopnie","minuty","sekundy",null,null,{"$f":"J1520","v":0}]
[null,null,null,null,null,null,null,null,null,{"$f":"J1522+J1536","v":0}]
[null,"Gatunki wskaźnikowe",null,null,null,null,null,null,null,{"$f":"J1522","v":0}]
[null,"nazwa łacińska",null,"nazwa polska",null,null,"walor ",null,null,{"$f":"SUM(J1523:J1534)","v":0}]
[null,{"$f":"OFFSET(listy_slownikowe!$AG$2,I1523,0)","v":" "},null,null,null,null,{"$f":"OFFSET(listy_slownikowe!$AI$2,I1523,0)","v":" "},null,{"$f":"IFERROR(MATCH(D1523,listy_slownikowe!$AH$3:$AH$326,0),0)","v":0},{"$f":"I1523","v":0}]
[null,{"$f":"OFFSET(listy_slownikowe!$AG$2,I1524,0)","v":" "},null,null,null,null,{"$f":"OFFSET(listy_slownikowe!$AI$2,I1524,0)","v":" "},null,{"$f":"IFERROR(MATCH(D1524,listy_slownikowe!$AH$3:$AH$326,0),0)","v":0},{"$f":"I1524","v":0}]
[null,{"$f":"OFFSET(listy_slownikowe!$AG$2,I1525,0)","v":" "},null,null,null,null,{"$f":"OFFSET(listy_slownikowe!$AI$2,I1525,0)","v":" "},null,{"$f":"IFERROR(MATCH(D1525,listy_slownikowe!$AH$3:$AH$326,0),0)","v":0},0]
[null,{"$f":"OFFSET(listy_slownikowe!$AG$2,I1526,0)","v":" "},null,null,null,null,{"$f":"OFFSET(listy_slownikowe!$AI$2,I1526,0)","v":" "},null,{"$f":"IFERROR(MATCH(D1526,listy_slownikowe!$AH$3:$AH$326,0),0)","v":0},0]
[null,{"$f":"OFFSET(listy_slownikowe!$AG$2,I1527,0)","v":" "},null,null,null,null,{"$f":"OFFSET(listy_slownikowe!$AI$2,I1527,0)","v":" "},null,{"$f":"IFERROR(MATCH(D1527,listy_slownikowe!$AH$3:$AH$326,0),0)","v":0},0]
[null,{"$f":"OFFSET(listy_slownikowe!$AG$2,I1528,0)","v":" "},null,null,null,null,{"$f":"OFFSET(listy_slownikowe!$AI$2,I1528,0)","v":" "},null,{"$f":"IFERROR(MATCH(D1528,listy_slownikowe!$AH$3:$AH$326,0),0)","v":0},0]
[null,{"$f":"OFFSET(listy_slownikowe!$AG$2,I1529,0)","v":" "},null,null,null,null,{"$f":"OFFSET(listy_slownikowe!$AI$2,I1529,0)","v":" "},null,{"$f":"IFERROR(MATCH(D1529,listy_slownikowe!$AH$3:$AH$326,0),0)","v":0},0]
[null,{"$f":"OFFSET(listy_slownikowe!$AG$2,I1530,0)","v":" "},null,null,null,null,{"$f":"OFFSET(listy_slownikowe!$AI$2,I1530,0)","v":" "},null,{"$f":"IFERROR(MATCH(D1530,listy_slownikowe!$AH$3:$AH$326,0),0)","v":0},0]
[null,{"$f":"OFFSET(listy_slownikowe!$AG$2,I1531,0)","v":" "},null,null,null,null,{"$f":"OFFSET(listy_slownikowe!$AI$2,I1531,0)","v":" "},null,{"$f":"IFERROR(MATCH(D1531,listy_slownikowe!$AH$3:$AH$326,0),0)","v":0},0]
[null,{"$f":"OFFSET(listy_slownikowe!$AG$2,I1532,0)","v":" "},null,null,null,null,{"$f":"OFFSET(listy_slownikowe!$AI$2,I1532,0)","v":" "},null,{"$f":"IFERROR(MATCH(D1532,listy_slownikowe!$AH$3:$AH$326,0),0)","v":0},0]
[null,{"$f":"OFFSET(listy_slownikowe!$AG$2,I1533,0)","v":" "},null,"",null,null,{"$f":"OFFSET(listy_slownikowe!$AI$2,I1533,0)","v":" "},null,{"$f":"IFERROR(MATCH(D1533,listy_slownikowe!$AH$3:$AH$326,0),0)","v":0},0]
[null,{"$f":"OFFSET(listy_slownikowe!$AG$2,I1534,0)","v":" "},null,null,null,null,{"$f":"OFFSET(listy_slownikowe!$AI$2,I1534,0)","v":" "},null,{"$f":"IFERROR(MATCH(D1534,listy_slownikowe!$AH$3:$AH$326,0),0)","v":0},0]
[null,"Gatunki dominujące i subdominujące",null,null,null,null,null,null,null,{"$f":"J1536","v":0}]
[null,"nazwa łacińska",null,"nazwa polska",null,null,"udział [%]",null,null,{"$f":"SUM(J1537:J1541)","v":0}]
[null,null,null,null,null,null,null,null,null,{"$f":"COUNTA(B1537:G1537)","v":0}]
[null,null,null,null,null,null,null,null,null,0]
[null,null,null,null,null,null,null,null,null,0]
[null,null,null,null,null,null,null,null,null,0]
[null,null,null,null,null,null,null,null,null,0]
[]
[null,"Spis gatunków numer:",null,null,null,null,{"$f":"G1516+1","v":58},null,null,{"$f":"J1547","v":0}]
[null,"Współrzędne geograficzne",null,null,null,null,null,null,null,{"$f":"J1548","v":0}]
[null,"Długość geograficzna [E] ",null,null,"Szerokość geograficzna [N]",null,null,null,null,{"$f":"J1548","v":0}]
[null,"stopnie","minuty","sekundy","stopnie","minuty","sekundy",null,null,{"$f":"J1547","v":0}]
[null,null,null,null,null,null,null,null,null,{"$f":"J1549+J1563","v":0}]
[null,"Gatunki wskaźnikowe",null,null,null,null,null,null,null,{"$f":"J1549","v":0}]
[null,"nazwa łacińska",null,"nazwa polska",null,null,"walor ",null,null,{"$f":"SUM(J1550:J1561)","v":0}]
[null,{"$f":"OFFSET(listy_slownikowe!$AG$2,I1550,0)","v":" "},null,null,null,null,{"$f":"OFFSET(listy_slownikowe!$AI$2,I1550,0)","v":" "},null,{"$f":"IFERROR(MATCH(D1550,listy_slownikowe!$AH$3:$AH$326,0),0)","v":0},{"$f":"I1550","v":0}]
[null,{"$f":"OFFSET(listy_slownikowe!$AG$2,I1551,0)","v":" "},null,null,null,null,{"$f":"OFFSET(listy_slownikowe!$AI$2,I1551,0)","v":" "},null,{"$f":"IFERROR(MATCH(D1551,listy_slownikowe!$AH$3:$AH$326,0),0)","v":0},{"$f":"I1551","v":0}]
[null,{"$f":"OFFSET(listy_slownikowe!$AG$2,I1552,0)","v":" "},null,null,null,null,{"$f":"OFFSET(listy_slownikowe!$AI$2,I1552,0)","v":" "},null,{"$f":"IFERROR(MATCH(D1552,listy_slownikowe!$AH$3:$AH$326,0),0)","v":0},0]
[null,{"$f":"OFFSET(listy_slownikowe!$AG$2,I1553,0)","v":" "},null,null,null,null,{"$f":"OFFSET(listy_slownikowe!$AI$2,I1553,0)","v":" "},null,{"$f":"IFERROR(MATCH(D1553,listy_slownikowe!$AH$3:$AH$326,0),0)","v":0},0]
[null,{"$f":"OFFSET(listy_slownikowe!$AG$2,I1554,0)","v":" "},null,null,null,null,{"$f":"OFFSET(listy_slownikowe!$AI$2,I1554,0)","v":" "},null,{"$f":"IFERROR(MATCH(D1554,listy_slownikowe!$AH$3:$AH$326,0),0)","v":0},0]
[null,{"$f":"OFFSET(listy_slownikowe!$AG$2,I1555,0)","v":" "},null,null,null,null,{"$f":"OFFSET(listy_slownikowe!$AI$2,I1555,0)","v":" "},null,{"$f":"IFERROR(MATCH(D1555,listy_slownikowe!$AH$3:$AH$326,0),0)","v":0},0]
[null,{"$f":"OFFSET(listy_slownikowe!$AG$2,I1556,0)","v":" "},null,null,null,null,{"$f":"OFFSET(listy_slownikowe!$AI$2,I1556,0)","v":" "},null,{"$f":"IFERROR(MATCH(D1556,listy_slownikowe!$AH$3:$AH$326,0),0)","v":0},0]
[null,{"$f":"OFFSET(listy_slownikowe!$AG$2,I1557,0)","v":" "},null,null,null,null,{"$f":"OFFSET(listy_slownikowe!$AI$2,I1557,0)","v":" "},null,{"$f":"IFERROR(MATCH(D1557,listy_slownikowe!$AH$3:$AH$326,0),0)","v":0},0]
[null,{"$f":"OFFSET(listy_slownikowe!$AG$2,I1558,0)","v":" "},null,null,null,null,{"$f":"OFFSET(listy_slownikowe!$AI$2,I1558,0)","v":" "},null,{"$f":"IFERROR(MATCH(D1558,listy_slownikowe!$AH$3:$AH$326,0),0)","v":0},0]
[null,{"$f":"OFFSET(listy_slownikowe!$AG$2,I1559,0)","v":" "},null,null,null,null,{"$f":"OFFSET(listy_slownikowe!$AI$2,I1559,0)","v":" "},null,{"$f":"IFERROR(MATCH(D1559,listy_slownikowe!$AH$3:$AH$326,0),0)","v":0},0]
[null,{"$f":"OFFSET(listy_slownikowe!$AG$2,I1560,0)","v":" "},null,"",null,null,{"$f":"OFFSET(listy_slownikowe!$AI$2,I1560,0)","v":" "},null,{"$f":"IFERROR(MATCH(D1560,listy_slownikowe!$AH$3:$AH$326,0),0)","v":0},0]
[null,{"$f":"OFFSET(listy_slownikowe!$AG$2,I1561,0)","v":" "},null,null,null,null,{"$f":"OFFSET(listy_slownikowe!$AI$2,I1561,0)","v":" "},null,{"$f":"IFERROR(MATCH(D1561,listy_slownikowe!$AH$3:$AH$326,0),0)","v":0},0]
[null,"Gatunki dominujące i subdominujące",null,null,null,null,null,null,null,{"$f":"J1563","v":0}]
[null,"nazwa łacińska",null,"nazwa polska",null,null,"udział [%]",null,null,{"$f":"SUM(J1564:J1568)","v":0}]
[null,null,null,null,null,null,null,null,null,{"$f":"COUNTA(B1564:G1564)","v":0}]
[null,null,null,null,null,null,null,null,null,0]
[null,null,null,null,null,null,null,null,null,0]
[null,null,null,null,null,null,null,null,null,0]
[null,null,null,null,null,null,null,null,null,0]
[]
[null,"Spis gatunków numer:",null,null,null,null,{"$f":"G1543+1","v":59},null,null,{"$f":"J1574","v":0}]
[null,"Współrzędne geograficzne",null,null,null,null,null,null,null,{"$f":"J1575","v":0}]
[null,"Długość geograficzna [E] ",null,null,"Szerokość geograficzna [N]",null,null,null,null,{"$f":"J1575","v":0}]
[null,"stopnie","minuty","sekundy","stopnie","minuty","sekundy",null,null,{"$f":"J1574","v":0}]
[null,null,null,null,null,null,null,null,null,{"$f":"J1576+J1590","v":0}]
[null,"Gatunki wskaźnikowe",null,null,null,null,null,null,null,{"$f":"J1576","v":0}]
[null,"nazwa łacińska",null,"nazwa polska",null,null,"walor ",null,null,{"$f":"SUM(J1577:J1588)","v":0}]
[null,{"$f":"OFFSET(listy_slownikowe!$AG$2,I1577,0)","v":" "},null,null,null,null,{"$f":"OFFSET(listy_slownikowe!$AI$2,I1577,0)","v":" "},null,{"$f":"IFERROR(MATCH(D1577,listy_slownikowe!$AH$3:$AH$326,0),0)","v":0},{"$f":"I1577","v":0}]
[null,{"$f":"OFFSET(listy_slownikowe!$AG$2,I1578,0)","v":" "},null,null,null,null,{"$f":"OFFSET(listy_slownikowe!$AI$2,I1578,0)","v":" "},null,{"$f":"IFERROR(MATCH(D1578,listy_slownikowe!$AH$3:$AH$326,0),0)","v":0},{"$f":"I1578","v":0}]
[null,{"$f":"OFFSET(listy_slownikowe!$AG$2,I1579,0)","v":" "},null,null,null,null,{"$f":"OFFSET(listy_slownikowe!$AI$2,I1579,0)","v":" "},null,{"$f":"IFERROR(MATCH(D1579,listy_slownikowe!$AH$3:$AH$326,0),0)","v":0},0]
[null,{"$f":"OFFSET(listy_slownikowe!$AG$2,I1580,0)","v":" "},null,null,null,null,{"$f":"OFFSET(listy_slownikowe!$AI$2,I1580,0)","v":" "},null,{"$f":"IFERROR(MATCH(D1580,listy_slownikowe!$AH$3:$AH$326,0),0)","v":0},0]
[null,{"$f":"OFFSET(listy_slownikowe!$AG$2,I1581,0)","v":" "},null,null,null,null,{"$f":"OFFSET(listy_slownikowe!$AI$2,I1581,0)","v":" "},null,{"$f":"IFERROR(MATCH(D1581,listy_slownikowe!$AH$3:$AH$326,0),0)","v":0},0]
[null,{"$f":"OFFSET(listy_slownikowe!$AG$2,I1582,0)","v":" "},null,null,null,null,{"$f":"OFFSET(listy_slownikowe!$AI$2,I1582,0)","v":" "},null,{"$f":"IFERROR(MATCH(D1582,listy_slownikowe!$AH$3:$AH$326,0),0)","v":0},0]
[null,{"$f":"OFFSET(listy_slownikowe!$AG$2,I1583,0)","v":" "},null,null,null,null,{"$f":"OFFSET(listy_slownikowe!$AI$2,I1583,0)","v":" "},null,{"$f":"IFERROR(MATCH(D1583,listy_slownikowe!$AH$3:$AH$326,0),0)","v":0},0]
[null,{"$f":"OFFSET(listy_slownikowe!$AG$2,I1584,0)","v":" "},null,null,null,null,{"$f":"OFFSET(listy_slownikowe!$AI$2,I1584,0)","v":" "},null,{"$f":"IFERROR(MATCH(D1584,listy_slownikowe!$AH$3:$AH$326,0),0)","v":0},0]
[null,{"$f":"OFFSET(listy_slownikowe!$AG$2,I1585,0)","v":" "},null,null,null,null,{"$f":"OFFSET(listy_slownikowe!$AI$2,I1585,0)","v":" "},null,{"$f":"IFERROR(MATCH(D1585,listy_slownikowe!$AH$3:$AH$326,0),0)","v":0},0]
[null,{"$f":"OFFSET(listy_slownikowe!$AG$2,I1586,0)","v":" "},null,null,null,null,{"$f":"OFFSET(listy_slownikowe!$AI$2,I1586,0)","v":" "},null,{"$f":"IFERROR(MATCH(D1586,listy_slownikowe!$AH$3:$AH$326,0),0)","v":0},0]
[null,{"$f":"OFFSET(listy_slownikowe!$AG$2,I1587,0)","v":" "},null,"",null,null,{"$f":"OFFSET(listy_slownikowe!$AI$2,I1587,0)","v":" "},null,{"$f":"IFERROR(MATCH(D1587,listy_slownikowe!$AH$3:$AH$326,0),0)","v":0},0]
[null,{"$f":"OFFSET(listy_slownikowe!$AG$2,I1588,0)","v":" "},null,null,null,null,{"$f":"OFFSET(listy_slownikowe!$AI$2,I1588,0)","v":" "},null,{"$f":"IFERROR(MATCH(D1588,listy_slownikowe!$AH$3:$AH$326,0),0)","v":0},0]
[null,"Gatunki dominujące i subdominujące",null,null,null,null,null,null,null,{"$f":"J1590","v":0}]
[null,"nazwa łacińska",null,"nazwa polska",null,null,"udział [%]",null,null,{"$f":"SUM(J1591:J1595)","v":0}]
[null,null,null,null,null,null,null,null,null,{"$f":"COUNTA(B1591:G1591)","v":0}]
[null,null,null,null,null,null,null,null,null,0]
[null,null,null,null,null,null,null,null,null,0]
[null,null,null,null,null,null,null,null,null,0]
[null,null,null,null,null,null,null,null,null,0]
[]
[null,"Spis gatunków numer:",null,null,null,null,{"$f":"G1570+1","v":60},null,null,{"$f":"J1601","v":0}]
[null,"Współrzędne geograficzne",null,null,null,null,null,null,null,{"$f":"J1602","v":0}]
[null,"Długość geograficzna [E] ",null,null,"Szerokość geograficzna [N]",null,null,null,null,{"$f":"J1602","v":0}]
[null,"stopnie","minuty","sekundy","stopnie","minuty","sekundy",null,null,{"$f":"J1601","v":0}]
[null,null,null,null,null,null,null,null,null,{"$f":"J1603+J1617","v":0}]
[null,"Gatunki wskaźnikowe",null,null,null,null,null,null,null,{"$f":"J1603","v":0}]
[null,"nazwa łacińska",null,"nazwa polska",null,null,"walor ",null,null,{"$f":"SUM(J1604:J1615)","v":0}]
[null,{"$f":"OFFSET(listy_slownikowe!$AG$2,I1604,0)","v":" "},null,null,null,null,{"$f":"OFFSET(listy_slownikowe!$AI$2,I1604,0)","v":" "},null,{"$f":"IFERROR(MATCH(D1604,listy_slownikowe!$AH$3:$AH$326,0),0)","v":0},{"$f":"I1604","v":0}]
[null,{"$f":"OFFSET(listy_slownikowe!$AG$2,I1605,0)","v":" "},null,null,null,null,{"$f":"OFFSET(listy_slownikowe!$AI$2,I1605,0)","v":" "},null,{"$f":"IFERROR(MATCH(D1605,listy_slownikowe!$AH$3:$AH$326,0),0)","v":0},{"$f":"I1605","v":0}]
[null,{"$f":"OFFSET(listy_slownikowe!$AG$2,I1606,0)","v":" "},null,null,null,null,{"$f":"OFFSET(listy_slownikowe!$AI$2,I1606,0)","v":" "},null,{"$f":"IFERROR(MATCH(D1606,listy_slownikowe!$AH$3:$AH$326,0),0)","v":0},0]
[null,{"$f":"OFFSET(listy_slownikowe!$AG$2,I1607,0)","v":" "},null,null,null,null,{"$f":"OFFSET(listy_slownikowe!$AI$2,I1607,0)","v":" "},null,{"$f":"IFERROR(MATCH(D1607,listy_slownikowe!$AH$3:$AH$326,0),0)","v":0},0]
[null,{"$f":"OFFSET(listy_slownikowe!$AG$2,I1608,0)","v":" "},null,null,null,null,{"$f":"OFFSET(listy_slownikowe!$AI$2,I1608,0)","v":" "},null,{"$f":"IFERROR(MATCH(D1608,listy_slownikowe!$AH$3:$AH$326,0),0)","v":0},0]
[null,{"$f":"OFFSET(listy_slownikowe!$AG$2,I1609,0)","v":" "},null,null,null,null,{"$f":"OFFSET(listy_slownikowe!$AI$2,I1609,0)","v":" "},null,{"$f":"IFERROR(MATCH(D1609,listy_slownikowe!$AH$3:$AH$326,0),0)","v":0},0]
[null,{"$f":"OFFSET(listy_slownikowe!$AG$2,I1610,0)","v":" "},null,null,null,null,{"$f":"OFFSET(listy_slownikowe!$AI$2,I1610,0)","v":" "},null,{"$f":"IFERROR(MATCH(D1610,listy_slownikowe!$AH$3:$AH$326,0),0)","v":0},0]
[null,{"$f":"OFFSET(listy_slownikowe!$AG$2,I1611,0)","v":" "},null,null,null,null,{"$f":"OFFSET(listy_slownikowe!$AI$2,I1611,0)","v":" "},null,{"$f":"IFERROR(MATCH(D1611,listy_slownikowe!$AH$3:$AH$326,0),0)","v":0},0]
[null,{"$f":"OFFSET(listy_slownikowe!$AG$2,I1612,0)","v":" "},null,null,null,null,{"$f":"OFFSET(listy_slownikowe!$AI$2,I1612,0)","v":" "},null,{"$f":"IFERROR(MATCH(D1612,listy_slownikowe!$AH$3:$AH$326,0),0)","v":0},0]
[null,{"$f":"OFFSET(listy_slownikowe!$AG$2,I1613,0)","v":" "},null,null,null,null,{"$f":"OFFSET(listy_slownikowe!$AI$2,I1613,0)","v":" "},null,{"$f":"IFERROR(MATCH(D1613,listy_slownikowe!$AH$3:$AH$326,0),0)","v":0},0]
[null,{"$f":"OFFSET(listy_slownikowe!$AG$2,I1614,0)","v":" "},null,"",null,null,{"$f":"OFFSET(listy_slownikowe!$AI$2,I1614,0)","v":" "},null,{"$f":"IFERROR(MATCH(D1614,listy_slownikowe!$AH$3:$AH$326,0),0)","v":0},0]
[null,{"$f":"OFFSET(listy_slownikowe!$AG$2,I1615,0)","v":" "},null,null,null,null,{"$f":"OFFSET(listy_slownikowe!$AI$2,I1615,0)","v":" "},null,{"$f":"IFERROR(MATCH(D1615,listy_slownikowe!$AH$3:$AH$326,0),0)","v":0},0]
[null,"Gatunki dominujące i subdominujące",null,null,null,null,null,null,null,{"$f":"J1617","v":0}]
[null,"nazwa łacińska",null,"nazwa polska",null,null,"udział [%]",null,null,{"$f":"SUM(J1618:J1622)","v":0}]
[null,null,null,null,null,null,null,null,null,{"$f":"COUNTA(B1618:G1618)","v":0}]
[null,null,null,null,null,null,null,null,null,0]
[null,null,null,null,null,null,null,null,null,0]
[null,null,null,null,null,null,null,null,null,0]
[null,null,null,null,null,null,null,null,null,0]
[]
[null,"Spis gatunków numer:",null,null,null,null,{"$f":"G1597+1","v":61},null,null,{"$f":"J1628","v":0}]
[null,"Współrzędne geograficzne",null,null,null,null,null,null,null,{"$f":"J1629","v":0}]
[null,"Długość geograficzna [E] ",null,null,"Szerokość geograficzna [N]",null,null,null,null,{"$f":"J1629","v":0}]
[null,"stopnie","minuty","sekundy","stopnie","minuty","sekundy",null,null,{"$f":"J1628","v":0}]
[null,null,null,null,null,null,null,null,null,{"$f":"J1630+J1644","v":0}]
[null,"Gatunki wskaźnikowe",null,null,null,null,null,null,null,{"$f":"J1630","v":0}]
[null,"nazwa łacińska",null,"nazwa polska",null,null,"walor ",null,null,{"$f":"SUM(J1631:J1642)","v":0}]
[null,{"$f":"OFFSET(listy_slownikowe!$AG$2,I1631,0)","v":" "},null,null,null,null,{"$f":"OFFSET(listy_slownikowe!$AI$2,I1631,0)","v":" "},null,{"$f":"IFERROR(MATCH(D1631,listy_slownikowe!$AH$3:$AH$326,0),0)","v":0},{"$f":"I1631","v":0}]
[null,{"$f":"OFFSET(listy_slownikowe!$AG$2,I1632,0)","v":" "},null,null,null,null,{"$f":"OFFSET(listy_slownikowe!$AI$2,I1632,0)","v":" "},null,{"$f":"IFERROR(MATCH(D1632,listy_slownikowe!$AH$3:$AH$326,0),0)","v":0},{"$f":"I1632","v":0}]
[null,{"$f":"OFFSET(listy_slownikowe!$AG$2,I1633,0)","v":" "},null,null,null,null,{"$f":"OFFSET(listy_slownikowe!$AI$2,I1633,0)","v":" "},null,{"$f":"IFERROR(MATCH(D1633,listy_slownikowe!$AH$3:$AH$326,0),0)","v":0},0]
[null,{"$f":"OFFSET(listy_slownikowe!$AG$2,I1634,0)","v":" "},null,null,null,null,{"$f":"OFFSET(listy_slownikowe!$AI$2,I1634,0)","v":" "},null,{"$f":"IFERROR(MATCH(D1634,listy_slownikowe!$AH$3:$AH$326,0),0)","v":0},0]
[null,{"$f":"OFFSET(listy_slownikowe!$AG$2,I1635,0)","v":" "},null,null,null,null,{"$f":"OFFSET(listy_slownikowe!$AI$2,I1635,0)","v":" "},null,{"$f":"IFERROR(MATCH(D1635,listy_slownikowe!$AH$3:$AH$326,0),0)","v":0},0]
[null,{"$f":"OFFSET(listy_slownikowe!$AG$2,I1636,0)","v":" "},null,null,null,null,{"$f":"OFFSET(listy_slownikowe!$AI$2,I1636,0)","v":" "},null,{"$f":"IFERROR(MATCH(D1636,listy_slownikowe!$AH$3:$AH$326,0),0)","v":0},0]
[null,{"$f":"OFFSET(listy_slownikowe!$AG$2,I1637,0)","v":" "},null,null,null,null,{"$f":"OFFSET(listy_slownikowe!$AI$2,I1637,0)","v":" "},null,{"$f":"IFERROR(MATCH(D1637,listy_slownikowe!$AH$3:$AH$326,0),0)","v":0},0]
[null,{"$f":"OFFSET(listy_slownikowe!$AG$2,I1638,0)","v":" "},null,null,null,null,{"$f":"OFFSET(listy_slownikowe!$AI$2,I1638,0)","v":" "},null,{"$f":"IFERROR(MATCH(D1638,listy_slownikowe!$AH$3:$AH$326,0),0)","v":0},0]
[null,{"$f":"OFFSET(listy_slownikowe!$AG$2,I1639,0)","v":" "},null,null,null,null,{"$f":"OFFSET(listy_slownikowe!$AI$2,I1639,0)","v":" "},null,{"$f":"IFERROR(MATCH(D1639,listy_slownikowe!$AH$3:$AH$326,0),0)","v":0},0]
[null,{"$f":"OFFSET(listy_slownikowe!$AG$2,I1640,0)","v":" "},null,null,null,null,{"$f":"OFFSET(listy_slownikowe!$AI$2,I1640,0)","v":" "},null,{"$f":"IFERROR(MATCH(D1640,listy_slownikowe!$AH$3:$AH$326,0),0)","v":0},0]
[null,{"$f":"OFFSET(listy_slownikowe!$AG$2,I1641,0)","v":" "},null,"",null,null,{"$f":"OFFSET(listy_slownikowe!$AI$2,I1641,0)","v":" "},null,{"$f":"IFERROR(MATCH(D1641,listy_slownikowe!$AH$3:$AH$326,0),0)","v":0},0]
[null,{"$f":"OFFSET(listy_slownikowe!$AG$2,I1642,0)","v":" "},null,null,null,null,{"$f":"OFFSET(listy_slownikowe!$AI$2,I1642,0)","v":" "},null,{"$f":"IFERROR(MATCH(D1642,listy_slownikowe!$AH$3:$AH$326,0),0)","v":0},0]
[null,"Gatunki dominujące i subdominujące",null,null,null,null,null,null,null,{"$f":"J1644","v":0}]
[null,"nazwa łacińska",null,"nazwa polska",null,null,"udział [%]",null,null,{"$f":"SUM(J1645:J1649)","v":0}]
[null,null,null,null,null,null,null,null,null,{"$f":"COUNTA(B1645:G1645)","v":0}]
[null,null,null,null,null,null,null,null,null,0]
[null,null,null,null,null,null,null,null,null,0]
[null,null,null,null,null,null,null,null,null,0]
[null,null,null,null,null,null,null,null,null,0]
[]
[null,"Spis gatunków numer:",null,null,null,null,{"$f":"G1624+1","v":62},null,null,{"$f":"J1655","v":0}]
[null,"Współrzędne geograficzne",null,null,null,null,null,null,null,{"$f":"J1656","v":0}]
[null,"Długość geograficzna [E] ",null,null,"Szerokość geograficzna [N]",null,null,null,null,{"$f":"J1656","v":0}]
[null,"stopnie","minuty","sekundy","stopnie","minuty","sekundy",null,null,{"$f":"J1655","v":0}]
[null,null,null,null,null,null,null,null,null,{"$f":"J1657+J1671","v":0}]
[null,"Gatunki wskaźnikowe",null,null,null,null,null,null,null,{"$f":"J1657","v":0}]
[null,"nazwa łacińska",null,"nazwa polska",null,null,"walor ",null,null,{"$f":"SUM(J1658:J1669)","v":0}]
[null,{"$f":"OFFSET(listy_slownikowe!$AG$2,I1658,0)","v":" "},null,null,null,null,{"$f":"OFFSET(listy_slownikowe!$AI$2,I1658,0)","v":" "},null,{"$f":"IFERROR(MATCH(D1658,listy_slownikowe!$AH$3:$AH$326,0),0)","v":0},{"$f":"I1658","v":0}]
[null,{"$f":"OFFSET(listy_slownikowe!$AG$2,I1659,0)","v":" "},null,null,null,null,{"$f":"OFFSET(listy_slownikowe!$AI$2,I1659,0)","v":" "},null,{"$f":"IFERROR(MATCH(D1659,listy_slownikowe!$AH$3:$AH$326,0),0)","v":0},{"$f":"I1659","v":0}]
[null,{"$f":"OFFSET(listy_slownikowe!$AG$2,I1660,0)","v":" "},null,null,null,null,{"$f":"OFFSET(listy_slownikowe!$AI$2,I1660,0)","v":" "},null,{"$f":"IFERROR(MATCH(D1660,listy_slownikowe!$AH$3:$AH$326,0),0)","v":0},0]
[null,{"$f":"OFFSET(listy_slownikowe!$AG$2,I1661,0)","v":" "},null,null,null,null,{"$f":"OFFSET(listy_slownikowe!$AI$2,I1661,0)","v":" "},null,{"$f":"IFERROR(MATCH(D1661,listy_slownikowe!$AH$3:$AH$326,0),0)","v":0},0]
[null,{"$f":"OFFSET(listy_slownikowe!$AG$2,I1662,0)","v":" "},null,null,null,null,{"$f":"OFFSET(listy_slownikowe!$AI$2,I1662,0)","v":" "},null,{"$f":"IFERROR(MATCH(D1662,listy_slownikowe!$AH$3:$AH$326,0),0)","v":0},0]
[null,{"$f":"OFFSET(listy_slownikowe!$AG$2,I1663,0)","v":" "},null,null,null,null,{"$f":"OFFSET(listy_slownikowe!$AI$2,I1663,0)","v":" "},null,{"$f":"IFERROR(MATCH(D1663,listy_slownikowe!$AH$3:$AH$326,0),0)","v":0},0]
[null,{"$f":"OFFSET(listy_slownikowe!$AG$2,I1664,0)","v":" "},null,null,null,null,{"$f":"OFFSET(listy_slownikowe!$AI$2,I1664,0)","v":" "},null,{"$f":"IFERROR(MATCH(D1664,listy_slownikowe!$AH$3:$AH$326,0),0)","v":0},0]
[null,{"$f":"OFFSET(listy_slownikowe!$AG$2,I1665,0)","v":" "},null,null,null,null,{"$f":"OFFSET(listy_slownikowe!$AI$2,I1665,0)","v":" "},null,{"$f":"IFERROR(MATCH(D1665,listy_slownikowe!$AH$3:$AH$326,0),0)","v":0},0]
[null,{"$f":"OFFSET(listy_slownikowe!$AG$2,I1666,0)","v":" "},null,null,null,null,{"$f":"OFFSET(listy_slownikowe!$AI$2,I1666,0)","v":" "},null,{"$f":"IFERROR(MATCH(D1666,listy_slownikowe!$AH$3:$AH$326,0),0)","v":0},0]
[null,{"$f":"OFFSET(listy_slownikowe!$AG$2,I1667,0)","v":" "},null,null,null,null,{"$f":"OFFSET(listy_slownikowe!$AI$2,I1667,0)","v":" "},null,{"$f":"IFERROR(MATCH(D1667,listy_slownikowe!$AH$3:$AH$326,0),0)","v":0},0]
[null,{"$f":"OFFSET(listy_slownikowe!$AG$2,I1668,0)","v":" "},null,"",null,null,{"$f":"OFFSET(listy_slownikowe!$AI$2,I1668,0)","v":" "},null,{"$f":"IFERROR(MATCH(D1668,listy_slownikowe!$AH$3:$AH$326,0),0)","v":0},0]
[null,{"$f":"OFFSET(listy_slownikowe!$AG$2,I1669,0)","v":" "},null,null,null,null,{"$f":"OFFSET(listy_slownikowe!$AI$2,I1669,0)","v":" "},null,{"$f":"IFERROR(MATCH(D1669,listy_slownikowe!$AH$3:$AH$326,0),0)","v":0},0]
[null,"Gatunki dominujące i subdominujące",null,null,null,null,null,null,null,{"$f":"J1671","v":0}]
[null,"nazwa łacińska",null,"nazwa polska",null,null,"udział [%]",null,null,{"$f":"SUM(J1672:J1676)","v":0}]
[null,null,null,null,null,null,null,null,null,{"$f":"COUNTA(B1672:G1672)","v":0}]
[null,null,null,null,null,null,null,null,null,0]
[null,null,null,null,null,null,null,null,null,0]
[null,null,null,null,null,null,null,null,null,0]
[null,null,null,null,null,null,null,null,null,0]
[]
[null,"Spis gatunków numer:",null,null,null,null,{"$f":"G1651+1","v":63},null,null,{"$f":"J1682","v":0}]
[null,"Współrzędne geograficzne",null,null,null,null,null,null,null,{"$f":"J1683","v":0}]
[null,"Długość geograficzna [E] ",null,null,"Szerokość geograficzna [N]",null,null,null,null,{"$f":"J1683","v":0}]
[null,"stopnie","minuty","sekundy","stopnie","minuty","sekundy",null,null,{"$f":"J1682","v":0}]
[null,null,null,null,null,null,null,null,null,{"$f":"J1684+J1698","v":0}]
[null,"Gatunki wskaźnikowe",null,null,null,null,null,null,null,{"$f":"J1684","v":0}]
[null,"nazwa łacińska",null,"nazwa polska",null,null,"walor ",null,null,{"$f":"SUM(J1685:J1696)","v":0}]
[null,{"$f":"OFFSET(listy_slownikowe!$AG$2,I1685,0)","v":" "},null,null,null,null,{"$f":"OFFSET(listy_slownikowe!$AI$2,I1685,0)","v":" "},null,{"$f":"IFERROR(MATCH(D1685,listy_slownikowe!$AH$3:$AH$326,0),0)","v":0},{"$f":"I1685","v":0}]
[null,{"$f":"OFFSET(listy_slownikowe!$AG$2,I1686,0)","v":" "},null,null,null,null,{"$f":"OFFSET(listy_slownikowe!$AI$2,I1686,0)","v":" "},null,{"$f":"IFERROR(MATCH(D1686,listy_slownikowe!$AH$3:$AH$326,0),0)","v":0},{"$f":"I1686","v":0}]
[null,{"$f":"OFFSET(listy_slownikowe!$AG$2,I1687,0)","v":" "},null,null,null,null,{"$f":"OFFSET(listy_slownikowe!$AI$2,I1687,0)","v":" "},null,{"$f":"IFERROR(MATCH(D1687,listy_slownikowe!$AH$3:$AH$326,0),0)","v":0},0]
[null,{"$f":"OFFSET(listy_slownikowe!$AG$2,I1688,0)","v":" "},null,null,null,null,{"$f":"OFFSET(listy_slownikowe!$AI$2,I1688,0)","v":" "},null,{"$f":"IFERROR(MATCH(D1688,listy_slownikowe!$AH$3:$AH$326,0),0)","v":0},0]
[null,{"$f":"OFFSET(listy_slownikowe!$AG$2,I1689,0)","v":" "},null,null,null,null,{"$f":"OFFSET(listy_slownikowe!$AI$2,I1689,0)","v":" "},null,{"$f":"IFERROR(MATCH(D1689,listy_slownikowe!$AH$3:$AH$326,0),0)","v":0},0]
[null,{"$f":"OFFSET(listy_slownikowe!$AG$2,I1690,0)","v":" "},null,null,null,null,{"$f":"OFFSET(listy_slownikowe!$AI$2,I1690,0)","v":" "},null,{"$f":"IFERROR(MATCH(D1690,listy_slownikowe!$AH$3:$AH$326,0),0)","v":0},0]
[null,{"$f":"OFFSET(listy_slownikowe!$AG$2,I1691,0)","v":" "},null,null,null,null,{"$f":"OFFSET(listy_slownikowe!$AI$2,I1691,0)","v":" "},null,{"$f":"IFERROR(MATCH(D1691,listy_slownikowe!$AH$3:$AH$326,0),0)","v":0},0]
[null,{"$f":"OFFSET(listy_slownikowe!$AG$2,I1692,0)","v":" "},null,null,null,null,{"$f":"OFFSET(listy_slownikowe!$AI$2,I1692,0)","v":" "},null,{"$f":"IFERROR(MATCH(D1692,listy_slownikowe!$AH$3:$AH$326,0),0)","v":0},0]
[null,{"$f":"OFFSET(listy_slownikowe!$AG$2,I1693,0)","v":" "},null,null,null,null,{"$f":"OFFSET(listy_slownikowe!$AI$2,I1693,0)","v":" "},null,{"$f":"IFERROR(MATCH(D1693,listy_slownikowe!$AH$3:$AH$326,0),0)","v":0},0]
[null,{"$f":"OFFSET(listy_slownikowe!$AG$2,I1694,0)","v":" "},null,null,null,null,{"$f":"OFFSET(listy_slownikowe!$AI$2,I1694,0)","v":" "},null,{"$f":"IFERROR(MATCH(D1694,listy_slownikowe!$AH$3:$AH$326,0),0)","v":0},0]
[null,{"$f":"OFFSET(listy_slownikowe!$AG$2,I1695,0)","v":" "},null,"",null,null,{"$f":"OFFSET(listy_slownikowe!$AI$2,I1695,0)","v":" "},null,{"$f":"IFERROR(MATCH(D1695,listy_slownikowe!$AH$3:$AH$326,0),0)","v":0},0]
[null,{"$f":"OFFSET(listy_slownikowe!$AG$2,I1696,0)","v":" "},null,null,null,null,{"$f":"OFFSET(listy_slownikowe!$AI$2,I1696,0)","v":" "},null,{"$f":"IFERROR(MATCH(D1696,listy_slownikowe!$AH$3:$AH$326,0),0)","v":0},0]
[null,"Gatunki dominujące i subdominujące",null,null,null,null,null,null,null,{"$f":"J1698","v":0}]
[null,"nazwa łacińska",null,"nazwa polska",null,null,"udział [%]",null,null,{"$f":"SUM(J1699:J1703)","v":0}]
[null,null,null,null,null,null,null,null,null,{"$f":"COUNTA(B1699:G1699)","v":0}]
[null,null,null,null,null,null,null,null,null,0]
[null,null,null,null,null,null,null,null,null,0]
[null,null,null,null,null,null,null,null,null,0]
[null,null,null,null,null,null,null,null,null,0]
[]
[null,"Spis gatunków numer:",null,null,null,null,{"$f":"G1678+1","v":64},null,null,{"$f":"J1709","v":0}]
[null,"Współrzędne geograficzne",null,null,null,null,null,null,null,{"$f":"J1710","v":0}]
[null,"Długość geograficzna [E] ",null,null,"Szerokość geograficzna [N]",null,null,null,null,{"$f":"J1710","v":0}]
[null,"stopnie","minuty","sekundy","stopnie","minuty","sekundy",null,null,{"$f":"J1709","v":0}]
[null,null,null,null,null,null,null,null,null,{"$f":"J1711+J1725","v":0}]
[null,"Gatunki wskaźnikowe",null,null,null,null,null,null,null,{"$f":"J1711","v":0}]
[null,"nazwa łacińska",null,"nazwa polska",null,null,"walor ",null,null,{"$f":"SUM(J1712:J1723)","v":0}]
[null,{"$f":"OFFSET(listy_slownikowe!$AG$2,I1712,0)","v":" "},null,null,null,null,{"$f":"OFFSET(listy_slownikowe!$AI$2,I1712,0)","v":" "},null,{"$f":"IFERROR(MATCH(D1712,listy_slownikowe!$AH$3:$AH$326,0),0)","v":0},{"$f":"I1712","v":0}]
[null,{"$f":"OFFSET(listy_slownikowe!$AG$2,I1713,0)","v":" "},null,null,null,null,{"$f":"OFFSET(listy_slownikowe!$AI$2,I1713,0)","v":" "},null,{"$f":"IFERROR(MATCH(D1713,listy_slownikowe!$AH$3:$AH$326,0),0)","v":0},{"$f":"I1713","v":0}]
[null,{"$f":"OFFSET(listy_slownikowe!$AG$2,I1714,0)","v":" "},null,null,null,null,{"$f":"OFFSET(listy_slownikowe!$AI$2,I1714,0)","v":" "},null,{"$f":"IFERROR(MATCH(D1714,listy_slownikowe!$AH$3:$AH$326,0),0)","v":0},0]
[null,{"$f":"OFFSET(listy_slownikowe!$AG$2,I1715,0)","v":" "},null,null,null,null,{"$f":"OFFSET(listy_slownikowe!$AI$2,I1715,0)","v":" "},null,{"$f":"IFERROR(MATCH(D1715,listy_slownikowe!$AH$3:$AH$326,0),0)","v":0},0]
[null,{"$f":"OFFSET(listy_slownikowe!$AG$2,I1716,0)","v":" "},null,null,null,null,{"$f":"OFFSET(listy_slownikowe!$AI$2,I1716,0)","v":" "},null,{"$f":"IFERROR(MATCH(D1716,listy_slownikowe!$AH$3:$AH$326,0),0)","v":0},0]
[null,{"$f":"OFFSET(listy_slownikowe!$AG$2,I1717,0)","v":" "},null,null,null,null,{"$f":"OFFSET(listy_slownikowe!$AI$2,I1717,0)","v":" "},null,{"$f":"IFERROR(MATCH(D1717,listy_slownikowe!$AH$3:$AH$326,0),0)","v":0},0]
[null,{"$f":"OFFSET(listy_slownikowe!$AG$2,I1718,0)","v":" "},null,null,null,null,{"$f":"OFFSET(listy_slownikowe!$AI$2,I1718,0)","v":" "},null,{"$f":"IFERROR(MATCH(D1718,listy_slownikowe!$AH$3:$AH$326,0),0)","v":0},0]
[null,{"$f":"OFFSET(listy_slownikowe!$AG$2,I1719,0)","v":" "},null,null,null,null,{"$f":"OFFSET(listy_slownikowe!$AI$2,I1719,0)","v":" "},null,{"$f":"IFERROR(MATCH(D1719,listy_slownikowe!$AH$3:$AH$326,0),0)","v":0},0]
[null,{"$f":"OFFSET(listy_slownikowe!$AG$2,I1720,0)","v":" "},null,null,null,null,{"$f":"OFFSET(listy_slownikowe!$AI$2,I1720,0)","v":" "},null,{"$f":"IFERROR(MATCH(D1720,listy_slownikowe!$AH$3:$AH$326,0),0)","v":0},0]
[null,{"$f":"OFFSET(listy_slownikowe!$AG$2,I1721,0)","v":" "},null,null,null,null,{"$f":"OFFSET(listy_slownikowe!$AI$2,I1721,0)","v":" "},null,{"$f":"IFERROR(MATCH(D1721,listy_slownikowe!$AH$3:$AH$326,0),0)","v":0},0]
[null,{"$f":"OFFSET(listy_slownikowe!$AG$2,I1722,0)","v":" "},null,"",null,null,{"$f":"OFFSET(listy_slownikowe!$AI$2,I1722,0)","v":" "},null,{"$f":"IFERROR(MATCH(D1722,listy_slownikowe!$AH$3:$AH$326,0),0)","v":0},0]
[null,{"$f":"OFFSET(listy_slownikowe!$AG$2,I1723,0)","v":" "},null,null,null,null,{"$f":"OFFSET(listy_slownikowe!$AI$2,I1723,0)","v":" "},null,{"$f":"IFERROR(MATCH(D1723,listy_slownikowe!$AH$3:$AH$326,0),0)","v":0},0]
[null,"Gatunki dominujące i subdominujące",null,null,null,null,null,null,null,{"$f":"J1725","v":0}]
[null,"nazwa łacińska",null,"nazwa polska",null,null,"udział [%]",null,null,{"$f":"SUM(J1726:J1730)","v":0}]
[null,null,null,null,null,null,null,null,null,{"$f":"COUNTA(B1726:G1726)","v":0}]
[null,null,null,null,null,null,null,null,null,0]
[null,null,null,null,null,null,null,null,null,0]
[null,null,null,null,null,null,null,null,null,0]
[null,null,null,null,null,null,null,null,null,0]
[]
[null,"Spis gatunków numer:",null,null,null,null,{"$f":"G1705+1","v":65},null,null,{"$f":"J1736","v":0}]
[null,"Współrzędne geograficzne",null,null,null,null,null,null,null,{"$f":"J1737","v":0}]
[null,"Długość geograficzna [E] ",null,null,"Szerokość geograficzna [N]",null,null,null,null,{"$f":"J1737","v":0}]
[null,"stopnie","minuty","sekundy","stopnie","minuty","sekundy",null,null,{"$f":"J1736","v":0}]
[null,null,null,null,null,null,null,null,null,{"$f":"J1738+J1752","v":0}]
[null,"Gatunki wskaźnikowe",null,null,null,null,null,null,null,{"$f":"J1738","v":0}]
[null,"nazwa łacińska",null,"nazwa polska",null,null,"walor ",null,null,{"$f":"SUM(J1739:J1750)","v":0}]
[null,{"$f":"OFFSET(listy_slownikowe!$AG$2,I1739,0)","v":" "},null,null,null,null,{"$f":"OFFSET(listy_slownikowe!$AI$2,I1739,0)","v":" "},null,{"$f":"IFERROR(MATCH(D1739,listy_slownikowe!$AH$3:$AH$326,0),0)","v":0},{"$f":"I1739","v":0}]
[null,{"$f":"OFFSET(listy_slownikowe!$AG$2,I1740,0)","v":" "},null,null,null,null,{"$f":"OFFSET(listy_slownikowe!$AI$2,I1740,0)","v":" "},null,{"$f":"IFERROR(MATCH(D1740,listy_slownikowe!$AH$3:$AH$326,0),0)","v":0},{"$f":"I1740","v":0}]
[null,{"$f":"OFFSET(listy_slownikowe!$AG$2,I1741,0)","v":" "},null,null,null,null,{"$f":"OFFSET(listy_slownikowe!$AI$2,I1741,0)","v":" "},null,{"$f":"IFERROR(MATCH(D1741,listy_slownikowe!$AH$3:$AH$326,0),0)","v":0},0]
[null,{"$f":"OFFSET(listy_slownikowe!$AG$2,I1742,0)","v":" "},null,null,null,null,{"$f":"OFFSET(listy_slownikowe!$AI$2,I1742,0)","v":" "},null,{"$f":"IFERROR(MATCH(D1742,listy_slownikowe!$AH$3:$AH$326,0),0)","v":0},0]
[null,{"$f":"OFFSET(listy_slownikowe!$AG$2,I1743,0)","v":" "},null,null,null,null,{"$f":"OFFSET(listy_slownikowe!$AI$2,I1743,0)","v":" "},null,{"$f":"IFERROR(MATCH(D1743,listy_slownikowe!$AH$3:$AH$326,0),0)","v":0},0]
[null,{"$f":"OFFSET(listy_slownikowe!$AG$2,I1744,0)","v":" "},null,null,null,null,{"$f":"OFFSET(listy_slownikowe!$AI$2,I1744,0)","v":" "},null,{"$f":"IFERROR(MATCH(D1744,listy_slownikowe!$AH$3:$AH$326,0),0)","v":0},0]
[null,{"$f":"OFFSET(listy_slownikowe!$AG$2,I1745,0)","v":" "},null,null,null,null,{"$f":"OFFSET(listy_slownikowe!$AI$2,I1745,0)","v":" "},null,{"$f":"IFERROR(MATCH(D1745,listy_slownikowe!$AH$3:$AH$326,0),0)","v":0},0]
[null,{"$f":"OFFSET(listy_slownikowe!$AG$2,I1746,0)","v":" "},null,null,null,null,{"$f":"OFFSET(listy_slownikowe!$AI$2,I1746,0)","v":" "},null,{"$f":"IFERROR(MATCH(D1746,listy_slownikowe!$AH$3:$AH$326,0),0)","v":0},0]
[null,{"$f":"OFFSET(listy_slownikowe!$AG$2,I1747,0)","v":" "},null,null,null,null,{"$f":"OFFSET(listy_slownikowe!$AI$2,I1747,0)","v":" "},null,{"$f":"IFERROR(MATCH(D1747,listy_slownikowe!$AH$3:$AH$326,0),0)","v":0},0]
[null,{"$f":"OFFSET(listy_slownikowe!$AG$2,I1748,0)","v":" "},null,null,null,null,{"$f":"OFFSET(listy_slownikowe!$AI$2,I1748,0)","v":" "},null,{"$f":"IFERROR(MATCH(D1748,listy_slownikowe!$AH$3:$AH$326,0),0)","v":0},0]
[null,{"$f":"OFFSET(listy_slownikowe!$AG$2,I1749,0)","v":" "},null,"",null,null,{"$f":"OFFSET(listy_slownikowe!$AI$2,I1749,0)","v":" "},null,{"$f":"IFERROR(MATCH(D1749,listy_slownikowe!$AH$3:$AH$326,0),0)","v":0},0]
[null,{"$f":"OFFSET(listy_slownikowe!$AG$2,I1750,0)","v":" "},null,null,null,null,{"$f":"OFFSET(listy_slownikowe!$AI$2,I1750,0)","v":" "},null,{"$f":"IFERROR(MATCH(D1750,listy_slownikowe!$AH$3:$AH$326,0),0)","v":0},0]
[null,"Gatunki dominujące i subdominujące",null,null,null,null,null,null,null,{"$f":"J1752","v":0}]
[null,"nazwa łacińska",null,"nazwa polska",null,null,"udział [%]",null,null,{"$f":"SUM(J1753:J1757)","v":0}]
[null,null,null,null,null,null,null,null,null,{"$f":"COUNTA(B1753:G1753)","v":0}]
[null,null,null,null,null,null,null,null,null,0]
[null,null,null,null,null,null,null,null,null,0]
[null,null,null,null,null,null,null,null,null,0]
[null,null,null,null,null,null,null,null,null,0]
[]
[null,"Spis gatunków numer:",null,null,null,null,{"$f":"G1732+1","v":66},null,null,{"$f":"J1763","v":0}]
[null,"Współrzędne geograficzne",null,null,null,null,null,null,null,{"$f":"J1764","v":0}]
[null,"Długość geograficzna [E] ",null,null,"Szerokość geograficzna [N]",null,null,null,null,{"$f":"J1764","v":0}]
[null,"stopnie","minuty","sekundy","stopnie","minuty","sekundy",null,null,{"$f":"J1763","v":0}]
[null,null,null,null,null,null,null,null,null,{"$f":"J1765+J1779","v":0}]
[null,"Gatunki wskaźnikowe",null,null,null,null,null,null,null,{"$f":"J1765","v":0}]
[null,"nazwa łacińska",null,"nazwa polska",null,null,"walor ",null,null,{"$f":"SUM(J1766:J1777)","v":0}]
[null,{"$f":"OFFSET(listy_slownikowe!$AG$2,I1766,0)","v":" "},null,null,null,null,{"$f":"OFFSET(listy_slownikowe!$AI$2,I1766,0)","v":" "},null,{"$f":"IFERROR(MATCH(D1766,listy_slownikowe!$AH$3:$AH$326,0),0)","v":0},{"$f":"I1766","v":0}]
[null,{"$f":"OFFSET(listy_slownikowe!$AG$2,I1767,0)","v":" "},null,null,null,null,{"$f":"OFFSET(listy_slownikowe!$AI$2,I1767,0)","v":" "},null,{"$f":"IFERROR(MATCH(D1767,listy_slownikowe!$AH$3:$AH$326,0),0)","v":0},{"$f":"I1767","v":0}]
[null,{"$f":"OFFSET(listy_slownikowe!$AG$2,I1768,0)","v":" "},null,null,null,null,{"$f":"OFFSET(listy_slownikowe!$AI$2,I1768,0)","v":" "},null,{"$f":"IFERROR(MATCH(D1768,listy_slownikowe!$AH$3:$AH$326,0),0)","v":0},0]
[null,{"$f":"OFFSET(listy_slownikowe!$AG$2,I1769,0)","v":" "},null,null,null,null,{"$f":"OFFSET(listy_slownikowe!$AI$2,I1769,0)","v":" "},null,{"$f":"IFERROR(MATCH(D1769,listy_slownikowe!$AH$3:$AH$326,0),0)","v":0},0]
[null,{"$f":"OFFSET(listy_slownikowe!$AG$2,I1770,0)","v":" "},null,null,null,null,{"$f":"OFFSET(listy_slownikowe!$AI$2,I1770,0)","v":" "},null,{"$f":"IFERROR(MATCH(D1770,listy_slownikowe!$AH$3:$AH$326,0),0)","v":0},0]
[null,{"$f":"OFFSET(listy_slownikowe!$AG$2,I1771,0)","v":" "},null,null,null,null,{"$f":"OFFSET(listy_slownikowe!$AI$2,I1771,0)","v":" "},null,{"$f":"IFERROR(MATCH(D1771,listy_slownikowe!$AH$3:$AH$326,0),0)","v":0},0]
[null,{"$f":"OFFSET(listy_slownikowe!$AG$2,I1772,0)","v":" "},null,null,null,null,{"$f":"OFFSET(listy_slownikowe!$AI$2,I1772,0)","v":" "},null,{"$f":"IFERROR(MATCH(D1772,listy_slownikowe!$AH$3:$AH$326,0),0)","v":0},0]
[null,{"$f":"OFFSET(listy_slownikowe!$AG$2,I1773,0)","v":" "},null,null,null,null,{"$f":"OFFSET(listy_slownikowe!$AI$2,I1773,0)","v":" "},null,{"$f":"IFERROR(MATCH(D1773,listy_slownikowe!$AH$3:$AH$326,0),0)","v":0},0]
[null,{"$f":"OFFSET(listy_slownikowe!$AG$2,I1774,0)","v":" "},null,null,null,null,{"$f":"OFFSET(listy_slownikowe!$AI$2,I1774,0)","v":" "},null,{"$f":"IFERROR(MATCH(D1774,listy_slownikowe!$AH$3:$AH$326,0),0)","v":0},0]
[null,{"$f":"OFFSET(listy_slownikowe!$AG$2,I1775,0)","v":" "},null,null,null,null,{"$f":"OFFSET(listy_slownikowe!$AI$2,I1775,0)","v":" "},null,{"$f":"IFERROR(MATCH(D1775,listy_slownikowe!$AH$3:$AH$326,0),0)","v":0},0]
[null,{"$f":"OFFSET(listy_slownikowe!$AG$2,I1776,0)","v":" "},null,"",null,null,{"$f":"OFFSET(listy_slownikowe!$AI$2,I1776,0)","v":" "},null,{"$f":"IFERROR(MATCH(D1776,listy_slownikowe!$AH$3:$AH$326,0),0)","v":0},0]
[null,{"$f":"OFFSET(listy_slownikowe!$AG$2,I1777,0)","v":" "},null,null,null,null,{"$f":"OFFSET(listy_slownikowe!$AI$2,I1777,0)","v":" "},null,{"$f":"IFERROR(MATCH(D1777,listy_slownikowe!$AH$3:$AH$326,0),0)","v":0},0]
[null,"Gatunki dominujące i subdominujące",null,null,null,null,null,null,null,{"$f":"J1779","v":0}]
[null,"nazwa łacińska",null,"nazwa polska",null,null,"udział [%]",null,null,{"$f":"SUM(J1780:J1784)","v":0}]
[null,null,null,null,null,null,null,null,null,{"$f":"COUNTA(B1780:G1780)","v":0}]
[null,null,null,null,null,null,null,null,null,0]
[null,null,null,null,null,null,null,null,null,0]
[null,null,null,null,null,null,null,null,null,0]
[null,null,null,null,null,null,null,null,null,0]
[]
[null,"Spis gatunków numer:",null,null,null,null,{"$f":"G1759+1","v":67},null,null,{"$f":"J1790","v":0}]
[null,"Współrzędne geograficzne",null,null,null,null,null,null,null,{"$f":"J1791","v":0}]
[null,"Długość geograficzna [E] ",null,null,"Szerokość geograficzna [N]",null,null,null,null,{"$f":"J1791","v":0}]
[null,"stopnie","minuty","sekundy","stopnie","minuty","sekundy",null,null,{"$f":"J1790","v":0}]
[null,null,null,null,null,null,null,null,null,{"$f":"J1792+J1806","v":0}]
[null,"Gatunki wskaźnikowe",null,null,null,null,null,null,null,{"$f":"J1792","v":0}]
[null,"nazwa łacińska",null,"nazwa polska",null,null,"walor ",null,null,{"$f":"SUM(J1793:J1804)","v":0}]
[null,{"$f":"OFFSET(listy_slownikowe!$AG$2,I1793,0)","v":" "},null,null,null,null,{"$f":"OFFSET(listy_slownikowe!$AI$2,I1793,0)","v":" "},null,{"$f":"IFERROR(MATCH(D1793,listy_slownikowe!$AH$3:$AH$326,0),0)","v":0},{"$f":"I1793","v":0}]
[null,{"$f":"OFFSET(listy_slownikowe!$AG$2,I1794,0)","v":" "},null,null,null,null,{"$f":"OFFSET(listy_slownikowe!$AI$2,I1794,0)","v":" "},null,{"$f":"IFERROR(MATCH(D1794,listy_slownikowe!$AH$3:$AH$326,0),0)","v":0},{"$f":"I1794","v":0}]
[null,{"$f":"OFFSET(listy_slownikowe!$AG$2,I1795,0)","v":" "},null,null,null,null,{"$f":"OFFSET(listy_slownikowe!$AI$2,I1795,0)","v":" "},null,{"$f":"IFERROR(MATCH(D1795,listy_slownikowe!$AH$3:$AH$326,0),0)","v":0},0]
[null,{"$f":"OFFSET(listy_slownikowe!$AG$2,I1796,0)","v":" "},null,null,null,null,{"$f":"OFFSET(listy_slownikowe!$AI$2,I1796,0)","v":" "},null,{"$f":"IFERROR(MATCH(D1796,listy_slownikowe!$AH$3:$AH$326,0),0)","v":0},0]
[null,{"$f":"OFFSET(listy_slownikowe!$AG$2,I1797,0)","v":" "},null,null,null,null,{"$f":"OFFSET(listy_slownikowe!$AI$2,I1797,0)","v":" "},null,{"$f":"IFERROR(MATCH(D1797,listy_slownikowe!$AH$3:$AH$326,0),0)","v":0},0]
[null,{"$f":"OFFSET(listy_slownikowe!$AG$2,I1798,0)","v":" "},null,null,null,null,{"$f":"OFFSET(listy_slownikowe!$AI$2,I1798,0)","v":" "},null,{"$f":"IFERROR(MATCH(D1798,listy_slownikowe!$AH$3:$AH$326,0),0)","v":0},0]
[null,{"$f":"OFFSET(listy_slownikowe!$AG$2,I1799,0)","v":" "},null,null,null,null,{"$f":"OFFSET(listy_slownikowe!$AI$2,I1799,0)","v":" "},null,{"$f":"IFERROR(MATCH(D1799,listy_slownikowe!$AH$3:$AH$326,0),0)","v":0},0]
[null,{"$f":"OFFSET(listy_slownikowe!$AG$2,I1800,0)","v":" "},null,null,null,null,{"$f":"OFFSET(listy_slownikowe!$AI$2,I1800,0)","v":" "},null,{"$f":"IFERROR(MATCH(D1800,listy_slownikowe!$AH$3:$AH$326,0),0)","v":0},0]
[null,{"$f":"OFFSET(listy_slownikowe!$AG$2,I1801,0)","v":" "},null,null,null,null,{"$f":"OFFSET(listy_slownikowe!$AI$2,I1801,0)","v":" "},null,{"$f":"IFERROR(MATCH(D1801,listy_slownikowe!$AH$3:$AH$326,0),0)","v":0},0]
[null,{"$f":"OFFSET(listy_slownikowe!$AG$2,I1802,0)","v":" "},null,null,null,null,{"$f":"OFFSET(listy_slownikowe!$AI$2,I1802,0)","v":" "},null,{"$f":"IFERROR(MATCH(D1802,listy_slownikowe!$AH$3:$AH$326,0),0)","v":0},0]
[null,{"$f":"OFFSET(listy_slownikowe!$AG$2,I1803,0)","v":" "},null,"",null,null,{"$f":"OFFSET(listy_slownikowe!$AI$2,I1803,0)","v":" "},null,{"$f":"IFERROR(MATCH(D1803,listy_slownikowe!$AH$3:$AH$326,0),0)","v":0},0]
[null,{"$f":"OFFSET(listy_slownikowe!$AG$2,I1804,0)","v":" "},null,null,null,null,{"$f":"OFFSET(listy_slownikowe!$AI$2,I1804,0)","v":" "},null,{"$f":"IFERROR(MATCH(D1804,listy_slownikowe!$AH$3:$AH$326,0),0)","v":0},0]
[null,"Gatunki dominujące i subdominujące",null,null,null,null,null,null,null,{"$f":"J1806","v":0}]
[null,"nazwa łacińska",null,"nazwa polska",null,null,"udział [%]",null,null,{"$f":"SUM(J1807:J1811)","v":0}]
[null,null,null,null,null,null,null,null,null,{"$f":"COUNTA(B1807:G1807)","v":0}]
[null,null,null,null,null,null,null,null,null,0]
[null,null,null,null,null,null,null,null,null,0]
[null,null,null,null,null,null,null,null,null,0]
[null,null,null,null,null,null,null,null,null,0]
[]
[null,"Spis gatunków numer:",null,null,null,null,{"$f":"G1786+1","v":68},null,null,{"$f":"J1817","v":0}]
[null,"Współrzędne geograficzne",null,null,null,null,null,null,null,{"$f":"J1818","v":0}]
[null,"Długość geograficzna [E] ",null,null,"Szerokość geograficzna [N]",null,null,null,null,{"$f":"J1818","v":0}]
[null,"stopnie","minuty","sekundy","stopnie","minuty","sekundy",null,null,{"$f":"J1817","v":0}]
[null,null,null,null,null,null,null,null,null,{"$f":"J1819+J1833","v":0}]
[null,"Gatunki wskaźnikowe",null,null,null,null,null,null,null,{"$f":"J1819","v":0}]
[null,"nazwa łacińska",null,"nazwa polska",null,null,"walor ",null,null,{"$f":"SUM(J1820:J1831)","v":0}]
[null,{"$f":"OFFSET(listy_slownikowe!$AG$2,I1820,0)","v":" "},null,null,null,null,{"$f":"OFFSET(listy_slownikowe!$AI$2,I1820,0)","v":" "},null,{"$f":"IFERROR(MATCH(D1820,listy_slownikowe!$AH$3:$AH$326,0),0)","v":0},{"$f":"I1820","v":0}]
[null,{"$f":"OFFSET(listy_slownikowe!$AG$2,I1821,0)","v":" "},null,null,null,null,{"$f":"OFFSET(listy_slownikowe!$AI$2,I1821,0)","v":" "},null,{"$f":"IFERROR(MATCH(D1821,listy_slownikowe!$AH$3:$AH$326,0),0)","v":0},{"$f":"I1821","v":0}]
[null,{"$f":"OFFSET(listy_slownikowe!$AG$2,I1822,0)","v":" "},null,null,null,null,{"$f":"OFFSET(listy_slownikowe!$AI$2,I1822,0)","v":" "},null,{"$f":"IFERROR(MATCH(D1822,listy_slownikowe!$AH$3:$AH$326,0),0)","v":0},0]
[null,{"$f":"OFFSET(listy_slownikowe!$AG$2,I1823,0)","v":" "},null,null,null,null,{"$f":"OFFSET(listy_slownikowe!$AI$2,I1823,0)","v":" "},null,{"$f":"IFERROR(MATCH(D1823,listy_slownikowe!$AH$3:$AH$326,0),0)","v":0},0]
[null,{"$f":"OFFSET(listy_slownikowe!$AG$2,I1824,0)","v":" "},null,null,null,null,{"$f":"OFFSET(listy_slownikowe!$AI$2,I1824,0)","v":" "},null,{"$f":"IFERROR(MATCH(D1824,listy_slownikowe!$AH$3:$AH$326,0),0)","v":0},0]
[null,{"$f":"OFFSET(listy_slownikowe!$AG$2,I1825,0)","v":" "},null,null,null,null,{"$f":"OFFSET(listy_slownikowe!$AI$2,I1825,0)","v":" "},null,{"$f":"IFERROR(MATCH(D1825,listy_slownikowe!$AH$3:$AH$326,0),0)","v":0},0]
[null,{"$f":"OFFSET(listy_slownikowe!$AG$2,I1826,0)","v":" "},null,null,null,null,{"$f":"OFFSET(listy_slownikowe!$AI$2,I1826,0)","v":" "},null,{"$f":"IFERROR(MATCH(D1826,listy_slownikowe!$AH$3:$AH$326,0),0)","v":0},0]
[null,{"$f":"OFFSET(listy_slownikowe!$AG$2,I1827,0)","v":" "},null,null,null,null,{"$f":"OFFSET(listy_slownikowe!$AI$2,I1827,0)","v":" "},null,{"$f":"IFERROR(MATCH(D1827,listy_slownikowe!$AH$3:$AH$326,0),0)","v":0},0]
[null,{"$f":"OFFSET(listy_slownikowe!$AG$2,I1828,0)","v":" "},null,null,null,null,{"$f":"OFFSET(listy_slownikowe!$AI$2,I1828,0)","v":" "},null,{"$f":"IFERROR(MATCH(D1828,listy_slownikowe!$AH$3:$AH$326,0),0)","v":0},0]
[null,{"$f":"OFFSET(listy_slownikowe!$AG$2,I1829,0)","v":" "},null,null,null,null,{"$f":"OFFSET(listy_slownikowe!$AI$2,I1829,0)","v":" "},null,{"$f":"IFERROR(MATCH(D1829,listy_slownikowe!$AH$3:$AH$326,0),0)","v":0},0]
[null,{"$f":"OFFSET(listy_slownikowe!$AG$2,I1830,0)","v":" "},null,"",null,null,{"$f":"OFFSET(listy_slownikowe!$AI$2,I1830,0)","v":" "},null,{"$f":"IFERROR(MATCH(D1830,listy_slownikowe!$AH$3:$AH$326,0),0)","v":0},0]
[null,{"$f":"OFFSET(listy_slownikowe!$AG$2,I1831,0)","v":" "},null,null,null,null,{"$f":"OFFSET(listy_slownikowe!$AI$2,I1831,0)","v":" "},null,{"$f":"IFERROR(MATCH(D1831,listy_slownikowe!$AH$3:$AH$326,0),0)","v":0},0]
[null,"Gatunki dominujące i subdominujące",null,null,null,null,null,null,null,{"$f":"J1833","v":0}]
[null,"nazwa łacińska",null,"nazwa polska",null,null,"udział [%]",null,null,{"$f":"SUM(J1834:J1838)","v":0}]
[null,null,null,null,null,null,null,null,null,{"$f":"COUNTA(B1834:G1834)","v":0}]
[null,null,null,null,null,null,null,null,null,0]
[null,null,null,null,null,null,null,null,null,0]
[null,null,null,null,null,null,null,null,null,0]
[null,null,null,null,null,null,null,null,null,0]
[]
[null,"Spis gatunków numer:",null,null,null,null,{"$f":"G1813+1","v":69},null,null,{"$f":"J1844","v":0}]
[null,"Współrzędne geograficzne",null,null,null,null,null,null,null,{"$f":"J1845","v":0}]
[null,"Długość geograficzna [E] ",null,null,"Szerokość geograficzna [N]",null,null,null,null,{"$f":"J1845","v":0}]
[null,"stopnie","minuty","sekundy","stopnie","minuty","sekundy",null,null,{"$f":"J1844","v":0}]
[null,null,null,null,null,null,null,null,null,{"$f":"J1846+J1860","v":0}]
[null,"Gatunki wskaźnikowe",null,null,null,null,null,null,null,{"$f":"J1846","v":0}]
[null,"nazwa łacińska",null,"nazwa polska",null,null,"walor ",null,null,{"$f":"SUM(J1847:J1858)","v":0}]
[null,{"$f":"OFFSET(listy_slownikowe!$AG$2,I1847,0)","v":" "},null,null,null,null,{"$f":"OFFSET(listy_slownikowe!$AI$2,I1847,0)","v":" "},null,{"$f":"IFERROR(MATCH(D1847,listy_slownikowe!$AH$3:$AH$326,0),0)","v":0},{"$f":"I1847","v":0}]
[null,{"$f":"OFFSET(listy_slownikowe!$AG$2,I1848,0)","v":" "},null,null,null,null,{"$f":"OFFSET(listy_slownikowe!$AI$2,I1848,0)","v":" "},null,{"$f":"IFERROR(MATCH(D1848,listy_slownikowe!$AH$3:$AH$326,0),0)","v":0},{"$f":"I1848","v":0}]
[null,{"$f":"OFFSET(listy_slownikowe!$AG$2,I1849,0)","v":" "},null,null,null,null,{"$f":"OFFSET(listy_slownikowe!$AI$2,I1849,0)","v":" "},null,{"$f":"IFERROR(MATCH(D1849,listy_slownikowe!$AH$3:$AH$326,0),0)","v":0},0]
[null,{"$f":"OFFSET(listy_slownikowe!$AG$2,I1850,0)","v":" "},null,null,null,null,{"$f":"OFFSET(listy_slownikowe!$AI$2,I1850,0)","v":" "},null,{"$f":"IFERROR(MATCH(D1850,listy_slownikowe!$AH$3:$AH$326,0),0)","v":0},0]
[null,{"$f":"OFFSET(listy_slownikowe!$AG$2,I1851,0)","v":" "},null,null,null,null,{"$f":"OFFSET(listy_slownikowe!$AI$2,I1851,0)","v":" "},null,{"$f":"IFERROR(MATCH(D1851,listy_slownikowe!$AH$3:$AH$326,0),0)","v":0},0]
[null,{"$f":"OFFSET(listy_slownikowe!$AG$2,I1852,0)","v":" "},null,null,null,null,{"$f":"OFFSET(listy_slownikowe!$AI$2,I1852,0)","v":" "},null,{"$f":"IFERROR(MATCH(D1852,listy_slownikowe!$AH$3:$AH$326,0),0)","v":0},0]
[null,{"$f":"OFFSET(listy_slownikowe!$AG$2,I1853,0)","v":" "},null,null,null,null,{"$f":"OFFSET(listy_slownikowe!$AI$2,I1853,0)","v":" "},null,{"$f":"IFERROR(MATCH(D1853,listy_slownikowe!$AH$3:$AH$326,0),0)","v":0},0]
[null,{"$f":"OFFSET(listy_slownikowe!$AG$2,I1854,0)","v":" "},null,null,null,null,{"$f":"OFFSET(listy_slownikowe!$AI$2,I1854,0)","v":" "},null,{"$f":"IFERROR(MATCH(D1854,listy_slownikowe!$AH$3:$AH$326,0),0)","v":0},0]
[null,{"$f":"OFFSET(listy_slownikowe!$AG$2,I1855,0)","v":" "},null,null,null,null,{"$f":"OFFSET(listy_slownikowe!$AI$2,I1855,0)","v":" "},null,{"$f":"IFERROR(MATCH(D1855,listy_slownikowe!$AH$3:$AH$326,0),0)","v":0},0]
[null,{"$f":"OFFSET(listy_slownikowe!$AG$2,I1856,0)","v":" "},null,null,null,null,{"$f":"OFFSET(listy_slownikowe!$AI$2,I1856,0)","v":" "},null,{"$f":"IFERROR(MATCH(D1856,listy_slownikowe!$AH$3:$AH$326,0),0)","v":0},0]
[null,{"$f":"OFFSET(listy_slownikowe!$AG$2,I1857,0)","v":" "},null,"",null,null,{"$f":"OFFSET(listy_slownikowe!$AI$2,I1857,0)","v":" "},null,{"$f":"IFERROR(MATCH(D1857,listy_slownikowe!$AH$3:$AH$326,0),0)","v":0},0]
[null,{"$f":"OFFSET(listy_slownikowe!$AG$2,I1858,0)","v":" "},null,null,null,null,{"$f":"OFFSET(listy_slownikowe!$AI$2,I1858,0)","v":" "},null,{"$f":"IFERROR(MATCH(D1858,listy_slownikowe!$AH$3:$AH$326,0),0)","v":0},0]
[null,"Gatunki dominujące i subdominujące",null,null,null,null,null,null,null,{"$f":"J1860","v":0}]
[null,"nazwa łacińska",null,"nazwa polska",null,null,"udział [%]",null,null,{"$f":"SUM(J1861:J1865)","v":0}]
[null,null,null,null,null,null,null,null,null,{"$f":"COUNTA(B1861:G1861)","v":0}]
[null,null,null,null,null,null,null,null,null,0]
[null,null,null,null,null,null,null,null,null,0]
[null,null,null,null,null,null,null,null,null,0]
[null,null,null,null,null,null,null,null,null,0]
[]
[null,"Spis gatunków numer:",null,null,null,null,{"$f":"G1840+1","v":70},null,null,{"$f":"J1871","v":0}]
[null,"Współrzędne geograficzne",null,null,null,null,null,null,null,{"$f":"J1872","v":0}]
[null,"Długość geograficzna [E] ",null,null,"Szerokość geograficzna [N]",null,null,null,null,{"$f":"J1872","v":0}]
[null,"stopnie","minuty","sekundy","stopnie","minuty","sekundy",null,null,{"$f":"J1871","v":0}]
[null,null,null,null,null,null,null,null,null,{"$f":"J1873+J1887","v":0}]
[null,"Gatunki wskaźnikowe",null,null,null,null,null,null,null,{"$f":"J1873","v":0}]
[null,"nazwa łacińska",null,"nazwa polska",null,null,"walor ",null,null,{"$f":"SUM(J1874:J1885)","v":0}]
[null,{"$f":"OFFSET(listy_slownikowe!$AG$2,I1874,0)","v":" "},null,null,null,null,{"$f":"OFFSET(listy_slownikowe!$AI$2,I1874,0)","v":" "},null,{"$f":"IFERROR(MATCH(D1874,listy_slownikowe!$AH$3:$AH$326,0),0)","v":0},{"$f":"I1874","v":0}]
[null,{"$f":"OFFSET(listy_slownikowe!$AG$2,I1875,0)","v":" "},null,null,null,null,{"$f":"OFFSET(listy_slownikowe!$AI$2,I1875,0)","v":" "},null,{"$f":"IFERROR(MATCH(D1875,listy_slownikowe!$AH$3:$AH$326,0),0)","v":0},{"$f":"I1875","v":0}]
[null,{"$f":"OFFSET(listy_slownikowe!$AG$2,I1876,0)","v":" "},null,null,null,null,{"$f":"OFFSET(listy_slownikowe!$AI$2,I1876,0)","v":" "},null,{"$f":"IFERROR(MATCH(D1876,listy_slownikowe!$AH$3:$AH$326,0),0)","v":0},0]
[null,{"$f":"OFFSET(listy_slownikowe!$AG$2,I1877,0)","v":" "},null,null,null,null,{"$f":"OFFSET(listy_slownikowe!$AI$2,I1877,0)","v":" "},null,{"$f":"IFERROR(MATCH(D1877,listy_slownikowe!$AH$3:$AH$326,0),0)","v":0},0]
[null,{"$f":"OFFSET(listy_slownikowe!$AG$2,I1878,0)","v":" "},null,null,null,null,{"$f":"OFFSET(listy_slownikowe!$AI$2,I1878,0)","v":" "},null,{"$f":"IFERROR(MATCH(D1878,listy_slownikowe!$AH$3:$AH$326,0),0)","v":0},0]
[null,{"$f":"OFFSET(listy_slownikowe!$AG$2,I1879,0)","v":" "},null,null,null,null,{"$f":"OFFSET(listy_slownikowe!$AI$2,I1879,0)","v":" "},null,{"$f":"IFERROR(MATCH(D1879,listy_slownikowe!$AH$3:$AH$326,0),0)","v":0},0]
[null,{"$f":"OFFSET(listy_slownikowe!$AG$2,I1880,0)","v":" "},null,null,null,null,{"$f":"OFFSET(listy_slownikowe!$AI$2,I1880,0)","v":" "},null,{"$f":"IFERROR(MATCH(D1880,listy_slownikowe!$AH$3:$AH$326,0),0)","v":0},0]
[null,{"$f":"OFFSET(listy_slownikowe!$AG$2,I1881,0)","v":" "},null,null,null,null,{"$f":"OFFSET(listy_slownikowe!$AI$2,I1881,0)","v":" "},null,{"$f":"IFERROR(MATCH(D1881,listy_slownikowe!$AH$3:$AH$326,0),0)","v":0},0]
[null,{"$f":"OFFSET(listy_slownikowe!$AG$2,I1882,0)","v":" "},null,null,null,null,{"$f":"OFFSET(listy_slownikowe!$AI$2,I1882,0)","v":" "},null,{"$f":"IFERROR(MATCH(D1882,listy_slownikowe!$AH$3:$AH$326,0),0)","v":0},0]
[null,{"$f":"OFFSET(listy_slownikowe!$AG$2,I1883,0)","v":" "},null,null,null,null,{"$f":"OFFSET(listy_slownikowe!$AI$2,I1883,0)","v":" "},null,{"$f":"IFERROR(MATCH(D1883,listy_slownikowe!$AH$3:$AH$326,0),0)","v":0},0]
[null,{"$f":"OFFSET(listy_slownikowe!$AG$2,I1884,0)","v":" "},null,"",null,null,{"$f":"OFFSET(listy_slownikowe!$AI$2,I1884,0)","v":" "},null,{"$f":"IFERROR(MATCH(D1884,listy_slownikowe!$AH$3:$AH$326,0),0)","v":0},0]
[null,{"$f":"OFFSET(listy_slownikowe!$AG$2,I1885,0)","v":" "},null,null,null,null,{"$f":"OFFSET(listy_slownikowe!$AI$2,I1885,0)","v":" "},null,{"$f":"IFERROR(MATCH(D1885,listy_slownikowe!$AH$3:$AH$326,0),0)","v":0},0]
[null,"Gatunki dominujące i subdominujące",null,null,null,null,null,null,null,{"$f":"J1887","v":0}]
[null,"nazwa łacińska",null,"nazwa polska",null,null,"udział [%]",null,null,{"$f":"SUM(J1888:J1892)","v":0}]
[null,null,null,null,null,null,null,null,null,{"$f":"COUNTA(B1888:G1888)","v":0}]
[null,null,null,null,null,null,null,null,null,0]
[null,null,null,null,null,null,null,null,null,0]
[null,null,null,null,null,null,null,null,null,0]
[null,null,null,null,null,null,null,null,null,0]
[]
[null,"Spis gatunków numer:",null,null,null,null,{"$f":"G1867+1","v":71},null,null,{"$f":"J1898","v":0}]
[null,"Współrzędne geograficzne",null,null,null,null,null,null,null,{"$f":"J1899","v":0}]
[null,"Długość geograficzna [E] ",null,null,"Szerokość geograficzna [N]",null,null,null,null,{"$f":"J1899","v":0}]
[null,"stopnie","minuty","sekundy","stopnie","minuty","sekundy",null,null,{"$f":"J1898","v":0}]
[null,null,null,null,null,null,null,null,null,{"$f":"J1900+J1914","v":0}]
[null,"Gatunki wskaźnikowe",null,null,null,null,null,null,null,{"$f":"J1900","v":0}]
[null,"nazwa łacińska",null,"nazwa polska",null,null,"walor ",null,null,{"$f":"SUM(J1901:J1912)","v":0}]
[null,{"$f":"OFFSET(listy_slownikowe!$AG$2,I1901,0)","v":" "},null,null,null,null,{"$f":"OFFSET(listy_slownikowe!$AI$2,I1901,0)","v":" "},null,{"$f":"IFERROR(MATCH(D1901,listy_slownikowe!$AH$3:$AH$326,0),0)","v":0},{"$f":"I1901","v":0}]
[null,{"$f":"OFFSET(listy_slownikowe!$AG$2,I1902,0)","v":" "},null,null,null,null,{"$f":"OFFSET(listy_slownikowe!$AI$2,I1902,0)","v":" "},null,{"$f":"IFERROR(MATCH(D1902,listy_slownikowe!$AH$3:$AH$326,0),0)","v":0},{"$f":"I1902","v":0}]
[null,{"$f":"OFFSET(listy_slownikowe!$AG$2,I1903,0)","v":" "},null,null,null,null,{"$f":"OFFSET(listy_slownikowe!$AI$2,I1903,0)","v":" "},null,{"$f":"IFERROR(MATCH(D1903,listy_slownikowe!$AH$3:$AH$326,0),0)","v":0},0]
[null,{"$f":"OFFSET(listy_slownikowe!$AG$2,I1904,0)","v":" "},null,null,null,null,{"$f":"OFFSET(listy_slownikowe!$AI$2,I1904,0)","v":" "},null,{"$f":"IFERROR(MATCH(D1904,listy_slownikowe!$AH$3:$AH$326,0),0)","v":0},0]
[null,{"$f":"OFFSET(listy_slownikowe!$AG$2,I1905,0)","v":" "},null,null,null,null,{"$f":"OFFSET(listy_slownikowe!$AI$2,I1905,0)","v":" "},null,{"$f":"IFERROR(MATCH(D1905,listy_slownikowe!$AH$3:$AH$326,0),0)","v":0},0]
[null,{"$f":"OFFSET(listy_slownikowe!$AG$2,I1906,0)","v":" "},null,null,null,null,{"$f":"OFFSET(listy_slownikowe!$AI$2,I1906,0)","v":" "},null,{"$f":"IFERROR(MATCH(D1906,listy_slownikowe!$AH$3:$AH$326,0),0)","v":0},0]
[null,{"$f":"OFFSET(listy_slownikowe!$AG$2,I1907,0)","v":" "},null,null,null,null,{"$f":"OFFSET(listy_slownikowe!$AI$2,I1907,0)","v":" "},null,{"$f":"IFERROR(MATCH(D1907,listy_slownikowe!$AH$3:$AH$326,0),0)","v":0},0]
[null,{"$f":"OFFSET(listy_slownikowe!$AG$2,I1908,0)","v":" "},null,null,null,null,{"$f":"OFFSET(listy_slownikowe!$AI$2,I1908,0)","v":" "},null,{"$f":"IFERROR(MATCH(D1908,listy_slownikowe!$AH$3:$AH$326,0),0)","v":0},0]
[null,{"$f":"OFFSET(listy_slownikowe!$AG$2,I1909,0)","v":" "},null,null,null,null,{"$f":"OFFSET(listy_slownikowe!$AI$2,I1909,0)","v":" "},null,{"$f":"IFERROR(MATCH(D1909,listy_slownikowe!$AH$3:$AH$326,0),0)","v":0},0]
[null,{"$f":"OFFSET(listy_slownikowe!$AG$2,I1910,0)","v":" "},null,null,null,null,{"$f":"OFFSET(listy_slownikowe!$AI$2,I1910,0)","v":" "},null,{"$f":"IFERROR(MATCH(D1910,listy_slownikowe!$AH$3:$AH$326,0),0)","v":0},0]
[null,{"$f":"OFFSET(listy_slownikowe!$AG$2,I1911,0)","v":" "},null,"",null,null,{"$f":"OFFSET(listy_slownikowe!$AI$2,I1911,0)","v":" "},null,{"$f":"IFERROR(MATCH(D1911,listy_slownikowe!$AH$3:$AH$326,0),0)","v":0},0]
[null,{"$f":"OFFSET(listy_slownikowe!$AG$2,I1912,0)","v":" "},null,null,null,null,{"$f":"OFFSET(listy_slownikowe!$AI$2,I1912,0)","v":" "},null,{"$f":"IFERROR(MATCH(D1912,listy_slownikowe!$AH$3:$AH$326,0),0)","v":0},0]
[null,"Gatunki dominujące i subdominujące",null,null,null,null,null,null,null,{"$f":"J1914","v":0}]
[null,"nazwa łacińska",null,"nazwa polska",null,null,"udział [%]",null,null,{"$f":"SUM(J1915:J1919)","v":0}]
[null,null,null,null,null,null,null,null,null,{"$f":"COUNTA(B1915:G1915)","v":0}]
[null,null,null,null,null,null,null,null,null,0]
[null,null,null,null,null,null,null,null,null,0]
[null,null,null,null,null,null,null,null,null,0]
[null,null,null,null,null,null,null,null,null,0]
[]
[null,"Spis gatunków numer:",null,null,null,null,{"$f":"G1894+1","v":72},null,null,{"$f":"J1925","v":0}]
[null,"Współrzędne geograficzne",null,null,null,null,null,null,null,{"$f":"J1926","v":0}]
[null,"Długość geograficzna [E] ",null,null,"Szerokość geograficzna [N]",null,null,null,null,{"$f":"J1926","v":0}]
[null,"stopnie","minuty","sekundy","stopnie","minuty","sekundy",null,null,{"$f":"J1925","v":0}]
[null,null,null,null,null,null,null,null,null,{"$f":"J1927+J1941","v":0}]
[null,"Gatunki wskaźnikowe",null,null,null,null,null,null,null,{"$f":"J1927","v":0}]
[null,"nazwa łacińska",null,"nazwa polska",null,null,"walor ",null,null,{"$f":"SUM(J1928:J1939)","v":0}]
[null,{"$f":"OFFSET(listy_slownikowe!$AG$2,I1928,0)","v":" "},null,null,null,null,{"$f":"OFFSET(listy_slownikowe!$AI$2,I1928,0)","v":" "},null,{"$f":"IFERROR(MATCH(D1928,listy_slownikowe!$AH$3:$AH$326,0),0)","v":0},{"$f":"I1928","v":0}]
[null,{"$f":"OFFSET(listy_slownikowe!$AG$2,I1929,0)","v":" "},null,null,null,null,{"$f":"OFFSET(listy_slownikowe!$AI$2,I1929,0)","v":" "},null,{"$f":"IFERROR(MATCH(D1929,listy_slownikowe!$AH$3:$AH$326,0),0)","v":0},{"$f":"I1929","v":0}]
[null,{"$f":"OFFSET(listy_slownikowe!$AG$2,I1930,0)","v":" "},null,null,null,null,{"$f":"OFFSET(listy_slownikowe!$AI$2,I1930,0)","v":" "},null,{"$f":"IFERROR(MATCH(D1930,listy_slownikowe!$AH$3:$AH$326,0),0)","v":0},0]
[null,{"$f":"OFFSET(listy_slownikowe!$AG$2,I1931,0)","v":" "},null,null,null,null,{"$f":"OFFSET(listy_slownikowe!$AI$2,I1931,0)","v":" "},null,{"$f":"IFERROR(MATCH(D1931,listy_slownikowe!$AH$3:$AH$326,0),0)","v":0},0]
[null,{"$f":"OFFSET(listy_slownikowe!$AG$2,I1932,0)","v":" "},null,null,null,null,{"$f":"OFFSET(listy_slownikowe!$AI$2,I1932,0)","v":" "},null,{"$f":"IFERROR(MATCH(D1932,listy_slownikowe!$AH$3:$AH$326,0),0)","v":0},0]
[null,{"$f":"OFFSET(listy_slownikowe!$AG$2,I1933,0)","v":" "},null,null,null,null,{"$f":"OFFSET(listy_slownikowe!$AI$2,I1933,0)","v":" "},null,{"$f":"IFERROR(MATCH(D1933,listy_slownikowe!$AH$3:$AH$326,0),0)","v":0},0]
[null,{"$f":"OFFSET(listy_slownikowe!$AG$2,I1934,0)","v":" "},null,null,null,null,{"$f":"OFFSET(listy_slownikowe!$AI$2,I1934,0)","v":" "},null,{"$f":"IFERROR(MATCH(D1934,listy_slownikowe!$AH$3:$AH$326,0),0)","v":0},0]
[null,{"$f":"OFFSET(listy_slownikowe!$AG$2,I1935,0)","v":" "},null,null,null,null,{"$f":"OFFSET(listy_slownikowe!$AI$2,I1935,0)","v":" "},null,{"$f":"IFERROR(MATCH(D1935,listy_slownikowe!$AH$3:$AH$326,0),0)","v":0},0]
[null,{"$f":"OFFSET(listy_slownikowe!$AG$2,I1936,0)","v":" "},null,null,null,null,{"$f":"OFFSET(listy_slownikowe!$AI$2,I1936,0)","v":" "},null,{"$f":"IFERROR(MATCH(D1936,listy_slownikowe!$AH$3:$AH$326,0),0)","v":0},0]
[null,{"$f":"OFFSET(listy_slownikowe!$AG$2,I1937,0)","v":" "},null,null,null,null,{"$f":"OFFSET(listy_slownikowe!$AI$2,I1937,0)","v":" "},null,{"$f":"IFERROR(MATCH(D1937,listy_slownikowe!$AH$3:$AH$326,0),0)","v":0},0]
[null,{"$f":"OFFSET(listy_slownikowe!$AG$2,I1938,0)","v":" "},null,"",null,null,{"$f":"OFFSET(listy_slownikowe!$AI$2,I1938,0)","v":" "},null,{"$f":"IFERROR(MATCH(D1938,listy_slownikowe!$AH$3:$AH$326,0),0)","v":0},0]
[null,{"$f":"OFFSET(listy_slownikowe!$AG$2,I1939,0)","v":" "},null,null,null,null,{"$f":"OFFSET(listy_slownikowe!$AI$2,I1939,0)","v":" "},null,{"$f":"IFERROR(MATCH(D1939,listy_slownikowe!$AH$3:$AH$326,0),0)","v":0},0]
[null,"Gatunki dominujące i subdominujące",null,null,null,null,null,null,null,{"$f":"J1941","v":0}]
[null,"nazwa łacińska",null,"nazwa polska",null,null,"udział [%]",null,null,{"$f":"SUM(J1942:J1946)","v":0}]
[null,null,null,null,null,null,null,null,null,{"$f":"COUNTA(B1942:G1942)","v":0}]
[null,null,null,null,null,null,null,null,null,0]
[null,null,null,null,null,null,null,null,null,0]
[null,null,null,null,null,null,null,null,null,0]
[null,null,null,null,null,null,null,null,null,0]
[]
[null,"Spis gatunków numer:",null,null,null,null,{"$f":"G1921+1","v":73},null,null,{"$f":"J1952","v":0}]
[null,"Współrzędne geograficzne",null,null,null,null,null,null,null,{"$f":"J1953","v":0}]
[null,"Długość geograficzna [E] ",null,null,"Szerokość geograficzna [N]",null,null,null,null,{"$f":"J1953","v":0}]
[null,"stopnie","minuty","sekundy","stopnie","minuty","sekundy",null,null,{"$f":"J1952","v":0}]
[null,null,null,null,null,null,null,null,null,{"$f":"J1954+J1968","v":0}]
[null,"Gatunki wskaźnikowe",null,null,null,null,null,null,null,{"$f":"J1954","v":0}]
[null,"nazwa łacińska",null,"nazwa polska",null,null,"walor ",null,null,{"$f":"SUM(J1955:J1966)","v":0}]
[null,{"$f":"OFFSET(listy_slownikowe!$AG$2,I1955,0)","v":" "},null,null,null,null,{"$f":"OFFSET(listy_slownikowe!$AI$2,I1955,0)","v":" "},null,{"$f":"IFERROR(MATCH(D1955,listy_slownikowe!$AH$3:$AH$326,0),0)","v":0},{"$f":"I1955","v":0}]
[null,{"$f":"OFFSET(listy_slownikowe!$AG$2,I1956,0)","v":" "},null,null,null,null,{"$f":"OFFSET(listy_slownikowe!$AI$2,I1956,0)","v":" "},null,{"$f":"IFERROR(MATCH(D1956,listy_slownikowe!$AH$3:$AH$326,0),0)","v":0},{"$f":"I1956","v":0}]
[null,{"$f":"OFFSET(listy_slownikowe!$AG$2,I1957,0)","v":" "},null,null,null,null,{"$f":"OFFSET(listy_slownikowe!$AI$2,I1957,0)","v":" "},null,{"$f":"IFERROR(MATCH(D1957,listy_slownikowe!$AH$3:$AH$326,0),0)","v":0},0]
[null,{"$f":"OFFSET(listy_slownikowe!$AG$2,I1958,0)","v":" "},null,null,null,null,{"$f":"OFFSET(listy_slownikowe!$AI$2,I1958,0)","v":" "},null,{"$f":"IFERROR(MATCH(D1958,listy_slownikowe!$AH$3:$AH$326,0),0)","v":0},0]
[null,{"$f":"OFFSET(listy_slownikowe!$AG$2,I1959,0)","v":" "},null,null,null,null,{"$f":"OFFSET(listy_slownikowe!$AI$2,I1959,0)","v":" "},null,{"$f":"IFERROR(MATCH(D1959,listy_slownikowe!$AH$3:$AH$326,0),0)","v":0},0]
[null,{"$f":"OFFSET(listy_slownikowe!$AG$2,I1960,0)","v":" "},null,null,null,null,{"$f":"OFFSET(listy_slownikowe!$AI$2,I1960,0)","v":" "},null,{"$f":"IFERROR(MATCH(D1960,listy_slownikowe!$AH$3:$AH$326,0),0)","v":0},0]
[null,{"$f":"OFFSET(listy_slownikowe!$AG$2,I1961,0)","v":" "},null,null,null,null,{"$f":"OFFSET(listy_slownikowe!$AI$2,I1961,0)","v":" "},null,{"$f":"IFERROR(MATCH(D1961,listy_slownikowe!$AH$3:$AH$326,0),0)","v":0},0]
[null,{"$f":"OFFSET(listy_slownikowe!$AG$2,I1962,0)","v":" "},null,null,null,null,{"$f":"OFFSET(listy_slownikowe!$AI$2,I1962,0)","v":" "},null,{"$f":"IFERROR(MATCH(D1962,listy_slownikowe!$AH$3:$AH$326,0),0)","v":0},0]
[null,{"$f":"OFFSET(listy_slownikowe!$AG$2,I1963,0)","v":" "},null,null,null,null,{"$f":"OFFSET(listy_slownikowe!$AI$2,I1963,0)","v":" "},null,{"$f":"IFERROR(MATCH(D1963,listy_slownikowe!$AH$3:$AH$326,0),0)","v":0},0]
[null,{"$f":"OFFSET(listy_slownikowe!$AG$2,I1964,0)","v":" "},null,null,null,null,{"$f":"OFFSET(listy_slownikowe!$AI$2,I1964,0)","v":" "},null,{"$f":"IFERROR(MATCH(D1964,listy_slownikowe!$AH$3:$AH$326,0),0)","v":0},0]
[null,{"$f":"OFFSET(listy_slownikowe!$AG$2,I1965,0)","v":" "},null,"",null,null,{"$f":"OFFSET(listy_slownikowe!$AI$2,I1965,0)","v":" "},null,{"$f":"IFERROR(MATCH(D1965,listy_slownikowe!$AH$3:$AH$326,0),0)","v":0},0]
[null,{"$f":"OFFSET(listy_slownikowe!$AG$2,I1966,0)","v":" "},null,null,null,null,{"$f":"OFFSET(listy_slownikowe!$AI$2,I1966,0)","v":" "},null,{"$f":"IFERROR(MATCH(D1966,listy_slownikowe!$AH$3:$AH$326,0),0)","v":0},0]
[null,"Gatunki dominujące i subdominujące",null,null,null,null,null,null,null,{"$f":"J1968","v":0}]
[null,"nazwa łacińska",null,"nazwa polska",null,null,"udział [%]",null,null,{"$f":"SUM(J1969:J1973)","v":0}]
[null,null,null,null,null,null,null,null,null,{"$f":"COUNTA(B1969:G1969)","v":0}]
[null,null,null,null,null,null,null,null,null,0]
[null,null,null,null,null,null,null,null,null,0]
[null,null,null,null,null,null,null,null,null,0]
[null,null,null,null,null,null,null,null,null,0]
[]
[null,"Spis gatunków numer:",null,null,null,null,{"$f":"G1948+1","v":74},null,null,{"$f":"J1979","v":0}]
[null,"Współrzędne geograficzne",null,null,null,null,null,null,null,{"$f":"J1980","v":0}]
[null,"Długość geograficzna [E] ",null,null,"Szerokość geograficzna [N]",null,null,null,null,{"$f":"J1980","v":0}]
[null,"stopnie","minuty","sekundy","stopnie","minuty","sekundy",null,null,{"$f":"J1979","v":0}]
[null,null,null,null,null,null,null,null,null,{"$f":"J1981+J1995","v":0}]
[null,"Gatunki wskaźnikowe",null,null,null,null,null,null,null,{"$f":"J1981","v":0}]
[null,"nazwa łacińska",null,"nazwa polska",null,null,"walor ",null,null,{"$f":"SUM(J1982:J1993)","v":0}]
[null,{"$f":"OFFSET(listy_slownikowe!$AG$2,I1982,0)","v":" "},null,null,null,null,{"$f":"OFFSET(listy_slownikowe!$AI$2,I1982,0)","v":" "},null,{"$f":"IFERROR(MATCH(D1982,listy_slownikowe!$AH$3:$AH$326,0),0)","v":0},{"$f":"I1982","v":0}]
[null,{"$f":"OFFSET(listy_slownikowe!$AG$2,I1983,0)","v":" "},null,null,null,null,{"$f":"OFFSET(listy_slownikowe!$AI$2,I1983,0)","v":" "},null,{"$f":"IFERROR(MATCH(D1983,listy_slownikowe!$AH$3:$AH$326,0),0)","v":0},{"$f":"I1983","v":0}]
[null,{"$f":"OFFSET(listy_slownikowe!$AG$2,I1984,0)","v":" "},null,null,null,null,{"$f":"OFFSET(listy_slownikowe!$AI$2,I1984,0)","v":" "},null,{"$f":"IFERROR(MATCH(D1984,listy_slownikowe!$AH$3:$AH$326,0),0)","v":0},0]
[null,{"$f":"OFFSET(listy_slownikowe!$AG$2,I1985,0)","v":" "},null,null,null,null,{"$f":"OFFSET(listy_slownikowe!$AI$2,I1985,0)","v":" "},null,{"$f":"IFERROR(MATCH(D1985,listy_slownikowe!$AH$3:$AH$326,0),0)","v":0},0]
[null,{"$f":"OFFSET(listy_slownikowe!$AG$2,I1986,0)","v":" "},null,null,null,null,{"$f":"OFFSET(listy_slownikowe!$AI$2,I1986,0)","v":" "},null,{"$f":"IFERROR(MATCH(D1986,listy_slownikowe!$AH$3:$AH$326,0),0)","v":0},0]
[null,{"$f":"OFFSET(listy_slownikowe!$AG$2,I1987,0)","v":" "},null,null,null,null,{"$f":"OFFSET(listy_slownikowe!$AI$2,I1987,0)","v":" "},null,{"$f":"IFERROR(MATCH(D1987,listy_slownikowe!$AH$3:$AH$326,0),0)","v":0},0]
[null,{"$f":"OFFSET(listy_slownikowe!$AG$2,I1988,0)","v":" "},null,null,null,null,{"$f":"OFFSET(listy_slownikowe!$AI$2,I1988,0)","v":" "},null,{"$f":"IFERROR(MATCH(D1988,listy_slownikowe!$AH$3:$AH$326,0),0)","v":0},0]
[null,{"$f":"OFFSET(listy_slownikowe!$AG$2,I1989,0)","v":" "},null,null,null,null,{"$f":"OFFSET(listy_slownikowe!$AI$2,I1989,0)","v":" "},null,{"$f":"IFERROR(MATCH(D1989,listy_slownikowe!$AH$3:$AH$326,0),0)","v":0},0]
[null,{"$f":"OFFSET(listy_slownikowe!$AG$2,I1990,0)","v":" "},null,null,null,null,{"$f":"OFFSET(listy_slownikowe!$AI$2,I1990,0)","v":" "},null,{"$f":"IFERROR(MATCH(D1990,listy_slownikowe!$AH$3:$AH$326,0),0)","v":0},0]
[null,{"$f":"OFFSET(listy_slownikowe!$AG$2,I1991,0)","v":" "},null,null,null,null,{"$f":"OFFSET(listy_slownikowe!$AI$2,I1991,0)","v":" "},null,{"$f":"IFERROR(MATCH(D1991,listy_slownikowe!$AH$3:$AH$326,0),0)","v":0},0]
[null,{"$f":"OFFSET(listy_slownikowe!$AG$2,I1992,0)","v":" "},null,"",null,null,{"$f":"OFFSET(listy_slownikowe!$AI$2,I1992,0)","v":" "},null,{"$f":"IFERROR(MATCH(D1992,listy_slownikowe!$AH$3:$AH$326,0),0)","v":0},0]
[null,{"$f":"OFFSET(listy_slownikowe!$AG$2,I1993,0)","v":" "},null,null,null,null,{"$f":"OFFSET(listy_slownikowe!$AI$2,I1993,0)","v":" "},null,{"$f":"IFERROR(MATCH(D1993,listy_slownikowe!$AH$3:$AH$326,0),0)","v":0},0]
[null,"Gatunki dominujące i subdominujące",null,null,null,null,null,null,null,{"$f":"J1995","v":0}]
[null,"nazwa łacińska",null,"nazwa polska",null,null,"udział [%]",null,null,{"$f":"SUM(J1996:J2000)","v":0}]
[null,null,null,null,null,null,null,null,null,{"$f":"COUNTA(B1996:G1996)","v":0}]
[null,null,null,null,null,null,null,null,null,0]
[null,null,null,null,null,null,null,null,null,0]
[null,null,null,null,null,null,null,null,null,0]
[null,null,null,null,null,null,null,null,null,0]
[]
[null,"Spis gatunków numer:",null,null,null,null,{"$f":"G1975+1","v":75},null,null,{"$f":"J2006","v":0}]
[null,"Współrzędne geograficzne",null,null,null,null,null,null,null,{"$f":"J2007","v":0}]
[null,"Długość geograficzna [E] ",null,null,"Szerokość geograficzna [N]",null,null,null,null,{"$f":"J2007","v":0}]
[null,"stopnie","minuty","sekundy","stopnie","minuty","sekundy",null,null,{"$f":"J2006","v":0}]
[null,null,null,null,null,null,null,null,null,{"$f":"J2008+J2022","v":0}]
[null,"Gatunki wskaźnikowe",null,null,null,null,null,null,null,{"$f":"J2008","v":0}]
[null,"nazwa łacińska",null,"nazwa polska",null,null,"walor ",null,null,{"$f":"SUM(J2009:J2020)","v":0}]
[null,{"$f":"OFFSET(listy_slownikowe!$AG$2,I2009,0)","v":" "},null,null,null,null,{"$f":"OFFSET(listy_slownikowe!$AI$2,I2009,0)","v":" "},null,{"$f":"IFERROR(MATCH(D2009,listy_slownikowe!$AH$3:$AH$326,0),0)","v":0},{"$f":"I2009","v":0}]
[null,{"$f":"OFFSET(listy_slownikowe!$AG$2,I2010,0)","v":" "},null,null,null,null,{"$f":"OFFSET(listy_slownikowe!$AI$2,I2010,0)","v":" "},null,{"$f":"IFERROR(MATCH(D2010,listy_slownikowe!$AH$3:$AH$326,0),0)","v":0},{"$f":"I2010","v":0}]
[null,{"$f":"OFFSET(listy_slownikowe!$AG$2,I2011,0)","v":" "},null,null,null,null,{"$f":"OFFSET(listy_slownikowe!$AI$2,I2011,0)","v":" "},null,{"$f":"IFERROR(MATCH(D2011,listy_slownikowe!$AH$3:$AH$326,0),0)","v":0},0]
[null,{"$f":"OFFSET(listy_slownikowe!$AG$2,I2012,0)","v":" "},null,null,null,null,{"$f":"OFFSET(listy_slownikowe!$AI$2,I2012,0)","v":" "},null,{"$f":"IFERROR(MATCH(D2012,listy_slownikowe!$AH$3:$AH$326,0),0)","v":0},0]
[null,{"$f":"OFFSET(listy_slownikowe!$AG$2,I2013,0)","v":" "},null,null,null,null,{"$f":"OFFSET(listy_slownikowe!$AI$2,I2013,0)","v":" "},null,{"$f":"IFERROR(MATCH(D2013,listy_slownikowe!$AH$3:$AH$326,0),0)","v":0},0]
[null,{"$f":"OFFSET(listy_slownikowe!$AG$2,I2014,0)","v":" "},null,null,null,null,{"$f":"OFFSET(listy_slownikowe!$AI$2,I2014,0)","v":" "},null,{"$f":"IFERROR(MATCH(D2014,listy_slownikowe!$AH$3:$AH$326,0),0)","v":0},0]
[null,{"$f":"OFFSET(listy_slownikowe!$AG$2,I2015,0)","v":" "},null,null,null,null,{"$f":"OFFSET(listy_slownikowe!$AI$2,I2015,0)","v":" "},null,{"$f":"IFERROR(MATCH(D2015,listy_slownikowe!$AH$3:$AH$326,0),0)","v":0},0]
[null,{"$f":"OFFSET(listy_slownikowe!$AG$2,I2016,0)","v":" "},null,null,null,null,{"$f":"OFFSET(listy_slownikowe!$AI$2,I2016,0)","v":" "},null,{"$f":"IFERROR(MATCH(D2016,listy_slownikowe!$AH$3:$AH$326,0),0)","v":0},0]
[null,{"$f":"OFFSET(listy_slownikowe!$AG$2,I2017,0)","v":" "},null,null,null,null,{"$f":"OFFSET(listy_slownikowe!$AI$2,I2017,0)","v":" "},null,{"$f":"IFERROR(MATCH(D2017,listy_slownikowe!$AH$3:$AH$326,0),0)","v":0},0]
[null,{"$f":"OFFSET(listy_slownikowe!$AG$2,I2018,0)","v":" "},null,null,null,null,{"$f":"OFFSET(listy_slownikowe!$AI$2,I2018,0)","v":" "},null,{"$f":"IFERROR(MATCH(D2018,listy_slownikowe!$AH$3:$AH$326,0),0)","v":0},0]
[null,{"$f":"OFFSET(listy_slownikowe!$AG$2,I2019,0)","v":" "},null,"",null,null,{"$f":"OFFSET(listy_slownikowe!$AI$2,I2019,0)","v":" "},null,{"$f":"IFERROR(MATCH(D2019,listy_slownikowe!$AH$3:$AH$326,0),0)","v":0},0]
[null,{"$f":"OFFSET(listy_slownikowe!$AG$2,I2020,0)","v":" "},null,null,null,null,{"$f":"OFFSET(listy_slownikowe!$AI$2,I2020,0)","v":" "},null,{"$f":"IFERROR(MATCH(D2020,listy_slownikowe!$AH$3:$AH$326,0),0)","v":0},0]
[null,"Gatunki dominujące i subdominujące",null,null,null,null,null,null,null,{"$f":"J2022","v":0}]
[null,"nazwa łacińska",null,"nazwa polska",null,null,"udział [%]",null,null,{"$f":"SUM(J2023:J2027)","v":0}]
[null,null,null,null,null,null,null,null,null,{"$f":"COUNTA(B2023:G2023)","v":0}]
[null,null,null,null,null,null,null,null,null,0]
[null,null,null,null,null,null,null,null,null,0]
[null,null,null,null,null,null,null,null,null,0]
[null,null,null,null,null,null,null,null,null,0]
[]
[null,"Spis gatunków numer:",null,null,null,null,{"$f":"G2002+1","v":76},null,null,{"$f":"J2033","v":0}]
[null,"Współrzędne geograficzne",null,null,null,null,null,null,null,{"$f":"J2034","v":0}]
[null,"Długość geograficzna [E] ",null,null,"Szerokość geograficzna [N]",null,null,null,null,{"$f":"J2034","v":0}]
[null,"stopnie","minuty","sekundy","stopnie","minuty","sekundy",null,null,{"$f":"J2033","v":0}]
[null,null,null,null,null,null,null,null,null,{"$f":"J2035+J2049","v":0}]
[null,"Gatunki wskaźnikowe",null,null,null,null,null,null,null,{"$f":"J2035","v":0}]
[null,"nazwa łacińska",null,"nazwa polska",null,null,"walor ",null,null,{"$f":"SUM(J2036:J2047)","v":0}]
[null,{"$f":"OFFSET(listy_slownikowe!$AG$2,I2036,0)","v":" "},null,null,null,null,{"$f":"OFFSET(listy_slownikowe!$AI$2,I2036,0)","v":" "},null,{"$f":"IFERROR(MATCH(D2036,listy_slownikowe!$AH$3:$AH$326,0),0)","v":0},{"$f":"I2036","v":0}]
[null,{"$f":"OFFSET(listy_slownikowe!$AG$2,I2037,0)","v":" "},null,null,null,null,{"$f":"OFFSET(listy_slownikowe!$AI$2,I2037,0)","v":" "},null,{"$f":"IFERROR(MATCH(D2037,listy_slownikowe!$AH$3:$AH$326,0),0)","v":0},{"$f":"I2037","v":0}]
[null,{"$f":"OFFSET(listy_slownikowe!$AG$2,I2038,0)","v":" "},null,null,null,null,{"$f":"OFFSET(listy_slownikowe!$AI$2,I2038,0)","v":" "},null,{"$f":"IFERROR(MATCH(D2038,listy_slownikowe!$AH$3:$AH$326,0),0)","v":0},0]
[null,{"$f":"OFFSET(listy_slownikowe!$AG$2,I2039,0)","v":" "},null,null,null,null,{"$f":"OFFSET(listy_slownikowe!$AI$2,I2039,0)","v":" "},null,{"$f":"IFERROR(MATCH(D2039,listy_slownikowe!$AH$3:$AH$326,0),0)","v":0},0]
[null,{"$f":"OFFSET(listy_slownikowe!$AG$2,I2040,0)","v":" "},null,null,null,null,{"$f":"OFFSET(listy_slownikowe!$AI$2,I2040,0)","v":" "},null,{"$f":"IFERROR(MATCH(D2040,listy_slownikowe!$AH$3:$AH$326,0),0)","v":0},0]
[null,{"$f":"OFFSET(listy_slownikowe!$AG$2,I2041,0)","v":" "},null,null,null,null,{"$f":"OFFSET(listy_slownikowe!$AI$2,I2041,0)","v":" "},null,{"$f":"IFERROR(MATCH(D2041,listy_slownikowe!$AH$3:$AH$326,0),0)","v":0},0]
[null,{"$f":"OFFSET(listy_slownikowe!$AG$2,I2042,0)","v":" "},null,null,null,null,{"$f":"OFFSET(listy_slownikowe!$AI$2,I2042,0)","v":" "},null,{"$f":"IFERROR(MATCH(D2042,listy_slownikowe!$AH$3:$AH$326,0),0)","v":0},0]
[null,{"$f":"OFFSET(listy_slownikowe!$AG$2,I2043,0)","v":" "},null,null,null,null,{"$f":"OFFSET(listy_slownikowe!$AI$2,I2043,0)","v":" "},null,{"$f":"IFERROR(MATCH(D2043,listy_slownikowe!$AH$3:$AH$326,0),0)","v":0},0]
[null,{"$f":"OFFSET(listy_slownikowe!$AG$2,I2044,0)","v":" "},null,null,null,null,{"$f":"OFFSET(listy_slownikowe!$AI$2,I2044,0)","v":" "},null,{"$f":"IFERROR(MATCH(D2044,listy_slownikowe!$AH$3:$AH$326,0),0)","v":0},0]
[null,{"$f":"OFFSET(listy_slownikowe!$AG$2,I2045,0)","v":" "},null,null,null,null,{"$f":"OFFSET(listy_slownikowe!$AI$2,I2045,0)","v":" "},null,{"$f":"IFERROR(MATCH(D2045,listy_slownikowe!$AH$3:$AH$326,0),0)","v":0},0]
[null,{"$f":"OFFSET(listy_slownikowe!$AG$2,I2046,0)","v":" "},null,"",null,null,{"$f":"OFFSET(listy_slownikowe!$AI$2,I2046,0)","v":" "},null,{"$f":"IFERROR(MATCH(D2046,listy_slownikowe!$AH$3:$AH$326,0),0)","v":0},0]
[null,{"$f":"OFFSET(listy_slownikowe!$AG$2,I2047,0)","v":" "},null,null,null,null,{"$f":"OFFSET(listy_slownikowe!$AI$2,I2047,0)","v":" "},null,{"$f":"IFERROR(MATCH(D2047,listy_slownikowe!$AH$3:$AH$326,0),0)","v":0},0]
[null,"Gatunki dominujące i subdominujące",null,null,null,null,null,null,null,{"$f":"J2049","v":0}]
[null,"nazwa łacińska",null,"nazwa polska",null,null,"udział [%]",null,null,{"$f":"SUM(J2050:J2054)","v":0}]
[null,null,null,null,null,null,null,null,null,{"$f":"COUNTA(B2050:G2050)","v":0}]
[null,null,null,null,null,null,null,null,null,0]
[null,null,null,null,null,null,null,null,null,0]
[null,null,null,null,null,null,null,null,null,0]
[null,null,null,null,null,null,null,null,null,0]
[]
[null,"Spis gatunków numer:",null,null,null,null,{"$f":"G2029+1","v":77},null,null,{"$f":"J2060","v":0}]
[null,"Współrzędne geograficzne",null,null,null,null,null,null,null,{"$f":"J2061","v":0}]
[null,"Długość geograficzna [E] ",null,null,"Szerokość geograficzna [N]",null,null,null,null,{"$f":"J2061","v":0}]
[null,"stopnie","minuty","sekundy","stopnie","minuty","sekundy",null,null,{"$f":"J2060","v":0}]
[null,null,null,null,null,null,null,null,null,{"$f":"J2062+J2076","v":0}]
[null,"Gatunki wskaźnikowe",null,null,null,null,null,null,null,{"$f":"J2062","v":0}]
[null,"nazwa łacińska",null,"nazwa polska",null,null,"walor ",null,null,{"$f":"SUM(J2063:J2074)","v":0}]
[null,{"$f":"OFFSET(listy_slownikowe!$AG$2,I2063,0)","v":" "},null,null,null,null,{"$f":"OFFSET(listy_slownikowe!$AI$2,I2063,0)","v":" "},null,{"$f":"IFERROR(MATCH(D2063,listy_slownikowe!$AH$3:$AH$326,0),0)","v":0},{"$f":"I2063","v":0}]
[null,{"$f":"OFFSET(listy_slownikowe!$AG$2,I2064,0)","v":" "},null,null,null,null,{"$f":"OFFSET(listy_slownikowe!$AI$2,I2064,0)","v":" "},null,{"$f":"IFERROR(MATCH(D2064,listy_slownikowe!$AH$3:$AH$326,0),0)","v":0},{"$f":"I2064","v":0}]
[null,{"$f":"OFFSET(listy_slownikowe!$AG$2,I2065,0)","v":" "},null,null,null,null,{"$f":"OFFSET(listy_slownikowe!$AI$2,I2065,0)","v":" "},null,{"$f":"IFERROR(MATCH(D2065,listy_slownikowe!$AH$3:$AH$326,0),0)","v":0},0]
[null,{"$f":"OFFSET(listy_slownikowe!$AG$2,I2066,0)","v":" "},null,null,null,null,{"$f":"OFFSET(listy_slownikowe!$AI$2,I2066,0)","v":" "},null,{"$f":"IFERROR(MATCH(D2066,listy_slownikowe!$AH$3:$AH$326,0),0)","v":0},0]
[null,{"$f":"OFFSET(listy_slownikowe!$AG$2,I2067,0)","v":" "},null,null,null,null,{"$f":"OFFSET(listy_slownikowe!$AI$2,I2067,0)","v":" "},null,{"$f":"IFERROR(MATCH(D2067,listy_slownikowe!$AH$3:$AH$326,0),0)","v":0},0]
[null,{"$f":"OFFSET(listy_slownikowe!$AG$2,I2068,0)","v":" "},null,null,null,null,{"$f":"OFFSET(listy_slownikowe!$AI$2,I2068,0)","v":" "},null,{"$f":"IFERROR(MATCH(D2068,listy_slownikowe!$AH$3:$AH$326,0),0)","v":0},0]
[null,{"$f":"OFFSET(listy_slownikowe!$AG$2,I2069,0)","v":" "},null,null,null,null,{"$f":"OFFSET(listy_slownikowe!$AI$2,I2069,0)","v":" "},null,{"$f":"IFERROR(MATCH(D2069,listy_slownikowe!$AH$3:$AH$326,0),0)","v":0},0]
[null,{"$f":"OFFSET(listy_slownikowe!$AG$2,I2070,0)","v":" "},null,null,null,null,{"$f":"OFFSET(listy_slownikowe!$AI$2,I2070,0)","v":" "},null,{"$f":"IFERROR(MATCH(D2070,listy_slownikowe!$AH$3:$AH$326,0),0)","v":0},0]
[null,{"$f":"OFFSET(listy_slownikowe!$AG$2,I2071,0)","v":" "},null,null,null,null,{"$f":"OFFSET(listy_slownikowe!$AI$2,I2071,0)","v":" "},null,{"$f":"IFERROR(MATCH(D2071,listy_slownikowe!$AH$3:$AH$326,0),0)","v":0},0]
[null,{"$f":"OFFSET(listy_slownikowe!$AG$2,I2072,0)","v":" "},null,null,null,null,{"$f":"OFFSET(listy_slownikowe!$AI$2,I2072,0)","v":" "},null,{"$f":"IFERROR(MATCH(D2072,listy_slownikowe!$AH$3:$AH$326,0),0)","v":0},0]
[null,{"$f":"OFFSET(listy_slownikowe!$AG$2,I2073,0)","v":" "},null,"",null,null,{"$f":"OFFSET(listy_slownikowe!$AI$2,I2073,0)","v":" "},null,{"$f":"IFERROR(MATCH(D2073,listy_slownikowe!$AH$3:$AH$326,0),0)","v":0},0]
[null,{"$f":"OFFSET(listy_slownikowe!$AG$2,I2074,0)","v":" "},null,null,null,null,{"$f":"OFFSET(listy_slownikowe!$AI$2,I2074,0)","v":" "},null,{"$f":"IFERROR(MATCH(D2074,listy_slownikowe!$AH$3:$AH$326,0),0)","v":0},0]
[null,"Gatunki dominujące i subdominujące",null,null,null,null,null,null,null,{"$f":"J2076","v":0}]
[null,"nazwa łacińska",null,"nazwa polska",null,null,"udział [%]",null,null,{"$f":"SUM(J2077:J2081)","v":0}]
[null,null,null,null,null,null,null,null,null,{"$f":"COUNTA(B2077:G2077)","v":0}]
[null,null,null,null,null,null,null,null,null,0]
[null,null,null,null,null,null,null,null,null,0]
[null,null,null,null,null,null,null,null,null,0]
[null,null,null,null,null,null,null,null,null,0]
[]
[null,"Spis gatunków numer:",null,null,null,null,{"$f":"G2056+1","v":78},null,null,{"$f":"J2087","v":0}]
[null,"Współrzędne geograficzne",null,null,null,null,null,null,null,{"$f":"J2088","v":0}]
[null,"Długość geograficzna [E] ",null,null,"Szerokość geograficzna [N]",null,null,null,null,{"$f":"J2088","v":0}]
[null,"stopnie","minuty","sekundy","stopnie","minuty","sekundy",null,null,{"$f":"J2087","v":0}]
[null,null,null,null,null,null,null,null,null,{"$f":"J2089+J2103","v":0}]
[null,"Gatunki wskaźnikowe",null,null,null,null,null,null,null,{"$f":"J2089","v":0}]
[null,"nazwa łacińska",null,"nazwa polska",null,null,"walor ",null,null,{"$f":"SUM(J2090:J2101)","v":0}]
[null,{"$f":"OFFSET(listy_slownikowe!$AG$2,I2090,0)","v":" "},null,null,null,null,{"$f":"OFFSET(listy_slownikowe!$AI$2,I2090,0)","v":" "},null,{"$f":"IFERROR(MATCH(D2090,listy_slownikowe!$AH$3:$AH$326,0),0)","v":0},{"$f":"I2090","v":0}]
[null,{"$f":"OFFSET(listy_slownikowe!$AG$2,I2091,0)","v":" "},null,null,null,null,{"$f":"OFFSET(listy_slownikowe!$AI$2,I2091,0)","v":" "},null,{"$f":"IFERROR(MATCH(D2091,listy_slownikowe!$AH$3:$AH$326,0),0)","v":0},{"$f":"I2091","v":0}]
[null,{"$f":"OFFSET(listy_slownikowe!$AG$2,I2092,0)","v":" "},null,null,null,null,{"$f":"OFFSET(listy_slownikowe!$AI$2,I2092,0)","v":" "},null,{"$f":"IFERROR(MATCH(D2092,listy_slownikowe!$AH$3:$AH$326,0),0)","v":0},0]
[null,{"$f":"OFFSET(listy_slownikowe!$AG$2,I2093,0)","v":" "},null,null,null,null,{"$f":"OFFSET(listy_slownikowe!$AI$2,I2093,0)","v":" "},null,{"$f":"IFERROR(MATCH(D2093,listy_slownikowe!$AH$3:$AH$326,0),0)","v":0},0]
[null,{"$f":"OFFSET(listy_slownikowe!$AG$2,I2094,0)","v":" "},null,null,null,null,{"$f":"OFFSET(listy_slownikowe!$AI$2,I2094,0)","v":" "},null,{"$f":"IFERROR(MATCH(D2094,listy_slownikowe!$AH$3:$AH$326,0),0)","v":0},0]
[null,{"$f":"OFFSET(listy_slownikowe!$AG$2,I2095,0)","v":" "},null,null,null,null,{"$f":"OFFSET(listy_slownikowe!$AI$2,I2095,0)","v":" "},null,{"$f":"IFERROR(MATCH(D2095,listy_slownikowe!$AH$3:$AH$326,0),0)","v":0},0]
[null,{"$f":"OFFSET(listy_slownikowe!$AG$2,I2096,0)","v":" "},null,null,null,null,{"$f":"OFFSET(listy_slownikowe!$AI$2,I2096,0)","v":" "},null,{"$f":"IFERROR(MATCH(D2096,listy_slownikowe!$AH$3:$AH$326,0),0)","v":0},0]
[null,{"$f":"OFFSET(listy_slownikowe!$AG$2,I2097,0)","v":" "},null,null,null,null,{"$f":"OFFSET(listy_slownikowe!$AI$2,I2097,0)","v":" "},null,{"$f":"IFERROR(MATCH(D2097,listy_slownikowe!$AH$3:$AH$326,0),0)","v":0},0]
[null,{"$f":"OFFSET(listy_slownikowe!$AG$2,I2098,0)","v":" "},null,null,null,null,{"$f":"OFFSET(listy_slownikowe!$AI$2,I2098,0)","v":" "},null,{"$f":"IFERROR(MATCH(D2098,listy_slownikowe!$AH$3:$AH$326,0),0)","v":0},0]
[null,{"$f":"OFFSET(listy_slownikowe!$AG$2,I2099,0)","v":" "},null,null,null,null,{"$f":"OFFSET(listy_slownikowe!$AI$2,I2099,0)","v":" "},null,{"$f":"IFERROR(MATCH(D2099,listy_slownikowe!$AH$3:$AH$326,0),0)","v":0},0]
[null,{"$f":"OFFSET(listy_slownikowe!$AG$2,I2100,0)","v":" "},null,"",null,null,{"$f":"OFFSET(listy_slownikowe!$AI$2,I2100,0)","v":" "},null,{"$f":"IFERROR(MATCH(D2100,listy_slownikowe!$AH$3:$AH$326,0),0)","v":0},0]
[null,{"$f":"OFFSET(listy_slownikowe!$AG$2,I2101,0)","v":" "},null,null,null,null,{"$f":"OFFSET(listy_slownikowe!$AI$2,I2101,0)","v":" "},null,{"$f":"IFERROR(MATCH(D2101,listy_slownikowe!$AH$3:$AH$326,0),0)","v":0},0]
[null,"Gatunki dominujące i subdominujące",null,null,null,null,null,null,null,{"$f":"J2103","v":0}]
[null,"nazwa łacińska",null,"nazwa polska",null,null,"udział [%]",null,null,{"$f":"SUM(J2104:J2108)","v":0}]
[null,null,null,null,null,null,null,null,null,{"$f":"COUNTA(B2104:G2104)","v":0}]
[null,null,null,null,null,null,null,null,null,0]
[null,null,null,null,null,null,null,null,null,0]
[null,null,null,null,null,null,null,null,null,0]
[null,null,null,null,null,null,null,null,null,0]
[]
[null,"Spis gatunków numer:",null,null,null,null,{"$f":"G2083+1","v":79},null,null,{"$f":"J2114","v":0}]
[null,"Współrzędne geograficzne",null,null,null,null,null,null,null,{"$f":"J2115","v":0}]
[null,"Długość geograficzna [E] ",null,null,"Szerokość geograficzna [N]",null,null,null,null,{"$f":"J2115","v":0}]
[null,"stopnie","minuty","sekundy","stopnie","minuty","sekundy",null,null,{"$f":"J2114","v":0}]
[null,null,null,null,null,null,null,null,null,{"$f":"J2116+J2130","v":0}]
[null,"Gatunki wskaźnikowe",null,null,null,null,null,null,null,{"$f":"J2116","v":0}]
[null,"nazwa łacińska",null,"nazwa polska",null,null,"walor ",null,null,{"$f":"SUM(J2117:J2128)","v":0}]
[null,{"$f":"OFFSET(listy_slownikowe!$AG$2,I2117,0)","v":" "},null,null,null,null,{"$f":"OFFSET(listy_slownikowe!$AI$2,I2117,0)","v":" "},null,{"$f":"IFERROR(MATCH(D2117,listy_slownikowe!$AH$3:$AH$326,0),0)","v":0},{"$f":"I2117","v":0}]
[null,{"$f":"OFFSET(listy_slownikowe!$AG$2,I2118,0)","v":" "},null,null,null,null,{"$f":"OFFSET(listy_slownikowe!$AI$2,I2118,0)","v":" "},null,{"$f":"IFERROR(MATCH(D2118,listy_slownikowe!$AH$3:$AH$326,0),0)","v":0},{"$f":"I2118","v":0}]
[null,{"$f":"OFFSET(listy_slownikowe!$AG$2,I2119,0)","v":" "},null,null,null,null,{"$f":"OFFSET(listy_slownikowe!$AI$2,I2119,0)","v":" "},null,{"$f":"IFERROR(MATCH(D2119,listy_slownikowe!$AH$3:$AH$326,0),0)","v":0},0]
[null,{"$f":"OFFSET(listy_slownikowe!$AG$2,I2120,0)","v":" "},null,null,null,null,{"$f":"OFFSET(listy_slownikowe!$AI$2,I2120,0)","v":" "},null,{"$f":"IFERROR(MATCH(D2120,listy_slownikowe!$AH$3:$AH$326,0),0)","v":0},0]
[null,{"$f":"OFFSET(listy_slownikowe!$AG$2,I2121,0)","v":" "},null,null,null,null,{"$f":"OFFSET(listy_slownikowe!$AI$2,I2121,0)","v":" "},null,{"$f":"IFERROR(MATCH(D2121,listy_slownikowe!$AH$3:$AH$326,0),0)","v":0},0]
[null,{"$f":"OFFSET(listy_slownikowe!$AG$2,I2122,0)","v":" "},null,null,null,null,{"$f":"OFFSET(listy_slownikowe!$AI$2,I2122,0)","v":" "},null,{"$f":"IFERROR(MATCH(D2122,listy_slownikowe!$AH$3:$AH$326,0),0)","v":0},0]
[null,{"$f":"OFFSET(listy_slownikowe!$AG$2,I2123,0)","v":" "},null,null,null,null,{"$f":"OFFSET(listy_slownikowe!$AI$2,I2123,0)","v":" "},null,{"$f":"IFERROR(MATCH(D2123,listy_slownikowe!$AH$3:$AH$326,0),0)","v":0},0]
[null,{"$f":"OFFSET(listy_slownikowe!$AG$2,I2124,0)","v":" "},null,null,null,null,{"$f":"OFFSET(listy_slownikowe!$AI$2,I2124,0)","v":" "},null,{"$f":"IFERROR(MATCH(D2124,listy_slownikowe!$AH$3:$AH$326,0),0)","v":0},0]
[null,{"$f":"OFFSET(listy_slownikowe!$AG$2,I2125,0)","v":" "},null,null,null,null,{"$f":"OFFSET(listy_slownikowe!$AI$2,I2125,0)","v":" "},null,{"$f":"IFERROR(MATCH(D2125,listy_slownikowe!$AH$3:$AH$326,0),0)","v":0},0]
[null,{"$f":"OFFSET(listy_slownikowe!$AG$2,I2126,0)","v":" "},null,null,null,null,{"$f":"OFFSET(listy_slownikowe!$AI$2,I2126,0)","v":" "},null,{"$f":"IFERROR(MATCH(D2126,listy_slownikowe!$AH$3:$AH$326,0),0)","v":0},0]
[null,{"$f":"OFFSET(listy_slownikowe!$AG$2,I2127,0)","v":" "},null,"",null,null,{"$f":"OFFSET(listy_slownikowe!$AI$2,I2127,0)","v":" "},null,{"$f":"IFERROR(MATCH(D2127,listy_slownikowe!$AH$3:$AH$326,0),0)","v":0},0]
[null,{"$f":"OFFSET(listy_slownikowe!$AG$2,I2128,0)","v":" "},null,null,null,null,{"$f":"OFFSET(listy_slownikowe!$AI$2,I2128,0)","v":" "},null,{"$f":"IFERROR(MATCH(D2128,listy_slownikowe!$AH$3:$AH$326,0),0)","v":0},0]
[null,"Gatunki dominujące i subdominujące",null,null,null,null,null,null,null,{"$f":"J2130","v":0}]
[null,"nazwa łacińska",null,"nazwa polska",null,null,"udział [%]",null,null,{"$f":"SUM(J2131:J2135)","v":0}]
[null,null,null,null,null,null,null,null,null,{"$f":"COUNTA(B2131:G2131)","v":0}]
[null,null,null,null,null,null,null,null,null,0]
[null,null,null,null,null,null,null,null,null,0]
[null,null,null,null,null,null,null,null,null,0]
[null,null,null,null,null,null,null,null,null,0]
[]
[null,"Spis gatunków numer:",null,null,null,null,{"$f":"G2110+1","v":80},null,null,{"$f":"J2141","v":0}]
[null,"Współrzędne geograficzne",null,null,null,null,null,null,null,{"$f":"J2142","v":0}]
[null,"Długość geograficzna [E] ",null,null,"Szerokość geograficzna [N]",null,null,null,null,{"$f":"J2142","v":0}]
[null,"stopnie","minuty","sekundy","stopnie","minuty","sekundy",null,null,{"$f":"J2141","v":0}]
[null,null,null,null,null,null,null,null,null,{"$f":"J2143+J2157","v":0}]
[null,"Gatunki wskaźnikowe",null,null,null,null,null,null,null,{"$f":"J2143","v":0}]
[null,"nazwa łacińska",null,"nazwa polska",null,null,"walor ",null,null,{"$f":"SUM(J2144:J2155)","v":0}]
[null,{"$f":"OFFSET(listy_slownikowe!$AG$2,I2144,0)","v":" "},null,null,null,null,{"$f":"OFFSET(listy_slownikowe!$AI$2,I2144,0)","v":" "},null,{"$f":"IFERROR(MATCH(D2144,listy_slownikowe!$AH$3:$AH$326,0),0)","v":0},{"$f":"I2144","v":0}]
[null,{"$f":"OFFSET(listy_slownikowe!$AG$2,I2145,0)","v":" "},null,null,null,null,{"$f":"OFFSET(listy_slownikowe!$AI$2,I2145,0)","v":" "},null,{"$f":"IFERROR(MATCH(D2145,listy_slownikowe!$AH$3:$AH$326,0),0)","v":0},{"$f":"I2145","v":0}]
[null,{"$f":"OFFSET(listy_slownikowe!$AG$2,I2146,0)","v":" "},null,null,null,null,{"$f":"OFFSET(listy_slownikowe!$AI$2,I2146,0)","v":" "},null,{"$f":"IFERROR(MATCH(D2146,listy_slownikowe!$AH$3:$AH$326,0),0)","v":0},0]
[null,{"$f":"OFFSET(listy_slownikowe!$AG$2,I2147,0)","v":" "},null,null,null,null,{"$f":"OFFSET(listy_slownikowe!$AI$2,I2147,0)","v":" "},null,{"$f":"IFERROR(MATCH(D2147,listy_slownikowe!$AH$3:$AH$326,0),0)","v":0},0]
[null,{"$f":"OFFSET(listy_slownikowe!$AG$2,I2148,0)","v":" "},null,null,null,null,{"$f":"OFFSET(listy_slownikowe!$AI$2,I2148,0)","v":" "},null,{"$f":"IFERROR(MATCH(D2148,listy_slownikowe!$AH$3:$AH$326,0),0)","v":0},0]
[null,{"$f":"OFFSET(listy_slownikowe!$AG$2,I2149,0)","v":" "},null,null,null,null,{"$f":"OFFSET(listy_slownikowe!$AI$2,I2149,0)","v":" "},null,{"$f":"IFERROR(MATCH(D2149,listy_slownikowe!$AH$3:$AH$326,0),0)","v":0},0]
[null,{"$f":"OFFSET(listy_slownikowe!$AG$2,I2150,0)","v":" "},null,null,null,null,{"$f":"OFFSET(listy_slownikowe!$AI$2,I2150,0)","v":" "},null,{"$f":"IFERROR(MATCH(D2150,listy_slownikowe!$AH$3:$AH$326,0),0)","v":0},0]
[null,{"$f":"OFFSET(listy_slownikowe!$AG$2,I2151,0)","v":" "},null,null,null,null,{"$f":"OFFSET(listy_slownikowe!$AI$2,I2151,0)","v":" "},null,{"$f":"IFERROR(MATCH(D2151,listy_slownikowe!$AH$3:$AH$326,0),0)","v":0},0]
[null,{"$f":"OFFSET(listy_slownikowe!$AG$2,I2152,0)","v":" "},null,null,null,null,{"$f":"OFFSET(listy_slownikowe!$AI$2,I2152,0)","v":" "},null,{"$f":"IFERROR(MATCH(D2152,listy_slownikowe!$AH$3:$AH$326,0),0)","v":0},0]
[null,{"$f":"OFFSET(listy_slownikowe!$AG$2,I2153,0)","v":" "},null,null,null,null,{"$f":"OFFSET(listy_slownikowe!$AI$2,I2153,0)","v":" "},null,{"$f":"IFERROR(MATCH(D2153,listy_slownikowe!$AH$3:$AH$326,0),0)","v":0},0]
[null,{"$f":"OFFSET(listy_slownikowe!$AG$2,I2154,0)","v":" "},null,"",null,null,{"$f":"OFFSET(listy_slownikowe!$AI$2,I2154,0)","v":" "},null,{"$f":"IFERROR(MATCH(D2154,listy_slownikowe!$AH$3:$AH$326,0),0)","v":0},0]
[null,{"$f":"OFFSET(listy_slownikowe!$AG$2,I2155,0)","v":" "},null,null,null,null,{"$f":"OFFSET(listy_slownikowe!$AI$2,I2155,0)","v":" "},null,{"$f":"IFERROR(MATCH(D2155,listy_slownikowe!$AH$3:$AH$326,0),0)","v":0},0]
[null,"Gatunki dominujące i subdominujące",null,null,null,null,null,null,null,{"$f":"J2157","v":0}]
[null,"nazwa łacińska",null,"nazwa polska",null,null,"udział [%]",null,null,{"$f":"SUM(J2158:J2162)","v":0}]
[null,null,null,null,null,null,null,null,null,{"$f":"COUNTA(B2158:G2158)","v":0}]
[null,null,null,null,null,null,null,null,null,0]
[null,null,null,null,null,null,null,null,null,0]
[null,null,null,null,null,null,null,null,null,0]
[null,null,null,null,null,null,null,null,null,0]
[]
[null,"Spis gatunków numer:",null,null,null,null,{"$f":"G2137+1","v":81},null,null,{"$f":"J2168","v":0}]
[null,"Współrzędne geograficzne",null,null,null,null,null,null,null,{"$f":"J2169","v":0}]
[null,"Długość geograficzna [E] ",null,null,"Szerokość geograficzna [N]",null,null,null,null,{"$f":"J2169","v":0}]
[null,"stopnie","minuty","sekundy","stopnie","minuty","sekundy",null,null,{"$f":"J2168","v":0}]
[null,null,null,null,null,null,null,null,null,{"$f":"J2170+J2184","v":0}]
[null,"Gatunki wskaźnikowe",null,null,null,null,null,null,null,{"$f":"J2170","v":0}]
[null,"nazwa łacińska",null,"nazwa polska",null,null,"walor ",null,null,{"$f":"SUM(J2171:J2182)","v":0}]
[null,{"$f":"OFFSET(listy_slownikowe!$AG$2,I2171,0)","v":" "},null,null,null,null,{"$f":"OFFSET(listy_slownikowe!$AI$2,I2171,0)","v":" "},null,{"$f":"IFERROR(MATCH(D2171,listy_slownikowe!$AH$3:$AH$326,0),0)","v":0},{"$f":"I2171","v":0}]
[null,{"$f":"OFFSET(listy_slownikowe!$AG$2,I2172,0)","v":" "},null,null,null,null,{"$f":"OFFSET(listy_slownikowe!$AI$2,I2172,0)","v":" "},null,{"$f":"IFERROR(MATCH(D2172,listy_slownikowe!$AH$3:$AH$326,0),0)","v":0},{"$f":"I2172","v":0}]
[null,{"$f":"OFFSET(listy_slownikowe!$AG$2,I2173,0)","v":" "},null,null,null,null,{"$f":"OFFSET(listy_slownikowe!$AI$2,I2173,0)","v":" "},null,{"$f":"IFERROR(MATCH(D2173,listy_slownikowe!$AH$3:$AH$326,0),0)","v":0},0]
[null,{"$f":"OFFSET(listy_slownikowe!$AG$2,I2174,0)","v":" "},null,null,null,null,{"$f":"OFFSET(listy_slownikowe!$AI$2,I2174,0)","v":" "},null,{"$f":"IFERROR(MATCH(D2174,listy_slownikowe!$AH$3:$AH$326,0),0)","v":0},0]
[null,{"$f":"OFFSET(listy_slownikowe!$AG$2,I2175,0)","v":" "},null,null,null,null,{"$f":"OFFSET(listy_slownikowe!$AI$2,I2175,0)","v":" "},null,{"$f":"IFERROR(MATCH(D2175,listy_slownikowe!$AH$3:$AH$326,0),0)","v":0},0]
[null,{"$f":"OFFSET(listy_slownikowe!$AG$2,I2176,0)","v":" "},null,null,null,null,{"$f":"OFFSET(listy_slownikowe!$AI$2,I2176,0)","v":" "},null,{"$f":"IFERROR(MATCH(D2176,listy_slownikowe!$AH$3:$AH$326,0),0)","v":0},0]
[null,{"$f":"OFFSET(listy_slownikowe!$AG$2,I2177,0)","v":" "},null,null,null,null,{"$f":"OFFSET(listy_slownikowe!$AI$2,I2177,0)","v":" "},null,{"$f":"IFERROR(MATCH(D2177,listy_slownikowe!$AH$3:$AH$326,0),0)","v":0},0]
[null,{"$f":"OFFSET(listy_slownikowe!$AG$2,I2178,0)","v":" "},null,null,null,null,{"$f":"OFFSET(listy_slownikowe!$AI$2,I2178,0)","v":" "},null,{"$f":"IFERROR(MATCH(D2178,listy_slownikowe!$AH$3:$AH$326,0),0)","v":0},0]
[null,{"$f":"OFFSET(listy_slownikowe!$AG$2,I2179,0)","v":" "},null,null,null,null,{"$f":"OFFSET(listy_slownikowe!$AI$2,I2179,0)","v":" "},null,{"$f":"IFERROR(MATCH(D2179,listy_slownikowe!$AH$3:$AH$326,0),0)","v":0},0]
[null,{"$f":"OFFSET(listy_slownikowe!$AG$2,I2180,0)","v":" "},null,null,null,null,{"$f":"OFFSET(listy_slownikowe!$AI$2,I2180,0)","v":" "},null,{"$f":"IFERROR(MATCH(D2180,listy_slownikowe!$AH$3:$AH$326,0),0)","v":0},0]
[null,{"$f":"OFFSET(listy_slownikowe!$AG$2,I2181,0)","v":" "},null,"",null,null,{"$f":"OFFSET(listy_slownikowe!$AI$2,I2181,0)","v":" "},null,{"$f":"IFERROR(MATCH(D2181,listy_slownikowe!$AH$3:$AH$326,0),0)","v":0},0]
[null,{"$f":"OFFSET(listy_slownikowe!$AG$2,I2182,0)","v":" "},null,null,null,null,{"$f":"OFFSET(listy_slownikowe!$AI$2,I2182,0)","v":" "},null,{"$f":"IFERROR(MATCH(D2182,listy_slownikowe!$AH$3:$AH$326,0),0)","v":0},0]
[null,"Gatunki dominujące i subdominujące",null,null,null,null,null,null,null,{"$f":"J2184","v":0}]
[null,"nazwa łacińska",null,"nazwa polska",null,null,"udział [%]",null,null,{"$f":"SUM(J2185:J2189)","v":0}]
[null,null,null,null,null,null,null,null,null,{"$f":"COUNTA(B2185:G2185)","v":0}]
[null,null,null,null,null,null,null,null,null,0]
[null,null,null,null,null,null,null,null,null,0]
[null,null,null,null,null,null,null,null,null,0]
[null,null,null,null,null,null,null,null,null,0]
[]
[null,"Spis gatunków numer:",null,null,null,null,{"$f":"G2164+1","v":82},null,null,{"$f":"J2195","v":0}]
[null,"Współrzędne geograficzne",null,null,null,null,null,null,null,{"$f":"J2196","v":0}]
[null,"Długość geograficzna [E] ",null,null,"Szerokość geograficzna [N]",null,null,null,null,{"$f":"J2196","v":0}]
[null,"stopnie","minuty","sekundy","stopnie","minuty","sekundy",null,null,{"$f":"J2195","v":0}]
[null,null,null,null,null,null,null,null,null,{"$f":"J2197+J2211","v":0}]
[null,"Gatunki wskaźnikowe",null,null,null,null,null,null,null,{"$f":"J2197","v":0}]
[null,"nazwa łacińska",null,"nazwa polska",null,null,"walor ",null,null,{"$f":"SUM(J2198:J2209)","v":0}]
[null,{"$f":"OFFSET(listy_slownikowe!$AG$2,I2198,0)","v":" "},null,null,null,null,{"$f":"OFFSET(listy_slownikowe!$AI$2,I2198,0)","v":" "},null,{"$f":"IFERROR(MATCH(D2198,listy_slownikowe!$AH$3:$AH$326,0),0)","v":0},{"$f":"I2198","v":0}]
[null,{"$f":"OFFSET(listy_slownikowe!$AG$2,I2199,0)","v":" "},null,null,null,null,{"$f":"OFFSET(listy_slownikowe!$AI$2,I2199,0)","v":" "},null,{"$f":"IFERROR(MATCH(D2199,listy_slownikowe!$AH$3:$AH$326,0),0)","v":0},{"$f":"I2199","v":0}]
[null,{"$f":"OFFSET(listy_slownikowe!$AG$2,I2200,0)","v":" "},null,null,null,null,{"$f":"OFFSET(listy_slownikowe!$AI$2,I2200,0)","v":" "},null,{"$f":"IFERROR(MATCH(D2200,listy_slownikowe!$AH$3:$AH$326,0),0)","v":0},0]
[null,{"$f":"OFFSET(listy_slownikowe!$AG$2,I2201,0)","v":" "},null,null,null,null,{"$f":"OFFSET(listy_slownikowe!$AI$2,I2201,0)","v":" "},null,{"$f":"IFERROR(MATCH(D2201,listy_slownikowe!$AH$3:$AH$326,0),0)","v":0},0]
[null,{"$f":"OFFSET(listy_slownikowe!$AG$2,I2202,0)","v":" "},null,null,null,null,{"$f":"OFFSET(listy_slownikowe!$AI$2,I2202,0)","v":" "},null,{"$f":"IFERROR(MATCH(D2202,listy_slownikowe!$AH$3:$AH$326,0),0)","v":0},0]
[null,{"$f":"OFFSET(listy_slownikowe!$AG$2,I2203,0)","v":" "},null,null,null,null,{"$f":"OFFSET(listy_slownikowe!$AI$2,I2203,0)","v":" "},null,{"$f":"IFERROR(MATCH(D2203,listy_slownikowe!$AH$3:$AH$326,0),0)","v":0},0]
[null,{"$f":"OFFSET(listy_slownikowe!$AG$2,I2204,0)","v":" "},null,null,null,null,{"$f":"OFFSET(listy_slownikowe!$AI$2,I2204,0)","v":" "},null,{"$f":"IFERROR(MATCH(D2204,listy_slownikowe!$AH$3:$AH$326,0),0)","v":0},0]
[null,{"$f":"OFFSET(listy_slownikowe!$AG$2,I2205,0)","v":" "},null,null,null,null,{"$f":"OFFSET(listy_slownikowe!$AI$2,I2205,0)","v":" "},null,{"$f":"IFERROR(MATCH(D2205,listy_slownikowe!$AH$3:$AH$326,0),0)","v":0},0]
[null,{"$f":"OFFSET(listy_slownikowe!$AG$2,I2206,0)","v":" "},null,null,null,null,{"$f":"OFFSET(listy_slownikowe!$AI$2,I2206,0)","v":" "},null,{"$f":"IFERROR(MATCH(D2206,listy_slownikowe!$AH$3:$AH$326,0),0)","v":0},0]
[null,{"$f":"OFFSET(listy_slownikowe!$AG$2,I2207,0)","v":" "},null,null,null,null,{"$f":"OFFSET(listy_slownikowe!$AI$2,I2207,0)","v":" "},null,{"$f":"IFERROR(MATCH(D2207,listy_slownikowe!$AH$3:$AH$326,0),0)","v":0},0]
[null,{"$f":"OFFSET(listy_slownikowe!$AG$2,I2208,0)","v":" "},null,"",null,null,{"$f":"OFFSET(listy_slownikowe!$AI$2,I2208,0)","v":" "},null,{"$f":"IFERROR(MATCH(D2208,listy_slownikowe!$AH$3:$AH$326,0),0)","v":0},0]
[null,{"$f":"OFFSET(listy_slownikowe!$AG$2,I2209,0)","v":" "},null,null,null,null,{"$f":"OFFSET(listy_slownikowe!$AI$2,I2209,0)","v":" "},null,{"$f":"IFERROR(MATCH(D2209,listy_slownikowe!$AH$3:$AH$326,0),0)","v":0},0]
[null,"Gatunki dominujące i subdominujące",null,null,null,null,null,null,null,{"$f":"J2211","v":0}]
[null,"nazwa łacińska",null,"nazwa polska",null,null,"udział [%]",null,null,{"$f":"SUM(J2212:J2216)","v":0}]
[null,null,null,null,null,null,null,null,null,{"$f":"COUNTA(B2212:G2212)","v":0}]
[null,null,null,null,null,null,null,null,null,0]
[null,null,null,null,null,null,null,null,null,0]
[null,null,null,null,null,null,null,null,null,0]
[null,null,null,null,null,null,null,null,null,0]
[]
[null,"Spis gatunków numer:",null,null,null,null,{"$f":"G2191+1","v":83},null,null,{"$f":"J2222","v":0}]
[null,"Współrzędne geograficzne",null,null,null,null,null,null,null,{"$f":"J2223","v":0}]
[null,"Długość geograficzna [E] ",null,null,"Szerokość geograficzna [N]",null,null,null,null,{"$f":"J2223","v":0}]
[null,"stopnie","minuty","sekundy","stopnie","minuty","sekundy",null,null,{"$f":"J2222","v":0}]
[null,null,null,null,null,null,null,null,null,{"$f":"J2224+J2238","v":0}]
[null,"Gatunki wskaźnikowe",null,null,null,null,null,null,null,{"$f":"J2224","v":0}]
[null,"nazwa łacińska",null,"nazwa polska",null,null,"walor ",null,null,{"$f":"SUM(J2225:J2236)","v":0}]
[null,{"$f":"OFFSET(listy_slownikowe!$AG$2,I2225,0)","v":" "},null,null,null,null,{"$f":"OFFSET(listy_slownikowe!$AI$2,I2225,0)","v":" "},null,{"$f":"IFERROR(MATCH(D2225,listy_slownikowe!$AH$3:$AH$326,0),0)","v":0},{"$f":"I2225","v":0}]
[null,{"$f":"OFFSET(listy_slownikowe!$AG$2,I2226,0)","v":" "},null,null,null,null,{"$f":"OFFSET(listy_slownikowe!$AI$2,I2226,0)","v":" "},null,{"$f":"IFERROR(MATCH(D2226,listy_slownikowe!$AH$3:$AH$326,0),0)","v":0},{"$f":"I2226","v":0}]
[null,{"$f":"OFFSET(listy_slownikowe!$AG$2,I2227,0)","v":" "},null,null,null,null,{"$f":"OFFSET(listy_slownikowe!$AI$2,I2227,0)","v":" "},null,{"$f":"IFERROR(MATCH(D2227,listy_slownikowe!$AH$3:$AH$326,0),0)","v":0},0]
[null,{"$f":"OFFSET(listy_slownikowe!$AG$2,I2228,0)","v":" "},null,null,null,null,{"$f":"OFFSET(listy_slownikowe!$AI$2,I2228,0)","v":" "},null,{"$f":"IFERROR(MATCH(D2228,listy_slownikowe!$AH$3:$AH$326,0),0)","v":0},0]
[null,{"$f":"OFFSET(listy_slownikowe!$AG$2,I2229,0)","v":" "},null,null,null,null,{"$f":"OFFSET(listy_slownikowe!$AI$2,I2229,0)","v":" "},null,{"$f":"IFERROR(MATCH(D2229,listy_slownikowe!$AH$3:$AH$326,0),0)","v":0},0]
[null,{"$f":"OFFSET(listy_slownikowe!$AG$2,I2230,0)","v":" "},null,null,null,null,{"$f":"OFFSET(listy_slownikowe!$AI$2,I2230,0)","v":" "},null,{"$f":"IFERROR(MATCH(D2230,listy_slownikowe!$AH$3:$AH$326,0),0)","v":0},0]
[null,{"$f":"OFFSET(listy_slownikowe!$AG$2,I2231,0)","v":" "},null,null,null,null,{"$f":"OFFSET(listy_slownikowe!$AI$2,I2231,0)","v":" "},null,{"$f":"IFERROR(MATCH(D2231,listy_slownikowe!$AH$3:$AH$326,0),0)","v":0},0]
[null,{"$f":"OFFSET(listy_slownikowe!$AG$2,I2232,0)","v":" "},null,null,null,null,{"$f":"OFFSET(listy_slownikowe!$AI$2,I2232,0)","v":" "},null,{"$f":"IFERROR(MATCH(D2232,listy_slownikowe!$AH$3:$AH$326,0),0)","v":0},0]
[null,{"$f":"OFFSET(listy_slownikowe!$AG$2,I2233,0)","v":" "},null,null,null,null,{"$f":"OFFSET(listy_slownikowe!$AI$2,I2233,0)","v":" "},null,{"$f":"IFERROR(MATCH(D2233,listy_slownikowe!$AH$3:$AH$326,0),0)","v":0},0]
[null,{"$f":"OFFSET(listy_slownikowe!$AG$2,I2234,0)","v":" "},null,null,null,null,{"$f":"OFFSET(listy_slownikowe!$AI$2,I2234,0)","v":" "},null,{"$f":"IFERROR(MATCH(D2234,listy_slownikowe!$AH$3:$AH$326,0),0)","v":0},0]
[null,{"$f":"OFFSET(listy_slownikowe!$AG$2,I2235,0)","v":" "},null,"",null,null,{"$f":"OFFSET(listy_slownikowe!$AI$2,I2235,0)","v":" "},null,{"$f":"IFERROR(MATCH(D2235,listy_slownikowe!$AH$3:$AH$326,0),0)","v":0},0]
[null,{"$f":"OFFSET(listy_slownikowe!$AG$2,I2236,0)","v":" "},null,null,null,null,{"$f":"OFFSET(listy_slownikowe!$AI$2,I2236,0)","v":" "},null,{"$f":"IFERROR(MATCH(D2236,listy_slownikowe!$AH$3:$AH$326,0),0)","v":0},0]
[null,"Gatunki dominujące i subdominujące",null,null,null,null,null,null,null,{"$f":"J2238","v":0}]
[null,"nazwa łacińska",null,"nazwa polska",null,null,"udział [%]",null,null,{"$f":"SUM(J2239:J2243)","v":0}]
[null,null,null,null,null,null,null,null,null,{"$f":"COUNTA(B2239:G2239)","v":0}]
[null,null,null,null,null,null,null,null,null,0]
[null,null,null,null,null,null,null,null,null,0]
[null,null,null,null,null,null,null,null,null,0]
[null,null,null,null,null,null,null,null,null,0]
[]
[null,"Spis gatunków numer:",null,null,null,null,{"$f":"G2218+1","v":84},null,null,{"$f":"J2249","v":0}]
[null,"Współrzędne geograficzne",null,null,null,null,null,null,null,{"$f":"J2250","v":0}]
[null,"Długość geograficzna [E] ",null,null,"Szerokość geograficzna [N]",null,null,null,null,{"$f":"J2250","v":0}]
[null,"stopnie","minuty","sekundy","stopnie","minuty","sekundy",null,null,{"$f":"J2249","v":0}]
[null,null,null,null,null,null,null,null,null,{"$f":"J2251+J2265","v":0}]
[null,"Gatunki wskaźnikowe",null,null,null,null,null,null,null,{"$f":"J2251","v":0}]
[null,"nazwa łacińska",null,"nazwa polska",null,null,"walor ",null,null,{"$f":"SUM(J2252:J2263)","v":0}]
[null,{"$f":"OFFSET(listy_slownikowe!$AG$2,I2252,0)","v":" "},null,null,null,null,{"$f":"OFFSET(listy_slownikowe!$AI$2,I2252,0)","v":" "},null,{"$f":"IFERROR(MATCH(D2252,listy_slownikowe!$AH$3:$AH$326,0),0)","v":0},{"$f":"I2252","v":0}]
[null,{"$f":"OFFSET(listy_slownikowe!$AG$2,I2253,0)","v":" "},null,null,null,null,{"$f":"OFFSET(listy_slownikowe!$AI$2,I2253,0)","v":" "},null,{"$f":"IFERROR(MATCH(D2253,listy_slownikowe!$AH$3:$AH$326,0),0)","v":0},{"$f":"I2253","v":0}]
[null,{"$f":"OFFSET(listy_slownikowe!$AG$2,I2254,0)","v":" "},null,null,null,null,{"$f":"OFFSET(listy_slownikowe!$AI$2,I2254,0)","v":" "},null,{"$f":"IFERROR(MATCH(D2254,listy_slownikowe!$AH$3:$AH$326,0),0)","v":0},0]
[null,{"$f":"OFFSET(listy_slownikowe!$AG$2,I2255,0)","v":" "},null,null,null,null,{"$f":"OFFSET(listy_slownikowe!$AI$2,I2255,0)","v":" "},null,{"$f":"IFERROR(MATCH(D2255,listy_slownikowe!$AH$3:$AH$326,0),0)","v":0},0]
[null,{"$f":"OFFSET(listy_slownikowe!$AG$2,I2256,0)","v":" "},null,null,null,null,{"$f":"OFFSET(listy_slownikowe!$AI$2,I2256,0)","v":" "},null,{"$f":"IFERROR(MATCH(D2256,listy_slownikowe!$AH$3:$AH$326,0),0)","v":0},0]
[null,{"$f":"OFFSET(listy_slownikowe!$AG$2,I2257,0)","v":" "},null,null,null,null,{"$f":"OFFSET(listy_slownikowe!$AI$2,I2257,0)","v":" "},null,{"$f":"IFERROR(MATCH(D2257,listy_slownikowe!$AH$3:$AH$326,0),0)","v":0},0]
[null,{"$f":"OFFSET(listy_slownikowe!$AG$2,I2258,0)","v":" "},null,null,null,null,{"$f":"OFFSET(listy_slownikowe!$AI$2,I2258,0)","v":" "},null,{"$f":"IFERROR(MATCH(D2258,listy_slownikowe!$AH$3:$AH$326,0),0)","v":0},0]
[null,{"$f":"OFFSET(listy_slownikowe!$AG$2,I2259,0)","v":" "},null,null,null,null,{"$f":"OFFSET(listy_slownikowe!$AI$2,I2259,0)","v":" "},null,{"$f":"IFERROR(MATCH(D2259,listy_slownikowe!$AH$3:$AH$326,0),0)","v":0},0]
[null,{"$f":"OFFSET(listy_slownikowe!$AG$2,I2260,0)","v":" "},null,null,null,null,{"$f":"OFFSET(listy_slownikowe!$AI$2,I2260,0)","v":" "},null,{"$f":"IFERROR(MATCH(D2260,listy_slownikowe!$AH$3:$AH$326,0),0)","v":0},0]
[null,{"$f":"OFFSET(listy_slownikowe!$AG$2,I2261,0)","v":" "},null,null,null,null,{"$f":"OFFSET(listy_slownikowe!$AI$2,I2261,0)","v":" "},null,{"$f":"IFERROR(MATCH(D2261,listy_slownikowe!$AH$3:$AH$326,0),0)","v":0},0]
[null,{"$f":"OFFSET(listy_slownikowe!$AG$2,I2262,0)","v":" "},null,"",null,null,{"$f":"OFFSET(listy_slownikowe!$AI$2,I2262,0)","v":" "},null,{"$f":"IFERROR(MATCH(D2262,listy_slownikowe!$AH$3:$AH$326,0),0)","v":0},0]
[null,{"$f":"OFFSET(listy_slownikowe!$AG$2,I2263,0)","v":" "},null,null,null,null,{"$f":"OFFSET(listy_slownikowe!$AI$2,I2263,0)","v":" "},null,{"$f":"IFERROR(MATCH(D2263,listy_slownikowe!$AH$3:$AH$326,0),0)","v":0},0]
[null,"Gatunki dominujące i subdominujące",null,null,null,null,null,null,null,{"$f":"J2265","v":0}]
[null,"nazwa łacińska",null,"nazwa polska",null,null,"udział [%]",null,null,{"$f":"SUM(J2266:J2270)","v":0}]
[null,null,null,null,null,null,null,null,null,{"$f":"COUNTA(B2266:G2266)","v":0}]
[null,null,null,null,null,null,null,null,null,0]
[null,null,null,null,null,null,null,null,null,0]
[null,null,null,null,null,null,null,null,null,0]
[null,null,null,null,null,null,null,null,null,0]
[]
[null,"Spis gatunków numer:",null,null,null,null,{"$f":"G2245+1","v":85},null,null,{"$f":"J2276","v":0}]
[null,"Współrzędne geograficzne",null,null,null,null,null,null,null,{"$f":"J2277","v":0}]
[null,"Długość geograficzna [E] ",null,null,"Szerokość geograficzna [N]",null,null,null,null,{"$f":"J2277","v":0}]
[null,"stopnie","minuty","sekundy","stopnie","minuty","sekundy",null,null,{"$f":"J2276","v":0}]
[null,null,null,null,null,null,null,null,null,{"$f":"J2278+J2292","v":0}]
[null,"Gatunki wskaźnikowe",null,null,null,null,null,null,null,{"$f":"J2278","v":0}]
[null,"nazwa łacińska",null,"nazwa polska",null,null,"walor ",null,null,{"$f":"SUM(J2279:J2290)","v":0}]
[null,{"$f":"OFFSET(listy_slownikowe!$AG$2,I2279,0)","v":" "},null,null,null,null,{"$f":"OFFSET(listy_slownikowe!$AI$2,I2279,0)","v":" "},null,{"$f":"IFERROR(MATCH(D2279,listy_slownikowe!$AH$3:$AH$326,0),0)","v":0},{"$f":"I2279","v":0}]
[null,{"$f":"OFFSET(listy_slownikowe!$AG$2,I2280,0)","v":" "},null,null,null,null,{"$f":"OFFSET(listy_slownikowe!$AI$2,I2280,0)","v":" "},null,{"$f":"IFERROR(MATCH(D2280,listy_slownikowe!$AH$3:$AH$326,0),0)","v":0},{"$f":"I2280","v":0}]
[null,{"$f":"OFFSET(listy_slownikowe!$AG$2,I2281,0)","v":" "},null,null,null,null,{"$f":"OFFSET(listy_slownikowe!$AI$2,I2281,0)","v":" "},null,{"$f":"IFERROR(MATCH(D2281,listy_slownikowe!$AH$3:$AH$326,0),0)","v":0},0]
[null,{"$f":"OFFSET(listy_slownikowe!$AG$2,I2282,0)","v":" "},null,null,null,null,{"$f":"OFFSET(listy_slownikowe!$AI$2,I2282,0)","v":" "},null,{"$f":"IFERROR(MATCH(D2282,listy_slownikowe!$AH$3:$AH$326,0),0)","v":0},0]
[null,{"$f":"OFFSET(listy_slownikowe!$AG$2,I2283,0)","v":" "},null,null,null,null,{"$f":"OFFSET(listy_slownikowe!$AI$2,I2283,0)","v":" "},null,{"$f":"IFERROR(MATCH(D2283,listy_slownikowe!$AH$3:$AH$326,0),0)","v":0},0]
[null,{"$f":"OFFSET(listy_slownikowe!$AG$2,I2284,0)","v":" "},null,null,null,null,{"$f":"OFFSET(listy_slownikowe!$AI$2,I2284,0)","v":" "},null,{"$f":"IFERROR(MATCH(D2284,listy_slownikowe!$AH$3:$AH$326,0),0)","v":0},0]
[null,{"$f":"OFFSET(listy_slownikowe!$AG$2,I2285,0)","v":" "},null,null,null,null,{"$f":"OFFSET(listy_slownikowe!$AI$2,I2285,0)","v":" "},null,{"$f":"IFERROR(MATCH(D2285,listy_slownikowe!$AH$3:$AH$326,0),0)","v":0},0]
[null,{"$f":"OFFSET(listy_slownikowe!$AG$2,I2286,0)","v":" "},null,null,null,null,{"$f":"OFFSET(listy_slownikowe!$AI$2,I2286,0)","v":" "},null,{"$f":"IFERROR(MATCH(D2286,listy_slownikowe!$AH$3:$AH$326,0),0)","v":0},0]
[null,{"$f":"OFFSET(listy_slownikowe!$AG$2,I2287,0)","v":" "},null,null,null,null,{"$f":"OFFSET(listy_slownikowe!$AI$2,I2287,0)","v":" "},null,{"$f":"IFERROR(MATCH(D2287,listy_slownikowe!$AH$3:$AH$326,0),0)","v":0},0]
[null,{"$f":"OFFSET(listy_slownikowe!$AG$2,I2288,0)","v":" "},null,null,null,null,{"$f":"OFFSET(listy_slownikowe!$AI$2,I2288,0)","v":" "},null,{"$f":"IFERROR(MATCH(D2288,listy_slownikowe!$AH$3:$AH$326,0),0)","v":0},0]
[null,{"$f":"OFFSET(listy_slownikowe!$AG$2,I2289,0)","v":" "},null,"",null,null,{"$f":"OFFSET(listy_slownikowe!$AI$2,I2289,0)","v":" "},null,{"$f":"IFERROR(MATCH(D2289,listy_slownikowe!$AH$3:$AH$326,0),0)","v":0},0]
[null,{"$f":"OFFSET(listy_slownikowe!$AG$2,I2290,0)","v":" "},null,null,null,null,{"$f":"OFFSET(listy_slownikowe!$AI$2,I2290,0)","v":" "},null,{"$f":"IFERROR(MATCH(D2290,listy_slownikowe!$AH$3:$AH$326,0),0)","v":0},0]
[null,"Gatunki dominujące i subdominujące",null,null,null,null,null,null,null,{"$f":"J2292","v":0}]
[null,"nazwa łacińska",null,"nazwa polska",null,null,"udział [%]",null,null,{"$f":"SUM(J2293:J2297)","v":0}]
[null,null,null,null,null,null,null,null,null,{"$f":"COUNTA(B2293:G2293)","v":0}]
[null,null,null,null,null,null,null,null,null,0]
[null,null,null,null,null,null,null,null,null,0]
[null,null,null,null,null,null,null,null,null,0]
[null,null,null,null,null,null,null,null,null,0]
[]
[null,"Spis gatunków numer:",null,null,null,null,{"$f":"G2272+1","v":86},null,null,{"$f":"J2303","v":0}]
[null,"Współrzędne geograficzne",null,null,null,null,null,null,null,{"$f":"J2304","v":0}]
[null,"Długość geograficzna [E] ",null,null,"Szerokość geograficzna [N]",null,null,null,null,{"$f":"J2304","v":0}]
[null,"stopnie","minuty","sekundy","stopnie","minuty","sekundy",null,null,{"$f":"J2303","v":0}]
[null,null,null,null,null,null,null,null,null,{"$f":"J2305+J2319","v":0}]
[null,"Gatunki wskaźnikowe",null,null,null,null,null,null,null,{"$f":"J2305","v":0}]
[null,"nazwa łacińska",null,"nazwa polska",null,null,"walor ",null,null,{"$f":"SUM(J2306:J2317)","v":0}]
[null,{"$f":"OFFSET(listy_slownikowe!$AG$2,I2306,0)","v":" "},null,null,null,null,{"$f":"OFFSET(listy_slownikowe!$AI$2,I2306,0)","v":" "},null,{"$f":"IFERROR(MATCH(D2306,listy_slownikowe!$AH$3:$AH$326,0),0)","v":0},{"$f":"I2306","v":0}]
[null,{"$f":"OFFSET(listy_slownikowe!$AG$2,I2307,0)","v":" "},null,null,null,null,{"$f":"OFFSET(listy_slownikowe!$AI$2,I2307,0)","v":" "},null,{"$f":"IFERROR(MATCH(D2307,listy_slownikowe!$AH$3:$AH$326,0),0)","v":0},{"$f":"I2307","v":0}]
[null,{"$f":"OFFSET(listy_slownikowe!$AG$2,I2308,0)","v":" "},null,null,null,null,{"$f":"OFFSET(listy_slownikowe!$AI$2,I2308,0)","v":" "},null,{"$f":"IFERROR(MATCH(D2308,listy_slownikowe!$AH$3:$AH$326,0),0)","v":0},0]
[null,{"$f":"OFFSET(listy_slownikowe!$AG$2,I2309,0)","v":" "},null,null,null,null,{"$f":"OFFSET(listy_slownikowe!$AI$2,I2309,0)","v":" "},null,{"$f":"IFERROR(MATCH(D2309,listy_slownikowe!$AH$3:$AH$326,0),0)","v":0},0]
[null,{"$f":"OFFSET(listy_slownikowe!$AG$2,I2310,0)","v":" "},null,null,null,null,{"$f":"OFFSET(listy_slownikowe!$AI$2,I2310,0)","v":" "},null,{"$f":"IFERROR(MATCH(D2310,listy_slownikowe!$AH$3:$AH$326,0),0)","v":0},0]
[null,{"$f":"OFFSET(listy_slownikowe!$AG$2,I2311,0)","v":" "},null,null,null,null,{"$f":"OFFSET(listy_slownikowe!$AI$2,I2311,0)","v":" "},null,{"$f":"IFERROR(MATCH(D2311,listy_slownikowe!$AH$3:$AH$326,0),0)","v":0},0]
[null,{"$f":"OFFSET(listy_slownikowe!$AG$2,I2312,0)","v":" "},null,null,null,null,{"$f":"OFFSET(listy_slownikowe!$AI$2,I2312,0)","v":" "},null,{"$f":"IFERROR(MATCH(D2312,listy_slownikowe!$AH$3:$AH$326,0),0)","v":0},0]
[null,{"$f":"OFFSET(listy_slownikowe!$AG$2,I2313,0)","v":" "},null,null,null,null,{"$f":"OFFSET(listy_slownikowe!$AI$2,I2313,0)","v":" "},null,{"$f":"IFERROR(MATCH(D2313,listy_slownikowe!$AH$3:$AH$326,0),0)","v":0},0]
[null,{"$f":"OFFSET(listy_slownikowe!$AG$2,I2314,0)","v":" "},null,null,null,null,{"$f":"OFFSET(listy_slownikowe!$AI$2,I2314,0)","v":" "},null,{"$f":"IFERROR(MATCH(D2314,listy_slownikowe!$AH$3:$AH$326,0),0)","v":0},0]
[null,{"$f":"OFFSET(listy_slownikowe!$AG$2,I2315,0)","v":" "},null,null,null,null,{"$f":"OFFSET(listy_slownikowe!$AI$2,I2315,0)","v":" "},null,{"$f":"IFERROR(MATCH(D2315,listy_slownikowe!$AH$3:$AH$326,0),0)","v":0},0]
[null,{"$f":"OFFSET(listy_slownikowe!$AG$2,I2316,0)","v":" "},null,"",null,null,{"$f":"OFFSET(listy_slownikowe!$AI$2,I2316,0)","v":" "},null,{"$f":"IFERROR(MATCH(D2316,listy_slownikowe!$AH$3:$AH$326,0),0)","v":0},0]
[null,{"$f":"OFFSET(listy_slownikowe!$AG$2,I2317,0)","v":" "},null,null,null,null,{"$f":"OFFSET(listy_slownikowe!$AI$2,I2317,0)","v":" "},null,{"$f":"IFERROR(MATCH(D2317,listy_slownikowe!$AH$3:$AH$326,0),0)","v":0},0]
[null,"Gatunki dominujące i subdominujące",null,null,null,null,null,null,null,{"$f":"J2319","v":0}]
[null,"nazwa łacińska",null,"nazwa polska",null,null,"udział [%]",null,null,{"$f":"SUM(J2320:J2324)","v":0}]
[null,null,null,null,null,null,null,null,null,{"$f":"COUNTA(B2320:G2320)","v":0}]
[null,null,null,null,null,null,null,null,null,0]
[null,null,null,null,null,null,null,null,null,0]
[null,null,null,null,null,null,null,null,null,0]
[null,null,null,null,null,null,null,null,null,0]
[]
[null,"Spis gatunków numer:",null,null,null,null,{"$f":"G2299+1","v":87},null,null,{"$f":"J2330","v":0}]
[null,"Współrzędne geograficzne",null,null,null,null,null,null,null,{"$f":"J2331","v":0}]
[null,"Długość geograficzna [E] ",null,null,"Szerokość geograficzna [N]",null,null,null,null,{"$f":"J2331","v":0}]
[null,"stopnie","minuty","sekundy","stopnie","minuty","sekundy",null,null,{"$f":"J2330","v":0}]
[null,null,null,null,null,null,null,null,null,{"$f":"J2332+J2346","v":0}]
[null,"Gatunki wskaźnikowe",null,null,null,null,null,null,null,{"$f":"J2332","v":0}]
[null,"nazwa łacińska",null,"nazwa polska",null,null,"walor ",null,null,{"$f":"SUM(J2333:J2344)","v":0}]
[null,{"$f":"OFFSET(listy_slownikowe!$AG$2,I2333,0)","v":" "},null,null,null,null,{"$f":"OFFSET(listy_slownikowe!$AI$2,I2333,0)","v":" "},null,{"$f":"IFERROR(MATCH(D2333,listy_slownikowe!$AH$3:$AH$326,0),0)","v":0},{"$f":"I2333","v":0}]
[null,{"$f":"OFFSET(listy_slownikowe!$AG$2,I2334,0)","v":" "},null,null,null,null,{"$f":"OFFSET(listy_slownikowe!$AI$2,I2334,0)","v":" "},null,{"$f":"IFERROR(MATCH(D2334,listy_slownikowe!$AH$3:$AH$326,0),0)","v":0},{"$f":"I2334","v":0}]
[null,{"$f":"OFFSET(listy_slownikowe!$AG$2,I2335,0)","v":" "},null,null,null,null,{"$f":"OFFSET(listy_slownikowe!$AI$2,I2335,0)","v":" "},null,{"$f":"IFERROR(MATCH(D2335,listy_slownikowe!$AH$3:$AH$326,0),0)","v":0},0]
[null,{"$f":"OFFSET(listy_slownikowe!$AG$2,I2336,0)","v":" "},null,null,null,null,{"$f":"OFFSET(listy_slownikowe!$AI$2,I2336,0)","v":" "},null,{"$f":"IFERROR(MATCH(D2336,listy_slownikowe!$AH$3:$AH$326,0),0)","v":0},0]
[null,{"$f":"OFFSET(listy_slownikowe!$AG$2,I2337,0)","v":" "},null,null,null,null,{"$f":"OFFSET(listy_slownikowe!$AI$2,I2337,0)","v":" "},null,{"$f":"IFERROR(MATCH(D2337,listy_slownikowe!$AH$3:$AH$326,0),0)","v":0},0]
[null,{"$f":"OFFSET(listy_slownikowe!$AG$2,I2338,0)","v":" "},null,null,null,null,{"$f":"OFFSET(listy_slownikowe!$AI$2,I2338,0)","v":" "},null,{"$f":"IFERROR(MATCH(D2338,listy_slownikowe!$AH$3:$AH$326,0),0)","v":0},0]
[null,{"$f":"OFFSET(listy_slownikowe!$AG$2,I2339,0)","v":" "},null,null,null,null,{"$f":"OFFSET(listy_slownikowe!$AI$2,I2339,0)","v":" "},null,{"$f":"IFERROR(MATCH(D2339,listy_slownikowe!$AH$3:$AH$326,0),0)","v":0},0]
[null,{"$f":"OFFSET(listy_slownikowe!$AG$2,I2340,0)","v":" "},null,null,null,null,{"$f":"OFFSET(listy_slownikowe!$AI$2,I2340,0)","v":" "},null,{"$f":"IFERROR(MATCH(D2340,listy_slownikowe!$AH$3:$AH$326,0),0)","v":0},0]
[null,{"$f":"OFFSET(listy_slownikowe!$AG$2,I2341,0)","v":" "},null,null,null,null,{"$f":"OFFSET(listy_slownikowe!$AI$2,I2341,0)","v":" "},null,{"$f":"IFERROR(MATCH(D2341,listy_slownikowe!$AH$3:$AH$326,0),0)","v":0},0]
[null,{"$f":"OFFSET(listy_slownikowe!$AG$2,I2342,0)","v":" "},null,null,null,null,{"$f":"OFFSET(listy_slownikowe!$AI$2,I2342,0)","v":" "},null,{"$f":"IFERROR(MATCH(D2342,listy_slownikowe!$AH$3:$AH$326,0),0)","v":0},0]
[null,{"$f":"OFFSET(listy_slownikowe!$AG$2,I2343,0)","v":" "},null,"",null,null,{"$f":"OFFSET(listy_slownikowe!$AI$2,I2343,0)","v":" "},null,{"$f":"IFERROR(MATCH(D2343,listy_slownikowe!$AH$3:$AH$326,0),0)","v":0},0]
[null,{"$f":"OFFSET(listy_slownikowe!$AG$2,I2344,0)","v":" "},null,null,null,null,{"$f":"OFFSET(listy_slownikowe!$AI$2,I2344,0)","v":" "},null,{"$f":"IFERROR(MATCH(D2344,listy_slownikowe!$AH$3:$AH$326,0),0)","v":0},0]
[null,"Gatunki dominujące i subdominujące",null,null,null,null,null,null,null,{"$f":"J2346","v":0}]
[null,"nazwa łacińska",null,"nazwa polska",null,null,"udział [%]",null,null,{"$f":"SUM(J2347:J2351)","v":0}]
[null,null,null,null,null,null,null,null,null,{"$f":"COUNTA(B2347:G2347)","v":0}]
[null,null,null,null,null,null,null,null,null,0]
[null,null,null,null,null,null,null,null,null,0]
[null,null,null,null,null,null,null,null,null,0]
[null,null,null,null,null,null,null,null,null,0]
[]
[null,"Spis gatunków numer:",null,null,null,null,{"$f":"G2326+1","v":88},null,null,{"$f":"J2357","v":0}]
[null,"Współrzędne geograficzne",null,null,null,null,null,null,null,{"$f":"J2358","v":0}]
[null,"Długość geograficzna [E] ",null,null,"Szerokość geograficzna [N]",null,null,null,null,{"$f":"J2358","v":0}]
[null,"stopnie","minuty","sekundy","stopnie","minuty","sekundy",null,null,{"$f":"J2357","v":0}]
[null,null,null,null,null,null,null,null,null,{"$f":"J2359+J2373","v":0}]
[null,"Gatunki wskaźnikowe",null,null,null,null,null,null,null,{"$f":"J2359","v":0}]
[null,"nazwa łacińska",null,"nazwa polska",null,null,"walor ",null,null,{"$f":"SUM(J2360:J2371)","v":0}]
[null,{"$f":"OFFSET(listy_slownikowe!$AG$2,I2360,0)","v":" "},null,null,null,null,{"$f":"OFFSET(listy_slownikowe!$AI$2,I2360,0)","v":" "},null,{"$f":"IFERROR(MATCH(D2360,listy_slownikowe!$AH$3:$AH$326,0),0)","v":0},{"$f":"I2360","v":0}]
[null,{"$f":"OFFSET(listy_slownikowe!$AG$2,I2361,0)","v":" "},null,null,null,null,{"$f":"OFFSET(listy_slownikowe!$AI$2,I2361,0)","v":" "},null,{"$f":"IFERROR(MATCH(D2361,listy_slownikowe!$AH$3:$AH$326,0),0)","v":0},{"$f":"I2361","v":0}]
[null,{"$f":"OFFSET(listy_slownikowe!$AG$2,I2362,0)","v":" "},null,null,null,null,{"$f":"OFFSET(listy_slownikowe!$AI$2,I2362,0)","v":" "},null,{"$f":"IFERROR(MATCH(D2362,listy_slownikowe!$AH$3:$AH$326,0),0)","v":0},0]
[null,{"$f":"OFFSET(listy_slownikowe!$AG$2,I2363,0)","v":" "},null,null,null,null,{"$f":"OFFSET(listy_slownikowe!$AI$2,I2363,0)","v":" "},null,{"$f":"IFERROR(MATCH(D2363,listy_slownikowe!$AH$3:$AH$326,0),0)","v":0},0]
[null,{"$f":"OFFSET(listy_slownikowe!$AG$2,I2364,0)","v":" "},null,null,null,null,{"$f":"OFFSET(listy_slownikowe!$AI$2,I2364,0)","v":" "},null,{"$f":"IFERROR(MATCH(D2364,listy_slownikowe!$AH$3:$AH$326,0),0)","v":0},0]
[null,{"$f":"OFFSET(listy_slownikowe!$AG$2,I2365,0)","v":" "},null,null,null,null,{"$f":"OFFSET(listy_slownikowe!$AI$2,I2365,0)","v":" "},null,{"$f":"IFERROR(MATCH(D2365,listy_slownikowe!$AH$3:$AH$326,0),0)","v":0},0]
[null,{"$f":"OFFSET(listy_slownikowe!$AG$2,I2366,0)","v":" "},null,null,null,null,{"$f":"OFFSET(listy_slownikowe!$AI$2,I2366,0)","v":" "},null,{"$f":"IFERROR(MATCH(D2366,listy_slownikowe!$AH$3:$AH$326,0),0)","v":0},0]
[null,{"$f":"OFFSET(listy_slownikowe!$AG$2,I2367,0)","v":" "},null,null,null,null,{"$f":"OFFSET(listy_slownikowe!$AI$2,I2367,0)","v":" "},null,{"$f":"IFERROR(MATCH(D2367,listy_slownikowe!$AH$3:$AH$326,0),0)","v":0},0]
[null,{"$f":"OFFSET(listy_slownikowe!$AG$2,I2368,0)","v":" "},null,null,null,null,{"$f":"OFFSET(listy_slownikowe!$AI$2,I2368,0)","v":" "},null,{"$f":"IFERROR(MATCH(D2368,listy_slownikowe!$AH$3:$AH$326,0),0)","v":0},0]
[null,{"$f":"OFFSET(listy_slownikowe!$AG$2,I2369,0)","v":" "},null,null,null,null,{"$f":"OFFSET(listy_slownikowe!$AI$2,I2369,0)","v":" "},null,{"$f":"IFERROR(MATCH(D2369,listy_slownikowe!$AH$3:$AH$326,0),0)","v":0},0]
[null,{"$f":"OFFSET(listy_slownikowe!$AG$2,I2370,0)","v":" "},null,"",null,null,{"$f":"OFFSET(listy_slownikowe!$AI$2,I2370,0)","v":" "},null,{"$f":"IFERROR(MATCH(D2370,listy_slownikowe!$AH$3:$AH$326,0),0)","v":0},0]
[null,{"$f":"OFFSET(listy_slownikowe!$AG$2,I2371,0)","v":" "},null,null,null,null,{"$f":"OFFSET(listy_slownikowe!$AI$2,I2371,0)","v":" "},null,{"$f":"IFERROR(MATCH(D2371,listy_slownikowe!$AH$3:$AH$326,0),0)","v":0},0]
[null,"Gatunki dominujące i subdominujące",null,null,null,null,null,null,null,{"$f":"J2373","v":0}]
[null,"nazwa łacińska",null,"nazwa polska",null,null,"udział [%]",null,null,{"$f":"SUM(J2374:J2378)","v":0}]
[null,null,null,null,null,null,null,null,null,{"$f":"COUNTA(B2374:G2374)","v":0}]
[null,null,null,null,null,null,null,null,null,0]
[null,null,null,null,null,null,null,null,null,0]
[null,null,null,null,null,null,null,null,null,0]
[null,null,null,null,null,null,null,null,null,0]
[]
[null,"Spis gatunków numer:",null,null,null,null,{"$f":"G2353+1","v":89},null,null,{"$f":"J2384","v":0}]
[null,"Współrzędne geograficzne",null,null,null,null,null,null,null,{"$f":"J2385","v":0}]
[null,"Długość geograficzna [E] ",null,null,"Szerokość geograficzna [N]",null,null,null,null,{"$f":"J2385","v":0}]
[null,"stopnie","minuty","sekundy","stopnie","minuty","sekundy",null,null,{"$f":"J2384","v":0}]
[null,null,null,null,null,null,null,null,null,{"$f":"J2386+J2400","v":0}]
[null,"Gatunki wskaźnikowe",null,null,null,null,null,null,null,{"$f":"J2386","v":0}]
[null,"nazwa łacińska",null,"nazwa polska",null,null,"walor ",null,null,{"$f":"SUM(J2387:J2398)","v":0}]
[null,{"$f":"OFFSET(listy_slownikowe!$AG$2,I2387,0)","v":" "},null,null,null,null,{"$f":"OFFSET(listy_slownikowe!$AI$2,I2387,0)","v":" "},null,{"$f":"IFERROR(MATCH(D2387,listy_slownikowe!$AH$3:$AH$326,0),0)","v":0},{"$f":"I2387","v":0}]
[null,{"$f":"OFFSET(listy_slownikowe!$AG$2,I2388,0)","v":" "},null,null,null,null,{"$f":"OFFSET(listy_slownikowe!$AI$2,I2388,0)","v":" "},null,{"$f":"IFERROR(MATCH(D2388,listy_slownikowe!$AH$3:$AH$326,0),0)","v":0},{"$f":"I2388","v":0}]
[null,{"$f":"OFFSET(listy_slownikowe!$AG$2,I2389,0)","v":" "},null,null,null,null,{"$f":"OFFSET(listy_slownikowe!$AI$2,I2389,0)","v":" "},null,{"$f":"IFERROR(MATCH(D2389,listy_slownikowe!$AH$3:$AH$326,0),0)","v":0},0]
[null,{"$f":"OFFSET(listy_slownikowe!$AG$2,I2390,0)","v":" "},null,null,null,null,{"$f":"OFFSET(listy_slownikowe!$AI$2,I2390,0)","v":" "},null,{"$f":"IFERROR(MATCH(D2390,listy_slownikowe!$AH$3:$AH$326,0),0)","v":0},0]
[null,{"$f":"OFFSET(listy_slownikowe!$AG$2,I2391,0)","v":" "},null,null,null,null,{"$f":"OFFSET(listy_slownikowe!$AI$2,I2391,0)","v":" "},null,{"$f":"IFERROR(MATCH(D2391,listy_slownikowe!$AH$3:$AH$326,0),0)","v":0},0]
[null,{"$f":"OFFSET(listy_slownikowe!$AG$2,I2392,0)","v":" "},null,null,null,null,{"$f":"OFFSET(listy_slownikowe!$AI$2,I2392,0)","v":" "},null,{"$f":"IFERROR(MATCH(D2392,listy_slownikowe!$AH$3:$AH$326,0),0)","v":0},0]
[null,{"$f":"OFFSET(listy_slownikowe!$AG$2,I2393,0)","v":" "},null,null,null,null,{"$f":"OFFSET(listy_slownikowe!$AI$2,I2393,0)","v":" "},null,{"$f":"IFERROR(MATCH(D2393,listy_slownikowe!$AH$3:$AH$326,0),0)","v":0},0]
[null,{"$f":"OFFSET(listy_slownikowe!$AG$2,I2394,0)","v":" "},null,null,null,null,{"$f":"OFFSET(listy_slownikowe!$AI$2,I2394,0)","v":" "},null,{"$f":"IFERROR(MATCH(D2394,listy_slownikowe!$AH$3:$AH$326,0),0)","v":0},0]
[null,{"$f":"OFFSET(listy_slownikowe!$AG$2,I2395,0)","v":" "},null,null,null,null,{"$f":"OFFSET(listy_slownikowe!$AI$2,I2395,0)","v":" "},null,{"$f":"IFERROR(MATCH(D2395,listy_slownikowe!$AH$3:$AH$326,0),0)","v":0},0]
[null,{"$f":"OFFSET(listy_slownikowe!$AG$2,I2396,0)","v":" "},null,null,null,null,{"$f":"OFFSET(listy_slownikowe!$AI$2,I2396,0)","v":" "},null,{"$f":"IFERROR(MATCH(D2396,listy_slownikowe!$AH$3:$AH$326,0),0)","v":0},0]
[null,{"$f":"OFFSET(listy_slownikowe!$AG$2,I2397,0)","v":" "},null,"",null,null,{"$f":"OFFSET(listy_slownikowe!$AI$2,I2397,0)","v":" "},null,{"$f":"IFERROR(MATCH(D2397,listy_slownikowe!$AH$3:$AH$326,0),0)","v":0},0]
[null,{"$f":"OFFSET(listy_slownikowe!$AG$2,I2398,0)","v":" "},null,null,null,null,{"$f":"OFFSET(listy_slownikowe!$AI$2,I2398,0)","v":" "},null,{"$f":"IFERROR(MATCH(D2398,listy_slownikowe!$AH$3:$AH$326,0),0)","v":0},0]
[null,"Gatunki dominujące i subdominujące",null,null,null,null,null,null,null,{"$f":"J2400","v":0}]
[null,"nazwa łacińska",null,"nazwa polska",null,null,"udział [%]",null,null,{"$f":"SUM(J2401:J2405)","v":0}]
[null,null,null,null,null,null,null,null,null,{"$f":"COUNTA(B2401:G2401)","v":0}]
[null,null,null,null,null,null,null,null,null,0]
[null,null,null,null,null,null,null,null,null,0]
[null,null,null,null,null,null,null,null,null,0]
[null,null,null,null,null,null,null,null,null,0]
[]
[null,"Spis gatunków numer:",null,null,null,null,{"$f":"G2380+1","v":90},null,null,{"$f":"J2411","v":0}]
[null,"Współrzędne geograficzne",null,null,null,null,null,null,null,{"$f":"J2412","v":0}]
[null,"Długość geograficzna [E] ",null,null,"Szerokość geograficzna [N]",null,null,null,null,{"$f":"J2412","v":0}]
[null,"stopnie","minuty","sekundy","stopnie","minuty","sekundy",null,null,{"$f":"J2411","v":0}]
[null,null,null,null,null,null,null,null,null,{"$f":"J2413+J2427","v":0}]
[null,"Gatunki wskaźnikowe",null,null,null,null,null,null,null,{"$f":"J2413","v":0}]
[null,"nazwa łacińska",null,"nazwa polska",null,null,"walor ",null,null,{"$f":"SUM(J2414:J2425)","v":0}]
[null,{"$f":"OFFSET(listy_slownikowe!$AG$2,I2414,0)","v":" "},null,null,null,null,{"$f":"OFFSET(listy_slownikowe!$AI$2,I2414,0)","v":" "},null,{"$f":"IFERROR(MATCH(D2414,listy_slownikowe!$AH$3:$AH$326,0),0)","v":0},{"$f":"I2414","v":0}]
[null,{"$f":"OFFSET(listy_slownikowe!$AG$2,I2415,0)","v":" "},null,null,null,null,{"$f":"OFFSET(listy_slownikowe!$AI$2,I2415,0)","v":" "},null,{"$f":"IFERROR(MATCH(D2415,listy_slownikowe!$AH$3:$AH$326,0),0)","v":0},{"$f":"I2415","v":0}]
[null,{"$f":"OFFSET(listy_slownikowe!$AG$2,I2416,0)","v":" "},null,null,null,null,{"$f":"OFFSET(listy_slownikowe!$AI$2,I2416,0)","v":" "},null,{"$f":"IFERROR(MATCH(D2416,listy_slownikowe!$AH$3:$AH$326,0),0)","v":0},0]
[null,{"$f":"OFFSET(listy_slownikowe!$AG$2,I2417,0)","v":" "},null,null,null,null,{"$f":"OFFSET(listy_slownikowe!$AI$2,I2417,0)","v":" "},null,{"$f":"IFERROR(MATCH(D2417,listy_slownikowe!$AH$3:$AH$326,0),0)","v":0},0]
[null,{"$f":"OFFSET(listy_slownikowe!$AG$2,I2418,0)","v":" "},null,null,null,null,{"$f":"OFFSET(listy_slownikowe!$AI$2,I2418,0)","v":" "},null,{"$f":"IFERROR(MATCH(D2418,listy_slownikowe!$AH$3:$AH$326,0),0)","v":0},0]
[null,{"$f":"OFFSET(listy_slownikowe!$AG$2,I2419,0)","v":" "},null,null,null,null,{"$f":"OFFSET(listy_slownikowe!$AI$2,I2419,0)","v":" "},null,{"$f":"IFERROR(MATCH(D2419,listy_slownikowe!$AH$3:$AH$326,0),0)","v":0},0]
[null,{"$f":"OFFSET(listy_slownikowe!$AG$2,I2420,0)","v":" "},null,null,null,null,{"$f":"OFFSET(listy_slownikowe!$AI$2,I2420,0)","v":" "},null,{"$f":"IFERROR(MATCH(D2420,listy_slownikowe!$AH$3:$AH$326,0),0)","v":0},0]
[null,{"$f":"OFFSET(listy_slownikowe!$AG$2,I2421,0)","v":" "},null,null,null,null,{"$f":"OFFSET(listy_slownikowe!$AI$2,I2421,0)","v":" "},null,{"$f":"IFERROR(MATCH(D2421,listy_slownikowe!$AH$3:$AH$326,0),0)","v":0},0]
[null,{"$f":"OFFSET(listy_slownikowe!$AG$2,I2422,0)","v":" "},null,null,null,null,{"$f":"OFFSET(listy_slownikowe!$AI$2,I2422,0)","v":" "},null,{"$f":"IFERROR(MATCH(D2422,listy_slownikowe!$AH$3:$AH$326,0),0)","v":0},0]
[null,{"$f":"OFFSET(listy_slownikowe!$AG$2,I2423,0)","v":" "},null,null,null,null,{"$f":"OFFSET(listy_slownikowe!$AI$2,I2423,0)","v":" "},null,{"$f":"IFERROR(MATCH(D2423,listy_slownikowe!$AH$3:$AH$326,0),0)","v":0},0]
[null,{"$f":"OFFSET(listy_slownikowe!$AG$2,I2424,0)","v":" "},null,"",null,null,{"$f":"OFFSET(listy_slownikowe!$AI$2,I2424,0)","v":" "},null,{"$f":"IFERROR(MATCH(D2424,listy_slownikowe!$AH$3:$AH$326,0),0)","v":0},0]
[null,{"$f":"OFFSET(listy_slownikowe!$AG$2,I2425,0)","v":" "},null,null,null,null,{"$f":"OFFSET(listy_slownikowe!$AI$2,I2425,0)","v":" "},null,{"$f":"IFERROR(MATCH(D2425,listy_slownikowe!$AH$3:$AH$326,0),0)","v":0},0]
[null,"Gatunki dominujące i subdominujące",null,null,null,null,null,null,null,{"$f":"J2427","v":0}]
[null,"nazwa łacińska",null,"nazwa polska",null,null,"udział [%]",null,null,{"$f":"SUM(J2428:J2432)","v":0}]
[null,null,null,null,null,null,null,null,null,{"$f":"COUNTA(B2428:G2428)","v":0}]
[null,null,null,null,null,null,null,null,null,0]
[null,null,null,null,null,null,null,null,null,0]
[null,null,null,null,null,null,null,null,null,0]
[null,null,null,null,null,null,null,null,null,0]
[]
[null,"Spis gatunków numer:",null,null,null,null,{"$f":"G2407+1","v":91},null,null,{"$f":"J2438","v":0}]
[null,"Współrzędne geograficzne",null,null,null,null,null,null,null,{"$f":"J2439","v":0}]
[null,"Długość geograficzna [E] ",null,null,"Szerokość geograficzna [N]",null,null,null,null,{"$f":"J2439","v":0}]
[null,"stopnie","minuty","sekundy","stopnie","minuty","sekundy",null,null,{"$f":"J2438","v":0}]
[null,null,null,null,null,null,null,null,null,{"$f":"J2440+J2454","v":0}]
[null,"Gatunki wskaźnikowe",null,null,null,null,null,null,null,{"$f":"J2440","v":0}]
[null,"nazwa łacińska",null,"nazwa polska",null,null,"walor ",null,null,{"$f":"SUM(J2441:J2452)","v":0}]
[null,{"$f":"OFFSET(listy_slownikowe!$AG$2,I2441,0)","v":" "},null,null,null,null,{"$f":"OFFSET(listy_slownikowe!$AI$2,I2441,0)","v":" "},null,{"$f":"IFERROR(MATCH(D2441,listy_slownikowe!$AH$3:$AH$326,0),0)","v":0},{"$f":"I2441","v":0}]
[null,{"$f":"OFFSET(listy_slownikowe!$AG$2,I2442,0)","v":" "},null,null,null,null,{"$f":"OFFSET(listy_slownikowe!$AI$2,I2442,0)","v":" "},null,{"$f":"IFERROR(MATCH(D2442,listy_slownikowe!$AH$3:$AH$326,0),0)","v":0},{"$f":"I2442","v":0}]
[null,{"$f":"OFFSET(listy_slownikowe!$AG$2,I2443,0)","v":" "},null,null,null,null,{"$f":"OFFSET(listy_slownikowe!$AI$2,I2443,0)","v":" "},null,{"$f":"IFERROR(MATCH(D2443,listy_slownikowe!$AH$3:$AH$326,0),0)","v":0},0]
[null,{"$f":"OFFSET(listy_slownikowe!$AG$2,I2444,0)","v":" "},null,null,null,null,{"$f":"OFFSET(listy_slownikowe!$AI$2,I2444,0)","v":" "},null,{"$f":"IFERROR(MATCH(D2444,listy_slownikowe!$AH$3:$AH$326,0),0)","v":0},0]
[null,{"$f":"OFFSET(listy_slownikowe!$AG$2,I2445,0)","v":" "},null,null,null,null,{"$f":"OFFSET(listy_slownikowe!$AI$2,I2445,0)","v":" "},null,{"$f":"IFERROR(MATCH(D2445,listy_slownikowe!$AH$3:$AH$326,0),0)","v":0},0]
[null,{"$f":"OFFSET(listy_slownikowe!$AG$2,I2446,0)","v":" "},null,null,null,null,{"$f":"OFFSET(listy_slownikowe!$AI$2,I2446,0)","v":" "},null,{"$f":"IFERROR(MATCH(D2446,listy_slownikowe!$AH$3:$AH$326,0),0)","v":0},0]
[null,{"$f":"OFFSET(listy_slownikowe!$AG$2,I2447,0)","v":" "},null,null,null,null,{"$f":"OFFSET(listy_slownikowe!$AI$2,I2447,0)","v":" "},null,{"$f":"IFERROR(MATCH(D2447,listy_slownikowe!$AH$3:$AH$326,0),0)","v":0},0]
[null,{"$f":"OFFSET(listy_slownikowe!$AG$2,I2448,0)","v":" "},null,null,null,null,{"$f":"OFFSET(listy_slownikowe!$AI$2,I2448,0)","v":" "},null,{"$f":"IFERROR(MATCH(D2448,listy_slownikowe!$AH$3:$AH$326,0),0)","v":0},0]
[null,{"$f":"OFFSET(listy_slownikowe!$AG$2,I2449,0)","v":" "},null,null,null,null,{"$f":"OFFSET(listy_slownikowe!$AI$2,I2449,0)","v":" "},null,{"$f":"IFERROR(MATCH(D2449,listy_slownikowe!$AH$3:$AH$326,0),0)","v":0},0]
[null,{"$f":"OFFSET(listy_slownikowe!$AG$2,I2450,0)","v":" "},null,null,null,null,{"$f":"OFFSET(listy_slownikowe!$AI$2,I2450,0)","v":" "},null,{"$f":"IFERROR(MATCH(D2450,listy_slownikowe!$AH$3:$AH$326,0),0)","v":0},0]
[null,{"$f":"OFFSET(listy_slownikowe!$AG$2,I2451,0)","v":" "},null,"",null,null,{"$f":"OFFSET(listy_slownikowe!$AI$2,I2451,0)","v":" "},null,{"$f":"IFERROR(MATCH(D2451,listy_slownikowe!$AH$3:$AH$326,0),0)","v":0},0]
[null,{"$f":"OFFSET(listy_slownikowe!$AG$2,I2452,0)","v":" "},null,null,null,null,{"$f":"OFFSET(listy_slownikowe!$AI$2,I2452,0)","v":" "},null,{"$f":"IFERROR(MATCH(D2452,listy_slownikowe!$AH$3:$AH$326,0),0)","v":0},0]
[null,"Gatunki dominujące i subdominujące",null,null,null,null,null,null,null,{"$f":"J2454","v":0}]
[null,"nazwa łacińska",null,"nazwa polska",null,null,"udział [%]",null,null,{"$f":"SUM(J2455:J2459)","v":0}]
[null,null,null,null,null,null,null,null,null,{"$f":"COUNTA(B2455:G2455)","v":0}]
[null,null,null,null,null,null,null,null,null,0]
[null,null,null,null,null,null,null,null,null,0]
[null,null,null,null,null,null,null,null,null,0]
[null,null,null,null,null,null,null,null,null,0]
[]
[null,"Spis gatunków numer:",null,null,null,null,{"$f":"G2434+1","v":92},null,null,{"$f":"J2465","v":0}]
[null,"Współrzędne geograficzne",null,null,null,null,null,null,null,{"$f":"J2466","v":0}]
[null,"Długość geograficzna [E] ",null,null,"Szerokość geograficzna [N]",null,null,null,null,{"$f":"J2466","v":0}]
[null,"stopnie","minuty","sekundy","stopnie","minuty","sekundy",null,null,{"$f":"J2465","v":0}]
[null,null,null,null,null,null,null,null,null,{"$f":"J2467+J2481","v":0}]
[null,"Gatunki wskaźnikowe",null,null,null,null,null,null,null,{"$f":"J2467","v":0}]
[null,"nazwa łacińska",null,"nazwa polska",null,null,"walor ",null,null,{"$f":"SUM(J2468:J2479)","v":0}]
[null,{"$f":"OFFSET(listy_slownikowe!$AG$2,I2468,0)","v":" "},null,null,null,null,{"$f":"OFFSET(listy_slownikowe!$AI$2,I2468,0)","v":" "},null,{"$f":"IFERROR(MATCH(D2468,listy_slownikowe!$AH$3:$AH$326,0),0)","v":0},{"$f":"I2468","v":0}]
[null,{"$f":"OFFSET(listy_slownikowe!$AG$2,I2469,0)","v":" "},null,null,null,null,{"$f":"OFFSET(listy_slownikowe!$AI$2,I2469,0)","v":" "},null,{"$f":"IFERROR(MATCH(D2469,listy_slownikowe!$AH$3:$AH$326,0),0)","v":0},{"$f":"I2469","v":0}]
[null,{"$f":"OFFSET(listy_slownikowe!$AG$2,I2470,0)","v":" "},null,null,null,null,{"$f":"OFFSET(listy_slownikowe!$AI$2,I2470,0)","v":" "},null,{"$f":"IFERROR(MATCH(D2470,listy_slownikowe!$AH$3:$AH$326,0),0)","v":0},0]
[null,{"$f":"OFFSET(listy_slownikowe!$AG$2,I2471,0)","v":" "},null,null,null,null,{"$f":"OFFSET(listy_slownikowe!$AI$2,I2471,0)","v":" "},null,{"$f":"IFERROR(MATCH(D2471,listy_slownikowe!$AH$3:$AH$326,0),0)","v":0},0]
[null,{"$f":"OFFSET(listy_slownikowe!$AG$2,I2472,0)","v":" "},null,null,null,null,{"$f":"OFFSET(listy_slownikowe!$AI$2,I2472,0)","v":" "},null,{"$f":"IFERROR(MATCH(D2472,listy_slownikowe!$AH$3:$AH$326,0),0)","v":0},0]
[null,{"$f":"OFFSET(listy_slownikowe!$AG$2,I2473,0)","v":" "},null,null,null,null,{"$f":"OFFSET(listy_slownikowe!$AI$2,I2473,0)","v":" "},null,{"$f":"IFERROR(MATCH(D2473,listy_slownikowe!$AH$3:$AH$326,0),0)","v":0},0]
[null,{"$f":"OFFSET(listy_slownikowe!$AG$2,I2474,0)","v":" "},null,null,null,null,{"$f":"OFFSET(listy_slownikowe!$AI$2,I2474,0)","v":" "},null,{"$f":"IFERROR(MATCH(D2474,listy_slownikowe!$AH$3:$AH$326,0),0)","v":0},0]
[null,{"$f":"OFFSET(listy_slownikowe!$AG$2,I2475,0)","v":" "},null,null,null,null,{"$f":"OFFSET(listy_slownikowe!$AI$2,I2475,0)","v":" "},null,{"$f":"IFERROR(MATCH(D2475,listy_slownikowe!$AH$3:$AH$326,0),0)","v":0},0]
[null,{"$f":"OFFSET(listy_slownikowe!$AG$2,I2476,0)","v":" "},null,null,null,null,{"$f":"OFFSET(listy_slownikowe!$AI$2,I2476,0)","v":" "},null,{"$f":"IFERROR(MATCH(D2476,listy_slownikowe!$AH$3:$AH$326,0),0)","v":0},0]
[null,{"$f":"OFFSET(listy_slownikowe!$AG$2,I2477,0)","v":" "},null,null,null,null,{"$f":"OFFSET(listy_slownikowe!$AI$2,I2477,0)","v":" "},null,{"$f":"IFERROR(MATCH(D2477,listy_slownikowe!$AH$3:$AH$326,0),0)","v":0},0]
[null,{"$f":"OFFSET(listy_slownikowe!$AG$2,I2478,0)","v":" "},null,"",null,null,{"$f":"OFFSET(listy_slownikowe!$AI$2,I2478,0)","v":" "},null,{"$f":"IFERROR(MATCH(D2478,listy_slownikowe!$AH$3:$AH$326,0),0)","v":0},0]
[null,{"$f":"OFFSET(listy_slownikowe!$AG$2,I2479,0)","v":" "},null,null,null,null,{"$f":"OFFSET(listy_slownikowe!$AI$2,I2479,0)","v":" "},null,{"$f":"IFERROR(MATCH(D2479,listy_slownikowe!$AH$3:$AH$326,0),0)","v":0},0]
[null,"Gatunki dominujące i subdominujące",null,null,null,null,null,null,null,{"$f":"J2481","v":0}]
[null,"nazwa łacińska",null,"nazwa polska",null,null,"udział [%]",null,null,{"$f":"SUM(J2482:J2486)","v":0}]
[null,null,null,null,null,null,null,null,null,{"$f":"COUNTA(B2482:G2482)","v":0}]
[null,null,null,null,null,null,null,null,null,0]
[null,null,null,null,null,null,null,null,null,0]
[null,null,null,null,null,null,null,null,null,0]
[null,null,null,null,null,null,null,null,null,0]
[]
[null,"Spis gatunków numer:",null,null,null,null,{"$f":"G2461+1","v":93},null,null,{"$f":"J2492","v":0}]
[null,"Współrzędne geograficzne",null,null,null,null,null,null,null,{"$f":"J2493","v":0}]
[null,"Długość geograficzna [E] ",null,null,"Szerokość geograficzna [N]",null,null,null,null,{"$f":"J2493","v":0}]
[null,"stopnie","minuty","sekundy","stopnie","minuty","sekundy",null,null,{"$f":"J2492","v":0}]
[null,null,null,null,null,null,null,null,null,{"$f":"J2494+J2508","v":0}]
[null,"Gatunki wskaźnikowe",null,null,null,null,null,null,null,{"$f":"J2494","v":0}]
[null,"nazwa łacińska",null,"nazwa polska",null,null,"walor ",null,null,{"$f":"SUM(J2495:J2506)","v":0}]
[null,{"$f":"OFFSET(listy_slownikowe!$AG$2,I2495,0)","v":" "},null,null,null,null,{"$f":"OFFSET(listy_slownikowe!$AI$2,I2495,0)","v":" "},null,{"$f":"IFERROR(MATCH(D2495,listy_slownikowe!$AH$3:$AH$326,0),0)","v":0},{"$f":"I2495","v":0}]
[null,{"$f":"OFFSET(listy_slownikowe!$AG$2,I2496,0)","v":" "},null,null,null,null,{"$f":"OFFSET(listy_slownikowe!$AI$2,I2496,0)","v":" "},null,{"$f":"IFERROR(MATCH(D2496,listy_slownikowe!$AH$3:$AH$326,0),0)","v":0},{"$f":"I2496","v":0}]
[null,{"$f":"OFFSET(listy_slownikowe!$AG$2,I2497,0)","v":" "},null,null,null,null,{"$f":"OFFSET(listy_slownikowe!$AI$2,I2497,0)","v":" "},null,{"$f":"IFERROR(MATCH(D2497,listy_slownikowe!$AH$3:$AH$326,0),0)","v":0},0]
[null,{"$f":"OFFSET(listy_slownikowe!$AG$2,I2498,0)","v":" "},null,null,null,null,{"$f":"OFFSET(listy_slownikowe!$AI$2,I2498,0)","v":" "},null,{"$f":"IFERROR(MATCH(D2498,listy_slownikowe!$AH$3:$AH$326,0),0)","v":0},0]
[null,{"$f":"OFFSET(listy_slownikowe!$AG$2,I2499,0)","v":" "},null,null,null,null,{"$f":"OFFSET(listy_slownikowe!$AI$2,I2499,0)","v":" "},null,{"$f":"IFERROR(MATCH(D2499,listy_slownikowe!$AH$3:$AH$326,0),0)","v":0},0]
[null,{"$f":"OFFSET(listy_slownikowe!$AG$2,I2500,0)","v":" "},null,null,null,null,{"$f":"OFFSET(listy_slownikowe!$AI$2,I2500,0)","v":" "},null,{"$f":"IFERROR(MATCH(D2500,listy_slownikowe!$AH$3:$AH$326,0),0)","v":0},0]
[null,{"$f":"OFFSET(listy_slownikowe!$AG$2,I2501,0)","v":" "},null,null,null,null,{"$f":"OFFSET(listy_slownikowe!$AI$2,I2501,0)","v":" "},null,{"$f":"IFERROR(MATCH(D2501,listy_slownikowe!$AH$3:$AH$326,0),0)","v":0},0]
[null,{"$f":"OFFSET(listy_slownikowe!$AG$2,I2502,0)","v":" "},null,null,null,null,{"$f":"OFFSET(listy_slownikowe!$AI$2,I2502,0)","v":" "},null,{"$f":"IFERROR(MATCH(D2502,listy_slownikowe!$AH$3:$AH$326,0),0)","v":0},0]
[null,{"$f":"OFFSET(listy_slownikowe!$AG$2,I2503,0)","v":" "},null,null,null,null,{"$f":"OFFSET(listy_slownikowe!$AI$2,I2503,0)","v":" "},null,{"$f":"IFERROR(MATCH(D2503,listy_slownikowe!$AH$3:$AH$326,0),0)","v":0},0]
[null,{"$f":"OFFSET(listy_slownikowe!$AG$2,I2504,0)","v":" "},null,null,null,null,{"$f":"OFFSET(listy_slownikowe!$AI$2,I2504,0)","v":" "},null,{"$f":"IFERROR(MATCH(D2504,listy_slownikowe!$AH$3:$AH$326,0),0)","v":0},0]
[null,{"$f":"OFFSET(listy_slownikowe!$AG$2,I2505,0)","v":" "},null,"",null,null,{"$f":"OFFSET(listy_slownikowe!$AI$2,I2505,0)","v":" "},null,{"$f":"IFERROR(MATCH(D2505,listy_slownikowe!$AH$3:$AH$326,0),0)","v":0},0]
[null,{"$f":"OFFSET(listy_slownikowe!$AG$2,I2506,0)","v":" "},null,null,null,null,{"$f":"OFFSET(listy_slownikowe!$AI$2,I2506,0)","v":" "},null,{"$f":"IFERROR(MATCH(D2506,listy_slownikowe!$AH$3:$AH$326,0),0)","v":0},0]
[null,"Gatunki dominujące i subdominujące",null,null,null,null,null,null,null,{"$f":"J2508","v":0}]
[null,"nazwa łacińska",null,"nazwa polska",null,null,"udział [%]",null,null,{"$f":"SUM(J2509:J2513)","v":0}]
[null,null,null,null,null,null,null,null,null,{"$f":"COUNTA(B2509:G2509)","v":0}]
[null,null,null,null,null,null,null,null,null,0]
[null,null,null,null,null,null,null,null,null,0]
[null,null,null,null,null,null,null,null,null,0]
[null,null,null,null,null,null,null,null,null,0]
[]
[null,"Spis gatunków numer:",null,null,null,null,{"$f":"G2488+1","v":94},null,null,{"$f":"J2519","v":0}]
[null,"Współrzędne geograficzne",null,null,null,null,null,null,null,{"$f":"J2520","v":0}]
[null,"Długość geograficzna [E] ",null,null,"Szerokość geograficzna [N]",null,null,null,null,{"$f":"J2520","v":0}]
[null,"stopnie","minuty","sekundy","stopnie","minuty","sekundy",null,null,{"$f":"J2519","v":0}]
[null,null,null,null,null,null,null,null,null,{"$f":"J2521+J2535","v":0}]
[null,"Gatunki wskaźnikowe",null,null,null,null,null,null,null,{"$f":"J2521","v":0}]
[null,"nazwa łacińska",null,"nazwa polska",null,null,"walor ",null,null,{"$f":"SUM(J2522:J2533)","v":0}]
[null,{"$f":"OFFSET(listy_slownikowe!$AG$2,I2522,0)","v":" "},null,null,null,null,{"$f":"OFFSET(listy_slownikowe!$AI$2,I2522,0)","v":" "},null,{"$f":"IFERROR(MATCH(D2522,listy_slownikowe!$AH$3:$AH$326,0),0)","v":0},{"$f":"I2522","v":0}]
[null,{"$f":"OFFSET(listy_slownikowe!$AG$2,I2523,0)","v":" "},null,null,null,null,{"$f":"OFFSET(listy_slownikowe!$AI$2,I2523,0)","v":" "},null,{"$f":"IFERROR(MATCH(D2523,listy_slownikowe!$AH$3:$AH$326,0),0)","v":0},{"$f":"I2523","v":0}]
[null,{"$f":"OFFSET(listy_slownikowe!$AG$2,I2524,0)","v":" "},null,null,null,null,{"$f":"OFFSET(listy_slownikowe!$AI$2,I2524,0)","v":" "},null,{"$f":"IFERROR(MATCH(D2524,listy_slownikowe!$AH$3:$AH$326,0),0)","v":0},0]
[null,{"$f":"OFFSET(listy_slownikowe!$AG$2,I2525,0)","v":" "},null,null,null,null,{"$f":"OFFSET(listy_slownikowe!$AI$2,I2525,0)","v":" "},null,{"$f":"IFERROR(MATCH(D2525,listy_slownikowe!$AH$3:$AH$326,0),0)","v":0},0]
[null,{"$f":"OFFSET(listy_slownikowe!$AG$2,I2526,0)","v":" "},null,null,null,null,{"$f":"OFFSET(listy_slownikowe!$AI$2,I2526,0)","v":" "},null,{"$f":"IFERROR(MATCH(D2526,listy_slownikowe!$AH$3:$AH$326,0),0)","v":0},0]
[null,{"$f":"OFFSET(listy_slownikowe!$AG$2,I2527,0)","v":" "},null,null,null,null,{"$f":"OFFSET(listy_slownikowe!$AI$2,I2527,0)","v":" "},null,{"$f":"IFERROR(MATCH(D2527,listy_slownikowe!$AH$3:$AH$326,0),0)","v":0},0]
[null,{"$f":"OFFSET(listy_slownikowe!$AG$2,I2528,0)","v":" "},null,null,null,null,{"$f":"OFFSET(listy_slownikowe!$AI$2,I2528,0)","v":" "},null,{"$f":"IFERROR(MATCH(D2528,listy_slownikowe!$AH$3:$AH$326,0),0)","v":0},0]
[null,{"$f":"OFFSET(listy_slownikowe!$AG$2,I2529,0)","v":" "},null,null,null,null,{"$f":"OFFSET(listy_slownikowe!$AI$2,I2529,0)","v":" "},null,{"$f":"IFERROR(MATCH(D2529,listy_slownikowe!$AH$3:$AH$326,0),0)","v":0},0]
[null,{"$f":"OFFSET(listy_slownikowe!$AG$2,I2530,0)","v":" "},null,null,null,null,{"$f":"OFFSET(listy_slownikowe!$AI$2,I2530,0)","v":" "},null,{"$f":"IFERROR(MATCH(D2530,listy_slownikowe!$AH$3:$AH$326,0),0)","v":0},0]
[null,{"$f":"OFFSET(listy_slownikowe!$AG$2,I2531,0)","v":" "},null,null,null,null,{"$f":"OFFSET(listy_slownikowe!$AI$2,I2531,0)","v":" "},null,{"$f":"IFERROR(MATCH(D2531,listy_slownikowe!$AH$3:$AH$326,0),0)","v":0},0]
[null,{"$f":"OFFSET(listy_slownikowe!$AG$2,I2532,0)","v":" "},null,"",null,null,{"$f":"OFFSET(listy_slownikowe!$AI$2,I2532,0)","v":" "},null,{"$f":"IFERROR(MATCH(D2532,listy_slownikowe!$AH$3:$AH$326,0),0)","v":0},0]
[null,{"$f":"OFFSET(listy_slownikowe!$AG$2,I2533,0)","v":" "},null,null,null,null,{"$f":"OFFSET(listy_slownikowe!$AI$2,I2533,0)","v":" "},null,{"$f":"IFERROR(MATCH(D2533,listy_slownikowe!$AH$3:$AH$326,0),0)","v":0},0]
[null,"Gatunki dominujące i subdominujące",null,null,null,null,null,null,null,{"$f":"J2535","v":0}]
[null,"nazwa łacińska",null,"nazwa polska",null,null,"udział [%]",null,null,{"$f":"SUM(J2536:J2540)","v":0}]
[null,null,null,null,null,null,null,null,null,{"$f":"COUNTA(B2536:G2536)","v":0}]
[null,null,null,null,null,null,null,null,null,0]
[null,null,null,null,null,null,null,null,null,0]
[null,null,null,null,null,null,null,null,null,0]
[null,null,null,null,null,null,null,null,null,0]
[]
[null,"Spis gatunków numer:",null,null,null,null,{"$f":"G2515+1","v":95},null,null,{"$f":"J2546","v":0}]
[null,"Współrzędne geograficzne",null,null,null,null,null,null,null,{"$f":"J2547","v":0}]
[null,"Długość geograficzna [E] ",null,null,"Szerokość geograficzna [N]",null,null,null,null,{"$f":"J2547","v":0}]
[null,"stopnie","minuty","sekundy","stopnie","minuty","sekundy",null,null,{"$f":"J2546","v":0}]
[null,null,null,null,null,null,null,null,null,{"$f":"J2548+J2562","v":0}]
[null,"Gatunki wskaźnikowe",null,null,null,null,null,null,null,{"$f":"J2548","v":0}]
[null,"nazwa łacińska",null,"nazwa polska",null,null,"walor ",null,null,{"$f":"SUM(J2549:J2560)","v":0}]
[null,{"$f":"OFFSET(listy_slownikowe!$AG$2,I2549,0)","v":" "},null,null,null,null,{"$f":"OFFSET(listy_slownikowe!$AI$2,I2549,0)","v":" "},null,{"$f":"IFERROR(MATCH(D2549,listy_slownikowe!$AH$3:$AH$326,0),0)","v":0},{"$f":"I2549","v":0}]
[null,{"$f":"OFFSET(listy_slownikowe!$AG$2,I2550,0)","v":" "},null,null,null,null,{"$f":"OFFSET(listy_slownikowe!$AI$2,I2550,0)","v":" "},null,{"$f":"IFERROR(MATCH(D2550,listy_slownikowe!$AH$3:$AH$326,0),0)","v":0},{"$f":"I2550","v":0}]
[null,{"$f":"OFFSET(listy_slownikowe!$AG$2,I2551,0)","v":" "},null,null,null,null,{"$f":"OFFSET(listy_slownikowe!$AI$2,I2551,0)","v":" "},null,{"$f":"IFERROR(MATCH(D2551,listy_slownikowe!$AH$3:$AH$326,0),0)","v":0},0]
[null,{"$f":"OFFSET(listy_slownikowe!$AG$2,I2552,0)","v":" "},null,null,null,null,{"$f":"OFFSET(listy_slownikowe!$AI$2,I2552,0)","v":" "},null,{"$f":"IFERROR(MATCH(D2552,listy_slownikowe!$AH$3:$AH$326,0),0)","v":0},0]
[null,{"$f":"OFFSET(listy_slownikowe!$AG$2,I2553,0)","v":" "},null,null,null,null,{"$f":"OFFSET(listy_slownikowe!$AI$2,I2553,0)","v":" "},null,{"$f":"IFERROR(MATCH(D2553,listy_slownikowe!$AH$3:$AH$326,0),0)","v":0},0]
[null,{"$f":"OFFSET(listy_slownikowe!$AG$2,I2554,0)","v":" "},null,null,null,null,{"$f":"OFFSET(listy_slownikowe!$AI$2,I2554,0)","v":" "},null,{"$f":"IFERROR(MATCH(D2554,listy_slownikowe!$AH$3:$AH$326,0),0)","v":0},0]
[null,{"$f":"OFFSET(listy_slownikowe!$AG$2,I2555,0)","v":" "},null,null,null,null,{"$f":"OFFSET(listy_slownikowe!$AI$2,I2555,0)","v":" "},null,{"$f":"IFERROR(MATCH(D2555,listy_slownikowe!$AH$3:$AH$326,0),0)","v":0},0]
[null,{"$f":"OFFSET(listy_slownikowe!$AG$2,I2556,0)","v":" "},null,null,null,null,{"$f":"OFFSET(listy_slownikowe!$AI$2,I2556,0)","v":" "},null,{"$f":"IFERROR(MATCH(D2556,listy_slownikowe!$AH$3:$AH$326,0),0)","v":0},0]
[null,{"$f":"OFFSET(listy_slownikowe!$AG$2,I2557,0)","v":" "},null,null,null,null,{"$f":"OFFSET(listy_slownikowe!$AI$2,I2557,0)","v":" "},null,{"$f":"IFERROR(MATCH(D2557,listy_slownikowe!$AH$3:$AH$326,0),0)","v":0},0]
[null,{"$f":"OFFSET(listy_slownikowe!$AG$2,I2558,0)","v":" "},null,null,null,null,{"$f":"OFFSET(listy_slownikowe!$AI$2,I2558,0)","v":" "},null,{"$f":"IFERROR(MATCH(D2558,listy_slownikowe!$AH$3:$AH$326,0),0)","v":0},0]
[null,{"$f":"OFFSET(listy_slownikowe!$AG$2,I2559,0)","v":" "},null,"",null,null,{"$f":"OFFSET(listy_slownikowe!$AI$2,I2559,0)","v":" "},null,{"$f":"IFERROR(MATCH(D2559,listy_slownikowe!$AH$3:$AH$326,0),0)","v":0},0]
[null,{"$f":"OFFSET(listy_slownikowe!$AG$2,I2560,0)","v":" "},null,null,null,null,{"$f":"OFFSET(listy_slownikowe!$AI$2,I2560,0)","v":" "},null,{"$f":"IFERROR(MATCH(D2560,listy_slownikowe!$AH$3:$AH$326,0),0)","v":0},0]
[null,"Gatunki dominujące i subdominujące",null,null,null,null,null,null,null,{"$f":"J2562","v":0}]
[null,"nazwa łacińska",null,"nazwa polska",null,null,"udział [%]",null,null,{"$f":"SUM(J2563:J2567)","v":0}]
[null,null,null,null,null,null,null,null,null,{"$f":"COUNTA(B2563:G2563)","v":0}]
[null,null,null,null,null,null,null,null,null,0]
[null,null,null,null,null,null,null,null,null,0]
[null,null,null,null,null,null,null,null,null,0]
[null,null,null,null,null,null,null,null,null,0]
[]
[null,"Spis gatunków numer:",null,null,null,null,{"$f":"G2542+1","v":96},null,null,{"$f":"J2573","v":0}]
[null,"Współrzędne geograficzne",null,null,null,null,null,null,null,{"$f":"J2574","v":0}]
[null,"Długość geograficzna [E] ",null,null,"Szerokość geograficzna [N]",null,null,null,null,{"$f":"J2574","v":0}]
[null,"stopnie","minuty","sekundy","stopnie","minuty","sekundy",null,null,{"$f":"J2573","v":0}]
[null,null,null,null,null,null,null,null,null,{"$f":"J2575+J2589","v":0}]
[null,"Gatunki wskaźnikowe",null,null,null,null,null,null,null,{"$f":"J2575","v":0}]
[null,"nazwa łacińska",null,"nazwa polska",null,null,"walor ",null,null,{"$f":"SUM(J2576:J2587)","v":0}]
[null,{"$f":"OFFSET(listy_slownikowe!$AG$2,I2576,0)","v":" "},null,null,null,null,{"$f":"OFFSET(listy_slownikowe!$AI$2,I2576,0)","v":" "},null,{"$f":"IFERROR(MATCH(D2576,listy_slownikowe!$AH$3:$AH$326,0),0)","v":0},{"$f":"I2576","v":0}]
[null,{"$f":"OFFSET(listy_slownikowe!$AG$2,I2577,0)","v":" "},null,null,null,null,{"$f":"OFFSET(listy_slownikowe!$AI$2,I2577,0)","v":" "},null,{"$f":"IFERROR(MATCH(D2577,listy_slownikowe!$AH$3:$AH$326,0),0)","v":0},{"$f":"I2577","v":0}]
[null,{"$f":"OFFSET(listy_slownikowe!$AG$2,I2578,0)","v":" "},null,null,null,null,{"$f":"OFFSET(listy_slownikowe!$AI$2,I2578,0)","v":" "},null,{"$f":"IFERROR(MATCH(D2578,listy_slownikowe!$AH$3:$AH$326,0),0)","v":0},0]
[null,{"$f":"OFFSET(listy_slownikowe!$AG$2,I2579,0)","v":" "},null,null,null,null,{"$f":"OFFSET(listy_slownikowe!$AI$2,I2579,0)","v":" "},null,{"$f":"IFERROR(MATCH(D2579,listy_slownikowe!$AH$3:$AH$326,0),0)","v":0},0]
[null,{"$f":"OFFSET(listy_slownikowe!$AG$2,I2580,0)","v":" "},null,null,null,null,{"$f":"OFFSET(listy_slownikowe!$AI$2,I2580,0)","v":" "},null,{"$f":"IFERROR(MATCH(D2580,listy_slownikowe!$AH$3:$AH$326,0),0)","v":0},0]
[null,{"$f":"OFFSET(listy_slownikowe!$AG$2,I2581,0)","v":" "},null,null,null,null,{"$f":"OFFSET(listy_slownikowe!$AI$2,I2581,0)","v":" "},null,{"$f":"IFERROR(MATCH(D2581,listy_slownikowe!$AH$3:$AH$326,0),0)","v":0},0]
[null,{"$f":"OFFSET(listy_slownikowe!$AG$2,I2582,0)","v":" "},null,null,null,null,{"$f":"OFFSET(listy_slownikowe!$AI$2,I2582,0)","v":" "},null,{"$f":"IFERROR(MATCH(D2582,listy_slownikowe!$AH$3:$AH$326,0),0)","v":0},0]
[null,{"$f":"OFFSET(listy_slownikowe!$AG$2,I2583,0)","v":" "},null,null,null,null,{"$f":"OFFSET(listy_slownikowe!$AI$2,I2583,0)","v":" "},null,{"$f":"IFERROR(MATCH(D2583,listy_slownikowe!$AH$3:$AH$326,0),0)","v":0},0]
[null,{"$f":"OFFSET(listy_slownikowe!$AG$2,I2584,0)","v":" "},null,null,null,null,{"$f":"OFFSET(listy_slownikowe!$AI$2,I2584,0)","v":" "},null,{"$f":"IFERROR(MATCH(D2584,listy_slownikowe!$AH$3:$AH$326,0),0)","v":0},0]
[null,{"$f":"OFFSET(listy_slownikowe!$AG$2,I2585,0)","v":" "},null,null,null,null,{"$f":"OFFSET(listy_slownikowe!$AI$2,I2585,0)","v":" "},null,{"$f":"IFERROR(MATCH(D2585,listy_slownikowe!$AH$3:$AH$326,0),0)","v":0},0]
[null,{"$f":"OFFSET(listy_slownikowe!$AG$2,I2586,0)","v":" "},null,"",null,null,{"$f":"OFFSET(listy_slownikowe!$AI$2,I2586,0)","v":" "},null,{"$f":"IFERROR(MATCH(D2586,listy_slownikowe!$AH$3:$AH$326,0),0)","v":0},0]
[null,{"$f":"OFFSET(listy_slownikowe!$AG$2,I2587,0)","v":" "},null,null,null,null,{"$f":"OFFSET(listy_slownikowe!$AI$2,I2587,0)","v":" "},null,{"$f":"IFERROR(MATCH(D2587,listy_slownikowe!$AH$3:$AH$326,0),0)","v":0},0]
[null,"Gatunki dominujące i subdominujące",null,null,null,null,null,null,null,{"$f":"J2589","v":0}]
[null,"nazwa łacińska",null,"nazwa polska",null,null,"udział [%]",null,null,{"$f":"SUM(J2590:J2594)","v":0}]
[null,null,null,null,null,null,null,null,null,{"$f":"COUNTA(B2590:G2590)","v":0}]
[null,null,null,null,null,null,null,null,null,0]
[null,null,null,null,null,null,null,null,null,0]
[null,null,null,null,null,null,null,null,null,0]
[null,null,null,null,null,null,null,null,null,0]
[]
[null,"Spis gatunków numer:",null,null,null,null,{"$f":"G2569+1","v":97},null,null,{"$f":"J2600","v":0}]
[null,"Współrzędne geograficzne",null,null,null,null,null,null,null,{"$f":"J2601","v":0}]
[null,"Długość geograficzna [E] ",null,null,"Szerokość geograficzna [N]",null,null,null,null,{"$f":"J2601","v":0}]
[null,"stopnie","minuty","sekundy","stopnie","minuty","sekundy",null,null,{"$f":"J2600","v":0}]
[null,null,null,null,null,null,null,null,null,{"$f":"J2602+J2616","v":0}]
[null,"Gatunki wskaźnikowe",null,null,null,null,null,null,null,{"$f":"J2602","v":0}]
[null,"nazwa łacińska",null,"nazwa polska",null,null,"walor ",null,null,{"$f":"SUM(J2603:J2614)","v":0}]
[null,{"$f":"OFFSET(listy_slownikowe!$AG$2,I2603,0)","v":" "},null,null,null,null,{"$f":"OFFSET(listy_slownikowe!$AI$2,I2603,0)","v":" "},null,{"$f":"IFERROR(MATCH(D2603,listy_slownikowe!$AH$3:$AH$326,0),0)","v":0},{"$f":"I2603","v":0}]
[null,{"$f":"OFFSET(listy_slownikowe!$AG$2,I2604,0)","v":" "},null,null,null,null,{"$f":"OFFSET(listy_slownikowe!$AI$2,I2604,0)","v":" "},null,{"$f":"IFERROR(MATCH(D2604,listy_slownikowe!$AH$3:$AH$326,0),0)","v":0},{"$f":"I2604","v":0}]
[null,{"$f":"OFFSET(listy_slownikowe!$AG$2,I2605,0)","v":" "},null,null,null,null,{"$f":"OFFSET(listy_slownikowe!$AI$2,I2605,0)","v":" "},null,{"$f":"IFERROR(MATCH(D2605,listy_slownikowe!$AH$3:$AH$326,0),0)","v":0},0]
[null,{"$f":"OFFSET(listy_slownikowe!$AG$2,I2606,0)","v":" "},null,null,null,null,{"$f":"OFFSET(listy_slownikowe!$AI$2,I2606,0)","v":" "},null,{"$f":"IFERROR(MATCH(D2606,listy_slownikowe!$AH$3:$AH$326,0),0)","v":0},0]
[null,{"$f":"OFFSET(listy_slownikowe!$AG$2,I2607,0)","v":" "},null,null,null,null,{"$f":"OFFSET(listy_slownikowe!$AI$2,I2607,0)","v":" "},null,{"$f":"IFERROR(MATCH(D2607,listy_slownikowe!$AH$3:$AH$326,0),0)","v":0},0]
[null,{"$f":"OFFSET(listy_slownikowe!$AG$2,I2608,0)","v":" "},null,null,null,null,{"$f":"OFFSET(listy_slownikowe!$AI$2,I2608,0)","v":" "},null,{"$f":"IFERROR(MATCH(D2608,listy_slownikowe!$AH$3:$AH$326,0),0)","v":0},0]
[null,{"$f":"OFFSET(listy_slownikowe!$AG$2,I2609,0)","v":" "},null,null,null,null,{"$f":"OFFSET(listy_slownikowe!$AI$2,I2609,0)","v":" "},null,{"$f":"IFERROR(MATCH(D2609,listy_slownikowe!$AH$3:$AH$326,0),0)","v":0},0]
[null,{"$f":"OFFSET(listy_slownikowe!$AG$2,I2610,0)","v":" "},null,null,null,null,{"$f":"OFFSET(listy_slownikowe!$AI$2,I2610,0)","v":" "},null,{"$f":"IFERROR(MATCH(D2610,listy_slownikowe!$AH$3:$AH$326,0),0)","v":0},0]
[null,{"$f":"OFFSET(listy_slownikowe!$AG$2,I2611,0)","v":" "},null,null,null,null,{"$f":"OFFSET(listy_slownikowe!$AI$2,I2611,0)","v":" "},null,{"$f":"IFERROR(MATCH(D2611,listy_slownikowe!$AH$3:$AH$326,0),0)","v":0},0]
[null,{"$f":"OFFSET(listy_slownikowe!$AG$2,I2612,0)","v":" "},null,null,null,null,{"$f":"OFFSET(listy_slownikowe!$AI$2,I2612,0)","v":" "},null,{"$f":"IFERROR(MATCH(D2612,listy_slownikowe!$AH$3:$AH$326,0),0)","v":0},0]
[null,{"$f":"OFFSET(listy_slownikowe!$AG$2,I2613,0)","v":" "},null,"",null,null,{"$f":"OFFSET(listy_slownikowe!$AI$2,I2613,0)","v":" "},null,{"$f":"IFERROR(MATCH(D2613,listy_slownikowe!$AH$3:$AH$326,0),0)","v":0},0]
[null,{"$f":"OFFSET(listy_slownikowe!$AG$2,I2614,0)","v":" "},null,null,null,null,{"$f":"OFFSET(listy_slownikowe!$AI$2,I2614,0)","v":" "},null,{"$f":"IFERROR(MATCH(D2614,listy_slownikowe!$AH$3:$AH$326,0),0)","v":0},0]
[null,"Gatunki dominujące i subdominujące",null,null,null,null,null,null,null,{"$f":"J2616","v":0}]
[null,"nazwa łacińska",null,"nazwa polska",null,null,"udział [%]",null,null,{"$f":"SUM(J2617:J2621)","v":0}]
[null,null,null,null,null,null,null,null,null,{"$f":"COUNTA(B2617:G2617)","v":0}]
[null,null,null,null,null,null,null,null,null,0]
[null,null,null,null,null,null,null,null,null,0]
[null,null,null,null,null,null,null,null,null,0]
[null,null,null,null,null,null,null,null,null,0]
[]
[null,"Spis gatunków numer:",null,null,null,null,{"$f":"G2596+1","v":98},null,null,{"$f":"J2627","v":0}]
[null,"Współrzędne geograficzne",null,null,null,null,null,null,null,{"$f":"J2628","v":0}]
[null,"Długość geograficzna [E] ",null,null,"Szerokość geograficzna [N]",null,null,null,null,{"$f":"J2628","v":0}]
[null,"stopnie","minuty","sekundy","stopnie","minuty","sekundy",null,null,{"$f":"J2627","v":0}]
[null,null,null,null,null,null,null,null,null,{"$f":"J2629+J2643","v":0}]
[null,"Gatunki wskaźnikowe",null,null,null,null,null,null,null,{"$f":"J2629","v":0}]
[null,"nazwa łacińska",null,"nazwa polska",null,null,"walor ",null,null,{"$f":"SUM(J2630:J2641)","v":0}]
[null,{"$f":"OFFSET(listy_slownikowe!$AG$2,I2630,0)","v":" "},null,null,null,null,{"$f":"OFFSET(listy_slownikowe!$AI$2,I2630,0)","v":" "},null,{"$f":"IFERROR(MATCH(D2630,listy_slownikowe!$AH$3:$AH$326,0),0)","v":0},{"$f":"I2630","v":0}]
[null,{"$f":"OFFSET(listy_slownikowe!$AG$2,I2631,0)","v":" "},null,null,null,null,{"$f":"OFFSET(listy_slownikowe!$AI$2,I2631,0)","v":" "},null,{"$f":"IFERROR(MATCH(D2631,listy_slownikowe!$AH$3:$AH$326,0),0)","v":0},{"$f":"I2631","v":0}]
[null,{"$f":"OFFSET(listy_slownikowe!$AG$2,I2632,0)","v":" "},null,null,null,null,{"$f":"OFFSET(listy_slownikowe!$AI$2,I2632,0)","v":" "},null,{"$f":"IFERROR(MATCH(D2632,listy_slownikowe!$AH$3:$AH$326,0),0)","v":0},0]
[null,{"$f":"OFFSET(listy_slownikowe!$AG$2,I2633,0)","v":" "},null,null,null,null,{"$f":"OFFSET(listy_slownikowe!$AI$2,I2633,0)","v":" "},null,{"$f":"IFERROR(MATCH(D2633,listy_slownikowe!$AH$3:$AH$326,0),0)","v":0},0]
[null,{"$f":"OFFSET(listy_slownikowe!$AG$2,I2634,0)","v":" "},null,null,null,null,{"$f":"OFFSET(listy_slownikowe!$AI$2,I2634,0)","v":" "},null,{"$f":"IFERROR(MATCH(D2634,listy_slownikowe!$AH$3:$AH$326,0),0)","v":0},0]
[null,{"$f":"OFFSET(listy_slownikowe!$AG$2,I2635,0)","v":" "},null,null,null,null,{"$f":"OFFSET(listy_slownikowe!$AI$2,I2635,0)","v":" "},null,{"$f":"IFERROR(MATCH(D2635,listy_slownikowe!$AH$3:$AH$326,0),0)","v":0},0]
[null,{"$f":"OFFSET(listy_slownikowe!$AG$2,I2636,0)","v":" "},null,null,null,null,{"$f":"OFFSET(listy_slownikowe!$AI$2,I2636,0)","v":" "},null,{"$f":"IFERROR(MATCH(D2636,listy_slownikowe!$AH$3:$AH$326,0),0)","v":0},0]
[null,{"$f":"OFFSET(listy_slownikowe!$AG$2,I2637,0)","v":" "},null,null,null,null,{"$f":"OFFSET(listy_slownikowe!$AI$2,I2637,0)","v":" "},null,{"$f":"IFERROR(MATCH(D2637,listy_slownikowe!$AH$3:$AH$326,0),0)","v":0},0]
[null,{"$f":"OFFSET(listy_slownikowe!$AG$2,I2638,0)","v":" "},null,null,null,null,{"$f":"OFFSET(listy_slownikowe!$AI$2,I2638,0)","v":" "},null,{"$f":"IFERROR(MATCH(D2638,listy_slownikowe!$AH$3:$AH$326,0),0)","v":0},0]
[null,{"$f":"OFFSET(listy_slownikowe!$AG$2,I2639,0)","v":" "},null,null,null,null,{"$f":"OFFSET(listy_slownikowe!$AI$2,I2639,0)","v":" "},null,{"$f":"IFERROR(MATCH(D2639,listy_slownikowe!$AH$3:$AH$326,0),0)","v":0},0]
[null,{"$f":"OFFSET(listy_slownikowe!$AG$2,I2640,0)","v":" "},null,"",null,null,{"$f":"OFFSET(listy_slownikowe!$AI$2,I2640,0)","v":" "},null,{"$f":"IFERROR(MATCH(D2640,listy_slownikowe!$AH$3:$AH$326,0),0)","v":0},0]
[null,{"$f":"OFFSET(listy_slownikowe!$AG$2,I2641,0)","v":" "},null,null,null,null,{"$f":"OFFSET(listy_slownikowe!$AI$2,I2641,0)","v":" "},null,{"$f":"IFERROR(MATCH(D2641,listy_slownikowe!$AH$3:$AH$326,0),0)","v":0},0]
[null,"Gatunki dominujące i subdominujące",null,null,null,null,null,null,null,{"$f":"J2643","v":0}]
[null,"nazwa łacińska",null,"nazwa polska",null,null,"udział [%]",null,null,{"$f":"SUM(J2644:J2648)","v":0}]
[null,null,null,null,null,null,null,null,null,{"$f":"COUNTA(B2644:G2644)","v":0}]
[null,null,null,null,null,null,null,null,null,0]
[null,null,null,null,null,null,null,null,null,0]
[null,null,null,null,null,null,null,null,null,0]
[null,null,null,null,null,null,null,null,null,0]
[]
[null,"Spis gatunków numer:",null,null,null,null,{"$f":"G2623+1","v":99},null,null,{"$f":"J2654","v":0}]
[null,"Współrzędne geograficzne",null,null,null,null,null,null,null,{"$f":"J2655","v":0}]
[null,"Długość geograficzna [E] ",null,null,"Szerokość geograficzna [N]",null,null,null,null,{"$f":"J2655","v":0}]
[null,"stopnie","minuty","sekundy","stopnie","minuty","sekundy",null,null,{"$f":"J2654","v":0}]
[null,null,null,null,null,null,null,null,null,{"$f":"J2656+J2670","v":0}]
[null,"Gatunki wskaźnikowe",null,null,null,null,null,null,null,{"$f":"J2656","v":0}]
[null,"nazwa łacińska",null,"nazwa polska",null,null,"walor ",null,null,{"$f":"SUM(J2657:J2668)","v":0}]
[null,{"$f":"OFFSET(listy_slownikowe!$AG$2,I2657,0)","v":" "},null,null,null,null,{"$f":"OFFSET(listy_slownikowe!$AI$2,I2657,0)","v":" "},null,{"$f":"IFERROR(MATCH(D2657,listy_slownikowe!$AH$3:$AH$326,0),0)","v":0},{"$f":"I2657","v":0}]
[null,{"$f":"OFFSET(listy_slownikowe!$AG$2,I2658,0)","v":" "},null,null,null,null,{"$f":"OFFSET(listy_slownikowe!$AI$2,I2658,0)","v":" "},null,{"$f":"IFERROR(MATCH(D2658,listy_slownikowe!$AH$3:$AH$326,0),0)","v":0},{"$f":"I2658","v":0}]
[null,{"$f":"OFFSET(listy_slownikowe!$AG$2,I2659,0)","v":" "},null,null,null,null,{"$f":"OFFSET(listy_slownikowe!$AI$2,I2659,0)","v":" "},null,{"$f":"IFERROR(MATCH(D2659,listy_slownikowe!$AH$3:$AH$326,0),0)","v":0},0]
[null,{"$f":"OFFSET(listy_slownikowe!$AG$2,I2660,0)","v":" "},null,null,null,null,{"$f":"OFFSET(listy_slownikowe!$AI$2,I2660,0)","v":" "},null,{"$f":"IFERROR(MATCH(D2660,listy_slownikowe!$AH$3:$AH$326,0),0)","v":0},0]
[null,{"$f":"OFFSET(listy_slownikowe!$AG$2,I2661,0)","v":" "},null,null,null,null,{"$f":"OFFSET(listy_slownikowe!$AI$2,I2661,0)","v":" "},null,{"$f":"IFERROR(MATCH(D2661,listy_slownikowe!$AH$3:$AH$326,0),0)","v":0},0]
[null,{"$f":"OFFSET(listy_slownikowe!$AG$2,I2662,0)","v":" "},null,null,null,null,{"$f":"OFFSET(listy_slownikowe!$AI$2,I2662,0)","v":" "},null,{"$f":"IFERROR(MATCH(D2662,listy_slownikowe!$AH$3:$AH$326,0),0)","v":0},0]
[null,{"$f":"OFFSET(listy_slownikowe!$AG$2,I2663,0)","v":" "},null,null,null,null,{"$f":"OFFSET(listy_slownikowe!$AI$2,I2663,0)","v":" "},null,{"$f":"IFERROR(MATCH(D2663,listy_slownikowe!$AH$3:$AH$326,0),0)","v":0},0]
[null,{"$f":"OFFSET(listy_slownikowe!$AG$2,I2664,0)","v":" "},null,null,null,null,{"$f":"OFFSET(listy_slownikowe!$AI$2,I2664,0)","v":" "},null,{"$f":"IFERROR(MATCH(D2664,listy_slownikowe!$AH$3:$AH$326,0),0)","v":0},0]
[null,{"$f":"OFFSET(listy_slownikowe!$AG$2,I2665,0)","v":" "},null,null,null,null,{"$f":"OFFSET(listy_slownikowe!$AI$2,I2665,0)","v":" "},null,{"$f":"IFERROR(MATCH(D2665,listy_slownikowe!$AH$3:$AH$326,0),0)","v":0},0]
[null,{"$f":"OFFSET(listy_slownikowe!$AG$2,I2666,0)","v":" "},null,null,null,null,{"$f":"OFFSET(listy_slownikowe!$AI$2,I2666,0)","v":" "},null,{"$f":"IFERROR(MATCH(D2666,listy_slownikowe!$AH$3:$AH$326,0),0)","v":0},0]
[null,{"$f":"OFFSET(listy_slownikowe!$AG$2,I2667,0)","v":" "},null,"",null,null,{"$f":"OFFSET(listy_slownikowe!$AI$2,I2667,0)","v":" "},null,{"$f":"IFERROR(MATCH(D2667,listy_slownikowe!$AH$3:$AH$326,0),0)","v":0},0]
[null,{"$f":"OFFSET(listy_slownikowe!$AG$2,I2668,0)","v":" "},null,null,null,null,{"$f":"OFFSET(listy_slownikowe!$AI$2,I2668,0)","v":" "},null,{"$f":"IFERROR(MATCH(D2668,listy_slownikowe!$AH$3:$AH$326,0),0)","v":0},0]
[null,"Gatunki dominujące i subdominujące",null,null,null,null,null,null,null,{"$f":"J2670","v":0}]
[null,"nazwa łacińska",null,"nazwa polska",null,null,"udział [%]",null,null,{"$f":"SUM(J2671:J2675)","v":0}]
[null,null,null,null,null,null,null,null,null,{"$f":"COUNTA(B2671:G2671)","v":0}]
[null,null,null,null,null,null,null,null,null,0]
[null,null,null,null,null,null,null,null,null,0]
[null,null,null,null,null,null,null,null,null,0]
[null,null,null,null,null,null,null,null,null,0]
[]
[null,"Spis gatunków numer:",null,null,null,null,{"$f":"G2650+1","v":100},null,null,{"$f":"J2681","v":0}]
[null,"Współrzędne geograficzne",null,null,null,null,null,null,null,{"$f":"J2682","v":0}]
[null,"Długość geograficzna [E] ",null,null,"Szerokość geograficzna [N]",null,null,null,null,{"$f":"J2682","v":0}]
[null,"stopnie","minuty","sekundy","stopnie","minuty","sekundy",null,null,{"$f":"J2681","v":0}]
[null,null,null,null,null,null,null,null,null,{"$f":"J2683+J2697","v":0}]
[null,"Gatunki wskaźnikowe",null,null,null,null,null,null,null,{"$f":"J2683","v":0}]
[null,"nazwa łacińska",null,"nazwa polska",null,null,"walor ",null,null,{"$f":"SUM(J2684:J2695)","v":0}]
[null,{"$f":"OFFSET(listy_slownikowe!$AG$2,I2684,0)","v":" "},null,null,null,null,{"$f":"OFFSET(listy_slownikowe!$AI$2,I2684,0)","v":" "},null,{"$f":"IFERROR(MATCH(D2684,listy_slownikowe!$AH$3:$AH$326,0),0)","v":0},{"$f":"I2684","v":0}]
[null,{"$f":"OFFSET(listy_slownikowe!$AG$2,I2685,0)","v":" "},null,null,null,null,{"$f":"OFFSET(listy_slownikowe!$AI$2,I2685,0)","v":" "},null,{"$f":"IFERROR(MATCH(D2685,listy_slownikowe!$AH$3:$AH$326,0),0)","v":0},{"$f":"I2685","v":0}]
[null,{"$f":"OFFSET(listy_slownikowe!$AG$2,I2686,0)","v":" "},null,null,null,null,{"$f":"OFFSET(listy_slownikowe!$AI$2,I2686,0)","v":" "},null,{"$f":"IFERROR(MATCH(D2686,listy_slownikowe!$AH$3:$AH$326,0),0)","v":0},0]
[null,{"$f":"OFFSET(listy_slownikowe!$AG$2,I2687,0)","v":" "},null,null,null,null,{"$f":"OFFSET(listy_slownikowe!$AI$2,I2687,0)","v":" "},null,{"$f":"IFERROR(MATCH(D2687,listy_slownikowe!$AH$3:$AH$326,0),0)","v":0},0]
[null,{"$f":"OFFSET(listy_slownikowe!$AG$2,I2688,0)","v":" "},null,null,null,null,{"$f":"OFFSET(listy_slownikowe!$AI$2,I2688,0)","v":" "},null,{"$f":"IFERROR(MATCH(D2688,listy_slownikowe!$AH$3:$AH$326,0),0)","v":0},0]
[null,{"$f":"OFFSET(listy_slownikowe!$AG$2,I2689,0)","v":" "},null,null,null,null,{"$f":"OFFSET(listy_slownikowe!$AI$2,I2689,0)","v":" "},null,{"$f":"IFERROR(MATCH(D2689,listy_slownikowe!$AH$3:$AH$326,0),0)","v":0},0]
[null,{"$f":"OFFSET(listy_slownikowe!$AG$2,I2690,0)","v":" "},null,null,null,null,{"$f":"OFFSET(listy_slownikowe!$AI$2,I2690,0)","v":" "},null,{"$f":"IFERROR(MATCH(D2690,listy_slownikowe!$AH$3:$AH$326,0),0)","v":0},0]
[null,{"$f":"OFFSET(listy_slownikowe!$AG$2,I2691,0)","v":" "},null,null,null,null,{"$f":"OFFSET(listy_slownikowe!$AI$2,I2691,0)","v":" "},null,{"$f":"IFERROR(MATCH(D2691,listy_slownikowe!$AH$3:$AH$326,0),0)","v":0},0]
[null,{"$f":"OFFSET(listy_slownikowe!$AG$2,I2692,0)","v":" "},null,"",null,null,{"$f":"OFFSET(listy_slownikowe!$AI$2,I2692,0)","v":" "},null,{"$f":"IFERROR(MATCH(D2692,listy_slownikowe!$AH$3:$AH$326,0),0)","v":0},0]
[null,{"$f":"OFFSET(listy_slownikowe!$AG$2,I2693,0)","v":" "},null,null,null,null,{"$f":"OFFSET(listy_slownikowe!$AI$2,I2693,0)","v":" "},null,{"$f":"IFERROR(MATCH(D2693,listy_slownikowe!$AH$3:$AH$326,0),0)","v":0},0]
[null,{"$f":"OFFSET(listy_slownikowe!$AG$2,I2694,0)","v":" "},null,"",null,null,{"$f":"OFFSET(listy_slownikowe!$AI$2,I2694,0)","v":" "},null,{"$f":"IFERROR(MATCH(D2694,listy_slownikowe!$AH$3:$AH$326,0),0)","v":0},0]
[null,{"$f":"OFFSET(listy_slownikowe!$AG$2,I2695,0)","v":" "},null,null,null,null,{"$f":"OFFSET(listy_slownikowe!$AI$2,I2695,0)","v":" "},null,{"$f":"IFERROR(MATCH(D2695,listy_slownikowe!$AH$3:$AH$326,0),0)","v":0},0]
[null,"Gatunki dominujące i subdominujące",null,null,null,null,null,null,null,{"$f":"J2697","v":0}]
[null,"nazwa łacińska",null,"nazwa polska",null,null,"udział [%]",null,null,{"$f":"SUM(J2698:J2702)","v":0}]
[null,null,null,null,null,null,null,null,null,{"$f":"COUNTA(B2698:G2698)","v":0}]
[null,null,null,null,null,null,null,null,null,0]
[null,null,null,null,null,null,null,null,null,0]
[null,null,null,null,null,null,null,null,null,0]
[null,null,null,null,null,null,null,null,null,0]

{"sheet":"S_Spisy gat wskaznik RSS(1)","index":10,"n_rows":2702,"n_cols":17,"rows_kept":2702,"cut":false,"hidden":true,"merged":[[2701,1,2701,2],[2701,3,2701,5],[2698,1,2698,2],[2698,3,2698,5],[2699,1,2699,2],[2699,3,2699,5],[2700,1,2700,2],[2700,3,2700,5],[2694,1,2694,2],[2694,3,2694,5],[2695,1,2695,6],[2696,1,2696,2],[2696,3,2696,5],[2697,1,2697,2],[2697,3,2697,5],[2691,1,2691,2],[2691,3,2691,5],[2692,1,2692,2],[2692,3,2692,5],[2693,1,2693,2],[2693,3,2693,5],[2688,1,2688,2],[2688,3,2688,5],[2689,1,2689,2],[2689,3,2689,5],[2690,1,2690,2],[2690,3,2690,5],[2685,1,2685,2],[2685,3,2685,5],[2686,1,2686,2],[2686,3,2686,5],[2687,1,2687,2],[2687,3,2687,5],[2681,1,2681,6],[2682,1,2682,2],[2682,3,2682,5],[2683,1,2683,2],[2683,3,2683,5],[2684,1,2684,2],[2684,3,2684,5],[2674,1,2674,2],[2674,3,2674,5],[2676,1,2676,5],[2677,1,2677,6],[2678,1,2678,3],[2678,4,2678,6],[2671,1,2671,2],[2671,3,2671,5],[2672,1,2672,2],[2672,3,2672,5],[2673,1,2673,2],[2673,3,2673,5],[2667,1,2667,2],[2667,3,2667,5],[2668,1,2668,6],[2669,1,2669,2],[2669,3,2669,5],[2670,1,2670,2],[2670,3,2670,5],[2664,1,2664,2],[2664,3,2664,5],[2665,1,2665,2],[2665,3,2665,5],[2666,1,2666,2],[2666,3,2666,5],[2661,1,2661,2],[2661,3,2661,5],[2662,1,2662,2],[2662,3,2662,5],[2663,1,2663,2],[2663,3,2663,5],[2658,1,2658,2],[2658,3,2658,5],[2659,1,2659,2],[2659,3,2659,5],[2660,1,2660,2],[2660,3,2660,5],[2654,1,2654,6],[2655,1,2655,2],[2655,3,2655,5],[2656,1,2656,2],[2656,3,2656,5],[2657,1,2657,2],[2657,3,2657,5],[2647,1,2647,2],[2647,3,2647,5],[2649,1,2649,5],[2650,1,2650,6],[2651,1,2651,3],[2651,4,2651,6],[2644,1,2644,2],[2644,3,2644,5],[2645,1,2645,2],[2645,3,2645,5],[2646,1,2646,2],[2646,3,2646,5],[2640,1,2640,2],[2640,3,2640,5],[2641,1,2641,6],[2642,1,2642,2],[2642,3,2642,5],[2643,1,2643,2],[2643,3,2643,5],[2637,1,2637,2],[2637,3,2637,5],[2638,1,2638,2],[2638,3,2638,5],[2639,1,2639,2],[2639,3,2639,5],[2634,1,2634,2],[2634,3,2634,5],[2635,1,2635,2],[2635,3,2635,5],[2636,1,2636,2],[2636,3,2636,5],[2631,1,2631,2],[2631,3,2631,5],[2632,1,2632,2],[2632,3,2632,5],[2633,1,2633,2],[2633,3,2633,5],[2627,1,2627,6],[2628,1,2628,2],[2628,3,2628,5],[2629,1,2629,2],[2629,3,2629,5],[2630,1,2630,2],[2630,3,2630,5],[2620,1,2620,2],[2620,3,2620,5],[2622,1,2622,5],[2623,1,2623,6],[2624,1,2624,3],[2624,4,2624,6],[2617,1,2617,2],[2617,3,2617,5],[2618,1,2618,2],[2618,3,2618,5],[2619,1,2619,2],[2619,3,2619,5],[2613,1,2613,2],[2613,3,2613,5],[2614,1,2614,6],[2615,1,2615,2],[2615,3,2615,5],[2616,1,2616,2],[2616,3,2616,5],[2610,1,2610,2],[2610,3,2610,5],[2611,1,2611,2],[2611,3,2611,5],[2612,1,2612,2],[2612,3,2612,5],[2607,1,2607,2],[2607,3,2607,5],[2608,1,2608,2],[2608,3,2608,5],[2609,1,2609,2],[2609,3,2609,5],[2604,1,2604,2],[2604,3,2604,5],[2605,1,2605,2],[2605,3,2605,5],[2606,1,2606,2],[2606,3,2606,5],[2600,1,2600,6],[2601,1,2601,2],[2601,3,2601,5],[2602,1,2602,2],[2602,3,2602,5],[2603,1,2603,2],[2603,3,2603,5],[2593,1,2593,2],[2593,3,2593,5],[2595,1,2595,5],[2596,1,2596,6],[2597,1,2597,3],[2597,4,2597,6],[2590,1,2590,2],[2590,3,2590,5],[2591,1,2591,2],[2591,3,2591,5],[2592,1,2592,2],[2592,3,2592,5],[2586,1,2586,2],[2586,3,2586,5],[2587,1,2587,6],[2588,1,2588,2],[2588,3,2588,5],[2589,1,2589,2],[2589,3,2589,5],[2583,1,2583,2],[2583,3,2583,5],[2584,1,2584,2],[2584,3,2584,5],[2585,1,2585,2],[2585,3,2585,5],[2580,1,2580,2],[2580,3,2580,5],[2581,1,2581,2],[2581,3,2581,5],[2582,1,2582,2],[2582,3,2582,5],[2577,1,2577,2],[2577,3,2577,5],[2578,1,2578,2],[2578,3,2578,5],[2579,1,2579,2],[2579,3,2579,5],[2573,1,2573,6],[2574,1,2574,2],[2574,3,2574,5],[2575,1,2575,2],[2575,3,2575,5],[2576,1,2576,2],[2576,3,2576,5],[2566,1,2566,2],[2566,3,2566,5],[2568,1,2568,5],[2569,1,2569,6],[2570,1,2570,3],[2570,4,2570,6],[2563,1,2563,2],[2563,3,2563,5],[2564,1,2564,2],[2564,3,2564,5],[2565,1,2565,2],[2565,3,2565,5],[2559,1,2559,2],[2559,3,2559,5],[2560,1,2560,6],[2561,1,2561,2],[2561,3,2561,5],[2562,1,2562,2],[2562,3,2562,5],[2556,1,2556,2],[2556,3,2556,5],[2557,1,2557,2],[2557,3,2557,5],[2558,1,2558,2],[2558,3,2558,5],[2553,1,2553,2],[2553,3,2553,5],[2554,1,2554,2],[2554,3,2554,5],[2555,1,2555,2],[2555,3,2555,5],[2550,1,2550,2],[2550,3,2550,5],[2551,1,2551,2],[2551,3,2551,5],[2552,1,2552,2],[2552,3,2552,5],[2546,1,2546,6],[2547,1,2547,2],[2547,3,2547,5],[2548,1,2548,2],[2548,3,2548,5],[2549,1,2549,2],[2549,3,2549,5],[2539,1,2539,2],[2539,3,2539,5],[2541,1,2541,5],[2542,1,2542,6],[2543,1,2543,3],[2543,4,2543,6],[2536,1,2536,2],[2536,3,2536,5],[2537,1,2537,2],[2537,3,2537,5],[2538,1,2538,2],[2538,3,2538,5],[2532,1,2532,2],[2532,3,2532,5],[2533,1,2533,6],[2534,1,2534,2],[2534,3,2534,5],[2535,1,2535,2],[2535,3,2535,5],[2529,1,2529,2],[2529,3,2529,5],[2530,1,2530,2],[2530,3,2530,5],[2531,1,2531,2],[2531,3,2531,5],[2526,1,2526,2],[2526,3,2526,5],[2527,1,2527,2],[2527,3,2527,5],[2528,1,2528,2],[2528,3,2528,5],[2523,1,2523,2],[2523,3,2523,5],[2524,1,2524,2],[2524,3,2524,5],[2525,1,2525,2],[2525,3,2525,5],[2519,1,2519,6],[2520,1,2520,2],[2520,3,2520,5],[2521,1,2521,2],[2521,3,2521,5],[2522,1,2522,2],[2522,3,2522,5],[2512,1,2512,2],[2512,3,2512,5],[2514,1,2514,5],[2515,1,2515,6],[2516,1,2516,3],[2516,4,2516,6],[2509,1,2509,2],[2509,3,2509,5],[2510,1,2510,2],[2510,3,2510,5],[2511,1,2511,2],[2511,3,2511,5],[2505,1,2505,2],[2505,3,2505,5],[2506,1,2506,6],[2507,1,2507,2],[2507,3,2507,5],[2508,1,2508,2],[2508,3,2508,5],[2502,1,2502,2],[2502,3,2502,5],[2503,1,2503,2],[2503,3,2503,5],[2504,1,2504,2],[2504,3,2504,5],[2499,1,2499,2],[2499,3,2499,5],[2500,1,2500,2],[2500,3,2500,5],[2501,1,2501,2],[2501,3,2501,5],[2496,1,2496,2],[2496,3,2496,5],[2497,1,2497,2],[2497,3,2497,5],[2498,1,2498,2],[2498,3,2498,5],[2492,1,2492,6],[2493,1,2493,2],[2493,3,2493,5],[2494,1,2494,2],[2494,3,2494,5],[2495,1,2495,2],[2495,3,2495,5],[2485,1,2485,2],[2485,3,2485,5],[2487,1,2487,5],[2488,1,2488,6],[2489,1,2489,3],[2489,4,2489,6],[2482,1,2482,2],[2482,3,2482,5],[2483,1,2483,2],[2483,3,2483,5],[2484,1,2484,2],[2484,3,2484,5],[2478,1,2478,2],[2478,3,2478,5],[2479,1,2479,6],[2480,1,2480,2],[2480,3,2480,5],[2481,1,2481,2],[2481,3,2481,5],[2475,1,2475,2],[2475,3,2475,5],[2476,1,2476,2],[2476,3,2476,5],[2477,1,2477,2],[2477,3,2477,5],[2472,1,2472,2],[2472,3,2472,5],[2473,1,2473,2],[2473,3,2473,5],[2474,1,2474,2],[2474,3,2474,5],[2469,1,2469,2],[2469,3,2469,5],[2470,1,2470,2],[2470,3,2470,5],[2471,1,2471,2],[2471,3,2471,5],[2465,1,2465,6],[2466,1,2466,2],[2466,3,2466,5],[2467,1,2467,2],[2467,3,2467,5],[2468,1,2468,2],[2468,3,2468,5],[2458,1,2458,2],[2458,3,2458,5],[2460,1,2460,5],[2461,1,2461,6],[2462,1,2462,3],[2462,4,2462,6],[2455,1,2455,2],[2455,3,2455,5],[2456,1,2456,2],[2456,3,2456,5],[2457,1,2457,2],[2457,3,2457,5],[2451,1,2451,2],[2451,3,2451,5],[2452,1,2452,6],[2453,1,2453,2],[2453,3,2453,5],[2454,1,2454,2],[2454,3,2454,5],[2448,1,2448,2],[2448,3,2448,5],[2449,1,2449,2],[2449,3,2449,5],[2450,1,2450,2],[2450,3,2450,5],[2445,1,2445,2],[2445,3,2445,5],[2446,1,2446,2],[2446,3,2446,5],[2447,1,2447,2],[2447,3,2447,5],[2442,1,2442,2],[2442,3,2442,5],[2443,1,2443,2],[2443,3,2443,5],[2444,1,2444,2],[2444,3,2444,5],[2438,1,2438,6],[2439,1,2439,2],[2439,3,2439,5],[2440,1,2440,2],[2440,3,2440,5],[2441,1,2441,2],[2441,3,2441,5],[2431,1,2431,2],[2431,3,2431,5],[2433,1,2433,5],[2434,1,2434,6],[2435,1,2435,3],[2435,4,2435,6],[2428,1,2428,2],[2428,3,2428,5],[2429,1,2429,2],[2429,3,2429,5],[2430,1,2430,2],[2430,3,2430,5],[2424,1,2424,2],[2424,3,2424,5],[2425,1,2425,6],[2426,1,2426,2],[2426,3,2426,5],[2427,1,2427,2],[2427,3,2427,5],[2421,1,2421,2],[2421,3,2421,5],[2422,1,2422,2],[2422,3,2422,5],[2423,1,2423,2],[2423,3,2423,5],[2418,1,2418,2],[2418,3,2418,5],[2419,1,2419,2],[2419,3,2419,5],[2420,1,2420,2],[2420,3,2420,5],[2415,1,2415,2],[2415,3,2415,5],[2416,1,2416,2],[2416,3,2416,5],[2417,1,2417,2],[2417,3,2417,5],[2411,1,2411,6],[2412,1,2412,2],[2412,3,2412,5],[2413,1,2413,2],[2413,3,2413,5],[2414,1,2414,2],[2414,3,2414,5],[2404,1,2404,2],[2404,3,2404,5],[2406,1,2406,5],[2407,1,2407,6],[2408,1,2408,3],[2408,4,2408,6],[2401,1,2401,2],[2401,3,2401,5],[2402,1,2402,2],[2402,3,2402,5],[2403,1,2403,2],[2403,3,2403,5],[2397,1,2397,2],[2397,3,2397,5],[2398,1,2398,6],[2399,1,2399,2],[2399,3,2399,5],[2400,1,2400,2],[2400,3,2400,5],[2394,1,2394,2],[2394,3,2394,5],[2395,1,2395,2],[2395,3,2395,5],[2396,1,2396,2],[2396,3,2396,5],[2391,1,2391,2],[2391,3,2391,5],[2392,1,2392,2],[2392,3,2392,5],[2393,1,2393,2],[2393,3,2393,5],[2388,1,2388,2],[2388,3,2388,5],[2389,1,2389,2],[2389,3,2389,5],[2390,1,2390,2],[2390,3,2390,5],[2384,1,2384,6],[2385,1,2385,2],[2385,3,2385,5],[2386,1,2386,2],[2386,3,2386,5],[2387,1,2387,2],[2387,3,2387,5],[2377,1,2377,2],[2377,3,2377,5],[2379,1,2379,5],[2380,1,2380,6],[2381,1,2381,3],[2381,4,2381,6],[2374,1,2374,2],[2374,3,2374,5],[2375,1,2375,2],[2375,3,2375,5],[2376,1,2376,2],[2376,3,2376,5],[2370,1,2370,2],[2370,3,2370,5],[2371,1,2371,6],[2372,1,2372,2],[2372,3,2372,5],[2373,1,2373,2],[2373,3,2373,5],[2367,1,2367,2],[2367,3,2367,5],[2368,1,2368,2],[2368,3,2368,5],[2369,1,2369,2],[2369,3,2369,5],[2364,1,2364,2],[2364,3,2364,5],[2365,1,2365,2],[2365,3,2365,5],[2366,1,2366,2],[2366,3,2366,5],[2361,1,2361,2],[2361,3,2361,5],[2362,1,2362,2],[2362,3,2362,5],[2363,1,2363,2],[2363,3,2363,5],[2357,1,2357,6],[2358,1,2358,2],[2358,3,2358,5],[2359,1,2359,2],[2359,3,2359,5],[2360,1,2360,2],[2360,3,2360,5],[2350,1,2350,2],[2350,3,2350,5],[2352,1,2352,5],[2353,1,2353,6],[2354,1,2354,3],[2354,4,2354,6],[2347,1,2347,2],[2347,3,2347,5],[2348,1,2348,2],[2348,3,2348,5],[2349,1,2349,2],[2349,3,2349,5],[2343,1,2343,2],[2343,3,2343,5],[2344,1,2344,6],[2345,1,2345,2],[2345,3,2345,5],[2346,1,2346,2],[2346,3,2346,5],[2340,1,2340,2],[2340,3,2340,5],[2341,1,2341,2],[2341,3,2341,5],[2342,1,2342,2],[2342,3,2342,5],[2337,1,2337,2],[2337,3,2337,5],[2338,1,2338,2],[2338,3,2338,5],[2339,1,2339,2],[2339,3,2339,5],[2334,1,2334,2],[2334,3,2334,5],[2335,1,2335,2],[2335,3,2335,5],[2336,1,2336,2],[2336,3,2336,5],[2330,1,2330,6],[2331,1,2331,2],[2331,3,2331,5],[2332,1,2332,2],[2332,3,2332,5],[2333,1,2333,2],[2333,3,2333,5],[2323,1,2323,2],[2323,3,2323,5],[2325,1,2325,5],[2326,1,2326,6],[2327,1,2327,3],[2327,4,2327,6],[2320,1,2320,2],[2320,3,2320,5],[2321,1,2321,2],[2321,3,2321,5],[2322,1,2322,2],[2322,3,2322,5],[2316,1,2316,2],[2316,3,2316,5],[2317,1,2317,6],[2318,1,2318,2],[2318,3,2318,5],[2319,1,2319,2],[2319,3,2319,5],[2313,1,2313,2],[2313,3,2313,5],[2314,1,2314,2],[2314,3,2314,5],[2315,1,2315,2],[2315,3,2315,5],[2310,1,2310,2],[2310,3,2310,5],[2311,1,2311,2],[2311,3,2311,5],[2312,1,2312,2],[2312,3,2312,5],[2307,1,2307,2],[2307,3,2307,5],[2308,1,2308,2],[2308,3,2308,5],[2309,1,2309,2],[2309,3,2309,5],[2303,1,2303,6],[2304,1,2304,2],[2304,3,2304,5],[2305,1,2305,2],[2305,3,2305,5],[2306,1,2306,2],[2306,3,2306,5],[2296,1,2296,2],[2296,3,2296,5],[2298,1,2298,5],[2299,1,2299,6],[2300,1,2300,3],[2300,4,2300,6],[2293,1,2293,2],[2293,3,2293,5],[2294,1,2294,2],[2294,3,2294,5],[2295,1,2295,2],[2295,3,2295,5],[2289,1,2289,2],[2289,3,2289,5],[2290,1,2290,6],[2291,1,2291,2],[2291,3,2291,5],[2292,1,2292,2],[2292,3,2292,5],[2286,1,2286,2],[2286,3,2286,5],[2287,1,2287,2],[2287,3,2287,5],[2288,1,2288,2],[2288,3,2288,5],[2283,1,2283,2],[2283,3,2283,5],[2284,1,2284,2],[2284,3,2284,5],[2285,1,2285,2],[2285,3,2285,5],[2280,1,2280,2],[2280,3,2280,5],[2281,1,2281,2],[2281,3,2281,5],[2282,1,2282,2],[2282,3,2282,5],[2276,1,2276,6],[2277,1,2277,2],[2277,3,2277,5],[2278,1,2278,2],[2278,3,2278,5],[2279,1,2279,2],[2279,3,2279,5],[2269,1,2269,2],[2269,3,2269,5],[2271,1,2271,5],[2272,1,2272,6],[2273,1,2273,3],[2273,4,2273,6],[2266,1,2266,2],[2266,3,2266,5],[2267,1,2267,2],[2267,3,2267,5],[2268,1,2268,2],[2268,3,2268,5],[2262,1,2262,2],[2262,3,2262,5],[2263,1,2263,6],[2264,1,2264,2],[2264,3,2264,5],[2265,1,2265,2],[2265,3,2265,5],[2259,1,2259,2],[2259,3,2259,5],[2260,1,2260,2],[2260,3,2260,5],[2261,1,2261,2],[2261,3,2261,5],[2256,1,2256,2],[2256,3,2256,5],[2257,1,2257,2],[2257,3,2257,5],[2258,1,2258,2],[2258,3,2258,5],[2253,1,2253,2],[2253,3,2253,5],[2254,1,2254,2],[2254,3,2254,5],[2255,1,2255,2],[2255,3,2255,5],[2249,1,2249,6],[2250,1,2250,2],[2250,3,2250,5],[2251,1,2251,2],[2251,3,2251,5],[2252,1,2252,2],[2252,3,2252,5],[2242,1,2242,2],[2242,3,2242,5],[2244,1,2244,5],[2245,1,2245,6],[2246,1,2246,3],[2246,4,2246,6],[2239,1,2239,2],[2239,3,2239,5],[2240,1,2240,2],[2240,3,2240,5],[2241,1,2241,2],[2241,3,2241,5],[2235,1,2235,2],[2235,3,2235,5],[2236,1,2236,6],[2237,1,2237,2],[2237,3,2237,5],[2238,1,2238,2],[2238,3,2238,5],[2232,1,2232,2],[2232,3,2232,5],[2233,1,2233,2],[2233,3,2233,5],[2234,1,2234,2],[2234,3,2234,5],[2229,1,2229,2],[2229,3,2229,5],[2230,1,2230,2],[2230,3,2230,5],[2231,1,2231,2],[2231,3,2231,5],[2226,1,2226,2],[2226,3,2226,5],[2227,1,2227,2],[2227,3,2227,5],[2228,1,2228,2],[2228,3,2228,5],[2222,1,2222,6],[2223,1,2223,2],[2223,3,2223,5],[2224,1,2224,2],[2224,3,2224,5],[2225,1,2225,2],[2225,3,2225,5],[2215,1,2215,2],[2215,3,2215,5],[2217,1,2217,5],[2218,1,2218,6],[2219,1,2219,3],[2219,4,2219,6],[2212,1,2212,2],[2212,3,2212,5],[2213,1,2213,2],[2213,3,2213,5],[2214,1,2214,2],[2214,3,2214,5],[2208,1,2208,2],[2208,3,2208,5],[2209,1,2209,6],[2210,1,2210,2],[2210,3,2210,5],[2211,1,2211,2],[2211,3,2211,5],[2205,1,2205,2],[2205,3,2205,5],[2206,1,2206,2],[2206,3,2206,5],[2207,1,2207,2],[2207,3,2207,5],[2202,1,2202,2],[2202,3,2202,5],[2203,1,2203,2],[2203,3,2203,5],[2204,1,2204,2],[2204,3,2204,5],[2199,1,2199,2],[2199,3,2199,5],[2200,1,2200,2],[2200,3,2200,5],[2201,1,2201,2],[2201,3,2201,5],[2195,1,2195,6],[2196,1,2196,2],[2196,3,2196,5],[2197,1,2197,2],[2197,3,2197,5],[2198,1,2198,2],[2198,3,2198,5],[2188,1,2188,2],[2188,3,2188,5],[2190,1,2190,5],[2191,1,2191,6],[2192,1,2192,3],[2192,4,2192,6],[2185,1,2185,2],[2185,3,2185,5],[2186,1,2186,2],[2186,3,2186,5],[2187,1,2187,2],[2187,3,2187,5],[2181,1,2181,2],[2181,3,2181,5],[2182,1,2182,6],[2183,1,2183,2],[2183,3,2183,5],[2184,1,2184,2],[2184,3,2184,5],[2178,1,2178,2],[2178,3,2178,5],[2179,1,2179,2],[2179,3,2179,5],[2180,1,2180,2],[2180,3,2180,5],[2175,1,2175,2],[2175,3,2175,5],[2176,1,2176,2],[2176,3,2176,5],[2177,1,2177,2],[2177,3,2177,5],[2172,1,2172,2],[2172,3,2172,5],[2173,1,2173,2],[2173,3,2173,5],[2174,1,2174,2],[2174,3,2174,5],[2168,1,2168,6],[2169,1,2169,2],[2169,3,2169,5],[2170,1,2170,2],[2170,3,2170,5],[2171,1,2171,2],[2171,3,2171,5],[2161,1,2161,2],[2161,3,2161,5],[2163,1,2163,5],[2164,1,2164,6],[2165,1,2165,3],[2165,4,2165,6],[2158,1,2158,2],[2158,3,2158,5],[2159,1,2159,2],[2159,3,2159,5],[2160,1,2160,2],[2160,3,2160,5],[2154,1,2154,2],[2154,3,2154,5],[2155,1,2155,6],[2156,1,2156,2],[2156,3,2156,5],[2157,1,2157,2],[2157,3,2157,5],[2151,1,2151,2],[2151,3,2151,5],[2152,1,2152,2],[2152,3,2152,5],[2153,1,2153,2],[2153,3,2153,5],[2148,1,2148,2],[2148,3,2148,5],[2149,1,2149,2],[2149,3,2149,5],[2150,1,2150,2],[2150,3,2150,5],[2145,1,2145,2],[2145,3,2145,5],[2146,1,2146,2],[2146,3,2146,5],[2147,1,2147,2],[2147,3,2147,5],[2141,1,2141,6],[2142,1,2142,2],[2142,3,2142,5],[2143,1,2143,2],[2143,3,2143,5],[2144,1,2144,2],[2144,3,2144,5],[2134,1,2134,2],[2134,3,2134,5],[2136,1,2136,5],[2137,1,2137,6],[2138,1,2138,3],[2138,4,2138,6],[2131,1,2131,2],[2131,3,2131,5],[2132,1,2132,2],[2132,3,2132,5],[2133,1,2133,2],[2133,3,2133,5],[2127,1,2127,2],[2127,3,2127,5],[2128,1,2128,6],[2129,1,2129,2],[2129,3,2129,5],[2130,1,2130,2],[2130,3,2130,5],[2124,1,2124,2],[2124,3,2124,5],[2125,1,2125,2],[2125,3,2125,5],[2126,1,2126,2],[2126,3,2126,5],[2121,1,2121,2],[2121,3,2121,5],[2122,1,2122,2],[2122,3,2122,5],[2123,1,2123,2],[2123,3,2123,5],[2118,1,2118,2],[2118,3,2118,5],[2119,1,2119,2],[2119,3,2119,5],[2120,1,2120,2],[2120,3,2120,5],[2114,1,2114,6],[2115,1,2115,2],[2115,3,2115,5],[2116,1,2116,2],[2116,3,2116,5],[2117,1,2117,2],[2117,3,2117,5],[2107,1,2107,2],[2107,3,2107,5],[2109,1,2109,5],[2110,1,2110,6],[2111,1,2111,3],[2111,4,2111,6],[2104,1,2104,2],[2104,3,2104,5],[2105,1,2105,2],[2105,3,2105,5],[2106,1,2106,2],[2106,3,2106,5],[2100,1,2100,2],[2100,3,2100,5],[2101,1,2101,6],[2102,1,2102,2],[2102,3,2102,5],[2103,1,2103,2],[2103,3,2103,5],[2097,1,2097,2],[2097,3,2097,5],[2098,1,2098,2],[2098,3,2098,5],[2099,1,2099,2],[2099,3,2099,5],[2094,1,2094,2],[2094,3,2094,5],[2095,1,2095,2],[2095,3,2095,5],[2096,1,2096,2],[2096,3,2096,5],[2091,1,2091,2],[2091,3,2091,5],[2092,1,2092,2],[2092,3,2092,5],[2093,1,2093,2]],"merged_total":4401,"flags":["merged_cut"]}
[null,null,null,null,null,null,"Powrót",null,"poz","pust"]
[null,null,null,null,null,null,null,null,null,{"$f":"COUNTIFS(J4:J2702,\">0\")","v":0}]
[null,"Diagnoza siedliska – spisy gatunków wskaźnikowych\ni dominujących dla działki:",null,null,null,null,null,null,null,1,null,null,null,null,null,"lista rss","Nazwa arkusza"]
[null,"Spis gatunków numer:",null,null,null,null,1,null,null,{"$f":"J8","v":0},null,null,null,null,null,{"$f":"'S_Zestawienie dzialek'!W4+1","v":1},{"$f":"\"S_Spisy gat wskaznik \"&$G$3","v":"S_Spisy gat wskaznik "}]
[null,"Współrzędne geograficzne",null,null,null,null,null,null,null,{"$f":"J9","v":0}]
[null,"Długość geograficzna [E] ",null,null,"Szerokość geograficzna [N]",null,null,null,null,{"$f":"J9","v":0},null,null,null,null,null,{"$f":"'S_Zestawienie dzialek'!W7","v":0}]
[null,"stopnie","minuty","sekundy","stopnie","minuty","sekundy",null,null,{"$f":"J8","v":0},null,null,null,null,null,{"$f":"'S_Zestawienie dzialek'!W8","v":0}]
[null,null,null,null,null,null,null,null,null,{"$f":"J10+J24","v":0},null,null,null,null,null,{"$f":"'S_Zestawienie dzialek'!W9","v":0}]
[null,"Gatunki wskaźnikowe",null,null,null,null,null,null,null,{"$f":"J10","v":0},null,null,null,null,null,{"$f":"'S_Zestawienie dzialek'!W10","v":0}]
[null,"nazwa łacińska",null,"nazwa polska",null,null,"walor wskaźnikowy ",null,null,{"$f":"SUM(J11:J22)","v":0},null,null,null,null,null,{"$f":"'S_Zestawienie dzialek'!W11","v":0}]
[null,{"$f":"OFFSET(listy_slownikowe!$AG$2,I11,0)","v":" "},null,null,null,null,{"$f":"OFFSET(listy_slownikowe!$AI$2,I11,0)","v":" "},null,{"$f":"IFERROR(MATCH(D11,listy_slownikowe!$AH$3:$AH$326,0),0)","v":0},{"$f":"I11","v":0},null,null,null,null,null,{"$f":"'S_Zestawienie dzialek'!W12","v":0}]
[null,{"$f":"OFFSET(listy_slownikowe!$AG$2,I12,0)","v":" "},null,null,null,null,{"$f":"OFFSET(listy_slownikowe!$AI$2,I12,0)","v":" "},null,{"$f":"IFERROR(MATCH(D12,listy_slownikowe!$AH$3:$AH$326,0),0)","v":0},{"$f":"I12","v":0},null,null,null,null,null,{"$f":"'S_Zestawienie dzialek'!W13","v":0}]
[null,{"$f":"OFFSET(listy_slownikowe!$AG$2,I13,0)","v":" "},null,null,null,null,{"$f":"OFFSET(listy_slownikowe!$AI$2,I13,0)","v":" "},null,{"$f":"IFERROR(MATCH(D13,listy_slownikowe!$AH$3:$AH$326,0),0)","v":0},0,null,null,null,null,null,{"$f":"'S_Zestawienie dzialek'!W14","v":0}]
[null,{"$f":"OFFSET(listy_slownikowe!$AG$2,I14,0)","v":" "},null,null,null,null,{"$f":"OFFSET(listy_slownikowe!$AI$2,I14,0)","v":" "},null,{"$f":"IFERROR(MATCH(D14,listy_slownikowe!$AH$3:$AH$326,0),0)","v":0},0,null,null,null,null,null,{"$f":"'S_Zestawienie dzialek'!W15","v":0}]
[null,{"$f":"OFFSET(listy_slownikowe!$AG$2,I15,0)","v":" "},null,null,null,null,{"$f":"OFFSET(listy_slownikowe!$AI$2,I15,0)","v":" "},null,{"$f":"IFERROR(MATCH(D15,listy_slownikowe!$AH$3:$AH$326,0),0)","v":0},0,null,null,null,null,null,{"$f":"'S_Zestawienie dzialek'!W16","v":0}]
[null,{"$f":"OFFSET(listy_slownikowe!$AG$2,I16,0)","v":" "},null,null,null,null,{"$f":"OFFSET(listy_slownikowe!$AI$2,I16,0)","v":" "},null,{"$f":"IFERROR(MATCH(D16,listy_slownikowe!$AH$3:$AH$326,0),0)","v":0},0,null,null,null,null,null,{"$f":"'S_Zestawienie dzialek'!W17","v":0}]
[null,{"$f":"OFFSET(listy_slownikowe!$AG$2,I17,0)","v":" "},null,null,null,null,{"$f":"OFFSET(listy_slownikowe!$AI$2,I17,0)","v":" "},null,{"$f":"IFERROR(MATCH(D17,listy_slownikowe!$AH$3:$AH$326,0),0)","v":0},0,null,null,null,null,null,{"$f":"'S_Zestawienie dzialek'!W18","v":0}]
[null,{"$f":"OFFSET(listy_slownikowe!$AG$2,I18,0)","v":" "},null,null,null,null,{"$f":"OFFSET(listy_slownikowe!$AI$2,I18,0)","v":" "},null,{"$f":"IFERROR(MATCH(D18,listy_slownikowe!$AH$3:$AH$326,0),0)","v":0},0,null,null,null,null,null,{"$f":"'S_Zestawienie dzialek'!W19","v":0}]
[null,{"$f":"OFFSET(listy_slownikowe!$AG$2,I19,0)","v":" "},null,null,null,null,{"$f":"OFFSET(listy_slownikowe!$AI$2,I19,0)","v":" "},null,{"$f":"IFERROR(MATCH(D19,listy_slownikowe!$AH$3:$AH$326,0),0)","v":0},0,null,null,null,null,null,{"$f":"'S_Zestawienie dzialek'!W20","v":0}]
[null,{"$f":"OFFSET(listy_slownikowe!$AG$2,I20,0)","v":" "},null,null,null,null,{"$f":"OFFSET(listy_slownikowe!$AI$2,I20,0)","v":" "},null,{"$f":"IFERROR(MATCH(D20,listy_slownikowe!$AH$3:$AH$326,0),0)","v":0},0,null,null,null,null,null,{"$f":"'S_Zestawienie dzialek'!W21","v":0}]
[null,{"$f":"OFFSET(listy_slownikowe!$AG$2,I21,0)","v":" "},null,null,null,null,{"$f":"OFFSET(listy_slownikowe!$AI$2,I21,0)","v":" "},null,{"$f":"IFERROR(MATCH(D21,listy_slownikowe!$AH$3:$AH$326,0),0)","v":0},0,null,null,null,null,null,{"$f":"'S_Zestawienie dzialek'!W22","v":0}]
[null,{"$f":"OFFSET(listy_slownikowe!$AG$2,I22,0)","v":" "},null,null,null,null,{"$f":"OFFSET(listy_slownikowe!$AI$2,I22,0)","v":" "},null,{"$f":"IFERROR(MATCH(D22,listy_slownikowe!$AH$3:$AH$326,0),0)","v":0},0,null,null,null,null,null,{"$f":"'S_Zestawienie dzialek'!W23","v":0}]
[null,"Gatunki dominujące i subdominujące",null,null,null,null,null,null,null,{"$f":"J24","v":0},null,null,null,null,null,{"$f":"'S_Zestawienie dzialek'!W24","v":0}]
[null,"nazwa łacińska",null,"nazwa polska",null,null,"udział [%]",null,null,{"$f":"SUM(J25:J29)","v":0},null,null,null,null,null,{"$f":"'S_Zestawienie dzialek'!W25","v":0}]
[null,null,null,null,null,null,null,null,null,{"$f":"COUNTA(B25:G25)","v":0},null,null,null,null,null,{"$f":"'S_Zestawienie dzialek'!W26","v":0}]
[null,null,null,null,null,null,null,null,null,0,null,null,null,null,null,{"$f":"'S_Zestawienie dzialek'!W27","v":0}]
[null,null,null,null,null,null,null,null,null,0,null,null,null,null,null,{"$f":"'S_Zestawienie dzialek'!W28","v":0}]
[null,null,null,null,null,null,null,null,null,0,null,null,null,null,null,{"$f":"'S_Zestawienie dzialek'!W29","v":0}]
[null,null,null,null,null,null,null,null,null,0,null,null,null,null,null,{"$f":"'S_Zestawienie dzialek'!W30","v":0}]
[null,null,null,null,null,null,null,null,null,null,null,null,null,null,null,{"$f":"'S_Zestawienie dzialek'!W31","v":0}]
[null,"Spis gatunków numer:",null,null,null,null,{"$f":"G4+1","v":2},null,null,{"$f":"J35","v":0},null,null,null,null,null,{"$f":"'S_Zestawienie dzialek'!W32","v":0}]
[null,"Współrzędne geograficzne",null,null,null,null,null,null,null,{"$f":"J36","v":0},null,null,null,null,null,{"$f":"'S_Zestawienie dzialek'!W33","v":0}]
[null,"Długość geograficzna [E] ",null,null,"Szerokość geograficzna [N]",null,null,null,null,{"$f":"J36","v":0},null,null,null,null,null,{"$f":"'S_Zestawienie dzialek'!W34","v":0}]
[null,"stopnie","minuty","sekundy","stopnie","minuty","sekundy",null,null,{"$f":"J35","v":0},null,null,null,null,null,{"$f":"'S_Zestawienie dzialek'!W35","v":0}]
[null,null,null,null,null,null,null,null,null,{"$f":"J37+J51","v":0},null,null,null,null,null,{"$f":"'S_Zestawienie dzialek'!W36","v":0}]
[null,"Gatunki wskaźnikowe",null,null,null,null,null,null,null,{"$f":"J37","v":0},null,null,null,null,null,{"$f":"'S_Zestawienie dzialek'!W37","v":0}]
[null,"nazwa łacińska",null,"nazwa polska",null,null,"walor ",null,null,{"$f":"SUM(J38:J49)","v":0}]
[null,{"$f":"OFFSET(listy_slownikowe!$AG$2,I38,0)","v":" "},null,null,null,null,{"$f":"OFFSET(listy_slownikowe!$AI$2,I38,0)","v":" "},null,{"$f":"IFERROR(MATCH(D38,listy_slownikowe!$AH$3:$AH$326,0),0)","v":0},{"$f":"I38","v":0}]
[null,{"$f":"OFFSET(listy_slownikowe!$AG$2,I39,0)","v":" "},null,null,null,null,{"$f":"OFFSET(listy_slownikowe!$AI$2,I39,0)","v":" "},null,{"$f":"IFERROR(MATCH(D39,listy_slownikowe!$AH$3:$AH$326,0),0)","v":0},{"$f":"I39","v":0}]
[null,{"$f":"OFFSET(listy_slownikowe!$AG$2,I40,0)","v":" "},null,null,null,null,{"$f":"OFFSET(listy_slownikowe!$AI$2,I40,0)","v":" "},null,{"$f":"IFERROR(MATCH(D40,listy_slownikowe!$AH$3:$AH$326,0),0)","v":0},0]
[null,{"$f":"OFFSET(listy_slownikowe!$AG$2,I41,0)","v":" "},null,null,null,null,{"$f":"OFFSET(listy_slownikowe!$AI$2,I41,0)","v":" "},null,{"$f":"IFERROR(MATCH(D41,listy_slownikowe!$AH$3:$AH$326,0),0)","v":0},0]
[null,{"$f":"OFFSET(listy_slownikowe!$AG$2,I42,0)","v":" "},null,null,null,null,{"$f":"OFFSET(listy_slownikowe!$AI$2,I42,0)","v":" "},null,{"$f":"IFERROR(MATCH(D42,listy_slownikowe!$AH$3:$AH$326,0),0)","v":0},0]
[null,{"$f":"OFFSET(listy_slownikowe!$AG$2,I43,0)","v":" "},null,null,null,null,{"$f":"OFFSET(listy_slownikowe!$AI$2,I43,0)","v":" "},null,{"$f":"IFERROR(MATCH(D43,listy_slownikowe!$AH$3:$AH$326,0),0)","v":0},0]
[null,{"$f":"OFFSET(listy_slownikowe!$AG$2,I44,0)","v":" "},null,null,null,null,{"$f":"OFFSET(listy_slownikowe!$AI$2,I44,0)","v":" "},null,{"$f":"IFERROR(MATCH(D44,listy_slownikowe!$AH$3:$AH$326,0),0)","v":0},0]
[null,{"$f":"OFFSET(listy_slownikowe!$AG$2,I45,0)","v":" "},null,null,null,null,{"$f":"OFFSET(listy_slownikowe!$AI$2,I45,0)","v":" "},null,{"$f":"IFERROR(MATCH(D45,listy_slownikowe!$AH$3:$AH$326,0),0)","v":0},0]
[null,{"$f":"OFFSET(listy_slownikowe!$AG$2,I46,0)","v":" "},null,null,null,null,{"$f":"OFFSET(listy_slownikowe!$AI$2,I46,0)","v":" "},null,{"$f":"IFERROR(MATCH(D46,listy_slownikowe!$AH$3:$AH$326,0),0)","v":0},0]
[null,{"$f":"OFFSET(listy_slownikowe!$AG$2,I47,0)","v":" "},null,null,null,null,{"$f":"OFFSET(listy_slownikowe!$AI$2,I47,0)","v":" "},null,{"$f":"IFERROR(MATCH(D47,listy_slownikowe!$AH$3:$AH$326,0),0)","v":0},0]
[null,{"$f":"OFFSET(listy_slownikowe!$AG$2,I48,0)","v":" "},null,null,null,null,{"$f":"OFFSET(listy_slownikowe!$AI$2,I48,0)","v":" "},null,{"$f":"IFERROR(MATCH(D48,listy_slownikowe!$AH$3:$AH$326,0),0)","v":0},0]
[null,{"$f":"OFFSET(listy_slownikowe!$AG$2,I49,0)","v":" "},null,null,null,null,{"$f":"OFFSET(listy_slownikowe!$AI$2,I49,0)","v":" "},null,{"$f":"IFERROR(MATCH(D49,listy_slownikowe!$AH$3:$AH$326,0),0)","v":0},0]
[null,"Gatunki dominujące i subdominujące",null,null,null,null,null,null,null,{"$f":"J51","v":0}]
[null,"nazwa łacińska",null,"nazwa polska",null,null,"udział [%]",null,null,{"$f":"SUM(J52:J56)","v":0}]
[null,null,null,null,null,null,null,null,null,{"$f":"COUNTA(B52:G52)","v":0}]
[null,null,null,null,null,null,null,null,null,0]
[null,null,null,null,null,null,null,null,null,0]
[null,null,null,null,null,null,null,null,null,0]
[null,null,null,null,null,null,null,null,null,0]
[]
[null,"Spis gatunków numer:",null,null,null,null,{"$f":"G31+1","v":3},null,null,{"$f":"J62","v":0}]
[null,"Współrzędne geograficzne",null,null,null,null,null,null,null,{"$f":"J63","v":0}]
[null,"Długość geograficzna [E] ",null,null,"Szerokość geograficzna [N]",null,null,null,null,{"$f":"J63","v":0}]
[null,"stopnie","minuty","sekundy","stopnie","minuty","sekundy",null,null,{"$f":"J62","v":0}]
[null,null,null,null,null,null,null,null,null,{"$f":"J64+J78","v":0}]
[null,"Gatunki wskaźnikowe",null,null,null,null,null,null,null,{"$f":"J64","v":0}]
[null,"nazwa łacińska",null,"nazwa polska",null,null,"walor ",null,null,{"$f":"SUM(J65:J76)","v":0}]
[null,{"$f":"OFFSET(listy_slownikowe!$AG$2,I65,0)","v":" "},null,null,null,null,{"$f":"OFFSET(listy_slownikowe!$AI$2,I65,0)","v":" "},null,{"$f":"IFERROR(MATCH(D65,listy_slownikowe!$AH$3:$AH$326,0),0)","v":0},{"$f":"I65","v":0}]
[null,{"$f":"OFFSET(listy_slownikowe!$AG$2,I66,0)","v":" "},null,null,null,null,{"$f":"OFFSET(listy_slownikowe!$AI$2,I66,0)","v":" "},null,{"$f":"IFERROR(MATCH(D66,listy_slownikowe!$AH$3:$AH$326,0),0)","v":0},{"$f":"I66","v":0}]
[null,{"$f":"OFFSET(listy_slownikowe!$AG$2,I67,0)","v":" "},null,null,null,null,{"$f":"OFFSET(listy_slownikowe!$AI$2,I67,0)","v":" "},null,{"$f":"IFERROR(MATCH(D67,listy_slownikowe!$AH$3:$AH$326,0),0)","v":0},0]
[null,{"$f":"OFFSET(listy_slownikowe!$AG$2,I68,0)","v":" "},null,null,null,null,{"$f":"OFFSET(listy_slownikowe!$AI$2,I68,0)","v":" "},null,{"$f":"IFERROR(MATCH(D68,listy_slownikowe!$AH$3:$AH$326,0),0)","v":0},0]
[null,{"$f":"OFFSET(listy_slownikowe!$AG$2,I69,0)","v":" "},null,null,null,null,{"$f":"OFFSET(listy_slownikowe!$AI$2,I69,0)","v":" "},null,{"$f":"IFERROR(MATCH(D69,listy_slownikowe!$AH$3:$AH$326,0),0)","v":0},0]
[null,{"$f":"OFFSET(listy_slownikowe!$AG$2,I70,0)","v":" "},null,null,null,null,{"$f":"OFFSET(listy_slownikowe!$AI$2,I70,0)","v":" "},null,{"$f":"IFERROR(MATCH(D70,listy_slownikowe!$AH$3:$AH$326,0),0)","v":0},0]
[null,{"$f":"OFFSET(listy_slownikowe!$AG$2,I71,0)","v":" "},null,null,null,null,{"$f":"OFFSET(listy_slownikowe!$AI$2,I71,0)","v":" "},null,{"$f":"IFERROR(MATCH(D71,listy_slownikowe!$AH$3:$AH$326,0),0)","v":0},0]
[null,{"$f":"OFFSET(listy_slownikowe!$AG$2,I72,0)","v":" "},null,null,null,null,{"$f":"OFFSET(listy_slownikowe!$AI$2,I72,0)","v":" "},null,{"$f":"IFERROR(MATCH(D72,listy_slownikowe!$AH$3:$AH$326,0),0)","v":0},0]
[null,{"$f":"OFFSET(listy_slownikowe!$AG$2,I73,0)","v":" "},null,null,null,null,{"$f":"OFFSET(listy_slownikowe!$AI$2,I73,0)","v":" "},null,{"$f":"IFERROR(MATCH(D73,listy_slownikowe!$AH$3:$AH$326,0),0)","v":0},0]
[null,{"$f":"OFFSET(listy_slownikowe!$AG$2,I74,0)","v":" "},null,null,null,null,{"$f":"OFFSET(listy_slownikowe!$AI$2,I74,0)","v":" "},null,{"$f":"IFERROR(MATCH(D74,listy_slownikowe!$AH$3:$AH$326,0),0)","v":0},0]
[null,{"$f":"OFFSET(listy_slownikowe!$AG$2,I75,0)","v":" "},null,"",null,null,{"$f":"OFFSET(listy_slownikowe!$AI$2,I75,0)","v":" "},null,{"$f":"IFERROR(MATCH(D75,listy_slownikowe!$AH$3:$AH$326,0),0)","v":0},0]
[null,{"$f":"OFFSET(listy_slownikowe!$AG$2,I76,0)","v":" "},null,null,null,null,{"$f":"OFFSET(listy_slownikowe!$AI$2,I76,0)","v":" "},null,{"$f":"IFERROR(MATCH(D76,listy_slownikowe!$AH$3:$AH$326,0),0)","v":0},0]
[null,"Gatunki dominujące i subdominujące",null,null,null,null,null,null,null,{"$f":"J78","v":0}]
[null,"nazwa łacińska",null,"nazwa polska",null,null,"udział [%]",null,null,{"$f":"SUM(J79:J83)","v":0}]
[null,null,null,null,null,null,null,null,null,{"$f":"COUNTA(B79:G79)","v":0}]
[null,null,null,null,null,null,null,null,null,0]
[null,null,null,null,null,null,null,null,null,0]
[null,null,null,null,null,null,null,null,null,0]
[null,null,null,null,null,null,null,null,null,0]
[]
[null,"Spis gatunków numer:",null,null,null,null,{"$f":"G58+1","v":4},null,null,{"$f":"J89","v":0}]
[null,"Współrzędne geograficzne",null,null,null,null,null,null,null,{"$f":"J90","v":0}]
[null,"Długość geograficzna [E] ",null,null,"Szerokość geograficzna [N]",null,null,null,null,{"$f":"J90","v":0}]
[null,"stopnie","minuty","sekundy","stopnie","minuty","sekundy",null,null,{"$f":"J89","v":0}]
[null,null,null,null,null,null,null,null,null,{"$f":"J91+J105","v":0}]
[null,"Gatunki wskaźnikowe",null,null,null,null,null,null,null,{"$f":"J91","v":0}]
[null,"nazwa łacińska",null,"nazwa polska",null,null,"walor ",null,null,{"$f":"SUM(J92:J103)","v":0}]
[null,{"$f":"OFFSET(listy_slownikowe!$AG$2,I92,0)","v":" "},null,null,null,null,{"$f":"OFFSET(listy_slownikowe!$AI$2,I92,0)","v":" "},null,{"$f":"IFERROR(MATCH(D92,listy_slownikowe!$AH$3:$AH$326,0),0)","v":0},{"$f":"I92","v":0}]
[null,{"$f":"OFFSET(listy_slownikowe!$AG$2,I93,0)","v":" "},null,null,null,null,{"$f":"OFFSET(listy_slownikowe!$AI$2,I93,0)","v":" "},null,{"$f":"IFERROR(MATCH(D93,listy_slownikowe!$AH$3:$AH$326,0),0)","v":0},{"$f":"I93","v":0}]
[null,{"$f":"OFFSET(listy_slownikowe!$AG$2,I94,0)","v":" "},null,null,null,null,{"$f":"OFFSET(listy_slownikowe!$AI$2,I94,0)","v":" "},null,{"$f":"IFERROR(MATCH(D94,listy_slownikowe!$AH$3:$AH$326,0),0)","v":0},0]
[null,{"$f":"OFFSET(listy_slownikowe!$AG$2,I95,0)","v":" "},null,null,null,null,{"$f":"OFFSET(listy_slownikowe!$AI$2,I95,0)","v":" "},null,{"$f":"IFERROR(MATCH(D95,listy_slownikowe!$AH$3:$AH$326,0),0)","v":0},0]
[null,{"$f":"OFFSET(listy_slownikowe!$AG$2,I96,0)","v":" "},null,null,null,null,{"$f":"OFFSET(listy_slownikowe!$AI$2,I96,0)","v":" "},null,{"$f":"IFERROR(MATCH(D96,listy_slownikowe!$AH$3:$AH$326,0),0)","v":0},0]
[null,{"$f":"OFFSET(listy_slownikowe!$AG$2,I97,0)","v":" "},null,null,null,null,{"$f":"OFFSET(listy_slownikowe!$AI$2,I97,0)","v":" "},null,{"$f":"IFERROR(MATCH(D97,listy_slownikowe!$AH$3:$AH$326,0),0)","v":0},0]
[null,{"$f":"OFFSET(listy_slownikowe!$AG$2,I98,0)","v":" "},null,null,null,null,{"$f":"OFFSET(listy_slownikowe!$AI$2,I98,0)","v":" "},null,{"$f":"IFERROR(MATCH(D98,listy_slownikowe!$AH$3:$AH$326,0),0)","v":0},0]
[null,{"$f":"OFFSET(listy_slownikowe!$AG$2,I99,0)","v":" "},null,null,null,null,{"$f":"OFFSET(listy_slownikowe!$AI$2,I99,0)","v":" "},null,{"$f":"IFERROR(MATCH(D99,listy_slownikowe!$AH$3:$AH$326,0),0)","v":0},0]
[null,{"$f":"OFFSET(listy_slownikowe!$AG$2,I100,0)","v":" "},null,null,null,null,{"$f":"OFFSET(listy_slownikowe!$AI$2,I100,0)","v":" "},null,{"$f":"IFERROR(MATCH(D100,listy_slownikowe!$AH$3:$AH$326,0),0)","v":0},0]
[null,{"$f":"OFFSET(listy_slownikowe!$AG$2,I101,0)","v":" "},null,null,null,null,{"$f":"OFFSET(listy_slownikowe!$AI$2,I101,0)","v":" "},null,{"$f":"IFERROR(MATCH(D101,listy_slownikowe!$AH$3:$AH$326,0),0)","v":0},0]
[null,{"$f":"OFFSET(listy_slownikowe!$AG$2,I102,0)","v":" "},null,"",null,null,{"$f":"OFFSET(listy_slownikowe!$AI$2,I102,0)","v":" "},null,{"$f":"IFERROR(MATCH(D102,listy_slownikowe!$AH$3:$AH$326,0),0)","v":0},0]
[null,{"$f":"OFFSET(listy_slownikowe!$AG$2,I103,0)","v":" "},null,null,null,null,{"$f":"OFFSET(listy_slownikowe!$AI$2,I103,0)","v":" "},null,{"$f":"IFERROR(MATCH(D103,listy_slownikowe!$AH$3:$AH$326,0),0)","v":0},0]
[null,"Gatunki dominujące i subdominujące",null,null,null,null,null,null,null,{"$f":"J105","v":0}]
[null,"nazwa łacińska",null,"nazwa polska",null,null,"udział [%]",null,null,{"$f":"SUM(J106:J110)","v":0}]
[null,null,null,null,null,null,null,null,null,{"$f":"COUNTA(B106:G106)","v":0}]
[null,null,null,null,null,null,null,null,null,0]
[null,null,null,null,null,null,null,null,null,0]
[null,null,null,null,null,null,null,null,null,0]
[null,null,null,null,null,null,null,null,null,0]
[]
[null,"Spis gatunków numer:",null,null,null,null,{"$f":"G85+1","v":5},null,null,{"$f":"J116","v":0}]
[null,"Współrzędne geograficzne",null,null,null,null,null,null,null,{"$f":"J117","v":0}]
[null,"Długość geograficzna [E] ",null,null,"Szerokość geograficzna [N]",null,null,null,null,{"$f":"J117","v":0}]
[null,"stopnie","minuty","sekundy","stopnie","minuty","sekundy",null,null,{"$f":"J116","v":0}]
[null,null,null,null,null,null,null,null,null,{"$f":"J118+J132","v":0}]
[null,"Gatunki wskaźnikowe",null,null,null,null,null,null,null,{"$f":"J118","v":0}]
[null,"nazwa łacińska",null,"nazwa polska",null,null,"walor ",null,null,{"$f":"SUM(J119:J130)","v":0}]
[null,{"$f":"OFFSET(listy_slownikowe!$AG$2,I119,0)","v":" "},null,null,null,null,{"$f":"OFFSET(listy_slownikowe!$AI$2,I119,0)","v":" "},null,{"$f":"IFERROR(MATCH(D119,listy_slownikowe!$AH$3:$AH$326,0),0)","v":0},{"$f":"I119","v":0}]
[null,{"$f":"OFFSET(listy_slownikowe!$AG$2,I120,0)","v":" "},null,null,null,null,{"$f":"OFFSET(listy_slownikowe!$AI$2,I120,0)","v":" "},null,{"$f":"IFERROR(MATCH(D120,listy_slownikowe!$AH$3:$AH$326,0),0)","v":0},{"$f":"I120","v":0}]
[null,{"$f":"OFFSET(listy_slownikowe!$AG$2,I121,0)","v":" "},null,null,null,null,{"$f":"OFFSET(listy_slownikowe!$AI$2,I121,0)","v":" "},null,{"$f":"IFERROR(MATCH(D121,listy_slownikowe!$AH$3:$AH$326,0),0)","v":0},0]
[null,{"$f":"OFFSET(listy_slownikowe!$AG$2,I122,0)","v":" "},null,null,null,null,{"$f":"OFFSET(listy_slownikowe!$AI$2,I122,0)","v":" "},null,{"$f":"IFERROR(MATCH(D122,listy_slownikowe!$AH$3:$AH$326,0),0)","v":0},0]
[null,{"$f":"OFFSET(listy_slownikowe!$AG$2,I123,0)","v":" "},null,null,null,null,{"$f":"OFFSET(listy_slownikowe!$AI$2,I123,0)","v":" "},null,{"$f":"IFERROR(MATCH(D123,listy_slownikowe!$AH$3:$AH$326,0),0)","v":0},0]
[null,{"$f":"OFFSET(listy_slownikowe!$AG$2,I124,0)","v":" "},null,null,null,null,{"$f":"OFFSET(listy_slownikowe!$AI$2,I124,0)","v":" "},null,{"$f":"IFERROR(MATCH(D124,listy_slownikowe!$AH$3:$AH$326,0),0)","v":0},0]
[null,{"$f":"OFFSET(listy_slownikowe!$AG$2,I125,0)","v":" "},null,null,null,null,{"$f":"OFFSET(listy_slownikowe!$AI$2,I125,0)","v":" "},null,{"$f":"IFERROR(MATCH(D125,listy_slownikowe!$AH$3:$AH$326,0),0)","v":0},0]
[null,{"$f":"OFFSET(listy_slownikowe!$AG$2,I126,0)","v":" "},null,null,null,null,{"$f":"OFFSET(listy_slownikowe!$AI$2,I126,0)","v":" "},null,{"$f":"IFERROR(MATCH(D126,listy_slownikowe!$AH$3:$AH$326,0),0)","v":0},0]
[null,{"$f":"OFFSET(listy_slownikowe!$AG$2,I127,0)","v":" "},null,null,null,null,{"$f":"OFFSET(listy_slownikowe!$AI$2,I127,0)","v":" "},null,{"$f":"IFERROR(MATCH(D127,listy_slownikowe!$AH$3:$AH$326,0),0)","v":0},0]
[null,{"$f":"OFFSET(listy_slownikowe!$AG$2,I128,0)","v":" "},null,null,null,null,{"$f":"OFFSET(listy_slownikowe!$AI$2,I128,0)","v":" "},null,{"$f":"IFERROR(MATCH(D128,listy_slownikowe!$AH$3:$AH$326,0),0)","v":0},0]
[null,{"$f":"OFFSET(listy_slownikowe!$AG$2,I129,0)","v":" "},null,"",null,null,{"$f":"OFFSET(listy_slownikowe!$AI$2,I129,0)","v":" "},null,{"$f":"IFERROR(MATCH(D129,listy_slownikowe!$AH$3:$AH$326,0),0)","v":0},0]
[null,{"$f":"OFFSET(listy_slownikowe!$AG$2,I130,0)","v":" "},null,null,null,null,{"$f":"OFFSET(listy_slownikowe!$AI$2,I130,0)","v":" "},null,{"$f":"IFERROR(MATCH(D130,listy_slownikowe!$AH$3:$AH$326,0),0)","v":0},0]
[null,"Gatunki dominujące i subdominujące",null,null,null,null,null,null,null,{"$f":"J132","v":0}]
[null,"nazwa łacińska",null,"nazwa polska",null,null,"udział [%]",null,null,{"$f":"SUM(J133:J137)","v":0}]
[null,null,null,null,null,null,null,null,null,{"$f":"COUNTA(B133:G133)","v":0}]
[null,null,null,null,null,null,null,null,null,0]
[null,null,null,null,null,null,null,null,null,0]
[null,null,null,null,null,null,null,null,null,0]
[null,null,null,null,null,null,null,null,null,0]
[]
[null,"Spis gatunków numer:",null,null,null,null,{"$f":"G112+1","v":6},null,null,{"$f":"J143","v":0}]
[null,"Współrzędne geograficzne",null,null,null,null,null,null,null,{"$f":"J144","v":0}]
[null,"Długość geograficzna [E] ",null,null,"Szerokość geograficzna [N]",null,null,null,null,{"$f":"J144","v":0}]
[null,"stopnie","minuty","sekundy","stopnie","minuty","sekundy",null,null,{"$f":"J143","v":0}]
[null,null,null,null,null,null,null,null,null,{"$f":"J145+J159","v":0}]
[null,"Gatunki wskaźnikowe",null,null,null,null,null,null,null,{"$f":"J145","v":0}]
[null,"nazwa łacińska",null,"nazwa polska",null,null,"walor ",null,null,{"$f":"SUM(J146:J157)","v":0}]
[null,{"$f":"OFFSET(listy_slownikowe!$AG$2,I146,0)","v":" "},null,null,null,null,{"$f":"OFFSET(listy_slownikowe!$AI$2,I146,0)","v":" "},null,{"$f":"IFERROR(MATCH(D146,listy_slownikowe!$AH$3:$AH$326,0),0)","v":0},{"$f":"I146","v":0}]
[null,{"$f":"OFFSET(listy_slownikowe!$AG$2,I147,0)","v":" "},null,null,null,null,{"$f":"OFFSET(listy_slownikowe!$AI$2,I147,0)","v":" "},null,{"$f":"IFERROR(MATCH(D147,listy_slownikowe!$AH$3:$AH$326,0),0)","v":0},{"$f":"I147","v":0}]
[null,{"$f":"OFFSET(listy_slownikowe!$AG$2,I148,0)","v":" "},null,null,null,null,{"$f":"OFFSET(listy_slownikowe!$AI$2,I148,0)","v":" "},null,{"$f":"IFERROR(MATCH(D148,listy_slownikowe!$AH$3:$AH$326,0),0)","v":0},0]
[null,{"$f":"OFFSET(listy_slownikowe!$AG$2,I149,0)","v":" "},null,null,null,null,{"$f":"OFFSET(listy_slownikowe!$AI$2,I149,0)","v":" "},null,{"$f":"IFERROR(MATCH(D149,listy_slownikowe!$AH$3:$AH$326,0),0)","v":0},0]
[null,{"$f":"OFFSET(listy_slownikowe!$AG$2,I150,0)","v":" "},null,null,null,null,{"$f":"OFFSET(listy_slownikowe!$AI$2,I150,0)","v":" "},null,{"$f":"IFERROR(MATCH(D150,listy_slownikowe!$AH$3:$AH$326,0),0)","v":0},0]
[null,{"$f":"OFFSET(listy_slownikowe!$AG$2,I151,0)","v":" "},null,null,null,null,{"$f":"OFFSET(listy_slownikowe!$AI$2,I151,0)","v":" "},null,{"$f":"IFERROR(MATCH(D151,listy_slownikowe!$AH$3:$AH$326,0),0)","v":0},0]
[null,{"$f":"OFFSET(listy_slownikowe!$AG$2,I152,0)","v":" "},null,null,null,null,{"$f":"OFFSET(listy_slownikowe!$AI$2,I152,0)","v":" "},null,{"$f":"IFERROR(MATCH(D152,listy_slownikowe!$AH$3:$AH$326,0),0)","v":0},0]
[null,{"$f":"OFFSET(listy_slownikowe!$AG$2,I153,0)","v":" "},null,null,null,null,{"$f":"OFFSET(listy_slownikowe!$AI$2,I153,0)","v":" "},null,{"$f":"IFERROR(MATCH(D153,listy_slownikowe!$AH$3:$AH$326,0),0)","v":0},0]
[null,{"$f":"OFFSET(listy_slownikowe!$AG$2,I154,0)","v":" "},null,null,null,null,{"$f":"OFFSET(listy_slownikowe!$AI$2,I154,0)","v":" "},null,{"$f":"IFERROR(MATCH(D154,listy_slownikowe!$AH$3:$AH$326,0),0)","v":0},0]
[null,{"$f":"OFFSET(listy_slownikowe!$AG$2,I155,0)","v":" "},null,null,null,null,{"$f":"OFFSET(listy_slownikowe!$AI$2,I155,0)","v":" "},null,{"$f":"IFERROR(MATCH(D155,listy_slownikowe!$AH$3:$AH$326,0),0)","v":0},0]
[null,{"$f":"OFFSET(listy_slownikowe!$AG$2,I156,0)","v":" "},null,"",null,null,{"$f":"OFFSET(listy_slownikowe!$AI$2,I156,0)","v":" "},null,{"$f":"IFERROR(MATCH(D156,listy_slownikowe!$AH$3:$AH$326,0),0)","v":0},0]
[null,{"$f":"OFFSET(listy_slownikowe!$AG$2,I157,0)","v":" "},null,null,null,null,{"$f":"OFFSET(listy_slownikowe!$AI$2,I157,0)","v":" "},null,{"$f":"IFERROR(MATCH(D157,listy_slownikowe!$AH$3:$AH$326,0),0)","v":0},0]
[null,"Gatunki dominujące i subdominujące",null,null,null,null,null,null,null,{"$f":"J159","v":0}]
[null,"nazwa łacińska",null,"nazwa polska",null,null,"udział [%]",null,null,{"$f":"SUM(J160:J164)","v":0}]
[null,null,null,null,null,null,null,null,null,{"$f":"COUNTA(B160:G160)","v":0}]
[null,null,null,null,null,null,null,null,null,0]
[null,null,null,null,null,null,null,null,null,0]
[null,null,null,null,null,null,null,null,null,0]
[null,null,null,null,null,null,null,null,null,0]
[]
[null,"Spis gatunków numer:",null,null,null,null,{"$f":"G139+1","v":7},null,null,{"$f":"J170","v":0}]
[null,"Współrzędne geograficzne",null,null,null,null,null,null,null,{"$f":"J171","v":0}]
[null,"Długość geograficzna [E] ",null,null,"Szerokość geograficzna [N]",null,null,null,null,{"$f":"J171","v":0}]
[null,"stopnie","minuty","sekundy","stopnie","minuty","sekundy",null,null,{"$f":"J170","v":0}]
[null,null,null,null,null,null,null,null,null,{"$f":"J172+J186","v":0}]
[null,"Gatunki wskaźnikowe",null,null,null,null,null,null,null,{"$f":"J172","v":0}]
[null,"nazwa łacińska",null,"nazwa polska",null,null,"walor ",null,null,{"$f":"SUM(J173:J184)","v":0}]
[null,{"$f":"OFFSET(listy_slownikowe!$AG$2,I173,0)","v":" "},null,null,null,null,{"$f":"OFFSET(listy_slownikowe!$AI$2,I173,0)","v":" "},null,{"$f":"IFERROR(MATCH(D173,listy_slownikowe!$AH$3:$AH$326,0),0)","v":0},{"$f":"I173","v":0}]
[null,{"$f":"OFFSET(listy_slownikowe!$AG$2,I174,0)","v":" "},null,null,null,null,{"$f":"OFFSET(listy_slownikowe!$AI$2,I174,0)","v":" "},null,{"$f":"IFERROR(MATCH(D174,listy_slownikowe!$AH$3:$AH$326,0),0)","v":0},{"$f":"I174","v":0}]
[null,{"$f":"OFFSET(listy_slownikowe!$AG$2,I175,0)","v":" "},null,null,null,null,{"$f":"OFFSET(listy_slownikowe!$AI$2,I175,0)","v":" "},null,{"$f":"IFERROR(MATCH(D175,listy_slownikowe!$AH$3:$AH$326,0),0)","v":0},0]
[null,{"$f":"OFFSET(listy_slownikowe!$AG$2,I176,0)","v":" "},null,null,null,null,{"$f":"OFFSET(listy_slownikowe!$AI$2,I176,0)","v":" "},null,{"$f":"IFERROR(MATCH(D176,listy_slownikowe!$AH$3:$AH$326,0),0)","v":0},0]
[null,{"$f":"OFFSET(listy_slownikowe!$AG$2,I177,0)","v":" "},null,null,null,null,{"$f":"OFFSET(listy_slownikowe!$AI$2,I177,0)","v":" "},null,{"$f":"IFERROR(MATCH(D177,listy_slownikowe!$AH$3:$AH$326,0),0)","v":0},0]
[null,{"$f":"OFFSET(listy_slownikowe!$AG$2,I178,0)","v":" "},null,null,null,null,{"$f":"OFFSET(listy_slownikowe!$AI$2,I178,0)","v":" "},null,{"$f":"IFERROR(MATCH(D178,listy_slownikowe!$AH$3:$AH$326,0),0)","v":0},0]
[null,{"$f":"OFFSET(listy_slownikowe!$AG$2,I179,0)","v":" "},null,null,null,null,{"$f":"OFFSET(listy_slownikowe!$AI$2,I179,0)","v":" "},null,{"$f":"IFERROR(MATCH(D179,listy_slownikowe!$AH$3:$AH$326,0),0)","v":0},0]
[null,{"$f":"OFFSET(listy_slownikowe!$AG$2,I180,0)","v":" "},null,null,null,null,{"$f":"OFFSET(listy_slownikowe!$AI$2,I180,0)","v":" "},null,{"$f":"IFERROR(MATCH(D180,listy_slownikowe!$AH$3:$AH$326,0),0)","v":0},0]
[null,{"$f":"OFFSET(listy_slownikowe!$AG$2,I181,0)","v":" "},null,null,null,null,{"$f":"OFFSET(listy_slownikowe!$AI$2,I181,0)","v":" "},null,{"$f":"IFERROR(MATCH(D181,listy_slownikowe!$AH$3:$AH$326,0),0)","v":0},0]
[null,{"$f":"OFFSET(listy_slownikowe!$AG$2,I182,0)","v":" "},null,null,null,null,{"$f":"OFFSET(listy_slownikowe!$AI$2,I182,0)","v":" "},null,{"$f":"IFERROR(MATCH(D182,listy_slownikowe!$AH$3:$AH$326,0),0)","v":0},0]
[null,{"$f":"OFFSET(listy_slownikowe!$AG$2,I183,0)","v":" "},null,"",null,null,{"$f":"OFFSET(listy_slownikowe!$AI$2,I183,0)","v":" "},null,{"$f":"IFERROR(MATCH(D183,listy_slownikowe!$AH$3:$AH$326,0),0)","v":0},0]
[null,{"$f":"OFFSET(listy_slownikowe!$AG$2,I184,0)","v":" "},null,null,null,null,{"$f":"OFFSET(listy_slownikowe!$AI$2,I184,0)","v":" "},null,{"$f":"IFERROR(MATCH(D184,listy_slownikowe!$AH$3:$AH$326,0),0)","v":0},0]
[null,"Gatunki dominujące i subdominujące",null,null,null,null,null,null,null,{"$f":"J186","v":0}]
[null,"nazwa łacińska",null,"nazwa polska",null,null,"udział [%]",null,null,{"$f":"SUM(J187:J191)","v":0}]
[null,null,null,null,null,null,null,null,null,{"$f":"COUNTA(B187:G187)","v":0}]
[null,null,null,null,null,null,null,null,null,0]
[null,null,null,null,null,null,null,null,null,0]
[null,null,null,null,null,null,null,null,null,0]
[null,null,null,null,null,null,null,null,null,0]
[]
[null,"Spis gatunków numer:",null,null,null,null,{"$f":"G166+1","v":8},null,null,{"$f":"J197","v":0}]
[null,"Współrzędne geograficzne",null,null,null,null,null,null,null,{"$f":"J198","v":0}]
[null,"Długość geograficzna [E] ",null,null,"Szerokość geograficzna [N]",null,null,null,null,{"$f":"J198","v":0}]
[null,"stopnie","minuty","sekundy","stopnie","minuty","sekundy",null,null,{"$f":"J197","v":0}]
[null,null,null,null,null,null,null,null,null,{"$f":"J199+J213","v":0}]
[null,"Gatunki wskaźnikowe",null,null,null,null,null,null,null,{"$f":"J199","v":0}]
[null,"nazwa łacińska",null,"nazwa polska",null,null,"walor ",null,null,{"$f":"SUM(J200:J211)","v":0}]
[null,{"$f":"OFFSET(listy_slownikowe!$AG$2,I200,0)","v":" "},null,null,null,null,{"$f":"OFFSET(listy_slownikowe!$AI$2,I200,0)","v":" "},null,{"$f":"IFERROR(MATCH(D200,listy_slownikowe!$AH$3:$AH$326,0),0)","v":0},{"$f":"I200","v":0}]
[null,{"$f":"OFFSET(listy_slownikowe!$AG$2,I201,0)","v":" "},null,null,null,null,{"$f":"OFFSET(listy_slownikowe!$AI$2,I201,0)","v":" "},null,{"$f":"IFERROR(MATCH(D201,listy_slownikowe!$AH$3:$AH$326,0),0)","v":0},{"$f":"I201","v":0}]
[null,{"$f":"OFFSET(listy_slownikowe!$AG$2,I202,0)","v":" "},null,null,null,null,{"$f":"OFFSET(listy_slownikowe!$AI$2,I202,0)","v":" "},null,{"$f":"IFERROR(MATCH(D202,listy_slownikowe!$AH$3:$AH$326,0),0)","v":0},0]
[null,{"$f":"OFFSET(listy_slownikowe!$AG$2,I203,0)","v":" "},null,null,null,null,{"$f":"OFFSET(listy_slownikowe!$AI$2,I203,0)","v":" "},null,{"$f":"IFERROR(MATCH(D203,listy_slownikowe!$AH$3:$AH$326,0),0)","v":0},0]
[null,{"$f":"OFFSET(listy_slownikowe!$AG$2,I204,0)","v":" "},null,null,null,null,{"$f":"OFFSET(listy_slownikowe!$AI$2,I204,0)","v":" "},null,{"$f":"IFERROR(MATCH(D204,listy_slownikowe!$AH$3:$AH$326,0),0)","v":0},0]
[null,{"$f":"OFFSET(listy_slownikowe!$AG$2,I205,0)","v":" "},null,null,null,null,{"$f":"OFFSET(listy_slownikowe!$AI$2,I205,0)","v":" "},null,{"$f":"IFERROR(MATCH(D205,listy_slownikowe!$AH$3:$AH$326,0),0)","v":0},0]
[null,{"$f":"OFFSET(listy_slownikowe!$AG$2,I206,0)","v":" "},null,null,null,null,{"$f":"OFFSET(listy_slownikowe!$AI$2,I206,0)","v":" "},null,{"$f":"IFERROR(MATCH(D206,listy_slownikowe!$AH$3:$AH$326,0),0)","v":0},0]
[null,{"$f":"OFFSET(listy_slownikowe!$AG$2,I207,0)","v":" "},null,null,null,null,{"$f":"OFFSET(listy_slownikowe!$AI$2,I207,0)","v":" "},null,{"$f":"IFERROR(MATCH(D207,listy_slownikowe!$AH$3:$AH$326,0),0)","v":0},0]
[null,{"$f":"OFFSET(listy_slownikowe!$AG$2,I208,0)","v":" "},null,null,null,null,{"$f":"OFFSET(listy_slownikowe!$AI$2,I208,0)","v":" "},null,{"$f":"IFERROR(MATCH(D208,listy_slownikowe!$AH$3:$AH$326,0),0)","v":0},0]
[null,{"$f":"OFFSET(listy_slownikowe!$AG$2,I209,0)","v":" "},null,null,null,null,{"$f":"OFFSET(listy_slownikowe!$AI$2,I209,0)","v":" "},null,{"$f":"IFERROR(MATCH(D209,listy_slownikowe!$AH$3:$AH$326,0),0)","v":0},0]
[null,{"$f":"OFFSET(listy_slownikowe!$AG$2,I210,0)","v":" "},null,"",null,null,{"$f":"OFFSET(listy_slownikowe!$AI$2,I210,0)","v":" "},null,{"$f":"IFERROR(MATCH(D210,listy_slownikowe!$AH$3:$AH$326,0),0)","v":0},0]
[null,{"$f":"OFFSET(listy_slownikowe!$AG$2,I211,0)","v":" "},null,null,null,null,{"$f":"OFFSET(listy_slownikowe!$AI$2,I211,0)","v":" "},null,{"$f":"IFERROR(MATCH(D211,listy_slownikowe!$AH$3:$AH$326,0),0)","v":0},0]
[null,"Gatunki dominujące i subdominujące",null,null,null,null,null,null,null,{"$f":"J213","v":0}]
[null,"nazwa łacińska",null,"nazwa polska",null,null,"udział [%]",null,null,{"$f":"SUM(J214:J218)","v":0}]
[null,null,null,null,null,null,null,null,null,{"$f":"COUNTA(B214:G214)","v":0}]
[null,null,null,null,null,null,null,null,null,0]
[null,null,null,null,null,null,null,null,null,0]
[null,null,null,null,null,null,null,null,null,0]
[null,null,null,null,null,null,null,null,null,0]
[]
[null,"Spis gatunków numer:",null,null,null,null,{"$f":"G193+1","v":9},null,null,{"$f":"J224","v":0}]
[null,"Współrzędne geograficzne",null,null,null,null,null,null,null,{"$f":"J225","v":0}]
[null,"Długość geograficzna [E] ",null,null,"Szerokość geograficzna [N]",null,null,null,null,{"$f":"J225","v":0}]
[null,"stopnie","minuty","sekundy","stopnie","minuty","sekundy",null,null,{"$f":"J224","v":0}]
[null,null,null,null,null,null,null,null,null,{"$f":"J226+J240","v":0}]
[null,"Gatunki wskaźnikowe",null,null,null,null,null,null,null,{"$f":"J226","v":0}]
[null,"nazwa łacińska",null,"nazwa polska",null,null,"walor ",null,null,{"$f":"SUM(J227:J238)","v":0}]
[null,{"$f":"OFFSET(listy_slownikowe!$AG$2,I227,0)","v":" "},null,null,null,null,{"$f":"OFFSET(listy_slownikowe!$AI$2,I227,0)","v":" "},null,{"$f":"IFERROR(MATCH(D227,listy_slownikowe!$AH$3:$AH$326,0),0)","v":0},{"$f":"I227","v":0}]
[null,{"$f":"OFFSET(listy_slownikowe!$AG$2,I228,0)","v":" "},null,null,null,null,{"$f":"OFFSET(listy_slownikowe!$AI$2,I228,0)","v":" "},null,{"$f":"IFERROR(MATCH(D228,listy_slownikowe!$AH$3:$AH$326,0),0)","v":0},{"$f":"I228","v":0}]
[null,{"$f":"OFFSET(listy_slownikowe!$AG$2,I229,0)","v":" "},null,null,null,null,{"$f":"OFFSET(listy_slownikowe!$AI$2,I229,0)","v":" "},null,{"$f":"IFERROR(MATCH(D229,listy_slownikowe!$AH$3:$AH$326,0),0)","v":0},0]
[null,{"$f":"OFFSET(listy_slownikowe!$AG$2,I230,0)","v":" "},null,null,null,null,{"$f":"OFFSET(listy_slownikowe!$AI$2,I230,0)","v":" "},null,{"$f":"IFERROR(MATCH(D230,listy_slownikowe!$AH$3:$AH$326,0),0)","v":0},0]
[null,{"$f":"OFFSET(listy_slownikowe!$AG$2,I231,0)","v":" "},null,null,null,null,{"$f":"OFFSET(listy_slownikowe!$AI$2,I231,0)","v":" "},null,{"$f":"IFERROR(MATCH(D231,listy_slownikowe!$AH$3:$AH$326,0),0)","v":0},0]
[null,{"$f":"OFFSET(listy_slownikowe!$AG$2,I232,0)","v":" "},null,null,null,null,{"$f":"OFFSET(listy_slownikowe!$AI$2,I232,0)","v":" "},null,{"$f":"IFERROR(MATCH(D232,listy_slownikowe!$AH$3:$AH$326,0),0)","v":0},0]
[null,{"$f":"OFFSET(listy_slownikowe!$AG$2,I233,0)","v":" "},null,null,null,null,{"$f":"OFFSET(listy_slownikowe!$AI$2,I233,0)","v":" "},null,{"$f":"IFERROR(MATCH(D233,listy_slownikowe!$AH$3:$AH$326,0),0)","v":0},0]
[null,{"$f":"OFFSET(listy_slownikowe!$AG$2,I234,0)","v":" "},null,null,null,null,{"$f":"OFFSET(listy_slownikowe!$AI$2,I234,0)","v":" "},null,{"$f":"IFERROR(MATCH(D234,listy_slownikowe!$AH$3:$AH$326,0),0)","v":0},0]
[null,{"$f":"OFFSET(listy_slownikowe!$AG$2,I235,0)","v":" "},null,null,null,null,{"$f":"OFFSET(listy_slownikowe!$AI$2,I235,0)","v":" "},null,{"$f":"IFERROR(MATCH(D235,listy_slownikowe!$AH$3:$AH$326,0),0)","v":0},0]
[null,{"$f":"OFFSET(listy_slownikowe!$AG$2,I236,0)","v":" "},null,null,null,null,{"$f":"OFFSET(listy_slownikowe!$AI$2,I236,0)","v":" "},null,{"$f":"IFERROR(MATCH(D236,listy_slownikowe!$AH$3:$AH$326,0),0)","v":0},0]
[null,{"$f":"OFFSET(listy_slownikowe!$AG$2,I237,0)","v":" "},null,"",null,null,{"$f":"OFFSET(listy_slownikowe!$AI$2,I237,0)","v":" "},null,{"$f":"IFERROR(MATCH(D237,listy_slownikowe!$AH$3:$AH$326,0),0)","v":0},0]
[null,{"$f":"OFFSET(listy_slownikowe!$AG$2,I238,0)","v":" "},null,null,null,null,{"$f":"OFFSET(listy_slownikowe!$AI$2,I238,0)","v":" "},null,{"$f":"IFERROR(MATCH(D238,listy_slownikowe!$AH$3:$AH$326,0),0)","v":0},0]
[null,"Gatunki dominujące i subdominujące",null,null,null,null,null,null,null,{"$f":"J240","v":0}]
[null,"nazwa łacińska",null,"nazwa polska",null,null,"udział [%]",null,null,{"$f":"SUM(J241:J245)","v":0}]
[null,null,null,null,null,null,null,null,null,{"$f":"COUNTA(B241:G241)","v":0}]
[null,null,null,null,null,null,null,null,null,0]
[null,null,null,null,null,null,null,null,null,0]
[null,null,null,null,null,null,null,null,null,0]
[null,null,null,null,null,null,null,null,null,0]
[]
[null,"Spis gatunków numer:",null,null,null,null,{"$f":"G220+1","v":10},null,null,{"$f":"J251","v":0}]
[null,"Współrzędne geograficzne",null,null,null,null,null,null,null,{"$f":"J252","v":0}]
[null,"Długość geograficzna [E] ",null,null,"Szerokość geograficzna [N]",null,null,null,null,{"$f":"J252","v":0}]
[null,"stopnie","minuty","sekundy","stopnie","minuty","sekundy",null,null,{"$f":"J251","v":0}]
[null,null,null,null,null,null,null,null,null,{"$f":"J253+J267","v":0}]
[null,"Gatunki wskaźnikowe",null,null,null,null,null,null,null,{"$f":"J253","v":0}]
[null,"nazwa łacińska",null,"nazwa polska",null,null,"walor ",null,null,{"$f":"SUM(J254:J265)","v":0}]
[null,{"$f":"OFFSET(listy_slownikowe!$AG$2,I254,0)","v":" "},null,null,null,null,{"$f":"OFFSET(listy_slownikowe!$AI$2,I254,0)","v":" "},null,{"$f":"IFERROR(MATCH(D254,listy_slownikowe!$AH$3:$AH$326,0),0)","v":0},{"$f":"I254","v":0}]
[null,{"$f":"OFFSET(listy_slownikowe!$AG$2,I255,0)","v":" "},null,null,null,null,{"$f":"OFFSET(listy_slownikowe!$AI$2,I255,0)","v":" "},null,{"$f":"IFERROR(MATCH(D255,listy_slownikowe!$AH$3:$AH$326,0),0)","v":0},{"$f":"I255","v":0}]
[null,{"$f":"OFFSET(listy_slownikowe!$AG$2,I256,0)","v":" "},null,null,null,null,{"$f":"OFFSET(listy_slownikowe!$AI$2,I256,0)","v":" "},null,{"$f":"IFERROR(MATCH(D256,listy_slownikowe!$AH$3:$AH$326,0),0)","v":0},0]
[null,{"$f":"OFFSET(listy_slownikowe!$AG$2,I257,0)","v":" "},null,null,null,null,{"$f":"OFFSET(listy_slownikowe!$AI$2,I257,0)","v":" "},null,{"$f":"IFERROR(MATCH(D257,listy_slownikowe!$AH$3:$AH$326,0),0)","v":0},0]
[null,{"$f":"OFFSET(listy_slownikowe!$AG$2,I258,0)","v":" "},null,null,null,null,{"$f":"OFFSET(listy_slownikowe!$AI$2,I258,0)","v":" "},null,{"$f":"IFERROR(MATCH(D258,listy_slownikowe!$AH$3:$AH$326,0),0)","v":0},0]
[null,{"$f":"OFFSET(listy_slownikowe!$AG$2,I259,0)","v":" "},null,null,null,null,{"$f":"OFFSET(listy_slownikowe!$AI$2,I259,0)","v":" "},null,{"$f":"IFERROR(MATCH(D259,listy_slownikowe!$AH$3:$AH$326,0),0)","v":0},0]
[null,{"$f":"OFFSET(listy_slownikowe!$AG$2,I260,0)","v":" "},null,null,null,null,{"$f":"OFFSET(listy_slownikowe!$AI$2,I260,0)","v":" "},null,{"$f":"IFERROR(MATCH(D260,listy_slownikowe!$AH$3:$AH$326,0),0)","v":0},0]
[null,{"$f":"OFFSET(listy_slownikowe!$AG$2,I261,0)","v":" "},null,null,null,null,{"$f":"OFFSET(listy_slownikowe!$AI$2,I261,0)","v":" "},null,{"$f":"IFERROR(MATCH(D261,listy_slownikowe!$AH$3:$AH$326,0),0)","v":0},0]
[null,{"$f":"OFFSET(listy_slownikowe!$AG$2,I262,0)","v":" "},null,null,null,null,{"$f":"OFFSET(listy_slownikowe!$AI$2,I262,0)","v":" "},null,{"$f":"IFERROR(MATCH(D262,listy_slownikowe!$AH$3:$AH$326,0),0)","v":0},0]
[null,{"$f":"OFFSET(listy_slownikowe!$AG$2,I263,0)","v":" "},null,null,null,null,{"$f":"OFFSET(listy_slownikowe!$AI$2,I263,0)","v":" "},null,{"$f":"IFERROR(MATCH(D263,listy_slownikowe!$AH$3:$AH$326,0),0)","v":0},0]
[null,{"$f":"OFFSET(listy_slownikowe!$AG$2,I264,0)","v":" "},null,"",null,null,{"$f":"OFFSET(listy_slownikowe!$AI$2,I264,0)","v":" "},null,{"$f":"IFERROR(MATCH(D264,listy_slownikowe!$AH$3:$AH$326,0),0)","v":0},0]
[null,{"$f":"OFFSET(listy_slownikowe!$AG$2,I265,0)","v":" "},null,null,null,null,{"$f":"OFFSET(listy_slownikowe!$AI$2,I265,0)","v":" "},null,{"$f":"IFERROR(MATCH(D265,listy_slownikowe!$AH$3:$AH$326,0),0)","v":0},0]
[null,"Gatunki dominujące i subdominujące",null,null,null,null,null,null,null,{"$f":"J267","v":0}]
[null,"nazwa łacińska",null,"nazwa polska",null,null,"udział [%]",null,null,{"$f":"SUM(J268:J272)","v":0}]
[null,null,null,null,null,null,null,null,null,{"$f":"COUNTA(B268:G268)","v":0}]
[null,null,null,null,null,null,null,null,null,0]
[null,null,null,null,null,null,null,null,null,0]
[null,null,null,null,null,null,null,null,null,0]
[null,null,null,null,null,null,null,null,null,0]
[]
[null,"Spis gatunków numer:",null,null,null,null,{"$f":"G247+1","v":11},null,null,{"$f":"J278","v":0}]
[null,"Współrzędne geograficzne",null,null,null,null,null,null,null,{"$f":"J279","v":0}]
[null,"Długość geograficzna [E] ",null,null,"Szerokość geograficzna [N]",null,null,null,null,{"$f":"J279","v":0}]
[null,"stopnie","minuty","sekundy","stopnie","minuty","sekundy",null,null,{"$f":"J278","v":0}]
[null,null,null,null,null,null,null,null,null,{"$f":"J280+J294","v":0}]
[null,"Gatunki wskaźnikowe",null,null,null,null,null,null,null,{"$f":"J280","v":0}]
[null,"nazwa łacińska",null,"nazwa polska",null,null,"walor ",null,null,{"$f":"SUM(J281:J292)","v":0}]
[null,{"$f":"OFFSET(listy_slownikowe!$AG$2,I281,0)","v":" "},null,null,null,null,{"$f":"OFFSET(listy_slownikowe!$AI$2,I281,0)","v":" "},null,{"$f":"IFERROR(MATCH(D281,listy_slownikowe!$AH$3:$AH$326,0),0)","v":0},{"$f":"I281","v":0}]
[null,{"$f":"OFFSET(listy_slownikowe!$AG$2,I282,0)","v":" "},null,null,null,null,{"$f":"OFFSET(listy_slownikowe!$AI$2,I282,0)","v":" "},null,{"$f":"IFERROR(MATCH(D282,listy_slownikowe!$AH$3:$AH$326,0),0)","v":0},{"$f":"I282","v":0}]
[null,{"$f":"OFFSET(listy_slownikowe!$AG$2,I283,0)","v":" "},null,null,null,null,{"$f":"OFFSET(listy_slownikowe!$AI$2,I283,0)","v":" "},null,{"$f":"IFERROR(MATCH(D283,listy_slownikowe!$AH$3:$AH$326,0),0)","v":0},0]
[null,{"$f":"OFFSET(listy_slownikowe!$AG$2,I284,0)","v":" "},null,null,null,null,{"$f":"OFFSET(listy_slownikowe!$AI$2,I284,0)","v":" "},null,{"$f":"IFERROR(MATCH(D284,listy_slownikowe!$AH$3:$AH$326,0),0)","v":0},0]
[null,{"$f":"OFFSET(listy_slownikowe!$AG$2,I285,0)","v":" "},null,null,null,null,{"$f":"OFFSET(listy_slownikowe!$AI$2,I285,0)","v":" "},null,{"$f":"IFERROR(MATCH(D285,listy_slownikowe!$AH$3:$AH$326,0),0)","v":0},0]
[null,{"$f":"OFFSET(listy_slownikowe!$AG$2,I286,0)","v":" "},null,null,null,null,{"$f":"OFFSET(listy_slownikowe!$AI$2,I286,0)","v":" "},null,{"$f":"IFERROR(MATCH(D286,listy_slownikowe!$AH$3:$AH$326,0),0)","v":0},0]
[null,{"$f":"OFFSET(listy_slownikowe!$AG$2,I287,0)","v":" "},null,null,null,null,{"$f":"OFFSET(listy_slownikowe!$AI$2,I287,0)","v":" "},null,{"$f":"IFERROR(MATCH(D287,listy_slownikowe!$AH$3:$AH$326,0),0)","v":0},0]
[null,{"$f":"OFFSET(listy_slownikowe!$AG$2,I288,0)","v":" "},null,null,null,null,{"$f":"OFFSET(listy_slownikowe!$AI$2,I288,0)","v":" "},null,{"$f":"IFERROR(MATCH(D288,listy_slownikowe!$AH$3:$AH$326,0),0)","v":0},0]
[null,{"$f":"OFFSET(listy_slownikowe!$AG$2,I289,0)","v":" "},null,null,null,null,{"$f":"OFFSET(listy_slownikowe!$AI$2,I289,0)","v":" "},null,{"$f":"IFERROR(MATCH(D289,listy_slownikowe!$AH$3:$AH$326,0),0)","v":0},0]
[null,{"$f":"OFFSET(listy_slownikowe!$AG$2,I290,0)","v":" "},null,null,null,null,{"$f":"OFFSET(listy_slownikowe!$AI$2,I290,0)","v":" "},null,{"$f":"IFERROR(MATCH(D290,listy_slownikowe!$AH$3:$AH$326,0),0)","v":0},0]
[null,{"$f":"OFFSET(listy_slownikowe!$AG$2,I291,0)","v":" "},null,"",null,null,{"$f":"OFFSET(listy_slownikowe!$AI$2,I291,0)","v":" "},null,{"$f":"IFERROR(MATCH(D291,listy_slownikowe!$AH$3:$AH$326,0),0)","v":0},0]
[null,{"$f":"OFFSET(listy_slownikowe!$AG$2,I292,0)","v":" "},null,null,null,null,{"$f":"OFFSET(listy_slownikowe!$AI$2,I292,0)","v":" "},null,{"$f":"IFERROR(MATCH(D292,listy_slownikowe!$AH$3:$AH$326,0),0)","v":0},0]
[null,"Gatunki dominujące i subdominujące",null,null,null,null,null,null,null,{"$f":"J294","v":0}]
[null,"nazwa łacińska",null,"nazwa polska",null,null,"udział [%]",null,null,{"$f":"SUM(J295:J299)","v":0}]
[null,null,null,null,null,null,null,null,null,{"$f":"COUNTA(B295:G295)","v":0}]
[null,null,null,null,null,null,null,null,null,0]
[null,null,null,null,null,null,null,null,null,0]
[null,null,null,null,null,null,null,null,null,0]
[null,null,null,null,null,null,null,null,null,0]
[]
[null,"Spis gatunków numer:",null,null,null,null,{"$f":"G274+1","v":12},null,null,{"$f":"J305","v":0}]
[null,"Współrzędne geograficzne",null,null,null,null,null,null,null,{"$f":"J306","v":0}]
[null,"Długość geograficzna [E] ",null,null,"Szerokość geograficzna [N]",null,null,null,null,{"$f":"J306","v":0}]
[null,"stopnie","minuty","sekundy","stopnie","minuty","sekundy",null,null,{"$f":"J305","v":0}]
[null,null,null,null,null,null,null,null,null,{"$f":"J307+J321","v":0}]
[null,"Gatunki wskaźnikowe",null,null,null,null,null,null,null,{"$f":"J307","v":0}]
[null,"nazwa łacińska",null,"nazwa polska",null,null,"walor ",null,null,{"$f":"SUM(J308:J319)","v":0}]
[null,{"$f":"OFFSET(listy_slownikowe!$AG$2,I308,0)","v":" "},null,null,null,null,{"$f":"OFFSET(listy_slownikowe!$AI$2,I308,0)","v":" "},null,{"$f":"IFERROR(MATCH(D308,listy_slownikowe!$AH$3:$AH$326,0),0)","v":0},{"$f":"I308","v":0}]
[null,{"$f":"OFFSET(listy_slownikowe!$AG$2,I309,0)","v":" "},null,null,null,null,{"$f":"OFFSET(listy_slownikowe!$AI$2,I309,0)","v":" "},null,{"$f":"IFERROR(MATCH(D309,listy_slownikowe!$AH$3:$AH$326,0),0)","v":0},{"$f":"I309","v":0}]
[null,{"$f":"OFFSET(listy_slownikowe!$AG$2,I310,0)","v":" "},null,null,null,null,{"$f":"OFFSET(listy_slownikowe!$AI$2,I310,0)","v":" "},null,{"$f":"IFERROR(MATCH(D310,listy_slownikowe!$AH$3:$AH$326,0),0)","v":0},0]
[null,{"$f":"OFFSET(listy_slownikowe!$AG$2,I311,0)","v":" "},null,null,null,null,{"$f":"OFFSET(listy_slownikowe!$AI$2,I311,0)","v":" "},null,{"$f":"IFERROR(MATCH(D311,listy_slownikowe!$AH$3:$AH$326,0),0)","v":0},0]
[null,{"$f":"OFFSET(listy_slownikowe!$AG$2,I312,0)","v":" "},null,null,null,null,{"$f":"OFFSET(listy_slownikowe!$AI$2,I312,0)","v":" "},null,{"$f":"IFERROR(MATCH(D312,listy_slownikowe!$AH$3:$AH$326,0),0)","v":0},0]
[null,{"$f":"OFFSET(listy_slownikowe!$AG$2,I313,0)","v":" "},null,null,null,null,{"$f":"OFFSET(listy_slownikowe!$AI$2,I313,0)","v":" "},null,{"$f":"IFERROR(MATCH(D313,listy_slownikowe!$AH$3:$AH$326,0),0)","v":0},0]
[null,{"$f":"OFFSET(listy_slownikowe!$AG$2,I314,0)","v":" "},null,null,null,null,{"$f":"OFFSET(listy_slownikowe!$AI$2,I314,0)","v":" "},null,{"$f":"IFERROR(MATCH(D314,listy_slownikowe!$AH$3:$AH$326,0),0)","v":0},0]
[null,{"$f":"OFFSET(listy_slownikowe!$AG$2,I315,0)","v":" "},null,null,null,null,{"$f":"OFFSET(listy_slownikowe!$AI$2,I315,0)","v":" "},null,{"$f":"IFERROR(MATCH(D315,listy_slownikowe!$AH$3:$AH$326,0),0)","v":0},0]
[null,{"$f":"OFFSET(listy_slownikowe!$AG$2,I316,0)","v":" "},null,null,null,null,{"$f":"OFFSET(listy_slownikowe!$AI$2,I316,0)","v":" "},null,{"$f":"IFERROR(MATCH(D316,listy_slownikowe!$AH$3:$AH$326,0),0)","v":0},0]
[null,{"$f":"OFFSET(listy_slownikowe!$AG$2,I317,0)","v":" "},null,null,null,null,{"$f":"OFFSET(listy_slownikowe!$AI$2,I317,0)","v":" "},null,{"$f":"IFERROR(MATCH(D317,listy_slownikowe!$AH$3:$AH$326,0),0)","v":0},0]
[null,{"$f":"OFFSET(listy_slownikowe!$AG$2,I318,0)","v":" "},null,"",null,null,{"$f":"OFFSET(listy_slownikowe!$AI$2,I318,0)","v":" "},null,{"$f":"IFERROR(MATCH(D318,listy_slownikowe!$AH$3:$AH$326,0),0)","v":0},0]
[null,{"$f":"OFFSET(listy_slownikowe!$AG$2,I319,0)","v":" "},null,null,null,null,{"$f":"OFFSET(listy_slownikowe!$AI$2,I319,0)","v":" "},null,{"$f":"IFERROR(MATCH(D319,listy_slownikowe!$AH$3:$AH$326,0),0)","v":0},0]
[null,"Gatunki dominujące i subdominujące",null,null,null,null,null,null,null,{"$f":"J321","v":0}]
[null,"nazwa łacińska",null,"nazwa polska",null,null,"udział [%]",null,null,{"$f":"SUM(J322:J326)","v":0}]
[null,null,null,null,null,null,null,null,null,{"$f":"COUNTA(B322:G322)","v":0}]
[null,null,null,null,null,null,null,null,null,0]
[null,null,null,null,null,null,null,null,null,0]
[null,null,null,null,null,null,null,null,null,0]
[null,null,null,null,null,null,null,null,null,0]
[]
[null,"Spis gatunków numer:",null,null,null,null,{"$f":"G301+1","v":13},null,null,{"$f":"J332","v":0}]
[null,"Współrzędne geograficzne",null,null,null,null,null,null,null,{"$f":"J333","v":0}]
[null,"Długość geograficzna [E] ",null,null,"Szerokość geograficzna [N]",null,null,null,null,{"$f":"J333","v":0}]
[null,"stopnie","minuty","sekundy","stopnie","minuty","sekundy",null,null,{"$f":"J332","v":0}]
[null,null,null,null,null,null,null,null,null,{"$f":"J334+J348","v":0}]
[null,"Gatunki wskaźnikowe",null,null,null,null,null,null,null,{"$f":"J334","v":0}]
[null,"nazwa łacińska",null,"nazwa polska",null,null,"walor ",null,null,{"$f":"SUM(J335:J346)","v":0}]
[null,{"$f":"OFFSET(listy_slownikowe!$AG$2,I335,0)","v":" "},null,"",null,null,{"$f":"OFFSET(listy_slownikowe!$AI$2,I335,0)","v":" "},null,{"$f":"IFERROR(MATCH(D335,listy_slownikowe!$AH$3:$AH$326,0),0)","v":0},{"$f":"I335","v":0}]
[null,{"$f":"OFFSET(listy_slownikowe!$AG$2,I336,0)","v":" "},null,null,null,null,{"$f":"OFFSET(listy_slownikowe!$AI$2,I336,0)","v":" "},null,{"$f":"IFERROR(MATCH(D336,listy_slownikowe!$AH$3:$AH$326,0),0)","v":0},{"$f":"I336","v":0}]
[null,{"$f":"OFFSET(listy_slownikowe!$AG$2,I337,0)","v":" "},null,null,null,null,{"$f":"OFFSET(listy_slownikowe!$AI$2,I337,0)","v":" "},null,{"$f":"IFERROR(MATCH(D337,listy_slownikowe!$AH$3:$AH$326,0),0)","v":0},0]
[null,{"$f":"OFFSET(listy_slownikowe!$AG$2,I338,0)","v":" "},null,null,null,null,{"$f":"OFFSET(listy_slownikowe!$AI$2,I338,0)","v":" "},null,{"$f":"IFERROR(MATCH(D338,listy_slownikowe!$AH$3:$AH$326,0),0)","v":0},0]
[null,{"$f":"OFFSET(listy_slownikowe!$AG$2,I339,0)","v":" "},null,null,null,null,{"$f":"OFFSET(listy_slownikowe!$AI$2,I339,0)","v":" "},null,{"$f":"IFERROR(MATCH(D339,listy_slownikowe!$AH$3:$AH$326,0),0)","v":0},0]
[null,{"$f":"OFFSET(listy_slownikowe!$AG$2,I340,0)","v":" "},null,null,null,null,{"$f":"OFFSET(listy_slownikowe!$AI$2,I340,0)","v":" "},null,{"$f":"IFERROR(MATCH(D340,listy_slownikowe!$AH$3:$AH$326,0),0)","v":0},0]
[null,{"$f":"OFFSET(listy_slownikowe!$AG$2,I341,0)","v":" "},null,null,null,null,{"$f":"OFFSET(listy_slownikowe!$AI$2,I341,0)","v":" "},null,{"$f":"IFERROR(MATCH(D341,listy_slownikowe!$AH$3:$AH$326,0),0)","v":0},0]
[null,{"$f":"OFFSET(listy_slownikowe!$AG$2,I342,0)","v":" "},null,null,null,null,{"$f":"OFFSET(listy_slownikowe!$AI$2,I342,0)","v":" "},null,{"$f":"IFERROR(MATCH(D342,listy_slownikowe!$AH$3:$AH$326,0),0)","v":0},0]
[null,{"$f":"OFFSET(listy_slownikowe!$AG$2,I343,0)","v":" "},null,null,null,null,{"$f":"OFFSET(listy_slownikowe!$AI$2,I343,0)","v":" "},null,{"$f":"IFERROR(MATCH(D343,listy_slownikowe!$AH$3:$AH$326,0),0)","v":0},0]
[null,{"$f":"OFFSET(listy_slownikowe!$AG$2,I344,0)","v":" "},null,null,null,null,{"$f":"OFFSET(listy_slownikowe!$AI$2,I344,0)","v":" "},null,{"$f":"IFERROR(MATCH(D344,listy_slownikowe!$AH$3:$AH$326,0),0)","v":0},0]
[null,{"$f":"OFFSET(listy_slownikowe!$AG$2,I345,0)","v":" "},null,"",null,null,{"$f":"OFFSET(listy_slownikowe!$AI$2,I345,0)","v":" "},null,{"$f":"IFERROR(MATCH(D345,listy_slownikowe!$AH$3:$AH$326,0),0)","v":0},0]
[null,{"$f":"OFFSET(listy_slownikowe!$AG$2,I346,0)","v":" "},null,null,null,null,{"$f":"OFFSET(listy_slownikowe!$AI$2,I346,0)","v":" "},null,{"$f":"IFERROR(MATCH(D346,listy_slownikowe!$AH$3:$AH$326,0),0)","v":0},0]
[null,"Gatunki dominujące i subdominujące",null,null,null,null,null,null,null,{"$f":"J348","v":0}]
[null,"nazwa łacińska",null,"nazwa polska",null,null,"udział [%]",null,null,{"$f":"SUM(J349:J353)","v":0}]
[null,null,null,null,null,null,null,null,null,{"$f":"COUNTA(B349:G349)","v":0}]
[null,null,null,null,null,null,null,null,null,0]
[null,null,null,null,null,null,null,null,null,0]
[null,null,null,null,null,null,null,null,null,0]
[null,null,null,null,null,null,null,null,null,0]
[]
[null,"Spis gatunków numer:",null,null,null,null,{"$f":"G328+1","v":14},null,null,{"$f":"J359","v":0}]
[null,"Współrzędne geograficzne",null,null,null,null,null,null,null,{"$f":"J360","v":0}]
[null,"Długość geograficzna [E] ",null,null,"Szerokość geograficzna [N]",null,null,null,null,{"$f":"J360","v":0}]
[null,"stopnie","minuty","sekundy","stopnie","minuty","sekundy",null,null,{"$f":"J359","v":0}]
[null,null,null,null,null,null,null,null,null,{"$f":"J361+J375","v":0}]
[null,"Gatunki wskaźnikowe",null,null,null,null,null,null,null,{"$f":"J361","v":0}]
[null,"nazwa łacińska",null,"nazwa polska",null,null,"walor ",null,null,{"$f":"SUM(J362:J373)","v":0}]
[null,{"$f":"OFFSET(listy_slownikowe!$AG$2,I362,0)","v":" "},null,null,null,null,{"$f":"OFFSET(listy_slownikowe!$AI$2,I362,0)","v":" "},null,{"$f":"IFERROR(MATCH(D362,listy_slownikowe!$AH$3:$AH$326,0),0)","v":0},{"$f":"I362","v":0}]
[null,{"$f":"OFFSET(listy_slownikowe!$AG$2,I363,0)","v":" "},null,null,null,null,{"$f":"OFFSET(listy_slownikowe!$AI$2,I363,0)","v":" "},null,{"$f":"IFERROR(MATCH(D363,listy_slownikowe!$AH$3:$AH$326,0),0)","v":0},{"$f":"I363","v":0}]
[null,{"$f":"OFFSET(listy_slownikowe!$AG$2,I364,0)","v":" "},null,null,null,null,{"$f":"OFFSET(listy_slownikowe!$AI$2,I364,0)","v":" "},null,{"$f":"IFERROR(MATCH(D364,listy_slownikowe!$AH$3:$AH$326,0),0)","v":0},0]
[null,{"$f":"OFFSET(listy_slownikowe!$AG$2,I365,0)","v":" "},null,null,null,null,{"$f":"OFFSET(listy_slownikowe!$AI$2,I365,0)","v":" "},null,{"$f":"IFERROR(MATCH(D365,listy_slownikowe!$AH$3:$AH$326,0),0)","v":0},0]
[null,{"$f":"OFFSET(listy_slownikowe!$AG$2,I366,0)","v":" "},null,null,null,null,{"$f":"OFFSET(listy_slownikowe!$AI$2,I366,0)","v":" "},null,{"$f":"IFERROR(MATCH(D366,listy_slownikowe!$AH$3:$AH$326,0),0)","v":0},0]
[null,{"$f":"OFFSET(listy_slownikowe!$AG$2,I367,0)","v":" "},null,null,null,null,{"$f":"OFFSET(listy_slownikowe!$AI$2,I367,0)","v":" "},null,{"$f":"IFERROR(MATCH(D367,listy_slownikowe!$AH$3:$AH$326,0),0)","v":0},0]
[null,{"$f":"OFFSET(listy_slownikowe!$AG$2,I368,0)","v":" "},null,null,null,null,{"$f":"OFFSET(listy_slownikowe!$AI$2,I368,0)","v":" "},null,{"$f":"IFERROR(MATCH(D368,listy_slownikowe!$AH$3:$AH$326,0),0)","v":0},0]
[null,{"$f":"OFFSET(listy_slownikowe!$AG$2,I369,0)","v":" "},null,null,null,null,{"$f":"OFFSET(listy_slownikowe!$AI$2,I369,0)","v":" "},null,{"$f":"IFERROR(MATCH(D369,listy_slownikowe!$AH$3:$AH$326,0),0)","v":0},0]
[null,{"$f":"OFFSET(listy_slownikowe!$AG$2,I370,0)","v":" "},null,null,null,null,{"$f":"OFFSET(listy_slownikowe!$AI$2,I370,0)","v":" "},null,{"$f":"IFERROR(MATCH(D370,listy_slownikowe!$AH$3:$AH$326,0),0)","v":0},0]
[null,{"$f":"OFFSET(listy_slownikowe!$AG$2,I371,0)","v":" "},null,null,null,null,{"$f":"OFFSET(listy_slownikowe!$AI$2,I371,0)","v":" "},null,{"$f":"IFERROR(MATCH(D371,listy_slownikowe!$AH$3:$AH$326,0),0)","v":0},0]
[null,{"$f":"OFFSET(listy_slownikowe!$AG$2,I372,0)","v":" "},null,"",null,null,{"$f":"OFFSET(listy_slownikowe!$AI$2,I372,0)","v":" "},null,{"$f":"IFERROR(MATCH(D372,listy_slownikowe!$AH$3:$AH$326,0),0)","v":0},0]
[null,{"$f":"OFFSET(listy_slownikowe!$AG$2,I373,0)","v":" "},null,null,null,null,{"$f":"OFFSET(listy_slownikowe!$AI$2,I373,0)","v":" "},null,{"$f":"IFERROR(MATCH(D373,listy_slownikowe!$AH$3:$AH$326,0),0)","v":0},0]
[null,"Gatunki dominujące i subdominujące",null,null,null,null,null,null,null,{"$f":"J375","v":0}]
[null,"nazwa łacińska",null,"nazwa polska",null,null,"udział [%]",null,null,{"$f":"SUM(J376:J380)","v":0}]
[null,null,null,null,null,null,null,null,null,{"$f":"COUNTA(B376:G376)","v":0}]
[null,null,null,null,null,null,null,null,null,0]
[null,null,null,null,null,null,null,null,null,0]
[null,null,null,null,null,null,null,null,null,0]
[null,null,null,null,null,null,null,null,null,0]
[]
[null,"Spis gatunków numer:",null,null,null,null,{"$f":"G355+1","v":15},null,null,{"$f":"J386","v":0}]
[null,"Współrzędne geograficzne",null,null,null,null,null,null,null,{"$f":"J387","v":0}]
[null,"Długość geograficzna [E] ",null,null,"Szerokość geograficzna [N]",null,null,null,null,{"$f":"J387","v":0}]
[null,"stopnie","minuty","sekundy","stopnie","minuty","sekundy",null,null,{"$f":"J386","v":0}]
[null,null,null,null,null,null,null,null,null,{"$f":"J388+J402","v":0}]
[null,"Gatunki wskaźnikowe",null,null,null,null,null,null,null,{"$f":"J388","v":0}]
[null,"nazwa łacińska",null,"nazwa polska",null,null,"walor ",null,null,{"$f":"SUM(J389:J400)","v":0}]
[null,{"$f":"OFFSET(listy_slownikowe!$AG$2,I389,0)","v":" "},null,null,null,null,{"$f":"OFFSET(listy_slownikowe!$AI$2,I389,0)","v":" "},null,{"$f":"IFERROR(MATCH(D389,listy_slownikowe!$AH$3:$AH$326,0),0)","v":0},{"$f":"I389","v":0}]
[null,{"$f":"OFFSET(listy_slownikowe!$AG$2,I390,0)","v":" "},null,null,null,null,{"$f":"OFFSET(listy_slownikowe!$AI$2,I390,0)","v":" "},null,{"$f":"IFERROR(MATCH(D390,listy_slownikowe!$AH$3:$AH$326,0),0)","v":0},{"$f":"I390","v":0}]
[null,{"$f":"OFFSET(listy_slownikowe!$AG$2,I391,0)","v":" "},null,null,null,null,{"$f":"OFFSET(listy_slownikowe!$AI$2,I391,0)","v":" "},null,{"$f":"IFERROR(MATCH(D391,listy_slownikowe!$AH$3:$AH$326,0),0)","v":0},0]
[null,{"$f":"OFFSET(listy_slownikowe!$AG$2,I392,0)","v":" "},null,null,null,null,{"$f":"OFFSET(listy_slownikowe!$AI$2,I392,0)","v":" "},null,{"$f":"IFERROR(MATCH(D392,listy_slownikowe!$AH$3:$AH$326,0),0)","v":0},0]
[null,{"$f":"OFFSET(listy_slownikowe!$AG$2,I393,0)","v":" "},null,null,null,null,{"$f":"OFFSET(listy_slownikowe!$AI$2,I393,0)","v":" "},null,{"$f":"IFERROR(MATCH(D393,listy_slownikowe!$AH$3:$AH$326,0),0)","v":0},0]
[null,{"$f":"OFFSET(listy_slownikowe!$AG$2,I394,0)","v":" "},null,null,null,null,{"$f":"OFFSET(listy_slownikowe!$AI$2,I394,0)","v":" "},null,{"$f":"IFERROR(MATCH(D394,listy_slownikowe!$AH$3:$AH$326,0),0)","v":0},0]
[null,{"$f":"OFFSET(listy_slownikowe!$AG$2,I395,0)","v":" "},null,null,null,null,{"$f":"OFFSET(listy_slownikowe!$AI$2,I395,0)","v":" "},null,{"$f":"IFERROR(MATCH(D395,listy_slownikowe!$AH$3:$AH$326,0),0)","v":0},0]
[null,{"$f":"OFFSET(listy_slownikowe!$AG$2,I396,0)","v":" "},null,null,null,null,{"$f":"OFFSET(listy_slownikowe!$AI$2,I396,0)","v":" "},null,{"$f":"IFERROR(MATCH(D396,listy_slownikowe!$AH$3:$AH$326,0),0)","v":0},0]
[null,{"$f":"OFFSET(listy_slownikowe!$AG$2,I397,0)","v":" "},null,null,null,null,{"$f":"OFFSET(listy_slownikowe!$AI$2,I397,0)","v":" "},null,{"$f":"IFERROR(MATCH(D397,listy_slownikowe!$AH$3:$AH$326,0),0)","v":0},0]
[null,{"$f":"OFFSET(listy_slownikowe!$AG$2,I398,0)","v":" "},null,null,null,null,{"$f":"OFFSET(listy_slownikowe!$AI$2,I398,0)","v":" "},null,{"$f":"IFERROR(MATCH(D398,listy_slownikowe!$AH$3:$AH$326,0),0)","v":0},0]
[null,{"$f":"OFFSET(listy_slownikowe!$AG$2,I399,0)","v":" "},null,"",null,null,{"$f":"OFFSET(listy_slownikowe!$AI$2,I399,0)","v":" "},null,{"$f":"IFERROR(MATCH(D399,listy_slownikowe!$AH$3:$AH$326,0),0)","v":0},0]
[null,{"$f":"OFFSET(listy_slownikowe!$AG$2,I400,0)","v":" "},null,null,null,null,{"$f":"OFFSET(listy_slownikowe!$AI$2,I400,0)","v":" "},null,{"$f":"IFERROR(MATCH(D400,listy_slownikowe!$AH$3:$AH$326,0),0)","v":0},0]
[null,"Gatunki dominujące i subdominujące",null,null,null,null,null,null,null,{"$f":"J402","v":0}]
[null,"nazwa łacińska",null,"nazwa polska",null,null,"udział [%]",null,null,{"$f":"SUM(J403:J407)","v":0}]
[null,null,null,null,null,null,null,null,null,{"$f":"COUNTA(B403:G403)","v":0}]
[null,null,null,null,null,null,null,null,null,0]
[null,null,null,null,null,null,null,null,null,0]
[null,null,null,null,null,null,null,null,null,0]
[null,null,null,null,null,null,null,null,null,0]
[]
[null,"Spis gatunków numer:",null,null,null,null,{"$f":"G382+1","v":16},null,null,{"$f":"J413","v":0}]
[null,"Współrzędne geograficzne",null,null,null,null,null,null,null,{"$f":"J414","v":0}]
[null,"Długość geograficzna [E] ",null,null,"Szerokość geograficzna [N]",null,null,null,null,{"$f":"J414","v":0}]
[null,"stopnie","minuty","sekundy","stopnie","minuty","sekundy",null,null,{"$f":"J413","v":0}]
[null,null,null,null,null,null,null,null,null,{"$f":"J415+J429","v":0}]
[null,"Gatunki wskaźnikowe",null,null,null,null,null,null,null,{"$f":"J415","v":0}]
[null,"nazwa łacińska",null,"nazwa polska",null,null,"walor ",null,null,{"$f":"SUM(J416:J427)","v":0}]
[null,{"$f":"OFFSET(listy_slownikowe!$AG$2,I416,0)","v":" "},null,null,null,null,{"$f":"OFFSET(listy_slownikowe!$AI$2,I416,0)","v":" "},null,{"$f":"IFERROR(MATCH(D416,listy_slownikowe!$AH$3:$AH$326,0),0)","v":0},{"$f":"I416","v":0}]
[null,{"$f":"OFFSET(listy_slownikowe!$AG$2,I417,0)","v":" "},null,null,null,null,{"$f":"OFFSET(listy_slownikowe!$AI$2,I417,0)","v":" "},null,{"$f":"IFERROR(MATCH(D417,listy_slownikowe!$AH$3:$AH$326,0),0)","v":0},{"$f":"I417","v":0}]
[null,{"$f":"OFFSET(listy_slownikowe!$AG$2,I418,0)","v":" "},null,null,null,null,{"$f":"OFFSET(listy_slownikowe!$AI$2,I418,0)","v":" "},null,{"$f":"IFERROR(MATCH(D418,listy_slownikowe!$AH$3:$AH$326,0),0)","v":0},0]
[null,{"$f":"OFFSET(listy_slownikowe!$AG$2,I419,0)","v":" "},null,null,null,null,{"$f":"OFFSET(listy_slownikowe!$AI$2,I419,0)","v":" "},null,{"$f":"IFERROR(MATCH(D419,listy_slownikowe!$AH$3:$AH$326,0),0)","v":0},0]
[null,{"$f":"OFFSET(listy_slownikowe!$AG$2,I420,0)","v":" "},null,null,null,null,{"$f":"OFFSET(listy_slownikowe!$AI$2,I420,0)","v":" "},null,{"$f":"IFERROR(MATCH(D420,listy_slownikowe!$AH$3:$AH$326,0),0)","v":0},0]
[null,{"$f":"OFFSET(listy_slownikowe!$AG$2,I421,0)","v":" "},null,null,null,null,{"$f":"OFFSET(listy_slownikowe!$AI$2,I421,0)","v":" "},null,{"$f":"IFERROR(MATCH(D421,listy_slownikowe!$AH$3:$AH$326,0),0)","v":0},0]
[null,{"$f":"OFFSET(listy_slownikowe!$AG$2,I422,0)","v":" "},null,null,null,null,{"$f":"OFFSET(listy_slownikowe!$AI$2,I422,0)","v":" "},null,{"$f":"IFERROR(MATCH(D422,listy_slownikowe!$AH$3:$AH$326,0),0)","v":0},0]
[null,{"$f":"OFFSET(listy_slownikowe!$AG$2,I423,0)","v":" "},null,null,null,null,{"$f":"OFFSET(listy_slownikowe!$AI$2,I423,0)","v":" "},null,{"$f":"IFERROR(MATCH(D423,listy_slownikowe!$AH$3:$AH$326,0),0)","v":0},0]
[null,{"$f":"OFFSET(listy_slownikowe!$AG$2,I424,0)","v":" "},null,null,null,null,{"$f":"OFFSET(listy_slownikowe!$AI$2,I424,0)","v":" "},null,{"$f":"IFERROR(MATCH(D424,listy_slownikowe!$AH$3:$AH$326,0),0)","v":0},0]
[null,{"$f":"OFFSET(listy_slownikowe!$AG$2,I425,0)","v":" "},null,null,null,null,{"$f":"OFFSET(listy_slownikowe!$AI$2,I425,0)","v":" "},null,{"$f":"IFERROR(MATCH(D425,listy_slownikowe!$AH$3:$AH$326,0),0)","v":0},0]
[null,{"$f":"OFFSET(listy_slownikowe!$AG$2,I426,0)","v":" "},null,"",null,null,{"$f":"OFFSET(listy_slownikowe!$AI$2,I426,0)","v":" "},null,{"$f":"IFERROR(MATCH(D426,listy_slownikowe!$AH$3:$AH$326,0),0)","v":0},0]
[null,{"$f":"OFFSET(listy_slownikowe!$AG$2,I427,0)","v":" "},null,null,null,null,{"$f":"OFFSET(listy_slownikowe!$AI$2,I427,0)","v":" "},null,{"$f":"IFERROR(MATCH(D427,listy_slownikowe!$AH$3:$AH$326,0),0)","v":0},0]
[null,"Gatunki dominujące i subdominujące",null,null,null,null,null,null,null,{"$f":"J429","v":0}]
[null,"nazwa łacińska",null,"nazwa polska",null,null,"udział [%]",null,null,{"$f":"SUM(J430:J434)","v":0}]
[null,null,null,null,null,null,null,null,null,{"$f":"COUNTA(B430:G430)","v":0}]
[null,null,null,null,null,null,null,null,null,0]
[null,null,null,null,null,null,null,null,null,0]
[null,null,null,null,null,null,null,null,null,0]
[null,null,null,null,null,null,null,null,null,0]
[]
[null,"Spis gatunków numer:",null,null,null,null,{"$f":"G409+1","v":17},null,null,{"$f":"J440","v":0}]
[null,"Współrzędne geograficzne",null,null,null,null,null,null,null,{"$f":"J441","v":0}]
[null,"Długość geograficzna [E] ",null,null,"Szerokość geograficzna [N]",null,null,null,null,{"$f":"J441","v":0}]
[null,"stopnie","minuty","sekundy","stopnie","minuty","sekundy",null,null,{"$f":"J440","v":0}]
[null,null,null,null,null,null,null,null,null,{"$f":"J442+J456","v":0}]
[null,"Gatunki wskaźnikowe",null,null,null,null,null,null,null,{"$f":"J442","v":0}]
[null,"nazwa łacińska",null,"nazwa polska",null,null,"walor ",null,null,{"$f":"SUM(J443:J454)","v":0}]
[null,{"$f":"OFFSET(listy_slownikowe!$AG$2,I443,0)","v":" "},null,null,null,null,{"$f":"OFFSET(listy_slownikowe!$AI$2,I443,0)","v":" "},null,{"$f":"IFERROR(MATCH(D443,listy_slownikowe!$AH$3:$AH$326,0),0)","v":0},{"$f":"I443","v":0}]
[null,{"$f":"OFFSET(listy_slownikowe!$AG$2,I444,0)","v":" "},null,null,null,null,{"$f":"OFFSET(listy_slownikowe!$AI$2,I444,0)","v":" "},null,{"$f":"IFERROR(MATCH(D444,listy_slownikowe!$AH$3:$AH$326,0),0)","v":0},{"$f":"I444","v":0}]
[null,{"$f":"OFFSET(listy_slownikowe!$AG$2,I445,0)","v":" "},null,null,null,null,{"$f":"OFFSET(listy_slownikowe!$AI$2,I445,0)","v":" "},null,{"$f":"IFERROR(MATCH(D445,listy_slownikowe!$AH$3:$AH$326,0),0)","v":0},0]
[null,{"$f":"OFFSET(listy_slownikowe!$AG$2,I446,0)","v":" "},null,null,null,null,{"$f":"OFFSET(listy_slownikowe!$AI$2,I446,0)","v":" "},null,{"$f":"IFERROR(MATCH(D446,listy_slownikowe!$AH$3:$AH$326,0),0)","v":0},0]
[null,{"$f":"OFFSET(listy_slownikowe!$AG$2,I447,0)","v":" "},null,null,null,null,{"$f":"OFFSET(listy_slownikowe!$AI$2,I447,0)","v":" "},null,{"$f":"IFERROR(MATCH(D447,listy_slownikowe!$AH$3:$AH$326,0),0)","v":0},0]
[null,{"$f":"OFFSET(listy_slownikowe!$AG$2,I448,0)","v":" "},null,null,null,null,{"$f":"OFFSET(listy_slownikowe!$AI$2,I448,0)","v":" "},null,{"$f":"IFERROR(MATCH(D448,listy_slownikowe!$AH$3:$AH$326,0),0)","v":0},0]
[null,{"$f":"OFFSET(listy_slownikowe!$AG$2,I449,0)","v":" "},null,null,null,null,{"$f":"OFFSET(listy_slownikowe!$AI$2,I449,0)","v":" "},null,{"$f":"IFERROR(MATCH(D449,listy_slownikowe!$AH$3:$AH$326,0),0)","v":0},0]
[null,{"$f":"OFFSET(listy_slownikowe!$AG$2,I450,0)","v":" "},null,null,null,null,{"$f":"OFFSET(listy_slownikowe!$AI$2,I450,0)","v":" "},null,{"$f":"IFERROR(MATCH(D450,listy_slownikowe!$AH$3:$AH$326,0),0)","v":0},0]
[null,{"$f":"OFFSET(listy_slownikowe!$AG$2,I451,0)","v":" "},null,null,null,null,{"$f":"OFFSET(listy_slownikowe!$AI$2,I451,0)","v":" "},null,{"$f":"IFERROR(MATCH(D451,listy_slownikowe!$AH$3:$AH$326,0),0)","v":0},0]
[null,{"$f":"OFFSET(listy_slownikowe!$AG$2,I452,0)","v":" "},null,null,null,null,{"$f":"OFFSET(listy_slownikowe!$AI$2,I452,0)","v":" "},null,{"$f":"IFERROR(MATCH(D452,listy_slownikowe!$AH$3:$AH$326,0),0)","v":0},0]
[null,{"$f":"OFFSET(listy_slownikowe!$AG$2,I453,0)","v":" "},null,"",null,null,{"$f":"OFFSET(listy_slownikowe!$AI$2,I453,0)","v":" "},null,{"$f":"IFERROR(MATCH(D453,listy_slownikowe!$AH$3:$AH$326,0),0)","v":0},0]
[null,{"$f":"OFFSET(listy_slownikowe!$AG$2,I454,0)","v":" "},null,null,null,null,{"$f":"OFFSET(listy_slownikowe!$AI$2,I454,0)","v":" "},null,{"$f":"IFERROR(MATCH(D454,listy_slownikowe!$AH$3:$AH$326,0),0)","v":0},0]
[null,"Gatunki dominujące i subdominujące",null,null,null,null,null,null,null,{"$f":"J456","v":0}]
[null,"nazwa łacińska",null,"nazwa polska",null,null,"udział [%]",null,null,{"$f":"SUM(J457:J461)","v":0}]
[null,null,null,null,null,null,null,null,null,{"$f":"COUNTA(B457:G457)","v":0}]
[null,null,null,null,null,null,null,null,null,0]
[null,null,null,null,null,null,null,null,null,0]
[null,null,null,null,null,null,null,null,null,0]
[null,null,null,null,null,null,null,null,null,0]
[]
[null,"Spis gatunków numer:",null,null,null,null,{"$f":"G436+1","v":18},null,null,{"$f":"J467","v":0}]
[null,"Współrzędne geograficzne",null,null,null,null,null,null,null,{"$f":"J468","v":0}]
[null,"Długość geograficzna [E] ",null,null,"Szerokość geograficzna [N]",null,null,null,null,{"$f":"J468","v":0}]
[null,"stopnie","minuty","sekundy","stopnie","minuty","sekundy",null,null,{"$f":"J467","v":0}]
[null,null,null,null,null,null,null,null,null,{"$f":"J469+J483","v":0}]
[null,"Gatunki wskaźnikowe",null,null,null,null,null,null,null,{"$f":"J469","v":0}]
[null,"nazwa łacińska",null,"nazwa polska",null,null,"walor ",null,null,{"$f":"SUM(J470:J481)","v":0}]
[null,{"$f":"OFFSET(listy_slownikowe!$AG$2,I470,0)","v":" "},null,null,null,null,{"$f":"OFFSET(listy_slownikowe!$AI$2,I470,0)","v":" "},null,{"$f":"IFERROR(MATCH(D470,listy_slownikowe!$AH$3:$AH$326,0),0)","v":0},{"$f":"I470","v":0}]
[null,{"$f":"OFFSET(listy_slownikowe!$AG$2,I471,0)","v":" "},null,null,null,null,{"$f":"OFFSET(listy_slownikowe!$AI$2,I471,0)","v":" "},null,{"$f":"IFERROR(MATCH(D471,listy_slownikowe!$AH$3:$AH$326,0),0)","v":0},{"$f":"I471","v":0}]
[null,{"$f":"OFFSET(listy_slownikowe!$AG$2,I472,0)","v":" "},null,null,null,null,{"$f":"OFFSET(listy_slownikowe!$AI$2,I472,0)","v":" "},null,{"$f":"IFERROR(MATCH(D472,listy_slownikowe!$AH$3:$AH$326,0),0)","v":0},0]
[null,{"$f":"OFFSET(listy_slownikowe!$AG$2,I473,0)","v":" "},null,null,null,null,{"$f":"OFFSET(listy_slownikowe!$AI$2,I473,0)","v":" "},null,{"$f":"IFERROR(MATCH(D473,listy_slownikowe!$AH$3:$AH$326,0),0)","v":0},0]
[null,{"$f":"OFFSET(listy_slownikowe!$AG$2,I474,0)","v":" "},null,null,null,null,{"$f":"OFFSET(listy_slownikowe!$AI$2,I474,0)","v":" "},null,{"$f":"IFERROR(MATCH(D474,listy_slownikowe!$AH$3:$AH$326,0),0)","v":0},0]
[null,{"$f":"OFFSET(listy_slownikowe!$AG$2,I475,0)","v":" "},null,null,null,null,{"$f":"OFFSET(listy_slownikowe!$AI$2,I475,0)","v":" "},null,{"$f":"IFERROR(MATCH(D475,listy_slownikowe!$AH$3:$AH$326,0),0)","v":0},0]
[null,{"$f":"OFFSET(listy_slownikowe!$AG$2,I476,0)","v":" "},null,null,null,null,{"$f":"OFFSET(listy_slownikowe!$AI$2,I476,0)","v":" "},null,{"$f":"IFERROR(MATCH(D476,listy_slownikowe!$AH$3:$AH$326,0),0)","v":0},0]
[null,{"$f":"OFFSET(listy_slownikowe!$AG$2,I477,0)","v":" "},null,null,null,null,{"$f":"OFFSET(listy_slownikowe!$AI$2,I477,0)","v":" "},null,{"$f":"IFERROR(MATCH(D477,listy_slownikowe!$AH$3:$AH$326,0),0)","v":0},0]
[null,{"$f":"OFFSET(listy_slownikowe!$AG$2,I478,0)","v":" "},null,null,null,null,{"$f":"OFFSET(listy_slownikowe!$AI$2,I478,0)","v":" "},null,{"$f":"IFERROR(MATCH(D478,listy_slownikowe!$AH$3:$AH$326,0),0)","v":0},0]
[null,{"$f":"OFFSET(listy_slownikowe!$AG$2,I479,0)","v":" "},null,null,null,null,{"$f":"OFFSET(listy_slownikowe!$AI$2,I479,0)","v":" "},null,{"$f":"IFERROR(MATCH(D479,listy_slownikowe!$AH$3:$AH$326,0),0)","v":0},0]
[null,{"$f":"OFFSET(listy_slownikowe!$AG$2,I480,0)","v":" "},null,"",null,null,{"$f":"OFFSET(listy_slownikowe!$AI$2,I480,0)","v":" "},null,{"$f":"IFERROR(MATCH(D480,listy_slownikowe!$AH$3:$AH$326,0),0)","v":0},0]
[null,{"$f":"OFFSET(listy_slownikowe!$AG$2,I481,0)","v":" "},null,null,null,null,{"$f":"OFFSET(listy_slownikowe!$AI$2,I481,0)","v":" "},null,{"$f":"IFERROR(MATCH(D481,listy_slownikowe!$AH$3:$AH$326,0),0)","v":0},0]
[null,"Gatunki dominujące i subdominujące",null,null,null,null,null,null,null,{"$f":"J483","v":0}]
[null,"nazwa łacińska",null,"nazwa polska",null,null,"udział [%]",null,null,{"$f":"SUM(J484:J488)","v":0}]
[null,null,null,null,null,null,null,null,null,{"$f":"COUNTA(B484:G484)","v":0}]
[null,null,null,null,null,null,null,null,null,0]
[null,null,null,null,null,null,null,null,null,0]
[null,null,null,null,null,null,null,null,null,0]
[null,null,null,null,null,null,null,null,null,0]
[]
[null,"Spis gatunków numer:",null,null,null,null,{"$f":"G463+1","v":19},null,null,{"$f":"J494","v":0}]
[null,"Współrzędne geograficzne",null,null,null,null,null,null,null,{"$f":"J495","v":0}]
[null,"Długość geograficzna [E] ",null,null,"Szerokość geograficzna [N]",null,null,null,null,{"$f":"J495","v":0}]
[null,"stopnie","minuty","sekundy","stopnie","minuty","sekundy",null,null,{"$f":"J494","v":0}]
[null,null,null,null,null,null,null,null,null,{"$f":"J496+J510","v":0}]
[null,"Gatunki wskaźnikowe",null,null,null,null,null,null,null,{"$f":"J496","v":0}]
[null,"nazwa łacińska",null,"nazwa polska",null,null,"walor ",null,null,{"$f":"SUM(J497:J508)","v":0}]
[null,{"$f":"OFFSET(listy_slownikowe!$AG$2,I497,0)","v":" "},null,null,null,null,{"$f":"OFFSET(listy_slownikowe!$AI$2,I497,0)","v":" "},null,{"$f":"IFERROR(MATCH(D497,listy_slownikowe!$AH$3:$AH$326,0),0)","v":0},{"$f":"I497","v":0}]
[null,{"$f":"OFFSET(listy_slownikowe!$AG$2,I498,0)","v":" "},null,null,null,null,{"$f":"OFFSET(listy_slownikowe!$AI$2,I498,0)","v":" "},null,{"$f":"IFERROR(MATCH(D498,listy_slownikowe!$AH$3:$AH$326,0),0)","v":0},{"$f":"I498","v":0}]
[null,{"$f":"OFFSET(listy_slownikowe!$AG$2,I499,0)","v":" "},null,null,null,null,{"$f":"OFFSET(listy_slownikowe!$AI$2,I499,0)","v":" "},null,{"$f":"IFERROR(MATCH(D499,listy_slownikowe!$AH$3:$AH$326,0),0)","v":0},0]
[null,{"$f":"OFFSET(listy_slownikowe!$AG$2,I500,0)","v":" "},null,null,null,null,{"$f":"OFFSET(listy_slownikowe!$AI$2,I500,0)","v":" "},null,{"$f":"IFERROR(MATCH(D500,listy_slownikowe!$AH$3:$AH$326,0),0)","v":0},0]
[null,{"$f":"OFFSET(listy_slownikowe!$AG$2,I501,0)","v":" "},null,null,null,null,{"$f":"OFFSET(listy_slownikowe!$AI$2,I501,0)","v":" "},null,{"$f":"IFERROR(MATCH(D501,listy_slownikowe!$AH$3:$AH$326,0),0)","v":0},0]
[null,{"$f":"OFFSET(listy_slownikowe!$AG$2,I502,0)","v":" "},null,null,null,null,{"$f":"OFFSET(listy_slownikowe!$AI$2,I502,0)","v":" "},null,{"$f":"IFERROR(MATCH(D502,listy_slownikowe!$AH$3:$AH$326,0),0)","v":0},0]
[null,{"$f":"OFFSET(listy_slownikowe!$AG$2,I503,0)","v":" "},null,null,null,null,{"$f":"OFFSET(listy_slownikowe!$AI$2,I503,0)","v":" "},null,{"$f":"IFERROR(MATCH(D503,listy_slownikowe!$AH$3:$AH$326,0),0)","v":0},0]
[null,{"$f":"OFFSET(listy_slownikowe!$AG$2,I504,0)","v":" "},null,null,null,null,{"$f":"OFFSET(listy_slownikowe!$AI$2,I504,0)","v":" "},null,{"$f":"IFERROR(MATCH(D504,listy_slownikowe!$AH$3:$AH$326,0),0)","v":0},0]
[null,{"$f":"OFFSET(listy_slownikowe!$AG$2,I505,0)","v":" "},null,null,null,null,{"$f":"OFFSET(listy_slownikowe!$AI$2,I505,0)","v":" "},null,{"$f":"IFERROR(MATCH(D505,listy_slownikowe!$AH$3:$AH$326,0),0)","v":0},0]
[null,{"$f":"OFFSET(listy_slownikowe!$AG$2,I506,0)","v":" "},null,null,null,null,{"$f":"OFFSET(listy_slownikowe!$AI$2,I506,0)","v":" "},null,{"$f":"IFERROR(MATCH(D506,listy_slownikowe!$AH$3:$AH$326,0),0)","v":0},0]
[null,{"$f":"OFFSET(listy_slownikowe!$AG$2,I507,0)","v":" "},null,"",null,null,{"$f":"OFFSET(listy_slownikowe!$AI$2,I507,0)","v":" "},null,{"$f":"IFERROR(MATCH(D507,listy_slownikowe!$AH$3:$AH$326,0),0)","v":0},0]
[null,{"$f":"OFFSET(listy_slownikowe!$AG$2,I508,0)","v":" "},null,null,null,null,{"$f":"OFFSET(listy_slownikowe!$AI$2,I508,0)","v":" "},null,{"$f":"IFERROR(MATCH(D508,listy_slownikowe!$AH$3:$AH$326,0),0)","v":0},0]
[null,"Gatunki dominujące i subdominujące",null,null,null,null,null,null,null,{"$f":"J510","v":0}]
[null,"nazwa łacińska",null,"nazwa polska",null,null,"udział [%]",null,null,{"$f":"SUM(J511:J515)","v":0}]
[null,null,null,null,null,null,null,null,null,{"$f":"COUNTA(B511:G511)","v":0}]
[null,null,null,null,null,null,null,null,null,0]
[null,null,null,null,null,null,null,null,null,0]
[null,null,null,null,null,null,null,null,null,0]
[null,null,null,null,null,null,null,null,null,0]
[]
[null,"Spis gatunków numer:",null,null,null,null,{"$f":"G490+1","v":20},null,null,{"$f":"J521","v":0}]
[null,"Współrzędne geograficzne",null,null,null,null,null,null,null,{"$f":"J522","v":0}]
[null,"Długość geograficzna [E] ",null,null,"Szerokość geograficzna [N]",null,null,null,null,{"$f":"J522","v":0}]
[null,"stopnie","minuty","sekundy","stopnie","minuty","sekundy",null,null,{"$f":"J521","v":0}]
[null,null,null,null,null,null,null,null,null,{"$f":"J523+J537","v":0}]
[null,"Gatunki wskaźnikowe",null,null,null,null,null,null,null,{"$f":"J523","v":0}]
[null,"nazwa łacińska",null,"nazwa polska",null,null,"walor ",null,null,{"$f":"SUM(J524:J535)","v":0}]
[null,{"$f":"OFFSET(listy_slownikowe!$AG$2,I524,0)","v":" "},null,null,null,null,{"$f":"OFFSET(listy_slownikowe!$AI$2,I524,0)","v":" "},null,{"$f":"IFERROR(MATCH(D524,listy_slownikowe!$AH$3:$AH$326,0),0)","v":0},{"$f":"I524","v":0}]
[null,{"$f":"OFFSET(listy_slownikowe!$AG$2,I525,0)","v":" "},null,null,null,null,{"$f":"OFFSET(listy_slownikowe!$AI$2,I525,0)","v":" "},null,{"$f":"IFERROR(MATCH(D525,listy_slownikowe!$AH$3:$AH$326,0),0)","v":0},{"$f":"I525","v":0}]
[null,{"$f":"OFFSET(listy_slownikowe!$AG$2,I526,0)","v":" "},null,null,null,null,{"$f":"OFFSET(listy_slownikowe!$AI$2,I526,0)","v":" "},null,{"$f":"IFERROR(MATCH(D526,listy_slownikowe!$AH$3:$AH$326,0),0)","v":0},0]
[null,{"$f":"OFFSET(listy_slownikowe!$AG$2,I527,0)","v":" "},null,null,null,null,{"$f":"OFFSET(listy_slownikowe!$AI$2,I527,0)","v":" "},null,{"$f":"IFERROR(MATCH(D527,listy_slownikowe!$AH$3:$AH$326,0),0)","v":0},0]
[null,{"$f":"OFFSET(listy_slownikowe!$AG$2,I528,0)","v":" "},null,null,null,null,{"$f":"OFFSET(listy_slownikowe!$AI$2,I528,0)","v":" "},null,{"$f":"IFERROR(MATCH(D528,listy_slownikowe!$AH$3:$AH$326,0),0)","v":0},0]
[null,{"$f":"OFFSET(listy_slownikowe!$AG$2,I529,0)","v":" "},null,null,null,null,{"$f":"OFFSET(listy_slownikowe!$AI$2,I529,0)","v":" "},null,{"$f":"IFERROR(MATCH(D529,listy_slownikowe!$AH$3:$AH$326,0),0)","v":0},0]
[null,{"$f":"OFFSET(listy_slownikowe!$AG$2,I530,0)","v":" "},null,null,null,null,{"$f":"OFFSET(listy_slownikowe!$AI$2,I530,0)","v":" "},null,{"$f":"IFERROR(MATCH(D530,listy_slownikowe!$AH$3:$AH$326,0),0)","v":0},0]
[null,{"$f":"OFFSET(listy_slownikowe!$AG$2,I531,0)","v":" "},null,null,null,null,{"$f":"OFFSET(listy_slownikowe!$AI$2,I531,0)","v":" "},null,{"$f":"IFERROR(MATCH(D531,listy_slownikowe!$AH$3:$AH$326,0),0)","v":0},0]
[null,{"$f":"OFFSET(listy_slownikowe!$AG$2,I532,0)","v":" "},null,null,null,null,{"$f":"OFFSET(listy_slownikowe!$AI$2,I532,0)","v":" "},null,{"$f":"IFERROR(MATCH(D532,listy_slownikowe!$AH$3:$AH$326,0),0)","v":0},0]
[null,{"$f":"OFFSET(listy_slownikowe!$AG$2,I533,0)","v":" "},null,null,null,null,{"$f":"OFFSET(listy_slownikowe!$AI$2,I533,0)","v":" "},null,{"$f":"IFERROR(MATCH(D533,listy_slownikowe!$AH$3:$AH$326,0),0)","v":0},0]
[null,{"$f":"OFFSET(listy_slownikowe!$AG$2,I534,0)","v":" "},null,"",null,null,{"$f":"OFFSET(listy_slownikowe!$AI$2,I534,0)","v":" "},null,{"$f":"IFERROR(MATCH(D534,listy_slownikowe!$AH$3:$AH$326,0),0)","v":0},0]
[null,{"$f":"OFFSET(listy_slownikowe!$AG$2,I535,0)","v":" "},null,null,null,null,{"$f":"OFFSET(listy_slownikowe!$AI$2,I535,0)","v":" "},null,{"$f":"IFERROR(MATCH(D535,listy_slownikowe!$AH$3:$AH$326,0),0)","v":0},0]
[null,"Gatunki dominujące i subdominujące",null,null,null,null,null,null,null,{"$f":"J537","v":0}]
[null,"nazwa łacińska",null,"nazwa polska",null,null,"udział [%]",null,null,{"$f":"SUM(J538:J542)","v":0}]
[null,null,null,null,null,null,null,null,null,{"$f":"COUNTA(B538:G538)","v":0}]
[null,null,null,null,null,null,null,null,null,0]
[null,null,null,null,null,null,null,null,null,0]
[null,null,null,null,null,null,null,null,null,0]
[null,null,null,null,null,null,null,null,null,0]
[]
[null,"Spis gatunków numer:",null,null,null,null,{"$f":"G517+1","v":21},null,null,{"$f":"J548","v":0}]
[null,"Współrzędne geograficzne",null,null,null,null,null,null,null,{"$f":"J549","v":0}]
[null,"Długość geograficzna [E] ",null,null,"Szerokość geograficzna [N]",null,null,null,null,{"$f":"J549","v":0}]
[null,"stopnie","minuty","sekundy","stopnie","minuty","sekundy",null,null,{"$f":"J548","v":0}]
[null,null,null,null,null,null,null,null,null,{"$f":"J550+J564","v":0}]
[null,"Gatunki wskaźnikowe",null,null,null,null,null,null,null,{"$f":"J550","v":0}]
[null,"nazwa łacińska",null,"nazwa polska",null,null,"walor ",null,null,{"$f":"SUM(J551:J562)","v":0}]
[null,{"$f":"OFFSET(listy_slownikowe!$AG$2,I551,0)","v":" "},null,null,null,null,{"$f":"OFFSET(listy_slownikowe!$AI$2,I551,0)","v":" "},null,{"$f":"IFERROR(MATCH(D551,listy_slownikowe!$AH$3:$AH$326,0),0)","v":0},{"$f":"I551","v":0}]
[null,{"$f":"OFFSET(listy_slownikowe!$AG$2,I552,0)","v":" "},null,null,null,null,{"$f":"OFFSET(listy_slownikowe!$AI$2,I552,0)","v":" "},null,{"$f":"IFERROR(MATCH(D552,listy_slownikowe!$AH$3:$AH$326,0),0)","v":0},{"$f":"I552","v":0}]
[null,{"$f":"OFFSET(listy_slownikowe!$AG$2,I553,0)","v":" "},null,null,null,null,{"$f":"OFFSET(listy_slownikowe!$AI$2,I553,0)","v":" "},null,{"$f":"IFERROR(MATCH(D553,listy_slownikowe!$AH$3:$AH$326,0),0)","v":0},0]
[null,{"$f":"OFFSET(listy_slownikowe!$AG$2,I554,0)","v":" "},null,null,null,null,{"$f":"OFFSET(listy_slownikowe!$AI$2,I554,0)","v":" "},null,{"$f":"IFERROR(MATCH(D554,listy_slownikowe!$AH$3:$AH$326,0),0)","v":0},0]
[null,{"$f":"OFFSET(listy_slownikowe!$AG$2,I555,0)","v":" "},null,null,null,null,{"$f":"OFFSET(listy_slownikowe!$AI$2,I555,0)","v":" "},null,{"$f":"IFERROR(MATCH(D555,listy_slownikowe!$AH$3:$AH$326,0),0)","v":0},0]
[null,{"$f":"OFFSET(listy_slownikowe!$AG$2,I556,0)","v":" "},null,null,null,null,{"$f":"OFFSET(listy_slownikowe!$AI$2,I556,0)","v":" "},null,{"$f":"IFERROR(MATCH(D556,listy_slownikowe!$AH$3:$AH$326,0),0)","v":0},0]
[null,{"$f":"OFFSET(listy_slownikowe!$AG$2,I557,0)","v":" "},null,null,null,null,{"$f":"OFFSET(listy_slownikowe!$AI$2,I557,0)","v":" "},null,{"$f":"IFERROR(MATCH(D557,listy_slownikowe!$AH$3:$AH$326,0),0)","v":0},0]
[null,{"$f":"OFFSET(listy_slownikowe!$AG$2,I558,0)","v":" "},null,null,null,null,{"$f":"OFFSET(listy_slownikowe!$AI$2,I558,0)","v":" "},null,{"$f":"IFERROR(MATCH(D558,listy_slownikowe!$AH$3:$AH$326,0),0)","v":0},0]
[null,{"$f":"OFFSET(listy_slownikowe!$AG$2,I559,0)","v":" "},null,null,null,null,{"$f":"OFFSET(listy_slownikowe!$AI$2,I559,0)","v":" "},null,{"$f":"IFERROR(MATCH(D559,listy_slownikowe!$AH$3:$AH$326,0),0)","v":0},0]
[null,{"$f":"OFFSET(listy_slownikowe!$AG$2,I560,0)","v":" "},null,null,null,null,{"$f":"OFFSET(listy_slownikowe!$AI$2,I560,0)","v":" "},null,{"$f":"IFERROR(MATCH(D560,listy_slownikowe!$AH$3:$AH$326,0),0)","v":0},0]
[null,{"$f":"OFFSET(listy_slownikowe!$AG$2,I561,0)","v":" "},null,"",null,null,{"$f":"OFFSET(listy_slownikowe!$AI$2,I561,0)","v":" "},null,{"$f":"IFERROR(MATCH(D561,listy_slownikowe!$AH$3:$AH$326,0),0)","v":0},0]
[null,{"$f":"OFFSET(listy_slownikowe!$AG$2,I562,0)","v":" "},null,null,null,null,{"$f":"OFFSET(listy_slownikowe!$AI$2,I562,0)","v":" "},null,{"$f":"IFERROR(MATCH(D562,listy_slownikowe!$AH$3:$AH$326,0),0)","v":0},0]
[null,"Gatunki dominujące i subdominujące",null,null,null,null,null,null,null,{"$f":"J564","v":0}]
[null,"nazwa łacińska",null,"nazwa polska",null,null,"udział [%]",null,null,{"$f":"SUM(J565:J569)","v":0}]
[null,null,null,null,null,null,null,null,null,{"$f":"COUNTA(B565:G565)","v":0}]
[null,null,null,null,null,null,null,null,null,0]
[null,null,null,null,null,null,null,null,null,0]
[null,null,null,null,null,null,null,null,null,0]
[null,null,null,null,null,null,null,null,null,0]
[]
[null,"Spis gatunków numer:",null,null,null,null,{"$f":"G544+1","v":22},null,null,{"$f":"J575","v":0}]
[null,"Współrzędne geograficzne",null,null,null,null,null,null,null,{"$f":"J576","v":0}]
[null,"Długość geograficzna [E] ",null,null,"Szerokość geograficzna [N]",null,null,null,null,{"$f":"J576","v":0}]
[null,"stopnie","minuty","sekundy","stopnie","minuty","sekundy",null,null,{"$f":"J575","v":0}]
[null,null,null,null,null,null,null,null,null,{"$f":"J577+J591","v":0}]
[null,"Gatunki wskaźnikowe",null,null,null,null,null,null,null,{"$f":"J577","v":0}]
[null,"nazwa łacińska",null,"nazwa polska",null,null,"walor ",null,null,{"$f":"SUM(J578:J589)","v":0}]
[null,{"$f":"OFFSET(listy_slownikowe!$AG$2,I578,0)","v":" "},null,null,null,null,{"$f":"OFFSET(listy_slownikowe!$AI$2,I578,0)","v":" "},null,{"$f":"IFERROR(MATCH(D578,listy_slownikowe!$AH$3:$AH$326,0),0)","v":0},{"$f":"I578","v":0}]
[null,{"$f":"OFFSET(listy_slownikowe!$AG$2,I579,0)","v":" "},null,null,null,null,{"$f":"OFFSET(listy_slownikowe!$AI$2,I579,0)","v":" "},null,{"$f":"IFERROR(MATCH(D579,listy_slownikowe!$AH$3:$AH$326,0),0)","v":0},{"$f":"I579","v":0}]
[null,{"$f":"OFFSET(listy_slownikowe!$AG$2,I580,0)","v":" "},null,null,null,null,{"$f":"OFFSET(listy_slownikowe!$AI$2,I580,0)","v":" "},null,{"$f":"IFERROR(MATCH(D580,listy_slownikowe!$AH$3:$AH$326,0),0)","v":0},0]
[null,{"$f":"OFFSET(listy_slownikowe!$AG$2,I581,0)","v":" "},null,null,null,null,{"$f":"OFFSET(listy_slownikowe!$AI$2,I581,0)","v":" "},null,{"$f":"IFERROR(MATCH(D581,listy_slownikowe!$AH$3:$AH$326,0),0)","v":0},0]
[null,{"$f":"OFFSET(listy_slownikowe!$AG$2,I582,0)","v":" "},null,null,null,null,{"$f":"OFFSET(listy_slownikowe!$AI$2,I582,0)","v":" "},null,{"$f":"IFERROR(MATCH(D582,listy_slownikowe!$AH$3:$AH$326,0),0)","v":0},0]
[null,{"$f":"OFFSET(listy_slownikowe!$AG$2,I583,0)","v":" "},null,null,null,null,{"$f":"OFFSET(listy_slownikowe!$AI$2,I583,0)","v":" "},null,{"$f":"IFERROR(MATCH(D583,listy_slownikowe!$AH$3:$AH$326,0),0)","v":0},0]
[null,{"$f":"OFFSET(listy_slownikowe!$AG$2,I584,0)","v":" "},null,null,null,null,{"$f":"OFFSET(listy_slownikowe!$AI$2,I584,0)","v":" "},null,{"$f":"IFERROR(MATCH(D584,listy_slownikowe!$AH$3:$AH$326,0),0)","v":0},0]
[null,{"$f":"OFFSET(listy_slownikowe!$AG$2,I585,0)","v":" "},null,null,null,null,{"$f":"OFFSET(listy_slownikowe!$AI$2,I585,0)","v":" "},null,{"$f":"IFERROR(MATCH(D585,listy_slownikowe!$AH$3:$AH$326,0),0)","v":0},0]
[null,{"$f":"OFFSET(listy_slownikowe!$AG$2,I586,0)","v":" "},null,null,null,null,{"$f":"OFFSET(listy_slownikowe!$AI$2,I586,0)","v":" "},null,{"$f":"IFERROR(MATCH(D586,listy_slownikowe!$AH$3:$AH$326,0),0)","v":0},0]
[null,{"$f":"OFFSET(listy_slownikowe!$AG$2,I587,0)","v":" "},null,null,null,null,{"$f":"OFFSET(listy_slownikowe!$AI$2,I587,0)","v":" "},null,{"$f":"IFERROR(MATCH(D587,listy_slownikowe!$AH$3:$AH$326,0),0)","v":0},0]
[null,{"$f":"OFFSET(listy_slownikowe!$AG$2,I588,0)","v":" "},null,"",null,null,{"$f":"OFFSET(listy_slownikowe!$AI$2,I588,0)","v":" "},null,{"$f":"IFERROR(MATCH(D588,listy_slownikowe!$AH$3:$AH$326,0),0)","v":0},0]
[null,{"$f":"OFFSET(listy_slownikowe!$AG$2,I589,0)","v":" "},null,null,null,null,{"$f":"OFFSET(listy_slownikowe!$AI$2,I589,0)","v":" "},null,{"$f":"IFERROR(MATCH(D589,listy_slownikowe!$AH$3:$AH$326,0),0)","v":0},0]
[null,"Gatunki dominujące i subdominujące",null,null,null,null,null,null,null,{"$f":"J591","v":0}]
[null,"nazwa łacińska",null,"nazwa polska",null,null,"udział [%]",null,null,{"$f":"SUM(J592:J596)","v":0}]
[null,null,null,null,null,null,null,null,null,{"$f":"COUNTA(B592:G592)","v":0}]
[null,null,null,null,null,null,null,null,null,0]
[null,null,null,null,null,null,null,null,null,0]
[null,null,null,null,null,null,null,null,null,0]
[null,null,null,null,null,null,null,null,null,0]
[]
[null,"Spis gatunków numer:",null,null,null,null,{"$f":"G571+1","v":23},null,null,{"$f":"J602","v":0}]
[null,"Współrzędne geograficzne",null,null,null,null,null,null,null,{"$f":"J603","v":0}]
[null,"Długość geograficzna [E] ",null,null,"Szerokość geograficzna [N]",null,null,null,null,{"$f":"J603","v":0}]
[null,"stopnie","minuty","sekundy","stopnie","minuty","sekundy",null,null,{"$f":"J602","v":0}]
[null,null,null,null,null,null,null,null,null,{"$f":"J604+J618","v":0}]
[null,"Gatunki wskaźnikowe",null,null,null,null,null,null,null,{"$f":"J604","v":0}]
[null,"nazwa łacińska",null,"nazwa polska",null,null,"walor ",null,null,{"$f":"SUM(J605:J616)","v":0}]
[null,{"$f":"OFFSET(listy_slownikowe!$AG$2,I605,0)","v":" "},null,null,null,null,{"$f":"OFFSET(listy_slownikowe!$AI$2,I605,0)","v":" "},null,{"$f":"IFERROR(MATCH(D605,listy_slownikowe!$AH$3:$AH$326,0),0)","v":0},{"$f":"I605","v":0}]
[null,{"$f":"OFFSET(listy_slownikowe!$AG$2,I606,0)","v":" "},null,null,null,null,{"$f":"OFFSET(listy_slownikowe!$AI$2,I606,0)","v":" "},null,{"$f":"IFERROR(MATCH(D606,listy_slownikowe!$AH$3:$AH$326,0),0)","v":0},{"$f":"I606","v":0}]
[null,{"$f":"OFFSET(listy_slownikowe!$AG$2,I607,0)","v":" "},null,null,null,null,{"$f":"OFFSET(listy_slownikowe!$AI$2,I607,0)","v":" "},null,{"$f":"IFERROR(MATCH(D607,listy_slownikowe!$AH$3:$AH$326,0),0)","v":0},0]
[null,{"$f":"OFFSET(listy_slownikowe!$AG$2,I608,0)","v":" "},null,null,null,null,{"$f":"OFFSET(listy_slownikowe!$AI$2,I608,0)","v":" "},null,{"$f":"IFERROR(MATCH(D608,listy_slownikowe!$AH$3:$AH$326,0),0)","v":0},0]
[null,{"$f":"OFFSET(listy_slownikowe!$AG$2,I609,0)","v":" "},null,null,null,null,{"$f":"OFFSET(listy_slownikowe!$AI$2,I609,0)","v":" "},null,{"$f":"IFERROR(MATCH(D609,listy_slownikowe!$AH$3:$AH$326,0),0)","v":0},0]
[null,{"$f":"OFFSET(listy_slownikowe!$AG$2,I610,0)","v":" "},null,null,null,null,{"$f":"OFFSET(listy_slownikowe!$AI$2,I610,0)","v":" "},null,{"$f":"IFERROR(MATCH(D610,listy_slownikowe!$AH$3:$AH$326,0),0)","v":0},0]
[null,{"$f":"OFFSET(listy_slownikowe!$AG$2,I611,0)","v":" "},null,null,null,null,{"$f":"OFFSET(listy_slownikowe!$AI$2,I611,0)","v":" "},null,{"$f":"IFERROR(MATCH(D611,listy_slownikowe!$AH$3:$AH$326,0),0)","v":0},0]
[null,{"$f":"OFFSET(listy_slownikowe!$AG$2,I612,0)","v":" "},null,null,null,null,{"$f":"OFFSET(listy_slownikowe!$AI$2,I612,0)","v":" "},null,{"$f":"IFERROR(MATCH(D612,listy_slownikowe!$AH$3:$AH$326,0),0)","v":0},0]
[null,{"$f":"OFFSET(listy_slownikowe!$AG$2,I613,0)","v":" "},null,null,null,null,{"$f":"OFFSET(listy_slownikowe!$AI$2,I613,0)","v":" "},null,{"$f":"IFERROR(MATCH(D613,listy_slownikowe!$AH$3:$AH$326,0),0)","v":0},0]
[null,{"$f":"OFFSET(listy_slownikowe!$AG$2,I614,0)","v":" "},null,null,null,null,{"$f":"OFFSET(listy_slownikowe!$AI$2,I614,0)","v":" "},null,{"$f":"IFERROR(MATCH(D614,listy_slownikowe!$AH$3:$AH$326,0),0)","v":0},0]
[null,{"$f":"OFFSET(listy_slownikowe!$AG$2,I615,0)","v":" "},null,"",null,null,{"$f":"OFFSET(listy_slownikowe!$AI$2,I615,0)","v":" "},null,{"$f":"IFERROR(MATCH(D615,listy_slownikowe!$AH$3:$AH$326,0),0)","v":0},0]
[null,{"$f":"OFFSET(listy_slownikowe!$AG$2,I616,0)","v":" "},null,null,null,null,{"$f":"OFFSET(listy_slownikowe!$AI$2,I616,0)","v":" "},null,{"$f":"IFERROR(MATCH(D616,listy_slownikowe!$AH$3:$AH$326,0),0)","v":0},0]
[null,"Gatunki dominujące i subdominujące",null,null,null,null,null,null,null,{"$f":"J618","v":0}]
[null,"nazwa łacińska",null,"nazwa polska",null,null,"udział [%]",null,null,{"$f":"SUM(J619:J623)","v":0}]
[null,null,null,null,null,null,null,null,null,{"$f":"COUNTA(B619:G619)","v":0}]
[null,null,null,null,null,null,null,null,null,0]
[null,null,null,null,null,null,null,null,null,0]
[null,null,null,null,null,null,null,null,null,0]
[null,null,null,null,null,null,null,null,null,0]
[]
[null,"Spis gatunków numer:",null,null,null,null,{"$f":"G598+1","v":24},null,null,{"$f":"J629","v":0}]
[null,"Współrzędne geograficzne",null,null,null,null,null,null,null,{"$f":"J630","v":0}]
[null,"Długość geograficzna [E] ",null,null,"Szerokość geograficzna [N]",null,null,null,null,{"$f":"J630","v":0}]
[null,"stopnie","minuty","sekundy","stopnie","minuty","sekundy",null,null,{"$f":"J629","v":0}]
[null,null,null,null,null,null,null,null,null,{"$f":"J631+J645","v":0}]
[null,"Gatunki wskaźnikowe",null,null,null,null,null,null,null,{"$f":"J631","v":0}]
[null,"nazwa łacińska",null,"nazwa polska",null,null,"walor ",null,null,{"$f":"SUM(J632:J643)","v":0}]
[null,{"$f":"OFFSET(listy_slownikowe!$AG$2,I632,0)","v":" "},null,null,null,null,{"$f":"OFFSET(listy_slownikowe!$AI$2,I632,0)","v":" "},null,{"$f":"IFERROR(MATCH(D632,listy_slownikowe!$AH$3:$AH$326,0),0)","v":0},{"$f":"I632","v":0}]
[null,{"$f":"OFFSET(listy_slownikowe!$AG$2,I633,0)","v":" "},null,null,null,null,{"$f":"OFFSET(listy_slownikowe!$AI$2,I633,0)","v":" "},null,{"$f":"IFERROR(MATCH(D633,listy_slownikowe!$AH$3:$AH$326,0),0)","v":0},{"$f":"I633","v":0}]
[null,{"$f":"OFFSET(listy_slownikowe!$AG$2,I634,0)","v":" "},null,null,null,null,{"$f":"OFFSET(listy_slownikowe!$AI$2,I634,0)","v":" "},null,{"$f":"IFERROR(MATCH(D634,listy_slownikowe!$AH$3:$AH$326,0),0)","v":0},0]
[null,{"$f":"OFFSET(listy_slownikowe!$AG$2,I635,0)","v":" "},null,null,null,null,{"$f":"OFFSET(listy_slownikowe!$AI$2,I635,0)","v":" "},null,{"$f":"IFERROR(MATCH(D635,listy_slownikowe!$AH$3:$AH$326,0),0)","v":0},0]
[null,{"$f":"OFFSET(listy_slownikowe!$AG$2,I636,0)","v":" "},null,null,null,null,{"$f":"OFFSET(listy_slownikowe!$AI$2,I636,0)","v":" "},null,{"$f":"IFERROR(MATCH(D636,listy_slownikowe!$AH$3:$AH$326,0),0)","v":0},0]
[null,{"$f":"OFFSET(listy_slownikowe!$AG$2,I637,0)","v":" "},null,null,null,null,{"$f":"OFFSET(listy_slownikowe!$AI$2,I637,0)","v":" "},null,{"$f":"IFERROR(MATCH(D637,listy_slownikowe!$AH$3:$AH$326,0),0)","v":0},0]
[null,{"$f":"OFFSET(listy_slownikowe!$AG$2,I638,0)","v":" "},null,null,null,null,{"$f":"OFFSET(listy_slownikowe!$AI$2,I638,0)","v":" "},null,{"$f":"IFERROR(MATCH(D638,listy_slownikowe!$AH$3:$AH$326,0),0)","v":0},0]
[null,{"$f":"OFFSET(listy_slownikowe!$AG$2,I639,0)","v":" "},null,null,null,null,{"$f":"OFFSET(listy_slownikowe!$AI$2,I639,0)","v":" "},null,{"$f":"IFERROR(MATCH(D639,listy_slownikowe!$AH$3:$AH$326,0),0)","v":0},0]
[null,{"$f":"OFFSET(listy_slownikowe!$AG$2,I640,0)","v":" "},null,null,null,null,{"$f":"OFFSET(listy_slownikowe!$AI$2,I640,0)","v":" "},null,{"$f":"IFERROR(MATCH(D640,listy_slownikowe!$AH$3:$AH$326,0),0)","v":0},0]
[null,{"$f":"OFFSET(listy_slownikowe!$AG$2,I641,0)","v":" "},null,null,null,null,{"$f":"OFFSET(listy_slownikowe!$AI$2,I641,0)","v":" "},null,{"$f":"IFERROR(MATCH(D641,listy_slownikowe!$AH$3:$AH$326,0),0)","v":0},0]
[null,{"$f":"OFFSET(listy_slownikowe!$AG$2,I642,0)","v":" "},null,"",null,null,{"$f":"OFFSET(listy_slownikowe!$AI$2,I642,0)","v":" "},null,{"$f":"IFERROR(MATCH(D642,listy_slownikowe!$AH$3:$AH$326,0),0)","v":0},0]
[null,{"$f":"OFFSET(listy_slownikowe!$AG$2,I643,0)","v":" "},null,null,null,null,{"$f":"OFFSET(listy_slownikowe!$AI$2,I643,0)","v":" "},null,{"$f":"IFERROR(MATCH(D643,listy_slownikowe!$AH$3:$AH$326,0),0)","v":0},0]
[null,"Gatunki dominujące i subdominujące",null,null,null,null,null,null,null,{"$f":"J645","v":0}]
[null,"nazwa łacińska",null,"nazwa polska",null,null,"udział [%]",null,null,{"$f":"SUM(J646:J650)","v":0}]
[null,null,null,null,null,null,null,null,null,{"$f":"COUNTA(B646:G646)","v":0}]
[null,null,null,null,null,null,null,null,null,0]
[null,null,null,null,null,null,null,null,null,0]
[null,null,null,null,null,null,null,null,null,0]
[null,null,null,null,null,null,null,null,null,0]
[]
[null,"Spis gatunków numer:",null,null,null,null,{"$f":"G625+1","v":25},null,null,{"$f":"J656","v":0}]
[null,"Współrzędne geograficzne",null,null,null,null,null,null,null,{"$f":"J657","v":0}]
[null,"Długość geograficzna [E] ",null,null,"Szerokość geograficzna [N]",null,null,null,null,{"$f":"J657","v":0}]
[null,"stopnie","minuty","sekundy","stopnie","minuty","sekundy",null,null,{"$f":"J656","v":0}]
[null,null,null,null,null,null,null,null,null,{"$f":"J658+J672","v":0}]
[null,"Gatunki wskaźnikowe",null,null,null,null,null,null,null,{"$f":"J658","v":0}]
[null,"nazwa łacińska",null,"nazwa polska",null,null,"walor ",null,null,{"$f":"SUM(J659:J670)","v":0}]
[null,{"$f":"OFFSET(listy_slownikowe!$AG$2,I659,0)","v":" "},null,null,null,null,{"$f":"OFFSET(listy_slownikowe!$AI$2,I659,0)","v":" "},null,{"$f":"IFERROR(MATCH(D659,listy_slownikowe!$AH$3:$AH$326,0),0)","v":0},{"$f":"I659","v":0}]
[null,{"$f":"OFFSET(listy_slownikowe!$AG$2,I660,0)","v":" "},null,null,null,null,{"$f":"OFFSET(listy_slownikowe!$AI$2,I660,0)","v":" "},null,{"$f":"IFERROR(MATCH(D660,listy_slownikowe!$AH$3:$AH$326,0),0)","v":0},{"$f":"I660","v":0}]
[null,{"$f":"OFFSET(listy_slownikowe!$AG$2,I661,0)","v":" "},null,null,null,null,{"$f":"OFFSET(listy_slownikowe!$AI$2,I661,0)","v":" "},null,{"$f":"IFERROR(MATCH(D661,listy_slownikowe!$AH$3:$AH$326,0),0)","v":0},0]
[null,{"$f":"OFFSET(listy_slownikowe!$AG$2,I662,0)","v":" "},null,null,null,null,{"$f":"OFFSET(listy_slownikowe!$AI$2,I662,0)","v":" "},null,{"$f":"IFERROR(MATCH(D662,listy_slownikowe!$AH$3:$AH$326,0),0)","v":0},0]
[null,{"$f":"OFFSET(listy_slownikowe!$AG$2,I663,0)","v":" "},null,null,null,null,{"$f":"OFFSET(listy_slownikowe!$AI$2,I663,0)","v":" "},null,{"$f":"IFERROR(MATCH(D663,listy_slownikowe!$AH$3:$AH$326,0),0)","v":0},0]
[null,{"$f":"OFFSET(listy_slownikowe!$AG$2,I664,0)","v":" "},null,null,null,null,{"$f":"OFFSET(listy_slownikowe!$AI$2,I664,0)","v":" "},null,{"$f":"IFERROR(MATCH(D664,listy_slownikowe!$AH$3:$AH$326,0),0)","v":0},0]
[null,{"$f":"OFFSET(listy_slownikowe!$AG$2,I665,0)","v":" "},null,null,null,null,{"$f":"OFFSET(listy_slownikowe!$AI$2,I665,0)","v":" "},null,{"$f":"IFERROR(MATCH(D665,listy_slownikowe!$AH$3:$AH$326,0),0)","v":0},0]
[null,{"$f":"OFFSET(listy_slownikowe!$AG$2,I666,0)","v":" "},null,null,null,null,{"$f":"OFFSET(listy_slownikowe!$AI$2,I666,0)","v":" "},null,{"$f":"IFERROR(MATCH(D666,listy_slownikowe!$AH$3:$AH$326,0),0)","v":0},0]
[null,{"$f":"OFFSET(listy_slownikowe!$AG$2,I667,0)","v":" "},null,null,null,null,{"$f":"OFFSET(listy_slownikowe!$AI$2,I667,0)","v":" "},null,{"$f":"IFERROR(MATCH(D667,listy_slownikowe!$AH$3:$AH$326,0),0)","v":0},0]
[null,{"$f":"OFFSET(listy_slownikowe!$AG$2,I668,0)","v":" "},null,null,null,null,{"$f":"OFFSET(listy_slownikowe!$AI$2,I668,0)","v":" "},null,{"$f":"IFERROR(MATCH(D668,listy_slownikowe!$AH$3:$AH$326,0),0)","v":0},0]
[null,{"$f":"OFFSET(listy_slownikowe!$AG$2,I669,0)","v":" "},null,"",null,null,{"$f":"OFFSET(listy_slownikowe!$AI$2,I669,0)","v":" "},null,{"$f":"IFERROR(MATCH(D669,listy_slownikowe!$AH$3:$AH$326,0),0)","v":0},0]
[null,{"$f":"OFFSET(listy_slownikowe!$AG$2,I670,0)","v":" "},null,null,null,null,{"$f":"OFFSET(listy_slownikowe!$AI$2,I670,0)","v":" "},null,{"$f":"IFERROR(MATCH(D670,listy_slownikowe!$AH$3:$AH$326,0),0)","v":0},0]
[null,"Gatunki dominujące i subdominujące",null,null,null,null,null,null,null,{"$f":"J672","v":0}]
[null,"nazwa łacińska",null,"nazwa polska",null,null,"udział [%]",null,null,{"$f":"SUM(J673:J677)","v":0}]
[null,null,null,null,null,null,null,null,null,{"$f":"COUNTA(B673:G673)","v":0}]
[null,null,null,null,null,null,null,null,null,0]
[null,null,null,null,null,null,null,null,null,0]
[null,null,null,null,null,null,null,null,null,0]
[null,null,null,null,null,null,null,null,null,0]
[]
[null,"Spis gatunków numer:",null,null,null,null,{"$f":"G652+1","v":26},null,null,{"$f":"J683","v":0}]
[null,"Współrzędne geograficzne",null,null,null,null,null,null,null,{"$f":"J684","v":0}]
[null,"Długość geograficzna [E] ",null,null,"Szerokość geograficzna [N]",null,null,null,null,{"$f":"J684","v":0}]
[null,"stopnie","minuty","sekundy","stopnie","minuty","sekundy",null,null,{"$f":"J683","v":0}]
[null,null,null,null,null,null,null,null,null,{"$f":"J685+J699","v":0}]
[null,"Gatunki wskaźnikowe",null,null,null,null,null,null,null,{"$f":"J685","v":0}]
[null,"nazwa łacińska",null,"nazwa polska",null,null,"walor ",null,null,{"$f":"SUM(J686:J697)","v":0}]
[null,{"$f":"OFFSET(listy_slownikowe!$AG$2,I686,0)","v":" "},null,null,null,null,{"$f":"OFFSET(listy_slownikowe!$AI$2,I686,0)","v":" "},null,{"$f":"IFERROR(MATCH(D686,listy_slownikowe!$AH$3:$AH$326,0),0)","v":0},{"$f":"I686","v":0}]
[null,{"$f":"OFFSET(listy_slownikowe!$AG$2,I687,0)","v":" "},null,null,null,null,{"$f":"OFFSET(listy_slownikowe!$AI$2,I687,0)","v":" "},null,{"$f":"IFERROR(MATCH(D687,listy_slownikowe!$AH$3:$AH$326,0),0)","v":0},{"$f":"I687","v":0}]
[null,{"$f":"OFFSET(listy_slownikowe!$AG$2,I688,0)","v":" "},null,null,null,null,{"$f":"OFFSET(listy_slownikowe!$AI$2,I688,0)","v":" "},null,{"$f":"IFERROR(MATCH(D688,listy_slownikowe!$AH$3:$AH$326,0),0)","v":0},0]
[null,{"$f":"OFFSET(listy_slownikowe!$AG$2,I689,0)","v":" "},null,null,null,null,{"$f":"OFFSET(listy_slownikowe!$AI$2,I689,0)","v":" "},null,{"$f":"IFERROR(MATCH(D689,listy_slownikowe!$AH$3:$AH$326,0),0)","v":0},0]
[null,{"$f":"OFFSET(listy_slownikowe!$AG$2,I690,0)","v":" "},null,null,null,null,{"$f":"OFFSET(listy_slownikowe!$AI$2,I690,0)","v":" "},null,{"$f":"IFERROR(MATCH(D690,listy_slownikowe!$AH$3:$AH$326,0),0)","v":0},0]
[null,{"$f":"OFFSET(listy_slownikowe!$AG$2,I691,0)","v":" "},null,null,null,null,{"$f":"OFFSET(listy_slownikowe!$AI$2,I691,0)","v":" "},null,{"$f":"IFERROR(MATCH(D691,listy_slownikowe!$AH$3:$AH$326,0),0)","v":0},0]
[null,{"$f":"OFFSET(listy_slownikowe!$AG$2,I692,0)","v":" "},null,null,null,null,{"$f":"OFFSET(listy_slownikowe!$AI$2,I692,0)","v":" "},null,{"$f":"IFERROR(MATCH(D692,listy_slownikowe!$AH$3:$AH$326,0),0)","v":0},0]
[null,{"$f":"OFFSET(listy_slownikowe!$AG$2,I693,0)","v":" "},null,null,null,null,{"$f":"OFFSET(listy_slownikowe!$AI$2,I693,0)","v":" "},null,{"$f":"IFERROR(MATCH(D693,listy_slownikowe!$AH$3:$AH$326,0),0)","v":0},0]
[null,{"$f":"OFFSET(listy_slownikowe!$AG$2,I694,0)","v":" "},null,null,null,null,{"$f":"OFFSET(listy_slownikowe!$AI$2,I694,0)","v":" "},null,{"$f":"IFERROR(MATCH(D694,listy_slownikowe!$AH$3:$AH$326,0),0)","v":0},0]
[null,{"$f":"OFFSET(listy_slownikowe!$AG$2,I695,0)","v":" "},null,null,null,null,{"$f":"OFFSET(listy_slownikowe!$AI$2,I695,0)","v":" "},null,{"$f":"IFERROR(MATCH(D695,listy_slownikowe!$AH$3:$AH$326,0),0)","v":0},0]
[null,{"$f":"OFFSET(listy_slownikowe!$AG$2,I696,0)","v":" "},null,"",null,null,{"$f":"OFFSET(listy_slownikowe!$AI$2,I696,0)","v":" "},null,{"$f":"IFERROR(MATCH(D696,listy_slownikowe!$AH$3:$AH$326,0),0)","v":0},0]
[null,{"$f":"OFFSET(listy_slownikowe!$AG$2,I697,0)","v":" "},null,null,null,null,{"$f":"OFFSET(listy_slownikowe!$AI$2,I697,0)","v":" "},null,{"$f":"IFERROR(MATCH(D697,listy_slownikowe!$AH$3:$AH$326,0),0)","v":0},0]
[null,"Gatunki dominujące i subdominujące",null,null,null,null,null,null,null,{"$f":"J699","v":0}]
[null,"nazwa łacińska",null,"nazwa polska",null,null,"udział [%]",null,null,{"$f":"SUM(J700:J704)","v":0}]
[null,null,null,null,null,null,null,null,null,{"$f":"COUNTA(B700:G700)","v":0}]
[null,null,null,null,null,null,null,null,null,0]
[null,null,null,null,null,null,null,null,null,0]
[null,null,null,null,null,null,null,null,null,0]
[null,null,null,null,null,null,null,null,null,0]
[]
[null,"Spis gatunków numer:",null,null,null,null,{"$f":"G679+1","v":27},null,null,{"$f":"J710","v":0}]
[null,"Współrzędne geograficzne",null,null,null,null,null,null,null,{"$f":"J711","v":0}]
[null,"Długość geograficzna [E] ",null,null,"Szerokość geograficzna [N]",null,null,null,null,{"$f":"J711","v":0}]
[null,"stopnie","minuty","sekundy","stopnie","minuty","sekundy",null,null,{"$f":"J710","v":0}]
[null,null,null,null,null,null,null,null,null,{"$f":"J712+J726","v":0}]
[null,"Gatunki wskaźnikowe",null,null,null,null,null,null,null,{"$f":"J712","v":0}]
[null,"nazwa łacińska",null,"nazwa polska",null,null,"walor ",null,null,{"$f":"SUM(J713:J724)","v":0}]
[null,{"$f":"OFFSET(listy_slownikowe!$AG$2,I713,0)","v":" "},null,null,null,null,{"$f":"OFFSET(listy_slownikowe!$AI$2,I713,0)","v":" "},null,{"$f":"IFERROR(MATCH(D713,listy_slownikowe!$AH$3:$AH$326,0),0)","v":0},{"$f":"I713","v":0}]
[null,{"$f":"OFFSET(listy_slownikowe!$AG$2,I714,0)","v":" "},null,null,null,null,{"$f":"OFFSET(listy_slownikowe!$AI$2,I714,0)","v":" "},null,{"$f":"IFERROR(MATCH(D714,listy_slownikowe!$AH$3:$AH$326,0),0)","v":0},{"$f":"I714","v":0}]
[null,{"$f":"OFFSET(listy_slownikowe!$AG$2,I715,0)","v":" "},null,null,null,null,{"$f":"OFFSET(listy_slownikowe!$AI$2,I715,0)","v":" "},null,{"$f":"IFERROR(MATCH(D715,listy_slownikowe!$AH$3:$AH$326,0),0)","v":0},0]
[null,{"$f":"OFFSET(listy_slownikowe!$AG$2,I716,0)","v":" "},null,null,null,null,{"$f":"OFFSET(listy_slownikowe!$AI$2,I716,0)","v":" "},null,{"$f":"IFERROR(MATCH(D716,listy_slownikowe!$AH$3:$AH$326,0),0)","v":0},0]
[null,{"$f":"OFFSET(listy_slownikowe!$AG$2,I717,0)","v":" "},null,null,null,null,{"$f":"OFFSET(listy_slownikowe!$AI$2,I717,0)","v":" "},null,{"$f":"IFERROR(MATCH(D717,listy_slownikowe!$AH$3:$AH$326,0),0)","v":0},0]
[null,{"$f":"OFFSET(listy_slownikowe!$AG$2,I718,0)","v":" "},null,null,null,null,{"$f":"OFFSET(listy_slownikowe!$AI$2,I718,0)","v":" "},null,{"$f":"IFERROR(MATCH(D718,listy_slownikowe!$AH$3:$AH$326,0),0)","v":0},0]
[null,{"$f":"OFFSET(listy_slownikowe!$AG$2,I719,0)","v":" "},null,null,null,null,{"$f":"OFFSET(listy_slownikowe!$AI$2,I719,0)","v":" "},null,{"$f":"IFERROR(MATCH(D719,listy_slownikowe!$AH$3:$AH$326,0),0)","v":0},0]
[null,{"$f":"OFFSET(listy_slownikowe!$AG$2,I720,0)","v":" "},null,null,null,null,{"$f":"OFFSET(listy_slownikowe!$AI$2,I720,0)","v":" "},null,{"$f":"IFERROR(MATCH(D720,listy_slownikowe!$AH$3:$AH$326,0),0)","v":0},0]
[null,{"$f":"OFFSET(listy_slownikowe!$AG$2,I721,0)","v":" "},null,null,null,null,{"$f":"OFFSET(listy_slownikowe!$AI$2,I721,0)","v":" "},null,{"$f":"IFERROR(MATCH(D721,listy_slownikowe!$AH$3:$AH$326,0),0)","v":0},0]
[null,{"$f":"OFFSET(listy_slownikowe!$AG$2,I722,0)","v":" "},null,null,null,null,{"$f":"OFFSET(listy_slownikowe!$AI$2,I722,0)","v":" "},null,{"$f":"IFERROR(MATCH(D722,listy_slownikowe!$AH$3:$AH$326,0),0)","v":0},0]
[null,{"$f":"OFFSET(listy_slownikowe!$AG$2,I723,0)","v":" "},null,"",null,null,{"$f":"OFFSET(listy_slownikowe!$AI$2,I723,0)","v":" "},null,{"$f":"IFERROR(MATCH(D723,listy_slownikowe!$AH$3:$AH$326,0),0)","v":0},0]
[null,{"$f":"OFFSET(listy_slownikowe!$AG$2,I724,0)","v":" "},null,null,null,null,{"$f":"OFFSET(listy_slownikowe!$AI$2,I724,0)","v":" "},null,{"$f":"IFERROR(MATCH(D724,listy_slownikowe!$AH$3:$AH$326,0),0)","v":0},0]
[null,"Gatunki dominujące i subdominujące",null,null,null,null,null,null,null,{"$f":"J726","v":0}]
[null,"nazwa łacińska",null,"nazwa polska",null,null,"udział [%]",null,null,{"$f":"SUM(J727:J731)","v":0}]
[null,null,null,null,null,null,null,null,null,{"$f":"COUNTA(B727:G727)","v":0}]
[null,null,null,null,null,null,null,null,null,0]
[null,null,null,null,null,null,null,null,null,0]
[null,null,null,null,null,null,null,null,null,0]
[null,null,null,null,null,null,null,null,null,0]
[]
[null,"Spis gatunków numer:",null,null,null,null,{"$f":"G706+1","v":28},null,null,{"$f":"J737","v":0}]
[null,"Współrzędne geograficzne",null,null,null,null,null,null,null,{"$f":"J738","v":0}]
[null,"Długość geograficzna [E] ",null,null,"Szerokość geograficzna [N]",null,null,null,null,{"$f":"J738","v":0}]
[null,"stopnie","minuty","sekundy","stopnie","minuty","sekundy",null,null,{"$f":"J737","v":0}]
[null,null,null,null,null,null,null,null,null,{"$f":"J739+J753","v":0}]
[null,"Gatunki wskaźnikowe",null,null,null,null,null,null,null,{"$f":"J739","v":0}]
[null,"nazwa łacińska",null,"nazwa polska",null,null,"walor ",null,null,{"$f":"SUM(J740:J751)","v":0}]
[null,{"$f":"OFFSET(listy_slownikowe!$AG$2,I740,0)","v":" "},null,null,null,null,{"$f":"OFFSET(listy_slownikowe!$AI$2,I740,0)","v":" "},null,{"$f":"IFERROR(MATCH(D740,listy_slownikowe!$AH$3:$AH$326,0),0)","v":0},{"$f":"I740","v":0}]
[null,{"$f":"OFFSET(listy_slownikowe!$AG$2,I741,0)","v":" "},null,null,null,null,{"$f":"OFFSET(listy_slownikowe!$AI$2,I741,0)","v":" "},null,{"$f":"IFERROR(MATCH(D741,listy_slownikowe!$AH$3:$AH$326,0),0)","v":0},{"$f":"I741","v":0}]
[null,{"$f":"OFFSET(listy_slownikowe!$AG$2,I742,0)","v":" "},null,null,null,null,{"$f":"OFFSET(listy_slownikowe!$AI$2,I742,0)","v":" "},null,{"$f":"IFERROR(MATCH(D742,listy_slownikowe!$AH$3:$AH$326,0),0)","v":0},0]
[null,{"$f":"OFFSET(listy_slownikowe!$AG$2,I743,0)","v":" "},null,null,null,null,{"$f":"OFFSET(listy_slownikowe!$AI$2,I743,0)","v":" "},null,{"$f":"IFERROR(MATCH(D743,listy_slownikowe!$AH$3:$AH$326,0),0)","v":0},0]
[null,{"$f":"OFFSET(listy_slownikowe!$AG$2,I744,0)","v":" "},null,null,null,null,{"$f":"OFFSET(listy_slownikowe!$AI$2,I744,0)","v":" "},null,{"$f":"IFERROR(MATCH(D744,listy_slownikowe!$AH$3:$AH$326,0),0)","v":0},0]
[null,{"$f":"OFFSET(listy_slownikowe!$AG$2,I745,0)","v":" "},null,null,null,null,{"$f":"OFFSET(listy_slownikowe!$AI$2,I745,0)","v":" "},null,{"$f":"IFERROR(MATCH(D745,listy_slownikowe!$AH$3:$AH$326,0),0)","v":0},0]
[null,{"$f":"OFFSET(listy_slownikowe!$AG$2,I746,0)","v":" "},null,null,null,null,{"$f":"OFFSET(listy_slownikowe!$AI$2,I746,0)","v":" "},null,{"$f":"IFERROR(MATCH(D746,listy_slownikowe!$AH$3:$AH$326,0),0)","v":0},0]
[null,{"$f":"OFFSET(listy_slownikowe!$AG$2,I747,0)","v":" "},null,null,null,null,{"$f":"OFFSET(listy_slownikowe!$AI$2,I747,0)","v":" "},null,{"$f":"IFERROR(MATCH(D747,listy_slownikowe!$AH$3:$AH$326,0),0)","v":0},0]
[null,{"$f":"OFFSET(listy_slownikowe!$AG$2,I748,0)","v":" "},null,null,null,null,{"$f":"OFFSET(listy_slownikowe!$AI$2,I748,0)","v":" "},null,{"$f":"IFERROR(MATCH(D748,listy_slownikowe!$AH$3:$AH$326,0),0)","v":0},0]
[null,{"$f":"OFFSET(listy_slownikowe!$AG$2,I749,0)","v":" "},null,null,null,null,{"$f":"OFFSET(listy_slownikowe!$AI$2,I749,0)","v":" "},null,{"$f":"IFERROR(MATCH(D749,listy_slownikowe!$AH$3:$AH$326,0),0)","v":0},0]
[null,{"$f":"OFFSET(listy_slownikowe!$AG$2,I750,0)","v":" "},null,"",null,null,{"$f":"OFFSET(listy_slownikowe!$AI$2,I750,0)","v":" "},null,{"$f":"IFERROR(MATCH(D750,listy_slownikowe!$AH$3:$AH$326,0),0)","v":0},0]
[null,{"$f":"OFFSET(listy_slownikowe!$AG$2,I751,0)","v":" "},null,null,null,null,{"$f":"OFFSET(listy_slownikowe!$AI$2,I751,0)","v":" "},null,{"$f":"IFERROR(MATCH(D751,listy_slownikowe!$AH$3:$AH$326,0),0)","v":0},0]
[null,"Gatunki dominujące i subdominujące",null,null,null,null,null,null,null,{"$f":"J753","v":0}]
[null,"nazwa łacińska",null,"nazwa polska",null,null,"udział [%]",null,null,{"$f":"SUM(J754:J758)","v":0}]
[null,null,null,null,null,null,null,null,null,{"$f":"COUNTA(B754:G754)","v":0}]
[null,null,null,null,null,null,null,null,null,0]
[null,null,null,null,null,null,null,null,null,0]
[null,null,null,null,null,null,null,null,null,0]
[null,null,null,null,null,null,null,null,null,0]
[]
[null,"Spis gatunków numer:",null,null,null,null,{"$f":"G733+1","v":29},null,null,{"$f":"J764","v":0}]
[null,"Współrzędne geograficzne",null,null,null,null,null,null,null,{"$f":"J765","v":0}]
[null,"Długość geograficzna [E] ",null,null,"Szerokość geograficzna [N]",null,null,null,null,{"$f":"J765","v":0}]
[null,"stopnie","minuty","sekundy","stopnie","minuty","sekundy",null,null,{"$f":"J764","v":0}]
[null,null,null,null,null,null,null,null,null,{"$f":"J766+J780","v":0}]
[null,"Gatunki wskaźnikowe",null,null,null,null,null,null,null,{"$f":"J766","v":0}]
[null,"nazwa łacińska",null,"nazwa polska",null,null,"walor ",null,null,{"$f":"SUM(J767:J778)","v":0}]
[null,{"$f":"OFFSET(listy_slownikowe!$AG$2,I767,0)","v":" "},null,null,null,null,{"$f":"OFFSET(listy_slownikowe!$AI$2,I767,0)","v":" "},null,{"$f":"IFERROR(MATCH(D767,listy_slownikowe!$AH$3:$AH$326,0),0)","v":0},{"$f":"I767","v":0}]
[null,{"$f":"OFFSET(listy_slownikowe!$AG$2,I768,0)","v":" "},null,null,null,null,{"$f":"OFFSET(listy_slownikowe!$AI$2,I768,0)","v":" "},null,{"$f":"IFERROR(MATCH(D768,listy_slownikowe!$AH$3:$AH$326,0),0)","v":0},{"$f":"I768","v":0}]
[null,{"$f":"OFFSET(listy_slownikowe!$AG$2,I769,0)","v":" "},null,null,null,null,{"$f":"OFFSET(listy_slownikowe!$AI$2,I769,0)","v":" "},null,{"$f":"IFERROR(MATCH(D769,listy_slownikowe!$AH$3:$AH$326,0),0)","v":0},0]
[null,{"$f":"OFFSET(listy_slownikowe!$AG$2,I770,0)","v":" "},null,null,null,null,{"$f":"OFFSET(listy_slownikowe!$AI$2,I770,0)","v":" "},null,{"$f":"IFERROR(MATCH(D770,listy_slownikowe!$AH$3:$AH$326,0),0)","v":0},0]
[null,{"$f":"OFFSET(listy_slownikowe!$AG$2,I771,0)","v":" "},null,null,null,null,{"$f":"OFFSET(listy_slownikowe!$AI$2,I771,0)","v":" "},null,{"$f":"IFERROR(MATCH(D771,listy_slownikowe!$AH$3:$AH$326,0),0)","v":0},0]
[null,{"$f":"OFFSET(listy_slownikowe!$AG$2,I772,0)","v":" "},null,null,null,null,{"$f":"OFFSET(listy_slownikowe!$AI$2,I772,0)","v":" "},null,{"$f":"IFERROR(MATCH(D772,listy_slownikowe!$AH$3:$AH$326,0),0)","v":0},0]
[null,{"$f":"OFFSET(listy_slownikowe!$AG$2,I773,0)","v":" "},null,null,null,null,{"$f":"OFFSET(listy_slownikowe!$AI$2,I773,0)","v":" "},null,{"$f":"IFERROR(MATCH(D773,listy_slownikowe!$AH$3:$AH$326,0),0)","v":0},0]
[null,{"$f":"OFFSET(listy_slownikowe!$AG$2,I774,0)","v":" "},null,null,null,null,{"$f":"OFFSET(listy_slownikowe!$AI$2,I774,0)","v":" "},null,{"$f":"IFERROR(MATCH(D774,listy_slownikowe!$AH$3:$AH$326,0),0)","v":0},0]
[null,{"$f":"OFFSET(listy_slownikowe!$AG$2,I775,0)","v":" "},null,null,null,null,{"$f":"OFFSET(listy_slownikowe!$AI$2,I775,0)","v":" "},null,{"$f":"IFERROR(MATCH(D775,listy_slownikowe!$AH$3:$AH$326,0),0)","v":0},0]
[null,{"$f":"OFFSET(listy_slownikowe!$AG$2,I776,0)","v":" "},null,null,null,null,{"$f":"OFFSET(listy_slownikowe!$AI$2,I776,0)","v":" "},null,{"$f":"IFERROR(MATCH(D776,listy_slownikowe!$AH$3:$AH$326,0),0)","v":0},0]
[null,{"$f":"OFFSET(listy_slownikowe!$AG$2,I777,0)","v":" "},null,"",null,null,{"$f":"OFFSET(listy_slownikowe!$AI$2,I777,0)","v":" "},null,{"$f":"IFERROR(MATCH(D777,listy_slownikowe!$AH$3:$AH$326,0),0)","v":0},0]
[null,{"$f":"OFFSET(listy_slownikowe!$AG$2,I778,0)","v":" "},null,null,null,null,{"$f":"OFFSET(listy_slownikowe!$AI$2,I778,0)","v":" "},null,{"$f":"IFERROR(MATCH(D778,listy_slownikowe!$AH$3:$AH$326,0),0)","v":0},0]
[null,"Gatunki dominujące i subdominujące",null,null,null,null,null,null,null,{"$f":"J780","v":0}]
[null,"nazwa łacińska",null,"nazwa polska",null,null,"udział [%]",null,null,{"$f":"SUM(J781:J785)","v":0}]
[null,null,null,null,null,null,null,null,null,{"$f":"COUNTA(B781:G781)","v":0}]
[null,null,null,null,null,null,null,null,null,0]
[null,null,null,null,null,null,null,null,null,0]
[null,null,null,null,null,null,null,null,null,0]
[null,null,null,null,null,null,null,null,null,0]
[]
[null,"Spis gatunków numer:",null,null,null,null,{"$f":"G760+1","v":30},null,null,{"$f":"J791","v":0}]
[null,"Współrzędne geograficzne",null,null,null,null,null,null,null,{"$f":"J792","v":0}]
[null,"Długość geograficzna [E] ",null,null,"Szerokość geograficzna [N]",null,null,null,null,{"$f":"J792","v":0}]
[null,"stopnie","minuty","sekundy","stopnie","minuty","sekundy",null,null,{"$f":"J791","v":0}]
[null,null,null,null,null,null,null,null,null,{"$f":"J793+J807","v":0}]
[null,"Gatunki wskaźnikowe",null,null,null,null,null,null,null,{"$f":"J793","v":0}]
[null,"nazwa łacińska",null,"nazwa polska",null,null,"walor ",null,null,{"$f":"SUM(J794:J805)","v":0}]
[null,{"$f":"OFFSET(listy_slownikowe!$AG$2,I794,0)","v":" "},null,null,null,null,{"$f":"OFFSET(listy_slownikowe!$AI$2,I794,0)","v":" "},null,{"$f":"IFERROR(MATCH(D794,listy_slownikowe!$AH$3:$AH$326,0),0)","v":0},{"$f":"I794","v":0}]
[null,{"$f":"OFFSET(listy_slownikowe!$AG$2,I795,0)","v":" "},null,null,null,null,{"$f":"OFFSET(listy_slownikowe!$AI$2,I795,0)","v":" "},null,{"$f":"IFERROR(MATCH(D795,listy_slownikowe!$AH$3:$AH$326,0),0)","v":0},{"$f":"I795","v":0}]
[null,{"$f":"OFFSET(listy_slownikowe!$AG$2,I796,0)","v":" "},null,null,null,null,{"$f":"OFFSET(listy_slownikowe!$AI$2,I796,0)","v":" "},null,{"$f":"IFERROR(MATCH(D796,listy_slownikowe!$AH$3:$AH$326,0),0)","v":0},0]
[null,{"$f":"OFFSET(listy_slownikowe!$AG$2,I797,0)","v":" "},null,null,null,null,{"$f":"OFFSET(listy_slownikowe!$AI$2,I797,0)","v":" "},null,{"$f":"IFERROR(MATCH(D797,listy_slownikowe!$AH$3:$AH$326,0),0)","v":0},0]
[null,{"$f":"OFFSET(listy_slownikowe!$AG$2,I798,0)","v":" "},null,null,null,null,{"$f":"OFFSET(listy_slownikowe!$AI$2,I798,0)","v":" "},null,{"$f":"IFERROR(MATCH(D798,listy_slownikowe!$AH$3:$AH$326,0),0)","v":0},0]
[null,{"$f":"OFFSET(listy_slownikowe!$AG$2,I799,0)","v":" "},null,null,null,null,{"$f":"OFFSET(listy_slownikowe!$AI$2,I799,0)","v":" "},null,{"$f":"IFERROR(MATCH(D799,listy_slownikowe!$AH$3:$AH$326,0),0)","v":0},0]
[null,{"$f":"OFFSET(listy_slownikowe!$AG$2,I800,0)","v":" "},null,null,null,null,{"$f":"OFFSET(listy_slownikowe!$AI$2,I800,0)","v":" "},null,{"$f":"IFERROR(MATCH(D800,listy_slownikowe!$AH$3:$AH$326,0),0)","v":0},0]
[null,{"$f":"OFFSET(listy_slownikowe!$AG$2,I801,0)","v":" "},null,null,null,null,{"$f":"OFFSET(listy_slownikowe!$AI$2,I801,0)","v":" "},null,{"$f":"IFERROR(MATCH(D801,listy_slownikowe!$AH$3:$AH$326,0),0)","v":0},0]
[null,{"$f":"OFFSET(listy_slownikowe!$AG$2,I802,0)","v":" "},null,null,null,null,{"$f":"OFFSET(listy_slownikowe!$AI$2,I802,0)","v":" "},null,{"$f":"IFERROR(MATCH(D802,listy_slownikowe!$AH$3:$AH$326,0),0)","v":0},0]
[null,{"$f":"OFFSET(listy_slownikowe!$AG$2,I803,0)","v":" "},null,null,null,null,{"$f":"OFFSET(listy_slownikowe!$AI$2,I803,0)","v":" "},null,{"$f":"IFERROR(MATCH(D803,listy_slownikowe!$AH$3:$AH$326,0),0)","v":0},0]
[null,{"$f":"OFFSET(listy_slownikowe!$AG$2,I804,0)","v":" "},null,"",null,null,{"$f":"OFFSET(listy_slownikowe!$AI$2,I804,0)","v":" "},null,{"$f":"IFERROR(MATCH(D804,listy_slownikowe!$AH$3:$AH$326,0),0)","v":0},0]
[null,{"$f":"OFFSET(listy_slownikowe!$AG$2,I805,0)","v":" "},null,null,null,null,{"$f":"OFFSET(listy_slownikowe!$AI$2,I805,0)","v":" "},null,{"$f":"IFERROR(MATCH(D805,listy_slownikowe!$AH$3:$AH$326,0),0)","v":0},0]
[null,"Gatunki dominujące i subdominujące",null,null,null,null,null,null,null,{"$f":"J807","v":0}]
[null,"nazwa łacińska",null,"nazwa polska",null,null,"udział [%]",null,null,{"$f":"SUM(J808:J812)","v":0}]
[null,null,null,null,null,null,null,null,null,{"$f":"COUNTA(B808:G808)","v":0}]
[null,null,null,null,null,null,null,null,null,0]
[null,null,null,null,null,null,null,null,null,0]
[null,null,null,null,null,null,null,null,null,0]
[null,null,null,null,null,null,null,null,null,0]
[]
[null,"Spis gatunków numer:",null,null,null,null,{"$f":"G787+1","v":31},null,null,{"$f":"J818","v":0}]
[null,"Współrzędne geograficzne",null,null,null,null,null,null,null,{"$f":"J819","v":0}]
[null,"Długość geograficzna [E] ",null,null,"Szerokość geograficzna [N]",null,null,null,null,{"$f":"J819","v":0}]
[null,"stopnie","minuty","sekundy","stopnie","minuty","sekundy",null,null,{"$f":"J818","v":0}]
[null,null,null,null,null,null,null,null,null,{"$f":"J820+J834","v":0}]
[null,"Gatunki wskaźnikowe",null,null,null,null,null,null,null,{"$f":"J820","v":0}]
[null,"nazwa łacińska",null,"nazwa polska",null,null,"walor ",null,null,{"$f":"SUM(J821:J832)","v":0}]
[null,{"$f":"OFFSET(listy_slownikowe!$AG$2,I821,0)","v":" "},null,null,null,null,{"$f":"OFFSET(listy_slownikowe!$AI$2,I821,0)","v":" "},null,{"$f":"IFERROR(MATCH(D821,listy_slownikowe!$AH$3:$AH$326,0),0)","v":0},{"$f":"I821","v":0}]
[null,{"$f":"OFFSET(listy_slownikowe!$AG$2,I822,0)","v":" "},null,null,null,null,{"$f":"OFFSET(listy_slownikowe!$AI$2,I822,0)","v":" "},null,{"$f":"IFERROR(MATCH(D822,listy_slownikowe!$AH$3:$AH$326,0),0)","v":0},{"$f":"I822","v":0}]
[null,{"$f":"OFFSET(listy_slownikowe!$AG$2,I823,0)","v":" "},null,null,null,null,{"$f":"OFFSET(listy_slownikowe!$AI$2,I823,0)","v":" "},null,{"$f":"IFERROR(MATCH(D823,listy_slownikowe!$AH$3:$AH$326,0),0)","v":0},0]
[null,{"$f":"OFFSET(listy_slownikowe!$AG$2,I824,0)","v":" "},null,null,null,null,{"$f":"OFFSET(listy_slownikowe!$AI$2,I824,0)","v":" "},null,{"$f":"IFERROR(MATCH(D824,listy_slownikowe!$AH$3:$AH$326,0),0)","v":0},0]
[null,{"$f":"OFFSET(listy_slownikowe!$AG$2,I825,0)","v":" "},null,null,null,null,{"$f":"OFFSET(listy_slownikowe!$AI$2,I825,0)","v":" "},null,{"$f":"IFERROR(MATCH(D825,listy_slownikowe!$AH$3:$AH$326,0),0)","v":0},0]
[null,{"$f":"OFFSET(listy_slownikowe!$AG$2,I826,0)","v":" "},null,null,null,null,{"$f":"OFFSET(listy_slownikowe!$AI$2,I826,0)","v":" "},null,{"$f":"IFERROR(MATCH(D826,listy_slownikowe!$AH$3:$AH$326,0),0)","v":0},0]
[null,{"$f":"OFFSET(listy_slownikowe!$AG$2,I827,0)","v":" "},null,null,null,null,{"$f":"OFFSET(listy_slownikowe!$AI$2,I827,0)","v":" "},null,{"$f":"IFERROR(MATCH(D827,listy_slownikowe!$AH$3:$AH$326,0),0)","v":0},0]
[null,{"$f":"OFFSET(listy_slownikowe!$AG$2,I828,0)","v":" "},null,null,null,null,{"$f":"OFFSET(listy_slownikowe!$AI$2,I828,0)","v":" "},null,{"$f":"IFERROR(MATCH(D828,listy_slownikowe!$AH$3:$AH$326,0),0)","v":0},0]
[null,{"$f":"OFFSET(listy_slownikowe!$AG$2,I829,0)","v":" "},null,null,null,null,{"$f":"OFFSET(listy_slownikowe!$AI$2,I829,0)","v":" "},null,{"$f":"IFERROR(MATCH(D829,listy_slownikowe!$AH$3:$AH$326,0),0)","v":0},0]
[null,{"$f":"OFFSET(listy_slownikowe!$AG$2,I830,0)","v":" "},null,null,null,null,{"$f":"OFFSET(listy_slownikowe!$AI$2,I830,0)","v":" "},null,{"$f":"IFERROR(MATCH(D830,listy_slownikowe!$AH$3:$AH$326,0),0)","v":0},0]
[null,{"$f":"OFFSET(listy_slownikowe!$AG$2,I831,0)","v":" "},null,"",null,null,{"$f":"OFFSET(listy_slownikowe!$AI$2,I831,0)","v":" "},null,{"$f":"IFERROR(MATCH(D831,listy_slownikowe!$AH$3:$AH$326,0),0)","v":0},0]
[null,{"$f":"OFFSET(listy_slownikowe!$AG$2,I832,0)","v":" "},null,null,null,null,{"$f":"OFFSET(listy_slownikowe!$AI$2,I832,0)","v":" "},null,{"$f":"IFERROR(MATCH(D832,listy_slownikowe!$AH$3:$AH$326,0),0)","v":0},0]
[null,"Gatunki dominujące i subdominujące",null,null,null,null,null,null,null,{"$f":"J834","v":0}]
[null,"nazwa łacińska",null,"nazwa polska",null,null,"udział [%]",null,null,{"$f":"SUM(J835:J839)","v":0}]
[null,null,null,null,null,null,null,null,null,{"$f":"COUNTA(B835:G835)","v":0}]
[null,null,null,null,null,null,null,null,null,0]
[null,null,null,null,null,null,null,null,null,0]
[null,null,null,null,null,null,null,null,null,0]
[null,null,null,null,null,null,null,null,null,0]
[]
[null,"Spis gatunków numer:",null,null,null,null,{"$f":"G814+1","v":32},null,null,{"$f":"J845","v":0}]
[null,"Współrzędne geograficzne",null,null,null,null,null,null,null,{"$f":"J846","v":0}]
[null,"Długość geograficzna [E] ",null,null,"Szerokość geograficzna [N]",null,null,null,null,{"$f":"J846","v":0}]
[null,"stopnie","minuty","sekundy","stopnie","minuty","sekundy",null,null,{"$f":"J845","v":0}]
[null,null,null,null,null,null,null,null,null,{"$f":"J847+J861","v":0}]
[null,"Gatunki wskaźnikowe",null,null,null,null,null,null,null,{"$f":"J847","v":0}]
[null,"nazwa łacińska",null,"nazwa polska",null,null,"walor ",null,null,{"$f":"SUM(J848:J859)","v":0}]
[null,{"$f":"OFFSET(listy_slownikowe!$AG$2,I848,0)","v":" "},null,null,null,null,{"$f":"OFFSET(listy_slownikowe!$AI$2,I848,0)","v":" "},null,{"$f":"IFERROR(MATCH(D848,listy_slownikowe!$AH$3:$AH$326,0),0)","v":0},{"$f":"I848","v":0}]
[null,{"$f":"OFFSET(listy_slownikowe!$AG$2,I849,0)","v":" "},null,null,null,null,{"$f":"OFFSET(listy_slownikowe!$AI$2,I849,0)","v":" "},null,{"$f":"IFERROR(MATCH(D849,listy_slownikowe!$AH$3:$AH$326,0),0)","v":0},{"$f":"I849","v":0}]
[null,{"$f":"OFFSET(listy_slownikowe!$AG$2,I850,0)","v":" "},null,null,null,null,{"$f":"OFFSET(listy_slownikowe!$AI$2,I850,0)","v":" "},null,{"$f":"IFERROR(MATCH(D850,listy_slownikowe!$AH$3:$AH$326,0),0)","v":0},0]
[null,{"$f":"OFFSET(listy_slownikowe!$AG$2,I851,0)","v":" "},null,null,null,null,{"$f":"OFFSET(listy_slownikowe!$AI$2,I851,0)","v":" "},null,{"$f":"IFERROR(MATCH(D851,listy_slownikowe!$AH$3:$AH$326,0),0)","v":0},0]
[null,{"$f":"OFFSET(listy_slownikowe!$AG$2,I852,0)","v":" "},null,null,null,null,{"$f":"OFFSET(listy_slownikowe!$AI$2,I852,0)","v":" "},null,{"$f":"IFERROR(MATCH(D852,listy_slownikowe!$AH$3:$AH$326,0),0)","v":0},0]
[null,{"$f":"OFFSET(listy_slownikowe!$AG$2,I853,0)","v":" "},null,null,null,null,{"$f":"OFFSET(listy_slownikowe!$AI$2,I853,0)","v":" "},null,{"$f":"IFERROR(MATCH(D853,listy_slownikowe!$AH$3:$AH$326,0),0)","v":0},0]
[null,{"$f":"OFFSET(listy_slownikowe!$AG$2,I854,0)","v":" "},null,null,null,null,{"$f":"OFFSET(listy_slownikowe!$AI$2,I854,0)","v":" "},null,{"$f":"IFERROR(MATCH(D854,listy_slownikowe!$AH$3:$AH$326,0),0)","v":0},0]
[null,{"$f":"OFFSET(listy_slownikowe!$AG$2,I855,0)","v":" "},null,null,null,null,{"$f":"OFFSET(listy_slownikowe!$AI$2,I855,0)","v":" "},null,{"$f":"IFERROR(MATCH(D855,listy_slownikowe!$AH$3:$AH$326,0),0)","v":0},0]
[null,{"$f":"OFFSET(listy_slownikowe!$AG$2,I856,0)","v":" "},null,null,null,null,{"$f":"OFFSET(listy_slownikowe!$AI$2,I856,0)","v":" "},null,{"$f":"IFERROR(MATCH(D856,listy_slownikowe!$AH$3:$AH$326,0),0)","v":0},0]
[null,{"$f":"OFFSET(listy_slownikowe!$AG$2,I857,0)","v":" "},null,null,null,null,{"$f":"OFFSET(listy_slownikowe!$AI$2,I857,0)","v":" "},null,{"$f":"IFERROR(MATCH(D857,listy_slownikowe!$AH$3:$AH$326,0),0)","v":0},0]
[null,{"$f":"OFFSET(listy_slownikowe!$AG$2,I858,0)","v":" "},null,"",null,null,{"$f":"OFFSET(listy_slownikowe!$AI$2,I858,0)","v":" "},null,{"$f":"IFERROR(MATCH(D858,listy_slownikowe!$AH$3:$AH$326,0),0)","v":0},0]
[null,{"$f":"OFFSET(listy_slownikowe!$AG$2,I859,0)","v":" "},null,null,null,null,{"$f":"OFFSET(listy_slownikowe!$AI$2,I859,0)","v":" "},null,{"$f":"IFERROR(MATCH(D859,listy_slownikowe!$AH$3:$AH$326,0),0)","v":0},0]
[null,"Gatunki dominujące i subdominujące",null,null,null,null,null,null,null,{"$f":"J861","v":0}]
[null,"nazwa łacińska",null,"nazwa polska",null,null,"udział [%]",null,null,{"$f":"SUM(J862:J866)","v":0}]
[null,null,null,null,null,null,null,null,null,{"$f":"COUNTA(B862:G862)","v":0}]
[null,null,null,null,null,null,null,null,null,0]
[null,null,null,null,null,null,null,null,null,0]
[null,null,null,null,null,null,null,null,null,0]
[null,null,null,null,null,null,null,null,null,0]
[]
[null,"Spis gatunków numer:",null,null,null,null,{"$f":"G841+1","v":33},null,null,{"$f":"J872","v":0}]
[null,"Współrzędne geograficzne",null,null,null,null,null,null,null,{"$f":"J873","v":0}]
[null,"Długość geograficzna [E] ",null,null,"Szerokość geograficzna [N]",null,null,null,null,{"$f":"J873","v":0}]
[null,"stopnie","minuty","sekundy","stopnie","minuty","sekundy",null,null,{"$f":"J872","v":0}]
[null,null,null,null,null,null,null,null,null,{"$f":"J874+J888","v":0}]
[null,"Gatunki wskaźnikowe",null,null,null,null,null,null,null,{"$f":"J874","v":0}]
[null,"nazwa łacińska",null,"nazwa polska",null,null,"walor ",null,null,{"$f":"SUM(J875:J886)","v":0}]
[null,{"$f":"OFFSET(listy_slownikowe!$AG$2,I875,0)","v":" "},null,null,null,null,{"$f":"OFFSET(listy_slownikowe!$AI$2,I875,0)","v":" "},null,{"$f":"IFERROR(MATCH(D875,listy_slownikowe!$AH$3:$AH$326,0),0)","v":0},{"$f":"I875","v":0}]
[null,{"$f":"OFFSET(listy_slownikowe!$AG$2,I876,0)","v":" "},null,null,null,null,{"$f":"OFFSET(listy_slownikowe!$AI$2,I876,0)","v":" "},null,{"$f":"IFERROR(MATCH(D876,listy_slownikowe!$AH$3:$AH$326,0),0)","v":0},{"$f":"I876","v":0}]
[null,{"$f":"OFFSET(listy_slownikowe!$AG$2,I877,0)","v":" "},null,null,null,null,{"$f":"OFFSET(listy_slownikowe!$AI$2,I877,0)","v":" "},null,{"$f":"IFERROR(MATCH(D877,listy_slownikowe!$AH$3:$AH$326,0),0)","v":0},0]
[null,{"$f":"OFFSET(listy_slownikowe!$AG$2,I878,0)","v":" "},null,null,null,null,{"$f":"OFFSET(listy_slownikowe!$AI$2,I878,0)","v":" "},null,{"$f":"IFERROR(MATCH(D878,listy_slownikowe!$AH$3:$AH$326,0),0)","v":0},0]
[null,{"$f":"OFFSET(listy_slownikowe!$AG$2,I879,0)","v":" "},null,null,null,null,{"$f":"OFFSET(listy_slownikowe!$AI$2,I879,0)","v":" "},null,{"$f":"IFERROR(MATCH(D879,listy_slownikowe!$AH$3:$AH$326,0),0)","v":0},0]
[null,{"$f":"OFFSET(listy_slownikowe!$AG$2,I880,0)","v":" "},null,null,null,null,{"$f":"OFFSET(listy_slownikowe!$AI$2,I880,0)","v":" "},null,{"$f":"IFERROR(MATCH(D880,listy_slownikowe!$AH$3:$AH$326,0),0)","v":0},0]
[null,{"$f":"OFFSET(listy_slownikowe!$AG$2,I881,0)","v":" "},null,null,null,null,{"$f":"OFFSET(listy_slownikowe!$AI$2,I881,0)","v":" "},null,{"$f":"IFERROR(MATCH(D881,listy_slownikowe!$AH$3:$AH$326,0),0)","v":0},0]
[null,{"$f":"OFFSET(listy_slownikowe!$AG$2,I882,0)","v":" "},null,null,null,null,{"$f":"OFFSET(listy_slownikowe!$AI$2,I882,0)","v":" "},null,{"$f":"IFERROR(MATCH(D882,listy_slownikowe!$AH$3:$AH$326,0),0)","v":0},0]
[null,{"$f":"OFFSET(listy_slownikowe!$AG$2,I883,0)","v":" "},null,null,null,null,{"$f":"OFFSET(listy_slownikowe!$AI$2,I883,0)","v":" "},null,{"$f":"IFERROR(MATCH(D883,listy_slownikowe!$AH$3:$AH$326,0),0)","v":0},0]
[null,{"$f":"OFFSET(listy_slownikowe!$AG$2,I884,0)","v":" "},null,null,null,null,{"$f":"OFFSET(listy_slownikowe!$AI$2,I884,0)","v":" "},null,{"$f":"IFERROR(MATCH(D884,listy_slownikowe!$AH$3:$AH$326,0),0)","v":0},0]
[null,{"$f":"OFFSET(listy_slownikowe!$AG$2,I885,0)","v":" "},null,"",null,null,{"$f":"OFFSET(listy_slownikowe!$AI$2,I885,0)","v":" "},null,{"$f":"IFERROR(MATCH(D885,listy_slownikowe!$AH$3:$AH$326,0),0)","v":0},0]
[null,{"$f":"OFFSET(listy_slownikowe!$AG$2,I886,0)","v":" "},null,null,null,null,{"$f":"OFFSET(listy_slownikowe!$AI$2,I886,0)","v":" "},null,{"$f":"IFERROR(MATCH(D886,listy_slownikowe!$AH$3:$AH$326,0),0)","v":0},0]
[null,"Gatunki dominujące i subdominujące",null,null,null,null,null,null,null,{"$f":"J888","v":0}]
[null,"nazwa łacińska",null,"nazwa polska",null,null,"udział [%]",null,null,{"$f":"SUM(J889:J893)","v":0}]
[null,null,null,null,null,null,null,null,null,{"$f":"COUNTA(B889:G889)","v":0}]
[null,null,null,null,null,null,null,null,null,0]
[null,null,null,null,null,null,null,null,null,0]
[null,null,null,null,null,null,null,null,null,0]
[null,null,null,null,null,null,null,null,null,0]
[]
[null,"Spis gatunków numer:",null,null,null,null,{"$f":"G868+1","v":34},null,null,{"$f":"J899","v":0}]
[null,"Współrzędne geograficzne",null,null,null,null,null,null,null,{"$f":"J900","v":0}]
[null,"Długość geograficzna [E] ",null,null,"Szerokość geograficzna [N]",null,null,null,null,{"$f":"J900","v":0}]
[null,"stopnie","minuty","sekundy","stopnie","minuty","sekundy",null,null,{"$f":"J899","v":0}]
[null,null,null,null,null,null,null,null,null,{"$f":"J901+J915","v":0}]
[null,"Gatunki wskaźnikowe",null,null,null,null,null,null,null,{"$f":"J901","v":0}]
[null,"nazwa łacińska",null,"nazwa polska",null,null,"walor ",null,null,{"$f":"SUM(J902:J913)","v":0}]
[null,{"$f":"OFFSET(listy_slownikowe!$AG$2,I902,0)","v":" "},null,null,null,null,{"$f":"OFFSET(listy_slownikowe!$AI$2,I902,0)","v":" "},null,{"$f":"IFERROR(MATCH(D902,listy_slownikowe!$AH$3:$AH$326,0),0)","v":0},{"$f":"I902","v":0}]
[null,{"$f":"OFFSET(listy_slownikowe!$AG$2,I903,0)","v":" "},null,null,null,null,{"$f":"OFFSET(listy_slownikowe!$AI$2,I903,0)","v":" "},null,{"$f":"IFERROR(MATCH(D903,listy_slownikowe!$AH$3:$AH$326,0),0)","v":0},{"$f":"I903","v":0}]
[null,{"$f":"OFFSET(listy_slownikowe!$AG$2,I904,0)","v":" "},null,null,null,null,{"$f":"OFFSET(listy_slownikowe!$AI$2,I904,0)","v":" "},null,{"$f":"IFERROR(MATCH(D904,listy_slownikowe!$AH$3:$AH$326,0),0)","v":0},0]
[null,{"$f":"OFFSET(listy_slownikowe!$AG$2,I905,0)","v":" "},null,null,null,null,{"$f":"OFFSET(listy_slownikowe!$AI$2,I905,0)","v":" "},null,{"$f":"IFERROR(MATCH(D905,listy_slownikowe!$AH$3:$AH$326,0),0)","v":0},0]
[null,{"$f":"OFFSET(listy_slownikowe!$AG$2,I906,0)","v":" "},null,null,null,null,{"$f":"OFFSET(listy_slownikowe!$AI$2,I906,0)","v":" "},null,{"$f":"IFERROR(MATCH(D906,listy_slownikowe!$AH$3:$AH$326,0),0)","v":0},0]
[null,{"$f":"OFFSET(listy_slownikowe!$AG$2,I907,0)","v":" "},null,null,null,null,{"$f":"OFFSET(listy_slownikowe!$AI$2,I907,0)","v":" "},null,{"$f":"IFERROR(MATCH(D907,listy_slownikowe!$AH$3:$AH$326,0),0)","v":0},0]
[null,{"$f":"OFFSET(listy_slownikowe!$AG$2,I908,0)","v":" "},null,null,null,null,{"$f":"OFFSET(listy_slownikowe!$AI$2,I908,0)","v":" "},null,{"$f":"IFERROR(MATCH(D908,listy_slownikowe!$AH$3:$AH$326,0),0)","v":0},0]
[null,{"$f":"OFFSET(listy_slownikowe!$AG$2,I909,0)","v":" "},null,null,null,null,{"$f":"OFFSET(listy_slownikowe!$AI$2,I909,0)","v":" "},null,{"$f":"IFERROR(MATCH(D909,listy_slownikowe!$AH$3:$AH$326,0),0)","v":0},0]
[null,{"$f":"OFFSET(listy_slownikowe!$AG$2,I910,0)","v":" "},null,null,null,null,{"$f":"OFFSET(listy_slownikowe!$AI$2,I910,0)","v":" "},null,{"$f":"IFERROR(MATCH(D910,listy_slownikowe!$AH$3:$AH$326,0),0)","v":0},0]
[null,{"$f":"OFFSET(listy_slownikowe!$AG$2,I911,0)","v":" "},null,null,null,null,{"$f":"OFFSET(listy_slownikowe!$AI$2,I911,0)","v":" "},null,{"$f":"IFERROR(MATCH(D911,listy_slownikowe!$AH$3:$AH$326,0),0)","v":0},0]
[null,{"$f":"OFFSET(listy_slownikowe!$AG$2,I912,0)","v":" "},null,"",null,null,{"$f":"OFFSET(listy_slownikowe!$AI$2,I912,0)","v":" "},null,{"$f":"IFERROR(MATCH(D912,listy_slownikowe!$AH$3:$AH$326,0),0)","v":0},0]
[null,{"$f":"OFFSET(listy_slownikowe!$AG$2,I913,0)","v":" "},null,null,null,null,{"$f":"OFFSET(listy_slownikowe!$AI$2,I913,0)","v":" "},null,{"$f":"IFERROR(MATCH(D913,listy_slownikowe!$AH$3:$AH$326,0),0)","v":0},0]
[null,"Gatunki dominujące i subdominujące",null,null,null,null,null,null,null,{"$f":"J915","v":0}]
[null,"nazwa łacińska",null,"nazwa polska",null,null,"udział [%]",null,null,{"$f":"SUM(J916:J920)","v":0}]
[null,null,null,null,null,null,null,null,null,{"$f":"COUNTA(B916:G916)","v":0}]
[null,null,null,null,null,null,null,null,null,0]
[null,null,null,null,null,null,null,null,null,0]
[null,null,null,null,null,null,null,null,null,0]
[null,null,null,null,null,null,null,null,null,0]
[]
[null,"Spis gatunków numer:",null,null,null,null,{"$f":"G895+1","v":35},null,null,{"$f":"J926","v":0}]
[null,"Współrzędne geograficzne",null,null,null,null,null,null,null,{"$f":"J927","v":0}]
[null,"Długość geograficzna [E] ",null,null,"Szerokość geograficzna [N]",null,null,null,null,{"$f":"J927","v":0}]
[null,"stopnie","minuty","sekundy","stopnie","minuty","sekundy",null,null,{"$f":"J926","v":0}]
[null,null,null,null,null,null,null,null,null,{"$f":"J928+J942","v":0}]
[null,"Gatunki wskaźnikowe",null,null,null,null,null,null,null,{"$f":"J928","v":0}]
[null,"nazwa łacińska",null,"nazwa polska",null,null,"walor ",null,null,{"$f":"SUM(J929:J940)","v":0}]
[null,{"$f":"OFFSET(listy_slownikowe!$AG$2,I929,0)","v":" "},null,null,null,null,{"$f":"OFFSET(listy_slownikowe!$AI$2,I929,0)","v":" "},null,{"$f":"IFERROR(MATCH(D929,listy_slownikowe!$AH$3:$AH$326,0),0)","v":0},{"$f":"I929","v":0}]
[null,{"$f":"OFFSET(listy_slownikowe!$AG$2,I930,0)","v":" "},null,null,null,null,{"$f":"OFFSET(listy_slownikowe!$AI$2,I930,0)","v":" "},null,{"$f":"IFERROR(MATCH(D930,listy_slownikowe!$AH$3:$AH$326,0),0)","v":0},{"$f":"I930","v":0}]
[null,{"$f":"OFFSET(listy_slownikowe!$AG$2,I931,0)","v":" "},null,null,null,null,{"$f":"OFFSET(listy_slownikowe!$AI$2,I931,0)","v":" "},null,{"$f":"IFERROR(MATCH(D931,listy_slownikowe!$AH$3:$AH$326,0),0)","v":0},0]
[null,{"$f":"OFFSET(listy_slownikowe!$AG$2,I932,0)","v":" "},null,null,null,null,{"$f":"OFFSET(listy_slownikowe!$AI$2,I932,0)","v":" "},null,{"$f":"IFERROR(MATCH(D932,listy_slownikowe!$AH$3:$AH$326,0),0)","v":0},0]
[null,{"$f":"OFFSET(listy_slownikowe!$AG$2,I933,0)","v":" "},null,null,null,null,{"$f":"OFFSET(listy_slownikowe!$AI$2,I933,0)","v":" "},null,{"$f":"IFERROR(MATCH(D933,listy_slownikowe!$AH$3:$AH$326,0),0)","v":0},0]
[null,{"$f":"OFFSET(listy_slownikowe!$AG$2,I934,0)","v":" "},null,null,null,null,{"$f":"OFFSET(listy_slownikowe!$AI$2,I934,0)","v":" "},null,{"$f":"IFERROR(MATCH(D934,listy_slownikowe!$AH$3:$AH$326,0),0)","v":0},0]
[null,{"$f":"OFFSET(listy_slownikowe!$AG$2,I935,0)","v":" "},null,null,null,null,{"$f":"OFFSET(listy_slownikowe!$AI$2,I935,0)","v":" "},null,{"$f":"IFERROR(MATCH(D935,listy_slownikowe!$AH$3:$AH$326,0),0)","v":0},0]
[null,{"$f":"OFFSET(listy_slownikowe!$AG$2,I936,0)","v":" "},null,null,null,null,{"$f":"OFFSET(listy_slownikowe!$AI$2,I936,0)","v":" "},null,{"$f":"IFERROR(MATCH(D936,listy_slownikowe!$AH$3:$AH$326,0),0)","v":0},0]
[null,{"$f":"OFFSET(listy_slownikowe!$AG$2,I937,0)","v":" "},null,null,null,null,{"$f":"OFFSET(listy_slownikowe!$AI$2,I937,0)","v":" "},null,{"$f":"IFERROR(MATCH(D937,listy_slownikowe!$AH$3:$AH$326,0),0)","v":0},0]
[null,{"$f":"OFFSET(listy_slownikowe!$AG$2,I938,0)","v":" "},null,null,null,null,{"$f":"OFFSET(listy_slownikowe!$AI$2,I938,0)","v":" "},null,{"$f":"IFERROR(MATCH(D938,listy_slownikowe!$AH$3:$AH$326,0),0)","v":0},0]
[null,{"$f":"OFFSET(listy_slownikowe!$AG$2,I939,0)","v":" "},null,"",null,null,{"$f":"OFFSET(listy_slownikowe!$AI$2,I939,0)","v":" "},null,{"$f":"IFERROR(MATCH(D939,listy_slownikowe!$AH$3:$AH$326,0),0)","v":0},0]
[null,{"$f":"OFFSET(listy_slownikowe!$AG$2,I940,0)","v":" "},null,null,null,null,{"$f":"OFFSET(listy_slownikowe!$AI$2,I940,0)","v":" "},null,{"$f":"IFERROR(MATCH(D940,listy_slownikowe!$AH$3:$AH$326,0),0)","v":0},0]
[null,"Gatunki dominujące i subdominujące",null,null,null,null,null,null,null,{"$f":"J942","v":0}]
[null,"nazwa łacińska",null,"nazwa polska",null,null,"udział [%]",null,null,{"$f":"SUM(J943:J947)","v":0}]
[null,null,null,null,null,null,null,null,null,{"$f":"COUNTA(B943:G943)","v":0}]
[null,null,null,null,null,null,null,null,null,0]
[null,null,null,null,null,null,null,null,null,0]
[null,null,null,null,null,null,null,null,null,0]
[null,null,null,null,null,null,null,null,null,0]
[]
[null,"Spis gatunków numer:",null,null,null,null,{"$f":"G922+1","v":36},null,null,{"$f":"J953","v":0}]
[null,"Współrzędne geograficzne",null,null,null,null,null,null,null,{"$f":"J954","v":0}]
[null,"Długość geograficzna [E] ",null,null,"Szerokość geograficzna [N]",null,null,null,null,{"$f":"J954","v":0}]
[null,"stopnie","minuty","sekundy","stopnie","minuty","sekundy",null,null,{"$f":"J953","v":0}]
[null,null,null,null,null,null,null,null,null,{"$f":"J955+J969","v":0}]
[null,"Gatunki wskaźnikowe",null,null,null,null,null,null,null,{"$f":"J955","v":0}]
[null,"nazwa łacińska",null,"nazwa polska",null,null,"walor ",null,null,{"$f":"SUM(J956:J967)","v":0}]
[null,{"$f":"OFFSET(listy_slownikowe!$AG$2,I956,0)","v":" "},null,null,null,null,{"$f":"OFFSET(listy_slownikowe!$AI$2,I956,0)","v":" "},null,{"$f":"IFERROR(MATCH(D956,listy_slownikowe!$AH$3:$AH$326,0),0)","v":0},{"$f":"I956","v":0}]
[null,{"$f":"OFFSET(listy_slownikowe!$AG$2,I957,0)","v":" "},null,null,null,null,{"$f":"OFFSET(listy_slownikowe!$AI$2,I957,0)","v":" "},null,{"$f":"IFERROR(MATCH(D957,listy_slownikowe!$AH$3:$AH$326,0),0)","v":0},{"$f":"I957","v":0}]
[null,{"$f":"OFFSET(listy_slownikowe!$AG$2,I958,0)","v":" "},null,null,null,null,{"$f":"OFFSET(listy_slownikowe!$AI$2,I958,0)","v":" "},null,{"$f":"IFERROR(MATCH(D958,listy_slownikowe!$AH$3:$AH$326,0),0)","v":0},0]
[null,{"$f":"OFFSET(listy_slownikowe!$AG$2,I959,0)","v":" "},null,null,null,null,{"$f":"OFFSET(listy_slownikowe!$AI$2,I959,0)","v":" "},null,{"$f":"IFERROR(MATCH(D959,listy_slownikowe!$AH$3:$AH$326,0),0)","v":0},0]
[null,{"$f":"OFFSET(listy_slownikowe!$AG$2,I960,0)","v":" "},null,null,null,null,{"$f":"OFFSET(listy_slownikowe!$AI$2,I960,0)","v":" "},null,{"$f":"IFERROR(MATCH(D960,listy_slownikowe!$AH$3:$AH$326,0),0)","v":0},0]
[null,{"$f":"OFFSET(listy_slownikowe!$AG$2,I961,0)","v":" "},null,null,null,null,{"$f":"OFFSET(listy_slownikowe!$AI$2,I961,0)","v":" "},null,{"$f":"IFERROR(MATCH(D961,listy_slownikowe!$AH$3:$AH$326,0),0)","v":0},0]
[null,{"$f":"OFFSET(listy_slownikowe!$AG$2,I962,0)","v":" "},null,null,null,null,{"$f":"OFFSET(listy_slownikowe!$AI$2,I962,0)","v":" "},null,{"$f":"IFERROR(MATCH(D962,listy_slownikowe!$AH$3:$AH$326,0),0)","v":0},0]
[null,{"$f":"OFFSET(listy_slownikowe!$AG$2,I963,0)","v":" "},null,null,null,null,{"$f":"OFFSET(listy_slownikowe!$AI$2,I963,0)","v":" "},null,{"$f":"IFERROR(MATCH(D963,listy_slownikowe!$AH$3:$AH$326,0),0)","v":0},0]
[null,{"$f":"OFFSET(listy_slownikowe!$AG$2,I964,0)","v":" "},null,null,null,null,{"$f":"OFFSET(listy_slownikowe!$AI$2,I964,0)","v":" "},null,{"$f":"IFERROR(MATCH(D964,listy_slownikowe!$AH$3:$AH$326,0),0)","v":0},0]
[null,{"$f":"OFFSET(listy_slownikowe!$AG$2,I965,0)","v":" "},null,null,null,null,{"$f":"OFFSET(listy_slownikowe!$AI$2,I965,0)","v":" "},null,{"$f":"IFERROR(MATCH(D965,listy_slownikowe!$AH$3:$AH$326,0),0)","v":0},0]
[null,{"$f":"OFFSET(listy_slownikowe!$AG$2,I966,0)","v":" "},null,"",null,null,{"$f":"OFFSET(listy_slownikowe!$AI$2,I966,0)","v":" "},null,{"$f":"IFERROR(MATCH(D966,listy_slownikowe!$AH$3:$AH$326,0),0)","v":0},0]
[null,{"$f":"OFFSET(listy_slownikowe!$AG$2,I967,0)","v":" "},null,null,null,null,{"$f":"OFFSET(listy_slownikowe!$AI$2,I967,0)","v":" "},null,{"$f":"IFERROR(MATCH(D967,listy_slownikowe!$AH$3:$AH$326,0),0)","v":0},0]
[null,"Gatunki dominujące i subdominujące",null,null,null,null,null,null,null,{"$f":"J969","v":0}]
[null,"nazwa łacińska",null,"nazwa polska",null,null,"udział [%]",null,null,{"$f":"SUM(J970:J974)","v":0}]
[null,null,null,null,null,null,null,null,null,{"$f":"COUNTA(B970:G970)","v":0}]
[null,null,null,null,null,null,null,null,null,0]
[null,null,null,null,null,null,null,null,null,0]
[null,null,null,null,null,null,null,null,null,0]
[null,null,null,null,null,null,null,null,null,0]
[]
[null,"Spis gatunków numer:",null,null,null,null,{"$f":"G949+1","v":37},null,null,{"$f":"J980","v":0}]
[null,"Współrzędne geograficzne",null,null,null,null,null,null,null,{"$f":"J981","v":0}]
[null,"Długość geograficzna [E] ",null,null,"Szerokość geograficzna [N]",null,null,null,null,{"$f":"J981","v":0}]
[null,"stopnie","minuty","sekundy","stopnie","minuty","sekundy",null,null,{"$f":"J980","v":0}]
[null,null,null,null,null,null,null,null,null,{"$f":"J982+J996","v":0}]
[null,"Gatunki wskaźnikowe",null,null,null,null,null,null,null,{"$f":"J982","v":0}]
[null,"nazwa łacińska",null,"nazwa polska",null,null,"walor ",null,null,{"$f":"SUM(J983:J994)","v":0}]
[null,{"$f":"OFFSET(listy_slownikowe!$AG$2,I983,0)","v":" "},null,null,null,null,{"$f":"OFFSET(listy_slownikowe!$AI$2,I983,0)","v":" "},null,{"$f":"IFERROR(MATCH(D983,listy_slownikowe!$AH$3:$AH$326,0),0)","v":0},{"$f":"I983","v":0}]
[null,{"$f":"OFFSET(listy_slownikowe!$AG$2,I984,0)","v":" "},null,null,null,null,{"$f":"OFFSET(listy_slownikowe!$AI$2,I984,0)","v":" "},null,{"$f":"IFERROR(MATCH(D984,listy_slownikowe!$AH$3:$AH$326,0),0)","v":0},{"$f":"I984","v":0}]
[null,{"$f":"OFFSET(listy_slownikowe!$AG$2,I985,0)","v":" "},null,null,null,null,{"$f":"OFFSET(listy_slownikowe!$AI$2,I985,0)","v":" "},null,{"$f":"IFERROR(MATCH(D985,listy_slownikowe!$AH$3:$AH$326,0),0)","v":0},0]
[null,{"$f":"OFFSET(listy_slownikowe!$AG$2,I986,0)","v":" "},null,null,null,null,{"$f":"OFFSET(listy_slownikowe!$AI$2,I986,0)","v":" "},null,{"$f":"IFERROR(MATCH(D986,listy_slownikowe!$AH$3:$AH$326,0),0)","v":0},0]
[null,{"$f":"OFFSET(listy_slownikowe!$AG$2,I987,0)","v":" "},null,null,null,null,{"$f":"OFFSET(listy_slownikowe!$AI$2,I987,0)","v":" "},null,{"$f":"IFERROR(MATCH(D987,listy_slownikowe!$AH$3:$AH$326,0),0)","v":0},0]
[null,{"$f":"OFFSET(listy_slownikowe!$AG$2,I988,0)","v":" "},null,null,null,null,{"$f":"OFFSET(listy_slownikowe!$AI$2,I988,0)","v":" "},null,{"$f":"IFERROR(MATCH(D988,listy_slownikowe!$AH$3:$AH$326,0),0)","v":0},0]
[null,{"$f":"OFFSET(listy_slownikowe!$AG$2,I989,0)","v":" "},null,null,null,null,{"$f":"OFFSET(listy_slownikowe!$AI$2,I989,0)","v":" "},null,{"$f":"IFERROR(MATCH(D989,listy_slownikowe!$AH$3:$AH$326,0),0)","v":0},0]
[null,{"$f":"OFFSET(listy_slownikowe!$AG$2,I990,0)","v":" "},null,null,null,null,{"$f":"OFFSET(listy_slownikowe!$AI$2,I990,0)","v":" "},null,{"$f":"IFERROR(MATCH(D990,listy_slownikowe!$AH$3:$AH$326,0),0)","v":0},0]
[null,{"$f":"OFFSET(listy_slownikowe!$AG$2,I991,0)","v":" "},null,null,null,null,{"$f":"OFFSET(listy_slownikowe!$AI$2,I991,0)","v":" "},null,{"$f":"IFERROR(MATCH(D991,listy_slownikowe!$AH$3:$AH$326,0),0)","v":0},0]
[null,{"$f":"OFFSET(listy_slownikowe!$AG$2,I992,0)","v":" "},null,null,null,null,{"$f":"OFFSET(listy_slownikowe!$AI$2,I992,0)","v":" "},null,{"$f":"IFERROR(MATCH(D992,listy_slownikowe!$AH$3:$AH$326,0),0)","v":0},0]
[null,{"$f":"OFFSET(listy_slownikowe!$AG$2,I993,0)","v":" "},null,"",null,null,{"$f":"OFFSET(listy_slownikowe!$AI$2,I993,0)","v":" "},null,{"$f":"IFERROR(MATCH(D993,listy_slownikowe!$AH$3:$AH$326,0),0)","v":0},0]
[null,{"$f":"OFFSET(listy_slownikowe!$AG$2,I994,0)","v":" "},null,null,null,null,{"$f":"OFFSET(listy_slownikowe!$AI$2,I994,0)","v":" "},null,{"$f":"IFERROR(MATCH(D994,listy_slownikowe!$AH$3:$AH$326,0),0)","v":0},0]
[null,"Gatunki dominujące i subdominujące",null,null,null,null,null,null,null,{"$f":"J996","v":0}]
[null,"nazwa łacińska",null,"nazwa polska",null,null,"udział [%]",null,null,{"$f":"SUM(J997:J1001)","v":0}]
[null,null,null,null,null,null,null,null,null,{"$f":"COUNTA(B997:G997)","v":0}]
[null,null,null,null,null,null,null,null,null,0]
[null,null,null,null,null,null,null,null,null,0]
[null,null,null,null,null,null,null,null,null,0]
[null,null,null,null,null,null,null,null,null,0]
[]
[null,"Spis gatunków numer:",null,null,null,null,{"$f":"G976+1","v":38},null,null,{"$f":"J1007","v":0}]
[null,"Współrzędne geograficzne",null,null,null,null,null,null,null,{"$f":"J1008","v":0}]
[null,"Długość geograficzna [E] ",null,null,"Szerokość geograficzna [N]",null,null,null,null,{"$f":"J1008","v":0}]
[null,"stopnie","minuty","sekundy","stopnie","minuty","sekundy",null,null,{"$f":"J1007","v":0}]
[null,null,null,null,null,null,null,null,null,{"$f":"J1009+J1023","v":0}]
[null,"Gatunki wskaźnikowe",null,null,null,null,null,null,null,{"$f":"J1009","v":0}]
[null,"nazwa łacińska",null,"nazwa polska",null,null,"walor ",null,null,{"$f":"SUM(J1010:J1021)","v":0}]
[null,{"$f":"OFFSET(listy_slownikowe!$AG$2,I1010,0)","v":" "},null,null,null,null,{"$f":"OFFSET(listy_slownikowe!$AI$2,I1010,0)","v":" "},null,{"$f":"IFERROR(MATCH(D1010,listy_slownikowe!$AH$3:$AH$326,0),0)","v":0},{"$f":"I1010","v":0}]
[null,{"$f":"OFFSET(listy_slownikowe!$AG$2,I1011,0)","v":" "},null,null,null,null,{"$f":"OFFSET(listy_slownikowe!$AI$2,I1011,0)","v":" "},null,{"$f":"IFERROR(MATCH(D1011,listy_slownikowe!$AH$3:$AH$326,0),0)","v":0},{"$f":"I1011","v":0}]
[null,{"$f":"OFFSET(listy_slownikowe!$AG$2,I1012,0)","v":" "},null,null,null,null,{"$f":"OFFSET(listy_slownikowe!$AI$2,I1012,0)","v":" "},null,{"$f":"IFERROR(MATCH(D1012,listy_slownikowe!$AH$3:$AH$326,0),0)","v":0},0]
[null,{"$f":"OFFSET(listy_slownikowe!$AG$2,I1013,0)","v":" "},null,null,null,null,{"$f":"OFFSET(listy_slownikowe!$AI$2,I1013,0)","v":" "},null,{"$f":"IFERROR(MATCH(D1013,listy_slownikowe!$AH$3:$AH$326,0),0)","v":0},0]
[null,{"$f":"OFFSET(listy_slownikowe!$AG$2,I1014,0)","v":" "},null,null,null,null,{"$f":"OFFSET(listy_slownikowe!$AI$2,I1014,0)","v":" "},null,{"$f":"IFERROR(MATCH(D1014,listy_slownikowe!$AH$3:$AH$326,0),0)","v":0},0]
[null,{"$f":"OFFSET(listy_slownikowe!$AG$2,I1015,0)","v":" "},null,null,null,null,{"$f":"OFFSET(listy_slownikowe!$AI$2,I1015,0)","v":" "},null,{"$f":"IFERROR(MATCH(D1015,listy_slownikowe!$AH$3:$AH$326,0),0)","v":0},0]
[null,{"$f":"OFFSET(listy_slownikowe!$AG$2,I1016,0)","v":" "},null,null,null,null,{"$f":"OFFSET(listy_slownikowe!$AI$2,I1016,0)","v":" "},null,{"$f":"IFERROR(MATCH(D1016,listy_slownikowe!$AH$3:$AH$326,0),0)","v":0},0]
[null,{"$f":"OFFSET(listy_slownikowe!$AG$2,I1017,0)","v":" "},null,null,null,null,{"$f":"OFFSET(listy_slownikowe!$AI$2,I1017,0)","v":" "},null,{"$f":"IFERROR(MATCH(D1017,listy_slownikowe!$AH$3:$AH$326,0),0)","v":0},0]
[null,{"$f":"OFFSET(listy_slownikowe!$AG$2,I1018,0)","v":" "},null,null,null,null,{"$f":"OFFSET(listy_slownikowe!$AI$2,I1018,0)","v":" "},null,{"$f":"IFERROR(MATCH(D1018,listy_slownikowe!$AH$3:$AH$326,0),0)","v":0},0]
[null,{"$f":"OFFSET(listy_slownikowe!$AG$2,I1019,0)","v":" "},null,null,null,null,{"$f":"OFFSET(listy_slownikowe!$AI$2,I1019,0)","v":" "},null,{"$f":"IFERROR(MATCH(D1019,listy_slownikowe!$AH$3:$AH$326,0),0)","v":0},0]
[null,{"$f":"OFFSET(listy_slownikowe!$AG$2,I1020,0)","v":" "},null,"",null,null,{"$f":"OFFSET(listy_slownikowe!$AI$2,I1020,0)","v":" "},null,{"$f":"IFERROR(MATCH(D1020,listy_slownikowe!$AH$3:$AH$326,0),0)","v":0},0]
[null,{"$f":"OFFSET(listy_slownikowe!$AG$2,I1021,0)","v":" "},null,null,null,null,{"$f":"OFFSET(listy_slownikowe!$AI$2,I1021,0)","v":" "},null,{"$f":"IFERROR(MATCH(D1021,listy_slownikowe!$AH$3:$AH$326,0),0)","v":0},0]
[null,"Gatunki dominujące i subdominujące",null,null,null,null,null,null,null,{"$f":"J1023","v":0}]
[null,"nazwa łacińska",null,"nazwa polska",null,null,"udział [%]",null,null,{"$f":"SUM(J1024:J1028)","v":0}]
[null,null,null,null,null,null,null,null,null,{"$f":"COUNTA(B1024:G1024)","v":0}]
[null,null,null,null,null,null,null,null,null,0]
[null,null,null,null,null,null,null,null,null,0]
[null,null,null,null,null,null,null,null,null,0]
[null,null,null,null,null,null,null,null,null,0]
[]
[null,"Spis gatunków numer:",null,null,null,null,{"$f":"G1003+1","v":39},null,null,{"$f":"J1034","v":0}]
[null,"Współrzędne geograficzne",null,null,null,null,null,null,null,{"$f":"J1035","v":0}]
[null,"Długość geograficzna [E] ",null,null,"Szerokość geograficzna [N]",null,null,null,null,{"$f":"J1035","v":0}]
[null,"stopnie","minuty","sekundy","stopnie","minuty","sekundy",null,null,{"$f":"J1034","v":0}]
[null,null,null,null,null,null,null,null,null,{"$f":"J1036+J1050","v":0}]
[null,"Gatunki wskaźnikowe",null,null,null,null,null,null,null,{"$f":"J1036","v":0}]
[null,"nazwa łacińska",null,"nazwa polska",null,null,"walor ",null,null,{"$f":"SUM(J1037:J1048)","v":0}]
[null,{"$f":"OFFSET(listy_slownikowe!$AG$2,I1037,0)","v":" "},null,null,null,null,{"$f":"OFFSET(listy_slownikowe!$AI$2,I1037,0)","v":" "},null,{"$f":"IFERROR(MATCH(D1037,listy_slownikowe!$AH$3:$AH$326,0),0)","v":0},{"$f":"I1037","v":0}]
[null,{"$f":"OFFSET(listy_slownikowe!$AG$2,I1038,0)","v":" "},null,null,null,null,{"$f":"OFFSET(listy_slownikowe!$AI$2,I1038,0)","v":" "},null,{"$f":"IFERROR(MATCH(D1038,listy_slownikowe!$AH$3:$AH$326,0),0)","v":0},{"$f":"I1038","v":0}]
[null,{"$f":"OFFSET(listy_slownikowe!$AG$2,I1039,0)","v":" "},null,null,null,null,{"$f":"OFFSET(listy_slownikowe!$AI$2,I1039,0)","v":" "},null,{"$f":"IFERROR(MATCH(D1039,listy_slownikowe!$AH$3:$AH$326,0),0)","v":0},0]
[null,{"$f":"OFFSET(listy_slownikowe!$AG$2,I1040,0)","v":" "},null,null,null,null,{"$f":"OFFSET(listy_slownikowe!$AI$2,I1040,0)","v":" "},null,{"$f":"IFERROR(MATCH(D1040,listy_slownikowe!$AH$3:$AH$326,0),0)","v":0},0]
[null,{"$f":"OFFSET(listy_slownikowe!$AG$2,I1041,0)","v":" "},null,null,null,null,{"$f":"OFFSET(listy_slownikowe!$AI$2,I1041,0)","v":" "},null,{"$f":"IFERROR(MATCH(D1041,listy_slownikowe!$AH$3:$AH$326,0),0)","v":0},0]
[null,{"$f":"OFFSET(listy_slownikowe!$AG$2,I1042,0)","v":" "},null,null,null,null,{"$f":"OFFSET(listy_slownikowe!$AI$2,I1042,0)","v":" "},null,{"$f":"IFERROR(MATCH(D1042,listy_slownikowe!$AH$3:$AH$326,0),0)","v":0},0]
[null,{"$f":"OFFSET(listy_slownikowe!$AG$2,I1043,0)","v":" "},null,null,null,null,{"$f":"OFFSET(listy_slownikowe!$AI$2,I1043,0)","v":" "},null,{"$f":"IFERROR(MATCH(D1043,listy_slownikowe!$AH$3:$AH$326,0),0)","v":0},0]
[null,{"$f":"OFFSET(listy_slownikowe!$AG$2,I1044,0)","v":" "},null,null,null,null,{"$f":"OFFSET(listy_slownikowe!$AI$2,I1044,0)","v":" "},null,{"$f":"IFERROR(MATCH(D1044,listy_slownikowe!$AH$3:$AH$326,0),0)","v":0},0]
[null,{"$f":"OFFSET(listy_slownikowe!$AG$2,I1045,0)","v":" "},null,null,null,null,{"$f":"OFFSET(listy_slownikowe!$AI$2,I1045,0)","v":" "},null,{"$f":"IFERROR(MATCH(D1045,listy_slownikowe!$AH$3:$AH$326,0),0)","v":0},0]
[null,{"$f":"OFFSET(listy_slownikowe!$AG$2,I1046,0)","v":" "},null,null,null,null,{"$f":"OFFSET(listy_slownikowe!$AI$2,I1046,0)","v":" "},null,{"$f":"IFERROR(MATCH(D1046,listy_slownikowe!$AH$3:$AH$326,0),0)","v":0},0]
[null,{"$f":"OFFSET(listy_slownikowe!$AG$2,I1047,0)","v":" "},null,"",null,null,{"$f":"OFFSET(listy_slownikowe!$AI$2,I1047,0)","v":" "},null,{"$f":"IFERROR(MATCH(D1047,listy_slownikowe!$AH$3:$AH$326,0),0)","v":0},0]
[null,{"$f":"OFFSET(listy_slownikowe!$AG$2,I1048,0)","v":" "},null,null,null,null,{"$f":"OFFSET(listy_slownikowe!$AI$2,I1048,0)","v":" "},null,{"$f":"IFERROR(MATCH(D1048,listy_slownikowe!$AH$3:$AH$326,0),0)","v":0},0]
[null,"Gatunki dominujące i subdominujące",null,null,null,null,null,null,null,{"$f":"J1050","v":0}]
[null,"nazwa łacińska",null,"nazwa polska",null,null,"udział [%]",null,null,{"$f":"SUM(J1051:J1055)","v":0}]
[null,null,null,null,null,null,null,null,null,{"$f":"COUNTA(B1051:G1051)","v":0}]
[null,null,null,null,null,null,null,null,null,0]
[null,null,null,null,null,null,null,null,null,0]
[null,null,null,null,null,null,null,null,null,0]
[null,null,null,null,null,null,null,null,null,0]
[]
[null,"Spis gatunków numer:",null,null,null,null,{"$f":"G1030+1","v":40},null,null,{"$f":"J1061","v":0}]
[null,"Współrzędne geograficzne",null,null,null,null,null,null,null,{"$f":"J1062","v":0}]
[null,"Długość geograficzna [E] ",null,null,"Szerokość geograficzna [N]",null,null,null,null,{"$f":"J1062","v":0}]
[null,"stopnie","minuty","sekundy","stopnie","minuty","sekundy",null,null,{"$f":"J1061","v":0}]
[null,null,null,null,null,null,null,null,null,{"$f":"J1063+J1077","v":0}]
[null,"Gatunki wskaźnikowe",null,null,null,null,null,null,null,{"$f":"J1063","v":0}]
[null,"nazwa łacińska",null,"nazwa polska",null,null,"walor ",null,null,{"$f":"SUM(J1064:J1075)","v":0}]
[null,{"$f":"OFFSET(listy_slownikowe!$AG$2,I1064,0)","v":" "},null,null,null,null,{"$f":"OFFSET(listy_slownikowe!$AI$2,I1064,0)","v":" "},null,{"$f":"IFERROR(MATCH(D1064,listy_slownikowe!$AH$3:$AH$326,0),0)","v":0},{"$f":"I1064","v":0}]
[null,{"$f":"OFFSET(listy_slownikowe!$AG$2,I1065,0)","v":" "},null,null,null,null,{"$f":"OFFSET(listy_slownikowe!$AI$2,I1065,0)","v":" "},null,{"$f":"IFERROR(MATCH(D1065,listy_slownikowe!$AH$3:$AH$326,0),0)","v":0},{"$f":"I1065","v":0}]
[null,{"$f":"OFFSET(listy_slownikowe!$AG$2,I1066,0)","v":" "},null,null,null,null,{"$f":"OFFSET(listy_slownikowe!$AI$2,I1066,0)","v":" "},null,{"$f":"IFERROR(MATCH(D1066,listy_slownikowe!$AH$3:$AH$326,0),0)","v":0},0]
[null,{"$f":"OFFSET(listy_slownikowe!$AG$2,I1067,0)","v":" "},null,null,null,null,{"$f":"OFFSET(listy_slownikowe!$AI$2,I1067,0)","v":" "},null,{"$f":"IFERROR(MATCH(D1067,listy_slownikowe!$AH$3:$AH$326,0),0)","v":0},0]
[null,{"$f":"OFFSET(listy_slownikowe!$AG$2,I1068,0)","v":" "},null,null,null,null,{"$f":"OFFSET(listy_slownikowe!$AI$2,I1068,0)","v":" "},null,{"$f":"IFERROR(MATCH(D1068,listy_slownikowe!$AH$3:$AH$326,0),0)","v":0},0]
[null,{"$f":"OFFSET(listy_slownikowe!$AG$2,I1069,0)","v":" "},null,null,null,null,{"$f":"OFFSET(listy_slownikowe!$AI$2,I1069,0)","v":" "},null,{"$f":"IFERROR(MATCH(D1069,listy_slownikowe!$AH$3:$AH$326,0),0)","v":0},0]
[null,{"$f":"OFFSET(listy_slownikowe!$AG$2,I1070,0)","v":" "},null,null,null,null,{"$f":"OFFSET(listy_slownikowe!$AI$2,I1070,0)","v":" "},null,{"$f":"IFERROR(MATCH(D1070,listy_slownikowe!$AH$3:$AH$326,0),0)","v":0},0]
[null,{"$f":"OFFSET(listy_slownikowe!$AG$2,I1071,0)","v":" "},null,null,null,null,{"$f":"OFFSET(listy_slownikowe!$AI$2,I1071,0)","v":" "},null,{"$f":"IFERROR(MATCH(D1071,listy_slownikowe!$AH$3:$AH$326,0),0)","v":0},0]
[null,{"$f":"OFFSET(listy_slownikowe!$AG$2,I1072,0)","v":" "},null,null,null,null,{"$f":"OFFSET(listy_slownikowe!$AI$2,I1072,0)","v":" "},null,{"$f":"IFERROR(MATCH(D1072,listy_slownikowe!$AH$3:$AH$326,0),0)","v":0},0]
[null,{"$f":"OFFSET(listy_slownikowe!$AG$2,I1073,0)","v":" "},null,null,null,null,{"$f":"OFFSET(listy_slownikowe!$AI$2,I1073,0)","v":" "},null,{"$f":"IFERROR(MATCH(D1073,listy_slownikowe!$AH$3:$AH$326,0),0)","v":0},0]
[null,{"$f":"OFFSET(listy_slownikowe!$AG$2,I1074,0)","v":" "},null,"",null,null,{"$f":"OFFSET(listy_slownikowe!$AI$2,I1074,0)","v":" "},null,{"$f":"IFERROR(MATCH(D1074,listy_slownikowe!$AH$3:$AH$326,0),0)","v":0},0]
[null,{"$f":"OFFSET(listy_slownikowe!$AG$2,I1075,0)","v":" "},null,null,null,null,{"$f":"OFFSET(listy_slownikowe!$AI$2,I1075,0)","v":" "},null,{"$f":"IFERROR(MATCH(D1075,listy_slownikowe!$AH$3:$AH$326,0),0)","v":0},0]
[null,"Gatunki dominujące i subdominujące",null,null,null,null,null,null,null,{"$f":"J1077","v":0}]
[null,"nazwa łacińska",null,"nazwa polska",null,null,"udział [%]",null,null,{"$f":"SUM(J1078:J1082)","v":0}]
[null,null,null,null,null,null,null,null,null,{"$f":"COUNTA(B1078:G1078)","v":0}]
[null,null,null,null,null,null,null,null,null,0]
[null,null,null,null,null,null,null,null,null,0]
[null,null,null,null,null,null,null,null,null,0]
[null,null,null,null,null,null,null,null,null,0]
[]
[null,"Spis gatunków numer:",null,null,null,null,{"$f":"G1057+1","v":41},null,null,{"$f":"J1088","v":0}]
[null,"Współrzędne geograficzne",null,null,null,null,null,null,null,{"$f":"J1089","v":0}]
[null,"Długość geograficzna [E] ",null,null,"Szerokość geograficzna [N]",null,null,null,null,{"$f":"J1089","v":0}]
[null,"stopnie","minuty","sekundy","stopnie","minuty","sekundy",null,null,{"$f":"J1088","v":0}]
[null,null,null,null,null,null,null,null,null,{"$f":"J1090+J1104","v":0}]
[null,"Gatunki wskaźnikowe",null,null,null,null,null,null,null,{"$f":"J1090","v":0}]
[null,"nazwa łacińska",null,"nazwa polska",null,null,"walor ",null,null,{"$f":"SUM(J1091:J1102)","v":0}]
[null,{"$f":"OFFSET(listy_slownikowe!$AG$2,I1091,0)","v":" "},null,null,null,null,{"$f":"OFFSET(listy_slownikowe!$AI$2,I1091,0)","v":" "},null,{"$f":"IFERROR(MATCH(D1091,listy_slownikowe!$AH$3:$AH$326,0),0)","v":0},{"$f":"I1091","v":0}]
[null,{"$f":"OFFSET(listy_slownikowe!$AG$2,I1092,0)","v":" "},null,null,null,null,{"$f":"OFFSET(listy_slownikowe!$AI$2,I1092,0)","v":" "},null,{"$f":"IFERROR(MATCH(D1092,listy_slownikowe!$AH$3:$AH$326,0),0)","v":0},{"$f":"I1092","v":0}]
[null,{"$f":"OFFSET(listy_slownikowe!$AG$2,I1093,0)","v":" "},null,null,null,null,{"$f":"OFFSET(listy_slownikowe!$AI$2,I1093,0)","v":" "},null,{"$f":"IFERROR(MATCH(D1093,listy_slownikowe!$AH$3:$AH$326,0),0)","v":0},0]
[null,{"$f":"OFFSET(listy_slownikowe!$AG$2,I1094,0)","v":" "},null,null,null,null,{"$f":"OFFSET(listy_slownikowe!$AI$2,I1094,0)","v":" "},null,{"$f":"IFERROR(MATCH(D1094,listy_slownikowe!$AH$3:$AH$326,0),0)","v":0},0]
[null,{"$f":"OFFSET(listy_slownikowe!$AG$2,I1095,0)","v":" "},null,null,null,null,{"$f":"OFFSET(listy_slownikowe!$AI$2,I1095,0)","v":" "},null,{"$f":"IFERROR(MATCH(D1095,listy_slownikowe!$AH$3:$AH$326,0),0)","v":0},0]
[null,{"$f":"OFFSET(listy_slownikowe!$AG$2,I1096,0)","v":" "},null,null,null,null,{"$f":"OFFSET(listy_slownikowe!$AI$2,I1096,0)","v":" "},null,{"$f":"IFERROR(MATCH(D1096,listy_slownikowe!$AH$3:$AH$326,0),0)","v":0},0]
[null,{"$f":"OFFSET(listy_slownikowe!$AG$2,I1097,0)","v":" "},null,null,null,null,{"$f":"OFFSET(listy_slownikowe!$AI$2,I1097,0)","v":" "},null,{"$f":"IFERROR(MATCH(D1097,listy_slownikowe!$AH$3:$AH$326,0),0)","v":0},0]
[null,{"$f":"OFFSET(listy_slownikowe!$AG$2,I1098,0)","v":" "},null,null,null,null,{"$f":"OFFSET(listy_slownikowe!$AI$2,I1098,0)","v":" "},null,{"$f":"IFERROR(MATCH(D1098,listy_slownikowe!$AH$3:$AH$326,0),0)","v":0},0]
[null,{"$f":"OFFSET(listy_slownikowe!$AG$2,I1099,0)","v":" "},null,null,null,null,{"$f":"OFFSET(listy_slownikowe!$AI$2,I1099,0)","v":" "},null,{"$f":"IFERROR(MATCH(D1099,listy_slownikowe!$AH$3:$AH$326,0),0)","v":0},0]
[null,{"$f":"OFFSET(listy_slownikowe!$AG$2,I1100,0)","v":" "},null,null,null,null,{"$f":"OFFSET(listy_slownikowe!$AI$2,I1100,0)","v":" "},null,{"$f":"IFERROR(MATCH(D1100,listy_slownikowe!$AH$3:$AH$326,0),0)","v":0},0]
[null,{"$f":"OFFSET(listy_slownikowe!$AG$2,I1101,0)","v":" "},null,"",null,null,{"$f":"OFFSET(listy_slownikowe!$AI$2,I1101,0)","v":" "},null,{"$f":"IFERROR(MATCH(D1101,listy_slownikowe!$AH$3:$AH$326,0),0)","v":0},0]
[null,{"$f":"OFFSET(listy_slownikowe!$AG$2,I1102,0)","v":" "},null,null,null,null,{"$f":"OFFSET(listy_slownikowe!$AI$2,I1102,0)","v":" "},null,{"$f":"IFERROR(MATCH(D1102,listy_slownikowe!$AH$3:$AH$326,0),0)","v":0},0]
[null,"Gatunki dominujące i subdominujące",null,null,null,null,null,null,null,{"$f":"J1104","v":0}]
[null,"nazwa łacińska",null,"nazwa polska",null,null,"udział [%]",null,null,{"$f":"SUM(J1105:J1109)","v":0}]
[null,null,null,null,null,null,null,null,null,{"$f":"COUNTA(B1105:G1105)","v":0}]
[null,null,null,null,null,null,null,null,null,0]
[null,null,null,null,null,null,null,null,null,0]
[null,null,null,null,null,null,null,null,null,0]
[null,null,null,null,null,null,null,null,null,0]
[]
[null,"Spis gatunków numer:",null,null,null,null,{"$f":"G1084+1","v":42},null,null,{"$f":"J1115","v":0}]
[null,"Współrzędne geograficzne",null,null,null,null,null,null,null,{"$f":"J1116","v":0}]
[null,"Długość geograficzna [E] ",null,null,"Szerokość geograficzna [N]",null,null,null,null,{"$f":"J1116","v":0}]
[null,"stopnie","minuty","sekundy","stopnie","minuty","sekundy",null,null,{"$f":"J1115","v":0}]
[null,null,null,null,null,null,null,null,null,{"$f":"J1117+J1131","v":0}]
[null,"Gatunki wskaźnikowe",null,null,null,null,null,null,null,{"$f":"J1117","v":0}]
[null,"nazwa łacińska",null,"nazwa polska",null,null,"walor ",null,null,{"$f":"SUM(J1118:J1129)","v":0}]
[null,{"$f":"OFFSET(listy_slownikowe!$AG$2,I1118,0)","v":" "},null,null,null,null,{"$f":"OFFSET(listy_slownikowe!$AI$2,I1118,0)","v":" "},null,{"$f":"IFERROR(MATCH(D1118,listy_slownikowe!$AH$3:$AH$326,0),0)","v":0},{"$f":"I1118","v":0}]
[null,{"$f":"OFFSET(listy_slownikowe!$AG$2,I1119,0)","v":" "},null,null,null,null,{"$f":"OFFSET(listy_slownikowe!$AI$2,I1119,0)","v":" "},null,{"$f":"IFERROR(MATCH(D1119,listy_slownikowe!$AH$3:$AH$326,0),0)","v":0},{"$f":"I1119","v":0}]
[null,{"$f":"OFFSET(listy_slownikowe!$AG$2,I1120,0)","v":" "},null,null,null,null,{"$f":"OFFSET(listy_slownikowe!$AI$2,I1120,0)","v":" "},null,{"$f":"IFERROR(MATCH(D1120,listy_slownikowe!$AH$3:$AH$326,0),0)","v":0},0]
[null,{"$f":"OFFSET(listy_slownikowe!$AG$2,I1121,0)","v":" "},null,null,null,null,{"$f":"OFFSET(listy_slownikowe!$AI$2,I1121,0)","v":" "},null,{"$f":"IFERROR(MATCH(D1121,listy_slownikowe!$AH$3:$AH$326,0),0)","v":0},0]
[null,{"$f":"OFFSET(listy_slownikowe!$AG$2,I1122,0)","v":" "},null,null,null,null,{"$f":"OFFSET(listy_slownikowe!$AI$2,I1122,0)","v":" "},null,{"$f":"IFERROR(MATCH(D1122,listy_slownikowe!$AH$3:$AH$326,0),0)","v":0},0]
[null,{"$f":"OFFSET(listy_slownikowe!$AG$2,I1123,0)","v":" "},null,null,null,null,{"$f":"OFFSET(listy_slownikowe!$AI$2,I1123,0)","v":" "},null,{"$f":"IFERROR(MATCH(D1123,listy_slownikowe!$AH$3:$AH$326,0),0)","v":0},0]
[null,{"$f":"OFFSET(listy_slownikowe!$AG$2,I1124,0)","v":" "},null,null,null,null,{"$f":"OFFSET(listy_slownikowe!$AI$2,I1124,0)","v":" "},null,{"$f":"IFERROR(MATCH(D1124,listy_slownikowe!$AH$3:$AH$326,0),0)","v":0},0]
[null,{"$f":"OFFSET(listy_slownikowe!$AG$2,I1125,0)","v":" "},null,null,null,null,{"$f":"OFFSET(listy_slownikowe!$AI$2,I1125,0)","v":" "},null,{"$f":"IFERROR(MATCH(D1125,listy_slownikowe!$AH$3:$AH$326,0),0)","v":0},0]
[null,{"$f":"OFFSET(listy_slownikowe!$AG$2,I1126,0)","v":" "},null,null,null,null,{"$f":"OFFSET(listy_slownikowe!$AI$2,I1126,0)","v":" "},null,{"$f":"IFERROR(MATCH(D1126,listy_slownikowe!$AH$3:$AH$326,0),0)","v":0},0]
[null,{"$f":"OFFSET(listy_slownikowe!$AG$2,I1127,0)","v":" "},null,null,null,null,{"$f":"OFFSET(listy_slownikowe!$AI$2,I1127,0)","v":" "},null,{"$f":"IFERROR(MATCH(D1127,listy_slownikowe!$AH$3:$AH$326,0),0)","v":0},0]
[null,{"$f":"OFFSET(listy_slownikowe!$AG$2,I1128,0)","v":" "},null,"",null,null,{"$f":"OFFSET(listy_slownikowe!$AI$2,I1128,0)","v":" "},null,{"$f":"IFERROR(MATCH(D1128,listy_slownikowe!$AH$3:$AH$326,0),0)","v":0},0]
[null,{"$f":"OFFSET(listy_slownikowe!$AG$2,I1129,0)","v":" "},null,null,null,null,{"$f":"OFFSET(listy_slownikowe!$AI$2,I1129,0)","v":" "},null,{"$f":"IFERROR(MATCH(D1129,listy_slownikowe!$AH$3:$AH$326,0),0)","v":0},0]
[null,"Gatunki dominujące i subdominujące",null,null,null,null,null,null,null,{"$f":"J1131","v":0}]
[null,"nazwa łacińska",null,"nazwa polska",null,null,"udział [%]",null,null,{"$f":"SUM(J1132:J1136)","v":0}]
[null,null,null,null,null,null,null,null,null,{"$f":"COUNTA(B1132:G1132)","v":0}]
[null,null,null,null,null,null,null,null,null,0]
[null,null,null,null,null,null,null,null,null,0]
[null,null,null,null,null,null,null,null,null,0]
[null,null,null,null,null,null,null,null,null,0]
[]
[null,"Spis gatunków numer:",null,null,null,null,{"$f":"G1111+1","v":43},null,null,{"$f":"J1142","v":0}]
[null,"Współrzędne geograficzne",null,null,null,null,null,null,null,{"$f":"J1143","v":0}]
[null,"Długość geograficzna [E] ",null,null,"Szerokość geograficzna [N]",null,null,null,null,{"$f":"J1143","v":0}]
[null,"stopnie","minuty","sekundy","stopnie","minuty","sekundy",null,null,{"$f":"J1142","v":0}]
[null,null,null,null,null,null,null,null,null,{"$f":"J1144+J1158","v":0}]
[null,"Gatunki wskaźnikowe",null,null,null,null,null,null,null,{"$f":"J1144","v":0}]
[null,"nazwa łacińska",null,"nazwa polska",null,null,"walor ",null,null,{"$f":"SUM(J1145:J1156)","v":0}]
[null,{"$f":"OFFSET(listy_slownikowe!$AG$2,I1145,0)","v":" "},null,null,null,null,{"$f":"OFFSET(listy_slownikowe!$AI$2,I1145,0)","v":" "},null,{"$f":"IFERROR(MATCH(D1145,listy_slownikowe!$AH$3:$AH$326,0),0)","v":0},{"$f":"I1145","v":0}]
[null,{"$f":"OFFSET(listy_slownikowe!$AG$2,I1146,0)","v":" "},null,null,null,null,{"$f":"OFFSET(listy_slownikowe!$AI$2,I1146,0)","v":" "},null,{"$f":"IFERROR(MATCH(D1146,listy_slownikowe!$AH$3:$AH$326,0),0)","v":0},{"$f":"I1146","v":0}]
[null,{"$f":"OFFSET(listy_slownikowe!$AG$2,I1147,0)","v":" "},null,null,null,null,{"$f":"OFFSET(listy_slownikowe!$AI$2,I1147,0)","v":" "},null,{"$f":"IFERROR(MATCH(D1147,listy_slownikowe!$AH$3:$AH$326,0),0)","v":0},0]
[null,{"$f":"OFFSET(listy_slownikowe!$AG$2,I1148,0)","v":" "},null,null,null,null,{"$f":"OFFSET(listy_slownikowe!$AI$2,I1148,0)","v":" "},null,{"$f":"IFERROR(MATCH(D1148,listy_slownikowe!$AH$3:$AH$326,0),0)","v":0},0]
[null,{"$f":"OFFSET(listy_slownikowe!$AG$2,I1149,0)","v":" "},null,null,null,null,{"$f":"OFFSET(listy_slownikowe!$AI$2,I1149,0)","v":" "},null,{"$f":"IFERROR(MATCH(D1149,listy_slownikowe!$AH$3:$AH$326,0),0)","v":0},0]
[null,{"$f":"OFFSET(listy_slownikowe!$AG$2,I1150,0)","v":" "},null,null,null,null,{"$f":"OFFSET(listy_slownikowe!$AI$2,I1150,0)","v":" "},null,{"$f":"IFERROR(MATCH(D1150,listy_slownikowe!$AH$3:$AH$326,0),0)","v":0},0]
[null,{"$f":"OFFSET(listy_slownikowe!$AG$2,I1151,0)","v":" "},null,null,null,null,{"$f":"OFFSET(listy_slownikowe!$AI$2,I1151,0)","v":" "},null,{"$f":"IFERROR(MATCH(D1151,listy_slownikowe!$AH$3:$AH$326,0),0)","v":0},0]
[null,{"$f":"OFFSET(listy_slownikowe!$AG$2,I1152,0)","v":" "},null,null,null,null,{"$f":"OFFSET(listy_slownikowe!$AI$2,I1152,0)","v":" "},null,{"$f":"IFERROR(MATCH(D1152,listy_slownikowe!$AH$3:$AH$326,0),0)","v":0},0]
[null,{"$f":"OFFSET(listy_slownikowe!$AG$2,I1153,0)","v":" "},null,null,null,null,{"$f":"OFFSET(listy_slownikowe!$AI$2,I1153,0)","v":" "},null,{"$f":"IFERROR(MATCH(D1153,listy_slownikowe!$AH$3:$AH$326,0),0)","v":0},0]
[null,{"$f":"OFFSET(listy_slownikowe!$AG$2,I1154,0)","v":" "},null,null,null,null,{"$f":"OFFSET(listy_slownikowe!$AI$2,I1154,0)","v":" "},null,{"$f":"IFERROR(MATCH(D1154,listy_slownikowe!$AH$3:$AH$326,0),0)","v":0},0]
[null,{"$f":"OFFSET(listy_slownikowe!$AG$2,I1155,0)","v":" "},null,"",null,null,{"$f":"OFFSET(listy_slownikowe!$AI$2,I1155,0)","v":" "},null,{"$f":"IFERROR(MATCH(D1155,listy_slownikowe!$AH$3:$AH$326,0),0)","v":0},0]
[null,{"$f":"OFFSET(listy_slownikowe!$AG$2,I1156,0)","v":" "},null,null,null,null,{"$f":"OFFSET(listy_slownikowe!$AI$2,I1156,0)","v":" "},null,{"$f":"IFERROR(MATCH(D1156,listy_slownikowe!$AH$3:$AH$326,0),0)","v":0},0]
[null,"Gatunki dominujące i subdominujące",null,null,null,null,null,null,null,{"$f":"J1158","v":0}]
[null,"nazwa łacińska",null,"nazwa polska",null,null,"udział [%]",null,null,{"$f":"SUM(J1159:J1163)","v":0}]
[null,null,null,null,null,null,null,null,null,{"$f":"COUNTA(B1159:G1159)","v":0}]
[null,null,null,null,null,null,null,null,null,0]
[null,null,null,null,null,null,null,null,null,0]
[null,null,null,null,null,null,null,null,null,0]
[null,null,null,null,null,null,null,null,null,0]
[]
[null,"Spis gatunków numer:",null,null,null,null,{"$f":"G1138+1","v":44},null,null,{"$f":"J1169","v":0}]
[null,"Współrzędne geograficzne",null,null,null,null,null,null,null,{"$f":"J1170","v":0}]
[null,"Długość geograficzna [E] ",null,null,"Szerokość geograficzna [N]",null,null,null,null,{"$f":"J1170","v":0}]
[null,"stopnie","minuty","sekundy","stopnie","minuty","sekundy",null,null,{"$f":"J1169","v":0}]
[null,null,null,null,null,null,null,null,null,{"$f":"J1171+J1185","v":0}]
[null,"Gatunki wskaźnikowe",null,null,null,null,null,null,null,{"$f":"J1171","v":0}]
[null,"nazwa łacińska",null,"nazwa polska",null,null,"walor ",null,null,{"$f":"SUM(J1172:J1183)","v":0}]
[null,{"$f":"OFFSET(listy_slownikowe!$AG$2,I1172,0)","v":" "},null,null,null,null,{"$f":"OFFSET(listy_slownikowe!$AI$2,I1172,0)","v":" "},null,{"$f":"IFERROR(MATCH(D1172,listy_slownikowe!$AH$3:$AH$326,0),0)","v":0},{"$f":"I1172","v":0}]
[null,{"$f":"OFFSET(listy_slownikowe!$AG$2,I1173,0)","v":" "},null,null,null,null,{"$f":"OFFSET(listy_slownikowe!$AI$2,I1173,0)","v":" "},null,{"$f":"IFERROR(MATCH(D1173,listy_slownikowe!$AH$3:$AH$326,0),0)","v":0},{"$f":"I1173","v":0}]
[null,{"$f":"OFFSET(listy_slownikowe!$AG$2,I1174,0)","v":" "},null,null,null,null,{"$f":"OFFSET(listy_slownikowe!$AI$2,I1174,0)","v":" "},null,{"$f":"IFERROR(MATCH(D1174,listy_slownikowe!$AH$3:$AH$326,0),0)","v":0},0]
[null,{"$f":"OFFSET(listy_slownikowe!$AG$2,I1175,0)","v":" "},null,null,null,null,{"$f":"OFFSET(listy_slownikowe!$AI$2,I1175,0)","v":" "},null,{"$f":"IFERROR(MATCH(D1175,listy_slownikowe!$AH$3:$AH$326,0),0)","v":0},0]
[null,{"$f":"OFFSET(listy_slownikowe!$AG$2,I1176,0)","v":" "},null,null,null,null,{"$f":"OFFSET(listy_slownikowe!$AI$2,I1176,0)","v":" "},null,{"$f":"IFERROR(MATCH(D1176,listy_slownikowe!$AH$3:$AH$326,0),0)","v":0},0]
[null,{"$f":"OFFSET(listy_slownikowe!$AG$2,I1177,0)","v":" "},null,null,null,null,{"$f":"OFFSET(listy_slownikowe!$AI$2,I1177,0)","v":" "},null,{"$f":"IFERROR(MATCH(D1177,listy_slownikowe!$AH$3:$AH$326,0),0)","v":0},0]
[null,{"$f":"OFFSET(listy_slownikowe!$AG$2,I1178,0)","v":" "},null,null,null,null,{"$f":"OFFSET(listy_slownikowe!$AI$2,I1178,0)","v":" "},null,{"$f":"IFERROR(MATCH(D1178,listy_slownikowe!$AH$3:$AH$326,0),0)","v":0},0]
[null,{"$f":"OFFSET(listy_slownikowe!$AG$2,I1179,0)","v":" "},null,null,null,null,{"$f":"OFFSET(listy_slownikowe!$AI$2,I1179,0)","v":" "},null,{"$f":"IFERROR(MATCH(D1179,listy_slownikowe!$AH$3:$AH$326,0),0)","v":0},0]
[null,{"$f":"OFFSET(listy_slownikowe!$AG$2,I1180,0)","v":" "},null,null,null,null,{"$f":"OFFSET(listy_slownikowe!$AI$2,I1180,0)","v":" "},null,{"$f":"IFERROR(MATCH(D1180,listy_slownikowe!$AH$3:$AH$326,0),0)","v":0},0]
[null,{"$f":"OFFSET(listy_slownikowe!$AG$2,I1181,0)","v":" "},null,null,null,null,{"$f":"OFFSET(listy_slownikowe!$AI$2,I1181,0)","v":" "},null,{"$f":"IFERROR(MATCH(D1181,listy_slownikowe!$AH$3:$AH$326,0),0)","v":0},0]
[null,{"$f":"OFFSET(listy_slownikowe!$AG$2,I1182,0)","v":" "},null,"",null,null,{"$f":"OFFSET(listy_slownikowe!$AI$2,I1182,0)","v":" "},null,{"$f":"IFERROR(MATCH(D1182,listy_slownikowe!$AH$3:$AH$326,0),0)","v":0},0]
[null,{"$f":"OFFSET(listy_slownikowe!$AG$2,I1183,0)","v":" "},null,null,null,null,{"$f":"OFFSET(listy_slownikowe!$AI$2,I1183,0)","v":" "},null,{"$f":"IFERROR(MATCH(D1183,listy_slownikowe!$AH$3:$AH$326,0),0)","v":0},0]
[null,"Gatunki dominujące i subdominujące",null,null,null,null,null,null,null,{"$f":"J1185","v":0}]
[null,"nazwa łacińska",null,"nazwa polska",null,null,"udział [%]",null,null,{"$f":"SUM(J1186:J1190)","v":0}]
[null,null,null,null,null,null,null,null,null,{"$f":"COUNTA(B1186:G1186)","v":0}]
[null,null,null,null,null,null,null,null,null,0]
[null,null,null,null,null,null,null,null,null,0]
[null,null,null,null,null,null,null,null,null,0]
[null,null,null,null,null,null,null,null,null,0]
[]
[null,"Spis gatunków numer:",null,null,null,null,{"$f":"G1165+1","v":45},null,null,{"$f":"J1196","v":0}]
[null,"Współrzędne geograficzne",null,null,null,null,null,null,null,{"$f":"J1197","v":0}]
[null,"Długość geograficzna [E] ",null,null,"Szerokość geograficzna [N]",null,null,null,null,{"$f":"J1197","v":0}]
[null,"stopnie","minuty","sekundy","stopnie","minuty","sekundy",null,null,{"$f":"J1196","v":0}]
[null,null,null,null,null,null,null,null,null,{"$f":"J1198+J1212","v":0}]
[null,"Gatunki wskaźnikowe",null,null,null,null,null,null,null,{"$f":"J1198","v":0}]
[null,"nazwa łacińska",null,"nazwa polska",null,null,"walor ",null,null,{"$f":"SUM(J1199:J1210)","v":0}]
[null,{"$f":"OFFSET(listy_slownikowe!$AG$2,I1199,0)","v":" "},null,null,null,null,{"$f":"OFFSET(listy_slownikowe!$AI$2,I1199,0)","v":" "},null,{"$f":"IFERROR(MATCH(D1199,listy_slownikowe!$AH$3:$AH$326,0),0)","v":0},{"$f":"I1199","v":0}]
[null,{"$f":"OFFSET(listy_slownikowe!$AG$2,I1200,0)","v":" "},null,null,null,null,{"$f":"OFFSET(listy_slownikowe!$AI$2,I1200,0)","v":" "},null,{"$f":"IFERROR(MATCH(D1200,listy_slownikowe!$AH$3:$AH$326,0),0)","v":0},{"$f":"I1200","v":0}]
[null,{"$f":"OFFSET(listy_slownikowe!$AG$2,I1201,0)","v":" "},null,null,null,null,{"$f":"OFFSET(listy_slownikowe!$AI$2,I1201,0)","v":" "},null,{"$f":"IFERROR(MATCH(D1201,listy_slownikowe!$AH$3:$AH$326,0),0)","v":0},0]
[null,{"$f":"OFFSET(listy_slownikowe!$AG$2,I1202,0)","v":" "},null,null,null,null,{"$f":"OFFSET(listy_slownikowe!$AI$2,I1202,0)","v":" "},null,{"$f":"IFERROR(MATCH(D1202,listy_slownikowe!$AH$3:$AH$326,0),0)","v":0},0]
[null,{"$f":"OFFSET(listy_slownikowe!$AG$2,I1203,0)","v":" "},null,null,null,null,{"$f":"OFFSET(listy_slownikowe!$AI$2,I1203,0)","v":" "},null,{"$f":"IFERROR(MATCH(D1203,listy_slownikowe!$AH$3:$AH$326,0),0)","v":0},0]
[null,{"$f":"OFFSET(listy_slownikowe!$AG$2,I1204,0)","v":" "},null,null,null,null,{"$f":"OFFSET(listy_slownikowe!$AI$2,I1204,0)","v":" "},null,{"$f":"IFERROR(MATCH(D1204,listy_slownikowe!$AH$3:$AH$326,0),0)","v":0},0]
[null,{"$f":"OFFSET(listy_slownikowe!$AG$2,I1205,0)","v":" "},null,null,null,null,{"$f":"OFFSET(listy_slownikowe!$AI$2,I1205,0)","v":" "},null,{"$f":"IFERROR(MATCH(D1205,listy_slownikowe!$AH$3:$AH$326,0),0)","v":0},0]
[null,{"$f":"OFFSET(listy_slownikowe!$AG$2,I1206,0)","v":" "},null,null,null,null,{"$f":"OFFSET(listy_slownikowe!$AI$2,I1206,0)","v":" "},null,{"$f":"IFERROR(MATCH(D1206,listy_slownikowe!$AH$3:$AH$326,0),0)","v":0},0]
[null,{"$f":"OFFSET(listy_slownikowe!$AG$2,I1207,0)","v":" "},null,null,null,null,{"$f":"OFFSET(listy_slownikowe!$AI$2,I1207,0)","v":" "},null,{"$f":"IFERROR(MATCH(D1207,listy_slownikowe!$AH$3:$AH$326,0),0)","v":0},0]
[null,{"$f":"OFFSET(listy_slownikowe!$AG$2,I1208,0)","v":" "},null,null,null,null,{"$f":"OFFSET(listy_slownikowe!$AI$2,I1208,0)","v":" "},null,{"$f":"IFERROR(MATCH(D1208,listy_slownikowe!$AH$3:$AH$326,0),0)","v":0},0]
[null,{"$f":"OFFSET(listy_slownikowe!$AG$2,I1209,0)","v":" "},null,"",null,null,{"$f":"OFFSET(listy_slownikowe!$AI$2,I1209,0)","v":" "},null,{"$f":"IFERROR(MATCH(D1209,listy_slownikowe!$AH$3:$AH$326,0),0)","v":0},0]
[null,{"$f":"OFFSET(listy_slownikowe!$AG$2,I1210,0)","v":" "},null,null,null,null,{"$f":"OFFSET(listy_slownikowe!$AI$2,I1210,0)","v":" "},null,{"$f":"IFERROR(MATCH(D1210,listy_slownikowe!$AH$3:$AH$326,0),0)","v":0},0]
[null,"Gatunki dominujące i subdominujące",null,null,null,null,null,null,null,{"$f":"J1212","v":0}]
[null,"nazwa łacińska",null,"nazwa polska",null,null,"udział [%]",null,null,{"$f":"SUM(J1213:J1217)","v":0}]
[null,null,null,null,null,null,null,null,null,{"$f":"COUNTA(B1213:G1213)","v":0}]
[null,null,null,null,null,null,null,null,null,0]
[null,null,null,null,null,null,null,null,null,0]
[null,null,null,null,null,null,null,null,null,0]
[null,null,null,null,null,null,null,null,null,0]
[]
[null,"Spis gatunków numer:",null,null,null,null,{"$f":"G1192+1","v":46},null,null,{"$f":"J1223","v":0}]
[null,"Współrzędne geograficzne",null,null,null,null,null,null,null,{"$f":"J1224","v":0}]
[null,"Długość geograficzna [E] ",null,null,"Szerokość geograficzna [N]",null,null,null,null,{"$f":"J1224","v":0}]
[null,"stopnie","minuty","sekundy","stopnie","minuty","sekundy",null,null,{"$f":"J1223","v":0}]
[null,null,null,null,null,null,null,null,null,{"$f":"J1225+J1239","v":0}]
[null,"Gatunki wskaźnikowe",null,null,null,null,null,null,null,{"$f":"J1225","v":0}]
[null,"nazwa łacińska",null,"nazwa polska",null,null,"walor ",null,null,{"$f":"SUM(J1226:J1237)","v":0}]
[null,{"$f":"OFFSET(listy_slownikowe!$AG$2,I1226,0)","v":" "},null,null,null,null,{"$f":"OFFSET(listy_slownikowe!$AI$2,I1226,0)","v":" "},null,{"$f":"IFERROR(MATCH(D1226,listy_slownikowe!$AH$3:$AH$326,0),0)","v":0},{"$f":"I1226","v":0}]
[null,{"$f":"OFFSET(listy_slownikowe!$AG$2,I1227,0)","v":" "},null,null,null,null,{"$f":"OFFSET(listy_slownikowe!$AI$2,I1227,0)","v":" "},null,{"$f":"IFERROR(MATCH(D1227,listy_slownikowe!$AH$3:$AH$326,0),0)","v":0},{"$f":"I1227","v":0}]
[null,{"$f":"OFFSET(listy_slownikowe!$AG$2,I1228,0)","v":" "},null,null,null,null,{"$f":"OFFSET(listy_slownikowe!$AI$2,I1228,0)","v":" "},null,{"$f":"IFERROR(MATCH(D1228,listy_slownikowe!$AH$3:$AH$326,0),0)","v":0},0]
[null,{"$f":"OFFSET(listy_slownikowe!$AG$2,I1229,0)","v":" "},null,null,null,null,{"$f":"OFFSET(listy_slownikowe!$AI$2,I1229,0)","v":" "},null,{"$f":"IFERROR(MATCH(D1229,listy_slownikowe!$AH$3:$AH$326,0),0)","v":0},0]
[null,{"$f":"OFFSET(listy_slownikowe!$AG$2,I1230,0)","v":" "},null,null,null,null,{"$f":"OFFSET(listy_slownikowe!$AI$2,I1230,0)","v":" "},null,{"$f":"IFERROR(MATCH(D1230,listy_slownikowe!$AH$3:$AH$326,0),0)","v":0},0]
[null,{"$f":"OFFSET(listy_slownikowe!$AG$2,I1231,0)","v":" "},null,null,null,null,{"$f":"OFFSET(listy_slownikowe!$AI$2,I1231,0)","v":" "},null,{"$f":"IFERROR(MATCH(D1231,listy_slownikowe!$AH$3:$AH$326,0),0)","v":0},0]
[null,{"$f":"OFFSET(listy_slownikowe!$AG$2,I1232,0)","v":" "},null,null,null,null,{"$f":"OFFSET(listy_slownikowe!$AI$2,I1232,0)","v":" "},null,{"$f":"IFERROR(MATCH(D1232,listy_slownikowe!$AH$3:$AH$326,0),0)","v":0},0]
[null,{"$f":"OFFSET(listy_slownikowe!$AG$2,I1233,0)","v":" "},null,null,null,null,{"$f":"OFFSET(listy_slownikowe!$AI$2,I1233,0)","v":" "},null,{"$f":"IFERROR(MATCH(D1233,listy_slownikowe!$AH$3:$AH$326,0),0)","v":0},0]
[null,{"$f":"OFFSET(listy_slownikowe!$AG$2,I1234,0)","v":" "},null,null,null,null,{"$f":"OFFSET(listy_slownikowe!$AI$2,I1234,0)","v":" "},null,{"$f":"IFERROR(MATCH(D1234,listy_slownikowe!$AH$3:$AH$326,0),0)","v":0},0]
[null,{"$f":"OFFSET(listy_slownikowe!$AG$2,I1235,0)","v":" "},null,null,null,null,{"$f":"OFFSET(listy_slownikowe!$AI$2,I1235,0)","v":" "},null,{"$f":"IFERROR(MATCH(D1235,listy_slownikowe!$AH$3:$AH$326,0),0)","v":0},0]
[null,{"$f":"OFFSET(listy_slownikowe!$AG$2,I1236,0)","v":" "},null,"",null,null,{"$f":"OFFSET(listy_slownikowe!$AI$2,I1236,0)","v":" "},null,{"$f":"IFERROR(MATCH(D1236,listy_slownikowe!$AH$3:$AH$326,0),0)","v":0},0]
[null,{"$f":"OFFSET(listy_slownikowe!$AG$2,I1237,0)","v":" "},null,null,null,null,{"$f":"OFFSET(listy_slownikowe!$AI$2,I1237,0)","v":" "},null,{"$f":"IFERROR(MATCH(D1237,listy_slownikowe!$AH$3:$AH$326,0),0)","v":0},0]
[null,"Gatunki dominujące i subdominujące",null,null,null,null,null,null,null,{"$f":"J1239","v":0}]
[null,"nazwa łacińska",null,"nazwa polska",null,null,"udział [%]",null,null,{"$f":"SUM(J1240:J1244)","v":0}]
[null,null,null,null,null,null,null,null,null,{"$f":"COUNTA(B1240:G1240)","v":0}]
[null,null,null,null,null,null,null,null,null,0]
[null,null,null,null,null,null,null,null,null,0]
[null,null,null,null,null,null,null,null,null,0]
[null,null,null,null,null,null,null,null,null,0]
[]
[null,"Spis gatunków numer:",null,null,null,null,{"$f":"G1219+1","v":47},null,null,{"$f":"J1250","v":0}]
[null,"Współrzędne geograficzne",null,null,null,null,null,null,null,{"$f":"J1251","v":0}]
[null,"Długość geograficzna [E] ",null,null,"Szerokość geograficzna [N]",null,null,null,null,{"$f":"J1251","v":0}]
[null,"stopnie","minuty","sekundy","stopnie","minuty","sekundy",null,null,{"$f":"J1250","v":0}]
[null,null,null,null,null,null,null,null,null,{"$f":"J1252+J1266","v":0}]
[null,"Gatunki wskaźnikowe",null,null,null,null,null,null,null,{"$f":"J1252","v":0}]
[null,"nazwa łacińska",null,"nazwa polska",null,null,"walor ",null,null,{"$f":"SUM(J1253:J1264)","v":0}]
[null,{"$f":"OFFSET(listy_slownikowe!$AG$2,I1253,0)","v":" "},null,null,null,null,{"$f":"OFFSET(listy_slownikowe!$AI$2,I1253,0)","v":" "},null,{"$f":"IFERROR(MATCH(D1253,listy_slownikowe!$AH$3:$AH$326,0),0)","v":0},{"$f":"I1253","v":0}]
[null,{"$f":"OFFSET(listy_slownikowe!$AG$2,I1254,0)","v":" "},null,null,null,null,{"$f":"OFFSET(listy_slownikowe!$AI$2,I1254,0)","v":" "},null,{"$f":"IFERROR(MATCH(D1254,listy_slownikowe!$AH$3:$AH$326,0),0)","v":0},{"$f":"I1254","v":0}]
[null,{"$f":"OFFSET(listy_slownikowe!$AG$2,I1255,0)","v":" "},null,null,null,null,{"$f":"OFFSET(listy_slownikowe!$AI$2,I1255,0)","v":" "},null,{"$f":"IFERROR(MATCH(D1255,listy_slownikowe!$AH$3:$AH$326,0),0)","v":0},0]
[null,{"$f":"OFFSET(listy_slownikowe!$AG$2,I1256,0)","v":" "},null,null,null,null,{"$f":"OFFSET(listy_slownikowe!$AI$2,I1256,0)","v":" "},null,{"$f":"IFERROR(MATCH(D1256,listy_slownikowe!$AH$3:$AH$326,0),0)","v":0},0]
[null,{"$f":"OFFSET(listy_slownikowe!$AG$2,I1257,0)","v":" "},null,null,null,null,{"$f":"OFFSET(listy_slownikowe!$AI$2,I1257,0)","v":" "},null,{"$f":"IFERROR(MATCH(D1257,listy_slownikowe!$AH$3:$AH$326,0),0)","v":0},0]
[null,{"$f":"OFFSET(listy_slownikowe!$AG$2,I1258,0)","v":" "},null,null,null,null,{"$f":"OFFSET(listy_slownikowe!$AI$2,I1258,0)","v":" "},null,{"$f":"IFERROR(MATCH(D1258,listy_slownikowe!$AH$3:$AH$326,0),0)","v":0},0]
[null,{"$f":"OFFSET(listy_slownikowe!$AG$2,I1259,0)","v":" "},null,null,null,null,{"$f":"OFFSET(listy_slownikowe!$AI$2,I1259,0)","v":" "},null,{"$f":"IFERROR(MATCH(D1259,listy_slownikowe!$AH$3:$AH$326,0),0)","v":0},0]
[null,{"$f":"OFFSET(listy_slownikowe!$AG$2,I1260,0)","v":" "},null,null,null,null,{"$f":"OFFSET(listy_slownikowe!$AI$2,I1260,0)","v":" "},null,{"$f":"IFERROR(MATCH(D1260,listy_slownikowe!$AH$3:$AH$326,0),0)","v":0},0]
[null,{"$f":"OFFSET(listy_slownikowe!$AG$2,I1261,0)","v":" "},null,null,null,null,{"$f":"OFFSET(listy_slownikowe!$AI$2,I1261,0)","v":" "},null,{"$f":"IFERROR(MATCH(D1261,listy_slownikowe!$AH$3:$AH$326,0),0)","v":0},0]
[null,{"$f":"OFFSET(listy_slownikowe!$AG$2,I1262,0)","v":" "},null,null,null,null,{"$f":"OFFSET(listy_slownikowe!$AI$2,I1262,0)","v":" "},null,{"$f":"IFERROR(MATCH(D1262,listy_slownikowe!$AH$3:$AH$326,0),0)","v":0},0]
[null,{"$f":"OFFSET(listy_slownikowe!$AG$2,I1263,0)","v":" "},null,"",null,null,{"$f":"OFFSET(listy_slownikowe!$AI$2,I1263,0)","v":" "},null,{"$f":"IFERROR(MATCH(D1263,listy_slownikowe!$AH$3:$AH$326,0),0)","v":0},0]
[null,{"$f":"OFFSET(listy_slownikowe!$AG$2,I1264,0)","v":" "},null,null,null,null,{"$f":"OFFSET(listy_slownikowe!$AI$2,I1264,0)","v":" "},null,{"$f":"IFERROR(MATCH(D1264,listy_slownikowe!$AH$3:$AH$326,0),0)","v":0},0]
[null,"Gatunki dominujące i subdominujące",null,null,null,null,null,null,null,{"$f":"J1266","v":0}]
[null,"nazwa łacińska",null,"nazwa polska",null,null,"udział [%]",null,null,{"$f":"SUM(J1267:J1271)","v":0}]
[null,null,null,null,null,null,null,null,null,{"$f":"COUNTA(B1267:G1267)","v":0}]
[null,null,null,null,null,null,null,null,null,0]
[null,null,null,null,null,null,null,null,null,0]
[null,null,null,null,null,null,null,null,null,0]
[null,null,null,null,null,null,null,null,null,0]
[]
[null,"Spis gatunków numer:",null,null,null,null,{"$f":"G1246+1","v":48},null,null,{"$f":"J1277","v":0}]
[null,"Współrzędne geograficzne",null,null,null,null,null,null,null,{"$f":"J1278","v":0}]
[null,"Długość geograficzna [E] ",null,null,"Szerokość geograficzna [N]",null,null,null,null,{"$f":"J1278","v":0}]
[null,"stopnie","minuty","sekundy","stopnie","minuty","sekundy",null,null,{"$f":"J1277","v":0}]
[null,null,null,null,null,null,null,null,null,{"$f":"J1279+J1293","v":0}]
[null,"Gatunki wskaźnikowe",null,null,null,null,null,null,null,{"$f":"J1279","v":0}]
[null,"nazwa łacińska",null,"nazwa polska",null,null,"walor ",null,null,{"$f":"SUM(J1280:J1291)","v":0}]
[null,{"$f":"OFFSET(listy_slownikowe!$AG$2,I1280,0)","v":" "},null,null,null,null,{"$f":"OFFSET(listy_slownikowe!$AI$2,I1280,0)","v":" "},null,{"$f":"IFERROR(MATCH(D1280,listy_slownikowe!$AH$3:$AH$326,0),0)","v":0},{"$f":"I1280","v":0}]
[null,{"$f":"OFFSET(listy_slownikowe!$AG$2,I1281,0)","v":" "},null,null,null,null,{"$f":"OFFSET(listy_slownikowe!$AI$2,I1281,0)","v":" "},null,{"$f":"IFERROR(MATCH(D1281,listy_slownikowe!$AH$3:$AH$326,0),0)","v":0},{"$f":"I1281","v":0}]
[null,{"$f":"OFFSET(listy_slownikowe!$AG$2,I1282,0)","v":" "},null,null,null,null,{"$f":"OFFSET(listy_slownikowe!$AI$2,I1282,0)","v":" "},null,{"$f":"IFERROR(MATCH(D1282,listy_slownikowe!$AH$3:$AH$326,0),0)","v":0},0]
[null,{"$f":"OFFSET(listy_slownikowe!$AG$2,I1283,0)","v":" "},null,null,null,null,{"$f":"OFFSET(listy_slownikowe!$AI$2,I1283,0)","v":" "},null,{"$f":"IFERROR(MATCH(D1283,listy_slownikowe!$AH$3:$AH$326,0),0)","v":0},0]
[null,{"$f":"OFFSET(listy_slownikowe!$AG$2,I1284,0)","v":" "},null,null,null,null,{"$f":"OFFSET(listy_slownikowe!$AI$2,I1284,0)","v":" "},null,{"$f":"IFERROR(MATCH(D1284,listy_slownikowe!$AH$3:$AH$326,0),0)","v":0},0]
[null,{"$f":"OFFSET(listy_slownikowe!$AG$2,I1285,0)","v":" "},null,null,null,null,{"$f":"OFFSET(listy_slownikowe!$AI$2,I1285,0)","v":" "},null,{"$f":"IFERROR(MATCH(D1285,listy_slownikowe!$AH$3:$AH$326,0),0)","v":0},0]
[null,{"$f":"OFFSET(listy_slownikowe!$AG$2,I1286,0)","v":" "},null,null,null,null,{"$f":"OFFSET(listy_slownikowe!$AI$2,I1286,0)","v":" "},null,{"$f":"IFERROR(MATCH(D1286,listy_slownikowe!$AH$3:$AH$326,0),0)","v":0},0]
[null,{"$f":"OFFSET(listy_slownikowe!$AG$2,I1287,0)","v":" "},null,null,null,null,{"$f":"OFFSET(listy_slownikowe!$AI$2,I1287,0)","v":" "},null,{"$f":"IFERROR(MATCH(D1287,listy_slownikowe!$AH$3:$AH$326,0),0)","v":0},0]
[null,{"$f":"OFFSET(listy_slownikowe!$AG$2,I1288,0)","v":" "},null,null,null,null,{"$f":"OFFSET(listy_slownikowe!$AI$2,I1288,0)","v":" "},null,{"$f":"IFERROR(MATCH(D1288,listy_slownikowe!$AH$3:$AH$326,0),0)","v":0},0]
[null,{"$f":"OFFSET(listy_slownikowe!$AG$2,I1289,0)","v":" "},null,null,null,null,{"$f":"OFFSET(listy_slownikowe!$AI$2,I1289,0)","v":" "},null,{"$f":"IFERROR(MATCH(D1289,listy_slownikowe!$AH$3:$AH$326,0),0)","v":0},0]
[null,{"$f":"OFFSET(listy_slownikowe!$AG$2,I1290,0)","v":" "},null,"",null,null,{"$f":"OFFSET(listy_slownikowe!$AI$2,I1290,0)","v":" "},null,{"$f":"IFERROR(MATCH(D1290,listy_slownikowe!$AH$3:$AH$326,0),0)","v":0},0]
[null,{"$f":"OFFSET(listy_slownikowe!$AG$2,I1291,0)","v":" "},null,null,null,null,{"$f":"OFFSET(listy_slownikowe!$AI$2,I1291,0)","v":" "},null,{"$f":"IFERROR(MATCH(D1291,listy_slownikowe!$AH$3:$AH$326,0),0)","v":0},0]
[null,"Gatunki dominujące i subdominujące",null,null,null,null,null,null,null,{"$f":"J1293","v":0}]
[null,"nazwa łacińska",null,"nazwa polska",null,null,"udział [%]",null,null,{"$f":"SUM(J1294:J1298)","v":0}]
[null,null,null,null,null,null,null,null,null,{"$f":"COUNTA(B1294:G1294)","v":0}]
[null,null,null,null,null,null,null,null,null,0]
[null,null,null,null,null,null,null,null,null,0]
[null,null,null,null,null,null,null,null,null,0]
[null,null,null,null,null,null,null,null,null,0]
[]
[null,"Spis gatunków numer:",null,null,null,null,{"$f":"G1273+1","v":49},null,null,{"$f":"J1304","v":0}]
[null,"Współrzędne geograficzne",null,null,null,null,null,null,null,{"$f":"J1305","v":0}]
[null,"Długość geograficzna [E] ",null,null,"Szerokość geograficzna [N]",null,null,null,null,{"$f":"J1305","v":0}]
[null,"stopnie","minuty","sekundy","stopnie","minuty","sekundy",null,null,{"$f":"J1304","v":0}]
[null,null,null,null,null,null,null,null,null,{"$f":"J1306+J1320","v":0}]
[null,"Gatunki wskaźnikowe",null,null,null,null,null,null,null,{"$f":"J1306","v":0}]
[null,"nazwa łacińska",null,"nazwa polska",null,null,"walor ",null,null,{"$f":"SUM(J1307:J1318)","v":0}]
[null,{"$f":"OFFSET(listy_slownikowe!$AG$2,I1307,0)","v":" "},null,null,null,null,{"$f":"OFFSET(listy_slownikowe!$AI$2,I1307,0)","v":" "},null,{"$f":"IFERROR(MATCH(D1307,listy_slownikowe!$AH$3:$AH$326,0),0)","v":0},{"$f":"I1307","v":0}]
[null,{"$f":"OFFSET(listy_slownikowe!$AG$2,I1308,0)","v":" "},null,null,null,null,{"$f":"OFFSET(listy_slownikowe!$AI$2,I1308,0)","v":" "},null,{"$f":"IFERROR(MATCH(D1308,listy_slownikowe!$AH$3:$AH$326,0),0)","v":0},{"$f":"I1308","v":0}]
[null,{"$f":"OFFSET(listy_slownikowe!$AG$2,I1309,0)","v":" "},null,null,null,null,{"$f":"OFFSET(listy_slownikowe!$AI$2,I1309,0)","v":" "},null,{"$f":"IFERROR(MATCH(D1309,listy_slownikowe!$AH$3:$AH$326,0),0)","v":0},0]
[null,{"$f":"OFFSET(listy_slownikowe!$AG$2,I1310,0)","v":" "},null,null,null,null,{"$f":"OFFSET(listy_slownikowe!$AI$2,I1310,0)","v":" "},null,{"$f":"IFERROR(MATCH(D1310,listy_slownikowe!$AH$3:$AH$326,0),0)","v":0},0]
[null,{"$f":"OFFSET(listy_slownikowe!$AG$2,I1311,0)","v":" "},null,null,null,null,{"$f":"OFFSET(listy_slownikowe!$AI$2,I1311,0)","v":" "},null,{"$f":"IFERROR(MATCH(D1311,listy_slownikowe!$AH$3:$AH$326,0),0)","v":0},0]
[null,{"$f":"OFFSET(listy_slownikowe!$AG$2,I1312,0)","v":" "},null,null,null,null,{"$f":"OFFSET(listy_slownikowe!$AI$2,I1312,0)","v":" "},null,{"$f":"IFERROR(MATCH(D1312,listy_slownikowe!$AH$3:$AH$326,0),0)","v":0},0]
[null,{"$f":"OFFSET(listy_slownikowe!$AG$2,I1313,0)","v":" "},null,null,null,null,{"$f":"OFFSET(listy_slownikowe!$AI$2,I1313,0)","v":" "},null,{"$f":"IFERROR(MATCH(D1313,listy_slownikowe!$AH$3:$AH$326,0),0)","v":0},0]
[null,{"$f":"OFFSET(listy_slownikowe!$AG$2,I1314,0)","v":" "},null,null,null,null,{"$f":"OFFSET(listy_slownikowe!$AI$2,I1314,0)","v":" "},null,{"$f":"IFERROR(MATCH(D1314,listy_slownikowe!$AH$3:$AH$326,0),0)","v":0},0]
[null,{"$f":"OFFSET(listy_slownikowe!$AG$2,I1315,0)","v":" "},null,null,null,null,{"$f":"OFFSET(listy_slownikowe!$AI$2,I1315,0)","v":" "},null,{"$f":"IFERROR(MATCH(D1315,listy_slownikowe!$AH$3:$AH$326,0),0)","v":0},0]
[null,{"$f":"OFFSET(listy_slownikowe!$AG$2,I1316,0)","v":" "},null,null,null,null,{"$f":"OFFSET(listy_slownikowe!$AI$2,I1316,0)","v":" "},null,{"$f":"IFERROR(MATCH(D1316,listy_slownikowe!$AH$3:$AH$326,0),0)","v":0},0]
[null,{"$f":"OFFSET(listy_slownikowe!$AG$2,I1317,0)","v":" "},null,"",null,null,{"$f":"OFFSET(listy_slownikowe!$AI$2,I1317,0)","v":" "},null,{"$f":"IFERROR(MATCH(D1317,listy_slownikowe!$AH$3:$AH$326,0),0)","v":0},0]
[null,{"$f":"OFFSET(listy_slownikowe!$AG$2,I1318,0)","v":" "},null,null,null,null,{"$f":"OFFSET(listy_slownikowe!$AI$2,I1318,0)","v":" "},null,{"$f":"IFERROR(MATCH(D1318,listy_slownikowe!$AH$3:$AH$326,0),0)","v":0},0]
[null,"Gatunki dominujące i subdominujące",null,null,null,null,null,null,null,{"$f":"J1320","v":0}]
[null,"nazwa łacińska",null,"nazwa polska",null,null,"udział [%]",null,null,{"$f":"SUM(J1321:J1325)","v":0}]
[null,null,null,null,null,null,null,null,null,{"$f":"COUNTA(B1321:G1321)","v":0}]
[null,null,null,null,null,null,null,null,null,0]
[null,null,null,null,null,null,null,null,null,0]
[null,null,null,null,null,null,null,null,null,0]
[null,null,null,null,null,null,null,null,null,0]
[]
[null,"Spis gatunków numer:",null,null,null,null,{"$f":"G1300+1","v":50},null,null,{"$f":"J1331","v":0}]
[null,"Współrzędne geograficzne",null,null,null,null,null,null,null,{"$f":"J1332","v":0}]
[null,"Długość geograficzna [E] ",null,null,"Szerokość geograficzna [N]",null,null,null,null,{"$f":"J1332","v":0}]
[null,"stopnie","minuty","sekundy","stopnie","minuty","sekundy",null,null,{"$f":"J1331","v":0}]
[null,null,null,null,null,null,null,null,null,{"$f":"J1333+J1347","v":0}]
[null,"Gatunki wskaźnikowe",null,null,null,null,null,null,null,{"$f":"J1333","v":0}]
[null,"nazwa łacińska",null,"nazwa polska",null,null,"walor ",null,null,{"$f":"SUM(J1334:J1345)","v":0}]
[null,{"$f":"OFFSET(listy_slownikowe!$AG$2,I1334,0)","v":" "},null,null,null,null,{"$f":"OFFSET(listy_slownikowe!$AI$2,I1334,0)","v":" "},null,{"$f":"IFERROR(MATCH(D1334,listy_slownikowe!$AH$3:$AH$326,0),0)","v":0},{"$f":"I1334","v":0}]
[null,{"$f":"OFFSET(listy_slownikowe!$AG$2,I1335,0)","v":" "},null,null,null,null,{"$f":"OFFSET(listy_slownikowe!$AI$2,I1335,0)","v":" "},null,{"$f":"IFERROR(MATCH(D1335,listy_slownikowe!$AH$3:$AH$326,0),0)","v":0},{"$f":"I1335","v":0}]
[null,{"$f":"OFFSET(listy_slownikowe!$AG$2,I1336,0)","v":" "},null,null,null,null,{"$f":"OFFSET(listy_slownikowe!$AI$2,I1336,0)","v":" "},null,{"$f":"IFERROR(MATCH(D1336,listy_slownikowe!$AH$3:$AH$326,0),0)","v":0},0]
[null,{"$f":"OFFSET(listy_slownikowe!$AG$2,I1337,0)","v":" "},null,null,null,null,{"$f":"OFFSET(listy_slownikowe!$AI$2,I1337,0)","v":" "},null,{"$f":"IFERROR(MATCH(D1337,listy_slownikowe!$AH$3:$AH$326,0),0)","v":0},0]
[null,{"$f":"OFFSET(listy_slownikowe!$AG$2,I1338,0)","v":" "},null,null,null,null,{"$f":"OFFSET(listy_slownikowe!$AI$2,I1338,0)","v":" "},null,{"$f":"IFERROR(MATCH(D1338,listy_slownikowe!$AH$3:$AH$326,0),0)","v":0},0]
[null,{"$f":"OFFSET(listy_slownikowe!$AG$2,I1339,0)","v":" "},null,null,null,null,{"$f":"OFFSET(listy_slownikowe!$AI$2,I1339,0)","v":" "},null,{"$f":"IFERROR(MATCH(D1339,listy_slownikowe!$AH$3:$AH$326,0),0)","v":0},0]
[null,{"$f":"OFFSET(listy_slownikowe!$AG$2,I1340,0)","v":" "},null,null,null,null,{"$f":"OFFSET(listy_slownikowe!$AI$2,I1340,0)","v":" "},null,{"$f":"IFERROR(MATCH(D1340,listy_slownikowe!$AH$3:$AH$326,0),0)","v":0},0]
[null,{"$f":"OFFSET(listy_slownikowe!$AG$2,I1341,0)","v":" "},null,null,null,null,{"$f":"OFFSET(listy_slownikowe!$AI$2,I1341,0)","v":" "},null,{"$f":"IFERROR(MATCH(D1341,listy_slownikowe!$AH$3:$AH$326,0),0)","v":0},0]
[null,{"$f":"OFFSET(listy_slownikowe!$AG$2,I1342,0)","v":" "},null,null,null,null,{"$f":"OFFSET(listy_slownikowe!$AI$2,I1342,0)","v":" "},null,{"$f":"IFERROR(MATCH(D1342,listy_slownikowe!$AH$3:$AH$326,0),0)","v":0},0]
[null,{"$f":"OFFSET(listy_slownikowe!$AG$2,I1343,0)","v":" "},null,null,null,null,{"$f":"OFFSET(listy_slownikowe!$AI$2,I1343,0)","v":" "},null,{"$f":"IFERROR(MATCH(D1343,listy_slownikowe!$AH$3:$AH$326,0),0)","v":0},0]
[null,{"$f":"OFFSET(listy_slownikowe!$AG$2,I1344,0)","v":" "},null,"",null,null,{"$f":"OFFSET(listy_slownikowe!$AI$2,I1344,0)","v":" "},null,{"$f":"IFERROR(MATCH(D1344,listy_slownikowe!$AH$3:$AH$326,0),0)","v":0},0]
[null,{"$f":"OFFSET(listy_slownikowe!$AG$2,I1345,0)","v":" "},null,null,null,null,{"$f":"OFFSET(listy_slownikowe!$AI$2,I1345,0)","v":" "},null,{"$f":"IFERROR(MATCH(D1345,listy_slownikowe!$AH$3:$AH$326,0),0)","v":0},0]
[null,"Gatunki dominujące i subdominujące",null,null,null,null,null,null,null,{"$f":"J1347","v":0}]
[null,"nazwa łacińska",null,"nazwa polska",null,null,"udział [%]",null,null,{"$f":"SUM(J1348:J1352)","v":0}]
[null,null,null,null,null,null,null,null,null,{"$f":"COUNTA(B1348:G1348)","v":0}]
[null,null,null,null,null,null,null,null,null,0]
[null,null,null,null,null,null,null,null,null,0]
[null,null,null,null,null,null,null,null,null,0]
[null,null,null,null,null,null,null,null,null,0]
[]
[null,"Spis gatunków numer:",null,null,null,null,{"$f":"G1327+1","v":51},null,null,{"$f":"J1358","v":0}]
[null,"Współrzędne geograficzne",null,null,null,null,null,null,null,{"$f":"J1359","v":0}]
[null,"Długość geograficzna [E] ",null,null,"Szerokość geograficzna [N]",null,null,null,null,{"$f":"J1359","v":0}]
[null,"stopnie","minuty","sekundy","stopnie","minuty","sekundy",null,null,{"$f":"J1358","v":0}]
[null,null,null,null,null,null,null,null,null,{"$f":"J1360+J1374","v":0}]
[null,"Gatunki wskaźnikowe",null,null,null,null,null,null,null,{"$f":"J1360","v":0}]
[null,"nazwa łacińska",null,"nazwa polska",null,null,"walor ",null,null,{"$f":"SUM(J1361:J1372)","v":0}]
[null,{"$f":"OFFSET(listy_slownikowe!$AG$2,I1361,0)","v":" "},null,null,null,null,{"$f":"OFFSET(listy_slownikowe!$AI$2,I1361,0)","v":" "},null,{"$f":"IFERROR(MATCH(D1361,listy_slownikowe!$AH$3:$AH$326,0),0)","v":0},{"$f":"I1361","v":0}]
[null,{"$f":"OFFSET(listy_slownikowe!$AG$2,I1362,0)","v":" "},null,null,null,null,{"$f":"OFFSET(listy_slownikowe!$AI$2,I1362,0)","v":" "},null,{"$f":"IFERROR(MATCH(D1362,listy_slownikowe!$AH$3:$AH$326,0),0)","v":0},{"$f":"I1362","v":0}]
[null,{"$f":"OFFSET(listy_slownikowe!$AG$2,I1363,0)","v":" "},null,null,null,null,{"$f":"OFFSET(listy_slownikowe!$AI$2,I1363,0)","v":" "},null,{"$f":"IFERROR(MATCH(D1363,listy_slownikowe!$AH$3:$AH$326,0),0)","v":0},0]
[null,{"$f":"OFFSET(listy_slownikowe!$AG$2,I1364,0)","v":" "},null,null,null,null,{"$f":"OFFSET(listy_slownikowe!$AI$2,I1364,0)","v":" "},null,{"$f":"IFERROR(MATCH(D1364,listy_slownikowe!$AH$3:$AH$326,0),0)","v":0},0]
[null,{"$f":"OFFSET(listy_slownikowe!$AG$2,I1365,0)","v":" "},null,null,null,null,{"$f":"OFFSET(listy_slownikowe!$AI$2,I1365,0)","v":" "},null,{"$f":"IFERROR(MATCH(D1365,listy_slownikowe!$AH$3:$AH$326,0),0)","v":0},0]
[null,{"$f":"OFFSET(listy_slownikowe!$AG$2,I1366,0)","v":" "},null,null,null,null,{"$f":"OFFSET(listy_slownikowe!$AI$2,I1366,0)","v":" "},null,{"$f":"IFERROR(MATCH(D1366,listy_slownikowe!$AH$3:$AH$326,0),0)","v":0},0]
[null,{"$f":"OFFSET(listy_slownikowe!$AG$2,I1367,0)","v":" "},null,null,null,null,{"$f":"OFFSET(listy_slownikowe!$AI$2,I1367,0)","v":" "},null,{"$f":"IFERROR(MATCH(D1367,listy_slownikowe!$AH$3:$AH$326,0),0)","v":0},0]
[null,{"$f":"OFFSET(listy_slownikowe!$AG$2,I1368,0)","v":" "},null,null,null,null,{"$f":"OFFSET(listy_slownikowe!$AI$2,I1368,0)","v":" "},null,{"$f":"IFERROR(MATCH(D1368,listy_slownikowe!$AH$3:$AH$326,0),0)","v":0},0]
[null,{"$f":"OFFSET(listy_slownikowe!$AG$2,I1369,0)","v":" "},null,null,null,null,{"$f":"OFFSET(listy_slownikowe!$AI$2,I1369,0)","v":" "},null,{"$f":"IFERROR(MATCH(D1369,listy_slownikowe!$AH$3:$AH$326,0),0)","v":0},0]
[null,{"$f":"OFFSET(listy_slownikowe!$AG$2,I1370,0)","v":" "},null,null,null,null,{"$f":"OFFSET(listy_slownikowe!$AI$2,I1370,0)","v":" "},null,{"$f":"IFERROR(MATCH(D1370,listy_slownikowe!$AH$3:$AH$326,0),0)","v":0},0]
[null,{"$f":"OFFSET(listy_slownikowe!$AG$2,I1371,0)","v":" "},null,"",null,null,{"$f":"OFFSET(listy_slownikowe!$AI$2,I1371,0)","v":" "},null,{"$f":"IFERROR(MATCH(D1371,listy_slownikowe!$AH$3:$AH$326,0),0)","v":0},0]
[null,{"$f":"OFFSET(listy_slownikowe!$AG$2,I1372,0)","v":" "},null,null,null,null,{"$f":"OFFSET(listy_slownikowe!$AI$2,I1372,0)","v":" "},null,{"$f":"IFERROR(MATCH(D1372,listy_slownikowe!$AH$3:$AH$326,0),0)","v":0},0]
[null,"Gatunki dominujące i subdominujące",null,null,null,null,null,null,null,{"$f":"J1374","v":0}]
[null,"nazwa łacińska",null,"nazwa polska",null,null,"udział [%]",null,null,{"$f":"SUM(J1375:J1379)","v":0}]
[null,null,null,null,null,null,null,null,null,{"$f":"COUNTA(B1375:G1375)","v":0}]
[null,null,null,null,null,null,null,null,null,0]
[null,null,null,null,null,null,null,null,null,0]
[null,null,null,null,null,null,null,null,null,0]
[null,null,null,null,null,null,null,null,null,0]
[]
[null,"Spis gatunków numer:",null,null,null,null,{"$f":"G1354+1","v":52},null,null,{"$f":"J1385","v":0}]
[null,"Współrzędne geograficzne",null,null,null,null,null,null,null,{"$f":"J1386","v":0}]
[null,"Długość geograficzna [E] ",null,null,"Szerokość geograficzna [N]",null,null,null,null,{"$f":"J1386","v":0}]
[null,"stopnie","minuty","sekundy","stopnie","minuty","sekundy",null,null,{"$f":"J1385","v":0}]
[null,null,null,null,null,null,null,null,null,{"$f":"J1387+J1401","v":0}]
[null,"Gatunki wskaźnikowe",null,null,null,null,null,null,null,{"$f":"J1387","v":0}]
[null,"nazwa łacińska",null,"nazwa polska",null,null,"walor ",null,null,{"$f":"SUM(J1388:J1399)","v":0}]
[null,{"$f":"OFFSET(listy_slownikowe!$AG$2,I1388,0)","v":" "},null,null,null,null,{"$f":"OFFSET(listy_slownikowe!$AI$2,I1388,0)","v":" "},null,{"$f":"IFERROR(MATCH(D1388,listy_slownikowe!$AH$3:$AH$326,0),0)","v":0},{"$f":"I1388","v":0}]
[null,{"$f":"OFFSET(listy_slownikowe!$AG$2,I1389,0)","v":" "},null,null,null,null,{"$f":"OFFSET(listy_slownikowe!$AI$2,I1389,0)","v":" "},null,{"$f":"IFERROR(MATCH(D1389,listy_slownikowe!$AH$3:$AH$326,0),0)","v":0},{"$f":"I1389","v":0}]
[null,{"$f":"OFFSET(listy_slownikowe!$AG$2,I1390,0)","v":" "},null,null,null,null,{"$f":"OFFSET(listy_slownikowe!$AI$2,I1390,0)","v":" "},null,{"$f":"IFERROR(MATCH(D1390,listy_slownikowe!$AH$3:$AH$326,0),0)","v":0},0]
[null,{"$f":"OFFSET(listy_slownikowe!$AG$2,I1391,0)","v":" "},null,null,null,null,{"$f":"OFFSET(listy_slownikowe!$AI$2,I1391,0)","v":" "},null,{"$f":"IFERROR(MATCH(D1391,listy_slownikowe!$AH$3:$AH$326,0),0)","v":0},0]
[null,{"$f":"OFFSET(listy_slownikowe!$AG$2,I1392,0)","v":" "},null,null,null,null,{"$f":"OFFSET(listy_slownikowe!$AI$2,I1392,0)","v":" "},null,{"$f":"IFERROR(MATCH(D1392,listy_slownikowe!$AH$3:$AH$326,0),0)","v":0},0]
[null,{"$f":"OFFSET(listy_slownikowe!$AG$2,I1393,0)","v":" "},null,null,null,null,{"$f":"OFFSET(listy_slownikowe!$AI$2,I1393,0)","v":" "},null,{"$f":"IFERROR(MATCH(D1393,listy_slownikowe!$AH$3:$AH$326,0),0)","v":0},0]
[null,{"$f":"OFFSET(listy_slownikowe!$AG$2,I1394,0)","v":" "},null,null,null,null,{"$f":"OFFSET(listy_slownikowe!$AI$2,I1394,0)","v":" "},null,{"$f":"IFERROR(MATCH(D1394,listy_slownikowe!$AH$3:$AH$326,0),0)","v":0},0]
[null,{"$f":"OFFSET(listy_slownikowe!$AG$2,I1395,0)","v":" "},null,null,null,null,{"$f":"OFFSET(listy_slownikowe!$AI$2,I1395,0)","v":" "},null,{"$f":"IFERROR(MATCH(D1395,listy_slownikowe!$AH$3:$AH$326,0),0)","v":0},0]
[null,{"$f":"OFFSET(listy_slownikowe!$AG$2,I1396,0)","v":" "},null,null,null,null,{"$f":"OFFSET(listy_slownikowe!$AI$2,I1396,0)","v":" "},null,{"$f":"IFERROR(MATCH(D1396,listy_slownikowe!$AH$3:$AH$326,0),0)","v":0},0]
[null,{"$f":"OFFSET(listy_slownikowe!$AG$2,I1397,0)","v":" "},null,null,null,null,{"$f":"OFFSET(listy_slownikowe!$AI$2,I1397,0)","v":" "},null,{"$f":"IFERROR(MATCH(D1397,listy_slownikowe!$AH$3:$AH$326,0),0)","v":0},0]
[null,{"$f":"OFFSET(listy_slownikowe!$AG$2,I1398,0)","v":" "},null,"",null,null,{"$f":"OFFSET(listy_slownikowe!$AI$2,I1398,0)","v":" "},null,{"$f":"IFERROR(MATCH(D1398,listy_slownikowe!$AH$3:$AH$326,0),0)","v":0},0]
[null,{"$f":"OFFSET(listy_slownikowe!$AG$2,I1399,0)","v":" "},null,null,null,null,{"$f":"OFFSET(listy_slownikowe!$AI$2,I1399,0)","v":" "},null,{"$f":"IFERROR(MATCH(D1399,listy_slownikowe!$AH$3:$AH$326,0),0)","v":0},0]
[null,"Gatunki dominujące i subdominujące",null,null,null,null,null,null,null,{"$f":"J1401","v":0}]
[null,"nazwa łacińska",null,"nazwa polska",null,null,"udział [%]",null,null,{"$f":"SUM(J1402:J1406)","v":0}]
[null,null,null,null,null,null,null,null,null,{"$f":"COUNTA(B1402:G1402)","v":0}]
[null,null,null,null,null,null,null,null,null,0]
[null,null,null,null,null,null,null,null,null,0]
[null,null,null,null,null,null,null,null,null,0]
[null,null,null,null,null,null,null,null,null,0]
[]
[null,"Spis gatunków numer:",null,null,null,null,{"$f":"G1381+1","v":53},null,null,{"$f":"J1412","v":0}]
[null,"Współrzędne geograficzne",null,null,null,null,null,null,null,{"$f":"J1413","v":0}]
[null,"Długość geograficzna [E] ",null,null,"Szerokość geograficzna [N]",null,null,null,null,{"$f":"J1413","v":0}]
[null,"stopnie","minuty","sekundy","stopnie","minuty","sekundy",null,null,{"$f":"J1412","v":0}]
[null,null,null,null,null,null,null,null,null,{"$f":"J1414+J1428","v":0}]
[null,"Gatunki wskaźnikowe",null,null,null,null,null,null,null,{"$f":"J1414","v":0}]
[null,"nazwa łacińska",null,"nazwa polska",null,null,"walor ",null,null,{"$f":"SUM(J1415:J1426)","v":0}]
[null,{"$f":"OFFSET(listy_slownikowe!$AG$2,I1415,0)","v":" "},null,null,null,null,{"$f":"OFFSET(listy_slownikowe!$AI$2,I1415,0)","v":" "},null,{"$f":"IFERROR(MATCH(D1415,listy_slownikowe!$AH$3:$AH$326,0),0)","v":0},{"$f":"I1415","v":0}]
[null,{"$f":"OFFSET(listy_slownikowe!$AG$2,I1416,0)","v":" "},null,null,null,null,{"$f":"OFFSET(listy_slownikowe!$AI$2,I1416,0)","v":" "},null,{"$f":"IFERROR(MATCH(D1416,listy_slownikowe!$AH$3:$AH$326,0),0)","v":0},{"$f":"I1416","v":0}]
[null,{"$f":"OFFSET(listy_slownikowe!$AG$2,I1417,0)","v":" "},null,null,null,null,{"$f":"OFFSET(listy_slownikowe!$AI$2,I1417,0)","v":" "},null,{"$f":"IFERROR(MATCH(D1417,listy_slownikowe!$AH$3:$AH$326,0),0)","v":0},0]
[null,{"$f":"OFFSET(listy_slownikowe!$AG$2,I1418,0)","v":" "},null,null,null,null,{"$f":"OFFSET(listy_slownikowe!$AI$2,I1418,0)","v":" "},null,{"$f":"IFERROR(MATCH(D1418,listy_slownikowe!$AH$3:$AH$326,0),0)","v":0},0]
[null,{"$f":"OFFSET(listy_slownikowe!$AG$2,I1419,0)","v":" "},null,null,null,null,{"$f":"OFFSET(listy_slownikowe!$AI$2,I1419,0)","v":" "},null,{"$f":"IFERROR(MATCH(D1419,listy_slownikowe!$AH$3:$AH$326,0),0)","v":0},0]
[null,{"$f":"OFFSET(listy_slownikowe!$AG$2,I1420,0)","v":" "},null,null,null,null,{"$f":"OFFSET(listy_slownikowe!$AI$2,I1420,0)","v":" "},null,{"$f":"IFERROR(MATCH(D1420,listy_slownikowe!$AH$3:$AH$326,0),0)","v":0},0]
[null,{"$f":"OFFSET(listy_slownikowe!$AG$2,I1421,0)","v":" "},null,null,null,null,{"$f":"OFFSET(listy_slownikowe!$AI$2,I1421,0)","v":" "},null,{"$f":"IFERROR(MATCH(D1421,listy_slownikowe!$AH$3:$AH$326,0),0)","v":0},0]
[null,{"$f":"OFFSET(listy_slownikowe!$AG$2,I1422,0)","v":" "},null,null,null,null,{"$f":"OFFSET(listy_slownikowe!$AI$2,I1422,0)","v":" "},null,{"$f":"IFERROR(MATCH(D1422,listy_slownikowe!$AH$3:$AH$326,0),0)","v":0},0]
[null,{"$f":"OFFSET(listy_slownikowe!$AG$2,I1423,0)","v":" "},null,null,null,null,{"$f":"OFFSET(listy_slownikowe!$AI$2,I1423,0)","v":" "},null,{"$f":"IFERROR(MATCH(D1423,listy_slownikowe!$AH$3:$AH$326,0),0)","v":0},0]
[null,{"$f":"OFFSET(listy_slownikowe!$AG$2,I1424,0)","v":" "},null,null,null,null,{"$f":"OFFSET(listy_slownikowe!$AI$2,I1424,0)","v":" "},null,{"$f":"IFERROR(MATCH(D1424,listy_slownikowe!$AH$3:$AH$326,0),0)","v":0},0]
[null,{"$f":"OFFSET(listy_slownikowe!$AG$2,I1425,0)","v":" "},null,"",null,null,{"$f":"OFFSET(listy_slownikowe!$AI$2,I1425,0)","v":" "},null,{"$f":"IFERROR(MATCH(D1425,listy_slownikowe!$AH$3:$AH$326,0),0)","v":0},0]
[null,{"$f":"OFFSET(listy_slownikowe!$AG$2,I1426,0)","v":" "},null,null,null,null,{"$f":"OFFSET(listy_slownikowe!$AI$2,I1426,0)","v":" "},null,{"$f":"IFERROR(MATCH(D1426,listy_slownikowe!$AH$3:$AH$326,0),0)","v":0},0]
[null,"Gatunki dominujące i subdominujące",null,null,null,null,null,null,null,{"$f":"J1428","v":0}]
[null,"nazwa łacińska",null,"nazwa polska",null,null,"udział [%]",null,null,{"$f":"SUM(J1429:J1433)","v":0}]
[null,null,null,null,null,null,null,null,null,{"$f":"COUNTA(B1429:G1429)","v":0}]
[null,null,null,null,null,null,null,null,null,0]
[null,null,null,null,null,null,null,null,null,0]
[null,null,null,null,null,null,null,null,null,0]
[null,null,null,null,null,null,null,null,null,0]
[]
[null,"Spis gatunków numer:",null,null,null,null,{"$f":"G1408+1","v":54},null,null,{"$f":"J1439","v":0}]
[null,"Współrzędne geograficzne",null,null,null,null,null,null,null,{"$f":"J1440","v":0}]
[null,"Długość geograficzna [E] ",null,null,"Szerokość geograficzna [N]",null,null,null,null,{"$f":"J1440","v":0}]
[null,"stopnie","minuty","sekundy","stopnie","minuty","sekundy",null,null,{"$f":"J1439","v":0}]
[null,null,null,null,null,null,null,null,null,{"$f":"J1441+J1455","v":0}]
[null,"Gatunki wskaźnikowe",null,null,null,null,null,null,null,{"$f":"J1441","v":0}]
[null,"nazwa łacińska",null,"nazwa polska",null,null,"walor ",null,null,{"$f":"SUM(J1442:J1453)","v":0}]
[null,{"$f":"OFFSET(listy_slownikowe!$AG$2,I1442,0)","v":" "},null,null,null,null,{"$f":"OFFSET(listy_slownikowe!$AI$2,I1442,0)","v":" "},null,{"$f":"IFERROR(MATCH(D1442,listy_slownikowe!$AH$3:$AH$326,0),0)","v":0},{"$f":"I1442","v":0}]
[null,{"$f":"OFFSET(listy_slownikowe!$AG$2,I1443,0)","v":" "},null,null,null,null,{"$f":"OFFSET(listy_slownikowe!$AI$2,I1443,0)","v":" "},null,{"$f":"IFERROR(MATCH(D1443,listy_slownikowe!$AH$3:$AH$326,0),0)","v":0},{"$f":"I1443","v":0}]
[null,{"$f":"OFFSET(listy_slownikowe!$AG$2,I1444,0)","v":" "},null,null,null,null,{"$f":"OFFSET(listy_slownikowe!$AI$2,I1444,0)","v":" "},null,{"$f":"IFERROR(MATCH(D1444,listy_slownikowe!$AH$3:$AH$326,0),0)","v":0},0]
[null,{"$f":"OFFSET(listy_slownikowe!$AG$2,I1445,0)","v":" "},null,null,null,null,{"$f":"OFFSET(listy_slownikowe!$AI$2,I1445,0)","v":" "},null,{"$f":"IFERROR(MATCH(D1445,listy_slownikowe!$AH$3:$AH$326,0),0)","v":0},0]
[null,{"$f":"OFFSET(listy_slownikowe!$AG$2,I1446,0)","v":" "},null,null,null,null,{"$f":"OFFSET(listy_slownikowe!$AI$2,I1446,0)","v":" "},null,{"$f":"IFERROR(MATCH(D1446,listy_slownikowe!$AH$3:$AH$326,0),0)","v":0},0]
[null,{"$f":"OFFSET(listy_slownikowe!$AG$2,I1447,0)","v":" "},null,null,null,null,{"$f":"OFFSET(listy_slownikowe!$AI$2,I1447,0)","v":" "},null,{"$f":"IFERROR(MATCH(D1447,listy_slownikowe!$AH$3:$AH$326,0),0)","v":0},0]
[null,{"$f":"OFFSET(listy_slownikowe!$AG$2,I1448,0)","v":" "},null,null,null,null,{"$f":"OFFSET(listy_slownikowe!$AI$2,I1448,0)","v":" "},null,{"$f":"IFERROR(MATCH(D1448,listy_slownikowe!$AH$3:$AH$326,0),0)","v":0},0]
[null,{"$f":"OFFSET(listy_slownikowe!$AG$2,I1449,0)","v":" "},null,null,null,null,{"$f":"OFFSET(listy_slownikowe!$AI$2,I1449,0)","v":" "},null,{"$f":"IFERROR(MATCH(D1449,listy_slownikowe!$AH$3:$AH$326,0),0)","v":0},0]
[null,{"$f":"OFFSET(listy_slownikowe!$AG$2,I1450,0)","v":" "},null,null,null,null,{"$f":"OFFSET(listy_slownikowe!$AI$2,I1450,0)","v":" "},null,{"$f":"IFERROR(MATCH(D1450,listy_slownikowe!$AH$3:$AH$326,0),0)","v":0},0]
[null,{"$f":"OFFSET(listy_slownikowe!$AG$2,I1451,0)","v":" "},null,null,null,null,{"$f":"OFFSET(listy_slownikowe!$AI$2,I1451,0)","v":" "},null,{"$f":"IFERROR(MATCH(D1451,listy_slownikowe!$AH$3:$AH$326,0),0)","v":0},0]
[null,{"$f":"OFFSET(listy_slownikowe!$AG$2,I1452,0)","v":" "},null,"",null,null,{"$f":"OFFSET(listy_slownikowe!$AI$2,I1452,0)","v":" "},null,{"$f":"IFERROR(MATCH(D1452,listy_slownikowe!$AH$3:$AH$326,0),0)","v":0},0]
[null,{"$f":"OFFSET(listy_slownikowe!$AG$2,I1453,0)","v":" "},null,null,null,null,{"$f":"OFFSET(listy_slownikowe!$AI$2,I1453,0)","v":" "},null,{"$f":"IFERROR(MATCH(D1453,listy_slownikowe!$AH$3:$AH$326,0),0)","v":0},0]
[null,"Gatunki dominujące i subdominujące",null,null,null,null,null,null,null,{"$f":"J1455","v":0}]
[null,"nazwa łacińska",null,"nazwa polska",null,null,"udział [%]",null,null,{"$f":"SUM(J1456:J1460)","v":0}]
[null,null,null,null,null,null,null,null,null,{"$f":"COUNTA(B1456:G1456)","v":0}]
[null,null,null,null,null,null,null,null,null,0]
[null,null,null,null,null,null,null,null,null,0]
[null,null,null,null,null,null,null,null,null,0]
[null,null,null,null,null,null,null,null,null,0]
[]
[null,"Spis gatunków numer:",null,null,null,null,{"$f":"G1435+1","v":55},null,null,{"$f":"J1466","v":0}]
[null,"Współrzędne geograficzne",null,null,null,null,null,null,null,{"$f":"J1467","v":0}]
[null,"Długość geograficzna [E] ",null,null,"Szerokość geograficzna [N]",null,null,null,null,{"$f":"J1467","v":0}]
[null,"stopnie","minuty","sekundy","stopnie","minuty","sekundy",null,null,{"$f":"J1466","v":0}]
[null,null,null,null,null,null,null,null,null,{"$f":"J1468+J1482","v":0}]
[null,"Gatunki wskaźnikowe",null,null,null,null,null,null,null,{"$f":"J1468","v":0}]
[null,"nazwa łacińska",null,"nazwa polska",null,null,"walor ",null,null,{"$f":"SUM(J1469:J1480)","v":0}]
[null,{"$f":"OFFSET(listy_slownikowe!$AG$2,I1469,0)","v":" "},null,null,null,null,{"$f":"OFFSET(listy_slownikowe!$AI$2,I1469,0)","v":" "},null,{"$f":"IFERROR(MATCH(D1469,listy_slownikowe!$AH$3:$AH$326,0),0)","v":0},{"$f":"I1469","v":0}]
[null,{"$f":"OFFSET(listy_slownikowe!$AG$2,I1470,0)","v":" "},null,null,null,null,{"$f":"OFFSET(listy_slownikowe!$AI$2,I1470,0)","v":" "},null,{"$f":"IFERROR(MATCH(D1470,listy_slownikowe!$AH$3:$AH$326,0),0)","v":0},{"$f":"I1470","v":0}]
[null,{"$f":"OFFSET(listy_slownikowe!$AG$2,I1471,0)","v":" "},null,null,null,null,{"$f":"OFFSET(listy_slownikowe!$AI$2,I1471,0)","v":" "},null,{"$f":"IFERROR(MATCH(D1471,listy_slownikowe!$AH$3:$AH$326,0),0)","v":0},0]
[null,{"$f":"OFFSET(listy_slownikowe!$AG$2,I1472,0)","v":" "},null,null,null,null,{"$f":"OFFSET(listy_slownikowe!$AI$2,I1472,0)","v":" "},null,{"$f":"IFERROR(MATCH(D1472,listy_slownikowe!$AH$3:$AH$326,0),0)","v":0},0]
[null,{"$f":"OFFSET(listy_slownikowe!$AG$2,I1473,0)","v":" "},null,null,null,null,{"$f":"OFFSET(listy_slownikowe!$AI$2,I1473,0)","v":" "},null,{"$f":"IFERROR(MATCH(D1473,listy_slownikowe!$AH$3:$AH$326,0),0)","v":0},0]
[null,{"$f":"OFFSET(listy_slownikowe!$AG$2,I1474,0)","v":" "},null,null,null,null,{"$f":"OFFSET(listy_slownikowe!$AI$2,I1474,0)","v":" "},null,{"$f":"IFERROR(MATCH(D1474,listy_slownikowe!$AH$3:$AH$326,0),0)","v":0},0]
[null,{"$f":"OFFSET(listy_slownikowe!$AG$2,I1475,0)","v":" "},null,null,null,null,{"$f":"OFFSET(listy_slownikowe!$AI$2,I1475,0)","v":" "},null,{"$f":"IFERROR(MATCH(D1475,listy_slownikowe!$AH$3:$AH$326,0),0)","v":0},0]
[null,{"$f":"OFFSET(listy_slownikowe!$AG$2,I1476,0)","v":" "},null,null,null,null,{"$f":"OFFSET(listy_slownikowe!$AI$2,I1476,0)","v":" "},null,{"$f":"IFERROR(MATCH(D1476,listy_slownikowe!$AH$3:$AH$326,0),0)","v":0},0]
[null,{"$f":"OFFSET(listy_slownikowe!$AG$2,I1477,0)","v":" "},null,null,null,null,{"$f":"OFFSET(listy_slownikowe!$AI$2,I1477,0)","v":" "},null,{"$f":"IFERROR(MATCH(D1477,listy_slownikowe!$AH$3:$AH$326,0),0)","v":0},0]
[null,{"$f":"OFFSET(listy_slownikowe!$AG$2,I1478,0)","v":" "},null,null,null,null,{"$f":"OFFSET(listy_slownikowe!$AI$2,I1478,0)","v":" "},null,{"$f":"IFERROR(MATCH(D1478,listy_slownikowe!$AH$3:$AH$326,0),0)","v":0},0]
[null,{"$f":"OFFSET(listy_slownikowe!$AG$2,I1479,0)","v":" "},null,"",null,null,{"$f":"OFFSET(listy_slownikowe!$AI$2,I1479,0)","v":" "},null,{"$f":"IFERROR(MATCH(D1479,listy_slownikowe!$AH$3:$AH$326,0),0)","v":0},0]
[null,{"$f":"OFFSET(listy_slownikowe!$AG$2,I1480,0)","v":" "},null,null,null,null,{"$f":"OFFSET(listy_slownikowe!$AI$2,I1480,0)","v":" "},null,{"$f":"IFERROR(MATCH(D1480,listy_slownikowe!$AH$3:$AH$326,0),0)","v":0},0]
[null,"Gatunki dominujące i subdominujące",null,null,null,null,null,null,null,{"$f":"J1482","v":0}]
[null,"nazwa łacińska",null,"nazwa polska",null,null,"udział [%]",null,null,{"$f":"SUM(J1483:J1487)","v":0}]
[null,null,null,null,null,null,null,null,null,{"$f":"COUNTA(B1483:G1483)","v":0}]
[null,null,null,null,null,null,null,null,null,0]
[null,null,null,null,null,null,null,null,null,0]
[null,null,null,null,null,null,null,null,null,0]
[null,null,null,null,null,null,null,null,null,0]
[]
[null,"Spis gatunków numer:",null,null,null,null,{"$f":"G1462+1","v":56},null,null,{"$f":"J1493","v":0}]
[null,"Współrzędne geograficzne",null,null,null,null,null,null,null,{"$f":"J1494","v":0}]
[null,"Długość geograficzna [E] ",null,null,"Szerokość geograficzna [N]",null,null,null,null,{"$f":"J1494","v":0}]
[null,"stopnie","minuty","sekundy","stopnie","minuty","sekundy",null,null,{"$f":"J1493","v":0}]
[null,null,null,null,null,null,null,null,null,{"$f":"J1495+J1509","v":0}]
[null,"Gatunki wskaźnikowe",null,null,null,null,null,null,null,{"$f":"J1495","v":0}]
[null,"nazwa łacińska",null,"nazwa polska",null,null,"walor ",null,null,{"$f":"SUM(J1496:J1507)","v":0}]
[null,{"$f":"OFFSET(listy_slownikowe!$AG$2,I1496,0)","v":" "},null,null,null,null,{"$f":"OFFSET(listy_slownikowe!$AI$2,I1496,0)","v":" "},null,{"$f":"IFERROR(MATCH(D1496,listy_slownikowe!$AH$3:$AH$326,0),0)","v":0},{"$f":"I1496","v":0}]
[null,{"$f":"OFFSET(listy_slownikowe!$AG$2,I1497,0)","v":" "},null,null,null,null,{"$f":"OFFSET(listy_slownikowe!$AI$2,I1497,0)","v":" "},null,{"$f":"IFERROR(MATCH(D1497,listy_slownikowe!$AH$3:$AH$326,0),0)","v":0},{"$f":"I1497","v":0}]
[null,{"$f":"OFFSET(listy_slownikowe!$AG$2,I1498,0)","v":" "},null,null,null,null,{"$f":"OFFSET(listy_slownikowe!$AI$2,I1498,0)","v":" "},null,{"$f":"IFERROR(MATCH(D1498,listy_slownikowe!$AH$3:$AH$326,0),0)","v":0},0]
[null,{"$f":"OFFSET(listy_slownikowe!$AG$2,I1499,0)","v":" "},null,null,null,null,{"$f":"OFFSET(listy_slownikowe!$AI$2,I1499,0)","v":" "},null,{"$f":"IFERROR(MATCH(D1499,listy_slownikowe!$AH$3:$AH$326,0),0)","v":0},0]
[null,{"$f":"OFFSET(listy_slownikowe!$AG$2,I1500,0)","v":" "},null,null,null,null,{"$f":"OFFSET(listy_slownikowe!$AI$2,I1500,0)","v":" "},null,{"$f":"IFERROR(MATCH(D1500,listy_slownikowe!$AH$3:$AH$326,0),0)","v":0},0]
[null,{"$f":"OFFSET(listy_slownikowe!$AG$2,I1501,0)","v":" "},null,null,null,null,{"$f":"OFFSET(listy_slownikowe!$AI$2,I1501,0)","v":" "},null,{"$f":"IFERROR(MATCH(D1501,listy_slownikowe!$AH$3:$AH$326,0),0)","v":0},0]
[null,{"$f":"OFFSET(listy_slownikowe!$AG$2,I1502,0)","v":" "},null,null,null,null,{"$f":"OFFSET(listy_slownikowe!$AI$2,I1502,0)","v":" "},null,{"$f":"IFERROR(MATCH(D1502,listy_slownikowe!$AH$3:$AH$326,0),0)","v":0},0]
[null,{"$f":"OFFSET(listy_slownikowe!$AG$2,I1503,0)","v":" "},null,null,null,null,{"$f":"OFFSET(listy_slownikowe!$AI$2,I1503,0)","v":" "},null,{"$f":"IFERROR(MATCH(D1503,listy_slownikowe!$AH$3:$AH$326,0),0)","v":0},0]
[null,{"$f":"OFFSET(listy_slownikowe!$AG$2,I1504,0)","v":" "},null,null,null,null,{"$f":"OFFSET(listy_slownikowe!$AI$2,I1504,0)","v":" "},null,{"$f":"IFERROR(MATCH(D1504,listy_slownikowe!$AH$3:$AH$326,0),0)","v":0},0]
[null,{"$f":"OFFSET(listy_slownikowe!$AG$2,I1505,0)","v":" "},null,null,null,null,{"$f":"OFFSET(listy_slownikowe!$AI$2,I1505,0)","v":" "},null,{"$f":"IFERROR(MATCH(D1505,listy_slownikowe!$AH$3:$AH$326,0),0)","v":0},0]
[null,{"$f":"OFFSET(listy_slownikowe!$AG$2,I1506,0)","v":" "},null,"",null,null,{"$f":"OFFSET(listy_slownikowe!$AI$2,I1506,0)","v":" "},null,{"$f":"IFERROR(MATCH(D1506,listy_slownikowe!$AH$3:$AH$326,0),0)","v":0},0]
[null,{"$f":"OFFSET(listy_slownikowe!$AG$2,I1507,0)","v":" "},null,null,null,null,{"$f":"OFFSET(listy_slownikowe!$AI$2,I1507,0)","v":" "},null,{"$f":"IFERROR(MATCH(D1507,listy_slownikowe!$AH$3:$AH$326,0),0)","v":0},0]
[null,"Gatunki dominujące i subdominujące",null,null,null,null,null,null,null,{"$f":"J1509","v":0}]
[null,"nazwa łacińska",null,"nazwa polska",null,null,"udział [%]",null,null,{"$f":"SUM(J1510:J1514)","v":0}]
[null,null,null,null,null,null,null,null,null,{"$f":"COUNTA(B1510:G1510)","v":0}]
[null,null,null,null,null,null,null,null,null,0]
[null,null,null,null,null,null,null,null,null,0]
[null,null,null,null,null,null,null,null,null,0]
[null,null,null,null,null,null,null,null,null,0]
[]
[null,"Spis gatunków numer:",null,null,null,null,{"$f":"G1489+1","v":57},null,null,{"$f":"J1520","v":0}]
[null,"Współrzędne geograficzne",null,null,null,null,null,null,null,{"$f":"J1521","v":0}]
[null,"Długość geograficzna [E] ",null,null,"Szerokość geograficzna [N]",null,null,null,null,{"$f":"J1521","v":0}]
[null,"stopnie","minuty","sekundy","stopnie","minuty","sekundy",null,null,{"$f":"J1520","v":0}]
[null,null,null,null,null,null,null,null,null,{"$f":"J1522+J1536","v":0}]
[null,"Gatunki wskaźnikowe",null,null,null,null,null,null,null,{"$f":"J1522","v":0}]
[null,"nazwa łacińska",null,"nazwa polska",null,null,"walor ",null,null,{"$f":"SUM(J1523:J1534)","v":0}]
[null,{"$f":"OFFSET(listy_slownikowe!$AG$2,I1523,0)","v":" "},null,null,null,null,{"$f":"OFFSET(listy_slownikowe!$AI$2,I1523,0)","v":" "},null,{"$f":"IFERROR(MATCH(D1523,listy_slownikowe!$AH$3:$AH$326,0),0)","v":0},{"$f":"I1523","v":0}]
[null,{"$f":"OFFSET(listy_slownikowe!$AG$2,I1524,0)","v":" "},null,null,null,null,{"$f":"OFFSET(listy_slownikowe!$AI$2,I1524,0)","v":" "},null,{"$f":"IFERROR(MATCH(D1524,listy_slownikowe!$AH$3:$AH$326,0),0)","v":0},{"$f":"I1524","v":0}]
[null,{"$f":"OFFSET(listy_slownikowe!$AG$2,I1525,0)","v":" "},null,null,null,null,{"$f":"OFFSET(listy_slownikowe!$AI$2,I1525,0)","v":" "},null,{"$f":"IFERROR(MATCH(D1525,listy_slownikowe!$AH$3:$AH$326,0),0)","v":0},0]
[null,{"$f":"OFFSET(listy_slownikowe!$AG$2,I1526,0)","v":" "},null,null,null,null,{"$f":"OFFSET(listy_slownikowe!$AI$2,I1526,0)","v":" "},null,{"$f":"IFERROR(MATCH(D1526,listy_slownikowe!$AH$3:$AH$326,0),0)","v":0},0]
[null,{"$f":"OFFSET(listy_slownikowe!$AG$2,I1527,0)","v":" "},null,null,null,null,{"$f":"OFFSET(listy_slownikowe!$AI$2,I1527,0)","v":" "},null,{"$f":"IFERROR(MATCH(D1527,listy_slownikowe!$AH$3:$AH$326,0),0)","v":0},0]
[null,{"$f":"OFFSET(listy_slownikowe!$AG$2,I1528,0)","v":" "},null,null,null,null,{"$f":"OFFSET(listy_slownikowe!$AI$2,I1528,0)","v":" "},null,{"$f":"IFERROR(MATCH(D1528,listy_slownikowe!$AH$3:$AH$326,0),0)","v":0},0]
[null,{"$f":"OFFSET(listy_slownikowe!$AG$2,I1529,0)","v":" "},null,null,null,null,{"$f":"OFFSET(listy_slownikowe!$AI$2,I1529,0)","v":" "},null,{"$f":"IFERROR(MATCH(D1529,listy_slownikowe!$AH$3:$AH$326,0),0)","v":0},0]
[null,{"$f":"OFFSET(listy_slownikowe!$AG$2,I1530,0)","v":" "},null,null,null,null,{"$f":"OFFSET(listy_slownikowe!$AI$2,I1530,0)","v":" "},null,{"$f":"IFERROR(MATCH(D1530,listy_slownikowe!$AH$3:$AH$326,0),0)","v":0},0]
[null,{"$f":"OFFSET(listy_slownikowe!$AG$2,I1531,0)","v":" "},null,null,null,null,{"$f":"OFFSET(listy_slownikowe!$AI$2,I1531,0)","v":" "},null,{"$f":"IFERROR(MATCH(D1531,listy_slownikowe!$AH$3:$AH$326,0),0)","v":0},0]
[null,{"$f":"OFFSET(listy_slownikowe!$AG$2,I1532,0)","v":" "},null,null,null,null,{"$f":"OFFSET(listy_slownikowe!$AI$2,I1532,0)","v":" "},null,{"$f":"IFERROR(MATCH(D1532,listy_slownikowe!$AH$3:$AH$326,0),0)","v":0},0]
[null,{"$f":"OFFSET(listy_slownikowe!$AG$2,I1533,0)","v":" "},null,"",null,null,{"$f":"OFFSET(listy_slownikowe!$AI$2,I1533,0)","v":" "},null,{"$f":"IFERROR(MATCH(D1533,listy_slownikowe!$AH$3:$AH$326,0),0)","v":0},0]
[null,{"$f":"OFFSET(listy_slownikowe!$AG$2,I1534,0)","v":" "},null,null,null,null,{"$f":"OFFSET(listy_slownikowe!$AI$2,I1534,0)","v":" "},null,{"$f":"IFERROR(MATCH(D1534,listy_slownikowe!$AH$3:$AH$326,0),0)","v":0},0]
[null,"Gatunki dominujące i subdominujące",null,null,null,null,null,null,null,{"$f":"J1536","v":0}]
[null,"nazwa łacińska",null,"nazwa polska",null,null,"udział [%]",null,null,{"$f":"SUM(J1537:J1541)","v":0}]
[null,null,null,null,null,null,null,null,null,{"$f":"COUNTA(B1537:G1537)","v":0}]
[null,null,null,null,null,null,null,null,null,0]
[null,null,null,null,null,null,null,null,null,0]
[null,null,null,null,null,null,null,null,null,0]
[null,null,null,null,null,null,null,null,null,0]
[]
[null,"Spis gatunków numer:",null,null,null,null,{"$f":"G1516+1","v":58},null,null,{"$f":"J1547","v":0}]
[null,"Współrzędne geograficzne",null,null,null,null,null,null,null,{"$f":"J1548","v":0}]
[null,"Długość geograficzna [E] ",null,null,"Szerokość geograficzna [N]",null,null,null,null,{"$f":"J1548","v":0}]
[null,"stopnie","minuty","sekundy","stopnie","minuty","sekundy",null,null,{"$f":"J1547","v":0}]
[null,null,null,null,null,null,null,null,null,{"$f":"J1549+J1563","v":0}]
[null,"Gatunki wskaźnikowe",null,null,null,null,null,null,null,{"$f":"J1549","v":0}]
[null,"nazwa łacińska",null,"nazwa polska",null,null,"walor ",null,null,{"$f":"SUM(J1550:J1561)","v":0}]
[null,{"$f":"OFFSET(listy_slownikowe!$AG$2,I1550,0)","v":" "},null,null,null,null,{"$f":"OFFSET(listy_slownikowe!$AI$2,I1550,0)","v":" "},null,{"$f":"IFERROR(MATCH(D1550,listy_slownikowe!$AH$3:$AH$326,0),0)","v":0},{"$f":"I1550","v":0}]
[null,{"$f":"OFFSET(listy_slownikowe!$AG$2,I1551,0)","v":" "},null,null,null,null,{"$f":"OFFSET(listy_slownikowe!$AI$2,I1551,0)","v":" "},null,{"$f":"IFERROR(MATCH(D1551,listy_slownikowe!$AH$3:$AH$326,0),0)","v":0},{"$f":"I1551","v":0}]
[null,{"$f":"OFFSET(listy_slownikowe!$AG$2,I1552,0)","v":" "},null,null,null,null,{"$f":"OFFSET(listy_slownikowe!$AI$2,I1552,0)","v":" "},null,{"$f":"IFERROR(MATCH(D1552,listy_slownikowe!$AH$3:$AH$326,0),0)","v":0},0]
[null,{"$f":"OFFSET(listy_slownikowe!$AG$2,I1553,0)","v":" "},null,null,null,null,{"$f":"OFFSET(listy_slownikowe!$AI$2,I1553,0)","v":" "},null,{"$f":"IFERROR(MATCH(D1553,listy_slownikowe!$AH$3:$AH$326,0),0)","v":0},0]
[null,{"$f":"OFFSET(listy_slownikowe!$AG$2,I1554,0)","v":" "},null,null,null,null,{"$f":"OFFSET(listy_slownikowe!$AI$2,I1554,0)","v":" "},null,{"$f":"IFERROR(MATCH(D1554,listy_slownikowe!$AH$3:$AH$326,0),0)","v":0},0]
[null,{"$f":"OFFSET(listy_slownikowe!$AG$2,I1555,0)","v":" "},null,null,null,null,{"$f":"OFFSET(listy_slownikowe!$AI$2,I1555,0)","v":" "},null,{"$f":"IFERROR(MATCH(D1555,listy_slownikowe!$AH$3:$AH$326,0),0)","v":0},0]
[null,{"$f":"OFFSET(listy_slownikowe!$AG$2,I1556,0)","v":" "},null,null,null,null,{"$f":"OFFSET(listy_slownikowe!$AI$2,I1556,0)","v":" "},null,{"$f":"IFERROR(MATCH(D1556,listy_slownikowe!$AH$3:$AH$326,0),0)","v":0},0]
[null,{"$f":"OFFSET(listy_slownikowe!$AG$2,I1557,0)","v":" "},null,null,null,null,{"$f":"OFFSET(listy_slownikowe!$AI$2,I1557,0)","v":" "},null,{"$f":"IFERROR(MATCH(D1557,listy_slownikowe!$AH$3:$AH$326,0),0)","v":0},0]
[null,{"$f":"OFFSET(listy_slownikowe!$AG$2,I1558,0)","v":" "},null,null,null,null,{"$f":"OFFSET(listy_slownikowe!$AI$2,I1558,0)","v":" "},null,{"$f":"IFERROR(MATCH(D1558,listy_slownikowe!$AH$3:$AH$326,0),0)","v":0},0]
[null,{"$f":"OFFSET(listy_slownikowe!$AG$2,I1559,0)","v":" "},null,null,null,null,{"$f":"OFFSET(listy_slownikowe!$AI$2,I1559,0)","v":" "},null,{"$f":"IFERROR(MATCH(D1559,listy_slownikowe!$AH$3:$AH$326,0),0)","v":0},0]
[null,{"$f":"OFFSET(listy_slownikowe!$AG$2,I1560,0)","v":" "},null,"",null,null,{"$f":"OFFSET(listy_slownikowe!$AI$2,I1560,0)","v":" "},null,{"$f":"IFERROR(MATCH(D1560,listy_slownikowe!$AH$3:$AH$326,0),0)","v":0},0]
[null,{"$f":"OFFSET(listy_slownikowe!$AG$2,I1561,0)","v":" "},null,null,null,null,{"$f":"OFFSET(listy_slownikowe!$AI$2,I1561,0)","v":" "},null,{"$f":"IFERROR(MATCH(D1561,listy_slownikowe!$AH$3:$AH$326,0),0)","v":0},0]
[null,"Gatunki dominujące i subdominujące",null,null,null,null,null,null,null,{"$f":"J1563","v":0}]
[null,"nazwa łacińska",null,"nazwa polska",null,null,"udział [%]",null,null,{"$f":"SUM(J1564:J1568)","v":0}]
[null,null,null,null,null,null,null,null,null,{"$f":"COUNTA(B1564:G1564)","v":0}]
[null,null,null,null,null,null,null,null,null,0]
[null,null,null,null,null,null,null,null,null,0]
[null,null,null,null,null,null,null,null,null,0]
[null,null,null,null,null,null,null,null,null,0]
[]
[null,"Spis gatunków numer:",null,null,null,null,{"$f":"G1543+1","v":59},null,null,{"$f":"J1574","v":0}]
[null,"Współrzędne geograficzne",null,null,null,null,null,null,null,{"$f":"J1575","v":0}]
[null,"Długość geograficzna [E] ",null,null,"Szerokość geograficzna [N]",null,null,null,null,{"$f":"J1575","v":0}]
[null,"stopnie","minuty","sekundy","stopnie","minuty","sekundy",null,null,{"$f":"J1574","v":0}]
[null,null,null,null,null,null,null,null,null,{"$f":"J1576+J1590","v":0}]
[null,"Gatunki wskaźnikowe",null,null,null,null,null,null,null,{"$f":"J1576","v":0}]
[null,"nazwa łacińska",null,"nazwa polska",null,null,"walor ",null,null,{"$f":"SUM(J1577:J1588)","v":0}]
[null,{"$f":"OFFSET(listy_slownikowe!$AG$2,I1577,0)","v":" "},null,null,null,null,{"$f":"OFFSET(listy_slownikowe!$AI$2,I1577,0)","v":" "},null,{"$f":"IFERROR(MATCH(D1577,listy_slownikowe!$AH$3:$AH$326,0),0)","v":0},{"$f":"I1577","v":0}]
[null,{"$f":"OFFSET(listy_slownikowe!$AG$2,I1578,0)","v":" "},null,null,null,null,{"$f":"OFFSET(listy_slownikowe!$AI$2,I1578,0)","v":" "},null,{"$f":"IFERROR(MATCH(D1578,listy_slownikowe!$AH$3:$AH$326,0),0)","v":0},{"$f":"I1578","v":0}]
[null,{"$f":"OFFSET(listy_slownikowe!$AG$2,I1579,0)","v":" "},null,null,null,null,{"$f":"OFFSET(listy_slownikowe!$AI$2,I1579,0)","v":" "},null,{"$f":"IFERROR(MATCH(D1579,listy_slownikowe!$AH$3:$AH$326,0),0)","v":0},0]
[null,{"$f":"OFFSET(listy_slownikowe!$AG$2,I1580,0)","v":" "},null,null,null,null,{"$f":"OFFSET(listy_slownikowe!$AI$2,I1580,0)","v":" "},null,{"$f":"IFERROR(MATCH(D1580,listy_slownikowe!$AH$3:$AH$326,0),0)","v":0},0]
[null,{"$f":"OFFSET(listy_slownikowe!$AG$2,I1581,0)","v":" "},null,null,null,null,{"$f":"OFFSET(listy_slownikowe!$AI$2,I1581,0)","v":" "},null,{"$f":"IFERROR(MATCH(D1581,listy_slownikowe!$AH$3:$AH$326,0),0)","v":0},0]
[null,{"$f":"OFFSET(listy_slownikowe!$AG$2,I1582,0)","v":" "},null,null,null,null,{"$f":"OFFSET(listy_slownikowe!$AI$2,I1582,0)","v":" "},null,{"$f":"IFERROR(MATCH(D1582,listy_slownikowe!$AH$3:$AH$326,0),0)","v":0},0]
[null,{"$f":"OFFSET(listy_slownikowe!$AG$2,I1583,0)","v":" "},null,null,null,null,{"$f":"OFFSET(listy_slownikowe!$AI$2,I1583,0)","v":" "},null,{"$f":"IFERROR(MATCH(D1583,listy_slownikowe!$AH$3:$AH$326,0),0)","v":0},0]
[null,{"$f":"OFFSET(listy_slownikowe!$AG$2,I1584,0)","v":" "},null,null,null,null,{"$f":"OFFSET(listy_slownikowe!$AI$2,I1584,0)","v":" "},null,{"$f":"IFERROR(MATCH(D1584,listy_slownikowe!$AH$3:$AH$326,0),0)","v":0},0]
[null,{"$f":"OFFSET(listy_slownikowe!$AG$2,I1585,0)","v":" "},null,null,null,null,{"$f":"OFFSET(listy_slownikowe!$AI$2,I1585,0)","v":" "},null,{"$f":"IFERROR(MATCH(D1585,listy_slownikowe!$AH$3:$AH$326,0),0)","v":0},0]
[null,{"$f":"OFFSET(listy_slownikowe!$AG$2,I1586,0)","v":" "},null,null,null,null,{"$f":"OFFSET(listy_slownikowe!$AI$2,I1586,0)","v":" "},null,{"$f":"IFERROR(MATCH(D1586,listy_slownikowe!$AH$3:$AH$326,0),0)","v":0},0]
[null,{"$f":"OFFSET(listy_slownikowe!$AG$2,I1587,0)","v":" "},null,"",null,null,{"$f":"OFFSET(listy_slownikowe!$AI$2,I1587,0)","v":" "},null,{"$f":"IFERROR(MATCH(D1587,listy_slownikowe!$AH$3:$AH$326,0),0)","v":0},0]
[null,{"$f":"OFFSET(listy_slownikowe!$AG$2,I1588,0)","v":" "},null,null,null,null,{"$f":"OFFSET(listy_slownikowe!$AI$2,I1588,0)","v":" "},null,{"$f":"IFERROR(MATCH(D1588,listy_slownikowe!$AH$3:$AH$326,0),0)","v":0},0]
[null,"Gatunki dominujące i subdominujące",null,null,null,null,null,null,null,{"$f":"J1590","v":0}]
[null,"nazwa łacińska",null,"nazwa polska",null,null,"udział [%]",null,null,{"$f":"SUM(J1591:J1595)","v":0}]
[null,null,null,null,null,null,null,null,null,{"$f":"COUNTA(B1591:G1591)","v":0}]
[null,null,null,null,null,null,null,null,null,0]
[null,null,null,null,null,null,null,null,null,0]
[null,null,null,null,null,null,null,null,null,0]
[null,null,null,null,null,null,null,null,null,0]
[]
[null,"Spis gatunków numer:",null,null,null,null,{"$f":"G1570+1","v":60},null,null,{"$f":"J1601","v":0}]
[null,"Współrzędne geograficzne",null,null,null,null,null,null,null,{"$f":"J1602","v":0}]
[null,"Długość geograficzna [E] ",null,null,"Szerokość geograficzna [N]",null,null,null,null,{"$f":"J1602","v":0}]
[null,"stopnie","minuty","sekundy","stopnie","minuty","sekundy",null,null,{"$f":"J1601","v":0}]
[null,null,null,null,null,null,null,null,null,{"$f":"J1603+J1617","v":0}]
[null,"Gatunki wskaźnikowe",null,null,null,null,null,null,null,{"$f":"J1603","v":0}]
[null,"nazwa łacińska",null,"nazwa polska",null,null,"walor ",null,null,{"$f":"SUM(J1604:J1615)","v":0}]
[null,{"$f":"OFFSET(listy_slownikowe!$AG$2,I1604,0)","v":" "},null,null,null,null,{"$f":"OFFSET(listy_slownikowe!$AI$2,I1604,0)","v":" "},null,{"$f":"IFERROR(MATCH(D1604,listy_slownikowe!$AH$3:$AH$326,0),0)","v":0},{"$f":"I1604","v":0}]
[null,{"$f":"OFFSET(listy_slownikowe!$AG$2,I1605,0)","v":" "},null,null,null,null,{"$f":"OFFSET(listy_slownikowe!$AI$2,I1605,0)","v":" "},null,{"$f":"IFERROR(MATCH(D1605,listy_slownikowe!$AH$3:$AH$326,0),0)","v":0},{"$f":"I1605","v":0}]
[null,{"$f":"OFFSET(listy_slownikowe!$AG$2,I1606,0)","v":" "},null,null,null,null,{"$f":"OFFSET(listy_slownikowe!$AI$2,I1606,0)","v":" "},null,{"$f":"IFERROR(MATCH(D1606,listy_slownikowe!$AH$3:$AH$326,0),0)","v":0},0]
[null,{"$f":"OFFSET(listy_slownikowe!$AG$2,I1607,0)","v":" "},null,null,null,null,{"$f":"OFFSET(listy_slownikowe!$AI$2,I1607,0)","v":" "},null,{"$f":"IFERROR(MATCH(D1607,listy_slownikowe!$AH$3:$AH$326,0),0)","v":0},0]
[null,{"$f":"OFFSET(listy_slownikowe!$AG$2,I1608,0)","v":" "},null,null,null,null,{"$f":"OFFSET(listy_slownikowe!$AI$2,I1608,0)","v":" "},null,{"$f":"IFERROR(MATCH(D1608,listy_slownikowe!$AH$3:$AH$326,0),0)","v":0},0]
[null,{"$f":"OFFSET(listy_slownikowe!$AG$2,I1609,0)","v":" "},null,null,null,null,{"$f":"OFFSET(listy_slownikowe!$AI$2,I1609,0)","v":" "},null,{"$f":"IFERROR(MATCH(D1609,listy_slownikowe!$AH$3:$AH$326,0),0)","v":0},0]
[null,{"$f":"OFFSET(listy_slownikowe!$AG$2,I1610,0)","v":" "},null,null,null,null,{"$f":"OFFSET(listy_slownikowe!$AI$2,I1610,0)","v":" "},null,{"$f":"IFERROR(MATCH(D1610,listy_slownikowe!$AH$3:$AH$326,0),0)","v":0},0]
[null,{"$f":"OFFSET(listy_slownikowe!$AG$2,I1611,0)","v":" "},null,null,null,null,{"$f":"OFFSET(listy_slownikowe!$AI$2,I1611,0)","v":" "},null,{"$f":"IFERROR(MATCH(D1611,listy_slownikowe!$AH$3:$AH$326,0),0)","v":0},0]
[null,{"$f":"OFFSET(listy_slownikowe!$AG$2,I1612,0)","v":" "},null,null,null,null,{"$f":"OFFSET(listy_slownikowe!$AI$2,I1612,0)","v":" "},null,{"$f":"IFERROR(MATCH(D1612,listy_slownikowe!$AH$3:$AH$326,0),0)","v":0},0]
[null,{"$f":"OFFSET(listy_slownikowe!$AG$2,I1613,0)","v":" "},null,null,null,null,{"$f":"OFFSET(listy_slownikowe!$AI$2,I1613,0)","v":" "},null,{"$f":"IFERROR(MATCH(D1613,listy_slownikowe!$AH$3:$AH$326,0),0)","v":0},0]
[null,{"$f":"OFFSET(listy_slownikowe!$AG$2,I1614,0)","v":" "},null,"",null,null,{"$f":"OFFSET(listy_slownikowe!$AI$2,I1614,0)","v":" "},null,{"$f":"IFERROR(MATCH(D1614,listy_slownikowe!$AH$3:$AH$326,0),0)","v":0},0]
[null,{"$f":"OFFSET(listy_slownikowe!$AG$2,I1615,0)","v":" "},null,null,null,null,{"$f":"OFFSET(listy_slownikowe!$AI$2,I1615,0)","v":" "},null,{"$f":"IFERROR(MATCH(D1615,listy_slownikowe!$AH$3:$AH$326,0),0)","v":0},0]
[null,"Gatunki dominujące i subdominujące",null,null,null,null,null,null,null,{"$f":"J1617","v":0}]
[null,"nazwa łacińska",null,"nazwa polska",null,null,"udział [%]",null,null,{"$f":"SUM(J1618:J1622)","v":0}]
[null,null,null,null,null,null,null,null,null,{"$f":"COUNTA(B1618:G1618)","v":0}]
[null,null,null,null,null,null,null,null,null,0]
[null,null,null,null,null,null,null,null,null,0]
[null,null,null,null,null,null,null,null,null,0]
[null,null,null,null,null,null,null,null,null,0]
[]
[null,"Spis gatunków numer:",null,null,null,null,{"$f":"G1597+1","v":61},null,null,{"$f":"J1628","v":0}]
[null,"Współrzędne geograficzne",null,null,null,null,null,null,null,{"$f":"J1629","v":0}]
[null,"Długość geograficzna [E] ",null,null,"Szerokość geograficzna [N]",null,null,null,null,{"$f":"J1629","v":0}]
[null,"stopnie","minuty","sekundy","stopnie","minuty","sekundy",null,null,{"$f":"J1628","v":0}]
[null,null,null,null,null,null,null,null,null,{"$f":"J1630+J1644","v":0}]
[null,"Gatunki wskaźnikowe",null,null,null,null,null,null,null,{"$f":"J1630","v":0}]
[null,"nazwa łacińska",null,"nazwa polska",null,null,"walor ",null,null,{"$f":"SUM(J1631:J1642)","v":0}]
[null,{"$f":"OFFSET(listy_slownikowe!$AG$2,I1631,0)","v":" "},null,null,null,null,{"$f":"OFFSET(listy_slownikowe!$AI$2,I1631,0)","v":" "},null,{"$f":"IFERROR(MATCH(D1631,listy_slownikowe!$AH$3:$AH$326,0),0)","v":0},{"$f":"I1631","v":0}]
[null,{"$f":"OFFSET(listy_slownikowe!$AG$2,I1632,0)","v":" "},null,null,null,null,{"$f":"OFFSET(listy_slownikowe!$AI$2,I1632,0)","v":" "},null,{"$f":"IFERROR(MATCH(D1632,listy_slownikowe!$AH$3:$AH$326,0),0)","v":0},{"$f":"I1632","v":0}]
[null,{"$f":"OFFSET(listy_slownikowe!$AG$2,I1633,0)","v":" "},null,null,null,null,{"$f":"OFFSET(listy_slownikowe!$AI$2,I1633,0)","v":" "},null,{"$f":"IFERROR(MATCH(D1633,listy_slownikowe!$AH$3:$AH$326,0),0)","v":0},0]
[null,{"$f":"OFFSET(listy_slownikowe!$AG$2,I1634,0)","v":" "},null,null,null,null,{"$f":"OFFSET(listy_slownikowe!$AI$2,I1634,0)","v":" "},null,{"$f":"IFERROR(MATCH(D1634,listy_slownikowe!$AH$3:$AH$326,0),0)","v":0},0]
[null,{"$f":"OFFSET(listy_slownikowe!$AG$2,I1635,0)","v":" "},null,null,null,null,{"$f":"OFFSET(listy_slownikowe!$AI$2,I1635,0)","v":" "},null,{"$f":"IFERROR(MATCH(D1635,listy_slownikowe!$AH$3:$AH$326,0),0)","v":0},0]
[null,{"$f":"OFFSET(listy_slownikowe!$AG$2,I1636,0)","v":" "},null,null,null,null,{"$f":"OFFSET(listy_slownikowe!$AI$2,I1636,0)","v":" "},null,{"$f":"IFERROR(MATCH(D1636,listy_slownikowe!$AH$3:$AH$326,0),0)","v":0},0]
[null,{"$f":"OFFSET(listy_slownikowe!$AG$2,I1637,0)","v":" "},null,null,null,null,{"$f":"OFFSET(listy_slownikowe!$AI$2,I1637,0)","v":" "},null,{"$f":"IFERROR(MATCH(D1637,listy_slownikowe!$AH$3:$AH$326,0),0)","v":0},0]
[null,{"$f":"OFFSET(listy_slownikowe!$AG$2,I1638,0)","v":" "},null,null,null,null,{"$f":"OFFSET(listy_slownikowe!$AI$2,I1638,0)","v":" "},null,{"$f":"IFERROR(MATCH(D1638,listy_slownikowe!$AH$3:$AH$326,0),0)","v":0},0]
[null,{"$f":"OFFSET(listy_slownikowe!$AG$2,I1639,0)","v":" "},null,null,null,null,{"$f":"OFFSET(listy_slownikowe!$AI$2,I1639,0)","v":" "},null,{"$f":"IFERROR(MATCH(D1639,listy_slownikowe!$AH$3:$AH$326,0),0)","v":0},0]
[null,{"$f":"OFFSET(listy_slownikowe!$AG$2,I1640,0)","v":" "},null,null,null,null,{"$f":"OFFSET(listy_slownikowe!$AI$2,I1640,0)","v":" "},null,{"$f":"IFERROR(MATCH(D1640,listy_slownikowe!$AH$3:$AH$326,0),0)","v":0},0]
[null,{"$f":"OFFSET(listy_slownikowe!$AG$2,I1641,0)","v":" "},null,"",null,null,{"$f":"OFFSET(listy_slownikowe!$AI$2,I1641,0)","v":" "},null,{"$f":"IFERROR(MATCH(D1641,listy_slownikowe!$AH$3:$AH$326,0),0)","v":0},0]
[null,{"$f":"OFFSET(listy_slownikowe!$AG$2,I1642,0)","v":" "},null,null,null,null,{"$f":"OFFSET(listy_slownikowe!$AI$2,I1642,0)","v":" "},null,{"$f":"IFERROR(MATCH(D1642,listy_slownikowe!$AH$3:$AH$326,0),0)","v":0},0]
[null,"Gatunki dominujące i subdominujące",null,null,null,null,null,null,null,{"$f":"J1644","v":0}]
[null,"nazwa łacińska",null,"nazwa polska",null,null,"udział [%]",null,null,{"$f":"SUM(J1645:J1649)","v":0}]
[null,null,null,null,null,null,null,null,null,{"$f":"COUNTA(B1645:G1645)","v":0}]
[null,null,null,null,null,null,null,null,null,0]
[null,null,null,null,null,null,null,null,null,0]
[null,null,null,null,null,null,null,null,null,0]
[null,null,null,null,null,null,null,null,null,0]
[]
[null,"Spis gatunków numer:",null,null,null,null,{"$f":"G1624+1","v":62},null,null,{"$f":"J1655","v":0}]
[null,"Współrzędne geograficzne",null,null,null,null,null,null,null,{"$f":"J1656","v":0}]
[null,"Długość geograficzna [E] ",null,null,"Szerokość geograficzna [N]",null,null,null,null,{"$f":"J1656","v":0}]
[null,"stopnie","minuty","sekundy","stopnie","minuty","sekundy",null,null,{"$f":"J1655","v":0}]
[null,null,null,null,null,null,null,null,null,{"$f":"J1657+J1671","v":0}]
[null,"Gatunki wskaźnikowe",null,null,null,null,null,null,null,{"$f":"J1657","v":0}]
[null,"nazwa łacińska",null,"nazwa polska",null,null,"walor ",null,null,{"$f":"SUM(J1658:J1669)","v":0}]
[null,{"$f":"OFFSET(listy_slownikowe!$AG$2,I1658,0)","v":" "},null,null,null,null,{"$f":"OFFSET(listy_slownikowe!$AI$2,I1658,0)","v":" "},null,{"$f":"IFERROR(MATCH(D1658,listy_slownikowe!$AH$3:$AH$326,0),0)","v":0},{"$f":"I1658","v":0}]
[null,{"$f":"OFFSET(listy_slownikowe!$AG$2,I1659,0)","v":" "},null,null,null,null,{"$f":"OFFSET(listy_slownikowe!$AI$2,I1659,0)","v":" "},null,{"$f":"IFERROR(MATCH(D1659,listy_slownikowe!$AH$3:$AH$326,0),0)","v":0},{"$f":"I1659","v":0}]
[null,{"$f":"OFFSET(listy_slownikowe!$AG$2,I1660,0)","v":" "},null,null,null,null,{"$f":"OFFSET(listy_slownikowe!$AI$2,I1660,0)","v":" "},null,{"$f":"IFERROR(MATCH(D1660,listy_slownikowe!$AH$3:$AH$326,0),0)","v":0},0]
[null,{"$f":"OFFSET(listy_slownikowe!$AG$2,I1661,0)","v":" "},null,null,null,null,{"$f":"OFFSET(listy_slownikowe!$AI$2,I1661,0)","v":" "},null,{"$f":"IFERROR(MATCH(D1661,listy_slownikowe!$AH$3:$AH$326,0),0)","v":0},0]
[null,{"$f":"OFFSET(listy_slownikowe!$AG$2,I1662,0)","v":" "},null,null,null,null,{"$f":"OFFSET(listy_slownikowe!$AI$2,I1662,0)","v":" "},null,{"$f":"IFERROR(MATCH(D1662,listy_slownikowe!$AH$3:$AH$326,0),0)","v":0},0]
[null,{"$f":"OFFSET(listy_slownikowe!$AG$2,I1663,0)","v":" "},null,null,null,null,{"$f":"OFFSET(listy_slownikowe!$AI$2,I1663,0)","v":" "},null,{"$f":"IFERROR(MATCH(D1663,listy_slownikowe!$AH$3:$AH$326,0),0)","v":0},0]
[null,{"$f":"OFFSET(listy_slownikowe!$AG$2,I1664,0)","v":" "},null,null,null,null,{"$f":"OFFSET(listy_slownikowe!$AI$2,I1664,0)","v":" "},null,{"$f":"IFERROR(MATCH(D1664,listy_slownikowe!$AH$3:$AH$326,0),0)","v":0},0]
[null,{"$f":"OFFSET(listy_slownikowe!$AG$2,I1665,0)","v":" "},null,null,null,null,{"$f":"OFFSET(listy_slownikowe!$AI$2,I1665,0)","v":" "},null,{"$f":"IFERROR(MATCH(D1665,listy_slownikowe!$AH$3:$AH$326,0),0)","v":0},0]
[null,{"$f":"OFFSET(listy_slownikowe!$AG$2,I1666,0)","v":" "},null,null,null,null,{"$f":"OFFSET(listy_slownikowe!$AI$2,I1666,0)","v":" "},null,{"$f":"IFERROR(MATCH(D1666,listy_slownikowe!$AH$3:$AH$326,0),0)","v":0},0]
[null,{"$f":"OFFSET(listy_slownikowe!$AG$2,I1667,0)","v":" "},null,null,null,null,{"$f":"OFFSET(listy_slownikowe!$AI$2,I1667,0)","v":" "},null,{"$f":"IFERROR(MATCH(D1667,listy_slownikowe!$AH$3:$AH$326,0),0)","v":0},0]
[null,{"$f":"OFFSET(listy_slownikowe!$AG$2,I1668,0)","v":" "},null,"",null,null,{"$f":"OFFSET(listy_slownikowe!$AI$2,I1668,0)","v":" "},null,{"$f":"IFERROR(MATCH(D1668,listy_slownikowe!$AH$3:$AH$326,0),0)","v":0},0]
[null,{"$f":"OFFSET(listy_slownikowe!$AG$2,I1669,0)","v":" "},null,null,null,null,{"$f":"OFFSET(listy_slownikowe!$AI$2,I1669,0)","v":" "},null,{"$f":"IFERROR(MATCH(D1669,listy_slownikowe!$AH$3:$AH$326,0),0)","v":0},0]
[null,"Gatunki dominujące i subdominujące",null,null,null,null,null,null,null,{"$f":"J1671","v":0}]
[null,"nazwa łacińska",null,"nazwa polska",null,null,"udział [%]",null,null,{"$f":"SUM(J1672:J1676)","v":0}]
[null,null,null,null,null,null,null,null,null,{"$f":"COUNTA(B1672:G1672)","v":0}]
[null,null,null,null,null,null,null,null,null,0]
[null,null,null,null,null,null,null,null,null,0]
[null,null,null,null,null,null,null,null,null,0]
[null,null,null,null,null,null,null,null,null,0]
[]
[null,"Spis gatunków numer:",null,null,null,null,{"$f":"G1651+1","v":63},null,null,{"$f":"J1682","v":0}]
[null,"Współrzędne geograficzne",null,null,null,null,null,null,null,{"$f":"J1683","v":0}]
[null,"Długość geograficzna [E] ",null,null,"Szerokość geograficzna [N]",null,null,null,null,{"$f":"J1683","v":0}]
[null,"stopnie","minuty","sekundy","stopnie","minuty","sekundy",null,null,{"$f":"J1682","v":0}]
[null,null,null,null,null,null,null,null,null,{"$f":"J1684+J1698","v":0}]
[null,"Gatunki wskaźnikowe",null,null,null,null,null,null,null,{"$f":"J1684","v":0}]
[null,"nazwa łacińska",null,"nazwa polska",null,null,"walor ",null,null,{"$f":"SUM(J1685:J1696)","v":0}]
[null,{"$f":"OFFSET(listy_slownikowe!$AG$2,I1685,0)","v":" "},null,null,null,null,{"$f":"OFFSET(listy_slownikowe!$AI$2,I1685,0)","v":" "},null,{"$f":"IFERROR(MATCH(D1685,listy_slownikowe!$AH$3:$AH$326,0),0)","v":0},{"$f":"I1685","v":0}]
[null,{"$f":"OFFSET(listy_slownikowe!$AG$2,I1686,0)","v":" "},null,null,null,null,{"$f":"OFFSET(listy_slownikowe!$AI$2,I1686,0)","v":" "},null,{"$f":"IFERROR(MATCH(D1686,listy_slownikowe!$AH$3:$AH$326,0),0)","v":0},{"$f":"I1686","v":0}]
[null,{"$f":"OFFSET(listy_slownikowe!$AG$2,I1687,0)","v":" "},null,null,null,null,{"$f":"OFFSET(listy_slownikowe!$AI$2,I1687,0)","v":" "},null,{"$f":"IFERROR(MATCH(D1687,listy_slownikowe!$AH$3:$AH$326,0),0)","v":0},0]
[null,{"$f":"OFFSET(listy_slownikowe!$AG$2,I1688,0)","v":" "},null,null,null,null,{"$f":"OFFSET(listy_slownikowe!$AI$2,I1688,0)","v":" "},null,{"$f":"IFERROR(MATCH(D1688,listy_slownikowe!$AH$3:$AH$326,0),0)","v":0},0]
[null,{"$f":"OFFSET(listy_slownikowe!$AG$2,I1689,0)","v":" "},null,null,null,null,{"$f":"OFFSET(listy_slownikowe!$AI$2,I1689,0)","v":" "},null,{"$f":"IFERROR(MATCH(D1689,listy_slownikowe!$AH$3:$AH$326,0),0)","v":0},0]
[null,{"$f":"OFFSET(listy_slownikowe!$AG$2,I1690,0)","v":" "},null,null,null,null,{"$f":"OFFSET(listy_slownikowe!$AI$2,I1690,0)","v":" "},null,{"$f":"IFERROR(MATCH(D1690,listy_slownikowe!$AH$3:$AH$326,0),0)","v":0},0]
[null,{"$f":"OFFSET(listy_slownikowe!$AG$2,I1691,0)","v":" "},null,null,null,null,{"$f":"OFFSET(listy_slownikowe!$AI$2,I1691,0)","v":" "},null,{"$f":"IFERROR(MATCH(D1691,listy_slownikowe!$AH$3:$AH$326,0),0)","v":0},0]
[null,{"$f":"OFFSET(listy_slownikowe!$AG$2,I1692,0)","v":" "},null,null,null,null,{"$f":"OFFSET(listy_slownikowe!$AI$2,I1692,0)","v":" "},null,{"$f":"IFERROR(MATCH(D1692,listy_slownikowe!$AH$3:$AH$326,0),0)","v":0},0]
[null,{"$f":"OFFSET(listy_slownikowe!$AG$2,I1693,0)","v":" "},null,null,null,null,{"$f":"OFFSET(listy_slownikowe!$AI$2,I1693,0)","v":" "},null,{"$f":"IFERROR(MATCH(D1693,listy_slownikowe!$AH$3:$AH$326,0),0)","v":0},0]
[null,{"$f":"OFFSET(listy_slownikowe!$AG$2,I1694,0)","v":" "},null,null,null,null,{"$f":"OFFSET(listy_slownikowe!$AI$2,I1694,0)","v":" "},null,{"$f":"IFERROR(MATCH(D1694,listy_slownikowe!$AH$3:$AH$326,0),0)","v":0},0]
[null,{"$f":"OFFSET(listy_slownikowe!$AG$2,I1695,0)","v":" "},null,"",null,null,{"$f":"OFFSET(listy_slownikowe!$AI$2,I1695,0)","v":" "},null,{"$f":"IFERROR(MATCH(D1695,listy_slownikowe!$AH$3:$AH$326,0),0)","v":0},0]
[null,{"$f":"OFFSET(listy_slownikowe!$AG$2,I1696,0)","v":" "},null,null,null,null,{"$f":"OFFSET(listy_slownikowe!$AI$2,I1696,0)","v":" "},null,{"$f":"IFERROR(MATCH(D1696,listy_slownikowe!$AH$3:$AH$326,0),0)","v":0},0]
[null,"Gatunki dominujące i subdominujące",null,null,null,null,null,null,null,{"$f":"J1698","v":0}]
[null,"nazwa łacińska",null,"nazwa polska",null,null,"udział [%]",null,null,{"$f":"SUM(J1699:J1703)","v":0}]
[null,null,null,null,null,null,null,null,null,{"$f":"COUNTA(B1699:G1699)","v":0}]
[null,null,null,null,null,null,null,null,null,0]
[null,null,null,null,null,null,null,null,null,0]
[null,null,null,null,null,null,null,null,null,0]
[null,null,null,null,null,null,null,null,null,0]
[]
[null,"Spis gatunków numer:",null,null,null,null,{"$f":"G1678+1","v":64},null,null,{"$f":"J1709","v":0}]
[null,"Współrzędne geograficzne",null,null,null,null,null,null,null,{"$f":"J1710","v":0}]
[null,"Długość geograficzna [E] ",null,null,"Szerokość geograficzna [N]",null,null,null,null,{"$f":"J1710","v":0}]
[null,"stopnie","minuty","sekundy","stopnie","minuty","sekundy",null,null,{"$f":"J1709","v":0}]
[null,null,null,null,null,null,null,null,null,{"$f":"J1711+J1725","v":0}]
[null,"Gatunki wskaźnikowe",null,null,null,null,null,null,null,{"$f":"J1711","v":0}]
[null,"nazwa łacińska",null,"nazwa polska",null,null,"walor ",null,null,{"$f":"SUM(J1712:J1723)","v":0}]
[null,{"$f":"OFFSET(listy_slownikowe!$AG$2,I1712,0)","v":" "},null,null,null,null,{"$f":"OFFSET(listy_slownikowe!$AI$2,I1712,0)","v":" "},null,{"$f":"IFERROR(MATCH(D1712,listy_slownikowe!$AH$3:$AH$326,0),0)","v":0},{"$f":"I1712","v":0}]
[null,{"$f":"OFFSET(listy_slownikowe!$AG$2,I1713,0)","v":" "},null,null,null,null,{"$f":"OFFSET(listy_slownikowe!$AI$2,I1713,0)","v":" "},null,{"$f":"IFERROR(MATCH(D1713,listy_slownikowe!$AH$3:$AH$326,0),0)","v":0},{"$f":"I1713","v":0}]
[null,{"$f":"OFFSET(listy_slownikowe!$AG$2,I1714,0)","v":" "},null,null,null,null,{"$f":"OFFSET(listy_slownikowe!$AI$2,I1714,0)","v":" "},null,{"$f":"IFERROR(MATCH(D1714,listy_slownikowe!$AH$3:$AH$326,0),0)","v":0},0]
[null,{"$f":"OFFSET(listy_slownikowe!$AG$2,I1715,0)","v":" "},null,null,null,null,{"$f":"OFFSET(listy_slownikowe!$AI$2,I1715,0)","v":" "},null,{"$f":"IFERROR(MATCH(D1715,listy_slownikowe!$AH$3:$AH$326,0),0)","v":0},0]
[null,{"$f":"OFFSET(listy_slownikowe!$AG$2,I1716,0)","v":" "},null,null,null,null,{"$f":"OFFSET(listy_slownikowe!$AI$2,I1716,0)","v":" "},null,{"$f":"IFERROR(MATCH(D1716,listy_slownikowe!$AH$3:$AH$326,0),0)","v":0},0]
[null,{"$f":"OFFSET(listy_slownikowe!$AG$2,I1717,0)","v":" "},null,null,null,null,{"$f":"OFFSET(listy_slownikowe!$AI$2,I1717,0)","v":" "},null,{"$f":"IFERROR(MATCH(D1717,listy_slownikowe!$AH$3:$AH$326,0),0)","v":0},0]
[null,{"$f":"OFFSET(listy_slownikowe!$AG$2,I1718,0)","v":" "},null,null,null,null,{"$f":"OFFSET(listy_slownikowe!$AI$2,I1718,0)","v":" "},null,{"$f":"IFERROR(MATCH(D1718,listy_slownikowe!$AH$3:$AH$326,0),0)","v":0},0]
[null,{"$f":"OFFSET(listy_slownikowe!$AG$2,I1719,0)","v":" "},null,null,null,null,{"$f":"OFFSET(listy_slownikowe!$AI$2,I1719,0)","v":" "},null,{"$f":"IFERROR(MATCH(D1719,listy_slownikowe!$AH$3:$AH$326,0),0)","v":0},0]
[null,{"$f":"OFFSET(listy_slownikowe!$AG$2,I1720,0)","v":" "},null,null,null,null,{"$f":"OFFSET(listy_slownikowe!$AI$2,I1720,0)","v":" "},null,{"$f":"IFERROR(MATCH(D1720,listy_slownikowe!$AH$3:$AH$326,0),0)","v":0},0]
[null,{"$f":"OFFSET(listy_slownikowe!$AG$2,I1721,0)","v":" "},null,null,null,null,{"$f":"OFFSET(listy_slownikowe!$AI$2,I1721,0)","v":" "},null,{"$f":"IFERROR(MATCH(D1721,listy_slownikowe!$AH$3:$AH$326,0),0)","v":0},0]
[null,{"$f":"OFFSET(listy_slownikowe!$AG$2,I1722,0)","v":" "},null,"",null,null,{"$f":"OFFSET(listy_slownikowe!$AI$2,I1722,0)","v":" "},null,{"$f":"IFERROR(MATCH(D1722,listy_slownikowe!$AH$3:$AH$326,0),0)","v":0},0]
[null,{"$f":"OFFSET(listy_slownikowe!$AG$2,I1723,0)","v":" "},null,null,null,null,{"$f":"OFFSET(listy_slownikowe!$AI$2,I1723,0)","v":" "},null,{"$f":"IFERROR(MATCH(D1723,listy_slownikowe!$AH$3:$AH$326,0),0)","v":0},0]
[null,"Gatunki dominujące i subdominujące",null,null,null,null,null,null,null,{"$f":"J1725","v":0}]
[null,"nazwa łacińska",null,"nazwa polska",null,null,"udział [%]",null,null,{"$f":"SUM(J1726:J1730)","v":0}]
[null,null,null,null,null,null,null,null,null,{"$f":"COUNTA(B1726:G1726)","v":0}]
[null,null,null,null,null,null,null,null,null,0]
[null,null,null,null,null,null,null,null,null,0]
[null,null,null,null,null,null,null,null,null,0]
[null,null,null,null,null,null,null,null,null,0]
[]
[null,"Spis gatunków numer:",null,null,null,null,{"$f":"G1705+1","v":65},null,null,{"$f":"J1736","v":0}]
[null,"Współrzędne geograficzne",null,null,null,null,null,null,null,{"$f":"J1737","v":0}]
[null,"Długość geograficzna [E] ",null,null,"Szerokość geograficzna [N]",null,null,null,null,{"$f":"J1737","v":0}]
[null,"stopnie","minuty","sekundy","stopnie","minuty","sekundy",null,null,{"$f":"J1736","v":0}]
[null,null,null,null,null,null,null,null,null,{"$f":"J1738+J1752","v":0}]
[null,"Gatunki wskaźnikowe",null,null,null,null,null,null,null,{"$f":"J1738","v":0}]
[null,"nazwa łacińska",null,"nazwa polska",null,null,"walor ",null,null,{"$f":"SUM(J1739:J1750)","v":0}]
[null,{"$f":"OFFSET(listy_slownikowe!$AG$2,I1739,0)","v":" "},null,null,null,null,{"$f":"OFFSET(listy_slownikowe!$AI$2,I1739,0)","v":" "},null,{"$f":"IFERROR(MATCH(D1739,listy_slownikowe!$AH$3:$AH$326,0),0)","v":0},{"$f":"I1739","v":0}]
[null,{"$f":"OFFSET(listy_slownikowe!$AG$2,I1740,0)","v":" "},null,null,null,null,{"$f":"OFFSET(listy_slownikowe!$AI$2,I1740,0)","v":" "},null,{"$f":"IFERROR(MATCH(D1740,listy_slownikowe!$AH$3:$AH$326,0),0)","v":0},{"$f":"I1740","v":0}]
[null,{"$f":"OFFSET(listy_slownikowe!$AG$2,I1741,0)","v":" "},null,null,null,null,{"$f":"OFFSET(listy_slownikowe!$AI$2,I1741,0)","v":" "},null,{"$f":"IFERROR(MATCH(D1741,listy_slownikowe!$AH$3:$AH$326,0),0)","v":0},0]
[null,{"$f":"OFFSET(listy_slownikowe!$AG$2,I1742,0)","v":" "},null,null,null,null,{"$f":"OFFSET(listy_slownikowe!$AI$2,I1742,0)","v":" "},null,{"$f":"IFERROR(MATCH(D1742,listy_slownikowe!$AH$3:$AH$326,0),0)","v":0},0]
[null,{"$f":"OFFSET(listy_slownikowe!$AG$2,I1743,0)","v":" "},null,null,null,null,{"$f":"OFFSET(listy_slownikowe!$AI$2,I1743,0)","v":" "},null,{"$f":"IFERROR(MATCH(D1743,listy_slownikowe!$AH$3:$AH$326,0),0)","v":0},0]
[null,{"$f":"OFFSET(listy_slownikowe!$AG$2,I1744,0)","v":" "},null,null,null,null,{"$f":"OFFSET(listy_slownikowe!$AI$2,I1744,0)","v":" "},null,{"$f":"IFERROR(MATCH(D1744,listy_slownikowe!$AH$3:$AH$326,0),0)","v":0},0]
[null,{"$f":"OFFSET(listy_slownikowe!$AG$2,I1745,0)","v":" "},null,null,null,null,{"$f":"OFFSET(listy_slownikowe!$AI$2,I1745,0)","v":" "},null,{"$f":"IFERROR(MATCH(D1745,listy_slownikowe!$AH$3:$AH$326,0),0)","v":0},0]
[null,{"$f":"OFFSET(listy_slownikowe!$AG$2,I1746,0)","v":" "},null,null,null,null,{"$f":"OFFSET(listy_slownikowe!$AI$2,I1746,0)","v":" "},null,{"$f":"IFERROR(MATCH(D1746,listy_slownikowe!$AH$3:$AH$326,0),0)","v":0},0]
[null,{"$f":"OFFSET(listy_slownikowe!$AG$2,I1747,0)","v":" "},null,null,null,null,{"$f":"OFFSET(listy_slownikowe!$AI$2,I1747,0)","v":" "},null,{"$f":"IFERROR(MATCH(D1747,listy_slownikowe!$AH$3:$AH$326,0),0)","v":0},0]
[null,{"$f":"OFFSET(listy_slownikowe!$AG$2,I1748,0)","v":" "},null,null,null,null,{"$f":"OFFSET(listy_slownikowe!$AI$2,I1748,0)","v":" "},null,{"$f":"IFERROR(MATCH(D1748,listy_slownikowe!$AH$3:$AH$326,0),0)","v":0},0]
[null,{"$f":"OFFSET(listy_slownikowe!$AG$2,I1749,0)","v":" "},null,"",null,null,{"$f":"OFFSET(listy_slownikowe!$AI$2,I1749,0)","v":" "},null,{"$f":"IFERROR(MATCH(D1749,listy_slownikowe!$AH$3:$AH$326,0),0)","v":0},0]
[null,{"$f":"OFFSET(listy_slownikowe!$AG$2,I1750,0)","v":" "},null,null,null,null,{"$f":"OFFSET(listy_slownikowe!$AI$2,I1750,0)","v":" "},null,{"$f":"IFERROR(MATCH(D1750,listy_slownikowe!$AH$3:$AH$326,0),0)","v":0},0]
[null,"Gatunki dominujące i subdominujące",null,null,null,null,null,null,null,{"$f":"J1752","v":0}]
[null,"nazwa łacińska",null,"nazwa polska",null,null,"udział [%]",null,null,{"$f":"SUM(J1753:J1757)","v":0}]
[null,null,null,null,null,null,null,null,null,{"$f":"COUNTA(B1753:G1753)","v":0}]
[null,null,null,null,null,null,null,null,null,0]
[null,null,null,null,null,null,null,null,null,0]
[null,null,null,null,null,null,null,null,null,0]
[null,null,null,null,null,null,null,null,null,0]
[]
[null,"Spis gatunków numer:",null,null,null,null,{"$f":"G1732+1","v":66},null,null,{"$f":"J1763","v":0}]
[null,"Współrzędne geograficzne",null,null,null,null,null,null,null,{"$f":"J1764","v":0}]
[null,"Długość geograficzna [E] ",null,null,"Szerokość geograficzna [N]",null,null,null,null,{"$f":"J1764","v":0}]
[null,"stopnie","minuty","sekundy","stopnie","minuty","sekundy",null,null,{"$f":"J1763","v":0}]
[null,null,null,null,null,null,null,null,null,{"$f":"J1765+J1779","v":0}]
[null,"Gatunki wskaźnikowe",null,null,null,null,null,null,null,{"$f":"J1765","v":0}]
[null,"nazwa łacińska",null,"nazwa polska",null,null,"walor ",null,null,{"$f":"SUM(J1766:J1777)","v":0}]
[null,{"$f":"OFFSET(listy_slownikowe!$AG$2,I1766,0)","v":" "},null,null,null,null,{"$f":"OFFSET(listy_slownikowe!$AI$2,I1766,0)","v":" "},null,{"$f":"IFERROR(MATCH(D1766,listy_slownikowe!$AH$3:$AH$326,0),0)","v":0},{"$f":"I1766","v":0}]
[null,{"$f":"OFFSET(listy_slownikowe!$AG$2,I1767,0)","v":" "},null,null,null,null,{"$f":"OFFSET(listy_slownikowe!$AI$2,I1767,0)","v":" "},null,{"$f":"IFERROR(MATCH(D1767,listy_slownikowe!$AH$3:$AH$326,0),0)","v":0},{"$f":"I1767","v":0}]
[null,{"$f":"OFFSET(listy_slownikowe!$AG$2,I1768,0)","v":" "},null,null,null,null,{"$f":"OFFSET(listy_slownikowe!$AI$2,I1768,0)","v":" "},null,{"$f":"IFERROR(MATCH(D1768,listy_slownikowe!$AH$3:$AH$326,0),0)","v":0},0]
[null,{"$f":"OFFSET(listy_slownikowe!$AG$2,I1769,0)","v":" "},null,null,null,null,{"$f":"OFFSET(listy_slownikowe!$AI$2,I1769,0)","v":" "},null,{"$f":"IFERROR(MATCH(D1769,listy_slownikowe!$AH$3:$AH$326,0),0)","v":0},0]
[null,{"$f":"OFFSET(listy_slownikowe!$AG$2,I1770,0)","v":" "},null,null,null,null,{"$f":"OFFSET(listy_slownikowe!$AI$2,I1770,0)","v":" "},null,{"$f":"IFERROR(MATCH(D1770,listy_slownikowe!$AH$3:$AH$326,0),0)","v":0},0]
[null,{"$f":"OFFSET(listy_slownikowe!$AG$2,I1771,0)","v":" "},null,null,null,null,{"$f":"OFFSET(listy_slownikowe!$AI$2,I1771,0)","v":" "},null,{"$f":"IFERROR(MATCH(D1771,listy_slownikowe!$AH$3:$AH$326,0),0)","v":0},0]
[null,{"$f":"OFFSET(listy_slownikowe!$AG$2,I1772,0)","v":" "},null,null,null,null,{"$f":"OFFSET(listy_slownikowe!$AI$2,I1772,0)","v":" "},null,{"$f":"IFERROR(MATCH(D1772,listy_slownikowe!$AH$3:$AH$326,0),0)","v":0},0]
[null,{"$f":"OFFSET(listy_slownikowe!$AG$2,I1773,0)","v":" "},null,null,null,null,{"$f":"OFFSET(listy_slownikowe!$AI$2,I1773,0)","v":" "},null,{"$f":"IFERROR(MATCH(D1773,listy_slownikowe!$AH$3:$AH$326,0),0)","v":0},0]
[null,{"$f":"OFFSET(listy_slownikowe!$AG$2,I1774,0)","v":" "},null,null,null,null,{"$f":"OFFSET(listy_slownikowe!$AI$2,I1774,0)","v":" "},null,{"$f":"IFERROR(MATCH(D1774,listy_slownikowe!$AH$3:$AH$326,0),0)","v":0},0]
[null,{"$f":"OFFSET(listy_slownikowe!$AG$2,I1775,0)","v":" "},null,null,null,null,{"$f":"OFFSET(listy_slownikowe!$AI$2,I1775,0)","v":" "},null,{"$f":"IFERROR(MATCH(D1775,listy_slownikowe!$AH$3:$AH$326,0),0)","v":0},0]
[null,{"$f":"OFFSET(listy_slownikowe!$AG$2,I1776,0)","v":" "},null,"",null,null,{"$f":"OFFSET(listy_slownikowe!$AI$2,I1776,0)","v":" "},null,{"$f":"IFERROR(MATCH(D1776,listy_slownikowe!$AH$3:$AH$326,0),0)","v":0},0]
[null,{"$f":"OFFSET(listy_slownikowe!$AG$2,I1777,0)","v":" "},null,null,null,null,{"$f":"OFFSET(listy_slownikowe!$AI$2,I1777,0)","v":" "},null,{"$f":"IFERROR(MATCH(D1777,listy_slownikowe!$AH$3:$AH$326,0),0)","v":0},0]
[null,"Gatunki dominujące i subdominujące",null,null,null,null,null,null,null,{"$f":"J1779","v":0}]
[null,"nazwa łacińska",null,"nazwa polska",null,null,"udział [%]",null,null,{"$f":"SUM(J1780:J1784)","v":0}]
[null,null,null,null,null,null,null,null,null,{"$f":"COUNTA(B1780:G1780)","v":0}]
[null,null,null,null,null,null,null,null,null,0]
[null,null,null,null,null,null,null,null,null,0]
[null,null,null,null,null,null,null,null,null,0]
[null,null,null,null,null,null,null,null,null,0]
[]
[null,"Spis gatunków numer:",null,null,null,null,{"$f":"G1759+1","v":67},null,null,{"$f":"J1790","v":0}]
[null,"Współrzędne geograficzne",null,null,null,null,null,null,null,{"$f":"J1791","v":0}]
[null,"Długość geograficzna [E] ",null,null,"Szerokość geograficzna [N]",null,null,null,null,{"$f":"J1791","v":0}]
[null,"stopnie","minuty","sekundy","stopnie","minuty","sekundy",null,null,{"$f":"J1790","v":0}]
[null,null,null,null,null,null,null,null,null,{"$f":"J1792+J1806","v":0}]
[null,"Gatunki wskaźnikowe",null,null,null,null,null,null,null,{"$f":"J1792","v":0}]
[null,"nazwa łacińska",null,"nazwa polska",null,null,"walor ",null,null,{"$f":"SUM(J1793:J1804)","v":0}]
[null,{"$f":"OFFSET(listy_slownikowe!$AG$2,I1793,0)","v":" "},null,null,null,null,{"$f":"OFFSET(listy_slownikowe!$AI$2,I1793,0)","v":" "},null,{"$f":"IFERROR(MATCH(D1793,listy_slownikowe!$AH$3:$AH$326,0),0)","v":0},{"$f":"I1793","v":0}]
[null,{"$f":"OFFSET(listy_slownikowe!$AG$2,I1794,0)","v":" "},null,null,null,null,{"$f":"OFFSET(listy_slownikowe!$AI$2,I1794,0)","v":" "},null,{"$f":"IFERROR(MATCH(D1794,listy_slownikowe!$AH$3:$AH$326,0),0)","v":0},{"$f":"I1794","v":0}]
[null,{"$f":"OFFSET(listy_slownikowe!$AG$2,I1795,0)","v":" "},null,null,null,null,{"$f":"OFFSET(listy_slownikowe!$AI$2,I1795,0)","v":" "},null,{"$f":"IFERROR(MATCH(D1795,listy_slownikowe!$AH$3:$AH$326,0),0)","v":0},0]
[null,{"$f":"OFFSET(listy_slownikowe!$AG$2,I1796,0)","v":" "},null,null,null,null,{"$f":"OFFSET(listy_slownikowe!$AI$2,I1796,0)","v":" "},null,{"$f":"IFERROR(MATCH(D1796,listy_slownikowe!$AH$3:$AH$326,0),0)","v":0},0]
[null,{"$f":"OFFSET(listy_slownikowe!$AG$2,I1797,0)","v":" "},null,null,null,null,{"$f":"OFFSET(listy_slownikowe!$AI$2,I1797,0)","v":" "},null,{"$f":"IFERROR(MATCH(D1797,listy_slownikowe!$AH$3:$AH$326,0),0)","v":0},0]
[null,{"$f":"OFFSET(listy_slownikowe!$AG$2,I1798,0)","v":" "},null,null,null,null,{"$f":"OFFSET(listy_slownikowe!$AI$2,I1798,0)","v":" "},null,{"$f":"IFERROR(MATCH(D1798,listy_slownikowe!$AH$3:$AH$326,0),0)","v":0},0]
[null,{"$f":"OFFSET(listy_slownikowe!$AG$2,I1799,0)","v":" "},null,null,null,null,{"$f":"OFFSET(listy_slownikowe!$AI$2,I1799,0)","v":" "},null,{"$f":"IFERROR(MATCH(D1799,listy_slownikowe!$AH$3:$AH$326,0),0)","v":0},0]
[null,{"$f":"OFFSET(listy_slownikowe!$AG$2,I1800,0)","v":" "},null,null,null,null,{"$f":"OFFSET(listy_slownikowe!$AI$2,I1800,0)","v":" "},null,{"$f":"IFERROR(MATCH(D1800,listy_slownikowe!$AH$3:$AH$326,0),0)","v":0},0]
[null,{"$f":"OFFSET(listy_slownikowe!$AG$2,I1801,0)","v":" "},null,null,null,null,{"$f":"OFFSET(listy_slownikowe!$AI$2,I1801,0)","v":" "},null,{"$f":"IFERROR(MATCH(D1801,listy_slownikowe!$AH$3:$AH$326,0),0)","v":0},0]
[null,{"$f":"OFFSET(listy_slownikowe!$AG$2,I1802,0)","v":" "},null,null,null,null,{"$f":"OFFSET(listy_slownikowe!$AI$2,I1802,0)","v":" "},null,{"$f":"IFERROR(MATCH(D1802,listy_slownikowe!$AH$3:$AH$326,0),0)","v":0},0]
[null,{"$f":"OFFSET(listy_slownikowe!$AG$2,I1803,0)","v":" "},null,"",null,null,{"$f":"OFFSET(listy_slownikowe!$AI$2,I1803,0)","v":" "},null,{"$f":"IFERROR(MATCH(D1803,listy_slownikowe!$AH$3:$AH$326,0),0)","v":0},0]
[null,{"$f":"OFFSET(listy_slownikowe!$AG$2,I1804,0)","v":" "},null,null,null,null,{"$f":"OFFSET(listy_slownikowe!$AI$2,I1804,0)","v":" "},null,{"$f":"IFERROR(MATCH(D1804,listy_slownikowe!$AH$3:$AH$326,0),0)","v":0},0]
[null,"Gatunki dominujące i subdominujące",null,null,null,null,null,null,null,{"$f":"J1806","v":0}]
[null,"nazwa łacińska",null,"nazwa polska",null,null,"udział [%]",null,null,{"$f":"SUM(J1807:J1811)","v":0}]
[null,null,null,null,null,null,null,null,null,{"$f":"COUNTA(B1807:G1807)","v":0}]
[null,null,null,null,null,null,null,null,null,0]
[null,null,null,null,null,null,null,null,null,0]
[null,null,null,null,null,null,null,null,null,0]
[null,null,null,null,null,null,null,null,null,0]
[]
[null,"Spis gatunków numer:",null,null,null,null,{"$f":"G1786+1","v":68},null,null,{"$f":"J1817","v":0}]
[null,"Współrzędne geograficzne",null,null,null,null,null,null,null,{"$f":"J1818","v":0}]
[null,"Długość geograficzna [E] ",null,null,"Szerokość geograficzna [N]",null,null,null,null,{"$f":"J1818","v":0}]
[null,"stopnie","minuty","sekundy","stopnie","minuty","sekundy",null,null,{"$f":"J1817","v":0}]
[null,null,null,null,null,null,null,null,null,{"$f":"J1819+J1833","v":0}]
[null,"Gatunki wskaźnikowe",null,null,null,null,null,null,null,{"$f":"J1819","v":0}]
[null,"nazwa łacińska",null,"nazwa polska",null,null,"walor ",null,null,{"$f":"SUM(J1820:J1831)","v":0}]
[null,{"$f":"OFFSET(listy_slownikowe!$AG$2,I1820,0)","v":" "},null,null,null,null,{"$f":"OFFSET(listy_slownikowe!$AI$2,I1820,0)","v":" "},null,{"$f":"IFERROR(MATCH(D1820,listy_slownikowe!$AH$3:$AH$326,0),0)","v":0},{"$f":"I1820","v":0}]
[null,{"$f":"OFFSET(listy_slownikowe!$AG$2,I1821,0)","v":" "},null,null,null,null,{"$f":"OFFSET(listy_slownikowe!$AI$2,I1821,0)","v":" "},null,{"$f":"IFERROR(MATCH(D1821,listy_slownikowe!$AH$3:$AH$326,0),0)","v":0},{"$f":"I1821","v":0}]
[null,{"$f":"OFFSET(listy_slownikowe!$AG$2,I1822,0)","v":" "},null,null,null,null,{"$f":"OFFSET(listy_slownikowe!$AI$2,I1822,0)","v":" "},null,{"$f":"IFERROR(MATCH(D1822,listy_slownikowe!$AH$3:$AH$326,0),0)","v":0},0]
[null,{"$f":"OFFSET(listy_slownikowe!$AG$2,I1823,0)","v":" "},null,null,null,null,{"$f":"OFFSET(listy_slownikowe!$AI$2,I1823,0)","v":" "},null,{"$f":"IFERROR(MATCH(D1823,listy_slownikowe!$AH$3:$AH$326,0),0)","v":0},0]
[null,{"$f":"OFFSET(listy_slownikowe!$AG$2,I1824,0)","v":" "},null,null,null,null,{"$f":"OFFSET(listy_slownikowe!$AI$2,I1824,0)","v":" "},null,{"$f":"IFERROR(MATCH(D1824,listy_slownikowe!$AH$3:$AH$326,0),0)","v":0},0]
[null,{"$f":"OFFSET(listy_slownikowe!$AG$2,I1825,0)","v":" "},null,null,null,null,{"$f":"OFFSET(listy_slownikowe!$AI$2,I1825,0)","v":" "},null,{"$f":"IFERROR(MATCH(D1825,listy_slownikowe!$AH$3:$AH$326,0),0)","v":0},0]
[null,{"$f":"OFFSET(listy_slownikowe!$AG$2,I1826,0)","v":" "},null,null,null,null,{"$f":"OFFSET(listy_slownikowe!$AI$2,I1826,0)","v":" "},null,{"$f":"IFERROR(MATCH(D1826,listy_slownikowe!$AH$3:$AH$326,0),0)","v":0},0]
[null,{"$f":"OFFSET(listy_slownikowe!$AG$2,I1827,0)","v":" "},null,null,null,null,{"$f":"OFFSET(listy_slownikowe!$AI$2,I1827,0)","v":" "},null,{"$f":"IFERROR(MATCH(D1827,listy_slownikowe!$AH$3:$AH$326,0),0)","v":0},0]
[null,{"$f":"OFFSET(listy_slownikowe!$AG$2,I1828,0)","v":" "},null,null,null,null,{"$f":"OFFSET(listy_slownikowe!$AI$2,I1828,0)","v":" "},null,{"$f":"IFERROR(MATCH(D1828,listy_slownikowe!$AH$3:$AH$326,0),0)","v":0},0]
[null,{"$f":"OFFSET(listy_slownikowe!$AG$2,I1829,0)","v":" "},null,null,null,null,{"$f":"OFFSET(listy_slownikowe!$AI$2,I1829,0)","v":" "},null,{"$f":"IFERROR(MATCH(D1829,listy_slownikowe!$AH$3:$AH$326,0),0)","v":0},0]
[null,{"$f":"OFFSET(listy_slownikowe!$AG$2,I1830,0)","v":" "},null,"",null,null,{"$f":"OFFSET(listy_slownikowe!$AI$2,I1830,0)","v":" "},null,{"$f":"IFERROR(MATCH(D1830,listy_slownikowe!$AH$3:$AH$326,0),0)","v":0},0]
[null,{"$f":"OFFSET(listy_slownikowe!$AG$2,I1831,0)","v":" "},null,null,null,null,{"$f":"OFFSET(listy_slownikowe!$AI$2,I1831,0)","v":" "},null,{"$f":"IFERROR(MATCH(D1831,listy_slownikowe!$AH$3:$AH$326,0),0)","v":0},0]
[null,"Gatunki dominujące i subdominujące",null,null,null,null,null,null,null,{"$f":"J1833","v":0}]
[null,"nazwa łacińska",null,"nazwa polska",null,null,"udział [%]",null,null,{"$f":"SUM(J1834:J1838)","v":0}]
[null,null,null,null,null,null,null,null,null,{"$f":"COUNTA(B1834:G1834)","v":0}]
[null,null,null,null,null,null,null,null,null,0]
[null,null,null,null,null,null,null,null,null,0]
[null,null,null,null,null,null,null,null,null,0]
[null,null,null,null,null,null,null,null,null,0]
[]
[null,"Spis gatunków numer:",null,null,null,null,{"$f":"G1813+1","v":69},null,null,{"$f":"J1844","v":0}]
[null,"Współrzędne geograficzne",null,null,null,null,null,null,null,{"$f":"J1845","v":0}]
[null,"Długość geograficzna [E] ",null,null,"Szerokość geograficzna [N]",null,null,null,null,{"$f":"J1845","v":0}]
[null,"stopnie","minuty","sekundy","stopnie","minuty","sekundy",null,null,{"$f":"J1844","v":0}]
[null,null,null,null,null,null,null,null,null,{"$f":"J1846+J1860","v":0}]
[null,"Gatunki wskaźnikowe",null,null,null,null,null,null,null,{"$f":"J1846","v":0}]
[null,"nazwa łacińska",null,"nazwa polska",null,null,"walor ",null,null,{"$f":"SUM(J1847:J1858)","v":0}]
[null,{"$f":"OFFSET(listy_slownikowe!$AG$2,I1847,0)","v":" "},null,null,null,null,{"$f":"OFFSET(listy_slownikowe!$AI$2,I1847,0)","v":" "},null,{"$f":"IFERROR(MATCH(D1847,listy_slownikowe!$AH$3:$AH$326,0),0)","v":0},{"$f":"I1847","v":0}]
[null,{"$f":"OFFSET(listy_slownikowe!$AG$2,I1848,0)","v":" "},null,null,null,null,{"$f":"OFFSET(listy_slownikowe!$AI$2,I1848,0)","v":" "},null,{"$f":"IFERROR(MATCH(D1848,listy_slownikowe!$AH$3:$AH$326,0),0)","v":0},{"$f":"I1848","v":0}]
[null,{"$f":"OFFSET(listy_slownikowe!$AG$2,I1849,0)","v":" "},null,null,null,null,{"$f":"OFFSET(listy_slownikowe!$AI$2,I1849,0)","v":" "},null,{"$f":"IFERROR(MATCH(D1849,listy_slownikowe!$AH$3:$AH$326,0),0)","v":0},0]
[null,{"$f":"OFFSET(listy_slownikowe!$AG$2,I1850,0)","v":" "},null,null,null,null,{"$f":"OFFSET(listy_slownikowe!$AI$2,I1850,0)","v":" "},null,{"$f":"IFERROR(MATCH(D1850,listy_slownikowe!$AH$3:$AH$326,0),0)","v":0},0]
[null,{"$f":"OFFSET(listy_slownikowe!$AG$2,I1851,0)","v":" "},null,null,null,null,{"$f":"OFFSET(listy_slownikowe!$AI$2,I1851,0)","v":" "},null,{"$f":"IFERROR(MATCH(D1851,listy_slownikowe!$AH$3:$AH$326,0),0)","v":0},0]
[null,{"$f":"OFFSET(listy_slownikowe!$AG$2,I1852,0)","v":" "},null,null,null,null,{"$f":"OFFSET(listy_slownikowe!$AI$2,I1852,0)","v":" "},null,{"$f":"IFERROR(MATCH(D1852,listy_slownikowe!$AH$3:$AH$326,0),0)","v":0},0]
[null,{"$f":"OFFSET(listy_slownikowe!$AG$2,I1853,0)","v":" "},null,null,null,null,{"$f":"OFFSET(listy_slownikowe!$AI$2,I1853,0)","v":" "},null,{"$f":"IFERROR(MATCH(D1853,listy_slownikowe!$AH$3:$AH$326,0),0)","v":0},0]
[null,{"$f":"OFFSET(listy_slownikowe!$AG$2,I1854,0)","v":" "},null,null,null,null,{"$f":"OFFSET(listy_slownikowe!$AI$2,I1854,0)","v":" "},null,{"$f":"IFERROR(MATCH(D1854,listy_slownikowe!$AH$3:$AH$326,0),0)","v":0},0]
[null,{"$f":"OFFSET(listy_slownikowe!$AG$2,I1855,0)","v":" "},null,null,null,null,{"$f":"OFFSET(listy_slownikowe!$AI$2,I1855,0)","v":" "},null,{"$f":"IFERROR(MATCH(D1855,listy_slownikowe!$AH$3:$AH$326,0),0)","v":0},0]
[null,{"$f":"OFFSET(listy_slownikowe!$AG$2,I1856,0)","v":" "},null,null,null,null,{"$f":"OFFSET(listy_slownikowe!$AI$2,I1856,0)","v":" "},null,{"$f":"IFERROR(MATCH(D1856,listy_slownikowe!$AH$3:$AH$326,0),0)","v":0},0]
[null,{"$f":"OFFSET(listy_slownikowe!$AG$2,I1857,0)","v":" "},null,"",null,null,{"$f":"OFFSET(listy_slownikowe!$AI$2,I1857,0)","v":" "},null,{"$f":"IFERROR(MATCH(D1857,listy_slownikowe!$AH$3:$AH$326,0),0)","v":0},0]
[null,{"$f":"OFFSET(listy_slownikowe!$AG$2,I1858,0)","v":" "},null,null,null,null,{"$f":"OFFSET(listy_slownikowe!$AI$2,I1858,0)","v":" "},null,{"$f":"IFERROR(MATCH(D1858,listy_slownikowe!$AH$3:$AH$326,0),0)","v":0},0]
[null,"Gatunki dominujące i subdominujące",null,null,null,null,null,null,null,{"$f":"J1860","v":0}]
[null,"nazwa łacińska",null,"nazwa polska",null,null,"udział [%]",null,null,{"$f":"SUM(J1861:J1865)","v":0}]
[null,null,null,null,null,null,null,null,null,{"$f":"COUNTA(B1861:G1861)","v":0}]
[null,null,null,null,null,null,null,null,null,0]
[null,null,null,null,null,null,null,null,null,0]
[null,null,null,null,null,null,null,null,null,0]
[null,null,null,null,null,null,null,null,null,0]
[]
[null,"Spis gatunków numer:",null,null,null,null,{"$f":"G1840+1","v":70},null,null,{"$f":"J1871","v":0}]
[null,"Współrzędne geograficzne",null,null,null,null,null,null,null,{"$f":"J1872","v":0}]
[null,"Długość geograficzna [E] ",null,null,"Szerokość geograficzna [N]",null,null,null,null,{"$f":"J1872","v":0}]
[null,"stopnie","minuty","sekundy","stopnie","minuty","sekundy",null,null,{"$f":"J1871","v":0}]
[null,null,null,null,null,null,null,null,null,{"$f":"J1873+J1887","v":0}]
[null,"Gatunki wskaźnikowe",null,null,null,null,null,null,null,{"$f":"J1873","v":0}]
[null,"nazwa łacińska",null,"nazwa polska",null,null,"walor ",null,null,{"$f":"SUM(J1874:J1885)","v":0}]
[null,{"$f":"OFFSET(listy_slownikowe!$AG$2,I1874,0)","v":" "},null,null,null,null,{"$f":"OFFSET(listy_slownikowe!$AI$2,I1874,0)","v":" "},null,{"$f":"IFERROR(MATCH(D1874,listy_slownikowe!$AH$3:$AH$326,0),0)","v":0},{"$f":"I1874","v":0}]
[null,{"$f":"OFFSET(listy_slownikowe!$AG$2,I1875,0)","v":" "},null,null,null,null,{"$f":"OFFSET(listy_slownikowe!$AI$2,I1875,0)","v":" "},null,{"$f":"IFERROR(MATCH(D1875,listy_slownikowe!$AH$3:$AH$326,0),0)","v":0},{"$f":"I1875","v":0}]
[null,{"$f":"OFFSET(listy_slownikowe!$AG$2,I1876,0)","v":" "},null,null,null,null,{"$f":"OFFSET(listy_slownikowe!$AI$2,I1876,0)","v":" "},null,{"$f":"IFERROR(MATCH(D1876,listy_slownikowe!$AH$3:$AH$326,0),0)","v":0},0]
[null,{"$f":"OFFSET(listy_slownikowe!$AG$2,I1877,0)","v":" "},null,null,null,null,{"$f":"OFFSET(listy_slownikowe!$AI$2,I1877,0)","v":" "},null,{"$f":"IFERROR(MATCH(D1877,listy_slownikowe!$AH$3:$AH$326,0),0)","v":0},0]
[null,{"$f":"OFFSET(listy_slownikowe!$AG$2,I1878,0)","v":" "},null,null,null,null,{"$f":"OFFSET(listy_slownikowe!$AI$2,I1878,0)","v":" "},null,{"$f":"IFERROR(MATCH(D1878,listy_slownikowe!$AH$3:$AH$326,0),0)","v":0},0]
[null,{"$f":"OFFSET(listy_slownikowe!$AG$2,I1879,0)","v":" "},null,null,null,null,{"$f":"OFFSET(listy_slownikowe!$AI$2,I1879,0)","v":" "},null,{"$f":"IFERROR(MATCH(D1879,listy_slownikowe!$AH$3:$AH$326,0),0)","v":0},0]
[null,{"$f":"OFFSET(listy_slownikowe!$AG$2,I1880,0)","v":" "},null,null,null,null,{"$f":"OFFSET(listy_slownikowe!$AI$2,I1880,0)","v":" "},null,{"$f":"IFERROR(MATCH(D1880,listy_slownikowe!$AH$3:$AH$326,0),0)","v":0},0]
[null,{"$f":"OFFSET(listy_slownikowe!$AG$2,I1881,0)","v":" "},null,null,null,null,{"$f":"OFFSET(listy_slownikowe!$AI$2,I1881,0)","v":" "},null,{"$f":"IFERROR(MATCH(D1881,listy_slownikowe!$AH$3:$AH$326,0),0)","v":0},0]
[null,{"$f":"OFFSET(listy_slownikowe!$AG$2,I1882,0)","v":" "},null,null,null,null,{"$f":"OFFSET(listy_slownikowe!$AI$2,I1882,0)","v":" "},null,{"$f":"IFERROR(MATCH(D1882,listy_slownikowe!$AH$3:$AH$326,0),0)","v":0},0]
[null,{"$f":"OFFSET(listy_slownikowe!$AG$2,I1883,0)","v":" "},null,null,null,null,{"$f":"OFFSET(listy_slownikowe!$AI$2,I1883,0)","v":" "},null,{"$f":"IFERROR(MATCH(D1883,listy_slownikowe!$AH$3:$AH$326,0),0)","v":0},0]
[null,{"$f":"OFFSET(listy_slownikowe!$AG$2,I1884,0)","v":" "},null,"",null,null,{"$f":"OFFSET(listy_slownikowe!$AI$2,I1884,0)","v":" "},null,{"$f":"IFERROR(MATCH(D1884,listy_slownikowe!$AH$3:$AH$326,0),0)","v":0},0]
[null,{"$f":"OFFSET(listy_slownikowe!$AG$2,I1885,0)","v":" "},null,null,null,null,{"$f":"OFFSET(listy_slownikowe!$AI$2,I1885,0)","v":" "},null,{"$f":"IFERROR(MATCH(D1885,listy_slownikowe!$AH$3:$AH$326,0),0)","v":0},0]
[null,"Gatunki dominujące i subdominujące",null,null,null,null,null,null,null,{"$f":"J1887","v":0}]
[null,"nazwa łacińska",null,"nazwa polska",null,null,"udział [%]",null,null,{"$f":"SUM(J1888:J1892)","v":0}]
[null,null,null,null,null,null,null,null,null,{"$f":"COUNTA(B1888:G1888)","v":0}]
[null,null,null,null,null,null,null,null,null,0]
[null,null,null,null,null,null,null,null,null,0]
[null,null,null,null,null,null,null,null,null,0]
[null,null,null,null,null,null,null,null,null,0]
[]
[null,"Spis gatunków numer:",null,null,null,null,{"$f":"G1867+1","v":71},null,null,{"$f":"J1898","v":0}]
[null,"Współrzędne geograficzne",null,null,null,null,null,null,null,{"$f":"J1899","v":0}]
[null,"Długość geograficzna [E] ",null,null,"Szerokość geograficzna [N]",null,null,null,null,{"$f":"J1899","v":0}]
[null,"stopnie","minuty","sekundy","stopnie","minuty","sekundy",null,null,{"$f":"J1898","v":0}]
[null,null,null,null,null,null,null,null,null,{"$f":"J1900+J1914","v":0}]
[null,"Gatunki wskaźnikowe",null,null,null,null,null,null,null,{"$f":"J1900","v":0}]
[null,"nazwa łacińska",null,"nazwa polska",null,null,"walor ",null,null,{"$f":"SUM(J1901:J1912)","v":0}]
[null,{"$f":"OFFSET(listy_slownikowe!$AG$2,I1901,0)","v":" "},null,null,null,null,{"$f":"OFFSET(listy_slownikowe!$AI$2,I1901,0)","v":" "},null,{"$f":"IFERROR(MATCH(D1901,listy_slownikowe!$AH$3:$AH$326,0),0)","v":0},{"$f":"I1901","v":0}]
[null,{"$f":"OFFSET(listy_slownikowe!$AG$2,I1902,0)","v":" "},null,null,null,null,{"$f":"OFFSET(listy_slownikowe!$AI$2,I1902,0)","v":" "},null,{"$f":"IFERROR(MATCH(D1902,listy_slownikowe!$AH$3:$AH$326,0),0)","v":0},{"$f":"I1902","v":0}]
[null,{"$f":"OFFSET(listy_slownikowe!$AG$2,I1903,0)","v":" "},null,null,null,null,{"$f":"OFFSET(listy_slownikowe!$AI$2,I1903,0)","v":" "},null,{"$f":"IFERROR(MATCH(D1903,listy_slownikowe!$AH$3:$AH$326,0),0)","v":0},0]
[null,{"$f":"OFFSET(listy_slownikowe!$AG$2,I1904,0)","v":" "},null,null,null,null,{"$f":"OFFSET(listy_slownikowe!$AI$2,I1904,0)","v":" "},null,{"$f":"IFERROR(MATCH(D1904,listy_slownikowe!$AH$3:$AH$326,0),0)","v":0},0]
[null,{"$f":"OFFSET(listy_slownikowe!$AG$2,I1905,0)","v":" "},null,null,null,null,{"$f":"OFFSET(listy_slownikowe!$AI$2,I1905,0)","v":" "},null,{"$f":"IFERROR(MATCH(D1905,listy_slownikowe!$AH$3:$AH$326,0),0)","v":0},0]
[null,{"$f":"OFFSET(listy_slownikowe!$AG$2,I1906,0)","v":" "},null,null,null,null,{"$f":"OFFSET(listy_slownikowe!$AI$2,I1906,0)","v":" "},null,{"$f":"IFERROR(MATCH(D1906,listy_slownikowe!$AH$3:$AH$326,0),0)","v":0},0]
[null,{"$f":"OFFSET(listy_slownikowe!$AG$2,I1907,0)","v":" "},null,null,null,null,{"$f":"OFFSET(listy_slownikowe!$AI$2,I1907,0)","v":" "},null,{"$f":"IFERROR(MATCH(D1907,listy_slownikowe!$AH$3:$AH$326,0),0)","v":0},0]
[null,{"$f":"OFFSET(listy_slownikowe!$AG$2,I1908,0)","v":" "},null,null,null,null,{"$f":"OFFSET(listy_slownikowe!$AI$2,I1908,0)","v":" "},null,{"$f":"IFERROR(MATCH(D1908,listy_slownikowe!$AH$3:$AH$326,0),0)","v":0},0]
[null,{"$f":"OFFSET(listy_slownikowe!$AG$2,I1909,0)","v":" "},null,null,null,null,{"$f":"OFFSET(listy_slownikowe!$AI$2,I1909,0)","v":" "},null,{"$f":"IFERROR(MATCH(D1909,listy_slownikowe!$AH$3:$AH$326,0),0)","v":0},0]
[null,{"$f":"OFFSET(listy_slownikowe!$AG$2,I1910,0)","v":" "},null,null,null,null,{"$f":"OFFSET(listy_slownikowe!$AI$2,I1910,0)","v":" "},null,{"$f":"IFERROR(MATCH(D1910,listy_slownikowe!$AH$3:$AH$326,0),0)","v":0},0]
[null,{"$f":"OFFSET(listy_slownikowe!$AG$2,I1911,0)","v":" "},null,"",null,null,{"$f":"OFFSET(listy_slownikowe!$AI$2,I1911,0)","v":" "},null,{"$f":"IFERROR(MATCH(D1911,listy_slownikowe!$AH$3:$AH$326,0),0)","v":0},0]
[null,{"$f":"OFFSET(listy_slownikowe!$AG$2,I1912,0)","v":" "},null,null,null,null,{"$f":"OFFSET(listy_slownikowe!$AI$2,I1912,0)","v":" "},null,{"$f":"IFERROR(MATCH(D1912,listy_slownikowe!$AH$3:$AH$326,0),0)","v":0},0]
[null,"Gatunki dominujące i subdominujące",null,null,null,null,null,null,null,{"$f":"J1914","v":0}]
[null,"nazwa łacińska",null,"nazwa polska",null,null,"udział [%]",null,null,{"$f":"SUM(J1915:J1919)","v":0}]
[null,null,null,null,null,null,null,null,null,{"$f":"COUNTA(B1915:G1915)","v":0}]
[null,null,null,null,null,null,null,null,null,0]
[null,null,null,null,null,null,null,null,null,0]
[null,null,null,null,null,null,null,null,null,0]
[null,null,null,null,null,null,null,null,null,0]
[]
[null,"Spis gatunków numer:",null,null,null,null,{"$f":"G1894+1","v":72},null,null,{"$f":"J1925","v":0}]
[null,"Współrzędne geograficzne",null,null,null,null,null,null,null,{"$f":"J1926","v":0}]
[null,"Długość geograficzna [E] ",null,null,"Szerokość geograficzna [N]",null,null,null,null,{"$f":"J1926","v":0}]
[null,"stopnie","minuty","sekundy","stopnie","minuty","sekundy",null,null,{"$f":"J1925","v":0}]
[null,null,null,null,null,null,null,null,null,{"$f":"J1927+J1941","v":0}]
[null,"Gatunki wskaźnikowe",null,null,null,null,null,null,null,{"$f":"J1927","v":0}]
[null,"nazwa łacińska",null,"nazwa polska",null,null,"walor ",null,null,{"$f":"SUM(J1928:J1939)","v":0}]
[null,{"$f":"OFFSET(listy_slownikowe!$AG$2,I1928,0)","v":" "},null,null,null,null,{"$f":"OFFSET(listy_slownikowe!$AI$2,I1928,0)","v":" "},null,{"$f":"IFERROR(MATCH(D1928,listy_slownikowe!$AH$3:$AH$326,0),0)","v":0},{"$f":"I1928","v":0}]
[null,{"$f":"OFFSET(listy_slownikowe!$AG$2,I1929,0)","v":" "},null,null,null,null,{"$f":"OFFSET(listy_slownikowe!$AI$2,I1929,0)","v":" "},null,{"$f":"IFERROR(MATCH(D1929,listy_slownikowe!$AH$3:$AH$326,0),0)","v":0},{"$f":"I1929","v":0}]
[null,{"$f":"OFFSET(listy_slownikowe!$AG$2,I1930,0)","v":" "},null,null,null,null,{"$f":"OFFSET(listy_slownikowe!$AI$2,I1930,0)","v":" "},null,{"$f":"IFERROR(MATCH(D1930,listy_slownikowe!$AH$3:$AH$326,0),0)","v":0},0]
[null,{"$f":"OFFSET(listy_slownikowe!$AG$2,I1931,0)","v":" "},null,null,null,null,{"$f":"OFFSET(listy_slownikowe!$AI$2,I1931,0)","v":" "},null,{"$f":"IFERROR(MATCH(D1931,listy_slownikowe!$AH$3:$AH$326,0),0)","v":0},0]
[null,{"$f":"OFFSET(listy_slownikowe!$AG$2,I1932,0)","v":" "},null,null,null,null,{"$f":"OFFSET(listy_slownikowe!$AI$2,I1932,0)","v":" "},null,{"$f":"IFERROR(MATCH(D1932,listy_slownikowe!$AH$3:$AH$326,0),0)","v":0},0]
[null,{"$f":"OFFSET(listy_slownikowe!$AG$2,I1933,0)","v":" "},null,null,null,null,{"$f":"OFFSET(listy_slownikowe!$AI$2,I1933,0)","v":" "},null,{"$f":"IFERROR(MATCH(D1933,listy_slownikowe!$AH$3:$AH$326,0),0)","v":0},0]
[null,{"$f":"OFFSET(listy_slownikowe!$AG$2,I1934,0)","v":" "},null,null,null,null,{"$f":"OFFSET(listy_slownikowe!$AI$2,I1934,0)","v":" "},null,{"$f":"IFERROR(MATCH(D1934,listy_slownikowe!$AH$3:$AH$326,0),0)","v":0},0]
[null,{"$f":"OFFSET(listy_slownikowe!$AG$2,I1935,0)","v":" "},null,null,null,null,{"$f":"OFFSET(listy_slownikowe!$AI$2,I1935,0)","v":" "},null,{"$f":"IFERROR(MATCH(D1935,listy_slownikowe!$AH$3:$AH$326,0),0)","v":0},0]
[null,{"$f":"OFFSET(listy_slownikowe!$AG$2,I1936,0)","v":" "},null,null,null,null,{"$f":"OFFSET(listy_slownikowe!$AI$2,I1936,0)","v":" "},null,{"$f":"IFERROR(MATCH(D1936,listy_slownikowe!$AH$3:$AH$326,0),0)","v":0},0]
[null,{"$f":"OFFSET(listy_slownikowe!$AG$2,I1937,0)","v":" "},null,null,null,null,{"$f":"OFFSET(listy_slownikowe!$AI$2,I1937,0)","v":" "},null,{"$f":"IFERROR(MATCH(D1937,listy_slownikowe!$AH$3:$AH$326,0),0)","v":0},0]
[null,{"$f":"OFFSET(listy_slownikowe!$AG$2,I1938,0)","v":" "},null,"",null,null,{"$f":"OFFSET(listy_slownikowe!$AI$2,I1938,0)","v":" "},null,{"$f":"IFERROR(MATCH(D1938,listy_slownikowe!$AH$3:$AH$326,0),0)","v":0},0]
[null,{"$f":"OFFSET(listy_slownikowe!$AG$2,I1939,0)","v":" "},null,null,null,null,{"$f":"OFFSET(listy_slownikowe!$AI$2,I1939,0)","v":" "},null,{"$f":"IFERROR(MATCH(D1939,listy_slownikowe!$AH$3:$AH$326,0),0)","v":0},0]
[null,"Gatunki dominujące i subdominujące",null,null,null,null,null,null,null,{"$f":"J1941","v":0}]
[null,"nazwa łacińska",null,"nazwa polska",null,null,"udział [%]",null,null,{"$f":"SUM(J1942:J1946)","v":0}]
[null,null,null,null,null,null,null,null,null,{"$f":"COUNTA(B1942:G1942)","v":0}]
[null,null,null,null,null,null,null,null,null,0]
[null,null,null,null,null,null,null,null,null,0]
[null,null,null,null,null,null,null,null,null,0]
[null,null,null,null,null,null,null,null,null,0]
[]
[null,"Spis gatunków numer:",null,null,null,null,{"$f":"G1921+1","v":73},null,null,{"$f":"J1952","v":0}]
[null,"Współrzędne geograficzne",null,null,null,null,null,null,null,{"$f":"J1953","v":0}]
[null,"Długość geograficzna [E] ",null,null,"Szerokość geograficzna [N]",null,null,null,null,{"$f":"J1953","v":0}]
[null,"stopnie","minuty","sekundy","stopnie","minuty","sekundy",null,null,{"$f":"J1952","v":0}]
[null,null,null,null,null,null,null,null,null,{"$f":"J1954+J1968","v":0}]
[null,"Gatunki wskaźnikowe",null,null,null,null,null,null,null,{"$f":"J1954","v":0}]
[null,"nazwa łacińska",null,"nazwa polska",null,null,"walor ",null,null,{"$f":"SUM(J1955:J1966)","v":0}]
[null,{"$f":"OFFSET(listy_slownikowe!$AG$2,I1955,0)","v":" "},null,null,null,null,{"$f":"OFFSET(listy_slownikowe!$AI$2,I1955,0)","v":" "},null,{"$f":"IFERROR(MATCH(D1955,listy_slownikowe!$AH$3:$AH$326,0),0)","v":0},{"$f":"I1955","v":0}]
[null,{"$f":"OFFSET(listy_slownikowe!$AG$2,I1956,0)","v":" "},null,null,null,null,{"$f":"OFFSET(listy_slownikowe!$AI$2,I1956,0)","v":" "},null,{"$f":"IFERROR(MATCH(D1956,listy_slownikowe!$AH$3:$AH$326,0),0)","v":0},{"$f":"I1956","v":0}]
[null,{"$f":"OFFSET(listy_slownikowe!$AG$2,I1957,0)","v":" "},null,null,null,null,{"$f":"OFFSET(listy_slownikowe!$AI$2,I1957,0)","v":" "},null,{"$f":"IFERROR(MATCH(D1957,listy_slownikowe!$AH$3:$AH$326,0),0)","v":0},0]
[null,{"$f":"OFFSET(listy_slownikowe!$AG$2,I1958,0)","v":" "},null,null,null,null,{"$f":"OFFSET(listy_slownikowe!$AI$2,I1958,0)","v":" "},null,{"$f":"IFERROR(MATCH(D1958,listy_slownikowe!$AH$3:$AH$326,0),0)","v":0},0]
[null,{"$f":"OFFSET(listy_slownikowe!$AG$2,I1959,0)","v":" "},null,null,null,null,{"$f":"OFFSET(listy_slownikowe!$AI$2,I1959,0)","v":" "},null,{"$f":"IFERROR(MATCH(D1959,listy_slownikowe!$AH$3:$AH$326,0),0)","v":0},0]
[null,{"$f":"OFFSET(listy_slownikowe!$AG$2,I1960,0)","v":" "},null,null,null,null,{"$f":"OFFSET(listy_slownikowe!$AI$2,I1960,0)","v":" "},null,{"$f":"IFERROR(MATCH(D1960,listy_slownikowe!$AH$3:$AH$326,0),0)","v":0},0]
[null,{"$f":"OFFSET(listy_slownikowe!$AG$2,I1961,0)","v":" "},null,null,null,null,{"$f":"OFFSET(listy_slownikowe!$AI$2,I1961,0)","v":" "},null,{"$f":"IFERROR(MATCH(D1961,listy_slownikowe!$AH$3:$AH$326,0),0)","v":0},0]
[null,{"$f":"OFFSET(listy_slownikowe!$AG$2,I1962,0)","v":" "},null,null,null,null,{"$f":"OFFSET(listy_slownikowe!$AI$2,I1962,0)","v":" "},null,{"$f":"IFERROR(MATCH(D1962,listy_slownikowe!$AH$3:$AH$326,0),0)","v":0},0]
[null,{"$f":"OFFSET(listy_slownikowe!$AG$2,I1963,0)","v":" "},null,null,null,null,{"$f":"OFFSET(listy_slownikowe!$AI$2,I1963,0)","v":" "},null,{"$f":"IFERROR(MATCH(D1963,listy_slownikowe!$AH$3:$AH$326,0),0)","v":0},0]
[null,{"$f":"OFFSET(listy_slownikowe!$AG$2,I1964,0)","v":" "},null,null,null,null,{"$f":"OFFSET(listy_slownikowe!$AI$2,I1964,0)","v":" "},null,{"$f":"IFERROR(MATCH(D1964,listy_slownikowe!$AH$3:$AH$326,0),0)","v":0},0]
[null,{"$f":"OFFSET(listy_slownikowe!$AG$2,I1965,0)","v":" "},null,"",null,null,{"$f":"OFFSET(listy_slownikowe!$AI$2,I1965,0)","v":" "},null,{"$f":"IFERROR(MATCH(D1965,listy_slownikowe!$AH$3:$AH$326,0),0)","v":0},0]
[null,{"$f":"OFFSET(listy_slownikowe!$AG$2,I1966,0)","v":" "},null,null,null,null,{"$f":"OFFSET(listy_slownikowe!$AI$2,I1966,0)","v":" "},null,{"$f":"IFERROR(MATCH(D1966,listy_slownikowe!$AH$3:$AH$326,0),0)","v":0},0]
[null,"Gatunki dominujące i subdominujące",null,null,null,null,null,null,null,{"$f":"J1968","v":0}]
[null,"nazwa łacińska",null,"nazwa polska",null,null,"udział [%]",null,null,{"$f":"SUM(J1969:J1973)","v":0}]
[null,null,null,null,null,null,null,null,null,{"$f":"COUNTA(B1969:G1969)","v":0}]
[null,null,null,null,null,null,null,null,null,0]
[null,null,null,null,null,null,null,null,null,0]
[null,null,null,null,null,null,null,null,null,0]
[null,null,null,null,null,null,null,null,null,0]
[]
[null,"Spis gatunków numer:",null,null,null,null,{"$f":"G1948+1","v":74},null,null,{"$f":"J1979","v":0}]
[null,"Współrzędne geograficzne",null,null,null,null,null,null,null,{"$f":"J1980","v":0}]
[null,"Długość geograficzna [E] ",null,null,"Szerokość geograficzna [N]",null,null,null,null,{"$f":"J1980","v":0}]
[null,"stopnie","minuty","sekundy","stopnie","minuty","sekundy",null,null,{"$f":"J1979","v":0}]
[null,null,null,null,null,null,null,null,null,{"$f":"J1981+J1995","v":0}]
[null,"Gatunki wskaźnikowe",null,null,null,null,null,null,null,{"$f":"J1981","v":0}]
[null,"nazwa łacińska",null,"nazwa polska",null,null,"walor ",null,null,{"$f":"SUM(J1982:J1993)","v":0}]
[null,{"$f":"OFFSET(listy_slownikowe!$AG$2,I1982,0)","v":" "},null,null,null,null,{"$f":"OFFSET(listy_slownikowe!$AI$2,I1982,0)","v":" "},null,{"$f":"IFERROR(MATCH(D1982,listy_slownikowe!$AH$3:$AH$326,0),0)","v":0},{"$f":"I1982","v":0}]
[null,{"$f":"OFFSET(listy_slownikowe!$AG$2,I1983,0)","v":" "},null,null,null,null,{"$f":"OFFSET(listy_slownikowe!$AI$2,I1983,0)","v":" "},null,{"$f":"IFERROR(MATCH(D1983,listy_slownikowe!$AH$3:$AH$326,0),0)","v":0},{"$f":"I1983","v":0}]
[null,{"$f":"OFFSET(listy_slownikowe!$AG$2,I1984,0)","v":" "},null,null,null,null,{"$f":"OFFSET(listy_slownikowe!$AI$2,I1984,0)","v":" "},null,{"$f":"IFERROR(MATCH(D1984,listy_slownikowe!$AH$3:$AH$326,0),0)","v":0},0]
[null,{"$f":"OFFSET(listy_slownikowe!$AG$2,I1985,0)","v":" "},null,null,null,null,{"$f":"OFFSET(listy_slownikowe!$AI$2,I1985,0)","v":" "},null,{"$f":"IFERROR(MATCH(D1985,listy_slownikowe!$AH$3:$AH$326,0),0)","v":0},0]
[null,{"$f":"OFFSET(listy_slownikowe!$AG$2,I1986,0)","v":" "},null,null,null,null,{"$f":"OFFSET(listy_slownikowe!$AI$2,I1986,0)","v":" "},null,{"$f":"IFERROR(MATCH(D1986,listy_slownikowe!$AH$3:$AH$326,0),0)","v":0},0]
[null,{"$f":"OFFSET(listy_slownikowe!$AG$2,I1987,0)","v":" "},null,null,null,null,{"$f":"OFFSET(listy_slownikowe!$AI$2,I1987,0)","v":" "},null,{"$f":"IFERROR(MATCH(D1987,listy_slownikowe!$AH$3:$AH$326,0),0)","v":0},0]
[null,{"$f":"OFFSET(listy_slownikowe!$AG$2,I1988,0)","v":" "},null,null,null,null,{"$f":"OFFSET(listy_slownikowe!$AI$2,I1988,0)","v":" "},null,{"$f":"IFERROR(MATCH(D1988,listy_slownikowe!$AH$3:$AH$326,0),0)","v":0},0]
[null,{"$f":"OFFSET(listy_slownikowe!$AG$2,I1989,0)","v":" "},null,null,null,null,{"$f":"OFFSET(listy_slownikowe!$AI$2,I1989,0)","v":" "},null,{"$f":"IFERROR(MATCH(D1989,listy_slownikowe!$AH$3:$AH$326,0),0)","v":0},0]
[null,{"$f":"OFFSET(listy_slownikowe!$AG$2,I1990,0)","v":" "},null,null,null,null,{"$f":"OFFSET(listy_slownikowe!$AI$2,I1990,0)","v":" "},null,{"$f":"IFERROR(MATCH(D1990,listy_slownikowe!$AH$3:$AH$326,0),0)","v":0},0]
[null,{"$f":"OFFSET(listy_slownikowe!$AG$2,I1991,0)","v":" "},null,null,null,null,{"$f":"OFFSET(listy_slownikowe!$AI$2,I1991,0)","v":" "},null,{"$f":"IFERROR(MATCH(D1991,listy_slownikowe!$AH$3:$AH$326,0),0)","v":0},0]
[null,{"$f":"OFFSET(listy_slownikowe!$AG$2,I1992,0)","v":" "},null,"",null,null,{"$f":"OFFSET(listy_slownikowe!$AI$2,I1992,0)","v":" "},null,{"$f":"IFERROR(MATCH(D1992,listy_slownikowe!$AH$3:$AH$326,0),0)","v":0},0]
[null,{"$f":"OFFSET(listy_slownikowe!$AG$2,I1993,0)","v":" "},null,null,null,null,{"$f":"OFFSET(listy_slownikowe!$AI$2,I1993,0)","v":" "},null,{"$f":"IFERROR(MATCH(D1993,listy_slownikowe!$AH$3:$AH$326,0),0)","v":0},0]
[null,"Gatunki dominujące i subdominujące",null,null,null,null,null,null,null,{"$f":"J1995","v":0}]
[null,"nazwa łacińska",null,"nazwa polska",null,null,"udział [%]",null,null,{"$f":"SUM(J1996:J2000)","v":0}]
[null,null,null,null,null,null,null,null,null,{"$f":"COUNTA(B1996:G1996)","v":0}]
[null,null,null,null,null,null,null,null,null,0]
[null,null,null,null,null,null,null,null,null,0]
[null,null,null,null,null,null,null,null,null,0]
[null,null,null,null,null,null,null,null,null,0]
[]
[null,"Spis gatunków numer:",null,null,null,null,{"$f":"G1975+1","v":75},null,null,{"$f":"J2006","v":0}]
[null,"Współrzędne geograficzne",null,null,null,null,null,null,null,{"$f":"J2007","v":0}]
[null,"Długość geograficzna [E] ",null,null,"Szerokość geograficzna [N]",null,null,null,null,{"$f":"J2007","v":0}]
[null,"stopnie","minuty","sekundy","stopnie","minuty","sekundy",null,null,{"$f":"J2006","v":0}]
[null,null,null,null,null,null,null,null,null,{"$f":"J2008+J2022","v":0}]
[null,"Gatunki wskaźnikowe",null,null,null,null,null,null,null,{"$f":"J2008","v":0}]
[null,"nazwa łacińska",null,"nazwa polska",null,null,"walor ",null,null,{"$f":"SUM(J2009:J2020)","v":0}]
[null,{"$f":"OFFSET(listy_slownikowe!$AG$2,I2009,0)","v":" "},null,null,null,null,{"$f":"OFFSET(listy_slownikowe!$AI$2,I2009,0)","v":" "},null,{"$f":"IFERROR(MATCH(D2009,listy_slownikowe!$AH$3:$AH$326,0),0)","v":0},{"$f":"I2009","v":0}]
[null,{"$f":"OFFSET(listy_slownikowe!$AG$2,I2010,0)","v":" "},null,null,null,null,{"$f":"OFFSET(listy_slownikowe!$AI$2,I2010,0)","v":" "},null,{"$f":"IFERROR(MATCH(D2010,listy_slownikowe!$AH$3:$AH$326,0),0)","v":0},{"$f":"I2010","v":0}]
[null,{"$f":"OFFSET(listy_slownikowe!$AG$2,I2011,0)","v":" "},null,null,null,null,{"$f":"OFFSET(listy_slownikowe!$AI$2,I2011,0)","v":" "},null,{"$f":"IFERROR(MATCH(D2011,listy_slownikowe!$AH$3:$AH$326,0),0)","v":0},0]
[null,{"$f":"OFFSET(listy_slownikowe!$AG$2,I2012,0)","v":" "},null,null,null,null,{"$f":"OFFSET(listy_slownikowe!$AI$2,I2012,0)","v":" "},null,{"$f":"IFERROR(MATCH(D2012,listy_slownikowe!$AH$3:$AH$326,0),0)","v":0},0]
[null,{"$f":"OFFSET(listy_slownikowe!$AG$2,I2013,0)","v":" "},null,null,null,null,{"$f":"OFFSET(listy_slownikowe!$AI$2,I2013,0)","v":" "},null,{"$f":"IFERROR(MATCH(D2013,listy_slownikowe!$AH$3:$AH$326,0),0)","v":0},0]
[null,{"$f":"OFFSET(listy_slownikowe!$AG$2,I2014,0)","v":" "},null,null,null,null,{"$f":"OFFSET(listy_slownikowe!$AI$2,I2014,0)","v":" "},null,{"$f":"IFERROR(MATCH(D2014,listy_slownikowe!$AH$3:$AH$326,0),0)","v":0},0]
[null,{"$f":"OFFSET(listy_slownikowe!$AG$2,I2015,0)","v":" "},null,null,null,null,{"$f":"OFFSET(listy_slownikowe!$AI$2,I2015,0)","v":" "},null,{"$f":"IFERROR(MATCH(D2015,listy_slownikowe!$AH$3:$AH$326,0),0)","v":0},0]
[null,{"$f":"OFFSET(listy_slownikowe!$AG$2,I2016,0)","v":" "},null,null,null,null,{"$f":"OFFSET(listy_slownikowe!$AI$2,I2016,0)","v":" "},null,{"$f":"IFERROR(MATCH(D2016,listy_slownikowe!$AH$3:$AH$326,0),0)","v":0},0]
[null,{"$f":"OFFSET(listy_slownikowe!$AG$2,I2017,0)","v":" "},null,null,null,null,{"$f":"OFFSET(listy_slownikowe!$AI$2,I2017,0)","v":" "},null,{"$f":"IFERROR(MATCH(D2017,listy_slownikowe!$AH$3:$AH$326,0),0)","v":0},0]
[null,{"$f":"OFFSET(listy_slownikowe!$AG$2,I2018,0)","v":" "},null,null,null,null,{"$f":"OFFSET(listy_slownikowe!$AI$2,I2018,0)","v":" "},null,{"$f":"IFERROR(MATCH(D2018,listy_slownikowe!$AH$3:$AH$326,0),0)","v":0},0]
[null,{"$f":"OFFSET(listy_slownikowe!$AG$2,I2019,0)","v":" "},null,"",null,null,{"$f":"OFFSET(listy_slownikowe!$AI$2,I2019,0)","v":" "},null,{"$f":"IFERROR(MATCH(D2019,listy_slownikowe!$AH$3:$AH$326,0),0)","v":0},0]
[null,{"$f":"OFFSET(listy_slownikowe!$AG$2,I2020,0)","v":" "},null,null,null,null,{"$f":"OFFSET(listy_slownikowe!$AI$2,I2020,0)","v":" "},null,{"$f":"IFERROR(MATCH(D2020,listy_slownikowe!$AH$3:$AH$326,0),0)","v":0},0]
[null,"Gatunki dominujące i subdominujące",null,null,null,null,null,null,null,{"$f":"J2022","v":0}]
[null,"nazwa łacińska",null,"nazwa polska",null,null,"udział [%]",null,null,{"$f":"SUM(J2023:J2027)","v":0}]
[null,null,null,null,null,null,null,null,null,{"$f":"COUNTA(B2023:G2023)","v":0}]
[null,null,null,null,null,null,null,null,null,0]
[null,null,null,null,null,null,null,null,null,0]
[null,null,null,null,null,null,null,null,null,0]
[null,null,null,null,null,null,null,null,null,0]
[]
[null,"Spis gatunków numer:",null,null,null,null,{"$f":"G2002+1","v":76},null,null,{"$f":"J2033","v":0}]
[null,"Współrzędne geograficzne",null,null,null,null,null,null,null,{"$f":"J2034","v":0}]
[null,"Długość geograficzna [E] ",null,null,"Szerokość geograficzna [N]",null,null,null,null,{"$f":"J2034","v":0}]
[null,"stopnie","minuty","sekundy","stopnie","minuty","sekundy",null,null,{"$f":"J2033","v":0}]
[null,null,null,null,null,null,null,null,null,{"$f":"J2035+J2049","v":0}]
[null,"Gatunki wskaźnikowe",null,null,null,null,null,null,null,{"$f":"J2035","v":0}]
[null,"nazwa łacińska",null,"nazwa polska",null,null,"walor ",null,null,{"$f":"SUM(J2036:J2047)","v":0}]
[null,{"$f":"OFFSET(listy_slownikowe!$AG$2,I2036,0)","v":" "},null,null,null,null,{"$f":"OFFSET(listy_slownikowe!$AI$2,I2036,0)","v":" "},null,{"$f":"IFERROR(MATCH(D2036,listy_slownikowe!$AH$3:$AH$326,0),0)","v":0},{"$f":"I2036","v":0}]
[null,{"$f":"OFFSET(listy_slownikowe!$AG$2,I2037,0)","v":" "},null,null,null,null,{"$f":"OFFSET(listy_slownikowe!$AI$2,I2037,0)","v":" "},null,{"$f":"IFERROR(MATCH(D2037,listy_slownikowe!$AH$3:$AH$326,0),0)","v":0},{"$f":"I2037","v":0}]
[null,{"$f":"OFFSET(listy_slownikowe!$AG$2,I2038,0)","v":" "},null,null,null,null,{"$f":"OFFSET(listy_slownikowe!$AI$2,I2038,0)","v":" "},null,{"$f":"IFERROR(MATCH(D2038,listy_slownikowe!$AH$3:$AH$326,0),0)","v":0},0]
[null,{"$f":"OFFSET(listy_slownikowe!$AG$2,I2039,0)","v":" "},null,null,null,null,{"$f":"OFFSET(listy_slownikowe!$AI$2,I2039,0)","v":" "},null,{"$f":"IFERROR(MATCH(D2039,listy_slownikowe!$AH$3:$AH$326,0),0)","v":0},0]
[null,{"$f":"OFFSET(listy_slownikowe!$AG$2,I2040,0)","v":" "},null,null,null,null,{"$f":"OFFSET(listy_slownikowe!$AI$2,I2040,0)","v":" "},null,{"$f":"IFERROR(MATCH(D2040,listy_slownikowe!$AH$3:$AH$326,0),0)","v":0},0]
[null,{"$f":"OFFSET(listy_slownikowe!$AG$2,I2041,0)","v":" "},null,null,null,null,{"$f":"OFFSET(listy_slownikowe!$AI$2,I2041,0)","v":" "},null,{"$f":"IFERROR(MATCH(D2041,listy_slownikowe!$AH$3:$AH$326,0),0)","v":0},0]
[null,{"$f":"OFFSET(listy_slownikowe!$AG$2,I2042,0)","v":" "},null,null,null,null,{"$f":"OFFSET(listy_slownikowe!$AI$2,I2042,0)","v":" "},null,{"$f":"IFERROR(MATCH(D2042,listy_slownikowe!$AH$3:$AH$326,0),0)","v":0},0]
[null,{"$f":"OFFSET(listy_slownikowe!$AG$2,I2043,0)","v":" "},null,null,null,null,{"$f":"OFFSET(listy_slownikowe!$AI$2,I2043,0)","v":" "},null,{"$f":"IFERROR(MATCH(D2043,listy_slownikowe!$AH$3:$AH$326,0),0)","v":0},0]
[null,{"$f":"OFFSET(listy_slownikowe!$AG$2,I2044,0)","v":" "},null,null,null,null,{"$f":"OFFSET(listy_slownikowe!$AI$2,I2044,0)","v":" "},null,{"$f":"IFERROR(MATCH(D2044,listy_slownikowe!$AH$3:$AH$326,0),0)","v":0},0]
[null,{"$f":"OFFSET(listy_slownikowe!$AG$2,I2045,0)","v":" "},null,null,null,null,{"$f":"OFFSET(listy_slownikowe!$AI$2,I2045,0)","v":" "},null,{"$f":"IFERROR(MATCH(D2045,listy_slownikowe!$AH$3:$AH$326,0),0)","v":0},0]
[null,{"$f":"OFFSET(listy_slownikowe!$AG$2,I2046,0)","v":" "},null,"",null,null,{"$f":"OFFSET(listy_slownikowe!$AI$2,I2046,0)","v":" "},null,{"$f":"IFERROR(MATCH(D2046,listy_slownikowe!$AH$3:$AH$326,0),0)","v":0},0]
[null,{"$f":"OFFSET(listy_slownikowe!$AG$2,I2047,0)","v":" "},null,null,null,null,{"$f":"OFFSET(listy_slownikowe!$AI$2,I2047,0)","v":" "},null,{"$f":"IFERROR(MATCH(D2047,listy_slownikowe!$AH$3:$AH$326,0),0)","v":0},0]
[null,"Gatunki dominujące i subdominujące",null,null,null,null,null,null,null,{"$f":"J2049","v":0}]
[null,"nazwa łacińska",null,"nazwa polska",null,null,"udział [%]",null,null,{"$f":"SUM(J2050:J2054)","v":0}]
[null,null,null,null,null,null,null,null,null,{"$f":"COUNTA(B2050:G2050)","v":0}]
[null,null,null,null,null,null,null,null,null,0]
[null,null,null,null,null,null,null,null,null,0]
[null,null,null,null,null,null,null,null,null,0]
[null,null,null,null,null,null,null,null,null,0]
[]
[null,"Spis gatunków numer:",null,null,null,null,{"$f":"G2029+1","v":77},null,null,{"$f":"J2060","v":0}]
[null,"Współrzędne geograficzne",null,null,null,null,null,null,null,{"$f":"J2061","v":0}]
[null,"Długość geograficzna [E] ",null,null,"Szerokość geograficzna [N]",null,null,null,null,{"$f":"J2061","v":0}]
[null,"stopnie","minuty","sekundy","stopnie","minuty","sekundy",null,null,{"$f":"J2060","v":0}]
[null,null,null,null,null,null,null,null,null,{"$f":"J2062+J2076","v":0}]
[null,"Gatunki wskaźnikowe",null,null,null,null,null,null,null,{"$f":"J2062","v":0}]
[null,"nazwa łacińska",null,"nazwa polska",null,null,"walor ",null,null,{"$f":"SUM(J2063:J2074)","v":0}]
[null,{"$f":"OFFSET(listy_slownikowe!$AG$2,I2063,0)","v":" "},null,null,null,null,{"$f":"OFFSET(listy_slownikowe!$AI$2,I2063,0)","v":" "},null,{"$f":"IFERROR(MATCH(D2063,listy_slownikowe!$AH$3:$AH$326,0),0)","v":0},{"$f":"I2063","v":0}]
[null,{"$f":"OFFSET(listy_slownikowe!$AG$2,I2064,0)","v":" "},null,null,null,null,{"$f":"OFFSET(listy_slownikowe!$AI$2,I2064,0)","v":" "},null,{"$f":"IFERROR(MATCH(D2064,listy_slownikowe!$AH$3:$AH$326,0),0)","v":0},{"$f":"I2064","v":0}]
[null,{"$f":"OFFSET(listy_slownikowe!$AG$2,I2065,0)","v":" "},null,null,null,null,{"$f":"OFFSET(listy_slownikowe!$AI$2,I2065,0)","v":" "},null,{"$f":"IFERROR(MATCH(D2065,listy_slownikowe!$AH$3:$AH$326,0),0)","v":0},0]
[null,{"$f":"OFFSET(listy_slownikowe!$AG$2,I2066,0)","v":" "},null,null,null,null,{"$f":"OFFSET(listy_slownikowe!$AI$2,I2066,0)","v":" "},null,{"$f":"IFERROR(MATCH(D2066,listy_slownikowe!$AH$3:$AH$326,0),0)","v":0},0]
[null,{"$f":"OFFSET(listy_slownikowe!$AG$2,I2067,0)","v":" "},null,null,null,null,{"$f":"OFFSET(listy_slownikowe!$AI$2,I2067,0)","v":" "},null,{"$f":"IFERROR(MATCH(D2067,listy_slownikowe!$AH$3:$AH$326,0),0)","v":0},0]
[null,{"$f":"OFFSET(listy_slownikowe!$AG$2,I2068,0)","v":" "},null,null,null,null,{"$f":"OFFSET(listy_slownikowe!$AI$2,I2068,0)","v":" "},null,{"$f":"IFERROR(MATCH(D2068,listy_slownikowe!$AH$3:$AH$326,0),0)","v":0},0]
[null,{"$f":"OFFSET(listy_slownikowe!$AG$2,I2069,0)","v":" "},null,null,null,null,{"$f":"OFFSET(listy_slownikowe!$AI$2,I2069,0)","v":" "},null,{"$f":"IFERROR(MATCH(D2069,listy_slownikowe!$AH$3:$AH$326,0),0)","v":0},0]
[null,{"$f":"OFFSET(listy_slownikowe!$AG$2,I2070,0)","v":" "},null,null,null,null,{"$f":"OFFSET(listy_slownikowe!$AI$2,I2070,0)","v":" "},null,{"$f":"IFERROR(MATCH(D2070,listy_slownikowe!$AH$3:$AH$326,0),0)","v":0},0]
[null,{"$f":"OFFSET(listy_slownikowe!$AG$2,I2071,0)","v":" "},null,null,null,null,{"$f":"OFFSET(listy_slownikowe!$AI$2,I2071,0)","v":" "},null,{"$f":"IFERROR(MATCH(D2071,listy_slownikowe!$AH$3:$AH$326,0),0)","v":0},0]
[null,{"$f":"OFFSET(listy_slownikowe!$AG$2,I2072,0)","v":" "},null,null,null,null,{"$f":"OFFSET(listy_slownikowe!$AI$2,I2072,0)","v":" "},null,{"$f":"IFERROR(MATCH(D2072,listy_slownikowe!$AH$3:$AH$326,0),0)","v":0},0]
[null,{"$f":"OFFSET(listy_slownikowe!$AG$2,I2073,0)","v":" "},null,"",null,null,{"$f":"OFFSET(listy_slownikowe!$AI$2,I2073,0)","v":" "},null,{"$f":"IFERROR(MATCH(D2073,listy_slownikowe!$AH$3:$AH$326,0),0)","v":0},0]
[null,{"$f":"OFFSET(listy_slownikowe!$AG$2,I2074,0)","v":" "},null,null,null,null,{"$f":"OFFSET(listy_slownikowe!$AI$2,I2074,0)","v":" "},null,{"$f":"IFERROR(MATCH(D2074,listy_slownikowe!$AH$3:$AH$326,0),0)","v":0},0]
[null,"Gatunki dominujące i subdominujące",null,null,null,null,null,null,null,{"$f":"J2076","v":0}]
[null,"nazwa łacińska",null,"nazwa polska",null,null,"udział [%]",null,null,{"$f":"SUM(J2077:J2081)","v":0}]
[null,null,null,null,null,null,null,null,null,{"$f":"COUNTA(B2077:G2077)","v":0}]
[null,null,null,null,null,null,null,null,null,0]
[null,null,null,null,null,null,null,null,null,0]
[null,null,null,null,null,null,null,null,null,0]
[null,null,null,null,null,null,null,null,null,0]
[]
[null,"Spis gatunków numer:",null,null,null,null,{"$f":"G2056+1","v":78},null,null,{"$f":"J2087","v":0}]
[null,"Współrzędne geograficzne",null,null,null,null,null,null,null,{"$f":"J2088","v":0}]
[null,"Długość geograficzna [E] ",null,null,"Szerokość geograficzna [N]",null,null,null,null,{"$f":"J2088","v":0}]
[null,"stopnie","minuty","sekundy","stopnie","minuty","sekundy",null,null,{"$f":"J2087","v":0}]
[null,null,null,null,null,null,null,null,null,{"$f":"J2089+J2103","v":0}]
[null,"Gatunki wskaźnikowe",null,null,null,null,null,null,null,{"$f":"J2089","v":0}]
[null,"nazwa łacińska",null,"nazwa polska",null,null,"walor ",null,null,{"$f":"SUM(J2090:J2101)","v":0}]
[null,{"$f":"OFFSET(listy_slownikowe!$AG$2,I2090,0)","v":" "},null,null,null,null,{"$f":"OFFSET(listy_slownikowe!$AI$2,I2090,0)","v":" "},null,{"$f":"IFERROR(MATCH(D2090,listy_slownikowe!$AH$3:$AH$326,0),0)","v":0},{"$f":"I2090","v":0}]
[null,{"$f":"OFFSET(listy_slownikowe!$AG$2,I2091,0)","v":" "},null,null,null,null,{"$f":"OFFSET(listy_slownikowe!$AI$2,I2091,0)","v":" "},null,{"$f":"IFERROR(MATCH(D2091,listy_slownikowe!$AH$3:$AH$326,0),0)","v":0},{"$f":"I2091","v":0}]
[null,{"$f":"OFFSET(listy_slownikowe!$AG$2,I2092,0)","v":" "},null,null,null,null,{"$f":"OFFSET(listy_slownikowe!$AI$2,I2092,0)","v":" "},null,{"$f":"IFERROR(MATCH(D2092,listy_slownikowe!$AH$3:$AH$326,0),0)","v":0},0]
[null,{"$f":"OFFSET(listy_slownikowe!$AG$2,I2093,0)","v":" "},null,null,null,null,{"$f":"OFFSET(listy_slownikowe!$AI$2,I2093,0)","v":" "},null,{"$f":"IFERROR(MATCH(D2093,listy_slownikowe!$AH$3:$AH$326,0),0)","v":0},0]
[null,{"$f":"OFFSET(listy_slownikowe!$AG$2,I2094,0)","v":" "},null,null,null,null,{"$f":"OFFSET(listy_slownikowe!$AI$2,I2094,0)","v":" "},null,{"$f":"IFERROR(MATCH(D2094,listy_slownikowe!$AH$3:$AH$326,0),0)","v":0},0]
[null,{"$f":"OFFSET(listy_slownikowe!$AG$2,I2095,0)","v":" "},null,null,null,null,{"$f":"OFFSET(listy_slownikowe!$AI$2,I2095,0)","v":" "},null,{"$f":"IFERROR(MATCH(D2095,listy_slownikowe!$AH$3:$AH$326,0),0)","v":0},0]
[null,{"$f":"OFFSET(listy_slownikowe!$AG$2,I2096,0)","v":" "},null,null,null,null,{"$f":"OFFSET(listy_slownikowe!$AI$2,I2096,0)","v":" "},null,{"$f":"IFERROR(MATCH(D2096,listy_slownikowe!$AH$3:$AH$326,0),0)","v":0},0]
[null,{"$f":"OFFSET(listy_slownikowe!$AG$2,I2097,0)","v":" "},null,null,null,null,{"$f":"OFFSET(listy_slownikowe!$AI$2,I2097,0)","v":" "},null,{"$f":"IFERROR(MATCH(D2097,listy_slownikowe!$AH$3:$AH$326,0),0)","v":0},0]
[null,{"$f":"OFFSET(listy_slownikowe!$AG$2,I2098,0)","v":" "},null,null,null,null,{"$f":"OFFSET(listy_slownikowe!$AI$2,I2098,0)","v":" "},null,{"$f":"IFERROR(MATCH(D2098,listy_slownikowe!$AH$3:$AH$326,0),0)","v":0},0]
[null,{"$f":"OFFSET(listy_slownikowe!$AG$2,I2099,0)","v":" "},null,null,null,null,{"$f":"OFFSET(listy_slownikowe!$AI$2,I2099,0)","v":" "},null,{"$f":"IFERROR(MATCH(D2099,listy_slownikowe!$AH$3:$AH$326,0),0)","v":0},0]
[null,{"$f":"OFFSET(listy_slownikowe!$AG$2,I2100,0)","v":" "},null,"",null,null,{"$f":"OFFSET(listy_slownikowe!$AI$2,I2100,0)","v":" "},null,{"$f":"IFERROR(MATCH(D2100,listy_slownikowe!$AH$3:$AH$326,0),0)","v":0},0]
[null,{"$f":"OFFSET(listy_slownikowe!$AG$2,I2101,0)","v":" "},null,null,null,null,{"$f":"OFFSET(listy_slownikowe!$AI$2,I2101,0)","v":" "},null,{"$f":"IFERROR(MATCH(D2101,listy_slownikowe!$AH$3:$AH$326,0),0)","v":0},0]
[null,"Gatunki dominujące i subdominujące",null,null,null,null,null,null,null,{"$f":"J2103","v":0}]
[null,"nazwa łacińska",null,"nazwa polska",null,null,"udział [%]",null,null,{"$f":"SUM(J2104:J2108)","v":0}]
[null,null,null,null,null,null,null,null,null,{"$f":"COUNTA(B2104:G2104)","v":0}]
[null,null,null,null,null,null,null,null,null,0]
[null,null,null,null,null,null,null,null,null,0]
[null,null,null,null,null,null,null,null,null,0]
[null,null,null,null,null,null,null,null,null,0]
[]
[null,"Spis gatunków numer:",null,null,null,null,{"$f":"G2083+1","v":79},null,null,{"$f":"J2114","v":0}]
[null,"Współrzędne geograficzne",null,null,null,null,null,null,null,{"$f":"J2115","v":0}]
[null,"Długość geograficzna [E] ",null,null,"Szerokość geograficzna [N]",null,null,null,null,{"$f":"J2115","v":0}]
[null,"stopnie","minuty","sekundy","stopnie","minuty","sekundy",null,null,{"$f":"J2114","v":0}]
[null,null,null,null,null,null,null,null,null,{"$f":"J2116+J2130","v":0}]
[null,"Gatunki wskaźnikowe",null,null,null,null,null,null,null,{"$f":"J2116","v":0}]
[null,"nazwa łacińska",null,"nazwa polska",null,null,"walor ",null,null,{"$f":"SUM(J2117:J2128)","v":0}]
[null,{"$f":"OFFSET(listy_slownikowe!$AG$2,I2117,0)","v":" "},null,null,null,null,{"$f":"OFFSET(listy_slownikowe!$AI$2,I2117,0)","v":" "},null,{"$f":"IFERROR(MATCH(D2117,listy_slownikowe!$AH$3:$AH$326,0),0)","v":0},{"$f":"I2117","v":0}]
[null,{"$f":"OFFSET(listy_slownikowe!$AG$2,I2118,0)","v":" "},null,null,null,null,{"$f":"OFFSET(listy_slownikowe!$AI$2,I2118,0)","v":" "},null,{"$f":"IFERROR(MATCH(D2118,listy_slownikowe!$AH$3:$AH$326,0),0)","v":0},{"$f":"I2118","v":0}]
[null,{"$f":"OFFSET(listy_slownikowe!$AG$2,I2119,0)","v":" "},null,null,null,null,{"$f":"OFFSET(listy_slownikowe!$AI$2,I2119,0)","v":" "},null,{"$f":"IFERROR(MATCH(D2119,listy_slownikowe!$AH$3:$AH$326,0),0)","v":0},0]
[null,{"$f":"OFFSET(listy_slownikowe!$AG$2,I2120,0)","v":" "},null,null,null,null,{"$f":"OFFSET(listy_slownikowe!$AI$2,I2120,0)","v":" "},null,{"$f":"IFERROR(MATCH(D2120,listy_slownikowe!$AH$3:$AH$326,0),0)","v":0},0]
[null,{"$f":"OFFSET(listy_slownikowe!$AG$2,I2121,0)","v":" "},null,null,null,null,{"$f":"OFFSET(listy_slownikowe!$AI$2,I2121,0)","v":" "},null,{"$f":"IFERROR(MATCH(D2121,listy_slownikowe!$AH$3:$AH$326,0),0)","v":0},0]
[null,{"$f":"OFFSET(listy_slownikowe!$AG$2,I2122,0)","v":" "},null,null,null,null,{"$f":"OFFSET(listy_slownikowe!$AI$2,I2122,0)","v":" "},null,{"$f":"IFERROR(MATCH(D2122,listy_slownikowe!$AH$3:$AH$326,0),0)","v":0},0]
[null,{"$f":"OFFSET(listy_slownikowe!$AG$2,I2123,0)","v":" "},null,null,null,null,{"$f":"OFFSET(listy_slownikowe!$AI$2,I2123,0)","v":" "},null,{"$f":"IFERROR(MATCH(D2123,listy_slownikowe!$AH$3:$AH$326,0),0)","v":0},0]
[null,{"$f":"OFFSET(listy_slownikowe!$AG$2,I2124,0)","v":" "},null,null,null,null,{"$f":"OFFSET(listy_slownikowe!$AI$2,I2124,0)","v":" "},null,{"$f":"IFERROR(MATCH(D2124,listy_slownikowe!$AH$3:$AH$326,0),0)","v":0},0]
[null,{"$f":"OFFSET(listy_slownikowe!$AG$2,I2125,0)","v":" "},null,null,null,null,{"$f":"OFFSET(listy_slownikowe!$AI$2,I2125,0)","v":" "},null,{"$f":"IFERROR(MATCH(D2125,listy_slownikowe!$AH$3:$AH$326,0),0)","v":0},0]
[null,{"$f":"OFFSET(listy_slownikowe!$AG$2,I2126,0)","v":" "},null,null,null,null,{"$f":"OFFSET(listy_slownikowe!$AI$2,I2126,0)","v":" "},null,{"$f":"IFERROR(MATCH(D2126,listy_slownikowe!$AH$3:$AH$326,0),0)","v":0},0]
[null,{"$f":"OFFSET(listy_slownikowe!$AG$2,I2127,0)","v":" "},null,"",null,null,{"$f":"OFFSET(listy_slownikowe!$AI$2,I2127,0)","v":" "},null,{"$f":"IFERROR(MATCH(D2127,listy_slownikowe!$AH$3:$AH$326,0),0)","v":0},0]
[null,{"$f":"OFFSET(listy_slownikowe!$AG$2,I2128,0)","v":" "},null,null,null,null,{"$f":"OFFSET(listy_slownikowe!$AI$2,I2128,0)","v":" "},null,{"$f":"IFERROR(MATCH(D2128,listy_slownikowe!$AH$3:$AH$326,0),0)","v":0},0]
[null,"Gatunki dominujące i subdominujące",null,null,null,null,null,null,null,{"$f":"J2130","v":0}]
[null,"nazwa łacińska",null,"nazwa polska",null,null,"udział [%]",null,null,{"$f":"SUM(J2131:J2135)","v":0}]
[null,null,null,null,null,null,null,null,null,{"$f":"COUNTA(B2131:G2131)","v":0}]
[null,null,null,null,null,null,null,null,null,0]
[null,null,null,null,null,null,null,null,null,0]
[null,null,null,null,null,null,null,null,null,0]
[null,null,null,null,null,null,null,null,null,0]
[]
[null,"Spis gatunków numer:",null,null,null,null,{"$f":"G2110+1","v":80},null,null,{"$f":"J2141","v":0}]
[null,"Współrzędne geograficzne",null,null,null,null,null,null,null,{"$f":"J2142","v":0}]
[null,"Długość geograficzna [E] ",null,null,"Szerokość geograficzna [N]",null,null,null,null,{"$f":"J2142","v":0}]
[null,"stopnie","minuty","sekundy","stopnie","minuty","sekundy",null,null,{"$f":"J2141","v":0}]
[null,null,null,null,null,null,null,null,null,{"$f":"J2143+J2157","v":0}]
[null,"Gatunki wskaźnikowe",null,null,null,null,null,null,null,{"$f":"J2143","v":0}]
[null,"nazwa łacińska",null,"nazwa polska",null,null,"walor ",null,null,{"$f":"SUM(J2144:J2155)","v":0}]
[null,{"$f":"OFFSET(listy_slownikowe!$AG$2,I2144,0)","v":" "},null,null,null,null,{"$f":"OFFSET(listy_slownikowe!$AI$2,I2144,0)","v":" "},null,{"$f":"IFERROR(MATCH(D2144,listy_slownikowe!$AH$3:$AH$326,0),0)","v":0},{"$f":"I2144","v":0}]
[null,{"$f":"OFFSET(listy_slownikowe!$AG$2,I2145,0)","v":" "},null,null,null,null,{"$f":"OFFSET(listy_slownikowe!$AI$2,I2145,0)","v":" "},null,{"$f":"IFERROR(MATCH(D2145,listy_slownikowe!$AH$3:$AH$326,0),0)","v":0},{"$f":"I2145","v":0}]
[null,{"$f":"OFFSET(listy_slownikowe!$AG$2,I2146,0)","v":" "},null,null,null,null,{"$f":"OFFSET(listy_slownikowe!$AI$2,I2146,0)","v":" "},null,{"$f":"IFERROR(MATCH(D2146,listy_slownikowe!$AH$3:$AH$326,0),0)","v":0},0]
[null,{"$f":"OFFSET(listy_slownikowe!$AG$2,I2147,0)","v":" "},null,null,null,null,{"$f":"OFFSET(listy_slownikowe!$AI$2,I2147,0)","v":" "},null,{"$f":"IFERROR(MATCH(D2147,listy_slownikowe!$AH$3:$AH$326,0),0)","v":0},0]
[null,{"$f":"OFFSET(listy_slownikowe!$AG$2,I2148,0)","v":" "},null,null,null,null,{"$f":"OFFSET(listy_slownikowe!$AI$2,I2148,0)","v":" "},null,{"$f":"IFERROR(MATCH(D2148,listy_slownikowe!$AH$3:$AH$326,0),0)","v":0},0]
[null,{"$f":"OFFSET(listy_slownikowe!$AG$2,I2149,0)","v":" "},null,null,null,null,{"$f":"OFFSET(listy_slownikowe!$AI$2,I2149,0)","v":" "},null,{"$f":"IFERROR(MATCH(D2149,listy_slownikowe!$AH$3:$AH$326,0),0)","v":0},0]
[null,{"$f":"OFFSET(listy_slownikowe!$AG$2,I2150,0)","v":" "},null,null,null,null,{"$f":"OFFSET(listy_slownikowe!$AI$2,I2150,0)","v":" "},null,{"$f":"IFERROR(MATCH(D2150,listy_slownikowe!$AH$3:$AH$326,0),0)","v":0},0]
[null,{"$f":"OFFSET(listy_slownikowe!$AG$2,I2151,0)","v":" "},null,null,null,null,{"$f":"OFFSET(listy_slownikowe!$AI$2,I2151,0)","v":" "},null,{"$f":"IFERROR(MATCH(D2151,listy_slownikowe!$AH$3:$AH$326,0),0)","v":0},0]
[null,{"$f":"OFFSET(listy_slownikowe!$AG$2,I2152,0)","v":" "},null,null,null,null,{"$f":"OFFSET(listy_slownikowe!$AI$2,I2152,0)","v":" "},null,{"$f":"IFERROR(MATCH(D2152,listy_slownikowe!$AH$3:$AH$326,0),0)","v":0},0]
[null,{"$f":"OFFSET(listy_slownikowe!$AG$2,I2153,0)","v":" "},null,null,null,null,{"$f":"OFFSET(listy_slownikowe!$AI$2,I2153,0)","v":" "},null,{"$f":"IFERROR(MATCH(D2153,listy_slownikowe!$AH$3:$AH$326,0),0)","v":0},0]
[null,{"$f":"OFFSET(listy_slownikowe!$AG$2,I2154,0)","v":" "},null,"",null,null,{"$f":"OFFSET(listy_slownikowe!$AI$2,I2154,0)","v":" "},null,{"$f":"IFERROR(MATCH(D2154,listy_slownikowe!$AH$3:$AH$326,0),0)","v":0},0]
[null,{"$f":"OFFSET(listy_slownikowe!$AG$2,I2155,0)","v":" "},null,null,null,null,{"$f":"OFFSET(listy_slownikowe!$AI$2,I2155,0)","v":" "},null,{"$f":"IFERROR(MATCH(D2155,listy_slownikowe!$AH$3:$AH$326,0),0)","v":0},0]
[null,"Gatunki dominujące i subdominujące",null,null,null,null,null,null,null,{"$f":"J2157","v":0}]
[null,"nazwa łacińska",null,"nazwa polska",null,null,"udział [%]",null,null,{"$f":"SUM(J2158:J2162)","v":0}]
[null,null,null,null,null,null,null,null,null,{"$f":"COUNTA(B2158:G2158)","v":0}]
[null,null,null,null,null,null,null,null,null,0]
[null,null,null,null,null,null,null,null,null,0]
[null,null,null,null,null,null,null,null,null,0]
[null,null,null,null,null,null,null,null,null,0]
[]
[null,"Spis gatunków numer:",null,null,null,null,{"$f":"G2137+1","v":81},null,null,{"$f":"J2168","v":0}]
[null,"Współrzędne geograficzne",null,null,null,null,null,null,null,{"$f":"J2169","v":0}]
[null,"Długość geograficzna [E] ",null,null,"Szerokość geograficzna [N]",null,null,null,null,{"$f":"J2169","v":0}]
[null,"stopnie","minuty","sekundy","stopnie","minuty","sekundy",null,null,{"$f":"J2168","v":0}]
[null,null,null,null,null,null,null,null,null,{"$f":"J2170+J2184","v":0}]
[null,"Gatunki wskaźnikowe",null,null,null,null,null,null,null,{"$f":"J2170","v":0}]
[null,"nazwa łacińska",null,"nazwa polska",null,null,"walor ",null,null,{"$f":"SUM(J2171:J2182)","v":0}]
[null,{"$f":"OFFSET(listy_slownikowe!$AG$2,I2171,0)","v":" "},null,null,null,null,{"$f":"OFFSET(listy_slownikowe!$AI$2,I2171,0)","v":" "},null,{"$f":"IFERROR(MATCH(D2171,listy_slownikowe!$AH$3:$AH$326,0),0)","v":0},{"$f":"I2171","v":0}]
[null,{"$f":"OFFSET(listy_slownikowe!$AG$2,I2172,0)","v":" "},null,null,null,null,{"$f":"OFFSET(listy_slownikowe!$AI$2,I2172,0)","v":" "},null,{"$f":"IFERROR(MATCH(D2172,listy_slownikowe!$AH$3:$AH$326,0),0)","v":0},{"$f":"I2172","v":0}]
[null,{"$f":"OFFSET(listy_slownikowe!$AG$2,I2173,0)","v":" "},null,null,null,null,{"$f":"OFFSET(listy_slownikowe!$AI$2,I2173,0)","v":" "},null,{"$f":"IFERROR(MATCH(D2173,listy_slownikowe!$AH$3:$AH$326,0),0)","v":0},0]
[null,{"$f":"OFFSET(listy_slownikowe!$AG$2,I2174,0)","v":" "},null,null,null,null,{"$f":"OFFSET(listy_slownikowe!$AI$2,I2174,0)","v":" "},null,{"$f":"IFERROR(MATCH(D2174,listy_slownikowe!$AH$3:$AH$326,0),0)","v":0},0]
[null,{"$f":"OFFSET(listy_slownikowe!$AG$2,I2175,0)","v":" "},null,null,null,null,{"$f":"OFFSET(listy_slownikowe!$AI$2,I2175,0)","v":" "},null,{"$f":"IFERROR(MATCH(D2175,listy_slownikowe!$AH$3:$AH$326,0),0)","v":0},0]
[null,{"$f":"OFFSET(listy_slownikowe!$AG$2,I2176,0)","v":" "},null,null,null,null,{"$f":"OFFSET(listy_slownikowe!$AI$2,I2176,0)","v":" "},null,{"$f":"IFERROR(MATCH(D2176,listy_slownikowe!$AH$3:$AH$326,0),0)","v":0},0]
[null,{"$f":"OFFSET(listy_slownikowe!$AG$2,I2177,0)","v":" "},null,null,null,null,{"$f":"OFFSET(listy_slownikowe!$AI$2,I2177,0)","v":" "},null,{"$f":"IFERROR(MATCH(D2177,listy_slownikowe!$AH$3:$AH$326,0),0)","v":0},0]
[null,{"$f":"OFFSET(listy_slownikowe!$AG$2,I2178,0)","v":" "},null,null,null,null,{"$f":"OFFSET(listy_slownikowe!$AI$2,I2178,0)","v":" "},null,{"$f":"IFERROR(MATCH(D2178,listy_slownikowe!$AH$3:$AH$326,0),0)","v":0},0]
[null,{"$f":"OFFSET(listy_slownikowe!$AG$2,I2179,0)","v":" "},null,null,null,null,{"$f":"OFFSET(listy_slownikowe!$AI$2,I2179,0)","v":" "},null,{"$f":"IFERROR(MATCH(D2179,listy_slownikowe!$AH$3:$AH$326,0),0)","v":0},0]
[null,{"$f":"OFFSET(listy_slownikowe!$AG$2,I2180,0)","v":" "},null,null,null,null,{"$f":"OFFSET(listy_slownikowe!$AI$2,I2180,0)","v":" "},null,{"$f":"IFERROR(MATCH(D2180,listy_slownikowe!$AH$3:$AH$326,0),0)","v":0},0]
[null,{"$f":"OFFSET(listy_slownikowe!$AG$2,I2181,0)","v":" "},null,"",null,null,{"$f":"OFFSET(listy_slownikowe!$AI$2,I2181,0)","v":" "},null,{"$f":"IFERROR(MATCH(D2181,listy_slownikowe!$AH$3:$AH$326,0),0)","v":0},0]
[null,{"$f":"OFFSET(listy_slownikowe!$AG$2,I2182,0)","v":" "},null,null,null,null,{"$f":"OFFSET(listy_slownikowe!$AI$2,I2182,0)","v":" "},null,{"$f":"IFERROR(MATCH(D2182,listy_slownikowe!$AH$3:$AH$326,0),0)","v":0},0]
[null,"Gatunki dominujące i subdominujące",null,null,null,null,null,null,null,{"$f":"J2184","v":0}]
[null,"nazwa łacińska",null,"nazwa polska",null,null,"udział [%]",null,null,{"$f":"SUM(J2185:J2189)","v":0}]
[null,null,null,null,null,null,null,null,null,{"$f":"COUNTA(B2185:G2185)","v":0}]
[null,null,null,null,null,null,null,null,null,0]
[null,null,null,null,null,null,null,null,null,0]
[null,null,null,null,null,null,null,null,null,0]
[null,null,null,null,null,null,null,null,null,0]
[]
[null,"Spis gatunków numer:",null,null,null,null,{"$f":"G2164+1","v":82},null,null,{"$f":"J2195","v":0}]
[null,"Współrzędne geograficzne",null,null,null,null,null,null,null,{"$f":"J2196","v":0}]
[null,"Długość geograficzna [E] ",null,null,"Szerokość geograficzna [N]",null,null,null,null,{"$f":"J2196","v":0}]
[null,"stopnie","minuty","sekundy","stopnie","minuty","sekundy",null,null,{"$f":"J2195","v":0}]
[null,null,null,null,null,null,null,null,null,{"$f":"J2197+J2211","v":0}]
[null,"Gatunki wskaźnikowe",null,null,null,null,null,null,null,{"$f":"J2197","v":0}]
[null,"nazwa łacińska",null,"nazwa polska",null,null,"walor ",null,null,{"$f":"SUM(J2198:J2209)","v":0}]
[null,{"$f":"OFFSET(listy_slownikowe!$AG$2,I2198,0)","v":" "},null,null,null,null,{"$f":"OFFSET(listy_slownikowe!$AI$2,I2198,0)","v":" "},null,{"$f":"IFERROR(MATCH(D2198,listy_slownikowe!$AH$3:$AH$326,0),0)","v":0},{"$f":"I2198","v":0}]
[null,{"$f":"OFFSET(listy_slownikowe!$AG$2,I2199,0)","v":" "},null,null,null,null,{"$f":"OFFSET(listy_slownikowe!$AI$2,I2199,0)","v":" "},null,{"$f":"IFERROR(MATCH(D2199,listy_slownikowe!$AH$3:$AH$326,0),0)","v":0},{"$f":"I2199","v":0}]
[null,{"$f":"OFFSET(listy_slownikowe!$AG$2,I2200,0)","v":" "},null,null,null,null,{"$f":"OFFSET(listy_slownikowe!$AI$2,I2200,0)","v":" "},null,{"$f":"IFERROR(MATCH(D2200,listy_slownikowe!$AH$3:$AH$326,0),0)","v":0},0]
[null,{"$f":"OFFSET(listy_slownikowe!$AG$2,I2201,0)","v":" "},null,null,null,null,{"$f":"OFFSET(listy_slownikowe!$AI$2,I2201,0)","v":" "},null,{"$f":"IFERROR(MATCH(D2201,listy_slownikowe!$AH$3:$AH$326,0),0)","v":0},0]
[null,{"$f":"OFFSET(listy_slownikowe!$AG$2,I2202,0)","v":" "},null,null,null,null,{"$f":"OFFSET(listy_slownikowe!$AI$2,I2202,0)","v":" "},null,{"$f":"IFERROR(MATCH(D2202,listy_slownikowe!$AH$3:$AH$326,0),0)","v":0},0]
[null,{"$f":"OFFSET(listy_slownikowe!$AG$2,I2203,0)","v":" "},null,null,null,null,{"$f":"OFFSET(listy_slownikowe!$AI$2,I2203,0)","v":" "},null,{"$f":"IFERROR(MATCH(D2203,listy_slownikowe!$AH$3:$AH$326,0),0)","v":0},0]
[null,{"$f":"OFFSET(listy_slownikowe!$AG$2,I2204,0)","v":" "},null,null,null,null,{"$f":"OFFSET(listy_slownikowe!$AI$2,I2204,0)","v":" "},null,{"$f":"IFERROR(MATCH(D2204,listy_slownikowe!$AH$3:$AH$326,0),0)","v":0},0]
[null,{"$f":"OFFSET(listy_slownikowe!$AG$2,I2205,0)","v":" "},null,null,null,null,{"$f":"OFFSET(listy_slownikowe!$AI$2,I2205,0)","v":" "},null,{"$f":"IFERROR(MATCH(D2205,listy_slownikowe!$AH$3:$AH$326,0),0)","v":0},0]
[null,{"$f":"OFFSET(listy_slownikowe!$AG$2,I2206,0)","v":" "},null,null,null,null,{"$f":"OFFSET(listy_slownikowe!$AI$2,I2206,0)","v":" "},null,{"$f":"IFERROR(MATCH(D2206,listy_slownikowe!$AH$3:$AH$326,0),0)","v":0},0]
[null,{"$f":"OFFSET(listy_slownikowe!$AG$2,I2207,0)","v":" "},null,null,null,null,{"$f":"OFFSET(listy_slownikowe!$AI$2,I2207,0)","v":" "},null,{"$f":"IFERROR(MATCH(D2207,listy_slownikowe!$AH$3:$AH$326,0),0)","v":0},0]
[null,{"$f":"OFFSET(listy_slownikowe!$AG$2,I2208,0)","v":" "},null,"",null,null,{"$f":"OFFSET(listy_slownikowe!$AI$2,I2208,0)","v":" "},null,{"$f":"IFERROR(MATCH(D2208,listy_slownikowe!$AH$3:$AH$326,0),0)","v":0},0]
[null,{"$f":"OFFSET(listy_slownikowe!$AG$2,I2209,0)","v":" "},null,null,null,null,{"$f":"OFFSET(listy_slownikowe!$AI$2,I2209,0)","v":" "},null,{"$f":"IFERROR(MATCH(D2209,listy_slownikowe!$AH$3:$AH$326,0),0)","v":0},0]
[null,"Gatunki dominujące i subdominujące",null,null,null,null,null,null,null,{"$f":"J2211","v":0}]
[null,"nazwa łacińska",null,"nazwa polska",null,null,"udział [%]",null,null,{"$f":"SUM(J2212:J2216)","v":0}]
[null,null,null,null,null,null,null,null,null,{"$f":"COUNTA(B2212:G2212)","v":0}]
[null,null,null,null,null,null,null,null,null,0]
[null,null,null,null,null,null,null,null,null,0]
[null,null,null,null,null,null,null,null,null,0]
[null,null,null,null,null,null,null,null,null,0]
[]
[null,"Spis gatunków numer:",null,null,null,null,{"$f":"G2191+1","v":83},null,null,{"$f":"J2222","v":0}]
[null,"Współrzędne geograficzne",null,null,null,null,null,null,null,{"$f":"J2223","v":0}]
[null,"Długość geograficzna [E] ",null,null,"Szerokość geograficzna [N]",null,null,null,null,{"$f":"J2223","v":0}]
[null,"stopnie","minuty","sekundy","stopnie","minuty","sekundy",null,null,{"$f":"J2222","v":0}]
[null,null,null,null,null,null,null,null,null,{"$f":"J2224+J2238","v":0}]
[null,"Gatunki wskaźnikowe",null,null,null,null,null,null,null,{"$f":"J2224","v":0}]
[null,"nazwa łacińska",null,"nazwa polska",null,null,"walor ",null,null,{"$f":"SUM(J2225:J2236)","v":0}]
[null,{"$f":"OFFSET(listy_slownikowe!$AG$2,I2225,0)","v":" "},null,null,null,null,{"$f":"OFFSET(listy_slownikowe!$AI$2,I2225,0)","v":" "},null,{"$f":"IFERROR(MATCH(D2225,listy_slownikowe!$AH$3:$AH$326,0),0)","v":0},{"$f":"I2225","v":0}]
[null,{"$f":"OFFSET(listy_slownikowe!$AG$2,I2226,0)","v":" "},null,null,null,null,{"$f":"OFFSET(listy_slownikowe!$AI$2,I2226,0)","v":" "},null,{"$f":"IFERROR(MATCH(D2226,listy_slownikowe!$AH$3:$AH$326,0),0)","v":0},{"$f":"I2226","v":0}]
[null,{"$f":"OFFSET(listy_slownikowe!$AG$2,I2227,0)","v":" "},null,null,null,null,{"$f":"OFFSET(listy_slownikowe!$AI$2,I2227,0)","v":" "},null,{"$f":"IFERROR(MATCH(D2227,listy_slownikowe!$AH$3:$AH$326,0),0)","v":0},0]
[null,{"$f":"OFFSET(listy_slownikowe!$AG$2,I2228,0)","v":" "},null,null,null,null,{"$f":"OFFSET(listy_slownikowe!$AI$2,I2228,0)","v":" "},null,{"$f":"IFERROR(MATCH(D2228,listy_slownikowe!$AH$3:$AH$326,0),0)","v":0},0]
[null,{"$f":"OFFSET(listy_slownikowe!$AG$2,I2229,0)","v":" "},null,null,null,null,{"$f":"OFFSET(listy_slownikowe!$AI$2,I2229,0)","v":" "},null,{"$f":"IFERROR(MATCH(D2229,listy_slownikowe!$AH$3:$AH$326,0),0)","v":0},0]
[null,{"$f":"OFFSET(listy_slownikowe!$AG$2,I2230,0)","v":" "},null,null,null,null,{"$f":"OFFSET(listy_slownikowe!$AI$2,I2230,0)","v":" "},null,{"$f":"IFERROR(MATCH(D2230,listy_slownikowe!$AH$3:$AH$326,0),0)","v":0},0]
[null,{"$f":"OFFSET(listy_slownikowe!$AG$2,I2231,0)","v":" "},null,null,null,null,{"$f":"OFFSET(listy_slownikowe!$AI$2,I2231,0)","v":" "},null,{"$f":"IFERROR(MATCH(D2231,listy_slownikowe!$AH$3:$AH$326,0),0)","v":0},0]
[null,{"$f":"OFFSET(listy_slownikowe!$AG$2,I2232,0)","v":" "},null,null,null,null,{"$f":"OFFSET(listy_slownikowe!$AI$2,I2232,0)","v":" "},null,{"$f":"IFERROR(MATCH(D2232,listy_slownikowe!$AH$3:$AH$326,0),0)","v":0},0]
[null,{"$f":"OFFSET(listy_slownikowe!$AG$2,I2233,0)","v":" "},null,null,null,null,{"$f":"OFFSET(listy_slownikowe!$AI$2,I2233,0)","v":" "},null,{"$f":"IFERROR(MATCH(D2233,listy_slownikowe!$AH$3:$AH$326,0),0)","v":0},0]
[null,{"$f":"OFFSET(listy_slownikowe!$AG$2,I2234,0)","v":" "},null,null,null,null,{"$f":"OFFSET(listy_slownikowe!$AI$2,I2234,0)","v":" "},null,{"$f":"IFERROR(MATCH(D2234,listy_slownikowe!$AH$3:$AH$326,0),0)","v":0},0]
[null,{"$f":"OFFSET(listy_slownikowe!$AG$2,I2235,0)","v":" "},null,"",null,null,{"$f":"OFFSET(listy_slownikowe!$AI$2,I2235,0)","v":" "},null,{"$f":"IFERROR(MATCH(D2235,listy_slownikowe!$AH$3:$AH$326,0),0)","v":0},0]
[null,{"$f":"OFFSET(listy_slownikowe!$AG$2,I2236,0)","v":" "},null,null,null,null,{"$f":"OFFSET(listy_slownikowe!$AI$2,I2236,0)","v":" "},null,{"$f":"IFERROR(MATCH(D2236,listy_slownikowe!$AH$3:$AH$326,0),0)","v":0},0]
[null,"Gatunki dominujące i subdominujące",null,null,null,null,null,null,null,{"$f":"J2238","v":0}]
[null,"nazwa łacińska",null,"nazwa polska",null,null,"udział [%]",null,null,{"$f":"SUM(J2239:J2243)","v":0}]
[null,null,null,null,null,null,null,null,null,{"$f":"COUNTA(B2239:G2239)","v":0}]
[null,null,null,null,null,null,null,null,null,0]
[null,null,null,null,null,null,null,null,null,0]
[null,null,null,null,null,null,null,null,null,0]
[null,null,null,null,null,null,null,null,null,0]
[]
[null,"Spis gatunków numer:",null,null,null,null,{"$f":"G2218+1","v":84},null,null,{"$f":"J2249","v":0}]
[null,"Współrzędne geograficzne",null,null,null,null,null,null,null,{"$f":"J2250","v":0}]
[null,"Długość geograficzna [E] ",null,null,"Szerokość geograficzna [N]",null,null,null,null,{"$f":"J2250","v":0}]
[null,"stopnie","minuty","sekundy","stopnie","minuty","sekundy",null,null,{"$f":"J2249","v":0}]
[null,null,null,null,null,null,null,null,null,{"$f":"J2251+J2265","v":0}]
[null,"Gatunki wskaźnikowe",null,null,null,null,null,null,null,{"$f":"J2251","v":0}]
[null,"nazwa łacińska",null,"nazwa polska",null,null,"walor ",null,null,{"$f":"SUM(J2252:J2263)","v":0}]
[null,{"$f":"OFFSET(listy_slownikowe!$AG$2,I2252,0)","v":" "},null,null,null,null,{"$f":"OFFSET(listy_slownikowe!$AI$2,I2252,0)","v":" "},null,{"$f":"IFERROR(MATCH(D2252,listy_slownikowe!$AH$3:$AH$326,0),0)","v":0},{"$f":"I2252","v":0}]
[null,{"$f":"OFFSET(listy_slownikowe!$AG$2,I2253,0)","v":" "},null,null,null,null,{"$f":"OFFSET(listy_slownikowe!$AI$2,I2253,0)","v":" "},null,{"$f":"IFERROR(MATCH(D2253,listy_slownikowe!$AH$3:$AH$326,0),0)","v":0},{"$f":"I2253","v":0}]
[null,{"$f":"OFFSET(listy_slownikowe!$AG$2,I2254,0)","v":" "},null,null,null,null,{"$f":"OFFSET(listy_slownikowe!$AI$2,I2254,0)","v":" "},null,{"$f":"IFERROR(MATCH(D2254,listy_slownikowe!$AH$3:$AH$326,0),0)","v":0},0]
[null,{"$f":"OFFSET(listy_slownikowe!$AG$2,I2255,0)","v":" "},null,null,null,null,{"$f":"OFFSET(listy_slownikowe!$AI$2,I2255,0)","v":" "},null,{"$f":"IFERROR(MATCH(D2255,listy_slownikowe!$AH$3:$AH$326,0),0)","v":0},0]
[null,{"$f":"OFFSET(listy_slownikowe!$AG$2,I2256,0)","v":" "},null,null,null,null,{"$f":"OFFSET(listy_slownikowe!$AI$2,I2256,0)","v":" "},null,{"$f":"IFERROR(MATCH(D2256,listy_slownikowe!$AH$3:$AH$326,0),0)","v":0},0]
[null,{"$f":"OFFSET(listy_slownikowe!$AG$2,I2257,0)","v":" "},null,null,null,null,{"$f":"OFFSET(listy_slownikowe!$AI$2,I2257,0)","v":" "},null,{"$f":"IFERROR(MATCH(D2257,listy_slownikowe!$AH$3:$AH$326,0),0)","v":0},0]
[null,{"$f":"OFFSET(listy_slownikowe!$AG$2,I2258,0)","v":" "},null,null,null,null,{"$f":"OFFSET(listy_slownikowe!$AI$2,I2258,0)","v":" "},null,{"$f":"IFERROR(MATCH(D2258,listy_slownikowe!$AH$3:$AH$326,0),0)","v":0},0]
[null,{"$f":"OFFSET(listy_slownikowe!$AG$2,I2259,0)","v":" "},null,null,null,null,{"$f":"OFFSET(listy_slownikowe!$AI$2,I2259,0)","v":" "},null,{"$f":"IFERROR(MATCH(D2259,listy_slownikowe!$AH$3:$AH$326,0),0)","v":0},0]
[null,{"$f":"OFFSET(listy_slownikowe!$AG$2,I2260,0)","v":" "},null,null,null,null,{"$f":"OFFSET(listy_slownikowe!$AI$2,I2260,0)","v":" "},null,{"$f":"IFERROR(MATCH(D2260,listy_slownikowe!$AH$3:$AH$326,0),0)","v":0},0]
[null,{"$f":"OFFSET(listy_slownikowe!$AG$2,I2261,0)","v":" "},null,null,null,null,{"$f":"OFFSET(listy_slownikowe!$AI$2,I2261,0)","v":" "},null,{"$f":"IFERROR(MATCH(D2261,listy_slownikowe!$AH$3:$AH$326,0),0)","v":0},0]
[null,{"$f":"OFFSET(listy_slownikowe!$AG$2,I2262,0)","v":" "},null,"",null,null,{"$f":"OFFSET(listy_slownikowe!$AI$2,I2262,0)","v":" "},null,{"$f":"IFERROR(MATCH(D2262,listy_slownikowe!$AH$3:$AH$326,0),0)","v":0},0]
[null,{"$f":"OFFSET(listy_slownikowe!$AG$2,I2263,0)","v":" "},null,null,null,null,{"$f":"OFFSET(listy_slownikowe!$AI$2,I2263,0)","v":" "},null,{"$f":"IFERROR(MATCH(D2263,listy_slownikowe!$AH$3:$AH$326,0),0)","v":0},0]
[null,"Gatunki dominujące i subdominujące",null,null,null,null,null,null,null,{"$f":"J2265","v":0}]
[null,"nazwa łacińska",null,"nazwa polska",null,null,"udział [%]",null,null,{"$f":"SUM(J2266:J2270)","v":0}]
[null,null,null,null,null,null,null,null,null,{"$f":"COUNTA(B2266:G2266)","v":0}]
[null,null,null,null,null,null,null,null,null,0]
[null,null,null,null,null,null,null,null,null,0]
[null,null,null,null,null,null,null,null,null,0]
[null,null,null,null,null,null,null,null,null,0]
[]
[null,"Spis gatunków numer:",null,null,null,null,{"$f":"G2245+1","v":85},null,null,{"$f":"J2276","v":0}]
[null,"Współrzędne geograficzne",null,null,null,null,null,null,null,{"$f":"J2277","v":0}]
[null,"Długość geograficzna [E] ",null,null,"Szerokość geograficzna [N]",null,null,null,null,{"$f":"J2277","v":0}]
[null,"stopnie","minuty","sekundy","stopnie","minuty","sekundy",null,null,{"$f":"J2276","v":0}]
[null,null,null,null,null,null,null,null,null,{"$f":"J2278+J2292","v":0}]
[null,"Gatunki wskaźnikowe",null,null,null,null,null,null,null,{"$f":"J2278","v":0}]
[null,"nazwa łacińska",null,"nazwa polska",null,null,"walor ",null,null,{"$f":"SUM(J2279:J2290)","v":0}]
[null,{"$f":"OFFSET(listy_slownikowe!$AG$2,I2279,0)","v":" "},null,null,null,null,{"$f":"OFFSET(listy_slownikowe!$AI$2,I2279,0)","v":" "},null,{"$f":"IFERROR(MATCH(D2279,listy_slownikowe!$AH$3:$AH$326,0),0)","v":0},{"$f":"I2279","v":0}]
[null,{"$f":"OFFSET(listy_slownikowe!$AG$2,I2280,0)","v":" "},null,null,null,null,{"$f":"OFFSET(listy_slownikowe!$AI$2,I2280,0)","v":" "},null,{"$f":"IFERROR(MATCH(D2280,listy_slownikowe!$AH$3:$AH$326,0),0)","v":0},{"$f":"I2280","v":0}]
[null,{"$f":"OFFSET(listy_slownikowe!$AG$2,I2281,0)","v":" "},null,null,null,null,{"$f":"OFFSET(listy_slownikowe!$AI$2,I2281,0)","v":" "},null,{"$f":"IFERROR(MATCH(D2281,listy_slownikowe!$AH$3:$AH$326,0),0)","v":0},0]
[null,{"$f":"OFFSET(listy_slownikowe!$AG$2,I2282,0)","v":" "},null,null,null,null,{"$f":"OFFSET(listy_slownikowe!$AI$2,I2282,0)","v":" "},null,{"$f":"IFERROR(MATCH(D2282,listy_slownikowe!$AH$3:$AH$326,0),0)","v":0},0]
[null,{"$f":"OFFSET(listy_slownikowe!$AG$2,I2283,0)","v":" "},null,null,null,null,{"$f":"OFFSET(listy_slownikowe!$AI$2,I2283,0)","v":" "},null,{"$f":"IFERROR(MATCH(D2283,listy_slownikowe!$AH$3:$AH$326,0),0)","v":0},0]
[null,{"$f":"OFFSET(listy_slownikowe!$AG$2,I2284,0)","v":" "},null,null,null,null,{"$f":"OFFSET(listy_slownikowe!$AI$2,I2284,0)","v":" "},null,{"$f":"IFERROR(MATCH(D2284,listy_slownikowe!$AH$3:$AH$326,0),0)","v":0},0]
[null,{"$f":"OFFSET(listy_slownikowe!$AG$2,I2285,0)","v":" "},null,null,null,null,{"$f":"OFFSET(listy_slownikowe!$AI$2,I2285,0)","v":" "},null,{"$f":"IFERROR(MATCH(D2285,listy_slownikowe!$AH$3:$AH$326,0),0)","v":0},0]
[null,{"$f":"OFFSET(listy_slownikowe!$AG$2,I2286,0)","v":" "},null,null,null,null,{"$f":"OFFSET(listy_slownikowe!$AI$2,I2286,0)","v":" "},null,{"$f":"IFERROR(MATCH(D2286,listy_slownikowe!$AH$3:$AH$326,0),0)","v":0},0]
[null,{"$f":"OFFSET(listy_slownikowe!$AG$2,I2287,0)","v":" "},null,null,null,null,{"$f":"OFFSET(listy_slownikowe!$AI$2,I2287,0)","v":" "},null,{"$f":"IFERROR(MATCH(D2287,listy_slownikowe!$AH$3:$AH$326,0),0)","v":0},0]
[null,{"$f":"OFFSET(listy_slownikowe!$AG$2,I2288,0)","v":" "},null,null,null,null,{"$f":"OFFSET(listy_slownikowe!$AI$2,I2288,0)","v":" "},null,{"$f":"IFERROR(MATCH(D2288,listy_slownikowe!$AH$3:$AH$326,0),0)","v":0},0]
[null,{"$f":"OFFSET(listy_slownikowe!$AG$2,I2289,0)","v":" "},null,"",null,null,{"$f":"OFFSET(listy_slownikowe!$AI$2,I2289,0)","v":" "},null,{"$f":"IFERROR(MATCH(D2289,listy_slownikowe!$AH$3:$AH$326,0),0)","v":0},0]
[null,{"$f":"OFFSET(listy_slownikowe!$AG$2,I2290,0)","v":" "},null,null,null,null,{"$f":"OFFSET(listy_slownikowe!$AI$2,I2290,0)","v":" "},null,{"$f":"IFERROR(MATCH(D2290,listy_slownikowe!$AH$3:$AH$326,0),0)","v":0},0]
[null,"Gatunki dominujące i subdominujące",null,null,null,null,null,null,null,{"$f":"J2292","v":0}]
[null,"nazwa łacińska",null,"nazwa polska",null,null,"udział [%]",null,null,{"$f":"SUM(J2293:J2297)","v":0}]
[null,null,null,null,null,null,null,null,null,{"$f":"COUNTA(B2293:G2293)","v":0}]
[null,null,null,null,null,null,null,null,null,0]
[null,null,null,null,null,null,null,null,null,0]
[null,null,null,null,null,null,null,null,null,0]
[null,null,null,null,null,null,null,null,null,0]
[]
[null,"Spis gatunków numer:",null,null,null,null,{"$f":"G2272+1","v":86},null,null,{"$f":"J2303","v":0}]
[null,"Współrzędne geograficzne",null,null,null,null,null,null,null,{"$f":"J2304","v":0}]
[null,"Długość geograficzna [E] ",null,null,"Szerokość geograficzna [N]",null,null,null,null,{"$f":"J2304","v":0}]
[null,"stopnie","minuty","sekundy","stopnie","minuty","sekundy",null,null,{"$f":"J2303","v":0}]
[null,null,null,null,null,null,null,null,null,{"$f":"J2305+J2319","v":0}]
[null,"Gatunki wskaźnikowe",null,null,null,null,null,null,null,{"$f":"J2305","v":0}]
[null,"nazwa łacińska",null,"nazwa polska",null,null,"walor ",null,null,{"$f":"SUM(J2306:J2317)","v":0}]
[null,{"$f":"OFFSET(listy_slownikowe!$AG$2,I2306,0)","v":" "},null,null,null,null,{"$f":"OFFSET(listy_slownikowe!$AI$2,I2306,0)","v":" "},null,{"$f":"IFERROR(MATCH(D2306,listy_slownikowe!$AH$3:$AH$326,0),0)","v":0},{"$f":"I2306","v":0}]
[null,{"$f":"OFFSET(listy_slownikowe!$AG$2,I2307,0)","v":" "},null,null,null,null,{"$f":"OFFSET(listy_slownikowe!$AI$2,I2307,0)","v":" "},null,{"$f":"IFERROR(MATCH(D2307,listy_slownikowe!$AH$3:$AH$326,0),0)","v":0},{"$f":"I2307","v":0}]
[null,{"$f":"OFFSET(listy_slownikowe!$AG$2,I2308,0)","v":" "},null,null,null,null,{"$f":"OFFSET(listy_slownikowe!$AI$2,I2308,0)","v":" "},null,{"$f":"IFERROR(MATCH(D2308,listy_slownikowe!$AH$3:$AH$326,0),0)","v":0},0]
[null,{"$f":"OFFSET(listy_slownikowe!$AG$2,I2309,0)","v":" "},null,null,null,null,{"$f":"OFFSET(listy_slownikowe!$AI$2,I2309,0)","v":" "},null,{"$f":"IFERROR(MATCH(D2309,listy_slownikowe!$AH$3:$AH$326,0),0)","v":0},0]
[null,{"$f":"OFFSET(listy_slownikowe!$AG$2,I2310,0)","v":" "},null,null,null,null,{"$f":"OFFSET(listy_slownikowe!$AI$2,I2310,0)","v":" "},null,{"$f":"IFERROR(MATCH(D2310,listy_slownikowe!$AH$3:$AH$326,0),0)","v":0},0]
[null,{"$f":"OFFSET(listy_slownikowe!$AG$2,I2311,0)","v":" "},null,null,null,null,{"$f":"OFFSET(listy_slownikowe!$AI$2,I2311,0)","v":" "},null,{"$f":"IFERROR(MATCH(D2311,listy_slownikowe!$AH$3:$AH$326,0),0)","v":0},0]
[null,{"$f":"OFFSET(listy_slownikowe!$AG$2,I2312,0)","v":" "},null,null,null,null,{"$f":"OFFSET(listy_slownikowe!$AI$2,I2312,0)","v":" "},null,{"$f":"IFERROR(MATCH(D2312,listy_slownikowe!$AH$3:$AH$326,0),0)","v":0},0]
[null,{"$f":"OFFSET(listy_slownikowe!$AG$2,I2313,0)","v":" "},null,null,null,null,{"$f":"OFFSET(listy_slownikowe!$AI$2,I2313,0)","v":" "},null,{"$f":"IFERROR(MATCH(D2313,listy_slownikowe!$AH$3:$AH$326,0),0)","v":0},0]
[null,{"$f":"OFFSET(listy_slownikowe!$AG$2,I2314,0)","v":" "},null,null,null,null,{"$f":"OFFSET(listy_slownikowe!$AI$2,I2314,0)","v":" "},null,{"$f":"IFERROR(MATCH(D2314,listy_slownikowe!$AH$3:$AH$326,0),0)","v":0},0]
[null,{"$f":"OFFSET(listy_slownikowe!$AG$2,I2315,0)","v":" "},null,null,null,null,{"$f":"OFFSET(listy_slownikowe!$AI$2,I2315,0)","v":" "},null,{"$f":"IFERROR(MATCH(D2315,listy_slownikowe!$AH$3:$AH$326,0),0)","v":0},0]
[null,{"$f":"OFFSET(listy_slownikowe!$AG$2,I2316,0)","v":" "},null,"",null,null,{"$f":"OFFSET(listy_slownikowe!$AI$2,I2316,0)","v":" "},null,{"$f":"IFERROR(MATCH(D2316,listy_slownikowe!$AH$3:$AH$326,0),0)","v":0},0]
[null,{"$f":"OFFSET(listy_slownikowe!$AG$2,I2317,0)","v":" "},null,null,null,null,{"$f":"OFFSET(listy_slownikowe!$AI$2,I2317,0)","v":" "},null,{"$f":"IFERROR(MATCH(D2317,listy_slownikowe!$AH$3:$AH$326,0),0)","v":0},0]
[null,"Gatunki dominujące i subdominujące",null,null,null,null,null,null,null,{"$f":"J2319","v":0}]
[null,"nazwa łacińska",null,"nazwa polska",null,null,"udział [%]",null,null,{"$f":"SUM(J2320:J2324)","v":0}]
[null,null,null,null,null,null,null,null,null,{"$f":"COUNTA(B2320:G2320)","v":0}]
[null,null,null,null,null,null,null,null,null,0]
[null,null,null,null,null,null,null,null,null,0]
[null,null,null,null,null,null,null,null,null,0]
[null,null,null,null,null,null,null,null,null,0]
[]
[null,"Spis gatunków numer:",null,null,null,null,{"$f":"G2299+1","v":87},null,null,{"$f":"J2330","v":0}]
[null,"Współrzędne geograficzne",null,null,null,null,null,null,null,{"$f":"J2331","v":0}]
[null,"Długość geograficzna [E] ",null,null,"Szerokość geograficzna [N]",null,null,null,null,{"$f":"J2331","v":0}]
[null,"stopnie","minuty","sekundy","stopnie","minuty","sekundy",null,null,{"$f":"J2330","v":0}]
[null,null,null,null,null,null,null,null,null,{"$f":"J2332+J2346","v":0}]
[null,"Gatunki wskaźnikowe",null,null,null,null,null,null,null,{"$f":"J2332","v":0}]
[null,"nazwa łacińska",null,"nazwa polska",null,null,"walor ",null,null,{"$f":"SUM(J2333:J2344)","v":0}]
[null,{"$f":"OFFSET(listy_slownikowe!$AG$2,I2333,0)","v":" "},null,null,null,null,{"$f":"OFFSET(listy_slownikowe!$AI$2,I2333,0)","v":" "},null,{"$f":"IFERROR(MATCH(D2333,listy_slownikowe!$AH$3:$AH$326,0),0)","v":0},{"$f":"I2333","v":0}]
[null,{"$f":"OFFSET(listy_slownikowe!$AG$2,I2334,0)","v":" "},null,null,null,null,{"$f":"OFFSET(listy_slownikowe!$AI$2,I2334,0)","v":" "},null,{"$f":"IFERROR(MATCH(D2334,listy_slownikowe!$AH$3:$AH$326,0),0)","v":0},{"$f":"I2334","v":0}]
[null,{"$f":"OFFSET(listy_slownikowe!$AG$2,I2335,0)","v":" "},null,null,null,null,{"$f":"OFFSET(listy_slownikowe!$AI$2,I2335,0)","v":" "},null,{"$f":"IFERROR(MATCH(D2335,listy_slownikowe!$AH$3:$AH$326,0),0)","v":0},0]
[null,{"$f":"OFFSET(listy_slownikowe!$AG$2,I2336,0)","v":" "},null,null,null,null,{"$f":"OFFSET(listy_slownikowe!$AI$2,I2336,0)","v":" "},null,{"$f":"IFERROR(MATCH(D2336,listy_slownikowe!$AH$3:$AH$326,0),0)","v":0},0]
[null,{"$f":"OFFSET(listy_slownikowe!$AG$2,I2337,0)","v":" "},null,null,null,null,{"$f":"OFFSET(listy_slownikowe!$AI$2,I2337,0)","v":" "},null,{"$f":"IFERROR(MATCH(D2337,listy_slownikowe!$AH$3:$AH$326,0),0)","v":0},0]
[null,{"$f":"OFFSET(listy_slownikowe!$AG$2,I2338,0)","v":" "},null,null,null,null,{"$f":"OFFSET(listy_slownikowe!$AI$2,I2338,0)","v":" "},null,{"$f":"IFERROR(MATCH(D2338,listy_slownikowe!$AH$3:$AH$326,0),0)","v":0},0]
[null,{"$f":"OFFSET(listy_slownikowe!$AG$2,I2339,0)","v":" "},null,null,null,null,{"$f":"OFFSET(listy_slownikowe!$AI$2,I2339,0)","v":" "},null,{"$f":"IFERROR(MATCH(D2339,listy_slownikowe!$AH$3:$AH$326,0),0)","v":0},0]
[null,{"$f":"OFFSET(listy_slownikowe!$AG$2,I2340,0)","v":" "},null,null,null,null,{"$f":"OFFSET(listy_slownikowe!$AI$2,I2340,0)","v":" "},null,{"$f":"IFERROR(MATCH(D2340,listy_slownikowe!$AH$3:$AH$326,0),0)","v":0},0]
[null,{"$f":"OFFSET(listy_slownikowe!$AG$2,I2341,0)","v":" "},null,null,null,null,{"$f":"OFFSET(listy_slownikowe!$AI$2,I2341,0)","v":" "},null,{"$f":"IFERROR(MATCH(D2341,listy_slownikowe!$AH$3:$AH$326,0),0)","v":0},0]
[null,{"$f":"OFFSET(listy_slownikowe!$AG$2,I2342,0)","v":" "},null,null,null,null,{"$f":"OFFSET(listy_slownikowe!$AI$2,I2342,0)","v":" "},null,{"$f":"IFERROR(MATCH(D2342,listy_slownikowe!$AH$3:$AH$326,0),0)","v":0},0]
[null,{"$f":"OFFSET(listy_slownikowe!$AG$2,I2343,0)","v":" "},null,"",null,null,{"$f":"OFFSET(listy_slownikowe!$AI$2,I2343,0)","v":" "},null,{"$f":"IFERROR(MATCH(D2343,listy_slownikowe!$AH$3:$AH$326,0),0)","v":0},0]
[null,{"$f":"OFFSET(listy_slownikowe!$AG$2,I2344,0)","v":" "},null,null,null,null,{"$f":"OFFSET(listy_slownikowe!$AI$2,I2344,0)","v":" "},null,{"$f":"IFERROR(MATCH(D2344,listy_slownikowe!$AH$3:$AH$326,0),0)","v":0},0]
[null,"Gatunki dominujące i subdominujące",null,null,null,null,null,null,null,{"$f":"J2346","v":0}]
[null,"nazwa łacińska",null,"nazwa polska",null,null,"udział [%]",null,null,{"$f":"SUM(J2347:J2351)","v":0}]
[null,null,null,null,null,null,null,null,null,{"$f":"COUNTA(B2347:G2347)","v":0}]
[null,null,null,null,null,null,null,null,null,0]
[null,null,null,null,null,null,null,null,null,0]
[null,null,null,null,null,null,null,null,null,0]
[null,null,null,null,null,null,null,null,null,0]
[]
[null,"Spis gatunków numer:",null,null,null,null,{"$f":"G2326+1","v":88},null,null,{"$f":"J2357","v":0}]
[null,"Współrzędne geograficzne",null,null,null,null,null,null,null,{"$f":"J2358","v":0}]
[null,"Długość geograficzna [E] ",null,null,"Szerokość geograficzna [N]",null,null,null,null,{"$f":"J2358","v":0}]
[null,"stopnie","minuty","sekundy","stopnie","minuty","sekundy",null,null,{"$f":"J2357","v":0}]
[null,null,null,null,null,null,null,null,null,{"$f":"J2359+J2373","v":0}]
[null,"Gatunki wskaźnikowe",null,null,null,null,null,null,null,{"$f":"J2359","v":0}]
[null,"nazwa łacińska",null,"nazwa polska",null,null,"walor ",null,null,{"$f":"SUM(J2360:J2371)","v":0}]
[null,{"$f":"OFFSET(listy_slownikowe!$AG$2,I2360,0)","v":" "},null,null,null,null,{"$f":"OFFSET(listy_slownikowe!$AI$2,I2360,0)","v":" "},null,{"$f":"IFERROR(MATCH(D2360,listy_slownikowe!$AH$3:$AH$326,0),0)","v":0},{"$f":"I2360","v":0}]
[null,{"$f":"OFFSET(listy_slownikowe!$AG$2,I2361,0)","v":" "},null,null,null,null,{"$f":"OFFSET(listy_slownikowe!$AI$2,I2361,0)","v":" "},null,{"$f":"IFERROR(MATCH(D2361,listy_slownikowe!$AH$3:$AH$326,0),0)","v":0},{"$f":"I2361","v":0}]
[null,{"$f":"OFFSET(listy_slownikowe!$AG$2,I2362,0)","v":" "},null,null,null,null,{"$f":"OFFSET(listy_slownikowe!$AI$2,I2362,0)","v":" "},null,{"$f":"IFERROR(MATCH(D2362,listy_slownikowe!$AH$3:$AH$326,0),0)","v":0},0]
[null,{"$f":"OFFSET(listy_slownikowe!$AG$2,I2363,0)","v":" "},null,null,null,null,{"$f":"OFFSET(listy_slownikowe!$AI$2,I2363,0)","v":" "},null,{"$f":"IFERROR(MATCH(D2363,listy_slownikowe!$AH$3:$AH$326,0),0)","v":0},0]
[null,{"$f":"OFFSET(listy_slownikowe!$AG$2,I2364,0)","v":" "},null,null,null,null,{"$f":"OFFSET(listy_slownikowe!$AI$2,I2364,0)","v":" "},null,{"$f":"IFERROR(MATCH(D2364,listy_slownikowe!$AH$3:$AH$326,0),0)","v":0},0]
[null,{"$f":"OFFSET(listy_slownikowe!$AG$2,I2365,0)","v":" "},null,null,null,null,{"$f":"OFFSET(listy_slownikowe!$AI$2,I2365,0)","v":" "},null,{"$f":"IFERROR(MATCH(D2365,listy_slownikowe!$AH$3:$AH$326,0),0)","v":0},0]
[null,{"$f":"OFFSET(listy_slownikowe!$AG$2,I2366,0)","v":" "},null,null,null,null,{"$f":"OFFSET(listy_slownikowe!$AI$2,I2366,0)","v":" "},null,{"$f":"IFERROR(MATCH(D2366,listy_slownikowe!$AH$3:$AH$326,0),0)","v":0},0]
[null,{"$f":"OFFSET(listy_slownikowe!$AG$2,I2367,0)","v":" "},null,null,null,null,{"$f":"OFFSET(listy_slownikowe!$AI$2,I2367,0)","v":" "},null,{"$f":"IFERROR(MATCH(D2367,listy_slownikowe!$AH$3:$AH$326,0),0)","v":0},0]
[null,{"$f":"OFFSET(listy_slownikowe!$AG$2,I2368,0)","v":" "},null,null,null,null,{"$f":"OFFSET(listy_slownikowe!$AI$2,I2368,0)","v":" "},null,{"$f":"IFERROR(MATCH(D2368,listy_slownikowe!$AH$3:$AH$326,0),0)","v":0},0]
[null,{"$f":"OFFSET(listy_slownikowe!$AG$2,I2369,0)","v":" "},null,null,null,null,{"$f":"OFFSET(listy_slownikowe!$AI$2,I2369,0)","v":" "},null,{"$f":"IFERROR(MATCH(D2369,listy_slownikowe!$AH$3:$AH$326,0),0)","v":0},0]
[null,{"$f":"OFFSET(listy_slownikowe!$AG$2,I2370,0)","v":" "},null,"",null,null,{"$f":"OFFSET(listy_slownikowe!$AI$2,I2370,0)","v":" "},null,{"$f":"IFERROR(MATCH(D2370,listy_slownikowe!$AH$3:$AH$326,0),0)","v":0},0]
[null,{"$f":"OFFSET(listy_slownikowe!$AG$2,I2371,0)","v":" "},null,null,null,null,{"$f":"OFFSET(listy_slownikowe!$AI$2,I2371,0)","v":" "},null,{"$f":"IFERROR(MATCH(D2371,listy_slownikowe!$AH$3:$AH$326,0),0)","v":0},0]
[null,"Gatunki dominujące i subdominujące",null,null,null,null,null,null,null,{"$f":"J2373","v":0}]
[null,"nazwa łacińska",null,"nazwa polska",null,null,"udział [%]",null,null,{"$f":"SUM(J2374:J2378)","v":0}]
[null,null,null,null,null,null,null,null,null,{"$f":"COUNTA(B2374:G2374)","v":0}]
[null,null,null,null,null,null,null,null,null,0]
[null,null,null,null,null,null,null,null,null,0]
[null,null,null,null,null,null,null,null,null,0]
[null,null,null,null,null,null,null,null,null,0]
[]
[null,"Spis gatunków numer:",null,null,null,null,{"$f":"G2353+1","v":89},null,null,{"$f":"J2384","v":0}]
[null,"Współrzędne geograficzne",null,null,null,null,null,null,null,{"$f":"J2385","v":0}]
[null,"Długość geograficzna [E] ",null,null,"Szerokość geograficzna [N]",null,null,null,null,{"$f":"J2385","v":0}]
[null,"stopnie","minuty","sekundy","stopnie","minuty","sekundy",null,null,{"$f":"J2384","v":0}]
[null,null,null,null,null,null,null,null,null,{"$f":"J2386+J2400","v":0}]
[null,"Gatunki wskaźnikowe",null,null,null,null,null,null,null,{"$f":"J2386","v":0}]
[null,"nazwa łacińska",null,"nazwa polska",null,null,"walor ",null,null,{"$f":"SUM(J2387:J2398)","v":0}]
[null,{"$f":"OFFSET(listy_slownikowe!$AG$2,I2387,0)","v":" "},null,null,null,null,{"$f":"OFFSET(listy_slownikowe!$AI$2,I2387,0)","v":" "},null,{"$f":"IFERROR(MATCH(D2387,listy_slownikowe!$AH$3:$AH$326,0),0)","v":0},{"$f":"I2387","v":0}]
[null,{"$f":"OFFSET(listy_slownikowe!$AG$2,I2388,0)","v":" "},null,null,null,null,{"$f":"OFFSET(listy_slownikowe!$AI$2,I2388,0)","v":" "},null,{"$f":"IFERROR(MATCH(D2388,listy_slownikowe!$AH$3:$AH$326,0),0)","v":0},{"$f":"I2388","v":0}]
[null,{"$f":"OFFSET(listy_slownikowe!$AG$2,I2389,0)","v":" "},null,null,null,null,{"$f":"OFFSET(listy_slownikowe!$AI$2,I2389,0)","v":" "},null,{"$f":"IFERROR(MATCH(D2389,listy_slownikowe!$AH$3:$AH$326,0),0)","v":0},0]
[null,{"$f":"OFFSET(listy_slownikowe!$AG$2,I2390,0)","v":" "},null,null,null,null,{"$f":"OFFSET(listy_slownikowe!$AI$2,I2390,0)","v":" "},null,{"$f":"IFERROR(MATCH(D2390,listy_slownikowe!$AH$3:$AH$326,0),0)","v":0},0]
[null,{"$f":"OFFSET(listy_slownikowe!$AG$2,I2391,0)","v":" "},null,null,null,null,{"$f":"OFFSET(listy_slownikowe!$AI$2,I2391,0)","v":" "},null,{"$f":"IFERROR(MATCH(D2391,listy_slownikowe!$AH$3:$AH$326,0),0)","v":0},0]
[null,{"$f":"OFFSET(listy_slownikowe!$AG$2,I2392,0)","v":" "},null,null,null,null,{"$f":"OFFSET(listy_slownikowe!$AI$2,I2392,0)","v":" "},null,{"$f":"IFERROR(MATCH(D2392,listy_slownikowe!$AH$3:$AH$326,0),0)","v":0},0]
[null,{"$f":"OFFSET(listy_slownikowe!$AG$2,I2393,0)","v":" "},null,null,null,null,{"$f":"OFFSET(listy_slownikowe!$AI$2,I2393,0)","v":" "},null,{"$f":"IFERROR(MATCH(D2393,listy_slownikowe!$AH$3:$AH$326,0),0)","v":0},0]
[null,{"$f":"OFFSET(listy_slownikowe!$AG$2,I2394,0)","v":" "},null,null,null,null,{"$f":"OFFSET(listy_slownikowe!$AI$2,I2394,0)","v":" "},null,{"$f":"IFERROR(MATCH(D2394,listy_slownikowe!$AH$3:$AH$326,0),0)","v":0},0]
[null,{"$f":"OFFSET(listy_slownikowe!$AG$2,I2395,0)","v":" "},null,null,null,null,{"$f":"OFFSET(listy_slownikowe!$AI$2,I2395,0)","v":" "},null,{"$f":"IFERROR(MATCH(D2395,listy_slownikowe!$AH$3:$AH$326,0),0)","v":0},0]
[null,{"$f":"OFFSET(listy_slownikowe!$AG$2,I2396,0)","v":" "},null,null,null,null,{"$f":"OFFSET(listy_slownikowe!$AI$2,I2396,0)","v":" "},null,{"$f":"IFERROR(MATCH(D2396,listy_slownikowe!$AH$3:$AH$326,0),0)","v":0},0]
[null,{"$f":"OFFSET(listy_slownikowe!$AG$2,I2397,0)","v":" "},null,"",null,null,{"$f":"OFFSET(listy_slownikowe!$AI$2,I2397,0)","v":" "},null,{"$f":"IFERROR(MATCH(D2397,listy_slownikowe!$AH$3:$AH$326,0),0)","v":0},0]
[null,{"$f":"OFFSET(listy_slownikowe!$AG$2,I2398,0)","v":" "},null,null,null,null,{"$f":"OFFSET(listy_slownikowe!$AI$2,I2398,0)","v":" "},null,{"$f":"IFERROR(MATCH(D2398,listy_slownikowe!$AH$3:$AH$326,0),0)","v":0},0]
[null,"Gatunki dominujące i subdominujące",null,null,null,null,null,null,null,{"$f":"J2400","v":0}]
[null,"nazwa łacińska",null,"nazwa polska",null,null,"udział [%]",null,null,{"$f":"SUM(J2401:J2405)","v":0}]
[null,null,null,null,null,null,null,null,null,{"$f":"COUNTA(B2401:G2401)","v":0}]
[null,null,null,null,null,null,null,null,null,0]
[null,null,null,null,null,null,null,null,null,0]
[null,null,null,null,null,null,null,null,null,0]
[null,null,null,null,null,null,null,null,null,0]
[]
[null,"Spis gatunków numer:",null,null,null,null,{"$f":"G2380+1","v":90},null,null,{"$f":"J2411","v":0}]
[null,"Współrzędne geograficzne",null,null,null,null,null,null,null,{"$f":"J2412","v":0}]
[null,"Długość geograficzna [E] ",null,null,"Szerokość geograficzna [N]",null,null,null,null,{"$f":"J2412","v":0}]
[null,"stopnie","minuty","sekundy","stopnie","minuty","sekundy",null,null,{"$f":"J2411","v":0}]
[null,null,null,null,null,null,null,null,null,{"$f":"J2413+J2427","v":0}]
[null,"Gatunki wskaźnikowe",null,null,null,null,null,null,null,{"$f":"J2413","v":0}]
[null,"nazwa łacińska",null,"nazwa polska",null,null,"walor ",null,null,{"$f":"SUM(J2414:J2425)","v":0}]
[null,{"$f":"OFFSET(listy_slownikowe!$AG$2,I2414,0)","v":" "},null,null,null,null,{"$f":"OFFSET(listy_slownikowe!$AI$2,I2414,0)","v":" "},null,{"$f":"IFERROR(MATCH(D2414,listy_slownikowe!$AH$3:$AH$326,0),0)","v":0},{"$f":"I2414","v":0}]
[null,{"$f":"OFFSET(listy_slownikowe!$AG$2,I2415,0)","v":" "},null,null,null,null,{"$f":"OFFSET(listy_slownikowe!$AI$2,I2415,0)","v":" "},null,{"$f":"IFERROR(MATCH(D2415,listy_slownikowe!$AH$3:$AH$326,0),0)","v":0},{"$f":"I2415","v":0}]
[null,{"$f":"OFFSET(listy_slownikowe!$AG$2,I2416,0)","v":" "},null,null,null,null,{"$f":"OFFSET(listy_slownikowe!$AI$2,I2416,0)","v":" "},null,{"$f":"IFERROR(MATCH(D2416,listy_slownikowe!$AH$3:$AH$326,0),0)","v":0},0]
[null,{"$f":"OFFSET(listy_slownikowe!$AG$2,I2417,0)","v":" "},null,null,null,null,{"$f":"OFFSET(listy_slownikowe!$AI$2,I2417,0)","v":" "},null,{"$f":"IFERROR(MATCH(D2417,listy_slownikowe!$AH$3:$AH$326,0),0)","v":0},0]
[null,{"$f":"OFFSET(listy_slownikowe!$AG$2,I2418,0)","v":" "},null,null,null,null,{"$f":"OFFSET(listy_slownikowe!$AI$2,I2418,0)","v":" "},null,{"$f":"IFERROR(MATCH(D2418,listy_slownikowe!$AH$3:$AH$326,0),0)","v":0},0]
[null,{"$f":"OFFSET(listy_slownikowe!$AG$2,I2419,0)","v":" "},null,null,null,null,{"$f":"OFFSET(listy_slownikowe!$AI$2,I2419,0)","v":" "},null,{"$f":"IFERROR(MATCH(D2419,listy_slownikowe!$AH$3:$AH$326,0),0)","v":0},0]
[null,{"$f":"OFFSET(listy_slownikowe!$AG$2,I2420,0)","v":" "},null,null,null,null,{"$f":"OFFSET(listy_slownikowe!$AI$2,I2420,0)","v":" "},null,{"$f":"IFERROR(MATCH(D2420,listy_slownikowe!$AH$3:$AH$326,0),0)","v":0},0]
[null,{"$f":"OFFSET(listy_slownikowe!$AG$2,I2421,0)","v":" "},null,null,null,null,{"$f":"OFFSET(listy_slownikowe!$AI$2,I2421,0)","v":" "},null,{"$f":"IFERROR(MATCH(D2421,listy_slownikowe!$AH$3:$AH$326,0),0)","v":0},0]
[null,{"$f":"OFFSET(listy_slownikowe!$AG$2,I2422,0)","v":" "},null,null,null,null,{"$f":"OFFSET(listy_slownikowe!$AI$2,I2422,0)","v":" "},null,{"$f":"IFERROR(MATCH(D2422,listy_slownikowe!$AH$3:$AH$326,0),0)","v":0},0]
[null,{"$f":"OFFSET(listy_slownikowe!$AG$2,I2423,0)","v":" "},null,null,null,null,{"$f":"OFFSET(listy_slownikowe!$AI$2,I2423,0)","v":" "},null,{"$f":"IFERROR(MATCH(D2423,listy_slownikowe!$AH$3:$AH$326,0),0)","v":0},0]
[null,{"$f":"OFFSET(listy_slownikowe!$AG$2,I2424,0)","v":" "},null,"",null,null,{"$f":"OFFSET(listy_slownikowe!$AI$2,I2424,0)","v":" "},null,{"$f":"IFERROR(MATCH(D2424,listy_slownikowe!$AH$3:$AH$326,0),0)","v":0},0]
[null,{"$f":"OFFSET(listy_slownikowe!$AG$2,I2425,0)","v":" "},null,null,null,null,{"$f":"OFFSET(listy_slownikowe!$AI$2,I2425,0)","v":" "},null,{"$f":"IFERROR(MATCH(D2425,listy_slownikowe!$AH$3:$AH$326,0),0)","v":0},0]
[null,"Gatunki dominujące i subdominujące",null,null,null,null,null,null,null,{"$f":"J2427","v":0}]
[null,"nazwa łacińska",null,"nazwa polska",null,null,"udział [%]",null,null,{"$f":"SUM(J2428:J2432)","v":0}]
[null,null,null,null,null,null,null,null,null,{"$f":"COUNTA(B2428:G2428)","v":0}]
[null,null,null,null,null,null,null,null,null,0]
[null,null,null,null,null,null,null,null,null,0]
[null,null,null,null,null,null,null,null,null,0]
[null,null,null,null,null,null,null,null,null,0]
[]
[null,"Spis gatunków numer:",null,null,null,null,{"$f":"G2407+1","v":91},null,null,{"$f":"J2438","v":0}]
[null,"Współrzędne geograficzne",null,null,null,null,null,null,null,{"$f":"J2439","v":0}]
[null,"Długość geograficzna [E] ",null,null,"Szerokość geograficzna [N]",null,null,null,null,{"$f":"J2439","v":0}]
[null,"stopnie","minuty","sekundy","stopnie","minuty","sekundy",null,null,{"$f":"J2438","v":0}]
[null,null,null,null,null,null,null,null,null,{"$f":"J2440+J2454","v":0}]
[null,"Gatunki wskaźnikowe",null,null,null,null,null,null,null,{"$f":"J2440","v":0}]
[null,"nazwa łacińska",null,"nazwa polska",null,null,"walor ",null,null,{"$f":"SUM(J2441:J2452)","v":0}]
[null,{"$f":"OFFSET(listy_slownikowe!$AG$2,I2441,0)","v":" "},null,null,null,null,{"$f":"OFFSET(listy_slownikowe!$AI$2,I2441,0)","v":" "},null,{"$f":"IFERROR(MATCH(D2441,listy_slownikowe!$AH$3:$AH$326,0),0)","v":0},{"$f":"I2441","v":0}]
[null,{"$f":"OFFSET(listy_slownikowe!$AG$2,I2442,0)","v":" "},null,null,null,null,{"$f":"OFFSET(listy_slownikowe!$AI$2,I2442,0)","v":" "},null,{"$f":"IFERROR(MATCH(D2442,listy_slownikowe!$AH$3:$AH$326,0),0)","v":0},{"$f":"I2442","v":0}]
[null,{"$f":"OFFSET(listy_slownikowe!$AG$2,I2443,0)","v":" "},null,null,null,null,{"$f":"OFFSET(listy_slownikowe!$AI$2,I2443,0)","v":" "},null,{"$f":"IFERROR(MATCH(D2443,listy_slownikowe!$AH$3:$AH$326,0),0)","v":0},0]
[null,{"$f":"OFFSET(listy_slownikowe!$AG$2,I2444,0)","v":" "},null,null,null,null,{"$f":"OFFSET(listy_slownikowe!$AI$2,I2444,0)","v":" "},null,{"$f":"IFERROR(MATCH(D2444,listy_slownikowe!$AH$3:$AH$326,0),0)","v":0},0]
[null,{"$f":"OFFSET(listy_slownikowe!$AG$2,I2445,0)","v":" "},null,null,null,null,{"$f":"OFFSET(listy_slownikowe!$AI$2,I2445,0)","v":" "},null,{"$f":"IFERROR(MATCH(D2445,listy_slownikowe!$AH$3:$AH$326,0),0)","v":0},0]
[null,{"$f":"OFFSET(listy_slownikowe!$AG$2,I2446,0)","v":" "},null,null,null,null,{"$f":"OFFSET(listy_slownikowe!$AI$2,I2446,0)","v":" "},null,{"$f":"IFERROR(MATCH(D2446,listy_slownikowe!$AH$3:$AH$326,0),0)","v":0},0]
[null,{"$f":"OFFSET(listy_slownikowe!$AG$2,I2447,0)","v":" "},null,null,null,null,{"$f":"OFFSET(listy_slownikowe!$AI$2,I2447,0)","v":" "},null,{"$f":"IFERROR(MATCH(D2447,listy_slownikowe!$AH$3:$AH$326,0),0)","v":0},0]
[null,{"$f":"OFFSET(listy_slownikowe!$AG$2,I2448,0)","v":" "},null,null,null,null,{"$f":"OFFSET(listy_slownikowe!$AI$2,I2448,0)","v":" "},null,{"$f":"IFERROR(MATCH(D2448,listy_slownikowe!$AH$3:$AH$326,0),0)","v":0},0]
[null,{"$f":"OFFSET(listy_slownikowe!$AG$2,I2449,0)","v":" "},null,null,null,null,{"$f":"OFFSET(listy_slownikowe!$AI$2,I2449,0)","v":" "},null,{"$f":"IFERROR(MATCH(D2449,listy_slownikowe!$AH$3:$AH$326,0),0)","v":0},0]
[null,{"$f":"OFFSET(listy_slownikowe!$AG$2,I2450,0)","v":" "},null,null,null,null,{"$f":"OFFSET(listy_slownikowe!$AI$2,I2450,0)","v":" "},null,{"$f":"IFERROR(MATCH(D2450,listy_slownikowe!$AH$3:$AH$326,0),0)","v":0},0]
[null,{"$f":"OFFSET(listy_slownikowe!$AG$2,I2451,0)","v":" "},null,"",null,null,{"$f":"OFFSET(listy_slownikowe!$AI$2,I2451,0)","v":" "},null,{"$f":"IFERROR(MATCH(D2451,listy_slownikowe!$AH$3:$AH$326,0),0)","v":0},0]
[null,{"$f":"OFFSET(listy_slownikowe!$AG$2,I2452,0)","v":" "},null,null,null,null,{"$f":"OFFSET(listy_slownikowe!$AI$2,I2452,0)","v":" "},null,{"$f":"IFERROR(MATCH(D2452,listy_slownikowe!$AH$3:$AH$326,0),0)","v":0},0]
[null,"Gatunki dominujące i subdominujące",null,null,null,null,null,null,null,{"$f":"J2454","v":0}]
[null,"nazwa łacińska",null,"nazwa polska",null,null,"udział [%]",null,null,{"$f":"SUM(J2455:J2459)","v":0}]
[null,null,null,null,null,null,null,null,null,{"$f":"COUNTA(B2455:G2455)","v":0}]
[null,null,null,null,null,null,null,null,null,0]
[null,null,null,null,null,null,null,null,null,0]
[null,null,null,null,null,null,null,null,null,0]
[null,null,null,null,null,null,null,null,null,0]
[]
[null,"Spis gatunków numer:",null,null,null,null,{"$f":"G2434+1","v":92},null,null,{"$f":"J2465","v":0}]
[null,"Współrzędne geograficzne",null,null,null,null,null,null,null,{"$f":"J2466","v":0}]
[null,"Długość geograficzna [E] ",null,null,"Szerokość geograficzna [N]",null,null,null,null,{"$f":"J2466","v":0}]
[null,"stopnie","minuty","sekundy","stopnie","minuty","sekundy",null,null,{"$f":"J2465","v":0}]
[null,null,null,null,null,null,null,null,null,{"$f":"J2467+J2481","v":0}]
[null,"Gatunki wskaźnikowe",null,null,null,null,null,null,null,{"$f":"J2467","v":0}]
[null,"nazwa łacińska",null,"nazwa polska",null,null,"walor ",null,null,{"$f":"SUM(J2468:J2479)","v":0}]
[null,{"$f":"OFFSET(listy_slownikowe!$AG$2,I2468,0)","v":" "},null,null,null,null,{"$f":"OFFSET(listy_slownikowe!$AI$2,I2468,0)","v":" "},null,{"$f":"IFERROR(MATCH(D2468,listy_slownikowe!$AH$3:$AH$326,0),0)","v":0},{"$f":"I2468","v":0}]
[null,{"$f":"OFFSET(listy_slownikowe!$AG$2,I2469,0)","v":" "},null,null,null,null,{"$f":"OFFSET(listy_slownikowe!$AI$2,I2469,0)","v":" "},null,{"$f":"IFERROR(MATCH(D2469,listy_slownikowe!$AH$3:$AH$326,0),0)","v":0},{"$f":"I2469","v":0}]
[null,{"$f":"OFFSET(listy_slownikowe!$AG$2,I2470,0)","v":" "},null,null,null,null,{"$f":"OFFSET(listy_slownikowe!$AI$2,I2470,0)","v":" "},null,{"$f":"IFERROR(MATCH(D2470,listy_slownikowe!$AH$3:$AH$326,0),0)","v":0},0]
[null,{"$f":"OFFSET(listy_slownikowe!$AG$2,I2471,0)","v":" "},null,null,null,null,{"$f":"OFFSET(listy_slownikowe!$AI$2,I2471,0)","v":" "},null,{"$f":"IFERROR(MATCH(D2471,listy_slownikowe!$AH$3:$AH$326,0),0)","v":0},0]
[null,{"$f":"OFFSET(listy_slownikowe!$AG$2,I2472,0)","v":" "},null,null,null,null,{"$f":"OFFSET(listy_slownikowe!$AI$2,I2472,0)","v":" "},null,{"$f":"IFERROR(MATCH(D2472,listy_slownikowe!$AH$3:$AH$326,0),0)","v":0},0]
[null,{"$f":"OFFSET(listy_slownikowe!$AG$2,I2473,0)","v":" "},null,null,null,null,{"$f":"OFFSET(listy_slownikowe!$AI$2,I2473,0)","v":" "},null,{"$f":"IFERROR(MATCH(D2473,listy_slownikowe!$AH$3:$AH$326,0),0)","v":0},0]
[null,{"$f":"OFFSET(listy_slownikowe!$AG$2,I2474,0)","v":" "},null,null,null,null,{"$f":"OFFSET(listy_slownikowe!$AI$2,I2474,0)","v":" "},null,{"$f":"IFERROR(MATCH(D2474,listy_slownikowe!$AH$3:$AH$326,0),0)","v":0},0]
[null,{"$f":"OFFSET(listy_slownikowe!$AG$2,I2475,0)","v":" "},null,null,null,null,{"$f":"OFFSET(listy_slownikowe!$AI$2,I2475,0)","v":" "},null,{"$f":"IFERROR(MATCH(D2475,listy_slownikowe!$AH$3:$AH$326,0),0)","v":0},0]
[null,{"$f":"OFFSET(listy_slownikowe!$AG$2,I2476,0)","v":" "},null,null,null,null,{"$f":"OFFSET(listy_slownikowe!$AI$2,I2476,0)","v":" "},null,{"$f":"IFERROR(MATCH(D2476,listy_slownikowe!$AH$3:$AH$326,0),0)","v":0},0]
[null,{"$f":"OFFSET(listy_slownikowe!$AG$2,I2477,0)","v":" "},null,null,null,null,{"$f":"OFFSET(listy_slownikowe!$AI$2,I2477,0)","v":" "},null,{"$f":"IFERROR(MATCH(D2477,listy_slownikowe!$AH$3:$AH$326,0),0)","v":0},0]
[null,{"$f":"OFFSET(listy_slownikowe!$AG$2,I2478,0)","v":" "},null,"",null,null,{"$f":"OFFSET(listy_slownikowe!$AI$2,I2478,0)","v":" "},null,{"$f":"IFERROR(MATCH(D2478,listy_slownikowe!$AH$3:$AH$326,0),0)","v":0},0]
[null,{"$f":"OFFSET(listy_slownikowe!$AG$2,I2479,0)","v":" "},null,null,null,null,{"$f":"OFFSET(listy_slownikowe!$AI$2,I2479,0)","v":" "},null,{"$f":"IFERROR(MATCH(D2479,listy_slownikowe!$AH$3:$AH$326,0),0)","v":0},0]
[null,"Gatunki dominujące i subdominujące",null,null,null,null,null,null,null,{"$f":"J2481","v":0}]
[null,"nazwa łacińska",null,"nazwa polska",null,null,"udział [%]",null,null,{"$f":"SUM(J2482:J2486)","v":0}]
[null,null,null,null,null,null,null,null,null,{"$f":"COUNTA(B2482:G2482)","v":0}]
[null,null,null,null,null,null,null,null,null,0]
[null,null,null,null,null,null,null,null,null,0]
[null,null,null,null,null,null,null,null,null,0]
[null,null,null,null,null,null,null,null,null,0]
[]
[null,"Spis gatunków numer:",null,null,null,null,{"$f":"G2461+1","v":93},null,null,{"$f":"J2492","v":0}]
[null,"Współrzędne geograficzne",null,null,null,null,null,null,null,{"$f":"J2493","v":0}]
[null,"Długość geograficzna [E] ",null,null,"Szerokość geograficzna [N]",null,null,null,null,{"$f":"J2493","v":0}]
[null,"stopnie","minuty","sekundy","stopnie","minuty","sekundy",null,null,{"$f":"J2492","v":0}]
[null,null,null,null,null,null,null,null,null,{"$f":"J2494+J2508","v":0}]
[null,"Gatunki wskaźnikowe",null,null,null,null,null,null,null,{"$f":"J2494","v":0}]
[null,"nazwa łacińska",null,"nazwa polska",null,null,"walor ",null,null,{"$f":"SUM(J2495:J2506)","v":0}]
[null,{"$f":"OFFSET(listy_slownikowe!$AG$2,I2495,0)","v":" "},null,null,null,null,{"$f":"OFFSET(listy_slownikowe!$AI$2,I2495,0)","v":" "},null,{"$f":"IFERROR(MATCH(D2495,listy_slownikowe!$AH$3:$AH$326,0),0)","v":0},{"$f":"I2495","v":0}]
[null,{"$f":"OFFSET(listy_slownikowe!$AG$2,I2496,0)","v":" "},null,null,null,null,{"$f":"OFFSET(listy_slownikowe!$AI$2,I2496,0)","v":" "},null,{"$f":"IFERROR(MATCH(D2496,listy_slownikowe!$AH$3:$AH$326,0),0)","v":0},{"$f":"I2496","v":0}]
[null,{"$f":"OFFSET(listy_slownikowe!$AG$2,I2497,0)","v":" "},null,null,null,null,{"$f":"OFFSET(listy_slownikowe!$AI$2,I2497,0)","v":" "},null,{"$f":"IFERROR(MATCH(D2497,listy_slownikowe!$AH$3:$AH$326,0),0)","v":0},0]
[null,{"$f":"OFFSET(listy_slownikowe!$AG$2,I2498,0)","v":" "},null,null,null,null,{"$f":"OFFSET(listy_slownikowe!$AI$2,I2498,0)","v":" "},null,{"$f":"IFERROR(MATCH(D2498,listy_slownikowe!$AH$3:$AH$326,0),0)","v":0},0]
[null,{"$f":"OFFSET(listy_slownikowe!$AG$2,I2499,0)","v":" "},null,null,null,null,{"$f":"OFFSET(listy_slownikowe!$AI$2,I2499,0)","v":" "},null,{"$f":"IFERROR(MATCH(D2499,listy_slownikowe!$AH$3:$AH$326,0),0)","v":0},0]
[null,{"$f":"OFFSET(listy_slownikowe!$AG$2,I2500,0)","v":" "},null,null,null,null,{"$f":"OFFSET(listy_slownikowe!$AI$2,I2500,0)","v":" "},null,{"$f":"IFERROR(MATCH(D2500,listy_slownikowe!$AH$3:$AH$326,0),0)","v":0},0]
[null,{"$f":"OFFSET(listy_slownikowe!$AG$2,I2501,0)","v":" "},null,null,null,null,{"$f":"OFFSET(listy_slownikowe!$AI$2,I2501,0)","v":" "},null,{"$f":"IFERROR(MATCH(D2501,listy_slownikowe!$AH$3:$AH$326,0),0)","v":0},0]
[null,{"$f":"OFFSET(listy_slownikowe!$AG$2,I2502,0)","v":" "},null,null,null,null,{"$f":"OFFSET(listy_slownikowe!$AI$2,I2502,0)","v":" "},null,{"$f":"IFERROR(MATCH(D2502,listy_slownikowe!$AH$3:$AH$326,0),0)","v":0},0]
[null,{"$f":"OFFSET(listy_slownikowe!$AG$2,I2503,0)","v":" "},null,null,null,null,{"$f":"OFFSET(listy_slownikowe!$AI$2,I2503,0)","v":" "},null,{"$f":"IFERROR(MATCH(D2503,listy_slownikowe!$AH$3:$AH$326,0),0)","v":0},0]
[null,{"$f":"OFFSET(listy_slownikowe!$AG$2,I2504,0)","v":" "},null,null,null,null,{"$f":"OFFSET(listy_slownikowe!$AI$2,I2504,0)","v":" "},null,{"$f":"IFERROR(MATCH(D2504,listy_slownikowe!$AH$3:$AH$326,0),0)","v":0},0]
[null,{"$f":"OFFSET(listy_slownikowe!$AG$2,I2505,0)","v":" "},null,"",null,null,{"$f":"OFFSET(listy_slownikowe!$AI$2,I2505,0)","v":" "},null,{"$f":"IFERROR(MATCH(D2505,listy_slownikowe!$AH$3:$AH$326,0),0)","v":0},0]
[null,{"$f":"OFFSET(listy_slownikowe!$AG$2,I2506,0)","v":" "},null,null,null,null,{"$f":"OFFSET(listy_slownikowe!$AI$2,I2506,0)","v":" "},null,{"$f":"IFERROR(MATCH(D2506,listy_slownikowe!$AH$3:$AH$326,0),0)","v":0},0]
[null,"Gatunki dominujące i subdominujące",null,null,null,null,null,null,null,{"$f":"J2508","v":0}]
[null,"nazwa łacińska",null,"nazwa polska",null,null,"udział [%]",null,null,{"$f":"SUM(J2509:J2513)","v":0}]
[null,null,null,null,null,null,null,null,null,{"$f":"COUNTA(B2509:G2509)","v":0}]
[null,null,null,null,null,null,null,null,null,0]
[null,null,null,null,null,null,null,null,null,0]
[null,null,null,null,null,null,null,null,null,0]
[null,null,null,null,null,null,null,null,null,0]
[]
[null,"Spis gatunków numer:",null,null,null,null,{"$f":"G2488+1","v":94},null,null,{"$f":"J2519","v":0}]
[null,"Współrzędne geograficzne",null,null,null,null,null,null,null,{"$f":"J2520","v":0}]
[null,"Długość geograficzna [E] ",null,null,"Szerokość geograficzna [N]",null,null,null,null,{"$f":"J2520","v":0}]
[null,"stopnie","minuty","sekundy","stopnie","minuty","sekundy",null,null,{"$f":"J2519","v":0}]
[null,null,null,null,null,null,null,null,null,{"$f":"J2521+J2535","v":0}]
[null,"Gatunki wskaźnikowe",null,null,null,null,null,null,null,{"$f":"J2521","v":0}]
[null,"nazwa łacińska",null,"nazwa polska",null,null,"walor ",null,null,{"$f":"SUM(J2522:J2533)","v":0}]
[null,{"$f":"OFFSET(listy_slownikowe!$AG$2,I2522,0)","v":" "},null,null,null,null,{"$f":"OFFSET(listy_slownikowe!$AI$2,I2522,0)","v":" "},null,{"$f":"IFERROR(MATCH(D2522,listy_slownikowe!$AH$3:$AH$326,0),0)","v":0},{"$f":"I2522","v":0}]
[null,{"$f":"OFFSET(listy_slownikowe!$AG$2,I2523,0)","v":" "},null,null,null,null,{"$f":"OFFSET(listy_slownikowe!$AI$2,I2523,0)","v":" "},null,{"$f":"IFERROR(MATCH(D2523,listy_slownikowe!$AH$3:$AH$326,0),0)","v":0},{"$f":"I2523","v":0}]
[null,{"$f":"OFFSET(listy_slownikowe!$AG$2,I2524,0)","v":" "},null,null,null,null,{"$f":"OFFSET(listy_slownikowe!$AI$2,I2524,0)","v":" "},null,{"$f":"IFERROR(MATCH(D2524,listy_slownikowe!$AH$3:$AH$326,0),0)","v":0},0]
[null,{"$f":"OFFSET(listy_slownikowe!$AG$2,I2525,0)","v":" "},null,null,null,null,{"$f":"OFFSET(listy_slownikowe!$AI$2,I2525,0)","v":" "},null,{"$f":"IFERROR(MATCH(D2525,listy_slownikowe!$AH$3:$AH$326,0),0)","v":0},0]
[null,{"$f":"OFFSET(listy_slownikowe!$AG$2,I2526,0)","v":" "},null,null,null,null,{"$f":"OFFSET(listy_slownikowe!$AI$2,I2526,0)","v":" "},null,{"$f":"IFERROR(MATCH(D2526,listy_slownikowe!$AH$3:$AH$326,0),0)","v":0},0]
[null,{"$f":"OFFSET(listy_slownikowe!$AG$2,I2527,0)","v":" "},null,null,null,null,{"$f":"OFFSET(listy_slownikowe!$AI$2,I2527,0)","v":" "},null,{"$f":"IFERROR(MATCH(D2527,listy_slownikowe!$AH$3:$AH$326,0),0)","v":0},0]
[null,{"$f":"OFFSET(listy_slownikowe!$AG$2,I2528,0)","v":" "},null,null,null,null,{"$f":"OFFSET(listy_slownikowe!$AI$2,I2528,0)","v":" "},null,{"$f":"IFERROR(MATCH(D2528,listy_slownikowe!$AH$3:$AH$326,0),0)","v":0},0]
[null,{"$f":"OFFSET(listy_slownikowe!$AG$2,I2529,0)","v":" "},null,null,null,null,{"$f":"OFFSET(listy_slownikowe!$AI$2,I2529,0)","v":" "},null,{"$f":"IFERROR(MATCH(D2529,listy_slownikowe!$AH$3:$AH$326,0),0)","v":0},0]
[null,{"$f":"OFFSET(listy_slownikowe!$AG$2,I2530,0)","v":" "},null,null,null,null,{"$f":"OFFSET(listy_slownikowe!$AI$2,I2530,0)","v":" "},null,{"$f":"IFERROR(MATCH(D2530,listy_slownikowe!$AH$3:$AH$326,0),0)","v":0},0]
[null,{"$f":"OFFSET(listy_slownikowe!$AG$2,I2531,0)","v":" "},null,null,null,null,{"$f":"OFFSET(listy_slownikowe!$AI$2,I2531,0)","v":" "},null,{"$f":"IFERROR(MATCH(D2531,listy_slownikowe!$AH$3:$AH$326,0),0)","v":0},0]
[null,{"$f":"OFFSET(listy_slownikowe!$AG$2,I2532,0)","v":" "},null,"",null,null,{"$f":"OFFSET(listy_slownikowe!$AI$2,I2532,0)","v":" "},null,{"$f":"IFERROR(MATCH(D2532,listy_slownikowe!$AH$3:$AH$326,0),0)","v":0},0]
[null,{"$f":"OFFSET(listy_slownikowe!$AG$2,I2533,0)","v":" "},null,null,null,null,{"$f":"OFFSET(listy_slownikowe!$AI$2,I2533,0)","v":" "},null,{"$f":"IFERROR(MATCH(D2533,listy_slownikowe!$AH$3:$AH$326,0),0)","v":0},0]
[null,"Gatunki dominujące i subdominujące",null,null,null,null,null,null,null,{"$f":"J2535","v":0}]
[null,"nazwa łacińska",null,"nazwa polska",null,null,"udział [%]",null,null,{"$f":"SUM(J2536:J2540)","v":0}]
[null,null,null,null,null,null,null,null,null,{"$f":"COUNTA(B2536:G2536)","v":0}]
[null,null,null,null,null,null,null,null,null,0]
[null,null,null,null,null,null,null,null,null,0]
[null,null,null,null,null,null,null,null,null,0]
[null,null,null,null,null,null,null,null,null,0]
[]
[null,"Spis gatunków numer:",null,null,null,null,{"$f":"G2515+1","v":95},null,null,{"$f":"J2546","v":0}]
[null,"Współrzędne geograficzne",null,null,null,null,null,null,null,{"$f":"J2547","v":0}]
[null,"Długość geograficzna [E] ",null,null,"Szerokość geograficzna [N]",null,null,null,null,{"$f":"J2547","v":0}]
[null,"stopnie","minuty","sekundy","stopnie","minuty","sekundy",null,null,{"$f":"J2546","v":0}]
[null,null,null,null,null,null,null,null,null,{"$f":"J2548+J2562","v":0}]
[null,"Gatunki wskaźnikowe",null,null,null,null,null,null,null,{"$f":"J2548","v":0}]
[null,"nazwa łacińska",null,"nazwa polska",null,null,"walor ",null,null,{"$f":"SUM(J2549:J2560)","v":0}]
[null,{"$f":"OFFSET(listy_slownikowe!$AG$2,I2549,0)","v":" "},null,null,null,null,{"$f":"OFFSET(listy_slownikowe!$AI$2,I2549,0)","v":" "},null,{"$f":"IFERROR(MATCH(D2549,listy_slownikowe!$AH$3:$AH$326,0),0)","v":0},{"$f":"I2549","v":0}]
[null,{"$f":"OFFSET(listy_slownikowe!$AG$2,I2550,0)","v":" "},null,null,null,null,{"$f":"OFFSET(listy_slownikowe!$AI$2,I2550,0)","v":" "},null,{"$f":"IFERROR(MATCH(D2550,listy_slownikowe!$AH$3:$AH$326,0),0)","v":0},{"$f":"I2550","v":0}]
[null,{"$f":"OFFSET(listy_slownikowe!$AG$2,I2551,0)","v":" "},null,null,null,null,{"$f":"OFFSET(listy_slownikowe!$AI$2,I2551,0)","v":" "},null,{"$f":"IFERROR(MATCH(D2551,listy_slownikowe!$AH$3:$AH$326,0),0)","v":0},0]
[null,{"$f":"OFFSET(listy_slownikowe!$AG$2,I2552,0)","v":" "},null,null,null,null,{"$f":"OFFSET(listy_slownikowe!$AI$2,I2552,0)","v":" "},null,{"$f":"IFERROR(MATCH(D2552,listy_slownikowe!$AH$3:$AH$326,0),0)","v":0},0]
[null,{"$f":"OFFSET(listy_slownikowe!$AG$2,I2553,0)","v":" "},null,null,null,null,{"$f":"OFFSET(listy_slownikowe!$AI$2,I2553,0)","v":" "},null,{"$f":"IFERROR(MATCH(D2553,listy_slownikowe!$AH$3:$AH$326,0),0)","v":0},0]
[null,{"$f":"OFFSET(listy_slownikowe!$AG$2,I2554,0)","v":" "},null,null,null,null,{"$f":"OFFSET(listy_slownikowe!$AI$2,I2554,0)","v":" "},null,{"$f":"IFERROR(MATCH(D2554,listy_slownikowe!$AH$3:$AH$326,0),0)","v":0},0]
[null,{"$f":"OFFSET(listy_slownikowe!$AG$2,I2555,0)","v":" "},null,null,null,null,{"$f":"OFFSET(listy_slownikowe!$AI$2,I2555,0)","v":" "},null,{"$f":"IFERROR(MATCH(D2555,listy_slownikowe!$AH$3:$AH$326,0),0)","v":0},0]
[null,{"$f":"OFFSET(listy_slownikowe!$AG$2,I2556,0)","v":" "},null,null,null,null,{"$f":"OFFSET(listy_slownikowe!$AI$2,I2556,0)","v":" "},null,{"$f":"IFERROR(MATCH(D2556,listy_slownikowe!$AH$3:$AH$326,0),0)","v":0},0]
[null,{"$f":"OFFSET(listy_slownikowe!$AG$2,I2557,0)","v":" "},null,null,null,null,{"$f":"OFFSET(listy_slownikowe!$AI$2,I2557,0)","v":" "},null,{"$f":"IFERROR(MATCH(D2557,listy_slownikowe!$AH$3:$AH$326,0),0)","v":0},0]
[null,{"$f":"OFFSET(listy_slownikowe!$AG$2,I2558,0)","v":" "},null,null,null,null,{"$f":"OFFSET(listy_slownikowe!$AI$2,I2558,0)","v":" "},null,{"$f":"IFERROR(MATCH(D2558,listy_slownikowe!$AH$3:$AH$326,0),0)","v":0},0]
[null,{"$f":"OFFSET(listy_slownikowe!$AG$2,I2559,0)","v":" "},null,"",null,null,{"$f":"OFFSET(listy_slownikowe!$AI$2,I2559,0)","v":" "},null,{"$f":"IFERROR(MATCH(D2559,listy_slownikowe!$AH$3:$AH$326,0),0)","v":0},0]
[null,{"$f":"OFFSET(listy_slownikowe!$AG$2,I2560,0)","v":" "},null,null,null,null,{"$f":"OFFSET(listy_slownikowe!$AI$2,I2560,0)","v":" "},null,{"$f":"IFERROR(MATCH(D2560,listy_slownikowe!$AH$3:$AH$326,0),0)","v":0},0]
[null,"Gatunki dominujące i subdominujące",null,null,null,null,null,null,null,{"$f":"J2562","v":0}]
[null,"nazwa łacińska",null,"nazwa polska",null,null,"udział [%]",null,null,{"$f":"SUM(J2563:J2567)","v":0}]
[null,null,null,null,null,null,null,null,null,{"$f":"COUNTA(B2563:G2563)","v":0}]
[null,null,null,null,null,null,null,null,null,0]
[null,null,null,null,null,null,null,null,null,0]
[null,null,null,null,null,null,null,null,null,0]
[null,null,null,null,null,null,null,null,null,0]
[]
[null,"Spis gatunków numer:",null,null,null,null,{"$f":"G2542+1","v":96},null,null,{"$f":"J2573","v":0}]
[null,"Współrzędne geograficzne",null,null,null,null,null,null,null,{"$f":"J2574","v":0}]
[null,"Długość geograficzna [E] ",null,null,"Szerokość geograficzna [N]",null,null,null,null,{"$f":"J2574","v":0}]
[null,"stopnie","minuty","sekundy","stopnie","minuty","sekundy",null,null,{"$f":"J2573","v":0}]
[null,null,null,null,null,null,null,null,null,{"$f":"J2575+J2589","v":0}]
[null,"Gatunki wskaźnikowe",null,null,null,null,null,null,null,{"$f":"J2575","v":0}]
[null,"nazwa łacińska",null,"nazwa polska",null,null,"walor ",null,null,{"$f":"SUM(J2576:J2587)","v":0}]
[null,{"$f":"OFFSET(listy_slownikowe!$AG$2,I2576,0)","v":" "},null,null,null,null,{"$f":"OFFSET(listy_slownikowe!$AI$2,I2576,0)","v":" "},null,{"$f":"IFERROR(MATCH(D2576,listy_slownikowe!$AH$3:$AH$326,0),0)","v":0},{"$f":"I2576","v":0}]
[null,{"$f":"OFFSET(listy_slownikowe!$AG$2,I2577,0)","v":" "},null,null,null,null,{"$f":"OFFSET(listy_slownikowe!$AI$2,I2577,0)","v":" "},null,{"$f":"IFERROR(MATCH(D2577,listy_slownikowe!$AH$3:$AH$326,0),0)","v":0},{"$f":"I2577","v":0}]
[null,{"$f":"OFFSET(listy_slownikowe!$AG$2,I2578,0)","v":" "},null,null,null,null,{"$f":"OFFSET(listy_slownikowe!$AI$2,I2578,0)","v":" "},null,{"$f":"IFERROR(MATCH(D2578,listy_slownikowe!$AH$3:$AH$326,0),0)","v":0},0]
[null,{"$f":"OFFSET(listy_slownikowe!$AG$2,I2579,0)","v":" "},null,null,null,null,{"$f":"OFFSET(listy_slownikowe!$AI$2,I2579,0)","v":" "},null,{"$f":"IFERROR(MATCH(D2579,listy_slownikowe!$AH$3:$AH$326,0),0)","v":0},0]
[null,{"$f":"OFFSET(listy_slownikowe!$AG$2,I2580,0)","v":" "},null,null,null,null,{"$f":"OFFSET(listy_slownikowe!$AI$2,I2580,0)","v":" "},null,{"$f":"IFERROR(MATCH(D2580,listy_slownikowe!$AH$3:$AH$326,0),0)","v":0},0]
[null,{"$f":"OFFSET(listy_slownikowe!$AG$2,I2581,0)","v":" "},null,null,null,null,{"$f":"OFFSET(listy_slownikowe!$AI$2,I2581,0)","v":" "},null,{"$f":"IFERROR(MATCH(D2581,listy_slownikowe!$AH$3:$AH$326,0),0)","v":0},0]
[null,{"$f":"OFFSET(listy_slownikowe!$AG$2,I2582,0)","v":" "},null,null,null,null,{"$f":"OFFSET(listy_slownikowe!$AI$2,I2582,0)","v":" "},null,{"$f":"IFERROR(MATCH(D2582,listy_slownikowe!$AH$3:$AH$326,0),0)","v":0},0]
[null,{"$f":"OFFSET(listy_slownikowe!$AG$2,I2583,0)","v":" "},null,null,null,null,{"$f":"OFFSET(listy_slownikowe!$AI$2,I2583,0)","v":" "},null,{"$f":"IFERROR(MATCH(D2583,listy_slownikowe!$AH$3:$AH$326,0),0)","v":0},0]
[null,{"$f":"OFFSET(listy_slownikowe!$AG$2,I2584,0)","v":" "},null,null,null,null,{"$f":"OFFSET(listy_slownikowe!$AI$2,I2584,0)","v":" "},null,{"$f":"IFERROR(MATCH(D2584,listy_slownikowe!$AH$3:$AH$326,0),0)","v":0},0]
[null,{"$f":"OFFSET(listy_slownikowe!$AG$2,I2585,0)","v":" "},null,null,null,null,{"$f":"OFFSET(listy_slownikowe!$AI$2,I2585,0)","v":" "},null,{"$f":"IFERROR(MATCH(D2585,listy_slownikowe!$AH$3:$AH$326,0),0)","v":0},0]
[null,{"$f":"OFFSET(listy_slownikowe!$AG$2,I2586,0)","v":" "},null,"",null,null,{"$f":"OFFSET(listy_slownikowe!$AI$2,I2586,0)","v":" "},null,{"$f":"IFERROR(MATCH(D2586,listy_slownikowe!$AH$3:$AH$326,0),0)","v":0},0]
[null,{"$f":"OFFSET(listy_slownikowe!$AG$2,I2587,0)","v":" "},null,null,null,null,{"$f":"OFFSET(listy_slownikowe!$AI$2,I2587,0)","v":" "},null,{"$f":"IFERROR(MATCH(D2587,listy_slownikowe!$AH$3:$AH$326,0),0)","v":0},0]
[null,"Gatunki dominujące i subdominujące",null,null,null,null,null,null,null,{"$f":"J2589","v":0}]
[null,"nazwa łacińska",null,"nazwa polska",null,null,"udział [%]",null,null,{"$f":"SUM(J2590:J2594)","v":0}]
[null,null,null,null,null,null,null,null,null,{"$f":"COUNTA(B2590:G2590)","v":0}]
[null,null,null,null,null,null,null,null,null,0]
[null,null,null,null,null,null,null,null,null,0]
[null,null,null,null,null,null,null,null,null,0]
[null,null,null,null,null,null,null,null,null,0]
[]
[null,"Spis gatunków numer:",null,null,null,null,{"$f":"G2569+1","v":97},null,null,{"$f":"J2600","v":0}]
[null,"Współrzędne geograficzne",null,null,null,null,null,null,null,{"$f":"J2601","v":0}]
[null,"Długość geograficzna [E] ",null,null,"Szerokość geograficzna [N]",null,null,null,null,{"$f":"J2601","v":0}]
[null,"stopnie","minuty","sekundy","stopnie","minuty","sekundy",null,null,{"$f":"J2600","v":0}]
[null,null,null,null,null,null,null,null,null,{"$f":"J2602+J2616","v":0}]
[null,"Gatunki wskaźnikowe",null,null,null,null,null,null,null,{"$f":"J2602","v":0}]
[null,"nazwa łacińska",null,"nazwa polska",null,null,"walor ",null,null,{"$f":"SUM(J2603:J2614)","v":0}]
[null,{"$f":"OFFSET(listy_slownikowe!$AG$2,I2603,0)","v":" "},null,null,null,null,{"$f":"OFFSET(listy_slownikowe!$AI$2,I2603,0)","v":" "},null,{"$f":"IFERROR(MATCH(D2603,listy_slownikowe!$AH$3:$AH$326,0),0)","v":0},{"$f":"I2603","v":0}]
[null,{"$f":"OFFSET(listy_slownikowe!$AG$2,I2604,0)","v":" "},null,null,null,null,{"$f":"OFFSET(listy_slownikowe!$AI$2,I2604,0)","v":" "},null,{"$f":"IFERROR(MATCH(D2604,listy_slownikowe!$AH$3:$AH$326,0),0)","v":0},{"$f":"I2604","v":0}]
[null,{"$f":"OFFSET(listy_slownikowe!$AG$2,I2605,0)","v":" "},null,null,null,null,{"$f":"OFFSET(listy_slownikowe!$AI$2,I2605,0)","v":" "},null,{"$f":"IFERROR(MATCH(D2605,listy_slownikowe!$AH$3:$AH$326,0),0)","v":0},0]
[null,{"$f":"OFFSET(listy_slownikowe!$AG$2,I2606,0)","v":" "},null,null,null,null,{"$f":"OFFSET(listy_slownikowe!$AI$2,I2606,0)","v":" "},null,{"$f":"IFERROR(MATCH(D2606,listy_slownikowe!$AH$3:$AH$326,0),0)","v":0},0]
[null,{"$f":"OFFSET(listy_slownikowe!$AG$2,I2607,0)","v":" "},null,null,null,null,{"$f":"OFFSET(listy_slownikowe!$AI$2,I2607,0)","v":" "},null,{"$f":"IFERROR(MATCH(D2607,listy_slownikowe!$AH$3:$AH$326,0),0)","v":0},0]
[null,{"$f":"OFFSET(listy_slownikowe!$AG$2,I2608,0)","v":" "},null,null,null,null,{"$f":"OFFSET(listy_slownikowe!$AI$2,I2608,0)","v":" "},null,{"$f":"IFERROR(MATCH(D2608,listy_slownikowe!$AH$3:$AH$326,0),0)","v":0},0]
[null,{"$f":"OFFSET(listy_slownikowe!$AG$2,I2609,0)","v":" "},null,null,null,null,{"$f":"OFFSET(listy_slownikowe!$AI$2,I2609,0)","v":" "},null,{"$f":"IFERROR(MATCH(D2609,listy_slownikowe!$AH$3:$AH$326,0),0)","v":0},0]
[null,{"$f":"OFFSET(listy_slownikowe!$AG$2,I2610,0)","v":" "},null,null,null,null,{"$f":"OFFSET(listy_slownikowe!$AI$2,I2610,0)","v":" "},null,{"$f":"IFERROR(MATCH(D2610,listy_slownikowe!$AH$3:$AH$326,0),0)","v":0},0]
[null,{"$f":"OFFSET(listy_slownikowe!$AG$2,I2611,0)","v":" "},null,null,null,null,{"$f":"OFFSET(listy_slownikowe!$AI$2,I2611,0)","v":" "},null,{"$f":"IFERROR(MATCH(D2611,listy_slownikowe!$AH$3:$AH$326,0),0)","v":0},0]
[null,{"$f":"OFFSET(listy_slownikowe!$AG$2,I2612,0)","v":" "},null,null,null,null,{"$f":"OFFSET(listy_slownikowe!$AI$2,I2612,0)","v":" "},null,{"$f":"IFERROR(MATCH(D2612,listy_slownikowe!$AH$3:$AH$326,0),0)","v":0},0]
[null,{"$f":"OFFSET(listy_slownikowe!$AG$2,I2613,0)","v":" "},null,"",null,null,{"$f":"OFFSET(listy_slownikowe!$AI$2,I2613,0)","v":" "},null,{"$f":"IFERROR(MATCH(D2613,listy_slownikowe!$AH$3:$AH$326,0),0)","v":0},0]
[null,{"$f":"OFFSET(listy_slownikowe!$AG$2,I2614,0)","v":" "},null,null,null,null,{"$f":"OFFSET(listy_slownikowe!$AI$2,I2614,0)","v":" "},null,{"$f":"IFERROR(MATCH(D2614,listy_slownikowe!$AH$3:$AH$326,0),0)","v":0},0]
[null,"Gatunki dominujące i subdominujące",null,null,null,null,null,null,null,{"$f":"J2616","v":0}]
[null,"nazwa łacińska",null,"nazwa polska",null,null,"udział [%]",null,null,{"$f":"SUM(J2617:J2621)","v":0}]
[null,null,null,null,null,null,null,null,null,{"$f":"COUNTA(B2617:G2617)","v":0}]
[null,null,null,null,null,null,null,null,null,0]
[null,null,null,null,null,null,null,null,null,0]
[null,null,null,null,null,null,null,null,null,0]
[null,null,null,null,null,null,null,null,null,0]
[]
[null,"Spis gatunków numer:",null,null,null,null,{"$f":"G2596+1","v":98},null,null,{"$f":"J2627","v":0}]
[null,"Współrzędne geograficzne",null,null,null,null,null,null,null,{"$f":"J2628","v":0}]
[null,"Długość geograficzna [E] ",null,null,"Szerokość geograficzna [N]",null,null,null,null,{"$f":"J2628","v":0}]
[null,"stopnie","minuty","sekundy","stopnie","minuty","sekundy",null,null,{"$f":"J2627","v":0}]
[null,null,null,null,null,null,null,null,null,{"$f":"J2629+J2643","v":0}]
[null,"Gatunki wskaźnikowe",null,null,null,null,null,null,null,{"$f":"J2629","v":0}]
[null,"nazwa łacińska",null,"nazwa polska",null,null,"walor ",null,null,{"$f":"SUM(J2630:J2641)","v":0}]
[null,{"$f":"OFFSET(listy_slownikowe!$AG$2,I2630,0)","v":" "},null,null,null,null,{"$f":"OFFSET(listy_slownikowe!$AI$2,I2630,0)","v":" "},null,{"$f":"IFERROR(MATCH(D2630,listy_slownikowe!$AH$3:$AH$326,0),0)","v":0},{"$f":"I2630","v":0}]
[null,{"$f":"OFFSET(listy_slownikowe!$AG$2,I2631,0)","v":" "},null,null,null,null,{"$f":"OFFSET(listy_slownikowe!$AI$2,I2631,0)","v":" "},null,{"$f":"IFERROR(MATCH(D2631,listy_slownikowe!$AH$3:$AH$326,0),0)","v":0},{"$f":"I2631","v":0}]
[null,{"$f":"OFFSET(listy_slownikowe!$AG$2,I2632,0)","v":" "},null,null,null,null,{"$f":"OFFSET(listy_slownikowe!$AI$2,I2632,0)","v":" "},null,{"$f":"IFERROR(MATCH(D2632,listy_slownikowe!$AH$3:$AH$326,0),0)","v":0},0]
[null,{"$f":"OFFSET(listy_slownikowe!$AG$2,I2633,0)","v":" "},null,null,null,null,{"$f":"OFFSET(listy_slownikowe!$AI$2,I2633,0)","v":" "},null,{"$f":"IFERROR(MATCH(D2633,listy_slownikowe!$AH$3:$AH$326,0),0)","v":0},0]
[null,{"$f":"OFFSET(listy_slownikowe!$AG$2,I2634,0)","v":" "},null,null,null,null,{"$f":"OFFSET(listy_slownikowe!$AI$2,I2634,0)","v":" "},null,{"$f":"IFERROR(MATCH(D2634,listy_slownikowe!$AH$3:$AH$326,0),0)","v":0},0]
[null,{"$f":"OFFSET(listy_slownikowe!$AG$2,I2635,0)","v":" "},null,null,null,null,{"$f":"OFFSET(listy_slownikowe!$AI$2,I2635,0)","v":" "},null,{"$f":"IFERROR(MATCH(D2635,listy_slownikowe!$AH$3:$AH$326,0),0)","v":0},0]
[null,{"$f":"OFFSET(listy_slownikowe!$AG$2,I2636,0)","v":" "},null,null,null,null,{"$f":"OFFSET(listy_slownikowe!$AI$2,I2636,0)","v":" "},null,{"$f":"IFERROR(MATCH(D2636,listy_slownikowe!$AH$3:$AH$326,0),0)","v":0},0]
[null,{"$f":"OFFSET(listy_slownikowe!$AG$2,I2637,0)","v":" "},null,null,null,null,{"$f":"OFFSET(listy_slownikowe!$AI$2,I2637,0)","v":" "},null,{"$f":"IFERROR(MATCH(D2637,listy_slownikowe!$AH$3:$AH$326,0),0)","v":0},0]
[null,{"$f":"OFFSET(listy_slownikowe!$AG$2,I2638,0)","v":" "},null,null,null,null,{"$f":"OFFSET(listy_slownikowe!$AI$2,I2638,0)","v":" "},null,{"$f":"IFERROR(MATCH(D2638,listy_slownikowe!$AH$3:$AH$326,0),0)","v":0},0]
[null,{"$f":"OFFSET(listy_slownikowe!$AG$2,I2639,0)","v":" "},null,null,null,null,{"$f":"OFFSET(listy_slownikowe!$AI$2,I2639,0)","v":" "},null,{"$f":"IFERROR(MATCH(D2639,listy_slownikowe!$AH$3:$AH$326,0),0)","v":0},0]
[null,{"$f":"OFFSET(listy_slownikowe!$AG$2,I2640,0)","v":" "},null,"",null,null,{"$f":"OFFSET(listy_slownikowe!$AI$2,I2640,0)","v":" "},null,{"$f":"IFERROR(MATCH(D2640,listy_slownikowe!$AH$3:$AH$326,0),0)","v":0},0]
[null,{"$f":"OFFSET(listy_slownikowe!$AG$2,I2641,0)","v":" "},null,null,null,null,{"$f":"OFFSET(listy_slownikowe!$AI$2,I2641,0)","v":" "},null,{"$f":"IFERROR(MATCH(D2641,listy_slownikowe!$AH$3:$AH$326,0),0)","v":0},0]
[null,"Gatunki dominujące i subdominujące",null,null,null,null,null,null,null,{"$f":"J2643","v":0}]
[null,"nazwa łacińska",null,"nazwa polska",null,null,"udział [%]",null,null,{"$f":"SUM(J2644:J2648)","v":0}]
[null,null,null,null,null,null,null,null,null,{"$f":"COUNTA(B2644:G2644)","v":0}]
[null,null,null,null,null,null,null,null,null,0]
[null,null,null,null,null,null,null,null,null,0]
[null,null,null,null,null,null,null,null,null,0]
[null,null,null,null,null,null,null,null,null,0]
[]
[null,"Spis gatunków numer:",null,null,null,null,{"$f":"G2623+1","v":99},null,null,{"$f":"J2654","v":0}]
[null,"Współrzędne geograficzne",null,null,null,null,null,null,null,{"$f":"J2655","v":0}]
[null,"Długość geograficzna [E] ",null,null,"Szerokość geograficzna [N]",null,null,null,null,{"$f":"J2655","v":0}]
[null,"stopnie","minuty","sekundy","stopnie","minuty","sekundy",null,null,{"$f":"J2654","v":0}]
[null,null,null,null,null,null,null,null,null,{"$f":"J2656+J2670","v":0}]
[null,"Gatunki wskaźnikowe",null,null,null,null,null,null,null,{"$f":"J2656","v":0}]
[null,"nazwa łacińska",null,"nazwa polska",null,null,"walor ",null,null,{"$f":"SUM(J2657:J2668)","v":0}]
[null,{"$f":"OFFSET(listy_slownikowe!$AG$2,I2657,0)","v":" "},null,null,null,null,{"$f":"OFFSET(listy_slownikowe!$AI$2,I2657,0)","v":" "},null,{"$f":"IFERROR(MATCH(D2657,listy_slownikowe!$AH$3:$AH$326,0),0)","v":0},{"$f":"I2657","v":0}]
[null,{"$f":"OFFSET(listy_slownikowe!$AG$2,I2658,0)","v":" "},null,null,null,null,{"$f":"OFFSET(listy_slownikowe!$AI$2,I2658,0)","v":" "},null,{"$f":"IFERROR(MATCH(D2658,listy_slownikowe!$AH$3:$AH$326,0),0)","v":0},{"$f":"I2658","v":0}]
[null,{"$f":"OFFSET(listy_slownikowe!$AG$2,I2659,0)","v":" "},null,null,null,null,{"$f":"OFFSET(listy_slownikowe!$AI$2,I2659,0)","v":" "},null,{"$f":"IFERROR(MATCH(D2659,listy_slownikowe!$AH$3:$AH$326,0),0)","v":0},0]
[null,{"$f":"OFFSET(listy_slownikowe!$AG$2,I2660,0)","v":" "},null,null,null,null,{"$f":"OFFSET(listy_slownikowe!$AI$2,I2660,0)","v":" "},null,{"$f":"IFERROR(MATCH(D2660,listy_slownikowe!$AH$3:$AH$326,0),0)","v":0},0]
[null,{"$f":"OFFSET(listy_slownikowe!$AG$2,I2661,0)","v":" "},null,null,null,null,{"$f":"OFFSET(listy_slownikowe!$AI$2,I2661,0)","v":" "},null,{"$f":"IFERROR(MATCH(D2661,listy_slownikowe!$AH$3:$AH$326,0),0)","v":0},0]
[null,{"$f":"OFFSET(listy_slownikowe!$AG$2,I2662,0)","v":" "},null,null,null,null,{"$f":"OFFSET(listy_slownikowe!$AI$2,I2662,0)","v":" "},null,{"$f":"IFERROR(MATCH(D2662,listy_slownikowe!$AH$3:$AH$326,0),0)","v":0},0]
[null,{"$f":"OFFSET(listy_slownikowe!$AG$2,I2663,0)","v":" "},null,null,null,null,{"$f":"OFFSET(listy_slownikowe!$AI$2,I2663,0)","v":" "},null,{"$f":"IFERROR(MATCH(D2663,listy_slownikowe!$AH$3:$AH$326,0),0)","v":0},0]
[null,{"$f":"OFFSET(listy_slownikowe!$AG$2,I2664,0)","v":" "},null,null,null,null,{"$f":"OFFSET(listy_slownikowe!$AI$2,I2664,0)","v":" "},null,{"$f":"IFERROR(MATCH(D2664,listy_slownikowe!$AH$3:$AH$326,0),0)","v":0},0]
[null,{"$f":"OFFSET(listy_slownikowe!$AG$2,I2665,0)","v":" "},null,null,null,null,{"$f":"OFFSET(listy_slownikowe!$AI$2,I2665,0)","v":" "},null,{"$f":"IFERROR(MATCH(D2665,listy_slownikowe!$AH$3:$AH$326,0),0)","v":0},0]
[null,{"$f":"OFFSET(listy_slownikowe!$AG$2,I2666,0)","v":" "},null,null,null,null,{"$f":"OFFSET(listy_slownikowe!$AI$2,I2666,0)","v":" "},null,{"$f":"IFERROR(MATCH(D2666,listy_slownikowe!$AH$3:$AH$326,0),0)","v":0},0]
[null,{"$f":"OFFSET(listy_slownikowe!$AG$2,I2667,0)","v":" "},null,"",null,null,{"$f":"OFFSET(listy_slownikowe!$AI$2,I2667,0)","v":" "},null,{"$f":"IFERROR(MATCH(D2667,listy_slownikowe!$AH$3:$AH$326,0),0)","v":0},0]
[null,{"$f":"OFFSET(listy_slownikowe!$AG$2,I2668,0)","v":" "},null,null,null,null,{"$f":"OFFSET(listy_slownikowe!$AI$2,I2668,0)","v":" "},null,{"$f":"IFERROR(MATCH(D2668,listy_slownikowe!$AH$3:$AH$326,0),0)","v":0},0]
[null,"Gatunki dominujące i subdominujące",null,null,null,null,null,null,null,{"$f":"J2670","v":0}]
[null,"nazwa łacińska",null,"nazwa polska",null,null,"udział [%]",null,null,{"$f":"SUM(J2671:J2675)","v":0}]
[null,null,null,null,null,null,null,null,null,{"$f":"COUNTA(B2671:G2671)","v":0}]
[null,null,null,null,null,null,null,null,null,0]
[null,null,null,null,null,null,null,null,null,0]
[null,null,null,null,null,null,null,null,null,0]
[null,null,null,null,null,null,null,null,null,0]
[]
[null,"Spis gatunków numer:",null,null,null,null,{"$f":"G2650+1","v":100},null,null,{"$f":"J2681","v":0}]
[null,"Współrzędne geograficzne",null,null,null,null,null,null,null,{"$f":"J2682","v":0}]
[null,"Długość geograficzna [E] ",null,null,"Szerokość geograficzna [N]",null,null,null,null,{"$f":"J2682","v":0}]
[null,"stopnie","minuty","sekundy","stopnie","minuty","sekundy",null,null,{"$f":"J2681","v":0}]
[null,null,null,null,null,null,null,null,null,{"$f":"J2683+J2697","v":0}]
[null,"Gatunki wskaźnikowe",null,null,null,null,null,null,null,{"$f":"J2683","v":0}]
[null,"nazwa łacińska",null,"nazwa polska",null,null,"walor ",null,null,{"$f":"SUM(J2684:J2695)","v":0}]
[null,{"$f":"OFFSET(listy_slownikowe!$AG$2,I2684,0)","v":" "},null,null,null,null,{"$f":"OFFSET(listy_slownikowe!$AI$2,I2684,0)","v":" "},null,{"$f":"IFERROR(MATCH(D2684,listy_slownikowe!$AH$3:$AH$326,0),0)","v":0},{"$f":"I2684","v":0}]
[null,{"$f":"OFFSET(listy_slownikowe!$AG$2,I2685,0)","v":" "},null,null,null,null,{"$f":"OFFSET(listy_slownikowe!$AI$2,I2685,0)","v":" "},null,{"$f":"IFERROR(MATCH(D2685,listy_slownikowe!$AH$3:$AH$326,0),0)","v":0},{"$f":"I2685","v":0}]
[null,{"$f":"OFFSET(listy_slownikowe!$AG$2,I2686,0)","v":" "},null,null,null,null,{"$f":"OFFSET(listy_slownikowe!$AI$2,I2686,0)","v":" "},null,{"$f":"IFERROR(MATCH(D2686,listy_slownikowe!$AH$3:$AH$326,0),0)","v":0},0]
[null,{"$f":"OFFSET(listy_slownikowe!$AG$2,I2687,0)","v":" "},null,null,null,null,{"$f":"OFFSET(listy_slownikowe!$AI$2,I2687,0)","v":" "},null,{"$f":"IFERROR(MATCH(D2687,listy_slownikowe!$AH$3:$AH$326,0),0)","v":0},0]
[null,{"$f":"OFFSET(listy_slownikowe!$AG$2,I2688,0)","v":" "},null,null,null,null,{"$f":"OFFSET(listy_slownikowe!$AI$2,I2688,0)","v":" "},null,{"$f":"IFERROR(MATCH(D2688,listy_slownikowe!$AH$3:$AH$326,0),0)","v":0},0]
[null,{"$f":"OFFSET(listy_slownikowe!$AG$2,I2689,0)","v":" "},null,null,null,null,{"$f":"OFFSET(listy_slownikowe!$AI$2,I2689,0)","v":" "},null,{"$f":"IFERROR(MATCH(D2689,listy_slownikowe!$AH$3:$AH$326,0),0)","v":0},0]
[null,{"$f":"OFFSET(listy_slownikowe!$AG$2,I2690,0)","v":" "},null,null,null,null,{"$f":"OFFSET(listy_slownikowe!$AI$2,I2690,0)","v":" "},null,{"$f":"IFERROR(MATCH(D2690,listy_slownikowe!$AH$3:$AH$326,0),0)","v":0},0]
[null,{"$f":"OFFSET(listy_slownikowe!$AG$2,I2691,0)","v":" "},null,null,null,null,{"$f":"OFFSET(listy_slownikowe!$AI$2,I2691,0)","v":" "},null,{"$f":"IFERROR(MATCH(D2691,listy_slownikowe!$AH$3:$AH$326,0),0)","v":0},0]
[null,{"$f":"OFFSET(listy_slownikowe!$AG$2,I2692,0)","v":" "},null,"",null,null,{"$f":"OFFSET(listy_slownikowe!$AI$2,I2692,0)","v":" "},null,{"$f":"IFERROR(MATCH(D2692,listy_slownikowe!$AH$3:$AH$326,0),0)","v":0},0]
[null,{"$f":"OFFSET(listy_slownikowe!$AG$2,I2693,0)","v":" "},null,null,null,null,{"$f":"OFFSET(listy_slownikowe!$AI$2,I2693,0)","v":" "},null,{"$f":"IFERROR(MATCH(D2693,listy_slownikowe!$AH$3:$AH$326,0),0)","v":0},0]
[null,{"$f":"OFFSET(listy_slownikowe!$AG$2,I2694,0)","v":" "},null,"",null,null,{"$f":"OFFSET(listy_slownikowe!$AI$2,I2694,0)","v":" "},null,{"$f":"IFERROR(MATCH(D2694,listy_slownikowe!$AH$3:$AH$326,0),0)","v":0},0]
[null,{"$f":"OFFSET(listy_slownikowe!$AG$2,I2695,0)","v":" "},null,null,null,null,{"$f":"OFFSET(listy_slownikowe!$AI$2,I2695,0)","v":" "},null,{"$f":"IFERROR(MATCH(D2695,listy_slownikowe!$AH$3:$AH$326,0),0)","v":0},0]
[null,"Gatunki dominujące i subdominujące",null,null,null,null,null,null,null,{"$f":"J2697","v":0}]
[null,"nazwa łacińska",null,"nazwa polska",null,null,"udział [%]",null,null,{"$f":"SUM(J2698:J2702)","v":0}]
[null,null,null,null,null,null,null,null,null,{"$f":"COUNTA(B2698:G2698)","v":0}]
[null,null,null,null,null,null,null,null,null,0]
[null,null,null,null,null,null,null,null,null,0]
[null,null,null,null,null,null,null,null,null,0]
[null,null,null,null,null,null,null,null,null,0]

{"sheet":"SSG","index":11,"n_rows":1,"n_cols":1,"rows_kept":1,"cut":false,"hidden":true,"merged":[]}
[15]

{"sheet":"Wymogi 4(5).1.RSS(0)","index":12,"n_rows":112,"n_cols":17,"rows_kept":112,"cut":false,"hidden":true,"merged":[[56,2,56,3],[56,5,56,6],[61,2,61,6],[52,2,52,6],[53,2,53,3],[53,5,53,6],[54,2,54,3],[54,5,54,6],[55,2,55,3],[55,5,55,6],[46,5,47,5],[46,6,47,6],[48,2,48,3],[49,2,49,3],[50,2,50,3],[51,2,51,3],[42,2,42,3],[43,2,43,3],[44,2,44,3],[45,2,45,3],[46,1,47,1],[46,4,47,4],[34,1,40,1],[34,2,34,3],[34,4,40,4],[34,5,40,5],[34,6,40,6],[41,2,41,3],[24,0,25,0],[26,2,26,6],[27,1,33,1],[27,2,27,3],[27,4,33,4],[27,5,33,5],[27,6,33,6],[18,2,18,6],[19,1,25,1],[19,2,19,3],[19,4,25,4],[19,5,25,5],[19,6,25,6],[17,2,17,3],[6,2,6,3],[7,2,7,6],[8,2,8,3],[9,2,9,3],[10,2,10,3],[11,2,11,3],[12,2,12,3],[13,2,13,3],[14,2,14,3],[15,2,15,3],[16,2,16,3],[2,5,5,5],[0,1,1,1],[0,2,1,3],[2,1,5,1],[2,2,5,2],[2,3,5,3]]}
[null,"WYMOGI DLA WARIANTU 4.1. ALBO WARIANTU 5.1.","Zmiennowilgotne łąki trzęślicowe",null,null,null,"Powrót",null,{"$f":"\"Wymogi \"&RIGHT(C3,5)&E3&J1&E6","v":"Wymogi "},{"$f":"IF(E6<>\"\",\"_\",\"\")","v":""},null,null,null,null,null,"pak4/5",{"$f":"IF($P$3=5,'S_Zestawienie dzialek'!$AT3,IF($P$3=4,'S_Zestawienie dzialek'!$AS3,0))+1","v":1}]
[null,null,null,null,null,null,null,null,null,null,null,null,null,null,"VBA"]
[null,{"$f":"\"WYMOGI DLA WARIANTU\" &\" \"&RIGHT(C3,4)","v":"WYMOGI DLA WARIANTU "},null,"działka RSS:",null,"działki rolne:",null,null,null,null,1,null,null,{"$f":"MATCH(E3,'S_Zestawienie dzialek'!$W$6:$W$20,0)","v":{"$error":"#N/A"}},{"$f":"IFERROR(OFFSET('S_Zestawienie dzialek'!$AB$5,N3,0),\"\")","v":""},{"$f":"IFERROR(VALUE(MID(C3,9,1)),\"\")","v":""},{"$f":"IF($P$3=5,'S_Zestawienie dzialek'!$AT7,IF($P$3=4,'S_Zestawienie dzialek'!$AS7,0))","v":0}]
[null,null,null,null,null,null,null,null,null,null,{"$f":"COUNTA(G4)","v":0},null,null,{"$f":"MATCH(E4,'S_Zestawienie dzialek'!$W$6:$W$20,0)","v":{"$error":"#N/A"}},{"$f":"IFERROR(OFFSET('S_Zestawienie dzialek'!$AB$5,N4,0),\"\")","v":""},null,{"$f":"IF($P$3=5,'S_Zestawienie dzialek'!$AT8,IF($P$3=4,'S_Zestawienie dzialek'!$AS8,0))","v":0}]
[null,null,null,null,null,null,null,null,null,null,{"$f":"COUNTA(G5)","v":0},null,null,{"$f":"MATCH(E5,'S_Zestawienie dzialek'!$W$6:$W$20,0)","v":{"$error":"#N/A"}},{"$f":"IFERROR(OFFSET('S_Zestawienie dzialek'!$AB$5,N5,0),\"\")","v":""},null,{"$f":"IF($P$3=5,'S_Zestawienie dzialek'!$AT9,IF($P$3=4,'S_Zestawienie dzialek'!$AS9,0))","v":0}]
[null,null,null,null,null,null,null,null,null,null,0,null,null,{"$f":"MATCH(E6,'S_Zestawienie dzialek'!$W$6:$W$20,0)","v":{"$error":"#N/A"}},{"$f":"IFERROR(OFFSET('S_Zestawienie dzialek'!$AB$5,N6,0),\"\")","v":""},null,{"$f":"IF($P$3=5,'S_Zestawienie dzialek'!$AT10,IF($P$3=4,'S_Zestawienie dzialek'!$AS10,0))","v":0}]
[null,"Wymogi z rozporządzenia ws. szczegółowych warunków i trybu przyznawania pomocy finansowej w ramach działania \"Działanie rolno-środowiskowo-klimatyczne\" objętego PROW na lata 2014-2020","Wymogi obowiązujące rolnika lub zarządcę – \nuszczegółowione wymogi  rozporządzenia rolno-środowiskowo-klimatycznego",null,"Zalecenia","Źródło uszczegółowień wymogów","Uzasadnienie uszczegółowień wymogów i zaleceń",null,null,null,1,null,null,null,null,null,{"$f":"IF($P$3=5,'S_Zestawienie dzialek'!$AT11,IF($P$3=4,'S_Zestawienie dzialek'!$AS11,0))","v":0}]
[null," Wymogi obowiązkowe dla wszystkich typów użytkowania"," Wymogi obowiązkowe dla wszystkich typów użytkowania",null,null,null,null,null,null,null,1,null,null,null,null,null,{"$f":"IF($P$3=5,'S_Zestawienie dzialek'!$AT12,IF($P$3=4,'S_Zestawienie dzialek'!$AS12,0))","v":0}]
[null,"zakaz wałowania","zakaz wałowania",null,null,"brak możliwości uszczegółowienia",null,null,null,null,1,null,null,null,null,null,{"$f":"IF($P$3=5,'S_Zestawienie dzialek'!$AT13,IF($P$3=4,'S_Zestawienie dzialek'!$AS13,0))","v":0}]
[null,"zakaz stosowania komunalnych osadów ściekowych","zakaz stosowania komunalnych osadów ściekowych",null,null,"brak możliwości uszczegółowienia",null,null,null,null,1,null,null,null,null,null,{"$f":"IF($P$3=5,'S_Zestawienie dzialek'!$AT14,IF($P$3=4,'S_Zestawienie dzialek'!$AS14,0))","v":0}]
[null,"zakaz stosowania podsiewu","zakaz stosowania podsiewu",null,null,"brak możliwości uszczegółowienia",null,null,null,null,1,null,null,null,null,null,{"$f":"IF($P$3=5,'S_Zestawienie dzialek'!$AT15,IF($P$3=4,'S_Zestawienie dzialek'!$AS15,0))","v":0}]
[null,"zakaz włókowania w okresie od 01-04 do 01-09 na obszarach nizinnych (poniżej 300 m n.p.m.) oraz od 15-04 do 01-09 na obszarach wyżynnych i górskich (powyżej 300 m n.p.m.) ",null,null,null,"brak możliwości uszczegółowienia",null,null,null,null,1,null,null,null,null,null,{"$f":"IF($P$3=5,'S_Zestawienie dzialek'!$AT16,IF($P$3=4,'S_Zestawienie dzialek'!$AS16,0))","v":0}]
[null,"zakaz stosowania środków ochrony roślin, z wyłączeniem selektywnego i miejscowego niszczenia uciążliwych gatunków inwazyjnych z zastosowaniem odpowiedniego sprzętu (np. mazaczy herbicydowych)",null,null,null,null,null,null,null,null,1,null,null,null,null,null,{"$f":"IF($P$3=5,'S_Zestawienie dzialek'!$AT17,IF($P$3=4,'S_Zestawienie dzialek'!$AS17,0))","v":0}]
[null,"zakaz tworzenia nowych, rozbudowy i odtwarzania istniejących urządzeń melioracji wodnych, z wyjątkiem konstrukcji urządzeń mających na celu dostosowanie poziomu wód, wykorzystując istniejące urządzenia melioracji wodnych do wymogów siedliskowych gatunków lub siedlisk będących przedmiotem ochrony w danym pakiecie, jeżeli takie działania zostaną dopuszczone przez eksperta przyrodniczego",null,null,null,null,null,null,null,null,1,null,null,null,null,null,{"$f":"IF($P$3=5,'S_Zestawienie dzialek'!$AT18,IF($P$3=4,'S_Zestawienie dzialek'!$AS18,0))","v":0}]
[null,"zakaz składowania biomasy wśród kęp drzew i zarośli, w rowach, jarach i innych obniżeniach terenu (położonych na działkach zadeklarowanych we wniosku o przyznanie płatności rolno-środowiskowo-klimatycznej)","zakaz składowania biomasy wśród kęp drzew i zarośli, w rowach, jarach i innych obniżeniach terenu (położonych na działkach zadeklarowanych we wniosku o przyznanie płatności rolno-środowiskowo-klimatycznej)",null,null,"brak możliwości uszczegółowienia",null,null,null,null,1,null,null,null,null,null,{"$f":"IF($P$3=5,'S_Zestawienie dzialek'!$AT19,IF($P$3=4,'S_Zestawienie dzialek'!$AS19,0))","v":0}]
[null,"zakaz nawożenia","zakaz nawożenia",null,null,"brak możliwości uszczegółowienia",null,null,null,null,1,null,null,null,null,null,{"$f":"IF($P$3=5,'S_Zestawienie dzialek'!$AT20,IF($P$3=4,'S_Zestawienie dzialek'!$AS20,0))","v":0}]
[null,"zakaz wapnowania","zakaz wapnowania",null,null,"brak możliwości uszczegółowienia",null,null,null,null,1,null,null,null,null,null,{"$f":"IF($P$3=5,'S_Zestawienie dzialek'!$AT21,IF($P$3=4,'S_Zestawienie dzialek'!$AS21,0))","v":0}]
[null,"zakaz mechanicznego niszczenia struktury glebowej w tym bronowania i przeorywania","zakaz mechanicznego niszczenia struktury glebowej, w tym bronowania i przeorywania",null,null,"brak możliwości uszczegółowienia",null,null,null,null,1,null,null,null,null,null,{"$f":"IF($P$3=5,'S_Zestawienie dzialek'!$AT22,IF($P$3=4,'S_Zestawienie dzialek'!$AS22,0))","v":0}]
[null,"Rodzaj użytkowania ","Rodzaj użytkowania ",null,null,null,null,null,null,null,1,null,null,null,null,null,{"$f":"IF($P$3=5,'S_Zestawienie dzialek'!$AT23,IF($P$3=4,'S_Zestawienie dzialek'!$AS23,0))","v":0}]
[null,"kośne, a w uzasadnionych przypadkach dopuszczonych przez eksperta przyrodniczego – kośno-pastwiskowe; w przypadku gdy ekspert przyrodniczy dopuścił użytkowanie kośno-pastwiskowe jest możliwe stosowanie również użytkowania naprzemiennego, przy czym użytkowanie naprzemienne polega na stosowaniu w niektórych latach użytkowania kośnego, a w niektórych latach kośno-pastwiskowego",null,null,null,null,null,null,null,null,1,null,null,null,null,null,{"$f":"IF($P$3=5,'S_Zestawienie dzialek'!$AT24,IF($P$3=4,'S_Zestawienie dzialek'!$AS24,0))","v":0}]
[null,null,{"$f":"S_Dane_ogolne!$E$4","v":2020},null,null,null,null,null,null,null,{"$f":"IF($C$20=\"naprzemienne\",1,0)","v":0},null,null,null,null,null,{"$f":"IF($P$3=5,'S_Zestawienie dzialek'!$AT25,IF($P$3=4,'S_Zestawienie dzialek'!$AS25,0))","v":0}]
[null,null,{"$f":"C21+1","v":2021},null,null,null,null,null,null,null,{"$f":"IF($C$20=\"naprzemienne\",1,0)","v":0},null,null,null,null,null,{"$f":"IF($P$3=5,'S_Zestawienie dzialek'!$AT26,IF($P$3=4,'S_Zestawienie dzialek'!$AS26,0))","v":0}]
[null,null,{"$f":"C22+1","v":2022},null,null,null,null,null,null,null,0,null,null,null,null,null,{"$f":"IF($P$3=5,'S_Zestawienie dzialek'!$AT27,IF($P$3=4,'S_Zestawienie dzialek'!$AS27,0))","v":0}]
[null,null,2023,null,null,null,null,null,null,null,0,null,null,null,null,null,{"$f":"IF($P$3=5,'S_Zestawienie dzialek'!$AT28,IF($P$3=4,'S_Zestawienie dzialek'!$AS28,0))","v":0}]
[null,null,2024,null,null,null,null,null,null,null,0,null,null,null,null,null,{"$f":"IF($P$3=5,'S_Zestawienie dzialek'!$AT29,IF($P$3=4,'S_Zestawienie dzialek'!$AS29,0))","v":0}]
[null,null,2025,null,null,null,null,null,null,null,0,null,null,null,null,null,{"$f":"IF($P$3=5,'S_Zestawienie dzialek'!$AT30,IF($P$3=4,'S_Zestawienie dzialek'!$AS30,0))","v":0}]
[null,"Wymogi obowiązkowe przy użytkowaniu kośnym i kośno-pastwiskowym ","Wymogi obowiązkowe przy użytkowaniu kośnym i kośno-pastwiskowym ",null,null,null,null,null,null,null,1,null,null,null,null,null,{"$f":"IF($P$3=5,'S_Zestawienie dzialek'!$AT31,IF($P$3=4,'S_Zestawienie dzialek'!$AS31,0))","v":0}]
[null,"częstotliwość koszenia: jeden pokos co roku, a w przypadkach określonych przez eksperta przyrodniczego co dwa lata",null,null,null,null,null,null,null,null,1,null,null,null,null,null,{"$f":"IF($P$3=5,'S_Zestawienie dzialek'!$AT32,IF($P$3=4,'S_Zestawienie dzialek'!$AS32,0))","v":0}]
[null,null,{"$f":"C21","v":2020},null,null,null,null,null,null,null,1,null,null,null,null,null,{"$f":"IF($P$3=5,'S_Zestawienie dzialek'!$AT33,IF($P$3=4,'S_Zestawienie dzialek'!$AS33,0))","v":0}]
[null,null,{"$f":"C22","v":2021},null,null,null,null,null,null,null,1,null,null,null,null,null,{"$f":"IF($P$3=5,'S_Zestawienie dzialek'!$AT34,IF($P$3=4,'S_Zestawienie dzialek'!$AS34,0))","v":0}]
[null,null,2022,null,null,null,null,null,null,null,1,null,null,null,null,null,{"$f":"IF($P$3=5,'S_Zestawienie dzialek'!$AT35,IF($P$3=4,'S_Zestawienie dzialek'!$AS35,0))","v":0}]
[null,null,2023,null,null,null,null,null,null,null,1,null,null,null,null,null,{"$f":"IF($P$3=5,'S_Zestawienie dzialek'!$AT36,IF($P$3=4,'S_Zestawienie dzialek'!$AS36,0))","v":0}]
[null,null,2024,null,null,null,null,null,null,null,1,null,null,null,null,null,{"$f":"IF($P$3=5,'S_Zestawienie dzialek'!$AT37,IF($P$3=4,'S_Zestawienie dzialek'!$AS37,0))","v":0}]
[null,null,2025,null,null,null,null,null,null,null,1,null,null,null,null,null,{"$f":"IF($P$3=5,'S_Zestawienie dzialek'!$AT38,IF($P$3=4,'S_Zestawienie dzialek'!$AS38,0))","v":0}]
[null,"termin koszenia: koszenie w terminie określonym przez eksperta przyrodniczego, przy czym termin ten rozpoczyna się nie wcześniej niż w dniu 1 września i kończy się nie później niż w dniu 31 października, a w uzasadnionych przypadkach określonych przez eksperta przyrodniczego, na przykład w sytuacjach wkraczania roślin niepożądanych w tym zbiorowisku – nie wcześniej niż w dniu 15 czerwca i nie później niż w dniu 30 czerwca;",null,null,null,null,null,null,null,null,1,null,null,null,null,null,{"$f":"IF($P$3=5,'S_Zestawienie dzialek'!$AT39,IF($P$3=4,'S_Zestawienie dzialek'!$AS39,0))","v":0}]
[null,null,{"$f":"C29","v":2020},null,null,null,null,null,null,null,1,null,null,null,null,null,{"$f":"IF($P$3=5,'S_Zestawienie dzialek'!$AT40,IF($P$3=4,'S_Zestawienie dzialek'!$AS40,0))","v":0}]
[null,null,{"$f":"C30","v":2021},null,null,null,null,null,null,null,1,null,null,null,null,null,{"$f":"IF($P$3=5,'S_Zestawienie dzialek'!$AT41,IF($P$3=4,'S_Zestawienie dzialek'!$AS41,0))","v":0}]
[null,null,2022,null,null,null,null,null,null,null,1,null,null,null,null,null,{"$f":"IF($P$3=5,'S_Zestawienie dzialek'!$AT42,IF($P$3=4,'S_Zestawienie dzialek'!$AS42,0))","v":0}]
[null,null,2023,null,null,null,null,null,null,null,1,null,null,null,null,null,{"$f":"IF($P$3=5,'S_Zestawienie dzialek'!$AT43,IF($P$3=4,'S_Zestawienie dzialek'!$AS43,0))","v":0}]
[null,null,2024,null,null,null,null,null,null,null,1,null,null,null,null,null,{"$f":"IF($P$3=5,'S_Zestawienie dzialek'!$AT44,IF($P$3=4,'S_Zestawienie dzialek'!$AS44,0))","v":0}]
[null,null,2025,null,null,null,null,null,null,null,1,null,null,null,null,null,{"$f":"IF($P$3=5,'S_Zestawienie dzialek'!$AT45,IF($P$3=4,'S_Zestawienie dzialek'!$AS45,0))","v":0}]
[null,"obowiązek zebrania i usunięcia skoszonej biomasy","obowiązek zebrania i usunięcia skoszonej biomasy",null,null,"brak możliwości uszczegółowienia",null,null,null,null,1,null,null,null,null,null,{"$f":"IF($P$3=5,'S_Zestawienie dzialek'!$AT46,IF($P$3=4,'S_Zestawienie dzialek'!$AS46,0))","v":0}]
[null,"zakaz pozostawiania rozdrobnionej biomasy","zakaz pozostawiania rozdrobnionej biomasy",null,null,"brak możliwości uszczegółowienia",null,null,null,null,1,null,null,null,null,null,{"$f":"IF($P$3=5,'S_Zestawienie dzialek'!$AT47,IF($P$3=4,'S_Zestawienie dzialek'!$AS47,0))","v":0}]
[null,"w terminie do dwóch tygodni po pokosie biomasa powinna zostać usunięta z działki rolnej lub ułożona w pryzmy, w tym pryzmy balotowe, stogi lub brogi","w terminie do dwóch tygodni po pokosie biomasa  powinna zostać usunięta z działki rolnej lub ułożona w pryzmy, w tym pryzmy balotowe, stogi lub brogi",null,null,"brak możliwości uszczegółowienia",null,null,null,null,1,null,null,null,null,null,{"$f":"IF($P$3=5,'S_Zestawienie dzialek'!$AT48,IF($P$3=4,'S_Zestawienie dzialek'!$AS48,0))","v":0}]
[null,"w przypadku ułożenia biomasy w pryzmy, w tym pryzmy balotowe, stogi lub brogi powinna ona zostać usunięta z działki rolnej nie później niż do dnia 01-03 kolejnego roku","w przypadku ułożenia biomasy w pryzmy, w tym pryzmy balotowe, stogi lub brogi powinna ona zostać usunięta z działki rolnej nie później niż do dnia 01-03 kolejnego roku",null,null,"brak możliwości uszczegółowienia",null,null,null,null,1,null,null,null,null,null,{"$f":"IF($P$3=5,'S_Zestawienie dzialek'!$AT49,IF($P$3=4,'S_Zestawienie dzialek'!$AS49,0))","v":0}]
[null,"pozostawienie nieskoszonego fragmentu działki rolnej o powierzchni wynoszącej 15–20% powierzchni tej działki","pozostawienie nieskoszonego fragmentu działki rolnej o powierzchni wynoszącej 15–20% powierzchni tej działki",null,null,"brak możliwości uszczegółowienia",null,null,null,null,{"$f":"K47+K48","v":2},null,null,null,null,null,{"$f":"IF($P$3=5,'S_Zestawienie dzialek'!$AT50,IF($P$3=4,'S_Zestawienie dzialek'!$AS50,0))","v":0}]
[null,"dla działek rolnych nieprzekraczających powierzchni 0,5 ha dopuszczalne jest zrezygnowanie z pozostawiania powierzchni nieskoszonych i koszenie co roku całej działki rolnej lub pozostawienie nieskoszonego fragmentu działki rolnej o powierzchni wynoszącej 15–20% powierzchni tej działki, jeżeli ekspert przyrodniczy dopuści taką możliwość ","działki rolne o powierzchni nieprzekraczającej 0,5 ha, na których jest dopuszczone pozostawienie fragmentów nieskoszonych wynoszących 15–20% powierzchni tej działki","nie dotyczy",null,null,null,null,null,null,{"$f":"COUNTA(D47)","v":1},null,null,null,null,null,{"$f":"IF($P$3=5,'S_Zestawienie dzialek'!$AT51,IF($P$3=4,'S_Zestawienie dzialek'!$AS51,0))","v":0}]
[null,null,"działki rolne o powierzchni nieprzekraczającej 0,5 ha, na których jest zakaz pozostawienia fragmentów nieskoszonych i koszenie co roku całej działki rolnej","nie dotyczy",null,null,null,null,null,null,{"$f":"COUNTA(D48)","v":1},null,null,null,null,null,{"$f":"IF($P$3=5,'S_Zestawienie dzialek'!$AT52,IF($P$3=4,'S_Zestawienie dzialek'!$AS52,0))","v":0}]
[null,"w dwóch kolejnych pokosach (wykonywanych w odstępie roku lub dwóch lat) należy pozostawić inne fragmenty nieskoszone","w dwóch kolejnych pokosach (wykonywanych w odstępie roku lub dwóch lat) należy pozostawić różne fragmenty nieskoszone ",null,null,"brak możliwości uszczegółowienia",null,null,null,null,{"$f":"K46","v":2},null,null,null,null,null,{"$f":"IF($P$3=5,'S_Zestawienie dzialek'!$AT53,IF($P$3=4,'S_Zestawienie dzialek'!$AS53,0))","v":0}]
[null,"dopuszczalny wypas, jeżeli ekspert przyrodniczy dopuści taką możliwość \n\n",null,null,null,null,null,null,null,null,1,null,null,null,null,null,{"$f":"IF($P$3=5,'S_Zestawienie dzialek'!$AT54,IF($P$3=4,'S_Zestawienie dzialek'!$AS54,0))","v":0}]
[null,"termin dopuszczalnego wypasu – po pokosie, określony przez eksperta przyrodniczego, przy czym termin ten rozpoczyna się nie wcześniej niż w dniu 01-09 i kończy się nie później niż w dniu 15-10 \n\n",null,null,null,null,null,null,null,null,{"$f":"IF(C50=\"zakaz wypasu\",0,1)","v":1},null,null,null,null,null,{"$f":"IF($P$3=5,'S_Zestawienie dzialek'!$AT55,IF($P$3=4,'S_Zestawienie dzialek'!$AS55,0))","v":0}]
[null,"wypas przy obsadzie zwierząt do 0,5 DJP/ha gruntów objętych wsparciem w ramach wariantu, jeżeli ekspert przyrodniczy dopuści taką możłiwość","wypas przy obsadzie zwierząt do 0,5 DJP/ha gruntów objętych wsparciem w ramach wariantu",null,null,"brak możliwości uszczegółowienia",null,null,null,null,{"$f":"K51","v":1},null,null,null,null,null,{"$f":"IF($P$3=5,'S_Zestawienie dzialek'!$AT56,IF($P$3=4,'S_Zestawienie dzialek'!$AS56,0))","v":0}]
[null,null,"Inne zalecenia wynikajace z PZO/PO lub inne zalecenia ekperta  ",null,null,null,null,null,null,null,null,null,null,null,null,null,{"$f":"IF($P$3=5,'S_Zestawienie dzialek'!$AT57,IF($P$3=4,'S_Zestawienie dzialek'!$AS57,0))","v":0}]
[null,null,"źródło",null,"opis","uzasadnienie",null,null,null,null,null,null,null,null,null,null,{"$f":"IF($P$3=5,'S_Zestawienie dzialek'!$AT58,IF($P$3=4,'S_Zestawienie dzialek'!$AS58,0))","v":0}]
[null,null,null,null,null,null,null,null,null,null,null,null,null,null,null,null,{"$f":"IF($P$3=5,'S_Zestawienie dzialek'!$AT59,IF($P$3=4,'S_Zestawienie dzialek'!$AS59,0))","v":0}]
[null,null,null,null,null,null,null,null,null,null,null,null,null,null,null,null,{"$f":"IF($P$3=5,'S_Zestawienie dzialek'!$AT60,IF($P$3=4,'S_Zestawienie dzialek'!$AS60,0))","v":0}]
[null,null,null,null,null,null,null,null,null,null,null,null,null,null,null,null,{"$f":"IF($P$3=5,'S_Zestawienie dzialek'!$AT61,IF($P$3=4,'S_Zestawienie dzialek'!$AS61,0))","v":0}]
[]
[null,"systemy melioracyjne"]
[null,"zakaz tworzenia nowych, rozbudowy i odtwarzania istniejących urządzeń melioracji, za wyjątkiem konstrukcji urządzeń mających na celu dostosowanie poziomu wód, wykorzystując istniejące urządzenia melioracji do wymogów siedliskowych gatunków lub siedlisk będących przedmiotem ochrony w pakiecie","Wariant 4.1."]
[null,"zakaz tworzenia nowych, rozbudowy i odtwarzania istniejących urządzeń melioracji","Wariant 5.1."]
[null,"liczba pokosów"]
[null,"częstotliwość koszenia: jeden pokos co roku ","obowiązkowy pokos"]
[null,"częstotliwość koszenia: jeden pokos co dwa lata","brak pokosu"]
[null,"częstotliwość koszenia: jeden pokos co roku lub co dwa lata","nie dotyczy"]
[null,"usunięcie biomasy"]
[null,"w terminie do dwóch tygodni po pokosie biomasa  powinna zostać usunięta z działki rolnej lub ułożona w pryzmy, w tym pryzmy balotowe, stogi lub brogi"]
[null,"nie zaleca się układania na działce pryzm, stogów lub brogów"]
[null,"nie zaleca się układania na działce pryzm"]
[]
[null,"włókowanie","włókowanie"]
[null,"całkowity zakaz włókowania wynikający z działań obligatoryjnych PZO/PO","zaleca się niewykonywanie włókowania "]
[null,"zakaz włókowania w okresie od 15-04 do 01-09 na obszarach wyżynnych i górskich (powyżej 300 m n.p.m.)","zaleca się nie wykonywanie włókowania na obszarach wyżynnych i górskich (powyżej 300 m n.p.m.) w okresie od 15-04 do 01-09"]
[null,"zakaz włókowania w okresie od 01-04 do 01-09 na obszarach nizinnych (poniżej 300 m n.p.m.)","zaleca się nie wykonywanie włókowania na obszarach nizinnych (poniżej 300 m n.p.m.) w okresie od 01-04 do 01-09"]
[]
[null,"stosowanie środków ochrony roślin"]
[null,"zakaz stosowania środków ochrony roślin, z wyłączeniem selektywnego i miejscowego niszczenia uciążliwych gatunków inwazyjnych z zastosowaniem odpowiedniego sprzętu (np. mazaczy herbicydowych)"]
[null,"zakaz stosowania środków ochrony roślin"]
[]
[null,"rodzaj użytkowania"]
[null,"kośne","kośne"]
[null,"kośno-pastwiskowe","kośno-pastwiskowe "]
[null,"naprzemienne","nie dotyczy"]
[null,"termin koszenia","termin koszenia"]
[null,"termin koszenia: od 01-09 do 31-10","koszenie od 01-09 do 31-10"]
[null,"termin koszenia: od 15-06 do 30-06 ","koszenie od 15-06 do 30-06 "]
[null,"termin koszenia: od 15-06 do 30-06 lub od 01-09 do 31-10","nie dotyczy"]
[]
[null,"brak koszenia na działce poniżej 0,5 ha"]
[null,"działka o powierzchni poniżej 0,5 ha: dopuszczenie zrezygnowania z pozostawiania powierzchni nieskoszonych i koszenie co roku całej działki rolnej"]
[null,"działka o powierzchni poniżej 0,5 ha: obowiązek pozostawienia fragmentów nieskoszonych wynoszących 15–20% powierzchni tej działki"]
[]
[null,"fragmenty niekoszone"]
[null,"w dwóch kolejnych pokosach (wykonywanych w odstępie roku lub dwóch lat) należy pozostawić różne fragmenty nieskoszone "]
[null,"we wszystkich pokosach, w ciągu całego pięcioletniego zobowiązania należy pozostawić różne fragmenty nieskoszone "]
[]
[null,"dopuszczenie wypasu"]
[null,"zakaz wypasu"]
[null,"dopuszczalny wypas "]
[]
[null,"termin wypasu"]
[null,"termin dopuszczalnego wypasu: po pokosie, od 01-09 do 15-10"]
[]
[null,"usunięcie balotów, pryzm, stogów "]
[null,"usunięcie z działki rolnej biomasy ułożonej w pryzmy, w tym pryzmy balotowe, stogi lub brogi do dnia 01-03 kolejnego roku"]
[]
[null,"obsada przy użytkowaniu kośno-pastwiskowym"]
[null,"wypas przy obsadzie zwierząt do 0,5 DJP/ha gruntów objętych wsparciem w ramach wariantu"]
[]
[null,"działki mniejsze niż 0,5 ha"]
[null,"oznaczenia działek rolnych: …"]
[null,"nie dotyczy"]

{"sheet":"Wymogi 4(5).1.RSS(1)","index":13,"n_rows":112,"n_cols":17,"rows_kept":112,"cut":false,"hidden":true,"merged":[[2,5,5,5],[0,1,1,1],[0,2,1,3],[2,1,5,1],[2,2,5,2],[2,3,5,3],[17,2,17,3],[6,2,6,3],[7,2,7,6],[8,2,8,3],[9,2,9,3],[10,2,10,3],[11,2,11,3],[12,2,12,3],[13,2,13,3],[14,2,14,3],[15,2,15,3],[16,2,16,3],[18,2,18,6],[19,1,25,1],[19,2,19,3],[19,4,25,4],[19,5,25,5],[19,6,25,6],[34,5,40,5],[34,6,40,6],[41,2,41,3],[24,0,25,0],[26,2,26,6],[27,1,33,1],[27,2,27,3],[27,4,33,4],[27,5,33,5],[27,6,33,6],[46,1,47,1],[46,4,47,4],[34,1,40,1],[34,2,34,3],[34,4,40,4],[51,2,51,3],[42,2,42,3],[43,2,43,3],[44,2,44,3],[45,2,45,3],[46,5,47,5],[46,6,47,6],[48,2,48,3],[49,2,49,3],[50,2,50,3],[56,2,56,3],[56,5,56,6],[61,2,61,6],[52,2,52,6],[53,2,53,3],[53,5,53,6],[54,2,54,3],[54,5,54,6],[55,2,55,3],[55,5,55,6]]}
[null,"WYMOGI DLA WARIANTU 4.1. ALBO WARIANTU 5.1.","Zmiennowilgotne łąki trzęślicowe",null,null,null,"Powrót",null,{"$f":"\"Wymogi \"&RIGHT(C3,5)&E3&J1&E6","v":"Wymogi "},{"$f":"IF(E6<>\"\",\"_\",\"\")","v":""},null,null,null,null,null,"pak4/5",{"$f":"IF($P$3=5,'S_Zestawienie dzialek'!$AT3,IF($P$3=4,'S_Zestawienie dzialek'!$AS3,0))+1","v":1}]
[null,null,null,null,null,null,null,null,null,null,null,null,null,null,"VBA"]
[null,{"$f":"\"WYMOGI DLA WARIANTU\" &\" \"&RIGHT(C3,4)","v":"WYMOGI DLA WARIANTU "},null,"działka RSS:",null,"działki rolne:",null,null,null,null,1,null,null,{"$f":"MATCH(E3,'S_Zestawienie dzialek'!$W$6:$W$20,0)","v":{"$error":"#N/A"}},{"$f":"IFERROR(OFFSET('S_Zestawienie dzialek'!$AB$5,N3,0),\"\")","v":""},{"$f":"IFERROR(VALUE(MID(C3,9,1)),\"\")","v":""},{"$f":"IF($P$3=5,'S_Zestawienie dzialek'!$AT7,IF($P$3=4,'S_Zestawienie dzialek'!$AS7,0))","v":0}]
[null,null,null,null,null,null,null,null,null,null,{"$f":"COUNTA(G4)","v":0},null,null,{"$f":"MATCH(E4,'S_Zestawienie dzialek'!$W$6:$W$20,0)","v":{"$error":"#N/A"}},{"$f":"IFERROR(OFFSET('S_Zestawienie dzialek'!$AB$5,N4,0),\"\")","v":""},null,{"$f":"IF($P$3=5,'S_Zestawienie dzialek'!$AT8,IF($P$3=4,'S_Zestawienie dzialek'!$AS8,0))","v":0}]
[null,null,null,null,null,null,null,null,null,null,{"$f":"COUNTA(G5)","v":0},null,null,{"$f":"MATCH(E5,'S_Zestawienie dzialek'!$W$6:$W$20,0)","v":{"$error":"#N/A"}},{"$f":"IFERROR(OFFSET('S_Zestawienie dzialek'!$AB$5,N5,0),\"\")","v":""},null,{"$f":"IF($P$3=5,'S_Zestawienie dzialek'!$AT9,IF($P$3=4,'S_Zestawienie dzialek'!$AS9,0))","v":0}]
[null,null,null,null,null,null,null,null,null,null,0,null,null,{"$f":"MATCH(E6,'S_Zestawienie dzialek'!$W$6:$W$20,0)","v":{"$error":"#N/A"}},{"$f":"IFERROR(OFFSET('S_Zestawienie dzialek'!$AB$5,N6,0),\"\")","v":""},null,{"$f":"IF($P$3=5,'S_Zestawienie dzialek'!$AT10,IF($P$3=4,'S_Zestawienie dzialek'!$AS10,0))","v":0}]
[null,"Wymogi z rozporządzenia ws. szczegółowych warunków i trybu przyznawania pomocy finansowej w ramach działania \"Działanie rolno-środowiskowo-klimatyczne\" objętego PROW na lata 2014-2020","Wymogi obowiązujące rolnika lub zarządcę – \nuszczegółowione wymogi  rozporządzenia rolno-środowiskowo-klimatycznego",null,"Zalecenia","Źródło uszczegółowień wymogów","Uzasadnienie uszczegółowień wymogów i zaleceń",null,null,null,1,null,null,null,null,null,{"$f":"IF($P$3=5,'S_Zestawienie dzialek'!$AT11,IF($P$3=4,'S_Zestawienie dzialek'!$AS11,0))","v":0}]
[null," Wymogi obowiązkowe dla wszystkich typów użytkowania"," Wymogi obowiązkowe dla wszystkich typów użytkowania",null,null,null,null,null,null,null,1,null,null,null,null,null,{"$f":"IF($P$3=5,'S_Zestawienie dzialek'!$AT12,IF($P$3=4,'S_Zestawienie dzialek'!$AS12,0))","v":0}]
[null,"zakaz wałowania","zakaz wałowania",null,null,"brak możliwości uszczegółowienia",null,null,null,null,1,null,null,null,null,null,{"$f":"IF($P$3=5,'S_Zestawienie dzialek'!$AT13,IF($P$3=4,'S_Zestawienie dzialek'!$AS13,0))","v":0}]
[null,"zakaz stosowania komunalnych osadów ściekowych","zakaz stosowania komunalnych osadów ściekowych",null,null,"brak możliwości uszczegółowienia",null,null,null,null,1,null,null,null,null,null,{"$f":"IF($P$3=5,'S_Zestawienie dzialek'!$AT14,IF($P$3=4,'S_Zestawienie dzialek'!$AS14,0))","v":0}]
[null,"zakaz stosowania podsiewu","zakaz stosowania podsiewu",null,null,"brak możliwości uszczegółowienia",null,null,null,null,1,null,null,null,null,null,{"$f":"IF($P$3=5,'S_Zestawienie dzialek'!$AT15,IF($P$3=4,'S_Zestawienie dzialek'!$AS15,0))","v":0}]
[null,"zakaz włókowania w okresie od 01-04 do 01-09 na obszarach nizinnych (poniżej 300 m n.p.m.) oraz od 15-04 do 01-09 na obszarach wyżynnych i górskich (powyżej 300 m n.p.m.) ",null,null,null,"brak możliwości uszczegółowienia",null,null,null,null,1,null,null,null,null,null,{"$f":"IF($P$3=5,'S_Zestawienie dzialek'!$AT16,IF($P$3=4,'S_Zestawienie dzialek'!$AS16,0))","v":0}]
[null,"zakaz stosowania środków ochrony roślin, z wyłączeniem selektywnego i miejscowego niszczenia uciążliwych gatunków inwazyjnych z zastosowaniem odpowiedniego sprzętu (np. mazaczy herbicydowych)",null,null,null,null,null,null,null,null,1,null,null,null,null,null,{"$f":"IF($P$3=5,'S_Zestawienie dzialek'!$AT17,IF($P$3=4,'S_Zestawienie dzialek'!$AS17,0))","v":0}]
[null,"zakaz tworzenia nowych, rozbudowy i odtwarzania istniejących urządzeń melioracji wodnych, z wyjątkiem konstrukcji urządzeń mających na celu dostosowanie poziomu wód, wykorzystując istniejące urządzenia melioracji wodnych do wymogów siedliskowych gatunków lub siedlisk będących przedmiotem ochrony w danym pakiecie, jeżeli takie działania zostaną dopuszczone przez eksperta przyrodniczego",null,null,null,null,null,null,null,null,1,null,null,null,null,null,{"$f":"IF($P$3=5,'S_Zestawienie dzialek'!$AT18,IF($P$3=4,'S_Zestawienie dzialek'!$AS18,0))","v":0}]
[null,"zakaz składowania biomasy wśród kęp drzew i zarośli, w rowach, jarach i innych obniżeniach terenu (położonych na działkach zadeklarowanych we wniosku o przyznanie płatności rolno-środowiskowo-klimatycznej)","zakaz składowania biomasy wśród kęp drzew i zarośli, w rowach, jarach i innych obniżeniach terenu (położonych na działkach zadeklarowanych we wniosku o przyznanie płatności rolno-środowiskowo-klimatycznej)",null,null,"brak możliwości uszczegółowienia",null,null,null,null,1,null,null,null,null,null,{"$f":"IF($P$3=5,'S_Zestawienie dzialek'!$AT19,IF($P$3=4,'S_Zestawienie dzialek'!$AS19,0))","v":0}]
[null,"zakaz nawożenia","zakaz nawożenia",null,null,"brak możliwości uszczegółowienia",null,null,null,null,1,null,null,null,null,null,{"$f":"IF($P$3=5,'S_Zestawienie dzialek'!$AT20,IF($P$3=4,'S_Zestawienie dzialek'!$AS20,0))","v":0}]
[null,"zakaz wapnowania","zakaz wapnowania",null,null,"brak możliwości uszczegółowienia",null,null,null,null,1,null,null,null,null,null,{"$f":"IF($P$3=5,'S_Zestawienie dzialek'!$AT21,IF($P$3=4,'S_Zestawienie dzialek'!$AS21,0))","v":0}]
[null,"zakaz mechanicznego niszczenia struktury glebowej w tym bronowania i przeorywania","zakaz mechanicznego niszczenia struktury glebowej, w tym bronowania i przeorywania",null,null,"brak możliwości uszczegółowienia",null,null,null,null,1,null,null,null,null,null,{"$f":"IF($P$3=5,'S_Zestawienie dzialek'!$AT22,IF($P$3=4,'S_Zestawienie dzialek'!$AS22,0))","v":0}]
[null,"Rodzaj użytkowania ","Rodzaj użytkowania ",null,null,null,null,null,null,null,1,null,null,null,null,null,{"$f":"IF($P$3=5,'S_Zestawienie dzialek'!$AT23,IF($P$3=4,'S_Zestawienie dzialek'!$AS23,0))","v":0}]
[null,"kośne, a w uzasadnionych przypadkach dopuszczonych przez eksperta przyrodniczego – kośno-pastwiskowe; w przypadku gdy ekspert przyrodniczy dopuścił użytkowanie kośno-pastwiskowe jest możliwe stosowanie również użytkowania naprzemiennego, przy czym użytkowanie naprzemienne polega na stosowaniu w niektórych latach użytkowania kośnego, a w niektórych latach kośno-pastwiskowego",null,null,null,null,null,null,null,null,1,null,null,null,null,null,{"$f":"IF($P$3=5,'S_Zestawienie dzialek'!$AT24,IF($P$3=4,'S_Zestawienie dzialek'!$AS24,0))","v":0}]
[null,null,{"$f":"S_Dane_ogolne!$E$4","v":2020},null,null,null,null,null,null,null,{"$f":"IF($C$20=\"naprzemienne\",1,0)","v":0},null,null,null,null,null,{"$f":"IF($P$3=5,'S_Zestawienie dzialek'!$AT25,IF($P$3=4,'S_Zestawienie dzialek'!$AS25,0))","v":0}]
[null,null,{"$f":"C21+1","v":2021},null,null,null,null,null,null,null,{"$f":"IF($C$20=\"naprzemienne\",1,0)","v":0},null,null,null,null,null,{"$f":"IF($P$3=5,'S_Zestawienie dzialek'!$AT26,IF($P$3=4,'S_Zestawienie dzialek'!$AS26,0))","v":0}]
[null,null,{"$f":"C22+1","v":2022},null,null,null,null,null,null,null,0,null,null,null,null,null,{"$f":"IF($P$3=5,'S_Zestawienie dzialek'!$AT27,IF($P$3=4,'S_Zestawienie dzialek'!$AS27,0))","v":0}]
[null,null,2023,null,null,null,null,null,null,null,0,null,null,null,null,null,{"$f":"IF($P$3=5,'S_Zestawienie dzialek'!$AT28,IF($P$3=4,'S_Zestawienie dzialek'!$AS28,0))","v":0}]
[null,null,2024,null,null,null,null,null,null,null,0,null,null,null,null,null,{"$f":"IF($P$3=5,'S_Zestawienie dzialek'!$AT29,IF($P$3=4,'S_Zestawienie dzialek'!$AS29,0))","v":0}]
[null,null,2025,null,null,null,null,null,null,null,0,null,null,null,null,null,{"$f":"IF($P$3=5,'S_Zestawienie dzialek'!$AT30,IF($P$3=4,'S_Zestawienie dzialek'!$AS30,0))","v":0}]
[null,"Wymogi obowiązkowe przy użytkowaniu kośnym i kośno-pastwiskowym ","Wymogi obowiązkowe przy użytkowaniu kośnym i kośno-pastwiskowym ",null,null,null,null,null,null,null,1,null,null,null,null,null,{"$f":"IF($P$3=5,'S_Zestawienie dzialek'!$AT31,IF($P$3=4,'S_Zestawienie dzialek'!$AS31,0))","v":0}]
[null,"częstotliwość koszenia: jeden pokos co roku, a w przypadkach określonych przez eksperta przyrodniczego co dwa lata",null,null,null,null,null,null,null,null,1,null,null,null,null,null,{"$f":"IF($P$3=5,'S_Zestawienie dzialek'!$AT32,IF($P$3=4,'S_Zestawienie dzialek'!$AS32,0))","v":0}]
[null,null,{"$f":"C21","v":2020},null,null,null,null,null,null,null,1,null,null,null,null,null,{"$f":"IF($P$3=5,'S_Zestawienie dzialek'!$AT33,IF($P$3=4,'S_Zestawienie dzialek'!$AS33,0))","v":0}]
[null,null,{"$f":"C22","v":2021},null,null,null,null,null,null,null,1,null,null,null,null,null,{"$f":"IF($P$3=5,'S_Zestawienie dzialek'!$AT34,IF($P$3=4,'S_Zestawienie dzialek'!$AS34,0))","v":0}]
[null,null,2022,null,null,null,null,null,null,null,1,null,null,null,null,null,{"$f":"IF($P$3=5,'S_Zestawienie dzialek'!$AT35,IF($P$3=4,'S_Zestawienie dzialek'!$AS35,0))","v":0}]
[null,null,2023,null,null,null,null,null,null,null,1,null,null,null,null,null,{"$f":"IF($P$3=5,'S_Zestawienie dzialek'!$AT36,IF($P$3=4,'S_Zestawienie dzialek'!$AS36,0))","v":0}]
[null,null,2024,null,null,null,null,null,null,null,1,null,null,null,null,null,{"$f":"IF($P$3=5,'S_Zestawienie dzialek'!$AT37,IF($P$3=4,'S_Zestawienie dzialek'!$AS37,0))","v":0}]
[null,null,2025,null,null,null,null,null,null,null,1,null,null,null,null,null,{"$f":"IF($P$3=5,'S_Zestawienie dzialek'!$AT38,IF($P$3=4,'S_Zestawienie dzialek'!$AS38,0))","v":0}]
[null,"termin koszenia: koszenie w terminie określonym przez eksperta przyrodniczego, przy czym termin ten rozpoczyna się nie wcześniej niż w dniu 1 września i kończy się nie później niż w dniu 31 października, a w uzasadnionych przypadkach określonych przez eksperta przyrodniczego, na przykład w sytuacjach wkraczania roślin niepożądanych w tym zbiorowisku – nie wcześniej niż w dniu 15 czerwca i nie później niż w dniu 30 czerwca;",null,null,null,null,null,null,null,null,1,null,null,null,null,null,{"$f":"IF($P$3=5,'S_Zestawienie dzialek'!$AT39,IF($P$3=4,'S_Zestawienie dzialek'!$AS39,0))","v":0}]
[null,null,{"$f":"C29","v":2020},null,null,null,null,null,null,null,1,null,null,null,null,null,{"$f":"IF($P$3=5,'S_Zestawienie dzialek'!$AT40,IF($P$3=4,'S_Zestawienie dzialek'!$AS40,0))","v":0}]
[null,null,{"$f":"C30","v":2021},null,null,null,null,null,null,null,1,null,null,null,null,null,{"$f":"IF($P$3=5,'S_Zestawienie dzialek'!$AT41,IF($P$3=4,'S_Zestawienie dzialek'!$AS41,0))","v":0}]
[null,null,2022,null,null,null,null,null,null,null,1,null,null,null,null,null,{"$f":"IF($P$3=5,'S_Zestawienie dzialek'!$AT42,IF($P$3=4,'S_Zestawienie dzialek'!$AS42,0))","v":0}]
[null,null,2023,null,null,null,null,null,null,null,1,null,null,null,null,null,{"$f":"IF($P$3=5,'S_Zestawienie dzialek'!$AT43,IF($P$3=4,'S_Zestawienie dzialek'!$AS43,0))","v":0}]
[null,null,2024,null,null,null,null,null,null,null,1,null,null,null,null,null,{"$f":"IF($P$3=5,'S_Zestawienie dzialek'!$AT44,IF($P$3=4,'S_Zestawienie dzialek'!$AS44,0))","v":0}]
[null,null,2025,null,null,null,null,null,null,null,1,null,null,null,null,null,{"$f":"IF($P$3=5,'S_Zestawienie dzialek'!$AT45,IF($P$3=4,'S_Zestawienie dzialek'!$AS45,0))","v":0}]
[null,"obowiązek zebrania i usunięcia skoszonej biomasy","obowiązek zebrania i usunięcia skoszonej biomasy",null,null,"brak możliwości uszczegółowienia",null,null,null,null,1,null,null,null,null,null,{"$f":"IF($P$3=5,'S_Zestawienie dzialek'!$AT46,IF($P$3=4,'S_Zestawienie dzialek'!$AS46,0))","v":0}]
[null,"zakaz pozostawiania rozdrobnionej biomasy","zakaz pozostawiania rozdrobnionej biomasy",null,null,"brak możliwości uszczegółowienia",null,null,null,null,1,null,null,null,null,null,{"$f":"IF($P$3=5,'S_Zestawienie dzialek'!$AT47,IF($P$3=4,'S_Zestawienie dzialek'!$AS47,0))","v":0}]
[null,"w terminie do dwóch tygodni po pokosie biomasa powinna zostać usunięta z działki rolnej lub ułożona w pryzmy, w tym pryzmy balotowe, stogi lub brogi","w terminie do dwóch tygodni po pokosie biomasa  powinna zostać usunięta z działki rolnej lub ułożona w pryzmy, w tym pryzmy balotowe, stogi lub brogi",null,null,"brak możliwości uszczegółowienia",null,null,null,null,1,null,null,null,null,null,{"$f":"IF($P$3=5,'S_Zestawienie dzialek'!$AT48,IF($P$3=4,'S_Zestawienie dzialek'!$AS48,0))","v":0}]
[null,"w przypadku ułożenia biomasy w pryzmy, w tym pryzmy balotowe, stogi lub brogi powinna ona zostać usunięta z działki rolnej nie później niż do dnia 01-03 kolejnego roku","w przypadku ułożenia biomasy w pryzmy, w tym pryzmy balotowe, stogi lub brogi powinna ona zostać usunięta z działki rolnej nie później niż do dnia 01-03 kolejnego roku",null,null,"brak możliwości uszczegółowienia",null,null,null,null,1,null,null,null,null,null,{"$f":"IF($P$3=5,'S_Zestawienie dzialek'!$AT49,IF($P$3=4,'S_Zestawienie dzialek'!$AS49,0))","v":0}]
[null,"pozostawienie nieskoszonego fragmentu działki rolnej o powierzchni wynoszącej 15–20% powierzchni tej działki","pozostawienie nieskoszonego fragmentu działki rolnej o powierzchni wynoszącej 15–20% powierzchni tej działki",null,null,"brak możliwości uszczegółowienia",null,null,null,null,{"$f":"K47+K48","v":2},null,null,null,null,null,{"$f":"IF($P$3=5,'S_Zestawienie dzialek'!$AT50,IF($P$3=4,'S_Zestawienie dzialek'!$AS50,0))","v":0}]
[null,"dla działek rolnych nieprzekraczających powierzchni 0,5 ha dopuszczalne jest zrezygnowanie z pozostawiania powierzchni nieskoszonych i koszenie co roku całej działki rolnej lub pozostawienie nieskoszonego fragmentu działki rolnej o powierzchni wynoszącej 15–20% powierzchni tej działki, jeżeli ekspert przyrodniczy dopuści taką możliwość ","działki rolne o powierzchni nieprzekraczającej 0,5 ha, na których jest dopuszczone pozostawienie fragmentów nieskoszonych wynoszących 15–20% powierzchni tej działki","nie dotyczy",null,null,null,null,null,null,{"$f":"COUNTA(D47)","v":1},null,null,null,null,null,{"$f":"IF($P$3=5,'S_Zestawienie dzialek'!$AT51,IF($P$3=4,'S_Zestawienie dzialek'!$AS51,0))","v":0}]
[null,null,"działki rolne o powierzchni nieprzekraczającej 0,5 ha, na których jest zakaz pozostawienia fragmentów nieskoszonych i koszenie co roku całej działki rolnej","nie dotyczy",null,null,null,null,null,null,{"$f":"COUNTA(D48)","v":1},null,null,null,null,null,{"$f":"IF($P$3=5,'S_Zestawienie dzialek'!$AT52,IF($P$3=4,'S_Zestawienie dzialek'!$AS52,0))","v":0}]
[null,"w dwóch kolejnych pokosach (wykonywanych w odstępie roku lub dwóch lat) należy pozostawić inne fragmenty nieskoszone","w dwóch kolejnych pokosach (wykonywanych w odstępie roku lub dwóch lat) należy pozostawić różne fragmenty nieskoszone ",null,null,"brak możliwości uszczegółowienia",null,null,null,null,{"$f":"K46","v":2},null,null,null,null,null,{"$f":"IF($P$3=5,'S_Zestawienie dzialek'!$AT53,IF($P$3=4,'S_Zestawienie dzialek'!$AS53,0))","v":0}]
[null,"dopuszczalny wypas, jeżeli ekspert przyrodniczy dopuści taką możliwość \n\n",null,null,null,null,null,null,null,null,1,null,null,null,null,null,{"$f":"IF($P$3=5,'S_Zestawienie dzialek'!$AT54,IF($P$3=4,'S_Zestawienie dzialek'!$AS54,0))","v":0}]
[null,"termin dopuszczalnego wypasu – po pokosie, określony przez eksperta przyrodniczego, przy czym termin ten rozpoczyna się nie wcześniej niż w dniu 01-09 i kończy się nie później niż w dniu 15-10 \n\n",null,null,null,null,null,null,null,null,{"$f":"IF(C50=\"zakaz wypasu\",0,1)","v":1},null,null,null,null,null,{"$f":"IF($P$3=5,'S_Zestawienie dzialek'!$AT55,IF($P$3=4,'S_Zestawienie dzialek'!$AS55,0))","v":0}]
[null,"wypas przy obsadzie zwierząt do 0,5 DJP/ha gruntów objętych wsparciem w ramach wariantu, jeżeli ekspert przyrodniczy dopuści taką możłiwość","wypas przy obsadzie zwierząt do 0,5 DJP/ha gruntów objętych wsparciem w ramach wariantu",null,null,"brak możliwości uszczegółowienia",null,null,null,null,{"$f":"K51","v":1},null,null,null,null,null,{"$f":"IF($P$3=5,'S_Zestawienie dzialek'!$AT56,IF($P$3=4,'S_Zestawienie dzialek'!$AS56,0))","v":0}]
[null,null,"Inne zalecenia wynikajace z PZO/PO lub inne zalecenia ekperta  ",null,null,null,null,null,null,null,null,null,null,null,null,null,{"$f":"IF($P$3=5,'S_Zestawienie dzialek'!$AT57,IF($P$3=4,'S_Zestawienie dzialek'!$AS57,0))","v":0}]
[null,null,"źródło",null,"opis","uzasadnienie",null,null,null,null,null,null,null,null,null,null,{"$f":"IF($P$3=5,'S_Zestawienie dzialek'!$AT58,IF($P$3=4,'S_Zestawienie dzialek'!$AS58,0))","v":0}]
[null,null,null,null,null,null,null,null,null,null,null,null,null,null,null,null,{"$f":"IF($P$3=5,'S_Zestawienie dzialek'!$AT59,IF($P$3=4,'S_Zestawienie dzialek'!$AS59,0))","v":0}]
[null,null,null,null,null,null,null,null,null,null,null,null,null,null,null,null,{"$f":"IF($P$3=5,'S_Zestawienie dzialek'!$AT60,IF($P$3=4,'S_Zestawienie dzialek'!$AS60,0))","v":0}]
[null,null,null,null,null,null,null,null,null,null,null,null,null,null,null,null,{"$f":"IF($P$3=5,'S_Zestawienie dzialek'!$AT61,IF($P$3=4,'S_Zestawienie dzialek'!$AS61,0))","v":0}]
[]
[null,"systemy melioracyjne"]
[null,"zakaz tworzenia nowych, rozbudowy i odtwarzania istniejących urządzeń melioracji, za wyjątkiem konstrukcji urządzeń mających na celu dostosowanie poziomu wód, wykorzystując istniejące urządzenia melioracji do wymogów siedliskowych gatunków lub siedlisk będących przedmiotem ochrony w pakiecie","Wariant 4.1."]
[null,"zakaz tworzenia nowych, rozbudowy i odtwarzania istniejących urządzeń melioracji","Wariant 5.1."]
[null,"liczba pokosów"]
[null,"częstotliwość koszenia: jeden pokos co roku ","obowiązkowy pokos"]
[null,"częstotliwość koszenia: jeden pokos co dwa lata","brak pokosu"]
[null,"częstotliwość koszenia: jeden pokos co roku lub co dwa lata","nie dotyczy"]
[null,"usunięcie biomasy"]
[null,"w terminie do dwóch tygodni po pokosie biomasa  powinna zostać usunięta z działki rolnej lub ułożona w pryzmy, w tym pryzmy balotowe, stogi lub brogi"]
[null,"nie zaleca się układania na działce pryzm, stogów lub brogów"]
[null,"nie zaleca się układania na działce pryzm"]
[]
[null,"włókowanie","włókowanie"]
[null,"całkowity zakaz włókowania wynikający z działań obligatoryjnych PZO/PO","zaleca się niewykonywanie włókowania "]
[null,"zakaz włókowania w okresie od 15-04 do 01-09 na obszarach wyżynnych i górskich (powyżej 300 m n.p.m.)","zaleca się nie wykonywanie włókowania na obszarach wyżynnych i górskich (powyżej 300 m n.p.m.) w okresie od 15-04 do 01-09"]
[null,"zakaz włókowania w okresie od 01-04 do 01-09 na obszarach nizinnych (poniżej 300 m n.p.m.)","zaleca się nie wykonywanie włókowania na obszarach nizinnych (poniżej 300 m n.p.m.) w okresie od 01-04 do 01-09"]
[]
[null,"stosowanie środków ochrony roślin"]
[null,"zakaz stosowania środków ochrony roślin, z wyłączeniem selektywnego i miejscowego niszczenia uciążliwych gatunków inwazyjnych z zastosowaniem odpowiedniego sprzętu (np. mazaczy herbicydowych)"]
[null,"zakaz stosowania środków ochrony roślin"]
[]
[null,"rodzaj użytkowania"]
[null,"kośne","kośne"]
[null,"kośno-pastwiskowe","kośno-pastwiskowe "]
[null,"naprzemienne","nie dotyczy"]
[null,"termin koszenia","termin koszenia"]
[null,"termin koszenia: od 01-09 do 31-10","koszenie od 01-09 do 31-10"]
[null,"termin koszenia: od 15-06 do 30-06 ","koszenie od 15-06 do 30-06 "]
[null,"termin koszenia: od 15-06 do 30-06 lub od 01-09 do 31-10","nie dotyczy"]
[]
[null,"brak koszenia na działce poniżej 0,5 ha"]
[null,"działka o powierzchni poniżej 0,5 ha: dopuszczenie zrezygnowania z pozostawiania powierzchni nieskoszonych i koszenie co roku całej działki rolnej"]
[null,"działka o powierzchni poniżej 0,5 ha: obowiązek pozostawienia fragmentów nieskoszonych wynoszących 15–20% powierzchni tej działki"]
[]
[null,"fragmenty niekoszone"]
[null,"w dwóch kolejnych pokosach (wykonywanych w odstępie roku lub dwóch lat) należy pozostawić różne fragmenty nieskoszone "]
[null,"we wszystkich pokosach, w ciągu całego pięcioletniego zobowiązania należy pozostawić różne fragmenty nieskoszone "]
[]
[null,"dopuszczenie wypasu"]
[null,"zakaz wypasu"]
[null,"dopuszczalny wypas "]
[]
[null,"termin wypasu"]
[null,"termin dopuszczalnego wypasu: po pokosie, od 01-09 do 15-10"]
[]
[null,"usunięcie balotów, pryzm, stogów "]
[null,"usunięcie z działki rolnej biomasy ułożonej w pryzmy, w tym pryzmy balotowe, stogi lub brogi do dnia 01-03 kolejnego roku"]
[]
[null,"obsada przy użytkowaniu kośno-pastwiskowym"]
[null,"wypas przy obsadzie zwierząt do 0,5 DJP/ha gruntów objętych wsparciem w ramach wariantu"]
[]
[null,"działki mniejsze niż 0,5 ha"]
[null,"oznaczenia działek rolnych: …"]
[null,"nie dotyczy"]

{"sheet":"W41","index":14,"n_rows":0,"n_cols":0,"rows_kept":0,"cut":false,"hidden":true,"merged":[]}

{"sheet":"Wymogi 4(5).2. RSS(1)","index":15,"n_rows":137,"n_cols":17,"rows_kept":137,"cut":false,"hidden":true,"merged":[[2,5,5,5],[0,1,1,1],[0,2,1,4],[2,1,5,1],[2,2,5,2],[2,3,5,3],[17,2,17,3],[6,2,6,3],[7,2,7,6],[8,2,8,3],[9,2,9,3],[10,2,10,3],[11,2,11,3],[12,2,12,3],[13,2,13,3],[14,2,14,3],[15,2,15,3],[16,2,16,3],[18,2,18,6],[19,1,25,1],[19,2,19,3],[19,4,25,4],[19,5,25,5],[19,6,25,6],[24,0,25,0],[26,2,26,6],[27,1,33,1],[27,2,27,3],[27,4,33,4],[27,5,33,5],[27,6,33,6],[44,2,44,3],[34,2,34,3],[35,2,35,3],[36,2,36,3],[37,2,37,3],[38,2,38,3],[39,2,39,3],[40,1,41,1],[40,4,41,4],[40,5,41,5],[42,2,42,3],[43,2,43,3],[56,2,56,3],[45,2,45,3],[46,2,46,3],[47,2,47,6],[48,2,48,6],[49,2,49,3],[50,2,50,3],[51,2,51,3],[52,2,52,3],[53,2,53,3],[54,2,54,3],[55,2,55,3],[62,2,62,3],[62,5,62,6],[63,2,63,3],[63,5,63,6],[57,2,57,3],[58,2,58,3],[59,2,59,6],[60,2,60,3],[60,5,60,6],[61,2,61,3],[61,5,61,6]]}
[null,"WYMOGI DLA WARIANTU 4.2. ALBO WARIANTU 5.2.","Zalewowe łąki selernicowe i słonorośla",null,null,null,"Powrót",null,{"$f":"\"Wymogi \"&RIGHT(C3,4)&E3","v":"Wymogi "},null,null,null,null,null,null,"pak4/5",{"$f":"IF($P$3=5,'S_Zestawienie dzialek'!$AV3,IF($P$3=4,'S_Zestawienie dzialek'!$AU3,0))+1","v":1}]
[null,null,null,null,null,null,null,null,null,null,null,null,null,null,"VBA"]
[null,{"$f":"\"WYMOGI DLA WARIANTU\" &\" \"&RIGHT(C3,4)","v":"WYMOGI DLA WARIANTU "},null,"działka RSS:",null,"działki rolne:",null,null,1,null,null,null,null,{"$f":"MATCH(E3,'S_Zestawienie dzialek'!$W$6:$W$20,0)","v":{"$error":"#N/A"}},{"$f":"IFERROR(OFFSET('S_Zestawienie dzialek'!$AB$5,N3,0),\"\")","v":""},{"$f":"IFERROR(VALUE(MID(C3,9,1)),\"\")","v":""},{"$f":"IF($P$3=5,'S_Zestawienie dzialek'!$AV7,IF($P$3=4,'S_Zestawienie dzialek'!$AU7,0))","v":0}]
[null,null,null,null,null,null,null,null,{"$f":"COUNTA(G4)","v":0},null,null,null,null,{"$f":"MATCH(E4,'S_Zestawienie dzialek'!$W$6:$W$20,0)","v":{"$error":"#N/A"}},{"$f":"IFERROR(OFFSET('S_Zestawienie dzialek'!$AB$5,N4,0),\"\")","v":""},null,{"$f":"IF($P$3=5,'S_Zestawienie dzialek'!$AV8,IF($P$3=4,'S_Zestawienie dzialek'!$AU8,0))","v":0}]
[null,null,null,null,null,null,null,null,{"$f":"COUNTA(G5)","v":0},null,null,null,null,{"$f":"MATCH(E5,'S_Zestawienie dzialek'!$W$6:$W$20,0)","v":{"$error":"#N/A"}},{"$f":"IFERROR(OFFSET('S_Zestawienie dzialek'!$AB$5,N5,0),\"\")","v":""},null,{"$f":"IF($P$3=5,'S_Zestawienie dzialek'!$AV9,IF($P$3=4,'S_Zestawienie dzialek'!$AU9,0))","v":0}]
[null,null,null,null,null,null,null,null,0,null,null,null,null,{"$f":"MATCH(E6,'S_Zestawienie dzialek'!$W$6:$W$20,0)","v":{"$error":"#N/A"}},{"$f":"IFERROR(OFFSET('S_Zestawienie dzialek'!$AB$5,N6,0),\"\")","v":""},null,{"$f":"IF($P$3=5,'S_Zestawienie dzialek'!$AV10,IF($P$3=4,'S_Zestawienie dzialek'!$AU10,0))","v":0}]
[null,"Wymogi z rozporządzenia ws. szczegółowych warunków i trybu przyznawania pomocy finansowej w ramach działania \"Działanie rolno-środowiskowo-klimatyczne objętego PROW na lata 2014-2020\"","Wymogi obowiązujące rolnika lub zarządcę – \nuszczegółowione wymogi  rozporządzenia rolno-środowiskowo-klimatycznego",null,"Zalecenia","Źródło uszczegółowień wymogów","Uzasadnienie uszczegółowień wymogów i zaleceń",null,1,null,null,null,null,null,null,null,{"$f":"IF($P$3=5,'S_Zestawienie dzialek'!$AV11,IF($P$3=4,'S_Zestawienie dzialek'!$AU11,0))","v":0}]
[null," Wymogi obowiązkowe dla wszystkich typów użytkowania"," Wymogi obowiązkowe dla wszystkich typów użytkowania",null,null,null,null,null,1,null,null,null,null,null,null,null,{"$f":"IF($P$3=5,'S_Zestawienie dzialek'!$AV12,IF($P$3=4,'S_Zestawienie dzialek'!$AU12,0))","v":0}]
[null,"zakaz wałowania","zakaz wałowania",null,null,"brak możliwości uszczegółowienia",null,null,1,null,null,null,null,null,null,null,{"$f":"IF($P$3=5,'S_Zestawienie dzialek'!$AV13,IF($P$3=4,'S_Zestawienie dzialek'!$AU13,0))","v":0}]
[null,"zakaz stosowania komunalnych osadów ściekowych","zakaz stosowania komunalnych osadów ściekowych",null,null,"brak możliwości uszczegółowienia",null,null,1,null,null,null,null,null,null,null,{"$f":"IF($P$3=5,'S_Zestawienie dzialek'!$AV14,IF($P$3=4,'S_Zestawienie dzialek'!$AU14,0))","v":0}]
[null,"zakaz stosowania podsiewu","zakaz stosowania podsiewu",null,null,"brak możliwości uszczegółowienia",null,null,1,null,null,null,null,null,null,null,{"$f":"IF($P$3=5,'S_Zestawienie dzialek'!$AV15,IF($P$3=4,'S_Zestawienie dzialek'!$AU15,0))","v":0}]
[null,"zakaz włókowania w okresie od 01-04 do 01-09 na obszarach nizinnych (poniżej 300 m n.p.m.) oraz od 15-04 do 01-09 na obszarach wyżynnych i górskich (powyżej 300 m n.p.m.) \n","zakaz włókowania w okresie od 01-04 do 01-09 na obszarach nizinnych (poniżej 300 m n.p.m.)",null,"zaleca się nie wykonywanie włókowania na obszarach nizinnych (poniżej 300 m n.p.m.) w okresie od 01-04 do 01-09","brak możliwości uszczegółowienia",null,null,1,null,null,null,null,null,null,null,{"$f":"IF($P$3=5,'S_Zestawienie dzialek'!$AV16,IF($P$3=4,'S_Zestawienie dzialek'!$AU16,0))","v":0}]
[null,"zakaz stosowania środków ochrony roślin, z wyłączeniem selektywnego i miejscowego niszczenia uciążliwych gatunków inwazyjnych z zastosowaniem odpowiedniego sprzętu (np. mazaczy herbicydowych)","zakaz stosowania środków ochrony roślin, z wyłączeniem selektywnego i miejscowego niszczenia uciążliwych gatunków inwazyjnych z zastosowaniem odpowiedniego sprzętu (np. mazaczy herbicydowych)",null,null,null,null,null,1,null,null,null,null,null,null,null,{"$f":"IF($P$3=5,'S_Zestawienie dzialek'!$AV17,IF($P$3=4,'S_Zestawienie dzialek'!$AU17,0))","v":0}]
[null,"zakaz tworzenia nowych, rozbudowy i odtwarzania istniejących urządzeń melioracji wodnych, z wyjątkiem konstrukcji urządzeń mających na celu dostosowanie poziomu wód, wykorzystując istniejące urządzenia melioracji wodnych do wymogów siedliskowych gatunków lub siedlisk będących przedmiotem ochrony w danym pakiecie, jeżeli takie działania zostaną dopuszczone przez eksperta przyrodniczego","zakaz tworzenia nowych, rozbudowy i odtwarzania istniejących urządzeń melioracji",null,null,null,null,null,1,null,null,null,null,null,null,null,{"$f":"IF($P$3=5,'S_Zestawienie dzialek'!$AV18,IF($P$3=4,'S_Zestawienie dzialek'!$AU18,0))","v":0}]
[null,"zakaz składowania biomasy wśród kęp drzew i zarośli, w rowach, jarach i innych obniżeniach terenu (położonych na działkach zadeklarowanych we wniosku o przyznanie płatności rolno-środowiskowo-klimatycznej)","zakaz składowania biomasy wśród kęp drzew i zarośli, w rowach, jarach i innych obniżeniach terenu (położonych na działkach zadeklarowanych we wniosku o przyznanie płatności rolno-środowiskowo-klimatycznej)",null,null,"brak możliwości uszczegółowienia",null,null,1,null,null,null,null,null,null,null,{"$f":"IF($P$3=5,'S_Zestawienie dzialek'!$AV19,IF($P$3=4,'S_Zestawienie dzialek'!$AU19,0))","v":0}]
[null,"zakaz nawożenia","zakaz nawożenia",null,null,"brak możliwości uszczegółowienia",null,null,1,null,null,null,null,null,null,null,{"$f":"IF($P$3=5,'S_Zestawienie dzialek'!$AF20,IF($P$3=4,'S_Zestawienie dzialek'!$AE20,0))","v":0}]
[null,"zakaz wapnowania","zakaz wapnowania",null,null,"brak możliwości uszczegółowienia",null,null,1,null,null,null,null,null,null,null,{"$f":"IF($P$3=5,'S_Zestawienie dzialek'!$AF21,IF($P$3=4,'S_Zestawienie dzialek'!$AE21,0))","v":0}]
[null,"zakaz mechanicznego niszczenia struktury glebowej, w tym bronowania i przeorywania","zakaz mechanicznego niszczenia struktury glebowej, w tym bronowania i przeorywania",null,null,"brak możliwości uszczegółowienia",null,null,1,null,null,null,null,null,null,null,{"$f":"IF($P$3=5,'S_Zestawienie dzialek'!$AF22,IF($P$3=4,'S_Zestawienie dzialek'!$AE22,0))","v":0}]
[null,"Rodzaj użytkowania ","Rodzaj użytkowania ",null,null,null,null,null,1,"past",null,null,null,null,null,null,{"$f":"IF($P$3=5,'S_Zestawienie dzialek'!$AF23,IF($P$3=4,'S_Zestawienie dzialek'!$AE23,0))","v":0}]
[null,"kośne, kośno-pastwiskowe, pastwiskowe lub naprzemienne, przy czym użytkowanie naprzemienne polega na stosowaniu w niektórych latach użytkowania pastwiskowego, a w niektórych latach kośnego lub kośno-pastwiskowego",null,null,null,null,null,null,1,{"$f":"IF(OR(C20=\"pastwiskowe\",C20=0),0,1)","v":0},null,null,null,null,null,null,{"$f":"IF($P$3=5,'S_Zestawienie dzialek'!$AF24,IF($P$3=4,'S_Zestawienie dzialek'!$AE24,0))","v":0}]
[null,null,{"$f":"S_Dane_ogolne!$E$4","v":2020},null,null,null,null,null,{"$f":"IF($C$20=\"naprzemienne\",1,0)","v":0},null,null,null,null,null,null,null,{"$f":"IF($P$3=5,'S_Zestawienie dzialek'!$AF25,IF($P$3=4,'S_Zestawienie dzialek'!$AE25,0))","v":0}]
[null,null,{"$f":"C21+1","v":2021},null,null,null,null,null,{"$f":"IF($C$20=\"naprzemienne\",1,0)","v":0},null,null,null,null,null,null,null,{"$f":"IF($P$3=5,'S_Zestawienie dzialek'!$AF26,IF($P$3=4,'S_Zestawienie dzialek'!$AE26,0))","v":0}]
[null,null,{"$f":"C22+1","v":2022},null,null,null,null,null,0,null,null,null,null,null,null,null,{"$f":"IF($P$3=5,'S_Zestawienie dzialek'!$AF27,IF($P$3=4,'S_Zestawienie dzialek'!$AE27,0))","v":0}]
[null,null,2023,null,null,null,null,null,0,null,null,null,null,null,null,null,{"$f":"IF($P$3=5,'S_Zestawienie dzialek'!$AF28,IF($P$3=4,'S_Zestawienie dzialek'!$AE28,0))","v":0}]
[null,null,2024,null,null,null,null,null,0,null,null,null,null,null,null,null,{"$f":"IF($P$3=5,'S_Zestawienie dzialek'!$AF29,IF($P$3=4,'S_Zestawienie dzialek'!$AE29,0))","v":0}]
[null,null,2025,null,null,null,null,null,0,null,null,null,null,null,null,null,{"$f":"IF($P$3=5,'S_Zestawienie dzialek'!$AF30,IF($P$3=4,'S_Zestawienie dzialek'!$AE30,0))","v":0}]
[null,"Wymogi obowiązkowe przy użytkowaniu kośnym i kośno-pastwiskowym ","Wymogi obowiązkowe przy użytkowaniu kośnym i kośno-pastwiskowym ",null,null,null,null,null,{"$f":"$J$20","v":0},null,null,null,null,null,null,null,{"$f":"IF($P$3=5,'S_Zestawienie dzialek'!$AF31,IF($P$3=4,'S_Zestawienie dzialek'!$AE31,0))","v":0}]
[null,"częstotliwość koszenia przy użytkowaniu kośnym: wykonanie jednego lub dwóch pokosów w ciągu roku; liczba pokosów określona przez eksperta przyrodniczego ",null,null,null,null,null,null,{"$f":"$J$20","v":0},null,null,null,null,null,null,null,{"$f":"IF($P$3=5,'S_Zestawienie dzialek'!$AF32,IF($P$3=4,'S_Zestawienie dzialek'!$AE32,0))","v":0}]
[null,null,{"$f":"C21","v":2020},null,null,null,null,null,0,null,null,null,null,null,null,null,{"$f":"IF($P$3=5,'S_Zestawienie dzialek'!$AF33,IF($P$3=4,'S_Zestawienie dzialek'!$AE33,0))","v":0}]
[null,null,{"$f":"C22","v":2021},null,null,null,null,null,0,null,null,null,null,null,null,null,{"$f":"IF($P$3=5,'S_Zestawienie dzialek'!$AF34,IF($P$3=4,'S_Zestawienie dzialek'!$AE34,0))","v":0}]
[null,null,2022,null,null,null,null,null,0,null,null,null,null,null,null,null,{"$f":"IF($P$3=5,'S_Zestawienie dzialek'!$AF35,IF($P$3=4,'S_Zestawienie dzialek'!$AE35,0))","v":0}]
[null,null,2023,null,null,null,null,null,0,null,null,null,null,null,null,null,{"$f":"IF($P$3=5,'S_Zestawienie dzialek'!$AF36,IF($P$3=4,'S_Zestawienie dzialek'!$AE36,0))","v":0}]
[null,null,2024,null,null,null,null,null,0,null,null,null,null,null,null,null,{"$f":"IF($P$3=5,'S_Zestawienie dzialek'!$AF37,IF($P$3=4,'S_Zestawienie dzialek'!$AE37,0))","v":0}]
[null,null,2025,null,null,null,null,null,0,null,null,null,null,null,null,null,{"$f":"IF($P$3=5,'S_Zestawienie dzialek'!$AF38,IF($P$3=4,'S_Zestawienie dzialek'!$AE38,0))","v":0}]
[null,"koszenie w terminie określonym przez eksperta przyrodniczego, przy czym termin ten rozpoczyna się nie wcześniej niż w dniu 15 czerwca i kończy się nie później niż w dniu 30 września",null,null,null,null,null,null,0,null,null,null,null,null,null,null,{"$f":"IF($P$3=5,'S_Zestawienie dzialek'!$AF39,IF($P$3=4,'S_Zestawienie dzialek'!$AE39,0))","v":0}]
[null,"obowiązek zebrania i usunięcia skoszonej biomasy","obowiązek zebrania i usunięcia skoszonej biomasy",null,null,"brak możliwości uszczegółowienia",null,null,0,null,null,null,null,null,null,null,{"$f":"IF($P$3=5,'S_Zestawienie dzialek'!$AF40,IF($P$3=4,'S_Zestawienie dzialek'!$AE40,0))","v":0}]
[null,"zakaz pozostawiania rozdrobnionej biomasy","zakaz pozostawiania rozdrobnionej biomasy",null,null,"brak możliwości uszczegółowienia",null,null,0,null,null,null,null,null,null,null,{"$f":"IF($P$3=5,'S_Zestawienie dzialek'!$AF41,IF($P$3=4,'S_Zestawienie dzialek'!$AE41,0))","v":0}]
[null,"w terminie do dwóch tygodni po pokosie biomasa  powinna zostać usunięta z działki rolnej lub ułożona w pryzmy, w tym pryzmy balotowe, stogi lub brogi","w terminie do dwóch tygodni po pokosie biomasa powinna zostać usunięta z działki rolnej lub ułożona w pryzmy, w tym pryzmy balotowe, stogi lub brogi",null,null,"brak możliwości uszczegółowienia",null,null,0,null,null,null,null,null,null,null,{"$f":"IF($P$3=5,'S_Zestawienie dzialek'!$AF42,IF($P$3=4,'S_Zestawienie dzialek'!$AE42,0))","v":0}]
[null,"w przypadku ułożenia biomasy w pryzmy, w tym pryzmy balotowe, stogi lub brogi powinna ona zostać usunięta z działki rolnej nie później niż do dnia 01-03 kolejnego roku","usunięcie z działki rolnej biomasy ułożonej w pryzmy, w tym pryzmy balotowe, stogi lub brogi do dnia 01-03 kolejnego roku",null,null,"brak możliwości uszczegółowienia",null,null,0,null,null,null,null,null,null,null,{"$f":"IF($P$3=5,'S_Zestawienie dzialek'!$AF43,IF($P$3=4,'S_Zestawienie dzialek'!$AE43,0))","v":0}]
[null,"pozostawienie nieskoszonego fragmentu działki rolnej o powierzchni wynoszącej 15–20% powierzchni tej działki","pozostawienie nieskoszonego fragmentu działki rolnej o powierzchni wynoszącej 15–20% powierzchni tej działki",null,"nie dotyczy","brak możliwości uszczegółowienia",null,null,0,null,null,null,null,null,null,null,{"$f":"IF($P$3=5,'S_Zestawienie dzialek'!$AF44,IF($P$3=4,'S_Zestawienie dzialek'!$AE44,0))","v":0}]
[null,"dla działek rolnych nieprzekraczających powierzchni 1 ha jest dopuszczalne zrezygnowanie z pozostawiania powierzchni nieskoszonych i koszenie co roku całej działki rolnej lub pozostawienie nieskoszonego fragmentu działki rolnej o powierzchni wynoszącej 15–20% powierzchni tej działki, jeżeli ekspert przyrodniczy dopuści taką możliwość ","Działki rolne o powierzchni nieprzekraczającej 1,0 ha, na których jest  dopuszczone pozostawienie fragmentów nieskoszonych wynoszących 15–20% powierzchni tej działki","nie dotyczy",null,null,null,null,{"$f":"IF($D$41=\"nie dotyczy\",0,1)","v":0},null,null,null,null,null,null,null,{"$f":"IF($P$3=5,'S_Zestawienie dzialek'!$AF45,IF($P$3=4,'S_Zestawienie dzialek'!$AE45,0))","v":0}]
[null,null,"Działki rolne o powierzchni nieprzekraczającej  1,0 ha, na których jest zakaz pozostawienia fragmentów nieskoszonych i koszenie co roku całej działki rolnej","nie dotyczy",null,null,null,null,{"$f":"IF($D$42=\"nie dotyczy\",0,1)","v":0},null,null,null,null,null,null,null,{"$f":"IF($P$3=5,'S_Zestawienie dzialek'!$AF46,IF($P$3=4,'S_Zestawienie dzialek'!$AE46,0))","v":0}]
[null,"w przypadku stosowania dwóch pokosów w ciągu roku należy pozostawić te same fragmenty działki rolnej nieskoszone","w przypadku stosowania dwóch pokosów w ciągu roku należy pozostawić te same fragmenty działki rolnej nieskoszone",null,null,"brak możliwości uszczegółowienia",null,null,{"$f":"$J$20","v":0},null,null,null,null,null,null,null,{"$f":"IF($P$3=5,'S_Zestawienie dzialek'!$AF47,IF($P$3=4,'S_Zestawienie dzialek'!$AE47,0))","v":0}]
[null,"w przypadku pokosów w dwóch kolejnych latach należy pozostawić inne fragmenty nieskoszone ","w dwóch kolejnych latach należy pozostawić inne fragmenty nieskoszone ",null,null,"brak możliwości uszczegółowienia",null,null,0,null,null,null,null,null,null,null,{"$f":"IF($P$3=5,'S_Zestawienie dzialek'!$AF48,IF($P$3=4,'S_Zestawienie dzialek'!$AE48,0))","v":0}]
[null,"przy użytkowaniu kośno-pastwiskowym - jeden pokos i wypas ",null,null,null,null,null,null,0,null,null,null,null,null,null,null,{"$f":"IF($P$3=5,'S_Zestawienie dzialek'!$AF49,IF($P$3=4,'S_Zestawienie dzialek'!$AE49,0))","v":0}]
[null,"wypas po pokosie w terminie określonym przez eksperta przyrodniczego, przy czym termin kończy się nie później niż w dniu 15 października\n\n",null,null,null,null,null,null,0,null,null,null,null,null,null,null,{"$f":"IF($P$3=5,'S_Zestawienie dzialek'!$AF50,IF($P$3=4,'S_Zestawienie dzialek'!$AE50,0))","v":0}]
[null,"wypas przy obsadzie zwierząt – do 1 DJP/ha gruntów objętych wsparciem w ramach wariantu\n","wypas przy obsadzie zwierząt – do 1 DJP/ha gruntów objętych wsparciem w ramach wariantu",null,null,"brak możliwości uszczegółowienia",null,null,0,null,null,null,null,null,null,null,{"$f":"IF($P$3=5,'S_Zestawienie dzialek'!$AF51,IF($P$3=4,'S_Zestawienie dzialek'!$AE51,0))","v":0}]
[]
[null,"Wymogi obowiązkowe przy użytkowaniu pastwiskowym","Wymogi obowiązkowe przy użytkowaniu pastwiskowym",null,null,null,null,null,{"$f":"IF(J49=TRUE,1,0)","v":0},{"$f":"OR(C20=\"pastwiskowe\",C20=\"naprzemienne\")","v":false},null,null,null,null,null,null,{"$f":"IF($P$3=5,'S_Zestawienie dzialek'!$AF52,IF($P$3=4,'S_Zestawienie dzialek'!$AE52,0))","v":0}]
[null,"wypas w terminie określonym przez eksperta przyrodniczego, przy czym termin ten rozpoczyna się nie wcześniej niż w dniu 1 maja i kończy się nie później niż w dniu 15 października",null,null,null,null,null,null,{"$f":"$I$49","v":0},null,null,null,null,null,null,null,{"$f":"IF($P$3=5,'S_Zestawienie dzialek'!$AF53,IF($P$3=4,'S_Zestawienie dzialek'!$AE53,0))","v":0}]
[null,"wypas przy obsadzie zwierząt od 0,5 DJP/ha do 1 DJP/ha gruntów objętych wsparciem w ramach wariantu","wypas przy obsadzie zwierząt od 0,5 do 1 DJP/ha gruntów objętych wsparciem w ramach wariantu liczonej dla okresu 01-05 do 15-10",null,null,null,null,null,{"$f":"$I$49","v":0},null,null,null,null,null,null,null,{"$f":"IF($P$3=5,'S_Zestawienie dzialek'!$AF54,IF($P$3=4,'S_Zestawienie dzialek'!$AE54,0))","v":0}]
[null,"dopuszczalne jest wypasanie przez cały rok koników polskich i koni huculskich, jeżeli ekspert przyrodniczy dopuści taką możliwość"," nie planuje się wypasu koników polskich i koni huculskich",null,null,null,null,null,0,null,null,null,null,null,null,null,{"$f":"IF($P$3=5,'S_Zestawienie dzialek'!$AF55,IF($P$3=4,'S_Zestawienie dzialek'!$AE55,0))","v":0}]
[null,"wypas koników polskich i koni huculskich  przy obsadzie zwierząt do 1 DJP/ha gruntów objętych wsparciem w ramach wariantu\n","wypas koników polskich i koni huculskich przy obsadzie zwierząt – do 1 DJP/ha gruntów objętych wsparciem w ramach wariantu",null,null,"brak możliwości uszczegółowienia",null,null,{"$f":"IF(C52=\"dopuszczalny wypas koników polskich i koni huculskich przez cały rok\",1,0)","v":0},null,null,null,null,null,null,null,{"$f":"IF($P$3=5,'S_Zestawienie dzialek'!$AF56,IF($P$3=4,'S_Zestawienie dzialek'!$AE56,0))","v":0}]
[null,"obowiązek corocznego wykoszenia niedojadów (raz w roku) ","obowiązek corocznego wykoszenia niedojadów (raz w roku) ",null,null,"brak możliwości uszczegółowienia",null,null,0,null,null,null,null,null,null,null,{"$f":"IF($P$3=5,'S_Zestawienie dzialek'!$AF57,IF($P$3=4,'S_Zestawienie dzialek'!$AE57,0))","v":0}]
[null,"obowiązek wykoszenia niedojadów w terminie określonym przez eksperta przyrodniczego, przy czym termin ten rozpoczyna się nie wcześniej niż w dniu 15 lipca i kończy się nie później niż w dniu 31 października ",null,null,null,null,null,null,0,null,null,null,null,null,null,null,{"$f":"IF($P$3=5,'S_Zestawienie dzialek'!$AF58,IF($P$3=4,'S_Zestawienie dzialek'!$AE58,0))","v":0}]
[null,"obowiązek zebrania i usunięcia skoszonej biomasy – dotyczy niedojadów","obowiązek zebrania i usunięcia skoszonej biomasy – dotyczy niedojadów",null,null,"brak możliwości uszczegółowienia",null,null,0,null,null,null,null,null,null,null,{"$f":"IF($P$3=5,'S_Zestawienie dzialek'!$AF59,IF($P$3=4,'S_Zestawienie dzialek'!$AE59,0))","v":0}]
[null,"zakaz pozostawiania rozdrobnionej biomasy – dotyczy niedojadów","zakaz pozostawiania rozdrobnionej biomasy – dotyczy niedojadów",null,null,"brak możliwości uszczegółowienia",null,null,0,null,null,null,null,null,null,null,{"$f":"IF($P$3=5,'S_Zestawienie dzialek'!$AF60,IF($P$3=4,'S_Zestawienie dzialek'!$AE60,0))","v":0}]
[null,"w terminie do dwóch tygodni po pokosie biomasa powinna zostać usunięta z działki rolnej lub ułożona w pryzmy, w tym pryzmy balotowe, stogi lub brogi – dotyczy niedojadów","w terminie do dwóch tygodni po pokosie biomasa powinna zostać usunięta z działki rolnej lub ułożona w pryzmy, w tym pryzmy balotowe, stogi lub brogi [dotyczy niedojadów]",null,null,"brak możliwości uszczegółowienia",null,null,0,null,null,null,null,null,null,null,{"$f":"IF($P$3=5,'S_Zestawienie dzialek'!$AF61,IF($P$3=4,'S_Zestawienie dzialek'!$AE61,0))","v":0}]
[null,"w przypadku ułożenia biomasy w pryzmy, w tym pryzmy balotowe, stogi lub brogi powinna ona zostać usunięta z działki rolnej nie później niż do dnia 01-03 kolejnego roku – dotyczy niedojadów","usunięcie z działki rolnej biomasy ułożonej w pryzmy, w tym pryzmy balotowe, stogi lub brogi do dnia 01-03 kolejnego roku [dotyczy niedojadów]",null,null,"brak możliwości uszczegółowienia",null,null,0]
[null,null,"Inne zalecenia wynikajace z PZO/PO lub inne zalecenia ekperta  ",null,null,null,null,null,1]
[null,null,"źródło",null,"opis","uzasadnienie",null,null,1]
[null,null,null,null,null,null,null,null,1]
[null,null,null,null,null,null,null,null,1]
[null,null,null,null,null,null,null,null,1]
[]
[]
[null,"rodzaj użytkowania","rodzaj użytkowania"]
[null,"kośne","kośne","Wariant 4.2."]
[null,"kośno-pastwiskowe","kośno-pastwiskowe","Wariant 5.2."]
[null,"pastwiskowe","pastwiskowe"]
[null,"naprzemienne","nie dotyczy","nie dotyczy"]
[]
[null,"usunięcie biomasy","usunięcie biomasy"]
[null,"w terminie do dwóch tygodni po pokosie biomasa powinna zostać usunięta z działki rolnej lub ułożona w pryzmy, w tym pryzmy balotowe, stogi lub brogi","w terminie do dwóch tygodni po pokosie biomasa powinna zostać usunięta z działki rolnej lub ułożona w pryzmy, w tym pryzmy balotowe, stogi lub brogi [dotyczy niedojadów]"]
[null,"nie zaleca się układania na działce pryzm, stogów lub brogów","nie zaleca się układania na działce pryzm, stogów lub brogów [dotyczy niedojadów]"]
[null,"nie zaleca się układania na działce pryzm","nie zaleca się układania na działce pryzm [dotyczy niedojadów]"]
[]
[null,"urządzenia hydrotechniczne "]
[null,"zakaz tworzenia nowych, rozbudowy i odtwarzania istniejących urządzeń melioracji, za wyjątkiem konstrukcji urządzeń mających na celu dostosowanie poziomu wód, wykorzystując istniejące urządzenia melioracji do wymogów siedliskowych gatunków lub siedlisk będących przedmiotem ochrony w pakiecie"]
[null,"zakaz tworzenia nowych, rozbudowy i odtwarzania istniejących urządzeń melioracji"]
[]
[null,"częstość koszenia","koszenie w konkretnym roku"]
[null,"częstotliwość koszenia: jeden pokos w roku ","jeden pokos w roku"]
[null,"częstotliwość koszenia: dwa pokosy w roku","dwa pokosy w roku "]
[null,"częstotliwość koszenia: jeden lub dwa pokosy w roku ","nie dotyczy"]
[null,"włókowanie","włókowanie"]
[null,"całkowity zakaz włókowania wynikający z działań obligatoryjnych PZO/PO","zaleca się niewykonywanie włókowania "]
[null,"zakaz włókowania w okresie od 15-04 do 01-09 na obszarach wyżynnych i górskich (powyżej 300 m n.p.m.)","zaleca się nie wykonywanie włókowania na obszarach wyżynnych i górskich (powyżej 300 m n.p.m.) w okresie od 15-04 do 01-09"]
[null,"zakaz włókowania w okresie od 01-04 do 01-09 na obszarach nizinnych (poniżej 300 m n.p.m.)","zaleca się nie wykonywanie włókowania na obszarach nizinnych (poniżej 300 m n.p.m.) w okresie od 01-04 do 01-09"]
[]
[null,"stosowanie środków ochrony roślin"]
[null,"zakaz stosowania środków ochrony roślin, z wyłączeniem selektywnego i miejscowego niszczenia uciążliwych gatunków inwazyjnych z zastosowaniem odpowiedniego sprzętu (np. mazaczy herbicydowych)"]
[null,"zakaz stosowania środków ochrony roślin"]
[]
[null,"termin koszenia"]
[null,"termin koszenia od 15-06 do 30-09"]
[]
[null,"brak koszenia na działce poniżej 1,0 ha"]
[null,"działka o powierzchni poniżej 1,0 ha: dopuszczenie zrezygnowania z pozostawiania powierzchni nieskoszonych i koszenie co roku całej działki rolnej"]
[null,"działka o powierzchni poniżej 1,0 ha: obowiązek pozostawienia fragmentów nieskoszonych wynoszących 15–20% powierzchni tej działki"]
[]
[null,"fragmenty niekoszone"]
[null,"w dwóch kolejnych latach należy pozostawić różne fragmenty nieskoszone "]
[null,"w każdym roku, w ciągu całego pięcioletniego zobowiązania należy pozostawić inny fragment nieskoszony "]
[]
[null,"dopuszczenie wypasu"]
[null,"zakaz wypasu"]
[null,"wypas dopuszczalny przy użytkowaniu jednokośnym"]
[]
[null,"termin wypasu"]
[null,"termin dopuszczalnego wypasu: po pokosie, do 15-10"]
[]
[null,"termin wypasu przy użytkowaniu pastwiskowym"]
[null,"wypas w terminie od 01-05 do 15-10"]
[]
[null,"wypas hucułów i koników polskich"]
[]
[null," nie planuje się wypasu koników polskich i koni huculskich"]
[null,"dopuszczalny wypas koników polskich i koni huculskich przez cały rok"]
[null,"termin koszenia niedojadów"]
[null,"wykaszanie niedojadów w terminie od 15-07 do 31-10"]
[]
[null,"usunięcie balotów, pryzm, stogów ","usunięcie balotów, pryzm, stogów "]
[null,"usunięcie z działki rolnej biomasy ułożonej w pryzmy, w tym pryzmy balotowe, stogi lub brogi do dnia 01-03 kolejnego roku","usunięcie z działki rolnej biomasy ułożonej w pryzmy, w tym pryzmy balotowe, stogi lub brogi do dnia 01-03 kolejnego roku [dotyczy niedojadów]"]
[]
[null,"obsada wypas"]
[null,"wypas przy obsadzie zwierząt od 0,5 do 1 DJP/ha gruntów objętych wsparciem w ramach wariantu liczonej dla okresu 01-05 do 15-10"]
[]
[null,"obsada kośno-pastwiskowa"]
[null,"wypas przy obsadzie zwierząt – do 1 DJP/ha gruntów objętych wsparciem w ramach wariantu"]
[]
[null,"obsada koni huculskich i koników polskich"]
[null,"wypas koników polskich i koni huculskich przy obsadzie zwierząt – do 1 DJP/ha gruntów objętych wsparciem w ramach wariantu"]
[]
[null,"działki mniejsze niż 0,5 ha"]
[null,"oznaczenia działek rolnych: …"]
[null,"nie dotyczy"]

{"sheet":"W42","index":16,"n_rows":0,"n_cols":0,"rows_kept":0,"cut":false,"hidden":true,"merged":[]}

{"sheet":"Wymogi 4(5).3. RSS(0)","index":17,"n_rows":143,"n_cols":18,"rows_kept":143,"cut":false,"hidden":true,"merged":[[64,2,64,3],[64,5,64,6],[65,2,65,3],[65,5,65,6],[66,2,66,3],[66,5,66,6],[63,2,63,3],[63,5,63,6],[50,1,56,1],[50,2,50,3],[50,4,56,4],[50,5,56,5],[50,6,56,6],[57,2,57,3],[58,2,58,3],[59,2,59,3],[60,2,60,3],[61,2,61,3],[62,2,62,6],[49,2,49,3],[40,1,41,1],[40,4,41,4],[40,5,41,5],[40,6,41,6],[42,2,42,3],[43,2,43,3],[44,2,44,3],[45,2,45,3],[46,2,46,6],[47,2,47,6],[48,2,48,3],[39,2,39,3],[24,0,25,0],[26,2,26,6],[27,1,33,1],[27,2,27,3],[27,4,33,4],[27,5,33,5],[27,6,33,6],[34,2,34,3],[35,2,35,3],[36,2,36,3],[37,2,37,3],[38,2,38,3],[18,2,18,6],[19,1,25,1],[19,2,19,3],[19,4,25,4],[19,5,25,5],[19,6,25,6],[17,2,17,3],[6,2,6,3],[7,2,7,6],[8,2,8,3],[9,2,9,3],[10,2,10,3],[11,2,11,3],[12,2,12,3],[13,2,13,3],[14,2,14,3],[15,2,15,3],[16,2,16,3],[2,5,5,5],[0,1,1,1],[0,2,1,3],[2,1,5,1],[2,2,5,2],[2,3,5,3]]}
[null,"WYMOGI DLA WARIANTU 4.3. ALBO WARIANTU 5.3.","Murawy",null,null,null,"Powrót",null,null,null,null,null,null,null,null,"pak4/5",{"$f":"IF($P$3=5,'S_Zestawienie dzialek'!$AX3,IF($P$3=4,'S_Zestawienie dzialek'!$AW3,0))+1","v":1}]
[null,null,null,null,null,null,null,null,null,null,null,null,null,null,"VBA"]
[null,{"$f":"\"WYMOGI DLA WARIANTU\" &\" \"&RIGHT(C3,4)","v":"WYMOGI DLA WARIANTU "},null,"działka RSS:",null,"działki rolne:",null,null,1,null,null,null,null,{"$f":"MATCH(E3,'S_Zestawienie dzialek'!$W$6:$W$20,0)","v":{"$error":"#N/A"}},{"$f":"IFERROR(OFFSET('S_Zestawienie dzialek'!$AB$5,N3,0),\"\")","v":""},{"$f":"IFERROR(VALUE(MID(C3,9,1)),\"\")","v":""},{"$f":"IF($P$3=5,'S_Zestawienie dzialek'!$AX7,IF($P$3=4,'S_Zestawienie dzialek'!$AW7,0))","v":0}]
[null,null,null,null,null,null,null,null,{"$f":"COUNTA(G4)","v":0},null,null,null,null,{"$f":"MATCH(E4,'S_Zestawienie dzialek'!$W$6:$W$20,0)","v":{"$error":"#N/A"}},{"$f":"IFERROR(OFFSET('S_Zestawienie dzialek'!$AB$5,N4,0),\"\")","v":""},null,{"$f":"IF($P$3=5,'S_Zestawienie dzialek'!$AX8,IF($P$3=4,'S_Zestawienie dzialek'!$AW8,0))","v":0}]
[null,null,null,null,null,null,null,null,{"$f":"COUNTA(G5)","v":0},null,null,null,null,{"$f":"MATCH(E5,'S_Zestawienie dzialek'!$W$6:$W$20,0)","v":{"$error":"#N/A"}},{"$f":"IFERROR(OFFSET('S_Zestawienie dzialek'!$AB$5,N5,0),\"\")","v":""},null,{"$f":"IF($P$3=5,'S_Zestawienie dzialek'!$AX9,IF($P$3=4,'S_Zestawienie dzialek'!$AW9,0))","v":0}]
[null,null,null,null,null,null,null,null,0,null,null,null,null,{"$f":"MATCH(E6,'S_Zestawienie dzialek'!$W$6:$W$20,0)","v":{"$error":"#N/A"}},{"$f":"IFERROR(OFFSET('S_Zestawienie dzialek'!$AB$5,N6,0),\"\")","v":""},null,{"$f":"IF($P$3=5,'S_Zestawienie dzialek'!$AX10,IF($P$3=4,'S_Zestawienie dzialek'!$AW10,0))","v":0}]
[null,"Wymogi z rozporządzenia ws. szczegółowych warunków i trybu przyznawania pomocy finansowej w ramach działania \"Działanie rolno-środowiskowo-klimatyczne\" objętego PROW na lata 2014-2020","Wymogi obowiązujące rolnika lub zarządcę – \nuszczegółowione wymogi  rozporządzenia rolno-środowiskowo-klimatycznego",null,"Zalecenia","Źródło uszczegółowień wymogów","Uzasadnienie uszczegółowień wymogów i zaleceń",null,1,null,null,null,null,null,null,null,{"$f":"IF($P$3=5,'S_Zestawienie dzialek'!$AX11,IF($P$3=4,'S_Zestawienie dzialek'!$AW11,0))","v":0}]
[null," Wymogi obowiązkowe dla wszystkich typów użytkowania"," Wymogi obowiązkowe dla wszystkich typów użytkowania",null,null,null,null,null,1,null,null,null,null,null,null,null,{"$f":"IF($P$3=5,'S_Zestawienie dzialek'!$AX12,IF($P$3=4,'S_Zestawienie dzialek'!$AW12,0))","v":0}]
[null,"zakaz wałowania","zakaz wałowania",null,null,"brak możliwości uszczegółowienia",null,null,1,null,null,null,null,null,null,null,{"$f":"IF($P$3=5,'S_Zestawienie dzialek'!$AX13,IF($P$3=4,'S_Zestawienie dzialek'!$AW13,0))","v":0}]
[null,"zakaz stosowania komunalnych osadów ściekowych","zakaz stosowania komunalnych osadów ściekowych",null,null,"brak możliwości uszczegółowienia",null,null,1,null,null,null,null,null,null,null,{"$f":"IF($P$3=5,'S_Zestawienie dzialek'!$AX14,IF($P$3=4,'S_Zestawienie dzialek'!$AW14,0))","v":0}]
[null,"zakaz stosowania podsiewu","zakaz stosowania podsiewu",null,null,"brak możliwości uszczegółowienia",null,null,1,null,null,null,null,null,null,null,{"$f":"IF($P$3=5,'S_Zestawienie dzialek'!$AX15,IF($P$3=4,'S_Zestawienie dzialek'!$AW15,0))","v":0}]
[null,"zakaz włókowania w okresie od 01-04 do 01-09 na obszarach nizinnych (poniżej 300 m n.p.m.) oraz od 15-04 do 01-09 na obszarach wyżynnych i górskich (powyżej 300 m n.p.m.) \n",null,null,null,"brak możliwości uszczegółowienia",null,null,1,null,null,null,null,null,null,null,{"$f":"IF($P$3=5,'S_Zestawienie dzialek'!$AX16,IF($P$3=4,'S_Zestawienie dzialek'!$AW16,0))","v":0}]
[null,"zakaz stosowania środków ochrony roślin, z wyłączeniem selektywnego i miejscowego niszczenia uciążliwych gatunków inwazyjnych z zastosowaniem odpowiedniego sprzętu (np. mazaczy herbicydowych)",null,null,null,null,null,null,1,null,null,null,null,null,null,null,{"$f":"IF($P$3=5,'S_Zestawienie dzialek'!$AX17,IF($P$3=4,'S_Zestawienie dzialek'!$AW17,0))","v":0}]
[null,"zakaz tworzenia nowych, rozbudowy i odtwarzania istniejących urządzeń melioracji wodnych, z wyjątkiem konstrukcji urządzeń mających na celu dostosowanie poziomu wód, wykorzystując istniejące urządzenia melioracji wodnych do wymogów siedliskowych gatunków lub siedlisk będących przedmiotem ochrony w danym pakiecie, jeżeli takie działania zostaną dopuszczone przez eksperta przyrodniczego",null,null,null,null,null,null,1,null,null,null,null,null,null,null,{"$f":"IF($P$3=5,'S_Zestawienie dzialek'!$AX18,IF($P$3=4,'S_Zestawienie dzialek'!$AW18,0))","v":0}]
[null,"zakaz składowania biomasy wśród kęp drzew i zarośli, w rowach, jarach i innych obniżeniach terenu (położonych na działkach zadeklarowanych we wniosku o przyznanie płatności rolno-środowiskowo-klimatycznej)","zakaz składowania biomasy wśród kęp drzew i zarośli, w rowach, jarach i innych obniżeniach terenu (położonych na działkach zadeklarowanych we wniosku o przyznanie płatności rolno-środowiskowo-klimatycznej)",null,null,"brak możliwości uszczegółowienia",null,null,1,null,null,null,null,null,null,null,{"$f":"IF($P$3=5,'S_Zestawienie dzialek'!$AX19,IF($P$3=4,'S_Zestawienie dzialek'!$AW19,0))","v":0}]
[null,"zakaz nawożenia","zakaz nawożenia",null,null,"brak możliwości uszczegółowienia",null,null,1,null,null,null,null,null,null,null,{"$f":"IF($P$3=5,'S_Zestawienie dzialek'!$AX20,IF($P$3=4,'S_Zestawienie dzialek'!$AW20,0))","v":0}]
[null,"zakaz wapnowania","zakaz wapnowania",null,null,"brak możliwości uszczegółowienia",null,null,1,null,null,null,null,null,null,null,{"$f":"IF($P$3=5,'S_Zestawienie dzialek'!$AX21,IF($P$3=4,'S_Zestawienie dzialek'!$AW21,0))","v":0}]
[null,"zakaz mechanicznego niszczenia struktury glebowej w tym bronowania i przeorywania","zakaz mechanicznego niszczenia struktury glebowej w tym bronowania i przeorywania",null,null,"brak możliwości uszczegółowienia",null,null,1,null,null,null,null,null,null,null,{"$f":"IF($P$3=5,'S_Zestawienie dzialek'!$AX22,IF($P$3=4,'S_Zestawienie dzialek'!$AW22,0))","v":0}]
[null,"Rodzaj użytkowania ","Rodzaj użytkowania ",null,null,null,null,null,1,"past",null,null,null,null,null,null,{"$f":"IF($P$3=5,'S_Zestawienie dzialek'!$AX23,IF($P$3=4,'S_Zestawienie dzialek'!$AW23,0))","v":0}]
[null,"pastwiskowe, a w uzasadnionych przypadkach określonych przez eksperta przyrodniczego –  kośne, kośno-pastwiskowe lub naprzemienne (w niektórych latach pastwiskowe, a w niektórych latach kośne lub kośno-pastwiskowe) ",null,null,null,null,"\n",null,1,{"$f":"IF(OR(C20=\"pastwiskowe\",C20=0),0,1)","v":0},null,null,null,null,null,null,{"$f":"IF($P$3=5,'S_Zestawienie dzialek'!$AX24,IF($P$3=4,'S_Zestawienie dzialek'!$AW24,0))","v":0}]
[null,null,{"$f":"S_Dane_ogolne!$E$4","v":2020},null,null,null,null,null,1,null,null,null,null,null,null,null,{"$f":"IF($P$3=5,'S_Zestawienie dzialek'!$AX25,IF($P$3=4,'S_Zestawienie dzialek'!$AW25,0))","v":0}]
[null,null,{"$f":"C21+1","v":2021},null,null,null,null,null,1,null,null,null,null,null,null,null,{"$f":"IF($P$3=5,'S_Zestawienie dzialek'!$AX26,IF($P$3=4,'S_Zestawienie dzialek'!$AW26,0))","v":0}]
[null,null,{"$f":"C22+1","v":2022},null,null,null,null,null,1,null,null,null,null,null,null,null,{"$f":"IF($P$3=5,'S_Zestawienie dzialek'!$AX27,IF($P$3=4,'S_Zestawienie dzialek'!$AW27,0))","v":0}]
[null,null,2023,null,null,null,null,null,1,null,null,null,null,null,null,null,{"$f":"IF($P$3=5,'S_Zestawienie dzialek'!$AX28,IF($P$3=4,'S_Zestawienie dzialek'!$AW28,0))","v":0}]
[null,null,2024,null,null,null,null,null,1,null,null,null,null,null,null,null,{"$f":"IF($P$3=5,'S_Zestawienie dzialek'!$AX29,IF($P$3=4,'S_Zestawienie dzialek'!$AW29,0))","v":0}]
[null,null,2025,null,null,null,null,null,1,null,null,null,null,null,null,null,{"$f":"IF($P$3=5,'S_Zestawienie dzialek'!$AX30,IF($P$3=4,'S_Zestawienie dzialek'!$AW30,0))","v":0}]
[null,"Wymogi obowiązkowe przy użytkowaniu kośnym i kośno-pastwiskowym ","Wymogi obowiązkowe przy użytkowaniu kośnym i kośno-pastwiskowym ",null,null,null,null,null,{"$f":"$J$20","v":0},null,null,null,null,null,null,null,{"$f":"IF($P$3=5,'S_Zestawienie dzialek'!$AX31,IF($P$3=4,'S_Zestawienie dzialek'!$AW31,0))","v":0}]
[null,"częstotliwość koszenia: jeden pokos co roku, a w przypadkach określonych przez eksperta przyrodniczego co dwa lata",null,null,null,null,null,null,{"$f":"$J$20","v":0},null,null,null,null,null,null,null,{"$f":"IF($P$3=5,'S_Zestawienie dzialek'!$AX32,IF($P$3=4,'S_Zestawienie dzialek'!$AW32,0))","v":0}]
[null,null,{"$f":"C21","v":2020},null,null,null,null,null,0,null,null,null,null,null,null,null,{"$f":"IF($P$3=5,'S_Zestawienie dzialek'!$AX33,IF($P$3=4,'S_Zestawienie dzialek'!$AW33,0))","v":0}]
[null,null,{"$f":"C22","v":2021},null,null,null,null,null,0,null,null,null,null,null,null,null,{"$f":"IF($P$3=5,'S_Zestawienie dzialek'!$AX34,IF($P$3=4,'S_Zestawienie dzialek'!$AW34,0))","v":0}]
[null,null,2022,null,null,null,null,null,0,null,null,null,null,null,null,null,{"$f":"IF($P$3=5,'S_Zestawienie dzialek'!$AX35,IF($P$3=4,'S_Zestawienie dzialek'!$AW35,0))","v":0}]
[null,null,2023,null,null,null,null,null,0,null,null,null,null,null,null,null,{"$f":"IF($P$3=5,'S_Zestawienie dzialek'!$AX36,IF($P$3=4,'S_Zestawienie dzialek'!$AW36,0))","v":0}]
[null,null,2024,null,null,null,null,null,0,null,null,null,null,null,null,null,{"$f":"IF($P$3=5,'S_Zestawienie dzialek'!$AX37,IF($P$3=4,'S_Zestawienie dzialek'!$AW37,0))","v":0}]
[null,null,2025,null,null,null,null,null,0,null,null,null,null,null,null,null,{"$f":"IF($P$3=5,'S_Zestawienie dzialek'!$AX38,IF($P$3=4,'S_Zestawienie dzialek'!$AW38,0))","v":0}]
[null,"koszenie w terminie określonym przez eksperta przyrodniczego, przy czym termin ten rozpoczyna się nie wcześniej niż w dniu 1 sierpnia i kończy się nie później niż w dniu 31 października",null,null,null,null,null,null,0,null,null,null,null,null,null,null,{"$f":"IF($P$3=5,'S_Zestawienie dzialek'!$AX39,IF($P$3=4,'S_Zestawienie dzialek'!$AW39,0))","v":0}]
[null,"obowiązek zebrania i usunięcia skoszonej biomasy","obowiązek zebrania i usunięcia skoszonej biomasy",null,null,"brak możliwości uszczegółowienia",null,null,0,null,null,null,null,null,null,null,{"$f":"IF($P$3=5,'S_Zestawienie dzialek'!$AX40,IF($P$3=4,'S_Zestawienie dzialek'!$AW40,0))","v":0}]
[null,"zakaz pozostawiania rozdrobnionej biomasy","zakaz pozostawiania rozdrobnionej biomasy",null,null,"brak możliwości uszczegółowienia",null,null,0,null,null,null,null,null,null,null,{"$f":"IF($P$3=5,'S_Zestawienie dzialek'!$AX41,IF($P$3=4,'S_Zestawienie dzialek'!$AW41,0))","v":0}]
[null,"w terminie do dwóch tygodni po pokosie biomasa powinna zostać usunięta z działki rolnej lub ułożona w pryzmy, w tym pryzmy balotowe, stogi lub brogi","w terminie do dwóch tygodni po pokosie biomasa powinna zostać usunięta z działki rolnej lub ułożona w pryzmy, w tym pryzmy balotowe, stogi lub brogi",null,null,"brak możliwości uszczegółowienia",null,null,0,null,null,null,null,null,null,null,{"$f":"IF($P$3=5,'S_Zestawienie dzialek'!$AX42,IF($P$3=4,'S_Zestawienie dzialek'!$AW42,0))","v":0}]
[null,"w przypadku ułożenia biomasy w pryzmy, w tym pryzmy balotowe, stogi lub brogi powinna ona zostać usunięta z działki rolnej nie później niż do dnia 01-03 kolejnego roku","usunięcie z działki rolnej biomasy ułożonej w pryzmy, w tym pryzmy balotowe, stogi lub brogi do dnia 01-03 kolejnego roku",null,null,"brak możliwości uszczegółowienia",null,null,0,null,null,null,null,null,null,null,{"$f":"IF($P$3=5,'S_Zestawienie dzialek'!$AX43,IF($P$3=4,'S_Zestawienie dzialek'!$AW43,0))","v":0}]
[null,"pozostawienie nieskoszonego fragmentu działki rolnej o powierzchni wynoszącej  15-20% powierzchni tej działki","pozostawienie nieskoszonego fragmentu działki rolnej o powierzchni wynoszącej 15–20% powierzchni tej działki",null,null,"brak możliwości uszczegółowienia",null,null,{"$f":"IF(E40=\"nie dotyczy\",0,$J$20)","v":0},null,null,null,null,null,null,null,{"$f":"IF($P$3=5,'S_Zestawienie dzialek'!$AX44,IF($P$3=4,'S_Zestawienie dzialek'!$AW44,0))","v":0}]
[null,"dla działek rolnych nieprzekraczających powierzchni 0,5 ha jest dopuszczalne zrezygnowanie z pozostawiania powierzchni nieskoszonych i koszenie co roku całej działki rolnej lub pozostawienie nieskoszonego fragmentu działki rolnej o powierzchni wynoszącej 15–20% powierzchni tej działki, jeżeli ekspert przyrodniczy dopuści taką możliwość","działki rolne o powierzchni nieprzekraczającej  0,5 ha, na których jest  dopuszczone pozostawienie fragmentów nieskoszonych wynoszących 15–20% powierzchni tej działki",null,null,null,null,null,{"$f":"IF(D41=\"nie dotyczy\",0,$J$20)","v":0},null,null,null,null,null,null,null,{"$f":"IF($P$3=5,'S_Zestawienie dzialek'!$AX45,IF($P$3=4,'S_Zestawienie dzialek'!$AW45,0))","v":0}]
[null,null,"działki rolne o powierzchni nieprzekraczającej  0,5 ha, na których jest zakaz pozostawienia fragmentów nieskoszonych i koszenie co roku całej działki rolnej",null,null,null,null,null,{"$f":"IF(D42=\"nie dotyczy\",0,$J$20)","v":0},null,null,null,null,null,null,null,{"$f":"IF($P$3=5,'S_Zestawienie dzialek'!$AX46,IF($P$3=4,'S_Zestawienie dzialek'!$AW46,0))","v":0}]
[null,"w dwóch kolejnych pokosach (wykonywanych w odstępie roku lub dwóch lat) należy pozostawić inne fragmenty nieskoszone","w dwóch kolejnych latach należy pozostawić inne fragmenty nieskoszone ",null,null,"brak możliwości uszczegółowienia",null,null,0,null,null,null,null,null,null,null,{"$f":"IF($P$3=5,'S_Zestawienie dzialek'!$AX47,IF($P$3=4,'S_Zestawienie dzialek'!$AW47,0))","v":0}]
[null,"przy użytkowaniu kośno-pastwiskowym - dopuszczalny wypas, jeżeli ekspert przyrodniczy dopuści taką możliwość ",null,null,null,null,null,null,0,null,null,null,null,null,null,null,{"$f":"IF($P$3=5,'S_Zestawienie dzialek'!$AX48,IF($P$3=4,'S_Zestawienie dzialek'!$AW48,0))","v":0}]
[null,"wypas w terminie określonym przez eksperta przyrodniczego, przy czym termin ten rozpoczyna się nie wcześniej niż w dniu 1 maja i kończy się nie później niż w dniu 15 października",null,null,null,null,null,null,0,null,null,null,null,null,null,null,{"$f":"IF($P$3=5,'S_Zestawienie dzialek'!$AX49,IF($P$3=4,'S_Zestawienie dzialek'!$AW49,0))","v":0},"w kolumnie F (wiersz 45): Działki rolne, Źródło uszczegółowień wymogów dodać checkboxy: \n1. działania obligatoryjne PO/PO\n2. działania fakultatywne PO/PZO\n3. uszczegółowienie eksperta\n4. brak uszczegółowienia"]
[null,"wypas przy obsadzie – do 1 DJP/ha gruntów objętych wsparciem w ramach wariantu",null,null,null,null,null,null,0,null,null,null,null,null,null,null,{"$f":"IF($P$3=5,'S_Zestawienie dzialek'!$AX50,IF($P$3=4,'S_Zestawienie dzialek'!$AW50,0))","v":0},"w kolumnie F (wiersz 46): Działki rolne, Źródło uszczegółowień wymogów dodać checkboxy: \n1. działania obligatoryjne PO/PO\n2. działania fakultatywne PO/PZO\n3. uszczegółowienie eksperta\n4. brak uszczegółowienia"]
[]
[null,"Wymogi obowiązkowe przy użytkowaniu pastwiskowym","Wymogi obowiązkowe przy użytkowaniu pastwiskowym",null,null,null,null,null,{"$f":"IF($J$48=TRUE,1,0)","v":0},{"$f":"OR(C20=\"pastwiskowe\",C20=\"naprzemienne\")","v":false},null,null,null,null,null,null,{"$f":"IF($P$3=5,'S_Zestawienie dzialek'!$AH51,IF($P$3=4,'S_Zestawienie dzialek'!$AG51,0))","v":0}]
[null,"wypas w terminie określonym przez eksperta przyrodniczego, przy czym termin ten rozpoczyna się nie wcześniej niż w dniu 1 maja i koń-czy nie później niż w dniu 15 października",null,null,null,null,null,null,{"$f":"IF($J$48=TRUE,1,0)","v":0}]
[null,"wypas przy obsadzie zwierząt od 0,3 DJP/ha do 1 DJP/ha gruntów objętych wsparciem w ramach wariantu","wypas przy obsadzie zwierząt od 0,3 do 1 DJP/ha gruntów objętych wsparciem w ramach wariantu liczonej dla okresu 01-05 do 15-10.",null,null,null,null,null,0,null,null,null,null,null,null,null,{"$f":"IF($P$3=5,'S_Zestawienie dzialek'!$AF52,IF($P$3=4,'S_Zestawienie dzialek'!$AE52,0))","v":0}]
[null,"obowiązkowe wykaszanie niedojadów raz w roku lub raz na dwa lata ",null,null,null,null,null,null,0,null,null,null,null,null,null,null,{"$f":"IF($P$3=5,'S_Zestawienie dzialek'!$AF53,IF($P$3=4,'S_Zestawienie dzialek'!$AE53,0))","v":0}]
[null,null,{"$f":"C29","v":2020},null,null,null,null,null,0,null,null,null,null,null,null,null,{"$f":"IF($P$3=5,'S_Zestawienie dzialek'!$AF54,IF($P$3=4,'S_Zestawienie dzialek'!$AE54,0))","v":0}]
[null,null,{"$f":"C30","v":2021},null,null,null,null,null,0,null,null,null,null,null,null,null,{"$f":"IF($P$3=5,'S_Zestawienie dzialek'!$AF55,IF($P$3=4,'S_Zestawienie dzialek'!$AE55,0))","v":0}]
[null,null,2022,null,null,null,null,null,0,null,null,null,null,null,null,null,{"$f":"IF($P$3=5,'S_Zestawienie dzialek'!$AF56,IF($P$3=4,'S_Zestawienie dzialek'!$AE56,0))","v":0}]
[null,null,2023,null,null,null,null,null,0,null,null,null,null,null,null,null,{"$f":"IF($P$3=5,'S_Zestawienie dzialek'!$AF57,IF($P$3=4,'S_Zestawienie dzialek'!$AE57,0))","v":0}]
[null,null,2024,null,null,null,null,null,0,null,null,null,null,null,null,null,{"$f":"IF($P$3=5,'S_Zestawienie dzialek'!$AF58,IF($P$3=4,'S_Zestawienie dzialek'!$AE58,0))","v":0}]
[null,null,2025,null,null,null,null,null,0,null,null,null,null,null,null,null,{"$f":"IF($P$3=5,'S_Zestawienie dzialek'!$AF59,IF($P$3=4,'S_Zestawienie dzialek'!$AE59,0))","v":0}]
[null,"obowiązek wykoszenia niedojadów w terminie określonym przez eksperta przyrodniczego, przy czym termin ten rozpoczyna się nie wcześniej niż w dniu 1 sierpnia i kończy nie później niż w dniu 31 października",null,null,null,null,null,null,0,null,null,null,null,null,null,null,{"$f":"IF($P$3=5,'S_Zestawienie dzialek'!$AF60,IF($P$3=4,'S_Zestawienie dzialek'!$AE60,0))","v":0}]
[null,"obowiązek zebrania i usunięcia skoszonej biomasy – dotyczy niedojadów","obowiązek zebrania i usunięcia skoszonej biomasy - dotyczy niedojadów",null,null,"brak możliwości uszczegółowienia",null,null,0,null,null,null,null,null,null,null,{"$f":"IF($P$3=5,'S_Zestawienie dzialek'!$AF61,IF($P$3=4,'S_Zestawienie dzialek'!$AE61,0))","v":0}]
[null,"zakaz pozostawiania rozdrobnionej biomasy – dotyczy niedojadów","zakaz pozostawiania rozdrobnionej biomasy - dotyczy niedojadów",null,null,"brak możliwości uszczegółowienia",null,null,0]
[null,"w terminie do dwóch tygodni po pokosie biomasa powinna zostać usunięta z działki rolnej lub ułożona w pryzmy, w tym pryzmy balotowe, stogi lub brogi – dotyczy niedojadów","w terminie do dwóch tygodni po pokosie biomasa powinna zostać usunięta z działki rolnej lub ułożona w pryzmy, w tym pryzmy balotowe, stogi lub brogi [dotyczy niedojadów]",null,null,"brak możliwości uszczegółowienia",null,null,0]
[null,"w przypadku ułożenia biomasy w pryzmy, w tym pryzmy balotowe, stogi lub brogi powinna ona zostać usunięta z działki rolnej nie później niż do dnia 01-03 kolejnego roku – dotyczy niedojadów","usunięcie z działki rolnej biomasy ułożonej w pryzmy, w tym pryzmy balotowe, stogi lub brogi do dnia 01-03 kolejnego roku [dotyczy niedojadów]",null,null,"brak możliwości uszczegółowienia",null,null,0]
[null,null,"Inne zalecenia wynikajace z PZO/PO lub inne zalecenia ekperta  ",null,null,null,null,null,1]
[null,null,"źródło",null,"opis","uzasadnienie",null,null,1]
[null,null,null,null,null,null,null,null,1]
[null,null,null,null,null,null,null,null,1]
[null,null,null,null,null,null,null,null,1]
[]
[null,null,"rodzaj użytkowania","Wariant 4.3."]
[null,"pastwiskowe","pastwiskowe","Wariant 5.3."]
[null,"kośne","kośne "]
[null,"kośno-pastwiskowe","kośno-pastwiskowe "]
[null,"naprzemienne","nie dotyczy"]
[null,"usunięcie biomasy","usunięcie biomasy"]
[null,"w terminie do dwóch tygodni po pokosie biomasa powinna zostać usunięta z działki rolnej lub ułożona w pryzmy, w tym pryzmy balotowe, stogi lub brogi","w terminie do dwóch tygodni po pokosie biomasa powinna zostać usunięta z działki rolnej lub ułożona w pryzmy, w tym pryzmy balotowe, stogi lub brogi [dotyczy niedojadów]"]
[null,"nie zaleca się układania na działce pryzm, stogów lub brogów","nie zaleca się układania na działce pryzm, stogów lub brogów [dotyczy niedojadów]"]
[null,"nie zaleca się układania na działce pryzm","nie zaleca się układania na działce pryzm [dotyczy niedojadów]"]
[]
[null,"wykoszenie niedojadów"]
[null,"obowiązek wykoszenia niedojadów raz w roku"]
[null,"obowiązek wykoszenia niedojadów raz na dwa lata  "]
[null,"obowiązek wykoszenia niedojadów raz w roku lub raz na dwa lata"]
[null,"częstość koszenia","koszenie w konkretnym roku"]
[null,"częstotliwość koszenia: jeden pokos co roku ","obowiązkowy pokos"]
[null,"częstotliwość koszenia: jeden pokos co dwa lata","brak pokosu"]
[null,"częstotliwość koszenia: jeden pokos co roku lub co dwa lata","nie dotyczy"]
[null,"urządzenia hydrotechniczne "]
[null,"zakaz tworzenia nowych, rozbudowy i odtwarzania istniejących urządzeń melioracji, za wyjątkiem konstrukcji urządzeń mających na celu dostosowanie poziomu wód, wykorzystując istniejące urządzenia melioracji do wymogów siedliskowych gatunków lub siedlisk będących przedmiotem ochrony w pakiecie"]
[null,"zakaz tworzenia nowych, rozbudowy i odtwarzania istniejących urządzeń melioracji"]
[]
[null,"włókowanie","włókowanie"]
[null,"całkowity zakaz włókowania wynikający z działań obligatoryjnych PZO/PO","zaleca się niewykonywanie włókowania "]
[null,"zakaz włókowania w okresie od 15-04 do 01-09 na obszarach wyżynnych i górskich (powyżej 300 m n.p.m.)","zaleca się nie wykonywanie włókowania na obszarach wyżynnych i górskich (powyżej 300 m n.p.m.) w okresie od 15-04 do 01-09"]
[null,"zakaz włókowania w okresie od 01-04 do 01-09 na obszarach nizinnych (poniżej 300 m n.p.m.)","zaleca się nie wykonywanie włókowania na obszarach nizinnych (poniżej 300 m n.p.m.) w okresie od 01-04 do 01-09"]
[]
[null,"stosowanie środków ochrony roślin"]
[null,"zakaz stosowania środków ochrony roślin, z wyłączeniem selektywnego i miejscowego niszczenia uciążliwych gatunków inwazyjnych z zastosowaniem odpowiedniego sprzętu (np. mazaczy herbicydowych)"]
[null,"zakaz stosowania środków ochrony roślin"]
[]
[null,"termin koszenia"]
[null,"termin koszenia od 01-08 do 31-10"]
[]
[null,"brak koszenia na działce poniżej 0,5 ha"]
[null,"działka o powierzchni poniżej 0,5 ha: dopuszczenie zrezygnowania z pozostawiania powierzchni nieskoszonych i koszenie co roku całej działki rolnej"]
[null,"działka o powierzchni poniżej 0,5 ha: obowiązek pozostawienia fragmentów nieskoszonych wynoszących 15–20% powierzchni tej działki"]
[]
[null,"fragmenty niekoszone"]
[null,"w dwóch kolejnych pokosach (wykonywanych w odstępie roku lub dwóch lat) należy pozostawić różne fragmenty nieskoszone "]
[null,"we wszystkich pokosach, w ciągu całego pięcioletniego zobowiązania należy pozostawić różne fragmenty nieskoszone "]
[]
[null,"dopuszczenie wypasu"]
[null,"zakaz wypasu"]
[null,"dopuszczalny wypas "]
[]
[null,"termin wypasu przy użytkowaniu kośno-pastwiskowym"]
[null,"termin dopuszczalnego wypasu: od 01-05 do 15-10"]
[]
[null,"termin koszenia niedojadów"]
[null,"wykaszanie niedojadów w terminie od 01-08 do 31-10"]
[]
[null,"usunięcie balotów, pryzm, stogów ","usunięcie balotów, pryzm, stogów "]
[null,"usunięcie z działki rolnej biomasy ułożonej w pryzmy, w tym pryzmy balotowe, stogi lub brogi do dnia 01-03 kolejnego roku","usunięcie z działki rolnej biomasy ułożonej w pryzmy, w tym pryzmy balotowe, stogi lub brogi do dnia 01-03 kolejnego roku [dotyczy niedojadów]"]
[]
[null,"obsada wypas"]
[null,"wypas przy obsadzie od 0,3 DJP/ha do 1 DJP/ha gruntów objętych wsparciem w ramach wariantu"]
[]
[null,"obsada kośno-pastwiskowa"]
[null,"wypas przy obsadzie – do 1 DJP/ha gruntów objętych wsparciem w ramach wariantu"]
[]
[]
[]
[]
[]
[null,"koszenie niedojadów w konkretnym roku"]
[null,"obowiązkowe koszenie "]
[null,"brak koszenia"]
[null,"nie dotyczy"]
[null,"działki mniejsze niż 0,5 ha"]
[null,"oznaczenia działek rolnych: …"]
[null,"nie dotyczy","nie dotyczy"]
[]
[null,"termin wypasu przy użytkowaniu pastwiskowym"]
[null,"wypas w terminie od 01-05 do 15-10"]

{"sheet":"Wymogi 4(5).3. RSS(1)","index":18,"n_rows":143,"n_cols":18,"rows_kept":143,"cut":false,"hidden":true,"merged":[[2,5,5,5],[0,1,1,1],[0,2,1,3],[2,1,5,1],[2,2,5,2],[2,3,5,3],[17,2,17,3],[6,2,6,3],[7,2,7,6],[8,2,8,3],[9,2,9,3],[10,2,10,3],[11,2,11,3],[12,2,12,3],[13,2,13,3],[14,2,14,3],[15,2,15,3],[16,2,16,3],[18,2,18,6],[19,1,25,1],[19,2,19,3],[19,4,25,4],[19,5,25,5],[19,6,25,6],[39,2,39,3],[24,0,25,0],[26,2,26,6],[27,1,33,1],[27,2,27,3],[27,4,33,4],[27,5,33,5],[27,6,33,6],[34,2,34,3],[35,2,35,3],[36,2,36,3],[37,2,37,3],[38,2,38,3],[49,2,49,3],[40,1,41,1],[40,4,41,4],[40,5,41,5],[40,6,41,6],[42,2,42,3],[43,2,43,3],[44,2,44,3],[45,2,45,3],[46,2,46,6],[47,2,47,6],[48,2,48,3],[63,2,63,3],[63,5,63,6],[50,1,56,1],[50,2,50,3],[50,4,56,4],[50,5,56,5],[50,6,56,6],[57,2,57,3],[58,2,58,3],[59,2,59,3],[60,2,60,3],[61,2,61,3],[62,2,62,6],[64,2,64,3],[64,5,64,6],[65,2,65,3],[65,5,65,6],[66,2,66,3],[66,5,66,6]]}
[null,"WYMOGI DLA WARIANTU 4.3. ALBO WARIANTU 5.3.","Murawy",null,null,null,"Powrót",null,null,null,null,null,null,null,null,"pak4/5",{"$f":"IF($P$3=5,'S_Zestawienie dzialek'!$AX3,IF($P$3=4,'S_Zestawienie dzialek'!$AW3,0))+1","v":1}]
[null,null,null,null,null,null,null,null,null,null,null,null,null,null,"VBA"]
[null,{"$f":"\"WYMOGI DLA WARIANTU\" &\" \"&RIGHT(C3,4)","v":"WYMOGI DLA WARIANTU "},null,"działka RSS:",null,"działki rolne:",null,null,1,null,null,null,null,{"$f":"MATCH(E3,'S_Zestawienie dzialek'!$W$6:$W$20,0)","v":{"$error":"#N/A"}},{"$f":"IFERROR(OFFSET('S_Zestawienie dzialek'!$AB$5,N3,0),\"\")","v":""},{"$f":"IFERROR(VALUE(MID(C3,9,1)),\"\")","v":""},{"$f":"IF($P$3=5,'S_Zestawienie dzialek'!$AX7,IF($P$3=4,'S_Zestawienie dzialek'!$AW7,0))","v":0}]
[null,null,null,null,null,null,null,null,{"$f":"COUNTA(G4)","v":0},null,null,null,null,{"$f":"MATCH(E4,'S_Zestawienie dzialek'!$W$6:$W$20,0)","v":{"$error":"#N/A"}},{"$f":"IFERROR(OFFSET('S_Zestawienie dzialek'!$AB$5,N4,0),\"\")","v":""},null,{"$f":"IF($P$3=5,'S_Zestawienie dzialek'!$AX8,IF($P$3=4,'S_Zestawienie dzialek'!$AW8,0))","v":0}]
[null,null,null,null,null,null,null,null,{"$f":"COUNTA(G5)","v":0},null,null,null,null,{"$f":"MATCH(E5,'S_Zestawienie dzialek'!$W$6:$W$20,0)","v":{"$error":"#N/A"}},{"$f":"IFERROR(OFFSET('S_Zestawienie dzialek'!$AB$5,N5,0),\"\")","v":""},null,{"$f":"IF($P$3=5,'S_Zestawienie dzialek'!$AX9,IF($P$3=4,'S_Zestawienie dzialek'!$AW9,0))","v":0}]
[null,null,null,null,null,null,null,null,0,null,null,null,null,{"$f":"MATCH(E6,'S_Zestawienie dzialek'!$W$6:$W$20,0)","v":{"$error":"#N/A"}},{"$f":"IFERROR(OFFSET('S_Zestawienie dzialek'!$AB$5,N6,0),\"\")","v":""},null,{"$f":"IF($P$3=5,'S_Zestawienie dzialek'!$AX10,IF($P$3=4,'S_Zestawienie dzialek'!$AW10,0))","v":0}]
[null,"Wymogi z rozporządzenia ws. szczegółowych warunków i trybu przyznawania pomocy finansowej w ramach działania \"Działanie rolno-środowiskowo-klimatyczne\" objętego PROW na lata 2014-2020","Wymogi obowiązujące rolnika lub zarządcę – \nuszczegółowione wymogi  rozporządzenia rolno-środowiskowo-klimatycznego",null,"Zalecenia","Źródło uszczegółowień wymogów","Uzasadnienie uszczegółowień wymogów i zaleceń",null,1,null,null,null,null,null,null,null,{"$f":"IF($P$3=5,'S_Zestawienie dzialek'!$AX11,IF($P$3=4,'S_Zestawienie dzialek'!$AW11,0))","v":0}]
[null," Wymogi obowiązkowe dla wszystkich typów użytkowania"," Wymogi obowiązkowe dla wszystkich typów użytkowania",null,null,null,null,null,1,null,null,null,null,null,null,null,{"$f":"IF($P$3=5,'S_Zestawienie dzialek'!$AX12,IF($P$3=4,'S_Zestawienie dzialek'!$AW12,0))","v":0}]
[null,"zakaz wałowania","zakaz wałowania",null,null,"brak możliwości uszczegółowienia",null,null,1,null,null,null,null,null,null,null,{"$f":"IF($P$3=5,'S_Zestawienie dzialek'!$AX13,IF($P$3=4,'S_Zestawienie dzialek'!$AW13,0))","v":0}]
[null,"zakaz stosowania komunalnych osadów ściekowych","zakaz stosowania komunalnych osadów ściekowych",null,null,"brak możliwości uszczegółowienia",null,null,1,null,null,null,null,null,null,null,{"$f":"IF($P$3=5,'S_Zestawienie dzialek'!$AX14,IF($P$3=4,'S_Zestawienie dzialek'!$AW14,0))","v":0}]
[null,"zakaz stosowania podsiewu","zakaz stosowania podsiewu",null,null,"brak możliwości uszczegółowienia",null,null,1,null,null,null,null,null,null,null,{"$f":"IF($P$3=5,'S_Zestawienie dzialek'!$AX15,IF($P$3=4,'S_Zestawienie dzialek'!$AW15,0))","v":0}]
[null,"zakaz włókowania w okresie od 01-04 do 01-09 na obszarach nizinnych (poniżej 300 m n.p.m.) oraz od 15-04 do 01-09 na obszarach wyżynnych i górskich (powyżej 300 m n.p.m.) \n",null,null,null,"brak możliwości uszczegółowienia",null,null,1,null,null,null,null,null,null,null,{"$f":"IF($P$3=5,'S_Zestawienie dzialek'!$AX16,IF($P$3=4,'S_Zestawienie dzialek'!$AW16,0))","v":0}]
[null,"zakaz stosowania środków ochrony roślin, z wyłączeniem selektywnego i miejscowego niszczenia uciążliwych gatunków inwazyjnych z zastosowaniem odpowiedniego sprzętu (np. mazaczy herbicydowych)",null,null,null,null,null,null,1,null,null,null,null,null,null,null,{"$f":"IF($P$3=5,'S_Zestawienie dzialek'!$AX17,IF($P$3=4,'S_Zestawienie dzialek'!$AW17,0))","v":0}]
[null,"zakaz tworzenia nowych, rozbudowy i odtwarzania istniejących urządzeń melioracji wodnych, z wyjątkiem konstrukcji urządzeń mających na celu dostosowanie poziomu wód, wykorzystując istniejące urządzenia melioracji wodnych do wymogów siedliskowych gatunków lub siedlisk będących przedmiotem ochrony w danym pakiecie, jeżeli takie działania zostaną dopuszczone przez eksperta przyrodniczego",null,null,null,null,null,null,1,null,null,null,null,null,null,null,{"$f":"IF($P$3=5,'S_Zestawienie dzialek'!$AX18,IF($P$3=4,'S_Zestawienie dzialek'!$AW18,0))","v":0}]
[null,"zakaz składowania biomasy wśród kęp drzew i zarośli, w rowach, jarach i innych obniżeniach terenu (położonych na działkach zadeklarowanych we wniosku o przyznanie płatności rolno-środowiskowo-klimatycznej)","zakaz składowania biomasy wśród kęp drzew i zarośli, w rowach, jarach i innych obniżeniach terenu (położonych na działkach zadeklarowanych we wniosku o przyznanie płatności rolno-środowiskowo-klimatycznej)",null,null,"brak możliwości uszczegółowienia",null,null,1,null,null,null,null,null,null,null,{"$f":"IF($P$3=5,'S_Zestawienie dzialek'!$AX19,IF($P$3=4,'S_Zestawienie dzialek'!$AW19,0))","v":0}]
[null,"zakaz nawożenia","zakaz nawożenia",null,null,"brak możliwości uszczegółowienia",null,null,1,null,null,null,null,null,null,null,{"$f":"IF($P$3=5,'S_Zestawienie dzialek'!$AX20,IF($P$3=4,'S_Zestawienie dzialek'!$AW20,0))","v":0}]
[null,"zakaz wapnowania","zakaz wapnowania",null,null,"brak możliwości uszczegółowienia",null,null,1,null,null,null,null,null,null,null,{"$f":"IF($P$3=5,'S_Zestawienie dzialek'!$AX21,IF($P$3=4,'S_Zestawienie dzialek'!$AW21,0))","v":0}]
[null,"zakaz mechanicznego niszczenia struktury glebowej w tym bronowania i przeorywania","zakaz mechanicznego niszczenia struktury glebowej w tym bronowania i przeorywania",null,null,"brak możliwości uszczegółowienia",null,null,1,null,null,null,null,null,null,null,{"$f":"IF($P$3=5,'S_Zestawienie dzialek'!$AX22,IF($P$3=4,'S_Zestawienie dzialek'!$AW22,0))","v":0}]
[null,"Rodzaj użytkowania ","Rodzaj użytkowania ",null,null,null,null,null,1,"past",null,null,null,null,null,null,{"$f":"IF($P$3=5,'S_Zestawienie dzialek'!$AX23,IF($P$3=4,'S_Zestawienie dzialek'!$AW23,0))","v":0}]
[null,"pastwiskowe, a w uzasadnionych przypadkach określonych przez eksperta przyrodniczego –  kośne, kośno-pastwiskowe lub naprzemienne (w niektórych latach pastwiskowe, a w niektórych latach kośne lub kośno-pastwiskowe) ",null,null,null,null,"\n",null,1,{"$f":"IF(OR(C20=\"pastwiskowe\",C20=0),0,1)","v":0},null,null,null,null,null,null,{"$f":"IF($P$3=5,'S_Zestawienie dzialek'!$AX24,IF($P$3=4,'S_Zestawienie dzialek'!$AW24,0))","v":0}]
[null,null,{"$f":"S_Dane_ogolne!$E$4","v":2020},null,null,null,null,null,1,null,null,null,null,null,null,null,{"$f":"IF($P$3=5,'S_Zestawienie dzialek'!$AX25,IF($P$3=4,'S_Zestawienie dzialek'!$AW25,0))","v":0}]
[null,null,{"$f":"C21+1","v":2021},null,null,null,null,null,1,null,null,null,null,null,null,null,{"$f":"IF($P$3=5,'S_Zestawienie dzialek'!$AX26,IF($P$3=4,'S_Zestawienie dzialek'!$AW26,0))","v":0}]
[null,null,{"$f":"C22+1","v":2022},null,null,null,null,null,1,null,null,null,null,null,null,null,{"$f":"IF($P$3=5,'S_Zestawienie dzialek'!$AX27,IF($P$3=4,'S_Zestawienie dzialek'!$AW27,0))","v":0}]
[null,null,2023,null,null,null,null,null,1,null,null,null,null,null,null,null,{"$f":"IF($P$3=5,'S_Zestawienie dzialek'!$AX28,IF($P$3=4,'S_Zestawienie dzialek'!$AW28,0))","v":0}]
[null,null,2024,null,null,null,null,null,1,null,null,null,null,null,null,null,{"$f":"IF($P$3=5,'S_Zestawienie dzialek'!$AX29,IF($P$3=4,'S_Zestawienie dzialek'!$AW29,0))","v":0}]
[null,null,2025,null,null,null,null,null,1,null,null,null,null,null,null,null,{"$f":"IF($P$3=5,'S_Zestawienie dzialek'!$AX30,IF($P$3=4,'S_Zestawienie dzialek'!$AW30,0))","v":0}]
[null,"Wymogi obowiązkowe przy użytkowaniu kośnym i kośno-pastwiskowym ","Wymogi obowiązkowe przy użytkowaniu kośnym i kośno-pastwiskowym ",null,null,null,null,null,{"$f":"$J$20","v":0},null,null,null,null,null,null,null,{"$f":"IF($P$3=5,'S_Zestawienie dzialek'!$AX31,IF($P$3=4,'S_Zestawienie dzialek'!$AW31,0))","v":0}]
[null,"częstotliwość koszenia: jeden pokos co roku, a w przypadkach określonych przez eksperta przyrodniczego co dwa lata",null,null,null,null,null,null,{"$f":"$J$20","v":0},null,null,null,null,null,null,null,{"$f":"IF($P$3=5,'S_Zestawienie dzialek'!$AX32,IF($P$3=4,'S_Zestawienie dzialek'!$AW32,0))","v":0}]
[null,null,{"$f":"C21","v":2020},null,null,null,null,null,0,null,null,null,null,null,null,null,{"$f":"IF($P$3=5,'S_Zestawienie dzialek'!$AX33,IF($P$3=4,'S_Zestawienie dzialek'!$AW33,0))","v":0}]
[null,null,{"$f":"C22","v":2021},null,null,null,null,null,0,null,null,null,null,null,null,null,{"$f":"IF($P$3=5,'S_Zestawienie dzialek'!$AX34,IF($P$3=4,'S_Zestawienie dzialek'!$AW34,0))","v":0}]
[null,null,2022,null,null,null,null,null,0,null,null,null,null,null,null,null,{"$f":"IF($P$3=5,'S_Zestawienie dzialek'!$AX35,IF($P$3=4,'S_Zestawienie dzialek'!$AW35,0))","v":0}]
[null,null,2023,null,null,null,null,null,0,null,null,null,null,null,null,null,{"$f":"IF($P$3=5,'S_Zestawienie dzialek'!$AX36,IF($P$3=4,'S_Zestawienie dzialek'!$AW36,0))","v":0}]
[null,null,2024,null,null,null,null,null,0,null,null,null,null,null,null,null,{"$f":"IF($P$3=5,'S_Zestawienie dzialek'!$AX37,IF($P$3=4,'S_Zestawienie dzialek'!$AW37,0))","v":0}]
[null,null,2025,null,null,null,null,null,0,null,null,null,null,null,null,null,{"$f":"IF($P$3=5,'S_Zestawienie dzialek'!$AX38,IF($P$3=4,'S_Zestawienie dzialek'!$AW38,0))","v":0}]
[null,"koszenie w terminie określonym przez eksperta przyrodniczego, przy czym termin ten rozpoczyna się nie wcześniej niż w dniu 1 sierpnia i kończy się nie później niż w dniu 31 października",null,null,null,null,null,null,0,null,null,null,null,null,null,null,{"$f":"IF($P$3=5,'S_Zestawienie dzialek'!$AX39,IF($P$3=4,'S_Zestawienie dzialek'!$AW39,0))","v":0}]
[null,"obowiązek zebrania i usunięcia skoszonej biomasy","obowiązek zebrania i usunięcia skoszonej biomasy",null,null,"brak możliwości uszczegółowienia",null,null,0,null,null,null,null,null,null,null,{"$f":"IF($P$3=5,'S_Zestawienie dzialek'!$AX40,IF($P$3=4,'S_Zestawienie dzialek'!$AW40,0))","v":0}]
[null,"zakaz pozostawiania rozdrobnionej biomasy","zakaz pozostawiania rozdrobnionej biomasy",null,null,"brak możliwości uszczegółowienia",null,null,0,null,null,null,null,null,null,null,{"$f":"IF($P$3=5,'S_Zestawienie dzialek'!$AX41,IF($P$3=4,'S_Zestawienie dzialek'!$AW41,0))","v":0}]
[null,"w terminie do dwóch tygodni po pokosie biomasa powinna zostać usunięta z działki rolnej lub ułożona w pryzmy, w tym pryzmy balotowe, stogi lub brogi","w terminie do dwóch tygodni po pokosie biomasa powinna zostać usunięta z działki rolnej lub ułożona w pryzmy, w tym pryzmy balotowe, stogi lub brogi",null,null,"brak możliwości uszczegółowienia",null,null,0,null,null,null,null,null,null,null,{"$f":"IF($P$3=5,'S_Zestawienie dzialek'!$AX42,IF($P$3=4,'S_Zestawienie dzialek'!$AW42,0))","v":0}]
[null,"w przypadku ułożenia biomasy w pryzmy, w tym pryzmy balotowe, stogi lub brogi powinna ona zostać usunięta z działki rolnej nie później niż do dnia 01-03 kolejnego roku","usunięcie z działki rolnej biomasy ułożonej w pryzmy, w tym pryzmy balotowe, stogi lub brogi do dnia 01-03 kolejnego roku",null,null,"brak możliwości uszczegółowienia",null,null,0,null,null,null,null,null,null,null,{"$f":"IF($P$3=5,'S_Zestawienie dzialek'!$AX43,IF($P$3=4,'S_Zestawienie dzialek'!$AW43,0))","v":0}]
[null,"pozostawienie nieskoszonego fragmentu działki rolnej o powierzchni wynoszącej  15-20% powierzchni tej działki","pozostawienie nieskoszonego fragmentu działki rolnej o powierzchni wynoszącej 15–20% powierzchni tej działki",null,null,"brak możliwości uszczegółowienia",null,null,{"$f":"IF(E40=\"nie dotyczy\",0,$J$20)","v":0},null,null,null,null,null,null,null,{"$f":"IF($P$3=5,'S_Zestawienie dzialek'!$AX44,IF($P$3=4,'S_Zestawienie dzialek'!$AW44,0))","v":0}]
[null,"dla działek rolnych nieprzekraczających powierzchni 0,5 ha jest dopuszczalne zrezygnowanie z pozostawiania powierzchni nieskoszonych i koszenie co roku całej działki rolnej lub pozostawienie nieskoszonego fragmentu działki rolnej o powierzchni wynoszącej 15–20% powierzchni tej działki, jeżeli ekspert przyrodniczy dopuści taką możliwość","działki rolne o powierzchni nieprzekraczającej  0,5 ha, na których jest  dopuszczone pozostawienie fragmentów nieskoszonych wynoszących 15–20% powierzchni tej działki",null,null,null,null,null,{"$f":"IF(D41=\"nie dotyczy\",0,$J$20)","v":0},null,null,null,null,null,null,null,{"$f":"IF($P$3=5,'S_Zestawienie dzialek'!$AX45,IF($P$3=4,'S_Zestawienie dzialek'!$AW45,0))","v":0}]
[null,null,"działki rolne o powierzchni nieprzekraczającej  0,5 ha, na których jest zakaz pozostawienia fragmentów nieskoszonych i koszenie co roku całej działki rolnej",null,null,null,null,null,{"$f":"IF(D42=\"nie dotyczy\",0,$J$20)","v":0},null,null,null,null,null,null,null,{"$f":"IF($P$3=5,'S_Zestawienie dzialek'!$AX46,IF($P$3=4,'S_Zestawienie dzialek'!$AW46,0))","v":0}]
[null,"w dwóch kolejnych pokosach (wykonywanych w odstępie roku lub dwóch lat) należy pozostawić inne fragmenty nieskoszone","w dwóch kolejnych latach należy pozostawić inne fragmenty nieskoszone ",null,null,"brak możliwości uszczegółowienia",null,null,0,null,null,null,null,null,null,null,{"$f":"IF($P$3=5,'S_Zestawienie dzialek'!$AX47,IF($P$3=4,'S_Zestawienie dzialek'!$AW47,0))","v":0}]
[null,"przy użytkowaniu kośno-pastwiskowym - dopuszczalny wypas, jeżeli ekspert przyrodniczy dopuści taką możliwość ",null,null,null,null,null,null,0,null,null,null,null,null,null,null,{"$f":"IF($P$3=5,'S_Zestawienie dzialek'!$AX48,IF($P$3=4,'S_Zestawienie dzialek'!$AW48,0))","v":0}]
[null,"wypas w terminie określonym przez eksperta przyrodniczego, przy czym termin ten rozpoczyna się nie wcześniej niż w dniu 1 maja i kończy się nie później niż w dniu 15 października",null,null,null,null,null,null,0,null,null,null,null,null,null,null,{"$f":"IF($P$3=5,'S_Zestawienie dzialek'!$AX49,IF($P$3=4,'S_Zestawienie dzialek'!$AW49,0))","v":0},"w kolumnie F (wiersz 45): Działki rolne, Źródło uszczegółowień wymogów dodać checkboxy: \n1. działania obligatoryjne PO/PO\n2. działania fakultatywne PO/PZO\n3. uszczegółowienie eksperta\n4. brak uszczegółowienia"]
[null,"wypas przy obsadzie – do 1 DJP/ha gruntów objętych wsparciem w ramach wariantu",null,null,null,null,null,null,0,null,null,null,null,null,null,null,{"$f":"IF($P$3=5,'S_Zestawienie dzialek'!$AX50,IF($P$3=4,'S_Zestawienie dzialek'!$AW50,0))","v":0},"w kolumnie F (wiersz 46): Działki rolne, Źródło uszczegółowień wymogów dodać checkboxy: \n1. działania obligatoryjne PO/PO\n2. działania fakultatywne PO/PZO\n3. uszczegółowienie eksperta\n4. brak uszczegółowienia"]
[]
[null,"Wymogi obowiązkowe przy użytkowaniu pastwiskowym","Wymogi obowiązkowe przy użytkowaniu pastwiskowym",null,null,null,null,null,{"$f":"IF($J$48=TRUE,1,0)","v":0},{"$f":"OR(C20=\"pastwiskowe\",C20=\"naprzemienne\")","v":false},null,null,null,null,null,null,{"$f":"IF($P$3=5,'S_Zestawienie dzialek'!$AH51,IF($P$3=4,'S_Zestawienie dzialek'!$AG51,0))","v":0}]
[null,"wypas w terminie określonym przez eksperta przyrodniczego, przy czym termin ten rozpoczyna się nie wcześniej niż w dniu 1 maja i koń-czy nie później niż w dniu 15 października",null,null,null,null,null,null,{"$f":"IF($J$48=TRUE,1,0)","v":0}]
[null,"wypas przy obsadzie zwierząt od 0,3 DJP/ha do 1 DJP/ha gruntów objętych wsparciem w ramach wariantu","wypas przy obsadzie zwierząt od 0,3 do 1 DJP/ha gruntów objętych wsparciem w ramach wariantu liczonej dla okresu 01-05 do 15-10.",null,null,null,null,null,0,null,null,null,null,null,null,null,{"$f":"IF($P$3=5,'S_Zestawienie dzialek'!$AF52,IF($P$3=4,'S_Zestawienie dzialek'!$AE52,0))","v":0}]
[null,"obowiązkowe wykaszanie niedojadów raz w roku lub raz na dwa lata ",null,null,null,null,null,null,0,null,null,null,null,null,null,null,{"$f":"IF($P$3=5,'S_Zestawienie dzialek'!$AF53,IF($P$3=4,'S_Zestawienie dzialek'!$AE53,0))","v":0}]
[null,null,{"$f":"C29","v":2020},null,null,null,null,null,0,null,null,null,null,null,null,null,{"$f":"IF($P$3=5,'S_Zestawienie dzialek'!$AF54,IF($P$3=4,'S_Zestawienie dzialek'!$AE54,0))","v":0}]
[null,null,{"$f":"C30","v":2021},null,null,null,null,null,0,null,null,null,null,null,null,null,{"$f":"IF($P$3=5,'S_Zestawienie dzialek'!$AF55,IF($P$3=4,'S_Zestawienie dzialek'!$AE55,0))","v":0}]
[null,null,2022,null,null,null,null,null,0,null,null,null,null,null,null,null,{"$f":"IF($P$3=5,'S_Zestawienie dzialek'!$AF56,IF($P$3=4,'S_Zestawienie dzialek'!$AE56,0))","v":0}]
[null,null,2023,null,null,null,null,null,0,null,null,null,null,null,null,null,{"$f":"IF($P$3=5,'S_Zestawienie dzialek'!$AF57,IF($P$3=4,'S_Zestawienie dzialek'!$AE57,0))","v":0}]
[null,null,2024,null,null,null,null,null,0,null,null,null,null,null,null,null,{"$f":"IF($P$3=5,'S_Zestawienie dzialek'!$AF58,IF($P$3=4,'S_Zestawienie dzialek'!$AE58,0))","v":0}]
[null,null,2025,null,null,null,null,null,0,null,null,null,null,null,null,null,{"$f":"IF($P$3=5,'S_Zestawienie dzialek'!$AF59,IF($P$3=4,'S_Zestawienie dzialek'!$AE59,0))","v":0}]
[null,"obowiązek wykoszenia niedojadów w terminie określonym przez eksperta przyrodniczego, przy czym termin ten rozpoczyna się nie wcześniej niż w dniu 1 sierpnia i kończy nie później niż w dniu 31 października",null,null,null,null,null,null,0,null,null,null,null,null,null,null,{"$f":"IF($P$3=5,'S_Zestawienie dzialek'!$AF60,IF($P$3=4,'S_Zestawienie dzialek'!$AE60,0))","v":0}]
[null,"obowiązek zebrania i usunięcia skoszonej biomasy – dotyczy niedojadów","obowiązek zebrania i usunięcia skoszonej biomasy - dotyczy niedojadów",null,null,"brak możliwości uszczegółowienia",null,null,0,null,null,null,null,null,null,null,{"$f":"IF($P$3=5,'S_Zestawienie dzialek'!$AF61,IF($P$3=4,'S_Zestawienie dzialek'!$AE61,0))","v":0}]
[null,"zakaz pozostawiania rozdrobnionej biomasy – dotyczy niedojadów","zakaz pozostawiania rozdrobnionej biomasy - dotyczy niedojadów",null,null,"brak możliwości uszczegółowienia",null,null,0]
[null,"w terminie do dwóch tygodni po pokosie biomasa powinna zostać usunięta z działki rolnej lub ułożona w pryzmy, w tym pryzmy balotowe, stogi lub brogi – dotyczy niedojadów","w terminie do dwóch tygodni po pokosie biomasa powinna zostać usunięta z działki rolnej lub ułożona w pryzmy, w tym pryzmy balotowe, stogi lub brogi [dotyczy niedojadów]",null,null,"brak możliwości uszczegółowienia",null,null,0]
[null,"w przypadku ułożenia biomasy w pryzmy, w tym pryzmy balotowe, stogi lub brogi powinna ona zostać usunięta z działki rolnej nie później niż do dnia 01-03 kolejnego roku – dotyczy niedojadów","usunięcie z działki rolnej biomasy ułożonej w pryzmy, w tym pryzmy balotowe, stogi lub brogi do dnia 01-03 kolejnego roku [dotyczy niedojadów]",null,null,"brak możliwości uszczegółowienia",null,null,0]
[null,null,"Inne zalecenia wynikajace z PZO/PO lub inne zalecenia ekperta  ",null,null,null,null,null,1]
[null,null,"źródło",null,"opis","uzasadnienie",null,null,1]
[null,null,null,null,null,null,null,null,1]
[null,null,null,null,null,null,null,null,1]
[null,null,null,null,null,null,null,null,1]
[]
[null,null,"rodzaj użytkowania","Wariant 4.3."]
[null,"pastwiskowe","pastwiskowe","Wariant 5.3."]
[null,"kośne","kośne "]
[null,"kośno-pastwiskowe","kośno-pastwiskowe "]
[null,"naprzemienne","nie dotyczy"]
[null,"usunięcie biomasy","usunięcie biomasy"]
[null,"w terminie do dwóch tygodni po pokosie biomasa powinna zostać usunięta z działki rolnej lub ułożona w pryzmy, w tym pryzmy balotowe, stogi lub brogi","w terminie do dwóch tygodni po pokosie biomasa powinna zostać usunięta z działki rolnej lub ułożona w pryzmy, w tym pryzmy balotowe, stogi lub brogi [dotyczy niedojadów]"]
[null,"nie zaleca się układania na działce pryzm, stogów lub brogów","nie zaleca się układania na działce pryzm, stogów lub brogów [dotyczy niedojadów]"]
[null,"nie zaleca się układania na działce pryzm","nie zaleca się układania na działce pryzm [dotyczy niedojadów]"]
[]
[null,"wykoszenie niedojadów"]
[null,"obowiązek wykoszenia niedojadów raz w roku"]
[null,"obowiązek wykoszenia niedojadów raz na dwa lata  "]
[null,"obowiązek wykoszenia niedojadów raz w roku lub raz na dwa lata"]
[null,"częstość koszenia","koszenie w konkretnym roku"]
[null,"częstotliwość koszenia: jeden pokos co roku ","obowiązkowy pokos"]
[null,"częstotliwość koszenia: jeden pokos co dwa lata","brak pokosu"]
[null,"częstotliwość koszenia: jeden pokos co roku lub co dwa lata","nie dotyczy"]
[null,"urządzenia hydrotechniczne "]
[null,"zakaz tworzenia nowych, rozbudowy i odtwarzania istniejących urządzeń melioracji, za wyjątkiem konstrukcji urządzeń mających na celu dostosowanie poziomu wód, wykorzystując istniejące urządzenia melioracji do wymogów siedliskowych gatunków lub siedlisk będących przedmiotem ochrony w pakiecie"]
[null,"zakaz tworzenia nowych, rozbudowy i odtwarzania istniejących urządzeń melioracji"]
[]
[null,"włókowanie","włókowanie"]
[null,"całkowity zakaz włókowania wynikający z działań obligatoryjnych PZO/PO","zaleca się niewykonywanie włókowania "]
[null,"zakaz włókowania w okresie od 15-04 do 01-09 na obszarach wyżynnych i górskich (powyżej 300 m n.p.m.)","zaleca się nie wykonywanie włókowania na obszarach wyżynnych i górskich (powyżej 300 m n.p.m.) w okresie od 15-04 do 01-09"]
[null,"zakaz włókowania w okresie od 01-04 do 01-09 na obszarach nizinnych (poniżej 300 m n.p.m.)","zaleca się nie wykonywanie włókowania na obszarach nizinnych (poniżej 300 m n.p.m.) w okresie od 01-04 do 01-09"]
[]
[null,"stosowanie środków ochrony roślin"]
[null,"zakaz stosowania środków ochrony roślin, z wyłączeniem selektywnego i miejscowego niszczenia uciążliwych gatunków inwazyjnych z zastosowaniem odpowiedniego sprzętu (np. mazaczy herbicydowych)"]
[null,"zakaz stosowania środków ochrony roślin"]
[]
[null,"termin koszenia"]
[null,"termin koszenia od 01-08 do 31-10"]
[]
[null,"brak koszenia na działce poniżej 0,5 ha"]
[null,"działka o powierzchni poniżej 0,5 ha: dopuszczenie zrezygnowania z pozostawiania powierzchni nieskoszonych i koszenie co roku całej działki rolnej"]
[null,"działka o powierzchni poniżej 0,5 ha: obowiązek pozostawienia fragmentów nieskoszonych wynoszących 15–20% powierzchni tej działki"]
[]
[null,"fragmenty niekoszone"]
[null,"w dwóch kolejnych pokosach (wykonywanych w odstępie roku lub dwóch lat) należy pozostawić różne fragmenty nieskoszone "]
[null,"we wszystkich pokosach, w ciągu całego pięcioletniego zobowiązania należy pozostawić różne fragmenty nieskoszone "]
[]
[null,"dopuszczenie wypasu"]
[null,"zakaz wypasu"]
[null,"dopuszczalny wypas "]
[]
[null,"termin wypasu przy użytkowaniu kośno-pastwiskowym"]
[null,"termin dopuszczalnego wypasu: od 01-05 do 15-10"]
[]
[null,"termin koszenia niedojadów"]
[null,"wykaszanie niedojadów w terminie od 01-08 do 31-10"]
[]
[null,"usunięcie balotów, pryzm, stogów ","usunięcie balotów, pryzm, stogów "]
[null,"usunięcie z działki rolnej biomasy ułożonej w pryzmy, w tym pryzmy balotowe, stogi lub brogi do dnia 01-03 kolejnego roku","usunięcie z działki rolnej biomasy ułożonej w pryzmy, w tym pryzmy balotowe, stogi lub brogi do dnia 01-03 kolejnego roku [dotyczy niedojadów]"]
[]
[null,"obsada wypas"]
[null,"wypas przy obsadzie od 0,3 DJP/ha do 1 DJP/ha gruntów objętych wsparciem w ramach wariantu"]
[]
[null,"obsada kośno-pastwiskowa"]
[null,"wypas przy obsadzie – do 1 DJP/ha gruntów objętych wsparciem w ramach wariantu"]
[]
[]
[]
[]
[]
[null,"koszenie niedojadów w konkretnym roku"]
[null,"obowiązkowe koszenie "]
[null,"brak koszenia"]
[null,"nie dotyczy"]
[null,"działki mniejsze niż 0,5 ha"]
[null,"oznaczenia działek rolnych: …"]
[null,"nie dotyczy","nie dotyczy"]
[]
[null,"termin wypasu przy użytkowaniu pastwiskowym"]
[null,"wypas w terminie od 01-05 do 15-10"]

{"sheet":"W43","index":19,"n_rows":0,"n_cols":0,"rows_kept":0,"cut":false,"hidden":true,"merged":[]}

{"sheet":"Wymogi 4(5).4. RSS(1)","index":20,"n_rows":119,"n_cols":17,"rows_kept":119,"cut":false,"hidden":true,"merged":[[2,5,5,5],[0,1,1,1],[0,2,1,3],[2,1,5,1],[2,2,5,2],[2,3,5,3],[17,2,17,3],[6,2,6,3],[7,2,7,6],[8,2,8,3],[9,2,9,3],[10,2,10,3],[11,2,11,3],[12,2,12,3],[13,2,13,3],[14,2,14,3],[15,2,15,3],[16,2,16,3],[18,2,18,6],[19,1,25,1],[19,2,19,3],[19,4,25,4],[19,5,25,5],[19,6,25,6],[24,0,25,0],[26,2,26,6],[27,1,33,1],[27,2,27,3],[27,4,33,4],[27,5,33,5],[27,6,33,6],[43,2,43,3],[34,2,34,3],[35,2,35,3],[36,2,36,3],[37,2,37,3],[38,2,38,3],[39,2,39,3],[40,1,41,1],[40,4,41,4],[40,5,41,5],[40,6,41,6],[42,2,42,3],[44,2,44,3],[45,2,45,3],[46,2,46,3],[47,2,47,6],[48,2,48,3],[48,5,48,6],[49,2,49,3],[49,5,49,6],[50,2,50,3],[50,5,50,6],[51,2,51,3],[51,5,51,6]]}
[null,"WYMOGI DLA WARIANTU 4.4. ALBO WARIANTU 5.4.","Półnaturalne łąki wilgotne",null,null,null,"Powrót",null,null,null,null,null,null,null,null,"pak4/5",{"$f":"IF($P$3=5,'S_Zestawienie dzialek'!$AZ3,IF($P$3=4,'S_Zestawienie dzialek'!$AY3,0))+1","v":1}]
[null,null,null,null,null,null,null,null,null,null,null,null,null,null,"VBA"]
[null,{"$f":"\"WYMOGI DLA WARIANTU\" &\" \"&RIGHT(C3,4)","v":"WYMOGI DLA WARIANTU "},null,"działka RSS:",null,"działki rolne:",0,null,1,null,null,null,null,{"$f":"MATCH(E3,'S_Zestawienie dzialek'!$W$6:$W$20,0)","v":{"$error":"#N/A"}},{"$f":"IFERROR(OFFSET('S_Zestawienie dzialek'!$AB$5,N3,0),\"\")","v":""},{"$f":"IFERROR(VALUE(MID(C3,9,1)),\"\")","v":""},{"$f":"IF($P$3=5,'S_Zestawienie dzialek'!$AZ7,IF($P$3=4,'S_Zestawienie dzialek'!$AY7,0))","v":0}]
[null,null,null,null,null,null,null,null,{"$f":"COUNTA(G4)","v":0},null,null,null,null,{"$f":"MATCH(E4,'S_Zestawienie dzialek'!$W$6:$W$20,0)","v":{"$error":"#N/A"}},{"$f":"IFERROR(OFFSET('S_Zestawienie dzialek'!$AB$5,N4,0),\"\")","v":""},null,{"$f":"IF($P$3=5,'S_Zestawienie dzialek'!$AZ8,IF($P$3=4,'S_Zestawienie dzialek'!$AY8,0))","v":0}]
[null,null,null,null,null,null,null,null,{"$f":"COUNTA(G5)","v":0},null,null,null,null,{"$f":"MATCH(E5,'S_Zestawienie dzialek'!$W$6:$W$20,0)","v":{"$error":"#N/A"}},{"$f":"IFERROR(OFFSET('S_Zestawienie dzialek'!$AB$5,N5,0),\"\")","v":""},null,{"$f":"IF($P$3=5,'S_Zestawienie dzialek'!$AZ9,IF($P$3=4,'S_Zestawienie dzialek'!$AY9,0))","v":0}]
[null,null,null,null,null,null,null,null,0,null,null,null,null,{"$f":"MATCH(E6,'S_Zestawienie dzialek'!$W$6:$W$20,0)","v":{"$error":"#N/A"}},{"$f":"IFERROR(OFFSET('S_Zestawienie dzialek'!$AB$5,N6,0),\"\")","v":""},null,{"$f":"IF($P$3=5,'S_Zestawienie dzialek'!$AZ10,IF($P$3=4,'S_Zestawienie dzialek'!$AY10,0))","v":0}]
[null,"Wymogi z rozporządzenia ws. szczegółowych warunków i trybu przyznawania pomocy finansowej w ramach działania \"Działanie rolno-środowiskowo-klimatyczne\" objętego PROW na lata 2014-2020","Wymogi obowiązujące rolnika lub zarządcę – \nuszczegółowione wymogi  rozporządzenia rolno-środowiskowo-klimatycznego",null,"Zalecenia","Źródło uszczegółowień wymogów","Uzasadnienie uszczegółowień wymogów i zaleceń",null,1,null,null,null,null,null,null,null,{"$f":"IF($P$3=5,'S_Zestawienie dzialek'!$AZ11,IF($P$3=4,'S_Zestawienie dzialek'!$AY11,0))","v":0}]
[null," Wymogi obowiązkowe dla wszystkich typów użytkowania"," Wymogi obowiązkowe dla wszystkich typów użytkowania",null,null,null,null,null,1,null,null,null,null,null,null,null,{"$f":"IF($P$3=5,'S_Zestawienie dzialek'!$AZ12,IF($P$3=4,'S_Zestawienie dzialek'!$AY12,0))","v":0}]
[null,"zakaz wałowania","zakaz wałowania",null,null,"brak możliwości uszczegółowienia",null,null,1,null,null,null,null,null,null,null,{"$f":"IF($P$3=5,'S_Zestawienie dzialek'!$AZ13,IF($P$3=4,'S_Zestawienie dzialek'!$AY13,0))","v":0}]
[null,"zakaz stosowania komunalnych osadów ściekowych","zakaz stosowania komunalnych osadów ściekowych",null,null,"brak możliwości uszczegółowienia",null,null,1,null,null,null,null,null,null,null,{"$f":"IF($P$3=5,'S_Zestawienie dzialek'!$AZ14,IF($P$3=4,'S_Zestawienie dzialek'!$AY14,0))","v":0}]
[null,"zakaz stosowania podsiewu","zakaz stosowania podsiewu",null,null,"brak możliwości uszczegółowienia",null,null,1,null,null,null,null,null,null,null,{"$f":"IF($P$3=5,'S_Zestawienie dzialek'!$AZ15,IF($P$3=4,'S_Zestawienie dzialek'!$AY15,0))","v":0}]
[null,"zakaz włókowania w okresie od 01-04 do 01-09 na obszarach nizinnych (poniżej 300 m n.p.m.) oraz od 15-04 do 01-09 na obszarach wyżynnych i górskich (powyżej 300 m n.p.m.) \n",null,null,null,"brak możliwości uszczegółowienia",null,null,1,null,null,null,null,null,null,null,{"$f":"IF($P$3=5,'S_Zestawienie dzialek'!$AZ16,IF($P$3=4,'S_Zestawienie dzialek'!$AY16,0))","v":0}]
[null,"zakaz stosowania środków ochrony roślin, z wyłączeniem selektywnego i miejscowego niszczenia uciążliwych gatunków inwazyjnych z zastosowaniem odpowiedniego sprzętu (np. mazaczy herbicydowych)",null,null,null,null,null,null,1,null,null,null,null,null,null,null,{"$f":"IF($P$3=5,'S_Zestawienie dzialek'!$AZ17,IF($P$3=4,'S_Zestawienie dzialek'!$AY17,0))","v":0}]
[null,"zakaz tworzenia nowych, rozbudowy i odtwarzania istniejących urządzeń melioracji wodnych, z wyjątkiem konstrukcji urządzeń mających na celu dostosowanie poziomu wód, wykorzystując istniejące urządzenia melioracji wodnych do wymogów siedliskowych gatunków lub siedlisk będących przedmiotem ochrony w danym pakiecie, jeżeli takie działania zostaną dopuszczone przez eksperta przyrodniczego",null,null,null,null,null,null,1,null,null,null,null,null,null,null,{"$f":"IF($P$3=5,'S_Zestawienie dzialek'!$AZ18,IF($P$3=4,'S_Zestawienie dzialek'!$AY18,0))","v":0}]
[null,"zakaz składowania biomasy wśród kęp drzew i zarośli, w rowach, jarach i innych obniżeniach terenu (położonych na działkach zadeklarowanych we wniosku o przyznanie płatności rolno-środowiskowo-klimatycznej)","zakaz składowania biomasy wśród kęp drzew i zarośli, w rowach, jarach i innych obniżeniach terenu (położonych na działkach zadeklarowanych we wniosku o przyznanie płatności rolno-środowiskowo-klimatycznej)",null,null,"brak możliwości uszczegółowienia",null,null,1,null,null,null,null,null,null,null,{"$f":"IF($P$3=5,'S_Zestawienie dzialek'!$AZ19,IF($P$3=4,'S_Zestawienie dzialek'!$AY19,0))","v":0}]
[null,"zakaz wapnowania","zakaz wapnowania",null,null,"brak możliwości uszczegółowienia",null,null,1,null,null,null,null,null,null,null,{"$f":"IF($P$3=5,'S_Zestawienie dzialek'!$AZ20,IF($P$3=4,'S_Zestawienie dzialek'!$AY20,0))","v":0}]
[null,"zakaz mechanicznego niszczenia struktury glebowej, w tym bronowania i przeorywania","zakaz mechanicznego niszczenia struktury glebowej w tym bronowania i przeorywania",null,null,"brak możliwości uszczegółowienia",null,null,1,null,null,null,null,null,null,null,{"$f":"IF($P$3=5,'S_Zestawienie dzialek'!$AZ21,IF($P$3=4,'S_Zestawienie dzialek'!$AY21,0))","v":0}]
[null,"dopuszczalne jest ograniczone nawożenie do 60 kg N/ha/rok, z wyłączeniem obszarów nawożonych przez namuły rzeczne\n",null,null,null,null,null,null,1,null,null,null,null,null,null,null,{"$f":"IF($P$3=5,'S_Zestawienie dzialek'!$AZ22,IF($P$3=4,'S_Zestawienie dzialek'!$AY22,0))","v":0}]
[null,"Rodzaj użytkowania ","Rodzaj użytkowania ",null,null,null,null,null,1,null,null,null,null,null,null,null,{"$f":"IF($P$3=5,'S_Zestawienie dzialek'!$AZ23,IF($P$3=4,'S_Zestawienie dzialek'!$AY23,0))","v":0}]
[null,"kośne, a w uzasadnionych przypadkach dopuszczonych przez eksperta przyrodniczego jest możliwy wypas po pokosie, przy użytkowaniu jednokośnym (użytkowanie kośno-pastwiskowe); w przypadku gdy ekspert przyrodniczy dopuścił użytkowanie kośno-pastwiskowe jest możliwe stosowanie również użytkowania naprzemiennego; (przy czym użytkowanie naprzemienne polega na stosowaniu w niektórych latach użytkowania kośnego, a w niektórych latach kośno-pastwiskowego)",null,null,null,null,null,null,1,{"$f":"IF(C20<>0,1,0)","v":0},null,null,null,null,null,null,{"$f":"IF($P$3=5,'S_Zestawienie dzialek'!$AZ24,IF($P$3=4,'S_Zestawienie dzialek'!$AY24,0))","v":0}]
[null,null,{"$f":"S_Dane_ogolne!$E$4","v":2020},null,null,null,null,null,1,null,null,null,null,null,null,null,{"$f":"IF($P$3=5,'S_Zestawienie dzialek'!$AZ25,IF($P$3=4,'S_Zestawienie dzialek'!$AY25,0))","v":0}]
[null,null,{"$f":"C21+1","v":2021},null,null,null,null,null,1,null,null,null,null,null,null,null,{"$f":"IF($P$3=5,'S_Zestawienie dzialek'!$AZ26,IF($P$3=4,'S_Zestawienie dzialek'!$AY26,0))","v":0}]
[null,null,{"$f":"C22+1","v":2022},null,null,null,null,null,1,null,null,null,null,null,null,null,{"$f":"IF($P$3=5,'S_Zestawienie dzialek'!$AZ27,IF($P$3=4,'S_Zestawienie dzialek'!$AY27,0))","v":0}]
[null,null,2023,null,null,null,null,null,1,null,null,null,null,null,null,null,{"$f":"IF($P$3=5,'S_Zestawienie dzialek'!$AZ28,IF($P$3=4,'S_Zestawienie dzialek'!$AY28,0))","v":0}]
[null,null,2024,null,null,null,null,null,1,null,null,null,null,null,null,null,{"$f":"IF($P$3=5,'S_Zestawienie dzialek'!$AZ29,IF($P$3=4,'S_Zestawienie dzialek'!$AY29,0))","v":0}]
[null,null,2025,null,null,null,null,null,1,null,null,null,null,null,null,null,{"$f":"IF($P$3=5,'S_Zestawienie dzialek'!$AZ30,IF($P$3=4,'S_Zestawienie dzialek'!$AY30,0))","v":0}]
[null,"Wymogi obowiązkowe przy użytkowaniu kośnym i kośno-pastwiskowym ","Wymogi obowiązkowe przy użytkowaniu kośnym i kośno-pastwiskowym ",null,null,null,null,null,{"$f":"$J$20","v":0},null,null,null,null,null,null,null,{"$f":"IF($P$3=5,'S_Zestawienie dzialek'!$AZ31,IF($P$3=4,'S_Zestawienie dzialek'!$AY31,0))","v":0}]
[null,"częstotliwość koszenia: jeden lub dwa pokosy w roku – liczba pokosów określona przez eksperta przyrodniczego ",null,null,null,null,null,null,{"$f":"$J$20","v":0},null,null,null,null,null,null,null,{"$f":"IF($P$3=5,'S_Zestawienie dzialek'!$AZ32,IF($P$3=4,'S_Zestawienie dzialek'!$AY32,0))","v":0}]
[null,null,{"$f":"S_Dane_ogolne!$E$4","v":2020},null,null,null,null,null,0,null,null,null,null,null,null,null,{"$f":"IF($P$3=5,'S_Zestawienie dzialek'!$AZ33,IF($P$3=4,'S_Zestawienie dzialek'!$AY33,0))","v":0}]
[null,null,{"$f":"C29+1","v":2021},null,null,null,null,null,0,null,null,null,null,null,null,null,{"$f":"IF($P$3=5,'S_Zestawienie dzialek'!$AZ34,IF($P$3=4,'S_Zestawienie dzialek'!$AY34,0))","v":0}]
[null,null,{"$f":"C30+1","v":2022},null,null,null,null,null,0,null,null,null,null,null,null,null,{"$f":"IF($P$3=5,'S_Zestawienie dzialek'!$AZ35,IF($P$3=4,'S_Zestawienie dzialek'!$AY35,0))","v":0}]
[null,null,2023,null,null,null,null,null,0,null,null,null,null,null,null,null,{"$f":"IF($P$3=5,'S_Zestawienie dzialek'!$AZ36,IF($P$3=4,'S_Zestawienie dzialek'!$AY36,0))","v":0}]
[null,null,2024,null,null,null,null,null,0,null,null,null,null,null,null,null,{"$f":"IF($P$3=5,'S_Zestawienie dzialek'!$AZ37,IF($P$3=4,'S_Zestawienie dzialek'!$AY37,0))","v":0}]
[null,null,2025,null,null,null,null,null,0,null,null,null,null,null,null,null,{"$f":"IF($P$3=5,'S_Zestawienie dzialek'!$AZ38,IF($P$3=4,'S_Zestawienie dzialek'!$AY38,0))","v":0}]
[null,"koszenie w terminie określonym przez eksperta przyrodniczego, przy czym termin ten rozpoczyna się nie wcześniej niż w dniu 15 czerwca i kończy się nie później niż w dniu dnia 30 września",null,null,null,null,null,null,0,null,null,null,null,null,null,null,{"$f":"IF($P$3=5,'S_Zestawienie dzialek'!$AZ39,IF($P$3=4,'S_Zestawienie dzialek'!$AY39,0))","v":0}]
[null,"obowiązek zebrania i usunięcia skoszonej biomasy","obowiązek zebrania i usunięcia skoszonej biomasy",null,null,"brak możliwości uszczegółowienia",null,null,0,null,null,null,null,null,null,null,{"$f":"IF($P$3=5,'S_Zestawienie dzialek'!$AZ40,IF($P$3=4,'S_Zestawienie dzialek'!$AY40,0))","v":0}]
[null,"zakaz pozostawiania rozdrobnionej biomasy","zakaz pozostawiania rozdrobnionej biomasy",null,null,"brak możliwości uszczegółowienia",null,null,0,null,null,null,null,null,null,null,{"$f":"IF($P$3=5,'S_Zestawienie dzialek'!$AZ41,IF($P$3=4,'S_Zestawienie dzialek'!$AY41,0))","v":0}]
[null,"w terminie do dwóch tygodni po pokosie biomasa powinna zostać usunięta z działki rolnej lub ułożona w pryzmy, w tym pryzmy balotowe, stogi lub brogi","w terminie do dwóch tygodni po pokosie biomasa powinna zostać usunięta z działki rolnej lub ułożona w pryzmy, w tym pryzmy balotowe, stogi lub brogi",null,null,"brak możliwości uszczegółowienia",null,null,0,null,null,null,null,null,null,null,{"$f":"IF($P$3=5,'S_Zestawienie dzialek'!$AZ42,IF($P$3=4,'S_Zestawienie dzialek'!$AY42,0))","v":0}]
[null,"w przypadku ułożenia biomasy w pryzmy, w tym pryzmy balotowe, stogi lub brogi powinna ona zostać usunięta z działki rolnej nie później niż do dnia 01-03 kolejnego roku","usunięcie z działki rolnej biomasy ułożonej w pryzmy, w tym pryzmy balotowe, stogi lub brogi do dnia 01-03 kolejnego roku",null,null,"brak możliwości uszczegółowienia",null,null,0,null,null,null,null,null,null,null,{"$f":"IF($P$3=5,'S_Zestawienie dzialek'!$AZ43,IF($P$3=4,'S_Zestawienie dzialek'!$AY43,0))","v":0}]
[null,"pozostawienie nieskoszonego fragmentu działki rolnej o powierzchni wynoszącej 15–20% powierzchni tej działki","pozostawienie nieskoszonego fragmentu działki rolnej o powierzchni wynoszącej 15–20% powierzchni tej działki",null,null,"brak możliwości uszczegółowienia",null,null,{"$f":"IF(E40=\"nie dotyczy\",0,$J$20)","v":0},null,null,null,null,null,null,null,{"$f":"IF($P$3=5,'S_Zestawienie dzialek'!$AZ44,IF($P$3=4,'S_Zestawienie dzialek'!$AY44,0))","v":0}]
[null,"dla działek rolnych nieprzekraczających powierzchni 1 ha jest dopuszczalne zrezygnowanie z pozostawiania powierzchni nieskoszonych i koszenie co roku całej działki rolnej lub pozostawienie nieskoszonego fragmentu działki rolnej wynoszącej 15–20% powierzchni tej działki, jeżeli ekspert przyrodniczy dopuści taką możliwość","działki rolne o powierzchni nieprzekraczającej 1,0 ha, na których jest dopuszczone pozostawienie fragmentów nieskoszonych wynoszących 15–20% powierzchni tej działki",null,null,null,null,null,{"$f":"IF(D41=\"nie dotyczy\",0,$J$20)","v":0},null,null,null,null,null,null,null,{"$f":"IF($P$3=5,'S_Zestawienie dzialek'!$AZ45,IF($P$3=4,'S_Zestawienie dzialek'!$AY45,0))","v":0}]
[null,null,"działki rolne o powierzchni nieprzekraczającej 1,0 ha, na których jest zakaz pozostawienia fragmentów nieskoszonych i koszenie co roku całej działki rolnej",null,null,null,null,null,{"$f":"IF(D42=\"nie dotyczy\",0,$J$20)","v":0},null,null,null,null,null,null,null,{"$f":"IF($P$3=5,'S_Zestawienie dzialek'!$AZ46,IF($P$3=4,'S_Zestawienie dzialek'!$AY46,0))","v":0}]
[null,"w przypadku stosowania dwóch pokosów w ciągu roku należy pozostawić te same fragmenty działki rolnej nieskoszone","w przypadku stosowania dwóch pokosów w ciągu roku należy pozostawić te same fragmenty działki rolnej nieskoszone",null,null,"brak możliwości uszczegółowienia",null,null,0,null,null,null,null,null,null,null,{"$f":"IF($P$3=5,'S_Zestawienie dzialek'!$AZ47,IF($P$3=4,'S_Zestawienie dzialek'!$AY47,0))","v":0}]
[null,"w dwóch kolejnych latach należy pozostawić inne fragmenty nieskoszone","w dwóch kolejnych latach należy pozostawić inne fragmenty nieskoszone ",null,null,null,null,null,0,null,null,null,null,null,null,null,{"$f":"IF($P$3=5,'S_Zestawienie dzialek'!$AZ48,IF($P$3=4,'S_Zestawienie dzialek'!$AY48,0))","v":0}]
[null,"przy użytkowaniu kośno-pastwiskowym - wypas dopuszczalny tylko przy użytkowaniu jednokośnym, jeżeli ekspert przyrodniczy dopuści taką możliwość",null,null,null,null,null,null,0,null,null,null,null,null,null,null,{"$f":"IF($P$3=5,'S_Zestawienie dzialek'!$AZ49,IF($P$3=4,'S_Zestawienie dzialek'!$AY49,0))","v":0}]
[null,"przy użytkowaniu kośno-pastwiskowym - wypas po pokosie w terminie określonym przez eksperta przyrodnicze-go, przy czym termin ten rozpoczyna się nie wcześniej niż w dniu 15 lipca i kończy się nie później niż w dniu 15 października",null,null,null,null,null,null,0,null,null,null,null,null,null,null,{"$f":"IF($P$3=5,'S_Zestawienie dzialek'!$AZ50,IF($P$3=4,'S_Zestawienie dzialek'!$AY50,0))","v":0}]
[null,"przy użytkowaniu kośno-pastwiskowym - wypas przy obsadzie – do 0,5 DJP/ha gruntów objętych wsparciem w ramach wariantu",null,null,null,null,null,null,0]
[null,null,"Inne zalecenia wynikajace z PZO/PO lub inne zalecenia ekperta  ",null,null,null,null,null,1,null,null,null,null,null,null,null,{"$f":"IF($P$3=5,'S_Zestawienie dzialek'!$AH51,IF($P$3=4,'S_Zestawienie dzialek'!$AG51,0))","v":0}]
[null,null,"źródło",null,"opis","uzasadnienie",null,null,1]
[null,null,null,null,null,null,null,null,1,null,null,null,null,null,null,null,{"$f":"IF($P$3=5,'S_Zestawienie dzialek'!$AF52,IF($P$3=4,'S_Zestawienie dzialek'!$AE52,0))","v":0}]
[null,null,null,null,null,null,null,null,1,null,null,null,null,null,null,null,{"$f":"IF($P$3=5,'S_Zestawienie dzialek'!$AF53,IF($P$3=4,'S_Zestawienie dzialek'!$AE53,0))","v":0}]
[null,null,null,null,null,null,null,null,1,null,null,null,null,null,null,null,{"$f":"IF($P$3=5,'S_Zestawienie dzialek'!$AF54,IF($P$3=4,'S_Zestawienie dzialek'!$AE54,0))","v":0}]
[null,null,null,null,null,null,null,null,null,null,null,null,null,null,null,null,{"$f":"IF($P$3=5,'S_Zestawienie dzialek'!$AF55,IF($P$3=4,'S_Zestawienie dzialek'!$AE55,0))","v":0}]
[null,null,null,null,null,null,null,null,null,null,null,null,null,null,null,null,{"$f":"IF($P$3=5,'S_Zestawienie dzialek'!$AF56,IF($P$3=4,'S_Zestawienie dzialek'!$AE56,0))","v":0}]
[null,"kośne","kośne","Wariant 4.4.","DZIAŁKI<0,5",null,null,null,null,null,null,null,null,null,null,null,{"$f":"IF($P$3=5,'S_Zestawienie dzialek'!$AF57,IF($P$3=4,'S_Zestawienie dzialek'!$AE57,0))","v":0}]
[null,"kośno-pastwiskowe","kośno-pastwiskowe ","Wariant 5.4.",null,null,null,null,null,null,null,null,null,null,null,null,{"$f":"IF($P$3=5,'S_Zestawienie dzialek'!$AF58,IF($P$3=4,'S_Zestawienie dzialek'!$AE58,0))","v":0}]
[null,"naprzemienne","nie dotyczy",null,"nie dotyczy",null,null,null,null,null,null,null,null,null,null,null,{"$f":"IF($P$3=5,'S_Zestawienie dzialek'!$AF59,IF($P$3=4,'S_Zestawienie dzialek'!$AE59,0))","v":0}]
[null,"usunięcie biomasy",null,null,null,null,null,null,null,null,null,null,null,null,null,null,{"$f":"IF($P$3=5,'S_Zestawienie dzialek'!$AF60,IF($P$3=4,'S_Zestawienie dzialek'!$AE60,0))","v":0}]
[null,"w terminie do dwóch tygodni po pokosie biomasa powinna zostać usunięta z działki rolnej lub ułożona w pryzmy, w tym pryzmy balotowe, stogi lub brogi",null,null,null,null,null,null,null,null,null,null,null,null,null,null,{"$f":"IF($P$3=5,'S_Zestawienie dzialek'!$AF61,IF($P$3=4,'S_Zestawienie dzialek'!$AE61,0))","v":0}]
[null,"nie zaleca się układania na działce pryzm, stogów lub brogów"]
[null,"nie zaleca się układania na działce pryzm"]
[]
[null,"częstość koszenia","koszenie w konkretnym roku"]
[null,"częstotliwość koszenia: jeden pokos co roku ","jeden pokos w ciągu roku"]
[null,"częstotliwość koszenia: dwa pokosy w roku","dwa pokosy w ciągu roku"]
[null,"częstotliwość koszenia: jeden lub dwa pokosy w roku","nie dotyczy"]
[null,"poziom nawożenia"]
[null,"zakaz nawożenia "]
[null,"zakaz stosowania nawozów zawierających azot"]
[null,"dopuszczalne jest ograniczone nawożenie do 60 kg N/ha/rok"]
[]
[null,"urządzenia hydrotechniczne "]
[null,"zakaz tworzenia nowych, rozbudowy i odtwarzania istniejących urządzeń melioracji, za wyjątkiem konstrukcji urządzeń mających na celu dostosowanie poziomu wód, wykorzystując istniejące urządzenia melioracji do wymogów siedliskowych gatunków lub siedlisk będących przedmiotem ochrony w pakiecie"]
[null,"zakaz tworzenia nowych, rozbudowy i odtwarzania istniejących urządzeń melioracji"]
[]
[null,"włókowanie","włókowanie"]
[null,"całkowity zakaz włókowania wynikający z działań obligatoryjnych PZO/PO","zaleca się niewykonywanie włókowania "]
[null,"zakaz włókowania w okresie od 15-04 do 01-09 na obszarach wyżynnych i górskich (powyżej 300 m n.p.m.)","zaleca się nie wykonywanie włókowania na obszarach wyżynnych i górskich (powyżej 300 m n.p.m.) w okresie od 15-04 do 01-09"]
[null,"zakaz włókowania w okresie od 01-04 do 01-09 na obszarach nizinnych (poniżej 300 m n.p.m.)","zaleca się nie wykonywanie włókowania na obszarach nizinnych (poniżej 300 m n.p.m.) w okresie od 01-04 do 01-09"]
[]
[null,"stosowanie środków ochrony roślin"]
[null,"zakaz stosowania środków ochrony roślin, z wyłączeniem selektywnego i miejscowego niszczenia uciążliwych gatunków inwazyjnych z zastosowaniem odpowiedniego sprzętu (np. mazaczy herbicydowych)"]
[null,"zakaz stosowania środków ochrony roślin"]
[]
[null,"termin koszenia"]
[null,"termin koszenia od 15-06 do 30-09"]
[]
[null,"brak koszenia na działce poniżej 1,0 ha"]
[null,"działka o powierzchni poniżej 1,0 ha: dopuszczenie zrezygnowania z pozostawiania powierzchni nieskoszonych i koszenie co roku całej działki rolnej"]
[null,"działka o powierzchni poniżej 1,0 ha: obowiązek pozostawienia fragmentów nieskoszonych wynoszących 15–20% powierzchni tej działki"]
[]
[null,"fragmenty niekoszone"]
[null,"w dwóch kolejnych latach należy pozostawić różne fragmenty nieskoszone "]
[null,"w każdym roku, w ciągu całego pięcioletniego zobowiązania należy pozostawić inny fragment nieskoszony "]
[]
[null,"dopuszczenie wypasu"]
[null,"zakaz wypasu"]
[null,"wypas dopuszczalny tylko przy użytkowaniu jednokośnym"]
[]
[null,"termin wypasu"]
[null,"termin dopuszczalnego wypasu: po pokosie, od 15-07 do 15-10"]
[]
[null,"usunięcie balotów, pryzm, stogów "]
[null,"usunięcie z działki rolnej biomasy ułożonej w pryzmy, w tym pryzmy balotowe, stogi lub brogi do dnia 01-03 kolejnego roku"]
[]
[null,"obsada kośno-pastwiskowa"]
[null,"wypas przy obsadzie – do 0,5 DJP/ha gruntów objętych wsparciem w ramach wariantu"]
[]
[]
[]
[]
[]
[null,"koszenie niedojadów w konkretnym roku"]
[null,"obowiązkowy pokos"]
[null,"brak pokosu"]
[null,"nie dotyczy"]
[null,"działki mniejsze niż 0,5 ha"]
[null,"oznaczenia działek rolnych: …"]
[null,"nie dotyczy"]

{"sheet":"W44","index":21,"n_rows":0,"n_cols":0,"rows_kept":0,"cut":false,"hidden":true,"merged":[]}

{"sheet":"Wymogi 4(5).5. RSS(0)","index":22,"n_rows":152,"n_cols":17,"rows_kept":152,"cut":false,"hidden":true,"merged":[[61,2,61,3],[61,5,61,6],[62,2,62,3],[62,5,62,6],[56,2,56,3],[57,2,57,3],[58,2,58,6],[59,2,59,3],[59,5,59,6],[60,2,60,3],[60,5,60,6],[55,2,55,3],[44,2,44,3],[45,2,45,3],[46,2,46,3],[47,2,47,6],[48,2,48,3],[49,2,49,3],[50,2,50,3],[51,2,51,3],[52,2,52,3],[53,2,53,3],[54,2,54,3],[40,1,41,1],[40,4,41,4],[40,5,41,5],[40,6,41,6],[42,2,42,3],[43,2,43,3],[34,2,34,3],[35,2,35,3],[36,2,36,3],[37,2,37,3],[38,2,38,3],[39,2,39,3],[26,2,26,6],[27,1,33,1],[27,2,27,3],[27,4,33,4],[27,5,33,5],[27,6,33,6],[18,2,18,6],[19,1,25,1],[19,2,19,3],[19,4,25,4],[19,5,25,5],[19,6,25,6],[17,2,17,3],[6,2,6,3],[7,2,7,6],[8,2,8,3],[9,2,9,3],[10,2,10,3],[11,2,11,3],[12,2,12,3],[13,2,13,3],[14,2,14,3],[15,2,15,3],[16,2,16,3],[2,5,5,5],[0,1,1,1],[0,2,1,3],[2,1,5,1],[2,2,5,2],[2,3,5,3]]}
[null,"WYMOGI DLA WARIANTU 4.5. ALBO WARIANTU 5.5.","Półnaturalne łąki świeże",null,null,null,"Powrót",null,null,null,null,null,null,null,null,"pak4/5",{"$f":"IF($P$3=5,'S_Zestawienie dzialek'!$BB3,IF($P$3=4,'S_Zestawienie dzialek'!$BA3,0))+1","v":1}]
[null,null,null,null,null,null,null,null,null,null,null,null,null,null,"VBA"]
[null,{"$f":"\"WYMOGI DLA WARIANTU\" &\" \"&RIGHT(C3,4)","v":"WYMOGI DLA WARIANTU "},null,"działka RSS:",null,"działki rolne:",null,null,1,null,null,null,null,{"$f":"MATCH(E3,'S_Zestawienie dzialek'!$W$6:$W$20,0)","v":{"$error":"#N/A"}},{"$f":"IFERROR(OFFSET('S_Zestawienie dzialek'!$AB$5,N3,0),\"\")","v":""},{"$f":"IFERROR(VALUE(MID(C3,9,1)),\"\")","v":""},{"$f":"IF($P$3=5,'S_Zestawienie dzialek'!$BB7,IF($P$3=4,'S_Zestawienie dzialek'!$BA7,0))","v":0}]
[null,null,null,null,null,null,null,null,{"$f":"COUNTA(G4)","v":0},null,null,null,null,{"$f":"MATCH(E4,'S_Zestawienie dzialek'!$W$6:$W$20,0)","v":{"$error":"#N/A"}},{"$f":"IFERROR(OFFSET('S_Zestawienie dzialek'!$AB$5,N4,0),\"\")","v":""},null,{"$f":"IF($P$3=5,'S_Zestawienie dzialek'!$BB8,IF($P$3=4,'S_Zestawienie dzialek'!$BA8,0))","v":0}]
[null,null,null,null,null,null,null,null,{"$f":"COUNTA(G5)","v":0},null,null,null,null,{"$f":"MATCH(E5,'S_Zestawienie dzialek'!$W$6:$W$20,0)","v":{"$error":"#N/A"}},{"$f":"IFERROR(OFFSET('S_Zestawienie dzialek'!$AB$5,N5,0),\"\")","v":""},null,{"$f":"IF($P$3=5,'S_Zestawienie dzialek'!$BB9,IF($P$3=4,'S_Zestawienie dzialek'!$BA9,0))","v":0}]
[null,null,null,null,null,null,null,null,0,null,null,null,null,{"$f":"MATCH(E6,'S_Zestawienie dzialek'!$W$6:$W$20,0)","v":{"$error":"#N/A"}},{"$f":"IFERROR(OFFSET('S_Zestawienie dzialek'!$AB$5,N6,0),\"\")","v":""},null,{"$f":"IF($P$3=5,'S_Zestawienie dzialek'!$BB10,IF($P$3=4,'S_Zestawienie dzialek'!$BA10,0))","v":0}]
[null,"Wymogi z rozporządzenia ws. szczegółowych warunków i trybu przyznawania pomocy finansowej w ramach działania \"Działanie rolno-środowiskowo-klimatyczne\" objętego PROW na lata 2014-2020","Wymogi obowiązujące rolnika lub zarządcę – \nuszczegółowione wymogi  rozporządzenia rolno-środowiskowo-klimatycznego",null,"Zalecenia","Źródło uszczegółowień wymogów","Uzasadnienie uszczegółowień wymogów i zaleceń",null,1,null,null,null,null,null,null,null,{"$f":"IF($P$3=5,'S_Zestawienie dzialek'!$BB11,IF($P$3=4,'S_Zestawienie dzialek'!$BA11,0))","v":0}]
[null," Wymogi obowiązkowe dla wszystkich typów użytkowania"," Wymogi obowiązkowe dla wszystkich typów użytkowania",null,null,null,null,null,1,null,null,null,null,null,null,null,{"$f":"IF($P$3=5,'S_Zestawienie dzialek'!$BB12,IF($P$3=4,'S_Zestawienie dzialek'!$BA12,0))","v":0}]
[null,"zakaz wałowania","zakaz wałowania",null,null,"brak możliwości uszczegółowienia",null,null,1,null,null,null,null,null,null,null,{"$f":"IF($P$3=5,'S_Zestawienie dzialek'!$BB13,IF($P$3=4,'S_Zestawienie dzialek'!$BA13,0))","v":0}]
[null,"zakaz stosowania komunalnych osadów ściekowych","zakaz stosowania komunalnych osadów ściekowych",null,null,"brak możliwości uszczegółowienia",null,null,1,null,null,null,null,null,null,null,{"$f":"IF($P$3=5,'S_Zestawienie dzialek'!$BB14,IF($P$3=4,'S_Zestawienie dzialek'!$BA14,0))","v":0}]
[null,"zakaz stosowania podsiewu","zakaz stosowania podsiewu",null,null,"brak możliwości uszczegółowienia",null,null,1,null,null,null,null,null,null,null,{"$f":"IF($P$3=5,'S_Zestawienie dzialek'!$BB15,IF($P$3=4,'S_Zestawienie dzialek'!$BA15,0))","v":0}]
[null,"zakaz włókowania w okresie od 01-04 do 01-09 na obszarach nizinnych (poniżej 300 m n.p.m.) oraz od 15-04 do 01-09 na obszarach wyżynnych i górskich (powyżej 300 m n.p.m.) \n",null,null,null,"brak możliwości uszczegółowienia",null,null,1,null,null,null,null,null,null,null,{"$f":"IF($P$3=5,'S_Zestawienie dzialek'!$BB16,IF($P$3=4,'S_Zestawienie dzialek'!$BA16,0))","v":0}]
[null,"zakaz stosowania środków ochrony roślin, z wyłączeniem selektywnego i miejscowego niszczenia uciążliwych gatunków inwazyjnych z zastosowaniem odpowiedniego sprzętu (np. mazaczy herbicydowych)",null,null,null,null,null,null,1,null,null,null,null,null,null,null,{"$f":"IF($P$3=5,'S_Zestawienie dzialek'!$BB17,IF($P$3=4,'S_Zestawienie dzialek'!$BA17,0))","v":0}]
[null,"zakaz tworzenia nowych, rozbudowy i odtwarzania istniejących urządzeń melioracji wodnych, z wyjątkiem konstrukcji urządzeń mających na celu dostosowanie poziomu wód, wykorzystując istniejące urządzenia melioracji wodnych do wymogów siedliskowych gatunków lub siedlisk będących przedmiotem ochrony w danym pakiecie, jeżeli takie działania zostaną dopuszczone przez eksperta przyrodniczego",null,null,null,null,null,null,1,null,null,null,null,null,null,null,{"$f":"IF($P$3=5,'S_Zestawienie dzialek'!$BB18,IF($P$3=4,'S_Zestawienie dzialek'!$BA18,0))","v":0}]
[null,"zakaz składowania biomasy wśród kęp drzew i zarośli, w rowach, jarach i innych obniżeniach terenu (położonych na działkach zadeklarowanych we wniosku o przyznanie płatności rolno-środowiskowo-klimatycznej)","zakaz składowania biomasy wśród kęp drzew i zarośli, w rowach, jarach i innych obniżeniach terenu (położonych na działkach zadeklarowanych we wniosku o przyznanie płatności rolno-środowiskowo-klimatycznej)",null,null,"brak możliwości uszczegółowienia",null,null,1,null,null,null,null,null,null,null,{"$f":"IF($P$3=5,'S_Zestawienie dzialek'!$BB19,IF($P$3=4,'S_Zestawienie dzialek'!$BA19,0))","v":0}]
[null,"zakaz mechanicznego niszczenia struktury glebowe,j w tym bronowania i przeorywania","zakaz mechanicznego niszczenia struktury glebowej, w tym bronowania i przeorywania",null,null,"brak możliwości uszczegółowienia",null,null,1,null,null,null,null,null,null,null,{"$f":"IF($P$3=5,'S_Zestawienie dzialek'!$BB20,IF($P$3=4,'S_Zestawienie dzialek'!$BA20,0))","v":0}]
[null,"dopuszczalne jest ograniczone nawożenie do 60 kg N/ha/rok, z wyłączeniem obszarów nawożonych przez namuły rzeczne\n",null,null,null,null,null,null,1,null,null,null,null,null,null,null,{"$f":"IF($P$3=5,'S_Zestawienie dzialek'!$BB21,IF($P$3=4,'S_Zestawienie dzialek'!$BA21,0))","v":0}]
[null,"wapnowanie jest dopuszczalne po wykonaniu niezbędnych w tym zakresie analiz, jeżeli ekspert przyrodniczy dopuści taką możliwość",null,null,null,null,null,null,1,null,null,null,null,null,null,null,{"$f":"IF($P$3=5,'S_Zestawienie dzialek'!$BB22,IF($P$3=4,'S_Zestawienie dzialek'!$BA22,0))","v":0}]
[null,"Rodzaj użytkowania ","Rodzaj użytkowania ",null,null,null,null,null,1,"past",null,null,null,null,null,null,{"$f":"IF($P$3=5,'S_Zestawienie dzialek'!$BB23,IF($P$3=4,'S_Zestawienie dzialek'!$BA23,0))","v":0}]
[null,"kośne, kośno-pastwiskowe, pastwiskowe albo naprzemienne, przy czym użytkowanie naprzemienne polega na stosowaniu w niektórych latach użytkowania pastwiskowego, a w niektórych latach kośnego lub kośno-pastwiskowego, a w uzasadnionych przypadkach, określonych przez eksperta przyrodniczego jest dopuszczalny wypas po pokosie, przy użytkowaniu jednokośnym (użytkowanie kośno-pastwiskowe)",null,null,null,null,"\n",null,1,{"$f":"IF(OR(C20=\"pastwiskowe\",C20=0),0,1)","v":0},null,null,null,null,null,null,{"$f":"IF($P$3=5,'S_Zestawienie dzialek'!$BB24,IF($P$3=4,'S_Zestawienie dzialek'!$BA24,0))","v":0}]
[null,null,{"$f":"S_Dane_ogolne!$E$4","v":2020},null,null,null,null,null,1,null,null,null,null,null,null,null,{"$f":"IF($P$3=5,'S_Zestawienie dzialek'!$BB25,IF($P$3=4,'S_Zestawienie dzialek'!$BA25,0))","v":0}]
[null,null,{"$f":"C21+1","v":2021},null,null,null,null,null,1,null,null,null,null,null,null,null,{"$f":"IF($P$3=5,'S_Zestawienie dzialek'!$BB26,IF($P$3=4,'S_Zestawienie dzialek'!$BA26,0))","v":0}]
[null,null,{"$f":"C22+1","v":2022},null,null,null,null,null,1,null,null,null,null,null,null,null,{"$f":"IF($P$3=5,'S_Zestawienie dzialek'!$BB27,IF($P$3=4,'S_Zestawienie dzialek'!$BA27,0))","v":0}]
[null,null,2023,null,null,null,null,null,1,null,null,null,null,null,null,null,{"$f":"IF($P$3=5,'S_Zestawienie dzialek'!$BB28,IF($P$3=4,'S_Zestawienie dzialek'!$BA28,0))","v":0}]
[null,null,2024,null,null,null,null,null,1,null,null,null,null,null,null,null,{"$f":"IF($P$3=5,'S_Zestawienie dzialek'!$BB29,IF($P$3=4,'S_Zestawienie dzialek'!$BA29,0))","v":0}]
[null,null,2025,null,null,null,null,null,1,null,null,null,null,null,null,null,{"$f":"IF($P$3=5,'S_Zestawienie dzialek'!$BB30,IF($P$3=4,'S_Zestawienie dzialek'!$BA30,0))","v":0}]
[null,"Wymogi obowiązkowe przy użytkowaniu kośnym i kośno-pastwiskowym ","Wymogi obowiązkowe przy użytkowaniu kośnym i kośno-pastwiskowym ",null,null,null,null,null,{"$f":"$J$20","v":0},null,null,null,null,null,null,null,{"$f":"IF($P$3=5,'S_Zestawienie dzialek'!$BB31,IF($P$3=4,'S_Zestawienie dzialek'!$BA31,0))","v":0}]
[null,"częstotliwość pokosów: jeden lub dwa pokosy w roku; liczba pokosów określona przez eksperta przyrodniczego ",null,null,null,null,null,null,{"$f":"$J$20","v":0},null,null,null,null,null,null,null,{"$f":"IF($P$3=5,'S_Zestawienie dzialek'!$BB32,IF($P$3=4,'S_Zestawienie dzialek'!$BA32,0))","v":0}]
[null,null,{"$f":"S_Dane_ogolne!$E$4","v":2020},null,null,null,null,null,0,null,null,null,null,null,null,null,{"$f":"IF($P$3=5,'S_Zestawienie dzialek'!$BB33,IF($P$3=4,'S_Zestawienie dzialek'!$BA33,0))","v":0}]
[null,null,{"$f":"C29+1","v":2021},null,null,null,null,null,0,null,null,null,null,null,null,null,{"$f":"IF($P$3=5,'S_Zestawienie dzialek'!$BB34,IF($P$3=4,'S_Zestawienie dzialek'!$BA34,0))","v":0}]
[null,null,{"$f":"C30+1","v":2022},null,null,null,null,null,0,null,null,null,null,null,null,null,{"$f":"IF($P$3=5,'S_Zestawienie dzialek'!$BB35,IF($P$3=4,'S_Zestawienie dzialek'!$BA35,0))","v":0}]
[null,null,2023,null,null,null,null,null,0,null,null,null,null,null,null,null,{"$f":"IF($P$3=5,'S_Zestawienie dzialek'!$BB36,IF($P$3=4,'S_Zestawienie dzialek'!$BA36,0))","v":0}]
[null,null,2024,null,null,null,null,null,0,null,null,null,null,null,null,null,{"$f":"IF($P$3=5,'S_Zestawienie dzialek'!$BB37,IF($P$3=4,'S_Zestawienie dzialek'!$BA37,0))","v":0}]
[null,null,2025,null,null,null,null,null,0,null,null,null,null,null,null,null,{"$f":"IF($P$3=5,'S_Zestawienie dzialek'!$BB38,IF($P$3=4,'S_Zestawienie dzialek'!$BA38,0))","v":0}]
[null,"koszenie w terminie określonym przez eksperta przyrodniczego, przy czym termin ten rozpoczyna się nie wcześniej niż w dniu 15 czerwca i kończy się nie później niż w dniu 30 września",null,null,null,null,null,null,0,null,null,null,null,null,null,null,{"$f":"IF($P$3=5,'S_Zestawienie dzialek'!$BB39,IF($P$3=4,'S_Zestawienie dzialek'!$BA39,0))","v":0}]
[null,"obowiązek zebrania i usunięcia skoszonej biomasy","obowiązek zebrania i usunięcia skoszonej biomasy",null,null,"brak możliwości uszczegółowienia",null,null,0,null,null,null,null,null,null,null,{"$f":"IF($P$3=5,'S_Zestawienie dzialek'!$BB40,IF($P$3=4,'S_Zestawienie dzialek'!$BA40,0))","v":0}]
[null,"zakaz pozostawiania rozdrobnionej biomasy","zakaz pozostawiania rozdrobnionej biomasy",null,null,"brak możliwości uszczegółowienia",null,null,0,null,null,null,null,null,null,null,{"$f":"IF($P$3=5,'S_Zestawienie dzialek'!$BB41,IF($P$3=4,'S_Zestawienie dzialek'!$BA41,0))","v":0}]
[null,"w terminie do dwóch tygodni po pokosie biomasa  powinna zostać usunięta z działki rolnej lub ułożona w pryzmy, w tym pryzmy balotowe, stogi lub brogi","w terminie do dwóch tygodni po pokosie biomasa powinna zostać usunięta z działki rolnej lub ułożona w pryzmy, w tym pryzmy balotowe, stogi lub brogi",null,null,"brak możliwości uszczegółowienia",null,null,0,null,null,null,null,null,null,null,{"$f":"IF($P$3=5,'S_Zestawienie dzialek'!$BB42,IF($P$3=4,'S_Zestawienie dzialek'!$BA42,0))","v":0}]
[null,"w przypadku ułożenia biomasy w pryzmy, w tym pryzmy balotowe, stogi lub brogi powinna ona zostać usunięta z działki rolnej nie później niż do dnia 01-03 kolejnego roku","usunięcie z działki rolnej biomasy ułożonej w pryzmy, w tym pryzmy balotowe, stogi lub brogi do dnia 01-03 kolejnego roku",null,null,"brak możliwości uszczegółowienia",null,null,0,null,null,null,null,null,null,null,{"$f":"IF($P$3=5,'S_Zestawienie dzialek'!$BB43,IF($P$3=4,'S_Zestawienie dzialek'!$BA43,0))","v":0}]
[null,"pozostawienie nieskoszonego fragmentu działki rolnej o powierzchni wynoszącej 15–20% powierzchni tej działki","pozostawienie nieskoszonego fragmentu działki rolnej o powierzchni wynoszącej 15–20% powierzchni tej działki",null,null,"brak możliwości uszczegółowienia",null,null,{"$f":"IF(E40=\"nie dotyczy\",0,$J$20)","v":0},null,null,null,null,null,null,null,{"$f":"IF($P$3=5,'S_Zestawienie dzialek'!$BB44,IF($P$3=4,'S_Zestawienie dzialek'!$BA44,0))","v":0}]
[null,"dla działek rolnych nieprzekraczających powierzchni 1,0 ha jest dopuszczalne zrezygnowanie z pozostawiania powierzchni nieskoszonych i koszenie co roku całej działki rolnej lub pozostawienie nieskoszonego fragmentu działki rolnej o powierzchni wynoszącej 15–20% powierzchni tej działki, jeżeli ekspert przyrodniczy dopuści taką możliwość","działki rolne o powierzchni nieprzekraczającej 1,0 ha, na których jest  dopuszczone pozostawienie fragmentów nieskoszonych wynoszących 15–20% powierzchni tej działki",null,null,null,null,null,{"$f":"IF(D41=\"nie dotyczy\",0,$J$20)","v":0},null,null,null,null,null,null,null,{"$f":"IF($P$3=5,'S_Zestawienie dzialek'!$BB45,IF($P$3=4,'S_Zestawienie dzialek'!$BA45,0))","v":0}]
[null,null,"działki rolne o powierzchni nieprzekraczającej 1,0 ha, na których jest zakaz pozostawienia fragmentów nieskoszonych i koszenie co roku całej działki rolnej",null,null,null,null,null,{"$f":"IF(D42=\"nie dotyczy\",0,$J$20)","v":0},null,null,null,null,null,null,null,{"$f":"IF($P$3=5,'S_Zestawienie dzialek'!$BB46,IF($P$3=4,'S_Zestawienie dzialek'!$BA46,0))","v":0}]
[null,"w przypadku zastosowania dwóch pokosów w ciągu roku należy pozostawić ten sam fragment działki rolnej nieskoszony","w przypadku zastosowania dwóch pokosów w ciągu roku należy pozostawić ten sam fragment działki rolnej  nieskoszony",null,null,"brak możliwości uszczegółowienia",null,null,0,null,null,null,null,null,null,null,{"$f":"IF($P$3=5,'S_Zestawienie dzialek'!$BB47,IF($P$3=4,'S_Zestawienie dzialek'!$BA47,0))","v":0}]
[null,"w dwóch kolejnych latach należy pozostawić inne fragmenty nieskoszone","w dwóch kolejnych latach należy pozostawić inne fragmenty nieskoszone ",null,null,"brak możliwości uszczegółowienia",null,null,0,null,null,null,null,null,null,null,{"$f":"IF($P$3=5,'S_Zestawienie dzialek'!$BB48,IF($P$3=4,'S_Zestawienie dzialek'!$BA48,0))","v":0}]
[null,"przy użytkowaniu kośno-pastwiskowym - jeden pokos i wypas po pokosie ",null,null,null,null,null,null,0,null,null,null,null,null,null,null,{"$f":"IF($P$3=5,'S_Zestawienie dzialek'!$BB49,IF($P$3=4,'S_Zestawienie dzialek'!$BA49,0))","v":0}]
[null,"termin dopuszczalnego wypasu: po pokosie, w terminie określonym przez eksperta przyrodniczego, przy czym termin ten kończy się nie później niż w dniu  15 października",null,null,null,null,null,null,0,null,null,null,null,null,null,null,{"$f":"IF($P$3=5,'S_Zestawienie dzialek'!$BB50,IF($P$3=4,'S_Zestawienie dzialek'!$BA50,0))","v":0}]
[null,"wypas przy obsadzie do 1 DJP/ha gruntów objętych wsparciem w ramach wariantu\n","wypas przy obsadzie zwierząt – do 1 DJP/ha gruntów objętych wsparciem",null,null,null,null,null,0]
[null,"Wymogi obowiązkowe przy użytkowaniu pastwiskowym","Wymogi obowiązkowe przy użytkowaniu pastwiskowym",null,null,null,null,null,{"$f":"IF(J48=TRUE,1,0)","v":0},{"$f":"OR(C20=\"pastwiskowe\",C20=\"naprzemienne\")","v":false},null,null,null,null,null,null,{"$f":"IF($P$3=5,'S_Zestawienie dzialek'!$AH51,IF($P$3=4,'S_Zestawienie dzialek'!$AG51,0))","v":0}]
[null,"wypas w terminie określonym przez eksperta przyrodniczego, przy czym termin ten rozpoczyna się nie wcześniej niż w dniu 1 maja i kończy się nie później niż w dniu 15 października",null,null,null,null,null,null,{"$f":"$I$48","v":0}]
[null,"wypas przy obsadzie zwierząt od 0,5 DJP/ha do 1 DJP/ha gruntów objętych wsparciem w ramach wariantu","wypas przy obsadzie zwierząt od 0,5 DJP/ha do 1 DJP/ha gruntów objętych wsparciem w ramach wariantu",null,null,null,null,null,{"$f":"$I$48","v":0},null,null,null,null,null,null,null,{"$f":"IF($P$3=5,'S_Zestawienie dzialek'!$AF52,IF($P$3=4,'S_Zestawienie dzialek'!$AE52,0))","v":0}]
[null,"dopuszczalne jest wypasanie przez cały rok koników polskich i koni huculskich, jeżeli ekspert przyrodniczy dopuści taką możliwość","nie planuje się wypasu koników polskich i koni huculskich",null,null,null,null,null,0,null,null,null,null,null,null,null,{"$f":"IF($P$3=5,'S_Zestawienie dzialek'!$AF53,IF($P$3=4,'S_Zestawienie dzialek'!$AE53,0))","v":0}]
[null,"wypas koników polskich i koni huculskich przy obsadzie zwierząt do 1 DJP/ha gruntów objętych wsparciem \n","wypas koników polskich i koni huculskich przy obsadzie zwierząt – do 1 DJP/ha gruntów objętych wsparciem w ramach wariantu",null,null,null,null,null,{"$f":"IF(J52=1,1,$I$48)","v":0},{"$f":"IF(C51=\"dopuszczalny wypas koników polskich i koni huculskich przez cały rok\",1,0)","v":0},null,null,null,null,null,null,{"$f":"IF($P$3=5,'S_Zestawienie dzialek'!$AF54,IF($P$3=4,'S_Zestawienie dzialek'!$AE54,0))","v":0}]
[null,"obowiązek corocznego wykoszenia niedojadów (raz w roku) ","obowiązek corocznego wykoszenia niedojadów (raz w roku) ",null,null,"brak możliwości uszczegółowienia",null,null,0,null,null,null,null,null,null,null,{"$f":"IF($P$3=5,'S_Zestawienie dzialek'!$AF55,IF($P$3=4,'S_Zestawienie dzialek'!$AE55,0))","v":0}]
[null,"obowiązek wykoszenia niedojadów w terminie określonym przez eksperta przyrodniczego, przy czym termin ten rozpoczyna się nie wcześniej niż w dniu 15 lipca i kończy się nie później niż w dniu 31 października",null,null,null,null,null,null,0,null,null,null,null,null,null,null,{"$f":"IF($P$3=5,'S_Zestawienie dzialek'!$AF56,IF($P$3=4,'S_Zestawienie dzialek'!$AE56,0))","v":0}]
[null,"obowiązek zebrania i usunięcia skoszonej biomasy – dotyczy niedojadów","obowiązek zebrania i usunięcia skoszonej biomasy – dotyczy niedojadów",null,null,"brak możliwości uszczegółowienia",null,null,0,null,null,null,null,null,null,null,{"$f":"IF($P$3=5,'S_Zestawienie dzialek'!$AF57,IF($P$3=4,'S_Zestawienie dzialek'!$AE57,0))","v":0}]
[null,"zakaz pozostawiania rozdrobnionej biomasy – dotyczy niedojadów","zakaz pozostawiania rozdrobnionej biomasy – dotyczy niedojadów",null,null,"brak możliwości uszczegółowienia",null,null,0,null,null,null,null,null,null,null,{"$f":"IF($P$3=5,'S_Zestawienie dzialek'!$AF58,IF($P$3=4,'S_Zestawienie dzialek'!$AE58,0))","v":0}]
[null,"w terminie do dwóch tygodni po pokosie biomasa powinna zostać usunięta z działki rolnej lub ułożona w pryzmy, w tym pryzmy balotowe, stogi lub brogi – dotyczy niedojadów","w terminie do dwóch tygodni po pokosie biomasa powinna zostać usunięta z działki rolnej lub ułożona w pryzmy, w tym pryzmy balotowe, stogi lub brogi [dotyczy niedojadów]",null,null,"brak możliwości uszczegółowienia",null,null,0,null,null,null,null,null,null,null,{"$f":"IF($P$3=5,'S_Zestawienie dzialek'!$AF59,IF($P$3=4,'S_Zestawienie dzialek'!$AE59,0))","v":0}]
[null,"w przypadku ułożenia biomasy w pryzmy, w tym pryzmy balotowe, stogi lub brogi powinna ona zostać usunięta z działki rolnej nie później niż do dnia 01-03 kolejnego roku – dotyczy niedojadów","usunięcie z działki rolnej biomasy ułożonej w pryzmy, w tym pryzmy balotowe, stogi lub brogi do dnia 01-03 kolejnego roku [dotyczy niedojadów]",null,null,"brak możliwości uszczegółowienia",null,null,0,null,null,null,null,null,null,null,{"$f":"IF($P$3=5,'S_Zestawienie dzialek'!$AF60,IF($P$3=4,'S_Zestawienie dzialek'!$AE60,0))","v":0}]
[null,null,"Inne zalecenia wynikajace z PZO/PO lub inne zalecenia ekperta  ",null,null,null,null,null,1,null,null,null,null,null,null,null,{"$f":"IF($P$3=5,'S_Zestawienie dzialek'!$AF61,IF($P$3=4,'S_Zestawienie dzialek'!$AE61,0))","v":0}]
[null,null,"źródło",null,"opis","uzasadnienie",null,null,1]
[null,null,null,null,null,null,null,null,1]
[null,null,null,null,null,null,null,null,1]
[null,null,null,null,null,null,null,null,1]
[]
[]
[null,null,"rodzaj użytkowania"]
[null,"kośne","kośne","Wariant 4.5."]
[null,"kośno-pastwiskowe","kośno-pastwiskowe","Wariant 5.5."]
[null,"pastwiskowe","pastwiskowe"]
[null,"naprzemienne","nie dotyczy"]
[]
[null,"usunięcie biomasy","usunięcie biomasy","działki< 0,5"]
[null,"w terminie do dwóch tygodni po pokosie biomasa powinna zostać usunięta z działki rolnej lub ułożona w pryzmy, w tym pryzmy balotowe, stogi lub brogi","w terminie do dwóch tygodni po pokosie biomasa powinna zostać usunięta z działki rolnej lub ułożona w pryzmy, w tym pryzmy balotowe, stogi lub brogi [dotyczy niedojadów]"]
[null,"nie zaleca się układania na działce pryzm, stogów lub brogów","nie zaleca się układania na działce pryzm, stogów lub brogów [dotyczy niedojadów]","nie dotyczy"]
[null,"nie zaleca się układania na działce pryzm","nie zaleca się układania na działce pryzm [dotyczy niedojadów]"]
[]
[null,"urządzenia hydrotechniczne "]
[null,"zakaz tworzenia nowych, rozbudowy i odtwarzania istniejących urządzeń melioracji, za wyjątkiem konstrukcji urządzeń mających na celu dostosowanie poziomu wód, wykorzystując istniejące urządzenia melioracji do wymogów siedliskowych gatunków lub siedlisk będących przedmiotem ochrony w pakiecie"]
[null,"zakaz tworzenia nowych, rozbudowy i odtwarzania istniejących urządzeń melioracji"]
[]
[null,"częstość koszenia"]
[null,"częstotliwość koszenia: jeden pokos co roku "]
[null,"częstotliwość koszenia: dwa pokosy w roku"]
[null,"częstotliwość koszenia: jeden lub dwa pokosy w roku"]
[null,"poziom nawożenia"]
[null,"zakaz nawożenia "]
[null,"zakaz stosowania nawozów zawierających azot"]
[null,"dopuszczalne jest ograniczone nawożenie do 60 kg N/ha/rok"]
[]
[null,"włókowanie","włókowanie"]
[null,"całkowity zakaz włókowania wynikający z działań obligatoryjnych PZO/PO","zaleca się niewykonywanie włókowania "]
[null,"zakaz włókowania w okresie od 15-04 do 01-09 na obszarach wyżynnych i górskich (powyżej 300 m n.p.m.)","zaleca się nie wykonywanie włókowania na obszarach wyżynnych i górskich (powyżej 300 m n.p.m.) w okresie od 15-04 do 01-09"]
[null,"zakaz włókowania w okresie od 01-04 do 01-09 na obszarach nizinnych (poniżej 300 m n.p.m.)","zaleca się nie wykonywanie włókowania na obszarach nizinnych (poniżej 300 m n.p.m.) w okresie od 01-04 do 01-09"]
[null,"stosowanie środków ochrony roślin"]
[null,"zakaz stosowania środków ochrony roślin, z wyłączeniem selektywnego i miejscowego niszczenia uciążliwych gatunków inwazyjnych z zastosowaniem odpowiedniego sprzętu (np. mazaczy herbicydowych)"]
[null,"zakaz stosowania środków ochrony roślin"]
[]
[null,"termin koszenia"]
[null,"termin koszenia od 15-06 do 30-09"]
[]
[null,"brak koszenia na działce poniżej 1,0 ha"]
[null,"działka o powierzchni poniżej 1,0 ha: dopuszczenie zrezygnowania z pozostawiania powierzchni nieskoszonych i koszenie co roku całej działki rolnej"]
[null,"działka o powierzchni poniżej 1,0 ha: obowiązek pozostawienia fragmentów nieskoszonych wynoszących 15–20% powierzchni tej działki"]
[]
[null,"fragmenty niekoszone"]
[null,"w dwóch kolejnych latach należy pozostawić różne fragmenty nieskoszone "]
[null,"w każdym roku, w ciągu całego pięcioletniego zobowiązania należy pozostawić inny fragment nieskoszony "]
[]
[null,"dopuszczenie wypasu"]
[null,"zakaz wypasu"]
[null,"wypas dopuszczalny tylko przy użytkowaniu jednokośnym"]
[]
[null,"termin wypasu"]
[null,"termin dopuszczalnego wypasu: po pokosie, do \n15-10"]
[]
[null,"termin wypasu przy użytkowaniu pastwiskowym"]
[null,"wypas w terminie od 01-05 do 15-10"]
[]
[null,"wypas hucułów i koników polskich"]
[]
[null,"nie planuje się wypasu koników polskich i koni huculskich"]
[null,"dopuszczalny wypas koników polskich i koni huculskich przez cały rok"]
[null,"termin koszenia niedojadów"]
[null,"wykoszenie niedojadów w terminie od 15-07 do 31-10"]
[]
[null,"wapnowanie"]
[null,"zakaz wapnowania"]
[null,"dopuszczenie wapnowania"]
[]
[null,"usunięcie balotów, pryzm, stogów ","usunięcie balotów, pryzm, stogów "]
[null,"usunięcie z działki rolnej biomasy ułożonej w pryzmy, w tym pryzmy balotowe, stogi lub brogi do dnia 01-03 kolejnego roku","usunięcie z działki rolnej biomasy ułożonej w pryzmy, w tym pryzmy balotowe, stogi lub brogi do dnia 01-03 kolejnego roku [dotyczy niedojadów]"]
[]
[null,"obsada wypas"]
[null,"wypas przy obsadzie zwierząt od 0,5 DJP/ha do 1 DJP/ha gruntów objętych wsparciem w ramach wariantu"]
[]
[null,"obsada kośno-pastwiskowa"]
[null,"wypas przy obsadzie do 1 DJP/ha"]
[]
[null,"obsada koni huculskich i koników polskich"]
[null,"wypas koników polskich i koni huculskich przy obsadzie zwierząt – do 1 DJP/ha gruntów objętych wsparciem w ramach wariantu"]
[]
[null,"koszenie w konkretnym roku"]
[null,"jeden pokos w ciągu roku"]
[null,"dwa pokosy w ciągu roku"]
[null,"nie dotyczy"]
[null,"koszenie niedojadów w konkretnym roku"]
[null,"obowiązkowy pokos"]
[null,"brak pokosu"]
[null,"nie dotyczy"]
[null,"działki mniejsze niż 0,5 ha"]
[null,"oznaczenia działek rolnych: …"]
[null,"nie dotyczy"]

{"sheet":"Wymogi 4(5).5. RSS(1)","index":23,"n_rows":152,"n_cols":17,"rows_kept":152,"cut":false,"hidden":true,"merged":[[2,5,5,5],[0,1,1,1],[0,2,1,3],[2,1,5,1],[2,2,5,2],[2,3,5,3],[17,2,17,3],[6,2,6,3],[7,2,7,6],[8,2,8,3],[9,2,9,3],[10,2,10,3],[11,2,11,3],[12,2,12,3],[13,2,13,3],[14,2,14,3],[15,2,15,3],[16,2,16,3],[18,2,18,6],[19,1,25,1],[19,2,19,3],[19,4,25,4],[19,5,25,5],[19,6,25,6],[26,2,26,6],[27,1,33,1],[27,2,27,3],[27,4,33,4],[27,5,33,5],[27,6,33,6],[43,2,43,3],[34,2,34,3],[35,2,35,3],[36,2,36,3],[37,2,37,3],[38,2,38,3],[39,2,39,3],[40,1,41,1],[40,4,41,4],[40,5,41,5],[40,6,41,6],[42,2,42,3],[55,2,55,3],[44,2,44,3],[45,2,45,3],[46,2,46,3],[47,2,47,6],[48,2,48,3],[49,2,49,3],[50,2,50,3],[51,2,51,3],[52,2,52,3],[53,2,53,3],[54,2,54,3],[61,2,61,3],[61,5,61,6],[62,2,62,3],[62,5,62,6],[56,2,56,3],[57,2,57,3],[58,2,58,6],[59,2,59,3],[59,5,59,6],[60,2,60,3],[60,5,60,6]]}
[null,"WYMOGI DLA WARIANTU 4.5. ALBO WARIANTU 5.5.","Półnaturalne łąki świeże",null,null,null,"Powrót",null,null,null,null,null,null,null,null,"pak4/5",{"$f":"IF($P$3=5,'S_Zestawienie dzialek'!$BB3,IF($P$3=4,'S_Zestawienie dzialek'!$BA3,0))+1","v":1}]
[null,null,null,null,null,null,null,null,null,null,null,null,null,null,"VBA"]
[null,{"$f":"\"WYMOGI DLA WARIANTU\" &\" \"&RIGHT(C3,4)","v":"WYMOGI DLA WARIANTU "},null,"działka RSS:",null,"działki rolne:",null,null,1,null,null,null,null,{"$f":"MATCH(E3,'S_Zestawienie dzialek'!$W$6:$W$20,0)","v":{"$error":"#N/A"}},{"$f":"IFERROR(OFFSET('S_Zestawienie dzialek'!$AB$5,N3,0),\"\")","v":""},{"$f":"IFERROR(VALUE(MID(C3,9,1)),\"\")","v":""},{"$f":"IF($P$3=5,'S_Zestawienie dzialek'!$BB7,IF($P$3=4,'S_Zestawienie dzialek'!$BA7,0))","v":0}]
[null,null,null,null,null,null,null,null,{"$f":"COUNTA(G4)","v":0},null,null,null,null,{"$f":"MATCH(E4,'S_Zestawienie dzialek'!$W$6:$W$20,0)","v":{"$error":"#N/A"}},{"$f":"IFERROR(OFFSET('S_Zestawienie dzialek'!$AB$5,N4,0),\"\")","v":""},null,{"$f":"IF($P$3=5,'S_Zestawienie dzialek'!$BB8,IF($P$3=4,'S_Zestawienie dzialek'!$BA8,0))","v":0}]
[null,null,null,null,null,null,null,null,{"$f":"COUNTA(G5)","v":0},null,null,null,null,{"$f":"MATCH(E5,'S_Zestawienie dzialek'!$W$6:$W$20,0)","v":{"$error":"#N/A"}},{"$f":"IFERROR(OFFSET('S_Zestawienie dzialek'!$AB$5,N5,0),\"\")","v":""},null,{"$f":"IF($P$3=5,'S_Zestawienie dzialek'!$BB9,IF($P$3=4,'S_Zestawienie dzialek'!$BA9,0))","v":0}]
[null,null,null,null,null,null,null,null,0,null,null,null,null,{"$f":"MATCH(E6,'S_Zestawienie dzialek'!$W$6:$W$20,0)","v":{"$error":"#N/A"}},{"$f":"IFERROR(OFFSET('S_Zestawienie dzialek'!$AB$5,N6,0),\"\")","v":""},null,{"$f":"IF($P$3=5,'S_Zestawienie dzialek'!$BB10,IF($P$3=4,'S_Zestawienie dzialek'!$BA10,0))","v":0}]
[null,"Wymogi z rozporządzenia ws. szczegółowych warunków i trybu przyznawania pomocy finansowej w ramach działania \"Działanie rolno-środowiskowo-klimatyczne\" objętego PROW na lata 2014-2020","Wymogi obowiązujące rolnika lub zarządcę – \nuszczegółowione wymogi  rozporządzenia rolno-środowiskowo-klimatycznego",null,"Zalecenia","Źródło uszczegółowień wymogów","Uzasadnienie uszczegółowień wymogów i zaleceń",null,1,null,null,null,null,null,null,null,{"$f":"IF($P$3=5,'S_Zestawienie dzialek'!$BB11,IF($P$3=4,'S_Zestawienie dzialek'!$BA11,0))","v":0}]
[null," Wymogi obowiązkowe dla wszystkich typów użytkowania"," Wymogi obowiązkowe dla wszystkich typów użytkowania",null,null,null,null,null,1,null,null,null,null,null,null,null,{"$f":"IF($P$3=5,'S_Zestawienie dzialek'!$BB12,IF($P$3=4,'S_Zestawienie dzialek'!$BA12,0))","v":0}]
[null,"zakaz wałowania","zakaz wałowania",null,null,"brak możliwości uszczegółowienia",null,null,1,null,null,null,null,null,null,null,{"$f":"IF($P$3=5,'S_Zestawienie dzialek'!$BB13,IF($P$3=4,'S_Zestawienie dzialek'!$BA13,0))","v":0}]
[null,"zakaz stosowania komunalnych osadów ściekowych","zakaz stosowania komunalnych osadów ściekowych",null,null,"brak możliwości uszczegółowienia",null,null,1,null,null,null,null,null,null,null,{"$f":"IF($P$3=5,'S_Zestawienie dzialek'!$BB14,IF($P$3=4,'S_Zestawienie dzialek'!$BA14,0))","v":0}]
[null,"zakaz stosowania podsiewu","zakaz stosowania podsiewu",null,null,"brak możliwości uszczegółowienia",null,null,1,null,null,null,null,null,null,null,{"$f":"IF($P$3=5,'S_Zestawienie dzialek'!$BB15,IF($P$3=4,'S_Zestawienie dzialek'!$BA15,0))","v":0}]
[null,"zakaz włókowania w okresie od 01-04 do 01-09 na obszarach nizinnych (poniżej 300 m n.p.m.) oraz od 15-04 do 01-09 na obszarach wyżynnych i górskich (powyżej 300 m n.p.m.) \n",null,null,null,"brak możliwości uszczegółowienia",null,null,1,null,null,null,null,null,null,null,{"$f":"IF($P$3=5,'S_Zestawienie dzialek'!$BB16,IF($P$3=4,'S_Zestawienie dzialek'!$BA16,0))","v":0}]
[null,"zakaz stosowania środków ochrony roślin, z wyłączeniem selektywnego i miejscowego niszczenia uciążliwych gatunków inwazyjnych z zastosowaniem odpowiedniego sprzętu (np. mazaczy herbicydowych)",null,null,null,null,null,null,1,null,null,null,null,null,null,null,{"$f":"IF($P$3=5,'S_Zestawienie dzialek'!$BB17,IF($P$3=4,'S_Zestawienie dzialek'!$BA17,0))","v":0}]
[null,"zakaz tworzenia nowych, rozbudowy i odtwarzania istniejących urządzeń melioracji wodnych, z wyjątkiem konstrukcji urządzeń mających na celu dostosowanie poziomu wód, wykorzystując istniejące urządzenia melioracji wodnych do wymogów siedliskowych gatunków lub siedlisk będących przedmiotem ochrony w danym pakiecie, jeżeli takie działania zostaną dopuszczone przez eksperta przyrodniczego",null,null,null,null,null,null,1,null,null,null,null,null,null,null,{"$f":"IF($P$3=5,'S_Zestawienie dzialek'!$BB18,IF($P$3=4,'S_Zestawienie dzialek'!$BA18,0))","v":0}]
[null,"zakaz składowania biomasy wśród kęp drzew i zarośli, w rowach, jarach i innych obniżeniach terenu (położonych na działkach zadeklarowanych we wniosku o przyznanie płatności rolno-środowiskowo-klimatycznej)","zakaz składowania biomasy wśród kęp drzew i zarośli, w rowach, jarach i innych obniżeniach terenu (położonych na działkach zadeklarowanych we wniosku o przyznanie płatności rolno-środowiskowo-klimatycznej)",null,null,"brak możliwości uszczegółowienia",null,null,1,null,null,null,null,null,null,null,{"$f":"IF($P$3=5,'S_Zestawienie dzialek'!$BB19,IF($P$3=4,'S_Zestawienie dzialek'!$BA19,0))","v":0}]
[null,"zakaz mechanicznego niszczenia struktury glebowe,j w tym bronowania i przeorywania","zakaz mechanicznego niszczenia struktury glebowej, w tym bronowania i przeorywania",null,null,"brak możliwości uszczegółowienia",null,null,1,null,null,null,null,null,null,null,{"$f":"IF($P$3=5,'S_Zestawienie dzialek'!$BB20,IF($P$3=4,'S_Zestawienie dzialek'!$BA20,0))","v":0}]
[null,"dopuszczalne jest ograniczone nawożenie do 60 kg N/ha/rok, z wyłączeniem obszarów nawożonych przez namuły rzeczne\n",null,null,null,null,null,null,1,null,null,null,null,null,null,null,{"$f":"IF($P$3=5,'S_Zestawienie dzialek'!$BB21,IF($P$3=4,'S_Zestawienie dzialek'!$BA21,0))","v":0}]
[null,"wapnowanie jest dopuszczalne po wykonaniu niezbędnych w tym zakresie analiz, jeżeli ekspert przyrodniczy dopuści taką możliwość",null,null,null,null,null,null,1,null,null,null,null,null,null,null,{"$f":"IF($P$3=5,'S_Zestawienie dzialek'!$BB22,IF($P$3=4,'S_Zestawienie dzialek'!$BA22,0))","v":0}]
[null,"Rodzaj użytkowania ","Rodzaj użytkowania ",null,null,null,null,null,1,"past",null,null,null,null,null,null,{"$f":"IF($P$3=5,'S_Zestawienie dzialek'!$BB23,IF($P$3=4,'S_Zestawienie dzialek'!$BA23,0))","v":0}]
[null,"kośne, kośno-pastwiskowe, pastwiskowe albo naprzemienne, przy czym użytkowanie naprzemienne polega na stosowaniu w niektórych latach użytkowania pastwiskowego, a w niektórych latach kośnego lub kośno-pastwiskowego, a w uzasadnionych przypadkach, określonych przez eksperta przyrodniczego jest dopuszczalny wypas po pokosie, przy użytkowaniu jednokośnym (użytkowanie kośno-pastwiskowe)",null,null,null,null,"\n",null,1,{"$f":"IF(OR(C20=\"pastwiskowe\",C20=0),0,1)","v":0},null,null,null,null,null,null,{"$f":"IF($P$3=5,'S_Zestawienie dzialek'!$BB24,IF($P$3=4,'S_Zestawienie dzialek'!$BA24,0))","v":0}]
[null,null,{"$f":"S_Dane_ogolne!$E$4","v":2020},null,null,null,null,null,1,null,null,null,null,null,null,null,{"$f":"IF($P$3=5,'S_Zestawienie dzialek'!$BB25,IF($P$3=4,'S_Zestawienie dzialek'!$BA25,0))","v":0}]
[null,null,{"$f":"C21+1","v":2021},null,null,null,null,null,1,null,null,null,null,null,null,null,{"$f":"IF($P$3=5,'S_Zestawienie dzialek'!$BB26,IF($P$3=4,'S_Zestawienie dzialek'!$BA26,0))","v":0}]
[null,null,{"$f":"C22+1","v":2022},null,null,null,null,null,1,null,null,null,null,null,null,null,{"$f":"IF($P$3=5,'S_Zestawienie dzialek'!$BB27,IF($P$3=4,'S_Zestawienie dzialek'!$BA27,0))","v":0}]
[null,null,2023,null,null,null,null,null,1,null,null,null,null,null,null,null,{"$f":"IF($P$3=5,'S_Zestawienie dzialek'!$BB28,IF($P$3=4,'S_Zestawienie dzialek'!$BA28,0))","v":0}]
[null,null,2024,null,null,null,null,null,1,null,null,null,null,null,null,null,{"$f":"IF($P$3=5,'S_Zestawienie dzialek'!$BB29,IF($P$3=4,'S_Zestawienie dzialek'!$BA29,0))","v":0}]
[null,null,2025,null,null,null,null,null,1,null,null,null,null,null,null,null,{"$f":"IF($P$3=5,'S_Zestawienie dzialek'!$BB30,IF($P$3=4,'S_Zestawienie dzialek'!$BA30,0))","v":0}]
[null,"Wymogi obowiązkowe przy użytkowaniu kośnym i kośno-pastwiskowym ","Wymogi obowiązkowe przy użytkowaniu kośnym i kośno-pastwiskowym ",null,null,null,null,null,{"$f":"$J$20","v":0},null,null,null,null,null,null,null,{"$f":"IF($P$3=5,'S_Zestawienie dzialek'!$BB31,IF($P$3=4,'S_Zestawienie dzialek'!$BA31,0))","v":0}]
[null,"częstotliwość pokosów: jeden lub dwa pokosy w roku; liczba pokosów określona przez eksperta przyrodniczego ",null,null,null,null,null,null,{"$f":"$J$20","v":0},null,null,null,null,null,null,null,{"$f":"IF($P$3=5,'S_Zestawienie dzialek'!$BB32,IF($P$3=4,'S_Zestawienie dzialek'!$BA32,0))","v":0}]
[null,null,{"$f":"S_Dane_ogolne!$E$4","v":2020},null,null,null,null,null,0,null,null,null,null,null,null,null,{"$f":"IF($P$3=5,'S_Zestawienie dzialek'!$BB33,IF($P$3=4,'S_Zestawienie dzialek'!$BA33,0))","v":0}]
[null,null,{"$f":"C29+1","v":2021},null,null,null,null,null,0,null,null,null,null,null,null,null,{"$f":"IF($P$3=5,'S_Zestawienie dzialek'!$BB34,IF($P$3=4,'S_Zestawienie dzialek'!$BA34,0))","v":0}]
[null,null,{"$f":"C30+1","v":2022},null,null,null,null,null,0,null,null,null,null,null,null,null,{"$f":"IF($P$3=5,'S_Zestawienie dzialek'!$BB35,IF($P$3=4,'S_Zestawienie dzialek'!$BA35,0))","v":0}]
[null,null,2023,null,null,null,null,null,0,null,null,null,null,null,null,null,{"$f":"IF($P$3=5,'S_Zestawienie dzialek'!$BB36,IF($P$3=4,'S_Zestawienie dzialek'!$BA36,0))","v":0}]
[null,null,2024,null,null,null,null,null,0,null,null,null,null,null,null,null,{"$f":"IF($P$3=5,'S_Zestawienie dzialek'!$BB37,IF($P$3=4,'S_Zestawienie dzialek'!$BA37,0))","v":0}]
[null,null,2025,null,null,null,null,null,0,null,null,null,null,null,null,null,{"$f":"IF($P$3=5,'S_Zestawienie dzialek'!$BB38,IF($P$3=4,'S_Zestawienie dzialek'!$BA38,0))","v":0}]
[null,"koszenie w terminie określonym przez eksperta przyrodniczego, przy czym termin ten rozpoczyna się nie wcześniej niż w dniu 15 czerwca i kończy się nie później niż w dniu 30 września",null,null,null,null,null,null,0,null,null,null,null,null,null,null,{"$f":"IF($P$3=5,'S_Zestawienie dzialek'!$BB39,IF($P$3=4,'S_Zestawienie dzialek'!$BA39,0))","v":0}]
[null,"obowiązek zebrania i usunięcia skoszonej biomasy","obowiązek zebrania i usunięcia skoszonej biomasy",null,null,"brak możliwości uszczegółowienia",null,null,0,null,null,null,null,null,null,null,{"$f":"IF($P$3=5,'S_Zestawienie dzialek'!$BB40,IF($P$3=4,'S_Zestawienie dzialek'!$BA40,0))","v":0}]
[null,"zakaz pozostawiania rozdrobnionej biomasy","zakaz pozostawiania rozdrobnionej biomasy",null,null,"brak możliwości uszczegółowienia",null,null,0,null,null,null,null,null,null,null,{"$f":"IF($P$3=5,'S_Zestawienie dzialek'!$BB41,IF($P$3=4,'S_Zestawienie dzialek'!$BA41,0))","v":0}]
[null,"w terminie do dwóch tygodni po pokosie biomasa  powinna zostać usunięta z działki rolnej lub ułożona w pryzmy, w tym pryzmy balotowe, stogi lub brogi","w terminie do dwóch tygodni po pokosie biomasa powinna zostać usunięta z działki rolnej lub ułożona w pryzmy, w tym pryzmy balotowe, stogi lub brogi",null,null,"brak możliwości uszczegółowienia",null,null,0,null,null,null,null,null,null,null,{"$f":"IF($P$3=5,'S_Zestawienie dzialek'!$BB42,IF($P$3=4,'S_Zestawienie dzialek'!$BA42,0))","v":0}]
[null,"w przypadku ułożenia biomasy w pryzmy, w tym pryzmy balotowe, stogi lub brogi powinna ona zostać usunięta z działki rolnej nie później niż do dnia 01-03 kolejnego roku","usunięcie z działki rolnej biomasy ułożonej w pryzmy, w tym pryzmy balotowe, stogi lub brogi do dnia 01-03 kolejnego roku",null,null,"brak możliwości uszczegółowienia",null,null,0,null,null,null,null,null,null,null,{"$f":"IF($P$3=5,'S_Zestawienie dzialek'!$BB43,IF($P$3=4,'S_Zestawienie dzialek'!$BA43,0))","v":0}]
[null,"pozostawienie nieskoszonego fragmentu działki rolnej o powierzchni wynoszącej 15–20% powierzchni tej działki","pozostawienie nieskoszonego fragmentu działki rolnej o powierzchni wynoszącej 15–20% powierzchni tej działki",null,null,"brak możliwości uszczegółowienia",null,null,{"$f":"IF(E40=\"nie dotyczy\",0,$J$20)","v":0},null,null,null,null,null,null,null,{"$f":"IF($P$3=5,'S_Zestawienie dzialek'!$BB44,IF($P$3=4,'S_Zestawienie dzialek'!$BA44,0))","v":0}]
[null,"dla działek rolnych nieprzekraczających powierzchni 1,0 ha jest dopuszczalne zrezygnowanie z pozostawiania powierzchni nieskoszonych i koszenie co roku całej działki rolnej lub pozostawienie nieskoszonego fragmentu działki rolnej o powierzchni wynoszącej 15–20% powierzchni tej działki, jeżeli ekspert przyrodniczy dopuści taką możliwość","działki rolne o powierzchni nieprzekraczającej 1,0 ha, na których jest  dopuszczone pozostawienie fragmentów nieskoszonych wynoszących 15–20% powierzchni tej działki",null,null,null,null,null,{"$f":"IF(D41=\"nie dotyczy\",0,$J$20)","v":0},null,null,null,null,null,null,null,{"$f":"IF($P$3=5,'S_Zestawienie dzialek'!$BB45,IF($P$3=4,'S_Zestawienie dzialek'!$BA45,0))","v":0}]
[null,null,"działki rolne o powierzchni nieprzekraczającej 1,0 ha, na których jest zakaz pozostawienia fragmentów nieskoszonych i koszenie co roku całej działki rolnej",null,null,null,null,null,{"$f":"IF(D42=\"nie dotyczy\",0,$J$20)","v":0},null,null,null,null,null,null,null,{"$f":"IF($P$3=5,'S_Zestawienie dzialek'!$BB46,IF($P$3=4,'S_Zestawienie dzialek'!$BA46,0))","v":0}]
[null,"w przypadku zastosowania dwóch pokosów w ciągu roku należy pozostawić ten sam fragment działki rolnej nieskoszony","w przypadku zastosowania dwóch pokosów w ciągu roku należy pozostawić ten sam fragment działki rolnej  nieskoszony",null,null,"brak możliwości uszczegółowienia",null,null,0,null,null,null,null,null,null,null,{"$f":"IF($P$3=5,'S_Zestawienie dzialek'!$BB47,IF($P$3=4,'S_Zestawienie dzialek'!$BA47,0))","v":0}]
[null,"w dwóch kolejnych latach należy pozostawić inne fragmenty nieskoszone","w dwóch kolejnych latach należy pozostawić inne fragmenty nieskoszone ",null,null,"brak możliwości uszczegółowienia",null,null,0,null,null,null,null,null,null,null,{"$f":"IF($P$3=5,'S_Zestawienie dzialek'!$BB48,IF($P$3=4,'S_Zestawienie dzialek'!$BA48,0))","v":0}]
[null,"przy użytkowaniu kośno-pastwiskowym - jeden pokos i wypas po pokosie ",null,null,null,null,null,null,0,null,null,null,null,null,null,null,{"$f":"IF($P$3=5,'S_Zestawienie dzialek'!$BB49,IF($P$3=4,'S_Zestawienie dzialek'!$BA49,0))","v":0}]
[null,"termin dopuszczalnego wypasu: po pokosie, w terminie określonym przez eksperta przyrodniczego, przy czym termin ten kończy się nie później niż w dniu  15 października",null,null,null,null,null,null,0,null,null,null,null,null,null,null,{"$f":"IF($P$3=5,'S_Zestawienie dzialek'!$BB50,IF($P$3=4,'S_Zestawienie dzialek'!$BA50,0))","v":0}]
[null,"wypas przy obsadzie do 1 DJP/ha gruntów objętych wsparciem w ramach wariantu\n","wypas przy obsadzie zwierząt – do 1 DJP/ha gruntów objętych wsparciem",null,null,null,null,null,0]
[null,"Wymogi obowiązkowe przy użytkowaniu pastwiskowym","Wymogi obowiązkowe przy użytkowaniu pastwiskowym",null,null,null,null,null,{"$f":"IF(J48=TRUE,1,0)","v":0},{"$f":"OR(C20=\"pastwiskowe\",C20=\"naprzemienne\")","v":false},null,null,null,null,null,null,{"$f":"IF($P$3=5,'S_Zestawienie dzialek'!$AH51,IF($P$3=4,'S_Zestawienie dzialek'!$AG51,0))","v":0}]
[null,"wypas w terminie określonym przez eksperta przyrodniczego, przy czym termin ten rozpoczyna się nie wcześniej niż w dniu 1 maja i kończy się nie później niż w dniu 15 października",null,null,null,null,null,null,{"$f":"$I$48","v":0}]
[null,"wypas przy obsadzie zwierząt od 0,5 DJP/ha do 1 DJP/ha gruntów objętych wsparciem w ramach wariantu","wypas przy obsadzie zwierząt od 0,5 DJP/ha do 1 DJP/ha gruntów objętych wsparciem w ramach wariantu",null,null,null,null,null,{"$f":"$I$48","v":0},null,null,null,null,null,null,null,{"$f":"IF($P$3=5,'S_Zestawienie dzialek'!$AF52,IF($P$3=4,'S_Zestawienie dzialek'!$AE52,0))","v":0}]
[null,"dopuszczalne jest wypasanie przez cały rok koników polskich i koni huculskich, jeżeli ekspert przyrodniczy dopuści taką możliwość","nie planuje się wypasu koników polskich i koni huculskich",null,null,null,null,null,0,null,null,null,null,null,null,null,{"$f":"IF($P$3=5,'S_Zestawienie dzialek'!$AF53,IF($P$3=4,'S_Zestawienie dzialek'!$AE53,0))","v":0}]
[null,"wypas koników polskich i koni huculskich przy obsadzie zwierząt do 1 DJP/ha gruntów objętych wsparciem \n","wypas koników polskich i koni huculskich przy obsadzie zwierząt – do 1 DJP/ha gruntów objętych wsparciem w ramach wariantu",null,null,null,null,null,{"$f":"IF(J52=1,1,$I$48)","v":0},{"$f":"IF(C51=\"dopuszczalny wypas koników polskich i koni huculskich przez cały rok\",1,0)","v":0},null,null,null,null,null,null,{"$f":"IF($P$3=5,'S_Zestawienie dzialek'!$AF54,IF($P$3=4,'S_Zestawienie dzialek'!$AE54,0))","v":0}]
[null,"obowiązek corocznego wykoszenia niedojadów (raz w roku) ","obowiązek corocznego wykoszenia niedojadów (raz w roku) ",null,null,"brak możliwości uszczegółowienia",null,null,0,null,null,null,null,null,null,null,{"$f":"IF($P$3=5,'S_Zestawienie dzialek'!$AF55,IF($P$3=4,'S_Zestawienie dzialek'!$AE55,0))","v":0}]
[null,"obowiązek wykoszenia niedojadów w terminie określonym przez eksperta przyrodniczego, przy czym termin ten rozpoczyna się nie wcześniej niż w dniu 15 lipca i kończy się nie później niż w dniu 31 października",null,null,null,null,null,null,0,null,null,null,null,null,null,null,{"$f":"IF($P$3=5,'S_Zestawienie dzialek'!$AF56,IF($P$3=4,'S_Zestawienie dzialek'!$AE56,0))","v":0}]
[null,"obowiązek zebrania i usunięcia skoszonej biomasy – dotyczy niedojadów","obowiązek zebrania i usunięcia skoszonej biomasy – dotyczy niedojadów",null,null,"brak możliwości uszczegółowienia",null,null,0,null,null,null,null,null,null,null,{"$f":"IF($P$3=5,'S_Zestawienie dzialek'!$AF57,IF($P$3=4,'S_Zestawienie dzialek'!$AE57,0))","v":0}]
[null,"zakaz pozostawiania rozdrobnionej biomasy – dotyczy niedojadów","zakaz pozostawiania rozdrobnionej biomasy – dotyczy niedojadów",null,null,"brak możliwości uszczegółowienia",null,null,0,null,null,null,null,null,null,null,{"$f":"IF($P$3=5,'S_Zestawienie dzialek'!$AF58,IF($P$3=4,'S_Zestawienie dzialek'!$AE58,0))","v":0}]
[null,"w terminie do dwóch tygodni po pokosie biomasa powinna zostać usunięta z działki rolnej lub ułożona w pryzmy, w tym pryzmy balotowe, stogi lub brogi – dotyczy niedojadów","w terminie do dwóch tygodni po pokosie biomasa powinna zostać usunięta z działki rolnej lub ułożona w pryzmy, w tym pryzmy balotowe, stogi lub brogi [dotyczy niedojadów]",null,null,"brak możliwości uszczegółowienia",null,null,0,null,null,null,null,null,null,null,{"$f":"IF($P$3=5,'S_Zestawienie dzialek'!$AF59,IF($P$3=4,'S_Zestawienie dzialek'!$AE59,0))","v":0}]
[null,"w przypadku ułożenia biomasy w pryzmy, w tym pryzmy balotowe, stogi lub brogi powinna ona zostać usunięta z działki rolnej nie później niż do dnia 01-03 kolejnego roku – dotyczy niedojadów","usunięcie z działki rolnej biomasy ułożonej w pryzmy, w tym pryzmy balotowe, stogi lub brogi do dnia 01-03 kolejnego roku [dotyczy niedojadów]",null,null,"brak możliwości uszczegółowienia",null,null,0,null,null,null,null,null,null,null,{"$f":"IF($P$3=5,'S_Zestawienie dzialek'!$AF60,IF($P$3=4,'S_Zestawienie dzialek'!$AE60,0))","v":0}]
[null,null,"Inne zalecenia wynikajace z PZO/PO lub inne zalecenia ekperta  ",null,null,null,null,null,1,null,null,null,null,null,null,null,{"$f":"IF($P$3=5,'S_Zestawienie dzialek'!$AF61,IF($P$3=4,'S_Zestawienie dzialek'!$AE61,0))","v":0}]
[null,null,"źródło",null,"opis","uzasadnienie",null,null,1]
[null,null,null,null,null,null,null,null,1]
[null,null,null,null,null,null,null,null,1]
[null,null,null,null,null,null,null,null,1]
[]
[]
[null,null,"rodzaj użytkowania"]
[null,"kośne","kośne","Wariant 4.5."]
[null,"kośno-pastwiskowe","kośno-pastwiskowe","Wariant 5.5."]
[null,"pastwiskowe","pastwiskowe"]
[null,"naprzemienne","nie dotyczy"]
[]
[null,"usunięcie biomasy","usunięcie biomasy","działki< 0,5"]
[null,"w terminie do dwóch tygodni po pokosie biomasa powinna zostać usunięta z działki rolnej lub ułożona w pryzmy, w tym pryzmy balotowe, stogi lub brogi","w terminie do dwóch tygodni po pokosie biomasa powinna zostać usunięta z działki rolnej lub ułożona w pryzmy, w tym pryzmy balotowe, stogi lub brogi [dotyczy niedojadów]"]
[null,"nie zaleca się układania na działce pryzm, stogów lub brogów","nie zaleca się układania na działce pryzm, stogów lub brogów [dotyczy niedojadów]","nie dotyczy"]
[null,"nie zaleca się układania na działce pryzm","nie zaleca się układania na działce pryzm [dotyczy niedojadów]"]
[]
[null,"urządzenia hydrotechniczne "]
[null,"zakaz tworzenia nowych, rozbudowy i odtwarzania istniejących urządzeń melioracji, za wyjątkiem konstrukcji urządzeń mających na celu dostosowanie poziomu wód, wykorzystując istniejące urządzenia melioracji do wymogów siedliskowych gatunków lub siedlisk będących przedmiotem ochrony w pakiecie"]
[null,"zakaz tworzenia nowych, rozbudowy i odtwarzania istniejących urządzeń melioracji"]
[]
[null,"częstość koszenia"]
[null,"częstotliwość koszenia: jeden pokos co roku "]
[null,"częstotliwość koszenia: dwa pokosy w roku"]
[null,"częstotliwość koszenia: jeden lub dwa pokosy w roku"]
[null,"poziom nawożenia"]
[null,"zakaz nawożenia "]
[null,"zakaz stosowania nawozów zawierających azot"]
[null,"dopuszczalne jest ograniczone nawożenie do 60 kg N/ha/rok"]
[]
[null,"włókowanie","włókowanie"]
[null,"całkowity zakaz włókowania wynikający z działań obligatoryjnych PZO/PO","zaleca się niewykonywanie włókowania "]
[null,"zakaz włókowania w okresie od 15-04 do 01-09 na obszarach wyżynnych i górskich (powyżej 300 m n.p.m.)","zaleca się nie wykonywanie włókowania na obszarach wyżynnych i górskich (powyżej 300 m n.p.m.) w okresie od 15-04 do 01-09"]
[null,"zakaz włókowania w okresie od 01-04 do 01-09 na obszarach nizinnych (poniżej 300 m n.p.m.)","zaleca się nie wykonywanie włókowania na obszarach nizinnych (poniżej 300 m n.p.m.) w okresie od 01-04 do 01-09"]
[null,"stosowanie środków ochrony roślin"]
[null,"zakaz stosowania środków ochrony roślin, z wyłączeniem selektywnego i miejscowego niszczenia uciążliwych gatunków inwazyjnych z zastosowaniem odpowiedniego sprzętu (np. mazaczy herbicydowych)"]
[null,"zakaz stosowania środków ochrony roślin"]
[]
[null,"termin koszenia"]
[null,"termin koszenia od 15-06 do 30-09"]
[]
[null,"brak koszenia na działce poniżej 1,0 ha"]
[null,"działka o powierzchni poniżej 1,0 ha: dopuszczenie zrezygnowania z pozostawiania powierzchni nieskoszonych i koszenie co roku całej działki rolnej"]
[null,"działka o powierzchni poniżej 1,0 ha: obowiązek pozostawienia fragmentów nieskoszonych wynoszących 15–20% powierzchni tej działki"]
[]
[null,"fragmenty niekoszone"]
[null,"w dwóch kolejnych latach należy pozostawić różne fragmenty nieskoszone "]
[null,"w każdym roku, w ciągu całego pięcioletniego zobowiązania należy pozostawić inny fragment nieskoszony "]
[]
[null,"dopuszczenie wypasu"]
[null,"zakaz wypasu"]
[null,"wypas dopuszczalny tylko przy użytkowaniu jednokośnym"]
[]
[null,"termin wypasu"]
[null,"termin dopuszczalnego wypasu: po pokosie, do \n15-10"]
[]
[null,"termin wypasu przy użytkowaniu pastwiskowym"]
[null,"wypas w terminie od 01-05 do 15-10"]
[]
[null,"wypas hucułów i koników polskich"]
[]
[null,"nie planuje się wypasu koników polskich i koni huculskich"]
[null,"dopuszczalny wypas koników polskich i koni huculskich przez cały rok"]
[null,"termin koszenia niedojadów"]
[null,"wykoszenie niedojadów w terminie od 15-07 do 31-10"]
[]
[null,"wapnowanie"]
[null,"zakaz wapnowania"]
[null,"dopuszczenie wapnowania"]
[]
[null,"usunięcie balotów, pryzm, stogów ","usunięcie balotów, pryzm, stogów "]
[null,"usunięcie z działki rolnej biomasy ułożonej w pryzmy, w tym pryzmy balotowe, stogi lub brogi do dnia 01-03 kolejnego roku","usunięcie z działki rolnej biomasy ułożonej w pryzmy, w tym pryzmy balotowe, stogi lub brogi do dnia 01-03 kolejnego roku [dotyczy niedojadów]"]
[]
[null,"obsada wypas"]
[null,"wypas przy obsadzie zwierząt od 0,5 DJP/ha do 1 DJP/ha gruntów objętych wsparciem w ramach wariantu"]
[]
[null,"obsada kośno-pastwiskowa"]
[null,"wypas przy obsadzie do 1 DJP/ha"]
[]
[null,"obsada koni huculskich i koników polskich"]
[null,"wypas koników polskich i koni huculskich przy obsadzie zwierząt – do 1 DJP/ha gruntów objętych wsparciem w ramach wariantu"]
[]
[null,"koszenie w konkretnym roku"]
[null,"jeden pokos w ciągu roku"]
[null,"dwa pokosy w ciągu roku"]
[null,"nie dotyczy"]
[null,"koszenie niedojadów w konkretnym roku"]
[null,"obowiązkowy pokos"]
[null,"brak pokosu"]
[null,"nie dotyczy"]
[null,"działki mniejsze niż 0,5 ha"]
[null,"oznaczenia działek rolnych: …"]
[null,"nie dotyczy"]

{"sheet":"W45","index":24,"n_rows":0,"n_cols":0,"rows_kept":0,"cut":false,"hidden":true,"merged":[]}

{"sheet":"Wymogi 4(5).6. RSS(0)","index":25,"n_rows":109,"n_cols":17,"rows_kept":109,"cut":false,"hidden":true,"merged":[[49,2,49,3],[49,5,49,6],[50,2,50,3],[50,5,50,6],[51,2,51,3],[51,5,51,6],[44,2,44,3],[45,2,45,3],[46,2,46,3],[47,2,47,6],[48,2,48,3],[48,5,48,6],[32,2,32,3],[33,2,33,3],[34,2,34,3],[35,2,35,3],[36,2,36,6],[37,1,43,1],[37,2,37,3],[37,4,43,4],[37,5,43,5],[37,6,43,6],[24,1,30,1],[24,2,24,3],[24,4,30,4],[24,5,30,5],[24,6,30,6],[31,2,31,3],[18,2,18,3],[19,2,19,3],[20,2,20,3],[21,2,21,3],[22,2,22,3],[23,2,23,3],[17,2,17,3],[6,2,6,3],[7,2,7,6],[8,2,8,3],[9,2,9,3],[10,2,10,3],[11,2,11,3],[12,2,12,3],[13,2,13,3],[14,2,14,3],[15,2,15,3],[16,2,16,3],[2,5,5,5],[0,1,1,1],[0,2,1,3],[2,1,5,1],[2,2,5,2],[2,3,5,3]]}
[null,"WYMOGI DLA WARIANTU 4.6.1(2) LUB WARIANTU 5.6.1(2)","Torfowiska ",null,null,null,"Powrót",null,null,null,null,null,null,null,null,"pak4/5",{"$f":"OFFSET('S_Zestawienie dzialek'!BB3,0,$P$3)+1","v":{"$error":"#VALUE!"}}]
[null,null,null,null,null,null,null,null,null,null,null,null,null,null,"VBA"]
[null,{"$f":"\"WYMOGI DLA WARIANTU\" &\" \"&RIGHT(C3,6)","v":"WYMOGI DLA WARIANTU "},null,"działka RSS:",null,"działki rolne:",null,null,1,{"$f":"IFERROR(MID(C3,13,1),2)","v":""},null,null,null,{"$f":"MATCH(E3,'S_Zestawienie dzialek'!$W$6:$W$20,0)","v":{"$error":"#N/A"}},{"$f":"IFERROR(OFFSET('S_Zestawienie dzialek'!$AB$5,N3,0),\"\")","v":""},{"$f":"IFERROR(MATCH(C3,D55:D58),\"\")","v":""},{"$f":"OFFSET('S_Zestawienie dzialek'!BB7,0,$P$3)","v":{"$error":"#VALUE!"}}]
[null,null,null,null,null,null,null,null,{"$f":"COUNTA(G4)","v":0},null,null,null,null,{"$f":"MATCH(E4,'S_Zestawienie dzialek'!$W$6:$W$20,0)","v":{"$error":"#N/A"}},{"$f":"IFERROR(OFFSET('S_Zestawienie dzialek'!$AB$5,N4,0),\"\")","v":""},null,{"$f":"OFFSET('S_Zestawienie dzialek'!BB8,0,$P$3)","v":{"$error":"#VALUE!"}}]
[null,null,null,null,null,null,null,null,{"$f":"COUNTA(G5)","v":0},null,null,null,null,{"$f":"MATCH(E5,'S_Zestawienie dzialek'!$W$6:$W$20,0)","v":{"$error":"#N/A"}},{"$f":"IFERROR(OFFSET('S_Zestawienie dzialek'!$AB$5,N5,0),\"\")","v":""},null,{"$f":"OFFSET('S_Zestawienie dzialek'!BB9,0,$P$3)","v":{"$error":"#VALUE!"}}]
[null,null,null,null,null,null,null,null,0,null,null,null,null,{"$f":"MATCH(E6,'S_Zestawienie dzialek'!$W$6:$W$20,0)","v":{"$error":"#N/A"}},{"$f":"IFERROR(OFFSET('S_Zestawienie dzialek'!$AB$5,N6,0),\"\")","v":""},null,{"$f":"OFFSET('S_Zestawienie dzialek'!BB10,0,$P$3)","v":{"$error":"#VALUE!"}}]
[null,"Wymogi z rozporządzenia ws. szczegółowych warunków i trybu przyznawania pomocy finansowej w ramach działania \"Działanie rolno-środowiskowo-klimatyczne\" objętego PROW na lata 2014-2020","Wymogi obowiązujące rolnika – \nuszczegółowione wymogi  rozporządzenia rolno-środowiskowo-klimatycznego",null,"Zalecenia","Źródło uszczegółowień wymogów","Uzasadnienie uszczegółowień wymogów i zaleceń",null,null,null,null,null,null,null,null,null,{"$f":"OFFSET('S_Zestawienie dzialek'!BB11,0,$P$3)","v":{"$error":"#VALUE!"}}]
[null,"Wymogi obowiązkowe przy ochronie torfowisk \n– WARIANTY 4.6.1/5.6.1 i 4.6.2/5.6.2","Wymogi obowiązkowe przy ochronie torfowisk \n– WARIANTY 4.6.1/5.6.1 i 4.6.2/5.6.2",null,null,null,null,null,null,null,null,null,null,null,null,null,{"$f":"OFFSET('S_Zestawienie dzialek'!BB12,0,$P$3)","v":{"$error":"#VALUE!"}}]
[null,"zakaz wałowania","zakaz wałowania",null,null,"brak możliwości uszczegółowienia",null,null,null,null,null,null,null,null,null,null,{"$f":"OFFSET('S_Zestawienie dzialek'!BB13,0,$P$3)","v":{"$error":"#VALUE!"}}]
[null,"zakaz stosowania komunalnych osadów ściekowych","zakaz stosowania komunalnych osadów ściekowych",null,null,"brak możliwości uszczegółowienia",null,null,null,null,null,null,null,null,null,null,{"$f":"OFFSET('S_Zestawienie dzialek'!BB14,0,$P$3)","v":{"$error":"#VALUE!"}}]
[null,"zakaz stosowania podsiewu","zakaz stosowania podsiewu",null,null,"brak możliwości uszczegółowienia",null,null,null,null,null,null,null,null,null,null,{"$f":"OFFSET('S_Zestawienie dzialek'!BB15,0,$P$3)","v":{"$error":"#VALUE!"}}]
[null,"zakaz włókowania w okresie od 01-04 do 01-09 na obszarach nizinnych (poniżej 300 m n.p.m.) oraz od 15-04 do 01-09 na obszarach wyżynnych i górskich (powyżej 300 m n.p.m.) \n",null,null,null,"brak możliwości uszczegółowienia",null,null,null,null,null,null,null,null,null,null,{"$f":"OFFSET('S_Zestawienie dzialek'!BB16,0,$P$3)","v":{"$error":"#VALUE!"}}]
[null,"zakaz stosowania środków ochrony roślin, z wyłączeniem selektywnego i miejscowego niszczenia uciążliwych gatunków inwazyjnych z zastosowaniem odpowiedniego sprzętu (np. mazaczy herbicydowych)",null,null,null,null,null,null,null,null,null,null,null,null,null,null,{"$f":"OFFSET('S_Zestawienie dzialek'!BB17,0,$P$3)","v":{"$error":"#VALUE!"}}]
[null,"zakaz tworzenia nowych, rozbudowy i odtwarzania istniejących urządzeń melioracji wodnych, z wyjątkiem konstrukcji urządzeń mających na celu dostosowanie poziomu wód, wykorzystując istniejące urządzenia melioracji wodnych do wymogów siedliskowych gatunków lub siedlisk będących przedmiotem ochrony w danym pakiecie, jeżeli takie działania zostaną dopuszczone przez eksperta przyrodniczego",null,null,null,null,null,null,null,null,null,null,null,null,null,null,{"$f":"OFFSET('S_Zestawienie dzialek'!BB18,0,$P$3)","v":{"$error":"#VALUE!"}}]
[null,"zakaz składowania biomasy wśród kęp drzew i zarośli, w rowach, jarach i innych obniżeniach terenu (położonych na działkach zadeklarowanych we wniosku o przyznanie płatności rolno-środowiskowo-klimatycznej)","zakaz składowania biomasy wśród kęp drzew i zarośli, w rowach, jarach i innych obniżeniach terenu (położonych na działkach zadeklarowanych we wniosku o przyznanie płatności rolno-środowiskowo-klimatycznej)",null,null,"brak możliwości uszczegółowienia",null,null,null,null,null,null,null,null,null,null,{"$f":"OFFSET('S_Zestawienie dzialek'!BB19,0,$P$3)","v":{"$error":"#VALUE!"}}]
[null,"zakaz nawożenia","zakaz nawożenia",null,null,"brak możliwości uszczegółowienia",null,null,null,null,null,null,null,null,null,null,{"$f":"OFFSET('S_Zestawienie dzialek'!BB20,0,$P$3)","v":{"$error":"#VALUE!"}}]
[null,"zakaz wapnowania","zakaz wapnowania",null,null,"brak możliwości uszczegółowienia",null,null,null,null,null,null,null,null,null,null,{"$f":"OFFSET('S_Zestawienie dzialek'!BB21,0,$P$3)","v":{"$error":"#VALUE!"}}]
[null,"zakaz mechanicznego niszczenia struktury glebowej, w tym bronowania i przeorywania","zakaz mechanicznego niszczenia struktury glebowej, w tym bronowania i przeorywania",null,null,"brak możliwości uszczegółowienia",null,null,null,null,null,null,null,null,null,null,{"$f":"OFFSET('S_Zestawienie dzialek'!BB22,0,$P$3)","v":{"$error":"#VALUE!"}}]
[null,"zakaz wydobycia torfu","zakaz wydobycia torfu",null,null,"brak możliwości uszczegółowienia",null,null,null,null,null,null,null,null,null,null,{"$f":"OFFSET('S_Zestawienie dzialek'!BB23,0,$P$3)","v":{"$error":"#VALUE!"}}]
[null,"zakaz zalesiania","zakaz zalesiania",null,null,"brak możliwości uszczegółowienia",null,null,null,null,null,null,null,null,null,null,{"$f":"OFFSET('S_Zestawienie dzialek'!BB24,0,$P$3)","v":{"$error":"#VALUE!"}}]
[null,"zakaz wykorzystywania sprzętu mechanicznego powodującego naruszenie wierzchniej warstwy gleby","zakaz wykorzystywania sprzętu mechanicznego powodującego naruszenie wierzchniej warstwy gleby",null,null,"brak możliwości uszczegółowienia",null,null,null,null,null,null,null,null,null,null,{"$f":"OFFSET('S_Zestawienie dzialek'!BB25,0,$P$3)","v":{"$error":"#VALUE!"}}]
[null,"obowiązek usuwania odpadów pochodzenia antropogenicznego","obowiązek usuwania odpadów pochodzenia antropogenicznego",null,null,"brak możliwości uszczegółowienia",null,null,null,null,null,null,null,null,null,null,{"$f":"OFFSET('S_Zestawienie dzialek'!BB26,0,$P$3)","v":{"$error":"#VALUE!"}}]
[null,"wycięcie wskazanych przez eksperta przyrodniczego zarośli i podrostu drzew w pierwszym roku wdrażania wariantu \n",null,null,null,null,null,null,null,null,null,null,null,null,null,null,{"$f":"OFFSET('S_Zestawienie dzialek'!BB27,0,$P$3)","v":{"$error":"#VALUE!"}}]
[null,"wycięcie wskazanych zarośli i podrostu drzew w terminie określonym przez eksperta przyrodniczego, przy czym termin ten rozpoczyna się nie wcześniej niż w dniu 15 sierpnia i kończy się nie później niż w dniu 15 lutego kolejnego roku","wycięcie wskazanych zarośli i podrostu drzew w terminie od 15-08 do 15-02 następnego roku",null,null,null,null,null,null,null,null,null,null,null,null,null,{"$f":"OFFSET('S_Zestawienie dzialek'!BB28,0,$P$3)","v":{"$error":"#VALUE!"}}]
[null,"koszenie powierzchni, na której występują odrośla drzew i krzewów lub wycinanie tych odrośli co roku lub raz na dwa lata, co określi ekspert przyrodniczy",null,null,null,null,null,null,null,null,null,null,null,null,null,null,{"$f":"OFFSET('S_Zestawienie dzialek'!BB29,0,$P$3)","v":{"$error":"#VALUE!"}}]
[null,null,{"$f":"S_Dane_ogolne!$E$4","v":2020},null,null,null,null,null,null,null,null,null,null,null,null,null,{"$f":"OFFSET('S_Zestawienie dzialek'!BB30,0,$P$3)","v":{"$error":"#VALUE!"}}]
[null,null,{"$f":"C26+1","v":2021},null,null,null,null,null,null,null,null,null,null,null,null,null,{"$f":"OFFSET('S_Zestawienie dzialek'!BB31,0,$P$3)","v":{"$error":"#VALUE!"}}]
[null,null,{"$f":"C27+1","v":2022},null,null,null,null,null,null,null,null,null,null,null,null,null,{"$f":"OFFSET('S_Zestawienie dzialek'!BB32,0,$P$3)","v":{"$error":"#VALUE!"}}]
[null,null,2023,null,null,null,null,null,null,null,null,null,null,null,null,null,{"$f":"OFFSET('S_Zestawienie dzialek'!BB33,0,$P$3)","v":{"$error":"#VALUE!"}}]
[null,null,2024,null,null,null,null,null,null,null,null,null,null,null,null,null,{"$f":"OFFSET('S_Zestawienie dzialek'!BB34,0,$P$3)","v":{"$error":"#VALUE!"}}]
[null,null,2025,null,null,null,null,null,null,null,null,null,null,null,null,null,{"$f":"OFFSET('S_Zestawienie dzialek'!BB35,0,$P$3)","v":{"$error":"#VALUE!"}}]
[null,"koszenie powierzchni, na której występują odrośla drzew i krzewów lub wycinanie tych odrośli w terminie określonym przez eksperta przyrodniczego, przy czym termin ten rozpoczyna się nie wcześniej niż w dniu 15 sierpnia i kończy się nie później niż w dniu 15 lutego kolejnego roku",null,null,null,null,null,null,null,null,null,null,null,null,null,null,{"$f":"OFFSET('S_Zestawienie dzialek'!BB36,0,$P$3)","v":{"$error":"#VALUE!"}}]
[null,"zebranie i usunięcie wyciętej lub skoszonej biomasy","zebranie i usunięcie wyciętej lub skoszonej biomasy",null,null,"brak możliwości uszczegółowienia",null,null,null,null,null,null,null,null,null,null,{"$f":"OFFSET('S_Zestawienie dzialek'!BB37,0,$P$3)","v":{"$error":"#VALUE!"}}]
[null,"zakaz pozostawiania rozdrobnionej biomasy","zakaz pozostawiania rozdrobnionej biomasy",null,null,"brak możliwości uszczegółowienia",null,null,null,null,null,null,null,null,null,null,{"$f":"OFFSET('S_Zestawienie dzialek'!BB38,0,$P$3)","v":{"$error":"#VALUE!"}}]
[null,"w terminie do dwóch tygodni po pokosie biomasa powinna zostać usunięta z działki rolnej lub ułożona w pryzmy, w tym pryzmy balotowe, stogi lub brogi","w terminie do dwóch tygodni po pokosie biomasa powinna zostać usunięta z działki rolnej lub ułożona w pryzmy, w tym pryzmy balotowe, stogi lub brogi ",null,null,"brak możliwości uszczegółowienia",null,null,null,null,null,null,null,null,null,null,{"$f":"OFFSET('S_Zestawienie dzialek'!BB39,0,$P$3)","v":{"$error":"#VALUE!"}}]
[null,"w przypadku ułożenia biomasy w pryzmy, w tym pryzmy balotowe, stogi lub brogi powinna ona zostać usunięta z działki rolnej nie później niż do dnia 01-03 kolejnego roku","usunięcie z działki rolnej biomasy ułożonej w pryzmy, w tym pryzmy balotowe, stogi lub brogi do dnia 01-03 kolejnego roku",null,null,"brak możliwości uszczegółowienia",null,null,null,null,null,null,null,null,null,null,{"$f":"OFFSET('S_Zestawienie dzialek'!BB40,0,$P$3)","v":{"$error":"#VALUE!"}}]
[null,"Wymogi uzupełniajace przy ochronie torfowisk \n– WARIANTY 4.6.2/5.6.2","Wymogi uzupełniające przy ochronie torfowisk \n– WARIANTY 4.6.2/5.6.2",null,null,null,null,null,null,null,null,null,null,null,null,null,{"$f":"OFFSET('S_Zestawienie dzialek'!BB41,0,$P$3)","v":{"$error":"#VALUE!"}}]
[null,"częstotliwość koszenia: raz, dwa lub trzy razy w ciągu pięciu lat realizacji zobowiązania rolno-środowiskowo-klimatycznego, jednak nie częściej niż co dwa lata, co określi ekspert przyrodniczy",null,null,null,null,null,null,null,null,null,null,null,null,null,null,{"$f":"OFFSET('S_Zestawienie dzialek'!BB42,0,$P$3)","v":{"$error":"#VALUE!"}}]
[null,null,{"$f":"S_Dane_ogolne!$E$4","v":2020},null,null,null,null,null,null,null,null,null,null,null,null,null,{"$f":"OFFSET('S_Zestawienie dzialek'!BB43,0,$P$3)","v":{"$error":"#VALUE!"}}]
[null,null,{"$f":"C39+1","v":2021},null,null,null,null,null,null,null,null,null,null,null,null,null,{"$f":"OFFSET('S_Zestawienie dzialek'!BB44,0,$P$3)","v":{"$error":"#VALUE!"}}]
[null,null,{"$f":"C40+1","v":2022},null,null,null,null,null,null,null,null,null,null,null,null,null,{"$f":"OFFSET('S_Zestawienie dzialek'!BB45,0,$P$3)","v":{"$error":"#VALUE!"}}]
[null,null,2023,null,null,null,null,null,null,null,null,null,null,null,null,null,{"$f":"OFFSET('S_Zestawienie dzialek'!BB46,0,$P$3)","v":{"$error":"#VALUE!"}}]
[null,null,2024,null,null,null,null,null,null,null,null,null,null,null,null,null,{"$f":"OFFSET('S_Zestawienie dzialek'!BB47,0,$P$3)","v":{"$error":"#VALUE!"}}]
[null,null,2025,null,null,null,null,null,null,null,null,null,null,null,null,null,{"$f":"OFFSET('S_Zestawienie dzialek'!BB48,0,$P$3)","v":{"$error":"#VALUE!"}}]
[null,"koszenie runi w terminie określonym przez eksperta przyrodniczego, przy czym termin ten rozpoczyna się nie wcześniej niż w dniu 15 sierpnia i kończy się nie później niż w dniu 15 lutego kolejnego roku","termin koszenia runi: od 15.08. do 15.02 kolejnego roku",null,null,null,null,null,null,null,null,null,null,null,null,null,{"$f":"OFFSET('S_Zestawienie dzialek'!BB49,0,$P$3)","v":{"$error":"#VALUE!"}}]
[null,"dopuszcza się pozostawienie do 20% powierzchni działki rolnej nieskoszonej, jeżeli ekspert przyrodniczy dopuści taką możliwość",null,null,null,null,null,null,null,null,null,null,null,null,null,null,{"$f":"OFFSET('S_Zestawienie dzialek'!BB50,0,$P$3)","v":{"$error":"#VALUE!"}}]
[null,"w dwóch kolejnych pokosach należy pozostawić inne fragmenty nieskoszone","w dwóch kolejnych pokosach należy pozostawić różne fragmenty nieskoszone ",null,null,"brak możliwości uszczegółowienia"]
[null,null,"Inne zalecenia wynikajace z PZO/PO lub inne zalecenia ekperta  ",null,null,null,null,null,null,null,null,null,null,null,null,null,{"$f":"IF($P$3=5,'S_Zestawienie dzialek'!$AH51,IF($P$3=4,'S_Zestawienie dzialek'!$AG51,0))","v":0}]
[null,null,"źródło",null,"opis","uzasadnienie"]
[null,null,null,null,null,null,null,null,null,null,null,null,null,null,null,null,{"$f":"IF($P$3=5,'S_Zestawienie dzialek'!$AF52,IF($P$3=4,'S_Zestawienie dzialek'!$AE52,0))","v":0}]
[null,null,null,null,null,null,null,null,null,null,null,null,null,null,null,null,{"$f":"IF($P$3=5,'S_Zestawienie dzialek'!$AF53,IF($P$3=4,'S_Zestawienie dzialek'!$AE53,0))","v":0}]
[null,null,null,null,null,null,null,null,null,null,null,null,null,null,null,null,{"$f":"IF($P$3=5,'S_Zestawienie dzialek'!$AF54,IF($P$3=4,'S_Zestawienie dzialek'!$AE54,0))","v":0}]
[null,null,null,null,null,null,null,null,null,null,null,null,null,null,null,null,{"$f":"IF($P$3=5,'S_Zestawienie dzialek'!$AF55,IF($P$3=4,'S_Zestawienie dzialek'!$AE55,0))","v":0}]
[null,"częstotliwość koszenia lub wycinania odrośli","koszenie lub wycinanie odrośli w konkretnym roku",null,null,null,null,null,null,null,null,null,null,null,null,null,{"$f":"IF($P$3=5,'S_Zestawienie dzialek'!$AF56,IF($P$3=4,'S_Zestawienie dzialek'!$AE56,0))","v":0}]
[null,"koszenie powierzchni, na której występują odrośla drzew i krzewów lub wycinanie tych odrośli co roku","obowiązkowe koszenie lub wycinanie odrośli drzew i krzewów ","Wariant 4.6.1.",null,null,null,null,null,null,null,null,null,null,null,null,{"$f":"IF($P$3=5,'S_Zestawienie dzialek'!$AF57,IF($P$3=4,'S_Zestawienie dzialek'!$AE57,0))","v":0}]
[null,"koszenie powierzchni, na której występują odrośla drzew i krzewów lub wycinanie tych odrośli raz na dwa lata","brak koszenia lub wycinania odrośli drzew i krzewów ","Wariant 4.6.2.",null,null,null,null,null,null,null,null,null,null,null,null,{"$f":"IF($P$3=5,'S_Zestawienie dzialek'!$AF58,IF($P$3=4,'S_Zestawienie dzialek'!$AE58,0))","v":0}]
[null,"koszenie powierzchni, na której występują odrośla drzew i krzewów lub wycinanie tych odrośli co roku lub co dwa lata","nie dotyczy","Wariant 5.6.1.",null,null,null,null,null,null,null,null,null,null,null,null,{"$f":"IF($P$3=5,'S_Zestawienie dzialek'!$AF59,IF($P$3=4,'S_Zestawienie dzialek'!$AE59,0))","v":0}]
[null,"brak odrośli drzew i krzewów przeznaczonych do wycięcia lub koszenia",null,"Wariant 5.6.2.",null,null,null,null,null,null,null,null,null,null,null,null,{"$f":"IF($P$3=5,'S_Zestawienie dzialek'!$AF60,IF($P$3=4,'S_Zestawienie dzialek'!$AE60,0))","v":0}]
[null,"termin zbioru biomasy",null,null,null,null,null,null,null,null,null,null,null,null,null,null,{"$f":"IF($P$3=5,'S_Zestawienie dzialek'!$AF61,IF($P$3=4,'S_Zestawienie dzialek'!$AE61,0))","v":0}]
[null,"w terminie do dwóch tygodni po pokosie biomasa  powinna zostać usunięta z działki rolnej lub ułożona w pryzmy, w tym pryzmy balotowe, stogi lub brogi"]
[null,"nie zaleca się układania na działce pryzm, stogów lub brogów"]
[null,"nie zaleca się układania na działce pryzm"]
[]
[null,"częstotliwość koszenia","koszenie w konkretnym roku"]
[null,"koszenie runi raz w ciągu pieciu lat zobowiązania","obowiązkowe koszenie "]
[null,"koszenie runi dwa razy w ciągu pięciu lat zobowiązania, jednak nie częściej niż co dwa lata","brak koszenia"]
[null,"koszenie runi trzy razy w ciągu pięciu lat zobowiązania, jednak nie częściej niż co dwa lata","nie dotyczy"]
[]
[null,"urządzenia hydrotechniczne "]
[null,"zakaz tworzenia nowych, rozbudowy i odtwarzania istniejących urządzeń melioracji, za wyjątkiem konstrukcji urządzeń mających na celu dostosowanie poziomu wód, wykorzystując istniejące urządzenia melioracji do wymogów siedliskowych gatunków lub siedlisk będących przedmiotem ochrony w pakiecie"]
[null,"zakaz tworzenia nowych, rozbudowy i odtwarzania istniejących urządzeń melioracji"]
[]
[null,"wycięcie zarośli"]
[null,"wycięcie wszystkich zarośli i podrostu drzew w pierwszym roku realizacji zobowiązania"]
[null,"wycięcie wskazanych zarośli i podrostu drzew w pierwszym roku realizacji zobowiązania"]
[null,"nie wskazano zarośli i podrostu drzew do wycięcia "]
[]
[null,"termin wycięcia podrostu"]
[null,"wycięcie wskazanych zarośli i podrostu drzew w terminie od 15-08 do 15-02 następnego roku"]
[]
[null,"stosowanie środków ochrony roślin"]
[null,"zakaz stosowania środków ochrony roślin, z wyłączeniem selektywnego i miejscowego niszczenia uciążliwych gatunków inwazyjnych z zastosowaniem odpowiedniego sprzętu (np. mazaczy herbicydowych)"]
[null,"zakaz stosowania środków ochrony roślin"]
[]
[null,"włókowanie","włókowanie"]
[null,"całkowity zakaz włókowania wynikający z działań obligatoryjnych PZO/PO","zaleca się niewykonywanie włókowania "]
[null,"zakaz włókowania w okresie od 15-04 do 01-09 na obszarach wyżynnych i górskich (powyżej 300 m n.p.m.)","zaleca się nie wykonywanie włókowania na obszarach wyżynnych i górskich (powyżej 300 m n.p.m.) w okresie od 15-04 do 01-09"]
[null,"zakaz włókowania w okresie od 01-04 do 01-09 na obszarach nizinnych (poniżej 300 m n.p.m.)","zaleca się nie wykonywanie włókowania na obszarach nizinnych (poniżej 300 m n.p.m.) w okresie od 01-04 do 01-09"]
[]
[null,"usunięcie balotów, pryzm, stogów "]
[null,"usunięcie z działki rolnej biomasy ułożonej w pryzmy, w tym pryzmy balotowe, stogi lub brogi do dnia 01-03 kolejnego roku"]
[]
[null,"pozostawienie powierzchni niekoszonej"]
[null,"pozostawienie do 20% powierzchni działki rolnej nieskoszonej"]
[null,"obowiązek koszenia całej działki rolnej"]
[]
[null,"w dwóch kolejnych pokosach należy pozostawić inne fragmenty nieskoszone"]
[null,"w dwóch kolejnych pokosach należy pozostawić różne fragmenty nieskoszone "]
[null,"we wszystkich pokosach, w ciągu całego pięcioletniego zobowiązania należy pozostawić różne fragmenty nieskoszone "]
[]
[null,"termin koszenia odrośli"]
[null,"koszenie powierzchni, na której występują odrośla drzew i krzewów, lub wycinanie tych odrośli w terminie od dnia 15-08 do dnia 15-02 kolejnego roku"]
[]
[null,"działki mniejsze niż 0,5 ha"]
[null,"oznaczenia działek rolnych: …"]
[null,"nie dotyczy"]
[]
[null,"termin koszenia runi"]
[null,"termin koszenia runi: od 15.08. do 15.02 kolejnego roku"]

{"sheet":"Wymogi 4(5).6. RSS(1)","index":26,"n_rows":109,"n_cols":17,"rows_kept":109,"cut":false,"hidden":true,"merged":[[2,5,5,5],[0,1,1,1],[0,2,1,3],[2,1,5,1],[2,2,5,2],[2,3,5,3],[17,2,17,3],[6,2,6,3],[7,2,7,6],[8,2,8,3],[9,2,9,3],[10,2,10,3],[11,2,11,3],[12,2,12,3],[13,2,13,3],[14,2,14,3],[15,2,15,3],[16,2,16,3],[31,2,31,3],[18,2,18,3],[19,2,19,3],[20,2,20,3],[21,2,21,3],[22,2,22,3],[23,2,23,3],[24,1,30,1],[24,2,24,3],[24,4,30,4],[24,5,30,5],[24,6,30,6],[37,1,43,1],[37,2,37,3],[37,4,43,4],[37,5,43,5],[37,6,43,6],[32,2,32,3],[33,2,33,3],[34,2,34,3],[35,2,35,3],[36,2,36,6],[44,2,44,3],[45,2,45,3],[46,2,46,3],[47,2,47,6],[48,2,48,3],[48,5,48,6],[49,2,49,3],[49,5,49,6],[50,2,50,3],[50,5,50,6],[51,2,51,3],[51,5,51,6]]}
[null,"WYMOGI DLA WARIANTU 4.6.1(2) LUB WARIANTU 5.6.1(2)","Torfowiska ",null,null,null,"Powrót",null,null,null,null,null,null,null,null,"pak4/5",{"$f":"OFFSET('S_Zestawienie dzialek'!BB3,0,$P$3)+1","v":{"$error":"#VALUE!"}}]
[null,null,null,null,null,null,null,null,null,null,null,null,null,null,"VBA"]
[null,{"$f":"\"WYMOGI DLA WARIANTU\" &\" \"&RIGHT(C3,6)","v":"WYMOGI DLA WARIANTU "},null,"działka RSS:",null,"działki rolne:",null,null,1,{"$f":"IFERROR(MID(C3,13,1),2)","v":""},null,null,null,{"$f":"MATCH(E3,'S_Zestawienie dzialek'!$W$6:$W$20,0)","v":{"$error":"#N/A"}},{"$f":"IFERROR(OFFSET('S_Zestawienie dzialek'!$AB$5,N3,0),\"\")","v":""},{"$f":"IFERROR(MATCH(C3,D55:D58),\"\")","v":""},{"$f":"OFFSET('S_Zestawienie dzialek'!BB7,0,$P$3)","v":{"$error":"#VALUE!"}}]
[null,null,null,null,null,null,null,null,{"$f":"COUNTA(G4)","v":0},null,null,null,null,{"$f":"MATCH(E4,'S_Zestawienie dzialek'!$W$6:$W$20,0)","v":{"$error":"#N/A"}},{"$f":"IFERROR(OFFSET('S_Zestawienie dzialek'!$AB$5,N4,0),\"\")","v":""},null,{"$f":"OFFSET('S_Zestawienie dzialek'!BB8,0,$P$3)","v":{"$error":"#VALUE!"}}]
[null,null,null,null,null,null,null,null,{"$f":"COUNTA(G5)","v":0},null,null,null,null,{"$f":"MATCH(E5,'S_Zestawienie dzialek'!$W$6:$W$20,0)","v":{"$error":"#N/A"}},{"$f":"IFERROR(OFFSET('S_Zestawienie dzialek'!$AB$5,N5,0),\"\")","v":""},null,{"$f":"OFFSET('S_Zestawienie dzialek'!BB9,0,$P$3)","v":{"$error":"#VALUE!"}}]
[null,null,null,null,null,null,null,null,0,null,null,null,null,{"$f":"MATCH(E6,'S_Zestawienie dzialek'!$W$6:$W$20,0)","v":{"$error":"#N/A"}},{"$f":"IFERROR(OFFSET('S_Zestawienie dzialek'!$AB$5,N6,0),\"\")","v":""},null,{"$f":"OFFSET('S_Zestawienie dzialek'!BB10,0,$P$3)","v":{"$error":"#VALUE!"}}]
[null,"Wymogi z rozporządzenia ws. szczegółowych warunków i trybu przyznawania pomocy finansowej w ramach działania \"Działanie rolno-środowiskowo-klimatyczne\" objętego PROW na lata 2014-2020","Wymogi obowiązujące rolnika – \nuszczegółowione wymogi  rozporządzenia rolno-środowiskowo-klimatycznego",null,"Zalecenia","Źródło uszczegółowień wymogów","Uzasadnienie uszczegółowień wymogów i zaleceń",null,null,null,null,null,null,null,null,null,{"$f":"OFFSET('S_Zestawienie dzialek'!BB11,0,$P$3)","v":{"$error":"#VALUE!"}}]
[null,"Wymogi obowiązkowe przy ochronie torfowisk \n– WARIANTY 4.6.1/5.6.1 i 4.6.2/5.6.2","Wymogi obowiązkowe przy ochronie torfowisk \n– WARIANTY 4.6.1/5.6.1 i 4.6.2/5.6.2",null,null,null,null,null,null,null,null,null,null,null,null,null,{"$f":"OFFSET('S_Zestawienie dzialek'!BB12,0,$P$3)","v":{"$error":"#VALUE!"}}]
[null,"zakaz wałowania","zakaz wałowania",null,null,"brak możliwości uszczegółowienia",null,null,null,null,null,null,null,null,null,null,{"$f":"OFFSET('S_Zestawienie dzialek'!BB13,0,$P$3)","v":{"$error":"#VALUE!"}}]
[null,"zakaz stosowania komunalnych osadów ściekowych","zakaz stosowania komunalnych osadów ściekowych",null,null,"brak możliwości uszczegółowienia",null,null,null,null,null,null,null,null,null,null,{"$f":"OFFSET('S_Zestawienie dzialek'!BB14,0,$P$3)","v":{"$error":"#VALUE!"}}]
[null,"zakaz stosowania podsiewu","zakaz stosowania podsiewu",null,null,"brak możliwości uszczegółowienia",null,null,null,null,null,null,null,null,null,null,{"$f":"OFFSET('S_Zestawienie dzialek'!BB15,0,$P$3)","v":{"$error":"#VALUE!"}}]
[null,"zakaz włókowania w okresie od 01-04 do 01-09 na obszarach nizinnych (poniżej 300 m n.p.m.) oraz od 15-04 do 01-09 na obszarach wyżynnych i górskich (powyżej 300 m n.p.m.) \n",null,null,null,"brak możliwości uszczegółowienia",null,null,null,null,null,null,null,null,null,null,{"$f":"OFFSET('S_Zestawienie dzialek'!BB16,0,$P$3)","v":{"$error":"#VALUE!"}}]
[null,"zakaz stosowania środków ochrony roślin, z wyłączeniem selektywnego i miejscowego niszczenia uciążliwych gatunków inwazyjnych z zastosowaniem odpowiedniego sprzętu (np. mazaczy herbicydowych)",null,null,null,null,null,null,null,null,null,null,null,null,null,null,{"$f":"OFFSET('S_Zestawienie dzialek'!BB17,0,$P$3)","v":{"$error":"#VALUE!"}}]
[null,"zakaz tworzenia nowych, rozbudowy i odtwarzania istniejących urządzeń melioracji wodnych, z wyjątkiem konstrukcji urządzeń mających na celu dostosowanie poziomu wód, wykorzystując istniejące urządzenia melioracji wodnych do wymogów siedliskowych gatunków lub siedlisk będących przedmiotem ochrony w danym pakiecie, jeżeli takie działania zostaną dopuszczone przez eksperta przyrodniczego",null,null,null,null,null,null,null,null,null,null,null,null,null,null,{"$f":"OFFSET('S_Zestawienie dzialek'!BB18,0,$P$3)","v":{"$error":"#VALUE!"}}]
[null,"zakaz składowania biomasy wśród kęp drzew i zarośli, w rowach, jarach i innych obniżeniach terenu (położonych na działkach zadeklarowanych we wniosku o przyznanie płatności rolno-środowiskowo-klimatycznej)","zakaz składowania biomasy wśród kęp drzew i zarośli, w rowach, jarach i innych obniżeniach terenu (położonych na działkach zadeklarowanych we wniosku o przyznanie płatności rolno-środowiskowo-klimatycznej)",null,null,"brak możliwości uszczegółowienia",null,null,null,null,null,null,null,null,null,null,{"$f":"OFFSET('S_Zestawienie dzialek'!BB19,0,$P$3)","v":{"$error":"#VALUE!"}}]
[null,"zakaz nawożenia","zakaz nawożenia",null,null,"brak możliwości uszczegółowienia",null,null,null,null,null,null,null,null,null,null,{"$f":"OFFSET('S_Zestawienie dzialek'!BB20,0,$P$3)","v":{"$error":"#VALUE!"}}]
[null,"zakaz wapnowania","zakaz wapnowania",null,null,"brak możliwości uszczegółowienia",null,null,null,null,null,null,null,null,null,null,{"$f":"OFFSET('S_Zestawienie dzialek'!BB21,0,$P$3)","v":{"$error":"#VALUE!"}}]
[null,"zakaz mechanicznego niszczenia struktury glebowej, w tym bronowania i przeorywania","zakaz mechanicznego niszczenia struktury glebowej, w tym bronowania i przeorywania",null,null,"brak możliwości uszczegółowienia",null,null,null,null,null,null,null,null,null,null,{"$f":"OFFSET('S_Zestawienie dzialek'!BB22,0,$P$3)","v":{"$error":"#VALUE!"}}]
[null,"zakaz wydobycia torfu","zakaz wydobycia torfu",null,null,"brak możliwości uszczegółowienia",null,null,null,null,null,null,null,null,null,null,{"$f":"OFFSET('S_Zestawienie dzialek'!BB23,0,$P$3)","v":{"$error":"#VALUE!"}}]
[null,"zakaz zalesiania","zakaz zalesiania",null,null,"brak możliwości uszczegółowienia",null,null,null,null,null,null,null,null,null,null,{"$f":"OFFSET('S_Zestawienie dzialek'!BB24,0,$P$3)","v":{"$error":"#VALUE!"}}]
[null,"zakaz wykorzystywania sprzętu mechanicznego powodującego naruszenie wierzchniej warstwy gleby","zakaz wykorzystywania sprzętu mechanicznego powodującego naruszenie wierzchniej warstwy gleby",null,null,"brak możliwości uszczegółowienia",null,null,null,null,null,null,null,null,null,null,{"$f":"OFFSET('S_Zestawienie dzialek'!BB25,0,$P$3)","v":{"$error":"#VALUE!"}}]
[null,"obowiązek usuwania odpadów pochodzenia antropogenicznego","obowiązek usuwania odpadów pochodzenia antropogenicznego",null,null,"brak możliwości uszczegółowienia",null,null,null,null,null,null,null,null,null,null,{"$f":"OFFSET('S_Zestawienie dzialek'!BB26,0,$P$3)","v":{"$error":"#VALUE!"}}]
[null,"wycięcie wskazanych przez eksperta przyrodniczego zarośli i podrostu drzew w pierwszym roku wdrażania wariantu \n",null,null,null,null,null,null,null,null,null,null,null,null,null,null,{"$f":"OFFSET('S_Zestawienie dzialek'!BB27,0,$P$3)","v":{"$error":"#VALUE!"}}]
[null,"wycięcie wskazanych zarośli i podrostu drzew w terminie określonym przez eksperta przyrodniczego, przy czym termin ten rozpoczyna się nie wcześniej niż w dniu 15 sierpnia i kończy się nie później niż w dniu 15 lutego kolejnego roku","wycięcie wskazanych zarośli i podrostu drzew w terminie od 15-08 do 15-02 następnego roku",null,null,null,null,null,null,null,null,null,null,null,null,null,{"$f":"OFFSET('S_Zestawienie dzialek'!BB28,0,$P$3)","v":{"$error":"#VALUE!"}}]
[null,"koszenie powierzchni, na której występują odrośla drzew i krzewów lub wycinanie tych odrośli co roku lub raz na dwa lata, co określi ekspert przyrodniczy",null,null,null,null,null,null,null,null,null,null,null,null,null,null,{"$f":"OFFSET('S_Zestawienie dzialek'!BB29,0,$P$3)","v":{"$error":"#VALUE!"}}]
[null,null,{"$f":"S_Dane_ogolne!$E$4","v":2020},null,null,null,null,null,null,null,null,null,null,null,null,null,{"$f":"OFFSET('S_Zestawienie dzialek'!BB30,0,$P$3)","v":{"$error":"#VALUE!"}}]
[null,null,{"$f":"C26+1","v":2021},null,null,null,null,null,null,null,null,null,null,null,null,null,{"$f":"OFFSET('S_Zestawienie dzialek'!BB31,0,$P$3)","v":{"$error":"#VALUE!"}}]
[null,null,{"$f":"C27+1","v":2022},null,null,null,null,null,null,null,null,null,null,null,null,null,{"$f":"OFFSET('S_Zestawienie dzialek'!BB32,0,$P$3)","v":{"$error":"#VALUE!"}}]
[null,null,2023,null,null,null,null,null,null,null,null,null,null,null,null,null,{"$f":"OFFSET('S_Zestawienie dzialek'!BB33,0,$P$3)","v":{"$error":"#VALUE!"}}]
[null,null,2024,null,null,null,null,null,null,null,null,null,null,null,null,null,{"$f":"OFFSET('S_Zestawienie dzialek'!BB34,0,$P$3)","v":{"$error":"#VALUE!"}}]
[null,null,2025,null,null,null,null,null,null,null,null,null,null,null,null,null,{"$f":"OFFSET('S_Zestawienie dzialek'!BB35,0,$P$3)","v":{"$error":"#VALUE!"}}]
[null,"koszenie powierzchni, na której występują odrośla drzew i krzewów lub wycinanie tych odrośli w terminie określonym przez eksperta przyrodniczego, przy czym termin ten rozpoczyna się nie wcześniej niż w dniu 15 sierpnia i kończy się nie później niż w dniu 15 lutego kolejnego roku",null,null,null,null,null,null,null,null,null,null,null,null,null,null,{"$f":"OFFSET('S_Zestawienie dzialek'!BB36,0,$P$3)","v":{"$error":"#VALUE!"}}]
[null,"zebranie i usunięcie wyciętej lub skoszonej biomasy","zebranie i usunięcie wyciętej lub skoszonej biomasy",null,null,"brak możliwości uszczegółowienia",null,null,null,null,null,null,null,null,null,null,{"$f":"OFFSET('S_Zestawienie dzialek'!BB37,0,$P$3)","v":{"$error":"#VALUE!"}}]
[null,"zakaz pozostawiania rozdrobnionej biomasy","zakaz pozostawiania rozdrobnionej biomasy",null,null,"brak możliwości uszczegółowienia",null,null,null,null,null,null,null,null,null,null,{"$f":"OFFSET('S_Zestawienie dzialek'!BB38,0,$P$3)","v":{"$error":"#VALUE!"}}]
[null,"w terminie do dwóch tygodni po pokosie biomasa powinna zostać usunięta z działki rolnej lub ułożona w pryzmy, w tym pryzmy balotowe, stogi lub brogi","w terminie do dwóch tygodni po pokosie biomasa powinna zostać usunięta z działki rolnej lub ułożona w pryzmy, w tym pryzmy balotowe, stogi lub brogi ",null,null,"brak możliwości uszczegółowienia",null,null,null,null,null,null,null,null,null,null,{"$f":"OFFSET('S_Zestawienie dzialek'!BB39,0,$P$3)","v":{"$error":"#VALUE!"}}]
[null,"w przypadku ułożenia biomasy w pryzmy, w tym pryzmy balotowe, stogi lub brogi powinna ona zostać usunięta z działki rolnej nie później niż do dnia 01-03 kolejnego roku","usunięcie z działki rolnej biomasy ułożonej w pryzmy, w tym pryzmy balotowe, stogi lub brogi do dnia 01-03 kolejnego roku",null,null,"brak możliwości uszczegółowienia",null,null,null,null,null,null,null,null,null,null,{"$f":"OFFSET('S_Zestawienie dzialek'!BB40,0,$P$3)","v":{"$error":"#VALUE!"}}]
[null,"Wymogi uzupełniajace przy ochronie torfowisk \n– WARIANTY 4.6.2/5.6.2","Wymogi uzupełniające przy ochronie torfowisk \n– WARIANTY 4.6.2/5.6.2",null,null,null,null,null,null,null,null,null,null,null,null,null,{"$f":"OFFSET('S_Zestawienie dzialek'!BB41,0,$P$3)","v":{"$error":"#VALUE!"}}]
[null,"częstotliwość koszenia: raz, dwa lub trzy razy w ciągu pięciu lat realizacji zobowiązania rolno-środowiskowo-klimatycznego, jednak nie częściej niż co dwa lata, co określi ekspert przyrodniczy",null,null,null,null,null,null,null,null,null,null,null,null,null,null,{"$f":"OFFSET('S_Zestawienie dzialek'!BB42,0,$P$3)","v":{"$error":"#VALUE!"}}]
[null,null,{"$f":"S_Dane_ogolne!$E$4","v":2020},null,null,null,null,null,null,null,null,null,null,null,null,null,{"$f":"OFFSET('S_Zestawienie dzialek'!BB43,0,$P$3)","v":{"$error":"#VALUE!"}}]
[null,null,{"$f":"C39+1","v":2021},null,null,null,null,null,null,null,null,null,null,null,null,null,{"$f":"OFFSET('S_Zestawienie dzialek'!BB44,0,$P$3)","v":{"$error":"#VALUE!"}}]
[null,null,{"$f":"C40+1","v":2022},null,null,null,null,null,null,null,null,null,null,null,null,null,{"$f":"OFFSET('S_Zestawienie dzialek'!BB45,0,$P$3)","v":{"$error":"#VALUE!"}}]
[null,null,2023,null,null,null,null,null,null,null,null,null,null,null,null,null,{"$f":"OFFSET('S_Zestawienie dzialek'!BB46,0,$P$3)","v":{"$error":"#VALUE!"}}]
[null,null,2024,null,null,null,null,null,null,null,null,null,null,null,null,null,{"$f":"OFFSET('S_Zestawienie dzialek'!BB47,0,$P$3)","v":{"$error":"#VALUE!"}}]
[null,null,2025,null,null,null,null,null,null,null,null,null,null,null,null,null,{"$f":"OFFSET('S_Zestawienie dzialek'!BB48,0,$P$3)","v":{"$error":"#VALUE!"}}]
[null,"koszenie runi w terminie określonym przez eksperta przyrodniczego, przy czym termin ten rozpoczyna się nie wcześniej niż w dniu 15 sierpnia i kończy się nie później niż w dniu 15 lutego kolejnego roku","termin koszenia runi: od 15.08. do 15.02 kolejnego roku",null,null,null,null,null,null,null,null,null,null,null,null,null,{"$f":"OFFSET('S_Zestawienie dzialek'!BB49,0,$P$3)","v":{"$error":"#VALUE!"}}]
[null,"dopuszcza się pozostawienie do 20% powierzchni działki rolnej nieskoszonej, jeżeli ekspert przyrodniczy dopuści taką możliwość",null,null,null,null,null,null,null,null,null,null,null,null,null,null,{"$f":"OFFSET('S_Zestawienie dzialek'!BB50,0,$P$3)","v":{"$error":"#VALUE!"}}]
[null,"w dwóch kolejnych pokosach należy pozostawić inne fragmenty nieskoszone","w dwóch kolejnych pokosach należy pozostawić różne fragmenty nieskoszone ",null,null,"brak możliwości uszczegółowienia"]
[null,null,"Inne zalecenia wynikajace z PZO/PO lub inne zalecenia ekperta  ",null,null,null,null,null,null,null,null,null,null,null,null,null,{"$f":"IF($P$3=5,'S_Zestawienie dzialek'!$AH51,IF($P$3=4,'S_Zestawienie dzialek'!$AG51,0))","v":0}]
[null,null,"źródło",null,"opis","uzasadnienie"]
[null,null,null,null,null,null,null,null,null,null,null,null,null,null,null,null,{"$f":"IF($P$3=5,'S_Zestawienie dzialek'!$AF52,IF($P$3=4,'S_Zestawienie dzialek'!$AE52,0))","v":0}]
[null,null,null,null,null,null,null,null,null,null,null,null,null,null,null,null,{"$f":"IF($P$3=5,'S_Zestawienie dzialek'!$AF53,IF($P$3=4,'S_Zestawienie dzialek'!$AE53,0))","v":0}]
[null,null,null,null,null,null,null,null,null,null,null,null,null,null,null,null,{"$f":"IF($P$3=5,'S_Zestawienie dzialek'!$AF54,IF($P$3=4,'S_Zestawienie dzialek'!$AE54,0))","v":0}]
[null,null,null,null,null,null,null,null,null,null,null,null,null,null,null,null,{"$f":"IF($P$3=5,'S_Zestawienie dzialek'!$AF55,IF($P$3=4,'S_Zestawienie dzialek'!$AE55,0))","v":0}]
[null,"częstotliwość koszenia lub wycinania odrośli","koszenie lub wycinanie odrośli w konkretnym roku",null,null,null,null,null,null,null,null,null,null,null,null,null,{"$f":"IF($P$3=5,'S_Zestawienie dzialek'!$AF56,IF($P$3=4,'S_Zestawienie dzialek'!$AE56,0))","v":0}]
[null,"koszenie powierzchni, na której występują odrośla drzew i krzewów lub wycinanie tych odrośli co roku","obowiązkowe koszenie lub wycinanie odrośli drzew i krzewów ","Wariant 4.6.1.",null,null,null,null,null,null,null,null,null,null,null,null,{"$f":"IF($P$3=5,'S_Zestawienie dzialek'!$AF57,IF($P$3=4,'S_Zestawienie dzialek'!$AE57,0))","v":0}]
[null,"koszenie powierzchni, na której występują odrośla drzew i krzewów lub wycinanie tych odrośli raz na dwa lata","brak koszenia lub wycinania odrośli drzew i krzewów ","Wariant 4.6.2.",null,null,null,null,null,null,null,null,null,null,null,null,{"$f":"IF($P$3=5,'S_Zestawienie dzialek'!$AF58,IF($P$3=4,'S_Zestawienie dzialek'!$AE58,0))","v":0}]
[null,"koszenie powierzchni, na której występują odrośla drzew i krzewów lub wycinanie tych odrośli co roku lub co dwa lata","nie dotyczy","Wariant 5.6.1.",null,null,null,null,null,null,null,null,null,null,null,null,{"$f":"IF($P$3=5,'S_Zestawienie dzialek'!$AF59,IF($P$3=4,'S_Zestawienie dzialek'!$AE59,0))","v":0}]
[null,"brak odrośli drzew i krzewów przeznaczonych do wycięcia lub koszenia",null,"Wariant 5.6.2.",null,null,null,null,null,null,null,null,null,null,null,null,{"$f":"IF($P$3=5,'S_Zestawienie dzialek'!$AF60,IF($P$3=4,'S_Zestawienie dzialek'!$AE60,0))","v":0}]
[null,"termin zbioru biomasy",null,null,null,null,null,null,null,null,null,null,null,null,null,null,{"$f":"IF($P$3=5,'S_Zestawienie dzialek'!$AF61,IF($P$3=4,'S_Zestawienie dzialek'!$AE61,0))","v":0}]
[null,"w terminie do dwóch tygodni po pokosie biomasa  powinna zostać usunięta z działki rolnej lub ułożona w pryzmy, w tym pryzmy balotowe, stogi lub brogi"]
[null,"nie zaleca się układania na działce pryzm, stogów lub brogów"]
[null,"nie zaleca się układania na działce pryzm"]
[]
[null,"częstotliwość koszenia","koszenie w konkretnym roku"]
[null,"koszenie runi raz w ciągu pieciu lat zobowiązania","obowiązkowe koszenie "]
[null,"koszenie runi dwa razy w ciągu pięciu lat zobowiązania, jednak nie częściej niż co dwa lata","brak koszenia"]
[null,"koszenie runi trzy razy w ciągu pięciu lat zobowiązania, jednak nie częściej niż co dwa lata","nie dotyczy"]
[]
[null,"urządzenia hydrotechniczne "]
[null,"zakaz tworzenia nowych, rozbudowy i odtwarzania istniejących urządzeń melioracji, za wyjątkiem konstrukcji urządzeń mających na celu dostosowanie poziomu wód, wykorzystując istniejące urządzenia melioracji do wymogów siedliskowych gatunków lub siedlisk będących przedmiotem ochrony w pakiecie"]
[null,"zakaz tworzenia nowych, rozbudowy i odtwarzania istniejących urządzeń melioracji"]
[]
[null,"wycięcie zarośli"]
[null,"wycięcie wszystkich zarośli i podrostu drzew w pierwszym roku realizacji zobowiązania"]
[null,"wycięcie wskazanych zarośli i podrostu drzew w pierwszym roku realizacji zobowiązania"]
[null,"nie wskazano zarośli i podrostu drzew do wycięcia "]
[]
[null,"termin wycięcia podrostu"]
[null,"wycięcie wskazanych zarośli i podrostu drzew w terminie od 15-08 do 15-02 następnego roku"]
[]
[null,"stosowanie środków ochrony roślin"]
[null,"zakaz stosowania środków ochrony roślin, z wyłączeniem selektywnego i miejscowego niszczenia uciążliwych gatunków inwazyjnych z zastosowaniem odpowiedniego sprzętu (np. mazaczy herbicydowych)"]
[null,"zakaz stosowania środków ochrony roślin"]
[]
[null,"włókowanie","włókowanie"]
[null,"całkowity zakaz włókowania wynikający z działań obligatoryjnych PZO/PO","zaleca się niewykonywanie włókowania "]
[null,"zakaz włókowania w okresie od 15-04 do 01-09 na obszarach wyżynnych i górskich (powyżej 300 m n.p.m.)","zaleca się nie wykonywanie włókowania na obszarach wyżynnych i górskich (powyżej 300 m n.p.m.) w okresie od 15-04 do 01-09"]
[null,"zakaz włókowania w okresie od 01-04 do 01-09 na obszarach nizinnych (poniżej 300 m n.p.m.)","zaleca się nie wykonywanie włókowania na obszarach nizinnych (poniżej 300 m n.p.m.) w okresie od 01-04 do 01-09"]
[]
[null,"usunięcie balotów, pryzm, stogów "]
[null,"usunięcie z działki rolnej biomasy ułożonej w pryzmy, w tym pryzmy balotowe, stogi lub brogi do dnia 01-03 kolejnego roku"]
[]
[null,"pozostawienie powierzchni niekoszonej"]
[null,"pozostawienie do 20% powierzchni działki rolnej nieskoszonej"]
[null,"obowiązek koszenia całej działki rolnej"]
[]
[null,"w dwóch kolejnych pokosach należy pozostawić inne fragmenty nieskoszone"]
[null,"w dwóch kolejnych pokosach należy pozostawić różne fragmenty nieskoszone "]
[null,"we wszystkich pokosach, w ciągu całego pięcioletniego zobowiązania należy pozostawić różne fragmenty nieskoszone "]
[]
[null,"termin koszenia odrośli"]
[null,"koszenie powierzchni, na której występują odrośla drzew i krzewów, lub wycinanie tych odrośli w terminie od dnia 15-08 do dnia 15-02 kolejnego roku"]
[]
[null,"działki mniejsze niż 0,5 ha"]
[null,"oznaczenia działek rolnych: …"]
[null,"nie dotyczy"]
[]
[null,"termin koszenia runi"]
[null,"termin koszenia runi: od 15.08. do 15.02 kolejnego roku"]

{"sheet":"W46","index":27,"n_rows":0,"n_cols":0,"rows_kept":0,"cut":false,"hidden":true,"merged":[]}

{"sheet":"Zdjecia fitosocjologiczne(0)","index":28,"n_rows":41,"n_cols":13,"rows_kept":41,"cut":false,"hidden":true,"merged":[[40,1,40,2],[40,3,40,4],[37,1,37,2],[37,3,37,4],[38,1,38,2],[38,3,38,4],[39,1,39,2],[39,3,39,4],[34,1,34,2],[34,3,34,4],[35,1,35,2],[35,3,35,4],[36,1,36,2],[36,3,36,4],[31,1,31,2],[31,3,31,4],[32,1,32,2],[32,3,32,4],[33,1,33,2],[33,3,33,4],[28,1,28,2],[28,3,28,4],[29,1,29,2],[29,3,29,4],[30,1,30,2],[30,3,30,4],[25,1,25,2],[25,3,25,4],[26,1,26,2],[26,3,26,4],[27,1,27,2],[27,3,27,4],[22,1,22,2],[22,3,22,4],[23,1,23,2],[23,3,23,4],[24,1,24,2],[24,3,24,4],[19,1,19,2],[19,4,19,5],[20,1,20,2],[20,3,20,4],[21,1,21,2],[21,3,21,4],[16,1,16,2],[16,3,16,6],[17,1,17,2],[17,4,17,5],[18,1,18,2],[18,4,18,5],[13,1,13,3],[13,4,13,6],[14,1,14,2],[14,4,14,5],[15,1,15,2],[15,3,15,6],[10,1,10,3],[10,4,10,6],[2,1,2,6],[3,1,3,5],[4,1,4,5],[5,1,8,5],[9,1,9,6]]}
[null,null,null,null,null,null,"Powrót"]
[]
[null,"Diagnoza siedliska – zdjęcia fitosocjologiczne"]
[null,"ZDJĘCIE FITOSOCJOLOGICZNE NUMER",null,null,null,null,1]
[null,"Oznaczenie działki RSS, dla której wykonano zdjęcie fitosocjologiczne ",null,null,null,null,null,null,null,null,null,1,{"$f":"COUNTIFS($G$5:$G$9,G5)","v":0}]
[null,"Oznaczenie innych działek RSS, dla których zdjęcie fitosocjologiczne jest reprezentatywne\n",null,null,null,null,null,null,null,null,null,{"$f":"COUNTA(G6)","v":0},{"$f":"COUNTIFS($G$5:$G$9,G6)","v":0}]
[null,null,null,null,null,null,null,null,null,null,null,0,0]
[null,null,null,null,null,null,null,null,null,null,null,0,0]
[null,null,null,null,null,null,null,null,null,null,null,0,0]
[null,"Współrzędne geograficzne",null,null,null,null,null,null,null,null,null,1]
[null,"Długość geograficzna [E] ",null,null,"Szerokość geograficzna [N]",null,null,null,null,null,null,1]
[null,"stopnie","minuty","sekundy","stopnie","minuty","sekundy",null,null,null,null,1]
[null,null,null,null,null,null,null,null,null,null,null,0]
[null,"Data wykonania zdjęcia fitosocjologicznego",null,null,null,null,null,null,null,null,null,1]
[null,"Nachylenie",null,null,"Ekspozycja",null,null,null,null,null,null,1]
[null,"Uwilgotnienie podłoża",null,null,null,null,null,null,null,null,null,1]
[null,"Podłoże \n",null,null,null,null,null,null,null,null,null,1]
[null,"Pokrycie warstwy drzew [%]\n",null,null,"Pokrycie warstwy krzewów [%]\n ",null,null,null,null,null,null,1]
[null,"Pokrycie warstwy runa [%] ",null,null,"Pokrycie warstwy mszaków i porostów [%] ",null,null,null,null,null,null,1]
[null,"Pokrycie otwartego lustra wody  [%] ",null,null,"Pokrycie martwą biomasą  [%] ",null,null,null,null,null,null,1]
[null,"nazwa łacińska gatunku",null,"nazwa polska gatunku",null,"ilościowość","walor wskaźnikowy ",null,"poz","łac","walor",1]
[null,null,null,null,null,null,null,null,{"$f":"IFERROR(MATCH(D22,gat_wskaz_pl,0),1)","v":1},{"$f":"OFFSET(listy_slownikowe!$AG$1,I22,0)","v":" "},{"$f":"OFFSET(listy_slownikowe!$AI$1,I22,0)","v":" "},{"$f":"COUNTA(D22)","v":0}]
[null,null,null,null,null,null,null,null,1,{"$f":"OFFSET(listy_slownikowe!$AG$1,I23,0)","v":" "},{"$f":"OFFSET(listy_slownikowe!$AI$1,I23,0)","v":" "},{"$f":"COUNTA(D23)","v":0}]
[null,{"$f":"J24","v":" "},null,null,null,null,{"$f":"K24","v":" "},null,1,{"$f":"OFFSET(listy_slownikowe!$AG$1,I24,0)","v":" "},{"$f":"OFFSET(listy_slownikowe!$AI$1,I24,0)","v":" "},0]
[null," ",null,null,null,null," ",null,1,{"$f":"OFFSET(listy_slownikowe!$AG$1,I25,0)","v":" "},{"$f":"OFFSET(listy_slownikowe!$AI$1,I25,0)","v":" "},0]
[null," ",null,null,null,null," ",null,1,{"$f":"OFFSET(listy_slownikowe!$AG$1,I26,0)","v":" "},{"$f":"OFFSET(listy_slownikowe!$AI$1,I26,0)","v":" "},0]
[null," ",null,null,null,null," ",null,1,{"$f":"OFFSET(listy_slownikowe!$AG$1,I27,0)","v":" "},{"$f":"OFFSET(listy_slownikowe!$AI$1,I27,0)","v":" "},0]
[null," ",null,null,null,null," ",null,1,{"$f":"OFFSET(listy_slownikowe!$AG$1,I28,0)","v":" "},{"$f":"OFFSET(listy_slownikowe!$AI$1,I28,0)","v":" "},0]
[null," ",null,null,null,null," ",null,1,{"$f":"OFFSET(listy_slownikowe!$AG$1,I29,0)","v":" "},{"$f":"OFFSET(listy_slownikowe!$AI$1,I29,0)","v":" "},0]
[null," ",null,null,null,null," ",null,1,{"$f":"OFFSET(listy_slownikowe!$AG$1,I30,0)","v":" "},{"$f":"OFFSET(listy_slownikowe!$AI$1,I30,0)","v":" "},0]
[null," ",null,null,null,null," ",null,1,{"$f":"OFFSET(listy_slownikowe!$AG$1,I31,0)","v":" "},{"$f":"OFFSET(listy_slownikowe!$AI$1,I31,0)","v":" "},0]
[null," ",null,null,null,null," ",null,1,{"$f":"OFFSET(listy_slownikowe!$AG$1,I32,0)","v":" "},{"$f":"OFFSET(listy_slownikowe!$AI$1,I32,0)","v":" "},0]
[null," ",null,null,null,null," ",null,1,{"$f":"OFFSET(listy_slownikowe!$AG$1,I33,0)","v":" "},{"$f":"OFFSET(listy_slownikowe!$AI$1,I33,0)","v":" "},0]
[null," ",null,null,null,null," ",null,1,{"$f":"OFFSET(listy_slownikowe!$AG$1,I34,0)","v":" "},{"$f":"OFFSET(listy_slownikowe!$AI$1,I34,0)","v":" "},0]
[null," ",null,null,null,null," ",null,1,{"$f":"OFFSET(listy_slownikowe!$AG$1,I35,0)","v":" "},{"$f":"OFFSET(listy_slownikowe!$AI$1,I35,0)","v":" "},0]
[null," ",null,null,null,null," ",null,1,{"$f":"OFFSET(listy_slownikowe!$AG$1,I36,0)","v":" "},{"$f":"OFFSET(listy_slownikowe!$AI$1,I36,0)","v":" "},0]
[null," ",null,null,null,null," ",null,1,{"$f":"OFFSET(listy_slownikowe!$AG$1,I37,0)","v":" "},{"$f":"OFFSET(listy_slownikowe!$AI$1,I37,0)","v":" "},0]
[null," ",null,null,null,null," ",null,1,{"$f":"OFFSET(listy_slownikowe!$AG$1,I38,0)","v":" "},{"$f":"OFFSET(listy_slownikowe!$AI$1,I38,0)","v":" "},0]
[null," ",null,null,null,null," ",null,1,{"$f":"OFFSET(listy_slownikowe!$AG$1,I39,0)","v":" "},{"$f":"OFFSET(listy_slownikowe!$AI$1,I39,0)","v":" "},0]
[null," ",null,null,null,null," ",null,1,{"$f":"OFFSET(listy_slownikowe!$AG$1,I40,0)","v":" "},{"$f":"OFFSET(listy_slownikowe!$AI$1,I40,0)","v":" "},0]
[null," ",null,null,null,null," ",null,1,{"$f":"OFFSET(listy_slownikowe!$AG$1,I41,0)","v":" "},{"$f":"OFFSET(listy_slownikowe!$AI$1,I41,0)","v":" "},0]

{"sheet":"Zdjecia fitosocjologiczne(1)","index":29,"n_rows":41,"n_cols":13,"rows_kept":41,"cut":false,"hidden":true,"merged":[[10,1,10,3],[10,4,10,6],[2,1,2,6],[3,1,3,5],[4,1,4,5],[5,1,8,5],[9,1,9,6],[13,1,13,3],[13,4,13,6],[14,1,14,2],[14,4,14,5],[15,1,15,2],[15,3,15,6],[16,1,16,2],[16,3,16,6],[17,1,17,2],[17,4,17,5],[18,1,18,2],[18,4,18,5],[19,1,19,2],[19,4,19,5],[20,1,20,2],[20,3,20,4],[21,1,21,2],[21,3,21,4],[22,1,22,2],[22,3,22,4],[23,1,23,2],[23,3,23,4],[24,1,24,2],[24,3,24,4],[25,1,25,2],[25,3,25,4],[26,1,26,2],[26,3,26,4],[27,1,27,2],[27,3,27,4],[28,1,28,2],[28,3,28,4],[29,1,29,2],[29,3,29,4],[30,1,30,2],[30,3,30,4],[31,1,31,2],[31,3,31,4],[32,1,32,2],[32,3,32,4],[33,1,33,2],[33,3,33,4],[34,1,34,2],[34,3,34,4],[35,1,35,2],[35,3,35,4],[36,1,36,2],[36,3,36,4],[40,1,40,2],[40,3,40,4],[37,1,37,2],[37,3,37,4],[38,1,38,2],[38,3,38,4],[39,1,39,2],[39,3,39,4]]}
[null,null,null,null,null,null,"Powrót"]
[]
[null,"Diagnoza siedliska – zdjęcia fitosocjologiczne"]
[null,"ZDJĘCIE FITOSOCJOLOGICZNE NUMER",null,null,null,null,1]
[null,"Oznaczenie działki RSS, dla której wykonano zdjęcie fitosocjologiczne ",null,null,null,null,null,null,null,null,null,1,{"$f":"COUNTIFS($G$5:$G$9,G5)","v":0}]
[null,"Oznaczenie innych działek RSS, dla których zdjęcie fitosocjologiczne jest reprezentatywne\n",null,null,null,null,null,null,null,null,null,{"$f":"COUNTA(G6)","v":0},{"$f":"COUNTIFS($G$5:$G$9,G6)","v":0}]
[null,null,null,null,null,null,null,null,null,null,null,0,0]
[null,null,null,null,null,null,null,null,null,null,null,0,0]
[null,null,null,null,null,null,null,null,null,null,null,0,0]
[null,"Współrzędne geograficzne",null,null,null,null,null,null,null,null,null,1]
[null,"Długość geograficzna [E] ",null,null,"Szerokość geograficzna [N]",null,null,null,null,null,null,1]
[null,"stopnie","minuty","sekundy","stopnie","minuty","sekundy",null,null,null,null,1]
[null,null,null,null,null,null,null,null,null,null,null,0]
[null,"Data wykonania zdjęcia fitosocjologicznego",null,null,null,null,null,null,null,null,null,1]
[null,"Nachylenie",null,null,"Ekspozycja",null,null,null,null,null,null,1]
[null,"Uwilgotnienie podłoża",null,null,null,null,null,null,null,null,null,1]
[null,"Podłoże \n",null,null,null,null,null,null,null,null,null,1]
[null,"Pokrycie warstwy drzew [%]\n",null,null,"Pokrycie warstwy krzewów [%]\n ",null,null,null,null,null,null,1]
[null,"Pokrycie warstwy runa [%] ",null,null,"Pokrycie warstwy mszaków i porostów [%] ",null,null,null,null,null,null,1]
[null,"Pokrycie otwartego lustra wody  [%] ",null,null,"Pokrycie martwą biomasą  [%] ",null,null,null,null,null,null,1]
[null,"nazwa łacińska gatunku",null,"nazwa polska gatunku",null,"ilościowość","walor wskaźnikowy ",null,"poz","łac","walor",1]
[null,null,null,null,null,null,null,null,{"$f":"IFERROR(MATCH(D22,gat_wskaz_pl,0),1)","v":1},{"$f":"OFFSET(listy_slownikowe!$AG$1,I22,0)","v":" "},{"$f":"OFFSET(listy_slownikowe!$AI$1,I22,0)","v":" "},{"$f":"COUNTA(D22)","v":0}]
[null,null,null,null,null,null,null,null,1,{"$f":"OFFSET(listy_slownikowe!$AG$1,I23,0)","v":" "},{"$f":"OFFSET(listy_slownikowe!$AI$1,I23,0)","v":" "},{"$f":"COUNTA(D23)","v":0}]
[null,{"$f":"J24","v":" "},null,null,null,null,{"$f":"K24","v":" "},null,1,{"$f":"OFFSET(listy_slownikowe!$AG$1,I24,0)","v":" "},{"$f":"OFFSET(listy_slownikowe!$AI$1,I24,0)","v":" "},0]
[null," ",null,null,null,null,{"$f":"K25","v":" "},null,1,{"$f":"OFFSET(listy_slownikowe!$AG$1,I25,0)","v":" "},{"$f":"OFFSET(listy_slownikowe!$AI$1,I25,0)","v":" "},0]
[null," ",null,null,null,null," ",null,1,{"$f":"OFFSET(listy_slownikowe!$AG$1,I26,0)","v":" "},{"$f":"OFFSET(listy_slownikowe!$AI$1,I26,0)","v":" "},0]
[null," ",null,null,null,null," ",null,1,{"$f":"OFFSET(listy_slownikowe!$AG$1,I27,0)","v":" "},{"$f":"OFFSET(listy_slownikowe!$AI$1,I27,0)","v":" "},0]
[null,{"$f":"J28","v":" "},null,null,null,null," ",null,1,{"$f":"OFFSET(listy_slownikowe!$AG$1,I28,0)","v":" "},{"$f":"OFFSET(listy_slownikowe!$AI$1,I28,0)","v":" "},0]
[null," ",null,null,null,null," ",null,1,{"$f":"OFFSET(listy_slownikowe!$AG$1,I29,0)","v":" "},{"$f":"OFFSET(listy_slownikowe!$AI$1,I29,0)","v":" "},0]
[null," ",null,null,null,null," ",null,1,{"$f":"OFFSET(listy_slownikowe!$AG$1,I30,0)","v":" "},{"$f":"OFFSET(listy_slownikowe!$AI$1,I30,0)","v":" "},0]
[null," ",null,null,null,null," ",null,1,{"$f":"OFFSET(listy_slownikowe!$AG$1,I31,0)","v":" "},{"$f":"OFFSET(listy_slownikowe!$AI$1,I31,0)","v":" "},0]
[null," ",null,null,null,null," ",null,1,{"$f":"OFFSET(listy_slownikowe!$AG$1,I32,0)","v":" "},{"$f":"OFFSET(listy_slownikowe!$AI$1,I32,0)","v":" "},0]
[null," ",null,null,null,null," ",null,1,{"$f":"OFFSET(listy_slownikowe!$AG$1,I33,0)","v":" "},{"$f":"OFFSET(listy_slownikowe!$AI$1,I33,0)","v":" "},0]
[null," ",null,null,null,null," ",null,1,{"$f":"OFFSET(listy_slownikowe!$AG$1,I34,0)","v":" "},{"$f":"OFFSET(listy_slownikowe!$AI$1,I34,0)","v":" "},0]
[null," ",null,null,null,null," ",null,1,{"$f":"OFFSET(listy_slownikowe!$AG$1,I35,0)","v":" "},{"$f":"OFFSET(listy_slownikowe!$AI$1,I35,0)","v":" "},0]
[null," ",null,null,null,null," ",null,1,{"$f":"OFFSET(listy_slownikowe!$AG$1,I36,0)","v":" "},{"$f":"OFFSET(listy_slownikowe!$AI$1,I36,0)","v":" "},0]
[null," ",null,null,null,null," ",null,1,{"$f":"OFFSET(listy_slownikowe!$AG$1,I37,0)","v":" "},{"$f":"OFFSET(listy_slownikowe!$AI$1,I37,0)","v":" "},0]
[null," ",null,null,null,null," ",null,1,{"$f":"OFFSET(listy_slownikowe!$AG$1,I38,0)","v":" "},{"$f":"OFFSET(listy_slownikowe!$AI$1,I38,0)","v":" "},0]
[null," ",null,null,null,null," ",null,1,{"$f":"OFFSET(listy_slownikowe!$AG$1,I39,0)","v":" "},{"$f":"OFFSET(listy_slownikowe!$AI$1,I39,0)","v":" "},0]
[null," ",null,null,null,null," ",null,1,{"$f":"OFFSET(listy_slownikowe!$AG$1,I40,0)","v":" "},{"$f":"OFFSET(listy_slownikowe!$AI$1,I40,0)","v":" "},0]
[null," ",null,null,null,null," ",null,1,{"$f":"OFFSET(listy_slownikowe!$AG$1,I41,0)","v":" "},{"$f":"OFFSET(listy_slownikowe!$AI$1,I41,0)","v":" "},0]

{"sheet":"S_Ostoje","index":30,"n_rows":25,"n_cols":9,"rows_kept":25,"cut":false,"hidden":true,"merged":[[2,1,2,4]]}
[null,null,null,null,"Powrót"]
[]
[null,"Elementy krajobrazu rolniczego nieużytkowane rolniczo, tworzące ostoje przyrody "]
[null,"Rodzaj","Nr działki ewidencyjnej","Krótki opis \n","Obiekty objęte formami ochrony przyrody lub znajdujące się w ich granicach"]
[null,null,null,null,null,null,null,null,{"$f":"COUNTA(B5:E5)","v":0}]
[null,null,null,null,null,null,null,null,{"$f":"COUNTA(B6:E6)","v":0}]
[null,null,null,null,null,null,null,null,0]
[null,null,null,null,null,null,null,null,0]
[null,null,null,null,null,null,null,null,0]
[null,null,null,null,null,null,null,null,0]
[null,null,null,null,null,null,null,null,0]
[null,null,null,null,null,null,null,null,0]
[null,null,null,null,null,null,null,null,0]
[null,null,null,null,null,null,null,null,0]
[null,null,null,null,null,null,null,null,0]
[null,null,null,null,null,null,null,null,0]
[null,null,null,null,null,null,null,null,0]
[null,null,null,null,null,null,null,null,0]
[null,null,null,null,null,null,null,null,0]
[null,null,null,null,null,null,null,null,0]
[null,null,null,null,null,null,null,null,0]
[null,null,null,null,null,null,null,null,0]
[null,null,null,null,null,null,null,null,0]
[null,null,null,null,null,null,null,null,0]
[null,null,null,null,null,null,null,null,0]

{"sheet":"S_Uwagi","index":31,"n_rows":33,"n_cols":9,"rows_kept":33,"cut":false,"hidden":true,"merged":[[1,1,1,3]]}
[null,null,null,null,"Powrót"]
[null,"Uwagi eksperta/rolnika"]
[null,"Lp.","Kategoria","Opis \n"]
[null,1,null,null,null,null,null,null,{"$f":"COUNTA(C4:H4)","v":0}]
[null,2,null,null,null,null,null,null,{"$f":"COUNTA(C5:H5)","v":0}]
[null,3,null,null,null,null,null,null,0]
[null,4,null,null,null,null,null,null,0]
[null,5,null,null,null,null,null,null,0]
[null,6,null,null,null,null,null,null,0]
[null,7,null,null,null,null,null,null,0]
[null,8,null,null,null,null,null,null,0]
[null,9,null,null,null,null,null,null,0]
[null,10,null,null,null,null,null,null,0]
[null,11,null,null,null,null,null,null,0]
[null,12,null,null,null,null,null,null,0]
[null,13,null,null,null,null,null,null,0]
[null,14,null,null,null,null,null,null,0]
[null,15,null,null,null,null,null,null,0]
[null,16,null,null,null,null,null,null,0]
[null,17,null,null,null,null,null,null,0]
[null,18,null,null,null,null,null,null,0]
[null,19,null,null,null,null,null,null,0]
[null,20,null,null,null,null,null,null,0]
[null,21,null,null,null,null,null,null,0]
[null,22,null,null,null,null,null,null,0]
[null,23,null,null,null,null,null,null,0]
[null,24,null,null,null,null,null,null,0]
[null,25,null,null,null,null,null,null,0]
[null,26,null,null,null,null,null,null,0]
[null,27,null,null,null,null,null,null,0]
[null,28,null,null,null,null,null,null,0]
[null,29,null,null,null,null,null,null,0]
[null,30,null,null,null,null,null,null,0]

{"sheet":"listy_slownikowe","index":32,"n_rows":964,"n_cols":35,"rows_kept":964,"cut":false,"hidden":true,"merged":[]}
["cel złożenia dokumentacji","uwagi","KodWariant","WarSiedl_Nazwa","KodWariant","WarOrnito_Nazwa","Walor","WarWilg","Podłoże","Nachylenie","Ekspozycja","KodBB","UdziałPow","frekwencja ","InfHydrot","UksztTerenu","działki RSS w ciągu 5 lat","Natur_zatw","Park_N","Park_K","SiedliskoN2000","Kod","Ostoje","wariantyPROW 2007-2013","nazwa łacińska/polska","gatunki wskaźnikowe","Syntakson",null,null,"Inne_grunt_S","Obce-polska","Obce-łacińska","gatunki wskaźnikowe-łac","gat_wskaz-pl","Walor"]
["pierwsze zgłoszenie","dane wykraczające poza obecne pozycje list słownikowych ","4.1","Zmiennowilgotne łąki trzęślicowe","4.7","Ekstensywne użytkowanie na OSO","A","podłoże wysuszone, brak widocznych śladów wody","utwór organiczny (torf lub muł)","poniżej 3°","S",5,"powyżej 75% do 100%",null,null,null,null,null,null,null,null,2130,"brak",null,"klon jesionolistny Acer negundo ","Ajuga genevensis (dąbrówka kosmata (d. genewska)): D",null,"tak","pełna",null,null," "," ",null," "]
["korekta","metodyka sporządzania dokumentacji","4.2","Zalewowe łąki selernicowe i słonorośla","4.8","Ochrona siedlisk lęgowych ptaków: rycyka (a także kszyka, krwawodzioba, czajki)","B","wyczuwalna wilgoć podłoża, ale brak wody na powierzchni","zmineralizowany muł lub torf (mursz)","4-10°","SW",4,"powyżej 50% do 75%","dominant","brak","równina w dnie doliny rzecznej w strefie zalewów","<300 m n.p.m.","Brak","Brak","Barlinecko-Gorzowski Park Krajobrazowy","Nadmorskie wydmy szare (2130)",2140,"zb. wodny – jezioro","brak realizacji pakietów  4, 5 programu rolnośrodowiskowego ","bożodrzew gruczołkowaty Ailanthus altissima ","Ajuga pyramidalis (dąbrówka piramidalna): D","Aconitetum firmi","nie","uproszczona","rowy      ","Brak niepożądanych, obcych geograficznie gatunków"," ","Arnica montana ","Arnika górska "," D"]
[null,"rzadkie gatunki zwierząt","4.3","Murawy","4.9","Ochrona siedlisk lęgowych ptaków: wodniczki","C","podłoże mokre, po naciśnięciu butem woda pojawia się na powierzchni","utwór mineralny zwięzły (np. glina, pył, ił)","11-20°","W",3,"powyżej 25% do 50%","lokalny dominant","czynne rowy bez urządzeń wodnych","równina w dnie doliny rzecznej poza strefą zalewów","≥300 m n.p.m.","ADELINA PLH060084","Babiogórski Park Narodowy","Bielańsko-Tyniecki Park Krajobrazowy","Nadmorskie wrzosowiska bażynowe (2140)",6210,"zb. wodny – starorzecze","4.1./5.1  Zmiennowilgotne łąki trzęślicowe","ambrozja bylicolistna Ambrosia artemisiifolia","Alchemilla spp. (rodzaj przywrotnik): F","Acoretum calami",null,null,"oczka wodne","Ambrozja bylicolistna","Ambrosia artemisiifolia","Aster amellus ","Aster gawędka "," D"]
[null,"brak uwag","4.4","Półnaturalne łąki wilgotne","4.10","Ochrona siedlisk lęgowych ptaków: dubelta (a także kulika wielkiego)","D","teren z występującą wodą na powierzchni, w postaci pojedynczych kałuż lub całkowicie zalany","utwór mineralny luźny (np. piasek, żwir)","powyżej 20°","NW",2,"powyżej 5 % do 25%","współdominant","rowy zamulone/zarośnięte","teren pagórkowaty w dnie doliny rzecznej w strefie zalewów",null,"ALEJA PACHNICOWA PLH140054","Białowieski Park Narodowy","Bolimowski Park Krajobrazowy","Murawy kserotermiczne (Festuco-Brometea) (6210)",6230,"zb. wodny – oczko wodne > 0,1 ha","4.2./5.2.  Zalewowe łąki selernicowe i słonorośla","stokłosa spłaszczona Bromus carinatus","Allium angulosum (czosnek kątowaty): C","Adenostyletum alliariae",null,null,"zadrzewienia","Barszcz Mantegazziego","Heracleum mantegazzianum","Aster tripolium ","Aster solny "," B"]
[null,"inna","4.5","Półnaturalne łąki świeże","4.11","Ochrona siedlisk lęgowych ptaków: derkacza","E",null,"utwory kamieniste",null,"N",1,"powyżej 1% do 5% lub liczne osobniki o niższym pokryciu ","lokalny współdominant","rowy z czynnymi zastawkami ","teren pagórkowaty w dnie doliny rzecznej poza strefą zalewów ","organiczne/naturalne","ALEJE POJEZIERZA IŁAWSKIEGO PLH280051","Biebrzański Park Narodowy","Brodnicki Park Krajobrazowy","Bogate florystycznie górskie i niżowe murawy bliźniczkowe (Nardetalia - płaty bogate florystycznie) (6230)",7110,"zb. wodny – oczko wodne ≤ 0,1 ha","4.3./5.3.  Murawy","rukiewnik wschodni Bunias orientalis","Alyssum montanum (smagliczka pagórkowa (s. piaskowa)): D","Adenostylion alliariae",null,null,"inne      ","Barszcz Sosnowskiego","Heracleum sosnowskyi","Plantago maritima ","Babka nadmorska (b. morska)"," B"]
[null,null,"4.6.1","Torfowiska – wymogi obowiązkowe",null,null,"F",null,null,null,"NE","+","powyżej 0 do 1%, nieliczne osobniki","występujący obficie","rowy z nieczynnymi zastawkami ","równina poza doliną rzeczną","mineralne","ARMERIA PLH120091","Bieszczadzki Park Narodowy","Brudzeński Park Krajobrazowy","Torfowiska wysokie z roślinnością torfotwórczą (żywe)  (7110)",7210,"zb. wodny – wyrobisko potorfowe (torfianka)","4.4./5.4.  Półnaturalne łąki wilgotne","dereń rozłogowy Cornus sericea","Andromeda polifolia (modrzewnica zwyczajna (m. północna)): G","Adonido-Brachypodietum pinnati",null,null,null,"Bożodrzew gruczołkowaty","Ailanthus altissima","Plantago arenaria ","Babka piaskowa (b. gałęzista)"," D"]
[null,null,"4.6.2","Torfowiska – wymogi obowiązkowe i uzupełniające",null,null,"G",null,null,null,"E","r","pojedyncze osobniki","występujący lokalnie obficie","rów ze stałymi progami piętrzącymi","teren pagórkowaty poza doliną rzeczną","mineralne i organiczne/naturalne","BABIA GÓRA PLB120011","Drawieński Park Narodowy","Cedyński Park Krajobrazowy","Torfowiska nakredowe (Cladietum marisci, Caricetum buxbaumi, Schoenetum nigricantis) (7210)",7220,"zb. wodny – wyrobisko nie-potorfowe","4.5./5.5.  Półnaturalne łąki świeże","barszcz Mantegazziego Heracleum mantegazzianum","Androsace septentrionalis  (naradka północna): D","Aegopodion podagrariae",null,null,null,"Czeremcha amerykańska","Padus serotina","Plantago coronopus* ","Babka pierzasta "," B"]
[null,null,"5.1","Zmiennowilgotne łąki trzęślicowe",null,null,null,null,null,null,"SE",null,null,"częsty","ujęcie wody","zbocze doliny lub stok ","brak nawożenia","BABIA GÓRA PLH120001","Gorczański Park Narodowy","Chełmski Park Krajobrazowy","Źródliska wapienne ze zbiorowiskami Cratoneurion commutati (7220)",1340,"zb. wodny – staw","4.6./5.6. Torfowiska","barszcz Sosnowskiego Heracleum sosnowskyi ","Anemone sylvestris (zawilec wielkokwiatowy (z. leśny)): D","Agrimonio-Vicietum cassubicae",null,null,null,"Dąb czerwony","Quercus rubra","Plantago media ","Babka średnia "," D, F"]
[null,null,"5.2","Zalewowe łąki selernicowe i słonorośla",null,null,null,null,null,null,null,null,null,"lokalnie częsty","inne (opis)","płaskodenne obniżenie bezodpływowe","brak danych","BACHUS PLH060056","Kampinoski Park Narodowy","Chęcińsko-Kielecki Park Krajobrazowy","Śródlądowe słone łąki, pastwiska i szuwary (Glauco-Puccinellietalia część – zbiorowiska śródlądowe) (1340)",6120,"ciek – naturalny lub nieznacznie przekształcony (w tym: rzeka, potok, strumień, struga, ciek łączący jeziora, inne) ","4.7. Ekstensywne użytkowanie na OSO","łubin trwały Lupinus polyphyllus","Antennaria dioica (ukwap dwupienny): D","Agropyretalia intermedio-repentis",null,null,null,"Dereń rozłogowy","Cornus sericea","Scheuchzeria palustris ","Bagnica torfowa "," G"]
[null,null,"5.3","Murawy",null,null,null,null,null,null,null,null,null,"występujący okazjonalnie ",null,"inne (opis)",null,"BAGIENNA DOLINA DRWĘCY PLB040002","Karkonoski Park Narodowy","Chojnowski Park Krajobrazowy","Ciepłolubne, śródlądowe murawy napiaskowe (Koelerion glaucae) (6120)",7120,"źródło, wysięk","4.8.  Ochrona siedlisk lęgowych ptaków: rycyka, kszyka, krwawodzioba lub czajki","czeremcha amerykańska Padus serotina","Anthericum spp. (rodzaj pajęcznica): D","Agropyretea intermedio-repentis",null,null,null,"Klon jesionolistny","Acer negundo","Ledum palustre ","Bagno zwyczajne "," G"]
[null,null,"5.4","Półnaturalne łąki wilgotne",null,null,null,null,null,null,null,null,null,"rzadki",null,null,"I połowa maja i wcześniej","BAGIENNA DOLINA NARWI PLB200001","Magurski Park Narodowy","Ciężkowicko-Rożnowski Park Krajobrazowy","Torfowiska wysokie zdegradowane, lecz zdolne do naturalnej i stymulowanej regeneracji (7120)",1150,"mokradło z roślinnością bagienną","4.9.  Ochrona siedlisk lęgowych ptaków: wodniczki","dąb czerwony Quercus rubra","Anthyllis vulneraria (przelot pospolity): D, F","Agropyro-Honckenyion peploidis ",null,null,null,"Łubin trwały","Lupinus polyphyllus","Pimpinella saxifraga ","Biedrzeniec mniejszy "," F"]
[null,null,"5.5","Półnaturalne łąki świeże",null,null,null,null,null,null,null,null,null,"występujący sporadycznie",null,null,"II połowa maja","BAGNA CELESTYNOWSKIE PLH140022","Narwiański Park Narodowy","Cisowsko-Orłowiński Park Krajobrazowy","Zalewy i jeziora przymorskie (laguny) (1150)",5130,"zb. wodny zarastający – jezioro","4.10. Ochrona siedlisk lęgowych ptaków: dubelta lub kulika wielkiego","rdestowiec pośredni Reynoutria ×bohemica ","Arctostaphylos uva-ursi (mącznica lekarska): D","Agropyro-Rumicion crispi",null,null,null,"Nawłoć kanadyjska","Solidago canadensis","Pimpinella major  ","Biedrzeniec wielki "," F"]
[null,null,"5.6.1","Torfowiska – wymogi obowiązkowe",null,null,null,null,null,null,null,null,null,null,null,null,"I połowa czerwca","BAGNA IZBICKIE PLH220001","Ojcowski Park Narodowy","Ciśniańsko-Wetliński Park Krajobrazowy","Zarośla jałowca pospolitego na wrzosowiskach lub murawach nawapiennych (5130)",1310,"zb. wodny zarastający – starorzecze","4.11. Ochrona siedlisk lęgowych ptaków: derkacza","rdestowiec ostrokończysty Reynoutria japonica","Armeria maritima (zawciąg pospolity): D","Agrostietum coarctatae (vinealis)",null,null,null,"Nawłoć późna (n. olbrzymia)","Solidago gigantea","Nardus stricta ","Bliźniczka psia (b. wyprostowana)"," D"]
[null,null,"5.6.2","Torfowiska – wymogi obowiązkowe i uzupełniające",null,null,null,null,null,null,null,null,null,null,null,null,"II połowa czerwca","BAGNA NIETLICKIE PLB280001","Park Narodowy Bory Tucholskie","Czarnorzecko-Strzyżowski Park Krajobrazowy","Śródlądowe błotniste solniska z solirodkiem (Salicornion ramosissimae) (1310)",1330,"zb. wodny zarastający – oczko wodne",null,"rdestowiec sachaliński Reynoutria sachalinensis ","Arnica montana (arnika górska): D","Airetum praecocis",null,null,null,"Nawłoć wąskolistna","Solidago graminifolia","Helodium blandowii ","Błotniszek wełnisty "," G"]
[null,null,null,null,null,null,null,null,null,null,null,null,null,null,null,null,"I połowa lipca","BAGNA OROŃSKIE PLH140023","Park Narodowy Gór Stołowych","Dłubniański Park Krajobrazowy","Solniska nadmorskie (Glauco-Puccinellietalia część - zbiorowiska nadmorskie) (1330)",6440,"zb. wodny zarastający – wyrobisko potorfowe (torfianka)",null,"robinia akacjowa Robinia pseudoacacia","Arrhenatherum elatius (rajgras wyniosły): F","Airo caryophylleae-Festucetum ovinae",null,null,null,"Rdestowiec ostrokończysty","Reynoutria japonica","Tomentypnum nitens ","Błyszcze włoskowate "," G"]
[null,null,null,null,null,null,null,null,null,null,null,null,null,null,null,null,"II połowa lipca","BAGNA ROZWAROWSKIE PLB320001","Park Narodowy Ujście Warty","Drawski Park Krajobrazowy","Łąki selemicowe (Cnidion dubii) (6440)",6510,"zb. wodny zarastający – wyrobisko nie-potorfowe",null,"róża pomarszczona Rosa rugosa","Asperula cynanchica (marzanka pagórkowa): D","Alchemillo-Festucetum rubrae",null,null,null,"Rdestowiec pośredni","Reynoutria ×bohemica","Menyanthes trifoliata ","Bobrek trójlistkowy "," G"]
[null,null,null,null,null,null,null,null,null,null,null,null,null,null,null,null,"I połowa sierpnia","BAGNO BRUCH KOŁO PYRZOWIC PLH240035","Pieniński Park Narodowy","Gostynińsko-Włocławski Park Krajobrazowy","Niżowe i górskie świeże łąki użytkowane ekstensywnie (Arrhenatherion elatioris) (6510)",6520,"zb. wodny zarastający – staw",null,"rudbekia naga Rudbeckia laciniata","Asperula tinctoria (marzanka barwierska): D","Alliario-Chaerophylletum temuli",null,null,null,"Rdestowiec sachaliński","Reynoutria sachalinensis","Geranium palustre ","Bodziszek błotny "," E"]
[null,null,null,null,null,null,null,null,null,null,null,null,null,null,null,null,"II połowa sierpnia","BAGNO BUBNÓW PLB060001","Poleski Park Narodowy","Górznieńsko-Lidzbarski Park Krajobrazowy","Górskie łąki konietlicowe użytkowane ekstensywnie (Polygono-Trisetion) (6520)",3150,"kamieniec w korycie potoku górskiego",null,"szczaw omszony Rumex confertus","Aster amellus (aster gawędka): D","Alliarion",null,null,null,"Robinia akacjowa","Robinia pseudoacacia","Geranium sanguineum ","Bodziszek czerwony "," D"]
[null,null,null,null,null,null,null,null,null,null,null,null,null,null,null,null,"I połowa września","BAGNO CAŁOWANIE PLB140011","Roztoczański Park Narodowy","Gryżyński Park Krajobrazowy","Starorzecza i naturalne eutroficzne zbiorniki wodne ze zbiorowiskami z Nympheion, Potamion (3150)",7230,"kamieniec śródpolny (usypisko kamieni zebranych z pól)",null,"nawłoć kanadyjska Solidago canadensis ","Aster tripolium (aster solny): B","Alopecuretum pratensis",null,null,null,"Róża pomarszczona","Rosa rugosa","Geranium sylvaticum ","Bodziszek leśny "," F"]
[null,null,null,null,null,null,null,null,null,null,null,null,null,null,null,null,"II połowa września i później","BAGNO CAŁOWANIE PLH140001","Słowiński Park Narodowy","Iński Park Krajobrazowy","Górskie i nizinne torfowiska zasadowe o charakterze młak, turzycowisk i mechowisk (7230)",6150,"głazowisko, głaz narzutowy",null,"nawłoć późna (n. olbrzymia) Solidago gigantea ","Astragalus spp.  (rodzaj traganek): D","Alopecurion pratensis",null,null,null,"Rudbekia naga","Rudbeckia laciniata","Geranium pratense ","Bodziszek łąkowy "," F"]
[null,null,null,null,null,null,null,null,null,null,null,null,null,null,null,null,"brak użytkowania kośnego","BAGNO CHLEBOWO PLH300016","Świętokrzyski Park Narodowy","Jaśliski Park Krajobrazowy","Wysokogórskie murawy acidofilne (Juncion trifidi) i bezwapienne wyleżyska śnieżne (Salicion herbaceae) (6150)",7150,"rumowisko skalne (rozwalisko skalne, gołoborze, piarg)",null,"nawłoć wąskolistna Solidago graminifolia ","Astrantia major (jarzmianka większa): F","Ammophiletalia",null,null,null,"Rukiewnik wschodni","Bunias orientalis","Vaccinium uliginosum ","Borówka bagienna (pijanica)"," G"]
[null,null,null,null,null,null,null,null,null,null,null,null,null,null,null,null,"brak danych","BAGNO I JEZIORO CIEMINO PLH320036","Tatrzański Park Narodowy","Jeleniowski Park Krajobrazowy","Obniżenia na podłożu torfowym z roślinnością ze związku Rhynchosporion (7150)",7140,"wychodnia skalna, ostaniec",null,"tawuła kutnerowata Spiraea tomentosa ","Atriplex prostrata var. salina (łoboda oszczepowata): B","Ammophiletea",null,null,null,"Stokłosa spłaszczona","Bromus carinatus","Betonica officinalis ","Bukwica zwyczajna (b. lekarska)"," A"]
[null,null,null,null,null,null,null,null,null,null,null,null,null,null,null,null,null,"BAGNO PULWY PLB140015","Wielkopolski Park Narodowy","Kaszubski Park Krajobrazowy","Torfowiska przejściowe i trzęsawiska (7140)",6410,"skarpa, stromy stok, urwisko, ściana skalna, uskok",null,"inny gatunek niepożądany, obcy geograficznie:","Aulacomnium palustre (próchniczek błotny): G","Ammophilion borealis",null,null,null,"Szczaw omszony","Rumex confertus","Centaurium littorale ","Centuria nadbrzeżna "," B"]
[null,null,null,null,null,null,null,null,null,null,null,null,null,null,null,null,"bydło","BAGNO W KORZONKU PLH240029","Wigierski Park Narodowy","Kazimierski Park Krajobrazowy","Zmiennowilgotne łąki trzęślicowe (Molinion) (6410)",2160,"wydma, pole piasków przewianych",null,"brak niepożądanych, obcych geograficznie gatunków","Baeothryon alpinum (wełnianeczka alpejska): G","Andromedo polifoliae-Sphagnetum magellanici ",null,null,null,"Tawuła kutnerowata","Spiraea tomentosa","Centaurea phrygia ","Chaber austriacki (ch. frygijski)"," F"]
[null,null,null,null,null,null,null,null,null,null,null,null,null,null,null,null,"konie","BAGNO WIZNA PLB200005","Woliński Park Narodowy","Kozienicki Park Krajobrazowy","Nadmorskie wydmy z zaroślami rokitnika (2160)",2170,"wąwóz, parów, jar",null,null,"Baeothryon cespitosum (wełnianeczka darniowa): G","Angelico-Cirsietum oleracei (Cirsio-Polygonetum bistortae)",null,null,null,"Inny gatunek niepożądany, obcy geograficznie"," ","Centaurea pseudophrygia ","Chaber perukowy "," F"]
[null,null,null,null,null,null,null,null,null,null,null,null,null,null,null,null,"owce","BARANIE GÓRY PLH140002",null,"Kozłowiecki Park Krajobrazowy","Nadmorskie wydmy z zaroślami wierzby piaskowej (2170)",4030,"zadrzewienie/zakrzewienie – powierzchniowe ≥ 0,3 ha",null,null,"Betonica officinalis (bukwica zwyczajna (b. lekarska)): A","Anthriscetum sylvestris",null,null,null,null,null,"Chamaedaphne calyculata ","Chamedafne północna "," G"]
[null,null,null,null,null,null,null,null,null,null,null,null,null,null,null,null,"inne","BARANÓW PLH300035",null,"Kozubowski Park Krajobrazowy","Suche wrzosowiska (Calluno-Genistion, Pohlio-Callunion, Calluno-Arctostaphylion) (4030)",4010,"zadrzewienie/zakrzewienie – powierzchniowe 0,1–0,3 ha",null,null,"Blysmus rufus* (ostrzew rudy): B","Anthyllidi-Trifolietum montani",null,null,null,null,null,"Succisa pratensis ","Czarcikęs łąkowy "," A"]
[null,null,null,null,null,null,null,null,null,null,null,null,null,null,null,null,"brak wypasu","BARŁOŻNIA WOLSZTYŃSKA PLH300028",null,"Krajeński Park Krajobrazowy","Wilgotne wrzosowiska z wrzoścem bagiennym (Ericion tetralix) (4010)",2330,"zadrzewienie/zakrzewienie – kępowe 0,02–0,1 ha",null,null,"Bolboschoenus maritimus* (sitowiec nadmorski): B","Arctietum nemorosi",null,null,null,null,null,"Succisella inflexa ","Czarcikęsik kluka "," A, C, E"]
[null,null,null,null,null,null,null,null,null,null,null,null,null,null,null,null,"brak danych","BEDNARKA PLH120033",null,"Krasnobrodzki Park Krajobrazowy","Wydmy śródlądowe z murawami napiaskowymi (2330)",6430,"zadrzewienie/zakrzewienie – grupowe < 0,02 ha",null,null,"Bothriochloa ischaemum (palczatka kosmata): D","Arctio-Artemisietum vulgaris",null,null,null,null,null,"Calla palustris ","Czermień błotna "," G"]
[null,null,null,null,null,null,null,null,null,null,null,null,null,null,null,null,null,"BESKID MAŁY PLH240023",null,"Krzczonowski Park Krajobrazowy","Ziołorośla górskie (Adenostylion alliariae) i ziołorośla nadrzeczne (Convolvuletalia sepium) (6430)","65XX","zadrzewienie/zakrzewienie – pojedyncze – drzewo",null,null,"Botrychium spp. (rodzaj podejźrzon): D","Arction lappae",null,null,null,null,null,"Scleranthus perennis ","Czerwiec trwały "," D"]
[null,null,null,null,null,null,null,null,null,null,null,null,null,null,null,null,"<1 DJP","BESKID NISKI PLB180002",null,"Krzesiński Park Krajobrazowy","Eutroficzne łąki wilgotne (zw. Calthion) (65XX)",3130,"zadrzewienie/zakrzewienie – pojedyncze – drzewo–pomnik przyrody",null,null,"Brachypodium pinnatum (kłosownica pierzasta): D","Arctostaphylo-Callunetum",null,null,null,null,null,"Lycaena helle ","Czerwończyk fioletek "," E"]
[null,null,null,null,null,null,null,null,null,null,null,null,null,null,null,null,"≥1 DJP","BESKID ŚLĄSKI PLH240005",null,"Księżański Park Krajobrazowy","Brzegi lub osuszane dna zbiorników wodnych ze zbiorowiskami z Littorelletea, Isoëto-Nanojuncetea (3130)","40A0","zadrzewienie/zakrzewienie – pojedyncze – krzew",null,null,"Bupleurum tenuissimum var. salina* (przewiercień cienki): B","Armerietum halleri",null,null,null,null,null,"Allium angulosum ","Czosnek kątowaty "," C"]
[null,null,null,null,null,null,null,null,null,null,null,null,null,null,null,null,"brak wypasu","BESKID ŻYWIECKI PLB240002",null,"Lednicki Park Krajobrazowy","Zarośla wisienki stepowej Prunetum fructinosae (40A0)",2110,"zadrzewienie/zakrzewienie – pasowe (kilkurzędowe) o szer. 10–20 m",null,null,"Calla palustris (czermień błotna): G","Armerion halleri",null,null,null,null,null,"Stachys germanica ","Czyściec kosmaty "," D"]
[null,null,null,null,null,null,null,null,null,null,null,null,null,null,null,null,"brak danych","BESKID ŻYWIECKI PLH240006",null,"Łagowski Park Krajobrazowy","Inicjalne stadia nadmorskich wydm białych (2110)",2120,"zadrzewienie/zakrzewienie – pasowe (kilkurzędowe) o szer. ≤ 10 m",null,null,"Calluna vulgaris (wrzos zwyczajny): D","Armerion maritimae",null,null,null,null,null,"Stachys recta ","Czyściec prosty "," D"]
[null,null,null,null,null,null,null,null,null,null,null,null,null,null,null,null,null,"BĘDLEWO-BIECZYNY PLH300039",null,"Łomżyński Park Krajobrazowy Doliny Narwi","Nadmorskie wydmy białe (Elymo-Ammophiletum) (2120)",2190,"zadrzewienie/zakrzewienie – żywopłot o szer. 10–20 m",null,null,"Caltha palustris (knieć błotna): E","Arrhenatheretalia elatioris",null,null,null,null,null,"Ajuga genevensis ","Dąbrówka kosmata (d. genewska)"," D"]
[null,null,null,null,null,null,null,null,null,null,null,null,null,null,null,null,"rzadziej niż raz na dwa lata","BIAŁA GÓRA PLH120061",null,"Mazowiecki Park Krajobrazowy","Wilgotne zagłębienia międzywydmowe (2190)",3270,"zadrzewienie/zakrzewienie – żywopłot o szer. ≤ 10 m",null,null,"Campanula bononiensis (dzwonek boloński): D","Arrhenatheretum elatioris",null,null,null,null,null,"Ajuga pyramidalis ","Dąbrówka piramidalna "," D"]
[null,null,null,null,null,null,null,null,null,null,null,null,null,null,null,null,"raz na dwa lata","BIAŁA LĄDECKA PLH020035",null,"Mazurski Park Krajobrazowy","Zalewane muliste brzegi rzek (3270)",6130,"zadrzewienie/zakrzewienie – liniowe (rzędowe) z drzew",null,null,"Campanula glomerata (dzwonek skupiony): D","Arrhenatherion elatioris",null,null,null,null,null,"Cinclidium stygium ","Drabinowiec mroczny "," G"]
[null,null,null,null,null,null,null,null,null,null,null,null,null,null,null,null,"jeden raz w roku","BIAŁA PLH220016",null,"Nadbużański Park Krajobrazowy","Murawy galmanowe (6130)",null,"zadrzewienie/zakrzewienie – liniowe (rzędowe) z drzew i krzewów",null,null,"Campanula patula (dzwonek rozpierzchły): F","Artemisienea vulgaris",null,null,null,null,null,"Verbascum phoeniceum ","Dziewanna fioletowa "," D"]
[null,null,null,null,null,null,null,null,null,null,null,null,null,null,null,null,"dwa razy w roku","BIAŁA TARNOWSKA PLH120090",null,"Nadmorski Park Krajobrazowy","Brak siedlisk Natura 2000",null,"zadrzewienie/zakrzewienie – liniowe (rzędowe) z krzewów",null,null,"Campanula serrata (dzwonek piłkowany (dz. lancetowaty)): D, F","Artemisietalia vulgaris",null,null,null,null,null,"Parnassia palustris ","Dziewięciornik błotny "," A, G"]
[null,null,null,null,null,null,null,null,null,null,null,null,null,null,null,null,"częściej niż dwa razy w roku","BIAŁE BŁOTA PLH140038",null,"Nadnidziański Park Krajobrazowy",null,null,"bobrowa tama, żeremie",null,null,"Campanula sibirica (dzwonek syberyjski): D","Artemisietea vulgaris",null,null,null,null,null,"Carlina acaulis ","Dziewięćsił bezłodygowy "," D"]
[null,null,null,null,null,null,null,null,null,null,null,null,null,null,null,null,"brak użytkowania kośnego","BIAŁE BŁOTO PLH220002",null,"Nadwarciański Park Krajobrazowy",null,null,"bobrowe rozlewisko",null,null,"Campylium stellatum (złocieniec gwiazdkowaty): G","Artemisio-Tanacetetum vulgaris",null,null,null,null,null,"Hypericum maculatum ","Dziurawiec czteroboczny (d. czterograniasty)"," D"]
[null,null,null,null,null,null,null,null,null,null,null,null,null,null,null,null,"brak danych","BIAŁKA LELOWSKA PLH240031",null,"Nadwieprzański Park Krajobrazowy",null,null,"miedza o szer. 1–20 m",null,null,"Cardaminopsis halleri (rzeżusznik (gęsiówka) hallera): F","Arunco-Doronicetum austriaci",null,null,null,null,null,"Campanula bononiensis ","Dzwonek boloński "," D"]
[null,null,null,null,null,null,null,null,null,null,null,null,null,null,null,null,null,"BIAŁOGÓRA PLH220003",null,"Park Krajobrazowy Beskidu Małego",null,null,"inne (....)",null,null,"Carex buxbaumii (turzyca buxbauma): G","Asperulo-Calystegietum sepium",null,null,null,null,null,"Campanula serrata ","Dzwonek piłkowany (dz. lancetowaty)"," D, F"]
[null,null,null,null,null,null,null,null,null,null,null,null,null,null,null,null,"kośne","BIEDRUSKO PLH300001",null,"Park Krajobrazowy Beskidu Śląskiego",null,null,null,null,null,"Carex canescens (turzyca siwa): G","Asteretea tripolium",null,null,null,null,null,"Campanula patula ","Dzwonek rozpierzchły "," F"]
[null,null,null,null,null,null,null,null,null,null,null,null,null,null,null,null,"pastwiskowe","BIELAWA I BORY BAŻYNOWE PLH220063",null,"Park Krajobrazowy Chełmy",null,null,null,null,null,"Carex caryophyllea (turzyca wiosenna): D","Athyrietum distentifolii",null,null,null,null,null,"Campanula glomerata ","Dzwonek skupiony "," D"]
[null,null,null,null,null,null,null,null,null,null,null,null,null,null,null,null,"kośno-pastwiskowe","BIELAWSKIE BŁOTA PLB220010",null,"Park Krajobrazowy Cysterskie Kompozycje Krajobrazowe Rud Wielkich",null,null,null,null,null,"Carex cespitosa (turzyca darniowa): E","Atropetalia",null,null,null,null,null,"Campanula sibirica ","Dzwonek syberyjski "," D"]
[null,null,null,null,null,null,null,null,null,null,null,null,null,null,null,null,"brak użytkowania","BIEŃKOWO PLH280009",null,"Park Krajobrazowy Dolina Bystrzycy",null,null,null,null,null,"Carex chordorrhiza (turzyca strunowa): G","Atropetum belladonnae",null,null,null,null,null,"Viola pumila ","Fiołek drobny "," C"]
[null,null,null,null,null,null,null,null,null,null,null,null,null,null,null,null,"brak danych","BIERUTÓW PLH020065",null,"Park Krajobrazowy Dolina Jezierzycy",null,null,null,null,null,"Carex davalliana (turzyca davalla): A, G","Atropion belladonnae",null,null,null,null,null,"Viola stagnina ","Fiołek mokradłowy "," C"]
[null,null,null,null,null,null,null,null,null,null,null,null,null,null,null,null,null,"BIESZCZADY PLC180001",null,"Park Krajobrazowy Dolina Słupi",null,null,null,null,null,"Carex diandra (turzyca obła): G","Bartsio-Caricetum nigrae",null,null,null,null,null,"Viola epipsila ","Fiołek torfowy "," G"]
[null,null,null,null,null,null,null,null,null,null,null,null,null,null,null,null,"tak","BŁOTA KŁÓCIEŃSKIE PLH040031",null,"Park Krajobrazowy Dolinki Krakowskie",null,null,null,null,null,"Carex dioica (turzyca dwupienna): G","Berberidion",null,null,null,null,null,"Viola elatior ","Fiołek wyniosły "," C"]
[null,null,null,null,null,null,null,null,null,null,null,null,null,null,null,null,"nie","BŁOTA RAKUTOWSKIE PLB040001",null,"Park Krajobrazowy Doliny Baryczy",null,null,null,null,null,"Carex echinata (turzyca gwiazdkowata): G","Berteroetum incanae",null,null,null,null,null,"Lychnis flos-cuculi ","Firletka poszarpana "," E"]
[null,null,null,null,null,null,null,null,null,null,null,null,null,null,null,null,null,"BOBOLICKIE JEZIORA LOBELIOWE PLH320001",null,"Park Krajobrazowy Doliny Bobru",null,null,null,null,null,"Carex ericetorum (turzyca wrzosowiskowa): D","Betulo-Adenostyletea",null,null,null,null,null,"Prunella grandiflora ","Głowienka wielkokwiatowa "," D"]
[null,null,null,null,null,null,null,null,null,null,null,null,null,null,null,null,null,"BOROWA GÓRA PLH060070",null,"Park Krajobrazowy Doliny Dolnej Odry",null,null,null,null,null,"Carex flava s.l. (turzyca żółta): G","Bidentetalia tripartiti",null,null,null,null,null,"Pedicularis palustris ","Gnidosz błotny "," E, G"]
[null,null,null,null,null,null,null,null,null,null,null,null,null,null,null,null,null,"BOROWINA PLH080030",null,"Park Krajobrazowy Doliny Dolnej Wisły",null,null,null,null,null,"Carex hartmanii (turzyca hartmana): A","Bidentetea tripartiti",null,null,null,null,null,"Pedicularis sceptrum-carolinum ","Gnidosz królewski "," G"]
[null,null,null,null,null,null,null,null,null,null,null,null,null,null,null,null,null,"BORY BABIMOJSKIE PLH080063",null,"Park Krajobrazowy Doliny Sanu",null,null,null,null,null,"Carex heleonastes (turzyca torfowa): G","Bidention tripartiti",null,null,null,null,null,"Pedicularis sylvatica ","Gnidosz rozesłany "," D"]
[null,null,null,null,null,null,null,null,null,null,null,null,null,null,null,null,null,"BORY BAGIENNE I TORFOWISKA KARASKA PLH140046",null,"Park Krajobrazowy Gór Opawskich",null,null,null,null,null,"Carex hostiana (turzyca hosta): G","Blysmo-Juncetum compressi",null,null,null,null,null,"Pseudorchis albida ","Gołek białawy "," D"]
[null,null,null,null,null,null,null,null,null,null,null,null,null,null,null,null,null,"BORY BAGIENNE NAD BUKOWĄ PLH180048",null,"Park Krajobrazowy Gór Słonnych",null,null,null,null,null,"Carex lasiocarpa (turzyca nitkowata): G","Bryo-Saginetum procumbentis",null,null,null,null,null,"Gentiana cruciata ","Goryczka krzyżowa "," D"]
[null,null,null,null,null,null,null,null,null,null,null,null,null,null,null,null,null,"BORY CHROBOTKOWE KARASKA PLH140047",null,"Park Krajobrazowy Gór Sowich",null,null,null,null,null,"Carex limosa (turzyca bagienna): G","Bryo-Saginetum saginoidis",null,null,null,null,null,"Gentiana pnemonanthe ","Goryczka wąskolistna "," A, D"]
[null,null,null,null,null,null,null,null,null,null,null,null,null,null,null,null,null,"BORY CHROBOTKOWE KOŁO BRZÓZKI PLH080031",null,"Park Krajobrazowy Góra Św. Anny",null,null,null,null,null,"Carex nigra (turzyca pospolita): E","Bupleuro-Calamagrostietum arundinaceae",null,null,null,null,null,"Gentiana verna ","Goryczka wiosenna "," D"]
[null,null,null,null,null,null,null,null,null,null,null,null,null,null,null,null,null,"BORY CHROBOTKOWE KOŁO BYTOMCA PLH080048",null,"Park Krajobrazowy im. Gen. Dezyderego Chłapowskiego",null,null,null,null,null,"Carex panicea (turzyca prosowata): A","Calamagrostietalia villosae",null,null,null,null,null,"Peucedanum oreoselinum ","Gorysz pagórkowy "," D"]
[null,null,null,null,null,null,null,null,null,null,null,null,null,null,null,null,null,"BORY CHROBOTKOWE PUSZCZY NOTECKIEJ PLH080032",null,"Park Krajobrazowy Lasy Janowskie",null,null,null,null,null,"Carex pauciflora (turzyca skąpokwiatowa): G","Calamagrostietum epigeji",null,null,null,null,null,"Peucedanum cervaria ","Gorysz siny "," D"]
[null,null,null,null,null,null,null,null,null,null,null,null,null,null,null,null,null,"BORY DOLNOŚLĄSKIE PLB020005",null,"Park Krajobrazowy Lasy Nad Górną Liswartą",null,null,null,null,null,"Carex pilulifera (turzyca pigułkowata): D","Calamagrostietum neglectae (Calamagrostietum strictae)",null,null,null,null,null,"Petrorhagia prolifera ","Goździcznik wycięty "," D"]
[null,null,null,null,null,null,null,null,null,null,null,null,null,null,null,null,null,"BORY NIEMODLIŃSKIE PLH160005",null,"Park Krajobrazowy Łuk Mużakowa",null,null,null,null,null,"Carex rostrata (turzyca dzióbkowata): G","Calamagrostietum villosae (tatricum)",null,null,null,null,null,"Dianthus carthusianorum ","Goździk kartuzek "," D"]
[null,null,null,null,null,null,null,null,null,null,null,null,null,null,null,null,null,"BORY TUCHOLSKIE PLB220009",null,"Park Krajobrazowy Mierzeja Wiślana",null,null,null,null,null,"Carex tomentosa (turzyca filcowata): A","Calamagrostion",null,null,null,null,null,"Dianthus deltoides ","Goździk kropkowany (g. widełkowaty)"," D"]
[null,null,null,null,null,null,null,null,null,null,null,null,null,null,null,null,null,"BRONISZÓW PLH080033",null,"Park Krajobrazowy Międzyrzecza Warty i Widawki",null,null,null,null,null,"Carlina acaulis (dziewięćsił bezłodygowy): D","Calliergo sarmentosi-Eriophoretum angustifolii ",null,null,null,null,null,"Dianthus arenarius ","Goździk piaskowy "," D"]
[null,null,null,null,null,null,null,null,null,null,null,null,null,null,null,null,null,"BROŻEK PLH080051",null,"Park Krajobrazowy Nadgoplański Park Tysiąclecia",null,null,null,null,null,"Carum carvi (kminek zwyczajny): F","Calluno-Arctostaphylion",null,null,null,null,null,"Dianthus superbus ","Goździk pyszny "," A"]
[null,null,null,null,null,null,null,null,null,null,null,null,null,null,null,null,null,"BRÓDEK PLH060085",null,"Park Krajobrazowy Orlich Gniazd",null,null,null,null,null,"Centaurea phrygia (chaber austriacki (ch. frygijski)): F","Calluno-Genistetum",null,null,null,null,null,"Gymnadenia conopsea ","Gółka długoostrogowa "," F"]
[null,null,null,null,null,null,null,null,null,null,null,null,null,null,null,null,null,"BRZEZICZNO PLH060076",null,"Park Krajobrazowy Pasma Brzanki",null,null,null,null,null,"Centaurea pseudophrygia (chaber perukowy): F","Calluno-Genistion",null,null,null,null,null,"Lathyrus palustris ","Groszek błotny "," C, E"]
[null,null,null,null,null,null,null,null,null,null,null,null,null,null,null,null,null,"BRZEŹNICKA WĘGORZA PLH320002",null,"Park Krajobrazowy Podlaski Przełom Bugu",null,null,null,null,null,"Centaurium littorale (centuria nadbrzeżna): B","Calluno-Nardetum strictae",null,null,null,null,null,"Lathyrus pratensis ","Groszek łąkowy (g. żółty)"," F"]
[null,null,null,null,null,null,null,null,null,null,null,null,null,null,null,null,null,"BUCZYNA GAŁKOWSKA PLH100016",null,"Park Krajobrazowy Pogórza Przemyskiego",null,null,null,null,null,"Cetraria spp. (rodzaj płucnica): D","Calluno-Sarothamnetum",null,null,null,null,null,"Cynosurus cristatus ","Grzebienica pospolita "," F"]
[null,null,null,null,null,null,null,null,null,null,null,null,null,null,null,null,null,"BUCZYNA JANINOWSKA PLH100017",null,"Park Krajobrazowy Pojezierza Iławskiego",null,null,null,null,null,"Chamaedaphne calyculata (chamedafne północna): G","Calluno-Ulicetalia",null,null,null,null,null,"Stellaria crassifolia ","Gwiazdnica grubolistna "," G"]
[null,null,null,null,null,null,null,null,null,null,null,null,null,null,null,null,null,"BUCZYNA SZPROTAWSKO-PIOTROWICKA PLH080007",null,"Park Krajobrazowy Pojezierze Łęczyńskie",null,null,null,null,null,"Chara spp. (rodzaj ramienice): G","Calthion palustris",null,null,null,null,null,"Hamatocaulis vernicosus ","Haczykowiec błyszczący "," G"]
[null,null,null,null,null,null,null,null,null,null,null,null,null,null,null,null,null,"BUCZYNA W DŁUGIEJ GOŚLINIE PLH300056",null,"Park Krajobrazowy Promno",null,null,null,null,null,"Cinclidium stygium (drabinowiec mroczny): G","Calystegio-Epilobietum hirsuti",null,null,null,null,null,"Danthonia decumbens ","Izgrzyca przyziemna "," D"]
[null,null,null,null,null,null,null,null,null,null,null,null,null,null,null,null,null,"BUCZYNY ŁAGOWSKO-SULĘCIŃSKIE PLH080008",null,"Park Krajobrazowy Puszcza Zielonka",null,null,null,null,null,"Cirsium acaule (ostrożeń krótkołodygowy): D","Calystegio-Eupatorietum",null,null,null,null,null,"Juniperus communis ","Jałowiec pospolity "," D"]
[null,null,null,null,null,null,null,null,null,null,null,null,null,null,null,null,null,"BUCZYNY W SZYPOWICACH I LAS NIWISKI PLH240034",null,"Park Krajobrazowy Puszczy Knyszyńskiej im. Profesora Witolda Sławińskiego",null,null,null,null,null,"Cirsium canum (ostrożeń siwy): A, E","Calystego-Angelicetum archangelicae litoralis",null,null,null,null,null,"Samolus valerandi* ","Jarnik solankowy "," B"]
[null,null,null,null,null,null,null,null,null,null,null,null,null,null,null,null,null,"BUDWITY PLH280010",null,"Park Krajobrazowy Puszczy Rominckiej",null,null,null,null,null,"Cirsium helenioides (ostrożeń dwubarwny (o. różnolistny)): E, F","Campanulo glomeratae-Geranietum sylvatici",null,null,null,null,null,"Astrantia major ","Jarzmianka większa "," F"]
[null,null,null,null,null,null,null,null,null,null,null,null,null,null,null,null,null,"BUKOWY LAS GÓRKI PLH320062",null,"Park Krajobrazowy Puszczy Solskiej",null,null,null,null,null,"Cirsium oleraceum (ostrożeń warzywny): E","Campanulo serratae-Agrostietum",null,null,null,null,null,"Ranunculus polyanthemos ","Jaskier wielokwiatowy "," F"]
[null,null,null,null,null,null,null,null,null,null,null,null,null,null,null,null,null,"BUNKIER W OLIWIE PLH220055",null,"Park Krajobrazowy Stawki",null,null,null,null,null,"Cirsium palustre (ostrożeń błotny): E","Campanulo-Vicietum tenuifoliae",null,null,null,null,null,"Leucanthemum vulgare ","Jastrun  (złocień)"," F"]
[null,null,null,null,null,null,null,null,null,null,null,null,null,null,null,null,null,"BYSTRZYCA JAKUBOWICKA PLH060096",null,"Park Krajobrazowy Sudetów Wałbrzyskich",null,null,null,null,null,"Cirsium pannonicum (ostrożeń pannoński): D","Campylio stellati-Caricetum lasiocarpae",null,null,null,null,null,"Ligularia sibirica ","Języczka syberyjska "," G"]
[null,null,null,null,null,null,null,null,null,null,null,null,null,null,null,null,null,"BYSTRZYNO PLH320061",null,"Park Krajobrazowy Ujście Warty",null,null,null,null,null,"Cirsium rivulare (ostrożeń łąkowy): E","Campylio stellati-Trichophoretum alpini ",null,null,null,null,null,"Cladium mariscus ","Kłoć wiechowata "," G"]
[null,null,null,null,null,null,null,null,null,null,null,null,null,null,null,null,null,"BYTNICA PLH080034",null,"Park Krajobrazowy Wysoczyzny Elbląskiej",null,null,null,null,null,"Cladium mariscus (kłoć wiechowata): G","Cardario drabae-Agropyretum repentis",null,null,null,null,null,"Brachypodium pinnatum ","Kłosownica pierzasta "," D"]
[null,null,null,null,null,null,null,null,null,null,null,null,null,null,null,null,null,"BYTOWSKIE JEZIORA LOBELIOWE PLH220005",null,"Park Krajobrazowy Wzgórz Dylewskich",null,null,null,null,null,"Cladonia spp. (rodzaj chrobotek): D","Carduetum acanthoidis",null,null,null,null,null,"Carum carvi ","Kminek zwyczajny "," F"]
[null,null,null,null,null,null,null,null,null,null,null,null,null,null,null,null,null,"CEDRON PLH120060",null,"Park Krajobrazowy Wzniesień Łódzkich",null,null,null,null,null,"Cnidium dubium (selernica żyłkowana): C","Caricetalia curvulae",null,null,null,null,null,"Caltha palustris ","Knieć błotna "," E"]
[null,null,null,null,null,null,null,null,null,null,null,null,null,null,null,null,null,"CHEŁMSKIE TORFOWISKA WĘGLANOWE PLB060002",null,"Poleski Park Krajobrazowy",null,null,null,null,null,"Coeloglossum viride (ozorka zielona): D","Caricetalia davallianae",null,null,null,null,null,"Lotus tenuis ","Komonica wąskolistna "," B"]
[null,null,null,null,null,null,null,null,null,null,null,null,null,null,null,null,null,"CHŁODNIA W CIESZKOWIE PLH020001",null,"Południoworoztoczański Park Krajobrazowy",null,null,null,null,null,"Colchicum autumnale (zimowit jesienny): E, F","Caricetalia nigrae",null,null,null,null,null,"Trifolium rubens ","Koniczyna długokłosowa "," D"]
[null,null,null,null,null,null,null,null,null,null,null,null,null,null,null,null,null,"CHMIEL PLH060001",null,"Popradzki Park Krajobrazowy",null,null,null,null,null,"Comarum palustre (siedmiopalecznik błotny): G","Caricetum acutiformis",null,null,null,null,null,"Trifolium dubium ","Koniczyna drobnogłówkowa "," F"]
[null,null,null,null,null,null,null,null,null,null,null,null,null,null,null,null,null,"CHODÓW–FALNIÓW PLH120063",null,"Powidzki Park Krajobrazowy",null,null,null,null,null,"Corynephorus canescens (leszczyna długookrywowa (lambertówka)): D","Caricetum appropinquatae",null,null,null,null,null,"Trifolium montanum ","Koniczyna pagórkowa "," A, D, F"]
[null,null,null,null,null,null,null,null,null,null,null,null,null,null,null,null,null,"CIECHOCINEK PLH040019",null,"Przedborski Park Krajobrazowy",null,null,null,null,null,"Cratoneuron filicinum (żebrowiec paprociowaty): G","Caricetum buxbaumii",null,null,null,null,null,"Trisetum flavescens ","Konietlica łąkowa "," F"]
[null,null,null,null,null,null,null,null,null,null,null,null,null,null,null,null,null,"CIESZYŃSKIE ŹRÓDŁA TUFOWE PLH240001",null,"Przemęcki Park Krajobrazowy",null,null,null,null,null,"Crepis mollis s.l. (pępawa miękka): F","Caricetum cespitosae",null,null,null,null,null,"Silaum silaus ","Koniopłoch łąkowy "," A, C"]
[null,null,null,null,null,null,null,null,null,null,null,null,null,null,null,null,null,"CISY W JASIENIU PLH100018",null,"Przemkowski Park Krajobrazowy",null,null,null,null,null,"Crepis paludosa (pępawa błotna): E","Caricetum chordorrhizae",null,null,null,null,null,"Gratiola officinalis ","Konitrut błotny "," C"]
[null,null,null,null,null,null,null,null,null,null,null,null,null,null,null,null,null,"CYBOWA GÓRA PLH120049",null,"Pszczewski Park Krajobrazowy",null,null,null,null,null,"Crepis praemorsa (pępawa różyczkolistna): D","Caricetum davallianae",null,null,null,null,null,"Iris aphylla ","Kosaciec bezlistny "," D"]
[null,null,null,null,null,null,null,null,null,null,null,null,null,null,null,null,null,"CYPRIANKA PLH040013",null,"Rogaliński Park Krajobrazowy",null,null,null,null,null,"Crocus scepusiensis (szafran spiski): F","Caricetum diandrae",null,null,null,null,null,"Iris sibirica ","Kosaciec syberyjski "," A"]
[null,null,null,null,null,null,null,null,null,null,null,null,null,null,null,null,null,"CYTADELA GRUDZIĄDZ PLH040014",null,"Rudawski Park Krajobrazowy",null,null,null,null,null,"Cruciata glabra (przytulinka (przytulia) wiosenna): F","Caricetum distichae",null,null,null,null,null,"Tofieldia calyculata ","Kosatka kielichowa "," G"]
[null,null,null,null,null,null,null,null,null,null,null,null,null,null,null,null,null,"CZARNA ORAWA PLH120002",null,"Rudniański Park Krajobrazowy",null,null,null,null,null,"Cynosurus cristatus (grzebienica pospolita): F","Caricetum elatae",null,null,null,null,null,"Tragopogon pratensis ","Kozibród łąkowy "," F"]
[null,null,null,null,null,null,null,null,null,null,null,null,null,null,null,null,null,"CZARNE URWISKO KOŁO LUTYNI PLH020033",null,"Sieradowicki Park Krajobrazowy",null,null,null,null,null,"Dactylorhiza sambucina (kukułka (storczyk) bzowa): D, F","Caricetum firmae (carpaticum)",null,null,null,null,null,"Tragopogon orientalis ","Kozibród wschodni "," F"]
[null,null,null,null,null,null,null,null,null,null,null,null,null,null,null,null,null,"CZARNY LAS PLH060002",null,"Sierakowski Park Krajobrazowy",null,null,null,null,null,"Dactylorhiza spp. (rodzaj kukułka): A, E, G","Caricetum gracilis",null,null,null,null,null,"Valeriana dioica s.l. ","Kozłek dwupienny "," E, G"]
[null,null,null,null,null,null,null,null,null,null,null,null,null,null,null,null,null,"CZERNA PLH120034",null,"Skierbieszowski Park Krajobrazowy",null,null,null,null,null,"Danthonia decumbens (izgrzyca przyziemna): D","Caricetum heleonastes",null,null,null,null,null,"Valeriana officinalis ","Kozłek lekarski "," E"]
[null,null,null,null,null,null,null,null,null,null,null,null,null,null,null,null,null,"CZERWONA WODA POD BABILONEM PLH220056",null,"Sobiborski Park Krajobrazowy",null,null,null,null,null,"Daucus carota (marchew zwyczajna): F","Caricetum lasiocarpae",null,null,null,null,null,"Spiranthes spiralis ","Kręczynka jesienna "," D"]
[null,null,null,null,null,null,null,null,null,null,null,null,null,null,null,null,null,"CZERWONY BÓR PLH200018",null,"Spalski Park Krajobrazowy",null,null,null,null,null,"Dianthus arenarius (goździk piaskowy): D","Caricetum limosae",null,null,null,null,null,"Spiranthes spiralis ","Kręczynka jesienna "," F"]
[null,null,null,null,null,null,null,null,null,null,null,null,null,null,null,null,null,"DALKOWSKIE JARY PLH020088",null,"Stobrawski Park Krajobrazowy",null,null,null,null,null,"Dianthus carthusianorum (goździk kartuzek): D","Caricetum nigrae (subalpinum)",null,null,null,null,null,"Epipactis palustris ","Kruszczyk błotny "," A, G"]
[null,null,null,null,null,null,null,null,null,null,null,null,null,null,null,null,null,"DĄBIE PLH120064",null,"Strzelecki Park Krajobrazowy",null,null,null,null,null,"Dianthus deltoides (goździk kropkowany  (g. widełkowaty)): D","Caricetum paniculatae",null,null,null,null,null,"Sanguisorba officinalis ","Krwiściąg lekarski "," A, C, E"]
[null,null,null,null,null,null,null,null,null,null,null,null,null,null,null,null,null,"DĄBROWA GROTNICKA PLH100001",null,"Suchedniowsko-Oblęgorski Park Krajobrazowy",null,null,null,null,null,"Dianthus superbus (goździk pyszny): A","Caricetum ripariae",null,null,null,null,null,"Sanguisorba minor ","Krwiściąg mniejszy "," D"]
[null,null,null,null,null,null,null,null,null,null,null,null,null,null,null,null,null,"DĄBROWA KOŁO ZAKLIKOWA PLH180019",null,"Sulejowski Park Krajobrazowy",null,null,null,null,null,"Drepanocladus sendtneri (sierpowiec moczarowy): G","Caricetum rostratae",null,null,null,null,null,"Dactylorhiza sambucina ","Kukułka  (storczyk)"," D, F"]
[null,null,null,null,null,null,null,null,null,null,null,null,null,null,null,null,null,"DĄBROWA RADZIEJOWSKA PLH140003",null,"Suwalski Park Krajobrazowy",null,null,null,null,null,"Drosera spp. (rodzaj rosiczka): G","Caricetum vesicariae",null,null,null,null,null,"Origanum vulgare ","Lebiodka pospolita "," D"]
[null,null,null,null,null,null,null,null,null,null,null,null,null,null,null,null,null,"DĄBROWA ŚWIETLISTA W PERNIE PLH100002",null,"Szaniecki Park Krajobrazowy",null,null,null,null,null,"Eleocharis quinqueflora (ponikło skąpokwiatowe): G","Caricetum vulpinae",null,null,null,null,null,"Linum austriacum ","Len austriacki "," D"]
[null,null,null,null,null,null,null,null,null,null,null,null,null,null,null,null,null,"DĄBROWY CERANOWSKIE PLH140024",null,"Szczebrzeszyński Park Krajobrazowy",null,null,null,null,null,"Empetrum spp. (rodzaj bażyna): G","Carici (rigidae)-Festucetum airoidis",null,null,null,null,null,"Linum catharticum ","Len przeczyszczający "," A"]
[null,null,null,null,null,null,null,null,null,null,null,null,null,null,null,null,null,"DĄBROWY GUBIŃSKIE PLH080069",null,"Szczeciński Park Krajobrazowy",null,null,null,null,null,"Epipactis palustris (kruszczyk błotny): A, G","Carici (rigidae)-Nardetum",null,null,null,null,null,"Linum hirsutum ","Len włochaty "," D"]
[null,null,null,null,null,null,null,null,null,null,null,null,null,null,null,null,null,"DĄBROWY JANIKOWSKIE PLH020089",null,"Ślężański Park Krajobrazowy",null,null,null,null,null,"Erica tetralix (wrzosiec bagienny): G","Carici arenariae-Empetretum nigri",null,null,null,null,null,"Linum flavum ","Len złocisty "," D"]
[null,null,null,null,null,null,null,null,null,null,null,null,null,null,null,null,null,"DĄBROWY KLICZKOWSKIE PLH020090",null,"Śnieżnicki Park Krajobrazowy",null,null,null,null,null,"Eriophorum spp. (rodzaj wełnianka): G","Carici canescentis-Agrostietum caninae",null,null,null,null,null,"Silene borysthenica ","Lepnica drobnokwiatowa "," D"]
[null,null,null,null,null,null,null,null,null,null,null,null,null,null,null,null,null,"DĄBROWY KROTOSZYŃSKIE PLB300007",null,"Tenczyński Park Krajobrazowy",null,null,null,null,null,"Euphorbia lucida (wilczomlecz (ostromlecz) błyszczący): C","Carici echinatae-Sphagnetum",null,null,null,null,null,"Silene lithuanica ","Lepnica litewska "," D"]
[null,null,null,null,null,null,null,null,null,null,null,null,null,null,null,null,null,"DĄBROWY KROTOSZYŃSKIE PLH300002",null,"Trójmiejski Park Krajobrazowy",null,null,null,null,null,"Euphorbia palustris (wilczomlecz (ostromlecz) błotny): C","Carici flavae-Cratoneuretum filicini",null,null,null,null,null,"Silene tatarica ","Lepnica tatarska "," D"]
[null,null,null,null,null,null,null,null,null,null,null,null,null,null,null,null,null,"DĄBROWY OBRZYCKIE PLH300003",null,"Tucholski Park Krajobrazowy",null,null,null,null,null,"Euphydryas aurinia (przeplatka aurinia): A","Carici rostratae-Drepanocladetum fluitantis ",null,null,null,null,null,"Silene otites s.l. ","Lepnica wąskopłatkowa "," D"]
[null,null,null,null,null,null,null,null,null,null,null,null,null,null,null,null,null,"DĄBROWY SEROCZYŃSKIE PLH140004",null,"Wdecki Park Krajobrazowy",null,null,null,null,null,"Filipendula vulgaris (wiązówka bulwkowa): A, D","Carici sempervirentis-Festucetum tatrae",null,null,null,null,null,"Silene chlorantha ","Lepnica zielonawa "," D"]
[null,null,null,null,null,null,null,null,null,null,null,null,null,null,null,null,null,"DĄBROWY ŚWIETLISTE KOŁO REDZENIA PLH100019",null,"Wdzydzki Park Krajobrazowy",null,null,null,null,null,"Fissidens adianthoides (skrzydlik paprociowaty): G","Caricion davallianae",null,null,null,null,null,"Silene nutans ","Lepnica zwisła "," D"]
[null,null,null,null,null,null,null,null,null,null,null,null,null,null,null,null,null,"DĄBROWY W MARIANKU PLH100027",null,"Welski Park Krajobrazowy",null,null,null,null,null,"Fritillaria meleagris (szachownica kostkowata): E","Caricion lasiocarpae",null,null,null,null,null,"Corynephorus canescens ","Leszczyna długookrywowa (lambertówka)"," D"]
[null,null,null,null,null,null,null,null,null,null,null,null,null,null,null,null,null,"DĄBRÓWKA PLH220088",null,"Wiśnicko-Lipnicki Park Krajobrazowy",null,null,null,null,null,"Galium boreale (przytulia północna): A, C","Caricion nigrae",null,null,null,null,null,"Liparis loeselii ","Lipiennik loesela "," G"]
[null,null,null,null,null,null,null,null,null,null,null,null,null,null,null,null,null,"DEBRY PLH060003",null,"Wrzelowiecki Park Krajobrazowy",null,null,null,null,null,"Galium verum (przytulia właściwa): D","Catabroso-Polygonetum hydropiperis",null,null,null,null,null,"Medicago minima ","Lucerna kolczastostrąkowa "," D"]
[null,null,null,null,null,null,null,null,null,null,null,null,null,null,null,null,null,"DELTA ŚWINY PLB320002",null,"Zaborski Park Krajobrazowy",null,null,null,null,null,"Genista spp. (rodzaj janowiec): D","Centunculo-Anthoceratum punctati",null,null,null,null,null,"Atriplex prostrata var. salina ","Łoboda oszczepowata "," B"]
[null,null,null,null,null,null,null,null,null,null,null,null,null,null,null,null,null,"DĘBNIAŃSKIE MOKRADŁA PLH020002",null,"Załęczański Park Krajobrazowy",null,null,null,null,null,"Gentiana cruciata (goryczka krzyżowa): D","Cerastio-Androsacetum septentrionalis",null,null,null,null,null,"Gypsophila fastigiata ","Łyszczec  (gipsówka)"," D"]
[null,null,null,null,null,null,null,null,null,null,null,null,null,null,null,null,null,"DĘBNICKO-TYNIECKI OBSZAR ŁĄKOWY PLH120065",null,"Żerkowsko-Czeszewski Park Krajobrazowy",null,null,null,null,null,"Gentiana pnemonanthe (goryczka wąskolistna): A, D","Chaerophylletum aromatici",null,null,null,null,null,"Daucus carota ","Marchew zwyczajna "," F"]
[null,null,null,null,null,null,null,null,null,null,null,null,null,null,null,null,null,"DĘBOWA GÓRA PLH300055",null,"Żywiecki Park Krajobrazowy",null,null,null,null,null,"Gentiana verna (goryczka wiosenna): D","Chaerophylletum bulbosi",null,null,null,null,null,"Asperula tinctoria ","Marzanka barwierska "," D"]
[null,null,null,null,null,null,null,null,null,null,null,null,null,null,null,null,null,"DĘBOWE ALEJE W GRYŻYNIE I ZAWISZACH PLH080035",null,"brak",null,null,null,null,null,"Gentianella spp. (rodzaj goryczuszka): A, C, D","Chamaemoro-Empetretum hermaphroditi",null,null,null,null,null,"Asperula cynanchica ","Marzanka pagórkowa "," D"]
[null,null,null,null,null,null,null,null,null,null,null,null,null,null,null,null,null,"DĘBÓWKA NAD RZEKĄ USZEWKĄ PLH120066",null,null,null,null,null,null,null,"Geranium palustre (bodziszek błotny): E","Chenopodietum boni-henrici",null,null,null,null,null,"Arctostaphylos uva-ursi ","Mącznica lekarska "," D"]
[null,null,null,null,null,null,null,null,null,null,null,null,null,null,null,null,null,"DIABELSKI STAW KOŁO RADOMICKA PLH080056",null,null,null,null,null,null,null,"Geranium pratense (bodziszek łąkowy): F","Chenopodietum glauco-rubri",null,null,null,null,null,"Gladiolus paluster ","Mieczyk błotny "," A"]
[null,null,null,null,null,null,null,null,null,null,null,null,null,null,null,null,null,"DIABELSKIE PUSTACIE PLH320048",null,null,null,null,null,null,null,"Geranium sanguineum (bodziszek czerwony): D","Chenopodion fluviatile",null,null,null,null,null,"Gladiolus imbricatus ","Mieczyk dachówkowaty "," A, F"]
[null,null,null,null,null,null,null,null,null,null,null,null,null,null,null,null,null,"DOBROMIERZ PLH020034",null,null,null,null,null,null,null,"Geranium sylvaticum (bodziszek leśny): F","Cicuto-Caricetum pseudocyperi",null,null,null,null,null,"Kochia laniflora ","Mietelnik piaskowy "," D"]
[null,null,null,null,null,null,null,null,null,null,null,null,null,null,null,null,null,"DOBROMYŚL PLH060033",null,null,null,null,null,null,null,"Gladiolus imbricatus (mieczyk dachówkowaty): A, F","Cirsietum cani",null,null,null,null,null,"Glaux maritima* ","Mlecznik nadmorski "," B"]
[null,null,null,null,null,null,null,null,null,null,null,null,null,null,null,null,null,"DOBRYŃ PLH060004",null,null,null,null,null,null,null,"Gladiolus paluster (mieczyk błotny): A","Cirsietum rivularis",null,null,null,null,null,"Phengaris alcon ","Modraszek alkon "," A"]
[null,null,null,null,null,null,null,null,null,null,null,null,null,null,null,null,null,"DOBUŻEK PLH060039",null,null,null,null,null,null,null,"Glaux maritima* (mlecznik nadmorski): B","Cirsio-Brachypodion pinnati",null,null,null,null,null,"Phengaris nausithous ","Modraszek nausitous "," A"]
[null,null,null,null,null,null,null,null,null,null,null,null,null,null,null,null,null,"DOLINA BARYCZY PLB020001",null,null,null,null,null,null,null,"Gnaphalium norvegicum (szarota norweska): D","Cladietum marisci",null,null,null,null,null,"Phengaris teleius ","Modraszek telejus "," A"]
[null,null,null,null,null,null,null,null,null,null,null,null,null,null,null,null,null,"DOLINA BIAŁEJ NIDY PLH260013",null,null,null,null,null,null,null,"Gratiola officinalis (konitrut błotny): C","Cnidion dubii",null,null,null,null,null,"Andromeda polifolia ","Modrzewnica zwyczajna (m. północna)"," G"]
[null,null,null,null,null,null,null,null,null,null,null,null,null,null,null,null,null,"DOLINA BIAŁKI PLH120024",null,null,null,null,null,null,null,"Gymnadenia conopsea (gółka długoostrogowa): F","Convolvuletalia sepium",null,null,null,null,null,"Paludella squarrosa ","Mszar krokiewkowaty "," G"]
[null,null,null,null,null,null,null,null,null,null,null,null,null,null,null,null,null,"DOLINA BIEBRZY PLH200008",null,null,null,null,null,null,null,"Gypsophila fastigiata (łyszczec (gipsówka) baldachogronowy (ł. baldaszkogronowy)): D","Convolvulion sepium",null,null,null,null,null,"Spergularia salina ","Muchotrzew solniskowy "," B"]
[null,null,null,null,null,null,null,null,null,null,null,null,null,null,null,null,null,"DOLINA BIELAWY PLH320053",null,null,null,null,null,null,null,"Hamatocaulis vernicosus (haczykowiec błyszczący): G","Convolvulo-Agropyrion repentis",null,null,null,null,null,"Androsace septentrionalis  ","Naradka północna "," D"]
[null,null,null,null,null,null,null,null,null,null,null,null,null,null,null,null,null,"DOLINA BOBRZY PLH260014",null,null,null,null,null,null,null,"Hammarbya paludosa (wątlik błotny): G","Convolvulus arvensis-Agropyretum repentis",null,null,null,null,null,"Ophioglossum vulgatum ","Nasięźrzał pospolity "," A"]
[null,null,null,null,null,null,null,null,null,null,null,null,null,null,null,null,null,"DOLINA BUKÓWKI PLH300046",null,null,null,null,null,null,null,"Helianthemum nummularium s. l. (posłonek kutnerowaty): D","Corniculario-Cladonietum mitis",null,null,null,null,null,"Swertia perennis ","Niebielistka  (swercja)"," G"]
[null,null,null,null,null,null,null,null,null,null,null,null,null,null,null,null,null,"DOLINA BYSTRZYCY ŁOMNICKIEJ PLH020083",null,null,null,null,null,null,null,"Helodium blandowii (błotniszek wełnisty): G","Corynephoretalia canescentis",null,null,null,null,null,"Myosotis palustris s.l. ","Niezapominajka błotna "," E"]
[null,null,null,null,null,null,null,null,null,null,null,null,null,null,null,null,null,"DOLINA CYBINY PLH300038",null,null,null,null,null,null,null,"Homogyne alpina (podbiałek alpejski): D","Corynephorion canescentis",null,null,null,null,null,"Schoenoplectus tabernaemontani* ","Oczeret tabernemontana "," B"]
[null,null,null,null,null,null,null,null,null,null,null,null,null,null,null,null,null,"DOLINA CZARNEJ NIDY PLH260016",null,null,null,null,null,null,null,"Hypericum maculatum (dziurawiec czteroboczny (d. czterograniasty)): D","Corynephoro-Silenetum tataricae",null,null,null,null,null,"Laserpitium prutenicum ","Okrzyn łąkowy (o. pruski)"," A"]
[null,null,null,null,null,null,null,null,null,null,null,null,null,null,null,null,null,"DOLINA CZARNEJ PLH260015",null,null,null,null,null,null,null,"Hypochoeris maculata (prosienicznik plamisty): D","Crepido mollis-Agrostietum capillaris",null,null,null,null,null,"Laserpitium latifolium ","Okrzyn szerokolistny "," D"]
[null,null,null,null,null,null,null,null,null,null,null,null,null,null,null,null,null,"DOLINA DEBRZYNKI PLH300047",null,null,null,null,null,null,null,"Hypochoeris uniflora (prosienicznik jednogłówkowy): D","Crepido-Calamagrostietum villosae",null,null,null,null,null,"Selinum carvifolia ","Olszewnik kminkolistny "," A"]
[null,null,null,null,null,null,null,null,null,null,null,null,null,null,null,null,null,"DOLINA DOLNEGO BOBRU PLH080068",null,null,null,null,null,null,null,"Inula ensifolia (oman wąskolistny): D","Cuscuto-Calystegietum sepium",null,null,null,null,null,"Inula ensifolia ","Oman wąskolistny "," D"]
[null,null,null,null,null,null,null,null,null,null,null,null,null,null,null,null,null,"DOLINA DOLNEGO BUGU PLB140001",null,null,null,null,null,null,null,"Inula salicina (oman wierzbolistny): A, C","Cynosurion",null,null,null,null,null,"Inula salicina ","Oman wierzbolistny "," A, C"]
[null,null,null,null,null,null,null,null,null,null,null,null,null,null,null,null,null,"DOLINA DOLNEGO SANU PLH180020",null,null,null,null,null,null,null,"Iris aphylla (kosaciec bezlistny): D","Cyperetalia fusci",null,null,null,null,null,"Orthanta lutea ","Ortanta  (zagorzałek)"," D"]
[null,null,null,null,null,null,null,null,null,null,null,null,null,null,null,null,null,"DOLINA DOLNEJ BARYCZY PLH020084",null,null,null,null,null,null,null,"Iris sibirica (kosaciec syberyjski): A","Cyperetum flavescentis",null,null,null,null,null,"Oxytropis pilosa ","Ostrołódka kosmata "," D"]
[null,null,null,null,null,null,null,null,null,null,null,null,null,null,null,null,null,"DOLINA DOLNEJ KWISY PLH020050",null,null,null,null,null,null,null,"Jovibarba sobolifera (rojownik (rojnik) pospolity): D","Dauco-Melilotenion",null,null,null,null,null,"Cirsium palustre ","Ostrożeń błotny "," E"]
[null,null,null,null,null,null,null,null,null,null,null,null,null,null,null,null,null,"DOLINA DOLNEJ NARWI PLB140014",null,null,null,null,null,null,null,"Juncus acutiflorus (sit ostrokwiatowy): E","Dauco-Picridetum hieracioidis",null,null,null,null,null,"Cirsium helenioides ","Ostrożeń dwubarwny (o. różnolistny)"," E, F"]
[null,null,null,null,null,null,null,null,null,null,null,null,null,null,null,null,null,"DOLINA DOLNEJ NOTECI PLB080002",null,null,null,null,null,null,null,"Juncus alpino-articulatus (sit alpejski): G","Dendranthemo-Seslerium variae",null,null,null,null,null,"Cirsium acaule ","Ostrożeń krótkołodygowy "," D"]
[null,null,null,null,null,null,null,null,null,null,null,null,null,null,null,null,null,"DOLINA DOLNEJ ODRY PLB320003",null,null,null,null,null,null,null,"Juncus atratus (sit czarny): C","Diantho arenarii-Festucetum polesicae",null,null,null,null,null,"Cirsium rivulare ","Ostrożeń łąkowy "," E"]
[null,null,null,null,null,null,null,null,null,null,null,null,null,null,null,null,null,"DOLINA DOLNEJ PILICY PLH140016",null,null,null,null,null,null,null,"Juncus filiformis (sit cienki): G","Diantho-Armerietum elongate",null,null,null,null,null,"Cirsium pannonicum ","Ostrożeń pannoński "," D"]
[null,null,null,null,null,null,null,null,null,null,null,null,null,null,null,null,null,"DOLINA DOLNEJ SKAWY PLB120005",null,null,null,null,null,null,null,"Juncus gerardi* (sit gerarda): B","Digitali purpureae-Epilobietum",null,null,null,null,null,"Cirsium canum ","Ostrożeń siwy "," A, E"]
[null,null,null,null,null,null,null,null,null,null,null,null,null,null,null,null,null,"DOLINA DOLNEJ SOŁY PLB120004",null,null,null,null,null,null,null,"Juncus ranarius (sit żabi): B","Diplotaxi tenuifoliae-Agropyretum repentis",null,null,null,null,null,"Cirsium oleraceum ","Ostrożeń warzywny "," E"]
[null,null,null,null,null,null,null,null,null,null,null,null,null,null,null,null,null,"DOLINA DOLNEJ TANWI PLH060097",null,null,null,null,null,null,null,"Juncus squarrosus (sit sztywny): D","Drepanoclado fluitantis-Caricetum limosae",null,null,null,null,null,"Blysmus rufus* ","Ostrzew rudy "," B"]
[null,null,null,null,null,null,null,null,null,null,null,null,null,null,null,null,null,"DOLINA DOLNEJ WISŁY PLB040003",null,null,null,null,null,null,null,"Juncus subnodulosus (sit tępokwiatowy): E, G","Echio-Melilotetum",null,null,null,null,null,"Coeloglossum viride ","Ozorka zielona "," D"]
[null,null,null,null,null,null,null,null,null,null,null,null,null,null,null,null,null,"DOLINA DRWĘCY PLH280001",null,null,null,null,null,null,null,"Juniperus communis (jałowiec pospolity): D","Elatini-Eleocharition ovatae",null,null,null,null,null,"Teucrium botrys ","Ożanka pierzastosieczna "," D"]
[null,null,null,null,null,null,null,null,null,null,null,null,null,null,null,null,null,"DOLINA GÓRNEGO NURCA PLB200004",null,null,null,null,null,null,null,"Knautia arvensis (świerzbnica polna): F","Eleocharetum ovatae",null,null,null,null,null,"Teucrium chamaedrys ","Ożanka właściwa "," D"]
[null,null,null,null,null,null,null,null,null,null,null,null,null,null,null,null,null,"DOLINA GÓRNEJ LABUNKI PLB060013",null,null,null,null,null,null,null,"Kochia laniflora (mietelnik piaskowy): D","Eleocharitetum acicularis",null,null,null,null,null,"Linosyris vulgaris ","Ożota zwyczajna "," D"]
[null,null,null,null,null,null,null,null,null,null,null,null,null,null,null,null,null,"DOLINA GÓRNEJ ŁEBY PLH220006",null,null,null,null,null,null,null,"Koeleria spp. (rodzaj strzęplica): D","Eleocharitetum multicaulis",null,null,null,null,null,"Bothriochloa ischaemum ","Palczatka kosmata "," D"]
[null,null,null,null,null,null,null,null,null,null,null,null,null,null,null,null,null,"DOLINA GÓRNEJ MIERZAWY PLH260017",null,null,null,null,null,null,null,"Laserpitium latifolium (okrzyn szerokolistny): D","Eleocharitetum palustris",null,null,null,null,null,"Pastinaca sativa ","Pasternak zwyczajny "," F"]
[null,null,null,null,null,null,null,null,null,null,null,null,null,null,null,null,null,"DOLINA GÓRNEJ NARWI PLB200007",null,null,null,null,null,null,null,"Laserpitium prutenicum (okrzyn łąkowy (o. pruski)): A","Eleocharitetum quinqueflorae",null,null,null,null,null,"Crepis paludosa ","Pępawa błotna "," E"]
[null,null,null,null,null,null,null,null,null,null,null,null,null,null,null,null,null,"DOLINA GÓRNEJ PILICY PLH260018",null,null,null,null,null,null,null,"Lathyrus palustris (groszek błotny): C, E","Eleocharition acicularis",null,null,null,null,null,"Crepis mollis s.l. ","Pępawa miękka "," F"]
[null,null,null,null,null,null,null,null,null,null,null,null,null,null,null,null,null,"DOLINA GÓRNEJ ROSPUDY PLH200022",null,null,null,null,null,null,null,"Lathyrus pratensis (groszek łąkowy (g. żółty)): F","Elymo-Ammophiletum arenariae",null,null,null,null,null,"Crepis praemorsa ","Pępawa różyczkolistna "," D"]
[null,null,null,null,null,null,null,null,null,null,null,null,null,null,null,null,null,"DOLINA GÓRNEJ SINIOCHY PLH060086",null,null,null,null,null,null,null,"Ledum palustre (bagno zwyczajne): G","Empetrion nigri",null,null,null,null,null,"Primula elatior ","Pierwiosnek  (pierwiosnka)"," E, F"]
[null,null,null,null,null,null,null,null,null,null,null,null,null,null,null,null,null,"DOLINA GÓRNEJ WISŁY PLB240001",null,null,null,null,null,null,null,"Leucanthemum vulgare (jastrun (złocień) właściwy): F","Empetro hermaphroditi-Sphagnetum fusci",null,null,null,null,null,"Primula veris ","Pierwiosnek  (pierwiosnka)"," F"]
[null,null,null,null,null,null,null,null,null,null,null,null,null,null,null,null,null,"DOLINA GRABOWEJ PLH320003",null,null,null,null,null,null,null,"Libanotis spp. (rodzaj żebrzyca): D","Empetro-Trichophoretum austriaci",null,null,null,null,null,"Potentilla arenaria ","Pięciornik piaskowy "," D"]
[null,null,null,null,null,null,null,null,null,null,null,null,null,null,null,null,null,"DOLINA ILANKI PLH080009",null,null,null,null,null,null,null,"Ligularia sibirica (języczka syberyjska): G","Epilobietea angustifolii",null,null,null,null,null,"Potentilla reptans ","Pięciornik rozłogowy "," C"]
[null,null,null,null,null,null,null,null,null,null,null,null,null,null,null,null,null,"DOLINA INY KOŁO RECZA PLH320004",null,null,null,null,null,null,null,"Limprichtia spp. (rodzaj limprichtia): G","Epilobio-Geranietum robertiani",null,null,null,null,null,"Potentilla heptaphylla ","Pięciornik siedmiolistkowy "," D"]
[null,null,null,null,null,null,null,null,null,null,null,null,null,null,null,null,null,"DOLINA KAKAJU PLH280036",null,null,null,null,null,null,null,"Linosyris vulgaris (ożota zwyczajna): D","Epilobio-Juncetum effusi",null,null,null,null,null,"Potentilla argentea ","Pięciornik srebrny "," D"]
[null,null,null,null,null,null,null,null,null,null,null,null,null,null,null,null,null,"DOLINA KAMIENNEJ PLH260019",null,null,null,null,null,null,null,"Linum austriacum (len austriacki): D","Epilobion angustifolii",null,null,null,null,null,"Potentilla neumanniana ","Pięciornik wiosenny "," D"]
[null,null,null,null,null,null,null,null,null,null,null,null,null,null,null,null,null,"DOLINA KAMIONKI PLH300031",null,null,null,null,null,null,null,"Linum catharticum (len przeczyszczający): A","Epilobio-Salicetum capreae",null,null,null,null,null,"Potentilla aurea ","Pięciornik złoty "," D"]
[null,null,null,null,null,null,null,null,null,null,null,null,null,null,null,null,null,"DOLINA KŁODAWY PLH220007",null,null,null,null,null,null,null,"Linum flavum (len złocisty): D","Equisetetum fluviatilis",null,null,null,null,null,"Homogyne alpina ","Podbiałek alpejski "," D"]
[null,null,null,null,null,null,null,null,null,null,null,null,null,null,null,null,null,"DOLINA KOSTRZYNIA PLB140009",null,null,null,null,null,null,null,"Linum hirsutum (len włochaty): D","Equisetetum palustris",null,null,null,null,null,"Eleocharis quinqueflora ","Ponikło skąpokwiatowe "," G"]
[null,null,null,null,null,null,null,null,null,null,null,null,null,null,null,null,null,"DOLINA KRASNEJ PLH260001",null,null,null,null,null,null,null,"Liparis loeselii (lipiennik loesela): G","Eragrostio-Polygonetum avicularis",null,null,null,null,null,"Helianthemum nummularium s. l. ","Posłonek kutnerowaty "," D"]
[null,null,null,null,null,null,null,null,null,null,null,null,null,null,null,null,null,"DOLINA KRĄPIELI PLH320005",null,null,null,null,null,null,null,"Lotus tenuis (komonica wąskolistna): B","Ericetum tetralicis ",null,null,null,null,null,"Hypochoeris uniflora ","Prosienicznik jednogłówkowy "," D"]
[null,null,null,null,null,null,null,null,null,null,null,null,null,null,null,null,null,"DOLINA KRZNY PLH060066",null,null,null,null,null,null,null,"Lycaena helle (czerwończyk fioletek): E","Ericion tetralicis",null,null,null,null,null,"Hypochoeris maculata ","Prosienicznik plamisty "," D"]
[null,null,null,null,null,null,null,null,null,null,null,null,null,null,null,null,null,"DOLINA LENIWEJ OBRY PLH080001",null,null,null,null,null,null,null,"Lychnis flos-cuculi (firletka poszarpana): E","Erico-Sphagnetum magellanici",null,null,null,null,null,"Aulacomnium palustre ","Próchniczek błotny "," G"]
[null,null,null,null,null,null,null,null,null,null,null,null,null,null,null,null,null,"DOLINA LIWCA PLB140002",null,null,null,null,null,null,null,"Lycopodiella inundata (widłaczek (widłak) torfowy): G","Erico-Sphagnetum medii",null,null,null,null,null,"Anthyllis vulneraria ","Przelot pospolity "," D, F"]
[null,null,null,null,null,null,null,null,null,null,null,null,null,null,null,null,null,"DOLINA LUBSZY PLH080057",null,null,null,null,null,null,null,"Lycopodium clavatum (widłak goździsty): D","Eriophoro-Trichophoretum caespitosi",null,null,null,null,null,"Euphydryas aurinia ","Przeplatka aurinia "," A"]
[null,null,null,null,null,null,null,null,null,null,null,null,null,null,null,null,null,"DOLINA ŁACHY PLH020003",null,null,null,null,null,null,null,"Medicago minima (lucerna kolczastostrąkowa): D","Eriophorum vaginatum-Sphagnum fallax (Eriophoro vaginati-Sphagnetum recurvi)",null,null,null,null,null,"Veronica longifolia ","Przetacznik długolistny "," C, E"]
[null,null,null,null,null,null,null,null,null,null,null,null,null,null,null,null,null,"DOLINA ŁĘTOWNI PLH060040",null,null,null,null,null,null,null,"Meesia spp. (rodzaj parzęchlin): G","Erysimo-Melilotetum",null,null,null,null,null,"Veronica spicata ","Przetacznik kłosowy "," D"]
[null,null,null,null,null,null,null,null,null,null,null,null,null,null,null,null,null,"DOLINA ŁOBŻONKI PLH300040",null,null,null,null,null,null,null,"Melampyrum arvense (pszeniec różowy): D","Falcario vulgaris-Agropyretum repentis",null,null,null,null,null,"Veronica teucrium ","Przetacznik pagórkowy "," D"]
[null,null,null,null,null,null,null,null,null,null,null,null,null,null,null,null,null,"DOLINA ŁUPAWY PLH220036",null,null,null,null,null,null,null,"Menyanthes trifoliata (bobrek trójlistkowy): G","Festuca versicoloris-Seslerietum tatrae",null,null,null,null,null,"Veronica austriaca ","Przetacznik ząbkowany "," D"]
[null,null,null,null,null,null,null,null,null,null,null,null,null,null,null,null,null,"DOLINA MAŁEJ PANWI PLH160008",null,null,null,null,null,null,null,"Meum athamanticum (wszewłoga górska): F","Festucetalia valesiacae",null,null,null,null,null,"Bupleurum tenuissimum var. salina* ","Przewiercień cienki "," B"]
[null,null,null,null,null,null,null,null,null,null,null,null,null,null,null,null,null,"DOLINA MAŁEJ WEŁNY POD KISZKOWEM PLB300006",null,null,null,null,null,null,null,"Molinia caerulea s.l. (trzęślica modra): A","Festucetum carpaticae",null,null,null,null,null,"Galium boreale ","Przytulia północna "," A, C"]
[null,null,null,null,null,null,null,null,null,null,null,null,null,null,null,null,null,"DOLINA MIAŁY PLH300042",null,null,null,null,null,null,null,"Muscari comosum (szafirek miękkolistny): D","Festucetum pallentis",null,null,null,null,null,"Galium verum ","Przytulia właściwa "," D"]
[null,null,null,null,null,null,null,null,null,null,null,null,null,null,null,null,null,"DOLINA MIERZAWY PLH260020",null,null,null,null,null,null,null,"Myosotis palustris s.l. (niezapominajka błotna): E","Festuco pratensis-Plantaginetum",null,null,null,null,null,"Cruciata glabra ","Przytulinka  (przytulia)"," F"]
[null,null,null,null,null,null,null,null,null,null,null,null,null,null,null,null,null,"DOLINA MOGIELNICY PLH300033",null,null,null,null,null,null,null,"Nardus stricta (bliźniczka psia trawka (b. wyprostowana)): D","Festuco psammophilae-Koelerietum glaucae",null,null,null,null,null,"Melampyrum arvense ","Pszeniec różowy "," D"]
[null,null,null,null,null,null,null,null,null,null,null,null,null,null,null,null,null,"DOLINA NIDY PLB260001",null,null,null,null,null,null,null,"Odontites litoralis (zagorzałek nadbrzeżny): B","Festuco rubrae-Equisetetum ramosissimi",null,null,null,null,null,"Arrhenatherum elatius ","Rajgras wyniosły "," F"]
[null,null,null,null,null,null,null,null,null,null,null,null,null,null,null,null,null,"DOLINA NOTECI PLH300004",null,null,null,null,null,null,null,"Onobrychis spp. (rodzaj sparceta): D","Festuco versicoloris-Agrostietum alpinae",null,null,null,null,null,"Polygonum bistorta ","Rdest wężownik "," E"]
[null,null,null,null,null,null,null,null,null,null,null,null,null,null,null,null,null,"DOLINA OLEŚNICY I POTOKU BOGUSZYCKIEGO PLH020091",null,null,null,null,null,null,null,"Ononis spinosa (wilżyna ciernista): D","Festuco-Brometea",null,null,null,null,null,"Pseudocalliergon spp. ","Rodzaj bagiennik "," G"]
[null,null,null,null,null,null,null,null,null,null,null,null,null,null,null,null,null,"DOLINA OSY PLH040033",null,null,null,null,null,null,null,"Ophioglossum vulgatum (nasięźrzał pospolity): A","Festuco-Cynosuretum",null,null,null,null,null,"Philonotis spp. ","Rodzaj bagniak "," G"]
[null,null,null,null,null,null,null,null,null,null,null,null,null,null,null,null,null,"DOLINA PASŁEKI PLB280002",null,null,null,null,null,null,null,"Orchis palustris (storczyk błotny): G","Festuco-Elymetum arenarii",null,null,null,null,null,"Empetrum spp. ","Rodzaj bażyna "," G"]
[null,null,null,null,null,null,null,null,null,null,null,null,null,null,null,null,null,"DOLINA PILICY PLB140003",null,null,null,null,null,null,null,"Orchis spp. (rodzaj storczyk): A, D, F","Festuco-Stipion",null,null,null,null,null,"Cladonia spp. ","Rodzaj chrobotek "," D"]
[null,null,null,null,null,null,null,null,null,null,null,null,null,null,null,null,null,"DOLINA PIŁAWY PLH320025",null,null,null,null,null,null,null,"Origanum vulgare (lebiodka pospolita): D","Filagini-Vulpietum",null,null,null,null,null,"Scabiosa spp. ","Rodzaj driakiew "," D"]
[null,null,null,null,null,null,null,null,null,null,null,null,null,null,null,null,null,"DOLINA PISY PLH200023",null,null,null,null,null,null,null,"Orobanche spp. (rodzaj zaraza): D","Filipendulion ulmariae",null,null,null,null,null,"Gentianella spp. ","Rodzaj goryczuszka "," A, C, D"]
[null,null,null,null,null,null,null,null,null,null,null,null,null,null,null,null,null,"DOLINA PLISZKI PLH080011",null,null,null,null,null,null,null,"Orthanta lutea (ortanta (zagorzałek) żółta): D","Filipendulo ulmariae-Menthetum longifoliae",null,null,null,null,null,"Genista spp. ","Rodzaj janowiec "," D"]
[null,null,null,null,null,null,null,null,null,null,null,null,null,null,null,null,null,"DOLINA PŁONI I JEZIORO MIEDWIE PLH320006",null,null,null,null,null,null,null,"Ostericum palustre (starodub łąkowy): A, E","Filipendulo-Geranietum",null,null,null,null,null,"Polygala spp. ","Rodzaj krzyżownica "," D"]
[null,null,null,null,null,null,null,null,null,null,null,null,null,null,null,null,null,"DOLINA PRADNIKA PLH120004",null,null,null,null,null,null,null,"Oxycoccus palustris (żurawina błotna): G","Frangulo-Rubetum plicati",null,null,null,null,null,"Dactylorhiza spp. ","Rodzaj kukułka "," A, E, G"]
[null,null,null,null,null,null,null,null,null,null,null,null,null,null,null,null,null,"DOLINA RADWI, CHOCIELI I CHOTLI PLH320022",null,null,null,null,null,null,null,"Oxytropis pilosa (ostrołódka kosmata): D","Galio-Urticenea",null,null,null,null,null,"Thesium spp. ","Rodzaj leniec "," D"]
[null,null,null,null,null,null,null,null,null,null,null,null,null,null,null,null,null,"DOLINA RAWKI PLH100015",null,null,null,null,null,null,null,"Paludella squarrosa (mszar krokiewkowaty): G","Gentiano-Koelerietum pyramidatae",null,null,null,null,null,"Limprichtia spp. ","Rodzaj limprichtia "," G"]
[null,null,null,null,null,null,null,null,null,null,null,null,null,null,null,null,null,"DOLINA REKNICY PLH220008",null,null,null,null,null,null,null,"Palustriella spp. (rodzaj Źródliskowiec): G","Geranio-Alchemilletum crinitae",null,null,null,null,null,"Thymus spp. ","Rodzaj macierzanka "," D"]
[null,null,null,null,null,null,null,null,null,null,null,null,null,null,null,null,null,"DOLINA RURZYCY PLH300017",null,null,null,null,null,null,null,"Parnassia palustris (dziewięciornik błotny): A, G","Geranio-Anemonetum sylvestris",null,null,null,null,null,"Puccinellia spp. ","Rodzaj mannica "," B"]
[null,null,null,null,null,null,null,null,null,null,null,null,null,null,null,null,null,"DOLINA RZEKI GRÓBKI PLH120067",null,null,null,null,null,null,null,"Pastinaca sativa (pasternak zwyczajny): F","Geranion sanguinei",null,null,null,null,null,"Schoenus spp. ","Rodzaj marzyca "," G"]
[null,null,null,null,null,null,null,null,null,null,null,null,null,null,null,null,null,"DOLINA SAMICY PLB300013",null,null,null,null,null,null,null,"Pedicularis palustris (gnidosz błotny): E, G","Geranio-Peucadanetum cervariae",null,null,null,null,null,"Stipa spp. ","Rodzaj ostnica "," D"]
[null,null,null,null,null,null,null,null,null,null,null,null,null,null,null,null,null,"DOLINA SANKI PLH120059",null,null,null,null,null,null,null,"Pedicularis sceptrum-carolinum (gnidosz królewski): G","Geranio-Trifolietum alpestris",null,null,null,null,null,"Anthericum spp. ","Rodzaj pajęcznica "," D"]
[null,null,null,null,null,null,null,null,null,null,null,null,null,null,null,null,null,"DOLINA SIENIOCHY PLH060025",null,null,null,null,null,null,null,"Pedicularis sylvatica (gnidosz rozesłany): D","Gladiolo-Agrostietum capillaris",null,null,null,null,null,"Meesia spp. ","Rodzaj parzęchlin "," G"]
[null,null,null,null,null,null,null,null,null,null,null,null,null,null,null,null,null,"DOLINA SKRWY LEWEJ PLH140051",null,null,null,null,null,null,null,"Petrorhagia prolifera (goździcznik wycięty): D","Glauco-Puccinellietalia",null,null,null,null,null,"Trollius spp. ","Rodzaj pełnik "," A, E"]
[null,null,null,null,null,null,null,null,null,null,null,null,null,null,null,null,null,"DOLINA SŁUPI PLB220002",null,null,null,null,null,null,null,"Peucedanum cervaria (gorysz siny): D","Glechometalia hederaceae",null,null,null,null,null,"Cetraria spp. ","Rodzaj płucnica "," D"]
[null,null,null,null,null,null,null,null,null,null,null,null,null,null,null,null,null,"DOLINA SOŁOKIJI PLB060021",null,null,null,null,null,null,null,"Peucedanum oreoselinum (gorysz pagórkowy): D","Glycerietum maximae",null,null,null,null,null,"Utricularia spp. ","Rodzaj pływacz "," G"]
[null,null,null,null,null,null,null,null,null,null,null,null,null,null,null,null,null,"DOLINA STROPNEJ PLH220037",null,null,null,null,null,null,null,"Phengaris alcon (modraszek alkon): A","Glycerietum plicatae",null,null,null,null,null,"Botrychium spp. ","Rodzaj podejźrzon "," D"]
[null,null,null,null,null,null,null,null,null,null,null,null,null,null,null,null,null,"DOLINA SWĘDRNI PLH300034",null,null,null,null,null,null,null,"Phengaris nausithous (modraszek nausitous): A","Helichryso-Jasionetum litoralis",null,null,null,null,null,"Platanthera spp. ","Rodzaj podkolan "," D, F"]
[null,null,null,null,null,null,null,null,null,null,null,null,null,null,null,null,null,"DOLINA SZCZYRY PLH220066",null,null,null,null,null,null,null,"Phengaris teleius (modraszek telejus): A","Herniarietum glabrae",null,null,null,null,null,"Rhynchospora spp. ","Rodzaj przygiełka "," G"]
[null,null,null,null,null,null,null,null,null,null,null,null,null,null,null,null,null,"DOLINA SZESZUPY PLH200016",null,null,null,null,null,null,null,"Philonotis spp. (rodzaj bagniak): G","Hieracio (alpini)-Nardetum",null,null,null,null,null,"Alchemilla spp. ","Rodzaj przywrotnik "," F"]
[null,null,null,null,null,null,null,null,null,null,null,null,null,null,null,null,null,"DOLINA SZYSZŁY PLB060018",null,null,null,null,null,null,null,"Phleum phleoides (tymotka boehmera): D","Hieracio (vulgati)-Nardetum",null,null,null,null,null,"Chara spp. ","Rodzaj ramienice "," G"]
[null,null,null,null,null,null,null,null,null,null,null,null,null,null,null,null,null,"DOLINA SZYSZŁY PLH060042",null,null,null,null,null,null,null,"Phyteuma orbiculare (zerwa kulista (z. główkowata)): F","Hippuridetum vulgaris",null,null,null,null,null,"Drosera spp. ","Rodzaj rosiczka "," G"]
[null,null,null,null,null,null,null,null,null,null,null,null,null,null,null,null,null,"DOLINA ŚREDZKIEJ STRUGI PLH300057",null,null,null,null,null,null,null,"Phyteuma spicatum (zerwa kłosowa): F","Honckenyo-Agropyretum juncei",null,null,null,null,null,"Pulsatilla spp. ","Rodzaj sasanka "," D"]
[null,null,null,null,null,null,null,null,null,null,null,null,null,null,null,null,null,"DOLINA ŚRODKOWEGO BUGU PLB060003",null,null,null,null,null,null,null,"Pimpinella major  (biedrzeniec wielki): F","Hydrocotylo-Baldelion",null,null,null,null,null,"Sesleria spp. ","Rodzaj sesleria "," A, D, G"]
[null,null,null,null,null,null,null,null,null,null,null,null,null,null,null,null,null,"DOLINA ŚRODKOWEGO ŚWIDRA PLH140025",null,null,null,null,null,null,null,"Pimpinella saxifraga (biedrzeniec mniejszy): F","Inuletum ensifoliae",null,null,null,null,null,"Onobrychis spp. ","Rodzaj sparceta "," D"]
[null,null,null,null,null,null,null,null,null,null,null,null,null,null,null,null,null,"DOLINA ŚRODKOWEGO WIEPRZA PLH060005",null,null,null,null,null,null,null,"Pinguicula vulgaris (tłustosz pospolity): G","Iridetum pseudacori",null,null,null,null,null,"Orchis spp. ","Rodzaj storczyk "," A, D, F"]
[null,null,null,null,null,null,null,null,null,null,null,null,null,null,null,null,null,"DOLINA ŚRODKOWEJ NOTECI I KANAŁU BYDGOSKIEGO PLB300001",null,null,null,null,null,null,null,"Plantago arenaria (babka piaskowa (b. gałęzista)): D","Isoëtetum echinosporae",null,null,null,null,null,"Koeleria spp. ","Rodzaj strzęplica "," D"]
[null,null,null,null,null,null,null,null,null,null,null,null,null,null,null,null,null,"DOLINA ŚRODKOWEJ ODRY PLB080004",null,null,null,null,null,null,null,"Plantago coronopus* (babka pierzasta): B","Isoëtetum lacustris",null,null,null,null,null,"Rhinanthus spp. ","Rodzaj szelężnik "," F"]
[null,null,null,null,null,null,null,null,null,null,null,null,null,null,null,null,null,"DOLINA ŚRODKOWEJ PILICY PLH100008",null,null,null,null,null,null,null,"Plantago maritima (babka nadmorska (b. morska)): B","Isoëtion lacustris",null,null,null,null,null,"Sphagnum spp. ","Rodzaj torfowiec "," G"]
[null,null,null,null,null,null,null,null,null,null,null,null,null,null,null,null,null,"DOLINA ŚRODKOWEJ WARTY PLB300002",null,null,null,null,null,null,null,"Plantago media (babka średnia): D, F","Isoëto-Nanojuncetea",null,null,null,null,null,"Astragalus spp.  ","Rodzaj traganek "," D"]
[null,null,null,null,null,null,null,null,null,null,null,null,null,null,null,null,null,"DOLINA ŚRODKOWEJ WIETCISY PLH220009",null,null,null,null,null,null,null,"Platanthera spp. (rodzaj podkolan): D, F","Ivetum xanthifoliae",null,null,null,null,null,"Warnstorfia spp. ","Rodzaj warnstorfia "," G"]
[null,null,null,null,null,null,null,null,null,null,null,null,null,null,null,null,null,"DOLINA ŚRODKOWEJ WISŁY PLB140004",null,null,null,null,null,null,null,"Polygala spp. (rodzaj krzyżownica): D","Juncetea trifidi",null,null,null,null,null,"Eriophorum spp. ","Rodzaj wełnianka "," G"]
[null,null,null,null,null,null,null,null,null,null,null,null,null,null,null,null,null,"DOLINA TYŚMIENICY PLB060004",null,null,null,null,null,null,null,"Polygonum bistorta (rdest wężownik): E","Juncetum acutiflori",null,null,null,null,null,"Orobanche spp. ","Rodzaj zaraza "," D"]
[null,null,null,null,null,null,null,null,null,null,null,null,null,null,null,null,null,"DOLINA TYWY PLH320050",null,null,null,null,null,null,null,"Potentilla arenaria (pięciornik piaskowy): D","Juncetum gerardi",null,null,null,null,null,"Palustriella spp. ","Rodzaj Źródliskowiec "," G"]
[null,null,null,null,null,null,null,null,null,null,null,null,null,null,null,null,null,"DOLINA WARKOCZA PLH260021",null,null,null,null,null,null,null,"Potentilla argentea (pięciornik srebrny): D","Juncetum subnodulosi",null,null,null,null,null,"Libanotis spp. ","Rodzaj żebrzyca "," D"]
[null,null,null,null,null,null,null,null,null,null,null,null,null,null,null,null,null,"DOLINA WEŁNY PLH300043",null,null,null,null,null,null,null,"Potentilla aurea (pięciornik złoty): D","Juncetum tenuis",null,null,null,null,null,"Jovibarba sobolifera ","Rojownik  (rojnik)"," D"]
[null,null,null,null,null,null,null,null,null,null,null,null,null,null,null,null,null,"DOLINA WIDAWY PLH020036",null,null,null,null,null,null,null,"Potentilla heptaphylla (pięciornik siedmiolistkowy): D","Juncion trifidi",null,null,null,null,null,"Sedum acre ","Rozchodnik ostry "," D"]
[null,null,null,null,null,null,null,null,null,null,null,null,null,null,null,null,null,"DOLINA WIEPRZY I STUDNICY PLH220038",null,null,null,null,null,null,null,"Potentilla neumanniana (pięciornik wiosenny): D","Junco filiformis-Sphagnetum recurvi",null,null,null,null,null,"Sedum sexangulare ","Rozchodnik sześciorzędowy "," D"]
[null,null,null,null,null,null,null,null,null,null,null,null,null,null,null,null,null,"DOLINA WIERZYCY PLH220094",null,null,null,null,null,null,null,"Potentilla reptans (pięciornik rozłogowy): C","Junco trifidi-Festucetum airoidis",null,null,null,null,null,"Thalictrum minus ","Rutewka mniejsza "," D"]
[null,null,null,null,null,null,null,null,null,null,null,null,null,null,null,null,null,"DOLINA WKRY PLH140005",null,null,null,null,null,null,null,"Primula elatior (pierwiosnek (pierwiosnka) wyniosły): E, F","Junco-Cynosuretum",null,null,null,null,null,"Thalictrum simplex ","Rutewka pojedyncza "," D"]
[null,null,null,null,null,null,null,null,null,null,null,null,null,null,null,null,null,"DOLINA WOLICY PLH060058",null,null,null,null,null,null,null,"Primula veris (pierwiosnek (pierwiosnka) lekarski): F","Junco-Molinietum",null,null,null,null,null,"Thalictrum lucidum ","Rutewka wąskolistna "," C, E"]
[null,null,null,null,null,null,null,null,null,null,null,null,null,null,null,null,null,"DOLINA ZWOLEŃKI PLH140006",null,null,null,null,null,null,null,"Prunella grandiflora (głowienka wielkokwiatowa): D","Kochietum arenariae",null,null,null,null,null,"Thalictrum flavum ","Rutewka żółta "," E"]
[null,null,null,null,null,null,null,null,null,null,null,null,null,null,null,null,null,"DOLINKI JURAJSKIE PLH120005",null,null,null,null,null,null,null,"Pseudocalliergon spp. (rodzaj bagiennik): G","Koelerio glaucae-Corynephoretea canescentis",null,null,null,null,null,"Cardaminopsis halleri ","Rzeżusznik  (gęsiówka)"," F"]
[null,null,null,null,null,null,null,null,null,null,null,null,null,null,null,null,null,"DOLINY BRDY I CHOCINY PLH220058",null,null,null,null,null,null,null,"Pseudorchis albida (gołek białawy): D","Koelerio-Astragaletum arenarii",null,null,null,null,null,"Cnidium dubium ","Selernica żyłkowana "," C"]
[null,null,null,null,null,null,null,null,null,null,null,null,null,null,null,null,null,"DOLINY BRDY I STĄŻKI W BORACH TUCHOLSKICH PLH040023",null,null,null,null,null,null,null,"Puccinellia spp. (rodzaj mannica): B","Koelerio-Festucetum rupicolae",null,null,null,null,null,"Comarum palustre ","Siedmiopalecznik błotny "," G"]
[null,null,null,null,null,null,null,null,null,null,null,null,null,null,null,null,null,"DOLINY EROZYJNE WYSOCZYZNY ELBLĄSKIEJ PLH280029",null,null,null,null,null,null,null,"Pulsatilla spp. (rodzaj sasanka): D","Koelerion albescentis",null,null,null,null,null,"Serratula tinctoria ","Sierpik barwierski "," A, C"]
[null,null,null,null,null,null,null,null,null,null,null,null,null,null,null,null,null,"DOLINY ŁABUŃKI I TOPORNICY PLH060087",null,null,null,null,null,null,null,"Ranunculus polyanthemos (jaskier wielokwiatowy): F","Koelerion glaucae",null,null,null,null,null,"Drepanocladus sendtneri ","Sierpowiec moczarowy "," G"]
[null,null,null,null,null,null,null,null,null,null,null,null,null,null,null,null,null,"DOLINY OMULWI I PŁODOWNICY PLB140005",null,null,null,null,null,null,null,"Rhinanthus spp. (rodzaj szelężnik): F","Lamio albi-Conietum maculati",null,null,null,null,null,"Juncus alpino-articulatus ","Sit alpejski "," G"]
[null,null,null,null,null,null,null,null,null,null,null,null,null,null,null,null,null,"DOLINY WKRY I MŁAWKI PLB140008",null,null,null,null,null,null,null,"Rhynchospora spp. (rodzaj przygiełka): G","Ledo palustris-Pinetum uncinatae ",null,null,null,null,null,"Juncus filiformis ","Sit cienki "," G"]
[null,null,null,null,null,null,null,null,null,null,null,null,null,null,null,null,null,"DOLNA ODRA PLH320037",null,null,null,null,null,null,null,"Salicornia europaea* (soliród zielny): B","Ledo-Sphagnetum magellanici",null,null,null,null,null,"Juncus atratus ","Sit czarny "," C"]
[null,null,null,null,null,null,null,null,null,null,null,null,null,null,null,null,null,"DOLNA SOŁA PLH120083",null,null,null,null,null,null,null,"Salsola kali (solanka kolczysta): D","Leersietum oryzoidis",null,null,null,null,null,"Juncus gerardi* ","Sit gerarda "," B"]
[null,null,null,null,null,null,null,null,null,null,null,null,null,null,null,null,null,"DOLNA WISŁA PLH220033",null,null,null,null,null,null,null,"Salvia pratensis (szałwia łąkowa): D, F","Leersio-Bidentetum",null,null,null,null,null,"Juncus acutiflorus ","Sit ostrokwiatowy "," E"]
[null,null,null,null,null,null,null,null,null,null,null,null,null,null,null,null,null,"DOLNA WISŁOKA Z DOPŁYWAMI PLH180053",null,null,null,null,null,null,null,"Salvia verticillata (szałwia okręgowa): D, F","Leonuro-Ballotetum nigrae",null,null,null,null,null,"Juncus squarrosus ","Sit sztywny "," D"]
[null,null,null,null,null,null,null,null,null,null,null,null,null,null,null,null,null,"DOLNY DUNAJEC PLH120085",null,null,null,null,null,null,null,"Samolus valerandi* (jarnik solankowy): B","Littorelletalia uniflorae",null,null,null,null,null,"Juncus subnodulosus ","Sit tępokwiatowy "," E, G"]
[null,null,null,null,null,null,null,null,null,null,null,null,null,null,null,null,null,"DOLNY WIEPRZ PLH060051",null,null,null,null,null,null,null,"Sanguisorba minor (krwiściąg mniejszy): D","Littorelletea uniflorae",null,null,null,null,null,"Juncus ranarius ","Sit żabi "," B"]
[null,null,null,null,null,null,null,null,null,null,null,null,null,null,null,null,null,"DORZECZE GÓRNEGO SANU PLH180021",null,null,null,null,null,null,null,"Sanguisorba officinalis (krwiściąg lekarski): A, C, E","Lobelietum dortmannae",null,null,null,null,null,"Scirpus sylvaticus ","Sitowie leśne "," E"]
[null,null,null,null,null,null,null,null,null,null,null,null,null,null,null,null,null,"DORZECZE PARSĘTY PLH320007",null,null,null,null,null,null,null,"Saxifraga granulata (skalnica ziarenkowata): F","Lobelion",null,null,null,null,null,"Bolboschoenus maritimus* ","Sitowiec nadmorski "," B"]
[null,null,null,null,null,null,null,null,null,null,null,null,null,null,null,null,null,"DORZECZE REGI PLH320049",null,null,null,null,null,null,null,"Saxifraga hirculus (skalnica torfowiskowa): G","Lolio-Cynosuretum",null,null,null,null,null,"Saxifraga hirculus ","Skalnica torfowiskowa "," G"]
[null,null,null,null,null,null,null,null,null,null,null,null,null,null,null,null,null,"DREWNIKI PLH060059",null,null,null,null,null,null,null,"Saxifraga tridactylites (skalnica trójpalczasta): D","Lolio-Polygonetum arenastri",null,null,null,null,null,"Saxifraga tridactylites ","Skalnica trójpalczasta "," D"]
[null,null,null,null,null,null,null,null,null,null,null,null,null,null,null,null,null,"DUŻY OKOŃ PLH220059",null,null,null,null,null,null,null,"Scabiosa spp. (rodzaj driakiew): D","Luronietum natantis",null,null,null,null,null,"Saxifraga granulata ","Skalnica ziarenkowata "," F"]
[null,null,null,null,null,null,null,null,null,null,null,null,null,null,null,null,null,"DYBOWSKA DOLINA WISŁY PLH040011",null,null,null,null,null,null,null,"Scheuchzeria palustris (bagnica torfowa): G","Lysimachio vulgaris-Filipenduletum",null,null,null,null,null,"Scorpidium scorpioides ","Skorpionowiec brunatny "," G"]
[null,null,null,null,null,null,null,null,null,null,null,null,null,null,null,null,null,"DZICZY LAS PLH320060",null,null,null,null,null,null,null,"Schoenoplectus tabernaemontani* (oczeret tabernemontana): B","Lythro-Filipenduletum ulmariae",null,null,null,null,null,"Fissidens adianthoides ","Skrzydlik paprociowaty "," G"]
[null,null,null,null,null,null,null,null,null,null,null,null,null,null,null,null,null,"DZIERZKOWICE PLH060079",null,null,null,null,null,null,null,"Schoenus spp. (rodzaj marzyca): G","Magnocaricion",null,null,null,null,null,"Straminergon stramineum ","Słomiaczek złotawy "," G"]
[null,null,null,null,null,null,null,null,null,null,null,null,null,null,null,null,null,"DZIKA ORLICA PLH020061",null,null,null,null,null,null,null,"Scirpus sylvaticus (sitowie leśne): E","Mentho longifoliae-Juncetum inflexi",null,null,null,null,null,"Alyssum montanum ","Smagliczka pagórkowa (s. piaskowa)"," D"]
[null,null,null,null,null,null,null,null,null,null,null,null,null,null,null,null,null,"DZWONECZNIK W KISIELANACH PLH140026",null,null,null,null,null,null,null,"Scleranthus perennis (czerwiec trwały): D","Menyantho trifoliatae-Sphagnetum teretis ",null,null,null,null,null,"Viscaria vulgaris ","Smółka pospolita "," D"]
[null,null,null,null,null,null,null,null,null,null,null,null,null,null,null,null,null,"FORT SALIS SOGLIO PLH180008",null,null,null,null,null,null,null,"Scorpidium scorpioides (skorpionowiec brunatny): G","Meo-Festucetum (Geranio-Trisetetum flavescenstis)",null,null,null,null,null,"Salsola kali ","Solanka kolczysta "," D"]
[null,null,null,null,null,null,null,null,null,null,null,null,null,null,null,null,null,"FORTY MODLIŃSKIE PLH140020",null,null,null,null,null,null,null,"Scorzonera humilis (wężymord niski): D","Mesobromion",null,null,null,null,null,"Salicornia europaea* ","Soliród zielny "," B"]
[null,null,null,null,null,null,null,null,null,null,null,null,null,null,null,null,null,"FORTY NYSKIE PLH160001",null,null,null,null,null,null,null,"Scorzonera purpurea (wężymord stepowy): D","Molinietalia caerulae",null,null,null,null,null,"Ostericum palustre ","Starodub łąkowy "," A, E"]
[null,null,null,null,null,null,null,null,null,null,null,null,null,null,null,null,null,"FORTY W TORUNIU PLH040001",null,null,null,null,null,null,null,"Scorzonera rosea (wężymord górski): D","Molinietum caeruleae (Selino-Molinietum)",null,null,null,null,null,"Senecio aquaticus ","Starzec wodny "," E"]
[null,null,null,null,null,null,null,null,null,null,null,null,null,null,null,null,null,"FORTYFIKACJE W POZNANIU PLH300005",null,null,null,null,null,null,null,"Scutellaria hastifolia (tarczyca oszczepowata (t. oszczepolistna)): C","Molinio-Arrhenatheretea",null,null,null,null,null,"Traunsteinera globosa ","Storczyca kulista "," F"]
[null,null,null,null,null,null,null,null,null,null,null,null,null,null,null,null,null,"GAŁUSZKI W CHOCIANOWIE PLH020087",null,null,null,null,null,null,null,"Sedum acre (rozchodnik ostry): D","Molinion caeruleae",null,null,null,null,null,"Orchis palustris ","Storczyk błotny "," G"]
[null,null,null,null,null,null,null,null,null,null,null,null,null,null,null,null,null,"GĄZWA PLH280011",null,null,null,null,null,null,null,"Sedum sexangulare (rozchodnik sześciorzędowy): D","Myriophyllo-Littorelletum",null,null,null,null,null,"Fritillaria meleagris ","Szachownica kostkowata "," E"]
[null,null,null,null,null,null,null,null,null,null,null,null,null,null,null,null,null,"GIEBUŁTÓW PLH120051",null,null,null,null,null,null,null,"Selinum carvifolia (olszewnik kminkolistny): A","Nardetalia",null,null,null,null,null,"Muscari comosum ","Szafirek miękkolistny "," D"]
[null,null,null,null,null,null,null,null,null,null,null,null,null,null,null,null,null,"GIERŁOŻ PLH280002",null,null,null,null,null,null,null,"Senecio aquaticus (starzec wodny): E","Nardion",null,null,null,null,null,"Crocus scepusiensis ","Szafran spiski "," F"]
[null,null,null,null,null,null,null,null,null,null,null,null,null,null,null,null,null,"GLINIANKI W LENARTOWICACH PLH300048",null,null,null,null,null,null,null,"Serratula tinctoria (sierpik barwierski): A, C","Nardo-Callunetea",null,null,null,null,null,"Salvia pratensis ","Szałwia łąkowa "," D, F"]
[null,null,null,null,null,null,null,null,null,null,null,null,null,null,null,null,null,"GLINISKA PLH060006",null,null,null,null,null,null,null,"Seseli annuum (żebrzyca roczna): D","Nardo-Juncetum squarrosi",null,null,null,null,null,"Salvia verticillata ","Szałwia okręgowa "," D, F"]
[null,null,null,null,null,null,null,null,null,null,null,null,null,null,null,null,null,"GOGOLICE-KOSA PLH320038",null,null,null,null,null,null,null,"Sesleria spp. (rodzaj sesleria): A, D, G","Nasturtietum oficinalis",null,null,null,null,null,"Gnaphalium norvegicum ","Szarota norweska "," D"]
[null,null,null,null,null,null,null,null,null,null,null,null,null,null,null,null,null,"GOLESZ PLH180031",null,null,null,null,null,null,null,"Silaum silaus (koniopłoch łąkowy): A, C","Oenantho-Rorippetum",null,null,null,null,null,"Triglochin palustre ","Świbka błotna "," E, G"]
[null,null,null,null,null,null,null,null,null,null,null,null,null,null,null,null,null,"GOŁE ŁĄKI PLH140027",null,null,null,null,null,null,null,"Silene borysthenica (lepnica drobnokwiatowa): D","Onobrychido-Brometum erecti",null,null,null,null,null,"Triglochin maritimum ","Świbka morska "," B"]
[null,null,null,null,null,null,null,null,null,null,null,null,null,null,null,null,null,"GOŁOBÓRZ PLH140028",null,null,null,null,null,null,null,"Silene chlorantha (lepnica zielonawa): D","Onopordenion acanthii",null,null,null,null,null,"Knautia arvensis ","Świerzbnica polna "," F"]
[null,null,null,null,null,null,null,null,null,null,null,null,null,null,null,null,null,"GORCE PLB120001",null,null,null,null,null,null,null,"Silene lithuanica (lepnica litewska): D","Onopordetalia acanthii",null,null,null,null,null,"Scutellaria hastifolia ","Tarczyca oszczepowata (t. oszczepolistna)"," C"]
[null,null,null,null,null,null,null,null,null,null,null,null,null,null,null,null,null,"GOŚCIERADÓW PLH060007",null,null,null,null,null,null,null,"Silene nutans (lepnica zwisła): D","Onopordetum acanthii",null,null,null,null,null,"Pinguicula vulgaris ","Tłustosz pospolity "," G"]
[null,null,null,null,null,null,null,null,null,null,null,null,null,null,null,null,null,"GÓRA ŚWIĘTEJ ANNY PLH160002",null,null,null,null,null,null,null,"Silene otites s.l. (lepnica wąskopłatkowa): D","Onopordion acanthii",null,null,null,null,null,"Molinia caerulea s.l. ","Trzęślica modra "," A"]
[null,null,null,null,null,null,null,null,null,null,null,null,null,null,null,null,null,"GÓRA WAPIENNA PLH020095",null,null,null,null,null,null,null,"Silene tatarica (lepnica tatarska): D","Orchido-Schoenetum nigricantis",null,null,null,null,null,"Carex limosa ","Turzyca bagienna "," G"]
[null,null,null,null,null,null,null,null,null,null,null,null,null,null,null,null,null,"GÓRKOWSKI LAS PLH220045",null,null,null,null,null,null,null,"Spergularia salina (muchotrzew solniskowy): B","Oreochloetum distichae (subnivale)",null,null,null,null,null,"Carex buxbaumii ","Turzyca buxbauma "," G"]
[null,null,null,null,null,null,null,null,null,null,null,null,null,null,null,null,null,"GÓRNY DUNAJEC PLH120086",null,null,null,null,null,null,null,"Sphagnum spp. (rodzaj torfowiec): G","Oreochloo distichae-Juncetum trifidi",null,null,null,null,null,"Carex cespitosa ","Turzyca darniowa "," E"]
[null,null,null,null,null,null,null,null,null,null,null,null,null,null,null,null,null,"GÓRY BARDZKIE PLH020062",null,null,null,null,null,null,null,"Spiranthes spiralis (kręczynka jesienna): D","Origanetalia",null,null,null,null,null,"Carex davalliana ","Turzyca davalla "," A, G"]
[null,null,null,null,null,null,null,null,null,null,null,null,null,null,null,null,null,"GÓRY BIALSKIE I GRUPA ŚNIEŻNIKA PLH020016",null,null,null,null,null,null,null,"Spiranthes spiralis (kręczynka jesienna): F","Origano-Brachypodietum",null,null,null,null,null,"Carex dioica ","Turzyca dwupienna "," G"]
[null,null,null,null,null,null,null,null,null,null,null,null,null,null,null,null,null,"GÓRY I POGÓRZE KACZAWSKIE PLH020037",null,null,null,null,null,null,null,"Stachys germanica (czyściec kosmaty): D","Oxycocco-Empetrion hermaphroditi",null,null,null,null,null,"Carex rostrata ","Turzyca dzióbkowata "," G"]
[null,null,null,null,null,null,null,null,null,null,null,null,null,null,null,null,null,"GÓRY IZERSKIE PLB020009",null,null,null,null,null,null,null,"Stachys recta (czyściec prosty): D","Oxycocco-Ericion",null,null,null,null,null,"Carex tomentosa ","Turzyca filcowata "," A"]
[null,null,null,null,null,null,null,null,null,null,null,null,null,null,null,null,null,"GÓRY KAMIENNE PLH020038",null,null,null,null,null,null,null,"Stellaria crassifolia (gwiazdnica grubolistna): G","Oxycocco-Sphagnetea",null,null,null,null,null,"Carex echinata ","Turzyca gwiazdkowata "," G"]
[null,null,null,null,null,null,null,null,null,null,null,null,null,null,null,null,null,"GÓRY OPAWSKIE PLH160007",null,null,null,null,null,null,null,"Stipa spp. (rodzaj ostnica): D","Pado-Sorbetum",null,null,null,null,null,"Carex hartmanii ","Turzyca hartmana "," A"]
[null,null,null,null,null,null,null,null,null,null,null,null,null,null,null,null,null,"GÓRY ORLICKIE PLH020060",null,null,null,null,null,null,null,"Straminergon stramineum (słomiaczek złotawy): G","Petasitetum albi",null,null,null,null,null,"Carex hostiana ","Turzyca hosta "," G"]
[null,null,null,null,null,null,null,null,null,null,null,null,null,null,null,null,null,"GÓRY PIEPRZOWE PLH260022",null,null,null,null,null,null,null,"Succisa pratensis (czarcikęs łąkowy): A","Petasitetum kablikiani",null,null,null,null,null,"Carex lasiocarpa ","Turzyca nitkowata "," G"]
[null,null,null,null,null,null,null,null,null,null,null,null,null,null,null,null,null,"GÓRY SŁONNE PLB180003",null,null,null,null,null,null,null,"Succisella inflexa (czarcikęsik kluka): A, C, E","Phalaridetum arundinaceae",null,null,null,null,null,"Carex diandra ","Turzyca obła "," G"]
[null,null,null,null,null,null,null,null,null,null,null,null,null,null,null,null,null,"GÓRY SŁONNE PLH180013",null,null,null,null,null,null,null,"Swertia perennis (niebielistka (swercja) trwała): G","Phalarido-Petasitetum hybridi",null,null,null,null,null,"Carex pilulifera ","Turzyca pigułkowata "," D"]
[null,null,null,null,null,null,null,null,null,null,null,null,null,null,null,null,null,"GÓRY STOŁOWE PLB020006",null,null,null,null,null,null,null,"Teucrium botrys (ożanka pierzastosieczna): D","Phragmitetalia",null,null,null,null,null,"Carex nigra ","Turzyca pospolita "," E"]
[null,null,null,null,null,null,null,null,null,null,null,null,null,null,null,null,null,"GÓRY STOŁOWE PLH020004",null,null,null,null,null,null,null,"Teucrium chamaedrys (ożanka właściwa): D","Phragmitetea",null,null,null,null,null,"Carex panicea ","Turzyca prosowata "," A"]
[null,null,null,null,null,null,null,null,null,null,null,null,null,null,null,null,null,"GÓRY ZŁOTE PLH020096",null,null,null,null,null,null,null,"Thalictrum flavum (rutewka żółta): E","Phragmitetum australis",null,null,null,null,null,"Carex canescens ","Turzyca siwa "," G"]
[null,null,null,null,null,null,null,null,null,null,null,null,null,null,null,null,null,"GRABIA PLH100021",null,null,null,null,null,null,null,"Thalictrum lucidum (rutewka wąskolistna): C, E","Phragmition",null,null,null,null,null,"Carex pauciflora ","Turzyca skąpokwiatowa "," G"]
[null,null,null,null,null,null,null,null,null,null,null,null,null,null,null,null,null,"GRABINKA PLH140044",null,null,null,null,null,null,null,"Thalictrum minus (rutewka mniejsza): D","Phyteumo (orbicularis)-Trifolietum pratensis",null,null,null,null,null,"Carex chordorrhiza ","Turzyca strunowa "," G"]
[null,null,null,null,null,null,null,null,null,null,null,null,null,null,null,null,null,"GRANICZNY MEANDER ODRY PLH240013",null,null,null,null,null,null,null,"Thalictrum simplex (rutewka pojedyncza): D","Pilularietum globuliferae",null,null,null,null,null,"Carex heleonastes ","Turzyca torfowa "," G"]
[null,null,null,null,null,null,null,null,null,null,null,null,null,null,null,null,null,"GRĄDY BYTYŃSKIE PLH300051",null,null,null,null,null,null,null,"Thesium spp. (rodzaj leniec): D","Pino mugo-Sphagnetum",null,null,null,null,null,"Carex caryophyllea ","Turzyca wiosenna "," D"]
[null,null,null,null,null,null,null,null,null,null,null,null,null,null,null,null,null,"GRĄDY NAD JEZIORAMI ZDUŃSKIM I SZPĘGAWSKIM PLH220067",null,null,null,null,null,null,null,"Thymus spp. (rodzaj macierzanka): D","Plantaginetalia majoris",null,null,null,null,null,"Carex ericetorum ","Turzyca wrzosowiskowa "," D"]
[null,null,null,null,null,null,null,null,null,null,null,null,null,null,null,null,null,"GRĄDY NAD LINDĄ PLH100022",null,null,null,null,null,null,null,"Tofieldia calyculata (kosatka kielichowa): G","Plantagini-Bupleuretum tenuissimi",null,null,null,null,null,"Carex flava s.l. ","Turzyca żółta "," G"]
[null,null,null,null,null,null,null,null,null,null,null,null,null,null,null,null,null,"GRĄDY ODRZAŃSKIE PLB020002",null,null,null,null,null,null,null,"Tomentypnum nitens (błyszcze włoskowate): G","Poetum annuae",null,null,null,null,null,"Phleum phleoides ","Tymotka boehmera "," D"]
[null,null,null,null,null,null,null,null,null,null,null,null,null,null,null,null,null,"GRĄDY W CZERNIEJEWIE PLH300049",null,null,null,null,null,null,null,"Tragopogon orientalis (kozibród wschodni): F","Pohlio-Callunetum",null,null,null,null,null,"Antennaria dioica ","Ukwap dwupienny "," D"]
[null,null,null,null,null,null,null,null,null,null,null,null,null,null,null,null,null,"GRĄDY W DOLINIE ODRY PLH020017",null,null,null,null,null,null,null,"Tragopogon pratensis (kozibród łąkowy): F","Pohlio-Callunion",null,null,null,null,null,"Hammarbya paludosa ","Wątlik błotny "," G"]
[null,null,null,null,null,null,null,null,null,null,null,null,null,null,null,null,null,"GRODCZYN I HOMOLE KOŁO DUSZNIK PLH020039",null,null,null,null,null,null,null,"Traunsteinera globosa (storczyca kulista): F","Polygalo-Nardetum",null,null,null,null,null,"Baeothryon alpinum ","Wełnianeczka alpejska "," G"]
[null,null,null,null,null,null,null,null,null,null,null,null,null,null,null,null,null,"GRZYMAŁÓW PLH120053",null,null,null,null,null,null,null,"Trifolium dubium (koniczyna drobnogłówkowa): F","Polygonetum calcati",null,null,null,null,null,"Baeothryon cespitosum ","Wełnianeczka darniowa "," G"]
[null,null,null,null,null,null,null,null,null,null,null,null,null,null,null,null,null,"GUZÓWKA PLH060071",null,null,null,null,null,null,null,"Trifolium montanum (koniczyna pagórkowa): A, D, F","Polygonion avicularis",null,null,null,null,null,"Scorzonera rosea ","Wężymord górski "," D"]
[null,null,null,null,null,null,null,null,null,null,null,null,null,null,null,null,null,"GUZY PLH220068",null,null,null,null,null,null,null,"Trifolium rubens (koniczyna długokłosowa): D","Polygono bistortae-Trollietum europaei",null,null,null,null,null,"Scorzonera humilis ","Wężymord niski "," D"]
[null,null,null,null,null,null,null,null,null,null,null,null,null,null,null,null,null,"HOPOWO PLH220010",null,null,null,null,null,null,null,"Triglochin maritimum (świbka morska): B","Polygono brittingeri-Chenopodietum rubri",null,null,null,null,null,"Scorzonera purpurea ","Wężymord stepowy "," D"]
[null,null,null,null,null,null,null,null,null,null,null,null,null,null,null,null,null,"HORODYSKO PLH060060",null,null,null,null,null,null,null,"Triglochin palustre (świbka błotna): E, G","Polygono-Bidentetum",null,null,null,null,null,"Filipendula vulgaris ","Wiązówka bulwkowa "," A, D"]
[null,null,null,null,null,null,null,null,null,null,null,null,null,null,null,null,null,"HORODYSZCZE PLH060101",null,null,null,null,null,null,null,"Trisetum flavescens (konietlica łąkowa): F","Polygono-Coronopetum squamati (Poo-Coronopetum squamati)",null,null,null,null,null,"Lycopodiella inundata ","Widłaczek  (widłak)"," G"]
[null,null,null,null,null,null,null,null,null,null,null,null,null,null,null,null,null,"HORYNIEC PLH180017",null,null,null,null,null,null,null,"Trollius spp. (rodzaj pełnik): A, E","Polygono-Trisetion",null,null,null,null,null,"Lycopodium clavatum ","Widłak goździsty "," D"]
[null,null,null,null,null,null,null,null,null,null,null,null,null,null,null,null,null,"HUBALE PLH060008",null,null,null,null,null,null,null,"Utricularia spp. (rodzaj pływacz): G","Polytricho communis-Molinietum caeruleae ",null,null,null,null,null,"Euphorbia lucida ","Wilczomlecz  (ostromlecz)"," C"]
[null,null,null,null,null,null,null,null,null,null,null,null,null,null,null,null,null,"HUBERT PLH240036",null,null,null,null,null,null,null,"Vaccinium uliginosum (borówka bagienna (pijanica)): G","Polytricho piliferi-Stereocauletum condensati",null,null,null,null,null,"Euphorbia palustris ","Wilczomlecz  (ostromlecz)"," C"]
[null,null,null,null,null,null,null,null,null,null,null,null,null,null,null,null,null,"HUTA DOLNA PLH220089",null,null,null,null,null,null,null,"Valeriana dioica s.l. (kozłek dwupienny): E, G","Poo-Anthemetum tinctoriae",null,null,null,null,null,"Ononis spinosa ","Wilżyna ciernista "," D"]
[null,null,null,null,null,null,null,null,null,null,null,null,null,null,null,null,null,"IRYSOWY ZAGON KOŁO GROMADZYNIA PLH020051",null,null,null,null,null,null,null,"Valeriana officinalis (kozłek lekarski): E","Poo-Deschampsietum",null,null,null,null,null,"Calluna vulgaris ","Wrzos zwyczajny "," D"]
[null,null,null,null,null,null,null,null,null,null,null,null,null,null,null,null,null,"IZBICKI PRZEŁOM WIEPRZA PLH060030",null,null,null,null,null,null,null,"Verbascum phoeniceum (dziewanna fioletowa): D","Poo-Lathyretum palustris",null,null,null,null,null,"Erica tetralix ","Wrzosiec bagienny "," G"]
[null,null,null,null,null,null,null,null,null,null,null,null,null,null,null,null,null,"JAĆMIERZ PLH180032",null,null,null,null,null,null,null,"Veronica austriaca (przetacznik ząbkowany): D","Poo-Tussilaginetum farfarae",null,null,null,null,null,"Meum athamanticum ","Wszewłoga górska "," F"]
[null,null,null,null,null,null,null,null,null,null,null,null,null,null,null,null,null,"JADOWNIKI MOKRE PLH120068",null,null,null,null,null,null,null,"Veronica longifolia (przetacznik długolistny): C, E","Poo-Veratretum lobeliani",null,null,null,null,null,"Odontites litoralis ","Zagorzałek nadbrzeżny "," B"]
[null,null,null,null,null,null,null,null,null,null,null,null,null,null,null,null,null,"JANIEWICKIE BAGNO PLH320008",null,null,null,null,null,null,null,"Veronica spicata (przetacznik kłosowy): D","Potentillo-Artemisietum absinthii",null,null,null,null,null,"Armeria maritima ","Zawciąg pospolity "," D"]
[null,null,null,null,null,null,null,null,null,null,null,null,null,null,null,null,null,"JAR RZEKI RADUNI PLH220011",null,null,null,null,null,null,null,"Veronica teucrium (przetacznik pagórkowy): D","Potentillo-Festucetum arundinaceae",null,null,null,null,null,"Anemone sylvestris ","Zawilec wielkokwiatowy (z. leśny)"," D"]
[null,null,null,null,null,null,null,null,null,null,null,null,null,null,null,null,null,"JAROSZOWIEC PLH120006",null,null,null,null,null,null,null,"Viola elatior (fiołek wyniosły): C","Potentillo-Stipetum capillatae",null,null,null,null,null,"Phyteuma spicatum ","Zerwa kłosowa "," F"]
[null,null,null,null,null,null,null,null,null,null,null,null,null,null,null,null,null,"JASIÓŁKA PLH180011",null,null,null,null,null,null,null,"Viola epipsila (fiołek torfowy): G","Prunello-Plantaginetum",null,null,null,null,null,"Phyteuma orbiculare ","Zerwa kulista (z. główkowata)"," F"]
[null,null,null,null,null,null,null,null,null,null,null,null,null,null,null,null,null,"JELENIEWO PLH200001",null,null,null,null,null,null,null,"Viola pumila (fiołek drobny): C","Prunetalia spinosae",null,null,null,null,null,"Colchicum autumnale ","Zimowit jesienny "," E, F"]
[null,null,null,null,null,null,null,null,null,null,null,null,null,null,null,null,null,"JELINO PLH060095",null,null,null,null,null,null,null,"Viola stagnina (fiołek mokradłowy): C","Prunion fruticosae",null,null,null,null,null,"Campylium stellatum ","Złocieniec gwiazdkowaty "," G"]
[null,null,null,null,null,null,null,null,null,null,null,null,null,null,null,null,null,"JELONEK PRZEMKOWSKI PLH020097",null,null,null,null,null,null,null,"Viscaria vulgaris (smółka pospolita): D","Pruno-Ligustretum",null,null,null,null,null,"Cratoneuron filicinum ","Żebrowiec paprociowaty "," G"]
[null,null,null,null,null,null,null,null,null,null,null,null,null,null,null,null,null,"JELONKA PLH200019",null,null,null,null,null,null,null,"Warnstorfia spp. (rodzaj warnstorfia): G","Pruno-Rubion fruticosi",null,null,null,null,null,"Seseli annuum ","Żebrzyca roczna "," D"]
[null,null,null,null,null,null,null,null,null,null,null,null,null,null,null,null,null,"JEZIORA BRODZKIE PLH080052",null,null,null,null,null,null,null,null,"Puccinelion maritimae",null,null,null,null,null,"Oxycoccus palustris ","Żurawina błotna "," G"]
[null,null,null,null,null,null,null,null,null,null,null,null,null,null,null,null,null,"JEZIORA CHOCZEWSKIE PLH220096",null,null,null,null,null,null,null,null,"Puccinellietum maritimae"]
[null,null,null,null,null,null,null,null,null,null,null,null,null,null,null,null,null,"JEZIORA CZAPLINECKIE PLH320039",null,null,null,null,null,null,null,null,"Puccinellio distantis-Salicornietum brachystachyae"]
[null,null,null,null,null,null,null,null,null,null,null,null,null,null,null,null,null,"JEZIORA GOŚCIMSKIE PLH080036",null,null,null,null,null,null,null,null,"Puccinellio maritimae-Salicornietum brachystachyae"]
[null,null,null,null,null,null,null,null,null,null,null,null,null,null,null,null,null,"JEZIORA KISTOWSKIE PLH220097",null,null,null,null,null,null,null,null,"Puccinellio-Spergularietum salinae"]
[null,null,null,null,null,null,null,null,null,null,null,null,null,null,null,null,null,"JEZIORA LOBELIOWE KOŁO SOSZYCY PLH220039",null,null,null,null,null,null,null,null,"Pulmonario-Alnetum viridis"]
[null,null,null,null,null,null,null,null,null,null,null,null,null,null,null,null,null,"JEZIORA PSZCZEWSKIE I DOLINA OBRY PLB080005",null,null,null,null,null,null,null,null,"Radiolion linoidis"]
[null,null,null,null,null,null,null,null,null,null,null,null,null,null,null,null,null,"JEZIORA PSZCZEWSKIE I DOLINA OBRY PLH080002",null,null,null,null,null,null,null,null,"Ranunculo gracilis-Radioletum"]
[null,null,null,null,null,null,null,null,null,null,null,null,null,null,null,null,null,"JEZIORA SZCZECINECKIE PLH320009",null,null,null,null,null,null,null,null,"Ranunculo-Alopecuretum geniculati"]
[null,null,null,null,null,null,null,null,null,null,null,null,null,null,null,null,null,"JEZIORA UŚCIWIERSKIE PLH060009",null,null,null,null,null,null,null,null,"Ranunculo-Juncetum bulbosi"]
[null,null,null,null,null,null,null,null,null,null,null,null,null,null,null,null,null,"JEZIORA WDZYDZKIE PLH220034",null,null,null,null,null,null,null,null,"Ranunculo-Myosuretum minimi"]
[null,null,null,null,null,null,null,null,null,null,null,null,null,null,null,null,null,"JEZIORA WELTYŃSKIE PLB320018",null,null,null,null,null,null,null,null,"Rhamno-Cornetum sanguinei"]
[null,null,null,null,null,null,null,null,null,null,null,null,null,null,null,null,null,"JEZIORKA CHOŚNICKIE PLH220012",null,null,null,null,null,null,null,null,"Rhamno-Prunetea"]
[null,null,null,null,null,null,null,null,null,null,null,null,null,null,null,null,null,"JEZIORO BOBIĘCIŃSKIE PLH320040",null,null,null,null,null,null,null,null,"Rhynchosporetum albae"]
[null,null,null,null,null,null,null,null,null,null,null,null,null,null,null,null,null,"JEZIORO BRENNO PLH300018",null,null,null,null,null,null,null,null,"Rhynchosporion albae"]
[null,null,null,null,null,null,null,null,null,null,null,null,null,null,null,null,null,"JEZIORO BUKOWO PLH320041",null,null,null,null,null,null,null,null,"Rhynchosporo albae-Sphagnetum tenelli"]
[null,null,null,null,null,null,null,null,null,null,null,null,null,null,null,null,null,"JEZIORO DŁUGIE PLH280030",null,null,null,null,null,null,null,null,"Rorippo-Agrostietum"]
[null,null,null,null,null,null,null,null,null,null,null,null,null,null,null,null,null,"JEZIORO DOBSKIE PLB280012",null,null,null,null,null,null,null,null,"Rubetum idaei"]
[null,null,null,null,null,null,null,null,null,null,null,null,null,null,null,null,null,"JEZIORO DRUŻNO PLB280013",null,null,null,null,null,null,null,null,"Rubo fruticosi-Prunetum spinosae"]
[null,null,null,null,null,null,null,null,null,null,null,null,null,null,null,null,null,"JEZIORO DRUŻNO PLH280028",null,null,null,null,null,null,null,null,"Rudbeckio-Solidaginetum"]
[null,null,null,null,null,null,null,null,null,null,null,null,null,null,null,null,null,"JEZIORO DYMNO PLH220069",null,null,null,null,null,null,null,null,"Rumicetum alpini"]
[null,null,null,null,null,null,null,null,null,null,null,null,null,null,null,null,null,"JEZIORO GOPŁO PLH040007",null,null,null,null,null,null,null,null,"Rumicetum maritimi"]
[null,null,null,null,null,null,null,null,null,null,null,null,null,null,null,null,null,"JEZIORO JANISZOWICE PLH080053",null,null,null,null,null,null,null,null,"Rumicion alpini"]
[null,null,null,null,null,null,null,null,null,null,null,null,null,null,null,null,null,"JEZIORO KALISZAŃSKIE PLH300044",null,null,null,null,null,null,null,null,"Rumici-Spergularietum rubrae"]
[null,null,null,null,null,null,null,null,null,null,null,null,null,null,null,null,null,"JEZIORO KARAŚ PLH280003",null,null,null,null,null,null,null,null,"Sagittario-Sparganietum emersi"]
[null,null,null,null,null,null,null,null,null,null,null,null,null,null,null,null,null,"JEZIORO KOPAŃ PLH320059",null,null,null,null,null,null,null,null,"Salicetum lapponicum"]
[null,null,null,null,null,null,null,null,null,null,null,null,null,null,null,null,null,"JEZIORO KOZIE PLH320010",null,null,null,null,null,null,null,null,"Salicion arenariae"]
[null,null,null,null,null,null,null,null,null,null,null,null,null,null,null,null,null,"JEZIORO KRASNE PLH220035",null,null,null,null,null,null,null,null,"Salicornietum dolichostachyae"]
[null,null,null,null,null,null,null,null,null,null,null,null,null,null,null,null,null,"JEZIORO KRĄG PLH220070",null,null,null,null,null,null,null,null,"Salicornion ramosissimae"]
[null,null,null,null,null,null,null,null,null,null,null,null,null,null,null,null,null,"JEZIORO KUBEK PLH300006",null,null,null,null,null,null,null,null,"Salicornion strictae"]
[null,null,null,null,null,null,null,null,null,null,null,null,null,null,null,null,null,"JEZIORO LUBIE I DOLINA DRAWY PLH320023",null,null,null,null,null,null,null,null,"Salvio verticillatae-Artemisietum"]
[null,null,null,null,null,null,null,null,null,null,null,null,null,null,null,null,null,"JEZIORO ŁUKNAJNO PLB280003",null,null,null,null,null,null,null,null,"Sambucetum ebuli"]
[null,null,null,null,null,null,null,null,null,null,null,null,null,null,null,null,null,"JEZIORO MIEDWIE I OKOLICE PLB320005",null,null,null,null,null,null,null,null,"Sambucetum nigrae"]
[null,null,null,null,null,null,null,null,null,null,null,null,null,null,null,null,null,"JEZIORO MNICH PLH300029",null,null,null,null,null,null,null,null,"Sambucetum racemosae"]
[null,null,null,null,null,null,null,null,null,null,null,null,null,null,null,null,null,"JEZIORO OŚWIN I OKOLICE PLB280004",null,null,null,null,null,null,null,null,"Sambuco-Salicion"]
[null,null,null,null,null,null,null,null,null,null,null,null,null,null,null,null,null,"JEZIORO PIASEK PLH220013",null,null,null,null,null,null,null,null,"Sanguisorbo-Silaetum"]
[null,null,null,null,null,null,null,null,null,null,null,null,null,null,null,null,null,"JEZIORO STOLSKO PLH320063",null,null,null,null,null,null,null,null,"Saxifrago-Festucetum versicoloris"]
[null,null,null,null,null,null,null,null,null,null,null,null,null,null,null,null,null,"JEZIORO ŚMIADOWO PLH320042",null,null,null,null,null,null,null,null,"Scabioso canescentis-Genistetum"]
[null,null,null,null,null,null,null,null,null,null,null,null,null,null,null,null,null,"JEZIORO ŚWIDWIE PLB320006",null,null,null,null,null,null,null,null,"Scheuchzerietalia palustris"]
[null,null,null,null,null,null,null,null,null,null,null,null,null,null,null,null,null,"JEZIORO WIELKI BYTYŃ PLH320011",null,null,null,null,null,null,null,null,"Scheuchzerio-Caricetea nigrae"]
[null,null,null,null,null,null,null,null,null,null,null,null,null,null,null,null,null,"JEZIORO WOSZCZELSKIE PLH280034",null,null,null,null,null,null,null,null,"Scirpetum lacustris"]
[null,null,null,null,null,null,null,null,null,null,null,null,null,null,null,null,null,"JEZIORO WUKŚNIKI PLH280038",null,null,null,null,null,null,null,null,"Scirpetum maritimi"]
[null,null,null,null,null,null,null,null,null,null,null,null,null,null,null,null,null,"JEZIORO ZGIERZYNIECKIE PLB300009",null,null,null,null,null,null,null,null,"Scirpetum silvatici"]
[null,null,null,null,null,null,null,null,null,null,null,null,null,null,null,null,null,"JONKOWO-WARKAŁY PLH280039",null,null,null,null,null,null,null,null,"Scirpo austriaci-Sphagnetum papillosi (Trichophoro cespitosi-Sphagnetum papillosi)"]
[null,null,null,null,null,null,null,null,null,null,null,null,null,null,null,null,null,"JÓZEFÓW - WOLA DĘBOWIECKA PLH180033",null,null,null,null,null,null,null,null,"Sclerantho-Herniarietum glabrae"]
[null,null,null,null,null,null,null,null,null,null,null,null,null,null,null,null,null,"KACZMAROWE DOŁY PLH120062",null,null,null,null,null,null,null,null,"Scorpidio-Utricularietum minoris"]
[null,null,null,null,null,null,null,null,null,null,null,null,null,null,null,null,null,"KALINA MAŁA PLH120054",null,null,null,null,null,null,null,null,"Sedo-Peucedanetum oreoselini"]
[null,null,null,null,null,null,null,null,null,null,null,null,null,null,null,null,null,"KALINA–LISINIEC PLH120007",null,null,null,null,null,null,null,null,"Senecion fluviatilis"]
[null,null,null,null,null,null,null,null,null,null,null,null,null,null,null,null,null,"KAMIEŃ PLH060067",null,null,null,null,null,null,null,null,"Senecionetum fluviatilis"]
[null,null,null,null,null,null,null,null,null,null,null,null,null,null,null,null,null,"KAMIEŃ ŚLĄSKI PLH160003",null,null,null,null,null,null,null,null,"Senecionetum fuchsii"]
[null,null,null,null,null,null,null,null,null,null,null,null,null,null,null,null,null,"KAMIONKI PLH020005",null,null,null,null,null,null,null,null,"Senecioni sylvatici-Epilobietum angustifolii"]
[null,null,null,null,null,null,null,null,null,null,null,null,null,null,null,null,null,"KAMPINOSKA DOLINA WISŁY PLH140029",null,null,null,null,null,null,null,null,"Seslerietalia variae"]
[null,null,null,null,null,null,null,null,null,null,null,null,null,null,null,null,null,"KANTOR STARY PLH140007",null,null,null,null,null,null,null,null,"Seslerietea variae"]
[null,null,null,null,null,null,null,null,null,null,null,null,null,null,null,null,null,"KARGOWSKIE ZAKOLA ODRY PLH080012",null,null,null,null,null,null,null,null,"Seslerio-Festucion duriusculae"]
[null,null,null,null,null,null,null,null,null,null,null,null,null,null,null,null,null,"KARKONOSZE PLB020007",null,null,null,null,null,null,null,null,"Seslerion tatrae"]
[null,null,null,null,null,null,null,null,null,null,null,null,null,null,null,null,null,"KARKONOSZE PLH020006",null,null,null,null,null,null,null,null,"Seslerio-Scorzoneretum purpureae"]
[null,null,null,null,null,null,null,null,null,null,null,null,null,null,null,null,null,"KARSIBÓRZ ŚWIDWIŃSKI PLH320043",null,null,null,null,null,null,null,null,"Sieglingio-Agrostitetum"]
[null,null,null,null,null,null,null,null,null,null,null,null,null,null,null,null,null,"KARSZÓWEK PLH020098",null,null,null,null,null,null,null,null,"Sileno conicae-Cerastietum semidecandri"]
[null,null,null,null,null,null,null,null,null,null,null,null,null,null,null,null,null,"KARWICKIE ŹRÓDLISKA PLH220071",null,null,null,null,null,null,null,null,"Sileno otitis-Festucetum"]
[null,null,null,null,null,null,null,null,null,null,null,null,null,null,null,null,null,"KASZUBSKIE KLIFY PLH220072",null,null,null,null,null,null,null,null,"Sisymbrio-Stipetum capillatae"]
[null,null,null,null,null,null,null,null,null,null,null,null,null,null,null,null,null,"KASZUNY PLH280040",null,null,null,null,null,null,null,null,"Sparganietum erecti"]
[null,null,null,null,null,null,null,null,null,null,null,null,null,null,null,null,null,"KAZIMIERÓWKA PLH060088",null,null,null,null,null,null,null,null,"Sparganio-Glycerietum fluitantis"]
[null,null,null,null,null,null,null,null,null,null,null,null,null,null,null,null,null,"KĄTY PLH060010",null,null,null,null,null,null,null,null,"Sparganio-Glycerion fluitantis"]
[null,null,null,null,null,null,null,null,null,null,null,null,null,null,null,null,null,"KEMY RYMAŃSKIE PLH320012",null,null,null,null,null,null,null,null,"Sparganium minimi"]
[null,null,null,null,null,null,null,null,null,null,null,null,null,null,null,null,null,"KĘPIE NA WYŻYNIE MIECHOWSKIEJ PLH120070",null,null,null,null,null,null,null,null,"Spergulario-Illecebretum verticillati"]
[null,null,null,null,null,null,null,null,null,null,null,null,null,null,null,null,null,"KIEŁCZYN PLH020099",null,null,null,null,null,null,null,null,"Spergulo vernalis-Corynephoretum"]
[null,null,null,null,null,null,null,null,null,null,null,null,null,null,null,null,null,"KISZEWO PLH300037",null,null,null,null,null,null,null,null,"Sphagnetalia magellanici"]
[null,null,null,null,null,null,null,null,null,null,null,null,null,null,null,null,null,"KLIFY PODDĘBSKIE PLH220100",null,null,null,null,null,null,null,null,"Sphagnetum magellanici"]
[null,null,null,null,null,null,null,null,null,null,null,null,null,null,null,null,null,"KLONÓWKA PLH180022",null,null,null,null,null,null,null,null,"Sphagnion cuspidati"]
[null,null,null,null,null,null,null,null,null,null,null,null,null,null,null,null,null,"KOŁACZNIA PLH180006",null,null,null,null,null,null,null,null,"Sphagnion magellanici"]
[null,null,null,null,null,null,null,null,null,null,null,null,null,null,null,null,null,"KOŁO GROBLI PLH120008",null,null,null,null,null,null,null,null,"Sphagno recurvi-Caricetum lasiocarpae"]
[null,null,null,null,null,null,null,null,null,null,null,null,null,null,null,null,null,"KOMASZYCE PLH060063",null,null,null,null,null,null,null,null,"Sphagno recurvi-Caricetum rostratae"]
[null,null,null,null,null,null,null,null,null,null,null,null,null,null,null,null,null,"KOMORÓW PLH120055",null,null,null,null,null,null,null,null,"Sphagno robusti-Empetretum hermaphroditi (Empetro nigri-Sphagnetum fusci )"]
[null,null,null,null,null,null,null,null,null,null,null,null,null,null,null,null,null,"KOPALNIE W ZŁOTYM STOKU PLH020007",null,null,null,null,null,null,null,null,"Sphagno warnstorfii-Eriophoretum latifolii"]
[null,null,null,null,null,null,null,null,null,null,null,null,null,null,null,null,null,"KOPANKI PLH300008",null,null,null,null,null,null,null,null,"Sphagno warnstorfii-Tomentypnion nitentis"]
[null,null,null,null,null,null,null,null,null,null,null,null,null,null,null,null,null,"KORNELÓWKA PLH060091",null,null,null,null,null,null,null,null,"Sphagno-Caricion canescentis"]
[null,null,null,null,null,null,null,null,null,null,null,null,null,null,null,null,null,"KOSTRZA PLH120009",null,null,null,null,null,null,null,null,"Sphagno-Ericetalia"]
[null,null,null,null,null,null,null,null,null,null,null,null,null,null,null,null,null,"KOŚCIÓŁ W DYDNI PLH180034",null,null,null,null,null,null,null,null,"Sphagno-Utricularietum ochroleucae"]
[null,null,null,null,null,null,null,null,null,null,null,null,null,null,null,null,null,"KOŚCIÓŁ W GÓRKACH WIELKICH PLH240008",null,null,null,null,null,null,null,null,"Sphagno-Utricularion"]
[null,null,null,null,null,null,null,null,null,null,null,null,null,null,null,null,null,"KOŚCIÓŁ W KONRADOWIE PLH020008",null,null,null,null,null,null,null,null,"Stellario-Isolepidetum setacei"]
[null,null,null,null,null,null,null,null,null,null,null,null,null,null,null,null,null,"KOŚCIÓŁ W NOWOSIELCACH PLH180035",null,null,null,null,null,null,null,null,"Teucrio-Melicetum ciliatae"]
[null,null,null,null,null,null,null,null,null,null,null,null,null,null,null,null,null,"KOŚCIÓŁ W RADZIECHOWACH PLH240007",null,null,null,null,null,null,null,null,"Thalictro-Salvietum pratensis"]
[null,null,null,null,null,null,null,null,null,null,null,null,null,null,null,null,null,"KOŚCIÓŁ W RÓWNEM PLH180036",null,null,null,null,null,null,null,null,"Thelypteridi-Phragmitetum"]
[null,null,null,null,null,null,null,null,null,null,null,null,null,null,null,null,null,"KOŚCIÓŁ W SKALNIKU PLH180037",null,null,null,null,null,null,null,null,"Thero-Salicornietalia"]
[null,null,null,null,null,null,null,null,null,null,null,null,null,null,null,null,null,"KOŚCIÓŁ W ŚLIWICACH PLH040034",null,null,null,null,null,null,null,null,"Thero-Salicornietea"]
[null,null,null,null,null,null,null,null,null,null,null,null,null,null,null,null,null,"KOŚCIÓŁ W WĘGLÓWCE PLH120046",null,null,null,null,null,null,null,null,"Thymo-Potentilletum puberulae"]
[null,null,null,null,null,null,null,null,null,null,null,null,null,null,null,null,null,"KOZIORÓG W CZERNEJ PLH020100",null,null,null,null,null,null,null,null,"Torilidetum japonicae"]
[null,null,null,null,null,null,null,null,null,null,null,null,null,null,null,null,null,"KRAS STASZOWSKI PLH260023",null,null,null,null,null,null,null,null,"Trichophorum alpinum-Sphagnum compactum"]
[null,null,null,null,null,null,null,null,null,null,null,null,null,null,null,null,null,"KROGULEC PLH140008",null,null,null,null,null,null,null,null,"Trifolio fragiferae-Agrostietalia stoloniferae"]
[null,null,null,null,null,null,null,null,null,null,null,null,null,null,null,null,null,"KROWIE BAGNO PLH060011",null,null,null,null,null,null,null,null,"Trifolio-Agrimonietum"]
[null,null,null,null,null,null,null,null,null,null,null,null,null,null,null,null,null,"KRYNICA PLH120039",null,null,null,null,null,null,null,null,"Trifolio-Anthyllidetum maritimae"]
[null,null,null,null,null,null,null,null,null,null,null,null,null,null,null,null,null,"KRZEMIONKI OPATOWSKIE PLH260024",null,null,null,null,null,null,null,null,"Trifolio-Geranietea sanguinei"]
[null,null,null,null,null,null,null,null,null,null,null,null,null,null,null,null,null,"KRZESZOWICE PLH120044",null,null,null,null,null,null,null,null,"Trifolio-Melampyretum nemorosi"]
[null,null,null,null,null,null,null,null,null,null,null,null,null,null,null,null,null,"KRZEWINY PLH040022",null,null,null,null,null,null,null,null,"Trifolion medii"]
[null,null,null,null,null,null,null,null,null,null,null,null,null,null,null,null,null,"KUMAKI DOBREJ PLH020078",null,null,null,null,null,null,null,null,"Triglochino-Glaucetum maritimae"]
[null,null,null,null,null,null,null,null,null,null,null,null,null,null,null,null,null,"KUMÓW MAJORACKI PLH060072",null,null,null,null,null,null,null,null,"Typhetum angustifoliae"]
[null,null,null,null,null,null,null,null,null,null,null,null,null,null,null,null,null,"KURZE GRZĘDY PLH220014",null,null,null,null,null,null,null,null,"Typhetum latifoliae"]
[null,null,null,null,null,null,null,null,null,null,null,null,null,null,null,null,null,"KWIATÓWKA PLH120056",null,null,null,null,null,null,null,null,"Urtico-Aegopodietum podagrariae"]
[null,null,null,null,null,null,null,null,null,null,null,null,null,null,null,null,null,"LADZIN PLH180038",null,null,null,null,null,null,null,null,"Urtico-Calystegietum sepium"]
[null,null,null,null,null,null,null,null,null,null,null,null,null,null,null,null,null,"LAS BANIEWICKI PLH320064",null,null,null,null,null,null,null,null,"Utricularietalia intermedio-minoris"]
[null,null,null,null,null,null,null,null,null,null,null,null,null,null,null,null,null,"LAS BIELAŃSKI PLH140041",null,null,null,null,null,null,null,null,"Utricularietea intermedio-minoris"]
[null,null,null,null,null,null,null,null,null,null,null,null,null,null,null,null,null,"LAS DĘBOWIEC PLH100023",null,null,null,null,null,null,null,null,"Vaccinio uliginosi-Empetretum nigri"]
[null,null,null,null,null,null,null,null,null,null,null,null,null,null,null,null,null,"LAS HRABEŃSKI PLH180039",null,null,null,null,null,null,null,null,"Valeriano dioicae-Caricetum davallianae"]
[null,null,null,null,null,null,null,null,null,null,null,null,null,null,null,null,null,"LAS JANA III SOBIESKIEGO PLH140031",null,null,null,null,null,null,null,null,"Valeriano-Caricetum flavae"]
[null,null,null,null,null,null,null,null,null,null,null,null,null,null,null,null,null,"LAS KOŁO TWORKOWA PLH240040",null,null,null,null,null,null,null,null,"Valeriano-Filipenduletum"]
[null,null,null,null,null,null,null,null,null,null,null,null,null,null,null,null,null,"LAS NAD BRACIEJOWĄ PLH180023",null,null,null,null,null,null,null,null,"Verbasco-Epilobietum"]
[null,null,null,null,null,null,null,null,null,null,null,null,null,null,null,null,null,"LAS NATOLIŃSKI PLH140042",null,null,null,null,null,null,null,null,"Veronico longifoliae-Euphorbietum lucidae"]
[null,null,null,null,null,null,null,null,null,null,null,null,null,null,null,null,null,"LAS NIEGŁOWICKI PLH180040",null,null,null,null,null,null,null,null,"Veronico longifoliae-Euphorbietum palustris"]
[null,null,null,null,null,null,null,null,null,null,null,null,null,null,null,null,null,"LAS ORŁOWSKI PLH060061",null,null,null,null,null,null,null,null,"Veronico longifoliae-Scutellarietum hastifoliae"]
[null,null,null,null,null,null,null,null,null,null,null,null,null,null,null,null,null,"LAS PILCZYCKI PLH020069",null,null,null,null,null,null,null,null,"Vicietum sylvatico-dumetorum"]
[null,null,null,null,null,null,null,null,null,null,null,null,null,null,null,null,null,"LAS WOLNOŚĆ PLH220060",null,null,null,null,null,null,null,null,"Vicio lathyroidis-Potentillion argenteae"]
[null,null,null,null,null,null,null,null,null,null,null,null,null,null,null,null,null,"LAS ŻALIŃSKI PLH060102",null,null,null,null,null,null,null,null,"Violetalia calaminariae"]
[null,null,null,null,null,null,null,null,null,null,null,null,null,null,null,null,null,"LAS ŻARSKI PLH080070",null,null,null,null,null,null,null,null,"Violetea calaminariae"]
[null,null,null,null,null,null,null,null,null,null,null,null,null,null,null,null,null,"LASY BARUCICKIE PLH160009",null,null,null,null,null,null,null,null,"Violion caninae"]
[null,null,null,null,null,null,null,null,null,null,null,null,null,null,null,null,null,"LASY BIERZWNICKIE PLH320044",null,null,null,null,null,null,null,null,"Violo-Cnidietum dubii"]
[null,null,null,null,null,null,null,null,null,null,null,null,null,null,null,null,null,"LASY CISOWSKO-ORŁOWIŃSKIE PLH260040",null,null,null,null,null,null,null,null,"Warnstofietum exannulatae"]
[null,null,null,null,null,null,null,null,null,null,null,null,null,null,null,null,null,"LASY DOBROSUŁOWSKIE PLH080037",null,null,null,null,null,null,null,null,"Xanthio riparii-Chenopodietum"]
[null,null,null,null,null,null,null,null,null,null,null,null,null,null,null,null,null,"LASY DOŁHOBYCZOWSKIE PLH060103",null,null,null,null,null,null,null,null,"Zb. Agrostis stolonifera-Potentilla anserina"]
[null,null,null,null,null,null,null,null,null,null,null,null,null,null,null,null,null,"LASY GORZKOWICKIE PLH100020",null,null,null,null,null,null,null,null,"Zb. Campanula patula-Trisetum flavescens"]
[null,null,null,null,null,null,null,null,null,null,null,null,null,null,null,null,null,"LASY GRĘDZIŃSKIE PLH020081",null,null,null,null,null,null,null,null,"Zb. Carex glauca-Tetragonolobus maritimus ssp. siliquosus"]
[null,null,null,null,null,null,null,null,null,null,null,null,null,null,null,null,null,"LASY IŁAWSKIE PLB280005",null,null,null,null,null,null,null,null,"Zb. Centaurium pulchellum-Pottia truncata"]
[null,null,null,null,null,null,null,null,null,null,null,null,null,null,null,null,null,"LASY JANOWSKIE PLB060005",null,null,null,null,null,null,null,null,"Zb. Cyperus fuscus-Limosella aquatica"]
[null,null,null,null,null,null,null,null,null,null,null,null,null,null,null,null,null,"LASY LEŻAJSKIE PLH180047",null,null,null,null,null,null,null,null,"Zb. Deschampsia caespitosa (Deschampsietum cespitosae, Stellario-Deschampsietum)"]
[null,null,null,null,null,null,null,null,null,null,null,null,null,null,null,null,null,"LASY LĘBORSKIE PLB220006",null,null,null,null,null,null,null,null,"Zb. Empetrum nigrum-Vaccinium vitis-idaea"]
[null,null,null,null,null,null,null,null,null,null,null,null,null,null,null,null,null,"LASY ŁUKOWSKIE PLB060010",null,null,null,null,null,null,null,null,"Zb. Festuca pallens"]
[null,null,null,null,null,null,null,null,null,null,null,null,null,null,null,null,null,"LASY MIRACHOWSKIE PLB220008",null,null,null,null,null,null,null,null,"Zb. Festuca rubra-Agrostis capillaris"]
[null,null,null,null,null,null,null,null,null,null,null,null,null,null,null,null,null,"LASY MIRCZAŃSKIE PLH060104",null,null,null,null,null,null,null,null,"Zb. Festuca rubra-Holcus lanatus"]
[null,null,null,null,null,null,null,null,null,null,null,null,null,null,null,null,null,"LASY PARCZEWSKIE PLB060006",null,null,null,null,null,null,null,null,"Zb. Holcus lanatus (Holcetum lanati)"]
[null,null,null,null,null,null,null,null,null,null,null,null,null,null,null,null,null,"LASY PUSZCZY NAD DRAWĄ PLB320016",null,null,null,null,null,null,null,null,"Zb. Hypnum jutlandicum"]
[null,null,null,null,null,null,null,null,null,null,null,null,null,null,null,null,null,"LASY REKOWSKIE PLH220098",null,null,null,null,null,null,null,null,"Zb. Melampyrum pratense-Hieracium"]
[null,null,null,null,null,null,null,null,null,null,null,null,null,null,null,null,null,"LASY SIENIAWSKIE PLH180054",null,null,null,null,null,null,null,null,"Zb. Poa pratensis-Festuca rubra"]
[null,null,null,null,null,null,null,null,null,null,null,null,null,null,null,null,null,"LASY SKALISKIE PLB280011",null,null,null,null,null,null,null,null,"Zb. Ranunculus repens"]
[null,null,null,null,null,null,null,null,null,null,null,null,null,null,null,null,null,"LASY SKARŻYSKIE PLH260011",null,null,null,null,null,null,null,null,"Zb. Schoenus ferrugineus"]
[null,null,null,null,null,null,null,null,null,null,null,null,null,null,null,null,null,"LASY SMARDZEWICKIE PLH100024",null,null,null,null,null,null,null,null,"Zb. Sphagnum denticulatum, S. cuspidatum, Warnstorfia fluitans"]
[null,null,null,null,null,null,null,null,null,null,null,null,null,null,null,null,null,"LASY SOBIBORSKIE PLH060043",null,null,null,null,null,null,null,null,"Zb. Sphagnum papillosum"]
[null,null,null,null,null,null,null,null,null,null,null,null,null,null,null,null,null,"LASY SPALSKIE PLH100003",null,null,null,null,null,null,null,null,"Zb. Sphagnum recurvum-Eriophorum angustifolium"]
[null,null,null,null,null,null,null,null,null,null,null,null,null,null,null,null,null,"LASY STRZELECKIE PLB060007"]
[null,null,null,null,null,null,null,null,null,null,null,null,null,null,null,null,null,"LASY SUCHEDNIOWSKIE PLH260010"]
[null,null,null,null,null,null,null,null,null,null,null,null,null,null,null,null,null,"LASY ŻERKOWSKO-CZESZEWSKIE PLH300053"]
[null,null,null,null,null,null,null,null,null,null,null,null,null,null,null,null,null,"LENIEC NAD WIERZYCĄ PLH220073"]
[null,null,null,null,null,null,null,null,null,null,null,null,null,null,null,null,null,"LEŚNE STAWKI KOŁO GOSZCZA PLH020101"]
[null,null,null,null,null,null,null,null,null,null,null,null,null,null,null,null,null,"LIPICKIE MOKRADŁA PLH100025"]
[null,null,null,null,null,null,null,null,null,null,null,null,null,null,null,null,null,"LIPIENNIKI W DĄBROWIE GÓRNICZEJ PLH240037"]
[null,null,null,null,null,null,null,null,null,null,null,null,null,null,null,null,null,"LIPÓWKA PLH120010"]
[null,null,null,null,null,null,null,null,null,null,null,null,null,null,null,null,null,"LISI KĄT PLH040026"]
[null,null,null,null,null,null,null,null,null,null,null,null,null,null,null,null,null,"LIWOCZ PLH180046"]
[null,null,null,null,null,null,null,null,null,null,null,null,null,null,null,null,null,"LŁEBSKIE BAGNA PLH220040"]
[null,null,null,null,null,null,null,null,null,null,null,null,null,null,null,null,null,"LUBIASZÓW W PUSZCZY PILICKIEJ PLH100026"]
[null,null,null,null,null,null,null,null,null,null,null,null,null,null,null,null,null,"LUBIESZYNEK PLH220074"]
[null,null,null,null,null,null,null,null,null,null,null,null,null,null,null,null,null,"LUBOGOSZCZ PLH120081"]
[null,null,null,null,null,null,null,null,null,null,null,null,null,null,null,null,null,"LUBOŃ WIELKI PLH120043"]
[null,null,null,null,null,null,null,null,null,null,null,null,null,null,null,null,null,"LUBSKI ŁĘG ŚNIEŻYCOWY PLH080065"]
[null,null,null,null,null,null,null,null,null,null,null,null,null,null,null,null,null,"LUDÓW ŚLASKI PLH020073"]
[null,null,null,null,null,null,null,null,null,null,null,null,null,null,null,null,null,"ŁABOWA PLH120036"]
[null,null,null,null,null,null,null,null,null,null,null,null,null,null,null,null,null,"ŁABUNIE PLH060080"]
[null,null,null,null,null,null,null,null,null,null,null,null,null,null,null,null,null,"ŁAWICA SŁUPSKA PLC990001"]
[null,null,null,null,null,null,null,null,null,null,null,null,null,null,null,null,null,"ŁĄKA W BĘCZKOWICACH PLH100004"]
[null,null,null,null,null,null,null,null,null,null,null,null,null,null,null,null,null,"ŁĄKI CIEBŁOWICKIE PLH100035"]
[null,null,null,null,null,null,null,null,null,null,null,null,null,null,null,null,null,"ŁĄKI GÓR I POGÓRZA IZERSKIEGO PLH020102"]
[null,null,null,null,null,null,null,null,null,null,null,null,null,null,null,null,null,"ŁĄKI KAZUŃSKIE PLH140048"]
[null,null,null,null,null,null,null,null,null,null,null,null,null,null,null,null,null,"ŁĄKI KOŁO KASINY WIELKIEJ PLH120082"]
[null,null,null,null,null,null,null,null,null,null,null,null,null,null,null,null,null,"ŁĄKI NAD MŁYNÓWKĄ PLH180041"]
[null,null,null,null,null,null,null,null,null,null,null,null,null,null,null,null,null,"ŁĄKI NAD WOJKÓWKĄ PLH180051"]
[null,null,null,null,null,null,null,null,null,null,null,null,null,null,null,null,null,"ŁĄKI NOWOHUCKIE PLH120069"]
[null,null,null,null,null,null,null,null,null,null,null,null,null,null,null,null,null,"ŁĄKI OSTRÓWIECKIE PLH140050"]
[null,null,null,null,null,null,null,null,null,null,null,null,null,null,null,null,null,"ŁĄKI SKOSZEWSKIE PLB320007"]
[null,null,null,null,null,null,null,null,null,null,null,null,null,null,null,null,null,"ŁĄKI SOLECKIE PLH140055"]
[null,null,null,null,null,null,null,null,null,null,null,null,null,null,null,null,null,"ŁĄKI TRZEŚLICOWE W FOLUSZU PLH040027"]
[null,null,null,null,null,null,null,null,null,null,null,null,null,null,null,null,null,"ŁĄKI W KOMBORNI PLH180042"]
[null,null,null,null,null,null,null,null,null,null,null,null,null,null,null,null,null,"ŁĄKI W OKOLICACH CHRZĄSTOWIC PLH160010"]
[null,null,null,null,null,null,null,null,null,null,null,null,null,null,null,null,null,"ŁĄKI W OKOLICACH KARŁOWIC NAD STOBRAWĄ PLH160012"]
[null,null,null,null,null,null,null,null,null,null,null,null,null,null,null,null,null,"ŁĄKI W OKOLICACH KLUCZBORKA NAD STOBRAWĄ PLH160013"]
[null,null,null,null,null,null,null,null,null,null,null,null,null,null,null,null,null,"ŁĄKI ŻUKOWSKIE PLH140053"]
[null,null,null,null,null,null,null,null,null,null,null,null,null,null,null,null,null,"ŁĘG ZDZIESZOWICKI PLH160011"]
[null,null,null,null,null,null,null,null,null,null,null,null,null,null,null,null,null,"ŁĘGI CZARNEJ STRUGI PLH140009"]
[null,null,null,null,null,null,null,null,null,null,null,null,null,null,null,null,null,"ŁĘGI KOŁO CHAŁUPEK PLH020104"]
[null,null,null,null,null,null,null,null,null,null,null,null,null,null,null,null,null,"ŁĘGI KOŁO WYMIAREK PLH080059"]
[null,null,null,null,null,null,null,null,null,null,null,null,null,null,null,null,null,"ŁĘGI NAD BYSTRZYCĄ PLH020103"]
[null,null,null,null,null,null,null,null,null,null,null,null,null,null,null,null,null,"ŁĘGI NAD NYSĄ LUŻYCKĄ PLH080038"]
[null,null,null,null,null,null,null,null,null,null,null,null,null,null,null,null,null,"ŁĘGI ODRZAŃSKIE PLB020008"]
[null,null,null,null,null,null,null,null,null,null,null,null,null,null,null,null,null,"ŁĘGI ODRZAŃSKIE PLH020018"]
[null,null,null,null,null,null,null,null,null,null,null,null,null,null,null,null,null,"ŁĘGI SŁUBICKIE PLH080013"]
[null,null,null,null,null,null,null,null,null,null,null,null,null,null,null,null,null,"ŁĘGI W LASACH NAD LISWARTĄ PLH240027"]
[null,null,null,null,null,null,null,null,null,null,null,null,null,null,null,null,null,"ŁĘKAWICA PLH140030"]
[null,null,null,null,null,null,null,null,null,null,null,null,null,null,null,null,null,"ŁOPIENNIK PLH060081"]
[null,null,null,null,null,null,null,null,null,null,null,null,null,null,null,null,null,"ŁOSOSINA PLH120087"]
[null,null,null,null,null,null,null,null,null,null,null,null,null,null,null,null,null,"ŁUKAWIEC PLH180024"]
[null,null,null,null,null,null,null,null,null,null,null,null,null,null,null,null,null,"ŁYSA GÓRA PLH180015"]
[null,null,null,null,null,null,null,null,null,null,null,null,null,null,null,null,null,"ŁYSOGÓRY PLH260002"]
[null,null,null,null,null,null,null,null,null,null,null,null,null,null,null,null,null,"MAŁE PIENINY PLH120025"]
[null,null,null,null,null,null,null,null,null,null,null,null,null,null,null,null,null,"MAŁOMICKIE ŁĘGI PLH080046"]
[null,null,null,null,null,null,null,null,null,null,null,null,null,null,null,null,null,"MAŁOPOLSKI PRZEŁOM WISŁY PLB140006"]
[null,null,null,null,null,null,null,null,null,null,null,null,null,null,null,null,null,"MAMERKI PLH280004"]
[null,null,null,null,null,null,null,null,null,null,null,null,null,null,null,null,null,"MASYW CHEŁMCA PLH020057"]
[null,null,null,null,null,null,null,null,null,null,null,null,null,null,null,null,null,"MASYW ŚLĘŻY PLH020040"]
[null,null,null,null,null,null,null,null,null,null,null,null,null,null,null,null,null,"MAŚLUCHY PLH060105"]
[null,null,null,null,null,null,null,null,null,null,null,null,null,null,null,null,null,"MAZURSKA OSTOJA ŻÓŁWIA BARANOWO PLH280055"]
[null,null,null,null,null,null,null,null,null,null,null,null,null,null,null,null,null,"MAZURSKIE BAGNA PLH280054"]
[null,null,null,null,null,null,null,null,null,null,null,null,null,null,null,null,null,"MECHOWISKA SULĘCZYŃSKIE PLH220017"]
[null,null,null,null,null,null,null,null,null,null,null,null,null,null,null,null,null,"MECHOWISKA ZĘBLEWSKIE PLH220075"]
[null,null,null,null,null,null,null,null,null,null,null,null,null,null,null,null,null,"MECHOWISKO MANOWO PLH320057"]
[null,null,null,null,null,null,null,null,null,null,null,null,null,null,null,null,null,"MĘTNE PLH220061"]
[null,null,null,null,null,null,null,null,null,null,null,null,null,null,null,null,null,"MIASTECKIE JEZIORA LOBELIOWE PLH220041"]
[null,null,null,null,null,null,null,null,null,null,null,null,null,null,null,null,null,"MICHAŁOWIEC PLH120011"]
[null,null,null,null,null,null,null,null,null,null,null,null,null,null,null,null,null,"MIERKOWSKIE WYDMY PLH080039"]
[null,null,null,null,null,null,null,null,null,null,null,null,null,null,null,null,null,"MIERZEJA SARBSKA PLH220018"]
[null,null,null,null,null,null,null,null,null,null,null,null,null,null,null,null,null,"MIESZKOWICKA DĄBROWA PLH320051"]
[null,null,null,null,null,null,null,null,null,null,null,null,null,null,null,null,null,"MIKOŁAJKI POMORSKIE PLH220076"]
[null,null,null,null,null,null,null,null,null,null,null,null,null,null,null,null,null,"MINOKĄT PLH060089"]
[null,null,null,null,null,null,null,null,null,null,null,null,null,null,null,null,null,"MIROSŁAWIEC PLH320045"]
[null,null,null,null,null,null,null,null,null,null,null,null,null,null,null,null,null,"MŁOSINO-LUBNIA PLH220077"]
[null,null,null,null,null,null,null,null,null,null,null,null,null,null,null,null,null,"MOCZARY PLH180026"]
[null,null,null,null,null,null,null,null,null,null,null,null,null,null,null,null,null,"MODRASZKI KOŁO OPOCZKI PLH020094"]
[null,null,null,null,null,null,null,null,null,null,null,null,null,null,null,null,null,"MOKRADŁA KOLNEŃSKIE I KURPIOWSKIE PLH200020"]
[null,null,null,null,null,null,null,null,null,null,null,null,null,null,null,null,null,"MOPKOWY TUNEL KOLO KRZYSTKOWIC PLH080024"]
[null,null,null,null,null,null,null,null,null,null,null,null,null,null,null,null,null,"MROWLE ŁĄKI PLH180043"]
[null,null,null,null,null,null,null,null,null,null,null,null,null,null,null,null,null,"MSZAR PŁOCICZNO PLH040035"]
[null,null,null,null,null,null,null,null,null,null,null,null,null,null,null,null,null,"MURAWY GORZOWSKIE PLH080058"]
[null,null,null,null,null,null,null,null,null,null,null,null,null,null,null,null,null,"MURAWY KOŁO PASŁĘKA PLH280031"]
[null,null,null,null,null,null,null,null,null,null,null,null,null,null,null,null,null,"MURAWY NA POJEZIERZU EŁCKIM PLH280041"]
[null,null,null,null,null,null,null,null,null,null,null,null,null,null,null,null,null,"MURAWY W HAĆKACH PLH200015"]
[null,null,null,null,null,null,null,null,null,null,null,null,null,null,null,null,null,"MUSZKOWICKI LAS BUKOWY PLH020068"]
[null,null,null,null,null,null,null,null,null,null,null,null,null,null,null,null,null,"MYSZYNIECKIE BORY SASANKOWE PLH140049"]
[null,null,null,null,null,null,null,null,null,null,null,null,null,null,null,null,null,"NA POLICY PLH120012"]
[null,null,null,null,null,null,null,null,null,null,null,null,null,null,null,null,null,"NAD HUSOWEM PLH180025"]
[null,null,null,null,null,null,null,null,null,null,null,null,null,null,null,null,null,"NADNOTECKIE ŁĘGI PLB300003"]
[null,null,null,null,null,null,null,null,null,null,null,null,null,null,null,null,null,"NARWIAŃSKIE BAGNA PLH200002"]
[null,null,null,null,null,null,null,null,null,null,null,null,null,null,null,null,null,"NAWOJOWA PLH120035"]
[null,null,null,null,null,null,null,null,null,null,null,null,null,null,null,null,null,"NIEBIESKIE ŹRÓDŁA PLH100005"]
[null,null,null,null,null,null,null,null,null,null,null,null,null,null,null,null,null,"NIECKA SKALISKA PLH280049"]
[null,null,null,null,null,null,null,null,null,null,null,null,null,null,null,null,null,"NIEDZICA PLH120045"]
[null,null,null,null,null,null,null,null,null,null,null,null,null,null,null,null,null,"NIEDZIELISKA PLH060044"]
[null,null,null,null,null,null,null,null,null,null,null,null,null,null,null,null,null,"NIEDZIELISKI LAS PLH060092"]
[null,null,null,null,null,null,null,null,null,null,null,null,null,null,null,null,null,"NIEDŹWIEDZIE WIELKIE PLH280050"]
[null,null,null,null,null,null,null,null,null,null,null,null,null,null,null,null,null,"NIESZAWSKA DOLINA WISŁY PLH040012"]
[null,null,null,null,null,null,null,null,null,null,null,null,null,null,null,null,null,"NIETOPEREK PLH080003"]
[null,null,null,null,null,null,null,null,null,null,null,null,null,null,null,null,null,"NOWA BRDA PLH220078"]
[null,null,null,null,null,null,null,null,null,null,null,null,null,null,null,null,null,"NOWA SIKORSKA HUTA PLH220090"]
[null,null,null,null,null,null,null,null,null,null,null,null,null,null,null,null,null,"NOWOGRODZKIE PRZYGIEŁKOWISKO PLH080054"]
[null,null,null,null,null,null,null,null,null,null,null,null,null,null,null,null,null,"NOWOSIÓŁKI (JULIANÓW) PLH060064"]
[null,null,null,null,null,null,null,null,null,null,null,null,null,null,null,null,null,"NOWOSOLSKA DOLINA ODRY PLH080014"]
[null,null,null,null,null,null,null,null,null,null,null,null,null,null,null,null,null,"NOWY WIŚNICZ PLH120048"]
[null,null,null,null,null,null,null,null,null,null,null,null,null,null,null,null,null,"OBUWIK W UROCZYSKU ŚWIDÓW PLH060106"]
[null,null,null,null,null,null,null,null,null,null,null,null,null,null,null,null,null,"OCHOTNICA PLH120050"]
[null,null,null,null,null,null,null,null,null,null,null,null,null,null,null,null,null,"OLSZANKA PLH060012"]
[null,null,null,null,null,null,null,null,null,null,null,null,null,null,null,null,null,"OLSZYNY RUMOCKIE PLH140010"]
[null,null,null,null,null,null,null,null,null,null,null,null,null,null,null,null,null,"OPALIŃSKIE BUCZYNY PLH220099"]
[null,null,null,null,null,null,null,null,null,null,null,null,null,null,null,null,null,"OPALONKI PLH120071"]
[null,null,null,null,null,null,null,null,null,null,null,null,null,null,null,null,null,"OPOLE LUBELSKIE PLH060054"]
[null,null,null,null,null,null,null,null,null,null,null,null,null,null,null,null,null,"OPOLSKA DOLINA NYSY KŁODZKIEJ PLH160014"]
[null,null,null,null,null,null,null,null,null,null,null,null,null,null,null,null,null,"ORLE PLH220019"]
[null,null,null,null,null,null,null,null,null,null,null,null,null,null,null,null,null,"OSTOJA AUGUSTOWSKA PLH200005"]
[null,null,null,null,null,null,null,null,null,null,null,null,null,null,null,null,null,"OSTOJA BARCIŃSKO-GĄSAWSKA PLH040028"]
[null,null,null,null,null,null,null,null,null,null,null,null,null,null,null,null,null,"OSTOJA BARCZA PLH260025"]
[null,null,null,null,null,null,null,null,null,null,null,null,null,null,null,null,null,"OSTOJA BARLINECKA PLH080071"]
[null,null,null,null,null,null,null,null,null,null,null,null,null,null,null,null,null,"OSTOJA BIEBRZAŃSKA PLB200006"]
[null,null,null,null,null,null,null,null,null,null,null,null,null,null,null,null,null,"OSTOJA BORECKA PLH280016"]
[null,null,null,null,null,null,null,null,null,null,null,null,null,null,null,null,null,"OSTOJA BORZYSZKOWSKA PLH220079"]
[null,null,null,null,null,null,null,null,null,null,null,null,null,null,null,null,null,"OSTOJA BRODNICKA PLH040036"]
[null,null,null,null,null,null,null,null,null,null,null,null,null,null,null,null,null,"OSTOJA BRZEŹNICKA PLH260026"]
[null,null,null,null,null,null,null,null,null,null,null,null,null,null,null,null,null,"OSTOJA CEDYŃSKA PLB320017"]
[null,null,null,null,null,null,null,null,null,null,null,null,null,null,null,null,null,"OSTOJA CZARNORZECKA PLH180027"]
[null,null,null,null,null,null,null,null,null,null,null,null,null,null,null,null,null,"OSTOJA DRAWSKA PLB320019"]
[null,null,null,null,null,null,null,null,null,null,null,null,null,null,null,null,null,"OSTOJA DYLEWSKIE WZGÓRZA PLH280043"]
[null,null,null,null,null,null,null,null,null,null,null,null,null,null,null,null,null,"OSTOJA GAJ PLH260027"]
[null,null,null,null,null,null,null,null,null,null,null,null,null,null,null,null,null,"OSTOJA GOLCZEWSKA PLH320052"]
[null,null,null,null,null,null,null,null,null,null,null,null,null,null,null,null,null,"OSTOJA GOLENIOWSKA PLH320013"]
[null,null,null,null,null,null,null,null,null,null,null,null,null,null,null,null,null,"OSTOJA GORCZAŃSKA PLH120018"]
[null,null,null,null,null,null,null,null,null,null,null,null,null,null,null,null,null,"OSTOJA IŁAWSKA PLH280053"]
[null,null,null,null,null,null,null,null,null,null,null,null,null,null,null,null,null,"OSTOJA IŃSKA PLB320008"]
[null,null,null,null,null,null,null,null,null,null,null,null,null,null,null,null,null,"OSTOJA JAŚLISKA PLH180014"]
[null,null,null,null,null,null,null,null,null,null,null,null,null,null,null,null,null,"OSTOJA JELENIOWSKA PLH260028"]
[null,null,null,null,null,null,null,null,null,null,null,null,null,null,null,null,null,"OSTOJA KNYSZYŃSKA PLH200006"]
[null,null,null,null,null,null,null,null,null,null,null,null,null,null,null,null,null,"OSTOJA KOŁO PROMNA PLH300030"]
[null,null,null,null,null,null,null,null,null,null,null,null,null,null,null,null,null,"OSTOJA KOZIENICKA PLB140013"]
[null,null,null,null,null,null,null,null,null,null,null,null,null,null,null,null,null,"OSTOJA KOZUBOWSKA PLH260029"]
[null,null,null,null,null,null,null,null,null,null,null,null,null,null,null,null,null,"OSTOJA KROCZYCKA PLH240032"]
[null,null,null,null,null,null,null,null,null,null,null,null,null,null,null,null,null,"OSTOJA LIDZBARSKA PLH280012"]
[null,null,null,null,null,null,null,null,null,null,null,null,null,null,null,null,null,"OSTOJA MAGURSKA PLH180001"]
[null,null,null,null,null,null,null,null,null,null,null,null,null,null,null,null,null,"OSTOJA MASŁOWICZKI PLH220062"]
[null,null,null,null,null,null,null,null,null,null,null,null,null,null,null,null,null,"OSTOJA MIĘDZYCHODZKO-SIERAKOWSKA PLH300032"]
[null,null,null,null,null,null,null,null,null,null,null,null,null,null,null,null,null,"OSTOJA NA ZATOCE POMORSKIEJ PLH990002"]
[null,null,null,null,null,null,null,null,null,null,null,null,null,null,null,null,null,"OSTOJA NAD BARYCZĄ PLH020041"]
[null,null,null,null,null,null,null,null,null,null,null,null,null,null,null,null,null,"OSTOJA NAD BOBREM PLH020054"]
[null,null,null,null,null,null,null,null,null,null,null,null,null,null,null,null,null,"OSTOJA NAD OŚWINEM PLH280044"]
[null,null,null,null,null,null,null,null,null,null,null,null,null,null,null,null,null,"OSTOJA NADBUŻAŃSKA PLH140011"]
[null,null,null,null,null,null,null,null,null,null,null,null,null,null,null,null,null,"OSTOJA NADGOPLAŃSKA PLB040004"]
[null,null,null,null,null,null,null,null,null,null,null,null,null,null,null,null,null,"OSTOJA NADLIWIECKA PLH140032"]
[null,null,null,null,null,null,null,null,null,null,null,null,null,null,null,null,null,"OSTOJA NADWARCIAŃSKA PLH300009"]
[null,null,null,null,null,null,null,null,null,null,null,null,null,null,null,null,null,"OSTOJA NAPIWODZKO-RAMUCKA PLH280052"]
[null,null,null,null,null,null,null,null,null,null,null,null,null,null,null,null,null,"OSTOJA NARWIAŃSKA PLH200024"]
[null,null,null,null,null,null,null,null,null,null,null,null,null,null,null,null,null,"OSTOJA NIDZIAŃSKA PLH260003"]
[null,null,null,null,null,null,null,null,null,null,null,null,null,null,null,null,null,"OSTOJA NIELISKA PLB060020"]
[null,null,null,null,null,null,null,null,null,null,null,null,null,null,null,null,null,"OSTOJA NIETOPERZY GÓR SOWICH PLH020071"]
[null,null,null,null,null,null,null,null,null,null,null,null,null,null,null,null,null,"OSTOJA NOWODWORSKA PLH140043"]
[null,null,null,null,null,null,null,null,null,null,null,null,null,null,null,null,null,"OSTOJA OLSZTYŃSKO-MIROWSKA PLH240015"]
[null,null,null,null,null,null,null,null,null,null,null,null,null,null,null,null,null,"OSTOJA PARCZEWSKA PLH060107"]
[null,null,null,null,null,null,null,null,null,null,null,null,null,null,null,null,null,"OSTOJA PILSKA PLH300045"]
[null,null,null,null,null,null,null,null,null,null,null,null,null,null,null,null,null,"OSTOJA PISKA PLH280048"]
[null,null,null,null,null,null,null,null,null,null,null,null,null,null,null,null,null,"OSTOJA POLESKA PLH060013"]
[null,null,null,null,null,null,null,null,null,null,null,null,null,null,null,null,null,"OSTOJA POLIGON ORZYSZ PLB280014"]
[null,null,null,null,null,null,null,null,null,null,null,null,null,null,null,null,null,"OSTOJA POMORZANY PLH260030"]
[null,null,null,null,null,null,null,null,null,null,null,null,null,null,null,null,null,"OSTOJA POPRADZKA PLH120019"]
[null,null,null,null,null,null,null,null,null,null,null,null,null,null,null,null,null,"OSTOJA PÓŁNOCNOMAZURSKA PLH280045"]
[null,null,null,null,null,null,null,null,null,null,null,null,null,null,null,null,null,"OSTOJA PRZEDBORSKA PLH260004"]
[null,null,null,null,null,null,null,null,null,null,null,null,null,null,null,null,null,"OSTOJA PRZEMĘCKA PLH300041"]
[null,null,null,null,null,null,null,null,null,null,null,null,null,null,null,null,null,"OSTOJA PRZEMYSKA PLH180012"]
[null,null,null,null,null,null,null,null,null,null,null,null,null,null,null,null,null,"OSTOJA RADOMNO PLH280035"]
[null,null,null,null,null,null,null,null,null,null,null,null,null,null,null,null,null,"OSTOJA ROGALIŃSKA PLB300017"]
[null,null,null,null,null,null,null,null,null,null,null,null,null,null,null,null,null,"OSTOJA SIERADOWICKA PLH260031"]
[null,null,null,null,null,null,null,null,null,null,null,null,null,null,null,null,null,"OSTOJA SŁAWNIOWICKO-BURGRABICKA PLH160004"]
[null,null,null,null,null,null,null,null,null,null,null,null,null,null,null,null,null,"OSTOJA SŁOWIŃSKA PLH220023"]
[null,null,null,null,null,null,null,null,null,null,null,null,null,null,null,null,null,"OSTOJA SOBKOWSKO-KORYTNICKA PLH260032"]
[null,null,null,null,null,null,null,null,null,null,null,null,null,null,null,null,null,"OSTOJA STAWIANY PLH260033"]
[null,null,null,null,null,null,null,null,null,null,null,null,null,null,null,null,null,"OSTOJA SUWALSKA PLH200003"]
[null,null,null,null,null,null,null,null,null,null,null,null,null,null,null,null,null,"OSTOJA SZANIECKO-SOLECKA PLH260034"]
[null,null,null,null,null,null,null,null,null,null,null,null,null,null,null,null,null,"OSTOJA ŚRODKOWOJURAJSKA PLH240009"]
[null,null,null,null,null,null,null,null,null,null,null,null,null,null,null,null,null,"OSTOJA TYSZOWIECKA PLB060011"]
[null,null,null,null,null,null,null,null,null,null,null,null,null,null,null,null,null,"OSTOJA W DOLINIE GÓRNEGO NURCA PLH200021"]
[null,null,null,null,null,null,null,null,null,null,null,null,null,null,null,null,null,"OSTOJA W DOLINIE GÓRNEJ NARWI PLH200010"]
[null,null,null,null,null,null,null,null,null,null,null,null,null,null,null,null,null,"OSTOJA W PAŚMIE BRZANKI PLH120047"]
[null,null,null,null,null,null,null,null,null,null,null,null,null,null,null,null,null,"OSTOJA W UJŚCIU WISŁY PLH220044"]
[null,null,null,null,null,null,null,null,null,null,null,null,null,null,null,null,null,"OSTOJA WARMIŃSKA PLB280015"]
[null,null,null,null,null,null,null,null,null,null,null,null,null,null,null,null,null,"OSTOJA WELSKA PLH280014"]
[null,null,null,null,null,null,null,null,null,null,null,null,null,null,null,null,null,"OSTOJA WIELKOPOLSKA PLH300010"]
[null,null,null,null,null,null,null,null,null,null,null,null,null,null,null,null,null,"OSTOJA WIERZEJSKA PLH260035"]
[null,null,null,null,null,null,null,null,null,null,null,null,null,null,null,null,null,"OSTOJA WIGIERSKA PLH200004"]
[null,null,null,null,null,null,null,null,null,null,null,null,null,null,null,null,null,"OSTOJA WITNICKO-DĘBNIAŃSKA PLB320015"]
[null,null,null,null,null,null,null,null,null,null,null,null,null,null,null,null,null,"OSTOJA WKRZAŃSKA PLB320014"]
[null,null,null,null,null,null,null,null,null,null,null,null,null,null,null,null,null,"OSTOJA ZAPCEŃSKA PLH220057"]
[null,null,null,null,null,null,null,null,null,null,null,null,null,null,null,null,null,"OSTOJA ZGIERZYNIECKA PLH300007"]
[null,null,null,null,null,null,null,null,null,null,null,null,null,null,null,null,null,"OSTOJA ZŁOTOPOTOCKA PLH240020"]
[null,null,null,null,null,null,null,null,null,null,null,null,null,null,null,null,null,"OSTOJA ŻYZNÓW PLH260036"]
[null,null,null,null,null,null,null,null,null,null,null,null,null,null,null,null,null,"OSTOJE NIETOPERZY BESKIDU WYSPOWEGO PLH120052"]
[null,null,null,null,null,null,null,null,null,null,null,null,null,null,null,null,null,"OSTOJE NIETOPERZY OKOLIC BUKOWCA PLH120020"]
[null,null,null,null,null,null,null,null,null,null,null,null,null,null,null,null,null,"OSTOJE NIETOPERZY POWIATU GORLICKIEGO PLH120094"]
[null,null,null,null,null,null,null,null,null,null,null,null,null,null,null,null,null,"OSTRZYCA PROBOSZCZOWICKA PLH020042"]
[null,null,null,null,null,null,null,null,null,null,null,null,null,null,null,null,null,"OSUWISKA W LIPOWICY PLH180044"]
[null,null,null,null,null,null,null,null,null,null,null,null,null,null,null,null,null,"OTYŃ PLH080040"]
[null,null,null,null,null,null,null,null,null,null,null,null,null,null,null,null,null,"PAKOSŁAW PLH140015"]
[null,null,null,null,null,null,null,null,null,null,null,null,null,null,null,null,null,"PANIEŃSKIE SKAŁY PLH020009"]
[null,null,null,null,null,null,null,null,null,null,null,null,null,null,null,null,null,"PASMO KROWIARKI PLH020019"]
[null,null,null,null,null,null,null,null,null,null,null,null,null,null,null,null,null,"PASMO POLICY PLB120006"]
[null,null,null,null,null,null,null,null,null,null,null,null,null,null,null,null,null,"PASTWISKA NAD HUCZWĄ PLH060014"]
[null,null,null,null,null,null,null,null,null,null,null,null,null,null,null,null,null,"PATRIA NAD ODRZECHOWĄ PLH180028"]
[null,null,null,null,null,null,null,null,null,null,null,null,null,null,null,null,null,"PAWŁÓW PLH060065"]
[null,null,null,null,null,null,null,null,null,null,null,null,null,null,null,null,null,"PĄTNÓW LEGNICKI PLH020052"]
[null,null,null,null,null,null,null,null,null,null,null,null,null,null,null,null,null,"PEŁCZNICA PLH220020"]
[null,null,null,null,null,null,null,null,null,null,null,null,null,null,null,null,null,"PIAŚNICKIE ŁĄKI PLH220021"]
[null,null,null,null,null,null,null,null,null,null,null,null,null,null,null,null,null,"PIEKIELNA DOLINA KOŁO POLANICY PLH020010"]
[null,null,null,null,null,null,null,null,null,null,null,null,null,null,null,null,null,"PIENINY PLB120008"]
[null,null,null,null,null,null,null,null,null,null,null,null,null,null,null,null,null,"PIENINY PLH120013"]
[null,null,null,null,null,null,null,null,null,null,null,null,null,null,null,null,null,"PIEŃSKA DOLINA NYSY ŁUŻYCKIEJ PLH020086"]
[null,null,null,null,null,null,null,null,null,null,null,null,null,null,null,null,null,"PIERŚCIEC PLH240022"]
[null,null,null,null,null,null,null,null,null,null,null,null,null,null,null,null,null,"PIOTROWO PLH220091"]
[null,null,null,null,null,null,null,null,null,null,null,null,null,null,null,null,null,"PLESZCZOTKA PLH120092"]
[null,null,null,null,null,null,null,null,null,null,null,null,null,null,null,null,null,"PŁASKOWYŻ NAŁĘCZOWSKI PLH060015"]
[null,null,null,null,null,null,null,null,null,null,null,null,null,null,null,null,null,"PŁYWAJACE WYSPY POD REKOWEM PLH220022"]
[null,null,null,null,null,null,null,null,null,null,null,null,null,null,null,null,null,"POBRZEŻE SŁOWIŃSKIE PLB220003"]
[null,null,null,null,null,null,null,null,null,null,null,null,null,null,null,null,null,"POCZESNA KOŁO CZĘSTOCHOWY PLH240030"]
[null,null,null,null,null,null,null,null,null,null,null,null,null,null,null,null,null,"PODEBŁOCIE PLH140033"]
[null,null,null,null,null,null,null,null,null,null,null,null,null,null,null,null,null,"PODKOWCE W SZCZAWNICY PLH120037"]
[null,null,null,null,null,null,null,null,null,null,null,null,null,null,null,null,null,"PODPAKULE PLH060048"]
[null,null,null,null,null,null,null,null,null,null,null,null,null,null,null,null,null,"PODZIEMIA TARNOGÓRSKO-BYTOMSKIE PLH240003"]
[null,null,null,null,null,null,null,null,null,null,null,null,null,null,null,null,null,"POGÓRZE PRZEMYSKIE PLB180001"]
[null,null,null,null,null,null,null,null,null,null,null,null,null,null,null,null,null,"POJEZIERZE GNIEŹNIEŃSKIE PLH300026"]
[null,null,null,null,null,null,null,null,null,null,null,null,null,null,null,null,null,"POJEZIERZE IŃSKIE PLH320067"]
[null,null,null,null,null,null,null,null,null,null,null,null,null,null,null,null,null,"POJEZIERZE MYŚLIBORSKIE PLH320014"]
[null,null,null,null,null,null,null,null,null,null,null,null,null,null,null,null,null,"POJEZIERZE SEJNEŃSKIE PLH200007"]
[null,null,null,null,null,null,null,null,null,null,null,null,null,null,null,null,null,"POJEZIERZE SŁAWSKIE PLB300011"]
[null,null,null,null,null,null,null,null,null,null,null,null,null,null,null,null,null,"POLANA BIAŁY POTOK PLH120026"]
[null,null,null,null,null,null,null,null,null,null,null,null,null,null,null,null,null,"POLANY PUSZCZY BOLIMOWSKIEJ PLH100028"]
[null,null,null,null,null,null,null,null,null,null,null,null,null,null,null,null,null,"POLESIE PLB060019"]
[null,null,null,null,null,null,null,null,null,null,null,null,null,null,null,null,null,"POLESKA DOLINA BUGU PLH060032"]
[null,null,null,null,null,null,null,null,null,null,null,null,null,null,null,null,null,"POLICE - KANALY PLH320015"]
[null,null,null,null,null,null,null,null,null,null,null,null,null,null,null,null,null,"POLICHNA PLH060078"]
[null,null,null,null,null,null,null,null,null,null,null,null,null,null,null,null,null,"POLIGON REMBERTÓW PLH140034"]
[null,null,null,null,null,null,null,null,null,null,null,null,null,null,null,null,null,"POLIGON W OKONKU PLH300021"]
[null,null,null,null,null,null,null,null,null,null,null,null,null,null,null,null,null,"POMLEWO PLH220092"]
[null,null,null,null,null,null,null,null,null,null,null,null,null,null,null,null,null,"POPÓWKA PLH060016"]
[null,null,null,null,null,null,null,null,null,null,null,null,null,null,null,null,null,"PORADÓW PLH120072"]
[null,null,null,null,null,null,null,null,null,null,null,null,null,null,null,null,null,"POSADÓW PLH060073"]
[null,null,null,null,null,null,null,null,null,null,null,null,null,null,null,null,null,"PRADOLINA BZURY-NERU PLH100006"]
[null,null,null,null,null,null,null,null,null,null,null,null,null,null,null,null,null,"PRADOLINA WARSZAWSKO-BERLIŃSKA PLB100001"]
[null,null,null,null,null,null,null,null,null,null,null,null,null,null,null,null,null,"PROKOWO PLH220080"]
[null,null,null,null,null,null,null,null,null,null,null,null,null,null,null,null,null,"PRZEŁOM LUBRZANKI PLH260037"]
[null,null,null,null,null,null,null,null,null,null,null,null,null,null,null,null,null,"PRZEŁOM NYSY KŁODZKIEJ KOŁO MORZYSZOWA PLH020043"]
[null,null,null,null,null,null,null,null,null,null,null,null,null,null,null,null,null,"PRZEŁOM WARTY KOŁO MSTOWA PLH240026"]
[null,null,null,null,null,null,null,null,null,null,null,null,null,null,null,null,null,"PRZEŁOM WISŁY W MAŁOPOLSCE PLH060045"]
[null,null,null,null,null,null,null,null,null,null,null,null,null,null,null,null,null,"PRZEŁOMOWA DOLINA NARWI PLB200008"]
[null,null,null,null,null,null,null,null,null,null,null,null,null,null,null,null,null,"PRZEŁOMOWA DOLINA NYSY ŁUŻYCKIEJ PLH020066"]
[null,null,null,null,null,null,null,null,null,null,null,null,null,null,null,null,null,"PRZEŁOMOWA DOLINA RZEKI WEL PLH280015"]
[null,null,null,null,null,null,null,null,null,null,null,null,null,null,null,null,null,"PRZEŁOMY PEŁCZNICY POD KSIĄŻEM PLH020020"]
[null,null,null,null,null,null,null,null,null,null,null,null,null,null,null,null,null,"PRZEPLATKI NAD BYSTRZYCĄ PLH020055"]
[null,null,null,null,null,null,null,null,null,null,null,null,null,null,null,null,null,"PRZYBRZEŻNE WODY BAŁTYKU PLB990002"]
[null,null,null,null,null,null,null,null,null,null,null,null,null,null,null,null,null,"PRZYGIEŁKOWISKA KOŁO GOZDNICY PLH080055"]
[null,null,null,null,null,null,null,null,null,null,null,null,null,null,null,null,null,"PRZYŁĘK NAD BIAŁĄ GŁUCHOŁASKĄ PLH160016"]
[null,null,null,null,null,null,null,null,null,null,null,null,null,null,null,null,null,"PRZYMORSKIE BŁOTA PLH220024"]
[null,null,null,null,null,null,null,null,null,null,null,null,null,null,null,null,null,"PRZYWIDZ PLH220025"]
[null,null,null,null,null,null,null,null,null,null,null,null,null,null,null,null,null,"PSTROSZYCE PLH120073"]
[null,null,null,null,null,null,null,null,null,null,null,null,null,null,null,null,null,"PUŁAWY PLH060055"]
[null,null,null,null,null,null,null,null,null,null,null,null,null,null,null,null,null,"PUSTYNIA BŁĘDOWSKA PLH120014"]
[null,null,null,null,null,null,null,null,null,null,null,null,null,null,null,null,null,"PUSZCZA AUGUSTOWSKA PLB200002"]
[null,null,null,null,null,null,null,null,null,null,null,null,null,null,null,null,null,"PUSZCZA BARLINECKA PLB080001"]
[null,null,null,null,null,null,null,null,null,null,null,null,null,null,null,null,null,"PUSZCZA BIAŁA PLB140007"]
[null,null,null,null,null,null,null,null,null,null,null,null,null,null,null,null,null,"PUSZCZA BIAŁOWIESKA PLC200004"]
[null,null,null,null,null,null,null,null,null,null,null,null,null,null,null,null,null,"PUSZCZA BIENISZEWSKA PLH300011"]
[null,null,null,null,null,null,null,null,null,null,null,null,null,null,null,null,null,"PUSZCZA BORECKA PLB280006"]
[null,null,null,null,null,null,null,null,null,null,null,null,null,null,null,null,null,"PUSZCZA DARŻLUBSKA PLB220007"]
[null,null,null,null,null,null,null,null,null,null,null,null,null,null,null,null,null,"PUSZCZA GOLENIOWSKA PLB320012"]
[null,null,null,null,null,null,null,null,null,null,null,null,null,null,null,null,null,"PUSZCZA KAMPINOSKA PLC140001"]
[null,null,null,null,null,null,null,null,null,null,null,null,null,null,null,null,null,"PUSZCZA KNYSZYŃSKA PLB200003"]
[null,null,null,null,null,null,null,null,null,null,null,null,null,null,null,null,null,"PUSZCZA KOZIENICKA PLH140035"]
[null,null,null,null,null,null,null,null,null,null,null,null,null,null,null,null,null,"PUSZCZA NAD GWDĄ PLB300012"]
[null,null,null,null,null,null,null,null,null,null,null,null,null,null,null,null,null,"PUSZCZA NAPIWODZKO-RAMUCKA PLB280007"]
[null,null,null,null,null,null,null,null,null,null,null,null,null,null,null,null,null,"PUSZCZA NIEPOŁOMICKA PLB120002"]
[null,null,null,null,null,null,null,null,null,null,null,null,null,null,null,null,null,"PUSZCZA NOTECKA PLB300015"]
[null,null,null,null,null,null,null,null,null,null,null,null,null,null,null,null,null,"PUSZCZA PISKA PLB280008"]
[null,null,null,null,null,null,null,null,null,null,null,null,null,null,null,null,null,"PUSZCZA ROMINCKA PLH280005"]
[null,null,null,null,null,null,null,null,null,null,null,null,null,null,null,null,null,"PUSZCZA SANDOMIERSKA PLB180005"]
[null,null,null,null,null,null,null,null,null,null,null,null,null,null,null,null,null,"PUSZCZA SOLSKA PLB060008"]
[null,null,null,null,null,null,null,null,null,null,null,null,null,null,null,null,null,"PUTNOWICE PLH060074"]
[null,null,null,null,null,null,null,null,null,null,null,null,null,null,null,null,null,"RABA Z MSZANKA PLH120093"]
[null,null,null,null,null,null,null,null,null,null,null,null,null,null,null,null,null,"ROGALIŃSKA DOLINA WARTY PLH300012"]
[null,null,null,null,null,null,null,null,null,null,null,null,null,null,null,null,null,"ROGOŹNICA PLH140036"]
[null,null,null,null,null,null,null,null,null,null,null,null,null,null,null,null,null,"ROGÓW PLH060062"]
[null,null,null,null,null,null,null,null,null,null,null,null,null,null,null,null,null,"ROZTOCZE PLB060012"]
[null,null,null,null,null,null,null,null,null,null,null,null,null,null,null,null,null,"ROZTOCZE ŚRODKOWE PLH060017"]
[null,null,null,null,null,null,null,null,null,null,null,null,null,null,null,null,null,"ROZUMICKI LAS PLH160018"]
[null,null,null,null,null,null,null,null,null,null,null,null,null,null,null,null,null,"RÓWNINA SZUBIŃSKO-ŁABISZYŃSKA PLH040029"]
[null,null,null,null,null,null,null,null,null,null,null,null,null,null,null,null,null,"RUDAWY JANOWICKIE PLH020011"]
[null,null,null,null,null,null,null,null,null,null,null,null,null,null,null,null,null,"RUDNIAŃSKIE MODRASZKI - KAJASÓWKA PLH120077"]
[null,null,null,null,null,null,null,null,null,null,null,null,null,null,null,null,null,"RUDNO PLH120058"]
[null,null,null,null,null,null,null,null,null,null,null,null,null,null,null,null,null,"RYMANÓW PLH180016"]
[null,null,null,null,null,null,null,null,null,null,null,null,null,null,null,null,null,"RYNNA DŁUŻNICY PLH220081"]
[null,null,null,null,null,null,null,null,null,null,null,null,null,null,null,null,null,"RYNNA GRYŻYNY PLH080067"]
[null,null,null,null,null,null,null,null,null,null,null,null,null,null,null,null,null,"RYNNA JEZIOR RZEPIŃSKICH PLH080049"]
[null,null,null,null,null,null,null,null,null,null,null,null,null,null,null,null,null,"RZEKA PASŁĘKA PLH280006"]
[null,null,null,null,null,null,null,null,null,null,null,null,null,null,null,null,null,"RZEKA SAN PLH180007"]
[null,null,null,null,null,null,null,null,null,null,null,null,null,null,null,null,null,"SANDR BRDY PLH220026"]
[null,null,null,null,null,null,null,null,null,null,null,null,null,null,null,null,null,"SANDR WDY PLH040017"]
[null,null,null,null,null,null,null,null,null,null,null,null,null,null,null,null,null,"SANISKO W BYKOWCACH PLH180045"]
[null,null,null,null,null,null,null,null,null,null,null,null,null,null,null,null,null,"SAWIN PLH060068"]
[null,null,null,null,null,null,null,null,null,null,null,null,null,null,null,null,null,"SCHRONY BRZESKIEGO REJONU UMOCNIONEGO PLH200014"]
[null,null,null,null,null,null,null,null,null,null,null,null,null,null,null,null,null,"SERNIAWY PLH060057"]
[null,null,null,null,null,null,null,null,null,null,null,null,null,null,null,null,null,"SIENNICA RÓŻANA PLH060090"]
[null,null,null,null,null,null,null,null,null,null,null,null,null,null,null,null,null,"SIERAKÓW PLH300013"]
[null,null,null,null,null,null,null,null,null,null,null,null,null,null,null,null,null,"SIKÓRZ PLH140012"]
[null,null,null,null,null,null,null,null,null,null,null,null,null,null,null,null,null,"SILNE BŁOTA PLH100032"]
[null,null,null,null,null,null,null,null,null,null,null,null,null,null,null,null,null,"SKAŁKI STOLECKIE PLH020012"]
[null,null,null,null,null,null,null,null,null,null,null,null,null,null,null,null,null,"SKAWIŃSKI OBSZAR ŁĄKOWY PLH120079"]
[null,null,null,null,null,null,null,null,null,null,null,null,null,null,null,null,null,"SKOROSZOWSKIE ŁĄKI PLH020093"]
[null,null,null,null,null,null,null,null,null,null,null,null,null,null,null,null,null,"SKRODA PLH080064"]
[null,null,null,null,null,null,null,null,null,null,null,null,null,null,null,null,null,"SKWIERZYNA PLH080041"]
[null,null,null,null,null,null,null,null,null,null,null,null,null,null,null,null,null,"SŁAWICE DUCHOWNE PLH120074"]
[null,null,null,null,null,null,null,null,null,null,null,null,null,null,null,null,null,"SŁONE ŁĄKI W DOLINIE ZGŁOWIĄCZKI PLH040037"]
[null,null,null,null,null,null,null,null,null,null,null,null,null,null,null,null,null,"SŁONE ŁĄKI W PEŁCZYSKACH PLH100029"]
[null,null,null,null,null,null,null,null,null,null,null,null,null,null,null,null,null,"SŁOWINSKIE BŁOTO PLH320016"]
[null,null,null,null,null,null,null,null,null,null,null,null,null,null,null,null,null,"SOLECKA DOLINA WISŁY PLH040003"]
[null,null,null,null,null,null,null,null,null,null,null,null,null,null,null,null,null,"SOLNISKA SZUBIŃSKIE PLH040030"]
[null,null,null,null,null,null,null,null,null,null,null,null,null,null,null,null,null,"SPORYSZ PLH220064"]
[null,null,null,null,null,null,null,null,null,null,null,null,null,null,null,null,null,"STANISZEWSKIE BŁOTO PLH220027"]
[null,null,null,null,null,null,null,null,null,null,null,null,null,null,null,null,null,"STARA DĄBROWA W KORYTACH PLH080042"]
[null,null,null,null,null,null,null,null,null,null,null,null,null,null,null,null,null,"STARODUB W PEŁKINIACH PLH180050"]
[null,null,null,null,null,null,null,null,null,null,null,null,null,null,null,null,null,"STARY BUKOWIEC PLH220082"]
[null,null,null,null,null,null,null,null,null,null,null,null,null,null,null,null,null,"STARY ZAGAJ PLH040038"]
[null,null,null,null,null,null,null,null,null,null,null,null,null,null,null,null,null,"STAW BOĆKÓW PLB060016"]
[null,null,null,null,null,null,null,null,null,null,null,null,null,null,null,null,null,"STAWISKA PLH240024"]
[null,null,null,null,null,null,null,null,null,null,null,null,null,null,null,null,null,"STAWSKA GÓRA PLH060018"]
[null,null,null,null,null,null,null,null,null,null,null,null,null,null,null,null,null,"STAWY KARPNICKIE PLH020075"]
[null,null,null,null,null,null,null,null,null,null,null,null,null,null,null,null,null,"STAWY KISZKOWSKIE PLH300050"]
[null,null,null,null,null,null,null,null,null,null,null,null,null,null,null,null,null,"STAWY ŁĘŻCZOK PLH240010"]
[null,null,null,null,null,null,null,null,null,null,null,null,null,null,null,null,null,"STAWY PRZEMKOWSKIE PLB020003"]
[null,null,null,null,null,null,null,null,null,null,null,null,null,null,null,null,null,"STAWY SOBIESZOWSKIE PLH020044"]
[null,null,null,null,null,null,null,null,null,null,null,null,null,null,null,null,null,"STAWY W BOROWEJ PLH020045"]
[null,null,null,null,null,null,null,null,null,null,null,null,null,null,null,null,null,"STAWY W BRZESZCZACH PLB120009"]
[null,null,null,null,null,null,null,null,null,null,null,null,null,null,null,null,null,"STAWY W ŻABIEŃCU PLH140039"]
[null,null,null,null,null,null,null,null,null,null,null,null,null,null,null,null,null,"STAWY WIELIKAT I LAS TWORKOWSKI PLB240003"]
[null,null,null,null,null,null,null,null,null,null,null,null,null,null,null,null,null,"STERCZÓW-ŚCIANKA PLH120015"]
[null,null,null,null,null,null,null,null,null,null,null,null,null,null,null,null,null,"STRUGA BIAŁOŚLIWKA PLH300054"]
[null,null,null,null,null,null,null,null,null,null,null,null,null,null,null,null,null,"STRZALINY KOŁO TUCZNA PLH320021"]
[null,null,null,null,null,null,null,null,null,null,null,null,null,null,null,null,null,"STRZEBLA BŁOTNA W ZIELONCE PLH140040"]
[null,null,null,null,null,null,null,null,null,null,null,null,null,null,null,null,null,"STUDZIENICKIE TORFOWISKA PLH220028"]
[null,null,null,null,null,null,null,null,null,null,null,null,null,null,null,null,null,"SUCHY MŁYN PLH240016"]
[null,null,null,null,null,null,null,null,null,null,null,null,null,null,null,null,null,"SUDETY WAŁBRZYSKO-KAMIENNOGÓRSKIE PLB020010"]
[null,null,null,null,null,null,null,null,null,null,null,null,null,null,null,null,null,"SULECHÓW PLH080043"]
[null,null,null,null,null,null,null,null,null,null,null,null,null,null,null,null,null,"SUŚLE WZGÓRZA PLH060019"]
[null,null,null,null,null,null,null,null,null,null,null,null,null,null,null,null,null,"SWAJNIE PLH280046"]
[null,null,null,null,null,null,null,null,null,null,null,null,null,null,null,null,null,"SZACHOWNICA PLH240004"]
[null,null,null,null,null,null,null,null,null,null,null,null,null,null,null,null,null,"SZCZECYN PLH060083"]
[null,null,null,null,null,null,null,null,null,null,null,null,null,null,null,null,null,"SZCZODROWO PLH220101"]
[null,null,null,null,null,null,null,null,null,null,null,null,null,null,null,null,null,"SZCZYPIORNIAK I KOWALIKI PLH100033"]
[null,null,null,null,null,null,null,null,null,null,null,null,null,null,null,null,null,"SZTOLNIA W MŁOTACH PLH020070"]
[null,null,null,null,null,null,null,null,null,null,null,null,null,null,null,null,null,"SZTOLNIE W LEŚNEJ PLH020013"]
[null,null,null,null,null,null,null,null,null,null,null,null,null,null,null,null,null,"SZTOLNIE W SENDERKACH PLH060020"]
[null,null,null,null,null,null,null,null,null,null,null,null,null,null,null,null,null,"SZTUMSKIE POLE PLH220087"]
[null,null,null,null,null,null,null,null,null,null,null,null,null,null,null,null,null,"SZUMLEŚ PLH220086"]
[null,null,null,null,null,null,null,null,null,null,null,null,null,null,null,null,null,"ŚRODKOWY DUNAJEC Z DOPŁYWAMI PLH120088"]
[null,null,null,null,null,null,null,null,null,null,null,null,null,null,null,null,null,"ŚWIDNIK PLH060021"]
[null,null,null,null,null,null,null,null,null,null,null,null,null,null,null,null,null,"ŚWIECIECHÓW PLH060082"]
[null,null,null,null,null,null,null,null,null,null,null,null,null,null,null,null,null,"ŚWIETLISTE DĄBROWY I GRĄDY W JABŁONNEJ PLH140045"]
[null,null,null,null,null,null,null,null,null,null,null,null,null,null,null,null,null,"ŚWIĘTE ŁUGI PLH100036"]
[null,null,null,null,null,null,null,null,null,null,null,null,null,null,null,null,null,"ŚWIĘTY ROCH PLH060022"]
[null,null,null,null,null,null,null,null,null,null,null,null,null,null,null,null,null,"TARNAWKA PLH120089"]
[null,null,null,null,null,null,null,null,null,null,null,null,null,null,null,null,null,"TARNOBRZESKA DOLINA WISŁY PLH180049"]
[null,null,null,null,null,null,null,null,null,null,null,null,null,null,null,null,null,"TARNOSZYN PLH060100"]
[null,null,null,null,null,null,null,null,null,null,null,null,null,null,null,null,null,"TATRY PLC120001"]
[null,null,null,null,null,null,null,null,null,null,null,null,null,null,null,null,null,"TEKLUSIA PLH160017"]
[null,null,null,null,null,null,null,null,null,null,null,null,null,null,null,null,null,"TERESPOL PLH060053"]
[null,null,null,null,null,null,null,null,null,null,null,null,null,null,null,null,null,"TORFOWISKA CHEŁMSKIE PLH060023"]
[null,null,null,null,null,null,null,null,null,null,null,null,null,null,null,null,null,"TORFOWISKA CZERNIK PLH140037"]
[null,null,null,null,null,null,null,null,null,null,null,null,null,null,null,null,null,"TORFOWISKA GÓR IZERSKICH PLH020047"]
[null,null,null,null,null,null,null,null,null,null,null,null,null,null,null,null,null,"TORFOWISKA GÓR SUDAWSKICH PLH200017"]
[null,null,null,null,null,null,null,null,null,null,null,null,null,null,null,null,null,"TORFOWISKA ORAWSKO-NOWOTARSKIE PLB120007"]
[null,null,null,null,null,null,null,null,null,null,null,null,null,null,null,null,null,"TORFOWISKA ORAWSKO-NOWOTARSKIE PLH120016"]
[null,null,null,null,null,null,null,null,null,null,null,null,null,null,null,null,null,"TORFOWISKA SUŁOWSKIE PLH080029"]
[null,null,null,null,null,null,null,null,null,null,null,null,null,null,null,null,null,"TORFOWISKA ŹRÓDLISKOWE KOŁO ŁABĘDNIKA PLH280047"]
[null,null,null,null,null,null,null,null,null,null,null,null,null,null,null,null,null,"TORFOWISKA ŻYTNO–EWINA PLH100030"]
[null,null,null,null,null,null,null,null,null,null,null,null,null,null,null,null,null,"TORFOWISKO CHŁOPINY PLH080004"]
[null,null,null,null,null,null,null,null,null,null,null,null,null,null,null,null,null,"TORFOWISKO LINIE PLH040020"]
[null,null,null,null,null,null,null,null,null,null,null,null,null,null,null,null,null,"TORFOWISKO MIELEŃSKIE PLH040018"]
[null,null,null,null,null,null,null,null,null,null,null,null,null,null,null,null,null,"TORFOWISKO MŁODNO PLH080005"]
[null,null,null,null,null,null,null,null,null,null,null,null,null,null,null,null,null,"TORFOWISKO POBŁOCKIE PLH220042"]
[null,null,null,null,null,null,null,null,null,null,null,null,null,null,null,null,null,"TORFOWISKO POD ZIELEŃCEM PLH020014"]
[null,null,null,null,null,null,null,null,null,null,null,null,null,null,null,null,null,"TORFOWISKO PORADZ PLH320065"]
[null,null,null,null,null,null,null,null,null,null,null,null,null,null,null,null,null,"TORFOWISKO PRZY DOLINIE KOCINKI PLH240025"]
[null,null,null,null,null,null,null,null,null,null,null,null,null,null,null,null,null,"TORFOWISKO REPTOWO PLH320056"]
[null,null,null,null,null,null,null,null,null,null,null,null,null,null,null,null,null,"TORFOWISKO RZECIŃSKIE PLH300019"]
[null,null,null,null,null,null,null,null,null,null,null,null,null,null,null,null,null,"TORFOWISKO SOBOWICE PLH060024"]
[null,null,null,null,null,null,null,null,null,null,null,null,null,null,null,null,null,"TORFOWISKO SOSNOWIEC-BORY PLH240038"]
[null,null,null,null,null,null,null,null,null,null,null,null,null,null,null,null,null,"TORFOWISKO TRZEBIELINO PLH220085"]
[null,null,null,null,null,null,null,null,null,null,null,null,null,null,null,null,null,"TORFOWISKO WIELKIE BŁOTO PLH120080"]
[null,null,null,null,null,null,null,null,null,null,null,null,null,null,null,null,null,"TORFOWISKO ZOCIE PLH280037"]
[null,null,null,null,null,null,null,null,null,null,null,null,null,null,null,null,null,"TRZCIANA PLH180018"]
[null,null,null,null,null,null,null,null,null,null,null,null,null,null,null,null,null,"TRZCIŃSKIE MOKRADŁA PLH020105"]
[null,null,null,null,null,null,null,null,null,null,null,null,null,null,null,null,null,"TRZEBIATOWSKO-KOŁOBRZESKI PAS NADMORSKI PLH320017"]
[null,null,null,null,null,null,null,null,null,null,null,null,null,null,null,null,null,"TRZY MŁYNY PLH220029"]
[null,null,null,null,null,null,null,null,null,null,null,null,null,null,null,null,null,"TWIERDZA WISŁOUJŚCIE PLH220030"]
[null,null,null,null,null,null,null,null,null,null,null,null,null,null,null,null,null,"TYLMANOWA PLH120095"]
[null,null,null,null,null,null,null,null,null,null,null,null,null,null,null,null,null,"UJŚCIE ILANKI PLH080015"]
[null,null,null,null,null,null,null,null,null,null,null,null,null,null,null,null,null,"UJŚCIE NOTECI PLH080006"]
[null,null,null,null,null,null,null,null,null,null,null,null,null,null,null,null,null,"UJŚCIE ODRY I ZALEW SZCZECIŃSKI PLH320018"]
[null,null,null,null,null,null,null,null,null,null,null,null,null,null,null,null,null,"UJŚCIE WARTY PLC080001"]
[null,null,null,null,null,null,null,null,null,null,null,null,null,null,null,null,null,"UJŚCIE WISŁY PLB220004"]
[null,null,null,null,null,null,null,null,null,null,null,null,null,null,null,null,null,"UNIEJÓW PARCELE PLH120075"]
[null,null,null,null,null,null,null,null,null,null,null,null,null,null,null,null,null,"UROCZYSKA BORÓW DOLNOŚLASKICH PLH020072"]
[null,null,null,null,null,null,null,null,null,null,null,null,null,null,null,null,null,"UROCZYSKA BORÓW ZASIECKICH PLH080060"]
[null,null,null,null,null,null,null,null,null,null,null,null,null,null,null,null,null,"UROCZYSKA KUJAŃSKIE PLH300052"]
[null,null,null,null,null,null,null,null,null,null,null,null,null,null,null,null,null,"UROCZYSKA LASÓW ADAMOWSKICH PLH060094"]
[null,null,null,null,null,null,null,null,null,null,null,null,null,null,null,null,null,"UROCZYSKA LASÓW JANOWSKICH PLH060031"]
[null,null,null,null,null,null,null,null,null,null,null,null,null,null,null,null,null,"UROCZYSKA LASÓW STARACHOWICKICH PLH260038"]
[null,null,null,null,null,null,null,null,null,null,null,null,null,null,null,null,null,"UROCZYSKA LASÓW STRZELECKICH PLH060099"]
[null,null,null,null,null,null,null,null,null,null,null,null,null,null,null,null,null,"UROCZYSKA ŁĄCKIE PLH140021"]
[null,null,null,null,null,null,null,null,null,null,null,null,null,null,null,null,null,"UROCZYSKA POJEZIERZA KASZUBSKIEGO PLH220095"]
[null,null,null,null,null,null,null,null,null,null,null,null,null,null,null,null,null,"UROCZYSKA PUSZCZY DRAWSKIEJ PLH320046"]
[null,null,null,null,null,null,null,null,null,null,null,null,null,null,null,null,null,"UROCZYSKA PUSZCZY SOLSKIEJ PLH060034"]
[null,null,null,null,null,null,null,null,null,null,null,null,null,null,null,null,null,"UROCZYSKA PUSZCZY ZIELONKI PLH300058"]
[null,null,null,null,null,null,null,null,null,null,null,null,null,null,null,null,null,"UROCZYSKA ROZTOCZA WSCHODNIEGO PLH060093"]
[null,null,null,null,null,null,null,null,null,null,null,null,null,null,null,null,null,"UROCZYSKA W LASACH STEPNICKICH PLH320033"]
[null,null,null,null,null,null,null,null,null,null,null,null,null,null,null,null,null,"UROCZYSKO ŁOPIEŃ PLH120078"]
[null,null,null,null,null,null,null,null,null,null,null,null,null,null,null,null,null,"UROCZYSKO MARKOWO PLH280032"]
[null,null,null,null,null,null,null,null,null,null,null,null,null,null,null,null,null,"UROCZYSKO MOSTY-ZAHAJKI PLB060014"]
[null,null,null,null,null,null,null,null,null,null,null,null,null,null,null,null,null,"UROCZYSKO PIĘTY PLH260012"]
[null,null,null,null,null,null,null,null,null,null,null,null,null,null,null,null,null,"WAĆMIERZ PLH220031"]
[null,null,null,null,null,null,null,null,null,null,null,null,null,null,null,null,null,"WALASZCZYKI W CZĘSTOCHOWIE PLH240028"]
[null,null,null,null,null,null,null,null,null,null,null,null,null,null,null,null,null,"WAŁY PLH120017"]
[null,null,null,null,null,null,null,null,null,null,null,null,null,null,null,null,null,"WARMIŃSKIE BUCZYNY PLH280033"]
[null,null,null,null,null,null,null,null,null,null,null,null,null,null,null,null,null,"WARNIE BAGNO PLH320047"]
[null,null,null,null,null,null,null,null,null,null,null,null,null,null,null,null,null,"WEJHEROWO PLH220084"]
[null,null,null,null,null,null,null,null,null,null,null,null,null,null,null,null,null,"WIĄZOGÓRA PLH320066"]
[null,null,null,null,null,null,null,null,null,null,null,null,null,null,null,null,null,"WIDNICA PLH120076"]
[null,null,null,null,null,null,null,null,null,null,null,null,null,null,null,null,null,"WIDOWO PLH220054"]
[null,null,null,null,null,null,null,null,null,null,null,null,null,null,null,null,null,"WIELKI KLINCZ PLH220083"]
[null,null,null,null,null,null,null,null,null,null,null,null,null,null,null,null,null,"WIELKI LEG OBRZAŃSKI PLB300004"]
[null,null,null,null,null,null,null,null,null,null,null,null,null,null,null,null,null,"WIELKI SANDR BRDY PLB220001"]
[null,null,null,null,null,null,null,null,null,null,null,null,null,null,null,null,null,"WIELKOPOLE - JODŁY POD CZARTORIĄ PLH100031"]
[null,null,null,null,null,null,null,null,null,null,null,null,null,null,null,null,null,"WIERZCHOWISKA PLH060069"]
[null,null,null,null,null,null,null,null,null,null,null,null,null,null,null,null,null,"WILCZE BŁOTA PLH220093"]
[null,null,null,null,null,null,null,null,null,null,null,null,null,null,null,null,null,"WILKI NAD NYSĄ PLH080044"]
[null,null,null,null,null,null,null,null,null,null,null,null,null,null,null,null,null,"WISLOKA Z DOPLYWAMI PLH180052"]
[null,null,null,null,null,null,null,null,null,null,null,null,null,null,null,null,null,"WISŁOK ŚRODKOWY Z DOPŁYWAMI PLH180030"]
[null,null,null,null,null,null,null,null,null,null,null,null,null,null,null,null,null,"WIŚLISKA PLH120084"]
[null,null,null,null,null,null,null,null,null,null,null,null,null,null,null,null,null,"WŁOCŁAWSKA DOLINA WISŁY PLH040039"]
[null,null,null,null,null,null,null,null,null,null,null,null,null,null,null,null,null,"WODNY DÓŁ PLH060026"]
[null,null,null,null,null,null,null,null,null,null,null,null,null,null,null,null,null,"WOLA CYRUSOWA PLH100034"]
[null,null,null,null,null,null,null,null,null,null,null,null,null,null,null,null,null,"WOLIN I UZNAM PLH320019"]
[null,null,null,null,null,null,null,null,null,null,null,null,null,null,null,null,null,"WRZOSOWISKA ŚWIETOSZOWSKO-ŁAWSZOWSKIE PLH020063"]
[null,null,null,null,null,null,null,null,null,null,null,null,null,null,null,null,null,"WRZOSOWISKO PRZEMKOWSKIE PLH020015"]
[null,null,null,null,null,null,null,null,null,null,null,null,null,null,null,null,null,"WRZOSOWISKO W ORZECHOWIE PLH060098"]
[null,null,null,null,null,null,null,null,null,null,null,null,null,null,null,null,null,"WYBRZEŻE TRZEBIATOWSKIE PLB320010"]
[null,null,null,null,null,null,null,null,null,null,null,null,null,null,null,null,null,"WYDMY LUCYNOWSKO-MOSTOWIECKIE PLH140013"]
[null,null,null,null,null,null,null,null,null,null,null,null,null,null,null,null,null,"WYGON GRABOWIECKI PLH060027"]
[null,null,null,null,null,null,null,null,null,null,null,null,null,null,null,null,null,"WZGÓRZA BUKOWE PLH320020"]
[null,null,null,null,null,null,null,null,null,null,null,null,null,null,null,null,null,"WZGÓRZA CHECIŃSKO-KIELECKIE PLH260041"]
[null,null,null,null,null,null,null,null,null,null,null,null,null,null,null,null,null,"WZGÓRZA KIEŁCZYŃSKIE PLH020021"]
[null,null,null,null,null,null,null,null,null,null,null,null,null,null,null,null,null,"WZGÓRZA KRZYMOWSKIE PLH320054"]
[null,null,null,null,null,null,null,null,null,null,null,null,null,null,null,null,null,"WZGÓRZA KUNOWSKIE PLH260039"]
[null,null,null,null,null,null,null,null,null,null,null,null,null,null,null,null,null,"WZGÓRZA MORYŃSKIE PLH320055"]
[null,null,null,null,null,null,null,null,null,null,null,null,null,null,null,null,null,"WZGÓRZA NIEMCZAŃSKIE PLH020082"]
[null,null,null,null,null,null,null,null,null,null,null,null,null,null,null,null,null,"WZGÓRZA STRZELIŃSKIE PLH020074"]
[null,null,null,null,null,null,null,null,null,null,null,null,null,null,null,null,null,"WZGÓRZA WARZĘGOWSKIE PLH020079"]
[null,null,null,null,null,null,null,null,null,null,null,null,null,null,null,null,null,"ZACHODNIE POJEZIERZE KRZYWIŃSKIE PLH300014"]
[null,null,null,null,null,null,null,null,null,null,null,null,null,null,null,null,null,"ZACHODNIOKURPIOWSKIE BORY SASANKOWE PLH140052"]
[null,null,null,null,null,null,null,null,null,null,null,null,null,null,null,null,null,"ZACHODNIOWOŁYNSKA DOLINA BUGU PLH060035"]
[null,null,null,null,null,null,null,null,null,null,null,null,null,null,null,null,null,"ZAGÓRZYCKIE ŁĄKI PLH020053"]
[null,null,null,null,null,null,null,null,null,null,null,null,null,null,null,null,null,"ZALEW KAMIEŃSKI I DZIWNA PLB320011"]
[null,null,null,null,null,null,null,null,null,null,null,null,null,null,null,null,null,"ZALEW SZCZECIŃSKI PLB320009"]
[null,null,null,null,null,null,null,null,null,null,null,null,null,null,null,null,null,"ZALEW WIŚLANY I MIERZEJA WIŚLANA PLH280007"]
[null,null,null,null,null,null,null,null,null,null,null,null,null,null,null,null,null,"ZALEW WIŚLANY PLB280010"]
[null,null,null,null,null,null,null,null,null,null,null,null,null,null,null,null,null,"ZAŁECZAŃSKI ŁUK WARTY PLH100007"]
[null,null,null,null,null,null,null,null,null,null,null,null,null,null,null,null,null,"ZAMEK ŚWIECIE PLH040025"]
[null,null,null,null,null,null,null,null,null,null,null,null,null,null,null,null,null,"ZAMORZE PNIEWSKIE PLH300036"]
[null,null,null,null,null,null,null,null,null,null,null,null,null,null,null,null,null,"ZAROŚLE PLH060028"]
[null,null,null,null,null,null,null,null,null,null,null,null,null,null,null,null,null,"ZATOKA POMORSKA PLB990003"]
[null,null,null,null,null,null,null,null,null,null,null,null,null,null,null,null,null,"ZATOKA PUCKA I PÓŁWYSEP HELSKI PLH220032"]
[null,null,null,null,null,null,null,null,null,null,null,null,null,null,null,null,null,"ZATOKA PUCKA PLB220005"]
[null,null,null,null,null,null,null,null,null,null,null,null,null,null,null,null,null,"ZBIORNIK GOCZAŁKOWICKI - UJŚCIE WISŁY I BAJERKI PLH240039"]
[null,null,null,null,null,null,null,null,null,null,null,null,null,null,null,null,null,"ZBIORNIK JEZIORSKO PLB100002"]
[null,null,null,null,null,null,null,null,null,null,null,null,null,null,null,null,null,"ZBIORNIK MIETKOWSKI PLB020004"]
[null,null,null,null,null,null,null,null,null,null,null,null,null,null,null,null,null,"ZBIORNIK NYSKI PLB160002"]
[null,null,null,null,null,null,null,null,null,null,null,null,null,null,null,null,null,"ZBIORNIK OTMUCHOWSKI PLB160003"]
[null,null,null,null,null,null,null,null,null,null,null,null,null,null,null,null,null,"ZBIORNIK PODEDWÓRZE PLB060015"]
[null,null,null,null,null,null,null,null,null,null,null,null,null,null,null,null,null,"ZBIORNIK TURAWSKI PLB160004"]
[null,null,null,null,null,null,null,null,null,null,null,null,null,null,null,null,null,"ZBIORNIK WONIEŚĆ PLB300005"]
[null,null,null,null,null,null,null,null,null,null,null,null,null,null,null,null,null,"ZBOCZA PŁUTOWSKIE PLH040040"]
[null,null,null,null,null,null,null,null,null,null,null,null,null,null,null,null,null,"ZIELENINA PLH220065"]
[null,null,null,null,null,null,null,null,null,null,null,null,null,null,null,null,null,"ZIMNA WODA PLH080062"]
[null,null,null,null,null,null,null,null,null,null,null,null,null,null,null,null,null,"ZLEWNIA GÓRNEJ HUCZWY PLB060017"]
[null,null,null,null,null,null,null,null,null,null,null,null,null,null,null,null,null,"ŹRÓDLISKA KOŁO ZIMNEJ WODY PLH020092"]
[null,null,null,null,null,null,null,null,null,null,null,null,null,null,null,null,null,"ŹRÓDLISKA WISŁOKI PLH120057"]
[null,null,null,null,null,null,null,null,null,null,null,null,null,null,null,null,null,"ŹRÓDŁA PIJAWNIKA PLH020076"]
[null,null,null,null,null,null,null,null,null,null,null,null,null,null,null,null,null,"ŹRÓDŁA RAJECZNICY PLH240033"]
[null,null,null,null,null,null,null,null,null,null,null,null,null,null,null,null,null,"ŻERKOWICE-SKAŁA PLH020077"]
[null,null,null,null,null,null,null,null,null,null,null,null,null,null,null,null,null,"ŻMUDŹ PLH060075"]
[null,null,null,null,null,null,null,null,null,null,null,null,null,null,null,null,null,"ŻURAWCE PLH060029"]
[null,null,null,null,null,null,null,null,null,null,null,null,null,null,null,null,null,"ŻURAWIE BAGNO SŁAWSKIE PLH080047"]
[null,null,null,null,null,null,null,null,null,null,null,null,null,null,null,null,null,"ŻWIROWNIA SKOKI PLB040005"]
[null,null,null,null,null,null,null,null,null,null,null,null,null,null,null,null,null,"ŻWIROWNIE W STAREJ OLESZNEJ PLH020049"]
[null,null,null,null,null,null,null,null,null,null,null,null,null,null,null,null,null,"ŻYWOCICKIE ŁĘGI PLH160019"]

{"sheet":"P_Menu","index":33,"n_rows":13,"n_cols":16,"rows_kept":13,"cut":false,"hidden":true,"merged":[[8,2,8,4],[10,2,10,7],[11,2,11,9],[12,2,12,4],[0,11,0,12],[1,1,1,11],[3,2,3,7],[3,8,3,10],[4,2,4,7],[4,8,4,10],[5,2,5,7],[5,8,5,10]]}
[null,null,null,null,null,null,null,null,null,null,null,"POWRÓT",null,null,null,"Uwagi"]
[null,"DOKUMENTACJA PRZYRODNICZA ORNITOLOGICZNA"]
[]
[null,null,"Dane ogólne"]
[null,null,"Zestawienie działek rolnych i RSO"]
[null,null,"Karty opisów działek RSO"]
[]
[]
[null,null,"WYMOGI DLA WARIANTU: ",null,null,{"$f":"IF(Pakiety_warianty!I26=TRUE,\"4.8.\",\"\")","v":""},{"$f":"IF(Pakiety_warianty!I27=TRUE,\"4.9.\",\"\")","v":""},{"$f":"IF(Pakiety_warianty!I28=TRUE,\"4.10.\",\"\")","v":""},{"$f":"IF(Pakiety_warianty!I29=TRUE,\"4.11.\",\"\")","v":""},null,null,null,null,null,null,"tu pojawiają się tylko zaznaczone"]
[]
[null,null,"Kontrola ornitologiczna na działkach RSO"]
[null,null,"Elementy krajobrazu rolniczego nieużytkowane rolniczo (ostoje)"]
[null,null,"Uwagi eksperta/rolnika"]

{"sheet":"P_Dane_ogolne","index":34,"n_rows":74,"n_cols":6,"rows_kept":74,"cut":false,"hidden":true,"merged":[[1,1,1,2],[67,1,67,2],[2,1,2,2],[8,1,8,2],[16,1,16,2],[17,1,17,2],[22,1,22,2],[28,1,28,2],[36,1,36,2],[42,1,42,2],[49,1,49,2],[54,1,54,2],[62,1,62,2]]}
[null,null,null,"Powrót"]
[null,"Pierwsza strona dokumentacji do przekazania do BP ARiMR"]
[null,"DOKUMENTACJA PRZYRODNICZA ORNITOLOGICZNA\nNA POTRZEBY DZIAŁANIA ROLNO-ŚRODOWISKOWO-KLIMATYCZNEGO \nPROW 2014-2020\nrealizowanego w zakresie wariantów 4.8.-4.11. pakietu 4.\n"]
[null,"Okres realizacji zobowiązania                   od:","2020-03-15",null,{"$f":"YEAR(C4)","v":2020}]
[null,"do:",null,null,{"$f":"YEAR(C5)","v":1900}]
[null,"Cel złożenia dokumentacji ","pierwsze zgłoszenie"]
[null,"Data sporządzenia dokumentacji w pierwszym zgłoszeniu:"]
[null,"Data sporządzenia korekty:"]
[null,"Złożenie korekty dokumentacji w zakresie:\n"]
[null,"zmiany w części \"Dane ogólne\""]
[null,"zmiany w części \"Zestawienie działek\" "]
[null,"dodanie nowej/nowych działki/działek RSS "]
[null,"zmiany w części \"Karta opisu działki RSS\""]
[null,"zmiany w części \"Wymogi dla działki RSS\" "]
[null,"zmiany w części \"Ostoje\""]
[null,"zmiany w części \"Załączniki\""]
[null,"Uzasadnienie korekty"]
[]
[]
[null,"Czytelny podpis rolnika lub zarządcy, data"]
[null,"Czytelny podpis eksperta, data"]
[]
[null,"DANE ROLNIKA LUB ZARZĄDCY",null,null,null,{"$f":"OGOLNE_ROL_EKSP!G4","v":1}]
[null,"Numer identyfikacyjny producenta rolnego ",{"$f":"OGOLNE_ROL_EKSP!D5","v":0},null,null,{"$f":"OGOLNE_ROL_EKSP!G5","v":1}]
[null,"Imię",{"$f":"OGOLNE_ROL_EKSP!C6","v":0},null,null,{"$f":"OGOLNE_ROL_EKSP!G6","v":0}]
[null,"Nazwisko/Nazwa",{"$f":"OGOLNE_ROL_EKSP!C7","v":0},null,null,{"$f":"OGOLNE_ROL_EKSP!G7","v":1}]
[null,"Numer telefonu [można podać kilka numerów telefonów]",{"$f":"OGOLNE_ROL_EKSP!C8","v":0},null,null,{"$f":"OGOLNE_ROL_EKSP!G8","v":1}]
[null,"E-mail [jeśli dotyczy; można podać kilka adresów e-mail]",{"$f":"OGOLNE_ROL_EKSP!C9","v":0},null,null,{"$f":"OGOLNE_ROL_EKSP!G9","v":0}]
[null,"Adres do korespondencji:",null,null,null,{"$f":"OGOLNE_ROL_EKSP!G10","v":1}]
[null,"Miejscowość",{"$f":"OGOLNE_ROL_EKSP!C11","v":0},null,null,{"$f":"OGOLNE_ROL_EKSP!G11","v":1}]
[null,"Ulica",{"$f":"OGOLNE_ROL_EKSP!C12","v":0},null,null,{"$f":"OGOLNE_ROL_EKSP!G12","v":0}]
[null,"Numer domu",{"$f":"OGOLNE_ROL_EKSP!C13","v":0},null,null,{"$f":"OGOLNE_ROL_EKSP!G13","v":1}]
[null,"Numer mieszkania",{"$f":"OGOLNE_ROL_EKSP!C14","v":0},null,null,{"$f":"OGOLNE_ROL_EKSP!G14","v":0}]
[null,"Kod pocztowy ",{"$f":"OGOLNE_ROL_EKSP!C15","v":0},null,null,{"$f":"OGOLNE_ROL_EKSP!G15","v":1}]
[null,"Poczta ",{"$f":"OGOLNE_ROL_EKSP!C16","v":0},null,null,{"$f":"OGOLNE_ROL_EKSP!G16","v":1}]
[]
[null,{"$f":"OGOLNE_ROL_EKSP!B18&\" \"&OGOLNE_ROL_EKSP!C18","v":"DANE EKSPERTA "},null,null,null,{"$f":"F39","v":0}]
[]
[null,"Imię i nazwisko ",null,null,null,{"$f":"IFERROR(MATCH(C39,OGOLNE_ROL_EKSP!$I$20:$I$22,0),0)","v":0}]
[null,"Aktualny numer zaświadczenia",{"$f":"OFFSET(OGOLNE_ROL_EKSP!$I$19,$F$39,1)","v":0},null,null,{"$f":"IF(F39=0,0,OGOLNE_ROL_EKSP!G19)","v":0}]
[null,"Numer telefonu [można podać kilka numerów telefonów]",{"$f":"OFFSET(OGOLNE_ROL_EKSP!$I$19,$F$39,2)","v":0},null,null,{"$f":"IF($F$39=0,0,OGOLNE_ROL_EKSP!G22)","v":0}]
[null,"E-mail [można podać kilka adresów e-mail]",{"$f":"OFFSET(OGOLNE_ROL_EKSP!$I$19,$F$39,3)","v":0},null,null,{"$f":"IF($F$39=0,0,OGOLNE_ROL_EKSP!G23)","v":0}]
[null,"Adres do korespondencji:",null,null,null,{"$f":"IF($F$39=0,0,OGOLNE_ROL_EKSP!G24)","v":0}]
[null,"Miejscowość",{"$f":"OFFSET(OGOLNE_ROL_EKSP!$I$19,$F$39,4)","v":0},null,null,{"$f":"IF($F$39=0,0,OGOLNE_ROL_EKSP!G25)","v":0}]
[null,"Ulica",{"$f":"OFFSET(OGOLNE_ROL_EKSP!$I$19,$F$39,5)","v":0},null,null,{"$f":"IF($F$39=0,0,OGOLNE_ROL_EKSP!G26)","v":0}]
[null,"Numer domu",{"$f":"OFFSET(OGOLNE_ROL_EKSP!$I$19,$F$39,6)","v":0},null,null,{"$f":"IF($F$39=0,0,OGOLNE_ROL_EKSP!G27)","v":0}]
[null,"Numer mieszkania",{"$f":"OFFSET(OGOLNE_ROL_EKSP!$I$19,$F$39,7)","v":0},null,null,{"$f":"IF($F$39=0,0,OGOLNE_ROL_EKSP!G28)","v":0}]
[null,"Kod pocztowy ",{"$f":"OFFSET(OGOLNE_ROL_EKSP!$I$19,$F$39,8)","v":0},null,null,{"$f":"IF($F$39=0,0,OGOLNE_ROL_EKSP!G29)","v":0}]
[null,"Poczta",{"$f":"OFFSET(OGOLNE_ROL_EKSP!$I$19,$F$39,9)","v":0},null,null,{"$f":"IF($F$39=0,0,OGOLNE_ROL_EKSP!G30)","v":0}]
[null,{"$f":"OGOLNE_ROL_EKSP!B32","v":"DANE EKSPERTA - 2"},null,null,null,{"$f":"F51","v":0}]
[null,"Imię i nazwisko ",null,null,null,{"$f":"IFERROR(MATCH(C51,OGOLNE_ROL_EKSP!$I$20:$I$22,0),0)","v":0}]
[null,"Aktualny numer zaświadczenia",{"$f":"OFFSET(OGOLNE_ROL_EKSP!$I$19,$F$51,1)","v":0},null,null,{"$f":"IF(F51=0,0,OGOLNE_ROL_EKSP!G33)","v":0}]
[null,"Numer telefonu [można podać kilka numerów telefonów]",{"$f":"OFFSET(OGOLNE_ROL_EKSP!$I$19,$F$51,2)","v":0},null,null,{"$f":"IF($F$51=0,0,OGOLNE_ROL_EKSP!G36)","v":0}]
[null,"E-mail [można podać kilka adresów e-mail]",{"$f":"OFFSET(OGOLNE_ROL_EKSP!$I$19,$F$51,3)","v":0},null,null,{"$f":"IF($F$51=0,0,OGOLNE_ROL_EKSP!G37)","v":0}]
[null,"Adres do korespondencji:",null,null,null,{"$f":"IF($F$51=0,0,OGOLNE_ROL_EKSP!G38)","v":0}]
[null,"Miejscowość",{"$f":"OFFSET(OGOLNE_ROL_EKSP!$I$19,$F$51,4)","v":0},null,null,{"$f":"IF($F$51=0,0,OGOLNE_ROL_EKSP!G39)","v":0}]
[null,"Ulica",{"$f":"OFFSET(OGOLNE_ROL_EKSP!$I$19,$F$51,5)","v":0},null,null,{"$f":"IF($F$51=0,0,OGOLNE_ROL_EKSP!G40)","v":0}]
[null,"Numer domu",{"$f":"OFFSET(OGOLNE_ROL_EKSP!$I$19,$F$51,6)","v":0},null,null,{"$f":"IF($F$51=0,0,OGOLNE_ROL_EKSP!G41)","v":0}]
[null,"Numer mieszkania",{"$f":"OFFSET(OGOLNE_ROL_EKSP!$I$19,$F$51,7)","v":0},null,null,{"$f":"IF($F$51=0,0,OGOLNE_ROL_EKSP!G42)","v":0}]
[null,"Kod pocztowy ",{"$f":"OFFSET(OGOLNE_ROL_EKSP!$I$19,$F$51,8)","v":0},null,null,{"$f":"IF($F$51=0,0,OGOLNE_ROL_EKSP!G43)","v":0}]
[null,"Poczta",{"$f":"OFFSET(OGOLNE_ROL_EKSP!$I$19,$F$51,9)","v":0},null,null,{"$f":"IF($F$51=0,0,OGOLNE_ROL_EKSP!G44)","v":0}]
[]
[null,{"$f":"OGOLNE_ROL_EKSP!B46","v":"DANE EKSPERTA - 3"},null,null,null,{"$f":"F64","v":0}]
[null,"Imię i nazwisko ",null,null,null,{"$f":"IFERROR(MATCH(C64,OGOLNE_ROL_EKSP!$I$20:$I$22,0),0)","v":0}]
[null,"Aktualny numer zaświadczenia",{"$f":"OFFSET(OGOLNE_ROL_EKSP!$I$19,$F$64,1)","v":0},null,null,{"$f":"IF(F64=0,0,OGOLNE_ROL_EKSP!G47)","v":0}]
[null,"Numer telefonu [można podać kilka numerów telefonów]",{"$f":"OFFSET(OGOLNE_ROL_EKSP!$I$19,$F$64,2)","v":0},null,null,{"$f":"IF($F$64=0,0,OGOLNE_ROL_EKSP!G50)","v":0}]
[null,"E-mail [można podać kilka adresów e-mail]",{"$f":"OFFSET(OGOLNE_ROL_EKSP!$I$19,$F$64,3)","v":0},null,null,{"$f":"IF($F$64=0,0,OGOLNE_ROL_EKSP!G51)","v":0}]
[null,"Adres do korespondencji:",null,null,null,{"$f":"IF($F$64=0,0,OGOLNE_ROL_EKSP!G52)","v":0}]
[null,"Miejscowość",{"$f":"OFFSET(OGOLNE_ROL_EKSP!$I$19,$F$64,4)","v":0},null,null,{"$f":"IF($F$64=0,0,OGOLNE_ROL_EKSP!G53)","v":0}]
[null,"Ulica",{"$f":"OFFSET(OGOLNE_ROL_EKSP!$I$19,$F$64,5)","v":0},null,null,{"$f":"IF($F$64=0,0,OGOLNE_ROL_EKSP!G54)","v":0}]
[null,"Numer domu",{"$f":"OFFSET(OGOLNE_ROL_EKSP!$I$19,$F$64,6)","v":0},null,null,{"$f":"IF($F$64=0,0,OGOLNE_ROL_EKSP!G55)","v":0}]
[null,"Numer mieszkania",{"$f":"OFFSET(OGOLNE_ROL_EKSP!$I$19,$F$64,7)","v":0},null,null,{"$f":"IF($F$64=0,0,OGOLNE_ROL_EKSP!G56)","v":0}]
[null,"Kod pocztowy ",{"$f":"OFFSET(OGOLNE_ROL_EKSP!$I$19,$F$64,8)","v":0},null,null,{"$f":"IF($F$64=0,0,OGOLNE_ROL_EKSP!G57)","v":0}]
[null,"Poczta",{"$f":"OFFSET(OGOLNE_ROL_EKSP!$I$19,$F$64,9)","v":0},null,null,{"$f":"IF($F$64=0,0,OGOLNE_ROL_EKSP!G58)","v":0}]

{"sheet":"P_Zestawienie dzialek","index":35,"n_rows":127,"n_cols":59,"rows_kept":127,"cut":false,"hidden":true,"merged":[[118,1,118,2],[126,1,126,2],[3,13,5,13],[3,14,5,14],[4,8,5,8],[4,9,5,9],[4,10,5,10],[4,11,5,11],[4,12,5,12],[0,13,0,14],[2,1,2,14],[3,1,5,1],[3,2,5,2],[3,3,4,3],[3,4,5,4],[3,5,4,5],[3,6,5,6],[3,7,5,7],[3,8,3,12]]}
[null,null,null,null,null,null,null,null,null,null,null,null,"Powrót",null,null,null,null,null,null,null,null,null,null,null,"4.1.  "]
[null,null,null,null,null,null,null,null,null,null,null,null,null,null,null,null,null,null,null,null,null,null,null,null,null,null,{"$f":"OFFSET($AA$6,0,0,$AA$4)","v":0},"dz. ew",null,null,null,null,{"$f":"COUNTA(AG7:AG110)","v":0},{"$f":"COUNTA(AH7:AH110)","v":0},0,0]
[null,"Zestawienie działek rolnych i RSO",null,null,null,null,null,null,null,null,null,null,null,null,null,null,null,null,null,null,null,null,{"$f":"COUNTA(C7:C110)+1","v":1},null,null,null,null,{"$f":"COUNTA(H7:H110)","v":0},{"$f":"MATCH(AC4,$X$6:$X$110,0)","v":{"$error":"#N/A"}},{"$f":"MATCH(AD4,$X$6:$X$110,0)","v":{"$error":"#N/A"}},{"$f":"MATCH(AE4,$X$6:$X$111,0)","v":{"$error":"#N/A"}},{"$error":"#N/A"},106,{"$error":"#N/A"},{"$error":"#N/A"},{"$error":"#N/A"}]
[null,"Numer pakietu","Numer i nazwa wariantu","Oznaczenie działki  RSO (zgodne z dołączonym szkicem) ","Powierzchnia działki RSO\n(ha do 0,01 ha)","Oznaczenie działki rolnej (zgodne z dołączonym szkicem)\n ","Powierzchnia działki rolnej (ha do 0,01 ha)","Powierzchnia działki rolnej w granicach działki ewidencyjnej lub jej części \n(ha do 0,01 ha)","Numer i położenie działki ewidencyjnej\n",null,null,null,null,"PZO/PO\n","Zakres \ndokumentacji",null,null,null,null,null,null,null,{"$f":"COUNTA(C7:C110)+7","v":7},null,null,null,{"$f":"Pakiety_warianty!I24+1","v":1},{"$f":"COUNTA(AC4:AF4)","v":4},"4.8.  ","4.9.  ","4.10. ","4.11. ","4.8.  ","4.9.  ","4.10. ","4.11. ",null,null,null,null,null,null,null,"Duplikat"]
[null,null,null,null,null,null,null,null,"Numer działki ew.","Obręb ewidencyjny","Gmina","Powiat","Województwo",null,null,null,null,null,null,null,null,"dz.rol","Lista",null,"pust","Inna pow.","ListaWar","DZ ROL","rso","rso","rso","rso","war","war","war","war",null,null,null,null,null,null,null,"RSO"]
[null,null,null,null,null,null,null,null,null,null,null,null,null,null,null,null,null,null,null,null,null,null," ",null,null,null,null,{"$f":"COUNTA(H7:H110)+7","v":7},null,null,null,null,null,null,null,null,null,null,null,null,null,null,null,null,"Uwagi"]
[null,{"$f":"Q7","v":""},null,null,{"$f":"IF(D7=\"\",0,SUMIF($T$7:T110,D7,$H$7:H110))","v":0},null,{"$f":"IF(F7=\"\",0,SUMIF($U$7:U110,F7,$H$7:H110))","v":0},null,null,null,null,null,null,null,null,null,{"$f":"LEFT(C7,2)","v":""},{"$f":"Q7","v":""},{"$f":"C7","v":0},{"$f":"D7","v":0},{"$f":"F7","v":0},{"$f":"COUNTIF($F$7:$F$110,F7)","v":0},null,{"$f":"IF(V7>0,LEFT(S7,6),\"\")","v":""},{"$f":"COUNTA(B7:H7)","v":3},{"$f":"IF(LEN(X7&U7)>11,\"\",(X7))","v":""},{"$f":"Pakiety_warianty!P25","v":0},null,{"$f":"IF($X7=$AC$4,$D7,0)","v":0},{"$f":"IF($X7=$AD$4,$D7,0)","v":0},{"$f":"IF($X7=$AE$4,$D7,0)","v":0},{"$f":"IF($X7=$AF$4,$D7,0)","v":0},null,null,null,null,null,null,null,null,null,null,null,{"$f":"COUNTIF($D$7:$D$110,D7)","v":0},null,null,null,null,null,null,null,null,null,null,null,null,null,null,"RSO2"]
[null,{"$f":"IF(R8=R7,\"\",R8)","v":""},null,null,{"$f":"IF(D8=\"\",0,SUMIF($T$7:T111,D8,$H$7:H111))","v":0},null,{"$f":"IF(F8=\"\",0,SUMIF($U$7:U111,F8,$H$7:H111))","v":0},null,null,null,null,null,null,null,null,null,{"$f":"LEFT(C8,2)","v":""},{"$f":"IF(Q8=\"\",R7,Q8)","v":""},{"$f":"IF(C8=\"\",S7,C8)","v":0},{"$f":"IF(D8=\"\",T7,D8)","v":0},{"$f":"IF(F8=\"\",U7,F8)","v":0},{"$f":"COUNTIF($F$7:$F$110,F8)","v":0},null,{"$f":"IF(V8>0,LEFT(S8,6),\"\")","v":""},{"$f":"COUNTA(B8:H8)","v":3},{"$f":"IF(LEN(X8&U8)>11,\"\",(X8))","v":""},{"$f":"Pakiety_warianty!P26","v":0},null,{"$f":"IF($X8=$AC$4,$D8,0)","v":0},0,0,0,null,null,null,null,null,null,null,null,null,null,null,{"$f":"COUNTIF($D$7:$D$110,D8)","v":0}]
[null,{"$f":"IF(R9=R8,\"\",R9)","v":""},null,null,{"$f":"IF(D9=\"\",0,SUMIF($T$7:T112,D9,$H$7:H112))","v":0},null,{"$f":"IF(F9=\"\",0,SUMIF($U$7:U112,F9,$H$7:H112))","v":0},null,null,null,null,null,null,null,null,null,"",{"$f":"IF(Q9=\"\",R8,Q9)","v":""},{"$f":"IF(C9=\"\",S8,C9)","v":0},0,0,0,null,{"$f":"IF(V9>0,LEFT(S9,6),\"\")","v":""},3,"",{"$f":"Pakiety_warianty!P27","v":0},null,0,0,0,0,null,null,null,null,null,null,null,null,null,null,null,0]
[null,"",null,null,{"$f":"IF(D10=\"\",0,SUMIF($T$7:T113,D10,$H$7:H113))","v":0},null,{"$f":"IF(F10=\"\",0,SUMIF($U$7:U113,F10,$H$7:H113))","v":0},null,null,null,null,null,null,null,null,null,"","",0,0,0,0,null,"",3,"",{"$f":"Pakiety_warianty!P28","v":0},null,0,0,0,0,null,null,null,null,null,null,null,null,null,null,null,0]
[null,"",null,null,{"$f":"IF(D11=\"\",0,SUMIF($T$7:T114,D11,$H$7:H114))","v":0},null,{"$f":"IF(F11=\"\",0,SUMIF($U$7:U114,F11,$H$7:H114))","v":0},null,null,null,null,null,null,null,null,null,"","",0,0,0,0,null,"",3,"",{"$f":"Pakiety_warianty!P29","v":0},null,0,0,0,0,null,null,null,null,null,null,null,null,null,null,null,0]
[null,"",null,null,{"$f":"IF(D12=\"\",0,SUMIF($T$7:T115,D12,$H$7:H115))","v":0},null,{"$f":"IF(F12=\"\",0,SUMIF($U$7:U115,F12,$H$7:H115))","v":0},null,null,null,null,null,null,null,null,null,"","",0,0,0,0,null,"",3,"",{"$f":"Pakiety_warianty!P30","v":0},null,0,0,0,0,null,null,null,null,null,null,null,null,null,null,null,0]
[null,"",null,null,{"$f":"IF(D13=\"\",0,SUMIF($T$7:T116,D13,$H$7:H116))","v":0},null,{"$f":"IF(F13=\"\",0,SUMIF($U$7:U116,F13,$H$7:H116))","v":0},null,null,null,null,null,null,null,null,null,"","",0,0,0,0,null,"",3,"",{"$f":"Pakiety_warianty!P31","v":0},null,0,0,0,0,null,null,null,null,null,null,null,null,null,null,null,0]
[null,"",null,null,{"$f":"IF(D14=\"\",0,SUMIF($T$7:T116,D14,$H$7:H116))","v":0},null,{"$f":"IF(F14=\"\",0,SUMIF($U$7:U116,F14,$H$7:H116))","v":0},null,null,null,null,null,null,null,null,null,"","",0,0,0,0,null,"",3,"",{"$f":"Pakiety_warianty!P32","v":0},null,0,0,0,0,null,null,null,null,null,null,null,null,null,null,null,0]
[null,"",null,null,{"$f":"IF(D15=\"\",0,SUMIF($T$7:T118,D15,$H$7:H118))","v":0},null,{"$f":"IF(F15=\"\",0,SUMIF($U$7:U118,F15,$H$7:H118))","v":0},null,null,null,null,null,null,null,null,null,"","",0,0,0,0,null,{"$f":"LEFT(S15,6)","v":"0"},3,"0",{"$f":"Pakiety_warianty!P33","v":0},null,0,0,0,0,null,null,null,null,null,null,null,null,null,null,null,0]
[null,"",null,null,{"$f":"IF(D16=\"\",0,SUMIF($T$7:T119,D16,$H$7:H119))","v":0},null,{"$f":"IF(F16=\"\",0,SUMIF($U$7:U119,F16,$H$7:H119))","v":0},null,null,null,null,null,null,null,null,null,"","",0,0,0,0,null,"0",3,"0",null,null,0,0,0,0,null,null,null,null,null,null,null,null,null,null,null,0]
[null,"",null,null,{"$f":"IF(D17=\"\",0,SUMIF($T$7:T120,D17,$H$7:H120))","v":0},null,{"$f":"IF(F17=\"\",0,SUMIF($U$7:U120,F17,$H$7:H120))","v":0},null,null,null,null,null,null,null,null,null,"","",0,0,0,0,null,"0",3,"0",null,null,0,0,0,0,null,null,null,null,null,null,null,null,null,null,null,0]
[null,"",null,null,{"$f":"IF(D18=\"\",0,SUMIF($T$7:T121,D18,$H$7:H121))","v":0},null,{"$f":"IF(F18=\"\",0,SUMIF($U$7:U121,F18,$H$7:H121))","v":0},null,null,null,null,null,null,null,null,null,"","",0,0,0,0,null,"0",3,"0",null,null,0,0,0,0,null,null,null,null,null,null,null,null,null,null,null,0]
[null,"",null,null,{"$f":"IF(D19=\"\",0,SUMIF($T$7:T122,D19,$H$7:H122))","v":0},null,{"$f":"IF(F19=\"\",0,SUMIF($U$7:U122,F19,$H$7:H122))","v":0},null,null,null,null,null,null,null,null,null,"","",0,0,0,0,null,"0",3,"0",null,null,0,0,0,0,null,null,null,null,null,null,null,null,null,null,null,0]
[null,"",null,null,{"$f":"IF(D20=\"\",0,SUMIF($T$7:T123,D20,$H$7:H123))","v":0},null,{"$f":"IF(F20=\"\",0,SUMIF($U$7:U123,F20,$H$7:H123))","v":0},null,null,null,null,null,null,null,null,null,"","",0,0,0,0,null,"0",3,"0",null,null,0,0,0,0,null,null,null,null,null,null,null,null,null,null,null,0]
[null,"",null,null,{"$f":"IF(D21=\"\",0,SUMIF($T$7:T124,D21,$H$7:H124))","v":0},null,{"$f":"IF(F21=\"\",0,SUMIF($U$7:U124,F21,$H$7:H124))","v":0},null,null,null,null,null,null,null,null,null,"","",0,0,0,0,null,"0",3,"0",null,null,0,0,0,0,null,null,null,null,null,null,null,null,null,null,null,0]
[null,"",null,null,{"$f":"IF(D22=\"\",0,SUMIF($T$7:T125,D22,$H$7:H125))","v":0},null,{"$f":"IF(F22=\"\",0,SUMIF($U$7:U125,F22,$H$7:H125))","v":0},null,null,null,null,null,null,null,null,null,"","",0,0,0,0,null,"0",3,"0",null,null,0,0,0,0,null,null,null,null,null,null,null,null,null,null,null,0]
[null,"",null,null,{"$f":"IF(D23=\"\",0,SUMIF($T$7:T126,D23,$H$7:H126))","v":0},null,{"$f":"IF(F23=\"\",0,SUMIF($U$7:U126,F23,$H$7:H126))","v":0},null,null,null,null,null,null,null,null,null,"","",0,0,0,0,null,"0",3,"0",null,null,0,0,0,0,null,null,null,null,null,null,null,null,null,null,null,0]
[null,"",null,null,{"$f":"IF(D24=\"\",0,SUMIF($T$7:T127,D24,$H$7:H127))","v":0},null,{"$f":"IF(F24=\"\",0,SUMIF($U$7:U127,F24,$H$7:H127))","v":0},null,null,null,null,null,null,null,null,null,"","",0,0,0,0,null,"0",3,"0",null,null,0,0,0,0,null,null,null,null,null,null,null,null,null,null,null,0]
[null,"",null,null,{"$f":"IF(D25=\"\",0,SUMIF($T$7:T128,D25,$H$7:H128))","v":0},null,{"$f":"IF(F25=\"\",0,SUMIF($U$7:U128,F25,$H$7:H128))","v":0},null,null,null,null,null,null,null,null,null,"","",{"$f":"IF(C25=\"\",S24,C25)","v":0},0,0,0,null,"0",3,"0",null,null,0,0,0,0,null,null,null,null,null,null,null,null,null,null,null,0]
[null,"",null,null,{"$f":"IF(D26=\"\",0,SUMIF($T$7:T129,D26,$H$7:H129))","v":0},null,{"$f":"IF(F26=\"\",0,SUMIF($U$7:U129,F26,$H$7:H129))","v":0},null,null,null,null,null,null,null,null,null,"","",0,0,0,0,null,"0",3,"0",null,null,0,0,0,0,null,null,null,null,null,null,null,null,null,null,null,0]
[null,"",null,null,{"$f":"IF(D27=\"\",0,SUMIF($T$7:T130,D27,$H$7:H130))","v":0},null,{"$f":"IF(F27=\"\",0,SUMIF($U$7:U130,F27,$H$7:H130))","v":0},null,null,null,null,null,null,null,null,null,"","",0,0,0,0,null,"0",3,"0",null,null,0,0,0,0,null,null,null,null,null,null,null,null,null,null,null,0]
[null,"",null,null,{"$f":"IF(D28=\"\",0,SUMIF($T$7:T131,D28,$H$7:H131))","v":0},null,{"$f":"IF(F28=\"\",0,SUMIF($U$7:U131,F28,$H$7:H131))","v":0},null,null,null,null,null,null,null,null,null,"","",0,0,0,0,null,"0",3,"0",null,null,0,0,0,0,null,null,null,null,null,null,null,null,null,null,null,0]
[null,"",null,null,{"$f":"IF(D29=\"\",0,SUMIF($T$7:T132,D29,$H$7:H132))","v":0},null,{"$f":"IF(F29=\"\",0,SUMIF($U$7:U132,F29,$H$7:H132))","v":0},null,null,null,null,null,null,null,null,null,"","",0,0,0,0,null,"0",3,"0",null,null,0,0,0,0,null,null,null,null,null,null,null,null,null,null,null,0]
[null,"",null,null,{"$f":"IF(D30=\"\",0,SUMIF($T$7:T133,D30,$H$7:H133))","v":0},null,{"$f":"IF(F30=\"\",0,SUMIF($U$7:U133,F30,$H$7:H133))","v":0},null,null,null,null,null,null,null,null,null,"","",0,0,0,0,null,"0",3,"0",null,null,0,0,0,0,null,null,null,null,null,null,null,null,null,null,null,0]
[null,"",null,null,{"$f":"IF(D31=\"\",0,SUMIF($T$7:T134,D31,$H$7:H134))","v":0},null,{"$f":"IF(F31=\"\",0,SUMIF($U$7:U134,F31,$H$7:H134))","v":0},null,null,null,null,null,null,null,null,null,"","",0,0,0,0,null,"0",3,"0",null,null,0,0,0,0,null,null,null,null,null,null,null,null,null,null,null,0]
[null,"",null,null,{"$f":"IF(D32=\"\",0,SUMIF($T$7:T135,D32,$H$7:H135))","v":0},null,{"$f":"IF(F32=\"\",0,SUMIF($U$7:U135,F32,$H$7:H135))","v":0},null,null,null,null,null,null,null,null,null,"","",0,0,0,0,null,"0",3,"0",null,null,0,0,0,0,null,null,null,null,null,null,null,null,null,null,null,0]
[null,"",null,null,{"$f":"IF(D33=\"\",0,SUMIF($T$7:T136,D33,$H$7:H136))","v":0},null,{"$f":"IF(F33=\"\",0,SUMIF($U$7:U136,F33,$H$7:H136))","v":0},null,null,null,null,null,null,null,null,null,"","",0,0,0,0,null,"0",3,"0",null,null,0,0,0,0,null,null,null,null,null,null,null,null,null,null,null,0]
[null,"",null,null,{"$f":"IF(D34=\"\",0,SUMIF($T$7:T137,D34,$H$7:H137))","v":0},null,{"$f":"IF(F34=\"\",0,SUMIF($U$7:U137,F34,$H$7:H137))","v":0},null,null,null,null,null,null,null,null,null,"","",0,0,0,0,null,"0",3,"0",null,null,0,0,0,0,null,null,null,null,null,null,null,null,null,null,null,0]
[null,"",null,null,{"$f":"IF(D35=\"\",0,SUMIF($T$7:T138,D35,$H$7:H138))","v":0},null,{"$f":"IF(F35=\"\",0,SUMIF($U$7:U138,F35,$H$7:H138))","v":0},null,null,null,null,null,null,null,null,null,"","",0,0,0,0,null,"0",3,"0",null,null,0,0,0,0,null,null,null,null,null,null,null,null,null,null,null,0]
[null,"",null,null,{"$f":"IF(D36=\"\",0,SUMIF($T$7:T139,D36,$H$7:H139))","v":0},null,{"$f":"IF(F36=\"\",0,SUMIF($U$7:U139,F36,$H$7:H139))","v":0},null,null,null,null,null,null,null,null,null,"","",0,0,0,0,null,"0",3,"0",null,null,0,0,0,0,null,null,null,null,null,null,null,null,null,null,null,0]
[null,"",null,null,{"$f":"IF(D37=\"\",0,SUMIF($T$7:T140,D37,$H$7:H140))","v":0},null,{"$f":"IF(F37=\"\",0,SUMIF($U$7:U140,F37,$H$7:H140))","v":0},null,null,null,null,null,null,null,null,null,"","",0,0,0,0,null,"0",3,"0",null,null,0,0,0,0,null,null,null,null,null,null,null,null,null,null,null,0]
[null,"",null,null,{"$f":"IF(D38=\"\",0,SUMIF($T$7:T141,D38,$H$7:H141))","v":0},null,{"$f":"IF(F38=\"\",0,SUMIF($U$7:U141,F38,$H$7:H141))","v":0},null,null,null,null,null,null,null,null,null,"","",0,0,0,0,null,"0",3,"0",null,null,0,0,0,0,null,null,null,null,null,null,null,null,null,null,null,0]
[null,"",null,null,{"$f":"IF(D39=\"\",0,SUMIF($T$7:T142,D39,$H$7:H142))","v":0},null,{"$f":"IF(F39=\"\",0,SUMIF($U$7:U142,F39,$H$7:H142))","v":0},null,null,null,null,null,null,null,null,null,"","",0,0,0,0,null,"0",3,"0",null,null,0,{"$f":"IF($X39=$AD$4,$D39,0)","v":0},{"$f":"IF($X39=$AE$4,$D39,0)","v":0},{"$f":"IF($X39=$AF$4,$D39,0)","v":0},null,null,null,null,null,null,null,null,null,null,null,0]
[null,"",null,null,{"$f":"IF(D40=\"\",0,SUMIF($T$7:T143,D40,$H$7:H143))","v":0},null,{"$f":"IF(F40=\"\",0,SUMIF($U$7:U143,F40,$H$7:H143))","v":0},null,null,null,null,null,null,null,null,null,"","",0,0,0,0,null,"0",3,"0",null,null,0,0,0,0,null,null,null,null,null,null,null,null,null,null,null,0]
[null,"",null,null,{"$f":"IF(D41=\"\",0,SUMIF($T$7:T144,D41,$H$7:H144))","v":0},null,{"$f":"IF(F41=\"\",0,SUMIF($U$7:U144,F41,$H$7:H144))","v":0},null,null,null,null,null,null,null,null,null,"","",{"$f":"IF(C41=\"\",S40,C41)","v":0},0,0,0,null,"0",3,"0",null,null,0,0,0,0,null,null,null,null,null,null,null,null,null,null,null,0]
[null,"",null,null,{"$f":"IF(D42=\"\",0,SUMIF($T$7:T145,D42,$H$7:H145))","v":0},null,{"$f":"IF(F42=\"\",0,SUMIF($U$7:U145,F42,$H$7:H145))","v":0},null,null,null,null,null,null,null,null,null,"","",0,0,0,0,null,"0",3,"0",null,null,0,0,0,0,null,null,null,null,null,null,null,null,null,null,null,0]
[null,"",null,null,{"$f":"IF(D43=\"\",0,SUMIF($T$7:T146,D43,$H$7:H146))","v":0},null,{"$f":"IF(F43=\"\",0,SUMIF($U$7:U146,F43,$H$7:H146))","v":0},null,null,null,null,null,null,null,null,null,"","",0,0,0,0,null,"0",3,"0",null,null,0,0,0,0,null,null,null,null,null,null,null,null,null,null,null,0]
[null,"",null,null,{"$f":"IF(D44=\"\",0,SUMIF($T$7:T147,D44,$H$7:H147))","v":0},null,{"$f":"IF(F44=\"\",0,SUMIF($U$7:U147,F44,$H$7:H147))","v":0},null,null,null,null,null,null,null,null,null,"","",0,0,0,0,null,"0",3,"0",null,null,0,0,0,0,null,null,null,null,null,null,null,null,null,null,null,0]
[null,"",null,null,{"$f":"IF(D45=\"\",0,SUMIF($T$7:T148,D45,$H$7:H148))","v":0},null,{"$f":"IF(F45=\"\",0,SUMIF($U$7:U148,F45,$H$7:H148))","v":0},null,null,null,null,null,null,null,null,null,"","",0,0,0,0,null,"0",3,"0",null,null,0,0,0,0,null,null,null,null,null,null,null,null,null,null,null,0]
[null,"",null,null,{"$f":"IF(D46=\"\",0,SUMIF($T$7:T149,D46,$H$7:H149))","v":0},null,{"$f":"IF(F46=\"\",0,SUMIF($U$7:U149,F46,$H$7:H149))","v":0},null,null,null,null,null,null,null,null,null,"","",0,0,0,0,null,"0",3,"0",null,null,0,0,0,0,null,null,null,null,null,null,null,null,null,null,null,0]
[null,"",null,null,{"$f":"IF(D47=\"\",0,SUMIF($T$7:T150,D47,$H$7:H150))","v":0},null,{"$f":"IF(F47=\"\",0,SUMIF($U$7:U150,F47,$H$7:H150))","v":0},null,null,null,null,null,null,null,null,null,"","",0,0,0,0,null,"0",3,"0",null,null,0,0,0,0,null,null,null,null,null,null,null,null,null,null,null,0]
[null,"",null,null,{"$f":"IF(D48=\"\",0,SUMIF($T$7:T151,D48,$H$7:H151))","v":0},null,{"$f":"IF(F48=\"\",0,SUMIF($U$7:U151,F48,$H$7:H151))","v":0},null,null,null,null,null,null,null,null,null,"","",0,0,0,0,null,"0",3,"0",null,null,0,0,0,0,null,null,null,null,null,null,null,null,null,null,null,0]
[null,"",null,null,{"$f":"IF(D49=\"\",0,SUMIF($T$7:T152,D49,$H$7:H152))","v":0},null,{"$f":"IF(F49=\"\",0,SUMIF($U$7:U152,F49,$H$7:H152))","v":0},null,null,null,null,null,null,null,null,null,"","",0,0,0,0,null,"0",3,"0",null,null,0,0,0,0,null,null,null,null,null,null,null,null,null,null,null,0]
[null,"",null,null,{"$f":"IF(D50=\"\",0,SUMIF($T$7:T153,D50,$H$7:H153))","v":0},null,{"$f":"IF(F50=\"\",0,SUMIF($U$7:U153,F50,$H$7:H153))","v":0},null,null,null,null,null,null,null,null,null,"","",0,0,0,0,null,"0",3,"0",null,null,0,0,0,0,null,null,null,null,null,null,null,null,null,null,null,0]
[null,"",null,null,{"$f":"IF(D51=\"\",0,SUMIF($T$7:T154,D51,$H$7:H154))","v":0},null,{"$f":"IF(F51=\"\",0,SUMIF($U$7:U154,F51,$H$7:H154))","v":0},null,null,null,null,null,null,null,null,null,"","",0,0,0,0,null,"0",3,"0",null,null,0,0,0,0,null,null,null,null,null,null,null,null,null,null,null,0]
[null,"",null,null,{"$f":"IF(D52=\"\",0,SUMIF($T$7:T155,D52,$H$7:H155))","v":0},null,{"$f":"IF(F52=\"\",0,SUMIF($U$7:U155,F52,$H$7:H155))","v":0},null,null,null,null,null,null,null,null,null,"","",0,0,0,0,null,"0",3,"0",null,null,0,0,0,0,null,null,null,null,null,null,null,null,null,null,null,0]
[null,"",null,null,{"$f":"IF(D53=\"\",0,SUMIF($T$7:T156,D53,$H$7:H156))","v":0},null,{"$f":"IF(F53=\"\",0,SUMIF($U$7:U156,F53,$H$7:H156))","v":0},null,null,null,null,null,null,null,null,null,"","",0,0,0,0,null,"0",3,"0",null,null,0,0,0,0,null,null,null,null,null,null,null,null,null,null,null,0]
[null,"",null,null,{"$f":"IF(D54=\"\",0,SUMIF($T$7:T157,D54,$H$7:H157))","v":0},null,{"$f":"IF(F54=\"\",0,SUMIF($U$7:U157,F54,$H$7:H157))","v":0},null,null,null,null,null,null,null,null,null,"","",0,0,0,0,null,"0",3,"0",null,null,0,0,0,0,null,null,null,null,null,null,null,null,null,null,null,0]
[null,"",null,null,{"$f":"IF(D55=\"\",0,SUMIF($T$7:T158,D55,$H$7:H158))","v":0},null,{"$f":"IF(F55=\"\",0,SUMIF($U$7:U158,F55,$H$7:H158))","v":0},null,null,null,null,null,null,null,null,null,"","",0,0,0,0,null,"0",3,"0",null,null,0,0,0,0,null,null,null,null,null,null,null,null,null,null,null,0]
[null,"",null,null,{"$f":"IF(D56=\"\",0,SUMIF($T$7:T159,D56,$H$7:H159))","v":0},null,{"$f":"IF(F56=\"\",0,SUMIF($U$7:U159,F56,$H$7:H159))","v":0},null,null,null,null,null,null,null,null,null,"","",0,0,0,0,null,"0",3,"0",null,null,0,0,0,0,null,null,null,null,null,null,null,null,null,null,null,0]
[null,"",null,null,{"$f":"IF(D57=\"\",0,SUMIF($T$7:T160,D57,$H$7:H160))","v":0},null,{"$f":"IF(F57=\"\",0,SUMIF($U$7:U160,F57,$H$7:H160))","v":0},null,null,null,null,null,null,null,null,null,"","",{"$f":"IF(C57=\"\",S56,C57)","v":0},0,0,0,null,"0",3,"0",null,null,0,0,0,0,null,null,null,null,null,null,null,null,null,null,null,0]
[null,"",null,null,{"$f":"IF(D58=\"\",0,SUMIF($T$7:T161,D58,$H$7:H161))","v":0},null,{"$f":"IF(F58=\"\",0,SUMIF($U$7:U161,F58,$H$7:H161))","v":0},null,null,null,null,null,null,null,null,null,"","",0,0,0,0,null,"0",3,"0",null,null,0,0,0,0,null,null,null,null,null,null,null,null,null,null,null,0]
[null,"",null,null,{"$f":"IF(D59=\"\",0,SUMIF($T$7:T162,D59,$H$7:H162))","v":0},null,{"$f":"IF(F59=\"\",0,SUMIF($U$7:U162,F59,$H$7:H162))","v":0},null,null,null,null,null,null,null,null,null,"","",0,0,0,0,null,"0",3,"0",null,null,0,0,0,0,null,null,null,null,null,null,null,null,null,null,null,0]
[null,"",null,null,{"$f":"IF(D60=\"\",0,SUMIF($T$7:T163,D60,$H$7:H163))","v":0},null,{"$f":"IF(F60=\"\",0,SUMIF($U$7:U163,F60,$H$7:H163))","v":0},null,null,null,null,null,null,null,null,null,"","",0,0,0,0,null,"0",3,"0",null,null,0,0,0,0,null,null,null,null,null,null,null,null,null,null,null,0]
[null,"",null,null,{"$f":"IF(D61=\"\",0,SUMIF($T$7:T164,D61,$H$7:H164))","v":0},null,{"$f":"IF(F61=\"\",0,SUMIF($U$7:U164,F61,$H$7:H164))","v":0},null,null,null,null,null,null,null,null,null,"","",0,0,0,0,null,"0",3,"0",null,null,0,0,0,0,null,null,null,null,null,null,null,null,null,null,null,0]
[null,"",null,null,{"$f":"IF(D62=\"\",0,SUMIF($T$7:T165,D62,$H$7:H165))","v":0},null,{"$f":"IF(F62=\"\",0,SUMIF($U$7:U165,F62,$H$7:H165))","v":0},null,null,null,null,null,null,null,null,null,"","",0,0,0,0,null,"0",3,"0",null,null,0,0,0,0,null,null,null,null,null,null,null,null,null,null,null,0]
[null,"",null,null,{"$f":"IF(D63=\"\",0,SUMIF($T$7:T166,D63,$H$7:H166))","v":0},null,{"$f":"IF(F63=\"\",0,SUMIF($U$7:U166,F63,$H$7:H166))","v":0},null,null,null,null,null,null,null,null,null,"","",0,0,0,0,null,"0",3,"0",null,null,0,0,0,0,null,null,null,null,null,null,null,null,null,null,null,0]
[null,"",null,null,{"$f":"IF(D64=\"\",0,SUMIF($T$7:T167,D64,$H$7:H167))","v":0},null,{"$f":"IF(F64=\"\",0,SUMIF($U$7:U167,F64,$H$7:H167))","v":0},null,null,null,null,null,null,null,null,null,"","",0,0,0,0,null,"0",3,"0",null,null,0,0,0,0,null,null,null,null,null,null,null,null,null,null,null,0]
[null,"",null,null,{"$f":"IF(D65=\"\",0,SUMIF($T$7:T168,D65,$H$7:H168))","v":0},null,{"$f":"IF(F65=\"\",0,SUMIF($U$7:U168,F65,$H$7:H168))","v":0},null,null,null,null,null,null,null,null,null,"","",0,0,0,0,null,"0",3,"0",null,null,0,0,0,0,null,null,null,null,null,null,null,null,null,null,null,0]
[null,"",null,null,{"$f":"IF(D66=\"\",0,SUMIF($T$7:T169,D66,$H$7:H169))","v":0},null,{"$f":"IF(F66=\"\",0,SUMIF($U$7:U169,F66,$H$7:H169))","v":0},null,null,null,null,null,null,null,null,null,"","",0,0,0,0,null,"0",3,"0",null,null,0,0,0,0,null,null,null,null,null,null,null,null,null,null,null,0]
[null,"",null,null,{"$f":"IF(D67=\"\",0,SUMIF($T$7:T170,D67,$H$7:H170))","v":0},null,{"$f":"IF(F67=\"\",0,SUMIF($U$7:U170,F67,$H$7:H170))","v":0},null,null,null,null,null,null,null,null,null,"","",0,0,0,0,null,"0",3,"0",null,null,0,0,0,0,null,null,null,null,null,null,null,null,null,null,null,0]
[null,"",null,null,{"$f":"IF(D68=\"\",0,SUMIF($T$7:T171,D68,$H$7:H171))","v":0},null,{"$f":"IF(F68=\"\",0,SUMIF($U$7:U171,F68,$H$7:H171))","v":0},null,null,null,null,null,null,null,null,null,"","",0,0,0,0,null,"0",3,"0",null,null,0,0,0,0,null,null,null,null,null,null,null,null,null,null,null,0]
[null,"",null,null,{"$f":"IF(D69=\"\",0,SUMIF($T$7:T172,D69,$H$7:H172))","v":0},null,{"$f":"IF(F69=\"\",0,SUMIF($U$7:U172,F69,$H$7:H172))","v":0},null,null,null,null,null,null,null,null,null,"","",0,0,0,0,null,"0",3,"0",null,null,0,0,0,0,null,null,null,null,null,null,null,null,null,null,null,0]
[null,"",null,null,{"$f":"IF(D70=\"\",0,SUMIF($T$7:T173,D70,$H$7:H173))","v":0},null,{"$f":"IF(F70=\"\",0,SUMIF($U$7:U173,F70,$H$7:H173))","v":0},null,null,null,null,null,null,null,null,null,"","",0,0,0,0,null,"0",3,"0",null,null,0,0,0,0,null,null,null,null,null,null,null,null,null,null,null,0]
[null,"",null,null,{"$f":"IF(D71=\"\",0,SUMIF($T$7:T174,D71,$H$7:H174))","v":0},null,{"$f":"IF(F71=\"\",0,SUMIF($U$7:U174,F71,$H$7:H174))","v":0},null,null,null,null,null,null,null,null,null,"","",0,0,0,0,null,"0",3,"0",null,null,0,{"$f":"IF($X71=$AD$4,$D71,0)","v":0},{"$f":"IF($X71=$AE$4,$D71,0)","v":0},{"$f":"IF($X71=$AF$4,$D71,0)","v":0},null,null,null,null,null,null,null,null,null,null,null,0]
[null,"",null,null,{"$f":"IF(D72=\"\",0,SUMIF($T$7:T175,D72,$H$7:H175))","v":0},null,{"$f":"IF(F72=\"\",0,SUMIF($U$7:U175,F72,$H$7:H175))","v":0},null,null,null,null,null,null,null,null,null,{"$f":"LEFT(C72,2)","v":""},"",0,0,{"$f":"IF(F72=\"\",U71,F72)","v":0},{"$f":"COUNTIF($F$7:$F$110,F72)","v":0},null,"0",{"$f":"COUNTA(B72:H72)","v":3},{"$f":"IF(LEN(X72&U72)>11,\"\",(X72))","v":"0"},null,null,{"$f":"IF($X72=$AC$4,$D72,0)","v":0},0,0,0,null,null,null,null,null,null,null,null,null,null,null,{"$f":"COUNTIF($D$7:$D$110,D72)","v":0}]
[null,{"$f":"IF(R73=R72,\"\",R73)","v":""},null,null,{"$f":"IF(D73=\"\",0,SUMIF($T$7:T176,D73,$H$7:H176))","v":0},null,{"$f":"IF(F73=\"\",0,SUMIF($U$7:U176,F73,$H$7:H176))","v":0},null,null,null,null,null,null,null,null,null,"",{"$f":"IF(Q73=\"\",R72,Q73)","v":""},{"$f":"IF(C73=\"\",S72,C73)","v":0},0,0,0,null,"0",3,"0",null,null,0,0,0,0,null,null,null,null,null,null,null,null,null,null,null,0]
[null,"",null,null,{"$f":"IF(D74=\"\",0,SUMIF($T$7:T177,D74,$H$7:H177))","v":0},null,{"$f":"IF(F74=\"\",0,SUMIF($U$7:U177,F74,$H$7:H177))","v":0},null,null,null,null,null,null,null,null,null,"","",0,0,0,0,null,"0",3,"0",null,null,0,0,0,0,null,null,null,null,null,null,null,null,null,null,null,0]
[null,"",null,null,{"$f":"IF(D75=\"\",0,SUMIF($T$7:T178,D75,$H$7:H178))","v":0},null,{"$f":"IF(F75=\"\",0,SUMIF($U$7:U178,F75,$H$7:H178))","v":0},null,null,null,null,null,null,null,null,null,"","",0,0,0,0,null,"0",3,"0",null,null,0,0,0,0,null,null,null,null,null,null,null,null,null,null,null,0]
[null,"",null,null,{"$f":"IF(D76=\"\",0,SUMIF($T$7:T179,D76,$H$7:H179))","v":0},null,{"$f":"IF(F76=\"\",0,SUMIF($U$7:U179,F76,$H$7:H179))","v":0},null,null,null,null,null,null,null,null,null,"","",0,0,0,0,null,"0",3,"0",null,null,0,0,0,0,null,null,null,null,null,null,null,null,null,null,null,0]
[null,"",null,null,{"$f":"IF(D77=\"\",0,SUMIF($T$7:T180,D77,$H$7:H180))","v":0},null,{"$f":"IF(F77=\"\",0,SUMIF($U$7:U180,F77,$H$7:H180))","v":0},null,null,null,null,null,null,null,null,null,"","",0,0,0,0,null,"0",3,"0",null,null,0,0,0,0,null,null,null,null,null,null,null,null,null,null,null,0]
[null,"",null,null,{"$f":"IF(D78=\"\",0,SUMIF($T$7:T181,D78,$H$7:H181))","v":0},null,{"$f":"IF(F78=\"\",0,SUMIF($U$7:U181,F78,$H$7:H181))","v":0},null,null,null,null,null,null,null,null,null,"","",0,0,0,0,null,"0",3,"0",null,null,0,0,0,0,null,null,null,null,null,null,null,null,null,null,null,0]
[null,"",null,null,{"$f":"IF(D79=\"\",0,SUMIF($T$7:T182,D79,$H$7:H182))","v":0},null,{"$f":"IF(F79=\"\",0,SUMIF($U$7:U182,F79,$H$7:H182))","v":0},null,null,null,null,null,null,null,null,null,"","",0,0,0,0,null,{"$f":"LEFT(S79,6)","v":"0"},3,"0",null,null,0,0,0,0,null,null,null,null,null,null,null,null,null,null,null,0]
[null,"",null,null,{"$f":"IF(D80=\"\",0,SUMIF($T$7:T183,D80,$H$7:H183))","v":0},null,{"$f":"IF(F80=\"\",0,SUMIF($U$7:U183,F80,$H$7:H183))","v":0},null,null,null,null,null,null,null,null,null,"","",0,0,0,0,null,"0",3,"0",null,null,0,0,0,0,null,null,null,null,null,null,null,null,null,null,null,0]
[null,"",null,null,{"$f":"IF(D81=\"\",0,SUMIF($T$7:T184,D81,$H$7:H184))","v":0},null,{"$f":"IF(F81=\"\",0,SUMIF($U$7:U184,F81,$H$7:H184))","v":0},null,null,null,null,null,null,null,null,null,"","",0,0,0,0,null,"0",3,"0",null,null,0,0,0,0,null,null,null,null,null,null,null,null,null,null,null,0]
[null,"",null,null,{"$f":"IF(D82=\"\",0,SUMIF($T$7:T185,D82,$H$7:H185))","v":0},null,{"$f":"IF(F82=\"\",0,SUMIF($U$7:U185,F82,$H$7:H185))","v":0},null,null,null,null,null,null,null,null,null,"","",0,0,0,0,null,"0",3,"0",null,null,0,0,0,0,null,null,null,null,null,null,null,null,null,null,null,0]
[null,"",null,null,{"$f":"IF(D83=\"\",0,SUMIF($T$7:T186,D83,$H$7:H186))","v":0},null,{"$f":"IF(F83=\"\",0,SUMIF($U$7:U186,F83,$H$7:H186))","v":0},null,null,null,null,null,null,null,null,null,"","",0,0,0,0,null,"0",3,"0",null,null,0,0,0,0,null,null,null,null,null,null,null,null,null,null,null,0]
[null,"",null,null,{"$f":"IF(D84=\"\",0,SUMIF($T$7:T187,D84,$H$7:H187))","v":0},null,{"$f":"IF(F84=\"\",0,SUMIF($U$7:U187,F84,$H$7:H187))","v":0},null,null,null,null,null,null,null,null,null,"","",0,0,0,0,null,"0",3,"0",null,null,0,0,0,0,null,null,null,null,null,null,null,null,null,null,null,0]
[null,"",null,null,{"$f":"IF(D85=\"\",0,SUMIF($T$7:T188,D85,$H$7:H188))","v":0},null,{"$f":"IF(F85=\"\",0,SUMIF($U$7:U188,F85,$H$7:H188))","v":0},null,null,null,null,null,null,null,null,null,"","",0,0,0,0,null,"0",3,"0",null,null,0,0,0,0,null,null,null,null,null,null,null,null,null,null,null,0]
[null,"",null,null,{"$f":"IF(D86=\"\",0,SUMIF($T$7:T189,D86,$H$7:H189))","v":0},null,{"$f":"IF(F86=\"\",0,SUMIF($U$7:U189,F86,$H$7:H189))","v":0},null,null,null,null,null,null,null,null,null,"","",0,0,0,0,null,"0",3,"0",null,null,0,0,0,0,null,null,null,null,null,null,null,null,null,null,null,0]
[null,"",null,null,{"$f":"IF(D87=\"\",0,SUMIF($T$7:T190,D87,$H$7:H190))","v":0},null,{"$f":"IF(F87=\"\",0,SUMIF($U$7:U190,F87,$H$7:H190))","v":0},null,null,null,null,null,null,null,null,null,"","",0,0,0,0,null,"0",3,"0",null,null,0,0,0,0,null,null,null,null,null,null,null,null,null,null,null,0]
[null,"",null,null,{"$f":"IF(D88=\"\",0,SUMIF($T$7:T191,D88,$H$7:H191))","v":0},null,{"$f":"IF(F88=\"\",0,SUMIF($U$7:U191,F88,$H$7:H191))","v":0},null,null,null,null,null,null,null,null,null,"","",0,0,0,0,null,"0",3,"0",null,null,0,0,0,0,null,null,null,null,null,null,null,null,null,null,null,0]
[null,"",null,null,{"$f":"IF(D89=\"\",0,SUMIF($T$7:T192,D89,$H$7:H192))","v":0},null,{"$f":"IF(F89=\"\",0,SUMIF($U$7:U192,F89,$H$7:H192))","v":0},null,null,null,null,null,null,null,null,null,"","",{"$f":"IF(C89=\"\",S88,C89)","v":0},0,0,0,null,"0",3,"0",null,null,0,0,0,0,null,null,null,null,null,null,null,null,null,null,null,0]
[null,"",null,null,{"$f":"IF(D90=\"\",0,SUMIF($T$7:T193,D90,$H$7:H193))","v":0},null,{"$f":"IF(F90=\"\",0,SUMIF($U$7:U193,F90,$H$7:H193))","v":0},null,null,null,null,null,null,null,null,null,"","",0,0,0,0,null,"0",3,"0",null,null,0,0,0,0,null,null,null,null,null,null,null,null,null,null,null,0]
[null,"",null,null,{"$f":"IF(D91=\"\",0,SUMIF($T$7:T194,D91,$H$7:H194))","v":0},null,{"$f":"IF(F91=\"\",0,SUMIF($U$7:U194,F91,$H$7:H194))","v":0},null,null,null,null,null,null,null,null,null,"","",0,0,0,0,null,"0",3,"0",null,null,0,0,0,0,null,null,null,null,null,null,null,null,null,null,null,0]
[null,"",null,null,{"$f":"IF(D92=\"\",0,SUMIF($T$7:T195,D92,$H$7:H195))","v":0},null,{"$f":"IF(F92=\"\",0,SUMIF($U$7:U195,F92,$H$7:H195))","v":0},null,null,null,null,null,null,null,null,null,"","",0,0,0,0,null,"0",3,"0",null,null,0,0,0,0,null,null,null,null,null,null,null,null,null,null,null,0]
[null,"",null,null,{"$f":"IF(D93=\"\",0,SUMIF($T$7:T196,D93,$H$7:H196))","v":0},null,{"$f":"IF(F93=\"\",0,SUMIF($U$7:U196,F93,$H$7:H196))","v":0},null,null,null,null,null,null,null,null,null,"","",0,0,0,0,null,"0",3,"0",null,null,0,0,0,0,null,null,null,null,null,null,null,null,null,null,null,0]
[null,"",null,null,{"$f":"IF(D94=\"\",0,SUMIF($T$7:T197,D94,$H$7:H197))","v":0},null,{"$f":"IF(F94=\"\",0,SUMIF($U$7:U197,F94,$H$7:H197))","v":0},null,null,null,null,null,null,null,null,null,"","",0,0,0,0,null,"0",3,"0",null,null,0,0,0,0,null,null,null,null,null,null,null,null,null,null,null,0]
[null,"",null,null,{"$f":"IF(D95=\"\",0,SUMIF($T$7:T198,D95,$H$7:H198))","v":0},null,{"$f":"IF(F95=\"\",0,SUMIF($U$7:U198,F95,$H$7:H198))","v":0},null,null,null,null,null,null,null,null,null,"","",0,0,0,0,null,"0",3,"0",null,null,0,0,0,0,null,null,null,null,null,null,null,null,null,null,null,0]
[null,"",null,null,{"$f":"IF(D96=\"\",0,SUMIF($T$7:T199,D96,$H$7:H199))","v":0},null,{"$f":"IF(F96=\"\",0,SUMIF($U$7:U199,F96,$H$7:H199))","v":0},null,null,null,null,null,null,null,null,null,"","",0,0,0,0,null,"0",3,"0",null,null,0,0,0,0,null,null,null,null,null,null,null,null,null,null,null,0]
[null,"",null,null,{"$f":"IF(D97=\"\",0,SUMIF($T$7:T200,D97,$H$7:H200))","v":0},null,{"$f":"IF(F97=\"\",0,SUMIF($U$7:U200,F97,$H$7:H200))","v":0},null,null,null,null,null,null,null,null,null,"","",0,0,0,0,null,"0",3,"0",null,null,0,0,0,0,null,null,null,null,null,null,null,null,null,null,null,0]
[null,"",null,null,{"$f":"IF(D98=\"\",0,SUMIF($T$7:T201,D98,$H$7:H201))","v":0},null,{"$f":"IF(F98=\"\",0,SUMIF($U$7:U201,F98,$H$7:H201))","v":0},null,null,null,null,null,null,null,null,null,"","",0,0,0,0,null,"0",3,"0",null,null,0,0,0,0,null,null,null,null,null,null,null,null,null,null,null,0]
[null,"",null,null,{"$f":"IF(D99=\"\",0,SUMIF($T$7:T202,D99,$H$7:H202))","v":0},null,{"$f":"IF(F99=\"\",0,SUMIF($U$7:U202,F99,$H$7:H202))","v":0},null,null,null,null,null,null,null,null,null,"","",0,0,0,0,null,"0",3,"0",null,null,0,0,0,0,null,null,null,null,null,null,null,null,null,null,null,0]
[null,"",null,null,{"$f":"IF(D100=\"\",0,SUMIF($T$7:T203,D100,$H$7:H203))","v":0},null,{"$f":"IF(F100=\"\",0,SUMIF($U$7:U203,F100,$H$7:H203))","v":0},null,null,null,null,null,null,null,null,null,"","",0,0,0,0,null,"0",3,"0",null,null,0,0,0,0,null,null,null,null,null,null,null,null,null,null,null,0]
[null,"",null,null,{"$f":"IF(D101=\"\",0,SUMIF($T$7:T204,D101,$H$7:H204))","v":0},null,{"$f":"IF(F101=\"\",0,SUMIF($U$7:U204,F101,$H$7:H204))","v":0},null,null,null,null,null,null,null,null,null,"","",0,0,0,0,null,"0",3,"0",null,null,0,0,0,0,null,null,null,null,null,null,null,null,null,null,null,0]
[null,"",null,null,{"$f":"IF(D102=\"\",0,SUMIF($T$7:T205,D102,$H$7:H205))","v":0},null,{"$f":"IF(F102=\"\",0,SUMIF($U$7:U205,F102,$H$7:H205))","v":0},null,null,null,null,null,null,null,null,null,"","",0,0,0,0,null,"0",3,"0",null,null,0,0,0,0,null,null,null,null,null,null,null,null,null,null,null,0]
[null,"",null,null,{"$f":"IF(D103=\"\",0,SUMIF($T$7:T206,D103,$H$7:H206))","v":0},null,{"$f":"IF(F103=\"\",0,SUMIF($U$7:U206,F103,$H$7:H206))","v":0},null,null,null,null,null,null,null,null,null,"","",0,0,0,0,null,"0",3,"0",null,null,0,{"$f":"IF($X103=$AD$4,$D103,0)","v":0},{"$f":"IF($X103=$AE$4,$D103,0)","v":0},{"$f":"IF($X103=$AF$4,$D103,0)","v":0},null,null,null,null,null,null,null,null,null,null,null,0]
[null,"",null,null,{"$f":"IF(D104=\"\",0,SUMIF($T$7:T207,D104,$H$7:H207))","v":0},null,{"$f":"IF(F104=\"\",0,SUMIF($U$7:U207,F104,$H$7:H207))","v":0},null,null,null,null,null,null,null,null,null,"","",0,0,0,0,null,"0",3,"0",null,null,0,0,0,0,null,null,null,null,null,null,null,null,null,null,null,0]
[null,"",null,null,{"$f":"IF(D105=\"\",0,SUMIF($T$7:T208,D105,$H$7:H208))","v":0},null,{"$f":"IF(F105=\"\",0,SUMIF($U$7:U208,F105,$H$7:H208))","v":0},null,null,null,null,null,null,null,null,null,"","",{"$f":"IF(C105=\"\",S104,C105)","v":0},0,0,0,null,"0",3,"0",null,null,0,0,0,0,null,null,null,null,null,null,null,null,null,null,null,0]
[null,"",null,null,{"$f":"IF(D106=\"\",0,SUMIF($T$7:T209,D106,$H$7:H209))","v":0},null,{"$f":"IF(F106=\"\",0,SUMIF($U$7:U209,F106,$H$7:H209))","v":0},null,null,null,null,null,null,null,null,null,"","",0,0,0,0,null,"0",3,"0",null,null,0,0,0,0,null,null,null,null,null,null,null,null,null,null,null,0]
[null,"",null,null,{"$f":"IF(D107=\"\",0,SUMIF($T$7:T210,D107,$H$7:H210))","v":0},null,{"$f":"IF(F107=\"\",0,SUMIF($U$7:U210,F107,$H$7:H210))","v":0},null,null,null,null,null,null,null,null,null,"","",0,0,0,0,null,"0",3,"0",null,null,0,0,0,0,null,null,null,null,null,null,null,null,null,null,null,0]
[null,"",null,null,{"$f":"IF(D108=\"\",0,SUMIF($T$7:T211,D108,$H$7:H211))","v":0},null,{"$f":"IF(F108=\"\",0,SUMIF($U$7:U211,F108,$H$7:H211))","v":0},null,null,null,null,null,null,null,null,null,"","",0,0,0,0,null,"0",3,"0",null,null,0,0,0,0,null,null,null,null,null,null,null,null,null,null,null,0]
[null,"",null,null,{"$f":"IF(D109=\"\",0,SUMIF($T$7:T212,D109,$H$7:H212))","v":0},null,{"$f":"IF(F109=\"\",0,SUMIF($U$7:U212,F109,$H$7:H212))","v":0},null,null,null,null,null,null,null,null,null,"","",0,0,0,0,null,"0",3,"0",null,null,0,0,0,0,null,null,null,null,null,null,null,null,null,null,null,0]
[null,"",null,null,{"$f":"IF(D110=\"\",0,SUMIF($T$7:T213,D110,$H$7:H213))","v":0},null,{"$f":"IF(F110=\"\",0,SUMIF($U$7:U213,F110,$H$7:H213))","v":0},null,null,null,null,null,null,null,null,null,"","",0,0,0,0,null,"0",3,"0",null,null,0,0,0,0,null,null,null,null,null,null,null,null,null,null,null,0]
[null,null,{"$f":"\"Suma dla wariantu \" &X111","v":"Suma dla wariantu 4.8.  "},"X",{"$f":"SUMIF($X$7:$X$110,X111,$E$7:$E$110)","v":0},"X",{"$f":"H111","v":0},{"$f":"SUMIF($Z$7:$Z$110,X111,$G$7:$G$110)","v":0},null,null,null,null,null,null,null,null,null,null,null,null,null,null,null,{"$f":"AC4","v":"4.8.  "},{"$f":"IF(E111=0,3,COUNTA(B111:H111))","v":3},null,null,null,"X",0,0,0,null,null,null,null,null,null,null,null,null,null,null,0]
[null,null,{"$f":"\"Suma dla wariantu \" &X112","v":"Suma dla wariantu 4.9.  "},"X",{"$f":"SUMIF($X$7:$X$110,X112,$E$7:$E$110)","v":0},"X",{"$f":"H112","v":0},{"$f":"SUMIF($Z$7:$Z$110,X112,$G$7:$G$110)","v":0},null,null,null,null,null,null,null,null,null,null,null,null,null,null,null,{"$f":"AD4","v":"4.9.  "},{"$f":"IF(E112=0,3,COUNTA(B112:H112))","v":3},null,null,null,0,"X",0,0,null,null,null,null,null,null,null,null,null,null,null,0]
[null,null,"Suma dla wariantu 4.10. ","X",{"$f":"SUMIF($X$7:$X$110,X113,$E$7:$E$110)","v":0},"X",0,0,null,null,null,null,null,null,null,null,null,null,null,null,null,null,null,{"$f":"AE4","v":"4.10. "},3,null,null,null,0,0,"X",0,null,null,null,null,null,null,null,null,null,null,null,0]
[null,null,"Suma dla wariantu 4.11. ","X",0,"X",0,0,null,null,null,null,null,null,null,null,null,null,null,null,null,null,null,{"$f":"AF4","v":"4.11. "},3]
[null,null,"Suma dla wariantu ","X",0,"X",0,0,null,null,null,null,null,null,null,null,null,null,null,null,null,null,null,null,3]
[null,null,"Suma dla wariantu ","X",0,"X",0,0,null,null,null,null,null,null,null,null,null,null,null,null,null,null,null,null,3]
[null,null,"Suma dla wariantu ","X",0,"X",0,0,null,null,null,null,null,null,null,null,null,null,null,null,null,null,null,null,3]
[null,null,"Suma dla wariantu ","X",0,"X",0,0,null,null,null,null,null,null,null,null,null,null,null,null,null,null,null,null,3]
[null,"Suma dla wariantów w pakiecie 4.",null,"X",{"$f":"SUM(E111:E118)","v":0},"X",{"$f":"SUM(G111:G118)","v":0},{"$f":"SUM(H111:H118)","v":0},null,null,null,null,null,null,null,null,null,null,null,null,null,null,null,null,3]
[null,null,{"$f":"\"Suma dla wariantu \" &X120","v":"Suma dla wariantu "},"X",{"$f":"SUMIF($X$7:$X$110,X120,$E$7:$E$110)","v":0},"X",0,{"$f":"SUMIF($Z$7:$Z$110,X120,$H$7:$H$110)","v":0},null,null,null,null,null,null,null,null,null,null,null,null,null,null,null,null,{"$f":"IF(H120=0,3,COUNTA(B120:H120))","v":3}]
[null,null,{"$f":"\"Suma dla wariantu \" &X121","v":"Suma dla wariantu "},"X",0,"X",0,0,null,null,null,null,null,null,null,null,null,null,null,null,null,null,null,null,3]
[null,null,"Suma dla wariantu ","X",0,"X",0,0,null,null,null,null,null,null,null,null,null,null,null,null,null,null,null,null,3]
[null,null,"Suma dla wariantu ","X",0,"X",0,0,null,null,null,null,null,null,null,null,null,null,null,null,null,null,null,null,3]
[null,null,"Suma dla wariantu ","X",0,"X",0,0,null,null,null,null,null,null,null,null,null,null,null,null,null,null,null,null,3]
[null,null,"Suma dla wariantu ","X",0,"X",0,0,null,null,null,null,null,null,null,null,null,null,null,null,null,null,null,null,3]
[null,null,"Suma dla wariantu ","X",0,"X",0,0,null,null,null,null,null,null,null,null,null,null,null,null,null,null,null,null,3]
[null,"Suma dla wariantów w pakiecie 5.",null,"X",{"$f":"SUM(E120:E126)","v":0},"X",{"$f":"SUM(G120:G126)","v":0},0,null,null,null,null,null,null,null,null,null,null,null,null,null,null,null,null,3]

{"sheet":"P_Karta opisu dzialki RSO(0)","index":36,"n_rows":42,"n_cols":14,"rows_kept":42,"cut":false,"hidden":true,"merged":[[40,6,40,8],[41,6,41,8],[36,1,36,2],[36,5,36,6],[37,1,38,5],[37,6,37,8],[38,6,38,8],[39,6,39,8],[33,1,33,2],[33,5,33,6],[34,1,34,2],[34,5,34,6],[35,1,35,2],[35,5,35,6],[30,1,30,2],[30,5,30,6],[31,1,31,2],[31,5,31,6],[32,1,32,2],[32,5,32,6],[24,1,24,8],[27,1,27,8],[28,1,28,3],[28,4,29,4],[28,5,28,7],[28,8,29,8],[29,1,29,2],[29,5,29,6],[23,1,23,3],[23,5,23,6],[23,7,23,8],[16,1,16,3],[16,4,16,8],[17,1,17,3],[17,4,17,8],[18,1,18,8],[19,1,19,4],[19,5,19,8],[20,1,20,4],[20,5,20,8],[21,1,21,7],[22,1,22,3],[22,5,22,6],[13,1,13,3],[13,4,13,8],[14,1,14,3],[14,4,14,8],[15,1,15,3],[15,4,15,8],[12,1,12,3],[12,4,12,8],[8,1,8,3],[8,4,8,6],[8,7,8,8],[9,1,9,3],[9,4,9,6],[9,7,9,8],[10,1,10,3],[10,4,10,6],[10,7,10,8],[11,1,11,3],[11,4,11,8],[6,1,6,3],[6,4,6,6],[6,7,6,8],[7,1,7,3],[7,4,7,6],[7,7,7,8],[5,1,5,3],[5,4,5,6],[5,7,5,8],[2,1,2,7],[3,1,3,7],[4,1,4,3],[4,4,4,6],[4,7,4,8]]}
[null,null,null,null,null,null,null,null,"Powrót",null,null,null,1]
[null,null,null,null,null,null,null,null,null,null,null,null,1]
[null,"Karta opisu działki RSO numer",null,null,null,null,null,null," ",null,null,null,1]
[null,"Położenie działki RSO na obszarze chronionym ",null,null,null,null,null,null,null,null,null,null,1]
[null,"Obszar Natura 2000 (zatwierdzony)",null,null,"Park narodowy",null,null,"Rezerwat",null,null,null,null,{"$f":"SUM(M6:M11)","v":0}]
[null,null,null,null,null,null,null,null,null,null,null,null,{"$f":"COUNTA(B6:I6)","v":0}]
[null,null,null,null,null,null,null,null,null,null,null,null,{"$f":"COUNTA(B7:I7)","v":0}]
[null,null,null,null,null,null,null,null,null,null,null,null,0]
[null,null,null,null,null,null,null,null,null,null,null,null,0]
[null,null,null,null,null,null,null,null,null,null,null,null,0]
[null,null,null,null,null,null,null,null,null,null,null,null,0]
[null,"Park krajobrazowy",null,null,"Pozostałe formy ochrony przyrody (zatwierdzone)",null,null,null,null,null,null,null,{"$f":"SUM(M13:M18)","v":0}]
[null,null,null,null,null,null,null,null,null,null,null,null,0]
[null,null,null,null,null,null,null,null,null,null,null,null,0]
[null,null,null,null,null,null,null,null,null,null,null,null,0]
[null,null,null,null,null,null,null,null,null,null,null,null,0]
[null,null,null,null,null,null,null,null,null,null,null,null,0]
[null,null,null,null,null,null,null,null,null,null,null,null,0]
[null,"Kryterium kwalifikacji działki do wariantu ornitologicznego",null,null,null,null,null,null,null,null,null,null,1]
[null,"Kryterium kwalifikacji - obserwacja na działce RSO lub do 250 m od jej granic:",null,null,null,null,null,null,null,null,null,null,1,"stwierdzenie wodniczki w terminie 21.05-30.06"]
[null,"Kategoria obserwacji:",null,null,null,null,null,null,null,null,null,null,1]
[null,"Liczba punktów kontrolnych, w których stwierdzono gatunek lub gatunki z danego wariantu (jeśli tylko obserwacje dodatkowe wpisać \"0\"):",null,null,null,null,null,null,null,null,null,null,1]
[null,"Działka w strefie zalewów wodami rzecznymi ",null,null,null,"Podłoże torfowe ",null,null,null,null,null,null,1]
[null,"Wysokość n.p.m.",null,null,null,"Urządzenia wodne \n",null,null,null,null,null,null,1]
[null,"Użytkowanie działki RSS w ciągu ostatnich 5 lat",null,null,null,null,null,null,null,null,null,null,{"$f":"COUNTA(B25:I25)","v":1}]
[null,"dominujący rodzaj użytkowania",null,"dominujący termin pierwszego koszenia",null,"nawożenie",null,"zwierzęta",null,null,null,null,4]
[null,"częstotliwość koszenia",null,"podsiew nasion",null,"rodzaj nawożenia",null,"obsada na 1 ha w terminie od 01-05 do 30-10",null,null,null,null,4]
[null,"Niepożądane obce gatunki roślin ",null,null,null,null,null,null,null,null,null,null,1]
[null,"nazwa",null,null,"dopuszczenie stosowania środków ochrony roślin","nazwa",null,null,"dopuszczenie stosowania środków ochrony roślin",null,null,null,4]
[null,"polska",null,"łacińska",null,"polska",null,"łacińska",null,null,"poz_1","poz_2",4]
[null,null,null,{"$f":"OFFSET(listy_slownikowe!$AF$2,K31,0)","v":" "},null,null,null,{"$f":"OFFSET(listy_slownikowe!$AF$2,L31,0)","v":" "},null,null,{"$f":"IFERROR(MATCH(B31,listy_slownikowe!$AE$2:$AE$27,0)-1,0)","v":0},{"$f":"IFERROR(MATCH(F31,listy_slownikowe!$AE$2:$AE$27,0)-1,0)","v":0},{"$f":"COUNTA(B31:I31)-2","v":0}]
[null,null,null,{"$f":"OFFSET(listy_slownikowe!$AF$2,K32,0)","v":" "},null,null,null,{"$f":"OFFSET(listy_slownikowe!$AF$2,L32,0)","v":" "},null,null,{"$f":"IFERROR(MATCH(B32,listy_slownikowe!$AE$2:$AE$27,0)-1,0)","v":0},{"$f":"IFERROR(MATCH(F32,listy_slownikowe!$AE$2:$AE$27,0)-1,0)","v":0},{"$f":"COUNTA(B32:I32)-2","v":0}]
[null,null,null,{"$f":"OFFSET(listy_slownikowe!$AF$2,K33,0)","v":" "},null,null,null,{"$f":"OFFSET(listy_slownikowe!$AF$2,L33,0)","v":" "},null,null,{"$f":"IFERROR(MATCH(B33,listy_slownikowe!$AE$2:$AE$27,0)-1,0)","v":0},{"$f":"IFERROR(MATCH(F33,listy_slownikowe!$AE$2:$AE$27,0)-1,0)","v":0},0]
[null,null,null,{"$f":"OFFSET(listy_slownikowe!$AF$2,K34,0)","v":" "},null,null,null,{"$f":"OFFSET(listy_slownikowe!$AF$2,L34,0)","v":" "},null,null,{"$f":"IFERROR(MATCH(B34,listy_slownikowe!$AE$2:$AE$27,0)-1,0)","v":0},{"$f":"IFERROR(MATCH(F34,listy_slownikowe!$AE$2:$AE$27,0)-1,0)","v":0},0]
[null,null,null,{"$f":"OFFSET(listy_slownikowe!$AF$2,K35,0)","v":" "},null,null,null,{"$f":"OFFSET(listy_slownikowe!$AF$2,L35,0)","v":" "},null,null,{"$f":"IFERROR(MATCH(B35,listy_slownikowe!$AE$2:$AE$27,0)-1,0)","v":0},{"$f":"IFERROR(MATCH(F35,listy_slownikowe!$AE$2:$AE$27,0)-1,0)","v":0},0]
[null,null,null,{"$f":"OFFSET(listy_slownikowe!$AF$2,K36,0)","v":" "},null,null,null,{"$f":"OFFSET(listy_slownikowe!$AF$2,L36,0)","v":" "},null,null,{"$f":"IFERROR(MATCH(B36,listy_slownikowe!$AE$2:$AE$27,0)-1,0)","v":0},{"$f":"IFERROR(MATCH(F36,listy_slownikowe!$AE$2:$AE$27,0)-1,0)","v":0},0]
[null,null,null,{"$f":"OFFSET(listy_slownikowe!$AF$2,K37,0)","v":" "},null,null,null,{"$f":"OFFSET(listy_slownikowe!$AF$2,L37,0)","v":" "},null,null,{"$f":"IFERROR(MATCH(B37,listy_slownikowe!$AE$2:$AE$27,0)-1,0)","v":0},{"$f":"IFERROR(MATCH(F37,listy_slownikowe!$AE$2:$AE$27,0)-1,0)","v":0},0]
[null,"Wariant lub warianty wdrażane w działanie rolnośrodowiskowym PROW 2014-2020 na powierzchni znajdującej się w granicach opisywanej działki RSO zgłaszanej do zobowiązania rolno-środowiskowo-klimatycznego w PROW 2014-2020",null,null,null,null,null,null,null,null,null,null,1]
[null,null,null,null,null,null,null,null,null,null,null,null,1]
[null,null,null,null,null,null,null,null,null,null,null,null,{"$f":"COUNTA(G40)","v":0}]
[null,null,null,null,null,null,null,null,null,null,null,null,0]
[null,null,null,null,null,null,null,null,null,null,null,null,0]

{"sheet":"P_Karta opisu dzialki RSO(1)","index":37,"n_rows":42,"n_cols":14,"rows_kept":42,"cut":false,"hidden":true,"merged":[[5,1,5,3],[5,4,5,6],[5,7,5,8],[2,1,2,7],[3,1,3,7],[4,1,4,3],[4,4,4,6],[4,7,4,8],[6,1,6,3],[6,4,6,6],[6,7,6,8],[7,1,7,3],[7,4,7,6],[7,7,7,8],[12,1,12,3],[12,4,12,8],[8,1,8,3],[8,4,8,6],[8,7,8,8],[9,1,9,3],[9,4,9,6],[9,7,9,8],[10,1,10,3],[10,4,10,6],[10,7,10,8],[11,1,11,3],[11,4,11,8],[13,1,13,3],[13,4,13,8],[14,1,14,3],[14,4,14,8],[15,1,15,3],[15,4,15,8],[23,1,23,3],[23,5,23,6],[23,7,23,8],[16,1,16,3],[16,4,16,8],[17,1,17,3],[17,4,17,8],[18,1,18,8],[19,1,19,4],[19,5,19,8],[20,1,20,4],[20,5,20,8],[21,1,21,7],[22,1,22,3],[22,5,22,6],[24,1,24,8],[27,1,27,8],[28,1,28,3],[28,4,29,4],[28,5,28,7],[28,8,29,8],[29,1,29,2],[29,5,29,6],[30,1,30,2],[30,5,30,6],[31,1,31,2],[31,5,31,6],[32,1,32,2],[32,5,32,6],[33,1,33,2],[33,5,33,6],[34,1,34,2],[34,5,34,6],[35,1,35,2],[35,5,35,6],[40,6,40,8],[41,6,41,8],[36,1,36,2],[36,5,36,6],[37,1,38,5],[37,6,37,8],[38,6,38,8],[39,6,39,8]]}
[null,null,null,null,null,null,null,null,"Powrót",null,null,null,1]
[null,null,null,null,null,null,null,null,null,null,null,null,1]
[null,"Karta opisu działki RSO numer",null,null,null,null,null,null," ",null,null,null,1]
[null,"Położenie działki RSO na obszarze chronionym ",null,null,null,null,null,null,null,null,null,null,1]
[null,"Obszar Natura 2000 (zatwierdzony)",null,null,"Park narodowy",null,null,"Rezerwat",null,null,null,null,{"$f":"SUM(M6:M11)","v":0}]
[null,null,null,null,null,null,null,null,null,null,null,null,{"$f":"COUNTA(B6:I6)","v":0}]
[null,null,null,null,null,null,null,null,null,null,null,null,{"$f":"COUNTA(B7:I7)","v":0}]
[null,null,null,null,null,null,null,null,null,null,null,null,0]
[null,null,null,null,null,null,null,null,null,null,null,null,0]
[null,null,null,null,null,null,null,null,null,null,null,null,0]
[null,null,null,null,null,null,null,null,null,null,null,null,0]
[null,"Park krajobrazowy",null,null,"Pozostałe formy ochrony przyrody (zatwierdzone)",null,null,null,null,null,null,null,{"$f":"SUM(M13:M18)","v":0}]
[null,null,null,null,null,null,null,null,null,null,null,null,0]
[null,null,null,null,null,null,null,null,null,null,null,null,0]
[null,null,null,null,null,null,null,null,null,null,null,null,0]
[null,null,null,null,null,null,null,null,null,null,null,null,0]
[null,null,null,null,null,null,null,null,null,null,null,null,0]
[null,null,null,null,null,null,null,null,null,null,null,null,0]
[null,"Kryterium kwalifikacji działki do wariantu ornitologicznego",null,null,null,null,null,null,null,null,null,null,1]
[null,"Kryterium kwalifikacji - obserwacja na działce RSO lub do 250 m od jej granic:",null,null,null,null,null,null,null,null,null,null,1,"stwierdzenie wodniczki w terminie 21.05-30.06"]
[null,"Kategoria obserwacji:",null,null,null,null,null,null,null,null,null,null,1]
[null,"Liczba punktów kontrolnych, w których stwierdzono gatunek lub gatunki z danego wariantu (jeśli tylko obserwacje dodatkowe wpisać \"0\"):",null,null,null,null,null,null,null,null,null,null,1]
[null,"Działka w strefie zalewów wodami rzecznymi ",null,null,null,"Podłoże torfowe ",null,null,null,null,null,null,1]
[null,"Wysokość n.p.m.",null,null,null,"Urządzenia wodne \n",null,null,null,null,null,null,1]
[null,"Użytkowanie działki RSS w ciągu ostatnich 5 lat",null,null,null,null,null,null,null,null,null,null,{"$f":"COUNTA(B25:I25)","v":1}]
[null,"dominujący rodzaj użytkowania",null,"dominujący termin pierwszego koszenia",null,"nawożenie",null,"zwierzęta",null,null,null,null,4]
[null,"częstotliwość koszenia",null,"podsiew nasion",null,"rodzaj nawożenia",null,"obsada na 1 ha w terminie od 01-05 do 30-10",null,null,null,null,4]
[null,"Niepożądane obce gatunki roślin ",null,null,null,null,null,null,null,null,null,null,1]
[null,"nazwa",null,null,"dopuszczenie stosowania środków ochrony roślin","nazwa",null,null,"dopuszczenie stosowania środków ochrony roślin",null,null,null,4]
[null,"polska",null,"łacińska",null,"polska",null,"łacińska",null,null,"poz_1","poz_2",4]
[null,null,null,{"$f":"OFFSET(listy_slownikowe!$AF$2,K31,0)","v":" "},null,null,null,{"$f":"OFFSET(listy_slownikowe!$AF$2,L31,0)","v":" "},null,null,{"$f":"IFERROR(MATCH(B31,listy_slownikowe!$AE$2:$AE$27,0)-1,0)","v":0},{"$f":"IFERROR(MATCH(F31,listy_slownikowe!$AE$2:$AE$27,0)-1,0)","v":0},{"$f":"COUNTA(B31:I31)-2","v":0}]
[null,null,null,{"$f":"OFFSET(listy_slownikowe!$AF$2,K32,0)","v":" "},null,null,null,{"$f":"OFFSET(listy_slownikowe!$AF$2,L32,0)","v":" "},null,null,{"$f":"IFERROR(MATCH(B32,listy_slownikowe!$AE$2:$AE$27,0)-1,0)","v":0},{"$f":"IFERROR(MATCH(F32,listy_slownikowe!$AE$2:$AE$27,0)-1,0)","v":0},{"$f":"COUNTA(B32:I32)-2","v":0}]
[null,null,null,{"$f":"OFFSET(listy_slownikowe!$AF$2,K33,0)","v":" "},null,null,null,{"$f":"OFFSET(listy_slownikowe!$AF$2,L33,0)","v":" "},null,null,{"$f":"IFERROR(MATCH(B33,listy_slownikowe!$AE$2:$AE$27,0)-1,0)","v":0},{"$f":"IFERROR(MATCH(F33,listy_slownikowe!$AE$2:$AE$27,0)-1,0)","v":0},0]
[null,null,null,{"$f":"OFFSET(listy_slownikowe!$AF$2,K34,0)","v":" "},null,null,null,{"$f":"OFFSET(listy_slownikowe!$AF$2,L34,0)","v":" "},null,null,{"$f":"IFERROR(MATCH(B34,listy_slownikowe!$AE$2:$AE$27,0)-1,0)","v":0},{"$f":"IFERROR(MATCH(F34,listy_slownikowe!$AE$2:$AE$27,0)-1,0)","v":0},0]
[null,null,null,{"$f":"OFFSET(listy_slownikowe!$AF$2,K35,0)","v":" "},null,null,null,{"$f":"OFFSET(listy_slownikowe!$AF$2,L35,0)","v":" "},null,null,{"$f":"IFERROR(MATCH(B35,listy_slownikowe!$AE$2:$AE$27,0)-1,0)","v":0},{"$f":"IFERROR(MATCH(F35,listy_slownikowe!$AE$2:$AE$27,0)-1,0)","v":0},0]
[null,null,null,{"$f":"OFFSET(listy_slownikowe!$AF$2,K36,0)","v":" "},null,null,null,{"$f":"OFFSET(listy_slownikowe!$AF$2,L36,0)","v":" "},null,null,{"$f":"IFERROR(MATCH(B36,listy_slownikowe!$AE$2:$AE$27,0)-1,0)","v":0},{"$f":"IFERROR(MATCH(F36,listy_slownikowe!$AE$2:$AE$27,0)-1,0)","v":0},0]
[null,null,null,{"$f":"OFFSET(listy_slownikowe!$AF$2,K37,0)","v":" "},null,null,null,{"$f":"OFFSET(listy_slownikowe!$AF$2,L37,0)","v":" "},null,null,{"$f":"IFERROR(MATCH(B37,listy_slownikowe!$AE$2:$AE$27,0)-1,0)","v":0},{"$f":"IFERROR(MATCH(F37,listy_slownikowe!$AE$2:$AE$27,0)-1,0)","v":0},0]
[null,"Wariant lub warianty wdrażane w działanie rolnośrodowiskowym PROW 2014-2020 na powierzchni znajdującej się w granicach opisywanej działki RSO zgłaszanej do zobowiązania rolno-środowiskowo-klimatycznego w PROW 2014-2020",null,null,null,null,null,null,null,null,null,null,1]
[null,null,null,null,null,null,null,null,null,null,null,null,1]
[null,null,null,null,null,null,null,null,null,null,null,null,{"$f":"COUNTA(G40)","v":0}]
[null,null,null,null,null,null,null,null,null,null,null,null,0]
[null,null,null,null,null,null,null,null,null,null,null,null,0]

{"sheet":"P_KOD","index":38,"n_rows":0,"n_cols":0,"rows_kept":0,"cut":false,"hidden":true,"merged":[]}

{"sheet":"P_Wymogi 4.8. RSO(0)","index":39,"n_rows":177,"n_cols":17,"rows_kept":177,"cut":false,"hidden":true,"merged":[[65,2,65,3],[65,5,65,6],[66,2,66,3],[66,5,66,6],[61,2,61,3],[62,2,62,6],[63,2,63,3],[63,5,63,6],[64,2,64,3],[64,5,64,6],[60,2,60,3],[49,2,49,3],[50,2,50,3],[51,2,51,3],[52,2,52,3],[53,2,53,3],[54,2,54,3],[55,2,55,3],[56,2,56,3],[57,2,57,3],[58,2,58,3],[59,2,59,3],[47,0,48,0],[48,2,48,6],[38,2,38,3],[39,2,39,3],[40,1,41,1],[40,4,41,4],[40,5,41,5],[40,6,41,6],[42,2,42,3],[43,2,43,3],[44,2,44,3],[45,2,45,3],[46,2,46,3],[37,2,37,3],[26,2,26,6],[27,2,27,3],[28,2,28,3],[29,2,29,3],[30,2,30,3],[31,2,31,3],[32,2,32,3],[33,2,33,3],[34,2,34,3],[35,2,35,3],[36,2,36,3],[23,0,24,0],[12,2,12,3],[13,2,13,3],[14,2,14,3],[15,2,15,3],[16,2,16,3],[17,2,17,6],[18,1,24,1],[18,2,18,3],[18,4,24,4],[18,5,24,5],[18,6,24,6],[2,5,5,5],[11,2,11,3],[0,1,1,1],[0,2,1,4],[2,1,5,1],[2,2,5,2],[2,3,5,3],[6,2,6,3],[7,2,7,6],[8,2,8,3],[9,2,9,3],[10,2,10,3]]}
[null,"WYMOGI DLA WARIANTU 4.8."," Ochrona siedlisk lęgowych ptaków: rycyka, kszyka, krwawodzioba lub czajki",null,null,null,"Powrót",null,null,null,null,null,null,null,null,"pak4.8.",{"$f":"'P_Zestawienie dzialek'!AG2+1","v":1}]
[null,null,null,null,null,null,null,null,null,null,null,null,null,null,"VBA"]
[null,"WYMOGI DLA WARIANTU 4.8.","Wariant 4.8.","działka RSO:",null,"działki rolne:",null,null,1,null,null,null,null,{"$f":"MATCH(E3,'P_Zestawienie dzialek'!$W$6:$W$110,0)","v":{"$error":"#N/A"}},{"$f":"IFERROR(OFFSET('P_Zestawienie dzialek'!$AB$5,N3,0),\"\")","v":""},{"$f":"VALUE(MID(C3,9,1))","v":4},{"$f":"'P_Zestawienie dzialek'!AG7","v":0}]
[null,null,null,null,null,null,null,null,{"$f":"COUNTA(G4)","v":0},null,null,null,null,{"$f":"MATCH(E4,'P_Zestawienie dzialek'!$W$6:$W$110,0)","v":{"$error":"#N/A"}},{"$f":"IFERROR(OFFSET('P_Zestawienie dzialek'!$AB$5,N4,0),\"\")","v":""},null,{"$f":"'P_Zestawienie dzialek'!AG8","v":0}]
[null,null,null,null,null,null,null,null,{"$f":"COUNTA(G5)","v":0},null,null,null,null,{"$f":"MATCH(E5,'P_Zestawienie dzialek'!$W$6:$W$110,0)","v":{"$error":"#N/A"}},{"$f":"IFERROR(OFFSET('P_Zestawienie dzialek'!$AB$5,N5,0),\"\")","v":""},null,{"$f":"'P_Zestawienie dzialek'!AG9","v":0}]
[null,null,null,null,null,null,null,null,0,null,null,null,null,{"$f":"MATCH(E6,'P_Zestawienie dzialek'!$W$6:$W$110,0)","v":{"$error":"#N/A"}},{"$f":"IFERROR(OFFSET('P_Zestawienie dzialek'!$AB$5,N6,0),\"\")","v":""},null,{"$f":"'P_Zestawienie dzialek'!AG10","v":0}]
[null,"Wymogi z rozporządzenia ws. szczegółowych warunków i trybu przyznawania pomocy finansowej w ramach działania \"Działanie rolno-środowiskowo-klimatyczne\" objętego PROW na lata 2014-2020","Wymogi obowiązujące rolnika lub zarządcę – uszczegółowione wymogi rozporządzenia rolno-środowiskowo-klimatycznego",null,"Zalecenia","Źródło uszczegółowień wymogów","Uzasadnienie uszczegółowień\n i zaleceń",null,1,null,null,null,null,null,null,null,{"$f":"'P_Zestawienie dzialek'!AG11","v":0}]
[null,null," Wymogi obowiązkowe dla wszystkich typów użytkowania",null,null,null,null,null,1,null,null,null,null,null,null,null,{"$f":"'P_Zestawienie dzialek'!$AC12","v":0}]
[null,"zakaz wałowania","zakaz wałowania",null,null,"brak możliwości uszczegółowienia",null,null,1,null,null,null,null,null,null,null,{"$f":"'P_Zestawienie dzialek'!$AC13","v":0}]
[null,"zakaz stosowania komunalnych osadów ściekowych","zakaz stosowania komunalnych osadów ściekowych",null,null,"brak możliwości uszczegółowienia",null,null,1,null,null,null,null,null,null,null,{"$f":"'P_Zestawienie dzialek'!$AC14","v":0}]
[null,"zakaz stosowania podsiewu","zakaz stosowania podsiewu",null,null,"brak możliwości uszczegółowienia",null,null,1,null,null,null,null,null,null,null,{"$f":"'P_Zestawienie dzialek'!$AC15","v":0}]
[null,"zakaz włókowania w okresie od 01-04 do 01-09 na obszarach nizinnych (poniżej 300 m n.p.m.) oraz od 15-04 do 01-09 na obszarach wyżynnych i górskich (powyżej 300 m n.p.m.) ","zakaz włókowania w okresie od 15-04 do 01-09 na obszarach wyżynnych i górskich (powyżej 300 m n.p.m.)",null,null,"brak możliwości uszczegółowienia",null,null,1,null,null,null,null,null,null,null,{"$f":"'P_Zestawienie dzialek'!$AC16","v":0}]
[null,"zakaz stosowania środków ochrony roślin, z wyłączeniem selektywnego i miejscowego niszczenia uciążliwych gatunków inwazyjnych z zastosowaniem odpowiedniego sprzętu (np. mazaczy herbicydowych)",null,null,null,null,null,null,1,null,null,null,null,null,null,null,{"$f":"'P_Zestawienie dzialek'!$AC17","v":0}]
[null,"zakaz tworzenia nowych, rozbudowy i odtwarzania istniejących urządzeń melioracji wodnych, z wyjątkiem konstrukcji urządzeń mających na celu dostosowanie poziomu wód, wykorzystując istniejące urządzenia melioracji wodnych do wymogów siedliskowych gatunków lub siedlisk będących przedmiotem ochrony w danym pakiecie, jeżeli takie działania zostaną dopuszczone przez eksperta przyrodniczego",null,null,null,null,null,null,1,null,null,null,null,null,null,null,{"$f":"'P_Zestawienie dzialek'!$AC18","v":0}]
[null,"zakaz składowania biomasy wśród kęp drzew i zarośli, w rowach, jarach i innych obniżeniach terenu (położonych na działkach zadeklarowanych we wniosku o przyznanie płatności rolno-środowiskowo-klimatycznej)","zakaz składowania biomasy wśród kęp drzew i zarośli, w rowach, jarach i innych obniżeniach terenu (położonych na działkach zadeklarowanych we wniosku o przyznanie płatności rolno-środowiskowo-klimatycznej)",null,null,"brak możliwości uszczegółowienia",null,null,1,null,null,null,null,null,null,null,{"$f":"'P_Zestawienie dzialek'!$AC19","v":0}]
[null,"zakaz wapnowania","zakaz wapnowania",null,null,"brak możliwości uszczegółowienia",null,null,1,null,null,null,null,null,null,null,{"$f":"'P_Zestawienie dzialek'!$AC20","v":0}]
[null,"zakaz mechanicznego niszczenia struktury glebowej w tym bronowania i przeorywania","zakaz mechanicznego niszczenia struktury glebowej w tym bronowania i przeorywania",null,null,"brak możliwości uszczegółowienia",null,null,1,null,null,null,null,null,null,null,{"$f":"'P_Zestawienie dzialek'!$AC21","v":0}]
[null,null,"Rodzaj użytkowania",null,null,null,null,null,1,"past",null,null,null,null,null,null,{"$f":"'P_Zestawienie dzialek'!$AC22","v":0}]
[null,"użytkowanie kośne, pastwiskowe, kośno-pastwiskowe albo naprzemienne; przy czym użytkowanie naprzemienne polega na stosowaniu w niektórych latach użytkowania kośnego, pastwiskowego, a w niektórych latach kośno-pastwiskowego",null,null,null,null,null,null,1,{"$f":"IF(OR(C19=\"pastwiskowe\",C19=0),0,1)","v":0},null,null,null,null,null,null,{"$f":"'P_Zestawienie dzialek'!$AC23","v":0}]
[null,null,{"$f":"P_Dane_ogolne!E4","v":2020},null,null,null,null,null,1,null,null,null,null,null,null,null,{"$f":"'P_Zestawienie dzialek'!$AC24","v":0}]
[null,null,{"$f":"C20+1","v":2021},null,null,null,null,null,1,null,null,null,null,null,null,null,{"$f":"'P_Zestawienie dzialek'!$AC25","v":0}]
[null,null,{"$f":"C21+1","v":2022},null,null,null,null,null,1,null,null,null,null,null,null,null,{"$f":"'P_Zestawienie dzialek'!$AC26","v":0}]
[null,null,2023,null,null,null,null,null,1,null,null,null,null,null,null,null,{"$f":"'P_Zestawienie dzialek'!$AC27","v":0}]
[null,null,2024,null,null,null,null,null,1,null,null,null,null,null,null,null,{"$f":"'P_Zestawienie dzialek'!$AC28","v":0}]
[null,null,2025,null,null,null,null,null,1,null,null,null,null,null,null,null,{"$f":"'P_Zestawienie dzialek'!$AC29","v":0}]
[]
[null,null,"Wymogi obowiązkowe przy użytkowaniu kośnym i kośno-pastwiskowym ",null,null,null,null,null,{"$f":"$J$19","v":0},null,null,null,null,null,null,null,{"$f":"'P_Zestawienie dzialek'!$AC30","v":0}]
[null,"zakaz nawożenia w przypadku użytkowania kośno-pastwiskowego \n\n","zakaz nawożenia w przypadku użytkowania kośno-pastwiskowego \n\n",null,null,"brak możliwości uszczegółowienia",null,null,{"$f":"$J$19","v":0},null,null,null,null,null,null,null,{"$f":"'P_Zestawienie dzialek'!$AC31","v":0}]
[null,"w przypadku użytkowania kośnego dopuszczalne jest ograniczone nawożenie do 60 kg N/ha/rok, z wyłączeniem obszarów nawożonych przez namuły rzeczne\n\n",null,null,null,null,null,null,{"$f":"$J$19","v":0}]
[null,"zakaz stosowania jakichkolwiek zabiegów agrotechnicznych i pielęgnacyjnych w terminie od dnia 01-04 do terminu pierwszego pokosu ","zakaz stosowania zabiegów agrotechnicznych i pielęgnacyjnych od 01-04 do terminu pierwszego pokosu ",null,null,"brak możliwości uszczegółowienia",null,null,0]
[null,"częstotliwość koszenia: dwa pokosy w ciągu roku, a w uzasadnionych przypadkach – użytkowanie jednokośne w odniesieniu do siedlisk o podłożu torfowym, jeżeli ekspert przyrodniczy określi taką konieczność",null,null,null,null,null,null,0]
[null,"termin koszenia przy dwóch pokosach w roku: pierwszy pokos w terminie określonym przez eksperta przyrodniczego, przy czym termin ten rozpoczyna się nie wcześniej niż w dniu 15 czerwca i kończy się nie później niż w dniu 15 lipca",null,null,null,null,null,null,0]
[null,"termin koszenia przy dwóch pokosach w roku: drugi pokos w terminie określonym przez eksperta przyrodniczego, przy czym termin ten rozpoczyna się nie wcześniej niż w dniu 15 sierpnia i kończy się nie później niż w dniu 31 października\n\n",null,null,null,null,null,null,0]
[null,"termin koszenia przy użytkowaniu jednokośnym: przy użytkowaniu kośno-pastwiskowym – koszenie w terminie określonym przez eksperta przyrodniczego, przy czym termin ten rozpoczyna się nie wcześniej niż w dniu 15 czerwca i kończy się nie później niż w dniu 15 lipca\n\n",null,null,null,null,null,null,0]
[null,"przy użytkowaniu kośnym - w odniesieniu do siedlisk o podłożu torfowym jeden pokos w terminie określonym przez eksperta przyrodniczego, przy czym termin ten rozpoczyna się nie wcześniej niż w dniu 15 czerwca i kończy się nie później niż w dniu 31 października, jeżeli ekspert przyrodniczy określi taką konieczność",null,null,null,null,null,null,0]
[null,"obowiązek zebrania i usunięcia skoszonej biomasy","obowiązek zebrania i usunięcia skoszonej biomasy",null,null,"brak możliwości uszczegółowienia",null,null,0]
[null,"zakaz pozostawiania rozdrobnionej biomasy","zakaz pozostawiania rozdrobnionej biomasy",null,null,"brak możliwości uszczegółowienia",null,null,0]
[null,"w terminie do dwóch tygodni po pokosie siano powinno zostać usunięte z działki rolnej lub ułożone w pryzmy, w tym pryzmy balotowe, stogi lub brogi","w terminie do dwóch tygodni po pokosie biomasa powinna zostać usunięta z działki rolnej lub ułożona w pryzmy, w tym pryzmy balotowe, stogi lub brogi",null,null,"brak możliwości uszczegółowienia",null,null,0]
[null,"w przypadku ułożenia biomasy w pryzmy, w tym pryzmy balotowe, stogi lub brogi powinna ona zostać usunięta z działki rolnej nie później niż do dnia 01-03 kolejnego roku","usunięcie z działki rolnej biomasy ułożonej w pryzmy, w tym pryzmy balotowe, stogi lub brogi do dnia 01-03 kolejnego roku",null,null,"brak możliwości uszczegółowienia",null,null,0]
[null,"pozostawienie nieskoszonego fragmentu działki rolnej o powierzchni wynoszącej 15-20% powierzchni tej działki","pozostawienie nieskoszonego fragmentu działki rolnej o powierzchni wynoszącej 15–20% powierzchni tej działki",null,null,"brak możliwości uszczegółowienia",null,null,0]
[null,"dla działek rolnych nieprzekraczających powierzchni 1 ha jest dopuszczalne zrezygnowanie z pozostawiania powierzchni nieskoszonych i koszenie co roku całej działki rolnej lub pozostawienie nieskoszonego fragmentu działki rolnej o powierzchni wynoszącej 15–20% powierzchni tej działki, jeżeli ekspert przyrodniczy dopuści taką możliwość ","działki rolne o powierzchni nieprzekraczającej 1,0 ha, na których jest  dopuszczone pozostawienie fragmentów nieskoszonych wynoszących 15–20% powierzchni tej działki","oznaczenia działek rolnych: …",null,null,null,null,0]
[null,null,"działki rolne o powierzchni nieprzekraczającej 1,0 ha, na których jest zakaz pozostawienia fragmentów nieskoszonych i koszenie co roku całej działki rolnej","nie dotyczy",null,null,null,null,0]
[null,"w przypadku stosowania dwóch pokosów w ciągu roku należy pozostawić te same fragmenty działki rolnej nieskoszone","w przypadku stosowania dwóch pokosów w ciągu roku należy pozostawić te same fragmenty działki rolnej nieskoszone",null,null,"brak możliwości uszczegółowienia",null,null,0]
[null,"w dwóch kolejnych latach należy pozostawić inne fragmenty nieskoszone","w dwóch kolejnych latach należy pozostawić inne fragmenty nieskoszone",null,null,null,null,null,0]
[null,"przy użytkowaniu jednokośnym jest dopuszczalny wypas, jeżeli ekspert przyrodniczy dopuści taką możliwość",null,null,null,null,null,null,0]
[null,"termin dopuszczalnego wypasu – przy użytkowaniu kośno-pastwiskowym – wypas po pokosie w terminie określonym przez eksperta przyrodniczego, przy czym termin ten kończy się nie później niż w dniu 31 października",null,null,null,null,null,null,0]
[null,"wypas przy obsadzie od 0,5 do 1,5 DJP/ha gruntów objętych wsparciem w ramach wariantu\n",null,null,null,null,null,null,0]
[]
[null,null,"Wymogi obowiązkowe przy użytkowaniu pastwiskowym",null,null,null,null,null,{"$f":"IF(J49=TRUE,1,0)","v":0},{"$f":"OR(C19=\"pastwiskowe\",C19=\"naprzemienne\")","v":false}]
[null,"zakaz nawożenia ","zakaz nawożenia ",null,null,"brak możliwości uszczegółowienia",null,null,{"$f":"$I$49","v":0}]
[null,"zakaz stosowania jakichkolwiek zabiegów agrotechnicznych i pielęgnacyjnych w terminie od dnia 01-04 do 15-06","zakaz stosowania jakichkolwiek zabiegów agrotechnicznych i pielęgnacyjnych od 01-04 do 15-06",null,null,"brak możliwości uszczegółowienia",null,null,{"$f":"$I$49","v":0}]
[null,"wypas w terminie określonym przez eksperta przyrodniczego, przy czym termin ten rozpoczyna się\nnie wcześniej niż w dniu 15 maja i kończy się nie później niż w dniu 31 października",null,null,null,null,null,null,0]
[null,"wypas przy obsadzie zwierząt do 0,5 DJP/ha gruntów objętych wsparciem w ramach wariantu w sezonie od 15-05 do 15-06","wypas nie będzie prowadzony w terminie do 15.06",null,null,null,null,null,0]
[null,"wypas przy obsadzie zwierząt od 0,5 do 1,5 DJP/ha gruntów objętych wsparciem w ramach wariantu po 15-06 do 31-10","wypas przy obsadzie zwierząt od 0,5 do 1,5 DJP/ha gruntów objętych wsparciem w ramach wariantu liczonej dla okresu 16-06 do 31-10",null,null,null,null,null,0,{"$f":"IF(C53=\"dopuszczalny wypas koników polskich i koni huculskich przez cały rok\",1,0)","v":0}]
[null,"dopuszczalne jest wypasanie przez cały rok koników polskich i koni huculskich jeżeli ekspert przyrodniczy dopuści taką możliwość",null,null,null,null,null,null,0]
[null,"wypas koników polskich i koni huculskich przy obsadzie zwierząt do 1,5 DJP/ha gruntów objętych wsparciem w ramach wariantu w sezonie po dniu 15-06 do 31-03 oraz przy obsadzie do 0,5 DJP/ ha gruntów objętych wsparciem w ramach wariantu w sezonie od 01-04 do dnia 15-06 ","wypas koników polskich i koni huculskich przy obsadzie zwierząt do 1,5 DJP/ha gruntów objętych wsparciem w ramach wariantu w terminie po 15-06 do 31-03 następnego roku oraz przy obsadzie do 0,5 DJP/ ha w terminie od 01-04 do 15-06",null,null,null,null,null,{"$f":"IF(J56=0,0,$I$49)","v":0},{"$f":"IF(C55=\"nie dotyczy\",0,1)","v":1}]
[null,"obowiązek corocznego wykoszenia niedojadów (raz w roku) ","obowiązek corocznego wykoszenia niedojadów (raz w roku) ",null,null,"brak możliwości uszczegółowienia",null,null,0]
[null,"coroczne wykoszenie niedojadów (raz w roku) w terminie określonym przez eksperta przyrodniczego, przy czym termin ten rozpoczyna się nie wcześniej niż w dniu\n15 sierpnia i kończy się nie później niż w dniu 15 listopada",null,null,null,null,null,null,0]
[null,"obowiązek zebrania i usunięcia skoszonej biomasy – dotyczy niedojadów","obowiązek zebrania i usunięcia skoszonej biomasy – dotyczy niedojadów",null,null,"brak możliwości uszczegółowienia",null,null,0]
[null,"zakaz pozostawiania rozdrobnionej biomasy – dotyczy niedojadów","zakaz pozostawiania rozdrobnionej biomasy – dotyczy niedojadów",null,null,"brak możliwości uszczegółowienia",null,null,0]
[null,"w terminie do dwóch tygodni po pokosie siano powinno zostać usunięte z działki rolnej lub ułożone w pryzmy, w tym pryzmy balotowe, stogi lub brogi – dotyczy niedojadów","w terminie do dwóch tygodni po pokosie biomasa powinna zostać usunięta z działki rolnej lub ułożona w pryzmy, w tym pryzmy balotowe, stogi lub brogi [dotyczy niedojadów]",null,null,"brak możliwości uszczegółowienia",null,null,0]
[null,"w przypadku ułożenia biomasy w pryzmy, w tym pryzmy balotowe, stogi lub brogi powinna ona zostać usunięta z działki rolnej nie później niż do dnia 01-03 kolejnego roku – dotyczy niedojadów","usunięcie z działki rolnej biomasy ułożonej w pryzmy, w tym pryzmy balotowe, stogi lub brogi do dnia 01-03 kolejnego roku [dotyczy niedojadów]",null,null,"brak możliwości uszczegółowienia",null,null,0]
[null,null,"Inne zalecenia wynikajace z PZO/PO lub inne zalecenia ekperta  ",null,null,null,null,null,1]
[null,null,"źródło",null,"opis","uzasadnienie",null,null,1]
[null,null,null,null,null,null,null,null,1]
[null,null,null,null,null,null,null,null,1]
[null,null,null,null,null,null,null,null,1]
[]
[]
[null,"włókowanie","włókowanie"]
[null,"całkowity zakaz włókowania wynikający z działań obligatoryjnych PZO/PO","zaleca się niewykonywanie włókowania "]
[null,"zakaz włókowania w okresie od 15-04 do 01-09 na obszarach wyżynnych i górskich (powyżej 300 m n.p.m.)","zaleca się nie wykonywanie włókowania na obszarach wyżynnych i górskich (powyżej 300 m n.p.m.) w okresie od 15-04 do 01-09"]
[null,"zakaz włókowania w okresie od 01-04 do 01-09 na obszarach nizinnych (poniżej 300 m n.p.m.)","zaleca się nie wykonywanie włókowania na obszarach nizinnych (poniżej 300 m n.p.m.) w okresie od 01-04 do 01-09"]
[]
[null,"stosowanie środków ochrony roślin"]
[null,"zakaz stosowania środków ochrony roślin, z wyłączeniem selektywnego i miejscowego niszczenia uciążliwych gatunków inwazyjnych z zastosowaniem odpowiedniego sprzętu (np. mazaczy herbicydowych)"]
[null,"zakaz stosowania środków ochrony roślin"]
[]
[null,"urządzenia hydrotechniczne "]
[null,"zakaz tworzenia nowych, rozbudowy i odtwarzania istniejących urządzeń melioracji, za wyjątkiem konstrukcji urządzeń mających na celu dostosowanie poziomu wód, wykorzystując istniejące urządzenia melioracji do wymogów siedliskowych gatunków lub siedlisk będących przedmiotem ochrony w pakiecie"]
[null,"zakaz tworzenia nowych, rozbudowy i odtwarzania istniejących urządzeń melioracji"]
[]
[null,"rodzaj użytkowania"]
[null,"kośne","kośne"]
[null,"pastwiskowe","pastwiskowe"]
[null,"kośno-pastwiskowe","kośno-pastwiskowe"]
[null,"naprzemienne","nie dotyczy"]
[null,"nawożenie przy użytkowaniu kośnym","nawożenie przy użytkowaniu kośnym"]
[null,"dopuszczone nawożenie do 60 kg N/ha/rok","w przypadku użytkowania kośnego zakaz nawożenia "]
[null,null,"w przypadku użytkowania kośnego zakaz stosowania nawozów zawierających azot"]
[null,null,"w przypadku użytkowania kośnego dopuszczalne jest ograniczone nawożenie do 60 kg N/ha/rok"]
[]
[null,"częstotliwość koszenia","częstotliwość koszenia"]
[null,"przy użytkowaniu kośnym częstotliwość koszenia: dwa pokosy w roku, ","jeden pokos w roku"]
[null,"przy użytkowaniu kośnym częstotliwość koszenia: jeden pokos w roku (siedlisko o podłożu torfowym)","dwa pokosy w roku"]
[]
[]
[null,"zakaz stosowania zabiegów agrotechnicznych przy użytkowaniu kośno-pastwiskowym"]
[null,"zakaz stosowania zabiegów agrotechnicznych i pielęgnacyjnych od 01-04 do terminu pierwszego pokosu "]
[]
[null,"użytkowanie dwukośne"]
[null,"termin koszenia przy dwóch pokosach w roku: pierwsze koszenie od 15-06 do 15-07"]
[null,"nie dotyczy"]
[null,"termin drugiego pokosu "]
[null,"termin koszenia przy dwóch pokosach w roku: drugie koszenie w terminie od 15-08 do 31-10"]
[null,"nie dotyczy"]
[null,"użytkowanie jednokośne"]
[]
[null,"termin koszenia przy użytkowaniu kośno-pastwiskowym: od 15-06 do 15-07"]
[null,"nie dotyczy"]
[null,"usunięcie biomasy","usunięcie biomasy"]
[null,"w terminie do dwóch tygodni po pokosie biomasa powinna zostać usunięta z działki rolnej lub ułożona w pryzmy, w tym pryzmy balotowe, stogi lub brogi","w terminie do dwóch tygodni po pokosie biomasa powinna zostać usunięta z działki rolnej lub ułożona w pryzmy, w tym pryzmy balotowe, stogi lub brogi [dotyczy niedojadów]"]
[null,"nie zaleca się układania na działce pryzm, stogów lub brogów","nie zaleca się układania na działce pryzm, stogów lub brogów [dotyczy niedojadów]"]
[null,"nie zaleca się układania na działce pryzm","nie zaleca się układania na działce pryzm [dotyczy niedojadów]"]
[]
[null,"brak koszenia na działce poniżej 1,0 ha"]
[null,"działka o powierzchni poniżej 1,0 ha: rezygnacja z pozostawiania fragmentów nieskoszonych – koszenie całej działki rolnej"]
[null,"działka o powierzchni poniżej 1,0 ha: zakaz pozostawiania fragmentów nieskoszonych "]
[null,"działka o powierzchni poniżej 1,0 ha: obowiązek pozostawienia fragmentów nieskoszonych wynoszących 15–20% powierzchni tej działki"]
[]
[null,"fragmenty niekoszone"]
[null,"w dwóch kolejnych latach należy pozostawić inne fragmenty nieskoszone "]
[null,"w każdym roku, w ciągu całego pięcioletniego zobowiązania należy pozostawić inny fragment nieskoszony "]
[]
[null,"usunięcie balotów, pryzm, stogów "]
[null,"usunięcie z działki rolnej biomasy ułożonej w pryzmy, w tym pryzmy balotowe, stogi lub brogi do dnia 01-03 kolejnego roku"]
[]
[null,"dopuszczenie wypasu"]
[null,"zakaz wypasu "]
[null,"wypas dopuszczalny tylko przy użytkowaniu jednokośnym"]
[]
[]
[null,"termin wypasu przy użytkowaniu kośno-pastwiskowym"]
[null,"termin dopuszczalnego wypasu – po pokosie, do 31-10"]
[]
[null,"obsada przy użytkowaniu kośno-pastwiskowym"]
[null,"wypas przy obsadzie od 0,5 do 1,5 DJP/ha gruntów objętych wsparciem w ramach wariantu"]
[]
[null,"zakaz stosowania zabiegów agrotechnicznych przy użytkowaniu pastwiskowym"]
[null,"zakaz stosowania jakichkolwiek zabiegów agrotechnicznych i pielęgnacyjnych od 01-04 do 15-06"]
[]
[null,"termin wypasu przy użytkowaniu pastwiskowym"]
[null,"wypas w terminie od 15-05 do 31-10"]
[]
[null,"termin wypasu przy użytkowaniu pastwiskowym przy obsadzie 0,5 DJP/ha gruntów objętych wsparciem w ramach wariantu"]
[null,"wypas przy obsadzie zwierząt do 0,5 DJP/ha gruntów objętych wsparciem w ramach wariantu, od 15-05 do 15-06"]
[]
[null,"termin wypasu przy użytkowaniu pastwiskowym"]
[null,"wypas przy obsadzie zwierząt od 0,5 do 1,5 DJP/ha gruntów objętych wsparciem w ramach wariantu, po 15-06 do 31-10"]
[]
[null,"wypas hucułów i koników polskich"]
[null,"dopuszczalny wypas koników polskich i koni huculskich przez cały rok"]
[null,"dopuszczalny wypas koników polskich i koni huculskich w terminie od … do …"]
[null,"nie planuje się wypasu koników polskich i koni huculskich"]
[null,"wypas koników polskich i koni huculskich"]
[null,"wypas koników polskich i koni huculskich przy obsadzie zwierząt do 1,5 DJP/ha gruntów objętych wsparciem w ramach wariantu w terminie po 15-06 do 31-03 następnego roku oraz przy obsadzie do 0,5 DJP/ ha w terminie od 01-04 do 15-06"]
[]
[null,"termin koszenia niedojadów"]
[null,"wykoszenie niedojadów w terminie od 15-08 do 15-11"]
[null,"termin wypasu przy użytkowaniu pastwiskowym przy obsadzie 1,5 DJP/ha gruntów objętych wsparciem w ramach wariantu"]
[null,"wypas w terminie od 15-06 do 31-10 "]
[]
[null,"usunięcie balotów, pryzm, stogów ","usunięcie balotów, pryzm, stogów "]
[null,"usunięcie z działki rolnej biomasy ułożonej w pryzmy, w tym pryzmy balotowe, stogi lub brogi do dnia 01-03 kolejnego roku","usunięcie z działki rolnej biomasy ułożonej w pryzmy, w tym pryzmy balotowe, stogi lub brogi do dnia 01-03 kolejnego roku [dotyczy niedojadów]"]
[]
[null,"działki mniejsze niż 1 ha","wypas przy obsadzie zwierząt od 0,5 do 1,5 DJP/ha gruntów objętych wsparciem w ramach wariantu liczonej dla okresu 16-06 do 31-10"]
[null,"oznaczenia działek rolnych: …"]
[null,"nie dotyczy"]
[]
[]
[null," termin koszenia przy użytkowaniu jednokośnym - w odniesieniu do siedlisk o podłożu torfowym: od 15-06 do 31-10"]
[null,"nie dotyczy"]
[]
[null,"w dwóch kolejnych latach należy pozostawić inne fragmenty nieskoszone"]
[]
[null,"wypas przy obsadzie zwierząt do 0,5 DJP/ha gruntów objętych wsparciem w ramach wariantu liczonej od 15-05 do 15-06. "]
[null,"wypas nie będzie prowadzony w terminie do 15.06"]

{"sheet":"P_Wymogi 4.8. RSO(1)","index":40,"n_rows":177,"n_cols":17,"rows_kept":177,"cut":false,"hidden":true,"merged":[[2,5,5,5],[11,2,11,3],[0,1,1,1],[0,2,1,4],[2,1,5,1],[2,2,5,2],[2,3,5,3],[6,2,6,3],[7,2,7,6],[8,2,8,3],[9,2,9,3],[10,2,10,3],[23,0,24,0],[12,2,12,3],[13,2,13,3],[14,2,14,3],[15,2,15,3],[16,2,16,3],[17,2,17,6],[18,1,24,1],[18,2,18,3],[18,4,24,4],[18,5,24,5],[18,6,24,6],[37,2,37,3],[26,2,26,6],[27,2,27,3],[28,2,28,3],[29,2,29,3],[30,2,30,3],[31,2,31,3],[32,2,32,3],[33,2,33,3],[34,2,34,3],[35,2,35,3],[36,2,36,3],[47,0,48,0],[48,2,48,6],[38,2,38,3],[39,2,39,3],[40,1,41,1],[40,4,41,4],[40,5,41,5],[40,6,41,6],[42,2,42,3],[43,2,43,3],[44,2,44,3],[45,2,45,3],[46,2,46,3],[60,2,60,3],[49,2,49,3],[50,2,50,3],[51,2,51,3],[52,2,52,3],[53,2,53,3],[54,2,54,3],[55,2,55,3],[56,2,56,3],[57,2,57,3],[58,2,58,3],[59,2,59,3],[65,2,65,3],[65,5,65,6],[66,2,66,3],[66,5,66,6],[61,2,61,3],[62,2,62,6],[63,2,63,3],[63,5,63,6],[64,2,64,3],[64,5,64,6]]}
[null,"WYMOGI DLA WARIANTU 4.8."," Ochrona siedlisk lęgowych ptaków: rycyka, kszyka, krwawodzioba lub czajki",null,null,null,"Powrót",null,null,null,null,null,null,null,null,"pak4.8.",{"$f":"'P_Zestawienie dzialek'!AG2+1","v":1}]
[null,null,null,null,null,null,null,null,null,null,null,null,null,null,"VBA"]
[null,"WYMOGI DLA WARIANTU 4.8.","Wariant 4.8.","działka RSO:",null,"działki rolne:",null,null,1,null,null,null,null,{"$f":"MATCH(E3,'P_Zestawienie dzialek'!$W$6:$W$110,0)","v":{"$error":"#N/A"}},{"$f":"IFERROR(OFFSET('P_Zestawienie dzialek'!$AB$5,N3,0),\"\")","v":""},{"$f":"VALUE(MID(C3,9,1))","v":4},{"$f":"'P_Zestawienie dzialek'!AG7","v":0}]
[null,null,null,null,null,null,null,null,{"$f":"COUNTA(G4)","v":0},null,null,null,null,{"$f":"MATCH(E4,'P_Zestawienie dzialek'!$W$6:$W$110,0)","v":{"$error":"#N/A"}},{"$f":"IFERROR(OFFSET('P_Zestawienie dzialek'!$AB$5,N4,0),\"\")","v":""},null,{"$f":"'P_Zestawienie dzialek'!AG8","v":0}]
[null,null,null,null,null,null,null,null,{"$f":"COUNTA(G5)","v":0},null,null,null,null,{"$f":"MATCH(E5,'P_Zestawienie dzialek'!$W$6:$W$110,0)","v":{"$error":"#N/A"}},{"$f":"IFERROR(OFFSET('P_Zestawienie dzialek'!$AB$5,N5,0),\"\")","v":""},null,{"$f":"'P_Zestawienie dzialek'!AG9","v":0}]
[null,null,null,null,null,null,null,null,0,null,null,null,null,{"$f":"MATCH(E6,'P_Zestawienie dzialek'!$W$6:$W$110,0)","v":{"$error":"#N/A"}},{"$f":"IFERROR(OFFSET('P_Zestawienie dzialek'!$AB$5,N6,0),\"\")","v":""},null,{"$f":"'P_Zestawienie dzialek'!AG10","v":0}]
[null,"Wymogi z rozporządzenia ws. szczegółowych warunków i trybu przyznawania pomocy finansowej w ramach działania \"Działanie rolno-środowiskowo-klimatyczne\" objętego PROW na lata 2014-2020","Wymogi obowiązujące rolnika lub zarządcę – uszczegółowione wymogi rozporządzenia rolno-środowiskowo-klimatycznego",null,"Zalecenia","Źródło uszczegółowień wymogów","Uzasadnienie uszczegółowień\n i zaleceń",null,1,null,null,null,null,null,null,null,{"$f":"'P_Zestawienie dzialek'!AG11","v":0}]
[null,null," Wymogi obowiązkowe dla wszystkich typów użytkowania",null,null,null,null,null,1,null,null,null,null,null,null,null,{"$f":"'P_Zestawienie dzialek'!$AC12","v":0}]
[null,"zakaz wałowania","zakaz wałowania",null,null,"brak możliwości uszczegółowienia",null,null,1,null,null,null,null,null,null,null,{"$f":"'P_Zestawienie dzialek'!$AC13","v":0}]
[null,"zakaz stosowania komunalnych osadów ściekowych","zakaz stosowania komunalnych osadów ściekowych",null,null,"brak możliwości uszczegółowienia",null,null,1,null,null,null,null,null,null,null,{"$f":"'P_Zestawienie dzialek'!$AC14","v":0}]
[null,"zakaz stosowania podsiewu","zakaz stosowania podsiewu",null,null,"brak możliwości uszczegółowienia",null,null,1,null,null,null,null,null,null,null,{"$f":"'P_Zestawienie dzialek'!$AC15","v":0}]
[null,"zakaz włókowania w okresie od 01-04 do 01-09 na obszarach nizinnych (poniżej 300 m n.p.m.) oraz od 15-04 do 01-09 na obszarach wyżynnych i górskich (powyżej 300 m n.p.m.) ","zakaz włókowania w okresie od 15-04 do 01-09 na obszarach wyżynnych i górskich (powyżej 300 m n.p.m.)",null,null,"brak możliwości uszczegółowienia",null,null,1,null,null,null,null,null,null,null,{"$f":"'P_Zestawienie dzialek'!$AC16","v":0}]
[null,"zakaz stosowania środków ochrony roślin, z wyłączeniem selektywnego i miejscowego niszczenia uciążliwych gatunków inwazyjnych z zastosowaniem odpowiedniego sprzętu (np. mazaczy herbicydowych)",null,null,null,null,null,null,1,null,null,null,null,null,null,null,{"$f":"'P_Zestawienie dzialek'!$AC17","v":0}]
[null,"zakaz tworzenia nowych, rozbudowy i odtwarzania istniejących urządzeń melioracji wodnych, z wyjątkiem konstrukcji urządzeń mających na celu dostosowanie poziomu wód, wykorzystując istniejące urządzenia melioracji wodnych do wymogów siedliskowych gatunków lub siedlisk będących przedmiotem ochrony w danym pakiecie, jeżeli takie działania zostaną dopuszczone przez eksperta przyrodniczego",null,null,null,null,null,null,1,null,null,null,null,null,null,null,{"$f":"'P_Zestawienie dzialek'!$AC18","v":0}]
[null,"zakaz składowania biomasy wśród kęp drzew i zarośli, w rowach, jarach i innych obniżeniach terenu (położonych na działkach zadeklarowanych we wniosku o przyznanie płatności rolno-środowiskowo-klimatycznej)","zakaz składowania biomasy wśród kęp drzew i zarośli, w rowach, jarach i innych obniżeniach terenu (położonych na działkach zadeklarowanych we wniosku o przyznanie płatności rolno-środowiskowo-klimatycznej)",null,null,"brak możliwości uszczegółowienia",null,null,1,null,null,null,null,null,null,null,{"$f":"'P_Zestawienie dzialek'!$AC19","v":0}]
[null,"zakaz wapnowania","zakaz wapnowania",null,null,"brak możliwości uszczegółowienia",null,null,1,null,null,null,null,null,null,null,{"$f":"'P_Zestawienie dzialek'!$AC20","v":0}]
[null,"zakaz mechanicznego niszczenia struktury glebowej w tym bronowania i przeorywania","zakaz mechanicznego niszczenia struktury glebowej w tym bronowania i przeorywania",null,null,"brak możliwości uszczegółowienia",null,null,1,null,null,null,null,null,null,null,{"$f":"'P_Zestawienie dzialek'!$AC21","v":0}]
[null,null,"Rodzaj użytkowania",null,null,null,null,null,1,"past",null,null,null,null,null,null,{"$f":"'P_Zestawienie dzialek'!$AC22","v":0}]
[null,"użytkowanie kośne, pastwiskowe, kośno-pastwiskowe albo naprzemienne; przy czym użytkowanie naprzemienne polega na stosowaniu w niektórych latach użytkowania kośnego, pastwiskowego, a w niektórych latach kośno-pastwiskowego",null,null,null,null,null,null,1,{"$f":"IF(OR(C19=\"pastwiskowe\",C19=0),0,1)","v":0},null,null,null,null,null,null,{"$f":"'P_Zestawienie dzialek'!$AC23","v":0}]
[null,null,{"$f":"P_Dane_ogolne!E4","v":2020},null,null,null,null,null,1,null,null,null,null,null,null,null,{"$f":"'P_Zestawienie dzialek'!$AC24","v":0}]
[null,null,{"$f":"C20+1","v":2021},null,null,null,null,null,1,null,null,null,null,null,null,null,{"$f":"'P_Zestawienie dzialek'!$AC25","v":0}]
[null,null,{"$f":"C21+1","v":2022},null,null,null,null,null,1,null,null,null,null,null,null,null,{"$f":"'P_Zestawienie dzialek'!$AC26","v":0}]
[null,null,2023,null,null,null,null,null,1,null,null,null,null,null,null,null,{"$f":"'P_Zestawienie dzialek'!$AC27","v":0}]
[null,null,2024,null,null,null,null,null,1,null,null,null,null,null,null,null,{"$f":"'P_Zestawienie dzialek'!$AC28","v":0}]
[null,null,2025,null,null,null,null,null,1,null,null,null,null,null,null,null,{"$f":"'P_Zestawienie dzialek'!$AC29","v":0}]
[]
[null,null,"Wymogi obowiązkowe przy użytkowaniu kośnym i kośno-pastwiskowym ",null,null,null,null,null,{"$f":"$J$19","v":0},null,null,null,null,null,null,null,{"$f":"'P_Zestawienie dzialek'!$AC30","v":0}]
[null,"zakaz nawożenia w przypadku użytkowania kośno-pastwiskowego \n\n","zakaz nawożenia w przypadku użytkowania kośno-pastwiskowego \n\n",null,null,"brak możliwości uszczegółowienia",null,null,{"$f":"$J$19","v":0},null,null,null,null,null,null,null,{"$f":"'P_Zestawienie dzialek'!$AC31","v":0}]
[null,"w przypadku użytkowania kośnego dopuszczalne jest ograniczone nawożenie do 60 kg N/ha/rok, z wyłączeniem obszarów nawożonych przez namuły rzeczne\n\n",null,null,null,null,null,null,{"$f":"$J$19","v":0}]
[null,"zakaz stosowania jakichkolwiek zabiegów agrotechnicznych i pielęgnacyjnych w terminie od dnia 01-04 do terminu pierwszego pokosu ","zakaz stosowania zabiegów agrotechnicznych i pielęgnacyjnych od 01-04 do terminu pierwszego pokosu ",null,null,"brak możliwości uszczegółowienia",null,null,0]
[null,"częstotliwość koszenia: dwa pokosy w ciągu roku, a w uzasadnionych przypadkach – użytkowanie jednokośne w odniesieniu do siedlisk o podłożu torfowym, jeżeli ekspert przyrodniczy określi taką konieczność",null,null,null,null,null,null,0]
[null,"termin koszenia przy dwóch pokosach w roku: pierwszy pokos w terminie określonym przez eksperta przyrodniczego, przy czym termin ten rozpoczyna się nie wcześniej niż w dniu 15 czerwca i kończy się nie później niż w dniu 15 lipca",null,null,null,null,null,null,0]
[null,"termin koszenia przy dwóch pokosach w roku: drugi pokos w terminie określonym przez eksperta przyrodniczego, przy czym termin ten rozpoczyna się nie wcześniej niż w dniu 15 sierpnia i kończy się nie później niż w dniu 31 października\n\n",null,null,null,null,null,null,0]
[null,"termin koszenia przy użytkowaniu jednokośnym: przy użytkowaniu kośno-pastwiskowym – koszenie w terminie określonym przez eksperta przyrodniczego, przy czym termin ten rozpoczyna się nie wcześniej niż w dniu 15 czerwca i kończy się nie później niż w dniu 15 lipca\n\n",null,null,null,null,null,null,0]
[null,"przy użytkowaniu kośnym - w odniesieniu do siedlisk o podłożu torfowym jeden pokos w terminie określonym przez eksperta przyrodniczego, przy czym termin ten rozpoczyna się nie wcześniej niż w dniu 15 czerwca i kończy się nie później niż w dniu 31 października, jeżeli ekspert przyrodniczy określi taką konieczność",null,null,null,null,null,null,0]
[null,"obowiązek zebrania i usunięcia skoszonej biomasy","obowiązek zebrania i usunięcia skoszonej biomasy",null,null,"brak możliwości uszczegółowienia",null,null,0]
[null,"zakaz pozostawiania rozdrobnionej biomasy","zakaz pozostawiania rozdrobnionej biomasy",null,null,"brak możliwości uszczegółowienia",null,null,0]
[null,"w terminie do dwóch tygodni po pokosie siano powinno zostać usunięte z działki rolnej lub ułożone w pryzmy, w tym pryzmy balotowe, stogi lub brogi","w terminie do dwóch tygodni po pokosie biomasa powinna zostać usunięta z działki rolnej lub ułożona w pryzmy, w tym pryzmy balotowe, stogi lub brogi",null,null,"brak możliwości uszczegółowienia",null,null,0]
[null,"w przypadku ułożenia biomasy w pryzmy, w tym pryzmy balotowe, stogi lub brogi powinna ona zostać usunięta z działki rolnej nie później niż do dnia 01-03 kolejnego roku","usunięcie z działki rolnej biomasy ułożonej w pryzmy, w tym pryzmy balotowe, stogi lub brogi do dnia 01-03 kolejnego roku",null,null,"brak możliwości uszczegółowienia",null,null,0]
[null,"pozostawienie nieskoszonego fragmentu działki rolnej o powierzchni wynoszącej 15-20% powierzchni tej działki","pozostawienie nieskoszonego fragmentu działki rolnej o powierzchni wynoszącej 15–20% powierzchni tej działki",null,null,"brak możliwości uszczegółowienia",null,null,0]
[null,"dla działek rolnych nieprzekraczających powierzchni 1 ha jest dopuszczalne zrezygnowanie z pozostawiania powierzchni nieskoszonych i koszenie co roku całej działki rolnej lub pozostawienie nieskoszonego fragmentu działki rolnej o powierzchni wynoszącej 15–20% powierzchni tej działki, jeżeli ekspert przyrodniczy dopuści taką możliwość ","działki rolne o powierzchni nieprzekraczającej 1,0 ha, na których jest  dopuszczone pozostawienie fragmentów nieskoszonych wynoszących 15–20% powierzchni tej działki","oznaczenia działek rolnych: …",null,null,null,null,0]
[null,null,"działki rolne o powierzchni nieprzekraczającej 1,0 ha, na których jest zakaz pozostawienia fragmentów nieskoszonych i koszenie co roku całej działki rolnej","nie dotyczy",null,null,null,null,0]
[null,"w przypadku stosowania dwóch pokosów w ciągu roku należy pozostawić te same fragmenty działki rolnej nieskoszone","w przypadku stosowania dwóch pokosów w ciągu roku należy pozostawić te same fragmenty działki rolnej nieskoszone",null,null,"brak możliwości uszczegółowienia",null,null,0]
[null,"w dwóch kolejnych latach należy pozostawić inne fragmenty nieskoszone","w dwóch kolejnych latach należy pozostawić inne fragmenty nieskoszone",null,null,null,null,null,0]
[null,"przy użytkowaniu jednokośnym jest dopuszczalny wypas, jeżeli ekspert przyrodniczy dopuści taką możliwość",null,null,null,null,null,null,0]
[null,"termin dopuszczalnego wypasu – przy użytkowaniu kośno-pastwiskowym – wypas po pokosie w terminie określonym przez eksperta przyrodniczego, przy czym termin ten kończy się nie później niż w dniu 31 października",null,null,null,null,null,null,0]
[null,"wypas przy obsadzie od 0,5 do 1,5 DJP/ha gruntów objętych wsparciem w ramach wariantu\n",null,null,null,null,null,null,0]
[]
[null,null,"Wymogi obowiązkowe przy użytkowaniu pastwiskowym",null,null,null,null,null,{"$f":"IF(J49=TRUE,1,0)","v":0},{"$f":"OR(C19=\"pastwiskowe\",C19=\"naprzemienne\")","v":false}]
[null,"zakaz nawożenia ","zakaz nawożenia ",null,null,"brak możliwości uszczegółowienia",null,null,{"$f":"$I$49","v":0}]
[null,"zakaz stosowania jakichkolwiek zabiegów agrotechnicznych i pielęgnacyjnych w terminie od dnia 01-04 do 15-06","zakaz stosowania jakichkolwiek zabiegów agrotechnicznych i pielęgnacyjnych od 01-04 do 15-06",null,null,"brak możliwości uszczegółowienia",null,null,{"$f":"$I$49","v":0}]
[null,"wypas w terminie określonym przez eksperta przyrodniczego, przy czym termin ten rozpoczyna się\nnie wcześniej niż w dniu 15 maja i kończy się nie później niż w dniu 31 października",null,null,null,null,null,null,0]
[null,"wypas przy obsadzie zwierząt do 0,5 DJP/ha gruntów objętych wsparciem w ramach wariantu w sezonie od 15-05 do 15-06","wypas nie będzie prowadzony w terminie do 15.06",null,null,null,null,null,0]
[null,"wypas przy obsadzie zwierząt od 0,5 do 1,5 DJP/ha gruntów objętych wsparciem w ramach wariantu po 15-06 do 31-10","wypas przy obsadzie zwierząt od 0,5 do 1,5 DJP/ha gruntów objętych wsparciem w ramach wariantu liczonej dla okresu 16-06 do 31-10",null,null,null,null,null,0,{"$f":"IF(C53=\"dopuszczalny wypas koników polskich i koni huculskich przez cały rok\",1,0)","v":0}]
[null,"dopuszczalne jest wypasanie przez cały rok koników polskich i koni huculskich jeżeli ekspert przyrodniczy dopuści taką możliwość",null,null,null,null,null,null,0]
[null,"wypas koników polskich i koni huculskich przy obsadzie zwierząt do 1,5 DJP/ha gruntów objętych wsparciem w ramach wariantu w sezonie po dniu 15-06 do 31-03 oraz przy obsadzie do 0,5 DJP/ ha gruntów objętych wsparciem w ramach wariantu w sezonie od 01-04 do dnia 15-06 ","wypas koników polskich i koni huculskich przy obsadzie zwierząt do 1,5 DJP/ha gruntów objętych wsparciem w ramach wariantu w terminie po 15-06 do 31-03 następnego roku oraz przy obsadzie do 0,5 DJP/ ha w terminie od 01-04 do 15-06",null,null,null,null,null,{"$f":"IF(J56=0,0,$I$49)","v":0},{"$f":"IF(C55=\"nie dotyczy\",0,1)","v":1}]
[null,"obowiązek corocznego wykoszenia niedojadów (raz w roku) ","obowiązek corocznego wykoszenia niedojadów (raz w roku) ",null,null,"brak możliwości uszczegółowienia",null,null,0]
[null,"coroczne wykoszenie niedojadów (raz w roku) w terminie określonym przez eksperta przyrodniczego, przy czym termin ten rozpoczyna się nie wcześniej niż w dniu\n15 sierpnia i kończy się nie później niż w dniu 15 listopada",null,null,null,null,null,null,0]
[null,"obowiązek zebrania i usunięcia skoszonej biomasy – dotyczy niedojadów","obowiązek zebrania i usunięcia skoszonej biomasy – dotyczy niedojadów",null,null,"brak możliwości uszczegółowienia",null,null,0]
[null,"zakaz pozostawiania rozdrobnionej biomasy – dotyczy niedojadów","zakaz pozostawiania rozdrobnionej biomasy – dotyczy niedojadów",null,null,"brak możliwości uszczegółowienia",null,null,0]
[null,"w terminie do dwóch tygodni po pokosie siano powinno zostać usunięte z działki rolnej lub ułożone w pryzmy, w tym pryzmy balotowe, stogi lub brogi – dotyczy niedojadów","w terminie do dwóch tygodni po pokosie biomasa powinna zostać usunięta z działki rolnej lub ułożona w pryzmy, w tym pryzmy balotowe, stogi lub brogi [dotyczy niedojadów]",null,null,"brak możliwości uszczegółowienia",null,null,0]
[null,"w przypadku ułożenia biomasy w pryzmy, w tym pryzmy balotowe, stogi lub brogi powinna ona zostać usunięta z działki rolnej nie później niż do dnia 01-03 kolejnego roku – dotyczy niedojadów","usunięcie z działki rolnej biomasy ułożonej w pryzmy, w tym pryzmy balotowe, stogi lub brogi do dnia 01-03 kolejnego roku [dotyczy niedojadów]",null,null,"brak możliwości uszczegółowienia",null,null,0]
[null,null,"Inne zalecenia wynikajace z PZO/PO lub inne zalecenia ekperta  ",null,null,null,null,null,1]
[null,null,"źródło",null,"opis","uzasadnienie",null,null,1]
[null,null,null,null,null,null,null,null,1]
[null,null,null,null,null,null,null,null,1]
[null,null,null,null,null,null,null,null,1]
[]
[]
[null,"włókowanie","włókowanie"]
[null,"całkowity zakaz włókowania wynikający z działań obligatoryjnych PZO/PO","zaleca się niewykonywanie włókowania "]
[null,"zakaz włókowania w okresie od 15-04 do 01-09 na obszarach wyżynnych i górskich (powyżej 300 m n.p.m.)","zaleca się nie wykonywanie włókowania na obszarach wyżynnych i górskich (powyżej 300 m n.p.m.) w okresie od 15-04 do 01-09"]
[null,"zakaz włókowania w okresie od 01-04 do 01-09 na obszarach nizinnych (poniżej 300 m n.p.m.)","zaleca się nie wykonywanie włókowania na obszarach nizinnych (poniżej 300 m n.p.m.) w okresie od 01-04 do 01-09"]
[]
[null,"stosowanie środków ochrony roślin"]
[null,"zakaz stosowania środków ochrony roślin, z wyłączeniem selektywnego i miejscowego niszczenia uciążliwych gatunków inwazyjnych z zastosowaniem odpowiedniego sprzętu (np. mazaczy herbicydowych)"]
[null,"zakaz stosowania środków ochrony roślin"]
[]
[null,"urządzenia hydrotechniczne "]
[null,"zakaz tworzenia nowych, rozbudowy i odtwarzania istniejących urządzeń melioracji, za wyjątkiem konstrukcji urządzeń mających na celu dostosowanie poziomu wód, wykorzystując istniejące urządzenia melioracji do wymogów siedliskowych gatunków lub siedlisk będących przedmiotem ochrony w pakiecie"]
[null,"zakaz tworzenia nowych, rozbudowy i odtwarzania istniejących urządzeń melioracji"]
[]
[null,"rodzaj użytkowania"]
[null,"kośne","kośne"]
[null,"pastwiskowe","pastwiskowe"]
[null,"kośno-pastwiskowe","kośno-pastwiskowe"]
[null,"naprzemienne","nie dotyczy"]
[null,"nawożenie przy użytkowaniu kośnym","nawożenie przy użytkowaniu kośnym"]
[null,"dopuszczone nawożenie do 60 kg N/ha/rok","w przypadku użytkowania kośnego zakaz nawożenia "]
[null,null,"w przypadku użytkowania kośnego zakaz stosowania nawozów zawierających azot"]
[null,null,"w przypadku użytkowania kośnego dopuszczalne jest ograniczone nawożenie do 60 kg N/ha/rok"]
[]
[null,"częstotliwość koszenia","częstotliwość koszenia"]
[null,"przy użytkowaniu kośnym częstotliwość koszenia: dwa pokosy w roku, ","jeden pokos w roku"]
[null,"przy użytkowaniu kośnym częstotliwość koszenia: jeden pokos w roku (siedlisko o podłożu torfowym)","dwa pokosy w roku"]
[]
[]
[null,"zakaz stosowania zabiegów agrotechnicznych przy użytkowaniu kośno-pastwiskowym"]
[null,"zakaz stosowania zabiegów agrotechnicznych i pielęgnacyjnych od 01-04 do terminu pierwszego pokosu "]
[]
[null,"użytkowanie dwukośne"]
[null,"termin koszenia przy dwóch pokosach w roku: pierwsze koszenie od 15-06 do 15-07"]
[null,"nie dotyczy"]
[null,"termin drugiego pokosu "]
[null,"termin koszenia przy dwóch pokosach w roku: drugie koszenie w terminie od 15-08 do 31-10"]
[null,"nie dotyczy"]
[null,"użytkowanie jednokośne"]
[]
[null,"termin koszenia przy użytkowaniu kośno-pastwiskowym: od 15-06 do 15-07"]
[null,"nie dotyczy"]
[null,"usunięcie biomasy","usunięcie biomasy"]
[null,"w terminie do dwóch tygodni po pokosie biomasa powinna zostać usunięta z działki rolnej lub ułożona w pryzmy, w tym pryzmy balotowe, stogi lub brogi","w terminie do dwóch tygodni po pokosie biomasa powinna zostać usunięta z działki rolnej lub ułożona w pryzmy, w tym pryzmy balotowe, stogi lub brogi [dotyczy niedojadów]"]
[null,"nie zaleca się układania na działce pryzm, stogów lub brogów","nie zaleca się układania na działce pryzm, stogów lub brogów [dotyczy niedojadów]"]
[null,"nie zaleca się układania na działce pryzm","nie zaleca się układania na działce pryzm [dotyczy niedojadów]"]
[]
[null,"brak koszenia na działce poniżej 1,0 ha"]
[null,"działka o powierzchni poniżej 1,0 ha: rezygnacja z pozostawiania fragmentów nieskoszonych – koszenie całej działki rolnej"]
[null,"działka o powierzchni poniżej 1,0 ha: zakaz pozostawiania fragmentów nieskoszonych "]
[null,"działka o powierzchni poniżej 1,0 ha: obowiązek pozostawienia fragmentów nieskoszonych wynoszących 15–20% powierzchni tej działki"]
[]
[null,"fragmenty niekoszone"]
[null,"w dwóch kolejnych latach należy pozostawić inne fragmenty nieskoszone "]
[null,"w każdym roku, w ciągu całego pięcioletniego zobowiązania należy pozostawić inny fragment nieskoszony "]
[]
[null,"usunięcie balotów, pryzm, stogów "]
[null,"usunięcie z działki rolnej biomasy ułożonej w pryzmy, w tym pryzmy balotowe, stogi lub brogi do dnia 01-03 kolejnego roku"]
[]
[null,"dopuszczenie wypasu"]
[null,"zakaz wypasu "]
[null,"wypas dopuszczalny tylko przy użytkowaniu jednokośnym"]
[]
[]
[null,"termin wypasu przy użytkowaniu kośno-pastwiskowym"]
[null,"termin dopuszczalnego wypasu – po pokosie, do 31-10"]
[]
[null,"obsada przy użytkowaniu kośno-pastwiskowym"]
[null,"wypas przy obsadzie od 0,5 do 1,5 DJP/ha gruntów objętych wsparciem w ramach wariantu"]
[]
[null,"zakaz stosowania zabiegów agrotechnicznych przy użytkowaniu pastwiskowym"]
[null,"zakaz stosowania jakichkolwiek zabiegów agrotechnicznych i pielęgnacyjnych od 01-04 do 15-06"]
[]
[null,"termin wypasu przy użytkowaniu pastwiskowym"]
[null,"wypas w terminie od 15-05 do 31-10"]
[]
[null,"termin wypasu przy użytkowaniu pastwiskowym przy obsadzie 0,5 DJP/ha gruntów objętych wsparciem w ramach wariantu"]
[null,"wypas przy obsadzie zwierząt do 0,5 DJP/ha gruntów objętych wsparciem w ramach wariantu, od 15-05 do 15-06"]
[]
[null,"termin wypasu przy użytkowaniu pastwiskowym"]
[null,"wypas przy obsadzie zwierząt od 0,5 do 1,5 DJP/ha gruntów objętych wsparciem w ramach wariantu, po 15-06 do 31-10"]
[]
[null,"wypas hucułów i koników polskich"]
[null,"dopuszczalny wypas koników polskich i koni huculskich przez cały rok"]
[null,"dopuszczalny wypas koników polskich i koni huculskich w terminie od … do …"]
[null,"nie planuje się wypasu koników polskich i koni huculskich"]
[null,"wypas koników polskich i koni huculskich"]
[null,"wypas koników polskich i koni huculskich przy obsadzie zwierząt do 1,5 DJP/ha gruntów objętych wsparciem w ramach wariantu w terminie po 15-06 do 31-03 następnego roku oraz przy obsadzie do 0,5 DJP/ ha w terminie od 01-04 do 15-06"]
[]
[null,"termin koszenia niedojadów"]
[null,"wykoszenie niedojadów w terminie od 15-08 do 15-11"]
[null,"termin wypasu przy użytkowaniu pastwiskowym przy obsadzie 1,5 DJP/ha gruntów objętych wsparciem w ramach wariantu"]
[null,"wypas w terminie od 15-06 do 31-10 "]
[]
[null,"usunięcie balotów, pryzm, stogów ","usunięcie balotów, pryzm, stogów "]
[null,"usunięcie z działki rolnej biomasy ułożonej w pryzmy, w tym pryzmy balotowe, stogi lub brogi do dnia 01-03 kolejnego roku","usunięcie z działki rolnej biomasy ułożonej w pryzmy, w tym pryzmy balotowe, stogi lub brogi do dnia 01-03 kolejnego roku [dotyczy niedojadów]"]
[]
[null,"działki mniejsze niż 1 ha","wypas przy obsadzie zwierząt od 0,5 do 1,5 DJP/ha gruntów objętych wsparciem w ramach wariantu liczonej dla okresu 16-06 do 31-10"]
[null,"oznaczenia działek rolnych: …"]
[null,"nie dotyczy"]
[]
[]
[null," termin koszenia przy użytkowaniu jednokośnym - w odniesieniu do siedlisk o podłożu torfowym: od 15-06 do 31-10"]
[null,"nie dotyczy"]
[]
[null,"w dwóch kolejnych latach należy pozostawić inne fragmenty nieskoszone"]
[]
[null,"wypas przy obsadzie zwierząt do 0,5 DJP/ha gruntów objętych wsparciem w ramach wariantu liczonej od 15-05 do 15-06. "]
[null,"wypas nie będzie prowadzony w terminie do 15.06"]

{"sheet":"PW48","index":41,"n_rows":0,"n_cols":0,"rows_kept":0,"cut":false,"hidden":true,"merged":[]}

{"sheet":"P_Wymogi 4.9. RSO(0)","index":42,"n_rows":125,"n_cols":17,"rows_kept":125,"cut":false,"hidden":true,"merged":[[60,2,60,3],[60,5,60,6],[61,2,61,3],[61,5,61,6],[62,2,62,3],[62,5,62,6],[55,2,55,3],[56,2,56,3],[57,2,57,3],[58,2,58,6],[59,2,59,3],[59,5,59,6],[40,4,46,4],[40,5,46,5],[40,6,46,6],[47,2,47,3],[48,2,48,3],[48,4,54,4],[48,5,54,5],[48,6,54,6],[40,1,46,1],[40,2,40,3],[27,2,27,3],[28,1,34,1],[28,2,28,3],[35,2,35,3],[36,2,36,3],[37,2,37,3],[38,2,38,3],[39,2,39,3],[28,4,34,4],[28,5,34,5],[28,6,34,6],[18,2,18,6],[19,2,19,3],[19,4,25,4],[19,5,25,5],[19,6,25,6],[26,2,26,6],[17,2,17,3],[6,2,6,3],[7,2,7,6],[8,2,8,3],[9,2,9,3],[10,2,10,3],[11,2,11,3],[12,2,12,3],[13,2,13,3],[14,2,14,3],[15,2,15,3],[16,2,16,3],[2,5,5,5],[0,1,1,1],[0,2,1,4],[2,1,5,1],[2,2,5,2],[2,3,5,3]]}
[null,"WYMOGI DLA WARIANTU 4.9.","Ochrona siedlisk lęgowych ptaków: wodniczki",null,null,null,"Powrót",null,null,null,null,null,null,null,null,"pak4.9.",{"$f":"'P_Zestawienie dzialek'!AH2+1","v":1}]
[null,null,null,null,null,null,null,null,null,null,null,null,null,null,"VBA"]
[null,"WYMOGI DLA WARIANTU 4.9.","Wariant 4.9.","działka RSO:",null,"działki rolne:",null,null,1,null,null,null,null,{"$f":"MATCH(E3,'P_Zestawienie dzialek'!$W$6:$W$110,0)","v":{"$error":"#N/A"}},{"$f":"IFERROR(OFFSET('P_Zestawienie dzialek'!$AB$5,N3,0),\"\")","v":""},{"$f":"VALUE(MID(C3,9,1))","v":4},{"$f":"'P_Zestawienie dzialek'!AH7","v":0}]
[null,null,null,null,null,null,null,null,{"$f":"COUNTA(G4)","v":0},null,null,null,null,{"$f":"MATCH(E4,'P_Zestawienie dzialek'!$W$6:$W$110,0)","v":{"$error":"#N/A"}},{"$f":"IFERROR(OFFSET('P_Zestawienie dzialek'!$AB$5,N4,0),\"\")","v":""},null,{"$f":"'P_Zestawienie dzialek'!AH8","v":0}]
[null,null,null,null,null,null,null,null,{"$f":"COUNTA(G5)","v":0},null,null,null,null,{"$f":"MATCH(E5,'P_Zestawienie dzialek'!$W$6:$W$110,0)","v":{"$error":"#N/A"}},{"$f":"IFERROR(OFFSET('P_Zestawienie dzialek'!$AB$5,N5,0),\"\")","v":""},null,{"$f":"'P_Zestawienie dzialek'!AH9","v":0}]
[null,null,null,null,null,null,null,null,0,null,null,null,null,{"$f":"MATCH(E6,'P_Zestawienie dzialek'!$W$6:$W$110,0)","v":{"$error":"#N/A"}},{"$f":"IFERROR(OFFSET('P_Zestawienie dzialek'!$AB$5,N6,0),\"\")","v":""},null,{"$f":"'P_Zestawienie dzialek'!AH10","v":0}]
[null,"Wymogi z rozporządzenia ws. szczegółowych warunków i trybu przyznawania pomocy finansowej w ramach działania \"Działanie rolno-środowiskowo-klimatyczne\" objętego PROW na lata 2014-2020","Wymogi obowiązujące rolnika lub zarządcę – uszczegółowione wymogi rozporządzenia rolno-środowiskowo-klimatycznego",null,"Zalecenia","Źródło uszczegółowień wymogów","Uzasadnienie uszczegółowień\n i zaleceń",null,1,null,null,null,null,null,null,null,{"$f":"'P_Zestawienie dzialek'!AH11","v":0}]
[null,null," Wymogi obowiązkowe dla wszystkich typów użytkowania",null,null,null,null,null,1,null,null,null,null,null,null,null,{"$f":"'P_Zestawienie dzialek'!AH12","v":0}]
[null,"zakaz wałowania","zakaz wałowania",null,null,"brak możliwości uszczegółowienia",null,null,1,null,null,null,null,null,null,null,{"$f":"'P_Zestawienie dzialek'!AH13","v":0}]
[null,"zakaz stosowania komunalnych osadów ściekowych","zakaz stosowania komunalnych osadów ściekowych",null,null,"brak możliwości uszczegółowienia",null,null,1,null,null,null,null,null,null,null,{"$f":"'P_Zestawienie dzialek'!AH14","v":0}]
[null,"zakaz stosowania podsiewu","zakaz stosowania podsiewu",null,null,"brak możliwości uszczegółowienia",null,null,1,null,null,null,null,null,null,null,{"$f":"'P_Zestawienie dzialek'!AH15","v":0}]
[null,"zakaz włókowania w okresie od 01-04 do 01-09 na obszarach nizinnych (poniżej 300 m n.p.m.) oraz od 15-04 do 01-09 na obszarach wyżynnych i górskich (powyżej 300 m n.p.m.) ",null,null,null,"brak możliwości uszczegółowienia",null,null,1,null,null,null,null,null,null,null,{"$f":"'P_Zestawienie dzialek'!AH16","v":0}]
[null,"zakaz stosowania środków ochrony roślin, z wyłączeniem selektywnego i miejscowego niszczenia uciążliwych gatunków inwazyjnych z zastosowaniem odpowiedniego sprzętu (np. mazaczy herbicydowych)\n\n\n\n\n",null,null,null,null,null,null,1,null,null,null,null,null,null,null,{"$f":"'P_Zestawienie dzialek'!AH17","v":0}]
[null,"zakaz tworzenia nowych, rozbudowy i odtwarzania istniejących urządzeń melioracji wodnych, z wyjątkiem konstrukcji urządzeń mających na celu dostosowanie poziomu wód, wykorzystując istniejące urządzenia melioracji wodnych do wymogów siedliskowych gatunków lub siedlisk będących przedmiotem ochrony w danym pakiecie, jeżeli takie działania zostaną dopuszczone przez eksperta przyrodniczego",null,null,null,null,null,null,1,null,null,null,null,null,null,null,{"$f":"'P_Zestawienie dzialek'!AH18","v":0}]
[null,"zakaz składowania biomasy wśród kęp drzew i zarośli, w rowach, jarach i innych obniżeniach terenu (położonych na działkach zadeklarowanych we wniosku o przyznanie płatności rolno-środowiskowo-klimatycznej)","zakaz składowania biomasy wśród kęp drzew i zarośli, w rowach, jarach i innych obniżeniach terenu (położonych na działkach zadeklarowanych we wniosku o przyznanie płatności rolno-środowiskowo-klimatycznej)",null,null,"brak możliwości uszczegółowienia",null,null,1,null,null,null,null,null,null,null,{"$f":"'P_Zestawienie dzialek'!AH19","v":0}]
[null,"zakaz nawożenia","zakaz nawożenia",null,null,"brak możliwości uszczegółowienia",null,null,1,null,null,null,null,null,null,null,{"$f":"'P_Zestawienie dzialek'!AH20","v":0}]
[null,"zakaz wapnowania","zakaz wapnowania",null,null,"brak możliwości uszczegółowienia",null,null,1,null,null,null,null,null,null,null,{"$f":"'P_Zestawienie dzialek'!AH21","v":0}]
[null,"zakaz mechanicznego niszczenia struktury glebowej, w tym bronowania i przeorywania","zakaz mechanicznego niszczenia struktury glebowej w tym bronowania i przeorywania",null,null,"brak możliwości uszczegółowienia",null,null,1,null,null,null,null,null,null,null,{"$f":"'P_Zestawienie dzialek'!AH22","v":0}]
[null,null,"Rodzaj użytkowania",null,null,null,null,null,1,"kos",null,null,null,null,null,null,{"$f":"'P_Zestawienie dzialek'!AH23","v":0}]
[null,"użytkowanie kośne, kośno-pastwiskowe albo naprzemienne; przy czym użytkowanie naprzemienne polega na stosowaniu w niektórych latach użytkowania kośnego, a w niektórych latach kośno-pastwiskowego",null,null,null,null,null,null,1,{"$f":"IF(C20<>0,1,0)","v":0},null,null,null,null,null,null,{"$f":"'P_Zestawienie dzialek'!AH24","v":0}]
[null,null,{"$f":"P_Dane_ogolne!E4","v":2020},null,null,null,null,null,1,null,null,null,null,null,null,null,{"$f":"'P_Zestawienie dzialek'!AH25","v":0}]
[null,null,{"$f":"C21+1","v":2021},null,null,null,null,null,1,null,null,null,null,null,null,null,{"$f":"'P_Zestawienie dzialek'!AH26","v":0}]
[null,null,{"$f":"C22+1","v":2022},null,null,null,null,null,1,null,null,null,null,null,null,null,{"$f":"'P_Zestawienie dzialek'!AH27","v":0}]
[null,null,2023,null,null,null,null,null,1,null,null,null,null,null,null,null,{"$f":"'P_Zestawienie dzialek'!AH28","v":0}]
[null,null,2024,null,null,null,null,null,1,null,null,null,null,null,null,null,{"$f":"'P_Zestawienie dzialek'!AH29","v":0}]
[null,null,2025]
[null,null,"Wymogi obowiązkowe przy użytkowaniu kośnym i kośno-pastwiskowym ",null,null,null,null,null,{"$f":"$J$20","v":0},null,null,null,null,null,null,null,{"$f":"'P_Zestawienie dzialek'!$AC30","v":0}]
[null,"zakaz stosowania jakichkolwiek zabiegów agrotechnicznych i pielęgnacyjnych w terminie od dnia 01-04 do terminu pierwszego pokosu ","zakaz stosowania jakichkolwiek zabiegów agrotechnicznych i pielęgnacyjnych w terminie od dnia 01-04 do terminu pierwszego pokosu ",null,null,"brak możliwości uszczegółowienia",null,null,{"$f":"$J$20","v":0},null,null,null,null,null,null,null,{"$f":"'P_Zestawienie dzialek'!$AC31","v":0}]
[null,"częstotliwość koszenia: jeden pokos w roku lub koszenie całej powierzchni działki rolnej co dwa lata (wyłącznie w przypadku, jeżeli ekspert przyrodniczy określił taką konieczność)","częstotliwość koszenia: jeden pokos w roku ",null,null,null,null,null,{"$f":"$J$20","v":0}]
[null,null,{"$f":"C21","v":2020},null,null,null,null,null,0]
[null,null,{"$f":"C30+1","v":2021},null,null,null,null,null,0]
[null,null,{"$f":"C31+1","v":2022},null,null,null,null,null,0]
[null,null,2023,null,null,null,null,null,0]
[null,null,2024,null,null,null,null,null,0]
[null,null,2025,null,null,null,null,null,0]
[null,"koszenie w terminie określonym przez eksperta przyrodniczego, przy czym termin ten rozpoczyna się\nnie wcześniej niż w dniu 15 sierpnia i kończy się nie później niż w dniu 15 lutego kolejnego roku",null,null,null,null,null,null,0]
[null,"obowiązek zebrania i usunięcia skoszonej biomasy","obowiązek zebrania i usunięcia skoszonej biomasy",null,null,"brak możliwości uszczegółowienia",null,null,0]
[null,"zakaz pozostawiania rozdrobnionej biomasy","zakaz pozostawiania rozdrobnionej biomasy",null,null,"brak możliwości uszczegółowienia",null,null,0]
[null,"w terminie do dwóch tygodni po pokosie biomasa  powinna zostać usunięta z działki rolnej lub ułożona w pryzmy, w tym pryzmy balotowe, stogi lub brogi","w terminie do dwóch tygodni po pokosie biomasa powinna zostać usunięta z działki rolnej lub ułożona w pryzmy, w tym pryzmy balotowe, stogi lub brogi",null,null,"brak możliwości uszczegółowienia",null,null,0]
[null,"w przypadku ułożenia biomasy w pryzmy, w tym pryzmy balotowe, stogi lub brogi powinna ona zostać usunięta z działki rolnej nie później niż do dnia 01-03 kolejnego roku","usunięcie z działki rolnej biomasy ułożonej w pryzmy, w tym pryzmy balotowe, stogi lub brogi do dnia 01-03 kolejnego roku",null,null,"brak możliwości uszczegółowienia",null,null,0]
[null,"w przypadku corocznego koszenia: pozostawienie nieskoszonego fragmentu działki rolnej o powierzchni wynoszącej od 15 do 85% powierzchni tej działki (procent powierzchni nieskoszonej określony przez eksperta przyrodniczego w dokumentacji przyrodniczej); przy czym gdy w danym roku powierzchnia nieskoszonego fragmentu działki rolnej określona przez eksperta przyrodniczego jest większa niż powierzchnia fragmentu tej działki skoszonego w poprzednim roku, w danym roku należy pozostawić nieskoszony fragment tej działki, który obejmuje w całości również ten jej fragment, który został skoszony w poprzednim roku\n\n","w przypadku corocznego koszenia: pozostawienie nieskoszonego fragmentu działki rolnej o powierzchni od 15% do 85% powierzchni tej działki",null,null,null,null,null,0]
[null,null,{"$f":"C30","v":2020},null,null,null,null,null,0]
[null,null,{"$f":"C42+1","v":2021},null,null,null,null,null,0]
[null,null,{"$f":"C43+1","v":2022},null,null,null,null,null,0]
[null,null,2023,null,null,null,null,null,0]
[null,null,2024,null,null,null,null,null,0]
[null,null,2025,null,null,null,null,null,0]
[null,"w przypadku corocznego koszenia: w dwóch kolejnych latach należy pozostawić inne fragmenty nieskoszone, ","w przypadku corocznego koszenia: w dwóch kolejnych latach należy pozostawić inne fragmenty nieskoszone",null,null,null,null,null,0]
[null,"dopuszczalny jest wypas zarówno w latach kiedy jest pokos (przed pokosem lub po pokosie), jak i w latach kiedy nie ma pokosu, jeżeli ekspert przyrodniczy dopuści taką możliwość ",null,null,null,null,null,null,0]
[null,null,{"$f":"C42","v":2020},"nie dotyczy",null,null,null,null,0]
[null,null,{"$f":"C50+1","v":2021},null,null,null,null,null,0]
[null,null,{"$f":"C51+1","v":2022},null,null,null,null,null,0]
[null,null,2023,null,null,null,null,null,0]
[null,null,2024,null,null,null,null,null,0,{"$f":"IF(C53=\"dopuszczalny wypas koników polskich i koni huculskich przez cały rok\",1,0)","v":0}]
[null,null,2025,null,null,null,null,null,0]
[null,"przy użytkowaniu kośno-pastwiskowym – wypas w terminie określonym przez eksperta przyrodniczego,\nprzy czym termin ten rozpoczyna się nie wcześniej niż w dniu 15 maja i kończy się nie później niż\nw dniu 31 października","wypas w terminie od 15-05 do 31-10 ",null,null,null,null,null,0]
[null,"dopuszczalny wypas przy obsadzie zwierząt do 0,5 DJP/ha gruntach objętych wsparciem w ramach wariantu, w terminie od 15-05 do 31-07 \n",null,null,null,null,null,null,0]
[null,"dopuszczalny wypas przy obsadzie zwierząt do 1 DJP/ha gruntów objętych wsparciem w ramach wariantu, w terminie od 01-08 do 31-10 ",null,null,null,null,null,null,0]
[null,null,"Inne zalecenia wynikajace z PZO/PO lub inne zalecenia ekperta  ",null,null,null,null,null,1]
[null,null,"źródło",null,"opis","uzasadnienie",null,null,1]
[null,null,null,null,null,null,null,null,1]
[null,null,null,null,null,null,null,null,1]
[null,null,null,null,null,null,null,null,1]
[null,null,null,null,null,null,null,null,1]
[null,"włókowanie","włókowanie",null,null,null,null,null,1]
[null,"całkowity zakaz włókowania wynikający z działań obligatoryjnych PZO/PO","zaleca się niewykonywanie włókowania ",null,null,null,null,null,1]
[null,"zakaz włókowania w okresie od 15-04 do 01-09 na obszarach wyżynnych i górskich (powyżej 300 m n.p.m.)","zaleca się nie wykonywanie włókowania na obszarach wyżynnych i górskich (powyżej 300 m n.p.m.) w okresie od 15-04 do 01-09",null,null,null,null,null,1]
[null,"zakaz włókowania w okresie od 01-04 do 01-09 na obszarach nizinnych (poniżej 300 m n.p.m.)","zaleca się nie wykonywanie włókowania na obszarach nizinnych (poniżej 300 m n.p.m.) w okresie od 01-04 do 01-09"]
[]
[null,"stosowanie środków ochrony roślin"]
[null,"zakaz stosowania środków ochrony roślin, z wyłączeniem selektywnego i miejscowego niszczenia uciążliwych gatunków inwazyjnych z zastosowaniem odpowiedniego sprzętu (np. mazaczy herbicydowych)"]
[null,"zakaz stosowania środków ochrony roślin"]
[]
[null,"urządzenia hydrotechniczne "]
[null,"zakaz tworzenia nowych, rozbudowy i odtwarzania istniejących urządzeń melioracji, za wyjątkiem konstrukcji urządzeń mających na celu dostosowanie poziomu wód, wykorzystując istniejące urządzenia melioracji do wymogów siedliskowych gatunków lub siedlisk będących przedmiotem ochrony w pakiecie"]
[null,"zakaz tworzenia nowych, rozbudowy i odtwarzania istniejących urządzeń melioracji"]
[]
[null,"usunięcie biomasy"]
[null,"w terminie do dwóch tygodni po pokosie biomasa  powinna zostać usunięta z działki rolnej lub ułożona w pryzmy, w tym pryzmy balotowe, stogi lub brogi"]
[null,"nie zaleca się układania na działce pryzm, stogów lub brogów"]
[null,"nie zaleca się układania na działce pryzm"]
[]
[null,"rodzaj użytkowania"]
[null,"kośne"]
[null,"kośno-pastwiskowe "]
[null,"naprzemienne"]
[null,"zakaz stosowania zabiegów agrotechnicznych przy użytkowaniu kośno-pastwiskowym"]
[null,"zakaz stosowania jakichkolwiek zabiegów agrotechnicznych i pielęgnacyjnych od 01-04 do terminu pierwszego pokosu "]
[]
[null,"częstość koszenia","częstość koszenia w latach "]
[null,"częstotliwość koszenia: jeden pokos w roku ","jeden pokos"]
[null,"częstotliwość koszenia: koszenie całej powierzchni działki rolnej co dwa lata","brak pokosu"]
[null,"częstotliwość koszenia: jeden pokos w roku lub koszenie całej powierzchni działki rolnej co dwa lata","nie dotyczy "]
[]
[null,"fragmenty niekoszone"]
[null,"w przypadku corocznego koszenia – w dwóch kolejnych latach należy pozostawić inne fragmenty nieskoszone "]
[null,"w przypadku corocznego koszenia: w każdym roku, w ciągu całego pięcioletniego zobowiązania należy pozostawić inny fragment nieskoszony "]
[]
[null,"termin koszenia"]
[null,"koszenie w terminie od 15-08 do 15-02 kolejnego roku"]
[]
[null,"fragmenty niekoszone"]
[null,"w przypadku corocznego koszenia: pozostawienie nieskoszonego fragmentu działki rolnej o powierzchni od 15% do 85% powierzchni tej działki","pozostawienie od … do ...% działki nieskoszonej"]
[null,null,"nie dotyczy"]
[null,"dopuszczenie wypasu"]
[null,"zakaz wypasu"]
[null,"wypas dopuszczalny"]
[null,"nie dotyczy"]
[null,"termin wypasu przy użytkowania kośno-pastwiskowym"]
[null,"wypas w terminie od 15-05 do 31-10 "]
[]
[null,"wypas przy użytkowaniu kośno-pastw przy obsadzie 0,5 DJP/ha gruntów objętych wsparciem w ramach wariantu"]
[null,"wypas przy obsadzie zwierząt do 0,5 DJP/ha gruntów objętych wsparciem w ramach wariantu, od 15-05 do 31-07"]
[]
[]
[null,"obsada przy użytkowaniu kośno-pastwiskowym"]
[null,"wypas przy obsadzie zwierząt do 1 DJP/ha gruntów objętych wsparciem w ramach wariantu, w terminie od 01-08 do 31-10 "]
[]
[null,"usunięcie balotów, pryzm, stogów "]
[null,"usunięcie z działki rolnej biomasy ułożonej w pryzmy, w tym pryzmy balotowe, stogi lub brogi do dnia 01-03 kolejnego roku"]
[]
[]
[]
[null,"wypas przy obsadzie zwierząt do 1 DJP/ha gruntów objętych wsparciem w ramach wariantu liczonej dla okresu od 01-08 do 31-10 "]
[null,"wypas nie będzie prowadzony w terminie do 31.07"]

{"sheet":"P_Wymogi 4.9. RSO(1)","index":43,"n_rows":125,"n_cols":17,"rows_kept":125,"cut":false,"hidden":true,"merged":[[2,5,5,5],[0,1,1,1],[0,2,1,4],[2,1,5,1],[2,2,5,2],[2,3,5,3],[17,2,17,3],[6,2,6,3],[7,2,7,6],[8,2,8,3],[9,2,9,3],[10,2,10,3],[11,2,11,3],[12,2,12,3],[13,2,13,3],[14,2,14,3],[15,2,15,3],[16,2,16,3],[18,2,18,6],[19,2,19,3],[19,4,25,4],[19,5,25,5],[19,6,25,6],[26,2,26,6],[27,2,27,3],[28,1,34,1],[28,2,28,3],[28,4,34,4],[28,5,34,5],[28,6,34,6],[40,1,46,1],[40,2,40,3],[35,2,35,3],[36,2,36,3],[37,2,37,3],[38,2,38,3],[39,2,39,3],[55,2,55,3],[40,4,46,4],[40,5,46,5],[40,6,46,6],[47,2,47,3],[48,2,48,3],[48,4,54,4],[48,5,54,5],[48,6,54,6],[56,2,56,3],[57,2,57,3],[58,2,58,6],[59,2,59,3],[59,5,59,6],[60,2,60,3],[60,5,60,6],[61,2,61,3],[61,5,61,6],[62,2,62,3],[62,5,62,6]]}
[null,"WYMOGI DLA WARIANTU 4.9.","Ochrona siedlisk lęgowych ptaków: wodniczki",null,null,null,"Powrót",null,null,null,null,null,null,null,null,"pak4.9.",{"$f":"'P_Zestawienie dzialek'!AH2+1","v":1}]
[null,null,null,null,null,null,null,null,null,null,null,null,null,null,"VBA"]
[null,"WYMOGI DLA WARIANTU 4.9.","Wariant 4.9.","działka RSO:",null,"działki rolne:",null,null,1,null,null,null,null,{"$f":"MATCH(E3,'P_Zestawienie dzialek'!$W$6:$W$110,0)","v":{"$error":"#N/A"}},{"$f":"IFERROR(OFFSET('P_Zestawienie dzialek'!$AB$5,N3,0),\"\")","v":""},{"$f":"VALUE(MID(C3,9,1))","v":4},{"$f":"'P_Zestawienie dzialek'!AH7","v":0}]
[null,null,null,null,null,null,null,null,{"$f":"COUNTA(G4)","v":0},null,null,null,null,{"$f":"MATCH(E4,'P_Zestawienie dzialek'!$W$6:$W$110,0)","v":{"$error":"#N/A"}},{"$f":"IFERROR(OFFSET('P_Zestawienie dzialek'!$AB$5,N4,0),\"\")","v":""},null,{"$f":"'P_Zestawienie dzialek'!AH8","v":0}]
[null,null,null,null,null,null,null,null,{"$f":"COUNTA(G5)","v":0},null,null,null,null,{"$f":"MATCH(E5,'P_Zestawienie dzialek'!$W$6:$W$110,0)","v":{"$error":"#N/A"}},{"$f":"IFERROR(OFFSET('P_Zestawienie dzialek'!$AB$5,N5,0),\"\")","v":""},null,{"$f":"'P_Zestawienie dzialek'!AH9","v":0}]
[null,null,null,null,null,null,null,null,0,null,null,null,null,{"$f":"MATCH(E6,'P_Zestawienie dzialek'!$W$6:$W$110,0)","v":{"$error":"#N/A"}},{"$f":"IFERROR(OFFSET('P_Zestawienie dzialek'!$AB$5,N6,0),\"\")","v":""},null,{"$f":"'P_Zestawienie dzialek'!AH10","v":0}]
[null,"Wymogi z rozporządzenia ws. szczegółowych warunków i trybu przyznawania pomocy finansowej w ramach działania \"Działanie rolno-środowiskowo-klimatyczne\" objętego PROW na lata 2014-2020","Wymogi obowiązujące rolnika lub zarządcę – uszczegółowione wymogi rozporządzenia rolno-środowiskowo-klimatycznego",null,"Zalecenia","Źródło uszczegółowień wymogów","Uzasadnienie uszczegółowień\n i zaleceń",null,1,null,null,null,null,null,null,null,{"$f":"'P_Zestawienie dzialek'!AH11","v":0}]
[null,null," Wymogi obowiązkowe dla wszystkich typów użytkowania",null,null,null,null,null,1,null,null,null,null,null,null,null,{"$f":"'P_Zestawienie dzialek'!AH12","v":0}]
[null,"zakaz wałowania","zakaz wałowania",null,null,"brak możliwości uszczegółowienia",null,null,1,null,null,null,null,null,null,null,{"$f":"'P_Zestawienie dzialek'!AH13","v":0}]
[null,"zakaz stosowania komunalnych osadów ściekowych","zakaz stosowania komunalnych osadów ściekowych",null,null,"brak możliwości uszczegółowienia",null,null,1,null,null,null,null,null,null,null,{"$f":"'P_Zestawienie dzialek'!AH14","v":0}]
[null,"zakaz stosowania podsiewu","zakaz stosowania podsiewu",null,null,"brak możliwości uszczegółowienia",null,null,1,null,null,null,null,null,null,null,{"$f":"'P_Zestawienie dzialek'!AH15","v":0}]
[null,"zakaz włókowania w okresie od 01-04 do 01-09 na obszarach nizinnych (poniżej 300 m n.p.m.) oraz od 15-04 do 01-09 na obszarach wyżynnych i górskich (powyżej 300 m n.p.m.) ",null,null,null,"brak możliwości uszczegółowienia",null,null,1,null,null,null,null,null,null,null,{"$f":"'P_Zestawienie dzialek'!AH16","v":0}]
[null,"zakaz stosowania środków ochrony roślin, z wyłączeniem selektywnego i miejscowego niszczenia uciążliwych gatunków inwazyjnych z zastosowaniem odpowiedniego sprzętu (np. mazaczy herbicydowych)\n\n\n\n\n",null,null,null,null,null,null,1,null,null,null,null,null,null,null,{"$f":"'P_Zestawienie dzialek'!AH17","v":0}]
[null,"zakaz tworzenia nowych, rozbudowy i odtwarzania istniejących urządzeń melioracji wodnych, z wyjątkiem konstrukcji urządzeń mających na celu dostosowanie poziomu wód, wykorzystując istniejące urządzenia melioracji wodnych do wymogów siedliskowych gatunków lub siedlisk będących przedmiotem ochrony w danym pakiecie, jeżeli takie działania zostaną dopuszczone przez eksperta przyrodniczego",null,null,null,null,null,null,1,null,null,null,null,null,null,null,{"$f":"'P_Zestawienie dzialek'!AH18","v":0}]
[null,"zakaz składowania biomasy wśród kęp drzew i zarośli, w rowach, jarach i innych obniżeniach terenu (położonych na działkach zadeklarowanych we wniosku o przyznanie płatności rolno-środowiskowo-klimatycznej)","zakaz składowania biomasy wśród kęp drzew i zarośli, w rowach, jarach i innych obniżeniach terenu (położonych na działkach zadeklarowanych we wniosku o przyznanie płatności rolno-środowiskowo-klimatycznej)",null,null,"brak możliwości uszczegółowienia",null,null,1,null,null,null,null,null,null,null,{"$f":"'P_Zestawienie dzialek'!AH19","v":0}]
[null,"zakaz nawożenia","zakaz nawożenia",null,null,"brak możliwości uszczegółowienia",null,null,1,null,null,null,null,null,null,null,{"$f":"'P_Zestawienie dzialek'!AH20","v":0}]
[null,"zakaz wapnowania","zakaz wapnowania",null,null,"brak możliwości uszczegółowienia",null,null,1,null,null,null,null,null,null,null,{"$f":"'P_Zestawienie dzialek'!AH21","v":0}]
[null,"zakaz mechanicznego niszczenia struktury glebowej, w tym bronowania i przeorywania","zakaz mechanicznego niszczenia struktury glebowej w tym bronowania i przeorywania",null,null,"brak możliwości uszczegółowienia",null,null,1,null,null,null,null,null,null,null,{"$f":"'P_Zestawienie dzialek'!AH22","v":0}]
[null,null,"Rodzaj użytkowania",null,null,null,null,null,1,"kos",null,null,null,null,null,null,{"$f":"'P_Zestawienie dzialek'!AH23","v":0}]
[null,"użytkowanie kośne, kośno-pastwiskowe albo naprzemienne; przy czym użytkowanie naprzemienne polega na stosowaniu w niektórych latach użytkowania kośnego, a w niektórych latach kośno-pastwiskowego",null,null,null,null,null,null,1,{"$f":"IF(C20<>0,1,0)","v":0},null,null,null,null,null,null,{"$f":"'P_Zestawienie dzialek'!AH24","v":0}]
[null,null,{"$f":"P_Dane_ogolne!E4","v":2020},null,null,null,null,null,1,null,null,null,null,null,null,null,{"$f":"'P_Zestawienie dzialek'!AH25","v":0}]
[null,null,{"$f":"C21+1","v":2021},null,null,null,null,null,1,null,null,null,null,null,null,null,{"$f":"'P_Zestawienie dzialek'!AH26","v":0}]
[null,null,{"$f":"C22+1","v":2022},null,null,null,null,null,1,null,null,null,null,null,null,null,{"$f":"'P_Zestawienie dzialek'!AH27","v":0}]
[null,null,2023,null,null,null,null,null,1,null,null,null,null,null,null,null,{"$f":"'P_Zestawienie dzialek'!AH28","v":0}]
[null,null,2024,null,null,null,null,null,1,null,null,null,null,null,null,null,{"$f":"'P_Zestawienie dzialek'!AH29","v":0}]
[null,null,2025]
[null,null,"Wymogi obowiązkowe przy użytkowaniu kośnym i kośno-pastwiskowym ",null,null,null,null,null,{"$f":"$J$20","v":0},null,null,null,null,null,null,null,{"$f":"'P_Zestawienie dzialek'!$AC30","v":0}]
[null,"zakaz stosowania jakichkolwiek zabiegów agrotechnicznych i pielęgnacyjnych w terminie od dnia 01-04 do terminu pierwszego pokosu ","zakaz stosowania jakichkolwiek zabiegów agrotechnicznych i pielęgnacyjnych w terminie od dnia 01-04 do terminu pierwszego pokosu ",null,null,"brak możliwości uszczegółowienia",null,null,{"$f":"$J$20","v":0},null,null,null,null,null,null,null,{"$f":"'P_Zestawienie dzialek'!$AC31","v":0}]
[null,"częstotliwość koszenia: jeden pokos w roku lub koszenie całej powierzchni działki rolnej co dwa lata (wyłącznie w przypadku, jeżeli ekspert przyrodniczy określił taką konieczność)","częstotliwość koszenia: jeden pokos w roku ",null,null,null,null,null,{"$f":"$J$20","v":0}]
[null,null,{"$f":"C21","v":2020},null,null,null,null,null,0]
[null,null,{"$f":"C30+1","v":2021},null,null,null,null,null,0]
[null,null,{"$f":"C31+1","v":2022},null,null,null,null,null,0]
[null,null,2023,null,null,null,null,null,0]
[null,null,2024,null,null,null,null,null,0]
[null,null,2025,null,null,null,null,null,0]
[null,"koszenie w terminie określonym przez eksperta przyrodniczego, przy czym termin ten rozpoczyna się\nnie wcześniej niż w dniu 15 sierpnia i kończy się nie później niż w dniu 15 lutego kolejnego roku",null,null,null,null,null,null,0]
[null,"obowiązek zebrania i usunięcia skoszonej biomasy","obowiązek zebrania i usunięcia skoszonej biomasy",null,null,"brak możliwości uszczegółowienia",null,null,0]
[null,"zakaz pozostawiania rozdrobnionej biomasy","zakaz pozostawiania rozdrobnionej biomasy",null,null,"brak możliwości uszczegółowienia",null,null,0]
[null,"w terminie do dwóch tygodni po pokosie biomasa  powinna zostać usunięta z działki rolnej lub ułożona w pryzmy, w tym pryzmy balotowe, stogi lub brogi","w terminie do dwóch tygodni po pokosie biomasa powinna zostać usunięta z działki rolnej lub ułożona w pryzmy, w tym pryzmy balotowe, stogi lub brogi",null,null,"brak możliwości uszczegółowienia",null,null,0]
[null,"w przypadku ułożenia biomasy w pryzmy, w tym pryzmy balotowe, stogi lub brogi powinna ona zostać usunięta z działki rolnej nie później niż do dnia 01-03 kolejnego roku","usunięcie z działki rolnej biomasy ułożonej w pryzmy, w tym pryzmy balotowe, stogi lub brogi do dnia 01-03 kolejnego roku",null,null,"brak możliwości uszczegółowienia",null,null,0]
[null,"w przypadku corocznego koszenia: pozostawienie nieskoszonego fragmentu działki rolnej o powierzchni wynoszącej od 15 do 85% powierzchni tej działki (procent powierzchni nieskoszonej określony przez eksperta przyrodniczego w dokumentacji przyrodniczej); przy czym gdy w danym roku powierzchnia nieskoszonego fragmentu działki rolnej określona przez eksperta przyrodniczego jest większa niż powierzchnia fragmentu tej działki skoszonego w poprzednim roku, w danym roku należy pozostawić nieskoszony fragment tej działki, który obejmuje w całości również ten jej fragment, który został skoszony w poprzednim roku\n\n","w przypadku corocznego koszenia: pozostawienie nieskoszonego fragmentu działki rolnej o powierzchni od 15% do 85% powierzchni tej działki",null,null,null,null,null,0]
[null,null,{"$f":"C30","v":2020},null,null,null,null,null,0]
[null,null,{"$f":"C42+1","v":2021},null,null,null,null,null,0]
[null,null,{"$f":"C43+1","v":2022},null,null,null,null,null,0]
[null,null,2023,null,null,null,null,null,0]
[null,null,2024,null,null,null,null,null,0]
[null,null,2025,null,null,null,null,null,0]
[null,"w przypadku corocznego koszenia: w dwóch kolejnych latach należy pozostawić inne fragmenty nieskoszone, ","w przypadku corocznego koszenia: w dwóch kolejnych latach należy pozostawić inne fragmenty nieskoszone",null,null,null,null,null,0]
[null,"dopuszczalny jest wypas zarówno w latach kiedy jest pokos (przed pokosem lub po pokosie), jak i w latach kiedy nie ma pokosu, jeżeli ekspert przyrodniczy dopuści taką możliwość ",null,null,null,null,null,null,0]
[null,null,{"$f":"C42","v":2020},"nie dotyczy",null,null,null,null,0]
[null,null,{"$f":"C50+1","v":2021},null,null,null,null,null,0]
[null,null,{"$f":"C51+1","v":2022},null,null,null,null,null,0]
[null,null,2023,null,null,null,null,null,0]
[null,null,2024,null,null,null,null,null,0,{"$f":"IF(C53=\"dopuszczalny wypas koników polskich i koni huculskich przez cały rok\",1,0)","v":0}]
[null,null,2025,null,null,null,null,null,0]
[null,"przy użytkowaniu kośno-pastwiskowym – wypas w terminie określonym przez eksperta przyrodniczego,\nprzy czym termin ten rozpoczyna się nie wcześniej niż w dniu 15 maja i kończy się nie później niż\nw dniu 31 października","wypas w terminie od 15-05 do 31-10 ",null,null,null,null,null,0]
[null,"dopuszczalny wypas przy obsadzie zwierząt do 0,5 DJP/ha gruntach objętych wsparciem w ramach wariantu, w terminie od 15-05 do 31-07 \n",null,null,null,null,null,null,0]
[null,"dopuszczalny wypas przy obsadzie zwierząt do 1 DJP/ha gruntów objętych wsparciem w ramach wariantu, w terminie od 01-08 do 31-10 ",null,null,null,null,null,null,0]
[null,null,"Inne zalecenia wynikajace z PZO/PO lub inne zalecenia ekperta  ",null,null,null,null,null,1]
[null,null,"źródło",null,"opis","uzasadnienie",null,null,1]
[null,null,null,null,null,null,null,null,1]
[null,null,null,null,null,null,null,null,1]
[null,null,null,null,null,null,null,null,1]
[null,null,null,null,null,null,null,null,1]
[null,"włókowanie","włókowanie",null,null,null,null,null,1]
[null,"całkowity zakaz włókowania wynikający z działań obligatoryjnych PZO/PO","zaleca się niewykonywanie włókowania ",null,null,null,null,null,1]
[null,"zakaz włókowania w okresie od 15-04 do 01-09 na obszarach wyżynnych i górskich (powyżej 300 m n.p.m.)","zaleca się nie wykonywanie włókowania na obszarach wyżynnych i górskich (powyżej 300 m n.p.m.) w okresie od 15-04 do 01-09",null,null,null,null,null,1]
[null,"zakaz włókowania w okresie od 01-04 do 01-09 na obszarach nizinnych (poniżej 300 m n.p.m.)","zaleca się nie wykonywanie włókowania na obszarach nizinnych (poniżej 300 m n.p.m.) w okresie od 01-04 do 01-09"]
[]
[null,"stosowanie środków ochrony roślin"]
[null,"zakaz stosowania środków ochrony roślin, z wyłączeniem selektywnego i miejscowego niszczenia uciążliwych gatunków inwazyjnych z zastosowaniem odpowiedniego sprzętu (np. mazaczy herbicydowych)"]
[null,"zakaz stosowania środków ochrony roślin"]
[]
[null,"urządzenia hydrotechniczne "]
[null,"zakaz tworzenia nowych, rozbudowy i odtwarzania istniejących urządzeń melioracji, za wyjątkiem konstrukcji urządzeń mających na celu dostosowanie poziomu wód, wykorzystując istniejące urządzenia melioracji do wymogów siedliskowych gatunków lub siedlisk będących przedmiotem ochrony w pakiecie"]
[null,"zakaz tworzenia nowych, rozbudowy i odtwarzania istniejących urządzeń melioracji"]
[]
[null,"usunięcie biomasy"]
[null,"w terminie do dwóch tygodni po pokosie biomasa  powinna zostać usunięta z działki rolnej lub ułożona w pryzmy, w tym pryzmy balotowe, stogi lub brogi"]
[null,"nie zaleca się układania na działce pryzm, stogów lub brogów"]
[null,"nie zaleca się układania na działce pryzm"]
[]
[null,"rodzaj użytkowania"]
[null,"kośne"]
[null,"kośno-pastwiskowe "]
[null,"naprzemienne"]
[null,"zakaz stosowania zabiegów agrotechnicznych przy użytkowaniu kośno-pastwiskowym"]
[null,"zakaz stosowania jakichkolwiek zabiegów agrotechnicznych i pielęgnacyjnych od 01-04 do terminu pierwszego pokosu "]
[]
[null,"częstość koszenia","częstość koszenia w latach "]
[null,"częstotliwość koszenia: jeden pokos w roku ","jeden pokos"]
[null,"częstotliwość koszenia: koszenie całej powierzchni działki rolnej co dwa lata","brak pokosu"]
[null,"częstotliwość koszenia: jeden pokos w roku lub koszenie całej powierzchni działki rolnej co dwa lata","nie dotyczy "]
[]
[null,"fragmenty niekoszone"]
[null,"w przypadku corocznego koszenia – w dwóch kolejnych latach należy pozostawić inne fragmenty nieskoszone "]
[null,"w przypadku corocznego koszenia: w każdym roku, w ciągu całego pięcioletniego zobowiązania należy pozostawić inny fragment nieskoszony "]
[]
[null,"termin koszenia"]
[null,"koszenie w terminie od 15-08 do 15-02 kolejnego roku"]
[]
[null,"fragmenty niekoszone"]
[null,"w przypadku corocznego koszenia: pozostawienie nieskoszonego fragmentu działki rolnej o powierzchni od 15% do 85% powierzchni tej działki","pozostawienie od … do ...% działki nieskoszonej"]
[null,null,"nie dotyczy"]
[null,"dopuszczenie wypasu"]
[null,"zakaz wypasu"]
[null,"wypas dopuszczalny"]
[null,"nie dotyczy"]
[null,"termin wypasu przy użytkowania kośno-pastwiskowym"]
[null,"wypas w terminie od 15-05 do 31-10 "]
[]
[null,"wypas przy użytkowaniu kośno-pastw przy obsadzie 0,5 DJP/ha gruntów objętych wsparciem w ramach wariantu"]
[null,"wypas przy obsadzie zwierząt do 0,5 DJP/ha gruntów objętych wsparciem w ramach wariantu, od 15-05 do 31-07"]
[]
[]
[null,"obsada przy użytkowaniu kośno-pastwiskowym"]
[null,"wypas przy obsadzie zwierząt do 1 DJP/ha gruntów objętych wsparciem w ramach wariantu, w terminie od 01-08 do 31-10 "]
[]
[null,"usunięcie balotów, pryzm, stogów "]
[null,"usunięcie z działki rolnej biomasy ułożonej w pryzmy, w tym pryzmy balotowe, stogi lub brogi do dnia 01-03 kolejnego roku"]
[]
[]
[]
[null,"wypas przy obsadzie zwierząt do 1 DJP/ha gruntów objętych wsparciem w ramach wariantu liczonej dla okresu od 01-08 do 31-10 "]
[null,"wypas nie będzie prowadzony w terminie do 31.07"]

{"sheet":"PW49","index":44,"n_rows":1,"n_cols":1,"rows_kept":1,"cut":false,"hidden":true,"merged":[]}
["P"]

{"sheet":"P_Wymogi 4.10. RSO(0)","index":45,"n_rows":202,"n_cols":17,"rows_kept":202,"cut":false,"hidden":true,"merged":[[70,2,70,3],[70,5,70,6],[71,2,71,3],[71,5,71,6],[72,2,72,3],[72,5,72,6],[69,2,69,3],[69,5,69,6],[58,2,58,3],[59,2,59,3],[60,2,60,3],[61,2,61,3],[62,2,62,3],[63,2,63,3],[64,2,64,3],[65,2,65,3],[66,2,66,3],[67,2,67,3],[68,2,68,6],[57,2,57,3],[45,4,47,4],[45,5,47,5],[45,6,47,6],[48,2,48,3],[49,2,49,3],[50,2,50,3],[51,2,51,3],[52,2,52,3],[54,2,54,6],[55,2,55,3],[56,2,56,3],[45,1,47,1],[29,5,35,5],[29,6,35,6],[36,2,36,3],[37,2,37,3],[38,2,38,3],[39,2,39,3],[29,4,35,4],[40,2,40,3],[41,2,41,3],[42,2,42,3],[43,2,43,3],[44,2,44,3],[26,2,26,3],[27,2,27,3],[28,2,28,3],[29,1,35,1],[29,2,29,3],[18,1,24,1],[18,2,18,3],[18,4,24,4],[18,5,24,5],[18,6,24,6],[25,2,25,6],[12,2,12,3],[13,2,13,3],[14,2,14,3],[15,2,15,3],[16,2,16,3],[17,2,17,6],[2,5,5,5],[11,2,11,3],[0,1,1,1],[0,2,1,3],[2,1,5,1],[2,2,5,2],[2,3,5,3],[6,2,6,3],[7,2,7,6],[8,2,8,3],[9,2,9,3],[10,2,10,3]]}
[null,"WYMOGI DLA WARIANTU 4.10.","Ochrona siedlisk lęgowych ptaków: dubelta lub kulika wielkiego",null,null,null,"Powrót",null,null,null,null,null,null,null,null,"pak4.9.",{"$f":"'P_Zestawienie dzialek'!AI2+1","v":1}]
[null,null,null,null,null,null,null,null,null,null,null,null,null,null,"VBA"]
[null,"WYMOGI DLA WARIANTU 4.10.","Wariant 4.10.","działka RSO:",null,"działki rolne:",null,null,1,null,null,null,null,{"$f":"MATCH(E3,'P_Zestawienie dzialek'!$W$6:$W$110,0)","v":{"$error":"#N/A"}},{"$f":"IFERROR(OFFSET('P_Zestawienie dzialek'!$AB$5,N3,0),\"\")","v":""},{"$f":"VALUE(MID(C3,9,1))","v":4},{"$f":"'P_Zestawienie dzialek'!AI7","v":0}]
[null,null,null,null,null,null,null,null,{"$f":"COUNTA(G4)","v":0},null,null,null,null,{"$f":"MATCH(E4,'P_Zestawienie dzialek'!$W$6:$W$110,0)","v":{"$error":"#N/A"}},{"$f":"IFERROR(OFFSET('P_Zestawienie dzialek'!$AB$5,N4,0),\"\")","v":""},null,{"$f":"'P_Zestawienie dzialek'!AI8","v":0}]
[null,null,null,null,null,null,null,null,{"$f":"COUNTA(G5)","v":0},null,null,null,null,{"$f":"MATCH(E5,'P_Zestawienie dzialek'!$W$6:$W$110,0)","v":{"$error":"#N/A"}},{"$f":"IFERROR(OFFSET('P_Zestawienie dzialek'!$AB$5,N5,0),\"\")","v":""},null,{"$f":"'P_Zestawienie dzialek'!AI9","v":0}]
[null,null,null,null,null,null,null,null,0,null,null,null,null,{"$f":"MATCH(E6,'P_Zestawienie dzialek'!$W$6:$W$110,0)","v":{"$error":"#N/A"}},{"$f":"IFERROR(OFFSET('P_Zestawienie dzialek'!$AB$5,N6,0),\"\")","v":""},null,{"$f":"'P_Zestawienie dzialek'!AI10","v":0}]
[null,"Wymogi z rozporządzenia ws. szczegółowych warunków i trybu przyznawania pomocy finansowej w ramach działania \"Działanie rolno-środowiskowo-klimatyczne\" objętego PROW na lata 2014-2020","Wymogi obowiązujące rolnika lub zarządcę – uszczegółowione wymogi rozporządzenia rolno-środowiskowo-klimatycznego",null,"Zalecenia","Źródło uszczegółowień wymogów","Uzasadnienie uszczegółowień\n i zaleceń",null,1,null,null,null,null,null,null,null,{"$f":"'P_Zestawienie dzialek'!AI11","v":0}]
[null,null," Wymogi obowiązkowe dla wszystkich typów użytkowania",null,null,null,null,null,1,null,null,null,null,null,null,null,{"$f":"'P_Zestawienie dzialek'!AI12","v":0}]
[null,"zakaz wałowania","zakaz wałowania",null,null,"brak możliwości uszczegółowienia",null,null,1,null,null,null,null,null,null,null,{"$f":"'P_Zestawienie dzialek'!AI13","v":0}]
[null,"zakaz stosowania komunalnych osadów ściekowych","zakaz stosowania komunalnych osadów ściekowych",null,null,"brak możliwości uszczegółowienia",null,null,1,null,null,null,null,null,null,null,{"$f":"'P_Zestawienie dzialek'!AI14","v":0}]
[null,"zakaz stosowania podsiewu","zakaz stosowania podsiewu",null,null,"brak możliwości uszczegółowienia",null,null,1,null,null,null,null,null,null,null,{"$f":"'P_Zestawienie dzialek'!AI15","v":0}]
[null,"zakaz włókowania w okresie od 01-04 do 01-09 na obszarach nizinnych (poniżej 300 m n.p.m.) oraz od 15-04 do 01-09 na obszarach wyżynnych i górskich (powyżej 300 m n.p.m.) ",null,null,null,"brak możliwości uszczegółowienia",null,null,1,null,null,null,null,null,null,null,{"$f":"'P_Zestawienie dzialek'!AI16","v":0}]
[null,"zakaz stosowania środków ochrony roślin, z wyłączeniem selektywnego i miejscowego niszczenia uciążliwych gatunków inwazyjnych z zastosowaniem odpowiedniego sprzętu (np. mazaczy herbicydowych)\n\n\n\n\n\n",null,null,null,null,null,null,1,null,null,null,null,null,null,null,{"$f":"'P_Zestawienie dzialek'!AI17","v":0}]
[null,"zakaz tworzenia nowych, rozbudowy i odtwarzania istniejących urządzeń melioracji wodnych, z wyjątkiem konstrukcji urządzeń mających na celu dostosowanie poziomu wód, wykorzystując istniejące urządzenia melioracji wodnych do wymogów siedliskowych gatunków lub siedlisk będących przedmiotem ochrony w danym pakiecie, jeżeli takie działania zostaną dopuszczone przez eksperta przyrodniczego",null,null,null,null,null,null,1,null,null,null,null,null,null,null,{"$f":"'P_Zestawienie dzialek'!AI18","v":0}]
[null,"zakaz składowania biomasy wśród kęp drzew i zarośli, w rowach, jarach i innych obniżeniach terenu (położonych na działkach zadeklarowanych we wniosku o przyznanie płatności rolno-środowiskowo-klimatycznej)","zakaz składowania biomasy wśród kęp drzew i zarośli, w rowach, jarach i innych obniżeniach terenu (położonych na działkach zadeklarowanych we wniosku o przyznanie płatności rolno-środowiskowo-klimatycznej)",null,null,"brak możliwości uszczegółowienia",null,null,1,null,null,null,null,null,null,null,{"$f":"'P_Zestawienie dzialek'!AI19","v":0}]
[null,"zakaz wapnowania","zakaz wapnowania",null,null,"brak możliwości uszczegółowienia",null,null,1,null,null,null,null,null,null,null,{"$f":"'P_Zestawienie dzialek'!AI20","v":0}]
[null,"zakaz mechanicznego niszczenia struktury glebowej w tym bronowania i przeorywania","zakaz mechanicznego niszczenia struktury glebowej, w tym bronowania i przeorywania",null,null,"brak możliwości uszczegółowienia",null,null,1,null,null,null,null,null,null,null,{"$f":"'P_Zestawienie dzialek'!AI21","v":0}]
[null,null,"Rodzaj użytkowania",null,null,null,null,null,1,"past",null,null,null,null,null,null,{"$f":"'P_Zestawienie dzialek'!AI22","v":0}]
[null,"użytkowanie kośne, pastwiskowe, kośno-pastwiskowe albo naprzemienne","naprzemienne",null,null,null,null,null,1,{"$f":"IF(OR(C19=\"pastwiskowe\",C19=0),0,1)","v":1},null,null,null,null,null,null,{"$f":"'P_Zestawienie dzialek'!AI23","v":0}]
[null,null,{"$f":"P_Dane_ogolne!E4","v":2020},null,null,null,null,null,1,null,null,null,null,null,null,null,{"$f":"'P_Zestawienie dzialek'!AI24","v":0}]
[null,null,{"$f":"C20+1","v":2021},null,null,null,null,null,1,null,null,null,null,null,null,null,{"$f":"'P_Zestawienie dzialek'!AI25","v":0}]
[null,null,{"$f":"C21+1","v":2022},null,null,null,null,null,1,null,null,null,null,null,null,null,{"$f":"'P_Zestawienie dzialek'!AI26","v":0}]
[null,null,2023,null,null,null,null,null,1,null,null,null,null,null,null,null,{"$f":"'P_Zestawienie dzialek'!AI27","v":0}]
[null,null,2024,null,null,null,null,null,1,null,null,null,null,null,null,null,{"$f":"'P_Zestawienie dzialek'!AI28","v":0}]
[null,null,2025,null,null,null,null,null,1,null,null,null,null,null,null,null,{"$f":"'P_Zestawienie dzialek'!AI29","v":0}]
[null,null,"Wymogi obowiązkowe przy użytkowaniu kośnym i kośno-pastwiskowym ",null,null,null,null,null,1,null,null,null,null,null,null,null,{"$f":"'P_Zestawienie dzialek'!AI30","v":0}]
[null,"zakaz nawożenia w przypadku użytkowania kośno-pastwiskowego ","zakaz nawożenia w przypadku użytkowania kośno-pastwiskowego \n\n",null,null,"brak możliwości uszczegółowienia",null,null,{"$f":"$J$19","v":1},null,null,null,null,null,null,null,{"$f":"'P_Zestawienie dzialek'!AI31","v":0}]
[null,"w przypadku użytkowania kośnego dopuszczalne jest ograniczone nawożenie do 60 kg N/ha/rok, z wyłączeniem obszarów nawożonych przez namuły rzeczne\n",null,null,null,null,null,null,{"$f":"$J$19","v":1},null,null,null,null,null,null,null,{"$f":"'P_Zestawienie dzialek'!AI32","v":0}]
[null,"zakaz stosowania jakichkolwiek zabiegów agrotechnicznych i pielęgnacyjnych w terminie od dnia 01-04 do terminu pierwszego pokosu ","zakaz stosowania jakichkolwiek zabiegów agrotechnicznych i pielęgnacyjnych w terminie od dnia 01-04 do terminu pierwszego pokosu ",null,null,"brak możliwości uszczegółowienia",null,null,{"$f":"$J$19","v":1},null,null,null,null,null,null,null,{"$f":"'P_Zestawienie dzialek'!AI33","v":0}]
[null,"częstotliwość koszenia: przy użytkowaniu kośnym: jeden lub dwa pokosy w roku lub – w szczególnych przypadkach określonych przez eksperta przyrodniczego – koszenie całej powierzchni działki rolnej co 2 lata",null,null,null,null,null,null,1,null,null,null,null,null,null,null,{"$f":"'P_Zestawienie dzialek'!AI34","v":0}]
[null,null,{"$f":"C20","v":2020},null,null,null,null,null,1,null,null,null,null,null,null,null,{"$f":"'P_Zestawienie dzialek'!AI35","v":0}]
[null,null,{"$f":"C31+1","v":2021},null,null,null,null,null,1,null,null,null,null,null,null,null,{"$f":"'P_Zestawienie dzialek'!AI36","v":0}]
[null,null,{"$f":"C32+1","v":2022},null,null,null,null,null,1,null,null,null,null,null,null,null,{"$f":"'P_Zestawienie dzialek'!AI37","v":0}]
[null,null,2023,null,null,null,null,null,1,null,null,null,null,null,null,null,{"$f":"'P_Zestawienie dzialek'!AI38","v":0}]
[null,null,2024,null,null,null,null,null,1,null,null,null,null,null,null,null,{"$f":"'P_Zestawienie dzialek'!AI39","v":0}]
[null,null,2025,null,null,null,null,null,1,null,null,null,null,null,null,null,{"$f":"'P_Zestawienie dzialek'!AI40","v":0}]
[null,"termin koszenia: przy użytkowaniu kośnym pierwszy pokos w terminie określonym przez eksperta przyrodniczego, przy czym termin ten rozpoczyna się nie wcześniej niż w dniu 10 lipca i kończy się nie później niż w dniu 31 lipca\n\n",null,null,null,null,null,null,1,null,null,null,null,null,null,null,{"$f":"'P_Zestawienie dzialek'!AI41","v":0}]
[null,"termin koszenia: drugi pokos w terminie określonym przez eksperta przyrodniczego, przy czym termin ten rozpoczyna się nie wcześniej niż w dniu 15 sierpnia i kończy się nie później niż w dniu 31 października","termin koszenia przy użytkowaniu dwukośnym: drugi pokos w terminie od 15-08 do 31-10",null,null,null,null,null,1,null,null,null,null,null,null,null,{"$f":"'P_Zestawienie dzialek'!AI42","v":0}]
[null,"termin koszenia: pokos w terminie określonym przez eksperta przyrodniczego, przy czym termin ten rozpoczyna się nie wcześniej niż w dniu 10 lipca i kończy się nie później niż w dniu 31 lipca  (przy użytkowaniu kośno-pastwiskowym) ","termin koszenia przy użytkowaniu kośno-pastwiskowym: od 10-07 do 31-07",null,null,null,null,null,1,null,null,null,null,null,null,null,{"$f":"'P_Zestawienie dzialek'!AI43","v":0}]
[null,"termin koszenia: w terminie określonym przez eksperta przyrodniczego, przy czym termin ten rozpoczyna się nie wcześniej niż w dniu 10 lipca i kończy się nie później niż w dniu 31 października (dotyczy użytkowania jednokośnego oraz użytkowania raz na dwa lata - przy użytkowaniu kośnym) \n\n","termin koszenia przy użytkowaniu kośnym - jednokośnym: od 10-07 do 31-10,",null,null,null,null,null,1,null,null,null,null,null,null,null,{"$f":"'P_Zestawienie dzialek'!AI44","v":0}]
[null,"obowiązek zebrania i usunięcia skoszonej biomasy","obowiązek zebrania i usunięcia skoszonej biomasy",null,null,"brak możliwości uszczegółowienia",null,null,1,null,null,null,null,null,null,null,{"$f":"'P_Zestawienie dzialek'!AI45","v":0}]
[null,"zakaz pozostawiania rozdrobnionej biomasy","zakaz pozostawiania rozdrobnionej biomasy",null,null,"brak możliwości uszczegółowienia",null,null,1,null,null,null,null,null,null,null,{"$f":"'P_Zestawienie dzialek'!AI46","v":0}]
[null,"w terminie do dwóch tygodni po pokosie biomasa powinna zostać usunięta z działki rolnej lub ułożona w pryzmy, w tym pryzmy balotowe, stogi lub brogi","w terminie do dwóch tygodni po pokosie biomasa powinna zostać usunięta z działki rolnej lub ułożona w pryzmy, w tym pryzmy balotowe, stogi lub brogi",null,null,"brak możliwości uszczegółowienia",null,null,1,null,null,null,null,null,null,null,{"$f":"'P_Zestawienie dzialek'!AI47","v":0}]
[null,"w przypadku ułożenia biomasy w pryzmy, w tym pryzmy balotowe, stogi lub brogi powinna ona zostać usunięta z działki rolnej nie później niż do dnia 01-03 kolejnego roku","usunięcie z działki rolnej biomasy ułożonej w pryzmy, w tym pryzmy balotowe, stogi lub brogi do dnia 01-03 kolejnego roku",null,null,"brak możliwości uszczegółowienia",null,null,1,null,null,null,null,null,null,null,{"$f":"'P_Zestawienie dzialek'!AI48","v":0}]
[null,"w przypadku corocznego koszenia: pozostawienie nieskoszonego fragmentu działki rolnej o powierzchni wynoszącej 15–20% powierzchni tej działki, a w szczególnych przypadkach w odniesieniu do turzycowisk, zwłaszcza kępiastych – pozostawienie nieskoszonego fragmentu działki rolnej o powierzchni wynoszącej 50% powierzchni tej działki, jeżeli ekspert przyrodniczy dopuści taką możliwość",null,null,null,null,null,null,1,null,null,null,null,null,null,null,{"$f":"'P_Zestawienie dzialek'!AI49","v":0}]
[null,"dla działek nieprzekraczających powierzchni 1 ha dopuszczalne jest zrezygnowanie z pozostawiania powierzchni nieskoszonych i koszenie co roku całej działki lub pozostawienie nieskoszonego fragmentu działki rolnej o powierzchni wynoszącej 15–20% powierzchni tej działki, a w szczególnych przypadkach w odniesieniu do turzycowisk, zwłaszcza kępiastych – pozostawienie nieskoszonej powierzchni działki rolnej o powierzchni wynoszącej 50% powierzchni tej działki, jeżeli ekspert przyrodniczy określi taką konieczność","działki rolne o powierzchni nieprzekraczającej 1,0 ha, na których jest dopuszczone pozostawienie fragmentów nieskoszonych wynoszących 15–20% powierzchni tej działki",null,null,null,null,null,1,null,null,null,null,null,null,null,{"$f":"'P_Zestawienie dzialek'!AI50","v":0}]
[null,null,"działki rolne o powierzchni nieprzekraczającej 1,0 ha, na których jest  dopuszczone pozostawienie fragmentów nieskoszonych wynoszących 50% powierzchni tej działki",null,null,null,null,null,1,null,null,null,null,null,null,null,{"$f":"'P_Zestawienie dzialek'!AI51","v":0}]
[null,null,"działki rolne o powierzchni nieprzekraczającej 1,0 ha, na których jest zakaz pozostawienia fragmentów nieskoszonych i koszenie co roku całej działki rolnej",null,null,null,null,null,1,null,null,null,null,null,null,null,{"$f":"'P_Zestawienie dzialek'!AI52","v":0}]
[null,"w przypadku stosowania dwóch pokosów w ciągu roku należy pozostawić te same fragmenty działki rolnej nieskoszone","w przypadku stosowania dwóch pokosów w ciągu roku należy pozostawić te same fragmenty działki rolnej nieskoszone",null,null,"brak możliwości uszczegółowienia",null,null,1,null,null,null,null,null,null,null,{"$f":"'P_Zestawienie dzialek'!AI53","v":0}]
[null,"w dwóch kolejnych latach należy pozostawić inne fragmenty nieskoszone","w dwóch kolejnych latach należy pozostawić inne fragmenty nieskoszone",null,null,null,null,null,1,null,null,null,null,null,null,null,{"$f":"'P_Zestawienie dzialek'!AI54","v":0}]
[null,"przy użytkowaniu jednokośnym jest dopuszczalny wypas po pokosie, w terminie określonym przez eksperta przyrodniczego","zakaz wypasu",null,null,null,null,null,1,null,null,null,null,null,null,null,{"$f":"'P_Zestawienie dzialek'!AI55","v":0}]
[null,"termin dopuszczalnego wypasu - po pokosie, termin ten kończy się nie później niż w dniu 31 października",null,null,null,null,null,null,1,null,null,null,null,null,null,null,{"$f":"'P_Zestawienie dzialek'!AI56","v":0}]
[null,"obsada zwierząt podczas wypasu - do 1 DJP/ha gruntów objętych wsparciem w ramach wariantu","obsada zwierząt podczas wypasu – do 1,0 DJP/ha gruntów objętych wsparciem w ramach wariantu",null,null,null,null,null,1,null,null,null,null,null,null,null,{"$f":"'P_Zestawienie dzialek'!AI57","v":0}]
[]
[null,"\n","Wymogi obowiązkowe przy użytkowaniu pastwiskowym",null,null,null,null,null,{"$f":"IF(J55=TRUE,1,0)","v":1},{"$f":"OR($C$19=\"pastwiskowe\",$C$19=\"naprzemienne\")","v":true},null,null,null,null,null,null,{"$f":"'P_Zestawienie dzialek'!$AE58","v":0}]
[null,"zakaz nawożenia","zakaz nawożenia",null,null,"brak możliwości uszczegółowienia",null,null,{"$f":"$I$55","v":1},null,null,null,null,null,null,null,{"$f":"'P_Zestawienie dzialek'!$AE59","v":0}]
[null,"zakaz stosowania jakichkolwiek zabiegów agrotechnicznych i pielęgnacyjnych w terminie od dnia 01-04 do 10-07","zakaz stosowania zabiegów agrotechnicznych i pielęgnacyjnych od 01-04 do 10-07",null,null,"brak możliwości uszczegółowienia",null,null,{"$f":"$I$55","v":1},null,null,null,null,null,null,null,{"$f":"'P_Zestawienie dzialek'!$AE60","v":0}]
[null,"wypas w terminie określonym przez eksperta przyrodniczego, przy czym termin ten rozpoczyna się\nnie wcześniej niż w dniu 15 maja i kończy się nie później niż w dniu 31 października",null,null,null,null,null,null,1,null,null,null,null,null,null,null,{"$f":"'P_Zestawienie dzialek'!$AE61","v":0}]
[null,"wypas przy obsadzie zwierząt do 0,5 DJP/ha gruntów objętych wsparciem w ramach wariantu w sezonie od 15-05 do 10-07 ","wypas przy obsadzie zwierząt do 0,5 DJP/ha gruntów objętych wsparciem w ramach wariantu, od 15-05 do 10-07",null,null,null,null,null,1]
[null,"wypas przy obsadzie zwierząt od 0,5 do 1,5 DJP/ha gruntów objętych wsparciem w ramach wariantu po 10-07 do 31-10","wypas przy obsadzie zwierząt od 0,5 do 1,5 DJP/ ha gruntów objętych wsparciem w ramach wariantu, po 10-07 do 31-10 ",null,null,null,null,null,1]
[null,"dopuszczalne jest wypasanie przez cały rok koników polskich i koni huculskich, jeżeli ekspert przyrodniczy dopuści taką możliwość ",null,null,null,null,null,null,1]
[null,"wypas koników polskich i koni huculskich  przy obsadzie zwierząt do 1,5 DJP/ha gruntów objętych wsparciem w ramach wariantu w terminie po 10-07 do 31-03 oraz przy obsadzie do 0,5 DJP/ ha gruntów objętych wsparciem w ramach wariantu  w terminie od 01-04 do 10-07  "," wypas koników polskich i koni huculskich przy obsadzie zwierząt do 1,5 DJP/ha gruntów objętych wsparciem w ramach wariantu w terminie po po 10-07 do 31-03 następnego roku oraz przy obsadzie do 0,5 DJP/ ha w terminie od 01-04 do 10-07",null,null,null,null,null,{"$f":"IF(J62=0,0,$I$55)","v":1},{"$f":"IF(C61=\"nie dotyczy\",0,1)","v":1}]
[null,"obowiązek corocznego wykoszenia niedojadów (raz w roku) ","obowiązek corocznego wykoszenia niedojadów (raz w roku) ",null,null,"brak możliwości uszczegółowienia",null,null,{"$f":"$I$55","v":1}]
[null,"coroczne wykoszenie niedojadów (raz w roku) w terminie określonym przez eksperta przyrodniczego, przy czym termin ten rozpoczyna się nie wcześniej niż w dniu\n15 sierpnia i kończy się nie później niż w dniu 15 listopada",null,null,null,null,null,null,1]
[null,"obowiązek zebrania i usunięcia skoszonej biomasy – dotyczy niedojadów","obowiązek zebrania i usunięcia skoszonej biomasy – dotyczy niedojadów",null,null,"brak możliwości uszczegółowienia",null,null,1]
[null,"zakaz pozostawiania rozdrobnionej biomasy – dotyczy niedojadów","zakaz pozostawiania rozdrobnionej biomasy – dotyczy niedojadów",null,null,"brak możliwości uszczegółowienia",null,null,1]
[null,"w terminie do dwóch tygodni po pokosie siano powinno zostać usunięte z działki rolnej lub ułożone w pryzmy, w tym pryzmy balotowe, stogi lub brogi – dotyczy niedojadów","w terminie do dwóch tygodni po pokosie biomasa powinna zostać usunięta z działki rolnej lub ułożona w pryzmy, w tym pryzmy balotowe, stogi lub brogi",null,null,"brak możliwości uszczegółowienia",null,null,1]
[null,"w przypadku ułożenia biomasy w pryzmy, w tym pryzmy balotowe, stogi lub brogi powinna ona zostać usunięta z działki rolnej nie później niż do dnia 01-03 kolejnego roku – dotyczy niedojadów","usunięcie z działki rolnej biomasy ułożonej w pryzmy, w tym pryzmy balotowe, stogi lub brogi do dnia 01-03 kolejnego roku",null,null,"brak możliwości uszczegółowienia",null,null,1]
[null,null,"Inne zalecenia wynikajace z PZO/PO lub inne zalecenia ekperta  ",null,null,null,null,null,1]
[null,null,"źródło",null,"opis","uzasadnienie"]
[null,null,null,null,null,null,null,null,1]
[null,null,null,null,null,null,null,null,1]
[null,null,null,null,null,null,null,null,1]
[]
[]
[null,"włókowanie","włókowanie"]
[null,"całkowity zakaz włókowania wynikający z działań obligatoryjnych PZO/PO","zaleca się niewykonywanie włókowania "]
[null,"zakaz włókowania w okresie od 15-04 do 01-09 na obszarach wyżynnych i górskich (powyżej 300 m n.p.m.)","zaleca się nie wykonywanie włókowania na obszarach wyżynnych i górskich (powyżej 300 m n.p.m.) w okresie od 15-04 do 01-09"]
[null,"zakaz włókowania w okresie od 01-04 do 01-09 na obszarach nizinnych (poniżej 300 m n.p.m.)","zaleca się nie wykonywanie włókowania na obszarach nizinnych (poniżej 300 m n.p.m.) w okresie od 01-04 do 01-09"]
[]
[null,"stosowanie środków ochrony roślin"]
[null,"zakaz stosowania środków ochrony roślin, z wyłączeniem selektywnego i miejscowego niszczenia uciążliwych gatunków inwazyjnych z zastosowaniem odpowiedniego sprzętu (np. mazaczy herbicydowych)"]
[null,"zakaz stosowania środków ochrony roślin"]
[]
[null,"urządzenia hydrotechniczne "]
[null,"zakaz tworzenia nowych, rozbudowy i odtwarzania istniejących urządzeń melioracji, za wyjątkiem konstrukcji urządzeń mających na celu dostosowanie poziomu wód, wykorzystując istniejące urządzenia melioracji do wymogów siedliskowych gatunków lub siedlisk będących przedmiotem ochrony w pakiecie"]
[null,"zakaz tworzenia nowych, rozbudowy i odtwarzania istniejących urządzeń melioracji"]
[]
[null,"usunięcie biomasy","usunięcie biomasy"]
[null,"w terminie do dwóch tygodni po pokosie biomasa powinna zostać usunięta z działki rolnej lub ułożona w pryzmy, w tym pryzmy balotowe, stogi lub brogi","w terminie do dwóch tygodni po pokosie biomasa powinna zostać usunięta z działki rolnej lub ułożona w pryzmy, w tym pryzmy balotowe, stogi lub brogi [dotyczy niedojadów]"]
[null,"nie zaleca się układania na działce pryzm, stogów lub brogów","nie zaleca się układania na działce pryzm, stogów lub brogów [dotyczy niedojadów]"]
[null,"nie zaleca się układania na działce pryzm","nie zaleca się układania na działce pryzm [dotyczy niedojadów]"]
[null,"rodzaj użytkowania"]
[]
[null,"kośne","kośne"]
[null,"kośno-pastwiskowe ","kośno-pastwiskowe "]
[null,"pastwiskowe","pastwiskowe "]
[null,"naprzemienne","nie dotyczy"]
[null,"nawożenie przy użytkowaniu kośnym"]
[null,"dopuszczone nawożenie do 60 kg N/ha/rok","w przypadku użytkowania kośnego zakaz nawożenia "]
[null,null,"w przypadku użytkowania kośnego zakaz stosowania nawozów zawierających azot"]
[null,null,"w przypadku użytkowania kośnego dopuszczalne jest ograniczone nawożenie do 60 kg N/ha/rok"]
[null,"zakaz stosowania jakichkolwiek zabiegów agrotechnicznych użytkowaniu kośno-pastwiskowym"]
[null,"zakaz stosowania jakichkolwiek zabiegów agrotechnicznych i pielęgnacyjnych od 01-04 do terminu pierwszego pokosu "]
[]
[null,"częstotliwość koszenia","częstość koszenia w latach"]
[null,"częstotliwość koszenia: jeden pokos w roku ","jeden pokos w roku "]
[null,"częstotliwość koszenia: dwa pokosy w roku","dwa pokosy w roku"]
[null,"częstotliwość koszenia: jeden lub dwa pokosy w roku ","brak pokosu"]
[null,"częstotliwość koszenia: koszenie całej powierzchni działki rolnej co dwa lata","nie dotyczy "]
[]
[null,"użytkowanie jednokośne i dwukośne"]
[null,"termin koszenia: pierwszy pokos w terminie od 10-07 do 31-07"]
[]
[null,"termin drugiego pokosu "]
[null,"termin koszenia: drugi pokos w terminie od 15-08 do 31-10"]
[]
[null,"brak koszenia na działce poniżej 1,0 ha"]
[null,"działka o powierzchni poniżej 1,0 ha: rezygnacja z pozostawiania fragmentów nieskoszonych – koszenie całej działki rolnej"]
[null,"działka o powierzchni poniżej 1,0 ha: zakaz pozostawiania fragmentów nieskoszonych "]
[null,"działka o powierzchni poniżej 1,0 ha: obowiązek pozostawienia fragmentów nieskoszonych wynoszących 50% powierzchni tej działki"]
[null,"działka o powierzchni poniżej 1,0 ha: obowiązek pozostawienia fragmentów nieskoszonych wynoszących 15–20% powierzchni tej działki"]
[]
[null,"fragmenty niekoszone"]
[null,"w przypadku corocznego koszenia: pozostawienie nieskoszonego fragmentu działki rolnej o powierzchni wynoszącej 15–20% powierzchni tej działki",null," "]
[null,"w przypadku corocznego koszenia: pozostawienie nieskoszonego fragmentu działki rolnej o powierzchni wynoszącej 50% powierzchni tej działki (turzycowisko)"]
[]
[null,"fragmenty niekoszone"]
[null,"w przypadku corocznego koszenia: w dwóch kolejnych latach należy pozostawić inne fragmenty nieskoszone "]
[null,"w przypadku corocznego koszenia: w każdym roku, w ciągu całego pięcioletniego zobowiązania należy pozostawić inny fragment nieskoszony "]
[]
[null,"usunięcie balotów, pryzm, stogów "]
[null,"usunięcie z działki rolnej biomasy ułożonej w pryzmy, w tym pryzmy balotowe, stogi lub brogi do dnia 01-03 kolejnego roku"]
[]
[null,"dopuszczenie wypasu"]
[null,"zakaz wypasu"]
[null,"wypas dopuszczalny tylko przy użytkowaniu jednokośnym"]
[]
[null,"termin wypasu przy użytkowaniu kośno-pastwiskowym"]
[null,"termin dopuszczalnego wypasu – po pokosie, do 31-10"]
[]
[null,"obsada przy użytkowaniu kośno-pastwiskowym"]
[null,"obsada zwierząt podczas wypasu – do 1,0 DJP/ha gruntów objętych wsparciem w ramach wariantu"]
[]
[null,"termin wypasu przy użytkowaniu pastwiskowym"]
[null,"wypas w terminie od 01-05 do 15-10"]
[]
[null,"wypas hucułów i koników polskich"]
[null,"dopuszczalny wypas koników polskich i koni huculskich przez cały rok"]
[null,"dopuszczalny wypas koników polskich i koni huculskich w terminie od … do …"]
[null,"nie planuje się wypasu koników polskich i koni huculskich"]
[null,"zakaz stosowania zabiegów agrotechnicznych przy użytkowaniu kośno-pastwiskowym"]
[null,"zakaz stosowania zabiegów agrotechnicznych i pielęgnacyjnych od 01-04 do 10-07",null,null,null,"zakaz stosowania jakichkolwiek zabiegów agrotechnicznych i pielęgnacyjnych w terminie od dnia (dopuszczalne daty od 1.01 do 1.04) do (dopuszczalne daty od 10.07 do 14.08)\n"]
[]
[null,"termin wypasu przy użytkowaniu pastwiskowym"]
[null,"wypas w terminie od 15-05 do 31-10",null,null,null,"(możliwość edycji w zakresie dat między 15.05, a 15.06 -dla wariantu 4.8, lub miedzy 15.05 a 10.07 - dla wariantu 4.10) , do 31.10, data końcowa nie może być wcześniejsza niż data początkowa, jeżeli ktoś wybierze cały dostępny zakres to wówczas pojawia się pozycja 1 z listy słownikowej = brak uszczegółowienia) "]
[]
[null,"wypas przy użytkowaniu pastwiskowym przy obsadzie 0,5 DJP/ha gruntów objętych wsparciem w ramach wariantu"]
[null,"wypas przy obsadzie zwierząt do 0,5 DJP/ha gruntów objętych wsparciem w ramach wariantu, od 15-05 do 10-07 "]
[]
[null,"wypas przy użytkowaniu pastwiskowym przy obsadzie 1,5 DJP/ha gruntów objętych wsparciem w ramach wariantu"]
[null,"wypas przy obsadzie zwierząt od 0,5 do 1,5 DJP/ ha gruntów objętych wsparciem w ramach wariantu, po 10-07 do 31-10 "]
[]
[null,"wypas koników polskich i koni huculskich"]
[null,"wypas koników polskich i koni huculskich przy obsadzie zwierząt do 1,5 DJP/ha w terminie po 10-07 do 31-03 następnego roku oraz przy obsadzie do 0,5 DJP/ ha gruntów objętych wsparciem w ramach wariantu w terminie od 01-04 do 10-07"]
[]
[null,"termin koszenia niedojadów"]
[null,"wykoszenie niedojadów w terminie od 15-08 do 15-11"]
[]
[null,"usunięcie balotów, pryzm, stogów ","usunięcie balotów, pryzm, stogów "]
[null,"usunięcie z działki rolnej biomasy ułożonej w pryzmy, w tym pryzmy balotowe, stogi lub brogi do dnia 01-03 kolejnego roku","usunięcie z działki rolnej biomasy ułożonej w pryzmy, w tym pryzmy balotowe, stogi lub brogi do dnia 01-03 kolejnego roku [dotyczy niedojadów]"]
[]
[null,"działki mniejsze niż 1 ha"]
[null,"oznaczenia działek rolnych: …"]
[null,"nie dotyczy"]
[]
[]
[]
[]
[null,null,"termin koszenia przy użytkowaniu dwukośnym: pierwszy pokos w terminie od 10-07 do 31-07"]
[null,null,"nie dotyczy"]
[]
[null,null,"termin koszenia przy użytkowaniu dwukośnym: drugi pokos w terminie od 15-08 do 31-10"]
[null,null,"nie dotyczy  "]
[]
[null,null,"termin koszenia przy użytkowaniu kośno-pastwiskowym: od 10-07 do 31-07"]
[null,null,"nie dotyczy "]
[]
[null,null,"termin koszenia przy użytkowaniu kośnym - jednokośnym: od 10-07 do 31-10,"]
[null,null,"nie dotyczy "]
[]
[null,null,"wypas przy obsadzie zwierząt do 0,5 DJP/ha gruntów objętych wsparciem w ramach wariantu, od 15-05 do 10-08"]
[]
[null,null,"wypas przy obsadzie zwierząt od 0,5 do 1,5 DJP/ ha gruntów objętych wsparciem w ramach wariantu, po 10-07 do 31-10 "]
[]
[]
[]
[]
[]
[]
[null,null,"wypas przy obsadzie zwierząt do 0,5 DJP/ha gruntów objętych wsparciem w ramach wariantu, od 15-05 do 10-07"]
[null,null,"wypas nie będzie prowadzony w terminie do 10-07"]

{"sheet":"P_Wymogi 4.10. RSO(1)","index":46,"n_rows":202,"n_cols":17,"rows_kept":202,"cut":false,"hidden":true,"merged":[[2,5,5,5],[11,2,11,3],[0,1,1,1],[0,2,1,3],[2,1,5,1],[2,2,5,2],[2,3,5,3],[6,2,6,3],[7,2,7,6],[8,2,8,3],[9,2,9,3],[10,2,10,3],[25,2,25,6],[12,2,12,3],[13,2,13,3],[14,2,14,3],[15,2,15,3],[16,2,16,3],[17,2,17,6],[18,1,24,1],[18,2,18,3],[18,4,24,4],[18,5,24,5],[18,6,24,6],[26,2,26,3],[27,2,27,3],[28,2,28,3],[29,1,35,1],[29,2,29,3],[45,1,47,1],[29,5,35,5],[29,6,35,6],[36,2,36,3],[37,2,37,3],[38,2,38,3],[39,2,39,3],[29,4,35,4],[40,2,40,3],[41,2,41,3],[42,2,42,3],[43,2,43,3],[44,2,44,3],[57,2,57,3],[45,4,47,4],[45,5,47,5],[45,6,47,6],[48,2,48,3],[49,2,49,3],[50,2,50,3],[51,2,51,3],[52,2,52,3],[54,2,54,6],[55,2,55,3],[56,2,56,3],[69,2,69,3],[69,5,69,6],[58,2,58,3],[59,2,59,3],[60,2,60,3],[61,2,61,3],[62,2,62,3],[63,2,63,3],[64,2,64,3],[65,2,65,3],[66,2,66,3],[67,2,67,3],[68,2,68,6],[70,2,70,3],[70,5,70,6],[71,2,71,3],[71,5,71,6],[72,2,72,3],[72,5,72,6]]}
[null,"WYMOGI DLA WARIANTU 4.10.","Ochrona siedlisk lęgowych ptaków: dubelta lub kulika wielkiego",null,null,null,"Powrót",null,null,null,null,null,null,null,null,"pak4.9.",{"$f":"'P_Zestawienie dzialek'!AI2+1","v":1}]
[null,null,null,null,null,null,null,null,null,null,null,null,null,null,"VBA"]
[null,"WYMOGI DLA WARIANTU 4.10.","Wariant 4.10.","działka RSO:",null,"działki rolne:",null,null,1,null,null,null,null,{"$f":"MATCH(E3,'P_Zestawienie dzialek'!$W$6:$W$110,0)","v":{"$error":"#N/A"}},{"$f":"IFERROR(OFFSET('P_Zestawienie dzialek'!$AB$5,N3,0),\"\")","v":""},{"$f":"VALUE(MID(C3,9,1))","v":4},{"$f":"'P_Zestawienie dzialek'!AI7","v":0}]
[null,null,null,null,null,null,null,null,{"$f":"COUNTA(G4)","v":0},null,null,null,null,{"$f":"MATCH(E4,'P_Zestawienie dzialek'!$W$6:$W$110,0)","v":{"$error":"#N/A"}},{"$f":"IFERROR(OFFSET('P_Zestawienie dzialek'!$AB$5,N4,0),\"\")","v":""},null,{"$f":"'P_Zestawienie dzialek'!AI8","v":0}]
[null,null,null,null,null,null,null,null,{"$f":"COUNTA(G5)","v":0},null,null,null,null,{"$f":"MATCH(E5,'P_Zestawienie dzialek'!$W$6:$W$110,0)","v":{"$error":"#N/A"}},{"$f":"IFERROR(OFFSET('P_Zestawienie dzialek'!$AB$5,N5,0),\"\")","v":""},null,{"$f":"'P_Zestawienie dzialek'!AI9","v":0}]
[null,null,null,null,null,null,null,null,0,null,null,null,null,{"$f":"MATCH(E6,'P_Zestawienie dzialek'!$W$6:$W$110,0)","v":{"$error":"#N/A"}},{"$f":"IFERROR(OFFSET('P_Zestawienie dzialek'!$AB$5,N6,0),\"\")","v":""},null,{"$f":"'P_Zestawienie dzialek'!AI10","v":0}]
[null,"Wymogi z rozporządzenia ws. szczegółowych warunków i trybu przyznawania pomocy finansowej w ramach działania \"Działanie rolno-środowiskowo-klimatyczne\" objętego PROW na lata 2014-2020","Wymogi obowiązujące rolnika lub zarządcę – uszczegółowione wymogi rozporządzenia rolno-środowiskowo-klimatycznego",null,"Zalecenia","Źródło uszczegółowień wymogów","Uzasadnienie uszczegółowień\n i zaleceń",null,1,null,null,null,null,null,null,null,{"$f":"'P_Zestawienie dzialek'!AI11","v":0}]
[null,null," Wymogi obowiązkowe dla wszystkich typów użytkowania",null,null,null,null,null,1,null,null,null,null,null,null,null,{"$f":"'P_Zestawienie dzialek'!AI12","v":0}]
[null,"zakaz wałowania","zakaz wałowania",null,null,"brak możliwości uszczegółowienia",null,null,1,null,null,null,null,null,null,null,{"$f":"'P_Zestawienie dzialek'!AI13","v":0}]
[null,"zakaz stosowania komunalnych osadów ściekowych","zakaz stosowania komunalnych osadów ściekowych",null,null,"brak możliwości uszczegółowienia",null,null,1,null,null,null,null,null,null,null,{"$f":"'P_Zestawienie dzialek'!AI14","v":0}]
[null,"zakaz stosowania podsiewu","zakaz stosowania podsiewu",null,null,"brak możliwości uszczegółowienia",null,null,1,null,null,null,null,null,null,null,{"$f":"'P_Zestawienie dzialek'!AI15","v":0}]
[null,"zakaz włókowania w okresie od 01-04 do 01-09 na obszarach nizinnych (poniżej 300 m n.p.m.) oraz od 15-04 do 01-09 na obszarach wyżynnych i górskich (powyżej 300 m n.p.m.) ",null,null,null,"brak możliwości uszczegółowienia",null,null,1,null,null,null,null,null,null,null,{"$f":"'P_Zestawienie dzialek'!AI16","v":0}]
[null,"zakaz stosowania środków ochrony roślin, z wyłączeniem selektywnego i miejscowego niszczenia uciążliwych gatunków inwazyjnych z zastosowaniem odpowiedniego sprzętu (np. mazaczy herbicydowych)\n\n\n\n\n\n",null,null,null,null,null,null,1,null,null,null,null,null,null,null,{"$f":"'P_Zestawienie dzialek'!AI17","v":0}]
[null,"zakaz tworzenia nowych, rozbudowy i odtwarzania istniejących urządzeń melioracji wodnych, z wyjątkiem konstrukcji urządzeń mających na celu dostosowanie poziomu wód, wykorzystując istniejące urządzenia melioracji wodnych do wymogów siedliskowych gatunków lub siedlisk będących przedmiotem ochrony w danym pakiecie, jeżeli takie działania zostaną dopuszczone przez eksperta przyrodniczego",null,null,null,null,null,null,1,null,null,null,null,null,null,null,{"$f":"'P_Zestawienie dzialek'!AI18","v":0}]
[null,"zakaz składowania biomasy wśród kęp drzew i zarośli, w rowach, jarach i innych obniżeniach terenu (położonych na działkach zadeklarowanych we wniosku o przyznanie płatności rolno-środowiskowo-klimatycznej)","zakaz składowania biomasy wśród kęp drzew i zarośli, w rowach, jarach i innych obniżeniach terenu (położonych na działkach zadeklarowanych we wniosku o przyznanie płatności rolno-środowiskowo-klimatycznej)",null,null,"brak możliwości uszczegółowienia",null,null,1,null,null,null,null,null,null,null,{"$f":"'P_Zestawienie dzialek'!AI19","v":0}]
[null,"zakaz wapnowania","zakaz wapnowania",null,null,"brak możliwości uszczegółowienia",null,null,1,null,null,null,null,null,null,null,{"$f":"'P_Zestawienie dzialek'!AI20","v":0}]
[null,"zakaz mechanicznego niszczenia struktury glebowej w tym bronowania i przeorywania","zakaz mechanicznego niszczenia struktury glebowej, w tym bronowania i przeorywania",null,null,"brak możliwości uszczegółowienia",null,null,1,null,null,null,null,null,null,null,{"$f":"'P_Zestawienie dzialek'!AI21","v":0}]
[null,null,"Rodzaj użytkowania",null,null,null,null,null,1,"past",null,null,null,null,null,null,{"$f":"'P_Zestawienie dzialek'!AI22","v":0}]
[null,"użytkowanie kośne, pastwiskowe, kośno-pastwiskowe albo naprzemienne","kośno-pastwiskowe ",null,null,null,null,null,1,{"$f":"IF(OR(C19=\"pastwiskowe\",C19=0),0,1)","v":1},null,null,null,null,null,null,{"$f":"'P_Zestawienie dzialek'!AI23","v":0}]
[null,null,{"$f":"P_Dane_ogolne!E4","v":2020},null,null,null,null,null,1,null,null,null,null,null,null,null,{"$f":"'P_Zestawienie dzialek'!AI24","v":0}]
[null,null,{"$f":"C20+1","v":2021},null,null,null,null,null,1,null,null,null,null,null,null,null,{"$f":"'P_Zestawienie dzialek'!AI25","v":0}]
[null,null,{"$f":"C21+1","v":2022},null,null,null,null,null,1,null,null,null,null,null,null,null,{"$f":"'P_Zestawienie dzialek'!AI26","v":0}]
[null,null,2023,null,null,null,null,null,1,null,null,null,null,null,null,null,{"$f":"'P_Zestawienie dzialek'!AI27","v":0}]
[null,null,2024,null,null,null,null,null,1,null,null,null,null,null,null,null,{"$f":"'P_Zestawienie dzialek'!AI28","v":0}]
[null,null,2025,null,null,null,null,null,1,null,null,null,null,null,null,null,{"$f":"'P_Zestawienie dzialek'!AI29","v":0}]
[null,null,"Wymogi obowiązkowe przy użytkowaniu kośnym i kośno-pastwiskowym ",null,null,null,null,null,1,null,null,null,null,null,null,null,{"$f":"'P_Zestawienie dzialek'!AI30","v":0}]
[null,"zakaz nawożenia w przypadku użytkowania kośno-pastwiskowego ","zakaz nawożenia w przypadku użytkowania kośno-pastwiskowego \n\n",null,null,"brak możliwości uszczegółowienia",null,null,{"$f":"$J$19","v":1},null,null,null,null,null,null,null,{"$f":"'P_Zestawienie dzialek'!AI31","v":0}]
[null,"w przypadku użytkowania kośnego dopuszczalne jest ograniczone nawożenie do 60 kg N/ha/rok, z wyłączeniem obszarów nawożonych przez namuły rzeczne\n",null,null,null,null,null,null,{"$f":"$J$19","v":1},null,null,null,null,null,null,null,{"$f":"'P_Zestawienie dzialek'!AI32","v":0}]
[null,"zakaz stosowania jakichkolwiek zabiegów agrotechnicznych i pielęgnacyjnych w terminie od dnia 01-04 do terminu pierwszego pokosu ","zakaz stosowania jakichkolwiek zabiegów agrotechnicznych i pielęgnacyjnych w terminie od dnia 01-04 do terminu pierwszego pokosu ",null,null,"brak możliwości uszczegółowienia",null,null,{"$f":"$J$19","v":1},null,null,null,null,null,null,null,{"$f":"'P_Zestawienie dzialek'!AI33","v":0}]
[null,"częstotliwość koszenia: przy użytkowaniu kośnym: jeden lub dwa pokosy w roku lub – w szczególnych przypadkach określonych przez eksperta przyrodniczego – koszenie całej powierzchni działki rolnej co 2 lata",null,null,null,null,null,null,1,null,null,null,null,null,null,null,{"$f":"'P_Zestawienie dzialek'!AI34","v":0}]
[null,null,{"$f":"C20","v":2020},null,null,null,null,null,1,null,null,null,null,null,null,null,{"$f":"'P_Zestawienie dzialek'!AI35","v":0}]
[null,null,{"$f":"C31+1","v":2021},null,null,null,null,null,1,null,null,null,null,null,null,null,{"$f":"'P_Zestawienie dzialek'!AI36","v":0}]
[null,null,{"$f":"C32+1","v":2022},null,null,null,null,null,1,null,null,null,null,null,null,null,{"$f":"'P_Zestawienie dzialek'!AI37","v":0}]
[null,null,2023,null,null,null,null,null,1,null,null,null,null,null,null,null,{"$f":"'P_Zestawienie dzialek'!AI38","v":0}]
[null,null,2024,null,null,null,null,null,1,null,null,null,null,null,null,null,{"$f":"'P_Zestawienie dzialek'!AI39","v":0}]
[null,null,2025,null,null,null,null,null,1,null,null,null,null,null,null,null,{"$f":"'P_Zestawienie dzialek'!AI40","v":0}]
[null,"termin koszenia: przy użytkowaniu kośnym pierwszy pokos w terminie określonym przez eksperta przyrodniczego, przy czym termin ten rozpoczyna się nie wcześniej niż w dniu 10 lipca i kończy się nie później niż w dniu 31 lipca\n\n",null,null,null,null,null,null,1,null,null,null,null,null,null,null,{"$f":"'P_Zestawienie dzialek'!AI41","v":0}]
[null,"termin koszenia: drugi pokos w terminie określonym przez eksperta przyrodniczego, przy czym termin ten rozpoczyna się nie wcześniej niż w dniu 15 sierpnia i kończy się nie później niż w dniu 31 października","termin koszenia przy użytkowaniu dwukośnym: drugi pokos w terminie od 15-08 do 31-10",null,null,null,null,null,1,null,null,null,null,null,null,null,{"$f":"'P_Zestawienie dzialek'!AI42","v":0}]
[null,"termin koszenia: pokos w terminie określonym przez eksperta przyrodniczego, przy czym termin ten rozpoczyna się nie wcześniej niż w dniu 10 lipca i kończy się nie później niż w dniu 31 lipca  (przy użytkowaniu kośno-pastwiskowym) ","termin koszenia przy użytkowaniu kośno-pastwiskowym: od 10-07 do 31-07",null,null,null,null,null,1,null,null,null,null,null,null,null,{"$f":"'P_Zestawienie dzialek'!AI43","v":0}]
[null,"termin koszenia: w terminie określonym przez eksperta przyrodniczego, przy czym termin ten rozpoczyna się nie wcześniej niż w dniu 10 lipca i kończy się nie później niż w dniu 31 października (dotyczy użytkowania jednokośnego oraz użytkowania raz na dwa lata - przy użytkowaniu kośnym) \n\n","termin koszenia przy użytkowaniu kośnym - jednokośnym: od 10-07 do 31-10,",null,null,null,null,null,1,null,null,null,null,null,null,null,{"$f":"'P_Zestawienie dzialek'!AI44","v":0}]
[null,"obowiązek zebrania i usunięcia skoszonej biomasy","obowiązek zebrania i usunięcia skoszonej biomasy",null,null,"brak możliwości uszczegółowienia",null,null,1,null,null,null,null,null,null,null,{"$f":"'P_Zestawienie dzialek'!AI45","v":0}]
[null,"zakaz pozostawiania rozdrobnionej biomasy","zakaz pozostawiania rozdrobnionej biomasy",null,null,"brak możliwości uszczegółowienia",null,null,1,null,null,null,null,null,null,null,{"$f":"'P_Zestawienie dzialek'!AI46","v":0}]
[null,"w terminie do dwóch tygodni po pokosie biomasa powinna zostać usunięta z działki rolnej lub ułożona w pryzmy, w tym pryzmy balotowe, stogi lub brogi","w terminie do dwóch tygodni po pokosie biomasa powinna zostać usunięta z działki rolnej lub ułożona w pryzmy, w tym pryzmy balotowe, stogi lub brogi",null,null,"brak możliwości uszczegółowienia",null,null,1,null,null,null,null,null,null,null,{"$f":"'P_Zestawienie dzialek'!AI47","v":0}]
[null,"w przypadku ułożenia biomasy w pryzmy, w tym pryzmy balotowe, stogi lub brogi powinna ona zostać usunięta z działki rolnej nie później niż do dnia 01-03 kolejnego roku","usunięcie z działki rolnej biomasy ułożonej w pryzmy, w tym pryzmy balotowe, stogi lub brogi do dnia 01-03 kolejnego roku",null,null,"brak możliwości uszczegółowienia",null,null,1,null,null,null,null,null,null,null,{"$f":"'P_Zestawienie dzialek'!AI48","v":0}]
[null,"w przypadku corocznego koszenia: pozostawienie nieskoszonego fragmentu działki rolnej o powierzchni wynoszącej 15–20% powierzchni tej działki, a w szczególnych przypadkach w odniesieniu do turzycowisk, zwłaszcza kępiastych – pozostawienie nieskoszonego fragmentu działki rolnej o powierzchni wynoszącej 50% powierzchni tej działki, jeżeli ekspert przyrodniczy dopuści taką możliwość",null,null,null,null,null,null,1,null,null,null,null,null,null,null,{"$f":"'P_Zestawienie dzialek'!AI49","v":0}]
[null,"dla działek nieprzekraczających powierzchni 1 ha dopuszczalne jest zrezygnowanie z pozostawiania powierzchni nieskoszonych i koszenie co roku całej działki lub pozostawienie nieskoszonego fragmentu działki rolnej o powierzchni wynoszącej 15–20% powierzchni tej działki, a w szczególnych przypadkach w odniesieniu do turzycowisk, zwłaszcza kępiastych – pozostawienie nieskoszonej powierzchni działki rolnej o powierzchni wynoszącej 50% powierzchni tej działki, jeżeli ekspert przyrodniczy określi taką konieczność","działki rolne o powierzchni nieprzekraczającej 1,0 ha, na których jest dopuszczone pozostawienie fragmentów nieskoszonych wynoszących 15–20% powierzchni tej działki",null,null,null,null,null,1,null,null,null,null,null,null,null,{"$f":"'P_Zestawienie dzialek'!AI50","v":0}]
[null,null,"działki rolne o powierzchni nieprzekraczającej 1,0 ha, na których jest  dopuszczone pozostawienie fragmentów nieskoszonych wynoszących 50% powierzchni tej działki",null,null,null,null,null,1,null,null,null,null,null,null,null,{"$f":"'P_Zestawienie dzialek'!AI51","v":0}]
[null,null,"działki rolne o powierzchni nieprzekraczającej 1,0 ha, na których jest zakaz pozostawienia fragmentów nieskoszonych i koszenie co roku całej działki rolnej",null,null,null,null,null,1,null,null,null,null,null,null,null,{"$f":"'P_Zestawienie dzialek'!AI52","v":0}]
[null,"w przypadku stosowania dwóch pokosów w ciągu roku należy pozostawić te same fragmenty działki rolnej nieskoszone","w przypadku stosowania dwóch pokosów w ciągu roku należy pozostawić te same fragmenty działki rolnej nieskoszone",null,null,"brak możliwości uszczegółowienia",null,null,1,null,null,null,null,null,null,null,{"$f":"'P_Zestawienie dzialek'!AI53","v":0}]
[null,"w dwóch kolejnych latach należy pozostawić inne fragmenty nieskoszone","w dwóch kolejnych latach należy pozostawić inne fragmenty nieskoszone",null,null,null,null,null,1,null,null,null,null,null,null,null,{"$f":"'P_Zestawienie dzialek'!AI54","v":0}]
[null,"przy użytkowaniu jednokośnym jest dopuszczalny wypas po pokosie, w terminie określonym przez eksperta przyrodniczego","zakaz wypasu",null,null,null,null,null,1,null,null,null,null,null,null,null,{"$f":"'P_Zestawienie dzialek'!AI55","v":0}]
[null,"termin dopuszczalnego wypasu - po pokosie, termin ten kończy się nie później niż w dniu 31 października",null,null,null,null,null,null,1,null,null,null,null,null,null,null,{"$f":"'P_Zestawienie dzialek'!AI56","v":0}]
[null,"obsada zwierząt podczas wypasu - do 1 DJP/ha gruntów objętych wsparciem w ramach wariantu","obsada zwierząt podczas wypasu – do 1,0 DJP/ha gruntów objętych wsparciem w ramach wariantu",null,null,null,null,null,1,null,null,null,null,null,null,null,{"$f":"'P_Zestawienie dzialek'!AI57","v":0}]
[]
[null,"\n","Wymogi obowiązkowe przy użytkowaniu pastwiskowym",null,null,null,null,null,{"$f":"IF(J55=TRUE,1,0)","v":0},{"$f":"OR($C$19=\"pastwiskowe\",$C$19=\"naprzemienne\")","v":false},null,null,null,null,null,null,{"$f":"'P_Zestawienie dzialek'!$AE58","v":0}]
[null,"zakaz nawożenia","zakaz nawożenia",null,null,"brak możliwości uszczegółowienia",null,null,{"$f":"$I$55","v":0},null,null,null,null,null,null,null,{"$f":"'P_Zestawienie dzialek'!$AE59","v":0}]
[null,"zakaz stosowania jakichkolwiek zabiegów agrotechnicznych i pielęgnacyjnych w terminie od dnia 01-04 do 10-07","zakaz stosowania zabiegów agrotechnicznych i pielęgnacyjnych od 01-04 do 10-07",null,null,"brak możliwości uszczegółowienia",null,null,{"$f":"$I$55","v":0},null,null,null,null,null,null,null,{"$f":"'P_Zestawienie dzialek'!$AE60","v":0}]
[null,"wypas w terminie określonym przez eksperta przyrodniczego, przy czym termin ten rozpoczyna się\nnie wcześniej niż w dniu 15 maja i kończy się nie później niż w dniu 31 października",null,null,null,null,null,null,0,null,null,null,null,null,null,null,{"$f":"'P_Zestawienie dzialek'!$AE61","v":0}]
[null,"wypas przy obsadzie zwierząt do 0,5 DJP/ha gruntów objętych wsparciem w ramach wariantu w sezonie od 15-05 do 10-07 ","wypas przy obsadzie zwierząt do 0,5 DJP/ha gruntów objętych wsparciem w ramach wariantu, od 15-05 do 10-07",null,null,null,null,null,0]
[null,"wypas przy obsadzie zwierząt od 0,5 do 1,5 DJP/ha gruntów objętych wsparciem w ramach wariantu po 10-07 do 31-10","wypas przy obsadzie zwierząt od 0,5 do 1,5 DJP/ ha gruntów objętych wsparciem w ramach wariantu, po 10-07 do 31-10 ",null,null,null,null,null,0]
[null,"dopuszczalne jest wypasanie przez cały rok koników polskich i koni huculskich, jeżeli ekspert przyrodniczy dopuści taką możliwość ",null,null,null,null,null,null,0]
[null,"wypas koników polskich i koni huculskich  przy obsadzie zwierząt do 1,5 DJP/ha gruntów objętych wsparciem w ramach wariantu w terminie po 10-07 do 31-03 oraz przy obsadzie do 0,5 DJP/ ha gruntów objętych wsparciem w ramach wariantu  w terminie od 01-04 do 10-07  "," wypas koników polskich i koni huculskich przy obsadzie zwierząt do 1,5 DJP/ha gruntów objętych wsparciem w ramach wariantu w terminie po po 10-07 do 31-03 następnego roku oraz przy obsadzie do 0,5 DJP/ ha w terminie od 01-04 do 10-07",null,null,null,null,null,{"$f":"IF(J62=0,0,$I$55)","v":0},{"$f":"IF(C61=\"nie dotyczy\",0,1)","v":1}]
[null,"obowiązek corocznego wykoszenia niedojadów (raz w roku) ","obowiązek corocznego wykoszenia niedojadów (raz w roku) ",null,null,"brak możliwości uszczegółowienia",null,null,{"$f":"$I$55","v":0}]
[null,"coroczne wykoszenie niedojadów (raz w roku) w terminie określonym przez eksperta przyrodniczego, przy czym termin ten rozpoczyna się nie wcześniej niż w dniu\n15 sierpnia i kończy się nie później niż w dniu 15 listopada",null,null,null,null,null,null,0]
[null,"obowiązek zebrania i usunięcia skoszonej biomasy – dotyczy niedojadów","obowiązek zebrania i usunięcia skoszonej biomasy – dotyczy niedojadów",null,null,"brak możliwości uszczegółowienia",null,null,0]
[null,"zakaz pozostawiania rozdrobnionej biomasy – dotyczy niedojadów","zakaz pozostawiania rozdrobnionej biomasy – dotyczy niedojadów",null,null,"brak możliwości uszczegółowienia",null,null,0]
[null,"w terminie do dwóch tygodni po pokosie siano powinno zostać usunięte z działki rolnej lub ułożone w pryzmy, w tym pryzmy balotowe, stogi lub brogi – dotyczy niedojadów","w terminie do dwóch tygodni po pokosie biomasa powinna zostać usunięta z działki rolnej lub ułożona w pryzmy, w tym pryzmy balotowe, stogi lub brogi",null,null,"brak możliwości uszczegółowienia",null,null,0]
[null,"w przypadku ułożenia biomasy w pryzmy, w tym pryzmy balotowe, stogi lub brogi powinna ona zostać usunięta z działki rolnej nie później niż do dnia 01-03 kolejnego roku – dotyczy niedojadów","usunięcie z działki rolnej biomasy ułożonej w pryzmy, w tym pryzmy balotowe, stogi lub brogi do dnia 01-03 kolejnego roku",null,null,"brak możliwości uszczegółowienia",null,null,0]
[null,null,"Inne zalecenia wynikajace z PZO/PO lub inne zalecenia ekperta  ",null,null,null,null,null,1]
[null,null,"źródło",null,"opis","uzasadnienie"]
[null,null,null,null,null,null,null,null,1]
[null,null,null,null,null,null,null,null,1]
[null,null,null,null,null,null,null,null,1]
[]
[]
[null,"włókowanie","włókowanie"]
[null,"całkowity zakaz włókowania wynikający z działań obligatoryjnych PZO/PO","zaleca się niewykonywanie włókowania "]
[null,"zakaz włókowania w okresie od 15-04 do 01-09 na obszarach wyżynnych i górskich (powyżej 300 m n.p.m.)","zaleca się nie wykonywanie włókowania na obszarach wyżynnych i górskich (powyżej 300 m n.p.m.) w okresie od 15-04 do 01-09"]
[null,"zakaz włókowania w okresie od 01-04 do 01-09 na obszarach nizinnych (poniżej 300 m n.p.m.)","zaleca się nie wykonywanie włókowania na obszarach nizinnych (poniżej 300 m n.p.m.) w okresie od 01-04 do 01-09"]
[]
[null,"stosowanie środków ochrony roślin"]
[null,"zakaz stosowania środków ochrony roślin, z wyłączeniem selektywnego i miejscowego niszczenia uciążliwych gatunków inwazyjnych z zastosowaniem odpowiedniego sprzętu (np. mazaczy herbicydowych)"]
[null,"zakaz stosowania środków ochrony roślin"]
[]
[null,"urządzenia hydrotechniczne "]
[null,"zakaz tworzenia nowych, rozbudowy i odtwarzania istniejących urządzeń melioracji, za wyjątkiem konstrukcji urządzeń mających na celu dostosowanie poziomu wód, wykorzystując istniejące urządzenia melioracji do wymogów siedliskowych gatunków lub siedlisk będących przedmiotem ochrony w pakiecie"]
[null,"zakaz tworzenia nowych, rozbudowy i odtwarzania istniejących urządzeń melioracji"]
[]
[null,"usunięcie biomasy","usunięcie biomasy"]
[null,"w terminie do dwóch tygodni po pokosie biomasa powinna zostać usunięta z działki rolnej lub ułożona w pryzmy, w tym pryzmy balotowe, stogi lub brogi","w terminie do dwóch tygodni po pokosie biomasa powinna zostać usunięta z działki rolnej lub ułożona w pryzmy, w tym pryzmy balotowe, stogi lub brogi [dotyczy niedojadów]"]
[null,"nie zaleca się układania na działce pryzm, stogów lub brogów","nie zaleca się układania na działce pryzm, stogów lub brogów [dotyczy niedojadów]"]
[null,"nie zaleca się układania na działce pryzm","nie zaleca się układania na działce pryzm [dotyczy niedojadów]"]
[null,"rodzaj użytkowania"]
[]
[null,"kośne","kośne"]
[null,"kośno-pastwiskowe ","kośno-pastwiskowe "]
[null,"pastwiskowe","pastwiskowe "]
[null,"naprzemienne","nie dotyczy"]
[null,"nawożenie przy użytkowaniu kośnym"]
[null,"dopuszczone nawożenie do 60 kg N/ha/rok","w przypadku użytkowania kośnego zakaz nawożenia "]
[null,null,"w przypadku użytkowania kośnego zakaz stosowania nawozów zawierających azot"]
[null,null,"w przypadku użytkowania kośnego dopuszczalne jest ograniczone nawożenie do 60 kg N/ha/rok"]
[null,"zakaz stosowania jakichkolwiek zabiegów agrotechnicznych użytkowaniu kośno-pastwiskowym"]
[null,"zakaz stosowania jakichkolwiek zabiegów agrotechnicznych i pielęgnacyjnych od 01-04 do terminu pierwszego pokosu "]
[]
[null,"częstotliwość koszenia","częstość koszenia w latach"]
[null,"częstotliwość koszenia: jeden pokos w roku ","jeden pokos w roku "]
[null,"częstotliwość koszenia: dwa pokosy w roku","dwa pokosy w roku"]
[null,"częstotliwość koszenia: jeden lub dwa pokosy w roku ","brak pokosu"]
[null,"częstotliwość koszenia: koszenie całej powierzchni działki rolnej co dwa lata","nie dotyczy "]
[]
[null,"użytkowanie jednokośne i dwukośne"]
[null,"termin koszenia: pierwszy pokos w terminie od 10-07 do 31-07"]
[]
[null,"termin drugiego pokosu "]
[null,"termin koszenia: drugi pokos w terminie od 15-08 do 31-10"]
[]
[null,"brak koszenia na działce poniżej 1,0 ha"]
[null,"działka o powierzchni poniżej 1,0 ha: rezygnacja z pozostawiania fragmentów nieskoszonych – koszenie całej działki rolnej"]
[null,"działka o powierzchni poniżej 1,0 ha: zakaz pozostawiania fragmentów nieskoszonych "]
[null,"działka o powierzchni poniżej 1,0 ha: obowiązek pozostawienia fragmentów nieskoszonych wynoszących 50% powierzchni tej działki"]
[null,"działka o powierzchni poniżej 1,0 ha: obowiązek pozostawienia fragmentów nieskoszonych wynoszących 15–20% powierzchni tej działki"]
[]
[null,"fragmenty niekoszone"]
[null,"w przypadku corocznego koszenia: pozostawienie nieskoszonego fragmentu działki rolnej o powierzchni wynoszącej 15–20% powierzchni tej działki",null," "]
[null,"w przypadku corocznego koszenia: pozostawienie nieskoszonego fragmentu działki rolnej o powierzchni wynoszącej 50% powierzchni tej działki (turzycowisko)"]
[]
[null,"fragmenty niekoszone"]
[null,"w przypadku corocznego koszenia: w dwóch kolejnych latach należy pozostawić inne fragmenty nieskoszone "]
[null,"w przypadku corocznego koszenia: w każdym roku, w ciągu całego pięcioletniego zobowiązania należy pozostawić inny fragment nieskoszony "]
[]
[null,"usunięcie balotów, pryzm, stogów "]
[null,"usunięcie z działki rolnej biomasy ułożonej w pryzmy, w tym pryzmy balotowe, stogi lub brogi do dnia 01-03 kolejnego roku"]
[]
[null,"dopuszczenie wypasu"]
[null,"zakaz wypasu"]
[null,"wypas dopuszczalny tylko przy użytkowaniu jednokośnym"]
[]
[null,"termin wypasu przy użytkowaniu kośno-pastwiskowym"]
[null,"termin dopuszczalnego wypasu – po pokosie, do 31-10"]
[]
[null,"obsada przy użytkowaniu kośno-pastwiskowym"]
[null,"obsada zwierząt podczas wypasu – do 1,0 DJP/ha gruntów objętych wsparciem w ramach wariantu"]
[]
[null,"termin wypasu przy użytkowaniu pastwiskowym"]
[null,"wypas w terminie od 01-05 do 15-10"]
[]
[null,"wypas hucułów i koników polskich"]
[null,"dopuszczalny wypas koników polskich i koni huculskich przez cały rok"]
[null,"dopuszczalny wypas koników polskich i koni huculskich w terminie od … do …"]
[null,"nie planuje się wypasu koników polskich i koni huculskich"]
[null,"zakaz stosowania zabiegów agrotechnicznych przy użytkowaniu kośno-pastwiskowym"]
[null,"zakaz stosowania zabiegów agrotechnicznych i pielęgnacyjnych od 01-04 do 10-07",null,null,null,"zakaz stosowania jakichkolwiek zabiegów agrotechnicznych i pielęgnacyjnych w terminie od dnia (dopuszczalne daty od 1.01 do 1.04) do (dopuszczalne daty od 10.07 do 14.08)\n"]
[]
[null,"termin wypasu przy użytkowaniu pastwiskowym"]
[null,"wypas w terminie od 15-05 do 31-10",null,null,null,"(możliwość edycji w zakresie dat między 15.05, a 15.06 -dla wariantu 4.8, lub miedzy 15.05 a 10.07 - dla wariantu 4.10) , do 31.10, data końcowa nie może być wcześniejsza niż data początkowa, jeżeli ktoś wybierze cały dostępny zakres to wówczas pojawia się pozycja 1 z listy słownikowej = brak uszczegółowienia) "]
[]
[null,"wypas przy użytkowaniu pastwiskowym przy obsadzie 0,5 DJP/ha gruntów objętych wsparciem w ramach wariantu"]
[null,"wypas przy obsadzie zwierząt do 0,5 DJP/ha gruntów objętych wsparciem w ramach wariantu, od 15-05 do 10-07 "]
[]
[null,"wypas przy użytkowaniu pastwiskowym przy obsadzie 1,5 DJP/ha gruntów objętych wsparciem w ramach wariantu"]
[null,"wypas przy obsadzie zwierząt od 0,5 do 1,5 DJP/ ha gruntów objętych wsparciem w ramach wariantu, po 10-07 do 31-10 "]
[]
[null,"wypas koników polskich i koni huculskich"]
[null,"wypas koników polskich i koni huculskich przy obsadzie zwierząt do 1,5 DJP/ha w terminie po 10-07 do 31-03 następnego roku oraz przy obsadzie do 0,5 DJP/ ha gruntów objętych wsparciem w ramach wariantu w terminie od 01-04 do 10-07"]
[]
[null,"termin koszenia niedojadów"]
[null,"wykoszenie niedojadów w terminie od 15-08 do 15-11"]
[]
[null,"usunięcie balotów, pryzm, stogów ","usunięcie balotów, pryzm, stogów "]
[null,"usunięcie z działki rolnej biomasy ułożonej w pryzmy, w tym pryzmy balotowe, stogi lub brogi do dnia 01-03 kolejnego roku","usunięcie z działki rolnej biomasy ułożonej w pryzmy, w tym pryzmy balotowe, stogi lub brogi do dnia 01-03 kolejnego roku [dotyczy niedojadów]"]
[]
[null,"działki mniejsze niż 1 ha"]
[null,"oznaczenia działek rolnych: …"]
[null,"nie dotyczy"]
[]
[]
[]
[]
[null,null,"termin koszenia przy użytkowaniu dwukośnym: pierwszy pokos w terminie od 10-07 do 31-07"]
[null,null,"nie dotyczy"]
[]
[null,null,"termin koszenia przy użytkowaniu dwukośnym: drugi pokos w terminie od 15-08 do 31-10"]
[null,null,"nie dotyczy  "]
[]
[null,null,"termin koszenia przy użytkowaniu kośno-pastwiskowym: od 10-07 do 31-07"]
[null,null,"nie dotyczy "]
[]
[null,null,"termin koszenia przy użytkowaniu kośnym - jednokośnym: od 10-07 do 31-10,"]
[null,null,"nie dotyczy "]
[]
[null,null,"wypas przy obsadzie zwierząt do 0,5 DJP/ha gruntów objętych wsparciem w ramach wariantu, od 15-05 do 10-08"]
[]
[null,null,"wypas przy obsadzie zwierząt od 0,5 do 1,5 DJP/ ha gruntów objętych wsparciem w ramach wariantu, po 10-07 do 31-10 "]
[]
[]
[]
[]
[]
[]
[null,null,"wypas przy obsadzie zwierząt do 0,5 DJP/ha gruntów objętych wsparciem w ramach wariantu, od 15-05 do 10-07"]
[null,null,"wypas nie będzie prowadzony w terminie do 10-07"]

{"sheet":"PW410","index":47,"n_rows":0,"n_cols":0,"rows_kept":0,"cut":false,"hidden":true,"merged":[]}

{"sheet":"P_Wymogi 4.11. RSO(0)","index":48,"n_rows":106,"n_cols":17,"rows_kept":106,"cut":false,"hidden":true,"merged":[[45,2,45,3],[45,5,45,6],[42,2,42,3],[42,5,42,6],[43,2,43,3],[43,5,43,6],[44,2,44,3],[44,5,44,6],[41,2,41,6],[32,2,32,3],[33,2,33,3],[34,2,34,3],[35,1,36,1],[35,4,36,4],[35,5,36,5],[35,6,36,6],[37,2,37,3],[38,2,38,3],[39,2,39,3],[40,2,40,3],[31,2,31,3],[18,2,18,6],[19,1,25,1],[19,2,19,3],[19,4,25,4],[19,5,25,5],[19,6,25,6],[26,2,26,6],[27,2,27,3],[28,2,28,3],[29,2,29,3],[30,2,30,3],[17,2,17,3],[6,2,6,3],[7,2,7,6],[8,2,8,3],[9,2,9,3],[10,2,10,3],[11,2,11,3],[12,2,12,3],[13,2,13,3],[14,2,14,3],[15,2,15,3],[16,2,16,3],[2,5,5,5],[0,1,1,1],[0,2,1,4],[2,1,5,1],[2,2,5,2],[2,3,5,3]]}
[null,"WYMOGI DLA WARIANTU 4.11.","Ochrona siedlisk lęgowych ptaków: derkacza",null,null,null,"Powrót",null,null,null,null,null,null,null,null,"pak4.9.",{"$f":"'P_Zestawienie dzialek'!AJ2+1","v":1}]
[null,null,null,null,null,null,null,null,null,null,null,null,null,null,"VBA"]
[null,"WYMOGI DLA WARIANTU 4.11.","Wariant 4.11.","działka RSO:",null,"działki rolne:",null,null,1,null,null,null,null,{"$f":"MATCH(E3,'P_Zestawienie dzialek'!$W$6:$W$110,0)","v":{"$error":"#N/A"}},{"$f":"IFERROR(OFFSET('P_Zestawienie dzialek'!$AB$5,N3,0),\"\")","v":""},{"$f":"VALUE(MID(C3,9,1))","v":4},{"$f":"'P_Zestawienie dzialek'!AJ7","v":0}]
[null,null,null,null,null,null,null,null,{"$f":"COUNTA(G4)","v":0},null,null,null,null,{"$f":"MATCH(E4,'P_Zestawienie dzialek'!$W$6:$W$110,0)","v":{"$error":"#N/A"}},{"$f":"IFERROR(OFFSET('P_Zestawienie dzialek'!$AB$5,N4,0),\"\")","v":""},null,{"$f":"'P_Zestawienie dzialek'!AJ8","v":0}]
[null,null,null,null,null,null,null,null,{"$f":"COUNTA(G5)","v":0},null,null,null,null,{"$f":"MATCH(E5,'P_Zestawienie dzialek'!$W$6:$W$110,0)","v":{"$error":"#N/A"}},{"$f":"IFERROR(OFFSET('P_Zestawienie dzialek'!$AB$5,N5,0),\"\")","v":""},null,{"$f":"'P_Zestawienie dzialek'!AJ9","v":0}]
[null,null,null,null,null,null,null,null,0,null,null,null,null,{"$f":"MATCH(E6,'P_Zestawienie dzialek'!$W$6:$W$110,0)","v":{"$error":"#N/A"}},{"$f":"IFERROR(OFFSET('P_Zestawienie dzialek'!$AB$5,N6,0),\"\")","v":""},null,{"$f":"'P_Zestawienie dzialek'!AJ10","v":0}]
[null,"Wymogi z rozporządzenia ws. szczegółowych warunków i trybu przyznawania pomocy finansowej w ramach działania \"Działanie rolno-środowiskowo-klimatyczne\" objętego PROW na lata 2014-2020","Wymogi obowiązujące rolnika lub zarządcę – uszczegółowione wymogi rozporządzenia rolno-środowiskowo-klimatycznego",null,"Zalecenia","Źródło uszczegółowień wymogów","Uzasadnienie uszczegółowień\n i zaleceń",null,1,null,null,null,null,null,null,null,{"$f":"'P_Zestawienie dzialek'!AJ11","v":0}]
[null,null,"Wymogi obowiązkowe dla wszystkich typów użytkowania",null,null,null,null,null,1,null,null,null,null,null,null,null,{"$f":"'P_Zestawienie dzialek'!AJ12","v":0}]
[null,"zakaz wałowania","zakaz wałowania",null,null,"brak możliwości uszczegółowienia",null,null,1,null,null,null,null,null,null,null,{"$f":"'P_Zestawienie dzialek'!AJ13","v":0}]
[null,"zakaz stosowania komunalnych osadów ściekowych","zakaz stosowania komunalnych osadów ściekowych",null,null,"brak możliwości uszczegółowienia",null,null,1,null,null,null,null,null,null,null,{"$f":"'P_Zestawienie dzialek'!AJ14","v":0}]
[null,"zakaz stosowania podsiewu","zakaz stosowania podsiewu",null,null,"brak możliwości uszczegółowienia",null,null,1,null,null,null,null,null,null,null,{"$f":"'P_Zestawienie dzialek'!AJ15","v":0}]
[null,"zakaz włókowania w okresie od 01-04 do 01-09 na obszarach nizinnych (poniżej 300 m n.p.m.) oraz od 15-04 do 01-09 na obszarach wyżynnych i górskich (powyżej 300 m n.p.m.) ",null,null,null,"brak możliwości uszczegółowienia",null,null,1,null,null,null,null,null,null,null,{"$f":"'P_Zestawienie dzialek'!AJ16","v":0}]
[null,"zakaz stosowania środków ochrony roślin, z wyłączeniem selektywnego i miejscowego niszczenia uciążliwych gatunków inwazyjnych z zastosowaniem odpowiedniego sprzętu (np. mazaczy herbicydowych)\n\n\n\n\n",null,null,null,null,null,null,1,null,null,null,null,null,null,null,{"$f":"'P_Zestawienie dzialek'!AJ17","v":0}]
[null,"zakaz tworzenia nowych, rozbudowy i odtwarzania istniejących urządzeń melioracji wodnych, z wyjątkiem konstrukcji urządzeń mających na celu dostosowanie poziomu wód, wykorzystując istniejące urządzenia melioracji wodnych do wymogów siedliskowych gatunków lub siedlisk będących przedmiotem ochrony w danym pakiecie, jeżeli takie działania zostaną dopuszczone przez eksperta przyrodniczego",null,null,null,null,null,null,1,null,null,null,null,null,null,null,{"$f":"'P_Zestawienie dzialek'!AJ18","v":0}]
[null,"zakaz składowania biomasy wśród kęp drzew i zarośli, w rowach, jarach i innych obniżeniach terenu (położonych na działkach zadeklarowanych we wniosku o przyznanie płatności rolno-środowiskowo-klimatycznej)","zakaz składowania biomasy wśród kęp drzew i zarośli, w rowach, jarach i innych obniżeniach terenu (położonych na działkach zadeklarowanych we wniosku o przyznanie płatności rolno-środowiskowo-klimatycznej)",null,null,"brak możliwości uszczegółowienia",null,null,1,null,null,null,null,null,null,null,{"$f":"'P_Zestawienie dzialek'!AJ19","v":0}]
[null,"zakaz nawożenia","zakaz nawożenia",null,null,"brak możliwości uszczegółowienia",null,null,1,null,null,null,null,null,null,null,{"$f":"'P_Zestawienie dzialek'!AJ20","v":0}]
[null,"zakaz wapnowania","zakaz wapnowania",null,null,"brak możliwości uszczegółowienia",null,null,1,null,null,null,null,null,null,null,{"$f":"'P_Zestawienie dzialek'!AJ21","v":0}]
[null,"zakaz mechanicznego niszczenia struktury glebowej, w tym bronowania i przeorywania","zakaz mechanicznego niszczenia struktury glebowej, w tym bronowania i przeorywania",null,null,"brak możliwości uszczegółowienia",null,null,1,null,null,null,null,null,null,null,{"$f":"'P_Zestawienie dzialek'!AJ22","v":0}]
[null,null,"Rodzaj użytkowania",null,null,null,null,null,1,"kos",null,null,null,null,null,null,{"$f":"'P_Zestawienie dzialek'!AJ23","v":0}]
[null,"użytkowanie kośne albo kośno-pastwiskowe albo naprzemienne",null,null,null,null,null,null,1,{"$f":"IF(C20<>0,1,0)","v":0},null,null,null,null,null,null,{"$f":"'P_Zestawienie dzialek'!AJ24","v":0}]
[null,null,{"$f":"P_Dane_ogolne!E4","v":2020},null,null,null,null,null,1,null,null,null,null,null,null,null,{"$f":"'P_Zestawienie dzialek'!AJ25","v":0}]
[null,null,{"$f":"C21+1","v":2021},null,null,null,null,null,1,null,null,null,null,null,null,null,{"$f":"'P_Zestawienie dzialek'!AJ26","v":0}]
[null,null,{"$f":"C22+1","v":2022},null,null,null,null,null,1,null,null,null,null,null,null,null,{"$f":"'P_Zestawienie dzialek'!AJ27","v":0}]
[null,null,2023,null,null,null,null,null,1,null,null,null,null,null,null,null,{"$f":"'P_Zestawienie dzialek'!AJ28","v":0}]
[null,null,2024,null,null,null,null,null,1,null,null,null,null,null,null,null,{"$f":"'P_Zestawienie dzialek'!AJ29","v":0}]
[null,null,2025,null,null,null,null,null,null,null,null,null,null,null,null,null,{"$f":"'P_Zestawienie dzialek'!AJ30","v":0}]
[null," ","Wymogi obowiązkowe przy użytkowaniu kośnym i kośno-pastwiskowym",null,null,null,null,null,{"$f":"$J$20","v":0},null,null,null,null,null,null,null,{"$f":"'P_Zestawienie dzialek'!AJ31","v":0}]
[null,"zakaz stosowania jakichkolwiek zabiegów agrotechnicznych i pielęgnacyjnych w terminie od dnia 01-04 do terminu pierwszego pokosu ","zakaz stosowania jakichkolwiek zabiegów agrotechnicznych i pielęgnacyjnych w terminie od dnia 01-04 do terminu pierwszego pokosu ",null,null,"brak możliwości uszczegółowienia",null,null,{"$f":"$J$20","v":0},null,null,null,null,null,null,null,{"$f":"'P_Zestawienie dzialek'!AJ32","v":0}]
[null,"częstotliwość koszenia: jeden pokos w ciągu roku","częstotliwość koszenia: jeden pokos w ciągu roku",null,null,"brak możliwości uszczegółowienia",null,null,{"$f":"$J$20","v":0},null,null,null,null,null,null,null,{"$f":"'P_Zestawienie dzialek'!AJ33","v":0}]
[null,"koszenie w terminie określonym przez eksperta przyrodniczego, przy czym termin ten rozpoczyna\nsię nie wcześniej niż w dniu 1 sierpnia i kończy się nie później niż w dniu 31 października",null,null,null,null,null,null,0,null,null,null,null,null,null,null,{"$f":"'P_Zestawienie dzialek'!AJ34","v":0}]
[null,"obowiązek zebrania i usunięcia skoszonej biomasy","obowiązek zebrania i usunięcia skoszonej biomasy",null,null,"brak możliwości uszczegółowienia",null,null,0,null,null,null,null,null,null,null,{"$f":"'P_Zestawienie dzialek'!AJ35","v":0}]
[null,"zakaz pozostawiania rozdrobnionej biomasy","zakaz pozostawiania rozdrobnionej biomasy",null,null,"brak możliwości uszczegółowienia",null,null,0,null,null,null,null,null,null,null,{"$f":"'P_Zestawienie dzialek'!AJ36","v":0}]
[null,"w terminie do dwóch tygodni po pokosie biomasa  powinna zostać usunięta z działki rolnej lub ułożona w pryzmy, w tym pryzmy balotowe, stogi lub brogi","w terminie do dwóch tygodni po pokosie biomasa powinna zostać usunięta z działki rolnej lub ułożona w pryzmy, w tym pryzmy balotowe, stogi lub brogi",null,null,"brak możliwości uszczegółowienia",null,null,0,null,null,null,null,null,null,null,{"$f":"'P_Zestawienie dzialek'!AJ37","v":0}]
[null,"w przypadku ułożenia biomasy w pryzmy, w tym pryzmy balotowe, stogi lub brogi powinna ona zostać usunięta z działki rolnej nie później niż do dnia 01-03 kolejnego roku","usunięcie z działki rolnej biomasy ułożonej w pryzmy, w tym pryzmy balotowe, stogi lub brogi do dnia 01-03 kolejnego roku",null,null,"brak możliwości uszczegółowienia",null,null,0,null,null,null,null,null,null,null,{"$f":"'P_Zestawienie dzialek'!AJ38","v":0}]
[null,"pozostawienie nieskoszonego fragmentu działki rolnej o powierzchni wynoszącej 15–20% powierzchni tej działki","pozostawienie nieskoszonego fragmentu działki rolnej o powierzchni wynoszącej 15-20% powierzchni tej działki",null,null,"brak możliwości uszczegółowienia",null,null,0,null,null,null,null,null,null,null,{"$f":"'P_Zestawienie dzialek'!AJ39","v":0}]
[null,"dla działek nieprzekraczających powierzchni 1 ha dopuszczalne jest zrezygnowanie z pozostawiania powierzchni nieskoszonych i koszenie co rok całej działki lub pozostawienie nieskoszonego fragmentu działki rolnej o powierzchni wynoszącej 15–20% powierzchni tej działki, jeżeli ekspert przyrodniczy dopuści taką możliwość ","działki rolne o powierzchni nieprzekraczającej 1,0 ha, na których jest dopuszczone pozostawienie fragmentów nieskoszonych wynoszących 15–20% powierzchni tej działki",null,null,null,null,null,0,null,null,null,null,null,null,null,{"$f":"'P_Zestawienie dzialek'!AJ40","v":0}]
[null,null,"działki rolne o powierzchni nieprzekraczającej 1,0 ha, na których jest zakaz pozostawienia fragmentów nieskoszonych i koszenie co roku całej działki rolnej",null,null,null,null,null,0,null,null,null,null,null,null,null,{"$f":"'P_Zestawienie dzialek'!AJ41","v":0}]
[null,"w dwóch kolejnych latach należy pozostawić różne fragmenty nieskoszone","w dwóch kolejnych latach należy pozostawić inne fragmenty nieskoszone",null,null,null,null,null,0,null,null,null,null,null,null,null,{"$f":"'P_Zestawienie dzialek'!AJ42","v":0}]
[null,"dopuszczalny wypas, jeżeli ekspert przyrodniczy dopuści taką możliwość  ","dopuszczalny wypas",null,null,null,null,null,0,null,null,null,null,null,null,null,{"$f":"'P_Zestawienie dzialek'!AJ43","v":0}]
[null,"termin dopuszczalnego wypasu: przy użytkowaniu kośno-pastwiskowym – wypas po pokosie w terminie określonym przez eksperta\nprzyrodniczego, przy czym termin ten kończy się nie później niż w dniu 31 października",null,null,null,null,null,null,{"$f":"IF(C39=\"zakaz wypasu\",0,$J$20)","v":0},null,null,null,null,null,null,null,{"$f":"'P_Zestawienie dzialek'!AJ44","v":0}]
[null,"wypas przy obsadzie  do 1 DJP/ha gruntów objętych wsparciem w ramach wariantu","wypas przy obsadzie do 1 DJP/ha gruntów objętych wsparciem",null,null,null,null,null,{"$f":"I40","v":0},null,null,null,null,null,null,null,{"$f":"'P_Zestawienie dzialek'!AJ45","v":0}]
[null,null,"Inne zalecenia wynikajace z PZO/PO lub inne zalecenia ekperta  ",null,null,null,null,null,0,null,null,null,null,null,null,null,{"$f":"'P_Zestawienie dzialek'!AJ46","v":0}]
[null,null,"źródło",null,"opis","uzasadnienie",null,null,0,null,null,null,null,null,null,null,{"$f":"'P_Zestawienie dzialek'!AJ47","v":0}]
[null,null,null,null,null,null,null,null,0,null,null,null,null,null,null,null,{"$f":"'P_Zestawienie dzialek'!AJ48","v":0}]
[null,null,null,null,null,null,null,null,0,null,null,null,null,null,null,null,{"$f":"'P_Zestawienie dzialek'!AJ49","v":0}]
[null,null,null,null,null,null,null,null,0,null,null,null,null,null,null,null,{"$f":"'P_Zestawienie dzialek'!AJ50","v":0}]
[null,null,null,null,null,null,null,null,null,null,null,null,null,null,null,null,{"$f":"'P_Zestawienie dzialek'!AJ51","v":0}]
[null,"włókowanie","włókowanie",null,null,null,null,null,null,null,null,null,null,null,null,null,{"$f":"'P_Zestawienie dzialek'!AJ52","v":0}]
[null,"całkowity zakaz włókowania wynikający z działań obligatoryjnych PZO/PO","zaleca się niewykonywanie włókowania ",null,null,null,null,null,null,null,null,null,null,null,null,null,{"$f":"'P_Zestawienie dzialek'!AJ53","v":0}]
[null,"zakaz włókowania w okresie od 15-04 do 01-09 na obszarach wyżynnych i górskich (powyżej 300 m n.p.m.)","zaleca się nie wykonywanie włókowania na obszarach wyżynnych i górskich (powyżej 300 m n.p.m.) w okresie od 15-04 do 01-09",null,null,null,null,null,0,null,null,null,null,null,null,null,{"$f":"'P_Zestawienie dzialek'!AJ54","v":0}]
[null,"zakaz włókowania w okresie od 01-04 do 01-09 na obszarach nizinnych (poniżej 300 m n.p.m.)","zaleca się nie wykonywanie włókowania na obszarach nizinnych (poniżej 300 m n.p.m.) w okresie od 01-04 do 01-09",null,null,null,null,null,0,null,null,null,null,null,null,null,{"$f":"'P_Zestawienie dzialek'!AJ55","v":0}]
[null,null,null,null,null,null,null,null,0,null,null,null,null,null,null,null,{"$f":"'P_Zestawienie dzialek'!AJ56","v":0}]
[null,"stosowanie środków ochrony roślin",null,null,null,null,null,null,0,null,null,null,null,null,null,null,{"$f":"'P_Zestawienie dzialek'!AJ57","v":0}]
[null,"zakaz stosowania środków ochrony roślin, z wyłączeniem selektywnego i miejscowego niszczenia uciążliwych gatunków inwazyjnych z zastosowaniem odpowiedniego sprzętu (np. mazaczy herbicydowych)",null,null,null,null,null,null,0,{"$f":"IF(C53=\"dopuszczalny wypas koników polskich i koni huculskich przez cały rok\",1,0)","v":0}]
[null,"zakaz stosowania środków ochrony roślin",null,null,null,null,null,null,0,null,null,null,null,null,null,null,{"$f":"'P_Zestawienie dzialek'!$AE58","v":0}]
[null,null,null,null,null,null,null,null,0,{"$f":"IF(C55=\"nie dotyczy\",0,1)","v":1},null,null,null,null,null,null,{"$f":"'P_Zestawienie dzialek'!$AE59","v":0}]
[null,"urządzenia hydrotechniczne ",null,null,null,null,null,null,0,null,null,null,null,null,null,null,{"$f":"'P_Zestawienie dzialek'!$AE60","v":0}]
[null,"zakaz tworzenia nowych, rozbudowy i odtwarzania istniejących urządzeń melioracji, za wyjątkiem konstrukcji urządzeń mających na celu dostosowanie poziomu wód, wykorzystując istniejące urządzenia melioracji do wymogów siedliskowych gatunków lub siedlisk będących przedmiotem ochrony w pakiecie",null,null,null,null,null,null,0,null,null,null,null,null,null,null,{"$f":"'P_Zestawienie dzialek'!$AE61","v":0}]
[null,"zakaz tworzenia nowych, rozbudowy i odtwarzania istniejących urządzeń melioracji",null,null,null,null,null,null,1]
[null,null,null,null,null,null,null,null,1]
[null,"rodzaj użytkowania",null,null,null,null,null,null,1]
[null,"kośne","kośne",null,null,null,null,null,1]
[null,"kośno-pastwiskowe","kośno-pastwiskowe",null,null,null,null,null,1]
[null,"naprzemienne","nie dotyczy",null,null,null,null,null,1]
[null,"zakaz stosowania zabiegów agrotechnicznych przy użytkowaniu kośno-pastwiskowym",null,null,null,null,null,null,1]
[null,"zakaz stosowania jakichkolwiek zabiegów agrotechnicznych i pielęgnacyjnych od 01-04 do terminu pierwszego pokosu ",null,null,null,null,null,null,1]
[null,null,null,null,null,null,null,null,1]
[null,"termin koszenia"]
[null,"termin koszenia: od 01-08 do 31-10"]
[]
[null,"usunięcie biomasy"]
[null,"w terminie do dwóch tygodni po pokosie biomasa  powinna zostać usunięta z działki rolnej lub ułożona w pryzmy, w tym pryzmy balotowe, stogi lub brogi"]
[null,"nie zaleca się układania na działce pryzm, stogów lub brogów"]
[null,"nie zaleca się układania na działce pryzm"]
[]
[null,"brak koszenia na działce poniżej 1,0 ha"]
[null,"działka o powierzchni poniżej 1,0 ha: rezygnacja z pozostawiania fragmentów nieskoszonych – koszenie całej działki rolnej"]
[null,"działka o powierzchni poniżej 1,0 ha: zakaz pozostawiania fragmentów nieskoszonych "]
[null,"działka o powierzchni poniżej 1,0 ha:  obowiązek pozostawienia fragmentów nieskoszonych wynoszących 15–20% powierzchni tej działki"]
[]
[null,"fragmenty niekoszone"]
[null,"w dwóch kolejnych latach należy pozostawić różne fragmenty nieskoszone "]
[null,"w każdym roku, w ciągu całego pięcioletniego zobowiązania należy pozostawić inny fragment nieskoszony "]
[]
[null,"usunięcie balotów, pryzm, stogów "]
[null,"usunięcie z działki rolnej biomasy ułożonej w pryzmy, w tym pryzmy balotowe, stogi lub brogi do dnia 01-03 kolejnego roku"]
[]
[null,"dopuszczenie wypasu"]
[null,"zakaz wypasu"]
[null,"dopuszczalny wypas"]
[]
[null,"termin wypasu przy użytkowaniu kośno-pastwiskowym"]
[null,"termin dopuszczalnego wypasu: po pokosie, do 31-10"]
[]
[null,"obsada przy użytkowaniu kośno-pastwiskowym"]
[null,"wypas przy obsadzie  do 1,0 DJP/ha gruntów objętych wsparciem w ramach wariantu"]
[]
[null,"działki mniejsze niż 1 ha"]
[null,"oznaczenia działek rolnych: …"]
[null,"nie dotyczy"]
[]
[]
[null,null,"pozostawienie nieskoszonego fragmentu działki rolnej o powierzchni wynoszącej 15-20% powierzchni tej działki"]
[null,null,"nie dotyczy"]
[]
[null,null,"wypas przy obsadzie do 1 DJP/ha gruntów objętych wsparciem"]

{"sheet":"P_Wymogi 4.11. RSO(1)","index":49,"n_rows":106,"n_cols":17,"rows_kept":106,"cut":false,"hidden":true,"merged":[[45,2,45,3],[45,5,45,6],[42,2,42,3],[42,5,42,6],[43,2,43,3],[43,5,43,6],[44,2,44,3],[44,5,44,6],[41,2,41,6],[32,2,32,3],[33,2,33,3],[34,2,34,3],[35,1,36,1],[35,4,36,4],[35,5,36,5],[35,6,36,6],[37,2,37,3],[38,2,38,3],[39,2,39,3],[40,2,40,3],[31,2,31,3],[18,2,18,6],[19,1,25,1],[19,2,19,3],[19,4,25,4],[19,5,25,5],[19,6,25,6],[26,2,26,6],[27,2,27,3],[28,2,28,3],[29,2,29,3],[30,2,30,3],[17,2,17,3],[6,2,6,3],[7,2,7,6],[8,2,8,3],[9,2,9,3],[10,2,10,3],[11,2,11,3],[12,2,12,3],[13,2,13,3],[14,2,14,3],[15,2,15,3],[16,2,16,3],[2,5,5,5],[0,1,1,1],[0,2,1,4],[2,1,5,1],[2,2,5,2],[2,3,5,3]]}
[null,"WYMOGI DLA WARIANTU 4.11.","Ochrona siedlisk lęgowych ptaków: derkacza",null,null,null,"Powrót",null,null,null,null,null,null,null,null,"pak4.9.",{"$f":"'P_Zestawienie dzialek'!AJ2+1","v":1}]
[null,null,null,null,null,null,null,null,null,null,null,null,null,null,"VBA"]
[null,"WYMOGI DLA WARIANTU 4.11.","Wariant 4.11.","działka RSO:",null,"działki rolne:",null,null,1,null,null,null,null,{"$f":"MATCH(E3,'P_Zestawienie dzialek'!$W$6:$W$110,0)","v":{"$error":"#N/A"}},{"$f":"IFERROR(OFFSET('P_Zestawienie dzialek'!$AB$5,N3,0),\"\")","v":""},{"$f":"VALUE(MID(C3,9,1))","v":4},{"$f":"'P_Zestawienie dzialek'!AJ7","v":0}]
[null,null,null,null,null,null,null,null,{"$f":"COUNTA(G4)","v":0},null,null,null,null,{"$f":"MATCH(E4,'P_Zestawienie dzialek'!$W$6:$W$110,0)","v":{"$error":"#N/A"}},{"$f":"IFERROR(OFFSET('P_Zestawienie dzialek'!$AB$5,N4,0),\"\")","v":""},null,{"$f":"'P_Zestawienie dzialek'!AJ8","v":0}]
[null,null,null,null,null,null,null,null,{"$f":"COUNTA(G5)","v":0},null,null,null,null,{"$f":"MATCH(E5,'P_Zestawienie dzialek'!$W$6:$W$110,0)","v":{"$error":"#N/A"}},{"$f":"IFERROR(OFFSET('P_Zestawienie dzialek'!$AB$5,N5,0),\"\")","v":""},null,{"$f":"'P_Zestawienie dzialek'!AJ9","v":0}]
[null,null,null,null,null,null,null,null,0,null,null,null,null,{"$f":"MATCH(E6,'P_Zestawienie dzialek'!$W$6:$W$110,0)","v":{"$error":"#N/A"}},{"$f":"IFERROR(OFFSET('P_Zestawienie dzialek'!$AB$5,N6,0),\"\")","v":""},null,{"$f":"'P_Zestawienie dzialek'!AJ10","v":0}]
[null,"Wymogi z rozporządzenia ws. szczegółowych warunków i trybu przyznawania pomocy finansowej w ramach działania \"Działanie rolno-środowiskowo-klimatyczne\" objętego PROW na lata 2014-2020","Wymogi obowiązujące rolnika lub zarządcę – uszczegółowione wymogi rozporządzenia rolno-środowiskowo-klimatycznego",null,"Zalecenia","Źródło uszczegółowień wymogów","Uzasadnienie uszczegółowień\n i zaleceń",null,1,null,null,null,null,null,null,null,{"$f":"'P_Zestawienie dzialek'!AJ11","v":0}]
[null,null,"Wymogi obowiązkowe dla wszystkich typów użytkowania",null,null,null,null,null,1,null,null,null,null,null,null,null,{"$f":"'P_Zestawienie dzialek'!AJ12","v":0}]
[null,"zakaz wałowania","zakaz wałowania",null,null,"brak możliwości uszczegółowienia",null,null,1,null,null,null,null,null,null,null,{"$f":"'P_Zestawienie dzialek'!AJ13","v":0}]
[null,"zakaz stosowania komunalnych osadów ściekowych","zakaz stosowania komunalnych osadów ściekowych",null,null,"brak możliwości uszczegółowienia",null,null,1,null,null,null,null,null,null,null,{"$f":"'P_Zestawienie dzialek'!AJ14","v":0}]
[null,"zakaz stosowania podsiewu","zakaz stosowania podsiewu",null,null,"brak możliwości uszczegółowienia",null,null,1,null,null,null,null,null,null,null,{"$f":"'P_Zestawienie dzialek'!AJ15","v":0}]
[null,"zakaz włókowania w okresie od 01-04 do 01-09 na obszarach nizinnych (poniżej 300 m n.p.m.) oraz od 15-04 do 01-09 na obszarach wyżynnych i górskich (powyżej 300 m n.p.m.) ",null,null,null,"brak możliwości uszczegółowienia",null,null,1,null,null,null,null,null,null,null,{"$f":"'P_Zestawienie dzialek'!AJ16","v":0}]
[null,"zakaz stosowania środków ochrony roślin, z wyłączeniem selektywnego i miejscowego niszczenia uciążliwych gatunków inwazyjnych z zastosowaniem odpowiedniego sprzętu (np. mazaczy herbicydowych)\n\n\n\n\n",null,null,null,null,null,null,1,null,null,null,null,null,null,null,{"$f":"'P_Zestawienie dzialek'!AJ17","v":0}]
[null,"zakaz tworzenia nowych, rozbudowy i odtwarzania istniejących urządzeń melioracji wodnych, z wyjątkiem konstrukcji urządzeń mających na celu dostosowanie poziomu wód, wykorzystując istniejące urządzenia melioracji wodnych do wymogów siedliskowych gatunków lub siedlisk będących przedmiotem ochrony w danym pakiecie, jeżeli takie działania zostaną dopuszczone przez eksperta przyrodniczego",null,null,null,null,null,null,1,null,null,null,null,null,null,null,{"$f":"'P_Zestawienie dzialek'!AJ18","v":0}]
[null,"zakaz składowania biomasy wśród kęp drzew i zarośli, w rowach, jarach i innych obniżeniach terenu (położonych na działkach zadeklarowanych we wniosku o przyznanie płatności rolno-środowiskowo-klimatycznej)","zakaz składowania biomasy wśród kęp drzew i zarośli, w rowach, jarach i innych obniżeniach terenu (położonych na działkach zadeklarowanych we wniosku o przyznanie płatności rolno-środowiskowo-klimatycznej)",null,null,"brak możliwości uszczegółowienia",null,null,1,null,null,null,null,null,null,null,{"$f":"'P_Zestawienie dzialek'!AJ19","v":0}]
[null,"zakaz nawożenia","zakaz nawożenia",null,null,"brak możliwości uszczegółowienia",null,null,1,null,null,null,null,null,null,null,{"$f":"'P_Zestawienie dzialek'!AJ20","v":0}]
[null,"zakaz wapnowania","zakaz wapnowania",null,null,"brak możliwości uszczegółowienia",null,null,1,null,null,null,null,null,null,null,{"$f":"'P_Zestawienie dzialek'!AJ21","v":0}]
[null,"zakaz mechanicznego niszczenia struktury glebowej, w tym bronowania i przeorywania","zakaz mechanicznego niszczenia struktury glebowej, w tym bronowania i przeorywania",null,null,"brak możliwości uszczegółowienia",null,null,1,null,null,null,null,null,null,null,{"$f":"'P_Zestawienie dzialek'!AJ22","v":0}]
[null,null,"Rodzaj użytkowania",null,null,null,null,null,1,"kos",null,null,null,null,null,null,{"$f":"'P_Zestawienie dzialek'!AJ23","v":0}]
[null,"użytkowanie kośne albo kośno-pastwiskowe albo naprzemienne",null,null,null,null,null,null,1,{"$f":"IF(C20<>0,1,0)","v":0},null,null,null,null,null,null,{"$f":"'P_Zestawienie dzialek'!AJ24","v":0}]
[null,null,{"$f":"P_Dane_ogolne!E4","v":2020},null,null,null,null,null,1,null,null,null,null,null,null,null,{"$f":"'P_Zestawienie dzialek'!AJ25","v":0}]
[null,null,{"$f":"C21+1","v":2021},null,null,null,null,null,1,null,null,null,null,null,null,null,{"$f":"'P_Zestawienie dzialek'!AJ26","v":0}]
[null,null,{"$f":"C22+1","v":2022},null,null,null,null,null,1,null,null,null,null,null,null,null,{"$f":"'P_Zestawienie dzialek'!AJ27","v":0}]
[null,null,2023,null,null,null,null,null,1,null,null,null,null,null,null,null,{"$f":"'P_Zestawienie dzialek'!AJ28","v":0}]
[null,null,2024,null,null,null,null,null,1,null,null,null,null,null,null,null,{"$f":"'P_Zestawienie dzialek'!AJ29","v":0}]
[null,null,2025,null,null,null,null,null,null,null,null,null,null,null,null,null,{"$f":"'P_Zestawienie dzialek'!AJ30","v":0}]
[null," ","Wymogi obowiązkowe przy użytkowaniu kośnym i kośno-pastwiskowym",null,null,null,null,null,{"$f":"$J$20","v":0},null,null,null,null,null,null,null,{"$f":"'P_Zestawienie dzialek'!AJ31","v":0}]
[null,"zakaz stosowania jakichkolwiek zabiegów agrotechnicznych i pielęgnacyjnych w terminie od dnia 01-04 do terminu pierwszego pokosu ","zakaz stosowania jakichkolwiek zabiegów agrotechnicznych i pielęgnacyjnych w terminie od dnia 01-04 do terminu pierwszego pokosu ",null,null,"brak możliwości uszczegółowienia",null,null,{"$f":"$J$20","v":0},null,null,null,null,null,null,null,{"$f":"'P_Zestawienie dzialek'!AJ32","v":0}]
[null,"częstotliwość koszenia: jeden pokos w ciągu roku","częstotliwość koszenia: jeden pokos w ciągu roku",null,null,"brak możliwości uszczegółowienia",null,null,{"$f":"$J$20","v":0},null,null,null,null,null,null,null,{"$f":"'P_Zestawienie dzialek'!AJ33","v":0}]
[null,"koszenie w terminie określonym przez eksperta przyrodniczego, przy czym termin ten rozpoczyna\nsię nie wcześniej niż w dniu 1 sierpnia i kończy się nie później niż w dniu 31 października",null,null,null,null,null,null,0,null,null,null,null,null,null,null,{"$f":"'P_Zestawienie dzialek'!AJ34","v":0}]
[null,"obowiązek zebrania i usunięcia skoszonej biomasy","obowiązek zebrania i usunięcia skoszonej biomasy",null,null,"brak możliwości uszczegółowienia",null,null,0,null,null,null,null,null,null,null,{"$f":"'P_Zestawienie dzialek'!AJ35","v":0}]
[null,"zakaz pozostawiania rozdrobnionej biomasy","zakaz pozostawiania rozdrobnionej biomasy",null,null,"brak możliwości uszczegółowienia",null,null,0,null,null,null,null,null,null,null,{"$f":"'P_Zestawienie dzialek'!AJ36","v":0}]
[null,"w terminie do dwóch tygodni po pokosie biomasa  powinna zostać usunięta z działki rolnej lub ułożona w pryzmy, w tym pryzmy balotowe, stogi lub brogi","w terminie do dwóch tygodni po pokosie biomasa powinna zostać usunięta z działki rolnej lub ułożona w pryzmy, w tym pryzmy balotowe, stogi lub brogi",null,null,"brak możliwości uszczegółowienia",null,null,0,null,null,null,null,null,null,null,{"$f":"'P_Zestawienie dzialek'!AJ37","v":0}]
[null,"w przypadku ułożenia biomasy w pryzmy, w tym pryzmy balotowe, stogi lub brogi powinna ona zostać usunięta z działki rolnej nie później niż do dnia 01-03 kolejnego roku","usunięcie z działki rolnej biomasy ułożonej w pryzmy, w tym pryzmy balotowe, stogi lub brogi do dnia 01-03 kolejnego roku",null,null,"brak możliwości uszczegółowienia",null,null,0,null,null,null,null,null,null,null,{"$f":"'P_Zestawienie dzialek'!AJ38","v":0}]
[null,"pozostawienie nieskoszonego fragmentu działki rolnej o powierzchni wynoszącej 15–20% powierzchni tej działki","pozostawienie nieskoszonego fragmentu działki rolnej o powierzchni wynoszącej 15-20% powierzchni tej działki",null,null,"brak możliwości uszczegółowienia",null,null,0,null,null,null,null,null,null,null,{"$f":"'P_Zestawienie dzialek'!AJ39","v":0}]
[null,"dla działek nieprzekraczających powierzchni 1 ha dopuszczalne jest zrezygnowanie z pozostawiania powierzchni nieskoszonych i koszenie co rok całej działki lub pozostawienie nieskoszonego fragmentu działki rolnej o powierzchni wynoszącej 15–20% powierzchni tej działki, jeżeli ekspert przyrodniczy dopuści taką możliwość ","działki rolne o powierzchni nieprzekraczającej 1,0 ha, na których jest dopuszczone pozostawienie fragmentów nieskoszonych wynoszących 15–20% powierzchni tej działki",null,null,null,null,null,0,null,null,null,null,null,null,null,{"$f":"'P_Zestawienie dzialek'!AJ40","v":0}]
[null,null,"działki rolne o powierzchni nieprzekraczającej 1,0 ha, na których jest zakaz pozostawienia fragmentów nieskoszonych i koszenie co roku całej działki rolnej",null,null,null,null,null,0,null,null,null,null,null,null,null,{"$f":"'P_Zestawienie dzialek'!AJ41","v":0}]
[null,"w dwóch kolejnych latach należy pozostawić różne fragmenty nieskoszone","w dwóch kolejnych latach należy pozostawić inne fragmenty nieskoszone",null,null,null,null,null,0,null,null,null,null,null,null,null,{"$f":"'P_Zestawienie dzialek'!AJ42","v":0}]
[null,"dopuszczalny wypas, jeżeli ekspert przyrodniczy dopuści taką możliwość  ","dopuszczalny wypas",null,null,null,null,null,0,null,null,null,null,null,null,null,{"$f":"'P_Zestawienie dzialek'!AJ43","v":0}]
[null,"termin dopuszczalnego wypasu: przy użytkowaniu kośno-pastwiskowym – wypas po pokosie w terminie określonym przez eksperta\nprzyrodniczego, przy czym termin ten kończy się nie później niż w dniu 31 października",null,null,null,null,null,null,{"$f":"IF(C39=\"zakaz wypasu\",0,$J$20)","v":0},null,null,null,null,null,null,null,{"$f":"'P_Zestawienie dzialek'!AJ44","v":0}]
[null,"wypas przy obsadzie  do 1 DJP/ha gruntów objętych wsparciem w ramach wariantu","wypas przy obsadzie do 1 DJP/ha gruntów objętych wsparciem",null,null,null,null,null,{"$f":"I40","v":0},null,null,null,null,null,null,null,{"$f":"'P_Zestawienie dzialek'!AJ45","v":0}]
[null,null,"Inne zalecenia wynikajace z PZO/PO lub inne zalecenia ekperta  ",null,null,null,null,null,0,null,null,null,null,null,null,null,{"$f":"'P_Zestawienie dzialek'!AJ46","v":0}]
[null,null,"źródło",null,"opis","uzasadnienie",null,null,0,null,null,null,null,null,null,null,{"$f":"'P_Zestawienie dzialek'!AJ47","v":0}]
[null,null,null,null,null,null,null,null,0,null,null,null,null,null,null,null,{"$f":"'P_Zestawienie dzialek'!AJ48","v":0}]
[null,null,null,null,null,null,null,null,0,null,null,null,null,null,null,null,{"$f":"'P_Zestawienie dzialek'!AJ49","v":0}]
[null,null,null,null,null,null,null,null,0,null,null,null,null,null,null,null,{"$f":"'P_Zestawienie dzialek'!AJ50","v":0}]
[null,null,null,null,null,null,null,null,null,null,null,null,null,null,null,null,{"$f":"'P_Zestawienie dzialek'!AJ51","v":0}]
[null,"włókowanie","włókowanie",null,null,null,null,null,null,null,null,null,null,null,null,null,{"$f":"'P_Zestawienie dzialek'!AJ52","v":0}]
[null,"całkowity zakaz włókowania wynikający z działań obligatoryjnych PZO/PO","zaleca się niewykonywanie włókowania ",null,null,null,null,null,null,null,null,null,null,null,null,null,{"$f":"'P_Zestawienie dzialek'!AJ53","v":0}]
[null,"zakaz włókowania w okresie od 15-04 do 01-09 na obszarach wyżynnych i górskich (powyżej 300 m n.p.m.)","zaleca się nie wykonywanie włókowania na obszarach wyżynnych i górskich (powyżej 300 m n.p.m.) w okresie od 15-04 do 01-09",null,null,null,null,null,0,null,null,null,null,null,null,null,{"$f":"'P_Zestawienie dzialek'!AJ54","v":0}]
[null,"zakaz włókowania w okresie od 01-04 do 01-09 na obszarach nizinnych (poniżej 300 m n.p.m.)","zaleca się nie wykonywanie włókowania na obszarach nizinnych (poniżej 300 m n.p.m.) w okresie od 01-04 do 01-09",null,null,null,null,null,0,null,null,null,null,null,null,null,{"$f":"'P_Zestawienie dzialek'!AJ55","v":0}]
[null,null,null,null,null,null,null,null,0,null,null,null,null,null,null,null,{"$f":"'P_Zestawienie dzialek'!AJ56","v":0}]
[null,"stosowanie środków ochrony roślin",null,null,null,null,null,null,0,null,null,null,null,null,null,null,{"$f":"'P_Zestawienie dzialek'!AJ57","v":0}]
[null,"zakaz stosowania środków ochrony roślin, z wyłączeniem selektywnego i miejscowego niszczenia uciążliwych gatunków inwazyjnych z zastosowaniem odpowiedniego sprzętu (np. mazaczy herbicydowych)",null,null,null,null,null,null,0,{"$f":"IF(C53=\"dopuszczalny wypas koników polskich i koni huculskich przez cały rok\",1,0)","v":0}]
[null,"zakaz stosowania środków ochrony roślin",null,null,null,null,null,null,0,null,null,null,null,null,null,null,{"$f":"'P_Zestawienie dzialek'!$AE58","v":0}]
[null,null,null,null,null,null,null,null,0,{"$f":"IF(C55=\"nie dotyczy\",0,1)","v":1},null,null,null,null,null,null,{"$f":"'P_Zestawienie dzialek'!$AE59","v":0}]
[null,"urządzenia hydrotechniczne ",null,null,null,null,null,null,0,null,null,null,null,null,null,null,{"$f":"'P_Zestawienie dzialek'!$AE60","v":0}]
[null,"zakaz tworzenia nowych, rozbudowy i odtwarzania istniejących urządzeń melioracji, za wyjątkiem konstrukcji urządzeń mających na celu dostosowanie poziomu wód, wykorzystując istniejące urządzenia melioracji do wymogów siedliskowych gatunków lub siedlisk będących przedmiotem ochrony w pakiecie",null,null,null,null,null,null,0,null,null,null,null,null,null,null,{"$f":"'P_Zestawienie dzialek'!$AE61","v":0}]
[null,"zakaz tworzenia nowych, rozbudowy i odtwarzania istniejących urządzeń melioracji",null,null,null,null,null,null,1]
[null,null,null,null,null,null,null,null,1]
[null,"rodzaj użytkowania",null,null,null,null,null,null,1]
[null,"kośne","kośne",null,null,null,null,null,1]
[null,"kośno-pastwiskowe","kośno-pastwiskowe",null,null,null,null,null,1]
[null,"naprzemienne","nie dotyczy",null,null,null,null,null,1]
[null,"zakaz stosowania zabiegów agrotechnicznych przy użytkowaniu kośno-pastwiskowym",null,null,null,null,null,null,1]
[null,"zakaz stosowania jakichkolwiek zabiegów agrotechnicznych i pielęgnacyjnych od 01-04 do terminu pierwszego pokosu ",null,null,null,null,null,null,1]
[null,null,null,null,null,null,null,null,1]
[null,"termin koszenia"]
[null,"termin koszenia: od 01-08 do 31-10"]
[]
[null,"usunięcie biomasy"]
[null,"w terminie do dwóch tygodni po pokosie biomasa  powinna zostać usunięta z działki rolnej lub ułożona w pryzmy, w tym pryzmy balotowe, stogi lub brogi"]
[null,"nie zaleca się układania na działce pryzm, stogów lub brogów"]
[null,"nie zaleca się układania na działce pryzm"]
[]
[null,"brak koszenia na działce poniżej 1,0 ha"]
[null,"działka o powierzchni poniżej 1,0 ha: rezygnacja z pozostawiania fragmentów nieskoszonych – koszenie całej działki rolnej"]
[null,"działka o powierzchni poniżej 1,0 ha: zakaz pozostawiania fragmentów nieskoszonych "]
[null,"działka o powierzchni poniżej 1,0 ha:  obowiązek pozostawienia fragmentów nieskoszonych wynoszących 15–20% powierzchni tej działki"]
[]
[null,"fragmenty niekoszone"]
[null,"w dwóch kolejnych latach należy pozostawić różne fragmenty nieskoszone "]
[null,"w każdym roku, w ciągu całego pięcioletniego zobowiązania należy pozostawić inny fragment nieskoszony "]
[]
[null,"usunięcie balotów, pryzm, stogów "]
[null,"usunięcie z działki rolnej biomasy ułożonej w pryzmy, w tym pryzmy balotowe, stogi lub brogi do dnia 01-03 kolejnego roku"]
[]
[null,"dopuszczenie wypasu"]
[null,"zakaz wypasu"]
[null,"dopuszczalny wypas"]
[]
[null,"termin wypasu przy użytkowaniu kośno-pastwiskowym"]
[null,"termin dopuszczalnego wypasu: po pokosie, do 31-10"]
[]
[null,"obsada przy użytkowaniu kośno-pastwiskowym"]
[null,"wypas przy obsadzie  do 1,0 DJP/ha gruntów objętych wsparciem w ramach wariantu"]
[]
[null,"działki mniejsze niż 1 ha"]
[null,"oznaczenia działek rolnych: …"]
[null,"nie dotyczy"]
[]
[]
[null,null,"pozostawienie nieskoszonego fragmentu działki rolnej o powierzchni wynoszącej 15-20% powierzchni tej działki"]
[null,null,"nie dotyczy"]
[]
[null,null,"wypas przy obsadzie do 1 DJP/ha gruntów objętych wsparciem"]

{"sheet":"PW411","index":50,"n_rows":0,"n_cols":0,"rows_kept":0,"cut":false,"hidden":true,"merged":[]}

{"sheet":"P_Kontrola pkt RSO(0)","index":51,"n_rows":293,"n_cols":10,"rows_kept":293,"cut":false,"hidden":true,"merged":[[291,1,291,2],[292,1,292,2],[285,1,285,2],[286,1,286,2],[287,1,287,2],[288,1,288,2],[289,1,289,2],[290,1,290,2],[280,1,280,3],[280,4,280,6],[281,1,281,6],[282,1,282,2],[283,1,283,2],[284,1,284,2],[277,1,277,2],[277,4,277,5],[278,1,278,2],[278,4,278,5],[279,1,279,2],[279,4,279,5],[274,1,274,2],[274,4,274,5],[275,1,275,2],[275,4,275,5],[276,1,276,2],[276,4,276,5],[271,1,271,3],[271,4,271,6],[272,1,272,2],[272,4,272,5],[273,1,273,2],[273,4,273,5],[265,1,265,5],[266,1,266,6],[267,1,267,3],[267,4,267,6],[270,1,270,2],[270,4,270,5],[258,1,258,2],[259,1,259,2],[260,1,260,2],[261,1,261,2],[262,1,262,2],[263,1,263,2],[252,1,252,6],[253,1,253,2],[254,1,254,2],[255,1,255,2],[256,1,256,2],[257,1,257,2],[249,1,249,2],[249,4,249,5],[250,1,250,2],[250,4,250,5],[251,1,251,3],[251,4,251,6],[246,1,246,2],[246,4,246,5],[247,1,247,2],[247,4,247,5],[248,1,248,2],[248,4,248,5],[243,1,243,2],[243,4,243,5],[244,1,244,2],[244,4,244,5],[245,1,245,2],[245,4,245,5],[238,1,238,3],[238,4,238,6],[241,1,241,2],[241,4,241,5],[242,1,242,3],[242,4,242,6],[231,1,231,2],[232,1,232,2],[233,1,233,2],[234,1,234,2],[236,1,236,5],[237,1,237,6],[225,1,225,2],[226,1,226,2],[227,1,227,2],[228,1,228,2],[229,1,229,2],[230,1,230,2],[221,1,221,2],[221,4,221,5],[222,1,222,3],[222,4,222,6],[223,1,223,6],[224,1,224,2],[218,1,218,2],[218,4,218,5],[219,1,219,2],[219,4,219,5],[220,1,220,2],[220,4,220,5],[215,1,215,2],[215,4,215,5],[216,1,216,2],[216,4,216,5],[217,1,217,2],[217,4,217,5],[212,1,212,2],[212,4,212,5],[213,1,213,3],[213,4,213,6],[214,1,214,2],[214,4,214,5],[204,1,204,2],[205,1,205,2],[207,1,207,5],[208,1,208,6],[209,1,209,3],[209,4,209,6],[198,1,198,2],[199,1,199,2],[200,1,200,2],[201,1,201,2],[202,1,202,2],[203,1,203,2],[193,1,193,3],[193,4,193,6],[194,1,194,6],[195,1,195,2],[196,1,196,2],[197,1,197,2],[190,1,190,2],[190,4,190,5],[191,1,191,2],[191,4,191,5],[192,1,192,2],[192,4,192,5],[187,1,187,2],[187,4,187,5],[188,1,188,2],[188,4,188,5],[189,1,189,2],[189,4,189,5],[184,1,184,3],[184,4,184,6],[185,1,185,2],[185,4,185,5],[186,1,186,2],[186,4,186,5],[178,1,178,5],[179,1,179,6],[180,1,180,3],[180,4,180,6],[183,1,183,2],[183,4,183,5],[171,1,171,2],[172,1,172,2],[173,1,173,2],[174,1,174,2],[175,1,175,2],[176,1,176,2],[165,1,165,6],[166,1,166,2],[167,1,167,2],[168,1,168,2],[169,1,169,2],[170,1,170,2],[162,1,162,2],[162,4,162,5],[163,1,163,2],[163,4,163,5],[164,1,164,3],[164,4,164,6],[159,1,159,2],[159,4,159,5],[160,1,160,2],[160,4,160,5],[161,1,161,2],[161,4,161,5],[156,1,156,2],[156,4,156,5],[157,1,157,2],[157,4,157,5],[158,1,158,2],[158,4,158,5],[151,1,151,3],[151,4,151,6],[154,1,154,2],[154,4,154,5],[155,1,155,3],[155,4,155,6],[144,1,144,2],[145,1,145,2],[146,1,146,2],[147,1,147,2],[149,1,149,5],[150,1,150,6],[138,1,138,2],[139,1,139,2],[140,1,140,2],[141,1,141,2],[142,1,142,2],[143,1,143,2],[134,1,134,2],[134,4,134,5],[135,1,135,3],[135,4,135,6],[136,1,136,6],[137,1,137,2],[131,1,131,2],[131,4,131,5],[132,1,132,2],[132,4,132,5],[133,1,133,2],[133,4,133,5],[128,1,128,2],[128,4,128,5],[129,1,129,2],[129,4,129,5],[130,1,130,2],[130,4,130,5],[125,1,125,2],[125,4,125,5],[126,1,126,3],[126,4,126,6],[127,1,127,2],[127,4,127,5],[117,1,117,2],[118,1,118,2],[120,1,120,5],[121,1,121,6],[122,1,122,3],[122,4,122,6],[111,1,111,2],[112,1,112,2],[113,1,113,2],[114,1,114,2],[115,1,115,2],[116,1,116,2],[106,1,106,3],[106,4,106,6],[107,1,107,6],[108,1,108,2],[109,1,109,2],[110,1,110,2],[103,1,103,2],[103,4,103,5],[104,1,104,2],[104,4,104,5],[105,1,105,2],[105,4,105,5],[100,1,100,2],[100,4,100,5],[101,1,101,2],[101,4,101,5],[102,1,102,2],[102,4,102,5],[97,1,97,3],[97,4,97,6],[98,1,98,2],[98,4,98,5],[99,1,99,2],[99,4,99,5],[91,1,91,5],[92,1,92,6],[93,1,93,3],[93,4,93,6],[96,1,96,2],[96,4,96,5],[84,1,84,2],[85,1,85,2],[86,1,86,2],[87,1,87,2],[88,1,88,2],[89,1,89,2],[78,1,78,6],[79,1,79,2],[80,1,80,2],[81,1,81,2],[82,1,82,2],[83,1,83,2],[75,1,75,2],[75,4,75,5],[76,1,76,2],[76,4,76,5],[77,1,77,3],[77,4,77,6],[72,1,72,2],[72,4,72,5],[73,1,73,2],[73,4,73,5],[74,1,74,2],[74,4,74,5],[69,1,69,2],[69,4,69,5],[70,1,70,2],[70,4,70,5],[71,1,71,2],[71,4,71,5],[64,1,64,3],[64,4,64,6],[67,1,67,2],[67,4,67,5],[68,1,68,3],[68,4,68,6],[57,1,57,2],[58,1,58,2],[59,1,59,2],[60,1,60,2],[62,1,62,5],[63,1,63,6],[51,1,51,2],[52,1,52,2],[53,1,53,2],[54,1,54,2],[55,1,55,2],[56,1,56,2],[47,1,47,2],[47,4,47,5],[48,1,48,3],[48,4,48,6],[49,1,49,6],[50,1,50,2],[44,1,44,2],[44,4,44,5],[45,1,45,2],[45,4,45,5],[46,1,46,2],[46,4,46,5],[41,1,41,2],[41,4,41,5],[42,1,42,2],[42,4,42,5],[43,1,43,2],[43,4,43,5],[38,1,38,2],[38,4,38,5],[39,1,39,3],[39,4,39,6],[40,1,40,2],[40,4,40,5],[30,1,30,2],[31,1,31,2],[33,1,33,5],[34,1,34,6],[35,1,35,3],[35,4,35,6],[24,1,24,2],[25,1,25,2],[26,1,26,2],[27,1,27,2],[28,1,28,2],[29,1,29,2],[19,1,19,3],[19,4,19,6],[20,1,20,6],[21,1,21,2],[22,1,22,2],[23,1,23,2],[16,1,16,2],[16,4,16,5],[17,1,17,2],[17,4,17,5],[18,1,18,2],[18,4,18,5],[13,1,13,2],[13,4,13,5],[14,1,14,2],[14,4,14,5],[15,1,15,2],[15,4,15,5],[10,1,10,3],[10,4,10,6],[11,1,11,2],[11,4,11,5],[12,1,12,2],[12,4,12,5],[3,1,3,5],[4,1,4,5],[5,1,5,6],[6,1,6,3],[6,4,6,6],[9,1,9,2],[9,4,9,5]]}
[null,null,null,null,null,null,"Powrót",null,null,1]
[null,null,null,null,null,null,null,null,null,1]
[null,null,null,null,null,null,null,null,null,1]
[null,"Kontrola ornitologiczna na działce RSO numer:",null,null,null,null," ",null,null,1]
[null,"Numer punktu kontrolnego na działce RSO",null,null,null,null,1,null,null,1]
[null,"Współrzędne geograficzne punktu kontrolnego",null,null,null,null,null,null,null,1]
[null,"Długość geograficzna [E] ",null,null,"Szerokość geograficzna [N]",null,null,null,null,1]
[null,"stopnie","minuty","sekundy","stopnie","minuty","sekundy",null,null,1]
[null,null,null,null,null,null,0,null,null,1]
[null,"Data kontroli",null,null,"Godzina rozpoczęcia kontroli",null,null,null,null,1]
[null,"Struktura pokrycia terenu i inne obserwacje \nw bezpośrednim sąsiedztwie punktu obserwacyjnego ",null,null,"Obserwacje dodatkowe gatunków kwalifikujących",null,null,null,null,1]
[null,"użytki zielone",null,null,"rycyk",null,null,null,"1",1]
[null,"grunty orne",null,null,"czajka",null,0,null,"0",1]
[null,"lasy i zadrzewienia",null,null,"kszyk",null,null,null,null,1]
[null,"wody powierzchniowe",null,null,"krwawodziób",null,null,null,null,1]
[null,"zabudowa",null,null,"dubelt",null,null,null,null,1]
[null,"widoczność w punkcie obserwacyjnym",null,null,"kulik wielki",null,null,null,null,1]
[null,"zwierzęta gospodarskie",null,null,"wodniczka",null,null,null,null,1]
[null,"drapieżniki",null,null,"derkacz",null,null,null,null,1]
[null,"Uwilgotnienie podłoża",null,null,null,null,null,null,null,1]
[null,"Obserwacje ornitologiczne\n",null,null,null,null,null,null,null,{"$f":"J22","v":0}]
[null,"gatunek",null,"ziemia\n[0–50 m]","lot\n[0–50 m]","ziemia\n[51–100 m]","lot\n[51–100 m]",null,null,{"$f":"SUM(J23:J32)","v":0}]
[null,null,null,null,null,null,null,null,null,{"$f":"COUNTA(B23:G23)","v":0}]
[null,null,null,null,null,null,null,null,null,{"$f":"COUNTA(B24:G24)","v":0}]
[null,null,null,null,null,null,null,null,null,0]
[null,null,null,null,null,null,null,null,null,0]
[null,null,null,null,null,null,null,null,null,0]
[null,null,null,null,null,null,null,null,null,0]
[null,null,null,null,null,null,null,null,null,0]
[null,null,null,null,null,null,null,null,null,0]
[null,null,null,null,null,null,null,null,null,0]
[null,null,null,null,null,null,null,null,null,0]
[null,null,null,null,null,null,null,null,null,{"$f":"$J$51","v":0}]
[null,"Numer punktu kontrolnego na działce RSO",null,null,null,null,{"$f":"G5+1","v":2},null,null,{"$f":"$J$51","v":0}]
[null,"Współrzędne geograficzne punktu kontrolnego",null,null,null,null,null,null,null,{"$f":"$J$51","v":0}]
[null,"Długość geograficzna [E] ",null,null,"Szerokość geograficzna [N]",null,null,null,null,0]
[null,"stopnie","minuty","sekundy","stopnie","minuty","sekundy",null,null,0]
[null,null,null,null,null,null,0,null,null,0]
[null,"Data kontroli",null,null,"Godzina rozpoczęcia kontroli",null,null,null,null,0]
[null,"Struktura pokrycia terenu i inne obserwacje \nw bezpośrednim sąsiedztwie punktu obserwacyjnego ",null,null,"Obserwacje dodatkowe gatunków kwalifikujących",null,null,null,null,0]
[null,"użytki zielone",null,null,"rycyk",null,null,null,1,0]
[null,"grunty orne",null,null,"czajka",null,null,null,0,0]
[null,"lasy i zadrzewienia",null,null,"kszyk",null,null,null,null,0]
[null,"wody powierzchniowe",null,null,"krwawodziób",null,null,null,null,0]
[null,"zabudowa",null,null,"dubelt",null,null,null,null,0]
[null,"widoczność w punkcie obserwacyjnym",null,null,"kulik wielki",null,null,null,null,0]
[null,"zwierzęta gospodarskie",null,null,"wodniczka",null,null,null,null,0]
[null,"drapieżniki",null,null,"derkacz",null,null,null,null,0]
[null,"Uwilgotnienie podłoża",null,null,null,null,null,null,null,0]
[null,"Obserwacje ornitologiczne\n",null,null,null,null,null,null,null,0]
[null,"gatunek",null,"ziemia\n[0–50 m]","lot\n[0–50 m]","ziemia\n[51–100 m]","lot\n[51–100 m]",null,null,{"$f":"SUM(J52:J61)","v":0}]
[null,null,null,null,null,null,null,null,null,{"$f":"COUNTA(B52:G52)","v":0}]
[null,null,null,null,null,null,null,null,null,{"$f":"COUNTA(B53:G53)","v":0}]
[null,null,null,null,null,null,null,null,null,0]
[null,null,null,null,null,null,null,null,null,0]
[null,null,null,null,null,null,null,null,null,0]
[null,null,null,null,null,null,null,null,null,0]
[null,null,null,null,null,null,null,null,null,0]
[null,null,null,null,null,null,null,null,null,0]
[null,null,null,null,null,null,null,null,null,0]
[null,null,null,null,null,null,null,null,null,0]
[null,null,null,null,null,null,null,null,null,{"$f":"$J$80","v":0}]
[null,"Numer punktu kontrolnego na działce RSO",null,null,null,null,{"$f":"G34+1","v":3},null,null,{"$f":"$J$80","v":0}]
[null,"Współrzędne geograficzne punktu kontrolnego",null,null,null,null,null,null,null,{"$f":"$J$80","v":0}]
[null,"Długość geograficzna [E] ",null,null,"Szerokość geograficzna [N]",null,null,null,null,0]
[null,"stopnie","minuty","sekundy","stopnie","minuty","sekundy",null,null,0]
[null,null,null,null,null,null,0,null,null,0]
[null,"Data kontroli",null,null,"Godzina rozpoczęcia kontroli",null,null,null,null,0]
[null,"Struktura pokrycia terenu i inne obserwacje \nw bezpośrednim sąsiedztwie punktu obserwacyjnego ",null,null,"Obserwacje dodatkowe gatunków kwalifikujących",null,null,null,null,0]
[null,"użytki zielone",null,null,"rycyk",null,null,null,1,0]
[null,"grunty orne",null,null,"czajka",null,null,null,0,0]
[null,"lasy i zadrzewienia",null,null,"kszyk",null,null,null,null,0]
[null,"wody powierzchniowe",null,null,"krwawodziób",null,null,null,null,0]
[null,"zabudowa",null,null,"dubelt",null,null,null,null,0]
[null,"widoczność w punkcie obserwacyjnym",null,null,"kulik wielki",null,null,null,null,0]
[null,"zwierzęta gospodarskie",null,null,"wodniczka",null,null,null,null,0]
[null,"drapieżniki",null,null,"derkacz",null,null,null,null,0]
[null,"Uwilgotnienie podłoża",null,null,null,null,null,null,null,0]
[null,"Obserwacje ornitologiczne\n",null,null,null,null,null,null,null,0]
[null,"gatunek",null,"ziemia\n[0–50 m]","lot\n[0–50 m]","ziemia\n[51–100 m]","lot\n[51–100 m]",null,null,{"$f":"SUM(J81:J90)","v":0}]
[null,null,null,null,null,null,null,null,null,{"$f":"COUNTA(B81:G81)","v":0}]
[null,null,null,null,null,null,null,null,null,{"$f":"COUNTA(B82:G82)","v":0}]
[null,null,null,null,null,null,null,null,null,0]
[null,null,null,null,null,null,null,null,null,0]
[null,null,null,null,null,null,null,null,null,0]
[null,null,null,null,null,null,null,null,null,0]
[null,null,null,null,null,null,null,null,null,0]
[null,null,null,null,null,null,null,null,null,0]
[null,null,null,null,null,null,null,null,null,0]
[null,null,null,null,null,null,null,null,null,0]
[null,null,null,null,null,null,null,null,null,{"$f":"$J$109","v":0}]
[null,"Numer punktu kontrolnego na działce RSO",null,null,null,null,{"$f":"G63+1","v":4},null,null,{"$f":"$J$109","v":0}]
[null,"Współrzędne geograficzne punktu kontrolnego",null,null,null,null,null,null,null,{"$f":"$J$109","v":0}]
[null,"Długość geograficzna [E] ",null,null,"Szerokość geograficzna [N]",null,null,null,null,0]
[null,"stopnie","minuty","sekundy","stopnie","minuty","sekundy",null,null,0]
[null,null,null,null,null,null,0,null,null,0]
[null,"Data kontroli",null,null,"Godzina rozpoczęcia kontroli",null,null,null,null,0]
[null,"Struktura pokrycia terenu i inne obserwacje \nw bezpośrednim sąsiedztwie punktu obserwacyjnego ",null,null,"Obserwacje dodatkowe gatunków kwalifikujących",null,null,null,null,0]
[null,"użytki zielone",null,null,"rycyk",null,null,null,1,0]
[null,"grunty orne",null,null,"czajka",null,null,null,0,0]
[null,"lasy i zadrzewienia",null,null,"kszyk",null,null,null,null,0]
[null,"wody powierzchniowe",null,null,"krwawodziób",null,null,null,null,0]
[null,"zabudowa",null,null,"dubelt",null,null,null,null,0]
[null,"widoczność w punkcie obserwacyjnym",null,null,"kulik wielki",null,null,null,null,0]
[null,"zwierzęta gospodarskie",null,null,"wodniczka",null,null,null,null,0]
[null,"drapieżniki",null,null,"derkacz",null,null,null,null,0]
[null,"Uwilgotnienie podłoża",null,null,null,null,null,null,null,0]
[null,"Obserwacje ornitologiczne\n",null,null,null,null,null,null,null,0]
[null,"gatunek",null,"ziemia\n[0–50 m]","lot\n[0–50 m]","ziemia\n[51–100 m]","lot\n[51–100 m]",null,null,{"$f":"SUM(J110:J119)","v":0}]
[null,null,null,null,null,null,null,null,null,{"$f":"COUNTA(B110:G110)","v":0}]
[null,null,null,null,null,null,null,null,null,{"$f":"COUNTA(B111:G111)","v":0}]
[null,null,null,null,null,null,null,null,null,0]
[null,null,null,null,null,null,null,null,null,0]
[null,null,null,null,null,null,null,null,null,0]
[null,null,null,null,null,null,null,null,null,0]
[null,null,null,null,null,null,null,null,null,0]
[null,null,null,null,null,null,null,null,null,0]
[null,null,null,null,null,null,null,null,null,0]
[null,null,null,null,null,null,null,null,null,0]
[null,null,null,null,null,null,null,null,null,{"$f":"$J$138","v":0}]
[null,"Numer punktu kontrolnego na działce RSO",null,null,null,null,{"$f":"G92+1","v":5},null,null,{"$f":"$J$138","v":0}]
[null,"Współrzędne geograficzne punktu kontrolnego",null,null,null,null,null,null,null,{"$f":"$J$138","v":0}]
[null,"Długość geograficzna [E] ",null,null,"Szerokość geograficzna [N]",null,null,null,null,0]
[null,"stopnie","minuty","sekundy","stopnie","minuty","sekundy",null,null,0]
[null,null,null,null,null,null,0,null,null,0]
[null,"Data kontroli",null,null,"Godzina rozpoczęcia kontroli",null,null,null,null,0]
[null,"Struktura pokrycia terenu i inne obserwacje \nw bezpośrednim sąsiedztwie punktu obserwacyjnego ",null,null,"Obserwacje dodatkowe gatunków kwalifikujących",null,null,null,null,0]
[null,"użytki zielone",null,null,"rycyk",null,null,null,1,0]
[null,"grunty orne",null,null,"czajka",null,null,null,0,0]
[null,"lasy i zadrzewienia",null,null,"kszyk",null,null,null,null,0]
[null,"wody powierzchniowe",null,null,"krwawodziób",null,null,null,null,0]
[null,"zabudowa",null,null,"dubelt",null,null,null,null,0]
[null,"widoczność w punkcie obserwacyjnym",null,null,"kulik wielki",null,null,null,null,0]
[null,"zwierzęta gospodarskie",null,null,"wodniczka",null,null,null,null,0]
[null,"drapieżniki",null,null,"derkacz",null,null,null,null,0]
[null,"Uwilgotnienie podłoża",null,null,null,null,null,null,null,0]
[null,"Obserwacje ornitologiczne\n",null,null,null,null,null,null,null,0]
[null,"gatunek",null,"ziemia\n[0–50 m]","lot\n[0–50 m]","ziemia\n[51–100 m]","lot\n[51–100 m]",null,null,{"$f":"SUM(J139:J148)","v":0}]
[null,null,null,null,null,null,null,null,null,{"$f":"COUNTA(B139:G139)","v":0}]
[null,null,null,null,null,null,null,null,null,{"$f":"COUNTA(B140:G140)","v":0}]
[null,null,null,null,null,null,null,null,null,0]
[null,null,null,null,null,null,null,null,null,0]
[null,null,null,null,null,null,null,null,null,0]
[null,null,null,null,null,null,null,null,null,0]
[null,null,null,null,null,null,null,null,null,0]
[null,null,null,null,null,null,null,null,null,0]
[null,null,null,null,null,null,null,null,null,0]
[null,null,null,null,null,null,null,null,null,0]
[null,null,null,null,null,null,null,null,null,{"$f":"$J$167","v":0}]
[null,"Numer punktu kontrolnego na działce RSO",null,null,null,null,{"$f":"G121+1","v":6},null,null,0]
[null,"Współrzędne geograficzne punktu kontrolnego",null,null,null,null,null,null,null,{"$f":"$J$167","v":0}]
[null,"Długość geograficzna [E] ",null,null,"Szerokość geograficzna [N]",null,null,null,null,{"$f":"$J$167","v":0}]
[null,"stopnie","minuty","sekundy","stopnie","minuty","sekundy",null,null,0]
[null,null,null,null,null,null,0,null,null,0]
[null,"Data kontroli",null,null,"Godzina rozpoczęcia kontroli",null,null,null,null,0]
[null,"Struktura pokrycia terenu i inne obserwacje \nw bezpośrednim sąsiedztwie punktu obserwacyjnego ",null,null,"Obserwacje dodatkowe gatunków kwalifikujących",null,null,null,null,0]
[null,"użytki zielone",null,null,"rycyk",null,"1",null,1,0]
[null,"grunty orne",null,null,"czajka",null,null,null,0,0]
[null,"lasy i zadrzewienia",null,null,"kszyk",null,null,null,null,0]
[null,"wody powierzchniowe",null,null,"krwawodziób",null,null,null,null,0]
[null,"zabudowa",null,null,"dubelt",null,null,null,null,0]
[null,"widoczność w punkcie obserwacyjnym",null,null,"kulik wielki",null,null,null,null,0]
[null,"zwierzęta gospodarskie",null,null,"wodniczka",null,null,null,null,0]
[null,"drapieżniki",null,null,"derkacz",null,null,null,null,0]
[null,"Uwilgotnienie podłoża",null,null,"podłoże wysuszone, brak widocznych śladów wody",null,null,null,null,0]
[null,"Obserwacje ornitologiczne\n",null,null,null,null,null,null,null,0]
[null,"gatunek",null,"ziemia\n[0–50 m]","lot\n[0–50 m]","ziemia\n[51–100 m]","lot\n[51–100 m]",null,null,{"$f":"SUM(J168:J177)","v":0}]
[null,null,null,null,null,null,null,null,null,{"$f":"COUNTA(B168:G168)","v":0}]
[null,null,null,null,null,null,null,null,null,{"$f":"COUNTA(B169:G169)","v":0}]
[null,null,null,null,null,null,null,null,null,0]
[null,null,null,null,null,null,null,null,null,0]
[null,null,null,null,null,null,null,null,null,0]
[null,null,null,null,null,null,null,null,null,0]
[null,null,null,null,null,null,null,null,null,0]
[null,null,null,null,null,null,null,null,null,0]
[null,null,null,null,null,null,null,null,null,0]
[null,null,null,null,null,null,null,null,null,0]
[null,null,null,null,null,null,null,null,null,{"$f":"$J$196","v":0}]
[null,"Numer punktu kontrolnego na działce RSO",null,null,null,null,{"$f":"G150+1","v":7},null,null,{"$f":"$J$196","v":0}]
[null,"Współrzędne geograficzne punktu kontrolnego",null,null,null,null,null,null,null,{"$f":"$J$196","v":0}]
[null,"Długość geograficzna [E] ",null,null,"Szerokość geograficzna [N]",null,null,null,null,0]
[null,"stopnie","minuty","sekundy","stopnie","minuty","sekundy",null,null,0]
[null,null,null,null,null,null,0,null,null,0]
[null,"Data kontroli",null,null,"Godzina rozpoczęcia kontroli",null,null,null,null,0]
[null,"Struktura pokrycia terenu i inne obserwacje \nw bezpośrednim sąsiedztwie punktu obserwacyjnego ",null,null,"Obserwacje dodatkowe gatunków kwalifikujących",null,null,null,null,0]
[null,"użytki zielone",null,null,"rycyk",null,null,null,1,0]
[null,"grunty orne",null,null,"czajka",null,null,null,0,0]
[null,"lasy i zadrzewienia",null,null,"kszyk",null,null,null,null,0]
[null,"wody powierzchniowe",null,null,"krwawodziób",null,null,null,null,0]
[null,"zabudowa",null,null,"dubelt",null,null,null,null,0]
[null,"widoczność w punkcie obserwacyjnym",null,null,"kulik wielki",null,null,null,null,0]
[null,"zwierzęta gospodarskie",null,null,"wodniczka",null,null,null,null,0]
[null,"drapieżniki",null,null,"derkacz",null,null,null,null,0]
[null,"Uwilgotnienie podłoża",null,null,null,null,null,null,null,0]
[null,"Obserwacje ornitologiczne\n",null,null,null,null,null,null,null,0]
[null,"gatunek",null,"ziemia\n[0–50 m]","lot\n[0–50 m]","ziemia\n[51–100 m]","lot\n[51–100 m]",null,null,{"$f":"SUM(J197:J206)","v":0}]
[null,null,null,null,null,null,null,null,null,{"$f":"COUNTA(B197:G197)","v":0}]
[null,null,null,null,null,null,null,null,null,{"$f":"COUNTA(B198:G198)","v":0}]
[null,null,null,null,null,null,null,null,null,0]
[null,null,null,null,null,null,null,null,null,0]
[null,null,null,null,null,null,null,null,null,0]
[null,null,null,null,null,null,null,null,null,0]
[null,null,null,null,null,null,null,null,null,0]
[null,null,null,null,null,null,null,null,null,0]
[null,null,null,null,null,null,null,null,null,0]
[null,null,null,null,null,null,null,null,null,0]
[null,null,null,null,null,null,null,null,null,{"$f":"$J$225","v":0}]
[null,"Numer punktu kontrolnego na działce RSO",null,null,null,null,{"$f":"G179+1","v":8},null,null,{"$f":"$J$225","v":0}]
[null,"Współrzędne geograficzne punktu kontrolnego",null,null,null,null,null,null,null,{"$f":"$J$225","v":0}]
[null,"Długość geograficzna [E] ",null,null,"Szerokość geograficzna [N]",null,null,null,null,0]
[null,"stopnie","minuty","sekundy","stopnie","minuty","sekundy",null,null,0]
[null,null,null,null,null,null,0,null,null,0]
[null,"Data kontroli",null,null,"Godzina rozpoczęcia kontroli",null,null,null,null,0]
[null,"Struktura pokrycia terenu i inne obserwacje \nw bezpośrednim sąsiedztwie punktu obserwacyjnego ",null,null,"Obserwacje dodatkowe gatunków kwalifikujących",null,null,null,null,0]
[null,"użytki zielone",null,null,"rycyk",null,null,null,1,0]
[null,"grunty orne",null,null,"czajka",null,null,null,0,0]
[null,"lasy i zadrzewienia",null,null,"kszyk",null,null,null,null,0]
[null,"wody powierzchniowe",null,null,"krwawodziób",null,null,null,null,0]
[null,"zabudowa",null,null,"dubelt",null,null,null,null,0]
[null,"widoczność w punkcie obserwacyjnym",null,null,"kulik wielki",null,null,null,null,0]
[null,"zwierzęta gospodarskie",null,null,"wodniczka",null,null,null,null,0]
[null,"drapieżniki",null,null,"derkacz",null,null,null,null,0]
[null,"Uwilgotnienie podłoża",null,null,null,null,null,null,null,0]
[null,"Obserwacje ornitologiczne\n",null,null,null,null,null,null,null,0]
[null,"gatunek",null,"ziemia\n[0–50 m]","lot\n[0–50 m]","ziemia\n[51–100 m]","lot\n[51–100 m]",null,null,{"$f":"SUM(J226:J235)","v":0}]
[null,null,null,null,null,null,null,null,null,{"$f":"COUNTA(B226:G226)","v":0}]
[null,null,null,null,null,null,null,null,null,{"$f":"COUNTA(B227:G227)","v":0}]
[null,null,null,null,null,null,null,null,null,0]
[null,null,null,null,null,null,null,null,null,0]
[null,null,null,null,null,null,null,null,null,0]
[null,null,null,null,null,null,null,null,null,0]
[null,null,null,null,null,null,null,null,null,0]
[null,null,null,null,null,null,null,null,null,0]
[null,null,null,null,null,null,null,null,null,0]
[null,null,null,null,null,null,null,null,null,0]
[null,null,null,null,null,null,null,null,null,{"$f":"$J$254","v":0}]
[null,"Numer punktu kontrolnego na działce RSO",null,null,null,null,{"$f":"G208+1","v":9},null,null,{"$f":"$J$254","v":0}]
[null,"Współrzędne geograficzne punktu kontrolnego",null,null,null,null,null,null,null,{"$f":"$J$254","v":0}]
[null,"Długość geograficzna [E] ",null,null,"Szerokość geograficzna [N]",null,null,null,null,0]
[null,"stopnie","minuty","sekundy","stopnie","minuty","sekundy",null,null,0]
[null,null,null,null,null,null,0,null,null,0]
[null,"Data kontroli",null,null,"Godzina rozpoczęcia kontroli",null,null,null,null,0]
[null,"Struktura pokrycia terenu i inne obserwacje \nw bezpośrednim sąsiedztwie punktu obserwacyjnego ",null,null,"Obserwacje dodatkowe gatunków kwalifikujących",null,null,null,null,0]
[null,"użytki zielone",null,null,"rycyk",null,null,null,1,0]
[null,"grunty orne",null,null,"czajka",null,null,null,0,0]
[null,"lasy i zadrzewienia",null,null,"kszyk",null,null,null,null,0]
[null,"wody powierzchniowe",null,null,"krwawodziób",null,null,null,null,0]
[null,"zabudowa",null,null,"dubelt",null,null,null,null,0]
[null,"widoczność w punkcie obserwacyjnym",null,null,"kulik wielki",null,null,null,null,0]
[null,"zwierzęta gospodarskie",null,null,"wodniczka",null,null,null,null,0]
[null,"drapieżniki",null,null,"derkacz",null,null,null,null,0]
[null,"Uwilgotnienie podłoża",null,null,null,null,null,null,null,0]
[null,"Obserwacje ornitologiczne\n",null,null,null,null,null,null,null,0]
[null,"gatunek",null,"ziemia\n[0–50 m]","lot\n[0–50 m]","ziemia\n[51–100 m]","lot\n[51–100 m]",null,null,{"$f":"SUM(J255:J264)","v":0}]
[null,null,null,null,null,null,null,null,null,{"$f":"COUNTA(B255:G255)","v":0}]
[null,null,null,null,null,null,null,null,null,{"$f":"COUNTA(B256:G256)","v":0}]
[null,null,null,null,null,null,null,null,null,0]
[null,null,null,null,null,null,null,null,null,0]
[null,null,null,null,null,null,null,null,null,0]
[null,null,null,null,null,null,null,null,null,0]
[null,null,null,null,null,null,null,null,null,0]
[null,null,null,null,null,null,null,null,null,0]
[null,null,null,null,null,null,null,null,null,0]
[null,null,null,null,null,null,null,null,null,0]
[null,null,null,null,null,null,null,null,null,{"$f":"$J$283","v":0}]
[null,"Numer punktu kontrolnego na działce RSO",null,null,null,null,{"$f":"G237+1","v":10},null,null,{"$f":"$J$283","v":0}]
[null,"Współrzędne geograficzne punktu kontrolnego",null,null,null,null,null,null,null,{"$f":"$J$283","v":0}]
[null,"Długość geograficzna [E] ",null,null,"Szerokość geograficzna [N]",null,null,null,null,0]
[null,"stopnie","minuty","sekundy","stopnie","minuty","sekundy",null,null,0]
[null,null,null,null,null,null,0,null,null,0]
[null,"Data kontroli",null,null,"Godzina rozpoczęcia kontroli",null,null,null,null,0]
[null,"Struktura pokrycia terenu i inne obserwacje \nw bezpośrednim sąsiedztwie punktu obserwacyjnego ",null,null,"Obserwacje dodatkowe gatunków kwalifikujących",null,null,null,null,0]
[null,"użytki zielone",null,null,"rycyk",null,null,null,1,0]
[null,"grunty orne",null,null,"czajka",null,null,null,0,0]
[null,"lasy i zadrzewienia",null,null,"kszyk",null,null,null,null,0]
[null,"wody powierzchniowe",null,null,"krwawodziób",null,null,null,null,0]
[null,"zabudowa",null,null,"dubelt",null,null,null,null,0]
[null,"widoczność w punkcie obserwacyjnym",null,null,"kulik wielki",null,null,null,null,0]
[null,"zwierzęta gospodarskie",null,null,"wodniczka",null,null,null,null,0]
[null,"drapieżniki",null,null,"derkacz",null,null,null,null,0]
[null,"Uwilgotnienie podłoża",null,null,null,null,null,null,null,0]
[null,"Obserwacje ornitologiczne\n",null,null,null,null,null,null,null,0]
[null,"gatunek",null,"ziemia\n[0–50 m]","lot\n[0–50 m]","ziemia\n[51–100 m]","lot\n[51–100 m]",null,null,{"$f":"SUM(J284:J293)","v":0}]
[null,null,null,null,null,null,null,null,null,{"$f":"COUNTA(B284:G284)","v":0}]
[null,null,null,null,null,null,null,null,null,{"$f":"COUNTA(B285:G285)","v":0}]
[null,null,null,null,null,null,null,null,null,0]
[null,null,null,null,null,null,null,null,null,0]
[null,null,null,null,null,null,null,null,null,0]
[null,null,null,null,null,null,null,null,null,0]
[null,null,null,null,null,null,null,null,null,0]
[null,null,null,null,null,null,null,null,null,0]
[null,null,null,null,null,null,null,null,null,0]
[null,null,null,null,null,null,null,null,null,0]

{"sheet":"P_Kontrola pkt RSO(1)","index":52,"n_rows":293,"n_cols":10,"rows_kept":293,"cut":false,"hidden":true,"merged":[[10,1,10,3],[10,4,10,6],[11,1,11,2],[11,4,11,5],[12,1,12,2],[12,4,12,5],[3,1,3,5],[4,1,4,5],[5,1,5,6],[6,1,6,3],[6,4,6,6],[9,1,9,2],[9,4,9,5],[16,1,16,2],[16,4,16,5],[17,1,17,2],[17,4,17,5],[18,1,18,2],[18,4,18,5],[13,1,13,2],[13,4,13,5],[14,1,14,2],[14,4,14,5],[15,1,15,2],[15,4,15,5],[24,1,24,2],[25,1,25,2],[26,1,26,2],[27,1,27,2],[28,1,28,2],[29,1,29,2],[19,1,19,3],[19,4,19,6],[20,1,20,6],[21,1,21,2],[22,1,22,2],[23,1,23,2],[38,1,38,2],[38,4,38,5],[39,1,39,3],[39,4,39,6],[40,1,40,2],[40,4,40,5],[30,1,30,2],[31,1,31,2],[33,1,33,5],[34,1,34,6],[35,1,35,3],[35,4,35,6],[44,1,44,2],[44,4,44,5],[45,1,45,2],[45,4,45,5],[46,1,46,2],[46,4,46,5],[41,1,41,2],[41,4,41,5],[42,1,42,2],[42,4,42,5],[43,1,43,2],[43,4,43,5],[51,1,51,2],[52,1,52,2],[53,1,53,2],[54,1,54,2],[55,1,55,2],[56,1,56,2],[47,1,47,2],[47,4,47,5],[48,1,48,3],[48,4,48,6],[49,1,49,6],[50,1,50,2],[64,1,64,3],[64,4,64,6],[67,1,67,2],[67,4,67,5],[68,1,68,3],[68,4,68,6],[57,1,57,2],[58,1,58,2],[59,1,59,2],[60,1,60,2],[62,1,62,5],[63,1,63,6],[72,1,72,2],[72,4,72,5],[73,1,73,2],[73,4,73,5],[74,1,74,2],[74,4,74,5],[69,1,69,2],[69,4,69,5],[70,1,70,2],[70,4,70,5],[71,1,71,2],[71,4,71,5],[78,1,78,6],[79,1,79,2],[80,1,80,2],[81,1,81,2],[82,1,82,2],[83,1,83,2],[75,1,75,2],[75,4,75,5],[76,1,76,2],[76,4,76,5],[77,1,77,3],[77,4,77,6],[91,1,91,5],[92,1,92,6],[93,1,93,3],[93,4,93,6],[96,1,96,2],[96,4,96,5],[84,1,84,2],[85,1,85,2],[86,1,86,2],[87,1,87,2],[88,1,88,2],[89,1,89,2],[100,1,100,2],[100,4,100,5],[101,1,101,2],[101,4,101,5],[102,1,102,2],[102,4,102,5],[97,1,97,3],[97,4,97,6],[98,1,98,2],[98,4,98,5],[99,1,99,2],[99,4,99,5],[106,1,106,3],[106,4,106,6],[107,1,107,6],[108,1,108,2],[109,1,109,2],[110,1,110,2],[103,1,103,2],[103,4,103,5],[104,1,104,2],[104,4,104,5],[105,1,105,2],[105,4,105,5],[117,1,117,2],[118,1,118,2],[120,1,120,5],[121,1,121,6],[122,1,122,3],[122,4,122,6],[111,1,111,2],[112,1,112,2],[113,1,113,2],[114,1,114,2],[115,1,115,2],[116,1,116,2],[128,1,128,2],[128,4,128,5],[129,1,129,2],[129,4,129,5],[130,1,130,2],[130,4,130,5],[125,1,125,2],[125,4,125,5],[126,1,126,3],[126,4,126,6],[127,1,127,2],[127,4,127,5],[134,1,134,2],[134,4,134,5],[135,1,135,3],[135,4,135,6],[136,1,136,6],[137,1,137,2],[131,1,131,2],[131,4,131,5],[132,1,132,2],[132,4,132,5],[133,1,133,2],[133,4,133,5],[144,1,144,2],[145,1,145,2],[146,1,146,2],[147,1,147,2],[138,1,138,2],[139,1,139,2],[140,1,140,2],[141,1,141,2],[142,1,142,2],[143,1,143,2],[149,1,149,5],[150,1,150,6],[151,1,151,3],[151,4,151,6],[154,1,154,2],[154,4,154,5],[155,1,155,3],[155,4,155,6],[156,1,156,2],[156,4,156,5],[157,1,157,2],[157,4,157,5],[158,1,158,2],[158,4,158,5],[159,1,159,2],[159,4,159,5],[160,1,160,2],[160,4,160,5],[161,1,161,2],[161,4,161,5],[162,1,162,2],[162,4,162,5],[163,1,163,2],[163,4,163,5],[164,1,164,3],[164,4,164,6],[165,1,165,6],[166,1,166,2],[167,1,167,2],[168,1,168,2],[169,1,169,2],[170,1,170,2],[171,1,171,2],[172,1,172,2],[173,1,173,2],[174,1,174,2],[175,1,175,2],[176,1,176,2],[178,1,178,5],[179,1,179,6],[180,1,180,3],[180,4,180,6],[183,1,183,2],[183,4,183,5],[184,1,184,3],[184,4,184,6],[185,1,185,2],[185,4,185,5],[186,1,186,2],[186,4,186,5],[187,1,187,2],[187,4,187,5],[188,1,188,2],[188,4,188,5],[189,1,189,2],[189,4,189,5],[190,1,190,2],[190,4,190,5],[191,1,191,2],[191,4,191,5],[192,1,192,2],[192,4,192,5],[193,1,193,3],[193,4,193,6],[194,1,194,6],[195,1,195,2],[196,1,196,2],[197,1,197,2],[198,1,198,2],[199,1,199,2],[200,1,200,2],[201,1,201,2],[202,1,202,2],[203,1,203,2],[204,1,204,2],[205,1,205,2],[207,1,207,5],[208,1,208,6],[209,1,209,3],[209,4,209,6],[212,1,212,2],[212,4,212,5],[213,1,213,3],[213,4,213,6],[214,1,214,2],[214,4,214,5],[215,1,215,2],[215,4,215,5],[216,1,216,2],[216,4,216,5],[217,1,217,2],[217,4,217,5],[218,1,218,2],[218,4,218,5],[219,1,219,2],[219,4,219,5],[220,1,220,2],[220,4,220,5],[221,1,221,2],[221,4,221,5],[222,1,222,3],[222,4,222,6],[223,1,223,6],[224,1,224,2],[225,1,225,2],[226,1,226,2],[227,1,227,2],[228,1,228,2],[229,1,229,2],[230,1,230,2],[231,1,231,2],[232,1,232,2],[233,1,233,2],[234,1,234,2],[236,1,236,5],[237,1,237,6],[238,1,238,3],[238,4,238,6],[241,1,241,2],[241,4,241,5],[242,1,242,3],[242,4,242,6],[243,1,243,2],[243,4,243,5],[244,1,244,2],[244,4,244,5],[245,1,245,2],[245,4,245,5],[246,1,246,2],[246,4,246,5],[247,1,247,2],[247,4,247,5],[248,1,248,2],[248,4,248,5],[249,1,249,2],[249,4,249,5],[250,1,250,2],[250,4,250,5],[251,1,251,3],[251,4,251,6],[252,1,252,6],[253,1,253,2],[254,1,254,2],[255,1,255,2],[256,1,256,2],[257,1,257,2],[258,1,258,2],[259,1,259,2],[260,1,260,2],[261,1,261,2],[262,1,262,2],[263,1,263,2],[265,1,265,5],[266,1,266,6],[267,1,267,3],[267,4,267,6],[270,1,270,2],[270,4,270,5],[271,1,271,3],[271,4,271,6],[272,1,272,2],[272,4,272,5],[273,1,273,2],[273,4,273,5],[274,1,274,2],[274,4,274,5],[275,1,275,2],[275,4,275,5],[276,1,276,2],[276,4,276,5],[277,1,277,2],[277,4,277,5],[278,1,278,2],[278,4,278,5],[279,1,279,2],[279,4,279,5],[280,1,280,3],[280,4,280,6],[281,1,281,6],[282,1,282,2],[283,1,283,2],[284,1,284,2],[285,1,285,2],[286,1,286,2],[287,1,287,2],[288,1,288,2],[289,1,289,2],[290,1,290,2],[291,1,291,2],[292,1,292,2]]}
[null,null,null,null,null,null,"Powrót",null,null,1]
[null,null,null,null,null,null,null,null,null,1]
[null,null,null,null,null,null,null,null,null,1]
[null,"Kontrola ornitologiczna na działce RSO numer:",null,null,null,null," ",null,null,1]
[null,"Numer punktu kontrolnego na działce RSO",null,null,null,null,1,null,null,1]
[null,"Współrzędne geograficzne punktu kontrolnego",null,null,null,null,null,null,null,1]
[null,"Długość geograficzna [E] ",null,null,"Szerokość geograficzna [N]",null,null,null,null,1]
[null,"stopnie","minuty","sekundy","stopnie","minuty","sekundy",null,null,1]
[null,null,null,null,null,null,0,null,null,1]
[null,"Data kontroli",null,null,"Godzina rozpoczęcia kontroli",null,null,null,null,1]
[null,"Struktura pokrycia terenu i inne obserwacje \nw bezpośrednim sąsiedztwie punktu obserwacyjnego ",null,null,"Obserwacje dodatkowe gatunków kwalifikujących",null,null,null,null,1]
[null,"użytki zielone",null,null,"rycyk",null,null,null,"1",1]
[null,"grunty orne",null,null,"czajka",null,0,null,"0",1]
[null,"lasy i zadrzewienia",null,null,"kszyk",null,null,null,null,1]
[null,"wody powierzchniowe",null,null,"krwawodziób",null,null,null,null,1]
[null,"zabudowa",null,null,"dubelt",null,null,null,null,1]
[null,"widoczność w punkcie obserwacyjnym",null,null,"kulik wielki",null,null,null,null,1]
[null,"zwierzęta gospodarskie",null,null,"wodniczka",null,null,null,null,1]
[null,"drapieżniki",null,null,"derkacz",null,null,null,null,1]
[null,"Uwilgotnienie podłoża",null,null,null,null,null,null,null,1]
[null,"Obserwacje ornitologiczne\n",null,null,null,null,null,null,null,{"$f":"J22","v":0}]
[null,"gatunek",null,"ziemia\n[0–50 m]","lot\n[0–50 m]","ziemia\n[51–100 m]","lot\n[51–100 m]",null,null,{"$f":"SUM(J23:J32)","v":0}]
[null,null,null,null,null,null,null,null,null,{"$f":"COUNTA(B23:G23)","v":0}]
[null,null,null,null,null,null,null,null,null,{"$f":"COUNTA(B24:G24)","v":0}]
[null,null,null,null,null,null,null,null,null,0]
[null,null,null,null,null,null,null,null,null,0]
[null,null,null,null,null,null,null,null,null,0]
[null,null,null,null,null,null,null,null,null,0]
[null,null,null,null,null,null,null,null,null,0]
[null,null,null,null,null,null,null,null,null,0]
[null,null,null,null,null,null,null,null,null,0]
[null,null,null,null,null,null,null,null,null,0]
[null,null,null,null,null,null,null,null,null,{"$f":"$J$51","v":0}]
[null,"Numer punktu kontrolnego na działce RSO",null,null,null,null,{"$f":"G5+1","v":2},null,null,{"$f":"$J$51","v":0}]
[null,"Współrzędne geograficzne punktu kontrolnego",null,null,null,null,null,null,null,{"$f":"$J$51","v":0}]
[null,"Długość geograficzna [E] ",null,null,"Szerokość geograficzna [N]",null,null,null,null,0]
[null,"stopnie","minuty","sekundy","stopnie","minuty","sekundy",null,null,0]
[null,null,null,null,null,null,0,null,null,0]
[null,"Data kontroli",null,null,"Godzina rozpoczęcia kontroli",null,null,null,null,0]
[null,"Struktura pokrycia terenu i inne obserwacje \nw bezpośrednim sąsiedztwie punktu obserwacyjnego ",null,null,"Obserwacje dodatkowe gatunków kwalifikujących",null,null,null,null,0]
[null,"użytki zielone",null,null,"rycyk",null,null,null,1,0]
[null,"grunty orne",null,null,"czajka",null,null,null,0,0]
[null,"lasy i zadrzewienia",null,null,"kszyk",null,null,null,null,0]
[null,"wody powierzchniowe",null,null,"krwawodziób",null,null,null,null,0]
[null,"zabudowa",null,null,"dubelt",null,null,null,null,0]
[null,"widoczność w punkcie obserwacyjnym",null,null,"kulik wielki",null,null,null,null,0]
[null,"zwierzęta gospodarskie",null,null,"wodniczka",null,null,null,null,0]
[null,"drapieżniki",null,null,"derkacz",null,null,null,null,0]
[null,"Uwilgotnienie podłoża",null,null,null,null,null,null,null,0]
[null,"Obserwacje ornitologiczne\n",null,null,null,null,null,null,null,0]
[null,"gatunek",null,"ziemia\n[0–50 m]","lot\n[0–50 m]","ziemia\n[51–100 m]","lot\n[51–100 m]",null,null,{"$f":"SUM(J52:J61)","v":0}]
[null,null,null,null,null,null,null,null,null,{"$f":"COUNTA(B52:G52)","v":0}]
[null,null,null,null,null,null,null,null,null,{"$f":"COUNTA(B53:G53)","v":0}]
[null,null,null,null,null,null,null,null,null,0]
[null,null,null,null,null,null,null,null,null,0]
[null,null,null,null,null,null,null,null,null,0]
[null,null,null,null,null,null,null,null,null,0]
[null,null,null,null,null,null,null,null,null,0]
[null,null,null,null,null,null,null,null,null,0]
[null,null,null,null,null,null,null,null,null,0]
[null,null,null,null,null,null,null,null,null,0]
[null,null,null,null,null,null,null,null,null,{"$f":"$J$80","v":0}]
[null,"Numer punktu kontrolnego na działce RSO",null,null,null,null,{"$f":"G34+1","v":3},null,null,{"$f":"$J$80","v":0}]
[null,"Współrzędne geograficzne punktu kontrolnego",null,null,null,null,null,null,null,{"$f":"$J$80","v":0}]
[null,"Długość geograficzna [E] ",null,null,"Szerokość geograficzna [N]",null,null,null,null,0]
[null,"stopnie","minuty","sekundy","stopnie","minuty","sekundy",null,null,0]
[null,null,null,null,null,null,0,null,null,0]
[null,"Data kontroli",null,null,"Godzina rozpoczęcia kontroli",null,null,null,null,0]
[null,"Struktura pokrycia terenu i inne obserwacje \nw bezpośrednim sąsiedztwie punktu obserwacyjnego ",null,null,"Obserwacje dodatkowe gatunków kwalifikujących",null,null,null,null,0]
[null,"użytki zielone",null,null,"rycyk",null,null,null,1,0]
[null,"grunty orne",null,null,"czajka",null,null,null,0,0]
[null,"lasy i zadrzewienia",null,null,"kszyk",null,null,null,null,0]
[null,"wody powierzchniowe",null,null,"krwawodziób",null,null,null,null,0]
[null,"zabudowa",null,null,"dubelt",null,null,null,null,0]
[null,"widoczność w punkcie obserwacyjnym",null,null,"kulik wielki",null,null,null,null,0]
[null,"zwierzęta gospodarskie",null,null,"wodniczka",null,null,null,null,0]
[null,"drapieżniki",null,null,"derkacz",null,null,null,null,0]
[null,"Uwilgotnienie podłoża",null,null,null,null,null,null,null,0]
[null,"Obserwacje ornitologiczne\n",null,null,null,null,null,null,null,0]
[null,"gatunek",null,"ziemia\n[0–50 m]","lot\n[0–50 m]","ziemia\n[51–100 m]","lot\n[51–100 m]",null,null,{"$f":"SUM(J81:J90)","v":0}]
[null,null,null,null,null,null,null,null,null,{"$f":"COUNTA(B81:G81)","v":0}]
[null,null,null,null,null,null,null,null,null,{"$f":"COUNTA(B82:G82)","v":0}]
[null,null,null,null,null,null,null,null,null,0]
[null,null,null,null,null,null,null,null,null,0]
[null,null,null,null,null,null,null,null,null,0]
[null,null,null,null,null,null,null,null,null,0]
[null,null,null,null,null,null,null,null,null,0]
[null,null,null,null,null,null,null,null,null,0]
[null,null,null,null,null,null,null,null,null,0]
[null,null,null,null,null,null,null,null,null,0]
[null,null,null,null,null,null,null,null,null,{"$f":"$J$109","v":0}]
[null,"Numer punktu kontrolnego na działce RSO",null,null,null,null,{"$f":"G63+1","v":4},null,null,{"$f":"$J$109","v":0}]
[null,"Współrzędne geograficzne punktu kontrolnego",null,null,null,null,null,null,null,{"$f":"$J$109","v":0}]
[null,"Długość geograficzna [E] ",null,null,"Szerokość geograficzna [N]",null,null,null,null,0]
[null,"stopnie","minuty","sekundy","stopnie","minuty","sekundy",null,null,0]
[null,null,null,null,null,null,0,null,null,0]
[null,"Data kontroli",null,null,"Godzina rozpoczęcia kontroli",null,null,null,null,0]
[null,"Struktura pokrycia terenu i inne obserwacje \nw bezpośrednim sąsiedztwie punktu obserwacyjnego ",null,null,"Obserwacje dodatkowe gatunków kwalifikujących",null,null,null,null,0]
[null,"użytki zielone",null,null,"rycyk",null,null,null,1,0]
[null,"grunty orne",null,null,"czajka",null,null,null,0,0]
[null,"lasy i zadrzewienia",null,null,"kszyk",null,null,null,null,0]
[null,"wody powierzchniowe",null,null,"krwawodziób",null,null,null,null,0]
[null,"zabudowa",null,null,"dubelt",null,null,null,null,0]
[null,"widoczność w punkcie obserwacyjnym",null,null,"kulik wielki",null,null,null,null,0]
[null,"zwierzęta gospodarskie",null,null,"wodniczka",null,null,null,null,0]
[null,"drapieżniki",null,null,"derkacz",null,null,null,null,0]
[null,"Uwilgotnienie podłoża",null,null,null,null,null,null,null,0]
[null,"Obserwacje ornitologiczne\n",null,null,null,null,null,null,null,0]
[null,"gatunek",null,"ziemia\n[0–50 m]","lot\n[0–50 m]","ziemia\n[51–100 m]","lot\n[51–100 m]",null,null,{"$f":"SUM(J110:J119)","v":0}]
[null,null,null,null,null,null,null,null,null,{"$f":"COUNTA(B110:G110)","v":0}]
[null,null,null,null,null,null,null,null,null,{"$f":"COUNTA(B111:G111)","v":0}]
[null,null,null,null,null,null,null,null,null,0]
[null,null,null,null,null,null,null,null,null,0]
[null,null,null,null,null,null,null,null,null,0]
[null,null,null,null,null,null,null,null,null,0]
[null,null,null,null,null,null,null,null,null,0]
[null,null,null,null,null,null,null,null,null,0]
[null,null,null,null,null,null,null,null,null,0]
[null,null,null,null,null,null,null,null,null,0]
[null,null,null,null,null,null,null,null,null,{"$f":"$J$138","v":0}]
[null,"Numer punktu kontrolnego na działce RSO",null,null,null,null,{"$f":"G92+1","v":5},null,null,{"$f":"$J$138","v":0}]
[null,"Współrzędne geograficzne punktu kontrolnego",null,null,null,null,null,null,null,{"$f":"$J$138","v":0}]
[null,"Długość geograficzna [E] ",null,null,"Szerokość geograficzna [N]",null,null,null,null,0]
[null,"stopnie","minuty","sekundy","stopnie","minuty","sekundy",null,null,0]
[null,null,null,null,null,null,0,null,null,0]
[null,"Data kontroli",null,null,"Godzina rozpoczęcia kontroli",null,null,null,null,0]
[null,"Struktura pokrycia terenu i inne obserwacje \nw bezpośrednim sąsiedztwie punktu obserwacyjnego ",null,null,"Obserwacje dodatkowe gatunków kwalifikujących",null,null,null,null,0]
[null,"użytki zielone",null,null,"rycyk",null,null,null,1,0]
[null,"grunty orne",null,null,"czajka",null,null,null,0,0]
[null,"lasy i zadrzewienia",null,null,"kszyk",null,null,null,null,0]
[null,"wody powierzchniowe",null,null,"krwawodziób",null,null,null,null,0]
[null,"zabudowa",null,null,"dubelt",null,null,null,null,0]
[null,"widoczność w punkcie obserwacyjnym",null,null,"kulik wielki",null,null,null,null,0]
[null,"zwierzęta gospodarskie",null,null,"wodniczka",null,null,null,null,0]
[null,"drapieżniki",null,null,"derkacz",null,null,null,null,0]
[null,"Uwilgotnienie podłoża",null,null,null,null,null,null,null,0]
[null,"Obserwacje ornitologiczne\n",null,null,null,null,null,null,null,0]
[null,"gatunek",null,"ziemia\n[0–50 m]","lot\n[0–50 m]","ziemia\n[51–100 m]","lot\n[51–100 m]",null,null,{"$f":"SUM(J139:J148)","v":0}]
[null,null,null,null,null,null,null,null,null,{"$f":"COUNTA(B139:G139)","v":0}]
[null,null,null,null,null,null,null,null,null,{"$f":"COUNTA(B140:G140)","v":0}]
[null,null,null,null,null,null,null,null,null,0]
[null,null,null,null,null,null,null,null,null,0]
[null,null,null,null,null,null,null,null,null,0]
[null,null,null,null,null,null,null,null,null,0]
[null,null,null,null,null,null,null,null,null,0]
[null,null,null,null,null,null,null,null,null,0]
[null,null,null,null,null,null,null,null,null,0]
[null,null,null,null,null,null,null,null,null,0]
[null,null,null,null,null,null,null,null,null,{"$f":"$J$167","v":0}]
[null,"Numer punktu kontrolnego na działce RSO",null,null,null,null,{"$f":"G121+1","v":6},null,null,0]
[null,"Współrzędne geograficzne punktu kontrolnego",null,null,null,null,null,null,null,{"$f":"$J$167","v":0}]
[null,"Długość geograficzna [E] ",null,null,"Szerokość geograficzna [N]",null,null,null,null,{"$f":"$J$167","v":0}]
[null,"stopnie","minuty","sekundy","stopnie","minuty","sekundy",null,null,0]
[null,null,null,null,null,null,0,null,null,0]
[null,"Data kontroli",null,null,"Godzina rozpoczęcia kontroli",null,null,null,null,0]
[null,"Struktura pokrycia terenu i inne obserwacje \nw bezpośrednim sąsiedztwie punktu obserwacyjnego ",null,null,"Obserwacje dodatkowe gatunków kwalifikujących",null,null,null,null,0]
[null,"użytki zielone",null,null,"rycyk",null,"1",null,1,0]
[null,"grunty orne",null,null,"czajka",null,null,null,0,0]
[null,"lasy i zadrzewienia",null,null,"kszyk",null,null,null,null,0]
[null,"wody powierzchniowe",null,null,"krwawodziób",null,null,null,null,0]
[null,"zabudowa",null,null,"dubelt",null,null,null,null,0]
[null,"widoczność w punkcie obserwacyjnym",null,null,"kulik wielki",null,null,null,null,0]
[null,"zwierzęta gospodarskie",null,null,"wodniczka",null,null,null,null,0]
[null,"drapieżniki",null,null,"derkacz",null,null,null,null,0]
[null,"Uwilgotnienie podłoża",null,null,"podłoże wysuszone, brak widocznych śladów wody",null,null,null,null,0]
[null,"Obserwacje ornitologiczne\n",null,null,null,null,null,null,null,0]
[null,"gatunek",null,"ziemia\n[0–50 m]","lot\n[0–50 m]","ziemia\n[51–100 m]","lot\n[51–100 m]",null,null,{"$f":"SUM(J168:J177)","v":0}]
[null,null,null,null,null,null,null,null,null,{"$f":"COUNTA(B168:G168)","v":0}]
[null,null,null,null,null,null,null,null,null,{"$f":"COUNTA(B169:G169)","v":0}]
[null,null,null,null,null,null,null,null,null,0]
[null,null,null,null,null,null,null,null,null,0]
[null,null,null,null,null,null,null,null,null,0]
[null,null,null,null,null,null,null,null,null,0]
[null,null,null,null,null,null,null,null,null,0]
[null,null,null,null,null,null,null,null,null,0]
[null,null,null,null,null,null,null,null,null,0]
[null,null,null,null,null,null,null,null,null,0]
[null,null,null,null,null,null,null,null,null,{"$f":"$J$196","v":0}]
[null,"Numer punktu kontrolnego na działce RSO",null,null,null,null,{"$f":"G150+1","v":7},null,null,{"$f":"$J$196","v":0}]
[null,"Współrzędne geograficzne punktu kontrolnego",null,null,null,null,null,null,null,{"$f":"$J$196","v":0}]
[null,"Długość geograficzna [E] ",null,null,"Szerokość geograficzna [N]",null,null,null,null,0]
[null,"stopnie","minuty","sekundy","stopnie","minuty","sekundy",null,null,0]
[null,null,null,null,null,null,0,null,null,0]
[null,"Data kontroli",null,null,"Godzina rozpoczęcia kontroli",null,null,null,null,0]
[null,"Struktura pokrycia terenu i inne obserwacje \nw bezpośrednim sąsiedztwie punktu obserwacyjnego ",null,null,"Obserwacje dodatkowe gatunków kwalifikujących",null,null,null,null,0]
[null,"użytki zielone",null,null,"rycyk",null,null,null,1,0]
[null,"grunty orne",null,null,"czajka",null,null,null,0,0]
[null,"lasy i zadrzewienia",null,null,"kszyk",null,null,null,null,0]
[null,"wody powierzchniowe",null,null,"krwawodziób",null,null,null,null,0]
[null,"zabudowa",null,null,"dubelt",null,null,null,null,0]
[null,"widoczność w punkcie obserwacyjnym",null,null,"kulik wielki",null,null,null,null,0]
[null,"zwierzęta gospodarskie",null,null,"wodniczka",null,null,null,null,0]
[null,"drapieżniki",null,null,"derkacz",null,null,null,null,0]
[null,"Uwilgotnienie podłoża",null,null,null,null,null,null,null,0]
[null,"Obserwacje ornitologiczne\n",null,null,null,null,null,null,null,0]
[null,"gatunek",null,"ziemia\n[0–50 m]","lot\n[0–50 m]","ziemia\n[51–100 m]","lot\n[51–100 m]",null,null,{"$f":"SUM(J197:J206)","v":0}]
[null,null,null,null,null,null,null,null,null,{"$f":"COUNTA(B197:G197)","v":0}]
[null,null,null,null,null,null,null,null,null,{"$f":"COUNTA(B198:G198)","v":0}]
[null,null,null,null,null,null,null,null,null,0]
[null,null,null,null,null,null,null,null,null,0]
[null,null,null,null,null,null,null,null,null,0]
[null,null,null,null,null,null,null,null,null,0]
[null,null,null,null,null,null,null,null,null,0]
[null,null,null,null,null,null,null,null,null,0]
[null,null,null,null,null,null,null,null,null,0]
[null,null,null,null,null,null,null,null,null,0]
[null,null,null,null,null,null,null,null,null,{"$f":"$J$225","v":0}]
[null,"Numer punktu kontrolnego na działce RSO",null,null,null,null,{"$f":"G179+1","v":8},null,null,{"$f":"$J$225","v":0}]
[null,"Współrzędne geograficzne punktu kontrolnego",null,null,null,null,null,null,null,{"$f":"$J$225","v":0}]
[null,"Długość geograficzna [E] ",null,null,"Szerokość geograficzna [N]",null,null,null,null,0]
[null,"stopnie","minuty","sekundy","stopnie","minuty","sekundy",null,null,0]
[null,null,null,null,null,null,0,null,null,0]
[null,"Data kontroli",null,null,"Godzina rozpoczęcia kontroli",null,null,null,null,0]
[null,"Struktura pokrycia terenu i inne obserwacje \nw bezpośrednim sąsiedztwie punktu obserwacyjnego ",null,null,"Obserwacje dodatkowe gatunków kwalifikujących",null,null,null,null,0]
[null,"użytki zielone",null,null,"rycyk",null,null,null,1,0]
[null,"grunty orne",null,null,"czajka",null,null,null,0,0]
[null,"lasy i zadrzewienia",null,null,"kszyk",null,null,null,null,0]
[null,"wody powierzchniowe",null,null,"krwawodziób",null,null,null,null,0]
[null,"zabudowa",null,null,"dubelt",null,null,null,null,0]
[null,"widoczność w punkcie obserwacyjnym",null,null,"kulik wielki",null,null,null,null,0]
[null,"zwierzęta gospodarskie",null,null,"wodniczka",null,null,null,null,0]
[null,"drapieżniki",null,null,"derkacz",null,null,null,null,0]
[null,"Uwilgotnienie podłoża",null,null,null,null,null,null,null,0]
[null,"Obserwacje ornitologiczne\n",null,null,null,null,null,null,null,0]
[null,"gatunek",null,"ziemia\n[0–50 m]","lot\n[0–50 m]","ziemia\n[51–100 m]","lot\n[51–100 m]",null,null,{"$f":"SUM(J226:J235)","v":0}]
[null,null,null,null,null,null,null,null,null,{"$f":"COUNTA(B226:G226)","v":0}]
[null,null,null,null,null,null,null,null,null,{"$f":"COUNTA(B227:G227)","v":0}]
[null,null,null,null,null,null,null,null,null,0]
[null,null,null,null,null,null,null,null,null,0]
[null,null,null,null,null,null,null,null,null,0]
[null,null,null,null,null,null,null,null,null,0]
[null,null,null,null,null,null,null,null,null,0]
[null,null,null,null,null,null,null,null,null,0]
[null,null,null,null,null,null,null,null,null,0]
[null,null,null,null,null,null,null,null,null,0]
[null,null,null,null,null,null,null,null,null,{"$f":"$J$254","v":0}]
[null,"Numer punktu kontrolnego na działce RSO",null,null,null,null,{"$f":"G208+1","v":9},null,null,{"$f":"$J$254","v":0}]
[null,"Współrzędne geograficzne punktu kontrolnego",null,null,null,null,null,null,null,{"$f":"$J$254","v":0}]
[null,"Długość geograficzna [E] ",null,null,"Szerokość geograficzna [N]",null,null,null,null,0]
[null,"stopnie","minuty","sekundy","stopnie","minuty","sekundy",null,null,0]
[null,null,null,null,null,null,0,null,null,0]
[null,"Data kontroli",null,null,"Godzina rozpoczęcia kontroli",null,null,null,null,0]
[null,"Struktura pokrycia terenu i inne obserwacje \nw bezpośrednim sąsiedztwie punktu obserwacyjnego ",null,null,"Obserwacje dodatkowe gatunków kwalifikujących",null,null,null,null,0]
[null,"użytki zielone",null,null,"rycyk",null,null,null,1,0]
[null,"grunty orne",null,null,"czajka",null,null,null,0,0]
[null,"lasy i zadrzewienia",null,null,"kszyk",null,null,null,null,0]
[null,"wody powierzchniowe",null,null,"krwawodziób",null,null,null,null,0]
[null,"zabudowa",null,null,"dubelt",null,null,null,null,0]
[null,"widoczność w punkcie obserwacyjnym",null,null,"kulik wielki",null,null,null,null,0]
[null,"zwierzęta gospodarskie",null,null,"wodniczka",null,null,null,null,0]
[null,"drapieżniki",null,null,"derkacz",null,null,null,null,0]
[null,"Uwilgotnienie podłoża",null,null,null,null,null,null,null,0]
[null,"Obserwacje ornitologiczne\n",null,null,null,null,null,null,null,0]
[null,"gatunek",null,"ziemia\n[0–50 m]","lot\n[0–50 m]","ziemia\n[51–100 m]","lot\n[51–100 m]",null,null,{"$f":"SUM(J255:J264)","v":0}]
[null,null,null,null,null,null,null,null,null,{"$f":"COUNTA(B255:G255)","v":0}]
[null,null,null,null,null,null,null,null,null,{"$f":"COUNTA(B256:G256)","v":0}]
[null,null,null,null,null,null,null,null,null,0]
[null,null,null,null,null,null,null,null,null,0]
[null,null,null,null,null,null,null,null,null,0]
[null,null,null,null,null,null,null,null,null,0]
[null,null,null,null,null,null,null,null,null,0]
[null,null,null,null,null,null,null,null,null,0]
[null,null,null,null,null,null,null,null,null,0]
[null,null,null,null,null,null,null,null,null,0]
[null,null,null,null,null,null,null,null,null,{"$f":"$J$283","v":0}]
[null,"Numer punktu kontrolnego na działce RSO",null,null,null,null,{"$f":"G237+1","v":10},null,null,{"$f":"$J$283","v":0}]
[null,"Współrzędne geograficzne punktu kontrolnego",null,null,null,null,null,null,null,{"$f":"$J$283","v":0}]
[null,"Długość geograficzna [E] ",null,null,"Szerokość geograficzna [N]",null,null,null,null,0]
[null,"stopnie","minuty","sekundy","stopnie","minuty","sekundy",null,null,0]
[null,null,null,null,null,null,0,null,null,0]
[null,"Data kontroli",null,null,"Godzina rozpoczęcia kontroli",null,null,null,null,0]
[null,"Struktura pokrycia terenu i inne obserwacje \nw bezpośrednim sąsiedztwie punktu obserwacyjnego ",null,null,"Obserwacje dodatkowe gatunków kwalifikujących",null,null,null,null,0]
[null,"użytki zielone",null,null,"rycyk",null,null,null,1,0]
[null,"grunty orne",null,null,"czajka",null,null,null,0,0]
[null,"lasy i zadrzewienia",null,null,"kszyk",null,null,null,null,0]
[null,"wody powierzchniowe",null,null,"krwawodziób",null,null,null,null,0]
[null,"zabudowa",null,null,"dubelt",null,null,null,null,0]
[null,"widoczność w punkcie obserwacyjnym",null,null,"kulik wielki",null,null,null,null,0]
[null,"zwierzęta gospodarskie",null,null,"wodniczka",null,null,null,null,0]
[null,"drapieżniki",null,null,"derkacz",null,null,null,null,0]
[null,"Uwilgotnienie podłoża",null,null,null,null,null,null,null,0]
[null,"Obserwacje ornitologiczne\n",null,null,null,null,null,null,null,0]
[null,"gatunek",null,"ziemia\n[0–50 m]","lot\n[0–50 m]","ziemia\n[51–100 m]","lot\n[51–100 m]",null,null,{"$f":"SUM(J284:J293)","v":0}]
[null,null,null,null,null,null,null,null,null,{"$f":"COUNTA(B284:G284)","v":0}]
[null,null,null,null,null,null,null,null,null,{"$f":"COUNTA(B285:G285)","v":0}]
[null,null,null,null,null,null,null,null,null,0]
[null,null,null,null,null,null,null,null,null,0]
[null,null,null,null,null,null,null,null,null,0]
[null,null,null,null,null,null,null,null,null,0]
[null,null,null,null,null,null,null,null,null,0]
[null,null,null,null,null,null,null,null,null,0]
[null,null,null,null,null,null,null,null,null,0]
[null,null,null,null,null,null,null,null,null,0]

{"sheet":"P_Ostoje","index":53,"n_rows":25,"n_cols":9,"rows_kept":25,"cut":false,"hidden":true,"merged":[[2,1,2,4]]}
[null,null,null,null,"Powrót"]
[]
[null,"Elementy krajobrazu rolniczego nieużytkowane rolniczo, tworzące ostoje przyrody"]
[null,"Rodzaj","Nr działki ewidencyjnej","Krótki opis \n","Obiekty objęte formami ochrony przyrody lub znajdujące się w ich granicach"]
[null,null,null,null,null,null,null,null,{"$f":"COUNTA(B5:E5)","v":0}]
[null,null,null,null,null,null,null,null,{"$f":"COUNTA(B6:E6)","v":0}]
[null,null,null,null,null,null,null,null,0]
[null,null,null,null,null,null,null,null,0]
[null,null,null,null,null,null,null,null,0]
[null,null,null,null,null,null,null,null,0]
[null,null,null,null,null,null,null,null,0]
[null,null,null,null,null,null,null,null,0]
[null,null,null,null,null,null,null,null,0]
[null,null,null,null,null,null,null,null,0]
[null,null,null,null,null,null,null,null,0]
[null,null,null,null,null,null,null,null,0]
[null,null,null,null,null,null,null,null,0]
[null,null,null,null,null,null,null,null,0]
[null,null,null,null,null,null,null,null,0]
[null,null,null,null,null,null,null,null,0]
[null,null,null,null,null,null,null,null,0]
[null,null,null,null,null,null,null,null,0]
[null,null,null,null,null,null,null,null,0]
[null,null,null,null,null,null,null,null,0]
[null,null,null,null,null,null,null,null,0]

{"sheet":"P_Uwagi","index":54,"n_rows":33,"n_cols":9,"rows_kept":33,"cut":false,"hidden":true,"merged":[[1,1,1,3]]}
[null,null,null,null,"Powrót"]
[null,"Uwagi eksperta/rolnika"]
[null,"Lp.","Kategoria","Opis "]
[null,"1.",null,null,null,null,null,null,{"$f":"COUNTA(C4:H4)","v":0}]
[null,"2.",null,null,null,null,null,null,{"$f":"COUNTA(C5:H5)","v":0}]
[null,"3.",null,null,null,null,null,null,0]
[null,"4.",null,null,null,null,null,null,0]
[null,"5.",null,null,null,null,null,null,0]
[null,"6.",null,null,null,null,null,null,0]
[null,"7.",null,null,null,null,null,null,0]
[null,"8.",null,null,null,null,null,null,0]
[null,"9.",null,null,null,null,null,null,0]
[null,"10.",null,null,null,null,null,null,0]
[null,"11.",null,null,null,null,null,null,0]
[null,"12.",null,null,null,null,null,null,0]
[null,"13.",null,null,null,null,null,null,0]
[null,"14.",null,null,null,null,null,null,0]
[null,"15.",null,null,null,null,null,null,0]
[null,"16.",null,null,null,null,null,null,0]
[null,"17.",null,null,null,null,null,null,0]
[null,"18.",null,null,null,null,null,null,0]
[null,"19.",null,null,null,null,null,null,0]
[null,"20.",null,null,null,null,null,null,{"$f":"COUNTA(C23:H23)","v":0}]
[null,null,null,null,null,null,null,null,0]
[null,null,null,null,null,null,null,null,0]
[null,null,null,null,null,null,null,null,0]
[null,null,null,null,null,null,null,null,0]
[null,null,null,null,null,null,null,null,0]
[null,null,null,null,null,null,null,null,0]
[null,null,null,null,null,null,null,null,0]
[null,null,null,null,null,null,null,null,0]
[null,null,null,null,null,null,null,null,0]
[null,null,null,null,null,null,null,null,0]

{"sheet":"P_listy_slownikowe","index":55,"n_rows":963,"n_cols":15,"rows_kept":963,"cut":false,"hidden":true,"merged":[]}
["cel złożenia dokumentacji","uwagi","KodWariant","WarOrnito_Nazwa","WarWilg","InfHydrot","położenie npm","RodzNawozenia","Nazwa","NazwaPN","NazwaPK","Kryterium kwalifikacji","Ostoje","wariantyPROW 2007-2013","nazwa łacińska/polska"]
["pierwsze zgłoszenie","dane wykraczające poza obecne pozycje list słownikowych ","4.7","Ekstensywne użytkowanie na OSO",null,null,null,"organiczne/\nnaturalne","ADELINA PLH060084","Babiogórski Park Narodowy","Barlinecko-Gorzowski Park Krajobrazowy",null,"brak","3.1. Ekstensywna gospodarka na łąkach i pastwiskach ","klon jesionolistny Acer negundo "]
["korekta","metodyka sporządzania dokumentacji","4.8","Ochrona siedlisk lęgowych ptaków: rycyka (a także kszyka, krwawodzioba, czajki)","podłoże wysuszone, brak widocznych śladów wody","brak","<300 m n.p.m.","mineralne","ALEJA PACHNICOWA PLH140054","Białowieski Park Narodowy","Bielańsko-Tyniecki Park Krajobrazowy","stwierdzenie wodniczki w terminie 21.05-30.06","zb. wodny – jezioro","4.1./5.1 Ochrona siedlisk lęgowych ptaków","bożodrzew gruczołkowaty Ailanthus altissima "]
[null,"brak uwag","4.9","Ochrona siedlisk lęgowych ptaków: wodniczki","wyczuwalna wilgoć podłoża, ale brak wody na powierzchni","czynne rowy bez urządzeń wodnych","≥300 m n.p.m.","mineralne i organiczne/\nnaturalne","ALEJE POJEZIERZA IŁAWSKIEGO PLH280051","Biebrzański Park Narodowy","Bolimowski Park Krajobrazowy","stwierdzenie jednego lub więcej gatunków z wariantu 4.10. w terminie 10.04-20.05 przy braku wodniczki","zb. wodny – starorzecze","4.2./5.2  Mechowiska","ambrozja bylicolistna Ambrosia artemisiifolia"]
[null,"inna","4.10","Ochrona siedlisk lęgowych ptaków: dubelta (a także kulika wielkiego)","podłoże mokre, pod ciężarem obserwatora woda pojawia się na powierzchni","rowy zamulone/zarośnięte",null,"brak nawożenia","ARMERIA PLH120091","Bieszczadzki Park Narodowy","Brodnicki Park Krajobrazowy","stwierdzenie jednego lub więcej gatunków z wariantu 4.8. w terminie 10.04-20.05 przy braku gatunków z wariantów 4.10. i 4.9.","zb. wodny – oczko wodne > 0,1 ha","4.3./5.3 Szuwary wielkoturzycowe","stokłosa spłaszczona Bromus carinatus"]
[null,null,"4.11","Ochrona siedlisk lęgowych ptaków: derkacza","teren z występującą wodą na powierzchni, w postaci pojedynczych kałuż lub całkowicie zalany","rowy z czynnymi zastawkami ",null,"brak danych","BABIA GÓRA PLB120011","Drawieński Park Narodowy","Brudzeński Park Krajobrazowy","stwierdzenie derkacza w terminie 10.04-20.05 przy braku gatunków z innych wariantów","zb. wodny – oczko wodne ≤ 0,1 ha","4.4./5.4 Łąki trzęślicowe i selernicowe","rukiewnik wschodni Bunias orientalis"]
[null,null,null,null,null,"rowy z nieczynnymi zastawkami ",null,"pierwszy pokos","BABIA GÓRA PLH120001","Gorczański Park Narodowy","Cedyński Park Krajobrazowy","stwierdzenie derkacza w terminie 21.05-30.06 przy braku gatunków z innych wariantów","zb. wodny – wyrobisko potorfowe (torfianka)","4.5./5.5 Murawy ciepłolubne","dereń rozłogowy Cornus sericea"]
[null,null,null,null,null,"rów ze stałymi progami piętrzącymi",null,"I połowa maja i wcześniej","BACHUS PLH060056","Kampinoski Park Narodowy","Chełmski Park Krajobrazowy",null,"zb. wodny – wyrobisko nie-potorfowe","4.6./5.6 Półnaturalne łąki wilgotne","barszcz Mantegazziego Heracleum mantegazzianum"]
[null,null,null,null,null,"ujęcie wody",null,"II połowa maja","BAGIENNA DOLINA DRWĘCY PLB040002","Karkonoski Park Narodowy","Chęcińsko-Kielecki Park Krajobrazowy","Stwierdzenie w punkcie kontrolnym do 100 m od obserwatora","zb. wodny – staw","4.7./5.7 Półnaturalne łąki świeże","barszcz Sosnowskiego Heracleum sosnowskyi "]
[null,null,null,null,null,"inne (opis)",null,"I połowa czerwca","BAGIENNA DOLINA NARWI PLB200001","Magurski Park Narodowy","Chojnowski Park Krajobrazowy","Brak stwierdzeń w punkcie kontrolnym do 100 m, ale stwierdzenie w ramach obserwacji dodatkowych (niezależnie od liczeń punktowych, lub w punkcie ale >100 m od obserwatora)","ciek – naturalny lub nieznacznie przekształcony (w tym: rzeka, potok, strumień, struga, ciek łączący jeziora, inne) ","4.8./5.8 Bogate gatunkowo murawy bliźniczkowe","łubin trwały Lupinus polyphyllus"]
[null,null,null,null,null,null,null,"II połowa czerwca","BAGNA CELESTYNOWSKIE PLH140022","Narwiański Park Narodowy","Ciężkowicko-Rożnowski Park Krajobrazowy",null,"źródło, wysięk","4.9. Słonorośla","czeremcha amerykańska Padus serotina"]
[null,null,null,null,null,null,null,"I połowa lipca","BAGNA IZBICKIE PLH220001","Ojcowski Park Narodowy","Cisowsko-Orłowiński Park Krajobrazowy",null,"mokradło z roślinnością bagienną","4.10. Użytki przyrodnicze","dąb czerwony Quercus rubra"]
[null,null,null,null,null,null,null,"II połowa lipca","BAGNA NIETLICKIE PLB280001","Park Narodowy Bory Tucholskie","Ciśniańsko-Wetliński Park Krajobrazowy",null,"zb. wodny zarastający – jezioro","brak realizacji pakietów 3, 4 lub 5 programu rolnośrodowiskowego","rdestowiec pośredni Reynoutria ×bohemica "]
[null,null,null,null,null,null,null,"I połowa sierpnia","BAGNA OROŃSKIE PLH140023","Park Narodowy Gór Stołowych","Czarnorzecko-Strzyżowski Park Krajobrazowy",null,"zb. wodny zarastający – starorzecze",null,"rdestowiec ostrokończysty Reynoutria japonica"]
[null,null,null,null,null,null,null,"II połowa sierpnia","BAGNA ROZWAROWSKIE PLB320001","Park Narodowy Ujście Warty","Dłubniański Park Krajobrazowy",null,"zb. wodny zarastający – oczko wodne",null,"rdestowiec sachaliński Reynoutria sachalinensis "]
[null,null,null,null,null,null,null,"I połowa września","BAGNO BRUCH KOŁO PYRZOWIC PLH240035","Pieniński Park Narodowy","Drawski Park Krajobrazowy",null,"zb. wodny zarastający – wyrobisko potorfowe (torfianka)",null,"robinia akacjowa Robinia pseudoacacia"]
[null,null,null,null,null,null,null,"II połowa września i później","BAGNO BUBNÓW PLB060001","Poleski Park Narodowy","Gostynińsko-Włocławski Park Krajobrazowy",null,"zb. wodny zarastający – wyrobisko nie-potorfowe",null,"róża pomarszczona Rosa rugosa"]
[null,null,null,null,null,null,null,"brak użytkowania kośnego","BAGNO CAŁOWANIE PLB140011","Roztoczański Park Narodowy","Górznieńsko-Lidzbarski Park Krajobrazowy",null,"zb. wodny zarastający – staw",null,"rudbekia naga Rudbeckia laciniata"]
[null,null,null,null,null,null,null,"brak danych","BAGNO CAŁOWANIE PLH140001","Słowiński Park Narodowy","Gryżyński Park Krajobrazowy",null,"kamieniec w korycie potoku górskiego",null,"szczaw omszony Rumex confertus"]
[null,null,null,null,null,null,null,"Zwierzęta","BAGNO CHLEBOWO PLH300016","Świętokrzyski Park Narodowy","Iński Park Krajobrazowy",null,"kamieniec śródpolny (usypisko kamieni zebranych z pól)",null,"nawłoć kanadyjska Solidago canadensis "]
[null,null,null,null,null,null,null,"bydło","BAGNO I JEZIORO CIEMINO PLH320036","Tatrzański Park Narodowy","Jaśliski Park Krajobrazowy",null,"głazowisko, głaz narzutowy",null,"nawłoć późna (n. olbrzymia) Solidago gigantea "]
[null,null,null,null,null,null,null,"konie","BAGNO PULWY PLB140015","Wielkopolski Park Narodowy","Jeleniowski Park Krajobrazowy",null,"rumowisko skalne (rozwalisko skalne, gołoborze, piarg)",null,"nawłoć wąskolistna Solidago graminifolia "]
[null,null,null,null,null,null,null,"owce","BAGNO W KORZONKU PLH240029","Wigierski Park Narodowy","Kaszubski Park Krajobrazowy",null,"wychodnia skalna, ostaniec",null,"tawuła kutnerowata Spiraea tomentosa "]
[null,null,null,null,null,null,null,"inne","BAGNO WIZNA PLB200005","Woliński Park Narodowy","Kazimierski Park Krajobrazowy",null,"skarpa, stromy stok, urwisko, ściana skalna, uskok",null,"inny gatunek niepożądany, obcy geograficznie:"]
[null,null,null,null,null,null,null,"brak wypasu","BARANIE GÓRY PLH140002","brak","Kozienicki Park Krajobrazowy",null,"wydma, pole piasków przewianych"]
[null,null,null,null,null,null,null,"brak danych","BARANÓW PLH300035",null,"Kozłowiecki Park Krajobrazowy",null,"wąwóz, parów, jar"]
[null,null,null,null,null,null,null,null,"BARŁOŻNIA WOLSZTYŃSKA PLH300028",null,"Kozubowski Park Krajobrazowy",null,"zadrzewienie/zakrzewienie – powierzchniowe ≥ 0,3 ha"]
[null,null,null,null,null,null,null,"Obsada","BEDNARKA PLH120033",null,"Krajeński Park Krajobrazowy",null,"zadrzewienie/zakrzewienie – powierzchniowe 0,1–0,3 ha"]
[null,null,null,null,null,null,null,"<1 DJP","BESKID MAŁY PLH240023",null,"Krasnobrodzki Park Krajobrazowy",null,"zadrzewienie/zakrzewienie – kępowe 0,02–0,1 ha"]
[null,null,null,null,null,null,null,"≥1 DJP","BESKID NISKI PLB180002",null,"Krzczonowski Park Krajobrazowy",null,"zadrzewienie/zakrzewienie – grupowe < 0,02 ha"]
[null,null,null,null,null,null,null,"brak wypasu","BESKID ŚLĄSKI PLH240005",null,"Krzesiński Park Krajobrazowy",null,"zadrzewienie/zakrzewienie – pojedyncze – drzewo"]
[null,null,null,null,null,null,null,"brak danych","BESKID ŻYWIECKI PLB240002",null,"Księżański Park Krajobrazowy",null,"zadrzewienie/zakrzewienie – pojedyncze – drzewo–pomnik przyrody"]
[null,null,null,null,null,null,null,"CzęstośćKoszenia","BESKID ŻYWIECKI PLH240006",null,"Lednicki Park Krajobrazowy",null,"zadrzewienie/zakrzewienie – pojedyncze – krzew"]
[null,null,null,null,null,null,null,"rzadziej niż raz na dwa lata","BĘDLEWO-BIECZYNY PLH300039",null,"Łagowski Park Krajobrazowy",null,"zadrzewienie/zakrzewienie – pasowe (kilkurzędowe) o szer. 10–20 m"]
[null,null,null,null,null,null,null,"raz na dwa lata","BIAŁA GÓRA PLH120061",null,"Łomżyński Park Krajobrazowy Doliny Narwi",null,"zadrzewienie/zakrzewienie – pasowe (kilkurzędowe) o szer. ≤ 10 m"]
[null,null,null,null,null,null,null,"jeden raz w roku","BIAŁA LĄDECKA PLH020035",null,"Mazowiecki Park Krajobrazowy",null,"zadrzewienie/zakrzewienie – żywopłot o szer. 10–20 m"]
[null,null,null,null,null,null,null,"dwa razy w roku","BIAŁA PLH220016",null,"Mazurski Park Krajobrazowy",null,"zadrzewienie/zakrzewienie – żywopłot o szer. ≤ 10 m"]
[null,null,null,null,null,null,null,"częściej niż dwa razy w roku","BIAŁA TARNOWSKA PLH120090",null,"Nadbużański Park Krajobrazowy",null,"zadrzewienie/zakrzewienie – liniowe (rzędowe) z drzew"]
[null,null,null,null,null,null,null,"brak użytkowania kośnego","BIAŁE BŁOTA PLH140038",null,"Nadmorski Park Krajobrazowy",null,"zadrzewienie/zakrzewienie – liniowe (rzędowe) z drzew i krzewów"]
[null,null,null,null,null,null,null,"brak danych","BIAŁE BŁOTO PLH220002",null,"Nadnidziański Park Krajobrazowy",null,"zadrzewienie/zakrzewienie – liniowe (rzędowe) z krzewów"]
[null,null,null,null,null,null,null,null,"BIAŁKA LELOWSKA PLH240031",null,"Nadwarciański Park Krajobrazowy",null,"bobrowa tama, żeremie"]
[null,null,null,null,null,null,null,"RodzUżytk","BIAŁOGÓRA PLH220003",null,"Nadwieprzański Park Krajobrazowy",null,"bobrowe rozlewisko"]
[null,null,null,null,null,null,null,"kośne","BIEDRUSKO PLH300001",null,"Park Krajobrazowy Beskidu Małego",null,"miedza o szer. 1–20 m"]
[null,null,null,null,null,null,null,"pastwiskowe","BIELAWA I BORY BAŻYNOWE PLH220063",null,"Park Krajobrazowy Beskidu Śląskiego",null,"inne (....)"]
[null,null,null,null,null,null,null,"kośno-pastwiskowe","BIELAWSKIE BŁOTA PLB220010",null,"Park Krajobrazowy Chełmy"]
[null,null,null,null,null,null,null,"brak użytkowania","BIEŃKOWO PLH280009",null,"Park Krajobrazowy Cysterskie Kompozycje Krajobrazowe Rud Wielkich"]
[null,null,null,null,null,null,null,"brak danych","BIERUTÓW PLH020065",null,"Park Krajobrazowy Dolina Bystrzycy"]
[null,null,null,null,null,null,null,"Wybór","BIESZCZADY PLC180001",null,"Park Krajobrazowy Dolina Jezierzycy"]
[null,null,null,null,null,null,null,"tak","BŁOTA KŁÓCIEŃSKIE PLH040031",null,"Park Krajobrazowy Dolina Słupi"]
[null,null,null,null,null,null,null,"nie","BŁOTA RAKUTOWSKIE PLB040001",null,"Park Krajobrazowy Dolinki Krakowskie"]
[null,null,null,null,null,null,null,"brak danych","BOBOLICKIE JEZIORA LOBELIOWE PLH320001",null,"Park Krajobrazowy Doliny Baryczy"]
[null,null,null,null,null,null,null,null,"BOROWA GÓRA PLH060070",null,"Park Krajobrazowy Doliny Bobru"]
[null,null,null,null,null,null,null,null,"BOROWINA PLH080030",null,"Park Krajobrazowy Doliny Dolnej Odry"]
[null,null,null,null,null,null,null,null,"BORY BABIMOJSKIE PLH080063",null,"Park Krajobrazowy Doliny Dolnej Wisły"]
[null,null,null,null,null,null,null,null,"BORY BAGIENNE I TORFOWISKA KARASKA PLH140046",null,"Park Krajobrazowy Doliny Sanu"]
[null,null,null,null,null,null,null,null,"BORY BAGIENNE NAD BUKOWĄ PLH180048",null,"Park Krajobrazowy Gór Opawskich"]
[null,null,null,null,null,null,null,null,"BORY CHROBOTKOWE KARASKA PLH140047",null,"Park Krajobrazowy Gór Słonnych"]
[null,null,null,null,null,null,null,null,"BORY CHROBOTKOWE KOŁO BRZÓZKI PLH080031",null,"Park Krajobrazowy Gór Sowich"]
[null,null,null,null,null,null,null,null,"BORY CHROBOTKOWE KOŁO BYTOMCA PLH080048",null,"Park Krajobrazowy Góra Św. Anny"]
[null,null,null,null,null,null,null,null,"BORY CHROBOTKOWE PUSZCZY NOTECKIEJ PLH080032",null,"Park Krajobrazowy im. Gen. Dezyderego Chłapowskiego"]
[null,null,null,null,null,null,null,null,"BORY DOLNOŚLĄSKIE PLB020005",null,"Park Krajobrazowy Lasy Janowskie"]
[null,null,null,null,null,null,null,null,"BORY NIEMODLIŃSKIE PLH160005",null,"Park Krajobrazowy Lasy Nad Górną Liswartą"]
[null,null,null,null,null,null,null,null,"BORY TUCHOLSKIE PLB220009",null,"Park Krajobrazowy Łuk Mużakowa"]
[null,null,null,null,null,null,null,null,"BRONISZÓW PLH080033",null,"Park Krajobrazowy Mierzeja Wiślana"]
[null,null,null,null,null,null,null,null,"BROŻEK PLH080051",null,"Park Krajobrazowy Międzyrzecza Warty i Widawki"]
[null,null,null,null,null,null,null,null,"BRÓDEK PLH060085",null,"Park Krajobrazowy Nadgoplański Park Tysiąclecia"]
[null,null,null,null,null,null,null,null,"BRZEZICZNO PLH060076",null,"Park Krajobrazowy Orlich Gniazd"]
[null,null,null,null,null,null,null,null,"BRZEŹNICKA WĘGORZA PLH320002",null,"Park Krajobrazowy Pasma Brzanki"]
[null,null,null,null,null,null,null,null,"BUCZYNA GAŁKOWSKA PLH100016",null,"Park Krajobrazowy Podlaski Przełom Bugu"]
[null,null,null,null,null,null,null,null,"BUCZYNA JANINOWSKA PLH100017",null,"Park Krajobrazowy Pogórza Przemyskiego"]
[null,null,null,null,null,null,null,null,"BUCZYNA SZPROTAWSKO-PIOTROWICKA PLH080007",null,"Park Krajobrazowy Pojezierza Iławskiego"]
[null,null,null,null,null,null,null,null,"BUCZYNA W DŁUGIEJ GOŚLINIE PLH300056",null,"Park Krajobrazowy Pojezierze Łęczyńskie"]
[null,null,null,null,null,null,null,null,"BUCZYNY ŁAGOWSKO-SULĘCIŃSKIE PLH080008",null,"Park Krajobrazowy Promno"]
[null,null,null,null,null,null,null,null,"BUCZYNY W SZYPOWICACH I LAS NIWISKI PLH240034",null,"Park Krajobrazowy Puszcza Zielonka"]
[null,null,null,null,null,null,null,null,"BUDWITY PLH280010",null,"Park Krajobrazowy Puszczy Knyszyńskiej im. Profesora Witolda Sławińskiego"]
[null,null,null,null,null,null,null,null,"BUKOWY LAS GÓRKI PLH320062",null,"Park Krajobrazowy Puszczy Rominckiej"]
[null,null,null,null,null,null,null,null,"BUNKIER W OLIWIE PLH220055",null,"Park Krajobrazowy Puszczy Solskiej"]
[null,null,null,null,null,null,null,null,"BYSTRZYCA JAKUBOWICKA PLH060096",null,"Park Krajobrazowy Stawki"]
[null,null,null,null,null,null,null,null,"BYSTRZYNO PLH320061",null,"Park Krajobrazowy Sudetów Wałbrzyskich"]
[null,null,null,null,null,null,null,null,"BYTNICA PLH080034",null,"Park Krajobrazowy Ujście Warty"]
[null,null,null,null,null,null,null,null,"BYTOWSKIE JEZIORA LOBELIOWE PLH220005",null,"Park Krajobrazowy Wysoczyzny Elbląskiej"]
[null,null,null,null,null,null,null,null,"CEDRON PLH120060",null,"Park Krajobrazowy Wzgórz Dylewskich"]
[null,null,null,null,null,null,null,null,"CHEŁMSKIE TORFOWISKA WĘGLANOWE PLB060002",null,"Park Krajobrazowy Wzniesień Łódzkich"]
[null,null,null,null,null,null,null,null,"CHŁODNIA W CIESZKOWIE PLH020001",null,"Poleski Park Krajobrazowy"]
[null,null,null,null,null,null,null,null,"CHMIEL PLH060001",null,"Południoworoztoczański Park Krajobrazowy"]
[null,null,null,null,null,null,null,null,"CHODÓW - FALNIÓW PLH120063",null,"Popradzki Park Krajobrazowy"]
[null,null,null,null,null,null,null,null,"CIECHOCINEK PLH040019",null,"Powidzki Park Krajobrazowy"]
[null,null,null,null,null,null,null,null,"CIESZYŃSKIE ŹRÓDŁA TUFOWE PLH240001",null,"Przedborski Park Krajobrazowy"]
[null,null,null,null,null,null,null,null,"CISY W JASIENIU PLH100018",null,"Przemęcki Park Krajobrazowy"]
[null,null,null,null,null,null,null,null,"CYBOWA GÓRA PLH120049",null,"Przemkowski Park Krajobrazowy"]
[null,null,null,null,null,null,null,null,"CYPRIANKA PLH040013",null,"Pszczewski Park Krajobrazowy"]
[null,null,null,null,null,null,null,null,"CYTADELA GRUDZIĄDZ PLH040014",null,"Rogaliński Park Krajobrazowy"]
[null,null,null,null,null,null,null,null,"CZARNA ORAWA PLH120002",null,"Rudawski Park Krajobrazowy"]
[null,null,null,null,null,null,null,null,"CZARNE URWISKO KOŁO LUTYNI PLH020033",null,"Rudniański Park Krajobrazowy"]
[null,null,null,null,null,null,null,null,"CZARNY LAS PLH060002",null,"Sieradowicki Park Krajobrazowy"]
[null,null,null,null,null,null,null,null,"CZERNA PLH120034",null,"Sierakowski Park Krajobrazowy"]
[null,null,null,null,null,null,null,null,"CZERWONA WODA POD BABILONEM PLH220056",null,"Skierbieszowski Park Krajobrazowy"]
[null,null,null,null,null,null,null,null,"CZERWONY BÓR PLH200018",null,"Sobiborski Park Krajobrazowy"]
[null,null,null,null,null,null,null,null,"DALKOWSKIE JARY PLH020088",null,"Spalski Park Krajobrazowy"]
[null,null,null,null,null,null,null,null,"DĄBIE PLH120064",null,"Stobrawski Park Krajobrazowy"]
[null,null,null,null,null,null,null,null,"DĄBROWA GROTNICKA PLH100001",null,"Strzelecki Park Krajobrazowy"]
[null,null,null,null,null,null,null,null,"DĄBROWA KOŁO ZAKLIKOWA PLH180019",null,"Suchedniowsko-Oblęgorski Park Krajobrazowy"]
[null,null,null,null,null,null,null,null,"DĄBROWA RADZIEJOWSKA PLH140003",null,"Sulejowski Park Krajobrazowy"]
[null,null,null,null,null,null,null,null,"DĄBROWA ŚWIETLISTA W PERNIE PLH100002",null,"Suwalski Park Krajobrazowy"]
[null,null,null,null,null,null,null,null,"DĄBROWY CERANOWSKIE PLH140024",null,"Szaniecki Park Krajobrazowy"]
[null,null,null,null,null,null,null,null,"DĄBROWY GUBIŃSKIE PLH080069",null,"Szczebrzeszyński Park Krajobrazowy"]
[null,null,null,null,null,null,null,null,"DĄBROWY JANIKOWSKIE PLH020089",null,"Szczeciński Park Krajobrazowy"]
[null,null,null,null,null,null,null,null,"DĄBROWY KLICZKOWSKIE PLH020090",null,"Ślężański Park Krajobrazowy"]
[null,null,null,null,null,null,null,null,"DĄBROWY KROTOSZYŃSKIE PLB300007",null,"Śnieżnicki Park Krajobrazowy"]
[null,null,null,null,null,null,null,null,"DĄBROWY KROTOSZYŃSKIE PLH300002",null,"Tenczyński Park Krajobrazowy"]
[null,null,null,null,null,null,null,null,"DĄBROWY OBRZYCKIE PLH300003",null,"Trójmiejski Park Krajobrazowy"]
[null,null,null,null,null,null,null,null,"DĄBROWY SEROCZYŃSKIE PLH140004",null,"Tucholski Park Krajobrazowy"]
[null,null,null,null,null,null,null,null,"DĄBROWY ŚWIETLISTE KOŁO REDZENIA PLH100019",null,"Wdecki Park Krajobrazowy"]
[null,null,null,null,null,null,null,null,"DĄBROWY W MARIANKU PLH100027",null,"Wdzydzki Park Krajobrazowy"]
[null,null,null,null,null,null,null,null,"DĄBRÓWKA PLH220088",null,"Welski Park Krajobrazowy"]
[null,null,null,null,null,null,null,null,"DEBRY PLH060003",null,"Wiśnicko-Lipnicki Park Krajobrazowy"]
[null,null,null,null,null,null,null,null,"DELTA ŚWINY PLB320002",null,"Wrzelowiecki Park Krajobrazowy"]
[null,null,null,null,null,null,null,null,"DĘBNIAŃSKIE MOKRADŁA PLH020002",null,"Zaborski Park Krajobrazowy"]
[null,null,null,null,null,null,null,null,"DĘBNICKO-TYNIECKI OBSZAR ŁĄKOWY PLH120065",null,"Załęczański Park Krajobrazowy"]
[null,null,null,null,null,null,null,null,"DĘBOWA GÓRA PLH300055",null,"Żerkowsko-Czeszewski Park Krajobrazowy"]
[null,null,null,null,null,null,null,null,"DĘBOWE ALEJE W GRYŻYNIE I ZAWISZACH PLH080035",null,"Żywiecki Park Krajobrazowy"]
[null,null,null,null,null,null,null,null,"DĘBÓWKA NAD RZEKĄ USZEWKĄ PLH120066",null,"brak"]
[null,null,null,null,null,null,null,null,"DIABELSKI STAW KOŁO RADOMICKA PLH080056"]
[null,null,null,null,null,null,null,null,"DIABELSKIE PUSTACIE PLH320048"]
[null,null,null,null,null,null,null,null,"DOBROMIERZ PLH020034"]
[null,null,null,null,null,null,null,null,"DOBROMYŚL PLH060033"]
[null,null,null,null,null,null,null,null,"DOBRYŃ PLH060004"]
[null,null,null,null,null,null,null,null,"DOBUŻEK PLH060039"]
[null,null,null,null,null,null,null,null,"DOLINA BARYCZY PLB020001"]
[null,null,null,null,null,null,null,null,"DOLINA BIAŁEJ NIDY PLH260013"]
[null,null,null,null,null,null,null,null,"DOLINA BIAŁKI PLH120024"]
[null,null,null,null,null,null,null,null,"DOLINA BIEBRZY PLH200008"]
[null,null,null,null,null,null,null,null,"DOLINA BIELAWY PLH320053"]
[null,null,null,null,null,null,null,null,"DOLINA BOBRZY PLH260014"]
[null,null,null,null,null,null,null,null,"DOLINA BUKÓWKI PLH300046"]
[null,null,null,null,null,null,null,null,"DOLINA BYSTRZYCY ŁOMNICKIEJ PLH020083"]
[null,null,null,null,null,null,null,null,"DOLINA CYBINY PLH300038"]
[null,null,null,null,null,null,null,null,"DOLINA CZARNEJ NIDY PLH260016"]
[null,null,null,null,null,null,null,null,"DOLINA CZARNEJ PLH260015"]
[null,null,null,null,null,null,null,null,"DOLINA DEBRZYNKI PLH300047"]
[null,null,null,null,null,null,null,null,"DOLINA DOLNEGO BOBRU PLH080068"]
[null,null,null,null,null,null,null,null,"DOLINA DOLNEGO BUGU PLB140001"]
[null,null,null,null,null,null,null,null,"DOLINA DOLNEGO SANU PLH180020"]
[null,null,null,null,null,null,null,null,"DOLINA DOLNEJ BARYCZY PLH020084"]
[null,null,null,null,null,null,null,null,"DOLINA DOLNEJ KWISY PLH020050"]
[null,null,null,null,null,null,null,null,"DOLINA DOLNEJ NARWI PLB140014"]
[null,null,null,null,null,null,null,null,"DOLINA DOLNEJ NOTECI PLB080002"]
[null,null,null,null,null,null,null,null,"DOLINA DOLNEJ ODRY PLB320003"]
[null,null,null,null,null,null,null,null,"DOLINA DOLNEJ PILICY PLH140016"]
[null,null,null,null,null,null,null,null,"DOLINA DOLNEJ SKAWY PLB120005"]
[null,null,null,null,null,null,null,null,"DOLINA DOLNEJ SOŁY PLB120004"]
[null,null,null,null,null,null,null,null,"DOLINA DOLNEJ TANWI PLH060097"]
[null,null,null,null,null,null,null,null,"DOLINA DOLNEJ WISŁY PLB040003"]
[null,null,null,null,null,null,null,null,"DOLINA DRWĘCY PLH280001"]
[null,null,null,null,null,null,null,null,"DOLINA GÓRNEGO NURCA PLB200004"]
[null,null,null,null,null,null,null,null,"DOLINA GÓRNEJ LABUNKI PLB060013"]
[null,null,null,null,null,null,null,null,"DOLINA GÓRNEJ ŁEBY PLH220006"]
[null,null,null,null,null,null,null,null,"DOLINA GÓRNEJ MIERZAWY PLH260017"]
[null,null,null,null,null,null,null,null,"DOLINA GÓRNEJ NARWI PLB200007"]
[null,null,null,null,null,null,null,null,"DOLINA GÓRNEJ PILICY PLH260018"]
[null,null,null,null,null,null,null,null,"DOLINA GÓRNEJ ROSPUDY PLH200022"]
[null,null,null,null,null,null,null,null,"DOLINA GÓRNEJ SINIOCHY PLH060086"]
[null,null,null,null,null,null,null,null,"DOLINA GÓRNEJ WISŁY PLB240001"]
[null,null,null,null,null,null,null,null,"DOLINA GRABOWEJ PLH320003"]
[null,null,null,null,null,null,null,null,"DOLINA ILANKI PLH080009"]
[null,null,null,null,null,null,null,null,"DOLINA INY KOŁO RECZA PLH320004"]
[null,null,null,null,null,null,null,null,"DOLINA KAKAJU PLH280036"]
[null,null,null,null,null,null,null,null,"DOLINA KAMIENNEJ PLH260019"]
[null,null,null,null,null,null,null,null,"DOLINA KAMIONKI PLH300031"]
[null,null,null,null,null,null,null,null,"DOLINA KŁODAWY PLH220007"]
[null,null,null,null,null,null,null,null,"DOLINA KOSTRZYNIA PLB140009"]
[null,null,null,null,null,null,null,null,"DOLINA KRASNEJ PLH260001"]
[null,null,null,null,null,null,null,null,"DOLINA KRĄPIELI PLH320005"]
[null,null,null,null,null,null,null,null,"DOLINA KRZNY PLH060066"]
[null,null,null,null,null,null,null,null,"DOLINA LENIWEJ OBRY PLH080001"]
[null,null,null,null,null,null,null,null,"DOLINA LIWCA PLB140002"]
[null,null,null,null,null,null,null,null,"DOLINA LUBSZY PLH080057"]
[null,null,null,null,null,null,null,null,"DOLINA ŁACHY PLH020003"]
[null,null,null,null,null,null,null,null,"DOLINA ŁĘTOWNI PLH060040"]
[null,null,null,null,null,null,null,null,"DOLINA ŁOBŻONKI PLH300040"]
[null,null,null,null,null,null,null,null,"DOLINA ŁUPAWY PLH220036"]
[null,null,null,null,null,null,null,null,"DOLINA MAŁEJ PANWI PLH160008"]
[null,null,null,null,null,null,null,null,"DOLINA MAŁEJ WEŁNY POD KISZKOWEM PLB300006"]
[null,null,null,null,null,null,null,null,"DOLINA MIAŁY PLH300042"]
[null,null,null,null,null,null,null,null,"DOLINA MIERZAWY PLH260020"]
[null,null,null,null,null,null,null,null,"DOLINA MOGIELNICY PLH300033"]
[null,null,null,null,null,null,null,null,"DOLINA NIDY PLB260001"]
[null,null,null,null,null,null,null,null,"DOLINA NOTECI PLH300004"]
[null,null,null,null,null,null,null,null,"DOLINA OLEŚNICY I POTOKU BOGUSZYCKIEGO PLH020091"]
[null,null,null,null,null,null,null,null,"DOLINA OSY PLH040033"]
[null,null,null,null,null,null,null,null,"DOLINA PASŁEKI PLB280002"]
[null,null,null,null,null,null,null,null,"DOLINA PILICY PLB140003"]
[null,null,null,null,null,null,null,null,"DOLINA PIŁAWY PLH320025"]
[null,null,null,null,null,null,null,null,"DOLINA PISY PLH200023"]
[null,null,null,null,null,null,null,null,"DOLINA PLISZKI PLH080011"]
[null,null,null,null,null,null,null,null,"DOLINA PŁONI I JEZIORO MIEDWIE PLH320006"]
[null,null,null,null,null,null,null,null,"DOLINA PRADNIKA PLH120004"]
[null,null,null,null,null,null,null,null,"DOLINA RADWI, CHOCIELI I CHOTLI PLH320022"]
[null,null,null,null,null,null,null,null,"DOLINA RAWKI PLH100015"]
[null,null,null,null,null,null,null,null,"DOLINA REKNICY PLH220008"]
[null,null,null,null,null,null,null,null,"DOLINA RURZYCY PLH300017"]
[null,null,null,null,null,null,null,null,"DOLINA RZEKI GRÓBKI PLH120067"]
[null,null,null,null,null,null,null,null,"DOLINA SAMICY PLB300013"]
[null,null,null,null,null,null,null,null,"DOLINA SANKI PLH120059"]
[null,null,null,null,null,null,null,null,"DOLINA SIENIOCHY PLH060025"]
[null,null,null,null,null,null,null,null,"DOLINA SKRWY LEWEJ PLH140051"]
[null,null,null,null,null,null,null,null,"DOLINA SŁUPI PLB220002"]
[null,null,null,null,null,null,null,null,"DOLINA SOŁOKIJI PLB060021"]
[null,null,null,null,null,null,null,null,"DOLINA STROPNEJ PLH220037"]
[null,null,null,null,null,null,null,null,"DOLINA SWĘDRNI PLH300034"]
[null,null,null,null,null,null,null,null,"DOLINA SZCZYRY PLH220066"]
[null,null,null,null,null,null,null,null,"DOLINA SZESZUPY PLH200016"]
[null,null,null,null,null,null,null,null,"DOLINA SZYSZŁY PLB060018"]
[null,null,null,null,null,null,null,null,"DOLINA SZYSZŁY PLH060042"]
[null,null,null,null,null,null,null,null,"DOLINA ŚREDZKIEJ STRUGI PLH300057"]
[null,null,null,null,null,null,null,null,"DOLINA ŚRODKOWEGO BUGU PLB060003"]
[null,null,null,null,null,null,null,null,"DOLINA ŚRODKOWEGO ŚWIDRA PLH140025"]
[null,null,null,null,null,null,null,null,"DOLINA ŚRODKOWEGO WIEPRZA PLH060005"]
[null,null,null,null,null,null,null,null,"DOLINA ŚRODKOWEJ NOTECI I KANAŁU BYDGOSKIEGO PLB300001"]
[null,null,null,null,null,null,null,null,"DOLINA ŚRODKOWEJ ODRY PLB080004"]
[null,null,null,null,null,null,null,null,"DOLINA ŚRODKOWEJ PILICY PLH100008"]
[null,null,null,null,null,null,null,null,"DOLINA ŚRODKOWEJ WARTY PLB300002"]
[null,null,null,null,null,null,null,null,"DOLINA ŚRODKOWEJ WIETCISY PLH220009"]
[null,null,null,null,null,null,null,null,"DOLINA ŚRODKOWEJ WISŁY PLB140004"]
[null,null,null,null,null,null,null,null,"DOLINA TYŚMIENICY PLB060004"]
[null,null,null,null,null,null,null,null,"DOLINA TYWY PLH320050"]
[null,null,null,null,null,null,null,null,"DOLINA WARKOCZA PLH260021"]
[null,null,null,null,null,null,null,null,"DOLINA WEŁNY PLH300043"]
[null,null,null,null,null,null,null,null,"DOLINA WIDAWY PLH020036"]
[null,null,null,null,null,null,null,null,"DOLINA WIEPRZY I STUDNICY PLH220038"]
[null,null,null,null,null,null,null,null,"DOLINA WIERZYCY PLH220094"]
[null,null,null,null,null,null,null,null,"DOLINA WKRY PLH140005"]
[null,null,null,null,null,null,null,null,"DOLINA WOLICY PLH060058"]
[null,null,null,null,null,null,null,null,"DOLINA ZWOLEŃKI PLH140006"]
[null,null,null,null,null,null,null,null,"DOLINKI JURAJSKIE PLH120005"]
[null,null,null,null,null,null,null,null,"DOLINY BRDY I CHOCINY PLH220058"]
[null,null,null,null,null,null,null,null,"DOLINY BRDY I STĄŻKI W BORACH TUCHOLSKICH PLH040023"]
[null,null,null,null,null,null,null,null,"DOLINY EROZYJNE WYSOCZYZNY ELBLĄSKIEJ PLH280029"]
[null,null,null,null,null,null,null,null,"DOLINY ŁABUŃKI I TOPORNICY PLH060087"]
[null,null,null,null,null,null,null,null,"DOLINY OMULWI I PŁODOWNICY PLB140005"]
[null,null,null,null,null,null,null,null,"DOLINY WKRY I MŁAWKI PLB140008"]
[null,null,null,null,null,null,null,null,"DOLNA ODRA PLH320037"]
[null,null,null,null,null,null,null,null,"DOLNA SOŁA PLH120083"]
[null,null,null,null,null,null,null,null,"DOLNA WISŁA PLH220033"]
[null,null,null,null,null,null,null,null,"DOLNA WISŁOKA Z DOPŁYWAMI PLH180053"]
[null,null,null,null,null,null,null,null,"DOLNY DUNAJEC PLH120085"]
[null,null,null,null,null,null,null,null,"DOLNY WIEPRZ PLH060051"]
[null,null,null,null,null,null,null,null,"DORZECZE GÓRNEGO SANU PLH180021"]
[null,null,null,null,null,null,null,null,"DORZECZE PARSĘTY PLH320007"]
[null,null,null,null,null,null,null,null,"DORZECZE REGI PLH320049"]
[null,null,null,null,null,null,null,null,"DREWNIKI PLH060059"]
[null,null,null,null,null,null,null,null,"DUŻY OKOŃ PLH220059"]
[null,null,null,null,null,null,null,null,"DYBOWSKA DOLINA WISŁY PLH040011"]
[null,null,null,null,null,null,null,null,"DZICZY LAS PLH320060"]
[null,null,null,null,null,null,null,null,"DZIERZKOWICE PLH060079"]
[null,null,null,null,null,null,null,null,"DZIKA ORLICA PLH020061"]
[null,null,null,null,null,null,null,null,"DZWONECZNIK W KISIELANACH PLH140026"]
[null,null,null,null,null,null,null,null,"FORT SALIS SOGLIO PLH180008"]
[null,null,null,null,null,null,null,null,"FORTY MODLIŃSKIE PLH140020"]
[null,null,null,null,null,null,null,null,"FORTY NYSKIE PLH160001"]
[null,null,null,null,null,null,null,null,"FORTY W TORUNIU PLH040001"]
[null,null,null,null,null,null,null,null,"FORTYFIKACJE W POZNANIU PLH300005"]
[null,null,null,null,null,null,null,null,"GAŁUSZKI W CHOCIANOWIE PLH020087"]
[null,null,null,null,null,null,null,null,"GĄZWA PLH280011"]
[null,null,null,null,null,null,null,null,"GIEBUŁTÓW PLH120051"]
[null,null,null,null,null,null,null,null,"GIERŁOŻ PLH280002"]
[null,null,null,null,null,null,null,null,"GLINIANKI W LENARTOWICACH PLH300048"]
[null,null,null,null,null,null,null,null,"GLINISKA PLH060006"]
[null,null,null,null,null,null,null,null,"GOGOLICE-KOSA PLH320038"]
[null,null,null,null,null,null,null,null,"GOLESZ PLH180031"]
[null,null,null,null,null,null,null,null,"GOŁE ŁĄKI PLH140027"]
[null,null,null,null,null,null,null,null,"GOŁOBÓRZ PLH140028"]
[null,null,null,null,null,null,null,null,"GORCE PLB120001"]
[null,null,null,null,null,null,null,null,"GOŚCIERADÓW PLH060007"]
[null,null,null,null,null,null,null,null,"GÓRA ŚWIĘTEJ ANNY PLH160002"]
[null,null,null,null,null,null,null,null,"GÓRA WAPIENNA PLH020095"]
[null,null,null,null,null,null,null,null,"GÓRKOWSKI LAS PLH220045"]
[null,null,null,null,null,null,null,null,"GÓRNY DUNAJEC PLH120086"]
[null,null,null,null,null,null,null,null,"GÓRY BARDZKIE PLH020062"]
[null,null,null,null,null,null,null,null,"GÓRY BIALSKIE I GRUPA ŚNIEŻNIKA PLH020016"]
[null,null,null,null,null,null,null,null,"GÓRY I POGÓRZE KACZAWSKIE PLH020037"]
[null,null,null,null,null,null,null,null,"GÓRY IZERSKIE PLB020009"]
[null,null,null,null,null,null,null,null,"GÓRY KAMIENNE PLH020038"]
[null,null,null,null,null,null,null,null,"GÓRY OPAWSKIE PLH160007"]
[null,null,null,null,null,null,null,null,"GÓRY ORLICKIE PLH020060"]
[null,null,null,null,null,null,null,null,"GÓRY PIEPRZOWE PLH260022"]
[null,null,null,null,null,null,null,null,"GÓRY SŁONNE PLB180003"]
[null,null,null,null,null,null,null,null,"GÓRY SŁONNE PLH180013"]
[null,null,null,null,null,null,null,null,"GÓRY STOŁOWE PLB020006"]
[null,null,null,null,null,null,null,null,"GÓRY STOŁOWE PLH020004"]
[null,null,null,null,null,null,null,null,"GÓRY ZŁOTE PLH020096"]
[null,null,null,null,null,null,null,null,"GRABIA PLH100021"]
[null,null,null,null,null,null,null,null,"GRABINKA PLH140044"]
[null,null,null,null,null,null,null,null,"GRANICZNY MEANDER ODRY PLH240013"]
[null,null,null,null,null,null,null,null,"GRĄDY BYTYŃSKIE PLH300051"]
[null,null,null,null,null,null,null,null,"GRĄDY NAD JEZIORAMI ZDUŃSKIM I SZPĘGAWSKIM PLH220067"]
[null,null,null,null,null,null,null,null,"GRĄDY NAD LINDĄ PLH100022"]
[null,null,null,null,null,null,null,null,"GRĄDY ODRZAŃSKIE PLB020002"]
[null,null,null,null,null,null,null,null,"GRĄDY W CZERNIEJEWIE PLH300049"]
[null,null,null,null,null,null,null,null,"GRĄDY W DOLINIE ODRY PLH020017"]
[null,null,null,null,null,null,null,null,"GRODCZYN I HOMOLE KOŁO DUSZNIK PLH020039"]
[null,null,null,null,null,null,null,null,"GRZYMAŁÓW PLH120053"]
[null,null,null,null,null,null,null,null,"GUZÓWKA PLH060071"]
[null,null,null,null,null,null,null,null,"GUZY PLH220068"]
[null,null,null,null,null,null,null,null,"HOPOWO PLH220010"]
[null,null,null,null,null,null,null,null,"HORODYSKO PLH060060"]
[null,null,null,null,null,null,null,null,"HORODYSZCZE PLH060101"]
[null,null,null,null,null,null,null,null,"HORYNIEC PLH180017"]
[null,null,null,null,null,null,null,null,"HUBALE PLH060008"]
[null,null,null,null,null,null,null,null,"HUBERT PLH240036"]
[null,null,null,null,null,null,null,null,"HUTA DOLNA PLH220089"]
[null,null,null,null,null,null,null,null,"IRYSOWY ZAGON KOŁO GROMADZYNIA PLH020051"]
[null,null,null,null,null,null,null,null,"IZBICKI PRZEŁOM WIEPRZA PLH060030"]
[null,null,null,null,null,null,null,null,"JAĆMIERZ PLH180032"]
[null,null,null,null,null,null,null,null,"JADOWNIKI MOKRE PLH120068"]
[null,null,null,null,null,null,null,null,"JANIEWICKIE BAGNO PLH320008"]
[null,null,null,null,null,null,null,null,"JAR RZEKI RADUNI PLH220011"]
[null,null,null,null,null,null,null,null,"JAROSZOWIEC PLH120006"]
[null,null,null,null,null,null,null,null,"JASIÓŁKA PLH180011"]
[null,null,null,null,null,null,null,null,"JELENIEWO PLH200001"]
[null,null,null,null,null,null,null,null,"JELINO PLH060095"]
[null,null,null,null,null,null,null,null,"JELONEK PRZEMKOWSKI PLH020097"]
[null,null,null,null,null,null,null,null,"JELONKA PLH200019"]
[null,null,null,null,null,null,null,null,"JEZIORA BRODZKIE PLH080052"]
[null,null,null,null,null,null,null,null,"JEZIORA CHOCZEWSKIE PLH220096"]
[null,null,null,null,null,null,null,null,"JEZIORA CZAPLINECKIE PLH320039"]
[null,null,null,null,null,null,null,null,"JEZIORA GOŚCIMSKIE PLH080036"]
[null,null,null,null,null,null,null,null,"JEZIORA KISTOWSKIE PLH220097"]
[null,null,null,null,null,null,null,null,"JEZIORA LOBELIOWE KOŁO SOSZYCY PLH220039"]
[null,null,null,null,null,null,null,null,"JEZIORA PSZCZEWSKIE I DOLINA OBRY PLB080005"]
[null,null,null,null,null,null,null,null,"JEZIORA PSZCZEWSKIE I DOLINA OBRY PLH080002"]
[null,null,null,null,null,null,null,null,"JEZIORA SZCZECINECKIE PLH320009"]
[null,null,null,null,null,null,null,null,"JEZIORA UŚCIWIERSKIE PLH060009"]
[null,null,null,null,null,null,null,null,"JEZIORA WDZYDZKIE PLH220034"]
[null,null,null,null,null,null,null,null,"JEZIORA WELTYŃSKIE PLB320018"]
[null,null,null,null,null,null,null,null,"JEZIORKA CHOŚNICKIE PLH220012"]
[null,null,null,null,null,null,null,null,"JEZIORO BOBIĘCIŃSKIE PLH320040"]
[null,null,null,null,null,null,null,null,"JEZIORO BRENNO PLH300018"]
[null,null,null,null,null,null,null,null,"JEZIORO BUKOWO PLH320041"]
[null,null,null,null,null,null,null,null,"JEZIORO DŁUGIE PLH280030"]
[null,null,null,null,null,null,null,null,"JEZIORO DOBSKIE PLB280012"]
[null,null,null,null,null,null,null,null,"JEZIORO DRUŻNO PLB280013"]
[null,null,null,null,null,null,null,null,"JEZIORO DRUŻNO PLH280028"]
[null,null,null,null,null,null,null,null,"JEZIORO DYMNO PLH220069"]
[null,null,null,null,null,null,null,null,"JEZIORO GOPŁO PLH040007"]
[null,null,null,null,null,null,null,null,"JEZIORO JANISZOWICE PLH080053"]
[null,null,null,null,null,null,null,null,"JEZIORO KALISZAŃSKIE PLH300044"]
[null,null,null,null,null,null,null,null,"JEZIORO KARAŚ PLH280003"]
[null,null,null,null,null,null,null,null,"JEZIORO KOPAŃ PLH320059"]
[null,null,null,null,null,null,null,null,"JEZIORO KOZIE PLH320010"]
[null,null,null,null,null,null,null,null,"JEZIORO KRASNE PLH220035"]
[null,null,null,null,null,null,null,null,"JEZIORO KRĄG PLH220070"]
[null,null,null,null,null,null,null,null,"JEZIORO KUBEK PLH300006"]
[null,null,null,null,null,null,null,null,"JEZIORO LUBIE I DOLINA DRAWY PLH320023"]
[null,null,null,null,null,null,null,null,"JEZIORO ŁUKNAJNO PLB280003"]
[null,null,null,null,null,null,null,null,"JEZIORO MIEDWIE I OKOLICE PLB320005"]
[null,null,null,null,null,null,null,null,"JEZIORO MNICH PLH300029"]
[null,null,null,null,null,null,null,null,"JEZIORO OŚWIN I OKOLICE PLB280004"]
[null,null,null,null,null,null,null,null,"JEZIORO PIASEK PLH220013"]
[null,null,null,null,null,null,null,null,"JEZIORO STOLSKO PLH320063"]
[null,null,null,null,null,null,null,null,"JEZIORO ŚMIADOWO PLH320042"]
[null,null,null,null,null,null,null,null,"JEZIORO ŚWIDWIE PLB320006"]
[null,null,null,null,null,null,null,null,"JEZIORO WIELKI BYTYŃ PLH320011"]
[null,null,null,null,null,null,null,null,"JEZIORO WOSZCZELSKIE PLH280034"]
[null,null,null,null,null,null,null,null,"JEZIORO WUKŚNIKI PLH280038"]
[null,null,null,null,null,null,null,null,"JEZIORO ZGIERZYNIECKIE PLB300009"]
[null,null,null,null,null,null,null,null,"JONKOWO-WARKAŁY PLH280039"]
[null,null,null,null,null,null,null,null,"JÓZEFÓW - WOLA DĘBOWIECKA PLH180033"]
[null,null,null,null,null,null,null,null,"KACZMAROWE DOŁY PLH120062"]
[null,null,null,null,null,null,null,null,"KALINA MAŁA PLH120054"]
[null,null,null,null,null,null,null,null,"KALINA-LISINIEC PLH120007"]
[null,null,null,null,null,null,null,null,"KAMIEŃ PLH060067"]
[null,null,null,null,null,null,null,null,"KAMIEŃ ŚLĄSKI PLH160003"]
[null,null,null,null,null,null,null,null,"KAMIONKI PLH020005"]
[null,null,null,null,null,null,null,null,"KAMPINOSKA DOLINA WISŁY PLH140029"]
[null,null,null,null,null,null,null,null,"KANTOR STARY PLH140007"]
[null,null,null,null,null,null,null,null,"KARGOWSKIE ZAKOLA ODRY PLH080012"]
[null,null,null,null,null,null,null,null,"KARKONOSZE PLB020007"]
[null,null,null,null,null,null,null,null,"KARKONOSZE PLH020006"]
[null,null,null,null,null,null,null,null,"KARSIBÓRZ ŚWIDWIŃSKI PLH320043"]
[null,null,null,null,null,null,null,null,"KARSZÓWEK PLH020098"]
[null,null,null,null,null,null,null,null,"KARWICKIE ŹRÓDLISKA PLH220071"]
[null,null,null,null,null,null,null,null,"KASZUBSKIE KLIFY PLH220072"]
[null,null,null,null,null,null,null,null,"KASZUNY PLH280040"]
[null,null,null,null,null,null,null,null,"KAZIMIERÓWKA PLH060088"]
[null,null,null,null,null,null,null,null,"KĄTY PLH060010"]
[null,null,null,null,null,null,null,null,"KEMY RYMAŃSKIE PLH320012"]
[null,null,null,null,null,null,null,null,"KĘPIE NA WYŻYNIE MIECHOWSKIEJ PLH120070"]
[null,null,null,null,null,null,null,null,"KIEŁCZYN PLH020099"]
[null,null,null,null,null,null,null,null,"KISZEWO PLH300037"]
[null,null,null,null,null,null,null,null,"KLIFY PODDĘBSKIE PLH220100"]
[null,null,null,null,null,null,null,null,"KLONÓWKA PLH180022"]
[null,null,null,null,null,null,null,null,"KOŁACZNIA PLH180006"]
[null,null,null,null,null,null,null,null,"KOŁO GROBLI PLH120008"]
[null,null,null,null,null,null,null,null,"KOMASZYCE PLH060063"]
[null,null,null,null,null,null,null,null,"KOMORÓW PLH120055"]
[null,null,null,null,null,null,null,null,"KOPALNIE W ZŁOTYM STOKU PLH020007"]
[null,null,null,null,null,null,null,null,"KOPANKI PLH300008"]
[null,null,null,null,null,null,null,null,"KORNELÓWKA PLH060091"]
[null,null,null,null,null,null,null,null,"KOSTRZA PLH120009"]
[null,null,null,null,null,null,null,null,"KOŚCIÓŁ W DYDNI PLH180034"]
[null,null,null,null,null,null,null,null,"KOŚCIÓŁ W GÓRKACH WIELKICH PLH240008"]
[null,null,null,null,null,null,null,null,"KOŚCIÓŁ W KONRADOWIE PLH020008"]
[null,null,null,null,null,null,null,null,"KOŚCIÓŁ W NOWOSIELCACH PLH180035"]
[null,null,null,null,null,null,null,null,"KOŚCIÓŁ W RADZIECHOWACH PLH240007"]
[null,null,null,null,null,null,null,null,"KOŚCIÓŁ W RÓWNEM PLH180036"]
[null,null,null,null,null,null,null,null,"KOŚCIÓŁ W SKALNIKU PLH180037"]
[null,null,null,null,null,null,null,null,"KOŚCIÓŁ W ŚLIWICACH PLH040034"]
[null,null,null,null,null,null,null,null,"KOŚCIÓŁ W WĘGLÓWCE PLH120046"]
[null,null,null,null,null,null,null,null,"KOZIORÓG W CZERNEJ PLH020100"]
[null,null,null,null,null,null,null,null,"KRAS STASZOWSKI PLH260023"]
[null,null,null,null,null,null,null,null,"KROGULEC PLH140008"]
[null,null,null,null,null,null,null,null,"KROWIE BAGNO PLH060011"]
[null,null,null,null,null,null,null,null,"KRYNICA PLH120039"]
[null,null,null,null,null,null,null,null,"KRZEMIONKI OPATOWSKIE PLH260024"]
[null,null,null,null,null,null,null,null,"KRZESZOWICE PLH120044"]
[null,null,null,null,null,null,null,null,"KRZEWINY PLH040022"]
[null,null,null,null,null,null,null,null,"KUMAKI DOBREJ PLH020078"]
[null,null,null,null,null,null,null,null,"KUMÓW MAJORACKI PLH060072"]
[null,null,null,null,null,null,null,null,"KURZE GRZĘDY PLH220014"]
[null,null,null,null,null,null,null,null,"KWIATÓWKA PLH120056"]
[null,null,null,null,null,null,null,null,"LADZIN PLH180038"]
[null,null,null,null,null,null,null,null,"LAS BANIEWICKI PLH320064"]
[null,null,null,null,null,null,null,null,"LAS BIELAŃSKI PLH140041"]
[null,null,null,null,null,null,null,null,"LAS DĘBOWIEC PLH100023"]
[null,null,null,null,null,null,null,null,"LAS HRABEŃSKI PLH180039"]
[null,null,null,null,null,null,null,null,"LAS JANA III SOBIESKIEGO PLH140031"]
[null,null,null,null,null,null,null,null,"LAS KOŁO TWORKOWA PLH240040"]
[null,null,null,null,null,null,null,null,"LAS NAD BRACIEJOWĄ PLH180023"]
[null,null,null,null,null,null,null,null,"LAS NATOLIŃSKI PLH140042"]
[null,null,null,null,null,null,null,null,"LAS NIEGŁOWICKI PLH180040"]
[null,null,null,null,null,null,null,null,"LAS ORŁOWSKI PLH060061"]
[null,null,null,null,null,null,null,null,"LAS PILCZYCKI PLH020069"]
[null,null,null,null,null,null,null,null,"LAS WOLNOŚĆ PLH220060"]
[null,null,null,null,null,null,null,null,"LAS ŻALIŃSKI PLH060102"]
[null,null,null,null,null,null,null,null,"LAS ŻARSKI PLH080070"]
[null,null,null,null,null,null,null,null,"LASY BARUCICKIE PLH160009"]
[null,null,null,null,null,null,null,null,"LASY BIERZWNICKIE PLH320044"]
[null,null,null,null,null,null,null,null,"LASY CISOWSKO-ORŁOWIŃSKIE PLH260040"]
[null,null,null,null,null,null,null,null,"LASY DOBROSUŁOWSKIE PLH080037"]
[null,null,null,null,null,null,null,null,"LASY DOŁHOBYCZOWSKIE PLH060103"]
[null,null,null,null,null,null,null,null,"LASY GORZKOWICKIE PLH100020"]
[null,null,null,null,null,null,null,null,"LASY GRĘDZIŃSKIE PLH020081"]
[null,null,null,null,null,null,null,null,"LASY IŁAWSKIE PLB280005"]
[null,null,null,null,null,null,null,null,"LASY JANOWSKIE PLB060005"]
[null,null,null,null,null,null,null,null,"LASY LEŻAJSKIE PLH180047"]
[null,null,null,null,null,null,null,null,"LASY LĘBORSKIE PLB220006"]
[null,null,null,null,null,null,null,null,"LASY ŁUKOWSKIE PLB060010"]
[null,null,null,null,null,null,null,null,"LASY MIRACHOWSKIE PLB220008"]
[null,null,null,null,null,null,null,null,"LASY MIRCZAŃSKIE PLH060104"]
[null,null,null,null,null,null,null,null,"LASY PARCZEWSKIE PLB060006"]
[null,null,null,null,null,null,null,null,"LASY PUSZCZY NAD DRAWĄ PLB320016"]
[null,null,null,null,null,null,null,null,"LASY REKOWSKIE PLH220098"]
[null,null,null,null,null,null,null,null,"LASY SIENIAWSKIE PLH180054"]
[null,null,null,null,null,null,null,null,"LASY SKALISKIE PLB280011"]
[null,null,null,null,null,null,null,null,"LASY SKARŻYSKIE PLH260011"]
[null,null,null,null,null,null,null,null,"LASY SMARDZEWICKIE PLH100024"]
[null,null,null,null,null,null,null,null,"LASY SOBIBORSKIE PLH060043"]
[null,null,null,null,null,null,null,null,"LASY SPALSKIE PLH100003"]
[null,null,null,null,null,null,null,null,"LASY STRZELECKIE PLB060007"]
[null,null,null,null,null,null,null,null,"LASY SUCHEDNIOWSKIE PLH260010"]
[null,null,null,null,null,null,null,null,"LASY ŻERKOWSKO-CZESZEWSKIE PLH300053"]
[null,null,null,null,null,null,null,null,"LENIEC NAD WIERZYCĄ PLH220073"]
[null,null,null,null,null,null,null,null,"LEŚNE STAWKI KOŁO GOSZCZA PLH020101"]
[null,null,null,null,null,null,null,null,"LIPICKIE MOKRADŁA PLH100025"]
[null,null,null,null,null,null,null,null,"LIPIENNIKI W DĄBROWIE GÓRNICZEJ PLH240037"]
[null,null,null,null,null,null,null,null,"LIPÓWKA PLH120010"]
[null,null,null,null,null,null,null,null,"LISI KĄT PLH040026"]
[null,null,null,null,null,null,null,null,"LIWOCZ PLH180046"]
[null,null,null,null,null,null,null,null,"LŁEBSKIE BAGNA PLH220040"]
[null,null,null,null,null,null,null,null,"LUBIASZÓW W PUSZCZY PILICKIEJ PLH100026"]
[null,null,null,null,null,null,null,null,"LUBIESZYNEK PLH220074"]
[null,null,null,null,null,null,null,null,"LUBOGOSZCZ PLH120081"]
[null,null,null,null,null,null,null,null,"LUBOŃ WIELKI PLH120043"]
[null,null,null,null,null,null,null,null,"LUBSKI ŁĘG ŚNIEŻYCOWY PLH080065"]
[null,null,null,null,null,null,null,null,"LUDÓW ŚLASKI PLH020073"]
[null,null,null,null,null,null,null,null,"ŁABOWA PLH120036"]
[null,null,null,null,null,null,null,null,"ŁABUNIE PLH060080"]
[null,null,null,null,null,null,null,null,"ŁAWICA SŁUPSKA PLC990001"]
[null,null,null,null,null,null,null,null,"ŁĄKA W BĘCZKOWICACH PLH100004"]
[null,null,null,null,null,null,null,null,"ŁĄKI CIEBŁOWICKIE PLH100035"]
[null,null,null,null,null,null,null,null,"ŁĄKI GÓR I POGÓRZA IZERSKIEGO PLH020102"]
[null,null,null,null,null,null,null,null,"ŁĄKI KAZUŃSKIE PLH140048"]
[null,null,null,null,null,null,null,null,"ŁĄKI KOŁO KASINY WIELKIEJ PLH120082"]
[null,null,null,null,null,null,null,null,"ŁĄKI NAD MŁYNÓWKĄ PLH180041"]
[null,null,null,null,null,null,null,null,"ŁĄKI NAD WOJKÓWKĄ PLH180051"]
[null,null,null,null,null,null,null,null,"ŁĄKI NOWOHUCKIE PLH120069"]
[null,null,null,null,null,null,null,null,"ŁĄKI OSTRÓWIECKIE PLH140050"]
[null,null,null,null,null,null,null,null,"ŁĄKI SKOSZEWSKIE PLB320007"]
[null,null,null,null,null,null,null,null,"ŁĄKI SOLECKIE PLH140055"]
[null,null,null,null,null,null,null,null,"ŁĄKI TRZEŚLICOWE W FOLUSZU PLH040027"]
[null,null,null,null,null,null,null,null,"ŁĄKI W KOMBORNI PLH180042"]
[null,null,null,null,null,null,null,null,"ŁĄKI W OKOLICACH CHRZĄSTOWIC PLH160010"]
[null,null,null,null,null,null,null,null,"ŁĄKI W OKOLICACH KARŁOWIC NAD STOBRAWĄ PLH160012"]
[null,null,null,null,null,null,null,null,"ŁĄKI W OKOLICACH KLUCZBORKA NAD STOBRAWĄ PLH160013"]
[null,null,null,null,null,null,null,null,"ŁĄKI ŻUKOWSKIE PLH140053"]
[null,null,null,null,null,null,null,null,"ŁĘG ZDZIESZOWICKI PLH160011"]
[null,null,null,null,null,null,null,null,"ŁĘGI CZARNEJ STRUGI PLH140009"]
[null,null,null,null,null,null,null,null,"ŁĘGI KOŁO CHAŁUPEK PLH020104"]
[null,null,null,null,null,null,null,null,"ŁĘGI KOŁO WYMIAREK PLH080059"]
[null,null,null,null,null,null,null,null,"ŁĘGI NAD BYSTRZYCĄ PLH020103"]
[null,null,null,null,null,null,null,null,"ŁĘGI NAD NYSĄ LUŻYCKĄ PLH080038"]
[null,null,null,null,null,null,null,null,"ŁĘGI ODRZAŃSKIE PLB020008"]
[null,null,null,null,null,null,null,null,"ŁĘGI ODRZAŃSKIE PLH020018"]
[null,null,null,null,null,null,null,null,"ŁĘGI SŁUBICKIE PLH080013"]
[null,null,null,null,null,null,null,null,"ŁĘGI W LASACH NAD LISWARTĄ PLH240027"]
[null,null,null,null,null,null,null,null,"ŁĘKAWICA PLH140030"]
[null,null,null,null,null,null,null,null,"ŁOPIENNIK PLH060081"]
[null,null,null,null,null,null,null,null,"ŁOSOSINA PLH120087"]
[null,null,null,null,null,null,null,null,"ŁUKAWIEC PLH180024"]
[null,null,null,null,null,null,null,null,"ŁYSA GÓRA PLH180015"]
[null,null,null,null,null,null,null,null,"ŁYSOGÓRY PLH260002"]
[null,null,null,null,null,null,null,null,"MAŁE PIENINY PLH120025"]
[null,null,null,null,null,null,null,null,"MAŁOMICKIE ŁĘGI PLH080046"]
[null,null,null,null,null,null,null,null,"MAŁOPOLSKI PRZEŁOM WISŁY PLB140006"]
[null,null,null,null,null,null,null,null,"MAMERKI PLH280004"]
[null,null,null,null,null,null,null,null,"MASYW CHEŁMCA PLH020057"]
[null,null,null,null,null,null,null,null,"MASYW ŚLĘŻY PLH020040"]
[null,null,null,null,null,null,null,null,"MAŚLUCHY PLH060105"]
[null,null,null,null,null,null,null,null,"MAZURSKA OSTOJA ŻÓŁWIA BARANOWO PLH280055"]
[null,null,null,null,null,null,null,null,"MAZURSKIE BAGNA PLH280054"]
[null,null,null,null,null,null,null,null,"MECHOWISKA SULĘCZYŃSKIE PLH220017"]
[null,null,null,null,null,null,null,null,"MECHOWISKA ZĘBLEWSKIE PLH220075"]
[null,null,null,null,null,null,null,null,"MECHOWISKO MANOWO PLH320057"]
[null,null,null,null,null,null,null,null,"MĘTNE PLH220061"]
[null,null,null,null,null,null,null,null,"MIASTECKIE JEZIORA LOBELIOWE PLH220041"]
[null,null,null,null,null,null,null,null,"MICHAŁOWIEC PLH120011"]
[null,null,null,null,null,null,null,null,"MIERKOWSKIE WYDMY PLH080039"]
[null,null,null,null,null,null,null,null,"MIERZEJA SARBSKA PLH220018"]
[null,null,null,null,null,null,null,null,"MIESZKOWICKA DĄBROWA PLH320051"]
[null,null,null,null,null,null,null,null,"MIKOŁAJKI POMORSKIE PLH220076"]
[null,null,null,null,null,null,null,null,"MINOKĄT PLH060089"]
[null,null,null,null,null,null,null,null,"MIROSŁAWIEC PLH320045"]
[null,null,null,null,null,null,null,null,"MŁOSINO-LUBNIA PLH220077"]
[null,null,null,null,null,null,null,null,"MOCZARY PLH180026"]
[null,null,null,null,null,null,null,null,"MODRASZKI KOŁO OPOCZKI PLH020094"]
[null,null,null,null,null,null,null,null,"MOKRADŁA KOLNEŃSKIE I KURPIOWSKIE PLH200020"]
[null,null,null,null,null,null,null,null,"MOPKOWY TUNEL KOLO KRZYSTKOWIC PLH080024"]
[null,null,null,null,null,null,null,null,"MROWLE ŁĄKI PLH180043"]
[null,null,null,null,null,null,null,null,"MSZAR PŁOCICZNO PLH040035"]
[null,null,null,null,null,null,null,null,"MURAWY GORZOWSKIE PLH080058"]
[null,null,null,null,null,null,null,null,"MURAWY KOŁO PASŁĘKA PLH280031"]
[null,null,null,null,null,null,null,null,"MURAWY NA POJEZIERZU EŁCKIM PLH280041"]
[null,null,null,null,null,null,null,null,"MURAWY W HAĆKACH PLH200015"]
[null,null,null,null,null,null,null,null,"MUSZKOWICKI LAS BUKOWY PLH020068"]
[null,null,null,null,null,null,null,null,"MYSZYNIECKIE BORY SASANKOWE PLH140049"]
[null,null,null,null,null,null,null,null,"NA POLICY PLH120012"]
[null,null,null,null,null,null,null,null,"NAD HUSOWEM PLH180025"]
[null,null,null,null,null,null,null,null,"NADNOTECKIE ŁĘGI PLB300003"]
[null,null,null,null,null,null,null,null,"NARWIAŃSKIE BAGNA PLH200002"]
[null,null,null,null,null,null,null,null,"NAWOJOWA PLH120035"]
[null,null,null,null,null,null,null,null,"NIEBIESKIE ŹRÓDŁA PLH100005"]
[null,null,null,null,null,null,null,null,"NIECKA SKALISKA PLH280049"]
[null,null,null,null,null,null,null,null,"NIEDZICA PLH120045"]
[null,null,null,null,null,null,null,null,"NIEDZIELISKA PLH060044"]
[null,null,null,null,null,null,null,null,"NIEDZIELISKI LAS PLH060092"]
[null,null,null,null,null,null,null,null,"NIEDŹWIEDZIE WIELKIE PLH280050"]
[null,null,null,null,null,null,null,null,"NIESZAWSKA DOLINA WISŁY PLH040012"]
[null,null,null,null,null,null,null,null,"NIETOPEREK PLH080003"]
[null,null,null,null,null,null,null,null,"NOWA BRDA PLH220078"]
[null,null,null,null,null,null,null,null,"NOWA SIKORSKA HUTA PLH220090"]
[null,null,null,null,null,null,null,null,"NOWOGRODZKIE PRZYGIEŁKOWISKO PLH080054"]
[null,null,null,null,null,null,null,null,"NOWOSIÓŁKI (JULIANÓW) PLH060064"]
[null,null,null,null,null,null,null,null,"NOWOSOLSKA DOLINA ODRY PLH080014"]
[null,null,null,null,null,null,null,null,"NOWY WIŚNICZ PLH120048"]
[null,null,null,null,null,null,null,null,"OBUWIK W UROCZYSKU ŚWIDÓW PLH060106"]
[null,null,null,null,null,null,null,null,"OCHOTNICA PLH120050"]
[null,null,null,null,null,null,null,null,"OLSZANKA PLH060012"]
[null,null,null,null,null,null,null,null,"OLSZYNY RUMOCKIE PLH140010"]
[null,null,null,null,null,null,null,null,"OPALIŃSKIE BUCZYNY PLH220099"]
[null,null,null,null,null,null,null,null,"OPALONKI PLH120071"]
[null,null,null,null,null,null,null,null,"OPOLE LUBELSKIE PLH060054"]
[null,null,null,null,null,null,null,null,"OPOLSKA DOLINA NYSY KŁODZKIEJ PLH160014"]
[null,null,null,null,null,null,null,null,"ORLE PLH220019"]
[null,null,null,null,null,null,null,null,"OSTOJA AUGUSTOWSKA PLH200005"]
[null,null,null,null,null,null,null,null,"OSTOJA BARCIŃSKO-GĄSAWSKA PLH040028"]
[null,null,null,null,null,null,null,null,"OSTOJA BARCZA PLH260025"]
[null,null,null,null,null,null,null,null,"OSTOJA BARLINECKA PLH080071"]
[null,null,null,null,null,null,null,null,"OSTOJA BIEBRZAŃSKA PLB200006"]
[null,null,null,null,null,null,null,null,"OSTOJA BORECKA PLH280016"]
[null,null,null,null,null,null,null,null,"OSTOJA BORZYSZKOWSKA PLH220079"]
[null,null,null,null,null,null,null,null,"OSTOJA BRODNICKA PLH040036"]
[null,null,null,null,null,null,null,null,"OSTOJA BRZEŹNICKA PLH260026"]
[null,null,null,null,null,null,null,null,"OSTOJA CEDYŃSKA PLB320017"]
[null,null,null,null,null,null,null,null,"OSTOJA CZARNORZECKA PLH180027"]
[null,null,null,null,null,null,null,null,"OSTOJA DRAWSKA PLB320019"]
[null,null,null,null,null,null,null,null,"OSTOJA DYLEWSKIE WZGÓRZA PLH280043"]
[null,null,null,null,null,null,null,null,"OSTOJA GAJ PLH260027"]
[null,null,null,null,null,null,null,null,"OSTOJA GOLCZEWSKA PLH320052"]
[null,null,null,null,null,null,null,null,"OSTOJA GOLENIOWSKA PLH320013"]
[null,null,null,null,null,null,null,null,"OSTOJA GORCZAŃSKA PLH120018"]
[null,null,null,null,null,null,null,null,"OSTOJA IŁAWSKA PLH280053"]
[null,null,null,null,null,null,null,null,"OSTOJA IŃSKA PLB320008"]
[null,null,null,null,null,null,null,null,"OSTOJA JAŚLISKA PLH180014"]
[null,null,null,null,null,null,null,null,"OSTOJA JELENIOWSKA PLH260028"]
[null,null,null,null,null,null,null,null,"OSTOJA KNYSZYŃSKA PLH200006"]
[null,null,null,null,null,null,null,null,"OSTOJA KOŁO PROMNA PLH300030"]
[null,null,null,null,null,null,null,null,"OSTOJA KOZIENICKA PLB140013"]
[null,null,null,null,null,null,null,null,"OSTOJA KOZUBOWSKA PLH260029"]
[null,null,null,null,null,null,null,null,"OSTOJA KROCZYCKA PLH240032"]
[null,null,null,null,null,null,null,null,"OSTOJA LIDZBARSKA PLH280012"]
[null,null,null,null,null,null,null,null,"OSTOJA MAGURSKA PLH180001"]
[null,null,null,null,null,null,null,null,"OSTOJA MASŁOWICZKI PLH220062"]
[null,null,null,null,null,null,null,null,"OSTOJA MIĘDZYCHODZKO-SIERAKOWSKA PLH300032"]
[null,null,null,null,null,null,null,null,"OSTOJA NA ZATOCE POMORSKIEJ PLH990002"]
[null,null,null,null,null,null,null,null,"OSTOJA NAD BARYCZĄ PLH020041"]
[null,null,null,null,null,null,null,null,"OSTOJA NAD BOBREM PLH020054"]
[null,null,null,null,null,null,null,null,"OSTOJA NAD OŚWINEM PLH280044"]
[null,null,null,null,null,null,null,null,"OSTOJA NADBUŻAŃSKA PLH140011"]
[null,null,null,null,null,null,null,null,"OSTOJA NADGOPLAŃSKA PLB040004"]
[null,null,null,null,null,null,null,null,"OSTOJA NADLIWIECKA PLH140032"]
[null,null,null,null,null,null,null,null,"OSTOJA NADWARCIAŃSKA PLH300009"]
[null,null,null,null,null,null,null,null,"OSTOJA NAPIWODZKO-RAMUCKA PLH280052"]
[null,null,null,null,null,null,null,null,"OSTOJA NARWIAŃSKA PLH200024"]
[null,null,null,null,null,null,null,null,"OSTOJA NIDZIAŃSKA PLH260003"]
[null,null,null,null,null,null,null,null,"OSTOJA NIELISKA PLB060020"]
[null,null,null,null,null,null,null,null,"OSTOJA NIETOPERZY GÓR SOWICH PLH020071"]
[null,null,null,null,null,null,null,null,"OSTOJA NOWODWORSKA PLH140043"]
[null,null,null,null,null,null,null,null,"OSTOJA OLSZTYŃSKO-MIROWSKA PLH240015"]
[null,null,null,null,null,null,null,null,"OSTOJA PARCZEWSKA PLH060107"]
[null,null,null,null,null,null,null,null,"OSTOJA PILSKA PLH300045"]
[null,null,null,null,null,null,null,null,"OSTOJA PISKA PLH280048"]
[null,null,null,null,null,null,null,null,"OSTOJA POLESKA PLH060013"]
[null,null,null,null,null,null,null,null,"OSTOJA POLIGON ORZYSZ PLB280014"]
[null,null,null,null,null,null,null,null,"OSTOJA POMORZANY PLH260030"]
[null,null,null,null,null,null,null,null,"OSTOJA POPRADZKA PLH120019"]
[null,null,null,null,null,null,null,null,"OSTOJA PÓŁNOCNOMAZURSKA PLH280045"]
[null,null,null,null,null,null,null,null,"OSTOJA PRZEDBORSKA PLH260004"]
[null,null,null,null,null,null,null,null,"OSTOJA PRZEMĘCKA PLH300041"]
[null,null,null,null,null,null,null,null,"OSTOJA PRZEMYSKA PLH180012"]
[null,null,null,null,null,null,null,null,"OSTOJA RADOMNO PLH280035"]
[null,null,null,null,null,null,null,null,"OSTOJA ROGALIŃSKA PLB300017"]
[null,null,null,null,null,null,null,null,"OSTOJA SIERADOWICKA PLH260031"]
[null,null,null,null,null,null,null,null,"OSTOJA SŁAWNIOWICKO-BURGRABICKA PLH160004"]
[null,null,null,null,null,null,null,null,"OSTOJA SŁOWIŃSKA PLH220023"]
[null,null,null,null,null,null,null,null,"OSTOJA SOBKOWSKO-KORYTNICKA PLH260032"]
[null,null,null,null,null,null,null,null,"OSTOJA STAWIANY PLH260033"]
[null,null,null,null,null,null,null,null,"OSTOJA SUWALSKA PLH200003"]
[null,null,null,null,null,null,null,null,"OSTOJA SZANIECKO-SOLECKA PLH260034"]
[null,null,null,null,null,null,null,null,"OSTOJA ŚRODKOWOJURAJSKA PLH240009"]
[null,null,null,null,null,null,null,null,"OSTOJA TYSZOWIECKA PLB060011"]
[null,null,null,null,null,null,null,null,"OSTOJA W DOLINIE GÓRNEGO NURCA PLH200021"]
[null,null,null,null,null,null,null,null,"OSTOJA W DOLINIE GÓRNEJ NARWI PLH200010"]
[null,null,null,null,null,null,null,null,"OSTOJA W PAŚMIE BRZANKI PLH120047"]
[null,null,null,null,null,null,null,null,"OSTOJA W UJŚCIU WISŁY PLH220044"]
[null,null,null,null,null,null,null,null,"OSTOJA WARMIŃSKA PLB280015"]
[null,null,null,null,null,null,null,null,"OSTOJA WELSKA PLH280014"]
[null,null,null,null,null,null,null,null,"OSTOJA WIELKOPOLSKA PLH300010"]
[null,null,null,null,null,null,null,null,"OSTOJA WIERZEJSKA PLH260035"]
[null,null,null,null,null,null,null,null,"OSTOJA WIGIERSKA PLH200004"]
[null,null,null,null,null,null,null,null,"OSTOJA WITNICKO-DĘBNIAŃSKA PLB320015"]
[null,null,null,null,null,null,null,null,"OSTOJA WKRZAŃSKA PLB320014"]
[null,null,null,null,null,null,null,null,"OSTOJA ZAPCEŃSKA PLH220057"]
[null,null,null,null,null,null,null,null,"OSTOJA ZGIERZYNIECKA PLH300007"]
[null,null,null,null,null,null,null,null,"OSTOJA ZŁOTOPOTOCKA PLH240020"]
[null,null,null,null,null,null,null,null,"OSTOJA ŻYZNÓW PLH260036"]
[null,null,null,null,null,null,null,null,"OSTOJE NIETOPERZY BESKIDU WYSPOWEGO PLH120052"]
[null,null,null,null,null,null,null,null,"OSTOJE NIETOPERZY OKOLIC BUKOWCA PLH120020"]
[null,null,null,null,null,null,null,null,"OSTOJE NIETOPERZY POWIATU GORLICKIEGO PLH120094"]
[null,null,null,null,null,null,null,null,"OSTRZYCA PROBOSZCZOWICKA PLH020042"]
[null,null,null,null,null,null,null,null,"OSUWISKA W LIPOWICY PLH180044"]
[null,null,null,null,null,null,null,null,"OTYŃ PLH080040"]
[null,null,null,null,null,null,null,null,"PAKOSŁAW PLH140015"]
[null,null,null,null,null,null,null,null,"PANIEŃSKIE SKAŁY PLH020009"]
[null,null,null,null,null,null,null,null,"PASMO KROWIARKI PLH020019"]
[null,null,null,null,null,null,null,null,"PASMO POLICY PLB120006"]
[null,null,null,null,null,null,null,null,"PASTWISKA NAD HUCZWĄ PLH060014"]
[null,null,null,null,null,null,null,null,"PATRIA NAD ODRZECHOWĄ PLH180028"]
[null,null,null,null,null,null,null,null,"PAWŁÓW PLH060065"]
[null,null,null,null,null,null,null,null,"PĄTNÓW LEGNICKI PLH020052"]
[null,null,null,null,null,null,null,null,"PEŁCZNICA PLH220020"]
[null,null,null,null,null,null,null,null,"PIAŚNICKIE ŁĄKI PLH220021"]
[null,null,null,null,null,null,null,null,"PIEKIELNA DOLINA KOŁO POLANICY PLH020010"]
[null,null,null,null,null,null,null,null,"PIENINY PLB120008"]
[null,null,null,null,null,null,null,null,"PIENINY PLH120013"]
[null,null,null,null,null,null,null,null,"PIEŃSKA DOLINA NYSY ŁUŻYCKIEJ PLH020086"]
[null,null,null,null,null,null,null,null,"PIERŚCIEC PLH240022"]
[null,null,null,null,null,null,null,null,"PIOTROWO PLH220091"]
[null,null,null,null,null,null,null,null,"PLESZCZOTKA PLH120092"]
[null,null,null,null,null,null,null,null,"PŁASKOWYŻ NAŁĘCZOWSKI PLH060015"]
[null,null,null,null,null,null,null,null,"PŁYWAJACE WYSPY POD REKOWEM PLH220022"]
[null,null,null,null,null,null,null,null,"POBRZEŻE SŁOWIŃSKIE PLB220003"]
[null,null,null,null,null,null,null,null,"POCZESNA KOŁO CZĘSTOCHOWY PLH240030"]
[null,null,null,null,null,null,null,null,"PODEBŁOCIE PLH140033"]
[null,null,null,null,null,null,null,null,"PODKOWCE W SZCZAWNICY PLH120037"]
[null,null,null,null,null,null,null,null,"PODPAKULE PLH060048"]
[null,null,null,null,null,null,null,null,"PODZIEMIA TARNOGÓRSKO-BYTOMSKIE PLH240003"]
[null,null,null,null,null,null,null,null,"POGÓRZE PRZEMYSKIE PLB180001"]
[null,null,null,null,null,null,null,null,"POJEZIERZE GNIEŹNIEŃSKIE PLH300026"]
[null,null,null,null,null,null,null,null,"POJEZIERZE IŃSKIE PLH320067"]
[null,null,null,null,null,null,null,null,"POJEZIERZE MYŚLIBORSKIE PLH320014"]
[null,null,null,null,null,null,null,null,"POJEZIERZE SEJNEŃSKIE PLH200007"]
[null,null,null,null,null,null,null,null,"POJEZIERZE SŁAWSKIE PLB300011"]
[null,null,null,null,null,null,null,null,"POLANA BIAŁY POTOK PLH120026"]
[null,null,null,null,null,null,null,null,"POLANY PUSZCZY BOLIMOWSKIEJ PLH100028"]
[null,null,null,null,null,null,null,null,"POLESIE PLB060019"]
[null,null,null,null,null,null,null,null,"POLESKA DOLINA BUGU PLH060032"]
[null,null,null,null,null,null,null,null,"POLICE - KANALY PLH320015"]
[null,null,null,null,null,null,null,null,"POLICHNA PLH060078"]
[null,null,null,null,null,null,null,null,"POLIGON REMBERTÓW PLH140034"]
[null,null,null,null,null,null,null,null,"POLIGON W OKONKU PLH300021"]
[null,null,null,null,null,null,null,null,"POMLEWO PLH220092"]
[null,null,null,null,null,null,null,null,"POPÓWKA PLH060016"]
[null,null,null,null,null,null,null,null,"PORADÓW PLH120072"]
[null,null,null,null,null,null,null,null,"POSADÓW PLH060073"]
[null,null,null,null,null,null,null,null,"PRADOLINA BZURY-NERU PLH100006"]
[null,null,null,null,null,null,null,null,"PRADOLINA WARSZAWSKO-BERLIŃSKA PLB100001"]
[null,null,null,null,null,null,null,null,"PROKOWO PLH220080"]
[null,null,null,null,null,null,null,null,"PRZEŁOM LUBRZANKI PLH260037"]
[null,null,null,null,null,null,null,null,"PRZEŁOM NYSY KŁODZKIEJ KOŁO MORZYSZOWA PLH020043"]
[null,null,null,null,null,null,null,null,"PRZEŁOM WARTY KOŁO MSTOWA PLH240026"]
[null,null,null,null,null,null,null,null,"PRZEŁOM WISŁY W MAŁOPOLSCE PLH060045"]
[null,null,null,null,null,null,null,null,"PRZEŁOMOWA DOLINA NARWI PLB200008"]
[null,null,null,null,null,null,null,null,"PRZEŁOMOWA DOLINA NYSY ŁUŻYCKIEJ PLH020066"]
[null,null,null,null,null,null,null,null,"PRZEŁOMOWA DOLINA RZEKI WEL PLH280015"]
[null,null,null,null,null,null,null,null,"PRZEŁOMY PEŁCZNICY POD KSIĄŻEM PLH020020"]
[null,null,null,null,null,null,null,null,"PRZEPLATKI NAD BYSTRZYCĄ PLH020055"]
[null,null,null,null,null,null,null,null,"PRZYBRZEŻNE WODY BAŁTYKU PLB990002"]
[null,null,null,null,null,null,null,null,"PRZYGIEŁKOWISKA KOŁO GOZDNICY PLH080055"]
[null,null,null,null,null,null,null,null,"PRZYŁĘK NAD BIAŁĄ GŁUCHOŁASKĄ PLH160016"]
[null,null,null,null,null,null,null,null,"PRZYMORSKIE BŁOTA PLH220024"]
[null,null,null,null,null,null,null,null,"PRZYWIDZ PLH220025"]
[null,null,null,null,null,null,null,null,"PSTROSZYCE PLH120073"]
[null,null,null,null,null,null,null,null,"PUŁAWY PLH060055"]
[null,null,null,null,null,null,null,null,"PUSTYNIA BŁĘDOWSKA PLH120014"]
[null,null,null,null,null,null,null,null,"PUSZCZA AUGUSTOWSKA PLB200002"]
[null,null,null,null,null,null,null,null,"PUSZCZA BARLINECKA PLB080001"]
[null,null,null,null,null,null,null,null,"PUSZCZA BIAŁA PLB140007"]
[null,null,null,null,null,null,null,null,"PUSZCZA BIAŁOWIESKA PLC200004"]
[null,null,null,null,null,null,null,null,"PUSZCZA BIENISZEWSKA PLH300011"]
[null,null,null,null,null,null,null,null,"PUSZCZA BORECKA PLB280006"]
[null,null,null,null,null,null,null,null,"PUSZCZA DARŻLUBSKA PLB220007"]
[null,null,null,null,null,null,null,null,"PUSZCZA GOLENIOWSKA PLB320012"]
[null,null,null,null,null,null,null,null,"PUSZCZA KAMPINOSKA PLC140001"]
[null,null,null,null,null,null,null,null,"PUSZCZA KNYSZYŃSKA PLB200003"]
[null,null,null,null,null,null,null,null,"PUSZCZA KOZIENICKA PLH140035"]
[null,null,null,null,null,null,null,null,"PUSZCZA NAD GWDĄ PLB300012"]
[null,null,null,null,null,null,null,null,"PUSZCZA NAPIWODZKO-RAMUCKA PLB280007"]
[null,null,null,null,null,null,null,null,"PUSZCZA NIEPOŁOMICKA PLB120002"]
[null,null,null,null,null,null,null,null,"PUSZCZA NOTECKA PLB300015"]
[null,null,null,null,null,null,null,null,"PUSZCZA PISKA PLB280008"]
[null,null,null,null,null,null,null,null,"PUSZCZA ROMINCKA PLH280005"]
[null,null,null,null,null,null,null,null,"PUSZCZA SANDOMIERSKA PLB180005"]
[null,null,null,null,null,null,null,null,"PUSZCZA SOLSKA PLB060008"]
[null,null,null,null,null,null,null,null,"PUTNOWICE PLH060074"]
[null,null,null,null,null,null,null,null,"RABA Z MSZANKA PLH120093"]
[null,null,null,null,null,null,null,null,"ROGALIŃSKA DOLINA WARTY PLH300012"]
[null,null,null,null,null,null,null,null,"ROGOŹNICA PLH140036"]
[null,null,null,null,null,null,null,null,"ROGÓW PLH060062"]
[null,null,null,null,null,null,null,null,"ROZTOCZE PLB060012"]
[null,null,null,null,null,null,null,null,"ROZTOCZE ŚRODKOWE PLH060017"]
[null,null,null,null,null,null,null,null,"ROZUMICKI LAS PLH160018"]
[null,null,null,null,null,null,null,null,"RÓWNINA SZUBIŃSKO-ŁABISZYŃSKA PLH040029"]
[null,null,null,null,null,null,null,null,"RUDAWY JANOWICKIE PLH020011"]
[null,null,null,null,null,null,null,null,"RUDNIAŃSKIE MODRASZKI - KAJASÓWKA PLH120077"]
[null,null,null,null,null,null,null,null,"RUDNO PLH120058"]
[null,null,null,null,null,null,null,null,"RYMANÓW PLH180016"]
[null,null,null,null,null,null,null,null,"RYNNA DŁUŻNICY PLH220081"]
[null,null,null,null,null,null,null,null,"RYNNA GRYŻYNY PLH080067"]
[null,null,null,null,null,null,null,null,"RYNNA JEZIOR RZEPIŃSKICH PLH080049"]
[null,null,null,null,null,null,null,null,"RZEKA PASŁĘKA PLH280006"]
[null,null,null,null,null,null,null,null,"RZEKA SAN PLH180007"]
[null,null,null,null,null,null,null,null,"SANDR BRDY PLH220026"]
[null,null,null,null,null,null,null,null,"SANDR WDY PLH040017"]
[null,null,null,null,null,null,null,null,"SANISKO W BYKOWCACH PLH180045"]
[null,null,null,null,null,null,null,null,"SAWIN PLH060068"]
[null,null,null,null,null,null,null,null,"SCHRONY BRZESKIEGO REJONU UMOCNIONEGO PLH200014"]
[null,null,null,null,null,null,null,null,"SERNIAWY PLH060057"]
[null,null,null,null,null,null,null,null,"SIENNICA RÓŻANA PLH060090"]
[null,null,null,null,null,null,null,null,"SIERAKÓW PLH300013"]
[null,null,null,null,null,null,null,null,"SIKÓRZ PLH140012"]
[null,null,null,null,null,null,null,null,"SILNE BŁOTA PLH100032"]
[null,null,null,null,null,null,null,null,"SKAŁKI STOLECKIE PLH020012"]
[null,null,null,null,null,null,null,null,"SKAWIŃSKI OBSZAR ŁĄKOWY PLH120079"]
[null,null,null,null,null,null,null,null,"SKOROSZOWSKIE ŁĄKI PLH020093"]
[null,null,null,null,null,null,null,null,"SKRODA PLH080064"]
[null,null,null,null,null,null,null,null,"SKWIERZYNA PLH080041"]
[null,null,null,null,null,null,null,null,"SŁAWICE DUCHOWNE PLH120074"]
[null,null,null,null,null,null,null,null,"SŁONE ŁĄKI W DOLINIE ZGŁOWIĄCZKI PLH040037"]
[null,null,null,null,null,null,null,null,"SŁONE ŁĄKI W PEŁCZYSKACH PLH100029"]
[null,null,null,null,null,null,null,null,"SŁOWINSKIE BŁOTO PLH320016"]
[null,null,null,null,null,null,null,null,"SOLECKA DOLINA WISŁY PLH040003"]
[null,null,null,null,null,null,null,null,"SOLNISKA SZUBIŃSKIE PLH040030"]
[null,null,null,null,null,null,null,null,"SPORYSZ PLH220064"]
[null,null,null,null,null,null,null,null,"STANISZEWSKIE BŁOTO PLH220027"]
[null,null,null,null,null,null,null,null,"STARA DĄBROWA W KORYTACH PLH080042"]
[null,null,null,null,null,null,null,null,"STARODUB W PEŁKINIACH PLH180050"]
[null,null,null,null,null,null,null,null,"STARY BUKOWIEC PLH220082"]
[null,null,null,null,null,null,null,null,"STARY ZAGAJ PLH040038"]
[null,null,null,null,null,null,null,null,"STAW BOĆKÓW PLB060016"]
[null,null,null,null,null,null,null,null,"STAWISKA PLH240024"]
[null,null,null,null,null,null,null,null,"STAWSKA GÓRA PLH060018"]
[null,null,null,null,null,null,null,null,"STAWY KARPNICKIE PLH020075"]
[null,null,null,null,null,null,null,null,"STAWY KISZKOWSKIE PLH300050"]
[null,null,null,null,null,null,null,null,"STAWY ŁĘŻCZOK PLH240010"]
[null,null,null,null,null,null,null,null,"STAWY PRZEMKOWSKIE PLB020003"]
[null,null,null,null,null,null,null,null,"STAWY SOBIESZOWSKIE PLH020044"]
[null,null,null,null,null,null,null,null,"STAWY W BOROWEJ PLH020045"]
[null,null,null,null,null,null,null,null,"STAWY W BRZESZCZACH PLB120009"]
[null,null,null,null,null,null,null,null,"STAWY W ŻABIEŃCU PLH140039"]
[null,null,null,null,null,null,null,null,"STAWY WIELIKAT I LAS TWORKOWSKI PLB240003"]
[null,null,null,null,null,null,null,null,"STERCZÓW-ŚCIANKA PLH120015"]
[null,null,null,null,null,null,null,null,"STRUGA BIAŁOŚLIWKA PLH300054"]
[null,null,null,null,null,null,null,null,"STRZALINY KOŁO TUCZNA PLH320021"]
[null,null,null,null,null,null,null,null,"STRZEBLA BŁOTNA W ZIELONCE PLH140040"]
[null,null,null,null,null,null,null,null,"STUDZIENICKIE TORFOWISKA PLH220028"]
[null,null,null,null,null,null,null,null,"SUCHY MŁYN PLH240016"]
[null,null,null,null,null,null,null,null,"SUDETY WAŁBRZYSKO-KAMIENNOGÓRSKIE PLB020010"]
[null,null,null,null,null,null,null,null,"SULECHÓW PLH080043"]
[null,null,null,null,null,null,null,null,"SUŚLE WZGÓRZA PLH060019"]
[null,null,null,null,null,null,null,null,"SWAJNIE PLH280046"]
[null,null,null,null,null,null,null,null,"SZACHOWNICA PLH240004"]
[null,null,null,null,null,null,null,null,"SZCZECYN PLH060083"]
[null,null,null,null,null,null,null,null,"SZCZODROWO PLH220101"]
[null,null,null,null,null,null,null,null,"SZCZYPIORNIAK I KOWALIKI PLH100033"]
[null,null,null,null,null,null,null,null,"SZTOLNIA W MŁOTACH PLH020070"]
[null,null,null,null,null,null,null,null,"SZTOLNIE W LEŚNEJ PLH020013"]
[null,null,null,null,null,null,null,null,"SZTOLNIE W SENDERKACH PLH060020"]
[null,null,null,null,null,null,null,null,"SZTUMSKIE POLE PLH220087"]
[null,null,null,null,null,null,null,null,"SZUMLEŚ PLH220086"]
[null,null,null,null,null,null,null,null,"ŚRODKOWY DUNAJEC Z DOPŁYWAMI PLH120088"]
[null,null,null,null,null,null,null,null,"ŚWIDNIK PLH060021"]
[null,null,null,null,null,null,null,null,"ŚWIECIECHÓW PLH060082"]
[null,null,null,null,null,null,null,null,"ŚWIETLISTE DĄBROWY I GRĄDY W JABŁONNEJ PLH140045"]
[null,null,null,null,null,null,null,null,"ŚWIĘTE ŁUGI PLH100036"]
[null,null,null,null,null,null,null,null,"ŚWIĘTY ROCH PLH060022"]
[null,null,null,null,null,null,null,null,"TARNAWKA PLH120089"]
[null,null,null,null,null,null,null,null,"TARNOBRZESKA DOLINA WISŁY PLH180049"]
[null,null,null,null,null,null,null,null,"TARNOSZYN PLH060100"]
[null,null,null,null,null,null,null,null,"TATRY PLC120001"]
[null,null,null,null,null,null,null,null,"TEKLUSIA PLH160017"]
[null,null,null,null,null,null,null,null,"TERESPOL PLH060053"]
[null,null,null,null,null,null,null,null,"TORFOWISKA CHEŁMSKIE PLH060023"]
[null,null,null,null,null,null,null,null,"TORFOWISKA CZERNIK PLH140037"]
[null,null,null,null,null,null,null,null,"TORFOWISKA GÓR IZERSKICH PLH020047"]
[null,null,null,null,null,null,null,null,"TORFOWISKA GÓR SUDAWSKICH PLH200017"]
[null,null,null,null,null,null,null,null,"TORFOWISKA ORAWSKO-NOWOTARSKIE PLB120007"]
[null,null,null,null,null,null,null,null,"TORFOWISKA ORAWSKO-NOWOTARSKIE PLH120016"]
[null,null,null,null,null,null,null,null,"TORFOWISKA SUŁOWSKIE PLH080029"]
[null,null,null,null,null,null,null,null,"TORFOWISKA ŹRÓDLISKOWE KOŁO ŁABĘDNIKA PLH280047"]
[null,null,null,null,null,null,null,null,"TORFOWISKA ŻYTNO-EWINA PLH100030"]
[null,null,null,null,null,null,null,null,"TORFOWISKO CHŁOPINY PLH080004"]
[null,null,null,null,null,null,null,null,"TORFOWISKO LINIE PLH040020"]
[null,null,null,null,null,null,null,null,"TORFOWISKO MIELEŃSKIE PLH040018"]
[null,null,null,null,null,null,null,null,"TORFOWISKO MŁODNO PLH080005"]
[null,null,null,null,null,null,null,null,"TORFOWISKO POBŁOCKIE PLH220042"]
[null,null,null,null,null,null,null,null,"TORFOWISKO POD ZIELEŃCEM PLH020014"]
[null,null,null,null,null,null,null,null,"TORFOWISKO PORADZ PLH320065"]
[null,null,null,null,null,null,null,null,"TORFOWISKO PRZY DOLINIE KOCINKI PLH240025"]
[null,null,null,null,null,null,null,null,"TORFOWISKO REPTOWO PLH320056"]
[null,null,null,null,null,null,null,null,"TORFOWISKO RZECIŃSKIE PLH300019"]
[null,null,null,null,null,null,null,null,"TORFOWISKO SOBOWICE PLH060024"]
[null,null,null,null,null,null,null,null,"TORFOWISKO SOSNOWIEC-BORY PLH240038"]
[null,null,null,null,null,null,null,null,"TORFOWISKO TRZEBIELINO PLH220085"]
[null,null,null,null,null,null,null,null,"TORFOWISKO WIELKIE BŁOTO PLH120080"]
[null,null,null,null,null,null,null,null,"TORFOWISKO ZOCIE PLH280037"]
[null,null,null,null,null,null,null,null,"TRZCIANA PLH180018"]
[null,null,null,null,null,null,null,null,"TRZCIŃSKIE MOKRADŁA PLH020105"]
[null,null,null,null,null,null,null,null,"TRZEBIATOWSKO-KOŁOBRZESKI PAS NADMORSKI PLH320017"]
[null,null,null,null,null,null,null,null,"TRZY MŁYNY PLH220029"]
[null,null,null,null,null,null,null,null,"TWIERDZA WISŁOUJŚCIE PLH220030"]
[null,null,null,null,null,null,null,null,"TYLMANOWA PLH120095"]
[null,null,null,null,null,null,null,null,"UJŚCIE ILANKI PLH080015"]
[null,null,null,null,null,null,null,null,"UJŚCIE NOTECI PLH080006"]
[null,null,null,null,null,null,null,null,"UJŚCIE ODRY I ZALEW SZCZECIŃSKI PLH320018"]
[null,null,null,null,null,null,null,null,"UJŚCIE WARTY PLC080001"]
[null,null,null,null,null,null,null,null,"UJŚCIE WISŁY PLB220004"]
[null,null,null,null,null,null,null,null,"UNIEJÓW PARCELE PLH120075"]
[null,null,null,null,null,null,null,null,"UROCZYSKA BORÓW DOLNOŚLASKICH PLH020072"]
[null,null,null,null,null,null,null,null,"UROCZYSKA BORÓW ZASIECKICH PLH080060"]
[null,null,null,null,null,null,null,null,"UROCZYSKA KUJAŃSKIE PLH300052"]
[null,null,null,null,null,null,null,null,"UROCZYSKA LASÓW ADAMOWSKICH PLH060094"]
[null,null,null,null,null,null,null,null,"UROCZYSKA LASÓW JANOWSKICH PLH060031"]
[null,null,null,null,null,null,null,null,"UROCZYSKA LASÓW STARACHOWICKICH PLH260038"]
[null,null,null,null,null,null,null,null,"UROCZYSKA LASÓW STRZELECKICH PLH060099"]
[null,null,null,null,null,null,null,null,"UROCZYSKA ŁĄCKIE PLH140021"]
[null,null,null,null,null,null,null,null,"UROCZYSKA POJEZIERZA KASZUBSKIEGO PLH220095"]
[null,null,null,null,null,null,null,null,"UROCZYSKA PUSZCZY DRAWSKIEJ PLH320046"]
[null,null,null,null,null,null,null,null,"UROCZYSKA PUSZCZY SOLSKIEJ PLH060034"]
[null,null,null,null,null,null,null,null,"UROCZYSKA PUSZCZY ZIELONKI PLH300058"]
[null,null,null,null,null,null,null,null,"UROCZYSKA ROZTOCZA WSCHODNIEGO PLH060093"]
[null,null,null,null,null,null,null,null,"UROCZYSKA W LASACH STEPNICKICH PLH320033"]
[null,null,null,null,null,null,null,null,"UROCZYSKO ŁOPIEŃ PLH120078"]
[null,null,null,null,null,null,null,null,"UROCZYSKO MARKOWO PLH280032"]
[null,null,null,null,null,null,null,null,"UROCZYSKO MOSTY-ZAHAJKI PLB060014"]
[null,null,null,null,null,null,null,null,"UROCZYSKO PIĘTY PLH260012"]
[null,null,null,null,null,null,null,null,"WAĆMIERZ PLH220031"]
[null,null,null,null,null,null,null,null,"WALASZCZYKI W CZĘSTOCHOWIE PLH240028"]
[null,null,null,null,null,null,null,null,"WAŁY PLH120017"]
[null,null,null,null,null,null,null,null,"WARMIŃSKIE BUCZYNY PLH280033"]
[null,null,null,null,null,null,null,null,"WARNIE BAGNO PLH320047"]
[null,null,null,null,null,null,null,null,"WEJHEROWO PLH220084"]
[null,null,null,null,null,null,null,null,"WIĄZOGÓRA PLH320066"]
[null,null,null,null,null,null,null,null,"WIDNICA PLH120076"]
[null,null,null,null,null,null,null,null,"WIDOWO PLH220054"]
[null,null,null,null,null,null,null,null,"WIELKI KLINCZ PLH220083"]
[null,null,null,null,null,null,null,null,"WIELKI LEG OBRZAŃSKI PLB300004"]
[null,null,null,null,null,null,null,null,"WIELKI SANDR BRDY PLB220001"]
[null,null,null,null,null,null,null,null,"WIELKOPOLE - JODŁY POD CZARTORIĄ PLH100031"]
[null,null,null,null,null,null,null,null,"WIERZCHOWISKA PLH060069"]
[null,null,null,null,null,null,null,null,"WILCZE BŁOTA PLH220093"]
[null,null,null,null,null,null,null,null,"WILKI NAD NYSĄ PLH080044"]
[null,null,null,null,null,null,null,null,"WISLOKA Z DOPLYWAMI PLH180052"]
[null,null,null,null,null,null,null,null,"WISŁOK ŚRODKOWY Z DOPŁYWAMI PLH180030"]
[null,null,null,null,null,null,null,null,"WIŚLISKA PLH120084"]
[null,null,null,null,null,null,null,null,"WŁOCŁAWSKA DOLINA WISŁY PLH040039"]
[null,null,null,null,null,null,null,null,"WODNY DÓŁ PLH060026"]
[null,null,null,null,null,null,null,null,"WOLA CYRUSOWA PLH100034"]
[null,null,null,null,null,null,null,null,"WOLIN I UZNAM PLH320019"]
[null,null,null,null,null,null,null,null,"WRZOSOWISKA ŚWIĘTOSZOWSKO-ŁAWSZOWSKIE PLH020063"]
[null,null,null,null,null,null,null,null,"WRZOSOWISKO PRZEMKOWSKIE PLH020015"]
[null,null,null,null,null,null,null,null,"WRZOSOWISKO W ORZECHOWIE PLH060098"]
[null,null,null,null,null,null,null,null,"WYBRZEŻE TRZEBIATOWSKIE PLB320010"]
[null,null,null,null,null,null,null,null,"WYDMY LUCYNOWSKO-MOSTOWIECKIE PLH140013"]
[null,null,null,null,null,null,null,null,"WYGON GRABOWIECKI PLH060027"]
[null,null,null,null,null,null,null,null,"WZGÓRZA BUKOWE PLH320020"]
[null,null,null,null,null,null,null,null,"WZGÓRZA CHĘCIŃSKO-KIELECKIE PLH260041"]
[null,null,null,null,null,null,null,null,"WZGÓRZA KIEŁCZYŃSKIE PLH020021"]
[null,null,null,null,null,null,null,null,"WZGÓRZA KRZYMOWSKIE PLH320054"]
[null,null,null,null,null,null,null,null,"WZGÓRZA KUNOWSKIE PLH260039"]
[null,null,null,null,null,null,null,null,"WZGÓRZA MORYŃSKIE PLH320055"]
[null,null,null,null,null,null,null,null,"WZGÓRZA NIEMCZAŃSKIE PLH020082"]
[null,null,null,null,null,null,null,null,"WZGÓRZA STRZELIŃSKIE PLH020074"]
[null,null,null,null,null,null,null,null,"WZGÓRZA WARZĘGOWSKIE PLH020079"]
[null,null,null,null,null,null,null,null,"ZACHODNIE POJEZIERZE KRZYWIŃSKIE PLH300014"]
[null,null,null,null,null,null,null,null,"ZACHODNIOKURPIOWSKIE BORY SASANKOWE PLH140052"]
[null,null,null,null,null,null,null,null,"ZACHODNIOWOŁYNSKA DOLINA BUGU PLH060035"]
[null,null,null,null,null,null,null,null,"ZAGÓRZYCKIE ŁĄKI PLH020053"]
[null,null,null,null,null,null,null,null,"ZALEW KAMIEŃSKI I DZIWNA PLB320011"]
[null,null,null,null,null,null,null,null,"ZALEW SZCZECIŃSKI PLB320009"]
[null,null,null,null,null,null,null,null,"ZALEW WIŚLANY I MIERZEJA WIŚLANA PLH280007"]
[null,null,null,null,null,null,null,null,"ZALEW WIŚLANY PLB280010"]
[null,null,null,null,null,null,null,null,"ZAŁECZAŃSKI ŁUK WARTY PLH100007"]
[null,null,null,null,null,null,null,null,"ZAMEK ŚWIECIE PLH040025"]
[null,null,null,null,null,null,null,null,"ZAMORZE PNIEWSKIE PLH300036"]
[null,null,null,null,null,null,null,null,"ZAROŚLE PLH060028"]
[null,null,null,null,null,null,null,null,"ZATOKA POMORSKA PLB990003"]
[null,null,null,null,null,null,null,null,"ZATOKA PUCKA I PÓŁWYSEP HELSKI PLH220032"]
[null,null,null,null,null,null,null,null,"ZATOKA PUCKA PLB220005"]
[null,null,null,null,null,null,null,null,"ZBIORNIK GOCZAŁKOWICKI - UJŚCIE WISŁY I BAJERKI PLH240039"]
[null,null,null,null,null,null,null,null,"ZBIORNIK JEZIORSKO PLB100002"]
[null,null,null,null,null,null,null,null,"ZBIORNIK MIETKOWSKI PLB020004"]
[null,null,null,null,null,null,null,null,"ZBIORNIK NYSKI PLB160002"]
[null,null,null,null,null,null,null,null,"ZBIORNIK OTMUCHOWSKI PLB160003"]
[null,null,null,null,null,null,null,null,"ZBIORNIK PODEDWÓRZE PLB060015"]
[null,null,null,null,null,null,null,null,"ZBIORNIK TURAWSKI PLB160004"]
[null,null,null,null,null,null,null,null,"ZBIORNIK WONIEŚĆ PLB300005"]
[null,null,null,null,null,null,null,null,"ZBOCZA PŁUTOWSKIE PLH040040"]
[null,null,null,null,null,null,null,null,"ZIELENINA PLH220065"]
[null,null,null,null,null,null,null,null,"ZIMNA WODA PLH080062"]
[null,null,null,null,null,null,null,null,"ZLEWNIA GÓRNEJ HUCZWY PLB060017"]
[null,null,null,null,null,null,null,null,"ŹRÓDLISKA KOŁO ZIMNEJ WODY PLH020092"]
[null,null,null,null,null,null,null,null,"ŹRÓDLISKA WISŁOKI PLH120057"]
[null,null,null,null,null,null,null,null,"ŹRÓDŁA PIJAWNIKA PLH020076"]
[null,null,null,null,null,null,null,null,"ŹRÓDŁA RAJECZNICY PLH240033"]
[null,null,null,null,null,null,null,null,"ŻERKOWICE-SKAŁA PLH020077"]
[null,null,null,null,null,null,null,null,"ŻMUDŹ PLH060075"]
[null,null,null,null,null,null,null,null,"ŻURAWCE PLH060029"]
[null,null,null,null,null,null,null,null,"ŻURAWIE BAGNO SŁAWSKIE PLH080047"]
[null,null,null,null,null,null,null,null,"ŻWIROWNIA SKOKI PLB040005"]
[null,null,null,null,null,null,null,null,"ŻWIROWNIE W STAREJ OLESZNEJ PLH020049"]
[null,null,null,null,null,null,null,null,"ŻYWOCICKIE ŁĘGI PLH160019"]
[null,null,null,null,null,null,null,null,"brak"]