Workbook

Sheet Strona tytułowa
B4: KASA ROLNICZEGO UBEZPIECZENIA SPOŁECZNEGO
A32: Warszawa 2024

Sheet Uwagi wstępne
A1: UWAGI WSTĘPNE | C1: Powrót do spisu treści
B2: Kwartalna Informacja Statystyczna zawiera podstawowe dane, zagregowane tematycznie, dotyczące realizacji zadań wynikających z ustawy z dnia 20 grudnia 1990 r. o ubezpieczeniu społecznym rolników oraz zadań zleconych do wypłaty Kasie Rolniczego Ubezpieczenia Społecznego.
B3: Ze względu na zaokrąglenia danych, w niektórych przypadkach sumy składników mogą się różnić od podanych wielkości "ogółem".
B4: Przeciętne i wskaźniki obliczono z reguły na podstawie danych liczbowych, wyrażonych z większą dokładnością niż podano w tablicach.
A5: I. | B5: Dział Emerytury i renty realizowane przez KRUS zawiera informacje dotyczące m.in. przyznawania i wypłat świadczeń emerytalno-rentowych.
B6: Kwoty wypłat emerytur i rent wykazywane są łącznie z:
B7: - wypłatami z innych systemów ubezpieczeniowych w przypadku zbiegu uprawnień do świadczeń z tych systemów z uprawnieniami do świadczeń z funduszu emerytalno-rentowego,
B8: - wypłatami dokonywanymi w związku z zatrudnieniem poza rolnictwem, czynną służbą wojskową i działalnością kombatancką na podstawie art. 25 ust. 2a ustawy o ubezpieczeniu społecznym rolników,
B9: Ponadto:
B10: - emerytury prezentowane są łącznie z rodzicielskimi świadczeniami uzupełniającymi, z emeryturami rolnymi w wysokości 50% ze względu na uprawnienia do zbiegających się z nimi świadczeń pracowniczych, ze świadczeniami zagranicznymi oraz z emeryturami finansowanymi z funduszu emerytalno-rentowego wypłaconymi przez MON, MSWiA, MS,
B11: - renty prezentowane są łącznie z rentami socjalnymi.
B12: Świadczenia pracownicze wypłacane przy świadczeniach rolniczych, finansowane są z Funduszu Ubezpieczeń Społecznych, którym dysponuje Zakład Ubezpieczeń Społecznych.
B13: W związku z akcesją Polski do Unii Europejskiej, KRUS realizuje zadania wynikające z przepisów rozporządzeń unijnych w sprawie koordynacji systemów zabezpieczenia społecznego. Zadania te realizuje Centrala KRUS jako instytucja łącznikowa oraz wytypowane jednostki organizacyjne KRUS, pełniące funkcję instytucji właściwych w postępowaniu międzynarodowym, są to: Oddział Regionalny KRUS w Krakowie – Wydział Świadczeń Zagranicznych w Nowym Sączu oraz Placówka Terenowa KRUS w Ostrowie Wielkopolskim.
B14: Ponadto Kasa realizuje zadania wynikające z zawartych umów dwustronnych o zabezpieczeniu społecznym. Zadania te realizuje Centrala KRUS, jako instytucja łącznikowa oraz Oddział Regionalny KRUS w Krakowie - Wydział Świadczeń Zagranicznych w Nowym Sączu, pełniący funkcje instytucji właściwej w postępowaniu międzynarodowym.
A15: II. | B15: Dział Fundusz Emerytalno-Rentowy zawiera informacje dotyczące świadczeń pieniężnych z ubezpieczenia emerytalno-rentowego, finansowanych z funduszu emerytalno-rentowego, tj.:
B16: • emerytura rolnicza przysługuje ubezpieczonemu (rolnikowi, domownikowi), który spełnia łącznie następujące warunki:
B17: - osiągnął wiek emerytalny - który wynosi 60 lat dla kobiety i 65 lat dla mężczyzny,
B18: - podlegał ubezpieczeniu emerytalno-rentowemu przez okres co najmniej 25 lat.
B19: Emerytury prezentowane są łącznie z emeryturami rolnymi w wysokości 50% ze względu na uprawnienia do zbiegających się z nimi świadczeń pracowniczych, ze świadczeniami zagranicznymi oraz z emeryturami finansowanymi z funduszu emerytalno-rentowego wypłaconymi przez MON, MSWiA i MS.
B20: • renta rolnicza z tytułu niezdolności do pracy przysługuje ubezpieczonemu (rolnikowi, domownikowi), który spełnia łącznie następujące warunki:
B21: - podlegał ubezpieczeniu emerytalno-rentowemu przez wymagany okres wynoszący od 1 roku do 5 lat w zależności od wieku, w jakim powstała całkowita niezdolność do pracy.
B22: - jest trwale lub okresowo całkowicie niezdolny do pracy w gospodarstwie rolnym,
B23: - całkowita niezdolność do pracy w gospodarstwie rolnym powstała w okresie podlegania ubezpieczeniu emerytalno-rentowemu lub nie później niż w ciągu 18 miesięcy od ustania tych okresów.
B24: Prawo do renty z tytułu niezdolności do pracy może uzyskać również osoba, która jest całkowicie niezdolna do pracy w gospodarstwie rolnym i podlegała ubezpieczeniu emerytalno-rentowemu przez okres co najmniej 25 lat.
B25: • renta rodzinna przysługuje uprawnionym członkom rodziny zmarłego emeryta/rencisty oraz ubezpieczonego, który w chwili śmierci spełniał warunki do uzyskania emerytury rolniczej lub renty rolniczej z tytułu niezdolności do pracy.
B26: Za członków rodziny uprawnionych do renty rodzinnej uznaje się przede wszystkim dzieci do ukończenia 16 lat, a jeżeli przekroczyły ten wiek - do ukończenia nauki w szkole, nie dłużej jednak niż do osiągnięcia 25 lat życia oraz dzieci bez względu na wiek, jeżeli w okresie nauki stały się całkowicie niezdolne do pracy. Ponadto, jeżeli dziecko osiągnęło 25 lat życia, będąc na ostatnim roku studiów, prawo do renty rodzinnej przedłuża się do zakończenia tego roku studiów. Na równi z dziećmi traktowane są przyjęte na utrzymanie i wychowanie wnuki oraz rodzeństwo.
B27: Z prawa do renty rodzinnej mogą korzystać także małżonek zmarłego (wdowa, wdowiec) i rodzice, o ile spełnią warunki do tego świadczenia. Wszystkim uprawnionym członkom rodziny przysługuje jedna wspólna renta rodzinna, która może ulec podziałowi pomiędzy uprawnionych na równe części.
... B44: Kwota nie obejmuje należnych świadczeń z innych systemów ubezpieczeniowych, wypłacanych w tzw. zbiegu z emeryturą lub rentą rolną.
A45: III. | B45: Dział Pozostałe świadczenia zawiera informacje dotyczące świadczeń zleconych do wypłaty Kasie Rolniczego Ubezpieczenia Społecznego, tj.:
B46: - świadczeń pieniężnych dla inwalidów wojennych, wojskowych i osób represjonowanych,
B47: - zasiłków pogrzebowych wypłaconych po osobach pobierających wyżej wymienione świadczenia i po członkach ich rodzin,
B48: - dodatków kombatanckich,
B49: - dodatków pieniężnych dla inwalidów wojennych,
B50: - ryczałtów energetycznych,
B51: - świadczeń pieniężnych dla żołnierzy zastępczej służby wojskowej,
B52: - świadczeń pieniężnych dla osób deportowanych do pracy przymusowej,
B53: - dodatków kompensacyjnych,
B54: - świadczeń pieniężnych dla cywilnych niewidomych ofiar działań wojennych,
B55: - dodatków dla weterana poszkodowanego,
B56: - rodzicielskich świadczeń uzupełniających,
B57: - rent socjalnych,
... B60: - świadczeń pieniężnych z tytułu pełnienia funkcji sołtysa.
A61: IV. | B61: Dział Fundusz Składkowy Ubezpieczenia Społecznego Rolników zawiera informacje dotyczące świadczeń pieniężnych z ubezpieczenia wypadkowego, chorobowego i macierzyńskiego tj.:
B62: • zasiłek chorobowy przysługujący ubezpieczonemu (rolnikowi, domownikowi), który wskutek choroby jest niezdolny do pracy nieprzerwanie co najmniej przez 30 dni, nie dłużej jednak niż przez 180 dni. Jeżeli po wyczerpaniu 180-dniowego okresu zasiłkowego ubezpieczony jest nadal niezdolny do pracy, a w wyniku dalszego leczenia i rehabilitacji rokuje odzyskanie zdolności do pracy, okres zasiłkowy przedłuża się na czas niezbędny do jej przywrócenia, nie dłużej niż o dalsze 360 dni.
B63: • jednorazowe odszkodowanie przysługujące ubezpieczonemu (rolnikowi, domownikowi, pomocnikowi rolnika), który doznał stałego lub długotrwałego uszczerbku na zdrowiu wskutek wypadku przy pracy rolniczej lub rolniczej choroby zawodowej oraz członkom rodziny ubezpieczonego, który zmarł wskutek wypadku przy pracy rolniczej lub rolniczej choroby zawodowej.
B64: Za wypadek przy pracy rolniczej uważa się nagłe zdarzenie wywołane przyczyną zewnętrzną, które nastąpiło podczas wykonywania czynności związanych z prowadzeniem działalności rolniczej albo pozostających w związku z wykonywaniem tych czynności: na terenie gospodarstwa rolnego, które ubezpieczony prowadzi lub w którym stale pracuje, albo na terenie gospodarstwa domowego bezpośrednio związanego z tym gospodarstwem rolnym lub w drodze ubezpieczonego z mieszkania do gospodarstwa rolnego, albo w drodze powrotnej lub podczas wykonywania poza terenem gospodarstwa rolnego zwykłych czynności związanych z prowadzeniem działalności rolniczej lub w związku z wykonywaniem tych czynności lub w drodze do miejsca wykonywania czynności poza terenem gospodarstwa rolnego związanych z prowadzeniem działalności rolniczej, albo w drodze powrotnej.
B65: W przypadku pomocnika rolnika za wypadek przy pracy rolniczej uznaje się nagłe zdarzenie wywołane przyczyną zewnętrzną, która nastąpiła podczas wykonywania przez pomocnika rolnika czynności określonych w umowie o pomocy przy zbiorach.
B66: Jednorazowe odszkodowanie dla ubezpieczonego z tytułu wypadku przy pracy rolniczej lub rolniczej choroby zawodowej ustala się w wysokości proporcjonalnej do określonego procentowo stałego lub długotrwałego uszczerbku na zdrowiu.
A67: V. | B67: Dział Ubezpieczenie Społeczne Rolników zawiera informacje dotyczące:
B68: • liczby płatników składek – tj. osób opłacających składki, za co najmniej jednego ubezpieczonego w gospodarstwie rolnym/dziale specjalnym produkcji rolnej lub za ubezpieczonego pobierającego rentę strukturalną lub na koncie, których, za co najmniej jedną osobę składka jest finansowana z dotacji budżetu państwa z tytułu sprawowania osobistej opieki nad dzieckiem oraz podmiotów – wójtów, burmistrzów, prezydentów miast opłacających składki na ubezpieczenie za osoby sprawujące opiekę nad osobami niepełnosprawnymi oraz liczbę osób lub podmiotów nie będących aktualnie płatnikiem czynnym, ale posiadających zadłużenie z tytułu nieopłaconych składek na ubezpieczenie,
B69: Renty strukturalne są przyznane i wypłacane przez Agencję Restrukturyzacji i Modernizacji Rolnictwa zgodnie z ustawą z dnia 28 listopada 2003 r. o wspieraniu rozwoju obszarów wiejskich ze środków pochodzących z Sekcji Gwarancji Europejskiego Funduszu Orientacji i Gwarancji Rolnej.
B70: • liczby ubezpieczonych, tj. rolników / współmałżonków i pracujących z nimi domowników, pomocników rolnika, osób ubezpieczonych na wniosek z tytułu przyznania świadczenia pielęgnacyjnego lub specjalnego zasiłku opiekuńczego albo zasiłku dla opiekuna, a także osób będących członkami rodziny (rolnika lub domownika) sprawujących opiekę nad dzieckiem, objętych ubezpieczeniem społecznym rolników, zgodnie z zasadami określonymi w ustawie z dnia 20 grudnia 1990 r. o ubezpieczeniu społecznym rolników.
B71: W ubezpieczeniu społecznym rolników występują dwa rodzaje ubezpieczeń:
B72: - ubezpieczenie wypadkowe, chorobowe i macierzyńskie,
B73: - ubezpieczenie emerytalno-rentowe.
B74: W ramach każdego z tych ubezpieczeń występuje ubezpieczenie z mocy ustawy (obowiązkowe) i ubezpieczenie na wniosek (dobrowolne).
B75: Z mocy ustawy (obowiązkowo) obydwoma rodzajami ubezpieczenia obejmowany jest:
B76: • rolnik, tj.: pełnoletnia osoba fizyczna zamieszkująca i prowadząca na terytorium Rzeczypospolitej Polskiej osobiście i na własny rachunek działalność rolniczą w pozostającym w jej posiadaniu gospodarstwie rolnym, o powierzchni powyżej 1 ha przeliczeniowego użytków rolnych (w tym również w ramach grupy producentów rolnych) lub dział specjalny produkcji rolnej, którego rozmiar i rodzaj określa załącznik do ustawy o ubezpieczeniu społecznym rolników, a także osoba, która przeznaczyła grunty prowadzonego przez siebie gospodarstwa do zalesienia,
B77: • małżonek rolnika, jeśli pracuje w gospodarstwie rolnym lub w gospodarstwie domowym bezpośrednio związanym z tym gospodarstwem rolnym,
B78: • domownik, tj.: osoba bliska rolnikowi, która ukończyła 16 lat, pozostaje z rolnikiem we wspólnym gospodarstwie domowym lub zamieszkuje na terenie jego gospodarstwa albo w bliskim sąsiedztwie, stale pracuje w tym gospodarstwie rolnym i nie jest związana z rolnikiem stosunkiem pracy, jeżeli osoby te nie podlegają innemu ubezpieczeniu społecznemu lub nie mają ustalonego prawa do emerytury lub renty albo nie mają ustalonego prawa do świadczeń z ubezpieczeń społecznych.
B79: Zgodnie z brzmieniem art. 5a ustawy o ubezpieczeniu społecznym rolników, rolnik lub domownik, który rozpoczyna prowadzenie pozarolniczej działalności gospodarczej lub rozpoczyna współpracę przy prowadzeniu tej działalności, może nadal podlegać ubezpieczeniu społecznemu rolników, jeśli:
... B115: • liczby wydanych decyzji o podleganiu i ustaniu ubezpieczenia społecznego rolników.
A116: VI. | B116: Dział Ubezpieczenie Zdrowotne zawiera dane statystyczne dotyczące realizowanych przez KRUS zadań na podstawie ustawy z dnia 27 sierpnia 2004 r. o świadczeniach opieki zdrowotnej finansowanych ze środków publicznych.
B117: Ubezpieczeniu zdrowotnemu podlegają:
B118: • osoby spełniające warunki do objęcia ubezpieczeniem społecznym rolników, które są rolnikami, małżonkami lub domownikami w rozumieniu przepisów ustawy o ubezpieczeniu społecznym rolników,
B119: • pomocnicy rolnika w rozumieniu przepisów ustawy o ubezpieczeniu społecznym rolników,
B120: • rolnicy i ich domownicy, którzy nie podlegają ubezpieczeniu społecznemu rolników z mocy ustawy o ubezpieczeniu społecznym rolników, niepodlegający ubezpieczeniu zdrowotnemu z innego tytułu;
B121: • członkowie rodzin wyżej wymienionych rolników i domowników, którzy nie podlegają ubezpieczeniu zdrowotnemu z innego tytułu i zostali zgłoszeni do ubezpieczenia zdrowotnego w KRUS.
B122: Składki na ubezpieczenie zdrowotne za rolników objętych tym ubezpieczeniem, którzy prowadzą działalność rolniczą na gruntach rolnych poniżej 6 ha przeliczeniowych oraz za ich domowników, finansowane są przez budżet państwa. Natomiast rolnicy prowadzący gospodarstwa rolne o powierzchni 6 i więcej hektarów przeliczeniowych użytków rolnych składkę na ubezpieczenie zdrowotne za siebie, małżonków i domowników podlegających temu ubezpieczeniu, opłacają indywidualnie w wysokości 1 zł miesięcznie od każdego pełnego hektara przeliczeniowego użytków rolnych. Również indywidualnie opłacana jest składka przez rolników, prowadzących działalność rolniczą w ramach działów specjalnych w rozumieniu przepisów ustawy o ubezpieczeniu społecznym rolników (niezależnie czy działalność ta prowadzona jest wyłącznie w samoistnym dziale specjalnym, czy też dodatkowo na użytkach rolnych).
B123: Rolnik prowadzący dział specjalny produkcji rolnej opłaca składki zdrowotne na swoje ubezpieczenie od deklarowanej podstawy wymiaru składki odpowiadającej:
B124: - dochodowi ustalonemu dla opodatkowania podatkiem dochodowym od osób fizycznych, w kwocie nie niższej jednak niż kwota odpowiadająca wysokości minimalnego wynagrodzenia bądź,
B125: - minimalnemu wynagrodzeniu w przypadku prowadzenia działalności niepodlegającej opodatkowaniu podatkiem dochodowym od osób fizycznych.
B126: Składka na ubezpieczenie zdrowotne za domowników opłacana jest w zależności od zakresu prowadzonej przez rolnika działalności rolniczej:
B127: • w przypadku prowadzenia działów specjalnych łącznie z gospodarstwem rolnym o powierzchni użytków rolnych 6 i więcej hektarów przeliczeniowych rolnik opłaca składkę na ubezpieczenie zdrowotne od użytków rolnych (1 zł za 1 hektar przeliczeniowy),
B128: • w przypadku prowadzenia wyłącznie działów specjalnych rolnik opłaca składkę na ubezpieczenie zdrowotne w wysokości 9 % podstawy wymiaru, który stanowi kwota 33,4% przeciętnego miesięcznego wynagrodzenia w sektorze przedsiębiorstw w czwartym kwartale roku poprzedniego włącznie z wypłatami z zysku,
... B136: Składka zdrowotna za emerytów i rencistów wynosi 9% podstawy wymiaru, z czego ubezpieczony finansuje składkę w wysokości 1,25% podstawy z kwoty netto emerytury lub renty (z wyłączeniem dodatków, świadczeń pieniężnych i ryczałtu energetycznego oraz do deputatu węglowego). Natomiast składka pomniejszająca zaliczkę na podatek dochodowy stanowi 7,75% podstawy.

Sheet Spis treści
A1: SPIS TREŚCI
B2: Nr | C2: Str.
A3: Uwagi wstępne | B3: x | C3: 5
A4: Objaśnienia znaków umownych | B4: x | C4: 11
A5: Objaśnienia skrótów | B5: x | C5: 11
A6: SPIS TABLIC STATYSTYCZNYCH
A7: I. EMERYTURY I RENTY REALIZOWANE PRZEZ KRUS
A8: Emerytury i renty | B8: 1 | C8: 12
A9: Zwiększenia do emerytur i rent finansowane z Funduszu Emerytalno-Rentowego, wypłacane przy świadczeniach pracowniczych | B9: 2 | C9: 13
A10: Wnioski i decyzje w sprawach o przyznanie rodzicielskich świadczeń uzupełniających według województw | B10: 3 | C10: 13
A11: Wnioski o przyznanie emerytur i rent według rodzajów świadczeń | B11: 4 | C11: 14
A12: Wnioski o przyznanie emerytur i rent według województw | B12: 5 | C12: 14
A13: Decyzje i postępowania umorzone w sprawach o emerytury i renty według rodzajów świadczeń | B13: 6 | C13: 15
A14: Decyzje i postępowania umorzone w sprawach o emerytury i renty według województw | B14: 7 | C14: 15
A15: Wnioski o przyznanie emerytur i rent rolniczych rozpatrywane z zastosowaniem przepisów wspólnotowych UE | B15: 8 | C15: 16
A16: Decyzje w sprawach wniosków o przyznanie emerytur i rent rolniczych z zastosowaniem przepisów wspólnotowych UE | B16: 9 | C16: 16
A17: Wnioski o przyznanie emerytur i rent rolniczych z zastosowaniem postanowień umów dwustronnych o zabezpieczeniu społecznym | B17: 10 | C17: 17
A18: Decyzje w sprawach wniosków o przyznanie emerytur i rent rolniczych z zastosowaniem postanowień umów dwustronnych o zabezpieczeniu społecznym | B18: 11 | C18: 17
A19: Świadczenia emerytalno-rentowe transferowane do poszczególnych państw UE/EFTA i Wielkiej Brytanii oraz do innych państw na podstawie umów dwustronnych | B19: 12 | C19: 18
A20: II. FUNDUSZ EMERYTALNO-RENTOWY
A21: 1. EMERYTURY I RENTY
A22: Przeciętna miesięczna liczba emerytur i rent według rodzajów świadczeń | B22: 1 (13) | C22: 19
A23: Przeciętna miesięczna liczba świadczeniobiorców oraz liczba ubezpieczonych według województw | B23: 2 (14) | C23: 20
A24: Przeciętne miesięczne świadczenia emerytalno-rentowe według województw | B24: 3 (15) | C24: 21
A25: Przeciętna miesięczna liczba emerytur i rent według województw oraz świadczeń emerytalnych wypłaconych przez MON, MSWiA i MS | B25: 4 (16) | C25: 22
A26: Wydatki na świadczenia emerytalno-rentowe według rodzajów świadczeń | B26: 5 (17) | C26: 23
A27: Wydatki na świadczenia emerytalno-rentowe według województw oraz świadczenia emerytalne wypłacone przez MON, MSWiA i MS | B27: 6 (18) | C27: 25
A28: Przeciętne miesięczne świadczenie emerytalno-rentowe według rodzajów świadczeń | B28: 7 (19) | C28: 26
A29: Przeciętne miesięczne świadczenie emerytalno-rentowe według województw oraz przeciętne miesięczne świadczenie emerytalne wypłacone przez MON, MSWiA i MS | B29: 8 (20) | C29: 27
A30: 2. ZASIŁKI | B30: Nr | C30: Str.
A31: Zasiłki macierzyńskie | B31: 9 (21) | C31: 28
A32: Zasiłki macierzyńskie według województw | B32: 10 (22) | C32: 28
A33: Zasiłki pogrzebowe | B33: 11 (23) | C33: 29
A34: Zasiłki pogrzebowe według województw | B34: 12 (24) | C34: 29
A35: III. POZOSTAŁE ŚWIADCZENIA
A36: Świadczenia zlecone do wypłaty Kasie Rolniczego Ubezpieczenia Społecznego | B36: 1 (25) | C36: 30
A37: IV. FUNDUSZ SKŁADKOWY UBEZPIECZENIA SPOŁECZNEGO ROLNIKÓW
A38: Zasiłki chorobowe i jednorazowe odszkodowania | B38: 1 (26) | C38: 31
A39: Zasiłki chorobowe i jednorazowe odszkodowania według województw | B39: 2 (27) | C39: 31
A40: Wypadki przy pracy rolniczej i choroby zawodowe rolników | B40: 3 (28) | C40: 33
A41: Wypadki i choroby zawodowe, z tytułu których przyznano jednorazowe odszkodowania według województw | B41: 4 (29) | C41: 33
A42: V. UBEZPIECZENIE SPOŁECZNE ROLNIKÓW
A43: Liczba płatników składek według województw | B43: 1 (30) | C43: 35
A44: Liczba ubezpieczonych według statusu ubezpieczonego | B44: 2 (31) | C44: 36
A45: Liczba ubezpieczonych i płatników składek | B45: 3 (32) | C45: 36
A46: Liczba ubezpieczonych według województw | B46: 4 (33) | C46: 37
A47: Liczba ubezpieczonych z tytułu prowadzenia jednocześnie działalności rolniczej i pozarolniczej działalności gospodarczej według województw | B47: 5 (34) | C47: 38
A48: Liczba ubezpieczonych w KRUS przy jednoczesnym objęciu ubezpieczeniem społecznym w ZUS z innego tytułu według województw | B48: 6 (35) | C48: 38
A49: Przypis i wpływy należności z tytułu składek na ubezpieczenie społeczne rolników według województw | B49: 7 (36) | C49: 39
A50: Decyzje o podleganiu i ustaniu ubezpieczenia społecznego rolników według województw | B50: 8 (37) | C50: 39
A51: VI. UBEZPIECZENIE ZDROWOTNE
A52: Liczba osób podlegających ubezpieczeniu zdrowotnemu według województw | B52: 1 (38) | C52: 40
A53: Przypis składek na ubezpieczenie zdrowotne | B53: 2 (39) | C53: 40
A54: SPIS WYKRESÓW | B54: Nr | C54: Str.
A55: Przeciętna miesięczna liczba świadczeniobiorców na tle liczby ubezpieczonych | B55: 1 | C55: 20
A56: Przeciętne miesięczne świadczenia rolne wypłacane z FER w odniesieniu do świadczeń realizowanych przez KRUS ogółem | B56: 2 | C56: 21
A57: Struktura wydatków na świadczenia finansowane z Funduszu Emerytalno-Rentowego | B57: 3 | C57: 24
A58: Struktura wydatków na świadczenia finansowane z Funduszu Składkowego | B58: 4 | C58: 32
A59: Wypadki przy pracy rolniczej | B59: 5 | C59: 34

Sheet Objaśnienia i skróty
A1: OBJAŚNIENIA ZNAKÓW UMOWNYCH | C1: Powrót do spisu treści
A3: Symbol | B3: Opis
A4: Kreska (-) | B4: zjawisko nie wystąpiło
A5: Zero (0) | B5: zjawisko istniało w wielkości mniejszej od 0,5
A6: Zero (0,0) | B6: zjawisko istniało w wielkości mniejszej od 0,05
A7: Kropka (.) | B7: brak informacji albo brak informacji wiarygodnych
A8: Znak (x) | B8: wypełnienie pozycji jest niemożliwe lub niecelowe
A9: „w tym” | B9: oznacza, że nie podaje się wszystkich składników sumy
A10: "z tego" | B10: oznacza, że podaje się wszystkie składniki sumy
A12: OBJAŚNIENIA SKRÓTÓW
A14: Skrót | B14: Znaczenie
A15: KRUS | B15: Kasa Rolniczego Ubezpieczenia Społecznego
A16: ZUS | B16: Zakład Ubezpieczeń Społecznych
A17: Fundusz Składkowy | B17: Fundusz Składkowy Ubezpieczenia Społecznego Rolników
A18: MON | B18: Ministerstwo Obrony Narodowej
A19: MSWiA | B19: Zakład Emerytalno-Rentowy Ministerstwa Spraw Wewnętrznych i Administracji
A20: MS | B20: Ministerstwo Sprawiedliwości
A21: NFZ | B21: Narodowy Fundusz Zdrowia
A22: FER | B22: Fundusz Emerytalno-Rentowy
A23: UE | B23: Unia Europejska
A24: EFTA | B24: Europejskie Stowarzyszenie Wolnego Handlu
A25: zł | B25: złoty

Sheet Tab 1
A1: I. EMERYTURY I RENTY REALIZOWANE PRZEZ KRUS
A2: TABLICA 1. EMERYTURY I RENTY | J2: Powrót do spisu treści
A3: Wyszczególnienie | B3: 2023 rok | D3: 2024 rok
B4: II kwartał | C4: I półrocze | D4: I kwartał | E4: II kwartał | F4: I półrocze | G4: porównanie (wzrost/spadek)
G5: II kwartału 2024 r. z I kwartałem 2024 r. | H5: II kwartału 2024 r. z II kwartałem 2023 r. | I5: I półrocza 2024 r. z I półroczem 2023 r.
A6: OGÓŁEM
A7: Przeciętna miesięczna liczba świadczeniobiorców | B7: 977905 | C7: 978958 | D7: 969907 | E7: 969741 | F7: 969824 | G7: =E7/D7-1 -> -0.00017115043 | H7: =E7/B7-1 -> -0.0083484592 | I7: =F7/C7-1 -> -0.0093303288
A8: w tym świadczenia zbiegowe pracownicze | B8: 32868 | C8: 33553 | D8: 29480 | E8: 28222 | F8: 28851 | G8: =E8/D8-1 -> -0.042672999 | H8: =E8/B8-1 -> -0.14135329 | I8: =F8/C8-1 -> -0.1401365
A9: Kwota wypłat w zł | B9: 5.6060617e+09 | C9: 1.0453581e+10 | D9: 5.7947177e+09 | E9: 6.2301735e+09 | F9: 1.2024891e+10 | G9: =E9/D9-1 -> 0.075147022 | H9: =E9/B9-1 -> 0.11132802 | I9: =F9/C9-1 -> 0.15031314
A10: w tym świadczenia zbiegowe pracownicze | B10: 1.9423601e+08 | C10: 3.7797562e+08 | D10: 1.8031689e+08 | E10: 1.859912e+08 | F10: 3.6630809e+08 | G10: =E10/D10-1 -> 0.031468528 | H10: =E10/B10-1 -> -0.0424474 | I10: =F10/C10-1 -> -0.03086847
A11: Przeciętne świadczenie w zł | B11: 1910.91 | C11: 1779.71 | D11: 1991.5 | E11: 2141.52 | F11: 2066.51 | G11: =E11/D11-1 -> 0.075330153 | H11: =E11/B11-1 -> 0.12068072 | I11: =F11/C11-1 -> 0.16114985
A12: EMERYTURY
A13: Przeciętna miesięczna liczba świadczeniobiorców | B13: 763523 | C13: 763993 | D13: 762594 | E13: 762574 | F13: 762584 | G13: =E13/D13-1 -> -2.6226275e-05 | H13: =E13/B13-1 -> -0.0012429226 | I13: =F13/C13-1 -> -0.0018442577
A14: Kwota wypłat w zł | B14: 4.4157817e+09 | C14: 8.2195692e+09 | D14: 4.5741218e+09 | E14: 4.921631e+09 | F14: 9.4957528e+09 | G14: =E14/D14-1 -> 0.075972866 | H14: =E14/B14-1 -> 0.11455486 | I14: =F14/C14-1 -> 0.15526162
A15: Przeciętne świadczenie w zł | B15: 1927.81 | C15: 1793.12 | D15: 1999.37 | E15: 2151.32 | F15: 2075.35 | G15: =E15/D15-1 -> 0.07599894 | H15: =E15/B15-1 -> 0.11593985 | I15: =F15/C15-1 -> 0.15739605
A16: RENTY Z TYTUŁU NIEZDOLNOŚCI DO PRACY
A17: Przeciętna miesięczna liczba świadczeniobiorców | B17: 173258 | C17: 173860 | D17: 167029 | E17: 166871 | F17: 166950 | G17: =E17/D17-1 -> -0.00094594352 | H17: =E17/B17-1 -> -0.036864099 | I17: =F17/C17-1 -> -0.039744622
A18: w tym renty z tytułu niezdolności do pracy wypadkowe | B18: 11606 | C18: 11646 | D18: 11186 | E18: 11174 | F18: 11180 | G18: =E18/D18-1 -> -0.0010727695 | H18: =E18/B18-1 -> -0.037222126 | I18: =F18/C18-1 -> -0.040013739
A19: Kwota wypłat w zł | B19: 8.987737e+08 | C19: 1.6807335e+09 | D19: 9.2028265e+08 | E19: 9.8612098e+08 | F19: 1.9064036e+09 | G19: =E19/D19-1 -> 0.071541417 | H19: =E19/B19-1 -> 0.097184956 | I19: =F19/C19-1 -> 0.13426885
A20: w tym renty z tytułu niezdolności do pracy wypadkowe | B20: 67728095 | C20: 1.2575487e+08 | D20: 69405551 | E20: 74690302 | F20: 1.4409585e+08 | G20: =E20/D20-1 -> 0.076143054 | H20: =E20/B20-1 -> 0.10279645 | I20: =F20/C20-1 -> 0.14584714
A21: Przeciętne świadczenie w zł | B21: 1729.16 | C21: 1611.19 | D21: 1836.57 | E21: 1969.83 | F21: 1903.17 | G21: =E21/D21-1 -> 0.072559173 | H21: =E21/B21-1 -> 0.13918319 | I21: =F21/C21-1 -> 0.18122009
A22: RENTY RODZINNE
A23: Przeciętna miesięczna liczba świadczeniobiorców | B23: 41123 | C23: 41105 | D23: 40284 | E23: 40297 | F23: 40290 | G23: =E23/D23-1 -> 0.00032270877 | H23: =E23/B23-1 -> -0.020086083 | I23: =F23/C23-1 -> -0.019827272
A24: Kwota wypłat w zł | B24: 2.9148405e+08 | C24: 5.5323499e+08 | D24: 3.0029393e+08 | E24: 3.2240073e+08 | F24: 6.2269466e+08 | G24: =E24/D24-1 -> 0.073617234 | H24: =E24/B24-1 -> 0.10606646 | I24: =F24/C24-1 -> 0.12555184
A25: Przeciętne świadczenie w zł | B25: 2362.7 | C25: 2243.21 | D25: 2484.83 | E25: 2666.87 | F25: 2575.86 | G25: =E25/D25-1 -> 0.073260545 | H25: =E25/B25-1 -> 0.12873831 | I25: =F25/C25-1 -> 0.14829196
A26: ŚWIADCZENIA PIENIĘŻNE DLA CYWILNYCH NIEWIDOMYCH OFIAR DZIAŁAŃ WOJENNYCH
A27: Kwota wypłat w zł | B27: 22244.58 | C27: 42975.22 | D27: 19286.05 | E27: 20783.85 | F27: 40069.9 | G27: =E27/D27-1 -> 0.077662352 | H27: =E27/B27-1 -> -0.065666783 | I27: =F27/C27-1 -> -0.06760454

Sheet Tab 2 i 3
A1: ='Tab 1'!A1:I1 -> I. EMERYTURY I RENTY REALIZOWANE PRZEZ KRUS
A3: TABLICA 2. ZWIĘKSZENIA DO EMERYTUR I RENT FINANSOWANE Z FUNDUSZU EMERYTALNO-RENTOWEGO, WYPŁACANE PRZY ŚWIADCZENIACH PRACOWNICZYCH | J3: Powrót do spisu treści
A4: Wyszczególnienie | B4: ='Tab 1'!B3:C3 -> 2023 rok | D4: ='Tab 1'!D3:I3 -> 2024 rok
B5: II kwartał | C5: I półrocze | D5: I kwartał | E5: II kwartał | F5: I półrocze | G5: porównanie (wzrost/spadek)
G6: II kwartału 2024 r. z I kwartałem 2024 r. | H6: II kwartału 2024 r. z II kwartałem 2023 r. | I6: I półrocza 2024 r. z I półroczem 2023 r.
A7: OGÓŁEM
A8: Przeciętna miesięczna liczba osób | B8: 625360 | C8: 625396 | D8: 622852 | E8: 622577 | F8: 622715 | G8: =E8/D8-1 -> -0.00044151741 | H8: =E8/B8-1 -> -0.0044502367 | I8: =F8/C8-1 -> -0.0042868838
A9: Kwota wypłat w zł | B9: 2.2911243e+08 | C9: 4.3614279e+08 | D9: 2.3773063e+08 | E9: 2.5615574e+08 | F9: 4.9388637e+08 | G9: =E9/D9-1 -> 0.077504156 | H9: =E9/B9-1 -> 0.11803511 | I9: =F9/C9-1 -> 0.13239606
A10: EMERYTURY
A11: Przeciętna miesięczna liczba osób | B11: 508883 | C11: 508318 | D11: 510128 | E11: 510551 | F11: 510340 | G11: =E11/D11-1 -> 0.00082920365 | H11: =E11/B11-1 -> 0.0032777672 | I11: =F11/C11-1 -> 0.0039778249
A12: Kwota wypłat w zł | B12: 2.0618448e+08 | C12: 3.9212136e+08 | D12: 2.1476999e+08 | E12: 2.3168294e+08 | F12: 4.4645293e+08 | G12: =E12/D12-1 -> 0.078749116 | H12: =E12/B12-1 -> 0.12366818 | I12: =F12/C12-1 -> 0.13855805
A13: RENTY Z TYTUŁU NIEZDOLNOŚCI DO PRACY
A14: Przeciętna miesięczna liczba osób | B14: 9044 | C14: 9131 | D14: 8288 | E14: 8125 | F14: 8206 | G14: =E14/D14-1 -> -0.019666988 | H14: =E14/B14-1 -> -0.10161433 | I14: =F14/C14-1 -> -0.10130325
A15: Kwota wypłat w zł | B15: 3081538.1 | C15: 5972178.2 | D15: 3061326.5 | E15: 3204232 | F15: 6265558.6 | G15: =E15/D15-1 -> 0.046680914 | H15: =E15/B15-1 -> 0.039815798 | I15: =F15/C15-1 -> 0.04912451
A16: RENTY RODZINNE
A17: Przeciętna miesięczna liczba osób | B17: 107433 | C17: 107947 | D17: 104436 | E17: 103901 | F17: 104169 | G17: =E17/D17-1 -> -0.0051227546 | H17: =E17/B17-1 -> -0.032876304 | I17: =F17/C17-1 -> -0.034998657
A18: Kwota wypłat w zł | B18: 19846415 | C18: 38049252 | D18: 19899314 | E18: 21268574 | F18: 41167888 | G18: =E18/D18-1 -> 0.06880938 | H18: =E18/B18-1 -> 0.071658203 | I18: =F18/C18-1 -> 0.081963145
A20: TABLICA 3. WNIOSKI I DECYZJE W SPRAWACH O PRZYZNANIE RODZICIELSKICH ŚWIADCZEŃ UZUPEŁNIJĄCYCH WEDŁUG WOJEWÓDZTW
A21: Wyszczególnienie | B21: Liczba wniosków złożonych w okresie sprawozdawczym | C21: Liczba wniosków załatwionych w okresie sprawozdawczym | E21: Liczba decyzji pierwszorazowych przyznających | F21: Liczba decyzji pierwszorazowych odmownych
C22: Razem | D22: w tym po terminie ustawowym
B23: II KWARTAŁ 2024 R.
A24: OGÓŁEM | B24: =SUM(B25:B40) -> 101 | C24: =SUM(C25:C40) -> 108 | D24: =SUM(D25:D40) -> 0 | E24: =SUM(E25:E40) -> 36 | F24: =SUM(F25:F40) -> 70
A25: dolnośląskie | B25: 5 | C25: 5 | D25: 0 | E25: 2 | F25: 3
A26: kujawsko-pomorskie | B26: 8 | C26: 6 | D26: 0 | E26: 1 | F26: 5
A27: lubelskie | B27: 17 | C27: 17 | D27: 0 | E27: 9 | F27: 8
A28: lubuskie | B28: 0 | C28: 0 | D28: 0 | E28: 0 | F28: 0
A29: łódzkie | B29: 3 | C29: 4 | D29: 0 | E29: 1 | F29: 3
A30: małopolskie | B30: 14 | C30: 14 | D30: 0 | E30: 8 | F30: 6
A31: mazowieckie | B31: 8 | C31: 6 | D31: 0 | E31: 2 | F31: 4
A32: opolskie | B32: 0 | C32: 0 | D32: 0 | E32: 0 | F32: 0
A33: podkarpackie | B33: 9 | C33: 10 | D33: 0 | E33: 4 | F33: 5
A34: podlaskie | B34: 2 | C34: 5 | D34: 0 | E34: 0 | F34: 5
A35: pomorskie | B35: 3 | C35: 4 | D35: 0 | E35: 1 | F35: 3
A36: śląskie | B36: 1 | C36: 1 | D36: 0 | E36: 0 | F36: 1
... A40: zachodniopomorskie | B40: 3 | C40: 3 | D40: 0 | E40: 2 | F40: 1

Sheet Tab 4 i 5
A1: ='Tab 1'!A1:I1 -> I. EMERYTURY I RENTY REALIZOWANE PRZEZ KRUS
A3: TABLICA 4. WNIOSKI O PRZYZNANIE EMERYTUR I RENT WEDŁUG RODZAJÓW ŚWIADCZEŃ | G3: Powrót do spisu treści
A4: Wyszczególnienie | B4: Liczba wniosków pozostałych z poprzedniego okresu | C4: Liczba zarejestrowanych wniosków | D4: Liczba załatwionych wniosków | F4: Liczba wniosków pozostałych do załatwienia w następnym okresie
D5: Razem | E5: w tym po terminie ustawowym
B6: ='Tab 2 i 3'!B23:I23 -> II KWARTAŁ 2024 R.
A7: OGÓŁEM | B7: =B8+B9 -> 11218 | C7: =C8+C9 -> 21122 | D7: =D8+D9 -> 22079 | E7: =E8+E9 -> 0 | F7: =F8+F9 -> 10261
A8: Emerytury razem | B8: 2441 | C8: 8014 | D8: 8786 | E8: 0 | F8: 1669
A9: Renty razem, z tego: | B9: 8777 | C9: 13108 | D9: 13293 | E9: 0 | F9: 8592
A10: Renty z tytułu niezdolności do pracy | B10: 8496 | C10: 12195 | D10: 12347 | E10: 0 | F10: 8344
A11: w tym renty z tytułu niezdolności do pracy wypadkowe | B11: 358 | C11: 517 | D11: 521 | E11: 0 | F11: 354
A12: Renty rodzinne | B12: 281 | C12: 913 | D12: 946 | E12: 0 | F12: 248
A14: TABLICA 5. WNIOSKI O PRZYZNANIE EMERYTUR I RENT WEDŁUG WOJEWÓDZTW
A15: Wyszczególnienie | B15: Liczba wniosków pozostałych z poprzedniego okresu | C15: Liczba zarejestrowanych wniosków | D15: Liczba załatwionych wniosków | F15: Liczba wniosków pozostałych do załatwienia w następnym okresie
D16: Razem | E16: w tym po terminie ustawowym
B17: =B6 -> II KWARTAŁ 2024 R.
A18: OGÓŁEM | B18: =SUM(B19:B34) -> 11218 | C18: =SUM(C19:C34) -> 21122 | D18: =SUM(D19:D34) -> 22079 | E18: =SUM(E19:E34) -> 0 | F18: =SUM(F19:F34) -> 10261
A19: dolnośląskie | B19: 212 | C19: 613 | D19: 623 | E19: 0 | F19: 202
A20: kujawsko-pomorskie | B20: 801 | C20: 1372 | D20: 1406 | E20: 0 | F20: 767
A21: lubelskie | B21: 1222 | C21: 2558 | D21: 2531 | E21: 0 | F21: 1249
A22: lubuskie | B22: 89 | C22: 258 | D22: 231 | E22: 0 | F22: 116
A23: łódzkie | B23: 879 | C23: 1558 | D23: 1618 | E23: 0 | F23: 819
A24: małopolskie | B24: 1334 | C24: 2367 | D24: 2350 | E24: 0 | F24: 1351
A25: mazowieckie | B25: 1661 | C25: 3218 | D25: 3425 | E25: 0 | F25: 1454
A26: opolskie | B26: 197 | C26: 338 | D26: 383 | E26: 0 | F26: 152
A27: podkarpackie | B27: 800 | C27: 1363 | D27: 1512 | E27: 0 | F27: 651
A28: podlaskie | B28: 738 | C28: 1555 | D28: 1706 | E28: 0 | F28: 587
A29: pomorskie | B29: 513 | C29: 771 | D29: 764 | E29: 0 | F29: 520
A30: śląskie | B30: 280 | C30: 571 | D30: 590 | E30: 0 | F30: 261
... A34: zachodniopomorskie | B34: 223 | C34: 374 | D34: 427 | E34: 0 | F34: 170

Sheet Tab 6 i 7
A1: ='Tab 2 i 3'!A1:D1 -> I. EMERYTURY I RENTY REALIZOWANE PRZEZ KRUS
A2: TABLICA 6. DECYZJE I POSTĘPOWANIA UMORZONE W SPRAWACH O EMERYTURY I RENTY WEDŁUG RODZAJÓW ŚWIADCZEŃ | H2: Powrót do spisu treści
A3: Wyszczególnienie | B3: Liczba wydanych decyzji i postępowań umorzonych | C3: Liczba wydanych decyzji | G3: Postępowania umorzone
C4: Ogółem | D4: przyznających świadczenia | E4: odmownych | F4: udział odmownych decyzji do ogółem wydanych decyzji
B5: ='Tab 4 i 5'!B6:F6 -> II KWARTAŁ 2024 R.
A6: OGÓŁEM | B6: =C6+G6 -> 22079 | C6: =D6+E6 -> 21842 | D6: =D7+D8 -> 20094 | E6: =E7+E8 -> 1748 | F6: =E6/C6 -> 0.080029301 | G6: =G7+G8 -> 237
A7: Emerytury razem | B7: 8786 | C7: 8702 | D7: 8259 | E7: 443 | F7: =E7/C7 -> 0.050907837 | G7: 84
A8: Renty razem, z tego: | B8: 13293 | C8: 13140 | D8: 11835 | E8: 1305 | F8: =E8/C8 -> 0.099315068 | G8: 153
A9: Renty z tytułu niezdolności do pracy razem | B9: 12347 | C9: 12211 | D9: 10958 | E9: 1253 | F9: =E9/C9 -> 0.1026124 | G9: 136
A10: w tym renty z tytułu niezdolności do pracy wypadkowe | B10: 521 | C10: 514 | D10: 428 | E10: 86 | F10: =E10/C10 -> 0.16731518 | G10: 7
A11: Renty rodzinne | B11: 946 | C11: 929 | D11: 877 | E11: 52 | F11: =E11/C11 -> 0.055974166 | G11: 17
A13: TABLICA 7. DECYZJE I POSTĘPOWANIA UMORZONE W SPRAWACH O EMERYTURY I RENTY WEDŁUG WOJEWÓDZTW
A14: Wyszczególnienie | B14: Liczba wydanych decyzji i postępowań umorzonych | C14: Liczba wydanych decyzji | G14: Postępowania umorzone
C15: Ogółem | D15: przyznających świadczenia | E15: odmownych | F15: udział odmownych decyzji do ogółem wydanych decyzji
B16: =B5 -> II KWARTAŁ 2024 R.
A17: OGÓŁEM | B17: =SUM(B18:B33) -> 22079 | C17: =SUM(C18:C33) -> 21842 | D17: =SUM(D18:D33) -> 20094 | E17: =SUM(E18:E33) -> 1748 | F17: =E17/C17 -> 0.080029301 | G17: =SUM(G18:G33) -> 237
A18: dolnośląskie | B18: 623 | C18: 619 | D18: 577 | E18: 42 | F18: =E18/C18 -> 0.067851373 | G18: 4
A19: kujawsko-pomorskie | B19: 1406 | C19: 1391 | D19: 1269 | E19: 122 | F19: =E19/C19 -> 0.087706686 | G19: 15
A20: lubelskie | B20: 2531 | C20: 2500 | D20: 2237 | E20: 263 | F20: =E20/C20 -> 0.1052 | G20: 31
A21: lubuskie | B21: 231 | C21: 229 | D21: 220 | E21: 9 | F21: =E21/C21 -> 0.03930131 | G21: 2
A22: łódzkie | B22: 1618 | C22: 1611 | D22: 1492 | E22: 119 | F22: =E22/C22 -> 0.073867163 | G22: 7
A23: małopolskie | B23: 2350 | C23: 2337 | D23: 2207 | E23: 130 | F23: =E23/C23 -> 0.055626872 | G23: 13
A24: mazowieckie | B24: 3425 | C24: 3406 | D24: 3162 | E24: 244 | F24: =E24/C24 -> 0.071638285 | G24: 19
A25: opolskie | B25: 383 | C25: 378 | D25: 346 | E25: 32 | F25: =E25/C25 -> 0.084656085 | G25: 5
A26: podkarpackie | B26: 1512 | C26: 1482 | D26: 1366 | E26: 116 | F26: =E26/C26 -> 0.078272605 | G26: 30
A27: podlaskie | B27: 1706 | C27: 1680 | D27: 1507 | E27: 173 | F27: =E27/C27 -> 0.10297619 | G27: 26
A28: pomorskie | B28: 764 | C28: 755 | D28: 713 | E28: 42 | F28: =E28/C28 -> 0.055629139 | G28: 9
A29: śląskie | B29: 590 | C29: 588 | D29: 539 | E29: 49 | F29: =E29/C29 -> 0.083333333 | G29: 2
... A33: zachodniopomorskie | B33: 427 | C33: 423 | D33: 392 | E33: 31 | F33: =E33/C33 -> 0.073286052 | G33: 4

Sheet Tab 8 i 9
A1: ='Tab 6 i 7'!A1:G1 -> I. EMERYTURY I RENTY REALIZOWANE PRZEZ KRUS
H2: Powrót do spisu treści
A3: TABLICA 8. WNIOSKI O PRZYZNANIE EMERYTUR I RENT ROLNICZYCH ROZPATRYWANE Z ZASTOSOWANIEM PRZEPISÓW WSPÓLNOTOWYCH UE
A4: Wyszczególnienie | B4: Liczba wniosków pozostałych do załatwienia z poprzedniego okresu sprawozdawczego | C4: Liczba wniosków które wpłynęły w okresie sprawozdawczym | D4: Liczba wniosków przekazanych do instytucji zagranicznych | E4: Liczba spraw załatwionych ogółem | F4: Liczba spraw, w których trwa postępowanie międzynarodowe
B5: ='Tab 6 i 7'!B5:G5 -> II KWARTAŁ 2024 R.
A6: OGÓŁEM | B6: =B7+B8 -> 1111 | C6: =C7+C8 -> 983 | D6: =D7+D8 -> 331 | E6: =E7+E8 -> 1155 | F6: =F7+F8 -> 1111
A7: Emerytury razem | B7: 492 | C7: 479 | D7: 173 | E7: 623 | F7: 466
A8: Renty razem, z tego: | B8: =B9+B11 -> 619 | C8: =C9+C11 -> 504 | D8: =D9+D11 -> 158 | E8: =E9+E11 -> 532 | F8: =F9+F11 -> 645
A9: Renty z tytułu niezdolności do pracy razem | B9: 533 | C9: 441 | D9: 140 | E9: 447 | F9: 572
A10: w tym renty z tytułu niezdolności do pracy wypadkowe | B10: 14 | C10: 13 | D10: 2 | E10: 14 | F10: 13
A11: Renty rodzinne | B11: 86 | C11: 63 | D11: 18 | E11: 85 | F11: 73
A13: TABLICA 9. DECYZJE W SPRAWACH WNIOSKÓW O PRZYZNANIE EMERYTUR I RENT ROLNICZYCH Z ZASTOSOWANIEM PRZEPISÓW WSPÓLNOTOWYCH UE
A14: Wyszczególnienie | B14: Liczba wydanych decyzji
B15: Ogółem | C15: w tym: | G15: Decyzji odmownych
C16: Decyzji ostatecznych | F16: Decyzji tymczasowych
C17: Razem | D17: Płatne pro rata temporis 1) | E17: Płatne na podstawie tylko polskich okresów ubezpieczenia
B18: =B5 -> II KWARTAŁ 2024 R.
A19: OGÓŁEM | B19: =C19+F19+G19 -> 1065 | C19: =SUM(D19:E19) -> 741 | D19: =D20+D21 -> 290 | E19: =E20+E21 -> 451 | F19: =F20+F21 -> 195 | G19: =G20+G21 -> 129
A20: Emerytury razem | B20: =C20+F20+G20 -> 578 | C20: =SUM(D20:E20) -> 385 | D20: 168 | E20: 217 | F20: 107 | G20: 86
A21: Renty razem, z tego: | B21: =C21+F21+G21 -> 487 | C21: =SUM(D21:E21) -> 356 | D21: 122 | E21: 234 | F21: 88 | G21: 43
A22: Renty z tytułu niezdolności do pracy razem | B22: =C22+F22+G22 -> 409 | C22: =SUM(D22:E22) -> 302 | D22: 100 | E22: 202 | F22: 74 | G22: 33
A23: w tym renty z tytułu niezdolności do pracy wypadkowe | B23: =C23+F23+G23 -> 12 | C23: =SUM(D23:E23) -> 10 | D23: 1 | E23: 9 | F23: 1 | G23: 1
A24: Renty rodzinne | B24: =C24+F24+G24 -> 78 | C24: =SUM(D24:E24) -> 54 | D24: 22 | E24: 32 | F24: 14 | G24: 10
A25: 1) "pro rata temporis" emerytura ustalana i wypłacana jest w wysokościach częściowych, wynikających z proporcji okresów ubezpieczenia przebytych w danym państwie członkowskim do łącznych okresów ubezpieczenia przebytych we wszystkich państwach członkowskich. Każde państwo wypłaca emeryturę (rentę) wyłącznie za okresy ubezpieczenia przebyte na swoim terytorium.

Sheet Tab 10 i 11
A1: ='Tab 8 i 9'!A1:G1 -> I. EMERYTURY I RENTY REALIZOWANE PRZEZ KRUS
G2: Powrót do spisu treści
A3: TABLICA 10. WNIOSKI O PRZYZNANIE EMERYTUR I RENT ROLNICZYCH Z ZASTOSOWANIEM POSTANOWIEŃ UMÓW DWUSTRONNYCH O ZABEZPIECZENIU SPOŁECZNYM
A4: Wyszczególnienie | B4: Liczba wniosków pozostałych do załatwienia z poprzedniego okresu sprawozdawczego | C4: Liczba wniosków które wpłynęły w okresie sprawozdawczym | D4: Liczba wniosków przekazanych do instytucji zagranicznych | E4: Liczba spraw załatwionych ogółem | F4: Liczba spraw, w których trwa postępowanie międzynarodowe
B5: ='Tab 8 i 9'!B18:G18 -> II KWARTAŁ 2024 R.
A6: OGÓŁEM | B6: =B7+B8 -> 37 | C6: =C7+C8 -> 20 | D6: =D7+D8 -> 0 | E6: =E7+E8 -> 27 | F6: =F7+F8 -> 30
A7: Emerytury razem | B7: 30 | C7: 19 | D7: 0 | E7: 25 | F7: 24
A8: Renty razem, z tego: | B8: =B9+B11 -> 7 | C8: =C9+C11 -> 1 | D8: =D9+D11 -> 0 | E8: =E9+E11 -> 2 | F8: =F9+F11 -> 6
A9: Renty z tytułu niezdolności do pracy razem | B9: 6 | C9: 1 | D9: 0 | E9: 1 | F9: 6
A10: w tym renty z tytułu niezdolności do pracy wypadkowe | B10: 0 | C10: 0 | D10: 0 | E10: 0 | F10: 0
A11: Renty rodzinne | B11: 1 | C11: 0 | D11: 0 | E11: 1 | F11: 0
A13: TABLICA 11. DECYZJE W SPRAWACH WNIOSKÓW O PRZYZNANIE EMERYTUR I RENT ROLNICZYCH Z ZASTOSOWANIEM POSTANOWIEŃ UMÓW DWUSTRONNYCH O ZABEZPIECZENIU SPOŁECZNYM
A14: Wyszczególnienie | B14: Liczba wydanych decyzji
B15: Ogółem | C15: w tym: | F15: Decyzji odmownych
C16: Decyzji ostatecznych
C17: Razem | D17: Płatne pro rata temporis 1) | E17: Płatne na podstawie tylko polskich okresów ubezpieczenia
B18: =B5 -> II KWARTAŁ 2024 R.
A19: OGÓŁEM | B19: =B20+B21 -> 25 | C19: =C20+C21 -> 21 | D19: =D20+D21 -> 9 | E19: =E20+E21 -> 12 | F19: =F20+F21 -> 4
A20: Emerytury razem | B20: 23 | C20: 20 | D20: 9 | E20: 11 | F20: 3
A21: Renty razem, z tego: | B21: =B22+B24 -> 2 | C21: =C22+C24 -> 1 | D21: =D22+D24 -> 0 | E21: =E22+E24 -> 1 | F21: =F22+F24 -> 1
A22: Renty z tytułu niezdolności do pracy razem | B22: 1 | C22: 0 | D22: 0 | E22: 0 | F22: 1
A23: w tym renty z tytułu niezdolności do pracy wypadkowe | B23: 0 | C23: 0 | D23: 0 | E23: 0 | F23: 0
A24: Renty rodzinne | B24: 1 | C24: 1 | D24: 0 | E24: 1 | F24: 0
A25: 1) "pro rata temporis" emerytura ustalana i wypłacana jest w wysokościach częściowych, wynikających z proporcji okresów ubezpieczenia przebytych w danym państwie członkowskim do łącznych okresów ubezpieczenia przebytych we wszystkich państwach członkowskich. Każde państwo wypłaca emeryturę (rentę) wyłącznie za okresy ubezpieczenia przebyte na swoim terytorium.

Sheet Tab 12
A1: ='Tab 10 i 11'!A1:F1 -> I. EMERYTURY I RENTY REALIZOWANE PRZEZ KRUS
A3: TABLICA 12. ŚWIADCZENIA EMERYTALNO-RENTOWE TRANSFEROWANE DO POSZCZEGÓLNYCH PAŃSTW UE/EFTA I WIELKIEJ BRYTANII ORAZ DO INNYCH PAŃSTW NA PODSTAWIE UMÓW DWUSTRONNYCH | L3: Powrót do spisu treści
A4: Wyszczególnienie | B4: Razem emerytury i renty | D4: Emerytury | F4: Renty z tytułu niezdolności do pracy | H4: w tym: renty z tytułu niezdolności do pracy wypadkowe | J4: Renty rodzinne
B5: Przeciętna liczba osób | C5: Kwota wypłat w zł | D5: Przeciętna liczba osób | E5: Kwota wypłat w zł | F5: Przeciętna liczba osób | G5: Kwota wypłat w zł | H5: Przeciętna liczba osób | I5: Kwota wypłat w zł | J5: Przeciętna liczba osób | K5: Kwota wypłat w zł
B6: ='Tab 10 i 11'!B18:F18 -> II KWARTAŁ 2024 R.
A7: OGÓŁEM | B7: 4058 | C7: 13800945 | D7: 3364 | E7: 11072778 | F7: 319 | G7: 1493393 | H7: 3 | I7: 18705.36 | J7: 376 | K7: 1234774.6
A8: w tym:
A9: świadczenia "zbiegowe" | B9: 41 | C9: 283688.26 | D9: 40 | E9: 277075.42 | F9: 1 | G9: 6612.84 | H9: 0 | I9: 0 | J9: 0 | K9: 0
A10: z tego:
A11: do państw UE/EFTA i Wielkiej Brytanii razem | B11: 3768 | C11: 12231659 | D11: 3098 | E11: 9634935.1 | F11: 312 | G11: 1455259.1 | H11: 3 | I11: 18705.36 | J11: 359 | K11: 1141464.6
A12: Austria | B12: 119 | C12: 415644.98 | D12: 79 | E12: 237075.38 | F12: 32 | G12: 151028.55 | H12: 0 | I12: 0 | J12: 8 | K12: 27541.05
A13: Belgia | B13: 65 | C13: 358727.71 | D13: 28 | E13: 146197.09 | F13: 31 | G13: 196689.09 | H13: 0 | I13: 0 | J13: 5 | K13: 15841.53
A14: Bułgaria | B14: 0 | C14: 0 | D14: 0 | E14: 0 | F14: 0 | G14: 0 | H14: 0 | I14: 0 | J14: 0 | K14: 0
A15: Chorwacja | B15: 0 | C15: 0 | D15: 0 | E15: 0 | F15: 0 | G15: 0 | H15: 0 | I15: 0 | J15: 0 | K15: 0
A16: Cypr | B16: 0 | C16: 0 | D16: 0 | E16: 0 | F16: 0 | G16: 0 | H16: 0 | I16: 0 | J16: 0 | K16: 0
A17: Czechy | B17: 2 | C17: 10701.15 | D17: 0 | E17: 0 | F17: 2 | G17: 10701.15 | H17: 0 | I17: 0 | J17: 0 | K17: 0
A18: Dania | B18: 1 | C18: 5342.88 | D18: 0 | E18: 0 | F18: 0 | G18: 0 | H18: 0 | I18: 0 | J18: 1 | K18: 5342.88
A19: Estonia | B19: 0 | C19: 0 | D19: 0 | E19: 0 | F19: 0 | G19: 0 | H19: 0 | I19: 0 | J19: 0 | K19: 0
A20: Finlandia | B20: 1 | C20: 5342.88 | D20: 0 | E20: 0 | F20: 0 | G20: 0 | H20: 0 | I20: 0 | J20: 1 | K20: 5342.88
A21: Francja | B21: 22 | C21: 122898.24 | D21: 20 | E21: 121708.53 | F21: 1 | G21: 495.18 | H21: 0 | I21: 0 | J21: 1 | K21: 694.53
A22: Grecja | B22: 2 | C22: 6669.04 | D22: 1 | E22: 1326.16 | F22: 0 | G22: 0 | H22: 0 | I22: 0 | J22: 1 | K22: 5342.88
... A55: USA | B55: 133 | C55: 800377.71 | D55: 126 | E55: 758410.95 | F55: 2 | G55: 11911.05 | H55: 0 | I55: 0 | J55: 5 | K55: 30055.71

Sheet Tab 1 (13)
A1: II. FUNDUSZ EMERYTALNO-RENTOWY
A2: TABLICA 1 (13). PRZECIĘTNA MIESIĘCZNA LICZBA EMERYTUR I RENT WEDŁUG RODZAJÓW ŚWIADCZEŃ | J2: Powrót do spisu treści
A3: Wyszczególnienie | B3: ='Tab 2 i 3'!B4:C4 -> 2023 rok | D3: ='Tab 2 i 3'!D4:I4 -> 2024 rok
B4: ='Tab 1'!B4:B5 -> II kwartał | C4: ='Tab 1'!C4:C5 -> I półrocze | D4: ='Tab 1'!D4:D5 -> I kwartał | E4: ='Tab 1'!E4:E5 -> II kwartał | F4: ='Tab 1'!F4:F5 -> I półrocze | G4: porównanie (wzrost/spadek)
G5: ='Tab 2 i 3'!G6 -> II kwartału 2024 r. z I kwartałem 2024 r. | H5: ='Tab 2 i 3'!H6 -> II kwartału 2024 r. z II kwartałem 2023 r. | I5: ='Tab 2 i 3'!I6 -> I półrocza 2024 r. z I półroczem 2023 r.
A6: OGÓŁEM
A7: EMERYTURY I RENTY ogółem | B7: 976542 | C7: 977606 | D7: 968496 | E7: 968321 | F7: 968408 | G7: =E7/D7-1 -> -0.00018069254 | H7: =E7/B7-1 -> -0.0084184807 | I7: =F7/C7-1 -> -0.0094086984
A8: Emerytury | B8: 762160 | C8: 762642 | D8: 761183 | E8: 761153 | F8: 761168 | G8: =E8/D8-1 -> -3.9412336e-05 | H8: =E8/B8-1 -> -0.0013212449 | I8: =F8/C8-1 -> -0.0019327548
A9: Renty | B9: 214381 | C9: 214965 | D9: 207313 | E9: 207168 | F9: 207240 | G9: =E9/D9-1 -> -0.00069942551 | H9: =E9/B9-1 -> -0.033645706 | I9: =F9/C9-1 -> -0.035936083
A10: EMERYTURY
A11: EMERYTURY RAZEM | B11: 762160 | C11: 762642 | D11: 761183 | E11: 761153 | F11: 761168 | G11: =E11/D11-1 -> -3.9412336e-05 | H11: =E11/B11-1 -> -0.0013212449 | I11: =F11/C11-1 -> -0.0019327548
A12: Emerytury rolnicze | B12: 689842 | C12: 688672 | D12: 697217 | E12: 700079 | F12: 698648 | G12: =E12/D12-1 -> 0.0041048913 | H12: =E12/B12-1 -> 0.01483963 | I12: =F12/C12-1 -> 0.014485851
A13: Emerytury za przekazane gospodarstwo rolne Państwu | B13: 11679 | C13: 11946 | D13: 10287 | E13: 9824 | F13: 10055 | G13: =E13/D13-1 -> -0.045008263 | H13: =E13/B13-1 -> -0.15883209 | I13: =F13/C13-1 -> -0.15829566
A14: Emerytury za przekazane gospodarstwo rolne następcy | B14: 58198 | C14: 59564 | D14: 51312 | E14: 48911 | F14: 50112 | G14: =E14/D14-1 -> -0.046792173 | H14: =E14/B14-1 -> -0.15957593 | I14: =F14/C14-1 -> -0.15868645
A15: Emerytury nie związane z przekazaniem gospodarstwa rolnego | B15: 2442 | C15: 2460 | D15: 2367 | E15: 2339 | F15: 2353 | G15: =E15/D15-1 -> -0.01182932 | H15: =E15/B15-1 -> -0.042178542 | I15: =F15/C15-1 -> -0.043495935
A16: RENTY
A17: RENTY RAZEM | B17: 214381 | C17: 214965 | D17: 207313 | E17: 207168 | F17: 207240 | G17: =E17/D17-1 -> -0.00069942551 | H17: =E17/B17-1 -> -0.033645706 | I17: =F17/C17-1 -> -0.035936083
A18: RENTY Z TYTUŁU NIEZDOLNOŚCI DO PRACY RAZEM | B18: 173258 | C18: 173860 | D18: 167029 | E18: 166871 | F18: 166950 | G18: =E18/D18-1 -> -0.00094594352 | H18: =E18/B18-1 -> -0.036864099 | I18: =F18/C18-1 -> -0.039744622
A19: w tym renty z tytułu niezdolności do pracy wypadkowe | B19: 11606 | C19: 11646 | D19: 11186 | E19: 11174 | F19: 11180 | G19: =E19/D19-1 -> -0.0010727695 | H19: =E19/B19-1 -> -0.037222126 | I19: =F19/C19-1 -> -0.040013739
A20: Renty rolnicze z tytułu niezdolności do pracy | B20: 171415 | C20: 171980 | D20: 165383 | E20: 165295 | F20: 165339 | G20: =E20/D20-1 -> -0.00053209822 | H20: =E20/B20-1 -> -0.035702826 | I20: =F20/C20-1 -> -0.038614955
A21: Renty z tytułu niezdolności do pracy za przekazane gospodarstwo rolne Państwu | B21: 127 | C21: 134 | D21: 109 | E21: 107 | F21: 108 | G21: =E21/D21-1 -> -0.018348624 | H21: =E21/B21-1 -> -0.15748031 | I21: =F21/C21-1 -> -0.19402985
A22: Renty z tytułu niezdolności do pracy za przekazane gospodarstwo rolne następcy | B22: 414 | C22: 422 | D22: 374 | E22: 356 | F22: 365 | G22: =E22/D22-1 -> -0.048128342 | H22: =E22/B22-1 -> -0.14009662 | I22: =F22/C22-1 -> -0.13507109
A23: Renty z tytułu niezdolności do pracy nie związane z przekazaniem gospodarstwa rolnego | B23: 1301 | C23: 1324 | D23: 1163 | E23: 1112 | F23: 1138 | G23: =E23/D23-1 -> -0.043852107 | H23: =E23/B23-1 -> -0.14527287 | I23: =F23/C23-1 -> -0.14048338
A24: RENTY RODZINNE RAZEM | B24: 41123 | C24: 41105 | D24: 40284 | E24: 40297 | F24: 40290 | G24: =E24/D24-1 -> 0.00032270877 | H24: =E24/B24-1 -> -0.020086083 | I24: =F24/C24-1 -> -0.019827272
A25: w tym renty rodzinne wypadkowe | B25: 784 | C25: 786 | D25: 744 | E25: 745 | F25: 744 | G25: =E25/D25-1 -> 0.001344086 | H25: =E25/B25-1 -> -0.049744898 | I25: =F25/C25-1 -> -0.053435115
A26: Renty rodzinne rolnicze | B26: 39782 | C26: 39752 | D26: 38998 | E26: 39026 | F26: 39012 | G26: =E26/D26-1 -> 0.00071798554 | H26: =E26/B26-1 -> -0.019003569 | I26: =F26/C26-1 -> -0.018615416
A27: Renty rodzinne za przekazane gospodarstwo rolne Państwu | B27: 276 | C27: 279 | D27: 261 | E27: 256 | F27: 258 | G27: =E27/D27-1 -> -0.019157088 | H27: =E27/B27-1 -> -0.072463768 | I27: =F27/C27-1 -> -0.075268817
A28: Renty rodzinne za przekazane gospodarstwo rolne następcy | B28: 738 | C28: 745 | D28: 704 | E28: 696 | F28: 700 | G28: =E28/D28-1 -> -0.011363636 | H28: =E28/B28-1 -> -0.056910569 | I28: =F28/C28-1 -> -0.060402685
A29: Renty rodzinne nie związane z przekazaniem gospodarstwa rolnego | B29: 327 | C29: 329 | D29: 321 | E29: 319 | F29: 320 | G29: =E29/D29-1 -> -0.0062305296 | H29: =E29/B29-1 -> -0.024464832 | I29: =F29/C29-1 -> -0.027355623

Sheet Tab 2 (14) i wykres 1
A1: ='Tab 1 (13)'!A1:I1 -> II. FUNDUSZ EMERYTALNO-RENTOWY
A2: TABLICA 2 (14). PRZECIĘTNA MIESIĘCZNA LICZBA ŚWIADCZENIOBIORCÓW ORAZ LICZBA UBEZPIECZONYCH WEDŁUG WOJEWÓDZTW | F2: Powrót do spisu treści
A3: Wyszczególnienie | B3: Przeciętna miesięczna liczba świadczeniobiorców w II kwartale 2024 r. | C3: Liczba ubezpieczonych stan na 30 czerwca 2024 r.
A4: dolnośląskie | B4: 36154 | C4: 34944
A5: kujawsko-pomorskie | B5: 66136 | C5: 54025
A6: lubelskie | B6: 122436 | C6: 129812
A7: lubuskie | B7: 12507 | C7: 11846
A8: łódzkie | B8: 81569 | C8: 80545
A9: małopolskie | B9: 85676 | C9: 123350
A10: mazowieckie | B10: 149558 | C10: 143689
A11: opolskie | B11: 19143 | C11: 22019
A12: podkarpackie | B12: 54388 | C12: 75295
A13: podlaskie | B13: 68516 | C13: 71808
A14: pomorskie | B14: 31973 | C14: 34254
A15: śląskie | B15: 26811 | C15: 28063
... A19: zachodniopomorskie | B19: 20546 | C19: 20128
A20: MON | B20: 66
A21: MSWiA | B21: 295
A22: MS | B22: 29
A23: Ogółem | B23: 968321 | C23: =SUM(C4:C19) -> 1021755
A25: WYKRES NR 1. PRZECIĘTNA MIESIĘCZNA LICZBA ŚWIADCZENIOBIORCÓW NA TLE LICZBY UBEZPIECZONYCH

Sheet Tab 3 (15) i wykres 2
A1: ='Tab 2 (14) i wykres 1'!A1:E1 -> II. FUNDUSZ EMERYTALNO-RENTOWY
A2: TABLICA 3 (15). PRZECIĘTNE MIESIĘCZNE ŚWIADCZENIA EMERYTALNO-RENTOWE WEDŁUG WOJEWÓDZTW | F2: Powrót do spisu treści
A3: Wyszczególnienie | B3: Świadczenia rolne wypłacane z FER | C3: Świadczenia realizowane przez KRUS ogółem
B4: w złotych
B5: ='Tab 6 i 7'!B5:G5 -> II KWARTAŁ 2024 R.
A6: dolnośląskie | B6: 2034.89 | C6: 2195.82
A7: kujawsko-pomorskie | B7: 2101.7 | C7: 2176.38
A8: lubelskie | B8: 2047.48 | C8: 2145.12
A9: lubuskie | B9: 1974.18 | C9: 2262.53
A10: łódzkie | B10: 2074.53 | C10: 2152.38
A11: małopolskie | B11: 2000.04 | C11: 2080.04
A12: mazowieckie | B12: 2064.62 | C12: 2125.83
A13: opolskie | B13: 2078.54 | C13: 2186.1
A14: podkarpackie | B14: 2029.45 | C14: 2116.51
A15: podlaskie | B15: 2077.37 | C15: 2138.26
A16: pomorskie | B16: 2071.19 | C16: 2177.17
A17: śląskie | B17: 1970.21 | C17: 2250.95
... A24: MS | B24: 882.88 | C24: 882.88
A27: WYKRES NR 2. PRZECIĘTNE MIESIĘCZNE ŚWIADCZENIA ROLNE WYPŁACANE Z FER W ODNIESIENIU DO ŚWIADCZEŃ REALIZOWANYCH PRZEZ KRUS OGÓŁEM

Sheet Tab 4 (16)
A1: ='Tab 3 (15) i wykres 2'!A1:E1 -> II. FUNDUSZ EMERYTALNO-RENTOWY
A3: TABLICA 4 (16). PRZECIĘTNA MIESIĘCZNA LICZBA EMERYTUR I RENT WEDŁUG WOJEWÓDZTW ORAZ ŚWIADCZEŃ EMERYTALNYCH WYPŁACONYCH PRZEZ MON, MSWiA i MS | I3: Powrót do spisu treści
A4: Wyszczególnienie | B4: Ogółem | C4: z tego:
C5: emerytury | D5: renty razem | E5: z tego:
E6: z tytułu niezdolności do pracy | G6: rodzinne
E7: ogółem | F7: w tym wypadkowe | G7: ogółem | H7: w tym wypadkowe
B9: I PÓŁROCZE 2024 R.
A10: OGÓŁEM | B10: 968408 | C10: 761168 | D10: 207240 | E10: 166950 | F10: 11180 | G10: 40290 | H10: 744
A11: dolnośląskie | B11: 36177 | C11: 28894 | D11: 7282 | E11: 5862 | F11: 435 | G11: 1420 | H11: 20
A12: kujawsko-pomorskie | B12: 66139 | C12: 51950 | D12: 14189 | E12: 11854 | F12: 952 | G12: 2335 | H12: 55
A13: lubelskie | B13: 122516 | C13: 96232 | D13: 26284 | E13: 21365 | F13: 1391 | G13: 4919 | H13: 103
A14: lubuskie | B14: 12527 | C14: 9370 | D14: 3157 | E14: 2620 | F14: 170 | G14: 537 | H14: 10
A15: łódzkie | B15: 81614 | C15: 68989 | D15: 12625 | E15: 9758 | F15: 844 | G15: 2867 | H15: 38
A16: małopolskie | B16: 85481 | C16: 58357 | D16: 27124 | E16: 23340 | F16: 1107 | G16: 3785 | H16: 65
A17: mazowieckie | B17: 149512 | C17: 122027 | D17: 27485 | E17: 20719 | F17: 1490 | G17: 6766 | H17: 109
A18: opolskie | B18: 19164 | C18: 16560 | D18: 2605 | E18: 1931 | F18: 151 | G18: 674 | H18: 15
A19: podkarpackie | B19: 54476 | C19: 40934 | D19: 13542 | E19: 11302 | F19: 591 | G19: 2240 | H19: 26
A20: podlaskie | B20: 68553 | C20: 55075 | D20: 13479 | E20: 10637 | F20: 736 | G20: 2841 | H20: 57
A21: pomorskie | B21: 31966 | C21: 24119 | D21: 7847 | E21: 6350 | F21: 413 | G21: 1497 | H21: 28
... A26: zachodniopomorskie | B26: 20577 | C26: 16363 | D26: 4214 | E26: 3398 | F26: 244 | G26: 817 | H26: 16
A27: Emerytury finansowane z funduszu emerytalno-rentowego, wypłacane przez MON, MSWiA, MS z tego: | B27: =C27 -> 396 | C27: 396 | D27: 0 | E27: 0 | F27: 0 | G27: 0 | H27: 0
A28: MON | B28: =C28 -> 67 | C28: 67 | D28: 0 | E28: 0 | F28: 0 | G28: 0 | H28: 0
A29: MSWiA | B29: =C29 -> 299 | C29: 299 | D29: 0 | E29: 0 | F29: 0 | G29: 0 | H29: 0
A30: MS | B30: =C30 -> 30 | C30: 30 | D30: 0 | E30: 0 | F30: 0 | G30: 0 | H30: 0

Sheet Tab 5 (17)
A1: ='Tab 4 (16)'!A1:H1 -> II. FUNDUSZ EMERYTALNO-RENTOWY
A3: TABLICA 5 (17). WYDATKI NA ŚWIADCZENIA EMERYTALNO-RENTOWE WEDŁUG RODZAJÓW ŚWIADCZEŃ | J3: Powrót do spisu treści
A4: Wyszczególnienie | B4: ='Tab 1 (13)'!B3:C3 -> 2023 rok | D4: ='Tab 1 (13)'!D3:I3 -> 2024 rok
B5: ='Tab 2 i 3'!B5:B6 -> II kwartał | C5: ='Tab 2 i 3'!C5:C6 -> I półrocze | D5: ='Tab 2 i 3'!D5:D6 -> I kwartał | E5: ='Tab 2 i 3'!E5:E6 -> II kwartał | F5: ='Tab 2 i 3'!F5:F6 -> I półrocze | G5: porównanie (wzrost/spadek)
G6: ='Tab 1'!G5 -> II kwartału 2024 r. z I kwartałem 2024 r. | H6: ='Tab 1'!H5 -> II kwartału 2024 r. z II kwartałem 2023 r. | I6: ='Tab 1'!I5 -> I półrocza 2024 r. z I półroczem 2023 r.
B7: w złotych
A8: OGÓŁEM1)
A9: EMERYTURY I RENTY z tego: | B9: =B10+B11 -> 5.3250968e+09 | C9: =C10+C11 -> 9.9101472e+09 | D9: =D10+D11 -> 5.5260894e+09 | E9: =E10+E11 -> 5.949937e+09 | F9: =F10+F11 -> 1.1476026e+10 | G9: =E9/D9-1 -> 0.076699372 | H9: =E9/B9-1 -> 0.11733875 | I9: =F9/C9-1 -> 0.15800767
A10: Emerytury | B10: =B13 -> 4.2005045e+09 | C10: =C13 -> 7.8006966e+09 | D10: =D13 -> 4.3745123e+09 | E10: =E13 -> 4.7157758e+09 | F10: =F13 -> 9.0902881e+09 | G10: =E10/D10-1 -> 0.078011785 | H10: =E10/B10-1 -> 0.12266892 | I10: =F10/C10-1 -> 0.16531748
A11: Renty | B11: =B19 -> 1.1245924e+09 | C11: =C19 -> 2.1094506e+09 | D11: =D19 -> 1.1515771e+09 | E11: =E19 -> 1.2341612e+09 | F11: =F19 -> 2.3857384e+09 | G11: =E11/D11-1 -> 0.071713889 | H11: =E11/B11-1 -> 0.097429842 | I11: =F11/C11-1 -> 0.13097617
A12: EMERYTURY
A13: EMERYTURY RAZEM | B13: =SUM(B14:B17) -> 4.2005045e+09 | C13: =SUM(C14:C17) -> 7.8006966e+09 | D13: =SUM(D14:D17) -> 4.3745123e+09 | E13: =SUM(E14:E17) -> 4.7157758e+09 | F13: =SUM(F14:F17) -> 9.0902881e+09 | G13: =E13/D13-1 -> 0.078011785 | H13: =E13/B13-1 -> 0.12266892 | I13: =F13/C13-1 -> 0.16531748
A14: Emerytury rolnicze | B14: 3.8591908e+09 | C14: 7.1414682e+09 | D14: 4.0571452e+09 | E14: 4.3885256e+09 | F14: 8.4456708e+09 | G14: =E14/D14-1 -> 0.081678202 | H14: =E14/B14-1 -> 0.13716212 | I14: =F14/C14-1 -> 0.18262388
A15: Emerytury za przekazane gospodarstwo rolne Państwu | B15: 52458616 | C15: 1.0110413e+08 | D15: 49043939 | E15: 50413115 | F15: 99457054 | G15: =E15/D15-1 -> 0.027917335 | H15: =E15/B15-1 -> -0.038992654 | I15: =F15/C15-1 -> -0.016290935
A16: Emerytury za przekazane gospodarstwo rolne następcy | B16: 2.7577399e+08 | C16: 5.3314671e+08 | D16: 2.5513127e+08 | E16: 2.6281378e+08 | F16: 5.1794504e+08 | G16: =E16/D16-1 -> 0.030111997 | H16: =E16/B16-1 -> -0.046995775 | I16: =F16/C16-1 -> -0.028513112
A17: Emerytury nie związane z przekazaniem gospodarstwa rolnego | B17: 13081065 | C17: 24977580 | D17: 13191827 | E17: 14023325 | F17: 27215151 | G17: =E17/D17-1 -> 0.063031303 | H17: =E17/B17-1 -> 0.072032286 | I17: =F17/C17-1 -> 0.089583161
A18: RENTY
A19: RENTY RAZEM z tego: | B19: =B20+B26 -> 1.1245924e+09 | C19: =C20+C26 -> 2.1094506e+09 | D19: =D20+D26 -> 1.1515771e+09 | E19: =E20+E26 -> 1.2341612e+09 | F19: =F20+F26 -> 2.3857384e+09 | G19: =E19/D19-1 -> 0.071713889 | H19: =E19/B19-1 -> 0.097429842 | I19: =F19/C19-1 -> 0.13097617
A20: RENTY Z TYTUŁU NIEZDOLNOŚCI DO PRACY RAZEM | B20: =SUM(B22:B25) -> 8.9009289e+08 | C20: =SUM(C22:C25) -> 1.6641003e+09 | D20: =SUM(D22:D25) -> 9.1087988e+08 | E20: =SUM(E22:E25) -> 9.7588121e+08 | F20: =SUM(F22:F25) -> 1.8867611e+09 | G20: =E20/D20-1 -> 0.071361033 | H20: =E20/B20-1 -> 0.096381312 | I20: =F20/C20-1 -> 0.13380248
A21: w tym renty z tytułu niezdolności do pracy wypadkowe | B21: 60969880 | C21: 1.1288931e+08 | D21: 61892309 | E21: 66411983 | F21: 1.2830429e+08 | G21: =E21/D21-1 -> 0.073024814 | H21: =E21/B21-1 -> 0.089258879 | I21: =F21/C21-1 -> 0.13654957
A22: Renty rolnicze z tytułu niezdolności do pracy | B22: 8.8133425e+08 | C22: 1.6472314e+09 | D22: 9.0276468e+08 | E22: 9.6752704e+08 | F22: 1.8702917e+09 | G22: =E22/D22-1 -> 0.071737802 | H22: =E22/B22-1 -> 0.097798066 | I22: =F22/C22-1 -> 0.13541529
A23: Renty z tytułu niezdolności do pracy za przekazane gospodarstwo rolne Państwu | B23: 545949.03 | C23: 1058305.7 | D23: 484057.51 | E23: 506976.72 | F23: 991034.23 | G23: =E23/D23-1 -> 0.047348114 | H23: =E23/B23-1 -> -0.071384521 | I23: =F23/C23-1 -> -0.063565245
A24: Renty z tytułu niezdolności do pracy za przekazane gospodarstwo rolne następcy | B24: 1641064.2 | C24: 3160726.5 | D24: 1527942.9 | E24: 1550614.2 | F24: 3078557.1 | G24: =E24/D24-1 -> 0.014837806 | H24: =E24/B24-1 -> -0.055116656 | I24: =F24/C24-1 -> -0.025996998
A25: Renty z tytułu niezdolności do pracy nie związane z przekazaniem gospodarstwa rolnego | B25: 6571628.8 | C25: 12649905 | D25: 6103200.9 | E25: 6296586.3 | F25: 12399787 | G25: =E25/D25-1 -> 0.031685886 | H25: =E25/B25-1 -> -0.041853029 | I25: =F25/C25-1 -> -0.019772299
A26: RENTY RODZINNE RAZEM | B26: =SUM(B28:B31) -> 2.3449947e+08 | C26: =SUM(C28:C31) -> 4.4535026e+08 | D26: =SUM(D28:D31) -> 2.4069726e+08 | E26: =SUM(E28:E31) -> 2.5828001e+08 | F26: =SUM(F28:F31) -> 4.9897727e+08 | G26: =E26/D26-1 -> 0.073049212 | H26: =E26/B26-1 -> 0.10140976 | I26: =F26/C26-1 -> 0.12041535
A27: w tym renty rodzinne wypadkowe | B27: 4666697.2 | C27: 8780262.1 | D27: 4739756.4 | E27: 5067654 | F27: 9807410.4 | G27: =E27/D27-1 -> 0.069180279 | H27: =E27/B27-1 -> 0.085918758 | I27: =F27/C27-1 -> 0.11698379
A28: Renty rodzinne rolnicze | B28: 2.2548941e+08 | C28: 4.2809355e+08 | D28: 2.3167046e+08 | E28: 2.4865855e+08 | F28: 4.8032901e+08 | G28: =E28/D28-1 -> 0.073328716 | H28: =E28/B28-1 -> 0.10275049 | I28: =F28/C28-1 -> 0.12201881
A29: Renty rodzinne za przekazane gospodarstwo rolne Państwu | B29: 1906681.2 | C29: 3660405.4 | D29: 1874245.2 | E29: 1995358.6 | F29: 3869603.8 | G29: =E29/D29-1 -> 0.064619832 | H29: =E29/B29-1 -> 0.046508782 | I29: =F29/C29-1 -> 0.057151691
A30: Renty rodzinne za przekazane gospodarstwo rolne następcy | B30: 4982652.1 | C30: 9574921.8 | D30: 4983708.6 | E30: 5318630.5 | F30: 10302339 | G30: =E30/D30-1 -> 0.067203352 | H30: =E30/B30-1 -> 0.067429639 | I30: =F30/C30-1 -> 0.075971099
A31: Renty rodzinne nie związane z przekazaniem gospodarstwa rolnego | B31: 2120732 | C31: 4021390.2 | D31: 2168851 | E31: 2307464.1 | F31: 4476315.1 | G31: =E31/D31-1 -> 0.063910812 | H31: =E31/B31-1 -> 0.088050768 | I31: =F31/C31-1 -> 0.11312628
A32: 1) Kwota nie obejmuje należnych świadczeń z innych systemów ubezpieczeniowych, wypłacanych w tzw. zbiegu z emeryturą lub rentą rolną.

Sheet Wykres 3
A1: ='Tab 2 (14) i wykres 1'!A1:E1 -> II. FUNDUSZ EMERYTALNO-RENTOWY | G1: Powrót do spisu treści
A3: Dane do wykresu nr 3
A4: Wyszczególnienie | B4: Emerytury | C4: Renty z tytułu niezdolności do pracy | D4: Renty rodzinne | E4: Emerytury finansowane z Funduszu Emerytalno-Rentowego, a wypłacane przez MON, MSWiA i MS | F4: Ogółem
A5: Kwota w zł | B5: ='Tab 5 (17)'!E13-'Wykres 3'!E5 -> 4.7146865e+09 | C5: ='Tab 5 (17)'!E20 -> 9.7588121e+08 | D5: ='Tab 5 (17)'!E26 -> 2.5828001e+08 | E5: 1089282.6 | F5: =SUM(B5:E5) -> 5.949937e+09
A6: Udział procentowy | B6: =ROUND(B5/$F$5,4) -> 0.7924 | C6: =ROUND(C5/$F$5,4) -> 0.164 | D6: =ROUND(D5/$F$5,4) -> 0.0434 | E6: =ROUND(E5/$F$5,4) -> 0.0002 | F6: =F5/$F$5 -> 1

Sheet Tab 6 (18)
A1: ='Tab 1 (13)'!A1 -> II. FUNDUSZ EMERYTALNO-RENTOWY
A3: TABLICA 6 (18). WYDATKI NA ŚWIADCZENIA EMERYTALNO-RENTOWE WEDŁUG WOJEWÓDZTW ORAZ ŚWIADCZENIA EMERYTALNE WYPŁACONE PRZEZ MON, MSWiA i MS | I3: Powrót do spisu treści
A4: Wyszczególnienie | B4: Ogółem1) | C4: z tego:
C5: emerytury | D5: renty razem | E5: z tego:
E6: z tytułu niezdolności do pracy | G6: rodzinne
E7: ogółem | F7: w tym wypadkowe | G7: ogółem | H7: w tym wypadkowe
B9: ='Tab 4 (16)'!B9:H9 -> I PÓŁROCZE 2024 R.
B10: w złotych
A11: OGÓŁEM | B11: =SUM(B12:B28) -> 1.1476026e+10 | C11: =SUM(C12:C28) -> 9.0902881e+09 | D11: =SUM(D12:D27) -> 2.3857384e+09 | E11: =SUM(E12:E27) -> 1.8867611e+09 | F11: =SUM(F12:F27) -> 1.2830429e+08 | G11: =SUM(G12:G27) -> 4.9897727e+08 | H11: =SUM(H12:H27) -> 9807410.4
A12: dolnośląskie | B12: =SUM(C12:D12) -> 4.2600167e+08 | C12: 3.4342007e+08 | D12: 82581595 | E12: 65750013 | F12: 4813537.8 | G12: 16831581 | H12: 245923.96
A13: kujawsko-pomorskie | B13: =SUM(C13:D13) -> 8.036998e+08 | C13: 6.3503594e+08 | D13: 1.6866386e+08 | E13: 1.3664578e+08 | F13: 11300869 | G13: 32018079 | H13: 815347.47
A14: lubelskie | B14: =SUM(C14:D14) -> 1.4512283e+09 | C14: 1.14809e+09 | D14: 3.0313833e+08 | E14: 242442238 | F14: 16051170 | G14: 60696090 | H14: 1263814
A15: lubuskie | B15: =SUM(C15:D15) -> 1.4326088e+08 | C15: 1.0782599e+08 | D15: 35434888 | E15: 29010550 | F15: 1841065.3 | G15: 6424338.2 | H15: 116301.84
A16: łódzkie | B16: =SUM(C16:D16) -> 978970138 | C16: 8.2532479e+08 | D16: 1.5364535e+08 | E16: 1.1131589e+08 | F16: 9677102.6 | G16: 42329452 | H16: 770576.28
A17: małopolskie | B17: =SUM(C17:D17) -> 9.9062103e+08 | C17: 6.839259e+08 | D17: 3.0669513e+08 | E17: 261752895 | F17: 12539361 | G17: 44942236 | H17: 813229.79
A18: mazowieckie | B18: =SUM(C18:D18) -> 1.7859359e+09 | C18: 1.4713693e+09 | D18: 3.1456662e+08 | E18: 2.3352804e+08 | F18: 17250738 | G18: 81038577 | H18: 1389961.9
A19: opolskie | B19: =SUM(C19:D19) -> 2.3026688e+08 | C19: 1.9927073e+08 | D19: 30996156 | E19: 22209094 | F19: 1760987.6 | G19: 8787062.8 | H19: 189102.84
A20: podkarpackie | B20: =SUM(C20:D20) -> 6.3969712e+08 | C20: 4.858895e+08 | D20: 1.5380762e+08 | E20: 1.2609742e+08 | F20: 6551645.9 | G20: 27710197 | H20: 363709.64
A21: podlaskie | B21: =SUM(C21:D21) -> 8.2348687e+08 | C21: 6.6685516e+08 | D21: 1.5663172e+08 | E21: 1.2008467e+08 | F21: 8523721.5 | G21: 36547046 | H21: 752953.16
A22: pomorskie | B22: =SUM(C22:D22) -> 3.8322503e+08 | C22: 2.9233887e+08 | D22: 90886156 | E22: 72141656 | F22: 4821402.1 | G22: 18744500 | H22: 374377.45
A23: śląskie | B23: =SUM(C23:D23) -> 3.0623199e+08 | C23: 2.4694151e+08 | D23: 59290472 | E23: 48030073 | F23: 3406454.7 | G23: 11260399 | H23: 227444.76
... A27: zachodniopomorskie | B27: =SUM(C27:D27) -> 2.4673794e+08 | C27: 1.9747585e+08 | D27: 49262090 | E27: 38377464 | F27: 2795760.5 | G27: 10884626 | H27: 193266.6
A28: Emerytury finansowane z funduszu emerytalno-rentowego, wypłacane przez MON, MSWiA, MS z tego: | B28: =B29+B30+B31 -> 2132147.3 | C28: =C29+C30+C31 -> 2132147.3 | D28: 0 | E28: 0 | F28: 0 | G28: 0 | H28: 0
A29: MON | B29: =C29 -> 408959.2 | C29: 408959.2 | D29: 0 | E29: 0 | F29: 0 | G29: 0 | H29: 0
A30: MSWiA | B30: =C30 -> 1576112.4 | C30: 1576112.4 | D30: 0 | E30: 0 | F30: 0 | G30: 0 | H30: 0
A31: MS | B31: =C31 -> 147075.68 | C31: 147075.68 | D31: 0 | E31: 0 | F31: 0 | G31: 0 | H31: 0
A32: 1) Kwota nie obejmuje należnych świadczeń z innych systemów ubezpieczeniowych, wypłacanych w tzw. zbiegu z emeryturą lub rentą rolną.

Sheet Tab 7 (19)
A1: ='Tab 1 (13)'!A1 -> II. FUNDUSZ EMERYTALNO-RENTOWY
A3: TABLICA 7 (19). PRZECIĘTNE MIESIĘCZNE ŚWIADCZENIE EMERYTALNO-RENTOWE WEDŁUG RODZAJÓW ŚWIADCZEŃ | J3: Powrót do spisu treści
A4: Wyszczególnienie | B4: ='Tab 5 (17)'!B4:C4 -> 2023 rok | D4: ='Tab 5 (17)'!D4:I4 -> 2024 rok
B5: ='Tab 5 (17)'!B5:B6 -> II kwartał | C5: ='Tab 5 (17)'!C5:C6 -> I półrocze | D5: ='Tab 5 (17)'!D5:D6 -> I kwartał | E5: ='Tab 5 (17)'!E5:E6 -> II kwartał | F5: ='Tab 5 (17)'!F5:F6 -> I półrocze | G5: porównanie (wzrost/spadek)
G6: ='Tab 5 (17)'!G6:G7 -> II kwartału 2024 r. z I kwartałem 2024 r. | H6: ='Tab 5 (17)'!H6:H7 -> II kwartału 2024 r. z II kwartałem 2023 r. | I6: ='Tab 5 (17)'!I6:I7 -> I półrocza 2024 r. z I półroczem 2023 r.
B7: w złotych
A8: OGÓŁEM1)
A9: EMERYTURY I RENTY z tego: | B9: 1817.67 | C9: 1689.53 | D9: 1901.95 | E9: 2048.2 | F9: 1975.07 | G9: =E9/D9-1 -> 0.076894766 | H9: =E9/B9-1 -> 0.1268272 | I9: =F9/C9-1 -> 0.16900558
A10: Emerytury | B10: 1837.1 | C10: 1704.75 | D10: 1915.66 | E10: 2065.19 | F10: 1990.43 | G10: =E10/D10-1 -> 0.078056649 | H10: =E10/B10-1 -> 0.12415764 | I10: =F10/C10-1 -> 0.16757882
A11: Renty | B11: 1748.59 | C11: 1635.5 | D11: 1851.59 | E11: 1985.77 | F11: 1918.66 | G11: =E11/D11-1 -> 0.072467447 | H11: =E11/B11-1 -> 0.13564072 | I11: =F11/C11-1 -> 0.1731336
A12: EMERYTURY
A13: EMERYTURY RAZEM | B13: 1837.1 | C13: 1704.75 | D13: 1915.66 | E13: 2065.19 | F13: 1990.43 | G13: =E13/D13-1 -> 0.078056649 | H13: =E13/B13-1 -> 0.12415764 | I13: =F13/C13-1 -> 0.16757882
A14: Emerytury rolnicze | B14: 1864.77 | C14: 1728.32 | D14: 1939.69 | E14: 2089.54 | F14: 2014.77 | G14: =E14/D14-1 -> 0.077254613 | H14: =E14/B14-1 -> 0.12053497 | I14: =F14/C14-1 -> 0.16573898
A15: Emerytury za przekazane gospodarstwo rolne Państwu | B15: 1497.28 | C15: 1410.55 | D15: 1589.24 | E15: 1710.54 | F15: 1648.5 | G15: =E15/D15-1 -> 0.076325791 | H15: =E15/B15-1 -> 0.14243161 | I15: =F15/C15-1 -> 0.16869306
A16: Emerytury za przekazane gospodarstwo rolne następcy | B16: 1579.52 | C16: 1491.8 | D16: 1657.37 | E16: 1791.09 | F16: 1722.63 | G16: =E16/D16-1 -> 0.080682044 | H16: =E16/B16-1 -> 0.13394576 | I16: =F16/C16-1 -> 0.15473254
A17: Emerytury nie związane z przekazaniem gospodarstwa rolnego | B17: 1785.57 | C17: 1692.36 | D17: 1857.74 | E17: 1998.19 | F17: 1927.56 | G17: =E17/D17-1 -> 0.075602614 | H17: =E17/B17-1 -> 0.11907682 | I17: =F17/C17-1 -> 0.13897752
A18: RENTY
A19: RENTY RAZEM z tego: | B19: 1748.59 | C19: 1635.5 | D19: 1851.59 | E19: 1985.77 | F19: 1918.66 | G19: =E19/D19-1 -> 0.072467447 | H19: =E19/B19-1 -> 0.13564072 | I19: =F19/C19-1 -> 0.1731336
A20: RENTY Z TYTUŁU NIEZDOLNOŚCI DO PRACY RAZEM | B20: 1712.46 | C20: 1595.25 | D20: 1817.8 | E20: 1949.38 | F20: 1883.56 | G20: =E20/D20-1 -> 0.072384201 | H20: =E20/B20-1 -> 0.13835068 | I20: =F20/C20-1 -> 0.18073029
A21: w tym renty z tytułu niezdolności do pracy wypadkowe | B21: 1751.15 | C21: 1615.64 | D21: 1844.39 | E21: 1981.21 | F21: 1912.76 | G21: =E21/D21-1 -> 0.074181708 | H21: =E21/B21-1 -> 0.13137652 | I21: =F21/C21-1 -> 0.18390235
A22: Renty rolnicze z tytułu niezdolności do pracy | B22: 1713.84 | C22: 1596.34 | D22: 1819.54 | E22: 1951.11 | F22: 1885.31 | G22: =E22/D22-1 -> 0.072309485 | H22: =E22/B22-1 -> 0.1384435 | I22: =F22/C22-1 -> 0.18102033
A23: Renty z tytułu niezdolności do pracy za przekazane gospodarstwo rolne Państwu | B23: 1429.19 | C23: 1313.03 | D23: 1475.79 | E23: 1579.37 | F23: 1527.02 | G23: =E23/D23-1 -> 0.070186138 | H23: =E23/B23-1 -> 0.1050805 | I23: =F23/C23-1 -> 0.16297419
A24: Renty z tytułu niezdolności do pracy za przekazane gospodarstwo rolne następcy | B24: 1320.24 | C24: 1249.79 | D24: 1363.02 | E24: 1451.89 | F24: 1406.38 | G24: =E24/D24-1 -> 0.065200804 | H24: =E24/B24-1 -> 0.099716718 | I24: =F24/C24-1 -> 0.12529305
A25: Renty z tytułu niezdolności do pracy nie związane z przekazaniem gospodarstwa rolnego | B25: 1683.31 | C25: 1592.18 | D25: 1748.77 | E25: 1886.9 | F25: 1816.29 | G25: =E25/D25-1 -> 0.078986945 | H25: =E25/B25-1 -> 0.12094623 | I25: =F25/C25-1 -> 0.1407567
A26: RENTY RODZINNE RAZEM | B26: 1900.8 | C26: 1805.76 | D26: 1991.69 | E26: 2136.47 | F26: 2064.09 | G26: =E26/D26-1 -> 0.072692035 | H26: =E26/B26-1 -> 0.12398464 | I26: =F26/C26-1 -> 0.14305888
A27: w tym renty rodzinne wypadkowe | B27: 1983.3 | C27: 1861.8 | D27: 2124.5 | E27: 2267.41 | F27: 2196.02 | G27: =E27/D27-1 -> 0.067267592 | H27: =E27/B27-1 -> 0.14325115 | I27: =F27/C27-1 -> 0.17951445
A28: Renty rodzinne rolnicze | B28: 1889.39 | C28: 1794.87 | D28: 1980.19 | E28: 2123.85 | F28: 2052.05 | G28: =E28/D28-1 -> 0.072548594 | H28: =E28/B28-1 -> 0.12409296 | I28: =F28/C28-1 -> 0.14328614
A29: Renty rodzinne za przekazane gospodarstwo rolne Państwu | B29: 2305.54 | C29: 2185.32 | D29: 2393.67 | E29: 2601.51 | F29: 2496.52 | G29: =E29/D29-1 -> 0.086829012 | H29: =E29/B29-1 -> 0.1283734 | I29: =F29/C29-1 -> 0.14240477
A30: Renty rodzinne za przekazane gospodarstwo rolne następcy | B30: 2249.5 | C30: 2142.52 | D30: 2359.71 | E30: 2548.46 | F30: 2453.52 | G30: =E30/D30-1 -> 0.079988643 | H30: =E30/B30-1 -> 0.13290064 | I30: =F30/C30-1 -> 0.14515617
A31: Renty rodzinne nie związane z przekazaniem gospodarstwa rolnego | B31: 2159.6 | C31: 2037.18 | D31: 2254.52 | E31: 2408.63 | F31: 2331.41 | G31: =E31/D31-1 -> 0.068356014 | H31: =E31/B31-1 -> 0.11531302 | I31: =F31/C31-1 -> 0.14443005
A32: 1) Kwota nie obejmuje należnych świadczeń z innych systemów ubezpieczeniowych, wypłacanych w tzw. zbiegu z emeryturą lub rentą rolną.

Sheet Tab 8 (20)
A1: ='Tab 1 (13)'!A1 -> II. FUNDUSZ EMERYTALNO-RENTOWY
A3: TABLICA 8 (20). PRZECIĘTNE MIESIĘCZNE ŚWIADCZENIE EMERYTALNO-RENTOWE WEDŁUG WOJEWÓDZTW ORAZ PRZECIĘTNE MIESIĘCZNE ŚWIADCZENIE EMERYTALNE WYPŁACONE PRZEZ MON, MSWiA i MS | I3: Powrót do spisu treści
A4: Wyszczególnienie | B4: Ogółem1) | C4: w tym:
C5: emerytury | D5: renty razem | E5: z tego:
E6: z tytułu niezdolności do pracy | G6: rodzinne
E7: ogółem | F7: w tym wypadkowe | G7: ogółem | H7: w tym wypadkowe
B9: ='Tab 6 (18)'!B9:H9 -> I PÓŁROCZE 2024 R.
B10: w złotych
A11: OGÓŁEM | B11: 1975.07 | C11: 1990.43 | D11: 1918.66 | E11: 1883.56 | F11: 1912.76 | G11: 2064.09 | H11: 2196.02
A12: dolnośląskie | B12: 1962.61 | C12: 1980.91 | D12: 1890 | E12: 1869.39 | F12: 1846.39 | G12: 1975.07 | H12: 2049.37
A13: kujawsko-pomorskie | B13: 2025.28 | C13: 2037.34 | D13: 1981.13 | E13: 1921.26 | F13: 1978.44 | G13: 2285.05 | H13: 2463.29
A14: lubelskie | B14: 1974.2 | C14: 1988.41 | D14: 1922.19 | E14: 1891.24 | F14: 1922.76 | G14: 2056.59 | H14: 2048.32
A15: lubuskie | B15: 1906.1 | C15: 1917.93 | D15: 1871 | E15: 1845.57 | F15: 1803.2 | G15: 1995.14 | H15: 1938.36
A16: łódzkie | B16: 1999.2 | C16: 1993.87 | D16: 2028.32 | E16: 1901.21 | F16: 1910.21 | G16: 2461.01 | H16: 3364.96
A17: małopolskie | B17: 1931.47 | C17: 1953.29 | D17: 1884.51 | E17: 1869.16 | F17: 1887.32 | G17: 1979.22 | H17: 2101.37
A18: mazowieckie | B18: 1990.85 | C18: 2009.62 | D18: 1907.52 | E18: 1878.53 | F18: 1930.04 | G18: 1996.27 | H18: 2135.12
A19: opolskie | B19: 2002.56 | C19: 2005.6 | D19: 1983.25 | E19: 1916.89 | F19: 1945.84 | G19: 2173.4 | H19: 2124.75
A20: podkarpackie | B20: 1957.12 | C20: 1978.34 | D20: 1892.99 | E20: 1859.54 | F20: 1847.09 | G20: 2061.77 | H20: 2316.62
A21: podlaskie | B21: 2002.07 | C21: 2018.04 | D21: 1936.81 | E21: 1881.53 | F21: 1930.19 | G21: 2143.77 | H21: 2201.62
A22: pomorskie | B22: 1998.11 | C22: 2020.1 | D22: 1930.5 | E22: 1893.58 | F22: 1944.9 | G22: 2087.13 | H22: 2228.44
... A27: zachodniopomorskie | B27: 1998.46 | C27: 2011.41 | D27: 1948.2 | E27: 1882.45 | F27: 1907.07 | G27: 2221.81 | H27: 2013.19
A28: Emerytury finansowane z funduszu emerytalno-rentowego, wypłacane przez MON, MSWiA, MS z tego: | B28: =C28 -> 897.37 | C28: 897.37 | D28: 0 | E28: 0 | F28: 0 | G28: 0 | H28: 0
A29: MON | B29: =C29 -> 1012.28 | C29: 1012.28 | D29: 0 | E29: 0 | F29: 0 | G29: 0 | H29: 0
A30: MSWiA | B30: =C30 -> 879.04 | C30: 879.04 | D30: 0 | E30: 0 | F30: 0 | G30: 0 | H30: 0
A31: MS | B31: =C31 -> 821.65 | C31: 821.65 | D31: 0 | E31: 0 | F31: 0 | G31: 0 | H31: 0
A32: 1) Kwota nie obejmuje należnych świadczeń z innych systemów ubezpieczeniowych, wypłacanych w tzw. zbiegu z emeryturą lub rentą rolną.

Sheet Tab 9 (21) i 10 (22)
A1: ='Tab 8 (20)'!A1:H1 -> II. FUNDUSZ EMERYTALNO-RENTOWY
A3: TABLICA 9 (21). ZASIŁKI MACIERZYŃSKIE | J3: Powrót do spisu treści
A4: Wyszczególnienie | B4: ='Tab 7 (19)'!B4:C4 -> 2023 rok | D4: ='Tab 7 (19)'!D4:D4 -> 2024 rok
B5: ='Tab 7 (19)'!B5:B6 -> II kwartał | C5: ='Tab 7 (19)'!C5:C6 -> I półrocze | D5: ='Tab 7 (19)'!D5:D6 -> I kwartał | E5: ='Tab 7 (19)'!E5:E6 -> II kwartał | F5: ='Tab 7 (19)'!F5:F6 -> I półrocze | G5: porównanie (wzrost/spadek)
G6: ='Tab 1 (13)'!G5 -> II kwartału 2024 r. z I kwartałem 2024 r. | H6: ='Tab 1 (13)'!H5 -> II kwartału 2024 r. z II kwartałem 2023 r. | I6: ='Tab 1 (13)'!I5 -> I półrocza 2024 r. z I półroczem 2023 r.
A7: Liczba świadczeń | B7: 29898 | C7: 60907 | D7: 27378 | E7: 26589 | F7: 53967 | G7: =E7/D7-1 -> -0.02881876 | H7: =E7/B7-1 -> -0.1106763 | I7: =F7/C7-1 -> -0.11394421
A8: Kwota wypłat w zł | B8: 29452933 | C8: 59999433 | D8: 27220070 | E8: 26548800 | F8: 53768869 | G8: =E8/D8-1 -> -0.024660854 | H8: =E8/B8-1 -> -0.098602519 | I8: =F8/C8-1 -> -0.10384371
A9: Przeciętne świadczenie w zł | B9: =ROUND(B8/B7,2) -> 985.11 | C9: =ROUND(C8/C7,2) -> 985.1 | D9: =ROUND(D8/D7,2) -> 994.23 | E9: =ROUND(E8/E7,2) -> 998.49 | F9: =ROUND(F8/F7,2) -> 996.33 | G9: =E9/D9-1 -> 0.0042847229 | H9: =E9/B9-1 -> 0.01358224 | I9: =F9/C9-1 -> 0.011399858
A11: TABLICA 10 (22). ZASIŁKI MACIERZYŃSKIE WEDŁUG WOJEWÓDZTW
A12: Wyszczególnienie | B12: Liczba świadczeń | C12: Kwota wypłat w zł | D12: Przeciętne świadczenie
B13: ='Tab 3 (15) i wykres 2'!B5:C5 -> II KWARTAŁ 2024 R.
A14: OGÓŁEM | B14: =SUM(B15:B30) -> 26589 | C14: =SUM(C15:C30) -> 26548800 | D14: =ROUND(C14/B14,2) -> 998.49
A15: dolnośląskie | B15: 445 | C15: 452121.83 | D15: =ROUND(C15/B15,2) -> 1016
A16: kujawsko-pomorskie | B16: 1201 | C16: 1207106.3 | D16: =ROUND(C16/B16,2) -> 1005.08
A17: lubelskie | B17: 3191 | C17: 3288921 | D17: =ROUND(C17/B17,2) -> 1030.69
A18: lubuskie | B18: 203 | C18: 208450.7 | D18: =ROUND(C18/B18,2) -> 1026.85
A19: łódzkie | B19: 1600 | C19: 1617115.4 | D19: =ROUND(C19/B19,2) -> 1010.7
A20: małopolskie | B20: 4976 | C20: 4859117.5 | D20: =ROUND(C20/B20,2) -> 976.51
A21: mazowieckie | B21: 3254 | C21: 3282081 | D21: =ROUND(C21/B21,2) -> 1008.63
A22: opolskie | B22: 550 | C22: 552554.8 | D22: =ROUND(C22/B22,2) -> 1004.65
A23: podkarpackie | B23: 2401 | C23: 2347817.7 | D23: =ROUND(C23/B23,2) -> 977.85
A24: podlaskie | B24: 2172 | C24: 2196866.1 | D24: =ROUND(C24/B24,2) -> 1011.45
A25: pomorskie | B25: 979 | C25: 969914.4 | D25: =ROUND(C25/B25,2) -> 990.72
A26: śląskie | B26: 629 | C26: 614576.2 | D26: =ROUND(C26/B26,2) -> 977.07
... A30: zachodniopomorskie | B30: 303 | C30: 296654.26 | D30: =ROUND(C30/B30,2) -> 979.06

Sheet Tab 11 (23) i 12 (24)
A1: ='Tab 9 (21) i 10 (22)'!A1:I1 -> II. FUNDUSZ EMERYTALNO-RENTOWY
A2: TABLICA 11 (23). ZASIŁKI POGRZEBOWE | J2: Powrót do spisu treści
A3: Wyszczególnienie | B3: ='Tab 9 (21) i 10 (22)'!B4:C4 -> 2023 rok | D3: ='Tab 9 (21) i 10 (22)'!D4:D4 -> 2024 rok
B4: ='Tab 9 (21) i 10 (22)'!B5 -> II kwartał | C4: ='Tab 9 (21) i 10 (22)'!C5 -> I półrocze | D4: ='Tab 9 (21) i 10 (22)'!D5 -> I kwartał | E4: ='Tab 9 (21) i 10 (22)'!E5 -> II kwartał | F4: ='Tab 9 (21) i 10 (22)'!F5 -> I półrocze | G4: porównanie (wzrost/spadek)
B5: ='Tab 9 (21) i 10 (22)'!B6 -> 0 | C5: ='Tab 9 (21) i 10 (22)'!C6 -> 0 | D5: ='Tab 9 (21) i 10 (22)'!D6 -> 0 | E5: ='Tab 9 (21) i 10 (22)'!E6 -> 0 | F5: ='Tab 9 (21) i 10 (22)'!F6 -> 0 | G5: ='Tab 9 (21) i 10 (22)'!G6 -> II kwartału 2024 r. z I kwartałem 2024 r. | H5: ='Tab 9 (21) i 10 (22)'!H6 -> II kwartału 2024 r. z II kwartałem 2023 r. | I5: ='Tab 9 (21) i 10 (22)'!I6 -> I półrocza 2024 r. z I półroczem 2023 r.
A6: ZASIŁKI POGRZEBOWE OGÓŁEM
A7: Liczba świadczeń | B7: =B11+B15+B19 -> 10441 | C7: =C11+C15+C19 -> 22797 | D7: =D11+D15+D19 -> 11502 | E7: =E11+E15+E19 -> 9813 | F7: =F11+F15+F19 -> 21315 | G7: =E7/D7-1 -> -0.14684403 | H7: =E7/B7-1 -> -0.060147495 | I7: =F7/C7-1 -> -0.065008554
A8: Kwota wypłat w zł | B8: =B12+B16+B20 -> 41762501 | C8: =C12+C16+C20 -> 91183664 | D8: =D12+D16+D20 -> 46005437 | E8: =E12+E16+E20 -> 39248334 | F8: =F12+F16+F20 -> 85253772 | G8: =E8/D8-1 -> -0.14687618 | H8: =E8/B8-1 -> -0.060201533 | I8: =F8/C8-1 -> -0.065032397
A9: Przeciętne świadczenie w zł | B9: =ROUND(B8/B7,2) -> 3999.86 | C9: =ROUND(C8/C7,2) -> 3999.81 | D9: =ROUND(D8/D7,2) -> 3999.78 | E9: =ROUND(E8/E7,2) -> 3999.63 | F9: =ROUND(F8/F7,2) -> 3999.71 | G9: =E9/D9-1 -> -3.7502063e-05 | H9: =E9/B9-1 -> -5.7502013e-05 | I9: =F9/C9-1 -> -2.5001188e-05
A10: ZASIŁKI POGRZEBOWE PO EMERYTACH I RENCISTACH
A11: Liczba świadczeń | B11: 9253 | C11: 20237 | D11: 10341 | E11: 8700 | F11: 19041 | G11: =E11/D11-1 -> -0.15868871 | H11: =E11/B11-1 -> -0.059764401 | I11: =F11/C11-1 -> -0.059099669
A12: Kwota wypłat w zł | B12: 37010501 | C12: 80943664 | D12: 41361437 | E12: 34798992 | F12: 76160429 | G12: =E12/D12-1 -> -0.15866096 | H12: =E12/B12-1 -> -0.059753555 | I12: =F12/C12-1 -> -0.05909338
A13: Przeciętne świadczenie w zł | B13: =ROUND(B12/B11,2) -> 3999.84 | C13: =ROUND(C12/C11,2) -> 3999.79 | D13: =ROUND(D12/D11,2) -> 3999.75 | E13: =ROUND(E12/E11,2) -> 3999.88 | F13: =ROUND(F12/F11,2) -> 3999.81 | G13: =E13/D13-1 -> 3.2502031e-05 | H13: =E13/B13-1 -> 1.00004e-05 | I13: =F13/C13-1 -> 5.0002625e-06
A14: ZASIŁKI POGRZEBOWE PO UBEZPIECZONYCH
A15: Liczba świadczeń | B15: 769 | C15: 1650 | D15: 766 | E15: 731 | F15: 1497 | G15: =E15/D15-1 -> -0.045691906 | H15: =E15/B15-1 -> -0.049414824 | I15: =F15/C15-1 -> -0.092727273
A16: Kwota wypłat w zł | B16: 3076000 | C16: 6600000 | D16: 3064000 | E16: 2921342.4 | F16: 5985342.4 | G16: =E16/D16-1 -> -0.046559256 | H16: =E16/B16-1 -> -0.050278791 | I16: =F16/C16-1 -> -0.093129933
A17: Przeciętne świadczenie w zł | B17: =ROUND(B16/B15,2) -> 4000 | C17: =ROUND(C16/C15,2) -> 4000 | D17: =ROUND(D16/D15,2) -> 4000 | E17: =ROUND(E16/E15,2) -> 3996.36 | F17: =ROUND(F16/F15,2) -> 3998.22 | G17: =E17/D17-1 -> -0.00091 | H17: =E17/B17-1 -> -0.00091 | I17: =F17/C17-1 -> -0.000445
A18: ZASIŁKI POGRZEBOWE PO CZŁONKACH RODZIN
A19: Liczba świadczeń | B19: 419 | C19: 910 | D19: 395 | E19: 382 | F19: 777 | G19: =E19/D19-1 -> -0.032911392 | H19: =E19/B19-1 -> -0.088305489 | I19: =F19/C19-1 -> -0.14615385
A20: Kwota wypłat w zł | B20: 1676000 | C20: 3640000 | D20: 1580000 | E20: 1528000 | F20: 3108000 | G20: =E20/D20-1 -> -0.032911392 | H20: =E20/B20-1 -> -0.088305489 | I20: =F20/C20-1 -> -0.14615385
A21: Przeciętne świadczenie w zł | B21: =ROUND(B20/B19,2) -> 4000 | C21: =ROUND(C20/C19,2) -> 4000 | D21: =ROUND(D20/D19,2) -> 4000 | E21: =ROUND(E20/E19,2) -> 4000 | F21: =ROUND(F20/F19,2) -> 4000 | G21: =E21/D21-1 -> 0 | H21: =E21/B21-1 -> 0 | I21: =F21/C21-1 -> 0
A23: TABLICA 12 (24). ZASIŁKI POGRZEBOWE WEDŁUG WOJEWÓDZTW
A24: Wyszczególnienie | B24: Zasiłki pogrzebowe
B25: Ogółem | D25: z tego:
D26: po emerytach, rencistach | F26: po ubezpieczonych | H26: po członkach rodzin
B27: Liczba świadczeń | C27: Kwota wypłat w zł | D27: Liczba świadczeń | E27: Kwota wypłat w zł | F27: Liczba świadczeń | G27: Kwota wypłat w zł | H27: Liczba świadczeń | I27: Kwota wypłat w zł
B28: ='Tab 9 (21) i 10 (22)'!B13:D13 -> II KWARTAŁ 2024 R.
A29: OGÓŁEM | B29: =SUM(B30:B45) -> 9813 | C29: =SUM(C30:C45) -> 39248334 | D29: =SUM(D30:D45) -> 8700 | E29: =SUM(E30:E45) -> 34798992 | F29: =SUM(F30:F45) -> 731 | G29: =SUM(G30:G45) -> 2921342.4 | H29: =SUM(H30:H45) -> 382 | I29: =SUM(I30:I45) -> 1528000
A30: dolnośląskie | B30: =D30+F30+H30 -> 324 | C30: =E30+G30+I30 -> 1296000 | D30: 274 | E30: 1096000 | F30: 31 | G30: 124000 | H30: 19 | I30: 76000
A31: kujawsko-pomorskie | B31: =D31+F31+H31 -> 638 | C31: =E31+G31+I31 -> 2552000 | D31: 575 | E31: 2300000 | F31: 41 | G31: 164000 | H31: 22 | I31: 88000
A32: lubelskie | B32: =D32+F32+H32 -> 1229 | C32: =E32+G32+I32 -> 4916000 | D32: 1086 | E32: 4344000 | F32: 98 | G32: 392000 | H32: 45 | I32: 180000
A33: lubuskie | B33: =D33+F33+H33 -> 95 | C33: =E33+G33+I33 -> 380000 | D33: 87 | E33: 348000 | F33: 3 | G33: 12000 | H33: 5 | I33: 20000
A34: łódzkie | B34: =D34+F34+H34 -> 859 | C34: =E34+G34+I34 -> 3435950 | D34: 771 | E34: 3083950 | F34: 60 | G34: 240000 | H34: 28 | I34: 112000
A35: małopolskie | B35: =D35+F35+H35 -> 814 | C35: =E35+G35+I35 -> 3255996 | D35: 688 | E35: 2751996 | F35: 70 | G35: 280000 | H35: 56 | I35: 224000
A36: mazowieckie | B36: =D36+F36+H36 -> 1667 | C36: =E36+G36+I36 -> 6667500 | D36: 1495 | E36: 5979500 | F36: 125 | G36: 500000 | H36: 47 | I36: 188000
A37: opolskie | B37: =D37+F37+H37 -> 219 | C37: =E37+G37+I37 -> 876000 | D37: 195 | E37: 780000 | F37: 14 | G37: 56000 | H37: 10 | I37: 40000
A38: podkarpackie | B38: =D38+F38+H38 -> 608 | C38: =E38+G38+I38 -> 2431546 | D38: 532 | E38: 2127546 | F38: 46 | G38: 184000 | H38: 30 | I38: 120000
A39: podlaskie | B39: =D39+F39+H39 -> 794 | C39: =E39+G39+I39 -> 3176000 | D39: 708 | E39: 2832000 | F39: 51 | G39: 204000 | H39: 35 | I39: 140000
A40: pomorskie | B40: =D40+F40+H40 -> 302 | C40: =E40+G40+I40 -> 1208000 | D40: 274 | E40: 1096000 | F40: 15 | G40: 60000 | H40: 13 | I40: 52000
A41: śląskie | B41: =D41+F41+H41 -> 212 | C41: =E41+G41+I41 -> 845342.44 | D41: 181 | E41: 724000 | F41: 27 | G41: 105342.44 | H41: 4 | I41: 16000
... A45: zachodniopomorskie | B45: =D45+F45+H45 -> 206 | C45: =E45+G45+I45 -> 824000 | D45: 187 | E45: 748000 | F45: 10 | G45: 40000 | H45: 9 | I45: 36000

Sheet Tab 1 (25)
A1: III. POZOSTAŁE ŚWIADCZENIA
A2: TABLICA 1 (25). ŚWIADCZENIA ZLECONE DO WYPŁATY KASIE ROLNICZEGO UBEZPIECZENIA SPOŁECZNEGO | J2: Powrót do spisu treści
A3: Wyszczególnienie | B3: ='Tab 11 (23) i 12 (24)'!B3:C3 -> 2023 rok | D3: ='Tab 11 (23) i 12 (24)'!D3:D3 -> 2024 rok
B4: ='Tab 11 (23) i 12 (24)'!B4:B5 -> II kwartał | C4: ='Tab 11 (23) i 12 (24)'!C4:C5 -> I półrocze | D4: ='Tab 11 (23) i 12 (24)'!D4:D5 -> I kwartał | E4: ='Tab 11 (23) i 12 (24)'!E4:E5 -> II kwartał | F4: ='Tab 11 (23) i 12 (24)'!F4:F5 -> I półrocze | G4: porównanie (wzrost/spadek)
G5: II kwartału 2024 r. z I kwartałem 2024 r. | H5: II kwartału 2024 r. z II kwartałem 2023 r. | I5: I półrocza 2024 r. z I półroczem 2023 r.
A6: ŚWIADCZENIA PIENIĘŻNE DLA INWALIDÓW WOJENNYCH, WOJSKOWYCH I OSÓB REPRESJONOWANYCH
A7: Przeciętna miesięczna liczba osób | B7: 2540 | C7: 2585 | D7: 2300 | E7: 2213 | F7: 2257 | G7: =E7/D7-1 -> -0.037826087 | H7: =E7/B7-1 -> -0.12874016 | I7: =F7/C7-1 -> -0.12688588
A8: Kwota wypłat w zł | B8: 23055702 | C8: 45010913 | D8: 21554581 | E8: 22395605 | F8: 43950186 | G8: =E8/D8-1 -> 0.039018359 | H8: =E8/B8-1 -> -0.028630539 | I8: =F8/C8-1 -> -0.023565996
A9: Przeciętne świadczenie w zł | B9: 3025.29 | C9: 2902.24 | D9: 3123.4 | E9: 3373.85 | F9: 3246.19 | G9: =E9/D9-1 -> 0.080185055 | H9: =E9/B9-1 -> 0.1152154 | I9: =F9/C9-1 -> 0.11851191
A10: ZASIŁKI POGRZEBOWE PO INWALIDACH WOJENNYCH, WOJSKOWYCH, OSOBACH REPRESJONOWANYCH I CZŁONKACH ICH RODZIN
A11: Liczba świadczeń | B11: 54 | C11: 129 | D11: 28 | E11: 17 | F11: 45 | G11: =E11/D11-1 -> -0.39285714 | H11: =E11/B11-1 -> -0.68518519 | I11: =F11/C11-1 -> -0.65116279
A12: Kwota wypłat w zł | B12: 216000 | C12: 516000 | D12: 112000 | E12: 68000 | F12: 180000 | G12: =E12/D12-1 -> -0.39285714 | H12: =E12/B12-1 -> -0.68518519 | I12: =F12/C12-1 -> -0.65116279
A13: Przeciętne świadczenie w zł | B13: =ROUND(B12/B11,2) -> 4000 | C13: =ROUND(C12/C11,2) -> 4000 | D13: =ROUND(D12/D11,2) -> 4000 | E13: =ROUND(E12/E11,2) -> 4000 | F13: =ROUND(F12/F11,2) -> 4000 | G13: =E13/D13-1 -> 0 | H13: =E13/B13-1 -> 0 | I13: =F13/C13-1 -> 0
A14: DODATKI KOMBATANCKIE
A15: Przeciętna miesięczna liczba świadczeń | B15: 7219 | C15: 7369 | D15: 6452 | E15: 6179 | F15: 6316 | G15: =E15/D15-1 -> -0.042312461 | H15: =E15/B15-1 -> -0.14406427 | I15: =F15/C15-1 -> -0.14289592
A16: Kwota wypłat w zł | B16: 6356237.9 | C16: 12400382 | D16: 5887229 | E16: 6083714.4 | F16: 11970943 | G16: =E16/D16-1 -> 0.033374861 | H16: =E16/B16-1 -> -0.042874956 | I16: =F16/C16-1 -> -0.034631095
A17: Przeciętne świadczenie w zł | B17: 293.48 | C17: 280.48 | D17: 304.14 | E17: 328.18 | F17: 315.9 | G17: =E17/D17-1 -> 0.079042546 | H17: =E17/B17-1 -> 0.11823634 | I17: =F17/C17-1 -> 0.12628351
A18: DODATKI PIENIĘŻNE DLA INWALIDÓW WOJENNYCH
A19: Przeciętna miesięczna liczba świadczeń | B19: 82 | C19: 87 | D19: 68 | E19: 62 | F19: 65 | G19: =E19/D19-1 -> -0.088235294 | H19: =E19/B19-1 -> -0.24390244 | I19: =F19/C19-1 -> -0.25287356
A20: Kwota wypłat w zł | B20: 278398.64 | C20: 560492.48 | D20: 238812.13 | E20: 236317.51 | F20: 475129.64 | G20: =E20/D20-1 -> -0.010445952 | H20: =E20/B20-1 -> -0.15115422 | I20: =F20/C20-1 -> -0.15229971
A21: Wysokość świadczenia w zł | B21: 1127.12 | C21: 1127.12 | D21: 1263.73 | E21: 1263.73 | F21: 1263.73 | G21: =E21/D21-1 -> 0 | H21: =E21/B21-1 -> 0.12120271 | I21: =F21/C21-1 -> 0.12120271
A22: RYCZAŁTY ENERGETYCZNE
A23: Przeciętna miesięczna liczba świadczeń | B23: 25432 | C23: 25920 | D23: 22771 | E23: 21884 | F23: 22328 | G23: =E23/D23-1 -> -0.038953054 | H23: =E23/B23-1 -> -0.13950928 | I23: =F23/C23-1 -> -0.13858025
A24: Kwota wypłat w zł | B24: 19420739 | C24: 36263857 | D24: 18351955 | E24: 19603354 | F24: 37955310 | G24: =E24/D24-1 -> 0.068188863 | H24: =E24/B24-1 -> 0.0094031242 | I24: =F24/C24-1 -> 0.046642945
A25: Przeciętne świadczenie w zł | B25: 254.55 | C25: 233.18 | D25: 268.65 | E25: 298.59 | F25: 283.32 | G25: =E25/D25-1 -> 0.11144612 | H25: =E25/B25-1 -> 0.1730112 | I25: =F25/C25-1 -> 0.21502702
A26: ŚWIADCZENIA PIENIĘŻNE DLA ŻOŁNIERZY ZASTĘPCZEJ SŁUŻBY WOJSKOWEJ
A27: Przeciętna miesięczna liczba świadczeń | B27: 1745 | C27: 1798 | D27: 1482 | E27: 1399 | F27: 1441 | G27: =E27/D27-1 -> -0.056005398 | H27: =E27/B27-1 -> -0.1982808 | I27: =F27/C27-1 -> -0.19855395
A28: Kwota wypłat w zł | B28: 1533239 | C28: 3017733.8 | D28: 1352404.6 | E28: 1375401.7 | F28: 2727806.3 | G28: =E28/D28-1 -> 0.017004593 | H28: =E28/B28-1 -> -0.10294374 | I28: =F28/C28-1 -> -0.096074578
A29: Przeciętne świadczenie w zł | B29: 292.94 | C29: 279.76 | D29: 304.18 | E29: 327.71 | F29: 315.61 | G29: =E29/D29-1 -> 0.077355513 | H29: =E29/B29-1 -> 0.11869325 | I29: =F29/C29-1 -> 0.12814555
A30: ŚWIADCZENIA PIENIĘŻNE DLA OSÓB DEPORTOWANYCH DO PRACY PRZYMUSOWEJ
A31: Przeciętna miesięczna liczba świadczeń | B31: 4814 | C31: 4926 | D31: 4273 | E31: 4107 | F31: 4190 | G31: =E31/D31-1 -> -0.038848584 | H31: =E31/B31-1 -> -0.14686332 | I31: =F31/C31-1 -> -0.14941129
A32: Kwota wypłat w zł | B32: 3750397.8 | C32: 7336953.9 | D32: 3439309.5 | E32: 3562835.7 | F32: 7002145.2 | G32: =E32/D32-1 -> 0.035915997 | H32: =E32/B32-1 -> -0.050011255 | I32: =F32/C32-1 -> -0.045633207
A33: Przeciętne świadczenie w zł | B33: 259.69 | C33: 248.25 | D33: 268.32 | E33: 289.19 | F33: 278.55 | G33: =E33/D33-1 -> 0.077780262 | H33: =E33/B33-1 -> 0.11359698 | I33: =F33/C33-1 -> 0.12205438
A34: DODATKI KOMPENSACYJNE
A35: Przeciętna miesięczna liczba świadczeń | B35: 20341 | C35: 20790 | D35: 17965 | E35: 17181 | F35: 17573 | G35: =E35/D35-1 -> -0.043640412 | H35: =E35/B35-1 -> -0.15535126 | I35: =F35/C35-1 -> -0.15473785
A36: Kwota wypłat w zł | B36: 2687384.6 | C36: 5247214.4 | D36: 2461238.6 | E36: 2539144 | F36: 5000382.6 | G36: =E36/D36-1 -> 0.031652962 | H36: =E36/B36-1 -> -0.055161629 | I36: =F36/C36-1 -> -0.047040544
A37: Przeciętne świadczenie w zł | B37: 44.04 | C37: 42.06 | D37: 45.67 | E37: 49.26 | F37: 47.42 | G37: =E37/D37-1 -> 0.078607401 | H37: =E37/B37-1 -> 0.11852861 | I37: =F37/C37-1 -> 0.12743699
A38: ŚWIADCZENIA PIENIĘŻNE DLA CYWILNYCH NIEWIDOMYCH OFIAR DZIAŁAŃ WOJENNYCH
A39: Przeciętna miesięczna liczba świadczeń | B39: 6 | C39: 6 | D39: 5 | E39: 5 | F39: 5 | G39: =E39/D39-1 -> 0 | H39: =E39/B39-1 -> -0.16666667 | I39: =F39/C39-1 -> -0.16666667
A40: Kwota wypłat w zł | B40: 22244.58 | C40: 42975.22 | D40: 19286.05 | E40: 20783.85 | F40: 40069.9 | G40: =E40/D40-1 -> 0.077662352 | H40: =E40/B40-1 -> -0.065666783 | I40: =F40/C40-1 -> -0.06760454
A41: Przeciętne świadczenie w zł | B41: 1235.81 | C41: 1161.49 | D41: 1285.74 | E41: 1385.59 | F41: 1335.66 | G41: =E41/D41-1 -> 0.077659558 | H41: =E41/B41-1 -> 0.12119986 | I41: =F41/C41-1 -> 0.14995394
A42: DODATKI DLA WETERANA POSZKODOWANEGO
A43: Przeciętna miesięczna liczba świadczeń | B43: 1 | C43: 1 | D43: 0 | E43: 0 | F43: 0 | G43: 0 | H43: =E43/B43-1 -> -1 | I43: =F43/C43-1 -> -1
A44: Kwota wypłat w zł | B44: 476.52 | C44: 903.04 | D44: 0 | E44: 0 | F44: 0 | G44: 0 | H44: =E44/B44-1 -> -1 | I44: =F44/C44-1 -> -1
A45: Przeciętne świadczenie w zł | B45: 158.84 | C45: 150.51 | D45: 0 | E45: 0 | F45: 0 | G45: 0 | H45: =E45/B45-1 -> -1 | I45: =F45/C45-1 -> -1
A46: RODZICIELSKIE ŚWIADCZENIA UZUPEŁNIAJĄCE
A47: Przeciętna miesięczna liczba osób | B47: 1363 | C47: 1352 | D47: 1411 | E47: 1420 | F47: 1416 | G47: =E47/D47-1 -> 0.006378455 | H47: =E47/B47-1 -> 0.041819516 | I47: =F47/C47-1 -> 0.047337278
A48: Kwota wypłat w zł | B48: 6666375.6 | C48: 12520539 | D48: 7140866.9 | E48: 7706213.3 | F48: 14847080 | G48: =E48/D48-1 -> 0.079170559 | H48: =E48/B48-1 -> 0.15598245 | I48: =F48/C48-1 -> 0.18581794
A49: Wysokość świadczenia w zł | B49: 1588.44 | C49: 1588.44 | D49: 1780.96 | E49: 1780.96 | F49: 1780.96 | G49: =E49/D49-1 -> 0 | H49: =E49/B49-1 -> 0.12120067 | I49: =F49/C49-1 -> 0.12120067
A50: RENTY SOCJALNE
A51: Przeciętna miesięczna liczba osób | B51: 11845 | C51: 11835 | D51: 11917 | E51: 11899 | F51: 11908 | G51: =E51/D51-1 -> -0.0015104473 | H51: =E51/B51-1 -> 0.0045588856 | I51: =F51/C51-1 -> 0.0061681453
A52: Kwota wypłat w zł | B52: 56984581 | C52: 1.0788339e+08 | D52: 59596664 | E52: 64122676 | F52: 1.2371934e+08 | G52: =E52/D52-1 -> 0.075944061 | H52: =E52/B52-1 -> 0.12526363 | I52: =F52/C52-1 -> 0.14678766
A53: Przeciętne świadczenie w zł | B53: 1603.62 | C53: 1519.33 | D53: 1667.04 | E53: 1796.35 | F53: 1731.65 | G53: =E53/D53-1 -> 0.077568625 | H53: =E53/B53-1 -> 0.12018433 | I53: =F53/C53-1 -> 0.13974581
A54: ŚWIADCZENIE UZUPEŁNIAJĄCE DLA OSÓB NIEZDOLNYCH DO SAMODZIELNEJ EGZYSTENCJI
A55: Przeciętna miesięczna liczba świadczeń | B55: 185766 | C55: 186550 | D55: 178611 | E55: 176325 | F55: 177468 | G55: =E55/D55-1 -> -0.012798764 | H55: =E55/B55-1 -> -0.050822002 | I55: =F55/C55-1 -> -0.048683999
A56: Kwota wypłat w zł | B56: 2.6653032e+08 | C56: 547922040 | D56: 2.5581283e+08 | E56: 2.5934046e+08 | F56: 5.1515329e+08 | G56: =E56/D56-1 -> 0.013789894 | H56: =E56/B56-1 -> -0.026975776 | I56: =F56/C56-1 -> -0.059805503
A57: Przeciętne świadczenie w zł | B57: 478.25 | C57: 489.52 | D57: 477.41 | E57: 490.27 | F57: 483.8 | G57: =E57/D57-1 -> 0.026937014 | H57: =E57/B57-1 -> 0.025133298 | I57: =F57/C57-1 -> -0.011684916
A58: ŚWIADCZENIA WYRÓWNAWCZE DLA DZIAŁACZY OPOZYCJI ANTYKOMUNISTYCZNEJ ORAZ OSÓB REPRESJONOWANYCH Z POWODÓW POLITYCZNYCH
A59: Przeciętna miesięczna liczba świadczeń | B59: 306 | C59: 305 | D59: 314 | E59: 319 | F59: 317 | G59: =E59/D59-1 -> 0.015923567 | H59: =E59/B59-1 -> 0.04248366 | I59: =F59/C59-1 -> 0.039344262
A60: Kwota wypłat w zł | B60: 1178067.7 | C60: 2349432 | D60: 1231471.2 | E60: 1366825.1 | F60: 2598296.3 | G60: =E60/D60-1 -> 0.10991236 | H60: =E60/B60-1 -> 0.16022627 | I60: =F60/C60-1 -> 0.10592532
A61: Przeciętne świadczenie w zł | B61: 1281.9 | C61: 1285.95 | D61: 1307.29 | E61: 1428.24 | F61: 1368.24 | G61: =E61/D61-1 -> 0.09251964 | H61: =E61/B61-1 -> 0.11415867 | I61: =F61/C61-1 -> 0.063991602
A62: ŚWIADCZENIA PIENIĘŻNE Z TYTUŁU PEŁNIENIA FUNKCJI SOŁTYSA
A63: Przeciętna miesięczna liczba świadczeń | B63: 0 | C63: 0 | D63: 31636 | E63: 32227 | F63: 31932 | G63: =E63/D63-1 -> 0.018681249 | H63: 0 | I63: 0
A64: Kwota wypłat w zł | B64: 0 | C64: 0 | D64: 29984265 | E64: 32896753 | F64: 62881019 | G64: =E64/D64-1 -> 0.097133877 | H64: 0 | I64: 0
A65: Wysokość świadczenia w zł | B65: 0 | C65: 0 | D65: 336.36 | E65: 336.36 | F65: 336.36 | G65: =E65/D65-1 -> 0 | H65: 0 | I65: 0

Sheet Tab 1 (26) i 2 (27)
A1: IV. FUNDUSZ SKŁADKOWY | J1: Powrót do spisu treści
A3: TABLICA 1 (26). ZASIŁKI CHOROBOWE I JEDNORAZOWE ODSZKODOWANIA
A4: Wyszczególnienie | B4: ='Tab 1 (25)'!B3:C3 -> 2023 rok | D4: ='Tab 1 (25)'!D3:D3 -> 2024 rok
B5: ='Tab 11 (23) i 12 (24)'!B4 -> II kwartał | C5: ='Tab 11 (23) i 12 (24)'!C4 -> I półrocze | D5: ='Tab 11 (23) i 12 (24)'!D4 -> I kwartał | E5: ='Tab 11 (23) i 12 (24)'!E4 -> II kwartał | F5: ='Tab 11 (23) i 12 (24)'!F4 -> I półrocze | G5: porównanie (wzrost/spadek)
B6: ='Tab 11 (23) i 12 (24)'!B5 -> 0 | C6: ='Tab 11 (23) i 12 (24)'!C5 -> 0 | D6: ='Tab 11 (23) i 12 (24)'!D5 -> 0 | E6: ='Tab 11 (23) i 12 (24)'!E5 -> 0 | F6: ='Tab 11 (23) i 12 (24)'!F5 -> 0 | G6: ='Tab 11 (23) i 12 (24)'!G5 -> II kwartału 2024 r. z I kwartałem 2024 r. | H6: ='Tab 11 (23) i 12 (24)'!H5 -> II kwartału 2024 r. z II kwartałem 2023 r. | I6: ='Tab 11 (23) i 12 (24)'!I5 -> I półrocza 2024 r. z I półroczem 2023 r.
A7: ZASIŁKI CHOROBOWE
A8: Liczba dni | B8: 6805408 | C8: 13200784 | D8: 6310700 | E8: 6285625 | F8: 12596325 | G8: =E8/D8-1 -> -0.0039734102 | H8: =E8/B8-1 -> -0.076377934 | I8: =F8/C8-1 -> -0.045789629
A9: w tym zasiłki chorobowe o przedłużonym okresie zasiłku | B9: 812681 | C9: 1531543 | D9: 717313 | E9: 787926 | F9: 1505239 | G9: =E9/D9-1 -> 0.098440987 | H9: =E9/B9-1 -> -0.030460907 | I9: =F9/C9-1 -> -0.017174836
A10: Kwota wypłat w zł | B10: 136140693 | C10: 264083243 | D10: 1.2621523e+08 | E10: 125712597 | F10: 2.5192782e+08 | G10: =E10/D10-1 -> -0.0039823157 | H10: =E10/B10-1 -> -0.076597935 | I10: =F10/C10-1 -> -0.046028745
A11: w tym zasiłki chorobowe o przedłużonym okresie zasiłku | B11: 16256860 | C11: 30634200 | D11: 14346260 | E11: 15759840 | F11: 30106100 | G11: =E11/D11-1 -> 0.098532997 | H11: =E11/B11-1 -> -0.03057294 | I11: =F11/C11-1 -> -0.017238903
A12: Przeciętny zasiłek za 1 dzień w zł | B12: =ROUND(B10/B8,2) -> 20 | C12: =ROUND(C10/C8,2) -> 20.01 | D12: =ROUND(D10/D8,2) -> 20 | E12: =ROUND(E10/E8,2) -> 20 | F12: =ROUND(F10/F8,2) -> 20 | G12: =E12/D12-1 -> 0 | H12: =E12/B12-1 -> 0 | I12: =F12/C12-1 -> -0.00049975012
A13: JEDNORAZOWE ODSZKODOWANIA | O13: =2323.69+44.55 -> 2368.24
A14: Liczba świadczeń | B14: 2347 | C14: 4464 | D14: 2006 | E14: 2217 | F14: 4223 | G14: =E14/D14-1 -> 0.10518445 | H14: =E14/B14-1 -> -0.055389859 | I14: =F14/C14-1 -> -0.053987455
A15: Kwota wypłat w zł | B15: 18385532 | C15: 35065940 | D15: 15358033 | E15: 16793402 | F15: 32151435 | G15: =E15/D15-1 -> 0.093460471 | H15: =E15/B15-1 -> -0.086596896 | I15: =F15/C15-1 -> -0.083114983
A16: Przeciętne świadczenie w zł | B16: =ROUND(B15/B14,2) -> 7833.63 | C16: =ROUND(C15/C14,2) -> 7855.27 | D16: =ROUND(D15/D14,2) -> 7656.05 | E16: =ROUND(E15/E14,2) -> 7574.83 | F16: =ROUND(F15/F14,2) -> 7613.41 | G16: =E16/D16-1 -> -0.010608604 | H16: =E16/B16-1 -> -0.033037047 | I16: =F16/C16-1 -> -0.030789521
A18: TABLICA 2 (27). ZASIŁKI CHOROBOWE I JEDNORAZOWE ODSZKODOWANIA WEDŁUG WOJEWÓDZTW
A19: Wyszczególnienie | B19: Zasiłki chorobowe | F19: Jednorazowe odszkodowania
B20: ogółem | D20: w tym: zasiłki chorobowe o przedłużonym okresie zasiłku
B21: Liczba dni | C21: Kwota wypłat w zł | D21: Liczba dni | E21: Kwota wypłat w zł | F21: Liczba świadczeń | G21: Kwota wypłat w zł
B22: ='Tab 11 (23) i 12 (24)'!B28:I28 -> II KWARTAŁ 2024 R.
A23: OGÓŁEM | B23: =SUM(B24:B39) -> 6285625 | C23: =SUM(C24:C39) -> 125712597 | D23: =SUM(D24:D39) -> 787926 | E23: =SUM(E24:E39) -> 15759840 | F23: =SUM(F24:F39) -> 2217 | G23: =SUM(G24:G39) -> 16793402
A24: dolnośląskie | B24: 144381 | C24: 2887620 | D24: 23486 | E24: 469720 | F24: 54 | G24: 300603
A25: kujawsko-pomorskie | B25: 359360 | C25: 7187200 | D25: 61362 | E25: 1227240 | F25: 153 | G25: 1218424
A26: lubelskie | B26: 1049464 | C26: 20989420 | D26: 124361 | E26: 2487260 | F26: 353 | G26: 2882070
A27: lubuskie | B27: 48597 | C27: 971940 | D27: 9270 | E27: 185400 | F27: 24 | G27: 245854
A28: łódzkie | B28: 591425 | C28: 11828380 | D28: 76291 | E28: 1525820 | F28: 179 | G28: 1218940
A29: małopolskie | B29: 647626 | C29: 12952240 | D29: 59719 | E29: 1194380 | F29: 194 | G29: 1424507
A30: mazowieckie | B30: 827428 | C30: 16548580 | D30: 107241 | E30: 2144840 | F30: 303 | G30: 2666353
A31: opolskie | B31: 86860 | C31: 1737200 | D31: 7261 | E31: 145220 | F31: 26 | G31: 225194
A32: podkarpackie | B32: 559744 | C32: 11194980 | D32: 48127 | E32: 962640 | F32: 135 | G32: 916788
A33: podlaskie | B33: 330220 | C33: 6604400 | D33: 73880 | E33: 1477600 | F33: 197 | G33: 1392484
A34: pomorskie | B34: 210975 | C34: 4221637 | D34: 37635 | E34: 753840 | F34: 80 | G34: 650529
A35: śląskie | B35: 126117 | C35: 2522320 | D35: 14782 | E35: 295640 | F35: 25 | G35: 274778
... A39: zachodniopomorskie | B39: 79726 | C39: 1594520 | D39: 11416 | E39: 228320 | F39: 30 | G39: 160632

Sheet Wykres 4
A1: IV. FUNDUSZ SKŁADKOWY
H2: Powrót do spisu treści
A30: Dane do wykresu nr 4
B31: Zasiłki chorobowe | C31: Jednorazowe odszkodowania | D31: Ogółem
A32: Kwota w zł | B32: ='Tab 1 (26) i 2 (27)'!E10 -> 125712597 | C32: ='Tab 1 (26) i 2 (27)'!E15 -> 16793402 | D32: =SUM(B32:C32) -> 142505999
A33: Udział procentowy | B33: =B32/$D$32 -> 0.88215653 | C33: =C32/$D$32 -> 0.11784347 | D33: =D32/$D$32 -> 1

Sheet Tab 3 (28) i 4 (29)
A1: ='Tab 1 (26) i 2 (27)'!A1:E1 -> IV. FUNDUSZ SKŁADKOWY
A2: TABLICA 3 (28). WYPADKI PRZY PRACY ROLNICZEJ I CHOROBY ZAWODOWE ROLNIKÓW | K2: Powrót do spisu treści
A3: Wyszczególnienie | C3: 2023 rok | E3: 2024 rok
C4: ='Tab 1 (26) i 2 (27)'!B5 -> II kwartał | D4: ='Tab 1 (26) i 2 (27)'!C5 -> I półrocze | E4: ='Tab 1 (26) i 2 (27)'!D5 -> I kwartał | F4: ='Tab 1 (26) i 2 (27)'!E5 -> II kwartał | G4: ='Tab 1 (26) i 2 (27)'!F5 -> I półrocze | H4: porównanie (wzrost/spadek)
H5: II kwartału 2024 r. z I kwartałem 2024 r. | I5: II kwartału 2024 r. z II kwartałem 2023 r. | J5: I półrocza 2024 r. z I półroczem 2023 r.
A6: WYPADKI PRZY PRACY ROLNICZEJ
A7: Liczba zdarzeń zgłoszonych jako wypadki przy pracy rolniczej | C7: 2586 | D7: 5425 | E7: 2581 | F7: 2500 | G7: 5081 | H7: =F7/E7-1 -> -0.031383185 | I7: =F7/C7-1 -> -0.033255994 | J7: =G7/D7-1 -> -0.063410138
A8: Liczba zdarzeń uznanych za wypadki przy pracy rolniczej | C8: 2763 | D8: 5520 | E8: 2532 | F8: 2548 | G8: 5080 | H8: =F8/E8-1 -> 0.0063191153 | I8: =F8/C8-1 -> -0.07781397 | J8: =G8/D8-1 -> -0.079710145
A9: Liczba decyzji przyznających świadczenia | C9: 2288 | D9: 4584 | E9: 2140 | F9: 2141 | G9: 4281 | H9: =F9/E9-1 -> 0.00046728972 | I9: =F9/C9-1 -> -0.064248252 | J9: =G9/D9-1 -> -0.066099476
A10: w tym śmiertelnych | C10: 13 | D10: 26 | E10: 8 | F10: 6 | G10: 14 | H10: =F10/E10-1 -> -0.25 | I10: =F10/C10-1 -> -0.53846154 | J10: =G10/D10-1 -> -0.46153846
A11: Liczba decyzji odmawiających świadczenia | C11: 796 | D11: 1655 | E11: 729 | F11: 661 | G11: 1390 | H11: =F11/E11-1 -> -0.093278464 | I11: =F11/C11-1 -> -0.16959799 | J11: =G11/D11-1 -> -0.16012085
A12: CHOROBY ZAWODOWE
A13: Liczba zarejestrowanych wniosków o jednorazowe odszkodowanie zakończonych wydaniem decyzji | C13: 59 | D13: 124 | E13: 60 | F13: 90 | G13: 150 | H13: =F13/E13-1 -> 0.5 | I13: =F13/C13-1 -> 0.52542373 | J13: =G13/D13-1 -> 0.20967742
A14: Liczba decyzji przyznających świadczenia | C14: 46 | D14: 94 | E14: 44 | F14: 71 | G14: 115 | H14: =F14/E14-1 -> 0.61363636 | I14: =F14/C14-1 -> 0.54347826 | J14: =G14/D14-1 -> 0.22340426
A15: w tym śmiertelnych | C15: 0 | D15: 0 | E15: 1 | F15: 1 | G15: 2 | H15: =F15/E15-1 -> 0 | I15: - | J15: -
A16: Liczba decyzji odmawiających świadczenia | C16: 12 | D16: 29 | E16: 15 | F16: 18 | G16: 33 | H16: =F16/E16-1 -> 0.2 | I16: =F16/C16-1 -> 0.5 | J16: =G16/D16-1 -> 0.13793103
A18: TABLICA 4 (29). WYPADKI I CHOROBY ZAWODOWE, Z TYTUŁU KTÓRYCH PRZYZNANO JEDNORAZOWE ODSZKODOWANIA WEDŁUG WOJEWÓDZTW
A19: Wyszczególnienie | B19: Liczba wypadków | E19: z tego według rodzajów zdarzeń: | J19: Liczba chorób zawodowych
B20: Ogółem | C20: w tym śmiertelnych | D20: na 1000 ubezpieczonych (wg decyzji przyznających jednorazowe odszkodowania) | E20: upadek osób | F20: upadek przedmiotów | G20: pochwycenie, uderzenie przez części ruchome maszyn i urządzeń | H20: uderzenie, przygniecenie, pogryzienie przez zwierzęta | I20: pozostałe
B21: ='Tab 8 (20)'!B9:H9 -> I PÓŁROCZE 2024 R.
A22: OGÓŁEM | B22: =SUM(B23:B38) -> 4281 | C22: =SUM(C23:C38) -> 14 | D22: 4.2 | E22: =SUM(E23:E38) -> 2217 | F22: =SUM(F23:F38) -> 278 | G22: =SUM(G23:G38) -> 441 | H22: =SUM(H23:H38) -> 502 | I22: =SUM(I23:I38) -> 843 | J22: =SUM(J23:J38) -> 115
A23: dolnośląskie | B23: 114 | C23: 0 | D23: 3.3 | E23: 60 | F23: 13 | G23: 12 | H23: 4 | I23: 25 | J23: 0
A24: kujawsko pomorskie | B24: 321 | C24: 1 | D24: 5.9 | E24: 150 | F24: 23 | G24: 28 | H24: 52 | I24: 68 | J24: 0
A25: lubelskie | B25: 635 | C25: 0 | D25: 4.9 | E25: 348 | F25: 40 | G25: 44 | H25: 35 | I25: 168 | J25: 16
A26: lubuskie | B26: 45 | C26: 0 | D26: 3.8 | E26: 22 | F26: 4 | G26: 6 | H26: 6 | I26: 7 | J26: 3
A27: łódzkie | B27: 371 | C27: 1 | D27: 4.6 | E27: 189 | F27: 32 | G27: 42 | H27: 44 | I27: 64 | J27: 0
A28: małopolskie | B28: 365 | C28: 1 | D28: 2.9 | E28: 221 | F28: 15 | G28: 34 | H28: 19 | I28: 76 | J28: 8
A29: mazowieckie | B29: 563 | C29: 1 | D29: 3.9 | E29: 264 | F29: 44 | G29: 70 | H29: 77 | I29: 108 | J29: 32
A30: opolskie | B30: 52 | C30: 0 | D30: 2.4 | E30: 30 | F30: 4 | G30: 5 | H30: 8 | I30: 5 | J30: 0
A31: podkarpackie | B31: 284 | C31: 1 | D31: 3.7 | E31: 170 | F31: 13 | G31: 34 | H31: 12 | I31: 55 | J31: 10
A32: podlaskie | B32: 376 | C32: 0 | D32: 5.2 | E32: 158 | F32: 26 | G32: 50 | H32: 96 | I32: 46 | J32: 24
A33: pomorskie | B33: 166 | C33: 0 | D33: 4.8 | E33: 84 | F33: 5 | G33: 19 | H33: 20 | I33: 38 | J33: 1
A34: śląskie | B34: 61 | C34: 0 | D34: 2.2 | E34: 45 | F34: 3 | G34: 3 | H34: 3 | I34: 7 | J34: 0
... A38: zachodniopomorskie | B38: 54 | C38: 0 | D38: 2.7 | E38: 24 | F38: 3 | G38: 7 | H38: 4 | I38: 16 | J38: 2

Sheet Wykres 5
B1: IV. FUNDUSZ SKŁADKOWY
N2: Powrót do spisu treści
B18: Dane do wykresu nr 5
C19: Upadek osób | D19: Upadek przedmiotów | E19: Pochwycenie, uderzenie przez części ruchome maszyn i urządzeń | F19: Uderzenie, przygniecenie, pogryzienie przez zwierzęta | G19: Pozostałe | H19: Ogółem
B20: Liczba | C20: ='Tab 3 (28) i 4 (29)'!E22 -> 2217 | D20: ='Tab 3 (28) i 4 (29)'!F22 -> 278 | E20: ='Tab 3 (28) i 4 (29)'!G22 -> 441 | F20: ='Tab 3 (28) i 4 (29)'!H22 -> 502 | G20: ='Tab 3 (28) i 4 (29)'!I22 -> 843 | H20: =SUM(C20:G20) -> 4281
B21: Udział procentowy | C21: =ROUND(C20/$H$20,2) -> 0.52 | D21: =ROUND(D20/$H$20,2) -> 0.06 | E21: =ROUND(E20/$H$20,2) -> 0.1 | F21: =ROUND(F20/$H$20,2) -> 0.12 | G21: =ROUND(G20/$H$20,2) -> 0.2 | H21: =H20/$H$20 -> 1

Sheet Tab 1 (30)
A1: V. UBEZPIECZENIE SPOŁECZNE ROLNIKÓW
A2: TABLICA 1 (30). LICZBA PŁATNIKÓW SKŁADEK WEDŁUG WOJEWÓDZTW | M2: Powrót do spisu treści
A3: Wyszczególnienie | B3: Liczba płatników ogółem | C3: w tym: | E3: z tego:
C4: liczba płatników czynnych | D4: w tym płatników czynnych, którzy zawarli z pomocnikami umowy o pomocy przy zbiorach | E4: w Funduszu Składkowym (wyłącznie ubezpieczenie wypadkowe, chorobowe i macierzyńskie) | G4: w Funduszu Emerytalno-Rentowym (wyłącznie ubezpieczenie emerytalno-rentowe) | K4: w Funduszu Składkowym i Emerytalno-Rentowym (łącznie ubezpieczenie wypadkowe, chorobowe i macierzyńskie oraz emerytalno-rentowe)
E5: razem | F5: w tym czynnych | G5: razem | H5: w tym czynnych | I5: w tym | K5: razem | L5: w tym czynnych
I6: pobierających renty strukturalne | J6: konta założone w związku z art. 16c
B7: STAN NA DZIEŃ 30 CZERWCA 2024 R.
A8: OGÓŁEM | B8: =SUM(B9:B24) -> 782167 | C8: =SUM(C9:C24) -> 759274 | D8: =SUM(D9:D24) -> 1451 | E8: =SUM(E9:E24) -> 5882 | F8: =SUM(F9:F24) -> 4349 | G8: =SUM(G9:G24) -> 9717 | H8: =SUM(H9:H24) -> 7238 | I8: =SUM(I9:I24) -> 0 | ... L8: =SUM(L9:L24) -> 747687
A9: dolnośląskie | B9: =E9+G9+K9 -> 28083 | C9: 26644 | D9: 82 | E9: 204 | F9: 81 | G9: 511 | H9: 268 | I9: 0 | J9: 0 | K9: 27368 | L9: 26295
A10: kujawsko-pomorskie | B10: =E10+G10+K10 -> 40571 | C10: 39368 | D10: 36 | E10: 349 | F10: 298 | G10: 449 | H10: 366 | I10: 0 | J10: 0 | K10: 39773 | L10: 38704
A11: lubelskie | B11: =E11+G11+K11 -> 102258 | C11: 99053 | D11: 105 | E11: 366 | F11: 244 | G11: 823 | H11: 628 | I11: 0 | J11: 0 | K11: 101069 | L11: 98181
A12: lubuskie | B12: =E12+G12+K12 -> 9629 | C12: 9288 | D12: 16 | E12: 60 | F12: 49 | G12: 137 | H12: 108 | I12: 0 | J12: 0 | K12: 9432 | L12: 9131
A13: łódzkie | B13: =E13+G13+K13 -> 62578 | C13: 60257 | D13: 178 | E13: 630 | F13: 450 | G13: 877 | H13: 562 | I13: 0 | J13: 0 | K13: 61071 | L13: 59245
A14: małopolskie | B14: =E14+G14+K14 -> 94286 | C14: 92250 | D14: 48 | E14: 1649 | F14: 1458 | G14: 1204 | H14: 997 | I14: 0 | J14: 0 | K14: 91433 | L14: 89795
A15: mazowieckie | B15: =E15+G15+K15 -> 109014 | C15: 105626 | D15: 577 | E15: 889 | F15: 503 | G15: 1366 | H15: 941 | I15: 0 | J15: 0 | K15: 106759 | L15: 104182
A16: opolskie | B16: =E16+G16+K16 -> 16522 | C16: 16187 | D16: 10 | E16: 49 | F16: 32 | G16: 150 | H16: 119 | I16: 0 | J16: 0 | K16: 16323 | L16: 16036
A17: podkarpackie | B17: =E17+G17+K17 -> 61499 | C17: 60260 | D17: 13 | E17: 259 | F17: 204 | G17: 759 | H17: 665 | I17: 0 | J17: 0 | K17: 60481 | L17: 59391
A18: podlaskie | B18: =E18+G18+K18 -> 50336 | C18: 49356 | D18: 5 | E18: 175 | F18: 144 | G18: 559 | H18: 481 | I18: 0 | J18: 0 | K18: 49602 | L18: 48731
A19: pomorskie | B19: =E19+G19+K19 -> 24996 | C19: 24130 | D19: 37 | E19: 178 | F19: 91 | G19: 418 | H19: 255 | I19: 0 | J19: 0 | K19: 24400 | L19: 23784
A20: śląskie | B20: =E20+G20+K20 -> 22767 | C20: 22197 | D20: 25 | E20: 86 | F20: 50 | G20: 365 | H20: 300 | I20: 0 | J20: 0 | K20: 22316 | L20: 21847
... A24: zachodniopomorskie | B24: =E24+G24+K24 -> 16848 | C24: 15764 | D24: 24 | E24: 130 | F24: 43 | G24: 399 | H24: 178 | I24: 0 | J24: 0 | K24: 16319 | L24: 15543

Sheet Tab 2 (31) i 3 (32)
A1: ='Tab 4 (33)'!A1:H1 -> V. UBEZPIECZENIE SPOŁECZNE ROLNIKÓW
A2: TABLICA 2 (31). LICZBA UBEZPIECZONYCH WEDŁUG STATUSU UBEZPIECZONEGO | J2: Powrót do spisu treści
A3: Wyszczególnienie | B3: Ogółem 1) 2) 3) | C3: z tego:
C4: Fundusz Składkowy (ubezpieczenie wypadkowe, chorobowe i macierzyńskie na wniosek) | D4: Fundusz Składkowy (ubezpieczenie wypadkowe, chorobowe i macierzyńskie z mocy ustawy w zakresie ograniczonym) 1) | E4: Fundusz Emerytalno-Rentowy (ubezpieczenie emerytalno-rentowe na wniosek) | F4: Fundusz Emerytalno-Rentowy (ubezpieczenie emerytalno-rentowe z mocy ustawy) 2) | G4: Fundusz Składkowy i Emerytalno-Rentowy (łącznie objętych ubezpieczeniem wypadkowym, chorobowym i macierzyńskim oraz ubezpieczeniem emerytalno-rentowym) | H4: w tym: ubezpieczeni na wniosek
B5: ='Tab 1 (30)'!B7:L7 -> STAN NA DZIEŃ 30 CZERWCA 2024 R.
A6: OGÓŁEM | B6: =SUM(B8:B13) -> 1021755 | C6: =SUM(C8:C13) -> 9148 | D6: =SUM(D8:D13) -> 7991 | E6: =SUM(E8:E13) -> 16559 | F6: =SUM(F8:F13) -> 0 | G6: =SUM(G8:G13) -> 988057 | H6: =SUM(H8:H13) -> 108814
A7: z tego:
A8: Liczba rolników | B8: 606075 | C8: 4888 | D8: 0 | E8: 3662 | F8: 0 | G8: 597525 | H8: 68971
A9: Liczba współmałżonków | B9: 258884 | C9: 1503 | D9: 0 | E9: 1651 | F9: 0 | G9: 255730 | H9: 21042
A10: Liczba domowników | B10: 137887 | C10: 2757 | D10: 0 | E10: 328 | F10: 0 | G10: 134802 | H10: 18801
A11: Liczba pomocników rolnika | B11: 7991 | C11: 0 | D11: 7991 | E11: 0 | F11: 0 | G11: 0 | H11: 0
A12: Liczba ubezpieczonych z tytułu przyznania świadczenia pielęgnacyjnego lub specjalnego zasiłku opiekuńczego albo zasiłku dla opiekuna | B12: 10909 | C12: 0 | D12: 0 | E12: 10909 | F12: 0 | G12: 0 | H12: 0
A13: Liczba członków rodzin sprawujących opiekę nad dzieckiem 3) | B13: 9 | C13: 0 | D13: 0 | E13: 9 | F13: 0 | G13: 0 | H13: 0
A14: 1) Liczba pomocników rolnika podlegających ubezpieczeniu wypadkowemu, chorobowemu i macierzyńskiemu z mocy ustawy w zakresie ograniczonym do jednorazowego odszkodowania z tytułu stałego lub długotrwałego uszczerbku na zdrowiu albo śmierci wskutek wypadku przy pracy rolniczej lub rolniczej choroby zawodowej z tytułu świadczenia odpłatnej pomocy rolnikowi na podstawie umowy o pomocy przy zbiorach.
A15: 2) Liczba rolników/współmałżonków podlegających obowiązkowo ubezpieczeniu z tytułu pobierania renty strukturalnej przyznanej i wypłacanej przez Agencję Restrukturyzacji i Modernizacji Rolnictwa zgodnie z ustawą z dnia 28 listopada 2003 r. o wspieraniu rozwoju obszarów wiejskich ze środków pochodzących z Sekcji Gwarancji Europejskiego Funduszu Orientacji i Gwarancji Rolnej.
A16: 3) Liczba członków rodzin (rolnika lub domownika) sprawujących opiekę nad dzieckiem podlegających ubezpieczeniu emerytalno-rentowemu na wniosek na podstawie art.16c ustawy o ubezpieczeniu społecznym rolników.
A18: TABLICA 3 (32). LICZBA UBEZPIECZONYCH I PŁATNIKÓW SKŁADEK
A19: Wyszczególnienie | B19: ='Tab 1 (26) i 2 (27)'!B4:C4 -> 2023 rok | D19: ='Tab 1 (26) i 2 (27)'!D4:D4 -> 2024 rok
B20: II kwartał (stan na dzień 30 czerwca) | C20: Przeciętna za I półrocze | D20: I kwartał (stan na dzień 31 marca) | E20: II kwartał (stan na dzień 30 czerwca) | F20: Przeciętna za I półrocze | G20: porównanie (wzrost/spadek)
G21: ='Tab 1 (26) i 2 (27)'!G6 -> II kwartału 2024 r. z I kwartałem 2024 r. | H21: ='Tab 1 (26) i 2 (27)'!H6 -> II kwartału 2024 r. z II kwartałem 2023 r. | I21: ='Tab 1 (26) i 2 (27)'!I6 -> I półrocza 2024 r. z I półroczem 2023 r.
A22: LICZBA PŁATNIKÓW
A23: OGÓŁEM | B23: 818061 | C23: 822781 | D23: 791698 | E23: 782167 | F23: 786933 | G23: =E23/D23-1 -> -0.012038681 | H23: =E23/B23-1 -> -0.043876924 | I23: =F23/C23-1 -> -0.043569309
A24: Fundusz Składkowy | B24: 808968 | C24: 813762 | D24: 782130 | E24: 772450 | F24: 777290 | G24: =E24/D24-1 -> -0.012376459 | H24: =E24/B24-1 -> -0.045141464 | I24: =F24/C24-1 -> -0.044819001
A25: Fundusz Emerytalno-Rentowy | B25: 812104 | C25: 816873 | D25: 785851 | E25: 776285 | F25: 781068 | G25: =E25/D25-1 -> -0.012172791 | H25: =E25/B25-1 -> -0.04410642 | I25: =F25/C25-1 -> -0.043831783
A26: LICZBA UBEZPIECZONYCH
A27: OGÓŁEM | B27: 1075689 | C27: 1079983 | D27: 1032472 | E27: 1021755 | F27: =ROUND(SUM(D27:E27)/2,0) -> 1027114 | G27: =E27/D27-1 -> -0.010379943 | H27: =E27/B27-1 -> -0.050139027 | I27: =F27/C27-1 -> -0.048953548
A28: Fundusz Składkowy | B28: 1059491 | C28: 1063903 | D28: 1015739 | E28: 1005196 | F28: =ROUND(SUM(D28:E28)/2,0) -> 1010468 | G28: =E28/D28-1 -> -0.010379635 | H28: =E28/B28-1 -> -0.051246306 | I28: =F28/C28-1 -> -0.050225443
A29: Fundusz Emerytalno-Rentowy | B29: 1056086 | C29: 1063781 | D29: 1019482 | E29: 1004616 | F29: =ROUND(SUM(D29:E29)/2,0) -> 1012049 | G29: =E29/D29-1 -> -0.014581915 | H29: =E29/B29-1 -> -0.048736561 | I29: =F29/C29-1 -> -0.04863031

Sheet Tab 4 (33)
A1: ='Tab 1 (30)'!A1:L1 -> V. UBEZPIECZENIE SPOŁECZNE ROLNIKÓW
A3: TABLICA 4 (33). LICZBA UBEZPIECZONYCH WEDŁUG WOJEWÓDZTW | I3: Powrót do spisu treści
A4: Wyszczególnienie | B4: Ogółem 1) 2) | C4: z tego:
C5: Fundusz Składkowy (ubezpieczenie wypadkowe, chorobowe i macierzyńskie na wniosek) | D5: Fundusz Składkowy (ubezpieczenie wypadkowe, chorobowe i macierzyńskie z mocy ustawy w zakresie ograniczonym) 1) | E5: Fundusz Emerytalno-Rentowy (ubezpieczenie emerytalno-rentowe na wniosek) | F5: Fundusz Emerytalno-Rentowy (ubezpieczenie emerytalno-rentowe z mocy ustawy)2) | G5: Fundusz Składkowy i Emerytalno-Rentowy (łącznie objętych ubezpieczeniem wypadkowym, chorobowym i macierzyńskim oraz ubezpieczeniem emerytalno-rentowym)
G6: Ogółem | H6: w tym ubezpieczeni na wniosek
B7: ='Tab 2 (31) i 3 (32)'!B5:E5 -> STAN NA DZIEŃ 30 CZERWCA 2024 R.
A8: OGÓŁEM | B8: =SUM(B9:B24) -> 1021755 | C8: =SUM(C9:C24) -> 9148 | D8: =SUM(D9:D24) -> 7991 | E8: =SUM(E9:E24) -> 16559 | F8: =SUM(F9:F24) -> 0 | G8: =SUM(G9:G24) -> 988057 | H8: =SUM(H9:H24) -> 108814
A9: dolnośląskie | B9: =SUM(C9:G9) -> 34944 | C9: 116 | D9: 1152 | E9: 343 | F9: 0 | G9: 33333 | H9: 1586
A10: kujawsko-pomorskie | B10: =SUM(C10:G10) -> 54025 | C10: 717 | D10: 127 | E10: 783 | F10: 0 | G10: 52398 | H10: 2049
A11: lubelskie | B11: =SUM(C11:G11) -> 129812 | C11: 397 | D11: 1051 | E11: 1813 | F11: 0 | G11: 126551 | H11: 5717
A12: lubuskie | B12: =SUM(C12:G12) -> 11846 | C12: 72 | D12: 47 | E12: 139 | F12: 0 | G12: 11588 | H12: 952
A13: łódzkie | B13: =SUM(C13:G13) -> 80545 | C13: 937 | D13: 920 | E13: 1055 | F13: 0 | G13: 77633 | H13: 5792
A14: małopolskie | B14: =SUM(C14:G14) -> 123350 | C14: 3349 | D14: 345 | E14: 2024 | F14: 0 | G14: 117632 | H14: 42286
A15: mazowieckie | B15: =SUM(C15:G15) -> 143689 | C15: 806 | D15: 2141 | E15: 1948 | F15: 0 | G15: 138794 | H15: 9250
A16: opolskie | B16: =SUM(C16:G16) -> 22019 | C16: 87 | D16: 138 | E16: 169 | F16: 0 | G16: 21625 | H16: 1196
A17: podkarpackie | B17: =SUM(C17:G17) -> 75295 | C17: 277 | D17: 42 | E17: 2536 | F17: 0 | G17: 72440 | H17: 13153
A18: podlaskie | B18: =SUM(C18:G18) -> 71808 | C18: 385 | D18: 246 | E18: 1199 | F18: 0 | G18: 69978 | H18: 4377
A19: pomorskie | B19: =SUM(C19:G19) -> 34254 | C19: 202 | D19: 305 | E19: 493 | F19: 0 | G19: 33254 | H19: 3299
A20: śląskie | B20: =SUM(C20:G20) -> 28063 | C20: 78 | D20: 96 | E20: 535 | F20: 0 | G20: 27354 | H20: 4034
... A24: zachodniopomorskie | B24: =SUM(C24:G24) -> 20128 | C24: 67 | D24: 184 | E24: 234 | F24: 0 | G24: 19643 | H24: 789
A25: 1) Liczba pomocników rolnika świadczących pomoc rolnikowi na podstawie umowy o pomocy przy zbiorach podlegających ubezpieczeniu z mocy ustawy w zakresie ograniczonym do świadczeń takich jak jednorazowe odszkodowanie z tytułu stałego lub długotrwałego uszczerbku na zdrowiu albo śmierci wskutek wypadku przy pracy rolniczej lub rolniczej choroby zawodowej.
A26: 2) Liczba rolników/współmałżonków ubezpieczonych obowiązkowo z tytułu pobierania renty strukturalnej przyznanej i wypłacanej przez Agencję Restrukturyzacji i Modernizacji Rolnictwa zgodnie z ustawą z dnia 28 listopada 2003 r. o wspieraniu rozwoju obszarów wiejskich ze środków pochodzących z Sekcji Gwarancji Europejskiego Funduszu Orientacji i Gwarancji Rolnej.

Sheet Tab 5 (34) i 6 (35)
A1: ='Tab 2 (31) i 3 (32)'!A1:F1 -> V. UBEZPIECZENIE SPOŁECZNE ROLNIKÓW
A2: TABLICA 5 (34). LICZBA UBEZPIECZONYCH Z TYTUŁU PROWADZENIA JEDNOCZEŚNIE DZIAŁALNOŚCI ROLNICZEJ I POZAROLNICZEJ DZIAŁALNOŚCI GOSPODARCZEJ WEDŁUG WOJEWÓDZTW | E2: Powrót do spisu treści
A3: Wyszczególnienie | B3: Ogółem | C3: z tego:
C4: rolnicy/współmałżonkowie | D4: domownicy
B6: ='Tab 4 (33)'!B7:H7 -> STAN NA DZIEŃ 30 CZERWCA 2024 R.
A7: OGÓŁEM | B7: =SUM(B8:B23) -> 70267 | C7: =SUM(C8:C23) -> 64080 | D7: =SUM(D8:D23) -> 6187
A8: dolnośląskie | B8: =SUM(C8:D8) -> 3051 | C8: 2773 | D8: 278
A9: kujawsko-pomorskie | B9: =SUM(C9:D9) -> 3143 | C9: 2946 | D9: 197
A10: lubelskie | B10: =SUM(C10:D10) -> 8580 | C10: 8098 | D10: 482
A11: lubuskie | B11: =SUM(C11:D11) -> 1176 | C11: 1060 | D11: 116
A12: łódzkie | B12: =SUM(C12:D12) -> 6218 | C12: 5734 | D12: 484
A13: małopolskie | B13: =SUM(C13:D13) -> 7466 | C13: 6385 | D13: 1081
A14: mazowieckie | B14: =SUM(C14:D14) -> 9489 | C14: 8856 | D14: 633
A15: opolskie | B15: =SUM(C15:D15) -> 1898 | C15: 1660 | D15: 238
A16: podkarpackie | B16: =SUM(C16:D16) -> 5400 | C16: 5009 | D16: 391
A17: podlaskie | B17: =SUM(C17:D17) -> 3912 | C17: 3603 | D17: 309
A18: pomorskie | B18: =SUM(C18:D18) -> 2226 | C18: 1974 | D18: 252
A19: śląskie | B19: =SUM(C19:D19) -> 3014 | C19: 2732 | D19: 282
... A23: zachodniopomorskie | B23: =SUM(C23:D23) -> 1737 | C23: 1641 | D23: 96
A25: TABLICA 6 (35). LICZBA UBEZPIECZONYCH W KRUS PRZY JEDNOCZESNYM OBJĘCIU UBEZPIECZENIEM SPOŁECZNYM W ZUS Z INNEGO TYTUŁU 1) WEDŁUG WOJEWÓDZTW
A26: Wyszczególnienie | B26: Ogółem | C26: z tego:
C27: rolnicy/współmałżonkowie | D27: domownicy
B29: =B6 -> STAN NA DZIEŃ 30 CZERWCA 2024 R.
A30: OGÓŁEM | B30: =SUM(B31:B46) -> 17418 | C30: =SUM(C31:C46) -> 15406 | D30: =SUM(D31:D46) -> 2012
A31: dolnośląskie | B31: =SUM(C31:D31) -> 542 | C31: 476 | D31: 66
A32: kujawsko-pomorskie | B32: =SUM(C32:D32) -> 1184 | C32: 1065 | D32: 119
A33: lubelskie | B33: =SUM(C33:D33) -> 2236 | C33: 2073 | D33: 163
A34: lubuskie | B34: =SUM(C34:D34) -> 243 | C34: 214 | D34: 29
A35: łódzkie | B35: =SUM(C35:D35) -> 1316 | C35: 1179 | D35: 137
A36: małopolskie | B36: =SUM(C36:D36) -> 2241 | C36: 1852 | D36: 389
A37: mazowieckie | B37: =SUM(C37:D37) -> 1865 | C37: 1748 | D37: 117
A38: opolskie | B38: =SUM(C38:D38) -> 502 | C38: 399 | D38: 103
A39: podkarpackie | B39: =SUM(C39:D39) -> 987 | C39: 898 | D39: 89
A40: podlaskie | B40: =SUM(C40:D40) -> 1458 | C40: 1272 | D40: 186
A41: pomorskie | B41: =SUM(C41:D41) -> 587 | C41: 477 | D41: 110
A42: śląskie | B42: =SUM(C42:D42) -> 434 | C42: 378 | D42: 56
... A46: zachodniopomorskie | B46: =SUM(C46:D46) -> 550 | C46: 495 | D46: 55
A47: 1) Liczba osób ubezpieczonych w KRUS objętych jednocześnie ubezpieczeniem społecznym w ZUS z tytułu pozarolniczych aktywności zawodowych, o których mowa w art. 5b i art. 5c ustawy o ubezpieczeniu społecznym rolników

Sheet Tab 7 (36) i 8 (37)
A1: ='Tab 5 (34) i 6 (35)'!A1:D1 -> V. UBEZPIECZENIE SPOŁECZNE ROLNIKÓW
A2: TABLICA 7 (36). PRZYPIS I WPŁYWY NALEŻNOŚCI Z TYTUŁU SKŁADEK NA UBEZPIECZENIE SPOŁECZNE ROLNIKÓW WEDŁUG WOJEWÓDZTW | J2: Powrót do spisu treści
A3: Wyszczególnienie | B3: Przypis należności z tytułu składek | E3: Wpływy z tytułu należności składkowych | H3: Wskaźnik ściągalności (wpływy ogółem/przypis ogółem) | I3: Składki finansowane z budżetu państwa na ubezpieczenie emerytalno-rentowe za osoby sprawujące opiekę nad dzieckiem 1)
B4: Ogółem | C4: Fundusz Składkowy (ubezpieczenie wypadkowe, chorobowe i macierzyńskie) | D4: Fundusz Emerytalno-Rentowy (ubezpieczenie emerytalno-rentowe) | E4: Ogółem | F4: Fundusz Składkowy (ubezpieczenie wypadkowe, chorobowe i macierzyńskie) | G4: Fundusz Emerytalno-Rentowy (ubezpieczenie emerytalno-rentowe)
B5: ='Tab 12'!B6:K6 -> II KWARTAŁ 2024 R.
B6: w złotych
A7: OGÓŁEM | B7: =SUM(B8:B23) -> 6.9791871e+08 | C7: =SUM(C8:C23) -> 1.802053e+08 | D7: =SUM(D8:D23) -> 5.1771341e+08 | E7: =SUM(E8:E23) -> 6.9414538e+08 | F7: =SUM(F8:F23) -> 1.802298e+08 | G7: =SUM(G8:G23) -> 5.1391558e+08 | H7: =E7/B7 -> 0.99459346 | I7: =SUM(I8:I23) -> 16657919
A8: dolnośląskie | B8: =SUM(C8:D8) -> 25731412 | C8: 6170306.7 | D8: 19561106 | E8: 25272292 | F8: 6093328.1 | G8: 19178964 | H8: =E8/B8 -> 0.98215719 | I8: 273057
A9: kujawsko-pomorskie | B9: =SUM(C9:D9) -> 39014949 | C9: 9596230.4 | D9: 29418719 | E9: 38692784 | F9: 9580188 | G9: 29112596 | H9: =E9/B9 -> 0.99174251 | I9: 555521
A10: lubelskie | B10: =SUM(C10:D10) -> 87489721 | C10: 22927887 | D10: 64561834 | E10: 86208822 | F10: 22798409 | G10: 63410413 | H10: =E10/B10 -> 0.98535943 | I10: 2282678
A11: lubuskie | B11: =SUM(C11:D11) -> 8818344.1 | C11: 2070942.2 | D11: 6747401.9 | E11: 8758851 | F11: 2074985.5 | G11: 6683865.5 | H11: =E11/B11 -> 0.99325348 | I11: 98212
A12: łódzkie | B12: =SUM(C12:D12) -> 54380759 | C12: 14197511 | D12: 40183249 | E12: 54332062 | F12: 14261243 | G12: 40070819 | H12: =E12/B12 -> 0.99910451 | I12: 1044738
A13: małopolskie | B13: =SUM(C13:D13) -> 79442891 | C13: 21666837 | D13: 57776053 | E13: 79153617 | F13: 21655762 | G13: 57497855 | H13: =E13/B13 -> 0.99635872 | I13: 3168222
A14: mazowieckie | B14: =SUM(C14:D14) -> 97081254 | C14: 25592076 | D14: 71489178 | E14: 96785071 | F14: 25601614 | G14: 71183457 | H14: =E14/B14 -> 0.99694912 | I14: 2024052
A15: opolskie | B15: =SUM(C15:D15) -> 16215333 | C15: 3873915.5 | D15: 12341417 | E15: 15964189 | F15: 3844271.7 | G15: 12119917 | H15: =E15/B15 -> 0.98451194 | I15: 304764
A16: podkarpackie | B16: =SUM(C16:D16) -> 50083130 | C16: 13065317 | D16: 37017813 | E16: 50012305 | F16: 13110023 | G16: 36902283 | H16: =E16/B16 -> 0.99858587 | I16: 1814219
A17: podlaskie | B17: =SUM(C17:D17) -> 47729815 | C17: 12645508 | D17: 35084307 | E17: 47672083 | F17: 12668326 | G17: 35003756 | H17: =E17/B17 -> 0.99879044 | I17: 1223974
A18: pomorskie | B18: =SUM(C18:D18) -> 24060518 | C18: 6023290.2 | D18: 18037228 | E18: 24009685 | F18: 6047531.9 | G18: 17962153 | H18: =E18/B18 -> 0.9978873 | I18: 534477
A19: śląskie | B19: =SUM(C19:D19) -> 19984321 | C19: 4997093.6 | D19: 14987228 | E19: 19962770 | F19: 5028516.2 | G19: 14934254 | H19: =E19/B19 -> 0.99892159 | I19: 315915
... A23: zachodniopomorskie | B23: =SUM(C23:D23) -> 15890718 | C23: 3610307.7 | D23: 12280410 | E23: 15768929 | F23: 3623444.7 | G23: 12145484 | H23: =E23/B23 -> 0.99233581 | I23: 116397
A24: 1) Składki finansowane z budżetu państwa na ubezpieczenie emerytalno-rentowe za osoby sprawujące osobistą opiekę nad dzieckiem; uprawnienie do finansowania składek jest związane z wiekiem dziecka, nad którym sprawowana jest osobista opieka i realizowane przez okres do 3 lat, nie dłużej jednak niż do ukończenia przez dziecko 5 roku życia, a w przypadku sprawowania opieki nad dzieckiem niepełnosprawnym przez okres 6 lat, nie dłużej jednak niż do ukończenia przez dziecko 18 roku życia.
A26: TABLICA 8 (37). DECYZJE O PODLEGANIU I USTANIU UBEZPIECZENIA SPOŁECZNEGO ROLNIKÓW WEDŁUG WOJEWÓDZTW
A27: Wyszczególnienie | B27: Liczba wydanych decyzji
B28: o podleganiu ubezpieczeniu społecznemu rolników | C28: o ustaniu ubezpieczenia społecznego rolników
B29: =B5 -> II KWARTAŁ 2024 R.
A30: OGÓŁEM | B30: =SUM(B31:B46) -> 22119 | C30: =SUM(C31:C46) -> 43239
A31: dolnośląskie | B31: 772 | C31: 1413
A32: kujawsko-pomorskie | B32: 943 | C32: 1995
A33: lubelskie | B33: 2649 | C33: 5919
A34: lubuskie | B34: 271 | C34: 568
A35: łódzkie | B35: 1744 | C35: 3374
A36: małopolskie | B36: 3343 | C36: 5670
A37: mazowieckie | B37: 2530 | C37: 5212
A38: opolskie | B38: 442 | C38: 947
A39: podkarpackie | B39: 2449 | C39: 4115
A40: podlaskie | B40: 1227 | C40: 2602
A41: pomorskie | B41: 618 | C41: 1344
A42: śląskie | B42: 637 | C42: 1188
... A46: zachodniopomorskie | B46: 384 | C46: 909

Sheet Tab 1 (38) i 2 (39)
A1: VI. UBEZPIECZENIA ZDROWOTNE
A2: TABLICA 1 (38). LICZBA OSÓB PODLEGAJĄCYCH UBEZPIECZENIU ZDROWOTNEMU WEDŁUG WOJEWÓDZTW | N2: Powrót do spisu treści
A3: Wyszczególnienie | B3: Ogółem | C3: z tego: | L3: członkowie rodzin rolników i domowników 4) | M3: członkowie rodzin emerytów i rencistów 4)
C4: rolnicy prowadzący działalność rolniczą w gospodarstwach rolnych poniżej 6 ha przelicz.1) | D4: domownicy rolników pracujący w gospodarstwach rolnych poniżej 6 ha przelicz.1) | E4: rolnicy prowadzący działalność rolniczą w gospodarstwach rolnych 6 ha przelicz. i więcej | F4: domownicy pracujący w gospodarstwach rolnych 6 ha przelicz. i więcej | G4: rolnicy prowadzący gospodarstwo rolne i dział specjalny produkcji rolnej 2) | H4: rolnicy prowadzący wyłącznie działy specjalne produkcji rolnej 2) | I4: domownicy rolników pracujący wyłącznie w działach specjalnych produkcji rolnej 2) | J4: pomocnicy rolników 3) | K4: emeryci i renciści
B5: W CZERWCU 2024 ROKU
A6: Ogółem | B6: =SUM(B7:B22) -> 1973656 | C6: =SUM(C7:C22) -> 521007 | D6: =SUM(D7:D22) -> 88440 | E6: =SUM(E7:E22) -> 322172 | F6: =SUM(F7:F22) -> 48192 | G6: =SUM(G7:G22) -> 9887 | H6: =SUM(H7:H22) -> 2587 | I6: =SUM(I7:I22) -> 159 | ... M6: =SUM(M7:M22) -> 27400
A7: dolnośląskie | B7: =SUM(C7:K7) -> 71456 | C7: 15464 | D7: 2585 | E7: 12958 | F7: 2216 | G7: 349 | H7: 129 | I7: 9 | J7: 1441 | K7: 36305 | L7: 11949 | M7: 710
A8: kujawsko-pomorskie | B8: =SUM(C8:K8) -> 118921 | C8: 16528 | D8: 1743 | E8: 29457 | F8: 3617 | G8: 439 | H8: 118 | I8: 6 | J8: 157 | K8: 66856 | L8: 23159 | M8: 1893
A9: lubelskie | B9: =SUM(C9:K9) -> 250609 | C9: 67285 | D9: 7267 | E9: 46028 | F9: 4940 | G9: 481 | H9: 42 | I9: 0 | J9: 1269 | K9: 123297 | L9: 58771 | M9: 3719
A10: lubuskie | B10: =SUM(C10:K10) -> 24132 | C10: 5407 | D10: 890 | E10: 4158 | F10: 740 | G10: 221 | H10: 91 | I10: 5 | J10: 75 | K10: 12545 | L10: 4555 | M10: 325
A11: łódzkie | B11: =SUM(C11:K11) -> 162633 | C11: 42949 | D11: 5294 | E11: 26108 | F11: 3562 | G11: 899 | H11: 129 | I11: 6 | J11: 1077 | K11: 82609 | L11: 32193 | M11: 1303
A12: małopolskie | B12: =SUM(C12:K12) -> 205260 | C12: 80108 | D12: 26617 | E12: 10080 | F12: 1761 | G12: 615 | H12: 117 | I12: 5 | J12: 400 | K12: 85557 | L12: 68458 | M12: 4009
A13: mazowieckie | B13: =SUM(C13:K13) -> 294060 | C13: 74046 | D13: 8660 | E13: 50123 | F13: 5911 | G13: 1494 | H13: 264 | I13: 19 | J13: 2812 | K13: 150731 | L13: 63682 | M13: 3428
A14: opolskie | B14: =SUM(C14:K14) -> 41172 | C14: 8690 | D14: 1633 | E14: 9467 | F14: 1727 | G14: 200 | H14: 59 | I14: 10 | J14: 148 | K14: 19238 | L14: 10391 | M14: 312
A15: podkarpackie | B15: =SUM(C15:K15) -> 126723 | C15: 54708 | D15: 8457 | E15: 6998 | F15: 1054 | G15: 394 | H15: 46 | I15: 5 | J15: 54 | K15: 55007 | L15: 35696 | M15: 1964
A16: podlaskie | B16: =SUM(C16:K16) -> 139042 | C16: 31923 | D16: 4539 | E16: 27400 | F16: 5252 | G16: 358 | H16: 41 | I16: 1 | J16: 262 | K16: 69266 | L16: 34949 | M16: 2318
A17: pomorskie | B17: =SUM(C17:K17) -> 65845 | C17: 16138 | D17: 3489 | E17: 10917 | F17: 2087 | G17: 407 | H17: 130 | I17: 11 | J17: 346 | K17: 32320 | L17: 17612 | M17: 1012
A18: śląskie | B18: =SUM(C18:K18) -> 54438 | C18: 16466 | D18: 2817 | E18: 5976 | F18: 1002 | G18: 798 | H18: 300 | I18: 24 | J18: 132 | K18: 26923 | L18: 10493 | M18: 581
... A22: zachodniopomorskie | B22: =SUM(C22:K22) -> 40491 | C22: 8206 | D22: 924 | E22: 8813 | F22: 1254 | G22: 234 | H22: 114 | I22: 11 | J22: 209 | K22: 20726 | L22: 7383 | M22: 440
A23: 1) Za rolników i domowników prowadzących działalność rolniczą w gospodarstwach rolnych poniżej 6 ha przeliczeniowych składka na ubezpieczenie zdrowotne finansowana jest z dotacji budżetowej.
A24: 2) Dział specjalny produkcji rolnej w rozumieniu ustawy o ubezpieczeniu społecznym rolników, o którym mowa w załączniku do ustawy o ubezpieczeniu społecznym rolników.
A25: 3) Obowiązek ubezpieczenia zdrowotnego pomocników rolnika powstaje od dnia zgłoszenia do tego ubezpieczenia w trybie ustawy o ubezpieczeniu społecznym rolników, a ustaje z dniem rozwiązania lub wygaśnięcia umowy o pomocy przy zbiorach.
A26: 4) Za członków rodzin rolników, domowników i świadczeniobiorców nie jest odprowadzana składka na ubezpieczenie zdrowotne.
A27: TABLICA 2 (39). PRZYPIS SKŁADEK NA UBEZPIECZENIE ZDROWOTNE
A28: Wyszczególnienie | C28: I PÓŁROCZE 2024 R.
C29: Kwota w złotych
A30: Ogółem z tego: | C30: =SUM(C31:C34) -> 2.0901613e+09
A31: składka od emerytów i rencistów | C31: 1122422871
A32: składka za rolników i domowników | C32: 931002000
A33: składka za pomocników rolnika | C33: 7009168.6
A34: działy specjalne produkcji rolnej | C34: 29727219

Sheet Strona końcowa
A1: Oddziały Regionalne Kasy Rolniczego Ubezpieczenia Społecznego
A27: Opracowano w Biurze Statystyki na podstawie danych statystycznych Kasy Rolniczego Ubezpieczenia Społecznego.
A31: www.gov.pl/krus
