Workbook

Sheet Strona tytułowa
B4: KASA ROLNICZEGO UBEZPIECZENIA SPOŁECZNEGO
A32: Warszawa 2024

Sheet Uwagi wstępne
A1: UWAGI WSTĘPNE | C1: Powrót do spisu treści
B2: Kwartalna Informacja Statystyczna zawiera podstawowe dane, zagregowane tematycznie, dotyczące realizacji zadań wynikających z ustawy z dnia 20 grudnia 1990 r. o ubezpieczeniu społecznym rolników oraz zadań zleconych do wypłaty Kasie Rolniczego Ubezpieczenia Społecznego.
B3: Ze względu na zaokrąglenia danych, w niektórych przypadkach sumy składników mogą się różnić od podanych wielkości "ogółem".
B4: Przeciętne i wskaźniki obliczono z reguły na podstawie danych liczbowych, wyrażonych z większą dokładnością niż podano w tablicach.
A5: I. | B5: Dział Emerytury i renty realizowane przez KRUS zawiera informacje dotyczące m.in. przyznawania i wypłat świadczeń emerytalno-rentowych.
B6: Kwoty wypłat emerytur i rent wykazywane są łącznie z:
B7: - wypłatami z innych systemów ubezpieczeniowych w przypadku zbiegu uprawnień do świadczeń z tych systemów z uprawnieniami do świadczeń z funduszu emerytalno-rentowego,
B8: - wypłatami dokonywanymi w związku z zatrudnieniem poza rolnictwem, czynną służbą wojskową i działalnością kombatancką na podstawie art. 25 ust. 2a ustawy o ubezpieczeniu społecznym rolników,
B9: Ponadto:
B10: - emerytury prezentowane są łącznie z rodzicielskimi świadczeniami uzupełniającymi, z emeryturami rolnymi w wysokości 50% ze względu na uprawnienia do zbiegających się z nimi świadczeń pracowniczych, ze świadczeniami zagranicznymi oraz z emeryturami finansowanymi z funduszu emerytalno-rentowego wypłaconymi przez MON, MSWiA, MS,
B11: - renty prezentowane są łącznie z rentami socjalnymi.
B12: Świadczenia pracownicze wypłacane przy świadczeniach rolniczych, finansowane są z Funduszu Ubezpieczeń Społecznych, którym dysponuje Zakład Ubezpieczeń Społecznych.
B13: W związku z akcesją Polski do Unii Europejskiej, KRUS realizuje zadania wynikające z przepisów rozporządzeń unijnych w sprawie koordynacji systemów zabezpieczenia społecznego. Zadania te realizuje Centrala KRUS jako instytucja łącznikowa oraz wytypowane jednostki organizacyjne KRUS, pełniące funkcję instytucji właściwych w postępowaniu międzynarodowym, są to: Oddział Regionalny KRUS w Krakowie – Wydział Świadczeń Zagranicznych w Nowym Sączu oraz Placówka Terenowa KRUS w Ostrowie Wielkopolskim.
B14: Ponadto Kasa realizuje zadania wynikające z zawartych umów dwustronnych o zabezpieczeniu społecznym. Zadania te realizuje Centrala KRUS, jako instytucja łącznikowa oraz Oddział Regionalny KRUS w Krakowie - Wydział Świadczeń Zagranicznych w Nowym Sączu, pełniący funkcje instytucji właściwej w postępowaniu międzynarodowym.
A15: II. | B15: Dział Fundusz Emerytalno-Rentowy zawiera informacje dotyczące świadczeń pieniężnych z ubezpieczenia emerytalno-rentowego, finansowanych z funduszu emerytalno-rentowego, tj.:
B16: • emerytura rolnicza przysługuje ubezpieczonemu (rolnikowi, domownikowi), który spełnia łącznie następujące warunki:
B17: - osiągnął wiek emerytalny - który wynosi 60 lat dla kobiety i 65 lat dla mężczyzny,
B18: - podlegał ubezpieczeniu emerytalno-rentowemu przez okres co najmniej 25 lat.
B19: Emerytury prezentowane są łącznie z emeryturami rolnymi w wysokości 50% ze względu na uprawnienia do zbiegających się z nimi świadczeń pracowniczych, ze świadczeniami zagranicznymi oraz z emeryturami finansowanymi z funduszu emerytalno-rentowego wypłaconymi przez MON, MSWiA i MS.
B20: • renta rolnicza z tytułu niezdolności do pracy przysługuje ubezpieczonemu (rolnikowi, domownikowi), który spełnia łącznie następujące warunki:
B21: - podlegał ubezpieczeniu emerytalno-rentowemu przez wymagany okres wynoszący od 1 roku do 5 lat w zależności od wieku, w jakim powstała całkowita niezdolność do pracy.
B22: - jest trwale lub okresowo całkowicie niezdolny do pracy w gospodarstwie rolnym,
B23: - całkowita niezdolność do pracy w gospodarstwie rolnym powstała w okresie podlegania ubezpieczeniu emerytalno-rentowemu lub nie później niż w ciągu 18 miesięcy od ustania tych okresów.
B24: Prawo do renty z tytułu niezdolności do pracy może uzyskać również osoba, która jest całkowicie niezdolna do pracy w gospodarstwie rolnym i podlegała ubezpieczeniu emerytalno-rentowemu przez okres co najmniej 25 lat.
B25: • renta rodzinna przysługuje uprawnionym członkom rodziny zmarłego emeryta/rencisty oraz ubezpieczonego, który w chwili śmierci spełniał warunki do uzyskania emerytury rolniczej lub renty rolniczej z tytułu niezdolności do pracy.
B26: Za członków rodziny uprawnionych do renty rodzinnej uznaje się przede wszystkim dzieci do ukończenia 16 lat, a jeżeli przekroczyły ten wiek - do ukończenia nauki w szkole, nie dłużej jednak niż do osiągnięcia 25 lat życia oraz dzieci bez względu na wiek, jeżeli w okresie nauki stały się całkowicie niezdolne do pracy. Ponadto, jeżeli dziecko osiągnęło 25 lat życia, będąc na ostatnim roku studiów, prawo do renty rodzinnej przedłuża się do zakończenia tego roku studiów. Na równi z dziećmi traktowane są przyjęte na utrzymanie i wychowanie wnuki oraz rodzeństwo.
B27: Z prawa do renty rodzinnej mogą korzystać także małżonek zmarłego (wdowa, wdowiec) i rodzice, o ile spełnią warunki do tego świadczenia. Wszystkim uprawnionym członkom rodziny przysługuje jedna wspólna renta rodzinna, która może ulec podziałowi pomiędzy uprawnionych na równe części.
... B44: Kwota nie obejmuje należnych świadczeń z innych systemów ubezpieczeniowych, wypłacanych w tzw. zbiegu z emeryturą lub rentą rolną.
A45: III. | B45: Dział Pozostałe świadczenia zawiera informacje dotyczące świadczeń zleconych do wypłaty Kasie Rolniczego Ubezpieczenia Społecznego, tj.:
B46: - świadczeń pieniężnych dla inwalidów wojennych, wojskowych i osób represjonowanych,
B47: - zasiłków pogrzebowych wypłaconych po osobach pobierających wyżej wymienione świadczenia i po członkach ich rodzin,
B48: - dodatków kombatanckich,
B49: - dodatków pieniężnych dla inwalidów wojennych,
B50: - ryczałtów energetycznych,
B51: - świadczeń pieniężnych dla żołnierzy zastępczej służby wojskowej,
B52: - świadczeń pieniężnych dla osób deportowanych do pracy przymusowej,
B53: - dodatków kompensacyjnych,
B54: - świadczeń pieniężnych dla cywilnych niewidomych ofiar działań wojennych,
B55: - dodatków dla weterana poszkodowanego,
B56: - rodzicielskich świadczeń uzupełniających,
...

Sheet Spis treści
A1: SPIS TREŚCI
B2: Nr | C2: Str.
A3: Uwagi wstępne | B3: x | C3: 5
A4: Objaśnienia znaków umownych | B4: x | C4: 11
A5: Objaśnienia skrótów | B5: x | C5: 11
A6: SPIS TABLIC STATYSTYCZNYCH
A7: I. EMERYTURY I RENTY REALIZOWANE PRZEZ KRUS
A8: Emerytury i renty | B8: 1 | C8: 12
A9: Zwiększenia do emerytur i rent finansowane z Funduszu Emerytalno-Rentowego, wypłacane przy świadczeniach pracowniczych | B9: 2 | C9: 13
A10: Wnioski i decyzje w sprawach o przyznanie rodzicielskich świadczeń uzupełniających według województw | B10: 3 | C10: 13
A11: Wnioski o przyznanie emerytur i rent według rodzajów świadczeń | B11: 4 | C11: 14
A12: Wnioski o przyznanie emerytur i rent według województw | B12: 5 | C12: 14
A13: Decyzje i postępowania umorzone w sprawach o emerytury i renty według rodzajów świadczeń | B13: 6 | C13: 15
A14: Decyzje i postępowania umorzone w sprawach o emerytury i renty według województw | B14: 7 | C14: 15
A15: Wnioski o przyznanie emerytur i rent rolniczych rozpatrywane z zastosowaniem przepisów wspólnotowych UE | B15: 8 | C15: 16
A16: Decyzje w sprawach wniosków o przyznanie emerytur i rent rolniczych z zastosowaniem przepisów wspólnotowych UE | B16: 9 | C16: 16
A17: Wnioski o przyznanie emerytur i rent rolniczych z zastosowaniem postanowień umów dwustronnych o zabezpieczeniu społecznym | B17: 10 | C17: 17
A18: Decyzje w sprawach wniosków o przyznanie emerytur i rent rolniczych z zastosowaniem postanowień umów dwustronnych o zabezpieczeniu społecznym | B18: 11 | C18: 17
A19: Świadczenia emerytalno-rentowe transferowane do poszczególnych państw UE/EFTA i Wielkiej Brytanii oraz do innych państw na podstawie umów dwustronnych | B19: 12 | C19: 18
A20: II. FUNDUSZ EMERYTALNO-RENTOWY
A21: 1. EMERYTURY I RENTY
A22: Przeciętna miesięczna liczba emerytur i rent według rodzajów świadczeń | B22: 1 (13) | C22: 19
A23: Przeciętna miesięczna liczba świadczeniobiorców oraz liczba ubezpieczonych według województw | B23: 2 (14) | C23: 20
A24: Przeciętne miesięczne świadczenia emerytalno-rentowe według województw | B24: 3 (15) | C24: 21
A25: Przeciętna miesięczna liczba emerytur i rent według województw oraz świadczeń emerytalnych wypłaconych przez MON, MSWiA i MS | B25: 4 (16) | C25: 22
A26: Wydatki na świadczenia emerytalno-rentowe według rodzajów świadczeń | B26: 5 (17) | C26: 23
A27: Wydatki na świadczenia emerytalno-rentowe według województw oraz świadczenia emerytalne wypłacone przez MON, MSWiA i MS | B27: 6 (18) | C27: 25
A28: Przeciętne miesięczne świadczenie emerytalno-rentowe według rodzajów świadczeń | B28: 7 (19) | C28: 26
A29: Przeciętne miesięczne świadczenie emerytalno-rentowe według województw oraz przeciętne miesięczne świadczenie emerytalne wypłacone przez MON, MSWiA i MS | B29: 8 (20) | C29: 27
A30: 2. ZASIŁKI | B30: Nr | C30: Str.
A31: Zasiłki macierzyńskie | B31: 9 (21) | C31: 28
A32: Zasiłki macierzyńskie według województw | B32: 10 (22) | C32: 28
A33: Zasiłki pogrzebowe | B33: 11 (23) | C33: 29
A34: Zasiłki pogrzebowe według województw | B34: 12 (24) | C34: 29
A35: III. POZOSTAŁE ŚWIADCZENIA
A36: Świadczenia zlecone do wypłaty Kasie Rolniczego Ubezpieczenia Społecznego | B36: 1 (25) | C36: 30
A37: IV. FUNDUSZ SKŁADKOWY UBEZPIECZENIA SPOŁECZNEGO ROLNIKÓW
A38: Zasiłki chorobowe i jednorazowe odszkodowania | B38: 1 (26) | C38: 31
A39: Zasiłki chorobowe i jednorazowe odszkodowania według województw | B39: 2 (27) | C39: 31
A40: Wypadki przy pracy rolniczej i choroby zawodowe rolników | B40: 3 (28) | C40: 33
...

Sheet Objaśnienia i skróty
A1: OBJAŚNIENIA ZNAKÓW UMOWNYCH | C1: Powrót do spisu treści
A3: Symbol | B3: Opis
A4: Kreska (-) | B4: zjawisko nie wystąpiło
A5: Zero (0) | B5: zjawisko istniało w wielkości mniejszej od 0,5
A6: Zero (0,0) | B6: zjawisko istniało w wielkości mniejszej od 0,05
A7: Kropka (.) | B7: brak informacji albo brak informacji wiarygodnych
A8: Znak (x) | B8: wypełnienie pozycji jest niemożliwe lub niecelowe
A9: „w tym” | B9: oznacza, że nie podaje się wszystkich składników sumy
A10: "z tego" | B10: oznacza, że podaje się wszystkie składniki sumy
A12: OBJAŚNIENIA SKRÓTÓW
A14: Skrót | B14: Znaczenie
A15: KRUS | B15: Kasa Rolniczego Ubezpieczenia Społecznego
A16: ZUS | B16: Zakład Ubezpieczeń Społecznych
A17: Fundusz Składkowy | B17: Fundusz Składkowy Ubezpieczenia Społecznego Rolników
A18: MON | B18: Ministerstwo Obrony Narodowej
A19: MSWiA | B19: Zakład Emerytalno-Rentowy Ministerstwa Spraw Wewnętrznych i Administracji
A20: MS | B20: Ministerstwo Sprawiedliwości
A21: NFZ | B21: Narodowy Fundusz Zdrowia
A22: FER | B22: Fundusz Emerytalno-Rentowy
A23: UE | B23: Unia Europejska
A24: EFTA | B24: Europejskie Stowarzyszenie Wolnego Handlu
A25: zł | B25: złoty

Sheet Tab 1
A1: I. EMERYTURY I RENTY REALIZOWANE PRZEZ KRUS
A2: TABLICA 1. EMERYTURY I RENTY | J2: Powrót do spisu treści
A3: Wyszczególnienie | B3: 2023 rok | D3: 2024 rok
B4: II kwartał | C4: I półrocze | D4: I kwartał | E4: II kwartał | F4: I półrocze | G4: porównanie (wzrost/spadek)
G5: II kwartału 2024 r. z I kwartałem 2024 r. | H5: II kwartału 2024 r. z II kwartałem 2023 r. | I5: I półrocza 2024 r. z I półroczem 2023 r.
A6: OGÓŁEM
A7: Przeciętna miesięczna liczba świadczeniobiorców | B7: 977905 | C7: 978958 | D7: 969907 | E7: 969741 | F7: 969824 | G7: =E7/D7-1 -> -0.00017115043 | H7: =E7/B7-1 -> -0.0083484592 | I7: =F7/C7-1 -> -0.0093303288
A8: w tym świadczenia zbiegowe pracownicze | B8: 32868 | C8: 33553 | D8: 29480 | E8: 28222 | F8: 28851 | G8: =E8/D8-1 -> -0.042672999 | H8: =E8/B8-1 -> -0.14135329 | I8: =F8/C8-1 -> -0.1401365
A9: Kwota wypłat w zł | B9: 5.6060617e+09 | C9: 1.0453581e+10 | D9: 5.7947177e+09 | E9: 6.2301735e+09 | F9: 1.2024891e+10 | G9: =E9/D9-1 -> 0.075147022 | H9: =E9/B9-1 -> 0.11132802 | I9: =F9/C9-1 -> 0.15031314
A10: w tym świadczenia zbiegowe pracownicze | B10: 1.9423601e+08 | C10: 3.7797562e+08 | D10: 1.8031689e+08 | E10: 1.859912e+08 | F10: 3.6630809e+08 | G10: =E10/D10-1 -> 0.031468528 | H10: =E10/B10-1 -> -0.0424474 | I10: =F10/C10-1 -> -0.03086847
A11: Przeciętne świadczenie w zł | B11: 1910.91 | C11: 1779.71 | D11: 1991.5 | E11: 2141.52 | F11: 2066.51 | G11: =E11/D11-1 -> 0.075330153 | H11: =E11/B11-1 -> 0.12068072 | I11: =F11/C11-1 -> 0.16114985
A12: EMERYTURY
A13: Przeciętna miesięczna liczba świadczeniobiorców | B13: 763523 | C13: 763993 | D13: 762594 | E13: 762574 | F13: 762584 | G13: =E13/D13-1 -> -2.6226275e-05 | H13: =E13/B13-1 -> -0.0012429226 | I13: =F13/C13-1 -> -0.0018442577
A14: Kwota wypłat w zł | B14: 4.4157817e+09 | C14: 8.2195692e+09 | D14: 4.5741218e+09 | E14: 4.921631e+09 | F14: 9.4957528e+09 | G14: =E14/D14-1 -> 0.075972866 | H14: =E14/B14-1 -> 0.11455486 | I14: =F14/C14-1 -> 0.15526162
A15: Przeciętne świadczenie w zł | B15: 1927.81 | C15: 1793.12 | D15: 1999.37 | E15: 2151.32 | F15: 2075.35 | G15: =E15/D15-1 -> 0.07599894 | H15: =E15/B15-1 -> 0.11593985 | I15: =F15/C15-1 -> 0.15739605
A16: RENTY Z TYTUŁU NIEZDOLNOŚCI DO PRACY
A17: Przeciętna miesięczna liczba świadczeniobiorców | B17: 173258 | C17: 173860 | D17: 167029 | E17: 166871 | F17: 166950 | G17: =E17/D17-1 -> -0.00094594352 | H17: =E17/B17-1 -> -0.036864099 | I17: =F17/C17-1 -> -0.039744622
A18: w tym renty z tytułu niezdolności do pracy wypadkowe | B18: 11606 | C18: 11646 | D18: 11186 | E18: 11174 | F18: 11180 | G18: =E18/D18-1 -> -0.0010727695 | H18: =E18/B18-1 -> -0.037222126 | I18: =F18/C18-1 -> -0.040013739
A19: Kwota wypłat w zł | B19: 8.987737e+08 | C19: 1.6807335e+09 | D19: 9.2028265e+08 | E19: 9.8612098e+08 | F19: 1.9064036e+09 | G19: =E19/D19-1 -> 0.071541417 | H19: =E19/B19-1 -> 0.097184956 | I19: =F19/C19-1 -> 0.13426885
A20: w tym renty z tytułu niezdolności do pracy wypadkowe | B20: 67728095 | C20: 1.2575487e+08 | D20: 69405551 | E20: 74690302 | F20: 1.4409585e+08 | G20: =E20/D20-1 -> 0.076143054 | H20: =E20/B20-1 -> 0.10279645 | I20: =F20/C20-1 -> 0.14584714
A21: Przeciętne świadczenie w zł | B21: 1729.16 | C21: 1611.19 | D21: 1836.57 | E21: 1969.83 | F21: 1903.17 | G21: =E21/D21-1 -> 0.072559173 | H21: =E21/B21-1 -> 0.13918319 | I21: =F21/C21-1 -> 0.18122009
A22: RENTY RODZINNE
A23: Przeciętna miesięczna liczba świadczeniobiorców | B23: 41123 | C23: 41105 | D23: 40284 | E23: 40297 | F23: 40290 | G23: =E23/D23-1 -> 0.00032270877 | H23: =E23/B23-1 -> -0.020086083 | I23: =F23/C23-1 -> -0.019827272
A24: Kwota wypłat w zł | B24: 2.9148405e+08 | C24: 5.5323499e+08 | D24: 3.0029393e+08 | E24: 3.2240073e+08 | F24: 6.2269466e+08 | G24: =E24/D24-1 -> 0.073617234 | H24: =E24/B24-1 -> 0.10606646 | I24: =F24/C24-1 -> 0.12555184
A25: Przeciętne świadczenie w zł | B25: 2362.7 | C25: 2243.21 | D25: 2484.83 | E25: 2666.87 | F25: 2575.86 | G25: =E25/D25-1 -> 0.073260545 | H25: =E25/B25-1 -> 0.12873831 | I25: =F25/C25-1 -> 0.14829196
A26: ŚWIADCZENIA PIENIĘŻNE DLA CYWILNYCH NIEWIDOMYCH OFIAR DZIAŁAŃ WOJENNYCH
A27: Kwota wypłat w zł | B27: 22244.58 | C27: 42975.22 | D27: 19286.05 | E27: 20783.85 | F27: 40069.9 | G27: =E27/D27-1 -> 0.077662352 | H27: =E27/B27-1 -> -0.065666783 | I27: =F27/C27-1 -> -0.06760454

Sheet Tab 2 i 3
A1: ='Tab 1'!A1:I1 -> I. EMERYTURY I RENTY REALIZOWANE PRZEZ KRUS
A3: TABLICA 2. ZWIĘKSZENIA DO EMERYTUR I RENT FINANSOWANE Z FUNDUSZU EMERYTALNO-RENTOWEGO, WYPŁACANE PRZY ŚWIADCZENIACH PRACOWNICZYCH | J3: Powrót do spisu treści
A4: Wyszczególnienie | B4: ='Tab 1'!B3:C3 -> 2023 rok | D4: ='Tab 1'!D3:I3 -> 2024 rok
B5: II kwartał | C5: I półrocze | D5: I kwartał | E5: II kwartał | F5: I półrocze | G5: porównanie (wzrost/spadek)
G6: II kwartału 2024 r. z I kwartałem 2024 r. | H6: II kwartału 2024 r. z II kwartałem 2023 r. | I6: I półrocza 2024 r. z I półroczem 2023 r.
A7: OGÓŁEM
A8: Przeciętna miesięczna liczba osób | B8: 625360 | C8: 625396 | D8: 622852 | E8: 622577 | F8: 622715 | G8: =E8/D8-1 -> -0.00044151741 | H8: =E8/B8-1 -> -0.0044502367 | I8: =F8/C8-1 -> -0.0042868838
A9: Kwota wypłat w zł | B9: 2.2911243e+08 | C9: 4.3614279e+08 | D9: 2.3773063e+08 | E9: 2.5615574e+08 | F9: 4.9388637e+08 | G9: =E9/D9-1 -> 0.077504156 | H9: =E9/B9-1 -> 0.11803511 | I9: =F9/C9-1 -> 0.13239606
A10: EMERYTURY
A11: Przeciętna miesięczna liczba osób | B11: 508883 | C11: 508318 | D11: 510128 | E11: 510551 | F11: 510340 | G11: =E11/D11-1 -> 0.00082920365 | H11: =E11/B11-1 -> 0.0032777672 | I11: =F11/C11-1 -> 0.0039778249
A12: Kwota wypłat w zł | B12: 2.0618448e+08 | C12: 3.9212136e+08 | D12: 2.1476999e+08 | E12: 2.3168294e+08 | F12: 4.4645293e+08 | G12: =E12/D12-1 -> 0.078749116 | H12: =E12/B12-1 -> 0.12366818 | I12: =F12/C12-1 -> 0.13855805
A13: RENTY Z TYTUŁU NIEZDOLNOŚCI DO PRACY
A14: Przeciętna miesięczna liczba osób | B14: 9044 | C14: 9131 | D14: 8288 | E14: 8125 | F14: 8206 | G14: =E14/D14-1 -> -0.019666988 | H14: =E14/B14-1 -> -0.10161433 | I14: =F14/C14-1 -> -0.10130325
A15: Kwota wypłat w zł | B15: 3081538.1 | C15: 5972178.2 | D15: 3061326.5 | E15: 3204232 | F15: 6265558.6 | G15: =E15/D15-1 -> 0.046680914 | H15: =E15/B15-1 -> 0.039815798 | I15: =F15/C15-1 -> 0.04912451
A16: RENTY RODZINNE
A17: Przeciętna miesięczna liczba osób | B17: 107433 | C17: 107947 | D17: 104436 | E17: 103901 | F17: 104169 | G17: =E17/D17-1 -> -0.0051227546 | H17: =E17/B17-1 -> -0.032876304 | I17: =F17/C17-1 -> -0.034998657
A18: Kwota wypłat w zł | B18: 19846415 | C18: 38049252 | D18: 19899314 | E18: 21268574 | F18: 41167888 | G18: =E18/D18-1 -> 0.06880938 | H18: =E18/B18-1 -> 0.071658203 | I18: =F18/C18-1 -> 0.081963145
A20: TABLICA 3. WNIOSKI I DECYZJE W SPRAWACH O PRZYZNANIE RODZICIELSKICH ŚWIADCZEŃ UZUPEŁNIJĄCYCH WEDŁUG WOJEWÓDZTW
A21: Wyszczególnienie | B21: Liczba wniosków złożonych w okresie sprawozdawczym | C21: Liczba wniosków załatwionych w okresie sprawozdawczym | E21: Liczba decyzji pierwszorazowych przyznających | F21: Liczba decyzji pierwszorazowych odmownych
C22: Razem | D22: w tym po terminie ustawowym
B23: II KWARTAŁ 2024 R.
A24: OGÓŁEM | B24: =SUM(B25:B40) -> 101 | C24: =SUM(C25:C40) -> 108 | D24: =SUM(D25:D40) -> 0 | E24: =SUM(E25:E40) -> 36 | F24: =SUM(F25:F40) -> 70
A25: dolnośląskie | B25: 5 | C25: 5 | D25: 0 | E25: 2 | F25: 3
A26: kujawsko-pomorskie | B26: 8 | C26: 6 | D26: 0 | E26: 1 | F26: 5
A27: lubelskie | B27: 17 | C27: 17 | D27: 0 | E27: 9 | F27: 8
A28: lubuskie | B28: 0 | C28: 0 | D28: 0 | E28: 0 | F28: 0
A29: łódzkie | B29: 3 | C29: 4 | D29: 0 | E29: 1 | F29: 3
A30: małopolskie | B30: 14 | C30: 14 | D30: 0 | E30: 8 | F30: 6
A31: mazowieckie | B31: 8 | C31: 6 | D31: 0 | E31: 2 | F31: 4
A32: opolskie | B32: 0 | C32: 0 | D32: 0 | E32: 0 | F32: 0
A33: podkarpackie | B33: 9 | C33: 10 | D33: 0 | E33: 4 | F33: 5
A34: podlaskie | B34: 2 | C34: 5 | D34: 0 | E34: 0 | F34: 5
A35: pomorskie | B35: 3 | C35: 4 | D35: 0 | E35: 1 | F35: 3
A36: śląskie | B36: 1 | C36: 1 | D36: 0 | E36: 0 | F36: 1
... A40: zachodniopomorskie | B40: 3 | C40: 3 | D40: 0 | E40: 2 | F40: 1

Sheet Tab 4 i 5
A1: ='Tab 1'!A1:I1 -> I. EMERYTURY I RENTY REALIZOWANE PRZEZ KRUS
A3: TABLICA 4. WNIOSKI O PRZYZNANIE EMERYTUR I RENT WEDŁUG RODZAJÓW ŚWIADCZEŃ | G3: Powrót do spisu treści
A4: Wyszczególnienie | B4: Liczba wniosków pozostałych z poprzedniego okresu | C4: Liczba zarejestrowanych wniosków | D4: Liczba załatwionych wniosków | F4: Liczba wniosków pozostałych do załatwienia w następnym okresie
D5: Razem | E5: w tym po terminie ustawowym
B6: ='Tab 2 i 3'!B23:I23 -> II KWARTAŁ 2024 R.
A7: OGÓŁEM | B7: =B8+B9 -> 11218 | C7: =C8+C9 -> 21122 | D7: =D8+D9 -> 22079 | E7: =E8+E9 -> 0 | F7: =F8+F9 -> 10261
A8: Emerytury razem | B8: 2441 | C8: 8014 | D8: 8786 | E8: 0 | F8: 1669
A9: Renty razem, z tego: | B9: 8777 | C9: 13108 | D9: 13293 | E9: 0 | F9: 8592
A10: Renty z tytułu niezdolności do pracy | B10: 8496 | C10: 12195 | D10: 12347 | E10: 0 | F10: 8344
A11: w tym renty z tytułu niezdolności do pracy wypadkowe | B11: 358 | C11: 517 | D11: 521 | E11: 0 | F11: 354
A12: Renty rodzinne | B12: 281 | C12: 913 | D12: 946 | E12: 0 | F12: 248
A14: TABLICA 5. WNIOSKI O PRZYZNANIE EMERYTUR I RENT WEDŁUG WOJEWÓDZTW
A15: Wyszczególnienie | B15: Liczba wniosków pozostałych z poprzedniego okresu | C15: Liczba zarejestrowanych wniosków | D15: Liczba załatwionych wniosków | F15: Liczba wniosków pozostałych do załatwienia w następnym okresie
D16: Razem | E16: w tym po terminie ustawowym
B17: =B6 -> II KWARTAŁ 2024 R.
A18: OGÓŁEM | B18: =SUM(B19:B34) -> 11218 | C18: =SUM(C19:C34) -> 21122 | D18: =SUM(D19:D34) -> 22079 | E18: =SUM(E19:E34) -> 0 | F18: =SUM(F19:F34) -> 10261
A19: dolnośląskie | B19: 212 | C19: 613 | D19: 623 | E19: 0 | F19: 202
A20: kujawsko-pomorskie | B20: 801 | C20: 1372 | D20: 1406 | E20: 0 | F20: 767
A21: lubelskie | B21: 1222 | C21: 2558 | D21: 2531 | E21: 0 | F21: 1249
A22: lubuskie | B22: 89 | C22: 258 | D22: 231 | E22: 0 | F22: 116
A23: łódzkie | B23: 879 | C23: 1558 | D23: 1618 | E23: 0 | F23: 819
A24: małopolskie | B24: 1334 | C24: 2367 | D24: 2350 | E24: 0 | F24: 1351
A25: mazowieckie | B25: 1661 | C25: 3218 | D25: 3425 | E25: 0 | F25: 1454
A26: opolskie | B26: 197 | C26: 338 | D26: 383 | E26: 0 | F26: 152
A27: podkarpackie | B27: 800 | C27: 1363 | D27: 1512 | E27: 0 | F27: 651
A28: podlaskie | B28: 738 | C28: 1555 | D28: 1706 | E28: 0 | F28: 587
A29: pomorskie | B29: 513 | C29: 771 | D29: 764 | E29: 0 | F29: 520
A30: śląskie | B30: 280 | C30: 571 | D30: 590 | E30: 0 | F30: 261
... A34: zachodniopomorskie | B34: 223 | C34: 374 | D34: 427 | E34: 0 | F34: 170

Sheet Tab 6 i 7
A1: ='Tab 2 i 3'!A1:D1 -> I. EMERYTURY I RENTY REALIZOWANE PRZEZ KRUS
A2: TABLICA 6. DECYZJE I POSTĘPOWANIA UMORZONE W SPRAWACH O EMERYTURY I RENTY WEDŁUG RODZAJÓW ŚWIADCZEŃ | H2: Powrót do spisu treści
A3: Wyszczególnienie | B3: Liczba wydanych decyzji i postępowań umorzonych | C3: Liczba wydanych decyzji | G3: Postępowania umorzone
C4: Ogółem | D4: przyznających świadczenia | E4: odmownych | F4: udział odmownych decyzji do ogółem wydanych decyzji
B5: ='Tab 4 i 5'!B6:F6 -> II KWARTAŁ 2024 R.
A6: OGÓŁEM | B6: =C6+G6 -> 22079 | C6: =D6+E6 -> 21842 | D6: =D7+D8 -> 20094 | E6: =E7+E8 -> 1748 | F6: =E6/C6 -> 0.080029301 | G6: =G7+G8 -> 237
A7: Emerytury razem | B7: 8786 | C7: 8702 | D7: 8259 | E7: 443 | F7: =E7/C7 -> 0.050907837 | G7: 84
A8: Renty razem, z tego: | B8: 13293 | C8: 13140 | D8: 11835 | E8: 1305 | F8: =E8/C8 -> 0.099315068 | G8: 153
A9: Renty z tytułu niezdolności do pracy razem | B9: 12347 | C9: 12211 | D9: 10958 | E9: 1253 | F9: =E9/C9 -> 0.1026124 | G9: 136
A10: w tym renty z tytułu niezdolności do pracy wypadkowe | B10: 521 | C10: 514 | D10: 428 | E10: 86 | F10: =E10/C10 -> 0.16731518 | G10: 7
A11: Renty rodzinne | B11: 946 | C11: 929 | D11: 877 | E11: 52 | F11: =E11/C11 -> 0.055974166 | G11: 17
A13: TABLICA 7. DECYZJE I POSTĘPOWANIA UMORZONE W SPRAWACH O EMERYTURY I RENTY WEDŁUG WOJEWÓDZTW
A14: Wyszczególnienie | B14: Liczba wydanych decyzji i postępowań umorzonych | C14: Liczba wydanych decyzji | G14: Postępowania umorzone
C15: Ogółem | D15: przyznających świadczenia | E15: odmownych | F15: udział odmownych decyzji do ogółem wydanych decyzji
B16: =B5 -> II KWARTAŁ 2024 R.
A17: OGÓŁEM | B17: =SUM(B18:B33) -> 22079 | C17: =SUM(C18:C33) -> 21842 | D17: =SUM(D18:D33) -> 20094 | E17: =SUM(E18:E33) -> 1748 | F17: =E17/C17 -> 0.080029301 | G17: =SUM(G18:G33) -> 237
A18: dolnośląskie | B18: 623 | C18: 619 | D18: 577 | E18: 42 | F18: =E18/C18 -> 0.067851373 | G18: 4
A19: kujawsko-pomorskie | B19: 1406 | C19: 1391 | D19: 1269 | E19: 122 | F19: =E19/C19 -> 0.087706686 | G19: 15
A20: lubelskie | B20: 2531 | C20: 2500 | D20: 2237 | E20: 263 | F20: =E20/C20 -> 0.1052 | G20: 31
A21: lubuskie | B21: 231 | C21: 229 | D21: 220 | E21: 9 | F21: =E21/C21 -> 0.03930131 | G21: 2
A22: łódzkie | B22: 1618 | C22: 1611 | D22: 1492 | E22: 119 | F22: =E22/C22 -> 0.073867163 | G22: 7
A23: małopolskie | B23: 2350 | C23: 2337 | D23: 2207 | E23: 130 | F23: =E23/C23 -> 0.055626872 | G23: 13
A24: mazowieckie | B24: 3425 | C24: 3406 | D24: 3162 | E24: 244 | F24: =E24/C24 -> 0.071638285 | G24: 19
A25: opolskie | B25: 383 | C25: 378 | D25: 346 | E25: 32 | F25: =E25/C25 -> 0.084656085 | G25: 5
A26: podkarpackie | B26: 1512 | C26: 1482 | D26: 1366 | E26: 116 | F26: =E26/C26 -> 0.078272605 | G26: 30
A27: podlaskie | B27: 1706 | C27: 1680 | D27: 1507 | E27: 173 | F27: =E27/C27 -> 0.10297619 | G27: 26
A28: pomorskie | B28: 764 | C28: 755 | D28: 713 | E28: 42 | F28: =E28/C28 -> 0.055629139 | G28: 9
A29: śląskie | B29: 590 | C29: 588 | D29: 539 | E29: 49 | F29: =E29/C29 -> 0.083333333 | G29: 2
... A33: zachodniopomorskie | B33: 427 | C33: 423 | D33: 392 | E33: 31 | F33: =E33/C33 -> 0.073286052 | G33: 4

Sheet Tab 8 i 9
A1: ='Tab 6 i 7'!A1:G1 -> I. EMERYTURY I RENTY REALIZOWANE PRZEZ KRUS
H2: Powrót do spisu treści
A3: TABLICA 8. WNIOSKI O PRZYZNANIE EMERYTUR I RENT ROLNICZYCH ROZPATRYWANE Z ZASTOSOWANIEM PRZEPISÓW WSPÓLNOTOWYCH UE
A4: Wyszczególnienie | B4: Liczba wniosków pozostałych do załatwienia z poprzedniego okresu sprawozdawczego | C4: Liczba wniosków które wpłynęły w okresie sprawozdawczym | D4: Liczba wniosków przekazanych do instytucji zagranicznych | E4: Liczba spraw załatwionych ogółem | F4: Liczba spraw, w których trwa postępowanie międzynarodowe
B5: ='Tab 6 i 7'!B5:G5 -> II KWARTAŁ 2024 R.
A6: OGÓŁEM | B6: =B7+B8 -> 1111 | C6: =C7+C8 -> 983 | D6: =D7+D8 -> 331 | E6: =E7+E8 -> 1155 | F6: =F7+F8 -> 1111
A7: Emerytury razem | B7: 492 | C7: 479 | D7: 173 | E7: 623 | F7: 466
A8: Renty razem, z tego: | B8: =B9+B11 -> 619 | C8: =C9+C11 -> 504 | D8: =D9+D11 -> 158 | E8: =E9+E11 -> 532 | F8: =F9+F11 -> 645
A9: Renty z tytułu niezdolności do pracy razem | B9: 533 | C9: 441 | D9: 140 | E9: 447 | F9: 572
A10: w tym renty z tytułu niezdolności do pracy wypadkowe | B10: 14 | C10: 13 | D10: 2 | E10: 14 | F10: 13
A11: Renty rodzinne | B11: 86 | C11: 63 | D11: 18 | E11: 85 | F11: 73
A13: TABLICA 9. DECYZJE W SPRAWACH WNIOSKÓW O PRZYZNANIE EMERYTUR I RENT ROLNICZYCH Z ZASTOSOWANIEM PRZEPISÓW WSPÓLNOTOWYCH UE
A14: Wyszczególnienie | B14: Liczba wydanych decyzji
B15: Ogółem | C15: w tym: | G15: Decyzji odmownych
C16: Decyzji ostatecznych | F16: Decyzji tymczasowych
C17: Razem | D17: Płatne pro rata temporis 1) | E17: Płatne na podstawie tylko polskich okresów ubezpieczenia
B18: =B5 -> II KWARTAŁ 2024 R.
A19: OGÓŁEM | B19: =C19+F19+G19 -> 1065 | C19: =SUM(D19:E19) -> 741 | D19: =D20+D21 -> 290 | E19: =E20+E21 -> 451 | F19: =F20+F21 -> 195 | G19: =G20+G21 -> 129
A20: Emerytury razem | B20: =C20+F20+G20 -> 578 | C20: =SUM(D20:E20) -> 385 | D20: 168 | E20: 217 | F20: 107 | G20: 86
A21: Renty razem, z tego: | B21: =C21+F21+G21 -> 487 | C21: =SUM(D21:E21) -> 356 | D21: 122 | E21: 234 | F21: 88 | G21: 43
A22: Renty z tytułu niezdolności do pracy razem | B22: =C22+F22+G22 -> 409 | C22: =SUM(D22:E22) -> 302 | D22: 100 | E22: 202 | F22: 74 | G22: 33
A23: w tym renty z tytułu niezdolności do pracy wypadkowe | B23: =C23+F23+G23 -> 12 | C23: =SUM(D23:E23) -> 10 | D23: 1 | E23: 9 | F23: 1 | G23: 1
A24: Renty rodzinne | B24: =C24+F24+G24 -> 78 | C24: =SUM(D24:E24) -> 54 | D24: 22 | E24: 32 | F24: 14 | G24: 10
A25: 1) "pro rata temporis" emerytura ustalana i wypłacana jest w wysokościach częściowych, wynikających z proporcji okresów ubezpieczenia przebytych w danym państwie członkowskim do łącznych okresów ubezpieczenia przebytych we wszystkich państwach członkowskich. Każde państwo wypłaca emeryturę (rentę) wyłącznie za okresy ubezpieczenia przebyte na swoim terytorium.

Sheet Tab 10 i 11
A1: ='Tab 8 i 9'!A1:G1 -> I. EMERYTURY I RENTY REALIZOWANE PRZEZ KRUS
G2: Powrót do spisu treści
A3: TABLICA 10. WNIOSKI O PRZYZNANIE EMERYTUR I RENT ROLNICZYCH Z ZASTOSOWANIEM POSTANOWIEŃ UMÓW DWUSTRONNYCH O ZABEZPIECZENIU SPOŁECZNYM
A4: Wyszczególnienie | B4: Liczba wniosków pozostałych do załatwienia z poprzedniego okresu sprawozdawczego | C4: Liczba wniosków które wpłynęły w okresie sprawozdawczym | D4: Liczba wniosków przekazanych do instytucji zagranicznych | E4: Liczba spraw załatwionych ogółem | F4: Liczba spraw, w których trwa postępowanie międzynarodowe
B5: ='Tab 8 i 9'!B18:G18 -> II KWARTAŁ 2024 R.
A6: OGÓŁEM | B6: =B7+B8 -> 37 | C6: =C7+C8 -> 20 | D6: =D7+D8 -> 0 | E6: =E7+E8 -> 27 | F6: =F7+F8 -> 30
A7: Emerytury razem | B7: 30 | C7: 19 | D7: 0 | E7: 25 | F7: 24
A8: Renty razem, z tego: | B8: =B9+B11 -> 7 | C8: =C9+C11 -> 1 | D8: =D9+D11 -> 0 | E8: =E9+E11 -> 2 | F8: =F9+F11 -> 6
A9: Renty z tytułu niezdolności do pracy razem | B9: 6 | C9: 1 | D9: 0 | E9: 1 | F9: 6
A10: w tym renty z tytułu niezdolności do pracy wypadkowe | B10: 0 | C10: 0 | D10: 0 | E10: 0 | F10: 0
A11: Renty rodzinne | B11: 1 | C11: 0 | D11: 0 | E11: 1 | F11: 0
A13: TABLICA 11. DECYZJE W SPRAWACH WNIOSKÓW O PRZYZNANIE EMERYTUR I RENT ROLNICZYCH Z ZASTOSOWANIEM POSTANOWIEŃ UMÓW DWUSTRONNYCH O ZABEZPIECZENIU SPOŁECZNYM
A14: Wyszczególnienie | B14: Liczba wydanych decyzji
B15: Ogółem | C15: w tym: | F15: Decyzji odmownych
C16: Decyzji ostatecznych
C17: Razem | D17: Płatne pro rata temporis 1) | E17: Płatne na podstawie tylko polskich okresów ubezpieczenia
B18: =B5 -> II KWARTAŁ 2024 R.
A19: OGÓŁEM | B19: =B20+B21 -> 25 | C19: =C20+C21 -> 21 | D19: =D20+D21 -> 9 | E19: =E20+E21 -> 12 | F19: =F20+F21 -> 4
A20: Emerytury razem | B20: 23 | C20: 20 | D20: 9 | E20: 11 | F20: 3
A21: Renty razem, z tego: | B21: =B22+B24 -> 2 | C21: =C22+C24 -> 1 | D21: =D22+D24 -> 0 | E21: =E22+E24 -> 1 | F21: =F22+F24 -> 1
A22: Renty z tytułu niezdolności do pracy razem | B22: 1 | C22: 0 | D22: 0 | E22: 0 | F22: 1
A23: w tym renty z tytułu niezdolności do pracy wypadkowe | B23: 0 | C23: 0 | D23: 0 | E23: 0 | F23: 0
A24: Renty rodzinne | B24: 1 | C24: 1 | D24: 0 | E24: 1 | F24: 0
A25: 1) "pro rata temporis" emerytura ustalana i wypłacana jest w wysokościach częściowych, wynikających z proporcji okresów ubezpieczenia przebytych w danym państwie członkowskim do łącznych okresów ubezpieczenia przebytych we wszystkich państwach członkowskich. Każde państwo wypłaca emeryturę (rentę) wyłącznie za okresy ubezpieczenia przebyte na swoim terytorium.

Sheet Tab 12
A1: ='Tab 10 i 11'!A1:F1 -> I. EMERYTURY I RENTY REALIZOWANE PRZEZ KRUS
A3: TABLICA 12. ŚWIADCZENIA EMERYTALNO-RENTOWE TRANSFEROWANE DO POSZCZEGÓLNYCH PAŃSTW UE/EFTA I WIELKIEJ BRYTANII ORAZ DO INNYCH PAŃSTW NA PODSTAWIE UMÓW DWUSTRONNYCH | L3: Powrót do spisu treści
A4: Wyszczególnienie | B4: Razem emerytury i renty | D4: Emerytury | F4: Renty z tytułu niezdolności do pracy | H4: w tym: renty z tytułu niezdolności do pracy wypadkowe | J4: Renty rodzinne
B5: Przeciętna liczba osób | C5: Kwota wypłat w zł | D5: Przeciętna liczba osób | E5: Kwota wypłat w zł | F5: Przeciętna liczba osób | G5: Kwota wypłat w zł | H5: Przeciętna liczba osób | I5: Kwota wypłat w zł | J5: Przeciętna liczba osób | K5: Kwota wypłat w zł
B6: ='Tab 10 i 11'!B18:F18 -> II KWARTAŁ 2024 R.
A7: OGÓŁEM | B7: 4058 | C7: 13800945 | D7: 3364 | E7: 11072778 | F7: 319 | G7: 1493393 | H7: 3 | I7: 18705.36 | J7: 376 | K7: 1234774.6
A8: w tym:
A9: świadczenia "zbiegowe" | B9: 41 | C9: 283688.26 | D9: 40 | E9: 277075.42 | F9: 1 | G9: 6612.84 | H9: 0 | I9: 0 | J9: 0 | K9: 0
A10: z tego:
A11: do państw UE/EFTA i Wielkiej Brytanii razem | B11: 3768 | C11: 12231659 | D11: 3098 | E11: 9634935.1 | F11: 312 | G11: 1455259.1 | H11: 3 | I11: 18705.36 | J11: 359 | K11: 1141464.6
A12: Austria | B12: 119 | C12: 415644.98 | D12: 79 | E12: 237075.38 | F12: 32 | G12: 151028.55 | H12: 0 | I12: 0 | J12: 8 | K12: 27541.05
A13: Belgia | B13: 65 | C13: 358727.71 | D13: 28 | E13: 146197.09 | F13: 31 | G13: 196689.09 | H13: 0 | I13: 0 | J13: 5 | K13: 15841.53
A14: Bułgaria | B14: 0 | C14: 0 | D14: 0 | E14: 0 | F14: 0 | G14: 0 | H14: 0 | I14: 0 | J14: 0 | K14: 0
A15: Chorwacja | B15: 0 | C15: 0 | D15: 0 | E15: 0 | F15: 0 | G15: 0 | H15: 0 | I15: 0 | J15: 0 | K15: 0
A16: Cypr | B16: 0 | C16: 0 | D16: 0 | E16: 0 | F16: 0 | G16: 0 | H16: 0 | I16: 0 | J16: 0 | K16: 0
A17: Czechy | B17: 2 | C17: 10701.15 | D17: 0 | E17: 0 | F17: 2 | G17: 10701.15 | H17: 0 | I17: 0 | J17: 0 | K17: 0
A18: Dania | B18: 1 | C18: 5342.88 | D18: 0 | E18: 0 | F18: 0 | G18: 0 | H18: 0 | I18: 0 | J18: 1 | K18: 5342.88
A19: Estonia | B19: 0 | C19: 0 | D19: 0 | E19: 0 | F19: 0 | G19: 0 | H19: 0 | I19: 0 | J19: 0 | K19: 0
A20: Finlandia | B20: 1 | C20: 5342.88 | D20: 0 | E20: 0 | F20: 0 | G20: 0 | H20: 0 | I20: 0 | J20: 1 | K20: 5342.88
A21: Francja | B21: 22 | C21: 122898.24 | D21: 20 | E21: 121708.53 | F21: 1 | G21: 495.18 | H21: 0 | I21: 0 | J21: 1 | K21: 694.53
A22: Grecja | B22: 2 | C22: 6669.04 | D22: 1 | E22: 1326.16 | F22: 0 | G22: 0 | H22: 0 | I22: 0 | J22: 1 | K22: 5342.88
... A55: USA | B55: 133 | C55: 800377.71 | D55: 126 | E55: 758410.95 | F55: 2 | G55: 11911.05 | H55: 0 | I55: 0 | J55: 5 | K55: 30055.71

Sheet Tab 1 (13)
A1: II. FUNDUSZ EMERYTALNO-RENTOWY
A2: TABLICA 1 (13). PRZECIĘTNA MIESIĘCZNA LICZBA EMERYTUR I RENT WEDŁUG RODZAJÓW ŚWIADCZEŃ | J2: Powrót do spisu treści
A3: Wyszczególnienie | B3: ='Tab 2 i 3'!B4:C4 -> 2023 rok | D3: ='Tab 2 i 3'!D4:I4 -> 2024 rok
B4: ='Tab 1'!B4:B5 -> II kwartał | C4: ='Tab 1'!C4:C5 -> I półrocze | D4: ='Tab 1'!D4:D5 -> I kwartał | E4: ='Tab 1'!E4:E5 -> II kwartał | F4: ='Tab 1'!F4:F5 -> I półrocze | G4: porównanie (wzrost/spadek)
G5: ='Tab 2 i 3'!G6 -> II kwartału 2024 r. z I kwartałem 2024 r. | H5: ='Tab 2 i 3'!H6 -> II kwartału 2024 r. z II kwartałem 2023 r. | I5: ='Tab 2 i 3'!I6 -> I półrocza 2024 r. z I półroczem 2023 r.
A6: OGÓŁEM
A7: EMERYTURY I RENTY ogółem | B7: 976542 | C7: 977606 | D7: 968496 | E7: 968321 | F7: 968408 | G7: =E7/D7-1 -> -0.00018069254 | H7: =E7/B7-1 -> -0.0084184807 | I7: =F7/C7-1 -> -0.0094086984
A8: Emerytury | B8: 762160 | C8: 762642 | D8: 761183 | E8: 761153 | F8: 761168 | G8: =E8/D8-1 -> -3.9412336e-05 | H8: =E8/B8-1 -> -0.0013212449 | I8: =F8/C8-1 -> -0.0019327548
A9: Renty | B9: 214381 | C9: 214965 | D9: 207313 | E9: 207168 | F9: 207240 | G9: =E9/D9-1 -> -0.00069942551 | H9: =E9/B9-1 -> -0.033645706 | I9: =F9/C9-1 -> -0.035936083
A10: EMERYTURY
A11: EMERYTURY RAZEM | B11: 762160 | C11: 762642 | D11: 761183 | E11: 761153 | F11: 761168 | G11: =E11/D11-1 -> -3.9412336e-05 | H11: =E11/B11-1 -> -0.0013212449 | I11: =F11/C11-1 -> -0.0019327548
A12: Emerytury rolnicze | B12: 689842 | C12: 688672 | D12: 697217 | E12: 700079 | F12: 698648 | G12: =E12/D12-1 -> 0.0041048913 | H12: =E12/B12-1 -> 0.01483963 | I12: =F12/C12-1 -> 0.014485851
A13: Emerytury za przekazane gospodarstwo rolne Państwu | B13: 11679 | C13: 11946 | D13: 10287 | E13: 9824 | F13: 10055 | G13: =E13/D13-1 -> -0.045008263 | H13: =E13/B13-1 -> -0.15883209 | I13: =F13/C13-1 -> -0.15829566
A14: Emerytury za przekazane gospodarstwo rolne następcy | B14: 58198 | C14: 59564 | D14: 51312 | E14: 48911 | F14: 50112 | G14: =E14/D14-1 -> -0.046792173 | H14: =E14/B14-1 -> -0.15957593 | I14: =F14/C14-1 -> -0.15868645
A15: Emerytury nie związane z przekazaniem gospodarstwa rolnego | B15: 2442 | C15: 2460 | D15: 2367 | E15: 2339 | F15: 2353 | G15: =E15/D15-1 -> -0.01182932 | H15: =E15/B15-1 -> -0.042178542 | I15: =F15/C15-1 -> -0.043495935
A16: RENTY
A17: RENTY RAZEM | B17: 214381 | C17: 214965 | D17: 207313 | E17: 207168 | F17: 207240 | G17: =E17/D17-1 -> -0.00069942551 | H17: =E17/B17-1 -> -0.033645706 | I17: =F17/C17-1 -> -0.035936083
A18: RENTY Z TYTUŁU NIEZDOLNOŚCI DO PRACY RAZEM | B18: 173258 | C18: 173860 | D18: 167029 | E18: 166871 | F18: 166950 | G18: =E18/D18-1 -> -0.00094594352 | H18: =E18/B18-1 -> -0.036864099 | I18: =F18/C18-1 -> -0.039744622
A19: w tym renty z tytułu niezdolności do pracy wypadkowe | B19: 11606 | C19: 11646 | D19: 11186 | E19: 11174 | F19: 11180 | G19: =E19/D19-1 -> -0.0010727695 | H19: =E19/B19-1 -> -0.037222126 | I19: =F19/C19-1 -> -0.040013739
A20: Renty rolnicze z tytułu niezdolności do pracy | B20: 171415 | C20: 171980 | D20: 165383 | E20: 165295 | F20: 165339 | G20: =E20/D20-1 -> -0.00053209822 | H20: =E20/B20-1 -> -0.035702826 | I20: =F20/C20-1 -> -0.038614955
A21: Renty z tytułu niezdolności do pracy za przekazane gospodarstwo rolne Państwu | B21: 127 | C21: 134 | D21: 109 | E21: 107 | F21: 108 | G21: =E21/D21-1 -> -0.018348624 | H21: =E21/B21-1 -> -0.15748031 | I21: =F21/C21-1 -> -0.19402985
A22: Renty z tytułu niezdolności do pracy za przekazane gospodarstwo rolne następcy | B22: 414 | C22: 422 | D22: 374 | E22: 356 | F22: 365 | G22: =E22/D22-1 -> -0.048128342 | H22: =E22/B22-1 -> -0.14009662 | I22: =F22/C22-1 -> -0.13507109
A23: Renty z tytułu niezdolności do pracy nie związane z przekazaniem gospodarstwa rolnego | B23: 1301 | C23: 1324 | D23: 1163 | E23: 1112 | F23: 1138 | G23: =E23/D23-1 -> -0.043852107 | H23: =E23/B23-1 -> -0.14527287 | I23: =F23/C23-1 -> -0.14048338
A24: RENTY RODZINNE RAZEM | B24: 41123 | C24: 41105 | D24: 40284 | E24: 40297 | F24: 40290 | G24: =E24/D24-1 -> 0.00032270877 | H24: =E24/B24-1 -> -0.020086083 | I24: =F24/C24-1 -> -0.019827272
A25: w tym renty rodzinne wypadkowe | B25: 784 | C25: 786 | D25: 744 | E25: 745 | F25: 744 | G25: =E25/D25-1 -> 0.001344086 | H25: =E25/B25-1 -> -0.049744898 | I25: =F25/C25-1 -> -0.053435115
A26: Renty rodzinne rolnicze | B26: 39782 | C26: 39752 | D26: 38998 | E26: 39026 | F26: 39012 | G26: =E26/D26-1 -> 0.00071798554 | H26: =E26/B26-1 -> -0.019003569 | I26: =F26/C26-1 -> -0.018615416
A27: Renty rodzinne za przekazane gospodarstwo rolne Państwu | B27: 276 | C27: 279 | D27: 261 | E27: 256 | F27: 258 | G27: =E27/D27-1 -> -0.019157088 | H27: =E27/B27-1 -> -0.072463768 | I27: =F27/C27-1 -> -0.075268817
A28: Renty rodzinne za przekazane gospodarstwo rolne następcy | B28: 738 | C28: 745 | D28: 704 | E28: 696 | F28: 700 | G28: =E28/D28-1 -> -0.011363636 | H28: =E28/B28-1 -> -0.056910569 | I28: =F28/C28-1 -> -0.060402685
A29: Renty rodzinne nie związane z przekazaniem gospodarstwa rolnego | B29: 327 | C29: 329 | D29: 321 | E29: 319 | F29: 320 | G29: =E29/D29-1 -> -0.0062305296 | H29: =E29/B29-1 -> -0.024464832 | I29: =F29/C29-1 -> -0.027355623

Sheet Tab 2 (14) i wykres 1
A1: ='Tab 1 (13)'!A1:I1 -> II. FUNDUSZ EMERYTALNO-RENTOWY
A2: TABLICA 2 (14). PRZECIĘTNA MIESIĘCZNA LICZBA ŚWIADCZENIOBIORCÓW ORAZ LICZBA UBEZPIECZONYCH WEDŁUG WOJEWÓDZTW | F2: Powrót do spisu treści
A3: Wyszczególnienie | B3: Przeciętna miesięczna liczba świadczeniobiorców w II kwartale 2024 r. | C3: Liczba ubezpieczonych stan na 30 czerwca 2024 r.
A4: dolnośląskie | B4: 36154 | C4: 34944
A5: kujawsko-pomorskie | B5: 66136 | C5: 54025
A6: lubelskie | B6: 122436 | C6: 129812
A7: lubuskie | B7: 12507 | C7: 11846
A8: łódzkie | B8: 81569 | C8: 80545
A9: małopolskie | B9: 85676 | C9: 123350
A10: mazowieckie | B10: 149558 | C10: 143689
A11: opolskie | B11: 19143 | C11: 22019
A12: podkarpackie | B12: 54388 | C12: 75295
A13: podlaskie | B13: 68516 | C13: 71808
A14: pomorskie | B14: 31973 | C14: 34254
A15: śląskie | B15: 26811 | C15: 28063
... A19: zachodniopomorskie | B19: 20546 | C19: 20128
A20: MON | B20: 66
A21: MSWiA | B21: 295
A22: MS | B22: 29
A23: Ogółem | B23: 968321 | C23: =SUM(C4:C19) -> 1021755
A25: WYKRES NR 1. PRZECIĘTNA MIESIĘCZNA LICZBA ŚWIADCZENIOBIORCÓW NA TLE LICZBY UBEZPIECZONYCH

Sheet Tab 3 (15) i wykres 2
A1: ='Tab 2 (14) i wykres 1'!A1:E1 -> II. FUNDUSZ EMERYTALNO-RENTOWY
A2: TABLICA 3 (15). PRZECIĘTNE MIESIĘCZNE ŚWIADCZENIA EMERYTALNO-RENTOWE WEDŁUG WOJEWÓDZTW | F2: Powrót do spisu treści
A3: Wyszczególnienie | B3: Świadczenia rolne wypłacane z FER | C3: Świadczenia realizowane przez KRUS ogółem
B4: w złotych
B5: ='Tab 6 i 7'!B5:G5 -> II KWARTAŁ 2024 R.
A6: dolnośląskie | B6: 2034.89 | C6: 2195.82
A7: kujawsko-pomorskie | B7: 2101.7 | C7: 2176.38
A8: lubelskie | B8: 2047.48 | C8: 2145.12
A9: lubuskie | B9: 1974.18 | C9: 2262.53
A10: łódzkie | B10: 2074.53 | C10: 2152.38
A11: małopolskie | B11: 2000.04 | C11: 2080.04
A12: mazowieckie | B12: 2064.62 | C12: 2125.83
A13: opolskie | B13: 2078.54 | C13: 2186.1
A14: podkarpackie | B14: 2029.45 | C14: 2116.51
A15: podlaskie | B15: 2077.37 | C15: 2138.26
A16: pomorskie | B16: 2071.19 | C16: 2177.17
A17: śląskie | B17: 1970.21 | C17: 2250.95
... A24: MS | B24: 882.88 | C24: 882.88
A27: WYKRES NR 2. PRZECIĘTNE MIESIĘCZNE ŚWIADCZENIA ROLNE WYPŁACANE Z FER W ODNIESIENIU DO ŚWIADCZEŃ REALIZOWANYCH PRZEZ KRUS OGÓŁEM

Sheet Tab 4 (16)
A1: ='Tab 3 (15) i wykres 2'!A1:E1 -> II. FUNDUSZ EMERYTALNO-RENTOWY
A3: TABLICA 4 (16). PRZECIĘTNA MIESIĘCZNA LICZBA EMERYTUR I RENT WEDŁUG WOJEWÓDZTW ORAZ ŚWIADCZEŃ EMERYTALNYCH WYPŁACONYCH PRZEZ MON, MSWiA i MS | I3: Powrót do spisu treści
A4: Wyszczególnienie | B4: Ogółem | C4: z tego:
C5: emerytury | D5: renty razem | E5: z tego:
E6: z tytułu niezdolności do pracy | G6: rodzinne
E7: ogółem | F7: w tym wypadkowe | G7: ogółem | H7: w tym wypadkowe
B9: I PÓŁROCZE 2024 R.
A10: OGÓŁEM | B10: 968408 | C10: 761168 | D10: 207240 | E10: 166950 | F10: 11180 | G10: 40290 | H10: 744
A11: dolnośląskie | B11: 36177 | C11: 28894 | D11: 7282 | E11: 5862 | F11: 435 | G11: 1420 | H11: 20
A12: kujawsko-pomorskie | B12: 66139 | C12: 51950 | D12: 14189 | E12: 11854 | F12: 952 | G12: 2335 | H12: 55
A13: lubelskie | B13: 122516 | C13: 96232 | D13: 26284 | E13: 21365 | F13: 1391 | G13: 4919 | H13: 103
A14: lubuskie | B14: 12527 | C14: 9370 | D14: 3157 | E14: 2620 | F14: 170 | G14: 537 | H14: 10
A15: łódzkie | B15: 81614 | C15: 68989 | D15: 12625 | E15: 9758 | F15: 844 | G15: 2867 | H15: 38
A16: małopolskie | B16: 85481 | C16: 58357 | D16: 27124 | E16: 23340 | F16: 1107 | G16: 3785 | H16: 65
A17: mazowieckie | B17: 149512 | C17: 122027 | D17: 27485 | E17: 20719 | F17: 1490 | G17: 6766 | H17: 109
A18: opolskie | B18: 19164 | C18: 16560 | D18: 2605 | E18: 1931 | F18: 151 | G18: 674 | H18: 15
A19: podkarpackie | B19: 54476 | C19: 40934 | D19: 13542 | E19: 11302 | F19: 591 | G19: 2240 | H19: 26
A20: podlaskie | B20: 68553 | C20: 55075 | D20: 13479 | E20: 10637 | F20: 736 | G20: 2841 | H20: 57
A21: pomorskie | B21: 31966 | C21: 24119 | D21: 7847 | E21: 6350 | F21: 413 | G21: 1497 | H21: 28
... A26: zachodniopomorskie | B26: 20577 | C26: 16363 | D26: 4214 | E26: 3398 | F26: 244 | G26: 817 | H26: 16
A27: Emerytury finansowane z funduszu emerytalno-rentowego, wypłacane przez MON, MSWiA, MS z tego: | B27: =C27 -> 396 | C27: 396 | D27: 0 | E27: 0 | F27: 0 | G27: 0 | H27: 0
A28: MON | B28: =C28 -> 67 | C28: 67 | D28: 0 | E28: 0 | F28: 0 | G28: 0 | H28: 0
A29: MSWiA | B29: =C29 -> 299 | C29: 299 | D29: 0 | E29: 0 | F29: 0 | G29: 0 | H29: 0
A30: MS | B30: =C30 -> 30 | C30: 30 | D30: 0 | E30: 0 | F30: 0 | G30: 0 | H30: 0

Sheet Tab 5 (17)
A1: ='Tab 4 (16)'!A1:H1 -> II. FUNDUSZ EMERYTALNO-RENTOWY
A3: TABLICA 5 (17). WYDATKI NA ŚWIADCZENIA EMERYTALNO-RENTOWE WEDŁUG RODZAJÓW ŚWIADCZEŃ | J3: Powrót do spisu treści
A4: Wyszczególnienie | B4: ='Tab 1 (13)'!B3:C3 -> 2023 rok | D4: ='Tab 1 (13)'!D3:I3 -> 2024 rok
B5: ='Tab 2 i 3'!B5:B6 -> II kwartał | C5: ='Tab 2 i 3'!C5:C6 -> I półrocze | D5: ='Tab 2 i 3'!D5:D6 -> I kwartał | E5: ='Tab 2 i 3'!E5:E6 -> II kwartał | F5: ='Tab 2 i 3'!F5:F6 -> I półrocze | G5: porównanie (wzrost/spadek)
G6: ='Tab 1'!G5 -> II kwartału 2024 r. z I kwartałem 2024 r. | H6: ='Tab 1'!H5 -> II kwartału 2024 r. z II kwartałem 2023 r. | I6: ='Tab 1'!I5 -> I półrocza 2024 r. z I półroczem 2023 r.
B7: w złotych
A8: OGÓŁEM1)
A9: EMERYTURY I RENTY z tego: | B9: =B10+B11 -> 5.3250968e+09 | C9: =C10+C11 -> 9.9101472e+09 | D9: =D10+D11 -> 5.5260894e+09 | E9: =E10+E11 -> 5.949937e+09 | F9: =F10+F11 -> 1.1476026e+10 | G9: =E9/D9-1 -> 0.076699372 | H9: =E9/B9-1 -> 0.11733875 | I9: =F9/C9-1 -> 0.15800767
A10: Emerytury | B10: =B13 -> 4.2005045e+09 | C10: =C13 -> 7.8006966e+09 | D10: =D13 -> 4.3745123e+09 | E10: =E13 -> 4.7157758e+09 | F10: =F13 -> 9.0902881e+09 | G10: =E10/D10-1 -> 0.078011785 | H10: =E10/B10-1 -> 0.12266892 | I10: =F10/C10-1 -> 0.16531748
A11: Renty | B11: =B19 -> 1.1245924e+09 | C11: =C19 -> 2.1094506e+09 | D11: =D19 -> 1.1515771e+09 | E11: =E19 -> 1.2341612e+09 | F11: =F19 -> 2.3857384e+09 | G11: =E11/D11-1 -> 0.071713889 | H11: =E11/B11-1 -> 0.097429842 | I11: =F11/C11-1 -> 0.13097617
A12: EMERYTURY
A13: EMERYTURY RAZEM | B13: =SUM(B14:B17) -> 4.2005045e+09 | C13: =SUM(C14:C17) -> 7.8006966e+09 | D13: =SUM(D14:D17) -> 4.3745123e+09 | E13: =SUM(E14:E17) -> 4.7157758e+09 | F13: =SUM(F14:F17) -> 9.0902881e+09 | G13: =E13/D13-1 -> 0.078011785 | H13: =E13/B13-1 -> 0.12266892 | I13: =F13/C13-1 -> 0.16531748
A14: Emerytury rolnicze | B14: 3.8591908e+09 | C14: 7.1414682e+09 | D14: 4.0571452e+09 | E14: 4.3885256e+09 | F14: 8.4456708e+09 | G14: =E14/D14-1 -> 0.081678202 | H14: =E14/B14-1 -> 0.13716212 | I14: =F14/C14-1 -> 0.18262388
A15: Emerytury za przekazane gospodarstwo rolne Państwu | B15: 52458616 | C15: 1.0110413e+08 | D15: 49043939 | E15: 50413115 | F15: 99457054 | G15: =E15/D15-1 -> 0.027917335 | H15: =E15/B15-1 -> -0.038992654 | I15: =F15/C15-1 -> -0.016290935
A16: Emerytury za przekazane gospodarstwo rolne następcy | B16: 2.7577399e+08 | C16: 5.3314671e+08 | D16: 2.5513127e+08 | E16: 2.6281378e+08 | F16: 5.1794504e+08 | G16: =E16/D16-1 -> 0.030111997 | H16: =E16/B16-1 -> -0.046995775 | I16: =F16/C16-1 -> -0.028513112
A17: Emerytury nie związane z przekazaniem gospodarstwa rolnego | B17: 13081065 | C17: 24977580 | D17: 13191827 | E17: 14023325 | F17: 27215151 | G17: =E17/D17-1 -> 0.063031303 | H17: =E17/B17-1 -> 0.072032286 | I17: =F17/C17-1 -> 0.089583161
A18: RENTY
A19: RENTY RAZEM z tego: | B19: =B20+B26 -> 1.1245924e+09 | C19: =C20+C26 -> 2.1094506e+09 | D19: =D20+D26 -> 1.1515771e+09 | E19: =E20+E26 -> 1.2341612e+09 | F19: =F20+F26 -> 2.3857384e+09 | G19: =E19/D19-1 -> 0.071713889 | H19: =E19/B19-1 -> 0.097429842 | I19: =F19/C19-1 -> 0.13097617
A20: RENTY Z TYTUŁU NIEZDOLNOŚCI DO PRACY RAZEM | B20: =SUM(B22:B25) -> 8.9009289e+08 | C20: =SUM(C22:C25) -> 1.6641003e+09 | D20: =SUM(D22:D25) -> 9.1087988e+08 | E20: =SUM(E22:E25) -> 9.7588121e+08 | F20: =SUM(F22:F25) -> 1.8867611e+09 | G20: =E20/D20-1 -> 0.071361033 | H20: =E20/B20-1 -> 0.096381312 | I20: =F20/C20-1 -> 0.13380248
A21: w tym renty z tytułu niezdolności do pracy wypadkowe | B21: 60969880 | C21: 1.1288931e+08 | D21: 61892309 | E21: 66411983 | F21: 1.2830429e+08 | G21: =E21/D21-1 -> 0.073024814 | H21: =E21/B21-1 -> 0.089258879 | I21: =F21/C21-1 -> 0.13654957
A22: Renty rolnicze z tytułu niezdolności do pracy | B22: 8.8133425e+08 | C22: 1.6472314e+09 | D22: 9.0276468e+08 | E22: 9.6752704e+08 | F22: 1.8702917e+09 | G22: =E22/D22-1 -> 0.071737802 | H22: =E22/B22-1 -> 0.097798066 | I22: =F22/C22-1 -> 0.13541529
A23: Renty z tytułu niezdolności do pracy za przekazane gospodarstwo rolne Państwu | B23: 545949.03 | C23: 1058305.7 | D23: 484057.51 | E23: 506976.72 | F23: 991034.23 | G23: =E23/D23-1 -> 0.047348114 | H23: =E23/B23-1 -> -0.071384521 | I23: =F23/C23-1 -> -0.063565245
A24: Renty z tytułu niezdolności do pracy za przekazane gospodarstwo rolne następcy | B24: 1641064.2 | C24: 3160726.5 | D24: 1527942.9 | E24: 1550614.2 | F24: 3078557.1 | G24: =E24/D24-1 -> 0.014837806 | H24: =E24/B24-1 -> -0.055116656 | I24: =F24/C24-1 -> -0.025996998
A25: Renty z tytułu niezdolności do pracy nie związane z przekazaniem gospodarstwa rolnego | B25: 6571628.8 | C25: 12649905 | D25: 6103200.9 | E25: 6296586.3 | F25: 12399787 | G25: =E25/D25-1 -> 0.031685886 | H25: =E25/B25-1 -> -0.041853029 | I25: =F25/C25-1 -> -0.019772299
A26: RENTY RODZINNE RAZEM | B26: =SUM(B28:B31) -> 2.3449947e+08 | C26: =SUM(C28:C31) -> 4.4535026e+08 | D26: =SUM(D28:D31) -> 2.4069726e+08 | E26: =SUM(E28:E31) -> 2.5828001e+08 | F26: =SUM(F28:F31) -> 4.9897727e+08 | G26: =E26/D26-1 -> 0.073049212 | H26: =E26/B26-1 -> 0.10140976 | I26: =F26/C26-1 -> 0.12041535
A27: w tym renty rodzinne wypadkowe | B27: 4666697.2 | C27: 8780262.1 | D27: 4739756.4 | E27: 5067654 | F27: 9807410.4 | G27: =E27/D27-1 -> 0.069180279 | H27: =E27/B27-1 -> 0.085918758 | I27: =F27/C27-1 -> 0.11698379
A28: Renty rodzinne rolnicze | B28: 2.2548941e+08 | C28: 4.2809355e+08 | D28: 2.3167046e+08 | E28: 2.4865855e+08 | F28: 4.8032901e+08 | G28: =E28/D28-1 -> 0.073328716 | H28: =E28/B28-1 -> 0.10275049 | I28: =F28/C28-1 -> 0.12201881
A29: Renty rodzinne za przekazane gospodarstwo rolne Państwu | B29: 1906681.2 | C29: 3660405.4 | D29: 1874245.2 | E29: 1995358.6 | F29: 3869603.8 | G29: =E29/D29-1 -> 0.064619832 | H29: =E29/B29-1 -> 0.046508782 | I29: =F29/C29-1 -> 0.057151691
A30: Renty rodzinne za przekazane gospodarstwo rolne następcy | B30: 4982652.1 | C30: 9574921.8 | D30: 4983708.6 | E30: 5318630.5 | F30: 10302339 | G30: =E30/D30-1 -> 0.067203352 | H30: =E30/B30-1 -> 0.067429639 | I30: =F30/C30-1 -> 0.075971099
A31: Renty rodzinne nie związane z przekazaniem gospodarstwa rolnego | B31: 2120732 | C31: 4021390.2 | D31: 2168851 | E31: 2307464.1 | F31: 4476315.1 | G31: =E31/D31-1 -> 0.063910812 | H31: =E31/B31-1 -> 0.088050768 | I31: =F31/C31-1 -> 0.11312628
A32: 1) Kwota nie obejmuje należnych świadczeń z innych systemów ubezpieczeniowych, wypłacanych w tzw. zbiegu z emeryturą lub rentą rolną.

Sheet Wykres 3
A1: ='Tab 2 (14) i wykres 1'!A1:E1 -> II. FUNDUSZ EMERYTALNO-RENTOWY | G1: Powrót do spisu treści
A3: Dane do wykresu nr 3
A4: Wyszczególnienie | B4: Emerytury | C4: Renty z tytułu niezdolności do pracy | D4: Renty rodzinne | E4: Emerytury finansowane z Funduszu Emerytalno-Rentowego, a wypłacane przez MON, MSWiA i MS | F4: Ogółem
A5: Kwota w zł | B5: ='Tab 5 (17)'!E13-'Wykres 3'!E5 -> 4.7146865e+09 | C5: ='Tab 5 (17)'!E20 -> 9.7588121e+08 | D5: ='Tab 5 (17)'!E26 -> 2.5828001e+08 | E5: 1089282.6 | F5: =SUM(B5:E5) -> 5.949937e+09
A6: Udział procentowy | B6: =ROUND(B5/$F$5,4) -> 0.7924 | C6: =ROUND(C5/$F$5,4) -> 0.164 | D6: =ROUND(D5/$F$5,4) -> 0.0434 | E6: =ROUND(E5/$F$5,4) -> 0.0002 | F6: =F5/$F$5 -> 1

Sheet Tab 6 (18)
A1: ='Tab 1 (13)'!A1 -> II. FUNDUSZ EMERYTALNO-RENTOWY
A3: TABLICA 6 (18). WYDATKI NA ŚWIADCZENIA EMERYTALNO-RENTOWE WEDŁUG WOJEWÓDZTW ORAZ ŚWIADCZENIA EMERYTALNE WYPŁACONE PRZEZ MON, MSWiA i MS | I3: Powrót do spisu treści
A4: Wyszczególnienie | B4: Ogółem1) | C4: z tego:
C5: emerytury | D5: renty razem | E5: z tego:
E6: z tytułu niezdolności do pracy | G6: rodzinne
E7: ogółem | F7: w tym wypadkowe | G7: ogółem | H7: w tym wypadkowe
B9: ='Tab 4 (16)'!B9:H9 -> I PÓŁROCZE 2024 R.
B10: w złotych
A11: OGÓŁEM | B11: =SUM(B12:B28) -> 1.1476026e+10 | C11: =SUM(C12:C28) -> 9.0902881e+09 | D11: =SUM(D12:D27) -> 2.3857384e+09 | E11: =SUM(E12:E27) -> 1.8867611e+09 | F11: =SUM(F12:F27) -> 1.2830429e+08 | G11: =SUM(G12:G27) -> 4.9897727e+08 | H11: =SUM(H12:H27) -> 9807410.4
A12: dolnośląskie | B12: =SUM(C12:D12) -> 4.2600167e+08 | C12: 3.4342007e+08 | D12: 82581595 | E12: 65750013 | F12: 4813537.8 | G12: 16831581 | H12: 245923.96
A13: kujawsko-pomorskie | B13: =SUM(C13:D13) -> 8.036998e+08 | C13: 6.3503594e+08 | D13: 1.6866386e+08 | E13: 1.3664578e+08 | F13: 11300869 | G13: 32018079 | H13: 815347.47
A14: lubelskie | B14: =SUM(C14:D14) -> 1.4512283e+09 | C14: 1.14809e+09 | D14: 3.0313833e+08 | E14: 242442238 | F14: 16051170 | G14: 60696090 | H14: 1263814
A15: lubuskie | B15: =SUM(C15:D15) -> 1.4326088e+08 | C15: 1.0782599e+08 | D15: 35434888 | E15: 29010550 | F15: 1841065.3 | G15: 6424338.2 | H15: 116301.84
A16: łódzkie | B16: =SUM(C16:D16) -> 978970138 | C16: 8.2532479e+08 | D16: 1.5364535e+08 | E16: 1.1131589e+08 | F16: 9677102.6 | G16: 42329452 | H16: 770576.28
A17: małopolskie | B17: =SUM(C17:D17) -> 9.9062103e+08 | C17: 6.839259e+08 | D17: 3.0669513e+08 | E17: 261752895 | F17: 12539361 | G17: 44942236 | H17: 813229.79
A18: mazowieckie | B18: =SUM(C18:D18) -> 1.7859359e+09 | C18: 1.4713693e+09 | D18: 3.1456662e+08 | E18: 2.3352804e+08 | F18: 17250738 | G18: 81038577 | H18: 1389961.9
A19: opolskie | B19: =SUM(C19:D19) -> 2.3026688e+08 | C19: 1.9927073e+08 | D19: 30996156 | E19: 22209094 | F19: 1760987.6 | G19: 8787062.8 | H19: 189102.84
A20: podkarpackie | B20: =SUM(C20:D20) -> 6.3969712e+08 | C20: 4.858895e+08 | D20: 1.5380762e+08 | E20: 1.2609742e+08 | F20: 6551645.9 | G20: 27710197 | H20: 363709.64
A21: podlaskie | B21: =SUM(C21:D21) -> 8.2348687e+08 | C21: 6.6685516e+08 | D21: 1.5663172e+08 | E21: 1.2008467e+08 | F21: 8523721.5 | G21: 36547046 | H21: 752953.16
A22: pomorskie | B22: =SUM(C22:D22) -> 3.8322503e+08 | C22: 2.9233887e+08 | D22: 90886156 | E22: 72141656 | F22: 4821402.1 | G22: 18744500 | H22: 374377.45
A23: śląskie | B23: =SUM(C23:D23) -> 3.0623199e+08 | C23: 2.4694151e+08 | D23: 59290472 | E23: 48030073 | F23: 3406454.7 | G23: 11260399 | H23: 227444.76
... A27: zachodniopomorskie | B27: =SUM(C27:D27) -> 2.4673794e+08 | C27: 1.9747585e+08 | D27: 49262090 | E27: 38377464 | F27: 2795760.5 | G27: 10884626 | H27: 193266.6
A28: Emerytury finansowane z funduszu emerytalno-rentowego, wypłacane przez MON, MSWiA, MS z tego: | B28: =B29+B30+B31 -> 2132147.3 | C28: =C29+C30+C31 -> 2132147.3 | D28: 0 | E28: 0 | F28: 0 | G28: 0 | H28: 0
A29: MON | B29: =C29 -> 408959.2 | C29: 408959.2 | D29: 0 | E29: 0 | F29: 0 | G29: 0 | H29: 0
A30: MSWiA | B30: =C30 -> 1576112.4 | C30: 1576112.4 | D30: 0 | E30: 0 | F30: 0 | G30: 0 | H30: 0
A31: MS | B31: =C31 -> 147075.68 | C31: 147075.68 | D31: 0 | E31: 0 | F31: 0 | G31: 0 | H31: 0
A32: 1) Kwota nie obejmuje należnych świadczeń z innych systemów ubezpieczeniowych, wypłacanych w tzw. zbiegu z emeryturą lub rentą rolną.

Sheet Tab 7 (19)
A1: ='Tab 1 (13)'!A1 -> II. FUNDUSZ EMERYTALNO-RENTOWY
A3: TABLICA 7 (19). PRZECIĘTNE MIESIĘCZNE ŚWIADCZENIE EMERYTALNO-RENTOWE WEDŁUG RODZAJÓW ŚWIADCZEŃ | J3: Powrót do spisu treści
A4: Wyszczególnienie | B4: ='Tab 5 (17)'!B4:C4 -> 2023 rok | D4: ='Tab 5 (17)'!D4:I4 -> 2024 rok
B5: ='Tab 5 (17)'!B5:B6 -> II kwartał | C5: ='Tab 5 (17)'!C5:C6 -> I półrocze | D5: ='Tab 5 (17)'!D5:D6 -> I kwartał | E5: ='Tab 5 (17)'!E5:E6 -> II kwartał | F5: ='Tab 5 (17)'!F5:F6 -> I półrocze | G5: porównanie (wzrost/spadek)
G6: ='Tab 5 (17)'!G6:G7 -> II kwartału 2024 r. z I kwartałem 2024 r. | H6: ='Tab 5 (17)'!H6:H7 -> II kwartału 2024 r. z II kwartałem 2023 r. | I6: ='Tab 5 (17)'!I6:I7 -> I półrocza 2024 r. z I półroczem 2023 r.
B7: w złotych
A8: OGÓŁEM1)
A9: EMERYTURY I RENTY z tego: | B9: 1817.67 | C9: 1689.53 | D9: 1901.95 | E9: 2048.2 | F9: 1975.07 | G9: =E9/D9-1 -> 0.076894766 | H9: =E9/B9-1 -> 0.1268272 | I9: =F9/C9-1 -> 0.16900558
A10: Emerytury | B10: 1837.1 | C10: 1704.75 | D10: 1915.66 | E10: 2065.19 | F10: 1990.43 | G10: =E10/D10-1 -> 0.078056649 | H10: =E10/B10-1 -> 0.12415764 | I10: =F10/C10-1 -> 0.16757882
A11: Renty | B11: 1748.59 | C11: 1635.5 | D11: 1851.59 | E11: 1985.77 | F11: 1918.66 | G11: =E11/D11-1 -> 0.072467447 | H11: =E11/B11-1 -> 0.13564072 | I11: =F11/C11-1 -> 0.1731336
A12: EMERYTURY
A13: EMERYTURY RAZEM | B13: 1837.1 | C13: 1704.75 | D13: 1915.66 | E13: 2065.19 | F13: 1990.43 | G13: =E13/D13-1 -> 0.078056649 | H13: =E13/B13-1 -> 0.12415764 | I13: =F13/C13-1 -> 0.16757882
A14: Emerytury rolnicze | B14: 1864.77 | C14: 1728.32 | D14: 1939.69 | E14: 2089.54 | F14: 2014.77 | G14: =E14/D14-1 -> 0.077254613 | H14: =E14/B14-1 -> 0.12053497 | I14: =F14/C14-1 -> 0.16573898
A15: Emerytury za przekazane gospodarstwo rolne Państwu | B15: 1497.28 | C15: 1410.55 | D15: 1589.24 | E15: 1710.54 | F15: 1648.5 | G15: =E15/D15-1 -> 0.076325791 | H15: =E15/B15-1 -> 0.14243161 | I15: =F15/C15-1 -> 0.16869306
A16: Emerytury za przekazane gospodarstwo rolne następcy | B16: 1579.52 | C16: 1491.8 | D16: 1657.37 | E16: 1791.09 | F16: 1722.63 | G16: =E16/D16-1 -> 0.080682044 | H16: =E16/B16-1 -> 0.13394576 | I16: =F16/C16-1 -> 0.15473254
A17: Emerytury nie związane z przekazaniem gospodarstwa rolnego | B17: 1785.57 | C17: 1692.36 | D17: 1857.74 | E17: 1998.19 | F17: 1927.56 | G17: =E17/D17-1 -> 0.075602614 | H17: =E17/B17-1 -> 0.11907682 | I17: =F17/C17-1 -> 0.13897752
A18: RENTY
A19: RENTY RAZEM z tego: | B19: 1748.59 | C19: 1635.5 | D19: 1851.59 | E19: 1985.77 | F19: 1918.66 | G19: =E19/D19-1 -> 0.072467447 | H19: =E19/B19-1 -> 0.13564072 | I19: =F19/C19-1 -> 0.1731336
A20: RENTY Z TYTUŁU NIEZDOLNOŚCI DO PRACY RAZEM | B20: 1712.46 | C20: 1595.25 | D20: 1817.8 | E20: 1949.38 | F20: 1883.56 | G20: =E20/D20-1 -> 0.072384201 | H20: =E20/B20-1 -> 0.13835068 | I20: =F20/C20-1 -> 0.18073029
A21: w tym renty z tytułu niezdolności do pracy wypadkowe | B21: 1751.15 | C21: 1615.64 | D21: 1844.39 | E21: 1981.21 | F21: 1912.76 | G21: =E21/D21-1 -> 0.074181708 | H21: =E21/B21-1 -> 0.13137652 | I21: =F21/C21-1 -> 0.18390235
A22: Renty rolnicze z tytułu niezdolności do pracy | B22: 1713.84 | C22: 1596.34 | D22: 1819.54 | E22: 1951.11 | F22: 1885.31 | G22: =E22/D22-1 -> 0.072309485 | H22: =E22/B22-1 -> 0.1384435 | I22: =F22/C22-1 -> 0.18102033
A23: Renty z tytułu niezdolności do pracy za przekazane gospodarstwo rolne Państwu | B23: 1429.19 | C23: 1313.03 | D23: 1475.79 | E23: 1579.37 | F23: 1527.02 | G23: =E23/D23-1 -> 0.070186138 | H23: =E23/B23-1 -> 0.1050805 | I23: =F23/C23-1 -> 0.16297419
A24: Renty z tytułu niezdolności do pracy za przekazane gospodarstwo rolne następcy | B24: 1320.24 | C24: 1249.79 | D24: 1363.02 | E24: 1451.89 | F24: 1406.38 | G24: =E24/D24-1 -> 0.065200804 | H24: =E24/B24-1 -> 0.099716718 | I24: =F24/C24-1 -> 0.12529305
A25: Renty z tytułu niezdolności do pracy nie związane z przekazaniem gospodarstwa rolnego | B25: 1683.31 | C25: 1592.18 | D25: 1748.77 | E25: 1886.9 | F25: 1816.29 | G25: =E25/D25-1 -> 0.078986945 | H25: =E25/B25-1 -> 0.12094623 | I25: =F25/C25-1 -> 0.1407567
A26: RENTY RODZINNE RAZEM | B26: 1900.8 | C26: 1805.76 | D26: 1991.69 | E26: 2136.47 | F26: 2064.09 | G26: =E26/D26-1 -> 0.072692035 | H26: =E26/B26-1 -> 0.12398464 | I26: =F26/C26-1 -> 0.14305888
A27: w tym renty rodzinne wypadkowe | B27: 1983.3 | C27: 1861.8 | D27: 2124.5 | E27: 2267.41 | F27: 2196.02 | G27: =E27/D27-1 -> 0.067267592 | H27: =E27/B27-1 -> 0.14325115 | I27: =F27/C27-1 -> 0.17951445
A28: Renty rodzinne rolnicze | B28: 1889.39 | C28: 1794.87 | D28: 1980.19 | E28: 2123.85 | F28: 2052.05 | G28: =E28/D28-1 -> 0.072548594 | H28: =E28/B28-1 -> 0.12409296 | I28: =F28/C28-1 -> 0.14328614
A29: Renty rodzinne za przekazane gospodarstwo rolne Państwu | B29: 2305.54 | C29: 2185.32 | D29: 2393.67 | E29: 2601.51 | F29: 2496.52 | G29: =E29/D29-1 -> 0.086829012 | H29: =E29/B29-1 -> 0.1283734 | I29: =F29/C29-1 -> 0.14240477
A30: Renty rodzinne za przekazane gospodarstwo rolne następcy | B30: 2249.5 | C30: 2142.52 | D30: 2359.71 | E30: 2548.46 | F30: 2453.52 | G30: =E30/D30-1 -> 0.079988643 | H30: =E30/B30-1 -> 0.13290064 | I30: =F30/C30-1 -> 0.14515617
A31: Renty rodzinne nie związane z przekazaniem gospodarstwa rolnego | B31: 2159.6 | C31: 2037.18 | D31: 2254.52 | E31: 2408.63 | F31: 2331.41 | G31: =E31/D31-1 -> 0.068356014 | H31: =E31/B31-1 -> 0.11531302 | I31: =F31/C31-1 -> 0.14443005
A32: 1) Kwota nie obejmuje należnych świadczeń z innych systemów ubezpieczeniowych, wypłacanych w tzw. zbiegu z emeryturą lub rentą rolną.

Sheet Tab 8 (20)
A1: ='Tab 1 (13)'!A1 -> II. FUNDUSZ EMERYTALNO-RENTOWY
A3: TABLICA 8 (20). PRZECIĘTNE MIESIĘCZNE ŚWIADCZENIE EMERYTALNO-RENTOWE WEDŁUG WOJEWÓDZTW ORAZ PRZECIĘTNE MIESIĘCZNE ŚWIADCZENIE EMERYTALNE WYPŁACONE PRZEZ MON, MSWiA i MS | I3: Powrót do spisu treści
A4: Wyszczególnienie | B4: Ogółem1) | C4: w tym:
C5: emerytury | D5: renty razem | E5: z tego:
E6: z tytułu niezdolności do pracy | G6: rodzinne
E7: ogółem | F7: w tym wypadkowe | G7: ogółem | H7: w tym wypadkowe
B9: ='Tab 6 (18)'!B9:H9 -> I PÓŁROCZE 2024 R.
B10: w złotych
A11: OGÓŁEM | B11: 1975.07 | C11: 1990.43 | D11: 1918.66 | E11: 1883.56 | F11: 1912.76 | G11: 2064.09 | H11: 2196.02
A12: dolnośląskie | B12: 1962.61 | C12: 1980.91 | D12: 1890 | E12: 1869.39 | F12: 1846.39 | G12: 1975.07 | H12: 2049.37
A13: kujawsko-pomorskie | B13: 2025.28 | C13: 2037.34 | D13: 1981.13 | E13: 1921.26 | F13: 1978.44 | G13: 2285.05 | H13: 2463.29
A14: lubelskie | B14: 1974.2 | C14: 1988.41 | D14: 1922.19 | E14: 1891.24 | F14: 1922.76 | G14: 2056.59 | H14: 2048.32
A15: lubuskie | B15: 1906.1 | C15: 1917.93 | D15: 1871 | E15: 1845.57 | F15: 1803.2 | G15: 1995.14 | H15: 1938.36
A16: łódzkie | B16: 1999.2 | C16: 1993.87 | D16: 2028.32 | E16: 1901.21 | F16: 1910.21 | G16: 2461.01 | H16: 3364.96
A17: małopolskie | B17: 1931.47 | C17: 1953.29 | D17: 1884.51 | E17: 1869.16 | F17: 1887.32 | G17: 1979.22 | H17: 2101.37
