{"text_format":"1","workbook":"xlsx","n_sheets":14,"sheets":["Rozliczenie kwartalne","Załącznik nr 1 do rozliczenia","Załącznik nr 2 do rozliczenia","Podsumowanie","Dane JST","Dane zbiorcze","Weryfikacja 1","Weryfikacja 2","Weryfikacja 3","Miesiące","Dane - linie 1","Dane - linie 2","Dane - linie 3","Dane linie - kwartalnie"],"not_rendered":{"charts":0,"images":3,"macros":1,"external_links":0,"defined_names":413,"comments":0,"pivot_tables":0},"unopened":[],"bounds":{"document_bytes":16777216,"sheet_cells":100000,"rows_first":2000,"rows_last":500,"rows_between":2000,"halvings":0,"cell_chars":16384,"cell_head_chars":4096},"cells_cut":0,"cells_raw":0,"read":"whole","date_system":"1900"}

{"sheet":"Rozliczenie kwartalne","index":0,"n_rows":532,"n_cols":14,"rows_kept":532,"cut":false,"hidden":false,"merged":[[1,10,1,13],[0,10,0,12],[32,7,32,13],[32,5,32,6],[32,0,32,4],[27,7,27,13],[150,6,150,8],[15,2,15,3],[16,2,16,3],[5,2,5,3],[6,2,6,3],[7,2,7,3],[8,2,8,3],[9,2,9,3],[10,2,10,3],[11,2,11,3],[13,2,13,3],[14,2,14,3],[26,1,26,6],[24,1,24,6],[24,7,24,13],[27,1,27,6],[519,0,519,13],[532,0,532,13],[525,4,525,12],[523,4,524,12],[527,4,528,12],[526,4,526,12],[530,1,530,2],[521,8,521,9],[521,0,521,7],[518,0,518,13],[12,1,12,3],[31,0,31,13],[23,0,23,13],[2,6,2,8],[150,0,150,1],[28,0,28,13],[4,1,4,3],[25,7,25,13],[25,1,25,6],[21,0,21,13],[19,0,20,4],[26,7,26,13],[394,0,394,13],[19,6,20,13],[152,0,152,13],[271,0,271,1],[153,7,153,13],[153,5,153,6],[153,0,153,4],[271,6,271,8],[273,0,273,13],[392,0,392,1],[274,5,274,6],[274,7,274,13],[274,0,274,4],[392,6,392,8],[397,0,397,13],[398,0,398,4],[398,5,398,6],[398,7,398,13],[516,0,516,1],[516,6,516,8]]}
[{"$f":"IF(C6=\"\",\"\",H26&\"#\"&ROUND(I522,2)&\"#\"&C6&\"#\")","v":""},null,null,null,null,null,null,{"$f":"IF('Załącznik nr 1 do rozliczenia'!F1:H1=\"\",\"\",'Załącznik nr 1 do rozliczenia'!F1:H1)","v":""},null,null,{"$f":"IF('Załącznik nr 1 do rozliczenia'!F1=\"\",\"\",'Załącznik nr 1 do rozliczenia'!F1)","v":""},null,null,{"$f":"IF('Załącznik nr 1 do rozliczenia'!I1=\"\",\"\",'Załącznik nr 1 do rozliczenia'!I1)","v":""}]
[null,null,null,null,null,null,null,null,null,null,"          (miejscowość, data)"]
[]
[]
[null,"A1. ORGANIZATOR PUBLICZNEGO TRANSPORTU ZBIOROWEGO\n(dane wypełnią się automatycznie po wpisaniu poprawnego numeru umowy w części A.3)"]
[null,"Nazwa organizatora publicznego transportu zbiorowego",{"$f":"IFERROR(VLOOKUP($H$26,'Dane JST'!$B$2:$E$172,4,0),\"\")","v":""}]
[null,"NIP",{"$f":"IFERROR(VLOOKUP($H$26,'Dane JST'!$B$2:$E$172,2,0),\"\")","v":""}]
[null,"REGON",{"$f":"IFERROR(VLOOKUP($H$26,'Dane JST'!$B$2:$E$172,3,0),\"\")","v":""}]
[null,"Adres",{"$f":"IFERROR(VLOOKUP($H$26,'Dane JST'!B2:F172,5,0),\"\")","v":""}]
[null,"Powiat",{"$f":"IFERROR(VLOOKUP($H$26,'Dane JST'!B2:H172,7,0),\"\")","v":""}]
[null,"Województwo",{"$f":"'Załącznik nr 1 do rozliczenia'!C11","v":"mazowieckie"}]
[null,"Numer dysponenta",{"$f":"IFERROR(VLOOKUP($H$26,'Dane JST'!B2:I172,8,0),\"\")","v":""}]
[null,"A2. Dane osoby do kontaktu w sprawie wniosku"]
[null,"Imię"]
[null,"Nazwisko"]
[null,"Telefon "]
[null,"Adres e-mail"]
[]
[null,null,null,null,null,"Wojewoda Mazowiecki\nWydział Infrastruktury i Rolnictwa\npl. Bankowy 3/5\n00-950 Warszawa"]
["ROZLICZENIE KWARTALNE DOPŁAT ZA OKRES ROZLICZENIOWY",null,null,null,null,null," 2026 ROKU DO REALIZACJI ZADAŃ WŁASNYCH  ORGANIZATORA"]
[null,null,null,null,null,{"$f":"IF('Załącznik nr 1 do rozliczenia'!E22=\"\",\"\",'Załącznik nr 1 do rozliczenia'!E22)","v":""}]
[" W ZAKRESIE PRZEWOZÓW AUTOBUSOWYCH O CHARAKTERZE UŻYTECZNOŚCI  PUBLICZNEJ PRZEZ DOPŁATĘ DO CENY USŁUGI"]
[]
["A.3  Informacje dotyczące organizatora publicznego transportu zbiorowego"]
["1.","Rodzaj wniosku (w przypadku korekty w polu \"uwagi\" opisać zakres korygowanych wartości)"]
["2.","Numer umowy o dopłatę "]
["3.","Data zawarcia umowy o dopłatę",null,null,null,null,null,{"$f":"IFERROR(VLOOKUP(H26,'Dane JST'!B2:J172,9,0),\"\")","v":""}]
["4.","Liczba linii komunikacyjnych podlegających rozliczeniu"]
["*niepotrzebne skreślić"]
[]
[]
["B.1 Dane dotyczące linii komunikacyjnych "]
["MIESIĄC",null,null,null,null,{"$f":"'Załącznik nr 1 do rozliczenia'!D29","v":""},null,"2026 r."]
["Lp.","Nazwa linii komunikacyjnej","Liczba przewiezionych osób","Wielkość pracy eksploatacyjnej w okresie rozliczeniowym [wzkm]","Deficyt w okresie rozliczeniowym [zł]","Kwota środków własnych organizatora \n[zł]","Cena usługi \n[zł]","Część ceny usługi sfinansowana ze środków własnych organizatora  [zł/wzkm]","Procentowa wartość części ceny usługi sfinansowanej ze środków własnych organizatora \n[%]","Należna kwota dopłaty w okresie rozliczeniowym [zł]","Pobrana dopłata w okresie rozliczeniowym - wniosek kwartalny \n[zł]","Niewykorzystana kwota dopłaty z poprzedniego okresu rozliczeniowego (rozliczona w bieżącym okresie)\n[zł]","Faktycznie wypłacona kwota dopłaty w bieżącym okresie\n[zł]","Niewykorzystana kwota dopłaty w bieżącym okresie rozliczeniowym\n[zł]"]
[null,1,"2","3","4","5","6","7","8","9","10","11","12","13"]
[{"$f":"'Załącznik nr 1 do rozliczenia'!A32","v":"1"},{"$f":"IF('Załącznik nr 1 do rozliczenia'!B32:C32=\"\",\"\",'Załącznik nr 1 do rozliczenia'!B32:C32)","v":""},null,{"$f":"'Załącznik nr 2 do rozliczenia'!H29","v":0},{"$f":"IF('Załącznik nr 1 do rozliczenia'!H32<0,ABS('Załącznik nr 1 do rozliczenia'!H32),0)","v":0},null,{"$f":"IFERROR(E36/D36,0)","v":0},{"$f":"IFERROR(F36/D36,0)","v":0},{"$f":"IFERROR(ROUND(H36/G36,4),0)","v":0},{"$f":"'Weryfikacja 1'!W3","v":0},null,null,{"$f":"K36-L36","v":0},{"$f":"IF(M36-J36<0,0,M36-J36)","v":0}]
[{"$f":"'Załącznik nr 1 do rozliczenia'!A33","v":"2"},{"$f":"IF('Załącznik nr 1 do rozliczenia'!B33:C33=\"\",\"\",'Załącznik nr 1 do rozliczenia'!B33:C33)","v":""},null,{"$f":"'Załącznik nr 2 do rozliczenia'!H30","v":0},{"$f":"IF('Załącznik nr 1 do rozliczenia'!H33<0,ABS('Załącznik nr 1 do rozliczenia'!H33),0)","v":0},null,{"$f":"IFERROR(E37/D37,0)","v":0},{"$f":"IFERROR(F37/D37,0)","v":0},{"$f":"IFERROR(ROUND(H37/G37,4),0)","v":0},{"$f":"'Weryfikacja 1'!W4","v":0},null,null,{"$f":"K37-L37","v":0},{"$f":"IF(M37-J37<0,0,M37-J37)","v":0}]
[{"$f":"'Załącznik nr 1 do rozliczenia'!A34","v":"3"},{"$f":"IF('Załącznik nr 1 do rozliczenia'!B34:C34=\"\",\"\",'Załącznik nr 1 do rozliczenia'!B34:C34)","v":""},null,{"$f":"'Załącznik nr 2 do rozliczenia'!H31","v":0},{"$f":"IF('Załącznik nr 1 do rozliczenia'!H34<0,ABS('Załącznik nr 1 do rozliczenia'!H34),0)","v":0},null,0,0,0,{"$f":"'Weryfikacja 1'!W5","v":0},null,null,0,0]
[{"$f":"'Załącznik nr 1 do rozliczenia'!A35","v":"4"},{"$f":"IF('Załącznik nr 1 do rozliczenia'!B35:C35=\"\",\"\",'Załącznik nr 1 do rozliczenia'!B35:C35)","v":""},null,{"$f":"'Załącznik nr 2 do rozliczenia'!H32","v":0},{"$f":"IF('Załącznik nr 1 do rozliczenia'!H35<0,ABS('Załącznik nr 1 do rozliczenia'!H35),0)","v":0},null,0,0,0,{"$f":"'Weryfikacja 1'!W6","v":0},null,null,0,0]
[{"$f":"'Załącznik nr 1 do rozliczenia'!A36","v":"5"},{"$f":"IF('Załącznik nr 1 do rozliczenia'!B36:C36=\"\",\"\",'Załącznik nr 1 do rozliczenia'!B36:C36)","v":""},null,{"$f":"'Załącznik nr 2 do rozliczenia'!H33","v":0},{"$f":"IF('Załącznik nr 1 do rozliczenia'!H36<0,ABS('Załącznik nr 1 do rozliczenia'!H36),0)","v":0},null,0,0,0,{"$f":"'Weryfikacja 1'!W7","v":0},null,null,0,0]
[{"$f":"'Załącznik nr 1 do rozliczenia'!A37","v":"6"},{"$f":"IF('Załącznik nr 1 do rozliczenia'!B37:C37=\"\",\"\",'Załącznik nr 1 do rozliczenia'!B37:C37)","v":""},null,{"$f":"'Załącznik nr 2 do rozliczenia'!H34","v":0},{"$f":"IF('Załącznik nr 1 do rozliczenia'!H37<0,ABS('Załącznik nr 1 do rozliczenia'!H37),0)","v":0},null,0,0,0,{"$f":"'Weryfikacja 1'!W8","v":0},null,null,0,0]
[{"$f":"'Załącznik nr 1 do rozliczenia'!A38","v":"7"},{"$f":"IF('Załącznik nr 1 do rozliczenia'!B38:C38=\"\",\"\",'Załącznik nr 1 do rozliczenia'!B38:C38)","v":""},null,{"$f":"'Załącznik nr 2 do rozliczenia'!H35","v":0},{"$f":"IF('Załącznik nr 1 do rozliczenia'!H38<0,ABS('Załącznik nr 1 do rozliczenia'!H38),0)","v":0},null,0,0,0,{"$f":"'Weryfikacja 1'!W9","v":0},null,null,0,0]
[{"$f":"'Załącznik nr 1 do rozliczenia'!A39","v":"8"},{"$f":"IF('Załącznik nr 1 do rozliczenia'!B39:C39=\"\",\"\",'Załącznik nr 1 do rozliczenia'!B39:C39)","v":""},null,{"$f":"'Załącznik nr 2 do rozliczenia'!H36","v":0},{"$f":"IF('Załącznik nr 1 do rozliczenia'!H39<0,ABS('Załącznik nr 1 do rozliczenia'!H39),0)","v":0},null,0,0,0,{"$f":"'Weryfikacja 1'!W10","v":0},null,null,0,0]
[{"$f":"'Załącznik nr 1 do rozliczenia'!A40","v":"9"},{"$f":"IF('Załącznik nr 1 do rozliczenia'!B40:C40=\"\",\"\",'Załącznik nr 1 do rozliczenia'!B40:C40)","v":""},null,{"$f":"'Załącznik nr 2 do rozliczenia'!H37","v":0},{"$f":"IF('Załącznik nr 1 do rozliczenia'!H40<0,ABS('Załącznik nr 1 do rozliczenia'!H40),0)","v":0},null,0,0,0,{"$f":"'Weryfikacja 1'!W11","v":0},null,null,0,0]
[{"$f":"'Załącznik nr 1 do rozliczenia'!A41","v":"10"},{"$f":"IF('Załącznik nr 1 do rozliczenia'!B41:C41=\"\",\"\",'Załącznik nr 1 do rozliczenia'!B41:C41)","v":""},null,{"$f":"'Załącznik nr 2 do rozliczenia'!H38","v":0},{"$f":"IF('Załącznik nr 1 do rozliczenia'!H41<0,ABS('Załącznik nr 1 do rozliczenia'!H41),0)","v":0},null,0,0,0,{"$f":"'Weryfikacja 1'!W12","v":0},null,null,0,0]
[{"$f":"'Załącznik nr 1 do rozliczenia'!A42","v":"11"},{"$f":"IF('Załącznik nr 1 do rozliczenia'!B42:C42=\"\",\"\",'Załącznik nr 1 do rozliczenia'!B42:C42)","v":""},null,{"$f":"'Załącznik nr 2 do rozliczenia'!H39","v":0},{"$f":"IF('Załącznik nr 1 do rozliczenia'!H42<0,ABS('Załącznik nr 1 do rozliczenia'!H42),0)","v":0},null,0,0,0,{"$f":"'Weryfikacja 1'!W13","v":0},null,null,0,0]
[{"$f":"'Załącznik nr 1 do rozliczenia'!A43","v":"12"},{"$f":"IF('Załącznik nr 1 do rozliczenia'!B43:C43=\"\",\"\",'Załącznik nr 1 do rozliczenia'!B43:C43)","v":""},null,{"$f":"'Załącznik nr 2 do rozliczenia'!H40","v":0},{"$f":"IF('Załącznik nr 1 do rozliczenia'!H43<0,ABS('Załącznik nr 1 do rozliczenia'!H43),0)","v":0},null,0,0,0,{"$f":"'Weryfikacja 1'!W14","v":0},null,null,0,0]
[{"$f":"'Załącznik nr 1 do rozliczenia'!A44","v":"13"},{"$f":"IF('Załącznik nr 1 do rozliczenia'!B44:C44=\"\",\"\",'Załącznik nr 1 do rozliczenia'!B44:C44)","v":""},null,{"$f":"'Załącznik nr 2 do rozliczenia'!H41","v":0},{"$f":"IF('Załącznik nr 1 do rozliczenia'!H44<0,ABS('Załącznik nr 1 do rozliczenia'!H44),0)","v":0},null,0,0,0,{"$f":"'Weryfikacja 1'!W15","v":0},null,null,0,0]
[{"$f":"'Załącznik nr 1 do rozliczenia'!A45","v":"14"},{"$f":"IF('Załącznik nr 1 do rozliczenia'!B45:C45=\"\",\"\",'Załącznik nr 1 do rozliczenia'!B45:C45)","v":""},null,{"$f":"'Załącznik nr 2 do rozliczenia'!H42","v":0},{"$f":"IF('Załącznik nr 1 do rozliczenia'!H45<0,ABS('Załącznik nr 1 do rozliczenia'!H45),0)","v":0},null,0,0,0,{"$f":"'Weryfikacja 1'!W16","v":0},null,null,0,0]
[{"$f":"'Załącznik nr 1 do rozliczenia'!A46","v":"15"},{"$f":"IF('Załącznik nr 1 do rozliczenia'!B46:C46=\"\",\"\",'Załącznik nr 1 do rozliczenia'!B46:C46)","v":""},null,{"$f":"'Załącznik nr 2 do rozliczenia'!H43","v":0},{"$f":"IF('Załącznik nr 1 do rozliczenia'!H46<0,ABS('Załącznik nr 1 do rozliczenia'!H46),0)","v":0},null,0,0,0,{"$f":"'Weryfikacja 1'!W17","v":0},null,null,0,0]
[{"$f":"'Załącznik nr 1 do rozliczenia'!A47","v":"16"},{"$f":"IF('Załącznik nr 1 do rozliczenia'!B47:C47=\"\",\"\",'Załącznik nr 1 do rozliczenia'!B47:C47)","v":""},null,{"$f":"'Załącznik nr 2 do rozliczenia'!H44","v":0},{"$f":"IF('Załącznik nr 1 do rozliczenia'!H47<0,ABS('Załącznik nr 1 do rozliczenia'!H47),0)","v":0},null,0,0,0,{"$f":"'Weryfikacja 1'!W18","v":0},null,null,0,0]
[{"$f":"'Załącznik nr 1 do rozliczenia'!A48","v":"17"},{"$f":"IF('Załącznik nr 1 do rozliczenia'!B48:C48=\"\",\"\",'Załącznik nr 1 do rozliczenia'!B48:C48)","v":""},null,{"$f":"'Załącznik nr 2 do rozliczenia'!H45","v":0},{"$f":"IF('Załącznik nr 1 do rozliczenia'!H48<0,ABS('Załącznik nr 1 do rozliczenia'!H48),0)","v":0},null,0,0,0,{"$f":"'Weryfikacja 1'!W19","v":0},null,null,0,0]
[{"$f":"'Załącznik nr 1 do rozliczenia'!A49","v":"18"},{"$f":"IF('Załącznik nr 1 do rozliczenia'!B49:C49=\"\",\"\",'Załącznik nr 1 do rozliczenia'!B49:C49)","v":""},null,{"$f":"'Załącznik nr 2 do rozliczenia'!H46","v":0},{"$f":"IF('Załącznik nr 1 do rozliczenia'!H49<0,ABS('Załącznik nr 1 do rozliczenia'!H49),0)","v":0},null,0,0,0,{"$f":"'Weryfikacja 1'!W20","v":0},null,null,0,0]
[{"$f":"'Załącznik nr 1 do rozliczenia'!A50","v":"19"},{"$f":"IF('Załącznik nr 1 do rozliczenia'!B50:C50=\"\",\"\",'Załącznik nr 1 do rozliczenia'!B50:C50)","v":""},null,{"$f":"'Załącznik nr 2 do rozliczenia'!H47","v":0},{"$f":"IF('Załącznik nr 1 do rozliczenia'!H50<0,ABS('Załącznik nr 1 do rozliczenia'!H50),0)","v":0},null,0,0,0,{"$f":"'Weryfikacja 1'!W21","v":0},null,null,0,0]
[{"$f":"'Załącznik nr 1 do rozliczenia'!A51","v":"20"},{"$f":"IF('Załącznik nr 1 do rozliczenia'!B51:C51=\"\",\"\",'Załącznik nr 1 do rozliczenia'!B51:C51)","v":""},null,{"$f":"'Załącznik nr 2 do rozliczenia'!H48","v":0},{"$f":"IF('Załącznik nr 1 do rozliczenia'!H51<0,ABS('Załącznik nr 1 do rozliczenia'!H51),0)","v":0},null,0,0,0,{"$f":"'Weryfikacja 1'!W22","v":0},null,null,0,0]
[{"$f":"'Załącznik nr 1 do rozliczenia'!A52","v":"21"},{"$f":"IF('Załącznik nr 1 do rozliczenia'!B52:C52=\"\",\"\",'Załącznik nr 1 do rozliczenia'!B52:C52)","v":""},null,{"$f":"'Załącznik nr 2 do rozliczenia'!H49","v":0},{"$f":"IF('Załącznik nr 1 do rozliczenia'!H52<0,ABS('Załącznik nr 1 do rozliczenia'!H52),0)","v":0},null,0,0,0,{"$f":"'Weryfikacja 1'!W23","v":0},null,null,0,0]
[{"$f":"'Załącznik nr 1 do rozliczenia'!A53","v":"22"},{"$f":"IF('Załącznik nr 1 do rozliczenia'!B53:C53=\"\",\"\",'Załącznik nr 1 do rozliczenia'!B53:C53)","v":""},null,{"$f":"'Załącznik nr 2 do rozliczenia'!H50","v":0},{"$f":"IF('Załącznik nr 1 do rozliczenia'!H53<0,ABS('Załącznik nr 1 do rozliczenia'!H53),0)","v":0},null,0,0,0,{"$f":"'Weryfikacja 1'!W24","v":0},null,null,0,0]
[{"$f":"'Załącznik nr 1 do rozliczenia'!A54","v":"23"},{"$f":"IF('Załącznik nr 1 do rozliczenia'!B54:C54=\"\",\"\",'Załącznik nr 1 do rozliczenia'!B54:C54)","v":""},null,{"$f":"'Załącznik nr 2 do rozliczenia'!H51","v":0},{"$f":"IF('Załącznik nr 1 do rozliczenia'!H54<0,ABS('Załącznik nr 1 do rozliczenia'!H54),0)","v":0},null,0,0,0,{"$f":"'Weryfikacja 1'!W25","v":0},null,null,0,0]
[{"$f":"'Załącznik nr 1 do rozliczenia'!A55","v":"24"},{"$f":"IF('Załącznik nr 1 do rozliczenia'!B55:C55=\"\",\"\",'Załącznik nr 1 do rozliczenia'!B55:C55)","v":""},null,{"$f":"'Załącznik nr 2 do rozliczenia'!H52","v":0},{"$f":"IF('Załącznik nr 1 do rozliczenia'!H55<0,ABS('Załącznik nr 1 do rozliczenia'!H55),0)","v":0},null,0,0,0,{"$f":"'Weryfikacja 1'!W26","v":0},null,null,0,0]
[{"$f":"'Załącznik nr 1 do rozliczenia'!A56","v":"25"},{"$f":"IF('Załącznik nr 1 do rozliczenia'!B56:C56=\"\",\"\",'Załącznik nr 1 do rozliczenia'!B56:C56)","v":""},null,{"$f":"'Załącznik nr 2 do rozliczenia'!H53","v":0},{"$f":"IF('Załącznik nr 1 do rozliczenia'!H56<0,ABS('Załącznik nr 1 do rozliczenia'!H56),0)","v":0},null,0,0,0,{"$f":"'Weryfikacja 1'!W27","v":0},null,null,0,0]
[{"$f":"'Załącznik nr 1 do rozliczenia'!A57","v":"26"},{"$f":"IF('Załącznik nr 1 do rozliczenia'!B57:C57=\"\",\"\",'Załącznik nr 1 do rozliczenia'!B57:C57)","v":""},null,{"$f":"'Załącznik nr 2 do rozliczenia'!H54","v":0},{"$f":"IF('Załącznik nr 1 do rozliczenia'!H57<0,ABS('Załącznik nr 1 do rozliczenia'!H57),0)","v":0},null,0,0,0,{"$f":"'Weryfikacja 1'!W28","v":0},null,null,0,0]
[{"$f":"'Załącznik nr 1 do rozliczenia'!A58","v":"27"},{"$f":"IF('Załącznik nr 1 do rozliczenia'!B58:C58=\"\",\"\",'Załącznik nr 1 do rozliczenia'!B58:C58)","v":""},null,{"$f":"'Załącznik nr 2 do rozliczenia'!H55","v":0},{"$f":"IF('Załącznik nr 1 do rozliczenia'!H58<0,ABS('Załącznik nr 1 do rozliczenia'!H58),0)","v":0},null,0,0,0,{"$f":"'Weryfikacja 1'!W29","v":0},null,null,0,0]
[{"$f":"'Załącznik nr 1 do rozliczenia'!A59","v":"28"},{"$f":"IF('Załącznik nr 1 do rozliczenia'!B59:C59=\"\",\"\",'Załącznik nr 1 do rozliczenia'!B59:C59)","v":""},null,{"$f":"'Załącznik nr 2 do rozliczenia'!H56","v":0},{"$f":"IF('Załącznik nr 1 do rozliczenia'!H59<0,ABS('Załącznik nr 1 do rozliczenia'!H59),0)","v":0},null,0,0,0,{"$f":"'Weryfikacja 1'!W30","v":0},null,null,0,0]
[{"$f":"'Załącznik nr 1 do rozliczenia'!A60","v":"29"},{"$f":"IF('Załącznik nr 1 do rozliczenia'!B60:C60=\"\",\"\",'Załącznik nr 1 do rozliczenia'!B60:C60)","v":""},null,{"$f":"'Załącznik nr 2 do rozliczenia'!H57","v":0},{"$f":"IF('Załącznik nr 1 do rozliczenia'!H60<0,ABS('Załącznik nr 1 do rozliczenia'!H60),0)","v":0},null,0,0,0,{"$f":"'Weryfikacja 1'!W31","v":0},null,null,0,0]
[{"$f":"'Załącznik nr 1 do rozliczenia'!A61","v":"30"},{"$f":"IF('Załącznik nr 1 do rozliczenia'!B61:C61=\"\",\"\",'Załącznik nr 1 do rozliczenia'!B61:C61)","v":""},null,{"$f":"'Załącznik nr 2 do rozliczenia'!H58","v":0},{"$f":"IF('Załącznik nr 1 do rozliczenia'!H61<0,ABS('Załącznik nr 1 do rozliczenia'!H61),0)","v":0},null,0,0,0,{"$f":"'Weryfikacja 1'!W32","v":0},null,null,0,0]
[{"$f":"'Załącznik nr 1 do rozliczenia'!A62","v":"31"},{"$f":"IF('Załącznik nr 1 do rozliczenia'!B62:C62=\"\",\"\",'Załącznik nr 1 do rozliczenia'!B62:C62)","v":""},null,{"$f":"'Załącznik nr 2 do rozliczenia'!H59","v":0},{"$f":"IF('Załącznik nr 1 do rozliczenia'!H62<0,ABS('Załącznik nr 1 do rozliczenia'!H62),0)","v":0},null,0,0,0,{"$f":"'Weryfikacja 1'!W33","v":0},null,null,0,0]
[{"$f":"'Załącznik nr 1 do rozliczenia'!A63","v":"32"},{"$f":"IF('Załącznik nr 1 do rozliczenia'!B63:C63=\"\",\"\",'Załącznik nr 1 do rozliczenia'!B63:C63)","v":""},null,{"$f":"'Załącznik nr 2 do rozliczenia'!H60","v":0},{"$f":"IF('Załącznik nr 1 do rozliczenia'!H63<0,ABS('Załącznik nr 1 do rozliczenia'!H63),0)","v":0},null,0,0,0,{"$f":"'Weryfikacja 1'!W34","v":0},null,null,0,0]
[{"$f":"'Załącznik nr 1 do rozliczenia'!A64","v":"33"},{"$f":"IF('Załącznik nr 1 do rozliczenia'!B64:C64=\"\",\"\",'Załącznik nr 1 do rozliczenia'!B64:C64)","v":""},null,{"$f":"'Załącznik nr 2 do rozliczenia'!H61","v":0},{"$f":"IF('Załącznik nr 1 do rozliczenia'!H64<0,ABS('Załącznik nr 1 do rozliczenia'!H64),0)","v":0},null,0,0,0,{"$f":"'Weryfikacja 1'!W35","v":0},null,null,0,0]
[{"$f":"'Załącznik nr 1 do rozliczenia'!A65","v":"34"},{"$f":"IF('Załącznik nr 1 do rozliczenia'!B65:C65=\"\",\"\",'Załącznik nr 1 do rozliczenia'!B65:C65)","v":""},null,{"$f":"'Załącznik nr 2 do rozliczenia'!H62","v":0},{"$f":"IF('Załącznik nr 1 do rozliczenia'!H65<0,ABS('Załącznik nr 1 do rozliczenia'!H65),0)","v":0},null,0,0,0,{"$f":"'Weryfikacja 1'!W36","v":0},null,null,0,0]
[{"$f":"'Załącznik nr 1 do rozliczenia'!A66","v":"35"},{"$f":"IF('Załącznik nr 1 do rozliczenia'!B66:C66=\"\",\"\",'Załącznik nr 1 do rozliczenia'!B66:C66)","v":""},null,{"$f":"'Załącznik nr 2 do rozliczenia'!H63","v":0},{"$f":"IF('Załącznik nr 1 do rozliczenia'!H66<0,ABS('Załącznik nr 1 do rozliczenia'!H66),0)","v":0},null,0,0,0,{"$f":"'Weryfikacja 1'!W37","v":0},null,null,0,0]
[{"$f":"'Załącznik nr 1 do rozliczenia'!A67","v":"36"},{"$f":"IF('Załącznik nr 1 do rozliczenia'!B67:C67=\"\",\"\",'Załącznik nr 1 do rozliczenia'!B67:C67)","v":""},null,{"$f":"'Załącznik nr 2 do rozliczenia'!H64","v":0},{"$f":"IF('Załącznik nr 1 do rozliczenia'!H67<0,ABS('Załącznik nr 1 do rozliczenia'!H67),0)","v":0},null,0,0,0,{"$f":"'Weryfikacja 1'!W38","v":0},null,null,0,0]
[{"$f":"'Załącznik nr 1 do rozliczenia'!A68","v":"37"},{"$f":"IF('Załącznik nr 1 do rozliczenia'!B68:C68=\"\",\"\",'Załącznik nr 1 do rozliczenia'!B68:C68)","v":""},null,{"$f":"'Załącznik nr 2 do rozliczenia'!H65","v":0},{"$f":"IF('Załącznik nr 1 do rozliczenia'!H68<0,ABS('Załącznik nr 1 do rozliczenia'!H68),0)","v":0},null,0,0,0,{"$f":"'Weryfikacja 1'!W39","v":0},null,null,0,0]
[{"$f":"'Załącznik nr 1 do rozliczenia'!A69","v":"38"},{"$f":"IF('Załącznik nr 1 do rozliczenia'!B69:C69=\"\",\"\",'Załącznik nr 1 do rozliczenia'!B69:C69)","v":""},null,{"$f":"'Załącznik nr 2 do rozliczenia'!H66","v":0},{"$f":"IF('Załącznik nr 1 do rozliczenia'!H69<0,ABS('Załącznik nr 1 do rozliczenia'!H69),0)","v":0},null,0,0,0,{"$f":"'Weryfikacja 1'!W40","v":0},null,null,0,0]
[{"$f":"'Załącznik nr 1 do rozliczenia'!A70","v":"39"},{"$f":"IF('Załącznik nr 1 do rozliczenia'!B70:C70=\"\",\"\",'Załącznik nr 1 do rozliczenia'!B70:C70)","v":""},null,{"$f":"'Załącznik nr 2 do rozliczenia'!H67","v":0},{"$f":"IF('Załącznik nr 1 do rozliczenia'!H70<0,ABS('Załącznik nr 1 do rozliczenia'!H70),0)","v":0},null,0,0,0,{"$f":"'Weryfikacja 1'!W41","v":0},null,null,0,0]
[{"$f":"'Załącznik nr 1 do rozliczenia'!A71","v":"40"},{"$f":"IF('Załącznik nr 1 do rozliczenia'!B71:C71=\"\",\"\",'Załącznik nr 1 do rozliczenia'!B71:C71)","v":""},null,{"$f":"'Załącznik nr 2 do rozliczenia'!H68","v":0},{"$f":"IF('Załącznik nr 1 do rozliczenia'!H71<0,ABS('Załącznik nr 1 do rozliczenia'!H71),0)","v":0},null,0,0,0,{"$f":"'Weryfikacja 1'!W42","v":0},null,null,0,0]
[{"$f":"'Załącznik nr 1 do rozliczenia'!A72","v":"41"},{"$f":"IF('Załącznik nr 1 do rozliczenia'!B72:C72=\"\",\"\",'Załącznik nr 1 do rozliczenia'!B72:C72)","v":""},null,{"$f":"'Załącznik nr 2 do rozliczenia'!H69","v":0},{"$f":"IF('Załącznik nr 1 do rozliczenia'!H72<0,ABS('Załącznik nr 1 do rozliczenia'!H72),0)","v":0},null,0,0,0,{"$f":"'Weryfikacja 1'!W43","v":0},null,null,0,0]
[{"$f":"'Załącznik nr 1 do rozliczenia'!A73","v":"42"},{"$f":"IF('Załącznik nr 1 do rozliczenia'!B73:C73=\"\",\"\",'Załącznik nr 1 do rozliczenia'!B73:C73)","v":""},null,{"$f":"'Załącznik nr 2 do rozliczenia'!H70","v":0},{"$f":"IF('Załącznik nr 1 do rozliczenia'!H73<0,ABS('Załącznik nr 1 do rozliczenia'!H73),0)","v":0},null,0,0,0,{"$f":"'Weryfikacja 1'!W44","v":0},null,null,0,0]
[{"$f":"'Załącznik nr 1 do rozliczenia'!A74","v":"43"},{"$f":"IF('Załącznik nr 1 do rozliczenia'!B74:C74=\"\",\"\",'Załącznik nr 1 do rozliczenia'!B74:C74)","v":""},null,{"$f":"'Załącznik nr 2 do rozliczenia'!H71","v":0},{"$f":"IF('Załącznik nr 1 do rozliczenia'!H74<0,ABS('Załącznik nr 1 do rozliczenia'!H74),0)","v":0},null,0,0,0,{"$f":"'Weryfikacja 1'!W45","v":0},null,null,0,0]
[{"$f":"'Załącznik nr 1 do rozliczenia'!A75","v":"44"},{"$f":"IF('Załącznik nr 1 do rozliczenia'!B75:C75=\"\",\"\",'Załącznik nr 1 do rozliczenia'!B75:C75)","v":""},null,{"$f":"'Załącznik nr 2 do rozliczenia'!H72","v":0},{"$f":"IF('Załącznik nr 1 do rozliczenia'!H75<0,ABS('Załącznik nr 1 do rozliczenia'!H75),0)","v":0},null,0,0,0,{"$f":"'Weryfikacja 1'!W46","v":0},null,null,0,0]
[{"$f":"'Załącznik nr 1 do rozliczenia'!A76","v":"45"},{"$f":"IF('Załącznik nr 1 do rozliczenia'!B76:C76=\"\",\"\",'Załącznik nr 1 do rozliczenia'!B76:C76)","v":""},null,{"$f":"'Załącznik nr 2 do rozliczenia'!H73","v":0},{"$f":"IF('Załącznik nr 1 do rozliczenia'!H76<0,ABS('Załącznik nr 1 do rozliczenia'!H76),0)","v":0},null,0,0,0,{"$f":"'Weryfikacja 1'!W47","v":0},null,null,0,0]
[{"$f":"'Załącznik nr 1 do rozliczenia'!A77","v":"46"},{"$f":"IF('Załącznik nr 1 do rozliczenia'!B77:C77=\"\",\"\",'Załącznik nr 1 do rozliczenia'!B77:C77)","v":""},null,{"$f":"'Załącznik nr 2 do rozliczenia'!H74","v":0},{"$f":"IF('Załącznik nr 1 do rozliczenia'!H77<0,ABS('Załącznik nr 1 do rozliczenia'!H77),0)","v":0},null,0,0,0,{"$f":"'Weryfikacja 1'!W48","v":0},null,null,0,0]
[{"$f":"'Załącznik nr 1 do rozliczenia'!A78","v":"47"},{"$f":"IF('Załącznik nr 1 do rozliczenia'!B78:C78=\"\",\"\",'Załącznik nr 1 do rozliczenia'!B78:C78)","v":""},null,{"$f":"'Załącznik nr 2 do rozliczenia'!H75","v":0},{"$f":"IF('Załącznik nr 1 do rozliczenia'!H78<0,ABS('Załącznik nr 1 do rozliczenia'!H78),0)","v":0},null,0,0,0,{"$f":"'Weryfikacja 1'!W49","v":0},null,null,0,0]
[{"$f":"'Załącznik nr 1 do rozliczenia'!A79","v":"48"},{"$f":"IF('Załącznik nr 1 do rozliczenia'!B79:C79=\"\",\"\",'Załącznik nr 1 do rozliczenia'!B79:C79)","v":""},null,{"$f":"'Załącznik nr 2 do rozliczenia'!H76","v":0},{"$f":"IF('Załącznik nr 1 do rozliczenia'!H79<0,ABS('Załącznik nr 1 do rozliczenia'!H79),0)","v":0},null,0,0,0,{"$f":"'Weryfikacja 1'!W50","v":0},null,null,0,0]
[{"$f":"'Załącznik nr 1 do rozliczenia'!A80","v":"49"},{"$f":"IF('Załącznik nr 1 do rozliczenia'!B80:C80=\"\",\"\",'Załącznik nr 1 do rozliczenia'!B80:C80)","v":""},null,{"$f":"'Załącznik nr 2 do rozliczenia'!H77","v":0},{"$f":"IF('Załącznik nr 1 do rozliczenia'!H80<0,ABS('Załącznik nr 1 do rozliczenia'!H80),0)","v":0},null,0,0,0,{"$f":"'Weryfikacja 1'!W51","v":0},null,null,0,0]
[{"$f":"'Załącznik nr 1 do rozliczenia'!A81","v":"50"},{"$f":"IF('Załącznik nr 1 do rozliczenia'!B81:C81=\"\",\"\",'Załącznik nr 1 do rozliczenia'!B81:C81)","v":""},null,{"$f":"'Załącznik nr 2 do rozliczenia'!H78","v":0},{"$f":"IF('Załącznik nr 1 do rozliczenia'!H81<0,ABS('Załącznik nr 1 do rozliczenia'!H81),0)","v":0},null,0,0,0,{"$f":"'Weryfikacja 1'!W52","v":0},null,null,0,0]
[{"$f":"'Załącznik nr 1 do rozliczenia'!A82","v":"51"},{"$f":"IF('Załącznik nr 1 do rozliczenia'!B82:C82=\"\",\"\",'Załącznik nr 1 do rozliczenia'!B82:C82)","v":""},null,{"$f":"'Załącznik nr 2 do rozliczenia'!H79","v":0},{"$f":"IF('Załącznik nr 1 do rozliczenia'!H82<0,ABS('Załącznik nr 1 do rozliczenia'!H82),0)","v":0},null,0,0,0,{"$f":"'Weryfikacja 1'!W53","v":0},null,null,0,0]
[{"$f":"'Załącznik nr 1 do rozliczenia'!A83","v":"52"},{"$f":"IF('Załącznik nr 1 do rozliczenia'!B83:C83=\"\",\"\",'Załącznik nr 1 do rozliczenia'!B83:C83)","v":""},null,{"$f":"'Załącznik nr 2 do rozliczenia'!H80","v":0},{"$f":"IF('Załącznik nr 1 do rozliczenia'!H83<0,ABS('Załącznik nr 1 do rozliczenia'!H83),0)","v":0},null,0,0,0,{"$f":"'Weryfikacja 1'!W54","v":0},null,null,0,0]
[{"$f":"'Załącznik nr 1 do rozliczenia'!A84","v":"53"},{"$f":"IF('Załącznik nr 1 do rozliczenia'!B84:C84=\"\",\"\",'Załącznik nr 1 do rozliczenia'!B84:C84)","v":""},null,{"$f":"'Załącznik nr 2 do rozliczenia'!H81","v":0},{"$f":"IF('Załącznik nr 1 do rozliczenia'!H84<0,ABS('Załącznik nr 1 do rozliczenia'!H84),0)","v":0},null,0,0,0,{"$f":"'Weryfikacja 1'!W55","v":0},null,null,0,0]
[{"$f":"'Załącznik nr 1 do rozliczenia'!A85","v":"54"},{"$f":"IF('Załącznik nr 1 do rozliczenia'!B85:C85=\"\",\"\",'Załącznik nr 1 do rozliczenia'!B85:C85)","v":""},null,{"$f":"'Załącznik nr 2 do rozliczenia'!H82","v":0},{"$f":"IF('Załącznik nr 1 do rozliczenia'!H85<0,ABS('Załącznik nr 1 do rozliczenia'!H85),0)","v":0},null,0,0,0,{"$f":"'Weryfikacja 1'!W56","v":0},null,null,0,0]
[{"$f":"'Załącznik nr 1 do rozliczenia'!A86","v":"55"},{"$f":"IF('Załącznik nr 1 do rozliczenia'!B86:C86=\"\",\"\",'Załącznik nr 1 do rozliczenia'!B86:C86)","v":""},null,{"$f":"'Załącznik nr 2 do rozliczenia'!H83","v":0},{"$f":"IF('Załącznik nr 1 do rozliczenia'!H86<0,ABS('Załącznik nr 1 do rozliczenia'!H86),0)","v":0},null,0,0,0,{"$f":"'Weryfikacja 1'!W57","v":0},null,null,0,0]
[{"$f":"'Załącznik nr 1 do rozliczenia'!A87","v":"56"},{"$f":"IF('Załącznik nr 1 do rozliczenia'!B87:C87=\"\",\"\",'Załącznik nr 1 do rozliczenia'!B87:C87)","v":""},null,{"$f":"'Załącznik nr 2 do rozliczenia'!H84","v":0},{"$f":"IF('Załącznik nr 1 do rozliczenia'!H87<0,ABS('Załącznik nr 1 do rozliczenia'!H87),0)","v":0},null,0,0,0,{"$f":"'Weryfikacja 1'!W58","v":0},null,null,0,0]
[{"$f":"'Załącznik nr 1 do rozliczenia'!A88","v":"57"},{"$f":"IF('Załącznik nr 1 do rozliczenia'!B88:C88=\"\",\"\",'Załącznik nr 1 do rozliczenia'!B88:C88)","v":""},null,{"$f":"'Załącznik nr 2 do rozliczenia'!H85","v":0},{"$f":"IF('Załącznik nr 1 do rozliczenia'!H88<0,ABS('Załącznik nr 1 do rozliczenia'!H88),0)","v":0},null,0,0,0,{"$f":"'Weryfikacja 1'!W59","v":0},null,null,0,0]
[{"$f":"'Załącznik nr 1 do rozliczenia'!A89","v":"58"},{"$f":"IF('Załącznik nr 1 do rozliczenia'!B89:C89=\"\",\"\",'Załącznik nr 1 do rozliczenia'!B89:C89)","v":""},null,{"$f":"'Załącznik nr 2 do rozliczenia'!H86","v":0},{"$f":"IF('Załącznik nr 1 do rozliczenia'!H89<0,ABS('Załącznik nr 1 do rozliczenia'!H89),0)","v":0},null,0,0,0,{"$f":"'Weryfikacja 1'!W60","v":0},null,null,0,0]
[{"$f":"'Załącznik nr 1 do rozliczenia'!A90","v":"59"},{"$f":"IF('Załącznik nr 1 do rozliczenia'!B90:C90=\"\",\"\",'Załącznik nr 1 do rozliczenia'!B90:C90)","v":""},null,{"$f":"'Załącznik nr 2 do rozliczenia'!H87","v":0},{"$f":"IF('Załącznik nr 1 do rozliczenia'!H90<0,ABS('Załącznik nr 1 do rozliczenia'!H90),0)","v":0},null,0,0,0,{"$f":"'Weryfikacja 1'!W61","v":0},null,null,0,0]
[{"$f":"'Załącznik nr 1 do rozliczenia'!A91","v":"60"},{"$f":"IF('Załącznik nr 1 do rozliczenia'!B91:C91=\"\",\"\",'Załącznik nr 1 do rozliczenia'!B91:C91)","v":""},null,{"$f":"'Załącznik nr 2 do rozliczenia'!H88","v":0},{"$f":"IF('Załącznik nr 1 do rozliczenia'!H91<0,ABS('Załącznik nr 1 do rozliczenia'!H91),0)","v":0},null,0,0,0,{"$f":"'Weryfikacja 1'!W62","v":0},null,null,0,0]
[{"$f":"'Załącznik nr 1 do rozliczenia'!A92","v":"61"},{"$f":"IF('Załącznik nr 1 do rozliczenia'!B92:C92=\"\",\"\",'Załącznik nr 1 do rozliczenia'!B92:C92)","v":""},null,{"$f":"'Załącznik nr 2 do rozliczenia'!H89","v":0},{"$f":"IF('Załącznik nr 1 do rozliczenia'!H92<0,ABS('Załącznik nr 1 do rozliczenia'!H92),0)","v":0},null,0,0,0,{"$f":"'Weryfikacja 1'!W63","v":0},null,null,0,0]
[{"$f":"'Załącznik nr 1 do rozliczenia'!A93","v":"62"},{"$f":"IF('Załącznik nr 1 do rozliczenia'!B93:C93=\"\",\"\",'Załącznik nr 1 do rozliczenia'!B93:C93)","v":""},null,{"$f":"'Załącznik nr 2 do rozliczenia'!H90","v":0},{"$f":"IF('Załącznik nr 1 do rozliczenia'!H93<0,ABS('Załącznik nr 1 do rozliczenia'!H93),0)","v":0},null,0,0,0,{"$f":"'Weryfikacja 1'!W64","v":0},null,null,0,0]
[{"$f":"'Załącznik nr 1 do rozliczenia'!A94","v":"63"},{"$f":"IF('Załącznik nr 1 do rozliczenia'!B94:C94=\"\",\"\",'Załącznik nr 1 do rozliczenia'!B94:C94)","v":""},null,{"$f":"'Załącznik nr 2 do rozliczenia'!H91","v":0},{"$f":"IF('Załącznik nr 1 do rozliczenia'!H94<0,ABS('Załącznik nr 1 do rozliczenia'!H94),0)","v":0},null,0,0,0,{"$f":"'Weryfikacja 1'!W65","v":0},null,null,0,0]
[{"$f":"'Załącznik nr 1 do rozliczenia'!A95","v":"64"},{"$f":"IF('Załącznik nr 1 do rozliczenia'!B95:C95=\"\",\"\",'Załącznik nr 1 do rozliczenia'!B95:C95)","v":""},null,{"$f":"'Załącznik nr 2 do rozliczenia'!H92","v":0},{"$f":"IF('Załącznik nr 1 do rozliczenia'!H95<0,ABS('Załącznik nr 1 do rozliczenia'!H95),0)","v":0},null,0,0,0,{"$f":"'Weryfikacja 1'!W66","v":0},null,null,0,0]
[{"$f":"'Załącznik nr 1 do rozliczenia'!A96","v":"65"},{"$f":"IF('Załącznik nr 1 do rozliczenia'!B96:C96=\"\",\"\",'Załącznik nr 1 do rozliczenia'!B96:C96)","v":""},null,{"$f":"'Załącznik nr 2 do rozliczenia'!H93","v":0},{"$f":"IF('Załącznik nr 1 do rozliczenia'!H96<0,ABS('Załącznik nr 1 do rozliczenia'!H96),0)","v":0},null,0,0,0,{"$f":"'Weryfikacja 1'!W67","v":0},null,null,0,0]
[{"$f":"'Załącznik nr 1 do rozliczenia'!A97","v":"66"},{"$f":"IF('Załącznik nr 1 do rozliczenia'!B97:C97=\"\",\"\",'Załącznik nr 1 do rozliczenia'!B97:C97)","v":""},null,{"$f":"'Załącznik nr 2 do rozliczenia'!H94","v":0},{"$f":"IF('Załącznik nr 1 do rozliczenia'!H97<0,ABS('Załącznik nr 1 do rozliczenia'!H97),0)","v":0},null,{"$f":"IFERROR(E101/D101,0)","v":0},{"$f":"IFERROR(F101/D101,0)","v":0},{"$f":"IFERROR(ROUND(H101/G101,4),0)","v":0},{"$f":"'Weryfikacja 1'!W68","v":0},null,null,{"$f":"K101-L101","v":0},{"$f":"IF(M101-J101<0,0,M101-J101)","v":0}]
[{"$f":"'Załącznik nr 1 do rozliczenia'!A98","v":"67"},{"$f":"IF('Załącznik nr 1 do rozliczenia'!B98:C98=\"\",\"\",'Załącznik nr 1 do rozliczenia'!B98:C98)","v":""},null,{"$f":"'Załącznik nr 2 do rozliczenia'!H95","v":0},{"$f":"IF('Załącznik nr 1 do rozliczenia'!H98<0,ABS('Załącznik nr 1 do rozliczenia'!H98),0)","v":0},null,0,0,0,{"$f":"'Weryfikacja 1'!W69","v":0},null,null,0,0]
[{"$f":"'Załącznik nr 1 do rozliczenia'!A99","v":"68"},{"$f":"IF('Załącznik nr 1 do rozliczenia'!B99:C99=\"\",\"\",'Załącznik nr 1 do rozliczenia'!B99:C99)","v":""},null,{"$f":"'Załącznik nr 2 do rozliczenia'!H96","v":0},{"$f":"IF('Załącznik nr 1 do rozliczenia'!H99<0,ABS('Załącznik nr 1 do rozliczenia'!H99),0)","v":0},null,0,0,0,{"$f":"'Weryfikacja 1'!W70","v":0},null,null,0,0]
[{"$f":"'Załącznik nr 1 do rozliczenia'!A100","v":"69"},{"$f":"IF('Załącznik nr 1 do rozliczenia'!B100:C100=\"\",\"\",'Załącznik nr 1 do rozliczenia'!B100:C100)","v":""},null,{"$f":"'Załącznik nr 2 do rozliczenia'!H97","v":0},{"$f":"IF('Załącznik nr 1 do rozliczenia'!H100<0,ABS('Załącznik nr 1 do rozliczenia'!H100),0)","v":0},null,0,0,0,{"$f":"'Weryfikacja 1'!W71","v":0},null,null,0,0]
[{"$f":"'Załącznik nr 1 do rozliczenia'!A101","v":"70"},{"$f":"IF('Załącznik nr 1 do rozliczenia'!B101:C101=\"\",\"\",'Załącznik nr 1 do rozliczenia'!B101:C101)","v":""},null,{"$f":"'Załącznik nr 2 do rozliczenia'!H98","v":0},{"$f":"IF('Załącznik nr 1 do rozliczenia'!H101<0,ABS('Załącznik nr 1 do rozliczenia'!H101),0)","v":0},null,0,0,0,{"$f":"'Weryfikacja 1'!W72","v":0},null,null,0,0]
[{"$f":"'Załącznik nr 1 do rozliczenia'!A102","v":"71"},{"$f":"IF('Załącznik nr 1 do rozliczenia'!B102:C102=\"\",\"\",'Załącznik nr 1 do rozliczenia'!B102:C102)","v":""},null,{"$f":"'Załącznik nr 2 do rozliczenia'!H99","v":0},{"$f":"IF('Załącznik nr 1 do rozliczenia'!H102<0,ABS('Załącznik nr 1 do rozliczenia'!H102),0)","v":0},null,0,0,0,{"$f":"'Weryfikacja 1'!W73","v":0},null,null,0,0]
[{"$f":"'Załącznik nr 1 do rozliczenia'!A103","v":"72"},{"$f":"IF('Załącznik nr 1 do rozliczenia'!B103:C103=\"\",\"\",'Załącznik nr 1 do rozliczenia'!B103:C103)","v":""},null,{"$f":"'Załącznik nr 2 do rozliczenia'!H100","v":0},{"$f":"IF('Załącznik nr 1 do rozliczenia'!H103<0,ABS('Załącznik nr 1 do rozliczenia'!H103),0)","v":0},null,0,0,0,{"$f":"'Weryfikacja 1'!W74","v":0},null,null,0,0]
[{"$f":"'Załącznik nr 1 do rozliczenia'!A104","v":"73"},{"$f":"IF('Załącznik nr 1 do rozliczenia'!B104:C104=\"\",\"\",'Załącznik nr 1 do rozliczenia'!B104:C104)","v":""},null,{"$f":"'Załącznik nr 2 do rozliczenia'!H101","v":0},{"$f":"IF('Załącznik nr 1 do rozliczenia'!H104<0,ABS('Załącznik nr 1 do rozliczenia'!H104),0)","v":0},null,0,0,0,{"$f":"'Weryfikacja 1'!W75","v":0},null,null,0,0]
[{"$f":"'Załącznik nr 1 do rozliczenia'!A105","v":"74"},{"$f":"IF('Załącznik nr 1 do rozliczenia'!B105:C105=\"\",\"\",'Załącznik nr 1 do rozliczenia'!B105:C105)","v":""},null,{"$f":"'Załącznik nr 2 do rozliczenia'!H102","v":0},{"$f":"IF('Załącznik nr 1 do rozliczenia'!H105<0,ABS('Załącznik nr 1 do rozliczenia'!H105),0)","v":0},null,0,0,0,{"$f":"'Weryfikacja 1'!W76","v":0},null,null,0,0]
[{"$f":"'Załącznik nr 1 do rozliczenia'!A106","v":"75"},{"$f":"IF('Załącznik nr 1 do rozliczenia'!B106:C106=\"\",\"\",'Załącznik nr 1 do rozliczenia'!B106:C106)","v":""},null,{"$f":"'Załącznik nr 2 do rozliczenia'!H103","v":0},{"$f":"IF('Załącznik nr 1 do rozliczenia'!H106<0,ABS('Załącznik nr 1 do rozliczenia'!H106),0)","v":0},null,0,0,0,{"$f":"'Weryfikacja 1'!W77","v":0},null,null,0,0]
[{"$f":"'Załącznik nr 1 do rozliczenia'!A107","v":"76"},{"$f":"IF('Załącznik nr 1 do rozliczenia'!B107:C107=\"\",\"\",'Załącznik nr 1 do rozliczenia'!B107:C107)","v":""},null,{"$f":"'Załącznik nr 2 do rozliczenia'!H104","v":0},{"$f":"IF('Załącznik nr 1 do rozliczenia'!H107<0,ABS('Załącznik nr 1 do rozliczenia'!H107),0)","v":0},null,0,0,0,{"$f":"'Weryfikacja 1'!W78","v":0},null,null,0,0]
[{"$f":"'Załącznik nr 1 do rozliczenia'!A108","v":"77"},{"$f":"IF('Załącznik nr 1 do rozliczenia'!B108:C108=\"\",\"\",'Załącznik nr 1 do rozliczenia'!B108:C108)","v":""},null,{"$f":"'Załącznik nr 2 do rozliczenia'!H105","v":0},{"$f":"IF('Załącznik nr 1 do rozliczenia'!H108<0,ABS('Załącznik nr 1 do rozliczenia'!H108),0)","v":0},null,0,0,0,{"$f":"'Weryfikacja 1'!W79","v":0},null,null,0,0]
[{"$f":"'Załącznik nr 1 do rozliczenia'!A109","v":"78"},{"$f":"IF('Załącznik nr 1 do rozliczenia'!B109:C109=\"\",\"\",'Załącznik nr 1 do rozliczenia'!B109:C109)","v":""},null,{"$f":"'Załącznik nr 2 do rozliczenia'!H106","v":0},{"$f":"IF('Załącznik nr 1 do rozliczenia'!H109<0,ABS('Załącznik nr 1 do rozliczenia'!H109),0)","v":0},null,0,0,0,{"$f":"'Weryfikacja 1'!W80","v":0},null,null,0,0]
[{"$f":"'Załącznik nr 1 do rozliczenia'!A110","v":"79"},{"$f":"IF('Załącznik nr 1 do rozliczenia'!B110:C110=\"\",\"\",'Załącznik nr 1 do rozliczenia'!B110:C110)","v":""},null,{"$f":"'Załącznik nr 2 do rozliczenia'!H107","v":0},{"$f":"IF('Załącznik nr 1 do rozliczenia'!H110<0,ABS('Załącznik nr 1 do rozliczenia'!H110),0)","v":0},null,0,0,0,{"$f":"'Weryfikacja 1'!W81","v":0},null,null,0,0]
[{"$f":"'Załącznik nr 1 do rozliczenia'!A111","v":"80"},{"$f":"IF('Załącznik nr 1 do rozliczenia'!B111:C111=\"\",\"\",'Załącznik nr 1 do rozliczenia'!B111:C111)","v":""},null,{"$f":"'Załącznik nr 2 do rozliczenia'!H108","v":0},{"$f":"IF('Załącznik nr 1 do rozliczenia'!H111<0,ABS('Załącznik nr 1 do rozliczenia'!H111),0)","v":0},null,0,0,0,{"$f":"'Weryfikacja 1'!W82","v":0},null,null,0,0]
[{"$f":"'Załącznik nr 1 do rozliczenia'!A112","v":"81"},{"$f":"IF('Załącznik nr 1 do rozliczenia'!B112:C112=\"\",\"\",'Załącznik nr 1 do rozliczenia'!B112:C112)","v":""},null,{"$f":"'Załącznik nr 2 do rozliczenia'!H109","v":0},{"$f":"IF('Załącznik nr 1 do rozliczenia'!H112<0,ABS('Załącznik nr 1 do rozliczenia'!H112),0)","v":0},null,0,0,0,{"$f":"'Weryfikacja 1'!W83","v":0},null,null,0,0]
[{"$f":"'Załącznik nr 1 do rozliczenia'!A113","v":"82"},{"$f":"IF('Załącznik nr 1 do rozliczenia'!B113:C113=\"\",\"\",'Załącznik nr 1 do rozliczenia'!B113:C113)","v":""},null,{"$f":"'Załącznik nr 2 do rozliczenia'!H110","v":0},{"$f":"IF('Załącznik nr 1 do rozliczenia'!H113<0,ABS('Załącznik nr 1 do rozliczenia'!H113),0)","v":0},null,0,0,0,{"$f":"'Weryfikacja 1'!W84","v":0},null,null,0,0]
[{"$f":"'Załącznik nr 1 do rozliczenia'!A114","v":"83"},{"$f":"IF('Załącznik nr 1 do rozliczenia'!B114:C114=\"\",\"\",'Załącznik nr 1 do rozliczenia'!B114:C114)","v":""},null,{"$f":"'Załącznik nr 2 do rozliczenia'!H111","v":0},{"$f":"IF('Załącznik nr 1 do rozliczenia'!H114<0,ABS('Załącznik nr 1 do rozliczenia'!H114),0)","v":0},null,0,0,0,{"$f":"'Weryfikacja 1'!W85","v":0},null,null,0,0]
[{"$f":"'Załącznik nr 1 do rozliczenia'!A115","v":"84"},{"$f":"IF('Załącznik nr 1 do rozliczenia'!B115:C115=\"\",\"\",'Załącznik nr 1 do rozliczenia'!B115:C115)","v":""},null,{"$f":"'Załącznik nr 2 do rozliczenia'!H112","v":0},{"$f":"IF('Załącznik nr 1 do rozliczenia'!H115<0,ABS('Załącznik nr 1 do rozliczenia'!H115),0)","v":0},null,0,0,0,{"$f":"'Weryfikacja 1'!W86","v":0},null,null,0,0]
[{"$f":"'Załącznik nr 1 do rozliczenia'!A116","v":"85"},{"$f":"IF('Załącznik nr 1 do rozliczenia'!B116:C116=\"\",\"\",'Załącznik nr 1 do rozliczenia'!B116:C116)","v":""},null,{"$f":"'Załącznik nr 2 do rozliczenia'!H113","v":0},{"$f":"IF('Załącznik nr 1 do rozliczenia'!H116<0,ABS('Załącznik nr 1 do rozliczenia'!H116),0)","v":0},null,0,0,0,{"$f":"'Weryfikacja 1'!W87","v":0},null,null,0,0]
[{"$f":"'Załącznik nr 1 do rozliczenia'!A117","v":"86"},{"$f":"IF('Załącznik nr 1 do rozliczenia'!B117:C117=\"\",\"\",'Załącznik nr 1 do rozliczenia'!B117:C117)","v":""},null,{"$f":"'Załącznik nr 2 do rozliczenia'!H114","v":0},{"$f":"IF('Załącznik nr 1 do rozliczenia'!H117<0,ABS('Załącznik nr 1 do rozliczenia'!H117),0)","v":0},null,0,0,0,{"$f":"'Weryfikacja 1'!W88","v":0},null,null,0,0]
[{"$f":"'Załącznik nr 1 do rozliczenia'!A118","v":"87"},{"$f":"IF('Załącznik nr 1 do rozliczenia'!B118:C118=\"\",\"\",'Załącznik nr 1 do rozliczenia'!B118:C118)","v":""},null,{"$f":"'Załącznik nr 2 do rozliczenia'!H115","v":0},{"$f":"IF('Załącznik nr 1 do rozliczenia'!H118<0,ABS('Załącznik nr 1 do rozliczenia'!H118),0)","v":0},null,0,0,0,{"$f":"'Weryfikacja 1'!W89","v":0},null,null,0,0]
[{"$f":"'Załącznik nr 1 do rozliczenia'!A119","v":"88"},{"$f":"IF('Załącznik nr 1 do rozliczenia'!B119:C119=\"\",\"\",'Załącznik nr 1 do rozliczenia'!B119:C119)","v":""},null,{"$f":"'Załącznik nr 2 do rozliczenia'!H116","v":0},{"$f":"IF('Załącznik nr 1 do rozliczenia'!H119<0,ABS('Załącznik nr 1 do rozliczenia'!H119),0)","v":0},null,0,0,0,{"$f":"'Weryfikacja 1'!W90","v":0},null,null,0,0]
[{"$f":"'Załącznik nr 1 do rozliczenia'!A120","v":"89"},{"$f":"IF('Załącznik nr 1 do rozliczenia'!B120:C120=\"\",\"\",'Załącznik nr 1 do rozliczenia'!B120:C120)","v":""},null,{"$f":"'Załącznik nr 2 do rozliczenia'!H117","v":0},{"$f":"IF('Załącznik nr 1 do rozliczenia'!H120<0,ABS('Załącznik nr 1 do rozliczenia'!H120),0)","v":0},null,0,0,0,{"$f":"'Weryfikacja 1'!W91","v":0},null,null,0,0]
[{"$f":"'Załącznik nr 1 do rozliczenia'!A121","v":"90"},{"$f":"IF('Załącznik nr 1 do rozliczenia'!B121:C121=\"\",\"\",'Załącznik nr 1 do rozliczenia'!B121:C121)","v":""},null,{"$f":"'Załącznik nr 2 do rozliczenia'!H118","v":0},{"$f":"IF('Załącznik nr 1 do rozliczenia'!H121<0,ABS('Załącznik nr 1 do rozliczenia'!H121),0)","v":0},null,0,0,0,{"$f":"'Weryfikacja 1'!W92","v":0},null,null,0,0]
[{"$f":"'Załącznik nr 1 do rozliczenia'!A122","v":"91"},{"$f":"IF('Załącznik nr 1 do rozliczenia'!B122:C122=\"\",\"\",'Załącznik nr 1 do rozliczenia'!B122:C122)","v":""},null,{"$f":"'Załącznik nr 2 do rozliczenia'!H119","v":0},{"$f":"IF('Załącznik nr 1 do rozliczenia'!H122<0,ABS('Załącznik nr 1 do rozliczenia'!H122),0)","v":0},null,0,0,0,{"$f":"'Weryfikacja 1'!W93","v":0},null,null,0,0]
[{"$f":"'Załącznik nr 1 do rozliczenia'!A123","v":"92"},{"$f":"IF('Załącznik nr 1 do rozliczenia'!B123:C123=\"\",\"\",'Załącznik nr 1 do rozliczenia'!B123:C123)","v":""},null,{"$f":"'Załącznik nr 2 do rozliczenia'!H120","v":0},{"$f":"IF('Załącznik nr 1 do rozliczenia'!H123<0,ABS('Załącznik nr 1 do rozliczenia'!H123),0)","v":0},null,0,0,0,{"$f":"'Weryfikacja 1'!W94","v":0},null,null,0,0]
[{"$f":"'Załącznik nr 1 do rozliczenia'!A124","v":"93"},{"$f":"IF('Załącznik nr 1 do rozliczenia'!B124:C124=\"\",\"\",'Załącznik nr 1 do rozliczenia'!B124:C124)","v":""},null,{"$f":"'Załącznik nr 2 do rozliczenia'!H121","v":0},{"$f":"IF('Załącznik nr 1 do rozliczenia'!H124<0,ABS('Załącznik nr 1 do rozliczenia'!H124),0)","v":0},null,0,0,0,{"$f":"'Weryfikacja 1'!W95","v":0},null,null,0,0]
[{"$f":"'Załącznik nr 1 do rozliczenia'!A125","v":"94"},{"$f":"IF('Załącznik nr 1 do rozliczenia'!B125:C125=\"\",\"\",'Załącznik nr 1 do rozliczenia'!B125:C125)","v":""},null,{"$f":"'Załącznik nr 2 do rozliczenia'!H122","v":0},{"$f":"IF('Załącznik nr 1 do rozliczenia'!H125<0,ABS('Załącznik nr 1 do rozliczenia'!H125),0)","v":0},null,0,0,0,{"$f":"'Weryfikacja 1'!W96","v":0},null,null,0,0]
[{"$f":"'Załącznik nr 1 do rozliczenia'!A126","v":"95"},{"$f":"IF('Załącznik nr 1 do rozliczenia'!B126:C126=\"\",\"\",'Załącznik nr 1 do rozliczenia'!B126:C126)","v":""},null,{"$f":"'Załącznik nr 2 do rozliczenia'!H123","v":0},{"$f":"IF('Załącznik nr 1 do rozliczenia'!H126<0,ABS('Załącznik nr 1 do rozliczenia'!H126),0)","v":0},null,0,0,0,{"$f":"'Weryfikacja 1'!W97","v":0},null,null,0,0]
[{"$f":"'Załącznik nr 1 do rozliczenia'!A127","v":"96"},{"$f":"IF('Załącznik nr 1 do rozliczenia'!B127:C127=\"\",\"\",'Załącznik nr 1 do rozliczenia'!B127:C127)","v":""},null,{"$f":"'Załącznik nr 2 do rozliczenia'!H124","v":0},{"$f":"IF('Załącznik nr 1 do rozliczenia'!H127<0,ABS('Załącznik nr 1 do rozliczenia'!H127),0)","v":0},null,0,0,0,{"$f":"'Weryfikacja 1'!W98","v":0},null,null,0,0]
[{"$f":"'Załącznik nr 1 do rozliczenia'!A128","v":"97"},{"$f":"IF('Załącznik nr 1 do rozliczenia'!B128:C128=\"\",\"\",'Załącznik nr 1 do rozliczenia'!B128:C128)","v":""},null,{"$f":"'Załącznik nr 2 do rozliczenia'!H125","v":0},{"$f":"IF('Załącznik nr 1 do rozliczenia'!H128<0,ABS('Załącznik nr 1 do rozliczenia'!H128),0)","v":0},null,0,0,0,{"$f":"'Weryfikacja 1'!W99","v":0},null,null,0,0]
[{"$f":"'Załącznik nr 1 do rozliczenia'!A129","v":"98"},{"$f":"IF('Załącznik nr 1 do rozliczenia'!B129:C129=\"\",\"\",'Załącznik nr 1 do rozliczenia'!B129:C129)","v":""},null,{"$f":"'Załącznik nr 2 do rozliczenia'!H126","v":0},{"$f":"IF('Załącznik nr 1 do rozliczenia'!H129<0,ABS('Załącznik nr 1 do rozliczenia'!H129),0)","v":0},null,0,0,0,{"$f":"'Weryfikacja 1'!W100","v":0},null,null,0,0]
[{"$f":"'Załącznik nr 1 do rozliczenia'!A130","v":"99"},{"$f":"IF('Załącznik nr 1 do rozliczenia'!B130:C130=\"\",\"\",'Załącznik nr 1 do rozliczenia'!B130:C130)","v":""},null,{"$f":"'Załącznik nr 2 do rozliczenia'!H127","v":0},{"$f":"IF('Załącznik nr 1 do rozliczenia'!H130<0,ABS('Załącznik nr 1 do rozliczenia'!H130),0)","v":0},null,0,0,0,{"$f":"'Weryfikacja 1'!W101","v":0},null,null,0,0]
[{"$f":"'Załącznik nr 1 do rozliczenia'!A131","v":"100"},{"$f":"IF('Załącznik nr 1 do rozliczenia'!B131:C131=\"\",\"\",'Załącznik nr 1 do rozliczenia'!B131:C131)","v":""},null,{"$f":"'Załącznik nr 2 do rozliczenia'!H128","v":0},{"$f":"IF('Załącznik nr 1 do rozliczenia'!H131<0,ABS('Załącznik nr 1 do rozliczenia'!H131),0)","v":0},null,0,0,0,{"$f":"'Weryfikacja 1'!W102","v":0},null,null,0,0]
[{"$f":"'Załącznik nr 1 do rozliczenia'!A132","v":"101"},{"$f":"IF('Załącznik nr 1 do rozliczenia'!B132:C132=\"\",\"\",'Załącznik nr 1 do rozliczenia'!B132:C132)","v":""},null,{"$f":"'Załącznik nr 2 do rozliczenia'!H129","v":0},{"$f":"IF('Załącznik nr 1 do rozliczenia'!H132<0,ABS('Załącznik nr 1 do rozliczenia'!H132),0)","v":0},null,0,0,0,{"$f":"'Weryfikacja 1'!W103","v":0},null,null,0,0]
[{"$f":"'Załącznik nr 1 do rozliczenia'!A133","v":"102"},{"$f":"IF('Załącznik nr 1 do rozliczenia'!B133:C133=\"\",\"\",'Załącznik nr 1 do rozliczenia'!B133:C133)","v":""},null,{"$f":"'Załącznik nr 2 do rozliczenia'!H130","v":0},{"$f":"IF('Załącznik nr 1 do rozliczenia'!H133<0,ABS('Załącznik nr 1 do rozliczenia'!H133),0)","v":0},null,0,0,0,{"$f":"'Weryfikacja 1'!W104","v":0},null,null,0,0]
[{"$f":"'Załącznik nr 1 do rozliczenia'!A134","v":"103"},{"$f":"IF('Załącznik nr 1 do rozliczenia'!B134:C134=\"\",\"\",'Załącznik nr 1 do rozliczenia'!B134:C134)","v":""},null,{"$f":"'Załącznik nr 2 do rozliczenia'!H131","v":0},{"$f":"IF('Załącznik nr 1 do rozliczenia'!H134<0,ABS('Załącznik nr 1 do rozliczenia'!H134),0)","v":0},null,0,0,0,{"$f":"'Weryfikacja 1'!W105","v":0},null,null,0,0]
[{"$f":"'Załącznik nr 1 do rozliczenia'!A135","v":"104"},{"$f":"IF('Załącznik nr 1 do rozliczenia'!B135:C135=\"\",\"\",'Załącznik nr 1 do rozliczenia'!B135:C135)","v":""},null,{"$f":"'Załącznik nr 2 do rozliczenia'!H132","v":0},{"$f":"IF('Załącznik nr 1 do rozliczenia'!H135<0,ABS('Załącznik nr 1 do rozliczenia'!H135),0)","v":0},null,0,0,0,{"$f":"'Weryfikacja 1'!W106","v":0},null,null,0,0]
[{"$f":"'Załącznik nr 1 do rozliczenia'!A136","v":"105"},{"$f":"IF('Załącznik nr 1 do rozliczenia'!B136:C136=\"\",\"\",'Załącznik nr 1 do rozliczenia'!B136:C136)","v":""},null,{"$f":"'Załącznik nr 2 do rozliczenia'!H133","v":0},{"$f":"IF('Załącznik nr 1 do rozliczenia'!H136<0,ABS('Załącznik nr 1 do rozliczenia'!H136),0)","v":0},null,0,0,0,{"$f":"'Weryfikacja 1'!W107","v":0},null,null,0,0]
[{"$f":"'Załącznik nr 1 do rozliczenia'!A137","v":"106"},{"$f":"IF('Załącznik nr 1 do rozliczenia'!B137:C137=\"\",\"\",'Załącznik nr 1 do rozliczenia'!B137:C137)","v":""},null,{"$f":"'Załącznik nr 2 do rozliczenia'!H134","v":0},{"$f":"IF('Załącznik nr 1 do rozliczenia'!H137<0,ABS('Załącznik nr 1 do rozliczenia'!H137),0)","v":0},null,0,0,0,{"$f":"'Weryfikacja 1'!W108","v":0},null,null,0,0]
[{"$f":"'Załącznik nr 1 do rozliczenia'!A138","v":"107"},{"$f":"IF('Załącznik nr 1 do rozliczenia'!B138:C138=\"\",\"\",'Załącznik nr 1 do rozliczenia'!B138:C138)","v":""},null,{"$f":"'Załącznik nr 2 do rozliczenia'!H135","v":0},{"$f":"IF('Załącznik nr 1 do rozliczenia'!H138<0,ABS('Załącznik nr 1 do rozliczenia'!H138),0)","v":0},null,0,0,0,{"$f":"'Weryfikacja 1'!W109","v":0},null,null,0,0]
[{"$f":"'Załącznik nr 1 do rozliczenia'!A139","v":"108"},{"$f":"IF('Załącznik nr 1 do rozliczenia'!B139:C139=\"\",\"\",'Załącznik nr 1 do rozliczenia'!B139:C139)","v":""},null,{"$f":"'Załącznik nr 2 do rozliczenia'!H136","v":0},{"$f":"IF('Załącznik nr 1 do rozliczenia'!H139<0,ABS('Załącznik nr 1 do rozliczenia'!H139),0)","v":0},null,0,0,0,{"$f":"'Weryfikacja 1'!W110","v":0},null,null,0,0]
[{"$f":"'Załącznik nr 1 do rozliczenia'!A140","v":"109"},{"$f":"IF('Załącznik nr 1 do rozliczenia'!B140:C140=\"\",\"\",'Załącznik nr 1 do rozliczenia'!B140:C140)","v":""},null,{"$f":"'Załącznik nr 2 do rozliczenia'!H137","v":0},{"$f":"IF('Załącznik nr 1 do rozliczenia'!H140<0,ABS('Załącznik nr 1 do rozliczenia'!H140),0)","v":0},null,0,0,0,{"$f":"'Weryfikacja 1'!W111","v":0},null,null,0,0]
[{"$f":"'Załącznik nr 1 do rozliczenia'!A141","v":"110"},{"$f":"IF('Załącznik nr 1 do rozliczenia'!B141:C141=\"\",\"\",'Załącznik nr 1 do rozliczenia'!B141:C141)","v":""},null,{"$f":"'Załącznik nr 2 do rozliczenia'!H138","v":0},{"$f":"IF('Załącznik nr 1 do rozliczenia'!H141<0,ABS('Załącznik nr 1 do rozliczenia'!H141),0)","v":0},null,0,0,0,{"$f":"'Weryfikacja 1'!W112","v":0},null,null,0,0]
[{"$f":"'Załącznik nr 1 do rozliczenia'!A142","v":"111"},{"$f":"IF('Załącznik nr 1 do rozliczenia'!B142:C142=\"\",\"\",'Załącznik nr 1 do rozliczenia'!B142:C142)","v":""},null,{"$f":"'Załącznik nr 2 do rozliczenia'!H139","v":0},{"$f":"IF('Załącznik nr 1 do rozliczenia'!H142<0,ABS('Załącznik nr 1 do rozliczenia'!H142),0)","v":0},null,0,0,0,{"$f":"'Weryfikacja 1'!W113","v":0},null,null,0,0]
[{"$f":"'Załącznik nr 1 do rozliczenia'!A143","v":"112"},{"$f":"IF('Załącznik nr 1 do rozliczenia'!B143:C143=\"\",\"\",'Załącznik nr 1 do rozliczenia'!B143:C143)","v":""},null,{"$f":"'Załącznik nr 2 do rozliczenia'!H140","v":0},{"$f":"IF('Załącznik nr 1 do rozliczenia'!H143<0,ABS('Załącznik nr 1 do rozliczenia'!H143),0)","v":0},null,0,0,0,{"$f":"'Weryfikacja 1'!W114","v":0},null,null,0,0]
[{"$f":"'Załącznik nr 1 do rozliczenia'!A144","v":"113"},{"$f":"IF('Załącznik nr 1 do rozliczenia'!B144:C144=\"\",\"\",'Załącznik nr 1 do rozliczenia'!B144:C144)","v":""},null,{"$f":"'Załącznik nr 2 do rozliczenia'!H141","v":0},{"$f":"IF('Załącznik nr 1 do rozliczenia'!H144<0,ABS('Załącznik nr 1 do rozliczenia'!H144),0)","v":0},null,0,0,0,{"$f":"'Weryfikacja 1'!W115","v":0},null,null,0,0]
[{"$f":"'Załącznik nr 1 do rozliczenia'!A145","v":"114"},{"$f":"IF('Załącznik nr 1 do rozliczenia'!B145:C145=\"\",\"\",'Załącznik nr 1 do rozliczenia'!B145:C145)","v":""},null,{"$f":"'Załącznik nr 2 do rozliczenia'!H142","v":0},{"$f":"IF('Załącznik nr 1 do rozliczenia'!H145<0,ABS('Załącznik nr 1 do rozliczenia'!H145),0)","v":0},null,0,0,0,{"$f":"'Weryfikacja 1'!W116","v":0},null,null,0,0]
[{"$f":"'Załącznik nr 1 do rozliczenia'!A146","v":"115"},{"$f":"IF('Załącznik nr 1 do rozliczenia'!B146:C146=\"\",\"\",'Załącznik nr 1 do rozliczenia'!B146:C146)","v":""},null,{"$f":"'Załącznik nr 2 do rozliczenia'!H143","v":0},{"$f":"IF('Załącznik nr 1 do rozliczenia'!H146<0,ABS('Załącznik nr 1 do rozliczenia'!H146),0)","v":0},null,0,0,0,{"$f":"'Weryfikacja 1'!W117","v":0},null,null,0,0]
["Ogółem:",null,{"$f":"SUM(C36:C150)","v":0},{"$f":"SUM(D36:D150)","v":0},{"$f":"SUM(E36:E150)","v":0},{"$f":"SUM(F36:F150)","v":0},null,null,null,{"$f":"SUM(J36:J150)","v":0},{"$f":"SUM(K36:K150)","v":0},0,0,0]
[]
["B.2 Dane dotyczące linii komunikacyjnych "]
["MIESIĄC",null,null,null,null,{"$f":"'Załącznik nr 1 do rozliczenia'!D151","v":""},null,"2026 r."]
["Lp.","Nazwa linii komunikacyjnej","Liczba przewiezionych osób","Wielkość pracy eksploatacyjnej w okresie rozliczeniowym [wzkm]","Deficyt w okresie rozliczeniowym [zł]","Kwota środków własnych organizatora \n[zł]","Cena usługi \n[zł]","Część ceny usługi sfinansowana ze środków własnych organizatora  [zł/wzkm]","Procentowa wartość części ceny usługi sfinansowanej ze środków własnych organizatora \n[%]","Należna kwota dopłaty w okresie rozliczeniowym [zł]","Pobrana dopłata w okresie rozliczeniowym - wniosek kwartalny \n[zł]","Niewykorzystana kwota dopłaty z poprzedniego okresu rozliczeniowego (rozliczona w bieżącym okresie)\n[zł]","Faktycznie wypłacona kwota dopłaty w bieżącym okresie\n[zł]","Niewykorzystana kwota dopłaty w bieżącym okresie rozliczeniowym\n[zł]"]
[null,"1","2","3","4","5","6","7","8","9","10","11","12","13"]
[{"$f":"'Załącznik nr 1 do rozliczenia'!A154","v":"1"},{"$f":"IF('Załącznik nr 1 do rozliczenia'!B154:C154=\"\",\"\",'Załącznik nr 1 do rozliczenia'!B154:C154)","v":""},null,{"$f":"'Załącznik nr 2 do rozliczenia'!H150","v":0},{"$f":"IF('Załącznik nr 1 do rozliczenia'!H154<0,ABS('Załącznik nr 1 do rozliczenia'!H154),0)","v":0},null,{"$f":"IFERROR(E157/D157,0)","v":0},{"$f":"IFERROR(F157/D157,0)","v":0},{"$f":"IFERROR(ROUND(H157/G157,4),0)","v":0},{"$f":"'Weryfikacja 2'!W3","v":0},null,null,{"$f":"K157-L157","v":0},{"$f":"IF(M157-J157<0,0,M157-J157)","v":0}]
[{"$f":"'Załącznik nr 1 do rozliczenia'!A155","v":"2"},{"$f":"IF('Załącznik nr 1 do rozliczenia'!B155:C155=\"\",\"\",'Załącznik nr 1 do rozliczenia'!B155:C155)","v":""},null,{"$f":"'Załącznik nr 2 do rozliczenia'!H151","v":0},{"$f":"IF('Załącznik nr 1 do rozliczenia'!H155<0,ABS('Załącznik nr 1 do rozliczenia'!H155),0)","v":0},null,0,0,{"$f":"IFERROR(ROUND(H158/G158,4),0)","v":0},{"$f":"'Weryfikacja 2'!W4","v":0},null,null,{"$f":"K158-L158","v":0},0]
[{"$f":"'Załącznik nr 1 do rozliczenia'!A156","v":"3"},{"$f":"IF('Załącznik nr 1 do rozliczenia'!B156:C156=\"\",\"\",'Załącznik nr 1 do rozliczenia'!B156:C156)","v":""},null,{"$f":"'Załącznik nr 2 do rozliczenia'!H152","v":0},{"$f":"IF('Załącznik nr 1 do rozliczenia'!H156<0,ABS('Załącznik nr 1 do rozliczenia'!H156),0)","v":0},null,0,0,0,{"$f":"'Weryfikacja 2'!W5","v":0},null,null,0,0]
[{"$f":"'Załącznik nr 1 do rozliczenia'!A157","v":"4"},{"$f":"IF('Załącznik nr 1 do rozliczenia'!B157:C157=\"\",\"\",'Załącznik nr 1 do rozliczenia'!B157:C157)","v":""},null,{"$f":"'Załącznik nr 2 do rozliczenia'!H153","v":0},{"$f":"IF('Załącznik nr 1 do rozliczenia'!H157<0,ABS('Załącznik nr 1 do rozliczenia'!H157),0)","v":0},null,0,0,0,{"$f":"'Weryfikacja 2'!W6","v":0},null,null,0,0]
[{"$f":"'Załącznik nr 1 do rozliczenia'!A158","v":"5"},{"$f":"IF('Załącznik nr 1 do rozliczenia'!B158:C158=\"\",\"\",'Załącznik nr 1 do rozliczenia'!B158:C158)","v":""},null,{"$f":"'Załącznik nr 2 do rozliczenia'!H154","v":0},{"$f":"IF('Załącznik nr 1 do rozliczenia'!H158<0,ABS('Załącznik nr 1 do rozliczenia'!H158),0)","v":0},null,0,0,0,{"$f":"'Weryfikacja 2'!W7","v":0},null,null,0,0]
[{"$f":"'Załącznik nr 1 do rozliczenia'!A159","v":"6"},{"$f":"IF('Załącznik nr 1 do rozliczenia'!B159:C159=\"\",\"\",'Załącznik nr 1 do rozliczenia'!B159:C159)","v":""},null,{"$f":"'Załącznik nr 2 do rozliczenia'!H155","v":0},{"$f":"IF('Załącznik nr 1 do rozliczenia'!H159<0,ABS('Załącznik nr 1 do rozliczenia'!H159),0)","v":0},null,0,0,0,{"$f":"'Weryfikacja 2'!W8","v":0},null,null,0,0]
[{"$f":"'Załącznik nr 1 do rozliczenia'!A160","v":"7"},{"$f":"IF('Załącznik nr 1 do rozliczenia'!B160:C160=\"\",\"\",'Załącznik nr 1 do rozliczenia'!B160:C160)","v":""},null,{"$f":"'Załącznik nr 2 do rozliczenia'!H156","v":0},{"$f":"IF('Załącznik nr 1 do rozliczenia'!H160<0,ABS('Załącznik nr 1 do rozliczenia'!H160),0)","v":0},null,0,0,0,{"$f":"'Weryfikacja 2'!W9","v":0},null,null,0,0]
[{"$f":"'Załącznik nr 1 do rozliczenia'!A161","v":"8"},{"$f":"IF('Załącznik nr 1 do rozliczenia'!B161:C161=\"\",\"\",'Załącznik nr 1 do rozliczenia'!B161:C161)","v":""},null,{"$f":"'Załącznik nr 2 do rozliczenia'!H157","v":0},{"$f":"IF('Załącznik nr 1 do rozliczenia'!H161<0,ABS('Załącznik nr 1 do rozliczenia'!H161),0)","v":0},null,0,0,0,{"$f":"'Weryfikacja 2'!W10","v":0},null,null,0,0]
[{"$f":"'Załącznik nr 1 do rozliczenia'!A162","v":"9"},{"$f":"IF('Załącznik nr 1 do rozliczenia'!B162:C162=\"\",\"\",'Załącznik nr 1 do rozliczenia'!B162:C162)","v":""},null,{"$f":"'Załącznik nr 2 do rozliczenia'!H158","v":0},{"$f":"IF('Załącznik nr 1 do rozliczenia'!H162<0,ABS('Załącznik nr 1 do rozliczenia'!H162),0)","v":0},null,0,0,0,{"$f":"'Weryfikacja 2'!W11","v":0},null,null,0,0]
[{"$f":"'Załącznik nr 1 do rozliczenia'!A163","v":"10"},{"$f":"IF('Załącznik nr 1 do rozliczenia'!B163:C163=\"\",\"\",'Załącznik nr 1 do rozliczenia'!B163:C163)","v":""},null,{"$f":"'Załącznik nr 2 do rozliczenia'!H159","v":0},{"$f":"IF('Załącznik nr 1 do rozliczenia'!H163<0,ABS('Załącznik nr 1 do rozliczenia'!H163),0)","v":0},null,0,0,0,{"$f":"'Weryfikacja 2'!W12","v":0},null,null,0,0]
[{"$f":"'Załącznik nr 1 do rozliczenia'!A164","v":"11"},{"$f":"IF('Załącznik nr 1 do rozliczenia'!B164:C164=\"\",\"\",'Załącznik nr 1 do rozliczenia'!B164:C164)","v":""},null,{"$f":"'Załącznik nr 2 do rozliczenia'!H160","v":0},{"$f":"IF('Załącznik nr 1 do rozliczenia'!H164<0,ABS('Załącznik nr 1 do rozliczenia'!H164),0)","v":0},null,0,0,0,{"$f":"'Weryfikacja 2'!W13","v":0},null,null,0,0]
[{"$f":"'Załącznik nr 1 do rozliczenia'!A165","v":"12"},{"$f":"IF('Załącznik nr 1 do rozliczenia'!B165:C165=\"\",\"\",'Załącznik nr 1 do rozliczenia'!B165:C165)","v":""},null,{"$f":"'Załącznik nr 2 do rozliczenia'!H161","v":0},{"$f":"IF('Załącznik nr 1 do rozliczenia'!H165<0,ABS('Załącznik nr 1 do rozliczenia'!H165),0)","v":0},null,0,0,0,{"$f":"'Weryfikacja 2'!W14","v":0},null,null,0,0]
[{"$f":"'Załącznik nr 1 do rozliczenia'!A166","v":"13"},{"$f":"IF('Załącznik nr 1 do rozliczenia'!B166:C166=\"\",\"\",'Załącznik nr 1 do rozliczenia'!B166:C166)","v":""},null,{"$f":"'Załącznik nr 2 do rozliczenia'!H162","v":0},{"$f":"IF('Załącznik nr 1 do rozliczenia'!H166<0,ABS('Załącznik nr 1 do rozliczenia'!H166),0)","v":0},null,0,0,0,{"$f":"'Weryfikacja 2'!W15","v":0},null,null,0,0]
[{"$f":"'Załącznik nr 1 do rozliczenia'!A167","v":"14"},{"$f":"IF('Załącznik nr 1 do rozliczenia'!B167:C167=\"\",\"\",'Załącznik nr 1 do rozliczenia'!B167:C167)","v":""},null,{"$f":"'Załącznik nr 2 do rozliczenia'!H163","v":0},{"$f":"IF('Załącznik nr 1 do rozliczenia'!H167<0,ABS('Załącznik nr 1 do rozliczenia'!H167),0)","v":0},null,0,0,0,{"$f":"'Weryfikacja 2'!W16","v":0},null,null,0,0]
[{"$f":"'Załącznik nr 1 do rozliczenia'!A168","v":"15"},{"$f":"IF('Załącznik nr 1 do rozliczenia'!B168:C168=\"\",\"\",'Załącznik nr 1 do rozliczenia'!B168:C168)","v":""},null,{"$f":"'Załącznik nr 2 do rozliczenia'!H164","v":0},{"$f":"IF('Załącznik nr 1 do rozliczenia'!H168<0,ABS('Załącznik nr 1 do rozliczenia'!H168),0)","v":0},null,0,0,0,{"$f":"'Weryfikacja 2'!W17","v":0},null,null,0,0]
[{"$f":"'Załącznik nr 1 do rozliczenia'!A169","v":"16"},{"$f":"IF('Załącznik nr 1 do rozliczenia'!B169:C169=\"\",\"\",'Załącznik nr 1 do rozliczenia'!B169:C169)","v":""},null,{"$f":"'Załącznik nr 2 do rozliczenia'!H165","v":0},{"$f":"IF('Załącznik nr 1 do rozliczenia'!H169<0,ABS('Załącznik nr 1 do rozliczenia'!H169),0)","v":0},null,0,0,0,{"$f":"'Weryfikacja 2'!W18","v":0},null,null,0,0]
[{"$f":"'Załącznik nr 1 do rozliczenia'!A170","v":"17"},{"$f":"IF('Załącznik nr 1 do rozliczenia'!B170:C170=\"\",\"\",'Załącznik nr 1 do rozliczenia'!B170:C170)","v":""},null,{"$f":"'Załącznik nr 2 do rozliczenia'!H166","v":0},{"$f":"IF('Załącznik nr 1 do rozliczenia'!H170<0,ABS('Załącznik nr 1 do rozliczenia'!H170),0)","v":0},null,0,0,0,{"$f":"'Weryfikacja 2'!W19","v":0},null,null,0,0]
[{"$f":"'Załącznik nr 1 do rozliczenia'!A171","v":"18"},{"$f":"IF('Załącznik nr 1 do rozliczenia'!B171:C171=\"\",\"\",'Załącznik nr 1 do rozliczenia'!B171:C171)","v":""},null,{"$f":"'Załącznik nr 2 do rozliczenia'!H167","v":0},{"$f":"IF('Załącznik nr 1 do rozliczenia'!H171<0,ABS('Załącznik nr 1 do rozliczenia'!H171),0)","v":0},null,0,0,0,{"$f":"'Weryfikacja 2'!W20","v":0},null,null,0,0]
[{"$f":"'Załącznik nr 1 do rozliczenia'!A172","v":"19"},{"$f":"IF('Załącznik nr 1 do rozliczenia'!B172:C172=\"\",\"\",'Załącznik nr 1 do rozliczenia'!B172:C172)","v":""},null,{"$f":"'Załącznik nr 2 do rozliczenia'!H168","v":0},{"$f":"IF('Załącznik nr 1 do rozliczenia'!H172<0,ABS('Załącznik nr 1 do rozliczenia'!H172),0)","v":0},null,0,0,0,{"$f":"'Weryfikacja 2'!W21","v":0},null,null,0,0]
[{"$f":"'Załącznik nr 1 do rozliczenia'!A173","v":"20"},{"$f":"IF('Załącznik nr 1 do rozliczenia'!B173:C173=\"\",\"\",'Załącznik nr 1 do rozliczenia'!B173:C173)","v":""},null,{"$f":"'Załącznik nr 2 do rozliczenia'!H169","v":0},{"$f":"IF('Załącznik nr 1 do rozliczenia'!H173<0,ABS('Załącznik nr 1 do rozliczenia'!H173),0)","v":0},null,0,0,0,{"$f":"'Weryfikacja 2'!W22","v":0},null,null,0,0]
[{"$f":"'Załącznik nr 1 do rozliczenia'!A174","v":"21"},{"$f":"IF('Załącznik nr 1 do rozliczenia'!B174:C174=\"\",\"\",'Załącznik nr 1 do rozliczenia'!B174:C174)","v":""},null,{"$f":"'Załącznik nr 2 do rozliczenia'!H170","v":0},{"$f":"IF('Załącznik nr 1 do rozliczenia'!H174<0,ABS('Załącznik nr 1 do rozliczenia'!H174),0)","v":0},null,0,0,0,{"$f":"'Weryfikacja 2'!W23","v":0},null,null,0,0]
[{"$f":"'Załącznik nr 1 do rozliczenia'!A175","v":"22"},{"$f":"IF('Załącznik nr 1 do rozliczenia'!B175:C175=\"\",\"\",'Załącznik nr 1 do rozliczenia'!B175:C175)","v":""},null,{"$f":"'Załącznik nr 2 do rozliczenia'!H171","v":0},{"$f":"IF('Załącznik nr 1 do rozliczenia'!H175<0,ABS('Załącznik nr 1 do rozliczenia'!H175),0)","v":0},null,0,0,0,{"$f":"'Weryfikacja 2'!W24","v":0},null,null,0,0]
[{"$f":"'Załącznik nr 1 do rozliczenia'!A176","v":"23"},{"$f":"IF('Załącznik nr 1 do rozliczenia'!B176:C176=\"\",\"\",'Załącznik nr 1 do rozliczenia'!B176:C176)","v":""},null,{"$f":"'Załącznik nr 2 do rozliczenia'!H172","v":0},{"$f":"IF('Załącznik nr 1 do rozliczenia'!H176<0,ABS('Załącznik nr 1 do rozliczenia'!H176),0)","v":0},null,0,0,0,{"$f":"'Weryfikacja 2'!W25","v":0},null,null,0,0]
[{"$f":"'Załącznik nr 1 do rozliczenia'!A177","v":"24"},{"$f":"IF('Załącznik nr 1 do rozliczenia'!B177:C177=\"\",\"\",'Załącznik nr 1 do rozliczenia'!B177:C177)","v":""},null,{"$f":"'Załącznik nr 2 do rozliczenia'!H173","v":0},{"$f":"IF('Załącznik nr 1 do rozliczenia'!H177<0,ABS('Załącznik nr 1 do rozliczenia'!H177),0)","v":0},null,0,0,0,{"$f":"'Weryfikacja 2'!W26","v":0},null,null,0,0]
[{"$f":"'Załącznik nr 1 do rozliczenia'!A178","v":"25"},{"$f":"IF('Załącznik nr 1 do rozliczenia'!B178:C178=\"\",\"\",'Załącznik nr 1 do rozliczenia'!B178:C178)","v":""},null,{"$f":"'Załącznik nr 2 do rozliczenia'!H174","v":0},{"$f":"IF('Załącznik nr 1 do rozliczenia'!H178<0,ABS('Załącznik nr 1 do rozliczenia'!H178),0)","v":0},null,0,0,0,{"$f":"'Weryfikacja 2'!W27","v":0},null,null,0,0]
[{"$f":"'Załącznik nr 1 do rozliczenia'!A179","v":"26"},{"$f":"IF('Załącznik nr 1 do rozliczenia'!B179:C179=\"\",\"\",'Załącznik nr 1 do rozliczenia'!B179:C179)","v":""},null,{"$f":"'Załącznik nr 2 do rozliczenia'!H175","v":0},{"$f":"IF('Załącznik nr 1 do rozliczenia'!H179<0,ABS('Załącznik nr 1 do rozliczenia'!H179),0)","v":0},null,0,0,0,{"$f":"'Weryfikacja 2'!W28","v":0},null,null,0,0]
[{"$f":"'Załącznik nr 1 do rozliczenia'!A180","v":"27"},{"$f":"IF('Załącznik nr 1 do rozliczenia'!B180:C180=\"\",\"\",'Załącznik nr 1 do rozliczenia'!B180:C180)","v":""},null,{"$f":"'Załącznik nr 2 do rozliczenia'!H176","v":0},{"$f":"IF('Załącznik nr 1 do rozliczenia'!H180<0,ABS('Załącznik nr 1 do rozliczenia'!H180),0)","v":0},null,0,0,0,{"$f":"'Weryfikacja 2'!W29","v":0},null,null,0,0]
[{"$f":"'Załącznik nr 1 do rozliczenia'!A181","v":"28"},{"$f":"IF('Załącznik nr 1 do rozliczenia'!B181:C181=\"\",\"\",'Załącznik nr 1 do rozliczenia'!B181:C181)","v":""},null,{"$f":"'Załącznik nr 2 do rozliczenia'!H177","v":0},{"$f":"IF('Załącznik nr 1 do rozliczenia'!H181<0,ABS('Załącznik nr 1 do rozliczenia'!H181),0)","v":0},null,0,0,0,{"$f":"'Weryfikacja 2'!W30","v":0},null,null,0,0]
[{"$f":"'Załącznik nr 1 do rozliczenia'!A182","v":"29"},{"$f":"IF('Załącznik nr 1 do rozliczenia'!B182:C182=\"\",\"\",'Załącznik nr 1 do rozliczenia'!B182:C182)","v":""},null,{"$f":"'Załącznik nr 2 do rozliczenia'!H178","v":0},{"$f":"IF('Załącznik nr 1 do rozliczenia'!H182<0,ABS('Załącznik nr 1 do rozliczenia'!H182),0)","v":0},null,0,0,0,{"$f":"'Weryfikacja 2'!W31","v":0},null,null,0,0]
[{"$f":"'Załącznik nr 1 do rozliczenia'!A183","v":"30"},{"$f":"IF('Załącznik nr 1 do rozliczenia'!B183:C183=\"\",\"\",'Załącznik nr 1 do rozliczenia'!B183:C183)","v":""},null,{"$f":"'Załącznik nr 2 do rozliczenia'!H179","v":0},{"$f":"IF('Załącznik nr 1 do rozliczenia'!H183<0,ABS('Załącznik nr 1 do rozliczenia'!H183),0)","v":0},null,0,0,0,{"$f":"'Weryfikacja 2'!W32","v":0},null,null,0,0]
[{"$f":"'Załącznik nr 1 do rozliczenia'!A184","v":"31"},{"$f":"IF('Załącznik nr 1 do rozliczenia'!B184:C184=\"\",\"\",'Załącznik nr 1 do rozliczenia'!B184:C184)","v":""},null,{"$f":"'Załącznik nr 2 do rozliczenia'!H180","v":0},{"$f":"IF('Załącznik nr 1 do rozliczenia'!H184<0,ABS('Załącznik nr 1 do rozliczenia'!H184),0)","v":0},null,0,0,0,{"$f":"'Weryfikacja 2'!W33","v":0},null,null,0,0]
[{"$f":"'Załącznik nr 1 do rozliczenia'!A185","v":"32"},{"$f":"IF('Załącznik nr 1 do rozliczenia'!B185:C185=\"\",\"\",'Załącznik nr 1 do rozliczenia'!B185:C185)","v":""},null,{"$f":"'Załącznik nr 2 do rozliczenia'!H181","v":0},{"$f":"IF('Załącznik nr 1 do rozliczenia'!H185<0,ABS('Załącznik nr 1 do rozliczenia'!H185),0)","v":0},null,0,0,0,{"$f":"'Weryfikacja 2'!W34","v":0},null,null,0,0]
[{"$f":"'Załącznik nr 1 do rozliczenia'!A186","v":"33"},{"$f":"IF('Załącznik nr 1 do rozliczenia'!B186:C186=\"\",\"\",'Załącznik nr 1 do rozliczenia'!B186:C186)","v":""},null,{"$f":"'Załącznik nr 2 do rozliczenia'!H182","v":0},{"$f":"IF('Załącznik nr 1 do rozliczenia'!H186<0,ABS('Załącznik nr 1 do rozliczenia'!H186),0)","v":0},null,0,0,0,{"$f":"'Weryfikacja 2'!W35","v":0},null,null,0,0]
[{"$f":"'Załącznik nr 1 do rozliczenia'!A187","v":"34"},{"$f":"IF('Załącznik nr 1 do rozliczenia'!B187:C187=\"\",\"\",'Załącznik nr 1 do rozliczenia'!B187:C187)","v":""},null,{"$f":"'Załącznik nr 2 do rozliczenia'!H183","v":0},{"$f":"IF('Załącznik nr 1 do rozliczenia'!H187<0,ABS('Załącznik nr 1 do rozliczenia'!H187),0)","v":0},null,0,0,0,{"$f":"'Weryfikacja 2'!W36","v":0},null,null,0,0]
[{"$f":"'Załącznik nr 1 do rozliczenia'!A188","v":"35"},{"$f":"IF('Załącznik nr 1 do rozliczenia'!B188:C188=\"\",\"\",'Załącznik nr 1 do rozliczenia'!B188:C188)","v":""},null,{"$f":"'Załącznik nr 2 do rozliczenia'!H184","v":0},{"$f":"IF('Załącznik nr 1 do rozliczenia'!H188<0,ABS('Załącznik nr 1 do rozliczenia'!H188),0)","v":0},null,0,0,0,{"$f":"'Weryfikacja 2'!W37","v":0},null,null,0,0]
[{"$f":"'Załącznik nr 1 do rozliczenia'!A189","v":"36"},{"$f":"IF('Załącznik nr 1 do rozliczenia'!B189:C189=\"\",\"\",'Załącznik nr 1 do rozliczenia'!B189:C189)","v":""},null,{"$f":"'Załącznik nr 2 do rozliczenia'!H185","v":0},{"$f":"IF('Załącznik nr 1 do rozliczenia'!H189<0,ABS('Załącznik nr 1 do rozliczenia'!H189),0)","v":0},null,0,0,0,{"$f":"'Weryfikacja 2'!W38","v":0},null,null,0,0]
[{"$f":"'Załącznik nr 1 do rozliczenia'!A190","v":"37"},{"$f":"IF('Załącznik nr 1 do rozliczenia'!B190:C190=\"\",\"\",'Załącznik nr 1 do rozliczenia'!B190:C190)","v":""},null,{"$f":"'Załącznik nr 2 do rozliczenia'!H186","v":0},{"$f":"IF('Załącznik nr 1 do rozliczenia'!H190<0,ABS('Załącznik nr 1 do rozliczenia'!H190),0)","v":0},null,0,0,0,{"$f":"'Weryfikacja 2'!W39","v":0},null,null,0,0]
[{"$f":"'Załącznik nr 1 do rozliczenia'!A191","v":"38"},{"$f":"IF('Załącznik nr 1 do rozliczenia'!B191:C191=\"\",\"\",'Załącznik nr 1 do rozliczenia'!B191:C191)","v":""},null,{"$f":"'Załącznik nr 2 do rozliczenia'!H187","v":0},{"$f":"IF('Załącznik nr 1 do rozliczenia'!H191<0,ABS('Załącznik nr 1 do rozliczenia'!H191),0)","v":0},null,0,0,0,{"$f":"'Weryfikacja 2'!W40","v":0},null,null,0,0]
[{"$f":"'Załącznik nr 1 do rozliczenia'!A192","v":"39"},{"$f":"IF('Załącznik nr 1 do rozliczenia'!B192:C192=\"\",\"\",'Załącznik nr 1 do rozliczenia'!B192:C192)","v":""},null,{"$f":"'Załącznik nr 2 do rozliczenia'!H188","v":0},{"$f":"IF('Załącznik nr 1 do rozliczenia'!H192<0,ABS('Załącznik nr 1 do rozliczenia'!H192),0)","v":0},null,0,0,0,{"$f":"'Weryfikacja 2'!W41","v":0},null,null,0,0]
[{"$f":"'Załącznik nr 1 do rozliczenia'!A193","v":"40"},{"$f":"IF('Załącznik nr 1 do rozliczenia'!B193:C193=\"\",\"\",'Załącznik nr 1 do rozliczenia'!B193:C193)","v":""},null,{"$f":"'Załącznik nr 2 do rozliczenia'!H189","v":0},{"$f":"IF('Załącznik nr 1 do rozliczenia'!H193<0,ABS('Załącznik nr 1 do rozliczenia'!H193),0)","v":0},null,0,0,0,{"$f":"'Weryfikacja 2'!W42","v":0},null,null,0,0]
[{"$f":"'Załącznik nr 1 do rozliczenia'!A194","v":"41"},{"$f":"IF('Załącznik nr 1 do rozliczenia'!B194:C194=\"\",\"\",'Załącznik nr 1 do rozliczenia'!B194:C194)","v":""},null,{"$f":"'Załącznik nr 2 do rozliczenia'!H190","v":0},{"$f":"IF('Załącznik nr 1 do rozliczenia'!H194<0,ABS('Załącznik nr 1 do rozliczenia'!H194),0)","v":0},null,0,0,0,{"$f":"'Weryfikacja 2'!W43","v":0},null,null,0,0]
[{"$f":"'Załącznik nr 1 do rozliczenia'!A195","v":"42"},{"$f":"IF('Załącznik nr 1 do rozliczenia'!B195:C195=\"\",\"\",'Załącznik nr 1 do rozliczenia'!B195:C195)","v":""},null,{"$f":"'Załącznik nr 2 do rozliczenia'!H191","v":0},{"$f":"IF('Załącznik nr 1 do rozliczenia'!H195<0,ABS('Załącznik nr 1 do rozliczenia'!H195),0)","v":0},null,0,0,0,{"$f":"'Weryfikacja 2'!W44","v":0},null,null,0,0]
[{"$f":"'Załącznik nr 1 do rozliczenia'!A196","v":"43"},{"$f":"IF('Załącznik nr 1 do rozliczenia'!B196:C196=\"\",\"\",'Załącznik nr 1 do rozliczenia'!B196:C196)","v":""},null,{"$f":"'Załącznik nr 2 do rozliczenia'!H192","v":0},{"$f":"IF('Załącznik nr 1 do rozliczenia'!H196<0,ABS('Załącznik nr 1 do rozliczenia'!H196),0)","v":0},null,0,0,0,{"$f":"'Weryfikacja 2'!W45","v":0},null,null,0,0]
[{"$f":"'Załącznik nr 1 do rozliczenia'!A197","v":"44"},{"$f":"IF('Załącznik nr 1 do rozliczenia'!B197:C197=\"\",\"\",'Załącznik nr 1 do rozliczenia'!B197:C197)","v":""},null,{"$f":"'Załącznik nr 2 do rozliczenia'!H193","v":0},{"$f":"IF('Załącznik nr 1 do rozliczenia'!H197<0,ABS('Załącznik nr 1 do rozliczenia'!H197),0)","v":0},null,0,0,0,{"$f":"'Weryfikacja 2'!W46","v":0},null,null,0,0]
[{"$f":"'Załącznik nr 1 do rozliczenia'!A198","v":"45"},{"$f":"IF('Załącznik nr 1 do rozliczenia'!B198:C198=\"\",\"\",'Załącznik nr 1 do rozliczenia'!B198:C198)","v":""},null,{"$f":"'Załącznik nr 2 do rozliczenia'!H194","v":0},{"$f":"IF('Załącznik nr 1 do rozliczenia'!H198<0,ABS('Załącznik nr 1 do rozliczenia'!H198),0)","v":0},null,0,0,0,{"$f":"'Weryfikacja 2'!W47","v":0},null,null,0,0]
[{"$f":"'Załącznik nr 1 do rozliczenia'!A199","v":"46"},{"$f":"IF('Załącznik nr 1 do rozliczenia'!B199:C199=\"\",\"\",'Załącznik nr 1 do rozliczenia'!B199:C199)","v":""},null,{"$f":"'Załącznik nr 2 do rozliczenia'!H195","v":0},{"$f":"IF('Załącznik nr 1 do rozliczenia'!H199<0,ABS('Załącznik nr 1 do rozliczenia'!H199),0)","v":0},null,0,0,0,{"$f":"'Weryfikacja 2'!W48","v":0},null,null,0,0]
[{"$f":"'Załącznik nr 1 do rozliczenia'!A200","v":"47"},{"$f":"IF('Załącznik nr 1 do rozliczenia'!B200:C200=\"\",\"\",'Załącznik nr 1 do rozliczenia'!B200:C200)","v":""},null,{"$f":"'Załącznik nr 2 do rozliczenia'!H196","v":0},{"$f":"IF('Załącznik nr 1 do rozliczenia'!H200<0,ABS('Załącznik nr 1 do rozliczenia'!H200),0)","v":0},null,0,0,0,{"$f":"'Weryfikacja 2'!W49","v":0},null,null,0,0]
[{"$f":"'Załącznik nr 1 do rozliczenia'!A201","v":"48"},{"$f":"IF('Załącznik nr 1 do rozliczenia'!B201:C201=\"\",\"\",'Załącznik nr 1 do rozliczenia'!B201:C201)","v":""},null,{"$f":"'Załącznik nr 2 do rozliczenia'!H197","v":0},{"$f":"IF('Załącznik nr 1 do rozliczenia'!H201<0,ABS('Załącznik nr 1 do rozliczenia'!H201),0)","v":0},null,0,0,0,{"$f":"'Weryfikacja 2'!W50","v":0},null,null,0,0]
[{"$f":"'Załącznik nr 1 do rozliczenia'!A202","v":"49"},{"$f":"IF('Załącznik nr 1 do rozliczenia'!B202:C202=\"\",\"\",'Załącznik nr 1 do rozliczenia'!B202:C202)","v":""},null,{"$f":"'Załącznik nr 2 do rozliczenia'!H198","v":0},{"$f":"IF('Załącznik nr 1 do rozliczenia'!H202<0,ABS('Załącznik nr 1 do rozliczenia'!H202),0)","v":0},null,0,0,0,{"$f":"'Weryfikacja 2'!W51","v":0},null,null,0,0]
[{"$f":"'Załącznik nr 1 do rozliczenia'!A203","v":"50"},{"$f":"IF('Załącznik nr 1 do rozliczenia'!B203:C203=\"\",\"\",'Załącznik nr 1 do rozliczenia'!B203:C203)","v":""},null,{"$f":"'Załącznik nr 2 do rozliczenia'!H199","v":0},{"$f":"IF('Załącznik nr 1 do rozliczenia'!H203<0,ABS('Załącznik nr 1 do rozliczenia'!H203),0)","v":0},null,0,0,0,{"$f":"'Weryfikacja 2'!W52","v":0},null,null,0,0]
[{"$f":"'Załącznik nr 1 do rozliczenia'!A204","v":"51"},{"$f":"IF('Załącznik nr 1 do rozliczenia'!B204:C204=\"\",\"\",'Załącznik nr 1 do rozliczenia'!B204:C204)","v":""},null,{"$f":"'Załącznik nr 2 do rozliczenia'!H200","v":0},{"$f":"IF('Załącznik nr 1 do rozliczenia'!H204<0,ABS('Załącznik nr 1 do rozliczenia'!H204),0)","v":0},null,0,0,0,{"$f":"'Weryfikacja 2'!W53","v":0},null,null,0,0]
[{"$f":"'Załącznik nr 1 do rozliczenia'!A205","v":"52"},{"$f":"IF('Załącznik nr 1 do rozliczenia'!B205:C205=\"\",\"\",'Załącznik nr 1 do rozliczenia'!B205:C205)","v":""},null,{"$f":"'Załącznik nr 2 do rozliczenia'!H201","v":0},{"$f":"IF('Załącznik nr 1 do rozliczenia'!H205<0,ABS('Załącznik nr 1 do rozliczenia'!H205),0)","v":0},null,0,0,0,{"$f":"'Weryfikacja 2'!W54","v":0},null,null,0,0]
[{"$f":"'Załącznik nr 1 do rozliczenia'!A206","v":"53"},{"$f":"IF('Załącznik nr 1 do rozliczenia'!B206:C206=\"\",\"\",'Załącznik nr 1 do rozliczenia'!B206:C206)","v":""},null,{"$f":"'Załącznik nr 2 do rozliczenia'!H202","v":0},{"$f":"IF('Załącznik nr 1 do rozliczenia'!H206<0,ABS('Załącznik nr 1 do rozliczenia'!H206),0)","v":0},null,0,0,0,{"$f":"'Weryfikacja 2'!W55","v":0},null,null,0,0]
[{"$f":"'Załącznik nr 1 do rozliczenia'!A207","v":"54"},{"$f":"IF('Załącznik nr 1 do rozliczenia'!B207:C207=\"\",\"\",'Załącznik nr 1 do rozliczenia'!B207:C207)","v":""},null,{"$f":"'Załącznik nr 2 do rozliczenia'!H203","v":0},{"$f":"IF('Załącznik nr 1 do rozliczenia'!H207<0,ABS('Załącznik nr 1 do rozliczenia'!H207),0)","v":0},null,0,0,0,{"$f":"'Weryfikacja 2'!W56","v":0},null,null,0,0]
[{"$f":"'Załącznik nr 1 do rozliczenia'!A208","v":"55"},{"$f":"IF('Załącznik nr 1 do rozliczenia'!B208:C208=\"\",\"\",'Załącznik nr 1 do rozliczenia'!B208:C208)","v":""},null,{"$f":"'Załącznik nr 2 do rozliczenia'!H204","v":0},{"$f":"IF('Załącznik nr 1 do rozliczenia'!H208<0,ABS('Załącznik nr 1 do rozliczenia'!H208),0)","v":0},null,0,0,0,{"$f":"'Weryfikacja 2'!W57","v":0},null,null,0,0]
[{"$f":"'Załącznik nr 1 do rozliczenia'!A209","v":"56"},{"$f":"IF('Załącznik nr 1 do rozliczenia'!B209:C209=\"\",\"\",'Załącznik nr 1 do rozliczenia'!B209:C209)","v":""},null,{"$f":"'Załącznik nr 2 do rozliczenia'!H205","v":0},{"$f":"IF('Załącznik nr 1 do rozliczenia'!H209<0,ABS('Załącznik nr 1 do rozliczenia'!H209),0)","v":0},null,0,0,0,{"$f":"'Weryfikacja 2'!W58","v":0},null,null,0,0]
[{"$f":"'Załącznik nr 1 do rozliczenia'!A210","v":"57"},{"$f":"IF('Załącznik nr 1 do rozliczenia'!B210:C210=\"\",\"\",'Załącznik nr 1 do rozliczenia'!B210:C210)","v":""},null,{"$f":"'Załącznik nr 2 do rozliczenia'!H206","v":0},{"$f":"IF('Załącznik nr 1 do rozliczenia'!H210<0,ABS('Załącznik nr 1 do rozliczenia'!H210),0)","v":0},null,0,0,0,{"$f":"'Weryfikacja 2'!W59","v":0},null,null,0,0]
[{"$f":"'Załącznik nr 1 do rozliczenia'!A211","v":"58"},{"$f":"IF('Załącznik nr 1 do rozliczenia'!B211:C211=\"\",\"\",'Załącznik nr 1 do rozliczenia'!B211:C211)","v":""},null,{"$f":"'Załącznik nr 2 do rozliczenia'!H207","v":0},{"$f":"IF('Załącznik nr 1 do rozliczenia'!H211<0,ABS('Załącznik nr 1 do rozliczenia'!H211),0)","v":0},null,0,0,0,{"$f":"'Weryfikacja 2'!W60","v":0},null,null,0,0]
[{"$f":"'Załącznik nr 1 do rozliczenia'!A212","v":"59"},{"$f":"IF('Załącznik nr 1 do rozliczenia'!B212:C212=\"\",\"\",'Załącznik nr 1 do rozliczenia'!B212:C212)","v":""},null,{"$f":"'Załącznik nr 2 do rozliczenia'!H208","v":0},{"$f":"IF('Załącznik nr 1 do rozliczenia'!H212<0,ABS('Załącznik nr 1 do rozliczenia'!H212),0)","v":0},null,0,0,0,{"$f":"'Weryfikacja 2'!W61","v":0},null,null,0,0]
[{"$f":"'Załącznik nr 1 do rozliczenia'!A213","v":"60"},{"$f":"IF('Załącznik nr 1 do rozliczenia'!B213:C213=\"\",\"\",'Załącznik nr 1 do rozliczenia'!B213:C213)","v":""},null,{"$f":"'Załącznik nr 2 do rozliczenia'!H209","v":0},{"$f":"IF('Załącznik nr 1 do rozliczenia'!H213<0,ABS('Załącznik nr 1 do rozliczenia'!H213),0)","v":0},null,0,0,0,{"$f":"'Weryfikacja 2'!W62","v":0},null,null,0,0]
[{"$f":"'Załącznik nr 1 do rozliczenia'!A214","v":"61"},{"$f":"IF('Załącznik nr 1 do rozliczenia'!B214:C214=\"\",\"\",'Załącznik nr 1 do rozliczenia'!B214:C214)","v":""},null,{"$f":"'Załącznik nr 2 do rozliczenia'!H210","v":0},{"$f":"IF('Załącznik nr 1 do rozliczenia'!H214<0,ABS('Załącznik nr 1 do rozliczenia'!H214),0)","v":0},null,0,0,0,{"$f":"'Weryfikacja 2'!W63","v":0},null,null,0,0]
[{"$f":"'Załącznik nr 1 do rozliczenia'!A215","v":"62"},{"$f":"IF('Załącznik nr 1 do rozliczenia'!B215:C215=\"\",\"\",'Załącznik nr 1 do rozliczenia'!B215:C215)","v":""},null,{"$f":"'Załącznik nr 2 do rozliczenia'!H211","v":0},{"$f":"IF('Załącznik nr 1 do rozliczenia'!H215<0,ABS('Załącznik nr 1 do rozliczenia'!H215),0)","v":0},null,0,0,0,{"$f":"'Weryfikacja 2'!W64","v":0},null,null,0,0]
[{"$f":"'Załącznik nr 1 do rozliczenia'!A216","v":"63"},{"$f":"IF('Załącznik nr 1 do rozliczenia'!B216:C216=\"\",\"\",'Załącznik nr 1 do rozliczenia'!B216:C216)","v":""},null,{"$f":"'Załącznik nr 2 do rozliczenia'!H212","v":0},{"$f":"IF('Załącznik nr 1 do rozliczenia'!H216<0,ABS('Załącznik nr 1 do rozliczenia'!H216),0)","v":0},null,0,0,0,{"$f":"'Weryfikacja 2'!W65","v":0},null,null,0,0]
[{"$f":"'Załącznik nr 1 do rozliczenia'!A217","v":"64"},{"$f":"IF('Załącznik nr 1 do rozliczenia'!B217:C217=\"\",\"\",'Załącznik nr 1 do rozliczenia'!B217:C217)","v":""},null,{"$f":"'Załącznik nr 2 do rozliczenia'!H213","v":0},{"$f":"IF('Załącznik nr 1 do rozliczenia'!H217<0,ABS('Załącznik nr 1 do rozliczenia'!H217),0)","v":0},null,0,0,0,{"$f":"'Weryfikacja 2'!W66","v":0},null,null,0,0]
[{"$f":"'Załącznik nr 1 do rozliczenia'!A218","v":"65"},{"$f":"IF('Załącznik nr 1 do rozliczenia'!B218:C218=\"\",\"\",'Załącznik nr 1 do rozliczenia'!B218:C218)","v":""},null,{"$f":"'Załącznik nr 2 do rozliczenia'!H214","v":0},{"$f":"IF('Załącznik nr 1 do rozliczenia'!H218<0,ABS('Załącznik nr 1 do rozliczenia'!H218),0)","v":0},null,{"$f":"IFERROR(E221/D221,0)","v":0},{"$f":"IFERROR(F221/D221,0)","v":0},0,{"$f":"'Weryfikacja 2'!W67","v":0},null,null,0,{"$f":"IF(M221-J221<0,0,M221-J221)","v":0}]
[{"$f":"'Załącznik nr 1 do rozliczenia'!A219","v":"66"},{"$f":"IF('Załącznik nr 1 do rozliczenia'!B219:C219=\"\",\"\",'Załącznik nr 1 do rozliczenia'!B219:C219)","v":""},null,{"$f":"'Załącznik nr 2 do rozliczenia'!H215","v":0},{"$f":"IF('Załącznik nr 1 do rozliczenia'!H219<0,ABS('Załącznik nr 1 do rozliczenia'!H219),0)","v":0},null,0,0,{"$f":"IFERROR(ROUND(H222/G222,4),0)","v":0},{"$f":"'Weryfikacja 2'!W68","v":0},null,null,{"$f":"K222-L222","v":0},0]
[{"$f":"'Załącznik nr 1 do rozliczenia'!A220","v":"67"},{"$f":"IF('Załącznik nr 1 do rozliczenia'!B220:C220=\"\",\"\",'Załącznik nr 1 do rozliczenia'!B220:C220)","v":""},null,{"$f":"'Załącznik nr 2 do rozliczenia'!H216","v":0},{"$f":"IF('Załącznik nr 1 do rozliczenia'!H220<0,ABS('Załącznik nr 1 do rozliczenia'!H220),0)","v":0},null,0,0,0,{"$f":"'Weryfikacja 2'!W69","v":0},null,null,0,0]
[{"$f":"'Załącznik nr 1 do rozliczenia'!A221","v":"68"},{"$f":"IF('Załącznik nr 1 do rozliczenia'!B221:C221=\"\",\"\",'Załącznik nr 1 do rozliczenia'!B221:C221)","v":""},null,{"$f":"'Załącznik nr 2 do rozliczenia'!H217","v":0},{"$f":"IF('Załącznik nr 1 do rozliczenia'!H221<0,ABS('Załącznik nr 1 do rozliczenia'!H221),0)","v":0},null,0,0,0,{"$f":"'Weryfikacja 2'!W70","v":0},null,null,0,0]
[{"$f":"'Załącznik nr 1 do rozliczenia'!A222","v":"69"},{"$f":"IF('Załącznik nr 1 do rozliczenia'!B222:C222=\"\",\"\",'Załącznik nr 1 do rozliczenia'!B222:C222)","v":""},null,{"$f":"'Załącznik nr 2 do rozliczenia'!H218","v":0},{"$f":"IF('Załącznik nr 1 do rozliczenia'!H222<0,ABS('Załącznik nr 1 do rozliczenia'!H222),0)","v":0},null,0,0,0,{"$f":"'Weryfikacja 2'!W71","v":0},null,null,0,0]
[{"$f":"'Załącznik nr 1 do rozliczenia'!A223","v":"70"},{"$f":"IF('Załącznik nr 1 do rozliczenia'!B223:C223=\"\",\"\",'Załącznik nr 1 do rozliczenia'!B223:C223)","v":""},null,{"$f":"'Załącznik nr 2 do rozliczenia'!H219","v":0},{"$f":"IF('Załącznik nr 1 do rozliczenia'!H223<0,ABS('Załącznik nr 1 do rozliczenia'!H223),0)","v":0},null,0,0,0,{"$f":"'Weryfikacja 2'!W72","v":0},null,null,0,0]
[{"$f":"'Załącznik nr 1 do rozliczenia'!A224","v":"71"},{"$f":"IF('Załącznik nr 1 do rozliczenia'!B224:C224=\"\",\"\",'Załącznik nr 1 do rozliczenia'!B224:C224)","v":""},null,{"$f":"'Załącznik nr 2 do rozliczenia'!H220","v":0},{"$f":"IF('Załącznik nr 1 do rozliczenia'!H224<0,ABS('Załącznik nr 1 do rozliczenia'!H224),0)","v":0},null,0,0,0,{"$f":"'Weryfikacja 2'!W73","v":0},null,null,0,0]
[{"$f":"'Załącznik nr 1 do rozliczenia'!A225","v":"72"},{"$f":"IF('Załącznik nr 1 do rozliczenia'!B225:C225=\"\",\"\",'Załącznik nr 1 do rozliczenia'!B225:C225)","v":""},null,{"$f":"'Załącznik nr 2 do rozliczenia'!H221","v":0},{"$f":"IF('Załącznik nr 1 do rozliczenia'!H225<0,ABS('Załącznik nr 1 do rozliczenia'!H225),0)","v":0},null,0,0,0,{"$f":"'Weryfikacja 2'!W74","v":0},null,null,0,0]
[{"$f":"'Załącznik nr 1 do rozliczenia'!A226","v":"73"},{"$f":"IF('Załącznik nr 1 do rozliczenia'!B226:C226=\"\",\"\",'Załącznik nr 1 do rozliczenia'!B226:C226)","v":""},null,{"$f":"'Załącznik nr 2 do rozliczenia'!H222","v":0},{"$f":"IF('Załącznik nr 1 do rozliczenia'!H226<0,ABS('Załącznik nr 1 do rozliczenia'!H226),0)","v":0},null,0,0,0,{"$f":"'Weryfikacja 2'!W75","v":0},null,null,0,0]
[{"$f":"'Załącznik nr 1 do rozliczenia'!A227","v":"74"},{"$f":"IF('Załącznik nr 1 do rozliczenia'!B227:C227=\"\",\"\",'Załącznik nr 1 do rozliczenia'!B227:C227)","v":""},null,{"$f":"'Załącznik nr 2 do rozliczenia'!H223","v":0},{"$f":"IF('Załącznik nr 1 do rozliczenia'!H227<0,ABS('Załącznik nr 1 do rozliczenia'!H227),0)","v":0},null,0,0,0,{"$f":"'Weryfikacja 2'!W76","v":0},null,null,0,0]
[{"$f":"'Załącznik nr 1 do rozliczenia'!A228","v":"75"},{"$f":"IF('Załącznik nr 1 do rozliczenia'!B228:C228=\"\",\"\",'Załącznik nr 1 do rozliczenia'!B228:C228)","v":""},null,{"$f":"'Załącznik nr 2 do rozliczenia'!H224","v":0},{"$f":"IF('Załącznik nr 1 do rozliczenia'!H228<0,ABS('Załącznik nr 1 do rozliczenia'!H228),0)","v":0},null,0,0,0,{"$f":"'Weryfikacja 2'!W77","v":0},null,null,0,0]
[{"$f":"'Załącznik nr 1 do rozliczenia'!A229","v":"76"},{"$f":"IF('Załącznik nr 1 do rozliczenia'!B229:C229=\"\",\"\",'Załącznik nr 1 do rozliczenia'!B229:C229)","v":""},null,{"$f":"'Załącznik nr 2 do rozliczenia'!H225","v":0},{"$f":"IF('Załącznik nr 1 do rozliczenia'!H229<0,ABS('Załącznik nr 1 do rozliczenia'!H229),0)","v":0},null,0,0,0,{"$f":"'Weryfikacja 2'!W78","v":0},null,null,0,0]
[{"$f":"'Załącznik nr 1 do rozliczenia'!A230","v":"77"},{"$f":"IF('Załącznik nr 1 do rozliczenia'!B230:C230=\"\",\"\",'Załącznik nr 1 do rozliczenia'!B230:C230)","v":""},null,{"$f":"'Załącznik nr 2 do rozliczenia'!H226","v":0},{"$f":"IF('Załącznik nr 1 do rozliczenia'!H230<0,ABS('Załącznik nr 1 do rozliczenia'!H230),0)","v":0},null,0,0,0,{"$f":"'Weryfikacja 2'!W79","v":0},null,null,0,0]
[{"$f":"'Załącznik nr 1 do rozliczenia'!A231","v":"78"},{"$f":"IF('Załącznik nr 1 do rozliczenia'!B231:C231=\"\",\"\",'Załącznik nr 1 do rozliczenia'!B231:C231)","v":""},null,{"$f":"'Załącznik nr 2 do rozliczenia'!H227","v":0},{"$f":"IF('Załącznik nr 1 do rozliczenia'!H231<0,ABS('Załącznik nr 1 do rozliczenia'!H231),0)","v":0},null,0,0,0,{"$f":"'Weryfikacja 2'!W80","v":0},null,null,0,0]
[{"$f":"'Załącznik nr 1 do rozliczenia'!A232","v":"79"},{"$f":"IF('Załącznik nr 1 do rozliczenia'!B232:C232=\"\",\"\",'Załącznik nr 1 do rozliczenia'!B232:C232)","v":""},null,{"$f":"'Załącznik nr 2 do rozliczenia'!H228","v":0},{"$f":"IF('Załącznik nr 1 do rozliczenia'!H232<0,ABS('Załącznik nr 1 do rozliczenia'!H232),0)","v":0},null,0,0,0,{"$f":"'Weryfikacja 2'!W81","v":0},null,null,0,0]
[{"$f":"'Załącznik nr 1 do rozliczenia'!A233","v":"80"},{"$f":"IF('Załącznik nr 1 do rozliczenia'!B233:C233=\"\",\"\",'Załącznik nr 1 do rozliczenia'!B233:C233)","v":""},null,{"$f":"'Załącznik nr 2 do rozliczenia'!H229","v":0},{"$f":"IF('Załącznik nr 1 do rozliczenia'!H233<0,ABS('Załącznik nr 1 do rozliczenia'!H233),0)","v":0},null,0,0,0,{"$f":"'Weryfikacja 2'!W82","v":0},null,null,0,0]
[{"$f":"'Załącznik nr 1 do rozliczenia'!A234","v":"81"},{"$f":"IF('Załącznik nr 1 do rozliczenia'!B234:C234=\"\",\"\",'Załącznik nr 1 do rozliczenia'!B234:C234)","v":""},null,{"$f":"'Załącznik nr 2 do rozliczenia'!H230","v":0},{"$f":"IF('Załącznik nr 1 do rozliczenia'!H234<0,ABS('Załącznik nr 1 do rozliczenia'!H234),0)","v":0},null,0,0,0,{"$f":"'Weryfikacja 2'!W83","v":0},null,null,0,0]
[{"$f":"'Załącznik nr 1 do rozliczenia'!A235","v":"82"},{"$f":"IF('Załącznik nr 1 do rozliczenia'!B235:C235=\"\",\"\",'Załącznik nr 1 do rozliczenia'!B235:C235)","v":""},null,{"$f":"'Załącznik nr 2 do rozliczenia'!H231","v":0},{"$f":"IF('Załącznik nr 1 do rozliczenia'!H235<0,ABS('Załącznik nr 1 do rozliczenia'!H235),0)","v":0},null,0,0,0,{"$f":"'Weryfikacja 2'!W84","v":0},null,null,0,0]
[{"$f":"'Załącznik nr 1 do rozliczenia'!A236","v":"83"},{"$f":"IF('Załącznik nr 1 do rozliczenia'!B236:C236=\"\",\"\",'Załącznik nr 1 do rozliczenia'!B236:C236)","v":""},null,{"$f":"'Załącznik nr 2 do rozliczenia'!H232","v":0},{"$f":"IF('Załącznik nr 1 do rozliczenia'!H236<0,ABS('Załącznik nr 1 do rozliczenia'!H236),0)","v":0},null,0,0,0,{"$f":"'Weryfikacja 2'!W85","v":0},null,null,0,0]
[{"$f":"'Załącznik nr 1 do rozliczenia'!A237","v":"84"},{"$f":"IF('Załącznik nr 1 do rozliczenia'!B237:C237=\"\",\"\",'Załącznik nr 1 do rozliczenia'!B237:C237)","v":""},null,{"$f":"'Załącznik nr 2 do rozliczenia'!H233","v":0},{"$f":"IF('Załącznik nr 1 do rozliczenia'!H237<0,ABS('Załącznik nr 1 do rozliczenia'!H237),0)","v":0},null,0,0,0,{"$f":"'Weryfikacja 2'!W86","v":0},null,null,0,0]
[{"$f":"'Załącznik nr 1 do rozliczenia'!A238","v":"85"},{"$f":"IF('Załącznik nr 1 do rozliczenia'!B238:C238=\"\",\"\",'Załącznik nr 1 do rozliczenia'!B238:C238)","v":""},null,{"$f":"'Załącznik nr 2 do rozliczenia'!H234","v":0},{"$f":"IF('Załącznik nr 1 do rozliczenia'!H238<0,ABS('Załącznik nr 1 do rozliczenia'!H238),0)","v":0},null,0,0,0,{"$f":"'Weryfikacja 2'!W87","v":0},null,null,0,0]
[{"$f":"'Załącznik nr 1 do rozliczenia'!A239","v":"86"},{"$f":"IF('Załącznik nr 1 do rozliczenia'!B239:C239=\"\",\"\",'Załącznik nr 1 do rozliczenia'!B239:C239)","v":""},null,{"$f":"'Załącznik nr 2 do rozliczenia'!H235","v":0},{"$f":"IF('Załącznik nr 1 do rozliczenia'!H239<0,ABS('Załącznik nr 1 do rozliczenia'!H239),0)","v":0},null,0,0,0,{"$f":"'Weryfikacja 2'!W88","v":0},null,null,0,0]
[{"$f":"'Załącznik nr 1 do rozliczenia'!A240","v":"87"},{"$f":"IF('Załącznik nr 1 do rozliczenia'!B240:C240=\"\",\"\",'Załącznik nr 1 do rozliczenia'!B240:C240)","v":""},null,{"$f":"'Załącznik nr 2 do rozliczenia'!H236","v":0},{"$f":"IF('Załącznik nr 1 do rozliczenia'!H240<0,ABS('Załącznik nr 1 do rozliczenia'!H240),0)","v":0},null,0,0,0,{"$f":"'Weryfikacja 2'!W89","v":0},null,null,0,0]
[{"$f":"'Załącznik nr 1 do rozliczenia'!A241","v":"88"},{"$f":"IF('Załącznik nr 1 do rozliczenia'!B241:C241=\"\",\"\",'Załącznik nr 1 do rozliczenia'!B241:C241)","v":""},null,{"$f":"'Załącznik nr 2 do rozliczenia'!H237","v":0},{"$f":"IF('Załącznik nr 1 do rozliczenia'!H241<0,ABS('Załącznik nr 1 do rozliczenia'!H241),0)","v":0},null,0,0,0,{"$f":"'Weryfikacja 2'!W90","v":0},null,null,0,0]
[{"$f":"'Załącznik nr 1 do rozliczenia'!A242","v":"89"},{"$f":"IF('Załącznik nr 1 do rozliczenia'!B242:C242=\"\",\"\",'Załącznik nr 1 do rozliczenia'!B242:C242)","v":""},null,{"$f":"'Załącznik nr 2 do rozliczenia'!H238","v":0},{"$f":"IF('Załącznik nr 1 do rozliczenia'!H242<0,ABS('Załącznik nr 1 do rozliczenia'!H242),0)","v":0},null,0,0,0,{"$f":"'Weryfikacja 2'!W91","v":0},null,null,0,0]
[{"$f":"'Załącznik nr 1 do rozliczenia'!A243","v":"90"},{"$f":"IF('Załącznik nr 1 do rozliczenia'!B243:C243=\"\",\"\",'Załącznik nr 1 do rozliczenia'!B243:C243)","v":""},null,{"$f":"'Załącznik nr 2 do rozliczenia'!H239","v":0},{"$f":"IF('Załącznik nr 1 do rozliczenia'!H243<0,ABS('Załącznik nr 1 do rozliczenia'!H243),0)","v":0},null,0,0,0,{"$f":"'Weryfikacja 2'!W92","v":0},null,null,0,0]
[{"$f":"'Załącznik nr 1 do rozliczenia'!A244","v":"91"},{"$f":"IF('Załącznik nr 1 do rozliczenia'!B244:C244=\"\",\"\",'Załącznik nr 1 do rozliczenia'!B244:C244)","v":""},null,{"$f":"'Załącznik nr 2 do rozliczenia'!H240","v":0},{"$f":"IF('Załącznik nr 1 do rozliczenia'!H244<0,ABS('Załącznik nr 1 do rozliczenia'!H244),0)","v":0},null,0,0,0,{"$f":"'Weryfikacja 2'!W93","v":0},null,null,0,0]
[{"$f":"'Załącznik nr 1 do rozliczenia'!A245","v":"92"},{"$f":"IF('Załącznik nr 1 do rozliczenia'!B245:C245=\"\",\"\",'Załącznik nr 1 do rozliczenia'!B245:C245)","v":""},null,{"$f":"'Załącznik nr 2 do rozliczenia'!H241","v":0},{"$f":"IF('Załącznik nr 1 do rozliczenia'!H245<0,ABS('Załącznik nr 1 do rozliczenia'!H245),0)","v":0},null,0,0,0,{"$f":"'Weryfikacja 2'!W94","v":0},null,null,0,0]
[{"$f":"'Załącznik nr 1 do rozliczenia'!A246","v":"93"},{"$f":"IF('Załącznik nr 1 do rozliczenia'!B246:C246=\"\",\"\",'Załącznik nr 1 do rozliczenia'!B246:C246)","v":""},null,{"$f":"'Załącznik nr 2 do rozliczenia'!H242","v":0},{"$f":"IF('Załącznik nr 1 do rozliczenia'!H246<0,ABS('Załącznik nr 1 do rozliczenia'!H246),0)","v":0},null,0,0,0,{"$f":"'Weryfikacja 2'!W95","v":0},null,null,0,0]
[{"$f":"'Załącznik nr 1 do rozliczenia'!A247","v":"94"},{"$f":"IF('Załącznik nr 1 do rozliczenia'!B247:C247=\"\",\"\",'Załącznik nr 1 do rozliczenia'!B247:C247)","v":""},null,{"$f":"'Załącznik nr 2 do rozliczenia'!H243","v":0},{"$f":"IF('Załącznik nr 1 do rozliczenia'!H247<0,ABS('Załącznik nr 1 do rozliczenia'!H247),0)","v":0},null,0,0,0,{"$f":"'Weryfikacja 2'!W96","v":0},null,null,0,0]
[{"$f":"'Załącznik nr 1 do rozliczenia'!A248","v":"95"},{"$f":"IF('Załącznik nr 1 do rozliczenia'!B248:C248=\"\",\"\",'Załącznik nr 1 do rozliczenia'!B248:C248)","v":""},null,{"$f":"'Załącznik nr 2 do rozliczenia'!H244","v":0},{"$f":"IF('Załącznik nr 1 do rozliczenia'!H248<0,ABS('Załącznik nr 1 do rozliczenia'!H248),0)","v":0},null,0,0,0,{"$f":"'Weryfikacja 2'!W97","v":0},null,null,0,0]
[{"$f":"'Załącznik nr 1 do rozliczenia'!A249","v":"96"},{"$f":"IF('Załącznik nr 1 do rozliczenia'!B249:C249=\"\",\"\",'Załącznik nr 1 do rozliczenia'!B249:C249)","v":""},null,{"$f":"'Załącznik nr 2 do rozliczenia'!H245","v":0},{"$f":"IF('Załącznik nr 1 do rozliczenia'!H249<0,ABS('Załącznik nr 1 do rozliczenia'!H249),0)","v":0},null,0,0,0,{"$f":"'Weryfikacja 2'!W98","v":0},null,null,0,0]
[{"$f":"'Załącznik nr 1 do rozliczenia'!A250","v":"97"},{"$f":"IF('Załącznik nr 1 do rozliczenia'!B250:C250=\"\",\"\",'Załącznik nr 1 do rozliczenia'!B250:C250)","v":""},null,{"$f":"'Załącznik nr 2 do rozliczenia'!H246","v":0},{"$f":"IF('Załącznik nr 1 do rozliczenia'!H250<0,ABS('Załącznik nr 1 do rozliczenia'!H250),0)","v":0},null,0,0,0,{"$f":"'Weryfikacja 2'!W99","v":0},null,null,0,0]
[{"$f":"'Załącznik nr 1 do rozliczenia'!A251","v":"98"},{"$f":"IF('Załącznik nr 1 do rozliczenia'!B251:C251=\"\",\"\",'Załącznik nr 1 do rozliczenia'!B251:C251)","v":""},null,{"$f":"'Załącznik nr 2 do rozliczenia'!H247","v":0},{"$f":"IF('Załącznik nr 1 do rozliczenia'!H251<0,ABS('Załącznik nr 1 do rozliczenia'!H251),0)","v":0},null,0,0,0,{"$f":"'Weryfikacja 2'!W100","v":0},null,null,0,0]
[{"$f":"'Załącznik nr 1 do rozliczenia'!A252","v":"99"},{"$f":"IF('Załącznik nr 1 do rozliczenia'!B252:C252=\"\",\"\",'Załącznik nr 1 do rozliczenia'!B252:C252)","v":""},null,{"$f":"'Załącznik nr 2 do rozliczenia'!H248","v":0},{"$f":"IF('Załącznik nr 1 do rozliczenia'!H252<0,ABS('Załącznik nr 1 do rozliczenia'!H252),0)","v":0},null,0,0,0,{"$f":"'Weryfikacja 2'!W101","v":0},null,null,0,0]
[{"$f":"'Załącznik nr 1 do rozliczenia'!A253","v":"100"},{"$f":"IF('Załącznik nr 1 do rozliczenia'!B253:C253=\"\",\"\",'Załącznik nr 1 do rozliczenia'!B253:C253)","v":""},null,{"$f":"'Załącznik nr 2 do rozliczenia'!H249","v":0},{"$f":"IF('Załącznik nr 1 do rozliczenia'!H253<0,ABS('Załącznik nr 1 do rozliczenia'!H253),0)","v":0},null,0,0,0,{"$f":"'Weryfikacja 2'!W102","v":0},null,null,0,0]
[{"$f":"'Załącznik nr 1 do rozliczenia'!A254","v":"101"},{"$f":"IF('Załącznik nr 1 do rozliczenia'!B254:C254=\"\",\"\",'Załącznik nr 1 do rozliczenia'!B254:C254)","v":""},null,{"$f":"'Załącznik nr 2 do rozliczenia'!H250","v":0},{"$f":"IF('Załącznik nr 1 do rozliczenia'!H254<0,ABS('Załącznik nr 1 do rozliczenia'!H254),0)","v":0},null,0,0,0,{"$f":"'Weryfikacja 2'!W103","v":0},null,null,0,0]
[{"$f":"'Załącznik nr 1 do rozliczenia'!A255","v":"102"},{"$f":"IF('Załącznik nr 1 do rozliczenia'!B255:C255=\"\",\"\",'Załącznik nr 1 do rozliczenia'!B255:C255)","v":""},null,{"$f":"'Załącznik nr 2 do rozliczenia'!H251","v":0},{"$f":"IF('Załącznik nr 1 do rozliczenia'!H255<0,ABS('Załącznik nr 1 do rozliczenia'!H255),0)","v":0},null,0,0,0,{"$f":"'Weryfikacja 2'!W104","v":0},null,null,0,0]
[{"$f":"'Załącznik nr 1 do rozliczenia'!A256","v":"103"},{"$f":"IF('Załącznik nr 1 do rozliczenia'!B256:C256=\"\",\"\",'Załącznik nr 1 do rozliczenia'!B256:C256)","v":""},null,{"$f":"'Załącznik nr 2 do rozliczenia'!H252","v":0},{"$f":"IF('Załącznik nr 1 do rozliczenia'!H256<0,ABS('Załącznik nr 1 do rozliczenia'!H256),0)","v":0},null,0,0,0,{"$f":"'Weryfikacja 2'!W105","v":0},null,null,0,0]
[{"$f":"'Załącznik nr 1 do rozliczenia'!A257","v":"104"},{"$f":"IF('Załącznik nr 1 do rozliczenia'!B257:C257=\"\",\"\",'Załącznik nr 1 do rozliczenia'!B257:C257)","v":""},null,{"$f":"'Załącznik nr 2 do rozliczenia'!H253","v":0},{"$f":"IF('Załącznik nr 1 do rozliczenia'!H257<0,ABS('Załącznik nr 1 do rozliczenia'!H257),0)","v":0},null,0,0,0,{"$f":"'Weryfikacja 2'!W106","v":0},null,null,0,0]
[{"$f":"'Załącznik nr 1 do rozliczenia'!A258","v":"105"},{"$f":"IF('Załącznik nr 1 do rozliczenia'!B258:C258=\"\",\"\",'Załącznik nr 1 do rozliczenia'!B258:C258)","v":""},null,{"$f":"'Załącznik nr 2 do rozliczenia'!H254","v":0},{"$f":"IF('Załącznik nr 1 do rozliczenia'!H258<0,ABS('Załącznik nr 1 do rozliczenia'!H258),0)","v":0},null,0,0,0,{"$f":"'Weryfikacja 2'!W107","v":0},null,null,0,0]
[{"$f":"'Załącznik nr 1 do rozliczenia'!A259","v":"106"},{"$f":"IF('Załącznik nr 1 do rozliczenia'!B259:C259=\"\",\"\",'Załącznik nr 1 do rozliczenia'!B259:C259)","v":""},null,{"$f":"'Załącznik nr 2 do rozliczenia'!H255","v":0},{"$f":"IF('Załącznik nr 1 do rozliczenia'!H259<0,ABS('Załącznik nr 1 do rozliczenia'!H259),0)","v":0},null,0,0,0,{"$f":"'Weryfikacja 2'!W108","v":0},null,null,0,0]
[{"$f":"'Załącznik nr 1 do rozliczenia'!A260","v":"107"},{"$f":"IF('Załącznik nr 1 do rozliczenia'!B260:C260=\"\",\"\",'Załącznik nr 1 do rozliczenia'!B260:C260)","v":""},null,{"$f":"'Załącznik nr 2 do rozliczenia'!H256","v":0},{"$f":"IF('Załącznik nr 1 do rozliczenia'!H260<0,ABS('Załącznik nr 1 do rozliczenia'!H260),0)","v":0},null,0,0,0,{"$f":"'Weryfikacja 2'!W109","v":0},null,null,0,0]
[{"$f":"'Załącznik nr 1 do rozliczenia'!A261","v":"108"},{"$f":"IF('Załącznik nr 1 do rozliczenia'!B261:C261=\"\",\"\",'Załącznik nr 1 do rozliczenia'!B261:C261)","v":""},null,{"$f":"'Załącznik nr 2 do rozliczenia'!H257","v":0},{"$f":"IF('Załącznik nr 1 do rozliczenia'!H261<0,ABS('Załącznik nr 1 do rozliczenia'!H261),0)","v":0},null,0,0,0,{"$f":"'Weryfikacja 2'!W110","v":0},null,null,0,0]
[{"$f":"'Załącznik nr 1 do rozliczenia'!A262","v":"109"},{"$f":"IF('Załącznik nr 1 do rozliczenia'!B262:C262=\"\",\"\",'Załącznik nr 1 do rozliczenia'!B262:C262)","v":""},null,{"$f":"'Załącznik nr 2 do rozliczenia'!H258","v":0},{"$f":"IF('Załącznik nr 1 do rozliczenia'!H262<0,ABS('Załącznik nr 1 do rozliczenia'!H262),0)","v":0},null,0,0,0,{"$f":"'Weryfikacja 2'!W111","v":0},null,null,0,0]
[{"$f":"'Załącznik nr 1 do rozliczenia'!A263","v":"110"},{"$f":"IF('Załącznik nr 1 do rozliczenia'!B263:C263=\"\",\"\",'Załącznik nr 1 do rozliczenia'!B263:C263)","v":""},null,{"$f":"'Załącznik nr 2 do rozliczenia'!H259","v":0},{"$f":"IF('Załącznik nr 1 do rozliczenia'!H263<0,ABS('Załącznik nr 1 do rozliczenia'!H263),0)","v":0},null,0,0,0,{"$f":"'Weryfikacja 2'!W112","v":0},null,null,0,0]
[{"$f":"'Załącznik nr 1 do rozliczenia'!A264","v":"111"},{"$f":"IF('Załącznik nr 1 do rozliczenia'!B264:C264=\"\",\"\",'Załącznik nr 1 do rozliczenia'!B264:C264)","v":""},null,{"$f":"'Załącznik nr 2 do rozliczenia'!H260","v":0},{"$f":"IF('Załącznik nr 1 do rozliczenia'!H264<0,ABS('Załącznik nr 1 do rozliczenia'!H264),0)","v":0},null,0,0,0,{"$f":"'Weryfikacja 2'!W113","v":0},null,null,0,0]
[{"$f":"'Załącznik nr 1 do rozliczenia'!A265","v":"112"},{"$f":"IF('Załącznik nr 1 do rozliczenia'!B265:C265=\"\",\"\",'Załącznik nr 1 do rozliczenia'!B265:C265)","v":""},null,{"$f":"'Załącznik nr 2 do rozliczenia'!H261","v":0},{"$f":"IF('Załącznik nr 1 do rozliczenia'!H265<0,ABS('Załącznik nr 1 do rozliczenia'!H265),0)","v":0},null,0,0,0,{"$f":"'Weryfikacja 2'!W114","v":0},null,null,0,0]
[{"$f":"'Załącznik nr 1 do rozliczenia'!A266","v":"113"},{"$f":"IF('Załącznik nr 1 do rozliczenia'!B266:C266=\"\",\"\",'Załącznik nr 1 do rozliczenia'!B266:C266)","v":""},null,{"$f":"'Załącznik nr 2 do rozliczenia'!H262","v":0},{"$f":"IF('Załącznik nr 1 do rozliczenia'!H266<0,ABS('Załącznik nr 1 do rozliczenia'!H266),0)","v":0},null,0,0,0,{"$f":"'Weryfikacja 2'!W115","v":0},null,null,0,0]
[{"$f":"'Załącznik nr 1 do rozliczenia'!A267","v":"114"},{"$f":"IF('Załącznik nr 1 do rozliczenia'!B267:C267=\"\",\"\",'Załącznik nr 1 do rozliczenia'!B267:C267)","v":""},null,{"$f":"'Załącznik nr 2 do rozliczenia'!H263","v":0},{"$f":"IF('Załącznik nr 1 do rozliczenia'!H267<0,ABS('Załącznik nr 1 do rozliczenia'!H267),0)","v":0},null,0,0,0,{"$f":"'Weryfikacja 2'!W116","v":0},null,null,0,0]
[{"$f":"'Załącznik nr 1 do rozliczenia'!A268","v":"115"},{"$f":"IF('Załącznik nr 1 do rozliczenia'!B268:C268=\"\",\"\",'Załącznik nr 1 do rozliczenia'!B268:C268)","v":""},null,{"$f":"'Załącznik nr 2 do rozliczenia'!H264","v":0},{"$f":"IF('Załącznik nr 1 do rozliczenia'!H268<0,ABS('Załącznik nr 1 do rozliczenia'!H268),0)","v":0},null,0,0,0,{"$f":"'Weryfikacja 2'!W117","v":0},null,null,0,0]
["Ogółem:",null,{"$f":"SUM(C157:C271)","v":0},{"$f":"SUM(D157:D271)","v":0},{"$f":"SUM(E157:E271)","v":0},{"$f":"SUM(F157:F271)","v":0},null,null,null,{"$f":"SUM(J157:J271)","v":0},{"$f":"SUM(K157:K271)","v":0},0,0,0]
[]
["B.3 Dane dotyczące linii komunikacyjnych "]
["MIESIĄC",null,null,null,null,{"$f":"'Załącznik nr 1 do rozliczenia'!D273","v":""},null,"2026 r."]
["Lp.","Nazwa linii komunikacyjnej","Liczba przewiezionych osób","Wielkość pracy eksploatacyjnej w okresie rozliczeniowym [wzkm]","Deficyt w okresie rozliczeniowym [zł]","Kwota środków własnych organizatora \n[zł]","Cena usługi \n[zł]","Część ceny usługi sfinansowana ze środków własnych organizatora  [zł/wzkm]","Procentowa wartość części ceny usługi sfinansowanej ze środków własnych organizatora \n[%]","Należna kwota dopłaty w okresie rozliczeniowym [zł]","Pobrana dopłata w okresie rozliczeniowym - wniosek kwartalny \n[zł]","Niewykorzystana kwota dopłaty z poprzedniego okresu rozliczeniowego (rozliczona w bieżącym okresie)\n[zł]","Faktycznie wypłacona kwota dopłaty w bieżącym okresie\n[zł]","Niewykorzystana kwota dopłaty w bieżącym okresie rozliczeniowym\n[zł]"]
[null,1,"2","3","4","5","6","7","8","9","10","11","12","13"]
[{"$f":"'Załącznik nr 1 do rozliczenia'!A276","v":"1"},{"$f":"IF('Załącznik nr 1 do rozliczenia'!B276:C276=\"\",\"\",'Załącznik nr 1 do rozliczenia'!B276:C276)","v":""},null,{"$f":"'Załącznik nr 2 do rozliczenia'!H271","v":0},{"$f":"IF('Załącznik nr 1 do rozliczenia'!H276<0,ABS('Załącznik nr 1 do rozliczenia'!H276),0)","v":0},null,{"$f":"IFERROR(E278/D278,0)","v":0},{"$f":"IFERROR(F278/D278,0)","v":0},{"$f":"IFERROR(ROUND(H278/G278,4),0)","v":0},{"$f":"'Weryfikacja 3'!W3","v":0},null,null,{"$f":"K278-L278","v":0},{"$f":"IF(M278-J278<0,0,M278-J278)","v":0}]
[{"$f":"'Załącznik nr 1 do rozliczenia'!A277","v":"2"},{"$f":"IF('Załącznik nr 1 do rozliczenia'!B277:C277=\"\",\"\",'Załącznik nr 1 do rozliczenia'!B277:C277)","v":""},null,{"$f":"'Załącznik nr 2 do rozliczenia'!H272","v":0},{"$f":"IF('Załącznik nr 1 do rozliczenia'!H277<0,ABS('Załącznik nr 1 do rozliczenia'!H277),0)","v":0},null,{"$f":"IFERROR(E279/D279,0)","v":0},{"$f":"IFERROR(F279/D279,0)","v":0},{"$f":"IFERROR(ROUND(H279/G279,4),0)","v":0},{"$f":"'Weryfikacja 3'!W4","v":0},null,null,{"$f":"K279-L279","v":0},0]
[{"$f":"'Załącznik nr 1 do rozliczenia'!A278","v":"3"},{"$f":"IF('Załącznik nr 1 do rozliczenia'!B278:C278=\"\",\"\",'Załącznik nr 1 do rozliczenia'!B278:C278)","v":""},null,{"$f":"'Załącznik nr 2 do rozliczenia'!H273","v":0},{"$f":"IF('Załącznik nr 1 do rozliczenia'!H278<0,ABS('Załącznik nr 1 do rozliczenia'!H278),0)","v":0},null,0,0,0,{"$f":"'Weryfikacja 3'!W5","v":0},null,null,0,0]
[{"$f":"'Załącznik nr 1 do rozliczenia'!A279","v":"4"},{"$f":"IF('Załącznik nr 1 do rozliczenia'!B279:C279=\"\",\"\",'Załącznik nr 1 do rozliczenia'!B279:C279)","v":""},null,{"$f":"'Załącznik nr 2 do rozliczenia'!H274","v":0},{"$f":"IF('Załącznik nr 1 do rozliczenia'!H279<0,ABS('Załącznik nr 1 do rozliczenia'!H279),0)","v":0},null,0,0,0,{"$f":"'Weryfikacja 3'!W6","v":0},null,null,0,0]
[{"$f":"'Załącznik nr 1 do rozliczenia'!A280","v":"5"},{"$f":"IF('Załącznik nr 1 do rozliczenia'!B280:C280=\"\",\"\",'Załącznik nr 1 do rozliczenia'!B280:C280)","v":""},null,{"$f":"'Załącznik nr 2 do rozliczenia'!H275","v":0},{"$f":"IF('Załącznik nr 1 do rozliczenia'!H280<0,ABS('Załącznik nr 1 do rozliczenia'!H280),0)","v":0},null,0,0,0,{"$f":"'Weryfikacja 3'!W7","v":0},null,null,0,0]
[{"$f":"'Załącznik nr 1 do rozliczenia'!A281","v":"6"},{"$f":"IF('Załącznik nr 1 do rozliczenia'!B281:C281=\"\",\"\",'Załącznik nr 1 do rozliczenia'!B281:C281)","v":""},null,{"$f":"'Załącznik nr 2 do rozliczenia'!H276","v":0},{"$f":"IF('Załącznik nr 1 do rozliczenia'!H281<0,ABS('Załącznik nr 1 do rozliczenia'!H281),0)","v":0},null,0,0,0,{"$f":"'Weryfikacja 3'!W8","v":0},null,null,0,0]
[{"$f":"'Załącznik nr 1 do rozliczenia'!A282","v":"7"},{"$f":"IF('Załącznik nr 1 do rozliczenia'!B282:C282=\"\",\"\",'Załącznik nr 1 do rozliczenia'!B282:C282)","v":""},null,{"$f":"'Załącznik nr 2 do rozliczenia'!H277","v":0},{"$f":"IF('Załącznik nr 1 do rozliczenia'!H282<0,ABS('Załącznik nr 1 do rozliczenia'!H282),0)","v":0},null,0,0,0,{"$f":"'Weryfikacja 3'!W9","v":0},null,null,0,0]
[{"$f":"'Załącznik nr 1 do rozliczenia'!A283","v":"8"},{"$f":"IF('Załącznik nr 1 do rozliczenia'!B283:C283=\"\",\"\",'Załącznik nr 1 do rozliczenia'!B283:C283)","v":""},null,{"$f":"'Załącznik nr 2 do rozliczenia'!H278","v":0},{"$f":"IF('Załącznik nr 1 do rozliczenia'!H283<0,ABS('Załącznik nr 1 do rozliczenia'!H283),0)","v":0},null,0,0,0,{"$f":"'Weryfikacja 3'!W10","v":0},null,null,0,0]
[{"$f":"'Załącznik nr 1 do rozliczenia'!A284","v":"9"},{"$f":"IF('Załącznik nr 1 do rozliczenia'!B284:C284=\"\",\"\",'Załącznik nr 1 do rozliczenia'!B284:C284)","v":""},null,{"$f":"'Załącznik nr 2 do rozliczenia'!H279","v":0},{"$f":"IF('Załącznik nr 1 do rozliczenia'!H284<0,ABS('Załącznik nr 1 do rozliczenia'!H284),0)","v":0},null,0,0,0,{"$f":"'Weryfikacja 3'!W11","v":0},null,null,0,0]
[{"$f":"'Załącznik nr 1 do rozliczenia'!A285","v":"10"},{"$f":"IF('Załącznik nr 1 do rozliczenia'!B285:C285=\"\",\"\",'Załącznik nr 1 do rozliczenia'!B285:C285)","v":""},null,{"$f":"'Załącznik nr 2 do rozliczenia'!H280","v":0},{"$f":"IF('Załącznik nr 1 do rozliczenia'!H285<0,ABS('Załącznik nr 1 do rozliczenia'!H285),0)","v":0},null,0,0,0,{"$f":"'Weryfikacja 3'!W12","v":0},null,null,0,0]
[{"$f":"'Załącznik nr 1 do rozliczenia'!A286","v":"11"},{"$f":"IF('Załącznik nr 1 do rozliczenia'!B286:C286=\"\",\"\",'Załącznik nr 1 do rozliczenia'!B286:C286)","v":""},null,{"$f":"'Załącznik nr 2 do rozliczenia'!H281","v":0},{"$f":"IF('Załącznik nr 1 do rozliczenia'!H286<0,ABS('Załącznik nr 1 do rozliczenia'!H286),0)","v":0},null,0,0,0,{"$f":"'Weryfikacja 3'!W13","v":0},null,null,0,0]
[{"$f":"'Załącznik nr 1 do rozliczenia'!A287","v":"12"},{"$f":"IF('Załącznik nr 1 do rozliczenia'!B287:C287=\"\",\"\",'Załącznik nr 1 do rozliczenia'!B287:C287)","v":""},null,{"$f":"'Załącznik nr 2 do rozliczenia'!H282","v":0},{"$f":"IF('Załącznik nr 1 do rozliczenia'!H287<0,ABS('Załącznik nr 1 do rozliczenia'!H287),0)","v":0},null,0,0,0,{"$f":"'Weryfikacja 3'!W14","v":0},null,null,0,0]
[{"$f":"'Załącznik nr 1 do rozliczenia'!A288","v":"13"},{"$f":"IF('Załącznik nr 1 do rozliczenia'!B288:C288=\"\",\"\",'Załącznik nr 1 do rozliczenia'!B288:C288)","v":""},null,{"$f":"'Załącznik nr 2 do rozliczenia'!H283","v":0},{"$f":"IF('Załącznik nr 1 do rozliczenia'!H288<0,ABS('Załącznik nr 1 do rozliczenia'!H288),0)","v":0},null,0,0,0,{"$f":"'Weryfikacja 3'!W15","v":0},null,null,0,0]
[{"$f":"'Załącznik nr 1 do rozliczenia'!A289","v":"14"},{"$f":"IF('Załącznik nr 1 do rozliczenia'!B289:C289=\"\",\"\",'Załącznik nr 1 do rozliczenia'!B289:C289)","v":""},null,{"$f":"'Załącznik nr 2 do rozliczenia'!H284","v":0},{"$f":"IF('Załącznik nr 1 do rozliczenia'!H289<0,ABS('Załącznik nr 1 do rozliczenia'!H289),0)","v":0},null,0,0,0,{"$f":"'Weryfikacja 3'!W16","v":0},null,null,0,0]
[{"$f":"'Załącznik nr 1 do rozliczenia'!A290","v":"15"},{"$f":"IF('Załącznik nr 1 do rozliczenia'!B290:C290=\"\",\"\",'Załącznik nr 1 do rozliczenia'!B290:C290)","v":""},null,{"$f":"'Załącznik nr 2 do rozliczenia'!H285","v":0},{"$f":"IF('Załącznik nr 1 do rozliczenia'!H290<0,ABS('Załącznik nr 1 do rozliczenia'!H290),0)","v":0},null,0,0,0,{"$f":"'Weryfikacja 3'!W17","v":0},null,null,0,0]
[{"$f":"'Załącznik nr 1 do rozliczenia'!A291","v":"16"},{"$f":"IF('Załącznik nr 1 do rozliczenia'!B291:C291=\"\",\"\",'Załącznik nr 1 do rozliczenia'!B291:C291)","v":""},null,{"$f":"'Załącznik nr 2 do rozliczenia'!H286","v":0},{"$f":"IF('Załącznik nr 1 do rozliczenia'!H291<0,ABS('Załącznik nr 1 do rozliczenia'!H291),0)","v":0},null,0,0,0,{"$f":"'Weryfikacja 3'!W18","v":0},null,null,0,0]
[{"$f":"'Załącznik nr 1 do rozliczenia'!A292","v":"17"},{"$f":"IF('Załącznik nr 1 do rozliczenia'!B292:C292=\"\",\"\",'Załącznik nr 1 do rozliczenia'!B292:C292)","v":""},null,{"$f":"'Załącznik nr 2 do rozliczenia'!H287","v":0},{"$f":"IF('Załącznik nr 1 do rozliczenia'!H292<0,ABS('Załącznik nr 1 do rozliczenia'!H292),0)","v":0},null,0,0,0,{"$f":"'Weryfikacja 3'!W19","v":0},null,null,0,0]
[{"$f":"'Załącznik nr 1 do rozliczenia'!A293","v":"18"},{"$f":"IF('Załącznik nr 1 do rozliczenia'!B293:C293=\"\",\"\",'Załącznik nr 1 do rozliczenia'!B293:C293)","v":""},null,{"$f":"'Załącznik nr 2 do rozliczenia'!H288","v":0},{"$f":"IF('Załącznik nr 1 do rozliczenia'!H293<0,ABS('Załącznik nr 1 do rozliczenia'!H293),0)","v":0},null,0,0,0,{"$f":"'Weryfikacja 3'!W20","v":0},null,null,0,0]
[{"$f":"'Załącznik nr 1 do rozliczenia'!A294","v":"19"},{"$f":"IF('Załącznik nr 1 do rozliczenia'!B294:C294=\"\",\"\",'Załącznik nr 1 do rozliczenia'!B294:C294)","v":""},null,{"$f":"'Załącznik nr 2 do rozliczenia'!H289","v":0},{"$f":"IF('Załącznik nr 1 do rozliczenia'!H294<0,ABS('Załącznik nr 1 do rozliczenia'!H294),0)","v":0},null,0,0,0,{"$f":"'Weryfikacja 3'!W21","v":0},null,null,0,0]
[{"$f":"'Załącznik nr 1 do rozliczenia'!A295","v":"20"},{"$f":"IF('Załącznik nr 1 do rozliczenia'!B295:C295=\"\",\"\",'Załącznik nr 1 do rozliczenia'!B295:C295)","v":""},null,{"$f":"'Załącznik nr 2 do rozliczenia'!H290","v":0},{"$f":"IF('Załącznik nr 1 do rozliczenia'!H295<0,ABS('Załącznik nr 1 do rozliczenia'!H295),0)","v":0},null,0,0,0,{"$f":"'Weryfikacja 3'!W22","v":0},null,null,0,0]
[{"$f":"'Załącznik nr 1 do rozliczenia'!A296","v":"21"},{"$f":"IF('Załącznik nr 1 do rozliczenia'!B296:C296=\"\",\"\",'Załącznik nr 1 do rozliczenia'!B296:C296)","v":""},null,{"$f":"'Załącznik nr 2 do rozliczenia'!H291","v":0},{"$f":"IF('Załącznik nr 1 do rozliczenia'!H296<0,ABS('Załącznik nr 1 do rozliczenia'!H296),0)","v":0},null,0,0,0,{"$f":"'Weryfikacja 3'!W23","v":0},null,null,0,0]
[{"$f":"'Załącznik nr 1 do rozliczenia'!A297","v":"22"},{"$f":"IF('Załącznik nr 1 do rozliczenia'!B297:C297=\"\",\"\",'Załącznik nr 1 do rozliczenia'!B297:C297)","v":""},null,{"$f":"'Załącznik nr 2 do rozliczenia'!H292","v":0},{"$f":"IF('Załącznik nr 1 do rozliczenia'!H297<0,ABS('Załącznik nr 1 do rozliczenia'!H297),0)","v":0},null,0,0,0,{"$f":"'Weryfikacja 3'!W24","v":0},null,null,0,0]
[{"$f":"'Załącznik nr 1 do rozliczenia'!A298","v":"23"},{"$f":"IF('Załącznik nr 1 do rozliczenia'!B298:C298=\"\",\"\",'Załącznik nr 1 do rozliczenia'!B298:C298)","v":""},null,{"$f":"'Załącznik nr 2 do rozliczenia'!H293","v":0},{"$f":"IF('Załącznik nr 1 do rozliczenia'!H298<0,ABS('Załącznik nr 1 do rozliczenia'!H298),0)","v":0},null,0,0,0,{"$f":"'Weryfikacja 3'!W25","v":0},null,null,0,0]
[{"$f":"'Załącznik nr 1 do rozliczenia'!A299","v":"24"},{"$f":"IF('Załącznik nr 1 do rozliczenia'!B299:C299=\"\",\"\",'Załącznik nr 1 do rozliczenia'!B299:C299)","v":""},null,{"$f":"'Załącznik nr 2 do rozliczenia'!H294","v":0},{"$f":"IF('Załącznik nr 1 do rozliczenia'!H299<0,ABS('Załącznik nr 1 do rozliczenia'!H299),0)","v":0},null,0,0,0,{"$f":"'Weryfikacja 3'!W26","v":0},null,null,0,0]
[{"$f":"'Załącznik nr 1 do rozliczenia'!A300","v":"25"},{"$f":"IF('Załącznik nr 1 do rozliczenia'!B300:C300=\"\",\"\",'Załącznik nr 1 do rozliczenia'!B300:C300)","v":""},null,{"$f":"'Załącznik nr 2 do rozliczenia'!H295","v":0},{"$f":"IF('Załącznik nr 1 do rozliczenia'!H300<0,ABS('Załącznik nr 1 do rozliczenia'!H300),0)","v":0},null,0,0,0,{"$f":"'Weryfikacja 3'!W27","v":0},null,null,0,0]
[{"$f":"'Załącznik nr 1 do rozliczenia'!A301","v":"26"},{"$f":"IF('Załącznik nr 1 do rozliczenia'!B301:C301=\"\",\"\",'Załącznik nr 1 do rozliczenia'!B301:C301)","v":""},null,{"$f":"'Załącznik nr 2 do rozliczenia'!H296","v":0},{"$f":"IF('Załącznik nr 1 do rozliczenia'!H301<0,ABS('Załącznik nr 1 do rozliczenia'!H301),0)","v":0},null,0,0,0,{"$f":"'Weryfikacja 3'!W28","v":0},null,null,0,0]
[{"$f":"'Załącznik nr 1 do rozliczenia'!A302","v":"27"},{"$f":"IF('Załącznik nr 1 do rozliczenia'!B302:C302=\"\",\"\",'Załącznik nr 1 do rozliczenia'!B302:C302)","v":""},null,{"$f":"'Załącznik nr 2 do rozliczenia'!H297","v":0},{"$f":"IF('Załącznik nr 1 do rozliczenia'!H302<0,ABS('Załącznik nr 1 do rozliczenia'!H302),0)","v":0},null,0,0,0,{"$f":"'Weryfikacja 3'!W29","v":0},null,null,0,0]
[{"$f":"'Załącznik nr 1 do rozliczenia'!A303","v":"28"},{"$f":"IF('Załącznik nr 1 do rozliczenia'!B303:C303=\"\",\"\",'Załącznik nr 1 do rozliczenia'!B303:C303)","v":""},null,{"$f":"'Załącznik nr 2 do rozliczenia'!H298","v":0},{"$f":"IF('Załącznik nr 1 do rozliczenia'!H303<0,ABS('Załącznik nr 1 do rozliczenia'!H303),0)","v":0},null,0,0,0,{"$f":"'Weryfikacja 3'!W30","v":0},null,null,0,0]
[{"$f":"'Załącznik nr 1 do rozliczenia'!A304","v":"29"},{"$f":"IF('Załącznik nr 1 do rozliczenia'!B304:C304=\"\",\"\",'Załącznik nr 1 do rozliczenia'!B304:C304)","v":""},null,{"$f":"'Załącznik nr 2 do rozliczenia'!H299","v":0},{"$f":"IF('Załącznik nr 1 do rozliczenia'!H304<0,ABS('Załącznik nr 1 do rozliczenia'!H304),0)","v":0},null,0,0,0,{"$f":"'Weryfikacja 3'!W31","v":0},null,null,0,0]
[{"$f":"'Załącznik nr 1 do rozliczenia'!A305","v":"30"},{"$f":"IF('Załącznik nr 1 do rozliczenia'!B305:C305=\"\",\"\",'Załącznik nr 1 do rozliczenia'!B305:C305)","v":""},null,{"$f":"'Załącznik nr 2 do rozliczenia'!H300","v":0},{"$f":"IF('Załącznik nr 1 do rozliczenia'!H305<0,ABS('Załącznik nr 1 do rozliczenia'!H305),0)","v":0},null,0,0,0,{"$f":"'Weryfikacja 3'!W32","v":0},null,null,0,0]
[{"$f":"'Załącznik nr 1 do rozliczenia'!A306","v":"31"},{"$f":"IF('Załącznik nr 1 do rozliczenia'!B306:C306=\"\",\"\",'Załącznik nr 1 do rozliczenia'!B306:C306)","v":""},null,{"$f":"'Załącznik nr 2 do rozliczenia'!H301","v":0},{"$f":"IF('Załącznik nr 1 do rozliczenia'!H306<0,ABS('Załącznik nr 1 do rozliczenia'!H306),0)","v":0},null,0,0,0,{"$f":"'Weryfikacja 3'!W33","v":0},null,null,0,0]
[{"$f":"'Załącznik nr 1 do rozliczenia'!A307","v":"32"},{"$f":"IF('Załącznik nr 1 do rozliczenia'!B307:C307=\"\",\"\",'Załącznik nr 1 do rozliczenia'!B307:C307)","v":""},null,{"$f":"'Załącznik nr 2 do rozliczenia'!H302","v":0},{"$f":"IF('Załącznik nr 1 do rozliczenia'!H307<0,ABS('Załącznik nr 1 do rozliczenia'!H307),0)","v":0},null,0,0,0,{"$f":"'Weryfikacja 3'!W34","v":0},null,null,0,0]
[{"$f":"'Załącznik nr 1 do rozliczenia'!A308","v":"33"},{"$f":"IF('Załącznik nr 1 do rozliczenia'!B308:C308=\"\",\"\",'Załącznik nr 1 do rozliczenia'!B308:C308)","v":""},null,{"$f":"'Załącznik nr 2 do rozliczenia'!H303","v":0},{"$f":"IF('Załącznik nr 1 do rozliczenia'!H308<0,ABS('Załącznik nr 1 do rozliczenia'!H308),0)","v":0},null,0,0,0,{"$f":"'Weryfikacja 3'!W35","v":0},null,null,0,0]
[{"$f":"'Załącznik nr 1 do rozliczenia'!A309","v":"34"},{"$f":"IF('Załącznik nr 1 do rozliczenia'!B309:C309=\"\",\"\",'Załącznik nr 1 do rozliczenia'!B309:C309)","v":""},null,{"$f":"'Załącznik nr 2 do rozliczenia'!H304","v":0},{"$f":"IF('Załącznik nr 1 do rozliczenia'!H309<0,ABS('Załącznik nr 1 do rozliczenia'!H309),0)","v":0},null,0,0,0,{"$f":"'Weryfikacja 3'!W36","v":0},null,null,0,0]
[{"$f":"'Załącznik nr 1 do rozliczenia'!A310","v":"35"},{"$f":"IF('Załącznik nr 1 do rozliczenia'!B310:C310=\"\",\"\",'Załącznik nr 1 do rozliczenia'!B310:C310)","v":""},null,{"$f":"'Załącznik nr 2 do rozliczenia'!H305","v":0},{"$f":"IF('Załącznik nr 1 do rozliczenia'!H310<0,ABS('Załącznik nr 1 do rozliczenia'!H310),0)","v":0},null,0,0,0,{"$f":"'Weryfikacja 3'!W37","v":0},null,null,0,0]
[{"$f":"'Załącznik nr 1 do rozliczenia'!A311","v":"36"},{"$f":"IF('Załącznik nr 1 do rozliczenia'!B311:C311=\"\",\"\",'Załącznik nr 1 do rozliczenia'!B311:C311)","v":""},null,{"$f":"'Załącznik nr 2 do rozliczenia'!H306","v":0},{"$f":"IF('Załącznik nr 1 do rozliczenia'!H311<0,ABS('Załącznik nr 1 do rozliczenia'!H311),0)","v":0},null,0,0,0,{"$f":"'Weryfikacja 3'!W38","v":0},null,null,0,0]
[{"$f":"'Załącznik nr 1 do rozliczenia'!A312","v":"37"},{"$f":"IF('Załącznik nr 1 do rozliczenia'!B312:C312=\"\",\"\",'Załącznik nr 1 do rozliczenia'!B312:C312)","v":""},null,{"$f":"'Załącznik nr 2 do rozliczenia'!H307","v":0},{"$f":"IF('Załącznik nr 1 do rozliczenia'!H312<0,ABS('Załącznik nr 1 do rozliczenia'!H312),0)","v":0},null,0,0,0,{"$f":"'Weryfikacja 3'!W39","v":0},null,null,0,0]
[{"$f":"'Załącznik nr 1 do rozliczenia'!A313","v":"38"},{"$f":"IF('Załącznik nr 1 do rozliczenia'!B313:C313=\"\",\"\",'Załącznik nr 1 do rozliczenia'!B313:C313)","v":""},null,{"$f":"'Załącznik nr 2 do rozliczenia'!H308","v":0},{"$f":"IF('Załącznik nr 1 do rozliczenia'!H313<0,ABS('Załącznik nr 1 do rozliczenia'!H313),0)","v":0},null,0,0,0,{"$f":"'Weryfikacja 3'!W40","v":0},null,null,0,0]
[{"$f":"'Załącznik nr 1 do rozliczenia'!A314","v":"39"},{"$f":"IF('Załącznik nr 1 do rozliczenia'!B314:C314=\"\",\"\",'Załącznik nr 1 do rozliczenia'!B314:C314)","v":""},null,{"$f":"'Załącznik nr 2 do rozliczenia'!H309","v":0},{"$f":"IF('Załącznik nr 1 do rozliczenia'!H314<0,ABS('Załącznik nr 1 do rozliczenia'!H314),0)","v":0},null,0,0,0,{"$f":"'Weryfikacja 3'!W41","v":0},null,null,0,0]
[{"$f":"'Załącznik nr 1 do rozliczenia'!A315","v":"40"},{"$f":"IF('Załącznik nr 1 do rozliczenia'!B315:C315=\"\",\"\",'Załącznik nr 1 do rozliczenia'!B315:C315)","v":""},null,{"$f":"'Załącznik nr 2 do rozliczenia'!H310","v":0},{"$f":"IF('Załącznik nr 1 do rozliczenia'!H315<0,ABS('Załącznik nr 1 do rozliczenia'!H315),0)","v":0},null,0,0,0,{"$f":"'Weryfikacja 3'!W42","v":0},null,null,0,0]
[{"$f":"'Załącznik nr 1 do rozliczenia'!A316","v":"41"},{"$f":"IF('Załącznik nr 1 do rozliczenia'!B316:C316=\"\",\"\",'Załącznik nr 1 do rozliczenia'!B316:C316)","v":""},null,{"$f":"'Załącznik nr 2 do rozliczenia'!H311","v":0},{"$f":"IF('Załącznik nr 1 do rozliczenia'!H316<0,ABS('Załącznik nr 1 do rozliczenia'!H316),0)","v":0},null,0,0,0,{"$f":"'Weryfikacja 3'!W43","v":0},null,null,0,0]
[{"$f":"'Załącznik nr 1 do rozliczenia'!A317","v":"42"},{"$f":"IF('Załącznik nr 1 do rozliczenia'!B317:C317=\"\",\"\",'Załącznik nr 1 do rozliczenia'!B317:C317)","v":""},null,{"$f":"'Załącznik nr 2 do rozliczenia'!H312","v":0},{"$f":"IF('Załącznik nr 1 do rozliczenia'!H317<0,ABS('Załącznik nr 1 do rozliczenia'!H317),0)","v":0},null,0,0,0,{"$f":"'Weryfikacja 3'!W44","v":0},null,null,0,0]
[{"$f":"'Załącznik nr 1 do rozliczenia'!A318","v":"43"},{"$f":"IF('Załącznik nr 1 do rozliczenia'!B318:C318=\"\",\"\",'Załącznik nr 1 do rozliczenia'!B318:C318)","v":""},null,{"$f":"'Załącznik nr 2 do rozliczenia'!H313","v":0},{"$f":"IF('Załącznik nr 1 do rozliczenia'!H318<0,ABS('Załącznik nr 1 do rozliczenia'!H318),0)","v":0},null,0,0,0,{"$f":"'Weryfikacja 3'!W45","v":0},null,null,0,0]
[{"$f":"'Załącznik nr 1 do rozliczenia'!A319","v":"44"},{"$f":"IF('Załącznik nr 1 do rozliczenia'!B319:C319=\"\",\"\",'Załącznik nr 1 do rozliczenia'!B319:C319)","v":""},null,{"$f":"'Załącznik nr 2 do rozliczenia'!H314","v":0},{"$f":"IF('Załącznik nr 1 do rozliczenia'!H319<0,ABS('Załącznik nr 1 do rozliczenia'!H319),0)","v":0},null,0,0,0,{"$f":"'Weryfikacja 3'!W46","v":0},null,null,0,0]
[{"$f":"'Załącznik nr 1 do rozliczenia'!A320","v":"45"},{"$f":"IF('Załącznik nr 1 do rozliczenia'!B320:C320=\"\",\"\",'Załącznik nr 1 do rozliczenia'!B320:C320)","v":""},null,{"$f":"'Załącznik nr 2 do rozliczenia'!H315","v":0},{"$f":"IF('Załącznik nr 1 do rozliczenia'!H320<0,ABS('Załącznik nr 1 do rozliczenia'!H320),0)","v":0},null,0,0,0,{"$f":"'Weryfikacja 3'!W47","v":0},null,null,0,0]
[{"$f":"'Załącznik nr 1 do rozliczenia'!A321","v":"46"},{"$f":"IF('Załącznik nr 1 do rozliczenia'!B321:C321=\"\",\"\",'Załącznik nr 1 do rozliczenia'!B321:C321)","v":""},null,{"$f":"'Załącznik nr 2 do rozliczenia'!H316","v":0},{"$f":"IF('Załącznik nr 1 do rozliczenia'!H321<0,ABS('Załącznik nr 1 do rozliczenia'!H321),0)","v":0},null,0,0,0,{"$f":"'Weryfikacja 3'!W48","v":0},null,null,0,0]
[{"$f":"'Załącznik nr 1 do rozliczenia'!A322","v":"47"},{"$f":"IF('Załącznik nr 1 do rozliczenia'!B322:C322=\"\",\"\",'Załącznik nr 1 do rozliczenia'!B322:C322)","v":""},null,{"$f":"'Załącznik nr 2 do rozliczenia'!H317","v":0},{"$f":"IF('Załącznik nr 1 do rozliczenia'!H322<0,ABS('Załącznik nr 1 do rozliczenia'!H322),0)","v":0},null,0,0,0,{"$f":"'Weryfikacja 3'!W49","v":0},null,null,0,0]
[{"$f":"'Załącznik nr 1 do rozliczenia'!A323","v":"48"},{"$f":"IF('Załącznik nr 1 do rozliczenia'!B323:C323=\"\",\"\",'Załącznik nr 1 do rozliczenia'!B323:C323)","v":""},null,{"$f":"'Załącznik nr 2 do rozliczenia'!H318","v":0},{"$f":"IF('Załącznik nr 1 do rozliczenia'!H323<0,ABS('Załącznik nr 1 do rozliczenia'!H323),0)","v":0},null,0,0,0,{"$f":"'Weryfikacja 3'!W50","v":0},null,null,0,0]
[{"$f":"'Załącznik nr 1 do rozliczenia'!A324","v":"49"},{"$f":"IF('Załącznik nr 1 do rozliczenia'!B324:C324=\"\",\"\",'Załącznik nr 1 do rozliczenia'!B324:C324)","v":""},null,{"$f":"'Załącznik nr 2 do rozliczenia'!H319","v":0},{"$f":"IF('Załącznik nr 1 do rozliczenia'!H324<0,ABS('Załącznik nr 1 do rozliczenia'!H324),0)","v":0},null,0,0,0,{"$f":"'Weryfikacja 3'!W51","v":0},null,null,0,0]
[{"$f":"'Załącznik nr 1 do rozliczenia'!A325","v":"50"},{"$f":"IF('Załącznik nr 1 do rozliczenia'!B325:C325=\"\",\"\",'Załącznik nr 1 do rozliczenia'!B325:C325)","v":""},null,{"$f":"'Załącznik nr 2 do rozliczenia'!H320","v":0},{"$f":"IF('Załącznik nr 1 do rozliczenia'!H325<0,ABS('Załącznik nr 1 do rozliczenia'!H325),0)","v":0},null,0,0,0,{"$f":"'Weryfikacja 3'!W52","v":0},null,null,0,0]
[{"$f":"'Załącznik nr 1 do rozliczenia'!A326","v":"51"},{"$f":"IF('Załącznik nr 1 do rozliczenia'!B326:C326=\"\",\"\",'Załącznik nr 1 do rozliczenia'!B326:C326)","v":""},null,{"$f":"'Załącznik nr 2 do rozliczenia'!H321","v":0},{"$f":"IF('Załącznik nr 1 do rozliczenia'!H326<0,ABS('Załącznik nr 1 do rozliczenia'!H326),0)","v":0},null,0,0,0,{"$f":"'Weryfikacja 3'!W53","v":0},null,null,0,0]
[{"$f":"'Załącznik nr 1 do rozliczenia'!A327","v":"52"},{"$f":"IF('Załącznik nr 1 do rozliczenia'!B327:C327=\"\",\"\",'Załącznik nr 1 do rozliczenia'!B327:C327)","v":""},null,{"$f":"'Załącznik nr 2 do rozliczenia'!H322","v":0},{"$f":"IF('Załącznik nr 1 do rozliczenia'!H327<0,ABS('Załącznik nr 1 do rozliczenia'!H327),0)","v":0},null,0,0,0,{"$f":"'Weryfikacja 3'!W54","v":0},null,null,0,0]
[{"$f":"'Załącznik nr 1 do rozliczenia'!A328","v":"53"},{"$f":"IF('Załącznik nr 1 do rozliczenia'!B328:C328=\"\",\"\",'Załącznik nr 1 do rozliczenia'!B328:C328)","v":""},null,{"$f":"'Załącznik nr 2 do rozliczenia'!H323","v":0},{"$f":"IF('Załącznik nr 1 do rozliczenia'!H328<0,ABS('Załącznik nr 1 do rozliczenia'!H328),0)","v":0},null,0,0,0,{"$f":"'Weryfikacja 3'!W55","v":0},null,null,0,0]
[{"$f":"'Załącznik nr 1 do rozliczenia'!A329","v":"54"},{"$f":"IF('Załącznik nr 1 do rozliczenia'!B329:C329=\"\",\"\",'Załącznik nr 1 do rozliczenia'!B329:C329)","v":""},null,{"$f":"'Załącznik nr 2 do rozliczenia'!H324","v":0},{"$f":"IF('Załącznik nr 1 do rozliczenia'!H329<0,ABS('Załącznik nr 1 do rozliczenia'!H329),0)","v":0},null,0,0,0,{"$f":"'Weryfikacja 3'!W56","v":0},null,null,0,0]
[{"$f":"'Załącznik nr 1 do rozliczenia'!A330","v":"55"},{"$f":"IF('Załącznik nr 1 do rozliczenia'!B330:C330=\"\",\"\",'Załącznik nr 1 do rozliczenia'!B330:C330)","v":""},null,{"$f":"'Załącznik nr 2 do rozliczenia'!H325","v":0},{"$f":"IF('Załącznik nr 1 do rozliczenia'!H330<0,ABS('Załącznik nr 1 do rozliczenia'!H330),0)","v":0},null,0,0,0,{"$f":"'Weryfikacja 3'!W57","v":0},null,null,0,0]
[{"$f":"'Załącznik nr 1 do rozliczenia'!A331","v":"56"},{"$f":"IF('Załącznik nr 1 do rozliczenia'!B331:C331=\"\",\"\",'Załącznik nr 1 do rozliczenia'!B331:C331)","v":""},null,{"$f":"'Załącznik nr 2 do rozliczenia'!H326","v":0},{"$f":"IF('Załącznik nr 1 do rozliczenia'!H331<0,ABS('Załącznik nr 1 do rozliczenia'!H331),0)","v":0},null,0,0,0,{"$f":"'Weryfikacja 3'!W58","v":0},null,null,0,0]
[{"$f":"'Załącznik nr 1 do rozliczenia'!A332","v":"57"},{"$f":"IF('Załącznik nr 1 do rozliczenia'!B332:C332=\"\",\"\",'Załącznik nr 1 do rozliczenia'!B332:C332)","v":""},null,{"$f":"'Załącznik nr 2 do rozliczenia'!H327","v":0},{"$f":"IF('Załącznik nr 1 do rozliczenia'!H332<0,ABS('Załącznik nr 1 do rozliczenia'!H332),0)","v":0},null,0,0,0,{"$f":"'Weryfikacja 3'!W59","v":0},null,null,0,0]
[{"$f":"'Załącznik nr 1 do rozliczenia'!A333","v":"58"},{"$f":"IF('Załącznik nr 1 do rozliczenia'!B333:C333=\"\",\"\",'Załącznik nr 1 do rozliczenia'!B333:C333)","v":""},null,{"$f":"'Załącznik nr 2 do rozliczenia'!H328","v":0},{"$f":"IF('Załącznik nr 1 do rozliczenia'!H333<0,ABS('Załącznik nr 1 do rozliczenia'!H333),0)","v":0},null,0,0,0,{"$f":"'Weryfikacja 3'!W60","v":0},null,null,0,0]
[{"$f":"'Załącznik nr 1 do rozliczenia'!A334","v":"59"},{"$f":"IF('Załącznik nr 1 do rozliczenia'!B334:C334=\"\",\"\",'Załącznik nr 1 do rozliczenia'!B334:C334)","v":""},null,{"$f":"'Załącznik nr 2 do rozliczenia'!H329","v":0},{"$f":"IF('Załącznik nr 1 do rozliczenia'!H334<0,ABS('Załącznik nr 1 do rozliczenia'!H334),0)","v":0},null,0,0,0,{"$f":"'Weryfikacja 3'!W61","v":0},null,null,0,0]
[{"$f":"'Załącznik nr 1 do rozliczenia'!A335","v":"60"},{"$f":"IF('Załącznik nr 1 do rozliczenia'!B335:C335=\"\",\"\",'Załącznik nr 1 do rozliczenia'!B335:C335)","v":""},null,{"$f":"'Załącznik nr 2 do rozliczenia'!H330","v":0},{"$f":"IF('Załącznik nr 1 do rozliczenia'!H335<0,ABS('Załącznik nr 1 do rozliczenia'!H335),0)","v":0},null,0,0,0,{"$f":"'Weryfikacja 3'!W62","v":0},null,null,0,0]
[{"$f":"'Załącznik nr 1 do rozliczenia'!A336","v":"61"},{"$f":"IF('Załącznik nr 1 do rozliczenia'!B336:C336=\"\",\"\",'Załącznik nr 1 do rozliczenia'!B336:C336)","v":""},null,{"$f":"'Załącznik nr 2 do rozliczenia'!H331","v":0},{"$f":"IF('Załącznik nr 1 do rozliczenia'!H336<0,ABS('Załącznik nr 1 do rozliczenia'!H336),0)","v":0},null,0,0,0,{"$f":"'Weryfikacja 3'!W63","v":0},null,null,0,0]
[{"$f":"'Załącznik nr 1 do rozliczenia'!A337","v":"62"},{"$f":"IF('Załącznik nr 1 do rozliczenia'!B337:C337=\"\",\"\",'Załącznik nr 1 do rozliczenia'!B337:C337)","v":""},null,{"$f":"'Załącznik nr 2 do rozliczenia'!H332","v":0},{"$f":"IF('Załącznik nr 1 do rozliczenia'!H337<0,ABS('Załącznik nr 1 do rozliczenia'!H337),0)","v":0},null,0,0,0,{"$f":"'Weryfikacja 3'!W64","v":0},null,null,0,0]
[{"$f":"'Załącznik nr 1 do rozliczenia'!A338","v":"63"},{"$f":"IF('Załącznik nr 1 do rozliczenia'!B338:C338=\"\",\"\",'Załącznik nr 1 do rozliczenia'!B338:C338)","v":""},null,{"$f":"'Załącznik nr 2 do rozliczenia'!H333","v":0},{"$f":"IF('Załącznik nr 1 do rozliczenia'!H338<0,ABS('Załącznik nr 1 do rozliczenia'!H338),0)","v":0},null,0,0,0,{"$f":"'Weryfikacja 3'!W65","v":0},null,null,0,0]
[{"$f":"'Załącznik nr 1 do rozliczenia'!A339","v":"64"},{"$f":"IF('Załącznik nr 1 do rozliczenia'!B339:C339=\"\",\"\",'Załącznik nr 1 do rozliczenia'!B339:C339)","v":""},null,{"$f":"'Załącznik nr 2 do rozliczenia'!H334","v":0},{"$f":"IF('Załącznik nr 1 do rozliczenia'!H339<0,ABS('Załącznik nr 1 do rozliczenia'!H339),0)","v":0},null,0,0,0,{"$f":"'Weryfikacja 3'!W66","v":0},null,null,0,0]
[{"$f":"'Załącznik nr 1 do rozliczenia'!A340","v":"65"},{"$f":"IF('Załącznik nr 1 do rozliczenia'!B340:C340=\"\",\"\",'Załącznik nr 1 do rozliczenia'!B340:C340)","v":""},null,{"$f":"'Załącznik nr 2 do rozliczenia'!H335","v":0},{"$f":"IF('Załącznik nr 1 do rozliczenia'!H340<0,ABS('Załącznik nr 1 do rozliczenia'!H340),0)","v":0},null,0,0,0,{"$f":"'Weryfikacja 3'!W67","v":0},null,null,0,{"$f":"IF(M342-J342<0,0,M342-J342)","v":0}]
[{"$f":"'Załącznik nr 1 do rozliczenia'!A341","v":"66"},{"$f":"IF('Załącznik nr 1 do rozliczenia'!B341:C341=\"\",\"\",'Załącznik nr 1 do rozliczenia'!B341:C341)","v":""},null,{"$f":"'Załącznik nr 2 do rozliczenia'!H336","v":0},{"$f":"IF('Załącznik nr 1 do rozliczenia'!H341<0,ABS('Załącznik nr 1 do rozliczenia'!H341),0)","v":0},null,{"$f":"IFERROR(E343/D343,0)","v":0},{"$f":"IFERROR(F343/D343,0)","v":0},{"$f":"IFERROR(ROUND(H343/G343,4),0)","v":0},{"$f":"'Weryfikacja 3'!W68","v":0},null,null,{"$f":"K343-L343","v":0},0]
[{"$f":"'Załącznik nr 1 do rozliczenia'!A342","v":"67"},{"$f":"IF('Załącznik nr 1 do rozliczenia'!B342:C342=\"\",\"\",'Załącznik nr 1 do rozliczenia'!B342:C342)","v":""},null,{"$f":"'Załącznik nr 2 do rozliczenia'!H337","v":0},{"$f":"IF('Załącznik nr 1 do rozliczenia'!H342<0,ABS('Załącznik nr 1 do rozliczenia'!H342),0)","v":0},null,0,0,0,{"$f":"'Weryfikacja 3'!W69","v":0},null,null,0,0]
[{"$f":"'Załącznik nr 1 do rozliczenia'!A343","v":"68"},{"$f":"IF('Załącznik nr 1 do rozliczenia'!B343:C343=\"\",\"\",'Załącznik nr 1 do rozliczenia'!B343:C343)","v":""},null,{"$f":"'Załącznik nr 2 do rozliczenia'!H338","v":0},{"$f":"IF('Załącznik nr 1 do rozliczenia'!H343<0,ABS('Załącznik nr 1 do rozliczenia'!H343),0)","v":0},null,0,0,0,{"$f":"'Weryfikacja 3'!W70","v":0},null,null,0,0]
[{"$f":"'Załącznik nr 1 do rozliczenia'!A344","v":"69"},{"$f":"IF('Załącznik nr 1 do rozliczenia'!B344:C344=\"\",\"\",'Załącznik nr 1 do rozliczenia'!B344:C344)","v":""},null,{"$f":"'Załącznik nr 2 do rozliczenia'!H339","v":0},{"$f":"IF('Załącznik nr 1 do rozliczenia'!H344<0,ABS('Załącznik nr 1 do rozliczenia'!H344),0)","v":0},null,0,0,0,{"$f":"'Weryfikacja 3'!W71","v":0},null,null,0,0]
[{"$f":"'Załącznik nr 1 do rozliczenia'!A345","v":"70"},{"$f":"IF('Załącznik nr 1 do rozliczenia'!B345:C345=\"\",\"\",'Załącznik nr 1 do rozliczenia'!B345:C345)","v":""},null,{"$f":"'Załącznik nr 2 do rozliczenia'!H340","v":0},{"$f":"IF('Załącznik nr 1 do rozliczenia'!H345<0,ABS('Załącznik nr 1 do rozliczenia'!H345),0)","v":0},null,0,0,0,{"$f":"'Weryfikacja 3'!W72","v":0},null,null,0,0]
[{"$f":"'Załącznik nr 1 do rozliczenia'!A346","v":"71"},{"$f":"IF('Załącznik nr 1 do rozliczenia'!B346:C346=\"\",\"\",'Załącznik nr 1 do rozliczenia'!B346:C346)","v":""},null,{"$f":"'Załącznik nr 2 do rozliczenia'!H341","v":0},{"$f":"IF('Załącznik nr 1 do rozliczenia'!H346<0,ABS('Załącznik nr 1 do rozliczenia'!H346),0)","v":0},null,0,0,0,{"$f":"'Weryfikacja 3'!W73","v":0},null,null,0,0]
[{"$f":"'Załącznik nr 1 do rozliczenia'!A347","v":"72"},{"$f":"IF('Załącznik nr 1 do rozliczenia'!B347:C347=\"\",\"\",'Załącznik nr 1 do rozliczenia'!B347:C347)","v":""},null,{"$f":"'Załącznik nr 2 do rozliczenia'!H342","v":0},{"$f":"IF('Załącznik nr 1 do rozliczenia'!H347<0,ABS('Załącznik nr 1 do rozliczenia'!H347),0)","v":0},null,0,0,0,{"$f":"'Weryfikacja 3'!W74","v":0},null,null,0,0]
[{"$f":"'Załącznik nr 1 do rozliczenia'!A348","v":"73"},{"$f":"IF('Załącznik nr 1 do rozliczenia'!B348:C348=\"\",\"\",'Załącznik nr 1 do rozliczenia'!B348:C348)","v":""},null,{"$f":"'Załącznik nr 2 do rozliczenia'!H343","v":0},{"$f":"IF('Załącznik nr 1 do rozliczenia'!H348<0,ABS('Załącznik nr 1 do rozliczenia'!H348),0)","v":0},null,0,0,0,{"$f":"'Weryfikacja 3'!W75","v":0},null,null,0,0]
[{"$f":"'Załącznik nr 1 do rozliczenia'!A349","v":"74"},{"$f":"IF('Załącznik nr 1 do rozliczenia'!B349:C349=\"\",\"\",'Załącznik nr 1 do rozliczenia'!B349:C349)","v":""},null,{"$f":"'Załącznik nr 2 do rozliczenia'!H344","v":0},{"$f":"IF('Załącznik nr 1 do rozliczenia'!H349<0,ABS('Załącznik nr 1 do rozliczenia'!H349),0)","v":0},null,0,0,0,{"$f":"'Weryfikacja 3'!W76","v":0},null,null,0,0]
[{"$f":"'Załącznik nr 1 do rozliczenia'!A350","v":"75"},{"$f":"IF('Załącznik nr 1 do rozliczenia'!B350:C350=\"\",\"\",'Załącznik nr 1 do rozliczenia'!B350:C350)","v":""},null,{"$f":"'Załącznik nr 2 do rozliczenia'!H345","v":0},{"$f":"IF('Załącznik nr 1 do rozliczenia'!H350<0,ABS('Załącznik nr 1 do rozliczenia'!H350),0)","v":0},null,0,0,0,{"$f":"'Weryfikacja 3'!W77","v":0},null,null,0,0]
[{"$f":"'Załącznik nr 1 do rozliczenia'!A351","v":"76"},{"$f":"IF('Załącznik nr 1 do rozliczenia'!B351:C351=\"\",\"\",'Załącznik nr 1 do rozliczenia'!B351:C351)","v":""},null,{"$f":"'Załącznik nr 2 do rozliczenia'!H346","v":0},{"$f":"IF('Załącznik nr 1 do rozliczenia'!H351<0,ABS('Załącznik nr 1 do rozliczenia'!H351),0)","v":0},null,0,0,0,{"$f":"'Weryfikacja 3'!W78","v":0},null,null,0,0]
[{"$f":"'Załącznik nr 1 do rozliczenia'!A352","v":"77"},{"$f":"IF('Załącznik nr 1 do rozliczenia'!B352:C352=\"\",\"\",'Załącznik nr 1 do rozliczenia'!B352:C352)","v":""},null,{"$f":"'Załącznik nr 2 do rozliczenia'!H347","v":0},{"$f":"IF('Załącznik nr 1 do rozliczenia'!H352<0,ABS('Załącznik nr 1 do rozliczenia'!H352),0)","v":0},null,0,0,0,{"$f":"'Weryfikacja 3'!W79","v":0},null,null,0,0]
[{"$f":"'Załącznik nr 1 do rozliczenia'!A353","v":"78"},{"$f":"IF('Załącznik nr 1 do rozliczenia'!B353:C353=\"\",\"\",'Załącznik nr 1 do rozliczenia'!B353:C353)","v":""},null,{"$f":"'Załącznik nr 2 do rozliczenia'!H348","v":0},{"$f":"IF('Załącznik nr 1 do rozliczenia'!H353<0,ABS('Załącznik nr 1 do rozliczenia'!H353),0)","v":0},null,0,0,0,{"$f":"'Weryfikacja 3'!W80","v":0},null,null,0,0]
[{"$f":"'Załącznik nr 1 do rozliczenia'!A354","v":"79"},{"$f":"IF('Załącznik nr 1 do rozliczenia'!B354:C354=\"\",\"\",'Załącznik nr 1 do rozliczenia'!B354:C354)","v":""},null,{"$f":"'Załącznik nr 2 do rozliczenia'!H349","v":0},{"$f":"IF('Załącznik nr 1 do rozliczenia'!H354<0,ABS('Załącznik nr 1 do rozliczenia'!H354),0)","v":0},null,0,0,0,{"$f":"'Weryfikacja 3'!W81","v":0},null,null,0,0]
[{"$f":"'Załącznik nr 1 do rozliczenia'!A355","v":"80"},{"$f":"IF('Załącznik nr 1 do rozliczenia'!B355:C355=\"\",\"\",'Załącznik nr 1 do rozliczenia'!B355:C355)","v":""},null,{"$f":"'Załącznik nr 2 do rozliczenia'!H350","v":0},{"$f":"IF('Załącznik nr 1 do rozliczenia'!H355<0,ABS('Załącznik nr 1 do rozliczenia'!H355),0)","v":0},null,0,0,0,{"$f":"'Weryfikacja 3'!W82","v":0},null,null,0,0]
[{"$f":"'Załącznik nr 1 do rozliczenia'!A356","v":"81"},{"$f":"IF('Załącznik nr 1 do rozliczenia'!B356:C356=\"\",\"\",'Załącznik nr 1 do rozliczenia'!B356:C356)","v":""},null,{"$f":"'Załącznik nr 2 do rozliczenia'!H351","v":0},{"$f":"IF('Załącznik nr 1 do rozliczenia'!H356<0,ABS('Załącznik nr 1 do rozliczenia'!H356),0)","v":0},null,0,0,0,{"$f":"'Weryfikacja 3'!W83","v":0},null,null,0,0]
[{"$f":"'Załącznik nr 1 do rozliczenia'!A357","v":"82"},{"$f":"IF('Załącznik nr 1 do rozliczenia'!B357:C357=\"\",\"\",'Załącznik nr 1 do rozliczenia'!B357:C357)","v":""},null,{"$f":"'Załącznik nr 2 do rozliczenia'!H352","v":0},{"$f":"IF('Załącznik nr 1 do rozliczenia'!H357<0,ABS('Załącznik nr 1 do rozliczenia'!H357),0)","v":0},null,0,0,0,{"$f":"'Weryfikacja 3'!W84","v":0},null,null,0,0]
[{"$f":"'Załącznik nr 1 do rozliczenia'!A358","v":"83"},{"$f":"IF('Załącznik nr 1 do rozliczenia'!B358:C358=\"\",\"\",'Załącznik nr 1 do rozliczenia'!B358:C358)","v":""},null,{"$f":"'Załącznik nr 2 do rozliczenia'!H353","v":0},{"$f":"IF('Załącznik nr 1 do rozliczenia'!H358<0,ABS('Załącznik nr 1 do rozliczenia'!H358),0)","v":0},null,0,0,0,{"$f":"'Weryfikacja 3'!W85","v":0},null,null,0,0]
[{"$f":"'Załącznik nr 1 do rozliczenia'!A359","v":"84"},{"$f":"IF('Załącznik nr 1 do rozliczenia'!B359:C359=\"\",\"\",'Załącznik nr 1 do rozliczenia'!B359:C359)","v":""},null,{"$f":"'Załącznik nr 2 do rozliczenia'!H354","v":0},{"$f":"IF('Załącznik nr 1 do rozliczenia'!H359<0,ABS('Załącznik nr 1 do rozliczenia'!H359),0)","v":0},null,0,0,0,{"$f":"'Weryfikacja 3'!W86","v":0},null,null,0,0]
[{"$f":"'Załącznik nr 1 do rozliczenia'!A360","v":"85"},{"$f":"IF('Załącznik nr 1 do rozliczenia'!B360:C360=\"\",\"\",'Załącznik nr 1 do rozliczenia'!B360:C360)","v":""},null,{"$f":"'Załącznik nr 2 do rozliczenia'!H355","v":0},{"$f":"IF('Załącznik nr 1 do rozliczenia'!H360<0,ABS('Załącznik nr 1 do rozliczenia'!H360),0)","v":0},null,0,0,0,{"$f":"'Weryfikacja 3'!W87","v":0},null,null,0,0]
[{"$f":"'Załącznik nr 1 do rozliczenia'!A361","v":"86"},{"$f":"IF('Załącznik nr 1 do rozliczenia'!B361:C361=\"\",\"\",'Załącznik nr 1 do rozliczenia'!B361:C361)","v":""},null,{"$f":"'Załącznik nr 2 do rozliczenia'!H356","v":0},{"$f":"IF('Załącznik nr 1 do rozliczenia'!H361<0,ABS('Załącznik nr 1 do rozliczenia'!H361),0)","v":0},null,0,0,0,{"$f":"'Weryfikacja 3'!W88","v":0},null,null,0,0]
[{"$f":"'Załącznik nr 1 do rozliczenia'!A362","v":"87"},{"$f":"IF('Załącznik nr 1 do rozliczenia'!B362:C362=\"\",\"\",'Załącznik nr 1 do rozliczenia'!B362:C362)","v":""},null,{"$f":"'Załącznik nr 2 do rozliczenia'!H357","v":0},{"$f":"IF('Załącznik nr 1 do rozliczenia'!H362<0,ABS('Załącznik nr 1 do rozliczenia'!H362),0)","v":0},null,0,0,0,{"$f":"'Weryfikacja 3'!W89","v":0},null,null,0,0]
[{"$f":"'Załącznik nr 1 do rozliczenia'!A363","v":"88"},{"$f":"IF('Załącznik nr 1 do rozliczenia'!B363:C363=\"\",\"\",'Załącznik nr 1 do rozliczenia'!B363:C363)","v":""},null,{"$f":"'Załącznik nr 2 do rozliczenia'!H358","v":0},{"$f":"IF('Załącznik nr 1 do rozliczenia'!H363<0,ABS('Załącznik nr 1 do rozliczenia'!H363),0)","v":0},null,0,0,0,{"$f":"'Weryfikacja 3'!W90","v":0},null,null,0,0]
[{"$f":"'Załącznik nr 1 do rozliczenia'!A364","v":"89"},{"$f":"IF('Załącznik nr 1 do rozliczenia'!B364:C364=\"\",\"\",'Załącznik nr 1 do rozliczenia'!B364:C364)","v":""},null,{"$f":"'Załącznik nr 2 do rozliczenia'!H359","v":0},{"$f":"IF('Załącznik nr 1 do rozliczenia'!H364<0,ABS('Załącznik nr 1 do rozliczenia'!H364),0)","v":0},null,0,0,0,{"$f":"'Weryfikacja 3'!W91","v":0},null,null,0,0]
[{"$f":"'Załącznik nr 1 do rozliczenia'!A365","v":"90"},{"$f":"IF('Załącznik nr 1 do rozliczenia'!B365:C365=\"\",\"\",'Załącznik nr 1 do rozliczenia'!B365:C365)","v":""},null,{"$f":"'Załącznik nr 2 do rozliczenia'!H360","v":0},{"$f":"IF('Załącznik nr 1 do rozliczenia'!H365<0,ABS('Załącznik nr 1 do rozliczenia'!H365),0)","v":0},null,0,0,0,{"$f":"'Weryfikacja 3'!W92","v":0},null,null,0,0]
[{"$f":"'Załącznik nr 1 do rozliczenia'!A366","v":"91"},{"$f":"IF('Załącznik nr 1 do rozliczenia'!B366:C366=\"\",\"\",'Załącznik nr 1 do rozliczenia'!B366:C366)","v":""},null,{"$f":"'Załącznik nr 2 do rozliczenia'!H361","v":0},{"$f":"IF('Załącznik nr 1 do rozliczenia'!H366<0,ABS('Załącznik nr 1 do rozliczenia'!H366),0)","v":0},null,0,0,0,{"$f":"'Weryfikacja 3'!W93","v":0},null,null,0,0]
[{"$f":"'Załącznik nr 1 do rozliczenia'!A367","v":"92"},{"$f":"IF('Załącznik nr 1 do rozliczenia'!B367:C367=\"\",\"\",'Załącznik nr 1 do rozliczenia'!B367:C367)","v":""},null,{"$f":"'Załącznik nr 2 do rozliczenia'!H362","v":0},{"$f":"IF('Załącznik nr 1 do rozliczenia'!H367<0,ABS('Załącznik nr 1 do rozliczenia'!H367),0)","v":0},null,0,0,0,{"$f":"'Weryfikacja 3'!W94","v":0},null,null,0,0]
[{"$f":"'Załącznik nr 1 do rozliczenia'!A368","v":"93"},{"$f":"IF('Załącznik nr 1 do rozliczenia'!B368:C368=\"\",\"\",'Załącznik nr 1 do rozliczenia'!B368:C368)","v":""},null,{"$f":"'Załącznik nr 2 do rozliczenia'!H363","v":0},{"$f":"IF('Załącznik nr 1 do rozliczenia'!H368<0,ABS('Załącznik nr 1 do rozliczenia'!H368),0)","v":0},null,0,0,0,{"$f":"'Weryfikacja 3'!W95","v":0},null,null,0,0]
[{"$f":"'Załącznik nr 1 do rozliczenia'!A369","v":"94"},{"$f":"IF('Załącznik nr 1 do rozliczenia'!B369:C369=\"\",\"\",'Załącznik nr 1 do rozliczenia'!B369:C369)","v":""},null,{"$f":"'Załącznik nr 2 do rozliczenia'!H364","v":0},{"$f":"IF('Załącznik nr 1 do rozliczenia'!H369<0,ABS('Załącznik nr 1 do rozliczenia'!H369),0)","v":0},null,0,0,0,{"$f":"'Weryfikacja 3'!W96","v":0},null,null,0,0]
[{"$f":"'Załącznik nr 1 do rozliczenia'!A370","v":"95"},{"$f":"IF('Załącznik nr 1 do rozliczenia'!B370:C370=\"\",\"\",'Załącznik nr 1 do rozliczenia'!B370:C370)","v":""},null,{"$f":"'Załącznik nr 2 do rozliczenia'!H365","v":0},{"$f":"IF('Załącznik nr 1 do rozliczenia'!H370<0,ABS('Załącznik nr 1 do rozliczenia'!H370),0)","v":0},null,0,0,0,{"$f":"'Weryfikacja 3'!W97","v":0},null,null,0,0]
[{"$f":"'Załącznik nr 1 do rozliczenia'!A371","v":"96"},{"$f":"IF('Załącznik nr 1 do rozliczenia'!B371:C371=\"\",\"\",'Załącznik nr 1 do rozliczenia'!B371:C371)","v":""},null,{"$f":"'Załącznik nr 2 do rozliczenia'!H366","v":0},{"$f":"IF('Załącznik nr 1 do rozliczenia'!H371<0,ABS('Załącznik nr 1 do rozliczenia'!H371),0)","v":0},null,0,0,0,{"$f":"'Weryfikacja 3'!W98","v":0},null,null,0,0]
[{"$f":"'Załącznik nr 1 do rozliczenia'!A372","v":"97"},{"$f":"IF('Załącznik nr 1 do rozliczenia'!B372:C372=\"\",\"\",'Załącznik nr 1 do rozliczenia'!B372:C372)","v":""},null,{"$f":"'Załącznik nr 2 do rozliczenia'!H367","v":0},{"$f":"IF('Załącznik nr 1 do rozliczenia'!H372<0,ABS('Załącznik nr 1 do rozliczenia'!H372),0)","v":0},null,0,0,0,{"$f":"'Weryfikacja 3'!W99","v":0},null,null,0,0]
[{"$f":"'Załącznik nr 1 do rozliczenia'!A373","v":"98"},{"$f":"IF('Załącznik nr 1 do rozliczenia'!B373:C373=\"\",\"\",'Załącznik nr 1 do rozliczenia'!B373:C373)","v":""},null,{"$f":"'Załącznik nr 2 do rozliczenia'!H368","v":0},{"$f":"IF('Załącznik nr 1 do rozliczenia'!H373<0,ABS('Załącznik nr 1 do rozliczenia'!H373),0)","v":0},null,0,0,0,{"$f":"'Weryfikacja 3'!W100","v":0},null,null,0,0]
[{"$f":"'Załącznik nr 1 do rozliczenia'!A374","v":"99"},{"$f":"IF('Załącznik nr 1 do rozliczenia'!B374:C374=\"\",\"\",'Załącznik nr 1 do rozliczenia'!B374:C374)","v":""},null,{"$f":"'Załącznik nr 2 do rozliczenia'!H369","v":0},{"$f":"IF('Załącznik nr 1 do rozliczenia'!H374<0,ABS('Załącznik nr 1 do rozliczenia'!H374),0)","v":0},null,0,0,0,{"$f":"'Weryfikacja 3'!W101","v":0},null,null,0,0]
[{"$f":"'Załącznik nr 1 do rozliczenia'!A375","v":"100"},{"$f":"IF('Załącznik nr 1 do rozliczenia'!B375:C375=\"\",\"\",'Załącznik nr 1 do rozliczenia'!B375:C375)","v":""},null,{"$f":"'Załącznik nr 2 do rozliczenia'!H370","v":0},{"$f":"IF('Załącznik nr 1 do rozliczenia'!H375<0,ABS('Załącznik nr 1 do rozliczenia'!H375),0)","v":0},null,0,0,0,{"$f":"'Weryfikacja 3'!W102","v":0},null,null,0,0]
[{"$f":"'Załącznik nr 1 do rozliczenia'!A376","v":"101"},{"$f":"IF('Załącznik nr 1 do rozliczenia'!B376:C376=\"\",\"\",'Załącznik nr 1 do rozliczenia'!B376:C376)","v":""},null,{"$f":"'Załącznik nr 2 do rozliczenia'!H371","v":0},{"$f":"IF('Załącznik nr 1 do rozliczenia'!H376<0,ABS('Załącznik nr 1 do rozliczenia'!H376),0)","v":0},null,0,0,0,{"$f":"'Weryfikacja 3'!W103","v":0},null,null,0,0]
[{"$f":"'Załącznik nr 1 do rozliczenia'!A377","v":"102"},{"$f":"IF('Załącznik nr 1 do rozliczenia'!B377:C377=\"\",\"\",'Załącznik nr 1 do rozliczenia'!B377:C377)","v":""},null,{"$f":"'Załącznik nr 2 do rozliczenia'!H372","v":0},{"$f":"IF('Załącznik nr 1 do rozliczenia'!H377<0,ABS('Załącznik nr 1 do rozliczenia'!H377),0)","v":0},null,0,0,0,{"$f":"'Weryfikacja 3'!W104","v":0},null,null,0,0]
[{"$f":"'Załącznik nr 1 do rozliczenia'!A378","v":"103"},{"$f":"IF('Załącznik nr 1 do rozliczenia'!B378:C378=\"\",\"\",'Załącznik nr 1 do rozliczenia'!B378:C378)","v":""},null,{"$f":"'Załącznik nr 2 do rozliczenia'!H373","v":0},{"$f":"IF('Załącznik nr 1 do rozliczenia'!H378<0,ABS('Załącznik nr 1 do rozliczenia'!H378),0)","v":0},null,0,0,0,{"$f":"'Weryfikacja 3'!W105","v":0},null,null,0,0]
[{"$f":"'Załącznik nr 1 do rozliczenia'!A379","v":"104"},{"$f":"IF('Załącznik nr 1 do rozliczenia'!B379:C379=\"\",\"\",'Załącznik nr 1 do rozliczenia'!B379:C379)","v":""},null,{"$f":"'Załącznik nr 2 do rozliczenia'!H374","v":0},{"$f":"IF('Załącznik nr 1 do rozliczenia'!H379<0,ABS('Załącznik nr 1 do rozliczenia'!H379),0)","v":0},null,0,0,0,{"$f":"'Weryfikacja 3'!W106","v":0},null,null,0,0]
[{"$f":"'Załącznik nr 1 do rozliczenia'!A380","v":"105"},{"$f":"IF('Załącznik nr 1 do rozliczenia'!B380:C380=\"\",\"\",'Załącznik nr 1 do rozliczenia'!B380:C380)","v":""},null,{"$f":"'Załącznik nr 2 do rozliczenia'!H375","v":0},{"$f":"IF('Załącznik nr 1 do rozliczenia'!H380<0,ABS('Załącznik nr 1 do rozliczenia'!H380),0)","v":0},null,0,0,0,{"$f":"'Weryfikacja 3'!W107","v":0},null,null,0,0]
[{"$f":"'Załącznik nr 1 do rozliczenia'!A381","v":"106"},{"$f":"IF('Załącznik nr 1 do rozliczenia'!B381:C381=\"\",\"\",'Załącznik nr 1 do rozliczenia'!B381:C381)","v":""},null,{"$f":"'Załącznik nr 2 do rozliczenia'!H376","v":0},{"$f":"IF('Załącznik nr 1 do rozliczenia'!H381<0,ABS('Załącznik nr 1 do rozliczenia'!H381),0)","v":0},null,0,0,0,{"$f":"'Weryfikacja 3'!W108","v":0},null,null,0,0]
[{"$f":"'Załącznik nr 1 do rozliczenia'!A382","v":"107"},{"$f":"IF('Załącznik nr 1 do rozliczenia'!B382:C382=\"\",\"\",'Załącznik nr 1 do rozliczenia'!B382:C382)","v":""},null,{"$f":"'Załącznik nr 2 do rozliczenia'!H377","v":0},{"$f":"IF('Załącznik nr 1 do rozliczenia'!H382<0,ABS('Załącznik nr 1 do rozliczenia'!H382),0)","v":0},null,0,0,0,{"$f":"'Weryfikacja 3'!W109","v":0},null,null,0,0]
[{"$f":"'Załącznik nr 1 do rozliczenia'!A383","v":"108"},{"$f":"IF('Załącznik nr 1 do rozliczenia'!B383:C383=\"\",\"\",'Załącznik nr 1 do rozliczenia'!B383:C383)","v":""},null,{"$f":"'Załącznik nr 2 do rozliczenia'!H378","v":0},{"$f":"IF('Załącznik nr 1 do rozliczenia'!H383<0,ABS('Załącznik nr 1 do rozliczenia'!H383),0)","v":0},null,0,0,0,{"$f":"'Weryfikacja 3'!W110","v":0},null,null,0,0]
[{"$f":"'Załącznik nr 1 do rozliczenia'!A384","v":"109"},{"$f":"IF('Załącznik nr 1 do rozliczenia'!B384:C384=\"\",\"\",'Załącznik nr 1 do rozliczenia'!B384:C384)","v":""},null,{"$f":"'Załącznik nr 2 do rozliczenia'!H379","v":0},{"$f":"IF('Załącznik nr 1 do rozliczenia'!H384<0,ABS('Załącznik nr 1 do rozliczenia'!H384),0)","v":0},null,0,0,0,{"$f":"'Weryfikacja 3'!W111","v":0},null,null,0,0]
[{"$f":"'Załącznik nr 1 do rozliczenia'!A385","v":"110"},{"$f":"IF('Załącznik nr 1 do rozliczenia'!B385:C385=\"\",\"\",'Załącznik nr 1 do rozliczenia'!B385:C385)","v":""},null,{"$f":"'Załącznik nr 2 do rozliczenia'!H380","v":0},{"$f":"IF('Załącznik nr 1 do rozliczenia'!H385<0,ABS('Załącznik nr 1 do rozliczenia'!H385),0)","v":0},null,0,0,0,{"$f":"'Weryfikacja 3'!W112","v":0},null,null,0,0]
[{"$f":"'Załącznik nr 1 do rozliczenia'!A386","v":"111"},{"$f":"IF('Załącznik nr 1 do rozliczenia'!B386:C386=\"\",\"\",'Załącznik nr 1 do rozliczenia'!B386:C386)","v":""},null,{"$f":"'Załącznik nr 2 do rozliczenia'!H381","v":0},{"$f":"IF('Załącznik nr 1 do rozliczenia'!H386<0,ABS('Załącznik nr 1 do rozliczenia'!H386),0)","v":0},null,0,0,0,{"$f":"'Weryfikacja 3'!W113","v":0},null,null,0,0]
[{"$f":"'Załącznik nr 1 do rozliczenia'!A387","v":"112"},{"$f":"IF('Załącznik nr 1 do rozliczenia'!B387:C387=\"\",\"\",'Załącznik nr 1 do rozliczenia'!B387:C387)","v":""},null,{"$f":"'Załącznik nr 2 do rozliczenia'!H382","v":0},{"$f":"IF('Załącznik nr 1 do rozliczenia'!H387<0,ABS('Załącznik nr 1 do rozliczenia'!H387),0)","v":0},null,0,0,0,{"$f":"'Weryfikacja 3'!W114","v":0},null,null,0,0]
[{"$f":"'Załącznik nr 1 do rozliczenia'!A388","v":"113"},{"$f":"IF('Załącznik nr 1 do rozliczenia'!B388:C388=\"\",\"\",'Załącznik nr 1 do rozliczenia'!B388:C388)","v":""},null,{"$f":"'Załącznik nr 2 do rozliczenia'!H383","v":0},{"$f":"IF('Załącznik nr 1 do rozliczenia'!H388<0,ABS('Załącznik nr 1 do rozliczenia'!H388),0)","v":0},null,0,0,0,{"$f":"'Weryfikacja 3'!W115","v":0},null,null,0,0]
[{"$f":"'Załącznik nr 1 do rozliczenia'!A389","v":"114"},{"$f":"IF('Załącznik nr 1 do rozliczenia'!B389:C389=\"\",\"\",'Załącznik nr 1 do rozliczenia'!B389:C389)","v":""},null,{"$f":"'Załącznik nr 2 do rozliczenia'!H384","v":0},{"$f":"IF('Załącznik nr 1 do rozliczenia'!H389<0,ABS('Załącznik nr 1 do rozliczenia'!H389),0)","v":0},null,0,0,0,{"$f":"'Weryfikacja 3'!W116","v":0},null,null,0,0]
[{"$f":"'Załącznik nr 1 do rozliczenia'!A390","v":"115"},{"$f":"IF('Załącznik nr 1 do rozliczenia'!B390:C390=\"\",\"\",'Załącznik nr 1 do rozliczenia'!B390:C390)","v":""},null,{"$f":"'Załącznik nr 2 do rozliczenia'!H385","v":0},{"$f":"IF('Załącznik nr 1 do rozliczenia'!H390<0,ABS('Załącznik nr 1 do rozliczenia'!H390),0)","v":0},null,0,0,0,{"$f":"'Weryfikacja 3'!W117","v":0},null,null,0,0]
["Ogółem:",null,{"$f":"SUM(C278:C392)","v":0},{"$f":"SUM(D278:D392)","v":0},{"$f":"SUM(E278:E392)","v":0},{"$f":"SUM(F278:F392)","v":0},null,null,null,{"$f":"SUM(J278:J392)","v":0},{"$f":"SUM(K278:K392)","v":0},{"$f":"SUM(L278:L392)","v":0},{"$f":"SUM(M278:M392)","v":0},{"$f":"SUMIF(N278:N392,\">0\")","v":0}]
[]
["Tabele B.1/B.2/B.3 proszę wypełnić zgodnie z wytycznymi podanymi poniżej:\nKolumna nr 1\nOznaczenie, które pozwala wyodrębnić daną linię komunikacyjną np. nazwa lub numer. Proszę wskazać wyłącznie linie komunikacyjne na które organizator zawarł umowę o dopłatę o której mowa w tabeli A.3 pkt. 2. Kolumna wypełni się automatycznie po uzupełnieniu załącznika nr 1\nKolumna nr 2\nProszę wskazać liczbę przewiezionych osób w danym okresie rozliczeniowym.\nKolumna nr 3\nProszę wskazać zrealizowaną pracę ekspoloatacyjną  w okresie rozliczeniowym na danej linii komunikacyjnej. Pracę eksploatacyjną należy wyrazić w wozokilometrach (1 wozokilometr to przejazd 1 autobusu na odległość 1 kilometra) Kolumna wypełni się automatycznie po uzupełnieniu załącznika nr 2\nKolumna nr 4\nProszę wskazać deficyt danej linii komunikacyjnej w okresie rozliczeniowym. Kwota deficytu pojedynczej linii komunikacyjnej w przewozach autobusowych o charakterze użyteczności publicznej - ujemny wynik finansowy netto wyliczony dla tej linii nieuwzględniający rozsądnego zysku, o których mowa w rozporządzeniu (WE) 1370/2007 Parlamentu Europejskiego i Rady z dnia 23 października 2007 r. dotyczącym usług publicznych w zakresie kolejowego i drogowego transportu pasażerskiego oraz uchylającym rozporządzenie Rady (EWG) nr 1191/69 i (EWG) nr 1107/70 (Dz. Urz. UE L 315 z 03.12.2007, str. 1, z późn. zm.). Kolumna wypełni się automatycznie po uzupełnieniu załącznika nr 1;\nKolumna 5\nProszę wskazać kwotę środków własnych organizatora na danej linii komunikacyjnej w okresie rozliczeniowym.\nKolumna 6\nCena usługi - kwota deficytu pojedyńczej linii komunikacyjnej w przewozach autobusowych o charakterze użyteczności publicznej wyrażona w złotych w odniesieniu do 1 wozokilometra (zgodnie z art 2 ust.1 ustawy o Funduszu). Wartość obliczy się automatycznie po wypełnieniu kolumny 3 i 5.\nKolumna 7\nCzęść ceny usługi (wskazanej w kol.6) finansowana przez organizatora publicznego transportu zbiorowego (nie mniej niż 10%). Wartość obliczy się automatycznie po wypełnieniu kolumny 3, 5 i 6.\nKolumna 8\nProcentowa wartość części ceny usługi sfinansowanej ze środków własnych organizatora publicznego transportu zbiorowego (nie mniej niż 10 %). Kolumna wypełni się automatycznie po wskazaniu pozostałych danych.\nKolumna 9\nKwota dopłaty do danej linii komunikacyjnej w okresie rozliczeniowym. Wyliczając kwotę dopłaty proszę mieć na uwadze:  pracę eksploatacyjną (kol. 3), deficyt w okresie rozliczeniowym (kol.4),część ceny usługi sfinansowanej ze środków własnych organizatora (kol.7) oraz maksymalną kwotę dopłaty do 1 wzkm. W roku budżetowym 2026 maksymalna kwota dopłaty do 1 wozokliometra  wynosi nie więcej niż 3 zł. Arkusz wskazuje  maksymalną kwotę dopłaty na podstawie wprowadzonych danych.\nKolumna 10\nProszę wskazać kwote dopłaty pobraną na podstawie prognozy - wniosku zaliczkowego.\nKolumna 11 \nProszę wskazać niewykorzystaną kwotę dopłaty z poprzedniego okresu rozliczeniowego. Jeżeli wykorzystano calą kwotę dopłaty proszę wskazać wartość 0.\nKolumna 12\nRóżnica pomiędzy kwota pobranej dopłaty a kwotą niewykorzystanych środków z poprzedniego okresu rozliczeniowego (wartość obliczna automatycznie).\nKolumna 13\nRóznica pomiędzy kwotą pobranej dopłaty na podstawie prognozy - wniosku zaliczkowego a kwotą dopłaty wyliczoną na podstawie rzeczywistych danych.Kwota ta podlega rozliczeniu w kolejnym okresie rozliczeniowym, za wyjątkiem rozliczenia IV kwartału w którym należy zrócić różnicę na konto Mazowieckiego Urzędu Wojewódzkiego zgodnie z umową o dopłatę (wartość obliczna automatycznie)."]
[]
[]
["B.4 Podsumowanie "]
[null,null,null,null,null,{"$f":"F21","v":""},null,"2026 r."]
["Lp.","Nazwa linii komunikacyjnej","Liczba przewiezionych osób","Wielkość pracy eksploatacyjnej w okresie rozliczeniowym [wzkm]","Deficyt w okresie rozliczeniowym [zł]","Kwota środków własnych organizatora \n[zł]","Cena usługi \n[zł]","Część ceny usługi sfinansowana ze środków własnych organizatora  [zł/wzkm]","Procentowa wartość części ceny usługi sfinansowanej ze środków własnych organizatora \n[%]","Należna kwota dopłaty w okresie rozliczeniowym [zł]","Pobrana dopłata w okresie rozliczeniowym - wniosek kwartalny \n[zł]","Niewykorzystana kwota dopłaty z poprzedniego okresu rozliczeniowego (rozliczona w bieżącym okresie)\n[zł]","Faktycznie wypłacona kwota dopłaty w bieżącym okresie\n[zł]","Niewykorzystana kwota dopłaty w bieżącym okresie rozliczeniowym\n[zł]"]
[null,1,"2","3","4","5","6","7","8","9","10","11","12","13"]
["1",{"$f":"B278","v":""},{"$f":"C278+C157+C36","v":0},{"$f":"D278+D157+D36","v":0},0,0,{"$f":"IFERROR(E402/D402,0)","v":0},{"$f":"IFERROR(F402/D402,0)","v":0},{"$f":"IFERROR(ROUND(H402/G402,2),0)","v":0},{"$f":"J278+J157+J36","v":0},{"$f":"K278+K157+K36","v":0},{"$f":"L278+L157+L36","v":0},{"$f":"K402-L402","v":0},{"$f":"IF(M402-J402<0,0,M402-J402)","v":0}]
["2",{"$f":"B279","v":""},0,0,0,0,{"$f":"IFERROR(E403/D403,0)","v":0},{"$f":"IFERROR(F403/D403,0)","v":0},{"$f":"IFERROR(ROUND(H403/G403,2),0)","v":0},{"$f":"J279+J158+J37","v":0},0,0,{"$f":"K403-L403","v":0},{"$f":"IF(M403-J403<0,0,M403-J403)","v":0}]
["3","",{"$f":"C280+C159+C38","v":0},0,0,0,0,0,0,{"$f":"J280+J159+J38","v":0},0,0,0,0]
["4","",{"$f":"C281+C160+C39","v":0},0,0,0,0,0,0,{"$f":"J281+J160+J39","v":0},0,0,0,0]
["5","",{"$f":"C282+C161+C40","v":0},0,0,0,0,0,0,{"$f":"J282+J161+J40","v":0},0,0,0,0]
["6","",{"$f":"C283+C162+C41","v":0},0,0,0,0,0,0,{"$f":"J283+J162+J41","v":0},0,0,0,0]
["7","",{"$f":"C284+C163+C42","v":0},0,0,0,0,0,0,{"$f":"J284+J163+J42","v":0},0,0,0,0]
["8","",{"$f":"C285+C164+C43","v":0},0,0,0,0,0,0,{"$f":"J285+J164+J43","v":0},0,0,0,0]
["9","",{"$f":"C286+C165+C44","v":0},0,0,0,0,0,0,{"$f":"J286+J165+J44","v":0},0,0,0,0]
["10","",{"$f":"C287+C166+C45","v":0},0,0,0,0,0,0,{"$f":"J287+J166+J45","v":0},0,0,0,0]
["11","",{"$f":"C288+C167+C46","v":0},0,0,0,0,0,0,{"$f":"J288+J167+J46","v":0},0,0,0,0]
["12","",{"$f":"C289+C168+C47","v":0},0,0,0,0,0,0,{"$f":"J289+J168+J47","v":0},0,0,0,0]
["13","",{"$f":"C290+C169+C48","v":0},0,0,0,0,0,0,{"$f":"J290+J169+J48","v":0},0,0,0,0]
["14","",{"$f":"C291+C170+C49","v":0},0,0,0,0,0,0,{"$f":"J291+J170+J49","v":0},0,0,0,0]
["15","",{"$f":"C292+C171+C50","v":0},0,0,0,0,0,0,{"$f":"J292+J171+J50","v":0},0,0,0,0]
["16","",{"$f":"C293+C172+C51","v":0},0,0,0,0,0,0,{"$f":"J293+J172+J51","v":0},0,0,0,0]
["17","",{"$f":"C294+C173+C52","v":0},0,0,0,0,0,0,{"$f":"J294+J173+J52","v":0},0,0,0,0]
["18","",{"$f":"C295+C174+C53","v":0},0,0,0,0,0,0,{"$f":"J295+J174+J53","v":0},0,0,0,0]
["19","",{"$f":"C296+C175+C54","v":0},0,0,0,0,0,0,{"$f":"J296+J175+J54","v":0},0,0,0,0]
["20","",{"$f":"C297+C176+C55","v":0},0,0,0,0,0,0,{"$f":"J297+J176+J55","v":0},0,0,0,0]
["21","",{"$f":"C298+C177+C56","v":0},0,0,0,0,0,0,{"$f":"J298+J177+J56","v":0},0,0,0,0]
["22","",{"$f":"C299+C178+C57","v":0},0,0,0,0,0,0,{"$f":"J299+J178+J57","v":0},0,0,0,0]
["23","",{"$f":"C300+C179+C58","v":0},0,0,0,0,0,0,{"$f":"J300+J179+J58","v":0},0,0,0,0]
["24","",{"$f":"C301+C180+C59","v":0},0,0,0,0,0,0,{"$f":"J301+J180+J59","v":0},0,0,0,0]
["25","",{"$f":"C302+C181+C60","v":0},0,0,0,0,0,0,{"$f":"J302+J181+J60","v":0},0,0,0,0]
["26","",{"$f":"C303+C182+C61","v":0},0,0,0,0,0,0,{"$f":"J303+J182+J61","v":0},0,0,0,0]
["27","",{"$f":"C304+C183+C62","v":0},0,0,0,0,0,0,{"$f":"J304+J183+J62","v":0},0,0,0,0]
["28","",{"$f":"C305+C184+C63","v":0},0,0,0,0,0,0,{"$f":"J305+J184+J63","v":0},0,0,0,0]
["29","",{"$f":"C306+C185+C64","v":0},0,0,0,0,0,0,{"$f":"J306+J185+J64","v":0},0,0,0,0]
["30","",{"$f":"C307+C186+C65","v":0},0,0,0,0,0,0,{"$f":"J307+J186+J65","v":0},0,0,0,0]
["31","",{"$f":"C308+C187+C66","v":0},0,0,0,0,0,0,{"$f":"J308+J187+J66","v":0},0,0,0,0]
["32","",{"$f":"C309+C188+C67","v":0},0,0,0,0,0,0,{"$f":"J309+J188+J67","v":0},0,0,0,0]
["33","",{"$f":"C310+C189+C68","v":0},0,0,0,0,0,0,{"$f":"J310+J189+J68","v":0},0,0,0,0]
["34","",{"$f":"C311+C190+C69","v":0},0,0,0,0,0,0,{"$f":"J311+J190+J69","v":0},0,0,0,0]
["35","",{"$f":"C312+C191+C70","v":0},0,0,0,0,0,0,{"$f":"J312+J191+J70","v":0},0,0,0,0]
["36","",{"$f":"C313+C192+C71","v":0},0,0,0,0,0,0,{"$f":"J313+J192+J71","v":0},0,0,0,0]
["37","",{"$f":"C314+C193+C72","v":0},0,0,0,0,0,0,{"$f":"J314+J193+J72","v":0},0,0,0,0]
["38","",{"$f":"C315+C194+C73","v":0},0,0,0,0,0,0,{"$f":"J315+J194+J73","v":0},0,0,0,0]
["39","",{"$f":"C316+C195+C74","v":0},0,0,0,0,0,0,{"$f":"J316+J195+J74","v":0},0,0,0,0]
["40","",{"$f":"C317+C196+C75","v":0},0,0,0,0,0,0,{"$f":"J317+J196+J75","v":0},0,0,0,0]
["41","",{"$f":"C318+C197+C76","v":0},0,0,0,0,0,0,{"$f":"J318+J197+J76","v":0},0,0,0,0]
["42","",{"$f":"C319+C198+C77","v":0},0,0,0,0,0,0,{"$f":"J319+J198+J77","v":0},0,0,0,0]
["43","",{"$f":"C320+C199+C78","v":0},0,0,0,0,0,0,{"$f":"J320+J199+J78","v":0},0,0,0,0]
["44","",{"$f":"C321+C200+C79","v":0},0,0,0,0,0,0,{"$f":"J321+J200+J79","v":0},0,0,0,0]
["45","",{"$f":"C322+C201+C80","v":0},0,0,0,0,0,0,{"$f":"J322+J201+J80","v":0},0,0,0,0]
["46","",{"$f":"C323+C202+C81","v":0},0,0,0,0,0,0,{"$f":"J323+J202+J81","v":0},0,0,0,0]
["47","",{"$f":"C324+C203+C82","v":0},0,0,0,0,0,0,{"$f":"J324+J203+J82","v":0},0,0,0,0]
["48","",{"$f":"C325+C204+C83","v":0},0,0,0,0,0,0,{"$f":"J325+J204+J83","v":0},0,0,0,0]
["49","",{"$f":"C326+C205+C84","v":0},0,0,0,0,0,0,{"$f":"J326+J205+J84","v":0},0,0,0,0]
["50","",{"$f":"C327+C206+C85","v":0},0,0,0,0,0,0,{"$f":"J327+J206+J85","v":0},0,0,0,0]
["51","",{"$f":"C328+C207+C86","v":0},0,0,0,0,0,0,{"$f":"J328+J207+J86","v":0},0,0,0,0]
["52","",{"$f":"C329+C208+C87","v":0},0,0,0,0,0,0,{"$f":"J329+J208+J87","v":0},0,0,0,0]
["53","",{"$f":"C330+C209+C88","v":0},0,0,0,0,0,0,{"$f":"J330+J209+J88","v":0},0,0,0,0]
["54","",{"$f":"C331+C210+C89","v":0},0,0,0,0,0,0,{"$f":"J331+J210+J89","v":0},0,0,0,0]
["55","",{"$f":"C332+C211+C90","v":0},0,0,0,0,0,0,{"$f":"J332+J211+J90","v":0},0,0,0,0]
["56","",{"$f":"C333+C212+C91","v":0},0,0,0,0,0,0,{"$f":"J333+J212+J91","v":0},0,0,0,0]
["57","",{"$f":"C334+C213+C92","v":0},0,0,0,0,0,0,{"$f":"J334+J213+J92","v":0},0,0,0,0]
["58","",{"$f":"C335+C214+C93","v":0},0,0,0,0,0,0,{"$f":"J335+J214+J93","v":0},0,0,0,0]
["59","",{"$f":"C336+C215+C94","v":0},0,0,0,0,0,0,{"$f":"J336+J215+J94","v":0},0,0,0,0]
["60","",{"$f":"C337+C216+C95","v":0},0,0,0,0,0,0,{"$f":"J337+J216+J95","v":0},0,0,0,0]
["61","",{"$f":"C338+C217+C96","v":0},0,0,0,0,0,0,{"$f":"J338+J217+J96","v":0},0,0,0,0]
["62","",{"$f":"C339+C218+C97","v":0},0,0,0,0,0,0,{"$f":"J339+J218+J97","v":0},0,0,0,0]
["63","",{"$f":"C340+C219+C98","v":0},0,0,0,0,0,0,{"$f":"J340+J219+J98","v":0},0,0,0,0]
["64","",{"$f":"C341+C220+C99","v":0},0,0,0,0,0,0,{"$f":"J341+J220+J99","v":0},0,0,0,0]
["65","",{"$f":"C342+C221+C100","v":0},0,0,0,0,0,0,{"$f":"J342+J221+J100","v":0},0,0,0,0]
["66",{"$f":"B343","v":""},{"$f":"C343+C222+C101","v":0},0,0,0,{"$f":"IFERROR(E467/D467,0)","v":0},{"$f":"IFERROR(F467/D467,0)","v":0},{"$f":"IFERROR(ROUND(H467/G467,2),0)","v":0},{"$f":"J343+J222+J101","v":0},0,0,{"$f":"K467-L467","v":0},{"$f":"IF(M467-J467<0,0,M467-J467)","v":0}]
["67","",{"$f":"C344+C223+C102","v":0},0,0,0,0,0,0,{"$f":"J344+J223+J102","v":0},0,0,0,0]
["68","",{"$f":"C345+C224+C103","v":0},0,0,0,0,0,0,{"$f":"J345+J224+J103","v":0},0,0,0,0]
["69","",{"$f":"C346+C225+C104","v":0},0,0,0,0,0,0,{"$f":"J346+J225+J104","v":0},0,0,0,0]
["70","",{"$f":"C347+C226+C105","v":0},0,0,0,0,0,0,{"$f":"J347+J226+J105","v":0},0,0,0,0]
["71","",{"$f":"C348+C227+C106","v":0},0,0,0,0,0,0,{"$f":"J348+J227+J106","v":0},0,0,0,0]
["72","",{"$f":"C349+C228+C107","v":0},0,0,0,0,0,0,{"$f":"J349+J228+J107","v":0},0,0,0,0]
["73","",{"$f":"C350+C229+C108","v":0},0,0,0,0,0,0,{"$f":"J350+J229+J108","v":0},0,0,0,0]
["74","",{"$f":"C351+C230+C109","v":0},0,0,0,0,0,0,{"$f":"J351+J230+J109","v":0},0,0,0,0]
["75","",{"$f":"C352+C231+C110","v":0},0,0,0,0,0,0,{"$f":"J352+J231+J110","v":0},0,0,0,0]
["76","",{"$f":"C353+C232+C111","v":0},0,0,0,0,0,0,{"$f":"J353+J232+J111","v":0},0,0,0,0]
["77","",{"$f":"C354+C233+C112","v":0},0,0,0,0,0,0,{"$f":"J354+J233+J112","v":0},0,0,0,0]
["78","",{"$f":"C355+C234+C113","v":0},0,0,0,0,0,0,{"$f":"J355+J234+J113","v":0},0,0,0,0]
["79","",{"$f":"C356+C235+C114","v":0},0,0,0,0,0,0,{"$f":"J356+J235+J114","v":0},0,0,0,0]
["80","",{"$f":"C357+C236+C115","v":0},0,0,0,0,0,0,{"$f":"J357+J236+J115","v":0},0,0,0,0]
["81","",{"$f":"C358+C237+C116","v":0},0,0,0,0,0,0,{"$f":"J358+J237+J116","v":0},0,0,0,0]
["82","",{"$f":"C359+C238+C117","v":0},0,0,0,0,0,0,{"$f":"J359+J238+J117","v":0},0,0,0,0]
["83","",{"$f":"C360+C239+C118","v":0},0,0,0,0,0,0,{"$f":"J360+J239+J118","v":0},0,0,0,0]
["84","",{"$f":"C361+C240+C119","v":0},0,0,0,0,0,0,{"$f":"J361+J240+J119","v":0},0,0,0,0]
["85","",{"$f":"C362+C241+C120","v":0},0,0,0,0,0,0,{"$f":"J362+J241+J120","v":0},0,0,0,0]
["86","",{"$f":"C363+C242+C121","v":0},0,0,0,0,0,0,{"$f":"J363+J242+J121","v":0},0,0,0,0]
["87","",{"$f":"C364+C243+C122","v":0},0,0,0,0,0,0,{"$f":"J364+J243+J122","v":0},0,0,0,0]
["88","",{"$f":"C365+C244+C123","v":0},0,0,0,0,0,0,{"$f":"J365+J244+J123","v":0},0,0,0,0]
["89","",{"$f":"C366+C245+C124","v":0},0,0,0,0,0,0,{"$f":"J366+J245+J124","v":0},0,0,0,0]
["90","",{"$f":"C367+C246+C125","v":0},0,0,0,0,0,0,{"$f":"J367+J246+J125","v":0},0,0,0,0]
["91","",{"$f":"C368+C247+C126","v":0},0,0,0,0,0,0,{"$f":"J368+J247+J126","v":0},0,0,0,0]
["92","",{"$f":"C369+C248+C127","v":0},0,0,0,0,0,0,{"$f":"J369+J248+J127","v":0},0,0,0,0]
["93","",{"$f":"C370+C249+C128","v":0},0,0,0,0,0,0,{"$f":"J370+J249+J128","v":0},0,0,0,0]
["94","",{"$f":"C371+C250+C129","v":0},0,0,0,0,0,0,{"$f":"J371+J250+J129","v":0},0,0,0,0]
["95","",{"$f":"C372+C251+C130","v":0},0,0,0,0,0,0,{"$f":"J372+J251+J130","v":0},0,0,0,0]
["96","",{"$f":"C373+C252+C131","v":0},0,0,0,0,0,0,{"$f":"J373+J252+J131","v":0},0,0,0,0]
["97","",{"$f":"C374+C253+C132","v":0},0,0,0,0,0,0,{"$f":"J374+J253+J132","v":0},0,0,0,0]
["98","",{"$f":"C375+C254+C133","v":0},0,0,0,0,0,0,{"$f":"J375+J254+J133","v":0},0,0,0,0]
["99","",{"$f":"C376+C255+C134","v":0},0,0,0,0,0,0,{"$f":"J376+J255+J134","v":0},0,0,0,0]
["100","",{"$f":"C377+C256+C135","v":0},0,0,0,0,0,0,{"$f":"J377+J256+J135","v":0},0,0,0,0]
["101","",{"$f":"C378+C257+C136","v":0},0,0,0,0,0,0,{"$f":"J378+J257+J136","v":0},0,0,0,0]
["102","",{"$f":"C379+C258+C137","v":0},0,0,0,0,0,0,{"$f":"J379+J258+J137","v":0},0,0,0,0]
["103","",{"$f":"C380+C259+C138","v":0},0,0,0,0,0,0,{"$f":"J380+J259+J138","v":0},0,0,0,0]
["104","",{"$f":"C381+C260+C139","v":0},0,0,0,0,0,0,{"$f":"J381+J260+J139","v":0},0,0,0,0]
["105","",{"$f":"C382+C261+C140","v":0},0,0,0,0,0,0,{"$f":"J382+J261+J140","v":0},0,0,0,0]
["106","",{"$f":"C383+C262+C141","v":0},0,0,0,0,0,0,{"$f":"J383+J262+J141","v":0},0,0,0,0]
["107","",{"$f":"C384+C263+C142","v":0},0,0,0,0,0,0,{"$f":"J384+J263+J142","v":0},0,0,0,0]
["108","",{"$f":"C385+C264+C143","v":0},0,0,0,0,0,0,{"$f":"J385+J264+J143","v":0},0,0,0,0]
["109","",{"$f":"C386+C265+C144","v":0},0,0,0,0,0,0,{"$f":"J386+J265+J144","v":0},0,0,0,0]
["110","",{"$f":"C387+C266+C145","v":0},0,0,0,0,0,0,{"$f":"J387+J266+J145","v":0},0,0,0,0]
["111","",{"$f":"C388+C267+C146","v":0},0,0,0,0,0,0,{"$f":"J388+J267+J146","v":0},0,0,0,0]
["112","",{"$f":"C389+C268+C147","v":0},0,0,0,0,0,0,{"$f":"J389+J268+J147","v":0},0,0,0,0]
["113","",{"$f":"C390+C269+C148","v":0},0,0,0,0,0,0,{"$f":"J390+J269+J148","v":0},0,0,0,0]
["114","",{"$f":"C391+C270+C149","v":0},0,0,0,0,0,0,{"$f":"J391+J270+J149","v":0},0,0,0,0]
["115","",{"$f":"C392+C271+C150","v":0},0,0,0,0,0,0,{"$f":"J392+J271+J150","v":0},0,0,0,0]
["Ogółem:",null,{"$f":"SUM(C402:C516)","v":0},{"$f":"SUM(D402:D516)","v":0},{"$f":"SUM(E402:E516)","v":0},{"$f":"SUM(F402:F516)","v":0},null,null,null,{"$f":"SUM(J402:J516)","v":0},{"$f":"SUM(K402:K516)","v":0},{"$f":"SUM(L402:L516)","v":0},{"$f":"SUM(M402:M516)","v":0},{"$f":"SUMIF(N402:N516,\">0\")","v":0}]
[]
["C.1 Oświadczenie"]
["Oświadczam, że dane zawarte w załączniku są kompletne i zgodne ze stanem faktycznym."]
[]
["Dopłata z Funduszu rozwoju przewozów autobusowych niewykorzystana w okresie rozliczeniowym wynosi:",null,null,null,null,null,null,null,{"$f":"ROUND(N151+N272+N393,2)","v":0},null,"zł"]
[]
[]
[]
[null,null,null,null,"dane osób działających w imieniu organizatora publicznego transportu zbiorowego składających kwalifikowany podpis elektroniczny pod wnioskiem "]
[]
[null,null,null,null,"kontrasygnata Skarbnika/Głównego księgowego budżetu  - dane osoby składającej kwalifikowany podpis elektroniczny"]
[]
[]
[null,"Termin składania rozliczenia za ",null,{"$f":"F21","v":""},"upływa",{"$f":"IF(F21=Miesiące!A2,Miesiące!I2,IF('Rozliczenie kwartalne'!F21=Miesiące!A3,Miesiące!I3,IF('Rozliczenie kwartalne'!F21=Miesiące!A4,Miesiące!I4,IF('Rozliczenie kwartalne'!F21=Miesiące!A5,Miesiące!I5,\"\"))))","v":""}]
["Uwagi - wypełnić w przypadku korekty rozliczenia:",null,null,null,null,null,null,null,null,null,null,null,null,"ver. 3.2"]

{"sheet":"Załącznik nr 1 do rozliczenia","index":1,"n_rows":401,"n_cols":8,"rows_kept":401,"cut":false,"hidden":false,"merged":[[81,7,81,8],[82,7,82,8],[83,7,83,8],[84,7,84,8],[85,7,85,8],[262,5,262,6],[258,7,258,8],[259,7,259,8],[260,7,260,8],[261,7,261,8],[262,7,262,8],[380,1,380,2],[381,1,381,2],[382,1,382,2],[383,1,383,2],[384,1,384,2],[380,3,380,4],[381,3,381,4],[382,3,382,4],[383,3,383,4],[384,3,384,4],[380,5,380,6],[381,5,381,6],[382,5,382,6],[383,5,383,6],[384,5,384,6],[380,7,380,8],[381,7,381,8],[382,7,382,8],[383,7,383,8],[384,7,384,8],[377,7,377,8],[136,3,136,4],[137,3,137,4],[138,3,138,4],[139,3,139,4],[140,3,140,4],[136,5,136,6],[137,5,137,6],[138,5,138,6],[139,5,139,6],[140,5,140,6],[136,7,136,8],[137,7,137,8],[138,7,138,8],[139,7,139,8],[140,7,140,8],[108,7,108,8],[109,7,109,8],[110,7,110,8],[111,7,111,8],[129,5,129,6],[130,5,130,6],[121,5,121,6],[122,5,122,6],[123,5,123,6],[125,5,125,6],[126,5,126,6],[127,5,127,6],[128,5,128,6],[111,5,111,6],[112,5,112,6],[113,5,113,6],[114,5,114,6],[396,5,396,6],[390,0,390,2],[390,3,390,4],[390,5,390,6],[390,7,390,8],[388,1,388,2],[388,3,388,4],[388,5,388,6],[388,7,388,8],[389,1,389,2],[389,3,389,4],[389,5,389,6],[389,7,389,8],[385,1,385,2],[385,3,385,4],[385,5,385,6],[385,7,385,8],[386,1,386,2],[386,3,386,4],[386,5,386,6],[386,7,386,8],[387,1,387,2],[387,3,387,4],[387,5,387,6],[387,7,387,8],[379,3,379,4],[379,5,379,6],[379,7,379,8],[374,1,374,2],[374,3,374,4],[374,5,374,6],[374,7,374,8],[375,1,375,2],[375,3,375,4],[375,5,375,6],[375,7,375,8],[376,1,376,2],[376,3,376,4],[376,5,376,6],[376,7,376,8],[377,1,377,2],[377,3,377,4],[377,5,377,6],[378,1,378,2],[378,3,378,4],[378,5,378,6],[378,7,378,8],[379,1,379,2],[371,1,371,2],[371,3,371,4],[371,5,371,6],[371,7,371,8],[372,1,372,2],[372,3,372,4],[372,5,372,6],[372,7,372,8],[373,1,373,2],[373,3,373,4],[373,5,373,6],[373,7,373,8],[368,1,368,2],[368,3,368,4],[368,5,368,6],[368,7,368,8],[369,1,369,2],[369,3,369,4],[369,5,369,6],[369,7,369,8],[370,1,370,2],[370,3,370,4],[370,5,370,6],[370,7,370,8],[365,1,365,2],[365,3,365,4],[365,5,365,6],[365,7,365,8],[366,1,366,2],[366,3,366,4],[366,5,366,6],[366,7,366,8],[367,1,367,2],[367,3,367,4],[367,5,367,6],[367,7,367,8],[362,1,362,2],[362,3,362,4],[362,5,362,6],[362,7,362,8],[363,1,363,2],[363,3,363,4],[363,5,363,6],[363,7,363,8],[364,1,364,2],[364,3,364,4],[364,5,364,6],[364,7,364,8],[359,1,359,2],[359,3,359,4],[359,5,359,6],[359,7,359,8],[360,1,360,2],[360,3,360,4],[360,5,360,6],[360,7,360,8],[361,1,361,2],[361,3,361,4],[361,5,361,6],[361,7,361,8],[356,1,356,2],[356,3,356,4],[356,5,356,6],[356,7,356,8],[357,1,357,2],[357,3,357,4],[357,5,357,6],[357,7,357,8],[358,1,358,2],[358,3,358,4],[358,5,358,6],[358,7,358,8],[353,1,353,2],[353,3,353,4],[353,5,353,6],[353,7,353,8],[354,1,354,2],[354,3,354,4],[354,5,354,6],[354,7,354,8],[355,1,355,2],[355,3,355,4],[355,5,355,6],[355,7,355,8],[350,1,350,2],[350,3,350,4],[350,5,350,6],[350,7,350,8],[351,1,351,2],[351,3,351,4],[351,5,351,6],[351,7,351,8],[352,1,352,2],[352,3,352,4],[352,5,352,6],[352,7,352,8],[347,1,347,2],[347,3,347,4],[347,5,347,6],[347,7,347,8],[348,1,348,2],[348,3,348,4],[348,5,348,6],[348,7,348,8],[349,1,349,2],[349,3,349,4],[349,5,349,6],[349,7,349,8],[344,1,344,2],[344,3,344,4],[344,5,344,6],[344,7,344,8],[345,1,345,2],[345,3,345,4],[345,5,345,6],[345,7,345,8],[346,1,346,2],[346,3,346,4],[346,5,346,6],[346,7,346,8],[341,1,341,2],[341,3,341,4],[341,5,341,6],[341,7,341,8],[342,1,342,2],[342,3,342,4],[342,5,342,6],[342,7,342,8],[343,1,343,2],[343,3,343,4],[343,5,343,6],[343,7,343,8],[338,1,338,2],[338,3,338,4],[338,5,338,6],[338,7,338,8],[339,1,339,2],[339,3,339,4],[339,5,339,6],[339,7,339,8],[340,1,340,2],[340,3,340,4],[340,5,340,6],[340,7,340,8],[335,1,335,2],[335,3,335,4],[335,5,335,6],[335,7,335,8],[336,1,336,2],[336,3,336,4],[336,5,336,6],[336,7,336,8],[337,1,337,2],[337,3,337,4],[337,5,337,6],[337,7,337,8],[332,1,332,2],[332,3,332,4],[332,5,332,6],[332,7,332,8],[333,1,333,2],[333,3,333,4],[333,5,333,6],[333,7,333,8],[334,1,334,2],[334,3,334,4],[334,5,334,6],[334,7,334,8],[329,1,329,2],[329,3,329,4],[329,5,329,6],[329,7,329,8],[330,1,330,2],[330,3,330,4],[330,5,330,6],[330,7,330,8],[331,1,331,2],[331,3,331,4],[331,5,331,6],[331,7,331,8],[326,1,326,2],[326,3,326,4],[326,5,326,6],[326,7,326,8],[327,1,327,2],[327,3,327,4],[327,5,327,6],[327,7,327,8],[328,1,328,2],[328,3,328,4],[328,5,328,6],[328,7,328,8],[323,1,323,2],[323,3,323,4],[323,5,323,6],[323,7,323,8],[324,1,324,2],[324,3,324,4],[324,5,324,6],[324,7,324,8],[325,1,325,2],[325,3,325,4],[325,5,325,6],[325,7,325,8],[320,1,320,2],[320,3,320,4],[320,5,320,6],[320,7,320,8],[321,1,321,2],[321,3,321,4],[321,5,321,6],[321,7,321,8],[322,1,322,2],[322,3,322,4],[322,5,322,6],[322,7,322,8],[317,1,317,2],[317,3,317,4],[317,5,317,6],[317,7,317,8],[318,1,318,2],[318,3,318,4],[318,5,318,6],[318,7,318,8],[319,1,319,2],[319,3,319,4],[319,5,319,6],[319,7,319,8],[314,1,314,2],[314,3,314,4],[314,5,314,6],[314,7,314,8],[315,1,315,2],[315,3,315,4],[315,5,315,6],[315,7,315,8],[316,1,316,2],[316,3,316,4],[316,5,316,6],[316,7,316,8],[311,1,311,2],[311,3,311,4],[311,5,311,6],[311,7,311,8],[312,1,312,2],[312,3,312,4],[312,5,312,6],[312,7,312,8],[313,1,313,2],[313,3,313,4],[313,5,313,6],[313,7,313,8],[308,1,308,2],[308,3,308,4],[308,5,308,6],[308,7,308,8],[309,1,309,2],[309,3,309,4],[309,5,309,6],[309,7,309,8],[310,1,310,2],[310,3,310,4],[310,5,310,6],[310,7,310,8],[305,1,305,2],[305,3,305,4],[305,5,305,6],[305,7,305,8],[306,1,306,2],[306,3,306,4],[306,5,306,6],[306,7,306,8],[307,1,307,2],[307,3,307,4],[307,5,307,6],[307,7,307,8],[302,1,302,2],[302,3,302,4],[302,5,302,6],[302,7,302,8],[303,1,303,2],[303,3,303,4],[303,5,303,6],[303,7,303,8],[304,1,304,2],[304,3,304,4],[304,5,304,6],[304,7,304,8],[299,1,299,2],[299,3,299,4],[299,5,299,6],[299,7,299,8],[300,1,300,2],[300,3,300,4],[300,5,300,6],[300,7,300,8],[301,1,301,2],[301,3,301,4],[301,5,301,6],[301,7,301,8],[296,1,296,2],[296,3,296,4],[296,5,296,6],[296,7,296,8],[297,1,297,2],[297,3,297,4],[297,5,297,6],[297,7,297,8],[298,1,298,2],[298,3,298,4],[298,5,298,6],[298,7,298,8],[294,1,294,2],[294,3,294,4],[294,5,294,6],[294,7,294,8],[295,1,295,2],[295,3,295,4],[295,5,295,6],[295,7,295,8],[290,1,290,2],[290,3,290,4],[290,5,290,6],[290,7,290,8],[291,1,291,2],[291,3,291,4],[291,5,291,6],[291,7,291,8],[292,1,292,2],[292,3,292,4],[292,5,292,6],[292,7,292,8],[289,1,289,2],[289,3,289,4],[289,5,289,6],[289,7,289,8],[284,5,284,6],[284,7,284,8],[285,1,285,2],[285,3,285,4],[285,5,285,6],[285,7,285,8],[286,1,286,2],[286,3,286,4],[286,5,286,6],[286,7,286,8],[293,1,293,2],[293,3,293,4],[293,5,293,6],[293,7,293,8],[284,1,284,2],[284,3,284,4],[281,1,281,2],[281,3,281,4],[281,5,281,6],[281,7,281,8],[282,1,282,2],[282,3,282,4],[282,5,282,6],[282,7,282,8],[287,1,287,2],[287,3,287,4],[287,5,287,6],[287,7,287,8],[288,1,288,2],[288,3,288,4],[288,5,288,6],[288,7,288,8],[283,5,283,6],[283,7,283,8],[283,1,283,2],[283,3,283,4],[280,1,280,2],[280,3,280,4],[280,5,280,6],[280,7,280,8],[278,1,278,2],[278,3,278,4],[278,5,278,6],[278,7,278,8],[279,1,279,2],[279,3,279,4],[279,5,279,6],[279,7,279,8],[275,1,275,2],[275,3,275,4],[275,5,275,6],[275,7,275,8],[276,1,276,2],[265,3,265,4],[265,5,265,6],[265,7,265,8],[266,1,266,2],[266,3,266,4],[266,5,266,6],[266,7,266,8],[267,1,267,2],[267,3,267,4],[267,5,267,6],[267,7,267,8],[276,7,276,8],[277,1,277,2],[277,3,277,4],[277,5,277,6],[277,7,277,8],[272,3,272,4],[272,5,272,8],[273,1,273,2],[273,3,273,4],[273,5,273,6],[273,7,273,8],[274,1,274,2],[274,3,274,4],[274,5,274,6],[274,7,274,8],[276,3,276,4],[276,5,276,6],[268,0,268,2],[268,3,268,4],[268,5,268,6],[268,7,268,8],[263,5,263,6],[263,7,263,8],[264,1,264,2],[264,3,264,4],[264,5,264,6],[264,7,264,8],[254,1,254,2],[254,3,254,4],[254,5,254,6],[254,7,254,8],[255,1,255,2],[255,3,255,4],[255,5,255,6],[255,7,255,8],[256,1,256,2],[256,3,256,4],[256,5,256,6],[256,7,256,8],[258,1,258,2],[259,1,259,2],[260,1,260,2],[261,1,261,2],[262,1,262,2],[258,3,258,4],[259,3,259,4],[260,3,260,4],[261,3,261,4],[262,3,262,4],[258,5,258,6],[259,5,259,6],[260,5,260,6],[261,5,261,6],[271,0,271,8],[265,1,265,2],[251,1,251,2],[251,3,251,4],[251,5,251,6],[251,7,251,8],[252,1,252,2],[252,3,252,4],[252,5,252,6],[252,7,252,8],[253,1,253,2],[253,3,253,4],[253,5,253,6],[253,7,253,8],[248,1,248,2],[248,3,248,4],[248,5,248,6],[248,7,248,8],[249,1,249,2],[249,3,249,4],[249,5,249,6],[249,7,249,8],[250,1,250,2],[250,3,250,4],[250,5,250,6],[250,7,250,8],[257,1,257,2],[257,3,257,4],[257,5,257,6],[257,7,257,8],[263,1,263,2],[263,3,263,4],[245,1,245,2],[245,3,245,4],[245,5,245,6],[245,7,245,8],[246,1,246,2],[246,3,246,4],[246,5,246,6],[246,7,246,8],[247,1,247,2],[247,3,247,4],[247,5,247,6],[247,7,247,8],[242,1,242,2],[242,3,242,4],[242,5,242,6],[242,7,242,8],[243,1,243,2],[243,3,243,4],[243,5,243,6],[243,7,243,8],[244,1,244,2],[244,3,244,4],[244,5,244,6],[244,7,244,8],[239,1,239,2],[239,3,239,4],[239,5,239,6],[239,7,239,8],[240,1,240,2],[240,3,240,4],[240,5,240,6],[240,7,240,8],[241,1,241,2],[241,3,241,4],[241,5,241,6],[241,7,241,8],[236,1,236,2],[236,3,236,4],[236,5,236,6],[236,7,236,8],[237,1,237,2],[237,3,237,4],[237,5,237,6],[237,7,237,8],[238,1,238,2],[238,3,238,4],[238,5,238,6],[238,7,238,8],[233,1,233,2],[233,3,233,4],[233,5,233,6],[233,7,233,8],[234,1,234,2],[234,3,234,4],[234,5,234,6],[234,7,234,8],[235,1,235,2],[235,3,235,4],[235,5,235,6],[235,7,235,8],[230,1,230,2],[230,3,230,4],[230,5,230,6],[230,7,230,8],[231,1,231,2],[231,3,231,4],[231,5,231,6],[231,7,231,8],[232,1,232,2],[232,3,232,4],[232,5,232,6],[232,7,232,8],[227,1,227,2],[227,3,227,4],[227,5,227,6],[227,7,227,8],[228,1,228,2],[228,3,228,4],[228,5,228,6],[228,7,228,8],[229,1,229,2],[229,3,229,4],[229,5,229,6],[229,7,229,8],[224,1,224,2],[224,3,224,4],[224,5,224,6],[224,7,224,8],[225,1,225,2],[225,3,225,4],[225,5,225,6],[225,7,225,8],[226,1,226,2],[226,3,226,4],[226,5,226,6],[226,7,226,8],[221,1,221,2],[221,3,221,4],[221,5,221,6],[221,7,221,8],[222,1,222,2],[222,3,222,4],[222,5,222,6],[222,7,222,8],[223,1,223,2],[223,3,223,4],[223,5,223,6],[223,7,223,8],[218,1,218,2],[218,3,218,4],[218,5,218,6],[218,7,218,8],[219,1,219,2],[219,3,219,4],[219,5,219,6],[219,7,219,8],[220,1,220,2],[220,3,220,4],[220,5,220,6],[220,7,220,8],[215,1,215,2],[215,3,215,4],[215,5,215,6],[215,7,215,8],[216,1,216,2],[216,3,216,4],[216,5,216,6],[216,7,216,8],[217,1,217,2],[217,3,217,4],[217,5,217,6],[217,7,217,8],[212,1,212,2],[212,3,212,4],[212,5,212,6],[212,7,212,8],[213,1,213,2],[213,3,213,4],[213,5,213,6],[213,7,213,8],[214,1,214,2],[214,3,214,4],[214,5,214,6],[214,7,214,8],[209,1,209,2],[209,3,209,4],[209,5,209,6],[209,7,209,8],[210,1,210,2],[210,3,210,4],[210,5,210,6],[210,7,210,8],[211,1,211,2],[211,3,211,4],[211,5,211,6],[211,7,211,8],[206,1,206,2],[206,3,206,4],[206,5,206,6],[206,7,206,8],[207,1,207,2],[207,3,207,4],[207,5,207,6],[207,7,207,8],[208,1,208,2],[208,3,208,4],[208,5,208,6],[208,7,208,8],[203,1,203,2],[203,3,203,4],[203,5,203,6],[203,7,203,8],[204,1,204,2],[204,3,204,4],[204,5,204,6],[204,7,204,8],[205,1,205,2],[205,3,205,4],[205,5,205,6],[205,7,205,8],[200,1,200,2],[200,3,200,4],[200,5,200,6],[200,7,200,8],[201,1,201,2],[201,3,201,4],[201,5,201,6],[201,7,201,8],[202,1,202,2],[202,3,202,4],[202,5,202,6],[202,7,202,8],[197,1,197,2],[197,3,197,4],[197,5,197,6],[197,7,197,8],[198,1,198,2],[198,3,198,4],[198,5,198,6],[198,7,198,8],[199,1,199,2],[199,3,199,4],[199,5,199,6],[199,7,199,8],[194,1,194,2],[194,3,194,4],[194,5,194,6],[194,7,194,8],[195,1,195,2],[195,3,195,4],[195,5,195,6],[195,7,195,8],[196,1,196,2],[196,3,196,4],[196,5,196,6],[196,7,196,8],[191,1,191,2],[191,3,191,4],[191,5,191,6],[191,7,191,8],[192,1,192,2],[192,3,192,4],[192,5,192,6],[192,7,192,8],[193,1,193,2],[193,3,193,4],[193,5,193,6],[193,7,193,8],[188,1,188,2],[188,3,188,4],[188,5,188,6],[188,7,188,8],[189,1,189,2],[189,3,189,4],[189,5,189,6],[189,7,189,8],[190,1,190,2],[190,3,190,4],[190,5,190,6],[190,7,190,8],[185,1,185,2],[185,3,185,4],[185,5,185,6],[185,7,185,8],[186,1,186,2],[186,3,186,4],[186,5,186,6],[186,7,186,8],[187,1,187,2],[187,3,187,4],[187,5,187,6],[187,7,187,8],[182,1,182,2],[182,3,182,4],[182,5,182,6],[182,7,182,8],[183,1,183,2],[183,3,183,4],[183,5,183,6],[183,7,183,8],[184,1,184,2],[184,3,184,4],[184,5,184,6],[184,7,184,8],[179,1,179,2],[179,3,179,4],[179,5,179,6],[179,7,179,8],[180,1,180,2],[180,3,180,4],[180,5,180,6],[180,7,180,8],[181,1,181,2],[181,3,181,4],[181,5,181,6],[181,7,181,8],[176,1,176,2],[176,3,176,4],[176,5,176,6],[176,7,176,8],[177,1,177,2],[177,3,177,4],[177,5,177,6],[177,7,177,8],[178,1,178,2],[178,3,178,4],[178,5,178,6],[178,7,178,8],[173,1,173,2],[173,3,173,4],[173,5,173,6],[173,7,173,8],[174,1,174,2],[174,3,174,4],[174,5,174,6],[174,7,174,8],[175,1,175,2],[175,3,175,4],[175,5,175,6],[175,7,175,8],[170,1,170,2],[170,3,170,4],[170,5,170,6],[170,7,170,8],[171,1,171,2],[171,3,171,4],[171,5,171,6],[171,7,171,8],[172,1,172,2],[172,3,172,4],[172,5,172,6],[172,7,172,8],[167,1,167,2],[167,3,167,4],[167,5,167,6],[167,7,167,8],[168,1,168,2],[168,3,168,4],[168,5,168,6],[168,7,168,8],[169,1,169,2],[169,3,169,4],[169,5,169,6],[169,7,169,8],[164,1,164,2],[164,3,164,4],[164,5,164,6],[164,7,164,8],[165,1,165,2],[165,3,165,4],[165,5,165,6],[165,7,165,8],[166,1,166,2],[166,3,166,4],[166,5,166,6],[166,7,166,8],[161,1,161,2],[161,3,161,4],[161,5,161,6],[161,7,161,8],[162,1,162,2],[162,3,162,4],[162,5,162,6],[162,7,162,8],[163,1,163,2],[163,3,163,4],[163,5,163,6],[163,7,163,8],[158,1,158,2],[158,3,158,4],[158,5,158,6],[158,7,158,8],[159,1,159,2],[159,3,159,4],[159,5,159,6],[159,7,159,8],[160,1,160,2],[160,3,160,4],[160,5,160,6],[160,7,160,8],[155,1,155,2],[155,3,155,4],[155,5,155,6],[155,7,155,8],[156,1,156,2],[156,3,156,4],[156,5,156,6],[156,7,156,8],[157,1,157,2],[157,3,157,4],[157,5,157,6],[157,7,157,8],[130,7,130,8],[392,0,392,7],[149,0,149,8],[150,3,150,4],[150,5,150,8],[151,1,151,2],[151,3,151,4],[151,5,151,6],[151,7,151,8],[152,1,152,2],[152,3,152,4],[152,5,152,6],[152,7,152,8],[153,1,153,2],[153,3,153,4],[153,5,153,6],[153,7,153,8],[154,1,154,2],[154,3,154,4],[154,5,154,6],[102,7,102,8],[154,7,154,8],[143,7,143,8],[122,7,122,8],[123,7,123,8],[124,7,124,8],[125,7,125,8],[126,7,126,8],[127,7,127,8],[128,7,128,8],[129,7,129,8]],"merged_total":1442,"flags":["merged_cut"]}
[]
[null,null,null,null,null,null,"          (miejscowość, data)"]
[]
[]
[null,"A1. ORGANIZATOR PUBLICZNEGO TRANSPORTU ZBIOROWEGO\n(dane wypełnią się automatycznie po wpisaniu poprawnego numeru umowy w części A.3)"]
[null,"Nazwa organizatora publicznego transportu zbiorowego",{"$f":"'Rozliczenie kwartalne'!C6","v":""}]
[null,"NIP",{"$f":"'Rozliczenie kwartalne'!C7","v":""}]
[null,"REGON",{"$f":"'Rozliczenie kwartalne'!C8","v":""}]
[null,"Adres",{"$f":"'Rozliczenie kwartalne'!C9","v":""}]
[null,"Powiat",{"$f":"'Rozliczenie kwartalne'!C10","v":""}]
[null,"Województwo","mazowieckie"]
[null,"Numer dysponenta",{"$f":"'Rozliczenie kwartalne'!C12","v":""}]
[null,"A2. Dane osoby do kontaktu w sprawie wniosku"]
[null,"Imię",{"$f":"IF('Rozliczenie kwartalne'!C14=\"\",\"\",'Rozliczenie kwartalne'!C14)","v":""}]
[null,"Nazwisko",{"$f":"IF('Rozliczenie kwartalne'!C15=\"\",\"\",'Rozliczenie kwartalne'!C15)","v":""}]
[null,"Telefon ",{"$f":"IF('Rozliczenie kwartalne'!C16=\"\",\"\",'Rozliczenie kwartalne'!C16)","v":""}]
[null,"Adres e-mail",{"$f":"IF('Rozliczenie kwartalne'!C17=\"\",\"\",'Rozliczenie kwartalne'!C17)","v":""}]
[]
[null,null,null,"Wojewoda Mazowiecki\nWydział Infrastruktury i Rolnictwa\npl. Bankowy 3/5\n00-950 Warszawa"]
[]
["              ZAŁĄCZNIK NUMER 1 DO ROZLICZENIA DOPŁAT ZA ",null,null,null,null," 2026 ROKU - KALKULACJA "]
[]
[" DEFICYTU NA LINIACH KOMUNIKACYJNYCH "]
[]
[]
[]
[]
["B.1  Dane dotyczące linii komunikacyjnych "]
[null,null,"MIESIĄC",{"$f":"IF(E22=Miesiące!A2,Miesiące!B2,IF(E22=Miesiące!A3,Miesiące!B5,IF(E22=Miesiące!A4,Miesiące!B8,IF(E22=Miesiące!A5,Miesiące!B11,\"\"))))","v":""},null,"2026 r."]
["Lp.","Nazwa linii komunikacyjnej",null,"Suma kosztów osiągniętych na linii komunikacyjnej \n[zł]",null,"Suma przychodów osiągniętych na linii komunikacyjnych \n[zł]",null,"Wynik finansowy linii komunikacyjnej - deficyt \n[zł] "]
[" ","2",null,"3",null,"4",null,"5"]
["1","",null,null,null,null,null,{"$f":"F32-D32","v":0}]
["2","",null,null,null,null,null,{"$f":"F33-D33","v":0}]
["3","",null,null,null,null,null,0]
["4","",null,null,null,null,null,0]
["5","",null,null,null,null,null,0]
["6","",null,null,null,null,null,0]
["7","",null,null,null,null,null,0]
["8","",null,null,null,null,null,0]
["9","",null,null,null,null,null,0]
["10","",null,null,null,null,null,0]
["11","",null,null,null,null,null,0]
["12","",null,null,null,null,null,0]
["13","",null,null,null,null,null,0]
["14","",null,null,null,null,null,0]
["15","",null,null,null,null,null,0]
["16","",null,null,null,null,null,0]
["17","",null,null,null,null,null,0]
["18","",null,null,null,null,null,0]
["19","",null,null,null,null,null,0]
["20","",null,null,null,null,null,0]
["21","",null,null,null,null,null,0]
["22","",null,null,null,null,null,0]
["23","",null,null,null,null,null,0]
["24","",null,null,null,null,null,0]
["25","",null,null,null,null,null,0]
["26","",null,null,null,null,null,0]
["27","",null,null,null,null,null,0]
["28","",null,null,null,null,null,0]
["29","",null,null,null,null,null,0]
["30","",null,null,null,null,null,0]
["31","",null,null,null,null,null,0]
["32","",null,null,null,null,null,0]
["33","",null,null,null,null,null,0]
["34","",null,null,null,null,null,0]
["35","",null,null,null,null,null,0]
["36","",null,null,null,null,null,0]
["37","",null,null,null,null,null,0]
["38","",null,null,null,null,null,0]
["39","",null,null,null,null,null,0]
["40","",null,null,null,null,null,0]
["41","",null,null,null,null,null,0]
["42","",null,null,null,null,null,0]
["43","",null,null,null,null,null,0]
["44","",null,null,null,null,null,0]
["45","",null,null,null,null,null,0]
["46","",null,null,null,null,null,0]
["47","",null,null,null,null,null,0]
["48","",null,null,null,null,null,0]
["49","",null,null,null,null,null,0]
["50","",null,null,null,null,null,0]
["51","",null,null,null,null,null,{"$f":"F82-D82","v":0}]
["52","",null,null,null,null,null,0]
["53","",null,null,null,null,null,0]
["54","",null,null,null,null,null,0]
["55","",null,null,null,null,null,0]
["56","",null,null,null,null,null,0]
["57","",null,null,null,null,null,0]
["58","",null,null,null,null,null,0]
["59","",null,null,null,null,null,0]
["60","",null,null,null,null,null,0]
["61","",null,null,null,null,null,0]
["62","",null,null,null,null,null,0]
["63","",null,null,null,null,null,0]
["64","",null,null,null,null,null,0]
["65","",null,null,null,null,null,0]
["66","",null,null,null,null,null,0]
["67","",null,null,null,null,null,0]
["68","",null,null,null,null,null,0]
["69","",null,null,null,null,null,0]
["70","",null,null,null,null,null,0]
["71","",null,null,null,null,null,0]
["72","",null,null,null,null,null,0]
["73","",null,null,null,null,null,0]
["74","",null,null,null,null,null,0]
["75","",null,null,null,null,null,0]
["76","",null,null,null,null,null,0]
["77","",null,null,null,null,null,0]
["78","",null,null,null,null,null,0]
["79","",null,null,null,null,null,0]
["80","",null,null,null,null,null,0]
["81","",null,null,null,null,null,0]
["82","",null,null,null,null,null,0]
["83","",null,null,null,null,null,0]
["84","",null,null,null,null,null,0]
["85","",null,null,null,null,null,0]
["86","",null,null,null,null,null,0]
["87","",null,null,null,null,null,0]
["88","",null,null,null,null,null,0]
["89","",null,null,null,null,null,0]
["90","",null,null,null,null,null,0]
["91","",null,null,null,null,null,0]
["92","",null,null,null,null,null,0]
["93","",null,null,null,null,null,0]
["94","",null,null,null,null,null,0]
["95","",null,null,null,null,null,0]
["96","",null,null,null,null,null,0]
["97","",null,null,null,null,null,0]
["98","",null,null,null,null,null,0]
["99","",null,null,null,null,null,0]
["100","",null,null,null,null,null,0]
["101","",null,null,null,null,null,0]
["102","",null,null,null,null,null,0]
["103","",null,null,null,null,null,0]
["104","",null,null,null,null,null,0]
["105","",null,null,null,null,null,0]
["106","",null,null,null,null,null,{"$f":"F137-D137","v":0}]
["107","",null,null,null,null,null,0]
["108","",null,null,null,null,null,0]
["109","",null,null,null,null,null,0]
["110","",null,null,null,null,null,0]
["111","",null,null,null,null,null,0]
["112","",null,null,null,null,null,{"$f":"F143-D143","v":0}]
["113","",null,null,null,null,null,0]
["114","",null,null,null,null,null,0]
["115","",null,null,null,null,null,0]
["Ogółem:",null,null,{"$f":"SUM(D32:D146)","v":0},null,{"$f":"SUM(F32:F146)","v":0},null,{"$f":"SUMIF(H32:H146,\"<0\")","v":0}]
[]
[]
["B.2  Dane dotyczące linii komunikacyjnych "]
[null,null,"MIESIĄC",{"$f":"IF(E22=Miesiące!A2,Miesiące!B3,IF(E22=Miesiące!A3,Miesiące!B6,IF(E22=Miesiące!A4,Miesiące!B9,IF(E22=Miesiące!A5,Miesiące!B12,\"\"))))","v":""},null,"2026 r."]
["Lp.","Nazwa linii komunikacyjnej",null,"Suma kosztów osiągniętych na linii komunikacyjnej \n[zł]",null,"Suma przychodów osiągniętych na linii komunikacyjnych \n[zł]",null,"Wynik finansowy linii komunikacyjnej - deficyt \n[zł] "]
[1,"2",null,"3",null,"4",null,"5"]
["1",{"$f":"IF(B32=\"\",\"\",B32)","v":""},null,null,null,null,null,{"$f":"F154-D154","v":0}]
["2",{"$f":"IF(B33=\"\",\"\",B33)","v":""},null,null,null,null,null,{"$f":"F155-D155","v":0}]
["3","",null,null,null,null,null,0]
["4","",null,null,null,null,null,0]
["5","",null,null,null,null,null,0]
["6","",null,null,null,null,null,0]
["7","",null,null,null,null,null,0]
["8","",null,null,null,null,null,0]
["9","",null,null,null,null,null,0]
["10","",null,null,null,null,null,0]
["11","",null,null,null,null,null,0]
["12","",null,null,null,null,null,0]
["13","",null,null,null,null,null,0]
["14","",null,null,null,null,null,0]
["15","",null,null,null,null,null,0]
["16","",null,null,null,null,null,0]
["17","",null,null,null,null,null,0]
["18","",null,null,null,null,null,0]
["19","",null,null,null,null,null,0]
["20","",null,null,null,null,null,0]
["21","",null,null,null,null,null,0]
["22","",null,null,null,null,null,0]
["23","",null,null,null,null,null,0]
["24","",null,null,null,null,null,0]
["25","",null,null,null,null,null,0]
["26","",null,null,null,null,null,0]
["27","",null,null,null,null,null,0]
["28","",null,null,null,null,null,0]
["29","",null,null,null,null,null,0]
["30","",null,null,null,null,null,0]
["31","",null,null,null,null,null,0]
["32","",null,null,null,null,null,0]
["33","",null,null,null,null,null,0]
["34","",null,null,null,null,null,0]
["35","",null,null,null,null,null,0]
["36","",null,null,null,null,null,0]
["37","",null,null,null,null,null,0]
["38","",null,null,null,null,null,0]
["39","",null,null,null,null,null,0]
["40","",null,null,null,null,null,0]
["41","",null,null,null,null,null,0]
["42","",null,null,null,null,null,0]
["43","",null,null,null,null,null,0]
["44","",null,null,null,null,null,0]
["45","",null,null,null,null,null,0]
["46","",null,null,null,null,null,0]
["47","",null,null,null,null,null,0]
["48","",null,null,null,null,null,0]
["49","",null,null,null,null,null,0]
["50","",null,null,null,null,null,0]
["51","",null,null,null,null,null,0]
["52","",null,null,null,null,null,0]
["53","",null,null,null,null,null,0]
["54","",null,null,null,null,null,0]
["55","",null,null,null,null,null,0]
["56","",null,null,null,null,null,0]
["57","",null,null,null,null,null,0]
["58","",null,null,null,null,null,0]
["59","",null,null,null,null,null,0]
["60","",null,null,null,null,null,0]
["61","",null,null,null,null,null,0]
["62","",null,null,null,null,null,0]
["63","",null,null,null,null,null,0]
["64","",null,null,null,null,null,0]
["65","",null,null,null,null,null,0]
["66",{"$f":"IF(B97=\"\",\"\",B97)","v":""},null,null,null,null,null,{"$f":"F219-D219","v":0}]
["67","",null,null,null,null,null,0]
["68","",null,null,null,null,null,0]
["69","",null,null,null,null,null,0]
["70","",null,null,null,null,null,0]
["71","",null,null,null,null,null,0]
["72","",null,null,null,null,null,0]
["73","",null,null,null,null,null,0]
["74","",null,null,null,null,null,0]
["75","",null,null,null,null,null,0]
["76","",null,null,null,null,null,0]
["77","",null,null,null,null,null,0]
["78","",null,null,null,null,null,0]
["79","",null,null,null,null,null,0]
["80","",null,null,null,null,null,0]
["81","",null,null,null,null,null,0]
["82","",null,null,null,null,null,0]
["83","",null,null,null,null,null,0]
["84","",null,null,null,null,null,0]
["85","",null,null,null,null,null,0]
["86","",null,null,null,null,null,0]
["87","",null,null,null,null,null,0]
["88","",null,null,null,null,null,0]
["89","",null,null,null,null,null,0]
["90","",null,null,null,null,null,0]
["91","",null,null,null,null,null,0]
["92","",null,null,null,null,null,0]
["93","",null,null,null,null,null,0]
["94","",null,null,null,null,null,0]
["95","",null,null,null,null,null,0]
["96","",null,null,null,null,null,0]
["97","",null,null,null,null,null,0]
["98","",null,null,null,null,null,0]
["99","",null,null,null,null,null,0]
["100","",null,null,null,null,null,0]
["101","",null,null,null,null,null,0]
["102","",null,null,null,null,null,0]
["103","",null,null,null,null,null,0]
["104","",null,null,null,null,null,0]
["105","",null,null,null,null,null,0]
["106","",null,null,null,null,null,0]
["107","",null,null,null,null,null,0]
["108","",null,null,null,null,null,0]
["109","",null,null,null,null,null,0]
["110","",null,null,null,null,null,0]
["111","",null,null,null,null,null,0]
["112","",null,null,null,null,null,0]
["113","",null,null,null,null,null,0]
["114","",null,null,null,null,null,0]
["115","",null,null,null,null,null,0]
["Ogółem:",null,null,{"$f":"SUM(D154:D268)","v":0},null,{"$f":"SUM(F154:F268)","v":0},null,{"$f":"SUMIF(H154:H268,\"<0\")","v":0}]
[]
[]
["B.3  Dane dotyczące linii komunikacyjnych "]
[null,null,"MIESIĄC",{"$f":"IF(E22=Miesiące!A2,Miesiące!B4,IF(E22=Miesiące!A3,Miesiące!B7,IF(E22=Miesiące!A4,Miesiące!B10,IF(E22=Miesiące!A5,Miesiące!B13,\"\"))))","v":""},null,"2026 r."]
["Lp.","Nazwa linii komunikacyjnej",null,"Suma kosztów osiągniętych na linii komunikacyjnej \n[zł]",null,"Suma przychodów osiągniętych na linii komunikacyjnych \n[zł]",null,"Wynik finansowy linii komunikacyjnej - deficyt \n[zł] "]
[1,"2",null,"3",null,"4",null,"5"]
["1",{"$f":"IF(B32=\"\",\"\",B32)","v":""},null,null,null,null,null,{"$f":"F276-D276","v":0}]
["2",{"$f":"IF(B33=\"\",\"\",B33)","v":""},null,null,null,null,null,{"$f":"F277-D277","v":0}]
["3","",null,null,null,null,null,0]
["4","",null,null,null,null,null,0]
["5","",null,null,null,null,null,0]
["6","",null,null,null,null,null,0]
["7","",null,null,null,null,null,0]
["8","",null,null,null,null,null,0]
["9","",null,null,null,null,null,0]
["10","",null,null,null,null,null,0]
["11","",null,null,null,null,null,0]
["12","",null,null,null,null,null,0]
["13","",null,null,null,null,null,0]
["14","",null,null,null,null,null,0]
["15","",null,null,null,null,null,0]
["16","",null,null,null,null,null,0]
["17","",null,null,null,null,null,0]
["18","",null,null,null,null,null,0]
["19","",null,null,null,null,null,0]
["20","",null,null,null,null,null,0]
["21","",null,null,null,null,null,0]
["22","",null,null,null,null,null,0]
["23","",null,null,null,null,null,0]
["24","",null,null,null,null,null,0]
["25","",null,null,null,null,null,0]
["26","",null,null,null,null,null,0]
["27","",null,null,null,null,null,0]
["28","",null,null,null,null,null,0]
["29","",null,null,null,null,null,0]
["30","",null,null,null,null,null,0]
["31","",null,null,null,null,null,0]
["32","",null,null,null,null,null,0]
["33","",null,null,null,null,null,0]
["34","",null,null,null,null,null,0]
["35","",null,null,null,null,null,0]
["36","",null,null,null,null,null,0]
["37","",null,null,null,null,null,0]
["38","",null,null,null,null,null,0]
["39","",null,null,null,null,null,0]
["40","",null,null,null,null,null,0]
["41","",null,null,null,null,null,0]
["42","",null,null,null,null,null,0]
["43","",null,null,null,null,null,0]
["44","",null,null,null,null,null,0]
["45","",null,null,null,null,null,0]
["46","",null,null,null,null,null,0]
["47","",null,null,null,null,null,0]
["48","",null,null,null,null,null,0]
["49","",null,null,null,null,null,0]
["50","",null,null,null,null,null,0]
["51","",null,null,null,null,null,0]
["52","",null,null,null,null,null,0]
["53","",null,null,null,null,null,0]
["54","",null,null,null,null,null,0]
["55","",null,null,null,null,null,0]
["56","",null,null,null,null,null,0]
["57","",null,null,null,null,null,0]
["58","",null,null,null,null,null,0]
["59","",null,null,null,null,null,0]
["60","",null,null,null,null,null,0]
["61","",null,null,null,null,null,0]
["62","",null,null,null,null,null,0]
["63","",null,null,null,null,null,0]
["64","",null,null,null,null,null,0]
["65","",null,null,null,null,null,0]
["66",{"$f":"IF(B97=\"\",\"\",B97)","v":""},null,null,null,null,null,{"$f":"F341-D341","v":0}]
["67","",null,null,null,null,null,0]
["68","",null,null,null,null,null,0]
["69","",null,null,null,null,null,0]
["70","",null,null,null,null,null,0]
["71","",null,null,null,null,null,0]
["72","",null,null,null,null,null,0]
["73","",null,null,null,null,null,0]
["74","",null,null,null,null,null,0]
["75","",null,null,null,null,null,0]
["76","",null,null,null,null,null,0]
["77","",null,null,null,null,null,0]
["78","",null,null,null,null,null,0]
["79","",null,null,null,null,null,0]
["80","",null,null,null,null,null,0]
["81","",null,null,null,null,null,0]
["82","",null,null,null,null,null,0]
["83","",null,null,null,null,null,0]
["84","",null,null,null,null,null,0]
["85","",null,null,null,null,null,0]
["86","",null,null,null,null,null,0]
["87","",null,null,null,null,null,0]
["88","",null,null,null,null,null,0]
["89","",null,null,null,null,null,0]
["90","",null,null,null,null,null,0]
["91","",null,null,null,null,null,0]
["92","",null,null,null,null,null,0]
["93","",null,null,null,null,null,0]
["94","",null,null,null,null,null,0]
["95","",null,null,null,null,null,0]
["96","",null,null,null,null,null,0]
["97","",null,null,null,null,null,0]
["98","",null,null,null,null,null,0]
["99","",null,null,null,null,null,0]
["100","",null,null,null,null,null,0]
["101","",null,null,null,null,null,0]
["102","",null,null,null,null,null,0]
["103","",null,null,null,null,null,0]
["104","",null,null,null,null,null,0]
["105","",null,null,null,null,null,0]
["106","",null,null,null,null,null,0]
["107","",null,null,null,null,null,0]
["108","",null,null,null,null,null,0]
["109","",null,null,null,null,null,0]
["110","",null,null,null,null,null,0]
["111","",null,null,null,null,null,0]
["112","",null,null,null,null,null,0]
["113","",null,null,null,null,null,0]
["114","",null,null,null,null,null,0]
["115","",null,null,null,null,null,0]
["Ogółem:",null,null,{"$f":"SUM(D276:D390)","v":0},null,{"$f":"SUM(F276:F390)","v":0},null,{"$f":"SUMIF(H276:H390,\"<0\")","v":0}]
[]
["Tabele B.1 - B.3 proszę wypełnić zgodnie z wytycznymi podanymi poniżej:\nKolumna nr 2\nProszę wskazać nazwę linii komunikacyjnych zgodnie z umową o dopłatę (§2 ust. 2). \nKolumna nr 3\nProszę wskazać osiągniętą sumę kosztów funkcjonowania linii komunikacyjnej w okresie rozliczeniowym.\nKolumna nr 4\nProszę wskazać osiągniętą sumę przychodów wygenerowanych w związku z funkcjonowaniem linii komunikacyjnej. \nUwaga, należy uwzględnić również przychody z dotacji na wyrównanie straty z tytułu utraconych przychodów w związku ze stosowaniem ustawowych uprawnień do ulgowych przejazdów w publicznym transporcie zbiorowym.\nKolumna 5\nWynik finansowy linii komunikacyjnej (kol 4 - kol 3)"]
["C.1 Oświadczenie"]
["Oświadczam, że dane zawarte w załączniku są kompletne i zgodne ze stanem faktycznym."]
[]
["Łączny  deficyt nieuwzględniający rozsądnego zysku na liniach komunikacyjnych wyniósł:",null,null,null,null,{"$f":"H147+H269+H391","v":0},null,"zł"]
[]
[]
[]
[null,null,null,"dane osób działających w imieniu organizatora publicznego transportu zbiorowego składających kwalifikowany podpis elektroniczny pod wnioskiem "]

{"sheet":"Załącznik nr 2 do rozliczenia","index":2,"n_rows":408,"n_cols":8,"rows_kept":408,"cut":false,"hidden":false,"merged":[[0,7,0,8],[0,4,0,6],[375,1,375,2],[376,1,376,2],[377,1,377,2],[378,1,378,2],[379,1,379,2],[375,5,375,6],[376,5,376,6],[377,5,377,6],[378,5,378,6],[379,5,379,6],[375,7,375,8],[376,7,376,8],[377,7,377,8],[378,7,378,8],[379,7,379,8],[1,4,1,8],[136,7,136,8],[137,1,137,2],[137,5,137,6],[137,7,137,8],[254,1,254,2],[255,1,255,2],[256,1,256,2],[257,1,257,2],[258,1,258,2],[254,5,254,6],[255,5,255,6],[256,5,256,6],[257,5,257,6],[258,5,258,6],[374,7,374,8],[380,7,380,8],[381,7,381,8],[382,7,382,8],[383,7,383,8],[384,7,384,8],[362,7,362,8],[363,7,363,8],[364,7,364,8],[365,7,365,8],[366,7,366,8],[367,7,367,8],[368,7,368,8],[369,7,369,8],[370,7,370,8],[357,7,357,8],[358,7,358,8],[359,7,359,8],[360,7,360,8],[361,7,361,8],[351,7,351,8],[352,7,352,8],[371,7,371,8],[372,7,372,8],[373,7,373,8],[340,7,340,8],[341,7,341,8],[342,7,342,8],[343,7,343,8],[326,7,326,8],[327,7,327,8],[328,7,328,8],[329,7,329,8],[330,7,330,8],[331,7,331,8],[332,7,332,8],[333,7,333,8],[334,7,334,8],[353,7,353,8],[354,7,354,8],[355,7,355,8],[356,7,356,8],[344,7,344,8],[345,7,345,8],[346,7,346,8],[347,7,347,8],[348,7,348,8],[349,7,349,8],[350,7,350,8],[323,7,323,8],[324,7,324,8],[325,7,325,8],[308,7,308,8],[309,7,309,8],[310,7,310,8],[311,7,311,8],[312,7,312,8],[313,7,313,8],[314,7,314,8],[315,7,315,8],[316,7,316,8],[335,7,335,8],[336,7,336,8],[337,7,337,8],[338,7,338,8],[339,7,339,8],[305,7,305,8],[306,7,306,8],[307,7,307,8],[371,5,371,6],[372,5,372,6],[373,5,373,6],[374,5,374,6],[380,5,380,6],[381,5,381,6],[382,5,382,6],[383,5,383,6],[344,5,344,6],[345,5,345,6],[346,5,346,6],[347,5,347,6],[348,5,348,6],[349,5,349,6],[350,5,350,6],[351,5,351,6],[352,5,352,6],[335,5,335,6],[336,5,336,6],[337,5,337,6],[338,5,338,6],[339,5,339,6],[340,5,340,6],[317,7,317,8],[318,7,318,8],[319,7,319,8],[320,7,320,8],[321,7,321,8],[322,7,322,8],[384,5,384,6],[362,5,362,6],[363,5,363,6],[364,5,364,6],[365,5,365,6],[366,5,366,6],[367,5,367,6],[368,5,368,6],[369,5,369,6],[370,5,370,6],[353,5,353,6],[354,5,354,6],[355,5,355,6],[356,5,356,6],[357,5,357,6],[358,5,358,6],[359,5,359,6],[360,5,360,6],[361,5,361,6],[341,5,341,6],[342,5,342,6],[343,5,343,6],[326,5,326,6],[327,5,327,6],[328,5,328,6],[329,5,329,6],[330,5,330,6],[331,5,331,6],[332,5,332,6],[333,5,333,6],[334,5,334,6],[317,5,317,6],[318,5,318,6],[319,5,319,6],[320,5,320,6],[321,5,321,6],[322,5,322,6],[323,5,323,6],[324,5,324,6],[325,5,325,6],[374,1,374,2],[380,1,380,2],[381,1,381,2],[382,1,382,2],[383,1,383,2],[384,1,384,2],[299,5,299,6],[300,5,300,6],[301,5,301,6],[302,5,302,6],[303,5,303,6],[304,5,304,6],[305,5,305,6],[306,5,306,6],[307,5,307,6],[308,5,308,6],[309,5,309,6],[310,5,310,6],[311,5,311,6],[312,5,312,6],[313,5,313,6],[314,5,314,6],[315,5,315,6],[316,5,316,6],[365,1,365,2],[366,1,366,2],[367,1,367,2],[368,1,368,2],[369,1,369,2],[370,1,370,2],[371,1,371,2],[372,1,372,2],[373,1,373,2],[356,1,356,2],[357,1,357,2],[358,1,358,2],[359,1,359,2],[360,1,360,2],[361,1,361,2],[362,1,362,2],[363,1,363,2],[364,1,364,2],[347,1,347,2],[348,1,348,2],[349,1,349,2],[350,1,350,2],[351,1,351,2],[352,1,352,2],[353,1,353,2],[354,1,354,2],[355,1,355,2],[338,1,338,2],[339,1,339,2],[340,1,340,2],[341,1,341,2],[342,1,342,2],[343,1,343,2],[344,1,344,2],[345,1,345,2],[346,1,346,2],[329,1,329,2],[330,1,330,2],[331,1,331,2],[332,1,332,2],[333,1,333,2],[334,1,334,2],[335,1,335,2],[336,1,336,2],[337,1,337,2],[292,7,292,8],[287,1,287,2],[287,5,287,6],[287,7,287,8],[288,1,288,2],[288,5,288,6],[288,7,288,8],[289,1,289,2],[320,1,320,2],[321,1,321,2],[322,1,322,2],[323,1,323,2],[324,1,324,2],[325,1,325,2],[326,1,326,2],[327,1,327,2],[328,1,328,2],[311,1,311,2],[312,1,312,2],[313,1,313,2],[314,1,314,2],[315,1,315,2],[316,1,316,2],[317,1,317,2],[318,1,318,2],[319,1,319,2],[299,7,299,8],[300,7,300,8],[301,7,301,8],[302,7,302,8],[303,7,303,8],[304,7,304,8],[290,1,290,2],[290,5,290,6],[290,7,290,8],[291,1,291,2],[291,5,291,6],[291,7,291,8],[292,1,292,2],[292,5,292,6],[270,1,270,2],[270,5,270,6],[270,7,270,8],[385,5,385,6],[385,7,385,8],[385,0,385,2],[268,1,268,2],[268,5,268,6],[268,7,268,8],[269,1,269,2],[269,5,269,6],[269,7,269,8],[299,1,299,2],[300,1,300,2],[301,1,301,2],[302,1,302,2],[303,1,303,2],[304,1,304,2],[305,1,305,2],[306,1,306,2],[307,1,307,2],[308,1,308,2],[309,1,309,2],[310,1,310,2],[296,1,296,2],[296,5,296,6],[296,7,296,8],[297,1,297,2],[297,5,297,6],[297,7,297,8],[298,1,298,2],[298,5,298,6],[298,7,298,8],[293,1,293,2],[293,5,293,6],[293,7,293,8],[294,1,294,2],[294,5,294,6],[294,7,294,8],[295,1,295,2],[295,5,295,6],[295,7,295,8],[289,5,289,6],[289,7,289,8],[284,1,284,2],[284,5,284,6],[284,7,284,8],[285,1,285,2],[285,5,285,6],[285,7,285,8],[286,1,286,2],[286,5,286,6],[286,7,286,8],[281,1,281,2],[281,5,281,6],[281,7,281,8],[282,1,282,2],[282,5,282,6],[282,7,282,8],[283,1,283,2],[283,5,283,6],[283,7,283,8],[278,1,278,2],[278,5,278,6],[278,7,278,8],[279,1,279,2],[279,5,279,6],[279,7,279,8],[280,1,280,2],[280,5,280,6],[280,7,280,8],[275,1,275,2],[275,5,275,6],[275,7,275,8],[276,1,276,2],[276,5,276,6],[276,7,276,8],[277,1,277,2],[277,5,277,6],[277,7,277,8],[272,1,272,2],[272,5,272,6],[272,7,272,8],[273,1,273,2],[273,5,273,6],[273,7,273,8],[274,1,274,2],[274,5,274,6],[274,7,274,8],[271,1,271,2],[271,5,271,6],[271,7,271,8],[263,1,263,2],[263,5,263,6],[263,7,263,8],[260,1,260,2],[260,5,260,6],[260,7,260,8],[261,1,261,2],[261,5,261,6],[261,7,261,8],[262,1,262,2],[262,5,262,6],[262,7,262,8],[266,0,266,8],[267,3,267,4],[267,5,267,8],[264,0,264,2],[264,5,264,6],[264,7,264,8],[252,1,252,2],[252,5,252,6],[252,7,252,8],[253,1,253,2],[253,5,253,6],[253,7,253,8],[259,1,259,2],[259,5,259,6],[259,7,259,8],[249,1,249,2],[249,5,249,6],[249,7,249,8],[250,1,250,2],[250,5,250,6],[250,7,250,8],[251,1,251,2],[251,5,251,6],[251,7,251,8],[254,7,254,8],[255,7,255,8],[256,7,256,8],[257,7,257,8],[258,7,258,8],[246,1,246,2],[246,5,246,6],[246,7,246,8],[247,1,247,2],[247,5,247,6],[247,7,247,8],[248,1,248,2],[248,5,248,6],[248,7,248,8],[243,1,243,2],[243,5,243,6],[243,7,243,8],[244,1,244,2],[244,5,244,6],[244,7,244,8],[245,1,245,2],[245,5,245,6],[245,7,245,8],[240,1,240,2],[240,5,240,6],[240,7,240,8],[241,1,241,2],[241,5,241,6],[241,7,241,8],[242,1,242,2],[242,5,242,6],[242,7,242,8],[237,1,237,2],[237,5,237,6],[237,7,237,8],[238,1,238,2],[238,5,238,6],[238,7,238,8],[239,1,239,2],[239,5,239,6],[239,7,239,8],[234,1,234,2],[234,5,234,6],[234,7,234,8],[235,1,235,2],[235,5,235,6],[235,7,235,8],[236,1,236,2],[236,5,236,6],[236,7,236,8],[231,1,231,2],[231,5,231,6],[231,7,231,8],[232,1,232,2],[232,5,232,6],[232,7,232,8],[233,1,233,2],[233,5,233,6],[233,7,233,8],[228,1,228,2],[228,5,228,6],[228,7,228,8],[229,1,229,2],[229,5,229,6],[229,7,229,8],[230,1,230,2],[230,5,230,6],[230,7,230,8],[225,1,225,2],[225,5,225,6],[225,7,225,8],[226,1,226,2],[226,5,226,6],[226,7,226,8],[227,1,227,2],[227,5,227,6],[227,7,227,8],[222,1,222,2],[222,5,222,6],[222,7,222,8],[223,1,223,2],[223,5,223,6],[223,7,223,8],[224,1,224,2],[224,5,224,6],[224,7,224,8],[219,1,219,2],[219,5,219,6],[219,7,219,8],[220,1,220,2],[220,5,220,6],[220,7,220,8],[221,1,221,2],[221,5,221,6],[221,7,221,8],[216,1,216,2],[216,5,216,6],[216,7,216,8],[217,1,217,2],[217,5,217,6],[217,7,217,8],[218,1,218,2],[218,5,218,6],[218,7,218,8],[213,1,213,2],[213,5,213,6],[213,7,213,8],[214,1,214,2],[214,5,214,6],[214,7,214,8],[215,1,215,2],[215,5,215,6],[215,7,215,8],[210,1,210,2],[210,5,210,6],[210,7,210,8],[211,1,211,2],[211,5,211,6],[211,7,211,8],[212,1,212,2],[212,5,212,6],[212,7,212,8],[207,1,207,2],[207,5,207,6],[207,7,207,8],[208,1,208,2],[208,5,208,6],[208,7,208,8],[209,1,209,2],[209,5,209,6],[209,7,209,8],[204,1,204,2],[204,5,204,6],[204,7,204,8],[205,1,205,2],[205,5,205,6],[205,7,205,8],[206,1,206,2],[206,5,206,6],[206,7,206,8],[201,1,201,2],[201,5,201,6],[201,7,201,8],[202,1,202,2],[202,5,202,6],[202,7,202,8],[203,1,203,2],[203,5,203,6],[203,7,203,8],[198,1,198,2],[198,5,198,6],[198,7,198,8],[199,1,199,2],[199,5,199,6],[199,7,199,8],[200,1,200,2],[200,5,200,6],[200,7,200,8],[195,1,195,2],[195,5,195,6],[195,7,195,8],[196,1,196,2],[196,5,196,6],[196,7,196,8],[197,1,197,2],[197,5,197,6],[197,7,197,8],[192,1,192,2],[192,5,192,6],[192,7,192,8],[193,1,193,2],[193,5,193,6],[193,7,193,8],[194,1,194,2],[194,5,194,6],[194,7,194,8],[189,1,189,2],[189,5,189,6],[189,7,189,8],[190,1,190,2],[190,5,190,6],[190,7,190,8],[191,1,191,2],[191,5,191,6],[191,7,191,8],[186,1,186,2],[186,5,186,6],[186,7,186,8],[187,1,187,2],[187,5,187,6],[187,7,187,8],[188,1,188,2],[188,5,188,6],[188,7,188,8],[183,1,183,2],[183,5,183,6],[183,7,183,8],[184,1,184,2],[184,5,184,6],[184,7,184,8],[185,1,185,2],[185,5,185,6],[185,7,185,8],[180,1,180,2],[180,5,180,6],[180,7,180,8],[181,1,181,2],[181,5,181,6],[181,7,181,8],[182,1,182,2],[182,5,182,6],[182,7,182,8],[177,1,177,2],[177,5,177,6],[177,7,177,8],[178,1,178,2],[178,5,178,6],[178,7,178,8],[179,1,179,2],[179,5,179,6],[179,7,179,8],[174,1,174,2],[174,5,174,6],[174,7,174,8],[175,1,175,2],[175,5,175,6],[175,7,175,8],[176,1,176,2],[176,5,176,6],[176,7,176,8],[171,1,171,2],[171,5,171,6],[171,7,171,8],[172,1,172,2],[172,5,172,6],[172,7,172,8],[173,1,173,2],[173,5,173,6],[173,7,173,8],[168,1,168,2],[168,5,168,6],[168,7,168,8],[169,1,169,2],[169,5,169,6],[169,7,169,8],[170,1,170,2],[170,5,170,6],[170,7,170,8],[165,1,165,2],[165,5,165,6],[165,7,165,8],[166,1,166,2],[166,5,166,6],[166,7,166,8],[167,1,167,2],[167,5,167,6],[167,7,167,8],[162,1,162,2],[162,5,162,6],[162,7,162,8],[163,1,163,2],[163,5,163,6],[163,7,163,8],[164,1,164,2],[164,5,164,6],[164,7,164,8],[159,1,159,2],[159,5,159,6],[159,7,159,8],[160,1,160,2],[160,5,160,6],[160,7,160,8],[161,1,161,2],[161,5,161,6],[161,7,161,8],[129,1,129,2],[129,5,129,6],[129,7,129,8],[156,1,156,2],[156,5,156,6],[156,7,156,8],[157,1,157,2],[157,5,157,6],[157,7,157,8],[158,1,158,2],[158,5,158,6],[158,7,158,8],[153,1,153,2],[153,5,153,6],[153,7,153,8],[154,1,154,2],[154,5,154,6],[154,7,154,8],[155,1,155,2],[155,5,155,6],[155,7,155,8],[133,1,133,2],[133,5,133,6],[133,7,133,8],[134,1,134,2],[134,5,134,6],[134,7,134,8],[135,1,135,2],[135,5,135,6],[135,7,135,8],[136,1,136,2],[136,5,136,6],[111,7,111,8],[112,7,112,8],[113,7,113,8],[114,7,114,8],[115,7,115,8],[149,5,149,6],[149,7,149,8],[150,1,150,2],[150,5,150,6],[150,7,150,8],[151,1,151,2],[151,5,151,6],[151,7,151,8],[152,1,152,2],[152,5,152,6],[152,7,152,8],[125,7,125,8],[126,7,126,8],[127,7,127,8],[145,0,145,8],[147,1,147,2],[147,5,147,6],[147,7,147,8],[148,1,148,2],[148,5,148,6],[148,7,148,8],[146,3,146,4],[146,5,146,8],[131,1,131,2],[131,5,131,6],[131,7,131,8],[132,1,132,2],[124,5,124,6],[125,5,125,6],[126,5,126,6],[127,5,127,6],[78,7,78,8],[79,7,79,8],[80,7,80,8],[81,7,81,8],[82,7,82,8],[83,7,83,8],[84,7,84,8],[85,7,85,8],[86,7,86,8],[87,7,87,8],[88,7,88,8],[89,7,89,8],[90,7,90,8],[91,7,91,8],[92,7,92,8],[93,7,93,8],[94,7,94,8],[95,7,95,8],[96,7,96,8],[116,7,116,8],[117,7,117,8],[118,7,118,8],[119,7,119,8],[120,7,120,8],[121,7,121,8],[122,7,122,8],[123,7,123,8],[124,7,124,8],[122,5,122,6],[123,5,123,6],[106,5,106,6],[107,5,107,6],[108,5,108,6],[109,5,109,6],[110,5,110,6],[111,5,111,6],[112,5,112,6],[113,5,113,6],[114,5,114,6],[97,5,97,6],[98,5,98,6],[99,5,99,6],[100,5,100,6],[101,5,101,6],[102,5,102,6],[103,5,103,6],[104,5,104,6],[105,5,105,6],[94,5,94,6],[95,5,95,6],[96,5,96,6],[114,1,114,2],[115,1,115,2],[116,1,116,2],[117,1,117,2],[118,1,118,2],[119,1,119,2],[120,1,120,2],[121,1,121,2],[97,7,97,8],[115,5,115,6],[116,5,116,6],[117,5,117,6],[118,5,118,6],[119,5,119,6],[120,5,120,6],[121,5,121,6],[98,7,98,8],[99,7,99,8],[100,7,100,8],[101,7,101,8],[102,7,102,8],[103,7,103,8],[104,7,104,8],[105,7,105,8],[106,7,106,8],[107,7,107,8],[108,7,108,8],[109,7,109,8],[110,7,110,8],[112,1,112,2],[113,1,113,2],[96,1,96,2],[97,1,97,2],[98,1,98,2],[99,1,99,2],[100,1,100,2],[101,1,101,2],[102,1,102,2],[103,1,103,2],[104,1,104,2],[123,1,123,2],[124,1,124,2],[125,1,125,2],[126,1,126,2],[127,1,127,2],[78,5,78,6],[79,5,79,6],[80,5,80,6],[81,5,81,6],[82,5,82,6],[83,5,83,6],[84,5,84,6],[85,5,85,6],[86,5,86,6],[87,5,87,6],[88,5,88,6],[89,5,89,6],[90,5,90,6],[91,5,91,6],[92,5,92,6],[93,5,93,6],[19,0,20,3],[19,5,20,8],[2,5,2,7],[4,1,4,2],[12,1,12,2],[27,1,27,2],[27,5,27,6],[27,7,27,8],[25,3,25,4],[25,5,25,8],[28,1,28,2],[28,5,28,6],[28,7,28,8],[21,0,21,8],[24,0,24,8],[26,1,26,2],[26,5,26,6],[26,7,26,8],[31,1,31,2],[31,5,31,6],[31,7,31,8],[32,1,32,2],[32,5,32,6],[32,7,32,8],[29,1,29,2],[29,5,29,6],[29,7,29,8],[30,1,30,2],[30,5,30,6],[30,7,30,8],[35,1,35,2],[35,5,35,6],[35,7,35,8],[36,1,36,2],[36,5,36,6],[36,7,36,8],[33,1,33,2],[33,5,33,6],[33,7,33,8],[34,1,34,2],[34,5,34,6],[34,7,34,8],[39,1,39,2],[39,5,39,6],[39,7,39,8],[40,1,40,2],[40,5,40,6],[40,7,40,8],[37,1,37,2],[37,5,37,6],[37,7,37,8],[38,1,38,2],[38,5,38,6],[38,7,38,8],[43,1,43,2],[43,5,43,6],[43,7,43,8],[44,1,44,2],[44,5,44,6],[44,7,44,8],[41,1,41,2],[41,5,41,6],[41,7,41,8],[42,1,42,2],[42,5,42,6],[42,7,42,8],[47,1,47,2],[47,5,47,6],[47,7,47,8],[48,1,48,2],[48,5,48,6],[48,7,48,8],[45,1,45,2],[45,5,45,6],[45,7,45,8],[46,1,46,2],[46,5,46,6],[46,7,46,8],[51,1,51,2],[51,5,51,6],[51,7,51,8],[52,1,52,2],[52,5,52,6],[52,7,52,8],[49,1,49,2],[49,5,49,6],[49,7,49,8],[50,1,50,2],[50,5,50,6],[50,7,50,8],[55,1,55,2],[55,5,55,6],[55,7,55,8],[56,1,56,2],[56,5,56,6],[56,7,56,8],[53,1,53,2],[53,5,53,6],[53,7,53,8],[54,1,54,2],[54,5,54,6],[54,7,54,8],[59,1,59,2],[59,5,59,6],[59,7,59,8],[60,1,60,2],[60,5,60,6],[60,7,60,8],[57,1,57,2],[57,5,57,6],[57,7,57,8],[58,1,58,2],[58,5,58,6],[58,7,58,8],[63,1,63,2],[63,5,63,6],[63,7,63,8],[64,1,64,2],[64,5,64,6],[64,7,64,8],[61,1,61,2],[61,5,61,6],[61,7,61,8],[62,1,62,2],[62,5,62,6],[62,7,62,8],[67,1,67,2],[67,5,67,6],[67,7,67,8],[68,1,68,2],[68,5,68,6],[68,7,68,8],[65,1,65,2],[65,5,65,6],[65,7,65,8],[66,1,66,2],[66,5,66,6],[66,7,66,8]],"merged_total":1088,"flags":["merged_cut"]}
[null,null,null,null,{"$f":"_xlfn.SINGLE(IF('Załącznik nr 1 do rozliczenia'!F1=\"\",\"\",'Załącznik nr 1 do rozliczenia'!F1))","v":""},null,null,{"$f":"IF('Załącznik nr 1 do rozliczenia'!I1=\"\",\"\",'Załącznik nr 1 do rozliczenia'!I1)","v":""}]
[null,null,null,null,"          (miejscowość, data)"]
[]
[]
[null,"A1. ORGANIZATOR PUBLICZNEGO TRANSPORTU ZBIOROWEGO\n(dane wypełnią się automatycznie po wpisaniu poprawnego numeru umowy w części A.3)"]
[null,"Nazwa organizatora publicznego transportu zbiorowego",{"$f":"'Załącznik nr 1 do rozliczenia'!C6","v":""}]
[null,"NIP",{"$f":"'Załącznik nr 1 do rozliczenia'!C7","v":""}]
[null,"REGON",{"$f":"'Załącznik nr 1 do rozliczenia'!C8","v":""}]
[null,"Adres",{"$f":"'Załącznik nr 1 do rozliczenia'!C9","v":""}]
[null,"Powiat",{"$f":"'Załącznik nr 1 do rozliczenia'!C10","v":""}]
[null,"Województwo",{"$f":"'Załącznik nr 1 do rozliczenia'!C11","v":"mazowieckie"}]
[null,"Numer dysponenta",{"$f":"'Załącznik nr 1 do rozliczenia'!C12","v":""}]
[null,"A2. Dane osoby do kontaktu w sprawie wniosku"]
[null,"Imię",{"$f":"IF(C6=\"\",\"\",'Załącznik nr 1 do rozliczenia'!C14)","v":""}]
[null,"Nazwisko",{"$f":"IF(C7=\"\",\"\",'Załącznik nr 1 do rozliczenia'!C15)","v":""}]
[null,"Telefon ",{"$f":"IF(C8=\"\",\"\",'Załącznik nr 1 do rozliczenia'!C16)","v":""}]
[null,"Adres e-mail",{"$f":"IF(C9=\"\",\"\",'Załącznik nr 1 do rozliczenia'!C17)","v":""}]
[]
[null,null,null,null,"Wojewoda Mazowiecki\nWydział Infrastruktury i Rolnictwa\npl. Bankowy 3/5\n00-950 Warszawa"]
["              ZAŁĄCZNIK NUMER 2 DO ROZLICZENIA DOPŁAT ZA                                                                                                                             ",null,null,null,null,"2026 ROKU - ZESTAWIENIE"]
[null,null,null,null,{"$f":"IF('Załącznik nr 1 do rozliczenia'!E22=\"\",\"\",'Załącznik nr 1 do rozliczenia'!E22)","v":""}]
["WIELKOŚCI PRACY EKSPLOATACYJNEJ NA LINIACH KOMUNIKACYJNYCH."]
[]
[]
["B.1  Dane dotyczące linii komunikacyjnych "]
[null,null,"MIESIĄC",{"$f":"'Załącznik nr 1 do rozliczenia'!D29:E29","v":""},null,"2026 r."]
["Lp.","Nazwa linii komunikacyjnej",null,"Długość linii \n[km]","Ilość wykonanych kursów w okresie rozliczeniowym","Dni kursowania",null,"Zrealizowana praca eksploatacyjna \n[wzkm]"]
[1,"2",null,"3","4","5",null,"6"]
[{"$f":"'Załącznik nr 1 do rozliczenia'!A32","v":"1"},{"$f":"IF('Załącznik nr 1 do rozliczenia'!B32:C32=\"\",\"\",'Załącznik nr 1 do rozliczenia'!B32:C32)","v":""},null,null,null,"",null,{"$f":"D29*E29","v":0}]
[{"$f":"'Załącznik nr 1 do rozliczenia'!A33","v":"2"},{"$f":"IF('Załącznik nr 1 do rozliczenia'!B33:C33=\"\",\"\",'Załącznik nr 1 do rozliczenia'!B33:C33)","v":""},null,null,null,"",null,{"$f":"D30*E30","v":0}]
[{"$f":"'Załącznik nr 1 do rozliczenia'!A34","v":"3"},{"$f":"IF('Załącznik nr 1 do rozliczenia'!B34:C34=\"\",\"\",'Załącznik nr 1 do rozliczenia'!B34:C34)","v":""},null,null,null,"",null,0]
[{"$f":"'Załącznik nr 1 do rozliczenia'!A35","v":"4"},{"$f":"IF('Załącznik nr 1 do rozliczenia'!B35:C35=\"\",\"\",'Załącznik nr 1 do rozliczenia'!B35:C35)","v":""},null,null,null,"",null,0]
[{"$f":"'Załącznik nr 1 do rozliczenia'!A36","v":"5"},{"$f":"IF('Załącznik nr 1 do rozliczenia'!B36:C36=\"\",\"\",'Załącznik nr 1 do rozliczenia'!B36:C36)","v":""},null,null,null,"",null,0]
[{"$f":"'Załącznik nr 1 do rozliczenia'!A37","v":"6"},{"$f":"IF('Załącznik nr 1 do rozliczenia'!B37:C37=\"\",\"\",'Załącznik nr 1 do rozliczenia'!B37:C37)","v":""},null,null,null,"",null,0]
[{"$f":"'Załącznik nr 1 do rozliczenia'!A38","v":"7"},{"$f":"IF('Załącznik nr 1 do rozliczenia'!B38:C38=\"\",\"\",'Załącznik nr 1 do rozliczenia'!B38:C38)","v":""},null,null,null,"",null,0]
[{"$f":"'Załącznik nr 1 do rozliczenia'!A39","v":"8"},{"$f":"IF('Załącznik nr 1 do rozliczenia'!B39:C39=\"\",\"\",'Załącznik nr 1 do rozliczenia'!B39:C39)","v":""},null,null,null,"",null,0]
[{"$f":"'Załącznik nr 1 do rozliczenia'!A40","v":"9"},{"$f":"IF('Załącznik nr 1 do rozliczenia'!B40:C40=\"\",\"\",'Załącznik nr 1 do rozliczenia'!B40:C40)","v":""},null,null,null,"",null,0]
[{"$f":"'Załącznik nr 1 do rozliczenia'!A41","v":"10"},{"$f":"IF('Załącznik nr 1 do rozliczenia'!B41:C41=\"\",\"\",'Załącznik nr 1 do rozliczenia'!B41:C41)","v":""},null,null,null,"",null,0]
[{"$f":"'Załącznik nr 1 do rozliczenia'!A42","v":"11"},{"$f":"IF('Załącznik nr 1 do rozliczenia'!B42:C42=\"\",\"\",'Załącznik nr 1 do rozliczenia'!B42:C42)","v":""},null,null,null,"",null,0]
[{"$f":"'Załącznik nr 1 do rozliczenia'!A43","v":"12"},{"$f":"IF('Załącznik nr 1 do rozliczenia'!B43:C43=\"\",\"\",'Załącznik nr 1 do rozliczenia'!B43:C43)","v":""},null,null,null,"",null,0]
[{"$f":"'Załącznik nr 1 do rozliczenia'!A44","v":"13"},{"$f":"IF('Załącznik nr 1 do rozliczenia'!B44:C44=\"\",\"\",'Załącznik nr 1 do rozliczenia'!B44:C44)","v":""},null,null,null,"",null,0]
[{"$f":"'Załącznik nr 1 do rozliczenia'!A45","v":"14"},{"$f":"IF('Załącznik nr 1 do rozliczenia'!B45:C45=\"\",\"\",'Załącznik nr 1 do rozliczenia'!B45:C45)","v":""},null,null,null,"",null,0]
[{"$f":"'Załącznik nr 1 do rozliczenia'!A46","v":"15"},{"$f":"IF('Załącznik nr 1 do rozliczenia'!B46:C46=\"\",\"\",'Załącznik nr 1 do rozliczenia'!B46:C46)","v":""},null,null,null,"",null,0]
[{"$f":"'Załącznik nr 1 do rozliczenia'!A47","v":"16"},{"$f":"IF('Załącznik nr 1 do rozliczenia'!B47:C47=\"\",\"\",'Załącznik nr 1 do rozliczenia'!B47:C47)","v":""},null,null,null,"",null,0]
[{"$f":"'Załącznik nr 1 do rozliczenia'!A48","v":"17"},{"$f":"IF('Załącznik nr 1 do rozliczenia'!B48:C48=\"\",\"\",'Załącznik nr 1 do rozliczenia'!B48:C48)","v":""},null,null,null,"",null,0]
[{"$f":"'Załącznik nr 1 do rozliczenia'!A49","v":"18"},{"$f":"IF('Załącznik nr 1 do rozliczenia'!B49:C49=\"\",\"\",'Załącznik nr 1 do rozliczenia'!B49:C49)","v":""},null,null,null,"",null,0]
[{"$f":"'Załącznik nr 1 do rozliczenia'!A50","v":"19"},{"$f":"IF('Załącznik nr 1 do rozliczenia'!B50:C50=\"\",\"\",'Załącznik nr 1 do rozliczenia'!B50:C50)","v":""},null,null,null,"",null,0]
[{"$f":"'Załącznik nr 1 do rozliczenia'!A51","v":"20"},{"$f":"IF('Załącznik nr 1 do rozliczenia'!B51:C51=\"\",\"\",'Załącznik nr 1 do rozliczenia'!B51:C51)","v":""},null,null,null,"",null,0]
[{"$f":"'Załącznik nr 1 do rozliczenia'!A52","v":"21"},{"$f":"IF('Załącznik nr 1 do rozliczenia'!B52:C52=\"\",\"\",'Załącznik nr 1 do rozliczenia'!B52:C52)","v":""},null,null,null,"",null,0]
[{"$f":"'Załącznik nr 1 do rozliczenia'!A53","v":"22"},{"$f":"IF('Załącznik nr 1 do rozliczenia'!B53:C53=\"\",\"\",'Załącznik nr 1 do rozliczenia'!B53:C53)","v":""},null,null,null,"",null,0]
[{"$f":"'Załącznik nr 1 do rozliczenia'!A54","v":"23"},{"$f":"IF('Załącznik nr 1 do rozliczenia'!B54:C54=\"\",\"\",'Załącznik nr 1 do rozliczenia'!B54:C54)","v":""},null,null,null,"",null,0]
[{"$f":"'Załącznik nr 1 do rozliczenia'!A55","v":"24"},{"$f":"IF('Załącznik nr 1 do rozliczenia'!B55:C55=\"\",\"\",'Załącznik nr 1 do rozliczenia'!B55:C55)","v":""},null,null,null,"",null,0]
[{"$f":"'Załącznik nr 1 do rozliczenia'!A56","v":"25"},{"$f":"IF('Załącznik nr 1 do rozliczenia'!B56:C56=\"\",\"\",'Załącznik nr 1 do rozliczenia'!B56:C56)","v":""},null,null,null,"",null,0]
[{"$f":"'Załącznik nr 1 do rozliczenia'!A57","v":"26"},{"$f":"IF('Załącznik nr 1 do rozliczenia'!B57:C57=\"\",\"\",'Załącznik nr 1 do rozliczenia'!B57:C57)","v":""},null,null,null,"",null,0]
[{"$f":"'Załącznik nr 1 do rozliczenia'!A58","v":"27"},{"$f":"IF('Załącznik nr 1 do rozliczenia'!B58:C58=\"\",\"\",'Załącznik nr 1 do rozliczenia'!B58:C58)","v":""},null,null,null,"",null,0]
[{"$f":"'Załącznik nr 1 do rozliczenia'!A59","v":"28"},{"$f":"IF('Załącznik nr 1 do rozliczenia'!B59:C59=\"\",\"\",'Załącznik nr 1 do rozliczenia'!B59:C59)","v":""},null,null,null,"",null,0]
[{"$f":"'Załącznik nr 1 do rozliczenia'!A60","v":"29"},{"$f":"IF('Załącznik nr 1 do rozliczenia'!B60:C60=\"\",\"\",'Załącznik nr 1 do rozliczenia'!B60:C60)","v":""},null,null,null,"",null,0]
[{"$f":"'Załącznik nr 1 do rozliczenia'!A61","v":"30"},{"$f":"IF('Załącznik nr 1 do rozliczenia'!B61:C61=\"\",\"\",'Załącznik nr 1 do rozliczenia'!B61:C61)","v":""},null,null,null,"",null,0]
[{"$f":"'Załącznik nr 1 do rozliczenia'!A62","v":"31"},{"$f":"IF('Załącznik nr 1 do rozliczenia'!B62:C62=\"\",\"\",'Załącznik nr 1 do rozliczenia'!B62:C62)","v":""},null,null,null,"",null,0]
[{"$f":"'Załącznik nr 1 do rozliczenia'!A63","v":"32"},{"$f":"IF('Załącznik nr 1 do rozliczenia'!B63:C63=\"\",\"\",'Załącznik nr 1 do rozliczenia'!B63:C63)","v":""},null,null,null,"",null,0]
[{"$f":"'Załącznik nr 1 do rozliczenia'!A64","v":"33"},{"$f":"IF('Załącznik nr 1 do rozliczenia'!B64:C64=\"\",\"\",'Załącznik nr 1 do rozliczenia'!B64:C64)","v":""},null,null,null,"",null,0]
[{"$f":"'Załącznik nr 1 do rozliczenia'!A65","v":"34"},{"$f":"IF('Załącznik nr 1 do rozliczenia'!B65:C65=\"\",\"\",'Załącznik nr 1 do rozliczenia'!B65:C65)","v":""},null,null,null,"",null,0]
[{"$f":"'Załącznik nr 1 do rozliczenia'!A66","v":"35"},{"$f":"IF('Załącznik nr 1 do rozliczenia'!B66:C66=\"\",\"\",'Załącznik nr 1 do rozliczenia'!B66:C66)","v":""},null,null,null,"",null,0]
[{"$f":"'Załącznik nr 1 do rozliczenia'!A67","v":"36"},{"$f":"IF('Załącznik nr 1 do rozliczenia'!B67:C67=\"\",\"\",'Załącznik nr 1 do rozliczenia'!B67:C67)","v":""},null,null,null,"",null,0]
[{"$f":"'Załącznik nr 1 do rozliczenia'!A68","v":"37"},{"$f":"IF('Załącznik nr 1 do rozliczenia'!B68:C68=\"\",\"\",'Załącznik nr 1 do rozliczenia'!B68:C68)","v":""},null,null,null,"",null,0]
[{"$f":"'Załącznik nr 1 do rozliczenia'!A69","v":"38"},{"$f":"IF('Załącznik nr 1 do rozliczenia'!B69:C69=\"\",\"\",'Załącznik nr 1 do rozliczenia'!B69:C69)","v":""},null,null,null,"",null,0]
[{"$f":"'Załącznik nr 1 do rozliczenia'!A70","v":"39"},{"$f":"IF('Załącznik nr 1 do rozliczenia'!B70:C70=\"\",\"\",'Załącznik nr 1 do rozliczenia'!B70:C70)","v":""},null,null,null,"",null,0]
[{"$f":"'Załącznik nr 1 do rozliczenia'!A71","v":"40"},{"$f":"IF('Załącznik nr 1 do rozliczenia'!B71:C71=\"\",\"\",'Załącznik nr 1 do rozliczenia'!B71:C71)","v":""},null,null,null,"",null,0]
[{"$f":"'Załącznik nr 1 do rozliczenia'!A72","v":"41"},{"$f":"IF('Załącznik nr 1 do rozliczenia'!B72:C72=\"\",\"\",'Załącznik nr 1 do rozliczenia'!B72:C72)","v":""},null,null,null,"",null,0]
[{"$f":"'Załącznik nr 1 do rozliczenia'!A73","v":"42"},{"$f":"IF('Załącznik nr 1 do rozliczenia'!B73:C73=\"\",\"\",'Załącznik nr 1 do rozliczenia'!B73:C73)","v":""},null,null,null,"",null,0]
[{"$f":"'Załącznik nr 1 do rozliczenia'!A74","v":"43"},{"$f":"IF('Załącznik nr 1 do rozliczenia'!B74:C74=\"\",\"\",'Załącznik nr 1 do rozliczenia'!B74:C74)","v":""},null,null,null,"",null,0]
[{"$f":"'Załącznik nr 1 do rozliczenia'!A75","v":"44"},{"$f":"IF('Załącznik nr 1 do rozliczenia'!B75:C75=\"\",\"\",'Załącznik nr 1 do rozliczenia'!B75:C75)","v":""},null,null,null,"",null,0]
[{"$f":"'Załącznik nr 1 do rozliczenia'!A76","v":"45"},{"$f":"IF('Załącznik nr 1 do rozliczenia'!B76:C76=\"\",\"\",'Załącznik nr 1 do rozliczenia'!B76:C76)","v":""},null,null,null,"",null,0]
[{"$f":"'Załącznik nr 1 do rozliczenia'!A77","v":"46"},{"$f":"IF('Załącznik nr 1 do rozliczenia'!B77:C77=\"\",\"\",'Załącznik nr 1 do rozliczenia'!B77:C77)","v":""},null,null,null,"",null,0]
[{"$f":"'Załącznik nr 1 do rozliczenia'!A78","v":"47"},{"$f":"IF('Załącznik nr 1 do rozliczenia'!B78:C78=\"\",\"\",'Załącznik nr 1 do rozliczenia'!B78:C78)","v":""},null,null,null,"",null,0]
[{"$f":"'Załącznik nr 1 do rozliczenia'!A79","v":"48"},{"$f":"IF('Załącznik nr 1 do rozliczenia'!B79:C79=\"\",\"\",'Załącznik nr 1 do rozliczenia'!B79:C79)","v":""},null,null,null,"",null,0]
[{"$f":"'Załącznik nr 1 do rozliczenia'!A80","v":"49"},{"$f":"IF('Załącznik nr 1 do rozliczenia'!B80:C80=\"\",\"\",'Załącznik nr 1 do rozliczenia'!B80:C80)","v":""},null,null,null,"",null,0]
[{"$f":"'Załącznik nr 1 do rozliczenia'!A81","v":"50"},{"$f":"IF('Załącznik nr 1 do rozliczenia'!B81:C81=\"\",\"\",'Załącznik nr 1 do rozliczenia'!B81:C81)","v":""},null,null,null,"",null,0]
[{"$f":"'Załącznik nr 1 do rozliczenia'!A82","v":"51"},{"$f":"IF('Załącznik nr 1 do rozliczenia'!B82:C82=\"\",\"\",'Załącznik nr 1 do rozliczenia'!B82:C82)","v":""},null,null,null,"",null,{"$f":"D79*E79","v":0}]
[{"$f":"'Załącznik nr 1 do rozliczenia'!A83","v":"52"},{"$f":"IF('Załącznik nr 1 do rozliczenia'!B83:C83=\"\",\"\",'Załącznik nr 1 do rozliczenia'!B83:C83)","v":""},null,null,null,"",null,0]
[{"$f":"'Załącznik nr 1 do rozliczenia'!A84","v":"53"},{"$f":"IF('Załącznik nr 1 do rozliczenia'!B84:C84=\"\",\"\",'Załącznik nr 1 do rozliczenia'!B84:C84)","v":""},null,null,null,"",null,0]
[{"$f":"'Załącznik nr 1 do rozliczenia'!A85","v":"54"},{"$f":"IF('Załącznik nr 1 do rozliczenia'!B85:C85=\"\",\"\",'Załącznik nr 1 do rozliczenia'!B85:C85)","v":""},null,null,null,"",null,0]
[{"$f":"'Załącznik nr 1 do rozliczenia'!A86","v":"55"},{"$f":"IF('Załącznik nr 1 do rozliczenia'!B86:C86=\"\",\"\",'Załącznik nr 1 do rozliczenia'!B86:C86)","v":""},null,null,null,"",null,0]
[{"$f":"'Załącznik nr 1 do rozliczenia'!A87","v":"56"},{"$f":"IF('Załącznik nr 1 do rozliczenia'!B87:C87=\"\",\"\",'Załącznik nr 1 do rozliczenia'!B87:C87)","v":""},null,null,null,"",null,0]
[{"$f":"'Załącznik nr 1 do rozliczenia'!A88","v":"57"},{"$f":"IF('Załącznik nr 1 do rozliczenia'!B88:C88=\"\",\"\",'Załącznik nr 1 do rozliczenia'!B88:C88)","v":""},null,null,null,"",null,0]
[{"$f":"'Załącznik nr 1 do rozliczenia'!A89","v":"58"},{"$f":"IF('Załącznik nr 1 do rozliczenia'!B89:C89=\"\",\"\",'Załącznik nr 1 do rozliczenia'!B89:C89)","v":""},null,null,null,"",null,0]
[{"$f":"'Załącznik nr 1 do rozliczenia'!A90","v":"59"},{"$f":"IF('Załącznik nr 1 do rozliczenia'!B90:C90=\"\",\"\",'Załącznik nr 1 do rozliczenia'!B90:C90)","v":""},null,null,null,"",null,0]
[{"$f":"'Załącznik nr 1 do rozliczenia'!A91","v":"60"},{"$f":"IF('Załącznik nr 1 do rozliczenia'!B91:C91=\"\",\"\",'Załącznik nr 1 do rozliczenia'!B91:C91)","v":""},null,null,null,"",null,0]
[{"$f":"'Załącznik nr 1 do rozliczenia'!A92","v":"61"},{"$f":"IF('Załącznik nr 1 do rozliczenia'!B92:C92=\"\",\"\",'Załącznik nr 1 do rozliczenia'!B92:C92)","v":""},null,null,null,"",null,0]
[{"$f":"'Załącznik nr 1 do rozliczenia'!A93","v":"62"},{"$f":"IF('Załącznik nr 1 do rozliczenia'!B93:C93=\"\",\"\",'Załącznik nr 1 do rozliczenia'!B93:C93)","v":""},null,null,null,"",null,0]
[{"$f":"'Załącznik nr 1 do rozliczenia'!A94","v":"63"},{"$f":"IF('Załącznik nr 1 do rozliczenia'!B94:C94=\"\",\"\",'Załącznik nr 1 do rozliczenia'!B94:C94)","v":""},null,null,null,"",null,0]
[{"$f":"'Załącznik nr 1 do rozliczenia'!A95","v":"64"},{"$f":"IF('Załącznik nr 1 do rozliczenia'!B95:C95=\"\",\"\",'Załącznik nr 1 do rozliczenia'!B95:C95)","v":""},null,null,null,"",null,0]
[{"$f":"'Załącznik nr 1 do rozliczenia'!A96","v":"65"},{"$f":"IF('Załącznik nr 1 do rozliczenia'!B96:C96=\"\",\"\",'Załącznik nr 1 do rozliczenia'!B96:C96)","v":""},null,null,null,"",null,0]
[{"$f":"'Załącznik nr 1 do rozliczenia'!A97","v":"66"},{"$f":"IF('Załącznik nr 1 do rozliczenia'!B97:C97=\"\",\"\",'Załącznik nr 1 do rozliczenia'!B97:C97)","v":""},null,null,null,"",null,0]
[{"$f":"'Załącznik nr 1 do rozliczenia'!A98","v":"67"},{"$f":"IF('Załącznik nr 1 do rozliczenia'!B98:C98=\"\",\"\",'Załącznik nr 1 do rozliczenia'!B98:C98)","v":""},null,null,null,"",null,0]
[{"$f":"'Załącznik nr 1 do rozliczenia'!A99","v":"68"},{"$f":"IF('Załącznik nr 1 do rozliczenia'!B99:C99=\"\",\"\",'Załącznik nr 1 do rozliczenia'!B99:C99)","v":""},null,null,null,"",null,0]
[{"$f":"'Załącznik nr 1 do rozliczenia'!A100","v":"69"},{"$f":"IF('Załącznik nr 1 do rozliczenia'!B100:C100=\"\",\"\",'Załącznik nr 1 do rozliczenia'!B100:C100)","v":""},null,null,null,"",null,0]
[{"$f":"'Załącznik nr 1 do rozliczenia'!A101","v":"70"},{"$f":"IF('Załącznik nr 1 do rozliczenia'!B101:C101=\"\",\"\",'Załącznik nr 1 do rozliczenia'!B101:C101)","v":""},null,null,null,"",null,0]
[{"$f":"'Załącznik nr 1 do rozliczenia'!A102","v":"71"},{"$f":"IF('Załącznik nr 1 do rozliczenia'!B102:C102=\"\",\"\",'Załącznik nr 1 do rozliczenia'!B102:C102)","v":""},null,null,null,"",null,0]
[{"$f":"'Załącznik nr 1 do rozliczenia'!A103","v":"72"},{"$f":"IF('Załącznik nr 1 do rozliczenia'!B103:C103=\"\",\"\",'Załącznik nr 1 do rozliczenia'!B103:C103)","v":""},null,null,null,"",null,0]
[{"$f":"'Załącznik nr 1 do rozliczenia'!A104","v":"73"},{"$f":"IF('Załącznik nr 1 do rozliczenia'!B104:C104=\"\",\"\",'Załącznik nr 1 do rozliczenia'!B104:C104)","v":""},null,null,null,"",null,0]
[{"$f":"'Załącznik nr 1 do rozliczenia'!A105","v":"74"},{"$f":"IF('Załącznik nr 1 do rozliczenia'!B105:C105=\"\",\"\",'Załącznik nr 1 do rozliczenia'!B105:C105)","v":""},null,null,null,"",null,0]
[{"$f":"'Załącznik nr 1 do rozliczenia'!A106","v":"75"},{"$f":"IF('Załącznik nr 1 do rozliczenia'!B106:C106=\"\",\"\",'Załącznik nr 1 do rozliczenia'!B106:C106)","v":""},null,null,null,"",null,0]
[{"$f":"'Załącznik nr 1 do rozliczenia'!A107","v":"76"},{"$f":"IF('Załącznik nr 1 do rozliczenia'!B107:C107=\"\",\"\",'Załącznik nr 1 do rozliczenia'!B107:C107)","v":""},null,null,null,"",null,0]
[{"$f":"'Załącznik nr 1 do rozliczenia'!A108","v":"77"},{"$f":"IF('Załącznik nr 1 do rozliczenia'!B108:C108=\"\",\"\",'Załącznik nr 1 do rozliczenia'!B108:C108)","v":""},null,null,null,"",null,0]
[{"$f":"'Załącznik nr 1 do rozliczenia'!A109","v":"78"},{"$f":"IF('Załącznik nr 1 do rozliczenia'!B109:C109=\"\",\"\",'Załącznik nr 1 do rozliczenia'!B109:C109)","v":""},null,null,null,"",null,0]
[{"$f":"'Załącznik nr 1 do rozliczenia'!A110","v":"79"},{"$f":"IF('Załącznik nr 1 do rozliczenia'!B110:C110=\"\",\"\",'Załącznik nr 1 do rozliczenia'!B110:C110)","v":""},null,null,null,"",null,0]
[{"$f":"'Załącznik nr 1 do rozliczenia'!A111","v":"80"},{"$f":"IF('Załącznik nr 1 do rozliczenia'!B111:C111=\"\",\"\",'Załącznik nr 1 do rozliczenia'!B111:C111)","v":""},null,null,null,"",null,0]
[{"$f":"'Załącznik nr 1 do rozliczenia'!A112","v":"81"},{"$f":"IF('Załącznik nr 1 do rozliczenia'!B112:C112=\"\",\"\",'Załącznik nr 1 do rozliczenia'!B112:C112)","v":""},null,null,null,"",null,0]
[{"$f":"'Załącznik nr 1 do rozliczenia'!A113","v":"82"},{"$f":"IF('Załącznik nr 1 do rozliczenia'!B113:C113=\"\",\"\",'Załącznik nr 1 do rozliczenia'!B113:C113)","v":""},null,null,null,"",null,0]
[{"$f":"'Załącznik nr 1 do rozliczenia'!A114","v":"83"},{"$f":"IF('Załącznik nr 1 do rozliczenia'!B114:C114=\"\",\"\",'Załącznik nr 1 do rozliczenia'!B114:C114)","v":""},null,null,null,"",null,0]
[{"$f":"'Załącznik nr 1 do rozliczenia'!A115","v":"84"},{"$f":"IF('Załącznik nr 1 do rozliczenia'!B115:C115=\"\",\"\",'Załącznik nr 1 do rozliczenia'!B115:C115)","v":""},null,null,null,"",null,0]
[{"$f":"'Załącznik nr 1 do rozliczenia'!A116","v":"85"},{"$f":"IF('Załącznik nr 1 do rozliczenia'!B116:C116=\"\",\"\",'Załącznik nr 1 do rozliczenia'!B116:C116)","v":""},null,null,null,"",null,0]
[{"$f":"'Załącznik nr 1 do rozliczenia'!A117","v":"86"},{"$f":"IF('Załącznik nr 1 do rozliczenia'!B117:C117=\"\",\"\",'Załącznik nr 1 do rozliczenia'!B117:C117)","v":""},null,null,null,"",null,0]
[{"$f":"'Załącznik nr 1 do rozliczenia'!A118","v":"87"},{"$f":"IF('Załącznik nr 1 do rozliczenia'!B118:C118=\"\",\"\",'Załącznik nr 1 do rozliczenia'!B118:C118)","v":""},null,null,null,"",null,0]
[{"$f":"'Załącznik nr 1 do rozliczenia'!A119","v":"88"},{"$f":"IF('Załącznik nr 1 do rozliczenia'!B119:C119=\"\",\"\",'Załącznik nr 1 do rozliczenia'!B119:C119)","v":""},null,null,null,"",null,0]
[{"$f":"'Załącznik nr 1 do rozliczenia'!A120","v":"89"},{"$f":"IF('Załącznik nr 1 do rozliczenia'!B120:C120=\"\",\"\",'Załącznik nr 1 do rozliczenia'!B120:C120)","v":""},null,null,null,"",null,0]
[{"$f":"'Załącznik nr 1 do rozliczenia'!A121","v":"90"},{"$f":"IF('Załącznik nr 1 do rozliczenia'!B121:C121=\"\",\"\",'Załącznik nr 1 do rozliczenia'!B121:C121)","v":""},null,null,null,"",null,0]
[{"$f":"'Załącznik nr 1 do rozliczenia'!A122","v":"91"},{"$f":"IF('Załącznik nr 1 do rozliczenia'!B122:C122=\"\",\"\",'Załącznik nr 1 do rozliczenia'!B122:C122)","v":""},null,null,null,"",null,0]
[{"$f":"'Załącznik nr 1 do rozliczenia'!A123","v":"92"},{"$f":"IF('Załącznik nr 1 do rozliczenia'!B123:C123=\"\",\"\",'Załącznik nr 1 do rozliczenia'!B123:C123)","v":""},null,null,null,"",null,0]
[{"$f":"'Załącznik nr 1 do rozliczenia'!A124","v":"93"},{"$f":"IF('Załącznik nr 1 do rozliczenia'!B124:C124=\"\",\"\",'Załącznik nr 1 do rozliczenia'!B124:C124)","v":""},null,null,null,"",null,0]
[{"$f":"'Załącznik nr 1 do rozliczenia'!A125","v":"94"},{"$f":"IF('Załącznik nr 1 do rozliczenia'!B125:C125=\"\",\"\",'Załącznik nr 1 do rozliczenia'!B125:C125)","v":""},null,null,null,"",null,0]
[{"$f":"'Załącznik nr 1 do rozliczenia'!A126","v":"95"},{"$f":"IF('Załącznik nr 1 do rozliczenia'!B126:C126=\"\",\"\",'Załącznik nr 1 do rozliczenia'!B126:C126)","v":""},null,null,null,"",null,0]
[{"$f":"'Załącznik nr 1 do rozliczenia'!A127","v":"96"},{"$f":"IF('Załącznik nr 1 do rozliczenia'!B127:C127=\"\",\"\",'Załącznik nr 1 do rozliczenia'!B127:C127)","v":""},null,null,null,"",null,0]
[{"$f":"'Załącznik nr 1 do rozliczenia'!A128","v":"97"},{"$f":"IF('Załącznik nr 1 do rozliczenia'!B128:C128=\"\",\"\",'Załącznik nr 1 do rozliczenia'!B128:C128)","v":""},null,null,null,"",null,0]
[{"$f":"'Załącznik nr 1 do rozliczenia'!A129","v":"98"},{"$f":"IF('Załącznik nr 1 do rozliczenia'!B129:C129=\"\",\"\",'Załącznik nr 1 do rozliczenia'!B129:C129)","v":""},null,null,null,"",null,0]
[{"$f":"'Załącznik nr 1 do rozliczenia'!A130","v":"99"},{"$f":"IF('Załącznik nr 1 do rozliczenia'!B130:C130=\"\",\"\",'Załącznik nr 1 do rozliczenia'!B130:C130)","v":""},null,null,null,"",null,0]
[{"$f":"'Załącznik nr 1 do rozliczenia'!A131","v":"100"},{"$f":"IF('Załącznik nr 1 do rozliczenia'!B131:C131=\"\",\"\",'Załącznik nr 1 do rozliczenia'!B131:C131)","v":""},null,null,null,"",null,0]
[{"$f":"'Załącznik nr 1 do rozliczenia'!A132","v":"101"},{"$f":"IF('Załącznik nr 1 do rozliczenia'!B132:C132=\"\",\"\",'Załącznik nr 1 do rozliczenia'!B132:C132)","v":""},null,null,null,"",null,0]
[{"$f":"'Załącznik nr 1 do rozliczenia'!A133","v":"102"},{"$f":"IF('Załącznik nr 1 do rozliczenia'!B133:C133=\"\",\"\",'Załącznik nr 1 do rozliczenia'!B133:C133)","v":""},null,null,null,"",null,0]
[{"$f":"'Załącznik nr 1 do rozliczenia'!A134","v":"103"},{"$f":"IF('Załącznik nr 1 do rozliczenia'!B134:C134=\"\",\"\",'Załącznik nr 1 do rozliczenia'!B134:C134)","v":""},null,null,null,"",null,0]
[{"$f":"'Załącznik nr 1 do rozliczenia'!A135","v":"104"},{"$f":"IF('Załącznik nr 1 do rozliczenia'!B135:C135=\"\",\"\",'Załącznik nr 1 do rozliczenia'!B135:C135)","v":""},null,null,null,"",null,0]
[{"$f":"'Załącznik nr 1 do rozliczenia'!A136","v":"105"},{"$f":"IF('Załącznik nr 1 do rozliczenia'!B136:C136=\"\",\"\",'Załącznik nr 1 do rozliczenia'!B136:C136)","v":""},null,null,null,"",null,0]
[{"$f":"'Załącznik nr 1 do rozliczenia'!A137","v":"106"},{"$f":"IF('Załącznik nr 1 do rozliczenia'!B137:C137=\"\",\"\",'Załącznik nr 1 do rozliczenia'!B137:C137)","v":""},null,null,null,"",null,{"$f":"D134*E134","v":0}]
[{"$f":"'Załącznik nr 1 do rozliczenia'!A138","v":"107"},{"$f":"IF('Załącznik nr 1 do rozliczenia'!B138:C138=\"\",\"\",'Załącznik nr 1 do rozliczenia'!B138:C138)","v":""},null,null,null,"",null,0]
[{"$f":"'Załącznik nr 1 do rozliczenia'!A139","v":"108"},{"$f":"IF('Załącznik nr 1 do rozliczenia'!B139:C139=\"\",\"\",'Załącznik nr 1 do rozliczenia'!B139:C139)","v":""},null,null,null,"",null,0]
[{"$f":"'Załącznik nr 1 do rozliczenia'!A140","v":"109"},{"$f":"IF('Załącznik nr 1 do rozliczenia'!B140:C140=\"\",\"\",'Załącznik nr 1 do rozliczenia'!B140:C140)","v":""},null,null,null,"",null,{"$f":"D137*E137","v":0}]
[{"$f":"'Załącznik nr 1 do rozliczenia'!A141","v":"110"},{"$f":"IF('Załącznik nr 1 do rozliczenia'!B141:C141=\"\",\"\",'Załącznik nr 1 do rozliczenia'!B141:C141)","v":""},null,null,null,"",null,0]
[{"$f":"'Załącznik nr 1 do rozliczenia'!A142","v":"111"},{"$f":"IF('Załącznik nr 1 do rozliczenia'!B142:C142=\"\",\"\",'Załącznik nr 1 do rozliczenia'!B142:C142)","v":""},null,null,null,"",null,{"$f":"D139*E139","v":0}]
[{"$f":"'Załącznik nr 1 do rozliczenia'!A143","v":"112"},{"$f":"IF('Załącznik nr 1 do rozliczenia'!B143:C143=\"\",\"\",'Załącznik nr 1 do rozliczenia'!B143:C143)","v":""},null,null,null,"",null,0]
[{"$f":"'Załącznik nr 1 do rozliczenia'!A144","v":"113"},{"$f":"IF('Załącznik nr 1 do rozliczenia'!B144:C144=\"\",\"\",'Załącznik nr 1 do rozliczenia'!B144:C144)","v":""},null,null,null,"",null,0]
[{"$f":"'Załącznik nr 1 do rozliczenia'!A145","v":"114"},{"$f":"IF('Załącznik nr 1 do rozliczenia'!B145:C145=\"\",\"\",'Załącznik nr 1 do rozliczenia'!B145:C145)","v":""},null,null,null,"",null,0]
[{"$f":"'Załącznik nr 1 do rozliczenia'!A146","v":"115"},{"$f":"IF('Załącznik nr 1 do rozliczenia'!B146:C146=\"\",\"\",'Załącznik nr 1 do rozliczenia'!B146:C146)","v":""},null,null,null,"",null,0]
["Ogółem:",null,null,{"$f":"SUM(D29:D143)","v":0},{"$f":"SUM(E29:E143)","v":0},null,null,{"$f":"SUM(H29:H143)","v":0}]
[]
["B.2  Dane dotyczące linii komunikacyjnych "]
[null,null,"MIESIĄC",{"$f":"'Załącznik nr 1 do rozliczenia'!D151:E151","v":""},null,"2026 r."]
["Lp.","Nazwa linii komunikacyjnej",null,"Długość linii \n[km]","Ilość wykonanych kursów w okresie rozliczeniowym","Dni kursowania",null,"Zrealizowana praca eksploatacyjna \n[wzkm]"]
[1,"2",null,"3","4","5",null,"6"]
[{"$f":"'Załącznik nr 1 do rozliczenia'!A154","v":"1"},{"$f":"IF('Załącznik nr 1 do rozliczenia'!B154:C154=\"\",\"\",'Załącznik nr 1 do rozliczenia'!B154:C154)","v":""},null,null,null,"",null,{"$f":"D150*E150","v":0}]
[{"$f":"'Załącznik nr 1 do rozliczenia'!A155","v":"2"},{"$f":"IF('Załącznik nr 1 do rozliczenia'!B155:C155=\"\",\"\",'Załącznik nr 1 do rozliczenia'!B155:C155)","v":""},null,null,null,"",null,0]
[{"$f":"'Załącznik nr 1 do rozliczenia'!A156","v":"3"},{"$f":"IF('Załącznik nr 1 do rozliczenia'!B156:C156=\"\",\"\",'Załącznik nr 1 do rozliczenia'!B156:C156)","v":""},null,null,null,"",null,0]
[{"$f":"'Załącznik nr 1 do rozliczenia'!A157","v":"4"},{"$f":"IF('Załącznik nr 1 do rozliczenia'!B157:C157=\"\",\"\",'Załącznik nr 1 do rozliczenia'!B157:C157)","v":""},null,null,null,"",null,0]
[{"$f":"'Załącznik nr 1 do rozliczenia'!A158","v":"5"},{"$f":"IF('Załącznik nr 1 do rozliczenia'!B158:C158=\"\",\"\",'Załącznik nr 1 do rozliczenia'!B158:C158)","v":""},null,null,null,"",null,0]
[{"$f":"'Załącznik nr 1 do rozliczenia'!A159","v":"6"},{"$f":"IF('Załącznik nr 1 do rozliczenia'!B159:C159=\"\",\"\",'Załącznik nr 1 do rozliczenia'!B159:C159)","v":""},null,null,null,"",null,0]
[{"$f":"'Załącznik nr 1 do rozliczenia'!A160","v":"7"},{"$f":"IF('Załącznik nr 1 do rozliczenia'!B160:C160=\"\",\"\",'Załącznik nr 1 do rozliczenia'!B160:C160)","v":""},null,null,null,"",null,0]
[{"$f":"'Załącznik nr 1 do rozliczenia'!A161","v":"8"},{"$f":"IF('Załącznik nr 1 do rozliczenia'!B161:C161=\"\",\"\",'Załącznik nr 1 do rozliczenia'!B161:C161)","v":""},null,null,null,"",null,0]
[{"$f":"'Załącznik nr 1 do rozliczenia'!A162","v":"9"},{"$f":"IF('Załącznik nr 1 do rozliczenia'!B162:C162=\"\",\"\",'Załącznik nr 1 do rozliczenia'!B162:C162)","v":""},null,null,null,"",null,0]
[{"$f":"'Załącznik nr 1 do rozliczenia'!A163","v":"10"},{"$f":"IF('Załącznik nr 1 do rozliczenia'!B163:C163=\"\",\"\",'Załącznik nr 1 do rozliczenia'!B163:C163)","v":""},null,null,null,"",null,0]
[{"$f":"'Załącznik nr 1 do rozliczenia'!A164","v":"11"},{"$f":"IF('Załącznik nr 1 do rozliczenia'!B164:C164=\"\",\"\",'Załącznik nr 1 do rozliczenia'!B164:C164)","v":""},null,null,null,"",null,0]
[{"$f":"'Załącznik nr 1 do rozliczenia'!A165","v":"12"},{"$f":"IF('Załącznik nr 1 do rozliczenia'!B165:C165=\"\",\"\",'Załącznik nr 1 do rozliczenia'!B165:C165)","v":""},null,null,null,"",null,0]
[{"$f":"'Załącznik nr 1 do rozliczenia'!A166","v":"13"},{"$f":"IF('Załącznik nr 1 do rozliczenia'!B166:C166=\"\",\"\",'Załącznik nr 1 do rozliczenia'!B166:C166)","v":""},null,null,null,"",null,0]
[{"$f":"'Załącznik nr 1 do rozliczenia'!A167","v":"14"},{"$f":"IF('Załącznik nr 1 do rozliczenia'!B167:C167=\"\",\"\",'Załącznik nr 1 do rozliczenia'!B167:C167)","v":""},null,null,null,"",null,0]
[{"$f":"'Załącznik nr 1 do rozliczenia'!A168","v":"15"},{"$f":"IF('Załącznik nr 1 do rozliczenia'!B168:C168=\"\",\"\",'Załącznik nr 1 do rozliczenia'!B168:C168)","v":""},null,null,null,"",null,0]
[{"$f":"'Załącznik nr 1 do rozliczenia'!A169","v":"16"},{"$f":"IF('Załącznik nr 1 do rozliczenia'!B169:C169=\"\",\"\",'Załącznik nr 1 do rozliczenia'!B169:C169)","v":""},null,null,null,"",null,0]
[{"$f":"'Załącznik nr 1 do rozliczenia'!A170","v":"17"},{"$f":"IF('Załącznik nr 1 do rozliczenia'!B170:C170=\"\",\"\",'Załącznik nr 1 do rozliczenia'!B170:C170)","v":""},null,null,null,"",null,0]
[{"$f":"'Załącznik nr 1 do rozliczenia'!A171","v":"18"},{"$f":"IF('Załącznik nr 1 do rozliczenia'!B171:C171=\"\",\"\",'Załącznik nr 1 do rozliczenia'!B171:C171)","v":""},null,null,null,"",null,0]
[{"$f":"'Załącznik nr 1 do rozliczenia'!A172","v":"19"},{"$f":"IF('Załącznik nr 1 do rozliczenia'!B172:C172=\"\",\"\",'Załącznik nr 1 do rozliczenia'!B172:C172)","v":""},null,null,null,"",null,0]
[{"$f":"'Załącznik nr 1 do rozliczenia'!A173","v":"20"},{"$f":"IF('Załącznik nr 1 do rozliczenia'!B173:C173=\"\",\"\",'Załącznik nr 1 do rozliczenia'!B173:C173)","v":""},null,null,null,"",null,0]
[{"$f":"'Załącznik nr 1 do rozliczenia'!A174","v":"21"},{"$f":"IF('Załącznik nr 1 do rozliczenia'!B174:C174=\"\",\"\",'Załącznik nr 1 do rozliczenia'!B174:C174)","v":""},null,null,null,"",null,0]
[{"$f":"'Załącznik nr 1 do rozliczenia'!A175","v":"22"},{"$f":"IF('Załącznik nr 1 do rozliczenia'!B175:C175=\"\",\"\",'Załącznik nr 1 do rozliczenia'!B175:C175)","v":""},null,null,null,"",null,0]
[{"$f":"'Załącznik nr 1 do rozliczenia'!A176","v":"23"},{"$f":"IF('Załącznik nr 1 do rozliczenia'!B176:C176=\"\",\"\",'Załącznik nr 1 do rozliczenia'!B176:C176)","v":""},null,null,null,"",null,0]
[{"$f":"'Załącznik nr 1 do rozliczenia'!A177","v":"24"},{"$f":"IF('Załącznik nr 1 do rozliczenia'!B177:C177=\"\",\"\",'Załącznik nr 1 do rozliczenia'!B177:C177)","v":""},null,null,null,"",null,0]
[{"$f":"'Załącznik nr 1 do rozliczenia'!A178","v":"25"},{"$f":"IF('Załącznik nr 1 do rozliczenia'!B178:C178=\"\",\"\",'Załącznik nr 1 do rozliczenia'!B178:C178)","v":""},null,null,null,"",null,0]
[{"$f":"'Załącznik nr 1 do rozliczenia'!A179","v":"26"},{"$f":"IF('Załącznik nr 1 do rozliczenia'!B179:C179=\"\",\"\",'Załącznik nr 1 do rozliczenia'!B179:C179)","v":""},null,null,null,"",null,0]
[{"$f":"'Załącznik nr 1 do rozliczenia'!A180","v":"27"},{"$f":"IF('Załącznik nr 1 do rozliczenia'!B180:C180=\"\",\"\",'Załącznik nr 1 do rozliczenia'!B180:C180)","v":""},null,null,null,"",null,0]
[{"$f":"'Załącznik nr 1 do rozliczenia'!A181","v":"28"},{"$f":"IF('Załącznik nr 1 do rozliczenia'!B181:C181=\"\",\"\",'Załącznik nr 1 do rozliczenia'!B181:C181)","v":""},null,null,null,"",null,0]
[{"$f":"'Załącznik nr 1 do rozliczenia'!A182","v":"29"},{"$f":"IF('Załącznik nr 1 do rozliczenia'!B182:C182=\"\",\"\",'Załącznik nr 1 do rozliczenia'!B182:C182)","v":""},null,null,null,"",null,0]
[{"$f":"'Załącznik nr 1 do rozliczenia'!A183","v":"30"},{"$f":"IF('Załącznik nr 1 do rozliczenia'!B183:C183=\"\",\"\",'Załącznik nr 1 do rozliczenia'!B183:C183)","v":""},null,null,null,"",null,0]
[{"$f":"'Załącznik nr 1 do rozliczenia'!A184","v":"31"},{"$f":"IF('Załącznik nr 1 do rozliczenia'!B184:C184=\"\",\"\",'Załącznik nr 1 do rozliczenia'!B184:C184)","v":""},null,null,null,"",null,0]
[{"$f":"'Załącznik nr 1 do rozliczenia'!A185","v":"32"},{"$f":"IF('Załącznik nr 1 do rozliczenia'!B185:C185=\"\",\"\",'Załącznik nr 1 do rozliczenia'!B185:C185)","v":""},null,null,null,"",null,0]
[{"$f":"'Załącznik nr 1 do rozliczenia'!A186","v":"33"},{"$f":"IF('Załącznik nr 1 do rozliczenia'!B186:C186=\"\",\"\",'Załącznik nr 1 do rozliczenia'!B186:C186)","v":""},null,null,null,"",null,0]
[{"$f":"'Załącznik nr 1 do rozliczenia'!A187","v":"34"},{"$f":"IF('Załącznik nr 1 do rozliczenia'!B187:C187=\"\",\"\",'Załącznik nr 1 do rozliczenia'!B187:C187)","v":""},null,null,null,"",null,0]
[{"$f":"'Załącznik nr 1 do rozliczenia'!A188","v":"35"},{"$f":"IF('Załącznik nr 1 do rozliczenia'!B188:C188=\"\",\"\",'Załącznik nr 1 do rozliczenia'!B188:C188)","v":""},null,null,null,"",null,0]
[{"$f":"'Załącznik nr 1 do rozliczenia'!A189","v":"36"},{"$f":"IF('Załącznik nr 1 do rozliczenia'!B189:C189=\"\",\"\",'Załącznik nr 1 do rozliczenia'!B189:C189)","v":""},null,null,null,"",null,0]
[{"$f":"'Załącznik nr 1 do rozliczenia'!A190","v":"37"},{"$f":"IF('Załącznik nr 1 do rozliczenia'!B190:C190=\"\",\"\",'Załącznik nr 1 do rozliczenia'!B190:C190)","v":""},null,null,null,"",null,0]
[{"$f":"'Załącznik nr 1 do rozliczenia'!A191","v":"38"},{"$f":"IF('Załącznik nr 1 do rozliczenia'!B191:C191=\"\",\"\",'Załącznik nr 1 do rozliczenia'!B191:C191)","v":""},null,null,null,"",null,0]
[{"$f":"'Załącznik nr 1 do rozliczenia'!A192","v":"39"},{"$f":"IF('Załącznik nr 1 do rozliczenia'!B192:C192=\"\",\"\",'Załącznik nr 1 do rozliczenia'!B192:C192)","v":""},null,null,null,"",null,0]
[{"$f":"'Załącznik nr 1 do rozliczenia'!A193","v":"40"},{"$f":"IF('Załącznik nr 1 do rozliczenia'!B193:C193=\"\",\"\",'Załącznik nr 1 do rozliczenia'!B193:C193)","v":""},null,null,null,"",null,0]
[{"$f":"'Załącznik nr 1 do rozliczenia'!A194","v":"41"},{"$f":"IF('Załącznik nr 1 do rozliczenia'!B194:C194=\"\",\"\",'Załącznik nr 1 do rozliczenia'!B194:C194)","v":""},null,null,null,"",null,0]
[{"$f":"'Załącznik nr 1 do rozliczenia'!A195","v":"42"},{"$f":"IF('Załącznik nr 1 do rozliczenia'!B195:C195=\"\",\"\",'Załącznik nr 1 do rozliczenia'!B195:C195)","v":""},null,null,null,"",null,0]
[{"$f":"'Załącznik nr 1 do rozliczenia'!A196","v":"43"},{"$f":"IF('Załącznik nr 1 do rozliczenia'!B196:C196=\"\",\"\",'Załącznik nr 1 do rozliczenia'!B196:C196)","v":""},null,null,null,"",null,0]
[{"$f":"'Załącznik nr 1 do rozliczenia'!A197","v":"44"},{"$f":"IF('Załącznik nr 1 do rozliczenia'!B197:C197=\"\",\"\",'Załącznik nr 1 do rozliczenia'!B197:C197)","v":""},null,null,null,"",null,0]
[{"$f":"'Załącznik nr 1 do rozliczenia'!A198","v":"45"},{"$f":"IF('Załącznik nr 1 do rozliczenia'!B198:C198=\"\",\"\",'Załącznik nr 1 do rozliczenia'!B198:C198)","v":""},null,null,null,"",null,0]
[{"$f":"'Załącznik nr 1 do rozliczenia'!A199","v":"46"},{"$f":"IF('Załącznik nr 1 do rozliczenia'!B199:C199=\"\",\"\",'Załącznik nr 1 do rozliczenia'!B199:C199)","v":""},null,null,null,"",null,0]
[{"$f":"'Załącznik nr 1 do rozliczenia'!A200","v":"47"},{"$f":"IF('Załącznik nr 1 do rozliczenia'!B200:C200=\"\",\"\",'Załącznik nr 1 do rozliczenia'!B200:C200)","v":""},null,null,null,"",null,0]
[{"$f":"'Załącznik nr 1 do rozliczenia'!A201","v":"48"},{"$f":"IF('Załącznik nr 1 do rozliczenia'!B201:C201=\"\",\"\",'Załącznik nr 1 do rozliczenia'!B201:C201)","v":""},null,null,null,"",null,0]
[{"$f":"'Załącznik nr 1 do rozliczenia'!A202","v":"49"},{"$f":"IF('Załącznik nr 1 do rozliczenia'!B202:C202=\"\",\"\",'Załącznik nr 1 do rozliczenia'!B202:C202)","v":""},null,null,null,"",null,0]
[{"$f":"'Załącznik nr 1 do rozliczenia'!A203","v":"50"},{"$f":"IF('Załącznik nr 1 do rozliczenia'!B203:C203=\"\",\"\",'Załącznik nr 1 do rozliczenia'!B203:C203)","v":""},null,null,null,"",null,0]
[{"$f":"'Załącznik nr 1 do rozliczenia'!A204","v":"51"},{"$f":"IF('Załącznik nr 1 do rozliczenia'!B204:C204=\"\",\"\",'Załącznik nr 1 do rozliczenia'!B204:C204)","v":""},null,null,null,"",null,0]
[{"$f":"'Załącznik nr 1 do rozliczenia'!A205","v":"52"},{"$f":"IF('Załącznik nr 1 do rozliczenia'!B205:C205=\"\",\"\",'Załącznik nr 1 do rozliczenia'!B205:C205)","v":""},null,null,null,"",null,0]
[{"$f":"'Załącznik nr 1 do rozliczenia'!A206","v":"53"},{"$f":"IF('Załącznik nr 1 do rozliczenia'!B206:C206=\"\",\"\",'Załącznik nr 1 do rozliczenia'!B206:C206)","v":""},null,null,null,"",null,0]
[{"$f":"'Załącznik nr 1 do rozliczenia'!A207","v":"54"},{"$f":"IF('Załącznik nr 1 do rozliczenia'!B207:C207=\"\",\"\",'Załącznik nr 1 do rozliczenia'!B207:C207)","v":""},null,null,null,"",null,0]
[{"$f":"'Załącznik nr 1 do rozliczenia'!A208","v":"55"},{"$f":"IF('Załącznik nr 1 do rozliczenia'!B208:C208=\"\",\"\",'Załącznik nr 1 do rozliczenia'!B208:C208)","v":""},null,null,null,"",null,0]
[{"$f":"'Załącznik nr 1 do rozliczenia'!A209","v":"56"},{"$f":"IF('Załącznik nr 1 do rozliczenia'!B209:C209=\"\",\"\",'Załącznik nr 1 do rozliczenia'!B209:C209)","v":""},null,null,null,"",null,0]
[{"$f":"'Załącznik nr 1 do rozliczenia'!A210","v":"57"},{"$f":"IF('Załącznik nr 1 do rozliczenia'!B210:C210=\"\",\"\",'Załącznik nr 1 do rozliczenia'!B210:C210)","v":""},null,null,null,"",null,0]
[{"$f":"'Załącznik nr 1 do rozliczenia'!A211","v":"58"},{"$f":"IF('Załącznik nr 1 do rozliczenia'!B211:C211=\"\",\"\",'Załącznik nr 1 do rozliczenia'!B211:C211)","v":""},null,null,null,"",null,0]
[{"$f":"'Załącznik nr 1 do rozliczenia'!A212","v":"59"},{"$f":"IF('Załącznik nr 1 do rozliczenia'!B212:C212=\"\",\"\",'Załącznik nr 1 do rozliczenia'!B212:C212)","v":""},null,null,null,"",null,0]
[{"$f":"'Załącznik nr 1 do rozliczenia'!A213","v":"60"},{"$f":"IF('Załącznik nr 1 do rozliczenia'!B213:C213=\"\",\"\",'Załącznik nr 1 do rozliczenia'!B213:C213)","v":""},null,null,null,"",null,0]
[{"$f":"'Załącznik nr 1 do rozliczenia'!A214","v":"61"},{"$f":"IF('Załącznik nr 1 do rozliczenia'!B214:C214=\"\",\"\",'Załącznik nr 1 do rozliczenia'!B214:C214)","v":""},null,null,null,"",null,0]
[{"$f":"'Załącznik nr 1 do rozliczenia'!A215","v":"62"},{"$f":"IF('Załącznik nr 1 do rozliczenia'!B215:C215=\"\",\"\",'Załącznik nr 1 do rozliczenia'!B215:C215)","v":""},null,null,null,"",null,0]
[{"$f":"'Załącznik nr 1 do rozliczenia'!A216","v":"63"},{"$f":"IF('Załącznik nr 1 do rozliczenia'!B216:C216=\"\",\"\",'Załącznik nr 1 do rozliczenia'!B216:C216)","v":""},null,null,null,"",null,0]
[{"$f":"'Załącznik nr 1 do rozliczenia'!A217","v":"64"},{"$f":"IF('Załącznik nr 1 do rozliczenia'!B217:C217=\"\",\"\",'Załącznik nr 1 do rozliczenia'!B217:C217)","v":""},null,null,null,"",null,0]
[{"$f":"'Załącznik nr 1 do rozliczenia'!A218","v":"65"},{"$f":"IF('Załącznik nr 1 do rozliczenia'!B218:C218=\"\",\"\",'Załącznik nr 1 do rozliczenia'!B218:C218)","v":""},null,null,null,"",null,0]
[{"$f":"'Załącznik nr 1 do rozliczenia'!A219","v":"66"},{"$f":"IF('Załącznik nr 1 do rozliczenia'!B219:C219=\"\",\"\",'Załącznik nr 1 do rozliczenia'!B219:C219)","v":""},null,null,null,"",null,0]
[{"$f":"'Załącznik nr 1 do rozliczenia'!A220","v":"67"},{"$f":"IF('Załącznik nr 1 do rozliczenia'!B220:C220=\"\",\"\",'Załącznik nr 1 do rozliczenia'!B220:C220)","v":""},null,null,null,"",null,0]
[{"$f":"'Załącznik nr 1 do rozliczenia'!A221","v":"68"},{"$f":"IF('Załącznik nr 1 do rozliczenia'!B221:C221=\"\",\"\",'Załącznik nr 1 do rozliczenia'!B221:C221)","v":""},null,null,null,"",null,0]
[{"$f":"'Załącznik nr 1 do rozliczenia'!A222","v":"69"},{"$f":"IF('Załącznik nr 1 do rozliczenia'!B222:C222=\"\",\"\",'Załącznik nr 1 do rozliczenia'!B222:C222)","v":""},null,null,null,"",null,0]
[{"$f":"'Załącznik nr 1 do rozliczenia'!A223","v":"70"},{"$f":"IF('Załącznik nr 1 do rozliczenia'!B223:C223=\"\",\"\",'Załącznik nr 1 do rozliczenia'!B223:C223)","v":""},null,null,null,"",null,0]
[{"$f":"'Załącznik nr 1 do rozliczenia'!A224","v":"71"},{"$f":"IF('Załącznik nr 1 do rozliczenia'!B224:C224=\"\",\"\",'Załącznik nr 1 do rozliczenia'!B224:C224)","v":""},null,null,null,"",null,0]
[{"$f":"'Załącznik nr 1 do rozliczenia'!A225","v":"72"},{"$f":"IF('Załącznik nr 1 do rozliczenia'!B225:C225=\"\",\"\",'Załącznik nr 1 do rozliczenia'!B225:C225)","v":""},null,null,null,"",null,0]
[{"$f":"'Załącznik nr 1 do rozliczenia'!A226","v":"73"},{"$f":"IF('Załącznik nr 1 do rozliczenia'!B226:C226=\"\",\"\",'Załącznik nr 1 do rozliczenia'!B226:C226)","v":""},null,null,null,"",null,0]
[{"$f":"'Załącznik nr 1 do rozliczenia'!A227","v":"74"},{"$f":"IF('Załącznik nr 1 do rozliczenia'!B227:C227=\"\",\"\",'Załącznik nr 1 do rozliczenia'!B227:C227)","v":""},null,null,null,"",null,0]
[{"$f":"'Załącznik nr 1 do rozliczenia'!A228","v":"75"},{"$f":"IF('Załącznik nr 1 do rozliczenia'!B228:C228=\"\",\"\",'Załącznik nr 1 do rozliczenia'!B228:C228)","v":""},null,null,null,"",null,0]
[{"$f":"'Załącznik nr 1 do rozliczenia'!A229","v":"76"},{"$f":"IF('Załącznik nr 1 do rozliczenia'!B229:C229=\"\",\"\",'Załącznik nr 1 do rozliczenia'!B229:C229)","v":""},null,null,null,"",null,0]
[{"$f":"'Załącznik nr 1 do rozliczenia'!A230","v":"77"},{"$f":"IF('Załącznik nr 1 do rozliczenia'!B230:C230=\"\",\"\",'Załącznik nr 1 do rozliczenia'!B230:C230)","v":""},null,null,null,"",null,0]
[{"$f":"'Załącznik nr 1 do rozliczenia'!A231","v":"78"},{"$f":"IF('Załącznik nr 1 do rozliczenia'!B231:C231=\"\",\"\",'Załącznik nr 1 do rozliczenia'!B231:C231)","v":""},null,null,null,"",null,0]
[{"$f":"'Załącznik nr 1 do rozliczenia'!A232","v":"79"},{"$f":"IF('Załącznik nr 1 do rozliczenia'!B232:C232=\"\",\"\",'Załącznik nr 1 do rozliczenia'!B232:C232)","v":""},null,null,null,"",null,0]
[{"$f":"'Załącznik nr 1 do rozliczenia'!A233","v":"80"},{"$f":"IF('Załącznik nr 1 do rozliczenia'!B233:C233=\"\",\"\",'Załącznik nr 1 do rozliczenia'!B233:C233)","v":""},null,null,null,"",null,0]
[{"$f":"'Załącznik nr 1 do rozliczenia'!A234","v":"81"},{"$f":"IF('Załącznik nr 1 do rozliczenia'!B234:C234=\"\",\"\",'Załącznik nr 1 do rozliczenia'!B234:C234)","v":""},null,null,null,"",null,0]
[{"$f":"'Załącznik nr 1 do rozliczenia'!A235","v":"82"},{"$f":"IF('Załącznik nr 1 do rozliczenia'!B235:C235=\"\",\"\",'Załącznik nr 1 do rozliczenia'!B235:C235)","v":""},null,null,null,"",null,0]
[{"$f":"'Załącznik nr 1 do rozliczenia'!A236","v":"83"},{"$f":"IF('Załącznik nr 1 do rozliczenia'!B236:C236=\"\",\"\",'Załącznik nr 1 do rozliczenia'!B236:C236)","v":""},null,null,null,"",null,0]
[{"$f":"'Załącznik nr 1 do rozliczenia'!A237","v":"84"},{"$f":"IF('Załącznik nr 1 do rozliczenia'!B237:C237=\"\",\"\",'Załącznik nr 1 do rozliczenia'!B237:C237)","v":""},null,null,null,"",null,0]
[{"$f":"'Załącznik nr 1 do rozliczenia'!A238","v":"85"},{"$f":"IF('Załącznik nr 1 do rozliczenia'!B238:C238=\"\",\"\",'Załącznik nr 1 do rozliczenia'!B238:C238)","v":""},null,null,null,"",null,0]
[{"$f":"'Załącznik nr 1 do rozliczenia'!A239","v":"86"},{"$f":"IF('Załącznik nr 1 do rozliczenia'!B239:C239=\"\",\"\",'Załącznik nr 1 do rozliczenia'!B239:C239)","v":""},null,null,null,"",null,0]
[{"$f":"'Załącznik nr 1 do rozliczenia'!A240","v":"87"},{"$f":"IF('Załącznik nr 1 do rozliczenia'!B240:C240=\"\",\"\",'Załącznik nr 1 do rozliczenia'!B240:C240)","v":""},null,null,null,"",null,0]
[{"$f":"'Załącznik nr 1 do rozliczenia'!A241","v":"88"},{"$f":"IF('Załącznik nr 1 do rozliczenia'!B241:C241=\"\",\"\",'Załącznik nr 1 do rozliczenia'!B241:C241)","v":""},null,null,null,"",null,0]
[{"$f":"'Załącznik nr 1 do rozliczenia'!A242","v":"89"},{"$f":"IF('Załącznik nr 1 do rozliczenia'!B242:C242=\"\",\"\",'Załącznik nr 1 do rozliczenia'!B242:C242)","v":""},null,null,null,"",null,0]
[{"$f":"'Załącznik nr 1 do rozliczenia'!A243","v":"90"},{"$f":"IF('Załącznik nr 1 do rozliczenia'!B243:C243=\"\",\"\",'Załącznik nr 1 do rozliczenia'!B243:C243)","v":""},null,null,null,"",null,0]
[{"$f":"'Załącznik nr 1 do rozliczenia'!A244","v":"91"},{"$f":"IF('Załącznik nr 1 do rozliczenia'!B244:C244=\"\",\"\",'Załącznik nr 1 do rozliczenia'!B244:C244)","v":""},null,null,null,"",null,0]
[{"$f":"'Załącznik nr 1 do rozliczenia'!A245","v":"92"},{"$f":"IF('Załącznik nr 1 do rozliczenia'!B245:C245=\"\",\"\",'Załącznik nr 1 do rozliczenia'!B245:C245)","v":""},null,null,null,"",null,0]
[{"$f":"'Załącznik nr 1 do rozliczenia'!A246","v":"93"},{"$f":"IF('Załącznik nr 1 do rozliczenia'!B246:C246=\"\",\"\",'Załącznik nr 1 do rozliczenia'!B246:C246)","v":""},null,null,null,"",null,0]
[{"$f":"'Załącznik nr 1 do rozliczenia'!A247","v":"94"},{"$f":"IF('Załącznik nr 1 do rozliczenia'!B247:C247=\"\",\"\",'Załącznik nr 1 do rozliczenia'!B247:C247)","v":""},null,null,null,"",null,0]
[{"$f":"'Załącznik nr 1 do rozliczenia'!A248","v":"95"},{"$f":"IF('Załącznik nr 1 do rozliczenia'!B248:C248=\"\",\"\",'Załącznik nr 1 do rozliczenia'!B248:C248)","v":""},null,null,null,"",null,0]
[{"$f":"'Załącznik nr 1 do rozliczenia'!A249","v":"96"},{"$f":"IF('Załącznik nr 1 do rozliczenia'!B249:C249=\"\",\"\",'Załącznik nr 1 do rozliczenia'!B249:C249)","v":""},null,null,null,"",null,0]
[{"$f":"'Załącznik nr 1 do rozliczenia'!A250","v":"97"},{"$f":"IF('Załącznik nr 1 do rozliczenia'!B250:C250=\"\",\"\",'Załącznik nr 1 do rozliczenia'!B250:C250)","v":""},null,null,null,"",null,0]
[{"$f":"'Załącznik nr 1 do rozliczenia'!A251","v":"98"},{"$f":"IF('Załącznik nr 1 do rozliczenia'!B251:C251=\"\",\"\",'Załącznik nr 1 do rozliczenia'!B251:C251)","v":""},null,null,null,"",null,0]
[{"$f":"'Załącznik nr 1 do rozliczenia'!A252","v":"99"},{"$f":"IF('Załącznik nr 1 do rozliczenia'!B252:C252=\"\",\"\",'Załącznik nr 1 do rozliczenia'!B252:C252)","v":""},null,null,null,"",null,0]
[{"$f":"'Załącznik nr 1 do rozliczenia'!A253","v":"100"},{"$f":"IF('Załącznik nr 1 do rozliczenia'!B253:C253=\"\",\"\",'Załącznik nr 1 do rozliczenia'!B253:C253)","v":""},null,null,null,"",null,0]
[{"$f":"'Załącznik nr 1 do rozliczenia'!A254","v":"101"},{"$f":"IF('Załącznik nr 1 do rozliczenia'!B254:C254=\"\",\"\",'Załącznik nr 1 do rozliczenia'!B254:C254)","v":""},null,null,null,"",null,0]
[{"$f":"'Załącznik nr 1 do rozliczenia'!A255","v":"102"},{"$f":"IF('Załącznik nr 1 do rozliczenia'!B255:C255=\"\",\"\",'Załącznik nr 1 do rozliczenia'!B255:C255)","v":""},null,null,null,"",null,0]
[{"$f":"'Załącznik nr 1 do rozliczenia'!A256","v":"103"},{"$f":"IF('Załącznik nr 1 do rozliczenia'!B256:C256=\"\",\"\",'Załącznik nr 1 do rozliczenia'!B256:C256)","v":""},null,null,null,"",null,0]
[{"$f":"'Załącznik nr 1 do rozliczenia'!A257","v":"104"},{"$f":"IF('Załącznik nr 1 do rozliczenia'!B257:C257=\"\",\"\",'Załącznik nr 1 do rozliczenia'!B257:C257)","v":""},null,null,null,"",null,0]
[{"$f":"'Załącznik nr 1 do rozliczenia'!A258","v":"105"},{"$f":"IF('Załącznik nr 1 do rozliczenia'!B258:C258=\"\",\"\",'Załącznik nr 1 do rozliczenia'!B258:C258)","v":""},null,null,null,"",null,0]
[{"$f":"'Załącznik nr 1 do rozliczenia'!A259","v":"106"},{"$f":"IF('Załącznik nr 1 do rozliczenia'!B259:C259=\"\",\"\",'Załącznik nr 1 do rozliczenia'!B259:C259)","v":""},null,null,null,"",null,{"$f":"D255*E255","v":0}]
[{"$f":"'Załącznik nr 1 do rozliczenia'!A260","v":"107"},{"$f":"IF('Załącznik nr 1 do rozliczenia'!B260:C260=\"\",\"\",'Załącznik nr 1 do rozliczenia'!B260:C260)","v":""},null,null,null,"",null,0]
[{"$f":"'Załącznik nr 1 do rozliczenia'!A261","v":"108"},{"$f":"IF('Załącznik nr 1 do rozliczenia'!B261:C261=\"\",\"\",'Załącznik nr 1 do rozliczenia'!B261:C261)","v":""},null,null,null,"",null,0]
[{"$f":"'Załącznik nr 1 do rozliczenia'!A262","v":"109"},{"$f":"IF('Załącznik nr 1 do rozliczenia'!B262:C262=\"\",\"\",'Załącznik nr 1 do rozliczenia'!B262:C262)","v":""},null,null,null,"",null,0]
[{"$f":"'Załącznik nr 1 do rozliczenia'!A263","v":"110"},{"$f":"IF('Załącznik nr 1 do rozliczenia'!B263:C263=\"\",\"\",'Załącznik nr 1 do rozliczenia'!B263:C263)","v":""},null,null,null,"",null,0]
[{"$f":"'Załącznik nr 1 do rozliczenia'!A264","v":"111"},{"$f":"IF('Załącznik nr 1 do rozliczenia'!B264:C264=\"\",\"\",'Załącznik nr 1 do rozliczenia'!B264:C264)","v":""},null,null,null,"",null,0]
[{"$f":"'Załącznik nr 1 do rozliczenia'!A265","v":"112"},{"$f":"IF('Załącznik nr 1 do rozliczenia'!B265:C265=\"\",\"\",'Załącznik nr 1 do rozliczenia'!B265:C265)","v":""},null,null,null,"",null,0]
[{"$f":"'Załącznik nr 1 do rozliczenia'!A266","v":"113"},{"$f":"IF('Załącznik nr 1 do rozliczenia'!B266:C266=\"\",\"\",'Załącznik nr 1 do rozliczenia'!B266:C266)","v":""},null,null,null,"",null,0]
[{"$f":"'Załącznik nr 1 do rozliczenia'!A267","v":"114"},{"$f":"IF('Załącznik nr 1 do rozliczenia'!B267:C267=\"\",\"\",'Załącznik nr 1 do rozliczenia'!B267:C267)","v":""},null,null,null,"",null,0]
[{"$f":"'Załącznik nr 1 do rozliczenia'!A268","v":"115"},{"$f":"IF('Załącznik nr 1 do rozliczenia'!B268:C268=\"\",\"\",'Załącznik nr 1 do rozliczenia'!B268:C268)","v":""},null,null,null,"",null,0]
["Ogółem:",null,null,{"$f":"SUM(D150:D264)","v":0},{"$f":"SUM(E150:E264)","v":0},null,null,{"$f":"SUM(H150:H264)","v":0}]
[]
["B.3  Dane dotyczące linii komunikacyjnych "]
[null,null,"MIESIĄC",{"$f":"'Załącznik nr 1 do rozliczenia'!D273:E273","v":""},null,"2026 r."]
["Lp.","Nazwa linii komunikacyjnej",null,"Długość linii \n[km]","Ilość wykonanych kursów w okresie rozliczeniowym","Dni kursowania",null,"Zrealizowana praca eksploatacyjna \n[wzkm]"]
[1,"2",null,"3","4","5",null,"6"]
[{"$f":"'Załącznik nr 1 do rozliczenia'!A276","v":"1"},{"$f":"IF('Załącznik nr 1 do rozliczenia'!B276:C276=\"\",\"\",'Załącznik nr 1 do rozliczenia'!B276:C276)","v":""},null,null,null,"",null,{"$f":"D271*E271","v":0}]
[{"$f":"'Załącznik nr 1 do rozliczenia'!A277","v":"2"},{"$f":"IF('Załącznik nr 1 do rozliczenia'!B277:C277=\"\",\"\",'Załącznik nr 1 do rozliczenia'!B277:C277)","v":""},null,null,null,"",null,{"$f":"D272*E272","v":0}]
[{"$f":"'Załącznik nr 1 do rozliczenia'!A278","v":"3"},{"$f":"IF('Załącznik nr 1 do rozliczenia'!B278:C278=\"\",\"\",'Załącznik nr 1 do rozliczenia'!B278:C278)","v":""},null,null,null,"",null,0]
[{"$f":"'Załącznik nr 1 do rozliczenia'!A279","v":"4"},{"$f":"IF('Załącznik nr 1 do rozliczenia'!B279:C279=\"\",\"\",'Załącznik nr 1 do rozliczenia'!B279:C279)","v":""},null,null,null,"",null,0]
[{"$f":"'Załącznik nr 1 do rozliczenia'!A280","v":"5"},{"$f":"IF('Załącznik nr 1 do rozliczenia'!B280:C280=\"\",\"\",'Załącznik nr 1 do rozliczenia'!B280:C280)","v":""},null,null,null,"",null,0]
[{"$f":"'Załącznik nr 1 do rozliczenia'!A281","v":"6"},{"$f":"IF('Załącznik nr 1 do rozliczenia'!B281:C281=\"\",\"\",'Załącznik nr 1 do rozliczenia'!B281:C281)","v":""},null,null,null,"",null,0]
[{"$f":"'Załącznik nr 1 do rozliczenia'!A282","v":"7"},{"$f":"IF('Załącznik nr 1 do rozliczenia'!B282:C282=\"\",\"\",'Załącznik nr 1 do rozliczenia'!B282:C282)","v":""},null,null,null,"",null,0]
[{"$f":"'Załącznik nr 1 do rozliczenia'!A283","v":"8"},{"$f":"IF('Załącznik nr 1 do rozliczenia'!B283:C283=\"\",\"\",'Załącznik nr 1 do rozliczenia'!B283:C283)","v":""},null,null,null,"",null,0]
[{"$f":"'Załącznik nr 1 do rozliczenia'!A284","v":"9"},{"$f":"IF('Załącznik nr 1 do rozliczenia'!B284:C284=\"\",\"\",'Załącznik nr 1 do rozliczenia'!B284:C284)","v":""},null,null,null,"",null,0]
[{"$f":"'Załącznik nr 1 do rozliczenia'!A285","v":"10"},{"$f":"IF('Załącznik nr 1 do rozliczenia'!B285:C285=\"\",\"\",'Załącznik nr 1 do rozliczenia'!B285:C285)","v":""},null,null,null,"",null,0]
[{"$f":"'Załącznik nr 1 do rozliczenia'!A286","v":"11"},{"$f":"IF('Załącznik nr 1 do rozliczenia'!B286:C286=\"\",\"\",'Załącznik nr 1 do rozliczenia'!B286:C286)","v":""},null,null,null,"",null,0]
[{"$f":"'Załącznik nr 1 do rozliczenia'!A287","v":"12"},{"$f":"IF('Załącznik nr 1 do rozliczenia'!B287:C287=\"\",\"\",'Załącznik nr 1 do rozliczenia'!B287:C287)","v":""},null,null,null,"",null,0]
[{"$f":"'Załącznik nr 1 do rozliczenia'!A288","v":"13"},{"$f":"IF('Załącznik nr 1 do rozliczenia'!B288:C288=\"\",\"\",'Załącznik nr 1 do rozliczenia'!B288:C288)","v":""},null,null,null,"",null,0]
[{"$f":"'Załącznik nr 1 do rozliczenia'!A289","v":"14"},{"$f":"IF('Załącznik nr 1 do rozliczenia'!B289:C289=\"\",\"\",'Załącznik nr 1 do rozliczenia'!B289:C289)","v":""},null,null,null,"",null,0]
[{"$f":"'Załącznik nr 1 do rozliczenia'!A290","v":"15"},{"$f":"IF('Załącznik nr 1 do rozliczenia'!B290:C290=\"\",\"\",'Załącznik nr 1 do rozliczenia'!B290:C290)","v":""},null,null,null,"",null,0]
[{"$f":"'Załącznik nr 1 do rozliczenia'!A291","v":"16"},{"$f":"IF('Załącznik nr 1 do rozliczenia'!B291:C291=\"\",\"\",'Załącznik nr 1 do rozliczenia'!B291:C291)","v":""},null,null,null,"",null,0]
[{"$f":"'Załącznik nr 1 do rozliczenia'!A292","v":"17"},{"$f":"IF('Załącznik nr 1 do rozliczenia'!B292:C292=\"\",\"\",'Załącznik nr 1 do rozliczenia'!B292:C292)","v":""},null,null,null,"",null,0]
[{"$f":"'Załącznik nr 1 do rozliczenia'!A293","v":"18"},{"$f":"IF('Załącznik nr 1 do rozliczenia'!B293:C293=\"\",\"\",'Załącznik nr 1 do rozliczenia'!B293:C293)","v":""},null,null,null,"",null,0]
[{"$f":"'Załącznik nr 1 do rozliczenia'!A294","v":"19"},{"$f":"IF('Załącznik nr 1 do rozliczenia'!B294:C294=\"\",\"\",'Załącznik nr 1 do rozliczenia'!B294:C294)","v":""},null,null,null,"",null,0]
[{"$f":"'Załącznik nr 1 do rozliczenia'!A295","v":"20"},{"$f":"IF('Załącznik nr 1 do rozliczenia'!B295:C295=\"\",\"\",'Załącznik nr 1 do rozliczenia'!B295:C295)","v":""},null,null,null,"",null,0]
[{"$f":"'Załącznik nr 1 do rozliczenia'!A296","v":"21"},{"$f":"IF('Załącznik nr 1 do rozliczenia'!B296:C296=\"\",\"\",'Załącznik nr 1 do rozliczenia'!B296:C296)","v":""},null,null,null,"",null,0]
[{"$f":"'Załącznik nr 1 do rozliczenia'!A297","v":"22"},{"$f":"IF('Załącznik nr 1 do rozliczenia'!B297:C297=\"\",\"\",'Załącznik nr 1 do rozliczenia'!B297:C297)","v":""},null,null,null,"",null,0]
[{"$f":"'Załącznik nr 1 do rozliczenia'!A298","v":"23"},{"$f":"IF('Załącznik nr 1 do rozliczenia'!B298:C298=\"\",\"\",'Załącznik nr 1 do rozliczenia'!B298:C298)","v":""},null,null,null,"",null,0]
[{"$f":"'Załącznik nr 1 do rozliczenia'!A299","v":"24"},{"$f":"IF('Załącznik nr 1 do rozliczenia'!B299:C299=\"\",\"\",'Załącznik nr 1 do rozliczenia'!B299:C299)","v":""},null,null,null,"",null,0]
[{"$f":"'Załącznik nr 1 do rozliczenia'!A300","v":"25"},{"$f":"IF('Załącznik nr 1 do rozliczenia'!B300:C300=\"\",\"\",'Załącznik nr 1 do rozliczenia'!B300:C300)","v":""},null,null,null,"",null,0]
[{"$f":"'Załącznik nr 1 do rozliczenia'!A301","v":"26"},{"$f":"IF('Załącznik nr 1 do rozliczenia'!B301:C301=\"\",\"\",'Załącznik nr 1 do rozliczenia'!B301:C301)","v":""},null,null,null,"",null,0]
[{"$f":"'Załącznik nr 1 do rozliczenia'!A302","v":"27"},{"$f":"IF('Załącznik nr 1 do rozliczenia'!B302:C302=\"\",\"\",'Załącznik nr 1 do rozliczenia'!B302:C302)","v":""},null,null,null,"",null,0]
[{"$f":"'Załącznik nr 1 do rozliczenia'!A303","v":"28"},{"$f":"IF('Załącznik nr 1 do rozliczenia'!B303:C303=\"\",\"\",'Załącznik nr 1 do rozliczenia'!B303:C303)","v":""},null,null,null,"",null,0]
[{"$f":"'Załącznik nr 1 do rozliczenia'!A304","v":"29"},{"$f":"IF('Załącznik nr 1 do rozliczenia'!B304:C304=\"\",\"\",'Załącznik nr 1 do rozliczenia'!B304:C304)","v":""},null,null,null,"",null,0]
[{"$f":"'Załącznik nr 1 do rozliczenia'!A305","v":"30"},{"$f":"IF('Załącznik nr 1 do rozliczenia'!B305:C305=\"\",\"\",'Załącznik nr 1 do rozliczenia'!B305:C305)","v":""},null,null,null,"",null,0]
[{"$f":"'Załącznik nr 1 do rozliczenia'!A306","v":"31"},{"$f":"IF('Załącznik nr 1 do rozliczenia'!B306:C306=\"\",\"\",'Załącznik nr 1 do rozliczenia'!B306:C306)","v":""},null,null,null,"",null,0]
[{"$f":"'Załącznik nr 1 do rozliczenia'!A307","v":"32"},{"$f":"IF('Załącznik nr 1 do rozliczenia'!B307:C307=\"\",\"\",'Załącznik nr 1 do rozliczenia'!B307:C307)","v":""},null,null,null,"",null,0]
[{"$f":"'Załącznik nr 1 do rozliczenia'!A308","v":"33"},{"$f":"IF('Załącznik nr 1 do rozliczenia'!B308:C308=\"\",\"\",'Załącznik nr 1 do rozliczenia'!B308:C308)","v":""},null,null,null,"",null,0]
[{"$f":"'Załącznik nr 1 do rozliczenia'!A309","v":"34"},{"$f":"IF('Załącznik nr 1 do rozliczenia'!B309:C309=\"\",\"\",'Załącznik nr 1 do rozliczenia'!B309:C309)","v":""},null,null,null,"",null,0]
[{"$f":"'Załącznik nr 1 do rozliczenia'!A310","v":"35"},{"$f":"IF('Załącznik nr 1 do rozliczenia'!B310:C310=\"\",\"\",'Załącznik nr 1 do rozliczenia'!B310:C310)","v":""},null,null,null,"",null,0]
[{"$f":"'Załącznik nr 1 do rozliczenia'!A311","v":"36"},{"$f":"IF('Załącznik nr 1 do rozliczenia'!B311:C311=\"\",\"\",'Załącznik nr 1 do rozliczenia'!B311:C311)","v":""},null,null,null,"",null,0]
[{"$f":"'Załącznik nr 1 do rozliczenia'!A312","v":"37"},{"$f":"IF('Załącznik nr 1 do rozliczenia'!B312:C312=\"\",\"\",'Załącznik nr 1 do rozliczenia'!B312:C312)","v":""},null,null,null,"",null,0]
[{"$f":"'Załącznik nr 1 do rozliczenia'!A313","v":"38"},{"$f":"IF('Załącznik nr 1 do rozliczenia'!B313:C313=\"\",\"\",'Załącznik nr 1 do rozliczenia'!B313:C313)","v":""},null,null,null,"",null,0]
[{"$f":"'Załącznik nr 1 do rozliczenia'!A314","v":"39"},{"$f":"IF('Załącznik nr 1 do rozliczenia'!B314:C314=\"\",\"\",'Załącznik nr 1 do rozliczenia'!B314:C314)","v":""},null,null,null,"",null,0]
[{"$f":"'Załącznik nr 1 do rozliczenia'!A315","v":"40"},{"$f":"IF('Załącznik nr 1 do rozliczenia'!B315:C315=\"\",\"\",'Załącznik nr 1 do rozliczenia'!B315:C315)","v":""},null,null,null,"",null,0]
[{"$f":"'Załącznik nr 1 do rozliczenia'!A316","v":"41"},{"$f":"IF('Załącznik nr 1 do rozliczenia'!B316:C316=\"\",\"\",'Załącznik nr 1 do rozliczenia'!B316:C316)","v":""},null,null,null,"",null,0]
[{"$f":"'Załącznik nr 1 do rozliczenia'!A317","v":"42"},{"$f":"IF('Załącznik nr 1 do rozliczenia'!B317:C317=\"\",\"\",'Załącznik nr 1 do rozliczenia'!B317:C317)","v":""},null,null,null,"",null,0]
[{"$f":"'Załącznik nr 1 do rozliczenia'!A318","v":"43"},{"$f":"IF('Załącznik nr 1 do rozliczenia'!B318:C318=\"\",\"\",'Załącznik nr 1 do rozliczenia'!B318:C318)","v":""},null,null,null,"",null,0]
[{"$f":"'Załącznik nr 1 do rozliczenia'!A319","v":"44"},{"$f":"IF('Załącznik nr 1 do rozliczenia'!B319:C319=\"\",\"\",'Załącznik nr 1 do rozliczenia'!B319:C319)","v":""},null,null,null,"",null,0]
[{"$f":"'Załącznik nr 1 do rozliczenia'!A320","v":"45"},{"$f":"IF('Załącznik nr 1 do rozliczenia'!B320:C320=\"\",\"\",'Załącznik nr 1 do rozliczenia'!B320:C320)","v":""},null,null,null,"",null,0]
[{"$f":"'Załącznik nr 1 do rozliczenia'!A321","v":"46"},{"$f":"IF('Załącznik nr 1 do rozliczenia'!B321:C321=\"\",\"\",'Załącznik nr 1 do rozliczenia'!B321:C321)","v":""},null,null,null,"",null,0]
[{"$f":"'Załącznik nr 1 do rozliczenia'!A322","v":"47"},{"$f":"IF('Załącznik nr 1 do rozliczenia'!B322:C322=\"\",\"\",'Załącznik nr 1 do rozliczenia'!B322:C322)","v":""},null,null,null,"",null,0]
[{"$f":"'Załącznik nr 1 do rozliczenia'!A323","v":"48"},{"$f":"IF('Załącznik nr 1 do rozliczenia'!B323:C323=\"\",\"\",'Załącznik nr 1 do rozliczenia'!B323:C323)","v":""},null,null,null,"",null,0]
[{"$f":"'Załącznik nr 1 do rozliczenia'!A324","v":"49"},{"$f":"IF('Załącznik nr 1 do rozliczenia'!B324:C324=\"\",\"\",'Załącznik nr 1 do rozliczenia'!B324:C324)","v":""},null,null,null,"",null,0]
[{"$f":"'Załącznik nr 1 do rozliczenia'!A325","v":"50"},{"$f":"IF('Załącznik nr 1 do rozliczenia'!B325:C325=\"\",\"\",'Załącznik nr 1 do rozliczenia'!B325:C325)","v":""},null,null,null,"",null,0]
[{"$f":"'Załącznik nr 1 do rozliczenia'!A326","v":"51"},{"$f":"IF('Załącznik nr 1 do rozliczenia'!B326:C326=\"\",\"\",'Załącznik nr 1 do rozliczenia'!B326:C326)","v":""},null,null,null,"",null,0]
[{"$f":"'Załącznik nr 1 do rozliczenia'!A327","v":"52"},{"$f":"IF('Załącznik nr 1 do rozliczenia'!B327:C327=\"\",\"\",'Załącznik nr 1 do rozliczenia'!B327:C327)","v":""},null,null,null,"",null,0]
[{"$f":"'Załącznik nr 1 do rozliczenia'!A328","v":"53"},{"$f":"IF('Załącznik nr 1 do rozliczenia'!B328:C328=\"\",\"\",'Załącznik nr 1 do rozliczenia'!B328:C328)","v":""},null,null,null,"",null,0]
[{"$f":"'Załącznik nr 1 do rozliczenia'!A329","v":"54"},{"$f":"IF('Załącznik nr 1 do rozliczenia'!B329:C329=\"\",\"\",'Załącznik nr 1 do rozliczenia'!B329:C329)","v":""},null,null,null,"",null,0]
[{"$f":"'Załącznik nr 1 do rozliczenia'!A330","v":"55"},{"$f":"IF('Załącznik nr 1 do rozliczenia'!B330:C330=\"\",\"\",'Załącznik nr 1 do rozliczenia'!B330:C330)","v":""},null,null,null,"",null,0]
[{"$f":"'Załącznik nr 1 do rozliczenia'!A331","v":"56"},{"$f":"IF('Załącznik nr 1 do rozliczenia'!B331:C331=\"\",\"\",'Załącznik nr 1 do rozliczenia'!B331:C331)","v":""},null,null,null,"",null,0]
[{"$f":"'Załącznik nr 1 do rozliczenia'!A332","v":"57"},{"$f":"IF('Załącznik nr 1 do rozliczenia'!B332:C332=\"\",\"\",'Załącznik nr 1 do rozliczenia'!B332:C332)","v":""},null,null,null,"",null,0]
[{"$f":"'Załącznik nr 1 do rozliczenia'!A333","v":"58"},{"$f":"IF('Załącznik nr 1 do rozliczenia'!B333:C333=\"\",\"\",'Załącznik nr 1 do rozliczenia'!B333:C333)","v":""},null,null,null,"",null,0]
[{"$f":"'Załącznik nr 1 do rozliczenia'!A334","v":"59"},{"$f":"IF('Załącznik nr 1 do rozliczenia'!B334:C334=\"\",\"\",'Załącznik nr 1 do rozliczenia'!B334:C334)","v":""},null,null,null,"",null,0]
[{"$f":"'Załącznik nr 1 do rozliczenia'!A335","v":"60"},{"$f":"IF('Załącznik nr 1 do rozliczenia'!B335:C335=\"\",\"\",'Załącznik nr 1 do rozliczenia'!B335:C335)","v":""},null,null,null,"",null,0]
[{"$f":"'Załącznik nr 1 do rozliczenia'!A336","v":"61"},{"$f":"IF('Załącznik nr 1 do rozliczenia'!B336:C336=\"\",\"\",'Załącznik nr 1 do rozliczenia'!B336:C336)","v":""},null,null,null,"",null,0]
[{"$f":"'Załącznik nr 1 do rozliczenia'!A337","v":"62"},{"$f":"IF('Załącznik nr 1 do rozliczenia'!B337:C337=\"\",\"\",'Załącznik nr 1 do rozliczenia'!B337:C337)","v":""},null,null,null,"",null,0]
[{"$f":"'Załącznik nr 1 do rozliczenia'!A338","v":"63"},{"$f":"IF('Załącznik nr 1 do rozliczenia'!B338:C338=\"\",\"\",'Załącznik nr 1 do rozliczenia'!B338:C338)","v":""},null,null,null,"",null,0]
[{"$f":"'Załącznik nr 1 do rozliczenia'!A339","v":"64"},{"$f":"IF('Załącznik nr 1 do rozliczenia'!B339:C339=\"\",\"\",'Załącznik nr 1 do rozliczenia'!B339:C339)","v":""},null,null,null,"",null,0]
[{"$f":"'Załącznik nr 1 do rozliczenia'!A340","v":"65"},{"$f":"IF('Załącznik nr 1 do rozliczenia'!B340:C340=\"\",\"\",'Załącznik nr 1 do rozliczenia'!B340:C340)","v":""},null,null,null,"",null,0]
[{"$f":"'Załącznik nr 1 do rozliczenia'!A341","v":"66"},{"$f":"IF('Załącznik nr 1 do rozliczenia'!B341:C341=\"\",\"\",'Załącznik nr 1 do rozliczenia'!B341:C341)","v":""},null,null,null,"",null,{"$f":"D336*E336","v":0}]
[{"$f":"'Załącznik nr 1 do rozliczenia'!A342","v":"67"},{"$f":"IF('Załącznik nr 1 do rozliczenia'!B342:C342=\"\",\"\",'Załącznik nr 1 do rozliczenia'!B342:C342)","v":""},null,null,null,"",null,0]
[{"$f":"'Załącznik nr 1 do rozliczenia'!A343","v":"68"},{"$f":"IF('Załącznik nr 1 do rozliczenia'!B343:C343=\"\",\"\",'Załącznik nr 1 do rozliczenia'!B343:C343)","v":""},null,null,null,"",null,0]
[{"$f":"'Załącznik nr 1 do rozliczenia'!A344","v":"69"},{"$f":"IF('Załącznik nr 1 do rozliczenia'!B344:C344=\"\",\"\",'Załącznik nr 1 do rozliczenia'!B344:C344)","v":""},null,null,null,"",null,0]
[{"$f":"'Załącznik nr 1 do rozliczenia'!A345","v":"70"},{"$f":"IF('Załącznik nr 1 do rozliczenia'!B345:C345=\"\",\"\",'Załącznik nr 1 do rozliczenia'!B345:C345)","v":""},null,null,null,"",null,0]
[{"$f":"'Załącznik nr 1 do rozliczenia'!A346","v":"71"},{"$f":"IF('Załącznik nr 1 do rozliczenia'!B346:C346=\"\",\"\",'Załącznik nr 1 do rozliczenia'!B346:C346)","v":""},null,null,null,"",null,0]
[{"$f":"'Załącznik nr 1 do rozliczenia'!A347","v":"72"},{"$f":"IF('Załącznik nr 1 do rozliczenia'!B347:C347=\"\",\"\",'Załącznik nr 1 do rozliczenia'!B347:C347)","v":""},null,null,null,"",null,0]
[{"$f":"'Załącznik nr 1 do rozliczenia'!A348","v":"73"},{"$f":"IF('Załącznik nr 1 do rozliczenia'!B348:C348=\"\",\"\",'Załącznik nr 1 do rozliczenia'!B348:C348)","v":""},null,null,null,"",null,0]
[{"$f":"'Załącznik nr 1 do rozliczenia'!A349","v":"74"},{"$f":"IF('Załącznik nr 1 do rozliczenia'!B349:C349=\"\",\"\",'Załącznik nr 1 do rozliczenia'!B349:C349)","v":""},null,null,null,"",null,0]
[{"$f":"'Załącznik nr 1 do rozliczenia'!A350","v":"75"},{"$f":"IF('Załącznik nr 1 do rozliczenia'!B350:C350=\"\",\"\",'Załącznik nr 1 do rozliczenia'!B350:C350)","v":""},null,null,null,"",null,0]
[{"$f":"'Załącznik nr 1 do rozliczenia'!A351","v":"76"},{"$f":"IF('Załącznik nr 1 do rozliczenia'!B351:C351=\"\",\"\",'Załącznik nr 1 do rozliczenia'!B351:C351)","v":""},null,null,null,"",null,0]
[{"$f":"'Załącznik nr 1 do rozliczenia'!A352","v":"77"},{"$f":"IF('Załącznik nr 1 do rozliczenia'!B352:C352=\"\",\"\",'Załącznik nr 1 do rozliczenia'!B352:C352)","v":""},null,null,null,"",null,0]
[{"$f":"'Załącznik nr 1 do rozliczenia'!A353","v":"78"},{"$f":"IF('Załącznik nr 1 do rozliczenia'!B353:C353=\"\",\"\",'Załącznik nr 1 do rozliczenia'!B353:C353)","v":""},null,null,null,"",null,0]
[{"$f":"'Załącznik nr 1 do rozliczenia'!A354","v":"79"},{"$f":"IF('Załącznik nr 1 do rozliczenia'!B354:C354=\"\",\"\",'Załącznik nr 1 do rozliczenia'!B354:C354)","v":""},null,null,null,"",null,0]
[{"$f":"'Załącznik nr 1 do rozliczenia'!A355","v":"80"},{"$f":"IF('Załącznik nr 1 do rozliczenia'!B355:C355=\"\",\"\",'Załącznik nr 1 do rozliczenia'!B355:C355)","v":""},null,null,null,"",null,0]
[{"$f":"'Załącznik nr 1 do rozliczenia'!A356","v":"81"},{"$f":"IF('Załącznik nr 1 do rozliczenia'!B356:C356=\"\",\"\",'Załącznik nr 1 do rozliczenia'!B356:C356)","v":""},null,null,null,"",null,0]
[{"$f":"'Załącznik nr 1 do rozliczenia'!A357","v":"82"},{"$f":"IF('Załącznik nr 1 do rozliczenia'!B357:C357=\"\",\"\",'Załącznik nr 1 do rozliczenia'!B357:C357)","v":""},null,null,null,"",null,0]
[{"$f":"'Załącznik nr 1 do rozliczenia'!A358","v":"83"},{"$f":"IF('Załącznik nr 1 do rozliczenia'!B358:C358=\"\",\"\",'Załącznik nr 1 do rozliczenia'!B358:C358)","v":""},null,null,null,"",null,0]
[{"$f":"'Załącznik nr 1 do rozliczenia'!A359","v":"84"},{"$f":"IF('Załącznik nr 1 do rozliczenia'!B359:C359=\"\",\"\",'Załącznik nr 1 do rozliczenia'!B359:C359)","v":""},null,null,null,"",null,0]
[{"$f":"'Załącznik nr 1 do rozliczenia'!A360","v":"85"},{"$f":"IF('Załącznik nr 1 do rozliczenia'!B360:C360=\"\",\"\",'Załącznik nr 1 do rozliczenia'!B360:C360)","v":""},null,null,null,"",null,0]
[{"$f":"'Załącznik nr 1 do rozliczenia'!A361","v":"86"},{"$f":"IF('Załącznik nr 1 do rozliczenia'!B361:C361=\"\",\"\",'Załącznik nr 1 do rozliczenia'!B361:C361)","v":""},null,null,null,"",null,0]
[{"$f":"'Załącznik nr 1 do rozliczenia'!A362","v":"87"},{"$f":"IF('Załącznik nr 1 do rozliczenia'!B362:C362=\"\",\"\",'Załącznik nr 1 do rozliczenia'!B362:C362)","v":""},null,null,null,"",null,0]
[{"$f":"'Załącznik nr 1 do rozliczenia'!A363","v":"88"},{"$f":"IF('Załącznik nr 1 do rozliczenia'!B363:C363=\"\",\"\",'Załącznik nr 1 do rozliczenia'!B363:C363)","v":""},null,null,null,"",null,0]
[{"$f":"'Załącznik nr 1 do rozliczenia'!A364","v":"89"},{"$f":"IF('Załącznik nr 1 do rozliczenia'!B364:C364=\"\",\"\",'Załącznik nr 1 do rozliczenia'!B364:C364)","v":""},null,null,null,"",null,0]
[{"$f":"'Załącznik nr 1 do rozliczenia'!A365","v":"90"},{"$f":"IF('Załącznik nr 1 do rozliczenia'!B365:C365=\"\",\"\",'Załącznik nr 1 do rozliczenia'!B365:C365)","v":""},null,null,null,"",null,0]
[{"$f":"'Załącznik nr 1 do rozliczenia'!A366","v":"91"},{"$f":"IF('Załącznik nr 1 do rozliczenia'!B366:C366=\"\",\"\",'Załącznik nr 1 do rozliczenia'!B366:C366)","v":""},null,null,null,"",null,0]
[{"$f":"'Załącznik nr 1 do rozliczenia'!A367","v":"92"},{"$f":"IF('Załącznik nr 1 do rozliczenia'!B367:C367=\"\",\"\",'Załącznik nr 1 do rozliczenia'!B367:C367)","v":""},null,null,null,"",null,0]
[{"$f":"'Załącznik nr 1 do rozliczenia'!A368","v":"93"},{"$f":"IF('Załącznik nr 1 do rozliczenia'!B368:C368=\"\",\"\",'Załącznik nr 1 do rozliczenia'!B368:C368)","v":""},null,null,null,"",null,0]
[{"$f":"'Załącznik nr 1 do rozliczenia'!A369","v":"94"},{"$f":"IF('Załącznik nr 1 do rozliczenia'!B369:C369=\"\",\"\",'Załącznik nr 1 do rozliczenia'!B369:C369)","v":""},null,null,null,"",null,0]
[{"$f":"'Załącznik nr 1 do rozliczenia'!A370","v":"95"},{"$f":"IF('Załącznik nr 1 do rozliczenia'!B370:C370=\"\",\"\",'Załącznik nr 1 do rozliczenia'!B370:C370)","v":""},null,null,null,"",null,0]
[{"$f":"'Załącznik nr 1 do rozliczenia'!A371","v":"96"},{"$f":"IF('Załącznik nr 1 do rozliczenia'!B371:C371=\"\",\"\",'Załącznik nr 1 do rozliczenia'!B371:C371)","v":""},null,null,null,"",null,0]
[{"$f":"'Załącznik nr 1 do rozliczenia'!A372","v":"97"},{"$f":"IF('Załącznik nr 1 do rozliczenia'!B372:C372=\"\",\"\",'Załącznik nr 1 do rozliczenia'!B372:C372)","v":""},null,null,null,"",null,0]
[{"$f":"'Załącznik nr 1 do rozliczenia'!A373","v":"98"},{"$f":"IF('Załącznik nr 1 do rozliczenia'!B373:C373=\"\",\"\",'Załącznik nr 1 do rozliczenia'!B373:C373)","v":""},null,null,null,"",null,0]
[{"$f":"'Załącznik nr 1 do rozliczenia'!A374","v":"99"},{"$f":"IF('Załącznik nr 1 do rozliczenia'!B374:C374=\"\",\"\",'Załącznik nr 1 do rozliczenia'!B374:C374)","v":""},null,null,null,"",null,0]
[{"$f":"'Załącznik nr 1 do rozliczenia'!A375","v":"100"},{"$f":"IF('Załącznik nr 1 do rozliczenia'!B375:C375=\"\",\"\",'Załącznik nr 1 do rozliczenia'!B375:C375)","v":""},null,null,null,"",null,0]
[{"$f":"'Załącznik nr 1 do rozliczenia'!A376","v":"101"},{"$f":"IF('Załącznik nr 1 do rozliczenia'!B376:C376=\"\",\"\",'Załącznik nr 1 do rozliczenia'!B376:C376)","v":""},null,null,null,"",null,0]
[{"$f":"'Załącznik nr 1 do rozliczenia'!A377","v":"102"},{"$f":"IF('Załącznik nr 1 do rozliczenia'!B377:C377=\"\",\"\",'Załącznik nr 1 do rozliczenia'!B377:C377)","v":""},null,null,null,"",null,0]
[{"$f":"'Załącznik nr 1 do rozliczenia'!A378","v":"103"},{"$f":"IF('Załącznik nr 1 do rozliczenia'!B378:C378=\"\",\"\",'Załącznik nr 1 do rozliczenia'!B378:C378)","v":""},null,null,null,"",null,0]
[{"$f":"'Załącznik nr 1 do rozliczenia'!A379","v":"104"},{"$f":"IF('Załącznik nr 1 do rozliczenia'!B379:C379=\"\",\"\",'Załącznik nr 1 do rozliczenia'!B379:C379)","v":""},null,null,null,"",null,0]
[{"$f":"'Załącznik nr 1 do rozliczenia'!A380","v":"105"},{"$f":"IF('Załącznik nr 1 do rozliczenia'!B380:C380=\"\",\"\",'Załącznik nr 1 do rozliczenia'!B380:C380)","v":""},null,null,null,"",null,0]
[{"$f":"'Załącznik nr 1 do rozliczenia'!A381","v":"106"},{"$f":"IF('Załącznik nr 1 do rozliczenia'!B381:C381=\"\",\"\",'Załącznik nr 1 do rozliczenia'!B381:C381)","v":""},null,null,null,"",null,{"$f":"D376*E376","v":0}]
[{"$f":"'Załącznik nr 1 do rozliczenia'!A382","v":"107"},{"$f":"IF('Załącznik nr 1 do rozliczenia'!B382:C382=\"\",\"\",'Załącznik nr 1 do rozliczenia'!B382:C382)","v":""},null,null,null,"",null,0]
[{"$f":"'Załącznik nr 1 do rozliczenia'!A383","v":"108"},{"$f":"IF('Załącznik nr 1 do rozliczenia'!B383:C383=\"\",\"\",'Załącznik nr 1 do rozliczenia'!B383:C383)","v":""},null,null,null,"",null,0]
[{"$f":"'Załącznik nr 1 do rozliczenia'!A384","v":"109"},{"$f":"IF('Załącznik nr 1 do rozliczenia'!B384:C384=\"\",\"\",'Załącznik nr 1 do rozliczenia'!B384:C384)","v":""},null,null,null,"",null,0]
[{"$f":"'Załącznik nr 1 do rozliczenia'!A385","v":"110"},{"$f":"IF('Załącznik nr 1 do rozliczenia'!B385:C385=\"\",\"\",'Załącznik nr 1 do rozliczenia'!B385:C385)","v":""},null,null,null,"",null,0]
[{"$f":"'Załącznik nr 1 do rozliczenia'!A386","v":"111"},{"$f":"IF('Załącznik nr 1 do rozliczenia'!B386:C386=\"\",\"\",'Załącznik nr 1 do rozliczenia'!B386:C386)","v":""},null,null,null,"",null,0]
[{"$f":"'Załącznik nr 1 do rozliczenia'!A387","v":"112"},{"$f":"IF('Załącznik nr 1 do rozliczenia'!B387:C387=\"\",\"\",'Załącznik nr 1 do rozliczenia'!B387:C387)","v":""},null,null,null,"",null,{"$f":"D382*E382","v":0}]
[{"$f":"'Załącznik nr 1 do rozliczenia'!A388","v":"113"},{"$f":"IF('Załącznik nr 1 do rozliczenia'!B388:C388=\"\",\"\",'Załącznik nr 1 do rozliczenia'!B388:C388)","v":""},null,null,null,"",null,0]
[{"$f":"'Załącznik nr 1 do rozliczenia'!A389","v":"114"},{"$f":"IF('Załącznik nr 1 do rozliczenia'!B389:C389=\"\",\"\",'Załącznik nr 1 do rozliczenia'!B389:C389)","v":""},null,null,null,"",null,0]
[{"$f":"'Załącznik nr 1 do rozliczenia'!A390","v":"115"},{"$f":"IF('Załącznik nr 1 do rozliczenia'!B390:C390=\"\",\"\",'Załącznik nr 1 do rozliczenia'!B390:C390)","v":""},null,null,null,"",null,0]
["Ogółem:",null,null,{"$f":"SUM(D271:D385)","v":0},{"$f":"SUM(E271:E385)","v":0},null,null,{"$f":"SUM(H271:I385)","v":0}]
[]
["Tabele B.1 - B.3 proszę wypełnić zgodnie z wytycznymi podanymi poniżej:\nKolumna nr 2\nNazwa linii komunikacyjnej zgodna z umową o dopłatę. Kolumna wypełni się automatycznie po uzupełnieniu załącznika nr 1.\nKolumna nr 3\nProszę wskazać długość linii komunikacyjnej.\nKolumna nr 4\nProszę wskazać ilość wykonanych kursów w okresie rozliczeniowym.\nKolumna 5\nProszę wskazać dni w które kursuje linia komunikacyjna (zgodnie z objaśnieniami określonymi w załączniku do rozporządzenia Ministra Transportu, Budownictwa i Gospodarki Morskiej z dnia 10 kwietnia 2012 r. w sprawie rozkładów jazdy (t.j. Dz. U. z 2018 r. poz. 202).\nKolumna nr 6 \nProszę wskazać wykonaną  w okresie rozliczeniowym pracę eksploatacyjną w wozokilometrach."]
[]
[]
[]
[]
[]
[]
[]
[]
[]
[]
[]
[]
["C.1 Oświadczenie"]
["Oświadczam, że dane zawarte w załączniku są kompletne i zgodne ze stanem faktycznym."]
[]
["Łączna wielkość pracy eksploatacyjnej w okresie rozliczeniowym wynosi:",null,null,null,null,{"$f":"H386+H265+H144","v":0},null,"wozokilometrów."]
[]
[]
[]
[null,null,null,"dane osób działających w imieniu organizatora publicznego transportu zbiorowego składających kwalifikowany podpis elektroniczny pod wnioskiem "]

{"sheet":"Podsumowanie","index":3,"n_rows":117,"n_cols":14,"rows_kept":117,"cut":false,"hidden":true,"merged":[]}
[{"$f":"'Rozliczenie kwartalne'!A400","v":"Lp."},{"$f":"'Rozliczenie kwartalne'!B400","v":"Nazwa linii komunikacyjnej"},{"$f":"'Rozliczenie kwartalne'!C400","v":"Liczba przewiezionych osób"},{"$f":"'Rozliczenie kwartalne'!D400","v":"Wielkość pracy eksploatacyjnej w okresie rozliczeniowym [wzkm]"},{"$f":"'Rozliczenie kwartalne'!E400","v":"Deficyt w okresie rozliczeniowym [zł]"},{"$f":"'Rozliczenie kwartalne'!F400","v":"Kwota środków własnych organizatora \n[zł]"},{"$f":"'Rozliczenie kwartalne'!G400","v":"Cena usługi \n[zł]"},{"$f":"'Rozliczenie kwartalne'!H400","v":"Część ceny usługi sfinansowana ze środków własnych organizatora  [zł/wzkm]"},{"$f":"'Rozliczenie kwartalne'!I400","v":"Procentowa wartość części ceny usługi sfinansowanej ze środków własnych organizatora \n[%]"},{"$f":"'Rozliczenie kwartalne'!J400","v":"Należna kwota dopłaty w okresie rozliczeniowym [zł]"},{"$f":"'Rozliczenie kwartalne'!K400","v":"Pobrana dopłata w okresie rozliczeniowym - wniosek kwartalny \n[zł]"},{"$f":"'Rozliczenie kwartalne'!L400","v":"Niewykorzystana kwota dopłaty z poprzedniego okresu rozliczeniowego (rozliczona w bieżącym okresie)\n[zł]"},{"$f":"'Rozliczenie kwartalne'!M400","v":"Faktycznie wypłacona kwota dopłaty w bieżącym okresie\n[zł]"},{"$f":"'Rozliczenie kwartalne'!N400","v":"Niewykorzystana kwota dopłaty w bieżącym okresie rozliczeniowym\n[zł]"}]
[{"$f":"'Rozliczenie kwartalne'!A402","v":"1"},{"$f":"'Rozliczenie kwartalne'!B402","v":""},{"$f":"'Rozliczenie kwartalne'!C402","v":0},{"$f":"'Rozliczenie kwartalne'!D402","v":0},{"$f":"'Rozliczenie kwartalne'!E402","v":0},{"$f":"'Rozliczenie kwartalne'!F402","v":0},{"$f":"'Rozliczenie kwartalne'!G402","v":0},{"$f":"'Rozliczenie kwartalne'!H402","v":0},{"$f":"'Rozliczenie kwartalne'!I402","v":0},{"$f":"'Rozliczenie kwartalne'!J402","v":0},{"$f":"'Rozliczenie kwartalne'!K402","v":0},{"$f":"'Rozliczenie kwartalne'!L402","v":0},{"$f":"'Rozliczenie kwartalne'!M402","v":0},{"$f":"'Rozliczenie kwartalne'!N402","v":0}]
[{"$f":"'Rozliczenie kwartalne'!A403","v":"2"},{"$f":"'Rozliczenie kwartalne'!B403","v":""},{"$f":"'Rozliczenie kwartalne'!C403","v":0},{"$f":"'Rozliczenie kwartalne'!D403","v":0},{"$f":"'Rozliczenie kwartalne'!E403","v":0},{"$f":"'Rozliczenie kwartalne'!F403","v":0},{"$f":"'Rozliczenie kwartalne'!G403","v":0},{"$f":"'Rozliczenie kwartalne'!H403","v":0},{"$f":"'Rozliczenie kwartalne'!I403","v":0},{"$f":"'Rozliczenie kwartalne'!J403","v":0},{"$f":"'Rozliczenie kwartalne'!K403","v":0},{"$f":"'Rozliczenie kwartalne'!L403","v":0},{"$f":"'Rozliczenie kwartalne'!M403","v":0},{"$f":"'Rozliczenie kwartalne'!N403","v":0}]
[{"$f":"'Rozliczenie kwartalne'!A404","v":"3"},{"$f":"'Rozliczenie kwartalne'!B404","v":""},{"$f":"'Rozliczenie kwartalne'!C404","v":0},{"$f":"'Rozliczenie kwartalne'!D404","v":0},{"$f":"'Rozliczenie kwartalne'!E404","v":0},{"$f":"'Rozliczenie kwartalne'!F404","v":0},{"$f":"'Rozliczenie kwartalne'!G404","v":0},{"$f":"'Rozliczenie kwartalne'!H404","v":0},{"$f":"'Rozliczenie kwartalne'!I404","v":0},{"$f":"'Rozliczenie kwartalne'!J404","v":0},{"$f":"'Rozliczenie kwartalne'!K404","v":0},{"$f":"'Rozliczenie kwartalne'!L404","v":0},{"$f":"'Rozliczenie kwartalne'!M404","v":0},{"$f":"'Rozliczenie kwartalne'!N404","v":0}]
[{"$f":"'Rozliczenie kwartalne'!A405","v":"4"},{"$f":"'Rozliczenie kwartalne'!B405","v":""},{"$f":"'Rozliczenie kwartalne'!C405","v":0},{"$f":"'Rozliczenie kwartalne'!D405","v":0},{"$f":"'Rozliczenie kwartalne'!E405","v":0},{"$f":"'Rozliczenie kwartalne'!F405","v":0},{"$f":"'Rozliczenie kwartalne'!G405","v":0},{"$f":"'Rozliczenie kwartalne'!H405","v":0},{"$f":"'Rozliczenie kwartalne'!I405","v":0},{"$f":"'Rozliczenie kwartalne'!J405","v":0},{"$f":"'Rozliczenie kwartalne'!K405","v":0},{"$f":"'Rozliczenie kwartalne'!L405","v":0},{"$f":"'Rozliczenie kwartalne'!M405","v":0},{"$f":"'Rozliczenie kwartalne'!N405","v":0}]
[{"$f":"'Rozliczenie kwartalne'!A406","v":"5"},{"$f":"'Rozliczenie kwartalne'!B406","v":""},{"$f":"'Rozliczenie kwartalne'!C406","v":0},{"$f":"'Rozliczenie kwartalne'!D406","v":0},{"$f":"'Rozliczenie kwartalne'!E406","v":0},{"$f":"'Rozliczenie kwartalne'!F406","v":0},{"$f":"'Rozliczenie kwartalne'!G406","v":0},{"$f":"'Rozliczenie kwartalne'!H406","v":0},{"$f":"'Rozliczenie kwartalne'!I406","v":0},{"$f":"'Rozliczenie kwartalne'!J406","v":0},{"$f":"'Rozliczenie kwartalne'!K406","v":0},{"$f":"'Rozliczenie kwartalne'!L406","v":0},{"$f":"'Rozliczenie kwartalne'!M406","v":0},{"$f":"'Rozliczenie kwartalne'!N406","v":0}]
[{"$f":"'Rozliczenie kwartalne'!A407","v":"6"},{"$f":"'Rozliczenie kwartalne'!B407","v":""},{"$f":"'Rozliczenie kwartalne'!C407","v":0},{"$f":"'Rozliczenie kwartalne'!D407","v":0},{"$f":"'Rozliczenie kwartalne'!E407","v":0},{"$f":"'Rozliczenie kwartalne'!F407","v":0},{"$f":"'Rozliczenie kwartalne'!G407","v":0},{"$f":"'Rozliczenie kwartalne'!H407","v":0},{"$f":"'Rozliczenie kwartalne'!I407","v":0},{"$f":"'Rozliczenie kwartalne'!J407","v":0},{"$f":"'Rozliczenie kwartalne'!K407","v":0},{"$f":"'Rozliczenie kwartalne'!L407","v":0},{"$f":"'Rozliczenie kwartalne'!M407","v":0},{"$f":"'Rozliczenie kwartalne'!N407","v":0}]
[{"$f":"'Rozliczenie kwartalne'!A408","v":"7"},{"$f":"'Rozliczenie kwartalne'!B408","v":""},{"$f":"'Rozliczenie kwartalne'!C408","v":0},{"$f":"'Rozliczenie kwartalne'!D408","v":0},{"$f":"'Rozliczenie kwartalne'!E408","v":0},{"$f":"'Rozliczenie kwartalne'!F408","v":0},{"$f":"'Rozliczenie kwartalne'!G408","v":0},{"$f":"'Rozliczenie kwartalne'!H408","v":0},{"$f":"'Rozliczenie kwartalne'!I408","v":0},{"$f":"'Rozliczenie kwartalne'!J408","v":0},{"$f":"'Rozliczenie kwartalne'!K408","v":0},{"$f":"'Rozliczenie kwartalne'!L408","v":0},{"$f":"'Rozliczenie kwartalne'!M408","v":0},{"$f":"'Rozliczenie kwartalne'!N408","v":0}]
[{"$f":"'Rozliczenie kwartalne'!A409","v":"8"},{"$f":"'Rozliczenie kwartalne'!B409","v":""},{"$f":"'Rozliczenie kwartalne'!C409","v":0},{"$f":"'Rozliczenie kwartalne'!D409","v":0},{"$f":"'Rozliczenie kwartalne'!E409","v":0},{"$f":"'Rozliczenie kwartalne'!F409","v":0},{"$f":"'Rozliczenie kwartalne'!G409","v":0},{"$f":"'Rozliczenie kwartalne'!H409","v":0},{"$f":"'Rozliczenie kwartalne'!I409","v":0},{"$f":"'Rozliczenie kwartalne'!J409","v":0},{"$f":"'Rozliczenie kwartalne'!K409","v":0},{"$f":"'Rozliczenie kwartalne'!L409","v":0},{"$f":"'Rozliczenie kwartalne'!M409","v":0},{"$f":"'Rozliczenie kwartalne'!N409","v":0}]
[{"$f":"'Rozliczenie kwartalne'!A410","v":"9"},{"$f":"'Rozliczenie kwartalne'!B410","v":""},{"$f":"'Rozliczenie kwartalne'!C410","v":0},{"$f":"'Rozliczenie kwartalne'!D410","v":0},{"$f":"'Rozliczenie kwartalne'!E410","v":0},{"$f":"'Rozliczenie kwartalne'!F410","v":0},{"$f":"'Rozliczenie kwartalne'!G410","v":0},{"$f":"'Rozliczenie kwartalne'!H410","v":0},{"$f":"'Rozliczenie kwartalne'!I410","v":0},{"$f":"'Rozliczenie kwartalne'!J410","v":0},{"$f":"'Rozliczenie kwartalne'!K410","v":0},{"$f":"'Rozliczenie kwartalne'!L410","v":0},{"$f":"'Rozliczenie kwartalne'!M410","v":0},{"$f":"'Rozliczenie kwartalne'!N410","v":0}]
[{"$f":"'Rozliczenie kwartalne'!A411","v":"10"},{"$f":"'Rozliczenie kwartalne'!B411","v":""},{"$f":"'Rozliczenie kwartalne'!C411","v":0},{"$f":"'Rozliczenie kwartalne'!D411","v":0},{"$f":"'Rozliczenie kwartalne'!E411","v":0},{"$f":"'Rozliczenie kwartalne'!F411","v":0},{"$f":"'Rozliczenie kwartalne'!G411","v":0},{"$f":"'Rozliczenie kwartalne'!H411","v":0},{"$f":"'Rozliczenie kwartalne'!I411","v":0},{"$f":"'Rozliczenie kwartalne'!J411","v":0},{"$f":"'Rozliczenie kwartalne'!K411","v":0},{"$f":"'Rozliczenie kwartalne'!L411","v":0},{"$f":"'Rozliczenie kwartalne'!M411","v":0},{"$f":"'Rozliczenie kwartalne'!N411","v":0}]
[{"$f":"'Rozliczenie kwartalne'!A412","v":"11"},{"$f":"'Rozliczenie kwartalne'!B412","v":""},{"$f":"'Rozliczenie kwartalne'!C412","v":0},{"$f":"'Rozliczenie kwartalne'!D412","v":0},{"$f":"'Rozliczenie kwartalne'!E412","v":0},{"$f":"'Rozliczenie kwartalne'!F412","v":0},{"$f":"'Rozliczenie kwartalne'!G412","v":0},{"$f":"'Rozliczenie kwartalne'!H412","v":0},{"$f":"'Rozliczenie kwartalne'!I412","v":0},{"$f":"'Rozliczenie kwartalne'!J412","v":0},{"$f":"'Rozliczenie kwartalne'!K412","v":0},{"$f":"'Rozliczenie kwartalne'!L412","v":0},{"$f":"'Rozliczenie kwartalne'!M412","v":0},{"$f":"'Rozliczenie kwartalne'!N412","v":0}]
[{"$f":"'Rozliczenie kwartalne'!A413","v":"12"},{"$f":"'Rozliczenie kwartalne'!B413","v":""},{"$f":"'Rozliczenie kwartalne'!C413","v":0},{"$f":"'Rozliczenie kwartalne'!D413","v":0},{"$f":"'Rozliczenie kwartalne'!E413","v":0},{"$f":"'Rozliczenie kwartalne'!F413","v":0},{"$f":"'Rozliczenie kwartalne'!G413","v":0},{"$f":"'Rozliczenie kwartalne'!H413","v":0},{"$f":"'Rozliczenie kwartalne'!I413","v":0},{"$f":"'Rozliczenie kwartalne'!J413","v":0},{"$f":"'Rozliczenie kwartalne'!K413","v":0},{"$f":"'Rozliczenie kwartalne'!L413","v":0},{"$f":"'Rozliczenie kwartalne'!M413","v":0},{"$f":"'Rozliczenie kwartalne'!N413","v":0}]
[{"$f":"'Rozliczenie kwartalne'!A414","v":"13"},{"$f":"'Rozliczenie kwartalne'!B414","v":""},{"$f":"'Rozliczenie kwartalne'!C414","v":0},{"$f":"'Rozliczenie kwartalne'!D414","v":0},{"$f":"'Rozliczenie kwartalne'!E414","v":0},{"$f":"'Rozliczenie kwartalne'!F414","v":0},{"$f":"'Rozliczenie kwartalne'!G414","v":0},{"$f":"'Rozliczenie kwartalne'!H414","v":0},{"$f":"'Rozliczenie kwartalne'!I414","v":0},{"$f":"'Rozliczenie kwartalne'!J414","v":0},{"$f":"'Rozliczenie kwartalne'!K414","v":0},{"$f":"'Rozliczenie kwartalne'!L414","v":0},{"$f":"'Rozliczenie kwartalne'!M414","v":0},{"$f":"'Rozliczenie kwartalne'!N414","v":0}]
[{"$f":"'Rozliczenie kwartalne'!A415","v":"14"},{"$f":"'Rozliczenie kwartalne'!B415","v":""},{"$f":"'Rozliczenie kwartalne'!C415","v":0},{"$f":"'Rozliczenie kwartalne'!D415","v":0},{"$f":"'Rozliczenie kwartalne'!E415","v":0},{"$f":"'Rozliczenie kwartalne'!F415","v":0},{"$f":"'Rozliczenie kwartalne'!G415","v":0},{"$f":"'Rozliczenie kwartalne'!H415","v":0},{"$f":"'Rozliczenie kwartalne'!I415","v":0},{"$f":"'Rozliczenie kwartalne'!J415","v":0},{"$f":"'Rozliczenie kwartalne'!K415","v":0},{"$f":"'Rozliczenie kwartalne'!L415","v":0},{"$f":"'Rozliczenie kwartalne'!M415","v":0},{"$f":"'Rozliczenie kwartalne'!N415","v":0}]
[{"$f":"'Rozliczenie kwartalne'!A416","v":"15"},{"$f":"'Rozliczenie kwartalne'!B416","v":""},{"$f":"'Rozliczenie kwartalne'!C416","v":0},{"$f":"'Rozliczenie kwartalne'!D416","v":0},{"$f":"'Rozliczenie kwartalne'!E416","v":0},{"$f":"'Rozliczenie kwartalne'!F416","v":0},{"$f":"'Rozliczenie kwartalne'!G416","v":0},{"$f":"'Rozliczenie kwartalne'!H416","v":0},{"$f":"'Rozliczenie kwartalne'!I416","v":0},{"$f":"'Rozliczenie kwartalne'!J416","v":0},{"$f":"'Rozliczenie kwartalne'!K416","v":0},{"$f":"'Rozliczenie kwartalne'!L416","v":0},{"$f":"'Rozliczenie kwartalne'!M416","v":0},{"$f":"'Rozliczenie kwartalne'!N416","v":0}]
[{"$f":"'Rozliczenie kwartalne'!A417","v":"16"},{"$f":"'Rozliczenie kwartalne'!B417","v":""},{"$f":"'Rozliczenie kwartalne'!C417","v":0},{"$f":"'Rozliczenie kwartalne'!D417","v":0},{"$f":"'Rozliczenie kwartalne'!E417","v":0},{"$f":"'Rozliczenie kwartalne'!F417","v":0},{"$f":"'Rozliczenie kwartalne'!G417","v":0},{"$f":"'Rozliczenie kwartalne'!H417","v":0},{"$f":"'Rozliczenie kwartalne'!I417","v":0},{"$f":"'Rozliczenie kwartalne'!J417","v":0},{"$f":"'Rozliczenie kwartalne'!K417","v":0},{"$f":"'Rozliczenie kwartalne'!L417","v":0},{"$f":"'Rozliczenie kwartalne'!M417","v":0},{"$f":"'Rozliczenie kwartalne'!N417","v":0}]
[{"$f":"'Rozliczenie kwartalne'!A418","v":"17"},{"$f":"'Rozliczenie kwartalne'!B418","v":""},{"$f":"'Rozliczenie kwartalne'!C418","v":0},{"$f":"'Rozliczenie kwartalne'!D418","v":0},{"$f":"'Rozliczenie kwartalne'!E418","v":0},{"$f":"'Rozliczenie kwartalne'!F418","v":0},{"$f":"'Rozliczenie kwartalne'!G418","v":0},{"$f":"'Rozliczenie kwartalne'!H418","v":0},{"$f":"'Rozliczenie kwartalne'!I418","v":0},{"$f":"'Rozliczenie kwartalne'!J418","v":0},{"$f":"'Rozliczenie kwartalne'!K418","v":0},{"$f":"'Rozliczenie kwartalne'!L418","v":0},{"$f":"'Rozliczenie kwartalne'!M418","v":0},{"$f":"'Rozliczenie kwartalne'!N418","v":0}]
[{"$f":"'Rozliczenie kwartalne'!A419","v":"18"},{"$f":"'Rozliczenie kwartalne'!B419","v":""},{"$f":"'Rozliczenie kwartalne'!C419","v":0},{"$f":"'Rozliczenie kwartalne'!D419","v":0},{"$f":"'Rozliczenie kwartalne'!E419","v":0},{"$f":"'Rozliczenie kwartalne'!F419","v":0},{"$f":"'Rozliczenie kwartalne'!G419","v":0},{"$f":"'Rozliczenie kwartalne'!H419","v":0},{"$f":"'Rozliczenie kwartalne'!I419","v":0},{"$f":"'Rozliczenie kwartalne'!J419","v":0},{"$f":"'Rozliczenie kwartalne'!K419","v":0},{"$f":"'Rozliczenie kwartalne'!L419","v":0},{"$f":"'Rozliczenie kwartalne'!M419","v":0},{"$f":"'Rozliczenie kwartalne'!N419","v":0}]
[{"$f":"'Rozliczenie kwartalne'!A420","v":"19"},{"$f":"'Rozliczenie kwartalne'!B420","v":""},{"$f":"'Rozliczenie kwartalne'!C420","v":0},{"$f":"'Rozliczenie kwartalne'!D420","v":0},{"$f":"'Rozliczenie kwartalne'!E420","v":0},{"$f":"'Rozliczenie kwartalne'!F420","v":0},{"$f":"'Rozliczenie kwartalne'!G420","v":0},{"$f":"'Rozliczenie kwartalne'!H420","v":0},{"$f":"'Rozliczenie kwartalne'!I420","v":0},{"$f":"'Rozliczenie kwartalne'!J420","v":0},{"$f":"'Rozliczenie kwartalne'!K420","v":0},{"$f":"'Rozliczenie kwartalne'!L420","v":0},{"$f":"'Rozliczenie kwartalne'!M420","v":0},{"$f":"'Rozliczenie kwartalne'!N420","v":0}]
[{"$f":"'Rozliczenie kwartalne'!A421","v":"20"},{"$f":"'Rozliczenie kwartalne'!B421","v":""},{"$f":"'Rozliczenie kwartalne'!C421","v":0},{"$f":"'Rozliczenie kwartalne'!D421","v":0},{"$f":"'Rozliczenie kwartalne'!E421","v":0},{"$f":"'Rozliczenie kwartalne'!F421","v":0},{"$f":"'Rozliczenie kwartalne'!G421","v":0},{"$f":"'Rozliczenie kwartalne'!H421","v":0},{"$f":"'Rozliczenie kwartalne'!I421","v":0},{"$f":"'Rozliczenie kwartalne'!J421","v":0},{"$f":"'Rozliczenie kwartalne'!K421","v":0},{"$f":"'Rozliczenie kwartalne'!L421","v":0},{"$f":"'Rozliczenie kwartalne'!M421","v":0},{"$f":"'Rozliczenie kwartalne'!N421","v":0}]
[{"$f":"'Rozliczenie kwartalne'!A422","v":"21"},{"$f":"'Rozliczenie kwartalne'!B422","v":""},{"$f":"'Rozliczenie kwartalne'!C422","v":0},{"$f":"'Rozliczenie kwartalne'!D422","v":0},{"$f":"'Rozliczenie kwartalne'!E422","v":0},{"$f":"'Rozliczenie kwartalne'!F422","v":0},{"$f":"'Rozliczenie kwartalne'!G422","v":0},{"$f":"'Rozliczenie kwartalne'!H422","v":0},{"$f":"'Rozliczenie kwartalne'!I422","v":0},{"$f":"'Rozliczenie kwartalne'!J422","v":0},{"$f":"'Rozliczenie kwartalne'!K422","v":0},{"$f":"'Rozliczenie kwartalne'!L422","v":0},{"$f":"'Rozliczenie kwartalne'!M422","v":0},{"$f":"'Rozliczenie kwartalne'!N422","v":0}]
[{"$f":"'Rozliczenie kwartalne'!A423","v":"22"},{"$f":"'Rozliczenie kwartalne'!B423","v":""},{"$f":"'Rozliczenie kwartalne'!C423","v":0},{"$f":"'Rozliczenie kwartalne'!D423","v":0},{"$f":"'Rozliczenie kwartalne'!E423","v":0},{"$f":"'Rozliczenie kwartalne'!F423","v":0},{"$f":"'Rozliczenie kwartalne'!G423","v":0},{"$f":"'Rozliczenie kwartalne'!H423","v":0},{"$f":"'Rozliczenie kwartalne'!I423","v":0},{"$f":"'Rozliczenie kwartalne'!J423","v":0},{"$f":"'Rozliczenie kwartalne'!K423","v":0},{"$f":"'Rozliczenie kwartalne'!L423","v":0},{"$f":"'Rozliczenie kwartalne'!M423","v":0},{"$f":"'Rozliczenie kwartalne'!N423","v":0}]
[{"$f":"'Rozliczenie kwartalne'!A424","v":"23"},{"$f":"'Rozliczenie kwartalne'!B424","v":""},{"$f":"'Rozliczenie kwartalne'!C424","v":0},{"$f":"'Rozliczenie kwartalne'!D424","v":0},{"$f":"'Rozliczenie kwartalne'!E424","v":0},{"$f":"'Rozliczenie kwartalne'!F424","v":0},{"$f":"'Rozliczenie kwartalne'!G424","v":0},{"$f":"'Rozliczenie kwartalne'!H424","v":0},{"$f":"'Rozliczenie kwartalne'!I424","v":0},{"$f":"'Rozliczenie kwartalne'!J424","v":0},{"$f":"'Rozliczenie kwartalne'!K424","v":0},{"$f":"'Rozliczenie kwartalne'!L424","v":0},{"$f":"'Rozliczenie kwartalne'!M424","v":0},{"$f":"'Rozliczenie kwartalne'!N424","v":0}]
[{"$f":"'Rozliczenie kwartalne'!A425","v":"24"},{"$f":"'Rozliczenie kwartalne'!B425","v":""},{"$f":"'Rozliczenie kwartalne'!C425","v":0},{"$f":"'Rozliczenie kwartalne'!D425","v":0},{"$f":"'Rozliczenie kwartalne'!E425","v":0},{"$f":"'Rozliczenie kwartalne'!F425","v":0},{"$f":"'Rozliczenie kwartalne'!G425","v":0},{"$f":"'Rozliczenie kwartalne'!H425","v":0},{"$f":"'Rozliczenie kwartalne'!I425","v":0},{"$f":"'Rozliczenie kwartalne'!J425","v":0},{"$f":"'Rozliczenie kwartalne'!K425","v":0},{"$f":"'Rozliczenie kwartalne'!L425","v":0},{"$f":"'Rozliczenie kwartalne'!M425","v":0},{"$f":"'Rozliczenie kwartalne'!N425","v":0}]
[{"$f":"'Rozliczenie kwartalne'!A426","v":"25"},{"$f":"'Rozliczenie kwartalne'!B426","v":""},{"$f":"'Rozliczenie kwartalne'!C426","v":0},{"$f":"'Rozliczenie kwartalne'!D426","v":0},{"$f":"'Rozliczenie kwartalne'!E426","v":0},{"$f":"'Rozliczenie kwartalne'!F426","v":0},{"$f":"'Rozliczenie kwartalne'!G426","v":0},{"$f":"'Rozliczenie kwartalne'!H426","v":0},{"$f":"'Rozliczenie kwartalne'!I426","v":0},{"$f":"'Rozliczenie kwartalne'!J426","v":0},{"$f":"'Rozliczenie kwartalne'!K426","v":0},{"$f":"'Rozliczenie kwartalne'!L426","v":0},{"$f":"'Rozliczenie kwartalne'!M426","v":0},{"$f":"'Rozliczenie kwartalne'!N426","v":0}]
[{"$f":"'Rozliczenie kwartalne'!A427","v":"26"},{"$f":"'Rozliczenie kwartalne'!B427","v":""},{"$f":"'Rozliczenie kwartalne'!C427","v":0},{"$f":"'Rozliczenie kwartalne'!D427","v":0},{"$f":"'Rozliczenie kwartalne'!E427","v":0},{"$f":"'Rozliczenie kwartalne'!F427","v":0},{"$f":"'Rozliczenie kwartalne'!G427","v":0},{"$f":"'Rozliczenie kwartalne'!H427","v":0},{"$f":"'Rozliczenie kwartalne'!I427","v":0},{"$f":"'Rozliczenie kwartalne'!J427","v":0},{"$f":"'Rozliczenie kwartalne'!K427","v":0},{"$f":"'Rozliczenie kwartalne'!L427","v":0},{"$f":"'Rozliczenie kwartalne'!M427","v":0},{"$f":"'Rozliczenie kwartalne'!N427","v":0}]
[{"$f":"'Rozliczenie kwartalne'!A428","v":"27"},{"$f":"'Rozliczenie kwartalne'!B428","v":""},{"$f":"'Rozliczenie kwartalne'!C428","v":0},{"$f":"'Rozliczenie kwartalne'!D428","v":0},{"$f":"'Rozliczenie kwartalne'!E428","v":0},{"$f":"'Rozliczenie kwartalne'!F428","v":0},{"$f":"'Rozliczenie kwartalne'!G428","v":0},{"$f":"'Rozliczenie kwartalne'!H428","v":0},{"$f":"'Rozliczenie kwartalne'!I428","v":0},{"$f":"'Rozliczenie kwartalne'!J428","v":0},{"$f":"'Rozliczenie kwartalne'!K428","v":0},{"$f":"'Rozliczenie kwartalne'!L428","v":0},{"$f":"'Rozliczenie kwartalne'!M428","v":0},{"$f":"'Rozliczenie kwartalne'!N428","v":0}]
[{"$f":"'Rozliczenie kwartalne'!A429","v":"28"},{"$f":"'Rozliczenie kwartalne'!B429","v":""},{"$f":"'Rozliczenie kwartalne'!C429","v":0},{"$f":"'Rozliczenie kwartalne'!D429","v":0},{"$f":"'Rozliczenie kwartalne'!E429","v":0},{"$f":"'Rozliczenie kwartalne'!F429","v":0},{"$f":"'Rozliczenie kwartalne'!G429","v":0},{"$f":"'Rozliczenie kwartalne'!H429","v":0},{"$f":"'Rozliczenie kwartalne'!I429","v":0},{"$f":"'Rozliczenie kwartalne'!J429","v":0},{"$f":"'Rozliczenie kwartalne'!K429","v":0},{"$f":"'Rozliczenie kwartalne'!L429","v":0},{"$f":"'Rozliczenie kwartalne'!M429","v":0},{"$f":"'Rozliczenie kwartalne'!N429","v":0}]
[{"$f":"'Rozliczenie kwartalne'!A430","v":"29"},{"$f":"'Rozliczenie kwartalne'!B430","v":""},{"$f":"'Rozliczenie kwartalne'!C430","v":0},{"$f":"'Rozliczenie kwartalne'!D430","v":0},{"$f":"'Rozliczenie kwartalne'!E430","v":0},{"$f":"'Rozliczenie kwartalne'!F430","v":0},{"$f":"'Rozliczenie kwartalne'!G430","v":0},{"$f":"'Rozliczenie kwartalne'!H430","v":0},{"$f":"'Rozliczenie kwartalne'!I430","v":0},{"$f":"'Rozliczenie kwartalne'!J430","v":0},{"$f":"'Rozliczenie kwartalne'!K430","v":0},{"$f":"'Rozliczenie kwartalne'!L430","v":0},{"$f":"'Rozliczenie kwartalne'!M430","v":0},{"$f":"'Rozliczenie kwartalne'!N430","v":0}]
[{"$f":"'Rozliczenie kwartalne'!A431","v":"30"},{"$f":"'Rozliczenie kwartalne'!B431","v":""},{"$f":"'Rozliczenie kwartalne'!C431","v":0},{"$f":"'Rozliczenie kwartalne'!D431","v":0},{"$f":"'Rozliczenie kwartalne'!E431","v":0},{"$f":"'Rozliczenie kwartalne'!F431","v":0},{"$f":"'Rozliczenie kwartalne'!G431","v":0},{"$f":"'Rozliczenie kwartalne'!H431","v":0},{"$f":"'Rozliczenie kwartalne'!I431","v":0},{"$f":"'Rozliczenie kwartalne'!J431","v":0},{"$f":"'Rozliczenie kwartalne'!K431","v":0},{"$f":"'Rozliczenie kwartalne'!L431","v":0},{"$f":"'Rozliczenie kwartalne'!M431","v":0},{"$f":"'Rozliczenie kwartalne'!N431","v":0}]
[{"$f":"'Rozliczenie kwartalne'!A432","v":"31"},{"$f":"'Rozliczenie kwartalne'!B432","v":""},{"$f":"'Rozliczenie kwartalne'!C432","v":0},{"$f":"'Rozliczenie kwartalne'!D432","v":0},{"$f":"'Rozliczenie kwartalne'!E432","v":0},{"$f":"'Rozliczenie kwartalne'!F432","v":0},{"$f":"'Rozliczenie kwartalne'!G432","v":0},{"$f":"'Rozliczenie kwartalne'!H432","v":0},{"$f":"'Rozliczenie kwartalne'!I432","v":0},{"$f":"'Rozliczenie kwartalne'!J432","v":0},{"$f":"'Rozliczenie kwartalne'!K432","v":0},{"$f":"'Rozliczenie kwartalne'!L432","v":0},{"$f":"'Rozliczenie kwartalne'!M432","v":0},{"$f":"'Rozliczenie kwartalne'!N432","v":0}]
[{"$f":"'Rozliczenie kwartalne'!A433","v":"32"},{"$f":"'Rozliczenie kwartalne'!B433","v":""},{"$f":"'Rozliczenie kwartalne'!C433","v":0},{"$f":"'Rozliczenie kwartalne'!D433","v":0},{"$f":"'Rozliczenie kwartalne'!E433","v":0},{"$f":"'Rozliczenie kwartalne'!F433","v":0},{"$f":"'Rozliczenie kwartalne'!G433","v":0},{"$f":"'Rozliczenie kwartalne'!H433","v":0},{"$f":"'Rozliczenie kwartalne'!I433","v":0},{"$f":"'Rozliczenie kwartalne'!J433","v":0},{"$f":"'Rozliczenie kwartalne'!K433","v":0},{"$f":"'Rozliczenie kwartalne'!L433","v":0},{"$f":"'Rozliczenie kwartalne'!M433","v":0},{"$f":"'Rozliczenie kwartalne'!N433","v":0}]
[{"$f":"'Rozliczenie kwartalne'!A434","v":"33"},{"$f":"'Rozliczenie kwartalne'!B434","v":""},{"$f":"'Rozliczenie kwartalne'!C434","v":0},{"$f":"'Rozliczenie kwartalne'!D434","v":0},{"$f":"'Rozliczenie kwartalne'!E434","v":0},{"$f":"'Rozliczenie kwartalne'!F434","v":0},{"$f":"'Rozliczenie kwartalne'!G434","v":0},{"$f":"'Rozliczenie kwartalne'!H434","v":0},{"$f":"'Rozliczenie kwartalne'!I434","v":0},{"$f":"'Rozliczenie kwartalne'!J434","v":0},{"$f":"'Rozliczenie kwartalne'!K434","v":0},{"$f":"'Rozliczenie kwartalne'!L434","v":0},{"$f":"'Rozliczenie kwartalne'!M434","v":0},{"$f":"'Rozliczenie kwartalne'!N434","v":0}]
[{"$f":"'Rozliczenie kwartalne'!A435","v":"34"},{"$f":"'Rozliczenie kwartalne'!B435","v":""},{"$f":"'Rozliczenie kwartalne'!C435","v":0},{"$f":"'Rozliczenie kwartalne'!D435","v":0},{"$f":"'Rozliczenie kwartalne'!E435","v":0},{"$f":"'Rozliczenie kwartalne'!F435","v":0},{"$f":"'Rozliczenie kwartalne'!G435","v":0},{"$f":"'Rozliczenie kwartalne'!H435","v":0},{"$f":"'Rozliczenie kwartalne'!I435","v":0},{"$f":"'Rozliczenie kwartalne'!J435","v":0},{"$f":"'Rozliczenie kwartalne'!K435","v":0},{"$f":"'Rozliczenie kwartalne'!L435","v":0},{"$f":"'Rozliczenie kwartalne'!M435","v":0},{"$f":"'Rozliczenie kwartalne'!N435","v":0}]
[{"$f":"'Rozliczenie kwartalne'!A436","v":"35"},{"$f":"'Rozliczenie kwartalne'!B436","v":""},{"$f":"'Rozliczenie kwartalne'!C436","v":0},{"$f":"'Rozliczenie kwartalne'!D436","v":0},{"$f":"'Rozliczenie kwartalne'!E436","v":0},{"$f":"'Rozliczenie kwartalne'!F436","v":0},{"$f":"'Rozliczenie kwartalne'!G436","v":0},{"$f":"'Rozliczenie kwartalne'!H436","v":0},{"$f":"'Rozliczenie kwartalne'!I436","v":0},{"$f":"'Rozliczenie kwartalne'!J436","v":0},{"$f":"'Rozliczenie kwartalne'!K436","v":0},{"$f":"'Rozliczenie kwartalne'!L436","v":0},{"$f":"'Rozliczenie kwartalne'!M436","v":0},{"$f":"'Rozliczenie kwartalne'!N436","v":0}]
[{"$f":"'Rozliczenie kwartalne'!A437","v":"36"},{"$f":"'Rozliczenie kwartalne'!B437","v":""},{"$f":"'Rozliczenie kwartalne'!C437","v":0},{"$f":"'Rozliczenie kwartalne'!D437","v":0},{"$f":"'Rozliczenie kwartalne'!E437","v":0},{"$f":"'Rozliczenie kwartalne'!F437","v":0},{"$f":"'Rozliczenie kwartalne'!G437","v":0},{"$f":"'Rozliczenie kwartalne'!H437","v":0},{"$f":"'Rozliczenie kwartalne'!I437","v":0},{"$f":"'Rozliczenie kwartalne'!J437","v":0},{"$f":"'Rozliczenie kwartalne'!K437","v":0},{"$f":"'Rozliczenie kwartalne'!L437","v":0},{"$f":"'Rozliczenie kwartalne'!M437","v":0},{"$f":"'Rozliczenie kwartalne'!N437","v":0}]
[{"$f":"'Rozliczenie kwartalne'!A438","v":"37"},{"$f":"'Rozliczenie kwartalne'!B438","v":""},{"$f":"'Rozliczenie kwartalne'!C438","v":0},{"$f":"'Rozliczenie kwartalne'!D438","v":0},{"$f":"'Rozliczenie kwartalne'!E438","v":0},{"$f":"'Rozliczenie kwartalne'!F438","v":0},{"$f":"'Rozliczenie kwartalne'!G438","v":0},{"$f":"'Rozliczenie kwartalne'!H438","v":0},{"$f":"'Rozliczenie kwartalne'!I438","v":0},{"$f":"'Rozliczenie kwartalne'!J438","v":0},{"$f":"'Rozliczenie kwartalne'!K438","v":0},{"$f":"'Rozliczenie kwartalne'!L438","v":0},{"$f":"'Rozliczenie kwartalne'!M438","v":0},{"$f":"'Rozliczenie kwartalne'!N438","v":0}]
[{"$f":"'Rozliczenie kwartalne'!A439","v":"38"},{"$f":"'Rozliczenie kwartalne'!B439","v":""},{"$f":"'Rozliczenie kwartalne'!C439","v":0},{"$f":"'Rozliczenie kwartalne'!D439","v":0},{"$f":"'Rozliczenie kwartalne'!E439","v":0},{"$f":"'Rozliczenie kwartalne'!F439","v":0},{"$f":"'Rozliczenie kwartalne'!G439","v":0},{"$f":"'Rozliczenie kwartalne'!H439","v":0},{"$f":"'Rozliczenie kwartalne'!I439","v":0},{"$f":"'Rozliczenie kwartalne'!J439","v":0},{"$f":"'Rozliczenie kwartalne'!K439","v":0},{"$f":"'Rozliczenie kwartalne'!L439","v":0},{"$f":"'Rozliczenie kwartalne'!M439","v":0},{"$f":"'Rozliczenie kwartalne'!N439","v":0}]
[{"$f":"'Rozliczenie kwartalne'!A440","v":"39"},{"$f":"'Rozliczenie kwartalne'!B440","v":""},{"$f":"'Rozliczenie kwartalne'!C440","v":0},{"$f":"'Rozliczenie kwartalne'!D440","v":0},{"$f":"'Rozliczenie kwartalne'!E440","v":0},{"$f":"'Rozliczenie kwartalne'!F440","v":0},{"$f":"'Rozliczenie kwartalne'!G440","v":0},{"$f":"'Rozliczenie kwartalne'!H440","v":0},{"$f":"'Rozliczenie kwartalne'!I440","v":0},{"$f":"'Rozliczenie kwartalne'!J440","v":0},{"$f":"'Rozliczenie kwartalne'!K440","v":0},{"$f":"'Rozliczenie kwartalne'!L440","v":0},{"$f":"'Rozliczenie kwartalne'!M440","v":0},{"$f":"'Rozliczenie kwartalne'!N440","v":0}]
[{"$f":"'Rozliczenie kwartalne'!A441","v":"40"},{"$f":"'Rozliczenie kwartalne'!B441","v":""},{"$f":"'Rozliczenie kwartalne'!C441","v":0},{"$f":"'Rozliczenie kwartalne'!D441","v":0},{"$f":"'Rozliczenie kwartalne'!E441","v":0},{"$f":"'Rozliczenie kwartalne'!F441","v":0},{"$f":"'Rozliczenie kwartalne'!G441","v":0},{"$f":"'Rozliczenie kwartalne'!H441","v":0},{"$f":"'Rozliczenie kwartalne'!I441","v":0},{"$f":"'Rozliczenie kwartalne'!J441","v":0},{"$f":"'Rozliczenie kwartalne'!K441","v":0},{"$f":"'Rozliczenie kwartalne'!L441","v":0},{"$f":"'Rozliczenie kwartalne'!M441","v":0},{"$f":"'Rozliczenie kwartalne'!N441","v":0}]
[{"$f":"'Rozliczenie kwartalne'!A442","v":"41"},{"$f":"'Rozliczenie kwartalne'!B442","v":""},{"$f":"'Rozliczenie kwartalne'!C442","v":0},{"$f":"'Rozliczenie kwartalne'!D442","v":0},{"$f":"'Rozliczenie kwartalne'!E442","v":0},{"$f":"'Rozliczenie kwartalne'!F442","v":0},{"$f":"'Rozliczenie kwartalne'!G442","v":0},{"$f":"'Rozliczenie kwartalne'!H442","v":0},{"$f":"'Rozliczenie kwartalne'!I442","v":0},{"$f":"'Rozliczenie kwartalne'!J442","v":0},{"$f":"'Rozliczenie kwartalne'!K442","v":0},{"$f":"'Rozliczenie kwartalne'!L442","v":0},{"$f":"'Rozliczenie kwartalne'!M442","v":0},{"$f":"'Rozliczenie kwartalne'!N442","v":0}]
[{"$f":"'Rozliczenie kwartalne'!A443","v":"42"},{"$f":"'Rozliczenie kwartalne'!B443","v":""},{"$f":"'Rozliczenie kwartalne'!C443","v":0},{"$f":"'Rozliczenie kwartalne'!D443","v":0},{"$f":"'Rozliczenie kwartalne'!E443","v":0},{"$f":"'Rozliczenie kwartalne'!F443","v":0},{"$f":"'Rozliczenie kwartalne'!G443","v":0},{"$f":"'Rozliczenie kwartalne'!H443","v":0},{"$f":"'Rozliczenie kwartalne'!I443","v":0},{"$f":"'Rozliczenie kwartalne'!J443","v":0},{"$f":"'Rozliczenie kwartalne'!K443","v":0},{"$f":"'Rozliczenie kwartalne'!L443","v":0},{"$f":"'Rozliczenie kwartalne'!M443","v":0},{"$f":"'Rozliczenie kwartalne'!N443","v":0}]
[{"$f":"'Rozliczenie kwartalne'!A444","v":"43"},{"$f":"'Rozliczenie kwartalne'!B444","v":""},{"$f":"'Rozliczenie kwartalne'!C444","v":0},{"$f":"'Rozliczenie kwartalne'!D444","v":0},{"$f":"'Rozliczenie kwartalne'!E444","v":0},{"$f":"'Rozliczenie kwartalne'!F444","v":0},{"$f":"'Rozliczenie kwartalne'!G444","v":0},{"$f":"'Rozliczenie kwartalne'!H444","v":0},{"$f":"'Rozliczenie kwartalne'!I444","v":0},{"$f":"'Rozliczenie kwartalne'!J444","v":0},{"$f":"'Rozliczenie kwartalne'!K444","v":0},{"$f":"'Rozliczenie kwartalne'!L444","v":0},{"$f":"'Rozliczenie kwartalne'!M444","v":0},{"$f":"'Rozliczenie kwartalne'!N444","v":0}]
[{"$f":"'Rozliczenie kwartalne'!A445","v":"44"},{"$f":"'Rozliczenie kwartalne'!B445","v":""},{"$f":"'Rozliczenie kwartalne'!C445","v":0},{"$f":"'Rozliczenie kwartalne'!D445","v":0},{"$f":"'Rozliczenie kwartalne'!E445","v":0},{"$f":"'Rozliczenie kwartalne'!F445","v":0},{"$f":"'Rozliczenie kwartalne'!G445","v":0},{"$f":"'Rozliczenie kwartalne'!H445","v":0},{"$f":"'Rozliczenie kwartalne'!I445","v":0},{"$f":"'Rozliczenie kwartalne'!J445","v":0},{"$f":"'Rozliczenie kwartalne'!K445","v":0},{"$f":"'Rozliczenie kwartalne'!L445","v":0},{"$f":"'Rozliczenie kwartalne'!M445","v":0},{"$f":"'Rozliczenie kwartalne'!N445","v":0}]
[{"$f":"'Rozliczenie kwartalne'!A446","v":"45"},{"$f":"'Rozliczenie kwartalne'!B446","v":""},{"$f":"'Rozliczenie kwartalne'!C446","v":0},{"$f":"'Rozliczenie kwartalne'!D446","v":0},{"$f":"'Rozliczenie kwartalne'!E446","v":0},{"$f":"'Rozliczenie kwartalne'!F446","v":0},{"$f":"'Rozliczenie kwartalne'!G446","v":0},{"$f":"'Rozliczenie kwartalne'!H446","v":0},{"$f":"'Rozliczenie kwartalne'!I446","v":0},{"$f":"'Rozliczenie kwartalne'!J446","v":0},{"$f":"'Rozliczenie kwartalne'!K446","v":0},{"$f":"'Rozliczenie kwartalne'!L446","v":0},{"$f":"'Rozliczenie kwartalne'!M446","v":0},{"$f":"'Rozliczenie kwartalne'!N446","v":0}]
[{"$f":"'Rozliczenie kwartalne'!A447","v":"46"},{"$f":"'Rozliczenie kwartalne'!B447","v":""},{"$f":"'Rozliczenie kwartalne'!C447","v":0},{"$f":"'Rozliczenie kwartalne'!D447","v":0},{"$f":"'Rozliczenie kwartalne'!E447","v":0},{"$f":"'Rozliczenie kwartalne'!F447","v":0},{"$f":"'Rozliczenie kwartalne'!G447","v":0},{"$f":"'Rozliczenie kwartalne'!H447","v":0},{"$f":"'Rozliczenie kwartalne'!I447","v":0},{"$f":"'Rozliczenie kwartalne'!J447","v":0},{"$f":"'Rozliczenie kwartalne'!K447","v":0},{"$f":"'Rozliczenie kwartalne'!L447","v":0},{"$f":"'Rozliczenie kwartalne'!M447","v":0},{"$f":"'Rozliczenie kwartalne'!N447","v":0}]
[{"$f":"'Rozliczenie kwartalne'!A448","v":"47"},{"$f":"'Rozliczenie kwartalne'!B448","v":""},{"$f":"'Rozliczenie kwartalne'!C448","v":0},{"$f":"'Rozliczenie kwartalne'!D448","v":0},{"$f":"'Rozliczenie kwartalne'!E448","v":0},{"$f":"'Rozliczenie kwartalne'!F448","v":0},{"$f":"'Rozliczenie kwartalne'!G448","v":0},{"$f":"'Rozliczenie kwartalne'!H448","v":0},{"$f":"'Rozliczenie kwartalne'!I448","v":0},{"$f":"'Rozliczenie kwartalne'!J448","v":0},{"$f":"'Rozliczenie kwartalne'!K448","v":0},{"$f":"'Rozliczenie kwartalne'!L448","v":0},{"$f":"'Rozliczenie kwartalne'!M448","v":0},{"$f":"'Rozliczenie kwartalne'!N448","v":0}]
[{"$f":"'Rozliczenie kwartalne'!A449","v":"48"},{"$f":"'Rozliczenie kwartalne'!B449","v":""},{"$f":"'Rozliczenie kwartalne'!C449","v":0},{"$f":"'Rozliczenie kwartalne'!D449","v":0},{"$f":"'Rozliczenie kwartalne'!E449","v":0},{"$f":"'Rozliczenie kwartalne'!F449","v":0},{"$f":"'Rozliczenie kwartalne'!G449","v":0},{"$f":"'Rozliczenie kwartalne'!H449","v":0},{"$f":"'Rozliczenie kwartalne'!I449","v":0},{"$f":"'Rozliczenie kwartalne'!J449","v":0},{"$f":"'Rozliczenie kwartalne'!K449","v":0},{"$f":"'Rozliczenie kwartalne'!L449","v":0},{"$f":"'Rozliczenie kwartalne'!M449","v":0},{"$f":"'Rozliczenie kwartalne'!N449","v":0}]
[{"$f":"'Rozliczenie kwartalne'!A450","v":"49"},{"$f":"'Rozliczenie kwartalne'!B450","v":""},{"$f":"'Rozliczenie kwartalne'!C450","v":0},{"$f":"'Rozliczenie kwartalne'!D450","v":0},{"$f":"'Rozliczenie kwartalne'!E450","v":0},{"$f":"'Rozliczenie kwartalne'!F450","v":0},{"$f":"'Rozliczenie kwartalne'!G450","v":0},{"$f":"'Rozliczenie kwartalne'!H450","v":0},{"$f":"'Rozliczenie kwartalne'!I450","v":0},{"$f":"'Rozliczenie kwartalne'!J450","v":0},{"$f":"'Rozliczenie kwartalne'!K450","v":0},{"$f":"'Rozliczenie kwartalne'!L450","v":0},{"$f":"'Rozliczenie kwartalne'!M450","v":0},{"$f":"'Rozliczenie kwartalne'!N450","v":0}]
[{"$f":"'Rozliczenie kwartalne'!A451","v":"50"},{"$f":"'Rozliczenie kwartalne'!B451","v":""},{"$f":"'Rozliczenie kwartalne'!C451","v":0},{"$f":"'Rozliczenie kwartalne'!D451","v":0},{"$f":"'Rozliczenie kwartalne'!E451","v":0},{"$f":"'Rozliczenie kwartalne'!F451","v":0},{"$f":"'Rozliczenie kwartalne'!G451","v":0},{"$f":"'Rozliczenie kwartalne'!H451","v":0},{"$f":"'Rozliczenie kwartalne'!I451","v":0},{"$f":"'Rozliczenie kwartalne'!J451","v":0},{"$f":"'Rozliczenie kwartalne'!K451","v":0},{"$f":"'Rozliczenie kwartalne'!L451","v":0},{"$f":"'Rozliczenie kwartalne'!M451","v":0},{"$f":"'Rozliczenie kwartalne'!N451","v":0}]
[{"$f":"'Rozliczenie kwartalne'!A452","v":"51"},{"$f":"'Rozliczenie kwartalne'!B452","v":""},{"$f":"'Rozliczenie kwartalne'!C452","v":0},{"$f":"'Rozliczenie kwartalne'!D452","v":0},{"$f":"'Rozliczenie kwartalne'!E452","v":0},{"$f":"'Rozliczenie kwartalne'!F452","v":0},{"$f":"'Rozliczenie kwartalne'!G452","v":0},{"$f":"'Rozliczenie kwartalne'!H452","v":0},{"$f":"'Rozliczenie kwartalne'!I452","v":0},{"$f":"'Rozliczenie kwartalne'!J452","v":0},{"$f":"'Rozliczenie kwartalne'!K452","v":0},{"$f":"'Rozliczenie kwartalne'!L452","v":0},{"$f":"'Rozliczenie kwartalne'!M452","v":0},{"$f":"'Rozliczenie kwartalne'!N452","v":0}]
[{"$f":"'Rozliczenie kwartalne'!A453","v":"52"},{"$f":"'Rozliczenie kwartalne'!B453","v":""},{"$f":"'Rozliczenie kwartalne'!C453","v":0},{"$f":"'Rozliczenie kwartalne'!D453","v":0},{"$f":"'Rozliczenie kwartalne'!E453","v":0},{"$f":"'Rozliczenie kwartalne'!F453","v":0},{"$f":"'Rozliczenie kwartalne'!G453","v":0},{"$f":"'Rozliczenie kwartalne'!H453","v":0},{"$f":"'Rozliczenie kwartalne'!I453","v":0},{"$f":"'Rozliczenie kwartalne'!J453","v":0},{"$f":"'Rozliczenie kwartalne'!K453","v":0},{"$f":"'Rozliczenie kwartalne'!L453","v":0},{"$f":"'Rozliczenie kwartalne'!M453","v":0},{"$f":"'Rozliczenie kwartalne'!N453","v":0}]
[{"$f":"'Rozliczenie kwartalne'!A454","v":"53"},{"$f":"'Rozliczenie kwartalne'!B454","v":""},{"$f":"'Rozliczenie kwartalne'!C454","v":0},{"$f":"'Rozliczenie kwartalne'!D454","v":0},{"$f":"'Rozliczenie kwartalne'!E454","v":0},{"$f":"'Rozliczenie kwartalne'!F454","v":0},{"$f":"'Rozliczenie kwartalne'!G454","v":0},{"$f":"'Rozliczenie kwartalne'!H454","v":0},{"$f":"'Rozliczenie kwartalne'!I454","v":0},{"$f":"'Rozliczenie kwartalne'!J454","v":0},{"$f":"'Rozliczenie kwartalne'!K454","v":0},{"$f":"'Rozliczenie kwartalne'!L454","v":0},{"$f":"'Rozliczenie kwartalne'!M454","v":0},{"$f":"'Rozliczenie kwartalne'!N454","v":0}]
[{"$f":"'Rozliczenie kwartalne'!A455","v":"54"},{"$f":"'Rozliczenie kwartalne'!B455","v":""},{"$f":"'Rozliczenie kwartalne'!C455","v":0},{"$f":"'Rozliczenie kwartalne'!D455","v":0},{"$f":"'Rozliczenie kwartalne'!E455","v":0},{"$f":"'Rozliczenie kwartalne'!F455","v":0},{"$f":"'Rozliczenie kwartalne'!G455","v":0},{"$f":"'Rozliczenie kwartalne'!H455","v":0},{"$f":"'Rozliczenie kwartalne'!I455","v":0},{"$f":"'Rozliczenie kwartalne'!J455","v":0},{"$f":"'Rozliczenie kwartalne'!K455","v":0},{"$f":"'Rozliczenie kwartalne'!L455","v":0},{"$f":"'Rozliczenie kwartalne'!M455","v":0},{"$f":"'Rozliczenie kwartalne'!N455","v":0}]
[{"$f":"'Rozliczenie kwartalne'!A456","v":"55"},{"$f":"'Rozliczenie kwartalne'!B456","v":""},{"$f":"'Rozliczenie kwartalne'!C456","v":0},{"$f":"'Rozliczenie kwartalne'!D456","v":0},{"$f":"'Rozliczenie kwartalne'!E456","v":0},{"$f":"'Rozliczenie kwartalne'!F456","v":0},{"$f":"'Rozliczenie kwartalne'!G456","v":0},{"$f":"'Rozliczenie kwartalne'!H456","v":0},{"$f":"'Rozliczenie kwartalne'!I456","v":0},{"$f":"'Rozliczenie kwartalne'!J456","v":0},{"$f":"'Rozliczenie kwartalne'!K456","v":0},{"$f":"'Rozliczenie kwartalne'!L456","v":0},{"$f":"'Rozliczenie kwartalne'!M456","v":0},{"$f":"'Rozliczenie kwartalne'!N456","v":0}]
[{"$f":"'Rozliczenie kwartalne'!A457","v":"56"},{"$f":"'Rozliczenie kwartalne'!B457","v":""},{"$f":"'Rozliczenie kwartalne'!C457","v":0},{"$f":"'Rozliczenie kwartalne'!D457","v":0},{"$f":"'Rozliczenie kwartalne'!E457","v":0},{"$f":"'Rozliczenie kwartalne'!F457","v":0},{"$f":"'Rozliczenie kwartalne'!G457","v":0},{"$f":"'Rozliczenie kwartalne'!H457","v":0},{"$f":"'Rozliczenie kwartalne'!I457","v":0},{"$f":"'Rozliczenie kwartalne'!J457","v":0},{"$f":"'Rozliczenie kwartalne'!K457","v":0},{"$f":"'Rozliczenie kwartalne'!L457","v":0},{"$f":"'Rozliczenie kwartalne'!M457","v":0},{"$f":"'Rozliczenie kwartalne'!N457","v":0}]
[{"$f":"'Rozliczenie kwartalne'!A458","v":"57"},{"$f":"'Rozliczenie kwartalne'!B458","v":""},{"$f":"'Rozliczenie kwartalne'!C458","v":0},{"$f":"'Rozliczenie kwartalne'!D458","v":0},{"$f":"'Rozliczenie kwartalne'!E458","v":0},{"$f":"'Rozliczenie kwartalne'!F458","v":0},{"$f":"'Rozliczenie kwartalne'!G458","v":0},{"$f":"'Rozliczenie kwartalne'!H458","v":0},{"$f":"'Rozliczenie kwartalne'!I458","v":0},{"$f":"'Rozliczenie kwartalne'!J458","v":0},{"$f":"'Rozliczenie kwartalne'!K458","v":0},{"$f":"'Rozliczenie kwartalne'!L458","v":0},{"$f":"'Rozliczenie kwartalne'!M458","v":0},{"$f":"'Rozliczenie kwartalne'!N458","v":0}]
[{"$f":"'Rozliczenie kwartalne'!A459","v":"58"},{"$f":"'Rozliczenie kwartalne'!B459","v":""},{"$f":"'Rozliczenie kwartalne'!C459","v":0},{"$f":"'Rozliczenie kwartalne'!D459","v":0},{"$f":"'Rozliczenie kwartalne'!E459","v":0},{"$f":"'Rozliczenie kwartalne'!F459","v":0},{"$f":"'Rozliczenie kwartalne'!G459","v":0},{"$f":"'Rozliczenie kwartalne'!H459","v":0},{"$f":"'Rozliczenie kwartalne'!I459","v":0},{"$f":"'Rozliczenie kwartalne'!J459","v":0},{"$f":"'Rozliczenie kwartalne'!K459","v":0},{"$f":"'Rozliczenie kwartalne'!L459","v":0},{"$f":"'Rozliczenie kwartalne'!M459","v":0},{"$f":"'Rozliczenie kwartalne'!N459","v":0}]
[{"$f":"'Rozliczenie kwartalne'!A460","v":"59"},{"$f":"'Rozliczenie kwartalne'!B460","v":""},{"$f":"'Rozliczenie kwartalne'!C460","v":0},{"$f":"'Rozliczenie kwartalne'!D460","v":0},{"$f":"'Rozliczenie kwartalne'!E460","v":0},{"$f":"'Rozliczenie kwartalne'!F460","v":0},{"$f":"'Rozliczenie kwartalne'!G460","v":0},{"$f":"'Rozliczenie kwartalne'!H460","v":0},{"$f":"'Rozliczenie kwartalne'!I460","v":0},{"$f":"'Rozliczenie kwartalne'!J460","v":0},{"$f":"'Rozliczenie kwartalne'!K460","v":0},{"$f":"'Rozliczenie kwartalne'!L460","v":0},{"$f":"'Rozliczenie kwartalne'!M460","v":0},{"$f":"'Rozliczenie kwartalne'!N460","v":0}]
[{"$f":"'Rozliczenie kwartalne'!A461","v":"60"},{"$f":"'Rozliczenie kwartalne'!B461","v":""},{"$f":"'Rozliczenie kwartalne'!C461","v":0},{"$f":"'Rozliczenie kwartalne'!D461","v":0},{"$f":"'Rozliczenie kwartalne'!E461","v":0},{"$f":"'Rozliczenie kwartalne'!F461","v":0},{"$f":"'Rozliczenie kwartalne'!G461","v":0},{"$f":"'Rozliczenie kwartalne'!H461","v":0},{"$f":"'Rozliczenie kwartalne'!I461","v":0},{"$f":"'Rozliczenie kwartalne'!J461","v":0},{"$f":"'Rozliczenie kwartalne'!K461","v":0},{"$f":"'Rozliczenie kwartalne'!L461","v":0},{"$f":"'Rozliczenie kwartalne'!M461","v":0},{"$f":"'Rozliczenie kwartalne'!N461","v":0}]
[{"$f":"'Rozliczenie kwartalne'!A462","v":"61"},{"$f":"'Rozliczenie kwartalne'!B462","v":""},{"$f":"'Rozliczenie kwartalne'!C462","v":0},{"$f":"'Rozliczenie kwartalne'!D462","v":0},{"$f":"'Rozliczenie kwartalne'!E462","v":0},{"$f":"'Rozliczenie kwartalne'!F462","v":0},{"$f":"'Rozliczenie kwartalne'!G462","v":0},{"$f":"'Rozliczenie kwartalne'!H462","v":0},{"$f":"'Rozliczenie kwartalne'!I462","v":0},{"$f":"'Rozliczenie kwartalne'!J462","v":0},{"$f":"'Rozliczenie kwartalne'!K462","v":0},{"$f":"'Rozliczenie kwartalne'!L462","v":0},{"$f":"'Rozliczenie kwartalne'!M462","v":0},{"$f":"'Rozliczenie kwartalne'!N462","v":0}]
[{"$f":"'Rozliczenie kwartalne'!A463","v":"62"},{"$f":"'Rozliczenie kwartalne'!B463","v":""},{"$f":"'Rozliczenie kwartalne'!C463","v":0},{"$f":"'Rozliczenie kwartalne'!D463","v":0},{"$f":"'Rozliczenie kwartalne'!E463","v":0},{"$f":"'Rozliczenie kwartalne'!F463","v":0},{"$f":"'Rozliczenie kwartalne'!G463","v":0},{"$f":"'Rozliczenie kwartalne'!H463","v":0},{"$f":"'Rozliczenie kwartalne'!I463","v":0},{"$f":"'Rozliczenie kwartalne'!J463","v":0},{"$f":"'Rozliczenie kwartalne'!K463","v":0},{"$f":"'Rozliczenie kwartalne'!L463","v":0},{"$f":"'Rozliczenie kwartalne'!M463","v":0},{"$f":"'Rozliczenie kwartalne'!N463","v":0}]
[{"$f":"'Rozliczenie kwartalne'!A464","v":"63"},{"$f":"'Rozliczenie kwartalne'!B464","v":""},{"$f":"'Rozliczenie kwartalne'!C464","v":0},{"$f":"'Rozliczenie kwartalne'!D464","v":0},{"$f":"'Rozliczenie kwartalne'!E464","v":0},{"$f":"'Rozliczenie kwartalne'!F464","v":0},{"$f":"'Rozliczenie kwartalne'!G464","v":0},{"$f":"'Rozliczenie kwartalne'!H464","v":0},{"$f":"'Rozliczenie kwartalne'!I464","v":0},{"$f":"'Rozliczenie kwartalne'!J464","v":0},{"$f":"'Rozliczenie kwartalne'!K464","v":0},{"$f":"'Rozliczenie kwartalne'!L464","v":0},{"$f":"'Rozliczenie kwartalne'!M464","v":0},{"$f":"'Rozliczenie kwartalne'!N464","v":0}]
[{"$f":"'Rozliczenie kwartalne'!A465","v":"64"},{"$f":"'Rozliczenie kwartalne'!B465","v":""},{"$f":"'Rozliczenie kwartalne'!C465","v":0},{"$f":"'Rozliczenie kwartalne'!D465","v":0},{"$f":"'Rozliczenie kwartalne'!E465","v":0},{"$f":"'Rozliczenie kwartalne'!F465","v":0},{"$f":"'Rozliczenie kwartalne'!G465","v":0},{"$f":"'Rozliczenie kwartalne'!H465","v":0},{"$f":"'Rozliczenie kwartalne'!I465","v":0},{"$f":"'Rozliczenie kwartalne'!J465","v":0},{"$f":"'Rozliczenie kwartalne'!K465","v":0},{"$f":"'Rozliczenie kwartalne'!L465","v":0},{"$f":"'Rozliczenie kwartalne'!M465","v":0},{"$f":"'Rozliczenie kwartalne'!N465","v":0}]
[{"$f":"'Rozliczenie kwartalne'!A466","v":"65"},{"$f":"'Rozliczenie kwartalne'!B466","v":""},{"$f":"'Rozliczenie kwartalne'!C466","v":0},{"$f":"'Rozliczenie kwartalne'!D466","v":0},{"$f":"'Rozliczenie kwartalne'!E466","v":0},{"$f":"'Rozliczenie kwartalne'!F466","v":0},{"$f":"'Rozliczenie kwartalne'!G466","v":0},{"$f":"'Rozliczenie kwartalne'!H466","v":0},{"$f":"'Rozliczenie kwartalne'!I466","v":0},{"$f":"'Rozliczenie kwartalne'!J466","v":0},{"$f":"'Rozliczenie kwartalne'!K466","v":0},{"$f":"'Rozliczenie kwartalne'!L466","v":0},{"$f":"'Rozliczenie kwartalne'!M466","v":0},{"$f":"'Rozliczenie kwartalne'!N466","v":0}]
[{"$f":"'Rozliczenie kwartalne'!A467","v":"66"},{"$f":"'Rozliczenie kwartalne'!B467","v":""},{"$f":"'Rozliczenie kwartalne'!C467","v":0},{"$f":"'Rozliczenie kwartalne'!D467","v":0},{"$f":"'Rozliczenie kwartalne'!E467","v":0},{"$f":"'Rozliczenie kwartalne'!F467","v":0},{"$f":"'Rozliczenie kwartalne'!G467","v":0},{"$f":"'Rozliczenie kwartalne'!H467","v":0},{"$f":"'Rozliczenie kwartalne'!I467","v":0},{"$f":"'Rozliczenie kwartalne'!J467","v":0},{"$f":"'Rozliczenie kwartalne'!K467","v":0},{"$f":"'Rozliczenie kwartalne'!L467","v":0},{"$f":"'Rozliczenie kwartalne'!M467","v":0},{"$f":"'Rozliczenie kwartalne'!N467","v":0}]
[{"$f":"'Rozliczenie kwartalne'!A468","v":"67"},{"$f":"'Rozliczenie kwartalne'!B468","v":""},{"$f":"'Rozliczenie kwartalne'!C468","v":0},{"$f":"'Rozliczenie kwartalne'!D468","v":0},{"$f":"'Rozliczenie kwartalne'!E468","v":0},{"$f":"'Rozliczenie kwartalne'!F468","v":0},{"$f":"'Rozliczenie kwartalne'!G468","v":0},{"$f":"'Rozliczenie kwartalne'!H468","v":0},{"$f":"'Rozliczenie kwartalne'!I468","v":0},{"$f":"'Rozliczenie kwartalne'!J468","v":0},{"$f":"'Rozliczenie kwartalne'!K468","v":0},{"$f":"'Rozliczenie kwartalne'!L468","v":0},{"$f":"'Rozliczenie kwartalne'!M468","v":0},{"$f":"'Rozliczenie kwartalne'!N468","v":0}]
[{"$f":"'Rozliczenie kwartalne'!A469","v":"68"},{"$f":"'Rozliczenie kwartalne'!B469","v":""},{"$f":"'Rozliczenie kwartalne'!C469","v":0},{"$f":"'Rozliczenie kwartalne'!D469","v":0},{"$f":"'Rozliczenie kwartalne'!E469","v":0},{"$f":"'Rozliczenie kwartalne'!F469","v":0},{"$f":"'Rozliczenie kwartalne'!G469","v":0},{"$f":"'Rozliczenie kwartalne'!H469","v":0},{"$f":"'Rozliczenie kwartalne'!I469","v":0},{"$f":"'Rozliczenie kwartalne'!J469","v":0},{"$f":"'Rozliczenie kwartalne'!K469","v":0},{"$f":"'Rozliczenie kwartalne'!L469","v":0},{"$f":"'Rozliczenie kwartalne'!M469","v":0},{"$f":"'Rozliczenie kwartalne'!N469","v":0}]
[{"$f":"'Rozliczenie kwartalne'!A470","v":"69"},{"$f":"'Rozliczenie kwartalne'!B470","v":""},{"$f":"'Rozliczenie kwartalne'!C470","v":0},{"$f":"'Rozliczenie kwartalne'!D470","v":0},{"$f":"'Rozliczenie kwartalne'!E470","v":0},{"$f":"'Rozliczenie kwartalne'!F470","v":0},{"$f":"'Rozliczenie kwartalne'!G470","v":0},{"$f":"'Rozliczenie kwartalne'!H470","v":0},{"$f":"'Rozliczenie kwartalne'!I470","v":0},{"$f":"'Rozliczenie kwartalne'!J470","v":0},{"$f":"'Rozliczenie kwartalne'!K470","v":0},{"$f":"'Rozliczenie kwartalne'!L470","v":0},{"$f":"'Rozliczenie kwartalne'!M470","v":0},{"$f":"'Rozliczenie kwartalne'!N470","v":0}]
[{"$f":"'Rozliczenie kwartalne'!A471","v":"70"},{"$f":"'Rozliczenie kwartalne'!B471","v":""},{"$f":"'Rozliczenie kwartalne'!C471","v":0},{"$f":"'Rozliczenie kwartalne'!D471","v":0},{"$f":"'Rozliczenie kwartalne'!E471","v":0},{"$f":"'Rozliczenie kwartalne'!F471","v":0},{"$f":"'Rozliczenie kwartalne'!G471","v":0},{"$f":"'Rozliczenie kwartalne'!H471","v":0},{"$f":"'Rozliczenie kwartalne'!I471","v":0},{"$f":"'Rozliczenie kwartalne'!J471","v":0},{"$f":"'Rozliczenie kwartalne'!K471","v":0},{"$f":"'Rozliczenie kwartalne'!L471","v":0},{"$f":"'Rozliczenie kwartalne'!M471","v":0},{"$f":"'Rozliczenie kwartalne'!N471","v":0}]
[{"$f":"'Rozliczenie kwartalne'!A472","v":"71"},{"$f":"'Rozliczenie kwartalne'!B472","v":""},{"$f":"'Rozliczenie kwartalne'!C472","v":0},{"$f":"'Rozliczenie kwartalne'!D472","v":0},{"$f":"'Rozliczenie kwartalne'!E472","v":0},{"$f":"'Rozliczenie kwartalne'!F472","v":0},{"$f":"'Rozliczenie kwartalne'!G472","v":0},{"$f":"'Rozliczenie kwartalne'!H472","v":0},{"$f":"'Rozliczenie kwartalne'!I472","v":0},{"$f":"'Rozliczenie kwartalne'!J472","v":0},{"$f":"'Rozliczenie kwartalne'!K472","v":0},{"$f":"'Rozliczenie kwartalne'!L472","v":0},{"$f":"'Rozliczenie kwartalne'!M472","v":0},{"$f":"'Rozliczenie kwartalne'!N472","v":0}]
[{"$f":"'Rozliczenie kwartalne'!A473","v":"72"},{"$f":"'Rozliczenie kwartalne'!B473","v":""},{"$f":"'Rozliczenie kwartalne'!C473","v":0},{"$f":"'Rozliczenie kwartalne'!D473","v":0},{"$f":"'Rozliczenie kwartalne'!E473","v":0},{"$f":"'Rozliczenie kwartalne'!F473","v":0},{"$f":"'Rozliczenie kwartalne'!G473","v":0},{"$f":"'Rozliczenie kwartalne'!H473","v":0},{"$f":"'Rozliczenie kwartalne'!I473","v":0},{"$f":"'Rozliczenie kwartalne'!J473","v":0},{"$f":"'Rozliczenie kwartalne'!K473","v":0},{"$f":"'Rozliczenie kwartalne'!L473","v":0},{"$f":"'Rozliczenie kwartalne'!M473","v":0},{"$f":"'Rozliczenie kwartalne'!N473","v":0}]
[{"$f":"'Rozliczenie kwartalne'!A474","v":"73"},{"$f":"'Rozliczenie kwartalne'!B474","v":""},{"$f":"'Rozliczenie kwartalne'!C474","v":0},{"$f":"'Rozliczenie kwartalne'!D474","v":0},{"$f":"'Rozliczenie kwartalne'!E474","v":0},{"$f":"'Rozliczenie kwartalne'!F474","v":0},{"$f":"'Rozliczenie kwartalne'!G474","v":0},{"$f":"'Rozliczenie kwartalne'!H474","v":0},{"$f":"'Rozliczenie kwartalne'!I474","v":0},{"$f":"'Rozliczenie kwartalne'!J474","v":0},{"$f":"'Rozliczenie kwartalne'!K474","v":0},{"$f":"'Rozliczenie kwartalne'!L474","v":0},{"$f":"'Rozliczenie kwartalne'!M474","v":0},{"$f":"'Rozliczenie kwartalne'!N474","v":0}]
[{"$f":"'Rozliczenie kwartalne'!A475","v":"74"},{"$f":"'Rozliczenie kwartalne'!B475","v":""},{"$f":"'Rozliczenie kwartalne'!C475","v":0},{"$f":"'Rozliczenie kwartalne'!D475","v":0},{"$f":"'Rozliczenie kwartalne'!E475","v":0},{"$f":"'Rozliczenie kwartalne'!F475","v":0},{"$f":"'Rozliczenie kwartalne'!G475","v":0},{"$f":"'Rozliczenie kwartalne'!H475","v":0},{"$f":"'Rozliczenie kwartalne'!I475","v":0},{"$f":"'Rozliczenie kwartalne'!J475","v":0},{"$f":"'Rozliczenie kwartalne'!K475","v":0},{"$f":"'Rozliczenie kwartalne'!L475","v":0},{"$f":"'Rozliczenie kwartalne'!M475","v":0},{"$f":"'Rozliczenie kwartalne'!N475","v":0}]
[{"$f":"'Rozliczenie kwartalne'!A476","v":"75"},{"$f":"'Rozliczenie kwartalne'!B476","v":""},{"$f":"'Rozliczenie kwartalne'!C476","v":0},{"$f":"'Rozliczenie kwartalne'!D476","v":0},{"$f":"'Rozliczenie kwartalne'!E476","v":0},{"$f":"'Rozliczenie kwartalne'!F476","v":0},{"$f":"'Rozliczenie kwartalne'!G476","v":0},{"$f":"'Rozliczenie kwartalne'!H476","v":0},{"$f":"'Rozliczenie kwartalne'!I476","v":0},{"$f":"'Rozliczenie kwartalne'!J476","v":0},{"$f":"'Rozliczenie kwartalne'!K476","v":0},{"$f":"'Rozliczenie kwartalne'!L476","v":0},{"$f":"'Rozliczenie kwartalne'!M476","v":0},{"$f":"'Rozliczenie kwartalne'!N476","v":0}]
[{"$f":"'Rozliczenie kwartalne'!A477","v":"76"},{"$f":"'Rozliczenie kwartalne'!B477","v":""},{"$f":"'Rozliczenie kwartalne'!C477","v":0},{"$f":"'Rozliczenie kwartalne'!D477","v":0},{"$f":"'Rozliczenie kwartalne'!E477","v":0},{"$f":"'Rozliczenie kwartalne'!F477","v":0},{"$f":"'Rozliczenie kwartalne'!G477","v":0},{"$f":"'Rozliczenie kwartalne'!H477","v":0},{"$f":"'Rozliczenie kwartalne'!I477","v":0},{"$f":"'Rozliczenie kwartalne'!J477","v":0},{"$f":"'Rozliczenie kwartalne'!K477","v":0},{"$f":"'Rozliczenie kwartalne'!L477","v":0},{"$f":"'Rozliczenie kwartalne'!M477","v":0},{"$f":"'Rozliczenie kwartalne'!N477","v":0}]
[{"$f":"'Rozliczenie kwartalne'!A478","v":"77"},{"$f":"'Rozliczenie kwartalne'!B478","v":""},{"$f":"'Rozliczenie kwartalne'!C478","v":0},{"$f":"'Rozliczenie kwartalne'!D478","v":0},{"$f":"'Rozliczenie kwartalne'!E478","v":0},{"$f":"'Rozliczenie kwartalne'!F478","v":0},{"$f":"'Rozliczenie kwartalne'!G478","v":0},{"$f":"'Rozliczenie kwartalne'!H478","v":0},{"$f":"'Rozliczenie kwartalne'!I478","v":0},{"$f":"'Rozliczenie kwartalne'!J478","v":0},{"$f":"'Rozliczenie kwartalne'!K478","v":0},{"$f":"'Rozliczenie kwartalne'!L478","v":0},{"$f":"'Rozliczenie kwartalne'!M478","v":0},{"$f":"'Rozliczenie kwartalne'!N478","v":0}]
[{"$f":"'Rozliczenie kwartalne'!A479","v":"78"},{"$f":"'Rozliczenie kwartalne'!B479","v":""},{"$f":"'Rozliczenie kwartalne'!C479","v":0},{"$f":"'Rozliczenie kwartalne'!D479","v":0},{"$f":"'Rozliczenie kwartalne'!E479","v":0},{"$f":"'Rozliczenie kwartalne'!F479","v":0},{"$f":"'Rozliczenie kwartalne'!G479","v":0},{"$f":"'Rozliczenie kwartalne'!H479","v":0},{"$f":"'Rozliczenie kwartalne'!I479","v":0},{"$f":"'Rozliczenie kwartalne'!J479","v":0},{"$f":"'Rozliczenie kwartalne'!K479","v":0},{"$f":"'Rozliczenie kwartalne'!L479","v":0},{"$f":"'Rozliczenie kwartalne'!M479","v":0},{"$f":"'Rozliczenie kwartalne'!N479","v":0}]
[{"$f":"'Rozliczenie kwartalne'!A480","v":"79"},{"$f":"'Rozliczenie kwartalne'!B480","v":""},{"$f":"'Rozliczenie kwartalne'!C480","v":0},{"$f":"'Rozliczenie kwartalne'!D480","v":0},{"$f":"'Rozliczenie kwartalne'!E480","v":0},{"$f":"'Rozliczenie kwartalne'!F480","v":0},{"$f":"'Rozliczenie kwartalne'!G480","v":0},{"$f":"'Rozliczenie kwartalne'!H480","v":0},{"$f":"'Rozliczenie kwartalne'!I480","v":0},{"$f":"'Rozliczenie kwartalne'!J480","v":0},{"$f":"'Rozliczenie kwartalne'!K480","v":0},{"$f":"'Rozliczenie kwartalne'!L480","v":0},{"$f":"'Rozliczenie kwartalne'!M480","v":0},{"$f":"'Rozliczenie kwartalne'!N480","v":0}]
[{"$f":"'Rozliczenie kwartalne'!A481","v":"80"},{"$f":"'Rozliczenie kwartalne'!B481","v":""},{"$f":"'Rozliczenie kwartalne'!C481","v":0},{"$f":"'Rozliczenie kwartalne'!D481","v":0},{"$f":"'Rozliczenie kwartalne'!E481","v":0},{"$f":"'Rozliczenie kwartalne'!F481","v":0},{"$f":"'Rozliczenie kwartalne'!G481","v":0},{"$f":"'Rozliczenie kwartalne'!H481","v":0},{"$f":"'Rozliczenie kwartalne'!I481","v":0},{"$f":"'Rozliczenie kwartalne'!J481","v":0},{"$f":"'Rozliczenie kwartalne'!K481","v":0},{"$f":"'Rozliczenie kwartalne'!L481","v":0},{"$f":"'Rozliczenie kwartalne'!M481","v":0},{"$f":"'Rozliczenie kwartalne'!N481","v":0}]
[{"$f":"'Rozliczenie kwartalne'!A482","v":"81"},{"$f":"'Rozliczenie kwartalne'!B482","v":""},{"$f":"'Rozliczenie kwartalne'!C482","v":0},{"$f":"'Rozliczenie kwartalne'!D482","v":0},{"$f":"'Rozliczenie kwartalne'!E482","v":0},{"$f":"'Rozliczenie kwartalne'!F482","v":0},{"$f":"'Rozliczenie kwartalne'!G482","v":0},{"$f":"'Rozliczenie kwartalne'!H482","v":0},{"$f":"'Rozliczenie kwartalne'!I482","v":0},{"$f":"'Rozliczenie kwartalne'!J482","v":0},{"$f":"'Rozliczenie kwartalne'!K482","v":0},{"$f":"'Rozliczenie kwartalne'!L482","v":0},{"$f":"'Rozliczenie kwartalne'!M482","v":0},{"$f":"'Rozliczenie kwartalne'!N482","v":0}]
[{"$f":"'Rozliczenie kwartalne'!A483","v":"82"},{"$f":"'Rozliczenie kwartalne'!B483","v":""},{"$f":"'Rozliczenie kwartalne'!C483","v":0},{"$f":"'Rozliczenie kwartalne'!D483","v":0},{"$f":"'Rozliczenie kwartalne'!E483","v":0},{"$f":"'Rozliczenie kwartalne'!F483","v":0},{"$f":"'Rozliczenie kwartalne'!G483","v":0},{"$f":"'Rozliczenie kwartalne'!H483","v":0},{"$f":"'Rozliczenie kwartalne'!I483","v":0},{"$f":"'Rozliczenie kwartalne'!J483","v":0},{"$f":"'Rozliczenie kwartalne'!K483","v":0},{"$f":"'Rozliczenie kwartalne'!L483","v":0},{"$f":"'Rozliczenie kwartalne'!M483","v":0},{"$f":"'Rozliczenie kwartalne'!N483","v":0}]
[{"$f":"'Rozliczenie kwartalne'!A484","v":"83"},{"$f":"'Rozliczenie kwartalne'!B484","v":""},{"$f":"'Rozliczenie kwartalne'!C484","v":0},{"$f":"'Rozliczenie kwartalne'!D484","v":0},{"$f":"'Rozliczenie kwartalne'!E484","v":0},{"$f":"'Rozliczenie kwartalne'!F484","v":0},{"$f":"'Rozliczenie kwartalne'!G484","v":0},{"$f":"'Rozliczenie kwartalne'!H484","v":0},{"$f":"'Rozliczenie kwartalne'!I484","v":0},{"$f":"'Rozliczenie kwartalne'!J484","v":0},{"$f":"'Rozliczenie kwartalne'!K484","v":0},{"$f":"'Rozliczenie kwartalne'!L484","v":0},{"$f":"'Rozliczenie kwartalne'!M484","v":0},{"$f":"'Rozliczenie kwartalne'!N484","v":0}]
[{"$f":"'Rozliczenie kwartalne'!A485","v":"84"},{"$f":"'Rozliczenie kwartalne'!B485","v":""},{"$f":"'Rozliczenie kwartalne'!C485","v":0},{"$f":"'Rozliczenie kwartalne'!D485","v":0},{"$f":"'Rozliczenie kwartalne'!E485","v":0},{"$f":"'Rozliczenie kwartalne'!F485","v":0},{"$f":"'Rozliczenie kwartalne'!G485","v":0},{"$f":"'Rozliczenie kwartalne'!H485","v":0},{"$f":"'Rozliczenie kwartalne'!I485","v":0},{"$f":"'Rozliczenie kwartalne'!J485","v":0},{"$f":"'Rozliczenie kwartalne'!K485","v":0},{"$f":"'Rozliczenie kwartalne'!L485","v":0},{"$f":"'Rozliczenie kwartalne'!M485","v":0},{"$f":"'Rozliczenie kwartalne'!N485","v":0}]
[{"$f":"'Rozliczenie kwartalne'!A486","v":"85"},{"$f":"'Rozliczenie kwartalne'!B486","v":""},{"$f":"'Rozliczenie kwartalne'!C486","v":0},{"$f":"'Rozliczenie kwartalne'!D486","v":0},{"$f":"'Rozliczenie kwartalne'!E486","v":0},{"$f":"'Rozliczenie kwartalne'!F486","v":0},{"$f":"'Rozliczenie kwartalne'!G486","v":0},{"$f":"'Rozliczenie kwartalne'!H486","v":0},{"$f":"'Rozliczenie kwartalne'!I486","v":0},{"$f":"'Rozliczenie kwartalne'!J486","v":0},{"$f":"'Rozliczenie kwartalne'!K486","v":0},{"$f":"'Rozliczenie kwartalne'!L486","v":0},{"$f":"'Rozliczenie kwartalne'!M486","v":0},{"$f":"'Rozliczenie kwartalne'!N486","v":0}]
[{"$f":"'Rozliczenie kwartalne'!A487","v":"86"},{"$f":"'Rozliczenie kwartalne'!B487","v":""},{"$f":"'Rozliczenie kwartalne'!C487","v":0},{"$f":"'Rozliczenie kwartalne'!D487","v":0},{"$f":"'Rozliczenie kwartalne'!E487","v":0},{"$f":"'Rozliczenie kwartalne'!F487","v":0},{"$f":"'Rozliczenie kwartalne'!G487","v":0},{"$f":"'Rozliczenie kwartalne'!H487","v":0},{"$f":"'Rozliczenie kwartalne'!I487","v":0},{"$f":"'Rozliczenie kwartalne'!J487","v":0},{"$f":"'Rozliczenie kwartalne'!K487","v":0},{"$f":"'Rozliczenie kwartalne'!L487","v":0},{"$f":"'Rozliczenie kwartalne'!M487","v":0},{"$f":"'Rozliczenie kwartalne'!N487","v":0}]
[{"$f":"'Rozliczenie kwartalne'!A488","v":"87"},{"$f":"'Rozliczenie kwartalne'!B488","v":""},{"$f":"'Rozliczenie kwartalne'!C488","v":0},{"$f":"'Rozliczenie kwartalne'!D488","v":0},{"$f":"'Rozliczenie kwartalne'!E488","v":0},{"$f":"'Rozliczenie kwartalne'!F488","v":0},{"$f":"'Rozliczenie kwartalne'!G488","v":0},{"$f":"'Rozliczenie kwartalne'!H488","v":0},{"$f":"'Rozliczenie kwartalne'!I488","v":0},{"$f":"'Rozliczenie kwartalne'!J488","v":0},{"$f":"'Rozliczenie kwartalne'!K488","v":0},{"$f":"'Rozliczenie kwartalne'!L488","v":0},{"$f":"'Rozliczenie kwartalne'!M488","v":0},{"$f":"'Rozliczenie kwartalne'!N488","v":0}]
[{"$f":"'Rozliczenie kwartalne'!A489","v":"88"},{"$f":"'Rozliczenie kwartalne'!B489","v":""},{"$f":"'Rozliczenie kwartalne'!C489","v":0},{"$f":"'Rozliczenie kwartalne'!D489","v":0},{"$f":"'Rozliczenie kwartalne'!E489","v":0},{"$f":"'Rozliczenie kwartalne'!F489","v":0},{"$f":"'Rozliczenie kwartalne'!G489","v":0},{"$f":"'Rozliczenie kwartalne'!H489","v":0},{"$f":"'Rozliczenie kwartalne'!I489","v":0},{"$f":"'Rozliczenie kwartalne'!J489","v":0},{"$f":"'Rozliczenie kwartalne'!K489","v":0},{"$f":"'Rozliczenie kwartalne'!L489","v":0},{"$f":"'Rozliczenie kwartalne'!M489","v":0},{"$f":"'Rozliczenie kwartalne'!N489","v":0}]
[{"$f":"'Rozliczenie kwartalne'!A490","v":"89"},{"$f":"'Rozliczenie kwartalne'!B490","v":""},{"$f":"'Rozliczenie kwartalne'!C490","v":0},{"$f":"'Rozliczenie kwartalne'!D490","v":0},{"$f":"'Rozliczenie kwartalne'!E490","v":0},{"$f":"'Rozliczenie kwartalne'!F490","v":0},{"$f":"'Rozliczenie kwartalne'!G490","v":0},{"$f":"'Rozliczenie kwartalne'!H490","v":0},{"$f":"'Rozliczenie kwartalne'!I490","v":0},{"$f":"'Rozliczenie kwartalne'!J490","v":0},{"$f":"'Rozliczenie kwartalne'!K490","v":0},{"$f":"'Rozliczenie kwartalne'!L490","v":0},{"$f":"'Rozliczenie kwartalne'!M490","v":0},{"$f":"'Rozliczenie kwartalne'!N490","v":0}]
[{"$f":"'Rozliczenie kwartalne'!A491","v":"90"},{"$f":"'Rozliczenie kwartalne'!B491","v":""},{"$f":"'Rozliczenie kwartalne'!C491","v":0},{"$f":"'Rozliczenie kwartalne'!D491","v":0},{"$f":"'Rozliczenie kwartalne'!E491","v":0},{"$f":"'Rozliczenie kwartalne'!F491","v":0},{"$f":"'Rozliczenie kwartalne'!G491","v":0},{"$f":"'Rozliczenie kwartalne'!H491","v":0},{"$f":"'Rozliczenie kwartalne'!I491","v":0},{"$f":"'Rozliczenie kwartalne'!J491","v":0},{"$f":"'Rozliczenie kwartalne'!K491","v":0},{"$f":"'Rozliczenie kwartalne'!L491","v":0},{"$f":"'Rozliczenie kwartalne'!M491","v":0},{"$f":"'Rozliczenie kwartalne'!N491","v":0}]
[{"$f":"'Rozliczenie kwartalne'!A492","v":"91"},{"$f":"'Rozliczenie kwartalne'!B492","v":""},{"$f":"'Rozliczenie kwartalne'!C492","v":0},{"$f":"'Rozliczenie kwartalne'!D492","v":0},{"$f":"'Rozliczenie kwartalne'!E492","v":0},{"$f":"'Rozliczenie kwartalne'!F492","v":0},{"$f":"'Rozliczenie kwartalne'!G492","v":0},{"$f":"'Rozliczenie kwartalne'!H492","v":0},{"$f":"'Rozliczenie kwartalne'!I492","v":0},{"$f":"'Rozliczenie kwartalne'!J492","v":0},{"$f":"'Rozliczenie kwartalne'!K492","v":0},{"$f":"'Rozliczenie kwartalne'!L492","v":0},{"$f":"'Rozliczenie kwartalne'!M492","v":0},{"$f":"'Rozliczenie kwartalne'!N492","v":0}]
[{"$f":"'Rozliczenie kwartalne'!A493","v":"92"},{"$f":"'Rozliczenie kwartalne'!B493","v":""},{"$f":"'Rozliczenie kwartalne'!C493","v":0},{"$f":"'Rozliczenie kwartalne'!D493","v":0},{"$f":"'Rozliczenie kwartalne'!E493","v":0},{"$f":"'Rozliczenie kwartalne'!F493","v":0},{"$f":"'Rozliczenie kwartalne'!G493","v":0},{"$f":"'Rozliczenie kwartalne'!H493","v":0},{"$f":"'Rozliczenie kwartalne'!I493","v":0},{"$f":"'Rozliczenie kwartalne'!J493","v":0},{"$f":"'Rozliczenie kwartalne'!K493","v":0},{"$f":"'Rozliczenie kwartalne'!L493","v":0},{"$f":"'Rozliczenie kwartalne'!M493","v":0},{"$f":"'Rozliczenie kwartalne'!N493","v":0}]
[{"$f":"'Rozliczenie kwartalne'!A494","v":"93"},{"$f":"'Rozliczenie kwartalne'!B494","v":""},{"$f":"'Rozliczenie kwartalne'!C494","v":0},{"$f":"'Rozliczenie kwartalne'!D494","v":0},{"$f":"'Rozliczenie kwartalne'!E494","v":0},{"$f":"'Rozliczenie kwartalne'!F494","v":0},{"$f":"'Rozliczenie kwartalne'!G494","v":0},{"$f":"'Rozliczenie kwartalne'!H494","v":0},{"$f":"'Rozliczenie kwartalne'!I494","v":0},{"$f":"'Rozliczenie kwartalne'!J494","v":0},{"$f":"'Rozliczenie kwartalne'!K494","v":0},{"$f":"'Rozliczenie kwartalne'!L494","v":0},{"$f":"'Rozliczenie kwartalne'!M494","v":0},{"$f":"'Rozliczenie kwartalne'!N494","v":0}]
[{"$f":"'Rozliczenie kwartalne'!A495","v":"94"},{"$f":"'Rozliczenie kwartalne'!B495","v":""},{"$f":"'Rozliczenie kwartalne'!C495","v":0},{"$f":"'Rozliczenie kwartalne'!D495","v":0},{"$f":"'Rozliczenie kwartalne'!E495","v":0},{"$f":"'Rozliczenie kwartalne'!F495","v":0},{"$f":"'Rozliczenie kwartalne'!G495","v":0},{"$f":"'Rozliczenie kwartalne'!H495","v":0},{"$f":"'Rozliczenie kwartalne'!I495","v":0},{"$f":"'Rozliczenie kwartalne'!J495","v":0},{"$f":"'Rozliczenie kwartalne'!K495","v":0},{"$f":"'Rozliczenie kwartalne'!L495","v":0},{"$f":"'Rozliczenie kwartalne'!M495","v":0},{"$f":"'Rozliczenie kwartalne'!N495","v":0}]
[{"$f":"'Rozliczenie kwartalne'!A496","v":"95"},{"$f":"'Rozliczenie kwartalne'!B496","v":""},{"$f":"'Rozliczenie kwartalne'!C496","v":0},{"$f":"'Rozliczenie kwartalne'!D496","v":0},{"$f":"'Rozliczenie kwartalne'!E496","v":0},{"$f":"'Rozliczenie kwartalne'!F496","v":0},{"$f":"'Rozliczenie kwartalne'!G496","v":0},{"$f":"'Rozliczenie kwartalne'!H496","v":0},{"$f":"'Rozliczenie kwartalne'!I496","v":0},{"$f":"'Rozliczenie kwartalne'!J496","v":0},{"$f":"'Rozliczenie kwartalne'!K496","v":0},{"$f":"'Rozliczenie kwartalne'!L496","v":0},{"$f":"'Rozliczenie kwartalne'!M496","v":0},{"$f":"'Rozliczenie kwartalne'!N496","v":0}]
[{"$f":"'Rozliczenie kwartalne'!A497","v":"96"},{"$f":"'Rozliczenie kwartalne'!B497","v":""},{"$f":"'Rozliczenie kwartalne'!C497","v":0},{"$f":"'Rozliczenie kwartalne'!D497","v":0},{"$f":"'Rozliczenie kwartalne'!E497","v":0},{"$f":"'Rozliczenie kwartalne'!F497","v":0},{"$f":"'Rozliczenie kwartalne'!G497","v":0},{"$f":"'Rozliczenie kwartalne'!H497","v":0},{"$f":"'Rozliczenie kwartalne'!I497","v":0},{"$f":"'Rozliczenie kwartalne'!J497","v":0},{"$f":"'Rozliczenie kwartalne'!K497","v":0},{"$f":"'Rozliczenie kwartalne'!L497","v":0},{"$f":"'Rozliczenie kwartalne'!M497","v":0},{"$f":"'Rozliczenie kwartalne'!N497","v":0}]
[{"$f":"'Rozliczenie kwartalne'!A498","v":"97"},{"$f":"'Rozliczenie kwartalne'!B498","v":""},{"$f":"'Rozliczenie kwartalne'!C498","v":0},{"$f":"'Rozliczenie kwartalne'!D498","v":0},{"$f":"'Rozliczenie kwartalne'!E498","v":0},{"$f":"'Rozliczenie kwartalne'!F498","v":0},{"$f":"'Rozliczenie kwartalne'!G498","v":0},{"$f":"'Rozliczenie kwartalne'!H498","v":0},{"$f":"'Rozliczenie kwartalne'!I498","v":0},{"$f":"'Rozliczenie kwartalne'!J498","v":0},{"$f":"'Rozliczenie kwartalne'!K498","v":0},{"$f":"'Rozliczenie kwartalne'!L498","v":0},{"$f":"'Rozliczenie kwartalne'!M498","v":0},{"$f":"'Rozliczenie kwartalne'!N498","v":0}]
[{"$f":"'Rozliczenie kwartalne'!A499","v":"98"},{"$f":"'Rozliczenie kwartalne'!B499","v":""},{"$f":"'Rozliczenie kwartalne'!C499","v":0},{"$f":"'Rozliczenie kwartalne'!D499","v":0},{"$f":"'Rozliczenie kwartalne'!E499","v":0},{"$f":"'Rozliczenie kwartalne'!F499","v":0},{"$f":"'Rozliczenie kwartalne'!G499","v":0},{"$f":"'Rozliczenie kwartalne'!H499","v":0},{"$f":"'Rozliczenie kwartalne'!I499","v":0},{"$f":"'Rozliczenie kwartalne'!J499","v":0},{"$f":"'Rozliczenie kwartalne'!K499","v":0},{"$f":"'Rozliczenie kwartalne'!L499","v":0},{"$f":"'Rozliczenie kwartalne'!M499","v":0},{"$f":"'Rozliczenie kwartalne'!N499","v":0}]
[{"$f":"'Rozliczenie kwartalne'!A500","v":"99"},{"$f":"'Rozliczenie kwartalne'!B500","v":""},{"$f":"'Rozliczenie kwartalne'!C500","v":0},{"$f":"'Rozliczenie kwartalne'!D500","v":0},{"$f":"'Rozliczenie kwartalne'!E500","v":0},{"$f":"'Rozliczenie kwartalne'!F500","v":0},{"$f":"'Rozliczenie kwartalne'!G500","v":0},{"$f":"'Rozliczenie kwartalne'!H500","v":0},{"$f":"'Rozliczenie kwartalne'!I500","v":0},{"$f":"'Rozliczenie kwartalne'!J500","v":0},{"$f":"'Rozliczenie kwartalne'!K500","v":0},{"$f":"'Rozliczenie kwartalne'!L500","v":0},{"$f":"'Rozliczenie kwartalne'!M500","v":0},{"$f":"'Rozliczenie kwartalne'!N500","v":0}]
[{"$f":"'Rozliczenie kwartalne'!A501","v":"100"},{"$f":"'Rozliczenie kwartalne'!B501","v":""},{"$f":"'Rozliczenie kwartalne'!C501","v":0},{"$f":"'Rozliczenie kwartalne'!D501","v":0},{"$f":"'Rozliczenie kwartalne'!E501","v":0},{"$f":"'Rozliczenie kwartalne'!F501","v":0},{"$f":"'Rozliczenie kwartalne'!G501","v":0},{"$f":"'Rozliczenie kwartalne'!H501","v":0},{"$f":"'Rozliczenie kwartalne'!I501","v":0},{"$f":"'Rozliczenie kwartalne'!J501","v":0},{"$f":"'Rozliczenie kwartalne'!K501","v":0},{"$f":"'Rozliczenie kwartalne'!L501","v":0},{"$f":"'Rozliczenie kwartalne'!M501","v":0},{"$f":"'Rozliczenie kwartalne'!N501","v":0}]
[{"$f":"'Rozliczenie kwartalne'!A502","v":"101"},{"$f":"'Rozliczenie kwartalne'!B502","v":""},{"$f":"'Rozliczenie kwartalne'!C502","v":0},{"$f":"'Rozliczenie kwartalne'!D502","v":0},{"$f":"'Rozliczenie kwartalne'!E502","v":0},{"$f":"'Rozliczenie kwartalne'!F502","v":0},{"$f":"'Rozliczenie kwartalne'!G502","v":0},{"$f":"'Rozliczenie kwartalne'!H502","v":0},{"$f":"'Rozliczenie kwartalne'!I502","v":0},{"$f":"'Rozliczenie kwartalne'!J502","v":0},{"$f":"'Rozliczenie kwartalne'!K502","v":0},{"$f":"'Rozliczenie kwartalne'!L502","v":0},{"$f":"'Rozliczenie kwartalne'!M502","v":0},{"$f":"'Rozliczenie kwartalne'!N502","v":0}]
[{"$f":"'Rozliczenie kwartalne'!A503","v":"102"},{"$f":"'Rozliczenie kwartalne'!B503","v":""},{"$f":"'Rozliczenie kwartalne'!C503","v":0},{"$f":"'Rozliczenie kwartalne'!D503","v":0},{"$f":"'Rozliczenie kwartalne'!E503","v":0},{"$f":"'Rozliczenie kwartalne'!F503","v":0},{"$f":"'Rozliczenie kwartalne'!G503","v":0},{"$f":"'Rozliczenie kwartalne'!H503","v":0},{"$f":"'Rozliczenie kwartalne'!I503","v":0},{"$f":"'Rozliczenie kwartalne'!J503","v":0},{"$f":"'Rozliczenie kwartalne'!K503","v":0},{"$f":"'Rozliczenie kwartalne'!L503","v":0},{"$f":"'Rozliczenie kwartalne'!M503","v":0},{"$f":"'Rozliczenie kwartalne'!N503","v":0}]
[{"$f":"'Rozliczenie kwartalne'!A504","v":"103"},{"$f":"'Rozliczenie kwartalne'!B504","v":""},{"$f":"'Rozliczenie kwartalne'!C504","v":0},{"$f":"'Rozliczenie kwartalne'!D504","v":0},{"$f":"'Rozliczenie kwartalne'!E504","v":0},{"$f":"'Rozliczenie kwartalne'!F504","v":0},{"$f":"'Rozliczenie kwartalne'!G504","v":0},{"$f":"'Rozliczenie kwartalne'!H504","v":0},{"$f":"'Rozliczenie kwartalne'!I504","v":0},{"$f":"'Rozliczenie kwartalne'!J504","v":0},{"$f":"'Rozliczenie kwartalne'!K504","v":0},{"$f":"'Rozliczenie kwartalne'!L504","v":0},{"$f":"'Rozliczenie kwartalne'!M504","v":0},{"$f":"'Rozliczenie kwartalne'!N504","v":0}]
[{"$f":"'Rozliczenie kwartalne'!A505","v":"104"},{"$f":"'Rozliczenie kwartalne'!B505","v":""},{"$f":"'Rozliczenie kwartalne'!C505","v":0},{"$f":"'Rozliczenie kwartalne'!D505","v":0},{"$f":"'Rozliczenie kwartalne'!E505","v":0},{"$f":"'Rozliczenie kwartalne'!F505","v":0},{"$f":"'Rozliczenie kwartalne'!G505","v":0},{"$f":"'Rozliczenie kwartalne'!H505","v":0},{"$f":"'Rozliczenie kwartalne'!I505","v":0},{"$f":"'Rozliczenie kwartalne'!J505","v":0},{"$f":"'Rozliczenie kwartalne'!K505","v":0},{"$f":"'Rozliczenie kwartalne'!L505","v":0},{"$f":"'Rozliczenie kwartalne'!M505","v":0},{"$f":"'Rozliczenie kwartalne'!N505","v":0}]
[{"$f":"'Rozliczenie kwartalne'!A506","v":"105"},{"$f":"'Rozliczenie kwartalne'!B506","v":""},{"$f":"'Rozliczenie kwartalne'!C506","v":0},{"$f":"'Rozliczenie kwartalne'!D506","v":0},{"$f":"'Rozliczenie kwartalne'!E506","v":0},{"$f":"'Rozliczenie kwartalne'!F506","v":0},{"$f":"'Rozliczenie kwartalne'!G506","v":0},{"$f":"'Rozliczenie kwartalne'!H506","v":0},{"$f":"'Rozliczenie kwartalne'!I506","v":0},{"$f":"'Rozliczenie kwartalne'!J506","v":0},{"$f":"'Rozliczenie kwartalne'!K506","v":0},{"$f":"'Rozliczenie kwartalne'!L506","v":0},{"$f":"'Rozliczenie kwartalne'!M506","v":0},{"$f":"'Rozliczenie kwartalne'!N506","v":0}]
[{"$f":"'Rozliczenie kwartalne'!A507","v":"106"},{"$f":"'Rozliczenie kwartalne'!B507","v":""},{"$f":"'Rozliczenie kwartalne'!C507","v":0},{"$f":"'Rozliczenie kwartalne'!D507","v":0},{"$f":"'Rozliczenie kwartalne'!E507","v":0},{"$f":"'Rozliczenie kwartalne'!F507","v":0},{"$f":"'Rozliczenie kwartalne'!G507","v":0},{"$f":"'Rozliczenie kwartalne'!H507","v":0},{"$f":"'Rozliczenie kwartalne'!I507","v":0},{"$f":"'Rozliczenie kwartalne'!J507","v":0},{"$f":"'Rozliczenie kwartalne'!K507","v":0},{"$f":"'Rozliczenie kwartalne'!L507","v":0},{"$f":"'Rozliczenie kwartalne'!M507","v":0},{"$f":"'Rozliczenie kwartalne'!N507","v":0}]
[{"$f":"'Rozliczenie kwartalne'!A508","v":"107"},{"$f":"'Rozliczenie kwartalne'!B508","v":""},{"$f":"'Rozliczenie kwartalne'!C508","v":0},{"$f":"'Rozliczenie kwartalne'!D508","v":0},{"$f":"'Rozliczenie kwartalne'!E508","v":0},{"$f":"'Rozliczenie kwartalne'!F508","v":0},{"$f":"'Rozliczenie kwartalne'!G508","v":0},{"$f":"'Rozliczenie kwartalne'!H508","v":0},{"$f":"'Rozliczenie kwartalne'!I508","v":0},{"$f":"'Rozliczenie kwartalne'!J508","v":0},{"$f":"'Rozliczenie kwartalne'!K508","v":0},{"$f":"'Rozliczenie kwartalne'!L508","v":0},{"$f":"'Rozliczenie kwartalne'!M508","v":0},{"$f":"'Rozliczenie kwartalne'!N508","v":0}]
[{"$f":"'Rozliczenie kwartalne'!A509","v":"108"},{"$f":"'Rozliczenie kwartalne'!B509","v":""},{"$f":"'Rozliczenie kwartalne'!C509","v":0},{"$f":"'Rozliczenie kwartalne'!D509","v":0},{"$f":"'Rozliczenie kwartalne'!E509","v":0},{"$f":"'Rozliczenie kwartalne'!F509","v":0},{"$f":"'Rozliczenie kwartalne'!G509","v":0},{"$f":"'Rozliczenie kwartalne'!H509","v":0},{"$f":"'Rozliczenie kwartalne'!I509","v":0},{"$f":"'Rozliczenie kwartalne'!J509","v":0},{"$f":"'Rozliczenie kwartalne'!K509","v":0},{"$f":"'Rozliczenie kwartalne'!L509","v":0},{"$f":"'Rozliczenie kwartalne'!M509","v":0},{"$f":"'Rozliczenie kwartalne'!N509","v":0}]
[{"$f":"'Rozliczenie kwartalne'!A510","v":"109"},{"$f":"'Rozliczenie kwartalne'!B510","v":""},{"$f":"'Rozliczenie kwartalne'!C510","v":0},{"$f":"'Rozliczenie kwartalne'!D510","v":0},{"$f":"'Rozliczenie kwartalne'!E510","v":0},{"$f":"'Rozliczenie kwartalne'!F510","v":0},{"$f":"'Rozliczenie kwartalne'!G510","v":0},{"$f":"'Rozliczenie kwartalne'!H510","v":0},{"$f":"'Rozliczenie kwartalne'!I510","v":0},{"$f":"'Rozliczenie kwartalne'!J510","v":0},{"$f":"'Rozliczenie kwartalne'!K510","v":0},{"$f":"'Rozliczenie kwartalne'!L510","v":0},{"$f":"'Rozliczenie kwartalne'!M510","v":0},{"$f":"'Rozliczenie kwartalne'!N510","v":0}]
[{"$f":"'Rozliczenie kwartalne'!A511","v":"110"},{"$f":"'Rozliczenie kwartalne'!B511","v":""},{"$f":"'Rozliczenie kwartalne'!C511","v":0},{"$f":"'Rozliczenie kwartalne'!D511","v":0},{"$f":"'Rozliczenie kwartalne'!E511","v":0},{"$f":"'Rozliczenie kwartalne'!F511","v":0},{"$f":"'Rozliczenie kwartalne'!G511","v":0},{"$f":"'Rozliczenie kwartalne'!H511","v":0},{"$f":"'Rozliczenie kwartalne'!I511","v":0},{"$f":"'Rozliczenie kwartalne'!J511","v":0},{"$f":"'Rozliczenie kwartalne'!K511","v":0},{"$f":"'Rozliczenie kwartalne'!L511","v":0},{"$f":"'Rozliczenie kwartalne'!M511","v":0},{"$f":"'Rozliczenie kwartalne'!N511","v":0}]
[{"$f":"'Rozliczenie kwartalne'!A512","v":"111"},{"$f":"'Rozliczenie kwartalne'!B512","v":""},{"$f":"'Rozliczenie kwartalne'!C512","v":0},{"$f":"'Rozliczenie kwartalne'!D512","v":0},{"$f":"'Rozliczenie kwartalne'!E512","v":0},{"$f":"'Rozliczenie kwartalne'!F512","v":0},{"$f":"'Rozliczenie kwartalne'!G512","v":0},{"$f":"'Rozliczenie kwartalne'!H512","v":0},{"$f":"'Rozliczenie kwartalne'!I512","v":0},{"$f":"'Rozliczenie kwartalne'!J512","v":0},{"$f":"'Rozliczenie kwartalne'!K512","v":0},{"$f":"'Rozliczenie kwartalne'!L512","v":0},{"$f":"'Rozliczenie kwartalne'!M512","v":0},{"$f":"'Rozliczenie kwartalne'!N512","v":0}]
[{"$f":"'Rozliczenie kwartalne'!A513","v":"112"},{"$f":"'Rozliczenie kwartalne'!B513","v":""},{"$f":"'Rozliczenie kwartalne'!C513","v":0},{"$f":"'Rozliczenie kwartalne'!D513","v":0},{"$f":"'Rozliczenie kwartalne'!E513","v":0},{"$f":"'Rozliczenie kwartalne'!F513","v":0},{"$f":"'Rozliczenie kwartalne'!G513","v":0},{"$f":"'Rozliczenie kwartalne'!H513","v":0},{"$f":"'Rozliczenie kwartalne'!I513","v":0},{"$f":"'Rozliczenie kwartalne'!J513","v":0},{"$f":"'Rozliczenie kwartalne'!K513","v":0},{"$f":"'Rozliczenie kwartalne'!L513","v":0},{"$f":"'Rozliczenie kwartalne'!M513","v":0},{"$f":"'Rozliczenie kwartalne'!N513","v":0}]
[{"$f":"'Rozliczenie kwartalne'!A514","v":"113"},{"$f":"'Rozliczenie kwartalne'!B514","v":""},{"$f":"'Rozliczenie kwartalne'!C514","v":0},{"$f":"'Rozliczenie kwartalne'!D514","v":0},{"$f":"'Rozliczenie kwartalne'!E514","v":0},{"$f":"'Rozliczenie kwartalne'!F514","v":0},{"$f":"'Rozliczenie kwartalne'!G514","v":0},{"$f":"'Rozliczenie kwartalne'!H514","v":0},{"$f":"'Rozliczenie kwartalne'!I514","v":0},{"$f":"'Rozliczenie kwartalne'!J514","v":0},{"$f":"'Rozliczenie kwartalne'!K514","v":0},{"$f":"'Rozliczenie kwartalne'!L514","v":0},{"$f":"'Rozliczenie kwartalne'!M514","v":0},{"$f":"'Rozliczenie kwartalne'!N514","v":0}]
[{"$f":"'Rozliczenie kwartalne'!A515","v":"114"},{"$f":"'Rozliczenie kwartalne'!B515","v":""},{"$f":"'Rozliczenie kwartalne'!C515","v":0},{"$f":"'Rozliczenie kwartalne'!D515","v":0},{"$f":"'Rozliczenie kwartalne'!E515","v":0},{"$f":"'Rozliczenie kwartalne'!F515","v":0},{"$f":"'Rozliczenie kwartalne'!G515","v":0},{"$f":"'Rozliczenie kwartalne'!H515","v":0},{"$f":"'Rozliczenie kwartalne'!I515","v":0},{"$f":"'Rozliczenie kwartalne'!J515","v":0},{"$f":"'Rozliczenie kwartalne'!K515","v":0},{"$f":"'Rozliczenie kwartalne'!L515","v":0},{"$f":"'Rozliczenie kwartalne'!M515","v":0},{"$f":"'Rozliczenie kwartalne'!N515","v":0}]
[{"$f":"'Rozliczenie kwartalne'!A516","v":"115"},{"$f":"'Rozliczenie kwartalne'!B516","v":""},{"$f":"'Rozliczenie kwartalne'!C516","v":0},{"$f":"'Rozliczenie kwartalne'!D516","v":0},{"$f":"'Rozliczenie kwartalne'!E516","v":0},{"$f":"'Rozliczenie kwartalne'!F516","v":0},{"$f":"'Rozliczenie kwartalne'!G516","v":0},{"$f":"'Rozliczenie kwartalne'!H516","v":0},{"$f":"'Rozliczenie kwartalne'!I516","v":0},{"$f":"'Rozliczenie kwartalne'!J516","v":0},{"$f":"'Rozliczenie kwartalne'!K516","v":0},{"$f":"'Rozliczenie kwartalne'!L516","v":0},{"$f":"'Rozliczenie kwartalne'!M516","v":0},{"$f":"'Rozliczenie kwartalne'!N516","v":0}]
[{"$f":"'Rozliczenie kwartalne'!A517","v":"Ogółem:"},{"$f":"'Rozliczenie kwartalne'!B517","v":0},{"$f":"'Rozliczenie kwartalne'!C517","v":0},{"$f":"'Rozliczenie kwartalne'!D517","v":0},{"$f":"'Rozliczenie kwartalne'!E517","v":0},{"$f":"'Rozliczenie kwartalne'!F517","v":0},{"$f":"'Rozliczenie kwartalne'!G517","v":0},{"$f":"'Rozliczenie kwartalne'!H517","v":0},{"$f":"'Rozliczenie kwartalne'!I517","v":0},{"$f":"'Rozliczenie kwartalne'!J517","v":0},{"$f":"'Rozliczenie kwartalne'!K517","v":0},{"$f":"'Rozliczenie kwartalne'!L517","v":0},{"$f":"'Rozliczenie kwartalne'!M517","v":0},{"$f":"'Rozliczenie kwartalne'!N517","v":0}]

{"sheet":"Dane JST","index":4,"n_rows":174,"n_cols":10,"rows_kept":174,"cut":false,"hidden":true,"merged":[]}
["Kod powiatu","Nr umowy","nip","regon","nazwa","Adres","Kod TERYT","Powiat","Dysponent","Data zawarcia umowy"]
["06","805.4.56.2024",8231561524,"711582820","Gmina Bielany","ul. Słoneczna 2, 08-311 Bielany-Żyłaki","1429022","sokołowski","451","2025-01-21"]
["01","805.4.62.2024",7743211034,"611015626","Gmina Bodzanów","ul. Bankowa 7, 09-470 Bodzanów","1419023","płocki","353","2025-01-21"]
["06","805.4.30.2024",8371692723,"015891220","Gmina Brochów","Brochów 125, 05-088 Brochów","1428022","sochaczewski","443","2025-01-21"]
["25","805.4.20.2024",7743188737,"611015678","Gmina Brudzeń Duży","ul. Toruńska 2, 09-414 Brudzeń Duży","1419032","płocki","354","2025-01-21"]
["35","805.4.10.2024",7743138099,"611015709","Gmina Bulkowo","ul. Szkolna 1, 09-454 Bulkowo","1419042","płocki","355","2025-01-21"]
["06","805.4.27.2024",5321057650,"013268965","Gmina Celestynów","ul. Regucka 3, 05-430 Celestynów","1417032","otwocki","339","2025-01-21"]
["19","805.4.6.2024",7582157593,"550668226","Gmina Czarnia","Czarnia 41, 07-431 Czarnia","1415022","ostrołęcki","316","2025-01-21"]
["18","805.4.9.2024",8212551571,"711582121","Gmina Domanice","Domanice 52, 08-113 Domanice","1426012","siedlecki","422","2025-01-21"]
["06","805.4.32.2024",7743211258,"611015425","Gmina Gąbin","ul. Stary Rynek 16, 09-530 Gąbin","1419063","płocki","357","2025-01-21"]
["18","805.4.48.2024",9710659440,"611015922","Gmina Gostynin","ul. Rynek 26, 09-500 Gostynin","1404011","gostyniński","231","2025-01-21"]
["21","805.4.59.2024",4960241880,"030237523","Gmina Huszlew","Huszlew 77, 08-206 Huszlew","1410012","łosicki","269","2025-01-21"]
["16","805.4.17.2024",8371692427,"611015661","Gmina Iłów","ul. Płocka 2, 96-520 Iłów","1428032","sochaczewski","444","2025-01-21"]
["20","805.4.52.2024",8221020459,"711582687","Gmina Kołbiel","ul. Szkolna 1, 05-340 Kołbiel","1417052","otwocki","341","2025-01-21"]
["14","805.4.24.2024",8212392351,"711582486","Gmina Korczew","ul. ks. Stanisława Brzóski 20A, 08-108 Korczew","1426022","siedlecki","423","2025-01-21"]
["11","805.4.40.2024",8212394019,"711582463","Gmina Kotuń","ul. Siedlecka 56C, 08-130 Kotuń","1426032","siedlecki","424","2025-01-21"]
["12","805.4.60.2024",9482371307,"670223818","Gmina Kowala","ul. Marii Walewskiej 7, 26-624 Kowala-Stępocina","1425072","radomski","414","2025-01-21"]
["25","805.4.23.2024",4960249189,"030237405","Gmina Łosice","ul. Marszałka Józefa Piłsudskiego 6, 08-200 Łosice","1410023","łosicki","270","2025-01-21"]
["25","805.4.15.2024",8262037296,"711582322","Gmina Miastków Kościelny","ul. Rynek 6, 08-420 Miastków Kościelny","1403082","garwoliński","223","2025-01-21"]
["32","805.4.12.2024",8371692019,"750148354","Gmina Młodzieszyn","ul. Wyszogrodzka 25, 96-512 Młodzieszyn","1428042","sochaczewski","445","2025-01-21"]
["22","805.4.11.2024",7761615078,"611015773","Gmina Mochowo","ul. Sierpecka 2, 09-214 Mochowo","1427032","sierpecki","437","2025-01-21"]
["06","805.4.16.2024",8212529494,"711582492","Gmina Mokobody","ul. Plac Chreptowicza 25, 08-124 Mokobody","1426042","siedlecki","425","2025-01-21"]
["38","805.4.7.2024",8212364231,"711582457","Gmina Mordy","ul. Kilińskiego 9, 08-140 Mordy","1426053","siedlecki","426","2025-01-21"]
["09","805.4.18.2024",7743211324,"611015796","Gmina Nowy Duninów","ul. Osiedlowa 1, 09-505 Nowy Duninów","1419092","płocki","360","2025-01-21"]
["06","805.4.2.2024",4960248273,"030237629","Gmina Olszanka","Olszanka 37, 08-207 Olszanka","1410032","łosicki","271","2025-01-21"]
["25","805.4.29.2024",8261170716,"711582285","Gmina Osieck","ul. Rynek 1, 08-445 Osieck","1417063","otwocki","342","2025-01-21"]
["36","805.4.38.2024",9710664197,"611015810","Gmina Pacyna","ul. Wyzwolenia 7, 09-541 Pacyna","1404032","gostyniński","232","2025-01-21"]
["19","805.4.66.2024",8212433653,"711582523","Gmina Paprotnia","ul. 3 Maja 2, 08-107 Paprotnia","1426062","siedlecki","427","2025-01-21"]
["09","805.4.46.2024",8262037244,"711582345","Gmina Pilawa","al. Wyzwolenia 158, 08-440 Pilawa","1403103","garwoliński","225","2025-01-21"]
["04","805.4.49.2024",4960249522,"030237641","Gmina Platerów","ul. 3 Maja 5, 08-210 Platerów","1410042","łosicki","272","2025-01-21"]
["19","805.4.3.2024",1251627895,"711582693","Gmina Poświętne","ul. Krótka 1, 05-326 Poświętne","1434082","wołomiński","488","2025-01-21"]
["24","805.4.19.2024",8212389633,"711582569","Gmina Przesmyki","ul. 11 Listopada 13, 08-109 Przesmyki","1426072","siedlecki","428","2025-01-21"]
["25","805.4.26.2024",8231559680,"711582055","Gmina Repki","ul. Parkowa 7, 08-307 Repki","1429062","sokołowski","455","2025-01-21"]
["15","805.4.13.2024",8371692261,"750148466","Gmina Rybno","ul. Długa 20, 96-514 Rybno","1428062","sochaczewski","447","2025-01-21"]
["19","805.4.4.2024",4960206961,"030237687","Gmina Sarnaki","ul. Berka Joselewicza 3, 08-220 Sarnaki","1410052","łosicki","273","2025-01-21"]
["17","805.4.8.2024",7743213464,"611015997","Gmina Słupno","ul. Miszewska 8A, 09-472 Słupno","1419122","płocki","363","2025-01-21"]
["01","805.4.42.2024",8261144044,"711582300","Gmina Sobienie-Jeziory","ul. Garwolińska 16, 08-443 Sobienie-Jeziory","1417072","otwocki","343","2025-01-21"]
["12","805.4.25.2024",4960213725,"030237724","Gmina Stara Kornica","Stara Kornica 191, 08-205 Stara Kornica","1410062","łosicki","274","2025-01-21"]
["18","805.4.54.2024",7743186342,"611016040","Gmina Staroźreby","ul. Płocka 18, 09-440 Staroźreby","1419142","płocki","365","2025-01-21"]
["19","805.4.36.2024",9710662755,"611016070","Gmina Szczawin Kościelny","ul. Jana Pawła II 10, 09-550 Szczawin Kościelny","1404052","gostyniński","234","2025-01-21"]
["30","805.4.14.2024",7591743066,"450670114","Gmina Szulborze Wielkie","ul. Romantyczna 2, 07-324 Szulborze Wielkie","1416092","ostrowski","334","2025-01-21"]
["36","805.4.35.2024",8371695437,"750148532","Gmina Teresin","ul. Zielona 20, 96-515 Teresin","1428082","sochaczewski","449","2025-01-21"]
["04","805.4.33.2024",9482382481,"670224054","Gmina Wierzbica","ul. Kościuszki 73, 26-680 Wierzbica","1425112","radomski","418","2025-01-21"]
["15","805.4.21.2024",7743211407,"611015508","Gmina Wyszogród","ul. Rębowska 37, 09-450 Wyszogród","1419153","płocki","366","2025-01-21"]
["29","805.4.28.2024",7962959318,"670224077","Gmina Zakrzew","Zakrzew 51, 26-652 Zakrzew","1425132","radomski","420","2025-01-21"]
["34","805.4.34.2024",8212392687,"711582670","Gmina Zbuczyn","ul. Jana Pawła II 1, 08-106 Zbuczyn","1426132","siedlecki","434","2025-01-21"]
["12","805.4.58.2024",8262037238,"711582204","Gmina Żelechów","ul. Rynek 1, 08-430 Żelechów","1403143","garwoliński","229","2025-01-21"]
["09","805.4.41.2024",8262221226,"526980652","Związek Powiatowo - Gminny  \"Garwolińskie Przewozy Gminno - Powiatowe\"","ul. Mazowiecka 26, 08-400 Garwolin","1403","garwoliński","94475","2025-01-21"]
["17","805.4.8.2025",7591625622,"450670090","Gmina Boguty-Pianki","ul. Aleja Papieża Jana Pawła II 45, 07-325 Boguty-Pianki","1416032","ostrowski","328","22.12.2025"]
["21","805.4.21.2025",8231597203,"711582842","Gmina Ceranów","Ceranów 140, 08-322 Ceranów","1429032","sokołowski","452","22.12.2025"]
["14","805.4.6.2025",7582349619,"550668210","Gmina Czerwin","pl. plac Tysiąclecia 1, 07-407 Czerwin","1415032","ostrołęcki","317","22.12.2025"]
["07","805.4.26.2025",5671851791,"611015715","Gmina Czerwińsk nad Wisłą","ul. Władysława Jagiełły 16, 09-150 Czerwińsk nad Wisłą","1420043","płoński","370","22.12.2025"]
["12","805.4.9.2025",5311664650,"013270413","Gmina Czosnów","ul. Gminna 6, 05-152 Czosnów","1414022","nowodworski","309","22.12.2025"]
["14","805.4.35.2025",1251334785,"550667971","Gmina Dąbrówka","ul. Tadeusza Kościuszki 14, 05-252 Dąbrówka","1434052","wołomiński","485","22.12.2025"]
["25","805.4.55.2025",7621918666,"550668114","Gmina Długosiodło","ul. Tadeusza Kościuszki 2, 07-210 Długosiodło","1435022","wyszkowski","494","22.12.2025"]
["06","805.4.10.2025",7972011265,"670223310","Gmina Grójec","ul. Józefa Piłsudskiego 47, 05-600 Grójec","1406053","grójecki","245","22.12.2025"]
["23","805.4.3.2025",8371692427,"611015661","Gmina Iłów","ul. Płocka 2, 96-520 Iłów","1428032","sochaczewski","444","22.12.2025"]
["19","805.4.50.2025",7991965356,"670223741","Gmina Jastrząb","Plac Niepodległości 5, 26-502 Jastrząb","1430023","szydłowiecki","460","22.12.2025"]
["27","805.4.19.2025",8222158817,"711582612","Gmina Kałuszyn","ul. Pocztowa 1, 05-310 Kałuszyn","1412093","miński","292","2025-12-22"]
["16","805.4.22.2025",8221020459,"711582687","Gmina Kołbiel","ul. Szkolna 1, 05-340 Kołbiel","1417052","otwocki","341","22.12.2025"]
["25","805.4.45.2025",8212394019,"711582463","Gmina Kotuń","ul. Siedlecka 56C, 08-130 Kotuń","1426032","siedlecki","424","22.12.2025"]
["19","805.4.28.2025",9482371307,"670223818","Gmina Kowala","ul. Marii Walewskiej 7, 26-624 Kowala-Stępocina","1425072","radomski","414","22.12.2025"]
["14","805.4.24.2025",5311666399,"013270471","Gmina Leoncin","ul. Partyzantów 3, 05-155 Leoncin","1414032","nowodworski","310","22.12.2025"]
["08","805.4.49.2025",5110271300,"130378261","Gmina Lutocin","ul. Poniatowskiego 1, 09-317 Lutocin","1437042","żuromiński","507","22.12.2025"]
["14","805.4.5.2025",7742935675,"611015738","Gmina Łąck","ul. Gostynińska 2, 09-520 Łąck","1419072","płocki","358","22.12.2025"]
["12","805.4.23.2025",7743211086,"611015750","Gmina Mała Wieś","ul. Jana Kochanowskiego 1, 09-460 Mała Wieś","1419082","płocki","359","22.12.2025"]
["01","805.4.17.2025",7991958971,"670223847","Gmina Mirów","Mirów Stary 27, 26-503 Mirów Stary","1430032","szydłowiecki","461","22.12.2025"]
["01","805.4.57.2025",8371692019,"750148354","Gmina Młodzieszyn","ul. Wyszogrodzka 25, 96-512 Młodzieszyn","1428042","sochaczewski","445","22.12.2025"]
["02","805.4.12.2025",7761615078,"611015773","Gmina Mochowo","ul. Sierpecka 2, 09-214 Mochowo","1427032","sierpecki","437","22.12.2025"]
["04","805.4.46.2025",8222147185,"711582776","Gmina Mrozy","ul. Adama Mickiewicza 35, 05-320 Mrozy","1412123","miński","295","22.12.2025"]
["06","805.4.18.2025",5311607468,"130377899","Gmina Nasielsk","ul. Elektronowa 3, 05-190 Nasielsk","1414043","nowodworski","311","22.12.2025"]
["06","805.4.7.2025",7743211324,"611015796","Gmina Nowy Duninów","ul. Osiedlowa 1, 09-505 Nowy Duninów","1419092","płocki","360","22.12.2025"]
["06","805.4.54.2025",7591624953,"450670108","Gmina Nur","ul. Drohiczyńska 2, 07-322 Nur","1416062","ostrowski","331","22.12.2025"]
["06","805.4.16.2025",5671810266,"130378031","Gmina Płońsk","ul. Pułtuska 39, 09-100 Płońsk","1420011","płoński","375","22.12.2025"]
["06","805.4.47.2025",6010085828,"670223379","Gmina Przysucha","Plac Kolberga 11, 26-400 Przysucha","1423063","przysuski","397","22.12.2025"]
["08","805.4.13.2025",9482380424,"670223936","Gmina Przytyk","ul. Zachęta 57, 26-650 Przytyk","1425093","radomski","416","22.12.2025"]
["09","805.4.14.2025",7743128020,"611016057","Gmina Radzanowo","ul. Płocka 32, 09-451 Radzanowo","1419102","płocki","361","22.12.2025"]
["09","805.4.58.2025",7981435208,"670223942","Gmina Radzanów","Radzanów 92a, 26-807 Radzanów","1401032","białobrzeski","203","22.12.2025"]
["61","805.4.25.2025",7582141729,"550667959","Gmina Rzekuń","ul. Kościuszki 33, 07-411 Rzekuń","1415102","ostrołęcki","324","2025-12-22"]
["61","805.4.56.2025",9710659463,"611015916","Gmina Sanniki","ul. Warszawska 169, 09-540 Sanniki","1404043","gostyniński","233","22.12.2025"]
["16","805.4.4.2025",7742945231,"611016028","Gmina Stara Biała","ul. Jana Kazimierza 1, 09-411 Biała","1419132","płocki","364","2025-12-22"]
["18","805.4.38.2025",1231233414,"015891250","Gmina Tarczyn","ul. Juliana Stępkowskiego 17, 05-555 Tarczyn","1418063","piaseczyński","350","22.12.2025"]
["62","805.4.34.2025",5320000234,"013268994","Gmina Wiązowna","ul. Lubelska 59, 05-462 Wiązowna","1417082","otwocki","344","22.12.2025"]
["22","805.4.51.2025",7743211407,"611015508","Gmina Wyszogród","ul. Rębowska 37, 09-450 Wyszogród","1419153","płocki","366","22.12.2025"]
["23","805.4.53.2025",5671783457,"130378545","Gmina Załuski","ul. Gminna 17, 09-142 Załuski","1420122","płoński","378","22.12.2025"]
["27","805.4.44.2025",8111764762,"670223439","Gmina Zwoleń","ul. Plac Kochanowskiego 1, 26-700 Zwoleń","1436053","zwoleński","503","22.12.2025"]
["29","805.4.37.2025",8381888184,"540340545","Związek Powiatowo Gminny \"Żyrardowskie Przewozy Autobusowe\"","ul. Limanowskiego 45, 96-300 Żyardów","1438","żyrardowski","95216","22.12.2025"]
["30","805.4.29.2025",5291836443,"389450569","Związek Powiatowo-Gminny \"Grodziskie Przewozy Autobusowe\"","ul. Kościuszki 32a, 05-825 Grodzisk Mazowiecki","1405","grodziski","25938","22.12.2025"]
["33","805.4.40.2025",5291836443,"389450569","Związek Powiatowo-Gminny \"Grodziskie Przewozy Autobusowe\"","ul. Kościuszki 32a, 05-825 Grodzisk Mazowiecki","1405","grodziski","25938","2026-02-19"]
["34","805.4.43.2025",5291836443,"389450569","Związek Powiatowo-Gminny \"Grodziskie Przewozy Autobusowe\"","ul. Kościuszki 32a, 05-825 Grodzisk Mazowiecki","1405","grodziski","25938","2026-02-19"]
["36","805.3.9.2025",7971903240,"670223528","Gmina Błędów","ul. Sadurkowska 13, 05-620 Błędów","1406022","grójecki","242","2025-12-22"]
["12","805.3.61.2025",7743188737,"611015678","Gmina Brudzeń Duży","ul. Toruńska 2, 09-414 Brudzeń Duży","1419032","płocki","354","22.12.2025"]
["38","805.3.17.2025",5090066518,"670223563","Gmina Chotcza","Chotcza-Józefów 60, 27-312 Chotcza-Józefów","1409012","lipski","263","22.12.2025"]
["19","805.3.60.2025",5661892908,"130378002","Gmina Ciechanów","ul. Fabryczna 8, 06-400 Ciechanów","1402011","ciechanowski","208","22.12.2025"]
["27","805.3.32.2025",7971904280,"670223669","Gmina Goszczyn","ul. Bądkowska 1B, 05-610 Goszczyn","1406042","grójecki","244","22.12.2025"]
["28","805.3.58.2025",7761615061,"611015951","Gmina Gozdowo","ul. Krystyna Gozdawy 19, 09-213 Gozdowo","1427022","sierpecki","436","22.12.2025"]
["28","805.3.22.2025",7962929257,"670223698","Gmina Gózd","ul. Radomska 7, 26-634 Gózd","1425022","radomski","409","22.12.2025"]
["16","805.3.1.2025",7962963277,"670223327","Gmina Iłża","ul. Rynek 11, 27-100 Iłża","1425033","radomski","410","22.12.2025"]
["03","805.3.28.2025",7971945741,"670223729","Gmina Jasieniec","ul. Warecka 42, 05-604 Jasieniec","1406062","grójecki","246","2025-12-22"]
["26","805.3.37.2025",7962942660,"670223758","Gmina Jastrzębia","Jastrzębia 110, 26-631 Jastrzębia","1425042","radomski","411","22.12.2025"]
["28","805.3.13.2025",7962908568,"670223787","Gmina Jedlnia-Letnisko","ul. Radomska 43, 26-630 Jedlnia-Letnisko","1425063","radomski","413","22.12.2025"]
["19","805.3.24.2025",7571449122,"130378143","Gmina Karniewo","ul. Pułtuska 3, 06-425 Karniewo","1411032","makowski","277","22.12.2025"]
["26","805.3.41.2025",8121828216,"670223333","Gmina Kozienice","ul. Parkowa 5, 26-900 Kozienice","1407053","kozienicki","255","22.12.2025"]
["10","805.3.55.2025",8222148747,"711582730","Gmina Latowicz","ul. Rynek 6, 05-334 Latowicz","1412103","miński","293","22.12.2025"]
["19","805.3.31.2025",5090066174,"670223340","Gmina Lipsko","ul. 1 Maja 2, 27-300 Lipsko","1409033","lipski","265","22.12.2025"]
["19","805.3.45.2025",5342254841,"013269195","Gmina Nadarzyn","ul. Mszczonowska 24, 05-830 Nadarzyn","1421052","pruszkowski","383","2025-12-22"]
["06","805.3.30.2025",5671786697,"130378284","Gmina Nowe Miasto","ul. Apteczna 8, 09-120 Nowe Miasto","1420083","płoński","374","22.12.2025"]
["10","805.3.7.2025",7971881633,"670223362","Gmina Nowe Miasto nad Pilicą","pl. Ojca Honorata Koźmińskiego 1/2, 26-420 Nowe Miasto nad Pilicą","1406083","grójecki","248","2025-12-22"]
["26","805.3.3.2025",7972056581,"670223876","Gmina Pniewy","Pniewy 2, 05-652 Pniewy","1406092","grójecki","249","22.12.2025"]
["10","805.3.40.2025",5311688219,"013270531","Gmina Pomiechówek","ul. Szkolna 1A, 05-180 Pomiechówek","1414052","nowodworski","312","22.12.2025"]
["29","805.3.53.2025",1231050091,"013271170","Gmina Prażmów","ul. Piotra Czołchańskiego 1, 05-505 Prażmów","1418052","piaseczyński","349","22.12.2025"]
["17","805.3.62.2025",8111757928,"670223920","Gmina Przyłęk","Przyłęk, 26-704 Przyłęk","1436032","zwoleński","501","2025-12-22"]
["25","805.3.52.2025",1251333745,"013269700","Gmina Radzymin","pl. Tadeusza Kościuszki 2, 05-250 Radzymin","1434093","wołomiński","489","2025-12-22"]
["17","805.3.54.2025",5342488243,"013269232","Gmina Raszyn","ul. Szkolna 2A, 05-090 Raszyn","1421062","pruszkowski","384","22.12.2025"]
["34","805.3.44.2025",5361739574,"015570119","Gmina Serock","ul. Rynek 21, 05-140 Serock","1408043","legionowski","261","22.12.2025"]
["28","805.3.8.2025",8222147162,"711582782","Gmina Siennica","ul. Mińska 33, 05-332 Siennica","1412133","miński","296","22.12.2025"]
["19","805.3.35.2025",7962867409,"670223385","Gmina Skaryszew","ul. Juliusza Słowackiego 6, 26-640 Skaryszew","1425103","radomski","417","22.12.2025"]
["25","805.3.47.2025",8212393379,"711582575","Gmina Skórzec","ul. Siedlecka 3, 08-114 Skórzec","1426092","siedlecki","430","22.12.2025"]
["26","805.3.46.2025",7743210626,"611015968","Gmina Słubice","ul. Płocka 32, 09-533 Słubice","1419112","płocki","362","22.12.2025"]
["28","805.3.12.2025",5090066613,"670224002","Gmina Solec nad Wisłą","ul. Rynek 1, 27-320 Solec nad Wisłą","1409063","lipski","268","22.12.2025"]
["04","805.3.11.2025",8111714505,"670224031","Gmina Tczów","Tczów 124, 26-706 Tczów","1436042","zwoleński","502","22.12.2025"]
["24","805.3.26.2025",7582165888,"550667942","Gmina Troszyn","ul. Juliusza Słowackiego 13, 07-405 Troszyn","1415112","ostrołęcki","325","2025-12-22"]
["04","805.3.36.2025",7972016015,"670223400","Gmina Warka","Plac Stefana Czarnieckiego 1, 05-660 Warka","1406113","grójecki","250","22.12.2025"]
["10","805.3.42.2025",7972016015,"670223400","Gmina Warka","Plac Stefana Czarnieckiego 1, 05-660 Warka","1406113","grójecki","250","22.12.2025"]
["10","805.3.59.2025",7591630959,"550667899","Gmina Wąsewo","ul. Zastawska 13, 07-311 Wąsewo","1416102","ostrowski","335","22.12.2025"]
["26","805.3.2.2025",5361758264,"013270577","Gmina Wieliszew","ul. Krzysztofa Kamila Baczyńskiego 1, 05-135 Wieliszew","1408052","legionowski","262","22.12.2025"]
["03","805.3.10.2025",9482391296,"670224060","Gmina Wolanów","ul. Radomska 20, 26-625 Wolanów","1425122","radomski","419","22.12.2025"]
["17","805.3.38.2025",7981457693,"670223422","Gmina Wyśmierzyce","ul. Adama Mickiewicza 75, 26-811 Wyśmierzyce","1401063","białobrzeski","206","22.12.2025"]
["17","805.3.29.2025",5311664696,"013270399","Gmina Zakroczym","ul. Warszawska 7, 05-170 Zakroczym","1414063","nowodworski","313","2025-12-22"]
[38,"805.3.64.2025",7981458304,"670223304","Miasto i Gmina Białobrzegi","Plac Zygmunta Starego 9, 26-800 Białobrzegi","1401013","białobrzeski","201","22.12.2025"]
["03","805.3.18.2025",7981464078,"670223132","Powiat Białobrzeski","Plac Zygmunta Starego 9, 26-800 Białobrzegi","1401000","białobrzeski","101","2026-02-19"]
["04","805.3.76.2025",7981464078,"670223132","Powiat Białobrzeski","Plac Zygmunta Starego 9, 26-800 Białobrzegi","1401000","białobrzeski","101","2026-02-19"]
["04","805.3.77.2025",7981464078,"670223132","Powiat Białobrzeski","Plac Zygmunta Starego 9, 26-800 Białobrzegi","1401000","białobrzeski","101","2026-02-19"]
["10","805.3.78.2025",7981464078,"670223132","Powiat Białobrzeski","Plac Zygmunta Starego 9, 26-800 Białobrzegi","1401000","białobrzeski","101","2026-02-19"]
["11","805.3.75.2025",5661889579,"130377706","Powiat Ciechanowski","ul. 17 Stycznia 7, 06-400 Ciechanów","1402000","ciechanowski","102","2026-02-19"]
["11","805.3.23.2025",9710658050,"611016100","Powiat Gostyniński","ul. Romana Dmowskiego 13, 09-500 Gostynin","1404000","gostyniński","104","2026-02-19"]
["17","805.3.15.2025",7972052212,"670223149","Powiat Grójecki","ul. Józefa Piłsudskiego 59, 05-600 Grójec","1406000","grójecki","106","2026-02-19"]
["01","805.3.16.2025",7972052212,"670223149","Powiat Grójecki","ul. Józefa Piłsudskiego 59, 05-600 Grójec","1406000","grójecki","106","2026-02-19"]
["19","805.3.19.2025",7972052212,"670223149","Powiat Grójecki","ul. Józefa Piłsudskiego 59, 05-600 Grójec","1406000","grójecki","106","2026-02-19"]
["38","805.3.20.2025",7972052212,"670223149","Powiat Grójecki","ul. Józefa Piłsudskiego 59, 05-600 Grójec","1406000","grójecki","106","2026-02-19"]
["29","805.3.21.2025",7972052212,"670223149","Powiat Grójecki","ul. Józefa Piłsudskiego 59, 05-600 Grójec","1406000","grójecki","106","2026-02-19"]
["38","805.3.27.2025",7972052212,"670223149","Powiat Grójecki","ul. Józefa Piłsudskiego 59, 05-600 Grójec","1406000","grójecki","106","2026-02-19"]
["03","805.3.65.2025",5361597016,"013269858","Powiat Legionowski","ul. gen. Władysława Sikorskiego 11, 05-119 Legionowo","1408000","legionowski","108","2026-02-19"]
["10","805.3.66.2025",5090054952,"670223161","Powiat Lipski","ul. Rynek 1, 27-300 Lipsko","1409000","lipski","109","2026-02-19"]
["15","805.3.67.2025",5090054952,"670223161","Powiat Lipski","ul. Rynek 1, 27-300 Lipsko","1409000","lipski","109","2026-02-19"]
["25","805.4.27.2025",4960249456,"030237351","Powiat Łosicki","ul. Narutowicza 6, 08-200 Łosice","1410000","łosicki","110","2026-02-19"]
["35","805.4.1.2025",7571452124,"550668841","Powiat Makowski","ul. Rynek 1, 06-200 Maków Mazowiecki","1411000","makowski","111","2026-02-19"]
["19","805.4.2.2025",7571452124,"550668841","Powiat Makowski","ul. Rynek 1, 06-200 Maków Mazowiecki","1411000","makowski","111","2026-02-19"]
["05","805.4.20.2025",5311688975,"013270034","Powiat Nowodworski","ul. Ignacego Paderewskiego 1B, 05-100 Nowy Dwór Mazowiecki","1414000","nowodworski","114","2026-02-19"]
["05","805.3.4.2025",7582359776,"550668835","Powiat Ostrołęcki","Plac Generała Józefa Bema 5, 07-410 Ostrołęka","1415000","Ostrołęka","115","2026-02-19"]
["05","805.3.6.2025",7582359776,"550668835","Powiat Ostrołęcki","Plac Generała Józefa Bema 5, 07-410 Ostrołęka","1415000","Ostrołęka","115","2026-02-19"]
["26","805.3.68.2025",1231268996,"013270979","Powiat Piaseczyński","ul. Chyliczkowska 14, 05-500 Piaseczno","1418000","piaseczyński","119","2026-02-19"]
["26","805.3.34.2025",7743227414,"611016034","Powiat Płocki","ul. Bielska 59, 09-400 Płock","1419000","Płock","120","2026-02-19"]
["19","805.3.5.2025",7611527332,"550668812","Powiat Przasnyski","ul. św. Stanisława Kostki 5, 06-300 Przasnysz","1422000","przasnyski","124","2026-02-19"]
["26","805.3.71.2025",6010078283,"670223190","Powiat Przysuski","ul. Aleja Jana Pawła II 10, 26-400 Przysucha","1423000","przysuski","125","2026-02-19"]
["17","805.3.73.2025",5681618062,"130377729","Powiat Pułtuski","ul. Marii Skłodowskiej-Curie 11, 06-100 Pułtusk","1424000","pułtuski","126","2026-02-19"]
[null,"805.3.74.2025",5681618062,"130377729","Powiat Pułtuski","ul. Marii Skłodowskiej-Curie 11, 06-100 Pułtusk","1424000","pułtuski","126","2026-02-19"]
[null,"805.3.14.2025",7761676252,"611016169","Powiat Sierpecki","ul. Świętokrzyska 2A, 09-200 Sierpc","1427000","sierpecki","131","2026-02-19"]
[null,"805.4.15.2025",8231627536,"711581771","Powiat Sokołowski","ul. Wolności 23, 08-300 Sokołów Podlaski","1429000","sokołowski","133","2026-02-19"]
[null,"805.3.72.2025",7991963340,"670223215","Powiat Szydłowiecki","pl. Marii Konopnickiej 7, 26-500 Szydłowiec","1430000","szydłowiecki","134","2026-02-19"]
[null,"805.3.39.2025",8241765263,"711581831","Powiat Węgrowski","ul. Przemysłowa 5, 07-100 Węgrów","1433000","węgrowski",137,"2026-02-19"]
[null,"805.3.69.2025",1250940609,"013269344","Powiat Wołomiński","ul. Prądzyńskiego 3, 05-200 Wołomin","1434000","wołomiński","138","2026-02-19"]
[null,"805.3.33.2025",7621886920,"550668829","Powiat Wyszkowski","Aleja Róż 2, 07-200 Wyszków","1435000","wyszkowski","139","2026-02-19"]
[null,"805.3.70.2025",8111766100,"670223221","Powiat Zwoleński","ul. Władysława Jagiełły 4, 26-700 Zwoleń","1436000","zwoleński","140","2026-02-19"]
[null,"805.3.56.2025",8222393748,"522184154","Powiatowo-gminny związek transportu publicznego Powiatu Mińskiego","ul. Budowlana 4; 05-300 Mińsk Mazowiecki","1412","miński","94476","2026-02-19"]
[null,"805.3.63.2025",8222393748,"522184154","Powiatowo-gminny związek transportu publicznego Powiatu Mińskiego","ul. Budowlana 4; 05-300 Mińsk Mazowiecki","1412","miński","94476","2026-02-19"]
[null,"805.4.11.2025",8262221226,"526980652","Związek Powiatowo - Gminny  \"Garwolińskie Przewozy Gminno - Powiatowe\"","ul. Mazowiecka 26, 08-400 Garwolin","1403","garwoliński","94475","2026-02-19"]
[null,"805.3.48.2025",5291836443,"389450569","Związek Powiatowo-Gminny \"Grodziskie Przewozy Autobusowe\"","ul. Kościuszki 32a, 05-825 Grodzisk Mazowiecki","1405","grodziski","25938","2026-02-19"]
[null,"805.3.49.2025",5291836443,"389450569","Związek Powiatowo-Gminny \"Grodziskie Przewozy Autobusowe\"","ul. Kościuszki 32a, 05-825 Grodzisk Mazowiecki","1405","grodziski","25938","2026-02-19"]
[null,"805.3.50.2025",5291836443,"389450569","Związek Powiatowo-Gminny \"Grodziskie Przewozy Autobusowe\"","ul. Kościuszki 32a, 05-825 Grodzisk Mazowiecki","1405","grodziski","25938","2026-02-19"]
[null,"805.4.39.2025",5291836443,"389450569","Związek Powiatowo-Gminny \"Grodziskie Przewozy Autobusowe\"","ul. Kościuszki 32a, 05-825 Grodzisk Mazowiecki","1405","grodziski","25938","2026-02-19"]
[null,"805.4.48.2025",5322102832,"524171813","Związek Powiatowo-Gminny \"Nadwiślańska Komunikacja Autobusowa\"","ul. Komunardów 10, 05-402 Otwock","1417","otwocki","93665","2026-02-19"]
["TAK"]
["NIE"]

{"sheet":"Dane zbiorcze","index":5,"n_rows":2,"n_cols":43,"rows_kept":2,"cut":false,"hidden":true,"merged":[]}
["Nazwa organizatora publicznego transportu zbiorowego","NIP","REGON","Adres","Powiat","Województwo","Imię","Nazwisko","Telefon ","Adres e-mail","Okres",{"$f":"'Rozliczenie kwartalne'!B25","v":"Rodzaj wniosku (w przypadku korekty w polu \"uwagi\" opisać zakres korygowanych wartości)"},"Numer umowy o dopłatę ","Data zawarcia umowy","Liczba przewiezionych osób 1 mies","Wielkość pracy eksploatacyjnej 1 mies","Deficyt 1 mies","Kwota śr własnych 1 mies","Należna kwota dopłaty 1 mies","Pobrana dopłata 1 mies","Niewykorzystana kwota dopłaty z poprzedniego okresu rozliczeniowego 1 mies","Faktycznie wypłacona dopłata 1 mies","Kwota niewykorzystanych środków 1 mies","Liczba przewiezionych osób 2 mies","Wielkość pracy eksploatacyjnej 2 mies","Deficyt 2 mies","Kwota śr własnych 2 mies","Należna kwota dopłaty 2 mies","Pobrana dopłata 2 mies","Niewykorzystana kwota dopłaty z poprzedniego okresu rozliczeniowego 2 mies","Faktycznie wypłacona dopłata 2 mies","Kwota niewykorzystanych środków 2 mies","Liczba przewiezionych osób 3 mies","Wielkość pracy eksploatacyjnej 3 mies","Deficyt 3 mies","Kwota śr własnych 3 mies","Należna kwota dopłaty 3 mies","Pobrana dopłata 3 mies","Niewykorzystana kwota dopłaty z poprzedniego okresu rozliczeniowego 3 mies","Faktycznie wypłacona dopłata 3 mies","Kwota niewykorzystanych środków 3 mies","Data","wersja"]
[{"$f":"'Rozliczenie kwartalne'!C6","v":""},{"$f":"'Rozliczenie kwartalne'!C7","v":""},{"$f":"'Rozliczenie kwartalne'!C8","v":""},{"$f":"'Rozliczenie kwartalne'!C9","v":""},{"$f":"'Rozliczenie kwartalne'!C10","v":""},{"$f":"'Rozliczenie kwartalne'!C11","v":"mazowieckie"},{"$f":"'Rozliczenie kwartalne'!C14","v":0},{"$f":"'Rozliczenie kwartalne'!C15","v":0},{"$f":"'Rozliczenie kwartalne'!C16","v":0},{"$f":"'Rozliczenie kwartalne'!C17","v":0},{"$f":"'Rozliczenie kwartalne'!F21","v":""},{"$f":"'Rozliczenie kwartalne'!H25","v":0},{"$f":"'Rozliczenie kwartalne'!H26","v":0},{"$f":"'Rozliczenie kwartalne'!H27","v":""},{"$f":"'Rozliczenie kwartalne'!C151","v":0},{"$f":"'Rozliczenie kwartalne'!D151","v":0},{"$f":"'Rozliczenie kwartalne'!E151","v":0},{"$f":"'Rozliczenie kwartalne'!F151","v":0},{"$f":"'Rozliczenie kwartalne'!J151","v":0},{"$f":"'Rozliczenie kwartalne'!K151","v":0},{"$f":"'Rozliczenie kwartalne'!L151","v":0},{"$f":"'Rozliczenie kwartalne'!M151","v":0},{"$f":"'Rozliczenie kwartalne'!N151","v":0},{"$f":"'Rozliczenie kwartalne'!C272","v":0},{"$f":"'Rozliczenie kwartalne'!D272","v":0},{"$f":"'Rozliczenie kwartalne'!E272","v":0},{"$f":"'Rozliczenie kwartalne'!F272","v":0},{"$f":"'Rozliczenie kwartalne'!J272","v":0},{"$f":"'Rozliczenie kwartalne'!K272","v":0},{"$f":"'Rozliczenie kwartalne'!L272","v":0},{"$f":"'Rozliczenie kwartalne'!M272","v":0},{"$f":"'Rozliczenie kwartalne'!N272","v":0},{"$f":"'Rozliczenie kwartalne'!C393","v":0},{"$f":"'Rozliczenie kwartalne'!D393","v":0},{"$f":"'Rozliczenie kwartalne'!E393","v":0},{"$f":"'Rozliczenie kwartalne'!F393","v":0},{"$f":"'Rozliczenie kwartalne'!J393","v":0},{"$f":"'Rozliczenie kwartalne'!K393","v":0},{"$f":"'Rozliczenie kwartalne'!L393","v":0},{"$f":"'Rozliczenie kwartalne'!M393","v":0},{"$f":"'Rozliczenie kwartalne'!N393","v":0},{"$f":"'Rozliczenie kwartalne'!N1","v":""},{"$f":"'Rozliczenie kwartalne'!N532","v":"ver. 3.2"}]

{"sheet":"Weryfikacja 1","index":6,"n_rows":120,"n_cols":33,"rows_kept":120,"cut":false,"hidden":true,"merged":[[0,1,0,13]]}
[null,"Dane z wniosku",null,null,null,null,null,null,null,null,null,null,null,null,"ok","Wer.",null,null,null,null,null,null,null,null,null,null,null,null,null,null,null,null,"Zgodność danych z załącznikiem nr 1"]
["l.p","NAZWA LINII","WOZOKILOMETRY","DEFICYT","CENA USŁUGI","WKŁAD WŁASNY/KM [ZŁ]","WKŁAD WŁASNY [%]","WKŁAD WŁASNY [ZŁ]","NALEŻNA KWOTA DOPŁATY","POBRANA KWOTA DOPŁATY","Niewykorzystana kwota dopłaty z poprzedniego okresu rozliczeniowego 1 mies","Wypłacona kwota dopłaty","NIEWYKORZYSTANA KWOTA DOPŁATY","STAWKA MAX Z UMOWY","X",{"$f":"A2","v":"l.p"},"Cena usługi","Wkład własny/km [zł]","Wkład własny [%]","Wkład własny [zł]","Def z ceny usł","Kwota dopłaty","Max kwota dopł na podst wk. wł.","Max kwota dopł na podst wk wł/wzkm ","Kwota dopłaty/wozokm","10% z deficytu ","10 % z ceny usługi","warunek 10%","max 1 (3) zł/wzkm","Różnica w finansowaniu","Różnica def z zaokrągleń",null,{"$f":"IF(Miesiące!P11='Rozliczenie kwartalne'!V81,'Weryfikacja 1'!$O$1,'Weryfikacja 1'!$O$2)","v":"ok"}]
[{"$f":"'Rozliczenie kwartalne'!A36","v":"1"},{"$f":"'Rozliczenie kwartalne'!B36","v":""},{"$f":"'Załącznik nr 2 do rozliczenia'!H29","v":0},{"$f":"IF('Załącznik nr 1 do rozliczenia'!H32<0,ABS('Załącznik nr 1 do rozliczenia'!H32),0)","v":0},{"$f":"'Rozliczenie kwartalne'!G36","v":0},{"$f":"'Rozliczenie kwartalne'!H36","v":0},{"$f":"'Rozliczenie kwartalne'!I36","v":0},{"$f":"'Rozliczenie kwartalne'!F36","v":0},{"$f":"'Rozliczenie kwartalne'!J36","v":0},{"$f":"'Rozliczenie kwartalne'!K36","v":0},{"$f":"'Rozliczenie kwartalne'!L36","v":0},{"$f":"'Rozliczenie kwartalne'!M36","v":0},{"$f":"'Rozliczenie kwartalne'!N36","v":0},3,null,{"$f":"A3","v":"1"},{"$f":"IFERROR(D3/C3,0)","v":0},{"$f":"F3","v":0},{"$f":"IFERROR(R3/Q3,0)","v":0},{"$f":"R3*C3","v":0},{"$f":"E3*C3","v":0},{"$f":"IFERROR(ROUND(X3*C3,2),0)","v":0},{"$f":"ROUND(X3*C3,2)","v":0},{"$f":"IFERROR(IF((D3-H3)/C3>=$N$3,$N$3,(D3-H3)/C3),0)","v":0},{"$f":"IFERROR(ROUND(I3/C3,2),0)","v":0},{"$f":"ROUND(D3*0.1,2)","v":0},{"$f":"Q3*0.1","v":0},{"$f":"IF(R3>=AA3,$O$1,$O$2)","v":"ok"},{"$f":"IF(Y3<=$N$3,$O$1,$O$2)","v":"ok"},{"$f":"(V3+T3)-D3","v":0},{"$f":"D3-U3","v":0}]
[{"$f":"'Rozliczenie kwartalne'!A37","v":"2"},{"$f":"'Rozliczenie kwartalne'!B37","v":""},{"$f":"'Załącznik nr 2 do rozliczenia'!H30","v":0},{"$f":"IF('Załącznik nr 1 do rozliczenia'!H33<0,ABS('Załącznik nr 1 do rozliczenia'!H33),0)","v":0},{"$f":"'Rozliczenie kwartalne'!G37","v":0},{"$f":"'Rozliczenie kwartalne'!H37","v":0},{"$f":"'Rozliczenie kwartalne'!I37","v":0},{"$f":"'Rozliczenie kwartalne'!F37","v":0},{"$f":"'Rozliczenie kwartalne'!J37","v":0},{"$f":"'Rozliczenie kwartalne'!K37","v":0},{"$f":"'Rozliczenie kwartalne'!L37","v":0},{"$f":"'Rozliczenie kwartalne'!M37","v":0},{"$f":"'Rozliczenie kwartalne'!N37","v":0},null,null,{"$f":"A4","v":"2"},{"$f":"IFERROR(D4/C4,0)","v":0},{"$f":"F4","v":0},{"$f":"IFERROR(R4/Q4,0)","v":0},{"$f":"R4*C4","v":0},{"$f":"E4*C4","v":0},{"$f":"IFERROR(ROUND(X4*C4,2),0)","v":0},{"$f":"ROUND(X4*C4,2)","v":0},{"$f":"IFERROR(IF((D4-H4)/C4>=$N$3,$N$3,(D4-H4)/C4),0)","v":0},{"$f":"IFERROR(ROUND(I4/C4,2),0)","v":0},{"$f":"ROUND(D4*0.1,2)","v":0},{"$f":"Q4*0.1","v":0},{"$f":"IF(R4>=AA4,$O$1,$O$2)","v":"ok"},{"$f":"IF(Y4<=$N$3,$O$1,$O$2)","v":"ok"},{"$f":"(V4+T4)-D4","v":0},{"$f":"D4-U4","v":0}]
[{"$f":"'Rozliczenie kwartalne'!A38","v":"3"},{"$f":"'Rozliczenie kwartalne'!B38","v":""},{"$f":"'Załącznik nr 2 do rozliczenia'!H31","v":0},{"$f":"IF('Załącznik nr 1 do rozliczenia'!H34<0,ABS('Załącznik nr 1 do rozliczenia'!H34),0)","v":0},{"$f":"'Rozliczenie kwartalne'!G38","v":0},{"$f":"'Rozliczenie kwartalne'!H38","v":0},{"$f":"'Rozliczenie kwartalne'!I38","v":0},{"$f":"'Rozliczenie kwartalne'!F38","v":0},{"$f":"'Rozliczenie kwartalne'!J38","v":0},{"$f":"'Rozliczenie kwartalne'!K38","v":0},{"$f":"'Rozliczenie kwartalne'!L38","v":0},{"$f":"'Rozliczenie kwartalne'!M38","v":0},{"$f":"'Rozliczenie kwartalne'!N38","v":0},null,null,"3",0,0,0,0,0,0,0,0,0,0,0,"ok","ok",0,0]
[{"$f":"'Rozliczenie kwartalne'!A39","v":"4"},{"$f":"'Rozliczenie kwartalne'!B39","v":""},{"$f":"'Załącznik nr 2 do rozliczenia'!H32","v":0},{"$f":"IF('Załącznik nr 1 do rozliczenia'!H35<0,ABS('Załącznik nr 1 do rozliczenia'!H35),0)","v":0},{"$f":"'Rozliczenie kwartalne'!G39","v":0},{"$f":"'Rozliczenie kwartalne'!H39","v":0},{"$f":"'Rozliczenie kwartalne'!I39","v":0},{"$f":"'Rozliczenie kwartalne'!F39","v":0},{"$f":"'Rozliczenie kwartalne'!J39","v":0},{"$f":"'Rozliczenie kwartalne'!K39","v":0},{"$f":"'Rozliczenie kwartalne'!L39","v":0},{"$f":"'Rozliczenie kwartalne'!M39","v":0},{"$f":"'Rozliczenie kwartalne'!N39","v":0},null,null,"4",0,0,0,0,0,0,0,0,0,0,0,"ok","ok",0,0]
[{"$f":"'Rozliczenie kwartalne'!A40","v":"5"},{"$f":"'Rozliczenie kwartalne'!B40","v":""},{"$f":"'Załącznik nr 2 do rozliczenia'!H33","v":0},{"$f":"IF('Załącznik nr 1 do rozliczenia'!H36<0,ABS('Załącznik nr 1 do rozliczenia'!H36),0)","v":0},{"$f":"'Rozliczenie kwartalne'!G40","v":0},{"$f":"'Rozliczenie kwartalne'!H40","v":0},{"$f":"'Rozliczenie kwartalne'!I40","v":0},{"$f":"'Rozliczenie kwartalne'!F40","v":0},{"$f":"'Rozliczenie kwartalne'!J40","v":0},{"$f":"'Rozliczenie kwartalne'!K40","v":0},{"$f":"'Rozliczenie kwartalne'!L40","v":0},{"$f":"'Rozliczenie kwartalne'!M40","v":0},{"$f":"'Rozliczenie kwartalne'!N40","v":0},null,null,"5",0,0,0,0,0,0,0,0,0,0,0,"ok","ok",0,0]
[{"$f":"'Rozliczenie kwartalne'!A41","v":"6"},{"$f":"'Rozliczenie kwartalne'!B41","v":""},{"$f":"'Załącznik nr 2 do rozliczenia'!H34","v":0},{"$f":"IF('Załącznik nr 1 do rozliczenia'!H37<0,ABS('Załącznik nr 1 do rozliczenia'!H37),0)","v":0},{"$f":"'Rozliczenie kwartalne'!G41","v":0},{"$f":"'Rozliczenie kwartalne'!H41","v":0},{"$f":"'Rozliczenie kwartalne'!I41","v":0},{"$f":"'Rozliczenie kwartalne'!F41","v":0},{"$f":"'Rozliczenie kwartalne'!J41","v":0},{"$f":"'Rozliczenie kwartalne'!K41","v":0},{"$f":"'Rozliczenie kwartalne'!L41","v":0},{"$f":"'Rozliczenie kwartalne'!M41","v":0},{"$f":"'Rozliczenie kwartalne'!N41","v":0},null,null,"6",0,0,0,0,0,0,0,0,0,0,0,"ok","ok",0,0]
[{"$f":"'Rozliczenie kwartalne'!A42","v":"7"},{"$f":"'Rozliczenie kwartalne'!B42","v":""},{"$f":"'Załącznik nr 2 do rozliczenia'!H35","v":0},{"$f":"IF('Załącznik nr 1 do rozliczenia'!H38<0,ABS('Załącznik nr 1 do rozliczenia'!H38),0)","v":0},{"$f":"'Rozliczenie kwartalne'!G42","v":0},{"$f":"'Rozliczenie kwartalne'!H42","v":0},{"$f":"'Rozliczenie kwartalne'!I42","v":0},{"$f":"'Rozliczenie kwartalne'!F42","v":0},{"$f":"'Rozliczenie kwartalne'!J42","v":0},{"$f":"'Rozliczenie kwartalne'!K42","v":0},{"$f":"'Rozliczenie kwartalne'!L42","v":0},{"$f":"'Rozliczenie kwartalne'!M42","v":0},{"$f":"'Rozliczenie kwartalne'!N42","v":0},null,null,"7",0,0,0,0,0,0,0,0,0,0,0,"ok","ok",0,0]
[{"$f":"'Rozliczenie kwartalne'!A43","v":"8"},{"$f":"'Rozliczenie kwartalne'!B43","v":""},{"$f":"'Załącznik nr 2 do rozliczenia'!H36","v":0},{"$f":"IF('Załącznik nr 1 do rozliczenia'!H39<0,ABS('Załącznik nr 1 do rozliczenia'!H39),0)","v":0},{"$f":"'Rozliczenie kwartalne'!G43","v":0},{"$f":"'Rozliczenie kwartalne'!H43","v":0},{"$f":"'Rozliczenie kwartalne'!I43","v":0},{"$f":"'Rozliczenie kwartalne'!F43","v":0},{"$f":"'Rozliczenie kwartalne'!J43","v":0},{"$f":"'Rozliczenie kwartalne'!K43","v":0},{"$f":"'Rozliczenie kwartalne'!L43","v":0},{"$f":"'Rozliczenie kwartalne'!M43","v":0},{"$f":"'Rozliczenie kwartalne'!N43","v":0},null,null,"8",0,0,0,0,0,0,0,0,0,0,0,"ok","ok",0,0]
[{"$f":"'Rozliczenie kwartalne'!A44","v":"9"},{"$f":"'Rozliczenie kwartalne'!B44","v":""},{"$f":"'Załącznik nr 2 do rozliczenia'!H37","v":0},{"$f":"IF('Załącznik nr 1 do rozliczenia'!H40<0,ABS('Załącznik nr 1 do rozliczenia'!H40),0)","v":0},{"$f":"'Rozliczenie kwartalne'!G44","v":0},{"$f":"'Rozliczenie kwartalne'!H44","v":0},{"$f":"'Rozliczenie kwartalne'!I44","v":0},{"$f":"'Rozliczenie kwartalne'!F44","v":0},{"$f":"'Rozliczenie kwartalne'!J44","v":0},{"$f":"'Rozliczenie kwartalne'!K44","v":0},{"$f":"'Rozliczenie kwartalne'!L44","v":0},{"$f":"'Rozliczenie kwartalne'!M44","v":0},{"$f":"'Rozliczenie kwartalne'!N44","v":0},null,null,"9",0,0,0,0,0,0,0,0,0,0,0,"ok","ok",0,0]
[{"$f":"'Rozliczenie kwartalne'!A45","v":"10"},{"$f":"'Rozliczenie kwartalne'!B45","v":""},{"$f":"'Załącznik nr 2 do rozliczenia'!H38","v":0},{"$f":"IF('Załącznik nr 1 do rozliczenia'!H41<0,ABS('Załącznik nr 1 do rozliczenia'!H41),0)","v":0},{"$f":"'Rozliczenie kwartalne'!G45","v":0},{"$f":"'Rozliczenie kwartalne'!H45","v":0},{"$f":"'Rozliczenie kwartalne'!I45","v":0},{"$f":"'Rozliczenie kwartalne'!F45","v":0},{"$f":"'Rozliczenie kwartalne'!J45","v":0},{"$f":"'Rozliczenie kwartalne'!K45","v":0},{"$f":"'Rozliczenie kwartalne'!L45","v":0},{"$f":"'Rozliczenie kwartalne'!M45","v":0},{"$f":"'Rozliczenie kwartalne'!N45","v":0},null,null,"10",0,0,0,0,0,0,0,0,0,0,0,"ok","ok",0,0]
[{"$f":"'Rozliczenie kwartalne'!A46","v":"11"},{"$f":"'Rozliczenie kwartalne'!B46","v":""},{"$f":"'Załącznik nr 2 do rozliczenia'!H39","v":0},{"$f":"IF('Załącznik nr 1 do rozliczenia'!H42<0,ABS('Załącznik nr 1 do rozliczenia'!H42),0)","v":0},{"$f":"'Rozliczenie kwartalne'!G46","v":0},{"$f":"'Rozliczenie kwartalne'!H46","v":0},{"$f":"'Rozliczenie kwartalne'!I46","v":0},{"$f":"'Rozliczenie kwartalne'!F46","v":0},{"$f":"'Rozliczenie kwartalne'!J46","v":0},{"$f":"'Rozliczenie kwartalne'!K46","v":0},{"$f":"'Rozliczenie kwartalne'!L46","v":0},{"$f":"'Rozliczenie kwartalne'!M46","v":0},{"$f":"'Rozliczenie kwartalne'!N46","v":0},null,null,"11",0,0,0,0,0,0,0,0,0,0,0,"ok","ok",0,0]
[{"$f":"'Rozliczenie kwartalne'!A47","v":"12"},{"$f":"'Rozliczenie kwartalne'!B47","v":""},{"$f":"'Załącznik nr 2 do rozliczenia'!H40","v":0},{"$f":"IF('Załącznik nr 1 do rozliczenia'!H43<0,ABS('Załącznik nr 1 do rozliczenia'!H43),0)","v":0},{"$f":"'Rozliczenie kwartalne'!G47","v":0},{"$f":"'Rozliczenie kwartalne'!H47","v":0},{"$f":"'Rozliczenie kwartalne'!I47","v":0},{"$f":"'Rozliczenie kwartalne'!F47","v":0},{"$f":"'Rozliczenie kwartalne'!J47","v":0},{"$f":"'Rozliczenie kwartalne'!K47","v":0},{"$f":"'Rozliczenie kwartalne'!L47","v":0},{"$f":"'Rozliczenie kwartalne'!M47","v":0},{"$f":"'Rozliczenie kwartalne'!N47","v":0},null,null,"12",0,0,0,0,0,0,0,0,0,0,0,"ok","ok",0,0]
[{"$f":"'Rozliczenie kwartalne'!A48","v":"13"},{"$f":"'Rozliczenie kwartalne'!B48","v":""},{"$f":"'Załącznik nr 2 do rozliczenia'!H41","v":0},{"$f":"IF('Załącznik nr 1 do rozliczenia'!H44<0,ABS('Załącznik nr 1 do rozliczenia'!H44),0)","v":0},{"$f":"'Rozliczenie kwartalne'!G48","v":0},{"$f":"'Rozliczenie kwartalne'!H48","v":0},{"$f":"'Rozliczenie kwartalne'!I48","v":0},{"$f":"'Rozliczenie kwartalne'!F48","v":0},{"$f":"'Rozliczenie kwartalne'!J48","v":0},{"$f":"'Rozliczenie kwartalne'!K48","v":0},{"$f":"'Rozliczenie kwartalne'!L48","v":0},{"$f":"'Rozliczenie kwartalne'!M48","v":0},{"$f":"'Rozliczenie kwartalne'!N48","v":0},null,null,"13",0,0,0,0,0,0,0,0,0,0,0,"ok","ok",0,0]
[{"$f":"'Rozliczenie kwartalne'!A49","v":"14"},{"$f":"'Rozliczenie kwartalne'!B49","v":""},{"$f":"'Załącznik nr 2 do rozliczenia'!H42","v":0},{"$f":"IF('Załącznik nr 1 do rozliczenia'!H45<0,ABS('Załącznik nr 1 do rozliczenia'!H45),0)","v":0},{"$f":"'Rozliczenie kwartalne'!G49","v":0},{"$f":"'Rozliczenie kwartalne'!H49","v":0},{"$f":"'Rozliczenie kwartalne'!I49","v":0},{"$f":"'Rozliczenie kwartalne'!F49","v":0},{"$f":"'Rozliczenie kwartalne'!J49","v":0},{"$f":"'Rozliczenie kwartalne'!K49","v":0},{"$f":"'Rozliczenie kwartalne'!L49","v":0},{"$f":"'Rozliczenie kwartalne'!M49","v":0},{"$f":"'Rozliczenie kwartalne'!N49","v":0},null,null,"14",0,0,0,0,0,0,0,0,0,0,0,"ok","ok",0,0]
[{"$f":"'Rozliczenie kwartalne'!A50","v":"15"},{"$f":"'Rozliczenie kwartalne'!B50","v":""},{"$f":"'Załącznik nr 2 do rozliczenia'!H43","v":0},{"$f":"IF('Załącznik nr 1 do rozliczenia'!H46<0,ABS('Załącznik nr 1 do rozliczenia'!H46),0)","v":0},{"$f":"'Rozliczenie kwartalne'!G50","v":0},{"$f":"'Rozliczenie kwartalne'!H50","v":0},{"$f":"'Rozliczenie kwartalne'!I50","v":0},{"$f":"'Rozliczenie kwartalne'!F50","v":0},{"$f":"'Rozliczenie kwartalne'!J50","v":0},{"$f":"'Rozliczenie kwartalne'!K50","v":0},{"$f":"'Rozliczenie kwartalne'!L50","v":0},{"$f":"'Rozliczenie kwartalne'!M50","v":0},{"$f":"'Rozliczenie kwartalne'!N50","v":0},null,null,"15",0,0,0,0,0,0,0,0,0,0,0,"ok","ok",0,0]
[{"$f":"'Rozliczenie kwartalne'!A51","v":"16"},{"$f":"'Rozliczenie kwartalne'!B51","v":""},{"$f":"'Załącznik nr 2 do rozliczenia'!H44","v":0},{"$f":"IF('Załącznik nr 1 do rozliczenia'!H47<0,ABS('Załącznik nr 1 do rozliczenia'!H47),0)","v":0},{"$f":"'Rozliczenie kwartalne'!G51","v":0},{"$f":"'Rozliczenie kwartalne'!H51","v":0},{"$f":"'Rozliczenie kwartalne'!I51","v":0},{"$f":"'Rozliczenie kwartalne'!F51","v":0},{"$f":"'Rozliczenie kwartalne'!J51","v":0},{"$f":"'Rozliczenie kwartalne'!K51","v":0},{"$f":"'Rozliczenie kwartalne'!L51","v":0},{"$f":"'Rozliczenie kwartalne'!M51","v":0},{"$f":"'Rozliczenie kwartalne'!N51","v":0},null,null,"16",0,0,0,0,0,0,0,0,0,0,0,"ok","ok",0,0]
[{"$f":"'Rozliczenie kwartalne'!A52","v":"17"},{"$f":"'Rozliczenie kwartalne'!B52","v":""},{"$f":"'Załącznik nr 2 do rozliczenia'!H45","v":0},{"$f":"IF('Załącznik nr 1 do rozliczenia'!H48<0,ABS('Załącznik nr 1 do rozliczenia'!H48),0)","v":0},{"$f":"'Rozliczenie kwartalne'!G52","v":0},{"$f":"'Rozliczenie kwartalne'!H52","v":0},{"$f":"'Rozliczenie kwartalne'!I52","v":0},{"$f":"'Rozliczenie kwartalne'!F52","v":0},{"$f":"'Rozliczenie kwartalne'!J52","v":0},{"$f":"'Rozliczenie kwartalne'!K52","v":0},{"$f":"'Rozliczenie kwartalne'!L52","v":0},{"$f":"'Rozliczenie kwartalne'!M52","v":0},{"$f":"'Rozliczenie kwartalne'!N52","v":0},null,null,"17",0,0,0,0,0,0,0,0,0,0,0,"ok","ok",0,0]
[{"$f":"'Rozliczenie kwartalne'!A53","v":"18"},{"$f":"'Rozliczenie kwartalne'!B53","v":""},{"$f":"'Załącznik nr 2 do rozliczenia'!H46","v":0},{"$f":"IF('Załącznik nr 1 do rozliczenia'!H49<0,ABS('Załącznik nr 1 do rozliczenia'!H49),0)","v":0},{"$f":"'Rozliczenie kwartalne'!G53","v":0},{"$f":"'Rozliczenie kwartalne'!H53","v":0},{"$f":"'Rozliczenie kwartalne'!I53","v":0},{"$f":"'Rozliczenie kwartalne'!F53","v":0},{"$f":"'Rozliczenie kwartalne'!J53","v":0},{"$f":"'Rozliczenie kwartalne'!K53","v":0},{"$f":"'Rozliczenie kwartalne'!L53","v":0},{"$f":"'Rozliczenie kwartalne'!M53","v":0},{"$f":"'Rozliczenie kwartalne'!N53","v":0},null,null,"18",0,0,0,0,0,0,0,0,0,0,0,"ok","ok",0,0]
[{"$f":"'Rozliczenie kwartalne'!A54","v":"19"},{"$f":"'Rozliczenie kwartalne'!B54","v":""},{"$f":"'Załącznik nr 2 do rozliczenia'!H47","v":0},{"$f":"IF('Załącznik nr 1 do rozliczenia'!H50<0,ABS('Załącznik nr 1 do rozliczenia'!H50),0)","v":0},{"$f":"'Rozliczenie kwartalne'!G54","v":0},{"$f":"'Rozliczenie kwartalne'!H54","v":0},{"$f":"'Rozliczenie kwartalne'!I54","v":0},{"$f":"'Rozliczenie kwartalne'!F54","v":0},{"$f":"'Rozliczenie kwartalne'!J54","v":0},{"$f":"'Rozliczenie kwartalne'!K54","v":0},{"$f":"'Rozliczenie kwartalne'!L54","v":0},{"$f":"'Rozliczenie kwartalne'!M54","v":0},{"$f":"'Rozliczenie kwartalne'!N54","v":0},null,null,"19",0,0,0,0,0,0,0,0,0,0,0,"ok","ok",0,0]
[{"$f":"'Rozliczenie kwartalne'!A55","v":"20"},{"$f":"'Rozliczenie kwartalne'!B55","v":""},{"$f":"'Załącznik nr 2 do rozliczenia'!H48","v":0},{"$f":"IF('Załącznik nr 1 do rozliczenia'!H51<0,ABS('Załącznik nr 1 do rozliczenia'!H51),0)","v":0},{"$f":"'Rozliczenie kwartalne'!G55","v":0},{"$f":"'Rozliczenie kwartalne'!H55","v":0},{"$f":"'Rozliczenie kwartalne'!I55","v":0},{"$f":"'Rozliczenie kwartalne'!F55","v":0},{"$f":"'Rozliczenie kwartalne'!J55","v":0},{"$f":"'Rozliczenie kwartalne'!K55","v":0},{"$f":"'Rozliczenie kwartalne'!L55","v":0},{"$f":"'Rozliczenie kwartalne'!M55","v":0},{"$f":"'Rozliczenie kwartalne'!N55","v":0},null,null,"20",0,0,0,0,0,0,0,0,0,0,0,"ok","ok",0,0]
[{"$f":"'Rozliczenie kwartalne'!A56","v":"21"},{"$f":"'Rozliczenie kwartalne'!B56","v":""},{"$f":"'Załącznik nr 2 do rozliczenia'!H49","v":0},{"$f":"IF('Załącznik nr 1 do rozliczenia'!H52<0,ABS('Załącznik nr 1 do rozliczenia'!H52),0)","v":0},{"$f":"'Rozliczenie kwartalne'!G56","v":0},{"$f":"'Rozliczenie kwartalne'!H56","v":0},{"$f":"'Rozliczenie kwartalne'!I56","v":0},{"$f":"'Rozliczenie kwartalne'!F56","v":0},{"$f":"'Rozliczenie kwartalne'!J56","v":0},{"$f":"'Rozliczenie kwartalne'!K56","v":0},{"$f":"'Rozliczenie kwartalne'!L56","v":0},{"$f":"'Rozliczenie kwartalne'!M56","v":0},{"$f":"'Rozliczenie kwartalne'!N56","v":0},null,null,"21",0,0,0,0,0,0,0,0,0,0,0,"ok","ok",0,0]
[{"$f":"'Rozliczenie kwartalne'!A57","v":"22"},{"$f":"'Rozliczenie kwartalne'!B57","v":""},{"$f":"'Załącznik nr 2 do rozliczenia'!H50","v":0},{"$f":"IF('Załącznik nr 1 do rozliczenia'!H53<0,ABS('Załącznik nr 1 do rozliczenia'!H53),0)","v":0},{"$f":"'Rozliczenie kwartalne'!G57","v":0},{"$f":"'Rozliczenie kwartalne'!H57","v":0},{"$f":"'Rozliczenie kwartalne'!I57","v":0},{"$f":"'Rozliczenie kwartalne'!F57","v":0},{"$f":"'Rozliczenie kwartalne'!J57","v":0},{"$f":"'Rozliczenie kwartalne'!K57","v":0},{"$f":"'Rozliczenie kwartalne'!L57","v":0},{"$f":"'Rozliczenie kwartalne'!M57","v":0},{"$f":"'Rozliczenie kwartalne'!N57","v":0},null,null,"22",0,0,0,0,0,0,0,0,0,0,0,"ok","ok",0,0]
[{"$f":"'Rozliczenie kwartalne'!A58","v":"23"},{"$f":"'Rozliczenie kwartalne'!B58","v":""},{"$f":"'Załącznik nr 2 do rozliczenia'!H51","v":0},{"$f":"IF('Załącznik nr 1 do rozliczenia'!H54<0,ABS('Załącznik nr 1 do rozliczenia'!H54),0)","v":0},{"$f":"'Rozliczenie kwartalne'!G58","v":0},{"$f":"'Rozliczenie kwartalne'!H58","v":0},{"$f":"'Rozliczenie kwartalne'!I58","v":0},{"$f":"'Rozliczenie kwartalne'!F58","v":0},{"$f":"'Rozliczenie kwartalne'!J58","v":0},{"$f":"'Rozliczenie kwartalne'!K58","v":0},{"$f":"'Rozliczenie kwartalne'!L58","v":0},{"$f":"'Rozliczenie kwartalne'!M58","v":0},{"$f":"'Rozliczenie kwartalne'!N58","v":0},null,null,"23",0,0,0,0,0,0,0,0,0,0,0,"ok","ok",0,0]
[{"$f":"'Rozliczenie kwartalne'!A59","v":"24"},{"$f":"'Rozliczenie kwartalne'!B59","v":""},{"$f":"'Załącznik nr 2 do rozliczenia'!H52","v":0},{"$f":"IF('Załącznik nr 1 do rozliczenia'!H55<0,ABS('Załącznik nr 1 do rozliczenia'!H55),0)","v":0},{"$f":"'Rozliczenie kwartalne'!G59","v":0},{"$f":"'Rozliczenie kwartalne'!H59","v":0},{"$f":"'Rozliczenie kwartalne'!I59","v":0},{"$f":"'Rozliczenie kwartalne'!F59","v":0},{"$f":"'Rozliczenie kwartalne'!J59","v":0},{"$f":"'Rozliczenie kwartalne'!K59","v":0},{"$f":"'Rozliczenie kwartalne'!L59","v":0},{"$f":"'Rozliczenie kwartalne'!M59","v":0},{"$f":"'Rozliczenie kwartalne'!N59","v":0},null,null,"24",0,0,0,0,0,0,0,0,0,0,0,"ok","ok",0,0]
[{"$f":"'Rozliczenie kwartalne'!A60","v":"25"},{"$f":"'Rozliczenie kwartalne'!B60","v":""},{"$f":"'Załącznik nr 2 do rozliczenia'!H53","v":0},{"$f":"IF('Załącznik nr 1 do rozliczenia'!H56<0,ABS('Załącznik nr 1 do rozliczenia'!H56),0)","v":0},{"$f":"'Rozliczenie kwartalne'!G60","v":0},{"$f":"'Rozliczenie kwartalne'!H60","v":0},{"$f":"'Rozliczenie kwartalne'!I60","v":0},{"$f":"'Rozliczenie kwartalne'!F60","v":0},{"$f":"'Rozliczenie kwartalne'!J60","v":0},{"$f":"'Rozliczenie kwartalne'!K60","v":0},{"$f":"'Rozliczenie kwartalne'!L60","v":0},{"$f":"'Rozliczenie kwartalne'!M60","v":0},{"$f":"'Rozliczenie kwartalne'!N60","v":0},null,null,"25",0,0,0,0,0,0,0,0,0,0,0,"ok","ok",0,0]
[{"$f":"'Rozliczenie kwartalne'!A61","v":"26"},{"$f":"'Rozliczenie kwartalne'!B61","v":""},{"$f":"'Załącznik nr 2 do rozliczenia'!H54","v":0},{"$f":"IF('Załącznik nr 1 do rozliczenia'!H57<0,ABS('Załącznik nr 1 do rozliczenia'!H57),0)","v":0},{"$f":"'Rozliczenie kwartalne'!G61","v":0},{"$f":"'Rozliczenie kwartalne'!H61","v":0},{"$f":"'Rozliczenie kwartalne'!I61","v":0},{"$f":"'Rozliczenie kwartalne'!F61","v":0},{"$f":"'Rozliczenie kwartalne'!J61","v":0},{"$f":"'Rozliczenie kwartalne'!K61","v":0},{"$f":"'Rozliczenie kwartalne'!L61","v":0},{"$f":"'Rozliczenie kwartalne'!M61","v":0},{"$f":"'Rozliczenie kwartalne'!N61","v":0},null,null,"26",0,0,0,0,0,0,0,0,0,0,0,"ok","ok",0,0]
[{"$f":"'Rozliczenie kwartalne'!A62","v":"27"},{"$f":"'Rozliczenie kwartalne'!B62","v":""},{"$f":"'Załącznik nr 2 do rozliczenia'!H55","v":0},{"$f":"IF('Załącznik nr 1 do rozliczenia'!H58<0,ABS('Załącznik nr 1 do rozliczenia'!H58),0)","v":0},{"$f":"'Rozliczenie kwartalne'!G62","v":0},{"$f":"'Rozliczenie kwartalne'!H62","v":0},{"$f":"'Rozliczenie kwartalne'!I62","v":0},{"$f":"'Rozliczenie kwartalne'!F62","v":0},{"$f":"'Rozliczenie kwartalne'!J62","v":0},{"$f":"'Rozliczenie kwartalne'!K62","v":0},{"$f":"'Rozliczenie kwartalne'!L62","v":0},{"$f":"'Rozliczenie kwartalne'!M62","v":0},{"$f":"'Rozliczenie kwartalne'!N62","v":0},null,null,"27",0,0,0,0,0,0,0,0,0,0,0,"ok","ok",0,0]
[{"$f":"'Rozliczenie kwartalne'!A63","v":"28"},{"$f":"'Rozliczenie kwartalne'!B63","v":""},{"$f":"'Załącznik nr 2 do rozliczenia'!H56","v":0},{"$f":"IF('Załącznik nr 1 do rozliczenia'!H59<0,ABS('Załącznik nr 1 do rozliczenia'!H59),0)","v":0},{"$f":"'Rozliczenie kwartalne'!G63","v":0},{"$f":"'Rozliczenie kwartalne'!H63","v":0},{"$f":"'Rozliczenie kwartalne'!I63","v":0},{"$f":"'Rozliczenie kwartalne'!F63","v":0},{"$f":"'Rozliczenie kwartalne'!J63","v":0},{"$f":"'Rozliczenie kwartalne'!K63","v":0},{"$f":"'Rozliczenie kwartalne'!L63","v":0},{"$f":"'Rozliczenie kwartalne'!M63","v":0},{"$f":"'Rozliczenie kwartalne'!N63","v":0},null,null,"28",0,0,0,0,0,0,0,0,0,0,0,"ok","ok",0,0]
[{"$f":"'Rozliczenie kwartalne'!A64","v":"29"},{"$f":"'Rozliczenie kwartalne'!B64","v":""},{"$f":"'Załącznik nr 2 do rozliczenia'!H57","v":0},{"$f":"IF('Załącznik nr 1 do rozliczenia'!H60<0,ABS('Załącznik nr 1 do rozliczenia'!H60),0)","v":0},{"$f":"'Rozliczenie kwartalne'!G64","v":0},{"$f":"'Rozliczenie kwartalne'!H64","v":0},{"$f":"'Rozliczenie kwartalne'!I64","v":0},{"$f":"'Rozliczenie kwartalne'!F64","v":0},{"$f":"'Rozliczenie kwartalne'!J64","v":0},{"$f":"'Rozliczenie kwartalne'!K64","v":0},{"$f":"'Rozliczenie kwartalne'!L64","v":0},{"$f":"'Rozliczenie kwartalne'!M64","v":0},{"$f":"'Rozliczenie kwartalne'!N64","v":0},null,null,"29",0,0,0,0,0,0,0,0,0,0,0,"ok","ok",0,0]
[{"$f":"'Rozliczenie kwartalne'!A65","v":"30"},{"$f":"'Rozliczenie kwartalne'!B65","v":""},{"$f":"'Załącznik nr 2 do rozliczenia'!H58","v":0},{"$f":"IF('Załącznik nr 1 do rozliczenia'!H61<0,ABS('Załącznik nr 1 do rozliczenia'!H61),0)","v":0},{"$f":"'Rozliczenie kwartalne'!G65","v":0},{"$f":"'Rozliczenie kwartalne'!H65","v":0},{"$f":"'Rozliczenie kwartalne'!I65","v":0},{"$f":"'Rozliczenie kwartalne'!F65","v":0},{"$f":"'Rozliczenie kwartalne'!J65","v":0},{"$f":"'Rozliczenie kwartalne'!K65","v":0},{"$f":"'Rozliczenie kwartalne'!L65","v":0},{"$f":"'Rozliczenie kwartalne'!M65","v":0},{"$f":"'Rozliczenie kwartalne'!N65","v":0},null,null,"30",0,0,0,0,0,0,0,0,0,0,0,"ok","ok",0,0]
[{"$f":"'Rozliczenie kwartalne'!A66","v":"31"},{"$f":"'Rozliczenie kwartalne'!B66","v":""},{"$f":"'Załącznik nr 2 do rozliczenia'!H59","v":0},{"$f":"IF('Załącznik nr 1 do rozliczenia'!H62<0,ABS('Załącznik nr 1 do rozliczenia'!H62),0)","v":0},{"$f":"'Rozliczenie kwartalne'!G66","v":0},{"$f":"'Rozliczenie kwartalne'!H66","v":0},{"$f":"'Rozliczenie kwartalne'!I66","v":0},{"$f":"'Rozliczenie kwartalne'!F66","v":0},{"$f":"'Rozliczenie kwartalne'!J66","v":0},{"$f":"'Rozliczenie kwartalne'!K66","v":0},{"$f":"'Rozliczenie kwartalne'!L66","v":0},{"$f":"'Rozliczenie kwartalne'!M66","v":0},{"$f":"'Rozliczenie kwartalne'!N66","v":0},null,null,"31",0,0,0,0,0,0,0,0,0,0,0,"ok","ok",0,0]
[{"$f":"'Rozliczenie kwartalne'!A67","v":"32"},{"$f":"'Rozliczenie kwartalne'!B67","v":""},{"$f":"'Załącznik nr 2 do rozliczenia'!H60","v":0},{"$f":"IF('Załącznik nr 1 do rozliczenia'!H63<0,ABS('Załącznik nr 1 do rozliczenia'!H63),0)","v":0},{"$f":"'Rozliczenie kwartalne'!G67","v":0},{"$f":"'Rozliczenie kwartalne'!H67","v":0},{"$f":"'Rozliczenie kwartalne'!I67","v":0},{"$f":"'Rozliczenie kwartalne'!F67","v":0},{"$f":"'Rozliczenie kwartalne'!J67","v":0},{"$f":"'Rozliczenie kwartalne'!K67","v":0},{"$f":"'Rozliczenie kwartalne'!L67","v":0},{"$f":"'Rozliczenie kwartalne'!M67","v":0},{"$f":"'Rozliczenie kwartalne'!N67","v":0},null,null,"32",0,0,0,0,0,0,0,0,0,0,0,"ok","ok",0,0]
[{"$f":"'Rozliczenie kwartalne'!A68","v":"33"},{"$f":"'Rozliczenie kwartalne'!B68","v":""},{"$f":"'Załącznik nr 2 do rozliczenia'!H61","v":0},{"$f":"IF('Załącznik nr 1 do rozliczenia'!H64<0,ABS('Załącznik nr 1 do rozliczenia'!H64),0)","v":0},{"$f":"'Rozliczenie kwartalne'!G68","v":0},{"$f":"'Rozliczenie kwartalne'!H68","v":0},{"$f":"'Rozliczenie kwartalne'!I68","v":0},{"$f":"'Rozliczenie kwartalne'!F68","v":0},{"$f":"'Rozliczenie kwartalne'!J68","v":0},{"$f":"'Rozliczenie kwartalne'!K68","v":0},{"$f":"'Rozliczenie kwartalne'!L68","v":0},{"$f":"'Rozliczenie kwartalne'!M68","v":0},{"$f":"'Rozliczenie kwartalne'!N68","v":0},null,null,"33",0,0,0,0,0,0,0,0,0,0,0,"ok","ok",0,0]
[{"$f":"'Rozliczenie kwartalne'!A69","v":"34"},{"$f":"'Rozliczenie kwartalne'!B69","v":""},{"$f":"'Załącznik nr 2 do rozliczenia'!H62","v":0},{"$f":"IF('Załącznik nr 1 do rozliczenia'!H65<0,ABS('Załącznik nr 1 do rozliczenia'!H65),0)","v":0},{"$f":"'Rozliczenie kwartalne'!G69","v":0},{"$f":"'Rozliczenie kwartalne'!H69","v":0},{"$f":"'Rozliczenie kwartalne'!I69","v":0},{"$f":"'Rozliczenie kwartalne'!F69","v":0},{"$f":"'Rozliczenie kwartalne'!J69","v":0},{"$f":"'Rozliczenie kwartalne'!K69","v":0},{"$f":"'Rozliczenie kwartalne'!L69","v":0},{"$f":"'Rozliczenie kwartalne'!M69","v":0},{"$f":"'Rozliczenie kwartalne'!N69","v":0},null,null,"34",0,0,0,0,0,0,0,0,0,0,0,"ok","ok",0,0]
[{"$f":"'Rozliczenie kwartalne'!A70","v":"35"},{"$f":"'Rozliczenie kwartalne'!B70","v":""},{"$f":"'Załącznik nr 2 do rozliczenia'!H63","v":0},{"$f":"IF('Załącznik nr 1 do rozliczenia'!H66<0,ABS('Załącznik nr 1 do rozliczenia'!H66),0)","v":0},{"$f":"'Rozliczenie kwartalne'!G70","v":0},{"$f":"'Rozliczenie kwartalne'!H70","v":0},{"$f":"'Rozliczenie kwartalne'!I70","v":0},{"$f":"'Rozliczenie kwartalne'!F70","v":0},{"$f":"'Rozliczenie kwartalne'!J70","v":0},{"$f":"'Rozliczenie kwartalne'!K70","v":0},{"$f":"'Rozliczenie kwartalne'!L70","v":0},{"$f":"'Rozliczenie kwartalne'!M70","v":0},{"$f":"'Rozliczenie kwartalne'!N70","v":0},null,null,"35",0,0,0,0,0,0,0,0,0,0,0,"ok","ok",0,0]
[{"$f":"'Rozliczenie kwartalne'!A71","v":"36"},{"$f":"'Rozliczenie kwartalne'!B71","v":""},{"$f":"'Załącznik nr 2 do rozliczenia'!H64","v":0},{"$f":"IF('Załącznik nr 1 do rozliczenia'!H67<0,ABS('Załącznik nr 1 do rozliczenia'!H67),0)","v":0},{"$f":"'Rozliczenie kwartalne'!G71","v":0},{"$f":"'Rozliczenie kwartalne'!H71","v":0},{"$f":"'Rozliczenie kwartalne'!I71","v":0},{"$f":"'Rozliczenie kwartalne'!F71","v":0},{"$f":"'Rozliczenie kwartalne'!J71","v":0},{"$f":"'Rozliczenie kwartalne'!K71","v":0},{"$f":"'Rozliczenie kwartalne'!L71","v":0},{"$f":"'Rozliczenie kwartalne'!M71","v":0},{"$f":"'Rozliczenie kwartalne'!N71","v":0},null,null,"36",0,0,0,0,0,0,0,0,0,0,0,"ok","ok",0,0]
[{"$f":"'Rozliczenie kwartalne'!A72","v":"37"},{"$f":"'Rozliczenie kwartalne'!B72","v":""},{"$f":"'Załącznik nr 2 do rozliczenia'!H65","v":0},{"$f":"IF('Załącznik nr 1 do rozliczenia'!H68<0,ABS('Załącznik nr 1 do rozliczenia'!H68),0)","v":0},{"$f":"'Rozliczenie kwartalne'!G72","v":0},{"$f":"'Rozliczenie kwartalne'!H72","v":0},{"$f":"'Rozliczenie kwartalne'!I72","v":0},{"$f":"'Rozliczenie kwartalne'!F72","v":0},{"$f":"'Rozliczenie kwartalne'!J72","v":0},{"$f":"'Rozliczenie kwartalne'!K72","v":0},{"$f":"'Rozliczenie kwartalne'!L72","v":0},{"$f":"'Rozliczenie kwartalne'!M72","v":0},{"$f":"'Rozliczenie kwartalne'!N72","v":0},null,null,"37",0,0,0,0,0,0,0,0,0,0,0,"ok","ok",0,0]
[{"$f":"'Rozliczenie kwartalne'!A73","v":"38"},{"$f":"'Rozliczenie kwartalne'!B73","v":""},{"$f":"'Załącznik nr 2 do rozliczenia'!H66","v":0},{"$f":"IF('Załącznik nr 1 do rozliczenia'!H69<0,ABS('Załącznik nr 1 do rozliczenia'!H69),0)","v":0},{"$f":"'Rozliczenie kwartalne'!G73","v":0},{"$f":"'Rozliczenie kwartalne'!H73","v":0},{"$f":"'Rozliczenie kwartalne'!I73","v":0},{"$f":"'Rozliczenie kwartalne'!F73","v":0},{"$f":"'Rozliczenie kwartalne'!J73","v":0},{"$f":"'Rozliczenie kwartalne'!K73","v":0},{"$f":"'Rozliczenie kwartalne'!L73","v":0},{"$f":"'Rozliczenie kwartalne'!M73","v":0},{"$f":"'Rozliczenie kwartalne'!N73","v":0},null,null,"38",0,0,0,0,0,0,0,0,0,0,0,"ok","ok",0,0]
[{"$f":"'Rozliczenie kwartalne'!A74","v":"39"},{"$f":"'Rozliczenie kwartalne'!B74","v":""},{"$f":"'Załącznik nr 2 do rozliczenia'!H67","v":0},{"$f":"IF('Załącznik nr 1 do rozliczenia'!H70<0,ABS('Załącznik nr 1 do rozliczenia'!H70),0)","v":0},{"$f":"'Rozliczenie kwartalne'!G74","v":0},{"$f":"'Rozliczenie kwartalne'!H74","v":0},{"$f":"'Rozliczenie kwartalne'!I74","v":0},{"$f":"'Rozliczenie kwartalne'!F74","v":0},{"$f":"'Rozliczenie kwartalne'!J74","v":0},{"$f":"'Rozliczenie kwartalne'!K74","v":0},{"$f":"'Rozliczenie kwartalne'!L74","v":0},{"$f":"'Rozliczenie kwartalne'!M74","v":0},{"$f":"'Rozliczenie kwartalne'!N74","v":0},null,null,"39",0,0,0,0,0,0,0,0,0,0,0,"ok","ok",0,0]
[{"$f":"'Rozliczenie kwartalne'!A75","v":"40"},{"$f":"'Rozliczenie kwartalne'!B75","v":""},{"$f":"'Załącznik nr 2 do rozliczenia'!H68","v":0},{"$f":"IF('Załącznik nr 1 do rozliczenia'!H71<0,ABS('Załącznik nr 1 do rozliczenia'!H71),0)","v":0},{"$f":"'Rozliczenie kwartalne'!G75","v":0},{"$f":"'Rozliczenie kwartalne'!H75","v":0},{"$f":"'Rozliczenie kwartalne'!I75","v":0},{"$f":"'Rozliczenie kwartalne'!F75","v":0},{"$f":"'Rozliczenie kwartalne'!J75","v":0},{"$f":"'Rozliczenie kwartalne'!K75","v":0},{"$f":"'Rozliczenie kwartalne'!L75","v":0},{"$f":"'Rozliczenie kwartalne'!M75","v":0},{"$f":"'Rozliczenie kwartalne'!N75","v":0},null,null,"40",0,0,0,0,0,0,0,0,0,0,0,"ok","ok",0,0]
[{"$f":"'Rozliczenie kwartalne'!A76","v":"41"},{"$f":"'Rozliczenie kwartalne'!B76","v":""},{"$f":"'Załącznik nr 2 do rozliczenia'!H69","v":0},{"$f":"IF('Załącznik nr 1 do rozliczenia'!H72<0,ABS('Załącznik nr 1 do rozliczenia'!H72),0)","v":0},{"$f":"'Rozliczenie kwartalne'!G76","v":0},{"$f":"'Rozliczenie kwartalne'!H76","v":0},{"$f":"'Rozliczenie kwartalne'!I76","v":0},{"$f":"'Rozliczenie kwartalne'!F76","v":0},{"$f":"'Rozliczenie kwartalne'!J76","v":0},{"$f":"'Rozliczenie kwartalne'!K76","v":0},{"$f":"'Rozliczenie kwartalne'!L76","v":0},{"$f":"'Rozliczenie kwartalne'!M76","v":0},{"$f":"'Rozliczenie kwartalne'!N76","v":0},null,null,"41",0,0,0,0,0,0,0,0,0,0,0,"ok","ok",0,0]
[{"$f":"'Rozliczenie kwartalne'!A77","v":"42"},{"$f":"'Rozliczenie kwartalne'!B77","v":""},{"$f":"'Załącznik nr 2 do rozliczenia'!H70","v":0},{"$f":"IF('Załącznik nr 1 do rozliczenia'!H73<0,ABS('Załącznik nr 1 do rozliczenia'!H73),0)","v":0},{"$f":"'Rozliczenie kwartalne'!G77","v":0},{"$f":"'Rozliczenie kwartalne'!H77","v":0},{"$f":"'Rozliczenie kwartalne'!I77","v":0},{"$f":"'Rozliczenie kwartalne'!F77","v":0},{"$f":"'Rozliczenie kwartalne'!J77","v":0},{"$f":"'Rozliczenie kwartalne'!K77","v":0},{"$f":"'Rozliczenie kwartalne'!L77","v":0},{"$f":"'Rozliczenie kwartalne'!M77","v":0},{"$f":"'Rozliczenie kwartalne'!N77","v":0},null,null,"42",0,0,0,0,0,0,0,0,0,0,0,"ok","ok",0,0]
[{"$f":"'Rozliczenie kwartalne'!A78","v":"43"},{"$f":"'Rozliczenie kwartalne'!B78","v":""},{"$f":"'Załącznik nr 2 do rozliczenia'!H71","v":0},{"$f":"IF('Załącznik nr 1 do rozliczenia'!H74<0,ABS('Załącznik nr 1 do rozliczenia'!H74),0)","v":0},{"$f":"'Rozliczenie kwartalne'!G78","v":0},{"$f":"'Rozliczenie kwartalne'!H78","v":0},{"$f":"'Rozliczenie kwartalne'!I78","v":0},{"$f":"'Rozliczenie kwartalne'!F78","v":0},{"$f":"'Rozliczenie kwartalne'!J78","v":0},{"$f":"'Rozliczenie kwartalne'!K78","v":0},{"$f":"'Rozliczenie kwartalne'!L78","v":0},{"$f":"'Rozliczenie kwartalne'!M78","v":0},{"$f":"'Rozliczenie kwartalne'!N78","v":0},null,null,"43",0,0,0,0,0,0,0,0,0,0,0,"ok","ok",0,0]
[{"$f":"'Rozliczenie kwartalne'!A79","v":"44"},{"$f":"'Rozliczenie kwartalne'!B79","v":""},{"$f":"'Załącznik nr 2 do rozliczenia'!H72","v":0},{"$f":"IF('Załącznik nr 1 do rozliczenia'!H75<0,ABS('Załącznik nr 1 do rozliczenia'!H75),0)","v":0},{"$f":"'Rozliczenie kwartalne'!G79","v":0},{"$f":"'Rozliczenie kwartalne'!H79","v":0},{"$f":"'Rozliczenie kwartalne'!I79","v":0},{"$f":"'Rozliczenie kwartalne'!F79","v":0},{"$f":"'Rozliczenie kwartalne'!J79","v":0},{"$f":"'Rozliczenie kwartalne'!K79","v":0},{"$f":"'Rozliczenie kwartalne'!L79","v":0},{"$f":"'Rozliczenie kwartalne'!M79","v":0},{"$f":"'Rozliczenie kwartalne'!N79","v":0},null,null,"44",0,0,0,0,0,0,0,0,0,0,0,"ok","ok",0,0]
[{"$f":"'Rozliczenie kwartalne'!A80","v":"45"},{"$f":"'Rozliczenie kwartalne'!B80","v":""},{"$f":"'Załącznik nr 2 do rozliczenia'!H73","v":0},{"$f":"IF('Załącznik nr 1 do rozliczenia'!H76<0,ABS('Załącznik nr 1 do rozliczenia'!H76),0)","v":0},{"$f":"'Rozliczenie kwartalne'!G80","v":0},{"$f":"'Rozliczenie kwartalne'!H80","v":0},{"$f":"'Rozliczenie kwartalne'!I80","v":0},{"$f":"'Rozliczenie kwartalne'!F80","v":0},{"$f":"'Rozliczenie kwartalne'!J80","v":0},{"$f":"'Rozliczenie kwartalne'!K80","v":0},{"$f":"'Rozliczenie kwartalne'!L80","v":0},{"$f":"'Rozliczenie kwartalne'!M80","v":0},{"$f":"'Rozliczenie kwartalne'!N80","v":0},null,null,"45",0,0,0,0,0,0,0,0,0,0,0,"ok","ok",0,0]
[{"$f":"'Rozliczenie kwartalne'!A81","v":"46"},{"$f":"'Rozliczenie kwartalne'!B81","v":""},{"$f":"'Załącznik nr 2 do rozliczenia'!H74","v":0},{"$f":"IF('Załącznik nr 1 do rozliczenia'!H77<0,ABS('Załącznik nr 1 do rozliczenia'!H77),0)","v":0},{"$f":"'Rozliczenie kwartalne'!G81","v":0},{"$f":"'Rozliczenie kwartalne'!H81","v":0},{"$f":"'Rozliczenie kwartalne'!I81","v":0},{"$f":"'Rozliczenie kwartalne'!F81","v":0},{"$f":"'Rozliczenie kwartalne'!J81","v":0},{"$f":"'Rozliczenie kwartalne'!K81","v":0},{"$f":"'Rozliczenie kwartalne'!L81","v":0},{"$f":"'Rozliczenie kwartalne'!M81","v":0},{"$f":"'Rozliczenie kwartalne'!N81","v":0},null,null,"46",0,0,0,0,0,0,0,0,0,0,0,"ok","ok",0,0]
[{"$f":"'Rozliczenie kwartalne'!A82","v":"47"},{"$f":"'Rozliczenie kwartalne'!B82","v":""},{"$f":"'Załącznik nr 2 do rozliczenia'!H75","v":0},{"$f":"IF('Załącznik nr 1 do rozliczenia'!H78<0,ABS('Załącznik nr 1 do rozliczenia'!H78),0)","v":0},{"$f":"'Rozliczenie kwartalne'!G82","v":0},{"$f":"'Rozliczenie kwartalne'!H82","v":0},{"$f":"'Rozliczenie kwartalne'!I82","v":0},{"$f":"'Rozliczenie kwartalne'!F82","v":0},{"$f":"'Rozliczenie kwartalne'!J82","v":0},{"$f":"'Rozliczenie kwartalne'!K82","v":0},{"$f":"'Rozliczenie kwartalne'!L82","v":0},{"$f":"'Rozliczenie kwartalne'!M82","v":0},{"$f":"'Rozliczenie kwartalne'!N82","v":0},null,null,"47",0,0,0,0,0,0,0,0,0,0,0,"ok","ok",0,0]
[{"$f":"'Rozliczenie kwartalne'!A83","v":"48"},{"$f":"'Rozliczenie kwartalne'!B83","v":""},{"$f":"'Załącznik nr 2 do rozliczenia'!H76","v":0},{"$f":"IF('Załącznik nr 1 do rozliczenia'!H79<0,ABS('Załącznik nr 1 do rozliczenia'!H79),0)","v":0},{"$f":"'Rozliczenie kwartalne'!G83","v":0},{"$f":"'Rozliczenie kwartalne'!H83","v":0},{"$f":"'Rozliczenie kwartalne'!I83","v":0},{"$f":"'Rozliczenie kwartalne'!F83","v":0},{"$f":"'Rozliczenie kwartalne'!J83","v":0},{"$f":"'Rozliczenie kwartalne'!K83","v":0},{"$f":"'Rozliczenie kwartalne'!L83","v":0},{"$f":"'Rozliczenie kwartalne'!M83","v":0},{"$f":"'Rozliczenie kwartalne'!N83","v":0},null,null,"48",0,0,0,0,0,0,0,0,0,0,0,"ok","ok",0,0]
[{"$f":"'Rozliczenie kwartalne'!A84","v":"49"},{"$f":"'Rozliczenie kwartalne'!B84","v":""},{"$f":"'Załącznik nr 2 do rozliczenia'!H77","v":0},{"$f":"IF('Załącznik nr 1 do rozliczenia'!H80<0,ABS('Załącznik nr 1 do rozliczenia'!H80),0)","v":0},{"$f":"'Rozliczenie kwartalne'!G84","v":0},{"$f":"'Rozliczenie kwartalne'!H84","v":0},{"$f":"'Rozliczenie kwartalne'!I84","v":0},{"$f":"'Rozliczenie kwartalne'!F84","v":0},{"$f":"'Rozliczenie kwartalne'!J84","v":0},{"$f":"'Rozliczenie kwartalne'!K84","v":0},{"$f":"'Rozliczenie kwartalne'!L84","v":0},{"$f":"'Rozliczenie kwartalne'!M84","v":0},{"$f":"'Rozliczenie kwartalne'!N84","v":0},null,null,"49",0,0,0,0,0,0,0,0,0,0,0,"ok","ok",0,0]
[{"$f":"'Rozliczenie kwartalne'!A85","v":"50"},{"$f":"'Rozliczenie kwartalne'!B85","v":""},{"$f":"'Załącznik nr 2 do rozliczenia'!H78","v":0},{"$f":"IF('Załącznik nr 1 do rozliczenia'!H81<0,ABS('Załącznik nr 1 do rozliczenia'!H81),0)","v":0},{"$f":"'Rozliczenie kwartalne'!G85","v":0},{"$f":"'Rozliczenie kwartalne'!H85","v":0},{"$f":"'Rozliczenie kwartalne'!I85","v":0},{"$f":"'Rozliczenie kwartalne'!F85","v":0},{"$f":"'Rozliczenie kwartalne'!J85","v":0},{"$f":"'Rozliczenie kwartalne'!K85","v":0},{"$f":"'Rozliczenie kwartalne'!L85","v":0},{"$f":"'Rozliczenie kwartalne'!M85","v":0},{"$f":"'Rozliczenie kwartalne'!N85","v":0},null,null,"50",0,0,0,0,0,0,0,0,0,0,0,"ok","ok",0,0]
[{"$f":"'Rozliczenie kwartalne'!A86","v":"51"},{"$f":"'Rozliczenie kwartalne'!B86","v":""},{"$f":"'Załącznik nr 2 do rozliczenia'!H79","v":0},{"$f":"IF('Załącznik nr 1 do rozliczenia'!H82<0,ABS('Załącznik nr 1 do rozliczenia'!H82),0)","v":0},{"$f":"'Rozliczenie kwartalne'!G86","v":0},{"$f":"'Rozliczenie kwartalne'!H86","v":0},{"$f":"'Rozliczenie kwartalne'!I86","v":0},{"$f":"'Rozliczenie kwartalne'!F86","v":0},{"$f":"'Rozliczenie kwartalne'!J86","v":0},{"$f":"'Rozliczenie kwartalne'!K86","v":0},{"$f":"'Rozliczenie kwartalne'!L86","v":0},{"$f":"'Rozliczenie kwartalne'!M86","v":0},{"$f":"'Rozliczenie kwartalne'!N86","v":0},null,null,"51",0,0,0,0,0,0,0,0,0,0,0,"ok","ok",0,0]
[{"$f":"'Rozliczenie kwartalne'!A87","v":"52"},{"$f":"'Rozliczenie kwartalne'!B87","v":""},{"$f":"'Załącznik nr 2 do rozliczenia'!H80","v":0},{"$f":"IF('Załącznik nr 1 do rozliczenia'!H83<0,ABS('Załącznik nr 1 do rozliczenia'!H83),0)","v":0},{"$f":"'Rozliczenie kwartalne'!G87","v":0},{"$f":"'Rozliczenie kwartalne'!H87","v":0},{"$f":"'Rozliczenie kwartalne'!I87","v":0},{"$f":"'Rozliczenie kwartalne'!F87","v":0},{"$f":"'Rozliczenie kwartalne'!J87","v":0},{"$f":"'Rozliczenie kwartalne'!K87","v":0},{"$f":"'Rozliczenie kwartalne'!L87","v":0},{"$f":"'Rozliczenie kwartalne'!M87","v":0},{"$f":"'Rozliczenie kwartalne'!N87","v":0},null,null,"52",0,0,0,0,0,0,0,0,0,0,0,"ok","ok",0,0]
[{"$f":"'Rozliczenie kwartalne'!A88","v":"53"},{"$f":"'Rozliczenie kwartalne'!B88","v":""},{"$f":"'Załącznik nr 2 do rozliczenia'!H81","v":0},{"$f":"IF('Załącznik nr 1 do rozliczenia'!H84<0,ABS('Załącznik nr 1 do rozliczenia'!H84),0)","v":0},{"$f":"'Rozliczenie kwartalne'!G88","v":0},{"$f":"'Rozliczenie kwartalne'!H88","v":0},{"$f":"'Rozliczenie kwartalne'!I88","v":0},{"$f":"'Rozliczenie kwartalne'!F88","v":0},{"$f":"'Rozliczenie kwartalne'!J88","v":0},{"$f":"'Rozliczenie kwartalne'!K88","v":0},{"$f":"'Rozliczenie kwartalne'!L88","v":0},{"$f":"'Rozliczenie kwartalne'!M88","v":0},{"$f":"'Rozliczenie kwartalne'!N88","v":0},null,null,"53",0,0,0,0,0,0,0,0,0,0,0,"ok","ok",0,0]
[{"$f":"'Rozliczenie kwartalne'!A89","v":"54"},{"$f":"'Rozliczenie kwartalne'!B89","v":""},{"$f":"'Załącznik nr 2 do rozliczenia'!H82","v":0},{"$f":"IF('Załącznik nr 1 do rozliczenia'!H85<0,ABS('Załącznik nr 1 do rozliczenia'!H85),0)","v":0},{"$f":"'Rozliczenie kwartalne'!G89","v":0},{"$f":"'Rozliczenie kwartalne'!H89","v":0},{"$f":"'Rozliczenie kwartalne'!I89","v":0},{"$f":"'Rozliczenie kwartalne'!F89","v":0},{"$f":"'Rozliczenie kwartalne'!J89","v":0},{"$f":"'Rozliczenie kwartalne'!K89","v":0},{"$f":"'Rozliczenie kwartalne'!L89","v":0},{"$f":"'Rozliczenie kwartalne'!M89","v":0},{"$f":"'Rozliczenie kwartalne'!N89","v":0},null,null,"54",0,0,0,0,0,0,0,0,0,0,0,"ok","ok",0,0]
[{"$f":"'Rozliczenie kwartalne'!A90","v":"55"},{"$f":"'Rozliczenie kwartalne'!B90","v":""},{"$f":"'Załącznik nr 2 do rozliczenia'!H83","v":0},{"$f":"IF('Załącznik nr 1 do rozliczenia'!H86<0,ABS('Załącznik nr 1 do rozliczenia'!H86),0)","v":0},{"$f":"'Rozliczenie kwartalne'!G90","v":0},{"$f":"'Rozliczenie kwartalne'!H90","v":0},{"$f":"'Rozliczenie kwartalne'!I90","v":0},{"$f":"'Rozliczenie kwartalne'!F90","v":0},{"$f":"'Rozliczenie kwartalne'!J90","v":0},{"$f":"'Rozliczenie kwartalne'!K90","v":0},{"$f":"'Rozliczenie kwartalne'!L90","v":0},{"$f":"'Rozliczenie kwartalne'!M90","v":0},{"$f":"'Rozliczenie kwartalne'!N90","v":0},null,null,"55",0,0,0,0,0,0,0,0,0,0,0,"ok","ok",0,0]
[{"$f":"'Rozliczenie kwartalne'!A91","v":"56"},{"$f":"'Rozliczenie kwartalne'!B91","v":""},{"$f":"'Załącznik nr 2 do rozliczenia'!H84","v":0},{"$f":"IF('Załącznik nr 1 do rozliczenia'!H87<0,ABS('Załącznik nr 1 do rozliczenia'!H87),0)","v":0},{"$f":"'Rozliczenie kwartalne'!G91","v":0},{"$f":"'Rozliczenie kwartalne'!H91","v":0},{"$f":"'Rozliczenie kwartalne'!I91","v":0},{"$f":"'Rozliczenie kwartalne'!F91","v":0},{"$f":"'Rozliczenie kwartalne'!J91","v":0},{"$f":"'Rozliczenie kwartalne'!K91","v":0},{"$f":"'Rozliczenie kwartalne'!L91","v":0},{"$f":"'Rozliczenie kwartalne'!M91","v":0},{"$f":"'Rozliczenie kwartalne'!N91","v":0},null,null,"56",0,0,0,0,0,0,0,0,0,0,0,"ok","ok",0,0]
[{"$f":"'Rozliczenie kwartalne'!A92","v":"57"},{"$f":"'Rozliczenie kwartalne'!B92","v":""},{"$f":"'Załącznik nr 2 do rozliczenia'!H85","v":0},{"$f":"IF('Załącznik nr 1 do rozliczenia'!H88<0,ABS('Załącznik nr 1 do rozliczenia'!H88),0)","v":0},{"$f":"'Rozliczenie kwartalne'!G92","v":0},{"$f":"'Rozliczenie kwartalne'!H92","v":0},{"$f":"'Rozliczenie kwartalne'!I92","v":0},{"$f":"'Rozliczenie kwartalne'!F92","v":0},{"$f":"'Rozliczenie kwartalne'!J92","v":0},{"$f":"'Rozliczenie kwartalne'!K92","v":0},{"$f":"'Rozliczenie kwartalne'!L92","v":0},{"$f":"'Rozliczenie kwartalne'!M92","v":0},{"$f":"'Rozliczenie kwartalne'!N92","v":0},null,null,"57",0,0,0,0,0,0,0,0,0,0,0,"ok","ok",0,0]
[{"$f":"'Rozliczenie kwartalne'!A93","v":"58"},{"$f":"'Rozliczenie kwartalne'!B93","v":""},{"$f":"'Załącznik nr 2 do rozliczenia'!H86","v":0},{"$f":"IF('Załącznik nr 1 do rozliczenia'!H89<0,ABS('Załącznik nr 1 do rozliczenia'!H89),0)","v":0},{"$f":"'Rozliczenie kwartalne'!G93","v":0},{"$f":"'Rozliczenie kwartalne'!H93","v":0},{"$f":"'Rozliczenie kwartalne'!I93","v":0},{"$f":"'Rozliczenie kwartalne'!F93","v":0},{"$f":"'Rozliczenie kwartalne'!J93","v":0},{"$f":"'Rozliczenie kwartalne'!K93","v":0},{"$f":"'Rozliczenie kwartalne'!L93","v":0},{"$f":"'Rozliczenie kwartalne'!M93","v":0},{"$f":"'Rozliczenie kwartalne'!N93","v":0},null,null,"58",0,0,0,0,0,0,0,0,0,0,0,"ok","ok",0,0]
[{"$f":"'Rozliczenie kwartalne'!A94","v":"59"},{"$f":"'Rozliczenie kwartalne'!B94","v":""},{"$f":"'Załącznik nr 2 do rozliczenia'!H87","v":0},{"$f":"IF('Załącznik nr 1 do rozliczenia'!H90<0,ABS('Załącznik nr 1 do rozliczenia'!H90),0)","v":0},{"$f":"'Rozliczenie kwartalne'!G94","v":0},{"$f":"'Rozliczenie kwartalne'!H94","v":0},{"$f":"'Rozliczenie kwartalne'!I94","v":0},{"$f":"'Rozliczenie kwartalne'!F94","v":0},{"$f":"'Rozliczenie kwartalne'!J94","v":0},{"$f":"'Rozliczenie kwartalne'!K94","v":0},{"$f":"'Rozliczenie kwartalne'!L94","v":0},{"$f":"'Rozliczenie kwartalne'!M94","v":0},{"$f":"'Rozliczenie kwartalne'!N94","v":0},null,null,"59",0,0,0,0,0,0,0,0,0,0,0,"ok","ok",0,0]
[{"$f":"'Rozliczenie kwartalne'!A95","v":"60"},{"$f":"'Rozliczenie kwartalne'!B95","v":""},{"$f":"'Załącznik nr 2 do rozliczenia'!H88","v":0},{"$f":"IF('Załącznik nr 1 do rozliczenia'!H91<0,ABS('Załącznik nr 1 do rozliczenia'!H91),0)","v":0},{"$f":"'Rozliczenie kwartalne'!G95","v":0},{"$f":"'Rozliczenie kwartalne'!H95","v":0},{"$f":"'Rozliczenie kwartalne'!I95","v":0},{"$f":"'Rozliczenie kwartalne'!F95","v":0},{"$f":"'Rozliczenie kwartalne'!J95","v":0},{"$f":"'Rozliczenie kwartalne'!K95","v":0},{"$f":"'Rozliczenie kwartalne'!L95","v":0},{"$f":"'Rozliczenie kwartalne'!M95","v":0},{"$f":"'Rozliczenie kwartalne'!N95","v":0},null,null,"60",0,0,0,0,0,0,0,0,0,0,0,"ok","ok",0,0]
[{"$f":"'Rozliczenie kwartalne'!A96","v":"61"},{"$f":"'Rozliczenie kwartalne'!B96","v":""},{"$f":"'Załącznik nr 2 do rozliczenia'!H89","v":0},{"$f":"IF('Załącznik nr 1 do rozliczenia'!H92<0,ABS('Załącznik nr 1 do rozliczenia'!H92),0)","v":0},{"$f":"'Rozliczenie kwartalne'!G96","v":0},{"$f":"'Rozliczenie kwartalne'!H96","v":0},{"$f":"'Rozliczenie kwartalne'!I96","v":0},{"$f":"'Rozliczenie kwartalne'!F96","v":0},{"$f":"'Rozliczenie kwartalne'!J96","v":0},{"$f":"'Rozliczenie kwartalne'!K96","v":0},{"$f":"'Rozliczenie kwartalne'!L96","v":0},{"$f":"'Rozliczenie kwartalne'!M96","v":0},{"$f":"'Rozliczenie kwartalne'!N96","v":0},null,null,"61",0,0,0,0,0,0,0,0,0,0,0,"ok","ok",0,0]
[{"$f":"'Rozliczenie kwartalne'!A97","v":"62"},{"$f":"'Rozliczenie kwartalne'!B97","v":""},{"$f":"'Załącznik nr 2 do rozliczenia'!H90","v":0},{"$f":"IF('Załącznik nr 1 do rozliczenia'!H93<0,ABS('Załącznik nr 1 do rozliczenia'!H93),0)","v":0},{"$f":"'Rozliczenie kwartalne'!G97","v":0},{"$f":"'Rozliczenie kwartalne'!H97","v":0},{"$f":"'Rozliczenie kwartalne'!I97","v":0},{"$f":"'Rozliczenie kwartalne'!F97","v":0},{"$f":"'Rozliczenie kwartalne'!J97","v":0},{"$f":"'Rozliczenie kwartalne'!K97","v":0},{"$f":"'Rozliczenie kwartalne'!L97","v":0},{"$f":"'Rozliczenie kwartalne'!M97","v":0},{"$f":"'Rozliczenie kwartalne'!N97","v":0},null,null,"62",0,0,0,0,0,0,0,0,0,0,0,"ok","ok",0,0]
[{"$f":"'Rozliczenie kwartalne'!A98","v":"63"},{"$f":"'Rozliczenie kwartalne'!B98","v":""},{"$f":"'Załącznik nr 2 do rozliczenia'!H91","v":0},{"$f":"IF('Załącznik nr 1 do rozliczenia'!H94<0,ABS('Załącznik nr 1 do rozliczenia'!H94),0)","v":0},{"$f":"'Rozliczenie kwartalne'!G98","v":0},{"$f":"'Rozliczenie kwartalne'!H98","v":0},{"$f":"'Rozliczenie kwartalne'!I98","v":0},{"$f":"'Rozliczenie kwartalne'!F98","v":0},{"$f":"'Rozliczenie kwartalne'!J98","v":0},{"$f":"'Rozliczenie kwartalne'!K98","v":0},{"$f":"'Rozliczenie kwartalne'!L98","v":0},{"$f":"'Rozliczenie kwartalne'!M98","v":0},{"$f":"'Rozliczenie kwartalne'!N98","v":0},null,null,"63",0,0,0,0,0,0,0,0,0,0,0,"ok","ok",0,0]
[{"$f":"'Rozliczenie kwartalne'!A99","v":"64"},{"$f":"'Rozliczenie kwartalne'!B99","v":""},{"$f":"'Załącznik nr 2 do rozliczenia'!H92","v":0},{"$f":"IF('Załącznik nr 1 do rozliczenia'!H95<0,ABS('Załącznik nr 1 do rozliczenia'!H95),0)","v":0},{"$f":"'Rozliczenie kwartalne'!G99","v":0},{"$f":"'Rozliczenie kwartalne'!H99","v":0},{"$f":"'Rozliczenie kwartalne'!I99","v":0},{"$f":"'Rozliczenie kwartalne'!F99","v":0},{"$f":"'Rozliczenie kwartalne'!J99","v":0},{"$f":"'Rozliczenie kwartalne'!K99","v":0},{"$f":"'Rozliczenie kwartalne'!L99","v":0},{"$f":"'Rozliczenie kwartalne'!M99","v":0},{"$f":"'Rozliczenie kwartalne'!N99","v":0},null,null,"64",0,0,0,0,0,0,0,0,0,0,0,"ok","ok",0,0]
[{"$f":"'Rozliczenie kwartalne'!A100","v":"65"},{"$f":"'Rozliczenie kwartalne'!B100","v":""},{"$f":"'Załącznik nr 2 do rozliczenia'!H93","v":0},{"$f":"IF('Załącznik nr 1 do rozliczenia'!H96<0,ABS('Załącznik nr 1 do rozliczenia'!H96),0)","v":0},{"$f":"'Rozliczenie kwartalne'!G100","v":0},{"$f":"'Rozliczenie kwartalne'!H100","v":0},{"$f":"'Rozliczenie kwartalne'!I100","v":0},{"$f":"'Rozliczenie kwartalne'!F100","v":0},{"$f":"'Rozliczenie kwartalne'!J100","v":0},{"$f":"'Rozliczenie kwartalne'!K100","v":0},{"$f":"'Rozliczenie kwartalne'!L100","v":0},{"$f":"'Rozliczenie kwartalne'!M100","v":0},{"$f":"'Rozliczenie kwartalne'!N100","v":0},null,null,"65",0,0,0,0,0,0,0,0,0,0,0,"ok","ok",0,0]
[{"$f":"'Rozliczenie kwartalne'!A101","v":"66"},{"$f":"'Rozliczenie kwartalne'!B101","v":""},{"$f":"'Załącznik nr 2 do rozliczenia'!H94","v":0},{"$f":"IF('Załącznik nr 1 do rozliczenia'!H97<0,ABS('Załącznik nr 1 do rozliczenia'!H97),0)","v":0},{"$f":"'Rozliczenie kwartalne'!G101","v":0},{"$f":"'Rozliczenie kwartalne'!H101","v":0},{"$f":"'Rozliczenie kwartalne'!I101","v":0},{"$f":"'Rozliczenie kwartalne'!F101","v":0},{"$f":"'Rozliczenie kwartalne'!J101","v":0},{"$f":"'Rozliczenie kwartalne'!K101","v":0},{"$f":"'Rozliczenie kwartalne'!L101","v":0},{"$f":"'Rozliczenie kwartalne'!M101","v":0},{"$f":"'Rozliczenie kwartalne'!N101","v":0},null,null,{"$f":"A68","v":"66"},{"$f":"IFERROR(D68/C68,0)","v":0},{"$f":"F68","v":0},{"$f":"IFERROR(R68/Q68,0)","v":0},{"$f":"R68*C68","v":0},{"$f":"E68*C68","v":0},{"$f":"IFERROR(ROUND(X68*C68,2),0)","v":0},{"$f":"ROUND(X68*C68,2)","v":0},{"$f":"IFERROR(IF((D68-H68)/C68>=$N$3,$N$3,(D68-H68)/C68),0)","v":0},{"$f":"IFERROR(ROUND(I68/C68,2),0)","v":0},{"$f":"ROUND(D68*0.1,2)","v":0},{"$f":"Q68*0.1","v":0},{"$f":"IF(R68>=AA68,$O$1,$O$2)","v":"ok"},{"$f":"IF(Y68<=$N$3,$O$1,$O$2)","v":"ok"},{"$f":"(V68+T68)-D68","v":0},{"$f":"D68-U68","v":0}]
[{"$f":"'Rozliczenie kwartalne'!A102","v":"67"},{"$f":"'Rozliczenie kwartalne'!B102","v":""},{"$f":"'Załącznik nr 2 do rozliczenia'!H95","v":0},{"$f":"IF('Załącznik nr 1 do rozliczenia'!H98<0,ABS('Załącznik nr 1 do rozliczenia'!H98),0)","v":0},{"$f":"'Rozliczenie kwartalne'!G102","v":0},{"$f":"'Rozliczenie kwartalne'!H102","v":0},{"$f":"'Rozliczenie kwartalne'!I102","v":0},{"$f":"'Rozliczenie kwartalne'!F102","v":0},{"$f":"'Rozliczenie kwartalne'!J102","v":0},{"$f":"'Rozliczenie kwartalne'!K102","v":0},{"$f":"'Rozliczenie kwartalne'!L102","v":0},{"$f":"'Rozliczenie kwartalne'!M102","v":0},{"$f":"'Rozliczenie kwartalne'!N102","v":0},null,null,"67",0,0,0,0,0,0,0,0,0,0,0,"ok","ok",0,0]
[{"$f":"'Rozliczenie kwartalne'!A103","v":"68"},{"$f":"'Rozliczenie kwartalne'!B103","v":""},{"$f":"'Załącznik nr 2 do rozliczenia'!H96","v":0},{"$f":"IF('Załącznik nr 1 do rozliczenia'!H99<0,ABS('Załącznik nr 1 do rozliczenia'!H99),0)","v":0},{"$f":"'Rozliczenie kwartalne'!G103","v":0},{"$f":"'Rozliczenie kwartalne'!H103","v":0},{"$f":"'Rozliczenie kwartalne'!I103","v":0},{"$f":"'Rozliczenie kwartalne'!F103","v":0},{"$f":"'Rozliczenie kwartalne'!J103","v":0},{"$f":"'Rozliczenie kwartalne'!K103","v":0},{"$f":"'Rozliczenie kwartalne'!L103","v":0},{"$f":"'Rozliczenie kwartalne'!M103","v":0},{"$f":"'Rozliczenie kwartalne'!N103","v":0},null,null,"68",0,0,0,0,0,0,0,0,0,0,0,"ok","ok",0,0]
[{"$f":"'Rozliczenie kwartalne'!A104","v":"69"},{"$f":"'Rozliczenie kwartalne'!B104","v":""},{"$f":"'Załącznik nr 2 do rozliczenia'!H97","v":0},{"$f":"IF('Załącznik nr 1 do rozliczenia'!H100<0,ABS('Załącznik nr 1 do rozliczenia'!H100),0)","v":0},{"$f":"'Rozliczenie kwartalne'!G104","v":0},{"$f":"'Rozliczenie kwartalne'!H104","v":0},{"$f":"'Rozliczenie kwartalne'!I104","v":0},{"$f":"'Rozliczenie kwartalne'!F104","v":0},{"$f":"'Rozliczenie kwartalne'!J104","v":0},{"$f":"'Rozliczenie kwartalne'!K104","v":0},{"$f":"'Rozliczenie kwartalne'!L104","v":0},{"$f":"'Rozliczenie kwartalne'!M104","v":0},{"$f":"'Rozliczenie kwartalne'!N104","v":0},null,null,"69",0,0,0,0,0,0,0,0,0,0,0,"ok","ok",0,0]
[{"$f":"'Rozliczenie kwartalne'!A105","v":"70"},{"$f":"'Rozliczenie kwartalne'!B105","v":""},{"$f":"'Załącznik nr 2 do rozliczenia'!H98","v":0},{"$f":"IF('Załącznik nr 1 do rozliczenia'!H101<0,ABS('Załącznik nr 1 do rozliczenia'!H101),0)","v":0},{"$f":"'Rozliczenie kwartalne'!G105","v":0},{"$f":"'Rozliczenie kwartalne'!H105","v":0},{"$f":"'Rozliczenie kwartalne'!I105","v":0},{"$f":"'Rozliczenie kwartalne'!F105","v":0},{"$f":"'Rozliczenie kwartalne'!J105","v":0},{"$f":"'Rozliczenie kwartalne'!K105","v":0},{"$f":"'Rozliczenie kwartalne'!L105","v":0},{"$f":"'Rozliczenie kwartalne'!M105","v":0},{"$f":"'Rozliczenie kwartalne'!N105","v":0},null,null,"70",0,0,0,0,0,0,0,0,0,0,0,"ok","ok",0,0]
[{"$f":"'Rozliczenie kwartalne'!A106","v":"71"},{"$f":"'Rozliczenie kwartalne'!B106","v":""},{"$f":"'Załącznik nr 2 do rozliczenia'!H99","v":0},{"$f":"IF('Załącznik nr 1 do rozliczenia'!H102<0,ABS('Załącznik nr 1 do rozliczenia'!H102),0)","v":0},{"$f":"'Rozliczenie kwartalne'!G106","v":0},{"$f":"'Rozliczenie kwartalne'!H106","v":0},{"$f":"'Rozliczenie kwartalne'!I106","v":0},{"$f":"'Rozliczenie kwartalne'!F106","v":0},{"$f":"'Rozliczenie kwartalne'!J106","v":0},{"$f":"'Rozliczenie kwartalne'!K106","v":0},{"$f":"'Rozliczenie kwartalne'!L106","v":0},{"$f":"'Rozliczenie kwartalne'!M106","v":0},{"$f":"'Rozliczenie kwartalne'!N106","v":0},null,null,"71",0,0,0,0,0,0,0,0,0,0,0,"ok","ok",0,0]
[{"$f":"'Rozliczenie kwartalne'!A107","v":"72"},{"$f":"'Rozliczenie kwartalne'!B107","v":""},{"$f":"'Załącznik nr 2 do rozliczenia'!H100","v":0},{"$f":"IF('Załącznik nr 1 do rozliczenia'!H103<0,ABS('Załącznik nr 1 do rozliczenia'!H103),0)","v":0},{"$f":"'Rozliczenie kwartalne'!G107","v":0},{"$f":"'Rozliczenie kwartalne'!H107","v":0},{"$f":"'Rozliczenie kwartalne'!I107","v":0},{"$f":"'Rozliczenie kwartalne'!F107","v":0},{"$f":"'Rozliczenie kwartalne'!J107","v":0},{"$f":"'Rozliczenie kwartalne'!K107","v":0},{"$f":"'Rozliczenie kwartalne'!L107","v":0},{"$f":"'Rozliczenie kwartalne'!M107","v":0},{"$f":"'Rozliczenie kwartalne'!N107","v":0},null,null,"72",0,0,0,0,0,0,0,0,0,0,0,"ok","ok",0,0]
[{"$f":"'Rozliczenie kwartalne'!A108","v":"73"},{"$f":"'Rozliczenie kwartalne'!B108","v":""},{"$f":"'Załącznik nr 2 do rozliczenia'!H101","v":0},{"$f":"IF('Załącznik nr 1 do rozliczenia'!H104<0,ABS('Załącznik nr 1 do rozliczenia'!H104),0)","v":0},{"$f":"'Rozliczenie kwartalne'!G108","v":0},{"$f":"'Rozliczenie kwartalne'!H108","v":0},{"$f":"'Rozliczenie kwartalne'!I108","v":0},{"$f":"'Rozliczenie kwartalne'!F108","v":0},{"$f":"'Rozliczenie kwartalne'!J108","v":0},{"$f":"'Rozliczenie kwartalne'!K108","v":0},{"$f":"'Rozliczenie kwartalne'!L108","v":0},{"$f":"'Rozliczenie kwartalne'!M108","v":0},{"$f":"'Rozliczenie kwartalne'!N108","v":0},null,null,"73",0,0,0,0,0,0,0,0,0,0,0,"ok","ok",0,0]
[{"$f":"'Rozliczenie kwartalne'!A109","v":"74"},{"$f":"'Rozliczenie kwartalne'!B109","v":""},{"$f":"'Załącznik nr 2 do rozliczenia'!H102","v":0},{"$f":"IF('Załącznik nr 1 do rozliczenia'!H105<0,ABS('Załącznik nr 1 do rozliczenia'!H105),0)","v":0},{"$f":"'Rozliczenie kwartalne'!G109","v":0},{"$f":"'Rozliczenie kwartalne'!H109","v":0},{"$f":"'Rozliczenie kwartalne'!I109","v":0},{"$f":"'Rozliczenie kwartalne'!F109","v":0},{"$f":"'Rozliczenie kwartalne'!J109","v":0},{"$f":"'Rozliczenie kwartalne'!K109","v":0},{"$f":"'Rozliczenie kwartalne'!L109","v":0},{"$f":"'Rozliczenie kwartalne'!M109","v":0},{"$f":"'Rozliczenie kwartalne'!N109","v":0},null,null,"74",0,0,0,0,0,0,0,0,0,0,0,"ok","ok",0,0]
[{"$f":"'Rozliczenie kwartalne'!A110","v":"75"},{"$f":"'Rozliczenie kwartalne'!B110","v":""},{"$f":"'Załącznik nr 2 do rozliczenia'!H103","v":0},{"$f":"IF('Załącznik nr 1 do rozliczenia'!H106<0,ABS('Załącznik nr 1 do rozliczenia'!H106),0)","v":0},{"$f":"'Rozliczenie kwartalne'!G110","v":0},{"$f":"'Rozliczenie kwartalne'!H110","v":0},{"$f":"'Rozliczenie kwartalne'!I110","v":0},{"$f":"'Rozliczenie kwartalne'!F110","v":0},{"$f":"'Rozliczenie kwartalne'!J110","v":0},{"$f":"'Rozliczenie kwartalne'!K110","v":0},{"$f":"'Rozliczenie kwartalne'!L110","v":0},{"$f":"'Rozliczenie kwartalne'!M110","v":0},{"$f":"'Rozliczenie kwartalne'!N110","v":0},null,null,"75",0,0,0,0,0,0,0,0,0,0,0,"ok","ok",0,0]
[{"$f":"'Rozliczenie kwartalne'!A111","v":"76"},{"$f":"'Rozliczenie kwartalne'!B111","v":""},{"$f":"'Załącznik nr 2 do rozliczenia'!H104","v":0},{"$f":"IF('Załącznik nr 1 do rozliczenia'!H107<0,ABS('Załącznik nr 1 do rozliczenia'!H107),0)","v":0},{"$f":"'Rozliczenie kwartalne'!G111","v":0},{"$f":"'Rozliczenie kwartalne'!H111","v":0},{"$f":"'Rozliczenie kwartalne'!I111","v":0},{"$f":"'Rozliczenie kwartalne'!F111","v":0},{"$f":"'Rozliczenie kwartalne'!J111","v":0},{"$f":"'Rozliczenie kwartalne'!K111","v":0},{"$f":"'Rozliczenie kwartalne'!L111","v":0},{"$f":"'Rozliczenie kwartalne'!M111","v":0},{"$f":"'Rozliczenie kwartalne'!N111","v":0},null,null,"76",0,0,0,0,0,0,0,0,0,0,0,"ok","ok",0,0]
[{"$f":"'Rozliczenie kwartalne'!A112","v":"77"},{"$f":"'Rozliczenie kwartalne'!B112","v":""},{"$f":"'Załącznik nr 2 do rozliczenia'!H105","v":0},{"$f":"IF('Załącznik nr 1 do rozliczenia'!H108<0,ABS('Załącznik nr 1 do rozliczenia'!H108),0)","v":0},{"$f":"'Rozliczenie kwartalne'!G112","v":0},{"$f":"'Rozliczenie kwartalne'!H112","v":0},{"$f":"'Rozliczenie kwartalne'!I112","v":0},{"$f":"'Rozliczenie kwartalne'!F112","v":0},{"$f":"'Rozliczenie kwartalne'!J112","v":0},{"$f":"'Rozliczenie kwartalne'!K112","v":0},{"$f":"'Rozliczenie kwartalne'!L112","v":0},{"$f":"'Rozliczenie kwartalne'!M112","v":0},{"$f":"'Rozliczenie kwartalne'!N112","v":0},null,null,"77",0,0,0,0,0,0,0,0,0,0,0,"ok","ok",0,0]
[{"$f":"'Rozliczenie kwartalne'!A113","v":"78"},{"$f":"'Rozliczenie kwartalne'!B113","v":""},{"$f":"'Załącznik nr 2 do rozliczenia'!H106","v":0},{"$f":"IF('Załącznik nr 1 do rozliczenia'!H109<0,ABS('Załącznik nr 1 do rozliczenia'!H109),0)","v":0},{"$f":"'Rozliczenie kwartalne'!G113","v":0},{"$f":"'Rozliczenie kwartalne'!H113","v":0},{"$f":"'Rozliczenie kwartalne'!I113","v":0},{"$f":"'Rozliczenie kwartalne'!F113","v":0},{"$f":"'Rozliczenie kwartalne'!J113","v":0},{"$f":"'Rozliczenie kwartalne'!K113","v":0},{"$f":"'Rozliczenie kwartalne'!L113","v":0},{"$f":"'Rozliczenie kwartalne'!M113","v":0},{"$f":"'Rozliczenie kwartalne'!N113","v":0},null,null,"78",0,0,0,0,0,0,0,0,0,0,0,"ok","ok",0,0]
[{"$f":"'Rozliczenie kwartalne'!A114","v":"79"},{"$f":"'Rozliczenie kwartalne'!B114","v":""},{"$f":"'Załącznik nr 2 do rozliczenia'!H107","v":0},{"$f":"IF('Załącznik nr 1 do rozliczenia'!H110<0,ABS('Załącznik nr 1 do rozliczenia'!H110),0)","v":0},{"$f":"'Rozliczenie kwartalne'!G114","v":0},{"$f":"'Rozliczenie kwartalne'!H114","v":0},{"$f":"'Rozliczenie kwartalne'!I114","v":0},{"$f":"'Rozliczenie kwartalne'!F114","v":0},{"$f":"'Rozliczenie kwartalne'!J114","v":0},{"$f":"'Rozliczenie kwartalne'!K114","v":0},{"$f":"'Rozliczenie kwartalne'!L114","v":0},{"$f":"'Rozliczenie kwartalne'!M114","v":0},{"$f":"'Rozliczenie kwartalne'!N114","v":0},null,null,"79",0,0,0,0,0,0,0,0,0,0,0,"ok","ok",0,0]
[{"$f":"'Rozliczenie kwartalne'!A115","v":"80"},{"$f":"'Rozliczenie kwartalne'!B115","v":""},{"$f":"'Załącznik nr 2 do rozliczenia'!H108","v":0},{"$f":"IF('Załącznik nr 1 do rozliczenia'!H111<0,ABS('Załącznik nr 1 do rozliczenia'!H111),0)","v":0},{"$f":"'Rozliczenie kwartalne'!G115","v":0},{"$f":"'Rozliczenie kwartalne'!H115","v":0},{"$f":"'Rozliczenie kwartalne'!I115","v":0},{"$f":"'Rozliczenie kwartalne'!F115","v":0},{"$f":"'Rozliczenie kwartalne'!J115","v":0},{"$f":"'Rozliczenie kwartalne'!K115","v":0},{"$f":"'Rozliczenie kwartalne'!L115","v":0},{"$f":"'Rozliczenie kwartalne'!M115","v":0},{"$f":"'Rozliczenie kwartalne'!N115","v":0},null,null,"80",0,0,0,0,0,0,0,0,0,0,0,"ok","ok",0,0]
[{"$f":"'Rozliczenie kwartalne'!A116","v":"81"},{"$f":"'Rozliczenie kwartalne'!B116","v":""},{"$f":"'Załącznik nr 2 do rozliczenia'!H109","v":0},{"$f":"IF('Załącznik nr 1 do rozliczenia'!H112<0,ABS('Załącznik nr 1 do rozliczenia'!H112),0)","v":0},{"$f":"'Rozliczenie kwartalne'!G116","v":0},{"$f":"'Rozliczenie kwartalne'!H116","v":0},{"$f":"'Rozliczenie kwartalne'!I116","v":0},{"$f":"'Rozliczenie kwartalne'!F116","v":0},{"$f":"'Rozliczenie kwartalne'!J116","v":0},{"$f":"'Rozliczenie kwartalne'!K116","v":0},{"$f":"'Rozliczenie kwartalne'!L116","v":0},{"$f":"'Rozliczenie kwartalne'!M116","v":0},{"$f":"'Rozliczenie kwartalne'!N116","v":0},null,null,"81",0,0,0,0,0,0,0,0,0,0,0,"ok","ok",0,0]
[{"$f":"'Rozliczenie kwartalne'!A117","v":"82"},{"$f":"'Rozliczenie kwartalne'!B117","v":""},{"$f":"'Załącznik nr 2 do rozliczenia'!H110","v":0},{"$f":"IF('Załącznik nr 1 do rozliczenia'!H113<0,ABS('Załącznik nr 1 do rozliczenia'!H113),0)","v":0},{"$f":"'Rozliczenie kwartalne'!G117","v":0},{"$f":"'Rozliczenie kwartalne'!H117","v":0},{"$f":"'Rozliczenie kwartalne'!I117","v":0},{"$f":"'Rozliczenie kwartalne'!F117","v":0},{"$f":"'Rozliczenie kwartalne'!J117","v":0},{"$f":"'Rozliczenie kwartalne'!K117","v":0},{"$f":"'Rozliczenie kwartalne'!L117","v":0},{"$f":"'Rozliczenie kwartalne'!M117","v":0},{"$f":"'Rozliczenie kwartalne'!N117","v":0},null,null,"82",0,0,0,0,0,0,0,0,0,0,0,"ok","ok",0,0]
[{"$f":"'Rozliczenie kwartalne'!A118","v":"83"},{"$f":"'Rozliczenie kwartalne'!B118","v":""},{"$f":"'Załącznik nr 2 do rozliczenia'!H111","v":0},{"$f":"IF('Załącznik nr 1 do rozliczenia'!H114<0,ABS('Załącznik nr 1 do rozliczenia'!H114),0)","v":0},{"$f":"'Rozliczenie kwartalne'!G118","v":0},{"$f":"'Rozliczenie kwartalne'!H118","v":0},{"$f":"'Rozliczenie kwartalne'!I118","v":0},{"$f":"'Rozliczenie kwartalne'!F118","v":0},{"$f":"'Rozliczenie kwartalne'!J118","v":0},{"$f":"'Rozliczenie kwartalne'!K118","v":0},{"$f":"'Rozliczenie kwartalne'!L118","v":0},{"$f":"'Rozliczenie kwartalne'!M118","v":0},{"$f":"'Rozliczenie kwartalne'!N118","v":0},null,null,"83",0,0,0,0,0,0,0,0,0,0,0,"ok","ok",0,0]
[{"$f":"'Rozliczenie kwartalne'!A119","v":"84"},{"$f":"'Rozliczenie kwartalne'!B119","v":""},{"$f":"'Załącznik nr 2 do rozliczenia'!H112","v":0},{"$f":"IF('Załącznik nr 1 do rozliczenia'!H115<0,ABS('Załącznik nr 1 do rozliczenia'!H115),0)","v":0},{"$f":"'Rozliczenie kwartalne'!G119","v":0},{"$f":"'Rozliczenie kwartalne'!H119","v":0},{"$f":"'Rozliczenie kwartalne'!I119","v":0},{"$f":"'Rozliczenie kwartalne'!F119","v":0},{"$f":"'Rozliczenie kwartalne'!J119","v":0},{"$f":"'Rozliczenie kwartalne'!K119","v":0},{"$f":"'Rozliczenie kwartalne'!L119","v":0},{"$f":"'Rozliczenie kwartalne'!M119","v":0},{"$f":"'Rozliczenie kwartalne'!N119","v":0},null,null,"84",0,0,0,0,0,0,0,0,0,0,0,"ok","ok",0,0]
[{"$f":"'Rozliczenie kwartalne'!A120","v":"85"},{"$f":"'Rozliczenie kwartalne'!B120","v":""},{"$f":"'Załącznik nr 2 do rozliczenia'!H113","v":0},{"$f":"IF('Załącznik nr 1 do rozliczenia'!H116<0,ABS('Załącznik nr 1 do rozliczenia'!H116),0)","v":0},{"$f":"'Rozliczenie kwartalne'!G120","v":0},{"$f":"'Rozliczenie kwartalne'!H120","v":0},{"$f":"'Rozliczenie kwartalne'!I120","v":0},{"$f":"'Rozliczenie kwartalne'!F120","v":0},{"$f":"'Rozliczenie kwartalne'!J120","v":0},{"$f":"'Rozliczenie kwartalne'!K120","v":0},{"$f":"'Rozliczenie kwartalne'!L120","v":0},{"$f":"'Rozliczenie kwartalne'!M120","v":0},{"$f":"'Rozliczenie kwartalne'!N120","v":0},null,null,"85",0,0,0,0,0,0,0,0,0,0,0,"ok","ok",0,0]
[{"$f":"'Rozliczenie kwartalne'!A121","v":"86"},{"$f":"'Rozliczenie kwartalne'!B121","v":""},{"$f":"'Załącznik nr 2 do rozliczenia'!H114","v":0},{"$f":"IF('Załącznik nr 1 do rozliczenia'!H117<0,ABS('Załącznik nr 1 do rozliczenia'!H117),0)","v":0},{"$f":"'Rozliczenie kwartalne'!G121","v":0},{"$f":"'Rozliczenie kwartalne'!H121","v":0},{"$f":"'Rozliczenie kwartalne'!I121","v":0},{"$f":"'Rozliczenie kwartalne'!F121","v":0},{"$f":"'Rozliczenie kwartalne'!J121","v":0},{"$f":"'Rozliczenie kwartalne'!K121","v":0},{"$f":"'Rozliczenie kwartalne'!L121","v":0},{"$f":"'Rozliczenie kwartalne'!M121","v":0},{"$f":"'Rozliczenie kwartalne'!N121","v":0},null,null,"86",0,0,0,0,0,0,0,0,0,0,0,"ok","ok",0,0]
[{"$f":"'Rozliczenie kwartalne'!A122","v":"87"},{"$f":"'Rozliczenie kwartalne'!B122","v":""},{"$f":"'Załącznik nr 2 do rozliczenia'!H115","v":0},{"$f":"IF('Załącznik nr 1 do rozliczenia'!H118<0,ABS('Załącznik nr 1 do rozliczenia'!H118),0)","v":0},{"$f":"'Rozliczenie kwartalne'!G122","v":0},{"$f":"'Rozliczenie kwartalne'!H122","v":0},{"$f":"'Rozliczenie kwartalne'!I122","v":0},{"$f":"'Rozliczenie kwartalne'!F122","v":0},{"$f":"'Rozliczenie kwartalne'!J122","v":0},{"$f":"'Rozliczenie kwartalne'!K122","v":0},{"$f":"'Rozliczenie kwartalne'!L122","v":0},{"$f":"'Rozliczenie kwartalne'!M122","v":0},{"$f":"'Rozliczenie kwartalne'!N122","v":0},null,null,"87",0,0,0,0,0,0,0,0,0,0,0,"ok","ok",0,0]
[{"$f":"'Rozliczenie kwartalne'!A123","v":"88"},{"$f":"'Rozliczenie kwartalne'!B123","v":""},{"$f":"'Załącznik nr 2 do rozliczenia'!H116","v":0},{"$f":"IF('Załącznik nr 1 do rozliczenia'!H119<0,ABS('Załącznik nr 1 do rozliczenia'!H119),0)","v":0},{"$f":"'Rozliczenie kwartalne'!G123","v":0},{"$f":"'Rozliczenie kwartalne'!H123","v":0},{"$f":"'Rozliczenie kwartalne'!I123","v":0},{"$f":"'Rozliczenie kwartalne'!F123","v":0},{"$f":"'Rozliczenie kwartalne'!J123","v":0},{"$f":"'Rozliczenie kwartalne'!K123","v":0},{"$f":"'Rozliczenie kwartalne'!L123","v":0},{"$f":"'Rozliczenie kwartalne'!M123","v":0},{"$f":"'Rozliczenie kwartalne'!N123","v":0},null,null,"88",0,0,0,0,0,0,0,0,0,0,0,"ok","ok",0,0]
[{"$f":"'Rozliczenie kwartalne'!A124","v":"89"},{"$f":"'Rozliczenie kwartalne'!B124","v":""},{"$f":"'Załącznik nr 2 do rozliczenia'!H117","v":0},{"$f":"IF('Załącznik nr 1 do rozliczenia'!H120<0,ABS('Załącznik nr 1 do rozliczenia'!H120),0)","v":0},{"$f":"'Rozliczenie kwartalne'!G124","v":0},{"$f":"'Rozliczenie kwartalne'!H124","v":0},{"$f":"'Rozliczenie kwartalne'!I124","v":0},{"$f":"'Rozliczenie kwartalne'!F124","v":0},{"$f":"'Rozliczenie kwartalne'!J124","v":0},{"$f":"'Rozliczenie kwartalne'!K124","v":0},{"$f":"'Rozliczenie kwartalne'!L124","v":0},{"$f":"'Rozliczenie kwartalne'!M124","v":0},{"$f":"'Rozliczenie kwartalne'!N124","v":0},null,null,"89",0,0,0,0,0,0,0,0,0,0,0,"ok","ok",0,0]
[{"$f":"'Rozliczenie kwartalne'!A125","v":"90"},{"$f":"'Rozliczenie kwartalne'!B125","v":""},{"$f":"'Załącznik nr 2 do rozliczenia'!H118","v":0},{"$f":"IF('Załącznik nr 1 do rozliczenia'!H121<0,ABS('Załącznik nr 1 do rozliczenia'!H121),0)","v":0},{"$f":"'Rozliczenie kwartalne'!G125","v":0},{"$f":"'Rozliczenie kwartalne'!H125","v":0},{"$f":"'Rozliczenie kwartalne'!I125","v":0},{"$f":"'Rozliczenie kwartalne'!F125","v":0},{"$f":"'Rozliczenie kwartalne'!J125","v":0},{"$f":"'Rozliczenie kwartalne'!K125","v":0},{"$f":"'Rozliczenie kwartalne'!L125","v":0},{"$f":"'Rozliczenie kwartalne'!M125","v":0},{"$f":"'Rozliczenie kwartalne'!N125","v":0},null,null,"90",0,0,0,0,0,0,0,0,0,0,0,"ok","ok",0,0]
[{"$f":"'Rozliczenie kwartalne'!A126","v":"91"},{"$f":"'Rozliczenie kwartalne'!B126","v":""},{"$f":"'Załącznik nr 2 do rozliczenia'!H119","v":0},{"$f":"IF('Załącznik nr 1 do rozliczenia'!H122<0,ABS('Załącznik nr 1 do rozliczenia'!H122),0)","v":0},{"$f":"'Rozliczenie kwartalne'!G126","v":0},{"$f":"'Rozliczenie kwartalne'!H126","v":0},{"$f":"'Rozliczenie kwartalne'!I126","v":0},{"$f":"'Rozliczenie kwartalne'!F126","v":0},{"$f":"'Rozliczenie kwartalne'!J126","v":0},{"$f":"'Rozliczenie kwartalne'!K126","v":0},{"$f":"'Rozliczenie kwartalne'!L126","v":0},{"$f":"'Rozliczenie kwartalne'!M126","v":0},{"$f":"'Rozliczenie kwartalne'!N126","v":0},null,null,"91",0,0,0,0,0,0,0,0,0,0,0,"ok","ok",0,0]
[{"$f":"'Rozliczenie kwartalne'!A127","v":"92"},{"$f":"'Rozliczenie kwartalne'!B127","v":""},{"$f":"'Załącznik nr 2 do rozliczenia'!H120","v":0},{"$f":"IF('Załącznik nr 1 do rozliczenia'!H123<0,ABS('Załącznik nr 1 do rozliczenia'!H123),0)","v":0},{"$f":"'Rozliczenie kwartalne'!G127","v":0},{"$f":"'Rozliczenie kwartalne'!H127","v":0},{"$f":"'Rozliczenie kwartalne'!I127","v":0},{"$f":"'Rozliczenie kwartalne'!F127","v":0},{"$f":"'Rozliczenie kwartalne'!J127","v":0},{"$f":"'Rozliczenie kwartalne'!K127","v":0},{"$f":"'Rozliczenie kwartalne'!L127","v":0},{"$f":"'Rozliczenie kwartalne'!M127","v":0},{"$f":"'Rozliczenie kwartalne'!N127","v":0},null,null,"92",0,0,0,0,0,0,0,0,0,0,0,"ok","ok",0,0]
[{"$f":"'Rozliczenie kwartalne'!A128","v":"93"},{"$f":"'Rozliczenie kwartalne'!B128","v":""},{"$f":"'Załącznik nr 2 do rozliczenia'!H121","v":0},{"$f":"IF('Załącznik nr 1 do rozliczenia'!H124<0,ABS('Załącznik nr 1 do rozliczenia'!H124),0)","v":0},{"$f":"'Rozliczenie kwartalne'!G128","v":0},{"$f":"'Rozliczenie kwartalne'!H128","v":0},{"$f":"'Rozliczenie kwartalne'!I128","v":0},{"$f":"'Rozliczenie kwartalne'!F128","v":0},{"$f":"'Rozliczenie kwartalne'!J128","v":0},{"$f":"'Rozliczenie kwartalne'!K128","v":0},{"$f":"'Rozliczenie kwartalne'!L128","v":0},{"$f":"'Rozliczenie kwartalne'!M128","v":0},{"$f":"'Rozliczenie kwartalne'!N128","v":0},null,null,"93",0,0,0,0,0,0,0,0,0,0,0,"ok","ok",0,0]
[{"$f":"'Rozliczenie kwartalne'!A129","v":"94"},{"$f":"'Rozliczenie kwartalne'!B129","v":""},{"$f":"'Załącznik nr 2 do rozliczenia'!H122","v":0},{"$f":"IF('Załącznik nr 1 do rozliczenia'!H125<0,ABS('Załącznik nr 1 do rozliczenia'!H125),0)","v":0},{"$f":"'Rozliczenie kwartalne'!G129","v":0},{"$f":"'Rozliczenie kwartalne'!H129","v":0},{"$f":"'Rozliczenie kwartalne'!I129","v":0},{"$f":"'Rozliczenie kwartalne'!F129","v":0},{"$f":"'Rozliczenie kwartalne'!J129","v":0},{"$f":"'Rozliczenie kwartalne'!K129","v":0},{"$f":"'Rozliczenie kwartalne'!L129","v":0},{"$f":"'Rozliczenie kwartalne'!M129","v":0},{"$f":"'Rozliczenie kwartalne'!N129","v":0},null,null,"94",0,0,0,0,0,0,0,0,0,0,0,"ok","ok",0,0]
[{"$f":"'Rozliczenie kwartalne'!A130","v":"95"},{"$f":"'Rozliczenie kwartalne'!B130","v":""},{"$f":"'Załącznik nr 2 do rozliczenia'!H123","v":0},{"$f":"IF('Załącznik nr 1 do rozliczenia'!H126<0,ABS('Załącznik nr 1 do rozliczenia'!H126),0)","v":0},{"$f":"'Rozliczenie kwartalne'!G130","v":0},{"$f":"'Rozliczenie kwartalne'!H130","v":0},{"$f":"'Rozliczenie kwartalne'!I130","v":0},{"$f":"'Rozliczenie kwartalne'!F130","v":0},{"$f":"'Rozliczenie kwartalne'!J130","v":0},{"$f":"'Rozliczenie kwartalne'!K130","v":0},{"$f":"'Rozliczenie kwartalne'!L130","v":0},{"$f":"'Rozliczenie kwartalne'!M130","v":0},{"$f":"'Rozliczenie kwartalne'!N130","v":0},null,null,"95",0,0,0,0,0,0,0,0,0,0,0,"ok","ok",0,0]
[{"$f":"'Rozliczenie kwartalne'!A131","v":"96"},{"$f":"'Rozliczenie kwartalne'!B131","v":""},{"$f":"'Załącznik nr 2 do rozliczenia'!H124","v":0},{"$f":"IF('Załącznik nr 1 do rozliczenia'!H127<0,ABS('Załącznik nr 1 do rozliczenia'!H127),0)","v":0},{"$f":"'Rozliczenie kwartalne'!G131","v":0},{"$f":"'Rozliczenie kwartalne'!H131","v":0},{"$f":"'Rozliczenie kwartalne'!I131","v":0},{"$f":"'Rozliczenie kwartalne'!F131","v":0},{"$f":"'Rozliczenie kwartalne'!J131","v":0},{"$f":"'Rozliczenie kwartalne'!K131","v":0},{"$f":"'Rozliczenie kwartalne'!L131","v":0},{"$f":"'Rozliczenie kwartalne'!M131","v":0},{"$f":"'Rozliczenie kwartalne'!N131","v":0},null,null,"96",0,0,0,0,0,0,0,0,0,0,0,"ok","ok",0,0]
[{"$f":"'Rozliczenie kwartalne'!A132","v":"97"},{"$f":"'Rozliczenie kwartalne'!B132","v":""},{"$f":"'Załącznik nr 2 do rozliczenia'!H125","v":0},{"$f":"IF('Załącznik nr 1 do rozliczenia'!H128<0,ABS('Załącznik nr 1 do rozliczenia'!H128),0)","v":0},{"$f":"'Rozliczenie kwartalne'!G132","v":0},{"$f":"'Rozliczenie kwartalne'!H132","v":0},{"$f":"'Rozliczenie kwartalne'!I132","v":0},{"$f":"'Rozliczenie kwartalne'!F132","v":0},{"$f":"'Rozliczenie kwartalne'!J132","v":0},{"$f":"'Rozliczenie kwartalne'!K132","v":0},{"$f":"'Rozliczenie kwartalne'!L132","v":0},{"$f":"'Rozliczenie kwartalne'!M132","v":0},{"$f":"'Rozliczenie kwartalne'!N132","v":0},null,null,"97",0,0,0,0,0,0,0,0,0,0,0,"ok","ok",0,0]
[{"$f":"'Rozliczenie kwartalne'!A133","v":"98"},{"$f":"'Rozliczenie kwartalne'!B133","v":""},{"$f":"'Załącznik nr 2 do rozliczenia'!H126","v":0},{"$f":"IF('Załącznik nr 1 do rozliczenia'!H129<0,ABS('Załącznik nr 1 do rozliczenia'!H129),0)","v":0},{"$f":"'Rozliczenie kwartalne'!G133","v":0},{"$f":"'Rozliczenie kwartalne'!H133","v":0},{"$f":"'Rozliczenie kwartalne'!I133","v":0},{"$f":"'Rozliczenie kwartalne'!F133","v":0},{"$f":"'Rozliczenie kwartalne'!J133","v":0},{"$f":"'Rozliczenie kwartalne'!K133","v":0},{"$f":"'Rozliczenie kwartalne'!L133","v":0},{"$f":"'Rozliczenie kwartalne'!M133","v":0},{"$f":"'Rozliczenie kwartalne'!N133","v":0},null,null,"98",0,0,0,0,0,0,0,0,0,0,0,"ok","ok",0,0]
[{"$f":"'Rozliczenie kwartalne'!A134","v":"99"},{"$f":"'Rozliczenie kwartalne'!B134","v":""},{"$f":"'Załącznik nr 2 do rozliczenia'!H127","v":0},{"$f":"IF('Załącznik nr 1 do rozliczenia'!H130<0,ABS('Załącznik nr 1 do rozliczenia'!H130),0)","v":0},{"$f":"'Rozliczenie kwartalne'!G134","v":0},{"$f":"'Rozliczenie kwartalne'!H134","v":0},{"$f":"'Rozliczenie kwartalne'!I134","v":0},{"$f":"'Rozliczenie kwartalne'!F134","v":0},{"$f":"'Rozliczenie kwartalne'!J134","v":0},{"$f":"'Rozliczenie kwartalne'!K134","v":0},{"$f":"'Rozliczenie kwartalne'!L134","v":0},{"$f":"'Rozliczenie kwartalne'!M134","v":0},{"$f":"'Rozliczenie kwartalne'!N134","v":0},null,null,"99",0,0,0,0,0,0,0,0,0,0,0,"ok","ok",0,0]
[{"$f":"'Rozliczenie kwartalne'!A135","v":"100"},{"$f":"'Rozliczenie kwartalne'!B135","v":""},{"$f":"'Załącznik nr 2 do rozliczenia'!H128","v":0},{"$f":"IF('Załącznik nr 1 do rozliczenia'!H131<0,ABS('Załącznik nr 1 do rozliczenia'!H131),0)","v":0},{"$f":"'Rozliczenie kwartalne'!G135","v":0},{"$f":"'Rozliczenie kwartalne'!H135","v":0},{"$f":"'Rozliczenie kwartalne'!I135","v":0},{"$f":"'Rozliczenie kwartalne'!F135","v":0},{"$f":"'Rozliczenie kwartalne'!J135","v":0},{"$f":"'Rozliczenie kwartalne'!K135","v":0},{"$f":"'Rozliczenie kwartalne'!L135","v":0},{"$f":"'Rozliczenie kwartalne'!M135","v":0},{"$f":"'Rozliczenie kwartalne'!N135","v":0},null,null,"100",0,0,0,0,0,0,0,0,0,0,0,"ok","ok",0,0]
[{"$f":"'Rozliczenie kwartalne'!A136","v":"101"},{"$f":"'Rozliczenie kwartalne'!B136","v":""},{"$f":"'Załącznik nr 2 do rozliczenia'!H129","v":0},{"$f":"IF('Załącznik nr 1 do rozliczenia'!H132<0,ABS('Załącznik nr 1 do rozliczenia'!H132),0)","v":0},{"$f":"'Rozliczenie kwartalne'!G136","v":0},{"$f":"'Rozliczenie kwartalne'!H136","v":0},{"$f":"'Rozliczenie kwartalne'!I136","v":0},{"$f":"'Rozliczenie kwartalne'!F136","v":0},{"$f":"'Rozliczenie kwartalne'!J136","v":0},{"$f":"'Rozliczenie kwartalne'!K136","v":0},{"$f":"'Rozliczenie kwartalne'!L136","v":0},{"$f":"'Rozliczenie kwartalne'!M136","v":0},{"$f":"'Rozliczenie kwartalne'!N136","v":0},null,null,"101",0,0,0,0,0,0,0,0,0,0,0,"ok","ok",0,0]
[{"$f":"'Rozliczenie kwartalne'!A137","v":"102"},{"$f":"'Rozliczenie kwartalne'!B137","v":""},{"$f":"'Załącznik nr 2 do rozliczenia'!H130","v":0},{"$f":"IF('Załącznik nr 1 do rozliczenia'!H133<0,ABS('Załącznik nr 1 do rozliczenia'!H133),0)","v":0},{"$f":"'Rozliczenie kwartalne'!G137","v":0},{"$f":"'Rozliczenie kwartalne'!H137","v":0},{"$f":"'Rozliczenie kwartalne'!I137","v":0},{"$f":"'Rozliczenie kwartalne'!F137","v":0},{"$f":"'Rozliczenie kwartalne'!J137","v":0},{"$f":"'Rozliczenie kwartalne'!K137","v":0},{"$f":"'Rozliczenie kwartalne'!L137","v":0},{"$f":"'Rozliczenie kwartalne'!M137","v":0},{"$f":"'Rozliczenie kwartalne'!N137","v":0},null,null,"102",0,0,0,0,0,0,0,0,0,0,0,"ok","ok",0,0]
[{"$f":"'Rozliczenie kwartalne'!A138","v":"103"},{"$f":"'Rozliczenie kwartalne'!B138","v":""},{"$f":"'Załącznik nr 2 do rozliczenia'!H131","v":0},{"$f":"IF('Załącznik nr 1 do rozliczenia'!H134<0,ABS('Załącznik nr 1 do rozliczenia'!H134),0)","v":0},{"$f":"'Rozliczenie kwartalne'!G138","v":0},{"$f":"'Rozliczenie kwartalne'!H138","v":0},{"$f":"'Rozliczenie kwartalne'!I138","v":0},{"$f":"'Rozliczenie kwartalne'!F138","v":0},{"$f":"'Rozliczenie kwartalne'!J138","v":0},{"$f":"'Rozliczenie kwartalne'!K138","v":0},{"$f":"'Rozliczenie kwartalne'!L138","v":0},{"$f":"'Rozliczenie kwartalne'!M138","v":0},{"$f":"'Rozliczenie kwartalne'!N138","v":0},null,null,"103",0,0,0,0,0,0,0,0,0,0,0,"ok","ok",0,0]
[{"$f":"'Rozliczenie kwartalne'!A139","v":"104"},{"$f":"'Rozliczenie kwartalne'!B139","v":""},{"$f":"'Załącznik nr 2 do rozliczenia'!H132","v":0},{"$f":"IF('Załącznik nr 1 do rozliczenia'!H135<0,ABS('Załącznik nr 1 do rozliczenia'!H135),0)","v":0},{"$f":"'Rozliczenie kwartalne'!G139","v":0},{"$f":"'Rozliczenie kwartalne'!H139","v":0},{"$f":"'Rozliczenie kwartalne'!I139","v":0},{"$f":"'Rozliczenie kwartalne'!F139","v":0},{"$f":"'Rozliczenie kwartalne'!J139","v":0},{"$f":"'Rozliczenie kwartalne'!K139","v":0},{"$f":"'Rozliczenie kwartalne'!L139","v":0},{"$f":"'Rozliczenie kwartalne'!M139","v":0},{"$f":"'Rozliczenie kwartalne'!N139","v":0},null,null,"104",0,0,0,0,0,0,0,0,0,0,0,"ok","ok",0,0]
[{"$f":"'Rozliczenie kwartalne'!A140","v":"105"},{"$f":"'Rozliczenie kwartalne'!B140","v":""},{"$f":"'Załącznik nr 2 do rozliczenia'!H133","v":0},{"$f":"IF('Załącznik nr 1 do rozliczenia'!H136<0,ABS('Załącznik nr 1 do rozliczenia'!H136),0)","v":0},{"$f":"'Rozliczenie kwartalne'!G140","v":0},{"$f":"'Rozliczenie kwartalne'!H140","v":0},{"$f":"'Rozliczenie kwartalne'!I140","v":0},{"$f":"'Rozliczenie kwartalne'!F140","v":0},{"$f":"'Rozliczenie kwartalne'!J140","v":0},{"$f":"'Rozliczenie kwartalne'!K140","v":0},{"$f":"'Rozliczenie kwartalne'!L140","v":0},{"$f":"'Rozliczenie kwartalne'!M140","v":0},{"$f":"'Rozliczenie kwartalne'!N140","v":0},null,null,"105",0,0,0,0,0,0,0,0,0,0,0,"ok","ok",0,0]
[{"$f":"'Rozliczenie kwartalne'!A141","v":"106"},{"$f":"'Rozliczenie kwartalne'!B141","v":""},{"$f":"'Załącznik nr 2 do rozliczenia'!H134","v":0},{"$f":"IF('Załącznik nr 1 do rozliczenia'!H137<0,ABS('Załącznik nr 1 do rozliczenia'!H137),0)","v":0},{"$f":"'Rozliczenie kwartalne'!G141","v":0},{"$f":"'Rozliczenie kwartalne'!H141","v":0},{"$f":"'Rozliczenie kwartalne'!I141","v":0},{"$f":"'Rozliczenie kwartalne'!F141","v":0},{"$f":"'Rozliczenie kwartalne'!J141","v":0},{"$f":"'Rozliczenie kwartalne'!K141","v":0},{"$f":"'Rozliczenie kwartalne'!L141","v":0},{"$f":"'Rozliczenie kwartalne'!M141","v":0},{"$f":"'Rozliczenie kwartalne'!N141","v":0},null,null,"106",0,0,0,0,0,0,0,0,0,0,0,"ok","ok",0,0]
[{"$f":"'Rozliczenie kwartalne'!A142","v":"107"},{"$f":"'Rozliczenie kwartalne'!B142","v":""},{"$f":"'Załącznik nr 2 do rozliczenia'!H135","v":0},{"$f":"IF('Załącznik nr 1 do rozliczenia'!H138<0,ABS('Załącznik nr 1 do rozliczenia'!H138),0)","v":0},{"$f":"'Rozliczenie kwartalne'!G142","v":0},{"$f":"'Rozliczenie kwartalne'!H142","v":0},{"$f":"'Rozliczenie kwartalne'!I142","v":0},{"$f":"'Rozliczenie kwartalne'!F142","v":0},{"$f":"'Rozliczenie kwartalne'!J142","v":0},{"$f":"'Rozliczenie kwartalne'!K142","v":0},{"$f":"'Rozliczenie kwartalne'!L142","v":0},{"$f":"'Rozliczenie kwartalne'!M142","v":0},{"$f":"'Rozliczenie kwartalne'!N142","v":0},null,null,"107",0,0,0,0,0,0,0,0,0,0,0,"ok","ok",0,0]
[{"$f":"'Rozliczenie kwartalne'!A143","v":"108"},{"$f":"'Rozliczenie kwartalne'!B143","v":""},{"$f":"'Załącznik nr 2 do rozliczenia'!H136","v":0},{"$f":"IF('Załącznik nr 1 do rozliczenia'!H139<0,ABS('Załącznik nr 1 do rozliczenia'!H139),0)","v":0},{"$f":"'Rozliczenie kwartalne'!G143","v":0},{"$f":"'Rozliczenie kwartalne'!H143","v":0},{"$f":"'Rozliczenie kwartalne'!I143","v":0},{"$f":"'Rozliczenie kwartalne'!F143","v":0},{"$f":"'Rozliczenie kwartalne'!J143","v":0},{"$f":"'Rozliczenie kwartalne'!K143","v":0},{"$f":"'Rozliczenie kwartalne'!L143","v":0},{"$f":"'Rozliczenie kwartalne'!M143","v":0},{"$f":"'Rozliczenie kwartalne'!N143","v":0},null,null,"108",0,0,0,0,0,0,0,0,0,0,0,"ok","ok",0,0]
[{"$f":"'Rozliczenie kwartalne'!A144","v":"109"},{"$f":"'Rozliczenie kwartalne'!B144","v":""},{"$f":"'Załącznik nr 2 do rozliczenia'!H137","v":0},{"$f":"IF('Załącznik nr 1 do rozliczenia'!H140<0,ABS('Załącznik nr 1 do rozliczenia'!H140),0)","v":0},{"$f":"'Rozliczenie kwartalne'!G144","v":0},{"$f":"'Rozliczenie kwartalne'!H144","v":0},{"$f":"'Rozliczenie kwartalne'!I144","v":0},{"$f":"'Rozliczenie kwartalne'!F144","v":0},{"$f":"'Rozliczenie kwartalne'!J144","v":0},{"$f":"'Rozliczenie kwartalne'!K144","v":0},{"$f":"'Rozliczenie kwartalne'!L144","v":0},{"$f":"'Rozliczenie kwartalne'!M144","v":0},{"$f":"'Rozliczenie kwartalne'!N144","v":0},null,null,"109",0,0,0,0,0,0,0,0,0,0,0,"ok","ok",0,0]
[{"$f":"'Rozliczenie kwartalne'!A145","v":"110"},{"$f":"'Rozliczenie kwartalne'!B145","v":""},{"$f":"'Załącznik nr 2 do rozliczenia'!H138","v":0},{"$f":"IF('Załącznik nr 1 do rozliczenia'!H141<0,ABS('Załącznik nr 1 do rozliczenia'!H141),0)","v":0},{"$f":"'Rozliczenie kwartalne'!G145","v":0},{"$f":"'Rozliczenie kwartalne'!H145","v":0},{"$f":"'Rozliczenie kwartalne'!I145","v":0},{"$f":"'Rozliczenie kwartalne'!F145","v":0},{"$f":"'Rozliczenie kwartalne'!J145","v":0},{"$f":"'Rozliczenie kwartalne'!K145","v":0},{"$f":"'Rozliczenie kwartalne'!L145","v":0},{"$f":"'Rozliczenie kwartalne'!M145","v":0},{"$f":"'Rozliczenie kwartalne'!N145","v":0},null,null,"110",0,0,0,0,0,0,0,0,0,0,0,"ok","ok",0,0]
[{"$f":"'Rozliczenie kwartalne'!A146","v":"111"},{"$f":"'Rozliczenie kwartalne'!B146","v":""},{"$f":"'Załącznik nr 2 do rozliczenia'!H139","v":0},{"$f":"IF('Załącznik nr 1 do rozliczenia'!H142<0,ABS('Załącznik nr 1 do rozliczenia'!H142),0)","v":0},{"$f":"'Rozliczenie kwartalne'!G146","v":0},{"$f":"'Rozliczenie kwartalne'!H146","v":0},{"$f":"'Rozliczenie kwartalne'!I146","v":0},{"$f":"'Rozliczenie kwartalne'!F146","v":0},{"$f":"'Rozliczenie kwartalne'!J146","v":0},{"$f":"'Rozliczenie kwartalne'!K146","v":0},{"$f":"'Rozliczenie kwartalne'!L146","v":0},{"$f":"'Rozliczenie kwartalne'!M146","v":0},{"$f":"'Rozliczenie kwartalne'!N146","v":0},null,null,"111",0,0,0,0,0,0,0,0,0,0,0,"ok","ok",0,0]
[{"$f":"'Rozliczenie kwartalne'!A147","v":"112"},{"$f":"'Rozliczenie kwartalne'!B147","v":""},{"$f":"'Załącznik nr 2 do rozliczenia'!H140","v":0},{"$f":"IF('Załącznik nr 1 do rozliczenia'!H143<0,ABS('Załącznik nr 1 do rozliczenia'!H143),0)","v":0},{"$f":"'Rozliczenie kwartalne'!G147","v":0},{"$f":"'Rozliczenie kwartalne'!H147","v":0},{"$f":"'Rozliczenie kwartalne'!I147","v":0},{"$f":"'Rozliczenie kwartalne'!F147","v":0},{"$f":"'Rozliczenie kwartalne'!J147","v":0},{"$f":"'Rozliczenie kwartalne'!K147","v":0},{"$f":"'Rozliczenie kwartalne'!L147","v":0},{"$f":"'Rozliczenie kwartalne'!M147","v":0},{"$f":"'Rozliczenie kwartalne'!N147","v":0},null,null,"112",0,0,0,0,0,0,0,0,0,0,0,"ok","ok",0,0]
[{"$f":"'Rozliczenie kwartalne'!A148","v":"113"},{"$f":"'Rozliczenie kwartalne'!B148","v":""},{"$f":"'Załącznik nr 2 do rozliczenia'!H141","v":0},{"$f":"IF('Załącznik nr 1 do rozliczenia'!H144<0,ABS('Załącznik nr 1 do rozliczenia'!H144),0)","v":0},{"$f":"'Rozliczenie kwartalne'!G148","v":0},{"$f":"'Rozliczenie kwartalne'!H148","v":0},{"$f":"'Rozliczenie kwartalne'!I148","v":0},{"$f":"'Rozliczenie kwartalne'!F148","v":0},{"$f":"'Rozliczenie kwartalne'!J148","v":0},{"$f":"'Rozliczenie kwartalne'!K148","v":0},{"$f":"'Rozliczenie kwartalne'!L148","v":0},{"$f":"'Rozliczenie kwartalne'!M148","v":0},{"$f":"'Rozliczenie kwartalne'!N148","v":0},null,null,"113",0,0,0,0,0,0,0,0,0,0,0,"ok","ok",0,0]
[{"$f":"'Rozliczenie kwartalne'!A149","v":"114"},{"$f":"'Rozliczenie kwartalne'!B149","v":""},{"$f":"'Załącznik nr 2 do rozliczenia'!H142","v":0},{"$f":"IF('Załącznik nr 1 do rozliczenia'!H145<0,ABS('Załącznik nr 1 do rozliczenia'!H145),0)","v":0},{"$f":"'Rozliczenie kwartalne'!G149","v":0},{"$f":"'Rozliczenie kwartalne'!H149","v":0},{"$f":"'Rozliczenie kwartalne'!I149","v":0},{"$f":"'Rozliczenie kwartalne'!F149","v":0},{"$f":"'Rozliczenie kwartalne'!J149","v":0},{"$f":"'Rozliczenie kwartalne'!K149","v":0},{"$f":"'Rozliczenie kwartalne'!L149","v":0},{"$f":"'Rozliczenie kwartalne'!M149","v":0},{"$f":"'Rozliczenie kwartalne'!N149","v":0},null,null,"114",0,0,0,0,0,0,0,0,0,0,0,"ok","ok",0,0]
[{"$f":"'Rozliczenie kwartalne'!A150","v":"115"},{"$f":"'Rozliczenie kwartalne'!B150","v":""},{"$f":"'Załącznik nr 2 do rozliczenia'!H143","v":0},{"$f":"IF('Załącznik nr 1 do rozliczenia'!H146<0,ABS('Załącznik nr 1 do rozliczenia'!H146),0)","v":0},{"$f":"'Rozliczenie kwartalne'!G150","v":0},{"$f":"'Rozliczenie kwartalne'!H150","v":0},{"$f":"'Rozliczenie kwartalne'!I150","v":0},{"$f":"'Rozliczenie kwartalne'!F150","v":0},{"$f":"'Rozliczenie kwartalne'!J150","v":0},{"$f":"'Rozliczenie kwartalne'!K150","v":0},{"$f":"'Rozliczenie kwartalne'!L150","v":0},{"$f":"'Rozliczenie kwartalne'!M150","v":0},{"$f":"'Rozliczenie kwartalne'!N150","v":0},null,null,"115",0,0,0,0,0,0,0,0,0,0,0,"ok","ok",0,0]
["Suma",null,{"$f":"SUM(C3:C117)","v":0},{"$f":"SUM(D3:D117)","v":0},null,null,null,{"$f":"'Rozliczenie kwartalne'!F151","v":0},{"$f":"SUM(I3:I117)","v":0},{"$f":"SUM(J3:J117)","v":0},{"$f":"SUM(K3:K117)","v":0},null,0,null,null,null,null,null,null,{"$f":"SUM(T3:T117)","v":0},{"$f":"SUM(U3:U117)","v":0},{"$f":"IFERROR(ROUND(X118*C118,2),0)","v":0},{"$f":"SUM(W3:W117)","v":0},null,null,{"$f":"D118*0.1","v":0}]
[null,null,null,null,null,null,null,null,null,null,{"$f":"'Rozliczenie kwartalne'!M152","v":0},null,{"$f":"'Rozliczenie kwartalne'!N152","v":0}]
[null,null,null,null,null,null,null,null,null,null,{"$f":"'Rozliczenie kwartalne'!M153","v":0},null,{"$f":"'Rozliczenie kwartalne'!N153","v":0}]

{"sheet":"Weryfikacja 2","index":7,"n_rows":120,"n_cols":33,"rows_kept":120,"cut":false,"hidden":true,"merged":[[0,1,0,13]]}
[null,"Dane z wniosku",null,null,null,null,null,null,null,null,null,null,null,null,"ok","Wer.",null,null,null,null,null,null,null,null,null,null,null,null,null,null,null,null,"Zgodność danych z załącznikiem nr 1"]
["l.p","NAZWA LINII","WOZOKILOMETRY","DEFICYT","CENA USŁUGI","WKŁAD WŁASNY/KM [ZŁ]","WKŁAD WŁASNY [%]","WKŁAD WŁASNY [ZŁ]","NALEŻNA KWOTA DOPŁATY","POBRANA KWOTA DOPŁATY","Niewykorzystana kwota dopłaty z poprzedniego okresu rozliczeniowego 1 mies","Wypłacona kwota dopłaty","NIEWYKORZYSTANA KWOTA DOPŁATY","STAWKA MAX Z UMOWY","X",{"$f":"A2","v":"l.p"},"Cena usługi","Wkład własny/km [zł]","Wkład własny [%]","Wkład własny [zł]","Def z ceny usł","Kwota dopłaty","Max kwota dopł na podst wk. wł.","Max kwota dopł na podst wk wł/wzkm ","Kwota dopłaty/wozokm","10% z deficytu ","10 % z ceny usługi","warunek 10%","max 1 (3) zł/wzkm","Różnica w finansowaniu","Różnica def z zaokrągleń",null,{"$f":"IF(Miesiące!P11='Rozliczenie kwartalne'!V81,'Weryfikacja 2'!$O$1,'Weryfikacja 2'!$O$2)","v":"ok"}]
[{"$f":"'Rozliczenie kwartalne'!A36","v":"1"},{"$f":"'Rozliczenie kwartalne'!B36","v":""},{"$f":"'Załącznik nr 2 do rozliczenia'!H150","v":0},{"$f":"IF('Załącznik nr 1 do rozliczenia'!H154<0,ABS('Załącznik nr 1 do rozliczenia'!H154),0)","v":0},{"$f":"'Rozliczenie kwartalne'!G157","v":0},{"$f":"'Rozliczenie kwartalne'!H157","v":0},{"$f":"'Rozliczenie kwartalne'!I157","v":0},{"$f":"'Rozliczenie kwartalne'!F157","v":0},{"$f":"'Rozliczenie kwartalne'!J157","v":0},{"$f":"'Rozliczenie kwartalne'!K157","v":0},{"$f":"'Rozliczenie kwartalne'!L157","v":0},{"$f":"'Rozliczenie kwartalne'!M157","v":0},{"$f":"'Rozliczenie kwartalne'!N157","v":0},3,null,"1",{"$f":"IFERROR(D3/C3,0)","v":0},{"$f":"F3","v":0},{"$f":"IFERROR(R3/Q3,0)","v":0},{"$f":"R3*C3","v":0},{"$f":"E3*C3","v":0},{"$f":"IFERROR(ROUND(X3*C3,2),0)","v":0},{"$f":"ROUND(X3*C3,2)","v":0},{"$f":"IFERROR(IF((D3-H3)/C3>=$N$3,$N$3,(D3-H3)/C3),0)","v":0},{"$f":"IFERROR(ROUND(I3/C3,2),0)","v":0},{"$f":"ROUND(D3*0.1,2)","v":0},{"$f":"Q3*0.1","v":0},{"$f":"IF(R3>=AA3,$O$1,$O$2)","v":"ok"},{"$f":"IF(Y3<=$N$3,$O$1,$O$2)","v":"ok"},{"$f":"(V3+T3)-D3","v":0},{"$f":"D3-U3","v":0}]
[{"$f":"'Rozliczenie kwartalne'!A37","v":"2"},{"$f":"'Rozliczenie kwartalne'!B37","v":""},{"$f":"'Załącznik nr 2 do rozliczenia'!H151","v":0},{"$f":"IF('Załącznik nr 1 do rozliczenia'!H155<0,ABS('Załącznik nr 1 do rozliczenia'!H155),0)","v":0},{"$f":"'Rozliczenie kwartalne'!G158","v":0},{"$f":"'Rozliczenie kwartalne'!H158","v":0},{"$f":"'Rozliczenie kwartalne'!I158","v":0},{"$f":"'Rozliczenie kwartalne'!F158","v":0},{"$f":"'Rozliczenie kwartalne'!J158","v":0},{"$f":"'Rozliczenie kwartalne'!K158","v":0},{"$f":"'Rozliczenie kwartalne'!L158","v":0},{"$f":"'Rozliczenie kwartalne'!M158","v":0},{"$f":"'Rozliczenie kwartalne'!N158","v":0},null,null,{"$f":"A4","v":"2"},{"$f":"IFERROR(D4/C4,0)","v":0},{"$f":"F4","v":0},{"$f":"IFERROR(R4/Q4,0)","v":0},{"$f":"R4*C4","v":0},{"$f":"E4*C4","v":0},{"$f":"IFERROR(ROUND(X4*C4,2),0)","v":0},{"$f":"ROUND(X4*C4,2)","v":0},{"$f":"IFERROR(IF((D4-H4)/C4>=$N$3,$N$3,(D4-H4)/C4),0)","v":0},{"$f":"IFERROR(ROUND(I4/C4,2),0)","v":0},{"$f":"ROUND(D4*0.1,2)","v":0},{"$f":"Q4*0.1","v":0},{"$f":"IF(R4>=AA4,$O$1,$O$2)","v":"ok"},{"$f":"IF(Y4<=$N$3,$O$1,$O$2)","v":"ok"},{"$f":"(V4+T4)-D4","v":0},{"$f":"D4-U4","v":0}]
[{"$f":"'Rozliczenie kwartalne'!A38","v":"3"},{"$f":"'Rozliczenie kwartalne'!B38","v":""},{"$f":"'Załącznik nr 2 do rozliczenia'!H152","v":0},{"$f":"IF('Załącznik nr 1 do rozliczenia'!H156<0,ABS('Załącznik nr 1 do rozliczenia'!H156),0)","v":0},{"$f":"'Rozliczenie kwartalne'!G159","v":0},{"$f":"'Rozliczenie kwartalne'!H159","v":0},{"$f":"'Rozliczenie kwartalne'!I159","v":0},{"$f":"'Rozliczenie kwartalne'!F159","v":0},{"$f":"'Rozliczenie kwartalne'!J159","v":0},{"$f":"'Rozliczenie kwartalne'!K159","v":0},{"$f":"'Rozliczenie kwartalne'!L159","v":0},{"$f":"'Rozliczenie kwartalne'!M159","v":0},{"$f":"'Rozliczenie kwartalne'!N159","v":0},null,null,"3",0,0,0,0,0,0,0,0,0,0,0,"ok","ok",0,0]
[{"$f":"'Rozliczenie kwartalne'!A39","v":"4"},{"$f":"'Rozliczenie kwartalne'!B39","v":""},{"$f":"'Załącznik nr 2 do rozliczenia'!H153","v":0},{"$f":"IF('Załącznik nr 1 do rozliczenia'!H157<0,ABS('Załącznik nr 1 do rozliczenia'!H157),0)","v":0},{"$f":"'Rozliczenie kwartalne'!G160","v":0},{"$f":"'Rozliczenie kwartalne'!H160","v":0},{"$f":"'Rozliczenie kwartalne'!I160","v":0},{"$f":"'Rozliczenie kwartalne'!F160","v":0},{"$f":"'Rozliczenie kwartalne'!J160","v":0},{"$f":"'Rozliczenie kwartalne'!K160","v":0},{"$f":"'Rozliczenie kwartalne'!L160","v":0},{"$f":"'Rozliczenie kwartalne'!M160","v":0},{"$f":"'Rozliczenie kwartalne'!N160","v":0},null,null,"4",0,0,0,0,0,0,0,0,0,0,0,"ok","ok",0,0]
[{"$f":"'Rozliczenie kwartalne'!A40","v":"5"},{"$f":"'Rozliczenie kwartalne'!B40","v":""},{"$f":"'Załącznik nr 2 do rozliczenia'!H154","v":0},{"$f":"IF('Załącznik nr 1 do rozliczenia'!H158<0,ABS('Załącznik nr 1 do rozliczenia'!H158),0)","v":0},{"$f":"'Rozliczenie kwartalne'!G161","v":0},{"$f":"'Rozliczenie kwartalne'!H161","v":0},{"$f":"'Rozliczenie kwartalne'!I161","v":0},{"$f":"'Rozliczenie kwartalne'!F161","v":0},{"$f":"'Rozliczenie kwartalne'!J161","v":0},{"$f":"'Rozliczenie kwartalne'!K161","v":0},{"$f":"'Rozliczenie kwartalne'!L161","v":0},{"$f":"'Rozliczenie kwartalne'!M161","v":0},{"$f":"'Rozliczenie kwartalne'!N161","v":0},null,null,"5",0,0,0,0,0,0,0,0,0,0,0,"ok","ok",0,0]
[{"$f":"'Rozliczenie kwartalne'!A41","v":"6"},{"$f":"'Rozliczenie kwartalne'!B41","v":""},{"$f":"'Załącznik nr 2 do rozliczenia'!H155","v":0},{"$f":"IF('Załącznik nr 1 do rozliczenia'!H159<0,ABS('Załącznik nr 1 do rozliczenia'!H159),0)","v":0},{"$f":"'Rozliczenie kwartalne'!G162","v":0},{"$f":"'Rozliczenie kwartalne'!H162","v":0},{"$f":"'Rozliczenie kwartalne'!I162","v":0},{"$f":"'Rozliczenie kwartalne'!F162","v":0},{"$f":"'Rozliczenie kwartalne'!J162","v":0},{"$f":"'Rozliczenie kwartalne'!K162","v":0},{"$f":"'Rozliczenie kwartalne'!L162","v":0},{"$f":"'Rozliczenie kwartalne'!M162","v":0},{"$f":"'Rozliczenie kwartalne'!N162","v":0},null,null,"6",0,0,0,0,0,0,0,0,0,0,0,"ok","ok",0,0]
[{"$f":"'Rozliczenie kwartalne'!A42","v":"7"},{"$f":"'Rozliczenie kwartalne'!B42","v":""},{"$f":"'Załącznik nr 2 do rozliczenia'!H156","v":0},{"$f":"IF('Załącznik nr 1 do rozliczenia'!H160<0,ABS('Załącznik nr 1 do rozliczenia'!H160),0)","v":0},{"$f":"'Rozliczenie kwartalne'!G163","v":0},{"$f":"'Rozliczenie kwartalne'!H163","v":0},{"$f":"'Rozliczenie kwartalne'!I163","v":0},{"$f":"'Rozliczenie kwartalne'!F163","v":0},{"$f":"'Rozliczenie kwartalne'!J163","v":0},{"$f":"'Rozliczenie kwartalne'!K163","v":0},{"$f":"'Rozliczenie kwartalne'!L163","v":0},{"$f":"'Rozliczenie kwartalne'!M163","v":0},{"$f":"'Rozliczenie kwartalne'!N163","v":0},null,null,"7",0,0,0,0,0,0,0,0,0,0,0,"ok","ok",0,0]
[{"$f":"'Rozliczenie kwartalne'!A43","v":"8"},{"$f":"'Rozliczenie kwartalne'!B43","v":""},{"$f":"'Załącznik nr 2 do rozliczenia'!H157","v":0},{"$f":"IF('Załącznik nr 1 do rozliczenia'!H161<0,ABS('Załącznik nr 1 do rozliczenia'!H161),0)","v":0},{"$f":"'Rozliczenie kwartalne'!G164","v":0},{"$f":"'Rozliczenie kwartalne'!H164","v":0},{"$f":"'Rozliczenie kwartalne'!I164","v":0},{"$f":"'Rozliczenie kwartalne'!F164","v":0},{"$f":"'Rozliczenie kwartalne'!J164","v":0},{"$f":"'Rozliczenie kwartalne'!K164","v":0},{"$f":"'Rozliczenie kwartalne'!L164","v":0},{"$f":"'Rozliczenie kwartalne'!M164","v":0},{"$f":"'Rozliczenie kwartalne'!N164","v":0},null,null,"8",0,0,0,0,0,0,0,0,0,0,0,"ok","ok",0,0]
[{"$f":"'Rozliczenie kwartalne'!A44","v":"9"},{"$f":"'Rozliczenie kwartalne'!B44","v":""},{"$f":"'Załącznik nr 2 do rozliczenia'!H158","v":0},{"$f":"IF('Załącznik nr 1 do rozliczenia'!H162<0,ABS('Załącznik nr 1 do rozliczenia'!H162),0)","v":0},{"$f":"'Rozliczenie kwartalne'!G165","v":0},{"$f":"'Rozliczenie kwartalne'!H165","v":0},{"$f":"'Rozliczenie kwartalne'!I165","v":0},{"$f":"'Rozliczenie kwartalne'!F165","v":0},{"$f":"'Rozliczenie kwartalne'!J165","v":0},{"$f":"'Rozliczenie kwartalne'!K165","v":0},{"$f":"'Rozliczenie kwartalne'!L165","v":0},{"$f":"'Rozliczenie kwartalne'!M165","v":0},{"$f":"'Rozliczenie kwartalne'!N165","v":0},null,null,"9",0,0,0,0,0,0,0,0,0,0,0,"ok","ok",0,0]
[{"$f":"'Rozliczenie kwartalne'!A45","v":"10"},{"$f":"'Rozliczenie kwartalne'!B45","v":""},{"$f":"'Załącznik nr 2 do rozliczenia'!H159","v":0},{"$f":"IF('Załącznik nr 1 do rozliczenia'!H163<0,ABS('Załącznik nr 1 do rozliczenia'!H163),0)","v":0},{"$f":"'Rozliczenie kwartalne'!G166","v":0},{"$f":"'Rozliczenie kwartalne'!H166","v":0},{"$f":"'Rozliczenie kwartalne'!I166","v":0},{"$f":"'Rozliczenie kwartalne'!F166","v":0},{"$f":"'Rozliczenie kwartalne'!J166","v":0},{"$f":"'Rozliczenie kwartalne'!K166","v":0},{"$f":"'Rozliczenie kwartalne'!L166","v":0},{"$f":"'Rozliczenie kwartalne'!M166","v":0},{"$f":"'Rozliczenie kwartalne'!N166","v":0},null,null,"10",0,0,0,0,0,0,0,0,0,0,0,"ok","ok",0,0]
[{"$f":"'Rozliczenie kwartalne'!A46","v":"11"},{"$f":"'Rozliczenie kwartalne'!B46","v":""},{"$f":"'Załącznik nr 2 do rozliczenia'!H160","v":0},{"$f":"IF('Załącznik nr 1 do rozliczenia'!H164<0,ABS('Załącznik nr 1 do rozliczenia'!H164),0)","v":0},{"$f":"'Rozliczenie kwartalne'!G167","v":0},{"$f":"'Rozliczenie kwartalne'!H167","v":0},{"$f":"'Rozliczenie kwartalne'!I167","v":0},{"$f":"'Rozliczenie kwartalne'!F167","v":0},{"$f":"'Rozliczenie kwartalne'!J167","v":0},{"$f":"'Rozliczenie kwartalne'!K167","v":0},{"$f":"'Rozliczenie kwartalne'!L167","v":0},{"$f":"'Rozliczenie kwartalne'!M167","v":0},{"$f":"'Rozliczenie kwartalne'!N167","v":0},null,null,"11",0,0,0,0,0,0,0,0,0,0,0,"ok","ok",0,0]
[{"$f":"'Rozliczenie kwartalne'!A47","v":"12"},{"$f":"'Rozliczenie kwartalne'!B47","v":""},{"$f":"'Załącznik nr 2 do rozliczenia'!H161","v":0},{"$f":"IF('Załącznik nr 1 do rozliczenia'!H165<0,ABS('Załącznik nr 1 do rozliczenia'!H165),0)","v":0},{"$f":"'Rozliczenie kwartalne'!G168","v":0},{"$f":"'Rozliczenie kwartalne'!H168","v":0},{"$f":"'Rozliczenie kwartalne'!I168","v":0},{"$f":"'Rozliczenie kwartalne'!F168","v":0},{"$f":"'Rozliczenie kwartalne'!J168","v":0},{"$f":"'Rozliczenie kwartalne'!K168","v":0},{"$f":"'Rozliczenie kwartalne'!L168","v":0},{"$f":"'Rozliczenie kwartalne'!M168","v":0},{"$f":"'Rozliczenie kwartalne'!N168","v":0},null,null,"12",0,0,0,0,0,0,0,0,0,0,0,"ok","ok",0,0]
[{"$f":"'Rozliczenie kwartalne'!A48","v":"13"},{"$f":"'Rozliczenie kwartalne'!B48","v":""},{"$f":"'Załącznik nr 2 do rozliczenia'!H162","v":0},{"$f":"IF('Załącznik nr 1 do rozliczenia'!H166<0,ABS('Załącznik nr 1 do rozliczenia'!H166),0)","v":0},{"$f":"'Rozliczenie kwartalne'!G169","v":0},{"$f":"'Rozliczenie kwartalne'!H169","v":0},{"$f":"'Rozliczenie kwartalne'!I169","v":0},{"$f":"'Rozliczenie kwartalne'!F169","v":0},{"$f":"'Rozliczenie kwartalne'!J169","v":0},{"$f":"'Rozliczenie kwartalne'!K169","v":0},{"$f":"'Rozliczenie kwartalne'!L169","v":0},{"$f":"'Rozliczenie kwartalne'!M169","v":0},{"$f":"'Rozliczenie kwartalne'!N169","v":0},null,null,"13",0,0,0,0,0,0,0,0,0,0,0,"ok","ok",0,0]
[{"$f":"'Rozliczenie kwartalne'!A49","v":"14"},{"$f":"'Rozliczenie kwartalne'!B49","v":""},{"$f":"'Załącznik nr 2 do rozliczenia'!H163","v":0},{"$f":"IF('Załącznik nr 1 do rozliczenia'!H167<0,ABS('Załącznik nr 1 do rozliczenia'!H167),0)","v":0},{"$f":"'Rozliczenie kwartalne'!G170","v":0},{"$f":"'Rozliczenie kwartalne'!H170","v":0},{"$f":"'Rozliczenie kwartalne'!I170","v":0},{"$f":"'Rozliczenie kwartalne'!F170","v":0},{"$f":"'Rozliczenie kwartalne'!J170","v":0},{"$f":"'Rozliczenie kwartalne'!K170","v":0},{"$f":"'Rozliczenie kwartalne'!L170","v":0},{"$f":"'Rozliczenie kwartalne'!M170","v":0},{"$f":"'Rozliczenie kwartalne'!N170","v":0},null,null,"14",0,0,0,0,0,0,0,0,0,0,0,"ok","ok",0,0]
[{"$f":"'Rozliczenie kwartalne'!A50","v":"15"},{"$f":"'Rozliczenie kwartalne'!B50","v":""},{"$f":"'Załącznik nr 2 do rozliczenia'!H164","v":0},{"$f":"IF('Załącznik nr 1 do rozliczenia'!H168<0,ABS('Załącznik nr 1 do rozliczenia'!H168),0)","v":0},{"$f":"'Rozliczenie kwartalne'!G171","v":0},{"$f":"'Rozliczenie kwartalne'!H171","v":0},{"$f":"'Rozliczenie kwartalne'!I171","v":0},{"$f":"'Rozliczenie kwartalne'!F171","v":0},{"$f":"'Rozliczenie kwartalne'!J171","v":0},{"$f":"'Rozliczenie kwartalne'!K171","v":0},{"$f":"'Rozliczenie kwartalne'!L171","v":0},{"$f":"'Rozliczenie kwartalne'!M171","v":0},{"$f":"'Rozliczenie kwartalne'!N171","v":0},null,null,"15",0,0,0,0,0,0,0,0,0,0,0,"ok","ok",0,0]
[{"$f":"'Rozliczenie kwartalne'!A51","v":"16"},{"$f":"'Rozliczenie kwartalne'!B51","v":""},{"$f":"'Załącznik nr 2 do rozliczenia'!H165","v":0},{"$f":"IF('Załącznik nr 1 do rozliczenia'!H169<0,ABS('Załącznik nr 1 do rozliczenia'!H169),0)","v":0},{"$f":"'Rozliczenie kwartalne'!G172","v":0},{"$f":"'Rozliczenie kwartalne'!H172","v":0},{"$f":"'Rozliczenie kwartalne'!I172","v":0},{"$f":"'Rozliczenie kwartalne'!F172","v":0},{"$f":"'Rozliczenie kwartalne'!J172","v":0},{"$f":"'Rozliczenie kwartalne'!K172","v":0},{"$f":"'Rozliczenie kwartalne'!L172","v":0},{"$f":"'Rozliczenie kwartalne'!M172","v":0},{"$f":"'Rozliczenie kwartalne'!N172","v":0},null,null,"16",0,0,0,0,0,0,0,0,0,0,0,"ok","ok",0,0]
[{"$f":"'Rozliczenie kwartalne'!A52","v":"17"},{"$f":"'Rozliczenie kwartalne'!B52","v":""},{"$f":"'Załącznik nr 2 do rozliczenia'!H166","v":0},{"$f":"IF('Załącznik nr 1 do rozliczenia'!H170<0,ABS('Załącznik nr 1 do rozliczenia'!H170),0)","v":0},{"$f":"'Rozliczenie kwartalne'!G173","v":0},{"$f":"'Rozliczenie kwartalne'!H173","v":0},{"$f":"'Rozliczenie kwartalne'!I173","v":0},{"$f":"'Rozliczenie kwartalne'!F173","v":0},{"$f":"'Rozliczenie kwartalne'!J173","v":0},{"$f":"'Rozliczenie kwartalne'!K173","v":0},{"$f":"'Rozliczenie kwartalne'!L173","v":0},{"$f":"'Rozliczenie kwartalne'!M173","v":0},{"$f":"'Rozliczenie kwartalne'!N173","v":0},null,null,"17",0,0,0,0,0,0,0,0,0,0,0,"ok","ok",0,0]
[{"$f":"'Rozliczenie kwartalne'!A53","v":"18"},{"$f":"'Rozliczenie kwartalne'!B53","v":""},{"$f":"'Załącznik nr 2 do rozliczenia'!H167","v":0},{"$f":"IF('Załącznik nr 1 do rozliczenia'!H171<0,ABS('Załącznik nr 1 do rozliczenia'!H171),0)","v":0},{"$f":"'Rozliczenie kwartalne'!G174","v":0},{"$f":"'Rozliczenie kwartalne'!H174","v":0},{"$f":"'Rozliczenie kwartalne'!I174","v":0},{"$f":"'Rozliczenie kwartalne'!F174","v":0},{"$f":"'Rozliczenie kwartalne'!J174","v":0},{"$f":"'Rozliczenie kwartalne'!K174","v":0},{"$f":"'Rozliczenie kwartalne'!L174","v":0},{"$f":"'Rozliczenie kwartalne'!M174","v":0},{"$f":"'Rozliczenie kwartalne'!N174","v":0},null,null,"18",0,0,0,0,0,0,0,0,0,0,0,"ok","ok",0,0]
[{"$f":"'Rozliczenie kwartalne'!A54","v":"19"},{"$f":"'Rozliczenie kwartalne'!B54","v":""},{"$f":"'Załącznik nr 2 do rozliczenia'!H168","v":0},{"$f":"IF('Załącznik nr 1 do rozliczenia'!H172<0,ABS('Załącznik nr 1 do rozliczenia'!H172),0)","v":0},{"$f":"'Rozliczenie kwartalne'!G175","v":0},{"$f":"'Rozliczenie kwartalne'!H175","v":0},{"$f":"'Rozliczenie kwartalne'!I175","v":0},{"$f":"'Rozliczenie kwartalne'!F175","v":0},{"$f":"'Rozliczenie kwartalne'!J175","v":0},{"$f":"'Rozliczenie kwartalne'!K175","v":0},{"$f":"'Rozliczenie kwartalne'!L175","v":0},{"$f":"'Rozliczenie kwartalne'!M175","v":0},{"$f":"'Rozliczenie kwartalne'!N175","v":0},null,null,"19",0,0,0,0,0,0,0,0,0,0,0,"ok","ok",0,0]
[{"$f":"'Rozliczenie kwartalne'!A55","v":"20"},{"$f":"'Rozliczenie kwartalne'!B55","v":""},{"$f":"'Załącznik nr 2 do rozliczenia'!H169","v":0},{"$f":"IF('Załącznik nr 1 do rozliczenia'!H173<0,ABS('Załącznik nr 1 do rozliczenia'!H173),0)","v":0},{"$f":"'Rozliczenie kwartalne'!G176","v":0},{"$f":"'Rozliczenie kwartalne'!H176","v":0},{"$f":"'Rozliczenie kwartalne'!I176","v":0},{"$f":"'Rozliczenie kwartalne'!F176","v":0},{"$f":"'Rozliczenie kwartalne'!J176","v":0},{"$f":"'Rozliczenie kwartalne'!K176","v":0},{"$f":"'Rozliczenie kwartalne'!L176","v":0},{"$f":"'Rozliczenie kwartalne'!M176","v":0},{"$f":"'Rozliczenie kwartalne'!N176","v":0},null,null,"20",0,0,0,0,0,0,0,0,0,0,0,"ok","ok",0,0]
[{"$f":"'Rozliczenie kwartalne'!A56","v":"21"},{"$f":"'Rozliczenie kwartalne'!B56","v":""},{"$f":"'Załącznik nr 2 do rozliczenia'!H170","v":0},{"$f":"IF('Załącznik nr 1 do rozliczenia'!H174<0,ABS('Załącznik nr 1 do rozliczenia'!H174),0)","v":0},{"$f":"'Rozliczenie kwartalne'!G177","v":0},{"$f":"'Rozliczenie kwartalne'!H177","v":0},{"$f":"'Rozliczenie kwartalne'!I177","v":0},{"$f":"'Rozliczenie kwartalne'!F177","v":0},{"$f":"'Rozliczenie kwartalne'!J177","v":0},{"$f":"'Rozliczenie kwartalne'!K177","v":0},{"$f":"'Rozliczenie kwartalne'!L177","v":0},{"$f":"'Rozliczenie kwartalne'!M177","v":0},{"$f":"'Rozliczenie kwartalne'!N177","v":0},null,null,"21",0,0,0,0,0,0,0,0,0,0,0,"ok","ok",0,0]
[{"$f":"'Rozliczenie kwartalne'!A57","v":"22"},{"$f":"'Rozliczenie kwartalne'!B57","v":""},{"$f":"'Załącznik nr 2 do rozliczenia'!H171","v":0},{"$f":"IF('Załącznik nr 1 do rozliczenia'!H175<0,ABS('Załącznik nr 1 do rozliczenia'!H175),0)","v":0},{"$f":"'Rozliczenie kwartalne'!G178","v":0},{"$f":"'Rozliczenie kwartalne'!H178","v":0},{"$f":"'Rozliczenie kwartalne'!I178","v":0},{"$f":"'Rozliczenie kwartalne'!F178","v":0},{"$f":"'Rozliczenie kwartalne'!J178","v":0},{"$f":"'Rozliczenie kwartalne'!K178","v":0},{"$f":"'Rozliczenie kwartalne'!L178","v":0},{"$f":"'Rozliczenie kwartalne'!M178","v":0},{"$f":"'Rozliczenie kwartalne'!N178","v":0},null,null,"22",0,0,0,0,0,0,0,0,0,0,0,"ok","ok",0,0]
[{"$f":"'Rozliczenie kwartalne'!A58","v":"23"},{"$f":"'Rozliczenie kwartalne'!B58","v":""},{"$f":"'Załącznik nr 2 do rozliczenia'!H172","v":0},{"$f":"IF('Załącznik nr 1 do rozliczenia'!H176<0,ABS('Załącznik nr 1 do rozliczenia'!H176),0)","v":0},{"$f":"'Rozliczenie kwartalne'!G179","v":0},{"$f":"'Rozliczenie kwartalne'!H179","v":0},{"$f":"'Rozliczenie kwartalne'!I179","v":0},{"$f":"'Rozliczenie kwartalne'!F179","v":0},{"$f":"'Rozliczenie kwartalne'!J179","v":0},{"$f":"'Rozliczenie kwartalne'!K179","v":0},{"$f":"'Rozliczenie kwartalne'!L179","v":0},{"$f":"'Rozliczenie kwartalne'!M179","v":0},{"$f":"'Rozliczenie kwartalne'!N179","v":0},null,null,"23",0,0,0,0,0,0,0,0,0,0,0,"ok","ok",0,0]
[{"$f":"'Rozliczenie kwartalne'!A59","v":"24"},{"$f":"'Rozliczenie kwartalne'!B59","v":""},{"$f":"'Załącznik nr 2 do rozliczenia'!H173","v":0},{"$f":"IF('Załącznik nr 1 do rozliczenia'!H177<0,ABS('Załącznik nr 1 do rozliczenia'!H177),0)","v":0},{"$f":"'Rozliczenie kwartalne'!G180","v":0},{"$f":"'Rozliczenie kwartalne'!H180","v":0},{"$f":"'Rozliczenie kwartalne'!I180","v":0},{"$f":"'Rozliczenie kwartalne'!F180","v":0},{"$f":"'Rozliczenie kwartalne'!J180","v":0},{"$f":"'Rozliczenie kwartalne'!K180","v":0},{"$f":"'Rozliczenie kwartalne'!L180","v":0},{"$f":"'Rozliczenie kwartalne'!M180","v":0},{"$f":"'Rozliczenie kwartalne'!N180","v":0},null,null,"24",0,0,0,0,0,0,0,0,0,0,0,"ok","ok",0,0]
[{"$f":"'Rozliczenie kwartalne'!A60","v":"25"},{"$f":"'Rozliczenie kwartalne'!B60","v":""},{"$f":"'Załącznik nr 2 do rozliczenia'!H174","v":0},{"$f":"IF('Załącznik nr 1 do rozliczenia'!H178<0,ABS('Załącznik nr 1 do rozliczenia'!H178),0)","v":0},{"$f":"'Rozliczenie kwartalne'!G181","v":0},{"$f":"'Rozliczenie kwartalne'!H181","v":0},{"$f":"'Rozliczenie kwartalne'!I181","v":0},{"$f":"'Rozliczenie kwartalne'!F181","v":0},{"$f":"'Rozliczenie kwartalne'!J181","v":0},{"$f":"'Rozliczenie kwartalne'!K181","v":0},{"$f":"'Rozliczenie kwartalne'!L181","v":0},{"$f":"'Rozliczenie kwartalne'!M181","v":0},{"$f":"'Rozliczenie kwartalne'!N181","v":0},null,null,"25",0,0,0,0,0,0,0,0,0,0,0,"ok","ok",0,0]
[{"$f":"'Rozliczenie kwartalne'!A61","v":"26"},{"$f":"'Rozliczenie kwartalne'!B61","v":""},{"$f":"'Załącznik nr 2 do rozliczenia'!H175","v":0},{"$f":"IF('Załącznik nr 1 do rozliczenia'!H179<0,ABS('Załącznik nr 1 do rozliczenia'!H179),0)","v":0},{"$f":"'Rozliczenie kwartalne'!G182","v":0},{"$f":"'Rozliczenie kwartalne'!H182","v":0},{"$f":"'Rozliczenie kwartalne'!I182","v":0},{"$f":"'Rozliczenie kwartalne'!F182","v":0},{"$f":"'Rozliczenie kwartalne'!J182","v":0},{"$f":"'Rozliczenie kwartalne'!K182","v":0},{"$f":"'Rozliczenie kwartalne'!L182","v":0},{"$f":"'Rozliczenie kwartalne'!M182","v":0},{"$f":"'Rozliczenie kwartalne'!N182","v":0},null,null,"26",0,0,0,0,0,0,0,0,0,0,0,"ok","ok",0,0]
[{"$f":"'Rozliczenie kwartalne'!A62","v":"27"},{"$f":"'Rozliczenie kwartalne'!B62","v":""},{"$f":"'Załącznik nr 2 do rozliczenia'!H176","v":0},{"$f":"IF('Załącznik nr 1 do rozliczenia'!H180<0,ABS('Załącznik nr 1 do rozliczenia'!H180),0)","v":0},{"$f":"'Rozliczenie kwartalne'!G183","v":0},{"$f":"'Rozliczenie kwartalne'!H183","v":0},{"$f":"'Rozliczenie kwartalne'!I183","v":0},{"$f":"'Rozliczenie kwartalne'!F183","v":0},{"$f":"'Rozliczenie kwartalne'!J183","v":0},{"$f":"'Rozliczenie kwartalne'!K183","v":0},{"$f":"'Rozliczenie kwartalne'!L183","v":0},{"$f":"'Rozliczenie kwartalne'!M183","v":0},{"$f":"'Rozliczenie kwartalne'!N183","v":0},null,null,"27",0,0,0,0,0,0,0,0,0,0,0,"ok","ok",0,0]
[{"$f":"'Rozliczenie kwartalne'!A63","v":"28"},{"$f":"'Rozliczenie kwartalne'!B63","v":""},{"$f":"'Załącznik nr 2 do rozliczenia'!H177","v":0},{"$f":"IF('Załącznik nr 1 do rozliczenia'!H181<0,ABS('Załącznik nr 1 do rozliczenia'!H181),0)","v":0},{"$f":"'Rozliczenie kwartalne'!G184","v":0},{"$f":"'Rozliczenie kwartalne'!H184","v":0},{"$f":"'Rozliczenie kwartalne'!I184","v":0},{"$f":"'Rozliczenie kwartalne'!F184","v":0},{"$f":"'Rozliczenie kwartalne'!J184","v":0},{"$f":"'Rozliczenie kwartalne'!K184","v":0},{"$f":"'Rozliczenie kwartalne'!L184","v":0},{"$f":"'Rozliczenie kwartalne'!M184","v":0},{"$f":"'Rozliczenie kwartalne'!N184","v":0},null,null,"28",0,0,0,0,0,0,0,0,0,0,0,"ok","ok",0,0]
[{"$f":"'Rozliczenie kwartalne'!A64","v":"29"},{"$f":"'Rozliczenie kwartalne'!B64","v":""},{"$f":"'Załącznik nr 2 do rozliczenia'!H178","v":0},{"$f":"IF('Załącznik nr 1 do rozliczenia'!H182<0,ABS('Załącznik nr 1 do rozliczenia'!H182),0)","v":0},{"$f":"'Rozliczenie kwartalne'!G185","v":0},{"$f":"'Rozliczenie kwartalne'!H185","v":0},{"$f":"'Rozliczenie kwartalne'!I185","v":0},{"$f":"'Rozliczenie kwartalne'!F185","v":0},{"$f":"'Rozliczenie kwartalne'!J185","v":0},{"$f":"'Rozliczenie kwartalne'!K185","v":0},{"$f":"'Rozliczenie kwartalne'!L185","v":0},{"$f":"'Rozliczenie kwartalne'!M185","v":0},{"$f":"'Rozliczenie kwartalne'!N185","v":0},null,null,"29",0,0,0,0,0,0,0,0,0,0,0,"ok","ok",0,0]
[{"$f":"'Rozliczenie kwartalne'!A65","v":"30"},{"$f":"'Rozliczenie kwartalne'!B65","v":""},{"$f":"'Załącznik nr 2 do rozliczenia'!H179","v":0},{"$f":"IF('Załącznik nr 1 do rozliczenia'!H183<0,ABS('Załącznik nr 1 do rozliczenia'!H183),0)","v":0},{"$f":"'Rozliczenie kwartalne'!G186","v":0},{"$f":"'Rozliczenie kwartalne'!H186","v":0},{"$f":"'Rozliczenie kwartalne'!I186","v":0},{"$f":"'Rozliczenie kwartalne'!F186","v":0},{"$f":"'Rozliczenie kwartalne'!J186","v":0},{"$f":"'Rozliczenie kwartalne'!K186","v":0},{"$f":"'Rozliczenie kwartalne'!L186","v":0},{"$f":"'Rozliczenie kwartalne'!M186","v":0},{"$f":"'Rozliczenie kwartalne'!N186","v":0},null,null,"30",0,0,0,0,0,0,0,0,0,0,0,"ok","ok",0,0]
[{"$f":"'Rozliczenie kwartalne'!A66","v":"31"},{"$f":"'Rozliczenie kwartalne'!B66","v":""},{"$f":"'Załącznik nr 2 do rozliczenia'!H180","v":0},{"$f":"IF('Załącznik nr 1 do rozliczenia'!H184<0,ABS('Załącznik nr 1 do rozliczenia'!H184),0)","v":0},{"$f":"'Rozliczenie kwartalne'!G187","v":0},{"$f":"'Rozliczenie kwartalne'!H187","v":0},{"$f":"'Rozliczenie kwartalne'!I187","v":0},{"$f":"'Rozliczenie kwartalne'!F187","v":0},{"$f":"'Rozliczenie kwartalne'!J187","v":0},{"$f":"'Rozliczenie kwartalne'!K187","v":0},{"$f":"'Rozliczenie kwartalne'!L187","v":0},{"$f":"'Rozliczenie kwartalne'!M187","v":0},{"$f":"'Rozliczenie kwartalne'!N187","v":0},null,null,"31",0,0,0,0,0,0,0,0,0,0,0,"ok","ok",0,0]
[{"$f":"'Rozliczenie kwartalne'!A67","v":"32"},{"$f":"'Rozliczenie kwartalne'!B67","v":""},{"$f":"'Załącznik nr 2 do rozliczenia'!H181","v":0},{"$f":"IF('Załącznik nr 1 do rozliczenia'!H185<0,ABS('Załącznik nr 1 do rozliczenia'!H185),0)","v":0},{"$f":"'Rozliczenie kwartalne'!G188","v":0},{"$f":"'Rozliczenie kwartalne'!H188","v":0},{"$f":"'Rozliczenie kwartalne'!I188","v":0},{"$f":"'Rozliczenie kwartalne'!F188","v":0},{"$f":"'Rozliczenie kwartalne'!J188","v":0},{"$f":"'Rozliczenie kwartalne'!K188","v":0},{"$f":"'Rozliczenie kwartalne'!L188","v":0},{"$f":"'Rozliczenie kwartalne'!M188","v":0},{"$f":"'Rozliczenie kwartalne'!N188","v":0},null,null,"32",0,0,0,0,0,0,0,0,0,0,0,"ok","ok",0,0]
[{"$f":"'Rozliczenie kwartalne'!A68","v":"33"},{"$f":"'Rozliczenie kwartalne'!B68","v":""},{"$f":"'Załącznik nr 2 do rozliczenia'!H182","v":0},{"$f":"IF('Załącznik nr 1 do rozliczenia'!H186<0,ABS('Załącznik nr 1 do rozliczenia'!H186),0)","v":0},{"$f":"'Rozliczenie kwartalne'!G189","v":0},{"$f":"'Rozliczenie kwartalne'!H189","v":0},{"$f":"'Rozliczenie kwartalne'!I189","v":0},{"$f":"'Rozliczenie kwartalne'!F189","v":0},{"$f":"'Rozliczenie kwartalne'!J189","v":0},{"$f":"'Rozliczenie kwartalne'!K189","v":0},{"$f":"'Rozliczenie kwartalne'!L189","v":0},{"$f":"'Rozliczenie kwartalne'!M189","v":0},{"$f":"'Rozliczenie kwartalne'!N189","v":0},null,null,"33",0,0,0,0,0,0,0,0,0,0,0,"ok","ok",0,0]
[{"$f":"'Rozliczenie kwartalne'!A69","v":"34"},{"$f":"'Rozliczenie kwartalne'!B69","v":""},{"$f":"'Załącznik nr 2 do rozliczenia'!H183","v":0},{"$f":"IF('Załącznik nr 1 do rozliczenia'!H187<0,ABS('Załącznik nr 1 do rozliczenia'!H187),0)","v":0},{"$f":"'Rozliczenie kwartalne'!G190","v":0},{"$f":"'Rozliczenie kwartalne'!H190","v":0},{"$f":"'Rozliczenie kwartalne'!I190","v":0},{"$f":"'Rozliczenie kwartalne'!F190","v":0},{"$f":"'Rozliczenie kwartalne'!J190","v":0},{"$f":"'Rozliczenie kwartalne'!K190","v":0},{"$f":"'Rozliczenie kwartalne'!L190","v":0},{"$f":"'Rozliczenie kwartalne'!M190","v":0},{"$f":"'Rozliczenie kwartalne'!N190","v":0},null,null,"34",0,0,0,0,0,0,0,0,0,0,0,"ok","ok",0,0]
[{"$f":"'Rozliczenie kwartalne'!A70","v":"35"},{"$f":"'Rozliczenie kwartalne'!B70","v":""},{"$f":"'Załącznik nr 2 do rozliczenia'!H184","v":0},{"$f":"IF('Załącznik nr 1 do rozliczenia'!H188<0,ABS('Załącznik nr 1 do rozliczenia'!H188),0)","v":0},{"$f":"'Rozliczenie kwartalne'!G191","v":0},{"$f":"'Rozliczenie kwartalne'!H191","v":0},{"$f":"'Rozliczenie kwartalne'!I191","v":0},{"$f":"'Rozliczenie kwartalne'!F191","v":0},{"$f":"'Rozliczenie kwartalne'!J191","v":0},{"$f":"'Rozliczenie kwartalne'!K191","v":0},{"$f":"'Rozliczenie kwartalne'!L191","v":0},{"$f":"'Rozliczenie kwartalne'!M191","v":0},{"$f":"'Rozliczenie kwartalne'!N191","v":0},null,null,"35",0,0,0,0,0,0,0,0,0,0,0,"ok","ok",0,0]
[{"$f":"'Rozliczenie kwartalne'!A71","v":"36"},{"$f":"'Rozliczenie kwartalne'!B71","v":""},{"$f":"'Załącznik nr 2 do rozliczenia'!H185","v":0},{"$f":"IF('Załącznik nr 1 do rozliczenia'!H189<0,ABS('Załącznik nr 1 do rozliczenia'!H189),0)","v":0},{"$f":"'Rozliczenie kwartalne'!G192","v":0},{"$f":"'Rozliczenie kwartalne'!H192","v":0},{"$f":"'Rozliczenie kwartalne'!I192","v":0},{"$f":"'Rozliczenie kwartalne'!F192","v":0},{"$f":"'Rozliczenie kwartalne'!J192","v":0},{"$f":"'Rozliczenie kwartalne'!K192","v":0},{"$f":"'Rozliczenie kwartalne'!L192","v":0},{"$f":"'Rozliczenie kwartalne'!M192","v":0},{"$f":"'Rozliczenie kwartalne'!N192","v":0},null,null,"36",0,0,0,0,0,0,0,0,0,0,0,"ok","ok",0,0]
[{"$f":"'Rozliczenie kwartalne'!A72","v":"37"},{"$f":"'Rozliczenie kwartalne'!B72","v":""},{"$f":"'Załącznik nr 2 do rozliczenia'!H186","v":0},{"$f":"IF('Załącznik nr 1 do rozliczenia'!H190<0,ABS('Załącznik nr 1 do rozliczenia'!H190),0)","v":0},{"$f":"'Rozliczenie kwartalne'!G193","v":0},{"$f":"'Rozliczenie kwartalne'!H193","v":0},{"$f":"'Rozliczenie kwartalne'!I193","v":0},{"$f":"'Rozliczenie kwartalne'!F193","v":0},{"$f":"'Rozliczenie kwartalne'!J193","v":0},{"$f":"'Rozliczenie kwartalne'!K193","v":0},{"$f":"'Rozliczenie kwartalne'!L193","v":0},{"$f":"'Rozliczenie kwartalne'!M193","v":0},{"$f":"'Rozliczenie kwartalne'!N193","v":0},null,null,"37",0,0,0,0,0,0,0,0,0,0,0,"ok","ok",0,0]
[{"$f":"'Rozliczenie kwartalne'!A73","v":"38"},{"$f":"'Rozliczenie kwartalne'!B73","v":""},{"$f":"'Załącznik nr 2 do rozliczenia'!H187","v":0},{"$f":"IF('Załącznik nr 1 do rozliczenia'!H191<0,ABS('Załącznik nr 1 do rozliczenia'!H191),0)","v":0},{"$f":"'Rozliczenie kwartalne'!G194","v":0},{"$f":"'Rozliczenie kwartalne'!H194","v":0},{"$f":"'Rozliczenie kwartalne'!I194","v":0},{"$f":"'Rozliczenie kwartalne'!F194","v":0},{"$f":"'Rozliczenie kwartalne'!J194","v":0},{"$f":"'Rozliczenie kwartalne'!K194","v":0},{"$f":"'Rozliczenie kwartalne'!L194","v":0},{"$f":"'Rozliczenie kwartalne'!M194","v":0},{"$f":"'Rozliczenie kwartalne'!N194","v":0},null,null,"38",0,0,0,0,0,0,0,0,0,0,0,"ok","ok",0,0]
[{"$f":"'Rozliczenie kwartalne'!A74","v":"39"},{"$f":"'Rozliczenie kwartalne'!B74","v":""},{"$f":"'Załącznik nr 2 do rozliczenia'!H188","v":0},{"$f":"IF('Załącznik nr 1 do rozliczenia'!H192<0,ABS('Załącznik nr 1 do rozliczenia'!H192),0)","v":0},{"$f":"'Rozliczenie kwartalne'!G195","v":0},{"$f":"'Rozliczenie kwartalne'!H195","v":0},{"$f":"'Rozliczenie kwartalne'!I195","v":0},{"$f":"'Rozliczenie kwartalne'!F195","v":0},{"$f":"'Rozliczenie kwartalne'!J195","v":0},{"$f":"'Rozliczenie kwartalne'!K195","v":0},{"$f":"'Rozliczenie kwartalne'!L195","v":0},{"$f":"'Rozliczenie kwartalne'!M195","v":0},{"$f":"'Rozliczenie kwartalne'!N195","v":0},null,null,"39",0,0,0,0,0,0,0,0,0,0,0,"ok","ok",0,0]
[{"$f":"'Rozliczenie kwartalne'!A75","v":"40"},{"$f":"'Rozliczenie kwartalne'!B75","v":""},{"$f":"'Załącznik nr 2 do rozliczenia'!H189","v":0},{"$f":"IF('Załącznik nr 1 do rozliczenia'!H193<0,ABS('Załącznik nr 1 do rozliczenia'!H193),0)","v":0},{"$f":"'Rozliczenie kwartalne'!G196","v":0},{"$f":"'Rozliczenie kwartalne'!H196","v":0},{"$f":"'Rozliczenie kwartalne'!I196","v":0},{"$f":"'Rozliczenie kwartalne'!F196","v":0},{"$f":"'Rozliczenie kwartalne'!J196","v":0},{"$f":"'Rozliczenie kwartalne'!K196","v":0},{"$f":"'Rozliczenie kwartalne'!L196","v":0},{"$f":"'Rozliczenie kwartalne'!M196","v":0},{"$f":"'Rozliczenie kwartalne'!N196","v":0},null,null,"40",0,0,0,0,0,0,0,0,0,0,0,"ok","ok",0,0]
[{"$f":"'Rozliczenie kwartalne'!A76","v":"41"},{"$f":"'Rozliczenie kwartalne'!B76","v":""},{"$f":"'Załącznik nr 2 do rozliczenia'!H190","v":0},{"$f":"IF('Załącznik nr 1 do rozliczenia'!H194<0,ABS('Załącznik nr 1 do rozliczenia'!H194),0)","v":0},{"$f":"'Rozliczenie kwartalne'!G197","v":0},{"$f":"'Rozliczenie kwartalne'!H197","v":0},{"$f":"'Rozliczenie kwartalne'!I197","v":0},{"$f":"'Rozliczenie kwartalne'!F197","v":0},{"$f":"'Rozliczenie kwartalne'!J197","v":0},{"$f":"'Rozliczenie kwartalne'!K197","v":0},{"$f":"'Rozliczenie kwartalne'!L197","v":0},{"$f":"'Rozliczenie kwartalne'!M197","v":0},{"$f":"'Rozliczenie kwartalne'!N197","v":0},null,null,"41",0,0,0,0,0,0,0,0,0,0,0,"ok","ok",0,0]
[{"$f":"'Rozliczenie kwartalne'!A77","v":"42"},{"$f":"'Rozliczenie kwartalne'!B77","v":""},{"$f":"'Załącznik nr 2 do rozliczenia'!H191","v":0},{"$f":"IF('Załącznik nr 1 do rozliczenia'!H195<0,ABS('Załącznik nr 1 do rozliczenia'!H195),0)","v":0},{"$f":"'Rozliczenie kwartalne'!G198","v":0},{"$f":"'Rozliczenie kwartalne'!H198","v":0},{"$f":"'Rozliczenie kwartalne'!I198","v":0},{"$f":"'Rozliczenie kwartalne'!F198","v":0},{"$f":"'Rozliczenie kwartalne'!J198","v":0},{"$f":"'Rozliczenie kwartalne'!K198","v":0},{"$f":"'Rozliczenie kwartalne'!L198","v":0},{"$f":"'Rozliczenie kwartalne'!M198","v":0},{"$f":"'Rozliczenie kwartalne'!N198","v":0},null,null,"42",0,0,0,0,0,0,0,0,0,0,0,"ok","ok",0,0]
[{"$f":"'Rozliczenie kwartalne'!A78","v":"43"},{"$f":"'Rozliczenie kwartalne'!B78","v":""},{"$f":"'Załącznik nr 2 do rozliczenia'!H192","v":0},{"$f":"IF('Załącznik nr 1 do rozliczenia'!H196<0,ABS('Załącznik nr 1 do rozliczenia'!H196),0)","v":0},{"$f":"'Rozliczenie kwartalne'!G199","v":0},{"$f":"'Rozliczenie kwartalne'!H199","v":0},{"$f":"'Rozliczenie kwartalne'!I199","v":0},{"$f":"'Rozliczenie kwartalne'!F199","v":0},{"$f":"'Rozliczenie kwartalne'!J199","v":0},{"$f":"'Rozliczenie kwartalne'!K199","v":0},{"$f":"'Rozliczenie kwartalne'!L199","v":0},{"$f":"'Rozliczenie kwartalne'!M199","v":0},{"$f":"'Rozliczenie kwartalne'!N199","v":0},null,null,"43",0,0,0,0,0,0,0,0,0,0,0,"ok","ok",0,0]
[{"$f":"'Rozliczenie kwartalne'!A79","v":"44"},{"$f":"'Rozliczenie kwartalne'!B79","v":""},{"$f":"'Załącznik nr 2 do rozliczenia'!H193","v":0},{"$f":"IF('Załącznik nr 1 do rozliczenia'!H197<0,ABS('Załącznik nr 1 do rozliczenia'!H197),0)","v":0},{"$f":"'Rozliczenie kwartalne'!G200","v":0},{"$f":"'Rozliczenie kwartalne'!H200","v":0},{"$f":"'Rozliczenie kwartalne'!I200","v":0},{"$f":"'Rozliczenie kwartalne'!F200","v":0},{"$f":"'Rozliczenie kwartalne'!J200","v":0},{"$f":"'Rozliczenie kwartalne'!K200","v":0},{"$f":"'Rozliczenie kwartalne'!L200","v":0},{"$f":"'Rozliczenie kwartalne'!M200","v":0},{"$f":"'Rozliczenie kwartalne'!N200","v":0},null,null,"44",0,0,0,0,0,0,0,0,0,0,0,"ok","ok",0,0]
[{"$f":"'Rozliczenie kwartalne'!A80","v":"45"},{"$f":"'Rozliczenie kwartalne'!B80","v":""},{"$f":"'Załącznik nr 2 do rozliczenia'!H194","v":0},{"$f":"IF('Załącznik nr 1 do rozliczenia'!H198<0,ABS('Załącznik nr 1 do rozliczenia'!H198),0)","v":0},{"$f":"'Rozliczenie kwartalne'!G201","v":0},{"$f":"'Rozliczenie kwartalne'!H201","v":0},{"$f":"'Rozliczenie kwartalne'!I201","v":0},{"$f":"'Rozliczenie kwartalne'!F201","v":0},{"$f":"'Rozliczenie kwartalne'!J201","v":0},{"$f":"'Rozliczenie kwartalne'!K201","v":0},{"$f":"'Rozliczenie kwartalne'!L201","v":0},{"$f":"'Rozliczenie kwartalne'!M201","v":0},{"$f":"'Rozliczenie kwartalne'!N201","v":0},null,null,"45",0,0,0,0,0,0,0,0,0,0,0,"ok","ok",0,0]
[{"$f":"'Rozliczenie kwartalne'!A81","v":"46"},{"$f":"'Rozliczenie kwartalne'!B81","v":""},{"$f":"'Załącznik nr 2 do rozliczenia'!H195","v":0},{"$f":"IF('Załącznik nr 1 do rozliczenia'!H199<0,ABS('Załącznik nr 1 do rozliczenia'!H199),0)","v":0},{"$f":"'Rozliczenie kwartalne'!G202","v":0},{"$f":"'Rozliczenie kwartalne'!H202","v":0},{"$f":"'Rozliczenie kwartalne'!I202","v":0},{"$f":"'Rozliczenie kwartalne'!F202","v":0},{"$f":"'Rozliczenie kwartalne'!J202","v":0},{"$f":"'Rozliczenie kwartalne'!K202","v":0},{"$f":"'Rozliczenie kwartalne'!L202","v":0},{"$f":"'Rozliczenie kwartalne'!M202","v":0},{"$f":"'Rozliczenie kwartalne'!N202","v":0},null,null,"46",0,0,0,0,0,0,0,0,0,0,0,"ok","ok",0,0]
[{"$f":"'Rozliczenie kwartalne'!A82","v":"47"},{"$f":"'Rozliczenie kwartalne'!B82","v":""},{"$f":"'Załącznik nr 2 do rozliczenia'!H196","v":0},{"$f":"IF('Załącznik nr 1 do rozliczenia'!H200<0,ABS('Załącznik nr 1 do rozliczenia'!H200),0)","v":0},{"$f":"'Rozliczenie kwartalne'!G203","v":0},{"$f":"'Rozliczenie kwartalne'!H203","v":0},{"$f":"'Rozliczenie kwartalne'!I203","v":0},{"$f":"'Rozliczenie kwartalne'!F203","v":0},{"$f":"'Rozliczenie kwartalne'!J203","v":0},{"$f":"'Rozliczenie kwartalne'!K203","v":0},{"$f":"'Rozliczenie kwartalne'!L203","v":0},{"$f":"'Rozliczenie kwartalne'!M203","v":0},{"$f":"'Rozliczenie kwartalne'!N203","v":0},null,null,"47",0,0,0,0,0,0,0,0,0,0,0,"ok","ok",0,0]
[{"$f":"'Rozliczenie kwartalne'!A83","v":"48"},{"$f":"'Rozliczenie kwartalne'!B83","v":""},{"$f":"'Załącznik nr 2 do rozliczenia'!H197","v":0},{"$f":"IF('Załącznik nr 1 do rozliczenia'!H201<0,ABS('Załącznik nr 1 do rozliczenia'!H201),0)","v":0},{"$f":"'Rozliczenie kwartalne'!G204","v":0},{"$f":"'Rozliczenie kwartalne'!H204","v":0},{"$f":"'Rozliczenie kwartalne'!I204","v":0},{"$f":"'Rozliczenie kwartalne'!F204","v":0},{"$f":"'Rozliczenie kwartalne'!J204","v":0},{"$f":"'Rozliczenie kwartalne'!K204","v":0},{"$f":"'Rozliczenie kwartalne'!L204","v":0},{"$f":"'Rozliczenie kwartalne'!M204","v":0},{"$f":"'Rozliczenie kwartalne'!N204","v":0},null,null,"48",0,0,0,0,0,0,0,0,0,0,0,"ok","ok",0,0]
[{"$f":"'Rozliczenie kwartalne'!A84","v":"49"},{"$f":"'Rozliczenie kwartalne'!B84","v":""},{"$f":"'Załącznik nr 2 do rozliczenia'!H198","v":0},{"$f":"IF('Załącznik nr 1 do rozliczenia'!H202<0,ABS('Załącznik nr 1 do rozliczenia'!H202),0)","v":0},{"$f":"'Rozliczenie kwartalne'!G205","v":0},{"$f":"'Rozliczenie kwartalne'!H205","v":0},{"$f":"'Rozliczenie kwartalne'!I205","v":0},{"$f":"'Rozliczenie kwartalne'!F205","v":0},{"$f":"'Rozliczenie kwartalne'!J205","v":0},{"$f":"'Rozliczenie kwartalne'!K205","v":0},{"$f":"'Rozliczenie kwartalne'!L205","v":0},{"$f":"'Rozliczenie kwartalne'!M205","v":0},{"$f":"'Rozliczenie kwartalne'!N205","v":0},null,null,"49",0,0,0,0,0,0,0,0,0,0,0,"ok","ok",0,0]
[{"$f":"'Rozliczenie kwartalne'!A85","v":"50"},{"$f":"'Rozliczenie kwartalne'!B85","v":""},{"$f":"'Załącznik nr 2 do rozliczenia'!H199","v":0},{"$f":"IF('Załącznik nr 1 do rozliczenia'!H203<0,ABS('Załącznik nr 1 do rozliczenia'!H203),0)","v":0},{"$f":"'Rozliczenie kwartalne'!G206","v":0},{"$f":"'Rozliczenie kwartalne'!H206","v":0},{"$f":"'Rozliczenie kwartalne'!I206","v":0},{"$f":"'Rozliczenie kwartalne'!F206","v":0},{"$f":"'Rozliczenie kwartalne'!J206","v":0},{"$f":"'Rozliczenie kwartalne'!K206","v":0},{"$f":"'Rozliczenie kwartalne'!L206","v":0},{"$f":"'Rozliczenie kwartalne'!M206","v":0},{"$f":"'Rozliczenie kwartalne'!N206","v":0},null,null,"50",0,0,0,0,0,0,0,0,0,0,0,"ok","ok",0,0]
[{"$f":"'Rozliczenie kwartalne'!A86","v":"51"},{"$f":"'Rozliczenie kwartalne'!B86","v":""},{"$f":"'Załącznik nr 2 do rozliczenia'!H200","v":0},{"$f":"IF('Załącznik nr 1 do rozliczenia'!H204<0,ABS('Załącznik nr 1 do rozliczenia'!H204),0)","v":0},{"$f":"'Rozliczenie kwartalne'!G207","v":0},{"$f":"'Rozliczenie kwartalne'!H207","v":0},{"$f":"'Rozliczenie kwartalne'!I207","v":0},{"$f":"'Rozliczenie kwartalne'!F207","v":0},{"$f":"'Rozliczenie kwartalne'!J207","v":0},{"$f":"'Rozliczenie kwartalne'!K207","v":0},{"$f":"'Rozliczenie kwartalne'!L207","v":0},{"$f":"'Rozliczenie kwartalne'!M207","v":0},{"$f":"'Rozliczenie kwartalne'!N207","v":0},null,null,"51",0,0,0,0,0,0,0,0,0,0,0,"ok","ok",0,0]
[{"$f":"'Rozliczenie kwartalne'!A87","v":"52"},{"$f":"'Rozliczenie kwartalne'!B87","v":""},{"$f":"'Załącznik nr 2 do rozliczenia'!H201","v":0},{"$f":"IF('Załącznik nr 1 do rozliczenia'!H205<0,ABS('Załącznik nr 1 do rozliczenia'!H205),0)","v":0},{"$f":"'Rozliczenie kwartalne'!G208","v":0},{"$f":"'Rozliczenie kwartalne'!H208","v":0},{"$f":"'Rozliczenie kwartalne'!I208","v":0},{"$f":"'Rozliczenie kwartalne'!F208","v":0},{"$f":"'Rozliczenie kwartalne'!J208","v":0},{"$f":"'Rozliczenie kwartalne'!K208","v":0},{"$f":"'Rozliczenie kwartalne'!L208","v":0},{"$f":"'Rozliczenie kwartalne'!M208","v":0},{"$f":"'Rozliczenie kwartalne'!N208","v":0},null,null,"52",0,0,0,0,0,0,0,0,0,0,0,"ok","ok",0,0]
[{"$f":"'Rozliczenie kwartalne'!A88","v":"53"},{"$f":"'Rozliczenie kwartalne'!B88","v":""},{"$f":"'Załącznik nr 2 do rozliczenia'!H202","v":0},{"$f":"IF('Załącznik nr 1 do rozliczenia'!H206<0,ABS('Załącznik nr 1 do rozliczenia'!H206),0)","v":0},{"$f":"'Rozliczenie kwartalne'!G209","v":0},{"$f":"'Rozliczenie kwartalne'!H209","v":0},{"$f":"'Rozliczenie kwartalne'!I209","v":0},{"$f":"'Rozliczenie kwartalne'!F209","v":0},{"$f":"'Rozliczenie kwartalne'!J209","v":0},{"$f":"'Rozliczenie kwartalne'!K209","v":0},{"$f":"'Rozliczenie kwartalne'!L209","v":0},{"$f":"'Rozliczenie kwartalne'!M209","v":0},{"$f":"'Rozliczenie kwartalne'!N209","v":0},null,null,"53",0,0,0,0,0,0,0,0,0,0,0,"ok","ok",0,0]
[{"$f":"'Rozliczenie kwartalne'!A89","v":"54"},{"$f":"'Rozliczenie kwartalne'!B89","v":""},{"$f":"'Załącznik nr 2 do rozliczenia'!H203","v":0},{"$f":"IF('Załącznik nr 1 do rozliczenia'!H207<0,ABS('Załącznik nr 1 do rozliczenia'!H207),0)","v":0},{"$f":"'Rozliczenie kwartalne'!G210","v":0},{"$f":"'Rozliczenie kwartalne'!H210","v":0},{"$f":"'Rozliczenie kwartalne'!I210","v":0},{"$f":"'Rozliczenie kwartalne'!F210","v":0},{"$f":"'Rozliczenie kwartalne'!J210","v":0},{"$f":"'Rozliczenie kwartalne'!K210","v":0},{"$f":"'Rozliczenie kwartalne'!L210","v":0},{"$f":"'Rozliczenie kwartalne'!M210","v":0},{"$f":"'Rozliczenie kwartalne'!N210","v":0},null,null,"54",0,0,0,0,0,0,0,0,0,0,0,"ok","ok",0,0]
[{"$f":"'Rozliczenie kwartalne'!A90","v":"55"},{"$f":"'Rozliczenie kwartalne'!B90","v":""},{"$f":"'Załącznik nr 2 do rozliczenia'!H204","v":0},{"$f":"IF('Załącznik nr 1 do rozliczenia'!H208<0,ABS('Załącznik nr 1 do rozliczenia'!H208),0)","v":0},{"$f":"'Rozliczenie kwartalne'!G211","v":0},{"$f":"'Rozliczenie kwartalne'!H211","v":0},{"$f":"'Rozliczenie kwartalne'!I211","v":0},{"$f":"'Rozliczenie kwartalne'!F211","v":0},{"$f":"'Rozliczenie kwartalne'!J211","v":0},{"$f":"'Rozliczenie kwartalne'!K211","v":0},{"$f":"'Rozliczenie kwartalne'!L211","v":0},{"$f":"'Rozliczenie kwartalne'!M211","v":0},{"$f":"'Rozliczenie kwartalne'!N211","v":0},null,null,"55",0,0,0,0,0,0,0,0,0,0,0,"ok","ok",0,0]
[{"$f":"'Rozliczenie kwartalne'!A91","v":"56"},{"$f":"'Rozliczenie kwartalne'!B91","v":""},{"$f":"'Załącznik nr 2 do rozliczenia'!H205","v":0},{"$f":"IF('Załącznik nr 1 do rozliczenia'!H209<0,ABS('Załącznik nr 1 do rozliczenia'!H209),0)","v":0},{"$f":"'Rozliczenie kwartalne'!G212","v":0},{"$f":"'Rozliczenie kwartalne'!H212","v":0},{"$f":"'Rozliczenie kwartalne'!I212","v":0},{"$f":"'Rozliczenie kwartalne'!F212","v":0},{"$f":"'Rozliczenie kwartalne'!J212","v":0},{"$f":"'Rozliczenie kwartalne'!K212","v":0},{"$f":"'Rozliczenie kwartalne'!L212","v":0},{"$f":"'Rozliczenie kwartalne'!M212","v":0},{"$f":"'Rozliczenie kwartalne'!N212","v":0},null,null,"56",0,0,0,0,0,0,0,0,0,0,0,"ok","ok",0,0]
[{"$f":"'Rozliczenie kwartalne'!A92","v":"57"},{"$f":"'Rozliczenie kwartalne'!B92","v":""},{"$f":"'Załącznik nr 2 do rozliczenia'!H206","v":0},{"$f":"IF('Załącznik nr 1 do rozliczenia'!H210<0,ABS('Załącznik nr 1 do rozliczenia'!H210),0)","v":0},{"$f":"'Rozliczenie kwartalne'!G213","v":0},{"$f":"'Rozliczenie kwartalne'!H213","v":0},{"$f":"'Rozliczenie kwartalne'!I213","v":0},{"$f":"'Rozliczenie kwartalne'!F213","v":0},{"$f":"'Rozliczenie kwartalne'!J213","v":0},{"$f":"'Rozliczenie kwartalne'!K213","v":0},{"$f":"'Rozliczenie kwartalne'!L213","v":0},{"$f":"'Rozliczenie kwartalne'!M213","v":0},{"$f":"'Rozliczenie kwartalne'!N213","v":0},null,null,"57",0,0,0,0,0,0,0,0,0,0,0,"ok","ok",0,0]
[{"$f":"'Rozliczenie kwartalne'!A93","v":"58"},{"$f":"'Rozliczenie kwartalne'!B93","v":""},{"$f":"'Załącznik nr 2 do rozliczenia'!H207","v":0},{"$f":"IF('Załącznik nr 1 do rozliczenia'!H211<0,ABS('Załącznik nr 1 do rozliczenia'!H211),0)","v":0},{"$f":"'Rozliczenie kwartalne'!G214","v":0},{"$f":"'Rozliczenie kwartalne'!H214","v":0},{"$f":"'Rozliczenie kwartalne'!I214","v":0},{"$f":"'Rozliczenie kwartalne'!F214","v":0},{"$f":"'Rozliczenie kwartalne'!J214","v":0},{"$f":"'Rozliczenie kwartalne'!K214","v":0},{"$f":"'Rozliczenie kwartalne'!L214","v":0},{"$f":"'Rozliczenie kwartalne'!M214","v":0},{"$f":"'Rozliczenie kwartalne'!N214","v":0},null,null,"58",0,0,0,0,0,0,0,0,0,0,0,"ok","ok",0,0]
[{"$f":"'Rozliczenie kwartalne'!A94","v":"59"},{"$f":"'Rozliczenie kwartalne'!B94","v":""},{"$f":"'Załącznik nr 2 do rozliczenia'!H208","v":0},{"$f":"IF('Załącznik nr 1 do rozliczenia'!H212<0,ABS('Załącznik nr 1 do rozliczenia'!H212),0)","v":0},{"$f":"'Rozliczenie kwartalne'!G215","v":0},{"$f":"'Rozliczenie kwartalne'!H215","v":0},{"$f":"'Rozliczenie kwartalne'!I215","v":0},{"$f":"'Rozliczenie kwartalne'!F215","v":0},{"$f":"'Rozliczenie kwartalne'!J215","v":0},{"$f":"'Rozliczenie kwartalne'!K215","v":0},{"$f":"'Rozliczenie kwartalne'!L215","v":0},{"$f":"'Rozliczenie kwartalne'!M215","v":0},{"$f":"'Rozliczenie kwartalne'!N215","v":0},null,null,"59",0,0,0,0,0,0,0,0,0,0,0,"ok","ok",0,0]
[{"$f":"'Rozliczenie kwartalne'!A95","v":"60"},{"$f":"'Rozliczenie kwartalne'!B95","v":""},{"$f":"'Załącznik nr 2 do rozliczenia'!H209","v":0},{"$f":"IF('Załącznik nr 1 do rozliczenia'!H213<0,ABS('Załącznik nr 1 do rozliczenia'!H213),0)","v":0},{"$f":"'Rozliczenie kwartalne'!G216","v":0},{"$f":"'Rozliczenie kwartalne'!H216","v":0},{"$f":"'Rozliczenie kwartalne'!I216","v":0},{"$f":"'Rozliczenie kwartalne'!F216","v":0},{"$f":"'Rozliczenie kwartalne'!J216","v":0},{"$f":"'Rozliczenie kwartalne'!K216","v":0},{"$f":"'Rozliczenie kwartalne'!L216","v":0},{"$f":"'Rozliczenie kwartalne'!M216","v":0},{"$f":"'Rozliczenie kwartalne'!N216","v":0},null,null,"60",0,0,0,0,0,0,0,0,0,0,0,"ok","ok",0,0]
[{"$f":"'Rozliczenie kwartalne'!A96","v":"61"},{"$f":"'Rozliczenie kwartalne'!B96","v":""},{"$f":"'Załącznik nr 2 do rozliczenia'!H210","v":0},{"$f":"IF('Załącznik nr 1 do rozliczenia'!H214<0,ABS('Załącznik nr 1 do rozliczenia'!H214),0)","v":0},{"$f":"'Rozliczenie kwartalne'!G217","v":0},{"$f":"'Rozliczenie kwartalne'!H217","v":0},{"$f":"'Rozliczenie kwartalne'!I217","v":0},{"$f":"'Rozliczenie kwartalne'!F217","v":0},{"$f":"'Rozliczenie kwartalne'!J217","v":0},{"$f":"'Rozliczenie kwartalne'!K217","v":0},{"$f":"'Rozliczenie kwartalne'!L217","v":0},{"$f":"'Rozliczenie kwartalne'!M217","v":0},{"$f":"'Rozliczenie kwartalne'!N217","v":0},null,null,"61",0,0,0,0,0,0,0,0,0,0,0,"ok","ok",0,0]
[{"$f":"'Rozliczenie kwartalne'!A97","v":"62"},{"$f":"'Rozliczenie kwartalne'!B97","v":""},{"$f":"'Załącznik nr 2 do rozliczenia'!H211","v":0},{"$f":"IF('Załącznik nr 1 do rozliczenia'!H215<0,ABS('Załącznik nr 1 do rozliczenia'!H215),0)","v":0},{"$f":"'Rozliczenie kwartalne'!G218","v":0},{"$f":"'Rozliczenie kwartalne'!H218","v":0},{"$f":"'Rozliczenie kwartalne'!I218","v":0},{"$f":"'Rozliczenie kwartalne'!F218","v":0},{"$f":"'Rozliczenie kwartalne'!J218","v":0},{"$f":"'Rozliczenie kwartalne'!K218","v":0},{"$f":"'Rozliczenie kwartalne'!L218","v":0},{"$f":"'Rozliczenie kwartalne'!M218","v":0},{"$f":"'Rozliczenie kwartalne'!N218","v":0},null,null,"62",0,0,0,0,0,0,0,0,0,0,0,"ok","ok",0,0]
[{"$f":"'Rozliczenie kwartalne'!A98","v":"63"},{"$f":"'Rozliczenie kwartalne'!B98","v":""},{"$f":"'Załącznik nr 2 do rozliczenia'!H212","v":0},{"$f":"IF('Załącznik nr 1 do rozliczenia'!H216<0,ABS('Załącznik nr 1 do rozliczenia'!H216),0)","v":0},{"$f":"'Rozliczenie kwartalne'!G219","v":0},{"$f":"'Rozliczenie kwartalne'!H219","v":0},{"$f":"'Rozliczenie kwartalne'!I219","v":0},{"$f":"'Rozliczenie kwartalne'!F219","v":0},{"$f":"'Rozliczenie kwartalne'!J219","v":0},{"$f":"'Rozliczenie kwartalne'!K219","v":0},{"$f":"'Rozliczenie kwartalne'!L219","v":0},{"$f":"'Rozliczenie kwartalne'!M219","v":0},{"$f":"'Rozliczenie kwartalne'!N219","v":0},null,null,"63",0,0,0,0,0,0,0,0,0,0,0,"ok","ok",0,0]
[{"$f":"'Rozliczenie kwartalne'!A99","v":"64"},{"$f":"'Rozliczenie kwartalne'!B99","v":""},{"$f":"'Załącznik nr 2 do rozliczenia'!H213","v":0},{"$f":"IF('Załącznik nr 1 do rozliczenia'!H217<0,ABS('Załącznik nr 1 do rozliczenia'!H217),0)","v":0},{"$f":"'Rozliczenie kwartalne'!G220","v":0},{"$f":"'Rozliczenie kwartalne'!H220","v":0},{"$f":"'Rozliczenie kwartalne'!I220","v":0},{"$f":"'Rozliczenie kwartalne'!F220","v":0},{"$f":"'Rozliczenie kwartalne'!J220","v":0},{"$f":"'Rozliczenie kwartalne'!K220","v":0},{"$f":"'Rozliczenie kwartalne'!L220","v":0},{"$f":"'Rozliczenie kwartalne'!M220","v":0},{"$f":"'Rozliczenie kwartalne'!N220","v":0},null,null,"64",0,0,0,0,0,0,0,0,0,0,0,"ok","ok",0,0]
[{"$f":"'Rozliczenie kwartalne'!A100","v":"65"},{"$f":"'Rozliczenie kwartalne'!B100","v":""},{"$f":"'Załącznik nr 2 do rozliczenia'!H214","v":0},{"$f":"IF('Załącznik nr 1 do rozliczenia'!H218<0,ABS('Załącznik nr 1 do rozliczenia'!H218),0)","v":0},{"$f":"'Rozliczenie kwartalne'!G221","v":0},{"$f":"'Rozliczenie kwartalne'!H221","v":0},{"$f":"'Rozliczenie kwartalne'!I221","v":0},{"$f":"'Rozliczenie kwartalne'!F221","v":0},{"$f":"'Rozliczenie kwartalne'!J221","v":0},{"$f":"'Rozliczenie kwartalne'!K221","v":0},{"$f":"'Rozliczenie kwartalne'!L221","v":0},{"$f":"'Rozliczenie kwartalne'!M221","v":0},{"$f":"'Rozliczenie kwartalne'!N221","v":0},null,null,"65",0,0,0,0,0,0,0,0,0,0,0,"ok","ok",0,0]
[{"$f":"'Rozliczenie kwartalne'!A101","v":"66"},{"$f":"'Rozliczenie kwartalne'!B101","v":""},{"$f":"'Załącznik nr 2 do rozliczenia'!H215","v":0},{"$f":"IF('Załącznik nr 1 do rozliczenia'!H219<0,ABS('Załącznik nr 1 do rozliczenia'!H219),0)","v":0},{"$f":"'Rozliczenie kwartalne'!G222","v":0},{"$f":"'Rozliczenie kwartalne'!H222","v":0},{"$f":"'Rozliczenie kwartalne'!I222","v":0},{"$f":"'Rozliczenie kwartalne'!F222","v":0},{"$f":"'Rozliczenie kwartalne'!J222","v":0},{"$f":"'Rozliczenie kwartalne'!K222","v":0},{"$f":"'Rozliczenie kwartalne'!L222","v":0},{"$f":"'Rozliczenie kwartalne'!M222","v":0},{"$f":"'Rozliczenie kwartalne'!N222","v":0},null,null,{"$f":"A68","v":"66"},{"$f":"IFERROR(D68/C68,0)","v":0},{"$f":"F68","v":0},{"$f":"IFERROR(R68/Q68,0)","v":0},{"$f":"R68*C68","v":0},{"$f":"E68*C68","v":0},{"$f":"IFERROR(ROUND(X68*C68,2),0)","v":0},{"$f":"ROUND(X68*C68,2)","v":0},{"$f":"IFERROR(IF((D68-H68)/C68>=$N$3,$N$3,(D68-H68)/C68),0)","v":0},{"$f":"IFERROR(ROUND(I68/C68,2),0)","v":0},{"$f":"ROUND(D68*0.1,2)","v":0},{"$f":"Q68*0.1","v":0},{"$f":"IF(R68>=AA68,$O$1,$O$2)","v":"ok"},{"$f":"IF(Y68<=$N$3,$O$1,$O$2)","v":"ok"},{"$f":"(V68+T68)-D68","v":0},{"$f":"D68-U68","v":0}]
[{"$f":"'Rozliczenie kwartalne'!A102","v":"67"},{"$f":"'Rozliczenie kwartalne'!B102","v":""},{"$f":"'Załącznik nr 2 do rozliczenia'!H216","v":0},{"$f":"IF('Załącznik nr 1 do rozliczenia'!H220<0,ABS('Załącznik nr 1 do rozliczenia'!H220),0)","v":0},{"$f":"'Rozliczenie kwartalne'!G223","v":0},{"$f":"'Rozliczenie kwartalne'!H223","v":0},{"$f":"'Rozliczenie kwartalne'!I223","v":0},{"$f":"'Rozliczenie kwartalne'!F223","v":0},{"$f":"'Rozliczenie kwartalne'!J223","v":0},{"$f":"'Rozliczenie kwartalne'!K223","v":0},{"$f":"'Rozliczenie kwartalne'!L223","v":0},{"$f":"'Rozliczenie kwartalne'!M223","v":0},{"$f":"'Rozliczenie kwartalne'!N223","v":0},null,null,"67",0,0,0,0,0,0,0,0,0,0,0,"ok","ok",0,0]
[{"$f":"'Rozliczenie kwartalne'!A103","v":"68"},{"$f":"'Rozliczenie kwartalne'!B103","v":""},{"$f":"'Załącznik nr 2 do rozliczenia'!H217","v":0},{"$f":"IF('Załącznik nr 1 do rozliczenia'!H221<0,ABS('Załącznik nr 1 do rozliczenia'!H221),0)","v":0},{"$f":"'Rozliczenie kwartalne'!G224","v":0},{"$f":"'Rozliczenie kwartalne'!H224","v":0},{"$f":"'Rozliczenie kwartalne'!I224","v":0},{"$f":"'Rozliczenie kwartalne'!F224","v":0},{"$f":"'Rozliczenie kwartalne'!J224","v":0},{"$f":"'Rozliczenie kwartalne'!K224","v":0},{"$f":"'Rozliczenie kwartalne'!L224","v":0},{"$f":"'Rozliczenie kwartalne'!M224","v":0},{"$f":"'Rozliczenie kwartalne'!N224","v":0},null,null,"68",0,0,0,0,0,0,0,0,0,0,0,"ok","ok",0,0]
[{"$f":"'Rozliczenie kwartalne'!A104","v":"69"},{"$f":"'Rozliczenie kwartalne'!B104","v":""},{"$f":"'Załącznik nr 2 do rozliczenia'!H218","v":0},{"$f":"IF('Załącznik nr 1 do rozliczenia'!H222<0,ABS('Załącznik nr 1 do rozliczenia'!H222),0)","v":0},{"$f":"'Rozliczenie kwartalne'!G225","v":0},{"$f":"'Rozliczenie kwartalne'!H225","v":0},{"$f":"'Rozliczenie kwartalne'!I225","v":0},{"$f":"'Rozliczenie kwartalne'!F225","v":0},{"$f":"'Rozliczenie kwartalne'!J225","v":0},{"$f":"'Rozliczenie kwartalne'!K225","v":0},{"$f":"'Rozliczenie kwartalne'!L225","v":0},{"$f":"'Rozliczenie kwartalne'!M225","v":0},{"$f":"'Rozliczenie kwartalne'!N225","v":0},null,null,"69",0,0,0,0,0,0,0,0,0,0,0,"ok","ok",0,0]
[{"$f":"'Rozliczenie kwartalne'!A105","v":"70"},{"$f":"'Rozliczenie kwartalne'!B105","v":""},{"$f":"'Załącznik nr 2 do rozliczenia'!H219","v":0},{"$f":"IF('Załącznik nr 1 do rozliczenia'!H223<0,ABS('Załącznik nr 1 do rozliczenia'!H223),0)","v":0},{"$f":"'Rozliczenie kwartalne'!G226","v":0},{"$f":"'Rozliczenie kwartalne'!H226","v":0},{"$f":"'Rozliczenie kwartalne'!I226","v":0},{"$f":"'Rozliczenie kwartalne'!F226","v":0},{"$f":"'Rozliczenie kwartalne'!J226","v":0},{"$f":"'Rozliczenie kwartalne'!K226","v":0},{"$f":"'Rozliczenie kwartalne'!L226","v":0},{"$f":"'Rozliczenie kwartalne'!M226","v":0},{"$f":"'Rozliczenie kwartalne'!N226","v":0},null,null,"70",0,0,0,0,0,0,0,0,0,0,0,"ok","ok",0,0]
[{"$f":"'Rozliczenie kwartalne'!A106","v":"71"},{"$f":"'Rozliczenie kwartalne'!B106","v":""},{"$f":"'Załącznik nr 2 do rozliczenia'!H220","v":0},{"$f":"IF('Załącznik nr 1 do rozliczenia'!H224<0,ABS('Załącznik nr 1 do rozliczenia'!H224),0)","v":0},{"$f":"'Rozliczenie kwartalne'!G227","v":0},{"$f":"'Rozliczenie kwartalne'!H227","v":0},{"$f":"'Rozliczenie kwartalne'!I227","v":0},{"$f":"'Rozliczenie kwartalne'!F227","v":0},{"$f":"'Rozliczenie kwartalne'!J227","v":0},{"$f":"'Rozliczenie kwartalne'!K227","v":0},{"$f":"'Rozliczenie kwartalne'!L227","v":0},{"$f":"'Rozliczenie kwartalne'!M227","v":0},{"$f":"'Rozliczenie kwartalne'!N227","v":0},null,null,"71",0,0,0,0,0,0,0,0,0,0,0,"ok","ok",0,0]
[{"$f":"'Rozliczenie kwartalne'!A107","v":"72"},{"$f":"'Rozliczenie kwartalne'!B107","v":""},{"$f":"'Załącznik nr 2 do rozliczenia'!H221","v":0},{"$f":"IF('Załącznik nr 1 do rozliczenia'!H225<0,ABS('Załącznik nr 1 do rozliczenia'!H225),0)","v":0},{"$f":"'Rozliczenie kwartalne'!G228","v":0},{"$f":"'Rozliczenie kwartalne'!H228","v":0},{"$f":"'Rozliczenie kwartalne'!I228","v":0},{"$f":"'Rozliczenie kwartalne'!F228","v":0},{"$f":"'Rozliczenie kwartalne'!J228","v":0},{"$f":"'Rozliczenie kwartalne'!K228","v":0},{"$f":"'Rozliczenie kwartalne'!L228","v":0},{"$f":"'Rozliczenie kwartalne'!M228","v":0},{"$f":"'Rozliczenie kwartalne'!N228","v":0},null,null,"72",0,0,0,0,0,0,0,0,0,0,0,"ok","ok",0,0]
[{"$f":"'Rozliczenie kwartalne'!A108","v":"73"},{"$f":"'Rozliczenie kwartalne'!B108","v":""},{"$f":"'Załącznik nr 2 do rozliczenia'!H222","v":0},{"$f":"IF('Załącznik nr 1 do rozliczenia'!H226<0,ABS('Załącznik nr 1 do rozliczenia'!H226),0)","v":0},{"$f":"'Rozliczenie kwartalne'!G229","v":0},{"$f":"'Rozliczenie kwartalne'!H229","v":0},{"$f":"'Rozliczenie kwartalne'!I229","v":0},{"$f":"'Rozliczenie kwartalne'!F229","v":0},{"$f":"'Rozliczenie kwartalne'!J229","v":0},{"$f":"'Rozliczenie kwartalne'!K229","v":0},{"$f":"'Rozliczenie kwartalne'!L229","v":0},{"$f":"'Rozliczenie kwartalne'!M229","v":0},{"$f":"'Rozliczenie kwartalne'!N229","v":0},null,null,"73",0,0,0,0,0,0,0,0,0,0,0,"ok","ok",0,0]
[{"$f":"'Rozliczenie kwartalne'!A109","v":"74"},{"$f":"'Rozliczenie kwartalne'!B109","v":""},{"$f":"'Załącznik nr 2 do rozliczenia'!H223","v":0},{"$f":"IF('Załącznik nr 1 do rozliczenia'!H227<0,ABS('Załącznik nr 1 do rozliczenia'!H227),0)","v":0},{"$f":"'Rozliczenie kwartalne'!G230","v":0},{"$f":"'Rozliczenie kwartalne'!H230","v":0},{"$f":"'Rozliczenie kwartalne'!I230","v":0},{"$f":"'Rozliczenie kwartalne'!F230","v":0},{"$f":"'Rozliczenie kwartalne'!J230","v":0},{"$f":"'Rozliczenie kwartalne'!K230","v":0},{"$f":"'Rozliczenie kwartalne'!L230","v":0},{"$f":"'Rozliczenie kwartalne'!M230","v":0},{"$f":"'Rozliczenie kwartalne'!N230","v":0},null,null,"74",0,0,0,0,0,0,0,0,0,0,0,"ok","ok",0,0]
[{"$f":"'Rozliczenie kwartalne'!A110","v":"75"},{"$f":"'Rozliczenie kwartalne'!B110","v":""},{"$f":"'Załącznik nr 2 do rozliczenia'!H224","v":0},{"$f":"IF('Załącznik nr 1 do rozliczenia'!H228<0,ABS('Załącznik nr 1 do rozliczenia'!H228),0)","v":0},{"$f":"'Rozliczenie kwartalne'!G231","v":0},{"$f":"'Rozliczenie kwartalne'!H231","v":0},{"$f":"'Rozliczenie kwartalne'!I231","v":0},{"$f":"'Rozliczenie kwartalne'!F231","v":0},{"$f":"'Rozliczenie kwartalne'!J231","v":0},{"$f":"'Rozliczenie kwartalne'!K231","v":0},{"$f":"'Rozliczenie kwartalne'!L231","v":0},{"$f":"'Rozliczenie kwartalne'!M231","v":0},{"$f":"'Rozliczenie kwartalne'!N231","v":0},null,null,"75",0,0,0,0,0,0,0,0,0,0,0,"ok","ok",0,0]
[{"$f":"'Rozliczenie kwartalne'!A111","v":"76"},{"$f":"'Rozliczenie kwartalne'!B111","v":""},{"$f":"'Załącznik nr 2 do rozliczenia'!H225","v":0},{"$f":"IF('Załącznik nr 1 do rozliczenia'!H229<0,ABS('Załącznik nr 1 do rozliczenia'!H229),0)","v":0},{"$f":"'Rozliczenie kwartalne'!G232","v":0},{"$f":"'Rozliczenie kwartalne'!H232","v":0},{"$f":"'Rozliczenie kwartalne'!I232","v":0},{"$f":"'Rozliczenie kwartalne'!F232","v":0},{"$f":"'Rozliczenie kwartalne'!J232","v":0},{"$f":"'Rozliczenie kwartalne'!K232","v":0},{"$f":"'Rozliczenie kwartalne'!L232","v":0},{"$f":"'Rozliczenie kwartalne'!M232","v":0},{"$f":"'Rozliczenie kwartalne'!N232","v":0},null,null,"76",0,0,0,0,0,0,0,0,0,0,0,"ok","ok",0,0]
[{"$f":"'Rozliczenie kwartalne'!A112","v":"77"},{"$f":"'Rozliczenie kwartalne'!B112","v":""},{"$f":"'Załącznik nr 2 do rozliczenia'!H226","v":0},{"$f":"IF('Załącznik nr 1 do rozliczenia'!H230<0,ABS('Załącznik nr 1 do rozliczenia'!H230),0)","v":0},{"$f":"'Rozliczenie kwartalne'!G233","v":0},{"$f":"'Rozliczenie kwartalne'!H233","v":0},{"$f":"'Rozliczenie kwartalne'!I233","v":0},{"$f":"'Rozliczenie kwartalne'!F233","v":0},{"$f":"'Rozliczenie kwartalne'!J233","v":0},{"$f":"'Rozliczenie kwartalne'!K233","v":0},{"$f":"'Rozliczenie kwartalne'!L233","v":0},{"$f":"'Rozliczenie kwartalne'!M233","v":0},{"$f":"'Rozliczenie kwartalne'!N233","v":0},null,null,"77",0,0,0,0,0,0,0,0,0,0,0,"ok","ok",0,0]
[{"$f":"'Rozliczenie kwartalne'!A113","v":"78"},{"$f":"'Rozliczenie kwartalne'!B113","v":""},{"$f":"'Załącznik nr 2 do rozliczenia'!H227","v":0},{"$f":"IF('Załącznik nr 1 do rozliczenia'!H231<0,ABS('Załącznik nr 1 do rozliczenia'!H231),0)","v":0},{"$f":"'Rozliczenie kwartalne'!G234","v":0},{"$f":"'Rozliczenie kwartalne'!H234","v":0},{"$f":"'Rozliczenie kwartalne'!I234","v":0},{"$f":"'Rozliczenie kwartalne'!F234","v":0},{"$f":"'Rozliczenie kwartalne'!J234","v":0},{"$f":"'Rozliczenie kwartalne'!K234","v":0},{"$f":"'Rozliczenie kwartalne'!L234","v":0},{"$f":"'Rozliczenie kwartalne'!M234","v":0},{"$f":"'Rozliczenie kwartalne'!N234","v":0},null,null,"78",0,0,0,0,0,0,0,0,0,0,0,"ok","ok",0,0]
[{"$f":"'Rozliczenie kwartalne'!A114","v":"79"},{"$f":"'Rozliczenie kwartalne'!B114","v":""},{"$f":"'Załącznik nr 2 do rozliczenia'!H228","v":0},{"$f":"IF('Załącznik nr 1 do rozliczenia'!H232<0,ABS('Załącznik nr 1 do rozliczenia'!H232),0)","v":0},{"$f":"'Rozliczenie kwartalne'!G235","v":0},{"$f":"'Rozliczenie kwartalne'!H235","v":0},{"$f":"'Rozliczenie kwartalne'!I235","v":0},{"$f":"'Rozliczenie kwartalne'!F235","v":0},{"$f":"'Rozliczenie kwartalne'!J235","v":0},{"$f":"'Rozliczenie kwartalne'!K235","v":0},{"$f":"'Rozliczenie kwartalne'!L235","v":0},{"$f":"'Rozliczenie kwartalne'!M235","v":0},{"$f":"'Rozliczenie kwartalne'!N235","v":0},null,null,"79",0,0,0,0,0,0,0,0,0,0,0,"ok","ok",0,0]
[{"$f":"'Rozliczenie kwartalne'!A115","v":"80"},{"$f":"'Rozliczenie kwartalne'!B115","v":""},{"$f":"'Załącznik nr 2 do rozliczenia'!H229","v":0},{"$f":"IF('Załącznik nr 1 do rozliczenia'!H233<0,ABS('Załącznik nr 1 do rozliczenia'!H233),0)","v":0},{"$f":"'Rozliczenie kwartalne'!G236","v":0},{"$f":"'Rozliczenie kwartalne'!H236","v":0},{"$f":"'Rozliczenie kwartalne'!I236","v":0},{"$f":"'Rozliczenie kwartalne'!F236","v":0},{"$f":"'Rozliczenie kwartalne'!J236","v":0},{"$f":"'Rozliczenie kwartalne'!K236","v":0},{"$f":"'Rozliczenie kwartalne'!L236","v":0},{"$f":"'Rozliczenie kwartalne'!M236","v":0},{"$f":"'Rozliczenie kwartalne'!N236","v":0},null,null,"80",0,0,0,0,0,0,0,0,0,0,0,"ok","ok",0,0]
[{"$f":"'Rozliczenie kwartalne'!A116","v":"81"},{"$f":"'Rozliczenie kwartalne'!B116","v":""},{"$f":"'Załącznik nr 2 do rozliczenia'!H230","v":0},{"$f":"IF('Załącznik nr 1 do rozliczenia'!H234<0,ABS('Załącznik nr 1 do rozliczenia'!H234),0)","v":0},{"$f":"'Rozliczenie kwartalne'!G237","v":0},{"$f":"'Rozliczenie kwartalne'!H237","v":0},{"$f":"'Rozliczenie kwartalne'!I237","v":0},{"$f":"'Rozliczenie kwartalne'!F237","v":0},{"$f":"'Rozliczenie kwartalne'!J237","v":0},{"$f":"'Rozliczenie kwartalne'!K237","v":0},{"$f":"'Rozliczenie kwartalne'!L237","v":0},{"$f":"'Rozliczenie kwartalne'!M237","v":0},{"$f":"'Rozliczenie kwartalne'!N237","v":0},null,null,"81",0,0,0,0,0,0,0,0,0,0,0,"ok","ok",0,0]
[{"$f":"'Rozliczenie kwartalne'!A117","v":"82"},{"$f":"'Rozliczenie kwartalne'!B117","v":""},{"$f":"'Załącznik nr 2 do rozliczenia'!H231","v":0},{"$f":"IF('Załącznik nr 1 do rozliczenia'!H235<0,ABS('Załącznik nr 1 do rozliczenia'!H235),0)","v":0},{"$f":"'Rozliczenie kwartalne'!G238","v":0},{"$f":"'Rozliczenie kwartalne'!H238","v":0},{"$f":"'Rozliczenie kwartalne'!I238","v":0},{"$f":"'Rozliczenie kwartalne'!F238","v":0},{"$f":"'Rozliczenie kwartalne'!J238","v":0},{"$f":"'Rozliczenie kwartalne'!K238","v":0},{"$f":"'Rozliczenie kwartalne'!L238","v":0},{"$f":"'Rozliczenie kwartalne'!M238","v":0},{"$f":"'Rozliczenie kwartalne'!N238","v":0},null,null,"82",0,0,0,0,0,0,0,0,0,0,0,"ok","ok",0,0]
[{"$f":"'Rozliczenie kwartalne'!A118","v":"83"},{"$f":"'Rozliczenie kwartalne'!B118","v":""},{"$f":"'Załącznik nr 2 do rozliczenia'!H232","v":0},{"$f":"IF('Załącznik nr 1 do rozliczenia'!H236<0,ABS('Załącznik nr 1 do rozliczenia'!H236),0)","v":0},{"$f":"'Rozliczenie kwartalne'!G239","v":0},{"$f":"'Rozliczenie kwartalne'!H239","v":0},{"$f":"'Rozliczenie kwartalne'!I239","v":0},{"$f":"'Rozliczenie kwartalne'!F239","v":0},{"$f":"'Rozliczenie kwartalne'!J239","v":0},{"$f":"'Rozliczenie kwartalne'!K239","v":0},{"$f":"'Rozliczenie kwartalne'!L239","v":0},{"$f":"'Rozliczenie kwartalne'!M239","v":0},{"$f":"'Rozliczenie kwartalne'!N239","v":0},null,null,"83",0,0,0,0,0,0,0,0,0,0,0,"ok","ok",0,0]
[{"$f":"'Rozliczenie kwartalne'!A119","v":"84"},{"$f":"'Rozliczenie kwartalne'!B119","v":""},{"$f":"'Załącznik nr 2 do rozliczenia'!H233","v":0},{"$f":"IF('Załącznik nr 1 do rozliczenia'!H237<0,ABS('Załącznik nr 1 do rozliczenia'!H237),0)","v":0},{"$f":"'Rozliczenie kwartalne'!G240","v":0},{"$f":"'Rozliczenie kwartalne'!H240","v":0},{"$f":"'Rozliczenie kwartalne'!I240","v":0},{"$f":"'Rozliczenie kwartalne'!F240","v":0},{"$f":"'Rozliczenie kwartalne'!J240","v":0},{"$f":"'Rozliczenie kwartalne'!K240","v":0},{"$f":"'Rozliczenie kwartalne'!L240","v":0},{"$f":"'Rozliczenie kwartalne'!M240","v":0},{"$f":"'Rozliczenie kwartalne'!N240","v":0},null,null,"84",0,0,0,0,0,0,0,0,0,0,0,"ok","ok",0,0]
[{"$f":"'Rozliczenie kwartalne'!A120","v":"85"},{"$f":"'Rozliczenie kwartalne'!B120","v":""},{"$f":"'Załącznik nr 2 do rozliczenia'!H234","v":0},{"$f":"IF('Załącznik nr 1 do rozliczenia'!H238<0,ABS('Załącznik nr 1 do rozliczenia'!H238),0)","v":0},{"$f":"'Rozliczenie kwartalne'!G241","v":0},{"$f":"'Rozliczenie kwartalne'!H241","v":0},{"$f":"'Rozliczenie kwartalne'!I241","v":0},{"$f":"'Rozliczenie kwartalne'!F241","v":0},{"$f":"'Rozliczenie kwartalne'!J241","v":0},{"$f":"'Rozliczenie kwartalne'!K241","v":0},{"$f":"'Rozliczenie kwartalne'!L241","v":0},{"$f":"'Rozliczenie kwartalne'!M241","v":0},{"$f":"'Rozliczenie kwartalne'!N241","v":0},null,null,"85",0,0,0,0,0,0,0,0,0,0,0,"ok","ok",0,0]
[{"$f":"'Rozliczenie kwartalne'!A121","v":"86"},{"$f":"'Rozliczenie kwartalne'!B121","v":""},{"$f":"'Załącznik nr 2 do rozliczenia'!H235","v":0},{"$f":"IF('Załącznik nr 1 do rozliczenia'!H239<0,ABS('Załącznik nr 1 do rozliczenia'!H239),0)","v":0},{"$f":"'Rozliczenie kwartalne'!G242","v":0},{"$f":"'Rozliczenie kwartalne'!H242","v":0},{"$f":"'Rozliczenie kwartalne'!I242","v":0},{"$f":"'Rozliczenie kwartalne'!F242","v":0},{"$f":"'Rozliczenie kwartalne'!J242","v":0},{"$f":"'Rozliczenie kwartalne'!K242","v":0},{"$f":"'Rozliczenie kwartalne'!L242","v":0},{"$f":"'Rozliczenie kwartalne'!M242","v":0},{"$f":"'Rozliczenie kwartalne'!N242","v":0},null,null,"86",0,0,0,0,0,0,0,0,0,0,0,"ok","ok",0,0]
[{"$f":"'Rozliczenie kwartalne'!A122","v":"87"},{"$f":"'Rozliczenie kwartalne'!B122","v":""},{"$f":"'Załącznik nr 2 do rozliczenia'!H236","v":0},{"$f":"IF('Załącznik nr 1 do rozliczenia'!H240<0,ABS('Załącznik nr 1 do rozliczenia'!H240),0)","v":0},{"$f":"'Rozliczenie kwartalne'!G243","v":0},{"$f":"'Rozliczenie kwartalne'!H243","v":0},{"$f":"'Rozliczenie kwartalne'!I243","v":0},{"$f":"'Rozliczenie kwartalne'!F243","v":0},{"$f":"'Rozliczenie kwartalne'!J243","v":0},{"$f":"'Rozliczenie kwartalne'!K243","v":0},{"$f":"'Rozliczenie kwartalne'!L243","v":0},{"$f":"'Rozliczenie kwartalne'!M243","v":0},{"$f":"'Rozliczenie kwartalne'!N243","v":0},null,null,"87",0,0,0,0,0,0,0,0,0,0,0,"ok","ok",0,0]
[{"$f":"'Rozliczenie kwartalne'!A123","v":"88"},{"$f":"'Rozliczenie kwartalne'!B123","v":""},{"$f":"'Załącznik nr 2 do rozliczenia'!H237","v":0},{"$f":"IF('Załącznik nr 1 do rozliczenia'!H241<0,ABS('Załącznik nr 1 do rozliczenia'!H241),0)","v":0},{"$f":"'Rozliczenie kwartalne'!G244","v":0},{"$f":"'Rozliczenie kwartalne'!H244","v":0},{"$f":"'Rozliczenie kwartalne'!I244","v":0},{"$f":"'Rozliczenie kwartalne'!F244","v":0},{"$f":"'Rozliczenie kwartalne'!J244","v":0},{"$f":"'Rozliczenie kwartalne'!K244","v":0},{"$f":"'Rozliczenie kwartalne'!L244","v":0},{"$f":"'Rozliczenie kwartalne'!M244","v":0},{"$f":"'Rozliczenie kwartalne'!N244","v":0},null,null,"88",0,0,0,0,0,0,0,0,0,0,0,"ok","ok",0,0]
[{"$f":"'Rozliczenie kwartalne'!A124","v":"89"},{"$f":"'Rozliczenie kwartalne'!B124","v":""},{"$f":"'Załącznik nr 2 do rozliczenia'!H238","v":0},{"$f":"IF('Załącznik nr 1 do rozliczenia'!H242<0,ABS('Załącznik nr 1 do rozliczenia'!H242),0)","v":0},{"$f":"'Rozliczenie kwartalne'!G245","v":0},{"$f":"'Rozliczenie kwartalne'!H245","v":0},{"$f":"'Rozliczenie kwartalne'!I245","v":0},{"$f":"'Rozliczenie kwartalne'!F245","v":0},{"$f":"'Rozliczenie kwartalne'!J245","v":0},{"$f":"'Rozliczenie kwartalne'!K245","v":0},{"$f":"'Rozliczenie kwartalne'!L245","v":0},{"$f":"'Rozliczenie kwartalne'!M245","v":0},{"$f":"'Rozliczenie kwartalne'!N245","v":0},null,null,"89",0,0,0,0,0,0,0,0,0,0,0,"ok","ok",0,0]
[{"$f":"'Rozliczenie kwartalne'!A125","v":"90"},{"$f":"'Rozliczenie kwartalne'!B125","v":""},{"$f":"'Załącznik nr 2 do rozliczenia'!H239","v":0},{"$f":"IF('Załącznik nr 1 do rozliczenia'!H243<0,ABS('Załącznik nr 1 do rozliczenia'!H243),0)","v":0},{"$f":"'Rozliczenie kwartalne'!G246","v":0},{"$f":"'Rozliczenie kwartalne'!H246","v":0},{"$f":"'Rozliczenie kwartalne'!I246","v":0},{"$f":"'Rozliczenie kwartalne'!F246","v":0},{"$f":"'Rozliczenie kwartalne'!J246","v":0},{"$f":"'Rozliczenie kwartalne'!K246","v":0},{"$f":"'Rozliczenie kwartalne'!L246","v":0},{"$f":"'Rozliczenie kwartalne'!M246","v":0},{"$f":"'Rozliczenie kwartalne'!N246","v":0},null,null,"90",0,0,0,0,0,0,0,0,0,0,0,"ok","ok",0,0]
[{"$f":"'Rozliczenie kwartalne'!A126","v":"91"},{"$f":"'Rozliczenie kwartalne'!B126","v":""},{"$f":"'Załącznik nr 2 do rozliczenia'!H240","v":0},{"$f":"IF('Załącznik nr 1 do rozliczenia'!H244<0,ABS('Załącznik nr 1 do rozliczenia'!H244),0)","v":0},{"$f":"'Rozliczenie kwartalne'!G247","v":0},{"$f":"'Rozliczenie kwartalne'!H247","v":0},{"$f":"'Rozliczenie kwartalne'!I247","v":0},{"$f":"'Rozliczenie kwartalne'!F247","v":0},{"$f":"'Rozliczenie kwartalne'!J247","v":0},{"$f":"'Rozliczenie kwartalne'!K247","v":0},{"$f":"'Rozliczenie kwartalne'!L247","v":0},{"$f":"'Rozliczenie kwartalne'!M247","v":0},{"$f":"'Rozliczenie kwartalne'!N247","v":0},null,null,"91",0,0,0,0,0,0,0,0,0,0,0,"ok","ok",0,0]
[{"$f":"'Rozliczenie kwartalne'!A127","v":"92"},{"$f":"'Rozliczenie kwartalne'!B127","v":""},{"$f":"'Załącznik nr 2 do rozliczenia'!H241","v":0},{"$f":"IF('Załącznik nr 1 do rozliczenia'!H245<0,ABS('Załącznik nr 1 do rozliczenia'!H245),0)","v":0},{"$f":"'Rozliczenie kwartalne'!G248","v":0},{"$f":"'Rozliczenie kwartalne'!H248","v":0},{"$f":"'Rozliczenie kwartalne'!I248","v":0},{"$f":"'Rozliczenie kwartalne'!F248","v":0},{"$f":"'Rozliczenie kwartalne'!J248","v":0},{"$f":"'Rozliczenie kwartalne'!K248","v":0},{"$f":"'Rozliczenie kwartalne'!L248","v":0},{"$f":"'Rozliczenie kwartalne'!M248","v":0},{"$f":"'Rozliczenie kwartalne'!N248","v":0},null,null,"92",0,0,0,0,0,0,0,0,0,0,0,"ok","ok",0,0]
[{"$f":"'Rozliczenie kwartalne'!A128","v":"93"},{"$f":"'Rozliczenie kwartalne'!B128","v":""},{"$f":"'Załącznik nr 2 do rozliczenia'!H242","v":0},{"$f":"IF('Załącznik nr 1 do rozliczenia'!H246<0,ABS('Załącznik nr 1 do rozliczenia'!H246),0)","v":0},{"$f":"'Rozliczenie kwartalne'!G249","v":0},{"$f":"'Rozliczenie kwartalne'!H249","v":0},{"$f":"'Rozliczenie kwartalne'!I249","v":0},{"$f":"'Rozliczenie kwartalne'!F249","v":0},{"$f":"'Rozliczenie kwartalne'!J249","v":0},{"$f":"'Rozliczenie kwartalne'!K249","v":0},{"$f":"'Rozliczenie kwartalne'!L249","v":0},{"$f":"'Rozliczenie kwartalne'!M249","v":0},{"$f":"'Rozliczenie kwartalne'!N249","v":0},null,null,"93",0,0,0,0,0,0,0,0,0,0,0,"ok","ok",0,0]
[{"$f":"'Rozliczenie kwartalne'!A129","v":"94"},{"$f":"'Rozliczenie kwartalne'!B129","v":""},{"$f":"'Załącznik nr 2 do rozliczenia'!H243","v":0},{"$f":"IF('Załącznik nr 1 do rozliczenia'!H247<0,ABS('Załącznik nr 1 do rozliczenia'!H247),0)","v":0},{"$f":"'Rozliczenie kwartalne'!G250","v":0},{"$f":"'Rozliczenie kwartalne'!H250","v":0},{"$f":"'Rozliczenie kwartalne'!I250","v":0},{"$f":"'Rozliczenie kwartalne'!F250","v":0},{"$f":"'Rozliczenie kwartalne'!J250","v":0},{"$f":"'Rozliczenie kwartalne'!K250","v":0},{"$f":"'Rozliczenie kwartalne'!L250","v":0},{"$f":"'Rozliczenie kwartalne'!M250","v":0},{"$f":"'Rozliczenie kwartalne'!N250","v":0},null,null,"94",0,0,0,0,0,0,0,0,0,0,0,"ok","ok",0,0]
[{"$f":"'Rozliczenie kwartalne'!A130","v":"95"},{"$f":"'Rozliczenie kwartalne'!B130","v":""},{"$f":"'Załącznik nr 2 do rozliczenia'!H244","v":0},{"$f":"IF('Załącznik nr 1 do rozliczenia'!H248<0,ABS('Załącznik nr 1 do rozliczenia'!H248),0)","v":0},{"$f":"'Rozliczenie kwartalne'!G251","v":0},{"$f":"'Rozliczenie kwartalne'!H251","v":0},{"$f":"'Rozliczenie kwartalne'!I251","v":0},{"$f":"'Rozliczenie kwartalne'!F251","v":0},{"$f":"'Rozliczenie kwartalne'!J251","v":0},{"$f":"'Rozliczenie kwartalne'!K251","v":0},{"$f":"'Rozliczenie kwartalne'!L251","v":0},{"$f":"'Rozliczenie kwartalne'!M251","v":0},{"$f":"'Rozliczenie kwartalne'!N251","v":0},null,null,"95",0,0,0,0,0,0,0,0,0,0,0,"ok","ok",0,0]
[{"$f":"'Rozliczenie kwartalne'!A131","v":"96"},{"$f":"'Rozliczenie kwartalne'!B131","v":""},{"$f":"'Załącznik nr 2 do rozliczenia'!H245","v":0},{"$f":"IF('Załącznik nr 1 do rozliczenia'!H249<0,ABS('Załącznik nr 1 do rozliczenia'!H249),0)","v":0},{"$f":"'Rozliczenie kwartalne'!G252","v":0},{"$f":"'Rozliczenie kwartalne'!H252","v":0},{"$f":"'Rozliczenie kwartalne'!I252","v":0},{"$f":"'Rozliczenie kwartalne'!F252","v":0},{"$f":"'Rozliczenie kwartalne'!J252","v":0},{"$f":"'Rozliczenie kwartalne'!K252","v":0},{"$f":"'Rozliczenie kwartalne'!L252","v":0},{"$f":"'Rozliczenie kwartalne'!M252","v":0},{"$f":"'Rozliczenie kwartalne'!N252","v":0},null,null,"96",0,0,0,0,0,0,0,0,0,0,0,"ok","ok",0,0]
[{"$f":"'Rozliczenie kwartalne'!A132","v":"97"},{"$f":"'Rozliczenie kwartalne'!B132","v":""},{"$f":"'Załącznik nr 2 do rozliczenia'!H246","v":0},{"$f":"IF('Załącznik nr 1 do rozliczenia'!H250<0,ABS('Załącznik nr 1 do rozliczenia'!H250),0)","v":0},{"$f":"'Rozliczenie kwartalne'!G253","v":0},{"$f":"'Rozliczenie kwartalne'!H253","v":0},{"$f":"'Rozliczenie kwartalne'!I253","v":0},{"$f":"'Rozliczenie kwartalne'!F253","v":0},{"$f":"'Rozliczenie kwartalne'!J253","v":0},{"$f":"'Rozliczenie kwartalne'!K253","v":0},{"$f":"'Rozliczenie kwartalne'!L253","v":0},{"$f":"'Rozliczenie kwartalne'!M253","v":0},{"$f":"'Rozliczenie kwartalne'!N253","v":0},null,null,"97",0,0,0,0,0,0,0,0,0,0,0,"ok","ok",0,0]
[{"$f":"'Rozliczenie kwartalne'!A133","v":"98"},{"$f":"'Rozliczenie kwartalne'!B133","v":""},{"$f":"'Załącznik nr 2 do rozliczenia'!H247","v":0},{"$f":"IF('Załącznik nr 1 do rozliczenia'!H251<0,ABS('Załącznik nr 1 do rozliczenia'!H251),0)","v":0},{"$f":"'Rozliczenie kwartalne'!G254","v":0},{"$f":"'Rozliczenie kwartalne'!H254","v":0},{"$f":"'Rozliczenie kwartalne'!I254","v":0},{"$f":"'Rozliczenie kwartalne'!F254","v":0},{"$f":"'Rozliczenie kwartalne'!J254","v":0},{"$f":"'Rozliczenie kwartalne'!K254","v":0},{"$f":"'Rozliczenie kwartalne'!L254","v":0},{"$f":"'Rozliczenie kwartalne'!M254","v":0},{"$f":"'Rozliczenie kwartalne'!N254","v":0},null,null,"98",0,0,0,0,0,0,0,0,0,0,0,"ok","ok",0,0]
[{"$f":"'Rozliczenie kwartalne'!A134","v":"99"},{"$f":"'Rozliczenie kwartalne'!B134","v":""},{"$f":"'Załącznik nr 2 do rozliczenia'!H248","v":0},{"$f":"IF('Załącznik nr 1 do rozliczenia'!H252<0,ABS('Załącznik nr 1 do rozliczenia'!H252),0)","v":0},{"$f":"'Rozliczenie kwartalne'!G255","v":0},{"$f":"'Rozliczenie kwartalne'!H255","v":0},{"$f":"'Rozliczenie kwartalne'!I255","v":0},{"$f":"'Rozliczenie kwartalne'!F255","v":0},{"$f":"'Rozliczenie kwartalne'!J255","v":0},{"$f":"'Rozliczenie kwartalne'!K255","v":0},{"$f":"'Rozliczenie kwartalne'!L255","v":0},{"$f":"'Rozliczenie kwartalne'!M255","v":0},{"$f":"'Rozliczenie kwartalne'!N255","v":0},null,null,"99",0,0,0,0,0,0,0,0,0,0,0,"ok","ok",0,0]
[{"$f":"'Rozliczenie kwartalne'!A135","v":"100"},{"$f":"'Rozliczenie kwartalne'!B135","v":""},{"$f":"'Załącznik nr 2 do rozliczenia'!H249","v":0},{"$f":"IF('Załącznik nr 1 do rozliczenia'!H253<0,ABS('Załącznik nr 1 do rozliczenia'!H253),0)","v":0},{"$f":"'Rozliczenie kwartalne'!G256","v":0},{"$f":"'Rozliczenie kwartalne'!H256","v":0},{"$f":"'Rozliczenie kwartalne'!I256","v":0},{"$f":"'Rozliczenie kwartalne'!F256","v":0},{"$f":"'Rozliczenie kwartalne'!J256","v":0},{"$f":"'Rozliczenie kwartalne'!K256","v":0},{"$f":"'Rozliczenie kwartalne'!L256","v":0},{"$f":"'Rozliczenie kwartalne'!M256","v":0},{"$f":"'Rozliczenie kwartalne'!N256","v":0},null,null,"100",0,0,0,0,0,0,0,0,0,0,0,"ok","ok",0,0]
[{"$f":"'Rozliczenie kwartalne'!A136","v":"101"},{"$f":"'Rozliczenie kwartalne'!B136","v":""},{"$f":"'Załącznik nr 2 do rozliczenia'!H250","v":0},{"$f":"IF('Załącznik nr 1 do rozliczenia'!H254<0,ABS('Załącznik nr 1 do rozliczenia'!H254),0)","v":0},{"$f":"'Rozliczenie kwartalne'!G257","v":0},{"$f":"'Rozliczenie kwartalne'!H257","v":0},{"$f":"'Rozliczenie kwartalne'!I257","v":0},{"$f":"'Rozliczenie kwartalne'!F257","v":0},{"$f":"'Rozliczenie kwartalne'!J257","v":0},{"$f":"'Rozliczenie kwartalne'!K257","v":0},{"$f":"'Rozliczenie kwartalne'!L257","v":0},{"$f":"'Rozliczenie kwartalne'!M257","v":0},{"$f":"'Rozliczenie kwartalne'!N257","v":0},null,null,"101",0,0,0,0,0,0,0,0,0,0,0,"ok","ok",0,0]
[{"$f":"'Rozliczenie kwartalne'!A137","v":"102"},{"$f":"'Rozliczenie kwartalne'!B137","v":""},{"$f":"'Załącznik nr 2 do rozliczenia'!H251","v":0},{"$f":"IF('Załącznik nr 1 do rozliczenia'!H255<0,ABS('Załącznik nr 1 do rozliczenia'!H255),0)","v":0},{"$f":"'Rozliczenie kwartalne'!G258","v":0},{"$f":"'Rozliczenie kwartalne'!H258","v":0},{"$f":"'Rozliczenie kwartalne'!I258","v":0},{"$f":"'Rozliczenie kwartalne'!F258","v":0},{"$f":"'Rozliczenie kwartalne'!J258","v":0},{"$f":"'Rozliczenie kwartalne'!K258","v":0},{"$f":"'Rozliczenie kwartalne'!L258","v":0},{"$f":"'Rozliczenie kwartalne'!M258","v":0},{"$f":"'Rozliczenie kwartalne'!N258","v":0},null,null,"102",0,0,0,0,0,0,0,0,0,0,0,"ok","ok",0,0]
[{"$f":"'Rozliczenie kwartalne'!A138","v":"103"},{"$f":"'Rozliczenie kwartalne'!B138","v":""},{"$f":"'Załącznik nr 2 do rozliczenia'!H252","v":0},{"$f":"IF('Załącznik nr 1 do rozliczenia'!H256<0,ABS('Załącznik nr 1 do rozliczenia'!H256),0)","v":0},{"$f":"'Rozliczenie kwartalne'!G259","v":0},{"$f":"'Rozliczenie kwartalne'!H259","v":0},{"$f":"'Rozliczenie kwartalne'!I259","v":0},{"$f":"'Rozliczenie kwartalne'!F259","v":0},{"$f":"'Rozliczenie kwartalne'!J259","v":0},{"$f":"'Rozliczenie kwartalne'!K259","v":0},{"$f":"'Rozliczenie kwartalne'!L259","v":0},{"$f":"'Rozliczenie kwartalne'!M259","v":0},{"$f":"'Rozliczenie kwartalne'!N259","v":0},null,null,"103",0,0,0,0,0,0,0,0,0,0,0,"ok","ok",0,0]
[{"$f":"'Rozliczenie kwartalne'!A139","v":"104"},{"$f":"'Rozliczenie kwartalne'!B139","v":""},{"$f":"'Załącznik nr 2 do rozliczenia'!H253","v":0},{"$f":"IF('Załącznik nr 1 do rozliczenia'!H257<0,ABS('Załącznik nr 1 do rozliczenia'!H257),0)","v":0},{"$f":"'Rozliczenie kwartalne'!G260","v":0},{"$f":"'Rozliczenie kwartalne'!H260","v":0},{"$f":"'Rozliczenie kwartalne'!I260","v":0},{"$f":"'Rozliczenie kwartalne'!F260","v":0},{"$f":"'Rozliczenie kwartalne'!J260","v":0},{"$f":"'Rozliczenie kwartalne'!K260","v":0},{"$f":"'Rozliczenie kwartalne'!L260","v":0},{"$f":"'Rozliczenie kwartalne'!M260","v":0},{"$f":"'Rozliczenie kwartalne'!N260","v":0},null,null,"104",0,0,0,0,0,0,0,0,0,0,0,"ok","ok",0,0]
[{"$f":"'Rozliczenie kwartalne'!A140","v":"105"},{"$f":"'Rozliczenie kwartalne'!B140","v":""},{"$f":"'Załącznik nr 2 do rozliczenia'!H254","v":0},{"$f":"IF('Załącznik nr 1 do rozliczenia'!H258<0,ABS('Załącznik nr 1 do rozliczenia'!H258),0)","v":0},{"$f":"'Rozliczenie kwartalne'!G261","v":0},{"$f":"'Rozliczenie kwartalne'!H261","v":0},{"$f":"'Rozliczenie kwartalne'!I261","v":0},{"$f":"'Rozliczenie kwartalne'!F261","v":0},{"$f":"'Rozliczenie kwartalne'!J261","v":0},{"$f":"'Rozliczenie kwartalne'!K261","v":0},{"$f":"'Rozliczenie kwartalne'!L261","v":0},{"$f":"'Rozliczenie kwartalne'!M261","v":0},{"$f":"'Rozliczenie kwartalne'!N261","v":0},null,null,"105",0,0,0,0,0,0,0,0,0,0,0,"ok","ok",0,0]
[{"$f":"'Rozliczenie kwartalne'!A141","v":"106"},{"$f":"'Rozliczenie kwartalne'!B141","v":""},{"$f":"'Załącznik nr 2 do rozliczenia'!H255","v":0},{"$f":"IF('Załącznik nr 1 do rozliczenia'!H259<0,ABS('Załącznik nr 1 do rozliczenia'!H259),0)","v":0},{"$f":"'Rozliczenie kwartalne'!G262","v":0},{"$f":"'Rozliczenie kwartalne'!H262","v":0},{"$f":"'Rozliczenie kwartalne'!I262","v":0},{"$f":"'Rozliczenie kwartalne'!F262","v":0},{"$f":"'Rozliczenie kwartalne'!J262","v":0},{"$f":"'Rozliczenie kwartalne'!K262","v":0},{"$f":"'Rozliczenie kwartalne'!L262","v":0},{"$f":"'Rozliczenie kwartalne'!M262","v":0},{"$f":"'Rozliczenie kwartalne'!N262","v":0},null,null,"106",0,0,0,0,0,0,0,0,0,0,0,"ok","ok",0,0]
[{"$f":"'Rozliczenie kwartalne'!A142","v":"107"},{"$f":"'Rozliczenie kwartalne'!B142","v":""},{"$f":"'Załącznik nr 2 do rozliczenia'!H256","v":0},{"$f":"IF('Załącznik nr 1 do rozliczenia'!H260<0,ABS('Załącznik nr 1 do rozliczenia'!H260),0)","v":0},{"$f":"'Rozliczenie kwartalne'!G263","v":0},{"$f":"'Rozliczenie kwartalne'!H263","v":0},{"$f":"'Rozliczenie kwartalne'!I263","v":0},{"$f":"'Rozliczenie kwartalne'!F263","v":0},{"$f":"'Rozliczenie kwartalne'!J263","v":0},{"$f":"'Rozliczenie kwartalne'!K263","v":0},{"$f":"'Rozliczenie kwartalne'!L263","v":0},{"$f":"'Rozliczenie kwartalne'!M263","v":0},{"$f":"'Rozliczenie kwartalne'!N263","v":0},null,null,"107",0,0,0,0,0,0,0,0,0,0,0,"ok","ok",0,0]
[{"$f":"'Rozliczenie kwartalne'!A143","v":"108"},{"$f":"'Rozliczenie kwartalne'!B143","v":""},{"$f":"'Załącznik nr 2 do rozliczenia'!H257","v":0},{"$f":"IF('Załącznik nr 1 do rozliczenia'!H261<0,ABS('Załącznik nr 1 do rozliczenia'!H261),0)","v":0},{"$f":"'Rozliczenie kwartalne'!G264","v":0},{"$f":"'Rozliczenie kwartalne'!H264","v":0},{"$f":"'Rozliczenie kwartalne'!I264","v":0},{"$f":"'Rozliczenie kwartalne'!F264","v":0},{"$f":"'Rozliczenie kwartalne'!J264","v":0},{"$f":"'Rozliczenie kwartalne'!K264","v":0},{"$f":"'Rozliczenie kwartalne'!L264","v":0},{"$f":"'Rozliczenie kwartalne'!M264","v":0},{"$f":"'Rozliczenie kwartalne'!N264","v":0},null,null,"108",0,0,0,0,0,0,0,0,0,0,0,"ok","ok",0,0]
[{"$f":"'Rozliczenie kwartalne'!A144","v":"109"},{"$f":"'Rozliczenie kwartalne'!B144","v":""},{"$f":"'Załącznik nr 2 do rozliczenia'!H258","v":0},{"$f":"IF('Załącznik nr 1 do rozliczenia'!H262<0,ABS('Załącznik nr 1 do rozliczenia'!H262),0)","v":0},{"$f":"'Rozliczenie kwartalne'!G265","v":0},{"$f":"'Rozliczenie kwartalne'!H265","v":0},{"$f":"'Rozliczenie kwartalne'!I265","v":0},{"$f":"'Rozliczenie kwartalne'!F265","v":0},{"$f":"'Rozliczenie kwartalne'!J265","v":0},{"$f":"'Rozliczenie kwartalne'!K265","v":0},{"$f":"'Rozliczenie kwartalne'!L265","v":0},{"$f":"'Rozliczenie kwartalne'!M265","v":0},{"$f":"'Rozliczenie kwartalne'!N265","v":0},null,null,"109",0,0,0,0,0,0,0,0,0,0,0,"ok","ok",0,0]
[{"$f":"'Rozliczenie kwartalne'!A145","v":"110"},{"$f":"'Rozliczenie kwartalne'!B145","v":""},{"$f":"'Załącznik nr 2 do rozliczenia'!H259","v":0},{"$f":"IF('Załącznik nr 1 do rozliczenia'!H263<0,ABS('Załącznik nr 1 do rozliczenia'!H263),0)","v":0},{"$f":"'Rozliczenie kwartalne'!G266","v":0},{"$f":"'Rozliczenie kwartalne'!H266","v":0},{"$f":"'Rozliczenie kwartalne'!I266","v":0},{"$f":"'Rozliczenie kwartalne'!F266","v":0},{"$f":"'Rozliczenie kwartalne'!J266","v":0},{"$f":"'Rozliczenie kwartalne'!K266","v":0},{"$f":"'Rozliczenie kwartalne'!L266","v":0},{"$f":"'Rozliczenie kwartalne'!M266","v":0},{"$f":"'Rozliczenie kwartalne'!N266","v":0},null,null,"110",0,0,0,0,0,0,0,0,0,0,0,"ok","ok",0,0]
[{"$f":"'Rozliczenie kwartalne'!A146","v":"111"},{"$f":"'Rozliczenie kwartalne'!B146","v":""},{"$f":"'Załącznik nr 2 do rozliczenia'!H260","v":0},{"$f":"IF('Załącznik nr 1 do rozliczenia'!H264<0,ABS('Załącznik nr 1 do rozliczenia'!H264),0)","v":0},{"$f":"'Rozliczenie kwartalne'!G267","v":0},{"$f":"'Rozliczenie kwartalne'!H267","v":0},{"$f":"'Rozliczenie kwartalne'!I267","v":0},{"$f":"'Rozliczenie kwartalne'!F267","v":0},{"$f":"'Rozliczenie kwartalne'!J267","v":0},{"$f":"'Rozliczenie kwartalne'!K267","v":0},{"$f":"'Rozliczenie kwartalne'!L267","v":0},{"$f":"'Rozliczenie kwartalne'!M267","v":0},{"$f":"'Rozliczenie kwartalne'!N267","v":0},null,null,"111",0,0,0,0,0,0,0,0,0,0,0,"ok","ok",0,0]
[{"$f":"'Rozliczenie kwartalne'!A147","v":"112"},{"$f":"'Rozliczenie kwartalne'!B147","v":""},{"$f":"'Załącznik nr 2 do rozliczenia'!H261","v":0},{"$f":"IF('Załącznik nr 1 do rozliczenia'!H265<0,ABS('Załącznik nr 1 do rozliczenia'!H265),0)","v":0},{"$f":"'Rozliczenie kwartalne'!G268","v":0},{"$f":"'Rozliczenie kwartalne'!H268","v":0},{"$f":"'Rozliczenie kwartalne'!I268","v":0},{"$f":"'Rozliczenie kwartalne'!F268","v":0},{"$f":"'Rozliczenie kwartalne'!J268","v":0},{"$f":"'Rozliczenie kwartalne'!K268","v":0},{"$f":"'Rozliczenie kwartalne'!L268","v":0},{"$f":"'Rozliczenie kwartalne'!M268","v":0},{"$f":"'Rozliczenie kwartalne'!N268","v":0},null,null,"112",0,0,0,0,0,0,0,0,0,0,0,"ok","ok",0,0]
[{"$f":"'Rozliczenie kwartalne'!A148","v":"113"},{"$f":"'Rozliczenie kwartalne'!B148","v":""},{"$f":"'Załącznik nr 2 do rozliczenia'!H262","v":0},{"$f":"IF('Załącznik nr 1 do rozliczenia'!H266<0,ABS('Załącznik nr 1 do rozliczenia'!H266),0)","v":0},{"$f":"'Rozliczenie kwartalne'!G269","v":0},{"$f":"'Rozliczenie kwartalne'!H269","v":0},{"$f":"'Rozliczenie kwartalne'!I269","v":0},{"$f":"'Rozliczenie kwartalne'!F269","v":0},{"$f":"'Rozliczenie kwartalne'!J269","v":0},{"$f":"'Rozliczenie kwartalne'!K269","v":0},{"$f":"'Rozliczenie kwartalne'!L269","v":0},{"$f":"'Rozliczenie kwartalne'!M269","v":0},{"$f":"'Rozliczenie kwartalne'!N269","v":0},null,null,"113",0,0,0,0,0,0,0,0,0,0,0,"ok","ok",0,0]
[{"$f":"'Rozliczenie kwartalne'!A149","v":"114"},{"$f":"'Rozliczenie kwartalne'!B149","v":""},{"$f":"'Załącznik nr 2 do rozliczenia'!H263","v":0},{"$f":"IF('Załącznik nr 1 do rozliczenia'!H267<0,ABS('Załącznik nr 1 do rozliczenia'!H267),0)","v":0},{"$f":"'Rozliczenie kwartalne'!G270","v":0},{"$f":"'Rozliczenie kwartalne'!H270","v":0},{"$f":"'Rozliczenie kwartalne'!I270","v":0},{"$f":"'Rozliczenie kwartalne'!F270","v":0},{"$f":"'Rozliczenie kwartalne'!J270","v":0},{"$f":"'Rozliczenie kwartalne'!K270","v":0},{"$f":"'Rozliczenie kwartalne'!L270","v":0},{"$f":"'Rozliczenie kwartalne'!M270","v":0},{"$f":"'Rozliczenie kwartalne'!N270","v":0},null,null,"114",0,0,0,0,0,0,0,0,0,0,0,"ok","ok",0,0]
[{"$f":"'Rozliczenie kwartalne'!A150","v":"115"},{"$f":"'Rozliczenie kwartalne'!B150","v":""},{"$f":"'Załącznik nr 2 do rozliczenia'!H264","v":0},{"$f":"IF('Załącznik nr 1 do rozliczenia'!H268<0,ABS('Załącznik nr 1 do rozliczenia'!H268),0)","v":0},{"$f":"'Rozliczenie kwartalne'!G271","v":0},{"$f":"'Rozliczenie kwartalne'!H271","v":0},{"$f":"'Rozliczenie kwartalne'!I271","v":0},{"$f":"'Rozliczenie kwartalne'!F271","v":0},{"$f":"'Rozliczenie kwartalne'!J271","v":0},{"$f":"'Rozliczenie kwartalne'!K271","v":0},{"$f":"'Rozliczenie kwartalne'!L271","v":0},{"$f":"'Rozliczenie kwartalne'!M271","v":0},{"$f":"'Rozliczenie kwartalne'!N271","v":0},null,null,"115",0,0,0,0,0,0,0,0,0,0,0,"ok","ok",0,0]
[{"$f":"'Rozliczenie kwartalne'!A151","v":"Ogółem:"},null,{"$f":"'Załącznik nr 2 do rozliczenia'!H265","v":0},{"$f":"IF('Załącznik nr 1 do rozliczenia'!H269<0,ABS('Załącznik nr 1 do rozliczenia'!H269),0)","v":0},null,null,null,{"$f":"'Rozliczenie kwartalne'!F272","v":0},{"$f":"'Rozliczenie kwartalne'!J267","v":0},{"$f":"SUMIF(J3:J117,\">0\")","v":0},{"$f":"'Rozliczenie kwartalne'!M272","v":0},null,{"$f":"'Rozliczenie kwartalne'!N272","v":0},null,null,null,null,null,null,{"$f":"SUM(T3:T117)","v":0},{"$f":"SUM(U3:U117)","v":0},{"$f":"SUM(V3:V117)","v":0},{"$f":"SUM(W3:W117)","v":0},null,null,{"$f":"D118*0.1","v":0}]
[null,null,null,null,null,null,null,null,{"$f":"'Rozliczenie kwartalne'!J268","v":0},null,{"$f":"'Rozliczenie kwartalne'!M273","v":0},null,{"$f":"'Rozliczenie kwartalne'!N273","v":0}]
[null,null,null,null,null,null,null,null,{"$f":"'Rozliczenie kwartalne'!J269","v":0},null,{"$f":"'Rozliczenie kwartalne'!M274","v":0},null,{"$f":"'Rozliczenie kwartalne'!N274","v":0}]

{"sheet":"Weryfikacja 3","index":8,"n_rows":118,"n_cols":33,"rows_kept":118,"cut":false,"hidden":true,"merged":[[0,1,0,13]]}
[null,"Dane z wniosku",null,null,null,null,null,null,null,null,null,null,null,null,"ok","Wer.",null,null,null,null,null,null,null,null,null,null,null,null,null,null,null,null,"Zgodność danych z załącznikiem nr 1"]
["l.p","NAZWA LINII","WOZOKILOMETRY","DEFICYT","CENA USŁUGI","WKŁAD WŁASNY/KM [ZŁ]","WKŁAD WŁASNY [%]","WKŁAD WŁASNY [ZŁ]","NALEŻNA KWOTA DOPŁATY","POBRANA KWOTA DOPŁATY","Niewykorzystana kwota dopłaty z poprzedniego okresu rozliczeniowego 1 mies","Wypłacona kwota dopłaty","NIEWYKORZYSTANA KWOTA DOPŁATY","STAWKA MAX Z UMOWY","X",{"$f":"A2","v":"l.p"},"Cena usługi","Wkład własny/km [zł]","Wkład własny [%]","Wkład własny [zł]","Def z ceny usł","Kwota dopłaty","Max kwota dopł na podst wk. wł.","Max kwota dopł na podst wk wł/wzkm ","Kwota dopłaty/wozokm","10% z deficytu ","10 % z ceny usługi","warunek 10%","max 1 (3) zł/wzkm","Różnica w finansowaniu","Różnica def z zaokrągleń",null,{"$f":"IF(Miesiące!P11='Rozliczenie kwartalne'!V81,'Weryfikacja 3'!$O$1,'Weryfikacja 3'!$O$2)","v":"ok"}]
[{"$f":"'Rozliczenie kwartalne'!A36","v":"1"},{"$f":"'Rozliczenie kwartalne'!B36","v":""},{"$f":"'Załącznik nr 2 do rozliczenia'!H271","v":0},{"$f":"IF('Załącznik nr 1 do rozliczenia'!H276<0,ABS('Załącznik nr 1 do rozliczenia'!H276),0)","v":0},{"$f":"'Rozliczenie kwartalne'!G278","v":0},{"$f":"'Rozliczenie kwartalne'!H278","v":0},{"$f":"'Rozliczenie kwartalne'!I278","v":0},{"$f":"'Rozliczenie kwartalne'!F278","v":0},{"$f":"'Rozliczenie kwartalne'!J278","v":0},{"$f":"'Rozliczenie kwartalne'!K278","v":0},{"$f":"'Rozliczenie kwartalne'!L278","v":0},{"$f":"'Rozliczenie kwartalne'!M278","v":0},{"$f":"'Rozliczenie kwartalne'!N278","v":0},3,null,"1",{"$f":"IFERROR(D3/C3,0)","v":0},{"$f":"F3","v":0},{"$f":"IFERROR(R3/Q3,0)","v":0},{"$f":"R3*C3","v":0},{"$f":"E3*C3","v":0},{"$f":"IFERROR(ROUND(X3*C3,2),0)","v":0},{"$f":"ROUND(X3*C3,2)","v":0},{"$f":"IFERROR(IF((D3-H3)/C3>=$N$3,$N$3,(D3-H3)/C3),0)","v":0},{"$f":"IFERROR(ROUND(I3/C3,2),0)","v":0},{"$f":"ROUND(D3*0.1,2)","v":0},{"$f":"Q3*0.1","v":0},{"$f":"IF(R3>=AA3,$O$1,$O$2)","v":"ok"},{"$f":"IF(Y3<=$N$3,$O$1,$O$2)","v":"ok"},{"$f":"(V3+T3)-D3","v":0},{"$f":"D3-U3","v":0}]
[{"$f":"'Rozliczenie kwartalne'!A37","v":"2"},{"$f":"'Rozliczenie kwartalne'!B37","v":""},{"$f":"'Załącznik nr 2 do rozliczenia'!H272","v":0},{"$f":"IF('Załącznik nr 1 do rozliczenia'!H277<0,ABS('Załącznik nr 1 do rozliczenia'!H277),0)","v":0},{"$f":"'Rozliczenie kwartalne'!G279","v":0},{"$f":"'Rozliczenie kwartalne'!H279","v":0},{"$f":"'Rozliczenie kwartalne'!I279","v":0},{"$f":"'Rozliczenie kwartalne'!F279","v":0},{"$f":"'Rozliczenie kwartalne'!J279","v":0},{"$f":"'Rozliczenie kwartalne'!K279","v":0},{"$f":"'Rozliczenie kwartalne'!L279","v":0},{"$f":"'Rozliczenie kwartalne'!M279","v":0},{"$f":"'Rozliczenie kwartalne'!N279","v":0},null,null,{"$f":"A4","v":"2"},{"$f":"IFERROR(D4/C4,0)","v":0},{"$f":"F4","v":0},{"$f":"IFERROR(R4/Q4,0)","v":0},{"$f":"R4*C4","v":0},{"$f":"E4*C4","v":0},{"$f":"IFERROR(ROUND(X4*C4,2),0)","v":0},{"$f":"ROUND(X4*C4,2)","v":0},{"$f":"IFERROR(IF((D4-H4)/C4>=$N$3,$N$3,(D4-H4)/C4),0)","v":0},{"$f":"IFERROR(ROUND(I4/C4,2),0)","v":0},{"$f":"ROUND(D4*0.1,2)","v":0},{"$f":"Q4*0.1","v":0},{"$f":"IF(R4>=AA4,$O$1,$O$2)","v":"ok"},{"$f":"IF(Y4<=$N$3,$O$1,$O$2)","v":"ok"},{"$f":"(V4+T4)-D4","v":0},{"$f":"D4-U4","v":0}]
[{"$f":"'Rozliczenie kwartalne'!A38","v":"3"},{"$f":"'Rozliczenie kwartalne'!B38","v":""},{"$f":"'Załącznik nr 2 do rozliczenia'!H273","v":0},{"$f":"IF('Załącznik nr 1 do rozliczenia'!H278<0,ABS('Załącznik nr 1 do rozliczenia'!H278),0)","v":0},{"$f":"'Rozliczenie kwartalne'!G280","v":0},{"$f":"'Rozliczenie kwartalne'!H280","v":0},{"$f":"'Rozliczenie kwartalne'!I280","v":0},{"$f":"'Rozliczenie kwartalne'!F280","v":0},{"$f":"'Rozliczenie kwartalne'!J280","v":0},{"$f":"'Rozliczenie kwartalne'!K280","v":0},{"$f":"'Rozliczenie kwartalne'!L280","v":0},{"$f":"'Rozliczenie kwartalne'!M280","v":0},{"$f":"'Rozliczenie kwartalne'!N280","v":0},null,null,"3",0,0,0,0,0,0,0,0,0,0,0,"ok","ok",0,0]
[{"$f":"'Rozliczenie kwartalne'!A39","v":"4"},{"$f":"'Rozliczenie kwartalne'!B39","v":""},{"$f":"'Załącznik nr 2 do rozliczenia'!H274","v":0},{"$f":"IF('Załącznik nr 1 do rozliczenia'!H279<0,ABS('Załącznik nr 1 do rozliczenia'!H279),0)","v":0},{"$f":"'Rozliczenie kwartalne'!G281","v":0},{"$f":"'Rozliczenie kwartalne'!H281","v":0},{"$f":"'Rozliczenie kwartalne'!I281","v":0},{"$f":"'Rozliczenie kwartalne'!F281","v":0},{"$f":"'Rozliczenie kwartalne'!J281","v":0},{"$f":"'Rozliczenie kwartalne'!K281","v":0},{"$f":"'Rozliczenie kwartalne'!L281","v":0},{"$f":"'Rozliczenie kwartalne'!M281","v":0},{"$f":"'Rozliczenie kwartalne'!N281","v":0},null,null,"4",0,0,0,0,0,0,0,0,0,0,0,"ok","ok",0,0]
[{"$f":"'Rozliczenie kwartalne'!A40","v":"5"},{"$f":"'Rozliczenie kwartalne'!B40","v":""},{"$f":"'Załącznik nr 2 do rozliczenia'!H275","v":0},{"$f":"IF('Załącznik nr 1 do rozliczenia'!H280<0,ABS('Załącznik nr 1 do rozliczenia'!H280),0)","v":0},{"$f":"'Rozliczenie kwartalne'!G282","v":0},{"$f":"'Rozliczenie kwartalne'!H282","v":0},{"$f":"'Rozliczenie kwartalne'!I282","v":0},{"$f":"'Rozliczenie kwartalne'!F282","v":0},{"$f":"'Rozliczenie kwartalne'!J282","v":0},{"$f":"'Rozliczenie kwartalne'!K282","v":0},{"$f":"'Rozliczenie kwartalne'!L282","v":0},{"$f":"'Rozliczenie kwartalne'!M282","v":0},{"$f":"'Rozliczenie kwartalne'!N282","v":0},null,null,"5",0,0,0,0,0,0,0,0,0,0,0,"ok","ok",0,0]
[{"$f":"'Rozliczenie kwartalne'!A41","v":"6"},{"$f":"'Rozliczenie kwartalne'!B41","v":""},{"$f":"'Załącznik nr 2 do rozliczenia'!H276","v":0},{"$f":"IF('Załącznik nr 1 do rozliczenia'!H281<0,ABS('Załącznik nr 1 do rozliczenia'!H281),0)","v":0},{"$f":"'Rozliczenie kwartalne'!G283","v":0},{"$f":"'Rozliczenie kwartalne'!H283","v":0},{"$f":"'Rozliczenie kwartalne'!I283","v":0},{"$f":"'Rozliczenie kwartalne'!F283","v":0},{"$f":"'Rozliczenie kwartalne'!J283","v":0},{"$f":"'Rozliczenie kwartalne'!K283","v":0},{"$f":"'Rozliczenie kwartalne'!L283","v":0},{"$f":"'Rozliczenie kwartalne'!M283","v":0},{"$f":"'Rozliczenie kwartalne'!N283","v":0},null,null,"6",0,0,0,0,0,0,0,0,0,0,0,"ok","ok",0,0]
[{"$f":"'Rozliczenie kwartalne'!A42","v":"7"},{"$f":"'Rozliczenie kwartalne'!B42","v":""},{"$f":"'Załącznik nr 2 do rozliczenia'!H277","v":0},{"$f":"IF('Załącznik nr 1 do rozliczenia'!H282<0,ABS('Załącznik nr 1 do rozliczenia'!H282),0)","v":0},{"$f":"'Rozliczenie kwartalne'!G284","v":0},{"$f":"'Rozliczenie kwartalne'!H284","v":0},{"$f":"'Rozliczenie kwartalne'!I284","v":0},{"$f":"'Rozliczenie kwartalne'!F284","v":0},{"$f":"'Rozliczenie kwartalne'!J284","v":0},{"$f":"'Rozliczenie kwartalne'!K284","v":0},{"$f":"'Rozliczenie kwartalne'!L284","v":0},{"$f":"'Rozliczenie kwartalne'!M284","v":0},{"$f":"'Rozliczenie kwartalne'!N284","v":0},null,null,"7",0,0,0,0,0,0,0,0,0,0,0,"ok","ok",0,0]
[{"$f":"'Rozliczenie kwartalne'!A43","v":"8"},{"$f":"'Rozliczenie kwartalne'!B43","v":""},{"$f":"'Załącznik nr 2 do rozliczenia'!H278","v":0},{"$f":"IF('Załącznik nr 1 do rozliczenia'!H283<0,ABS('Załącznik nr 1 do rozliczenia'!H283),0)","v":0},{"$f":"'Rozliczenie kwartalne'!G285","v":0},{"$f":"'Rozliczenie kwartalne'!H285","v":0},{"$f":"'Rozliczenie kwartalne'!I285","v":0},{"$f":"'Rozliczenie kwartalne'!F285","v":0},{"$f":"'Rozliczenie kwartalne'!J285","v":0},{"$f":"'Rozliczenie kwartalne'!K285","v":0},{"$f":"'Rozliczenie kwartalne'!L285","v":0},{"$f":"'Rozliczenie kwartalne'!M285","v":0},{"$f":"'Rozliczenie kwartalne'!N285","v":0},null,null,"8",0,0,0,0,0,0,0,0,0,0,0,"ok","ok",0,0]
[{"$f":"'Rozliczenie kwartalne'!A44","v":"9"},{"$f":"'Rozliczenie kwartalne'!B44","v":""},{"$f":"'Załącznik nr 2 do rozliczenia'!H279","v":0},{"$f":"IF('Załącznik nr 1 do rozliczenia'!H284<0,ABS('Załącznik nr 1 do rozliczenia'!H284),0)","v":0},{"$f":"'Rozliczenie kwartalne'!G286","v":0},{"$f":"'Rozliczenie kwartalne'!H286","v":0},{"$f":"'Rozliczenie kwartalne'!I286","v":0},{"$f":"'Rozliczenie kwartalne'!F286","v":0},{"$f":"'Rozliczenie kwartalne'!J286","v":0},{"$f":"'Rozliczenie kwartalne'!K286","v":0},{"$f":"'Rozliczenie kwartalne'!L286","v":0},{"$f":"'Rozliczenie kwartalne'!M286","v":0},{"$f":"'Rozliczenie kwartalne'!N286","v":0},null,null,"9",0,0,0,0,0,0,0,0,0,0,0,"ok","ok",0,0]
[{"$f":"'Rozliczenie kwartalne'!A45","v":"10"},{"$f":"'Rozliczenie kwartalne'!B45","v":""},{"$f":"'Załącznik nr 2 do rozliczenia'!H280","v":0},{"$f":"IF('Załącznik nr 1 do rozliczenia'!H285<0,ABS('Załącznik nr 1 do rozliczenia'!H285),0)","v":0},{"$f":"'Rozliczenie kwartalne'!G287","v":0},{"$f":"'Rozliczenie kwartalne'!H287","v":0},{"$f":"'Rozliczenie kwartalne'!I287","v":0},{"$f":"'Rozliczenie kwartalne'!F287","v":0},{"$f":"'Rozliczenie kwartalne'!J287","v":0},{"$f":"'Rozliczenie kwartalne'!K287","v":0},{"$f":"'Rozliczenie kwartalne'!L287","v":0},{"$f":"'Rozliczenie kwartalne'!M287","v":0},{"$f":"'Rozliczenie kwartalne'!N287","v":0},null,null,"10",0,0,0,0,0,0,0,0,0,0,0,"ok","ok",0,0]
[{"$f":"'Rozliczenie kwartalne'!A46","v":"11"},{"$f":"'Rozliczenie kwartalne'!B46","v":""},{"$f":"'Załącznik nr 2 do rozliczenia'!H281","v":0},{"$f":"IF('Załącznik nr 1 do rozliczenia'!H286<0,ABS('Załącznik nr 1 do rozliczenia'!H286),0)","v":0},{"$f":"'Rozliczenie kwartalne'!G288","v":0},{"$f":"'Rozliczenie kwartalne'!H288","v":0},{"$f":"'Rozliczenie kwartalne'!I288","v":0},{"$f":"'Rozliczenie kwartalne'!F288","v":0},{"$f":"'Rozliczenie kwartalne'!J288","v":0},{"$f":"'Rozliczenie kwartalne'!K288","v":0},{"$f":"'Rozliczenie kwartalne'!L288","v":0},{"$f":"'Rozliczenie kwartalne'!M288","v":0},{"$f":"'Rozliczenie kwartalne'!N288","v":0},null,null,"11",0,0,0,0,0,0,0,0,0,0,0,"ok","ok",0,0]
[{"$f":"'Rozliczenie kwartalne'!A47","v":"12"},{"$f":"'Rozliczenie kwartalne'!B47","v":""},{"$f":"'Załącznik nr 2 do rozliczenia'!H282","v":0},{"$f":"IF('Załącznik nr 1 do rozliczenia'!H287<0,ABS('Załącznik nr 1 do rozliczenia'!H287),0)","v":0},{"$f":"'Rozliczenie kwartalne'!G289","v":0},{"$f":"'Rozliczenie kwartalne'!H289","v":0},{"$f":"'Rozliczenie kwartalne'!I289","v":0},{"$f":"'Rozliczenie kwartalne'!F289","v":0},{"$f":"'Rozliczenie kwartalne'!J289","v":0},{"$f":"'Rozliczenie kwartalne'!K289","v":0},{"$f":"'Rozliczenie kwartalne'!L289","v":0},{"$f":"'Rozliczenie kwartalne'!M289","v":0},{"$f":"'Rozliczenie kwartalne'!N289","v":0},null,null,"12",0,0,0,0,0,0,0,0,0,0,0,"ok","ok",0,0]
[{"$f":"'Rozliczenie kwartalne'!A48","v":"13"},{"$f":"'Rozliczenie kwartalne'!B48","v":""},{"$f":"'Załącznik nr 2 do rozliczenia'!H283","v":0},{"$f":"IF('Załącznik nr 1 do rozliczenia'!H288<0,ABS('Załącznik nr 1 do rozliczenia'!H288),0)","v":0},{"$f":"'Rozliczenie kwartalne'!G290","v":0},{"$f":"'Rozliczenie kwartalne'!H290","v":0},{"$f":"'Rozliczenie kwartalne'!I290","v":0},{"$f":"'Rozliczenie kwartalne'!F290","v":0},{"$f":"'Rozliczenie kwartalne'!J290","v":0},{"$f":"'Rozliczenie kwartalne'!K290","v":0},{"$f":"'Rozliczenie kwartalne'!L290","v":0},{"$f":"'Rozliczenie kwartalne'!M290","v":0},{"$f":"'Rozliczenie kwartalne'!N290","v":0},null,null,"13",0,0,0,0,0,0,0,0,0,0,0,"ok","ok",0,0]
[{"$f":"'Rozliczenie kwartalne'!A49","v":"14"},{"$f":"'Rozliczenie kwartalne'!B49","v":""},{"$f":"'Załącznik nr 2 do rozliczenia'!H284","v":0},{"$f":"IF('Załącznik nr 1 do rozliczenia'!H289<0,ABS('Załącznik nr 1 do rozliczenia'!H289),0)","v":0},{"$f":"'Rozliczenie kwartalne'!G291","v":0},{"$f":"'Rozliczenie kwartalne'!H291","v":0},{"$f":"'Rozliczenie kwartalne'!I291","v":0},{"$f":"'Rozliczenie kwartalne'!F291","v":0},{"$f":"'Rozliczenie kwartalne'!J291","v":0},{"$f":"'Rozliczenie kwartalne'!K291","v":0},{"$f":"'Rozliczenie kwartalne'!L291","v":0},{"$f":"'Rozliczenie kwartalne'!M291","v":0},{"$f":"'Rozliczenie kwartalne'!N291","v":0},null,null,"14",0,0,0,0,0,0,0,0,0,0,0,"ok","ok",0,0]
[{"$f":"'Rozliczenie kwartalne'!A50","v":"15"},{"$f":"'Rozliczenie kwartalne'!B50","v":""},{"$f":"'Załącznik nr 2 do rozliczenia'!H285","v":0},{"$f":"IF('Załącznik nr 1 do rozliczenia'!H290<0,ABS('Załącznik nr 1 do rozliczenia'!H290),0)","v":0},{"$f":"'Rozliczenie kwartalne'!G292","v":0},{"$f":"'Rozliczenie kwartalne'!H292","v":0},{"$f":"'Rozliczenie kwartalne'!I292","v":0},{"$f":"'Rozliczenie kwartalne'!F292","v":0},{"$f":"'Rozliczenie kwartalne'!J292","v":0},{"$f":"'Rozliczenie kwartalne'!K292","v":0},{"$f":"'Rozliczenie kwartalne'!L292","v":0},{"$f":"'Rozliczenie kwartalne'!M292","v":0},{"$f":"'Rozliczenie kwartalne'!N292","v":0},null,null,"15",0,0,0,0,0,0,0,0,0,0,0,"ok","ok",0,0]
[{"$f":"'Rozliczenie kwartalne'!A51","v":"16"},{"$f":"'Rozliczenie kwartalne'!B51","v":""},{"$f":"'Załącznik nr 2 do rozliczenia'!H286","v":0},{"$f":"IF('Załącznik nr 1 do rozliczenia'!H291<0,ABS('Załącznik nr 1 do rozliczenia'!H291),0)","v":0},{"$f":"'Rozliczenie kwartalne'!G293","v":0},{"$f":"'Rozliczenie kwartalne'!H293","v":0},{"$f":"'Rozliczenie kwartalne'!I293","v":0},{"$f":"'Rozliczenie kwartalne'!F293","v":0},{"$f":"'Rozliczenie kwartalne'!J293","v":0},{"$f":"'Rozliczenie kwartalne'!K293","v":0},{"$f":"'Rozliczenie kwartalne'!L293","v":0},{"$f":"'Rozliczenie kwartalne'!M293","v":0},{"$f":"'Rozliczenie kwartalne'!N293","v":0},null,null,"16",0,0,0,0,0,0,0,0,0,0,0,"ok","ok",0,0]
[{"$f":"'Rozliczenie kwartalne'!A52","v":"17"},{"$f":"'Rozliczenie kwartalne'!B52","v":""},{"$f":"'Załącznik nr 2 do rozliczenia'!H287","v":0},{"$f":"IF('Załącznik nr 1 do rozliczenia'!H292<0,ABS('Załącznik nr 1 do rozliczenia'!H292),0)","v":0},{"$f":"'Rozliczenie kwartalne'!G294","v":0},{"$f":"'Rozliczenie kwartalne'!H294","v":0},{"$f":"'Rozliczenie kwartalne'!I294","v":0},{"$f":"'Rozliczenie kwartalne'!F294","v":0},{"$f":"'Rozliczenie kwartalne'!J294","v":0},{"$f":"'Rozliczenie kwartalne'!K294","v":0},{"$f":"'Rozliczenie kwartalne'!L294","v":0},{"$f":"'Rozliczenie kwartalne'!M294","v":0},{"$f":"'Rozliczenie kwartalne'!N294","v":0},null,null,"17",0,0,0,0,0,0,0,0,0,0,0,"ok","ok",0,0]
[{"$f":"'Rozliczenie kwartalne'!A53","v":"18"},{"$f":"'Rozliczenie kwartalne'!B53","v":""},{"$f":"'Załącznik nr 2 do rozliczenia'!H288","v":0},{"$f":"IF('Załącznik nr 1 do rozliczenia'!H293<0,ABS('Załącznik nr 1 do rozliczenia'!H293),0)","v":0},{"$f":"'Rozliczenie kwartalne'!G295","v":0},{"$f":"'Rozliczenie kwartalne'!H295","v":0},{"$f":"'Rozliczenie kwartalne'!I295","v":0},{"$f":"'Rozliczenie kwartalne'!F295","v":0},{"$f":"'Rozliczenie kwartalne'!J295","v":0},{"$f":"'Rozliczenie kwartalne'!K295","v":0},{"$f":"'Rozliczenie kwartalne'!L295","v":0},{"$f":"'Rozliczenie kwartalne'!M295","v":0},{"$f":"'Rozliczenie kwartalne'!N295","v":0},null,null,"18",0,0,0,0,0,0,0,0,0,0,0,"ok","ok",0,0]
[{"$f":"'Rozliczenie kwartalne'!A54","v":"19"},{"$f":"'Rozliczenie kwartalne'!B54","v":""},{"$f":"'Załącznik nr 2 do rozliczenia'!H289","v":0},{"$f":"IF('Załącznik nr 1 do rozliczenia'!H294<0,ABS('Załącznik nr 1 do rozliczenia'!H294),0)","v":0},{"$f":"'Rozliczenie kwartalne'!G296","v":0},{"$f":"'Rozliczenie kwartalne'!H296","v":0},{"$f":"'Rozliczenie kwartalne'!I296","v":0},{"$f":"'Rozliczenie kwartalne'!F296","v":0},{"$f":"'Rozliczenie kwartalne'!J296","v":0},{"$f":"'Rozliczenie kwartalne'!K296","v":0},{"$f":"'Rozliczenie kwartalne'!L296","v":0},{"$f":"'Rozliczenie kwartalne'!M296","v":0},{"$f":"'Rozliczenie kwartalne'!N296","v":0},null,null,"19",0,0,0,0,0,0,0,0,0,0,0,"ok","ok",0,0]
[{"$f":"'Rozliczenie kwartalne'!A55","v":"20"},{"$f":"'Rozliczenie kwartalne'!B55","v":""},{"$f":"'Załącznik nr 2 do rozliczenia'!H290","v":0},{"$f":"IF('Załącznik nr 1 do rozliczenia'!H295<0,ABS('Załącznik nr 1 do rozliczenia'!H295),0)","v":0},{"$f":"'Rozliczenie kwartalne'!G297","v":0},{"$f":"'Rozliczenie kwartalne'!H297","v":0},{"$f":"'Rozliczenie kwartalne'!I297","v":0},{"$f":"'Rozliczenie kwartalne'!F297","v":0},{"$f":"'Rozliczenie kwartalne'!J297","v":0},{"$f":"'Rozliczenie kwartalne'!K297","v":0},{"$f":"'Rozliczenie kwartalne'!L297","v":0},{"$f":"'Rozliczenie kwartalne'!M297","v":0},{"$f":"'Rozliczenie kwartalne'!N297","v":0},null,null,"20",0,0,0,0,0,0,0,0,0,0,0,"ok","ok",0,0]
[{"$f":"'Rozliczenie kwartalne'!A56","v":"21"},{"$f":"'Rozliczenie kwartalne'!B56","v":""},{"$f":"'Załącznik nr 2 do rozliczenia'!H291","v":0},{"$f":"IF('Załącznik nr 1 do rozliczenia'!H296<0,ABS('Załącznik nr 1 do rozliczenia'!H296),0)","v":0},{"$f":"'Rozliczenie kwartalne'!G298","v":0},{"$f":"'Rozliczenie kwartalne'!H298","v":0},{"$f":"'Rozliczenie kwartalne'!I298","v":0},{"$f":"'Rozliczenie kwartalne'!F298","v":0},{"$f":"'Rozliczenie kwartalne'!J298","v":0},{"$f":"'Rozliczenie kwartalne'!K298","v":0},{"$f":"'Rozliczenie kwartalne'!L298","v":0},{"$f":"'Rozliczenie kwartalne'!M298","v":0},{"$f":"'Rozliczenie kwartalne'!N298","v":0},null,null,"21",0,0,0,0,0,0,0,0,0,0,0,"ok","ok",0,0]
[{"$f":"'Rozliczenie kwartalne'!A57","v":"22"},{"$f":"'Rozliczenie kwartalne'!B57","v":""},{"$f":"'Załącznik nr 2 do rozliczenia'!H292","v":0},{"$f":"IF('Załącznik nr 1 do rozliczenia'!H297<0,ABS('Załącznik nr 1 do rozliczenia'!H297),0)","v":0},{"$f":"'Rozliczenie kwartalne'!G299","v":0},{"$f":"'Rozliczenie kwartalne'!H299","v":0},{"$f":"'Rozliczenie kwartalne'!I299","v":0},{"$f":"'Rozliczenie kwartalne'!F299","v":0},{"$f":"'Rozliczenie kwartalne'!J299","v":0},{"$f":"'Rozliczenie kwartalne'!K299","v":0},{"$f":"'Rozliczenie kwartalne'!L299","v":0},{"$f":"'Rozliczenie kwartalne'!M299","v":0},{"$f":"'Rozliczenie kwartalne'!N299","v":0},null,null,"22",0,0,0,0,0,0,0,0,0,0,0,"ok","ok",0,0]
[{"$f":"'Rozliczenie kwartalne'!A58","v":"23"},{"$f":"'Rozliczenie kwartalne'!B58","v":""},{"$f":"'Załącznik nr 2 do rozliczenia'!H293","v":0},{"$f":"IF('Załącznik nr 1 do rozliczenia'!H298<0,ABS('Załącznik nr 1 do rozliczenia'!H298),0)","v":0},{"$f":"'Rozliczenie kwartalne'!G300","v":0},{"$f":"'Rozliczenie kwartalne'!H300","v":0},{"$f":"'Rozliczenie kwartalne'!I300","v":0},{"$f":"'Rozliczenie kwartalne'!F300","v":0},{"$f":"'Rozliczenie kwartalne'!J300","v":0},{"$f":"'Rozliczenie kwartalne'!K300","v":0},{"$f":"'Rozliczenie kwartalne'!L300","v":0},{"$f":"'Rozliczenie kwartalne'!M300","v":0},{"$f":"'Rozliczenie kwartalne'!N300","v":0},null,null,"23",0,0,0,0,0,0,0,0,0,0,0,"ok","ok",0,0]
[{"$f":"'Rozliczenie kwartalne'!A59","v":"24"},{"$f":"'Rozliczenie kwartalne'!B59","v":""},{"$f":"'Załącznik nr 2 do rozliczenia'!H294","v":0},{"$f":"IF('Załącznik nr 1 do rozliczenia'!H299<0,ABS('Załącznik nr 1 do rozliczenia'!H299),0)","v":0},{"$f":"'Rozliczenie kwartalne'!G301","v":0},{"$f":"'Rozliczenie kwartalne'!H301","v":0},{"$f":"'Rozliczenie kwartalne'!I301","v":0},{"$f":"'Rozliczenie kwartalne'!F301","v":0},{"$f":"'Rozliczenie kwartalne'!J301","v":0},{"$f":"'Rozliczenie kwartalne'!K301","v":0},{"$f":"'Rozliczenie kwartalne'!L301","v":0},{"$f":"'Rozliczenie kwartalne'!M301","v":0},{"$f":"'Rozliczenie kwartalne'!N301","v":0},null,null,"24",0,0,0,0,0,0,0,0,0,0,0,"ok","ok",0,0]
[{"$f":"'Rozliczenie kwartalne'!A60","v":"25"},{"$f":"'Rozliczenie kwartalne'!B60","v":""},{"$f":"'Załącznik nr 2 do rozliczenia'!H295","v":0},{"$f":"IF('Załącznik nr 1 do rozliczenia'!H300<0,ABS('Załącznik nr 1 do rozliczenia'!H300),0)","v":0},{"$f":"'Rozliczenie kwartalne'!G302","v":0},{"$f":"'Rozliczenie kwartalne'!H302","v":0},{"$f":"'Rozliczenie kwartalne'!I302","v":0},{"$f":"'Rozliczenie kwartalne'!F302","v":0},{"$f":"'Rozliczenie kwartalne'!J302","v":0},{"$f":"'Rozliczenie kwartalne'!K302","v":0},{"$f":"'Rozliczenie kwartalne'!L302","v":0},{"$f":"'Rozliczenie kwartalne'!M302","v":0},{"$f":"'Rozliczenie kwartalne'!N302","v":0},null,null,"25",0,0,0,0,0,0,0,0,0,0,0,"ok","ok",0,0]
[{"$f":"'Rozliczenie kwartalne'!A61","v":"26"},{"$f":"'Rozliczenie kwartalne'!B61","v":""},{"$f":"'Załącznik nr 2 do rozliczenia'!H296","v":0},{"$f":"IF('Załącznik nr 1 do rozliczenia'!H301<0,ABS('Załącznik nr 1 do rozliczenia'!H301),0)","v":0},{"$f":"'Rozliczenie kwartalne'!G303","v":0},{"$f":"'Rozliczenie kwartalne'!H303","v":0},{"$f":"'Rozliczenie kwartalne'!I303","v":0},{"$f":"'Rozliczenie kwartalne'!F303","v":0},{"$f":"'Rozliczenie kwartalne'!J303","v":0},{"$f":"'Rozliczenie kwartalne'!K303","v":0},{"$f":"'Rozliczenie kwartalne'!L303","v":0},{"$f":"'Rozliczenie kwartalne'!M303","v":0},{"$f":"'Rozliczenie kwartalne'!N303","v":0},null,null,"26",0,0,0,0,0,0,0,0,0,0,0,"ok","ok",0,0]
[{"$f":"'Rozliczenie kwartalne'!A62","v":"27"},{"$f":"'Rozliczenie kwartalne'!B62","v":""},{"$f":"'Załącznik nr 2 do rozliczenia'!H297","v":0},{"$f":"IF('Załącznik nr 1 do rozliczenia'!H302<0,ABS('Załącznik nr 1 do rozliczenia'!H302),0)","v":0},{"$f":"'Rozliczenie kwartalne'!G304","v":0},{"$f":"'Rozliczenie kwartalne'!H304","v":0},{"$f":"'Rozliczenie kwartalne'!I304","v":0},{"$f":"'Rozliczenie kwartalne'!F304","v":0},{"$f":"'Rozliczenie kwartalne'!J304","v":0},{"$f":"'Rozliczenie kwartalne'!K304","v":0},{"$f":"'Rozliczenie kwartalne'!L304","v":0},{"$f":"'Rozliczenie kwartalne'!M304","v":0},{"$f":"'Rozliczenie kwartalne'!N304","v":0},null,null,"27",0,0,0,0,0,0,0,0,0,0,0,"ok","ok",0,0]
[{"$f":"'Rozliczenie kwartalne'!A63","v":"28"},{"$f":"'Rozliczenie kwartalne'!B63","v":""},{"$f":"'Załącznik nr 2 do rozliczenia'!H298","v":0},{"$f":"IF('Załącznik nr 1 do rozliczenia'!H303<0,ABS('Załącznik nr 1 do rozliczenia'!H303),0)","v":0},{"$f":"'Rozliczenie kwartalne'!G305","v":0},{"$f":"'Rozliczenie kwartalne'!H305","v":0},{"$f":"'Rozliczenie kwartalne'!I305","v":0},{"$f":"'Rozliczenie kwartalne'!F305","v":0},{"$f":"'Rozliczenie kwartalne'!J305","v":0},{"$f":"'Rozliczenie kwartalne'!K305","v":0},{"$f":"'Rozliczenie kwartalne'!L305","v":0},{"$f":"'Rozliczenie kwartalne'!M305","v":0},{"$f":"'Rozliczenie kwartalne'!N305","v":0},null,null,"28",0,0,0,0,0,0,0,0,0,0,0,"ok","ok",0,0]
[{"$f":"'Rozliczenie kwartalne'!A64","v":"29"},{"$f":"'Rozliczenie kwartalne'!B64","v":""},{"$f":"'Załącznik nr 2 do rozliczenia'!H299","v":0},{"$f":"IF('Załącznik nr 1 do rozliczenia'!H304<0,ABS('Załącznik nr 1 do rozliczenia'!H304),0)","v":0},{"$f":"'Rozliczenie kwartalne'!G306","v":0},{"$f":"'Rozliczenie kwartalne'!H306","v":0},{"$f":"'Rozliczenie kwartalne'!I306","v":0},{"$f":"'Rozliczenie kwartalne'!F306","v":0},{"$f":"'Rozliczenie kwartalne'!J306","v":0},{"$f":"'Rozliczenie kwartalne'!K306","v":0},{"$f":"'Rozliczenie kwartalne'!L306","v":0},{"$f":"'Rozliczenie kwartalne'!M306","v":0},{"$f":"'Rozliczenie kwartalne'!N306","v":0},null,null,"29",0,0,0,0,0,0,0,0,0,0,0,"ok","ok",0,0]
[{"$f":"'Rozliczenie kwartalne'!A65","v":"30"},{"$f":"'Rozliczenie kwartalne'!B65","v":""},{"$f":"'Załącznik nr 2 do rozliczenia'!H300","v":0},{"$f":"IF('Załącznik nr 1 do rozliczenia'!H305<0,ABS('Załącznik nr 1 do rozliczenia'!H305),0)","v":0},{"$f":"'Rozliczenie kwartalne'!G307","v":0},{"$f":"'Rozliczenie kwartalne'!H307","v":0},{"$f":"'Rozliczenie kwartalne'!I307","v":0},{"$f":"'Rozliczenie kwartalne'!F307","v":0},{"$f":"'Rozliczenie kwartalne'!J307","v":0},{"$f":"'Rozliczenie kwartalne'!K307","v":0},{"$f":"'Rozliczenie kwartalne'!L307","v":0},{"$f":"'Rozliczenie kwartalne'!M307","v":0},{"$f":"'Rozliczenie kwartalne'!N307","v":0},null,null,"30",0,0,0,0,0,0,0,0,0,0,0,"ok","ok",0,0]
[{"$f":"'Rozliczenie kwartalne'!A66","v":"31"},{"$f":"'Rozliczenie kwartalne'!B66","v":""},{"$f":"'Załącznik nr 2 do rozliczenia'!H301","v":0},{"$f":"IF('Załącznik nr 1 do rozliczenia'!H306<0,ABS('Załącznik nr 1 do rozliczenia'!H306),0)","v":0},{"$f":"'Rozliczenie kwartalne'!G308","v":0},{"$f":"'Rozliczenie kwartalne'!H308","v":0},{"$f":"'Rozliczenie kwartalne'!I308","v":0},{"$f":"'Rozliczenie kwartalne'!F308","v":0},{"$f":"'Rozliczenie kwartalne'!J308","v":0},{"$f":"'Rozliczenie kwartalne'!K308","v":0},{"$f":"'Rozliczenie kwartalne'!L308","v":0},{"$f":"'Rozliczenie kwartalne'!M308","v":0},{"$f":"'Rozliczenie kwartalne'!N308","v":0},null,null,"31",0,0,0,0,0,0,0,0,0,0,0,"ok","ok",0,0]
[{"$f":"'Rozliczenie kwartalne'!A67","v":"32"},{"$f":"'Rozliczenie kwartalne'!B67","v":""},{"$f":"'Załącznik nr 2 do rozliczenia'!H302","v":0},{"$f":"IF('Załącznik nr 1 do rozliczenia'!H307<0,ABS('Załącznik nr 1 do rozliczenia'!H307),0)","v":0},{"$f":"'Rozliczenie kwartalne'!G309","v":0},{"$f":"'Rozliczenie kwartalne'!H309","v":0},{"$f":"'Rozliczenie kwartalne'!I309","v":0},{"$f":"'Rozliczenie kwartalne'!F309","v":0},{"$f":"'Rozliczenie kwartalne'!J309","v":0},{"$f":"'Rozliczenie kwartalne'!K309","v":0},{"$f":"'Rozliczenie kwartalne'!L309","v":0},{"$f":"'Rozliczenie kwartalne'!M309","v":0},{"$f":"'Rozliczenie kwartalne'!N309","v":0},null,null,"32",0,0,0,0,0,0,0,0,0,0,0,"ok","ok",0,0]
[{"$f":"'Rozliczenie kwartalne'!A68","v":"33"},{"$f":"'Rozliczenie kwartalne'!B68","v":""},{"$f":"'Załącznik nr 2 do rozliczenia'!H303","v":0},{"$f":"IF('Załącznik nr 1 do rozliczenia'!H308<0,ABS('Załącznik nr 1 do rozliczenia'!H308),0)","v":0},{"$f":"'Rozliczenie kwartalne'!G310","v":0},{"$f":"'Rozliczenie kwartalne'!H310","v":0},{"$f":"'Rozliczenie kwartalne'!I310","v":0},{"$f":"'Rozliczenie kwartalne'!F310","v":0},{"$f":"'Rozliczenie kwartalne'!J310","v":0},{"$f":"'Rozliczenie kwartalne'!K310","v":0},{"$f":"'Rozliczenie kwartalne'!L310","v":0},{"$f":"'Rozliczenie kwartalne'!M310","v":0},{"$f":"'Rozliczenie kwartalne'!N310","v":0},null,null,"33",0,0,0,0,0,0,0,0,0,0,0,"ok","ok",0,0]
[{"$f":"'Rozliczenie kwartalne'!A69","v":"34"},{"$f":"'Rozliczenie kwartalne'!B69","v":""},{"$f":"'Załącznik nr 2 do rozliczenia'!H304","v":0},{"$f":"IF('Załącznik nr 1 do rozliczenia'!H309<0,ABS('Załącznik nr 1 do rozliczenia'!H309),0)","v":0},{"$f":"'Rozliczenie kwartalne'!G311","v":0},{"$f":"'Rozliczenie kwartalne'!H311","v":0},{"$f":"'Rozliczenie kwartalne'!I311","v":0},{"$f":"'Rozliczenie kwartalne'!F311","v":0},{"$f":"'Rozliczenie kwartalne'!J311","v":0},{"$f":"'Rozliczenie kwartalne'!K311","v":0},{"$f":"'Rozliczenie kwartalne'!L311","v":0},{"$f":"'Rozliczenie kwartalne'!M311","v":0},{"$f":"'Rozliczenie kwartalne'!N311","v":0},null,null,"34",0,0,0,0,0,0,0,0,0,0,0,"ok","ok",0,0]
[{"$f":"'Rozliczenie kwartalne'!A70","v":"35"},{"$f":"'Rozliczenie kwartalne'!B70","v":""},{"$f":"'Załącznik nr 2 do rozliczenia'!H305","v":0},{"$f":"IF('Załącznik nr 1 do rozliczenia'!H310<0,ABS('Załącznik nr 1 do rozliczenia'!H310),0)","v":0},{"$f":"'Rozliczenie kwartalne'!G312","v":0},{"$f":"'Rozliczenie kwartalne'!H312","v":0},{"$f":"'Rozliczenie kwartalne'!I312","v":0},{"$f":"'Rozliczenie kwartalne'!F312","v":0},{"$f":"'Rozliczenie kwartalne'!J312","v":0},{"$f":"'Rozliczenie kwartalne'!K312","v":0},{"$f":"'Rozliczenie kwartalne'!L312","v":0},{"$f":"'Rozliczenie kwartalne'!M312","v":0},{"$f":"'Rozliczenie kwartalne'!N312","v":0},null,null,"35",0,0,0,0,0,0,0,0,0,0,0,"ok","ok",0,0]
[{"$f":"'Rozliczenie kwartalne'!A71","v":"36"},{"$f":"'Rozliczenie kwartalne'!B71","v":""},{"$f":"'Załącznik nr 2 do rozliczenia'!H306","v":0},{"$f":"IF('Załącznik nr 1 do rozliczenia'!H311<0,ABS('Załącznik nr 1 do rozliczenia'!H311),0)","v":0},{"$f":"'Rozliczenie kwartalne'!G313","v":0},{"$f":"'Rozliczenie kwartalne'!H313","v":0},{"$f":"'Rozliczenie kwartalne'!I313","v":0},{"$f":"'Rozliczenie kwartalne'!F313","v":0},{"$f":"'Rozliczenie kwartalne'!J313","v":0},{"$f":"'Rozliczenie kwartalne'!K313","v":0},{"$f":"'Rozliczenie kwartalne'!L313","v":0},{"$f":"'Rozliczenie kwartalne'!M313","v":0},{"$f":"'Rozliczenie kwartalne'!N313","v":0},null,null,"36",0,0,0,0,0,0,0,0,0,0,0,"ok","ok",0,0]
[{"$f":"'Rozliczenie kwartalne'!A72","v":"37"},{"$f":"'Rozliczenie kwartalne'!B72","v":""},{"$f":"'Załącznik nr 2 do rozliczenia'!H307","v":0},{"$f":"IF('Załącznik nr 1 do rozliczenia'!H312<0,ABS('Załącznik nr 1 do rozliczenia'!H312),0)","v":0},{"$f":"'Rozliczenie kwartalne'!G314","v":0},{"$f":"'Rozliczenie kwartalne'!H314","v":0},{"$f":"'Rozliczenie kwartalne'!I314","v":0},{"$f":"'Rozliczenie kwartalne'!F314","v":0},{"$f":"'Rozliczenie kwartalne'!J314","v":0},{"$f":"'Rozliczenie kwartalne'!K314","v":0},{"$f":"'Rozliczenie kwartalne'!L314","v":0},{"$f":"'Rozliczenie kwartalne'!M314","v":0},{"$f":"'Rozliczenie kwartalne'!N314","v":0},null,null,"37",0,0,0,0,0,0,0,0,0,0,0,"ok","ok",0,0]
[{"$f":"'Rozliczenie kwartalne'!A73","v":"38"},{"$f":"'Rozliczenie kwartalne'!B73","v":""},{"$f":"'Załącznik nr 2 do rozliczenia'!H308","v":0},{"$f":"IF('Załącznik nr 1 do rozliczenia'!H313<0,ABS('Załącznik nr 1 do rozliczenia'!H313),0)","v":0},{"$f":"'Rozliczenie kwartalne'!G315","v":0},{"$f":"'Rozliczenie kwartalne'!H315","v":0},{"$f":"'Rozliczenie kwartalne'!I315","v":0},{"$f":"'Rozliczenie kwartalne'!F315","v":0},{"$f":"'Rozliczenie kwartalne'!J315","v":0},{"$f":"'Rozliczenie kwartalne'!K315","v":0},{"$f":"'Rozliczenie kwartalne'!L315","v":0},{"$f":"'Rozliczenie kwartalne'!M315","v":0},{"$f":"'Rozliczenie kwartalne'!N315","v":0},null,null,"38",0,0,0,0,0,0,0,0,0,0,0,"ok","ok",0,0]
[{"$f":"'Rozliczenie kwartalne'!A74","v":"39"},{"$f":"'Rozliczenie kwartalne'!B74","v":""},{"$f":"'Załącznik nr 2 do rozliczenia'!H309","v":0},{"$f":"IF('Załącznik nr 1 do rozliczenia'!H314<0,ABS('Załącznik nr 1 do rozliczenia'!H314),0)","v":0},{"$f":"'Rozliczenie kwartalne'!G316","v":0},{"$f":"'Rozliczenie kwartalne'!H316","v":0},{"$f":"'Rozliczenie kwartalne'!I316","v":0},{"$f":"'Rozliczenie kwartalne'!F316","v":0},{"$f":"'Rozliczenie kwartalne'!J316","v":0},{"$f":"'Rozliczenie kwartalne'!K316","v":0},{"$f":"'Rozliczenie kwartalne'!L316","v":0},{"$f":"'Rozliczenie kwartalne'!M316","v":0},{"$f":"'Rozliczenie kwartalne'!N316","v":0},null,null,"39",0,0,0,0,0,0,0,0,0,0,0,"ok","ok",0,0]
[{"$f":"'Rozliczenie kwartalne'!A75","v":"40"},{"$f":"'Rozliczenie kwartalne'!B75","v":""},{"$f":"'Załącznik nr 2 do rozliczenia'!H310","v":0},{"$f":"IF('Załącznik nr 1 do rozliczenia'!H315<0,ABS('Załącznik nr 1 do rozliczenia'!H315),0)","v":0},{"$f":"'Rozliczenie kwartalne'!G317","v":0},{"$f":"'Rozliczenie kwartalne'!H317","v":0},{"$f":"'Rozliczenie kwartalne'!I317","v":0},{"$f":"'Rozliczenie kwartalne'!F317","v":0},{"$f":"'Rozliczenie kwartalne'!J317","v":0},{"$f":"'Rozliczenie kwartalne'!K317","v":0},{"$f":"'Rozliczenie kwartalne'!L317","v":0},{"$f":"'Rozliczenie kwartalne'!M317","v":0},{"$f":"'Rozliczenie kwartalne'!N317","v":0},null,null,"40",0,0,0,0,0,0,0,0,0,0,0,"ok","ok",0,0]
[{"$f":"'Rozliczenie kwartalne'!A76","v":"41"},{"$f":"'Rozliczenie kwartalne'!B76","v":""},{"$f":"'Załącznik nr 2 do rozliczenia'!H311","v":0},{"$f":"IF('Załącznik nr 1 do rozliczenia'!H316<0,ABS('Załącznik nr 1 do rozliczenia'!H316),0)","v":0},{"$f":"'Rozliczenie kwartalne'!G318","v":0},{"$f":"'Rozliczenie kwartalne'!H318","v":0},{"$f":"'Rozliczenie kwartalne'!I318","v":0},{"$f":"'Rozliczenie kwartalne'!F318","v":0},{"$f":"'Rozliczenie kwartalne'!J318","v":0},{"$f":"'Rozliczenie kwartalne'!K318","v":0},{"$f":"'Rozliczenie kwartalne'!L318","v":0},{"$f":"'Rozliczenie kwartalne'!M318","v":0},{"$f":"'Rozliczenie kwartalne'!N318","v":0},null,null,"41",0,0,0,0,0,0,0,0,0,0,0,"ok","ok",0,0]
[{"$f":"'Rozliczenie kwartalne'!A77","v":"42"},{"$f":"'Rozliczenie kwartalne'!B77","v":""},{"$f":"'Załącznik nr 2 do rozliczenia'!H312","v":0},{"$f":"IF('Załącznik nr 1 do rozliczenia'!H317<0,ABS('Załącznik nr 1 do rozliczenia'!H317),0)","v":0},{"$f":"'Rozliczenie kwartalne'!G319","v":0},{"$f":"'Rozliczenie kwartalne'!H319","v":0},{"$f":"'Rozliczenie kwartalne'!I319","v":0},{"$f":"'Rozliczenie kwartalne'!F319","v":0},{"$f":"'Rozliczenie kwartalne'!J319","v":0},{"$f":"'Rozliczenie kwartalne'!K319","v":0},{"$f":"'Rozliczenie kwartalne'!L319","v":0},{"$f":"'Rozliczenie kwartalne'!M319","v":0},{"$f":"'Rozliczenie kwartalne'!N319","v":0},null,null,"42",0,0,0,0,0,0,0,0,0,0,0,"ok","ok",0,0]
[{"$f":"'Rozliczenie kwartalne'!A78","v":"43"},{"$f":"'Rozliczenie kwartalne'!B78","v":""},{"$f":"'Załącznik nr 2 do rozliczenia'!H313","v":0},{"$f":"IF('Załącznik nr 1 do rozliczenia'!H318<0,ABS('Załącznik nr 1 do rozliczenia'!H318),0)","v":0},{"$f":"'Rozliczenie kwartalne'!G320","v":0},{"$f":"'Rozliczenie kwartalne'!H320","v":0},{"$f":"'Rozliczenie kwartalne'!I320","v":0},{"$f":"'Rozliczenie kwartalne'!F320","v":0},{"$f":"'Rozliczenie kwartalne'!J320","v":0},{"$f":"'Rozliczenie kwartalne'!K320","v":0},{"$f":"'Rozliczenie kwartalne'!L320","v":0},{"$f":"'Rozliczenie kwartalne'!M320","v":0},{"$f":"'Rozliczenie kwartalne'!N320","v":0},null,null,"43",0,0,0,0,0,0,0,0,0,0,0,"ok","ok",0,0]
[{"$f":"'Rozliczenie kwartalne'!A79","v":"44"},{"$f":"'Rozliczenie kwartalne'!B79","v":""},{"$f":"'Załącznik nr 2 do rozliczenia'!H314","v":0},{"$f":"IF('Załącznik nr 1 do rozliczenia'!H319<0,ABS('Załącznik nr 1 do rozliczenia'!H319),0)","v":0},{"$f":"'Rozliczenie kwartalne'!G321","v":0},{"$f":"'Rozliczenie kwartalne'!H321","v":0},{"$f":"'Rozliczenie kwartalne'!I321","v":0},{"$f":"'Rozliczenie kwartalne'!F321","v":0},{"$f":"'Rozliczenie kwartalne'!J321","v":0},{"$f":"'Rozliczenie kwartalne'!K321","v":0},{"$f":"'Rozliczenie kwartalne'!L321","v":0},{"$f":"'Rozliczenie kwartalne'!M321","v":0},{"$f":"'Rozliczenie kwartalne'!N321","v":0},null,null,"44",0,0,0,0,0,0,0,0,0,0,0,"ok","ok",0,0]
[{"$f":"'Rozliczenie kwartalne'!A80","v":"45"},{"$f":"'Rozliczenie kwartalne'!B80","v":""},{"$f":"'Załącznik nr 2 do rozliczenia'!H315","v":0},{"$f":"IF('Załącznik nr 1 do rozliczenia'!H320<0,ABS('Załącznik nr 1 do rozliczenia'!H320),0)","v":0},{"$f":"'Rozliczenie kwartalne'!G322","v":0},{"$f":"'Rozliczenie kwartalne'!H322","v":0},{"$f":"'Rozliczenie kwartalne'!I322","v":0},{"$f":"'Rozliczenie kwartalne'!F322","v":0},{"$f":"'Rozliczenie kwartalne'!J322","v":0},{"$f":"'Rozliczenie kwartalne'!K322","v":0},{"$f":"'Rozliczenie kwartalne'!L322","v":0},{"$f":"'Rozliczenie kwartalne'!M322","v":0},{"$f":"'Rozliczenie kwartalne'!N322","v":0},null,null,"45",0,0,0,0,0,0,0,0,0,0,0,"ok","ok",0,0]
[{"$f":"'Rozliczenie kwartalne'!A81","v":"46"},{"$f":"'Rozliczenie kwartalne'!B81","v":""},{"$f":"'Załącznik nr 2 do rozliczenia'!H316","v":0},{"$f":"IF('Załącznik nr 1 do rozliczenia'!H321<0,ABS('Załącznik nr 1 do rozliczenia'!H321),0)","v":0},{"$f":"'Rozliczenie kwartalne'!G323","v":0},{"$f":"'Rozliczenie kwartalne'!H323","v":0},{"$f":"'Rozliczenie kwartalne'!I323","v":0},{"$f":"'Rozliczenie kwartalne'!F323","v":0},{"$f":"'Rozliczenie kwartalne'!J323","v":0},{"$f":"'Rozliczenie kwartalne'!K323","v":0},{"$f":"'Rozliczenie kwartalne'!L323","v":0},{"$f":"'Rozliczenie kwartalne'!M323","v":0},{"$f":"'Rozliczenie kwartalne'!N323","v":0},null,null,"46",0,0,0,0,0,0,0,0,0,0,0,"ok","ok",0,0]
[{"$f":"'Rozliczenie kwartalne'!A82","v":"47"},{"$f":"'Rozliczenie kwartalne'!B82","v":""},{"$f":"'Załącznik nr 2 do rozliczenia'!H317","v":0},{"$f":"IF('Załącznik nr 1 do rozliczenia'!H322<0,ABS('Załącznik nr 1 do rozliczenia'!H322),0)","v":0},{"$f":"'Rozliczenie kwartalne'!G324","v":0},{"$f":"'Rozliczenie kwartalne'!H324","v":0},{"$f":"'Rozliczenie kwartalne'!I324","v":0},{"$f":"'Rozliczenie kwartalne'!F324","v":0},{"$f":"'Rozliczenie kwartalne'!J324","v":0},{"$f":"'Rozliczenie kwartalne'!K324","v":0},{"$f":"'Rozliczenie kwartalne'!L324","v":0},{"$f":"'Rozliczenie kwartalne'!M324","v":0},{"$f":"'Rozliczenie kwartalne'!N324","v":0},null,null,"47",0,0,0,0,0,0,0,0,0,0,0,"ok","ok",0,0]
[{"$f":"'Rozliczenie kwartalne'!A83","v":"48"},{"$f":"'Rozliczenie kwartalne'!B83","v":""},{"$f":"'Załącznik nr 2 do rozliczenia'!H318","v":0},{"$f":"IF('Załącznik nr 1 do rozliczenia'!H323<0,ABS('Załącznik nr 1 do rozliczenia'!H323),0)","v":0},{"$f":"'Rozliczenie kwartalne'!G325","v":0},{"$f":"'Rozliczenie kwartalne'!H325","v":0},{"$f":"'Rozliczenie kwartalne'!I325","v":0},{"$f":"'Rozliczenie kwartalne'!F325","v":0},{"$f":"'Rozliczenie kwartalne'!J325","v":0},{"$f":"'Rozliczenie kwartalne'!K325","v":0},{"$f":"'Rozliczenie kwartalne'!L325","v":0},{"$f":"'Rozliczenie kwartalne'!M325","v":0},{"$f":"'Rozliczenie kwartalne'!N325","v":0},null,null,"48",0,0,0,0,0,0,0,0,0,0,0,"ok","ok",0,0]
[{"$f":"'Rozliczenie kwartalne'!A84","v":"49"},{"$f":"'Rozliczenie kwartalne'!B84","v":""},{"$f":"'Załącznik nr 2 do rozliczenia'!H319","v":0},{"$f":"IF('Załącznik nr 1 do rozliczenia'!H324<0,ABS('Załącznik nr 1 do rozliczenia'!H324),0)","v":0},{"$f":"'Rozliczenie kwartalne'!G326","v":0},{"$f":"'Rozliczenie kwartalne'!H326","v":0},{"$f":"'Rozliczenie kwartalne'!I326","v":0},{"$f":"'Rozliczenie kwartalne'!F326","v":0},{"$f":"'Rozliczenie kwartalne'!J326","v":0},{"$f":"'Rozliczenie kwartalne'!K326","v":0},{"$f":"'Rozliczenie kwartalne'!L326","v":0},{"$f":"'Rozliczenie kwartalne'!M326","v":0},{"$f":"'Rozliczenie kwartalne'!N326","v":0},null,null,"49",0,0,0,0,0,0,0,0,0,0,0,"ok","ok",0,0]
[{"$f":"'Rozliczenie kwartalne'!A85","v":"50"},{"$f":"'Rozliczenie kwartalne'!B85","v":""},{"$f":"'Załącznik nr 2 do rozliczenia'!H320","v":0},{"$f":"IF('Załącznik nr 1 do rozliczenia'!H325<0,ABS('Załącznik nr 1 do rozliczenia'!H325),0)","v":0},{"$f":"'Rozliczenie kwartalne'!G327","v":0},{"$f":"'Rozliczenie kwartalne'!H327","v":0},{"$f":"'Rozliczenie kwartalne'!I327","v":0},{"$f":"'Rozliczenie kwartalne'!F327","v":0},{"$f":"'Rozliczenie kwartalne'!J327","v":0},{"$f":"'Rozliczenie kwartalne'!K327","v":0},{"$f":"'Rozliczenie kwartalne'!L327","v":0},{"$f":"'Rozliczenie kwartalne'!M327","v":0},{"$f":"'Rozliczenie kwartalne'!N327","v":0},null,null,"50",0,0,0,0,0,0,0,0,0,0,0,"ok","ok",0,0]
[{"$f":"'Rozliczenie kwartalne'!A86","v":"51"},{"$f":"'Rozliczenie kwartalne'!B86","v":""},{"$f":"'Załącznik nr 2 do rozliczenia'!H321","v":0},{"$f":"IF('Załącznik nr 1 do rozliczenia'!H326<0,ABS('Załącznik nr 1 do rozliczenia'!H326),0)","v":0},{"$f":"'Rozliczenie kwartalne'!G328","v":0},{"$f":"'Rozliczenie kwartalne'!H328","v":0},{"$f":"'Rozliczenie kwartalne'!I328","v":0},{"$f":"'Rozliczenie kwartalne'!F328","v":0},{"$f":"'Rozliczenie kwartalne'!J328","v":0},{"$f":"'Rozliczenie kwartalne'!K328","v":0},{"$f":"'Rozliczenie kwartalne'!L328","v":0},{"$f":"'Rozliczenie kwartalne'!M328","v":0},{"$f":"'Rozliczenie kwartalne'!N328","v":0},null,null,"51",0,0,0,0,0,0,0,0,0,0,0,"ok","ok",0,0]
[{"$f":"'Rozliczenie kwartalne'!A87","v":"52"},{"$f":"'Rozliczenie kwartalne'!B87","v":""},{"$f":"'Załącznik nr 2 do rozliczenia'!H322","v":0},{"$f":"IF('Załącznik nr 1 do rozliczenia'!H327<0,ABS('Załącznik nr 1 do rozliczenia'!H327),0)","v":0},{"$f":"'Rozliczenie kwartalne'!G329","v":0},{"$f":"'Rozliczenie kwartalne'!H329","v":0},{"$f":"'Rozliczenie kwartalne'!I329","v":0},{"$f":"'Rozliczenie kwartalne'!F329","v":0},{"$f":"'Rozliczenie kwartalne'!J329","v":0},{"$f":"'Rozliczenie kwartalne'!K329","v":0},{"$f":"'Rozliczenie kwartalne'!L329","v":0},{"$f":"'Rozliczenie kwartalne'!M329","v":0},{"$f":"'Rozliczenie kwartalne'!N329","v":0},null,null,"52",0,0,0,0,0,0,0,0,0,0,0,"ok","ok",0,0]
[{"$f":"'Rozliczenie kwartalne'!A88","v":"53"},{"$f":"'Rozliczenie kwartalne'!B88","v":""},{"$f":"'Załącznik nr 2 do rozliczenia'!H323","v":0},{"$f":"IF('Załącznik nr 1 do rozliczenia'!H328<0,ABS('Załącznik nr 1 do rozliczenia'!H328),0)","v":0},{"$f":"'Rozliczenie kwartalne'!G330","v":0},{"$f":"'Rozliczenie kwartalne'!H330","v":0},{"$f":"'Rozliczenie kwartalne'!I330","v":0},{"$f":"'Rozliczenie kwartalne'!F330","v":0},{"$f":"'Rozliczenie kwartalne'!J330","v":0},{"$f":"'Rozliczenie kwartalne'!K330","v":0},{"$f":"'Rozliczenie kwartalne'!L330","v":0},{"$f":"'Rozliczenie kwartalne'!M330","v":0},{"$f":"'Rozliczenie kwartalne'!N330","v":0},null,null,"53",0,0,0,0,0,0,0,0,0,0,0,"ok","ok",0,0]
[{"$f":"'Rozliczenie kwartalne'!A89","v":"54"},{"$f":"'Rozliczenie kwartalne'!B89","v":""},{"$f":"'Załącznik nr 2 do rozliczenia'!H324","v":0},{"$f":"IF('Załącznik nr 1 do rozliczenia'!H329<0,ABS('Załącznik nr 1 do rozliczenia'!H329),0)","v":0},{"$f":"'Rozliczenie kwartalne'!G331","v":0},{"$f":"'Rozliczenie kwartalne'!H331","v":0},{"$f":"'Rozliczenie kwartalne'!I331","v":0},{"$f":"'Rozliczenie kwartalne'!F331","v":0},{"$f":"'Rozliczenie kwartalne'!J331","v":0},{"$f":"'Rozliczenie kwartalne'!K331","v":0},{"$f":"'Rozliczenie kwartalne'!L331","v":0},{"$f":"'Rozliczenie kwartalne'!M331","v":0},{"$f":"'Rozliczenie kwartalne'!N331","v":0},null,null,"54",0,0,0,0,0,0,0,0,0,0,0,"ok","ok",0,0]
[{"$f":"'Rozliczenie kwartalne'!A90","v":"55"},{"$f":"'Rozliczenie kwartalne'!B90","v":""},{"$f":"'Załącznik nr 2 do rozliczenia'!H325","v":0},{"$f":"IF('Załącznik nr 1 do rozliczenia'!H330<0,ABS('Załącznik nr 1 do rozliczenia'!H330),0)","v":0},{"$f":"'Rozliczenie kwartalne'!G332","v":0},{"$f":"'Rozliczenie kwartalne'!H332","v":0},{"$f":"'Rozliczenie kwartalne'!I332","v":0},{"$f":"'Rozliczenie kwartalne'!F332","v":0},{"$f":"'Rozliczenie kwartalne'!J332","v":0},{"$f":"'Rozliczenie kwartalne'!K332","v":0},{"$f":"'Rozliczenie kwartalne'!L332","v":0},{"$f":"'Rozliczenie kwartalne'!M332","v":0},{"$f":"'Rozliczenie kwartalne'!N332","v":0},null,null,"55",0,0,0,0,0,0,0,0,0,0,0,"ok","ok",0,0]
[{"$f":"'Rozliczenie kwartalne'!A91","v":"56"},{"$f":"'Rozliczenie kwartalne'!B91","v":""},{"$f":"'Załącznik nr 2 do rozliczenia'!H326","v":0},{"$f":"IF('Załącznik nr 1 do rozliczenia'!H331<0,ABS('Załącznik nr 1 do rozliczenia'!H331),0)","v":0},{"$f":"'Rozliczenie kwartalne'!G333","v":0},{"$f":"'Rozliczenie kwartalne'!H333","v":0},{"$f":"'Rozliczenie kwartalne'!I333","v":0},{"$f":"'Rozliczenie kwartalne'!F333","v":0},{"$f":"'Rozliczenie kwartalne'!J333","v":0},{"$f":"'Rozliczenie kwartalne'!K333","v":0},{"$f":"'Rozliczenie kwartalne'!L333","v":0},{"$f":"'Rozliczenie kwartalne'!M333","v":0},{"$f":"'Rozliczenie kwartalne'!N333","v":0},null,null,"56",0,0,0,0,0,0,0,0,0,0,0,"ok","ok",0,0]
[{"$f":"'Rozliczenie kwartalne'!A92","v":"57"},{"$f":"'Rozliczenie kwartalne'!B92","v":""},{"$f":"'Załącznik nr 2 do rozliczenia'!H327","v":0},{"$f":"IF('Załącznik nr 1 do rozliczenia'!H332<0,ABS('Załącznik nr 1 do rozliczenia'!H332),0)","v":0},{"$f":"'Rozliczenie kwartalne'!G334","v":0},{"$f":"'Rozliczenie kwartalne'!H334","v":0},{"$f":"'Rozliczenie kwartalne'!I334","v":0},{"$f":"'Rozliczenie kwartalne'!F334","v":0},{"$f":"'Rozliczenie kwartalne'!J334","v":0},{"$f":"'Rozliczenie kwartalne'!K334","v":0},{"$f":"'Rozliczenie kwartalne'!L334","v":0},{"$f":"'Rozliczenie kwartalne'!M334","v":0},{"$f":"'Rozliczenie kwartalne'!N334","v":0},null,null,"57",0,0,0,0,0,0,0,0,0,0,0,"ok","ok",0,0]
[{"$f":"'Rozliczenie kwartalne'!A93","v":"58"},{"$f":"'Rozliczenie kwartalne'!B93","v":""},{"$f":"'Załącznik nr 2 do rozliczenia'!H328","v":0},{"$f":"IF('Załącznik nr 1 do rozliczenia'!H333<0,ABS('Załącznik nr 1 do rozliczenia'!H333),0)","v":0},{"$f":"'Rozliczenie kwartalne'!G335","v":0},{"$f":"'Rozliczenie kwartalne'!H335","v":0},{"$f":"'Rozliczenie kwartalne'!I335","v":0},{"$f":"'Rozliczenie kwartalne'!F335","v":0},{"$f":"'Rozliczenie kwartalne'!J335","v":0},{"$f":"'Rozliczenie kwartalne'!K335","v":0},{"$f":"'Rozliczenie kwartalne'!L335","v":0},{"$f":"'Rozliczenie kwartalne'!M335","v":0},{"$f":"'Rozliczenie kwartalne'!N335","v":0},null,null,"58",0,0,0,0,0,0,0,0,0,0,0,"ok","ok",0,0]
[{"$f":"'Rozliczenie kwartalne'!A94","v":"59"},{"$f":"'Rozliczenie kwartalne'!B94","v":""},{"$f":"'Załącznik nr 2 do rozliczenia'!H329","v":0},{"$f":"IF('Załącznik nr 1 do rozliczenia'!H334<0,ABS('Załącznik nr 1 do rozliczenia'!H334),0)","v":0},{"$f":"'Rozliczenie kwartalne'!G336","v":0},{"$f":"'Rozliczenie kwartalne'!H336","v":0},{"$f":"'Rozliczenie kwartalne'!I336","v":0},{"$f":"'Rozliczenie kwartalne'!F336","v":0},{"$f":"'Rozliczenie kwartalne'!J336","v":0},{"$f":"'Rozliczenie kwartalne'!K336","v":0},{"$f":"'Rozliczenie kwartalne'!L336","v":0},{"$f":"'Rozliczenie kwartalne'!M336","v":0},{"$f":"'Rozliczenie kwartalne'!N336","v":0},null,null,"59",0,0,0,0,0,0,0,0,0,0,0,"ok","ok",0,0]
[{"$f":"'Rozliczenie kwartalne'!A95","v":"60"},{"$f":"'Rozliczenie kwartalne'!B95","v":""},{"$f":"'Załącznik nr 2 do rozliczenia'!H330","v":0},{"$f":"IF('Załącznik nr 1 do rozliczenia'!H335<0,ABS('Załącznik nr 1 do rozliczenia'!H335),0)","v":0},{"$f":"'Rozliczenie kwartalne'!G337","v":0},{"$f":"'Rozliczenie kwartalne'!H337","v":0},{"$f":"'Rozliczenie kwartalne'!I337","v":0},{"$f":"'Rozliczenie kwartalne'!F337","v":0},{"$f":"'Rozliczenie kwartalne'!J337","v":0},{"$f":"'Rozliczenie kwartalne'!K337","v":0},{"$f":"'Rozliczenie kwartalne'!L337","v":0},{"$f":"'Rozliczenie kwartalne'!M337","v":0},{"$f":"'Rozliczenie kwartalne'!N337","v":0},null,null,"60",0,0,0,0,0,0,0,0,0,0,0,"ok","ok",0,0]
[{"$f":"'Rozliczenie kwartalne'!A96","v":"61"},{"$f":"'Rozliczenie kwartalne'!B96","v":""},{"$f":"'Załącznik nr 2 do rozliczenia'!H331","v":0},{"$f":"IF('Załącznik nr 1 do rozliczenia'!H336<0,ABS('Załącznik nr 1 do rozliczenia'!H336),0)","v":0},{"$f":"'Rozliczenie kwartalne'!G338","v":0},{"$f":"'Rozliczenie kwartalne'!H338","v":0},{"$f":"'Rozliczenie kwartalne'!I338","v":0},{"$f":"'Rozliczenie kwartalne'!F338","v":0},{"$f":"'Rozliczenie kwartalne'!J338","v":0},{"$f":"'Rozliczenie kwartalne'!K338","v":0},{"$f":"'Rozliczenie kwartalne'!L338","v":0},{"$f":"'Rozliczenie kwartalne'!M338","v":0},{"$f":"'Rozliczenie kwartalne'!N338","v":0},null,null,"61",0,0,0,0,0,0,0,0,0,0,0,"ok","ok",0,0]
[{"$f":"'Rozliczenie kwartalne'!A97","v":"62"},{"$f":"'Rozliczenie kwartalne'!B97","v":""},{"$f":"'Załącznik nr 2 do rozliczenia'!H332","v":0},{"$f":"IF('Załącznik nr 1 do rozliczenia'!H337<0,ABS('Załącznik nr 1 do rozliczenia'!H337),0)","v":0},{"$f":"'Rozliczenie kwartalne'!G339","v":0},{"$f":"'Rozliczenie kwartalne'!H339","v":0},{"$f":"'Rozliczenie kwartalne'!I339","v":0},{"$f":"'Rozliczenie kwartalne'!F339","v":0},{"$f":"'Rozliczenie kwartalne'!J339","v":0},{"$f":"'Rozliczenie kwartalne'!K339","v":0},{"$f":"'Rozliczenie kwartalne'!L339","v":0},{"$f":"'Rozliczenie kwartalne'!M339","v":0},{"$f":"'Rozliczenie kwartalne'!N339","v":0},null,null,"62",0,0,0,0,0,0,0,0,0,0,0,"ok","ok",0,0]
[{"$f":"'Rozliczenie kwartalne'!A98","v":"63"},{"$f":"'Rozliczenie kwartalne'!B98","v":""},{"$f":"'Załącznik nr 2 do rozliczenia'!H333","v":0},{"$f":"IF('Załącznik nr 1 do rozliczenia'!H338<0,ABS('Załącznik nr 1 do rozliczenia'!H338),0)","v":0},{"$f":"'Rozliczenie kwartalne'!G340","v":0},{"$f":"'Rozliczenie kwartalne'!H340","v":0},{"$f":"'Rozliczenie kwartalne'!I340","v":0},{"$f":"'Rozliczenie kwartalne'!F340","v":0},{"$f":"'Rozliczenie kwartalne'!J340","v":0},{"$f":"'Rozliczenie kwartalne'!K340","v":0},{"$f":"'Rozliczenie kwartalne'!L340","v":0},{"$f":"'Rozliczenie kwartalne'!M340","v":0},{"$f":"'Rozliczenie kwartalne'!N340","v":0},null,null,"63",0,0,0,0,0,0,0,0,0,0,0,"ok","ok",0,0]
[{"$f":"'Rozliczenie kwartalne'!A99","v":"64"},{"$f":"'Rozliczenie kwartalne'!B99","v":""},{"$f":"'Załącznik nr 2 do rozliczenia'!H334","v":0},{"$f":"IF('Załącznik nr 1 do rozliczenia'!H339<0,ABS('Załącznik nr 1 do rozliczenia'!H339),0)","v":0},{"$f":"'Rozliczenie kwartalne'!G341","v":0},{"$f":"'Rozliczenie kwartalne'!H341","v":0},{"$f":"'Rozliczenie kwartalne'!I341","v":0},{"$f":"'Rozliczenie kwartalne'!F341","v":0},{"$f":"'Rozliczenie kwartalne'!J341","v":0},{"$f":"'Rozliczenie kwartalne'!K341","v":0},{"$f":"'Rozliczenie kwartalne'!L341","v":0},{"$f":"'Rozliczenie kwartalne'!M341","v":0},{"$f":"'Rozliczenie kwartalne'!N341","v":0},null,null,"64",0,0,0,0,0,0,0,0,0,0,0,"ok","ok",0,0]
[{"$f":"'Rozliczenie kwartalne'!A100","v":"65"},{"$f":"'Rozliczenie kwartalne'!B100","v":""},{"$f":"'Załącznik nr 2 do rozliczenia'!H335","v":0},{"$f":"IF('Załącznik nr 1 do rozliczenia'!H340<0,ABS('Załącznik nr 1 do rozliczenia'!H340),0)","v":0},{"$f":"'Rozliczenie kwartalne'!G342","v":0},{"$f":"'Rozliczenie kwartalne'!H342","v":0},{"$f":"'Rozliczenie kwartalne'!I342","v":0},{"$f":"'Rozliczenie kwartalne'!F342","v":0},{"$f":"'Rozliczenie kwartalne'!J342","v":0},{"$f":"'Rozliczenie kwartalne'!K342","v":0},{"$f":"'Rozliczenie kwartalne'!L342","v":0},{"$f":"'Rozliczenie kwartalne'!M342","v":0},{"$f":"'Rozliczenie kwartalne'!N342","v":0},null,null,"65",0,0,0,0,0,0,0,0,0,0,0,"ok","ok",0,0]
[{"$f":"'Rozliczenie kwartalne'!A101","v":"66"},{"$f":"'Rozliczenie kwartalne'!B101","v":""},{"$f":"'Załącznik nr 2 do rozliczenia'!H336","v":0},{"$f":"IF('Załącznik nr 1 do rozliczenia'!H341<0,ABS('Załącznik nr 1 do rozliczenia'!H341),0)","v":0},{"$f":"'Rozliczenie kwartalne'!G343","v":0},{"$f":"'Rozliczenie kwartalne'!H343","v":0},{"$f":"'Rozliczenie kwartalne'!I343","v":0},{"$f":"'Rozliczenie kwartalne'!F343","v":0},{"$f":"'Rozliczenie kwartalne'!J343","v":0},{"$f":"'Rozliczenie kwartalne'!K343","v":0},{"$f":"'Rozliczenie kwartalne'!L343","v":0},{"$f":"'Rozliczenie kwartalne'!M343","v":0},{"$f":"'Rozliczenie kwartalne'!N343","v":0},null,null,{"$f":"A68","v":"66"},{"$f":"IFERROR(D68/C68,0)","v":0},{"$f":"F68","v":0},{"$f":"IFERROR(R68/Q68,0)","v":0},{"$f":"R68*C68","v":0},{"$f":"E68*C68","v":0},{"$f":"IFERROR(ROUND(X68*C68,2),0)","v":0},{"$f":"ROUND(X68*C68,2)","v":0},{"$f":"IFERROR(IF((D68-H68)/C68>=$N$3,$N$3,(D68-H68)/C68),0)","v":0},{"$f":"IFERROR(ROUND(I68/C68,2),0)","v":0},{"$f":"ROUND(D68*0.1,2)","v":0},{"$f":"Q68*0.1","v":0},{"$f":"IF(R68>=AA68,$O$1,$O$2)","v":"ok"},{"$f":"IF(Y68<=$N$3,$O$1,$O$2)","v":"ok"},{"$f":"(V68+T68)-D68","v":0},{"$f":"D68-U68","v":0}]
[{"$f":"'Rozliczenie kwartalne'!A102","v":"67"},{"$f":"'Rozliczenie kwartalne'!B102","v":""},{"$f":"'Załącznik nr 2 do rozliczenia'!H337","v":0},{"$f":"IF('Załącznik nr 1 do rozliczenia'!H342<0,ABS('Załącznik nr 1 do rozliczenia'!H342),0)","v":0},{"$f":"'Rozliczenie kwartalne'!G344","v":0},{"$f":"'Rozliczenie kwartalne'!H344","v":0},{"$f":"'Rozliczenie kwartalne'!I344","v":0},{"$f":"'Rozliczenie kwartalne'!F344","v":0},{"$f":"'Rozliczenie kwartalne'!J344","v":0},{"$f":"'Rozliczenie kwartalne'!K344","v":0},{"$f":"'Rozliczenie kwartalne'!L344","v":0},{"$f":"'Rozliczenie kwartalne'!M344","v":0},{"$f":"'Rozliczenie kwartalne'!N344","v":0},null,null,"67",0,0,0,0,0,0,0,0,0,0,0,"ok","ok",0,0]
[{"$f":"'Rozliczenie kwartalne'!A103","v":"68"},{"$f":"'Rozliczenie kwartalne'!B103","v":""},{"$f":"'Załącznik nr 2 do rozliczenia'!H338","v":0},{"$f":"IF('Załącznik nr 1 do rozliczenia'!H343<0,ABS('Załącznik nr 1 do rozliczenia'!H343),0)","v":0},{"$f":"'Rozliczenie kwartalne'!G345","v":0},{"$f":"'Rozliczenie kwartalne'!H345","v":0},{"$f":"'Rozliczenie kwartalne'!I345","v":0},{"$f":"'Rozliczenie kwartalne'!F345","v":0},{"$f":"'Rozliczenie kwartalne'!J345","v":0},{"$f":"'Rozliczenie kwartalne'!K345","v":0},{"$f":"'Rozliczenie kwartalne'!L345","v":0},{"$f":"'Rozliczenie kwartalne'!M345","v":0},{"$f":"'Rozliczenie kwartalne'!N345","v":0},null,null,"68",0,0,0,0,0,0,0,0,0,0,0,"ok","ok",0,0]
[{"$f":"'Rozliczenie kwartalne'!A104","v":"69"},{"$f":"'Rozliczenie kwartalne'!B104","v":""},{"$f":"'Załącznik nr 2 do rozliczenia'!H339","v":0},{"$f":"IF('Załącznik nr 1 do rozliczenia'!H344<0,ABS('Załącznik nr 1 do rozliczenia'!H344),0)","v":0},{"$f":"'Rozliczenie kwartalne'!G346","v":0},{"$f":"'Rozliczenie kwartalne'!H346","v":0},{"$f":"'Rozliczenie kwartalne'!I346","v":0},{"$f":"'Rozliczenie kwartalne'!F346","v":0},{"$f":"'Rozliczenie kwartalne'!J346","v":0},{"$f":"'Rozliczenie kwartalne'!K346","v":0},{"$f":"'Rozliczenie kwartalne'!L346","v":0},{"$f":"'Rozliczenie kwartalne'!M346","v":0},{"$f":"'Rozliczenie kwartalne'!N346","v":0},null,null,"69",0,0,0,0,0,0,0,0,0,0,0,"ok","ok",0,0]
[{"$f":"'Rozliczenie kwartalne'!A105","v":"70"},{"$f":"'Rozliczenie kwartalne'!B105","v":""},{"$f":"'Załącznik nr 2 do rozliczenia'!H340","v":0},{"$f":"IF('Załącznik nr 1 do rozliczenia'!H345<0,ABS('Załącznik nr 1 do rozliczenia'!H345),0)","v":0},{"$f":"'Rozliczenie kwartalne'!G347","v":0},{"$f":"'Rozliczenie kwartalne'!H347","v":0},{"$f":"'Rozliczenie kwartalne'!I347","v":0},{"$f":"'Rozliczenie kwartalne'!F347","v":0},{"$f":"'Rozliczenie kwartalne'!J347","v":0},{"$f":"'Rozliczenie kwartalne'!K347","v":0},{"$f":"'Rozliczenie kwartalne'!L347","v":0},{"$f":"'Rozliczenie kwartalne'!M347","v":0},{"$f":"'Rozliczenie kwartalne'!N347","v":0},null,null,"70",0,0,0,0,0,0,0,0,0,0,0,"ok","ok",0,0]
[{"$f":"'Rozliczenie kwartalne'!A106","v":"71"},{"$f":"'Rozliczenie kwartalne'!B106","v":""},{"$f":"'Załącznik nr 2 do rozliczenia'!H341","v":0},{"$f":"IF('Załącznik nr 1 do rozliczenia'!H346<0,ABS('Załącznik nr 1 do rozliczenia'!H346),0)","v":0},{"$f":"'Rozliczenie kwartalne'!G348","v":0},{"$f":"'Rozliczenie kwartalne'!H348","v":0},{"$f":"'Rozliczenie kwartalne'!I348","v":0},{"$f":"'Rozliczenie kwartalne'!F348","v":0},{"$f":"'Rozliczenie kwartalne'!J348","v":0},{"$f":"'Rozliczenie kwartalne'!K348","v":0},{"$f":"'Rozliczenie kwartalne'!L348","v":0},{"$f":"'Rozliczenie kwartalne'!M348","v":0},{"$f":"'Rozliczenie kwartalne'!N348","v":0},null,null,"71",0,0,0,0,0,0,0,0,0,0,0,"ok","ok",0,0]
[{"$f":"'Rozliczenie kwartalne'!A107","v":"72"},{"$f":"'Rozliczenie kwartalne'!B107","v":""},{"$f":"'Załącznik nr 2 do rozliczenia'!H342","v":0},{"$f":"IF('Załącznik nr 1 do rozliczenia'!H347<0,ABS('Załącznik nr 1 do rozliczenia'!H347),0)","v":0},{"$f":"'Rozliczenie kwartalne'!G349","v":0},{"$f":"'Rozliczenie kwartalne'!H349","v":0},{"$f":"'Rozliczenie kwartalne'!I349","v":0},{"$f":"'Rozliczenie kwartalne'!F349","v":0},{"$f":"'Rozliczenie kwartalne'!J349","v":0},{"$f":"'Rozliczenie kwartalne'!K349","v":0},{"$f":"'Rozliczenie kwartalne'!L349","v":0},{"$f":"'Rozliczenie kwartalne'!M349","v":0},{"$f":"'Rozliczenie kwartalne'!N349","v":0},null,null,"72",0,0,0,0,0,0,0,0,0,0,0,"ok","ok",0,0]
[{"$f":"'Rozliczenie kwartalne'!A108","v":"73"},{"$f":"'Rozliczenie kwartalne'!B108","v":""},{"$f":"'Załącznik nr 2 do rozliczenia'!H343","v":0},{"$f":"IF('Załącznik nr 1 do rozliczenia'!H348<0,ABS('Załącznik nr 1 do rozliczenia'!H348),0)","v":0},{"$f":"'Rozliczenie kwartalne'!G350","v":0},{"$f":"'Rozliczenie kwartalne'!H350","v":0},{"$f":"'Rozliczenie kwartalne'!I350","v":0},{"$f":"'Rozliczenie kwartalne'!F350","v":0},{"$f":"'Rozliczenie kwartalne'!J350","v":0},{"$f":"'Rozliczenie kwartalne'!K350","v":0},{"$f":"'Rozliczenie kwartalne'!L350","v":0},{"$f":"'Rozliczenie kwartalne'!M350","v":0},{"$f":"'Rozliczenie kwartalne'!N350","v":0},null,null,"73",0,0,0,0,0,0,0,0,0,0,0,"ok","ok",0,0]
[{"$f":"'Rozliczenie kwartalne'!A109","v":"74"},{"$f":"'Rozliczenie kwartalne'!B109","v":""},{"$f":"'Załącznik nr 2 do rozliczenia'!H344","v":0},{"$f":"IF('Załącznik nr 1 do rozliczenia'!H349<0,ABS('Załącznik nr 1 do rozliczenia'!H349),0)","v":0},{"$f":"'Rozliczenie kwartalne'!G351","v":0},{"$f":"'Rozliczenie kwartalne'!H351","v":0},{"$f":"'Rozliczenie kwartalne'!I351","v":0},{"$f":"'Rozliczenie kwartalne'!F351","v":0},{"$f":"'Rozliczenie kwartalne'!J351","v":0},{"$f":"'Rozliczenie kwartalne'!K351","v":0},{"$f":"'Rozliczenie kwartalne'!L351","v":0},{"$f":"'Rozliczenie kwartalne'!M351","v":0},{"$f":"'Rozliczenie kwartalne'!N351","v":0},null,null,"74",0,0,0,0,0,0,0,0,0,0,0,"ok","ok",0,0]
[{"$f":"'Rozliczenie kwartalne'!A110","v":"75"},{"$f":"'Rozliczenie kwartalne'!B110","v":""},{"$f":"'Załącznik nr 2 do rozliczenia'!H345","v":0},{"$f":"IF('Załącznik nr 1 do rozliczenia'!H350<0,ABS('Załącznik nr 1 do rozliczenia'!H350),0)","v":0},{"$f":"'Rozliczenie kwartalne'!G352","v":0},{"$f":"'Rozliczenie kwartalne'!H352","v":0},{"$f":"'Rozliczenie kwartalne'!I352","v":0},{"$f":"'Rozliczenie kwartalne'!F352","v":0},{"$f":"'Rozliczenie kwartalne'!J352","v":0},{"$f":"'Rozliczenie kwartalne'!K352","v":0},{"$f":"'Rozliczenie kwartalne'!L352","v":0},{"$f":"'Rozliczenie kwartalne'!M352","v":0},{"$f":"'Rozliczenie kwartalne'!N352","v":0},null,null,"75",0,0,0,0,0,0,0,0,0,0,0,"ok","ok",0,0]
[{"$f":"'Rozliczenie kwartalne'!A111","v":"76"},{"$f":"'Rozliczenie kwartalne'!B111","v":""},{"$f":"'Załącznik nr 2 do rozliczenia'!H346","v":0},{"$f":"IF('Załącznik nr 1 do rozliczenia'!H351<0,ABS('Załącznik nr 1 do rozliczenia'!H351),0)","v":0},{"$f":"'Rozliczenie kwartalne'!G353","v":0},{"$f":"'Rozliczenie kwartalne'!H353","v":0},{"$f":"'Rozliczenie kwartalne'!I353","v":0},{"$f":"'Rozliczenie kwartalne'!F353","v":0},{"$f":"'Rozliczenie kwartalne'!J353","v":0},{"$f":"'Rozliczenie kwartalne'!K353","v":0},{"$f":"'Rozliczenie kwartalne'!L353","v":0},{"$f":"'Rozliczenie kwartalne'!M353","v":0},{"$f":"'Rozliczenie kwartalne'!N353","v":0},null,null,"76",0,0,0,0,0,0,0,0,0,0,0,"ok","ok",0,0]
[{"$f":"'Rozliczenie kwartalne'!A112","v":"77"},{"$f":"'Rozliczenie kwartalne'!B112","v":""},{"$f":"'Załącznik nr 2 do rozliczenia'!H347","v":0},{"$f":"IF('Załącznik nr 1 do rozliczenia'!H352<0,ABS('Załącznik nr 1 do rozliczenia'!H352),0)","v":0},{"$f":"'Rozliczenie kwartalne'!G354","v":0},{"$f":"'Rozliczenie kwartalne'!H354","v":0},{"$f":"'Rozliczenie kwartalne'!I354","v":0},{"$f":"'Rozliczenie kwartalne'!F354","v":0},{"$f":"'Rozliczenie kwartalne'!J354","v":0},{"$f":"'Rozliczenie kwartalne'!K354","v":0},{"$f":"'Rozliczenie kwartalne'!L354","v":0},{"$f":"'Rozliczenie kwartalne'!M354","v":0},{"$f":"'Rozliczenie kwartalne'!N354","v":0},null,null,"77",0,0,0,0,0,0,0,0,0,0,0,"ok","ok",0,0]
[{"$f":"'Rozliczenie kwartalne'!A113","v":"78"},{"$f":"'Rozliczenie kwartalne'!B113","v":""},{"$f":"'Załącznik nr 2 do rozliczenia'!H348","v":0},{"$f":"IF('Załącznik nr 1 do rozliczenia'!H353<0,ABS('Załącznik nr 1 do rozliczenia'!H353),0)","v":0},{"$f":"'Rozliczenie kwartalne'!G355","v":0},{"$f":"'Rozliczenie kwartalne'!H355","v":0},{"$f":"'Rozliczenie kwartalne'!I355","v":0},{"$f":"'Rozliczenie kwartalne'!F355","v":0},{"$f":"'Rozliczenie kwartalne'!J355","v":0},{"$f":"'Rozliczenie kwartalne'!K355","v":0},{"$f":"'Rozliczenie kwartalne'!L355","v":0},{"$f":"'Rozliczenie kwartalne'!M355","v":0},{"$f":"'Rozliczenie kwartalne'!N355","v":0},null,null,"78",0,0,0,0,0,0,0,0,0,0,0,"ok","ok",0,0]
[{"$f":"'Rozliczenie kwartalne'!A114","v":"79"},{"$f":"'Rozliczenie kwartalne'!B114","v":""},{"$f":"'Załącznik nr 2 do rozliczenia'!H349","v":0},{"$f":"IF('Załącznik nr 1 do rozliczenia'!H354<0,ABS('Załącznik nr 1 do rozliczenia'!H354),0)","v":0},{"$f":"'Rozliczenie kwartalne'!G356","v":0},{"$f":"'Rozliczenie kwartalne'!H356","v":0},{"$f":"'Rozliczenie kwartalne'!I356","v":0},{"$f":"'Rozliczenie kwartalne'!F356","v":0},{"$f":"'Rozliczenie kwartalne'!J356","v":0},{"$f":"'Rozliczenie kwartalne'!K356","v":0},{"$f":"'Rozliczenie kwartalne'!L356","v":0},{"$f":"'Rozliczenie kwartalne'!M356","v":0},{"$f":"'Rozliczenie kwartalne'!N356","v":0},null,null,"79",0,0,0,0,0,0,0,0,0,0,0,"ok","ok",0,0]
[{"$f":"'Rozliczenie kwartalne'!A115","v":"80"},{"$f":"'Rozliczenie kwartalne'!B115","v":""},{"$f":"'Załącznik nr 2 do rozliczenia'!H350","v":0},{"$f":"IF('Załącznik nr 1 do rozliczenia'!H355<0,ABS('Załącznik nr 1 do rozliczenia'!H355),0)","v":0},{"$f":"'Rozliczenie kwartalne'!G357","v":0},{"$f":"'Rozliczenie kwartalne'!H357","v":0},{"$f":"'Rozliczenie kwartalne'!I357","v":0},{"$f":"'Rozliczenie kwartalne'!F357","v":0},{"$f":"'Rozliczenie kwartalne'!J357","v":0},{"$f":"'Rozliczenie kwartalne'!K357","v":0},{"$f":"'Rozliczenie kwartalne'!L357","v":0},{"$f":"'Rozliczenie kwartalne'!M357","v":0},{"$f":"'Rozliczenie kwartalne'!N357","v":0},null,null,"80",0,0,0,0,0,0,0,0,0,0,0,"ok","ok",0,0]
[{"$f":"'Rozliczenie kwartalne'!A116","v":"81"},{"$f":"'Rozliczenie kwartalne'!B116","v":""},{"$f":"'Załącznik nr 2 do rozliczenia'!H351","v":0},{"$f":"IF('Załącznik nr 1 do rozliczenia'!H356<0,ABS('Załącznik nr 1 do rozliczenia'!H356),0)","v":0},{"$f":"'Rozliczenie kwartalne'!G358","v":0},{"$f":"'Rozliczenie kwartalne'!H358","v":0},{"$f":"'Rozliczenie kwartalne'!I358","v":0},{"$f":"'Rozliczenie kwartalne'!F358","v":0},{"$f":"'Rozliczenie kwartalne'!J358","v":0},{"$f":"'Rozliczenie kwartalne'!K358","v":0},{"$f":"'Rozliczenie kwartalne'!L358","v":0},{"$f":"'Rozliczenie kwartalne'!M358","v":0},{"$f":"'Rozliczenie kwartalne'!N358","v":0},null,null,"81",0,0,0,0,0,0,0,0,0,0,0,"ok","ok",0,0]
[{"$f":"'Rozliczenie kwartalne'!A117","v":"82"},{"$f":"'Rozliczenie kwartalne'!B117","v":""},{"$f":"'Załącznik nr 2 do rozliczenia'!H352","v":0},{"$f":"IF('Załącznik nr 1 do rozliczenia'!H357<0,ABS('Załącznik nr 1 do rozliczenia'!H357),0)","v":0},{"$f":"'Rozliczenie kwartalne'!G359","v":0},{"$f":"'Rozliczenie kwartalne'!H359","v":0},{"$f":"'Rozliczenie kwartalne'!I359","v":0},{"$f":"'Rozliczenie kwartalne'!F359","v":0},{"$f":"'Rozliczenie kwartalne'!J359","v":0},{"$f":"'Rozliczenie kwartalne'!K359","v":0},{"$f":"'Rozliczenie kwartalne'!L359","v":0},{"$f":"'Rozliczenie kwartalne'!M359","v":0},{"$f":"'Rozliczenie kwartalne'!N359","v":0},null,null,"82",0,0,0,0,0,0,0,0,0,0,0,"ok","ok",0,0]
[{"$f":"'Rozliczenie kwartalne'!A118","v":"83"},{"$f":"'Rozliczenie kwartalne'!B118","v":""},{"$f":"'Załącznik nr 2 do rozliczenia'!H353","v":0},{"$f":"IF('Załącznik nr 1 do rozliczenia'!H358<0,ABS('Załącznik nr 1 do rozliczenia'!H358),0)","v":0},{"$f":"'Rozliczenie kwartalne'!G360","v":0},{"$f":"'Rozliczenie kwartalne'!H360","v":0},{"$f":"'Rozliczenie kwartalne'!I360","v":0},{"$f":"'Rozliczenie kwartalne'!F360","v":0},{"$f":"'Rozliczenie kwartalne'!J360","v":0},{"$f":"'Rozliczenie kwartalne'!K360","v":0},{"$f":"'Rozliczenie kwartalne'!L360","v":0},{"$f":"'Rozliczenie kwartalne'!M360","v":0},{"$f":"'Rozliczenie kwartalne'!N360","v":0},null,null,"83",0,0,0,0,0,0,0,0,0,0,0,"ok","ok",0,0]
[{"$f":"'Rozliczenie kwartalne'!A119","v":"84"},{"$f":"'Rozliczenie kwartalne'!B119","v":""},{"$f":"'Załącznik nr 2 do rozliczenia'!H354","v":0},{"$f":"IF('Załącznik nr 1 do rozliczenia'!H359<0,ABS('Załącznik nr 1 do rozliczenia'!H359),0)","v":0},{"$f":"'Rozliczenie kwartalne'!G361","v":0},{"$f":"'Rozliczenie kwartalne'!H361","v":0},{"$f":"'Rozliczenie kwartalne'!I361","v":0},{"$f":"'Rozliczenie kwartalne'!F361","v":0},{"$f":"'Rozliczenie kwartalne'!J361","v":0},{"$f":"'Rozliczenie kwartalne'!K361","v":0},{"$f":"'Rozliczenie kwartalne'!L361","v":0},{"$f":"'Rozliczenie kwartalne'!M361","v":0},{"$f":"'Rozliczenie kwartalne'!N361","v":0},null,null,"84",0,0,0,0,0,0,0,0,0,0,0,"ok","ok",0,0]
[{"$f":"'Rozliczenie kwartalne'!A120","v":"85"},{"$f":"'Rozliczenie kwartalne'!B120","v":""},{"$f":"'Załącznik nr 2 do rozliczenia'!H355","v":0},{"$f":"IF('Załącznik nr 1 do rozliczenia'!H360<0,ABS('Załącznik nr 1 do rozliczenia'!H360),0)","v":0},{"$f":"'Rozliczenie kwartalne'!G362","v":0},{"$f":"'Rozliczenie kwartalne'!H362","v":0},{"$f":"'Rozliczenie kwartalne'!I362","v":0},{"$f":"'Rozliczenie kwartalne'!F362","v":0},{"$f":"'Rozliczenie kwartalne'!J362","v":0},{"$f":"'Rozliczenie kwartalne'!K362","v":0},{"$f":"'Rozliczenie kwartalne'!L362","v":0},{"$f":"'Rozliczenie kwartalne'!M362","v":0},{"$f":"'Rozliczenie kwartalne'!N362","v":0},null,null,"85",0,0,0,0,0,0,0,0,0,0,0,"ok","ok",0,0]
[{"$f":"'Rozliczenie kwartalne'!A121","v":"86"},{"$f":"'Rozliczenie kwartalne'!B121","v":""},{"$f":"'Załącznik nr 2 do rozliczenia'!H356","v":0},{"$f":"IF('Załącznik nr 1 do rozliczenia'!H361<0,ABS('Załącznik nr 1 do rozliczenia'!H361),0)","v":0},{"$f":"'Rozliczenie kwartalne'!G363","v":0},{"$f":"'Rozliczenie kwartalne'!H363","v":0},{"$f":"'Rozliczenie kwartalne'!I363","v":0},{"$f":"'Rozliczenie kwartalne'!F363","v":0},{"$f":"'Rozliczenie kwartalne'!J363","v":0},{"$f":"'Rozliczenie kwartalne'!K363","v":0},{"$f":"'Rozliczenie kwartalne'!L363","v":0},{"$f":"'Rozliczenie kwartalne'!M363","v":0},{"$f":"'Rozliczenie kwartalne'!N363","v":0},null,null,"86",0,0,0,0,0,0,0,0,0,0,0,"ok","ok",0,0]
[{"$f":"'Rozliczenie kwartalne'!A122","v":"87"},{"$f":"'Rozliczenie kwartalne'!B122","v":""},{"$f":"'Załącznik nr 2 do rozliczenia'!H357","v":0},{"$f":"IF('Załącznik nr 1 do rozliczenia'!H362<0,ABS('Załącznik nr 1 do rozliczenia'!H362),0)","v":0},{"$f":"'Rozliczenie kwartalne'!G364","v":0},{"$f":"'Rozliczenie kwartalne'!H364","v":0},{"$f":"'Rozliczenie kwartalne'!I364","v":0},{"$f":"'Rozliczenie kwartalne'!F364","v":0},{"$f":"'Rozliczenie kwartalne'!J364","v":0},{"$f":"'Rozliczenie kwartalne'!K364","v":0},{"$f":"'Rozliczenie kwartalne'!L364","v":0},{"$f":"'Rozliczenie kwartalne'!M364","v":0},{"$f":"'Rozliczenie kwartalne'!N364","v":0},null,null,"87",0,0,0,0,0,0,0,0,0,0,0,"ok","ok",0,0]
[{"$f":"'Rozliczenie kwartalne'!A123","v":"88"},{"$f":"'Rozliczenie kwartalne'!B123","v":""},{"$f":"'Załącznik nr 2 do rozliczenia'!H358","v":0},{"$f":"IF('Załącznik nr 1 do rozliczenia'!H363<0,ABS('Załącznik nr 1 do rozliczenia'!H363),0)","v":0},{"$f":"'Rozliczenie kwartalne'!G365","v":0},{"$f":"'Rozliczenie kwartalne'!H365","v":0},{"$f":"'Rozliczenie kwartalne'!I365","v":0},{"$f":"'Rozliczenie kwartalne'!F365","v":0},{"$f":"'Rozliczenie kwartalne'!J365","v":0},{"$f":"'Rozliczenie kwartalne'!K365","v":0},{"$f":"'Rozliczenie kwartalne'!L365","v":0},{"$f":"'Rozliczenie kwartalne'!M365","v":0},{"$f":"'Rozliczenie kwartalne'!N365","v":0},null,null,"88",0,0,0,0,0,0,0,0,0,0,0,"ok","ok",0,0]
[{"$f":"'Rozliczenie kwartalne'!A124","v":"89"},{"$f":"'Rozliczenie kwartalne'!B124","v":""},{"$f":"'Załącznik nr 2 do rozliczenia'!H359","v":0},{"$f":"IF('Załącznik nr 1 do rozliczenia'!H364<0,ABS('Załącznik nr 1 do rozliczenia'!H364),0)","v":0},{"$f":"'Rozliczenie kwartalne'!G366","v":0},{"$f":"'Rozliczenie kwartalne'!H366","v":0},{"$f":"'Rozliczenie kwartalne'!I366","v":0},{"$f":"'Rozliczenie kwartalne'!F366","v":0},{"$f":"'Rozliczenie kwartalne'!J366","v":0},{"$f":"'Rozliczenie kwartalne'!K366","v":0},{"$f":"'Rozliczenie kwartalne'!L366","v":0},{"$f":"'Rozliczenie kwartalne'!M366","v":0},{"$f":"'Rozliczenie kwartalne'!N366","v":0},null,null,"89",0,0,0,0,0,0,0,0,0,0,0,"ok","ok",0,0]
[{"$f":"'Rozliczenie kwartalne'!A125","v":"90"},{"$f":"'Rozliczenie kwartalne'!B125","v":""},{"$f":"'Załącznik nr 2 do rozliczenia'!H360","v":0},{"$f":"IF('Załącznik nr 1 do rozliczenia'!H365<0,ABS('Załącznik nr 1 do rozliczenia'!H365),0)","v":0},{"$f":"'Rozliczenie kwartalne'!G367","v":0},{"$f":"'Rozliczenie kwartalne'!H367","v":0},{"$f":"'Rozliczenie kwartalne'!I367","v":0},{"$f":"'Rozliczenie kwartalne'!F367","v":0},{"$f":"'Rozliczenie kwartalne'!J367","v":0},{"$f":"'Rozliczenie kwartalne'!K367","v":0},{"$f":"'Rozliczenie kwartalne'!L367","v":0},{"$f":"'Rozliczenie kwartalne'!M367","v":0},{"$f":"'Rozliczenie kwartalne'!N367","v":0},null,null,"90",0,0,0,0,0,0,0,0,0,0,0,"ok","ok",0,0]
[{"$f":"'Rozliczenie kwartalne'!A126","v":"91"},{"$f":"'Rozliczenie kwartalne'!B126","v":""},{"$f":"'Załącznik nr 2 do rozliczenia'!H361","v":0},{"$f":"IF('Załącznik nr 1 do rozliczenia'!H366<0,ABS('Załącznik nr 1 do rozliczenia'!H366),0)","v":0},{"$f":"'Rozliczenie kwartalne'!G368","v":0},{"$f":"'Rozliczenie kwartalne'!H368","v":0},{"$f":"'Rozliczenie kwartalne'!I368","v":0},{"$f":"'Rozliczenie kwartalne'!F368","v":0},{"$f":"'Rozliczenie kwartalne'!J368","v":0},{"$f":"'Rozliczenie kwartalne'!K368","v":0},{"$f":"'Rozliczenie kwartalne'!L368","v":0},{"$f":"'Rozliczenie kwartalne'!M368","v":0},{"$f":"'Rozliczenie kwartalne'!N368","v":0},null,null,"91",0,0,0,0,0,0,0,0,0,0,0,"ok","ok",0,0]
[{"$f":"'Rozliczenie kwartalne'!A127","v":"92"},{"$f":"'Rozliczenie kwartalne'!B127","v":""},{"$f":"'Załącznik nr 2 do rozliczenia'!H362","v":0},{"$f":"IF('Załącznik nr 1 do rozliczenia'!H367<0,ABS('Załącznik nr 1 do rozliczenia'!H367),0)","v":0},{"$f":"'Rozliczenie kwartalne'!G369","v":0},{"$f":"'Rozliczenie kwartalne'!H369","v":0},{"$f":"'Rozliczenie kwartalne'!I369","v":0},{"$f":"'Rozliczenie kwartalne'!F369","v":0},{"$f":"'Rozliczenie kwartalne'!J369","v":0},{"$f":"'Rozliczenie kwartalne'!K369","v":0},{"$f":"'Rozliczenie kwartalne'!L369","v":0},{"$f":"'Rozliczenie kwartalne'!M369","v":0},{"$f":"'Rozliczenie kwartalne'!N369","v":0},null,null,"92",0,0,0,0,0,0,0,0,0,0,0,"ok","ok",0,0]
[{"$f":"'Rozliczenie kwartalne'!A128","v":"93"},{"$f":"'Rozliczenie kwartalne'!B128","v":""},{"$f":"'Załącznik nr 2 do rozliczenia'!H363","v":0},{"$f":"IF('Załącznik nr 1 do rozliczenia'!H368<0,ABS('Załącznik nr 1 do rozliczenia'!H368),0)","v":0},{"$f":"'Rozliczenie kwartalne'!G370","v":0},{"$f":"'Rozliczenie kwartalne'!H370","v":0},{"$f":"'Rozliczenie kwartalne'!I370","v":0},{"$f":"'Rozliczenie kwartalne'!F370","v":0},{"$f":"'Rozliczenie kwartalne'!J370","v":0},{"$f":"'Rozliczenie kwartalne'!K370","v":0},{"$f":"'Rozliczenie kwartalne'!L370","v":0},{"$f":"'Rozliczenie kwartalne'!M370","v":0},{"$f":"'Rozliczenie kwartalne'!N370","v":0},null,null,"93",0,0,0,0,0,0,0,0,0,0,0,"ok","ok",0,0]
[{"$f":"'Rozliczenie kwartalne'!A129","v":"94"},{"$f":"'Rozliczenie kwartalne'!B129","v":""},{"$f":"'Załącznik nr 2 do rozliczenia'!H364","v":0},{"$f":"IF('Załącznik nr 1 do rozliczenia'!H369<0,ABS('Załącznik nr 1 do rozliczenia'!H369),0)","v":0},{"$f":"'Rozliczenie kwartalne'!G371","v":0},{"$f":"'Rozliczenie kwartalne'!H371","v":0},{"$f":"'Rozliczenie kwartalne'!I371","v":0},{"$f":"'Rozliczenie kwartalne'!F371","v":0},{"$f":"'Rozliczenie kwartalne'!J371","v":0},{"$f":"'Rozliczenie kwartalne'!K371","v":0},{"$f":"'Rozliczenie kwartalne'!L371","v":0},{"$f":"'Rozliczenie kwartalne'!M371","v":0},{"$f":"'Rozliczenie kwartalne'!N371","v":0},null,null,"94",0,0,0,0,0,0,0,0,0,0,0,"ok","ok",0,0]
[{"$f":"'Rozliczenie kwartalne'!A130","v":"95"},{"$f":"'Rozliczenie kwartalne'!B130","v":""},{"$f":"'Załącznik nr 2 do rozliczenia'!H365","v":0},{"$f":"IF('Załącznik nr 1 do rozliczenia'!H370<0,ABS('Załącznik nr 1 do rozliczenia'!H370),0)","v":0},{"$f":"'Rozliczenie kwartalne'!G372","v":0},{"$f":"'Rozliczenie kwartalne'!H372","v":0},{"$f":"'Rozliczenie kwartalne'!I372","v":0},{"$f":"'Rozliczenie kwartalne'!F372","v":0},{"$f":"'Rozliczenie kwartalne'!J372","v":0},{"$f":"'Rozliczenie kwartalne'!K372","v":0},{"$f":"'Rozliczenie kwartalne'!L372","v":0},{"$f":"'Rozliczenie kwartalne'!M372","v":0},{"$f":"'Rozliczenie kwartalne'!N372","v":0},null,null,"95",0,0,0,0,0,0,0,0,0,0,0,"ok","ok",0,0]
[{"$f":"'Rozliczenie kwartalne'!A131","v":"96"},{"$f":"'Rozliczenie kwartalne'!B131","v":""},{"$f":"'Załącznik nr 2 do rozliczenia'!H366","v":0},{"$f":"IF('Załącznik nr 1 do rozliczenia'!H371<0,ABS('Załącznik nr 1 do rozliczenia'!H371),0)","v":0},{"$f":"'Rozliczenie kwartalne'!G373","v":0},{"$f":"'Rozliczenie kwartalne'!H373","v":0},{"$f":"'Rozliczenie kwartalne'!I373","v":0},{"$f":"'Rozliczenie kwartalne'!F373","v":0},{"$f":"'Rozliczenie kwartalne'!J373","v":0},{"$f":"'Rozliczenie kwartalne'!K373","v":0},{"$f":"'Rozliczenie kwartalne'!L373","v":0},{"$f":"'Rozliczenie kwartalne'!M373","v":0},{"$f":"'Rozliczenie kwartalne'!N373","v":0},null,null,"96",0,0,0,0,0,0,0,0,0,0,0,"ok","ok",0,0]
[{"$f":"'Rozliczenie kwartalne'!A132","v":"97"},{"$f":"'Rozliczenie kwartalne'!B132","v":""},{"$f":"'Załącznik nr 2 do rozliczenia'!H367","v":0},{"$f":"IF('Załącznik nr 1 do rozliczenia'!H372<0,ABS('Załącznik nr 1 do rozliczenia'!H372),0)","v":0},{"$f":"'Rozliczenie kwartalne'!G374","v":0},{"$f":"'Rozliczenie kwartalne'!H374","v":0},{"$f":"'Rozliczenie kwartalne'!I374","v":0},{"$f":"'Rozliczenie kwartalne'!F374","v":0},{"$f":"'Rozliczenie kwartalne'!J374","v":0},{"$f":"'Rozliczenie kwartalne'!K374","v":0},{"$f":"'Rozliczenie kwartalne'!L374","v":0},{"$f":"'Rozliczenie kwartalne'!M374","v":0},{"$f":"'Rozliczenie kwartalne'!N374","v":0},null,null,"97",0,0,0,0,0,0,0,0,0,0,0,"ok","ok",0,0]
[{"$f":"'Rozliczenie kwartalne'!A133","v":"98"},{"$f":"'Rozliczenie kwartalne'!B133","v":""},{"$f":"'Załącznik nr 2 do rozliczenia'!H368","v":0},{"$f":"IF('Załącznik nr 1 do rozliczenia'!H373<0,ABS('Załącznik nr 1 do rozliczenia'!H373),0)","v":0},{"$f":"'Rozliczenie kwartalne'!G375","v":0},{"$f":"'Rozliczenie kwartalne'!H375","v":0},{"$f":"'Rozliczenie kwartalne'!I375","v":0},{"$f":"'Rozliczenie kwartalne'!F375","v":0},{"$f":"'Rozliczenie kwartalne'!J375","v":0},{"$f":"'Rozliczenie kwartalne'!K375","v":0},{"$f":"'Rozliczenie kwartalne'!L375","v":0},{"$f":"'Rozliczenie kwartalne'!M375","v":0},{"$f":"'Rozliczenie kwartalne'!N375","v":0},null,null,"98",0,0,0,0,0,0,0,0,0,0,0,"ok","ok",0,0]
[{"$f":"'Rozliczenie kwartalne'!A134","v":"99"},{"$f":"'Rozliczenie kwartalne'!B134","v":""},{"$f":"'Załącznik nr 2 do rozliczenia'!H369","v":0},{"$f":"IF('Załącznik nr 1 do rozliczenia'!H374<0,ABS('Załącznik nr 1 do rozliczenia'!H374),0)","v":0},{"$f":"'Rozliczenie kwartalne'!G376","v":0},{"$f":"'Rozliczenie kwartalne'!H376","v":0},{"$f":"'Rozliczenie kwartalne'!I376","v":0},{"$f":"'Rozliczenie kwartalne'!F376","v":0},{"$f":"'Rozliczenie kwartalne'!J376","v":0},{"$f":"'Rozliczenie kwartalne'!K376","v":0},{"$f":"'Rozliczenie kwartalne'!L376","v":0},{"$f":"'Rozliczenie kwartalne'!M376","v":0},{"$f":"'Rozliczenie kwartalne'!N376","v":0},null,null,"99",0,0,0,0,0,0,0,0,0,0,0,"ok","ok",0,0]
[{"$f":"'Rozliczenie kwartalne'!A135","v":"100"},{"$f":"'Rozliczenie kwartalne'!B135","v":""},{"$f":"'Załącznik nr 2 do rozliczenia'!H370","v":0},{"$f":"IF('Załącznik nr 1 do rozliczenia'!H375<0,ABS('Załącznik nr 1 do rozliczenia'!H375),0)","v":0},{"$f":"'Rozliczenie kwartalne'!G377","v":0},{"$f":"'Rozliczenie kwartalne'!H377","v":0},{"$f":"'Rozliczenie kwartalne'!I377","v":0},{"$f":"'Rozliczenie kwartalne'!F377","v":0},{"$f":"'Rozliczenie kwartalne'!J377","v":0},{"$f":"'Rozliczenie kwartalne'!K377","v":0},{"$f":"'Rozliczenie kwartalne'!L377","v":0},{"$f":"'Rozliczenie kwartalne'!M377","v":0},{"$f":"'Rozliczenie kwartalne'!N377","v":0},null,null,"100",0,0,0,0,0,0,0,0,0,0,0,"ok","ok",0,0]
[{"$f":"'Rozliczenie kwartalne'!A136","v":"101"},{"$f":"'Rozliczenie kwartalne'!B136","v":""},{"$f":"'Załącznik nr 2 do rozliczenia'!H371","v":0},{"$f":"IF('Załącznik nr 1 do rozliczenia'!H376<0,ABS('Załącznik nr 1 do rozliczenia'!H376),0)","v":0},{"$f":"'Rozliczenie kwartalne'!G378","v":0},{"$f":"'Rozliczenie kwartalne'!H378","v":0},{"$f":"'Rozliczenie kwartalne'!I378","v":0},{"$f":"'Rozliczenie kwartalne'!F378","v":0},{"$f":"'Rozliczenie kwartalne'!J378","v":0},{"$f":"'Rozliczenie kwartalne'!K378","v":0},{"$f":"'Rozliczenie kwartalne'!L378","v":0},{"$f":"'Rozliczenie kwartalne'!M378","v":0},{"$f":"'Rozliczenie kwartalne'!N378","v":0},null,null,"101",0,0,0,0,0,0,0,0,0,0,0,"ok","ok",0,0]
[{"$f":"'Rozliczenie kwartalne'!A137","v":"102"},{"$f":"'Rozliczenie kwartalne'!B137","v":""},{"$f":"'Załącznik nr 2 do rozliczenia'!H372","v":0},{"$f":"IF('Załącznik nr 1 do rozliczenia'!H377<0,ABS('Załącznik nr 1 do rozliczenia'!H377),0)","v":0},{"$f":"'Rozliczenie kwartalne'!G379","v":0},{"$f":"'Rozliczenie kwartalne'!H379","v":0},{"$f":"'Rozliczenie kwartalne'!I379","v":0},{"$f":"'Rozliczenie kwartalne'!F379","v":0},{"$f":"'Rozliczenie kwartalne'!J379","v":0},{"$f":"'Rozliczenie kwartalne'!K379","v":0},{"$f":"'Rozliczenie kwartalne'!L379","v":0},{"$f":"'Rozliczenie kwartalne'!M379","v":0},{"$f":"'Rozliczenie kwartalne'!N379","v":0},null,null,"102",0,0,0,0,0,0,0,0,0,0,0,"ok","ok",0,0]
[{"$f":"'Rozliczenie kwartalne'!A138","v":"103"},{"$f":"'Rozliczenie kwartalne'!B138","v":""},{"$f":"'Załącznik nr 2 do rozliczenia'!H373","v":0},{"$f":"IF('Załącznik nr 1 do rozliczenia'!H378<0,ABS('Załącznik nr 1 do rozliczenia'!H378),0)","v":0},{"$f":"'Rozliczenie kwartalne'!G380","v":0},{"$f":"'Rozliczenie kwartalne'!H380","v":0},{"$f":"'Rozliczenie kwartalne'!I380","v":0},{"$f":"'Rozliczenie kwartalne'!F380","v":0},{"$f":"'Rozliczenie kwartalne'!J380","v":0},{"$f":"'Rozliczenie kwartalne'!K380","v":0},{"$f":"'Rozliczenie kwartalne'!L380","v":0},{"$f":"'Rozliczenie kwartalne'!M380","v":0},{"$f":"'Rozliczenie kwartalne'!N380","v":0},null,null,"103",0,0,0,0,0,0,0,0,0,0,0,"ok","ok",0,0]
[{"$f":"'Rozliczenie kwartalne'!A139","v":"104"},{"$f":"'Rozliczenie kwartalne'!B139","v":""},{"$f":"'Załącznik nr 2 do rozliczenia'!H374","v":0},{"$f":"IF('Załącznik nr 1 do rozliczenia'!H379<0,ABS('Załącznik nr 1 do rozliczenia'!H379),0)","v":0},{"$f":"'Rozliczenie kwartalne'!G381","v":0},{"$f":"'Rozliczenie kwartalne'!H381","v":0},{"$f":"'Rozliczenie kwartalne'!I381","v":0},{"$f":"'Rozliczenie kwartalne'!F381","v":0},{"$f":"'Rozliczenie kwartalne'!J381","v":0},{"$f":"'Rozliczenie kwartalne'!K381","v":0},{"$f":"'Rozliczenie kwartalne'!L381","v":0},{"$f":"'Rozliczenie kwartalne'!M381","v":0},{"$f":"'Rozliczenie kwartalne'!N381","v":0},null,null,"104",0,0,0,0,0,0,0,0,0,0,0,"ok","ok",0,0]
[{"$f":"'Rozliczenie kwartalne'!A140","v":"105"},{"$f":"'Rozliczenie kwartalne'!B140","v":""},{"$f":"'Załącznik nr 2 do rozliczenia'!H375","v":0},{"$f":"IF('Załącznik nr 1 do rozliczenia'!H380<0,ABS('Załącznik nr 1 do rozliczenia'!H380),0)","v":0},{"$f":"'Rozliczenie kwartalne'!G382","v":0},{"$f":"'Rozliczenie kwartalne'!H382","v":0},{"$f":"'Rozliczenie kwartalne'!I382","v":0},{"$f":"'Rozliczenie kwartalne'!F382","v":0},{"$f":"'Rozliczenie kwartalne'!J382","v":0},{"$f":"'Rozliczenie kwartalne'!K382","v":0},{"$f":"'Rozliczenie kwartalne'!L382","v":0},{"$f":"'Rozliczenie kwartalne'!M382","v":0},{"$f":"'Rozliczenie kwartalne'!N382","v":0},null,null,"105",0,0,0,0,0,0,0,0,0,0,0,"ok","ok",0,0]
[{"$f":"'Rozliczenie kwartalne'!A141","v":"106"},{"$f":"'Rozliczenie kwartalne'!B141","v":""},{"$f":"'Załącznik nr 2 do rozliczenia'!H376","v":0},{"$f":"IF('Załącznik nr 1 do rozliczenia'!H381<0,ABS('Załącznik nr 1 do rozliczenia'!H381),0)","v":0},{"$f":"'Rozliczenie kwartalne'!G383","v":0},{"$f":"'Rozliczenie kwartalne'!H383","v":0},{"$f":"'Rozliczenie kwartalne'!I383","v":0},{"$f":"'Rozliczenie kwartalne'!F383","v":0},{"$f":"'Rozliczenie kwartalne'!J383","v":0},{"$f":"'Rozliczenie kwartalne'!K383","v":0},{"$f":"'Rozliczenie kwartalne'!L383","v":0},{"$f":"'Rozliczenie kwartalne'!M383","v":0},{"$f":"'Rozliczenie kwartalne'!N383","v":0},null,null,"106",0,0,0,0,0,0,0,0,0,0,0,"ok","ok",0,0]
[{"$f":"'Rozliczenie kwartalne'!A142","v":"107"},{"$f":"'Rozliczenie kwartalne'!B142","v":""},{"$f":"'Załącznik nr 2 do rozliczenia'!H377","v":0},{"$f":"IF('Załącznik nr 1 do rozliczenia'!H382<0,ABS('Załącznik nr 1 do rozliczenia'!H382),0)","v":0},{"$f":"'Rozliczenie kwartalne'!G384","v":0},{"$f":"'Rozliczenie kwartalne'!H384","v":0},{"$f":"'Rozliczenie kwartalne'!I384","v":0},{"$f":"'Rozliczenie kwartalne'!F384","v":0},{"$f":"'Rozliczenie kwartalne'!J384","v":0},{"$f":"'Rozliczenie kwartalne'!K384","v":0},{"$f":"'Rozliczenie kwartalne'!L384","v":0},{"$f":"'Rozliczenie kwartalne'!M384","v":0},{"$f":"'Rozliczenie kwartalne'!N384","v":0},null,null,"107",0,0,0,0,0,0,0,0,0,0,0,"ok","ok",0,0]
[{"$f":"'Rozliczenie kwartalne'!A143","v":"108"},{"$f":"'Rozliczenie kwartalne'!B143","v":""},{"$f":"'Załącznik nr 2 do rozliczenia'!H378","v":0},{"$f":"IF('Załącznik nr 1 do rozliczenia'!H383<0,ABS('Załącznik nr 1 do rozliczenia'!H383),0)","v":0},{"$f":"'Rozliczenie kwartalne'!G385","v":0},{"$f":"'Rozliczenie kwartalne'!H385","v":0},{"$f":"'Rozliczenie kwartalne'!I385","v":0},{"$f":"'Rozliczenie kwartalne'!F385","v":0},{"$f":"'Rozliczenie kwartalne'!J385","v":0},{"$f":"'Rozliczenie kwartalne'!K385","v":0},{"$f":"'Rozliczenie kwartalne'!L385","v":0},{"$f":"'Rozliczenie kwartalne'!M385","v":0},{"$f":"'Rozliczenie kwartalne'!N385","v":0},null,null,"108",0,0,0,0,0,0,0,0,0,0,0,"ok","ok",0,0]
[{"$f":"'Rozliczenie kwartalne'!A144","v":"109"},{"$f":"'Rozliczenie kwartalne'!B144","v":""},{"$f":"'Załącznik nr 2 do rozliczenia'!H379","v":0},{"$f":"IF('Załącznik nr 1 do rozliczenia'!H384<0,ABS('Załącznik nr 1 do rozliczenia'!H384),0)","v":0},{"$f":"'Rozliczenie kwartalne'!G386","v":0},{"$f":"'Rozliczenie kwartalne'!H386","v":0},{"$f":"'Rozliczenie kwartalne'!I386","v":0},{"$f":"'Rozliczenie kwartalne'!F386","v":0},{"$f":"'Rozliczenie kwartalne'!J386","v":0},{"$f":"'Rozliczenie kwartalne'!K386","v":0},{"$f":"'Rozliczenie kwartalne'!L386","v":0},{"$f":"'Rozliczenie kwartalne'!M386","v":0},{"$f":"'Rozliczenie kwartalne'!N386","v":0},null,null,"109",0,0,0,0,0,0,0,0,0,0,0,"ok","ok",0,0]
[{"$f":"'Rozliczenie kwartalne'!A145","v":"110"},{"$f":"'Rozliczenie kwartalne'!B145","v":""},{"$f":"'Załącznik nr 2 do rozliczenia'!H380","v":0},{"$f":"IF('Załącznik nr 1 do rozliczenia'!H385<0,ABS('Załącznik nr 1 do rozliczenia'!H385),0)","v":0},{"$f":"'Rozliczenie kwartalne'!G387","v":0},{"$f":"'Rozliczenie kwartalne'!H387","v":0},{"$f":"'Rozliczenie kwartalne'!I387","v":0},{"$f":"'Rozliczenie kwartalne'!F387","v":0},{"$f":"'Rozliczenie kwartalne'!J387","v":0},{"$f":"'Rozliczenie kwartalne'!K387","v":0},{"$f":"'Rozliczenie kwartalne'!L387","v":0},{"$f":"'Rozliczenie kwartalne'!M387","v":0},{"$f":"'Rozliczenie kwartalne'!N387","v":0},null,null,"110",0,0,0,0,0,0,0,0,0,0,0,"ok","ok",0,0]
[{"$f":"'Rozliczenie kwartalne'!A146","v":"111"},{"$f":"'Rozliczenie kwartalne'!B146","v":""},{"$f":"'Załącznik nr 2 do rozliczenia'!H381","v":0},{"$f":"IF('Załącznik nr 1 do rozliczenia'!H386<0,ABS('Załącznik nr 1 do rozliczenia'!H386),0)","v":0},{"$f":"'Rozliczenie kwartalne'!G388","v":0},{"$f":"'Rozliczenie kwartalne'!H388","v":0},{"$f":"'Rozliczenie kwartalne'!I388","v":0},{"$f":"'Rozliczenie kwartalne'!F388","v":0},{"$f":"'Rozliczenie kwartalne'!J388","v":0},{"$f":"'Rozliczenie kwartalne'!K388","v":0},{"$f":"'Rozliczenie kwartalne'!L388","v":0},{"$f":"'Rozliczenie kwartalne'!M388","v":0},{"$f":"'Rozliczenie kwartalne'!N388","v":0},null,null,"111",0,0,0,0,0,0,0,0,0,0,0,"ok","ok",0,0]
[{"$f":"'Rozliczenie kwartalne'!A147","v":"112"},{"$f":"'Rozliczenie kwartalne'!B147","v":""},{"$f":"'Załącznik nr 2 do rozliczenia'!H382","v":0},{"$f":"IF('Załącznik nr 1 do rozliczenia'!H387<0,ABS('Załącznik nr 1 do rozliczenia'!H387),0)","v":0},{"$f":"'Rozliczenie kwartalne'!G389","v":0},{"$f":"'Rozliczenie kwartalne'!H389","v":0},{"$f":"'Rozliczenie kwartalne'!I389","v":0},{"$f":"'Rozliczenie kwartalne'!F389","v":0},{"$f":"'Rozliczenie kwartalne'!J389","v":0},{"$f":"'Rozliczenie kwartalne'!K389","v":0},{"$f":"'Rozliczenie kwartalne'!L389","v":0},{"$f":"'Rozliczenie kwartalne'!M389","v":0},{"$f":"'Rozliczenie kwartalne'!N389","v":0},null,null,"112",0,0,0,0,0,0,0,0,0,0,0,"ok","ok",0,0]
[{"$f":"'Rozliczenie kwartalne'!A148","v":"113"},{"$f":"'Rozliczenie kwartalne'!B148","v":""},{"$f":"'Załącznik nr 2 do rozliczenia'!H383","v":0},{"$f":"IF('Załącznik nr 1 do rozliczenia'!H388<0,ABS('Załącznik nr 1 do rozliczenia'!H388),0)","v":0},{"$f":"'Rozliczenie kwartalne'!G390","v":0},{"$f":"'Rozliczenie kwartalne'!H390","v":0},{"$f":"'Rozliczenie kwartalne'!I390","v":0},{"$f":"'Rozliczenie kwartalne'!F390","v":0},{"$f":"'Rozliczenie kwartalne'!J390","v":0},{"$f":"'Rozliczenie kwartalne'!K390","v":0},{"$f":"'Rozliczenie kwartalne'!L390","v":0},{"$f":"'Rozliczenie kwartalne'!M390","v":0},{"$f":"'Rozliczenie kwartalne'!N390","v":0},null,null,"113",0,0,0,0,0,0,0,0,0,0,0,"ok","ok",0,0]
[{"$f":"'Rozliczenie kwartalne'!A149","v":"114"},{"$f":"'Rozliczenie kwartalne'!B149","v":""},{"$f":"'Załącznik nr 2 do rozliczenia'!H384","v":0},{"$f":"IF('Załącznik nr 1 do rozliczenia'!H389<0,ABS('Załącznik nr 1 do rozliczenia'!H389),0)","v":0},{"$f":"'Rozliczenie kwartalne'!G391","v":0},{"$f":"'Rozliczenie kwartalne'!H391","v":0},{"$f":"'Rozliczenie kwartalne'!I391","v":0},{"$f":"'Rozliczenie kwartalne'!F391","v":0},{"$f":"'Rozliczenie kwartalne'!J391","v":0},{"$f":"'Rozliczenie kwartalne'!K391","v":0},{"$f":"'Rozliczenie kwartalne'!L391","v":0},{"$f":"'Rozliczenie kwartalne'!M391","v":0},{"$f":"'Rozliczenie kwartalne'!N391","v":0},null,null,"114",0,0,0,0,0,0,0,0,0,0,0,"ok","ok",0,0]
[{"$f":"'Rozliczenie kwartalne'!A150","v":"115"},{"$f":"'Rozliczenie kwartalne'!B150","v":""},{"$f":"'Załącznik nr 2 do rozliczenia'!H385","v":0},{"$f":"IF('Załącznik nr 1 do rozliczenia'!H390<0,ABS('Załącznik nr 1 do rozliczenia'!H390),0)","v":0},{"$f":"'Rozliczenie kwartalne'!G392","v":0},{"$f":"'Rozliczenie kwartalne'!H392","v":0},{"$f":"'Rozliczenie kwartalne'!I392","v":0},{"$f":"'Rozliczenie kwartalne'!F392","v":0},{"$f":"'Rozliczenie kwartalne'!J392","v":0},{"$f":"'Rozliczenie kwartalne'!K392","v":0},{"$f":"'Rozliczenie kwartalne'!L392","v":0},{"$f":"'Rozliczenie kwartalne'!M392","v":0},{"$f":"'Rozliczenie kwartalne'!N392","v":0},null,null,"115",0,0,0,0,0,0,0,0,0,0,0,"ok","ok",0,0]
[null,null,{"$f":"'Załącznik nr 2 do rozliczenia'!H386","v":0},{"$f":"SUM(D3:D117)","v":0},null,null,null,{"$f":"'Rozliczenie kwartalne'!G393","v":0},{"$f":"'Rozliczenie kwartalne'!J393","v":0},{"$f":"'Rozliczenie kwartalne'!K393","v":0},null,null,null,null,null,null,null,null,null,{"$f":"R118*C118","v":0},{"$f":"E118*C118","v":0},{"$f":"IFERROR(X118*C118,0)","v":0},{"$f":"X118*C118","v":0},null,null,{"$f":"D118*0.1","v":0}]

{"sheet":"Miesiące","index":9,"n_rows":13,"n_cols":9,"rows_kept":13,"cut":false,"hidden":true,"merged":[[14,1,14,2],[14,3,14,4],[14,5,14,6]]}
[]
["I KWARTAŁ","STYCZEŃ",null,null,"ROZLICZENIE",null,null,null,"30.04.2026 r."]
["II KWARTAŁ","LUTY",null,null,"KOREKTA ROZLICZENIA",null,null,null,"30.07.2026 r."]
["III KWARTAŁ","MARZEC",null,null,null,null,null,null,"30.10.2026 r."]
["IV KWARTAŁ","KWIECIEŃ",null,null,null,null,null,null,"29.01.2027 r."]
[null,"MAJ"]
[null,"CZERWIEC"]
[null,"LIPIEC"]
[null,"SIERPIEŃ"]
[null,"WRZESIEŃ"]
[null,"PAŹDZIERNIK"]
[null,"LISTOPAD"]
[null,"GRUDZIEŃ"]

{"sheet":"Dane - linie 1","index":10,"n_rows":116,"n_cols":21,"rows_kept":116,"cut":false,"hidden":true,"merged":[]}
[{"$f":"'Rozliczenie kwartalne'!A34","v":"Lp."},{"$f":"'Rozliczenie kwartalne'!B34","v":"Nazwa linii komunikacyjnej"},{"$f":"'Rozliczenie kwartalne'!C34","v":"Liczba przewiezionych osób"},{"$f":"'Rozliczenie kwartalne'!D34","v":"Wielkość pracy eksploatacyjnej w okresie rozliczeniowym [wzkm]"},{"$f":"'Rozliczenie kwartalne'!E34","v":"Deficyt w okresie rozliczeniowym [zł]"},{"$f":"'Rozliczenie kwartalne'!F34","v":"Kwota środków własnych organizatora \n[zł]"},{"$f":"'Rozliczenie kwartalne'!G34","v":"Cena usługi \n[zł]"},{"$f":"'Rozliczenie kwartalne'!H34","v":"Część ceny usługi sfinansowana ze środków własnych organizatora  [zł/wzkm]"},{"$f":"'Rozliczenie kwartalne'!I34","v":"Procentowa wartość części ceny usługi sfinansowanej ze środków własnych organizatora \n[%]"},{"$f":"'Rozliczenie kwartalne'!J34","v":"Należna kwota dopłaty w okresie rozliczeniowym [zł]"},{"$f":"'Rozliczenie kwartalne'!K34","v":"Pobrana dopłata w okresie rozliczeniowym - wniosek kwartalny \n[zł]"},{"$f":"'Rozliczenie kwartalne'!L34","v":"Niewykorzystana kwota dopłaty z poprzedniego okresu rozliczeniowego (rozliczona w bieżącym okresie)\n[zł]"},{"$f":"'Rozliczenie kwartalne'!M34","v":"Faktycznie wypłacona kwota dopłaty w bieżącym okresie\n[zł]"},{"$f":"'Rozliczenie kwartalne'!N34","v":"Niewykorzystana kwota dopłaty w bieżącym okresie rozliczeniowym\n[zł]"},{"$f":"'Załącznik nr 1 do rozliczenia'!D30","v":"Suma kosztów osiągniętych na linii komunikacyjnej \n[zł]"},{"$f":"'Załącznik nr 1 do rozliczenia'!F30","v":"Suma przychodów osiągniętych na linii komunikacyjnych \n[zł]"},{"$f":"'Załącznik nr 1 do rozliczenia'!H30","v":"Wynik finansowy linii komunikacyjnej - deficyt \n[zł] "},{"$f":"'Załącznik nr 2 do rozliczenia'!D27","v":"Długość linii \n[km]"},{"$f":"'Załącznik nr 2 do rozliczenia'!E27","v":"Ilość wykonanych kursów w okresie rozliczeniowym"},{"$f":"'Załącznik nr 2 do rozliczenia'!F27","v":"Dni kursowania"},{"$f":"'Załącznik nr 2 do rozliczenia'!H27","v":"Zrealizowana praca eksploatacyjna \n[wzkm]"}]
[{"$f":"'Rozliczenie kwartalne'!A36","v":"1"},{"$f":"'Rozliczenie kwartalne'!B36","v":""},{"$f":"'Rozliczenie kwartalne'!C36","v":0},{"$f":"'Rozliczenie kwartalne'!D36","v":0},{"$f":"'Rozliczenie kwartalne'!E36","v":0},{"$f":"'Rozliczenie kwartalne'!F36","v":0},{"$f":"'Rozliczenie kwartalne'!G36","v":0},{"$f":"'Rozliczenie kwartalne'!H36","v":0},{"$f":"'Rozliczenie kwartalne'!I36","v":0},{"$f":"'Rozliczenie kwartalne'!J36","v":0},{"$f":"'Rozliczenie kwartalne'!K36","v":0},{"$f":"'Rozliczenie kwartalne'!L36","v":0},{"$f":"'Rozliczenie kwartalne'!M36","v":0},{"$f":"'Rozliczenie kwartalne'!N36","v":0},{"$f":"'Załącznik nr 1 do rozliczenia'!D32","v":0},{"$f":"'Załącznik nr 1 do rozliczenia'!F32","v":0},{"$f":"'Załącznik nr 1 do rozliczenia'!H32","v":0},{"$f":"'Załącznik nr 2 do rozliczenia'!D29","v":0},{"$f":"'Załącznik nr 2 do rozliczenia'!E29","v":0},{"$f":"'Załącznik nr 2 do rozliczenia'!F29","v":""},{"$f":"'Załącznik nr 2 do rozliczenia'!H29","v":0}]
[{"$f":"'Rozliczenie kwartalne'!A37","v":"2"},{"$f":"'Rozliczenie kwartalne'!B37","v":""},{"$f":"'Rozliczenie kwartalne'!C37","v":0},{"$f":"'Rozliczenie kwartalne'!D37","v":0},{"$f":"'Rozliczenie kwartalne'!E37","v":0},{"$f":"'Rozliczenie kwartalne'!F37","v":0},{"$f":"'Rozliczenie kwartalne'!G37","v":0},{"$f":"'Rozliczenie kwartalne'!H37","v":0},{"$f":"'Rozliczenie kwartalne'!I37","v":0},{"$f":"'Rozliczenie kwartalne'!J37","v":0},{"$f":"'Rozliczenie kwartalne'!K37","v":0},{"$f":"'Rozliczenie kwartalne'!L37","v":0},{"$f":"'Rozliczenie kwartalne'!M37","v":0},{"$f":"'Rozliczenie kwartalne'!N37","v":0},{"$f":"'Załącznik nr 1 do rozliczenia'!D33","v":0},{"$f":"'Załącznik nr 1 do rozliczenia'!F33","v":0},{"$f":"'Załącznik nr 1 do rozliczenia'!H33","v":0},{"$f":"'Załącznik nr 2 do rozliczenia'!D30","v":0},{"$f":"'Załącznik nr 2 do rozliczenia'!E30","v":0},{"$f":"'Załącznik nr 2 do rozliczenia'!F30","v":""},{"$f":"'Załącznik nr 2 do rozliczenia'!H30","v":0}]
[{"$f":"'Rozliczenie kwartalne'!A38","v":"3"},{"$f":"'Rozliczenie kwartalne'!B38","v":""},{"$f":"'Rozliczenie kwartalne'!C38","v":0},{"$f":"'Rozliczenie kwartalne'!D38","v":0},{"$f":"'Rozliczenie kwartalne'!E38","v":0},{"$f":"'Rozliczenie kwartalne'!F38","v":0},{"$f":"'Rozliczenie kwartalne'!G38","v":0},{"$f":"'Rozliczenie kwartalne'!H38","v":0},{"$f":"'Rozliczenie kwartalne'!I38","v":0},{"$f":"'Rozliczenie kwartalne'!J38","v":0},{"$f":"'Rozliczenie kwartalne'!K38","v":0},{"$f":"'Rozliczenie kwartalne'!L38","v":0},{"$f":"'Rozliczenie kwartalne'!M38","v":0},{"$f":"'Rozliczenie kwartalne'!N38","v":0},{"$f":"'Załącznik nr 1 do rozliczenia'!D34","v":0},{"$f":"'Załącznik nr 1 do rozliczenia'!F34","v":0},{"$f":"'Załącznik nr 1 do rozliczenia'!H34","v":0},{"$f":"'Załącznik nr 2 do rozliczenia'!D31","v":0},{"$f":"'Załącznik nr 2 do rozliczenia'!E31","v":0},{"$f":"'Załącznik nr 2 do rozliczenia'!F31","v":""},{"$f":"'Załącznik nr 2 do rozliczenia'!H31","v":0}]
[{"$f":"'Rozliczenie kwartalne'!A39","v":"4"},{"$f":"'Rozliczenie kwartalne'!B39","v":""},{"$f":"'Rozliczenie kwartalne'!C39","v":0},{"$f":"'Rozliczenie kwartalne'!D39","v":0},{"$f":"'Rozliczenie kwartalne'!E39","v":0},{"$f":"'Rozliczenie kwartalne'!F39","v":0},{"$f":"'Rozliczenie kwartalne'!G39","v":0},{"$f":"'Rozliczenie kwartalne'!H39","v":0},{"$f":"'Rozliczenie kwartalne'!I39","v":0},{"$f":"'Rozliczenie kwartalne'!J39","v":0},{"$f":"'Rozliczenie kwartalne'!K39","v":0},{"$f":"'Rozliczenie kwartalne'!L39","v":0},{"$f":"'Rozliczenie kwartalne'!M39","v":0},{"$f":"'Rozliczenie kwartalne'!N39","v":0},{"$f":"'Załącznik nr 1 do rozliczenia'!D35","v":0},{"$f":"'Załącznik nr 1 do rozliczenia'!F35","v":0},{"$f":"'Załącznik nr 1 do rozliczenia'!H35","v":0},{"$f":"'Załącznik nr 2 do rozliczenia'!D32","v":0},{"$f":"'Załącznik nr 2 do rozliczenia'!E32","v":0},{"$f":"'Załącznik nr 2 do rozliczenia'!F32","v":""},{"$f":"'Załącznik nr 2 do rozliczenia'!H32","v":0}]
[{"$f":"'Rozliczenie kwartalne'!A40","v":"5"},{"$f":"'Rozliczenie kwartalne'!B40","v":""},{"$f":"'Rozliczenie kwartalne'!C40","v":0},{"$f":"'Rozliczenie kwartalne'!D40","v":0},{"$f":"'Rozliczenie kwartalne'!E40","v":0},{"$f":"'Rozliczenie kwartalne'!F40","v":0},{"$f":"'Rozliczenie kwartalne'!G40","v":0},{"$f":"'Rozliczenie kwartalne'!H40","v":0},{"$f":"'Rozliczenie kwartalne'!I40","v":0},{"$f":"'Rozliczenie kwartalne'!J40","v":0},{"$f":"'Rozliczenie kwartalne'!K40","v":0},{"$f":"'Rozliczenie kwartalne'!L40","v":0},{"$f":"'Rozliczenie kwartalne'!M40","v":0},{"$f":"'Rozliczenie kwartalne'!N40","v":0},{"$f":"'Załącznik nr 1 do rozliczenia'!D36","v":0},{"$f":"'Załącznik nr 1 do rozliczenia'!F36","v":0},{"$f":"'Załącznik nr 1 do rozliczenia'!H36","v":0},{"$f":"'Załącznik nr 2 do rozliczenia'!D33","v":0},{"$f":"'Załącznik nr 2 do rozliczenia'!E33","v":0},{"$f":"'Załącznik nr 2 do rozliczenia'!F33","v":""},{"$f":"'Załącznik nr 2 do rozliczenia'!H33","v":0}]
[{"$f":"'Rozliczenie kwartalne'!A41","v":"6"},{"$f":"'Rozliczenie kwartalne'!B41","v":""},{"$f":"'Rozliczenie kwartalne'!C41","v":0},{"$f":"'Rozliczenie kwartalne'!D41","v":0},{"$f":"'Rozliczenie kwartalne'!E41","v":0},{"$f":"'Rozliczenie kwartalne'!F41","v":0},{"$f":"'Rozliczenie kwartalne'!G41","v":0},{"$f":"'Rozliczenie kwartalne'!H41","v":0},{"$f":"'Rozliczenie kwartalne'!I41","v":0},{"$f":"'Rozliczenie kwartalne'!J41","v":0},{"$f":"'Rozliczenie kwartalne'!K41","v":0},{"$f":"'Rozliczenie kwartalne'!L41","v":0},{"$f":"'Rozliczenie kwartalne'!M41","v":0},{"$f":"'Rozliczenie kwartalne'!N41","v":0},{"$f":"'Załącznik nr 1 do rozliczenia'!D37","v":0},{"$f":"'Załącznik nr 1 do rozliczenia'!F37","v":0},{"$f":"'Załącznik nr 1 do rozliczenia'!H37","v":0},{"$f":"'Załącznik nr 2 do rozliczenia'!D34","v":0},{"$f":"'Załącznik nr 2 do rozliczenia'!E34","v":0},{"$f":"'Załącznik nr 2 do rozliczenia'!F34","v":""},{"$f":"'Załącznik nr 2 do rozliczenia'!H34","v":0}]
[{"$f":"'Rozliczenie kwartalne'!A42","v":"7"},{"$f":"'Rozliczenie kwartalne'!B42","v":""},{"$f":"'Rozliczenie kwartalne'!C42","v":0},{"$f":"'Rozliczenie kwartalne'!D42","v":0},{"$f":"'Rozliczenie kwartalne'!E42","v":0},{"$f":"'Rozliczenie kwartalne'!F42","v":0},{"$f":"'Rozliczenie kwartalne'!G42","v":0},{"$f":"'Rozliczenie kwartalne'!H42","v":0},{"$f":"'Rozliczenie kwartalne'!I42","v":0},{"$f":"'Rozliczenie kwartalne'!J42","v":0},{"$f":"'Rozliczenie kwartalne'!K42","v":0},{"$f":"'Rozliczenie kwartalne'!L42","v":0},{"$f":"'Rozliczenie kwartalne'!M42","v":0},{"$f":"'Rozliczenie kwartalne'!N42","v":0},{"$f":"'Załącznik nr 1 do rozliczenia'!D38","v":0},{"$f":"'Załącznik nr 1 do rozliczenia'!F38","v":0},{"$f":"'Załącznik nr 1 do rozliczenia'!H38","v":0},{"$f":"'Załącznik nr 2 do rozliczenia'!D35","v":0},{"$f":"'Załącznik nr 2 do rozliczenia'!E35","v":0},{"$f":"'Załącznik nr 2 do rozliczenia'!F35","v":""},{"$f":"'Załącznik nr 2 do rozliczenia'!H35","v":0}]
[{"$f":"'Rozliczenie kwartalne'!A43","v":"8"},{"$f":"'Rozliczenie kwartalne'!B43","v":""},{"$f":"'Rozliczenie kwartalne'!C43","v":0},{"$f":"'Rozliczenie kwartalne'!D43","v":0},{"$f":"'Rozliczenie kwartalne'!E43","v":0},{"$f":"'Rozliczenie kwartalne'!F43","v":0},{"$f":"'Rozliczenie kwartalne'!G43","v":0},{"$f":"'Rozliczenie kwartalne'!H43","v":0},{"$f":"'Rozliczenie kwartalne'!I43","v":0},{"$f":"'Rozliczenie kwartalne'!J43","v":0},{"$f":"'Rozliczenie kwartalne'!K43","v":0},{"$f":"'Rozliczenie kwartalne'!L43","v":0},{"$f":"'Rozliczenie kwartalne'!M43","v":0},{"$f":"'Rozliczenie kwartalne'!N43","v":0},{"$f":"'Załącznik nr 1 do rozliczenia'!D39","v":0},{"$f":"'Załącznik nr 1 do rozliczenia'!F39","v":0},{"$f":"'Załącznik nr 1 do rozliczenia'!H39","v":0},{"$f":"'Załącznik nr 2 do rozliczenia'!D36","v":0},{"$f":"'Załącznik nr 2 do rozliczenia'!E36","v":0},{"$f":"'Załącznik nr 2 do rozliczenia'!F36","v":""},{"$f":"'Załącznik nr 2 do rozliczenia'!H36","v":0}]
[{"$f":"'Rozliczenie kwartalne'!A44","v":"9"},{"$f":"'Rozliczenie kwartalne'!B44","v":""},{"$f":"'Rozliczenie kwartalne'!C44","v":0},{"$f":"'Rozliczenie kwartalne'!D44","v":0},{"$f":"'Rozliczenie kwartalne'!E44","v":0},{"$f":"'Rozliczenie kwartalne'!F44","v":0},{"$f":"'Rozliczenie kwartalne'!G44","v":0},{"$f":"'Rozliczenie kwartalne'!H44","v":0},{"$f":"'Rozliczenie kwartalne'!I44","v":0},{"$f":"'Rozliczenie kwartalne'!J44","v":0},{"$f":"'Rozliczenie kwartalne'!K44","v":0},{"$f":"'Rozliczenie kwartalne'!L44","v":0},{"$f":"'Rozliczenie kwartalne'!M44","v":0},{"$f":"'Rozliczenie kwartalne'!N44","v":0},{"$f":"'Załącznik nr 1 do rozliczenia'!D40","v":0},{"$f":"'Załącznik nr 1 do rozliczenia'!F40","v":0},{"$f":"'Załącznik nr 1 do rozliczenia'!H40","v":0},{"$f":"'Załącznik nr 2 do rozliczenia'!D37","v":0},{"$f":"'Załącznik nr 2 do rozliczenia'!E37","v":0},{"$f":"'Załącznik nr 2 do rozliczenia'!F37","v":""},{"$f":"'Załącznik nr 2 do rozliczenia'!H37","v":0}]
[{"$f":"'Rozliczenie kwartalne'!A45","v":"10"},{"$f":"'Rozliczenie kwartalne'!B45","v":""},{"$f":"'Rozliczenie kwartalne'!C45","v":0},{"$f":"'Rozliczenie kwartalne'!D45","v":0},{"$f":"'Rozliczenie kwartalne'!E45","v":0},{"$f":"'Rozliczenie kwartalne'!F45","v":0},{"$f":"'Rozliczenie kwartalne'!G45","v":0},{"$f":"'Rozliczenie kwartalne'!H45","v":0},{"$f":"'Rozliczenie kwartalne'!I45","v":0},{"$f":"'Rozliczenie kwartalne'!J45","v":0},{"$f":"'Rozliczenie kwartalne'!K45","v":0},{"$f":"'Rozliczenie kwartalne'!L45","v":0},{"$f":"'Rozliczenie kwartalne'!M45","v":0},{"$f":"'Rozliczenie kwartalne'!N45","v":0},{"$f":"'Załącznik nr 1 do rozliczenia'!D41","v":0},{"$f":"'Załącznik nr 1 do rozliczenia'!F41","v":0},{"$f":"'Załącznik nr 1 do rozliczenia'!H41","v":0},{"$f":"'Załącznik nr 2 do rozliczenia'!D38","v":0},{"$f":"'Załącznik nr 2 do rozliczenia'!E38","v":0},{"$f":"'Załącznik nr 2 do rozliczenia'!F38","v":""},{"$f":"'Załącznik nr 2 do rozliczenia'!H38","v":0}]
[{"$f":"'Rozliczenie kwartalne'!A46","v":"11"},{"$f":"'Rozliczenie kwartalne'!B46","v":""},{"$f":"'Rozliczenie kwartalne'!C46","v":0},{"$f":"'Rozliczenie kwartalne'!D46","v":0},{"$f":"'Rozliczenie kwartalne'!E46","v":0},{"$f":"'Rozliczenie kwartalne'!F46","v":0},{"$f":"'Rozliczenie kwartalne'!G46","v":0},{"$f":"'Rozliczenie kwartalne'!H46","v":0},{"$f":"'Rozliczenie kwartalne'!I46","v":0},{"$f":"'Rozliczenie kwartalne'!J46","v":0},{"$f":"'Rozliczenie kwartalne'!K46","v":0},{"$f":"'Rozliczenie kwartalne'!L46","v":0},{"$f":"'Rozliczenie kwartalne'!M46","v":0},{"$f":"'Rozliczenie kwartalne'!N46","v":0},{"$f":"'Załącznik nr 1 do rozliczenia'!D42","v":0},{"$f":"'Załącznik nr 1 do rozliczenia'!F42","v":0},{"$f":"'Załącznik nr 1 do rozliczenia'!H42","v":0},{"$f":"'Załącznik nr 2 do rozliczenia'!D39","v":0},{"$f":"'Załącznik nr 2 do rozliczenia'!E39","v":0},{"$f":"'Załącznik nr 2 do rozliczenia'!F39","v":""},{"$f":"'Załącznik nr 2 do rozliczenia'!H39","v":0}]
[{"$f":"'Rozliczenie kwartalne'!A47","v":"12"},{"$f":"'Rozliczenie kwartalne'!B47","v":""},{"$f":"'Rozliczenie kwartalne'!C47","v":0},{"$f":"'Rozliczenie kwartalne'!D47","v":0},{"$f":"'Rozliczenie kwartalne'!E47","v":0},{"$f":"'Rozliczenie kwartalne'!F47","v":0},{"$f":"'Rozliczenie kwartalne'!G47","v":0},{"$f":"'Rozliczenie kwartalne'!H47","v":0},{"$f":"'Rozliczenie kwartalne'!I47","v":0},{"$f":"'Rozliczenie kwartalne'!J47","v":0},{"$f":"'Rozliczenie kwartalne'!K47","v":0},{"$f":"'Rozliczenie kwartalne'!L47","v":0},{"$f":"'Rozliczenie kwartalne'!M47","v":0},{"$f":"'Rozliczenie kwartalne'!N47","v":0},{"$f":"'Załącznik nr 1 do rozliczenia'!D43","v":0},{"$f":"'Załącznik nr 1 do rozliczenia'!F43","v":0},{"$f":"'Załącznik nr 1 do rozliczenia'!H43","v":0},{"$f":"'Załącznik nr 2 do rozliczenia'!D40","v":0},{"$f":"'Załącznik nr 2 do rozliczenia'!E40","v":0},{"$f":"'Załącznik nr 2 do rozliczenia'!F40","v":""},{"$f":"'Załącznik nr 2 do rozliczenia'!H40","v":0}]
[{"$f":"'Rozliczenie kwartalne'!A48","v":"13"},{"$f":"'Rozliczenie kwartalne'!B48","v":""},{"$f":"'Rozliczenie kwartalne'!C48","v":0},{"$f":"'Rozliczenie kwartalne'!D48","v":0},{"$f":"'Rozliczenie kwartalne'!E48","v":0},{"$f":"'Rozliczenie kwartalne'!F48","v":0},{"$f":"'Rozliczenie kwartalne'!G48","v":0},{"$f":"'Rozliczenie kwartalne'!H48","v":0},{"$f":"'Rozliczenie kwartalne'!I48","v":0},{"$f":"'Rozliczenie kwartalne'!J48","v":0},{"$f":"'Rozliczenie kwartalne'!K48","v":0},{"$f":"'Rozliczenie kwartalne'!L48","v":0},{"$f":"'Rozliczenie kwartalne'!M48","v":0},{"$f":"'Rozliczenie kwartalne'!N48","v":0},{"$f":"'Załącznik nr 1 do rozliczenia'!D44","v":0},{"$f":"'Załącznik nr 1 do rozliczenia'!F44","v":0},{"$f":"'Załącznik nr 1 do rozliczenia'!H44","v":0},{"$f":"'Załącznik nr 2 do rozliczenia'!D41","v":0},{"$f":"'Załącznik nr 2 do rozliczenia'!E41","v":0},{"$f":"'Załącznik nr 2 do rozliczenia'!F41","v":""},{"$f":"'Załącznik nr 2 do rozliczenia'!H41","v":0}]
[{"$f":"'Rozliczenie kwartalne'!A49","v":"14"},{"$f":"'Rozliczenie kwartalne'!B49","v":""},{"$f":"'Rozliczenie kwartalne'!C49","v":0},{"$f":"'Rozliczenie kwartalne'!D49","v":0},{"$f":"'Rozliczenie kwartalne'!E49","v":0},{"$f":"'Rozliczenie kwartalne'!F49","v":0},{"$f":"'Rozliczenie kwartalne'!G49","v":0},{"$f":"'Rozliczenie kwartalne'!H49","v":0},{"$f":"'Rozliczenie kwartalne'!I49","v":0},{"$f":"'Rozliczenie kwartalne'!J49","v":0},{"$f":"'Rozliczenie kwartalne'!K49","v":0},{"$f":"'Rozliczenie kwartalne'!L49","v":0},{"$f":"'Rozliczenie kwartalne'!M49","v":0},{"$f":"'Rozliczenie kwartalne'!N49","v":0},{"$f":"'Załącznik nr 1 do rozliczenia'!D45","v":0},{"$f":"'Załącznik nr 1 do rozliczenia'!F45","v":0},{"$f":"'Załącznik nr 1 do rozliczenia'!H45","v":0},{"$f":"'Załącznik nr 2 do rozliczenia'!D42","v":0},{"$f":"'Załącznik nr 2 do rozliczenia'!E42","v":0},{"$f":"'Załącznik nr 2 do rozliczenia'!F42","v":""},{"$f":"'Załącznik nr 2 do rozliczenia'!H42","v":0}]
[{"$f":"'Rozliczenie kwartalne'!A50","v":"15"},{"$f":"'Rozliczenie kwartalne'!B50","v":""},{"$f":"'Rozliczenie kwartalne'!C50","v":0},{"$f":"'Rozliczenie kwartalne'!D50","v":0},{"$f":"'Rozliczenie kwartalne'!E50","v":0},{"$f":"'Rozliczenie kwartalne'!F50","v":0},{"$f":"'Rozliczenie kwartalne'!G50","v":0},{"$f":"'Rozliczenie kwartalne'!H50","v":0},{"$f":"'Rozliczenie kwartalne'!I50","v":0},{"$f":"'Rozliczenie kwartalne'!J50","v":0},{"$f":"'Rozliczenie kwartalne'!K50","v":0},{"$f":"'Rozliczenie kwartalne'!L50","v":0},{"$f":"'Rozliczenie kwartalne'!M50","v":0},{"$f":"'Rozliczenie kwartalne'!N50","v":0},{"$f":"'Załącznik nr 1 do rozliczenia'!D46","v":0},{"$f":"'Załącznik nr 1 do rozliczenia'!F46","v":0},{"$f":"'Załącznik nr 1 do rozliczenia'!H46","v":0},{"$f":"'Załącznik nr 2 do rozliczenia'!D43","v":0},{"$f":"'Załącznik nr 2 do rozliczenia'!E43","v":0},{"$f":"'Załącznik nr 2 do rozliczenia'!F43","v":""},{"$f":"'Załącznik nr 2 do rozliczenia'!H43","v":0}]
[{"$f":"'Rozliczenie kwartalne'!A51","v":"16"},{"$f":"'Rozliczenie kwartalne'!B51","v":""},{"$f":"'Rozliczenie kwartalne'!C51","v":0},{"$f":"'Rozliczenie kwartalne'!D51","v":0},{"$f":"'Rozliczenie kwartalne'!E51","v":0},{"$f":"'Rozliczenie kwartalne'!F51","v":0},{"$f":"'Rozliczenie kwartalne'!G51","v":0},{"$f":"'Rozliczenie kwartalne'!H51","v":0},{"$f":"'Rozliczenie kwartalne'!I51","v":0},{"$f":"'Rozliczenie kwartalne'!J51","v":0},{"$f":"'Rozliczenie kwartalne'!K51","v":0},{"$f":"'Rozliczenie kwartalne'!L51","v":0},{"$f":"'Rozliczenie kwartalne'!M51","v":0},{"$f":"'Rozliczenie kwartalne'!N51","v":0},{"$f":"'Załącznik nr 1 do rozliczenia'!D47","v":0},{"$f":"'Załącznik nr 1 do rozliczenia'!F47","v":0},{"$f":"'Załącznik nr 1 do rozliczenia'!H47","v":0},{"$f":"'Załącznik nr 2 do rozliczenia'!D44","v":0},{"$f":"'Załącznik nr 2 do rozliczenia'!E44","v":0},{"$f":"'Załącznik nr 2 do rozliczenia'!F44","v":""},{"$f":"'Załącznik nr 2 do rozliczenia'!H44","v":0}]
[{"$f":"'Rozliczenie kwartalne'!A52","v":"17"},{"$f":"'Rozliczenie kwartalne'!B52","v":""},{"$f":"'Rozliczenie kwartalne'!C52","v":0},{"$f":"'Rozliczenie kwartalne'!D52","v":0},{"$f":"'Rozliczenie kwartalne'!E52","v":0},{"$f":"'Rozliczenie kwartalne'!F52","v":0},{"$f":"'Rozliczenie kwartalne'!G52","v":0},{"$f":"'Rozliczenie kwartalne'!H52","v":0},{"$f":"'Rozliczenie kwartalne'!I52","v":0},{"$f":"'Rozliczenie kwartalne'!J52","v":0},{"$f":"'Rozliczenie kwartalne'!K52","v":0},{"$f":"'Rozliczenie kwartalne'!L52","v":0},{"$f":"'Rozliczenie kwartalne'!M52","v":0},{"$f":"'Rozliczenie kwartalne'!N52","v":0},{"$f":"'Załącznik nr 1 do rozliczenia'!D48","v":0},{"$f":"'Załącznik nr 1 do rozliczenia'!F48","v":0},{"$f":"'Załącznik nr 1 do rozliczenia'!H48","v":0},{"$f":"'Załącznik nr 2 do rozliczenia'!D45","v":0},{"$f":"'Załącznik nr 2 do rozliczenia'!E45","v":0},{"$f":"'Załącznik nr 2 do rozliczenia'!F45","v":""},{"$f":"'Załącznik nr 2 do rozliczenia'!H45","v":0}]
[{"$f":"'Rozliczenie kwartalne'!A53","v":"18"},{"$f":"'Rozliczenie kwartalne'!B53","v":""},{"$f":"'Rozliczenie kwartalne'!C53","v":0},{"$f":"'Rozliczenie kwartalne'!D53","v":0},{"$f":"'Rozliczenie kwartalne'!E53","v":0},{"$f":"'Rozliczenie kwartalne'!F53","v":0},{"$f":"'Rozliczenie kwartalne'!G53","v":0},{"$f":"'Rozliczenie kwartalne'!H53","v":0},{"$f":"'Rozliczenie kwartalne'!I53","v":0},{"$f":"'Rozliczenie kwartalne'!J53","v":0},{"$f":"'Rozliczenie kwartalne'!K53","v":0},{"$f":"'Rozliczenie kwartalne'!L53","v":0},{"$f":"'Rozliczenie kwartalne'!M53","v":0},{"$f":"'Rozliczenie kwartalne'!N53","v":0},{"$f":"'Załącznik nr 1 do rozliczenia'!D49","v":0},{"$f":"'Załącznik nr 1 do rozliczenia'!F49","v":0},{"$f":"'Załącznik nr 1 do rozliczenia'!H49","v":0},{"$f":"'Załącznik nr 2 do rozliczenia'!D46","v":0},{"$f":"'Załącznik nr 2 do rozliczenia'!E46","v":0},{"$f":"'Załącznik nr 2 do rozliczenia'!F46","v":""},{"$f":"'Załącznik nr 2 do rozliczenia'!H46","v":0}]
[{"$f":"'Rozliczenie kwartalne'!A54","v":"19"},{"$f":"'Rozliczenie kwartalne'!B54","v":""},{"$f":"'Rozliczenie kwartalne'!C54","v":0},{"$f":"'Rozliczenie kwartalne'!D54","v":0},{"$f":"'Rozliczenie kwartalne'!E54","v":0},{"$f":"'Rozliczenie kwartalne'!F54","v":0},{"$f":"'Rozliczenie kwartalne'!G54","v":0},{"$f":"'Rozliczenie kwartalne'!H54","v":0},{"$f":"'Rozliczenie kwartalne'!I54","v":0},{"$f":"'Rozliczenie kwartalne'!J54","v":0},{"$f":"'Rozliczenie kwartalne'!K54","v":0},{"$f":"'Rozliczenie kwartalne'!L54","v":0},{"$f":"'Rozliczenie kwartalne'!M54","v":0},{"$f":"'Rozliczenie kwartalne'!N54","v":0},{"$f":"'Załącznik nr 1 do rozliczenia'!D50","v":0},{"$f":"'Załącznik nr 1 do rozliczenia'!F50","v":0},{"$f":"'Załącznik nr 1 do rozliczenia'!H50","v":0},{"$f":"'Załącznik nr 2 do rozliczenia'!D47","v":0},{"$f":"'Załącznik nr 2 do rozliczenia'!E47","v":0},{"$f":"'Załącznik nr 2 do rozliczenia'!F47","v":""},{"$f":"'Załącznik nr 2 do rozliczenia'!H47","v":0}]
[{"$f":"'Rozliczenie kwartalne'!A55","v":"20"},{"$f":"'Rozliczenie kwartalne'!B55","v":""},{"$f":"'Rozliczenie kwartalne'!C55","v":0},{"$f":"'Rozliczenie kwartalne'!D55","v":0},{"$f":"'Rozliczenie kwartalne'!E55","v":0},{"$f":"'Rozliczenie kwartalne'!F55","v":0},{"$f":"'Rozliczenie kwartalne'!G55","v":0},{"$f":"'Rozliczenie kwartalne'!H55","v":0},{"$f":"'Rozliczenie kwartalne'!I55","v":0},{"$f":"'Rozliczenie kwartalne'!J55","v":0},{"$f":"'Rozliczenie kwartalne'!K55","v":0},{"$f":"'Rozliczenie kwartalne'!L55","v":0},{"$f":"'Rozliczenie kwartalne'!M55","v":0},{"$f":"'Rozliczenie kwartalne'!N55","v":0},{"$f":"'Załącznik nr 1 do rozliczenia'!D51","v":0},{"$f":"'Załącznik nr 1 do rozliczenia'!F51","v":0},{"$f":"'Załącznik nr 1 do rozliczenia'!H51","v":0},{"$f":"'Załącznik nr 2 do rozliczenia'!D48","v":0},{"$f":"'Załącznik nr 2 do rozliczenia'!E48","v":0},{"$f":"'Załącznik nr 2 do rozliczenia'!F48","v":""},{"$f":"'Załącznik nr 2 do rozliczenia'!H48","v":0}]
[{"$f":"'Rozliczenie kwartalne'!A56","v":"21"},{"$f":"'Rozliczenie kwartalne'!B56","v":""},{"$f":"'Rozliczenie kwartalne'!C56","v":0},{"$f":"'Rozliczenie kwartalne'!D56","v":0},{"$f":"'Rozliczenie kwartalne'!E56","v":0},{"$f":"'Rozliczenie kwartalne'!F56","v":0},{"$f":"'Rozliczenie kwartalne'!G56","v":0},{"$f":"'Rozliczenie kwartalne'!H56","v":0},{"$f":"'Rozliczenie kwartalne'!I56","v":0},{"$f":"'Rozliczenie kwartalne'!J56","v":0},{"$f":"'Rozliczenie kwartalne'!K56","v":0},{"$f":"'Rozliczenie kwartalne'!L56","v":0},{"$f":"'Rozliczenie kwartalne'!M56","v":0},{"$f":"'Rozliczenie kwartalne'!N56","v":0},{"$f":"'Załącznik nr 1 do rozliczenia'!D52","v":0},{"$f":"'Załącznik nr 1 do rozliczenia'!F52","v":0},{"$f":"'Załącznik nr 1 do rozliczenia'!H52","v":0},{"$f":"'Załącznik nr 2 do rozliczenia'!D49","v":0},{"$f":"'Załącznik nr 2 do rozliczenia'!E49","v":0},{"$f":"'Załącznik nr 2 do rozliczenia'!F49","v":""},{"$f":"'Załącznik nr 2 do rozliczenia'!H49","v":0}]
[{"$f":"'Rozliczenie kwartalne'!A57","v":"22"},{"$f":"'Rozliczenie kwartalne'!B57","v":""},{"$f":"'Rozliczenie kwartalne'!C57","v":0},{"$f":"'Rozliczenie kwartalne'!D57","v":0},{"$f":"'Rozliczenie kwartalne'!E57","v":0},{"$f":"'Rozliczenie kwartalne'!F57","v":0},{"$f":"'Rozliczenie kwartalne'!G57","v":0},{"$f":"'Rozliczenie kwartalne'!H57","v":0},{"$f":"'Rozliczenie kwartalne'!I57","v":0},{"$f":"'Rozliczenie kwartalne'!J57","v":0},{"$f":"'Rozliczenie kwartalne'!K57","v":0},{"$f":"'Rozliczenie kwartalne'!L57","v":0},{"$f":"'Rozliczenie kwartalne'!M57","v":0},{"$f":"'Rozliczenie kwartalne'!N57","v":0},{"$f":"'Załącznik nr 1 do rozliczenia'!D53","v":0},{"$f":"'Załącznik nr 1 do rozliczenia'!F53","v":0},{"$f":"'Załącznik nr 1 do rozliczenia'!H53","v":0},{"$f":"'Załącznik nr 2 do rozliczenia'!D50","v":0},{"$f":"'Załącznik nr 2 do rozliczenia'!E50","v":0},{"$f":"'Załącznik nr 2 do rozliczenia'!F50","v":""},{"$f":"'Załącznik nr 2 do rozliczenia'!H50","v":0}]
[{"$f":"'Rozliczenie kwartalne'!A58","v":"23"},{"$f":"'Rozliczenie kwartalne'!B58","v":""},{"$f":"'Rozliczenie kwartalne'!C58","v":0},{"$f":"'Rozliczenie kwartalne'!D58","v":0},{"$f":"'Rozliczenie kwartalne'!E58","v":0},{"$f":"'Rozliczenie kwartalne'!F58","v":0},{"$f":"'Rozliczenie kwartalne'!G58","v":0},{"$f":"'Rozliczenie kwartalne'!H58","v":0},{"$f":"'Rozliczenie kwartalne'!I58","v":0},{"$f":"'Rozliczenie kwartalne'!J58","v":0},{"$f":"'Rozliczenie kwartalne'!K58","v":0},{"$f":"'Rozliczenie kwartalne'!L58","v":0},{"$f":"'Rozliczenie kwartalne'!M58","v":0},{"$f":"'Rozliczenie kwartalne'!N58","v":0},{"$f":"'Załącznik nr 1 do rozliczenia'!D54","v":0},{"$f":"'Załącznik nr 1 do rozliczenia'!F54","v":0},{"$f":"'Załącznik nr 1 do rozliczenia'!H54","v":0},{"$f":"'Załącznik nr 2 do rozliczenia'!D51","v":0},{"$f":"'Załącznik nr 2 do rozliczenia'!E51","v":0},{"$f":"'Załącznik nr 2 do rozliczenia'!F51","v":""},{"$f":"'Załącznik nr 2 do rozliczenia'!H51","v":0}]
[{"$f":"'Rozliczenie kwartalne'!A59","v":"24"},{"$f":"'Rozliczenie kwartalne'!B59","v":""},{"$f":"'Rozliczenie kwartalne'!C59","v":0},{"$f":"'Rozliczenie kwartalne'!D59","v":0},{"$f":"'Rozliczenie kwartalne'!E59","v":0},{"$f":"'Rozliczenie kwartalne'!F59","v":0},{"$f":"'Rozliczenie kwartalne'!G59","v":0},{"$f":"'Rozliczenie kwartalne'!H59","v":0},{"$f":"'Rozliczenie kwartalne'!I59","v":0},{"$f":"'Rozliczenie kwartalne'!J59","v":0},{"$f":"'Rozliczenie kwartalne'!K59","v":0},{"$f":"'Rozliczenie kwartalne'!L59","v":0},{"$f":"'Rozliczenie kwartalne'!M59","v":0},{"$f":"'Rozliczenie kwartalne'!N59","v":0},{"$f":"'Załącznik nr 1 do rozliczenia'!D55","v":0},{"$f":"'Załącznik nr 1 do rozliczenia'!F55","v":0},{"$f":"'Załącznik nr 1 do rozliczenia'!H55","v":0},{"$f":"'Załącznik nr 2 do rozliczenia'!D52","v":0},{"$f":"'Załącznik nr 2 do rozliczenia'!E52","v":0},{"$f":"'Załącznik nr 2 do rozliczenia'!F52","v":""},{"$f":"'Załącznik nr 2 do rozliczenia'!H52","v":0}]
[{"$f":"'Rozliczenie kwartalne'!A60","v":"25"},{"$f":"'Rozliczenie kwartalne'!B60","v":""},{"$f":"'Rozliczenie kwartalne'!C60","v":0},{"$f":"'Rozliczenie kwartalne'!D60","v":0},{"$f":"'Rozliczenie kwartalne'!E60","v":0},{"$f":"'Rozliczenie kwartalne'!F60","v":0},{"$f":"'Rozliczenie kwartalne'!G60","v":0},{"$f":"'Rozliczenie kwartalne'!H60","v":0},{"$f":"'Rozliczenie kwartalne'!I60","v":0},{"$f":"'Rozliczenie kwartalne'!J60","v":0},{"$f":"'Rozliczenie kwartalne'!K60","v":0},{"$f":"'Rozliczenie kwartalne'!L60","v":0},{"$f":"'Rozliczenie kwartalne'!M60","v":0},{"$f":"'Rozliczenie kwartalne'!N60","v":0},{"$f":"'Załącznik nr 1 do rozliczenia'!D56","v":0},{"$f":"'Załącznik nr 1 do rozliczenia'!F56","v":0},{"$f":"'Załącznik nr 1 do rozliczenia'!H56","v":0},{"$f":"'Załącznik nr 2 do rozliczenia'!D53","v":0},{"$f":"'Załącznik nr 2 do rozliczenia'!E53","v":0},{"$f":"'Załącznik nr 2 do rozliczenia'!F53","v":""},{"$f":"'Załącznik nr 2 do rozliczenia'!H53","v":0}]
[{"$f":"'Rozliczenie kwartalne'!A61","v":"26"},{"$f":"'Rozliczenie kwartalne'!B61","v":""},{"$f":"'Rozliczenie kwartalne'!C61","v":0},{"$f":"'Rozliczenie kwartalne'!D61","v":0},{"$f":"'Rozliczenie kwartalne'!E61","v":0},{"$f":"'Rozliczenie kwartalne'!F61","v":0},{"$f":"'Rozliczenie kwartalne'!G61","v":0},{"$f":"'Rozliczenie kwartalne'!H61","v":0},{"$f":"'Rozliczenie kwartalne'!I61","v":0},{"$f":"'Rozliczenie kwartalne'!J61","v":0},{"$f":"'Rozliczenie kwartalne'!K61","v":0},{"$f":"'Rozliczenie kwartalne'!L61","v":0},{"$f":"'Rozliczenie kwartalne'!M61","v":0},{"$f":"'Rozliczenie kwartalne'!N61","v":0},{"$f":"'Załącznik nr 1 do rozliczenia'!D57","v":0},{"$f":"'Załącznik nr 1 do rozliczenia'!F57","v":0},{"$f":"'Załącznik nr 1 do rozliczenia'!H57","v":0},{"$f":"'Załącznik nr 2 do rozliczenia'!D54","v":0},{"$f":"'Załącznik nr 2 do rozliczenia'!E54","v":0},{"$f":"'Załącznik nr 2 do rozliczenia'!F54","v":""},{"$f":"'Załącznik nr 2 do rozliczenia'!H54","v":0}]
[{"$f":"'Rozliczenie kwartalne'!A62","v":"27"},{"$f":"'Rozliczenie kwartalne'!B62","v":""},{"$f":"'Rozliczenie kwartalne'!C62","v":0},{"$f":"'Rozliczenie kwartalne'!D62","v":0},{"$f":"'Rozliczenie kwartalne'!E62","v":0},{"$f":"'Rozliczenie kwartalne'!F62","v":0},{"$f":"'Rozliczenie kwartalne'!G62","v":0},{"$f":"'Rozliczenie kwartalne'!H62","v":0},{"$f":"'Rozliczenie kwartalne'!I62","v":0},{"$f":"'Rozliczenie kwartalne'!J62","v":0},{"$f":"'Rozliczenie kwartalne'!K62","v":0},{"$f":"'Rozliczenie kwartalne'!L62","v":0},{"$f":"'Rozliczenie kwartalne'!M62","v":0},{"$f":"'Rozliczenie kwartalne'!N62","v":0},{"$f":"'Załącznik nr 1 do rozliczenia'!D58","v":0},{"$f":"'Załącznik nr 1 do rozliczenia'!F58","v":0},{"$f":"'Załącznik nr 1 do rozliczenia'!H58","v":0},{"$f":"'Załącznik nr 2 do rozliczenia'!D55","v":0},{"$f":"'Załącznik nr 2 do rozliczenia'!E55","v":0},{"$f":"'Załącznik nr 2 do rozliczenia'!F55","v":""},{"$f":"'Załącznik nr 2 do rozliczenia'!H55","v":0}]
[{"$f":"'Rozliczenie kwartalne'!A63","v":"28"},{"$f":"'Rozliczenie kwartalne'!B63","v":""},{"$f":"'Rozliczenie kwartalne'!C63","v":0},{"$f":"'Rozliczenie kwartalne'!D63","v":0},{"$f":"'Rozliczenie kwartalne'!E63","v":0},{"$f":"'Rozliczenie kwartalne'!F63","v":0},{"$f":"'Rozliczenie kwartalne'!G63","v":0},{"$f":"'Rozliczenie kwartalne'!H63","v":0},{"$f":"'Rozliczenie kwartalne'!I63","v":0},{"$f":"'Rozliczenie kwartalne'!J63","v":0},{"$f":"'Rozliczenie kwartalne'!K63","v":0},{"$f":"'Rozliczenie kwartalne'!L63","v":0},{"$f":"'Rozliczenie kwartalne'!M63","v":0},{"$f":"'Rozliczenie kwartalne'!N63","v":0},{"$f":"'Załącznik nr 1 do rozliczenia'!D59","v":0},{"$f":"'Załącznik nr 1 do rozliczenia'!F59","v":0},{"$f":"'Załącznik nr 1 do rozliczenia'!H59","v":0},{"$f":"'Załącznik nr 2 do rozliczenia'!D56","v":0},{"$f":"'Załącznik nr 2 do rozliczenia'!E56","v":0},{"$f":"'Załącznik nr 2 do rozliczenia'!F56","v":""},{"$f":"'Załącznik nr 2 do rozliczenia'!H56","v":0}]
[{"$f":"'Rozliczenie kwartalne'!A64","v":"29"},{"$f":"'Rozliczenie kwartalne'!B64","v":""},{"$f":"'Rozliczenie kwartalne'!C64","v":0},{"$f":"'Rozliczenie kwartalne'!D64","v":0},{"$f":"'Rozliczenie kwartalne'!E64","v":0},{"$f":"'Rozliczenie kwartalne'!F64","v":0},{"$f":"'Rozliczenie kwartalne'!G64","v":0},{"$f":"'Rozliczenie kwartalne'!H64","v":0},{"$f":"'Rozliczenie kwartalne'!I64","v":0},{"$f":"'Rozliczenie kwartalne'!J64","v":0},{"$f":"'Rozliczenie kwartalne'!K64","v":0},{"$f":"'Rozliczenie kwartalne'!L64","v":0},{"$f":"'Rozliczenie kwartalne'!M64","v":0},{"$f":"'Rozliczenie kwartalne'!N64","v":0},{"$f":"'Załącznik nr 1 do rozliczenia'!D60","v":0},{"$f":"'Załącznik nr 1 do rozliczenia'!F60","v":0},{"$f":"'Załącznik nr 1 do rozliczenia'!H60","v":0},{"$f":"'Załącznik nr 2 do rozliczenia'!D57","v":0},{"$f":"'Załącznik nr 2 do rozliczenia'!E57","v":0},{"$f":"'Załącznik nr 2 do rozliczenia'!F57","v":""},{"$f":"'Załącznik nr 2 do rozliczenia'!H57","v":0}]
[{"$f":"'Rozliczenie kwartalne'!A65","v":"30"},{"$f":"'Rozliczenie kwartalne'!B65","v":""},{"$f":"'Rozliczenie kwartalne'!C65","v":0},{"$f":"'Rozliczenie kwartalne'!D65","v":0},{"$f":"'Rozliczenie kwartalne'!E65","v":0},{"$f":"'Rozliczenie kwartalne'!F65","v":0},{"$f":"'Rozliczenie kwartalne'!G65","v":0},{"$f":"'Rozliczenie kwartalne'!H65","v":0},{"$f":"'Rozliczenie kwartalne'!I65","v":0},{"$f":"'Rozliczenie kwartalne'!J65","v":0},{"$f":"'Rozliczenie kwartalne'!K65","v":0},{"$f":"'Rozliczenie kwartalne'!L65","v":0},{"$f":"'Rozliczenie kwartalne'!M65","v":0},{"$f":"'Rozliczenie kwartalne'!N65","v":0},{"$f":"'Załącznik nr 1 do rozliczenia'!D61","v":0},{"$f":"'Załącznik nr 1 do rozliczenia'!F61","v":0},{"$f":"'Załącznik nr 1 do rozliczenia'!H61","v":0},{"$f":"'Załącznik nr 2 do rozliczenia'!D58","v":0},{"$f":"'Załącznik nr 2 do rozliczenia'!E58","v":0},{"$f":"'Załącznik nr 2 do rozliczenia'!F58","v":""},{"$f":"'Załącznik nr 2 do rozliczenia'!H58","v":0}]
[{"$f":"'Rozliczenie kwartalne'!A66","v":"31"},{"$f":"'Rozliczenie kwartalne'!B66","v":""},{"$f":"'Rozliczenie kwartalne'!C66","v":0},{"$f":"'Rozliczenie kwartalne'!D66","v":0},{"$f":"'Rozliczenie kwartalne'!E66","v":0},{"$f":"'Rozliczenie kwartalne'!F66","v":0},{"$f":"'Rozliczenie kwartalne'!G66","v":0},{"$f":"'Rozliczenie kwartalne'!H66","v":0},{"$f":"'Rozliczenie kwartalne'!I66","v":0},{"$f":"'Rozliczenie kwartalne'!J66","v":0},{"$f":"'Rozliczenie kwartalne'!K66","v":0},{"$f":"'Rozliczenie kwartalne'!L66","v":0},{"$f":"'Rozliczenie kwartalne'!M66","v":0},{"$f":"'Rozliczenie kwartalne'!N66","v":0},{"$f":"'Załącznik nr 1 do rozliczenia'!D62","v":0},{"$f":"'Załącznik nr 1 do rozliczenia'!F62","v":0},{"$f":"'Załącznik nr 1 do rozliczenia'!H62","v":0},{"$f":"'Załącznik nr 2 do rozliczenia'!D59","v":0},{"$f":"'Załącznik nr 2 do rozliczenia'!E59","v":0},{"$f":"'Załącznik nr 2 do rozliczenia'!F59","v":""},{"$f":"'Załącznik nr 2 do rozliczenia'!H59","v":0}]
[{"$f":"'Rozliczenie kwartalne'!A67","v":"32"},{"$f":"'Rozliczenie kwartalne'!B67","v":""},{"$f":"'Rozliczenie kwartalne'!C67","v":0},{"$f":"'Rozliczenie kwartalne'!D67","v":0},{"$f":"'Rozliczenie kwartalne'!E67","v":0},{"$f":"'Rozliczenie kwartalne'!F67","v":0},{"$f":"'Rozliczenie kwartalne'!G67","v":0},{"$f":"'Rozliczenie kwartalne'!H67","v":0},{"$f":"'Rozliczenie kwartalne'!I67","v":0},{"$f":"'Rozliczenie kwartalne'!J67","v":0},{"$f":"'Rozliczenie kwartalne'!K67","v":0},{"$f":"'Rozliczenie kwartalne'!L67","v":0},{"$f":"'Rozliczenie kwartalne'!M67","v":0},{"$f":"'Rozliczenie kwartalne'!N67","v":0},{"$f":"'Załącznik nr 1 do rozliczenia'!D63","v":0},{"$f":"'Załącznik nr 1 do rozliczenia'!F63","v":0},{"$f":"'Załącznik nr 1 do rozliczenia'!H63","v":0},{"$f":"'Załącznik nr 2 do rozliczenia'!D60","v":0},{"$f":"'Załącznik nr 2 do rozliczenia'!E60","v":0},{"$f":"'Załącznik nr 2 do rozliczenia'!F60","v":""},{"$f":"'Załącznik nr 2 do rozliczenia'!H60","v":0}]
[{"$f":"'Rozliczenie kwartalne'!A68","v":"33"},{"$f":"'Rozliczenie kwartalne'!B68","v":""},{"$f":"'Rozliczenie kwartalne'!C68","v":0},{"$f":"'Rozliczenie kwartalne'!D68","v":0},{"$f":"'Rozliczenie kwartalne'!E68","v":0},{"$f":"'Rozliczenie kwartalne'!F68","v":0},{"$f":"'Rozliczenie kwartalne'!G68","v":0},{"$f":"'Rozliczenie kwartalne'!H68","v":0},{"$f":"'Rozliczenie kwartalne'!I68","v":0},{"$f":"'Rozliczenie kwartalne'!J68","v":0},{"$f":"'Rozliczenie kwartalne'!K68","v":0},{"$f":"'Rozliczenie kwartalne'!L68","v":0},{"$f":"'Rozliczenie kwartalne'!M68","v":0},{"$f":"'Rozliczenie kwartalne'!N68","v":0},{"$f":"'Załącznik nr 1 do rozliczenia'!D64","v":0},{"$f":"'Załącznik nr 1 do rozliczenia'!F64","v":0},{"$f":"'Załącznik nr 1 do rozliczenia'!H64","v":0},{"$f":"'Załącznik nr 2 do rozliczenia'!D61","v":0},{"$f":"'Załącznik nr 2 do rozliczenia'!E61","v":0},{"$f":"'Załącznik nr 2 do rozliczenia'!F61","v":""},{"$f":"'Załącznik nr 2 do rozliczenia'!H61","v":0}]
[{"$f":"'Rozliczenie kwartalne'!A69","v":"34"},{"$f":"'Rozliczenie kwartalne'!B69","v":""},{"$f":"'Rozliczenie kwartalne'!C69","v":0},{"$f":"'Rozliczenie kwartalne'!D69","v":0},{"$f":"'Rozliczenie kwartalne'!E69","v":0},{"$f":"'Rozliczenie kwartalne'!F69","v":0},{"$f":"'Rozliczenie kwartalne'!G69","v":0},{"$f":"'Rozliczenie kwartalne'!H69","v":0},{"$f":"'Rozliczenie kwartalne'!I69","v":0},{"$f":"'Rozliczenie kwartalne'!J69","v":0},{"$f":"'Rozliczenie kwartalne'!K69","v":0},{"$f":"'Rozliczenie kwartalne'!L69","v":0},{"$f":"'Rozliczenie kwartalne'!M69","v":0},{"$f":"'Rozliczenie kwartalne'!N69","v":0},{"$f":"'Załącznik nr 1 do rozliczenia'!D65","v":0},{"$f":"'Załącznik nr 1 do rozliczenia'!F65","v":0},{"$f":"'Załącznik nr 1 do rozliczenia'!H65","v":0},{"$f":"'Załącznik nr 2 do rozliczenia'!D62","v":0},{"$f":"'Załącznik nr 2 do rozliczenia'!E62","v":0},{"$f":"'Załącznik nr 2 do rozliczenia'!F62","v":""},{"$f":"'Załącznik nr 2 do rozliczenia'!H62","v":0}]
[{"$f":"'Rozliczenie kwartalne'!A70","v":"35"},{"$f":"'Rozliczenie kwartalne'!B70","v":""},{"$f":"'Rozliczenie kwartalne'!C70","v":0},{"$f":"'Rozliczenie kwartalne'!D70","v":0},{"$f":"'Rozliczenie kwartalne'!E70","v":0},{"$f":"'Rozliczenie kwartalne'!F70","v":0},{"$f":"'Rozliczenie kwartalne'!G70","v":0},{"$f":"'Rozliczenie kwartalne'!H70","v":0},{"$f":"'Rozliczenie kwartalne'!I70","v":0},{"$f":"'Rozliczenie kwartalne'!J70","v":0},{"$f":"'Rozliczenie kwartalne'!K70","v":0},{"$f":"'Rozliczenie kwartalne'!L70","v":0},{"$f":"'Rozliczenie kwartalne'!M70","v":0},{"$f":"'Rozliczenie kwartalne'!N70","v":0},{"$f":"'Załącznik nr 1 do rozliczenia'!D66","v":0},{"$f":"'Załącznik nr 1 do rozliczenia'!F66","v":0},{"$f":"'Załącznik nr 1 do rozliczenia'!H66","v":0},{"$f":"'Załącznik nr 2 do rozliczenia'!D63","v":0},{"$f":"'Załącznik nr 2 do rozliczenia'!E63","v":0},{"$f":"'Załącznik nr 2 do rozliczenia'!F63","v":""},{"$f":"'Załącznik nr 2 do rozliczenia'!H63","v":0}]
[{"$f":"'Rozliczenie kwartalne'!A71","v":"36"},{"$f":"'Rozliczenie kwartalne'!B71","v":""},{"$f":"'Rozliczenie kwartalne'!C71","v":0},{"$f":"'Rozliczenie kwartalne'!D71","v":0},{"$f":"'Rozliczenie kwartalne'!E71","v":0},{"$f":"'Rozliczenie kwartalne'!F71","v":0},{"$f":"'Rozliczenie kwartalne'!G71","v":0},{"$f":"'Rozliczenie kwartalne'!H71","v":0},{"$f":"'Rozliczenie kwartalne'!I71","v":0},{"$f":"'Rozliczenie kwartalne'!J71","v":0},{"$f":"'Rozliczenie kwartalne'!K71","v":0},{"$f":"'Rozliczenie kwartalne'!L71","v":0},{"$f":"'Rozliczenie kwartalne'!M71","v":0},{"$f":"'Rozliczenie kwartalne'!N71","v":0},{"$f":"'Załącznik nr 1 do rozliczenia'!D67","v":0},{"$f":"'Załącznik nr 1 do rozliczenia'!F67","v":0},{"$f":"'Załącznik nr 1 do rozliczenia'!H67","v":0},{"$f":"'Załącznik nr 2 do rozliczenia'!D64","v":0},{"$f":"'Załącznik nr 2 do rozliczenia'!E64","v":0},{"$f":"'Załącznik nr 2 do rozliczenia'!F64","v":""},{"$f":"'Załącznik nr 2 do rozliczenia'!H64","v":0}]
[{"$f":"'Rozliczenie kwartalne'!A72","v":"37"},{"$f":"'Rozliczenie kwartalne'!B72","v":""},{"$f":"'Rozliczenie kwartalne'!C72","v":0},{"$f":"'Rozliczenie kwartalne'!D72","v":0},{"$f":"'Rozliczenie kwartalne'!E72","v":0},{"$f":"'Rozliczenie kwartalne'!F72","v":0},{"$f":"'Rozliczenie kwartalne'!G72","v":0},{"$f":"'Rozliczenie kwartalne'!H72","v":0},{"$f":"'Rozliczenie kwartalne'!I72","v":0},{"$f":"'Rozliczenie kwartalne'!J72","v":0},{"$f":"'Rozliczenie kwartalne'!K72","v":0},{"$f":"'Rozliczenie kwartalne'!L72","v":0},{"$f":"'Rozliczenie kwartalne'!M72","v":0},{"$f":"'Rozliczenie kwartalne'!N72","v":0},{"$f":"'Załącznik nr 1 do rozliczenia'!D68","v":0},{"$f":"'Załącznik nr 1 do rozliczenia'!F68","v":0},{"$f":"'Załącznik nr 1 do rozliczenia'!H68","v":0},{"$f":"'Załącznik nr 2 do rozliczenia'!D65","v":0},{"$f":"'Załącznik nr 2 do rozliczenia'!E65","v":0},{"$f":"'Załącznik nr 2 do rozliczenia'!F65","v":""},{"$f":"'Załącznik nr 2 do rozliczenia'!H65","v":0}]
[{"$f":"'Rozliczenie kwartalne'!A73","v":"38"},{"$f":"'Rozliczenie kwartalne'!B73","v":""},{"$f":"'Rozliczenie kwartalne'!C73","v":0},{"$f":"'Rozliczenie kwartalne'!D73","v":0},{"$f":"'Rozliczenie kwartalne'!E73","v":0},{"$f":"'Rozliczenie kwartalne'!F73","v":0},{"$f":"'Rozliczenie kwartalne'!G73","v":0},{"$f":"'Rozliczenie kwartalne'!H73","v":0},{"$f":"'Rozliczenie kwartalne'!I73","v":0},{"$f":"'Rozliczenie kwartalne'!J73","v":0},{"$f":"'Rozliczenie kwartalne'!K73","v":0},{"$f":"'Rozliczenie kwartalne'!L73","v":0},{"$f":"'Rozliczenie kwartalne'!M73","v":0},{"$f":"'Rozliczenie kwartalne'!N73","v":0},{"$f":"'Załącznik nr 1 do rozliczenia'!D69","v":0},{"$f":"'Załącznik nr 1 do rozliczenia'!F69","v":0},{"$f":"'Załącznik nr 1 do rozliczenia'!H69","v":0},{"$f":"'Załącznik nr 2 do rozliczenia'!D66","v":0},{"$f":"'Załącznik nr 2 do rozliczenia'!E66","v":0},{"$f":"'Załącznik nr 2 do rozliczenia'!F66","v":""},{"$f":"'Załącznik nr 2 do rozliczenia'!H66","v":0}]
[{"$f":"'Rozliczenie kwartalne'!A74","v":"39"},{"$f":"'Rozliczenie kwartalne'!B74","v":""},{"$f":"'Rozliczenie kwartalne'!C74","v":0},{"$f":"'Rozliczenie kwartalne'!D74","v":0},{"$f":"'Rozliczenie kwartalne'!E74","v":0},{"$f":"'Rozliczenie kwartalne'!F74","v":0},{"$f":"'Rozliczenie kwartalne'!G74","v":0},{"$f":"'Rozliczenie kwartalne'!H74","v":0},{"$f":"'Rozliczenie kwartalne'!I74","v":0},{"$f":"'Rozliczenie kwartalne'!J74","v":0},{"$f":"'Rozliczenie kwartalne'!K74","v":0},{"$f":"'Rozliczenie kwartalne'!L74","v":0},{"$f":"'Rozliczenie kwartalne'!M74","v":0},{"$f":"'Rozliczenie kwartalne'!N74","v":0},{"$f":"'Załącznik nr 1 do rozliczenia'!D70","v":0},{"$f":"'Załącznik nr 1 do rozliczenia'!F70","v":0},{"$f":"'Załącznik nr 1 do rozliczenia'!H70","v":0},{"$f":"'Załącznik nr 2 do rozliczenia'!D67","v":0},{"$f":"'Załącznik nr 2 do rozliczenia'!E67","v":0},{"$f":"'Załącznik nr 2 do rozliczenia'!F67","v":""},{"$f":"'Załącznik nr 2 do rozliczenia'!H67","v":0}]
[{"$f":"'Rozliczenie kwartalne'!A75","v":"40"},{"$f":"'Rozliczenie kwartalne'!B75","v":""},{"$f":"'Rozliczenie kwartalne'!C75","v":0},{"$f":"'Rozliczenie kwartalne'!D75","v":0},{"$f":"'Rozliczenie kwartalne'!E75","v":0},{"$f":"'Rozliczenie kwartalne'!F75","v":0},{"$f":"'Rozliczenie kwartalne'!G75","v":0},{"$f":"'Rozliczenie kwartalne'!H75","v":0},{"$f":"'Rozliczenie kwartalne'!I75","v":0},{"$f":"'Rozliczenie kwartalne'!J75","v":0},{"$f":"'Rozliczenie kwartalne'!K75","v":0},{"$f":"'Rozliczenie kwartalne'!L75","v":0},{"$f":"'Rozliczenie kwartalne'!M75","v":0},{"$f":"'Rozliczenie kwartalne'!N75","v":0},{"$f":"'Załącznik nr 1 do rozliczenia'!D71","v":0},{"$f":"'Załącznik nr 1 do rozliczenia'!F71","v":0},{"$f":"'Załącznik nr 1 do rozliczenia'!H71","v":0},{"$f":"'Załącznik nr 2 do rozliczenia'!D68","v":0},{"$f":"'Załącznik nr 2 do rozliczenia'!E68","v":0},{"$f":"'Załącznik nr 2 do rozliczenia'!F68","v":""},{"$f":"'Załącznik nr 2 do rozliczenia'!H68","v":0}]
[{"$f":"'Rozliczenie kwartalne'!A76","v":"41"},{"$f":"'Rozliczenie kwartalne'!B76","v":""},{"$f":"'Rozliczenie kwartalne'!C76","v":0},{"$f":"'Rozliczenie kwartalne'!D76","v":0},{"$f":"'Rozliczenie kwartalne'!E76","v":0},{"$f":"'Rozliczenie kwartalne'!F76","v":0},{"$f":"'Rozliczenie kwartalne'!G76","v":0},{"$f":"'Rozliczenie kwartalne'!H76","v":0},{"$f":"'Rozliczenie kwartalne'!I76","v":0},{"$f":"'Rozliczenie kwartalne'!J76","v":0},{"$f":"'Rozliczenie kwartalne'!K76","v":0},{"$f":"'Rozliczenie kwartalne'!L76","v":0},{"$f":"'Rozliczenie kwartalne'!M76","v":0},{"$f":"'Rozliczenie kwartalne'!N76","v":0},{"$f":"'Załącznik nr 1 do rozliczenia'!D72","v":0},{"$f":"'Załącznik nr 1 do rozliczenia'!F72","v":0},{"$f":"'Załącznik nr 1 do rozliczenia'!H72","v":0},{"$f":"'Załącznik nr 2 do rozliczenia'!D69","v":0},{"$f":"'Załącznik nr 2 do rozliczenia'!E69","v":0},{"$f":"'Załącznik nr 2 do rozliczenia'!F69","v":""},{"$f":"'Załącznik nr 2 do rozliczenia'!H69","v":0}]
[{"$f":"'Rozliczenie kwartalne'!A77","v":"42"},{"$f":"'Rozliczenie kwartalne'!B77","v":""},{"$f":"'Rozliczenie kwartalne'!C77","v":0},{"$f":"'Rozliczenie kwartalne'!D77","v":0},{"$f":"'Rozliczenie kwartalne'!E77","v":0},{"$f":"'Rozliczenie kwartalne'!F77","v":0},{"$f":"'Rozliczenie kwartalne'!G77","v":0},{"$f":"'Rozliczenie kwartalne'!H77","v":0},{"$f":"'Rozliczenie kwartalne'!I77","v":0},{"$f":"'Rozliczenie kwartalne'!J77","v":0},{"$f":"'Rozliczenie kwartalne'!K77","v":0},{"$f":"'Rozliczenie kwartalne'!L77","v":0},{"$f":"'Rozliczenie kwartalne'!M77","v":0},{"$f":"'Rozliczenie kwartalne'!N77","v":0},{"$f":"'Załącznik nr 1 do rozliczenia'!D73","v":0},{"$f":"'Załącznik nr 1 do rozliczenia'!F73","v":0},{"$f":"'Załącznik nr 1 do rozliczenia'!H73","v":0},{"$f":"'Załącznik nr 2 do rozliczenia'!D70","v":0},{"$f":"'Załącznik nr 2 do rozliczenia'!E70","v":0},{"$f":"'Załącznik nr 2 do rozliczenia'!F70","v":""},{"$f":"'Załącznik nr 2 do rozliczenia'!H70","v":0}]
[{"$f":"'Rozliczenie kwartalne'!A78","v":"43"},{"$f":"'Rozliczenie kwartalne'!B78","v":""},{"$f":"'Rozliczenie kwartalne'!C78","v":0},{"$f":"'Rozliczenie kwartalne'!D78","v":0},{"$f":"'Rozliczenie kwartalne'!E78","v":0},{"$f":"'Rozliczenie kwartalne'!F78","v":0},{"$f":"'Rozliczenie kwartalne'!G78","v":0},{"$f":"'Rozliczenie kwartalne'!H78","v":0},{"$f":"'Rozliczenie kwartalne'!I78","v":0},{"$f":"'Rozliczenie kwartalne'!J78","v":0},{"$f":"'Rozliczenie kwartalne'!K78","v":0},{"$f":"'Rozliczenie kwartalne'!L78","v":0},{"$f":"'Rozliczenie kwartalne'!M78","v":0},{"$f":"'Rozliczenie kwartalne'!N78","v":0},{"$f":"'Załącznik nr 1 do rozliczenia'!D74","v":0},{"$f":"'Załącznik nr 1 do rozliczenia'!F74","v":0},{"$f":"'Załącznik nr 1 do rozliczenia'!H74","v":0},{"$f":"'Załącznik nr 2 do rozliczenia'!D71","v":0},{"$f":"'Załącznik nr 2 do rozliczenia'!E71","v":0},{"$f":"'Załącznik nr 2 do rozliczenia'!F71","v":""},{"$f":"'Załącznik nr 2 do rozliczenia'!H71","v":0}]
[{"$f":"'Rozliczenie kwartalne'!A79","v":"44"},{"$f":"'Rozliczenie kwartalne'!B79","v":""},{"$f":"'Rozliczenie kwartalne'!C79","v":0},{"$f":"'Rozliczenie kwartalne'!D79","v":0},{"$f":"'Rozliczenie kwartalne'!E79","v":0},{"$f":"'Rozliczenie kwartalne'!F79","v":0},{"$f":"'Rozliczenie kwartalne'!G79","v":0},{"$f":"'Rozliczenie kwartalne'!H79","v":0},{"$f":"'Rozliczenie kwartalne'!I79","v":0},{"$f":"'Rozliczenie kwartalne'!J79","v":0},{"$f":"'Rozliczenie kwartalne'!K79","v":0},{"$f":"'Rozliczenie kwartalne'!L79","v":0},{"$f":"'Rozliczenie kwartalne'!M79","v":0},{"$f":"'Rozliczenie kwartalne'!N79","v":0},{"$f":"'Załącznik nr 1 do rozliczenia'!D75","v":0},{"$f":"'Załącznik nr 1 do rozliczenia'!F75","v":0},{"$f":"'Załącznik nr 1 do rozliczenia'!H75","v":0},{"$f":"'Załącznik nr 2 do rozliczenia'!D72","v":0},{"$f":"'Załącznik nr 2 do rozliczenia'!E72","v":0},{"$f":"'Załącznik nr 2 do rozliczenia'!F72","v":""},{"$f":"'Załącznik nr 2 do rozliczenia'!H72","v":0}]
[{"$f":"'Rozliczenie kwartalne'!A80","v":"45"},{"$f":"'Rozliczenie kwartalne'!B80","v":""},{"$f":"'Rozliczenie kwartalne'!C80","v":0},{"$f":"'Rozliczenie kwartalne'!D80","v":0},{"$f":"'Rozliczenie kwartalne'!E80","v":0},{"$f":"'Rozliczenie kwartalne'!F80","v":0},{"$f":"'Rozliczenie kwartalne'!G80","v":0},{"$f":"'Rozliczenie kwartalne'!H80","v":0},{"$f":"'Rozliczenie kwartalne'!I80","v":0},{"$f":"'Rozliczenie kwartalne'!J80","v":0},{"$f":"'Rozliczenie kwartalne'!K80","v":0},{"$f":"'Rozliczenie kwartalne'!L80","v":0},{"$f":"'Rozliczenie kwartalne'!M80","v":0},{"$f":"'Rozliczenie kwartalne'!N80","v":0},{"$f":"'Załącznik nr 1 do rozliczenia'!D76","v":0},{"$f":"'Załącznik nr 1 do rozliczenia'!F76","v":0},{"$f":"'Załącznik nr 1 do rozliczenia'!H76","v":0},{"$f":"'Załącznik nr 2 do rozliczenia'!D73","v":0},{"$f":"'Załącznik nr 2 do rozliczenia'!E73","v":0},{"$f":"'Załącznik nr 2 do rozliczenia'!F73","v":""},{"$f":"'Załącznik nr 2 do rozliczenia'!H73","v":0}]
[{"$f":"'Rozliczenie kwartalne'!A81","v":"46"},{"$f":"'Rozliczenie kwartalne'!B81","v":""},{"$f":"'Rozliczenie kwartalne'!C81","v":0},{"$f":"'Rozliczenie kwartalne'!D81","v":0},{"$f":"'Rozliczenie kwartalne'!E81","v":0},{"$f":"'Rozliczenie kwartalne'!F81","v":0},{"$f":"'Rozliczenie kwartalne'!G81","v":0},{"$f":"'Rozliczenie kwartalne'!H81","v":0},{"$f":"'Rozliczenie kwartalne'!I81","v":0},{"$f":"'Rozliczenie kwartalne'!J81","v":0},{"$f":"'Rozliczenie kwartalne'!K81","v":0},{"$f":"'Rozliczenie kwartalne'!L81","v":0},{"$f":"'Rozliczenie kwartalne'!M81","v":0},{"$f":"'Rozliczenie kwartalne'!N81","v":0},{"$f":"'Załącznik nr 1 do rozliczenia'!D77","v":0},{"$f":"'Załącznik nr 1 do rozliczenia'!F77","v":0},{"$f":"'Załącznik nr 1 do rozliczenia'!H77","v":0},{"$f":"'Załącznik nr 2 do rozliczenia'!D74","v":0},{"$f":"'Załącznik nr 2 do rozliczenia'!E74","v":0},{"$f":"'Załącznik nr 2 do rozliczenia'!F74","v":""},{"$f":"'Załącznik nr 2 do rozliczenia'!H74","v":0}]
[{"$f":"'Rozliczenie kwartalne'!A82","v":"47"},{"$f":"'Rozliczenie kwartalne'!B82","v":""},{"$f":"'Rozliczenie kwartalne'!C82","v":0},{"$f":"'Rozliczenie kwartalne'!D82","v":0},{"$f":"'Rozliczenie kwartalne'!E82","v":0},{"$f":"'Rozliczenie kwartalne'!F82","v":0},{"$f":"'Rozliczenie kwartalne'!G82","v":0},{"$f":"'Rozliczenie kwartalne'!H82","v":0},{"$f":"'Rozliczenie kwartalne'!I82","v":0},{"$f":"'Rozliczenie kwartalne'!J82","v":0},{"$f":"'Rozliczenie kwartalne'!K82","v":0},{"$f":"'Rozliczenie kwartalne'!L82","v":0},{"$f":"'Rozliczenie kwartalne'!M82","v":0},{"$f":"'Rozliczenie kwartalne'!N82","v":0},{"$f":"'Załącznik nr 1 do rozliczenia'!D78","v":0},{"$f":"'Załącznik nr 1 do rozliczenia'!F78","v":0},{"$f":"'Załącznik nr 1 do rozliczenia'!H78","v":0},{"$f":"'Załącznik nr 2 do rozliczenia'!D75","v":0},{"$f":"'Załącznik nr 2 do rozliczenia'!E75","v":0},{"$f":"'Załącznik nr 2 do rozliczenia'!F75","v":""},{"$f":"'Załącznik nr 2 do rozliczenia'!H75","v":0}]
[{"$f":"'Rozliczenie kwartalne'!A83","v":"48"},{"$f":"'Rozliczenie kwartalne'!B83","v":""},{"$f":"'Rozliczenie kwartalne'!C83","v":0},{"$f":"'Rozliczenie kwartalne'!D83","v":0},{"$f":"'Rozliczenie kwartalne'!E83","v":0},{"$f":"'Rozliczenie kwartalne'!F83","v":0},{"$f":"'Rozliczenie kwartalne'!G83","v":0},{"$f":"'Rozliczenie kwartalne'!H83","v":0},{"$f":"'Rozliczenie kwartalne'!I83","v":0},{"$f":"'Rozliczenie kwartalne'!J83","v":0},{"$f":"'Rozliczenie kwartalne'!K83","v":0},{"$f":"'Rozliczenie kwartalne'!L83","v":0},{"$f":"'Rozliczenie kwartalne'!M83","v":0},{"$f":"'Rozliczenie kwartalne'!N83","v":0},{"$f":"'Załącznik nr 1 do rozliczenia'!D79","v":0},{"$f":"'Załącznik nr 1 do rozliczenia'!F79","v":0},{"$f":"'Załącznik nr 1 do rozliczenia'!H79","v":0},{"$f":"'Załącznik nr 2 do rozliczenia'!D76","v":0},{"$f":"'Załącznik nr 2 do rozliczenia'!E76","v":0},{"$f":"'Załącznik nr 2 do rozliczenia'!F76","v":""},{"$f":"'Załącznik nr 2 do rozliczenia'!H76","v":0}]
[{"$f":"'Rozliczenie kwartalne'!A84","v":"49"},{"$f":"'Rozliczenie kwartalne'!B84","v":""},{"$f":"'Rozliczenie kwartalne'!C84","v":0},{"$f":"'Rozliczenie kwartalne'!D84","v":0},{"$f":"'Rozliczenie kwartalne'!E84","v":0},{"$f":"'Rozliczenie kwartalne'!F84","v":0},{"$f":"'Rozliczenie kwartalne'!G84","v":0},{"$f":"'Rozliczenie kwartalne'!H84","v":0},{"$f":"'Rozliczenie kwartalne'!I84","v":0},{"$f":"'Rozliczenie kwartalne'!J84","v":0},{"$f":"'Rozliczenie kwartalne'!K84","v":0},{"$f":"'Rozliczenie kwartalne'!L84","v":0},{"$f":"'Rozliczenie kwartalne'!M84","v":0},{"$f":"'Rozliczenie kwartalne'!N84","v":0},{"$f":"'Załącznik nr 1 do rozliczenia'!D80","v":0},{"$f":"'Załącznik nr 1 do rozliczenia'!F80","v":0},{"$f":"'Załącznik nr 1 do rozliczenia'!H80","v":0},{"$f":"'Załącznik nr 2 do rozliczenia'!D77","v":0},{"$f":"'Załącznik nr 2 do rozliczenia'!E77","v":0},{"$f":"'Załącznik nr 2 do rozliczenia'!F77","v":""},{"$f":"'Załącznik nr 2 do rozliczenia'!H77","v":0}]
[{"$f":"'Rozliczenie kwartalne'!A85","v":"50"},{"$f":"'Rozliczenie kwartalne'!B85","v":""},{"$f":"'Rozliczenie kwartalne'!C85","v":0},{"$f":"'Rozliczenie kwartalne'!D85","v":0},{"$f":"'Rozliczenie kwartalne'!E85","v":0},{"$f":"'Rozliczenie kwartalne'!F85","v":0},{"$f":"'Rozliczenie kwartalne'!G85","v":0},{"$f":"'Rozliczenie kwartalne'!H85","v":0},{"$f":"'Rozliczenie kwartalne'!I85","v":0},{"$f":"'Rozliczenie kwartalne'!J85","v":0},{"$f":"'Rozliczenie kwartalne'!K85","v":0},{"$f":"'Rozliczenie kwartalne'!L85","v":0},{"$f":"'Rozliczenie kwartalne'!M85","v":0},{"$f":"'Rozliczenie kwartalne'!N85","v":0},{"$f":"'Załącznik nr 1 do rozliczenia'!D81","v":0},{"$f":"'Załącznik nr 1 do rozliczenia'!F81","v":0},{"$f":"'Załącznik nr 1 do rozliczenia'!H81","v":0},{"$f":"'Załącznik nr 2 do rozliczenia'!D78","v":0},{"$f":"'Załącznik nr 2 do rozliczenia'!E78","v":0},{"$f":"'Załącznik nr 2 do rozliczenia'!F78","v":""},{"$f":"'Załącznik nr 2 do rozliczenia'!H78","v":0}]
[{"$f":"'Rozliczenie kwartalne'!A86","v":"51"},{"$f":"'Rozliczenie kwartalne'!B86","v":""},{"$f":"'Rozliczenie kwartalne'!C86","v":0},{"$f":"'Rozliczenie kwartalne'!D86","v":0},{"$f":"'Rozliczenie kwartalne'!E86","v":0},{"$f":"'Rozliczenie kwartalne'!F86","v":0},{"$f":"'Rozliczenie kwartalne'!G86","v":0},{"$f":"'Rozliczenie kwartalne'!H86","v":0},{"$f":"'Rozliczenie kwartalne'!I86","v":0},{"$f":"'Rozliczenie kwartalne'!J86","v":0},{"$f":"'Rozliczenie kwartalne'!K86","v":0},{"$f":"'Rozliczenie kwartalne'!L86","v":0},{"$f":"'Rozliczenie kwartalne'!M86","v":0},{"$f":"'Rozliczenie kwartalne'!N86","v":0},{"$f":"'Załącznik nr 1 do rozliczenia'!D82","v":0},{"$f":"'Załącznik nr 1 do rozliczenia'!F82","v":0},{"$f":"'Załącznik nr 1 do rozliczenia'!H82","v":0},{"$f":"'Załącznik nr 2 do rozliczenia'!D79","v":0},{"$f":"'Załącznik nr 2 do rozliczenia'!E79","v":0},{"$f":"'Załącznik nr 2 do rozliczenia'!F79","v":""},{"$f":"'Załącznik nr 2 do rozliczenia'!H79","v":0}]
[{"$f":"'Rozliczenie kwartalne'!A87","v":"52"},{"$f":"'Rozliczenie kwartalne'!B87","v":""},{"$f":"'Rozliczenie kwartalne'!C87","v":0},{"$f":"'Rozliczenie kwartalne'!D87","v":0},{"$f":"'Rozliczenie kwartalne'!E87","v":0},{"$f":"'Rozliczenie kwartalne'!F87","v":0},{"$f":"'Rozliczenie kwartalne'!G87","v":0},{"$f":"'Rozliczenie kwartalne'!H87","v":0},{"$f":"'Rozliczenie kwartalne'!I87","v":0},{"$f":"'Rozliczenie kwartalne'!J87","v":0},{"$f":"'Rozliczenie kwartalne'!K87","v":0},{"$f":"'Rozliczenie kwartalne'!L87","v":0},{"$f":"'Rozliczenie kwartalne'!M87","v":0},{"$f":"'Rozliczenie kwartalne'!N87","v":0},{"$f":"'Załącznik nr 1 do rozliczenia'!D83","v":0},{"$f":"'Załącznik nr 1 do rozliczenia'!F83","v":0},{"$f":"'Załącznik nr 1 do rozliczenia'!H83","v":0},{"$f":"'Załącznik nr 2 do rozliczenia'!D80","v":0},{"$f":"'Załącznik nr 2 do rozliczenia'!E80","v":0},{"$f":"'Załącznik nr 2 do rozliczenia'!F80","v":""},{"$f":"'Załącznik nr 2 do rozliczenia'!H80","v":0}]
[{"$f":"'Rozliczenie kwartalne'!A88","v":"53"},{"$f":"'Rozliczenie kwartalne'!B88","v":""},{"$f":"'Rozliczenie kwartalne'!C88","v":0},{"$f":"'Rozliczenie kwartalne'!D88","v":0},{"$f":"'Rozliczenie kwartalne'!E88","v":0},{"$f":"'Rozliczenie kwartalne'!F88","v":0},{"$f":"'Rozliczenie kwartalne'!G88","v":0},{"$f":"'Rozliczenie kwartalne'!H88","v":0},{"$f":"'Rozliczenie kwartalne'!I88","v":0},{"$f":"'Rozliczenie kwartalne'!J88","v":0},{"$f":"'Rozliczenie kwartalne'!K88","v":0},{"$f":"'Rozliczenie kwartalne'!L88","v":0},{"$f":"'Rozliczenie kwartalne'!M88","v":0},{"$f":"'Rozliczenie kwartalne'!N88","v":0},{"$f":"'Załącznik nr 1 do rozliczenia'!D84","v":0},{"$f":"'Załącznik nr 1 do rozliczenia'!F84","v":0},{"$f":"'Załącznik nr 1 do rozliczenia'!H84","v":0},{"$f":"'Załącznik nr 2 do rozliczenia'!D81","v":0},{"$f":"'Załącznik nr 2 do rozliczenia'!E81","v":0},{"$f":"'Załącznik nr 2 do rozliczenia'!F81","v":""},{"$f":"'Załącznik nr 2 do rozliczenia'!H81","v":0}]
[{"$f":"'Rozliczenie kwartalne'!A89","v":"54"},{"$f":"'Rozliczenie kwartalne'!B89","v":""},{"$f":"'Rozliczenie kwartalne'!C89","v":0},{"$f":"'Rozliczenie kwartalne'!D89","v":0},{"$f":"'Rozliczenie kwartalne'!E89","v":0},{"$f":"'Rozliczenie kwartalne'!F89","v":0},{"$f":"'Rozliczenie kwartalne'!G89","v":0},{"$f":"'Rozliczenie kwartalne'!H89","v":0},{"$f":"'Rozliczenie kwartalne'!I89","v":0},{"$f":"'Rozliczenie kwartalne'!J89","v":0},{"$f":"'Rozliczenie kwartalne'!K89","v":0},{"$f":"'Rozliczenie kwartalne'!L89","v":0},{"$f":"'Rozliczenie kwartalne'!M89","v":0},{"$f":"'Rozliczenie kwartalne'!N89","v":0},{"$f":"'Załącznik nr 1 do rozliczenia'!D85","v":0},{"$f":"'Załącznik nr 1 do rozliczenia'!F85","v":0},{"$f":"'Załącznik nr 1 do rozliczenia'!H85","v":0},{"$f":"'Załącznik nr 2 do rozliczenia'!D82","v":0},{"$f":"'Załącznik nr 2 do rozliczenia'!E82","v":0},{"$f":"'Załącznik nr 2 do rozliczenia'!F82","v":""},{"$f":"'Załącznik nr 2 do rozliczenia'!H82","v":0}]
[{"$f":"'Rozliczenie kwartalne'!A90","v":"55"},{"$f":"'Rozliczenie kwartalne'!B90","v":""},{"$f":"'Rozliczenie kwartalne'!C90","v":0},{"$f":"'Rozliczenie kwartalne'!D90","v":0},{"$f":"'Rozliczenie kwartalne'!E90","v":0},{"$f":"'Rozliczenie kwartalne'!F90","v":0},{"$f":"'Rozliczenie kwartalne'!G90","v":0},{"$f":"'Rozliczenie kwartalne'!H90","v":0},{"$f":"'Rozliczenie kwartalne'!I90","v":0},{"$f":"'Rozliczenie kwartalne'!J90","v":0},{"$f":"'Rozliczenie kwartalne'!K90","v":0},{"$f":"'Rozliczenie kwartalne'!L90","v":0},{"$f":"'Rozliczenie kwartalne'!M90","v":0},{"$f":"'Rozliczenie kwartalne'!N90","v":0},{"$f":"'Załącznik nr 1 do rozliczenia'!D86","v":0},{"$f":"'Załącznik nr 1 do rozliczenia'!F86","v":0},{"$f":"'Załącznik nr 1 do rozliczenia'!H86","v":0},{"$f":"'Załącznik nr 2 do rozliczenia'!D83","v":0},{"$f":"'Załącznik nr 2 do rozliczenia'!E83","v":0},{"$f":"'Załącznik nr 2 do rozliczenia'!F83","v":""},{"$f":"'Załącznik nr 2 do rozliczenia'!H83","v":0}]
[{"$f":"'Rozliczenie kwartalne'!A91","v":"56"},{"$f":"'Rozliczenie kwartalne'!B91","v":""},{"$f":"'Rozliczenie kwartalne'!C91","v":0},{"$f":"'Rozliczenie kwartalne'!D91","v":0},{"$f":"'Rozliczenie kwartalne'!E91","v":0},{"$f":"'Rozliczenie kwartalne'!F91","v":0},{"$f":"'Rozliczenie kwartalne'!G91","v":0},{"$f":"'Rozliczenie kwartalne'!H91","v":0},{"$f":"'Rozliczenie kwartalne'!I91","v":0},{"$f":"'Rozliczenie kwartalne'!J91","v":0},{"$f":"'Rozliczenie kwartalne'!K91","v":0},{"$f":"'Rozliczenie kwartalne'!L91","v":0},{"$f":"'Rozliczenie kwartalne'!M91","v":0},{"$f":"'Rozliczenie kwartalne'!N91","v":0},{"$f":"'Załącznik nr 1 do rozliczenia'!D87","v":0},{"$f":"'Załącznik nr 1 do rozliczenia'!F87","v":0},{"$f":"'Załącznik nr 1 do rozliczenia'!H87","v":0},{"$f":"'Załącznik nr 2 do rozliczenia'!D84","v":0},{"$f":"'Załącznik nr 2 do rozliczenia'!E84","v":0},{"$f":"'Załącznik nr 2 do rozliczenia'!F84","v":""},{"$f":"'Załącznik nr 2 do rozliczenia'!H84","v":0}]
[{"$f":"'Rozliczenie kwartalne'!A92","v":"57"},{"$f":"'Rozliczenie kwartalne'!B92","v":""},{"$f":"'Rozliczenie kwartalne'!C92","v":0},{"$f":"'Rozliczenie kwartalne'!D92","v":0},{"$f":"'Rozliczenie kwartalne'!E92","v":0},{"$f":"'Rozliczenie kwartalne'!F92","v":0},{"$f":"'Rozliczenie kwartalne'!G92","v":0},{"$f":"'Rozliczenie kwartalne'!H92","v":0},{"$f":"'Rozliczenie kwartalne'!I92","v":0},{"$f":"'Rozliczenie kwartalne'!J92","v":0},{"$f":"'Rozliczenie kwartalne'!K92","v":0},{"$f":"'Rozliczenie kwartalne'!L92","v":0},{"$f":"'Rozliczenie kwartalne'!M92","v":0},{"$f":"'Rozliczenie kwartalne'!N92","v":0},{"$f":"'Załącznik nr 1 do rozliczenia'!D88","v":0},{"$f":"'Załącznik nr 1 do rozliczenia'!F88","v":0},{"$f":"'Załącznik nr 1 do rozliczenia'!H88","v":0},{"$f":"'Załącznik nr 2 do rozliczenia'!D85","v":0},{"$f":"'Załącznik nr 2 do rozliczenia'!E85","v":0},{"$f":"'Załącznik nr 2 do rozliczenia'!F85","v":""},{"$f":"'Załącznik nr 2 do rozliczenia'!H85","v":0}]
[{"$f":"'Rozliczenie kwartalne'!A93","v":"58"},{"$f":"'Rozliczenie kwartalne'!B93","v":""},{"$f":"'Rozliczenie kwartalne'!C93","v":0},{"$f":"'Rozliczenie kwartalne'!D93","v":0},{"$f":"'Rozliczenie kwartalne'!E93","v":0},{"$f":"'Rozliczenie kwartalne'!F93","v":0},{"$f":"'Rozliczenie kwartalne'!G93","v":0},{"$f":"'Rozliczenie kwartalne'!H93","v":0},{"$f":"'Rozliczenie kwartalne'!I93","v":0},{"$f":"'Rozliczenie kwartalne'!J93","v":0},{"$f":"'Rozliczenie kwartalne'!K93","v":0},{"$f":"'Rozliczenie kwartalne'!L93","v":0},{"$f":"'Rozliczenie kwartalne'!M93","v":0},{"$f":"'Rozliczenie kwartalne'!N93","v":0},{"$f":"'Załącznik nr 1 do rozliczenia'!D89","v":0},{"$f":"'Załącznik nr 1 do rozliczenia'!F89","v":0},{"$f":"'Załącznik nr 1 do rozliczenia'!H89","v":0},{"$f":"'Załącznik nr 2 do rozliczenia'!D86","v":0},{"$f":"'Załącznik nr 2 do rozliczenia'!E86","v":0},{"$f":"'Załącznik nr 2 do rozliczenia'!F86","v":""},{"$f":"'Załącznik nr 2 do rozliczenia'!H86","v":0}]
[{"$f":"'Rozliczenie kwartalne'!A94","v":"59"},{"$f":"'Rozliczenie kwartalne'!B94","v":""},{"$f":"'Rozliczenie kwartalne'!C94","v":0},{"$f":"'Rozliczenie kwartalne'!D94","v":0},{"$f":"'Rozliczenie kwartalne'!E94","v":0},{"$f":"'Rozliczenie kwartalne'!F94","v":0},{"$f":"'Rozliczenie kwartalne'!G94","v":0},{"$f":"'Rozliczenie kwartalne'!H94","v":0},{"$f":"'Rozliczenie kwartalne'!I94","v":0},{"$f":"'Rozliczenie kwartalne'!J94","v":0},{"$f":"'Rozliczenie kwartalne'!K94","v":0},{"$f":"'Rozliczenie kwartalne'!L94","v":0},{"$f":"'Rozliczenie kwartalne'!M94","v":0},{"$f":"'Rozliczenie kwartalne'!N94","v":0},{"$f":"'Załącznik nr 1 do rozliczenia'!D90","v":0},{"$f":"'Załącznik nr 1 do rozliczenia'!F90","v":0},{"$f":"'Załącznik nr 1 do rozliczenia'!H90","v":0},{"$f":"'Załącznik nr 2 do rozliczenia'!D87","v":0},{"$f":"'Załącznik nr 2 do rozliczenia'!E87","v":0},{"$f":"'Załącznik nr 2 do rozliczenia'!F87","v":""},{"$f":"'Załącznik nr 2 do rozliczenia'!H87","v":0}]
[{"$f":"'Rozliczenie kwartalne'!A95","v":"60"},{"$f":"'Rozliczenie kwartalne'!B95","v":""},{"$f":"'Rozliczenie kwartalne'!C95","v":0},{"$f":"'Rozliczenie kwartalne'!D95","v":0},{"$f":"'Rozliczenie kwartalne'!E95","v":0},{"$f":"'Rozliczenie kwartalne'!F95","v":0},{"$f":"'Rozliczenie kwartalne'!G95","v":0},{"$f":"'Rozliczenie kwartalne'!H95","v":0},{"$f":"'Rozliczenie kwartalne'!I95","v":0},{"$f":"'Rozliczenie kwartalne'!J95","v":0},{"$f":"'Rozliczenie kwartalne'!K95","v":0},{"$f":"'Rozliczenie kwartalne'!L95","v":0},{"$f":"'Rozliczenie kwartalne'!M95","v":0},{"$f":"'Rozliczenie kwartalne'!N95","v":0},{"$f":"'Załącznik nr 1 do rozliczenia'!D91","v":0},{"$f":"'Załącznik nr 1 do rozliczenia'!F91","v":0},{"$f":"'Załącznik nr 1 do rozliczenia'!H91","v":0},{"$f":"'Załącznik nr 2 do rozliczenia'!D88","v":0},{"$f":"'Załącznik nr 2 do rozliczenia'!E88","v":0},{"$f":"'Załącznik nr 2 do rozliczenia'!F88","v":""},{"$f":"'Załącznik nr 2 do rozliczenia'!H88","v":0}]
[{"$f":"'Rozliczenie kwartalne'!A96","v":"61"},{"$f":"'Rozliczenie kwartalne'!B96","v":""},{"$f":"'Rozliczenie kwartalne'!C96","v":0},{"$f":"'Rozliczenie kwartalne'!D96","v":0},{"$f":"'Rozliczenie kwartalne'!E96","v":0},{"$f":"'Rozliczenie kwartalne'!F96","v":0},{"$f":"'Rozliczenie kwartalne'!G96","v":0},{"$f":"'Rozliczenie kwartalne'!H96","v":0},{"$f":"'Rozliczenie kwartalne'!I96","v":0},{"$f":"'Rozliczenie kwartalne'!J96","v":0},{"$f":"'Rozliczenie kwartalne'!K96","v":0},{"$f":"'Rozliczenie kwartalne'!L96","v":0},{"$f":"'Rozliczenie kwartalne'!M96","v":0},{"$f":"'Rozliczenie kwartalne'!N96","v":0},{"$f":"'Załącznik nr 1 do rozliczenia'!D92","v":0},{"$f":"'Załącznik nr 1 do rozliczenia'!F92","v":0},{"$f":"'Załącznik nr 1 do rozliczenia'!H92","v":0},{"$f":"'Załącznik nr 2 do rozliczenia'!D89","v":0},{"$f":"'Załącznik nr 2 do rozliczenia'!E89","v":0},{"$f":"'Załącznik nr 2 do rozliczenia'!F89","v":""},{"$f":"'Załącznik nr 2 do rozliczenia'!H89","v":0}]
[{"$f":"'Rozliczenie kwartalne'!A97","v":"62"},{"$f":"'Rozliczenie kwartalne'!B97","v":""},{"$f":"'Rozliczenie kwartalne'!C97","v":0},{"$f":"'Rozliczenie kwartalne'!D97","v":0},{"$f":"'Rozliczenie kwartalne'!E97","v":0},{"$f":"'Rozliczenie kwartalne'!F97","v":0},{"$f":"'Rozliczenie kwartalne'!G97","v":0},{"$f":"'Rozliczenie kwartalne'!H97","v":0},{"$f":"'Rozliczenie kwartalne'!I97","v":0},{"$f":"'Rozliczenie kwartalne'!J97","v":0},{"$f":"'Rozliczenie kwartalne'!K97","v":0},{"$f":"'Rozliczenie kwartalne'!L97","v":0},{"$f":"'Rozliczenie kwartalne'!M97","v":0},{"$f":"'Rozliczenie kwartalne'!N97","v":0},{"$f":"'Załącznik nr 1 do rozliczenia'!D93","v":0},{"$f":"'Załącznik nr 1 do rozliczenia'!F93","v":0},{"$f":"'Załącznik nr 1 do rozliczenia'!H93","v":0},{"$f":"'Załącznik nr 2 do rozliczenia'!D90","v":0},{"$f":"'Załącznik nr 2 do rozliczenia'!E90","v":0},{"$f":"'Załącznik nr 2 do rozliczenia'!F90","v":""},{"$f":"'Załącznik nr 2 do rozliczenia'!H90","v":0}]
[{"$f":"'Rozliczenie kwartalne'!A98","v":"63"},{"$f":"'Rozliczenie kwartalne'!B98","v":""},{"$f":"'Rozliczenie kwartalne'!C98","v":0},{"$f":"'Rozliczenie kwartalne'!D98","v":0},{"$f":"'Rozliczenie kwartalne'!E98","v":0},{"$f":"'Rozliczenie kwartalne'!F98","v":0},{"$f":"'Rozliczenie kwartalne'!G98","v":0},{"$f":"'Rozliczenie kwartalne'!H98","v":0},{"$f":"'Rozliczenie kwartalne'!I98","v":0},{"$f":"'Rozliczenie kwartalne'!J98","v":0},{"$f":"'Rozliczenie kwartalne'!K98","v":0},{"$f":"'Rozliczenie kwartalne'!L98","v":0},{"$f":"'Rozliczenie kwartalne'!M98","v":0},{"$f":"'Rozliczenie kwartalne'!N98","v":0},{"$f":"'Załącznik nr 1 do rozliczenia'!D94","v":0},{"$f":"'Załącznik nr 1 do rozliczenia'!F94","v":0},{"$f":"'Załącznik nr 1 do rozliczenia'!H94","v":0},{"$f":"'Załącznik nr 2 do rozliczenia'!D91","v":0},{"$f":"'Załącznik nr 2 do rozliczenia'!E91","v":0},{"$f":"'Załącznik nr 2 do rozliczenia'!F91","v":""},{"$f":"'Załącznik nr 2 do rozliczenia'!H91","v":0}]
[{"$f":"'Rozliczenie kwartalne'!A99","v":"64"},{"$f":"'Rozliczenie kwartalne'!B99","v":""},{"$f":"'Rozliczenie kwartalne'!C99","v":0},{"$f":"'Rozliczenie kwartalne'!D99","v":0},{"$f":"'Rozliczenie kwartalne'!E99","v":0},{"$f":"'Rozliczenie kwartalne'!F99","v":0},{"$f":"'Rozliczenie kwartalne'!G99","v":0},{"$f":"'Rozliczenie kwartalne'!H99","v":0},{"$f":"'Rozliczenie kwartalne'!I99","v":0},{"$f":"'Rozliczenie kwartalne'!J99","v":0},{"$f":"'Rozliczenie kwartalne'!K99","v":0},{"$f":"'Rozliczenie kwartalne'!L99","v":0},{"$f":"'Rozliczenie kwartalne'!M99","v":0},{"$f":"'Rozliczenie kwartalne'!N99","v":0},{"$f":"'Załącznik nr 1 do rozliczenia'!D95","v":0},{"$f":"'Załącznik nr 1 do rozliczenia'!F95","v":0},{"$f":"'Załącznik nr 1 do rozliczenia'!H95","v":0},{"$f":"'Załącznik nr 2 do rozliczenia'!D92","v":0},{"$f":"'Załącznik nr 2 do rozliczenia'!E92","v":0},{"$f":"'Załącznik nr 2 do rozliczenia'!F92","v":""},{"$f":"'Załącznik nr 2 do rozliczenia'!H92","v":0}]
[{"$f":"'Rozliczenie kwartalne'!A100","v":"65"},{"$f":"'Rozliczenie kwartalne'!B100","v":""},{"$f":"'Rozliczenie kwartalne'!C100","v":0},{"$f":"'Rozliczenie kwartalne'!D100","v":0},{"$f":"'Rozliczenie kwartalne'!E100","v":0},{"$f":"'Rozliczenie kwartalne'!F100","v":0},{"$f":"'Rozliczenie kwartalne'!G100","v":0},{"$f":"'Rozliczenie kwartalne'!H100","v":0},{"$f":"'Rozliczenie kwartalne'!I100","v":0},{"$f":"'Rozliczenie kwartalne'!J100","v":0},{"$f":"'Rozliczenie kwartalne'!K100","v":0},{"$f":"'Rozliczenie kwartalne'!L100","v":0},{"$f":"'Rozliczenie kwartalne'!M100","v":0},{"$f":"'Rozliczenie kwartalne'!N100","v":0},{"$f":"'Załącznik nr 1 do rozliczenia'!D96","v":0},{"$f":"'Załącznik nr 1 do rozliczenia'!F96","v":0},{"$f":"'Załącznik nr 1 do rozliczenia'!H96","v":0},{"$f":"'Załącznik nr 2 do rozliczenia'!D93","v":0},{"$f":"'Załącznik nr 2 do rozliczenia'!E93","v":0},{"$f":"'Załącznik nr 2 do rozliczenia'!F93","v":""},{"$f":"'Załącznik nr 2 do rozliczenia'!H93","v":0}]
[{"$f":"'Rozliczenie kwartalne'!A101","v":"66"},{"$f":"'Rozliczenie kwartalne'!B101","v":""},{"$f":"'Rozliczenie kwartalne'!C101","v":0},{"$f":"'Rozliczenie kwartalne'!D101","v":0},{"$f":"'Rozliczenie kwartalne'!E101","v":0},{"$f":"'Rozliczenie kwartalne'!F101","v":0},{"$f":"'Rozliczenie kwartalne'!G101","v":0},{"$f":"'Rozliczenie kwartalne'!H101","v":0},{"$f":"'Rozliczenie kwartalne'!I101","v":0},{"$f":"'Rozliczenie kwartalne'!J101","v":0},{"$f":"'Rozliczenie kwartalne'!K101","v":0},{"$f":"'Rozliczenie kwartalne'!L101","v":0},{"$f":"'Rozliczenie kwartalne'!M101","v":0},{"$f":"'Rozliczenie kwartalne'!N101","v":0},{"$f":"'Załącznik nr 1 do rozliczenia'!D97","v":0},{"$f":"'Załącznik nr 1 do rozliczenia'!F97","v":0},{"$f":"'Załącznik nr 1 do rozliczenia'!H97","v":0},{"$f":"'Załącznik nr 2 do rozliczenia'!D94","v":0},{"$f":"'Załącznik nr 2 do rozliczenia'!E94","v":0},{"$f":"'Załącznik nr 2 do rozliczenia'!F94","v":""},{"$f":"'Załącznik nr 2 do rozliczenia'!H94","v":0}]
[{"$f":"'Rozliczenie kwartalne'!A102","v":"67"},{"$f":"'Rozliczenie kwartalne'!B102","v":""},{"$f":"'Rozliczenie kwartalne'!C102","v":0},{"$f":"'Rozliczenie kwartalne'!D102","v":0},{"$f":"'Rozliczenie kwartalne'!E102","v":0},{"$f":"'Rozliczenie kwartalne'!F102","v":0},{"$f":"'Rozliczenie kwartalne'!G102","v":0},{"$f":"'Rozliczenie kwartalne'!H102","v":0},{"$f":"'Rozliczenie kwartalne'!I102","v":0},{"$f":"'Rozliczenie kwartalne'!J102","v":0},{"$f":"'Rozliczenie kwartalne'!K102","v":0},{"$f":"'Rozliczenie kwartalne'!L102","v":0},{"$f":"'Rozliczenie kwartalne'!M102","v":0},{"$f":"'Rozliczenie kwartalne'!N102","v":0},{"$f":"'Załącznik nr 1 do rozliczenia'!D98","v":0},{"$f":"'Załącznik nr 1 do rozliczenia'!F98","v":0},{"$f":"'Załącznik nr 1 do rozliczenia'!H98","v":0},{"$f":"'Załącznik nr 2 do rozliczenia'!D95","v":0},{"$f":"'Załącznik nr 2 do rozliczenia'!E95","v":0},{"$f":"'Załącznik nr 2 do rozliczenia'!F95","v":""},{"$f":"'Załącznik nr 2 do rozliczenia'!H95","v":0}]
[{"$f":"'Rozliczenie kwartalne'!A103","v":"68"},{"$f":"'Rozliczenie kwartalne'!B103","v":""},{"$f":"'Rozliczenie kwartalne'!C103","v":0},{"$f":"'Rozliczenie kwartalne'!D103","v":0},{"$f":"'Rozliczenie kwartalne'!E103","v":0},{"$f":"'Rozliczenie kwartalne'!F103","v":0},{"$f":"'Rozliczenie kwartalne'!G103","v":0},{"$f":"'Rozliczenie kwartalne'!H103","v":0},{"$f":"'Rozliczenie kwartalne'!I103","v":0},{"$f":"'Rozliczenie kwartalne'!J103","v":0},{"$f":"'Rozliczenie kwartalne'!K103","v":0},{"$f":"'Rozliczenie kwartalne'!L103","v":0},{"$f":"'Rozliczenie kwartalne'!M103","v":0},{"$f":"'Rozliczenie kwartalne'!N103","v":0},{"$f":"'Załącznik nr 1 do rozliczenia'!D99","v":0},{"$f":"'Załącznik nr 1 do rozliczenia'!F99","v":0},{"$f":"'Załącznik nr 1 do rozliczenia'!H99","v":0},{"$f":"'Załącznik nr 2 do rozliczenia'!D96","v":0},{"$f":"'Załącznik nr 2 do rozliczenia'!E96","v":0},{"$f":"'Załącznik nr 2 do rozliczenia'!F96","v":""},{"$f":"'Załącznik nr 2 do rozliczenia'!H96","v":0}]
[{"$f":"'Rozliczenie kwartalne'!A104","v":"69"},{"$f":"'Rozliczenie kwartalne'!B104","v":""},{"$f":"'Rozliczenie kwartalne'!C104","v":0},{"$f":"'Rozliczenie kwartalne'!D104","v":0},{"$f":"'Rozliczenie kwartalne'!E104","v":0},{"$f":"'Rozliczenie kwartalne'!F104","v":0},{"$f":"'Rozliczenie kwartalne'!G104","v":0},{"$f":"'Rozliczenie kwartalne'!H104","v":0},{"$f":"'Rozliczenie kwartalne'!I104","v":0},{"$f":"'Rozliczenie kwartalne'!J104","v":0},{"$f":"'Rozliczenie kwartalne'!K104","v":0},{"$f":"'Rozliczenie kwartalne'!L104","v":0},{"$f":"'Rozliczenie kwartalne'!M104","v":0},{"$f":"'Rozliczenie kwartalne'!N104","v":0},{"$f":"'Załącznik nr 1 do rozliczenia'!D100","v":0},{"$f":"'Załącznik nr 1 do rozliczenia'!F100","v":0},{"$f":"'Załącznik nr 1 do rozliczenia'!H100","v":0},{"$f":"'Załącznik nr 2 do rozliczenia'!D97","v":0},{"$f":"'Załącznik nr 2 do rozliczenia'!E97","v":0},{"$f":"'Załącznik nr 2 do rozliczenia'!F97","v":""},{"$f":"'Załącznik nr 2 do rozliczenia'!H97","v":0}]
[{"$f":"'Rozliczenie kwartalne'!A105","v":"70"},{"$f":"'Rozliczenie kwartalne'!B105","v":""},{"$f":"'Rozliczenie kwartalne'!C105","v":0},{"$f":"'Rozliczenie kwartalne'!D105","v":0},{"$f":"'Rozliczenie kwartalne'!E105","v":0},{"$f":"'Rozliczenie kwartalne'!F105","v":0},{"$f":"'Rozliczenie kwartalne'!G105","v":0},{"$f":"'Rozliczenie kwartalne'!H105","v":0},{"$f":"'Rozliczenie kwartalne'!I105","v":0},{"$f":"'Rozliczenie kwartalne'!J105","v":0},{"$f":"'Rozliczenie kwartalne'!K105","v":0},{"$f":"'Rozliczenie kwartalne'!L105","v":0},{"$f":"'Rozliczenie kwartalne'!M105","v":0},{"$f":"'Rozliczenie kwartalne'!N105","v":0},{"$f":"'Załącznik nr 1 do rozliczenia'!D101","v":0},{"$f":"'Załącznik nr 1 do rozliczenia'!F101","v":0},{"$f":"'Załącznik nr 1 do rozliczenia'!H101","v":0},{"$f":"'Załącznik nr 2 do rozliczenia'!D98","v":0},{"$f":"'Załącznik nr 2 do rozliczenia'!E98","v":0},{"$f":"'Załącznik nr 2 do rozliczenia'!F98","v":""},{"$f":"'Załącznik nr 2 do rozliczenia'!H98","v":0}]
[{"$f":"'Rozliczenie kwartalne'!A106","v":"71"},{"$f":"'Rozliczenie kwartalne'!B106","v":""},{"$f":"'Rozliczenie kwartalne'!C106","v":0},{"$f":"'Rozliczenie kwartalne'!D106","v":0},{"$f":"'Rozliczenie kwartalne'!E106","v":0},{"$f":"'Rozliczenie kwartalne'!F106","v":0},{"$f":"'Rozliczenie kwartalne'!G106","v":0},{"$f":"'Rozliczenie kwartalne'!H106","v":0},{"$f":"'Rozliczenie kwartalne'!I106","v":0},{"$f":"'Rozliczenie kwartalne'!J106","v":0},{"$f":"'Rozliczenie kwartalne'!K106","v":0},{"$f":"'Rozliczenie kwartalne'!L106","v":0},{"$f":"'Rozliczenie kwartalne'!M106","v":0},{"$f":"'Rozliczenie kwartalne'!N106","v":0},{"$f":"'Załącznik nr 1 do rozliczenia'!D102","v":0},{"$f":"'Załącznik nr 1 do rozliczenia'!F102","v":0},{"$f":"'Załącznik nr 1 do rozliczenia'!H102","v":0},{"$f":"'Załącznik nr 2 do rozliczenia'!D99","v":0},{"$f":"'Załącznik nr 2 do rozliczenia'!E99","v":0},{"$f":"'Załącznik nr 2 do rozliczenia'!F99","v":""},{"$f":"'Załącznik nr 2 do rozliczenia'!H99","v":0}]
[{"$f":"'Rozliczenie kwartalne'!A107","v":"72"},{"$f":"'Rozliczenie kwartalne'!B107","v":""},{"$f":"'Rozliczenie kwartalne'!C107","v":0},{"$f":"'Rozliczenie kwartalne'!D107","v":0},{"$f":"'Rozliczenie kwartalne'!E107","v":0},{"$f":"'Rozliczenie kwartalne'!F107","v":0},{"$f":"'Rozliczenie kwartalne'!G107","v":0},{"$f":"'Rozliczenie kwartalne'!H107","v":0},{"$f":"'Rozliczenie kwartalne'!I107","v":0},{"$f":"'Rozliczenie kwartalne'!J107","v":0},{"$f":"'Rozliczenie kwartalne'!K107","v":0},{"$f":"'Rozliczenie kwartalne'!L107","v":0},{"$f":"'Rozliczenie kwartalne'!M107","v":0},{"$f":"'Rozliczenie kwartalne'!N107","v":0},{"$f":"'Załącznik nr 1 do rozliczenia'!D103","v":0},{"$f":"'Załącznik nr 1 do rozliczenia'!F103","v":0},{"$f":"'Załącznik nr 1 do rozliczenia'!H103","v":0},{"$f":"'Załącznik nr 2 do rozliczenia'!D100","v":0},{"$f":"'Załącznik nr 2 do rozliczenia'!E100","v":0},{"$f":"'Załącznik nr 2 do rozliczenia'!F100","v":""},{"$f":"'Załącznik nr 2 do rozliczenia'!H100","v":0}]
[{"$f":"'Rozliczenie kwartalne'!A108","v":"73"},{"$f":"'Rozliczenie kwartalne'!B108","v":""},{"$f":"'Rozliczenie kwartalne'!C108","v":0},{"$f":"'Rozliczenie kwartalne'!D108","v":0},{"$f":"'Rozliczenie kwartalne'!E108","v":0},{"$f":"'Rozliczenie kwartalne'!F108","v":0},{"$f":"'Rozliczenie kwartalne'!G108","v":0},{"$f":"'Rozliczenie kwartalne'!H108","v":0},{"$f":"'Rozliczenie kwartalne'!I108","v":0},{"$f":"'Rozliczenie kwartalne'!J108","v":0},{"$f":"'Rozliczenie kwartalne'!K108","v":0},{"$f":"'Rozliczenie kwartalne'!L108","v":0},{"$f":"'Rozliczenie kwartalne'!M108","v":0},{"$f":"'Rozliczenie kwartalne'!N108","v":0},{"$f":"'Załącznik nr 1 do rozliczenia'!D104","v":0},{"$f":"'Załącznik nr 1 do rozliczenia'!F104","v":0},{"$f":"'Załącznik nr 1 do rozliczenia'!H104","v":0},{"$f":"'Załącznik nr 2 do rozliczenia'!D101","v":0},{"$f":"'Załącznik nr 2 do rozliczenia'!E101","v":0},{"$f":"'Załącznik nr 2 do rozliczenia'!F101","v":""},{"$f":"'Załącznik nr 2 do rozliczenia'!H101","v":0}]
[{"$f":"'Rozliczenie kwartalne'!A109","v":"74"},{"$f":"'Rozliczenie kwartalne'!B109","v":""},{"$f":"'Rozliczenie kwartalne'!C109","v":0},{"$f":"'Rozliczenie kwartalne'!D109","v":0},{"$f":"'Rozliczenie kwartalne'!E109","v":0},{"$f":"'Rozliczenie kwartalne'!F109","v":0},{"$f":"'Rozliczenie kwartalne'!G109","v":0},{"$f":"'Rozliczenie kwartalne'!H109","v":0},{"$f":"'Rozliczenie kwartalne'!I109","v":0},{"$f":"'Rozliczenie kwartalne'!J109","v":0},{"$f":"'Rozliczenie kwartalne'!K109","v":0},{"$f":"'Rozliczenie kwartalne'!L109","v":0},{"$f":"'Rozliczenie kwartalne'!M109","v":0},{"$f":"'Rozliczenie kwartalne'!N109","v":0},{"$f":"'Załącznik nr 1 do rozliczenia'!D105","v":0},{"$f":"'Załącznik nr 1 do rozliczenia'!F105","v":0},{"$f":"'Załącznik nr 1 do rozliczenia'!H105","v":0},{"$f":"'Załącznik nr 2 do rozliczenia'!D102","v":0},{"$f":"'Załącznik nr 2 do rozliczenia'!E102","v":0},{"$f":"'Załącznik nr 2 do rozliczenia'!F102","v":""},{"$f":"'Załącznik nr 2 do rozliczenia'!H102","v":0}]
[{"$f":"'Rozliczenie kwartalne'!A110","v":"75"},{"$f":"'Rozliczenie kwartalne'!B110","v":""},{"$f":"'Rozliczenie kwartalne'!C110","v":0},{"$f":"'Rozliczenie kwartalne'!D110","v":0},{"$f":"'Rozliczenie kwartalne'!E110","v":0},{"$f":"'Rozliczenie kwartalne'!F110","v":0},{"$f":"'Rozliczenie kwartalne'!G110","v":0},{"$f":"'Rozliczenie kwartalne'!H110","v":0},{"$f":"'Rozliczenie kwartalne'!I110","v":0},{"$f":"'Rozliczenie kwartalne'!J110","v":0},{"$f":"'Rozliczenie kwartalne'!K110","v":0},{"$f":"'Rozliczenie kwartalne'!L110","v":0},{"$f":"'Rozliczenie kwartalne'!M110","v":0},{"$f":"'Rozliczenie kwartalne'!N110","v":0},{"$f":"'Załącznik nr 1 do rozliczenia'!D106","v":0},{"$f":"'Załącznik nr 1 do rozliczenia'!F106","v":0},{"$f":"'Załącznik nr 1 do rozliczenia'!H106","v":0},{"$f":"'Załącznik nr 2 do rozliczenia'!D103","v":0},{"$f":"'Załącznik nr 2 do rozliczenia'!E103","v":0},{"$f":"'Załącznik nr 2 do rozliczenia'!F103","v":""},{"$f":"'Załącznik nr 2 do rozliczenia'!H103","v":0}]
[{"$f":"'Rozliczenie kwartalne'!A111","v":"76"},{"$f":"'Rozliczenie kwartalne'!B111","v":""},{"$f":"'Rozliczenie kwartalne'!C111","v":0},{"$f":"'Rozliczenie kwartalne'!D111","v":0},{"$f":"'Rozliczenie kwartalne'!E111","v":0},{"$f":"'Rozliczenie kwartalne'!F111","v":0},{"$f":"'Rozliczenie kwartalne'!G111","v":0},{"$f":"'Rozliczenie kwartalne'!H111","v":0},{"$f":"'Rozliczenie kwartalne'!I111","v":0},{"$f":"'Rozliczenie kwartalne'!J111","v":0},{"$f":"'Rozliczenie kwartalne'!K111","v":0},{"$f":"'Rozliczenie kwartalne'!L111","v":0},{"$f":"'Rozliczenie kwartalne'!M111","v":0},{"$f":"'Rozliczenie kwartalne'!N111","v":0},{"$f":"'Załącznik nr 1 do rozliczenia'!D107","v":0},{"$f":"'Załącznik nr 1 do rozliczenia'!F107","v":0},{"$f":"'Załącznik nr 1 do rozliczenia'!H107","v":0},{"$f":"'Załącznik nr 2 do rozliczenia'!D104","v":0},{"$f":"'Załącznik nr 2 do rozliczenia'!E104","v":0},{"$f":"'Załącznik nr 2 do rozliczenia'!F104","v":""},{"$f":"'Załącznik nr 2 do rozliczenia'!H104","v":0}]
[{"$f":"'Rozliczenie kwartalne'!A112","v":"77"},{"$f":"'Rozliczenie kwartalne'!B112","v":""},{"$f":"'Rozliczenie kwartalne'!C112","v":0},{"$f":"'Rozliczenie kwartalne'!D112","v":0},{"$f":"'Rozliczenie kwartalne'!E112","v":0},{"$f":"'Rozliczenie kwartalne'!F112","v":0},{"$f":"'Rozliczenie kwartalne'!G112","v":0},{"$f":"'Rozliczenie kwartalne'!H112","v":0},{"$f":"'Rozliczenie kwartalne'!I112","v":0},{"$f":"'Rozliczenie kwartalne'!J112","v":0},{"$f":"'Rozliczenie kwartalne'!K112","v":0},{"$f":"'Rozliczenie kwartalne'!L112","v":0},{"$f":"'Rozliczenie kwartalne'!M112","v":0},{"$f":"'Rozliczenie kwartalne'!N112","v":0},{"$f":"'Załącznik nr 1 do rozliczenia'!D108","v":0},{"$f":"'Załącznik nr 1 do rozliczenia'!F108","v":0},{"$f":"'Załącznik nr 1 do rozliczenia'!H108","v":0},{"$f":"'Załącznik nr 2 do rozliczenia'!D105","v":0},{"$f":"'Załącznik nr 2 do rozliczenia'!E105","v":0},{"$f":"'Załącznik nr 2 do rozliczenia'!F105","v":""},{"$f":"'Załącznik nr 2 do rozliczenia'!H105","v":0}]
[{"$f":"'Rozliczenie kwartalne'!A113","v":"78"},{"$f":"'Rozliczenie kwartalne'!B113","v":""},{"$f":"'Rozliczenie kwartalne'!C113","v":0},{"$f":"'Rozliczenie kwartalne'!D113","v":0},{"$f":"'Rozliczenie kwartalne'!E113","v":0},{"$f":"'Rozliczenie kwartalne'!F113","v":0},{"$f":"'Rozliczenie kwartalne'!G113","v":0},{"$f":"'Rozliczenie kwartalne'!H113","v":0},{"$f":"'Rozliczenie kwartalne'!I113","v":0},{"$f":"'Rozliczenie kwartalne'!J113","v":0},{"$f":"'Rozliczenie kwartalne'!K113","v":0},{"$f":"'Rozliczenie kwartalne'!L113","v":0},{"$f":"'Rozliczenie kwartalne'!M113","v":0},{"$f":"'Rozliczenie kwartalne'!N113","v":0},{"$f":"'Załącznik nr 1 do rozliczenia'!D109","v":0},{"$f":"'Załącznik nr 1 do rozliczenia'!F109","v":0},{"$f":"'Załącznik nr 1 do rozliczenia'!H109","v":0},{"$f":"'Załącznik nr 2 do rozliczenia'!D106","v":0},{"$f":"'Załącznik nr 2 do rozliczenia'!E106","v":0},{"$f":"'Załącznik nr 2 do rozliczenia'!F106","v":""},{"$f":"'Załącznik nr 2 do rozliczenia'!H106","v":0}]
[{"$f":"'Rozliczenie kwartalne'!A114","v":"79"},{"$f":"'Rozliczenie kwartalne'!B114","v":""},{"$f":"'Rozliczenie kwartalne'!C114","v":0},{"$f":"'Rozliczenie kwartalne'!D114","v":0},{"$f":"'Rozliczenie kwartalne'!E114","v":0},{"$f":"'Rozliczenie kwartalne'!F114","v":0},{"$f":"'Rozliczenie kwartalne'!G114","v":0},{"$f":"'Rozliczenie kwartalne'!H114","v":0},{"$f":"'Rozliczenie kwartalne'!I114","v":0},{"$f":"'Rozliczenie kwartalne'!J114","v":0},{"$f":"'Rozliczenie kwartalne'!K114","v":0},{"$f":"'Rozliczenie kwartalne'!L114","v":0},{"$f":"'Rozliczenie kwartalne'!M114","v":0},{"$f":"'Rozliczenie kwartalne'!N114","v":0},{"$f":"'Załącznik nr 1 do rozliczenia'!D110","v":0},{"$f":"'Załącznik nr 1 do rozliczenia'!F110","v":0},{"$f":"'Załącznik nr 1 do rozliczenia'!H110","v":0},{"$f":"'Załącznik nr 2 do rozliczenia'!D107","v":0},{"$f":"'Załącznik nr 2 do rozliczenia'!E107","v":0},{"$f":"'Załącznik nr 2 do rozliczenia'!F107","v":""},{"$f":"'Załącznik nr 2 do rozliczenia'!H107","v":0}]
[{"$f":"'Rozliczenie kwartalne'!A115","v":"80"},{"$f":"'Rozliczenie kwartalne'!B115","v":""},{"$f":"'Rozliczenie kwartalne'!C115","v":0},{"$f":"'Rozliczenie kwartalne'!D115","v":0},{"$f":"'Rozliczenie kwartalne'!E115","v":0},{"$f":"'Rozliczenie kwartalne'!F115","v":0},{"$f":"'Rozliczenie kwartalne'!G115","v":0},{"$f":"'Rozliczenie kwartalne'!H115","v":0},{"$f":"'Rozliczenie kwartalne'!I115","v":0},{"$f":"'Rozliczenie kwartalne'!J115","v":0},{"$f":"'Rozliczenie kwartalne'!K115","v":0},{"$f":"'Rozliczenie kwartalne'!L115","v":0},{"$f":"'Rozliczenie kwartalne'!M115","v":0},{"$f":"'Rozliczenie kwartalne'!N115","v":0},{"$f":"'Załącznik nr 1 do rozliczenia'!D111","v":0},{"$f":"'Załącznik nr 1 do rozliczenia'!F111","v":0},{"$f":"'Załącznik nr 1 do rozliczenia'!H111","v":0},{"$f":"'Załącznik nr 2 do rozliczenia'!D108","v":0},{"$f":"'Załącznik nr 2 do rozliczenia'!E108","v":0},{"$f":"'Załącznik nr 2 do rozliczenia'!F108","v":""},{"$f":"'Załącznik nr 2 do rozliczenia'!H108","v":0}]
[{"$f":"'Rozliczenie kwartalne'!A116","v":"81"},{"$f":"'Rozliczenie kwartalne'!B116","v":""},{"$f":"'Rozliczenie kwartalne'!C116","v":0},{"$f":"'Rozliczenie kwartalne'!D116","v":0},{"$f":"'Rozliczenie kwartalne'!E116","v":0},{"$f":"'Rozliczenie kwartalne'!F116","v":0},{"$f":"'Rozliczenie kwartalne'!G116","v":0},{"$f":"'Rozliczenie kwartalne'!H116","v":0},{"$f":"'Rozliczenie kwartalne'!I116","v":0},{"$f":"'Rozliczenie kwartalne'!J116","v":0},{"$f":"'Rozliczenie kwartalne'!K116","v":0},{"$f":"'Rozliczenie kwartalne'!L116","v":0},{"$f":"'Rozliczenie kwartalne'!M116","v":0},{"$f":"'Rozliczenie kwartalne'!N116","v":0},{"$f":"'Załącznik nr 1 do rozliczenia'!D112","v":0},{"$f":"'Załącznik nr 1 do rozliczenia'!F112","v":0},{"$f":"'Załącznik nr 1 do rozliczenia'!H112","v":0},{"$f":"'Załącznik nr 2 do rozliczenia'!D109","v":0},{"$f":"'Załącznik nr 2 do rozliczenia'!E109","v":0},{"$f":"'Załącznik nr 2 do rozliczenia'!F109","v":""},{"$f":"'Załącznik nr 2 do rozliczenia'!H109","v":0}]
[{"$f":"'Rozliczenie kwartalne'!A117","v":"82"},{"$f":"'Rozliczenie kwartalne'!B117","v":""},{"$f":"'Rozliczenie kwartalne'!C117","v":0},{"$f":"'Rozliczenie kwartalne'!D117","v":0},{"$f":"'Rozliczenie kwartalne'!E117","v":0},{"$f":"'Rozliczenie kwartalne'!F117","v":0},{"$f":"'Rozliczenie kwartalne'!G117","v":0},{"$f":"'Rozliczenie kwartalne'!H117","v":0},{"$f":"'Rozliczenie kwartalne'!I117","v":0},{"$f":"'Rozliczenie kwartalne'!J117","v":0},{"$f":"'Rozliczenie kwartalne'!K117","v":0},{"$f":"'Rozliczenie kwartalne'!L117","v":0},{"$f":"'Rozliczenie kwartalne'!M117","v":0},{"$f":"'Rozliczenie kwartalne'!N117","v":0},{"$f":"'Załącznik nr 1 do rozliczenia'!D113","v":0},{"$f":"'Załącznik nr 1 do rozliczenia'!F113","v":0},{"$f":"'Załącznik nr 1 do rozliczenia'!H113","v":0},{"$f":"'Załącznik nr 2 do rozliczenia'!D110","v":0},{"$f":"'Załącznik nr 2 do rozliczenia'!E110","v":0},{"$f":"'Załącznik nr 2 do rozliczenia'!F110","v":""},{"$f":"'Załącznik nr 2 do rozliczenia'!H110","v":0}]
[{"$f":"'Rozliczenie kwartalne'!A118","v":"83"},{"$f":"'Rozliczenie kwartalne'!B118","v":""},{"$f":"'Rozliczenie kwartalne'!C118","v":0},{"$f":"'Rozliczenie kwartalne'!D118","v":0},{"$f":"'Rozliczenie kwartalne'!E118","v":0},{"$f":"'Rozliczenie kwartalne'!F118","v":0},{"$f":"'Rozliczenie kwartalne'!G118","v":0},{"$f":"'Rozliczenie kwartalne'!H118","v":0},{"$f":"'Rozliczenie kwartalne'!I118","v":0},{"$f":"'Rozliczenie kwartalne'!J118","v":0},{"$f":"'Rozliczenie kwartalne'!K118","v":0},{"$f":"'Rozliczenie kwartalne'!L118","v":0},{"$f":"'Rozliczenie kwartalne'!M118","v":0},{"$f":"'Rozliczenie kwartalne'!N118","v":0},{"$f":"'Załącznik nr 1 do rozliczenia'!D114","v":0},{"$f":"'Załącznik nr 1 do rozliczenia'!F114","v":0},{"$f":"'Załącznik nr 1 do rozliczenia'!H114","v":0},{"$f":"'Załącznik nr 2 do rozliczenia'!D111","v":0},{"$f":"'Załącznik nr 2 do rozliczenia'!E111","v":0},{"$f":"'Załącznik nr 2 do rozliczenia'!F111","v":""},{"$f":"'Załącznik nr 2 do rozliczenia'!H111","v":0}]
[{"$f":"'Rozliczenie kwartalne'!A119","v":"84"},{"$f":"'Rozliczenie kwartalne'!B119","v":""},{"$f":"'Rozliczenie kwartalne'!C119","v":0},{"$f":"'Rozliczenie kwartalne'!D119","v":0},{"$f":"'Rozliczenie kwartalne'!E119","v":0},{"$f":"'Rozliczenie kwartalne'!F119","v":0},{"$f":"'Rozliczenie kwartalne'!G119","v":0},{"$f":"'Rozliczenie kwartalne'!H119","v":0},{"$f":"'Rozliczenie kwartalne'!I119","v":0},{"$f":"'Rozliczenie kwartalne'!J119","v":0},{"$f":"'Rozliczenie kwartalne'!K119","v":0},{"$f":"'Rozliczenie kwartalne'!L119","v":0},{"$f":"'Rozliczenie kwartalne'!M119","v":0},{"$f":"'Rozliczenie kwartalne'!N119","v":0},{"$f":"'Załącznik nr 1 do rozliczenia'!D115","v":0},{"$f":"'Załącznik nr 1 do rozliczenia'!F115","v":0},{"$f":"'Załącznik nr 1 do rozliczenia'!H115","v":0},{"$f":"'Załącznik nr 2 do rozliczenia'!D112","v":0},{"$f":"'Załącznik nr 2 do rozliczenia'!E112","v":0},{"$f":"'Załącznik nr 2 do rozliczenia'!F112","v":""},{"$f":"'Załącznik nr 2 do rozliczenia'!H112","v":0}]
[{"$f":"'Rozliczenie kwartalne'!A120","v":"85"},{"$f":"'Rozliczenie kwartalne'!B120","v":""},{"$f":"'Rozliczenie kwartalne'!C120","v":0},{"$f":"'Rozliczenie kwartalne'!D120","v":0},{"$f":"'Rozliczenie kwartalne'!E120","v":0},{"$f":"'Rozliczenie kwartalne'!F120","v":0},{"$f":"'Rozliczenie kwartalne'!G120","v":0},{"$f":"'Rozliczenie kwartalne'!H120","v":0},{"$f":"'Rozliczenie kwartalne'!I120","v":0},{"$f":"'Rozliczenie kwartalne'!J120","v":0},{"$f":"'Rozliczenie kwartalne'!K120","v":0},{"$f":"'Rozliczenie kwartalne'!L120","v":0},{"$f":"'Rozliczenie kwartalne'!M120","v":0},{"$f":"'Rozliczenie kwartalne'!N120","v":0},{"$f":"'Załącznik nr 1 do rozliczenia'!D116","v":0},{"$f":"'Załącznik nr 1 do rozliczenia'!F116","v":0},{"$f":"'Załącznik nr 1 do rozliczenia'!H116","v":0},{"$f":"'Załącznik nr 2 do rozliczenia'!D113","v":0},{"$f":"'Załącznik nr 2 do rozliczenia'!E113","v":0},{"$f":"'Załącznik nr 2 do rozliczenia'!F113","v":""},{"$f":"'Załącznik nr 2 do rozliczenia'!H113","v":0}]
[{"$f":"'Rozliczenie kwartalne'!A121","v":"86"},{"$f":"'Rozliczenie kwartalne'!B121","v":""},{"$f":"'Rozliczenie kwartalne'!C121","v":0},{"$f":"'Rozliczenie kwartalne'!D121","v":0},{"$f":"'Rozliczenie kwartalne'!E121","v":0},{"$f":"'Rozliczenie kwartalne'!F121","v":0},{"$f":"'Rozliczenie kwartalne'!G121","v":0},{"$f":"'Rozliczenie kwartalne'!H121","v":0},{"$f":"'Rozliczenie kwartalne'!I121","v":0},{"$f":"'Rozliczenie kwartalne'!J121","v":0},{"$f":"'Rozliczenie kwartalne'!K121","v":0},{"$f":"'Rozliczenie kwartalne'!L121","v":0},{"$f":"'Rozliczenie kwartalne'!M121","v":0},{"$f":"'Rozliczenie kwartalne'!N121","v":0},{"$f":"'Załącznik nr 1 do rozliczenia'!D117","v":0},{"$f":"'Załącznik nr 1 do rozliczenia'!F117","v":0},{"$f":"'Załącznik nr 1 do rozliczenia'!H117","v":0},{"$f":"'Załącznik nr 2 do rozliczenia'!D114","v":0},{"$f":"'Załącznik nr 2 do rozliczenia'!E114","v":0},{"$f":"'Załącznik nr 2 do rozliczenia'!F114","v":""},{"$f":"'Załącznik nr 2 do rozliczenia'!H114","v":0}]
[{"$f":"'Rozliczenie kwartalne'!A122","v":"87"},{"$f":"'Rozliczenie kwartalne'!B122","v":""},{"$f":"'Rozliczenie kwartalne'!C122","v":0},{"$f":"'Rozliczenie kwartalne'!D122","v":0},{"$f":"'Rozliczenie kwartalne'!E122","v":0},{"$f":"'Rozliczenie kwartalne'!F122","v":0},{"$f":"'Rozliczenie kwartalne'!G122","v":0},{"$f":"'Rozliczenie kwartalne'!H122","v":0},{"$f":"'Rozliczenie kwartalne'!I122","v":0},{"$f":"'Rozliczenie kwartalne'!J122","v":0},{"$f":"'Rozliczenie kwartalne'!K122","v":0},{"$f":"'Rozliczenie kwartalne'!L122","v":0},{"$f":"'Rozliczenie kwartalne'!M122","v":0},{"$f":"'Rozliczenie kwartalne'!N122","v":0},{"$f":"'Załącznik nr 1 do rozliczenia'!D118","v":0},{"$f":"'Załącznik nr 1 do rozliczenia'!F118","v":0},{"$f":"'Załącznik nr 1 do rozliczenia'!H118","v":0},{"$f":"'Załącznik nr 2 do rozliczenia'!D115","v":0},{"$f":"'Załącznik nr 2 do rozliczenia'!E115","v":0},{"$f":"'Załącznik nr 2 do rozliczenia'!F115","v":""},{"$f":"'Załącznik nr 2 do rozliczenia'!H115","v":0}]
[{"$f":"'Rozliczenie kwartalne'!A123","v":"88"},{"$f":"'Rozliczenie kwartalne'!B123","v":""},{"$f":"'Rozliczenie kwartalne'!C123","v":0},{"$f":"'Rozliczenie kwartalne'!D123","v":0},{"$f":"'Rozliczenie kwartalne'!E123","v":0},{"$f":"'Rozliczenie kwartalne'!F123","v":0},{"$f":"'Rozliczenie kwartalne'!G123","v":0},{"$f":"'Rozliczenie kwartalne'!H123","v":0},{"$f":"'Rozliczenie kwartalne'!I123","v":0},{"$f":"'Rozliczenie kwartalne'!J123","v":0},{"$f":"'Rozliczenie kwartalne'!K123","v":0},{"$f":"'Rozliczenie kwartalne'!L123","v":0},{"$f":"'Rozliczenie kwartalne'!M123","v":0},{"$f":"'Rozliczenie kwartalne'!N123","v":0},{"$f":"'Załącznik nr 1 do rozliczenia'!D119","v":0},{"$f":"'Załącznik nr 1 do rozliczenia'!F119","v":0},{"$f":"'Załącznik nr 1 do rozliczenia'!H119","v":0},{"$f":"'Załącznik nr 2 do rozliczenia'!D116","v":0},{"$f":"'Załącznik nr 2 do rozliczenia'!E116","v":0},{"$f":"'Załącznik nr 2 do rozliczenia'!F116","v":""},{"$f":"'Załącznik nr 2 do rozliczenia'!H116","v":0}]
[{"$f":"'Rozliczenie kwartalne'!A124","v":"89"},{"$f":"'Rozliczenie kwartalne'!B124","v":""},{"$f":"'Rozliczenie kwartalne'!C124","v":0},{"$f":"'Rozliczenie kwartalne'!D124","v":0},{"$f":"'Rozliczenie kwartalne'!E124","v":0},{"$f":"'Rozliczenie kwartalne'!F124","v":0},{"$f":"'Rozliczenie kwartalne'!G124","v":0},{"$f":"'Rozliczenie kwartalne'!H124","v":0},{"$f":"'Rozliczenie kwartalne'!I124","v":0},{"$f":"'Rozliczenie kwartalne'!J124","v":0},{"$f":"'Rozliczenie kwartalne'!K124","v":0},{"$f":"'Rozliczenie kwartalne'!L124","v":0},{"$f":"'Rozliczenie kwartalne'!M124","v":0},{"$f":"'Rozliczenie kwartalne'!N124","v":0},{"$f":"'Załącznik nr 1 do rozliczenia'!D120","v":0},{"$f":"'Załącznik nr 1 do rozliczenia'!F120","v":0},{"$f":"'Załącznik nr 1 do rozliczenia'!H120","v":0},{"$f":"'Załącznik nr 2 do rozliczenia'!D117","v":0},{"$f":"'Załącznik nr 2 do rozliczenia'!E117","v":0},{"$f":"'Załącznik nr 2 do rozliczenia'!F117","v":""},{"$f":"'Załącznik nr 2 do rozliczenia'!H117","v":0}]
[{"$f":"'Rozliczenie kwartalne'!A125","v":"90"},{"$f":"'Rozliczenie kwartalne'!B125","v":""},{"$f":"'Rozliczenie kwartalne'!C125","v":0},{"$f":"'Rozliczenie kwartalne'!D125","v":0},{"$f":"'Rozliczenie kwartalne'!E125","v":0},{"$f":"'Rozliczenie kwartalne'!F125","v":0},{"$f":"'Rozliczenie kwartalne'!G125","v":0},{"$f":"'Rozliczenie kwartalne'!H125","v":0},{"$f":"'Rozliczenie kwartalne'!I125","v":0},{"$f":"'Rozliczenie kwartalne'!J125","v":0},{"$f":"'Rozliczenie kwartalne'!K125","v":0},{"$f":"'Rozliczenie kwartalne'!L125","v":0},{"$f":"'Rozliczenie kwartalne'!M125","v":0},{"$f":"'Rozliczenie kwartalne'!N125","v":0},{"$f":"'Załącznik nr 1 do rozliczenia'!D121","v":0},{"$f":"'Załącznik nr 1 do rozliczenia'!F121","v":0},{"$f":"'Załącznik nr 1 do rozliczenia'!H121","v":0},{"$f":"'Załącznik nr 2 do rozliczenia'!D118","v":0},{"$f":"'Załącznik nr 2 do rozliczenia'!E118","v":0},{"$f":"'Załącznik nr 2 do rozliczenia'!F118","v":""},{"$f":"'Załącznik nr 2 do rozliczenia'!H118","v":0}]
[{"$f":"'Rozliczenie kwartalne'!A126","v":"91"},{"$f":"'Rozliczenie kwartalne'!B126","v":""},{"$f":"'Rozliczenie kwartalne'!C126","v":0},{"$f":"'Rozliczenie kwartalne'!D126","v":0},{"$f":"'Rozliczenie kwartalne'!E126","v":0},{"$f":"'Rozliczenie kwartalne'!F126","v":0},{"$f":"'Rozliczenie kwartalne'!G126","v":0},{"$f":"'Rozliczenie kwartalne'!H126","v":0},{"$f":"'Rozliczenie kwartalne'!I126","v":0},{"$f":"'Rozliczenie kwartalne'!J126","v":0},{"$f":"'Rozliczenie kwartalne'!K126","v":0},{"$f":"'Rozliczenie kwartalne'!L126","v":0},{"$f":"'Rozliczenie kwartalne'!M126","v":0},{"$f":"'Rozliczenie kwartalne'!N126","v":0},{"$f":"'Załącznik nr 1 do rozliczenia'!D122","v":0},{"$f":"'Załącznik nr 1 do rozliczenia'!F122","v":0},{"$f":"'Załącznik nr 1 do rozliczenia'!H122","v":0},{"$f":"'Załącznik nr 2 do rozliczenia'!D119","v":0},{"$f":"'Załącznik nr 2 do rozliczenia'!E119","v":0},{"$f":"'Załącznik nr 2 do rozliczenia'!F119","v":""},{"$f":"'Załącznik nr 2 do rozliczenia'!H119","v":0}]
[{"$f":"'Rozliczenie kwartalne'!A127","v":"92"},{"$f":"'Rozliczenie kwartalne'!B127","v":""},{"$f":"'Rozliczenie kwartalne'!C127","v":0},{"$f":"'Rozliczenie kwartalne'!D127","v":0},{"$f":"'Rozliczenie kwartalne'!E127","v":0},{"$f":"'Rozliczenie kwartalne'!F127","v":0},{"$f":"'Rozliczenie kwartalne'!G127","v":0},{"$f":"'Rozliczenie kwartalne'!H127","v":0},{"$f":"'Rozliczenie kwartalne'!I127","v":0},{"$f":"'Rozliczenie kwartalne'!J127","v":0},{"$f":"'Rozliczenie kwartalne'!K127","v":0},{"$f":"'Rozliczenie kwartalne'!L127","v":0},{"$f":"'Rozliczenie kwartalne'!M127","v":0},{"$f":"'Rozliczenie kwartalne'!N127","v":0},{"$f":"'Załącznik nr 1 do rozliczenia'!D123","v":0},{"$f":"'Załącznik nr 1 do rozliczenia'!F123","v":0},{"$f":"'Załącznik nr 1 do rozliczenia'!H123","v":0},{"$f":"'Załącznik nr 2 do rozliczenia'!D120","v":0},{"$f":"'Załącznik nr 2 do rozliczenia'!E120","v":0},{"$f":"'Załącznik nr 2 do rozliczenia'!F120","v":""},{"$f":"'Załącznik nr 2 do rozliczenia'!H120","v":0}]
[{"$f":"'Rozliczenie kwartalne'!A128","v":"93"},{"$f":"'Rozliczenie kwartalne'!B128","v":""},{"$f":"'Rozliczenie kwartalne'!C128","v":0},{"$f":"'Rozliczenie kwartalne'!D128","v":0},{"$f":"'Rozliczenie kwartalne'!E128","v":0},{"$f":"'Rozliczenie kwartalne'!F128","v":0},{"$f":"'Rozliczenie kwartalne'!G128","v":0},{"$f":"'Rozliczenie kwartalne'!H128","v":0},{"$f":"'Rozliczenie kwartalne'!I128","v":0},{"$f":"'Rozliczenie kwartalne'!J128","v":0},{"$f":"'Rozliczenie kwartalne'!K128","v":0},{"$f":"'Rozliczenie kwartalne'!L128","v":0},{"$f":"'Rozliczenie kwartalne'!M128","v":0},{"$f":"'Rozliczenie kwartalne'!N128","v":0},{"$f":"'Załącznik nr 1 do rozliczenia'!D124","v":0},{"$f":"'Załącznik nr 1 do rozliczenia'!F124","v":0},{"$f":"'Załącznik nr 1 do rozliczenia'!H124","v":0},{"$f":"'Załącznik nr 2 do rozliczenia'!D121","v":0},{"$f":"'Załącznik nr 2 do rozliczenia'!E121","v":0},{"$f":"'Załącznik nr 2 do rozliczenia'!F121","v":""},{"$f":"'Załącznik nr 2 do rozliczenia'!H121","v":0}]
[{"$f":"'Rozliczenie kwartalne'!A129","v":"94"},{"$f":"'Rozliczenie kwartalne'!B129","v":""},{"$f":"'Rozliczenie kwartalne'!C129","v":0},{"$f":"'Rozliczenie kwartalne'!D129","v":0},{"$f":"'Rozliczenie kwartalne'!E129","v":0},{"$f":"'Rozliczenie kwartalne'!F129","v":0},{"$f":"'Rozliczenie kwartalne'!G129","v":0},{"$f":"'Rozliczenie kwartalne'!H129","v":0},{"$f":"'Rozliczenie kwartalne'!I129","v":0},{"$f":"'Rozliczenie kwartalne'!J129","v":0},{"$f":"'Rozliczenie kwartalne'!K129","v":0},{"$f":"'Rozliczenie kwartalne'!L129","v":0},{"$f":"'Rozliczenie kwartalne'!M129","v":0},{"$f":"'Rozliczenie kwartalne'!N129","v":0},{"$f":"'Załącznik nr 1 do rozliczenia'!D125","v":0},{"$f":"'Załącznik nr 1 do rozliczenia'!F125","v":0},{"$f":"'Załącznik nr 1 do rozliczenia'!H125","v":0},{"$f":"'Załącznik nr 2 do rozliczenia'!D122","v":0},{"$f":"'Załącznik nr 2 do rozliczenia'!E122","v":0},{"$f":"'Załącznik nr 2 do rozliczenia'!F122","v":""},{"$f":"'Załącznik nr 2 do rozliczenia'!H122","v":0}]
[{"$f":"'Rozliczenie kwartalne'!A130","v":"95"},{"$f":"'Rozliczenie kwartalne'!B130","v":""},{"$f":"'Rozliczenie kwartalne'!C130","v":0},{"$f":"'Rozliczenie kwartalne'!D130","v":0},{"$f":"'Rozliczenie kwartalne'!E130","v":0},{"$f":"'Rozliczenie kwartalne'!F130","v":0},{"$f":"'Rozliczenie kwartalne'!G130","v":0},{"$f":"'Rozliczenie kwartalne'!H130","v":0},{"$f":"'Rozliczenie kwartalne'!I130","v":0},{"$f":"'Rozliczenie kwartalne'!J130","v":0},{"$f":"'Rozliczenie kwartalne'!K130","v":0},{"$f":"'Rozliczenie kwartalne'!L130","v":0},{"$f":"'Rozliczenie kwartalne'!M130","v":0},{"$f":"'Rozliczenie kwartalne'!N130","v":0},{"$f":"'Załącznik nr 1 do rozliczenia'!D126","v":0},{"$f":"'Załącznik nr 1 do rozliczenia'!F126","v":0},{"$f":"'Załącznik nr 1 do rozliczenia'!H126","v":0},{"$f":"'Załącznik nr 2 do rozliczenia'!D123","v":0},{"$f":"'Załącznik nr 2 do rozliczenia'!E123","v":0},{"$f":"'Załącznik nr 2 do rozliczenia'!F123","v":""},{"$f":"'Załącznik nr 2 do rozliczenia'!H123","v":0}]
[{"$f":"'Rozliczenie kwartalne'!A131","v":"96"},{"$f":"'Rozliczenie kwartalne'!B131","v":""},{"$f":"'Rozliczenie kwartalne'!C131","v":0},{"$f":"'Rozliczenie kwartalne'!D131","v":0},{"$f":"'Rozliczenie kwartalne'!E131","v":0},{"$f":"'Rozliczenie kwartalne'!F131","v":0},{"$f":"'Rozliczenie kwartalne'!G131","v":0},{"$f":"'Rozliczenie kwartalne'!H131","v":0},{"$f":"'Rozliczenie kwartalne'!I131","v":0},{"$f":"'Rozliczenie kwartalne'!J131","v":0},{"$f":"'Rozliczenie kwartalne'!K131","v":0},{"$f":"'Rozliczenie kwartalne'!L131","v":0},{"$f":"'Rozliczenie kwartalne'!M131","v":0},{"$f":"'Rozliczenie kwartalne'!N131","v":0},{"$f":"'Załącznik nr 1 do rozliczenia'!D127","v":0},{"$f":"'Załącznik nr 1 do rozliczenia'!F127","v":0},{"$f":"'Załącznik nr 1 do rozliczenia'!H127","v":0},{"$f":"'Załącznik nr 2 do rozliczenia'!D124","v":0},{"$f":"'Załącznik nr 2 do rozliczenia'!E124","v":0},{"$f":"'Załącznik nr 2 do rozliczenia'!F124","v":""},{"$f":"'Załącznik nr 2 do rozliczenia'!H124","v":0}]
[{"$f":"'Rozliczenie kwartalne'!A132","v":"97"},{"$f":"'Rozliczenie kwartalne'!B132","v":""},{"$f":"'Rozliczenie kwartalne'!C132","v":0},{"$f":"'Rozliczenie kwartalne'!D132","v":0},{"$f":"'Rozliczenie kwartalne'!E132","v":0},{"$f":"'Rozliczenie kwartalne'!F132","v":0},{"$f":"'Rozliczenie kwartalne'!G132","v":0},{"$f":"'Rozliczenie kwartalne'!H132","v":0},{"$f":"'Rozliczenie kwartalne'!I132","v":0},{"$f":"'Rozliczenie kwartalne'!J132","v":0},{"$f":"'Rozliczenie kwartalne'!K132","v":0},{"$f":"'Rozliczenie kwartalne'!L132","v":0},{"$f":"'Rozliczenie kwartalne'!M132","v":0},{"$f":"'Rozliczenie kwartalne'!N132","v":0},{"$f":"'Załącznik nr 1 do rozliczenia'!D128","v":0},{"$f":"'Załącznik nr 1 do rozliczenia'!F128","v":0},{"$f":"'Załącznik nr 1 do rozliczenia'!H128","v":0},{"$f":"'Załącznik nr 2 do rozliczenia'!D125","v":0},{"$f":"'Załącznik nr 2 do rozliczenia'!E125","v":0},{"$f":"'Załącznik nr 2 do rozliczenia'!F125","v":""},{"$f":"'Załącznik nr 2 do rozliczenia'!H125","v":0}]
[{"$f":"'Rozliczenie kwartalne'!A133","v":"98"},{"$f":"'Rozliczenie kwartalne'!B133","v":""},{"$f":"'Rozliczenie kwartalne'!C133","v":0},{"$f":"'Rozliczenie kwartalne'!D133","v":0},{"$f":"'Rozliczenie kwartalne'!E133","v":0},{"$f":"'Rozliczenie kwartalne'!F133","v":0},{"$f":"'Rozliczenie kwartalne'!G133","v":0},{"$f":"'Rozliczenie kwartalne'!H133","v":0},{"$f":"'Rozliczenie kwartalne'!I133","v":0},{"$f":"'Rozliczenie kwartalne'!J133","v":0},{"$f":"'Rozliczenie kwartalne'!K133","v":0},{"$f":"'Rozliczenie kwartalne'!L133","v":0},{"$f":"'Rozliczenie kwartalne'!M133","v":0},{"$f":"'Rozliczenie kwartalne'!N133","v":0},{"$f":"'Załącznik nr 1 do rozliczenia'!D129","v":0},{"$f":"'Załącznik nr 1 do rozliczenia'!F129","v":0},{"$f":"'Załącznik nr 1 do rozliczenia'!H129","v":0},{"$f":"'Załącznik nr 2 do rozliczenia'!D126","v":0},{"$f":"'Załącznik nr 2 do rozliczenia'!E126","v":0},{"$f":"'Załącznik nr 2 do rozliczenia'!F126","v":""},{"$f":"'Załącznik nr 2 do rozliczenia'!H126","v":0}]
[{"$f":"'Rozliczenie kwartalne'!A134","v":"99"},{"$f":"'Rozliczenie kwartalne'!B134","v":""},{"$f":"'Rozliczenie kwartalne'!C134","v":0},{"$f":"'Rozliczenie kwartalne'!D134","v":0},{"$f":"'Rozliczenie kwartalne'!E134","v":0},{"$f":"'Rozliczenie kwartalne'!F134","v":0},{"$f":"'Rozliczenie kwartalne'!G134","v":0},{"$f":"'Rozliczenie kwartalne'!H134","v":0},{"$f":"'Rozliczenie kwartalne'!I134","v":0},{"$f":"'Rozliczenie kwartalne'!J134","v":0},{"$f":"'Rozliczenie kwartalne'!K134","v":0},{"$f":"'Rozliczenie kwartalne'!L134","v":0},{"$f":"'Rozliczenie kwartalne'!M134","v":0},{"$f":"'Rozliczenie kwartalne'!N134","v":0},{"$f":"'Załącznik nr 1 do rozliczenia'!D130","v":0},{"$f":"'Załącznik nr 1 do rozliczenia'!F130","v":0},{"$f":"'Załącznik nr 1 do rozliczenia'!H130","v":0},{"$f":"'Załącznik nr 2 do rozliczenia'!D127","v":0},{"$f":"'Załącznik nr 2 do rozliczenia'!E127","v":0},{"$f":"'Załącznik nr 2 do rozliczenia'!F127","v":""},{"$f":"'Załącznik nr 2 do rozliczenia'!H127","v":0}]
[{"$f":"'Rozliczenie kwartalne'!A135","v":"100"},{"$f":"'Rozliczenie kwartalne'!B135","v":""},{"$f":"'Rozliczenie kwartalne'!C135","v":0},{"$f":"'Rozliczenie kwartalne'!D135","v":0},{"$f":"'Rozliczenie kwartalne'!E135","v":0},{"$f":"'Rozliczenie kwartalne'!F135","v":0},{"$f":"'Rozliczenie kwartalne'!G135","v":0},{"$f":"'Rozliczenie kwartalne'!H135","v":0},{"$f":"'Rozliczenie kwartalne'!I135","v":0},{"$f":"'Rozliczenie kwartalne'!J135","v":0},{"$f":"'Rozliczenie kwartalne'!K135","v":0},{"$f":"'Rozliczenie kwartalne'!L135","v":0},{"$f":"'Rozliczenie kwartalne'!M135","v":0},{"$f":"'Rozliczenie kwartalne'!N135","v":0},{"$f":"'Załącznik nr 1 do rozliczenia'!D131","v":0},{"$f":"'Załącznik nr 1 do rozliczenia'!F131","v":0},{"$f":"'Załącznik nr 1 do rozliczenia'!H131","v":0},{"$f":"'Załącznik nr 2 do rozliczenia'!D128","v":0},{"$f":"'Załącznik nr 2 do rozliczenia'!E128","v":0},{"$f":"'Załącznik nr 2 do rozliczenia'!F128","v":""},{"$f":"'Załącznik nr 2 do rozliczenia'!H128","v":0}]
[{"$f":"'Rozliczenie kwartalne'!A136","v":"101"},{"$f":"'Rozliczenie kwartalne'!B136","v":""},{"$f":"'Rozliczenie kwartalne'!C136","v":0},{"$f":"'Rozliczenie kwartalne'!D136","v":0},{"$f":"'Rozliczenie kwartalne'!E136","v":0},{"$f":"'Rozliczenie kwartalne'!F136","v":0},{"$f":"'Rozliczenie kwartalne'!G136","v":0},{"$f":"'Rozliczenie kwartalne'!H136","v":0},{"$f":"'Rozliczenie kwartalne'!I136","v":0},{"$f":"'Rozliczenie kwartalne'!J136","v":0},{"$f":"'Rozliczenie kwartalne'!K136","v":0},{"$f":"'Rozliczenie kwartalne'!L136","v":0},{"$f":"'Rozliczenie kwartalne'!M136","v":0},{"$f":"'Rozliczenie kwartalne'!N136","v":0},{"$f":"'Załącznik nr 1 do rozliczenia'!D132","v":0},{"$f":"'Załącznik nr 1 do rozliczenia'!F132","v":0},{"$f":"'Załącznik nr 1 do rozliczenia'!H132","v":0},{"$f":"'Załącznik nr 2 do rozliczenia'!D129","v":0},{"$f":"'Załącznik nr 2 do rozliczenia'!E129","v":0},{"$f":"'Załącznik nr 2 do rozliczenia'!F129","v":""},{"$f":"'Załącznik nr 2 do rozliczenia'!H129","v":0}]
[{"$f":"'Rozliczenie kwartalne'!A137","v":"102"},{"$f":"'Rozliczenie kwartalne'!B137","v":""},{"$f":"'Rozliczenie kwartalne'!C137","v":0},{"$f":"'Rozliczenie kwartalne'!D137","v":0},{"$f":"'Rozliczenie kwartalne'!E137","v":0},{"$f":"'Rozliczenie kwartalne'!F137","v":0},{"$f":"'Rozliczenie kwartalne'!G137","v":0},{"$f":"'Rozliczenie kwartalne'!H137","v":0},{"$f":"'Rozliczenie kwartalne'!I137","v":0},{"$f":"'Rozliczenie kwartalne'!J137","v":0},{"$f":"'Rozliczenie kwartalne'!K137","v":0},{"$f":"'Rozliczenie kwartalne'!L137","v":0},{"$f":"'Rozliczenie kwartalne'!M137","v":0},{"$f":"'Rozliczenie kwartalne'!N137","v":0},{"$f":"'Załącznik nr 1 do rozliczenia'!D133","v":0},{"$f":"'Załącznik nr 1 do rozliczenia'!F133","v":0},{"$f":"'Załącznik nr 1 do rozliczenia'!H133","v":0},{"$f":"'Załącznik nr 2 do rozliczenia'!D130","v":0},{"$f":"'Załącznik nr 2 do rozliczenia'!E130","v":0},{"$f":"'Załącznik nr 2 do rozliczenia'!F130","v":""},{"$f":"'Załącznik nr 2 do rozliczenia'!H130","v":0}]
[{"$f":"'Rozliczenie kwartalne'!A138","v":"103"},{"$f":"'Rozliczenie kwartalne'!B138","v":""},{"$f":"'Rozliczenie kwartalne'!C138","v":0},{"$f":"'Rozliczenie kwartalne'!D138","v":0},{"$f":"'Rozliczenie kwartalne'!E138","v":0},{"$f":"'Rozliczenie kwartalne'!F138","v":0},{"$f":"'Rozliczenie kwartalne'!G138","v":0},{"$f":"'Rozliczenie kwartalne'!H138","v":0},{"$f":"'Rozliczenie kwartalne'!I138","v":0},{"$f":"'Rozliczenie kwartalne'!J138","v":0},{"$f":"'Rozliczenie kwartalne'!K138","v":0},{"$f":"'Rozliczenie kwartalne'!L138","v":0},{"$f":"'Rozliczenie kwartalne'!M138","v":0},{"$f":"'Rozliczenie kwartalne'!N138","v":0},{"$f":"'Załącznik nr 1 do rozliczenia'!D134","v":0},{"$f":"'Załącznik nr 1 do rozliczenia'!F134","v":0},{"$f":"'Załącznik nr 1 do rozliczenia'!H134","v":0},{"$f":"'Załącznik nr 2 do rozliczenia'!D131","v":0},{"$f":"'Załącznik nr 2 do rozliczenia'!E131","v":0},{"$f":"'Załącznik nr 2 do rozliczenia'!F131","v":""},{"$f":"'Załącznik nr 2 do rozliczenia'!H131","v":0}]
[{"$f":"'Rozliczenie kwartalne'!A139","v":"104"},{"$f":"'Rozliczenie kwartalne'!B139","v":""},{"$f":"'Rozliczenie kwartalne'!C139","v":0},{"$f":"'Rozliczenie kwartalne'!D139","v":0},{"$f":"'Rozliczenie kwartalne'!E139","v":0},{"$f":"'Rozliczenie kwartalne'!F139","v":0},{"$f":"'Rozliczenie kwartalne'!G139","v":0},{"$f":"'Rozliczenie kwartalne'!H139","v":0},{"$f":"'Rozliczenie kwartalne'!I139","v":0},{"$f":"'Rozliczenie kwartalne'!J139","v":0},{"$f":"'Rozliczenie kwartalne'!K139","v":0},{"$f":"'Rozliczenie kwartalne'!L139","v":0},{"$f":"'Rozliczenie kwartalne'!M139","v":0},{"$f":"'Rozliczenie kwartalne'!N139","v":0},{"$f":"'Załącznik nr 1 do rozliczenia'!D135","v":0},{"$f":"'Załącznik nr 1 do rozliczenia'!F135","v":0},{"$f":"'Załącznik nr 1 do rozliczenia'!H135","v":0},{"$f":"'Załącznik nr 2 do rozliczenia'!D132","v":0},{"$f":"'Załącznik nr 2 do rozliczenia'!E132","v":0},{"$f":"'Załącznik nr 2 do rozliczenia'!F132","v":""},{"$f":"'Załącznik nr 2 do rozliczenia'!H132","v":0}]
[{"$f":"'Rozliczenie kwartalne'!A140","v":"105"},{"$f":"'Rozliczenie kwartalne'!B140","v":""},{"$f":"'Rozliczenie kwartalne'!C140","v":0},{"$f":"'Rozliczenie kwartalne'!D140","v":0},{"$f":"'Rozliczenie kwartalne'!E140","v":0},{"$f":"'Rozliczenie kwartalne'!F140","v":0},{"$f":"'Rozliczenie kwartalne'!G140","v":0},{"$f":"'Rozliczenie kwartalne'!H140","v":0},{"$f":"'Rozliczenie kwartalne'!I140","v":0},{"$f":"'Rozliczenie kwartalne'!J140","v":0},{"$f":"'Rozliczenie kwartalne'!K140","v":0},{"$f":"'Rozliczenie kwartalne'!L140","v":0},{"$f":"'Rozliczenie kwartalne'!M140","v":0},{"$f":"'Rozliczenie kwartalne'!N140","v":0},{"$f":"'Załącznik nr 1 do rozliczenia'!D136","v":0},{"$f":"'Załącznik nr 1 do rozliczenia'!F136","v":0},{"$f":"'Załącznik nr 1 do rozliczenia'!H136","v":0},{"$f":"'Załącznik nr 2 do rozliczenia'!D133","v":0},{"$f":"'Załącznik nr 2 do rozliczenia'!E133","v":0},{"$f":"'Załącznik nr 2 do rozliczenia'!F133","v":""},{"$f":"'Załącznik nr 2 do rozliczenia'!H133","v":0}]
[{"$f":"'Rozliczenie kwartalne'!A141","v":"106"},{"$f":"'Rozliczenie kwartalne'!B141","v":""},{"$f":"'Rozliczenie kwartalne'!C141","v":0},{"$f":"'Rozliczenie kwartalne'!D141","v":0},{"$f":"'Rozliczenie kwartalne'!E141","v":0},{"$f":"'Rozliczenie kwartalne'!F141","v":0},{"$f":"'Rozliczenie kwartalne'!G141","v":0},{"$f":"'Rozliczenie kwartalne'!H141","v":0},{"$f":"'Rozliczenie kwartalne'!I141","v":0},{"$f":"'Rozliczenie kwartalne'!J141","v":0},{"$f":"'Rozliczenie kwartalne'!K141","v":0},{"$f":"'Rozliczenie kwartalne'!L141","v":0},{"$f":"'Rozliczenie kwartalne'!M141","v":0},{"$f":"'Rozliczenie kwartalne'!N141","v":0},{"$f":"'Załącznik nr 1 do rozliczenia'!D137","v":0},{"$f":"'Załącznik nr 1 do rozliczenia'!F137","v":0},{"$f":"'Załącznik nr 1 do rozliczenia'!H137","v":0},{"$f":"'Załącznik nr 2 do rozliczenia'!D134","v":0},{"$f":"'Załącznik nr 2 do rozliczenia'!E134","v":0},{"$f":"'Załącznik nr 2 do rozliczenia'!F134","v":""},{"$f":"'Załącznik nr 2 do rozliczenia'!H134","v":0}]
[{"$f":"'Rozliczenie kwartalne'!A142","v":"107"},{"$f":"'Rozliczenie kwartalne'!B142","v":""},{"$f":"'Rozliczenie kwartalne'!C142","v":0},{"$f":"'Rozliczenie kwartalne'!D142","v":0},{"$f":"'Rozliczenie kwartalne'!E142","v":0},{"$f":"'Rozliczenie kwartalne'!F142","v":0},{"$f":"'Rozliczenie kwartalne'!G142","v":0},{"$f":"'Rozliczenie kwartalne'!H142","v":0},{"$f":"'Rozliczenie kwartalne'!I142","v":0},{"$f":"'Rozliczenie kwartalne'!J142","v":0},{"$f":"'Rozliczenie kwartalne'!K142","v":0},{"$f":"'Rozliczenie kwartalne'!L142","v":0},{"$f":"'Rozliczenie kwartalne'!M142","v":0},{"$f":"'Rozliczenie kwartalne'!N142","v":0},{"$f":"'Załącznik nr 1 do rozliczenia'!D138","v":0},{"$f":"'Załącznik nr 1 do rozliczenia'!F138","v":0},{"$f":"'Załącznik nr 1 do rozliczenia'!H138","v":0},{"$f":"'Załącznik nr 2 do rozliczenia'!D135","v":0},{"$f":"'Załącznik nr 2 do rozliczenia'!E135","v":0},{"$f":"'Załącznik nr 2 do rozliczenia'!F135","v":""},{"$f":"'Załącznik nr 2 do rozliczenia'!H135","v":0}]
[{"$f":"'Rozliczenie kwartalne'!A143","v":"108"},{"$f":"'Rozliczenie kwartalne'!B143","v":""},{"$f":"'Rozliczenie kwartalne'!C143","v":0},{"$f":"'Rozliczenie kwartalne'!D143","v":0},{"$f":"'Rozliczenie kwartalne'!E143","v":0},{"$f":"'Rozliczenie kwartalne'!F143","v":0},{"$f":"'Rozliczenie kwartalne'!G143","v":0},{"$f":"'Rozliczenie kwartalne'!H143","v":0},{"$f":"'Rozliczenie kwartalne'!I143","v":0},{"$f":"'Rozliczenie kwartalne'!J143","v":0},{"$f":"'Rozliczenie kwartalne'!K143","v":0},{"$f":"'Rozliczenie kwartalne'!L143","v":0},{"$f":"'Rozliczenie kwartalne'!M143","v":0},{"$f":"'Rozliczenie kwartalne'!N143","v":0},{"$f":"'Załącznik nr 1 do rozliczenia'!D139","v":0},{"$f":"'Załącznik nr 1 do rozliczenia'!F139","v":0},{"$f":"'Załącznik nr 1 do rozliczenia'!H139","v":0},{"$f":"'Załącznik nr 2 do rozliczenia'!D136","v":0},{"$f":"'Załącznik nr 2 do rozliczenia'!E136","v":0},{"$f":"'Załącznik nr 2 do rozliczenia'!F136","v":""},{"$f":"'Załącznik nr 2 do rozliczenia'!H136","v":0}]
[{"$f":"'Rozliczenie kwartalne'!A144","v":"109"},{"$f":"'Rozliczenie kwartalne'!B144","v":""},{"$f":"'Rozliczenie kwartalne'!C144","v":0},{"$f":"'Rozliczenie kwartalne'!D144","v":0},{"$f":"'Rozliczenie kwartalne'!E144","v":0},{"$f":"'Rozliczenie kwartalne'!F144","v":0},{"$f":"'Rozliczenie kwartalne'!G144","v":0},{"$f":"'Rozliczenie kwartalne'!H144","v":0},{"$f":"'Rozliczenie kwartalne'!I144","v":0},{"$f":"'Rozliczenie kwartalne'!J144","v":0},{"$f":"'Rozliczenie kwartalne'!K144","v":0},{"$f":"'Rozliczenie kwartalne'!L144","v":0},{"$f":"'Rozliczenie kwartalne'!M144","v":0},{"$f":"'Rozliczenie kwartalne'!N144","v":0},{"$f":"'Załącznik nr 1 do rozliczenia'!D140","v":0},{"$f":"'Załącznik nr 1 do rozliczenia'!F140","v":0},{"$f":"'Załącznik nr 1 do rozliczenia'!H140","v":0},{"$f":"'Załącznik nr 2 do rozliczenia'!D137","v":0},{"$f":"'Załącznik nr 2 do rozliczenia'!E137","v":0},{"$f":"'Załącznik nr 2 do rozliczenia'!F137","v":""},{"$f":"'Załącznik nr 2 do rozliczenia'!H137","v":0}]
[{"$f":"'Rozliczenie kwartalne'!A145","v":"110"},{"$f":"'Rozliczenie kwartalne'!B145","v":""},{"$f":"'Rozliczenie kwartalne'!C145","v":0},{"$f":"'Rozliczenie kwartalne'!D145","v":0},{"$f":"'Rozliczenie kwartalne'!E145","v":0},{"$f":"'Rozliczenie kwartalne'!F145","v":0},{"$f":"'Rozliczenie kwartalne'!G145","v":0},{"$f":"'Rozliczenie kwartalne'!H145","v":0},{"$f":"'Rozliczenie kwartalne'!I145","v":0},{"$f":"'Rozliczenie kwartalne'!J145","v":0},{"$f":"'Rozliczenie kwartalne'!K145","v":0},{"$f":"'Rozliczenie kwartalne'!L145","v":0},{"$f":"'Rozliczenie kwartalne'!M145","v":0},{"$f":"'Rozliczenie kwartalne'!N145","v":0},{"$f":"'Załącznik nr 1 do rozliczenia'!D141","v":0},{"$f":"'Załącznik nr 1 do rozliczenia'!F141","v":0},{"$f":"'Załącznik nr 1 do rozliczenia'!H141","v":0},{"$f":"'Załącznik nr 2 do rozliczenia'!D138","v":0},{"$f":"'Załącznik nr 2 do rozliczenia'!E138","v":0},{"$f":"'Załącznik nr 2 do rozliczenia'!F138","v":""},{"$f":"'Załącznik nr 2 do rozliczenia'!H138","v":0}]
[{"$f":"'Rozliczenie kwartalne'!A146","v":"111"},{"$f":"'Rozliczenie kwartalne'!B146","v":""},{"$f":"'Rozliczenie kwartalne'!C146","v":0},{"$f":"'Rozliczenie kwartalne'!D146","v":0},{"$f":"'Rozliczenie kwartalne'!E146","v":0},{"$f":"'Rozliczenie kwartalne'!F146","v":0},{"$f":"'Rozliczenie kwartalne'!G146","v":0},{"$f":"'Rozliczenie kwartalne'!H146","v":0},{"$f":"'Rozliczenie kwartalne'!I146","v":0},{"$f":"'Rozliczenie kwartalne'!J146","v":0},{"$f":"'Rozliczenie kwartalne'!K146","v":0},{"$f":"'Rozliczenie kwartalne'!L146","v":0},{"$f":"'Rozliczenie kwartalne'!M146","v":0},{"$f":"'Rozliczenie kwartalne'!N146","v":0},{"$f":"'Załącznik nr 1 do rozliczenia'!D142","v":0},{"$f":"'Załącznik nr 1 do rozliczenia'!F142","v":0},{"$f":"'Załącznik nr 1 do rozliczenia'!H142","v":0},{"$f":"'Załącznik nr 2 do rozliczenia'!D139","v":0},{"$f":"'Załącznik nr 2 do rozliczenia'!E139","v":0},{"$f":"'Załącznik nr 2 do rozliczenia'!F139","v":""},{"$f":"'Załącznik nr 2 do rozliczenia'!H139","v":0}]
[{"$f":"'Rozliczenie kwartalne'!A147","v":"112"},{"$f":"'Rozliczenie kwartalne'!B147","v":""},{"$f":"'Rozliczenie kwartalne'!C147","v":0},{"$f":"'Rozliczenie kwartalne'!D147","v":0},{"$f":"'Rozliczenie kwartalne'!E147","v":0},{"$f":"'Rozliczenie kwartalne'!F147","v":0},{"$f":"'Rozliczenie kwartalne'!G147","v":0},{"$f":"'Rozliczenie kwartalne'!H147","v":0},{"$f":"'Rozliczenie kwartalne'!I147","v":0},{"$f":"'Rozliczenie kwartalne'!J147","v":0},{"$f":"'Rozliczenie kwartalne'!K147","v":0},{"$f":"'Rozliczenie kwartalne'!L147","v":0},{"$f":"'Rozliczenie kwartalne'!M147","v":0},{"$f":"'Rozliczenie kwartalne'!N147","v":0},{"$f":"'Załącznik nr 1 do rozliczenia'!D143","v":0},{"$f":"'Załącznik nr 1 do rozliczenia'!F143","v":0},{"$f":"'Załącznik nr 1 do rozliczenia'!H143","v":0},{"$f":"'Załącznik nr 2 do rozliczenia'!D140","v":0},{"$f":"'Załącznik nr 2 do rozliczenia'!E140","v":0},{"$f":"'Załącznik nr 2 do rozliczenia'!F140","v":""},{"$f":"'Załącznik nr 2 do rozliczenia'!H140","v":0}]
[{"$f":"'Rozliczenie kwartalne'!A148","v":"113"},{"$f":"'Rozliczenie kwartalne'!B148","v":""},{"$f":"'Rozliczenie kwartalne'!C148","v":0},{"$f":"'Rozliczenie kwartalne'!D148","v":0},{"$f":"'Rozliczenie kwartalne'!E148","v":0},{"$f":"'Rozliczenie kwartalne'!F148","v":0},{"$f":"'Rozliczenie kwartalne'!G148","v":0},{"$f":"'Rozliczenie kwartalne'!H148","v":0},{"$f":"'Rozliczenie kwartalne'!I148","v":0},{"$f":"'Rozliczenie kwartalne'!J148","v":0},{"$f":"'Rozliczenie kwartalne'!K148","v":0},{"$f":"'Rozliczenie kwartalne'!L148","v":0},{"$f":"'Rozliczenie kwartalne'!M148","v":0},{"$f":"'Rozliczenie kwartalne'!N148","v":0},{"$f":"'Załącznik nr 1 do rozliczenia'!D144","v":0},{"$f":"'Załącznik nr 1 do rozliczenia'!F144","v":0},{"$f":"'Załącznik nr 1 do rozliczenia'!H144","v":0},{"$f":"'Załącznik nr 2 do rozliczenia'!D141","v":0},{"$f":"'Załącznik nr 2 do rozliczenia'!E141","v":0},{"$f":"'Załącznik nr 2 do rozliczenia'!F141","v":""},{"$f":"'Załącznik nr 2 do rozliczenia'!H141","v":0}]
[{"$f":"'Rozliczenie kwartalne'!A149","v":"114"},{"$f":"'Rozliczenie kwartalne'!B149","v":""},{"$f":"'Rozliczenie kwartalne'!C149","v":0},{"$f":"'Rozliczenie kwartalne'!D149","v":0},{"$f":"'Rozliczenie kwartalne'!E149","v":0},{"$f":"'Rozliczenie kwartalne'!F149","v":0},{"$f":"'Rozliczenie kwartalne'!G149","v":0},{"$f":"'Rozliczenie kwartalne'!H149","v":0},{"$f":"'Rozliczenie kwartalne'!I149","v":0},{"$f":"'Rozliczenie kwartalne'!J149","v":0},{"$f":"'Rozliczenie kwartalne'!K149","v":0},{"$f":"'Rozliczenie kwartalne'!L149","v":0},{"$f":"'Rozliczenie kwartalne'!M149","v":0},{"$f":"'Rozliczenie kwartalne'!N149","v":0},{"$f":"'Załącznik nr 1 do rozliczenia'!D145","v":0},{"$f":"'Załącznik nr 1 do rozliczenia'!F145","v":0},{"$f":"'Załącznik nr 1 do rozliczenia'!H145","v":0},{"$f":"'Załącznik nr 2 do rozliczenia'!D142","v":0},{"$f":"'Załącznik nr 2 do rozliczenia'!E142","v":0},{"$f":"'Załącznik nr 2 do rozliczenia'!F142","v":""},{"$f":"'Załącznik nr 2 do rozliczenia'!H142","v":0}]
[{"$f":"'Rozliczenie kwartalne'!A150","v":"115"},{"$f":"'Rozliczenie kwartalne'!B150","v":""},{"$f":"'Rozliczenie kwartalne'!C150","v":0},{"$f":"'Rozliczenie kwartalne'!D150","v":0},{"$f":"'Rozliczenie kwartalne'!E150","v":0},{"$f":"'Rozliczenie kwartalne'!F150","v":0},{"$f":"'Rozliczenie kwartalne'!G150","v":0},{"$f":"'Rozliczenie kwartalne'!H150","v":0},{"$f":"'Rozliczenie kwartalne'!I150","v":0},{"$f":"'Rozliczenie kwartalne'!J150","v":0},{"$f":"'Rozliczenie kwartalne'!K150","v":0},{"$f":"'Rozliczenie kwartalne'!L150","v":0},{"$f":"'Rozliczenie kwartalne'!M150","v":0},{"$f":"'Rozliczenie kwartalne'!N150","v":0},{"$f":"'Załącznik nr 1 do rozliczenia'!D146","v":0},{"$f":"'Załącznik nr 1 do rozliczenia'!F146","v":0},{"$f":"'Załącznik nr 1 do rozliczenia'!H146","v":0},{"$f":"'Załącznik nr 2 do rozliczenia'!D143","v":0},{"$f":"'Załącznik nr 2 do rozliczenia'!E143","v":0},{"$f":"'Załącznik nr 2 do rozliczenia'!F143","v":""},{"$f":"'Załącznik nr 2 do rozliczenia'!H143","v":0}]

{"sheet":"Dane - linie 2","index":11,"n_rows":116,"n_cols":21,"rows_kept":116,"cut":false,"hidden":true,"merged":[]}
[{"$f":"'Rozliczenie kwartalne'!A34","v":"Lp."},{"$f":"'Rozliczenie kwartalne'!B34","v":"Nazwa linii komunikacyjnej"},{"$f":"'Rozliczenie kwartalne'!C34","v":"Liczba przewiezionych osób"},{"$f":"'Rozliczenie kwartalne'!D34","v":"Wielkość pracy eksploatacyjnej w okresie rozliczeniowym [wzkm]"},{"$f":"'Rozliczenie kwartalne'!E34","v":"Deficyt w okresie rozliczeniowym [zł]"},{"$f":"'Rozliczenie kwartalne'!F34","v":"Kwota środków własnych organizatora \n[zł]"},{"$f":"'Rozliczenie kwartalne'!G34","v":"Cena usługi \n[zł]"},{"$f":"'Rozliczenie kwartalne'!H34","v":"Część ceny usługi sfinansowana ze środków własnych organizatora  [zł/wzkm]"},{"$f":"'Rozliczenie kwartalne'!I34","v":"Procentowa wartość części ceny usługi sfinansowanej ze środków własnych organizatora \n[%]"},{"$f":"'Rozliczenie kwartalne'!J34","v":"Należna kwota dopłaty w okresie rozliczeniowym [zł]"},{"$f":"'Rozliczenie kwartalne'!K34","v":"Pobrana dopłata w okresie rozliczeniowym - wniosek kwartalny \n[zł]"},{"$f":"'Rozliczenie kwartalne'!L34","v":"Niewykorzystana kwota dopłaty z poprzedniego okresu rozliczeniowego (rozliczona w bieżącym okresie)\n[zł]"},{"$f":"'Rozliczenie kwartalne'!M34","v":"Faktycznie wypłacona kwota dopłaty w bieżącym okresie\n[zł]"},{"$f":"'Rozliczenie kwartalne'!N34","v":"Niewykorzystana kwota dopłaty w bieżącym okresie rozliczeniowym\n[zł]"},{"$f":"'Załącznik nr 1 do rozliczenia'!D30","v":"Suma kosztów osiągniętych na linii komunikacyjnej \n[zł]"},{"$f":"'Załącznik nr 1 do rozliczenia'!F30","v":"Suma przychodów osiągniętych na linii komunikacyjnych \n[zł]"},{"$f":"'Załącznik nr 1 do rozliczenia'!H30","v":"Wynik finansowy linii komunikacyjnej - deficyt \n[zł] "},{"$f":"'Załącznik nr 2 do rozliczenia'!D27","v":"Długość linii \n[km]"},{"$f":"'Załącznik nr 2 do rozliczenia'!E27","v":"Ilość wykonanych kursów w okresie rozliczeniowym"},{"$f":"'Załącznik nr 2 do rozliczenia'!F27","v":"Dni kursowania"},{"$f":"'Załącznik nr 2 do rozliczenia'!H27","v":"Zrealizowana praca eksploatacyjna \n[wzkm]"}]
[{"$f":"'Rozliczenie kwartalne'!A157","v":"1"},{"$f":"'Rozliczenie kwartalne'!B157","v":""},{"$f":"'Rozliczenie kwartalne'!C157","v":0},{"$f":"'Rozliczenie kwartalne'!D157","v":0},{"$f":"'Rozliczenie kwartalne'!E157","v":0},{"$f":"'Rozliczenie kwartalne'!F157","v":0},{"$f":"'Rozliczenie kwartalne'!G157","v":0},{"$f":"'Rozliczenie kwartalne'!H157","v":0},{"$f":"'Rozliczenie kwartalne'!I157","v":0},{"$f":"'Rozliczenie kwartalne'!J157","v":0},{"$f":"'Rozliczenie kwartalne'!K157","v":0},{"$f":"'Rozliczenie kwartalne'!L157","v":0},{"$f":"'Rozliczenie kwartalne'!M157","v":0},{"$f":"'Rozliczenie kwartalne'!N157","v":0},{"$f":"'Załącznik nr 1 do rozliczenia'!D154","v":0},{"$f":"'Załącznik nr 1 do rozliczenia'!F154","v":0},{"$f":"'Załącznik nr 1 do rozliczenia'!H154","v":0},{"$f":"'Załącznik nr 2 do rozliczenia'!D150","v":0},{"$f":"'Załącznik nr 2 do rozliczenia'!E150","v":0},{"$f":"'Załącznik nr 2 do rozliczenia'!F150","v":""},{"$f":"'Załącznik nr 2 do rozliczenia'!H150","v":0}]
[{"$f":"'Rozliczenie kwartalne'!A158","v":"2"},{"$f":"'Rozliczenie kwartalne'!B158","v":""},{"$f":"'Rozliczenie kwartalne'!C158","v":0},{"$f":"'Rozliczenie kwartalne'!D158","v":0},{"$f":"'Rozliczenie kwartalne'!E158","v":0},{"$f":"'Rozliczenie kwartalne'!F158","v":0},{"$f":"'Rozliczenie kwartalne'!G158","v":0},{"$f":"'Rozliczenie kwartalne'!H158","v":0},{"$f":"'Rozliczenie kwartalne'!I158","v":0},{"$f":"'Rozliczenie kwartalne'!J158","v":0},{"$f":"'Rozliczenie kwartalne'!K158","v":0},{"$f":"'Rozliczenie kwartalne'!L158","v":0},{"$f":"'Rozliczenie kwartalne'!M158","v":0},{"$f":"'Rozliczenie kwartalne'!N158","v":0},{"$f":"'Załącznik nr 1 do rozliczenia'!D155","v":0},{"$f":"'Załącznik nr 1 do rozliczenia'!F155","v":0},{"$f":"'Załącznik nr 1 do rozliczenia'!H155","v":0},{"$f":"'Załącznik nr 2 do rozliczenia'!D151","v":0},{"$f":"'Załącznik nr 2 do rozliczenia'!E151","v":0},{"$f":"'Załącznik nr 2 do rozliczenia'!F151","v":""},{"$f":"'Załącznik nr 2 do rozliczenia'!H151","v":0}]
[{"$f":"'Rozliczenie kwartalne'!A159","v":"3"},{"$f":"'Rozliczenie kwartalne'!B159","v":""},{"$f":"'Rozliczenie kwartalne'!C159","v":0},{"$f":"'Rozliczenie kwartalne'!D159","v":0},{"$f":"'Rozliczenie kwartalne'!E159","v":0},{"$f":"'Rozliczenie kwartalne'!F159","v":0},{"$f":"'Rozliczenie kwartalne'!G159","v":0},{"$f":"'Rozliczenie kwartalne'!H159","v":0},{"$f":"'Rozliczenie kwartalne'!I159","v":0},{"$f":"'Rozliczenie kwartalne'!J159","v":0},{"$f":"'Rozliczenie kwartalne'!K159","v":0},{"$f":"'Rozliczenie kwartalne'!L159","v":0},{"$f":"'Rozliczenie kwartalne'!M159","v":0},{"$f":"'Rozliczenie kwartalne'!N159","v":0},{"$f":"'Załącznik nr 1 do rozliczenia'!D156","v":0},{"$f":"'Załącznik nr 1 do rozliczenia'!F156","v":0},{"$f":"'Załącznik nr 1 do rozliczenia'!H156","v":0},{"$f":"'Załącznik nr 2 do rozliczenia'!D152","v":0},{"$f":"'Załącznik nr 2 do rozliczenia'!E152","v":0},{"$f":"'Załącznik nr 2 do rozliczenia'!F152","v":""},{"$f":"'Załącznik nr 2 do rozliczenia'!H152","v":0}]
[{"$f":"'Rozliczenie kwartalne'!A160","v":"4"},{"$f":"'Rozliczenie kwartalne'!B160","v":""},{"$f":"'Rozliczenie kwartalne'!C160","v":0},{"$f":"'Rozliczenie kwartalne'!D160","v":0},{"$f":"'Rozliczenie kwartalne'!E160","v":0},{"$f":"'Rozliczenie kwartalne'!F160","v":0},{"$f":"'Rozliczenie kwartalne'!G160","v":0},{"$f":"'Rozliczenie kwartalne'!H160","v":0},{"$f":"'Rozliczenie kwartalne'!I160","v":0},{"$f":"'Rozliczenie kwartalne'!J160","v":0},{"$f":"'Rozliczenie kwartalne'!K160","v":0},{"$f":"'Rozliczenie kwartalne'!L160","v":0},{"$f":"'Rozliczenie kwartalne'!M160","v":0},{"$f":"'Rozliczenie kwartalne'!N160","v":0},{"$f":"'Załącznik nr 1 do rozliczenia'!D157","v":0},{"$f":"'Załącznik nr 1 do rozliczenia'!F157","v":0},{"$f":"'Załącznik nr 1 do rozliczenia'!H157","v":0},{"$f":"'Załącznik nr 2 do rozliczenia'!D153","v":0},{"$f":"'Załącznik nr 2 do rozliczenia'!E153","v":0},{"$f":"'Załącznik nr 2 do rozliczenia'!F153","v":""},{"$f":"'Załącznik nr 2 do rozliczenia'!H153","v":0}]
[{"$f":"'Rozliczenie kwartalne'!A161","v":"5"},{"$f":"'Rozliczenie kwartalne'!B161","v":""},{"$f":"'Rozliczenie kwartalne'!C161","v":0},{"$f":"'Rozliczenie kwartalne'!D161","v":0},{"$f":"'Rozliczenie kwartalne'!E161","v":0},{"$f":"'Rozliczenie kwartalne'!F161","v":0},{"$f":"'Rozliczenie kwartalne'!G161","v":0},{"$f":"'Rozliczenie kwartalne'!H161","v":0},{"$f":"'Rozliczenie kwartalne'!I161","v":0},{"$f":"'Rozliczenie kwartalne'!J161","v":0},{"$f":"'Rozliczenie kwartalne'!K161","v":0},{"$f":"'Rozliczenie kwartalne'!L161","v":0},{"$f":"'Rozliczenie kwartalne'!M161","v":0},{"$f":"'Rozliczenie kwartalne'!N161","v":0},{"$f":"'Załącznik nr 1 do rozliczenia'!D158","v":0},{"$f":"'Załącznik nr 1 do rozliczenia'!F158","v":0},{"$f":"'Załącznik nr 1 do rozliczenia'!H158","v":0},{"$f":"'Załącznik nr 2 do rozliczenia'!D154","v":0},{"$f":"'Załącznik nr 2 do rozliczenia'!E154","v":0},{"$f":"'Załącznik nr 2 do rozliczenia'!F154","v":""},{"$f":"'Załącznik nr 2 do rozliczenia'!H154","v":0}]
[{"$f":"'Rozliczenie kwartalne'!A162","v":"6"},{"$f":"'Rozliczenie kwartalne'!B162","v":""},{"$f":"'Rozliczenie kwartalne'!C162","v":0},{"$f":"'Rozliczenie kwartalne'!D162","v":0},{"$f":"'Rozliczenie kwartalne'!E162","v":0},{"$f":"'Rozliczenie kwartalne'!F162","v":0},{"$f":"'Rozliczenie kwartalne'!G162","v":0},{"$f":"'Rozliczenie kwartalne'!H162","v":0},{"$f":"'Rozliczenie kwartalne'!I162","v":0},{"$f":"'Rozliczenie kwartalne'!J162","v":0},{"$f":"'Rozliczenie kwartalne'!K162","v":0},{"$f":"'Rozliczenie kwartalne'!L162","v":0},{"$f":"'Rozliczenie kwartalne'!M162","v":0},{"$f":"'Rozliczenie kwartalne'!N162","v":0},{"$f":"'Załącznik nr 1 do rozliczenia'!D159","v":0},{"$f":"'Załącznik nr 1 do rozliczenia'!F159","v":0},{"$f":"'Załącznik nr 1 do rozliczenia'!H159","v":0},{"$f":"'Załącznik nr 2 do rozliczenia'!D155","v":0},{"$f":"'Załącznik nr 2 do rozliczenia'!E155","v":0},{"$f":"'Załącznik nr 2 do rozliczenia'!F155","v":""},{"$f":"'Załącznik nr 2 do rozliczenia'!H155","v":0}]
[{"$f":"'Rozliczenie kwartalne'!A163","v":"7"},{"$f":"'Rozliczenie kwartalne'!B163","v":""},{"$f":"'Rozliczenie kwartalne'!C163","v":0},{"$f":"'Rozliczenie kwartalne'!D163","v":0},{"$f":"'Rozliczenie kwartalne'!E163","v":0},{"$f":"'Rozliczenie kwartalne'!F163","v":0},{"$f":"'Rozliczenie kwartalne'!G163","v":0},{"$f":"'Rozliczenie kwartalne'!H163","v":0},{"$f":"'Rozliczenie kwartalne'!I163","v":0},{"$f":"'Rozliczenie kwartalne'!J163","v":0},{"$f":"'Rozliczenie kwartalne'!K163","v":0},{"$f":"'Rozliczenie kwartalne'!L163","v":0},{"$f":"'Rozliczenie kwartalne'!M163","v":0},{"$f":"'Rozliczenie kwartalne'!N163","v":0},{"$f":"'Załącznik nr 1 do rozliczenia'!D160","v":0},{"$f":"'Załącznik nr 1 do rozliczenia'!F160","v":0},{"$f":"'Załącznik nr 1 do rozliczenia'!H160","v":0},{"$f":"'Załącznik nr 2 do rozliczenia'!D156","v":0},{"$f":"'Załącznik nr 2 do rozliczenia'!E156","v":0},{"$f":"'Załącznik nr 2 do rozliczenia'!F156","v":""},{"$f":"'Załącznik nr 2 do rozliczenia'!H156","v":0}]
[{"$f":"'Rozliczenie kwartalne'!A164","v":"8"},{"$f":"'Rozliczenie kwartalne'!B164","v":""},{"$f":"'Rozliczenie kwartalne'!C164","v":0},{"$f":"'Rozliczenie kwartalne'!D164","v":0},{"$f":"'Rozliczenie kwartalne'!E164","v":0},{"$f":"'Rozliczenie kwartalne'!F164","v":0},{"$f":"'Rozliczenie kwartalne'!G164","v":0},{"$f":"'Rozliczenie kwartalne'!H164","v":0},{"$f":"'Rozliczenie kwartalne'!I164","v":0},{"$f":"'Rozliczenie kwartalne'!J164","v":0},{"$f":"'Rozliczenie kwartalne'!K164","v":0},{"$f":"'Rozliczenie kwartalne'!L164","v":0},{"$f":"'Rozliczenie kwartalne'!M164","v":0},{"$f":"'Rozliczenie kwartalne'!N164","v":0},{"$f":"'Załącznik nr 1 do rozliczenia'!D161","v":0},{"$f":"'Załącznik nr 1 do rozliczenia'!F161","v":0},{"$f":"'Załącznik nr 1 do rozliczenia'!H161","v":0},{"$f":"'Załącznik nr 2 do rozliczenia'!D157","v":0},{"$f":"'Załącznik nr 2 do rozliczenia'!E157","v":0},{"$f":"'Załącznik nr 2 do rozliczenia'!F157","v":""},{"$f":"'Załącznik nr 2 do rozliczenia'!H157","v":0}]
[{"$f":"'Rozliczenie kwartalne'!A165","v":"9"},{"$f":"'Rozliczenie kwartalne'!B165","v":""},{"$f":"'Rozliczenie kwartalne'!C165","v":0},{"$f":"'Rozliczenie kwartalne'!D165","v":0},{"$f":"'Rozliczenie kwartalne'!E165","v":0},{"$f":"'Rozliczenie kwartalne'!F165","v":0},{"$f":"'Rozliczenie kwartalne'!G165","v":0},{"$f":"'Rozliczenie kwartalne'!H165","v":0},{"$f":"'Rozliczenie kwartalne'!I165","v":0},{"$f":"'Rozliczenie kwartalne'!J165","v":0},{"$f":"'Rozliczenie kwartalne'!K165","v":0},{"$f":"'Rozliczenie kwartalne'!L165","v":0},{"$f":"'Rozliczenie kwartalne'!M165","v":0},{"$f":"'Rozliczenie kwartalne'!N165","v":0},{"$f":"'Załącznik nr 1 do rozliczenia'!D162","v":0},{"$f":"'Załącznik nr 1 do rozliczenia'!F162","v":0},{"$f":"'Załącznik nr 1 do rozliczenia'!H162","v":0},{"$f":"'Załącznik nr 2 do rozliczenia'!D158","v":0},{"$f":"'Załącznik nr 2 do rozliczenia'!E158","v":0},{"$f":"'Załącznik nr 2 do rozliczenia'!F158","v":""},{"$f":"'Załącznik nr 2 do rozliczenia'!H158","v":0}]
[{"$f":"'Rozliczenie kwartalne'!A166","v":"10"},{"$f":"'Rozliczenie kwartalne'!B166","v":""},{"$f":"'Rozliczenie kwartalne'!C166","v":0},{"$f":"'Rozliczenie kwartalne'!D166","v":0},{"$f":"'Rozliczenie kwartalne'!E166","v":0},{"$f":"'Rozliczenie kwartalne'!F166","v":0},{"$f":"'Rozliczenie kwartalne'!G166","v":0},{"$f":"'Rozliczenie kwartalne'!H166","v":0},{"$f":"'Rozliczenie kwartalne'!I166","v":0},{"$f":"'Rozliczenie kwartalne'!J166","v":0},{"$f":"'Rozliczenie kwartalne'!K166","v":0},{"$f":"'Rozliczenie kwartalne'!L166","v":0},{"$f":"'Rozliczenie kwartalne'!M166","v":0},{"$f":"'Rozliczenie kwartalne'!N166","v":0},{"$f":"'Załącznik nr 1 do rozliczenia'!D163","v":0},{"$f":"'Załącznik nr 1 do rozliczenia'!F163","v":0},{"$f":"'Załącznik nr 1 do rozliczenia'!H163","v":0},{"$f":"'Załącznik nr 2 do rozliczenia'!D159","v":0},{"$f":"'Załącznik nr 2 do rozliczenia'!E159","v":0},{"$f":"'Załącznik nr 2 do rozliczenia'!F159","v":""},{"$f":"'Załącznik nr 2 do rozliczenia'!H159","v":0}]
[{"$f":"'Rozliczenie kwartalne'!A167","v":"11"},{"$f":"'Rozliczenie kwartalne'!B167","v":""},{"$f":"'Rozliczenie kwartalne'!C167","v":0},{"$f":"'Rozliczenie kwartalne'!D167","v":0},{"$f":"'Rozliczenie kwartalne'!E167","v":0},{"$f":"'Rozliczenie kwartalne'!F167","v":0},{"$f":"'Rozliczenie kwartalne'!G167","v":0},{"$f":"'Rozliczenie kwartalne'!H167","v":0},{"$f":"'Rozliczenie kwartalne'!I167","v":0},{"$f":"'Rozliczenie kwartalne'!J167","v":0},{"$f":"'Rozliczenie kwartalne'!K167","v":0},{"$f":"'Rozliczenie kwartalne'!L167","v":0},{"$f":"'Rozliczenie kwartalne'!M167","v":0},{"$f":"'Rozliczenie kwartalne'!N167","v":0},{"$f":"'Załącznik nr 1 do rozliczenia'!D164","v":0},{"$f":"'Załącznik nr 1 do rozliczenia'!F164","v":0},{"$f":"'Załącznik nr 1 do rozliczenia'!H164","v":0},{"$f":"'Załącznik nr 2 do rozliczenia'!D160","v":0},{"$f":"'Załącznik nr 2 do rozliczenia'!E160","v":0},{"$f":"'Załącznik nr 2 do rozliczenia'!F160","v":""},{"$f":"'Załącznik nr 2 do rozliczenia'!H160","v":0}]
[{"$f":"'Rozliczenie kwartalne'!A168","v":"12"},{"$f":"'Rozliczenie kwartalne'!B168","v":""},{"$f":"'Rozliczenie kwartalne'!C168","v":0},{"$f":"'Rozliczenie kwartalne'!D168","v":0},{"$f":"'Rozliczenie kwartalne'!E168","v":0},{"$f":"'Rozliczenie kwartalne'!F168","v":0},{"$f":"'Rozliczenie kwartalne'!G168","v":0},{"$f":"'Rozliczenie kwartalne'!H168","v":0},{"$f":"'Rozliczenie kwartalne'!I168","v":0},{"$f":"'Rozliczenie kwartalne'!J168","v":0},{"$f":"'Rozliczenie kwartalne'!K168","v":0},{"$f":"'Rozliczenie kwartalne'!L168","v":0},{"$f":"'Rozliczenie kwartalne'!M168","v":0},{"$f":"'Rozliczenie kwartalne'!N168","v":0},{"$f":"'Załącznik nr 1 do rozliczenia'!D165","v":0},{"$f":"'Załącznik nr 1 do rozliczenia'!F165","v":0},{"$f":"'Załącznik nr 1 do rozliczenia'!H165","v":0},{"$f":"'Załącznik nr 2 do rozliczenia'!D161","v":0},{"$f":"'Załącznik nr 2 do rozliczenia'!E161","v":0},{"$f":"'Załącznik nr 2 do rozliczenia'!F161","v":""},{"$f":"'Załącznik nr 2 do rozliczenia'!H161","v":0}]
[{"$f":"'Rozliczenie kwartalne'!A169","v":"13"},{"$f":"'Rozliczenie kwartalne'!B169","v":""},{"$f":"'Rozliczenie kwartalne'!C169","v":0},{"$f":"'Rozliczenie kwartalne'!D169","v":0},{"$f":"'Rozliczenie kwartalne'!E169","v":0},{"$f":"'Rozliczenie kwartalne'!F169","v":0},{"$f":"'Rozliczenie kwartalne'!G169","v":0},{"$f":"'Rozliczenie kwartalne'!H169","v":0},{"$f":"'Rozliczenie kwartalne'!I169","v":0},{"$f":"'Rozliczenie kwartalne'!J169","v":0},{"$f":"'Rozliczenie kwartalne'!K169","v":0},{"$f":"'Rozliczenie kwartalne'!L169","v":0},{"$f":"'Rozliczenie kwartalne'!M169","v":0},{"$f":"'Rozliczenie kwartalne'!N169","v":0},{"$f":"'Załącznik nr 1 do rozliczenia'!D166","v":0},{"$f":"'Załącznik nr 1 do rozliczenia'!F166","v":0},{"$f":"'Załącznik nr 1 do rozliczenia'!H166","v":0},{"$f":"'Załącznik nr 2 do rozliczenia'!D162","v":0},{"$f":"'Załącznik nr 2 do rozliczenia'!E162","v":0},{"$f":"'Załącznik nr 2 do rozliczenia'!F162","v":""},{"$f":"'Załącznik nr 2 do rozliczenia'!H162","v":0}]
[{"$f":"'Rozliczenie kwartalne'!A170","v":"14"},{"$f":"'Rozliczenie kwartalne'!B170","v":""},{"$f":"'Rozliczenie kwartalne'!C170","v":0},{"$f":"'Rozliczenie kwartalne'!D170","v":0},{"$f":"'Rozliczenie kwartalne'!E170","v":0},{"$f":"'Rozliczenie kwartalne'!F170","v":0},{"$f":"'Rozliczenie kwartalne'!G170","v":0},{"$f":"'Rozliczenie kwartalne'!H170","v":0},{"$f":"'Rozliczenie kwartalne'!I170","v":0},{"$f":"'Rozliczenie kwartalne'!J170","v":0},{"$f":"'Rozliczenie kwartalne'!K170","v":0},{"$f":"'Rozliczenie kwartalne'!L170","v":0},{"$f":"'Rozliczenie kwartalne'!M170","v":0},{"$f":"'Rozliczenie kwartalne'!N170","v":0},{"$f":"'Załącznik nr 1 do rozliczenia'!D167","v":0},{"$f":"'Załącznik nr 1 do rozliczenia'!F167","v":0},{"$f":"'Załącznik nr 1 do rozliczenia'!H167","v":0},{"$f":"'Załącznik nr 2 do rozliczenia'!D163","v":0},{"$f":"'Załącznik nr 2 do rozliczenia'!E163","v":0},{"$f":"'Załącznik nr 2 do rozliczenia'!F163","v":""},{"$f":"'Załącznik nr 2 do rozliczenia'!H163","v":0}]
[{"$f":"'Rozliczenie kwartalne'!A171","v":"15"},{"$f":"'Rozliczenie kwartalne'!B171","v":""},{"$f":"'Rozliczenie kwartalne'!C171","v":0},{"$f":"'Rozliczenie kwartalne'!D171","v":0},{"$f":"'Rozliczenie kwartalne'!E171","v":0},{"$f":"'Rozliczenie kwartalne'!F171","v":0},{"$f":"'Rozliczenie kwartalne'!G171","v":0},{"$f":"'Rozliczenie kwartalne'!H171","v":0},{"$f":"'Rozliczenie kwartalne'!I171","v":0},{"$f":"'Rozliczenie kwartalne'!J171","v":0},{"$f":"'Rozliczenie kwartalne'!K171","v":0},{"$f":"'Rozliczenie kwartalne'!L171","v":0},{"$f":"'Rozliczenie kwartalne'!M171","v":0},{"$f":"'Rozliczenie kwartalne'!N171","v":0},{"$f":"'Załącznik nr 1 do rozliczenia'!D168","v":0},{"$f":"'Załącznik nr 1 do rozliczenia'!F168","v":0},{"$f":"'Załącznik nr 1 do rozliczenia'!H168","v":0},{"$f":"'Załącznik nr 2 do rozliczenia'!D164","v":0},{"$f":"'Załącznik nr 2 do rozliczenia'!E164","v":0},{"$f":"'Załącznik nr 2 do rozliczenia'!F164","v":""},{"$f":"'Załącznik nr 2 do rozliczenia'!H164","v":0}]
[{"$f":"'Rozliczenie kwartalne'!A172","v":"16"},{"$f":"'Rozliczenie kwartalne'!B172","v":""},{"$f":"'Rozliczenie kwartalne'!C172","v":0},{"$f":"'Rozliczenie kwartalne'!D172","v":0},{"$f":"'Rozliczenie kwartalne'!E172","v":0},{"$f":"'Rozliczenie kwartalne'!F172","v":0},{"$f":"'Rozliczenie kwartalne'!G172","v":0},{"$f":"'Rozliczenie kwartalne'!H172","v":0},{"$f":"'Rozliczenie kwartalne'!I172","v":0},{"$f":"'Rozliczenie kwartalne'!J172","v":0},{"$f":"'Rozliczenie kwartalne'!K172","v":0},{"$f":"'Rozliczenie kwartalne'!L172","v":0},{"$f":"'Rozliczenie kwartalne'!M172","v":0},{"$f":"'Rozliczenie kwartalne'!N172","v":0},{"$f":"'Załącznik nr 1 do rozliczenia'!D169","v":0},{"$f":"'Załącznik nr 1 do rozliczenia'!F169","v":0},{"$f":"'Załącznik nr 1 do rozliczenia'!H169","v":0},{"$f":"'Załącznik nr 2 do rozliczenia'!D165","v":0},{"$f":"'Załącznik nr 2 do rozliczenia'!E165","v":0},{"$f":"'Załącznik nr 2 do rozliczenia'!F165","v":""},{"$f":"'Załącznik nr 2 do rozliczenia'!H165","v":0}]
[{"$f":"'Rozliczenie kwartalne'!A173","v":"17"},{"$f":"'Rozliczenie kwartalne'!B173","v":""},{"$f":"'Rozliczenie kwartalne'!C173","v":0},{"$f":"'Rozliczenie kwartalne'!D173","v":0},{"$f":"'Rozliczenie kwartalne'!E173","v":0},{"$f":"'Rozliczenie kwartalne'!F173","v":0},{"$f":"'Rozliczenie kwartalne'!G173","v":0},{"$f":"'Rozliczenie kwartalne'!H173","v":0},{"$f":"'Rozliczenie kwartalne'!I173","v":0},{"$f":"'Rozliczenie kwartalne'!J173","v":0},{"$f":"'Rozliczenie kwartalne'!K173","v":0},{"$f":"'Rozliczenie kwartalne'!L173","v":0},{"$f":"'Rozliczenie kwartalne'!M173","v":0},{"$f":"'Rozliczenie kwartalne'!N173","v":0},{"$f":"'Załącznik nr 1 do rozliczenia'!D170","v":0},{"$f":"'Załącznik nr 1 do rozliczenia'!F170","v":0},{"$f":"'Załącznik nr 1 do rozliczenia'!H170","v":0},{"$f":"'Załącznik nr 2 do rozliczenia'!D166","v":0},{"$f":"'Załącznik nr 2 do rozliczenia'!E166","v":0},{"$f":"'Załącznik nr 2 do rozliczenia'!F166","v":""},{"$f":"'Załącznik nr 2 do rozliczenia'!H166","v":0}]
[{"$f":"'Rozliczenie kwartalne'!A174","v":"18"},{"$f":"'Rozliczenie kwartalne'!B174","v":""},{"$f":"'Rozliczenie kwartalne'!C174","v":0},{"$f":"'Rozliczenie kwartalne'!D174","v":0},{"$f":"'Rozliczenie kwartalne'!E174","v":0},{"$f":"'Rozliczenie kwartalne'!F174","v":0},{"$f":"'Rozliczenie kwartalne'!G174","v":0},{"$f":"'Rozliczenie kwartalne'!H174","v":0},{"$f":"'Rozliczenie kwartalne'!I174","v":0},{"$f":"'Rozliczenie kwartalne'!J174","v":0},{"$f":"'Rozliczenie kwartalne'!K174","v":0},{"$f":"'Rozliczenie kwartalne'!L174","v":0},{"$f":"'Rozliczenie kwartalne'!M174","v":0},{"$f":"'Rozliczenie kwartalne'!N174","v":0},{"$f":"'Załącznik nr 1 do rozliczenia'!D171","v":0},{"$f":"'Załącznik nr 1 do rozliczenia'!F171","v":0},{"$f":"'Załącznik nr 1 do rozliczenia'!H171","v":0},{"$f":"'Załącznik nr 2 do rozliczenia'!D167","v":0},{"$f":"'Załącznik nr 2 do rozliczenia'!E167","v":0},{"$f":"'Załącznik nr 2 do rozliczenia'!F167","v":""},{"$f":"'Załącznik nr 2 do rozliczenia'!H167","v":0}]
[{"$f":"'Rozliczenie kwartalne'!A175","v":"19"},{"$f":"'Rozliczenie kwartalne'!B175","v":""},{"$f":"'Rozliczenie kwartalne'!C175","v":0},{"$f":"'Rozliczenie kwartalne'!D175","v":0},{"$f":"'Rozliczenie kwartalne'!E175","v":0},{"$f":"'Rozliczenie kwartalne'!F175","v":0},{"$f":"'Rozliczenie kwartalne'!G175","v":0},{"$f":"'Rozliczenie kwartalne'!H175","v":0},{"$f":"'Rozliczenie kwartalne'!I175","v":0},{"$f":"'Rozliczenie kwartalne'!J175","v":0},{"$f":"'Rozliczenie kwartalne'!K175","v":0},{"$f":"'Rozliczenie kwartalne'!L175","v":0},{"$f":"'Rozliczenie kwartalne'!M175","v":0},{"$f":"'Rozliczenie kwartalne'!N175","v":0},{"$f":"'Załącznik nr 1 do rozliczenia'!D172","v":0},{"$f":"'Załącznik nr 1 do rozliczenia'!F172","v":0},{"$f":"'Załącznik nr 1 do rozliczenia'!H172","v":0},{"$f":"'Załącznik nr 2 do rozliczenia'!D168","v":0},{"$f":"'Załącznik nr 2 do rozliczenia'!E168","v":0},{"$f":"'Załącznik nr 2 do rozliczenia'!F168","v":""},{"$f":"'Załącznik nr 2 do rozliczenia'!H168","v":0}]
[{"$f":"'Rozliczenie kwartalne'!A176","v":"20"},{"$f":"'Rozliczenie kwartalne'!B176","v":""},{"$f":"'Rozliczenie kwartalne'!C176","v":0},{"$f":"'Rozliczenie kwartalne'!D176","v":0},{"$f":"'Rozliczenie kwartalne'!E176","v":0},{"$f":"'Rozliczenie kwartalne'!F176","v":0},{"$f":"'Rozliczenie kwartalne'!G176","v":0},{"$f":"'Rozliczenie kwartalne'!H176","v":0},{"$f":"'Rozliczenie kwartalne'!I176","v":0},{"$f":"'Rozliczenie kwartalne'!J176","v":0},{"$f":"'Rozliczenie kwartalne'!K176","v":0},{"$f":"'Rozliczenie kwartalne'!L176","v":0},{"$f":"'Rozliczenie kwartalne'!M176","v":0},{"$f":"'Rozliczenie kwartalne'!N176","v":0},{"$f":"'Załącznik nr 1 do rozliczenia'!D173","v":0},{"$f":"'Załącznik nr 1 do rozliczenia'!F173","v":0},{"$f":"'Załącznik nr 1 do rozliczenia'!H173","v":0},{"$f":"'Załącznik nr 2 do rozliczenia'!D169","v":0},{"$f":"'Załącznik nr 2 do rozliczenia'!E169","v":0},{"$f":"'Załącznik nr 2 do rozliczenia'!F169","v":""},{"$f":"'Załącznik nr 2 do rozliczenia'!H169","v":0}]
[{"$f":"'Rozliczenie kwartalne'!A177","v":"21"},{"$f":"'Rozliczenie kwartalne'!B177","v":""},{"$f":"'Rozliczenie kwartalne'!C177","v":0},{"$f":"'Rozliczenie kwartalne'!D177","v":0},{"$f":"'Rozliczenie kwartalne'!E177","v":0},{"$f":"'Rozliczenie kwartalne'!F177","v":0},{"$f":"'Rozliczenie kwartalne'!G177","v":0},{"$f":"'Rozliczenie kwartalne'!H177","v":0},{"$f":"'Rozliczenie kwartalne'!I177","v":0},{"$f":"'Rozliczenie kwartalne'!J177","v":0},{"$f":"'Rozliczenie kwartalne'!K177","v":0},{"$f":"'Rozliczenie kwartalne'!L177","v":0},{"$f":"'Rozliczenie kwartalne'!M177","v":0},{"$f":"'Rozliczenie kwartalne'!N177","v":0},{"$f":"'Załącznik nr 1 do rozliczenia'!D174","v":0},{"$f":"'Załącznik nr 1 do rozliczenia'!F174","v":0},{"$f":"'Załącznik nr 1 do rozliczenia'!H174","v":0},{"$f":"'Załącznik nr 2 do rozliczenia'!D170","v":0},{"$f":"'Załącznik nr 2 do rozliczenia'!E170","v":0},{"$f":"'Załącznik nr 2 do rozliczenia'!F170","v":""},{"$f":"'Załącznik nr 2 do rozliczenia'!H170","v":0}]
[{"$f":"'Rozliczenie kwartalne'!A178","v":"22"},{"$f":"'Rozliczenie kwartalne'!B178","v":""},{"$f":"'Rozliczenie kwartalne'!C178","v":0},{"$f":"'Rozliczenie kwartalne'!D178","v":0},{"$f":"'Rozliczenie kwartalne'!E178","v":0},{"$f":"'Rozliczenie kwartalne'!F178","v":0},{"$f":"'Rozliczenie kwartalne'!G178","v":0},{"$f":"'Rozliczenie kwartalne'!H178","v":0},{"$f":"'Rozliczenie kwartalne'!I178","v":0},{"$f":"'Rozliczenie kwartalne'!J178","v":0},{"$f":"'Rozliczenie kwartalne'!K178","v":0},{"$f":"'Rozliczenie kwartalne'!L178","v":0},{"$f":"'Rozliczenie kwartalne'!M178","v":0},{"$f":"'Rozliczenie kwartalne'!N178","v":0},{"$f":"'Załącznik nr 1 do rozliczenia'!D175","v":0},{"$f":"'Załącznik nr 1 do rozliczenia'!F175","v":0},{"$f":"'Załącznik nr 1 do rozliczenia'!H175","v":0},{"$f":"'Załącznik nr 2 do rozliczenia'!D171","v":0},{"$f":"'Załącznik nr 2 do rozliczenia'!E171","v":0},{"$f":"'Załącznik nr 2 do rozliczenia'!F171","v":""},{"$f":"'Załącznik nr 2 do rozliczenia'!H171","v":0}]
[{"$f":"'Rozliczenie kwartalne'!A179","v":"23"},{"$f":"'Rozliczenie kwartalne'!B179","v":""},{"$f":"'Rozliczenie kwartalne'!C179","v":0},{"$f":"'Rozliczenie kwartalne'!D179","v":0},{"$f":"'Rozliczenie kwartalne'!E179","v":0},{"$f":"'Rozliczenie kwartalne'!F179","v":0},{"$f":"'Rozliczenie kwartalne'!G179","v":0},{"$f":"'Rozliczenie kwartalne'!H179","v":0},{"$f":"'Rozliczenie kwartalne'!I179","v":0},{"$f":"'Rozliczenie kwartalne'!J179","v":0},{"$f":"'Rozliczenie kwartalne'!K179","v":0},{"$f":"'Rozliczenie kwartalne'!L179","v":0},{"$f":"'Rozliczenie kwartalne'!M179","v":0},{"$f":"'Rozliczenie kwartalne'!N179","v":0},{"$f":"'Załącznik nr 1 do rozliczenia'!D176","v":0},{"$f":"'Załącznik nr 1 do rozliczenia'!F176","v":0},{"$f":"'Załącznik nr 1 do rozliczenia'!H176","v":0},{"$f":"'Załącznik nr 2 do rozliczenia'!D172","v":0},{"$f":"'Załącznik nr 2 do rozliczenia'!E172","v":0},{"$f":"'Załącznik nr 2 do rozliczenia'!F172","v":""},{"$f":"'Załącznik nr 2 do rozliczenia'!H172","v":0}]
[{"$f":"'Rozliczenie kwartalne'!A180","v":"24"},{"$f":"'Rozliczenie kwartalne'!B180","v":""},{"$f":"'Rozliczenie kwartalne'!C180","v":0},{"$f":"'Rozliczenie kwartalne'!D180","v":0},{"$f":"'Rozliczenie kwartalne'!E180","v":0},{"$f":"'Rozliczenie kwartalne'!F180","v":0},{"$f":"'Rozliczenie kwartalne'!G180","v":0},{"$f":"'Rozliczenie kwartalne'!H180","v":0},{"$f":"'Rozliczenie kwartalne'!I180","v":0},{"$f":"'Rozliczenie kwartalne'!J180","v":0},{"$f":"'Rozliczenie kwartalne'!K180","v":0},{"$f":"'Rozliczenie kwartalne'!L180","v":0},{"$f":"'Rozliczenie kwartalne'!M180","v":0},{"$f":"'Rozliczenie kwartalne'!N180","v":0},{"$f":"'Załącznik nr 1 do rozliczenia'!D177","v":0},{"$f":"'Załącznik nr 1 do rozliczenia'!F177","v":0},{"$f":"'Załącznik nr 1 do rozliczenia'!H177","v":0},{"$f":"'Załącznik nr 2 do rozliczenia'!D173","v":0},{"$f":"'Załącznik nr 2 do rozliczenia'!E173","v":0},{"$f":"'Załącznik nr 2 do rozliczenia'!F173","v":""},{"$f":"'Załącznik nr 2 do rozliczenia'!H173","v":0}]
[{"$f":"'Rozliczenie kwartalne'!A181","v":"25"},{"$f":"'Rozliczenie kwartalne'!B181","v":""},{"$f":"'Rozliczenie kwartalne'!C181","v":0},{"$f":"'Rozliczenie kwartalne'!D181","v":0},{"$f":"'Rozliczenie kwartalne'!E181","v":0},{"$f":"'Rozliczenie kwartalne'!F181","v":0},{"$f":"'Rozliczenie kwartalne'!G181","v":0},{"$f":"'Rozliczenie kwartalne'!H181","v":0},{"$f":"'Rozliczenie kwartalne'!I181","v":0},{"$f":"'Rozliczenie kwartalne'!J181","v":0},{"$f":"'Rozliczenie kwartalne'!K181","v":0},{"$f":"'Rozliczenie kwartalne'!L181","v":0},{"$f":"'Rozliczenie kwartalne'!M181","v":0},{"$f":"'Rozliczenie kwartalne'!N181","v":0},{"$f":"'Załącznik nr 1 do rozliczenia'!D178","v":0},{"$f":"'Załącznik nr 1 do rozliczenia'!F178","v":0},{"$f":"'Załącznik nr 1 do rozliczenia'!H178","v":0},{"$f":"'Załącznik nr 2 do rozliczenia'!D174","v":0},{"$f":"'Załącznik nr 2 do rozliczenia'!E174","v":0},{"$f":"'Załącznik nr 2 do rozliczenia'!F174","v":""},{"$f":"'Załącznik nr 2 do rozliczenia'!H174","v":0}]
[{"$f":"'Rozliczenie kwartalne'!A182","v":"26"},{"$f":"'Rozliczenie kwartalne'!B182","v":""},{"$f":"'Rozliczenie kwartalne'!C182","v":0},{"$f":"'Rozliczenie kwartalne'!D182","v":0},{"$f":"'Rozliczenie kwartalne'!E182","v":0},{"$f":"'Rozliczenie kwartalne'!F182","v":0},{"$f":"'Rozliczenie kwartalne'!G182","v":0},{"$f":"'Rozliczenie kwartalne'!H182","v":0},{"$f":"'Rozliczenie kwartalne'!I182","v":0},{"$f":"'Rozliczenie kwartalne'!J182","v":0},{"$f":"'Rozliczenie kwartalne'!K182","v":0},{"$f":"'Rozliczenie kwartalne'!L182","v":0},{"$f":"'Rozliczenie kwartalne'!M182","v":0},{"$f":"'Rozliczenie kwartalne'!N182","v":0},{"$f":"'Załącznik nr 1 do rozliczenia'!D179","v":0},{"$f":"'Załącznik nr 1 do rozliczenia'!F179","v":0},{"$f":"'Załącznik nr 1 do rozliczenia'!H179","v":0},{"$f":"'Załącznik nr 2 do rozliczenia'!D175","v":0},{"$f":"'Załącznik nr 2 do rozliczenia'!E175","v":0},{"$f":"'Załącznik nr 2 do rozliczenia'!F175","v":""},{"$f":"'Załącznik nr 2 do rozliczenia'!H175","v":0}]
[{"$f":"'Rozliczenie kwartalne'!A183","v":"27"},{"$f":"'Rozliczenie kwartalne'!B183","v":""},{"$f":"'Rozliczenie kwartalne'!C183","v":0},{"$f":"'Rozliczenie kwartalne'!D183","v":0},{"$f":"'Rozliczenie kwartalne'!E183","v":0},{"$f":"'Rozliczenie kwartalne'!F183","v":0},{"$f":"'Rozliczenie kwartalne'!G183","v":0},{"$f":"'Rozliczenie kwartalne'!H183","v":0},{"$f":"'Rozliczenie kwartalne'!I183","v":0},{"$f":"'Rozliczenie kwartalne'!J183","v":0},{"$f":"'Rozliczenie kwartalne'!K183","v":0},{"$f":"'Rozliczenie kwartalne'!L183","v":0},{"$f":"'Rozliczenie kwartalne'!M183","v":0},{"$f":"'Rozliczenie kwartalne'!N183","v":0},{"$f":"'Załącznik nr 1 do rozliczenia'!D180","v":0},{"$f":"'Załącznik nr 1 do rozliczenia'!F180","v":0},{"$f":"'Załącznik nr 1 do rozliczenia'!H180","v":0},{"$f":"'Załącznik nr 2 do rozliczenia'!D176","v":0},{"$f":"'Załącznik nr 2 do rozliczenia'!E176","v":0},{"$f":"'Załącznik nr 2 do rozliczenia'!F176","v":""},{"$f":"'Załącznik nr 2 do rozliczenia'!H176","v":0}]
[{"$f":"'Rozliczenie kwartalne'!A184","v":"28"},{"$f":"'Rozliczenie kwartalne'!B184","v":""},{"$f":"'Rozliczenie kwartalne'!C184","v":0},{"$f":"'Rozliczenie kwartalne'!D184","v":0},{"$f":"'Rozliczenie kwartalne'!E184","v":0},{"$f":"'Rozliczenie kwartalne'!F184","v":0},{"$f":"'Rozliczenie kwartalne'!G184","v":0},{"$f":"'Rozliczenie kwartalne'!H184","v":0},{"$f":"'Rozliczenie kwartalne'!I184","v":0},{"$f":"'Rozliczenie kwartalne'!J184","v":0},{"$f":"'Rozliczenie kwartalne'!K184","v":0},{"$f":"'Rozliczenie kwartalne'!L184","v":0},{"$f":"'Rozliczenie kwartalne'!M184","v":0},{"$f":"'Rozliczenie kwartalne'!N184","v":0},{"$f":"'Załącznik nr 1 do rozliczenia'!D181","v":0},{"$f":"'Załącznik nr 1 do rozliczenia'!F181","v":0},{"$f":"'Załącznik nr 1 do rozliczenia'!H181","v":0},{"$f":"'Załącznik nr 2 do rozliczenia'!D177","v":0},{"$f":"'Załącznik nr 2 do rozliczenia'!E177","v":0},{"$f":"'Załącznik nr 2 do rozliczenia'!F177","v":""},{"$f":"'Załącznik nr 2 do rozliczenia'!H177","v":0}]
[{"$f":"'Rozliczenie kwartalne'!A185","v":"29"},{"$f":"'Rozliczenie kwartalne'!B185","v":""},{"$f":"'Rozliczenie kwartalne'!C185","v":0},{"$f":"'Rozliczenie kwartalne'!D185","v":0},{"$f":"'Rozliczenie kwartalne'!E185","v":0},{"$f":"'Rozliczenie kwartalne'!F185","v":0},{"$f":"'Rozliczenie kwartalne'!G185","v":0},{"$f":"'Rozliczenie kwartalne'!H185","v":0},{"$f":"'Rozliczenie kwartalne'!I185","v":0},{"$f":"'Rozliczenie kwartalne'!J185","v":0},{"$f":"'Rozliczenie kwartalne'!K185","v":0},{"$f":"'Rozliczenie kwartalne'!L185","v":0},{"$f":"'Rozliczenie kwartalne'!M185","v":0},{"$f":"'Rozliczenie kwartalne'!N185","v":0},{"$f":"'Załącznik nr 1 do rozliczenia'!D182","v":0},{"$f":"'Załącznik nr 1 do rozliczenia'!F182","v":0},{"$f":"'Załącznik nr 1 do rozliczenia'!H182","v":0},{"$f":"'Załącznik nr 2 do rozliczenia'!D178","v":0},{"$f":"'Załącznik nr 2 do rozliczenia'!E178","v":0},{"$f":"'Załącznik nr 2 do rozliczenia'!F178","v":""},{"$f":"'Załącznik nr 2 do rozliczenia'!H178","v":0}]
[{"$f":"'Rozliczenie kwartalne'!A186","v":"30"},{"$f":"'Rozliczenie kwartalne'!B186","v":""},{"$f":"'Rozliczenie kwartalne'!C186","v":0},{"$f":"'Rozliczenie kwartalne'!D186","v":0},{"$f":"'Rozliczenie kwartalne'!E186","v":0},{"$f":"'Rozliczenie kwartalne'!F186","v":0},{"$f":"'Rozliczenie kwartalne'!G186","v":0},{"$f":"'Rozliczenie kwartalne'!H186","v":0},{"$f":"'Rozliczenie kwartalne'!I186","v":0},{"$f":"'Rozliczenie kwartalne'!J186","v":0},{"$f":"'Rozliczenie kwartalne'!K186","v":0},{"$f":"'Rozliczenie kwartalne'!L186","v":0},{"$f":"'Rozliczenie kwartalne'!M186","v":0},{"$f":"'Rozliczenie kwartalne'!N186","v":0},{"$f":"'Załącznik nr 1 do rozliczenia'!D183","v":0},{"$f":"'Załącznik nr 1 do rozliczenia'!F183","v":0},{"$f":"'Załącznik nr 1 do rozliczenia'!H183","v":0},{"$f":"'Załącznik nr 2 do rozliczenia'!D179","v":0},{"$f":"'Załącznik nr 2 do rozliczenia'!E179","v":0},{"$f":"'Załącznik nr 2 do rozliczenia'!F179","v":""},{"$f":"'Załącznik nr 2 do rozliczenia'!H179","v":0}]
[{"$f":"'Rozliczenie kwartalne'!A187","v":"31"},{"$f":"'Rozliczenie kwartalne'!B187","v":""},{"$f":"'Rozliczenie kwartalne'!C187","v":0},{"$f":"'Rozliczenie kwartalne'!D187","v":0},{"$f":"'Rozliczenie kwartalne'!E187","v":0},{"$f":"'Rozliczenie kwartalne'!F187","v":0},{"$f":"'Rozliczenie kwartalne'!G187","v":0},{"$f":"'Rozliczenie kwartalne'!H187","v":0},{"$f":"'Rozliczenie kwartalne'!I187","v":0},{"$f":"'Rozliczenie kwartalne'!J187","v":0},{"$f":"'Rozliczenie kwartalne'!K187","v":0},{"$f":"'Rozliczenie kwartalne'!L187","v":0},{"$f":"'Rozliczenie kwartalne'!M187","v":0},{"$f":"'Rozliczenie kwartalne'!N187","v":0},{"$f":"'Załącznik nr 1 do rozliczenia'!D184","v":0},{"$f":"'Załącznik nr 1 do rozliczenia'!F184","v":0},{"$f":"'Załącznik nr 1 do rozliczenia'!H184","v":0},{"$f":"'Załącznik nr 2 do rozliczenia'!D180","v":0},{"$f":"'Załącznik nr 2 do rozliczenia'!E180","v":0},{"$f":"'Załącznik nr 2 do rozliczenia'!F180","v":""},{"$f":"'Załącznik nr 2 do rozliczenia'!H180","v":0}]
[{"$f":"'Rozliczenie kwartalne'!A188","v":"32"},{"$f":"'Rozliczenie kwartalne'!B188","v":""},{"$f":"'Rozliczenie kwartalne'!C188","v":0},{"$f":"'Rozliczenie kwartalne'!D188","v":0},{"$f":"'Rozliczenie kwartalne'!E188","v":0},{"$f":"'Rozliczenie kwartalne'!F188","v":0},{"$f":"'Rozliczenie kwartalne'!G188","v":0},{"$f":"'Rozliczenie kwartalne'!H188","v":0},{"$f":"'Rozliczenie kwartalne'!I188","v":0},{"$f":"'Rozliczenie kwartalne'!J188","v":0},{"$f":"'Rozliczenie kwartalne'!K188","v":0},{"$f":"'Rozliczenie kwartalne'!L188","v":0},{"$f":"'Rozliczenie kwartalne'!M188","v":0},{"$f":"'Rozliczenie kwartalne'!N188","v":0},{"$f":"'Załącznik nr 1 do rozliczenia'!D185","v":0},{"$f":"'Załącznik nr 1 do rozliczenia'!F185","v":0},{"$f":"'Załącznik nr 1 do rozliczenia'!H185","v":0},{"$f":"'Załącznik nr 2 do rozliczenia'!D181","v":0},{"$f":"'Załącznik nr 2 do rozliczenia'!E181","v":0},{"$f":"'Załącznik nr 2 do rozliczenia'!F181","v":""},{"$f":"'Załącznik nr 2 do rozliczenia'!H181","v":0}]
[{"$f":"'Rozliczenie kwartalne'!A189","v":"33"},{"$f":"'Rozliczenie kwartalne'!B189","v":""},{"$f":"'Rozliczenie kwartalne'!C189","v":0},{"$f":"'Rozliczenie kwartalne'!D189","v":0},{"$f":"'Rozliczenie kwartalne'!E189","v":0},{"$f":"'Rozliczenie kwartalne'!F189","v":0},{"$f":"'Rozliczenie kwartalne'!G189","v":0},{"$f":"'Rozliczenie kwartalne'!H189","v":0},{"$f":"'Rozliczenie kwartalne'!I189","v":0},{"$f":"'Rozliczenie kwartalne'!J189","v":0},{"$f":"'Rozliczenie kwartalne'!K189","v":0},{"$f":"'Rozliczenie kwartalne'!L189","v":0},{"$f":"'Rozliczenie kwartalne'!M189","v":0},{"$f":"'Rozliczenie kwartalne'!N189","v":0},{"$f":"'Załącznik nr 1 do rozliczenia'!D186","v":0},{"$f":"'Załącznik nr 1 do rozliczenia'!F186","v":0},{"$f":"'Załącznik nr 1 do rozliczenia'!H186","v":0},{"$f":"'Załącznik nr 2 do rozliczenia'!D182","v":0},{"$f":"'Załącznik nr 2 do rozliczenia'!E182","v":0},{"$f":"'Załącznik nr 2 do rozliczenia'!F182","v":""},{"$f":"'Załącznik nr 2 do rozliczenia'!H182","v":0}]
[{"$f":"'Rozliczenie kwartalne'!A190","v":"34"},{"$f":"'Rozliczenie kwartalne'!B190","v":""},{"$f":"'Rozliczenie kwartalne'!C190","v":0},{"$f":"'Rozliczenie kwartalne'!D190","v":0},{"$f":"'Rozliczenie kwartalne'!E190","v":0},{"$f":"'Rozliczenie kwartalne'!F190","v":0},{"$f":"'Rozliczenie kwartalne'!G190","v":0},{"$f":"'Rozliczenie kwartalne'!H190","v":0},{"$f":"'Rozliczenie kwartalne'!I190","v":0},{"$f":"'Rozliczenie kwartalne'!J190","v":0},{"$f":"'Rozliczenie kwartalne'!K190","v":0},{"$f":"'Rozliczenie kwartalne'!L190","v":0},{"$f":"'Rozliczenie kwartalne'!M190","v":0},{"$f":"'Rozliczenie kwartalne'!N190","v":0},{"$f":"'Załącznik nr 1 do rozliczenia'!D187","v":0},{"$f":"'Załącznik nr 1 do rozliczenia'!F187","v":0},{"$f":"'Załącznik nr 1 do rozliczenia'!H187","v":0},{"$f":"'Załącznik nr 2 do rozliczenia'!D183","v":0},{"$f":"'Załącznik nr 2 do rozliczenia'!E183","v":0},{"$f":"'Załącznik nr 2 do rozliczenia'!F183","v":""},{"$f":"'Załącznik nr 2 do rozliczenia'!H183","v":0}]
[{"$f":"'Rozliczenie kwartalne'!A191","v":"35"},{"$f":"'Rozliczenie kwartalne'!B191","v":""},{"$f":"'Rozliczenie kwartalne'!C191","v":0},{"$f":"'Rozliczenie kwartalne'!D191","v":0},{"$f":"'Rozliczenie kwartalne'!E191","v":0},{"$f":"'Rozliczenie kwartalne'!F191","v":0},{"$f":"'Rozliczenie kwartalne'!G191","v":0},{"$f":"'Rozliczenie kwartalne'!H191","v":0},{"$f":"'Rozliczenie kwartalne'!I191","v":0},{"$f":"'Rozliczenie kwartalne'!J191","v":0},{"$f":"'Rozliczenie kwartalne'!K191","v":0},{"$f":"'Rozliczenie kwartalne'!L191","v":0},{"$f":"'Rozliczenie kwartalne'!M191","v":0},{"$f":"'Rozliczenie kwartalne'!N191","v":0},{"$f":"'Załącznik nr 1 do rozliczenia'!D188","v":0},{"$f":"'Załącznik nr 1 do rozliczenia'!F188","v":0},{"$f":"'Załącznik nr 1 do rozliczenia'!H188","v":0},{"$f":"'Załącznik nr 2 do rozliczenia'!D184","v":0},{"$f":"'Załącznik nr 2 do rozliczenia'!E184","v":0},{"$f":"'Załącznik nr 2 do rozliczenia'!F184","v":""},{"$f":"'Załącznik nr 2 do rozliczenia'!H184","v":0}]
[{"$f":"'Rozliczenie kwartalne'!A192","v":"36"},{"$f":"'Rozliczenie kwartalne'!B192","v":""},{"$f":"'Rozliczenie kwartalne'!C192","v":0},{"$f":"'Rozliczenie kwartalne'!D192","v":0},{"$f":"'Rozliczenie kwartalne'!E192","v":0},{"$f":"'Rozliczenie kwartalne'!F192","v":0},{"$f":"'Rozliczenie kwartalne'!G192","v":0},{"$f":"'Rozliczenie kwartalne'!H192","v":0},{"$f":"'Rozliczenie kwartalne'!I192","v":0},{"$f":"'Rozliczenie kwartalne'!J192","v":0},{"$f":"'Rozliczenie kwartalne'!K192","v":0},{"$f":"'Rozliczenie kwartalne'!L192","v":0},{"$f":"'Rozliczenie kwartalne'!M192","v":0},{"$f":"'Rozliczenie kwartalne'!N192","v":0},{"$f":"'Załącznik nr 1 do rozliczenia'!D189","v":0},{"$f":"'Załącznik nr 1 do rozliczenia'!F189","v":0},{"$f":"'Załącznik nr 1 do rozliczenia'!H189","v":0},{"$f":"'Załącznik nr 2 do rozliczenia'!D185","v":0},{"$f":"'Załącznik nr 2 do rozliczenia'!E185","v":0},{"$f":"'Załącznik nr 2 do rozliczenia'!F185","v":""},{"$f":"'Załącznik nr 2 do rozliczenia'!H185","v":0}]
[{"$f":"'Rozliczenie kwartalne'!A193","v":"37"},{"$f":"'Rozliczenie kwartalne'!B193","v":""},{"$f":"'Rozliczenie kwartalne'!C193","v":0},{"$f":"'Rozliczenie kwartalne'!D193","v":0},{"$f":"'Rozliczenie kwartalne'!E193","v":0},{"$f":"'Rozliczenie kwartalne'!F193","v":0},{"$f":"'Rozliczenie kwartalne'!G193","v":0},{"$f":"'Rozliczenie kwartalne'!H193","v":0},{"$f":"'Rozliczenie kwartalne'!I193","v":0},{"$f":"'Rozliczenie kwartalne'!J193","v":0},{"$f":"'Rozliczenie kwartalne'!K193","v":0},{"$f":"'Rozliczenie kwartalne'!L193","v":0},{"$f":"'Rozliczenie kwartalne'!M193","v":0},{"$f":"'Rozliczenie kwartalne'!N193","v":0},{"$f":"'Załącznik nr 1 do rozliczenia'!D190","v":0},{"$f":"'Załącznik nr 1 do rozliczenia'!F190","v":0},{"$f":"'Załącznik nr 1 do rozliczenia'!H190","v":0},{"$f":"'Załącznik nr 2 do rozliczenia'!D186","v":0},{"$f":"'Załącznik nr 2 do rozliczenia'!E186","v":0},{"$f":"'Załącznik nr 2 do rozliczenia'!F186","v":""},{"$f":"'Załącznik nr 2 do rozliczenia'!H186","v":0}]
[{"$f":"'Rozliczenie kwartalne'!A194","v":"38"},{"$f":"'Rozliczenie kwartalne'!B194","v":""},{"$f":"'Rozliczenie kwartalne'!C194","v":0},{"$f":"'Rozliczenie kwartalne'!D194","v":0},{"$f":"'Rozliczenie kwartalne'!E194","v":0},{"$f":"'Rozliczenie kwartalne'!F194","v":0},{"$f":"'Rozliczenie kwartalne'!G194","v":0},{"$f":"'Rozliczenie kwartalne'!H194","v":0},{"$f":"'Rozliczenie kwartalne'!I194","v":0},{"$f":"'Rozliczenie kwartalne'!J194","v":0},{"$f":"'Rozliczenie kwartalne'!K194","v":0},{"$f":"'Rozliczenie kwartalne'!L194","v":0},{"$f":"'Rozliczenie kwartalne'!M194","v":0},{"$f":"'Rozliczenie kwartalne'!N194","v":0},{"$f":"'Załącznik nr 1 do rozliczenia'!D191","v":0},{"$f":"'Załącznik nr 1 do rozliczenia'!F191","v":0},{"$f":"'Załącznik nr 1 do rozliczenia'!H191","v":0},{"$f":"'Załącznik nr 2 do rozliczenia'!D187","v":0},{"$f":"'Załącznik nr 2 do rozliczenia'!E187","v":0},{"$f":"'Załącznik nr 2 do rozliczenia'!F187","v":""},{"$f":"'Załącznik nr 2 do rozliczenia'!H187","v":0}]
[{"$f":"'Rozliczenie kwartalne'!A195","v":"39"},{"$f":"'Rozliczenie kwartalne'!B195","v":""},{"$f":"'Rozliczenie kwartalne'!C195","v":0},{"$f":"'Rozliczenie kwartalne'!D195","v":0},{"$f":"'Rozliczenie kwartalne'!E195","v":0},{"$f":"'Rozliczenie kwartalne'!F195","v":0},{"$f":"'Rozliczenie kwartalne'!G195","v":0},{"$f":"'Rozliczenie kwartalne'!H195","v":0},{"$f":"'Rozliczenie kwartalne'!I195","v":0},{"$f":"'Rozliczenie kwartalne'!J195","v":0},{"$f":"'Rozliczenie kwartalne'!K195","v":0},{"$f":"'Rozliczenie kwartalne'!L195","v":0},{"$f":"'Rozliczenie kwartalne'!M195","v":0},{"$f":"'Rozliczenie kwartalne'!N195","v":0},{"$f":"'Załącznik nr 1 do rozliczenia'!D192","v":0},{"$f":"'Załącznik nr 1 do rozliczenia'!F192","v":0},{"$f":"'Załącznik nr 1 do rozliczenia'!H192","v":0},{"$f":"'Załącznik nr 2 do rozliczenia'!D188","v":0},{"$f":"'Załącznik nr 2 do rozliczenia'!E188","v":0},{"$f":"'Załącznik nr 2 do rozliczenia'!F188","v":""},{"$f":"'Załącznik nr 2 do rozliczenia'!H188","v":0}]
[{"$f":"'Rozliczenie kwartalne'!A196","v":"40"},{"$f":"'Rozliczenie kwartalne'!B196","v":""},{"$f":"'Rozliczenie kwartalne'!C196","v":0},{"$f":"'Rozliczenie kwartalne'!D196","v":0},{"$f":"'Rozliczenie kwartalne'!E196","v":0},{"$f":"'Rozliczenie kwartalne'!F196","v":0},{"$f":"'Rozliczenie kwartalne'!G196","v":0},{"$f":"'Rozliczenie kwartalne'!H196","v":0},{"$f":"'Rozliczenie kwartalne'!I196","v":0},{"$f":"'Rozliczenie kwartalne'!J196","v":0},{"$f":"'Rozliczenie kwartalne'!K196","v":0},{"$f":"'Rozliczenie kwartalne'!L196","v":0},{"$f":"'Rozliczenie kwartalne'!M196","v":0},{"$f":"'Rozliczenie kwartalne'!N196","v":0},{"$f":"'Załącznik nr 1 do rozliczenia'!D193","v":0},{"$f":"'Załącznik nr 1 do rozliczenia'!F193","v":0},{"$f":"'Załącznik nr 1 do rozliczenia'!H193","v":0},{"$f":"'Załącznik nr 2 do rozliczenia'!D189","v":0},{"$f":"'Załącznik nr 2 do rozliczenia'!E189","v":0},{"$f":"'Załącznik nr 2 do rozliczenia'!F189","v":""},{"$f":"'Załącznik nr 2 do rozliczenia'!H189","v":0}]
[{"$f":"'Rozliczenie kwartalne'!A197","v":"41"},{"$f":"'Rozliczenie kwartalne'!B197","v":""},{"$f":"'Rozliczenie kwartalne'!C197","v":0},{"$f":"'Rozliczenie kwartalne'!D197","v":0},{"$f":"'Rozliczenie kwartalne'!E197","v":0},{"$f":"'Rozliczenie kwartalne'!F197","v":0},{"$f":"'Rozliczenie kwartalne'!G197","v":0},{"$f":"'Rozliczenie kwartalne'!H197","v":0},{"$f":"'Rozliczenie kwartalne'!I197","v":0},{"$f":"'Rozliczenie kwartalne'!J197","v":0},{"$f":"'Rozliczenie kwartalne'!K197","v":0},{"$f":"'Rozliczenie kwartalne'!L197","v":0},{"$f":"'Rozliczenie kwartalne'!M197","v":0},{"$f":"'Rozliczenie kwartalne'!N197","v":0},{"$f":"'Załącznik nr 1 do rozliczenia'!D194","v":0},{"$f":"'Załącznik nr 1 do rozliczenia'!F194","v":0},{"$f":"'Załącznik nr 1 do rozliczenia'!H194","v":0},{"$f":"'Załącznik nr 2 do rozliczenia'!D190","v":0},{"$f":"'Załącznik nr 2 do rozliczenia'!E190","v":0},{"$f":"'Załącznik nr 2 do rozliczenia'!F190","v":""},{"$f":"'Załącznik nr 2 do rozliczenia'!H190","v":0}]
[{"$f":"'Rozliczenie kwartalne'!A198","v":"42"},{"$f":"'Rozliczenie kwartalne'!B198","v":""},{"$f":"'Rozliczenie kwartalne'!C198","v":0},{"$f":"'Rozliczenie kwartalne'!D198","v":0},{"$f":"'Rozliczenie kwartalne'!E198","v":0},{"$f":"'Rozliczenie kwartalne'!F198","v":0},{"$f":"'Rozliczenie kwartalne'!G198","v":0},{"$f":"'Rozliczenie kwartalne'!H198","v":0},{"$f":"'Rozliczenie kwartalne'!I198","v":0},{"$f":"'Rozliczenie kwartalne'!J198","v":0},{"$f":"'Rozliczenie kwartalne'!K198","v":0},{"$f":"'Rozliczenie kwartalne'!L198","v":0},{"$f":"'Rozliczenie kwartalne'!M198","v":0},{"$f":"'Rozliczenie kwartalne'!N198","v":0},{"$f":"'Załącznik nr 1 do rozliczenia'!D195","v":0},{"$f":"'Załącznik nr 1 do rozliczenia'!F195","v":0},{"$f":"'Załącznik nr 1 do rozliczenia'!H195","v":0},{"$f":"'Załącznik nr 2 do rozliczenia'!D191","v":0},{"$f":"'Załącznik nr 2 do rozliczenia'!E191","v":0},{"$f":"'Załącznik nr 2 do rozliczenia'!F191","v":""},{"$f":"'Załącznik nr 2 do rozliczenia'!H191","v":0}]
[{"$f":"'Rozliczenie kwartalne'!A199","v":"43"},{"$f":"'Rozliczenie kwartalne'!B199","v":""},{"$f":"'Rozliczenie kwartalne'!C199","v":0},{"$f":"'Rozliczenie kwartalne'!D199","v":0},{"$f":"'Rozliczenie kwartalne'!E199","v":0},{"$f":"'Rozliczenie kwartalne'!F199","v":0},{"$f":"'Rozliczenie kwartalne'!G199","v":0},{"$f":"'Rozliczenie kwartalne'!H199","v":0},{"$f":"'Rozliczenie kwartalne'!I199","v":0},{"$f":"'Rozliczenie kwartalne'!J199","v":0},{"$f":"'Rozliczenie kwartalne'!K199","v":0},{"$f":"'Rozliczenie kwartalne'!L199","v":0},{"$f":"'Rozliczenie kwartalne'!M199","v":0},{"$f":"'Rozliczenie kwartalne'!N199","v":0},{"$f":"'Załącznik nr 1 do rozliczenia'!D196","v":0},{"$f":"'Załącznik nr 1 do rozliczenia'!F196","v":0},{"$f":"'Załącznik nr 1 do rozliczenia'!H196","v":0},{"$f":"'Załącznik nr 2 do rozliczenia'!D192","v":0},{"$f":"'Załącznik nr 2 do rozliczenia'!E192","v":0},{"$f":"'Załącznik nr 2 do rozliczenia'!F192","v":""},{"$f":"'Załącznik nr 2 do rozliczenia'!H192","v":0}]
[{"$f":"'Rozliczenie kwartalne'!A200","v":"44"},{"$f":"'Rozliczenie kwartalne'!B200","v":""},{"$f":"'Rozliczenie kwartalne'!C200","v":0},{"$f":"'Rozliczenie kwartalne'!D200","v":0},{"$f":"'Rozliczenie kwartalne'!E200","v":0},{"$f":"'Rozliczenie kwartalne'!F200","v":0},{"$f":"'Rozliczenie kwartalne'!G200","v":0},{"$f":"'Rozliczenie kwartalne'!H200","v":0},{"$f":"'Rozliczenie kwartalne'!I200","v":0},{"$f":"'Rozliczenie kwartalne'!J200","v":0},{"$f":"'Rozliczenie kwartalne'!K200","v":0},{"$f":"'Rozliczenie kwartalne'!L200","v":0},{"$f":"'Rozliczenie kwartalne'!M200","v":0},{"$f":"'Rozliczenie kwartalne'!N200","v":0},{"$f":"'Załącznik nr 1 do rozliczenia'!D197","v":0},{"$f":"'Załącznik nr 1 do rozliczenia'!F197","v":0},{"$f":"'Załącznik nr 1 do rozliczenia'!H197","v":0},{"$f":"'Załącznik nr 2 do rozliczenia'!D193","v":0},{"$f":"'Załącznik nr 2 do rozliczenia'!E193","v":0},{"$f":"'Załącznik nr 2 do rozliczenia'!F193","v":""},{"$f":"'Załącznik nr 2 do rozliczenia'!H193","v":0}]
[{"$f":"'Rozliczenie kwartalne'!A201","v":"45"},{"$f":"'Rozliczenie kwartalne'!B201","v":""},{"$f":"'Rozliczenie kwartalne'!C201","v":0},{"$f":"'Rozliczenie kwartalne'!D201","v":0},{"$f":"'Rozliczenie kwartalne'!E201","v":0},{"$f":"'Rozliczenie kwartalne'!F201","v":0},{"$f":"'Rozliczenie kwartalne'!G201","v":0},{"$f":"'Rozliczenie kwartalne'!H201","v":0},{"$f":"'Rozliczenie kwartalne'!I201","v":0},{"$f":"'Rozliczenie kwartalne'!J201","v":0},{"$f":"'Rozliczenie kwartalne'!K201","v":0},{"$f":"'Rozliczenie kwartalne'!L201","v":0},{"$f":"'Rozliczenie kwartalne'!M201","v":0},{"$f":"'Rozliczenie kwartalne'!N201","v":0},{"$f":"'Załącznik nr 1 do rozliczenia'!D198","v":0},{"$f":"'Załącznik nr 1 do rozliczenia'!F198","v":0},{"$f":"'Załącznik nr 1 do rozliczenia'!H198","v":0},{"$f":"'Załącznik nr 2 do rozliczenia'!D194","v":0},{"$f":"'Załącznik nr 2 do rozliczenia'!E194","v":0},{"$f":"'Załącznik nr 2 do rozliczenia'!F194","v":""},{"$f":"'Załącznik nr 2 do rozliczenia'!H194","v":0}]
[{"$f":"'Rozliczenie kwartalne'!A202","v":"46"},{"$f":"'Rozliczenie kwartalne'!B202","v":""},{"$f":"'Rozliczenie kwartalne'!C202","v":0},{"$f":"'Rozliczenie kwartalne'!D202","v":0},{"$f":"'Rozliczenie kwartalne'!E202","v":0},{"$f":"'Rozliczenie kwartalne'!F202","v":0},{"$f":"'Rozliczenie kwartalne'!G202","v":0},{"$f":"'Rozliczenie kwartalne'!H202","v":0},{"$f":"'Rozliczenie kwartalne'!I202","v":0},{"$f":"'Rozliczenie kwartalne'!J202","v":0},{"$f":"'Rozliczenie kwartalne'!K202","v":0},{"$f":"'Rozliczenie kwartalne'!L202","v":0},{"$f":"'Rozliczenie kwartalne'!M202","v":0},{"$f":"'Rozliczenie kwartalne'!N202","v":0},{"$f":"'Załącznik nr 1 do rozliczenia'!D199","v":0},{"$f":"'Załącznik nr 1 do rozliczenia'!F199","v":0},{"$f":"'Załącznik nr 1 do rozliczenia'!H199","v":0},{"$f":"'Załącznik nr 2 do rozliczenia'!D195","v":0},{"$f":"'Załącznik nr 2 do rozliczenia'!E195","v":0},{"$f":"'Załącznik nr 2 do rozliczenia'!F195","v":""},{"$f":"'Załącznik nr 2 do rozliczenia'!H195","v":0}]
[{"$f":"'Rozliczenie kwartalne'!A203","v":"47"},{"$f":"'Rozliczenie kwartalne'!B203","v":""},{"$f":"'Rozliczenie kwartalne'!C203","v":0},{"$f":"'Rozliczenie kwartalne'!D203","v":0},{"$f":"'Rozliczenie kwartalne'!E203","v":0},{"$f":"'Rozliczenie kwartalne'!F203","v":0},{"$f":"'Rozliczenie kwartalne'!G203","v":0},{"$f":"'Rozliczenie kwartalne'!H203","v":0},{"$f":"'Rozliczenie kwartalne'!I203","v":0},{"$f":"'Rozliczenie kwartalne'!J203","v":0},{"$f":"'Rozliczenie kwartalne'!K203","v":0},{"$f":"'Rozliczenie kwartalne'!L203","v":0},{"$f":"'Rozliczenie kwartalne'!M203","v":0},{"$f":"'Rozliczenie kwartalne'!N203","v":0},{"$f":"'Załącznik nr 1 do rozliczenia'!D200","v":0},{"$f":"'Załącznik nr 1 do rozliczenia'!F200","v":0},{"$f":"'Załącznik nr 1 do rozliczenia'!H200","v":0},{"$f":"'Załącznik nr 2 do rozliczenia'!D196","v":0},{"$f":"'Załącznik nr 2 do rozliczenia'!E196","v":0},{"$f":"'Załącznik nr 2 do rozliczenia'!F196","v":""},{"$f":"'Załącznik nr 2 do rozliczenia'!H196","v":0}]
[{"$f":"'Rozliczenie kwartalne'!A204","v":"48"},{"$f":"'Rozliczenie kwartalne'!B204","v":""},{"$f":"'Rozliczenie kwartalne'!C204","v":0},{"$f":"'Rozliczenie kwartalne'!D204","v":0},{"$f":"'Rozliczenie kwartalne'!E204","v":0},{"$f":"'Rozliczenie kwartalne'!F204","v":0},{"$f":"'Rozliczenie kwartalne'!G204","v":0},{"$f":"'Rozliczenie kwartalne'!H204","v":0},{"$f":"'Rozliczenie kwartalne'!I204","v":0},{"$f":"'Rozliczenie kwartalne'!J204","v":0},{"$f":"'Rozliczenie kwartalne'!K204","v":0},{"$f":"'Rozliczenie kwartalne'!L204","v":0},{"$f":"'Rozliczenie kwartalne'!M204","v":0},{"$f":"'Rozliczenie kwartalne'!N204","v":0},{"$f":"'Załącznik nr 1 do rozliczenia'!D201","v":0},{"$f":"'Załącznik nr 1 do rozliczenia'!F201","v":0},{"$f":"'Załącznik nr 1 do rozliczenia'!H201","v":0},{"$f":"'Załącznik nr 2 do rozliczenia'!D197","v":0},{"$f":"'Załącznik nr 2 do rozliczenia'!E197","v":0},{"$f":"'Załącznik nr 2 do rozliczenia'!F197","v":""},{"$f":"'Załącznik nr 2 do rozliczenia'!H197","v":0}]
[{"$f":"'Rozliczenie kwartalne'!A205","v":"49"},{"$f":"'Rozliczenie kwartalne'!B205","v":""},{"$f":"'Rozliczenie kwartalne'!C205","v":0},{"$f":"'Rozliczenie kwartalne'!D205","v":0},{"$f":"'Rozliczenie kwartalne'!E205","v":0},{"$f":"'Rozliczenie kwartalne'!F205","v":0},{"$f":"'Rozliczenie kwartalne'!G205","v":0},{"$f":"'Rozliczenie kwartalne'!H205","v":0},{"$f":"'Rozliczenie kwartalne'!I205","v":0},{"$f":"'Rozliczenie kwartalne'!J205","v":0},{"$f":"'Rozliczenie kwartalne'!K205","v":0},{"$f":"'Rozliczenie kwartalne'!L205","v":0},{"$f":"'Rozliczenie kwartalne'!M205","v":0},{"$f":"'Rozliczenie kwartalne'!N205","v":0},{"$f":"'Załącznik nr 1 do rozliczenia'!D202","v":0},{"$f":"'Załącznik nr 1 do rozliczenia'!F202","v":0},{"$f":"'Załącznik nr 1 do rozliczenia'!H202","v":0},{"$f":"'Załącznik nr 2 do rozliczenia'!D198","v":0},{"$f":"'Załącznik nr 2 do rozliczenia'!E198","v":0},{"$f":"'Załącznik nr 2 do rozliczenia'!F198","v":""},{"$f":"'Załącznik nr 2 do rozliczenia'!H198","v":0}]
[{"$f":"'Rozliczenie kwartalne'!A206","v":"50"},{"$f":"'Rozliczenie kwartalne'!B206","v":""},{"$f":"'Rozliczenie kwartalne'!C206","v":0},{"$f":"'Rozliczenie kwartalne'!D206","v":0},{"$f":"'Rozliczenie kwartalne'!E206","v":0},{"$f":"'Rozliczenie kwartalne'!F206","v":0},{"$f":"'Rozliczenie kwartalne'!G206","v":0},{"$f":"'Rozliczenie kwartalne'!H206","v":0},{"$f":"'Rozliczenie kwartalne'!I206","v":0},{"$f":"'Rozliczenie kwartalne'!J206","v":0},{"$f":"'Rozliczenie kwartalne'!K206","v":0},{"$f":"'Rozliczenie kwartalne'!L206","v":0},{"$f":"'Rozliczenie kwartalne'!M206","v":0},{"$f":"'Rozliczenie kwartalne'!N206","v":0},{"$f":"'Załącznik nr 1 do rozliczenia'!D203","v":0},{"$f":"'Załącznik nr 1 do rozliczenia'!F203","v":0},{"$f":"'Załącznik nr 1 do rozliczenia'!H203","v":0},{"$f":"'Załącznik nr 2 do rozliczenia'!D199","v":0},{"$f":"'Załącznik nr 2 do rozliczenia'!E199","v":0},{"$f":"'Załącznik nr 2 do rozliczenia'!F199","v":""},{"$f":"'Załącznik nr 2 do rozliczenia'!H199","v":0}]
[{"$f":"'Rozliczenie kwartalne'!A207","v":"51"},{"$f":"'Rozliczenie kwartalne'!B207","v":""},{"$f":"'Rozliczenie kwartalne'!C207","v":0},{"$f":"'Rozliczenie kwartalne'!D207","v":0},{"$f":"'Rozliczenie kwartalne'!E207","v":0},{"$f":"'Rozliczenie kwartalne'!F207","v":0},{"$f":"'Rozliczenie kwartalne'!G207","v":0},{"$f":"'Rozliczenie kwartalne'!H207","v":0},{"$f":"'Rozliczenie kwartalne'!I207","v":0},{"$f":"'Rozliczenie kwartalne'!J207","v":0},{"$f":"'Rozliczenie kwartalne'!K207","v":0},{"$f":"'Rozliczenie kwartalne'!L207","v":0},{"$f":"'Rozliczenie kwartalne'!M207","v":0},{"$f":"'Rozliczenie kwartalne'!N207","v":0},{"$f":"'Załącznik nr 1 do rozliczenia'!D204","v":0},{"$f":"'Załącznik nr 1 do rozliczenia'!F204","v":0},{"$f":"'Załącznik nr 1 do rozliczenia'!H204","v":0},{"$f":"'Załącznik nr 2 do rozliczenia'!D200","v":0},{"$f":"'Załącznik nr 2 do rozliczenia'!E200","v":0},{"$f":"'Załącznik nr 2 do rozliczenia'!F200","v":""},{"$f":"'Załącznik nr 2 do rozliczenia'!H200","v":0}]
[{"$f":"'Rozliczenie kwartalne'!A208","v":"52"},{"$f":"'Rozliczenie kwartalne'!B208","v":""},{"$f":"'Rozliczenie kwartalne'!C208","v":0},{"$f":"'Rozliczenie kwartalne'!D208","v":0},{"$f":"'Rozliczenie kwartalne'!E208","v":0},{"$f":"'Rozliczenie kwartalne'!F208","v":0},{"$f":"'Rozliczenie kwartalne'!G208","v":0},{"$f":"'Rozliczenie kwartalne'!H208","v":0},{"$f":"'Rozliczenie kwartalne'!I208","v":0},{"$f":"'Rozliczenie kwartalne'!J208","v":0},{"$f":"'Rozliczenie kwartalne'!K208","v":0},{"$f":"'Rozliczenie kwartalne'!L208","v":0},{"$f":"'Rozliczenie kwartalne'!M208","v":0},{"$f":"'Rozliczenie kwartalne'!N208","v":0},{"$f":"'Załącznik nr 1 do rozliczenia'!D205","v":0},{"$f":"'Załącznik nr 1 do rozliczenia'!F205","v":0},{"$f":"'Załącznik nr 1 do rozliczenia'!H205","v":0},{"$f":"'Załącznik nr 2 do rozliczenia'!D201","v":0},{"$f":"'Załącznik nr 2 do rozliczenia'!E201","v":0},{"$f":"'Załącznik nr 2 do rozliczenia'!F201","v":""},{"$f":"'Załącznik nr 2 do rozliczenia'!H201","v":0}]
[{"$f":"'Rozliczenie kwartalne'!A209","v":"53"},{"$f":"'Rozliczenie kwartalne'!B209","v":""},{"$f":"'Rozliczenie kwartalne'!C209","v":0},{"$f":"'Rozliczenie kwartalne'!D209","v":0},{"$f":"'Rozliczenie kwartalne'!E209","v":0},{"$f":"'Rozliczenie kwartalne'!F209","v":0},{"$f":"'Rozliczenie kwartalne'!G209","v":0},{"$f":"'Rozliczenie kwartalne'!H209","v":0},{"$f":"'Rozliczenie kwartalne'!I209","v":0},{"$f":"'Rozliczenie kwartalne'!J209","v":0},{"$f":"'Rozliczenie kwartalne'!K209","v":0},{"$f":"'Rozliczenie kwartalne'!L209","v":0},{"$f":"'Rozliczenie kwartalne'!M209","v":0},{"$f":"'Rozliczenie kwartalne'!N209","v":0},{"$f":"'Załącznik nr 1 do rozliczenia'!D206","v":0},{"$f":"'Załącznik nr 1 do rozliczenia'!F206","v":0},{"$f":"'Załącznik nr 1 do rozliczenia'!H206","v":0},{"$f":"'Załącznik nr 2 do rozliczenia'!D202","v":0},{"$f":"'Załącznik nr 2 do rozliczenia'!E202","v":0},{"$f":"'Załącznik nr 2 do rozliczenia'!F202","v":""},{"$f":"'Załącznik nr 2 do rozliczenia'!H202","v":0}]
[{"$f":"'Rozliczenie kwartalne'!A210","v":"54"},{"$f":"'Rozliczenie kwartalne'!B210","v":""},{"$f":"'Rozliczenie kwartalne'!C210","v":0},{"$f":"'Rozliczenie kwartalne'!D210","v":0},{"$f":"'Rozliczenie kwartalne'!E210","v":0},{"$f":"'Rozliczenie kwartalne'!F210","v":0},{"$f":"'Rozliczenie kwartalne'!G210","v":0},{"$f":"'Rozliczenie kwartalne'!H210","v":0},{"$f":"'Rozliczenie kwartalne'!I210","v":0},{"$f":"'Rozliczenie kwartalne'!J210","v":0},{"$f":"'Rozliczenie kwartalne'!K210","v":0},{"$f":"'Rozliczenie kwartalne'!L210","v":0},{"$f":"'Rozliczenie kwartalne'!M210","v":0},{"$f":"'Rozliczenie kwartalne'!N210","v":0},{"$f":"'Załącznik nr 1 do rozliczenia'!D207","v":0},{"$f":"'Załącznik nr 1 do rozliczenia'!F207","v":0},{"$f":"'Załącznik nr 1 do rozliczenia'!H207","v":0},{"$f":"'Załącznik nr 2 do rozliczenia'!D203","v":0},{"$f":"'Załącznik nr 2 do rozliczenia'!E203","v":0},{"$f":"'Załącznik nr 2 do rozliczenia'!F203","v":""},{"$f":"'Załącznik nr 2 do rozliczenia'!H203","v":0}]
[{"$f":"'Rozliczenie kwartalne'!A211","v":"55"},{"$f":"'Rozliczenie kwartalne'!B211","v":""},{"$f":"'Rozliczenie kwartalne'!C211","v":0},{"$f":"'Rozliczenie kwartalne'!D211","v":0},{"$f":"'Rozliczenie kwartalne'!E211","v":0},{"$f":"'Rozliczenie kwartalne'!F211","v":0},{"$f":"'Rozliczenie kwartalne'!G211","v":0},{"$f":"'Rozliczenie kwartalne'!H211","v":0},{"$f":"'Rozliczenie kwartalne'!I211","v":0},{"$f":"'Rozliczenie kwartalne'!J211","v":0},{"$f":"'Rozliczenie kwartalne'!K211","v":0},{"$f":"'Rozliczenie kwartalne'!L211","v":0},{"$f":"'Rozliczenie kwartalne'!M211","v":0},{"$f":"'Rozliczenie kwartalne'!N211","v":0},{"$f":"'Załącznik nr 1 do rozliczenia'!D208","v":0},{"$f":"'Załącznik nr 1 do rozliczenia'!F208","v":0},{"$f":"'Załącznik nr 1 do rozliczenia'!H208","v":0},{"$f":"'Załącznik nr 2 do rozliczenia'!D204","v":0},{"$f":"'Załącznik nr 2 do rozliczenia'!E204","v":0},{"$f":"'Załącznik nr 2 do rozliczenia'!F204","v":""},{"$f":"'Załącznik nr 2 do rozliczenia'!H204","v":0}]
[{"$f":"'Rozliczenie kwartalne'!A212","v":"56"},{"$f":"'Rozliczenie kwartalne'!B212","v":""},{"$f":"'Rozliczenie kwartalne'!C212","v":0},{"$f":"'Rozliczenie kwartalne'!D212","v":0},{"$f":"'Rozliczenie kwartalne'!E212","v":0},{"$f":"'Rozliczenie kwartalne'!F212","v":0},{"$f":"'Rozliczenie kwartalne'!G212","v":0},{"$f":"'Rozliczenie kwartalne'!H212","v":0},{"$f":"'Rozliczenie kwartalne'!I212","v":0},{"$f":"'Rozliczenie kwartalne'!J212","v":0},{"$f":"'Rozliczenie kwartalne'!K212","v":0},{"$f":"'Rozliczenie kwartalne'!L212","v":0},{"$f":"'Rozliczenie kwartalne'!M212","v":0},{"$f":"'Rozliczenie kwartalne'!N212","v":0},{"$f":"'Załącznik nr 1 do rozliczenia'!D209","v":0},{"$f":"'Załącznik nr 1 do rozliczenia'!F209","v":0},{"$f":"'Załącznik nr 1 do rozliczenia'!H209","v":0},{"$f":"'Załącznik nr 2 do rozliczenia'!D205","v":0},{"$f":"'Załącznik nr 2 do rozliczenia'!E205","v":0},{"$f":"'Załącznik nr 2 do rozliczenia'!F205","v":""},{"$f":"'Załącznik nr 2 do rozliczenia'!H205","v":0}]
[{"$f":"'Rozliczenie kwartalne'!A213","v":"57"},{"$f":"'Rozliczenie kwartalne'!B213","v":""},{"$f":"'Rozliczenie kwartalne'!C213","v":0},{"$f":"'Rozliczenie kwartalne'!D213","v":0},{"$f":"'Rozliczenie kwartalne'!E213","v":0},{"$f":"'Rozliczenie kwartalne'!F213","v":0},{"$f":"'Rozliczenie kwartalne'!G213","v":0},{"$f":"'Rozliczenie kwartalne'!H213","v":0},{"$f":"'Rozliczenie kwartalne'!I213","v":0},{"$f":"'Rozliczenie kwartalne'!J213","v":0},{"$f":"'Rozliczenie kwartalne'!K213","v":0},{"$f":"'Rozliczenie kwartalne'!L213","v":0},{"$f":"'Rozliczenie kwartalne'!M213","v":0},{"$f":"'Rozliczenie kwartalne'!N213","v":0},{"$f":"'Załącznik nr 1 do rozliczenia'!D210","v":0},{"$f":"'Załącznik nr 1 do rozliczenia'!F210","v":0},{"$f":"'Załącznik nr 1 do rozliczenia'!H210","v":0},{"$f":"'Załącznik nr 2 do rozliczenia'!D206","v":0},{"$f":"'Załącznik nr 2 do rozliczenia'!E206","v":0},{"$f":"'Załącznik nr 2 do rozliczenia'!F206","v":""},{"$f":"'Załącznik nr 2 do rozliczenia'!H206","v":0}]
[{"$f":"'Rozliczenie kwartalne'!A214","v":"58"},{"$f":"'Rozliczenie kwartalne'!B214","v":""},{"$f":"'Rozliczenie kwartalne'!C214","v":0},{"$f":"'Rozliczenie kwartalne'!D214","v":0},{"$f":"'Rozliczenie kwartalne'!E214","v":0},{"$f":"'Rozliczenie kwartalne'!F214","v":0},{"$f":"'Rozliczenie kwartalne'!G214","v":0},{"$f":"'Rozliczenie kwartalne'!H214","v":0},{"$f":"'Rozliczenie kwartalne'!I214","v":0},{"$f":"'Rozliczenie kwartalne'!J214","v":0},{"$f":"'Rozliczenie kwartalne'!K214","v":0},{"$f":"'Rozliczenie kwartalne'!L214","v":0},{"$f":"'Rozliczenie kwartalne'!M214","v":0},{"$f":"'Rozliczenie kwartalne'!N214","v":0},{"$f":"'Załącznik nr 1 do rozliczenia'!D211","v":0},{"$f":"'Załącznik nr 1 do rozliczenia'!F211","v":0},{"$f":"'Załącznik nr 1 do rozliczenia'!H211","v":0},{"$f":"'Załącznik nr 2 do rozliczenia'!D207","v":0},{"$f":"'Załącznik nr 2 do rozliczenia'!E207","v":0},{"$f":"'Załącznik nr 2 do rozliczenia'!F207","v":""},{"$f":"'Załącznik nr 2 do rozliczenia'!H207","v":0}]
[{"$f":"'Rozliczenie kwartalne'!A215","v":"59"},{"$f":"'Rozliczenie kwartalne'!B215","v":""},{"$f":"'Rozliczenie kwartalne'!C215","v":0},{"$f":"'Rozliczenie kwartalne'!D215","v":0},{"$f":"'Rozliczenie kwartalne'!E215","v":0},{"$f":"'Rozliczenie kwartalne'!F215","v":0},{"$f":"'Rozliczenie kwartalne'!G215","v":0},{"$f":"'Rozliczenie kwartalne'!H215","v":0},{"$f":"'Rozliczenie kwartalne'!I215","v":0},{"$f":"'Rozliczenie kwartalne'!J215","v":0},{"$f":"'Rozliczenie kwartalne'!K215","v":0},{"$f":"'Rozliczenie kwartalne'!L215","v":0},{"$f":"'Rozliczenie kwartalne'!M215","v":0},{"$f":"'Rozliczenie kwartalne'!N215","v":0},{"$f":"'Załącznik nr 1 do rozliczenia'!D212","v":0},{"$f":"'Załącznik nr 1 do rozliczenia'!F212","v":0},{"$f":"'Załącznik nr 1 do rozliczenia'!H212","v":0},{"$f":"'Załącznik nr 2 do rozliczenia'!D208","v":0},{"$f":"'Załącznik nr 2 do rozliczenia'!E208","v":0},{"$f":"'Załącznik nr 2 do rozliczenia'!F208","v":""},{"$f":"'Załącznik nr 2 do rozliczenia'!H208","v":0}]
[{"$f":"'Rozliczenie kwartalne'!A216","v":"60"},{"$f":"'Rozliczenie kwartalne'!B216","v":""},{"$f":"'Rozliczenie kwartalne'!C216","v":0},{"$f":"'Rozliczenie kwartalne'!D216","v":0},{"$f":"'Rozliczenie kwartalne'!E216","v":0},{"$f":"'Rozliczenie kwartalne'!F216","v":0},{"$f":"'Rozliczenie kwartalne'!G216","v":0},{"$f":"'Rozliczenie kwartalne'!H216","v":0},{"$f":"'Rozliczenie kwartalne'!I216","v":0},{"$f":"'Rozliczenie kwartalne'!J216","v":0},{"$f":"'Rozliczenie kwartalne'!K216","v":0},{"$f":"'Rozliczenie kwartalne'!L216","v":0},{"$f":"'Rozliczenie kwartalne'!M216","v":0},{"$f":"'Rozliczenie kwartalne'!N216","v":0},{"$f":"'Załącznik nr 1 do rozliczenia'!D213","v":0},{"$f":"'Załącznik nr 1 do rozliczenia'!F213","v":0},{"$f":"'Załącznik nr 1 do rozliczenia'!H213","v":0},{"$f":"'Załącznik nr 2 do rozliczenia'!D209","v":0},{"$f":"'Załącznik nr 2 do rozliczenia'!E209","v":0},{"$f":"'Załącznik nr 2 do rozliczenia'!F209","v":""},{"$f":"'Załącznik nr 2 do rozliczenia'!H209","v":0}]
[{"$f":"'Rozliczenie kwartalne'!A217","v":"61"},{"$f":"'Rozliczenie kwartalne'!B217","v":""},{"$f":"'Rozliczenie kwartalne'!C217","v":0},{"$f":"'Rozliczenie kwartalne'!D217","v":0},{"$f":"'Rozliczenie kwartalne'!E217","v":0},{"$f":"'Rozliczenie kwartalne'!F217","v":0},{"$f":"'Rozliczenie kwartalne'!G217","v":0},{"$f":"'Rozliczenie kwartalne'!H217","v":0},{"$f":"'Rozliczenie kwartalne'!I217","v":0},{"$f":"'Rozliczenie kwartalne'!J217","v":0},{"$f":"'Rozliczenie kwartalne'!K217","v":0},{"$f":"'Rozliczenie kwartalne'!L217","v":0},{"$f":"'Rozliczenie kwartalne'!M217","v":0},{"$f":"'Rozliczenie kwartalne'!N217","v":0},{"$f":"'Załącznik nr 1 do rozliczenia'!D214","v":0},{"$f":"'Załącznik nr 1 do rozliczenia'!F214","v":0},{"$f":"'Załącznik nr 1 do rozliczenia'!H214","v":0},{"$f":"'Załącznik nr 2 do rozliczenia'!D210","v":0},{"$f":"'Załącznik nr 2 do rozliczenia'!E210","v":0},{"$f":"'Załącznik nr 2 do rozliczenia'!F210","v":""},{"$f":"'Załącznik nr 2 do rozliczenia'!H210","v":0}]
[{"$f":"'Rozliczenie kwartalne'!A218","v":"62"},{"$f":"'Rozliczenie kwartalne'!B218","v":""},{"$f":"'Rozliczenie kwartalne'!C218","v":0},{"$f":"'Rozliczenie kwartalne'!D218","v":0},{"$f":"'Rozliczenie kwartalne'!E218","v":0},{"$f":"'Rozliczenie kwartalne'!F218","v":0},{"$f":"'Rozliczenie kwartalne'!G218","v":0},{"$f":"'Rozliczenie kwartalne'!H218","v":0},{"$f":"'Rozliczenie kwartalne'!I218","v":0},{"$f":"'Rozliczenie kwartalne'!J218","v":0},{"$f":"'Rozliczenie kwartalne'!K218","v":0},{"$f":"'Rozliczenie kwartalne'!L218","v":0},{"$f":"'Rozliczenie kwartalne'!M218","v":0},{"$f":"'Rozliczenie kwartalne'!N218","v":0},{"$f":"'Załącznik nr 1 do rozliczenia'!D215","v":0},{"$f":"'Załącznik nr 1 do rozliczenia'!F215","v":0},{"$f":"'Załącznik nr 1 do rozliczenia'!H215","v":0},{"$f":"'Załącznik nr 2 do rozliczenia'!D211","v":0},{"$f":"'Załącznik nr 2 do rozliczenia'!E211","v":0},{"$f":"'Załącznik nr 2 do rozliczenia'!F211","v":""},{"$f":"'Załącznik nr 2 do rozliczenia'!H211","v":0}]
[{"$f":"'Rozliczenie kwartalne'!A219","v":"63"},{"$f":"'Rozliczenie kwartalne'!B219","v":""},{"$f":"'Rozliczenie kwartalne'!C219","v":0},{"$f":"'Rozliczenie kwartalne'!D219","v":0},{"$f":"'Rozliczenie kwartalne'!E219","v":0},{"$f":"'Rozliczenie kwartalne'!F219","v":0},{"$f":"'Rozliczenie kwartalne'!G219","v":0},{"$f":"'Rozliczenie kwartalne'!H219","v":0},{"$f":"'Rozliczenie kwartalne'!I219","v":0},{"$f":"'Rozliczenie kwartalne'!J219","v":0},{"$f":"'Rozliczenie kwartalne'!K219","v":0},{"$f":"'Rozliczenie kwartalne'!L219","v":0},{"$f":"'Rozliczenie kwartalne'!M219","v":0},{"$f":"'Rozliczenie kwartalne'!N219","v":0},{"$f":"'Załącznik nr 1 do rozliczenia'!D216","v":0},{"$f":"'Załącznik nr 1 do rozliczenia'!F216","v":0},{"$f":"'Załącznik nr 1 do rozliczenia'!H216","v":0},{"$f":"'Załącznik nr 2 do rozliczenia'!D212","v":0},{"$f":"'Załącznik nr 2 do rozliczenia'!E212","v":0},{"$f":"'Załącznik nr 2 do rozliczenia'!F212","v":""},{"$f":"'Załącznik nr 2 do rozliczenia'!H212","v":0}]
[{"$f":"'Rozliczenie kwartalne'!A220","v":"64"},{"$f":"'Rozliczenie kwartalne'!B220","v":""},{"$f":"'Rozliczenie kwartalne'!C220","v":0},{"$f":"'Rozliczenie kwartalne'!D220","v":0},{"$f":"'Rozliczenie kwartalne'!E220","v":0},{"$f":"'Rozliczenie kwartalne'!F220","v":0},{"$f":"'Rozliczenie kwartalne'!G220","v":0},{"$f":"'Rozliczenie kwartalne'!H220","v":0},{"$f":"'Rozliczenie kwartalne'!I220","v":0},{"$f":"'Rozliczenie kwartalne'!J220","v":0},{"$f":"'Rozliczenie kwartalne'!K220","v":0},{"$f":"'Rozliczenie kwartalne'!L220","v":0},{"$f":"'Rozliczenie kwartalne'!M220","v":0},{"$f":"'Rozliczenie kwartalne'!N220","v":0},{"$f":"'Załącznik nr 1 do rozliczenia'!D217","v":0},{"$f":"'Załącznik nr 1 do rozliczenia'!F217","v":0},{"$f":"'Załącznik nr 1 do rozliczenia'!H217","v":0},{"$f":"'Załącznik nr 2 do rozliczenia'!D213","v":0},{"$f":"'Załącznik nr 2 do rozliczenia'!E213","v":0},{"$f":"'Załącznik nr 2 do rozliczenia'!F213","v":""},{"$f":"'Załącznik nr 2 do rozliczenia'!H213","v":0}]
[{"$f":"'Rozliczenie kwartalne'!A221","v":"65"},{"$f":"'Rozliczenie kwartalne'!B221","v":""},{"$f":"'Rozliczenie kwartalne'!C221","v":0},{"$f":"'Rozliczenie kwartalne'!D221","v":0},{"$f":"'Rozliczenie kwartalne'!E221","v":0},{"$f":"'Rozliczenie kwartalne'!F221","v":0},{"$f":"'Rozliczenie kwartalne'!G221","v":0},{"$f":"'Rozliczenie kwartalne'!H221","v":0},{"$f":"'Rozliczenie kwartalne'!I221","v":0},{"$f":"'Rozliczenie kwartalne'!J221","v":0},{"$f":"'Rozliczenie kwartalne'!K221","v":0},{"$f":"'Rozliczenie kwartalne'!L221","v":0},{"$f":"'Rozliczenie kwartalne'!M221","v":0},{"$f":"'Rozliczenie kwartalne'!N221","v":0},{"$f":"'Załącznik nr 1 do rozliczenia'!D218","v":0},{"$f":"'Załącznik nr 1 do rozliczenia'!F218","v":0},{"$f":"'Załącznik nr 1 do rozliczenia'!H218","v":0},{"$f":"'Załącznik nr 2 do rozliczenia'!D214","v":0},{"$f":"'Załącznik nr 2 do rozliczenia'!E214","v":0},{"$f":"'Załącznik nr 2 do rozliczenia'!F214","v":""},{"$f":"'Załącznik nr 2 do rozliczenia'!H214","v":0}]
[{"$f":"'Rozliczenie kwartalne'!A222","v":"66"},{"$f":"'Rozliczenie kwartalne'!B222","v":""},{"$f":"'Rozliczenie kwartalne'!C222","v":0},{"$f":"'Rozliczenie kwartalne'!D222","v":0},{"$f":"'Rozliczenie kwartalne'!E222","v":0},{"$f":"'Rozliczenie kwartalne'!F222","v":0},{"$f":"'Rozliczenie kwartalne'!G222","v":0},{"$f":"'Rozliczenie kwartalne'!H222","v":0},{"$f":"'Rozliczenie kwartalne'!I222","v":0},{"$f":"'Rozliczenie kwartalne'!J222","v":0},{"$f":"'Rozliczenie kwartalne'!K222","v":0},{"$f":"'Rozliczenie kwartalne'!L222","v":0},{"$f":"'Rozliczenie kwartalne'!M222","v":0},{"$f":"'Rozliczenie kwartalne'!N222","v":0},{"$f":"'Załącznik nr 1 do rozliczenia'!D219","v":0},{"$f":"'Załącznik nr 1 do rozliczenia'!F219","v":0},{"$f":"'Załącznik nr 1 do rozliczenia'!H219","v":0},{"$f":"'Załącznik nr 2 do rozliczenia'!D215","v":0},{"$f":"'Załącznik nr 2 do rozliczenia'!E215","v":0},{"$f":"'Załącznik nr 2 do rozliczenia'!F215","v":""},{"$f":"'Załącznik nr 2 do rozliczenia'!H215","v":0}]
[{"$f":"'Rozliczenie kwartalne'!A223","v":"67"},{"$f":"'Rozliczenie kwartalne'!B223","v":""},{"$f":"'Rozliczenie kwartalne'!C223","v":0},{"$f":"'Rozliczenie kwartalne'!D223","v":0},{"$f":"'Rozliczenie kwartalne'!E223","v":0},{"$f":"'Rozliczenie kwartalne'!F223","v":0},{"$f":"'Rozliczenie kwartalne'!G223","v":0},{"$f":"'Rozliczenie kwartalne'!H223","v":0},{"$f":"'Rozliczenie kwartalne'!I223","v":0},{"$f":"'Rozliczenie kwartalne'!J223","v":0},{"$f":"'Rozliczenie kwartalne'!K223","v":0},{"$f":"'Rozliczenie kwartalne'!L223","v":0},{"$f":"'Rozliczenie kwartalne'!M223","v":0},{"$f":"'Rozliczenie kwartalne'!N223","v":0},{"$f":"'Załącznik nr 1 do rozliczenia'!D220","v":0},{"$f":"'Załącznik nr 1 do rozliczenia'!F220","v":0},{"$f":"'Załącznik nr 1 do rozliczenia'!H220","v":0},{"$f":"'Załącznik nr 2 do rozliczenia'!D216","v":0},{"$f":"'Załącznik nr 2 do rozliczenia'!E216","v":0},{"$f":"'Załącznik nr 2 do rozliczenia'!F216","v":""},{"$f":"'Załącznik nr 2 do rozliczenia'!H216","v":0}]
[{"$f":"'Rozliczenie kwartalne'!A224","v":"68"},{"$f":"'Rozliczenie kwartalne'!B224","v":""},{"$f":"'Rozliczenie kwartalne'!C224","v":0},{"$f":"'Rozliczenie kwartalne'!D224","v":0},{"$f":"'Rozliczenie kwartalne'!E224","v":0},{"$f":"'Rozliczenie kwartalne'!F224","v":0},{"$f":"'Rozliczenie kwartalne'!G224","v":0},{"$f":"'Rozliczenie kwartalne'!H224","v":0},{"$f":"'Rozliczenie kwartalne'!I224","v":0},{"$f":"'Rozliczenie kwartalne'!J224","v":0},{"$f":"'Rozliczenie kwartalne'!K224","v":0},{"$f":"'Rozliczenie kwartalne'!L224","v":0},{"$f":"'Rozliczenie kwartalne'!M224","v":0},{"$f":"'Rozliczenie kwartalne'!N224","v":0},{"$f":"'Załącznik nr 1 do rozliczenia'!D221","v":0},{"$f":"'Załącznik nr 1 do rozliczenia'!F221","v":0},{"$f":"'Załącznik nr 1 do rozliczenia'!H221","v":0},{"$f":"'Załącznik nr 2 do rozliczenia'!D217","v":0},{"$f":"'Załącznik nr 2 do rozliczenia'!E217","v":0},{"$f":"'Załącznik nr 2 do rozliczenia'!F217","v":""},{"$f":"'Załącznik nr 2 do rozliczenia'!H217","v":0}]
[{"$f":"'Rozliczenie kwartalne'!A225","v":"69"},{"$f":"'Rozliczenie kwartalne'!B225","v":""},{"$f":"'Rozliczenie kwartalne'!C225","v":0},{"$f":"'Rozliczenie kwartalne'!D225","v":0},{"$f":"'Rozliczenie kwartalne'!E225","v":0},{"$f":"'Rozliczenie kwartalne'!F225","v":0},{"$f":"'Rozliczenie kwartalne'!G225","v":0},{"$f":"'Rozliczenie kwartalne'!H225","v":0},{"$f":"'Rozliczenie kwartalne'!I225","v":0},{"$f":"'Rozliczenie kwartalne'!J225","v":0},{"$f":"'Rozliczenie kwartalne'!K225","v":0},{"$f":"'Rozliczenie kwartalne'!L225","v":0},{"$f":"'Rozliczenie kwartalne'!M225","v":0},{"$f":"'Rozliczenie kwartalne'!N225","v":0},{"$f":"'Załącznik nr 1 do rozliczenia'!D222","v":0},{"$f":"'Załącznik nr 1 do rozliczenia'!F222","v":0},{"$f":"'Załącznik nr 1 do rozliczenia'!H222","v":0},{"$f":"'Załącznik nr 2 do rozliczenia'!D218","v":0},{"$f":"'Załącznik nr 2 do rozliczenia'!E218","v":0},{"$f":"'Załącznik nr 2 do rozliczenia'!F218","v":""},{"$f":"'Załącznik nr 2 do rozliczenia'!H218","v":0}]
[{"$f":"'Rozliczenie kwartalne'!A226","v":"70"},{"$f":"'Rozliczenie kwartalne'!B226","v":""},{"$f":"'Rozliczenie kwartalne'!C226","v":0},{"$f":"'Rozliczenie kwartalne'!D226","v":0},{"$f":"'Rozliczenie kwartalne'!E226","v":0},{"$f":"'Rozliczenie kwartalne'!F226","v":0},{"$f":"'Rozliczenie kwartalne'!G226","v":0},{"$f":"'Rozliczenie kwartalne'!H226","v":0},{"$f":"'Rozliczenie kwartalne'!I226","v":0},{"$f":"'Rozliczenie kwartalne'!J226","v":0},{"$f":"'Rozliczenie kwartalne'!K226","v":0},{"$f":"'Rozliczenie kwartalne'!L226","v":0},{"$f":"'Rozliczenie kwartalne'!M226","v":0},{"$f":"'Rozliczenie kwartalne'!N226","v":0},{"$f":"'Załącznik nr 1 do rozliczenia'!D223","v":0},{"$f":"'Załącznik nr 1 do rozliczenia'!F223","v":0},{"$f":"'Załącznik nr 1 do rozliczenia'!H223","v":0},{"$f":"'Załącznik nr 2 do rozliczenia'!D219","v":0},{"$f":"'Załącznik nr 2 do rozliczenia'!E219","v":0},{"$f":"'Załącznik nr 2 do rozliczenia'!F219","v":""},{"$f":"'Załącznik nr 2 do rozliczenia'!H219","v":0}]
[{"$f":"'Rozliczenie kwartalne'!A227","v":"71"},{"$f":"'Rozliczenie kwartalne'!B227","v":""},{"$f":"'Rozliczenie kwartalne'!C227","v":0},{"$f":"'Rozliczenie kwartalne'!D227","v":0},{"$f":"'Rozliczenie kwartalne'!E227","v":0},{"$f":"'Rozliczenie kwartalne'!F227","v":0},{"$f":"'Rozliczenie kwartalne'!G227","v":0},{"$f":"'Rozliczenie kwartalne'!H227","v":0},{"$f":"'Rozliczenie kwartalne'!I227","v":0},{"$f":"'Rozliczenie kwartalne'!J227","v":0},{"$f":"'Rozliczenie kwartalne'!K227","v":0},{"$f":"'Rozliczenie kwartalne'!L227","v":0},{"$f":"'Rozliczenie kwartalne'!M227","v":0},{"$f":"'Rozliczenie kwartalne'!N227","v":0},{"$f":"'Załącznik nr 1 do rozliczenia'!D224","v":0},{"$f":"'Załącznik nr 1 do rozliczenia'!F224","v":0},{"$f":"'Załącznik nr 1 do rozliczenia'!H224","v":0},{"$f":"'Załącznik nr 2 do rozliczenia'!D220","v":0},{"$f":"'Załącznik nr 2 do rozliczenia'!E220","v":0},{"$f":"'Załącznik nr 2 do rozliczenia'!F220","v":""},{"$f":"'Załącznik nr 2 do rozliczenia'!H220","v":0}]
[{"$f":"'Rozliczenie kwartalne'!A228","v":"72"},{"$f":"'Rozliczenie kwartalne'!B228","v":""},{"$f":"'Rozliczenie kwartalne'!C228","v":0},{"$f":"'Rozliczenie kwartalne'!D228","v":0},{"$f":"'Rozliczenie kwartalne'!E228","v":0},{"$f":"'Rozliczenie kwartalne'!F228","v":0},{"$f":"'Rozliczenie kwartalne'!G228","v":0},{"$f":"'Rozliczenie kwartalne'!H228","v":0},{"$f":"'Rozliczenie kwartalne'!I228","v":0},{"$f":"'Rozliczenie kwartalne'!J228","v":0},{"$f":"'Rozliczenie kwartalne'!K228","v":0},{"$f":"'Rozliczenie kwartalne'!L228","v":0},{"$f":"'Rozliczenie kwartalne'!M228","v":0},{"$f":"'Rozliczenie kwartalne'!N228","v":0},{"$f":"'Załącznik nr 1 do rozliczenia'!D225","v":0},{"$f":"'Załącznik nr 1 do rozliczenia'!F225","v":0},{"$f":"'Załącznik nr 1 do rozliczenia'!H225","v":0},{"$f":"'Załącznik nr 2 do rozliczenia'!D221","v":0},{"$f":"'Załącznik nr 2 do rozliczenia'!E221","v":0},{"$f":"'Załącznik nr 2 do rozliczenia'!F221","v":""},{"$f":"'Załącznik nr 2 do rozliczenia'!H221","v":0}]
[{"$f":"'Rozliczenie kwartalne'!A229","v":"73"},{"$f":"'Rozliczenie kwartalne'!B229","v":""},{"$f":"'Rozliczenie kwartalne'!C229","v":0},{"$f":"'Rozliczenie kwartalne'!D229","v":0},{"$f":"'Rozliczenie kwartalne'!E229","v":0},{"$f":"'Rozliczenie kwartalne'!F229","v":0},{"$f":"'Rozliczenie kwartalne'!G229","v":0},{"$f":"'Rozliczenie kwartalne'!H229","v":0},{"$f":"'Rozliczenie kwartalne'!I229","v":0},{"$f":"'Rozliczenie kwartalne'!J229","v":0},{"$f":"'Rozliczenie kwartalne'!K229","v":0},{"$f":"'Rozliczenie kwartalne'!L229","v":0},{"$f":"'Rozliczenie kwartalne'!M229","v":0},{"$f":"'Rozliczenie kwartalne'!N229","v":0},{"$f":"'Załącznik nr 1 do rozliczenia'!D226","v":0},{"$f":"'Załącznik nr 1 do rozliczenia'!F226","v":0},{"$f":"'Załącznik nr 1 do rozliczenia'!H226","v":0},{"$f":"'Załącznik nr 2 do rozliczenia'!D222","v":0},{"$f":"'Załącznik nr 2 do rozliczenia'!E222","v":0},{"$f":"'Załącznik nr 2 do rozliczenia'!F222","v":""},{"$f":"'Załącznik nr 2 do rozliczenia'!H222","v":0}]
[{"$f":"'Rozliczenie kwartalne'!A230","v":"74"},{"$f":"'Rozliczenie kwartalne'!B230","v":""},{"$f":"'Rozliczenie kwartalne'!C230","v":0},{"$f":"'Rozliczenie kwartalne'!D230","v":0},{"$f":"'Rozliczenie kwartalne'!E230","v":0},{"$f":"'Rozliczenie kwartalne'!F230","v":0},{"$f":"'Rozliczenie kwartalne'!G230","v":0},{"$f":"'Rozliczenie kwartalne'!H230","v":0},{"$f":"'Rozliczenie kwartalne'!I230","v":0},{"$f":"'Rozliczenie kwartalne'!J230","v":0},{"$f":"'Rozliczenie kwartalne'!K230","v":0},{"$f":"'Rozliczenie kwartalne'!L230","v":0},{"$f":"'Rozliczenie kwartalne'!M230","v":0},{"$f":"'Rozliczenie kwartalne'!N230","v":0},{"$f":"'Załącznik nr 1 do rozliczenia'!D227","v":0},{"$f":"'Załącznik nr 1 do rozliczenia'!F227","v":0},{"$f":"'Załącznik nr 1 do rozliczenia'!H227","v":0},{"$f":"'Załącznik nr 2 do rozliczenia'!D223","v":0},{"$f":"'Załącznik nr 2 do rozliczenia'!E223","v":0},{"$f":"'Załącznik nr 2 do rozliczenia'!F223","v":""},{"$f":"'Załącznik nr 2 do rozliczenia'!H223","v":0}]
[{"$f":"'Rozliczenie kwartalne'!A231","v":"75"},{"$f":"'Rozliczenie kwartalne'!B231","v":""},{"$f":"'Rozliczenie kwartalne'!C231","v":0},{"$f":"'Rozliczenie kwartalne'!D231","v":0},{"$f":"'Rozliczenie kwartalne'!E231","v":0},{"$f":"'Rozliczenie kwartalne'!F231","v":0},{"$f":"'Rozliczenie kwartalne'!G231","v":0},{"$f":"'Rozliczenie kwartalne'!H231","v":0},{"$f":"'Rozliczenie kwartalne'!I231","v":0},{"$f":"'Rozliczenie kwartalne'!J231","v":0},{"$f":"'Rozliczenie kwartalne'!K231","v":0},{"$f":"'Rozliczenie kwartalne'!L231","v":0},{"$f":"'Rozliczenie kwartalne'!M231","v":0},{"$f":"'Rozliczenie kwartalne'!N231","v":0},{"$f":"'Załącznik nr 1 do rozliczenia'!D228","v":0},{"$f":"'Załącznik nr 1 do rozliczenia'!F228","v":0},{"$f":"'Załącznik nr 1 do rozliczenia'!H228","v":0},{"$f":"'Załącznik nr 2 do rozliczenia'!D224","v":0},{"$f":"'Załącznik nr 2 do rozliczenia'!E224","v":0},{"$f":"'Załącznik nr 2 do rozliczenia'!F224","v":""},{"$f":"'Załącznik nr 2 do rozliczenia'!H224","v":0}]
[{"$f":"'Rozliczenie kwartalne'!A232","v":"76"},{"$f":"'Rozliczenie kwartalne'!B232","v":""},{"$f":"'Rozliczenie kwartalne'!C232","v":0},{"$f":"'Rozliczenie kwartalne'!D232","v":0},{"$f":"'Rozliczenie kwartalne'!E232","v":0},{"$f":"'Rozliczenie kwartalne'!F232","v":0},{"$f":"'Rozliczenie kwartalne'!G232","v":0},{"$f":"'Rozliczenie kwartalne'!H232","v":0},{"$f":"'Rozliczenie kwartalne'!I232","v":0},{"$f":"'Rozliczenie kwartalne'!J232","v":0},{"$f":"'Rozliczenie kwartalne'!K232","v":0},{"$f":"'Rozliczenie kwartalne'!L232","v":0},{"$f":"'Rozliczenie kwartalne'!M232","v":0},{"$f":"'Rozliczenie kwartalne'!N232","v":0},{"$f":"'Załącznik nr 1 do rozliczenia'!D229","v":0},{"$f":"'Załącznik nr 1 do rozliczenia'!F229","v":0},{"$f":"'Załącznik nr 1 do rozliczenia'!H229","v":0},{"$f":"'Załącznik nr 2 do rozliczenia'!D225","v":0},{"$f":"'Załącznik nr 2 do rozliczenia'!E225","v":0},{"$f":"'Załącznik nr 2 do rozliczenia'!F225","v":""},{"$f":"'Załącznik nr 2 do rozliczenia'!H225","v":0}]
[{"$f":"'Rozliczenie kwartalne'!A233","v":"77"},{"$f":"'Rozliczenie kwartalne'!B233","v":""},{"$f":"'Rozliczenie kwartalne'!C233","v":0},{"$f":"'Rozliczenie kwartalne'!D233","v":0},{"$f":"'Rozliczenie kwartalne'!E233","v":0},{"$f":"'Rozliczenie kwartalne'!F233","v":0},{"$f":"'Rozliczenie kwartalne'!G233","v":0},{"$f":"'Rozliczenie kwartalne'!H233","v":0},{"$f":"'Rozliczenie kwartalne'!I233","v":0},{"$f":"'Rozliczenie kwartalne'!J233","v":0},{"$f":"'Rozliczenie kwartalne'!K233","v":0},{"$f":"'Rozliczenie kwartalne'!L233","v":0},{"$f":"'Rozliczenie kwartalne'!M233","v":0},{"$f":"'Rozliczenie kwartalne'!N233","v":0},{"$f":"'Załącznik nr 1 do rozliczenia'!D230","v":0},{"$f":"'Załącznik nr 1 do rozliczenia'!F230","v":0},{"$f":"'Załącznik nr 1 do rozliczenia'!H230","v":0},{"$f":"'Załącznik nr 2 do rozliczenia'!D226","v":0},{"$f":"'Załącznik nr 2 do rozliczenia'!E226","v":0},{"$f":"'Załącznik nr 2 do rozliczenia'!F226","v":""},{"$f":"'Załącznik nr 2 do rozliczenia'!H226","v":0}]
[{"$f":"'Rozliczenie kwartalne'!A234","v":"78"},{"$f":"'Rozliczenie kwartalne'!B234","v":""},{"$f":"'Rozliczenie kwartalne'!C234","v":0},{"$f":"'Rozliczenie kwartalne'!D234","v":0},{"$f":"'Rozliczenie kwartalne'!E234","v":0},{"$f":"'Rozliczenie kwartalne'!F234","v":0},{"$f":"'Rozliczenie kwartalne'!G234","v":0},{"$f":"'Rozliczenie kwartalne'!H234","v":0},{"$f":"'Rozliczenie kwartalne'!I234","v":0},{"$f":"'Rozliczenie kwartalne'!J234","v":0},{"$f":"'Rozliczenie kwartalne'!K234","v":0},{"$f":"'Rozliczenie kwartalne'!L234","v":0},{"$f":"'Rozliczenie kwartalne'!M234","v":0},{"$f":"'Rozliczenie kwartalne'!N234","v":0},{"$f":"'Załącznik nr 1 do rozliczenia'!D231","v":0},{"$f":"'Załącznik nr 1 do rozliczenia'!F231","v":0},{"$f":"'Załącznik nr 1 do rozliczenia'!H231","v":0},{"$f":"'Załącznik nr 2 do rozliczenia'!D227","v":0},{"$f":"'Załącznik nr 2 do rozliczenia'!E227","v":0},{"$f":"'Załącznik nr 2 do rozliczenia'!F227","v":""},{"$f":"'Załącznik nr 2 do rozliczenia'!H227","v":0}]
[{"$f":"'Rozliczenie kwartalne'!A235","v":"79"},{"$f":"'Rozliczenie kwartalne'!B235","v":""},{"$f":"'Rozliczenie kwartalne'!C235","v":0},{"$f":"'Rozliczenie kwartalne'!D235","v":0},{"$f":"'Rozliczenie kwartalne'!E235","v":0},{"$f":"'Rozliczenie kwartalne'!F235","v":0},{"$f":"'Rozliczenie kwartalne'!G235","v":0},{"$f":"'Rozliczenie kwartalne'!H235","v":0},{"$f":"'Rozliczenie kwartalne'!I235","v":0},{"$f":"'Rozliczenie kwartalne'!J235","v":0},{"$f":"'Rozliczenie kwartalne'!K235","v":0},{"$f":"'Rozliczenie kwartalne'!L235","v":0},{"$f":"'Rozliczenie kwartalne'!M235","v":0},{"$f":"'Rozliczenie kwartalne'!N235","v":0},{"$f":"'Załącznik nr 1 do rozliczenia'!D232","v":0},{"$f":"'Załącznik nr 1 do rozliczenia'!F232","v":0},{"$f":"'Załącznik nr 1 do rozliczenia'!H232","v":0},{"$f":"'Załącznik nr 2 do rozliczenia'!D228","v":0},{"$f":"'Załącznik nr 2 do rozliczenia'!E228","v":0},{"$f":"'Załącznik nr 2 do rozliczenia'!F228","v":""},{"$f":"'Załącznik nr 2 do rozliczenia'!H228","v":0}]
[{"$f":"'Rozliczenie kwartalne'!A236","v":"80"},{"$f":"'Rozliczenie kwartalne'!B236","v":""},{"$f":"'Rozliczenie kwartalne'!C236","v":0},{"$f":"'Rozliczenie kwartalne'!D236","v":0},{"$f":"'Rozliczenie kwartalne'!E236","v":0},{"$f":"'Rozliczenie kwartalne'!F236","v":0},{"$f":"'Rozliczenie kwartalne'!G236","v":0},{"$f":"'Rozliczenie kwartalne'!H236","v":0},{"$f":"'Rozliczenie kwartalne'!I236","v":0},{"$f":"'Rozliczenie kwartalne'!J236","v":0},{"$f":"'Rozliczenie kwartalne'!K236","v":0},{"$f":"'Rozliczenie kwartalne'!L236","v":0},{"$f":"'Rozliczenie kwartalne'!M236","v":0},{"$f":"'Rozliczenie kwartalne'!N236","v":0},{"$f":"'Załącznik nr 1 do rozliczenia'!D233","v":0},{"$f":"'Załącznik nr 1 do rozliczenia'!F233","v":0},{"$f":"'Załącznik nr 1 do rozliczenia'!H233","v":0},{"$f":"'Załącznik nr 2 do rozliczenia'!D229","v":0},{"$f":"'Załącznik nr 2 do rozliczenia'!E229","v":0},{"$f":"'Załącznik nr 2 do rozliczenia'!F229","v":""},{"$f":"'Załącznik nr 2 do rozliczenia'!H229","v":0}]
[{"$f":"'Rozliczenie kwartalne'!A237","v":"81"},{"$f":"'Rozliczenie kwartalne'!B237","v":""},{"$f":"'Rozliczenie kwartalne'!C237","v":0},{"$f":"'Rozliczenie kwartalne'!D237","v":0},{"$f":"'Rozliczenie kwartalne'!E237","v":0},{"$f":"'Rozliczenie kwartalne'!F237","v":0},{"$f":"'Rozliczenie kwartalne'!G237","v":0},{"$f":"'Rozliczenie kwartalne'!H237","v":0},{"$f":"'Rozliczenie kwartalne'!I237","v":0},{"$f":"'Rozliczenie kwartalne'!J237","v":0},{"$f":"'Rozliczenie kwartalne'!K237","v":0},{"$f":"'Rozliczenie kwartalne'!L237","v":0},{"$f":"'Rozliczenie kwartalne'!M237","v":0},{"$f":"'Rozliczenie kwartalne'!N237","v":0},{"$f":"'Załącznik nr 1 do rozliczenia'!D234","v":0},{"$f":"'Załącznik nr 1 do rozliczenia'!F234","v":0},{"$f":"'Załącznik nr 1 do rozliczenia'!H234","v":0},{"$f":"'Załącznik nr 2 do rozliczenia'!D230","v":0},{"$f":"'Załącznik nr 2 do rozliczenia'!E230","v":0},{"$f":"'Załącznik nr 2 do rozliczenia'!F230","v":""},{"$f":"'Załącznik nr 2 do rozliczenia'!H230","v":0}]
[{"$f":"'Rozliczenie kwartalne'!A238","v":"82"},{"$f":"'Rozliczenie kwartalne'!B238","v":""},{"$f":"'Rozliczenie kwartalne'!C238","v":0},{"$f":"'Rozliczenie kwartalne'!D238","v":0},{"$f":"'Rozliczenie kwartalne'!E238","v":0},{"$f":"'Rozliczenie kwartalne'!F238","v":0},{"$f":"'Rozliczenie kwartalne'!G238","v":0},{"$f":"'Rozliczenie kwartalne'!H238","v":0},{"$f":"'Rozliczenie kwartalne'!I238","v":0},{"$f":"'Rozliczenie kwartalne'!J238","v":0},{"$f":"'Rozliczenie kwartalne'!K238","v":0},{"$f":"'Rozliczenie kwartalne'!L238","v":0},{"$f":"'Rozliczenie kwartalne'!M238","v":0},{"$f":"'Rozliczenie kwartalne'!N238","v":0},{"$f":"'Załącznik nr 1 do rozliczenia'!D235","v":0},{"$f":"'Załącznik nr 1 do rozliczenia'!F235","v":0},{"$f":"'Załącznik nr 1 do rozliczenia'!H235","v":0},{"$f":"'Załącznik nr 2 do rozliczenia'!D231","v":0},{"$f":"'Załącznik nr 2 do rozliczenia'!E231","v":0},{"$f":"'Załącznik nr 2 do rozliczenia'!F231","v":""},{"$f":"'Załącznik nr 2 do rozliczenia'!H231","v":0}]
[{"$f":"'Rozliczenie kwartalne'!A239","v":"83"},{"$f":"'Rozliczenie kwartalne'!B239","v":""},{"$f":"'Rozliczenie kwartalne'!C239","v":0},{"$f":"'Rozliczenie kwartalne'!D239","v":0},{"$f":"'Rozliczenie kwartalne'!E239","v":0},{"$f":"'Rozliczenie kwartalne'!F239","v":0},{"$f":"'Rozliczenie kwartalne'!G239","v":0},{"$f":"'Rozliczenie kwartalne'!H239","v":0},{"$f":"'Rozliczenie kwartalne'!I239","v":0},{"$f":"'Rozliczenie kwartalne'!J239","v":0},{"$f":"'Rozliczenie kwartalne'!K239","v":0},{"$f":"'Rozliczenie kwartalne'!L239","v":0},{"$f":"'Rozliczenie kwartalne'!M239","v":0},{"$f":"'Rozliczenie kwartalne'!N239","v":0},{"$f":"'Załącznik nr 1 do rozliczenia'!D236","v":0},{"$f":"'Załącznik nr 1 do rozliczenia'!F236","v":0},{"$f":"'Załącznik nr 1 do rozliczenia'!H236","v":0},{"$f":"'Załącznik nr 2 do rozliczenia'!D232","v":0},{"$f":"'Załącznik nr 2 do rozliczenia'!E232","v":0},{"$f":"'Załącznik nr 2 do rozliczenia'!F232","v":""},{"$f":"'Załącznik nr 2 do rozliczenia'!H232","v":0}]
[{"$f":"'Rozliczenie kwartalne'!A240","v":"84"},{"$f":"'Rozliczenie kwartalne'!B240","v":""},{"$f":"'Rozliczenie kwartalne'!C240","v":0},{"$f":"'Rozliczenie kwartalne'!D240","v":0},{"$f":"'Rozliczenie kwartalne'!E240","v":0},{"$f":"'Rozliczenie kwartalne'!F240","v":0},{"$f":"'Rozliczenie kwartalne'!G240","v":0},{"$f":"'Rozliczenie kwartalne'!H240","v":0},{"$f":"'Rozliczenie kwartalne'!I240","v":0},{"$f":"'Rozliczenie kwartalne'!J240","v":0},{"$f":"'Rozliczenie kwartalne'!K240","v":0},{"$f":"'Rozliczenie kwartalne'!L240","v":0},{"$f":"'Rozliczenie kwartalne'!M240","v":0},{"$f":"'Rozliczenie kwartalne'!N240","v":0},{"$f":"'Załącznik nr 1 do rozliczenia'!D237","v":0},{"$f":"'Załącznik nr 1 do rozliczenia'!F237","v":0},{"$f":"'Załącznik nr 1 do rozliczenia'!H237","v":0},{"$f":"'Załącznik nr 2 do rozliczenia'!D233","v":0},{"$f":"'Załącznik nr 2 do rozliczenia'!E233","v":0},{"$f":"'Załącznik nr 2 do rozliczenia'!F233","v":""},{"$f":"'Załącznik nr 2 do rozliczenia'!H233","v":0}]
[{"$f":"'Rozliczenie kwartalne'!A241","v":"85"},{"$f":"'Rozliczenie kwartalne'!B241","v":""},{"$f":"'Rozliczenie kwartalne'!C241","v":0},{"$f":"'Rozliczenie kwartalne'!D241","v":0},{"$f":"'Rozliczenie kwartalne'!E241","v":0},{"$f":"'Rozliczenie kwartalne'!F241","v":0},{"$f":"'Rozliczenie kwartalne'!G241","v":0},{"$f":"'Rozliczenie kwartalne'!H241","v":0},{"$f":"'Rozliczenie kwartalne'!I241","v":0},{"$f":"'Rozliczenie kwartalne'!J241","v":0},{"$f":"'Rozliczenie kwartalne'!K241","v":0},{"$f":"'Rozliczenie kwartalne'!L241","v":0},{"$f":"'Rozliczenie kwartalne'!M241","v":0},{"$f":"'Rozliczenie kwartalne'!N241","v":0},{"$f":"'Załącznik nr 1 do rozliczenia'!D238","v":0},{"$f":"'Załącznik nr 1 do rozliczenia'!F238","v":0},{"$f":"'Załącznik nr 1 do rozliczenia'!H238","v":0},{"$f":"'Załącznik nr 2 do rozliczenia'!D234","v":0},{"$f":"'Załącznik nr 2 do rozliczenia'!E234","v":0},{"$f":"'Załącznik nr 2 do rozliczenia'!F234","v":""},{"$f":"'Załącznik nr 2 do rozliczenia'!H234","v":0}]
[{"$f":"'Rozliczenie kwartalne'!A242","v":"86"},{"$f":"'Rozliczenie kwartalne'!B242","v":""},{"$f":"'Rozliczenie kwartalne'!C242","v":0},{"$f":"'Rozliczenie kwartalne'!D242","v":0},{"$f":"'Rozliczenie kwartalne'!E242","v":0},{"$f":"'Rozliczenie kwartalne'!F242","v":0},{"$f":"'Rozliczenie kwartalne'!G242","v":0},{"$f":"'Rozliczenie kwartalne'!H242","v":0},{"$f":"'Rozliczenie kwartalne'!I242","v":0},{"$f":"'Rozliczenie kwartalne'!J242","v":0},{"$f":"'Rozliczenie kwartalne'!K242","v":0},{"$f":"'Rozliczenie kwartalne'!L242","v":0},{"$f":"'Rozliczenie kwartalne'!M242","v":0},{"$f":"'Rozliczenie kwartalne'!N242","v":0},{"$f":"'Załącznik nr 1 do rozliczenia'!D239","v":0},{"$f":"'Załącznik nr 1 do rozliczenia'!F239","v":0},{"$f":"'Załącznik nr 1 do rozliczenia'!H239","v":0},{"$f":"'Załącznik nr 2 do rozliczenia'!D235","v":0},{"$f":"'Załącznik nr 2 do rozliczenia'!E235","v":0},{"$f":"'Załącznik nr 2 do rozliczenia'!F235","v":""},{"$f":"'Załącznik nr 2 do rozliczenia'!H235","v":0}]
[{"$f":"'Rozliczenie kwartalne'!A243","v":"87"},{"$f":"'Rozliczenie kwartalne'!B243","v":""},{"$f":"'Rozliczenie kwartalne'!C243","v":0},{"$f":"'Rozliczenie kwartalne'!D243","v":0},{"$f":"'Rozliczenie kwartalne'!E243","v":0},{"$f":"'Rozliczenie kwartalne'!F243","v":0},{"$f":"'Rozliczenie kwartalne'!G243","v":0},{"$f":"'Rozliczenie kwartalne'!H243","v":0},{"$f":"'Rozliczenie kwartalne'!I243","v":0},{"$f":"'Rozliczenie kwartalne'!J243","v":0},{"$f":"'Rozliczenie kwartalne'!K243","v":0},{"$f":"'Rozliczenie kwartalne'!L243","v":0},{"$f":"'Rozliczenie kwartalne'!M243","v":0},{"$f":"'Rozliczenie kwartalne'!N243","v":0},{"$f":"'Załącznik nr 1 do rozliczenia'!D240","v":0},{"$f":"'Załącznik nr 1 do rozliczenia'!F240","v":0},{"$f":"'Załącznik nr 1 do rozliczenia'!H240","v":0},{"$f":"'Załącznik nr 2 do rozliczenia'!D236","v":0},{"$f":"'Załącznik nr 2 do rozliczenia'!E236","v":0},{"$f":"'Załącznik nr 2 do rozliczenia'!F236","v":""},{"$f":"'Załącznik nr 2 do rozliczenia'!H236","v":0}]
[{"$f":"'Rozliczenie kwartalne'!A244","v":"88"},{"$f":"'Rozliczenie kwartalne'!B244","v":""},{"$f":"'Rozliczenie kwartalne'!C244","v":0},{"$f":"'Rozliczenie kwartalne'!D244","v":0},{"$f":"'Rozliczenie kwartalne'!E244","v":0},{"$f":"'Rozliczenie kwartalne'!F244","v":0},{"$f":"'Rozliczenie kwartalne'!G244","v":0},{"$f":"'Rozliczenie kwartalne'!H244","v":0},{"$f":"'Rozliczenie kwartalne'!I244","v":0},{"$f":"'Rozliczenie kwartalne'!J244","v":0},{"$f":"'Rozliczenie kwartalne'!K244","v":0},{"$f":"'Rozliczenie kwartalne'!L244","v":0},{"$f":"'Rozliczenie kwartalne'!M244","v":0},{"$f":"'Rozliczenie kwartalne'!N244","v":0},{"$f":"'Załącznik nr 1 do rozliczenia'!D241","v":0},{"$f":"'Załącznik nr 1 do rozliczenia'!F241","v":0},{"$f":"'Załącznik nr 1 do rozliczenia'!H241","v":0},{"$f":"'Załącznik nr 2 do rozliczenia'!D237","v":0},{"$f":"'Załącznik nr 2 do rozliczenia'!E237","v":0},{"$f":"'Załącznik nr 2 do rozliczenia'!F237","v":""},{"$f":"'Załącznik nr 2 do rozliczenia'!H237","v":0}]
[{"$f":"'Rozliczenie kwartalne'!A245","v":"89"},{"$f":"'Rozliczenie kwartalne'!B245","v":""},{"$f":"'Rozliczenie kwartalne'!C245","v":0},{"$f":"'Rozliczenie kwartalne'!D245","v":0},{"$f":"'Rozliczenie kwartalne'!E245","v":0},{"$f":"'Rozliczenie kwartalne'!F245","v":0},{"$f":"'Rozliczenie kwartalne'!G245","v":0},{"$f":"'Rozliczenie kwartalne'!H245","v":0},{"$f":"'Rozliczenie kwartalne'!I245","v":0},{"$f":"'Rozliczenie kwartalne'!J245","v":0},{"$f":"'Rozliczenie kwartalne'!K245","v":0},{"$f":"'Rozliczenie kwartalne'!L245","v":0},{"$f":"'Rozliczenie kwartalne'!M245","v":0},{"$f":"'Rozliczenie kwartalne'!N245","v":0},{"$f":"'Załącznik nr 1 do rozliczenia'!D242","v":0},{"$f":"'Załącznik nr 1 do rozliczenia'!F242","v":0},{"$f":"'Załącznik nr 1 do rozliczenia'!H242","v":0},{"$f":"'Załącznik nr 2 do rozliczenia'!D238","v":0},{"$f":"'Załącznik nr 2 do rozliczenia'!E238","v":0},{"$f":"'Załącznik nr 2 do rozliczenia'!F238","v":""},{"$f":"'Załącznik nr 2 do rozliczenia'!H238","v":0}]
[{"$f":"'Rozliczenie kwartalne'!A246","v":"90"},{"$f":"'Rozliczenie kwartalne'!B246","v":""},{"$f":"'Rozliczenie kwartalne'!C246","v":0},{"$f":"'Rozliczenie kwartalne'!D246","v":0},{"$f":"'Rozliczenie kwartalne'!E246","v":0},{"$f":"'Rozliczenie kwartalne'!F246","v":0},{"$f":"'Rozliczenie kwartalne'!G246","v":0},{"$f":"'Rozliczenie kwartalne'!H246","v":0},{"$f":"'Rozliczenie kwartalne'!I246","v":0},{"$f":"'Rozliczenie kwartalne'!J246","v":0},{"$f":"'Rozliczenie kwartalne'!K246","v":0},{"$f":"'Rozliczenie kwartalne'!L246","v":0},{"$f":"'Rozliczenie kwartalne'!M246","v":0},{"$f":"'Rozliczenie kwartalne'!N246","v":0},{"$f":"'Załącznik nr 1 do rozliczenia'!D243","v":0},{"$f":"'Załącznik nr 1 do rozliczenia'!F243","v":0},{"$f":"'Załącznik nr 1 do rozliczenia'!H243","v":0},{"$f":"'Załącznik nr 2 do rozliczenia'!D239","v":0},{"$f":"'Załącznik nr 2 do rozliczenia'!E239","v":0},{"$f":"'Załącznik nr 2 do rozliczenia'!F239","v":""},{"$f":"'Załącznik nr 2 do rozliczenia'!H239","v":0}]
[{"$f":"'Rozliczenie kwartalne'!A247","v":"91"},{"$f":"'Rozliczenie kwartalne'!B247","v":""},{"$f":"'Rozliczenie kwartalne'!C247","v":0},{"$f":"'Rozliczenie kwartalne'!D247","v":0},{"$f":"'Rozliczenie kwartalne'!E247","v":0},{"$f":"'Rozliczenie kwartalne'!F247","v":0},{"$f":"'Rozliczenie kwartalne'!G247","v":0},{"$f":"'Rozliczenie kwartalne'!H247","v":0},{"$f":"'Rozliczenie kwartalne'!I247","v":0},{"$f":"'Rozliczenie kwartalne'!J247","v":0},{"$f":"'Rozliczenie kwartalne'!K247","v":0},{"$f":"'Rozliczenie kwartalne'!L247","v":0},{"$f":"'Rozliczenie kwartalne'!M247","v":0},{"$f":"'Rozliczenie kwartalne'!N247","v":0},{"$f":"'Załącznik nr 1 do rozliczenia'!D244","v":0},{"$f":"'Załącznik nr 1 do rozliczenia'!F244","v":0},{"$f":"'Załącznik nr 1 do rozliczenia'!H244","v":0},{"$f":"'Załącznik nr 2 do rozliczenia'!D240","v":0},{"$f":"'Załącznik nr 2 do rozliczenia'!E240","v":0},{"$f":"'Załącznik nr 2 do rozliczenia'!F240","v":""},{"$f":"'Załącznik nr 2 do rozliczenia'!H240","v":0}]
[{"$f":"'Rozliczenie kwartalne'!A248","v":"92"},{"$f":"'Rozliczenie kwartalne'!B248","v":""},{"$f":"'Rozliczenie kwartalne'!C248","v":0},{"$f":"'Rozliczenie kwartalne'!D248","v":0},{"$f":"'Rozliczenie kwartalne'!E248","v":0},{"$f":"'Rozliczenie kwartalne'!F248","v":0},{"$f":"'Rozliczenie kwartalne'!G248","v":0},{"$f":"'Rozliczenie kwartalne'!H248","v":0},{"$f":"'Rozliczenie kwartalne'!I248","v":0},{"$f":"'Rozliczenie kwartalne'!J248","v":0},{"$f":"'Rozliczenie kwartalne'!K248","v":0},{"$f":"'Rozliczenie kwartalne'!L248","v":0},{"$f":"'Rozliczenie kwartalne'!M248","v":0},{"$f":"'Rozliczenie kwartalne'!N248","v":0},{"$f":"'Załącznik nr 1 do rozliczenia'!D245","v":0},{"$f":"'Załącznik nr 1 do rozliczenia'!F245","v":0},{"$f":"'Załącznik nr 1 do rozliczenia'!H245","v":0},{"$f":"'Załącznik nr 2 do rozliczenia'!D241","v":0},{"$f":"'Załącznik nr 2 do rozliczenia'!E241","v":0},{"$f":"'Załącznik nr 2 do rozliczenia'!F241","v":""},{"$f":"'Załącznik nr 2 do rozliczenia'!H241","v":0}]
[{"$f":"'Rozliczenie kwartalne'!A249","v":"93"},{"$f":"'Rozliczenie kwartalne'!B249","v":""},{"$f":"'Rozliczenie kwartalne'!C249","v":0},{"$f":"'Rozliczenie kwartalne'!D249","v":0},{"$f":"'Rozliczenie kwartalne'!E249","v":0},{"$f":"'Rozliczenie kwartalne'!F249","v":0},{"$f":"'Rozliczenie kwartalne'!G249","v":0},{"$f":"'Rozliczenie kwartalne'!H249","v":0},{"$f":"'Rozliczenie kwartalne'!I249","v":0},{"$f":"'Rozliczenie kwartalne'!J249","v":0},{"$f":"'Rozliczenie kwartalne'!K249","v":0},{"$f":"'Rozliczenie kwartalne'!L249","v":0},{"$f":"'Rozliczenie kwartalne'!M249","v":0},{"$f":"'Rozliczenie kwartalne'!N249","v":0},{"$f":"'Załącznik nr 1 do rozliczenia'!D246","v":0},{"$f":"'Załącznik nr 1 do rozliczenia'!F246","v":0},{"$f":"'Załącznik nr 1 do rozliczenia'!H246","v":0},{"$f":"'Załącznik nr 2 do rozliczenia'!D242","v":0},{"$f":"'Załącznik nr 2 do rozliczenia'!E242","v":0},{"$f":"'Załącznik nr 2 do rozliczenia'!F242","v":""},{"$f":"'Załącznik nr 2 do rozliczenia'!H242","v":0}]
[{"$f":"'Rozliczenie kwartalne'!A250","v":"94"},{"$f":"'Rozliczenie kwartalne'!B250","v":""},{"$f":"'Rozliczenie kwartalne'!C250","v":0},{"$f":"'Rozliczenie kwartalne'!D250","v":0},{"$f":"'Rozliczenie kwartalne'!E250","v":0},{"$f":"'Rozliczenie kwartalne'!F250","v":0},{"$f":"'Rozliczenie kwartalne'!G250","v":0},{"$f":"'Rozliczenie kwartalne'!H250","v":0},{"$f":"'Rozliczenie kwartalne'!I250","v":0},{"$f":"'Rozliczenie kwartalne'!J250","v":0},{"$f":"'Rozliczenie kwartalne'!K250","v":0},{"$f":"'Rozliczenie kwartalne'!L250","v":0},{"$f":"'Rozliczenie kwartalne'!M250","v":0},{"$f":"'Rozliczenie kwartalne'!N250","v":0},{"$f":"'Załącznik nr 1 do rozliczenia'!D247","v":0},{"$f":"'Załącznik nr 1 do rozliczenia'!F247","v":0},{"$f":"'Załącznik nr 1 do rozliczenia'!H247","v":0},{"$f":"'Załącznik nr 2 do rozliczenia'!D243","v":0},{"$f":"'Załącznik nr 2 do rozliczenia'!E243","v":0},{"$f":"'Załącznik nr 2 do rozliczenia'!F243","v":""},{"$f":"'Załącznik nr 2 do rozliczenia'!H243","v":0}]
[{"$f":"'Rozliczenie kwartalne'!A251","v":"95"},{"$f":"'Rozliczenie kwartalne'!B251","v":""},{"$f":"'Rozliczenie kwartalne'!C251","v":0},{"$f":"'Rozliczenie kwartalne'!D251","v":0},{"$f":"'Rozliczenie kwartalne'!E251","v":0},{"$f":"'Rozliczenie kwartalne'!F251","v":0},{"$f":"'Rozliczenie kwartalne'!G251","v":0},{"$f":"'Rozliczenie kwartalne'!H251","v":0},{"$f":"'Rozliczenie kwartalne'!I251","v":0},{"$f":"'Rozliczenie kwartalne'!J251","v":0},{"$f":"'Rozliczenie kwartalne'!K251","v":0},{"$f":"'Rozliczenie kwartalne'!L251","v":0},{"$f":"'Rozliczenie kwartalne'!M251","v":0},{"$f":"'Rozliczenie kwartalne'!N251","v":0},{"$f":"'Załącznik nr 1 do rozliczenia'!D248","v":0},{"$f":"'Załącznik nr 1 do rozliczenia'!F248","v":0},{"$f":"'Załącznik nr 1 do rozliczenia'!H248","v":0},{"$f":"'Załącznik nr 2 do rozliczenia'!D244","v":0},{"$f":"'Załącznik nr 2 do rozliczenia'!E244","v":0},{"$f":"'Załącznik nr 2 do rozliczenia'!F244","v":""},{"$f":"'Załącznik nr 2 do rozliczenia'!H244","v":0}]
[{"$f":"'Rozliczenie kwartalne'!A252","v":"96"},{"$f":"'Rozliczenie kwartalne'!B252","v":""},{"$f":"'Rozliczenie kwartalne'!C252","v":0},{"$f":"'Rozliczenie kwartalne'!D252","v":0},{"$f":"'Rozliczenie kwartalne'!E252","v":0},{"$f":"'Rozliczenie kwartalne'!F252","v":0},{"$f":"'Rozliczenie kwartalne'!G252","v":0},{"$f":"'Rozliczenie kwartalne'!H252","v":0},{"$f":"'Rozliczenie kwartalne'!I252","v":0},{"$f":"'Rozliczenie kwartalne'!J252","v":0},{"$f":"'Rozliczenie kwartalne'!K252","v":0},{"$f":"'Rozliczenie kwartalne'!L252","v":0},{"$f":"'Rozliczenie kwartalne'!M252","v":0},{"$f":"'Rozliczenie kwartalne'!N252","v":0},{"$f":"'Załącznik nr 1 do rozliczenia'!D249","v":0},{"$f":"'Załącznik nr 1 do rozliczenia'!F249","v":0},{"$f":"'Załącznik nr 1 do rozliczenia'!H249","v":0},{"$f":"'Załącznik nr 2 do rozliczenia'!D245","v":0},{"$f":"'Załącznik nr 2 do rozliczenia'!E245","v":0},{"$f":"'Załącznik nr 2 do rozliczenia'!F245","v":""},{"$f":"'Załącznik nr 2 do rozliczenia'!H245","v":0}]
[{"$f":"'Rozliczenie kwartalne'!A253","v":"97"},{"$f":"'Rozliczenie kwartalne'!B253","v":""},{"$f":"'Rozliczenie kwartalne'!C253","v":0},{"$f":"'Rozliczenie kwartalne'!D253","v":0},{"$f":"'Rozliczenie kwartalne'!E253","v":0},{"$f":"'Rozliczenie kwartalne'!F253","v":0},{"$f":"'Rozliczenie kwartalne'!G253","v":0},{"$f":"'Rozliczenie kwartalne'!H253","v":0},{"$f":"'Rozliczenie kwartalne'!I253","v":0},{"$f":"'Rozliczenie kwartalne'!J253","v":0},{"$f":"'Rozliczenie kwartalne'!K253","v":0},{"$f":"'Rozliczenie kwartalne'!L253","v":0},{"$f":"'Rozliczenie kwartalne'!M253","v":0},{"$f":"'Rozliczenie kwartalne'!N253","v":0},{"$f":"'Załącznik nr 1 do rozliczenia'!D250","v":0},{"$f":"'Załącznik nr 1 do rozliczenia'!F250","v":0},{"$f":"'Załącznik nr 1 do rozliczenia'!H250","v":0},{"$f":"'Załącznik nr 2 do rozliczenia'!D246","v":0},{"$f":"'Załącznik nr 2 do rozliczenia'!E246","v":0},{"$f":"'Załącznik nr 2 do rozliczenia'!F246","v":""},{"$f":"'Załącznik nr 2 do rozliczenia'!H246","v":0}]
[{"$f":"'Rozliczenie kwartalne'!A254","v":"98"},{"$f":"'Rozliczenie kwartalne'!B254","v":""},{"$f":"'Rozliczenie kwartalne'!C254","v":0},{"$f":"'Rozliczenie kwartalne'!D254","v":0},{"$f":"'Rozliczenie kwartalne'!E254","v":0},{"$f":"'Rozliczenie kwartalne'!F254","v":0},{"$f":"'Rozliczenie kwartalne'!G254","v":0},{"$f":"'Rozliczenie kwartalne'!H254","v":0},{"$f":"'Rozliczenie kwartalne'!I254","v":0},{"$f":"'Rozliczenie kwartalne'!J254","v":0},{"$f":"'Rozliczenie kwartalne'!K254","v":0},{"$f":"'Rozliczenie kwartalne'!L254","v":0},{"$f":"'Rozliczenie kwartalne'!M254","v":0},{"$f":"'Rozliczenie kwartalne'!N254","v":0},{"$f":"'Załącznik nr 1 do rozliczenia'!D251","v":0},{"$f":"'Załącznik nr 1 do rozliczenia'!F251","v":0},{"$f":"'Załącznik nr 1 do rozliczenia'!H251","v":0},{"$f":"'Załącznik nr 2 do rozliczenia'!D247","v":0},{"$f":"'Załącznik nr 2 do rozliczenia'!E247","v":0},{"$f":"'Załącznik nr 2 do rozliczenia'!F247","v":""},{"$f":"'Załącznik nr 2 do rozliczenia'!H247","v":0}]
[{"$f":"'Rozliczenie kwartalne'!A255","v":"99"},{"$f":"'Rozliczenie kwartalne'!B255","v":""},{"$f":"'Rozliczenie kwartalne'!C255","v":0},{"$f":"'Rozliczenie kwartalne'!D255","v":0},{"$f":"'Rozliczenie kwartalne'!E255","v":0},{"$f":"'Rozliczenie kwartalne'!F255","v":0},{"$f":"'Rozliczenie kwartalne'!G255","v":0},{"$f":"'Rozliczenie kwartalne'!H255","v":0},{"$f":"'Rozliczenie kwartalne'!I255","v":0},{"$f":"'Rozliczenie kwartalne'!J255","v":0},{"$f":"'Rozliczenie kwartalne'!K255","v":0},{"$f":"'Rozliczenie kwartalne'!L255","v":0},{"$f":"'Rozliczenie kwartalne'!M255","v":0},{"$f":"'Rozliczenie kwartalne'!N255","v":0},{"$f":"'Załącznik nr 1 do rozliczenia'!D252","v":0},{"$f":"'Załącznik nr 1 do rozliczenia'!F252","v":0},{"$f":"'Załącznik nr 1 do rozliczenia'!H252","v":0},{"$f":"'Załącznik nr 2 do rozliczenia'!D248","v":0},{"$f":"'Załącznik nr 2 do rozliczenia'!E248","v":0},{"$f":"'Załącznik nr 2 do rozliczenia'!F248","v":""},{"$f":"'Załącznik nr 2 do rozliczenia'!H248","v":0}]
[{"$f":"'Rozliczenie kwartalne'!A256","v":"100"},{"$f":"'Rozliczenie kwartalne'!B256","v":""},{"$f":"'Rozliczenie kwartalne'!C256","v":0},{"$f":"'Rozliczenie kwartalne'!D256","v":0},{"$f":"'Rozliczenie kwartalne'!E256","v":0},{"$f":"'Rozliczenie kwartalne'!F256","v":0},{"$f":"'Rozliczenie kwartalne'!G256","v":0},{"$f":"'Rozliczenie kwartalne'!H256","v":0},{"$f":"'Rozliczenie kwartalne'!I256","v":0},{"$f":"'Rozliczenie kwartalne'!J256","v":0},{"$f":"'Rozliczenie kwartalne'!K256","v":0},{"$f":"'Rozliczenie kwartalne'!L256","v":0},{"$f":"'Rozliczenie kwartalne'!M256","v":0},{"$f":"'Rozliczenie kwartalne'!N256","v":0},{"$f":"'Załącznik nr 1 do rozliczenia'!D253","v":0},{"$f":"'Załącznik nr 1 do rozliczenia'!F253","v":0},{"$f":"'Załącznik nr 1 do rozliczenia'!H253","v":0},{"$f":"'Załącznik nr 2 do rozliczenia'!D249","v":0},{"$f":"'Załącznik nr 2 do rozliczenia'!E249","v":0},{"$f":"'Załącznik nr 2 do rozliczenia'!F249","v":""},{"$f":"'Załącznik nr 2 do rozliczenia'!H249","v":0}]
[{"$f":"'Rozliczenie kwartalne'!A257","v":"101"},{"$f":"'Rozliczenie kwartalne'!B257","v":""},{"$f":"'Rozliczenie kwartalne'!C257","v":0},{"$f":"'Rozliczenie kwartalne'!D257","v":0},{"$f":"'Rozliczenie kwartalne'!E257","v":0},{"$f":"'Rozliczenie kwartalne'!F257","v":0},{"$f":"'Rozliczenie kwartalne'!G257","v":0},{"$f":"'Rozliczenie kwartalne'!H257","v":0},{"$f":"'Rozliczenie kwartalne'!I257","v":0},{"$f":"'Rozliczenie kwartalne'!J257","v":0},{"$f":"'Rozliczenie kwartalne'!K257","v":0},{"$f":"'Rozliczenie kwartalne'!L257","v":0},{"$f":"'Rozliczenie kwartalne'!M257","v":0},{"$f":"'Rozliczenie kwartalne'!N257","v":0},{"$f":"'Załącznik nr 1 do rozliczenia'!D254","v":0},{"$f":"'Załącznik nr 1 do rozliczenia'!F254","v":0},{"$f":"'Załącznik nr 1 do rozliczenia'!H254","v":0},{"$f":"'Załącznik nr 2 do rozliczenia'!D250","v":0},{"$f":"'Załącznik nr 2 do rozliczenia'!E250","v":0},{"$f":"'Załącznik nr 2 do rozliczenia'!F250","v":""},{"$f":"'Załącznik nr 2 do rozliczenia'!H250","v":0}]
[{"$f":"'Rozliczenie kwartalne'!A258","v":"102"},{"$f":"'Rozliczenie kwartalne'!B258","v":""},{"$f":"'Rozliczenie kwartalne'!C258","v":0},{"$f":"'Rozliczenie kwartalne'!D258","v":0},{"$f":"'Rozliczenie kwartalne'!E258","v":0},{"$f":"'Rozliczenie kwartalne'!F258","v":0},{"$f":"'Rozliczenie kwartalne'!G258","v":0},{"$f":"'Rozliczenie kwartalne'!H258","v":0},{"$f":"'Rozliczenie kwartalne'!I258","v":0},{"$f":"'Rozliczenie kwartalne'!J258","v":0},{"$f":"'Rozliczenie kwartalne'!K258","v":0},{"$f":"'Rozliczenie kwartalne'!L258","v":0},{"$f":"'Rozliczenie kwartalne'!M258","v":0},{"$f":"'Rozliczenie kwartalne'!N258","v":0},{"$f":"'Załącznik nr 1 do rozliczenia'!D255","v":0},{"$f":"'Załącznik nr 1 do rozliczenia'!F255","v":0},{"$f":"'Załącznik nr 1 do rozliczenia'!H255","v":0},{"$f":"'Załącznik nr 2 do rozliczenia'!D251","v":0},{"$f":"'Załącznik nr 2 do rozliczenia'!E251","v":0},{"$f":"'Załącznik nr 2 do rozliczenia'!F251","v":""},{"$f":"'Załącznik nr 2 do rozliczenia'!H251","v":0}]
[{"$f":"'Rozliczenie kwartalne'!A259","v":"103"},{"$f":"'Rozliczenie kwartalne'!B259","v":""},{"$f":"'Rozliczenie kwartalne'!C259","v":0},{"$f":"'Rozliczenie kwartalne'!D259","v":0},{"$f":"'Rozliczenie kwartalne'!E259","v":0},{"$f":"'Rozliczenie kwartalne'!F259","v":0},{"$f":"'Rozliczenie kwartalne'!G259","v":0},{"$f":"'Rozliczenie kwartalne'!H259","v":0},{"$f":"'Rozliczenie kwartalne'!I259","v":0},{"$f":"'Rozliczenie kwartalne'!J259","v":0},{"$f":"'Rozliczenie kwartalne'!K259","v":0},{"$f":"'Rozliczenie kwartalne'!L259","v":0},{"$f":"'Rozliczenie kwartalne'!M259","v":0},{"$f":"'Rozliczenie kwartalne'!N259","v":0},{"$f":"'Załącznik nr 1 do rozliczenia'!D256","v":0},{"$f":"'Załącznik nr 1 do rozliczenia'!F256","v":0},{"$f":"'Załącznik nr 1 do rozliczenia'!H256","v":0},{"$f":"'Załącznik nr 2 do rozliczenia'!D252","v":0},{"$f":"'Załącznik nr 2 do rozliczenia'!E252","v":0},{"$f":"'Załącznik nr 2 do rozliczenia'!F252","v":""},{"$f":"'Załącznik nr 2 do rozliczenia'!H252","v":0}]
[{"$f":"'Rozliczenie kwartalne'!A260","v":"104"},{"$f":"'Rozliczenie kwartalne'!B260","v":""},{"$f":"'Rozliczenie kwartalne'!C260","v":0},{"$f":"'Rozliczenie kwartalne'!D260","v":0},{"$f":"'Rozliczenie kwartalne'!E260","v":0},{"$f":"'Rozliczenie kwartalne'!F260","v":0},{"$f":"'Rozliczenie kwartalne'!G260","v":0},{"$f":"'Rozliczenie kwartalne'!H260","v":0},{"$f":"'Rozliczenie kwartalne'!I260","v":0},{"$f":"'Rozliczenie kwartalne'!J260","v":0},{"$f":"'Rozliczenie kwartalne'!K260","v":0},{"$f":"'Rozliczenie kwartalne'!L260","v":0},{"$f":"'Rozliczenie kwartalne'!M260","v":0},{"$f":"'Rozliczenie kwartalne'!N260","v":0},{"$f":"'Załącznik nr 1 do rozliczenia'!D257","v":0},{"$f":"'Załącznik nr 1 do rozliczenia'!F257","v":0},{"$f":"'Załącznik nr 1 do rozliczenia'!H257","v":0},{"$f":"'Załącznik nr 2 do rozliczenia'!D253","v":0},{"$f":"'Załącznik nr 2 do rozliczenia'!E253","v":0},{"$f":"'Załącznik nr 2 do rozliczenia'!F253","v":""},{"$f":"'Załącznik nr 2 do rozliczenia'!H253","v":0}]
[{"$f":"'Rozliczenie kwartalne'!A261","v":"105"},{"$f":"'Rozliczenie kwartalne'!B261","v":""},{"$f":"'Rozliczenie kwartalne'!C261","v":0},{"$f":"'Rozliczenie kwartalne'!D261","v":0},{"$f":"'Rozliczenie kwartalne'!E261","v":0},{"$f":"'Rozliczenie kwartalne'!F261","v":0},{"$f":"'Rozliczenie kwartalne'!G261","v":0},{"$f":"'Rozliczenie kwartalne'!H261","v":0},{"$f":"'Rozliczenie kwartalne'!I261","v":0},{"$f":"'Rozliczenie kwartalne'!J261","v":0},{"$f":"'Rozliczenie kwartalne'!K261","v":0},{"$f":"'Rozliczenie kwartalne'!L261","v":0},{"$f":"'Rozliczenie kwartalne'!M261","v":0},{"$f":"'Rozliczenie kwartalne'!N261","v":0},{"$f":"'Załącznik nr 1 do rozliczenia'!D258","v":0},{"$f":"'Załącznik nr 1 do rozliczenia'!F258","v":0},{"$f":"'Załącznik nr 1 do rozliczenia'!H258","v":0},{"$f":"'Załącznik nr 2 do rozliczenia'!D254","v":0},{"$f":"'Załącznik nr 2 do rozliczenia'!E254","v":0},{"$f":"'Załącznik nr 2 do rozliczenia'!F254","v":""},{"$f":"'Załącznik nr 2 do rozliczenia'!H254","v":0}]
[{"$f":"'Rozliczenie kwartalne'!A262","v":"106"},{"$f":"'Rozliczenie kwartalne'!B262","v":""},{"$f":"'Rozliczenie kwartalne'!C262","v":0},{"$f":"'Rozliczenie kwartalne'!D262","v":0},{"$f":"'Rozliczenie kwartalne'!E262","v":0},{"$f":"'Rozliczenie kwartalne'!F262","v":0},{"$f":"'Rozliczenie kwartalne'!G262","v":0},{"$f":"'Rozliczenie kwartalne'!H262","v":0},{"$f":"'Rozliczenie kwartalne'!I262","v":0},{"$f":"'Rozliczenie kwartalne'!J262","v":0},{"$f":"'Rozliczenie kwartalne'!K262","v":0},{"$f":"'Rozliczenie kwartalne'!L262","v":0},{"$f":"'Rozliczenie kwartalne'!M262","v":0},{"$f":"'Rozliczenie kwartalne'!N262","v":0},{"$f":"'Załącznik nr 1 do rozliczenia'!D259","v":0},{"$f":"'Załącznik nr 1 do rozliczenia'!F259","v":0},{"$f":"'Załącznik nr 1 do rozliczenia'!H259","v":0},{"$f":"'Załącznik nr 2 do rozliczenia'!D255","v":0},{"$f":"'Załącznik nr 2 do rozliczenia'!E255","v":0},{"$f":"'Załącznik nr 2 do rozliczenia'!F255","v":""},{"$f":"'Załącznik nr 2 do rozliczenia'!H255","v":0}]
[{"$f":"'Rozliczenie kwartalne'!A263","v":"107"},{"$f":"'Rozliczenie kwartalne'!B263","v":""},{"$f":"'Rozliczenie kwartalne'!C263","v":0},{"$f":"'Rozliczenie kwartalne'!D263","v":0},{"$f":"'Rozliczenie kwartalne'!E263","v":0},{"$f":"'Rozliczenie kwartalne'!F263","v":0},{"$f":"'Rozliczenie kwartalne'!G263","v":0},{"$f":"'Rozliczenie kwartalne'!H263","v":0},{"$f":"'Rozliczenie kwartalne'!I263","v":0},{"$f":"'Rozliczenie kwartalne'!J263","v":0},{"$f":"'Rozliczenie kwartalne'!K263","v":0},{"$f":"'Rozliczenie kwartalne'!L263","v":0},{"$f":"'Rozliczenie kwartalne'!M263","v":0},{"$f":"'Rozliczenie kwartalne'!N263","v":0},{"$f":"'Załącznik nr 1 do rozliczenia'!D260","v":0},{"$f":"'Załącznik nr 1 do rozliczenia'!F260","v":0},{"$f":"'Załącznik nr 1 do rozliczenia'!H260","v":0},{"$f":"'Załącznik nr 2 do rozliczenia'!D256","v":0},{"$f":"'Załącznik nr 2 do rozliczenia'!E256","v":0},{"$f":"'Załącznik nr 2 do rozliczenia'!F256","v":""},{"$f":"'Załącznik nr 2 do rozliczenia'!H256","v":0}]
[{"$f":"'Rozliczenie kwartalne'!A264","v":"108"},{"$f":"'Rozliczenie kwartalne'!B264","v":""},{"$f":"'Rozliczenie kwartalne'!C264","v":0},{"$f":"'Rozliczenie kwartalne'!D264","v":0},{"$f":"'Rozliczenie kwartalne'!E264","v":0},{"$f":"'Rozliczenie kwartalne'!F264","v":0},{"$f":"'Rozliczenie kwartalne'!G264","v":0},{"$f":"'Rozliczenie kwartalne'!H264","v":0},{"$f":"'Rozliczenie kwartalne'!I264","v":0},{"$f":"'Rozliczenie kwartalne'!J264","v":0},{"$f":"'Rozliczenie kwartalne'!K264","v":0},{"$f":"'Rozliczenie kwartalne'!L264","v":0},{"$f":"'Rozliczenie kwartalne'!M264","v":0},{"$f":"'Rozliczenie kwartalne'!N264","v":0},{"$f":"'Załącznik nr 1 do rozliczenia'!D261","v":0},{"$f":"'Załącznik nr 1 do rozliczenia'!F261","v":0},{"$f":"'Załącznik nr 1 do rozliczenia'!H261","v":0},{"$f":"'Załącznik nr 2 do rozliczenia'!D257","v":0},{"$f":"'Załącznik nr 2 do rozliczenia'!E257","v":0},{"$f":"'Załącznik nr 2 do rozliczenia'!F257","v":""},{"$f":"'Załącznik nr 2 do rozliczenia'!H257","v":0}]
[{"$f":"'Rozliczenie kwartalne'!A265","v":"109"},{"$f":"'Rozliczenie kwartalne'!B265","v":""},{"$f":"'Rozliczenie kwartalne'!C265","v":0},{"$f":"'Rozliczenie kwartalne'!D265","v":0},{"$f":"'Rozliczenie kwartalne'!E265","v":0},{"$f":"'Rozliczenie kwartalne'!F265","v":0},{"$f":"'Rozliczenie kwartalne'!G265","v":0},{"$f":"'Rozliczenie kwartalne'!H265","v":0},{"$f":"'Rozliczenie kwartalne'!I265","v":0},{"$f":"'Rozliczenie kwartalne'!J265","v":0},{"$f":"'Rozliczenie kwartalne'!K265","v":0},{"$f":"'Rozliczenie kwartalne'!L265","v":0},{"$f":"'Rozliczenie kwartalne'!M265","v":0},{"$f":"'Rozliczenie kwartalne'!N265","v":0},{"$f":"'Załącznik nr 1 do rozliczenia'!D262","v":0},{"$f":"'Załącznik nr 1 do rozliczenia'!F262","v":0},{"$f":"'Załącznik nr 1 do rozliczenia'!H262","v":0},{"$f":"'Załącznik nr 2 do rozliczenia'!D258","v":0},{"$f":"'Załącznik nr 2 do rozliczenia'!E258","v":0},{"$f":"'Załącznik nr 2 do rozliczenia'!F258","v":""},{"$f":"'Załącznik nr 2 do rozliczenia'!H258","v":0}]
[{"$f":"'Rozliczenie kwartalne'!A266","v":"110"},{"$f":"'Rozliczenie kwartalne'!B266","v":""},{"$f":"'Rozliczenie kwartalne'!C266","v":0},{"$f":"'Rozliczenie kwartalne'!D266","v":0},{"$f":"'Rozliczenie kwartalne'!E266","v":0},{"$f":"'Rozliczenie kwartalne'!F266","v":0},{"$f":"'Rozliczenie kwartalne'!G266","v":0},{"$f":"'Rozliczenie kwartalne'!H266","v":0},{"$f":"'Rozliczenie kwartalne'!I266","v":0},{"$f":"'Rozliczenie kwartalne'!J266","v":0},{"$f":"'Rozliczenie kwartalne'!K266","v":0},{"$f":"'Rozliczenie kwartalne'!L266","v":0},{"$f":"'Rozliczenie kwartalne'!M266","v":0},{"$f":"'Rozliczenie kwartalne'!N266","v":0},{"$f":"'Załącznik nr 1 do rozliczenia'!D263","v":0},{"$f":"'Załącznik nr 1 do rozliczenia'!F263","v":0},{"$f":"'Załącznik nr 1 do rozliczenia'!H263","v":0},{"$f":"'Załącznik nr 2 do rozliczenia'!D259","v":0},{"$f":"'Załącznik nr 2 do rozliczenia'!E259","v":0},{"$f":"'Załącznik nr 2 do rozliczenia'!F259","v":""},{"$f":"'Załącznik nr 2 do rozliczenia'!H259","v":0}]
[{"$f":"'Rozliczenie kwartalne'!A267","v":"111"},{"$f":"'Rozliczenie kwartalne'!B267","v":""},{"$f":"'Rozliczenie kwartalne'!C267","v":0},{"$f":"'Rozliczenie kwartalne'!D267","v":0},{"$f":"'Rozliczenie kwartalne'!E267","v":0},{"$f":"'Rozliczenie kwartalne'!F267","v":0},{"$f":"'Rozliczenie kwartalne'!G267","v":0},{"$f":"'Rozliczenie kwartalne'!H267","v":0},{"$f":"'Rozliczenie kwartalne'!I267","v":0},{"$f":"'Rozliczenie kwartalne'!J267","v":0},{"$f":"'Rozliczenie kwartalne'!K267","v":0},{"$f":"'Rozliczenie kwartalne'!L267","v":0},{"$f":"'Rozliczenie kwartalne'!M267","v":0},{"$f":"'Rozliczenie kwartalne'!N267","v":0},{"$f":"'Załącznik nr 1 do rozliczenia'!D264","v":0},{"$f":"'Załącznik nr 1 do rozliczenia'!F264","v":0},{"$f":"'Załącznik nr 1 do rozliczenia'!H264","v":0},{"$f":"'Załącznik nr 2 do rozliczenia'!D260","v":0},{"$f":"'Załącznik nr 2 do rozliczenia'!E260","v":0},{"$f":"'Załącznik nr 2 do rozliczenia'!F260","v":""},{"$f":"'Załącznik nr 2 do rozliczenia'!H260","v":0}]
[{"$f":"'Rozliczenie kwartalne'!A268","v":"112"},{"$f":"'Rozliczenie kwartalne'!B268","v":""},{"$f":"'Rozliczenie kwartalne'!C268","v":0},{"$f":"'Rozliczenie kwartalne'!D268","v":0},{"$f":"'Rozliczenie kwartalne'!E268","v":0},{"$f":"'Rozliczenie kwartalne'!F268","v":0},{"$f":"'Rozliczenie kwartalne'!G268","v":0},{"$f":"'Rozliczenie kwartalne'!H268","v":0},{"$f":"'Rozliczenie kwartalne'!I268","v":0},{"$f":"'Rozliczenie kwartalne'!J268","v":0},{"$f":"'Rozliczenie kwartalne'!K268","v":0},{"$f":"'Rozliczenie kwartalne'!L268","v":0},{"$f":"'Rozliczenie kwartalne'!M268","v":0},{"$f":"'Rozliczenie kwartalne'!N268","v":0},{"$f":"'Załącznik nr 1 do rozliczenia'!D265","v":0},{"$f":"'Załącznik nr 1 do rozliczenia'!F265","v":0},{"$f":"'Załącznik nr 1 do rozliczenia'!H265","v":0},{"$f":"'Załącznik nr 2 do rozliczenia'!D261","v":0},{"$f":"'Załącznik nr 2 do rozliczenia'!E261","v":0},{"$f":"'Załącznik nr 2 do rozliczenia'!F261","v":""},{"$f":"'Załącznik nr 2 do rozliczenia'!H261","v":0}]
[{"$f":"'Rozliczenie kwartalne'!A269","v":"113"},{"$f":"'Rozliczenie kwartalne'!B269","v":""},{"$f":"'Rozliczenie kwartalne'!C269","v":0},{"$f":"'Rozliczenie kwartalne'!D269","v":0},{"$f":"'Rozliczenie kwartalne'!E269","v":0},{"$f":"'Rozliczenie kwartalne'!F269","v":0},{"$f":"'Rozliczenie kwartalne'!G269","v":0},{"$f":"'Rozliczenie kwartalne'!H269","v":0},{"$f":"'Rozliczenie kwartalne'!I269","v":0},{"$f":"'Rozliczenie kwartalne'!J269","v":0},{"$f":"'Rozliczenie kwartalne'!K269","v":0},{"$f":"'Rozliczenie kwartalne'!L269","v":0},{"$f":"'Rozliczenie kwartalne'!M269","v":0},{"$f":"'Rozliczenie kwartalne'!N269","v":0},{"$f":"'Załącznik nr 1 do rozliczenia'!D266","v":0},{"$f":"'Załącznik nr 1 do rozliczenia'!F266","v":0},{"$f":"'Załącznik nr 1 do rozliczenia'!H266","v":0},{"$f":"'Załącznik nr 2 do rozliczenia'!D262","v":0},{"$f":"'Załącznik nr 2 do rozliczenia'!E262","v":0},{"$f":"'Załącznik nr 2 do rozliczenia'!F262","v":""},{"$f":"'Załącznik nr 2 do rozliczenia'!H262","v":0}]
[{"$f":"'Rozliczenie kwartalne'!A270","v":"114"},{"$f":"'Rozliczenie kwartalne'!B270","v":""},{"$f":"'Rozliczenie kwartalne'!C270","v":0},{"$f":"'Rozliczenie kwartalne'!D270","v":0},{"$f":"'Rozliczenie kwartalne'!E270","v":0},{"$f":"'Rozliczenie kwartalne'!F270","v":0},{"$f":"'Rozliczenie kwartalne'!G270","v":0},{"$f":"'Rozliczenie kwartalne'!H270","v":0},{"$f":"'Rozliczenie kwartalne'!I270","v":0},{"$f":"'Rozliczenie kwartalne'!J270","v":0},{"$f":"'Rozliczenie kwartalne'!K270","v":0},{"$f":"'Rozliczenie kwartalne'!L270","v":0},{"$f":"'Rozliczenie kwartalne'!M270","v":0},{"$f":"'Rozliczenie kwartalne'!N270","v":0},{"$f":"'Załącznik nr 1 do rozliczenia'!D267","v":0},{"$f":"'Załącznik nr 1 do rozliczenia'!F267","v":0},{"$f":"'Załącznik nr 1 do rozliczenia'!H267","v":0},{"$f":"'Załącznik nr 2 do rozliczenia'!D263","v":0},{"$f":"'Załącznik nr 2 do rozliczenia'!E263","v":0},{"$f":"'Załącznik nr 2 do rozliczenia'!F263","v":""},{"$f":"'Załącznik nr 2 do rozliczenia'!H263","v":0}]
[{"$f":"'Rozliczenie kwartalne'!A271","v":"115"},{"$f":"'Rozliczenie kwartalne'!B271","v":""},{"$f":"'Rozliczenie kwartalne'!C271","v":0},{"$f":"'Rozliczenie kwartalne'!D271","v":0},{"$f":"'Rozliczenie kwartalne'!E271","v":0},{"$f":"'Rozliczenie kwartalne'!F271","v":0},{"$f":"'Rozliczenie kwartalne'!G271","v":0},{"$f":"'Rozliczenie kwartalne'!H271","v":0},{"$f":"'Rozliczenie kwartalne'!I271","v":0},{"$f":"'Rozliczenie kwartalne'!J271","v":0},{"$f":"'Rozliczenie kwartalne'!K271","v":0},{"$f":"'Rozliczenie kwartalne'!L271","v":0},{"$f":"'Rozliczenie kwartalne'!M271","v":0},{"$f":"'Rozliczenie kwartalne'!N271","v":0},{"$f":"'Załącznik nr 1 do rozliczenia'!D268","v":0},{"$f":"'Załącznik nr 1 do rozliczenia'!F268","v":0},{"$f":"'Załącznik nr 1 do rozliczenia'!H268","v":0},{"$f":"'Załącznik nr 2 do rozliczenia'!D264","v":0},{"$f":"'Załącznik nr 2 do rozliczenia'!E264","v":0},{"$f":"'Załącznik nr 2 do rozliczenia'!F264","v":""},{"$f":"'Załącznik nr 2 do rozliczenia'!H264","v":0}]

{"sheet":"Dane - linie 3","index":12,"n_rows":116,"n_cols":21,"rows_kept":116,"cut":false,"hidden":true,"merged":[]}
[{"$f":"'Rozliczenie kwartalne'!A34","v":"Lp."},{"$f":"'Rozliczenie kwartalne'!B34","v":"Nazwa linii komunikacyjnej"},{"$f":"'Rozliczenie kwartalne'!C34","v":"Liczba przewiezionych osób"},{"$f":"'Rozliczenie kwartalne'!D34","v":"Wielkość pracy eksploatacyjnej w okresie rozliczeniowym [wzkm]"},{"$f":"'Rozliczenie kwartalne'!E34","v":"Deficyt w okresie rozliczeniowym [zł]"},{"$f":"'Rozliczenie kwartalne'!F34","v":"Kwota środków własnych organizatora \n[zł]"},{"$f":"'Rozliczenie kwartalne'!G34","v":"Cena usługi \n[zł]"},{"$f":"'Rozliczenie kwartalne'!H34","v":"Część ceny usługi sfinansowana ze środków własnych organizatora  [zł/wzkm]"},{"$f":"'Rozliczenie kwartalne'!I34","v":"Procentowa wartość części ceny usługi sfinansowanej ze środków własnych organizatora \n[%]"},{"$f":"'Rozliczenie kwartalne'!J34","v":"Należna kwota dopłaty w okresie rozliczeniowym [zł]"},{"$f":"'Rozliczenie kwartalne'!K34","v":"Pobrana dopłata w okresie rozliczeniowym - wniosek kwartalny \n[zł]"},{"$f":"'Rozliczenie kwartalne'!L34","v":"Niewykorzystana kwota dopłaty z poprzedniego okresu rozliczeniowego (rozliczona w bieżącym okresie)\n[zł]"},{"$f":"'Rozliczenie kwartalne'!M34","v":"Faktycznie wypłacona kwota dopłaty w bieżącym okresie\n[zł]"},{"$f":"'Rozliczenie kwartalne'!N34","v":"Niewykorzystana kwota dopłaty w bieżącym okresie rozliczeniowym\n[zł]"},{"$f":"'Załącznik nr 1 do rozliczenia'!D30","v":"Suma kosztów osiągniętych na linii komunikacyjnej \n[zł]"},{"$f":"'Załącznik nr 1 do rozliczenia'!F30","v":"Suma przychodów osiągniętych na linii komunikacyjnych \n[zł]"},{"$f":"'Załącznik nr 1 do rozliczenia'!H30","v":"Wynik finansowy linii komunikacyjnej - deficyt \n[zł] "},{"$f":"'Załącznik nr 2 do rozliczenia'!D27","v":"Długość linii \n[km]"},{"$f":"'Załącznik nr 2 do rozliczenia'!E27","v":"Ilość wykonanych kursów w okresie rozliczeniowym"},{"$f":"'Załącznik nr 2 do rozliczenia'!F27","v":"Dni kursowania"},{"$f":"'Załącznik nr 2 do rozliczenia'!H27","v":"Zrealizowana praca eksploatacyjna \n[wzkm]"}]
[{"$f":"'Rozliczenie kwartalne'!A278","v":"1"},{"$f":"'Rozliczenie kwartalne'!B278","v":""},{"$f":"'Rozliczenie kwartalne'!C278","v":0},{"$f":"'Rozliczenie kwartalne'!D278","v":0},{"$f":"'Rozliczenie kwartalne'!E278","v":0},{"$f":"'Rozliczenie kwartalne'!F278","v":0},{"$f":"'Rozliczenie kwartalne'!G278","v":0},{"$f":"'Rozliczenie kwartalne'!H278","v":0},{"$f":"'Rozliczenie kwartalne'!I278","v":0},{"$f":"'Rozliczenie kwartalne'!J278","v":0},{"$f":"'Rozliczenie kwartalne'!K278","v":0},{"$f":"'Rozliczenie kwartalne'!L278","v":0},{"$f":"'Rozliczenie kwartalne'!M278","v":0},{"$f":"'Rozliczenie kwartalne'!N278","v":0},{"$f":"'Załącznik nr 1 do rozliczenia'!D276","v":0},{"$f":"'Załącznik nr 1 do rozliczenia'!F276","v":0},{"$f":"'Załącznik nr 1 do rozliczenia'!H276","v":0},{"$f":"'Załącznik nr 2 do rozliczenia'!D271","v":0},{"$f":"'Załącznik nr 2 do rozliczenia'!E271","v":0},{"$f":"'Załącznik nr 2 do rozliczenia'!F271","v":""},{"$f":"'Załącznik nr 2 do rozliczenia'!H271","v":0}]
[{"$f":"'Rozliczenie kwartalne'!A279","v":"2"},{"$f":"'Rozliczenie kwartalne'!B279","v":""},{"$f":"'Rozliczenie kwartalne'!C279","v":0},{"$f":"'Rozliczenie kwartalne'!D279","v":0},{"$f":"'Rozliczenie kwartalne'!E279","v":0},{"$f":"'Rozliczenie kwartalne'!F279","v":0},{"$f":"'Rozliczenie kwartalne'!G279","v":0},{"$f":"'Rozliczenie kwartalne'!H279","v":0},{"$f":"'Rozliczenie kwartalne'!I279","v":0},{"$f":"'Rozliczenie kwartalne'!J279","v":0},{"$f":"'Rozliczenie kwartalne'!K279","v":0},{"$f":"'Rozliczenie kwartalne'!L279","v":0},{"$f":"'Rozliczenie kwartalne'!M279","v":0},{"$f":"'Rozliczenie kwartalne'!N279","v":0},{"$f":"'Załącznik nr 1 do rozliczenia'!D277","v":0},{"$f":"'Załącznik nr 1 do rozliczenia'!F277","v":0},{"$f":"'Załącznik nr 1 do rozliczenia'!H277","v":0},{"$f":"'Załącznik nr 2 do rozliczenia'!D272","v":0},{"$f":"'Załącznik nr 2 do rozliczenia'!E272","v":0},{"$f":"'Załącznik nr 2 do rozliczenia'!F272","v":""},{"$f":"'Załącznik nr 2 do rozliczenia'!H272","v":0}]
[{"$f":"'Rozliczenie kwartalne'!A280","v":"3"},{"$f":"'Rozliczenie kwartalne'!B280","v":""},{"$f":"'Rozliczenie kwartalne'!C280","v":0},{"$f":"'Rozliczenie kwartalne'!D280","v":0},{"$f":"'Rozliczenie kwartalne'!E280","v":0},{"$f":"'Rozliczenie kwartalne'!F280","v":0},{"$f":"'Rozliczenie kwartalne'!G280","v":0},{"$f":"'Rozliczenie kwartalne'!H280","v":0},{"$f":"'Rozliczenie kwartalne'!I280","v":0},{"$f":"'Rozliczenie kwartalne'!J280","v":0},{"$f":"'Rozliczenie kwartalne'!K280","v":0},{"$f":"'Rozliczenie kwartalne'!L280","v":0},{"$f":"'Rozliczenie kwartalne'!M280","v":0},{"$f":"'Rozliczenie kwartalne'!N280","v":0},{"$f":"'Załącznik nr 1 do rozliczenia'!D278","v":0},{"$f":"'Załącznik nr 1 do rozliczenia'!F278","v":0},{"$f":"'Załącznik nr 1 do rozliczenia'!H278","v":0},{"$f":"'Załącznik nr 2 do rozliczenia'!D273","v":0},{"$f":"'Załącznik nr 2 do rozliczenia'!E273","v":0},{"$f":"'Załącznik nr 2 do rozliczenia'!F273","v":""},{"$f":"'Załącznik nr 2 do rozliczenia'!H273","v":0}]
[{"$f":"'Rozliczenie kwartalne'!A281","v":"4"},{"$f":"'Rozliczenie kwartalne'!B281","v":""},{"$f":"'Rozliczenie kwartalne'!C281","v":0},{"$f":"'Rozliczenie kwartalne'!D281","v":0},{"$f":"'Rozliczenie kwartalne'!E281","v":0},{"$f":"'Rozliczenie kwartalne'!F281","v":0},{"$f":"'Rozliczenie kwartalne'!G281","v":0},{"$f":"'Rozliczenie kwartalne'!H281","v":0},{"$f":"'Rozliczenie kwartalne'!I281","v":0},{"$f":"'Rozliczenie kwartalne'!J281","v":0},{"$f":"'Rozliczenie kwartalne'!K281","v":0},{"$f":"'Rozliczenie kwartalne'!L281","v":0},{"$f":"'Rozliczenie kwartalne'!M281","v":0},{"$f":"'Rozliczenie kwartalne'!N281","v":0},{"$f":"'Załącznik nr 1 do rozliczenia'!D279","v":0},{"$f":"'Załącznik nr 1 do rozliczenia'!F279","v":0},{"$f":"'Załącznik nr 1 do rozliczenia'!H279","v":0},{"$f":"'Załącznik nr 2 do rozliczenia'!D274","v":0},{"$f":"'Załącznik nr 2 do rozliczenia'!E274","v":0},{"$f":"'Załącznik nr 2 do rozliczenia'!F274","v":""},{"$f":"'Załącznik nr 2 do rozliczenia'!H274","v":0}]
[{"$f":"'Rozliczenie kwartalne'!A282","v":"5"},{"$f":"'Rozliczenie kwartalne'!B282","v":""},{"$f":"'Rozliczenie kwartalne'!C282","v":0},{"$f":"'Rozliczenie kwartalne'!D282","v":0},{"$f":"'Rozliczenie kwartalne'!E282","v":0},{"$f":"'Rozliczenie kwartalne'!F282","v":0},{"$f":"'Rozliczenie kwartalne'!G282","v":0},{"$f":"'Rozliczenie kwartalne'!H282","v":0},{"$f":"'Rozliczenie kwartalne'!I282","v":0},{"$f":"'Rozliczenie kwartalne'!J282","v":0},{"$f":"'Rozliczenie kwartalne'!K282","v":0},{"$f":"'Rozliczenie kwartalne'!L282","v":0},{"$f":"'Rozliczenie kwartalne'!M282","v":0},{"$f":"'Rozliczenie kwartalne'!N282","v":0},{"$f":"'Załącznik nr 1 do rozliczenia'!D280","v":0},{"$f":"'Załącznik nr 1 do rozliczenia'!F280","v":0},{"$f":"'Załącznik nr 1 do rozliczenia'!H280","v":0},{"$f":"'Załącznik nr 2 do rozliczenia'!D275","v":0},{"$f":"'Załącznik nr 2 do rozliczenia'!E275","v":0},{"$f":"'Załącznik nr 2 do rozliczenia'!F275","v":""},{"$f":"'Załącznik nr 2 do rozliczenia'!H275","v":0}]
[{"$f":"'Rozliczenie kwartalne'!A283","v":"6"},{"$f":"'Rozliczenie kwartalne'!B283","v":""},{"$f":"'Rozliczenie kwartalne'!C283","v":0},{"$f":"'Rozliczenie kwartalne'!D283","v":0},{"$f":"'Rozliczenie kwartalne'!E283","v":0},{"$f":"'Rozliczenie kwartalne'!F283","v":0},{"$f":"'Rozliczenie kwartalne'!G283","v":0},{"$f":"'Rozliczenie kwartalne'!H283","v":0},{"$f":"'Rozliczenie kwartalne'!I283","v":0},{"$f":"'Rozliczenie kwartalne'!J283","v":0},{"$f":"'Rozliczenie kwartalne'!K283","v":0},{"$f":"'Rozliczenie kwartalne'!L283","v":0},{"$f":"'Rozliczenie kwartalne'!M283","v":0},{"$f":"'Rozliczenie kwartalne'!N283","v":0},{"$f":"'Załącznik nr 1 do rozliczenia'!D281","v":0},{"$f":"'Załącznik nr 1 do rozliczenia'!F281","v":0},{"$f":"'Załącznik nr 1 do rozliczenia'!H281","v":0},{"$f":"'Załącznik nr 2 do rozliczenia'!D276","v":0},{"$f":"'Załącznik nr 2 do rozliczenia'!E276","v":0},{"$f":"'Załącznik nr 2 do rozliczenia'!F276","v":""},{"$f":"'Załącznik nr 2 do rozliczenia'!H276","v":0}]
[{"$f":"'Rozliczenie kwartalne'!A284","v":"7"},{"$f":"'Rozliczenie kwartalne'!B284","v":""},{"$f":"'Rozliczenie kwartalne'!C284","v":0},{"$f":"'Rozliczenie kwartalne'!D284","v":0},{"$f":"'Rozliczenie kwartalne'!E284","v":0},{"$f":"'Rozliczenie kwartalne'!F284","v":0},{"$f":"'Rozliczenie kwartalne'!G284","v":0},{"$f":"'Rozliczenie kwartalne'!H284","v":0},{"$f":"'Rozliczenie kwartalne'!I284","v":0},{"$f":"'Rozliczenie kwartalne'!J284","v":0},{"$f":"'Rozliczenie kwartalne'!K284","v":0},{"$f":"'Rozliczenie kwartalne'!L284","v":0},{"$f":"'Rozliczenie kwartalne'!M284","v":0},{"$f":"'Rozliczenie kwartalne'!N284","v":0},{"$f":"'Załącznik nr 1 do rozliczenia'!D282","v":0},{"$f":"'Załącznik nr 1 do rozliczenia'!F282","v":0},{"$f":"'Załącznik nr 1 do rozliczenia'!H282","v":0},{"$f":"'Załącznik nr 2 do rozliczenia'!D277","v":0},{"$f":"'Załącznik nr 2 do rozliczenia'!E277","v":0},{"$f":"'Załącznik nr 2 do rozliczenia'!F277","v":""},{"$f":"'Załącznik nr 2 do rozliczenia'!H277","v":0}]
[{"$f":"'Rozliczenie kwartalne'!A285","v":"8"},{"$f":"'Rozliczenie kwartalne'!B285","v":""},{"$f":"'Rozliczenie kwartalne'!C285","v":0},{"$f":"'Rozliczenie kwartalne'!D285","v":0},{"$f":"'Rozliczenie kwartalne'!E285","v":0},{"$f":"'Rozliczenie kwartalne'!F285","v":0},{"$f":"'Rozliczenie kwartalne'!G285","v":0},{"$f":"'Rozliczenie kwartalne'!H285","v":0},{"$f":"'Rozliczenie kwartalne'!I285","v":0},{"$f":"'Rozliczenie kwartalne'!J285","v":0},{"$f":"'Rozliczenie kwartalne'!K285","v":0},{"$f":"'Rozliczenie kwartalne'!L285","v":0},{"$f":"'Rozliczenie kwartalne'!M285","v":0},{"$f":"'Rozliczenie kwartalne'!N285","v":0},{"$f":"'Załącznik nr 1 do rozliczenia'!D283","v":0},{"$f":"'Załącznik nr 1 do rozliczenia'!F283","v":0},{"$f":"'Załącznik nr 1 do rozliczenia'!H283","v":0},{"$f":"'Załącznik nr 2 do rozliczenia'!D278","v":0},{"$f":"'Załącznik nr 2 do rozliczenia'!E278","v":0},{"$f":"'Załącznik nr 2 do rozliczenia'!F278","v":""},{"$f":"'Załącznik nr 2 do rozliczenia'!H278","v":0}]
[{"$f":"'Rozliczenie kwartalne'!A286","v":"9"},{"$f":"'Rozliczenie kwartalne'!B286","v":""},{"$f":"'Rozliczenie kwartalne'!C286","v":0},{"$f":"'Rozliczenie kwartalne'!D286","v":0},{"$f":"'Rozliczenie kwartalne'!E286","v":0},{"$f":"'Rozliczenie kwartalne'!F286","v":0},{"$f":"'Rozliczenie kwartalne'!G286","v":0},{"$f":"'Rozliczenie kwartalne'!H286","v":0},{"$f":"'Rozliczenie kwartalne'!I286","v":0},{"$f":"'Rozliczenie kwartalne'!J286","v":0},{"$f":"'Rozliczenie kwartalne'!K286","v":0},{"$f":"'Rozliczenie kwartalne'!L286","v":0},{"$f":"'Rozliczenie kwartalne'!M286","v":0},{"$f":"'Rozliczenie kwartalne'!N286","v":0},{"$f":"'Załącznik nr 1 do rozliczenia'!D284","v":0},{"$f":"'Załącznik nr 1 do rozliczenia'!F284","v":0},{"$f":"'Załącznik nr 1 do rozliczenia'!H284","v":0},{"$f":"'Załącznik nr 2 do rozliczenia'!D279","v":0},{"$f":"'Załącznik nr 2 do rozliczenia'!E279","v":0},{"$f":"'Załącznik nr 2 do rozliczenia'!F279","v":""},{"$f":"'Załącznik nr 2 do rozliczenia'!H279","v":0}]
[{"$f":"'Rozliczenie kwartalne'!A287","v":"10"},{"$f":"'Rozliczenie kwartalne'!B287","v":""},{"$f":"'Rozliczenie kwartalne'!C287","v":0},{"$f":"'Rozliczenie kwartalne'!D287","v":0},{"$f":"'Rozliczenie kwartalne'!E287","v":0},{"$f":"'Rozliczenie kwartalne'!F287","v":0},{"$f":"'Rozliczenie kwartalne'!G287","v":0},{"$f":"'Rozliczenie kwartalne'!H287","v":0},{"$f":"'Rozliczenie kwartalne'!I287","v":0},{"$f":"'Rozliczenie kwartalne'!J287","v":0},{"$f":"'Rozliczenie kwartalne'!K287","v":0},{"$f":"'Rozliczenie kwartalne'!L287","v":0},{"$f":"'Rozliczenie kwartalne'!M287","v":0},{"$f":"'Rozliczenie kwartalne'!N287","v":0},{"$f":"'Załącznik nr 1 do rozliczenia'!D285","v":0},{"$f":"'Załącznik nr 1 do rozliczenia'!F285","v":0},{"$f":"'Załącznik nr 1 do rozliczenia'!H285","v":0},{"$f":"'Załącznik nr 2 do rozliczenia'!D280","v":0},{"$f":"'Załącznik nr 2 do rozliczenia'!E280","v":0},{"$f":"'Załącznik nr 2 do rozliczenia'!F280","v":""},{"$f":"'Załącznik nr 2 do rozliczenia'!H280","v":0}]
[{"$f":"'Rozliczenie kwartalne'!A288","v":"11"},{"$f":"'Rozliczenie kwartalne'!B288","v":""},{"$f":"'Rozliczenie kwartalne'!C288","v":0},{"$f":"'Rozliczenie kwartalne'!D288","v":0},{"$f":"'Rozliczenie kwartalne'!E288","v":0},{"$f":"'Rozliczenie kwartalne'!F288","v":0},{"$f":"'Rozliczenie kwartalne'!G288","v":0},{"$f":"'Rozliczenie kwartalne'!H288","v":0},{"$f":"'Rozliczenie kwartalne'!I288","v":0},{"$f":"'Rozliczenie kwartalne'!J288","v":0},{"$f":"'Rozliczenie kwartalne'!K288","v":0},{"$f":"'Rozliczenie kwartalne'!L288","v":0},{"$f":"'Rozliczenie kwartalne'!M288","v":0},{"$f":"'Rozliczenie kwartalne'!N288","v":0},{"$f":"'Załącznik nr 1 do rozliczenia'!D286","v":0},{"$f":"'Załącznik nr 1 do rozliczenia'!F286","v":0},{"$f":"'Załącznik nr 1 do rozliczenia'!H286","v":0},{"$f":"'Załącznik nr 2 do rozliczenia'!D281","v":0},{"$f":"'Załącznik nr 2 do rozliczenia'!E281","v":0},{"$f":"'Załącznik nr 2 do rozliczenia'!F281","v":""},{"$f":"'Załącznik nr 2 do rozliczenia'!H281","v":0}]
[{"$f":"'Rozliczenie kwartalne'!A289","v":"12"},{"$f":"'Rozliczenie kwartalne'!B289","v":""},{"$f":"'Rozliczenie kwartalne'!C289","v":0},{"$f":"'Rozliczenie kwartalne'!D289","v":0},{"$f":"'Rozliczenie kwartalne'!E289","v":0},{"$f":"'Rozliczenie kwartalne'!F289","v":0},{"$f":"'Rozliczenie kwartalne'!G289","v":0},{"$f":"'Rozliczenie kwartalne'!H289","v":0},{"$f":"'Rozliczenie kwartalne'!I289","v":0},{"$f":"'Rozliczenie kwartalne'!J289","v":0},{"$f":"'Rozliczenie kwartalne'!K289","v":0},{"$f":"'Rozliczenie kwartalne'!L289","v":0},{"$f":"'Rozliczenie kwartalne'!M289","v":0},{"$f":"'Rozliczenie kwartalne'!N289","v":0},{"$f":"'Załącznik nr 1 do rozliczenia'!D287","v":0},{"$f":"'Załącznik nr 1 do rozliczenia'!F287","v":0},{"$f":"'Załącznik nr 1 do rozliczenia'!H287","v":0},{"$f":"'Załącznik nr 2 do rozliczenia'!D282","v":0},{"$f":"'Załącznik nr 2 do rozliczenia'!E282","v":0},{"$f":"'Załącznik nr 2 do rozliczenia'!F282","v":""},{"$f":"'Załącznik nr 2 do rozliczenia'!H282","v":0}]
[{"$f":"'Rozliczenie kwartalne'!A290","v":"13"},{"$f":"'Rozliczenie kwartalne'!B290","v":""},{"$f":"'Rozliczenie kwartalne'!C290","v":0},{"$f":"'Rozliczenie kwartalne'!D290","v":0},{"$f":"'Rozliczenie kwartalne'!E290","v":0},{"$f":"'Rozliczenie kwartalne'!F290","v":0},{"$f":"'Rozliczenie kwartalne'!G290","v":0},{"$f":"'Rozliczenie kwartalne'!H290","v":0},{"$f":"'Rozliczenie kwartalne'!I290","v":0},{"$f":"'Rozliczenie kwartalne'!J290","v":0},{"$f":"'Rozliczenie kwartalne'!K290","v":0},{"$f":"'Rozliczenie kwartalne'!L290","v":0},{"$f":"'Rozliczenie kwartalne'!M290","v":0},{"$f":"'Rozliczenie kwartalne'!N290","v":0},{"$f":"'Załącznik nr 1 do rozliczenia'!D288","v":0},{"$f":"'Załącznik nr 1 do rozliczenia'!F288","v":0},{"$f":"'Załącznik nr 1 do rozliczenia'!H288","v":0},{"$f":"'Załącznik nr 2 do rozliczenia'!D283","v":0},{"$f":"'Załącznik nr 2 do rozliczenia'!E283","v":0},{"$f":"'Załącznik nr 2 do rozliczenia'!F283","v":""},{"$f":"'Załącznik nr 2 do rozliczenia'!H283","v":0}]
[{"$f":"'Rozliczenie kwartalne'!A291","v":"14"},{"$f":"'Rozliczenie kwartalne'!B291","v":""},{"$f":"'Rozliczenie kwartalne'!C291","v":0},{"$f":"'Rozliczenie kwartalne'!D291","v":0},{"$f":"'Rozliczenie kwartalne'!E291","v":0},{"$f":"'Rozliczenie kwartalne'!F291","v":0},{"$f":"'Rozliczenie kwartalne'!G291","v":0},{"$f":"'Rozliczenie kwartalne'!H291","v":0},{"$f":"'Rozliczenie kwartalne'!I291","v":0},{"$f":"'Rozliczenie kwartalne'!J291","v":0},{"$f":"'Rozliczenie kwartalne'!K291","v":0},{"$f":"'Rozliczenie kwartalne'!L291","v":0},{"$f":"'Rozliczenie kwartalne'!M291","v":0},{"$f":"'Rozliczenie kwartalne'!N291","v":0},{"$f":"'Załącznik nr 1 do rozliczenia'!D289","v":0},{"$f":"'Załącznik nr 1 do rozliczenia'!F289","v":0},{"$f":"'Załącznik nr 1 do rozliczenia'!H289","v":0},{"$f":"'Załącznik nr 2 do rozliczenia'!D284","v":0},{"$f":"'Załącznik nr 2 do rozliczenia'!E284","v":0},{"$f":"'Załącznik nr 2 do rozliczenia'!F284","v":""},{"$f":"'Załącznik nr 2 do rozliczenia'!H284","v":0}]
[{"$f":"'Rozliczenie kwartalne'!A292","v":"15"},{"$f":"'Rozliczenie kwartalne'!B292","v":""},{"$f":"'Rozliczenie kwartalne'!C292","v":0},{"$f":"'Rozliczenie kwartalne'!D292","v":0},{"$f":"'Rozliczenie kwartalne'!E292","v":0},{"$f":"'Rozliczenie kwartalne'!F292","v":0},{"$f":"'Rozliczenie kwartalne'!G292","v":0},{"$f":"'Rozliczenie kwartalne'!H292","v":0},{"$f":"'Rozliczenie kwartalne'!I292","v":0},{"$f":"'Rozliczenie kwartalne'!J292","v":0},{"$f":"'Rozliczenie kwartalne'!K292","v":0},{"$f":"'Rozliczenie kwartalne'!L292","v":0},{"$f":"'Rozliczenie kwartalne'!M292","v":0},{"$f":"'Rozliczenie kwartalne'!N292","v":0},{"$f":"'Załącznik nr 1 do rozliczenia'!D290","v":0},{"$f":"'Załącznik nr 1 do rozliczenia'!F290","v":0},{"$f":"'Załącznik nr 1 do rozliczenia'!H290","v":0},{"$f":"'Załącznik nr 2 do rozliczenia'!D285","v":0},{"$f":"'Załącznik nr 2 do rozliczenia'!E285","v":0},{"$f":"'Załącznik nr 2 do rozliczenia'!F285","v":""},{"$f":"'Załącznik nr 2 do rozliczenia'!H285","v":0}]
[{"$f":"'Rozliczenie kwartalne'!A293","v":"16"},{"$f":"'Rozliczenie kwartalne'!B293","v":""},{"$f":"'Rozliczenie kwartalne'!C293","v":0},{"$f":"'Rozliczenie kwartalne'!D293","v":0},{"$f":"'Rozliczenie kwartalne'!E293","v":0},{"$f":"'Rozliczenie kwartalne'!F293","v":0},{"$f":"'Rozliczenie kwartalne'!G293","v":0},{"$f":"'Rozliczenie kwartalne'!H293","v":0},{"$f":"'Rozliczenie kwartalne'!I293","v":0},{"$f":"'Rozliczenie kwartalne'!J293","v":0},{"$f":"'Rozliczenie kwartalne'!K293","v":0},{"$f":"'Rozliczenie kwartalne'!L293","v":0},{"$f":"'Rozliczenie kwartalne'!M293","v":0},{"$f":"'Rozliczenie kwartalne'!N293","v":0},{"$f":"'Załącznik nr 1 do rozliczenia'!D291","v":0},{"$f":"'Załącznik nr 1 do rozliczenia'!F291","v":0},{"$f":"'Załącznik nr 1 do rozliczenia'!H291","v":0},{"$f":"'Załącznik nr 2 do rozliczenia'!D286","v":0},{"$f":"'Załącznik nr 2 do rozliczenia'!E286","v":0},{"$f":"'Załącznik nr 2 do rozliczenia'!F286","v":""},{"$f":"'Załącznik nr 2 do rozliczenia'!H286","v":0}]
[{"$f":"'Rozliczenie kwartalne'!A294","v":"17"},{"$f":"'Rozliczenie kwartalne'!B294","v":""},{"$f":"'Rozliczenie kwartalne'!C294","v":0},{"$f":"'Rozliczenie kwartalne'!D294","v":0},{"$f":"'Rozliczenie kwartalne'!E294","v":0},{"$f":"'Rozliczenie kwartalne'!F294","v":0},{"$f":"'Rozliczenie kwartalne'!G294","v":0},{"$f":"'Rozliczenie kwartalne'!H294","v":0},{"$f":"'Rozliczenie kwartalne'!I294","v":0},{"$f":"'Rozliczenie kwartalne'!J294","v":0},{"$f":"'Rozliczenie kwartalne'!K294","v":0},{"$f":"'Rozliczenie kwartalne'!L294","v":0},{"$f":"'Rozliczenie kwartalne'!M294","v":0},{"$f":"'Rozliczenie kwartalne'!N294","v":0},{"$f":"'Załącznik nr 1 do rozliczenia'!D292","v":0},{"$f":"'Załącznik nr 1 do rozliczenia'!F292","v":0},{"$f":"'Załącznik nr 1 do rozliczenia'!H292","v":0},{"$f":"'Załącznik nr 2 do rozliczenia'!D287","v":0},{"$f":"'Załącznik nr 2 do rozliczenia'!E287","v":0},{"$f":"'Załącznik nr 2 do rozliczenia'!F287","v":""},{"$f":"'Załącznik nr 2 do rozliczenia'!H287","v":0}]
[{"$f":"'Rozliczenie kwartalne'!A295","v":"18"},{"$f":"'Rozliczenie kwartalne'!B295","v":""},{"$f":"'Rozliczenie kwartalne'!C295","v":0},{"$f":"'Rozliczenie kwartalne'!D295","v":0},{"$f":"'Rozliczenie kwartalne'!E295","v":0},{"$f":"'Rozliczenie kwartalne'!F295","v":0},{"$f":"'Rozliczenie kwartalne'!G295","v":0},{"$f":"'Rozliczenie kwartalne'!H295","v":0},{"$f":"'Rozliczenie kwartalne'!I295","v":0},{"$f":"'Rozliczenie kwartalne'!J295","v":0},{"$f":"'Rozliczenie kwartalne'!K295","v":0},{"$f":"'Rozliczenie kwartalne'!L295","v":0},{"$f":"'Rozliczenie kwartalne'!M295","v":0},{"$f":"'Rozliczenie kwartalne'!N295","v":0},{"$f":"'Załącznik nr 1 do rozliczenia'!D293","v":0},{"$f":"'Załącznik nr 1 do rozliczenia'!F293","v":0},{"$f":"'Załącznik nr 1 do rozliczenia'!H293","v":0},{"$f":"'Załącznik nr 2 do rozliczenia'!D288","v":0},{"$f":"'Załącznik nr 2 do rozliczenia'!E288","v":0},{"$f":"'Załącznik nr 2 do rozliczenia'!F288","v":""},{"$f":"'Załącznik nr 2 do rozliczenia'!H288","v":0}]
[{"$f":"'Rozliczenie kwartalne'!A296","v":"19"},{"$f":"'Rozliczenie kwartalne'!B296","v":""},{"$f":"'Rozliczenie kwartalne'!C296","v":0},{"$f":"'Rozliczenie kwartalne'!D296","v":0},{"$f":"'Rozliczenie kwartalne'!E296","v":0},{"$f":"'Rozliczenie kwartalne'!F296","v":0},{"$f":"'Rozliczenie kwartalne'!G296","v":0},{"$f":"'Rozliczenie kwartalne'!H296","v":0},{"$f":"'Rozliczenie kwartalne'!I296","v":0},{"$f":"'Rozliczenie kwartalne'!J296","v":0},{"$f":"'Rozliczenie kwartalne'!K296","v":0},{"$f":"'Rozliczenie kwartalne'!L296","v":0},{"$f":"'Rozliczenie kwartalne'!M296","v":0},{"$f":"'Rozliczenie kwartalne'!N296","v":0},{"$f":"'Załącznik nr 1 do rozliczenia'!D294","v":0},{"$f":"'Załącznik nr 1 do rozliczenia'!F294","v":0},{"$f":"'Załącznik nr 1 do rozliczenia'!H294","v":0},{"$f":"'Załącznik nr 2 do rozliczenia'!D289","v":0},{"$f":"'Załącznik nr 2 do rozliczenia'!E289","v":0},{"$f":"'Załącznik nr 2 do rozliczenia'!F289","v":""},{"$f":"'Załącznik nr 2 do rozliczenia'!H289","v":0}]
[{"$f":"'Rozliczenie kwartalne'!A297","v":"20"},{"$f":"'Rozliczenie kwartalne'!B297","v":""},{"$f":"'Rozliczenie kwartalne'!C297","v":0},{"$f":"'Rozliczenie kwartalne'!D297","v":0},{"$f":"'Rozliczenie kwartalne'!E297","v":0},{"$f":"'Rozliczenie kwartalne'!F297","v":0},{"$f":"'Rozliczenie kwartalne'!G297","v":0},{"$f":"'Rozliczenie kwartalne'!H297","v":0},{"$f":"'Rozliczenie kwartalne'!I297","v":0},{"$f":"'Rozliczenie kwartalne'!J297","v":0},{"$f":"'Rozliczenie kwartalne'!K297","v":0},{"$f":"'Rozliczenie kwartalne'!L297","v":0},{"$f":"'Rozliczenie kwartalne'!M297","v":0},{"$f":"'Rozliczenie kwartalne'!N297","v":0},{"$f":"'Załącznik nr 1 do rozliczenia'!D295","v":0},{"$f":"'Załącznik nr 1 do rozliczenia'!F295","v":0},{"$f":"'Załącznik nr 1 do rozliczenia'!H295","v":0},{"$f":"'Załącznik nr 2 do rozliczenia'!D290","v":0},{"$f":"'Załącznik nr 2 do rozliczenia'!E290","v":0},{"$f":"'Załącznik nr 2 do rozliczenia'!F290","v":""},{"$f":"'Załącznik nr 2 do rozliczenia'!H290","v":0}]
[{"$f":"'Rozliczenie kwartalne'!A298","v":"21"},{"$f":"'Rozliczenie kwartalne'!B298","v":""},{"$f":"'Rozliczenie kwartalne'!C298","v":0},{"$f":"'Rozliczenie kwartalne'!D298","v":0},{"$f":"'Rozliczenie kwartalne'!E298","v":0},{"$f":"'Rozliczenie kwartalne'!F298","v":0},{"$f":"'Rozliczenie kwartalne'!G298","v":0},{"$f":"'Rozliczenie kwartalne'!H298","v":0},{"$f":"'Rozliczenie kwartalne'!I298","v":0},{"$f":"'Rozliczenie kwartalne'!J298","v":0},{"$f":"'Rozliczenie kwartalne'!K298","v":0},{"$f":"'Rozliczenie kwartalne'!L298","v":0},{"$f":"'Rozliczenie kwartalne'!M298","v":0},{"$f":"'Rozliczenie kwartalne'!N298","v":0},{"$f":"'Załącznik nr 1 do rozliczenia'!D296","v":0},{"$f":"'Załącznik nr 1 do rozliczenia'!F296","v":0},{"$f":"'Załącznik nr 1 do rozliczenia'!H296","v":0},{"$f":"'Załącznik nr 2 do rozliczenia'!D291","v":0},{"$f":"'Załącznik nr 2 do rozliczenia'!E291","v":0},{"$f":"'Załącznik nr 2 do rozliczenia'!F291","v":""},{"$f":"'Załącznik nr 2 do rozliczenia'!H291","v":0}]
[{"$f":"'Rozliczenie kwartalne'!A299","v":"22"},{"$f":"'Rozliczenie kwartalne'!B299","v":""},{"$f":"'Rozliczenie kwartalne'!C299","v":0},{"$f":"'Rozliczenie kwartalne'!D299","v":0},{"$f":"'Rozliczenie kwartalne'!E299","v":0},{"$f":"'Rozliczenie kwartalne'!F299","v":0},{"$f":"'Rozliczenie kwartalne'!G299","v":0},{"$f":"'Rozliczenie kwartalne'!H299","v":0},{"$f":"'Rozliczenie kwartalne'!I299","v":0},{"$f":"'Rozliczenie kwartalne'!J299","v":0},{"$f":"'Rozliczenie kwartalne'!K299","v":0},{"$f":"'Rozliczenie kwartalne'!L299","v":0},{"$f":"'Rozliczenie kwartalne'!M299","v":0},{"$f":"'Rozliczenie kwartalne'!N299","v":0},{"$f":"'Załącznik nr 1 do rozliczenia'!D297","v":0},{"$f":"'Załącznik nr 1 do rozliczenia'!F297","v":0},{"$f":"'Załącznik nr 1 do rozliczenia'!H297","v":0},{"$f":"'Załącznik nr 2 do rozliczenia'!D292","v":0},{"$f":"'Załącznik nr 2 do rozliczenia'!E292","v":0},{"$f":"'Załącznik nr 2 do rozliczenia'!F292","v":""},{"$f":"'Załącznik nr 2 do rozliczenia'!H292","v":0}]
[{"$f":"'Rozliczenie kwartalne'!A300","v":"23"},{"$f":"'Rozliczenie kwartalne'!B300","v":""},{"$f":"'Rozliczenie kwartalne'!C300","v":0},{"$f":"'Rozliczenie kwartalne'!D300","v":0},{"$f":"'Rozliczenie kwartalne'!E300","v":0},{"$f":"'Rozliczenie kwartalne'!F300","v":0},{"$f":"'Rozliczenie kwartalne'!G300","v":0},{"$f":"'Rozliczenie kwartalne'!H300","v":0},{"$f":"'Rozliczenie kwartalne'!I300","v":0},{"$f":"'Rozliczenie kwartalne'!J300","v":0},{"$f":"'Rozliczenie kwartalne'!K300","v":0},{"$f":"'Rozliczenie kwartalne'!L300","v":0},{"$f":"'Rozliczenie kwartalne'!M300","v":0},{"$f":"'Rozliczenie kwartalne'!N300","v":0},{"$f":"'Załącznik nr 1 do rozliczenia'!D298","v":0},{"$f":"'Załącznik nr 1 do rozliczenia'!F298","v":0},{"$f":"'Załącznik nr 1 do rozliczenia'!H298","v":0},{"$f":"'Załącznik nr 2 do rozliczenia'!D293","v":0},{"$f":"'Załącznik nr 2 do rozliczenia'!E293","v":0},{"$f":"'Załącznik nr 2 do rozliczenia'!F293","v":""},{"$f":"'Załącznik nr 2 do rozliczenia'!H293","v":0}]
[{"$f":"'Rozliczenie kwartalne'!A301","v":"24"},{"$f":"'Rozliczenie kwartalne'!B301","v":""},{"$f":"'Rozliczenie kwartalne'!C301","v":0},{"$f":"'Rozliczenie kwartalne'!D301","v":0},{"$f":"'Rozliczenie kwartalne'!E301","v":0},{"$f":"'Rozliczenie kwartalne'!F301","v":0},{"$f":"'Rozliczenie kwartalne'!G301","v":0},{"$f":"'Rozliczenie kwartalne'!H301","v":0},{"$f":"'Rozliczenie kwartalne'!I301","v":0},{"$f":"'Rozliczenie kwartalne'!J301","v":0},{"$f":"'Rozliczenie kwartalne'!K301","v":0},{"$f":"'Rozliczenie kwartalne'!L301","v":0},{"$f":"'Rozliczenie kwartalne'!M301","v":0},{"$f":"'Rozliczenie kwartalne'!N301","v":0},{"$f":"'Załącznik nr 1 do rozliczenia'!D299","v":0},{"$f":"'Załącznik nr 1 do rozliczenia'!F299","v":0},{"$f":"'Załącznik nr 1 do rozliczenia'!H299","v":0},{"$f":"'Załącznik nr 2 do rozliczenia'!D294","v":0},{"$f":"'Załącznik nr 2 do rozliczenia'!E294","v":0},{"$f":"'Załącznik nr 2 do rozliczenia'!F294","v":""},{"$f":"'Załącznik nr 2 do rozliczenia'!H294","v":0}]
[{"$f":"'Rozliczenie kwartalne'!A302","v":"25"},{"$f":"'Rozliczenie kwartalne'!B302","v":""},{"$f":"'Rozliczenie kwartalne'!C302","v":0},{"$f":"'Rozliczenie kwartalne'!D302","v":0},{"$f":"'Rozliczenie kwartalne'!E302","v":0},{"$f":"'Rozliczenie kwartalne'!F302","v":0},{"$f":"'Rozliczenie kwartalne'!G302","v":0},{"$f":"'Rozliczenie kwartalne'!H302","v":0},{"$f":"'Rozliczenie kwartalne'!I302","v":0},{"$f":"'Rozliczenie kwartalne'!J302","v":0},{"$f":"'Rozliczenie kwartalne'!K302","v":0},{"$f":"'Rozliczenie kwartalne'!L302","v":0},{"$f":"'Rozliczenie kwartalne'!M302","v":0},{"$f":"'Rozliczenie kwartalne'!N302","v":0},{"$f":"'Załącznik nr 1 do rozliczenia'!D300","v":0},{"$f":"'Załącznik nr 1 do rozliczenia'!F300","v":0},{"$f":"'Załącznik nr 1 do rozliczenia'!H300","v":0},{"$f":"'Załącznik nr 2 do rozliczenia'!D295","v":0},{"$f":"'Załącznik nr 2 do rozliczenia'!E295","v":0},{"$f":"'Załącznik nr 2 do rozliczenia'!F295","v":""},{"$f":"'Załącznik nr 2 do rozliczenia'!H295","v":0}]
[{"$f":"'Rozliczenie kwartalne'!A303","v":"26"},{"$f":"'Rozliczenie kwartalne'!B303","v":""},{"$f":"'Rozliczenie kwartalne'!C303","v":0},{"$f":"'Rozliczenie kwartalne'!D303","v":0},{"$f":"'Rozliczenie kwartalne'!E303","v":0},{"$f":"'Rozliczenie kwartalne'!F303","v":0},{"$f":"'Rozliczenie kwartalne'!G303","v":0},{"$f":"'Rozliczenie kwartalne'!H303","v":0},{"$f":"'Rozliczenie kwartalne'!I303","v":0},{"$f":"'Rozliczenie kwartalne'!J303","v":0},{"$f":"'Rozliczenie kwartalne'!K303","v":0},{"$f":"'Rozliczenie kwartalne'!L303","v":0},{"$f":"'Rozliczenie kwartalne'!M303","v":0},{"$f":"'Rozliczenie kwartalne'!N303","v":0},{"$f":"'Załącznik nr 1 do rozliczenia'!D301","v":0},{"$f":"'Załącznik nr 1 do rozliczenia'!F301","v":0},{"$f":"'Załącznik nr 1 do rozliczenia'!H301","v":0},{"$f":"'Załącznik nr 2 do rozliczenia'!D296","v":0},{"$f":"'Załącznik nr 2 do rozliczenia'!E296","v":0},{"$f":"'Załącznik nr 2 do rozliczenia'!F296","v":""},{"$f":"'Załącznik nr 2 do rozliczenia'!H296","v":0}]
[{"$f":"'Rozliczenie kwartalne'!A304","v":"27"},{"$f":"'Rozliczenie kwartalne'!B304","v":""},{"$f":"'Rozliczenie kwartalne'!C304","v":0},{"$f":"'Rozliczenie kwartalne'!D304","v":0},{"$f":"'Rozliczenie kwartalne'!E304","v":0},{"$f":"'Rozliczenie kwartalne'!F304","v":0},{"$f":"'Rozliczenie kwartalne'!G304","v":0},{"$f":"'Rozliczenie kwartalne'!H304","v":0},{"$f":"'Rozliczenie kwartalne'!I304","v":0},{"$f":"'Rozliczenie kwartalne'!J304","v":0},{"$f":"'Rozliczenie kwartalne'!K304","v":0},{"$f":"'Rozliczenie kwartalne'!L304","v":0},{"$f":"'Rozliczenie kwartalne'!M304","v":0},{"$f":"'Rozliczenie kwartalne'!N304","v":0},{"$f":"'Załącznik nr 1 do rozliczenia'!D302","v":0},{"$f":"'Załącznik nr 1 do rozliczenia'!F302","v":0},{"$f":"'Załącznik nr 1 do rozliczenia'!H302","v":0},{"$f":"'Załącznik nr 2 do rozliczenia'!D297","v":0},{"$f":"'Załącznik nr 2 do rozliczenia'!E297","v":0},{"$f":"'Załącznik nr 2 do rozliczenia'!F297","v":""},{"$f":"'Załącznik nr 2 do rozliczenia'!H297","v":0}]
[{"$f":"'Rozliczenie kwartalne'!A305","v":"28"},{"$f":"'Rozliczenie kwartalne'!B305","v":""},{"$f":"'Rozliczenie kwartalne'!C305","v":0},{"$f":"'Rozliczenie kwartalne'!D305","v":0},{"$f":"'Rozliczenie kwartalne'!E305","v":0},{"$f":"'Rozliczenie kwartalne'!F305","v":0},{"$f":"'Rozliczenie kwartalne'!G305","v":0},{"$f":"'Rozliczenie kwartalne'!H305","v":0},{"$f":"'Rozliczenie kwartalne'!I305","v":0},{"$f":"'Rozliczenie kwartalne'!J305","v":0},{"$f":"'Rozliczenie kwartalne'!K305","v":0},{"$f":"'Rozliczenie kwartalne'!L305","v":0},{"$f":"'Rozliczenie kwartalne'!M305","v":0},{"$f":"'Rozliczenie kwartalne'!N305","v":0},{"$f":"'Załącznik nr 1 do rozliczenia'!D303","v":0},{"$f":"'Załącznik nr 1 do rozliczenia'!F303","v":0},{"$f":"'Załącznik nr 1 do rozliczenia'!H303","v":0},{"$f":"'Załącznik nr 2 do rozliczenia'!D298","v":0},{"$f":"'Załącznik nr 2 do rozliczenia'!E298","v":0},{"$f":"'Załącznik nr 2 do rozliczenia'!F298","v":""},{"$f":"'Załącznik nr 2 do rozliczenia'!H298","v":0}]
[{"$f":"'Rozliczenie kwartalne'!A306","v":"29"},{"$f":"'Rozliczenie kwartalne'!B306","v":""},{"$f":"'Rozliczenie kwartalne'!C306","v":0},{"$f":"'Rozliczenie kwartalne'!D306","v":0},{"$f":"'Rozliczenie kwartalne'!E306","v":0},{"$f":"'Rozliczenie kwartalne'!F306","v":0},{"$f":"'Rozliczenie kwartalne'!G306","v":0},{"$f":"'Rozliczenie kwartalne'!H306","v":0},{"$f":"'Rozliczenie kwartalne'!I306","v":0},{"$f":"'Rozliczenie kwartalne'!J306","v":0},{"$f":"'Rozliczenie kwartalne'!K306","v":0},{"$f":"'Rozliczenie kwartalne'!L306","v":0},{"$f":"'Rozliczenie kwartalne'!M306","v":0},{"$f":"'Rozliczenie kwartalne'!N306","v":0},{"$f":"'Załącznik nr 1 do rozliczenia'!D304","v":0},{"$f":"'Załącznik nr 1 do rozliczenia'!F304","v":0},{"$f":"'Załącznik nr 1 do rozliczenia'!H304","v":0},{"$f":"'Załącznik nr 2 do rozliczenia'!D299","v":0},{"$f":"'Załącznik nr 2 do rozliczenia'!E299","v":0},{"$f":"'Załącznik nr 2 do rozliczenia'!F299","v":""},{"$f":"'Załącznik nr 2 do rozliczenia'!H299","v":0}]
[{"$f":"'Rozliczenie kwartalne'!A307","v":"30"},{"$f":"'Rozliczenie kwartalne'!B307","v":""},{"$f":"'Rozliczenie kwartalne'!C307","v":0},{"$f":"'Rozliczenie kwartalne'!D307","v":0},{"$f":"'Rozliczenie kwartalne'!E307","v":0},{"$f":"'Rozliczenie kwartalne'!F307","v":0},{"$f":"'Rozliczenie kwartalne'!G307","v":0},{"$f":"'Rozliczenie kwartalne'!H307","v":0},{"$f":"'Rozliczenie kwartalne'!I307","v":0},{"$f":"'Rozliczenie kwartalne'!J307","v":0},{"$f":"'Rozliczenie kwartalne'!K307","v":0},{"$f":"'Rozliczenie kwartalne'!L307","v":0},{"$f":"'Rozliczenie kwartalne'!M307","v":0},{"$f":"'Rozliczenie kwartalne'!N307","v":0},{"$f":"'Załącznik nr 1 do rozliczenia'!D305","v":0},{"$f":"'Załącznik nr 1 do rozliczenia'!F305","v":0},{"$f":"'Załącznik nr 1 do rozliczenia'!H305","v":0},{"$f":"'Załącznik nr 2 do rozliczenia'!D300","v":0},{"$f":"'Załącznik nr 2 do rozliczenia'!E300","v":0},{"$f":"'Załącznik nr 2 do rozliczenia'!F300","v":""},{"$f":"'Załącznik nr 2 do rozliczenia'!H300","v":0}]
[{"$f":"'Rozliczenie kwartalne'!A308","v":"31"},{"$f":"'Rozliczenie kwartalne'!B308","v":""},{"$f":"'Rozliczenie kwartalne'!C308","v":0},{"$f":"'Rozliczenie kwartalne'!D308","v":0},{"$f":"'Rozliczenie kwartalne'!E308","v":0},{"$f":"'Rozliczenie kwartalne'!F308","v":0},{"$f":"'Rozliczenie kwartalne'!G308","v":0},{"$f":"'Rozliczenie kwartalne'!H308","v":0},{"$f":"'Rozliczenie kwartalne'!I308","v":0},{"$f":"'Rozliczenie kwartalne'!J308","v":0},{"$f":"'Rozliczenie kwartalne'!K308","v":0},{"$f":"'Rozliczenie kwartalne'!L308","v":0},{"$f":"'Rozliczenie kwartalne'!M308","v":0},{"$f":"'Rozliczenie kwartalne'!N308","v":0},{"$f":"'Załącznik nr 1 do rozliczenia'!D306","v":0},{"$f":"'Załącznik nr 1 do rozliczenia'!F306","v":0},{"$f":"'Załącznik nr 1 do rozliczenia'!H306","v":0},{"$f":"'Załącznik nr 2 do rozliczenia'!D301","v":0},{"$f":"'Załącznik nr 2 do rozliczenia'!E301","v":0},{"$f":"'Załącznik nr 2 do rozliczenia'!F301","v":""},{"$f":"'Załącznik nr 2 do rozliczenia'!H301","v":0}]
[{"$f":"'Rozliczenie kwartalne'!A309","v":"32"},{"$f":"'Rozliczenie kwartalne'!B309","v":""},{"$f":"'Rozliczenie kwartalne'!C309","v":0},{"$f":"'Rozliczenie kwartalne'!D309","v":0},{"$f":"'Rozliczenie kwartalne'!E309","v":0},{"$f":"'Rozliczenie kwartalne'!F309","v":0},{"$f":"'Rozliczenie kwartalne'!G309","v":0},{"$f":"'Rozliczenie kwartalne'!H309","v":0},{"$f":"'Rozliczenie kwartalne'!I309","v":0},{"$f":"'Rozliczenie kwartalne'!J309","v":0},{"$f":"'Rozliczenie kwartalne'!K309","v":0},{"$f":"'Rozliczenie kwartalne'!L309","v":0},{"$f":"'Rozliczenie kwartalne'!M309","v":0},{"$f":"'Rozliczenie kwartalne'!N309","v":0},{"$f":"'Załącznik nr 1 do rozliczenia'!D307","v":0},{"$f":"'Załącznik nr 1 do rozliczenia'!F307","v":0},{"$f":"'Załącznik nr 1 do rozliczenia'!H307","v":0},{"$f":"'Załącznik nr 2 do rozliczenia'!D302","v":0},{"$f":"'Załącznik nr 2 do rozliczenia'!E302","v":0},{"$f":"'Załącznik nr 2 do rozliczenia'!F302","v":""},{"$f":"'Załącznik nr 2 do rozliczenia'!H302","v":0}]
[{"$f":"'Rozliczenie kwartalne'!A310","v":"33"},{"$f":"'Rozliczenie kwartalne'!B310","v":""},{"$f":"'Rozliczenie kwartalne'!C310","v":0},{"$f":"'Rozliczenie kwartalne'!D310","v":0},{"$f":"'Rozliczenie kwartalne'!E310","v":0},{"$f":"'Rozliczenie kwartalne'!F310","v":0},{"$f":"'Rozliczenie kwartalne'!G310","v":0},{"$f":"'Rozliczenie kwartalne'!H310","v":0},{"$f":"'Rozliczenie kwartalne'!I310","v":0},{"$f":"'Rozliczenie kwartalne'!J310","v":0},{"$f":"'Rozliczenie kwartalne'!K310","v":0},{"$f":"'Rozliczenie kwartalne'!L310","v":0},{"$f":"'Rozliczenie kwartalne'!M310","v":0},{"$f":"'Rozliczenie kwartalne'!N310","v":0},{"$f":"'Załącznik nr 1 do rozliczenia'!D308","v":0},{"$f":"'Załącznik nr 1 do rozliczenia'!F308","v":0},{"$f":"'Załącznik nr 1 do rozliczenia'!H308","v":0},{"$f":"'Załącznik nr 2 do rozliczenia'!D303","v":0},{"$f":"'Załącznik nr 2 do rozliczenia'!E303","v":0},{"$f":"'Załącznik nr 2 do rozliczenia'!F303","v":""},{"$f":"'Załącznik nr 2 do rozliczenia'!H303","v":0}]
[{"$f":"'Rozliczenie kwartalne'!A311","v":"34"},{"$f":"'Rozliczenie kwartalne'!B311","v":""},{"$f":"'Rozliczenie kwartalne'!C311","v":0},{"$f":"'Rozliczenie kwartalne'!D311","v":0},{"$f":"'Rozliczenie kwartalne'!E311","v":0},{"$f":"'Rozliczenie kwartalne'!F311","v":0},{"$f":"'Rozliczenie kwartalne'!G311","v":0},{"$f":"'Rozliczenie kwartalne'!H311","v":0},{"$f":"'Rozliczenie kwartalne'!I311","v":0},{"$f":"'Rozliczenie kwartalne'!J311","v":0},{"$f":"'Rozliczenie kwartalne'!K311","v":0},{"$f":"'Rozliczenie kwartalne'!L311","v":0},{"$f":"'Rozliczenie kwartalne'!M311","v":0},{"$f":"'Rozliczenie kwartalne'!N311","v":0},{"$f":"'Załącznik nr 1 do rozliczenia'!D309","v":0},{"$f":"'Załącznik nr 1 do rozliczenia'!F309","v":0},{"$f":"'Załącznik nr 1 do rozliczenia'!H309","v":0},{"$f":"'Załącznik nr 2 do rozliczenia'!D304","v":0},{"$f":"'Załącznik nr 2 do rozliczenia'!E304","v":0},{"$f":"'Załącznik nr 2 do rozliczenia'!F304","v":""},{"$f":"'Załącznik nr 2 do rozliczenia'!H304","v":0}]
[{"$f":"'Rozliczenie kwartalne'!A312","v":"35"},{"$f":"'Rozliczenie kwartalne'!B312","v":""},{"$f":"'Rozliczenie kwartalne'!C312","v":0},{"$f":"'Rozliczenie kwartalne'!D312","v":0},{"$f":"'Rozliczenie kwartalne'!E312","v":0},{"$f":"'Rozliczenie kwartalne'!F312","v":0},{"$f":"'Rozliczenie kwartalne'!G312","v":0},{"$f":"'Rozliczenie kwartalne'!H312","v":0},{"$f":"'Rozliczenie kwartalne'!I312","v":0},{"$f":"'Rozliczenie kwartalne'!J312","v":0},{"$f":"'Rozliczenie kwartalne'!K312","v":0},{"$f":"'Rozliczenie kwartalne'!L312","v":0},{"$f":"'Rozliczenie kwartalne'!M312","v":0},{"$f":"'Rozliczenie kwartalne'!N312","v":0},{"$f":"'Załącznik nr 1 do rozliczenia'!D310","v":0},{"$f":"'Załącznik nr 1 do rozliczenia'!F310","v":0},{"$f":"'Załącznik nr 1 do rozliczenia'!H310","v":0},{"$f":"'Załącznik nr 2 do rozliczenia'!D305","v":0},{"$f":"'Załącznik nr 2 do rozliczenia'!E305","v":0},{"$f":"'Załącznik nr 2 do rozliczenia'!F305","v":""},{"$f":"'Załącznik nr 2 do rozliczenia'!H305","v":0}]
[{"$f":"'Rozliczenie kwartalne'!A313","v":"36"},{"$f":"'Rozliczenie kwartalne'!B313","v":""},{"$f":"'Rozliczenie kwartalne'!C313","v":0},{"$f":"'Rozliczenie kwartalne'!D313","v":0},{"$f":"'Rozliczenie kwartalne'!E313","v":0},{"$f":"'Rozliczenie kwartalne'!F313","v":0},{"$f":"'Rozliczenie kwartalne'!G313","v":0},{"$f":"'Rozliczenie kwartalne'!H313","v":0},{"$f":"'Rozliczenie kwartalne'!I313","v":0},{"$f":"'Rozliczenie kwartalne'!J313","v":0},{"$f":"'Rozliczenie kwartalne'!K313","v":0},{"$f":"'Rozliczenie kwartalne'!L313","v":0},{"$f":"'Rozliczenie kwartalne'!M313","v":0},{"$f":"'Rozliczenie kwartalne'!N313","v":0},{"$f":"'Załącznik nr 1 do rozliczenia'!D311","v":0},{"$f":"'Załącznik nr 1 do rozliczenia'!F311","v":0},{"$f":"'Załącznik nr 1 do rozliczenia'!H311","v":0},{"$f":"'Załącznik nr 2 do rozliczenia'!D306","v":0},{"$f":"'Załącznik nr 2 do rozliczenia'!E306","v":0},{"$f":"'Załącznik nr 2 do rozliczenia'!F306","v":""},{"$f":"'Załącznik nr 2 do rozliczenia'!H306","v":0}]
[{"$f":"'Rozliczenie kwartalne'!A314","v":"37"},{"$f":"'Rozliczenie kwartalne'!B314","v":""},{"$f":"'Rozliczenie kwartalne'!C314","v":0},{"$f":"'Rozliczenie kwartalne'!D314","v":0},{"$f":"'Rozliczenie kwartalne'!E314","v":0},{"$f":"'Rozliczenie kwartalne'!F314","v":0},{"$f":"'Rozliczenie kwartalne'!G314","v":0},{"$f":"'Rozliczenie kwartalne'!H314","v":0},{"$f":"'Rozliczenie kwartalne'!I314","v":0},{"$f":"'Rozliczenie kwartalne'!J314","v":0},{"$f":"'Rozliczenie kwartalne'!K314","v":0},{"$f":"'Rozliczenie kwartalne'!L314","v":0},{"$f":"'Rozliczenie kwartalne'!M314","v":0},{"$f":"'Rozliczenie kwartalne'!N314","v":0},{"$f":"'Załącznik nr 1 do rozliczenia'!D312","v":0},{"$f":"'Załącznik nr 1 do rozliczenia'!F312","v":0},{"$f":"'Załącznik nr 1 do rozliczenia'!H312","v":0},{"$f":"'Załącznik nr 2 do rozliczenia'!D307","v":0},{"$f":"'Załącznik nr 2 do rozliczenia'!E307","v":0},{"$f":"'Załącznik nr 2 do rozliczenia'!F307","v":""},{"$f":"'Załącznik nr 2 do rozliczenia'!H307","v":0}]
[{"$f":"'Rozliczenie kwartalne'!A315","v":"38"},{"$f":"'Rozliczenie kwartalne'!B315","v":""},{"$f":"'Rozliczenie kwartalne'!C315","v":0},{"$f":"'Rozliczenie kwartalne'!D315","v":0},{"$f":"'Rozliczenie kwartalne'!E315","v":0},{"$f":"'Rozliczenie kwartalne'!F315","v":0},{"$f":"'Rozliczenie kwartalne'!G315","v":0},{"$f":"'Rozliczenie kwartalne'!H315","v":0},{"$f":"'Rozliczenie kwartalne'!I315","v":0},{"$f":"'Rozliczenie kwartalne'!J315","v":0},{"$f":"'Rozliczenie kwartalne'!K315","v":0},{"$f":"'Rozliczenie kwartalne'!L315","v":0},{"$f":"'Rozliczenie kwartalne'!M315","v":0},{"$f":"'Rozliczenie kwartalne'!N315","v":0},{"$f":"'Załącznik nr 1 do rozliczenia'!D313","v":0},{"$f":"'Załącznik nr 1 do rozliczenia'!F313","v":0},{"$f":"'Załącznik nr 1 do rozliczenia'!H313","v":0},{"$f":"'Załącznik nr 2 do rozliczenia'!D308","v":0},{"$f":"'Załącznik nr 2 do rozliczenia'!E308","v":0},{"$f":"'Załącznik nr 2 do rozliczenia'!F308","v":""},{"$f":"'Załącznik nr 2 do rozliczenia'!H308","v":0}]
[{"$f":"'Rozliczenie kwartalne'!A316","v":"39"},{"$f":"'Rozliczenie kwartalne'!B316","v":""},{"$f":"'Rozliczenie kwartalne'!C316","v":0},{"$f":"'Rozliczenie kwartalne'!D316","v":0},{"$f":"'Rozliczenie kwartalne'!E316","v":0},{"$f":"'Rozliczenie kwartalne'!F316","v":0},{"$f":"'Rozliczenie kwartalne'!G316","v":0},{"$f":"'Rozliczenie kwartalne'!H316","v":0},{"$f":"'Rozliczenie kwartalne'!I316","v":0},{"$f":"'Rozliczenie kwartalne'!J316","v":0},{"$f":"'Rozliczenie kwartalne'!K316","v":0},{"$f":"'Rozliczenie kwartalne'!L316","v":0},{"$f":"'Rozliczenie kwartalne'!M316","v":0},{"$f":"'Rozliczenie kwartalne'!N316","v":0},{"$f":"'Załącznik nr 1 do rozliczenia'!D314","v":0},{"$f":"'Załącznik nr 1 do rozliczenia'!F314","v":0},{"$f":"'Załącznik nr 1 do rozliczenia'!H314","v":0},{"$f":"'Załącznik nr 2 do rozliczenia'!D309","v":0},{"$f":"'Załącznik nr 2 do rozliczenia'!E309","v":0},{"$f":"'Załącznik nr 2 do rozliczenia'!F309","v":""},{"$f":"'Załącznik nr 2 do rozliczenia'!H309","v":0}]
[{"$f":"'Rozliczenie kwartalne'!A317","v":"40"},{"$f":"'Rozliczenie kwartalne'!B317","v":""},{"$f":"'Rozliczenie kwartalne'!C317","v":0},{"$f":"'Rozliczenie kwartalne'!D317","v":0},{"$f":"'Rozliczenie kwartalne'!E317","v":0},{"$f":"'Rozliczenie kwartalne'!F317","v":0},{"$f":"'Rozliczenie kwartalne'!G317","v":0},{"$f":"'Rozliczenie kwartalne'!H317","v":0},{"$f":"'Rozliczenie kwartalne'!I317","v":0},{"$f":"'Rozliczenie kwartalne'!J317","v":0},{"$f":"'Rozliczenie kwartalne'!K317","v":0},{"$f":"'Rozliczenie kwartalne'!L317","v":0},{"$f":"'Rozliczenie kwartalne'!M317","v":0},{"$f":"'Rozliczenie kwartalne'!N317","v":0},{"$f":"'Załącznik nr 1 do rozliczenia'!D315","v":0},{"$f":"'Załącznik nr 1 do rozliczenia'!F315","v":0},{"$f":"'Załącznik nr 1 do rozliczenia'!H315","v":0},{"$f":"'Załącznik nr 2 do rozliczenia'!D310","v":0},{"$f":"'Załącznik nr 2 do rozliczenia'!E310","v":0},{"$f":"'Załącznik nr 2 do rozliczenia'!F310","v":""},{"$f":"'Załącznik nr 2 do rozliczenia'!H310","v":0}]
[{"$f":"'Rozliczenie kwartalne'!A318","v":"41"},{"$f":"'Rozliczenie kwartalne'!B318","v":""},{"$f":"'Rozliczenie kwartalne'!C318","v":0},{"$f":"'Rozliczenie kwartalne'!D318","v":0},{"$f":"'Rozliczenie kwartalne'!E318","v":0},{"$f":"'Rozliczenie kwartalne'!F318","v":0},{"$f":"'Rozliczenie kwartalne'!G318","v":0},{"$f":"'Rozliczenie kwartalne'!H318","v":0},{"$f":"'Rozliczenie kwartalne'!I318","v":0},{"$f":"'Rozliczenie kwartalne'!J318","v":0},{"$f":"'Rozliczenie kwartalne'!K318","v":0},{"$f":"'Rozliczenie kwartalne'!L318","v":0},{"$f":"'Rozliczenie kwartalne'!M318","v":0},{"$f":"'Rozliczenie kwartalne'!N318","v":0},{"$f":"'Załącznik nr 1 do rozliczenia'!D316","v":0},{"$f":"'Załącznik nr 1 do rozliczenia'!F316","v":0},{"$f":"'Załącznik nr 1 do rozliczenia'!H316","v":0},{"$f":"'Załącznik nr 2 do rozliczenia'!D311","v":0},{"$f":"'Załącznik nr 2 do rozliczenia'!E311","v":0},{"$f":"'Załącznik nr 2 do rozliczenia'!F311","v":""},{"$f":"'Załącznik nr 2 do rozliczenia'!H311","v":0}]
[{"$f":"'Rozliczenie kwartalne'!A319","v":"42"},{"$f":"'Rozliczenie kwartalne'!B319","v":""},{"$f":"'Rozliczenie kwartalne'!C319","v":0},{"$f":"'Rozliczenie kwartalne'!D319","v":0},{"$f":"'Rozliczenie kwartalne'!E319","v":0},{"$f":"'Rozliczenie kwartalne'!F319","v":0},{"$f":"'Rozliczenie kwartalne'!G319","v":0},{"$f":"'Rozliczenie kwartalne'!H319","v":0},{"$f":"'Rozliczenie kwartalne'!I319","v":0},{"$f":"'Rozliczenie kwartalne'!J319","v":0},{"$f":"'Rozliczenie kwartalne'!K319","v":0},{"$f":"'Rozliczenie kwartalne'!L319","v":0},{"$f":"'Rozliczenie kwartalne'!M319","v":0},{"$f":"'Rozliczenie kwartalne'!N319","v":0},{"$f":"'Załącznik nr 1 do rozliczenia'!D317","v":0},{"$f":"'Załącznik nr 1 do rozliczenia'!F317","v":0},{"$f":"'Załącznik nr 1 do rozliczenia'!H317","v":0},{"$f":"'Załącznik nr 2 do rozliczenia'!D312","v":0},{"$f":"'Załącznik nr 2 do rozliczenia'!E312","v":0},{"$f":"'Załącznik nr 2 do rozliczenia'!F312","v":""},{"$f":"'Załącznik nr 2 do rozliczenia'!H312","v":0}]
[{"$f":"'Rozliczenie kwartalne'!A320","v":"43"},{"$f":"'Rozliczenie kwartalne'!B320","v":""},{"$f":"'Rozliczenie kwartalne'!C320","v":0},{"$f":"'Rozliczenie kwartalne'!D320","v":0},{"$f":"'Rozliczenie kwartalne'!E320","v":0},{"$f":"'Rozliczenie kwartalne'!F320","v":0},{"$f":"'Rozliczenie kwartalne'!G320","v":0},{"$f":"'Rozliczenie kwartalne'!H320","v":0},{"$f":"'Rozliczenie kwartalne'!I320","v":0},{"$f":"'Rozliczenie kwartalne'!J320","v":0},{"$f":"'Rozliczenie kwartalne'!K320","v":0},{"$f":"'Rozliczenie kwartalne'!L320","v":0},{"$f":"'Rozliczenie kwartalne'!M320","v":0},{"$f":"'Rozliczenie kwartalne'!N320","v":0},{"$f":"'Załącznik nr 1 do rozliczenia'!D318","v":0},{"$f":"'Załącznik nr 1 do rozliczenia'!F318","v":0},{"$f":"'Załącznik nr 1 do rozliczenia'!H318","v":0},{"$f":"'Załącznik nr 2 do rozliczenia'!D313","v":0},{"$f":"'Załącznik nr 2 do rozliczenia'!E313","v":0},{"$f":"'Załącznik nr 2 do rozliczenia'!F313","v":""},{"$f":"'Załącznik nr 2 do rozliczenia'!H313","v":0}]
[{"$f":"'Rozliczenie kwartalne'!A321","v":"44"},{"$f":"'Rozliczenie kwartalne'!B321","v":""},{"$f":"'Rozliczenie kwartalne'!C321","v":0},{"$f":"'Rozliczenie kwartalne'!D321","v":0},{"$f":"'Rozliczenie kwartalne'!E321","v":0},{"$f":"'Rozliczenie kwartalne'!F321","v":0},{"$f":"'Rozliczenie kwartalne'!G321","v":0},{"$f":"'Rozliczenie kwartalne'!H321","v":0},{"$f":"'Rozliczenie kwartalne'!I321","v":0},{"$f":"'Rozliczenie kwartalne'!J321","v":0},{"$f":"'Rozliczenie kwartalne'!K321","v":0},{"$f":"'Rozliczenie kwartalne'!L321","v":0},{"$f":"'Rozliczenie kwartalne'!M321","v":0},{"$f":"'Rozliczenie kwartalne'!N321","v":0},{"$f":"'Załącznik nr 1 do rozliczenia'!D319","v":0},{"$f":"'Załącznik nr 1 do rozliczenia'!F319","v":0},{"$f":"'Załącznik nr 1 do rozliczenia'!H319","v":0},{"$f":"'Załącznik nr 2 do rozliczenia'!D314","v":0},{"$f":"'Załącznik nr 2 do rozliczenia'!E314","v":0},{"$f":"'Załącznik nr 2 do rozliczenia'!F314","v":""},{"$f":"'Załącznik nr 2 do rozliczenia'!H314","v":0}]
[{"$f":"'Rozliczenie kwartalne'!A322","v":"45"},{"$f":"'Rozliczenie kwartalne'!B322","v":""},{"$f":"'Rozliczenie kwartalne'!C322","v":0},{"$f":"'Rozliczenie kwartalne'!D322","v":0},{"$f":"'Rozliczenie kwartalne'!E322","v":0},{"$f":"'Rozliczenie kwartalne'!F322","v":0},{"$f":"'Rozliczenie kwartalne'!G322","v":0},{"$f":"'Rozliczenie kwartalne'!H322","v":0},{"$f":"'Rozliczenie kwartalne'!I322","v":0},{"$f":"'Rozliczenie kwartalne'!J322","v":0},{"$f":"'Rozliczenie kwartalne'!K322","v":0},{"$f":"'Rozliczenie kwartalne'!L322","v":0},{"$f":"'Rozliczenie kwartalne'!M322","v":0},{"$f":"'Rozliczenie kwartalne'!N322","v":0},{"$f":"'Załącznik nr 1 do rozliczenia'!D320","v":0},{"$f":"'Załącznik nr 1 do rozliczenia'!F320","v":0},{"$f":"'Załącznik nr 1 do rozliczenia'!H320","v":0},{"$f":"'Załącznik nr 2 do rozliczenia'!D315","v":0},{"$f":"'Załącznik nr 2 do rozliczenia'!E315","v":0},{"$f":"'Załącznik nr 2 do rozliczenia'!F315","v":""},{"$f":"'Załącznik nr 2 do rozliczenia'!H315","v":0}]
[{"$f":"'Rozliczenie kwartalne'!A323","v":"46"},{"$f":"'Rozliczenie kwartalne'!B323","v":""},{"$f":"'Rozliczenie kwartalne'!C323","v":0},{"$f":"'Rozliczenie kwartalne'!D323","v":0},{"$f":"'Rozliczenie kwartalne'!E323","v":0},{"$f":"'Rozliczenie kwartalne'!F323","v":0},{"$f":"'Rozliczenie kwartalne'!G323","v":0},{"$f":"'Rozliczenie kwartalne'!H323","v":0},{"$f":"'Rozliczenie kwartalne'!I323","v":0},{"$f":"'Rozliczenie kwartalne'!J323","v":0},{"$f":"'Rozliczenie kwartalne'!K323","v":0},{"$f":"'Rozliczenie kwartalne'!L323","v":0},{"$f":"'Rozliczenie kwartalne'!M323","v":0},{"$f":"'Rozliczenie kwartalne'!N323","v":0},{"$f":"'Załącznik nr 1 do rozliczenia'!D321","v":0},{"$f":"'Załącznik nr 1 do rozliczenia'!F321","v":0},{"$f":"'Załącznik nr 1 do rozliczenia'!H321","v":0},{"$f":"'Załącznik nr 2 do rozliczenia'!D316","v":0},{"$f":"'Załącznik nr 2 do rozliczenia'!E316","v":0},{"$f":"'Załącznik nr 2 do rozliczenia'!F316","v":""},{"$f":"'Załącznik nr 2 do rozliczenia'!H316","v":0}]
[{"$f":"'Rozliczenie kwartalne'!A324","v":"47"},{"$f":"'Rozliczenie kwartalne'!B324","v":""},{"$f":"'Rozliczenie kwartalne'!C324","v":0},{"$f":"'Rozliczenie kwartalne'!D324","v":0},{"$f":"'Rozliczenie kwartalne'!E324","v":0},{"$f":"'Rozliczenie kwartalne'!F324","v":0},{"$f":"'Rozliczenie kwartalne'!G324","v":0},{"$f":"'Rozliczenie kwartalne'!H324","v":0},{"$f":"'Rozliczenie kwartalne'!I324","v":0},{"$f":"'Rozliczenie kwartalne'!J324","v":0},{"$f":"'Rozliczenie kwartalne'!K324","v":0},{"$f":"'Rozliczenie kwartalne'!L324","v":0},{"$f":"'Rozliczenie kwartalne'!M324","v":0},{"$f":"'Rozliczenie kwartalne'!N324","v":0},{"$f":"'Załącznik nr 1 do rozliczenia'!D322","v":0},{"$f":"'Załącznik nr 1 do rozliczenia'!F322","v":0},{"$f":"'Załącznik nr 1 do rozliczenia'!H322","v":0},{"$f":"'Załącznik nr 2 do rozliczenia'!D317","v":0},{"$f":"'Załącznik nr 2 do rozliczenia'!E317","v":0},{"$f":"'Załącznik nr 2 do rozliczenia'!F317","v":""},{"$f":"'Załącznik nr 2 do rozliczenia'!H317","v":0}]
[{"$f":"'Rozliczenie kwartalne'!A325","v":"48"},{"$f":"'Rozliczenie kwartalne'!B325","v":""},{"$f":"'Rozliczenie kwartalne'!C325","v":0},{"$f":"'Rozliczenie kwartalne'!D325","v":0},{"$f":"'Rozliczenie kwartalne'!E325","v":0},{"$f":"'Rozliczenie kwartalne'!F325","v":0},{"$f":"'Rozliczenie kwartalne'!G325","v":0},{"$f":"'Rozliczenie kwartalne'!H325","v":0},{"$f":"'Rozliczenie kwartalne'!I325","v":0},{"$f":"'Rozliczenie kwartalne'!J325","v":0},{"$f":"'Rozliczenie kwartalne'!K325","v":0},{"$f":"'Rozliczenie kwartalne'!L325","v":0},{"$f":"'Rozliczenie kwartalne'!M325","v":0},{"$f":"'Rozliczenie kwartalne'!N325","v":0},{"$f":"'Załącznik nr 1 do rozliczenia'!D323","v":0},{"$f":"'Załącznik nr 1 do rozliczenia'!F323","v":0},{"$f":"'Załącznik nr 1 do rozliczenia'!H323","v":0},{"$f":"'Załącznik nr 2 do rozliczenia'!D318","v":0},{"$f":"'Załącznik nr 2 do rozliczenia'!E318","v":0},{"$f":"'Załącznik nr 2 do rozliczenia'!F318","v":""},{"$f":"'Załącznik nr 2 do rozliczenia'!H318","v":0}]
[{"$f":"'Rozliczenie kwartalne'!A326","v":"49"},{"$f":"'Rozliczenie kwartalne'!B326","v":""},{"$f":"'Rozliczenie kwartalne'!C326","v":0},{"$f":"'Rozliczenie kwartalne'!D326","v":0},{"$f":"'Rozliczenie kwartalne'!E326","v":0},{"$f":"'Rozliczenie kwartalne'!F326","v":0},{"$f":"'Rozliczenie kwartalne'!G326","v":0},{"$f":"'Rozliczenie kwartalne'!H326","v":0},{"$f":"'Rozliczenie kwartalne'!I326","v":0},{"$f":"'Rozliczenie kwartalne'!J326","v":0},{"$f":"'Rozliczenie kwartalne'!K326","v":0},{"$f":"'Rozliczenie kwartalne'!L326","v":0},{"$f":"'Rozliczenie kwartalne'!M326","v":0},{"$f":"'Rozliczenie kwartalne'!N326","v":0},{"$f":"'Załącznik nr 1 do rozliczenia'!D324","v":0},{"$f":"'Załącznik nr 1 do rozliczenia'!F324","v":0},{"$f":"'Załącznik nr 1 do rozliczenia'!H324","v":0},{"$f":"'Załącznik nr 2 do rozliczenia'!D319","v":0},{"$f":"'Załącznik nr 2 do rozliczenia'!E319","v":0},{"$f":"'Załącznik nr 2 do rozliczenia'!F319","v":""},{"$f":"'Załącznik nr 2 do rozliczenia'!H319","v":0}]
[{"$f":"'Rozliczenie kwartalne'!A327","v":"50"},{"$f":"'Rozliczenie kwartalne'!B327","v":""},{"$f":"'Rozliczenie kwartalne'!C327","v":0},{"$f":"'Rozliczenie kwartalne'!D327","v":0},{"$f":"'Rozliczenie kwartalne'!E327","v":0},{"$f":"'Rozliczenie kwartalne'!F327","v":0},{"$f":"'Rozliczenie kwartalne'!G327","v":0},{"$f":"'Rozliczenie kwartalne'!H327","v":0},{"$f":"'Rozliczenie kwartalne'!I327","v":0},{"$f":"'Rozliczenie kwartalne'!J327","v":0},{"$f":"'Rozliczenie kwartalne'!K327","v":0},{"$f":"'Rozliczenie kwartalne'!L327","v":0},{"$f":"'Rozliczenie kwartalne'!M327","v":0},{"$f":"'Rozliczenie kwartalne'!N327","v":0},{"$f":"'Załącznik nr 1 do rozliczenia'!D325","v":0},{"$f":"'Załącznik nr 1 do rozliczenia'!F325","v":0},{"$f":"'Załącznik nr 1 do rozliczenia'!H325","v":0},{"$f":"'Załącznik nr 2 do rozliczenia'!D320","v":0},{"$f":"'Załącznik nr 2 do rozliczenia'!E320","v":0},{"$f":"'Załącznik nr 2 do rozliczenia'!F320","v":""},{"$f":"'Załącznik nr 2 do rozliczenia'!H320","v":0}]
[{"$f":"'Rozliczenie kwartalne'!A328","v":"51"},{"$f":"'Rozliczenie kwartalne'!B328","v":""},{"$f":"'Rozliczenie kwartalne'!C328","v":0},{"$f":"'Rozliczenie kwartalne'!D328","v":0},{"$f":"'Rozliczenie kwartalne'!E328","v":0},{"$f":"'Rozliczenie kwartalne'!F328","v":0},{"$f":"'Rozliczenie kwartalne'!G328","v":0},{"$f":"'Rozliczenie kwartalne'!H328","v":0},{"$f":"'Rozliczenie kwartalne'!I328","v":0},{"$f":"'Rozliczenie kwartalne'!J328","v":0},{"$f":"'Rozliczenie kwartalne'!K328","v":0},{"$f":"'Rozliczenie kwartalne'!L328","v":0},{"$f":"'Rozliczenie kwartalne'!M328","v":0},{"$f":"'Rozliczenie kwartalne'!N328","v":0},{"$f":"'Załącznik nr 1 do rozliczenia'!D326","v":0},{"$f":"'Załącznik nr 1 do rozliczenia'!F326","v":0},{"$f":"'Załącznik nr 1 do rozliczenia'!H326","v":0},{"$f":"'Załącznik nr 2 do rozliczenia'!D321","v":0},{"$f":"'Załącznik nr 2 do rozliczenia'!E321","v":0},{"$f":"'Załącznik nr 2 do rozliczenia'!F321","v":""},{"$f":"'Załącznik nr 2 do rozliczenia'!H321","v":0}]
[{"$f":"'Rozliczenie kwartalne'!A329","v":"52"},{"$f":"'Rozliczenie kwartalne'!B329","v":""},{"$f":"'Rozliczenie kwartalne'!C329","v":0},{"$f":"'Rozliczenie kwartalne'!D329","v":0},{"$f":"'Rozliczenie kwartalne'!E329","v":0},{"$f":"'Rozliczenie kwartalne'!F329","v":0},{"$f":"'Rozliczenie kwartalne'!G329","v":0},{"$f":"'Rozliczenie kwartalne'!H329","v":0},{"$f":"'Rozliczenie kwartalne'!I329","v":0},{"$f":"'Rozliczenie kwartalne'!J329","v":0},{"$f":"'Rozliczenie kwartalne'!K329","v":0},{"$f":"'Rozliczenie kwartalne'!L329","v":0},{"$f":"'Rozliczenie kwartalne'!M329","v":0},{"$f":"'Rozliczenie kwartalne'!N329","v":0},{"$f":"'Załącznik nr 1 do rozliczenia'!D327","v":0},{"$f":"'Załącznik nr 1 do rozliczenia'!F327","v":0},{"$f":"'Załącznik nr 1 do rozliczenia'!H327","v":0},{"$f":"'Załącznik nr 2 do rozliczenia'!D322","v":0},{"$f":"'Załącznik nr 2 do rozliczenia'!E322","v":0},{"$f":"'Załącznik nr 2 do rozliczenia'!F322","v":""},{"$f":"'Załącznik nr 2 do rozliczenia'!H322","v":0}]
[{"$f":"'Rozliczenie kwartalne'!A330","v":"53"},{"$f":"'Rozliczenie kwartalne'!B330","v":""},{"$f":"'Rozliczenie kwartalne'!C330","v":0},{"$f":"'Rozliczenie kwartalne'!D330","v":0},{"$f":"'Rozliczenie kwartalne'!E330","v":0},{"$f":"'Rozliczenie kwartalne'!F330","v":0},{"$f":"'Rozliczenie kwartalne'!G330","v":0},{"$f":"'Rozliczenie kwartalne'!H330","v":0},{"$f":"'Rozliczenie kwartalne'!I330","v":0},{"$f":"'Rozliczenie kwartalne'!J330","v":0},{"$f":"'Rozliczenie kwartalne'!K330","v":0},{"$f":"'Rozliczenie kwartalne'!L330","v":0},{"$f":"'Rozliczenie kwartalne'!M330","v":0},{"$f":"'Rozliczenie kwartalne'!N330","v":0},{"$f":"'Załącznik nr 1 do rozliczenia'!D328","v":0},{"$f":"'Załącznik nr 1 do rozliczenia'!F328","v":0},{"$f":"'Załącznik nr 1 do rozliczenia'!H328","v":0},{"$f":"'Załącznik nr 2 do rozliczenia'!D323","v":0},{"$f":"'Załącznik nr 2 do rozliczenia'!E323","v":0},{"$f":"'Załącznik nr 2 do rozliczenia'!F323","v":""},{"$f":"'Załącznik nr 2 do rozliczenia'!H323","v":0}]
[{"$f":"'Rozliczenie kwartalne'!A331","v":"54"},{"$f":"'Rozliczenie kwartalne'!B331","v":""},{"$f":"'Rozliczenie kwartalne'!C331","v":0},{"$f":"'Rozliczenie kwartalne'!D331","v":0},{"$f":"'Rozliczenie kwartalne'!E331","v":0},{"$f":"'Rozliczenie kwartalne'!F331","v":0},{"$f":"'Rozliczenie kwartalne'!G331","v":0},{"$f":"'Rozliczenie kwartalne'!H331","v":0},{"$f":"'Rozliczenie kwartalne'!I331","v":0},{"$f":"'Rozliczenie kwartalne'!J331","v":0},{"$f":"'Rozliczenie kwartalne'!K331","v":0},{"$f":"'Rozliczenie kwartalne'!L331","v":0},{"$f":"'Rozliczenie kwartalne'!M331","v":0},{"$f":"'Rozliczenie kwartalne'!N331","v":0},{"$f":"'Załącznik nr 1 do rozliczenia'!D329","v":0},{"$f":"'Załącznik nr 1 do rozliczenia'!F329","v":0},{"$f":"'Załącznik nr 1 do rozliczenia'!H329","v":0},{"$f":"'Załącznik nr 2 do rozliczenia'!D324","v":0},{"$f":"'Załącznik nr 2 do rozliczenia'!E324","v":0},{"$f":"'Załącznik nr 2 do rozliczenia'!F324","v":""},{"$f":"'Załącznik nr 2 do rozliczenia'!H324","v":0}]
[{"$f":"'Rozliczenie kwartalne'!A332","v":"55"},{"$f":"'Rozliczenie kwartalne'!B332","v":""},{"$f":"'Rozliczenie kwartalne'!C332","v":0},{"$f":"'Rozliczenie kwartalne'!D332","v":0},{"$f":"'Rozliczenie kwartalne'!E332","v":0},{"$f":"'Rozliczenie kwartalne'!F332","v":0},{"$f":"'Rozliczenie kwartalne'!G332","v":0},{"$f":"'Rozliczenie kwartalne'!H332","v":0},{"$f":"'Rozliczenie kwartalne'!I332","v":0},{"$f":"'Rozliczenie kwartalne'!J332","v":0},{"$f":"'Rozliczenie kwartalne'!K332","v":0},{"$f":"'Rozliczenie kwartalne'!L332","v":0},{"$f":"'Rozliczenie kwartalne'!M332","v":0},{"$f":"'Rozliczenie kwartalne'!N332","v":0},{"$f":"'Załącznik nr 1 do rozliczenia'!D330","v":0},{"$f":"'Załącznik nr 1 do rozliczenia'!F330","v":0},{"$f":"'Załącznik nr 1 do rozliczenia'!H330","v":0},{"$f":"'Załącznik nr 2 do rozliczenia'!D325","v":0},{"$f":"'Załącznik nr 2 do rozliczenia'!E325","v":0},{"$f":"'Załącznik nr 2 do rozliczenia'!F325","v":""},{"$f":"'Załącznik nr 2 do rozliczenia'!H325","v":0}]
[{"$f":"'Rozliczenie kwartalne'!A333","v":"56"},{"$f":"'Rozliczenie kwartalne'!B333","v":""},{"$f":"'Rozliczenie kwartalne'!C333","v":0},{"$f":"'Rozliczenie kwartalne'!D333","v":0},{"$f":"'Rozliczenie kwartalne'!E333","v":0},{"$f":"'Rozliczenie kwartalne'!F333","v":0},{"$f":"'Rozliczenie kwartalne'!G333","v":0},{"$f":"'Rozliczenie kwartalne'!H333","v":0},{"$f":"'Rozliczenie kwartalne'!I333","v":0},{"$f":"'Rozliczenie kwartalne'!J333","v":0},{"$f":"'Rozliczenie kwartalne'!K333","v":0},{"$f":"'Rozliczenie kwartalne'!L333","v":0},{"$f":"'Rozliczenie kwartalne'!M333","v":0},{"$f":"'Rozliczenie kwartalne'!N333","v":0},{"$f":"'Załącznik nr 1 do rozliczenia'!D331","v":0},{"$f":"'Załącznik nr 1 do rozliczenia'!F331","v":0},{"$f":"'Załącznik nr 1 do rozliczenia'!H331","v":0},{"$f":"'Załącznik nr 2 do rozliczenia'!D326","v":0},{"$f":"'Załącznik nr 2 do rozliczenia'!E326","v":0},{"$f":"'Załącznik nr 2 do rozliczenia'!F326","v":""},{"$f":"'Załącznik nr 2 do rozliczenia'!H326","v":0}]
[{"$f":"'Rozliczenie kwartalne'!A334","v":"57"},{"$f":"'Rozliczenie kwartalne'!B334","v":""},{"$f":"'Rozliczenie kwartalne'!C334","v":0},{"$f":"'Rozliczenie kwartalne'!D334","v":0},{"$f":"'Rozliczenie kwartalne'!E334","v":0},{"$f":"'Rozliczenie kwartalne'!F334","v":0},{"$f":"'Rozliczenie kwartalne'!G334","v":0},{"$f":"'Rozliczenie kwartalne'!H334","v":0},{"$f":"'Rozliczenie kwartalne'!I334","v":0},{"$f":"'Rozliczenie kwartalne'!J334","v":0},{"$f":"'Rozliczenie kwartalne'!K334","v":0},{"$f":"'Rozliczenie kwartalne'!L334","v":0},{"$f":"'Rozliczenie kwartalne'!M334","v":0},{"$f":"'Rozliczenie kwartalne'!N334","v":0},{"$f":"'Załącznik nr 1 do rozliczenia'!D332","v":0},{"$f":"'Załącznik nr 1 do rozliczenia'!F332","v":0},{"$f":"'Załącznik nr 1 do rozliczenia'!H332","v":0},{"$f":"'Załącznik nr 2 do rozliczenia'!D327","v":0},{"$f":"'Załącznik nr 2 do rozliczenia'!E327","v":0},{"$f":"'Załącznik nr 2 do rozliczenia'!F327","v":""},{"$f":"'Załącznik nr 2 do rozliczenia'!H327","v":0}]
[{"$f":"'Rozliczenie kwartalne'!A335","v":"58"},{"$f":"'Rozliczenie kwartalne'!B335","v":""},{"$f":"'Rozliczenie kwartalne'!C335","v":0},{"$f":"'Rozliczenie kwartalne'!D335","v":0},{"$f":"'Rozliczenie kwartalne'!E335","v":0},{"$f":"'Rozliczenie kwartalne'!F335","v":0},{"$f":"'Rozliczenie kwartalne'!G335","v":0},{"$f":"'Rozliczenie kwartalne'!H335","v":0},{"$f":"'Rozliczenie kwartalne'!I335","v":0},{"$f":"'Rozliczenie kwartalne'!J335","v":0},{"$f":"'Rozliczenie kwartalne'!K335","v":0},{"$f":"'Rozliczenie kwartalne'!L335","v":0},{"$f":"'Rozliczenie kwartalne'!M335","v":0},{"$f":"'Rozliczenie kwartalne'!N335","v":0},{"$f":"'Załącznik nr 1 do rozliczenia'!D333","v":0},{"$f":"'Załącznik nr 1 do rozliczenia'!F333","v":0},{"$f":"'Załącznik nr 1 do rozliczenia'!H333","v":0},{"$f":"'Załącznik nr 2 do rozliczenia'!D328","v":0},{"$f":"'Załącznik nr 2 do rozliczenia'!E328","v":0},{"$f":"'Załącznik nr 2 do rozliczenia'!F328","v":""},{"$f":"'Załącznik nr 2 do rozliczenia'!H328","v":0}]
[{"$f":"'Rozliczenie kwartalne'!A336","v":"59"},{"$f":"'Rozliczenie kwartalne'!B336","v":""},{"$f":"'Rozliczenie kwartalne'!C336","v":0},{"$f":"'Rozliczenie kwartalne'!D336","v":0},{"$f":"'Rozliczenie kwartalne'!E336","v":0},{"$f":"'Rozliczenie kwartalne'!F336","v":0},{"$f":"'Rozliczenie kwartalne'!G336","v":0},{"$f":"'Rozliczenie kwartalne'!H336","v":0},{"$f":"'Rozliczenie kwartalne'!I336","v":0},{"$f":"'Rozliczenie kwartalne'!J336","v":0},{"$f":"'Rozliczenie kwartalne'!K336","v":0},{"$f":"'Rozliczenie kwartalne'!L336","v":0},{"$f":"'Rozliczenie kwartalne'!M336","v":0},{"$f":"'Rozliczenie kwartalne'!N336","v":0},{"$f":"'Załącznik nr 1 do rozliczenia'!D334","v":0},{"$f":"'Załącznik nr 1 do rozliczenia'!F334","v":0},{"$f":"'Załącznik nr 1 do rozliczenia'!H334","v":0},{"$f":"'Załącznik nr 2 do rozliczenia'!D329","v":0},{"$f":"'Załącznik nr 2 do rozliczenia'!E329","v":0},{"$f":"'Załącznik nr 2 do rozliczenia'!F329","v":""},{"$f":"'Załącznik nr 2 do rozliczenia'!H329","v":0}]
[{"$f":"'Rozliczenie kwartalne'!A337","v":"60"},{"$f":"'Rozliczenie kwartalne'!B337","v":""},{"$f":"'Rozliczenie kwartalne'!C337","v":0},{"$f":"'Rozliczenie kwartalne'!D337","v":0},{"$f":"'Rozliczenie kwartalne'!E337","v":0},{"$f":"'Rozliczenie kwartalne'!F337","v":0},{"$f":"'Rozliczenie kwartalne'!G337","v":0},{"$f":"'Rozliczenie kwartalne'!H337","v":0},{"$f":"'Rozliczenie kwartalne'!I337","v":0},{"$f":"'Rozliczenie kwartalne'!J337","v":0},{"$f":"'Rozliczenie kwartalne'!K337","v":0},{"$f":"'Rozliczenie kwartalne'!L337","v":0},{"$f":"'Rozliczenie kwartalne'!M337","v":0},{"$f":"'Rozliczenie kwartalne'!N337","v":0},{"$f":"'Załącznik nr 1 do rozliczenia'!D335","v":0},{"$f":"'Załącznik nr 1 do rozliczenia'!F335","v":0},{"$f":"'Załącznik nr 1 do rozliczenia'!H335","v":0},{"$f":"'Załącznik nr 2 do rozliczenia'!D330","v":0},{"$f":"'Załącznik nr 2 do rozliczenia'!E330","v":0},{"$f":"'Załącznik nr 2 do rozliczenia'!F330","v":""},{"$f":"'Załącznik nr 2 do rozliczenia'!H330","v":0}]
[{"$f":"'Rozliczenie kwartalne'!A338","v":"61"},{"$f":"'Rozliczenie kwartalne'!B338","v":""},{"$f":"'Rozliczenie kwartalne'!C338","v":0},{"$f":"'Rozliczenie kwartalne'!D338","v":0},{"$f":"'Rozliczenie kwartalne'!E338","v":0},{"$f":"'Rozliczenie kwartalne'!F338","v":0},{"$f":"'Rozliczenie kwartalne'!G338","v":0},{"$f":"'Rozliczenie kwartalne'!H338","v":0},{"$f":"'Rozliczenie kwartalne'!I338","v":0},{"$f":"'Rozliczenie kwartalne'!J338","v":0},{"$f":"'Rozliczenie kwartalne'!K338","v":0},{"$f":"'Rozliczenie kwartalne'!L338","v":0},{"$f":"'Rozliczenie kwartalne'!M338","v":0},{"$f":"'Rozliczenie kwartalne'!N338","v":0},{"$f":"'Załącznik nr 1 do rozliczenia'!D336","v":0},{"$f":"'Załącznik nr 1 do rozliczenia'!F336","v":0},{"$f":"'Załącznik nr 1 do rozliczenia'!H336","v":0},{"$f":"'Załącznik nr 2 do rozliczenia'!D331","v":0},{"$f":"'Załącznik nr 2 do rozliczenia'!E331","v":0},{"$f":"'Załącznik nr 2 do rozliczenia'!F331","v":""},{"$f":"'Załącznik nr 2 do rozliczenia'!H331","v":0}]
[{"$f":"'Rozliczenie kwartalne'!A339","v":"62"},{"$f":"'Rozliczenie kwartalne'!B339","v":""},{"$f":"'Rozliczenie kwartalne'!C339","v":0},{"$f":"'Rozliczenie kwartalne'!D339","v":0},{"$f":"'Rozliczenie kwartalne'!E339","v":0},{"$f":"'Rozliczenie kwartalne'!F339","v":0},{"$f":"'Rozliczenie kwartalne'!G339","v":0},{"$f":"'Rozliczenie kwartalne'!H339","v":0},{"$f":"'Rozliczenie kwartalne'!I339","v":0},{"$f":"'Rozliczenie kwartalne'!J339","v":0},{"$f":"'Rozliczenie kwartalne'!K339","v":0},{"$f":"'Rozliczenie kwartalne'!L339","v":0},{"$f":"'Rozliczenie kwartalne'!M339","v":0},{"$f":"'Rozliczenie kwartalne'!N339","v":0},{"$f":"'Załącznik nr 1 do rozliczenia'!D337","v":0},{"$f":"'Załącznik nr 1 do rozliczenia'!F337","v":0},{"$f":"'Załącznik nr 1 do rozliczenia'!H337","v":0},{"$f":"'Załącznik nr 2 do rozliczenia'!D332","v":0},{"$f":"'Załącznik nr 2 do rozliczenia'!E332","v":0},{"$f":"'Załącznik nr 2 do rozliczenia'!F332","v":""},{"$f":"'Załącznik nr 2 do rozliczenia'!H332","v":0}]
[{"$f":"'Rozliczenie kwartalne'!A340","v":"63"},{"$f":"'Rozliczenie kwartalne'!B340","v":""},{"$f":"'Rozliczenie kwartalne'!C340","v":0},{"$f":"'Rozliczenie kwartalne'!D340","v":0},{"$f":"'Rozliczenie kwartalne'!E340","v":0},{"$f":"'Rozliczenie kwartalne'!F340","v":0},{"$f":"'Rozliczenie kwartalne'!G340","v":0},{"$f":"'Rozliczenie kwartalne'!H340","v":0},{"$f":"'Rozliczenie kwartalne'!I340","v":0},{"$f":"'Rozliczenie kwartalne'!J340","v":0},{"$f":"'Rozliczenie kwartalne'!K340","v":0},{"$f":"'Rozliczenie kwartalne'!L340","v":0},{"$f":"'Rozliczenie kwartalne'!M340","v":0},{"$f":"'Rozliczenie kwartalne'!N340","v":0},{"$f":"'Załącznik nr 1 do rozliczenia'!D338","v":0},{"$f":"'Załącznik nr 1 do rozliczenia'!F338","v":0},{"$f":"'Załącznik nr 1 do rozliczenia'!H338","v":0},{"$f":"'Załącznik nr 2 do rozliczenia'!D333","v":0},{"$f":"'Załącznik nr 2 do rozliczenia'!E333","v":0},{"$f":"'Załącznik nr 2 do rozliczenia'!F333","v":""},{"$f":"'Załącznik nr 2 do rozliczenia'!H333","v":0}]
[{"$f":"'Rozliczenie kwartalne'!A341","v":"64"},{"$f":"'Rozliczenie kwartalne'!B341","v":""},{"$f":"'Rozliczenie kwartalne'!C341","v":0},{"$f":"'Rozliczenie kwartalne'!D341","v":0},{"$f":"'Rozliczenie kwartalne'!E341","v":0},{"$f":"'Rozliczenie kwartalne'!F341","v":0},{"$f":"'Rozliczenie kwartalne'!G341","v":0},{"$f":"'Rozliczenie kwartalne'!H341","v":0},{"$f":"'Rozliczenie kwartalne'!I341","v":0},{"$f":"'Rozliczenie kwartalne'!J341","v":0},{"$f":"'Rozliczenie kwartalne'!K341","v":0},{"$f":"'Rozliczenie kwartalne'!L341","v":0},{"$f":"'Rozliczenie kwartalne'!M341","v":0},{"$f":"'Rozliczenie kwartalne'!N341","v":0},{"$f":"'Załącznik nr 1 do rozliczenia'!D339","v":0},{"$f":"'Załącznik nr 1 do rozliczenia'!F339","v":0},{"$f":"'Załącznik nr 1 do rozliczenia'!H339","v":0},{"$f":"'Załącznik nr 2 do rozliczenia'!D334","v":0},{"$f":"'Załącznik nr 2 do rozliczenia'!E334","v":0},{"$f":"'Załącznik nr 2 do rozliczenia'!F334","v":""},{"$f":"'Załącznik nr 2 do rozliczenia'!H334","v":0}]
[{"$f":"'Rozliczenie kwartalne'!A342","v":"65"},{"$f":"'Rozliczenie kwartalne'!B342","v":""},{"$f":"'Rozliczenie kwartalne'!C342","v":0},{"$f":"'Rozliczenie kwartalne'!D342","v":0},{"$f":"'Rozliczenie kwartalne'!E342","v":0},{"$f":"'Rozliczenie kwartalne'!F342","v":0},{"$f":"'Rozliczenie kwartalne'!G342","v":0},{"$f":"'Rozliczenie kwartalne'!H342","v":0},{"$f":"'Rozliczenie kwartalne'!I342","v":0},{"$f":"'Rozliczenie kwartalne'!J342","v":0},{"$f":"'Rozliczenie kwartalne'!K342","v":0},{"$f":"'Rozliczenie kwartalne'!L342","v":0},{"$f":"'Rozliczenie kwartalne'!M342","v":0},{"$f":"'Rozliczenie kwartalne'!N342","v":0},{"$f":"'Załącznik nr 1 do rozliczenia'!D340","v":0},{"$f":"'Załącznik nr 1 do rozliczenia'!F340","v":0},{"$f":"'Załącznik nr 1 do rozliczenia'!H340","v":0},{"$f":"'Załącznik nr 2 do rozliczenia'!D335","v":0},{"$f":"'Załącznik nr 2 do rozliczenia'!E335","v":0},{"$f":"'Załącznik nr 2 do rozliczenia'!F335","v":""},{"$f":"'Załącznik nr 2 do rozliczenia'!H335","v":0}]
[{"$f":"'Rozliczenie kwartalne'!A343","v":"66"},{"$f":"'Rozliczenie kwartalne'!B343","v":""},{"$f":"'Rozliczenie kwartalne'!C343","v":0},{"$f":"'Rozliczenie kwartalne'!D343","v":0},{"$f":"'Rozliczenie kwartalne'!E343","v":0},{"$f":"'Rozliczenie kwartalne'!F343","v":0},{"$f":"'Rozliczenie kwartalne'!G343","v":0},{"$f":"'Rozliczenie kwartalne'!H343","v":0},{"$f":"'Rozliczenie kwartalne'!I343","v":0},{"$f":"'Rozliczenie kwartalne'!J343","v":0},{"$f":"'Rozliczenie kwartalne'!K343","v":0},{"$f":"'Rozliczenie kwartalne'!L343","v":0},{"$f":"'Rozliczenie kwartalne'!M343","v":0},{"$f":"'Rozliczenie kwartalne'!N343","v":0},{"$f":"'Załącznik nr 1 do rozliczenia'!D341","v":0},{"$f":"'Załącznik nr 1 do rozliczenia'!F341","v":0},{"$f":"'Załącznik nr 1 do rozliczenia'!H341","v":0},{"$f":"'Załącznik nr 2 do rozliczenia'!D336","v":0},{"$f":"'Załącznik nr 2 do rozliczenia'!E336","v":0},{"$f":"'Załącznik nr 2 do rozliczenia'!F336","v":""},{"$f":"'Załącznik nr 2 do rozliczenia'!H336","v":0}]
[{"$f":"'Rozliczenie kwartalne'!A344","v":"67"},{"$f":"'Rozliczenie kwartalne'!B344","v":""},{"$f":"'Rozliczenie kwartalne'!C344","v":0},{"$f":"'Rozliczenie kwartalne'!D344","v":0},{"$f":"'Rozliczenie kwartalne'!E344","v":0},{"$f":"'Rozliczenie kwartalne'!F344","v":0},{"$f":"'Rozliczenie kwartalne'!G344","v":0},{"$f":"'Rozliczenie kwartalne'!H344","v":0},{"$f":"'Rozliczenie kwartalne'!I344","v":0},{"$f":"'Rozliczenie kwartalne'!J344","v":0},{"$f":"'Rozliczenie kwartalne'!K344","v":0},{"$f":"'Rozliczenie kwartalne'!L344","v":0},{"$f":"'Rozliczenie kwartalne'!M344","v":0},{"$f":"'Rozliczenie kwartalne'!N344","v":0},{"$f":"'Załącznik nr 1 do rozliczenia'!D342","v":0},{"$f":"'Załącznik nr 1 do rozliczenia'!F342","v":0},{"$f":"'Załącznik nr 1 do rozliczenia'!H342","v":0},{"$f":"'Załącznik nr 2 do rozliczenia'!D337","v":0},{"$f":"'Załącznik nr 2 do rozliczenia'!E337","v":0},{"$f":"'Załącznik nr 2 do rozliczenia'!F337","v":""},{"$f":"'Załącznik nr 2 do rozliczenia'!H337","v":0}]
[{"$f":"'Rozliczenie kwartalne'!A345","v":"68"},{"$f":"'Rozliczenie kwartalne'!B345","v":""},{"$f":"'Rozliczenie kwartalne'!C345","v":0},{"$f":"'Rozliczenie kwartalne'!D345","v":0},{"$f":"'Rozliczenie kwartalne'!E345","v":0},{"$f":"'Rozliczenie kwartalne'!F345","v":0},{"$f":"'Rozliczenie kwartalne'!G345","v":0},{"$f":"'Rozliczenie kwartalne'!H345","v":0},{"$f":"'Rozliczenie kwartalne'!I345","v":0},{"$f":"'Rozliczenie kwartalne'!J345","v":0},{"$f":"'Rozliczenie kwartalne'!K345","v":0},{"$f":"'Rozliczenie kwartalne'!L345","v":0},{"$f":"'Rozliczenie kwartalne'!M345","v":0},{"$f":"'Rozliczenie kwartalne'!N345","v":0},{"$f":"'Załącznik nr 1 do rozliczenia'!D343","v":0},{"$f":"'Załącznik nr 1 do rozliczenia'!F343","v":0},{"$f":"'Załącznik nr 1 do rozliczenia'!H343","v":0},{"$f":"'Załącznik nr 2 do rozliczenia'!D338","v":0},{"$f":"'Załącznik nr 2 do rozliczenia'!E338","v":0},{"$f":"'Załącznik nr 2 do rozliczenia'!F338","v":""},{"$f":"'Załącznik nr 2 do rozliczenia'!H338","v":0}]
[{"$f":"'Rozliczenie kwartalne'!A346","v":"69"},{"$f":"'Rozliczenie kwartalne'!B346","v":""},{"$f":"'Rozliczenie kwartalne'!C346","v":0},{"$f":"'Rozliczenie kwartalne'!D346","v":0},{"$f":"'Rozliczenie kwartalne'!E346","v":0},{"$f":"'Rozliczenie kwartalne'!F346","v":0},{"$f":"'Rozliczenie kwartalne'!G346","v":0},{"$f":"'Rozliczenie kwartalne'!H346","v":0},{"$f":"'Rozliczenie kwartalne'!I346","v":0},{"$f":"'Rozliczenie kwartalne'!J346","v":0},{"$f":"'Rozliczenie kwartalne'!K346","v":0},{"$f":"'Rozliczenie kwartalne'!L346","v":0},{"$f":"'Rozliczenie kwartalne'!M346","v":0},{"$f":"'Rozliczenie kwartalne'!N346","v":0},{"$f":"'Załącznik nr 1 do rozliczenia'!D344","v":0},{"$f":"'Załącznik nr 1 do rozliczenia'!F344","v":0},{"$f":"'Załącznik nr 1 do rozliczenia'!H344","v":0},{"$f":"'Załącznik nr 2 do rozliczenia'!D339","v":0},{"$f":"'Załącznik nr 2 do rozliczenia'!E339","v":0},{"$f":"'Załącznik nr 2 do rozliczenia'!F339","v":""},{"$f":"'Załącznik nr 2 do rozliczenia'!H339","v":0}]
[{"$f":"'Rozliczenie kwartalne'!A347","v":"70"},{"$f":"'Rozliczenie kwartalne'!B347","v":""},{"$f":"'Rozliczenie kwartalne'!C347","v":0},{"$f":"'Rozliczenie kwartalne'!D347","v":0},{"$f":"'Rozliczenie kwartalne'!E347","v":0},{"$f":"'Rozliczenie kwartalne'!F347","v":0},{"$f":"'Rozliczenie kwartalne'!G347","v":0},{"$f":"'Rozliczenie kwartalne'!H347","v":0},{"$f":"'Rozliczenie kwartalne'!I347","v":0},{"$f":"'Rozliczenie kwartalne'!J347","v":0},{"$f":"'Rozliczenie kwartalne'!K347","v":0},{"$f":"'Rozliczenie kwartalne'!L347","v":0},{"$f":"'Rozliczenie kwartalne'!M347","v":0},{"$f":"'Rozliczenie kwartalne'!N347","v":0},{"$f":"'Załącznik nr 1 do rozliczenia'!D345","v":0},{"$f":"'Załącznik nr 1 do rozliczenia'!F345","v":0},{"$f":"'Załącznik nr 1 do rozliczenia'!H345","v":0},{"$f":"'Załącznik nr 2 do rozliczenia'!D340","v":0},{"$f":"'Załącznik nr 2 do rozliczenia'!E340","v":0},{"$f":"'Załącznik nr 2 do rozliczenia'!F340","v":""},{"$f":"'Załącznik nr 2 do rozliczenia'!H340","v":0}]
[{"$f":"'Rozliczenie kwartalne'!A348","v":"71"},{"$f":"'Rozliczenie kwartalne'!B348","v":""},{"$f":"'Rozliczenie kwartalne'!C348","v":0},{"$f":"'Rozliczenie kwartalne'!D348","v":0},{"$f":"'Rozliczenie kwartalne'!E348","v":0},{"$f":"'Rozliczenie kwartalne'!F348","v":0},{"$f":"'Rozliczenie kwartalne'!G348","v":0},{"$f":"'Rozliczenie kwartalne'!H348","v":0},{"$f":"'Rozliczenie kwartalne'!I348","v":0},{"$f":"'Rozliczenie kwartalne'!J348","v":0},{"$f":"'Rozliczenie kwartalne'!K348","v":0},{"$f":"'Rozliczenie kwartalne'!L348","v":0},{"$f":"'Rozliczenie kwartalne'!M348","v":0},{"$f":"'Rozliczenie kwartalne'!N348","v":0},{"$f":"'Załącznik nr 1 do rozliczenia'!D346","v":0},{"$f":"'Załącznik nr 1 do rozliczenia'!F346","v":0},{"$f":"'Załącznik nr 1 do rozliczenia'!H346","v":0},{"$f":"'Załącznik nr 2 do rozliczenia'!D341","v":0},{"$f":"'Załącznik nr 2 do rozliczenia'!E341","v":0},{"$f":"'Załącznik nr 2 do rozliczenia'!F341","v":""},{"$f":"'Załącznik nr 2 do rozliczenia'!H341","v":0}]
[{"$f":"'Rozliczenie kwartalne'!A349","v":"72"},{"$f":"'Rozliczenie kwartalne'!B349","v":""},{"$f":"'Rozliczenie kwartalne'!C349","v":0},{"$f":"'Rozliczenie kwartalne'!D349","v":0},{"$f":"'Rozliczenie kwartalne'!E349","v":0},{"$f":"'Rozliczenie kwartalne'!F349","v":0},{"$f":"'Rozliczenie kwartalne'!G349","v":0},{"$f":"'Rozliczenie kwartalne'!H349","v":0},{"$f":"'Rozliczenie kwartalne'!I349","v":0},{"$f":"'Rozliczenie kwartalne'!J349","v":0},{"$f":"'Rozliczenie kwartalne'!K349","v":0},{"$f":"'Rozliczenie kwartalne'!L349","v":0},{"$f":"'Rozliczenie kwartalne'!M349","v":0},{"$f":"'Rozliczenie kwartalne'!N349","v":0},{"$f":"'Załącznik nr 1 do rozliczenia'!D347","v":0},{"$f":"'Załącznik nr 1 do rozliczenia'!F347","v":0},{"$f":"'Załącznik nr 1 do rozliczenia'!H347","v":0},{"$f":"'Załącznik nr 2 do rozliczenia'!D342","v":0},{"$f":"'Załącznik nr 2 do rozliczenia'!E342","v":0},{"$f":"'Załącznik nr 2 do rozliczenia'!F342","v":""},{"$f":"'Załącznik nr 2 do rozliczenia'!H342","v":0}]
[{"$f":"'Rozliczenie kwartalne'!A350","v":"73"},{"$f":"'Rozliczenie kwartalne'!B350","v":""},{"$f":"'Rozliczenie kwartalne'!C350","v":0},{"$f":"'Rozliczenie kwartalne'!D350","v":0},{"$f":"'Rozliczenie kwartalne'!E350","v":0},{"$f":"'Rozliczenie kwartalne'!F350","v":0},{"$f":"'Rozliczenie kwartalne'!G350","v":0},{"$f":"'Rozliczenie kwartalne'!H350","v":0},{"$f":"'Rozliczenie kwartalne'!I350","v":0},{"$f":"'Rozliczenie kwartalne'!J350","v":0},{"$f":"'Rozliczenie kwartalne'!K350","v":0},{"$f":"'Rozliczenie kwartalne'!L350","v":0},{"$f":"'Rozliczenie kwartalne'!M350","v":0},{"$f":"'Rozliczenie kwartalne'!N350","v":0},{"$f":"'Załącznik nr 1 do rozliczenia'!D348","v":0},{"$f":"'Załącznik nr 1 do rozliczenia'!F348","v":0},{"$f":"'Załącznik nr 1 do rozliczenia'!H348","v":0},{"$f":"'Załącznik nr 2 do rozliczenia'!D343","v":0},{"$f":"'Załącznik nr 2 do rozliczenia'!E343","v":0},{"$f":"'Załącznik nr 2 do rozliczenia'!F343","v":""},{"$f":"'Załącznik nr 2 do rozliczenia'!H343","v":0}]
[{"$f":"'Rozliczenie kwartalne'!A351","v":"74"},{"$f":"'Rozliczenie kwartalne'!B351","v":""},{"$f":"'Rozliczenie kwartalne'!C351","v":0},{"$f":"'Rozliczenie kwartalne'!D351","v":0},{"$f":"'Rozliczenie kwartalne'!E351","v":0},{"$f":"'Rozliczenie kwartalne'!F351","v":0},{"$f":"'Rozliczenie kwartalne'!G351","v":0},{"$f":"'Rozliczenie kwartalne'!H351","v":0},{"$f":"'Rozliczenie kwartalne'!I351","v":0},{"$f":"'Rozliczenie kwartalne'!J351","v":0},{"$f":"'Rozliczenie kwartalne'!K351","v":0},{"$f":"'Rozliczenie kwartalne'!L351","v":0},{"$f":"'Rozliczenie kwartalne'!M351","v":0},{"$f":"'Rozliczenie kwartalne'!N351","v":0},{"$f":"'Załącznik nr 1 do rozliczenia'!D349","v":0},{"$f":"'Załącznik nr 1 do rozliczenia'!F349","v":0},{"$f":"'Załącznik nr 1 do rozliczenia'!H349","v":0},{"$f":"'Załącznik nr 2 do rozliczenia'!D344","v":0},{"$f":"'Załącznik nr 2 do rozliczenia'!E344","v":0},{"$f":"'Załącznik nr 2 do rozliczenia'!F344","v":""},{"$f":"'Załącznik nr 2 do rozliczenia'!H344","v":0}]
[{"$f":"'Rozliczenie kwartalne'!A352","v":"75"},{"$f":"'Rozliczenie kwartalne'!B352","v":""},{"$f":"'Rozliczenie kwartalne'!C352","v":0},{"$f":"'Rozliczenie kwartalne'!D352","v":0},{"$f":"'Rozliczenie kwartalne'!E352","v":0},{"$f":"'Rozliczenie kwartalne'!F352","v":0},{"$f":"'Rozliczenie kwartalne'!G352","v":0},{"$f":"'Rozliczenie kwartalne'!H352","v":0},{"$f":"'Rozliczenie kwartalne'!I352","v":0},{"$f":"'Rozliczenie kwartalne'!J352","v":0},{"$f":"'Rozliczenie kwartalne'!K352","v":0},{"$f":"'Rozliczenie kwartalne'!L352","v":0},{"$f":"'Rozliczenie kwartalne'!M352","v":0},{"$f":"'Rozliczenie kwartalne'!N352","v":0},{"$f":"'Załącznik nr 1 do rozliczenia'!D350","v":0},{"$f":"'Załącznik nr 1 do rozliczenia'!F350","v":0},{"$f":"'Załącznik nr 1 do rozliczenia'!H350","v":0},{"$f":"'Załącznik nr 2 do rozliczenia'!D345","v":0},{"$f":"'Załącznik nr 2 do rozliczenia'!E345","v":0},{"$f":"'Załącznik nr 2 do rozliczenia'!F345","v":""},{"$f":"'Załącznik nr 2 do rozliczenia'!H345","v":0}]
[{"$f":"'Rozliczenie kwartalne'!A353","v":"76"},{"$f":"'Rozliczenie kwartalne'!B353","v":""},{"$f":"'Rozliczenie kwartalne'!C353","v":0},{"$f":"'Rozliczenie kwartalne'!D353","v":0},{"$f":"'Rozliczenie kwartalne'!E353","v":0},{"$f":"'Rozliczenie kwartalne'!F353","v":0},{"$f":"'Rozliczenie kwartalne'!G353","v":0},{"$f":"'Rozliczenie kwartalne'!H353","v":0},{"$f":"'Rozliczenie kwartalne'!I353","v":0},{"$f":"'Rozliczenie kwartalne'!J353","v":0},{"$f":"'Rozliczenie kwartalne'!K353","v":0},{"$f":"'Rozliczenie kwartalne'!L353","v":0},{"$f":"'Rozliczenie kwartalne'!M353","v":0},{"$f":"'Rozliczenie kwartalne'!N353","v":0},{"$f":"'Załącznik nr 1 do rozliczenia'!D351","v":0},{"$f":"'Załącznik nr 1 do rozliczenia'!F351","v":0},{"$f":"'Załącznik nr 1 do rozliczenia'!H351","v":0},{"$f":"'Załącznik nr 2 do rozliczenia'!D346","v":0},{"$f":"'Załącznik nr 2 do rozliczenia'!E346","v":0},{"$f":"'Załącznik nr 2 do rozliczenia'!F346","v":""},{"$f":"'Załącznik nr 2 do rozliczenia'!H346","v":0}]
[{"$f":"'Rozliczenie kwartalne'!A354","v":"77"},{"$f":"'Rozliczenie kwartalne'!B354","v":""},{"$f":"'Rozliczenie kwartalne'!C354","v":0},{"$f":"'Rozliczenie kwartalne'!D354","v":0},{"$f":"'Rozliczenie kwartalne'!E354","v":0},{"$f":"'Rozliczenie kwartalne'!F354","v":0},{"$f":"'Rozliczenie kwartalne'!G354","v":0},{"$f":"'Rozliczenie kwartalne'!H354","v":0},{"$f":"'Rozliczenie kwartalne'!I354","v":0},{"$f":"'Rozliczenie kwartalne'!J354","v":0},{"$f":"'Rozliczenie kwartalne'!K354","v":0},{"$f":"'Rozliczenie kwartalne'!L354","v":0},{"$f":"'Rozliczenie kwartalne'!M354","v":0},{"$f":"'Rozliczenie kwartalne'!N354","v":0},{"$f":"'Załącznik nr 1 do rozliczenia'!D352","v":0},{"$f":"'Załącznik nr 1 do rozliczenia'!F352","v":0},{"$f":"'Załącznik nr 1 do rozliczenia'!H352","v":0},{"$f":"'Załącznik nr 2 do rozliczenia'!D347","v":0},{"$f":"'Załącznik nr 2 do rozliczenia'!E347","v":0},{"$f":"'Załącznik nr 2 do rozliczenia'!F347","v":""},{"$f":"'Załącznik nr 2 do rozliczenia'!H347","v":0}]
[{"$f":"'Rozliczenie kwartalne'!A355","v":"78"},{"$f":"'Rozliczenie kwartalne'!B355","v":""},{"$f":"'Rozliczenie kwartalne'!C355","v":0},{"$f":"'Rozliczenie kwartalne'!D355","v":0},{"$f":"'Rozliczenie kwartalne'!E355","v":0},{"$f":"'Rozliczenie kwartalne'!F355","v":0},{"$f":"'Rozliczenie kwartalne'!G355","v":0},{"$f":"'Rozliczenie kwartalne'!H355","v":0},{"$f":"'Rozliczenie kwartalne'!I355","v":0},{"$f":"'Rozliczenie kwartalne'!J355","v":0},{"$f":"'Rozliczenie kwartalne'!K355","v":0},{"$f":"'Rozliczenie kwartalne'!L355","v":0},{"$f":"'Rozliczenie kwartalne'!M355","v":0},{"$f":"'Rozliczenie kwartalne'!N355","v":0},{"$f":"'Załącznik nr 1 do rozliczenia'!D353","v":0},{"$f":"'Załącznik nr 1 do rozliczenia'!F353","v":0},{"$f":"'Załącznik nr 1 do rozliczenia'!H353","v":0},{"$f":"'Załącznik nr 2 do rozliczenia'!D348","v":0},{"$f":"'Załącznik nr 2 do rozliczenia'!E348","v":0},{"$f":"'Załącznik nr 2 do rozliczenia'!F348","v":""},{"$f":"'Załącznik nr 2 do rozliczenia'!H348","v":0}]
[{"$f":"'Rozliczenie kwartalne'!A356","v":"79"},{"$f":"'Rozliczenie kwartalne'!B356","v":""},{"$f":"'Rozliczenie kwartalne'!C356","v":0},{"$f":"'Rozliczenie kwartalne'!D356","v":0},{"$f":"'Rozliczenie kwartalne'!E356","v":0},{"$f":"'Rozliczenie kwartalne'!F356","v":0},{"$f":"'Rozliczenie kwartalne'!G356","v":0},{"$f":"'Rozliczenie kwartalne'!H356","v":0},{"$f":"'Rozliczenie kwartalne'!I356","v":0},{"$f":"'Rozliczenie kwartalne'!J356","v":0},{"$f":"'Rozliczenie kwartalne'!K356","v":0},{"$f":"'Rozliczenie kwartalne'!L356","v":0},{"$f":"'Rozliczenie kwartalne'!M356","v":0},{"$f":"'Rozliczenie kwartalne'!N356","v":0},{"$f":"'Załącznik nr 1 do rozliczenia'!D354","v":0},{"$f":"'Załącznik nr 1 do rozliczenia'!F354","v":0},{"$f":"'Załącznik nr 1 do rozliczenia'!H354","v":0},{"$f":"'Załącznik nr 2 do rozliczenia'!D349","v":0},{"$f":"'Załącznik nr 2 do rozliczenia'!E349","v":0},{"$f":"'Załącznik nr 2 do rozliczenia'!F349","v":""},{"$f":"'Załącznik nr 2 do rozliczenia'!H349","v":0}]
[{"$f":"'Rozliczenie kwartalne'!A357","v":"80"},{"$f":"'Rozliczenie kwartalne'!B357","v":""},{"$f":"'Rozliczenie kwartalne'!C357","v":0},{"$f":"'Rozliczenie kwartalne'!D357","v":0},{"$f":"'Rozliczenie kwartalne'!E357","v":0},{"$f":"'Rozliczenie kwartalne'!F357","v":0},{"$f":"'Rozliczenie kwartalne'!G357","v":0},{"$f":"'Rozliczenie kwartalne'!H357","v":0},{"$f":"'Rozliczenie kwartalne'!I357","v":0},{"$f":"'Rozliczenie kwartalne'!J357","v":0},{"$f":"'Rozliczenie kwartalne'!K357","v":0},{"$f":"'Rozliczenie kwartalne'!L357","v":0},{"$f":"'Rozliczenie kwartalne'!M357","v":0},{"$f":"'Rozliczenie kwartalne'!N357","v":0},{"$f":"'Załącznik nr 1 do rozliczenia'!D355","v":0},{"$f":"'Załącznik nr 1 do rozliczenia'!F355","v":0},{"$f":"'Załącznik nr 1 do rozliczenia'!H355","v":0},{"$f":"'Załącznik nr 2 do rozliczenia'!D350","v":0},{"$f":"'Załącznik nr 2 do rozliczenia'!E350","v":0},{"$f":"'Załącznik nr 2 do rozliczenia'!F350","v":""},{"$f":"'Załącznik nr 2 do rozliczenia'!H350","v":0}]
[{"$f":"'Rozliczenie kwartalne'!A358","v":"81"},{"$f":"'Rozliczenie kwartalne'!B358","v":""},{"$f":"'Rozliczenie kwartalne'!C358","v":0},{"$f":"'Rozliczenie kwartalne'!D358","v":0},{"$f":"'Rozliczenie kwartalne'!E358","v":0},{"$f":"'Rozliczenie kwartalne'!F358","v":0},{"$f":"'Rozliczenie kwartalne'!G358","v":0},{"$f":"'Rozliczenie kwartalne'!H358","v":0},{"$f":"'Rozliczenie kwartalne'!I358","v":0},{"$f":"'Rozliczenie kwartalne'!J358","v":0},{"$f":"'Rozliczenie kwartalne'!K358","v":0},{"$f":"'Rozliczenie kwartalne'!L358","v":0},{"$f":"'Rozliczenie kwartalne'!M358","v":0},{"$f":"'Rozliczenie kwartalne'!N358","v":0},{"$f":"'Załącznik nr 1 do rozliczenia'!D356","v":0},{"$f":"'Załącznik nr 1 do rozliczenia'!F356","v":0},{"$f":"'Załącznik nr 1 do rozliczenia'!H356","v":0},{"$f":"'Załącznik nr 2 do rozliczenia'!D351","v":0},{"$f":"'Załącznik nr 2 do rozliczenia'!E351","v":0},{"$f":"'Załącznik nr 2 do rozliczenia'!F351","v":""},{"$f":"'Załącznik nr 2 do rozliczenia'!H351","v":0}]
[{"$f":"'Rozliczenie kwartalne'!A359","v":"82"},{"$f":"'Rozliczenie kwartalne'!B359","v":""},{"$f":"'Rozliczenie kwartalne'!C359","v":0},{"$f":"'Rozliczenie kwartalne'!D359","v":0},{"$f":"'Rozliczenie kwartalne'!E359","v":0},{"$f":"'Rozliczenie kwartalne'!F359","v":0},{"$f":"'Rozliczenie kwartalne'!G359","v":0},{"$f":"'Rozliczenie kwartalne'!H359","v":0},{"$f":"'Rozliczenie kwartalne'!I359","v":0},{"$f":"'Rozliczenie kwartalne'!J359","v":0},{"$f":"'Rozliczenie kwartalne'!K359","v":0},{"$f":"'Rozliczenie kwartalne'!L359","v":0},{"$f":"'Rozliczenie kwartalne'!M359","v":0},{"$f":"'Rozliczenie kwartalne'!N359","v":0},{"$f":"'Załącznik nr 1 do rozliczenia'!D357","v":0},{"$f":"'Załącznik nr 1 do rozliczenia'!F357","v":0},{"$f":"'Załącznik nr 1 do rozliczenia'!H357","v":0},{"$f":"'Załącznik nr 2 do rozliczenia'!D352","v":0},{"$f":"'Załącznik nr 2 do rozliczenia'!E352","v":0},{"$f":"'Załącznik nr 2 do rozliczenia'!F352","v":""},{"$f":"'Załącznik nr 2 do rozliczenia'!H352","v":0}]
[{"$f":"'Rozliczenie kwartalne'!A360","v":"83"},{"$f":"'Rozliczenie kwartalne'!B360","v":""},{"$f":"'Rozliczenie kwartalne'!C360","v":0},{"$f":"'Rozliczenie kwartalne'!D360","v":0},{"$f":"'Rozliczenie kwartalne'!E360","v":0},{"$f":"'Rozliczenie kwartalne'!F360","v":0},{"$f":"'Rozliczenie kwartalne'!G360","v":0},{"$f":"'Rozliczenie kwartalne'!H360","v":0},{"$f":"'Rozliczenie kwartalne'!I360","v":0},{"$f":"'Rozliczenie kwartalne'!J360","v":0},{"$f":"'Rozliczenie kwartalne'!K360","v":0},{"$f":"'Rozliczenie kwartalne'!L360","v":0},{"$f":"'Rozliczenie kwartalne'!M360","v":0},{"$f":"'Rozliczenie kwartalne'!N360","v":0},{"$f":"'Załącznik nr 1 do rozliczenia'!D358","v":0},{"$f":"'Załącznik nr 1 do rozliczenia'!F358","v":0},{"$f":"'Załącznik nr 1 do rozliczenia'!H358","v":0},{"$f":"'Załącznik nr 2 do rozliczenia'!D353","v":0},{"$f":"'Załącznik nr 2 do rozliczenia'!E353","v":0},{"$f":"'Załącznik nr 2 do rozliczenia'!F353","v":""},{"$f":"'Załącznik nr 2 do rozliczenia'!H353","v":0}]
[{"$f":"'Rozliczenie kwartalne'!A361","v":"84"},{"$f":"'Rozliczenie kwartalne'!B361","v":""},{"$f":"'Rozliczenie kwartalne'!C361","v":0},{"$f":"'Rozliczenie kwartalne'!D361","v":0},{"$f":"'Rozliczenie kwartalne'!E361","v":0},{"$f":"'Rozliczenie kwartalne'!F361","v":0},{"$f":"'Rozliczenie kwartalne'!G361","v":0},{"$f":"'Rozliczenie kwartalne'!H361","v":0},{"$f":"'Rozliczenie kwartalne'!I361","v":0},{"$f":"'Rozliczenie kwartalne'!J361","v":0},{"$f":"'Rozliczenie kwartalne'!K361","v":0},{"$f":"'Rozliczenie kwartalne'!L361","v":0},{"$f":"'Rozliczenie kwartalne'!M361","v":0},{"$f":"'Rozliczenie kwartalne'!N361","v":0},{"$f":"'Załącznik nr 1 do rozliczenia'!D359","v":0},{"$f":"'Załącznik nr 1 do rozliczenia'!F359","v":0},{"$f":"'Załącznik nr 1 do rozliczenia'!H359","v":0},{"$f":"'Załącznik nr 2 do rozliczenia'!D354","v":0},{"$f":"'Załącznik nr 2 do rozliczenia'!E354","v":0},{"$f":"'Załącznik nr 2 do rozliczenia'!F354","v":""},{"$f":"'Załącznik nr 2 do rozliczenia'!H354","v":0}]
[{"$f":"'Rozliczenie kwartalne'!A362","v":"85"},{"$f":"'Rozliczenie kwartalne'!B362","v":""},{"$f":"'Rozliczenie kwartalne'!C362","v":0},{"$f":"'Rozliczenie kwartalne'!D362","v":0},{"$f":"'Rozliczenie kwartalne'!E362","v":0},{"$f":"'Rozliczenie kwartalne'!F362","v":0},{"$f":"'Rozliczenie kwartalne'!G362","v":0},{"$f":"'Rozliczenie kwartalne'!H362","v":0},{"$f":"'Rozliczenie kwartalne'!I362","v":0},{"$f":"'Rozliczenie kwartalne'!J362","v":0},{"$f":"'Rozliczenie kwartalne'!K362","v":0},{"$f":"'Rozliczenie kwartalne'!L362","v":0},{"$f":"'Rozliczenie kwartalne'!M362","v":0},{"$f":"'Rozliczenie kwartalne'!N362","v":0},{"$f":"'Załącznik nr 1 do rozliczenia'!D360","v":0},{"$f":"'Załącznik nr 1 do rozliczenia'!F360","v":0},{"$f":"'Załącznik nr 1 do rozliczenia'!H360","v":0},{"$f":"'Załącznik nr 2 do rozliczenia'!D355","v":0},{"$f":"'Załącznik nr 2 do rozliczenia'!E355","v":0},{"$f":"'Załącznik nr 2 do rozliczenia'!F355","v":""},{"$f":"'Załącznik nr 2 do rozliczenia'!H355","v":0}]
[{"$f":"'Rozliczenie kwartalne'!A363","v":"86"},{"$f":"'Rozliczenie kwartalne'!B363","v":""},{"$f":"'Rozliczenie kwartalne'!C363","v":0},{"$f":"'Rozliczenie kwartalne'!D363","v":0},{"$f":"'Rozliczenie kwartalne'!E363","v":0},{"$f":"'Rozliczenie kwartalne'!F363","v":0},{"$f":"'Rozliczenie kwartalne'!G363","v":0},{"$f":"'Rozliczenie kwartalne'!H363","v":0},{"$f":"'Rozliczenie kwartalne'!I363","v":0},{"$f":"'Rozliczenie kwartalne'!J363","v":0},{"$f":"'Rozliczenie kwartalne'!K363","v":0},{"$f":"'Rozliczenie kwartalne'!L363","v":0},{"$f":"'Rozliczenie kwartalne'!M363","v":0},{"$f":"'Rozliczenie kwartalne'!N363","v":0},{"$f":"'Załącznik nr 1 do rozliczenia'!D361","v":0},{"$f":"'Załącznik nr 1 do rozliczenia'!F361","v":0},{"$f":"'Załącznik nr 1 do rozliczenia'!H361","v":0},{"$f":"'Załącznik nr 2 do rozliczenia'!D356","v":0},{"$f":"'Załącznik nr 2 do rozliczenia'!E356","v":0},{"$f":"'Załącznik nr 2 do rozliczenia'!F356","v":""},{"$f":"'Załącznik nr 2 do rozliczenia'!H356","v":0}]
[{"$f":"'Rozliczenie kwartalne'!A364","v":"87"},{"$f":"'Rozliczenie kwartalne'!B364","v":""},{"$f":"'Rozliczenie kwartalne'!C364","v":0},{"$f":"'Rozliczenie kwartalne'!D364","v":0},{"$f":"'Rozliczenie kwartalne'!E364","v":0},{"$f":"'Rozliczenie kwartalne'!F364","v":0},{"$f":"'Rozliczenie kwartalne'!G364","v":0},{"$f":"'Rozliczenie kwartalne'!H364","v":0},{"$f":"'Rozliczenie kwartalne'!I364","v":0},{"$f":"'Rozliczenie kwartalne'!J364","v":0},{"$f":"'Rozliczenie kwartalne'!K364","v":0},{"$f":"'Rozliczenie kwartalne'!L364","v":0},{"$f":"'Rozliczenie kwartalne'!M364","v":0},{"$f":"'Rozliczenie kwartalne'!N364","v":0},{"$f":"'Załącznik nr 1 do rozliczenia'!D362","v":0},{"$f":"'Załącznik nr 1 do rozliczenia'!F362","v":0},{"$f":"'Załącznik nr 1 do rozliczenia'!H362","v":0},{"$f":"'Załącznik nr 2 do rozliczenia'!D357","v":0},{"$f":"'Załącznik nr 2 do rozliczenia'!E357","v":0},{"$f":"'Załącznik nr 2 do rozliczenia'!F357","v":""},{"$f":"'Załącznik nr 2 do rozliczenia'!H357","v":0}]
[{"$f":"'Rozliczenie kwartalne'!A365","v":"88"},{"$f":"'Rozliczenie kwartalne'!B365","v":""},{"$f":"'Rozliczenie kwartalne'!C365","v":0},{"$f":"'Rozliczenie kwartalne'!D365","v":0},{"$f":"'Rozliczenie kwartalne'!E365","v":0},{"$f":"'Rozliczenie kwartalne'!F365","v":0},{"$f":"'Rozliczenie kwartalne'!G365","v":0},{"$f":"'Rozliczenie kwartalne'!H365","v":0},{"$f":"'Rozliczenie kwartalne'!I365","v":0},{"$f":"'Rozliczenie kwartalne'!J365","v":0},{"$f":"'Rozliczenie kwartalne'!K365","v":0},{"$f":"'Rozliczenie kwartalne'!L365","v":0},{"$f":"'Rozliczenie kwartalne'!M365","v":0},{"$f":"'Rozliczenie kwartalne'!N365","v":0},{"$f":"'Załącznik nr 1 do rozliczenia'!D363","v":0},{"$f":"'Załącznik nr 1 do rozliczenia'!F363","v":0},{"$f":"'Załącznik nr 1 do rozliczenia'!H363","v":0},{"$f":"'Załącznik nr 2 do rozliczenia'!D358","v":0},{"$f":"'Załącznik nr 2 do rozliczenia'!E358","v":0},{"$f":"'Załącznik nr 2 do rozliczenia'!F358","v":""},{"$f":"'Załącznik nr 2 do rozliczenia'!H358","v":0}]
[{"$f":"'Rozliczenie kwartalne'!A366","v":"89"},{"$f":"'Rozliczenie kwartalne'!B366","v":""},{"$f":"'Rozliczenie kwartalne'!C366","v":0},{"$f":"'Rozliczenie kwartalne'!D366","v":0},{"$f":"'Rozliczenie kwartalne'!E366","v":0},{"$f":"'Rozliczenie kwartalne'!F366","v":0},{"$f":"'Rozliczenie kwartalne'!G366","v":0},{"$f":"'Rozliczenie kwartalne'!H366","v":0},{"$f":"'Rozliczenie kwartalne'!I366","v":0},{"$f":"'Rozliczenie kwartalne'!J366","v":0},{"$f":"'Rozliczenie kwartalne'!K366","v":0},{"$f":"'Rozliczenie kwartalne'!L366","v":0},{"$f":"'Rozliczenie kwartalne'!M366","v":0},{"$f":"'Rozliczenie kwartalne'!N366","v":0},{"$f":"'Załącznik nr 1 do rozliczenia'!D364","v":0},{"$f":"'Załącznik nr 1 do rozliczenia'!F364","v":0},{"$f":"'Załącznik nr 1 do rozliczenia'!H364","v":0},{"$f":"'Załącznik nr 2 do rozliczenia'!D359","v":0},{"$f":"'Załącznik nr 2 do rozliczenia'!E359","v":0},{"$f":"'Załącznik nr 2 do rozliczenia'!F359","v":""},{"$f":"'Załącznik nr 2 do rozliczenia'!H359","v":0}]
[{"$f":"'Rozliczenie kwartalne'!A367","v":"90"},{"$f":"'Rozliczenie kwartalne'!B367","v":""},{"$f":"'Rozliczenie kwartalne'!C367","v":0},{"$f":"'Rozliczenie kwartalne'!D367","v":0},{"$f":"'Rozliczenie kwartalne'!E367","v":0},{"$f":"'Rozliczenie kwartalne'!F367","v":0},{"$f":"'Rozliczenie kwartalne'!G367","v":0},{"$f":"'Rozliczenie kwartalne'!H367","v":0},{"$f":"'Rozliczenie kwartalne'!I367","v":0},{"$f":"'Rozliczenie kwartalne'!J367","v":0},{"$f":"'Rozliczenie kwartalne'!K367","v":0},{"$f":"'Rozliczenie kwartalne'!L367","v":0},{"$f":"'Rozliczenie kwartalne'!M367","v":0},{"$f":"'Rozliczenie kwartalne'!N367","v":0},{"$f":"'Załącznik nr 1 do rozliczenia'!D365","v":0},{"$f":"'Załącznik nr 1 do rozliczenia'!F365","v":0},{"$f":"'Załącznik nr 1 do rozliczenia'!H365","v":0},{"$f":"'Załącznik nr 2 do rozliczenia'!D360","v":0},{"$f":"'Załącznik nr 2 do rozliczenia'!E360","v":0},{"$f":"'Załącznik nr 2 do rozliczenia'!F360","v":""},{"$f":"'Załącznik nr 2 do rozliczenia'!H360","v":0}]
[{"$f":"'Rozliczenie kwartalne'!A368","v":"91"},{"$f":"'Rozliczenie kwartalne'!B368","v":""},{"$f":"'Rozliczenie kwartalne'!C368","v":0},{"$f":"'Rozliczenie kwartalne'!D368","v":0},{"$f":"'Rozliczenie kwartalne'!E368","v":0},{"$f":"'Rozliczenie kwartalne'!F368","v":0},{"$f":"'Rozliczenie kwartalne'!G368","v":0},{"$f":"'Rozliczenie kwartalne'!H368","v":0},{"$f":"'Rozliczenie kwartalne'!I368","v":0},{"$f":"'Rozliczenie kwartalne'!J368","v":0},{"$f":"'Rozliczenie kwartalne'!K368","v":0},{"$f":"'Rozliczenie kwartalne'!L368","v":0},{"$f":"'Rozliczenie kwartalne'!M368","v":0},{"$f":"'Rozliczenie kwartalne'!N368","v":0},{"$f":"'Załącznik nr 1 do rozliczenia'!D366","v":0},{"$f":"'Załącznik nr 1 do rozliczenia'!F366","v":0},{"$f":"'Załącznik nr 1 do rozliczenia'!H366","v":0},{"$f":"'Załącznik nr 2 do rozliczenia'!D361","v":0},{"$f":"'Załącznik nr 2 do rozliczenia'!E361","v":0},{"$f":"'Załącznik nr 2 do rozliczenia'!F361","v":""},{"$f":"'Załącznik nr 2 do rozliczenia'!H361","v":0}]
[{"$f":"'Rozliczenie kwartalne'!A369","v":"92"},{"$f":"'Rozliczenie kwartalne'!B369","v":""},{"$f":"'Rozliczenie kwartalne'!C369","v":0},{"$f":"'Rozliczenie kwartalne'!D369","v":0},{"$f":"'Rozliczenie kwartalne'!E369","v":0},{"$f":"'Rozliczenie kwartalne'!F369","v":0},{"$f":"'Rozliczenie kwartalne'!G369","v":0},{"$f":"'Rozliczenie kwartalne'!H369","v":0},{"$f":"'Rozliczenie kwartalne'!I369","v":0},{"$f":"'Rozliczenie kwartalne'!J369","v":0},{"$f":"'Rozliczenie kwartalne'!K369","v":0},{"$f":"'Rozliczenie kwartalne'!L369","v":0},{"$f":"'Rozliczenie kwartalne'!M369","v":0},{"$f":"'Rozliczenie kwartalne'!N369","v":0},{"$f":"'Załącznik nr 1 do rozliczenia'!D367","v":0},{"$f":"'Załącznik nr 1 do rozliczenia'!F367","v":0},{"$f":"'Załącznik nr 1 do rozliczenia'!H367","v":0},{"$f":"'Załącznik nr 2 do rozliczenia'!D362","v":0},{"$f":"'Załącznik nr 2 do rozliczenia'!E362","v":0},{"$f":"'Załącznik nr 2 do rozliczenia'!F362","v":""},{"$f":"'Załącznik nr 2 do rozliczenia'!H362","v":0}]
[{"$f":"'Rozliczenie kwartalne'!A370","v":"93"},{"$f":"'Rozliczenie kwartalne'!B370","v":""},{"$f":"'Rozliczenie kwartalne'!C370","v":0},{"$f":"'Rozliczenie kwartalne'!D370","v":0},{"$f":"'Rozliczenie kwartalne'!E370","v":0},{"$f":"'Rozliczenie kwartalne'!F370","v":0},{"$f":"'Rozliczenie kwartalne'!G370","v":0},{"$f":"'Rozliczenie kwartalne'!H370","v":0},{"$f":"'Rozliczenie kwartalne'!I370","v":0},{"$f":"'Rozliczenie kwartalne'!J370","v":0},{"$f":"'Rozliczenie kwartalne'!K370","v":0},{"$f":"'Rozliczenie kwartalne'!L370","v":0},{"$f":"'Rozliczenie kwartalne'!M370","v":0},{"$f":"'Rozliczenie kwartalne'!N370","v":0},{"$f":"'Załącznik nr 1 do rozliczenia'!D368","v":0},{"$f":"'Załącznik nr 1 do rozliczenia'!F368","v":0},{"$f":"'Załącznik nr 1 do rozliczenia'!H368","v":0},{"$f":"'Załącznik nr 2 do rozliczenia'!D363","v":0},{"$f":"'Załącznik nr 2 do rozliczenia'!E363","v":0},{"$f":"'Załącznik nr 2 do rozliczenia'!F363","v":""},{"$f":"'Załącznik nr 2 do rozliczenia'!H363","v":0}]
[{"$f":"'Rozliczenie kwartalne'!A371","v":"94"},{"$f":"'Rozliczenie kwartalne'!B371","v":""},{"$f":"'Rozliczenie kwartalne'!C371","v":0},{"$f":"'Rozliczenie kwartalne'!D371","v":0},{"$f":"'Rozliczenie kwartalne'!E371","v":0},{"$f":"'Rozliczenie kwartalne'!F371","v":0},{"$f":"'Rozliczenie kwartalne'!G371","v":0},{"$f":"'Rozliczenie kwartalne'!H371","v":0},{"$f":"'Rozliczenie kwartalne'!I371","v":0},{"$f":"'Rozliczenie kwartalne'!J371","v":0},{"$f":"'Rozliczenie kwartalne'!K371","v":0},{"$f":"'Rozliczenie kwartalne'!L371","v":0},{"$f":"'Rozliczenie kwartalne'!M371","v":0},{"$f":"'Rozliczenie kwartalne'!N371","v":0},{"$f":"'Załącznik nr 1 do rozliczenia'!D369","v":0},{"$f":"'Załącznik nr 1 do rozliczenia'!F369","v":0},{"$f":"'Załącznik nr 1 do rozliczenia'!H369","v":0},{"$f":"'Załącznik nr 2 do rozliczenia'!D364","v":0},{"$f":"'Załącznik nr 2 do rozliczenia'!E364","v":0},{"$f":"'Załącznik nr 2 do rozliczenia'!F364","v":""},{"$f":"'Załącznik nr 2 do rozliczenia'!H364","v":0}]
[{"$f":"'Rozliczenie kwartalne'!A372","v":"95"},{"$f":"'Rozliczenie kwartalne'!B372","v":""},{"$f":"'Rozliczenie kwartalne'!C372","v":0},{"$f":"'Rozliczenie kwartalne'!D372","v":0},{"$f":"'Rozliczenie kwartalne'!E372","v":0},{"$f":"'Rozliczenie kwartalne'!F372","v":0},{"$f":"'Rozliczenie kwartalne'!G372","v":0},{"$f":"'Rozliczenie kwartalne'!H372","v":0},{"$f":"'Rozliczenie kwartalne'!I372","v":0},{"$f":"'Rozliczenie kwartalne'!J372","v":0},{"$f":"'Rozliczenie kwartalne'!K372","v":0},{"$f":"'Rozliczenie kwartalne'!L372","v":0},{"$f":"'Rozliczenie kwartalne'!M372","v":0},{"$f":"'Rozliczenie kwartalne'!N372","v":0},{"$f":"'Załącznik nr 1 do rozliczenia'!D370","v":0},{"$f":"'Załącznik nr 1 do rozliczenia'!F370","v":0},{"$f":"'Załącznik nr 1 do rozliczenia'!H370","v":0},{"$f":"'Załącznik nr 2 do rozliczenia'!D365","v":0},{"$f":"'Załącznik nr 2 do rozliczenia'!E365","v":0},{"$f":"'Załącznik nr 2 do rozliczenia'!F365","v":""},{"$f":"'Załącznik nr 2 do rozliczenia'!H365","v":0}]
[{"$f":"'Rozliczenie kwartalne'!A373","v":"96"},{"$f":"'Rozliczenie kwartalne'!B373","v":""},{"$f":"'Rozliczenie kwartalne'!C373","v":0},{"$f":"'Rozliczenie kwartalne'!D373","v":0},{"$f":"'Rozliczenie kwartalne'!E373","v":0},{"$f":"'Rozliczenie kwartalne'!F373","v":0},{"$f":"'Rozliczenie kwartalne'!G373","v":0},{"$f":"'Rozliczenie kwartalne'!H373","v":0},{"$f":"'Rozliczenie kwartalne'!I373","v":0},{"$f":"'Rozliczenie kwartalne'!J373","v":0},{"$f":"'Rozliczenie kwartalne'!K373","v":0},{"$f":"'Rozliczenie kwartalne'!L373","v":0},{"$f":"'Rozliczenie kwartalne'!M373","v":0},{"$f":"'Rozliczenie kwartalne'!N373","v":0},{"$f":"'Załącznik nr 1 do rozliczenia'!D371","v":0},{"$f":"'Załącznik nr 1 do rozliczenia'!F371","v":0},{"$f":"'Załącznik nr 1 do rozliczenia'!H371","v":0},{"$f":"'Załącznik nr 2 do rozliczenia'!D366","v":0},{"$f":"'Załącznik nr 2 do rozliczenia'!E366","v":0},{"$f":"'Załącznik nr 2 do rozliczenia'!F366","v":""},{"$f":"'Załącznik nr 2 do rozliczenia'!H366","v":0}]
[{"$f":"'Rozliczenie kwartalne'!A374","v":"97"},{"$f":"'Rozliczenie kwartalne'!B374","v":""},{"$f":"'Rozliczenie kwartalne'!C374","v":0},{"$f":"'Rozliczenie kwartalne'!D374","v":0},{"$f":"'Rozliczenie kwartalne'!E374","v":0},{"$f":"'Rozliczenie kwartalne'!F374","v":0},{"$f":"'Rozliczenie kwartalne'!G374","v":0},{"$f":"'Rozliczenie kwartalne'!H374","v":0},{"$f":"'Rozliczenie kwartalne'!I374","v":0},{"$f":"'Rozliczenie kwartalne'!J374","v":0},{"$f":"'Rozliczenie kwartalne'!K374","v":0},{"$f":"'Rozliczenie kwartalne'!L374","v":0},{"$f":"'Rozliczenie kwartalne'!M374","v":0},{"$f":"'Rozliczenie kwartalne'!N374","v":0},{"$f":"'Załącznik nr 1 do rozliczenia'!D372","v":0},{"$f":"'Załącznik nr 1 do rozliczenia'!F372","v":0},{"$f":"'Załącznik nr 1 do rozliczenia'!H372","v":0},{"$f":"'Załącznik nr 2 do rozliczenia'!D367","v":0},{"$f":"'Załącznik nr 2 do rozliczenia'!E367","v":0},{"$f":"'Załącznik nr 2 do rozliczenia'!F367","v":""},{"$f":"'Załącznik nr 2 do rozliczenia'!H367","v":0}]
[{"$f":"'Rozliczenie kwartalne'!A375","v":"98"},{"$f":"'Rozliczenie kwartalne'!B375","v":""},{"$f":"'Rozliczenie kwartalne'!C375","v":0},{"$f":"'Rozliczenie kwartalne'!D375","v":0},{"$f":"'Rozliczenie kwartalne'!E375","v":0},{"$f":"'Rozliczenie kwartalne'!F375","v":0},{"$f":"'Rozliczenie kwartalne'!G375","v":0},{"$f":"'Rozliczenie kwartalne'!H375","v":0},{"$f":"'Rozliczenie kwartalne'!I375","v":0},{"$f":"'Rozliczenie kwartalne'!J375","v":0},{"$f":"'Rozliczenie kwartalne'!K375","v":0},{"$f":"'Rozliczenie kwartalne'!L375","v":0},{"$f":"'Rozliczenie kwartalne'!M375","v":0},{"$f":"'Rozliczenie kwartalne'!N375","v":0},{"$f":"'Załącznik nr 1 do rozliczenia'!D373","v":0},{"$f":"'Załącznik nr 1 do rozliczenia'!F373","v":0},{"$f":"'Załącznik nr 1 do rozliczenia'!H373","v":0},{"$f":"'Załącznik nr 2 do rozliczenia'!D368","v":0},{"$f":"'Załącznik nr 2 do rozliczenia'!E368","v":0},{"$f":"'Załącznik nr 2 do rozliczenia'!F368","v":""},{"$f":"'Załącznik nr 2 do rozliczenia'!H368","v":0}]
[{"$f":"'Rozliczenie kwartalne'!A376","v":"99"},{"$f":"'Rozliczenie kwartalne'!B376","v":""},{"$f":"'Rozliczenie kwartalne'!C376","v":0},{"$f":"'Rozliczenie kwartalne'!D376","v":0},{"$f":"'Rozliczenie kwartalne'!E376","v":0},{"$f":"'Rozliczenie kwartalne'!F376","v":0},{"$f":"'Rozliczenie kwartalne'!G376","v":0},{"$f":"'Rozliczenie kwartalne'!H376","v":0},{"$f":"'Rozliczenie kwartalne'!I376","v":0},{"$f":"'Rozliczenie kwartalne'!J376","v":0},{"$f":"'Rozliczenie kwartalne'!K376","v":0},{"$f":"'Rozliczenie kwartalne'!L376","v":0},{"$f":"'Rozliczenie kwartalne'!M376","v":0},{"$f":"'Rozliczenie kwartalne'!N376","v":0},{"$f":"'Załącznik nr 1 do rozliczenia'!D374","v":0},{"$f":"'Załącznik nr 1 do rozliczenia'!F374","v":0},{"$f":"'Załącznik nr 1 do rozliczenia'!H374","v":0},{"$f":"'Załącznik nr 2 do rozliczenia'!D369","v":0},{"$f":"'Załącznik nr 2 do rozliczenia'!E369","v":0},{"$f":"'Załącznik nr 2 do rozliczenia'!F369","v":""},{"$f":"'Załącznik nr 2 do rozliczenia'!H369","v":0}]
[{"$f":"'Rozliczenie kwartalne'!A377","v":"100"},{"$f":"'Rozliczenie kwartalne'!B377","v":""},{"$f":"'Rozliczenie kwartalne'!C377","v":0},{"$f":"'Rozliczenie kwartalne'!D377","v":0},{"$f":"'Rozliczenie kwartalne'!E377","v":0},{"$f":"'Rozliczenie kwartalne'!F377","v":0},{"$f":"'Rozliczenie kwartalne'!G377","v":0},{"$f":"'Rozliczenie kwartalne'!H377","v":0},{"$f":"'Rozliczenie kwartalne'!I377","v":0},{"$f":"'Rozliczenie kwartalne'!J377","v":0},{"$f":"'Rozliczenie kwartalne'!K377","v":0},{"$f":"'Rozliczenie kwartalne'!L377","v":0},{"$f":"'Rozliczenie kwartalne'!M377","v":0},{"$f":"'Rozliczenie kwartalne'!N377","v":0},{"$f":"'Załącznik nr 1 do rozliczenia'!D375","v":0},{"$f":"'Załącznik nr 1 do rozliczenia'!F375","v":0},{"$f":"'Załącznik nr 1 do rozliczenia'!H375","v":0},{"$f":"'Załącznik nr 2 do rozliczenia'!D370","v":0},{"$f":"'Załącznik nr 2 do rozliczenia'!E370","v":0},{"$f":"'Załącznik nr 2 do rozliczenia'!F370","v":""},{"$f":"'Załącznik nr 2 do rozliczenia'!H370","v":0}]
[{"$f":"'Rozliczenie kwartalne'!A378","v":"101"},{"$f":"'Rozliczenie kwartalne'!B378","v":""},{"$f":"'Rozliczenie kwartalne'!C378","v":0},{"$f":"'Rozliczenie kwartalne'!D378","v":0},{"$f":"'Rozliczenie kwartalne'!E378","v":0},{"$f":"'Rozliczenie kwartalne'!F378","v":0},{"$f":"'Rozliczenie kwartalne'!G378","v":0},{"$f":"'Rozliczenie kwartalne'!H378","v":0},{"$f":"'Rozliczenie kwartalne'!I378","v":0},{"$f":"'Rozliczenie kwartalne'!J378","v":0},{"$f":"'Rozliczenie kwartalne'!K378","v":0},{"$f":"'Rozliczenie kwartalne'!L378","v":0},{"$f":"'Rozliczenie kwartalne'!M378","v":0},{"$f":"'Rozliczenie kwartalne'!N378","v":0},{"$f":"'Załącznik nr 1 do rozliczenia'!D376","v":0},{"$f":"'Załącznik nr 1 do rozliczenia'!F376","v":0},{"$f":"'Załącznik nr 1 do rozliczenia'!H376","v":0},{"$f":"'Załącznik nr 2 do rozliczenia'!D371","v":0},{"$f":"'Załącznik nr 2 do rozliczenia'!E371","v":0},{"$f":"'Załącznik nr 2 do rozliczenia'!F371","v":""},{"$f":"'Załącznik nr 2 do rozliczenia'!H371","v":0}]
[{"$f":"'Rozliczenie kwartalne'!A379","v":"102"},{"$f":"'Rozliczenie kwartalne'!B379","v":""},{"$f":"'Rozliczenie kwartalne'!C379","v":0},{"$f":"'Rozliczenie kwartalne'!D379","v":0},{"$f":"'Rozliczenie kwartalne'!E379","v":0},{"$f":"'Rozliczenie kwartalne'!F379","v":0},{"$f":"'Rozliczenie kwartalne'!G379","v":0},{"$f":"'Rozliczenie kwartalne'!H379","v":0},{"$f":"'Rozliczenie kwartalne'!I379","v":0},{"$f":"'Rozliczenie kwartalne'!J379","v":0},{"$f":"'Rozliczenie kwartalne'!K379","v":0},{"$f":"'Rozliczenie kwartalne'!L379","v":0},{"$f":"'Rozliczenie kwartalne'!M379","v":0},{"$f":"'Rozliczenie kwartalne'!N379","v":0},{"$f":"'Załącznik nr 1 do rozliczenia'!D377","v":0},{"$f":"'Załącznik nr 1 do rozliczenia'!F377","v":0},{"$f":"'Załącznik nr 1 do rozliczenia'!H377","v":0},{"$f":"'Załącznik nr 2 do rozliczenia'!D372","v":0},{"$f":"'Załącznik nr 2 do rozliczenia'!E372","v":0},{"$f":"'Załącznik nr 2 do rozliczenia'!F372","v":""},{"$f":"'Załącznik nr 2 do rozliczenia'!H372","v":0}]
[{"$f":"'Rozliczenie kwartalne'!A380","v":"103"},{"$f":"'Rozliczenie kwartalne'!B380","v":""},{"$f":"'Rozliczenie kwartalne'!C380","v":0},{"$f":"'Rozliczenie kwartalne'!D380","v":0},{"$f":"'Rozliczenie kwartalne'!E380","v":0},{"$f":"'Rozliczenie kwartalne'!F380","v":0},{"$f":"'Rozliczenie kwartalne'!G380","v":0},{"$f":"'Rozliczenie kwartalne'!H380","v":0},{"$f":"'Rozliczenie kwartalne'!I380","v":0},{"$f":"'Rozliczenie kwartalne'!J380","v":0},{"$f":"'Rozliczenie kwartalne'!K380","v":0},{"$f":"'Rozliczenie kwartalne'!L380","v":0},{"$f":"'Rozliczenie kwartalne'!M380","v":0},{"$f":"'Rozliczenie kwartalne'!N380","v":0},{"$f":"'Załącznik nr 1 do rozliczenia'!D378","v":0},{"$f":"'Załącznik nr 1 do rozliczenia'!F378","v":0},{"$f":"'Załącznik nr 1 do rozliczenia'!H378","v":0},{"$f":"'Załącznik nr 2 do rozliczenia'!D373","v":0},{"$f":"'Załącznik nr 2 do rozliczenia'!E373","v":0},{"$f":"'Załącznik nr 2 do rozliczenia'!F373","v":""},{"$f":"'Załącznik nr 2 do rozliczenia'!H373","v":0}]
[{"$f":"'Rozliczenie kwartalne'!A381","v":"104"},{"$f":"'Rozliczenie kwartalne'!B381","v":""},{"$f":"'Rozliczenie kwartalne'!C381","v":0},{"$f":"'Rozliczenie kwartalne'!D381","v":0},{"$f":"'Rozliczenie kwartalne'!E381","v":0},{"$f":"'Rozliczenie kwartalne'!F381","v":0},{"$f":"'Rozliczenie kwartalne'!G381","v":0},{"$f":"'Rozliczenie kwartalne'!H381","v":0},{"$f":"'Rozliczenie kwartalne'!I381","v":0},{"$f":"'Rozliczenie kwartalne'!J381","v":0},{"$f":"'Rozliczenie kwartalne'!K381","v":0},{"$f":"'Rozliczenie kwartalne'!L381","v":0},{"$f":"'Rozliczenie kwartalne'!M381","v":0},{"$f":"'Rozliczenie kwartalne'!N381","v":0},{"$f":"'Załącznik nr 1 do rozliczenia'!D379","v":0},{"$f":"'Załącznik nr 1 do rozliczenia'!F379","v":0},{"$f":"'Załącznik nr 1 do rozliczenia'!H379","v":0},{"$f":"'Załącznik nr 2 do rozliczenia'!D374","v":0},{"$f":"'Załącznik nr 2 do rozliczenia'!E374","v":0},{"$f":"'Załącznik nr 2 do rozliczenia'!F374","v":""},{"$f":"'Załącznik nr 2 do rozliczenia'!H374","v":0}]
[{"$f":"'Rozliczenie kwartalne'!A382","v":"105"},{"$f":"'Rozliczenie kwartalne'!B382","v":""},{"$f":"'Rozliczenie kwartalne'!C382","v":0},{"$f":"'Rozliczenie kwartalne'!D382","v":0},{"$f":"'Rozliczenie kwartalne'!E382","v":0},{"$f":"'Rozliczenie kwartalne'!F382","v":0},{"$f":"'Rozliczenie kwartalne'!G382","v":0},{"$f":"'Rozliczenie kwartalne'!H382","v":0},{"$f":"'Rozliczenie kwartalne'!I382","v":0},{"$f":"'Rozliczenie kwartalne'!J382","v":0},{"$f":"'Rozliczenie kwartalne'!K382","v":0},{"$f":"'Rozliczenie kwartalne'!L382","v":0},{"$f":"'Rozliczenie kwartalne'!M382","v":0},{"$f":"'Rozliczenie kwartalne'!N382","v":0},{"$f":"'Załącznik nr 1 do rozliczenia'!D380","v":0},{"$f":"'Załącznik nr 1 do rozliczenia'!F380","v":0},{"$f":"'Załącznik nr 1 do rozliczenia'!H380","v":0},{"$f":"'Załącznik nr 2 do rozliczenia'!D375","v":0},{"$f":"'Załącznik nr 2 do rozliczenia'!E375","v":0},{"$f":"'Załącznik nr 2 do rozliczenia'!F375","v":""},{"$f":"'Załącznik nr 2 do rozliczenia'!H375","v":0}]
[{"$f":"'Rozliczenie kwartalne'!A383","v":"106"},{"$f":"'Rozliczenie kwartalne'!B383","v":""},{"$f":"'Rozliczenie kwartalne'!C383","v":0},{"$f":"'Rozliczenie kwartalne'!D383","v":0},{"$f":"'Rozliczenie kwartalne'!E383","v":0},{"$f":"'Rozliczenie kwartalne'!F383","v":0},{"$f":"'Rozliczenie kwartalne'!G383","v":0},{"$f":"'Rozliczenie kwartalne'!H383","v":0},{"$f":"'Rozliczenie kwartalne'!I383","v":0},{"$f":"'Rozliczenie kwartalne'!J383","v":0},{"$f":"'Rozliczenie kwartalne'!K383","v":0},{"$f":"'Rozliczenie kwartalne'!L383","v":0},{"$f":"'Rozliczenie kwartalne'!M383","v":0},{"$f":"'Rozliczenie kwartalne'!N383","v":0},{"$f":"'Załącznik nr 1 do rozliczenia'!D381","v":0},{"$f":"'Załącznik nr 1 do rozliczenia'!F381","v":0},{"$f":"'Załącznik nr 1 do rozliczenia'!H381","v":0},{"$f":"'Załącznik nr 2 do rozliczenia'!D376","v":0},{"$f":"'Załącznik nr 2 do rozliczenia'!E376","v":0},{"$f":"'Załącznik nr 2 do rozliczenia'!F376","v":""},{"$f":"'Załącznik nr 2 do rozliczenia'!H376","v":0}]
[{"$f":"'Rozliczenie kwartalne'!A384","v":"107"},{"$f":"'Rozliczenie kwartalne'!B384","v":""},{"$f":"'Rozliczenie kwartalne'!C384","v":0},{"$f":"'Rozliczenie kwartalne'!D384","v":0},{"$f":"'Rozliczenie kwartalne'!E384","v":0},{"$f":"'Rozliczenie kwartalne'!F384","v":0},{"$f":"'Rozliczenie kwartalne'!G384","v":0},{"$f":"'Rozliczenie kwartalne'!H384","v":0},{"$f":"'Rozliczenie kwartalne'!I384","v":0},{"$f":"'Rozliczenie kwartalne'!J384","v":0},{"$f":"'Rozliczenie kwartalne'!K384","v":0},{"$f":"'Rozliczenie kwartalne'!L384","v":0},{"$f":"'Rozliczenie kwartalne'!M384","v":0},{"$f":"'Rozliczenie kwartalne'!N384","v":0},{"$f":"'Załącznik nr 1 do rozliczenia'!D382","v":0},{"$f":"'Załącznik nr 1 do rozliczenia'!F382","v":0},{"$f":"'Załącznik nr 1 do rozliczenia'!H382","v":0},{"$f":"'Załącznik nr 2 do rozliczenia'!D377","v":0},{"$f":"'Załącznik nr 2 do rozliczenia'!E377","v":0},{"$f":"'Załącznik nr 2 do rozliczenia'!F377","v":""},{"$f":"'Załącznik nr 2 do rozliczenia'!H377","v":0}]
[{"$f":"'Rozliczenie kwartalne'!A385","v":"108"},{"$f":"'Rozliczenie kwartalne'!B385","v":""},{"$f":"'Rozliczenie kwartalne'!C385","v":0},{"$f":"'Rozliczenie kwartalne'!D385","v":0},{"$f":"'Rozliczenie kwartalne'!E385","v":0},{"$f":"'Rozliczenie kwartalne'!F385","v":0},{"$f":"'Rozliczenie kwartalne'!G385","v":0},{"$f":"'Rozliczenie kwartalne'!H385","v":0},{"$f":"'Rozliczenie kwartalne'!I385","v":0},{"$f":"'Rozliczenie kwartalne'!J385","v":0},{"$f":"'Rozliczenie kwartalne'!K385","v":0},{"$f":"'Rozliczenie kwartalne'!L385","v":0},{"$f":"'Rozliczenie kwartalne'!M385","v":0},{"$f":"'Rozliczenie kwartalne'!N385","v":0},{"$f":"'Załącznik nr 1 do rozliczenia'!D383","v":0},{"$f":"'Załącznik nr 1 do rozliczenia'!F383","v":0},{"$f":"'Załącznik nr 1 do rozliczenia'!H383","v":0},{"$f":"'Załącznik nr 2 do rozliczenia'!D378","v":0},{"$f":"'Załącznik nr 2 do rozliczenia'!E378","v":0},{"$f":"'Załącznik nr 2 do rozliczenia'!F378","v":""},{"$f":"'Załącznik nr 2 do rozliczenia'!H378","v":0}]
[{"$f":"'Rozliczenie kwartalne'!A386","v":"109"},{"$f":"'Rozliczenie kwartalne'!B386","v":""},{"$f":"'Rozliczenie kwartalne'!C386","v":0},{"$f":"'Rozliczenie kwartalne'!D386","v":0},{"$f":"'Rozliczenie kwartalne'!E386","v":0},{"$f":"'Rozliczenie kwartalne'!F386","v":0},{"$f":"'Rozliczenie kwartalne'!G386","v":0},{"$f":"'Rozliczenie kwartalne'!H386","v":0},{"$f":"'Rozliczenie kwartalne'!I386","v":0},{"$f":"'Rozliczenie kwartalne'!J386","v":0},{"$f":"'Rozliczenie kwartalne'!K386","v":0},{"$f":"'Rozliczenie kwartalne'!L386","v":0},{"$f":"'Rozliczenie kwartalne'!M386","v":0},{"$f":"'Rozliczenie kwartalne'!N386","v":0},{"$f":"'Załącznik nr 1 do rozliczenia'!D384","v":0},{"$f":"'Załącznik nr 1 do rozliczenia'!F384","v":0},{"$f":"'Załącznik nr 1 do rozliczenia'!H384","v":0},{"$f":"'Załącznik nr 2 do rozliczenia'!D379","v":0},{"$f":"'Załącznik nr 2 do rozliczenia'!E379","v":0},{"$f":"'Załącznik nr 2 do rozliczenia'!F379","v":""},{"$f":"'Załącznik nr 2 do rozliczenia'!H379","v":0}]
[{"$f":"'Rozliczenie kwartalne'!A387","v":"110"},{"$f":"'Rozliczenie kwartalne'!B387","v":""},{"$f":"'Rozliczenie kwartalne'!C387","v":0},{"$f":"'Rozliczenie kwartalne'!D387","v":0},{"$f":"'Rozliczenie kwartalne'!E387","v":0},{"$f":"'Rozliczenie kwartalne'!F387","v":0},{"$f":"'Rozliczenie kwartalne'!G387","v":0},{"$f":"'Rozliczenie kwartalne'!H387","v":0},{"$f":"'Rozliczenie kwartalne'!I387","v":0},{"$f":"'Rozliczenie kwartalne'!J387","v":0},{"$f":"'Rozliczenie kwartalne'!K387","v":0},{"$f":"'Rozliczenie kwartalne'!L387","v":0},{"$f":"'Rozliczenie kwartalne'!M387","v":0},{"$f":"'Rozliczenie kwartalne'!N387","v":0},{"$f":"'Załącznik nr 1 do rozliczenia'!D385","v":0},{"$f":"'Załącznik nr 1 do rozliczenia'!F385","v":0},{"$f":"'Załącznik nr 1 do rozliczenia'!H385","v":0},{"$f":"'Załącznik nr 2 do rozliczenia'!D380","v":0},{"$f":"'Załącznik nr 2 do rozliczenia'!E380","v":0},{"$f":"'Załącznik nr 2 do rozliczenia'!F380","v":""},{"$f":"'Załącznik nr 2 do rozliczenia'!H380","v":0}]
[{"$f":"'Rozliczenie kwartalne'!A388","v":"111"},{"$f":"'Rozliczenie kwartalne'!B388","v":""},{"$f":"'Rozliczenie kwartalne'!C388","v":0},{"$f":"'Rozliczenie kwartalne'!D388","v":0},{"$f":"'Rozliczenie kwartalne'!E388","v":0},{"$f":"'Rozliczenie kwartalne'!F388","v":0},{"$f":"'Rozliczenie kwartalne'!G388","v":0},{"$f":"'Rozliczenie kwartalne'!H388","v":0},{"$f":"'Rozliczenie kwartalne'!I388","v":0},{"$f":"'Rozliczenie kwartalne'!J388","v":0},{"$f":"'Rozliczenie kwartalne'!K388","v":0},{"$f":"'Rozliczenie kwartalne'!L388","v":0},{"$f":"'Rozliczenie kwartalne'!M388","v":0},{"$f":"'Rozliczenie kwartalne'!N388","v":0},{"$f":"'Załącznik nr 1 do rozliczenia'!D386","v":0},{"$f":"'Załącznik nr 1 do rozliczenia'!F386","v":0},{"$f":"'Załącznik nr 1 do rozliczenia'!H386","v":0},{"$f":"'Załącznik nr 2 do rozliczenia'!D381","v":0},{"$f":"'Załącznik nr 2 do rozliczenia'!E381","v":0},{"$f":"'Załącznik nr 2 do rozliczenia'!F381","v":""},{"$f":"'Załącznik nr 2 do rozliczenia'!H381","v":0}]
[{"$f":"'Rozliczenie kwartalne'!A389","v":"112"},{"$f":"'Rozliczenie kwartalne'!B389","v":""},{"$f":"'Rozliczenie kwartalne'!C389","v":0},{"$f":"'Rozliczenie kwartalne'!D389","v":0},{"$f":"'Rozliczenie kwartalne'!E389","v":0},{"$f":"'Rozliczenie kwartalne'!F389","v":0},{"$f":"'Rozliczenie kwartalne'!G389","v":0},{"$f":"'Rozliczenie kwartalne'!H389","v":0},{"$f":"'Rozliczenie kwartalne'!I389","v":0},{"$f":"'Rozliczenie kwartalne'!J389","v":0},{"$f":"'Rozliczenie kwartalne'!K389","v":0},{"$f":"'Rozliczenie kwartalne'!L389","v":0},{"$f":"'Rozliczenie kwartalne'!M389","v":0},{"$f":"'Rozliczenie kwartalne'!N389","v":0},{"$f":"'Załącznik nr 1 do rozliczenia'!D387","v":0},{"$f":"'Załącznik nr 1 do rozliczenia'!F387","v":0},{"$f":"'Załącznik nr 1 do rozliczenia'!H387","v":0},{"$f":"'Załącznik nr 2 do rozliczenia'!D382","v":0},{"$f":"'Załącznik nr 2 do rozliczenia'!E382","v":0},{"$f":"'Załącznik nr 2 do rozliczenia'!F382","v":""},{"$f":"'Załącznik nr 2 do rozliczenia'!H382","v":0}]
[{"$f":"'Rozliczenie kwartalne'!A390","v":"113"},{"$f":"'Rozliczenie kwartalne'!B390","v":""},{"$f":"'Rozliczenie kwartalne'!C390","v":0},{"$f":"'Rozliczenie kwartalne'!D390","v":0},{"$f":"'Rozliczenie kwartalne'!E390","v":0},{"$f":"'Rozliczenie kwartalne'!F390","v":0},{"$f":"'Rozliczenie kwartalne'!G390","v":0},{"$f":"'Rozliczenie kwartalne'!H390","v":0},{"$f":"'Rozliczenie kwartalne'!I390","v":0},{"$f":"'Rozliczenie kwartalne'!J390","v":0},{"$f":"'Rozliczenie kwartalne'!K390","v":0},{"$f":"'Rozliczenie kwartalne'!L390","v":0},{"$f":"'Rozliczenie kwartalne'!M390","v":0},{"$f":"'Rozliczenie kwartalne'!N390","v":0},{"$f":"'Załącznik nr 1 do rozliczenia'!D388","v":0},{"$f":"'Załącznik nr 1 do rozliczenia'!F388","v":0},{"$f":"'Załącznik nr 1 do rozliczenia'!H388","v":0},{"$f":"'Załącznik nr 2 do rozliczenia'!D383","v":0},{"$f":"'Załącznik nr 2 do rozliczenia'!E383","v":0},{"$f":"'Załącznik nr 2 do rozliczenia'!F383","v":""},{"$f":"'Załącznik nr 2 do rozliczenia'!H383","v":0}]
[{"$f":"'Rozliczenie kwartalne'!A391","v":"114"},{"$f":"'Rozliczenie kwartalne'!B391","v":""},{"$f":"'Rozliczenie kwartalne'!C391","v":0},{"$f":"'Rozliczenie kwartalne'!D391","v":0},{"$f":"'Rozliczenie kwartalne'!E391","v":0},{"$f":"'Rozliczenie kwartalne'!F391","v":0},{"$f":"'Rozliczenie kwartalne'!G391","v":0},{"$f":"'Rozliczenie kwartalne'!H391","v":0},{"$f":"'Rozliczenie kwartalne'!I391","v":0},{"$f":"'Rozliczenie kwartalne'!J391","v":0},{"$f":"'Rozliczenie kwartalne'!K391","v":0},{"$f":"'Rozliczenie kwartalne'!L391","v":0},{"$f":"'Rozliczenie kwartalne'!M391","v":0},{"$f":"'Rozliczenie kwartalne'!N391","v":0},{"$f":"'Załącznik nr 1 do rozliczenia'!D389","v":0},{"$f":"'Załącznik nr 1 do rozliczenia'!F389","v":0},{"$f":"'Załącznik nr 1 do rozliczenia'!H389","v":0},{"$f":"'Załącznik nr 2 do rozliczenia'!D384","v":0},{"$f":"'Załącznik nr 2 do rozliczenia'!E384","v":0},{"$f":"'Załącznik nr 2 do rozliczenia'!F384","v":""},{"$f":"'Załącznik nr 2 do rozliczenia'!H384","v":0}]
[{"$f":"'Rozliczenie kwartalne'!A392","v":"115"},{"$f":"'Rozliczenie kwartalne'!B392","v":""},{"$f":"'Rozliczenie kwartalne'!C392","v":0},{"$f":"'Rozliczenie kwartalne'!D392","v":0},{"$f":"'Rozliczenie kwartalne'!E392","v":0},{"$f":"'Rozliczenie kwartalne'!F392","v":0},{"$f":"'Rozliczenie kwartalne'!G392","v":0},{"$f":"'Rozliczenie kwartalne'!H392","v":0},{"$f":"'Rozliczenie kwartalne'!I392","v":0},{"$f":"'Rozliczenie kwartalne'!J392","v":0},{"$f":"'Rozliczenie kwartalne'!K392","v":0},{"$f":"'Rozliczenie kwartalne'!L392","v":0},{"$f":"'Rozliczenie kwartalne'!M392","v":0},{"$f":"'Rozliczenie kwartalne'!N392","v":0},{"$f":"'Załącznik nr 1 do rozliczenia'!D390","v":0},{"$f":"'Załącznik nr 1 do rozliczenia'!F390","v":0},{"$f":"'Załącznik nr 1 do rozliczenia'!H390","v":0},{"$f":"'Załącznik nr 2 do rozliczenia'!D385","v":0},{"$f":"'Załącznik nr 2 do rozliczenia'!E385","v":0},{"$f":"'Załącznik nr 2 do rozliczenia'!F385","v":""},{"$f":"'Załącznik nr 2 do rozliczenia'!H385","v":0}]

{"sheet":"Dane linie - kwartalnie","index":13,"n_rows":116,"n_cols":20,"rows_kept":116,"cut":false,"hidden":true,"merged":[]}
[{"$f":"'Rozliczenie kwartalne'!A34","v":"Lp."},{"$f":"'Rozliczenie kwartalne'!B34","v":"Nazwa linii komunikacyjnej"},{"$f":"'Rozliczenie kwartalne'!C34","v":"Liczba przewiezionych osób"},{"$f":"'Rozliczenie kwartalne'!D34","v":"Wielkość pracy eksploatacyjnej w okresie rozliczeniowym [wzkm]"},{"$f":"'Rozliczenie kwartalne'!E34","v":"Deficyt w okresie rozliczeniowym [zł]"},{"$f":"'Rozliczenie kwartalne'!F34","v":"Kwota środków własnych organizatora \n[zł]"},{"$f":"'Rozliczenie kwartalne'!G34","v":"Cena usługi \n[zł]"},{"$f":"'Rozliczenie kwartalne'!H34","v":"Część ceny usługi sfinansowana ze środków własnych organizatora  [zł/wzkm]"},{"$f":"'Rozliczenie kwartalne'!I34","v":"Procentowa wartość części ceny usługi sfinansowanej ze środków własnych organizatora \n[%]"},{"$f":"'Rozliczenie kwartalne'!J34","v":"Należna kwota dopłaty w okresie rozliczeniowym [zł]"},{"$f":"'Rozliczenie kwartalne'!K34","v":"Pobrana dopłata w okresie rozliczeniowym - wniosek kwartalny \n[zł]"},{"$f":"'Rozliczenie kwartalne'!L34","v":"Niewykorzystana kwota dopłaty z poprzedniego okresu rozliczeniowego (rozliczona w bieżącym okresie)\n[zł]"},{"$f":"'Rozliczenie kwartalne'!M34","v":"Faktycznie wypłacona kwota dopłaty w bieżącym okresie\n[zł]"},{"$f":"'Rozliczenie kwartalne'!N34","v":"Niewykorzystana kwota dopłaty w bieżącym okresie rozliczeniowym\n[zł]"},{"$f":"'Załącznik nr 1 do rozliczenia'!D30","v":"Suma kosztów osiągniętych na linii komunikacyjnej \n[zł]"},{"$f":"'Załącznik nr 1 do rozliczenia'!F30","v":"Suma przychodów osiągniętych na linii komunikacyjnych \n[zł]"},{"$f":"'Załącznik nr 1 do rozliczenia'!H30","v":"Wynik finansowy linii komunikacyjnej - deficyt \n[zł] "},{"$f":"'Załącznik nr 2 do rozliczenia'!D27","v":"Długość linii \n[km]"},{"$f":"'Załącznik nr 2 do rozliczenia'!E27","v":"Ilość wykonanych kursów w okresie rozliczeniowym"},{"$f":"'Załącznik nr 2 do rozliczenia'!H27","v":"Zrealizowana praca eksploatacyjna \n[wzkm]"}]
[1,{"$f":"'Załącznik nr 1 do rozliczenia'!B32","v":""},{"$f":"'Rozliczenie kwartalne'!C36+'Rozliczenie kwartalne'!C157+'Rozliczenie kwartalne'!C278","v":0},{"$f":"'Rozliczenie kwartalne'!D36+'Rozliczenie kwartalne'!D157+'Rozliczenie kwartalne'!D278","v":0},{"$f":"IFERROR(F2/D2,0)","v":0},{"$f":"'Rozliczenie kwartalne'!E36+'Rozliczenie kwartalne'!F157+'Rozliczenie kwartalne'!F278","v":0},{"$f":"IFERROR(I2/D2,0)","v":0},{"$f":"IFERROR(G2/E2,0)","v":0},{"$f":"'Rozliczenie kwartalne'!I157+'Rozliczenie kwartalne'!I36+'Rozliczenie kwartalne'!I278","v":0},{"$f":"'Rozliczenie kwartalne'!J36+'Rozliczenie kwartalne'!J157+'Rozliczenie kwartalne'!J278","v":0},{"$f":"'Rozliczenie kwartalne'!K36+'Rozliczenie kwartalne'!K157+'Rozliczenie kwartalne'!K278","v":0},{"$f":"'Rozliczenie kwartalne'!L36+'Rozliczenie kwartalne'!L157+'Rozliczenie kwartalne'!L278","v":0},{"$f":"'Rozliczenie kwartalne'!M36+'Rozliczenie kwartalne'!M157+'Rozliczenie kwartalne'!M278","v":0},{"$f":"'Rozliczenie kwartalne'!N36+'Rozliczenie kwartalne'!N157+'Rozliczenie kwartalne'!N278","v":0},{"$f":"'Załącznik nr 1 do rozliczenia'!D32+'Załącznik nr 1 do rozliczenia'!D154+'Załącznik nr 1 do rozliczenia'!D276","v":0},{"$f":"'Załącznik nr 1 do rozliczenia'!E32+'Załącznik nr 1 do rozliczenia'!E154+'Załącznik nr 1 do rozliczenia'!E276","v":0},{"$f":"'Załącznik nr 1 do rozliczenia'!F32+'Załącznik nr 1 do rozliczenia'!F154+'Załącznik nr 1 do rozliczenia'!F276","v":0},{"$f":"'Załącznik nr 2 do rozliczenia'!D29","v":0},{"$f":"'Załącznik nr 2 do rozliczenia'!E29+'Załącznik nr 2 do rozliczenia'!E150+'Załącznik nr 2 do rozliczenia'!E271","v":0},{"$f":"'Załącznik nr 2 do rozliczenia'!H29+'Załącznik nr 2 do rozliczenia'!H150+'Załącznik nr 2 do rozliczenia'!H271","v":0}]
[2,{"$f":"'Załącznik nr 1 do rozliczenia'!B33","v":""},{"$f":"'Rozliczenie kwartalne'!C37+'Rozliczenie kwartalne'!C158+'Rozliczenie kwartalne'!C279","v":0},{"$f":"'Rozliczenie kwartalne'!D37+'Rozliczenie kwartalne'!D158+'Rozliczenie kwartalne'!D279","v":0},{"$f":"IFERROR(F3/D3,0)","v":0},{"$f":"'Rozliczenie kwartalne'!F37+'Rozliczenie kwartalne'!F158+'Rozliczenie kwartalne'!F279","v":0},{"$f":"IFERROR(I3/D3,0)","v":0},{"$f":"IFERROR(G3/E3,0)","v":0},{"$f":"'Rozliczenie kwartalne'!I158+'Rozliczenie kwartalne'!I37+'Rozliczenie kwartalne'!I279","v":0},{"$f":"'Rozliczenie kwartalne'!J37+'Rozliczenie kwartalne'!J158+'Rozliczenie kwartalne'!J279","v":0},{"$f":"'Rozliczenie kwartalne'!K37+'Rozliczenie kwartalne'!K158+'Rozliczenie kwartalne'!K279","v":0},{"$f":"'Rozliczenie kwartalne'!L37+'Rozliczenie kwartalne'!L158+'Rozliczenie kwartalne'!L279","v":0},{"$f":"'Rozliczenie kwartalne'!M37+'Rozliczenie kwartalne'!M158+'Rozliczenie kwartalne'!M279","v":0},{"$f":"'Rozliczenie kwartalne'!N37+'Rozliczenie kwartalne'!N158+'Rozliczenie kwartalne'!N279","v":0},{"$f":"'Załącznik nr 1 do rozliczenia'!D33+'Załącznik nr 1 do rozliczenia'!D155+'Załącznik nr 1 do rozliczenia'!D277","v":0},{"$f":"'Załącznik nr 1 do rozliczenia'!E33+'Załącznik nr 1 do rozliczenia'!E155+'Załącznik nr 1 do rozliczenia'!E277","v":0},{"$f":"'Załącznik nr 1 do rozliczenia'!F33+'Załącznik nr 1 do rozliczenia'!F155+'Załącznik nr 1 do rozliczenia'!F277","v":0},{"$f":"'Załącznik nr 2 do rozliczenia'!D30","v":0},{"$f":"'Załącznik nr 2 do rozliczenia'!E30+'Załącznik nr 2 do rozliczenia'!E151+'Załącznik nr 2 do rozliczenia'!E272","v":0},{"$f":"'Załącznik nr 2 do rozliczenia'!H30+'Załącznik nr 2 do rozliczenia'!H151+'Załącznik nr 2 do rozliczenia'!H272","v":0}]
[3,{"$f":"'Załącznik nr 1 do rozliczenia'!B34","v":""},{"$f":"'Rozliczenie kwartalne'!C38+'Rozliczenie kwartalne'!C159+'Rozliczenie kwartalne'!C280","v":0},{"$f":"'Rozliczenie kwartalne'!D38+'Rozliczenie kwartalne'!D159+'Rozliczenie kwartalne'!D280","v":0},0,{"$f":"'Rozliczenie kwartalne'!F38+'Rozliczenie kwartalne'!F159+'Rozliczenie kwartalne'!F280","v":0},0,0,{"$f":"'Rozliczenie kwartalne'!I159+'Rozliczenie kwartalne'!I38+'Rozliczenie kwartalne'!I280","v":0},{"$f":"'Rozliczenie kwartalne'!J38+'Rozliczenie kwartalne'!J159+'Rozliczenie kwartalne'!J280","v":0},{"$f":"'Rozliczenie kwartalne'!K38+'Rozliczenie kwartalne'!K159+'Rozliczenie kwartalne'!K280","v":0},{"$f":"'Rozliczenie kwartalne'!L38+'Rozliczenie kwartalne'!L159+'Rozliczenie kwartalne'!L280","v":0},{"$f":"'Rozliczenie kwartalne'!M38+'Rozliczenie kwartalne'!M159+'Rozliczenie kwartalne'!M280","v":0},{"$f":"'Rozliczenie kwartalne'!N38+'Rozliczenie kwartalne'!N159+'Rozliczenie kwartalne'!N280","v":0},{"$f":"'Załącznik nr 1 do rozliczenia'!D34+'Załącznik nr 1 do rozliczenia'!D156+'Załącznik nr 1 do rozliczenia'!D278","v":0},{"$f":"'Załącznik nr 1 do rozliczenia'!E34+'Załącznik nr 1 do rozliczenia'!E156+'Załącznik nr 1 do rozliczenia'!E278","v":0},{"$f":"'Załącznik nr 1 do rozliczenia'!F34+'Załącznik nr 1 do rozliczenia'!F156+'Załącznik nr 1 do rozliczenia'!F278","v":0},{"$f":"'Załącznik nr 2 do rozliczenia'!D31","v":0},{"$f":"'Załącznik nr 2 do rozliczenia'!E31+'Załącznik nr 2 do rozliczenia'!E152+'Załącznik nr 2 do rozliczenia'!E273","v":0},{"$f":"'Załącznik nr 2 do rozliczenia'!H31+'Załącznik nr 2 do rozliczenia'!H152+'Załącznik nr 2 do rozliczenia'!H273","v":0}]
[4,{"$f":"'Załącznik nr 1 do rozliczenia'!B35","v":""},{"$f":"'Rozliczenie kwartalne'!C39+'Rozliczenie kwartalne'!C160+'Rozliczenie kwartalne'!C281","v":0},{"$f":"'Rozliczenie kwartalne'!D39+'Rozliczenie kwartalne'!D160+'Rozliczenie kwartalne'!D281","v":0},0,{"$f":"'Rozliczenie kwartalne'!F39+'Rozliczenie kwartalne'!F160+'Rozliczenie kwartalne'!F281","v":0},0,0,{"$f":"'Rozliczenie kwartalne'!I160+'Rozliczenie kwartalne'!I39+'Rozliczenie kwartalne'!I281","v":0},{"$f":"'Rozliczenie kwartalne'!J39+'Rozliczenie kwartalne'!J160+'Rozliczenie kwartalne'!J281","v":0},{"$f":"'Rozliczenie kwartalne'!K39+'Rozliczenie kwartalne'!K160+'Rozliczenie kwartalne'!K281","v":0},{"$f":"'Rozliczenie kwartalne'!L39+'Rozliczenie kwartalne'!L160+'Rozliczenie kwartalne'!L281","v":0},{"$f":"'Rozliczenie kwartalne'!M39+'Rozliczenie kwartalne'!M160+'Rozliczenie kwartalne'!M281","v":0},{"$f":"'Rozliczenie kwartalne'!N39+'Rozliczenie kwartalne'!N160+'Rozliczenie kwartalne'!N281","v":0},{"$f":"'Załącznik nr 1 do rozliczenia'!D35+'Załącznik nr 1 do rozliczenia'!D157+'Załącznik nr 1 do rozliczenia'!D279","v":0},{"$f":"'Załącznik nr 1 do rozliczenia'!E35+'Załącznik nr 1 do rozliczenia'!E157+'Załącznik nr 1 do rozliczenia'!E279","v":0},{"$f":"'Załącznik nr 1 do rozliczenia'!F35+'Załącznik nr 1 do rozliczenia'!F157+'Załącznik nr 1 do rozliczenia'!F279","v":0},{"$f":"'Załącznik nr 2 do rozliczenia'!D32","v":0},{"$f":"'Załącznik nr 2 do rozliczenia'!E32+'Załącznik nr 2 do rozliczenia'!E153+'Załącznik nr 2 do rozliczenia'!E274","v":0},{"$f":"'Załącznik nr 2 do rozliczenia'!H32+'Załącznik nr 2 do rozliczenia'!H153+'Załącznik nr 2 do rozliczenia'!H274","v":0}]
[5,{"$f":"'Załącznik nr 1 do rozliczenia'!B36","v":""},{"$f":"'Rozliczenie kwartalne'!C40+'Rozliczenie kwartalne'!C161+'Rozliczenie kwartalne'!C282","v":0},{"$f":"'Rozliczenie kwartalne'!D40+'Rozliczenie kwartalne'!D161+'Rozliczenie kwartalne'!D282","v":0},0,{"$f":"'Rozliczenie kwartalne'!F40+'Rozliczenie kwartalne'!F161+'Rozliczenie kwartalne'!F282","v":0},0,0,{"$f":"'Rozliczenie kwartalne'!I161+'Rozliczenie kwartalne'!I40+'Rozliczenie kwartalne'!I282","v":0},{"$f":"'Rozliczenie kwartalne'!J40+'Rozliczenie kwartalne'!J161+'Rozliczenie kwartalne'!J282","v":0},{"$f":"'Rozliczenie kwartalne'!K40+'Rozliczenie kwartalne'!K161+'Rozliczenie kwartalne'!K282","v":0},{"$f":"'Rozliczenie kwartalne'!L40+'Rozliczenie kwartalne'!L161+'Rozliczenie kwartalne'!L282","v":0},{"$f":"'Rozliczenie kwartalne'!M40+'Rozliczenie kwartalne'!M161+'Rozliczenie kwartalne'!M282","v":0},{"$f":"'Rozliczenie kwartalne'!N40+'Rozliczenie kwartalne'!N161+'Rozliczenie kwartalne'!N282","v":0},{"$f":"'Załącznik nr 1 do rozliczenia'!D36+'Załącznik nr 1 do rozliczenia'!D158+'Załącznik nr 1 do rozliczenia'!D280","v":0},{"$f":"'Załącznik nr 1 do rozliczenia'!E36+'Załącznik nr 1 do rozliczenia'!E158+'Załącznik nr 1 do rozliczenia'!E280","v":0},{"$f":"'Załącznik nr 1 do rozliczenia'!F36+'Załącznik nr 1 do rozliczenia'!F158+'Załącznik nr 1 do rozliczenia'!F280","v":0},{"$f":"'Załącznik nr 2 do rozliczenia'!D33","v":0},{"$f":"'Załącznik nr 2 do rozliczenia'!E33+'Załącznik nr 2 do rozliczenia'!E154+'Załącznik nr 2 do rozliczenia'!E275","v":0},{"$f":"'Załącznik nr 2 do rozliczenia'!H33+'Załącznik nr 2 do rozliczenia'!H154+'Załącznik nr 2 do rozliczenia'!H275","v":0}]
[6,{"$f":"'Załącznik nr 1 do rozliczenia'!B37","v":""},{"$f":"'Rozliczenie kwartalne'!C41+'Rozliczenie kwartalne'!C162+'Rozliczenie kwartalne'!C283","v":0},{"$f":"'Rozliczenie kwartalne'!D41+'Rozliczenie kwartalne'!D162+'Rozliczenie kwartalne'!D283","v":0},0,{"$f":"'Rozliczenie kwartalne'!F41+'Rozliczenie kwartalne'!F162+'Rozliczenie kwartalne'!F283","v":0},0,0,{"$f":"'Rozliczenie kwartalne'!I162+'Rozliczenie kwartalne'!I41+'Rozliczenie kwartalne'!I283","v":0},{"$f":"'Rozliczenie kwartalne'!J41+'Rozliczenie kwartalne'!J162+'Rozliczenie kwartalne'!J283","v":0},{"$f":"'Rozliczenie kwartalne'!K41+'Rozliczenie kwartalne'!K162+'Rozliczenie kwartalne'!K283","v":0},{"$f":"'Rozliczenie kwartalne'!L41+'Rozliczenie kwartalne'!L162+'Rozliczenie kwartalne'!L283","v":0},{"$f":"'Rozliczenie kwartalne'!M41+'Rozliczenie kwartalne'!M162+'Rozliczenie kwartalne'!M283","v":0},{"$f":"'Rozliczenie kwartalne'!N41+'Rozliczenie kwartalne'!N162+'Rozliczenie kwartalne'!N283","v":0},{"$f":"'Załącznik nr 1 do rozliczenia'!D37+'Załącznik nr 1 do rozliczenia'!D159+'Załącznik nr 1 do rozliczenia'!D281","v":0},{"$f":"'Załącznik nr 1 do rozliczenia'!E37+'Załącznik nr 1 do rozliczenia'!E159+'Załącznik nr 1 do rozliczenia'!E281","v":0},{"$f":"'Załącznik nr 1 do rozliczenia'!F37+'Załącznik nr 1 do rozliczenia'!F159+'Załącznik nr 1 do rozliczenia'!F281","v":0},{"$f":"'Załącznik nr 2 do rozliczenia'!D34","v":0},{"$f":"'Załącznik nr 2 do rozliczenia'!E34+'Załącznik nr 2 do rozliczenia'!E155+'Załącznik nr 2 do rozliczenia'!E276","v":0},{"$f":"'Załącznik nr 2 do rozliczenia'!H34+'Załącznik nr 2 do rozliczenia'!H155+'Załącznik nr 2 do rozliczenia'!H276","v":0}]
[7,{"$f":"'Załącznik nr 1 do rozliczenia'!B38","v":""},{"$f":"'Rozliczenie kwartalne'!C42+'Rozliczenie kwartalne'!C163+'Rozliczenie kwartalne'!C284","v":0},{"$f":"'Rozliczenie kwartalne'!D42+'Rozliczenie kwartalne'!D163+'Rozliczenie kwartalne'!D284","v":0},0,{"$f":"'Rozliczenie kwartalne'!F42+'Rozliczenie kwartalne'!F163+'Rozliczenie kwartalne'!F284","v":0},0,0,{"$f":"'Rozliczenie kwartalne'!I163+'Rozliczenie kwartalne'!I42+'Rozliczenie kwartalne'!I284","v":0},{"$f":"'Rozliczenie kwartalne'!J42+'Rozliczenie kwartalne'!J163+'Rozliczenie kwartalne'!J284","v":0},{"$f":"'Rozliczenie kwartalne'!K42+'Rozliczenie kwartalne'!K163+'Rozliczenie kwartalne'!K284","v":0},{"$f":"'Rozliczenie kwartalne'!L42+'Rozliczenie kwartalne'!L163+'Rozliczenie kwartalne'!L284","v":0},{"$f":"'Rozliczenie kwartalne'!M42+'Rozliczenie kwartalne'!M163+'Rozliczenie kwartalne'!M284","v":0},{"$f":"'Rozliczenie kwartalne'!N42+'Rozliczenie kwartalne'!N163+'Rozliczenie kwartalne'!N284","v":0},{"$f":"'Załącznik nr 1 do rozliczenia'!D38+'Załącznik nr 1 do rozliczenia'!D160+'Załącznik nr 1 do rozliczenia'!D282","v":0},{"$f":"'Załącznik nr 1 do rozliczenia'!E38+'Załącznik nr 1 do rozliczenia'!E160+'Załącznik nr 1 do rozliczenia'!E282","v":0},{"$f":"'Załącznik nr 1 do rozliczenia'!F38+'Załącznik nr 1 do rozliczenia'!F160+'Załącznik nr 1 do rozliczenia'!F282","v":0},{"$f":"'Załącznik nr 2 do rozliczenia'!D35","v":0},{"$f":"'Załącznik nr 2 do rozliczenia'!E35+'Załącznik nr 2 do rozliczenia'!E156+'Załącznik nr 2 do rozliczenia'!E277","v":0},{"$f":"'Załącznik nr 2 do rozliczenia'!H35+'Załącznik nr 2 do rozliczenia'!H156+'Załącznik nr 2 do rozliczenia'!H277","v":0}]
[8,{"$f":"'Załącznik nr 1 do rozliczenia'!B39","v":""},{"$f":"'Rozliczenie kwartalne'!C43+'Rozliczenie kwartalne'!C164+'Rozliczenie kwartalne'!C285","v":0},{"$f":"'Rozliczenie kwartalne'!D43+'Rozliczenie kwartalne'!D164+'Rozliczenie kwartalne'!D285","v":0},0,{"$f":"'Rozliczenie kwartalne'!F43+'Rozliczenie kwartalne'!F164+'Rozliczenie kwartalne'!F285","v":0},0,0,{"$f":"'Rozliczenie kwartalne'!I164+'Rozliczenie kwartalne'!I43+'Rozliczenie kwartalne'!I285","v":0},{"$f":"'Rozliczenie kwartalne'!J43+'Rozliczenie kwartalne'!J164+'Rozliczenie kwartalne'!J285","v":0},{"$f":"'Rozliczenie kwartalne'!K43+'Rozliczenie kwartalne'!K164+'Rozliczenie kwartalne'!K285","v":0},{"$f":"'Rozliczenie kwartalne'!L43+'Rozliczenie kwartalne'!L164+'Rozliczenie kwartalne'!L285","v":0},{"$f":"'Rozliczenie kwartalne'!M43+'Rozliczenie kwartalne'!M164+'Rozliczenie kwartalne'!M285","v":0},{"$f":"'Rozliczenie kwartalne'!N43+'Rozliczenie kwartalne'!N164+'Rozliczenie kwartalne'!N285","v":0},{"$f":"'Załącznik nr 1 do rozliczenia'!D39+'Załącznik nr 1 do rozliczenia'!D161+'Załącznik nr 1 do rozliczenia'!D283","v":0},{"$f":"'Załącznik nr 1 do rozliczenia'!E39+'Załącznik nr 1 do rozliczenia'!E161+'Załącznik nr 1 do rozliczenia'!E283","v":0},{"$f":"'Załącznik nr 1 do rozliczenia'!F39+'Załącznik nr 1 do rozliczenia'!F161+'Załącznik nr 1 do rozliczenia'!F283","v":0},{"$f":"'Załącznik nr 2 do rozliczenia'!D36","v":0},{"$f":"'Załącznik nr 2 do rozliczenia'!E36+'Załącznik nr 2 do rozliczenia'!E157+'Załącznik nr 2 do rozliczenia'!E278","v":0},{"$f":"'Załącznik nr 2 do rozliczenia'!H36+'Załącznik nr 2 do rozliczenia'!H157+'Załącznik nr 2 do rozliczenia'!H278","v":0}]
[9,{"$f":"'Załącznik nr 1 do rozliczenia'!B40","v":""},{"$f":"'Rozliczenie kwartalne'!C44+'Rozliczenie kwartalne'!C165+'Rozliczenie kwartalne'!C286","v":0},{"$f":"'Rozliczenie kwartalne'!D44+'Rozliczenie kwartalne'!D165+'Rozliczenie kwartalne'!D286","v":0},0,{"$f":"'Rozliczenie kwartalne'!F44+'Rozliczenie kwartalne'!F165+'Rozliczenie kwartalne'!F286","v":0},0,0,{"$f":"'Rozliczenie kwartalne'!I165+'Rozliczenie kwartalne'!I44+'Rozliczenie kwartalne'!I286","v":0},{"$f":"'Rozliczenie kwartalne'!J44+'Rozliczenie kwartalne'!J165+'Rozliczenie kwartalne'!J286","v":0},{"$f":"'Rozliczenie kwartalne'!K44+'Rozliczenie kwartalne'!K165+'Rozliczenie kwartalne'!K286","v":0},{"$f":"'Rozliczenie kwartalne'!L44+'Rozliczenie kwartalne'!L165+'Rozliczenie kwartalne'!L286","v":0},{"$f":"'Rozliczenie kwartalne'!M44+'Rozliczenie kwartalne'!M165+'Rozliczenie kwartalne'!M286","v":0},{"$f":"'Rozliczenie kwartalne'!N44+'Rozliczenie kwartalne'!N165+'Rozliczenie kwartalne'!N286","v":0},{"$f":"'Załącznik nr 1 do rozliczenia'!D40+'Załącznik nr 1 do rozliczenia'!D162+'Załącznik nr 1 do rozliczenia'!D284","v":0},{"$f":"'Załącznik nr 1 do rozliczenia'!E40+'Załącznik nr 1 do rozliczenia'!E162+'Załącznik nr 1 do rozliczenia'!E284","v":0},{"$f":"'Załącznik nr 1 do rozliczenia'!F40+'Załącznik nr 1 do rozliczenia'!F162+'Załącznik nr 1 do rozliczenia'!F284","v":0},{"$f":"'Załącznik nr 2 do rozliczenia'!D37","v":0},{"$f":"'Załącznik nr 2 do rozliczenia'!E37+'Załącznik nr 2 do rozliczenia'!E158+'Załącznik nr 2 do rozliczenia'!E279","v":0},{"$f":"'Załącznik nr 2 do rozliczenia'!H37+'Załącznik nr 2 do rozliczenia'!H158+'Załącznik nr 2 do rozliczenia'!H279","v":0}]
[10,{"$f":"'Załącznik nr 1 do rozliczenia'!B41","v":""},{"$f":"'Rozliczenie kwartalne'!C45+'Rozliczenie kwartalne'!C166+'Rozliczenie kwartalne'!C287","v":0},{"$f":"'Rozliczenie kwartalne'!D45+'Rozliczenie kwartalne'!D166+'Rozliczenie kwartalne'!D287","v":0},0,{"$f":"'Rozliczenie kwartalne'!F45+'Rozliczenie kwartalne'!F166+'Rozliczenie kwartalne'!F287","v":0},0,0,{"$f":"'Rozliczenie kwartalne'!I166+'Rozliczenie kwartalne'!I45+'Rozliczenie kwartalne'!I287","v":0},{"$f":"'Rozliczenie kwartalne'!J45+'Rozliczenie kwartalne'!J166+'Rozliczenie kwartalne'!J287","v":0},{"$f":"'Rozliczenie kwartalne'!K45+'Rozliczenie kwartalne'!K166+'Rozliczenie kwartalne'!K287","v":0},{"$f":"'Rozliczenie kwartalne'!L45+'Rozliczenie kwartalne'!L166+'Rozliczenie kwartalne'!L287","v":0},{"$f":"'Rozliczenie kwartalne'!M45+'Rozliczenie kwartalne'!M166+'Rozliczenie kwartalne'!M287","v":0},{"$f":"'Rozliczenie kwartalne'!N45+'Rozliczenie kwartalne'!N166+'Rozliczenie kwartalne'!N287","v":0},{"$f":"'Załącznik nr 1 do rozliczenia'!D41+'Załącznik nr 1 do rozliczenia'!D163+'Załącznik nr 1 do rozliczenia'!D285","v":0},{"$f":"'Załącznik nr 1 do rozliczenia'!E41+'Załącznik nr 1 do rozliczenia'!E163+'Załącznik nr 1 do rozliczenia'!E285","v":0},{"$f":"'Załącznik nr 1 do rozliczenia'!F41+'Załącznik nr 1 do rozliczenia'!F163+'Załącznik nr 1 do rozliczenia'!F285","v":0},{"$f":"'Załącznik nr 2 do rozliczenia'!D38","v":0},{"$f":"'Załącznik nr 2 do rozliczenia'!E38+'Załącznik nr 2 do rozliczenia'!E159+'Załącznik nr 2 do rozliczenia'!E280","v":0},{"$f":"'Załącznik nr 2 do rozliczenia'!H38+'Załącznik nr 2 do rozliczenia'!H159+'Załącznik nr 2 do rozliczenia'!H280","v":0}]
[11,{"$f":"'Załącznik nr 1 do rozliczenia'!B42","v":""},{"$f":"'Rozliczenie kwartalne'!C46+'Rozliczenie kwartalne'!C167+'Rozliczenie kwartalne'!C288","v":0},{"$f":"'Rozliczenie kwartalne'!D46+'Rozliczenie kwartalne'!D167+'Rozliczenie kwartalne'!D288","v":0},0,{"$f":"'Rozliczenie kwartalne'!F46+'Rozliczenie kwartalne'!F167+'Rozliczenie kwartalne'!F288","v":0},0,0,{"$f":"'Rozliczenie kwartalne'!I167+'Rozliczenie kwartalne'!I46+'Rozliczenie kwartalne'!I288","v":0},{"$f":"'Rozliczenie kwartalne'!J46+'Rozliczenie kwartalne'!J167+'Rozliczenie kwartalne'!J288","v":0},{"$f":"'Rozliczenie kwartalne'!K46+'Rozliczenie kwartalne'!K167+'Rozliczenie kwartalne'!K288","v":0},{"$f":"'Rozliczenie kwartalne'!L46+'Rozliczenie kwartalne'!L167+'Rozliczenie kwartalne'!L288","v":0},{"$f":"'Rozliczenie kwartalne'!M46+'Rozliczenie kwartalne'!M167+'Rozliczenie kwartalne'!M288","v":0},{"$f":"'Rozliczenie kwartalne'!N46+'Rozliczenie kwartalne'!N167+'Rozliczenie kwartalne'!N288","v":0},{"$f":"'Załącznik nr 1 do rozliczenia'!D42+'Załącznik nr 1 do rozliczenia'!D164+'Załącznik nr 1 do rozliczenia'!D286","v":0},{"$f":"'Załącznik nr 1 do rozliczenia'!E42+'Załącznik nr 1 do rozliczenia'!E164+'Załącznik nr 1 do rozliczenia'!E286","v":0},{"$f":"'Załącznik nr 1 do rozliczenia'!F42+'Załącznik nr 1 do rozliczenia'!F164+'Załącznik nr 1 do rozliczenia'!F286","v":0},{"$f":"'Załącznik nr 2 do rozliczenia'!D39","v":0},{"$f":"'Załącznik nr 2 do rozliczenia'!E39+'Załącznik nr 2 do rozliczenia'!E160+'Załącznik nr 2 do rozliczenia'!E281","v":0},{"$f":"'Załącznik nr 2 do rozliczenia'!H39+'Załącznik nr 2 do rozliczenia'!H160+'Załącznik nr 2 do rozliczenia'!H281","v":0}]
[12,{"$f":"'Załącznik nr 1 do rozliczenia'!B43","v":""},{"$f":"'Rozliczenie kwartalne'!C47+'Rozliczenie kwartalne'!C168+'Rozliczenie kwartalne'!C289","v":0},{"$f":"'Rozliczenie kwartalne'!D47+'Rozliczenie kwartalne'!D168+'Rozliczenie kwartalne'!D289","v":0},0,{"$f":"'Rozliczenie kwartalne'!F47+'Rozliczenie kwartalne'!F168+'Rozliczenie kwartalne'!F289","v":0},0,0,{"$f":"'Rozliczenie kwartalne'!I168+'Rozliczenie kwartalne'!I47+'Rozliczenie kwartalne'!I289","v":0},{"$f":"'Rozliczenie kwartalne'!J47+'Rozliczenie kwartalne'!J168+'Rozliczenie kwartalne'!J289","v":0},{"$f":"'Rozliczenie kwartalne'!K47+'Rozliczenie kwartalne'!K168+'Rozliczenie kwartalne'!K289","v":0},{"$f":"'Rozliczenie kwartalne'!L47+'Rozliczenie kwartalne'!L168+'Rozliczenie kwartalne'!L289","v":0},{"$f":"'Rozliczenie kwartalne'!M47+'Rozliczenie kwartalne'!M168+'Rozliczenie kwartalne'!M289","v":0},{"$f":"'Rozliczenie kwartalne'!N47+'Rozliczenie kwartalne'!N168+'Rozliczenie kwartalne'!N289","v":0},{"$f":"'Załącznik nr 1 do rozliczenia'!D43+'Załącznik nr 1 do rozliczenia'!D165+'Załącznik nr 1 do rozliczenia'!D287","v":0},{"$f":"'Załącznik nr 1 do rozliczenia'!E43+'Załącznik nr 1 do rozliczenia'!E165+'Załącznik nr 1 do rozliczenia'!E287","v":0},{"$f":"'Załącznik nr 1 do rozliczenia'!F43+'Załącznik nr 1 do rozliczenia'!F165+'Załącznik nr 1 do rozliczenia'!F287","v":0},{"$f":"'Załącznik nr 2 do rozliczenia'!D40","v":0},{"$f":"'Załącznik nr 2 do rozliczenia'!E40+'Załącznik nr 2 do rozliczenia'!E161+'Załącznik nr 2 do rozliczenia'!E282","v":0},{"$f":"'Załącznik nr 2 do rozliczenia'!H40+'Załącznik nr 2 do rozliczenia'!H161+'Załącznik nr 2 do rozliczenia'!H282","v":0}]
[13,{"$f":"'Załącznik nr 1 do rozliczenia'!B44","v":""},{"$f":"'Rozliczenie kwartalne'!C48+'Rozliczenie kwartalne'!C169+'Rozliczenie kwartalne'!C290","v":0},{"$f":"'Rozliczenie kwartalne'!D48+'Rozliczenie kwartalne'!D169+'Rozliczenie kwartalne'!D290","v":0},0,{"$f":"'Rozliczenie kwartalne'!F48+'Rozliczenie kwartalne'!F169+'Rozliczenie kwartalne'!F290","v":0},0,0,{"$f":"'Rozliczenie kwartalne'!I169+'Rozliczenie kwartalne'!I48+'Rozliczenie kwartalne'!I290","v":0},{"$f":"'Rozliczenie kwartalne'!J48+'Rozliczenie kwartalne'!J169+'Rozliczenie kwartalne'!J290","v":0},{"$f":"'Rozliczenie kwartalne'!K48+'Rozliczenie kwartalne'!K169+'Rozliczenie kwartalne'!K290","v":0},{"$f":"'Rozliczenie kwartalne'!L48+'Rozliczenie kwartalne'!L169+'Rozliczenie kwartalne'!L290","v":0},{"$f":"'Rozliczenie kwartalne'!M48+'Rozliczenie kwartalne'!M169+'Rozliczenie kwartalne'!M290","v":0},{"$f":"'Rozliczenie kwartalne'!N48+'Rozliczenie kwartalne'!N169+'Rozliczenie kwartalne'!N290","v":0},{"$f":"'Załącznik nr 1 do rozliczenia'!D44+'Załącznik nr 1 do rozliczenia'!D166+'Załącznik nr 1 do rozliczenia'!D288","v":0},{"$f":"'Załącznik nr 1 do rozliczenia'!E44+'Załącznik nr 1 do rozliczenia'!E166+'Załącznik nr 1 do rozliczenia'!E288","v":0},{"$f":"'Załącznik nr 1 do rozliczenia'!F44+'Załącznik nr 1 do rozliczenia'!F166+'Załącznik nr 1 do rozliczenia'!F288","v":0},{"$f":"'Załącznik nr 2 do rozliczenia'!D41","v":0},{"$f":"'Załącznik nr 2 do rozliczenia'!E41+'Załącznik nr 2 do rozliczenia'!E162+'Załącznik nr 2 do rozliczenia'!E283","v":0},{"$f":"'Załącznik nr 2 do rozliczenia'!H41+'Załącznik nr 2 do rozliczenia'!H162+'Załącznik nr 2 do rozliczenia'!H283","v":0}]
[14,{"$f":"'Załącznik nr 1 do rozliczenia'!B45","v":""},{"$f":"'Rozliczenie kwartalne'!C49+'Rozliczenie kwartalne'!C170+'Rozliczenie kwartalne'!C291","v":0},{"$f":"'Rozliczenie kwartalne'!D49+'Rozliczenie kwartalne'!D170+'Rozliczenie kwartalne'!D291","v":0},0,{"$f":"'Rozliczenie kwartalne'!F49+'Rozliczenie kwartalne'!F170+'Rozliczenie kwartalne'!F291","v":0},0,0,{"$f":"'Rozliczenie kwartalne'!I170+'Rozliczenie kwartalne'!I49+'Rozliczenie kwartalne'!I291","v":0},{"$f":"'Rozliczenie kwartalne'!J49+'Rozliczenie kwartalne'!J170+'Rozliczenie kwartalne'!J291","v":0},{"$f":"'Rozliczenie kwartalne'!K49+'Rozliczenie kwartalne'!K170+'Rozliczenie kwartalne'!K291","v":0},{"$f":"'Rozliczenie kwartalne'!L49+'Rozliczenie kwartalne'!L170+'Rozliczenie kwartalne'!L291","v":0},{"$f":"'Rozliczenie kwartalne'!M49+'Rozliczenie kwartalne'!M170+'Rozliczenie kwartalne'!M291","v":0},{"$f":"'Rozliczenie kwartalne'!N49+'Rozliczenie kwartalne'!N170+'Rozliczenie kwartalne'!N291","v":0},{"$f":"'Załącznik nr 1 do rozliczenia'!D45+'Załącznik nr 1 do rozliczenia'!D167+'Załącznik nr 1 do rozliczenia'!D289","v":0},{"$f":"'Załącznik nr 1 do rozliczenia'!E45+'Załącznik nr 1 do rozliczenia'!E167+'Załącznik nr 1 do rozliczenia'!E289","v":0},{"$f":"'Załącznik nr 1 do rozliczenia'!F45+'Załącznik nr 1 do rozliczenia'!F167+'Załącznik nr 1 do rozliczenia'!F289","v":0},{"$f":"'Załącznik nr 2 do rozliczenia'!D42","v":0},{"$f":"'Załącznik nr 2 do rozliczenia'!E42+'Załącznik nr 2 do rozliczenia'!E163+'Załącznik nr 2 do rozliczenia'!E284","v":0},{"$f":"'Załącznik nr 2 do rozliczenia'!H42+'Załącznik nr 2 do rozliczenia'!H163+'Załącznik nr 2 do rozliczenia'!H284","v":0}]
[15,{"$f":"'Załącznik nr 1 do rozliczenia'!B46","v":""},{"$f":"'Rozliczenie kwartalne'!C50+'Rozliczenie kwartalne'!C171+'Rozliczenie kwartalne'!C292","v":0},{"$f":"'Rozliczenie kwartalne'!D50+'Rozliczenie kwartalne'!D171+'Rozliczenie kwartalne'!D292","v":0},0,{"$f":"'Rozliczenie kwartalne'!F50+'Rozliczenie kwartalne'!F171+'Rozliczenie kwartalne'!F292","v":0},0,0,{"$f":"'Rozliczenie kwartalne'!I171+'Rozliczenie kwartalne'!I50+'Rozliczenie kwartalne'!I292","v":0},{"$f":"'Rozliczenie kwartalne'!J50+'Rozliczenie kwartalne'!J171+'Rozliczenie kwartalne'!J292","v":0},{"$f":"'Rozliczenie kwartalne'!K50+'Rozliczenie kwartalne'!K171+'Rozliczenie kwartalne'!K292","v":0},{"$f":"'Rozliczenie kwartalne'!L50+'Rozliczenie kwartalne'!L171+'Rozliczenie kwartalne'!L292","v":0},{"$f":"'Rozliczenie kwartalne'!M50+'Rozliczenie kwartalne'!M171+'Rozliczenie kwartalne'!M292","v":0},{"$f":"'Rozliczenie kwartalne'!N50+'Rozliczenie kwartalne'!N171+'Rozliczenie kwartalne'!N292","v":0},{"$f":"'Załącznik nr 1 do rozliczenia'!D46+'Załącznik nr 1 do rozliczenia'!D168+'Załącznik nr 1 do rozliczenia'!D290","v":0},{"$f":"'Załącznik nr 1 do rozliczenia'!E46+'Załącznik nr 1 do rozliczenia'!E168+'Załącznik nr 1 do rozliczenia'!E290","v":0},{"$f":"'Załącznik nr 1 do rozliczenia'!F46+'Załącznik nr 1 do rozliczenia'!F168+'Załącznik nr 1 do rozliczenia'!F290","v":0},{"$f":"'Załącznik nr 2 do rozliczenia'!D43","v":0},{"$f":"'Załącznik nr 2 do rozliczenia'!E43+'Załącznik nr 2 do rozliczenia'!E164+'Załącznik nr 2 do rozliczenia'!E285","v":0},{"$f":"'Załącznik nr 2 do rozliczenia'!H43+'Załącznik nr 2 do rozliczenia'!H164+'Załącznik nr 2 do rozliczenia'!H285","v":0}]
[16,{"$f":"'Załącznik nr 1 do rozliczenia'!B47","v":""},{"$f":"'Rozliczenie kwartalne'!C51+'Rozliczenie kwartalne'!C172+'Rozliczenie kwartalne'!C293","v":0},{"$f":"'Rozliczenie kwartalne'!D51+'Rozliczenie kwartalne'!D172+'Rozliczenie kwartalne'!D293","v":0},0,{"$f":"'Rozliczenie kwartalne'!F51+'Rozliczenie kwartalne'!F172+'Rozliczenie kwartalne'!F293","v":0},0,0,{"$f":"'Rozliczenie kwartalne'!I172+'Rozliczenie kwartalne'!I51+'Rozliczenie kwartalne'!I293","v":0},{"$f":"'Rozliczenie kwartalne'!J51+'Rozliczenie kwartalne'!J172+'Rozliczenie kwartalne'!J293","v":0},{"$f":"'Rozliczenie kwartalne'!K51+'Rozliczenie kwartalne'!K172+'Rozliczenie kwartalne'!K293","v":0},{"$f":"'Rozliczenie kwartalne'!L51+'Rozliczenie kwartalne'!L172+'Rozliczenie kwartalne'!L293","v":0},{"$f":"'Rozliczenie kwartalne'!M51+'Rozliczenie kwartalne'!M172+'Rozliczenie kwartalne'!M293","v":0},{"$f":"'Rozliczenie kwartalne'!N51+'Rozliczenie kwartalne'!N172+'Rozliczenie kwartalne'!N293","v":0},{"$f":"'Załącznik nr 1 do rozliczenia'!D47+'Załącznik nr 1 do rozliczenia'!D169+'Załącznik nr 1 do rozliczenia'!D291","v":0},{"$f":"'Załącznik nr 1 do rozliczenia'!E47+'Załącznik nr 1 do rozliczenia'!E169+'Załącznik nr 1 do rozliczenia'!E291","v":0},{"$f":"'Załącznik nr 1 do rozliczenia'!F47+'Załącznik nr 1 do rozliczenia'!F169+'Załącznik nr 1 do rozliczenia'!F291","v":0},{"$f":"'Załącznik nr 2 do rozliczenia'!D44","v":0},{"$f":"'Załącznik nr 2 do rozliczenia'!E44+'Załącznik nr 2 do rozliczenia'!E165+'Załącznik nr 2 do rozliczenia'!E286","v":0},{"$f":"'Załącznik nr 2 do rozliczenia'!H44+'Załącznik nr 2 do rozliczenia'!H165+'Załącznik nr 2 do rozliczenia'!H286","v":0}]
[17,{"$f":"'Załącznik nr 1 do rozliczenia'!B48","v":""},{"$f":"'Rozliczenie kwartalne'!C52+'Rozliczenie kwartalne'!C173+'Rozliczenie kwartalne'!C294","v":0},{"$f":"'Rozliczenie kwartalne'!D52+'Rozliczenie kwartalne'!D173+'Rozliczenie kwartalne'!D294","v":0},0,{"$f":"'Rozliczenie kwartalne'!F52+'Rozliczenie kwartalne'!F173+'Rozliczenie kwartalne'!F294","v":0},0,0,{"$f":"'Rozliczenie kwartalne'!I173+'Rozliczenie kwartalne'!I52+'Rozliczenie kwartalne'!I294","v":0},{"$f":"'Rozliczenie kwartalne'!J52+'Rozliczenie kwartalne'!J173+'Rozliczenie kwartalne'!J294","v":0},{"$f":"'Rozliczenie kwartalne'!K52+'Rozliczenie kwartalne'!K173+'Rozliczenie kwartalne'!K294","v":0},{"$f":"'Rozliczenie kwartalne'!L52+'Rozliczenie kwartalne'!L173+'Rozliczenie kwartalne'!L294","v":0},{"$f":"'Rozliczenie kwartalne'!M52+'Rozliczenie kwartalne'!M173+'Rozliczenie kwartalne'!M294","v":0},{"$f":"'Rozliczenie kwartalne'!N52+'Rozliczenie kwartalne'!N173+'Rozliczenie kwartalne'!N294","v":0},{"$f":"'Załącznik nr 1 do rozliczenia'!D48+'Załącznik nr 1 do rozliczenia'!D170+'Załącznik nr 1 do rozliczenia'!D292","v":0},{"$f":"'Załącznik nr 1 do rozliczenia'!E48+'Załącznik nr 1 do rozliczenia'!E170+'Załącznik nr 1 do rozliczenia'!E292","v":0},{"$f":"'Załącznik nr 1 do rozliczenia'!F48+'Załącznik nr 1 do rozliczenia'!F170+'Załącznik nr 1 do rozliczenia'!F292","v":0},{"$f":"'Załącznik nr 2 do rozliczenia'!D45","v":0},{"$f":"'Załącznik nr 2 do rozliczenia'!E45+'Załącznik nr 2 do rozliczenia'!E166+'Załącznik nr 2 do rozliczenia'!E287","v":0},{"$f":"'Załącznik nr 2 do rozliczenia'!H45+'Załącznik nr 2 do rozliczenia'!H166+'Załącznik nr 2 do rozliczenia'!H287","v":0}]
[18,{"$f":"'Załącznik nr 1 do rozliczenia'!B49","v":""},{"$f":"'Rozliczenie kwartalne'!C53+'Rozliczenie kwartalne'!C174+'Rozliczenie kwartalne'!C295","v":0},{"$f":"'Rozliczenie kwartalne'!D53+'Rozliczenie kwartalne'!D174+'Rozliczenie kwartalne'!D295","v":0},0,{"$f":"'Rozliczenie kwartalne'!F53+'Rozliczenie kwartalne'!F174+'Rozliczenie kwartalne'!F295","v":0},0,0,{"$f":"'Rozliczenie kwartalne'!I174+'Rozliczenie kwartalne'!I53+'Rozliczenie kwartalne'!I295","v":0},{"$f":"'Rozliczenie kwartalne'!J53+'Rozliczenie kwartalne'!J174+'Rozliczenie kwartalne'!J295","v":0},{"$f":"'Rozliczenie kwartalne'!K53+'Rozliczenie kwartalne'!K174+'Rozliczenie kwartalne'!K295","v":0},{"$f":"'Rozliczenie kwartalne'!L53+'Rozliczenie kwartalne'!L174+'Rozliczenie kwartalne'!L295","v":0},{"$f":"'Rozliczenie kwartalne'!M53+'Rozliczenie kwartalne'!M174+'Rozliczenie kwartalne'!M295","v":0},{"$f":"'Rozliczenie kwartalne'!N53+'Rozliczenie kwartalne'!N174+'Rozliczenie kwartalne'!N295","v":0},{"$f":"'Załącznik nr 1 do rozliczenia'!D49+'Załącznik nr 1 do rozliczenia'!D171+'Załącznik nr 1 do rozliczenia'!D293","v":0},{"$f":"'Załącznik nr 1 do rozliczenia'!E49+'Załącznik nr 1 do rozliczenia'!E171+'Załącznik nr 1 do rozliczenia'!E293","v":0},{"$f":"'Załącznik nr 1 do rozliczenia'!F49+'Załącznik nr 1 do rozliczenia'!F171+'Załącznik nr 1 do rozliczenia'!F293","v":0},{"$f":"'Załącznik nr 2 do rozliczenia'!D46","v":0},{"$f":"'Załącznik nr 2 do rozliczenia'!E46+'Załącznik nr 2 do rozliczenia'!E167+'Załącznik nr 2 do rozliczenia'!E288","v":0},{"$f":"'Załącznik nr 2 do rozliczenia'!H46+'Załącznik nr 2 do rozliczenia'!H167+'Załącznik nr 2 do rozliczenia'!H288","v":0}]
[19,{"$f":"'Załącznik nr 1 do rozliczenia'!B50","v":""},{"$f":"'Rozliczenie kwartalne'!C54+'Rozliczenie kwartalne'!C175+'Rozliczenie kwartalne'!C296","v":0},{"$f":"'Rozliczenie kwartalne'!D54+'Rozliczenie kwartalne'!D175+'Rozliczenie kwartalne'!D296","v":0},0,{"$f":"'Rozliczenie kwartalne'!F54+'Rozliczenie kwartalne'!F175+'Rozliczenie kwartalne'!F296","v":0},0,0,{"$f":"'Rozliczenie kwartalne'!I175+'Rozliczenie kwartalne'!I54+'Rozliczenie kwartalne'!I296","v":0},{"$f":"'Rozliczenie kwartalne'!J54+'Rozliczenie kwartalne'!J175+'Rozliczenie kwartalne'!J296","v":0},{"$f":"'Rozliczenie kwartalne'!K54+'Rozliczenie kwartalne'!K175+'Rozliczenie kwartalne'!K296","v":0},{"$f":"'Rozliczenie kwartalne'!L54+'Rozliczenie kwartalne'!L175+'Rozliczenie kwartalne'!L296","v":0},{"$f":"'Rozliczenie kwartalne'!M54+'Rozliczenie kwartalne'!M175+'Rozliczenie kwartalne'!M296","v":0},{"$f":"'Rozliczenie kwartalne'!N54+'Rozliczenie kwartalne'!N175+'Rozliczenie kwartalne'!N296","v":0},{"$f":"'Załącznik nr 1 do rozliczenia'!D50+'Załącznik nr 1 do rozliczenia'!D172+'Załącznik nr 1 do rozliczenia'!D294","v":0},{"$f":"'Załącznik nr 1 do rozliczenia'!E50+'Załącznik nr 1 do rozliczenia'!E172+'Załącznik nr 1 do rozliczenia'!E294","v":0},{"$f":"'Załącznik nr 1 do rozliczenia'!F50+'Załącznik nr 1 do rozliczenia'!F172+'Załącznik nr 1 do rozliczenia'!F294","v":0},{"$f":"'Załącznik nr 2 do rozliczenia'!D47","v":0},{"$f":"'Załącznik nr 2 do rozliczenia'!E47+'Załącznik nr 2 do rozliczenia'!E168+'Załącznik nr 2 do rozliczenia'!E289","v":0},{"$f":"'Załącznik nr 2 do rozliczenia'!H47+'Załącznik nr 2 do rozliczenia'!H168+'Załącznik nr 2 do rozliczenia'!H289","v":0}]
[20,{"$f":"'Załącznik nr 1 do rozliczenia'!B51","v":""},{"$f":"'Rozliczenie kwartalne'!C55+'Rozliczenie kwartalne'!C176+'Rozliczenie kwartalne'!C297","v":0},{"$f":"'Rozliczenie kwartalne'!D55+'Rozliczenie kwartalne'!D176+'Rozliczenie kwartalne'!D297","v":0},0,{"$f":"'Rozliczenie kwartalne'!F55+'Rozliczenie kwartalne'!F176+'Rozliczenie kwartalne'!F297","v":0},0,0,{"$f":"'Rozliczenie kwartalne'!I176+'Rozliczenie kwartalne'!I55+'Rozliczenie kwartalne'!I297","v":0},{"$f":"'Rozliczenie kwartalne'!J55+'Rozliczenie kwartalne'!J176+'Rozliczenie kwartalne'!J297","v":0},{"$f":"'Rozliczenie kwartalne'!K55+'Rozliczenie kwartalne'!K176+'Rozliczenie kwartalne'!K297","v":0},{"$f":"'Rozliczenie kwartalne'!L55+'Rozliczenie kwartalne'!L176+'Rozliczenie kwartalne'!L297","v":0},{"$f":"'Rozliczenie kwartalne'!M55+'Rozliczenie kwartalne'!M176+'Rozliczenie kwartalne'!M297","v":0},{"$f":"'Rozliczenie kwartalne'!N55+'Rozliczenie kwartalne'!N176+'Rozliczenie kwartalne'!N297","v":0},{"$f":"'Załącznik nr 1 do rozliczenia'!D51+'Załącznik nr 1 do rozliczenia'!D173+'Załącznik nr 1 do rozliczenia'!D295","v":0},{"$f":"'Załącznik nr 1 do rozliczenia'!E51+'Załącznik nr 1 do rozliczenia'!E173+'Załącznik nr 1 do rozliczenia'!E295","v":0},{"$f":"'Załącznik nr 1 do rozliczenia'!F51+'Załącznik nr 1 do rozliczenia'!F173+'Załącznik nr 1 do rozliczenia'!F295","v":0},{"$f":"'Załącznik nr 2 do rozliczenia'!D48","v":0},{"$f":"'Załącznik nr 2 do rozliczenia'!E48+'Załącznik nr 2 do rozliczenia'!E169+'Załącznik nr 2 do rozliczenia'!E290","v":0},{"$f":"'Załącznik nr 2 do rozliczenia'!H48+'Załącznik nr 2 do rozliczenia'!H169+'Załącznik nr 2 do rozliczenia'!H290","v":0}]
[21,{"$f":"'Załącznik nr 1 do rozliczenia'!B52","v":""},{"$f":"'Rozliczenie kwartalne'!C56+'Rozliczenie kwartalne'!C177+'Rozliczenie kwartalne'!C298","v":0},{"$f":"'Rozliczenie kwartalne'!D56+'Rozliczenie kwartalne'!D177+'Rozliczenie kwartalne'!D298","v":0},0,{"$f":"'Rozliczenie kwartalne'!F56+'Rozliczenie kwartalne'!F177+'Rozliczenie kwartalne'!F298","v":0},0,0,{"$f":"'Rozliczenie kwartalne'!I177+'Rozliczenie kwartalne'!I56+'Rozliczenie kwartalne'!I298","v":0},{"$f":"'Rozliczenie kwartalne'!J56+'Rozliczenie kwartalne'!J177+'Rozliczenie kwartalne'!J298","v":0},{"$f":"'Rozliczenie kwartalne'!K56+'Rozliczenie kwartalne'!K177+'Rozliczenie kwartalne'!K298","v":0},{"$f":"'Rozliczenie kwartalne'!L56+'Rozliczenie kwartalne'!L177+'Rozliczenie kwartalne'!L298","v":0},{"$f":"'Rozliczenie kwartalne'!M56+'Rozliczenie kwartalne'!M177+'Rozliczenie kwartalne'!M298","v":0},{"$f":"'Rozliczenie kwartalne'!N56+'Rozliczenie kwartalne'!N177+'Rozliczenie kwartalne'!N298","v":0},{"$f":"'Załącznik nr 1 do rozliczenia'!D52+'Załącznik nr 1 do rozliczenia'!D174+'Załącznik nr 1 do rozliczenia'!D296","v":0},{"$f":"'Załącznik nr 1 do rozliczenia'!E52+'Załącznik nr 1 do rozliczenia'!E174+'Załącznik nr 1 do rozliczenia'!E296","v":0},{"$f":"'Załącznik nr 1 do rozliczenia'!F52+'Załącznik nr 1 do rozliczenia'!F174+'Załącznik nr 1 do rozliczenia'!F296","v":0},{"$f":"'Załącznik nr 2 do rozliczenia'!D49","v":0},{"$f":"'Załącznik nr 2 do rozliczenia'!E49+'Załącznik nr 2 do rozliczenia'!E170+'Załącznik nr 2 do rozliczenia'!E291","v":0},{"$f":"'Załącznik nr 2 do rozliczenia'!H49+'Załącznik nr 2 do rozliczenia'!H170+'Załącznik nr 2 do rozliczenia'!H291","v":0}]
[22,{"$f":"'Załącznik nr 1 do rozliczenia'!B53","v":""},{"$f":"'Rozliczenie kwartalne'!C57+'Rozliczenie kwartalne'!C178+'Rozliczenie kwartalne'!C299","v":0},{"$f":"'Rozliczenie kwartalne'!D57+'Rozliczenie kwartalne'!D178+'Rozliczenie kwartalne'!D299","v":0},0,{"$f":"'Rozliczenie kwartalne'!F57+'Rozliczenie kwartalne'!F178+'Rozliczenie kwartalne'!F299","v":0},0,0,{"$f":"'Rozliczenie kwartalne'!I178+'Rozliczenie kwartalne'!I57+'Rozliczenie kwartalne'!I299","v":0},{"$f":"'Rozliczenie kwartalne'!J57+'Rozliczenie kwartalne'!J178+'Rozliczenie kwartalne'!J299","v":0},{"$f":"'Rozliczenie kwartalne'!K57+'Rozliczenie kwartalne'!K178+'Rozliczenie kwartalne'!K299","v":0},{"$f":"'Rozliczenie kwartalne'!L57+'Rozliczenie kwartalne'!L178+'Rozliczenie kwartalne'!L299","v":0},{"$f":"'Rozliczenie kwartalne'!M57+'Rozliczenie kwartalne'!M178+'Rozliczenie kwartalne'!M299","v":0},{"$f":"'Rozliczenie kwartalne'!N57+'Rozliczenie kwartalne'!N178+'Rozliczenie kwartalne'!N299","v":0},{"$f":"'Załącznik nr 1 do rozliczenia'!D53+'Załącznik nr 1 do rozliczenia'!D175+'Załącznik nr 1 do rozliczenia'!D297","v":0},{"$f":"'Załącznik nr 1 do rozliczenia'!E53+'Załącznik nr 1 do rozliczenia'!E175+'Załącznik nr 1 do rozliczenia'!E297","v":0},{"$f":"'Załącznik nr 1 do rozliczenia'!F53+'Załącznik nr 1 do rozliczenia'!F175+'Załącznik nr 1 do rozliczenia'!F297","v":0},{"$f":"'Załącznik nr 2 do rozliczenia'!D50","v":0},{"$f":"'Załącznik nr 2 do rozliczenia'!E50+'Załącznik nr 2 do rozliczenia'!E171+'Załącznik nr 2 do rozliczenia'!E292","v":0},{"$f":"'Załącznik nr 2 do rozliczenia'!H50+'Załącznik nr 2 do rozliczenia'!H171+'Załącznik nr 2 do rozliczenia'!H292","v":0}]
[23,{"$f":"'Załącznik nr 1 do rozliczenia'!B54","v":""},{"$f":"'Rozliczenie kwartalne'!C58+'Rozliczenie kwartalne'!C179+'Rozliczenie kwartalne'!C300","v":0},{"$f":"'Rozliczenie kwartalne'!D58+'Rozliczenie kwartalne'!D179+'Rozliczenie kwartalne'!D300","v":0},0,{"$f":"'Rozliczenie kwartalne'!F58+'Rozliczenie kwartalne'!F179+'Rozliczenie kwartalne'!F300","v":0},0,0,{"$f":"'Rozliczenie kwartalne'!I179+'Rozliczenie kwartalne'!I58+'Rozliczenie kwartalne'!I300","v":0},{"$f":"'Rozliczenie kwartalne'!J58+'Rozliczenie kwartalne'!J179+'Rozliczenie kwartalne'!J300","v":0},{"$f":"'Rozliczenie kwartalne'!K58+'Rozliczenie kwartalne'!K179+'Rozliczenie kwartalne'!K300","v":0},{"$f":"'Rozliczenie kwartalne'!L58+'Rozliczenie kwartalne'!L179+'Rozliczenie kwartalne'!L300","v":0},{"$f":"'Rozliczenie kwartalne'!M58+'Rozliczenie kwartalne'!M179+'Rozliczenie kwartalne'!M300","v":0},{"$f":"'Rozliczenie kwartalne'!N58+'Rozliczenie kwartalne'!N179+'Rozliczenie kwartalne'!N300","v":0},{"$f":"'Załącznik nr 1 do rozliczenia'!D54+'Załącznik nr 1 do rozliczenia'!D176+'Załącznik nr 1 do rozliczenia'!D298","v":0},{"$f":"'Załącznik nr 1 do rozliczenia'!E54+'Załącznik nr 1 do rozliczenia'!E176+'Załącznik nr 1 do rozliczenia'!E298","v":0},{"$f":"'Załącznik nr 1 do rozliczenia'!F54+'Załącznik nr 1 do rozliczenia'!F176+'Załącznik nr 1 do rozliczenia'!F298","v":0},{"$f":"'Załącznik nr 2 do rozliczenia'!D51","v":0},{"$f":"'Załącznik nr 2 do rozliczenia'!E51+'Załącznik nr 2 do rozliczenia'!E172+'Załącznik nr 2 do rozliczenia'!E293","v":0},{"$f":"'Załącznik nr 2 do rozliczenia'!H51+'Załącznik nr 2 do rozliczenia'!H172+'Załącznik nr 2 do rozliczenia'!H293","v":0}]
[24,{"$f":"'Załącznik nr 1 do rozliczenia'!B55","v":""},{"$f":"'Rozliczenie kwartalne'!C59+'Rozliczenie kwartalne'!C180+'Rozliczenie kwartalne'!C301","v":0},{"$f":"'Rozliczenie kwartalne'!D59+'Rozliczenie kwartalne'!D180+'Rozliczenie kwartalne'!D301","v":0},0,{"$f":"'Rozliczenie kwartalne'!F59+'Rozliczenie kwartalne'!F180+'Rozliczenie kwartalne'!F301","v":0},0,0,{"$f":"'Rozliczenie kwartalne'!I180+'Rozliczenie kwartalne'!I59+'Rozliczenie kwartalne'!I301","v":0},{"$f":"'Rozliczenie kwartalne'!J59+'Rozliczenie kwartalne'!J180+'Rozliczenie kwartalne'!J301","v":0},{"$f":"'Rozliczenie kwartalne'!K59+'Rozliczenie kwartalne'!K180+'Rozliczenie kwartalne'!K301","v":0},{"$f":"'Rozliczenie kwartalne'!L59+'Rozliczenie kwartalne'!L180+'Rozliczenie kwartalne'!L301","v":0},{"$f":"'Rozliczenie kwartalne'!M59+'Rozliczenie kwartalne'!M180+'Rozliczenie kwartalne'!M301","v":0},{"$f":"'Rozliczenie kwartalne'!N59+'Rozliczenie kwartalne'!N180+'Rozliczenie kwartalne'!N301","v":0},{"$f":"'Załącznik nr 1 do rozliczenia'!D55+'Załącznik nr 1 do rozliczenia'!D177+'Załącznik nr 1 do rozliczenia'!D299","v":0},{"$f":"'Załącznik nr 1 do rozliczenia'!E55+'Załącznik nr 1 do rozliczenia'!E177+'Załącznik nr 1 do rozliczenia'!E299","v":0},{"$f":"'Załącznik nr 1 do rozliczenia'!F55+'Załącznik nr 1 do rozliczenia'!F177+'Załącznik nr 1 do rozliczenia'!F299","v":0},{"$f":"'Załącznik nr 2 do rozliczenia'!D52","v":0},{"$f":"'Załącznik nr 2 do rozliczenia'!E52+'Załącznik nr 2 do rozliczenia'!E173+'Załącznik nr 2 do rozliczenia'!E294","v":0},{"$f":"'Załącznik nr 2 do rozliczenia'!H52+'Załącznik nr 2 do rozliczenia'!H173+'Załącznik nr 2 do rozliczenia'!H294","v":0}]
[25,{"$f":"'Załącznik nr 1 do rozliczenia'!B56","v":""},{"$f":"'Rozliczenie kwartalne'!C60+'Rozliczenie kwartalne'!C181+'Rozliczenie kwartalne'!C302","v":0},{"$f":"'Rozliczenie kwartalne'!D60+'Rozliczenie kwartalne'!D181+'Rozliczenie kwartalne'!D302","v":0},0,{"$f":"'Rozliczenie kwartalne'!F60+'Rozliczenie kwartalne'!F181+'Rozliczenie kwartalne'!F302","v":0},0,0,{"$f":"'Rozliczenie kwartalne'!I181+'Rozliczenie kwartalne'!I60+'Rozliczenie kwartalne'!I302","v":0},{"$f":"'Rozliczenie kwartalne'!J60+'Rozliczenie kwartalne'!J181+'Rozliczenie kwartalne'!J302","v":0},{"$f":"'Rozliczenie kwartalne'!K60+'Rozliczenie kwartalne'!K181+'Rozliczenie kwartalne'!K302","v":0},{"$f":"'Rozliczenie kwartalne'!L60+'Rozliczenie kwartalne'!L181+'Rozliczenie kwartalne'!L302","v":0},{"$f":"'Rozliczenie kwartalne'!M60+'Rozliczenie kwartalne'!M181+'Rozliczenie kwartalne'!M302","v":0},{"$f":"'Rozliczenie kwartalne'!N60+'Rozliczenie kwartalne'!N181+'Rozliczenie kwartalne'!N302","v":0},{"$f":"'Załącznik nr 1 do rozliczenia'!D56+'Załącznik nr 1 do rozliczenia'!D178+'Załącznik nr 1 do rozliczenia'!D300","v":0},{"$f":"'Załącznik nr 1 do rozliczenia'!E56+'Załącznik nr 1 do rozliczenia'!E178+'Załącznik nr 1 do rozliczenia'!E300","v":0},{"$f":"'Załącznik nr 1 do rozliczenia'!F56+'Załącznik nr 1 do rozliczenia'!F178+'Załącznik nr 1 do rozliczenia'!F300","v":0},{"$f":"'Załącznik nr 2 do rozliczenia'!D53","v":0},{"$f":"'Załącznik nr 2 do rozliczenia'!E53+'Załącznik nr 2 do rozliczenia'!E174+'Załącznik nr 2 do rozliczenia'!E295","v":0},{"$f":"'Załącznik nr 2 do rozliczenia'!H53+'Załącznik nr 2 do rozliczenia'!H174+'Załącznik nr 2 do rozliczenia'!H295","v":0}]
[26,{"$f":"'Załącznik nr 1 do rozliczenia'!B57","v":""},{"$f":"'Rozliczenie kwartalne'!C61+'Rozliczenie kwartalne'!C182+'Rozliczenie kwartalne'!C303","v":0},{"$f":"'Rozliczenie kwartalne'!D61+'Rozliczenie kwartalne'!D182+'Rozliczenie kwartalne'!D303","v":0},0,{"$f":"'Rozliczenie kwartalne'!F61+'Rozliczenie kwartalne'!F182+'Rozliczenie kwartalne'!F303","v":0},0,0,{"$f":"'Rozliczenie kwartalne'!I182+'Rozliczenie kwartalne'!I61+'Rozliczenie kwartalne'!I303","v":0},{"$f":"'Rozliczenie kwartalne'!J61+'Rozliczenie kwartalne'!J182+'Rozliczenie kwartalne'!J303","v":0},{"$f":"'Rozliczenie kwartalne'!K61+'Rozliczenie kwartalne'!K182+'Rozliczenie kwartalne'!K303","v":0},{"$f":"'Rozliczenie kwartalne'!L61+'Rozliczenie kwartalne'!L182+'Rozliczenie kwartalne'!L303","v":0},{"$f":"'Rozliczenie kwartalne'!M61+'Rozliczenie kwartalne'!M182+'Rozliczenie kwartalne'!M303","v":0},{"$f":"'Rozliczenie kwartalne'!N61+'Rozliczenie kwartalne'!N182+'Rozliczenie kwartalne'!N303","v":0},{"$f":"'Załącznik nr 1 do rozliczenia'!D57+'Załącznik nr 1 do rozliczenia'!D179+'Załącznik nr 1 do rozliczenia'!D301","v":0},{"$f":"'Załącznik nr 1 do rozliczenia'!E57+'Załącznik nr 1 do rozliczenia'!E179+'Załącznik nr 1 do rozliczenia'!E301","v":0},{"$f":"'Załącznik nr 1 do rozliczenia'!F57+'Załącznik nr 1 do rozliczenia'!F179+'Załącznik nr 1 do rozliczenia'!F301","v":0},{"$f":"'Załącznik nr 2 do rozliczenia'!D54","v":0},{"$f":"'Załącznik nr 2 do rozliczenia'!E54+'Załącznik nr 2 do rozliczenia'!E175+'Załącznik nr 2 do rozliczenia'!E296","v":0},{"$f":"'Załącznik nr 2 do rozliczenia'!H54+'Załącznik nr 2 do rozliczenia'!H175+'Załącznik nr 2 do rozliczenia'!H296","v":0}]
[27,{"$f":"'Załącznik nr 1 do rozliczenia'!B58","v":""},{"$f":"'Rozliczenie kwartalne'!C62+'Rozliczenie kwartalne'!C183+'Rozliczenie kwartalne'!C304","v":0},{"$f":"'Rozliczenie kwartalne'!D62+'Rozliczenie kwartalne'!D183+'Rozliczenie kwartalne'!D304","v":0},0,{"$f":"'Rozliczenie kwartalne'!F62+'Rozliczenie kwartalne'!F183+'Rozliczenie kwartalne'!F304","v":0},0,0,{"$f":"'Rozliczenie kwartalne'!I183+'Rozliczenie kwartalne'!I62+'Rozliczenie kwartalne'!I304","v":0},{"$f":"'Rozliczenie kwartalne'!J62+'Rozliczenie kwartalne'!J183+'Rozliczenie kwartalne'!J304","v":0},{"$f":"'Rozliczenie kwartalne'!K62+'Rozliczenie kwartalne'!K183+'Rozliczenie kwartalne'!K304","v":0},{"$f":"'Rozliczenie kwartalne'!L62+'Rozliczenie kwartalne'!L183+'Rozliczenie kwartalne'!L304","v":0},{"$f":"'Rozliczenie kwartalne'!M62+'Rozliczenie kwartalne'!M183+'Rozliczenie kwartalne'!M304","v":0},{"$f":"'Rozliczenie kwartalne'!N62+'Rozliczenie kwartalne'!N183+'Rozliczenie kwartalne'!N304","v":0},{"$f":"'Załącznik nr 1 do rozliczenia'!D58+'Załącznik nr 1 do rozliczenia'!D180+'Załącznik nr 1 do rozliczenia'!D302","v":0},{"$f":"'Załącznik nr 1 do rozliczenia'!E58+'Załącznik nr 1 do rozliczenia'!E180+'Załącznik nr 1 do rozliczenia'!E302","v":0},{"$f":"'Załącznik nr 1 do rozliczenia'!F58+'Załącznik nr 1 do rozliczenia'!F180+'Załącznik nr 1 do rozliczenia'!F302","v":0},{"$f":"'Załącznik nr 2 do rozliczenia'!D55","v":0},{"$f":"'Załącznik nr 2 do rozliczenia'!E55+'Załącznik nr 2 do rozliczenia'!E176+'Załącznik nr 2 do rozliczenia'!E297","v":0},{"$f":"'Załącznik nr 2 do rozliczenia'!H55+'Załącznik nr 2 do rozliczenia'!H176+'Załącznik nr 2 do rozliczenia'!H297","v":0}]
[28,{"$f":"'Załącznik nr 1 do rozliczenia'!B59","v":""},{"$f":"'Rozliczenie kwartalne'!C63+'Rozliczenie kwartalne'!C184+'Rozliczenie kwartalne'!C305","v":0},{"$f":"'Rozliczenie kwartalne'!D63+'Rozliczenie kwartalne'!D184+'Rozliczenie kwartalne'!D305","v":0},0,{"$f":"'Rozliczenie kwartalne'!F63+'Rozliczenie kwartalne'!F184+'Rozliczenie kwartalne'!F305","v":0},0,0,{"$f":"'Rozliczenie kwartalne'!I184+'Rozliczenie kwartalne'!I63+'Rozliczenie kwartalne'!I305","v":0},{"$f":"'Rozliczenie kwartalne'!J63+'Rozliczenie kwartalne'!J184+'Rozliczenie kwartalne'!J305","v":0},{"$f":"'Rozliczenie kwartalne'!K63+'Rozliczenie kwartalne'!K184+'Rozliczenie kwartalne'!K305","v":0},{"$f":"'Rozliczenie kwartalne'!L63+'Rozliczenie kwartalne'!L184+'Rozliczenie kwartalne'!L305","v":0},{"$f":"'Rozliczenie kwartalne'!M63+'Rozliczenie kwartalne'!M184+'Rozliczenie kwartalne'!M305","v":0},{"$f":"'Rozliczenie kwartalne'!N63+'Rozliczenie kwartalne'!N184+'Rozliczenie kwartalne'!N305","v":0},{"$f":"'Załącznik nr 1 do rozliczenia'!D59+'Załącznik nr 1 do rozliczenia'!D181+'Załącznik nr 1 do rozliczenia'!D303","v":0},{"$f":"'Załącznik nr 1 do rozliczenia'!E59+'Załącznik nr 1 do rozliczenia'!E181+'Załącznik nr 1 do rozliczenia'!E303","v":0},{"$f":"'Załącznik nr 1 do rozliczenia'!F59+'Załącznik nr 1 do rozliczenia'!F181+'Załącznik nr 1 do rozliczenia'!F303","v":0},{"$f":"'Załącznik nr 2 do rozliczenia'!D56","v":0},{"$f":"'Załącznik nr 2 do rozliczenia'!E56+'Załącznik nr 2 do rozliczenia'!E177+'Załącznik nr 2 do rozliczenia'!E298","v":0},{"$f":"'Załącznik nr 2 do rozliczenia'!H56+'Załącznik nr 2 do rozliczenia'!H177+'Załącznik nr 2 do rozliczenia'!H298","v":0}]
[29,{"$f":"'Załącznik nr 1 do rozliczenia'!B60","v":""},{"$f":"'Rozliczenie kwartalne'!C64+'Rozliczenie kwartalne'!C185+'Rozliczenie kwartalne'!C306","v":0},{"$f":"'Rozliczenie kwartalne'!D64+'Rozliczenie kwartalne'!D185+'Rozliczenie kwartalne'!D306","v":0},0,{"$f":"'Rozliczenie kwartalne'!F64+'Rozliczenie kwartalne'!F185+'Rozliczenie kwartalne'!F306","v":0},0,0,{"$f":"'Rozliczenie kwartalne'!I185+'Rozliczenie kwartalne'!I64+'Rozliczenie kwartalne'!I306","v":0},{"$f":"'Rozliczenie kwartalne'!J64+'Rozliczenie kwartalne'!J185+'Rozliczenie kwartalne'!J306","v":0},{"$f":"'Rozliczenie kwartalne'!K64+'Rozliczenie kwartalne'!K185+'Rozliczenie kwartalne'!K306","v":0},{"$f":"'Rozliczenie kwartalne'!L64+'Rozliczenie kwartalne'!L185+'Rozliczenie kwartalne'!L306","v":0},{"$f":"'Rozliczenie kwartalne'!M64+'Rozliczenie kwartalne'!M185+'Rozliczenie kwartalne'!M306","v":0},{"$f":"'Rozliczenie kwartalne'!N64+'Rozliczenie kwartalne'!N185+'Rozliczenie kwartalne'!N306","v":0},{"$f":"'Załącznik nr 1 do rozliczenia'!D60+'Załącznik nr 1 do rozliczenia'!D182+'Załącznik nr 1 do rozliczenia'!D304","v":0},{"$f":"'Załącznik nr 1 do rozliczenia'!E60+'Załącznik nr 1 do rozliczenia'!E182+'Załącznik nr 1 do rozliczenia'!E304","v":0},{"$f":"'Załącznik nr 1 do rozliczenia'!F60+'Załącznik nr 1 do rozliczenia'!F182+'Załącznik nr 1 do rozliczenia'!F304","v":0},{"$f":"'Załącznik nr 2 do rozliczenia'!D57","v":0},{"$f":"'Załącznik nr 2 do rozliczenia'!E57+'Załącznik nr 2 do rozliczenia'!E178+'Załącznik nr 2 do rozliczenia'!E299","v":0},{"$f":"'Załącznik nr 2 do rozliczenia'!H57+'Załącznik nr 2 do rozliczenia'!H178+'Załącznik nr 2 do rozliczenia'!H299","v":0}]
[30,{"$f":"'Załącznik nr 1 do rozliczenia'!B61","v":""},{"$f":"'Rozliczenie kwartalne'!C65+'Rozliczenie kwartalne'!C186+'Rozliczenie kwartalne'!C307","v":0},{"$f":"'Rozliczenie kwartalne'!D65+'Rozliczenie kwartalne'!D186+'Rozliczenie kwartalne'!D307","v":0},0,{"$f":"'Rozliczenie kwartalne'!F65+'Rozliczenie kwartalne'!F186+'Rozliczenie kwartalne'!F307","v":0},0,0,{"$f":"'Rozliczenie kwartalne'!I186+'Rozliczenie kwartalne'!I65+'Rozliczenie kwartalne'!I307","v":0},{"$f":"'Rozliczenie kwartalne'!J65+'Rozliczenie kwartalne'!J186+'Rozliczenie kwartalne'!J307","v":0},{"$f":"'Rozliczenie kwartalne'!K65+'Rozliczenie kwartalne'!K186+'Rozliczenie kwartalne'!K307","v":0},{"$f":"'Rozliczenie kwartalne'!L65+'Rozliczenie kwartalne'!L186+'Rozliczenie kwartalne'!L307","v":0},{"$f":"'Rozliczenie kwartalne'!M65+'Rozliczenie kwartalne'!M186+'Rozliczenie kwartalne'!M307","v":0},{"$f":"'Rozliczenie kwartalne'!N65+'Rozliczenie kwartalne'!N186+'Rozliczenie kwartalne'!N307","v":0},{"$f":"'Załącznik nr 1 do rozliczenia'!D61+'Załącznik nr 1 do rozliczenia'!D183+'Załącznik nr 1 do rozliczenia'!D305","v":0},{"$f":"'Załącznik nr 1 do rozliczenia'!E61+'Załącznik nr 1 do rozliczenia'!E183+'Załącznik nr 1 do rozliczenia'!E305","v":0},{"$f":"'Załącznik nr 1 do rozliczenia'!F61+'Załącznik nr 1 do rozliczenia'!F183+'Załącznik nr 1 do rozliczenia'!F305","v":0},{"$f":"'Załącznik nr 2 do rozliczenia'!D58","v":0},{"$f":"'Załącznik nr 2 do rozliczenia'!E58+'Załącznik nr 2 do rozliczenia'!E179+'Załącznik nr 2 do rozliczenia'!E300","v":0},{"$f":"'Załącznik nr 2 do rozliczenia'!H58+'Załącznik nr 2 do rozliczenia'!H179+'Załącznik nr 2 do rozliczenia'!H300","v":0}]
[31,{"$f":"'Załącznik nr 1 do rozliczenia'!B62","v":""},{"$f":"'Rozliczenie kwartalne'!C66+'Rozliczenie kwartalne'!C187+'Rozliczenie kwartalne'!C308","v":0},{"$f":"'Rozliczenie kwartalne'!D66+'Rozliczenie kwartalne'!D187+'Rozliczenie kwartalne'!D308","v":0},0,{"$f":"'Rozliczenie kwartalne'!F66+'Rozliczenie kwartalne'!F187+'Rozliczenie kwartalne'!F308","v":0},0,0,{"$f":"'Rozliczenie kwartalne'!I187+'Rozliczenie kwartalne'!I66+'Rozliczenie kwartalne'!I308","v":0},{"$f":"'Rozliczenie kwartalne'!J66+'Rozliczenie kwartalne'!J187+'Rozliczenie kwartalne'!J308","v":0},{"$f":"'Rozliczenie kwartalne'!K66+'Rozliczenie kwartalne'!K187+'Rozliczenie kwartalne'!K308","v":0},{"$f":"'Rozliczenie kwartalne'!L66+'Rozliczenie kwartalne'!L187+'Rozliczenie kwartalne'!L308","v":0},{"$f":"'Rozliczenie kwartalne'!M66+'Rozliczenie kwartalne'!M187+'Rozliczenie kwartalne'!M308","v":0},{"$f":"'Rozliczenie kwartalne'!N66+'Rozliczenie kwartalne'!N187+'Rozliczenie kwartalne'!N308","v":0},{"$f":"'Załącznik nr 1 do rozliczenia'!D62+'Załącznik nr 1 do rozliczenia'!D184+'Załącznik nr 1 do rozliczenia'!D306","v":0},{"$f":"'Załącznik nr 1 do rozliczenia'!E62+'Załącznik nr 1 do rozliczenia'!E184+'Załącznik nr 1 do rozliczenia'!E306","v":0},{"$f":"'Załącznik nr 1 do rozliczenia'!F62+'Załącznik nr 1 do rozliczenia'!F184+'Załącznik nr 1 do rozliczenia'!F306","v":0},{"$f":"'Załącznik nr 2 do rozliczenia'!D59","v":0},{"$f":"'Załącznik nr 2 do rozliczenia'!E59+'Załącznik nr 2 do rozliczenia'!E180+'Załącznik nr 2 do rozliczenia'!E301","v":0},{"$f":"'Załącznik nr 2 do rozliczenia'!H59+'Załącznik nr 2 do rozliczenia'!H180+'Załącznik nr 2 do rozliczenia'!H301","v":0}]
[32,{"$f":"'Załącznik nr 1 do rozliczenia'!B63","v":""},{"$f":"'Rozliczenie kwartalne'!C67+'Rozliczenie kwartalne'!C188+'Rozliczenie kwartalne'!C309","v":0},{"$f":"'Rozliczenie kwartalne'!D67+'Rozliczenie kwartalne'!D188+'Rozliczenie kwartalne'!D309","v":0},0,{"$f":"'Rozliczenie kwartalne'!F67+'Rozliczenie kwartalne'!F188+'Rozliczenie kwartalne'!F309","v":0},0,0,{"$f":"'Rozliczenie kwartalne'!I188+'Rozliczenie kwartalne'!I67+'Rozliczenie kwartalne'!I309","v":0},{"$f":"'Rozliczenie kwartalne'!J67+'Rozliczenie kwartalne'!J188+'Rozliczenie kwartalne'!J309","v":0},{"$f":"'Rozliczenie kwartalne'!K67+'Rozliczenie kwartalne'!K188+'Rozliczenie kwartalne'!K309","v":0},{"$f":"'Rozliczenie kwartalne'!L67+'Rozliczenie kwartalne'!L188+'Rozliczenie kwartalne'!L309","v":0},{"$f":"'Rozliczenie kwartalne'!M67+'Rozliczenie kwartalne'!M188+'Rozliczenie kwartalne'!M309","v":0},{"$f":"'Rozliczenie kwartalne'!N67+'Rozliczenie kwartalne'!N188+'Rozliczenie kwartalne'!N309","v":0},{"$f":"'Załącznik nr 1 do rozliczenia'!D63+'Załącznik nr 1 do rozliczenia'!D185+'Załącznik nr 1 do rozliczenia'!D307","v":0},{"$f":"'Załącznik nr 1 do rozliczenia'!E63+'Załącznik nr 1 do rozliczenia'!E185+'Załącznik nr 1 do rozliczenia'!E307","v":0},{"$f":"'Załącznik nr 1 do rozliczenia'!F63+'Załącznik nr 1 do rozliczenia'!F185+'Załącznik nr 1 do rozliczenia'!F307","v":0},{"$f":"'Załącznik nr 2 do rozliczenia'!D60","v":0},{"$f":"'Załącznik nr 2 do rozliczenia'!E60+'Załącznik nr 2 do rozliczenia'!E181+'Załącznik nr 2 do rozliczenia'!E302","v":0},{"$f":"'Załącznik nr 2 do rozliczenia'!H60+'Załącznik nr 2 do rozliczenia'!H181+'Załącznik nr 2 do rozliczenia'!H302","v":0}]
[33,{"$f":"'Załącznik nr 1 do rozliczenia'!B64","v":""},{"$f":"'Rozliczenie kwartalne'!C68+'Rozliczenie kwartalne'!C189+'Rozliczenie kwartalne'!C310","v":0},{"$f":"'Rozliczenie kwartalne'!D68+'Rozliczenie kwartalne'!D189+'Rozliczenie kwartalne'!D310","v":0},0,{"$f":"'Rozliczenie kwartalne'!F68+'Rozliczenie kwartalne'!F189+'Rozliczenie kwartalne'!F310","v":0},0,0,{"$f":"'Rozliczenie kwartalne'!I189+'Rozliczenie kwartalne'!I68+'Rozliczenie kwartalne'!I310","v":0},{"$f":"'Rozliczenie kwartalne'!J68+'Rozliczenie kwartalne'!J189+'Rozliczenie kwartalne'!J310","v":0},{"$f":"'Rozliczenie kwartalne'!K68+'Rozliczenie kwartalne'!K189+'Rozliczenie kwartalne'!K310","v":0},{"$f":"'Rozliczenie kwartalne'!L68+'Rozliczenie kwartalne'!L189+'Rozliczenie kwartalne'!L310","v":0},{"$f":"'Rozliczenie kwartalne'!M68+'Rozliczenie kwartalne'!M189+'Rozliczenie kwartalne'!M310","v":0},{"$f":"'Rozliczenie kwartalne'!N68+'Rozliczenie kwartalne'!N189+'Rozliczenie kwartalne'!N310","v":0},{"$f":"'Załącznik nr 1 do rozliczenia'!D64+'Załącznik nr 1 do rozliczenia'!D186+'Załącznik nr 1 do rozliczenia'!D308","v":0},{"$f":"'Załącznik nr 1 do rozliczenia'!E64+'Załącznik nr 1 do rozliczenia'!E186+'Załącznik nr 1 do rozliczenia'!E308","v":0},{"$f":"'Załącznik nr 1 do rozliczenia'!F64+'Załącznik nr 1 do rozliczenia'!F186+'Załącznik nr 1 do rozliczenia'!F308","v":0},{"$f":"'Załącznik nr 2 do rozliczenia'!D61","v":0},{"$f":"'Załącznik nr 2 do rozliczenia'!E61+'Załącznik nr 2 do rozliczenia'!E182+'Załącznik nr 2 do rozliczenia'!E303","v":0},{"$f":"'Załącznik nr 2 do rozliczenia'!H61+'Załącznik nr 2 do rozliczenia'!H182+'Załącznik nr 2 do rozliczenia'!H303","v":0}]
[34,{"$f":"'Załącznik nr 1 do rozliczenia'!B65","v":""},{"$f":"'Rozliczenie kwartalne'!C69+'Rozliczenie kwartalne'!C190+'Rozliczenie kwartalne'!C311","v":0},{"$f":"'Rozliczenie kwartalne'!D69+'Rozliczenie kwartalne'!D190+'Rozliczenie kwartalne'!D311","v":0},0,{"$f":"'Rozliczenie kwartalne'!F69+'Rozliczenie kwartalne'!F190+'Rozliczenie kwartalne'!F311","v":0},0,0,{"$f":"'Rozliczenie kwartalne'!I190+'Rozliczenie kwartalne'!I69+'Rozliczenie kwartalne'!I311","v":0},{"$f":"'Rozliczenie kwartalne'!J69+'Rozliczenie kwartalne'!J190+'Rozliczenie kwartalne'!J311","v":0},{"$f":"'Rozliczenie kwartalne'!K69+'Rozliczenie kwartalne'!K190+'Rozliczenie kwartalne'!K311","v":0},{"$f":"'Rozliczenie kwartalne'!L69+'Rozliczenie kwartalne'!L190+'Rozliczenie kwartalne'!L311","v":0},{"$f":"'Rozliczenie kwartalne'!M69+'Rozliczenie kwartalne'!M190+'Rozliczenie kwartalne'!M311","v":0},{"$f":"'Rozliczenie kwartalne'!N69+'Rozliczenie kwartalne'!N190+'Rozliczenie kwartalne'!N311","v":0},{"$f":"'Załącznik nr 1 do rozliczenia'!D65+'Załącznik nr 1 do rozliczenia'!D187+'Załącznik nr 1 do rozliczenia'!D309","v":0},{"$f":"'Załącznik nr 1 do rozliczenia'!E65+'Załącznik nr 1 do rozliczenia'!E187+'Załącznik nr 1 do rozliczenia'!E309","v":0},{"$f":"'Załącznik nr 1 do rozliczenia'!F65+'Załącznik nr 1 do rozliczenia'!F187+'Załącznik nr 1 do rozliczenia'!F309","v":0},{"$f":"'Załącznik nr 2 do rozliczenia'!D62","v":0},{"$f":"'Załącznik nr 2 do rozliczenia'!E62+'Załącznik nr 2 do rozliczenia'!E183+'Załącznik nr 2 do rozliczenia'!E304","v":0},{"$f":"'Załącznik nr 2 do rozliczenia'!H62+'Załącznik nr 2 do rozliczenia'!H183+'Załącznik nr 2 do rozliczenia'!H304","v":0}]
[35,{"$f":"'Załącznik nr 1 do rozliczenia'!B66","v":""},{"$f":"'Rozliczenie kwartalne'!C70+'Rozliczenie kwartalne'!C191+'Rozliczenie kwartalne'!C312","v":0},{"$f":"'Rozliczenie kwartalne'!D70+'Rozliczenie kwartalne'!D191+'Rozliczenie kwartalne'!D312","v":0},0,{"$f":"'Rozliczenie kwartalne'!F70+'Rozliczenie kwartalne'!F191+'Rozliczenie kwartalne'!F312","v":0},0,0,{"$f":"'Rozliczenie kwartalne'!I191+'Rozliczenie kwartalne'!I70+'Rozliczenie kwartalne'!I312","v":0},{"$f":"'Rozliczenie kwartalne'!J70+'Rozliczenie kwartalne'!J191+'Rozliczenie kwartalne'!J312","v":0},{"$f":"'Rozliczenie kwartalne'!K70+'Rozliczenie kwartalne'!K191+'Rozliczenie kwartalne'!K312","v":0},{"$f":"'Rozliczenie kwartalne'!L70+'Rozliczenie kwartalne'!L191+'Rozliczenie kwartalne'!L312","v":0},{"$f":"'Rozliczenie kwartalne'!M70+'Rozliczenie kwartalne'!M191+'Rozliczenie kwartalne'!M312","v":0},{"$f":"'Rozliczenie kwartalne'!N70+'Rozliczenie kwartalne'!N191+'Rozliczenie kwartalne'!N312","v":0},{"$f":"'Załącznik nr 1 do rozliczenia'!D66+'Załącznik nr 1 do rozliczenia'!D188+'Załącznik nr 1 do rozliczenia'!D310","v":0},{"$f":"'Załącznik nr 1 do rozliczenia'!E66+'Załącznik nr 1 do rozliczenia'!E188+'Załącznik nr 1 do rozliczenia'!E310","v":0},{"$f":"'Załącznik nr 1 do rozliczenia'!F66+'Załącznik nr 1 do rozliczenia'!F188+'Załącznik nr 1 do rozliczenia'!F310","v":0},{"$f":"'Załącznik nr 2 do rozliczenia'!D63","v":0},{"$f":"'Załącznik nr 2 do rozliczenia'!E63+'Załącznik nr 2 do rozliczenia'!E184+'Załącznik nr 2 do rozliczenia'!E305","v":0},{"$f":"'Załącznik nr 2 do rozliczenia'!H63+'Załącznik nr 2 do rozliczenia'!H184+'Załącznik nr 2 do rozliczenia'!H305","v":0}]
[36,{"$f":"'Załącznik nr 1 do rozliczenia'!B67","v":""},{"$f":"'Rozliczenie kwartalne'!C71+'Rozliczenie kwartalne'!C192+'Rozliczenie kwartalne'!C313","v":0},{"$f":"'Rozliczenie kwartalne'!D71+'Rozliczenie kwartalne'!D192+'Rozliczenie kwartalne'!D313","v":0},0,{"$f":"'Rozliczenie kwartalne'!F71+'Rozliczenie kwartalne'!F192+'Rozliczenie kwartalne'!F313","v":0},0,0,{"$f":"'Rozliczenie kwartalne'!I192+'Rozliczenie kwartalne'!I71+'Rozliczenie kwartalne'!I313","v":0},{"$f":"'Rozliczenie kwartalne'!J71+'Rozliczenie kwartalne'!J192+'Rozliczenie kwartalne'!J313","v":0},{"$f":"'Rozliczenie kwartalne'!K71+'Rozliczenie kwartalne'!K192+'Rozliczenie kwartalne'!K313","v":0},{"$f":"'Rozliczenie kwartalne'!L71+'Rozliczenie kwartalne'!L192+'Rozliczenie kwartalne'!L313","v":0},{"$f":"'Rozliczenie kwartalne'!M71+'Rozliczenie kwartalne'!M192+'Rozliczenie kwartalne'!M313","v":0},{"$f":"'Rozliczenie kwartalne'!N71+'Rozliczenie kwartalne'!N192+'Rozliczenie kwartalne'!N313","v":0},{"$f":"'Załącznik nr 1 do rozliczenia'!D67+'Załącznik nr 1 do rozliczenia'!D189+'Załącznik nr 1 do rozliczenia'!D311","v":0},{"$f":"'Załącznik nr 1 do rozliczenia'!E67+'Załącznik nr 1 do rozliczenia'!E189+'Załącznik nr 1 do rozliczenia'!E311","v":0},{"$f":"'Załącznik nr 1 do rozliczenia'!F67+'Załącznik nr 1 do rozliczenia'!F189+'Załącznik nr 1 do rozliczenia'!F311","v":0},{"$f":"'Załącznik nr 2 do rozliczenia'!D64","v":0},{"$f":"'Załącznik nr 2 do rozliczenia'!E64+'Załącznik nr 2 do rozliczenia'!E185+'Załącznik nr 2 do rozliczenia'!E306","v":0},{"$f":"'Załącznik nr 2 do rozliczenia'!H64+'Załącznik nr 2 do rozliczenia'!H185+'Załącznik nr 2 do rozliczenia'!H306","v":0}]
[37,{"$f":"'Załącznik nr 1 do rozliczenia'!B68","v":""},{"$f":"'Rozliczenie kwartalne'!C72+'Rozliczenie kwartalne'!C193+'Rozliczenie kwartalne'!C314","v":0},{"$f":"'Rozliczenie kwartalne'!D72+'Rozliczenie kwartalne'!D193+'Rozliczenie kwartalne'!D314","v":0},0,{"$f":"'Rozliczenie kwartalne'!F72+'Rozliczenie kwartalne'!F193+'Rozliczenie kwartalne'!F314","v":0},0,0,{"$f":"'Rozliczenie kwartalne'!I193+'Rozliczenie kwartalne'!I72+'Rozliczenie kwartalne'!I314","v":0},{"$f":"'Rozliczenie kwartalne'!J72+'Rozliczenie kwartalne'!J193+'Rozliczenie kwartalne'!J314","v":0},{"$f":"'Rozliczenie kwartalne'!K72+'Rozliczenie kwartalne'!K193+'Rozliczenie kwartalne'!K314","v":0},{"$f":"'Rozliczenie kwartalne'!L72+'Rozliczenie kwartalne'!L193+'Rozliczenie kwartalne'!L314","v":0},{"$f":"'Rozliczenie kwartalne'!M72+'Rozliczenie kwartalne'!M193+'Rozliczenie kwartalne'!M314","v":0},{"$f":"'Rozliczenie kwartalne'!N72+'Rozliczenie kwartalne'!N193+'Rozliczenie kwartalne'!N314","v":0},{"$f":"'Załącznik nr 1 do rozliczenia'!D68+'Załącznik nr 1 do rozliczenia'!D190+'Załącznik nr 1 do rozliczenia'!D312","v":0},{"$f":"'Załącznik nr 1 do rozliczenia'!E68+'Załącznik nr 1 do rozliczenia'!E190+'Załącznik nr 1 do rozliczenia'!E312","v":0},{"$f":"'Załącznik nr 1 do rozliczenia'!F68+'Załącznik nr 1 do rozliczenia'!F190+'Załącznik nr 1 do rozliczenia'!F312","v":0},{"$f":"'Załącznik nr 2 do rozliczenia'!D65","v":0},{"$f":"'Załącznik nr 2 do rozliczenia'!E65+'Załącznik nr 2 do rozliczenia'!E186+'Załącznik nr 2 do rozliczenia'!E307","v":0},{"$f":"'Załącznik nr 2 do rozliczenia'!H65+'Załącznik nr 2 do rozliczenia'!H186+'Załącznik nr 2 do rozliczenia'!H307","v":0}]
[38,{"$f":"'Załącznik nr 1 do rozliczenia'!B69","v":""},{"$f":"'Rozliczenie kwartalne'!C73+'Rozliczenie kwartalne'!C194+'Rozliczenie kwartalne'!C315","v":0},{"$f":"'Rozliczenie kwartalne'!D73+'Rozliczenie kwartalne'!D194+'Rozliczenie kwartalne'!D315","v":0},0,{"$f":"'Rozliczenie kwartalne'!F73+'Rozliczenie kwartalne'!F194+'Rozliczenie kwartalne'!F315","v":0},0,0,{"$f":"'Rozliczenie kwartalne'!I194+'Rozliczenie kwartalne'!I73+'Rozliczenie kwartalne'!I315","v":0},{"$f":"'Rozliczenie kwartalne'!J73+'Rozliczenie kwartalne'!J194+'Rozliczenie kwartalne'!J315","v":0},{"$f":"'Rozliczenie kwartalne'!K73+'Rozliczenie kwartalne'!K194+'Rozliczenie kwartalne'!K315","v":0},{"$f":"'Rozliczenie kwartalne'!L73+'Rozliczenie kwartalne'!L194+'Rozliczenie kwartalne'!L315","v":0},{"$f":"'Rozliczenie kwartalne'!M73+'Rozliczenie kwartalne'!M194+'Rozliczenie kwartalne'!M315","v":0},{"$f":"'Rozliczenie kwartalne'!N73+'Rozliczenie kwartalne'!N194+'Rozliczenie kwartalne'!N315","v":0},{"$f":"'Załącznik nr 1 do rozliczenia'!D69+'Załącznik nr 1 do rozliczenia'!D191+'Załącznik nr 1 do rozliczenia'!D313","v":0},{"$f":"'Załącznik nr 1 do rozliczenia'!E69+'Załącznik nr 1 do rozliczenia'!E191+'Załącznik nr 1 do rozliczenia'!E313","v":0},{"$f":"'Załącznik nr 1 do rozliczenia'!F69+'Załącznik nr 1 do rozliczenia'!F191+'Załącznik nr 1 do rozliczenia'!F313","v":0},{"$f":"'Załącznik nr 2 do rozliczenia'!D66","v":0},{"$f":"'Załącznik nr 2 do rozliczenia'!E66+'Załącznik nr 2 do rozliczenia'!E187+'Załącznik nr 2 do rozliczenia'!E308","v":0},{"$f":"'Załącznik nr 2 do rozliczenia'!H66+'Załącznik nr 2 do rozliczenia'!H187+'Załącznik nr 2 do rozliczenia'!H308","v":0}]
[39,{"$f":"'Załącznik nr 1 do rozliczenia'!B70","v":""},{"$f":"'Rozliczenie kwartalne'!C74+'Rozliczenie kwartalne'!C195+'Rozliczenie kwartalne'!C316","v":0},{"$f":"'Rozliczenie kwartalne'!D74+'Rozliczenie kwartalne'!D195+'Rozliczenie kwartalne'!D316","v":0},0,{"$f":"'Rozliczenie kwartalne'!F74+'Rozliczenie kwartalne'!F195+'Rozliczenie kwartalne'!F316","v":0},0,0,{"$f":"'Rozliczenie kwartalne'!I195+'Rozliczenie kwartalne'!I74+'Rozliczenie kwartalne'!I316","v":0},{"$f":"'Rozliczenie kwartalne'!J74+'Rozliczenie kwartalne'!J195+'Rozliczenie kwartalne'!J316","v":0},{"$f":"'Rozliczenie kwartalne'!K74+'Rozliczenie kwartalne'!K195+'Rozliczenie kwartalne'!K316","v":0},{"$f":"'Rozliczenie kwartalne'!L74+'Rozliczenie kwartalne'!L195+'Rozliczenie kwartalne'!L316","v":0},{"$f":"'Rozliczenie kwartalne'!M74+'Rozliczenie kwartalne'!M195+'Rozliczenie kwartalne'!M316","v":0},{"$f":"'Rozliczenie kwartalne'!N74+'Rozliczenie kwartalne'!N195+'Rozliczenie kwartalne'!N316","v":0},{"$f":"'Załącznik nr 1 do rozliczenia'!D70+'Załącznik nr 1 do rozliczenia'!D192+'Załącznik nr 1 do rozliczenia'!D314","v":0},{"$f":"'Załącznik nr 1 do rozliczenia'!E70+'Załącznik nr 1 do rozliczenia'!E192+'Załącznik nr 1 do rozliczenia'!E314","v":0},{"$f":"'Załącznik nr 1 do rozliczenia'!F70+'Załącznik nr 1 do rozliczenia'!F192+'Załącznik nr 1 do rozliczenia'!F314","v":0},{"$f":"'Załącznik nr 2 do rozliczenia'!D67","v":0},{"$f":"'Załącznik nr 2 do rozliczenia'!E67+'Załącznik nr 2 do rozliczenia'!E188+'Załącznik nr 2 do rozliczenia'!E309","v":0},{"$f":"'Załącznik nr 2 do rozliczenia'!H67+'Załącznik nr 2 do rozliczenia'!H188+'Załącznik nr 2 do rozliczenia'!H309","v":0}]
[40,{"$f":"'Załącznik nr 1 do rozliczenia'!B71","v":""},{"$f":"'Rozliczenie kwartalne'!C75+'Rozliczenie kwartalne'!C196+'Rozliczenie kwartalne'!C317","v":0},{"$f":"'Rozliczenie kwartalne'!D75+'Rozliczenie kwartalne'!D196+'Rozliczenie kwartalne'!D317","v":0},0,{"$f":"'Rozliczenie kwartalne'!F75+'Rozliczenie kwartalne'!F196+'Rozliczenie kwartalne'!F317","v":0},0,0,{"$f":"'Rozliczenie kwartalne'!I196+'Rozliczenie kwartalne'!I75+'Rozliczenie kwartalne'!I317","v":0},{"$f":"'Rozliczenie kwartalne'!J75+'Rozliczenie kwartalne'!J196+'Rozliczenie kwartalne'!J317","v":0},{"$f":"'Rozliczenie kwartalne'!K75+'Rozliczenie kwartalne'!K196+'Rozliczenie kwartalne'!K317","v":0},{"$f":"'Rozliczenie kwartalne'!L75+'Rozliczenie kwartalne'!L196+'Rozliczenie kwartalne'!L317","v":0},{"$f":"'Rozliczenie kwartalne'!M75+'Rozliczenie kwartalne'!M196+'Rozliczenie kwartalne'!M317","v":0},{"$f":"'Rozliczenie kwartalne'!N75+'Rozliczenie kwartalne'!N196+'Rozliczenie kwartalne'!N317","v":0},{"$f":"'Załącznik nr 1 do rozliczenia'!D71+'Załącznik nr 1 do rozliczenia'!D193+'Załącznik nr 1 do rozliczenia'!D315","v":0},{"$f":"'Załącznik nr 1 do rozliczenia'!E71+'Załącznik nr 1 do rozliczenia'!E193+'Załącznik nr 1 do rozliczenia'!E315","v":0},{"$f":"'Załącznik nr 1 do rozliczenia'!F71+'Załącznik nr 1 do rozliczenia'!F193+'Załącznik nr 1 do rozliczenia'!F315","v":0},{"$f":"'Załącznik nr 2 do rozliczenia'!D68","v":0},{"$f":"'Załącznik nr 2 do rozliczenia'!E68+'Załącznik nr 2 do rozliczenia'!E189+'Załącznik nr 2 do rozliczenia'!E310","v":0},{"$f":"'Załącznik nr 2 do rozliczenia'!H68+'Załącznik nr 2 do rozliczenia'!H189+'Załącznik nr 2 do rozliczenia'!H310","v":0}]
[41,{"$f":"'Załącznik nr 1 do rozliczenia'!B72","v":""},{"$f":"'Rozliczenie kwartalne'!C76+'Rozliczenie kwartalne'!C197+'Rozliczenie kwartalne'!C318","v":0},{"$f":"'Rozliczenie kwartalne'!D76+'Rozliczenie kwartalne'!D197+'Rozliczenie kwartalne'!D318","v":0},0,{"$f":"'Rozliczenie kwartalne'!F76+'Rozliczenie kwartalne'!F197+'Rozliczenie kwartalne'!F318","v":0},0,0,{"$f":"'Rozliczenie kwartalne'!I197+'Rozliczenie kwartalne'!I76+'Rozliczenie kwartalne'!I318","v":0},{"$f":"'Rozliczenie kwartalne'!J76+'Rozliczenie kwartalne'!J197+'Rozliczenie kwartalne'!J318","v":0},{"$f":"'Rozliczenie kwartalne'!K76+'Rozliczenie kwartalne'!K197+'Rozliczenie kwartalne'!K318","v":0},{"$f":"'Rozliczenie kwartalne'!L76+'Rozliczenie kwartalne'!L197+'Rozliczenie kwartalne'!L318","v":0},{"$f":"'Rozliczenie kwartalne'!M76+'Rozliczenie kwartalne'!M197+'Rozliczenie kwartalne'!M318","v":0},{"$f":"'Rozliczenie kwartalne'!N76+'Rozliczenie kwartalne'!N197+'Rozliczenie kwartalne'!N318","v":0},{"$f":"'Załącznik nr 1 do rozliczenia'!D72+'Załącznik nr 1 do rozliczenia'!D194+'Załącznik nr 1 do rozliczenia'!D316","v":0},{"$f":"'Załącznik nr 1 do rozliczenia'!E72+'Załącznik nr 1 do rozliczenia'!E194+'Załącznik nr 1 do rozliczenia'!E316","v":0},{"$f":"'Załącznik nr 1 do rozliczenia'!F72+'Załącznik nr 1 do rozliczenia'!F194+'Załącznik nr 1 do rozliczenia'!F316","v":0},{"$f":"'Załącznik nr 2 do rozliczenia'!D69","v":0},{"$f":"'Załącznik nr 2 do rozliczenia'!E69+'Załącznik nr 2 do rozliczenia'!E190+'Załącznik nr 2 do rozliczenia'!E311","v":0},{"$f":"'Załącznik nr 2 do rozliczenia'!H69+'Załącznik nr 2 do rozliczenia'!H190+'Załącznik nr 2 do rozliczenia'!H311","v":0}]
[42,{"$f":"'Załącznik nr 1 do rozliczenia'!B73","v":""},{"$f":"'Rozliczenie kwartalne'!C77+'Rozliczenie kwartalne'!C198+'Rozliczenie kwartalne'!C319","v":0},{"$f":"'Rozliczenie kwartalne'!D77+'Rozliczenie kwartalne'!D198+'Rozliczenie kwartalne'!D319","v":0},0,{"$f":"'Rozliczenie kwartalne'!F77+'Rozliczenie kwartalne'!F198+'Rozliczenie kwartalne'!F319","v":0},0,0,{"$f":"'Rozliczenie kwartalne'!I198+'Rozliczenie kwartalne'!I77+'Rozliczenie kwartalne'!I319","v":0},{"$f":"'Rozliczenie kwartalne'!J77+'Rozliczenie kwartalne'!J198+'Rozliczenie kwartalne'!J319","v":0},{"$f":"'Rozliczenie kwartalne'!K77+'Rozliczenie kwartalne'!K198+'Rozliczenie kwartalne'!K319","v":0},{"$f":"'Rozliczenie kwartalne'!L77+'Rozliczenie kwartalne'!L198+'Rozliczenie kwartalne'!L319","v":0},{"$f":"'Rozliczenie kwartalne'!M77+'Rozliczenie kwartalne'!M198+'Rozliczenie kwartalne'!M319","v":0},{"$f":"'Rozliczenie kwartalne'!N77+'Rozliczenie kwartalne'!N198+'Rozliczenie kwartalne'!N319","v":0},{"$f":"'Załącznik nr 1 do rozliczenia'!D73+'Załącznik nr 1 do rozliczenia'!D195+'Załącznik nr 1 do rozliczenia'!D317","v":0},{"$f":"'Załącznik nr 1 do rozliczenia'!E73+'Załącznik nr 1 do rozliczenia'!E195+'Załącznik nr 1 do rozliczenia'!E317","v":0},{"$f":"'Załącznik nr 1 do rozliczenia'!F73+'Załącznik nr 1 do rozliczenia'!F195+'Załącznik nr 1 do rozliczenia'!F317","v":0},{"$f":"'Załącznik nr 2 do rozliczenia'!D70","v":0},{"$f":"'Załącznik nr 2 do rozliczenia'!E70+'Załącznik nr 2 do rozliczenia'!E191+'Załącznik nr 2 do rozliczenia'!E312","v":0},{"$f":"'Załącznik nr 2 do rozliczenia'!H70+'Załącznik nr 2 do rozliczenia'!H191+'Załącznik nr 2 do rozliczenia'!H312","v":0}]
[43,{"$f":"'Załącznik nr 1 do rozliczenia'!B74","v":""},{"$f":"'Rozliczenie kwartalne'!C78+'Rozliczenie kwartalne'!C199+'Rozliczenie kwartalne'!C320","v":0},{"$f":"'Rozliczenie kwartalne'!D78+'Rozliczenie kwartalne'!D199+'Rozliczenie kwartalne'!D320","v":0},0,{"$f":"'Rozliczenie kwartalne'!F78+'Rozliczenie kwartalne'!F199+'Rozliczenie kwartalne'!F320","v":0},0,0,{"$f":"'Rozliczenie kwartalne'!I199+'Rozliczenie kwartalne'!I78+'Rozliczenie kwartalne'!I320","v":0},{"$f":"'Rozliczenie kwartalne'!J78+'Rozliczenie kwartalne'!J199+'Rozliczenie kwartalne'!J320","v":0},{"$f":"'Rozliczenie kwartalne'!K78+'Rozliczenie kwartalne'!K199+'Rozliczenie kwartalne'!K320","v":0},{"$f":"'Rozliczenie kwartalne'!L78+'Rozliczenie kwartalne'!L199+'Rozliczenie kwartalne'!L320","v":0},{"$f":"'Rozliczenie kwartalne'!M78+'Rozliczenie kwartalne'!M199+'Rozliczenie kwartalne'!M320","v":0},{"$f":"'Rozliczenie kwartalne'!N78+'Rozliczenie kwartalne'!N199+'Rozliczenie kwartalne'!N320","v":0},{"$f":"'Załącznik nr 1 do rozliczenia'!D74+'Załącznik nr 1 do rozliczenia'!D196+'Załącznik nr 1 do rozliczenia'!D318","v":0},{"$f":"'Załącznik nr 1 do rozliczenia'!E74+'Załącznik nr 1 do rozliczenia'!E196+'Załącznik nr 1 do rozliczenia'!E318","v":0},{"$f":"'Załącznik nr 1 do rozliczenia'!F74+'Załącznik nr 1 do rozliczenia'!F196+'Załącznik nr 1 do rozliczenia'!F318","v":0},{"$f":"'Załącznik nr 2 do rozliczenia'!D71","v":0},{"$f":"'Załącznik nr 2 do rozliczenia'!E71+'Załącznik nr 2 do rozliczenia'!E192+'Załącznik nr 2 do rozliczenia'!E313","v":0},{"$f":"'Załącznik nr 2 do rozliczenia'!H71+'Załącznik nr 2 do rozliczenia'!H192+'Załącznik nr 2 do rozliczenia'!H313","v":0}]
[44,{"$f":"'Załącznik nr 1 do rozliczenia'!B75","v":""},{"$f":"'Rozliczenie kwartalne'!C79+'Rozliczenie kwartalne'!C200+'Rozliczenie kwartalne'!C321","v":0},{"$f":"'Rozliczenie kwartalne'!D79+'Rozliczenie kwartalne'!D200+'Rozliczenie kwartalne'!D321","v":0},0,{"$f":"'Rozliczenie kwartalne'!F79+'Rozliczenie kwartalne'!F200+'Rozliczenie kwartalne'!F321","v":0},0,0,{"$f":"'Rozliczenie kwartalne'!I200+'Rozliczenie kwartalne'!I79+'Rozliczenie kwartalne'!I321","v":0},{"$f":"'Rozliczenie kwartalne'!J79+'Rozliczenie kwartalne'!J200+'Rozliczenie kwartalne'!J321","v":0},{"$f":"'Rozliczenie kwartalne'!K79+'Rozliczenie kwartalne'!K200+'Rozliczenie kwartalne'!K321","v":0},{"$f":"'Rozliczenie kwartalne'!L79+'Rozliczenie kwartalne'!L200+'Rozliczenie kwartalne'!L321","v":0},{"$f":"'Rozliczenie kwartalne'!M79+'Rozliczenie kwartalne'!M200+'Rozliczenie kwartalne'!M321","v":0},{"$f":"'Rozliczenie kwartalne'!N79+'Rozliczenie kwartalne'!N200+'Rozliczenie kwartalne'!N321","v":0},{"$f":"'Załącznik nr 1 do rozliczenia'!D75+'Załącznik nr 1 do rozliczenia'!D197+'Załącznik nr 1 do rozliczenia'!D319","v":0},{"$f":"'Załącznik nr 1 do rozliczenia'!E75+'Załącznik nr 1 do rozliczenia'!E197+'Załącznik nr 1 do rozliczenia'!E319","v":0},{"$f":"'Załącznik nr 1 do rozliczenia'!F75+'Załącznik nr 1 do rozliczenia'!F197+'Załącznik nr 1 do rozliczenia'!F319","v":0},{"$f":"'Załącznik nr 2 do rozliczenia'!D72","v":0},{"$f":"'Załącznik nr 2 do rozliczenia'!E72+'Załącznik nr 2 do rozliczenia'!E193+'Załącznik nr 2 do rozliczenia'!E314","v":0},{"$f":"'Załącznik nr 2 do rozliczenia'!H72+'Załącznik nr 2 do rozliczenia'!H193+'Załącznik nr 2 do rozliczenia'!H314","v":0}]
[45,{"$f":"'Załącznik nr 1 do rozliczenia'!B76","v":""},{"$f":"'Rozliczenie kwartalne'!C80+'Rozliczenie kwartalne'!C201+'Rozliczenie kwartalne'!C322","v":0},{"$f":"'Rozliczenie kwartalne'!D80+'Rozliczenie kwartalne'!D201+'Rozliczenie kwartalne'!D322","v":0},0,{"$f":"'Rozliczenie kwartalne'!F80+'Rozliczenie kwartalne'!F201+'Rozliczenie kwartalne'!F322","v":0},0,0,{"$f":"'Rozliczenie kwartalne'!I201+'Rozliczenie kwartalne'!I80+'Rozliczenie kwartalne'!I322","v":0},{"$f":"'Rozliczenie kwartalne'!J80+'Rozliczenie kwartalne'!J201+'Rozliczenie kwartalne'!J322","v":0},{"$f":"'Rozliczenie kwartalne'!K80+'Rozliczenie kwartalne'!K201+'Rozliczenie kwartalne'!K322","v":0},{"$f":"'Rozliczenie kwartalne'!L80+'Rozliczenie kwartalne'!L201+'Rozliczenie kwartalne'!L322","v":0},{"$f":"'Rozliczenie kwartalne'!M80+'Rozliczenie kwartalne'!M201+'Rozliczenie kwartalne'!M322","v":0},{"$f":"'Rozliczenie kwartalne'!N80+'Rozliczenie kwartalne'!N201+'Rozliczenie kwartalne'!N322","v":0},{"$f":"'Załącznik nr 1 do rozliczenia'!D76+'Załącznik nr 1 do rozliczenia'!D198+'Załącznik nr 1 do rozliczenia'!D320","v":0},{"$f":"'Załącznik nr 1 do rozliczenia'!E76+'Załącznik nr 1 do rozliczenia'!E198+'Załącznik nr 1 do rozliczenia'!E320","v":0},{"$f":"'Załącznik nr 1 do rozliczenia'!F76+'Załącznik nr 1 do rozliczenia'!F198+'Załącznik nr 1 do rozliczenia'!F320","v":0},{"$f":"'Załącznik nr 2 do rozliczenia'!D73","v":0},{"$f":"'Załącznik nr 2 do rozliczenia'!E73+'Załącznik nr 2 do rozliczenia'!E194+'Załącznik nr 2 do rozliczenia'!E315","v":0},{"$f":"'Załącznik nr 2 do rozliczenia'!H73+'Załącznik nr 2 do rozliczenia'!H194+'Załącznik nr 2 do rozliczenia'!H315","v":0}]
[46,{"$f":"'Załącznik nr 1 do rozliczenia'!B77","v":""},{"$f":"'Rozliczenie kwartalne'!C81+'Rozliczenie kwartalne'!C202+'Rozliczenie kwartalne'!C323","v":0},{"$f":"'Rozliczenie kwartalne'!D81+'Rozliczenie kwartalne'!D202+'Rozliczenie kwartalne'!D323","v":0},0,{"$f":"'Rozliczenie kwartalne'!F81+'Rozliczenie kwartalne'!F202+'Rozliczenie kwartalne'!F323","v":0},0,0,{"$f":"'Rozliczenie kwartalne'!I202+'Rozliczenie kwartalne'!I81+'Rozliczenie kwartalne'!I323","v":0},{"$f":"'Rozliczenie kwartalne'!J81+'Rozliczenie kwartalne'!J202+'Rozliczenie kwartalne'!J323","v":0},{"$f":"'Rozliczenie kwartalne'!K81+'Rozliczenie kwartalne'!K202+'Rozliczenie kwartalne'!K323","v":0},{"$f":"'Rozliczenie kwartalne'!L81+'Rozliczenie kwartalne'!L202+'Rozliczenie kwartalne'!L323","v":0},{"$f":"'Rozliczenie kwartalne'!M81+'Rozliczenie kwartalne'!M202+'Rozliczenie kwartalne'!M323","v":0},{"$f":"'Rozliczenie kwartalne'!N81+'Rozliczenie kwartalne'!N202+'Rozliczenie kwartalne'!N323","v":0},{"$f":"'Załącznik nr 1 do rozliczenia'!D77+'Załącznik nr 1 do rozliczenia'!D199+'Załącznik nr 1 do rozliczenia'!D321","v":0},{"$f":"'Załącznik nr 1 do rozliczenia'!E77+'Załącznik nr 1 do rozliczenia'!E199+'Załącznik nr 1 do rozliczenia'!E321","v":0},{"$f":"'Załącznik nr 1 do rozliczenia'!F77+'Załącznik nr 1 do rozliczenia'!F199+'Załącznik nr 1 do rozliczenia'!F321","v":0},{"$f":"'Załącznik nr 2 do rozliczenia'!D74","v":0},{"$f":"'Załącznik nr 2 do rozliczenia'!E74+'Załącznik nr 2 do rozliczenia'!E195+'Załącznik nr 2 do rozliczenia'!E316","v":0},{"$f":"'Załącznik nr 2 do rozliczenia'!H74+'Załącznik nr 2 do rozliczenia'!H195+'Załącznik nr 2 do rozliczenia'!H316","v":0}]
[47,{"$f":"'Załącznik nr 1 do rozliczenia'!B78","v":""},{"$f":"'Rozliczenie kwartalne'!C82+'Rozliczenie kwartalne'!C203+'Rozliczenie kwartalne'!C324","v":0},{"$f":"'Rozliczenie kwartalne'!D82+'Rozliczenie kwartalne'!D203+'Rozliczenie kwartalne'!D324","v":0},0,{"$f":"'Rozliczenie kwartalne'!F82+'Rozliczenie kwartalne'!F203+'Rozliczenie kwartalne'!F324","v":0},0,0,{"$f":"'Rozliczenie kwartalne'!I203+'Rozliczenie kwartalne'!I82+'Rozliczenie kwartalne'!I324","v":0},{"$f":"'Rozliczenie kwartalne'!J82+'Rozliczenie kwartalne'!J203+'Rozliczenie kwartalne'!J324","v":0},{"$f":"'Rozliczenie kwartalne'!K82+'Rozliczenie kwartalne'!K203+'Rozliczenie kwartalne'!K324","v":0},{"$f":"'Rozliczenie kwartalne'!L82+'Rozliczenie kwartalne'!L203+'Rozliczenie kwartalne'!L324","v":0},{"$f":"'Rozliczenie kwartalne'!M82+'Rozliczenie kwartalne'!M203+'Rozliczenie kwartalne'!M324","v":0},{"$f":"'Rozliczenie kwartalne'!N82+'Rozliczenie kwartalne'!N203+'Rozliczenie kwartalne'!N324","v":0},{"$f":"'Załącznik nr 1 do rozliczenia'!D78+'Załącznik nr 1 do rozliczenia'!D200+'Załącznik nr 1 do rozliczenia'!D322","v":0},{"$f":"'Załącznik nr 1 do rozliczenia'!E78+'Załącznik nr 1 do rozliczenia'!E200+'Załącznik nr 1 do rozliczenia'!E322","v":0},{"$f":"'Załącznik nr 1 do rozliczenia'!F78+'Załącznik nr 1 do rozliczenia'!F200+'Załącznik nr 1 do rozliczenia'!F322","v":0},{"$f":"'Załącznik nr 2 do rozliczenia'!D75","v":0},{"$f":"'Załącznik nr 2 do rozliczenia'!E75+'Załącznik nr 2 do rozliczenia'!E196+'Załącznik nr 2 do rozliczenia'!E317","v":0},{"$f":"'Załącznik nr 2 do rozliczenia'!H75+'Załącznik nr 2 do rozliczenia'!H196+'Załącznik nr 2 do rozliczenia'!H317","v":0}]
[48,{"$f":"'Załącznik nr 1 do rozliczenia'!B79","v":""},{"$f":"'Rozliczenie kwartalne'!C83+'Rozliczenie kwartalne'!C204+'Rozliczenie kwartalne'!C325","v":0},{"$f":"'Rozliczenie kwartalne'!D83+'Rozliczenie kwartalne'!D204+'Rozliczenie kwartalne'!D325","v":0},0,{"$f":"'Rozliczenie kwartalne'!F83+'Rozliczenie kwartalne'!F204+'Rozliczenie kwartalne'!F325","v":0},0,0,{"$f":"'Rozliczenie kwartalne'!I204+'Rozliczenie kwartalne'!I83+'Rozliczenie kwartalne'!I325","v":0},{"$f":"'Rozliczenie kwartalne'!J83+'Rozliczenie kwartalne'!J204+'Rozliczenie kwartalne'!J325","v":0},{"$f":"'Rozliczenie kwartalne'!K83+'Rozliczenie kwartalne'!K204+'Rozliczenie kwartalne'!K325","v":0},{"$f":"'Rozliczenie kwartalne'!L83+'Rozliczenie kwartalne'!L204+'Rozliczenie kwartalne'!L325","v":0},{"$f":"'Rozliczenie kwartalne'!M83+'Rozliczenie kwartalne'!M204+'Rozliczenie kwartalne'!M325","v":0},{"$f":"'Rozliczenie kwartalne'!N83+'Rozliczenie kwartalne'!N204+'Rozliczenie kwartalne'!N325","v":0},{"$f":"'Załącznik nr 1 do rozliczenia'!D79+'Załącznik nr 1 do rozliczenia'!D201+'Załącznik nr 1 do rozliczenia'!D323","v":0},{"$f":"'Załącznik nr 1 do rozliczenia'!E79+'Załącznik nr 1 do rozliczenia'!E201+'Załącznik nr 1 do rozliczenia'!E323","v":0},{"$f":"'Załącznik nr 1 do rozliczenia'!F79+'Załącznik nr 1 do rozliczenia'!F201+'Załącznik nr 1 do rozliczenia'!F323","v":0},{"$f":"'Załącznik nr 2 do rozliczenia'!D76","v":0},{"$f":"'Załącznik nr 2 do rozliczenia'!E76+'Załącznik nr 2 do rozliczenia'!E197+'Załącznik nr 2 do rozliczenia'!E318","v":0},{"$f":"'Załącznik nr 2 do rozliczenia'!H76+'Załącznik nr 2 do rozliczenia'!H197+'Załącznik nr 2 do rozliczenia'!H318","v":0}]
[49,{"$f":"'Załącznik nr 1 do rozliczenia'!B80","v":""},{"$f":"'Rozliczenie kwartalne'!C84+'Rozliczenie kwartalne'!C205+'Rozliczenie kwartalne'!C326","v":0},{"$f":"'Rozliczenie kwartalne'!D84+'Rozliczenie kwartalne'!D205+'Rozliczenie kwartalne'!D326","v":0},0,{"$f":"'Rozliczenie kwartalne'!F84+'Rozliczenie kwartalne'!F205+'Rozliczenie kwartalne'!F326","v":0},0,0,{"$f":"'Rozliczenie kwartalne'!I205+'Rozliczenie kwartalne'!I84+'Rozliczenie kwartalne'!I326","v":0},{"$f":"'Rozliczenie kwartalne'!J84+'Rozliczenie kwartalne'!J205+'Rozliczenie kwartalne'!J326","v":0},{"$f":"'Rozliczenie kwartalne'!K84+'Rozliczenie kwartalne'!K205+'Rozliczenie kwartalne'!K326","v":0},{"$f":"'Rozliczenie kwartalne'!L84+'Rozliczenie kwartalne'!L205+'Rozliczenie kwartalne'!L326","v":0},{"$f":"'Rozliczenie kwartalne'!M84+'Rozliczenie kwartalne'!M205+'Rozliczenie kwartalne'!M326","v":0},{"$f":"'Rozliczenie kwartalne'!N84+'Rozliczenie kwartalne'!N205+'Rozliczenie kwartalne'!N326","v":0},{"$f":"'Załącznik nr 1 do rozliczenia'!D80+'Załącznik nr 1 do rozliczenia'!D202+'Załącznik nr 1 do rozliczenia'!D324","v":0},{"$f":"'Załącznik nr 1 do rozliczenia'!E80+'Załącznik nr 1 do rozliczenia'!E202+'Załącznik nr 1 do rozliczenia'!E324","v":0},{"$f":"'Załącznik nr 1 do rozliczenia'!F80+'Załącznik nr 1 do rozliczenia'!F202+'Załącznik nr 1 do rozliczenia'!F324","v":0},{"$f":"'Załącznik nr 2 do rozliczenia'!D77","v":0},{"$f":"'Załącznik nr 2 do rozliczenia'!E77+'Załącznik nr 2 do rozliczenia'!E198+'Załącznik nr 2 do rozliczenia'!E319","v":0},{"$f":"'Załącznik nr 2 do rozliczenia'!H77+'Załącznik nr 2 do rozliczenia'!H198+'Załącznik nr 2 do rozliczenia'!H319","v":0}]
[50,{"$f":"'Załącznik nr 1 do rozliczenia'!B81","v":""},{"$f":"'Rozliczenie kwartalne'!C85+'Rozliczenie kwartalne'!C206+'Rozliczenie kwartalne'!C327","v":0},{"$f":"'Rozliczenie kwartalne'!D85+'Rozliczenie kwartalne'!D206+'Rozliczenie kwartalne'!D327","v":0},0,{"$f":"'Rozliczenie kwartalne'!F85+'Rozliczenie kwartalne'!F206+'Rozliczenie kwartalne'!F327","v":0},0,0,{"$f":"'Rozliczenie kwartalne'!I206+'Rozliczenie kwartalne'!I85+'Rozliczenie kwartalne'!I327","v":0},{"$f":"'Rozliczenie kwartalne'!J85+'Rozliczenie kwartalne'!J206+'Rozliczenie kwartalne'!J327","v":0},{"$f":"'Rozliczenie kwartalne'!K85+'Rozliczenie kwartalne'!K206+'Rozliczenie kwartalne'!K327","v":0},{"$f":"'Rozliczenie kwartalne'!L85+'Rozliczenie kwartalne'!L206+'Rozliczenie kwartalne'!L327","v":0},{"$f":"'Rozliczenie kwartalne'!M85+'Rozliczenie kwartalne'!M206+'Rozliczenie kwartalne'!M327","v":0},{"$f":"'Rozliczenie kwartalne'!N85+'Rozliczenie kwartalne'!N206+'Rozliczenie kwartalne'!N327","v":0},{"$f":"'Załącznik nr 1 do rozliczenia'!D81+'Załącznik nr 1 do rozliczenia'!D203+'Załącznik nr 1 do rozliczenia'!D325","v":0},{"$f":"'Załącznik nr 1 do rozliczenia'!E81+'Załącznik nr 1 do rozliczenia'!E203+'Załącznik nr 1 do rozliczenia'!E325","v":0},{"$f":"'Załącznik nr 1 do rozliczenia'!F81+'Załącznik nr 1 do rozliczenia'!F203+'Załącznik nr 1 do rozliczenia'!F325","v":0},{"$f":"'Załącznik nr 2 do rozliczenia'!D78","v":0},{"$f":"'Załącznik nr 2 do rozliczenia'!E78+'Załącznik nr 2 do rozliczenia'!E199+'Załącznik nr 2 do rozliczenia'!E320","v":0},{"$f":"'Załącznik nr 2 do rozliczenia'!H78+'Załącznik nr 2 do rozliczenia'!H199+'Załącznik nr 2 do rozliczenia'!H320","v":0}]
[51,{"$f":"'Załącznik nr 1 do rozliczenia'!B82","v":""},{"$f":"'Rozliczenie kwartalne'!C86+'Rozliczenie kwartalne'!C207+'Rozliczenie kwartalne'!C328","v":0},{"$f":"'Rozliczenie kwartalne'!D86+'Rozliczenie kwartalne'!D207+'Rozliczenie kwartalne'!D328","v":0},0,{"$f":"'Rozliczenie kwartalne'!F86+'Rozliczenie kwartalne'!F207+'Rozliczenie kwartalne'!F328","v":0},0,0,{"$f":"'Rozliczenie kwartalne'!I207+'Rozliczenie kwartalne'!I86+'Rozliczenie kwartalne'!I328","v":0},{"$f":"'Rozliczenie kwartalne'!J86+'Rozliczenie kwartalne'!J207+'Rozliczenie kwartalne'!J328","v":0},{"$f":"'Rozliczenie kwartalne'!K86+'Rozliczenie kwartalne'!K207+'Rozliczenie kwartalne'!K328","v":0},{"$f":"'Rozliczenie kwartalne'!L86+'Rozliczenie kwartalne'!L207+'Rozliczenie kwartalne'!L328","v":0},{"$f":"'Rozliczenie kwartalne'!M86+'Rozliczenie kwartalne'!M207+'Rozliczenie kwartalne'!M328","v":0},{"$f":"'Rozliczenie kwartalne'!N86+'Rozliczenie kwartalne'!N207+'Rozliczenie kwartalne'!N328","v":0},{"$f":"'Załącznik nr 1 do rozliczenia'!D82+'Załącznik nr 1 do rozliczenia'!D204+'Załącznik nr 1 do rozliczenia'!D326","v":0},{"$f":"'Załącznik nr 1 do rozliczenia'!E82+'Załącznik nr 1 do rozliczenia'!E204+'Załącznik nr 1 do rozliczenia'!E326","v":0},{"$f":"'Załącznik nr 1 do rozliczenia'!F82+'Załącznik nr 1 do rozliczenia'!F204+'Załącznik nr 1 do rozliczenia'!F326","v":0},{"$f":"'Załącznik nr 2 do rozliczenia'!D79","v":0},{"$f":"'Załącznik nr 2 do rozliczenia'!E79+'Załącznik nr 2 do rozliczenia'!E200+'Załącznik nr 2 do rozliczenia'!E321","v":0},{"$f":"'Załącznik nr 2 do rozliczenia'!H79+'Załącznik nr 2 do rozliczenia'!H200+'Załącznik nr 2 do rozliczenia'!H321","v":0}]
[52,{"$f":"'Załącznik nr 1 do rozliczenia'!B83","v":""},{"$f":"'Rozliczenie kwartalne'!C87+'Rozliczenie kwartalne'!C208+'Rozliczenie kwartalne'!C329","v":0},{"$f":"'Rozliczenie kwartalne'!D87+'Rozliczenie kwartalne'!D208+'Rozliczenie kwartalne'!D329","v":0},0,{"$f":"'Rozliczenie kwartalne'!F87+'Rozliczenie kwartalne'!F208+'Rozliczenie kwartalne'!F329","v":0},0,0,{"$f":"'Rozliczenie kwartalne'!I208+'Rozliczenie kwartalne'!I87+'Rozliczenie kwartalne'!I329","v":0},{"$f":"'Rozliczenie kwartalne'!J87+'Rozliczenie kwartalne'!J208+'Rozliczenie kwartalne'!J329","v":0},{"$f":"'Rozliczenie kwartalne'!K87+'Rozliczenie kwartalne'!K208+'Rozliczenie kwartalne'!K329","v":0},{"$f":"'Rozliczenie kwartalne'!L87+'Rozliczenie kwartalne'!L208+'Rozliczenie kwartalne'!L329","v":0},{"$f":"'Rozliczenie kwartalne'!M87+'Rozliczenie kwartalne'!M208+'Rozliczenie kwartalne'!M329","v":0},{"$f":"'Rozliczenie kwartalne'!N87+'Rozliczenie kwartalne'!N208+'Rozliczenie kwartalne'!N329","v":0},{"$f":"'Załącznik nr 1 do rozliczenia'!D83+'Załącznik nr 1 do rozliczenia'!D205+'Załącznik nr 1 do rozliczenia'!D327","v":0},{"$f":"'Załącznik nr 1 do rozliczenia'!E83+'Załącznik nr 1 do rozliczenia'!E205+'Załącznik nr 1 do rozliczenia'!E327","v":0},{"$f":"'Załącznik nr 1 do rozliczenia'!F83+'Załącznik nr 1 do rozliczenia'!F205+'Załącznik nr 1 do rozliczenia'!F327","v":0},{"$f":"'Załącznik nr 2 do rozliczenia'!D80","v":0},{"$f":"'Załącznik nr 2 do rozliczenia'!E80+'Załącznik nr 2 do rozliczenia'!E201+'Załącznik nr 2 do rozliczenia'!E322","v":0},{"$f":"'Załącznik nr 2 do rozliczenia'!H80+'Załącznik nr 2 do rozliczenia'!H201+'Załącznik nr 2 do rozliczenia'!H322","v":0}]
[53,{"$f":"'Załącznik nr 1 do rozliczenia'!B84","v":""},{"$f":"'Rozliczenie kwartalne'!C88+'Rozliczenie kwartalne'!C209+'Rozliczenie kwartalne'!C330","v":0},{"$f":"'Rozliczenie kwartalne'!D88+'Rozliczenie kwartalne'!D209+'Rozliczenie kwartalne'!D330","v":0},0,{"$f":"'Rozliczenie kwartalne'!F88+'Rozliczenie kwartalne'!F209+'Rozliczenie kwartalne'!F330","v":0},0,0,{"$f":"'Rozliczenie kwartalne'!I209+'Rozliczenie kwartalne'!I88+'Rozliczenie kwartalne'!I330","v":0},{"$f":"'Rozliczenie kwartalne'!J88+'Rozliczenie kwartalne'!J209+'Rozliczenie kwartalne'!J330","v":0},{"$f":"'Rozliczenie kwartalne'!K88+'Rozliczenie kwartalne'!K209+'Rozliczenie kwartalne'!K330","v":0},{"$f":"'Rozliczenie kwartalne'!L88+'Rozliczenie kwartalne'!L209+'Rozliczenie kwartalne'!L330","v":0},{"$f":"'Rozliczenie kwartalne'!M88+'Rozliczenie kwartalne'!M209+'Rozliczenie kwartalne'!M330","v":0},{"$f":"'Rozliczenie kwartalne'!N88+'Rozliczenie kwartalne'!N209+'Rozliczenie kwartalne'!N330","v":0},{"$f":"'Załącznik nr 1 do rozliczenia'!D84+'Załącznik nr 1 do rozliczenia'!D206+'Załącznik nr 1 do rozliczenia'!D328","v":0},{"$f":"'Załącznik nr 1 do rozliczenia'!E84+'Załącznik nr 1 do rozliczenia'!E206+'Załącznik nr 1 do rozliczenia'!E328","v":0},{"$f":"'Załącznik nr 1 do rozliczenia'!F84+'Załącznik nr 1 do rozliczenia'!F206+'Załącznik nr 1 do rozliczenia'!F328","v":0},{"$f":"'Załącznik nr 2 do rozliczenia'!D81","v":0},{"$f":"'Załącznik nr 2 do rozliczenia'!E81+'Załącznik nr 2 do rozliczenia'!E202+'Załącznik nr 2 do rozliczenia'!E323","v":0},{"$f":"'Załącznik nr 2 do rozliczenia'!H81+'Załącznik nr 2 do rozliczenia'!H202+'Załącznik nr 2 do rozliczenia'!H323","v":0}]
[54,{"$f":"'Załącznik nr 1 do rozliczenia'!B85","v":""},{"$f":"'Rozliczenie kwartalne'!C89+'Rozliczenie kwartalne'!C210+'Rozliczenie kwartalne'!C331","v":0},{"$f":"'Rozliczenie kwartalne'!D89+'Rozliczenie kwartalne'!D210+'Rozliczenie kwartalne'!D331","v":0},0,{"$f":"'Rozliczenie kwartalne'!F89+'Rozliczenie kwartalne'!F210+'Rozliczenie kwartalne'!F331","v":0},0,0,{"$f":"'Rozliczenie kwartalne'!I210+'Rozliczenie kwartalne'!I89+'Rozliczenie kwartalne'!I331","v":0},{"$f":"'Rozliczenie kwartalne'!J89+'Rozliczenie kwartalne'!J210+'Rozliczenie kwartalne'!J331","v":0},{"$f":"'Rozliczenie kwartalne'!K89+'Rozliczenie kwartalne'!K210+'Rozliczenie kwartalne'!K331","v":0},{"$f":"'Rozliczenie kwartalne'!L89+'Rozliczenie kwartalne'!L210+'Rozliczenie kwartalne'!L331","v":0},{"$f":"'Rozliczenie kwartalne'!M89+'Rozliczenie kwartalne'!M210+'Rozliczenie kwartalne'!M331","v":0},{"$f":"'Rozliczenie kwartalne'!N89+'Rozliczenie kwartalne'!N210+'Rozliczenie kwartalne'!N331","v":0},{"$f":"'Załącznik nr 1 do rozliczenia'!D85+'Załącznik nr 1 do rozliczenia'!D207+'Załącznik nr 1 do rozliczenia'!D329","v":0},{"$f":"'Załącznik nr 1 do rozliczenia'!E85+'Załącznik nr 1 do rozliczenia'!E207+'Załącznik nr 1 do rozliczenia'!E329","v":0},{"$f":"'Załącznik nr 1 do rozliczenia'!F85+'Załącznik nr 1 do rozliczenia'!F207+'Załącznik nr 1 do rozliczenia'!F329","v":0},{"$f":"'Załącznik nr 2 do rozliczenia'!D82","v":0},{"$f":"'Załącznik nr 2 do rozliczenia'!E82+'Załącznik nr 2 do rozliczenia'!E203+'Załącznik nr 2 do rozliczenia'!E324","v":0},{"$f":"'Załącznik nr 2 do rozliczenia'!H82+'Załącznik nr 2 do rozliczenia'!H203+'Załącznik nr 2 do rozliczenia'!H324","v":0}]
[55,{"$f":"'Załącznik nr 1 do rozliczenia'!B86","v":""},{"$f":"'Rozliczenie kwartalne'!C90+'Rozliczenie kwartalne'!C211+'Rozliczenie kwartalne'!C332","v":0},{"$f":"'Rozliczenie kwartalne'!D90+'Rozliczenie kwartalne'!D211+'Rozliczenie kwartalne'!D332","v":0},0,{"$f":"'Rozliczenie kwartalne'!F90+'Rozliczenie kwartalne'!F211+'Rozliczenie kwartalne'!F332","v":0},0,0,{"$f":"'Rozliczenie kwartalne'!I211+'Rozliczenie kwartalne'!I90+'Rozliczenie kwartalne'!I332","v":0},{"$f":"'Rozliczenie kwartalne'!J90+'Rozliczenie kwartalne'!J211+'Rozliczenie kwartalne'!J332","v":0},{"$f":"'Rozliczenie kwartalne'!K90+'Rozliczenie kwartalne'!K211+'Rozliczenie kwartalne'!K332","v":0},{"$f":"'Rozliczenie kwartalne'!L90+'Rozliczenie kwartalne'!L211+'Rozliczenie kwartalne'!L332","v":0},{"$f":"'Rozliczenie kwartalne'!M90+'Rozliczenie kwartalne'!M211+'Rozliczenie kwartalne'!M332","v":0},{"$f":"'Rozliczenie kwartalne'!N90+'Rozliczenie kwartalne'!N211+'Rozliczenie kwartalne'!N332","v":0},{"$f":"'Załącznik nr 1 do rozliczenia'!D86+'Załącznik nr 1 do rozliczenia'!D208+'Załącznik nr 1 do rozliczenia'!D330","v":0},{"$f":"'Załącznik nr 1 do rozliczenia'!E86+'Załącznik nr 1 do rozliczenia'!E208+'Załącznik nr 1 do rozliczenia'!E330","v":0},{"$f":"'Załącznik nr 1 do rozliczenia'!F86+'Załącznik nr 1 do rozliczenia'!F208+'Załącznik nr 1 do rozliczenia'!F330","v":0},{"$f":"'Załącznik nr 2 do rozliczenia'!D83","v":0},{"$f":"'Załącznik nr 2 do rozliczenia'!E83+'Załącznik nr 2 do rozliczenia'!E204+'Załącznik nr 2 do rozliczenia'!E325","v":0},{"$f":"'Załącznik nr 2 do rozliczenia'!H83+'Załącznik nr 2 do rozliczenia'!H204+'Załącznik nr 2 do rozliczenia'!H325","v":0}]
[56,{"$f":"'Załącznik nr 1 do rozliczenia'!B87","v":""},{"$f":"'Rozliczenie kwartalne'!C91+'Rozliczenie kwartalne'!C212+'Rozliczenie kwartalne'!C333","v":0},{"$f":"'Rozliczenie kwartalne'!D91+'Rozliczenie kwartalne'!D212+'Rozliczenie kwartalne'!D333","v":0},0,{"$f":"'Rozliczenie kwartalne'!F91+'Rozliczenie kwartalne'!F212+'Rozliczenie kwartalne'!F333","v":0},0,0,{"$f":"'Rozliczenie kwartalne'!I212+'Rozliczenie kwartalne'!I91+'Rozliczenie kwartalne'!I333","v":0},{"$f":"'Rozliczenie kwartalne'!J91+'Rozliczenie kwartalne'!J212+'Rozliczenie kwartalne'!J333","v":0},{"$f":"'Rozliczenie kwartalne'!K91+'Rozliczenie kwartalne'!K212+'Rozliczenie kwartalne'!K333","v":0},{"$f":"'Rozliczenie kwartalne'!L91+'Rozliczenie kwartalne'!L212+'Rozliczenie kwartalne'!L333","v":0},{"$f":"'Rozliczenie kwartalne'!M91+'Rozliczenie kwartalne'!M212+'Rozliczenie kwartalne'!M333","v":0},{"$f":"'Rozliczenie kwartalne'!N91+'Rozliczenie kwartalne'!N212+'Rozliczenie kwartalne'!N333","v":0},{"$f":"'Załącznik nr 1 do rozliczenia'!D87+'Załącznik nr 1 do rozliczenia'!D209+'Załącznik nr 1 do rozliczenia'!D331","v":0},{"$f":"'Załącznik nr 1 do rozliczenia'!E87+'Załącznik nr 1 do rozliczenia'!E209+'Załącznik nr 1 do rozliczenia'!E331","v":0},{"$f":"'Załącznik nr 1 do rozliczenia'!F87+'Załącznik nr 1 do rozliczenia'!F209+'Załącznik nr 1 do rozliczenia'!F331","v":0},{"$f":"'Załącznik nr 2 do rozliczenia'!D84","v":0},{"$f":"'Załącznik nr 2 do rozliczenia'!E84+'Załącznik nr 2 do rozliczenia'!E205+'Załącznik nr 2 do rozliczenia'!E326","v":0},{"$f":"'Załącznik nr 2 do rozliczenia'!H84+'Załącznik nr 2 do rozliczenia'!H205+'Załącznik nr 2 do rozliczenia'!H326","v":0}]
[57,{"$f":"'Załącznik nr 1 do rozliczenia'!B88","v":""},{"$f":"'Rozliczenie kwartalne'!C92+'Rozliczenie kwartalne'!C213+'Rozliczenie kwartalne'!C334","v":0},{"$f":"'Rozliczenie kwartalne'!D92+'Rozliczenie kwartalne'!D213+'Rozliczenie kwartalne'!D334","v":0},0,{"$f":"'Rozliczenie kwartalne'!F92+'Rozliczenie kwartalne'!F213+'Rozliczenie kwartalne'!F334","v":0},0,0,{"$f":"'Rozliczenie kwartalne'!I213+'Rozliczenie kwartalne'!I92+'Rozliczenie kwartalne'!I334","v":0},{"$f":"'Rozliczenie kwartalne'!J92+'Rozliczenie kwartalne'!J213+'Rozliczenie kwartalne'!J334","v":0},{"$f":"'Rozliczenie kwartalne'!K92+'Rozliczenie kwartalne'!K213+'Rozliczenie kwartalne'!K334","v":0},{"$f":"'Rozliczenie kwartalne'!L92+'Rozliczenie kwartalne'!L213+'Rozliczenie kwartalne'!L334","v":0},{"$f":"'Rozliczenie kwartalne'!M92+'Rozliczenie kwartalne'!M213+'Rozliczenie kwartalne'!M334","v":0},{"$f":"'Rozliczenie kwartalne'!N92+'Rozliczenie kwartalne'!N213+'Rozliczenie kwartalne'!N334","v":0},{"$f":"'Załącznik nr 1 do rozliczenia'!D88+'Załącznik nr 1 do rozliczenia'!D210+'Załącznik nr 1 do rozliczenia'!D332","v":0},{"$f":"'Załącznik nr 1 do rozliczenia'!E88+'Załącznik nr 1 do rozliczenia'!E210+'Załącznik nr 1 do rozliczenia'!E332","v":0},{"$f":"'Załącznik nr 1 do rozliczenia'!F88+'Załącznik nr 1 do rozliczenia'!F210+'Załącznik nr 1 do rozliczenia'!F332","v":0},{"$f":"'Załącznik nr 2 do rozliczenia'!D85","v":0},{"$f":"'Załącznik nr 2 do rozliczenia'!E85+'Załącznik nr 2 do rozliczenia'!E206+'Załącznik nr 2 do rozliczenia'!E327","v":0},{"$f":"'Załącznik nr 2 do rozliczenia'!H85+'Załącznik nr 2 do rozliczenia'!H206+'Załącznik nr 2 do rozliczenia'!H327","v":0}]
[58,{"$f":"'Załącznik nr 1 do rozliczenia'!B89","v":""},{"$f":"'Rozliczenie kwartalne'!C93+'Rozliczenie kwartalne'!C214+'Rozliczenie kwartalne'!C335","v":0},{"$f":"'Rozliczenie kwartalne'!D93+'Rozliczenie kwartalne'!D214+'Rozliczenie kwartalne'!D335","v":0},0,{"$f":"'Rozliczenie kwartalne'!F93+'Rozliczenie kwartalne'!F214+'Rozliczenie kwartalne'!F335","v":0},0,0,{"$f":"'Rozliczenie kwartalne'!I214+'Rozliczenie kwartalne'!I93+'Rozliczenie kwartalne'!I335","v":0},{"$f":"'Rozliczenie kwartalne'!J93+'Rozliczenie kwartalne'!J214+'Rozliczenie kwartalne'!J335","v":0},{"$f":"'Rozliczenie kwartalne'!K93+'Rozliczenie kwartalne'!K214+'Rozliczenie kwartalne'!K335","v":0},{"$f":"'Rozliczenie kwartalne'!L93+'Rozliczenie kwartalne'!L214+'Rozliczenie kwartalne'!L335","v":0},{"$f":"'Rozliczenie kwartalne'!M93+'Rozliczenie kwartalne'!M214+'Rozliczenie kwartalne'!M335","v":0},{"$f":"'Rozliczenie kwartalne'!N93+'Rozliczenie kwartalne'!N214+'Rozliczenie kwartalne'!N335","v":0},{"$f":"'Załącznik nr 1 do rozliczenia'!D89+'Załącznik nr 1 do rozliczenia'!D211+'Załącznik nr 1 do rozliczenia'!D333","v":0},{"$f":"'Załącznik nr 1 do rozliczenia'!E89+'Załącznik nr 1 do rozliczenia'!E211+'Załącznik nr 1 do rozliczenia'!E333","v":0},{"$f":"'Załącznik nr 1 do rozliczenia'!F89+'Załącznik nr 1 do rozliczenia'!F211+'Załącznik nr 1 do rozliczenia'!F333","v":0},{"$f":"'Załącznik nr 2 do rozliczenia'!D86","v":0},{"$f":"'Załącznik nr 2 do rozliczenia'!E86+'Załącznik nr 2 do rozliczenia'!E207+'Załącznik nr 2 do rozliczenia'!E328","v":0},{"$f":"'Załącznik nr 2 do rozliczenia'!H86+'Załącznik nr 2 do rozliczenia'!H207+'Załącznik nr 2 do rozliczenia'!H328","v":0}]
[59,{"$f":"'Załącznik nr 1 do rozliczenia'!B90","v":""},{"$f":"'Rozliczenie kwartalne'!C94+'Rozliczenie kwartalne'!C215+'Rozliczenie kwartalne'!C336","v":0},{"$f":"'Rozliczenie kwartalne'!D94+'Rozliczenie kwartalne'!D215+'Rozliczenie kwartalne'!D336","v":0},0,{"$f":"'Rozliczenie kwartalne'!F94+'Rozliczenie kwartalne'!F215+'Rozliczenie kwartalne'!F336","v":0},0,0,{"$f":"'Rozliczenie kwartalne'!I215+'Rozliczenie kwartalne'!I94+'Rozliczenie kwartalne'!I336","v":0},{"$f":"'Rozliczenie kwartalne'!J94+'Rozliczenie kwartalne'!J215+'Rozliczenie kwartalne'!J336","v":0},{"$f":"'Rozliczenie kwartalne'!K94+'Rozliczenie kwartalne'!K215+'Rozliczenie kwartalne'!K336","v":0},{"$f":"'Rozliczenie kwartalne'!L94+'Rozliczenie kwartalne'!L215+'Rozliczenie kwartalne'!L336","v":0},{"$f":"'Rozliczenie kwartalne'!M94+'Rozliczenie kwartalne'!M215+'Rozliczenie kwartalne'!M336","v":0},{"$f":"'Rozliczenie kwartalne'!N94+'Rozliczenie kwartalne'!N215+'Rozliczenie kwartalne'!N336","v":0},{"$f":"'Załącznik nr 1 do rozliczenia'!D90+'Załącznik nr 1 do rozliczenia'!D212+'Załącznik nr 1 do rozliczenia'!D334","v":0},{"$f":"'Załącznik nr 1 do rozliczenia'!E90+'Załącznik nr 1 do rozliczenia'!E212+'Załącznik nr 1 do rozliczenia'!E334","v":0},{"$f":"'Załącznik nr 1 do rozliczenia'!F90+'Załącznik nr 1 do rozliczenia'!F212+'Załącznik nr 1 do rozliczenia'!F334","v":0},{"$f":"'Załącznik nr 2 do rozliczenia'!D87","v":0},{"$f":"'Załącznik nr 2 do rozliczenia'!E87+'Załącznik nr 2 do rozliczenia'!E208+'Załącznik nr 2 do rozliczenia'!E329","v":0},{"$f":"'Załącznik nr 2 do rozliczenia'!H87+'Załącznik nr 2 do rozliczenia'!H208+'Załącznik nr 2 do rozliczenia'!H329","v":0}]
[60,{"$f":"'Załącznik nr 1 do rozliczenia'!B91","v":""},{"$f":"'Rozliczenie kwartalne'!C95+'Rozliczenie kwartalne'!C216+'Rozliczenie kwartalne'!C337","v":0},{"$f":"'Rozliczenie kwartalne'!D95+'Rozliczenie kwartalne'!D216+'Rozliczenie kwartalne'!D337","v":0},0,{"$f":"'Rozliczenie kwartalne'!F95+'Rozliczenie kwartalne'!F216+'Rozliczenie kwartalne'!F337","v":0},0,0,{"$f":"'Rozliczenie kwartalne'!I216+'Rozliczenie kwartalne'!I95+'Rozliczenie kwartalne'!I337","v":0},{"$f":"'Rozliczenie kwartalne'!J95+'Rozliczenie kwartalne'!J216+'Rozliczenie kwartalne'!J337","v":0},{"$f":"'Rozliczenie kwartalne'!K95+'Rozliczenie kwartalne'!K216+'Rozliczenie kwartalne'!K337","v":0},{"$f":"'Rozliczenie kwartalne'!L95+'Rozliczenie kwartalne'!L216+'Rozliczenie kwartalne'!L337","v":0},{"$f":"'Rozliczenie kwartalne'!M95+'Rozliczenie kwartalne'!M216+'Rozliczenie kwartalne'!M337","v":0},{"$f":"'Rozliczenie kwartalne'!N95+'Rozliczenie kwartalne'!N216+'Rozliczenie kwartalne'!N337","v":0},{"$f":"'Załącznik nr 1 do rozliczenia'!D91+'Załącznik nr 1 do rozliczenia'!D213+'Załącznik nr 1 do rozliczenia'!D335","v":0},{"$f":"'Załącznik nr 1 do rozliczenia'!E91+'Załącznik nr 1 do rozliczenia'!E213+'Załącznik nr 1 do rozliczenia'!E335","v":0},{"$f":"'Załącznik nr 1 do rozliczenia'!F91+'Załącznik nr 1 do rozliczenia'!F213+'Załącznik nr 1 do rozliczenia'!F335","v":0},{"$f":"'Załącznik nr 2 do rozliczenia'!D88","v":0},{"$f":"'Załącznik nr 2 do rozliczenia'!E88+'Załącznik nr 2 do rozliczenia'!E209+'Załącznik nr 2 do rozliczenia'!E330","v":0},{"$f":"'Załącznik nr 2 do rozliczenia'!H88+'Załącznik nr 2 do rozliczenia'!H209+'Załącznik nr 2 do rozliczenia'!H330","v":0}]
[61,{"$f":"'Załącznik nr 1 do rozliczenia'!B92","v":""},{"$f":"'Rozliczenie kwartalne'!C96+'Rozliczenie kwartalne'!C217+'Rozliczenie kwartalne'!C338","v":0},{"$f":"'Rozliczenie kwartalne'!D96+'Rozliczenie kwartalne'!D217+'Rozliczenie kwartalne'!D338","v":0},0,{"$f":"'Rozliczenie kwartalne'!F96+'Rozliczenie kwartalne'!F217+'Rozliczenie kwartalne'!F338","v":0},0,0,{"$f":"'Rozliczenie kwartalne'!I217+'Rozliczenie kwartalne'!I96+'Rozliczenie kwartalne'!I338","v":0},{"$f":"'Rozliczenie kwartalne'!J96+'Rozliczenie kwartalne'!J217+'Rozliczenie kwartalne'!J338","v":0},{"$f":"'Rozliczenie kwartalne'!K96+'Rozliczenie kwartalne'!K217+'Rozliczenie kwartalne'!K338","v":0},{"$f":"'Rozliczenie kwartalne'!L96+'Rozliczenie kwartalne'!L217+'Rozliczenie kwartalne'!L338","v":0},{"$f":"'Rozliczenie kwartalne'!M96+'Rozliczenie kwartalne'!M217+'Rozliczenie kwartalne'!M338","v":0},{"$f":"'Rozliczenie kwartalne'!N96+'Rozliczenie kwartalne'!N217+'Rozliczenie kwartalne'!N338","v":0},{"$f":"'Załącznik nr 1 do rozliczenia'!D92+'Załącznik nr 1 do rozliczenia'!D214+'Załącznik nr 1 do rozliczenia'!D336","v":0},{"$f":"'Załącznik nr 1 do rozliczenia'!E92+'Załącznik nr 1 do rozliczenia'!E214+'Załącznik nr 1 do rozliczenia'!E336","v":0},{"$f":"'Załącznik nr 1 do rozliczenia'!F92+'Załącznik nr 1 do rozliczenia'!F214+'Załącznik nr 1 do rozliczenia'!F336","v":0},{"$f":"'Załącznik nr 2 do rozliczenia'!D89","v":0},{"$f":"'Załącznik nr 2 do rozliczenia'!E89+'Załącznik nr 2 do rozliczenia'!E210+'Załącznik nr 2 do rozliczenia'!E331","v":0},{"$f":"'Załącznik nr 2 do rozliczenia'!H89+'Załącznik nr 2 do rozliczenia'!H210+'Załącznik nr 2 do rozliczenia'!H331","v":0}]
[62,{"$f":"'Załącznik nr 1 do rozliczenia'!B93","v":""},{"$f":"'Rozliczenie kwartalne'!C97+'Rozliczenie kwartalne'!C218+'Rozliczenie kwartalne'!C339","v":0},{"$f":"'Rozliczenie kwartalne'!D97+'Rozliczenie kwartalne'!D218+'Rozliczenie kwartalne'!D339","v":0},0,{"$f":"'Rozliczenie kwartalne'!F97+'Rozliczenie kwartalne'!F218+'Rozliczenie kwartalne'!F339","v":0},0,0,{"$f":"'Rozliczenie kwartalne'!I218+'Rozliczenie kwartalne'!I97+'Rozliczenie kwartalne'!I339","v":0},{"$f":"'Rozliczenie kwartalne'!J97+'Rozliczenie kwartalne'!J218+'Rozliczenie kwartalne'!J339","v":0},{"$f":"'Rozliczenie kwartalne'!K97+'Rozliczenie kwartalne'!K218+'Rozliczenie kwartalne'!K339","v":0},{"$f":"'Rozliczenie kwartalne'!L97+'Rozliczenie kwartalne'!L218+'Rozliczenie kwartalne'!L339","v":0},{"$f":"'Rozliczenie kwartalne'!M97+'Rozliczenie kwartalne'!M218+'Rozliczenie kwartalne'!M339","v":0},{"$f":"'Rozliczenie kwartalne'!N97+'Rozliczenie kwartalne'!N218+'Rozliczenie kwartalne'!N339","v":0},{"$f":"'Załącznik nr 1 do rozliczenia'!D93+'Załącznik nr 1 do rozliczenia'!D215+'Załącznik nr 1 do rozliczenia'!D337","v":0},{"$f":"'Załącznik nr 1 do rozliczenia'!E93+'Załącznik nr 1 do rozliczenia'!E215+'Załącznik nr 1 do rozliczenia'!E337","v":0},{"$f":"'Załącznik nr 1 do rozliczenia'!F93+'Załącznik nr 1 do rozliczenia'!F215+'Załącznik nr 1 do rozliczenia'!F337","v":0},{"$f":"'Załącznik nr 2 do rozliczenia'!D90","v":0},{"$f":"'Załącznik nr 2 do rozliczenia'!E90+'Załącznik nr 2 do rozliczenia'!E211+'Załącznik nr 2 do rozliczenia'!E332","v":0},{"$f":"'Załącznik nr 2 do rozliczenia'!H90+'Załącznik nr 2 do rozliczenia'!H211+'Załącznik nr 2 do rozliczenia'!H332","v":0}]
[63,{"$f":"'Załącznik nr 1 do rozliczenia'!B94","v":""},{"$f":"'Rozliczenie kwartalne'!C98+'Rozliczenie kwartalne'!C219+'Rozliczenie kwartalne'!C340","v":0},{"$f":"'Rozliczenie kwartalne'!D98+'Rozliczenie kwartalne'!D219+'Rozliczenie kwartalne'!D340","v":0},0,{"$f":"'Rozliczenie kwartalne'!F98+'Rozliczenie kwartalne'!F219+'Rozliczenie kwartalne'!F340","v":0},0,0,{"$f":"'Rozliczenie kwartalne'!I219+'Rozliczenie kwartalne'!I98+'Rozliczenie kwartalne'!I340","v":0},{"$f":"'Rozliczenie kwartalne'!J98+'Rozliczenie kwartalne'!J219+'Rozliczenie kwartalne'!J340","v":0},{"$f":"'Rozliczenie kwartalne'!K98+'Rozliczenie kwartalne'!K219+'Rozliczenie kwartalne'!K340","v":0},{"$f":"'Rozliczenie kwartalne'!L98+'Rozliczenie kwartalne'!L219+'Rozliczenie kwartalne'!L340","v":0},{"$f":"'Rozliczenie kwartalne'!M98+'Rozliczenie kwartalne'!M219+'Rozliczenie kwartalne'!M340","v":0},{"$f":"'Rozliczenie kwartalne'!N98+'Rozliczenie kwartalne'!N219+'Rozliczenie kwartalne'!N340","v":0},{"$f":"'Załącznik nr 1 do rozliczenia'!D94+'Załącznik nr 1 do rozliczenia'!D216+'Załącznik nr 1 do rozliczenia'!D338","v":0},{"$f":"'Załącznik nr 1 do rozliczenia'!E94+'Załącznik nr 1 do rozliczenia'!E216+'Załącznik nr 1 do rozliczenia'!E338","v":0},{"$f":"'Załącznik nr 1 do rozliczenia'!F94+'Załącznik nr 1 do rozliczenia'!F216+'Załącznik nr 1 do rozliczenia'!F338","v":0},{"$f":"'Załącznik nr 2 do rozliczenia'!D91","v":0},{"$f":"'Załącznik nr 2 do rozliczenia'!E91+'Załącznik nr 2 do rozliczenia'!E212+'Załącznik nr 2 do rozliczenia'!E333","v":0},{"$f":"'Załącznik nr 2 do rozliczenia'!H91+'Załącznik nr 2 do rozliczenia'!H212+'Załącznik nr 2 do rozliczenia'!H333","v":0}]
[64,{"$f":"'Załącznik nr 1 do rozliczenia'!B95","v":""},{"$f":"'Rozliczenie kwartalne'!C99+'Rozliczenie kwartalne'!C220+'Rozliczenie kwartalne'!C341","v":0},{"$f":"'Rozliczenie kwartalne'!D99+'Rozliczenie kwartalne'!D220+'Rozliczenie kwartalne'!D341","v":0},0,{"$f":"'Rozliczenie kwartalne'!F99+'Rozliczenie kwartalne'!F220+'Rozliczenie kwartalne'!F341","v":0},0,0,{"$f":"'Rozliczenie kwartalne'!I220+'Rozliczenie kwartalne'!I99+'Rozliczenie kwartalne'!I341","v":0},{"$f":"'Rozliczenie kwartalne'!J99+'Rozliczenie kwartalne'!J220+'Rozliczenie kwartalne'!J341","v":0},{"$f":"'Rozliczenie kwartalne'!K99+'Rozliczenie kwartalne'!K220+'Rozliczenie kwartalne'!K341","v":0},{"$f":"'Rozliczenie kwartalne'!L99+'Rozliczenie kwartalne'!L220+'Rozliczenie kwartalne'!L341","v":0},{"$f":"'Rozliczenie kwartalne'!M99+'Rozliczenie kwartalne'!M220+'Rozliczenie kwartalne'!M341","v":0},{"$f":"'Rozliczenie kwartalne'!N99+'Rozliczenie kwartalne'!N220+'Rozliczenie kwartalne'!N341","v":0},{"$f":"'Załącznik nr 1 do rozliczenia'!D95+'Załącznik nr 1 do rozliczenia'!D217+'Załącznik nr 1 do rozliczenia'!D339","v":0},{"$f":"'Załącznik nr 1 do rozliczenia'!E95+'Załącznik nr 1 do rozliczenia'!E217+'Załącznik nr 1 do rozliczenia'!E339","v":0},{"$f":"'Załącznik nr 1 do rozliczenia'!F95+'Załącznik nr 1 do rozliczenia'!F217+'Załącznik nr 1 do rozliczenia'!F339","v":0},{"$f":"'Załącznik nr 2 do rozliczenia'!D92","v":0},{"$f":"'Załącznik nr 2 do rozliczenia'!E92+'Załącznik nr 2 do rozliczenia'!E213+'Załącznik nr 2 do rozliczenia'!E334","v":0},{"$f":"'Załącznik nr 2 do rozliczenia'!H92+'Załącznik nr 2 do rozliczenia'!H213+'Załącznik nr 2 do rozliczenia'!H334","v":0}]
[65,{"$f":"'Załącznik nr 1 do rozliczenia'!B96","v":""},{"$f":"'Rozliczenie kwartalne'!C100+'Rozliczenie kwartalne'!C221+'Rozliczenie kwartalne'!C342","v":0},{"$f":"'Rozliczenie kwartalne'!D100+'Rozliczenie kwartalne'!D221+'Rozliczenie kwartalne'!D342","v":0},0,{"$f":"'Rozliczenie kwartalne'!F100+'Rozliczenie kwartalne'!F221+'Rozliczenie kwartalne'!F342","v":0},0,0,{"$f":"'Rozliczenie kwartalne'!I221+'Rozliczenie kwartalne'!I100+'Rozliczenie kwartalne'!I342","v":0},{"$f":"'Rozliczenie kwartalne'!J100+'Rozliczenie kwartalne'!J221+'Rozliczenie kwartalne'!J342","v":0},{"$f":"'Rozliczenie kwartalne'!K100+'Rozliczenie kwartalne'!K221+'Rozliczenie kwartalne'!K342","v":0},{"$f":"'Rozliczenie kwartalne'!L100+'Rozliczenie kwartalne'!L221+'Rozliczenie kwartalne'!L342","v":0},{"$f":"'Rozliczenie kwartalne'!M100+'Rozliczenie kwartalne'!M221+'Rozliczenie kwartalne'!M342","v":0},{"$f":"'Rozliczenie kwartalne'!N100+'Rozliczenie kwartalne'!N221+'Rozliczenie kwartalne'!N342","v":0},{"$f":"'Załącznik nr 1 do rozliczenia'!D96+'Załącznik nr 1 do rozliczenia'!D218+'Załącznik nr 1 do rozliczenia'!D340","v":0},{"$f":"'Załącznik nr 1 do rozliczenia'!E96+'Załącznik nr 1 do rozliczenia'!E218+'Załącznik nr 1 do rozliczenia'!E340","v":0},{"$f":"'Załącznik nr 1 do rozliczenia'!F96+'Załącznik nr 1 do rozliczenia'!F218+'Załącznik nr 1 do rozliczenia'!F340","v":0},{"$f":"'Załącznik nr 2 do rozliczenia'!D93","v":0},{"$f":"'Załącznik nr 2 do rozliczenia'!E93+'Załącznik nr 2 do rozliczenia'!E214+'Załącznik nr 2 do rozliczenia'!E335","v":0},{"$f":"'Załącznik nr 2 do rozliczenia'!H93+'Załącznik nr 2 do rozliczenia'!H214+'Załącznik nr 2 do rozliczenia'!H335","v":0}]
[66,{"$f":"'Załącznik nr 1 do rozliczenia'!B97","v":""},{"$f":"'Rozliczenie kwartalne'!C101+'Rozliczenie kwartalne'!C222+'Rozliczenie kwartalne'!C343","v":0},{"$f":"'Rozliczenie kwartalne'!D101+'Rozliczenie kwartalne'!D222+'Rozliczenie kwartalne'!D343","v":0},{"$f":"IFERROR(F67/D67,0)","v":0},{"$f":"'Rozliczenie kwartalne'!F101+'Rozliczenie kwartalne'!F222+'Rozliczenie kwartalne'!F343","v":0},{"$f":"IFERROR(I67/D67,0)","v":0},{"$f":"IFERROR(G67/E67,0)","v":0},{"$f":"'Rozliczenie kwartalne'!I222+'Rozliczenie kwartalne'!I101+'Rozliczenie kwartalne'!I343","v":0},{"$f":"'Rozliczenie kwartalne'!J101+'Rozliczenie kwartalne'!J222+'Rozliczenie kwartalne'!J343","v":0},{"$f":"'Rozliczenie kwartalne'!K101+'Rozliczenie kwartalne'!K222+'Rozliczenie kwartalne'!K343","v":0},{"$f":"'Rozliczenie kwartalne'!L101+'Rozliczenie kwartalne'!L222+'Rozliczenie kwartalne'!L343","v":0},{"$f":"'Rozliczenie kwartalne'!M101+'Rozliczenie kwartalne'!M222+'Rozliczenie kwartalne'!M343","v":0},{"$f":"'Rozliczenie kwartalne'!N101+'Rozliczenie kwartalne'!N222+'Rozliczenie kwartalne'!N343","v":0},{"$f":"'Załącznik nr 1 do rozliczenia'!D97+'Załącznik nr 1 do rozliczenia'!D219+'Załącznik nr 1 do rozliczenia'!D341","v":0},{"$f":"'Załącznik nr 1 do rozliczenia'!E97+'Załącznik nr 1 do rozliczenia'!E219+'Załącznik nr 1 do rozliczenia'!E341","v":0},{"$f":"'Załącznik nr 1 do rozliczenia'!F97+'Załącznik nr 1 do rozliczenia'!F219+'Załącznik nr 1 do rozliczenia'!F341","v":0},{"$f":"'Załącznik nr 2 do rozliczenia'!D94","v":0},{"$f":"'Załącznik nr 2 do rozliczenia'!E94+'Załącznik nr 2 do rozliczenia'!E215+'Załącznik nr 2 do rozliczenia'!E336","v":0},{"$f":"'Załącznik nr 2 do rozliczenia'!H94+'Załącznik nr 2 do rozliczenia'!H215+'Załącznik nr 2 do rozliczenia'!H336","v":0}]
[67,{"$f":"'Załącznik nr 1 do rozliczenia'!B98","v":""},{"$f":"'Rozliczenie kwartalne'!C102+'Rozliczenie kwartalne'!C223+'Rozliczenie kwartalne'!C344","v":0},{"$f":"'Rozliczenie kwartalne'!D102+'Rozliczenie kwartalne'!D223+'Rozliczenie kwartalne'!D344","v":0},0,{"$f":"'Rozliczenie kwartalne'!F102+'Rozliczenie kwartalne'!F223+'Rozliczenie kwartalne'!F344","v":0},0,0,{"$f":"'Rozliczenie kwartalne'!I223+'Rozliczenie kwartalne'!I102+'Rozliczenie kwartalne'!I344","v":0},{"$f":"'Rozliczenie kwartalne'!J102+'Rozliczenie kwartalne'!J223+'Rozliczenie kwartalne'!J344","v":0},{"$f":"'Rozliczenie kwartalne'!K102+'Rozliczenie kwartalne'!K223+'Rozliczenie kwartalne'!K344","v":0},{"$f":"'Rozliczenie kwartalne'!L102+'Rozliczenie kwartalne'!L223+'Rozliczenie kwartalne'!L344","v":0},{"$f":"'Rozliczenie kwartalne'!M102+'Rozliczenie kwartalne'!M223+'Rozliczenie kwartalne'!M344","v":0},{"$f":"'Rozliczenie kwartalne'!N102+'Rozliczenie kwartalne'!N223+'Rozliczenie kwartalne'!N344","v":0},{"$f":"'Załącznik nr 1 do rozliczenia'!D98+'Załącznik nr 1 do rozliczenia'!D220+'Załącznik nr 1 do rozliczenia'!D342","v":0},{"$f":"'Załącznik nr 1 do rozliczenia'!E98+'Załącznik nr 1 do rozliczenia'!E220+'Załącznik nr 1 do rozliczenia'!E342","v":0},{"$f":"'Załącznik nr 1 do rozliczenia'!F98+'Załącznik nr 1 do rozliczenia'!F220+'Załącznik nr 1 do rozliczenia'!F342","v":0},{"$f":"'Załącznik nr 2 do rozliczenia'!D95","v":0},{"$f":"'Załącznik nr 2 do rozliczenia'!E95+'Załącznik nr 2 do rozliczenia'!E216+'Załącznik nr 2 do rozliczenia'!E337","v":0},{"$f":"'Załącznik nr 2 do rozliczenia'!H95+'Załącznik nr 2 do rozliczenia'!H216+'Załącznik nr 2 do rozliczenia'!H337","v":0}]
[68,{"$f":"'Załącznik nr 1 do rozliczenia'!B99","v":""},{"$f":"'Rozliczenie kwartalne'!C103+'Rozliczenie kwartalne'!C224+'Rozliczenie kwartalne'!C345","v":0},{"$f":"'Rozliczenie kwartalne'!D103+'Rozliczenie kwartalne'!D224+'Rozliczenie kwartalne'!D345","v":0},0,{"$f":"'Rozliczenie kwartalne'!F103+'Rozliczenie kwartalne'!F224+'Rozliczenie kwartalne'!F345","v":0},0,0,{"$f":"'Rozliczenie kwartalne'!I224+'Rozliczenie kwartalne'!I103+'Rozliczenie kwartalne'!I345","v":0},{"$f":"'Rozliczenie kwartalne'!J103+'Rozliczenie kwartalne'!J224+'Rozliczenie kwartalne'!J345","v":0},{"$f":"'Rozliczenie kwartalne'!K103+'Rozliczenie kwartalne'!K224+'Rozliczenie kwartalne'!K345","v":0},{"$f":"'Rozliczenie kwartalne'!L103+'Rozliczenie kwartalne'!L224+'Rozliczenie kwartalne'!L345","v":0},{"$f":"'Rozliczenie kwartalne'!M103+'Rozliczenie kwartalne'!M224+'Rozliczenie kwartalne'!M345","v":0},{"$f":"'Rozliczenie kwartalne'!N103+'Rozliczenie kwartalne'!N224+'Rozliczenie kwartalne'!N345","v":0},{"$f":"'Załącznik nr 1 do rozliczenia'!D99+'Załącznik nr 1 do rozliczenia'!D221+'Załącznik nr 1 do rozliczenia'!D343","v":0},{"$f":"'Załącznik nr 1 do rozliczenia'!E99+'Załącznik nr 1 do rozliczenia'!E221+'Załącznik nr 1 do rozliczenia'!E343","v":0},{"$f":"'Załącznik nr 1 do rozliczenia'!F99+'Załącznik nr 1 do rozliczenia'!F221+'Załącznik nr 1 do rozliczenia'!F343","v":0},{"$f":"'Załącznik nr 2 do rozliczenia'!D96","v":0},{"$f":"'Załącznik nr 2 do rozliczenia'!E96+'Załącznik nr 2 do rozliczenia'!E217+'Załącznik nr 2 do rozliczenia'!E338","v":0},{"$f":"'Załącznik nr 2 do rozliczenia'!H96+'Załącznik nr 2 do rozliczenia'!H217+'Załącznik nr 2 do rozliczenia'!H338","v":0}]
[69,{"$f":"'Załącznik nr 1 do rozliczenia'!B100","v":""},{"$f":"'Rozliczenie kwartalne'!C104+'Rozliczenie kwartalne'!C225+'Rozliczenie kwartalne'!C346","v":0},{"$f":"'Rozliczenie kwartalne'!D104+'Rozliczenie kwartalne'!D225+'Rozliczenie kwartalne'!D346","v":0},0,{"$f":"'Rozliczenie kwartalne'!F104+'Rozliczenie kwartalne'!F225+'Rozliczenie kwartalne'!F346","v":0},0,0,{"$f":"'Rozliczenie kwartalne'!I225+'Rozliczenie kwartalne'!I104+'Rozliczenie kwartalne'!I346","v":0},{"$f":"'Rozliczenie kwartalne'!J104+'Rozliczenie kwartalne'!J225+'Rozliczenie kwartalne'!J346","v":0},{"$f":"'Rozliczenie kwartalne'!K104+'Rozliczenie kwartalne'!K225+'Rozliczenie kwartalne'!K346","v":0},{"$f":"'Rozliczenie kwartalne'!L104+'Rozliczenie kwartalne'!L225+'Rozliczenie kwartalne'!L346","v":0},{"$f":"'Rozliczenie kwartalne'!M104+'Rozliczenie kwartalne'!M225+'Rozliczenie kwartalne'!M346","v":0},{"$f":"'Rozliczenie kwartalne'!N104+'Rozliczenie kwartalne'!N225+'Rozliczenie kwartalne'!N346","v":0},{"$f":"'Załącznik nr 1 do rozliczenia'!D100+'Załącznik nr 1 do rozliczenia'!D222+'Załącznik nr 1 do rozliczenia'!D344","v":0},{"$f":"'Załącznik nr 1 do rozliczenia'!E100+'Załącznik nr 1 do rozliczenia'!E222+'Załącznik nr 1 do rozliczenia'!E344","v":0},{"$f":"'Załącznik nr 1 do rozliczenia'!F100+'Załącznik nr 1 do rozliczenia'!F222+'Załącznik nr 1 do rozliczenia'!F344","v":0},{"$f":"'Załącznik nr 2 do rozliczenia'!D97","v":0},{"$f":"'Załącznik nr 2 do rozliczenia'!E97+'Załącznik nr 2 do rozliczenia'!E218+'Załącznik nr 2 do rozliczenia'!E339","v":0},{"$f":"'Załącznik nr 2 do rozliczenia'!H97+'Załącznik nr 2 do rozliczenia'!H218+'Załącznik nr 2 do rozliczenia'!H339","v":0}]
[70,{"$f":"'Załącznik nr 1 do rozliczenia'!B101","v":""},{"$f":"'Rozliczenie kwartalne'!C105+'Rozliczenie kwartalne'!C226+'Rozliczenie kwartalne'!C347","v":0},{"$f":"'Rozliczenie kwartalne'!D105+'Rozliczenie kwartalne'!D226+'Rozliczenie kwartalne'!D347","v":0},0,{"$f":"'Rozliczenie kwartalne'!F105+'Rozliczenie kwartalne'!F226+'Rozliczenie kwartalne'!F347","v":0},0,0,{"$f":"'Rozliczenie kwartalne'!I226+'Rozliczenie kwartalne'!I105+'Rozliczenie kwartalne'!I347","v":0},{"$f":"'Rozliczenie kwartalne'!J105+'Rozliczenie kwartalne'!J226+'Rozliczenie kwartalne'!J347","v":0},{"$f":"'Rozliczenie kwartalne'!K105+'Rozliczenie kwartalne'!K226+'Rozliczenie kwartalne'!K347","v":0},{"$f":"'Rozliczenie kwartalne'!L105+'Rozliczenie kwartalne'!L226+'Rozliczenie kwartalne'!L347","v":0},{"$f":"'Rozliczenie kwartalne'!M105+'Rozliczenie kwartalne'!M226+'Rozliczenie kwartalne'!M347","v":0},{"$f":"'Rozliczenie kwartalne'!N105+'Rozliczenie kwartalne'!N226+'Rozliczenie kwartalne'!N347","v":0},{"$f":"'Załącznik nr 1 do rozliczenia'!D101+'Załącznik nr 1 do rozliczenia'!D223+'Załącznik nr 1 do rozliczenia'!D345","v":0},{"$f":"'Załącznik nr 1 do rozliczenia'!E101+'Załącznik nr 1 do rozliczenia'!E223+'Załącznik nr 1 do rozliczenia'!E345","v":0},{"$f":"'Załącznik nr 1 do rozliczenia'!F101+'Załącznik nr 1 do rozliczenia'!F223+'Załącznik nr 1 do rozliczenia'!F345","v":0},{"$f":"'Załącznik nr 2 do rozliczenia'!D98","v":0},{"$f":"'Załącznik nr 2 do rozliczenia'!E98+'Załącznik nr 2 do rozliczenia'!E219+'Załącznik nr 2 do rozliczenia'!E340","v":0},{"$f":"'Załącznik nr 2 do rozliczenia'!H98+'Załącznik nr 2 do rozliczenia'!H219+'Załącznik nr 2 do rozliczenia'!H340","v":0}]
[71,{"$f":"'Załącznik nr 1 do rozliczenia'!B102","v":""},{"$f":"'Rozliczenie kwartalne'!C106+'Rozliczenie kwartalne'!C227+'Rozliczenie kwartalne'!C348","v":0},{"$f":"'Rozliczenie kwartalne'!D106+'Rozliczenie kwartalne'!D227+'Rozliczenie kwartalne'!D348","v":0},0,{"$f":"'Rozliczenie kwartalne'!F106+'Rozliczenie kwartalne'!F227+'Rozliczenie kwartalne'!F348","v":0},0,0,{"$f":"'Rozliczenie kwartalne'!I227+'Rozliczenie kwartalne'!I106+'Rozliczenie kwartalne'!I348","v":0},{"$f":"'Rozliczenie kwartalne'!J106+'Rozliczenie kwartalne'!J227+'Rozliczenie kwartalne'!J348","v":0},{"$f":"'Rozliczenie kwartalne'!K106+'Rozliczenie kwartalne'!K227+'Rozliczenie kwartalne'!K348","v":0},{"$f":"'Rozliczenie kwartalne'!L106+'Rozliczenie kwartalne'!L227+'Rozliczenie kwartalne'!L348","v":0},{"$f":"'Rozliczenie kwartalne'!M106+'Rozliczenie kwartalne'!M227+'Rozliczenie kwartalne'!M348","v":0},{"$f":"'Rozliczenie kwartalne'!N106+'Rozliczenie kwartalne'!N227+'Rozliczenie kwartalne'!N348","v":0},{"$f":"'Załącznik nr 1 do rozliczenia'!D102+'Załącznik nr 1 do rozliczenia'!D224+'Załącznik nr 1 do rozliczenia'!D346","v":0},{"$f":"'Załącznik nr 1 do rozliczenia'!E102+'Załącznik nr 1 do rozliczenia'!E224+'Załącznik nr 1 do rozliczenia'!E346","v":0},{"$f":"'Załącznik nr 1 do rozliczenia'!F102+'Załącznik nr 1 do rozliczenia'!F224+'Załącznik nr 1 do rozliczenia'!F346","v":0},{"$f":"'Załącznik nr 2 do rozliczenia'!D99","v":0},{"$f":"'Załącznik nr 2 do rozliczenia'!E99+'Załącznik nr 2 do rozliczenia'!E220+'Załącznik nr 2 do rozliczenia'!E341","v":0},{"$f":"'Załącznik nr 2 do rozliczenia'!H99+'Załącznik nr 2 do rozliczenia'!H220+'Załącznik nr 2 do rozliczenia'!H341","v":0}]
[72,{"$f":"'Załącznik nr 1 do rozliczenia'!B103","v":""},{"$f":"'Rozliczenie kwartalne'!C107+'Rozliczenie kwartalne'!C228+'Rozliczenie kwartalne'!C349","v":0},{"$f":"'Rozliczenie kwartalne'!D107+'Rozliczenie kwartalne'!D228+'Rozliczenie kwartalne'!D349","v":0},0,{"$f":"'Rozliczenie kwartalne'!F107+'Rozliczenie kwartalne'!F228+'Rozliczenie kwartalne'!F349","v":0},0,0,{"$f":"'Rozliczenie kwartalne'!I228+'Rozliczenie kwartalne'!I107+'Rozliczenie kwartalne'!I349","v":0},{"$f":"'Rozliczenie kwartalne'!J107+'Rozliczenie kwartalne'!J228+'Rozliczenie kwartalne'!J349","v":0},{"$f":"'Rozliczenie kwartalne'!K107+'Rozliczenie kwartalne'!K228+'Rozliczenie kwartalne'!K349","v":0},{"$f":"'Rozliczenie kwartalne'!L107+'Rozliczenie kwartalne'!L228+'Rozliczenie kwartalne'!L349","v":0},{"$f":"'Rozliczenie kwartalne'!M107+'Rozliczenie kwartalne'!M228+'Rozliczenie kwartalne'!M349","v":0},{"$f":"'Rozliczenie kwartalne'!N107+'Rozliczenie kwartalne'!N228+'Rozliczenie kwartalne'!N349","v":0},{"$f":"'Załącznik nr 1 do rozliczenia'!D103+'Załącznik nr 1 do rozliczenia'!D225+'Załącznik nr 1 do rozliczenia'!D347","v":0},{"$f":"'Załącznik nr 1 do rozliczenia'!E103+'Załącznik nr 1 do rozliczenia'!E225+'Załącznik nr 1 do rozliczenia'!E347","v":0},{"$f":"'Załącznik nr 1 do rozliczenia'!F103+'Załącznik nr 1 do rozliczenia'!F225+'Załącznik nr 1 do rozliczenia'!F347","v":0},{"$f":"'Załącznik nr 2 do rozliczenia'!D100","v":0},{"$f":"'Załącznik nr 2 do rozliczenia'!E100+'Załącznik nr 2 do rozliczenia'!E221+'Załącznik nr 2 do rozliczenia'!E342","v":0},{"$f":"'Załącznik nr 2 do rozliczenia'!H100+'Załącznik nr 2 do rozliczenia'!H221+'Załącznik nr 2 do rozliczenia'!H342","v":0}]
[73,{"$f":"'Załącznik nr 1 do rozliczenia'!B104","v":""},{"$f":"'Rozliczenie kwartalne'!C108+'Rozliczenie kwartalne'!C229+'Rozliczenie kwartalne'!C350","v":0},{"$f":"'Rozliczenie kwartalne'!D108+'Rozliczenie kwartalne'!D229+'Rozliczenie kwartalne'!D350","v":0},0,{"$f":"'Rozliczenie kwartalne'!F108+'Rozliczenie kwartalne'!F229+'Rozliczenie kwartalne'!F350","v":0},0,0,{"$f":"'Rozliczenie kwartalne'!I229+'Rozliczenie kwartalne'!I108+'Rozliczenie kwartalne'!I350","v":0},{"$f":"'Rozliczenie kwartalne'!J108+'Rozliczenie kwartalne'!J229+'Rozliczenie kwartalne'!J350","v":0},{"$f":"'Rozliczenie kwartalne'!K108+'Rozliczenie kwartalne'!K229+'Rozliczenie kwartalne'!K350","v":0},{"$f":"'Rozliczenie kwartalne'!L108+'Rozliczenie kwartalne'!L229+'Rozliczenie kwartalne'!L350","v":0},{"$f":"'Rozliczenie kwartalne'!M108+'Rozliczenie kwartalne'!M229+'Rozliczenie kwartalne'!M350","v":0},{"$f":"'Rozliczenie kwartalne'!N108+'Rozliczenie kwartalne'!N229+'Rozliczenie kwartalne'!N350","v":0},{"$f":"'Załącznik nr 1 do rozliczenia'!D104+'Załącznik nr 1 do rozliczenia'!D226+'Załącznik nr 1 do rozliczenia'!D348","v":0},{"$f":"'Załącznik nr 1 do rozliczenia'!E104+'Załącznik nr 1 do rozliczenia'!E226+'Załącznik nr 1 do rozliczenia'!E348","v":0},{"$f":"'Załącznik nr 1 do rozliczenia'!F104+'Załącznik nr 1 do rozliczenia'!F226+'Załącznik nr 1 do rozliczenia'!F348","v":0},{"$f":"'Załącznik nr 2 do rozliczenia'!D101","v":0},{"$f":"'Załącznik nr 2 do rozliczenia'!E101+'Załącznik nr 2 do rozliczenia'!E222+'Załącznik nr 2 do rozliczenia'!E343","v":0},{"$f":"'Załącznik nr 2 do rozliczenia'!H101+'Załącznik nr 2 do rozliczenia'!H222+'Załącznik nr 2 do rozliczenia'!H343","v":0}]
[74,{"$f":"'Załącznik nr 1 do rozliczenia'!B105","v":""},{"$f":"'Rozliczenie kwartalne'!C109+'Rozliczenie kwartalne'!C230+'Rozliczenie kwartalne'!C351","v":0},{"$f":"'Rozliczenie kwartalne'!D109+'Rozliczenie kwartalne'!D230+'Rozliczenie kwartalne'!D351","v":0},0,{"$f":"'Rozliczenie kwartalne'!F109+'Rozliczenie kwartalne'!F230+'Rozliczenie kwartalne'!F351","v":0},0,0,{"$f":"'Rozliczenie kwartalne'!I230+'Rozliczenie kwartalne'!I109+'Rozliczenie kwartalne'!I351","v":0},{"$f":"'Rozliczenie kwartalne'!J109+'Rozliczenie kwartalne'!J230+'Rozliczenie kwartalne'!J351","v":0},{"$f":"'Rozliczenie kwartalne'!K109+'Rozliczenie kwartalne'!K230+'Rozliczenie kwartalne'!K351","v":0},{"$f":"'Rozliczenie kwartalne'!L109+'Rozliczenie kwartalne'!L230+'Rozliczenie kwartalne'!L351","v":0},{"$f":"'Rozliczenie kwartalne'!M109+'Rozliczenie kwartalne'!M230+'Rozliczenie kwartalne'!M351","v":0},{"$f":"'Rozliczenie kwartalne'!N109+'Rozliczenie kwartalne'!N230+'Rozliczenie kwartalne'!N351","v":0},{"$f":"'Załącznik nr 1 do rozliczenia'!D105+'Załącznik nr 1 do rozliczenia'!D227+'Załącznik nr 1 do rozliczenia'!D349","v":0},{"$f":"'Załącznik nr 1 do rozliczenia'!E105+'Załącznik nr 1 do rozliczenia'!E227+'Załącznik nr 1 do rozliczenia'!E349","v":0},{"$f":"'Załącznik nr 1 do rozliczenia'!F105+'Załącznik nr 1 do rozliczenia'!F227+'Załącznik nr 1 do rozliczenia'!F349","v":0},{"$f":"'Załącznik nr 2 do rozliczenia'!D102","v":0},{"$f":"'Załącznik nr 2 do rozliczenia'!E102+'Załącznik nr 2 do rozliczenia'!E223+'Załącznik nr 2 do rozliczenia'!E344","v":0},{"$f":"'Załącznik nr 2 do rozliczenia'!H102+'Załącznik nr 2 do rozliczenia'!H223+'Załącznik nr 2 do rozliczenia'!H344","v":0}]
[75,{"$f":"'Załącznik nr 1 do rozliczenia'!B106","v":""},{"$f":"'Rozliczenie kwartalne'!C110+'Rozliczenie kwartalne'!C231+'Rozliczenie kwartalne'!C352","v":0},{"$f":"'Rozliczenie kwartalne'!D110+'Rozliczenie kwartalne'!D231+'Rozliczenie kwartalne'!D352","v":0},0,{"$f":"'Rozliczenie kwartalne'!F110+'Rozliczenie kwartalne'!F231+'Rozliczenie kwartalne'!F352","v":0},0,0,{"$f":"'Rozliczenie kwartalne'!I231+'Rozliczenie kwartalne'!I110+'Rozliczenie kwartalne'!I352","v":0},{"$f":"'Rozliczenie kwartalne'!J110+'Rozliczenie kwartalne'!J231+'Rozliczenie kwartalne'!J352","v":0},{"$f":"'Rozliczenie kwartalne'!K110+'Rozliczenie kwartalne'!K231+'Rozliczenie kwartalne'!K352","v":0},{"$f":"'Rozliczenie kwartalne'!L110+'Rozliczenie kwartalne'!L231+'Rozliczenie kwartalne'!L352","v":0},{"$f":"'Rozliczenie kwartalne'!M110+'Rozliczenie kwartalne'!M231+'Rozliczenie kwartalne'!M352","v":0},{"$f":"'Rozliczenie kwartalne'!N110+'Rozliczenie kwartalne'!N231+'Rozliczenie kwartalne'!N352","v":0},{"$f":"'Załącznik nr 1 do rozliczenia'!D106+'Załącznik nr 1 do rozliczenia'!D228+'Załącznik nr 1 do rozliczenia'!D350","v":0},{"$f":"'Załącznik nr 1 do rozliczenia'!E106+'Załącznik nr 1 do rozliczenia'!E228+'Załącznik nr 1 do rozliczenia'!E350","v":0},{"$f":"'Załącznik nr 1 do rozliczenia'!F106+'Załącznik nr 1 do rozliczenia'!F228+'Załącznik nr 1 do rozliczenia'!F350","v":0},{"$f":"'Załącznik nr 2 do rozliczenia'!D103","v":0},{"$f":"'Załącznik nr 2 do rozliczenia'!E103+'Załącznik nr 2 do rozliczenia'!E224+'Załącznik nr 2 do rozliczenia'!E345","v":0},{"$f":"'Załącznik nr 2 do rozliczenia'!H103+'Załącznik nr 2 do rozliczenia'!H224+'Załącznik nr 2 do rozliczenia'!H345","v":0}]
[76,{"$f":"'Załącznik nr 1 do rozliczenia'!B107","v":""},{"$f":"'Rozliczenie kwartalne'!C111+'Rozliczenie kwartalne'!C232+'Rozliczenie kwartalne'!C353","v":0},{"$f":"'Rozliczenie kwartalne'!D111+'Rozliczenie kwartalne'!D232+'Rozliczenie kwartalne'!D353","v":0},0,{"$f":"'Rozliczenie kwartalne'!F111+'Rozliczenie kwartalne'!F232+'Rozliczenie kwartalne'!F353","v":0},0,0,{"$f":"'Rozliczenie kwartalne'!I232+'Rozliczenie kwartalne'!I111+'Rozliczenie kwartalne'!I353","v":0},{"$f":"'Rozliczenie kwartalne'!J111+'Rozliczenie kwartalne'!J232+'Rozliczenie kwartalne'!J353","v":0},{"$f":"'Rozliczenie kwartalne'!K111+'Rozliczenie kwartalne'!K232+'Rozliczenie kwartalne'!K353","v":0},{"$f":"'Rozliczenie kwartalne'!L111+'Rozliczenie kwartalne'!L232+'Rozliczenie kwartalne'!L353","v":0},{"$f":"'Rozliczenie kwartalne'!M111+'Rozliczenie kwartalne'!M232+'Rozliczenie kwartalne'!M353","v":0},{"$f":"'Rozliczenie kwartalne'!N111+'Rozliczenie kwartalne'!N232+'Rozliczenie kwartalne'!N353","v":0},{"$f":"'Załącznik nr 1 do rozliczenia'!D107+'Załącznik nr 1 do rozliczenia'!D229+'Załącznik nr 1 do rozliczenia'!D351","v":0},{"$f":"'Załącznik nr 1 do rozliczenia'!E107+'Załącznik nr 1 do rozliczenia'!E229+'Załącznik nr 1 do rozliczenia'!E351","v":0},{"$f":"'Załącznik nr 1 do rozliczenia'!F107+'Załącznik nr 1 do rozliczenia'!F229+'Załącznik nr 1 do rozliczenia'!F351","v":0},{"$f":"'Załącznik nr 2 do rozliczenia'!D104","v":0},{"$f":"'Załącznik nr 2 do rozliczenia'!E104+'Załącznik nr 2 do rozliczenia'!E225+'Załącznik nr 2 do rozliczenia'!E346","v":0},{"$f":"'Załącznik nr 2 do rozliczenia'!H104+'Załącznik nr 2 do rozliczenia'!H225+'Załącznik nr 2 do rozliczenia'!H346","v":0}]
[77,{"$f":"'Załącznik nr 1 do rozliczenia'!B108","v":""},{"$f":"'Rozliczenie kwartalne'!C112+'Rozliczenie kwartalne'!C233+'Rozliczenie kwartalne'!C354","v":0},{"$f":"'Rozliczenie kwartalne'!D112+'Rozliczenie kwartalne'!D233+'Rozliczenie kwartalne'!D354","v":0},0,{"$f":"'Rozliczenie kwartalne'!F112+'Rozliczenie kwartalne'!F233+'Rozliczenie kwartalne'!F354","v":0},0,0,{"$f":"'Rozliczenie kwartalne'!I233+'Rozliczenie kwartalne'!I112+'Rozliczenie kwartalne'!I354","v":0},{"$f":"'Rozliczenie kwartalne'!J112+'Rozliczenie kwartalne'!J233+'Rozliczenie kwartalne'!J354","v":0},{"$f":"'Rozliczenie kwartalne'!K112+'Rozliczenie kwartalne'!K233+'Rozliczenie kwartalne'!K354","v":0},{"$f":"'Rozliczenie kwartalne'!L112+'Rozliczenie kwartalne'!L233+'Rozliczenie kwartalne'!L354","v":0},{"$f":"'Rozliczenie kwartalne'!M112+'Rozliczenie kwartalne'!M233+'Rozliczenie kwartalne'!M354","v":0},{"$f":"'Rozliczenie kwartalne'!N112+'Rozliczenie kwartalne'!N233+'Rozliczenie kwartalne'!N354","v":0},{"$f":"'Załącznik nr 1 do rozliczenia'!D108+'Załącznik nr 1 do rozliczenia'!D230+'Załącznik nr 1 do rozliczenia'!D352","v":0},{"$f":"'Załącznik nr 1 do rozliczenia'!E108+'Załącznik nr 1 do rozliczenia'!E230+'Załącznik nr 1 do rozliczenia'!E352","v":0},{"$f":"'Załącznik nr 1 do rozliczenia'!F108+'Załącznik nr 1 do rozliczenia'!F230+'Załącznik nr 1 do rozliczenia'!F352","v":0},{"$f":"'Załącznik nr 2 do rozliczenia'!D105","v":0},{"$f":"'Załącznik nr 2 do rozliczenia'!E105+'Załącznik nr 2 do rozliczenia'!E226+'Załącznik nr 2 do rozliczenia'!E347","v":0},{"$f":"'Załącznik nr 2 do rozliczenia'!H105+'Załącznik nr 2 do rozliczenia'!H226+'Załącznik nr 2 do rozliczenia'!H347","v":0}]
[78,{"$f":"'Załącznik nr 1 do rozliczenia'!B109","v":""},{"$f":"'Rozliczenie kwartalne'!C113+'Rozliczenie kwartalne'!C234+'Rozliczenie kwartalne'!C355","v":0},{"$f":"'Rozliczenie kwartalne'!D113+'Rozliczenie kwartalne'!D234+'Rozliczenie kwartalne'!D355","v":0},0,{"$f":"'Rozliczenie kwartalne'!F113+'Rozliczenie kwartalne'!F234+'Rozliczenie kwartalne'!F355","v":0},0,0,{"$f":"'Rozliczenie kwartalne'!I234+'Rozliczenie kwartalne'!I113+'Rozliczenie kwartalne'!I355","v":0},{"$f":"'Rozliczenie kwartalne'!J113+'Rozliczenie kwartalne'!J234+'Rozliczenie kwartalne'!J355","v":0},{"$f":"'Rozliczenie kwartalne'!K113+'Rozliczenie kwartalne'!K234+'Rozliczenie kwartalne'!K355","v":0},{"$f":"'Rozliczenie kwartalne'!L113+'Rozliczenie kwartalne'!L234+'Rozliczenie kwartalne'!L355","v":0},{"$f":"'Rozliczenie kwartalne'!M113+'Rozliczenie kwartalne'!M234+'Rozliczenie kwartalne'!M355","v":0},{"$f":"'Rozliczenie kwartalne'!N113+'Rozliczenie kwartalne'!N234+'Rozliczenie kwartalne'!N355","v":0},{"$f":"'Załącznik nr 1 do rozliczenia'!D109+'Załącznik nr 1 do rozliczenia'!D231+'Załącznik nr 1 do rozliczenia'!D353","v":0},{"$f":"'Załącznik nr 1 do rozliczenia'!E109+'Załącznik nr 1 do rozliczenia'!E231+'Załącznik nr 1 do rozliczenia'!E353","v":0},{"$f":"'Załącznik nr 1 do rozliczenia'!F109+'Załącznik nr 1 do rozliczenia'!F231+'Załącznik nr 1 do rozliczenia'!F353","v":0},{"$f":"'Załącznik nr 2 do rozliczenia'!D106","v":0},{"$f":"'Załącznik nr 2 do rozliczenia'!E106+'Załącznik nr 2 do rozliczenia'!E227+'Załącznik nr 2 do rozliczenia'!E348","v":0},{"$f":"'Załącznik nr 2 do rozliczenia'!H106+'Załącznik nr 2 do rozliczenia'!H227+'Załącznik nr 2 do rozliczenia'!H348","v":0}]
[79,{"$f":"'Załącznik nr 1 do rozliczenia'!B110","v":""},{"$f":"'Rozliczenie kwartalne'!C114+'Rozliczenie kwartalne'!C235+'Rozliczenie kwartalne'!C356","v":0},{"$f":"'Rozliczenie kwartalne'!D114+'Rozliczenie kwartalne'!D235+'Rozliczenie kwartalne'!D356","v":0},0,{"$f":"'Rozliczenie kwartalne'!F114+'Rozliczenie kwartalne'!F235+'Rozliczenie kwartalne'!F356","v":0},0,0,{"$f":"'Rozliczenie kwartalne'!I235+'Rozliczenie kwartalne'!I114+'Rozliczenie kwartalne'!I356","v":0},{"$f":"'Rozliczenie kwartalne'!J114+'Rozliczenie kwartalne'!J235+'Rozliczenie kwartalne'!J356","v":0},{"$f":"'Rozliczenie kwartalne'!K114+'Rozliczenie kwartalne'!K235+'Rozliczenie kwartalne'!K356","v":0},{"$f":"'Rozliczenie kwartalne'!L114+'Rozliczenie kwartalne'!L235+'Rozliczenie kwartalne'!L356","v":0},{"$f":"'Rozliczenie kwartalne'!M114+'Rozliczenie kwartalne'!M235+'Rozliczenie kwartalne'!M356","v":0},{"$f":"'Rozliczenie kwartalne'!N114+'Rozliczenie kwartalne'!N235+'Rozliczenie kwartalne'!N356","v":0},{"$f":"'Załącznik nr 1 do rozliczenia'!D110+'Załącznik nr 1 do rozliczenia'!D232+'Załącznik nr 1 do rozliczenia'!D354","v":0},{"$f":"'Załącznik nr 1 do rozliczenia'!E110+'Załącznik nr 1 do rozliczenia'!E232+'Załącznik nr 1 do rozliczenia'!E354","v":0},{"$f":"'Załącznik nr 1 do rozliczenia'!F110+'Załącznik nr 1 do rozliczenia'!F232+'Załącznik nr 1 do rozliczenia'!F354","v":0},{"$f":"'Załącznik nr 2 do rozliczenia'!D107","v":0},{"$f":"'Załącznik nr 2 do rozliczenia'!E107+'Załącznik nr 2 do rozliczenia'!E228+'Załącznik nr 2 do rozliczenia'!E349","v":0},{"$f":"'Załącznik nr 2 do rozliczenia'!H107+'Załącznik nr 2 do rozliczenia'!H228+'Załącznik nr 2 do rozliczenia'!H349","v":0}]
[80,{"$f":"'Załącznik nr 1 do rozliczenia'!B111","v":""},{"$f":"'Rozliczenie kwartalne'!C115+'Rozliczenie kwartalne'!C236+'Rozliczenie kwartalne'!C357","v":0},{"$f":"'Rozliczenie kwartalne'!D115+'Rozliczenie kwartalne'!D236+'Rozliczenie kwartalne'!D357","v":0},0,{"$f":"'Rozliczenie kwartalne'!F115+'Rozliczenie kwartalne'!F236+'Rozliczenie kwartalne'!F357","v":0},0,0,{"$f":"'Rozliczenie kwartalne'!I236+'Rozliczenie kwartalne'!I115+'Rozliczenie kwartalne'!I357","v":0},{"$f":"'Rozliczenie kwartalne'!J115+'Rozliczenie kwartalne'!J236+'Rozliczenie kwartalne'!J357","v":0},{"$f":"'Rozliczenie kwartalne'!K115+'Rozliczenie kwartalne'!K236+'Rozliczenie kwartalne'!K357","v":0},{"$f":"'Rozliczenie kwartalne'!L115+'Rozliczenie kwartalne'!L236+'Rozliczenie kwartalne'!L357","v":0},{"$f":"'Rozliczenie kwartalne'!M115+'Rozliczenie kwartalne'!M236+'Rozliczenie kwartalne'!M357","v":0},{"$f":"'Rozliczenie kwartalne'!N115+'Rozliczenie kwartalne'!N236+'Rozliczenie kwartalne'!N357","v":0},{"$f":"'Załącznik nr 1 do rozliczenia'!D111+'Załącznik nr 1 do rozliczenia'!D233+'Załącznik nr 1 do rozliczenia'!D355","v":0},{"$f":"'Załącznik nr 1 do rozliczenia'!E111+'Załącznik nr 1 do rozliczenia'!E233+'Załącznik nr 1 do rozliczenia'!E355","v":0},{"$f":"'Załącznik nr 1 do rozliczenia'!F111+'Załącznik nr 1 do rozliczenia'!F233+'Załącznik nr 1 do rozliczenia'!F355","v":0},{"$f":"'Załącznik nr 2 do rozliczenia'!D108","v":0},{"$f":"'Załącznik nr 2 do rozliczenia'!E108+'Załącznik nr 2 do rozliczenia'!E229+'Załącznik nr 2 do rozliczenia'!E350","v":0},{"$f":"'Załącznik nr 2 do rozliczenia'!H108+'Załącznik nr 2 do rozliczenia'!H229+'Załącznik nr 2 do rozliczenia'!H350","v":0}]
[81,{"$f":"'Załącznik nr 1 do rozliczenia'!B112","v":""},{"$f":"'Rozliczenie kwartalne'!C116+'Rozliczenie kwartalne'!C237+'Rozliczenie kwartalne'!C358","v":0},{"$f":"'Rozliczenie kwartalne'!D116+'Rozliczenie kwartalne'!D237+'Rozliczenie kwartalne'!D358","v":0},0,{"$f":"'Rozliczenie kwartalne'!F116+'Rozliczenie kwartalne'!F237+'Rozliczenie kwartalne'!F358","v":0},0,0,{"$f":"'Rozliczenie kwartalne'!I237+'Rozliczenie kwartalne'!I116+'Rozliczenie kwartalne'!I358","v":0},{"$f":"'Rozliczenie kwartalne'!J116+'Rozliczenie kwartalne'!J237+'Rozliczenie kwartalne'!J358","v":0},{"$f":"'Rozliczenie kwartalne'!K116+'Rozliczenie kwartalne'!K237+'Rozliczenie kwartalne'!K358","v":0},{"$f":"'Rozliczenie kwartalne'!L116+'Rozliczenie kwartalne'!L237+'Rozliczenie kwartalne'!L358","v":0},{"$f":"'Rozliczenie kwartalne'!M116+'Rozliczenie kwartalne'!M237+'Rozliczenie kwartalne'!M358","v":0},{"$f":"'Rozliczenie kwartalne'!N116+'Rozliczenie kwartalne'!N237+'Rozliczenie kwartalne'!N358","v":0},{"$f":"'Załącznik nr 1 do rozliczenia'!D112+'Załącznik nr 1 do rozliczenia'!D234+'Załącznik nr 1 do rozliczenia'!D356","v":0},{"$f":"'Załącznik nr 1 do rozliczenia'!E112+'Załącznik nr 1 do rozliczenia'!E234+'Załącznik nr 1 do rozliczenia'!E356","v":0},{"$f":"'Załącznik nr 1 do rozliczenia'!F112+'Załącznik nr 1 do rozliczenia'!F234+'Załącznik nr 1 do rozliczenia'!F356","v":0},{"$f":"'Załącznik nr 2 do rozliczenia'!D109","v":0},{"$f":"'Załącznik nr 2 do rozliczenia'!E109+'Załącznik nr 2 do rozliczenia'!E230+'Załącznik nr 2 do rozliczenia'!E351","v":0},{"$f":"'Załącznik nr 2 do rozliczenia'!H109+'Załącznik nr 2 do rozliczenia'!H230+'Załącznik nr 2 do rozliczenia'!H351","v":0}]
[82,{"$f":"'Załącznik nr 1 do rozliczenia'!B113","v":""},{"$f":"'Rozliczenie kwartalne'!C117+'Rozliczenie kwartalne'!C238+'Rozliczenie kwartalne'!C359","v":0},{"$f":"'Rozliczenie kwartalne'!D117+'Rozliczenie kwartalne'!D238+'Rozliczenie kwartalne'!D359","v":0},0,{"$f":"'Rozliczenie kwartalne'!F117+'Rozliczenie kwartalne'!F238+'Rozliczenie kwartalne'!F359","v":0},0,0,{"$f":"'Rozliczenie kwartalne'!I238+'Rozliczenie kwartalne'!I117+'Rozliczenie kwartalne'!I359","v":0},{"$f":"'Rozliczenie kwartalne'!J117+'Rozliczenie kwartalne'!J238+'Rozliczenie kwartalne'!J359","v":0},{"$f":"'Rozliczenie kwartalne'!K117+'Rozliczenie kwartalne'!K238+'Rozliczenie kwartalne'!K359","v":0},{"$f":"'Rozliczenie kwartalne'!L117+'Rozliczenie kwartalne'!L238+'Rozliczenie kwartalne'!L359","v":0},{"$f":"'Rozliczenie kwartalne'!M117+'Rozliczenie kwartalne'!M238+'Rozliczenie kwartalne'!M359","v":0},{"$f":"'Rozliczenie kwartalne'!N117+'Rozliczenie kwartalne'!N238+'Rozliczenie kwartalne'!N359","v":0},{"$f":"'Załącznik nr 1 do rozliczenia'!D113+'Załącznik nr 1 do rozliczenia'!D235+'Załącznik nr 1 do rozliczenia'!D357","v":0},{"$f":"'Załącznik nr 1 do rozliczenia'!E113+'Załącznik nr 1 do rozliczenia'!E235+'Załącznik nr 1 do rozliczenia'!E357","v":0},{"$f":"'Załącznik nr 1 do rozliczenia'!F113+'Załącznik nr 1 do rozliczenia'!F235+'Załącznik nr 1 do rozliczenia'!F357","v":0},{"$f":"'Załącznik nr 2 do rozliczenia'!D110","v":0},{"$f":"'Załącznik nr 2 do rozliczenia'!E110+'Załącznik nr 2 do rozliczenia'!E231+'Załącznik nr 2 do rozliczenia'!E352","v":0},{"$f":"'Załącznik nr 2 do rozliczenia'!H110+'Załącznik nr 2 do rozliczenia'!H231+'Załącznik nr 2 do rozliczenia'!H352","v":0}]
[83,{"$f":"'Załącznik nr 1 do rozliczenia'!B114","v":""},{"$f":"'Rozliczenie kwartalne'!C118+'Rozliczenie kwartalne'!C239+'Rozliczenie kwartalne'!C360","v":0},{"$f":"'Rozliczenie kwartalne'!D118+'Rozliczenie kwartalne'!D239+'Rozliczenie kwartalne'!D360","v":0},0,{"$f":"'Rozliczenie kwartalne'!F118+'Rozliczenie kwartalne'!F239+'Rozliczenie kwartalne'!F360","v":0},0,0,{"$f":"'Rozliczenie kwartalne'!I239+'Rozliczenie kwartalne'!I118+'Rozliczenie kwartalne'!I360","v":0},{"$f":"'Rozliczenie kwartalne'!J118+'Rozliczenie kwartalne'!J239+'Rozliczenie kwartalne'!J360","v":0},{"$f":"'Rozliczenie kwartalne'!K118+'Rozliczenie kwartalne'!K239+'Rozliczenie kwartalne'!K360","v":0},{"$f":"'Rozliczenie kwartalne'!L118+'Rozliczenie kwartalne'!L239+'Rozliczenie kwartalne'!L360","v":0},{"$f":"'Rozliczenie kwartalne'!M118+'Rozliczenie kwartalne'!M239+'Rozliczenie kwartalne'!M360","v":0},{"$f":"'Rozliczenie kwartalne'!N118+'Rozliczenie kwartalne'!N239+'Rozliczenie kwartalne'!N360","v":0},{"$f":"'Załącznik nr 1 do rozliczenia'!D114+'Załącznik nr 1 do rozliczenia'!D236+'Załącznik nr 1 do rozliczenia'!D358","v":0},{"$f":"'Załącznik nr 1 do rozliczenia'!E114+'Załącznik nr 1 do rozliczenia'!E236+'Załącznik nr 1 do rozliczenia'!E358","v":0},{"$f":"'Załącznik nr 1 do rozliczenia'!F114+'Załącznik nr 1 do rozliczenia'!F236+'Załącznik nr 1 do rozliczenia'!F358","v":0},{"$f":"'Załącznik nr 2 do rozliczenia'!D111","v":0},{"$f":"'Załącznik nr 2 do rozliczenia'!E111+'Załącznik nr 2 do rozliczenia'!E232+'Załącznik nr 2 do rozliczenia'!E353","v":0},{"$f":"'Załącznik nr 2 do rozliczenia'!H111+'Załącznik nr 2 do rozliczenia'!H232+'Załącznik nr 2 do rozliczenia'!H353","v":0}]
[84,{"$f":"'Załącznik nr 1 do rozliczenia'!B115","v":""},{"$f":"'Rozliczenie kwartalne'!C119+'Rozliczenie kwartalne'!C240+'Rozliczenie kwartalne'!C361","v":0},{"$f":"'Rozliczenie kwartalne'!D119+'Rozliczenie kwartalne'!D240+'Rozliczenie kwartalne'!D361","v":0},0,{"$f":"'Rozliczenie kwartalne'!F119+'Rozliczenie kwartalne'!F240+'Rozliczenie kwartalne'!F361","v":0},0,0,{"$f":"'Rozliczenie kwartalne'!I240+'Rozliczenie kwartalne'!I119+'Rozliczenie kwartalne'!I361","v":0},{"$f":"'Rozliczenie kwartalne'!J119+'Rozliczenie kwartalne'!J240+'Rozliczenie kwartalne'!J361","v":0},{"$f":"'Rozliczenie kwartalne'!K119+'Rozliczenie kwartalne'!K240+'Rozliczenie kwartalne'!K361","v":0},{"$f":"'Rozliczenie kwartalne'!L119+'Rozliczenie kwartalne'!L240+'Rozliczenie kwartalne'!L361","v":0},{"$f":"'Rozliczenie kwartalne'!M119+'Rozliczenie kwartalne'!M240+'Rozliczenie kwartalne'!M361","v":0},{"$f":"'Rozliczenie kwartalne'!N119+'Rozliczenie kwartalne'!N240+'Rozliczenie kwartalne'!N361","v":0},{"$f":"'Załącznik nr 1 do rozliczenia'!D115+'Załącznik nr 1 do rozliczenia'!D237+'Załącznik nr 1 do rozliczenia'!D359","v":0},{"$f":"'Załącznik nr 1 do rozliczenia'!E115+'Załącznik nr 1 do rozliczenia'!E237+'Załącznik nr 1 do rozliczenia'!E359","v":0},{"$f":"'Załącznik nr 1 do rozliczenia'!F115+'Załącznik nr 1 do rozliczenia'!F237+'Załącznik nr 1 do rozliczenia'!F359","v":0},{"$f":"'Załącznik nr 2 do rozliczenia'!D112","v":0},{"$f":"'Załącznik nr 2 do rozliczenia'!E112+'Załącznik nr 2 do rozliczenia'!E233+'Załącznik nr 2 do rozliczenia'!E354","v":0},{"$f":"'Załącznik nr 2 do rozliczenia'!H112+'Załącznik nr 2 do rozliczenia'!H233+'Załącznik nr 2 do rozliczenia'!H354","v":0}]
[85,{"$f":"'Załącznik nr 1 do rozliczenia'!B116","v":""},{"$f":"'Rozliczenie kwartalne'!C120+'Rozliczenie kwartalne'!C241+'Rozliczenie kwartalne'!C362","v":0},{"$f":"'Rozliczenie kwartalne'!D120+'Rozliczenie kwartalne'!D241+'Rozliczenie kwartalne'!D362","v":0},0,{"$f":"'Rozliczenie kwartalne'!F120+'Rozliczenie kwartalne'!F241+'Rozliczenie kwartalne'!F362","v":0},0,0,{"$f":"'Rozliczenie kwartalne'!I241+'Rozliczenie kwartalne'!I120+'Rozliczenie kwartalne'!I362","v":0},{"$f":"'Rozliczenie kwartalne'!J120+'Rozliczenie kwartalne'!J241+'Rozliczenie kwartalne'!J362","v":0},{"$f":"'Rozliczenie kwartalne'!K120+'Rozliczenie kwartalne'!K241+'Rozliczenie kwartalne'!K362","v":0},{"$f":"'Rozliczenie kwartalne'!L120+'Rozliczenie kwartalne'!L241+'Rozliczenie kwartalne'!L362","v":0},{"$f":"'Rozliczenie kwartalne'!M120+'Rozliczenie kwartalne'!M241+'Rozliczenie kwartalne'!M362","v":0},{"$f":"'Rozliczenie kwartalne'!N120+'Rozliczenie kwartalne'!N241+'Rozliczenie kwartalne'!N362","v":0},{"$f":"'Załącznik nr 1 do rozliczenia'!D116+'Załącznik nr 1 do rozliczenia'!D238+'Załącznik nr 1 do rozliczenia'!D360","v":0},{"$f":"'Załącznik nr 1 do rozliczenia'!E116+'Załącznik nr 1 do rozliczenia'!E238+'Załącznik nr 1 do rozliczenia'!E360","v":0},{"$f":"'Załącznik nr 1 do rozliczenia'!F116+'Załącznik nr 1 do rozliczenia'!F238+'Załącznik nr 1 do rozliczenia'!F360","v":0},{"$f":"'Załącznik nr 2 do rozliczenia'!D113","v":0},{"$f":"'Załącznik nr 2 do rozliczenia'!E113+'Załącznik nr 2 do rozliczenia'!E234+'Załącznik nr 2 do rozliczenia'!E355","v":0},{"$f":"'Załącznik nr 2 do rozliczenia'!H113+'Załącznik nr 2 do rozliczenia'!H234+'Załącznik nr 2 do rozliczenia'!H355","v":0}]
[86,{"$f":"'Załącznik nr 1 do rozliczenia'!B117","v":""},{"$f":"'Rozliczenie kwartalne'!C121+'Rozliczenie kwartalne'!C242+'Rozliczenie kwartalne'!C363","v":0},{"$f":"'Rozliczenie kwartalne'!D121+'Rozliczenie kwartalne'!D242+'Rozliczenie kwartalne'!D363","v":0},0,{"$f":"'Rozliczenie kwartalne'!F121+'Rozliczenie kwartalne'!F242+'Rozliczenie kwartalne'!F363","v":0},0,0,{"$f":"'Rozliczenie kwartalne'!I242+'Rozliczenie kwartalne'!I121+'Rozliczenie kwartalne'!I363","v":0},{"$f":"'Rozliczenie kwartalne'!J121+'Rozliczenie kwartalne'!J242+'Rozliczenie kwartalne'!J363","v":0},{"$f":"'Rozliczenie kwartalne'!K121+'Rozliczenie kwartalne'!K242+'Rozliczenie kwartalne'!K363","v":0},{"$f":"'Rozliczenie kwartalne'!L121+'Rozliczenie kwartalne'!L242+'Rozliczenie kwartalne'!L363","v":0},{"$f":"'Rozliczenie kwartalne'!M121+'Rozliczenie kwartalne'!M242+'Rozliczenie kwartalne'!M363","v":0},{"$f":"'Rozliczenie kwartalne'!N121+'Rozliczenie kwartalne'!N242+'Rozliczenie kwartalne'!N363","v":0},{"$f":"'Załącznik nr 1 do rozliczenia'!D117+'Załącznik nr 1 do rozliczenia'!D239+'Załącznik nr 1 do rozliczenia'!D361","v":0},{"$f":"'Załącznik nr 1 do rozliczenia'!E117+'Załącznik nr 1 do rozliczenia'!E239+'Załącznik nr 1 do rozliczenia'!E361","v":0},{"$f":"'Załącznik nr 1 do rozliczenia'!F117+'Załącznik nr 1 do rozliczenia'!F239+'Załącznik nr 1 do rozliczenia'!F361","v":0},{"$f":"'Załącznik nr 2 do rozliczenia'!D114","v":0},{"$f":"'Załącznik nr 2 do rozliczenia'!E114+'Załącznik nr 2 do rozliczenia'!E235+'Załącznik nr 2 do rozliczenia'!E356","v":0},{"$f":"'Załącznik nr 2 do rozliczenia'!H114+'Załącznik nr 2 do rozliczenia'!H235+'Załącznik nr 2 do rozliczenia'!H356","v":0}]
[87,{"$f":"'Załącznik nr 1 do rozliczenia'!B118","v":""},{"$f":"'Rozliczenie kwartalne'!C122+'Rozliczenie kwartalne'!C243+'Rozliczenie kwartalne'!C364","v":0},{"$f":"'Rozliczenie kwartalne'!D122+'Rozliczenie kwartalne'!D243+'Rozliczenie kwartalne'!D364","v":0},0,{"$f":"'Rozliczenie kwartalne'!F122+'Rozliczenie kwartalne'!F243+'Rozliczenie kwartalne'!F364","v":0},0,0,{"$f":"'Rozliczenie kwartalne'!I243+'Rozliczenie kwartalne'!I122+'Rozliczenie kwartalne'!I364","v":0},{"$f":"'Rozliczenie kwartalne'!J122+'Rozliczenie kwartalne'!J243+'Rozliczenie kwartalne'!J364","v":0},{"$f":"'Rozliczenie kwartalne'!K122+'Rozliczenie kwartalne'!K243+'Rozliczenie kwartalne'!K364","v":0},{"$f":"'Rozliczenie kwartalne'!L122+'Rozliczenie kwartalne'!L243+'Rozliczenie kwartalne'!L364","v":0},{"$f":"'Rozliczenie kwartalne'!M122+'Rozliczenie kwartalne'!M243+'Rozliczenie kwartalne'!M364","v":0},{"$f":"'Rozliczenie kwartalne'!N122+'Rozliczenie kwartalne'!N243+'Rozliczenie kwartalne'!N364","v":0},{"$f":"'Załącznik nr 1 do rozliczenia'!D118+'Załącznik nr 1 do rozliczenia'!D240+'Załącznik nr 1 do rozliczenia'!D362","v":0},{"$f":"'Załącznik nr 1 do rozliczenia'!E118+'Załącznik nr 1 do rozliczenia'!E240+'Załącznik nr 1 do rozliczenia'!E362","v":0},{"$f":"'Załącznik nr 1 do rozliczenia'!F118+'Załącznik nr 1 do rozliczenia'!F240+'Załącznik nr 1 do rozliczenia'!F362","v":0},{"$f":"'Załącznik nr 2 do rozliczenia'!D115","v":0},{"$f":"'Załącznik nr 2 do rozliczenia'!E115+'Załącznik nr 2 do rozliczenia'!E236+'Załącznik nr 2 do rozliczenia'!E357","v":0},{"$f":"'Załącznik nr 2 do rozliczenia'!H115+'Załącznik nr 2 do rozliczenia'!H236+'Załącznik nr 2 do rozliczenia'!H357","v":0}]
[88,{"$f":"'Załącznik nr 1 do rozliczenia'!B119","v":""},{"$f":"'Rozliczenie kwartalne'!C123+'Rozliczenie kwartalne'!C244+'Rozliczenie kwartalne'!C365","v":0},{"$f":"'Rozliczenie kwartalne'!D123+'Rozliczenie kwartalne'!D244+'Rozliczenie kwartalne'!D365","v":0},0,{"$f":"'Rozliczenie kwartalne'!F123+'Rozliczenie kwartalne'!F244+'Rozliczenie kwartalne'!F365","v":0},0,0,{"$f":"'Rozliczenie kwartalne'!I244+'Rozliczenie kwartalne'!I123+'Rozliczenie kwartalne'!I365","v":0},{"$f":"'Rozliczenie kwartalne'!J123+'Rozliczenie kwartalne'!J244+'Rozliczenie kwartalne'!J365","v":0},{"$f":"'Rozliczenie kwartalne'!K123+'Rozliczenie kwartalne'!K244+'Rozliczenie kwartalne'!K365","v":0},{"$f":"'Rozliczenie kwartalne'!L123+'Rozliczenie kwartalne'!L244+'Rozliczenie kwartalne'!L365","v":0},{"$f":"'Rozliczenie kwartalne'!M123+'Rozliczenie kwartalne'!M244+'Rozliczenie kwartalne'!M365","v":0},{"$f":"'Rozliczenie kwartalne'!N123+'Rozliczenie kwartalne'!N244+'Rozliczenie kwartalne'!N365","v":0},{"$f":"'Załącznik nr 1 do rozliczenia'!D119+'Załącznik nr 1 do rozliczenia'!D241+'Załącznik nr 1 do rozliczenia'!D363","v":0},{"$f":"'Załącznik nr 1 do rozliczenia'!E119+'Załącznik nr 1 do rozliczenia'!E241+'Załącznik nr 1 do rozliczenia'!E363","v":0},{"$f":"'Załącznik nr 1 do rozliczenia'!F119+'Załącznik nr 1 do rozliczenia'!F241+'Załącznik nr 1 do rozliczenia'!F363","v":0},{"$f":"'Załącznik nr 2 do rozliczenia'!D116","v":0},{"$f":"'Załącznik nr 2 do rozliczenia'!E116+'Załącznik nr 2 do rozliczenia'!E237+'Załącznik nr 2 do rozliczenia'!E358","v":0},{"$f":"'Załącznik nr 2 do rozliczenia'!H116+'Załącznik nr 2 do rozliczenia'!H237+'Załącznik nr 2 do rozliczenia'!H358","v":0}]
[89,{"$f":"'Załącznik nr 1 do rozliczenia'!B120","v":""},{"$f":"'Rozliczenie kwartalne'!C124+'Rozliczenie kwartalne'!C245+'Rozliczenie kwartalne'!C366","v":0},{"$f":"'Rozliczenie kwartalne'!D124+'Rozliczenie kwartalne'!D245+'Rozliczenie kwartalne'!D366","v":0},0,{"$f":"'Rozliczenie kwartalne'!F124+'Rozliczenie kwartalne'!F245+'Rozliczenie kwartalne'!F366","v":0},0,0,{"$f":"'Rozliczenie kwartalne'!I245+'Rozliczenie kwartalne'!I124+'Rozliczenie kwartalne'!I366","v":0},{"$f":"'Rozliczenie kwartalne'!J124+'Rozliczenie kwartalne'!J245+'Rozliczenie kwartalne'!J366","v":0},{"$f":"'Rozliczenie kwartalne'!K124+'Rozliczenie kwartalne'!K245+'Rozliczenie kwartalne'!K366","v":0},{"$f":"'Rozliczenie kwartalne'!L124+'Rozliczenie kwartalne'!L245+'Rozliczenie kwartalne'!L366","v":0},{"$f":"'Rozliczenie kwartalne'!M124+'Rozliczenie kwartalne'!M245+'Rozliczenie kwartalne'!M366","v":0},{"$f":"'Rozliczenie kwartalne'!N124+'Rozliczenie kwartalne'!N245+'Rozliczenie kwartalne'!N366","v":0},{"$f":"'Załącznik nr 1 do rozliczenia'!D120+'Załącznik nr 1 do rozliczenia'!D242+'Załącznik nr 1 do rozliczenia'!D364","v":0},{"$f":"'Załącznik nr 1 do rozliczenia'!E120+'Załącznik nr 1 do rozliczenia'!E242+'Załącznik nr 1 do rozliczenia'!E364","v":0},{"$f":"'Załącznik nr 1 do rozliczenia'!F120+'Załącznik nr 1 do rozliczenia'!F242+'Załącznik nr 1 do rozliczenia'!F364","v":0},{"$f":"'Załącznik nr 2 do rozliczenia'!D117","v":0},{"$f":"'Załącznik nr 2 do rozliczenia'!E117+'Załącznik nr 2 do rozliczenia'!E238+'Załącznik nr 2 do rozliczenia'!E359","v":0},{"$f":"'Załącznik nr 2 do rozliczenia'!H117+'Załącznik nr 2 do rozliczenia'!H238+'Załącznik nr 2 do rozliczenia'!H359","v":0}]
[90,{"$f":"'Załącznik nr 1 do rozliczenia'!B121","v":""},{"$f":"'Rozliczenie kwartalne'!C125+'Rozliczenie kwartalne'!C246+'Rozliczenie kwartalne'!C367","v":0},{"$f":"'Rozliczenie kwartalne'!D125+'Rozliczenie kwartalne'!D246+'Rozliczenie kwartalne'!D367","v":0},0,{"$f":"'Rozliczenie kwartalne'!F125+'Rozliczenie kwartalne'!F246+'Rozliczenie kwartalne'!F367","v":0},0,0,{"$f":"'Rozliczenie kwartalne'!I246+'Rozliczenie kwartalne'!I125+'Rozliczenie kwartalne'!I367","v":0},{"$f":"'Rozliczenie kwartalne'!J125+'Rozliczenie kwartalne'!J246+'Rozliczenie kwartalne'!J367","v":0},{"$f":"'Rozliczenie kwartalne'!K125+'Rozliczenie kwartalne'!K246+'Rozliczenie kwartalne'!K367","v":0},{"$f":"'Rozliczenie kwartalne'!L125+'Rozliczenie kwartalne'!L246+'Rozliczenie kwartalne'!L367","v":0},{"$f":"'Rozliczenie kwartalne'!M125+'Rozliczenie kwartalne'!M246+'Rozliczenie kwartalne'!M367","v":0},{"$f":"'Rozliczenie kwartalne'!N125+'Rozliczenie kwartalne'!N246+'Rozliczenie kwartalne'!N367","v":0},{"$f":"'Załącznik nr 1 do rozliczenia'!D121+'Załącznik nr 1 do rozliczenia'!D243+'Załącznik nr 1 do rozliczenia'!D365","v":0},{"$f":"'Załącznik nr 1 do rozliczenia'!E121+'Załącznik nr 1 do rozliczenia'!E243+'Załącznik nr 1 do rozliczenia'!E365","v":0},{"$f":"'Załącznik nr 1 do rozliczenia'!F121+'Załącznik nr 1 do rozliczenia'!F243+'Załącznik nr 1 do rozliczenia'!F365","v":0},{"$f":"'Załącznik nr 2 do rozliczenia'!D118","v":0},{"$f":"'Załącznik nr 2 do rozliczenia'!E118+'Załącznik nr 2 do rozliczenia'!E239+'Załącznik nr 2 do rozliczenia'!E360","v":0},{"$f":"'Załącznik nr 2 do rozliczenia'!H118+'Załącznik nr 2 do rozliczenia'!H239+'Załącznik nr 2 do rozliczenia'!H360","v":0}]
[91,{"$f":"'Załącznik nr 1 do rozliczenia'!B122","v":""},{"$f":"'Rozliczenie kwartalne'!C126+'Rozliczenie kwartalne'!C247+'Rozliczenie kwartalne'!C368","v":0},{"$f":"'Rozliczenie kwartalne'!D126+'Rozliczenie kwartalne'!D247+'Rozliczenie kwartalne'!D368","v":0},0,{"$f":"'Rozliczenie kwartalne'!F126+'Rozliczenie kwartalne'!F247+'Rozliczenie kwartalne'!F368","v":0},0,0,{"$f":"'Rozliczenie kwartalne'!I247+'Rozliczenie kwartalne'!I126+'Rozliczenie kwartalne'!I368","v":0},{"$f":"'Rozliczenie kwartalne'!J126+'Rozliczenie kwartalne'!J247+'Rozliczenie kwartalne'!J368","v":0},{"$f":"'Rozliczenie kwartalne'!K126+'Rozliczenie kwartalne'!K247+'Rozliczenie kwartalne'!K368","v":0},{"$f":"'Rozliczenie kwartalne'!L126+'Rozliczenie kwartalne'!L247+'Rozliczenie kwartalne'!L368","v":0},{"$f":"'Rozliczenie kwartalne'!M126+'Rozliczenie kwartalne'!M247+'Rozliczenie kwartalne'!M368","v":0},{"$f":"'Rozliczenie kwartalne'!N126+'Rozliczenie kwartalne'!N247+'Rozliczenie kwartalne'!N368","v":0},{"$f":"'Załącznik nr 1 do rozliczenia'!D122+'Załącznik nr 1 do rozliczenia'!D244+'Załącznik nr 1 do rozliczenia'!D366","v":0},{"$f":"'Załącznik nr 1 do rozliczenia'!E122+'Załącznik nr 1 do rozliczenia'!E244+'Załącznik nr 1 do rozliczenia'!E366","v":0},{"$f":"'Załącznik nr 1 do rozliczenia'!F122+'Załącznik nr 1 do rozliczenia'!F244+'Załącznik nr 1 do rozliczenia'!F366","v":0},{"$f":"'Załącznik nr 2 do rozliczenia'!D119","v":0},{"$f":"'Załącznik nr 2 do rozliczenia'!E119+'Załącznik nr 2 do rozliczenia'!E240+'Załącznik nr 2 do rozliczenia'!E361","v":0},{"$f":"'Załącznik nr 2 do rozliczenia'!H119+'Załącznik nr 2 do rozliczenia'!H240+'Załącznik nr 2 do rozliczenia'!H361","v":0}]
[92,{"$f":"'Załącznik nr 1 do rozliczenia'!B123","v":""},{"$f":"'Rozliczenie kwartalne'!C127+'Rozliczenie kwartalne'!C248+'Rozliczenie kwartalne'!C369","v":0},{"$f":"'Rozliczenie kwartalne'!D127+'Rozliczenie kwartalne'!D248+'Rozliczenie kwartalne'!D369","v":0},0,{"$f":"'Rozliczenie kwartalne'!F127+'Rozliczenie kwartalne'!F248+'Rozliczenie kwartalne'!F369","v":0},0,0,{"$f":"'Rozliczenie kwartalne'!I248+'Rozliczenie kwartalne'!I127+'Rozliczenie kwartalne'!I369","v":0},{"$f":"'Rozliczenie kwartalne'!J127+'Rozliczenie kwartalne'!J248+'Rozliczenie kwartalne'!J369","v":0},{"$f":"'Rozliczenie kwartalne'!K127+'Rozliczenie kwartalne'!K248+'Rozliczenie kwartalne'!K369","v":0},{"$f":"'Rozliczenie kwartalne'!L127+'Rozliczenie kwartalne'!L248+'Rozliczenie kwartalne'!L369","v":0},{"$f":"'Rozliczenie kwartalne'!M127+'Rozliczenie kwartalne'!M248+'Rozliczenie kwartalne'!M369","v":0},{"$f":"'Rozliczenie kwartalne'!N127+'Rozliczenie kwartalne'!N248+'Rozliczenie kwartalne'!N369","v":0},{"$f":"'Załącznik nr 1 do rozliczenia'!D123+'Załącznik nr 1 do rozliczenia'!D245+'Załącznik nr 1 do rozliczenia'!D367","v":0},{"$f":"'Załącznik nr 1 do rozliczenia'!E123+'Załącznik nr 1 do rozliczenia'!E245+'Załącznik nr 1 do rozliczenia'!E367","v":0},{"$f":"'Załącznik nr 1 do rozliczenia'!F123+'Załącznik nr 1 do rozliczenia'!F245+'Załącznik nr 1 do rozliczenia'!F367","v":0},{"$f":"'Załącznik nr 2 do rozliczenia'!D120","v":0},{"$f":"'Załącznik nr 2 do rozliczenia'!E120+'Załącznik nr 2 do rozliczenia'!E241+'Załącznik nr 2 do rozliczenia'!E362","v":0},{"$f":"'Załącznik nr 2 do rozliczenia'!H120+'Załącznik nr 2 do rozliczenia'!H241+'Załącznik nr 2 do rozliczenia'!H362","v":0}]
[93,{"$f":"'Załącznik nr 1 do rozliczenia'!B124","v":""},{"$f":"'Rozliczenie kwartalne'!C128+'Rozliczenie kwartalne'!C249+'Rozliczenie kwartalne'!C370","v":0},{"$f":"'Rozliczenie kwartalne'!D128+'Rozliczenie kwartalne'!D249+'Rozliczenie kwartalne'!D370","v":0},0,{"$f":"'Rozliczenie kwartalne'!F128+'Rozliczenie kwartalne'!F249+'Rozliczenie kwartalne'!F370","v":0},0,0,{"$f":"'Rozliczenie kwartalne'!I249+'Rozliczenie kwartalne'!I128+'Rozliczenie kwartalne'!I370","v":0},{"$f":"'Rozliczenie kwartalne'!J128+'Rozliczenie kwartalne'!J249+'Rozliczenie kwartalne'!J370","v":0},{"$f":"'Rozliczenie kwartalne'!K128+'Rozliczenie kwartalne'!K249+'Rozliczenie kwartalne'!K370","v":0},{"$f":"'Rozliczenie kwartalne'!L128+'Rozliczenie kwartalne'!L249+'Rozliczenie kwartalne'!L370","v":0},{"$f":"'Rozliczenie kwartalne'!M128+'Rozliczenie kwartalne'!M249+'Rozliczenie kwartalne'!M370","v":0},{"$f":"'Rozliczenie kwartalne'!N128+'Rozliczenie kwartalne'!N249+'Rozliczenie kwartalne'!N370","v":0},{"$f":"'Załącznik nr 1 do rozliczenia'!D124+'Załącznik nr 1 do rozliczenia'!D246+'Załącznik nr 1 do rozliczenia'!D368","v":0},{"$f":"'Załącznik nr 1 do rozliczenia'!E124+'Załącznik nr 1 do rozliczenia'!E246+'Załącznik nr 1 do rozliczenia'!E368","v":0},{"$f":"'Załącznik nr 1 do rozliczenia'!F124+'Załącznik nr 1 do rozliczenia'!F246+'Załącznik nr 1 do rozliczenia'!F368","v":0},{"$f":"'Załącznik nr 2 do rozliczenia'!D121","v":0},{"$f":"'Załącznik nr 2 do rozliczenia'!E121+'Załącznik nr 2 do rozliczenia'!E242+'Załącznik nr 2 do rozliczenia'!E363","v":0},{"$f":"'Załącznik nr 2 do rozliczenia'!H121+'Załącznik nr 2 do rozliczenia'!H242+'Załącznik nr 2 do rozliczenia'!H363","v":0}]
[94,{"$f":"'Załącznik nr 1 do rozliczenia'!B125","v":""},{"$f":"'Rozliczenie kwartalne'!C129+'Rozliczenie kwartalne'!C250+'Rozliczenie kwartalne'!C371","v":0},{"$f":"'Rozliczenie kwartalne'!D129+'Rozliczenie kwartalne'!D250+'Rozliczenie kwartalne'!D371","v":0},0,{"$f":"'Rozliczenie kwartalne'!F129+'Rozliczenie kwartalne'!F250+'Rozliczenie kwartalne'!F371","v":0},0,0,{"$f":"'Rozliczenie kwartalne'!I250+'Rozliczenie kwartalne'!I129+'Rozliczenie kwartalne'!I371","v":0},{"$f":"'Rozliczenie kwartalne'!J129+'Rozliczenie kwartalne'!J250+'Rozliczenie kwartalne'!J371","v":0},{"$f":"'Rozliczenie kwartalne'!K129+'Rozliczenie kwartalne'!K250+'Rozliczenie kwartalne'!K371","v":0},{"$f":"'Rozliczenie kwartalne'!L129+'Rozliczenie kwartalne'!L250+'Rozliczenie kwartalne'!L371","v":0},{"$f":"'Rozliczenie kwartalne'!M129+'Rozliczenie kwartalne'!M250+'Rozliczenie kwartalne'!M371","v":0},{"$f":"'Rozliczenie kwartalne'!N129+'Rozliczenie kwartalne'!N250+'Rozliczenie kwartalne'!N371","v":0},{"$f":"'Załącznik nr 1 do rozliczenia'!D125+'Załącznik nr 1 do rozliczenia'!D247+'Załącznik nr 1 do rozliczenia'!D369","v":0},{"$f":"'Załącznik nr 1 do rozliczenia'!E125+'Załącznik nr 1 do rozliczenia'!E247+'Załącznik nr 1 do rozliczenia'!E369","v":0},{"$f":"'Załącznik nr 1 do rozliczenia'!F125+'Załącznik nr 1 do rozliczenia'!F247+'Załącznik nr 1 do rozliczenia'!F369","v":0},{"$f":"'Załącznik nr 2 do rozliczenia'!D122","v":0},{"$f":"'Załącznik nr 2 do rozliczenia'!E122+'Załącznik nr 2 do rozliczenia'!E243+'Załącznik nr 2 do rozliczenia'!E364","v":0},{"$f":"'Załącznik nr 2 do rozliczenia'!H122+'Załącznik nr 2 do rozliczenia'!H243+'Załącznik nr 2 do rozliczenia'!H364","v":0}]
[95,{"$f":"'Załącznik nr 1 do rozliczenia'!B126","v":""},{"$f":"'Rozliczenie kwartalne'!C130+'Rozliczenie kwartalne'!C251+'Rozliczenie kwartalne'!C372","v":0},{"$f":"'Rozliczenie kwartalne'!D130+'Rozliczenie kwartalne'!D251+'Rozliczenie kwartalne'!D372","v":0},0,{"$f":"'Rozliczenie kwartalne'!F130+'Rozliczenie kwartalne'!F251+'Rozliczenie kwartalne'!F372","v":0},0,0,{"$f":"'Rozliczenie kwartalne'!I251+'Rozliczenie kwartalne'!I130+'Rozliczenie kwartalne'!I372","v":0},{"$f":"'Rozliczenie kwartalne'!J130+'Rozliczenie kwartalne'!J251+'Rozliczenie kwartalne'!J372","v":0},{"$f":"'Rozliczenie kwartalne'!K130+'Rozliczenie kwartalne'!K251+'Rozliczenie kwartalne'!K372","v":0},{"$f":"'Rozliczenie kwartalne'!L130+'Rozliczenie kwartalne'!L251+'Rozliczenie kwartalne'!L372","v":0},{"$f":"'Rozliczenie kwartalne'!M130+'Rozliczenie kwartalne'!M251+'Rozliczenie kwartalne'!M372","v":0},{"$f":"'Rozliczenie kwartalne'!N130+'Rozliczenie kwartalne'!N251+'Rozliczenie kwartalne'!N372","v":0},{"$f":"'Załącznik nr 1 do rozliczenia'!D126+'Załącznik nr 1 do rozliczenia'!D248+'Załącznik nr 1 do rozliczenia'!D370","v":0},{"$f":"'Załącznik nr 1 do rozliczenia'!E126+'Załącznik nr 1 do rozliczenia'!E248+'Załącznik nr 1 do rozliczenia'!E370","v":0},{"$f":"'Załącznik nr 1 do rozliczenia'!F126+'Załącznik nr 1 do rozliczenia'!F248+'Załącznik nr 1 do rozliczenia'!F370","v":0},{"$f":"'Załącznik nr 2 do rozliczenia'!D123","v":0},{"$f":"'Załącznik nr 2 do rozliczenia'!E123+'Załącznik nr 2 do rozliczenia'!E244+'Załącznik nr 2 do rozliczenia'!E365","v":0},{"$f":"'Załącznik nr 2 do rozliczenia'!H123+'Załącznik nr 2 do rozliczenia'!H244+'Załącznik nr 2 do rozliczenia'!H365","v":0}]
[96,{"$f":"'Załącznik nr 1 do rozliczenia'!B127","v":""},{"$f":"'Rozliczenie kwartalne'!C131+'Rozliczenie kwartalne'!C252+'Rozliczenie kwartalne'!C373","v":0},{"$f":"'Rozliczenie kwartalne'!D131+'Rozliczenie kwartalne'!D252+'Rozliczenie kwartalne'!D373","v":0},0,{"$f":"'Rozliczenie kwartalne'!F131+'Rozliczenie kwartalne'!F252+'Rozliczenie kwartalne'!F373","v":0},0,0,{"$f":"'Rozliczenie kwartalne'!I252+'Rozliczenie kwartalne'!I131+'Rozliczenie kwartalne'!I373","v":0},{"$f":"'Rozliczenie kwartalne'!J131+'Rozliczenie kwartalne'!J252+'Rozliczenie kwartalne'!J373","v":0},{"$f":"'Rozliczenie kwartalne'!K131+'Rozliczenie kwartalne'!K252+'Rozliczenie kwartalne'!K373","v":0},{"$f":"'Rozliczenie kwartalne'!L131+'Rozliczenie kwartalne'!L252+'Rozliczenie kwartalne'!L373","v":0},{"$f":"'Rozliczenie kwartalne'!M131+'Rozliczenie kwartalne'!M252+'Rozliczenie kwartalne'!M373","v":0},{"$f":"'Rozliczenie kwartalne'!N131+'Rozliczenie kwartalne'!N252+'Rozliczenie kwartalne'!N373","v":0},{"$f":"'Załącznik nr 1 do rozliczenia'!D127+'Załącznik nr 1 do rozliczenia'!D249+'Załącznik nr 1 do rozliczenia'!D371","v":0},{"$f":"'Załącznik nr 1 do rozliczenia'!E127+'Załącznik nr 1 do rozliczenia'!E249+'Załącznik nr 1 do rozliczenia'!E371","v":0},{"$f":"'Załącznik nr 1 do rozliczenia'!F127+'Załącznik nr 1 do rozliczenia'!F249+'Załącznik nr 1 do rozliczenia'!F371","v":0},{"$f":"'Załącznik nr 2 do rozliczenia'!D124","v":0},{"$f":"'Załącznik nr 2 do rozliczenia'!E124+'Załącznik nr 2 do rozliczenia'!E245+'Załącznik nr 2 do rozliczenia'!E366","v":0},{"$f":"'Załącznik nr 2 do rozliczenia'!H124+'Załącznik nr 2 do rozliczenia'!H245+'Załącznik nr 2 do rozliczenia'!H366","v":0}]
[97,{"$f":"'Załącznik nr 1 do rozliczenia'!B128","v":""},{"$f":"'Rozliczenie kwartalne'!C132+'Rozliczenie kwartalne'!C253+'Rozliczenie kwartalne'!C374","v":0},{"$f":"'Rozliczenie kwartalne'!D132+'Rozliczenie kwartalne'!D253+'Rozliczenie kwartalne'!D374","v":0},0,{"$f":"'Rozliczenie kwartalne'!F132+'Rozliczenie kwartalne'!F253+'Rozliczenie kwartalne'!F374","v":0},0,0,{"$f":"'Rozliczenie kwartalne'!I253+'Rozliczenie kwartalne'!I132+'Rozliczenie kwartalne'!I374","v":0},{"$f":"'Rozliczenie kwartalne'!J132+'Rozliczenie kwartalne'!J253+'Rozliczenie kwartalne'!J374","v":0},{"$f":"'Rozliczenie kwartalne'!K132+'Rozliczenie kwartalne'!K253+'Rozliczenie kwartalne'!K374","v":0},{"$f":"'Rozliczenie kwartalne'!L132+'Rozliczenie kwartalne'!L253+'Rozliczenie kwartalne'!L374","v":0},{"$f":"'Rozliczenie kwartalne'!M132+'Rozliczenie kwartalne'!M253+'Rozliczenie kwartalne'!M374","v":0},{"$f":"'Rozliczenie kwartalne'!N132+'Rozliczenie kwartalne'!N253+'Rozliczenie kwartalne'!N374","v":0},{"$f":"'Załącznik nr 1 do rozliczenia'!D128+'Załącznik nr 1 do rozliczenia'!D250+'Załącznik nr 1 do rozliczenia'!D372","v":0},{"$f":"'Załącznik nr 1 do rozliczenia'!E128+'Załącznik nr 1 do rozliczenia'!E250+'Załącznik nr 1 do rozliczenia'!E372","v":0},{"$f":"'Załącznik nr 1 do rozliczenia'!F128+'Załącznik nr 1 do rozliczenia'!F250+'Załącznik nr 1 do rozliczenia'!F372","v":0},{"$f":"'Załącznik nr 2 do rozliczenia'!D125","v":0},{"$f":"'Załącznik nr 2 do rozliczenia'!E125+'Załącznik nr 2 do rozliczenia'!E246+'Załącznik nr 2 do rozliczenia'!E367","v":0},{"$f":"'Załącznik nr 2 do rozliczenia'!H125+'Załącznik nr 2 do rozliczenia'!H246+'Załącznik nr 2 do rozliczenia'!H367","v":0}]
[98,{"$f":"'Załącznik nr 1 do rozliczenia'!B129","v":""},{"$f":"'Rozliczenie kwartalne'!C133+'Rozliczenie kwartalne'!C254+'Rozliczenie kwartalne'!C375","v":0},{"$f":"'Rozliczenie kwartalne'!D133+'Rozliczenie kwartalne'!D254+'Rozliczenie kwartalne'!D375","v":0},0,{"$f":"'Rozliczenie kwartalne'!F133+'Rozliczenie kwartalne'!F254+'Rozliczenie kwartalne'!F375","v":0},0,0,{"$f":"'Rozliczenie kwartalne'!I254+'Rozliczenie kwartalne'!I133+'Rozliczenie kwartalne'!I375","v":0},{"$f":"'Rozliczenie kwartalne'!J133+'Rozliczenie kwartalne'!J254+'Rozliczenie kwartalne'!J375","v":0},{"$f":"'Rozliczenie kwartalne'!K133+'Rozliczenie kwartalne'!K254+'Rozliczenie kwartalne'!K375","v":0},{"$f":"'Rozliczenie kwartalne'!L133+'Rozliczenie kwartalne'!L254+'Rozliczenie kwartalne'!L375","v":0},{"$f":"'Rozliczenie kwartalne'!M133+'Rozliczenie kwartalne'!M254+'Rozliczenie kwartalne'!M375","v":0},{"$f":"'Rozliczenie kwartalne'!N133+'Rozliczenie kwartalne'!N254+'Rozliczenie kwartalne'!N375","v":0},{"$f":"'Załącznik nr 1 do rozliczenia'!D129+'Załącznik nr 1 do rozliczenia'!D251+'Załącznik nr 1 do rozliczenia'!D373","v":0},{"$f":"'Załącznik nr 1 do rozliczenia'!E129+'Załącznik nr 1 do rozliczenia'!E251+'Załącznik nr 1 do rozliczenia'!E373","v":0},{"$f":"'Załącznik nr 1 do rozliczenia'!F129+'Załącznik nr 1 do rozliczenia'!F251+'Załącznik nr 1 do rozliczenia'!F373","v":0},{"$f":"'Załącznik nr 2 do rozliczenia'!D126","v":0},{"$f":"'Załącznik nr 2 do rozliczenia'!E126+'Załącznik nr 2 do rozliczenia'!E247+'Załącznik nr 2 do rozliczenia'!E368","v":0},{"$f":"'Załącznik nr 2 do rozliczenia'!H126+'Załącznik nr 2 do rozliczenia'!H247+'Załącznik nr 2 do rozliczenia'!H368","v":0}]
[99,{"$f":"'Załącznik nr 1 do rozliczenia'!B130","v":""},{"$f":"'Rozliczenie kwartalne'!C134+'Rozliczenie kwartalne'!C255+'Rozliczenie kwartalne'!C376","v":0},{"$f":"'Rozliczenie kwartalne'!D134+'Rozliczenie kwartalne'!D255+'Rozliczenie kwartalne'!D376","v":0},0,{"$f":"'Rozliczenie kwartalne'!F134+'Rozliczenie kwartalne'!F255+'Rozliczenie kwartalne'!F376","v":0},0,0,{"$f":"'Rozliczenie kwartalne'!I255+'Rozliczenie kwartalne'!I134+'Rozliczenie kwartalne'!I376","v":0},{"$f":"'Rozliczenie kwartalne'!J134+'Rozliczenie kwartalne'!J255+'Rozliczenie kwartalne'!J376","v":0},{"$f":"'Rozliczenie kwartalne'!K134+'Rozliczenie kwartalne'!K255+'Rozliczenie kwartalne'!K376","v":0},{"$f":"'Rozliczenie kwartalne'!L134+'Rozliczenie kwartalne'!L255+'Rozliczenie kwartalne'!L376","v":0},{"$f":"'Rozliczenie kwartalne'!M134+'Rozliczenie kwartalne'!M255+'Rozliczenie kwartalne'!M376","v":0},{"$f":"'Rozliczenie kwartalne'!N134+'Rozliczenie kwartalne'!N255+'Rozliczenie kwartalne'!N376","v":0},{"$f":"'Załącznik nr 1 do rozliczenia'!D130+'Załącznik nr 1 do rozliczenia'!D252+'Załącznik nr 1 do rozliczenia'!D374","v":0},{"$f":"'Załącznik nr 1 do rozliczenia'!E130+'Załącznik nr 1 do rozliczenia'!E252+'Załącznik nr 1 do rozliczenia'!E374","v":0},{"$f":"'Załącznik nr 1 do rozliczenia'!F130+'Załącznik nr 1 do rozliczenia'!F252+'Załącznik nr 1 do rozliczenia'!F374","v":0},{"$f":"'Załącznik nr 2 do rozliczenia'!D127","v":0},{"$f":"'Załącznik nr 2 do rozliczenia'!E127+'Załącznik nr 2 do rozliczenia'!E248+'Załącznik nr 2 do rozliczenia'!E369","v":0},{"$f":"'Załącznik nr 2 do rozliczenia'!H127+'Załącznik nr 2 do rozliczenia'!H248+'Załącznik nr 2 do rozliczenia'!H369","v":0}]
[100,{"$f":"'Załącznik nr 1 do rozliczenia'!B131","v":""},{"$f":"'Rozliczenie kwartalne'!C135+'Rozliczenie kwartalne'!C256+'Rozliczenie kwartalne'!C377","v":0},{"$f":"'Rozliczenie kwartalne'!D135+'Rozliczenie kwartalne'!D256+'Rozliczenie kwartalne'!D377","v":0},0,{"$f":"'Rozliczenie kwartalne'!F135+'Rozliczenie kwartalne'!F256+'Rozliczenie kwartalne'!F377","v":0},0,0,{"$f":"'Rozliczenie kwartalne'!I256+'Rozliczenie kwartalne'!I135+'Rozliczenie kwartalne'!I377","v":0},{"$f":"'Rozliczenie kwartalne'!J135+'Rozliczenie kwartalne'!J256+'Rozliczenie kwartalne'!J377","v":0},{"$f":"'Rozliczenie kwartalne'!K135+'Rozliczenie kwartalne'!K256+'Rozliczenie kwartalne'!K377","v":0},{"$f":"'Rozliczenie kwartalne'!L135+'Rozliczenie kwartalne'!L256+'Rozliczenie kwartalne'!L377","v":0},{"$f":"'Rozliczenie kwartalne'!M135+'Rozliczenie kwartalne'!M256+'Rozliczenie kwartalne'!M377","v":0},{"$f":"'Rozliczenie kwartalne'!N135+'Rozliczenie kwartalne'!N256+'Rozliczenie kwartalne'!N377","v":0},{"$f":"'Załącznik nr 1 do rozliczenia'!D131+'Załącznik nr 1 do rozliczenia'!D253+'Załącznik nr 1 do rozliczenia'!D375","v":0},{"$f":"'Załącznik nr 1 do rozliczenia'!E131+'Załącznik nr 1 do rozliczenia'!E253+'Załącznik nr 1 do rozliczenia'!E375","v":0},{"$f":"'Załącznik nr 1 do rozliczenia'!F131+'Załącznik nr 1 do rozliczenia'!F253+'Załącznik nr 1 do rozliczenia'!F375","v":0},{"$f":"'Załącznik nr 2 do rozliczenia'!D128","v":0},{"$f":"'Załącznik nr 2 do rozliczenia'!E128+'Załącznik nr 2 do rozliczenia'!E249+'Załącznik nr 2 do rozliczenia'!E370","v":0},{"$f":"'Załącznik nr 2 do rozliczenia'!H128+'Załącznik nr 2 do rozliczenia'!H249+'Załącznik nr 2 do rozliczenia'!H370","v":0}]
[101,{"$f":"'Załącznik nr 1 do rozliczenia'!B132","v":""},{"$f":"'Rozliczenie kwartalne'!C136+'Rozliczenie kwartalne'!C257+'Rozliczenie kwartalne'!C378","v":0},{"$f":"'Rozliczenie kwartalne'!D136+'Rozliczenie kwartalne'!D257+'Rozliczenie kwartalne'!D378","v":0},0,{"$f":"'Rozliczenie kwartalne'!F136+'Rozliczenie kwartalne'!F257+'Rozliczenie kwartalne'!F378","v":0},0,0,{"$f":"'Rozliczenie kwartalne'!I257+'Rozliczenie kwartalne'!I136+'Rozliczenie kwartalne'!I378","v":0},{"$f":"'Rozliczenie kwartalne'!J136+'Rozliczenie kwartalne'!J257+'Rozliczenie kwartalne'!J378","v":0},{"$f":"'Rozliczenie kwartalne'!K136+'Rozliczenie kwartalne'!K257+'Rozliczenie kwartalne'!K378","v":0},{"$f":"'Rozliczenie kwartalne'!L136+'Rozliczenie kwartalne'!L257+'Rozliczenie kwartalne'!L378","v":0},{"$f":"'Rozliczenie kwartalne'!M136+'Rozliczenie kwartalne'!M257+'Rozliczenie kwartalne'!M378","v":0},{"$f":"'Rozliczenie kwartalne'!N136+'Rozliczenie kwartalne'!N257+'Rozliczenie kwartalne'!N378","v":0},{"$f":"'Załącznik nr 1 do rozliczenia'!D132+'Załącznik nr 1 do rozliczenia'!D254+'Załącznik nr 1 do rozliczenia'!D376","v":0},{"$f":"'Załącznik nr 1 do rozliczenia'!E132+'Załącznik nr 1 do rozliczenia'!E254+'Załącznik nr 1 do rozliczenia'!E376","v":0},{"$f":"'Załącznik nr 1 do rozliczenia'!F132+'Załącznik nr 1 do rozliczenia'!F254+'Załącznik nr 1 do rozliczenia'!F376","v":0},{"$f":"'Załącznik nr 2 do rozliczenia'!D129","v":0},{"$f":"'Załącznik nr 2 do rozliczenia'!E129+'Załącznik nr 2 do rozliczenia'!E250+'Załącznik nr 2 do rozliczenia'!E371","v":0},{"$f":"'Załącznik nr 2 do rozliczenia'!H129+'Załącznik nr 2 do rozliczenia'!H250+'Załącznik nr 2 do rozliczenia'!H371","v":0}]
[102,{"$f":"'Załącznik nr 1 do rozliczenia'!B133","v":""},{"$f":"'Rozliczenie kwartalne'!C137+'Rozliczenie kwartalne'!C258+'Rozliczenie kwartalne'!C379","v":0},{"$f":"'Rozliczenie kwartalne'!D137+'Rozliczenie kwartalne'!D258+'Rozliczenie kwartalne'!D379","v":0},0,{"$f":"'Rozliczenie kwartalne'!F137+'Rozliczenie kwartalne'!F258+'Rozliczenie kwartalne'!F379","v":0},0,0,{"$f":"'Rozliczenie kwartalne'!I258+'Rozliczenie kwartalne'!I137+'Rozliczenie kwartalne'!I379","v":0},{"$f":"'Rozliczenie kwartalne'!J137+'Rozliczenie kwartalne'!J258+'Rozliczenie kwartalne'!J379","v":0},{"$f":"'Rozliczenie kwartalne'!K137+'Rozliczenie kwartalne'!K258+'Rozliczenie kwartalne'!K379","v":0},{"$f":"'Rozliczenie kwartalne'!L137+'Rozliczenie kwartalne'!L258+'Rozliczenie kwartalne'!L379","v":0},{"$f":"'Rozliczenie kwartalne'!M137+'Rozliczenie kwartalne'!M258+'Rozliczenie kwartalne'!M379","v":0},{"$f":"'Rozliczenie kwartalne'!N137+'Rozliczenie kwartalne'!N258+'Rozliczenie kwartalne'!N379","v":0},{"$f":"'Załącznik nr 1 do rozliczenia'!D133+'Załącznik nr 1 do rozliczenia'!D255+'Załącznik nr 1 do rozliczenia'!D377","v":0},{"$f":"'Załącznik nr 1 do rozliczenia'!E133+'Załącznik nr 1 do rozliczenia'!E255+'Załącznik nr 1 do rozliczenia'!E377","v":0},{"$f":"'Załącznik nr 1 do rozliczenia'!F133+'Załącznik nr 1 do rozliczenia'!F255+'Załącznik nr 1 do rozliczenia'!F377","v":0},{"$f":"'Załącznik nr 2 do rozliczenia'!D130","v":0},{"$f":"'Załącznik nr 2 do rozliczenia'!E130+'Załącznik nr 2 do rozliczenia'!E251+'Załącznik nr 2 do rozliczenia'!E372","v":0},{"$f":"'Załącznik nr 2 do rozliczenia'!H130+'Załącznik nr 2 do rozliczenia'!H251+'Załącznik nr 2 do rozliczenia'!H372","v":0}]
[103,{"$f":"'Załącznik nr 1 do rozliczenia'!B134","v":""},{"$f":"'Rozliczenie kwartalne'!C138+'Rozliczenie kwartalne'!C259+'Rozliczenie kwartalne'!C380","v":0},{"$f":"'Rozliczenie kwartalne'!D138+'Rozliczenie kwartalne'!D259+'Rozliczenie kwartalne'!D380","v":0},0,{"$f":"'Rozliczenie kwartalne'!F138+'Rozliczenie kwartalne'!F259+'Rozliczenie kwartalne'!F380","v":0},0,0,{"$f":"'Rozliczenie kwartalne'!I259+'Rozliczenie kwartalne'!I138+'Rozliczenie kwartalne'!I380","v":0},{"$f":"'Rozliczenie kwartalne'!J138+'Rozliczenie kwartalne'!J259+'Rozliczenie kwartalne'!J380","v":0},{"$f":"'Rozliczenie kwartalne'!K138+'Rozliczenie kwartalne'!K259+'Rozliczenie kwartalne'!K380","v":0},{"$f":"'Rozliczenie kwartalne'!L138+'Rozliczenie kwartalne'!L259+'Rozliczenie kwartalne'!L380","v":0},{"$f":"'Rozliczenie kwartalne'!M138+'Rozliczenie kwartalne'!M259+'Rozliczenie kwartalne'!M380","v":0},{"$f":"'Rozliczenie kwartalne'!N138+'Rozliczenie kwartalne'!N259+'Rozliczenie kwartalne'!N380","v":0},{"$f":"'Załącznik nr 1 do rozliczenia'!D134+'Załącznik nr 1 do rozliczenia'!D256+'Załącznik nr 1 do rozliczenia'!D378","v":0},{"$f":"'Załącznik nr 1 do rozliczenia'!E134+'Załącznik nr 1 do rozliczenia'!E256+'Załącznik nr 1 do rozliczenia'!E378","v":0},{"$f":"'Załącznik nr 1 do rozliczenia'!F134+'Załącznik nr 1 do rozliczenia'!F256+'Załącznik nr 1 do rozliczenia'!F378","v":0},{"$f":"'Załącznik nr 2 do rozliczenia'!D131","v":0},{"$f":"'Załącznik nr 2 do rozliczenia'!E131+'Załącznik nr 2 do rozliczenia'!E252+'Załącznik nr 2 do rozliczenia'!E373","v":0},{"$f":"'Załącznik nr 2 do rozliczenia'!H131+'Załącznik nr 2 do rozliczenia'!H252+'Załącznik nr 2 do rozliczenia'!H373","v":0}]
[104,{"$f":"'Załącznik nr 1 do rozliczenia'!B135","v":""},{"$f":"'Rozliczenie kwartalne'!C139+'Rozliczenie kwartalne'!C260+'Rozliczenie kwartalne'!C381","v":0},{"$f":"'Rozliczenie kwartalne'!D139+'Rozliczenie kwartalne'!D260+'Rozliczenie kwartalne'!D381","v":0},0,{"$f":"'Rozliczenie kwartalne'!F139+'Rozliczenie kwartalne'!F260+'Rozliczenie kwartalne'!F381","v":0},0,0,{"$f":"'Rozliczenie kwartalne'!I260+'Rozliczenie kwartalne'!I139+'Rozliczenie kwartalne'!I381","v":0},{"$f":"'Rozliczenie kwartalne'!J139+'Rozliczenie kwartalne'!J260+'Rozliczenie kwartalne'!J381","v":0},{"$f":"'Rozliczenie kwartalne'!K139+'Rozliczenie kwartalne'!K260+'Rozliczenie kwartalne'!K381","v":0},{"$f":"'Rozliczenie kwartalne'!L139+'Rozliczenie kwartalne'!L260+'Rozliczenie kwartalne'!L381","v":0},{"$f":"'Rozliczenie kwartalne'!M139+'Rozliczenie kwartalne'!M260+'Rozliczenie kwartalne'!M381","v":0},{"$f":"'Rozliczenie kwartalne'!N139+'Rozliczenie kwartalne'!N260+'Rozliczenie kwartalne'!N381","v":0},{"$f":"'Załącznik nr 1 do rozliczenia'!D135+'Załącznik nr 1 do rozliczenia'!D257+'Załącznik nr 1 do rozliczenia'!D379","v":0},{"$f":"'Załącznik nr 1 do rozliczenia'!E135+'Załącznik nr 1 do rozliczenia'!E257+'Załącznik nr 1 do rozliczenia'!E379","v":0},{"$f":"'Załącznik nr 1 do rozliczenia'!F135+'Załącznik nr 1 do rozliczenia'!F257+'Załącznik nr 1 do rozliczenia'!F379","v":0},{"$f":"'Załącznik nr 2 do rozliczenia'!D132","v":0},{"$f":"'Załącznik nr 2 do rozliczenia'!E132+'Załącznik nr 2 do rozliczenia'!E253+'Załącznik nr 2 do rozliczenia'!E374","v":0},{"$f":"'Załącznik nr 2 do rozliczenia'!H132+'Załącznik nr 2 do rozliczenia'!H253+'Załącznik nr 2 do rozliczenia'!H374","v":0}]
[105,{"$f":"'Załącznik nr 1 do rozliczenia'!B136","v":""},{"$f":"'Rozliczenie kwartalne'!C140+'Rozliczenie kwartalne'!C261+'Rozliczenie kwartalne'!C382","v":0},{"$f":"'Rozliczenie kwartalne'!D140+'Rozliczenie kwartalne'!D261+'Rozliczenie kwartalne'!D382","v":0},0,{"$f":"'Rozliczenie kwartalne'!F140+'Rozliczenie kwartalne'!F261+'Rozliczenie kwartalne'!F382","v":0},0,0,{"$f":"'Rozliczenie kwartalne'!I261+'Rozliczenie kwartalne'!I140+'Rozliczenie kwartalne'!I382","v":0},{"$f":"'Rozliczenie kwartalne'!J140+'Rozliczenie kwartalne'!J261+'Rozliczenie kwartalne'!J382","v":0},{"$f":"'Rozliczenie kwartalne'!K140+'Rozliczenie kwartalne'!K261+'Rozliczenie kwartalne'!K382","v":0},{"$f":"'Rozliczenie kwartalne'!L140+'Rozliczenie kwartalne'!L261+'Rozliczenie kwartalne'!L382","v":0},{"$f":"'Rozliczenie kwartalne'!M140+'Rozliczenie kwartalne'!M261+'Rozliczenie kwartalne'!M382","v":0},{"$f":"'Rozliczenie kwartalne'!N140+'Rozliczenie kwartalne'!N261+'Rozliczenie kwartalne'!N382","v":0},{"$f":"'Załącznik nr 1 do rozliczenia'!D136+'Załącznik nr 1 do rozliczenia'!D258+'Załącznik nr 1 do rozliczenia'!D380","v":0},{"$f":"'Załącznik nr 1 do rozliczenia'!E136+'Załącznik nr 1 do rozliczenia'!E258+'Załącznik nr 1 do rozliczenia'!E380","v":0},{"$f":"'Załącznik nr 1 do rozliczenia'!F136+'Załącznik nr 1 do rozliczenia'!F258+'Załącznik nr 1 do rozliczenia'!F380","v":0},{"$f":"'Załącznik nr 2 do rozliczenia'!D133","v":0},{"$f":"'Załącznik nr 2 do rozliczenia'!E133+'Załącznik nr 2 do rozliczenia'!E254+'Załącznik nr 2 do rozliczenia'!E375","v":0},{"$f":"'Załącznik nr 2 do rozliczenia'!H133+'Załącznik nr 2 do rozliczenia'!H254+'Załącznik nr 2 do rozliczenia'!H375","v":0}]
[106,{"$f":"'Załącznik nr 1 do rozliczenia'!B137","v":""},{"$f":"'Rozliczenie kwartalne'!C141+'Rozliczenie kwartalne'!C262+'Rozliczenie kwartalne'!C383","v":0},{"$f":"'Rozliczenie kwartalne'!D141+'Rozliczenie kwartalne'!D262+'Rozliczenie kwartalne'!D383","v":0},0,{"$f":"'Rozliczenie kwartalne'!F141+'Rozliczenie kwartalne'!F262+'Rozliczenie kwartalne'!F383","v":0},0,0,{"$f":"'Rozliczenie kwartalne'!I262+'Rozliczenie kwartalne'!I141+'Rozliczenie kwartalne'!I383","v":0},{"$f":"'Rozliczenie kwartalne'!J141+'Rozliczenie kwartalne'!J262+'Rozliczenie kwartalne'!J383","v":0},{"$f":"'Rozliczenie kwartalne'!K141+'Rozliczenie kwartalne'!K262+'Rozliczenie kwartalne'!K383","v":0},{"$f":"'Rozliczenie kwartalne'!L141+'Rozliczenie kwartalne'!L262+'Rozliczenie kwartalne'!L383","v":0},{"$f":"'Rozliczenie kwartalne'!M141+'Rozliczenie kwartalne'!M262+'Rozliczenie kwartalne'!M383","v":0},{"$f":"'Rozliczenie kwartalne'!N141+'Rozliczenie kwartalne'!N262+'Rozliczenie kwartalne'!N383","v":0},{"$f":"'Załącznik nr 1 do rozliczenia'!D137+'Załącznik nr 1 do rozliczenia'!D259+'Załącznik nr 1 do rozliczenia'!D381","v":0},{"$f":"'Załącznik nr 1 do rozliczenia'!E137+'Załącznik nr 1 do rozliczenia'!E259+'Załącznik nr 1 do rozliczenia'!E381","v":0},{"$f":"'Załącznik nr 1 do rozliczenia'!F137+'Załącznik nr 1 do rozliczenia'!F259+'Załącznik nr 1 do rozliczenia'!F381","v":0},{"$f":"'Załącznik nr 2 do rozliczenia'!D134","v":0},{"$f":"'Załącznik nr 2 do rozliczenia'!E134+'Załącznik nr 2 do rozliczenia'!E255+'Załącznik nr 2 do rozliczenia'!E376","v":0},{"$f":"'Załącznik nr 2 do rozliczenia'!H134+'Załącznik nr 2 do rozliczenia'!H255+'Załącznik nr 2 do rozliczenia'!H376","v":0}]
[107,{"$f":"'Załącznik nr 1 do rozliczenia'!B138","v":""},{"$f":"'Rozliczenie kwartalne'!C142+'Rozliczenie kwartalne'!C263+'Rozliczenie kwartalne'!C384","v":0},{"$f":"'Rozliczenie kwartalne'!D142+'Rozliczenie kwartalne'!D263+'Rozliczenie kwartalne'!D384","v":0},0,{"$f":"'Rozliczenie kwartalne'!F142+'Rozliczenie kwartalne'!F263+'Rozliczenie kwartalne'!F384","v":0},0,0,{"$f":"'Rozliczenie kwartalne'!I263+'Rozliczenie kwartalne'!I142+'Rozliczenie kwartalne'!I384","v":0},{"$f":"'Rozliczenie kwartalne'!J142+'Rozliczenie kwartalne'!J263+'Rozliczenie kwartalne'!J384","v":0},{"$f":"'Rozliczenie kwartalne'!K142+'Rozliczenie kwartalne'!K263+'Rozliczenie kwartalne'!K384","v":0},{"$f":"'Rozliczenie kwartalne'!L142+'Rozliczenie kwartalne'!L263+'Rozliczenie kwartalne'!L384","v":0},{"$f":"'Rozliczenie kwartalne'!M142+'Rozliczenie kwartalne'!M263+'Rozliczenie kwartalne'!M384","v":0},{"$f":"'Rozliczenie kwartalne'!N142+'Rozliczenie kwartalne'!N263+'Rozliczenie kwartalne'!N384","v":0},{"$f":"'Załącznik nr 1 do rozliczenia'!D138+'Załącznik nr 1 do rozliczenia'!D260+'Załącznik nr 1 do rozliczenia'!D382","v":0},{"$f":"'Załącznik nr 1 do rozliczenia'!E138+'Załącznik nr 1 do rozliczenia'!E260+'Załącznik nr 1 do rozliczenia'!E382","v":0},{"$f":"'Załącznik nr 1 do rozliczenia'!F138+'Załącznik nr 1 do rozliczenia'!F260+'Załącznik nr 1 do rozliczenia'!F382","v":0},{"$f":"'Załącznik nr 2 do rozliczenia'!D135","v":0},{"$f":"'Załącznik nr 2 do rozliczenia'!E135+'Załącznik nr 2 do rozliczenia'!E256+'Załącznik nr 2 do rozliczenia'!E377","v":0},{"$f":"'Załącznik nr 2 do rozliczenia'!H135+'Załącznik nr 2 do rozliczenia'!H256+'Załącznik nr 2 do rozliczenia'!H377","v":0}]
[108,{"$f":"'Załącznik nr 1 do rozliczenia'!B139","v":""},{"$f":"'Rozliczenie kwartalne'!C143+'Rozliczenie kwartalne'!C264+'Rozliczenie kwartalne'!C385","v":0},{"$f":"'Rozliczenie kwartalne'!D143+'Rozliczenie kwartalne'!D264+'Rozliczenie kwartalne'!D385","v":0},0,{"$f":"'Rozliczenie kwartalne'!F143+'Rozliczenie kwartalne'!F264+'Rozliczenie kwartalne'!F385","v":0},0,0,{"$f":"'Rozliczenie kwartalne'!I264+'Rozliczenie kwartalne'!I143+'Rozliczenie kwartalne'!I385","v":0},{"$f":"'Rozliczenie kwartalne'!J143+'Rozliczenie kwartalne'!J264+'Rozliczenie kwartalne'!J385","v":0},{"$f":"'Rozliczenie kwartalne'!K143+'Rozliczenie kwartalne'!K264+'Rozliczenie kwartalne'!K385","v":0},{"$f":"'Rozliczenie kwartalne'!L143+'Rozliczenie kwartalne'!L264+'Rozliczenie kwartalne'!L385","v":0},{"$f":"'Rozliczenie kwartalne'!M143+'Rozliczenie kwartalne'!M264+'Rozliczenie kwartalne'!M385","v":0},{"$f":"'Rozliczenie kwartalne'!N143+'Rozliczenie kwartalne'!N264+'Rozliczenie kwartalne'!N385","v":0},{"$f":"'Załącznik nr 1 do rozliczenia'!D139+'Załącznik nr 1 do rozliczenia'!D261+'Załącznik nr 1 do rozliczenia'!D383","v":0},{"$f":"'Załącznik nr 1 do rozliczenia'!E139+'Załącznik nr 1 do rozliczenia'!E261+'Załącznik nr 1 do rozliczenia'!E383","v":0},{"$f":"'Załącznik nr 1 do rozliczenia'!F139+'Załącznik nr 1 do rozliczenia'!F261+'Załącznik nr 1 do rozliczenia'!F383","v":0},{"$f":"'Załącznik nr 2 do rozliczenia'!D136","v":0},{"$f":"'Załącznik nr 2 do rozliczenia'!E136+'Załącznik nr 2 do rozliczenia'!E257+'Załącznik nr 2 do rozliczenia'!E378","v":0},{"$f":"'Załącznik nr 2 do rozliczenia'!H136+'Załącznik nr 2 do rozliczenia'!H257+'Załącznik nr 2 do rozliczenia'!H378","v":0}]
[109,{"$f":"'Załącznik nr 1 do rozliczenia'!B140","v":""},{"$f":"'Rozliczenie kwartalne'!C144+'Rozliczenie kwartalne'!C265+'Rozliczenie kwartalne'!C386","v":0},{"$f":"'Rozliczenie kwartalne'!D144+'Rozliczenie kwartalne'!D265+'Rozliczenie kwartalne'!D386","v":0},0,{"$f":"'Rozliczenie kwartalne'!F144+'Rozliczenie kwartalne'!F265+'Rozliczenie kwartalne'!F386","v":0},0,0,{"$f":"'Rozliczenie kwartalne'!I265+'Rozliczenie kwartalne'!I144+'Rozliczenie kwartalne'!I386","v":0},{"$f":"'Rozliczenie kwartalne'!J144+'Rozliczenie kwartalne'!J265+'Rozliczenie kwartalne'!J386","v":0},{"$f":"'Rozliczenie kwartalne'!K144+'Rozliczenie kwartalne'!K265+'Rozliczenie kwartalne'!K386","v":0},{"$f":"'Rozliczenie kwartalne'!L144+'Rozliczenie kwartalne'!L265+'Rozliczenie kwartalne'!L386","v":0},{"$f":"'Rozliczenie kwartalne'!M144+'Rozliczenie kwartalne'!M265+'Rozliczenie kwartalne'!M386","v":0},{"$f":"'Rozliczenie kwartalne'!N144+'Rozliczenie kwartalne'!N265+'Rozliczenie kwartalne'!N386","v":0},{"$f":"'Załącznik nr 1 do rozliczenia'!D140+'Załącznik nr 1 do rozliczenia'!D262+'Załącznik nr 1 do rozliczenia'!D384","v":0},{"$f":"'Załącznik nr 1 do rozliczenia'!E140+'Załącznik nr 1 do rozliczenia'!E262+'Załącznik nr 1 do rozliczenia'!E384","v":0},{"$f":"'Załącznik nr 1 do rozliczenia'!F140+'Załącznik nr 1 do rozliczenia'!F262+'Załącznik nr 1 do rozliczenia'!F384","v":0},{"$f":"'Załącznik nr 2 do rozliczenia'!D137","v":0},{"$f":"'Załącznik nr 2 do rozliczenia'!E137+'Załącznik nr 2 do rozliczenia'!E258+'Załącznik nr 2 do rozliczenia'!E379","v":0},{"$f":"'Załącznik nr 2 do rozliczenia'!H137+'Załącznik nr 2 do rozliczenia'!H258+'Załącznik nr 2 do rozliczenia'!H379","v":0}]
[110,{"$f":"'Załącznik nr 1 do rozliczenia'!B141","v":""},{"$f":"'Rozliczenie kwartalne'!C145+'Rozliczenie kwartalne'!C266+'Rozliczenie kwartalne'!C387","v":0},{"$f":"'Rozliczenie kwartalne'!D145+'Rozliczenie kwartalne'!D266+'Rozliczenie kwartalne'!D387","v":0},0,{"$f":"'Rozliczenie kwartalne'!F145+'Rozliczenie kwartalne'!F266+'Rozliczenie kwartalne'!F387","v":0},0,0,{"$f":"'Rozliczenie kwartalne'!I266+'Rozliczenie kwartalne'!I145+'Rozliczenie kwartalne'!I387","v":0},{"$f":"'Rozliczenie kwartalne'!J145+'Rozliczenie kwartalne'!J266+'Rozliczenie kwartalne'!J387","v":0},{"$f":"'Rozliczenie kwartalne'!K145+'Rozliczenie kwartalne'!K266+'Rozliczenie kwartalne'!K387","v":0},{"$f":"'Rozliczenie kwartalne'!L145+'Rozliczenie kwartalne'!L266+'Rozliczenie kwartalne'!L387","v":0},{"$f":"'Rozliczenie kwartalne'!M145+'Rozliczenie kwartalne'!M266+'Rozliczenie kwartalne'!M387","v":0},{"$f":"'Rozliczenie kwartalne'!N145+'Rozliczenie kwartalne'!N266+'Rozliczenie kwartalne'!N387","v":0},{"$f":"'Załącznik nr 1 do rozliczenia'!D141+'Załącznik nr 1 do rozliczenia'!D263+'Załącznik nr 1 do rozliczenia'!D385","v":0},{"$f":"'Załącznik nr 1 do rozliczenia'!E141+'Załącznik nr 1 do rozliczenia'!E263+'Załącznik nr 1 do rozliczenia'!E385","v":0},{"$f":"'Załącznik nr 1 do rozliczenia'!F141+'Załącznik nr 1 do rozliczenia'!F263+'Załącznik nr 1 do rozliczenia'!F385","v":0},{"$f":"'Załącznik nr 2 do rozliczenia'!D138","v":0},{"$f":"'Załącznik nr 2 do rozliczenia'!E138+'Załącznik nr 2 do rozliczenia'!E259+'Załącznik nr 2 do rozliczenia'!E380","v":0},{"$f":"'Załącznik nr 2 do rozliczenia'!H138+'Załącznik nr 2 do rozliczenia'!H259+'Załącznik nr 2 do rozliczenia'!H380","v":0}]
[111,{"$f":"'Załącznik nr 1 do rozliczenia'!B142","v":""},{"$f":"'Rozliczenie kwartalne'!C146+'Rozliczenie kwartalne'!C267+'Rozliczenie kwartalne'!C388","v":0},{"$f":"'Rozliczenie kwartalne'!D146+'Rozliczenie kwartalne'!D267+'Rozliczenie kwartalne'!D388","v":0},0,{"$f":"'Rozliczenie kwartalne'!F146+'Rozliczenie kwartalne'!F267+'Rozliczenie kwartalne'!F388","v":0},0,0,{"$f":"'Rozliczenie kwartalne'!I267+'Rozliczenie kwartalne'!I146+'Rozliczenie kwartalne'!I388","v":0},{"$f":"'Rozliczenie kwartalne'!J146+'Rozliczenie kwartalne'!J267+'Rozliczenie kwartalne'!J388","v":0},{"$f":"'Rozliczenie kwartalne'!K146+'Rozliczenie kwartalne'!K267+'Rozliczenie kwartalne'!K388","v":0},{"$f":"'Rozliczenie kwartalne'!L146+'Rozliczenie kwartalne'!L267+'Rozliczenie kwartalne'!L388","v":0},{"$f":"'Rozliczenie kwartalne'!M146+'Rozliczenie kwartalne'!M267+'Rozliczenie kwartalne'!M388","v":0},{"$f":"'Rozliczenie kwartalne'!N146+'Rozliczenie kwartalne'!N267+'Rozliczenie kwartalne'!N388","v":0},{"$f":"'Załącznik nr 1 do rozliczenia'!D142+'Załącznik nr 1 do rozliczenia'!D264+'Załącznik nr 1 do rozliczenia'!D386","v":0},{"$f":"'Załącznik nr 1 do rozliczenia'!E142+'Załącznik nr 1 do rozliczenia'!E264+'Załącznik nr 1 do rozliczenia'!E386","v":0},{"$f":"'Załącznik nr 1 do rozliczenia'!F142+'Załącznik nr 1 do rozliczenia'!F264+'Załącznik nr 1 do rozliczenia'!F386","v":0},{"$f":"'Załącznik nr 2 do rozliczenia'!D139","v":0},{"$f":"'Załącznik nr 2 do rozliczenia'!E139+'Załącznik nr 2 do rozliczenia'!E260+'Załącznik nr 2 do rozliczenia'!E381","v":0},{"$f":"'Załącznik nr 2 do rozliczenia'!H139+'Załącznik nr 2 do rozliczenia'!H260+'Załącznik nr 2 do rozliczenia'!H381","v":0}]
[112,{"$f":"'Załącznik nr 1 do rozliczenia'!B143","v":""},{"$f":"'Rozliczenie kwartalne'!C147+'Rozliczenie kwartalne'!C268+'Rozliczenie kwartalne'!C389","v":0},{"$f":"'Rozliczenie kwartalne'!D147+'Rozliczenie kwartalne'!D268+'Rozliczenie kwartalne'!D389","v":0},0,{"$f":"'Rozliczenie kwartalne'!F147+'Rozliczenie kwartalne'!F268+'Rozliczenie kwartalne'!F389","v":0},0,0,{"$f":"'Rozliczenie kwartalne'!I268+'Rozliczenie kwartalne'!I147+'Rozliczenie kwartalne'!I389","v":0},{"$f":"'Rozliczenie kwartalne'!J147+'Rozliczenie kwartalne'!J268+'Rozliczenie kwartalne'!J389","v":0},{"$f":"'Rozliczenie kwartalne'!K147+'Rozliczenie kwartalne'!K268+'Rozliczenie kwartalne'!K389","v":0},{"$f":"'Rozliczenie kwartalne'!L147+'Rozliczenie kwartalne'!L268+'Rozliczenie kwartalne'!L389","v":0},{"$f":"'Rozliczenie kwartalne'!M147+'Rozliczenie kwartalne'!M268+'Rozliczenie kwartalne'!M389","v":0},{"$f":"'Rozliczenie kwartalne'!N147+'Rozliczenie kwartalne'!N268+'Rozliczenie kwartalne'!N389","v":0},{"$f":"'Załącznik nr 1 do rozliczenia'!D143+'Załącznik nr 1 do rozliczenia'!D265+'Załącznik nr 1 do rozliczenia'!D387","v":0},{"$f":"'Załącznik nr 1 do rozliczenia'!E143+'Załącznik nr 1 do rozliczenia'!E265+'Załącznik nr 1 do rozliczenia'!E387","v":0},{"$f":"'Załącznik nr 1 do rozliczenia'!F143+'Załącznik nr 1 do rozliczenia'!F265+'Załącznik nr 1 do rozliczenia'!F387","v":0},{"$f":"'Załącznik nr 2 do rozliczenia'!D140","v":0},{"$f":"'Załącznik nr 2 do rozliczenia'!E140+'Załącznik nr 2 do rozliczenia'!E261+'Załącznik nr 2 do rozliczenia'!E382","v":0},{"$f":"'Załącznik nr 2 do rozliczenia'!H140+'Załącznik nr 2 do rozliczenia'!H261+'Załącznik nr 2 do rozliczenia'!H382","v":0}]
[113,{"$f":"'Załącznik nr 1 do rozliczenia'!B144","v":""},{"$f":"'Rozliczenie kwartalne'!C148+'Rozliczenie kwartalne'!C269+'Rozliczenie kwartalne'!C390","v":0},{"$f":"'Rozliczenie kwartalne'!D148+'Rozliczenie kwartalne'!D269+'Rozliczenie kwartalne'!D390","v":0},0,{"$f":"'Rozliczenie kwartalne'!F148+'Rozliczenie kwartalne'!F269+'Rozliczenie kwartalne'!F390","v":0},0,0,{"$f":"'Rozliczenie kwartalne'!I269+'Rozliczenie kwartalne'!I148+'Rozliczenie kwartalne'!I390","v":0},{"$f":"'Rozliczenie kwartalne'!J148+'Rozliczenie kwartalne'!J269+'Rozliczenie kwartalne'!J390","v":0},{"$f":"'Rozliczenie kwartalne'!K148+'Rozliczenie kwartalne'!K269+'Rozliczenie kwartalne'!K390","v":0},{"$f":"'Rozliczenie kwartalne'!L148+'Rozliczenie kwartalne'!L269+'Rozliczenie kwartalne'!L390","v":0},{"$f":"'Rozliczenie kwartalne'!M148+'Rozliczenie kwartalne'!M269+'Rozliczenie kwartalne'!M390","v":0},{"$f":"'Rozliczenie kwartalne'!N148+'Rozliczenie kwartalne'!N269+'Rozliczenie kwartalne'!N390","v":0},{"$f":"'Załącznik nr 1 do rozliczenia'!D144+'Załącznik nr 1 do rozliczenia'!D266+'Załącznik nr 1 do rozliczenia'!D388","v":0},{"$f":"'Załącznik nr 1 do rozliczenia'!E144+'Załącznik nr 1 do rozliczenia'!E266+'Załącznik nr 1 do rozliczenia'!E388","v":0},{"$f":"'Załącznik nr 1 do rozliczenia'!F144+'Załącznik nr 1 do rozliczenia'!F266+'Załącznik nr 1 do rozliczenia'!F388","v":0},{"$f":"'Załącznik nr 2 do rozliczenia'!D141","v":0},{"$f":"'Załącznik nr 2 do rozliczenia'!E141+'Załącznik nr 2 do rozliczenia'!E262+'Załącznik nr 2 do rozliczenia'!E383","v":0},{"$f":"'Załącznik nr 2 do rozliczenia'!H141+'Załącznik nr 2 do rozliczenia'!H262+'Załącznik nr 2 do rozliczenia'!H383","v":0}]
[114,{"$f":"'Załącznik nr 1 do rozliczenia'!B145","v":""},{"$f":"'Rozliczenie kwartalne'!C149+'Rozliczenie kwartalne'!C270+'Rozliczenie kwartalne'!C391","v":0},{"$f":"'Rozliczenie kwartalne'!D149+'Rozliczenie kwartalne'!D270+'Rozliczenie kwartalne'!D391","v":0},0,{"$f":"'Rozliczenie kwartalne'!F149+'Rozliczenie kwartalne'!F270+'Rozliczenie kwartalne'!F391","v":0},0,0,{"$f":"'Rozliczenie kwartalne'!I270+'Rozliczenie kwartalne'!I149+'Rozliczenie kwartalne'!I391","v":0},{"$f":"'Rozliczenie kwartalne'!J149+'Rozliczenie kwartalne'!J270+'Rozliczenie kwartalne'!J391","v":0},{"$f":"'Rozliczenie kwartalne'!K149+'Rozliczenie kwartalne'!K270+'Rozliczenie kwartalne'!K391","v":0},{"$f":"'Rozliczenie kwartalne'!L149+'Rozliczenie kwartalne'!L270+'Rozliczenie kwartalne'!L391","v":0},{"$f":"'Rozliczenie kwartalne'!M149+'Rozliczenie kwartalne'!M270+'Rozliczenie kwartalne'!M391","v":0},{"$f":"'Rozliczenie kwartalne'!N149+'Rozliczenie kwartalne'!N270+'Rozliczenie kwartalne'!N391","v":0},{"$f":"'Załącznik nr 1 do rozliczenia'!D145+'Załącznik nr 1 do rozliczenia'!D267+'Załącznik nr 1 do rozliczenia'!D389","v":0},{"$f":"'Załącznik nr 1 do rozliczenia'!E145+'Załącznik nr 1 do rozliczenia'!E267+'Załącznik nr 1 do rozliczenia'!E389","v":0},{"$f":"'Załącznik nr 1 do rozliczenia'!F145+'Załącznik nr 1 do rozliczenia'!F267+'Załącznik nr 1 do rozliczenia'!F389","v":0},{"$f":"'Załącznik nr 2 do rozliczenia'!D142","v":0},{"$f":"'Załącznik nr 2 do rozliczenia'!E142+'Załącznik nr 2 do rozliczenia'!E263+'Załącznik nr 2 do rozliczenia'!E384","v":0},{"$f":"'Załącznik nr 2 do rozliczenia'!H142+'Załącznik nr 2 do rozliczenia'!H263+'Załącznik nr 2 do rozliczenia'!H384","v":0}]
[115,{"$f":"'Załącznik nr 1 do rozliczenia'!B146","v":""},{"$f":"'Rozliczenie kwartalne'!C150+'Rozliczenie kwartalne'!C271+'Rozliczenie kwartalne'!C392","v":0},{"$f":"'Rozliczenie kwartalne'!D150+'Rozliczenie kwartalne'!D271+'Rozliczenie kwartalne'!D392","v":0},0,{"$f":"'Rozliczenie kwartalne'!F150+'Rozliczenie kwartalne'!F271+'Rozliczenie kwartalne'!F392","v":0},0,0,{"$f":"'Rozliczenie kwartalne'!I271+'Rozliczenie kwartalne'!I150+'Rozliczenie kwartalne'!I392","v":0},{"$f":"'Rozliczenie kwartalne'!J150+'Rozliczenie kwartalne'!J271+'Rozliczenie kwartalne'!J392","v":0},{"$f":"'Rozliczenie kwartalne'!K150+'Rozliczenie kwartalne'!K271+'Rozliczenie kwartalne'!K392","v":0},{"$f":"'Rozliczenie kwartalne'!L150+'Rozliczenie kwartalne'!L271+'Rozliczenie kwartalne'!L392","v":0},{"$f":"'Rozliczenie kwartalne'!M150+'Rozliczenie kwartalne'!M271+'Rozliczenie kwartalne'!M392","v":0},{"$f":"'Rozliczenie kwartalne'!N150+'Rozliczenie kwartalne'!N271+'Rozliczenie kwartalne'!N392","v":0},{"$f":"'Załącznik nr 1 do rozliczenia'!D146+'Załącznik nr 1 do rozliczenia'!D268+'Załącznik nr 1 do rozliczenia'!D390","v":0},{"$f":"'Załącznik nr 1 do rozliczenia'!E146+'Załącznik nr 1 do rozliczenia'!E268+'Załącznik nr 1 do rozliczenia'!E390","v":0},{"$f":"'Załącznik nr 1 do rozliczenia'!F146+'Załącznik nr 1 do rozliczenia'!F268+'Załącznik nr 1 do rozliczenia'!F390","v":0},{"$f":"'Załącznik nr 2 do rozliczenia'!D143","v":0},{"$f":"'Załącznik nr 2 do rozliczenia'!E143+'Załącznik nr 2 do rozliczenia'!E264+'Załącznik nr 2 do rozliczenia'!E385","v":0},{"$f":"'Załącznik nr 2 do rozliczenia'!H143+'Załącznik nr 2 do rozliczenia'!H264+'Załącznik nr 2 do rozliczenia'!H385","v":0}]