{"text_format":"1","workbook":"xlsx","n_sheets":20,"sheets":["11-państw.fund.cel.","20-państw.szk.wyż.","31-instytucje gosp budż","41-państw.inst.kult.","42-samorz.inst.kult.","61-samodz.publ.ZOZ państw.","50-PAN i jedn.tworz.przez PAN","62-samodz.publ.ZOZ samorz.","63-Narodowy Fundusz Zdrowia","71-ZUS","72-fund.zarz.przez ZUS","73-KRUS","81-państw.osoba prawna","82-samorz.osoba prawna","90-agencja wykonawcza","99-zbiorczo","LISTA","RBNN1","RBNN2","RBNB"],"not_rendered":{"charts":0,"images":0,"macros":1,"external_links":0,"defined_names":31,"comments":0,"pivot_tables":0},"unopened":[],"bounds":{"document_bytes":16777216,"sheet_cells":100000,"rows_first":2000,"rows_last":500,"rows_between":2000,"halvings":0,"cell_chars":16384,"cell_head_chars":4096},"cells_cut":0,"cells_raw":0,"read":"whole","date_system":"1900"}

{"sheet":"11-państw.fund.cel.","index":0,"n_rows":65,"n_cols":21,"rows_kept":65,"cut":false,"hidden":false,"merged":[[2,0,2,1],[5,0,5,1],[7,0,7,1],[8,2,8,4],[50,0,50,4],[16,0,16,1],[45,0,45,4],[43,6,43,11],[49,0,49,4],[38,0,38,1],[39,0,39,1],[53,0,53,4],[52,0,52,4],[51,0,51,4]]}
[null,null,null,null,null,null,null,null,null,null,null,null,null,null,null,null,null,null,null,null,0]
["Nazwa jednostki sprawozdawczej ",null,null,null,null,"Rb-N   KWARTALNE SPRAWOZDANIE O STANIE NALEŻNOŚCI ORAZ WYBRANYCH AKTYWÓW FINANSOWYCH",null,null,null,null,null,null,null,null,null,null,null,null,null,null,{"$f":"MAX('11-państw.fund.cel.:90-agencja wykonawcza'!U1)","v":0}]
[{"$f":"IF(U$1<>0,INDEX(LISTANAZW,U1,1),IF(U$2<>0,INDEX(LISTANAZW,U2,1),\"\"))","v":""}]
[null,null,null,null,null,"państwowego funduszu celowego posiadającego osobowość prawną"]
["Adres jednostki sprawozdawczej",null,null,null,null,null,null,null,null,null,null,null,null,"Adresat:"]
[null,null,null,null,null,null,null,null,null,null,null,null,null,"Urząd Statystyczny we Wrocławiu"]
["Numer identyfikacyjny REGON",null,"liczba identyfik.jedn.",null,null,null,null,null,null,null,null,null,null,"ul. Oławska 31"]
[{"$f":"IF(U$1<>0,INDEX(LISTAREG,$U1,1),IF(U$2<>0,INDEX(LISTAREG,$U2,1),\"\"))","v":""},null,null,null,null,"wg stanu na koniec",null,null,"kwartału","  roku",null,null,null,"50-950 Wrocław"]
["Nazwa województwa",null,null,null,null,null,null,"SYMBOLE"]
["Nazwa powiatu / związku",null,null,null,null,"WOJ.","POWIAT","GMINA","TYP GM.","ZWIĄZEK JST","TYP ZW.","GRUPA","CZĘŚĆ BUDŻ.",null,null,null,null,null,null,null,0]
["Nazwa gminy / związku",null,null,null,null,null,null,null,null,null,null,11]
[]
[" A. Należności oraz wybrane aktywa finansowe"]
[]
[null,null,null,null,null,null,null,"d ł u ż n i c y   k r a j o w i",null,null,null,null,null,null,null,"             d ł u ż n i c y   z a g r a n i c z n i "]
[null,null,"kwota"]
["Wyszczególnienie",null,"należności",null,"sektor",null,null,null,null,null,null,null,null,null,"instytucje"]
[null,null,"ogółem","ogółem","finansów","grupa I","grupa II","grupa III","grupa IV","bank","banki","pozostałe","przedsiębiorstwa ","gospodarstwa","niekomercyjne",null,"podmioty","pozostałe"]
[null,null,"(kol. 3+15)","(kol 4+9+10+11+","publicznych",null,null,null,null,"centralny",null,"krajowe","niefinansowe","domowe","działające ","ogółem","należące ","podmioty"]
[null,null,null,"12+13+14)","ogółem",null,null,null,null,null,null,"instytucje",null,null,"na rzecz",null,"do strefy","zagraniczne"]
[null,null,null,null,"(kol 5+6+7+8)",null,null,null,null,null,null,"finansowe",null,null,"gospodarstw","(kol. 16+17)","euro"]
[null,null,null,null,null,null,null,null,null,null,null,null,null,null,"domowych"]
[1,null,2,3,4,5,6,7,8,9,10,11,12,13,14,15,16,17]
["N1. papiery wartościowe (N1.1+N1.2)",null,{"$f":"C25+C26","v":0},{"$f":"D25+D26","v":0},{"$f":"E25+E26","v":0},{"$f":"F25+F26","v":0},{"$f":"G25+G26","v":0},0,0,0,0,0,0,0,0,{"$f":"P25+P26","v":0},{"$f":"Q25+Q26","v":0},{"$f":"R25+R26","v":0}]
["      N1.1. krótkoterminowe",null,{"$f":"D25+P25","v":0},{"$f":"E25+J25+K25+L25+M25+N25+O25","v":0},{"$f":"F25+G25+H25+I25","v":0},null,null,null,null,null,null,null,null,null,null,{"$f":"Q25+R25","v":0}]
["      N1.2. długoterminowe",null,{"$f":"D26+P26","v":0},{"$f":"E26+J26+K26+L26+M26+N26+O26","v":0},{"$f":"F26+G26+H26+I26","v":0},null,null,null,null,null,null,null,null,null,null,{"$f":"Q26+R26","v":0}]
["N2. pożyczki (N2.1+N2.2)",null,{"$f":"C28+C29","v":0},{"$f":"D28+D29","v":0},{"$f":"E28+E29","v":0},{"$f":"F28+F29","v":0},{"$f":"G28+G29","v":0},0,0,0,0,0,0,0,0,{"$f":"P28+P29","v":0},{"$f":"Q28+Q29","v":0},{"$f":"R28+R29","v":0}]
["      N2.1. krótkoterminowe",null,{"$f":"D28+P28","v":0},{"$f":"E28+J28+K28+L28+M28+N28+O28","v":0},{"$f":"F28+G28+H28+I28","v":0},null,null,null,null,null,null,null,null,null,null,{"$f":"Q28+R28","v":0}]
["      N2.2. długoterminowe",null,{"$f":"D29+P29","v":0},{"$f":"E29+J29+K29+L29+M29+N29+O29","v":0},{"$f":"F29+G29+H29+I29","v":0},null,null,null,null,null,null,null,null,null,null,{"$f":"Q29+R29","v":0}]
["N3. gotówka i depozyty (N3.1+N3.2+N3.3)",null,{"$f":"C31+C32+C33","v":0},{"$f":"D31+D32+D33","v":0},0,0,0,0,0,0,0,0,0,0,0,0,0,0]
["      N3.1. gotówka",null,{"$f":"D31+P31","v":0},{"$f":"E31+J31+K31+L31+M31+N31+O31","v":0},{"$f":"F31+G31+H31+I31","v":0},null,null,null,null,null,null,null,null,null,null,{"$f":"Q31+R31","v":0}]
["      N3.2. depozyty na żądanie",null,{"$f":"D32+P32","v":0},{"$f":"E32+J32+K32+L32+M32+N32+O32","v":0},{"$f":"F32+G32+H32+I32","v":0},null,null,null,null,null,null,null,null,null,null,{"$f":"Q32+R32","v":0}]
["      N3.3. depozyty terminowe",null,{"$f":"D33+P33","v":0},{"$f":"E33+J33+K33+L33+M33+N33+O33","v":0},{"$f":"F33+G33+H33+I33","v":0},null,null,null,null,null,null,null,null,null,null,{"$f":"Q33+R33","v":0}]
["N4.należności wymagalne (N4.1+N4.2)",null,{"$f":"C35+C36","v":0},{"$f":"D35+D36","v":0},0,0,0,0,0,0,0,0,0,0,0,0,0,0]
["      N4.1. z tytułu dostaw towarów i usług",null,{"$f":"D35+P35","v":0},{"$f":"E35+J35+K35+L35+M35+N35+O35","v":0},{"$f":"F35+G35+H35+I35","v":0},null,null,null,null,null,null,null,null,null,null,{"$f":"Q35+R35","v":0}]
["      N4.2. pozostałe",null,{"$f":"D36+P36","v":0},{"$f":"E36+J36+K36+L36+M36+N36+O36","v":0},{"$f":"F36+G36+H36+I36","v":0},null,null,null,null,null,null,null,null,null,null,{"$f":"Q36+R36","v":0}]
["N5. pozostałe należności (N5.1+N5.2+N5.3)",null,{"$f":"C38+C39+C40","v":0},0,0,0,0,0,0,0,0,0,0,0,0,0,0,0]
["      N5.1. z tytułu dostaw towarów i usług",null,{"$f":"D38+P38","v":0},{"$f":"E38+J38+K38+L38+M38+N38+O38","v":0},{"$f":"F38+G38+H38+I38","v":0},null,null,null,null,null,null,null,null,null,null,{"$f":"Q38+R38","v":0}]
["      N5.2. z tytułu podatków i składek \n      na ubezpieczenie społeczne",null,{"$f":"D39+P39","v":0},{"$f":"E39+J39+K39+L39+M39+N39+O39","v":0},{"$f":"F39+G39+H39+I39","v":0},null,null,null,null,null,null,null,null,null,null,{"$f":"Q39+R39","v":0}]
["      N5.3. z tytułów innych niż wymienione\n      wyżej",null,{"$f":"D40+P40","v":0},{"$f":"E40+J40+K40+L40+M40+N40+O40","v":0},{"$f":"F40+G40+H40+I40","v":0},null,null,null,null,null,null,null,null,null,null,{"$f":"Q40+R40","v":0}]
[]
[" B. Należności z tytułu udzielonych poręczeń  i gwarancji"]
[]
[null,null,null,null,null,null,"d ł u ż n i c y"]
[null,null,null,null,null,"Kwota ","podmioty"]
["Wyszczególnienie",null,null,null,null,"należności","sektora","grupa  I","grupa II","grupa III","grupa IV","pozostałe "]
[null,null,null,null,null,"ogółem","finansów",null,null,null,null,"podmioty"]
[null,null,null,null,null,"(kol. 3+8)","publicznych"]
[null,null,null,null,null,null,"(kol.4+5+6+7)"]
[1,null,null,null,null,2,3,4,5,6,7,8]
["B1. należność główna z tytułu udzielonych gwarancji i poręczeń",null,null,null,null,{"$f":"G51+L51","v":0},{"$f":"H51+I51+J51+K51","v":0}]
["B2. odsetki ustawowe za opóźnienie od należności głównej z tytułu udzielonych gwarancji i poręczeń",null,null,null,null,{"$f":"G52+L52","v":0},{"$f":"H52+I52+J52+K52","v":0}]
["B3. wartość spłat dokonanych w okresie sprawozdawczym za dłużników z tytułu udzielonych poręczeń i gwarancji (wydatki)",null,null,null,null,{"$f":"G53+L53","v":0},{"$f":"H53+I53+J53+K53","v":0}]
["B4. kwota odzyskanych wierzytelności w okresie sprawozdawczym od dłużników z tytułu poręczeń lub gwarancji (dochody)",null,null,null,null,{"$f":"G54+L54","v":0},{"$f":"H54+I54+J54+K54","v":0}]
[]
[]
[]
[]
[]
[]
[]
[]
["……………………",null,null,"………………",null,"………………",null,null,"…………………"]
["Główny księgowy * / Skarbnik",null,null,"telefon",null,"rok m-c dzień",null,null,"Kierownik jednostki (jednostki obsługującej)/ Przewodniczący Zarządu"]
["* Nie dotyczy sprawozdań zbiorczych sporządzanych przez RIO. W przypadku braku głównego księgowego podpisuje tylko kierownik jednostki."]

{"sheet":"20-państw.szk.wyż.","index":1,"n_rows":65,"n_cols":21,"rows_kept":65,"cut":false,"hidden":false,"merged":[[53,0,53,4],[49,0,49,4],[50,0,50,4],[45,0,45,4],[51,0,51,4],[52,0,52,4],[22,0,22,1],[8,2,8,4],[38,0,38,1],[39,0,39,1],[2,0,2,1],[5,0,5,1],[7,0,7,1],[16,0,16,1]]}
[null,null,null,null,null,null,null,null,null,null,null,null,null,null,null,null,null,null,null,null,0]
["Nazwa jednostki sprawozdawczej ",null,null,null,null,"Rb-N   KWARTALNE SPRAWOZDANIE O STANIE NALEŻNOŚCI ORAZ WYBRANYCH AKTYWÓW FINANSOWYCH",null,null,null,null,null,null,null,null,null,null,null,null,null,null,{"$f":"MAX('11-państw.fund.cel.:90-agencja wykonawcza'!U1)","v":0}]
[{"$f":"IF(U$1<>0,INDEX(LISTANAZW,U1,1),IF(U$2<>0,INDEX(LISTANAZW,U2,1),\"\"))","v":""}]
[null,null,null,null,null,"uczelni publicznej"]
["Adres jednostki sprawozdawczej",null,null,null,null,null,null,null,null,null,null,null,null,"Adresat:"]
[null,null,null,null,null,null,null,null,null,null,null,null,null,"Urząd Statystyczny we Wrocławiu"]
["Numer identyfikacyjny REGON",null,"liczba identyfik.jedn.",null,null,null,null,null,null,null,null,null,null,"ul. Oławska 31"]
[{"$f":"IF(U$1<>0,INDEX(LISTAREG,$U1,1),IF(U$2<>0,INDEX(LISTAREG,$U2,1),\"\"))","v":""},null,null,null,null,"wg stanu na koniec",null,null,"kwartału","  roku",null,null,null,"50-950 Wrocław"]
["Nazwa województwa",null,null,null,null,null,null,"SYMBOLE"]
["Nazwa powiatu / związku",null,null,null,null,"WOJ.","POWIAT","GMINA","TYP GM.","ZWIĄZEK JST","TYP ZW.","GRUPA","CZĘŚĆ BUDŻ."]
["Nazwa gminy / związku",null,null,null,null,null,null,null,null,null,null,20]
[]
[" A. Należności oraz wybrane aktywa finansowe"]
[]
[null,null,null,null,null,null,null,"d ł u ż n i c y   k r a j o w i",null,null,null,null,null,null,null,"             d ł u ż n i c y   z a g r a n i c z n i "]
[null,null,"kwota"]
["Wyszczególnienie",null,"należności",null,"sektor",null,null,null,null,null,null,null,null,null,"instytucje"]
[null,null,"ogółem","ogółem","finansów","grupa I","grupa II","grupa III","grupa IV","bank","banki","pozostałe","przedsiębiorstwa ","gospodarstwa","niekomercyjne",null,"podmioty","pozostałe"]
[null,null,"(kol. 3+15)","(kol 4+9+10+11+","publicznych",null,null,null,null,"centralny",null,"krajowe","niefinansowe","domowe","działające ","ogółem","należące ","podmioty"]
[null,null,null,"12+13+14)","ogółem",null,null,null,null,null,null,"instytucje",null,null,"na rzecz",null,"do strefy","zagraniczne"]
[null,null,null,null,"(kol 5+6+7+8)",null,null,null,null,null,null,"finansowe",null,null,"gospodarstw","(kol. 16+17)","euro"]
[null,null,null,null,null,null,null,null,null,null,null,null,null,null,"domowych"]
[1,null,2,3,4,5,6,7,8,9,10,11,12,13,14,15,16,17]
["N1. papiery wartościowe (N1.1+N1.2)",null,{"$f":"C25+C26","v":0},{"$f":"D25+D26","v":0},{"$f":"E25+E26","v":0},{"$f":"F25+F26","v":0},{"$f":"G25+G26","v":0},0,0,0,0,0,0,0,0,{"$f":"P25+P26","v":0},{"$f":"Q25+Q26","v":0},{"$f":"R25+R26","v":0}]
["      N1.1. krótkoterminowe",null,{"$f":"D25+P25","v":0},{"$f":"E25+J25+K25+L25+M25+N25+O25","v":0},{"$f":"F25+G25+H25+I25","v":0},null,null,null,null,null,null,null,null,null,null,{"$f":"Q25+R25","v":0}]
["      N1.2. długoterminowe",null,{"$f":"D26+P26","v":0},{"$f":"E26+J26+K26+L26+M26+N26+O26","v":0},{"$f":"F26+G26+H26+I26","v":0},null,null,null,null,null,null,null,null,null,null,{"$f":"Q26+R26","v":0}]
["N2. pożyczki (N2.1+N2.2)",null,{"$f":"C28+C29","v":0},{"$f":"D28+D29","v":0},{"$f":"E28+E29","v":0},{"$f":"F28+F29","v":0},{"$f":"G28+G29","v":0},0,0,0,0,0,0,0,0,{"$f":"P28+P29","v":0},{"$f":"Q28+Q29","v":0},{"$f":"R28+R29","v":0}]
["      N2.1. krótkoterminowe",null,{"$f":"D28+P28","v":0},{"$f":"E28+J28+K28+L28+M28+N28+O28","v":0},{"$f":"F28+G28+H28+I28","v":0},null,null,null,null,null,null,null,null,null,null,{"$f":"Q28+R28","v":0}]
["      N2.2. długoterminowe",null,{"$f":"D29+P29","v":0},{"$f":"E29+J29+K29+L29+M29+N29+O29","v":0},{"$f":"F29+G29+H29+I29","v":0},null,null,null,null,null,null,null,null,null,null,{"$f":"Q29+R29","v":0}]
["N3. gotówka i depozyty (N3.1+N3.2+N3.3)",null,{"$f":"C31+C32+C33","v":0},{"$f":"D31+D32+D33","v":0},0,0,0,0,0,0,0,0,0,0,0,0,0,0]
["      N3.1. gotówka",null,{"$f":"D31+P31","v":0},{"$f":"E31+J31+K31+L31+M31+N31+O31","v":0},{"$f":"F31+G31+H31+I31","v":0},null,null,null,null,null,null,null,null,null,null,{"$f":"Q31+R31","v":0}]
["      N3.2. depozyty na żądanie",null,{"$f":"D32+P32","v":0},{"$f":"E32+J32+K32+L32+M32+N32+O32","v":0},{"$f":"F32+G32+H32+I32","v":0},null,null,null,null,null,null,null,null,null,null,{"$f":"Q32+R32","v":0}]
["      N3.3. depozyty terminowe",null,{"$f":"D33+P33","v":0},{"$f":"E33+J33+K33+L33+M33+N33+O33","v":0},{"$f":"F33+G33+H33+I33","v":0},null,null,null,null,null,null,null,null,null,null,{"$f":"Q33+R33","v":0}]
["N4.należności wymagalne (N4.1+N4.2)",null,{"$f":"C35+C36","v":0},{"$f":"D35+D36","v":0},0,0,0,0,0,0,0,0,0,0,0,0,0,0]
["      N4.1. z tytułu dostaw towarów i usług",null,{"$f":"D35+P35","v":0},{"$f":"E35+J35+K35+L35+M35+N35+O35","v":0},{"$f":"F35+G35+H35+I35","v":0},null,null,null,null,null,null,null,null,null,null,{"$f":"Q35+R35","v":0}]
["      N4.2. pozostałe",null,{"$f":"D36+P36","v":0},{"$f":"E36+J36+K36+L36+M36+N36+O36","v":0},{"$f":"F36+G36+H36+I36","v":0},null,null,null,null,null,null,null,null,null,null,{"$f":"Q36+R36","v":0}]
["N5. pozostałe należności (N5.1+N5.2+N5.3)",null,{"$f":"C38+C39+C40","v":0},0,0,0,0,0,0,0,0,0,0,0,0,0,0,0]
["      N5.1. z tytułu dostaw towarów i usług",null,{"$f":"D38+P38","v":0},{"$f":"E38+J38+K38+L38+M38+N38+O38","v":0},{"$f":"F38+G38+H38+I38","v":0},null,null,null,null,null,null,null,null,null,null,{"$f":"Q38+R38","v":0}]
["      N5.2. z tytułu podatków i składek \n      na ubezpieczenie społeczne",null,{"$f":"D39+P39","v":0},{"$f":"E39+J39+K39+L39+M39+N39+O39","v":0},{"$f":"F39+G39+H39+I39","v":0},null,null,null,null,null,null,null,null,null,null,{"$f":"Q39+R39","v":0}]
["      N5.3. z tytułów innych niż wymienione\n      wyżej",null,{"$f":"D40+P40","v":0},{"$f":"E40+J40+K40+L40+M40+N40+O40","v":0},{"$f":"F40+G40+H40+I40","v":0},null,null,null,null,null,null,null,null,null,null,{"$f":"Q40+R40","v":0}]
[]
[" B. Należności z tytułu udzielonych poręczeń  i gwarancji"]
[]
[null,null,null,null,null,null,"d ł u ż n i c y"]
[null,null,null,null,null,"Kwota ","podmioty"]
["Wyszczególnienie",null,null,null,null,"należności","sektora","grupa  I","grupa II","grupa III","grupa IV","pozostałe "]
[null,null,null,null,null,"ogółem","finansów",null,null,null,null,"podmioty"]
[null,null,null,null,null,"(kol. 3+8)","publicznych"]
[null,null,null,null,null,null,"(kol.4+5+6+7)"]
[1,null,null,null,null,2,3,4,5,6,7,8]
["B1. należność główna z tytułu udzielonych gwarancji i poręczeń",null,null,null,null,{"$f":"G51+L51","v":0},{"$f":"H51+I51+J51+K51","v":0}]
["B2. odsetki ustawowe za opóźnienie od należności głównej z tytułu udzielonych gwarancji i poręczeń",null,null,null,null,{"$f":"G52+L52","v":0},{"$f":"H52+I52+J52+K52","v":0}]
["B3. wartość spłat dokonanych w okresie sprawozdawczym za dłużników z tytułu udzielonych poręczeń i gwarancji (wydatki)",null,null,null,null,{"$f":"G53+L53","v":0},{"$f":"H53+I53+J53+K53","v":0}]
["B4. kwota odzyskanych wierzytelności w okresie sprawozdawczym od dłużników z tytułu poręczeń lub gwarancji (dochody)",null,null,null,null,{"$f":"G54+L54","v":0},{"$f":"H54+I54+J54+K54","v":0}]
[]
[]
[]
[]
[]
[]
[]
[]
["……………………",null,null,"………………",null,"………………",null,null,"…………………"]
["Główny księgowy * / Skarbnik",null,null,"telefon",null,"rok m-c dzień",null,null,"Kierownik jednostki (jednostki obsługującej)/ Przewodniczący Zarządu"]
["* Nie dotyczy sprawozdań zbiorczych sporządzanych przez RIO. W przypadku braku głównego księgowego podpisuje tylko kierownik jednostki."]

{"sheet":"31-instytucje gosp budż","index":2,"n_rows":65,"n_cols":21,"rows_kept":65,"cut":false,"hidden":false,"merged":[[53,0,53,4],[49,0,49,4],[50,0,50,4],[45,0,45,4],[51,0,51,4],[52,0,52,4],[22,0,22,1],[8,2,8,4],[38,0,38,1],[39,0,39,1],[2,0,2,1],[5,0,5,1],[7,0,7,1],[16,0,16,1]]}
[null,null,null,null,null,null,null,null,null,null,null,null,null,null,null,null,null,null,null,null,0]
["Nazwa jednostki sprawozdawczej ",null,null,null,null,"Rb-N   KWARTALNE SPRAWOZDANIE O STANIE NALEŻNOŚCI ORAZ WYBRANYCH AKTYWÓW FINANSOWYCH",null,null,null,null,null,null,null,null,null,null,null,null,null,null,{"$f":"MAX('11-państw.fund.cel.:90-agencja wykonawcza'!U1)","v":0}]
[{"$f":"IF(U$1<>0,INDEX(LISTANAZW,U1,1),IF(U$2<>0,INDEX(LISTANAZW,U2,1),\"\"))","v":""}]
[null,null,null,null,null,"instytucji gospodarki budżetowej"]
["Adres jednostki sprawozdawczej",null,null,null,null,null,null,null,null,null,null,null,null,"Adresat:"]
[null,null,null,null,null,null,null,null,null,null,null,null,null,"Urząd Statystyczny we Wrocławiu"]
["Numer identyfikacyjny REGON",null,"liczba identyfik.jedn.",null,null,null,null,null,null,null,null,null,null,"ul. Oławska 31"]
[{"$f":"IF(U$1<>0,INDEX(LISTAREG,$U1,1),IF(U$2<>0,INDEX(LISTAREG,$U2,1),\"\"))","v":""},null,null,null,null,"wg stanu na koniec",null,null,"kwartału","  roku",null,null,null,"50-950 Wrocław"]
["Nazwa województwa",null,null,null,null,null,null,"SYMBOLE"]
["Nazwa powiatu / związku",null,null,null,null,"WOJ.","POWIAT","GMINA","TYP GM.","ZWIĄZEK JST","TYP ZW.","GRUPA","CZĘŚĆ BUDŻ."]
["Nazwa gminy / związku",null,null,null,null,null,null,null,null,null,null,31]
[]
[" A. Należności oraz wybrane aktywa finansowe"]
[]
[null,null,null,null,null,null,null,"d ł u ż n i c y   k r a j o w i",null,null,null,null,null,null,null,"             d ł u ż n i c y   z a g r a n i c z n i "]
[null,null,"kwota"]
["Wyszczególnienie",null,"należności",null,"sektor",null,null,null,null,null,null,null,null,null,"instytucje"]
[null,null,"ogółem","ogółem","finansów","grupa I","grupa II","grupa III","grupa IV","bank","banki","pozostałe","przedsiębiorstwa ","gospodarstwa","niekomercyjne",null,"podmioty","pozostałe"]
[null,null,"(kol. 3+15)","(kol 4+9+10+11+","publicznych",null,null,null,null,"centralny",null,"krajowe","niefinansowe","domowe","działające ","ogółem","należące ","podmioty"]
[null,null,null,"12+13+14)","ogółem",null,null,null,null,null,null,"instytucje",null,null,"na rzecz",null,"do strefy","zagraniczne"]
[null,null,null,null,"(kol 5+6+7+8)",null,null,null,null,null,null,"finansowe",null,null,"gospodarstw","(kol. 16+17)","euro"]
[null,null,null,null,null,null,null,null,null,null,null,null,null,null,"domowych"]
[1,null,2,3,4,5,6,7,8,9,10,11,12,13,14,15,16,17]
["N1. papiery wartościowe (N1.1+N1.2)",null,{"$f":"C25+C26","v":0},{"$f":"D25+D26","v":0},{"$f":"E25+E26","v":0},{"$f":"F25+F26","v":0},{"$f":"G25+G26","v":0},0,0,0,0,0,0,0,0,{"$f":"P25+P26","v":0},{"$f":"Q25+Q26","v":0},{"$f":"R25+R26","v":0}]
["      N1.1. krótkoterminowe",null,{"$f":"D25+P25","v":0},{"$f":"E25+J25+K25+L25+M25+N25+O25","v":0},{"$f":"F25+G25+H25+I25","v":0},null,null,null,null,null,null,null,null,null,null,{"$f":"Q25+R25","v":0}]
["      N1.2. długoterminowe",null,{"$f":"D26+P26","v":0},{"$f":"E26+J26+K26+L26+M26+N26+O26","v":0},{"$f":"F26+G26+H26+I26","v":0},null,null,null,null,null,null,null,null,null,null,{"$f":"Q26+R26","v":0}]
["N2. pożyczki (N2.1+N2.2)",null,{"$f":"C28+C29","v":0},{"$f":"D28+D29","v":0},{"$f":"E28+E29","v":0},{"$f":"F28+F29","v":0},{"$f":"G28+G29","v":0},0,0,0,0,0,0,0,0,{"$f":"P28+P29","v":0},{"$f":"Q28+Q29","v":0},{"$f":"R28+R29","v":0}]
["      N2.1. krótkoterminowe",null,{"$f":"D28+P28","v":0},{"$f":"E28+J28+K28+L28+M28+N28+O28","v":0},{"$f":"F28+G28+H28+I28","v":0},null,null,null,null,null,null,null,null,null,null,{"$f":"Q28+R28","v":0}]
["      N2.2. długoterminowe",null,{"$f":"D29+P29","v":0},{"$f":"E29+J29+K29+L29+M29+N29+O29","v":0},{"$f":"F29+G29+H29+I29","v":0},null,null,null,null,null,null,null,null,null,null,{"$f":"Q29+R29","v":0}]
["N3. gotówka i depozyty (N3.1+N3.2+N3.3)",null,{"$f":"C31+C32+C33","v":0},{"$f":"D31+D32+D33","v":0},0,0,0,0,0,0,0,0,0,0,0,0,0,0]
["      N3.1. gotówka",null,{"$f":"D31+P31","v":0},{"$f":"E31+J31+K31+L31+M31+N31+O31","v":0},{"$f":"F31+G31+H31+I31","v":0},null,null,null,null,null,null,null,null,null,null,{"$f":"Q31+R31","v":0}]
["      N3.2. depozyty na żądanie",null,{"$f":"D32+P32","v":0},{"$f":"E32+J32+K32+L32+M32+N32+O32","v":0},{"$f":"F32+G32+H32+I32","v":0},null,null,null,null,null,null,null,null,null,null,{"$f":"Q32+R32","v":0}]
["      N3.3. depozyty terminowe",null,{"$f":"D33+P33","v":0},{"$f":"E33+J33+K33+L33+M33+N33+O33","v":0},{"$f":"F33+G33+H33+I33","v":0},null,null,null,null,null,null,null,null,null,null,{"$f":"Q33+R33","v":0}]
["N4.należności wymagalne (N4.1+N4.2)",null,{"$f":"C35+C36","v":0},{"$f":"D35+D36","v":0},0,0,0,0,0,0,0,0,0,0,0,0,0,0]
["      N4.1. z tytułu dostaw towarów i usług",null,{"$f":"D35+P35","v":0},{"$f":"E35+J35+K35+L35+M35+N35+O35","v":0},{"$f":"F35+G35+H35+I35","v":0},null,null,null,null,null,null,null,null,null,null,{"$f":"Q35+R35","v":0}]
["      N4.2. pozostałe",null,{"$f":"D36+P36","v":0},{"$f":"E36+J36+K36+L36+M36+N36+O36","v":0},{"$f":"F36+G36+H36+I36","v":0},null,null,null,null,null,null,null,null,null,null,{"$f":"Q36+R36","v":0}]
["N5. pozostałe należności (N5.1+N5.2+N5.3)",null,{"$f":"C38+C39+C40","v":0},0,0,0,0,0,0,0,0,0,0,0,0,0,0,0]
["      N5.1. z tytułu dostaw towarów i usług",null,{"$f":"D38+P38","v":0},{"$f":"E38+J38+K38+L38+M38+N38+O38","v":0},{"$f":"F38+G38+H38+I38","v":0},null,null,null,null,null,null,null,null,null,null,{"$f":"Q38+R38","v":0}]
["      N5.2. z tytułu podatków i składek \n      na ubezpieczenie społeczne",null,{"$f":"D39+P39","v":0},{"$f":"E39+J39+K39+L39+M39+N39+O39","v":0},{"$f":"F39+G39+H39+I39","v":0},null,null,null,null,null,null,null,null,null,null,{"$f":"Q39+R39","v":0}]
["      N5.3. z tytułów innych niż wymienione\n      wyżej",null,{"$f":"D40+P40","v":0},{"$f":"E40+J40+K40+L40+M40+N40+O40","v":0},{"$f":"F40+G40+H40+I40","v":0},null,null,null,null,null,null,null,null,null,null,{"$f":"Q40+R40","v":0}]
[]
[" B. Należności z tytułu udzielonych poręczeń  i gwarancji"]
[]
[null,null,null,null,null,null,"d ł u ż n i c y"]
[null,null,null,null,null,"Kwota ","podmioty"]
["Wyszczególnienie",null,null,null,null,"należności","sektora","grupa  I","grupa II","grupa III","grupa IV","pozostałe "]
[null,null,null,null,null,"ogółem","finansów",null,null,null,null,"podmioty"]
[null,null,null,null,null,"(kol. 3+8)","publicznych"]
[null,null,null,null,null,null,"(kol.4+5+6+7)"]
[1,null,null,null,null,2,3,4,5,6,7,8]
["B1. należność główna z tytułu udzielonych gwarancji i poręczeń",null,null,null,null,{"$f":"G51+L51","v":0},{"$f":"H51+I51+J51+K51","v":0}]
["B2. odsetki ustawowe za opóźnienie od należności głównej z tytułu udzielonych gwarancji i poręczeń",null,null,null,null,{"$f":"G52+L52","v":0},{"$f":"H52+I52+J52+K52","v":0}]
["B3. wartość spłat dokonanych w okresie sprawozdawczym za dłużników z tytułu udzielonych poręczeń i gwarancji (wydatki)",null,null,null,null,{"$f":"G53+L53","v":0},{"$f":"H53+I53+J53+K53","v":0}]
["B4. kwota odzyskanych wierzytelności w okresie sprawozdawczym od dłużników z tytułu poręczeń lub gwarancji (dochody)",null,null,null,null,{"$f":"G54+L54","v":0},{"$f":"H54+I54+J54+K54","v":0}]
[]
[]
[]
[]
[]
[]
[]
[]
["……………………",null,null,"………………",null,"………………",null,null,"…………………"]
["Główny księgowy * / Skarbnik",null,null,"telefon",null,"rok m-c dzień",null,null,"Kierownik jednostki (jednostki obsługującej)/ Przewodniczący Zarządu"]
["* Nie dotyczy sprawozdań zbiorczych sporządzanych przez RIO. W przypadku braku głównego księgowego podpisuje tylko kierownik jednostki."]

{"sheet":"41-państw.inst.kult.","index":3,"n_rows":65,"n_cols":21,"rows_kept":65,"cut":false,"hidden":false,"merged":[[53,0,53,4],[49,0,49,4],[50,0,50,4],[45,0,45,4],[51,0,51,4],[52,0,52,4],[22,0,22,1],[8,2,8,4],[38,0,38,1],[39,0,39,1],[2,0,2,1],[5,0,5,1],[7,0,7,1],[16,0,16,1]]}
[null,null,null,null,null,null,null,null,null,null,null,null,null,null,null,null,null,null,null,null,0]
["Nazwa jednostki sprawozdawczej ",null,null,null,null,"Rb-N   KWARTALNE SPRAWOZDANIE O STANIE NALEŻNOŚCI ORAZ WYBRANYCH AKTYWÓW FINANSOWYCH",null,null,null,null,null,null,null,null,null,null,null,null,null,null,{"$f":"MAX('11-państw.fund.cel.:90-agencja wykonawcza'!U1)","v":0}]
[{"$f":"IF(U$1<>0,INDEX(LISTANAZW,U1,1),IF(U$2<>0,INDEX(LISTANAZW,U2,1),\"\"))","v":""}]
[null,null,null,null,null,"państwowej instytucji kultury"]
["Adres jednostki sprawozdawczej",null,null,null,null,null,null,null,null,null,null,null,null,"Adresat:"]
[null,null,null,null,null,null,null,null,null,null,null,null,null,"Urząd Statystyczny we Wrocławiu"]
["Numer identyfikacyjny REGON",null,"liczba identyfik.jedn.",null,null,null,null,null,null,null,null,null,null,"ul. Oławska 31"]
[{"$f":"IF(U$1<>0,INDEX(LISTAREG,$U1,1),IF(U$2<>0,INDEX(LISTAREG,$U2,1),\"\"))","v":""},null,null,null,null,"wg stanu na koniec",null,null,"kwartału","  roku",null,null,null,"50-950 Wrocław"]
["Nazwa województwa",null,null,null,null,null,null,"SYMBOLE"]
["Nazwa powiatu / związku",null,null,null,null,"WOJ.","POWIAT","GMINA","TYP GM.","ZWIĄZEK JST","TYP ZW.","GRUPA","CZĘŚĆ BUDŻ."]
["Nazwa gminy / związku",null,null,null,null,null,null,null,null,null,null,41]
[]
[" A. Należności oraz wybrane aktywa finansowe"]
[]
[null,null,null,null,null,null,null,"d ł u ż n i c y   k r a j o w i",null,null,null,null,null,null,null,"             d ł u ż n i c y   z a g r a n i c z n i "]
[null,null,"kwota"]
["Wyszczególnienie",null,"należności",null,"sektor",null,null,null,null,null,null,null,null,null,"instytucje"]
[null,null,"ogółem","ogółem","finansów","grupa I","grupa II","grupa III","grupa IV","bank","banki","pozostałe","przedsiębiorstwa ","gospodarstwa","niekomercyjne",null,"podmioty","pozostałe"]
[null,null,"(kol. 3+15)","(kol 4+9+10+11+","publicznych",null,null,null,null,"centralny",null,"krajowe","niefinansowe","domowe","działające ","ogółem","należące ","podmioty"]
[null,null,null,"12+13+14)","ogółem",null,null,null,null,null,null,"instytucje",null,null,"na rzecz",null,"do strefy","zagraniczne"]
[null,null,null,null,"(kol 5+6+7+8)",null,null,null,null,null,null,"finansowe",null,null,"gospodarstw","(kol. 16+17)","euro"]
[null,null,null,null,null,null,null,null,null,null,null,null,null,null,"domowych"]
[1,null,2,3,4,5,6,7,8,9,10,11,12,13,14,15,16,17]
["N1. papiery wartościowe (N1.1+N1.2)",null,{"$f":"C25+C26","v":0},{"$f":"D25+D26","v":0},{"$f":"E25+E26","v":0},{"$f":"F25+F26","v":0},{"$f":"G25+G26","v":0},0,0,0,0,0,0,0,0,{"$f":"P25+P26","v":0},{"$f":"Q25+Q26","v":0},{"$f":"R25+R26","v":0}]
["      N1.1. krótkoterminowe",null,{"$f":"D25+P25","v":0},{"$f":"E25+J25+K25+L25+M25+N25+O25","v":0},{"$f":"F25+G25+H25+I25","v":0},null,null,null,null,null,null,null,null,null,null,{"$f":"Q25+R25","v":0}]
["      N1.2. długoterminowe",null,{"$f":"D26+P26","v":0},{"$f":"E26+J26+K26+L26+M26+N26+O26","v":0},{"$f":"F26+G26+H26+I26","v":0},null,null,null,null,null,null,null,null,null,null,{"$f":"Q26+R26","v":0}]
["N2. pożyczki (N2.1+N2.2)",null,{"$f":"C28+C29","v":0},{"$f":"D28+D29","v":0},{"$f":"E28+E29","v":0},{"$f":"F28+F29","v":0},{"$f":"G28+G29","v":0},0,0,0,0,0,0,0,0,{"$f":"P28+P29","v":0},{"$f":"Q28+Q29","v":0},{"$f":"R28+R29","v":0}]
["      N2.1. krótkoterminowe",null,{"$f":"D28+P28","v":0},{"$f":"E28+J28+K28+L28+M28+N28+O28","v":0},{"$f":"F28+G28+H28+I28","v":0},null,null,null,null,null,null,null,null,null,null,{"$f":"Q28+R28","v":0}]
["      N2.2. długoterminowe",null,{"$f":"D29+P29","v":0},{"$f":"E29+J29+K29+L29+M29+N29+O29","v":0},{"$f":"F29+G29+H29+I29","v":0},null,null,null,null,null,null,null,null,null,null,{"$f":"Q29+R29","v":0}]
["N3. gotówka i depozyty (N3.1+N3.2+N3.3)",null,{"$f":"C31+C32+C33","v":0},{"$f":"D31+D32+D33","v":0},0,0,0,0,0,0,0,0,0,0,0,0,0,0]
["      N3.1. gotówka",null,{"$f":"D31+P31","v":0},{"$f":"E31+J31+K31+L31+M31+N31+O31","v":0},{"$f":"F31+G31+H31+I31","v":0},null,null,null,null,null,null,null,null,null,null,{"$f":"Q31+R31","v":0}]
["      N3.2. depozyty na żądanie",null,{"$f":"D32+P32","v":0},{"$f":"E32+J32+K32+L32+M32+N32+O32","v":0},{"$f":"F32+G32+H32+I32","v":0},null,null,null,null,null,null,null,null,null,null,{"$f":"Q32+R32","v":0}]
["      N3.3. depozyty terminowe",null,{"$f":"D33+P33","v":0},{"$f":"E33+J33+K33+L33+M33+N33+O33","v":0},{"$f":"F33+G33+H33+I33","v":0},null,null,null,null,null,null,null,null,null,null,{"$f":"Q33+R33","v":0}]
["N4.należności wymagalne (N4.1+N4.2)",null,{"$f":"C35+C36","v":0},{"$f":"D35+D36","v":0},0,0,0,0,0,0,0,0,0,0,0,0,0,0]
["      N4.1. z tytułu dostaw towarów i usług",null,{"$f":"D35+P35","v":0},{"$f":"E35+J35+K35+L35+M35+N35+O35","v":0},{"$f":"F35+G35+H35+I35","v":0},null,null,null,null,null,null,null,null,null,null,{"$f":"Q35+R35","v":0}]
["      N4.2. pozostałe",null,{"$f":"D36+P36","v":0},{"$f":"E36+J36+K36+L36+M36+N36+O36","v":0},{"$f":"F36+G36+H36+I36","v":0},null,null,null,null,null,null,null,null,null,null,{"$f":"Q36+R36","v":0}]
["N5. pozostałe należności (N5.1+N5.2+N5.3)",null,{"$f":"C38+C39+C40","v":0},0,0,0,0,0,0,0,0,0,0,0,0,0,0,0]
["      N5.1. z tytułu dostaw towarów i usług",null,{"$f":"D38+P38","v":0},{"$f":"E38+J38+K38+L38+M38+N38+O38","v":0},{"$f":"F38+G38+H38+I38","v":0},null,null,null,null,null,null,null,null,null,null,{"$f":"Q38+R38","v":0}]
["      N5.2. z tytułu podatków i składek \n      na ubezpieczenie społeczne",null,{"$f":"D39+P39","v":0},{"$f":"E39+J39+K39+L39+M39+N39+O39","v":0},{"$f":"F39+G39+H39+I39","v":0},null,null,null,null,null,null,null,null,null,null,{"$f":"Q39+R39","v":0}]
["      N5.3. z tytułów innych niż wymienione\n      wyżej",null,{"$f":"D40+P40","v":0},{"$f":"E40+J40+K40+L40+M40+N40+O40","v":0},{"$f":"F40+G40+H40+I40","v":0},null,null,null,null,null,null,null,null,null,null,{"$f":"Q40+R40","v":0}]
[]
[" B. Należności z tytułu udzielonych poręczeń  i gwarancji"]
[]
[null,null,null,null,null,null,"d ł u ż n i c y"]
[null,null,null,null,null,"Kwota ","podmioty"]
["Wyszczególnienie",null,null,null,null,"należności","sektora","grupa  I","grupa II","grupa III","grupa IV","pozostałe "]
[null,null,null,null,null,"ogółem","finansów",null,null,null,null,"podmioty"]
[null,null,null,null,null,"(kol. 3+8)","publicznych"]
[null,null,null,null,null,null,"(kol.4+5+6+7)"]
[1,null,null,null,null,2,3,4,5,6,7,8]
["B1. należność główna z tytułu udzielonych gwarancji i poręczeń",null,null,null,null,{"$f":"G51+L51","v":0},{"$f":"H51+I51+J51+K51","v":0}]
["B2. odsetki ustawowe za opóźnienie od należności głównej z tytułu udzielonych gwarancji i poręczeń",null,null,null,null,{"$f":"G52+L52","v":0},{"$f":"H52+I52+J52+K52","v":0}]
["B3. wartość spłat dokonanych w okresie sprawozdawczym za dłużników z tytułu udzielonych poręczeń i gwarancji (wydatki)",null,null,null,null,{"$f":"G53+L53","v":0},{"$f":"H53+I53+J53+K53","v":0}]
["B4. kwota odzyskanych wierzytelności w okresie sprawozdawczym od dłużników z tytułu poręczeń lub gwarancji (dochody)",null,null,null,null,{"$f":"G54+L54","v":0},{"$f":"H54+I54+J54+K54","v":0}]
[]
[]
[]
[]
[]
[]
[]
[]
["……………………",null,null,"………………",null,"………………",null,null,"…………………"]
["Główny księgowy * / Skarbnik",null,null,"telefon",null,"rok m-c dzień",null,null,"Kierownik jednostki (jednostki obsługującej)/ Przewodniczący Zarządu"]
["* Nie dotyczy sprawozdań zbiorczych sporządzanych przez RIO. W przypadku braku głównego księgowego podpisuje tylko kierownik jednostki."]

{"sheet":"42-samorz.inst.kult.","index":4,"n_rows":65,"n_cols":21,"rows_kept":65,"cut":false,"hidden":false,"merged":[[53,0,53,4],[49,0,49,4],[50,0,50,4],[45,0,45,4],[51,0,51,4],[52,0,52,4],[22,0,22,1],[8,2,8,4],[38,0,38,1],[39,0,39,1],[2,0,2,1],[5,0,5,1],[7,0,7,1],[16,0,16,1]]}
[null,null,null,null,null,null,null,null,null,null,null,null,null,null,null,null,null,null,null,null,0]
["Nazwa jednostki sprawozdawczej ",null,null,null,null,"Rb-N   KWARTALNE SPRAWOZDANIE O STANIE NALEŻNOŚCI ORAZ WYBRANYCH AKTYWÓW FINANSOWYCH",null,null,null,null,null,null,null,null,null,null,null,null,null,null,{"$f":"MAX('11-państw.fund.cel.:90-agencja wykonawcza'!U1)","v":0}]
[{"$f":"IF(U$1<>0,INDEX(LISTANAZW,U1,1),IF(U$2<>0,INDEX(LISTANAZW,U2,1),\"\"))","v":""}]
[null,null,null,null,null,"samorządowej instytucji kultury"]
["Adres jednostki sprawozdawczej",null,null,null,null,null,null,null,null,null,null,null,null,"Adresat:"]
[null,null,null,null,null,null,null,null,null,null,null,null,null,"Urząd Statystyczny we Wrocławiu"]
["Numer identyfikacyjny REGON",null,"liczba identyfik.jedn.",null,null,null,null,null,null,null,null,null,null,"ul. Oławska 31"]
[{"$f":"IF(U$1<>0,INDEX(LISTAREG,$U1,1),IF(U$2<>0,INDEX(LISTAREG,$U2,1),\"\"))","v":""},null,null,null,null,"wg stanu na koniec",null,null,"kwartału","  roku",null,null,null,"50-950 Wrocław"]
["Nazwa województwa",null,null,null,null,null,null,"SYMBOLE"]
["Nazwa powiatu / związku",null,null,null,null,"WOJ.","POWIAT","GMINA","TYP GM.","ZWIĄZEK JST","TYP ZW.","GRUPA","CZĘŚĆ BUDŻ."]
["Nazwa gminy / związku",null,null,null,null,null,null,null,null,null,null,42]
[]
[" A. Należności oraz wybrane aktywa finansowe"]
[]
[null,null,null,null,null,null,null,"d ł u ż n i c y   k r a j o w i",null,null,null,null,null,null,null,"             d ł u ż n i c y   z a g r a n i c z n i "]
[null,null,"kwota"]
["Wyszczególnienie",null,"należności",null,"sektor",null,null,null,null,null,null,null,null,null,"instytucje"]
[null,null,"ogółem","ogółem","finansów","grupa I","grupa II","grupa III","grupa IV","bank","banki","pozostałe","przedsiębiorstwa ","gospodarstwa","niekomercyjne",null,"podmioty","pozostałe"]
[null,null,"(kol. 3+15)","(kol 4+9+10+11+","publicznych",null,null,null,null,"centralny",null,"krajowe","niefinansowe","domowe","działające ","ogółem","należące ","podmioty"]
[null,null,null,"12+13+14)","ogółem",null,null,null,null,null,null,"instytucje",null,null,"na rzecz",null,"do strefy","zagraniczne"]
[null,null,null,null,"(kol 5+6+7+8)",null,null,null,null,null,null,"finansowe",null,null,"gospodarstw","(kol. 16+17)","euro"]
[null,null,null,null,null,null,null,null,null,null,null,null,null,null,"domowych"]
[1,null,2,3,4,5,6,7,8,9,10,11,12,13,14,15,16,17]
["N1. papiery wartościowe (N1.1+N1.2)",null,{"$f":"C25+C26","v":0},{"$f":"D25+D26","v":0},{"$f":"E25+E26","v":0},{"$f":"F25+F26","v":0},{"$f":"G25+G26","v":0},0,0,0,0,0,0,0,0,{"$f":"P25+P26","v":0},{"$f":"Q25+Q26","v":0},{"$f":"R25+R26","v":0}]
["      N1.1. krótkoterminowe",null,{"$f":"D25+P25","v":0},{"$f":"E25+J25+K25+L25+M25+N25+O25","v":0},{"$f":"F25+G25+H25+I25","v":0},null,null,null,null,null,null,null,null,null,null,{"$f":"Q25+R25","v":0}]
["      N1.2. długoterminowe",null,{"$f":"D26+P26","v":0},{"$f":"E26+J26+K26+L26+M26+N26+O26","v":0},{"$f":"F26+G26+H26+I26","v":0},null,null,null,null,null,null,null,null,null,null,{"$f":"Q26+R26","v":0}]
["N2. pożyczki (N2.1+N2.2)",null,{"$f":"C28+C29","v":0},{"$f":"D28+D29","v":0},{"$f":"E28+E29","v":0},{"$f":"F28+F29","v":0},{"$f":"G28+G29","v":0},0,0,0,0,0,0,0,0,{"$f":"P28+P29","v":0},{"$f":"Q28+Q29","v":0},{"$f":"R28+R29","v":0}]
["      N2.1. krótkoterminowe",null,{"$f":"D28+P28","v":0},{"$f":"E28+J28+K28+L28+M28+N28+O28","v":0},{"$f":"F28+G28+H28+I28","v":0},null,null,null,null,null,null,null,null,null,null,{"$f":"Q28+R28","v":0}]
["      N2.2. długoterminowe",null,{"$f":"D29+P29","v":0},{"$f":"E29+J29+K29+L29+M29+N29+O29","v":0},{"$f":"F29+G29+H29+I29","v":0},null,null,null,null,null,null,null,null,null,null,{"$f":"Q29+R29","v":0}]
["N3. gotówka i depozyty (N3.1+N3.2+N3.3)",null,{"$f":"C31+C32+C33","v":0},{"$f":"D31+D32+D33","v":0},0,0,0,0,0,0,0,0,0,0,0,0,0,0]
["      N3.1. gotówka",null,{"$f":"D31+P31","v":0},{"$f":"E31+J31+K31+L31+M31+N31+O31","v":0},{"$f":"F31+G31+H31+I31","v":0},null,null,null,null,null,null,null,null,null,null,{"$f":"Q31+R31","v":0}]
["      N3.2. depozyty na żądanie",null,{"$f":"D32+P32","v":0},{"$f":"E32+J32+K32+L32+M32+N32+O32","v":0},{"$f":"F32+G32+H32+I32","v":0},null,null,null,null,null,null,null,null,null,null,{"$f":"Q32+R32","v":0}]
["      N3.3. depozyty terminowe",null,{"$f":"D33+P33","v":0},{"$f":"E33+J33+K33+L33+M33+N33+O33","v":0},{"$f":"F33+G33+H33+I33","v":0},null,null,null,null,null,null,null,null,null,null,{"$f":"Q33+R33","v":0}]
["N4.należności wymagalne (N4.1+N4.2)",null,{"$f":"C35+C36","v":0},{"$f":"D35+D36","v":0},0,0,0,0,0,0,0,0,0,0,0,0,0,0]
["      N4.1. z tytułu dostaw towarów i usług",null,{"$f":"D35+P35","v":0},{"$f":"E35+J35+K35+L35+M35+N35+O35","v":0},{"$f":"F35+G35+H35+I35","v":0},null,null,null,null,null,null,null,null,null,null,{"$f":"Q35+R35","v":0}]
["      N4.2. pozostałe",null,{"$f":"D36+P36","v":0},{"$f":"E36+J36+K36+L36+M36+N36+O36","v":0},{"$f":"F36+G36+H36+I36","v":0},null,null,null,null,null,null,null,null,null,null,{"$f":"Q36+R36","v":0}]
["N5. pozostałe należności (N5.1+N5.2+N5.3)",null,{"$f":"C38+C39+C40","v":0},0,0,0,0,0,0,0,0,0,0,0,0,0,0,0]
["      N5.1. z tytułu dostaw towarów i usług",null,{"$f":"D38+P38","v":0},{"$f":"E38+J38+K38+L38+M38+N38+O38","v":0},{"$f":"F38+G38+H38+I38","v":0},null,null,null,null,null,null,null,null,null,null,{"$f":"Q38+R38","v":0}]
["      N5.2. z tytułu podatków i składek \n      na ubezpieczenie społeczne",null,{"$f":"D39+P39","v":0},{"$f":"E39+J39+K39+L39+M39+N39+O39","v":0},{"$f":"F39+G39+H39+I39","v":0},null,null,null,null,null,null,null,null,null,null,{"$f":"Q39+R39","v":0}]
["      N5.3. z tytułów innych niż wymienione\n      wyżej",null,{"$f":"D40+P40","v":0},{"$f":"E40+J40+K40+L40+M40+N40+O40","v":0},{"$f":"F40+G40+H40+I40","v":0},null,null,null,null,null,null,null,null,null,null,{"$f":"Q40+R40","v":0}]
[]
[" B. Należności z tytułu udzielonych poręczeń  i gwarancji"]
[]
[null,null,null,null,null,null,"d ł u ż n i c y"]
[null,null,null,null,null,"Kwota ","podmioty"]
["Wyszczególnienie",null,null,null,null,"należności","sektora","grupa  I","grupa II","grupa III","grupa IV","pozostałe "]
[null,null,null,null,null,"ogółem","finansów",null,null,null,null,"podmioty"]
[null,null,null,null,null,"(kol. 3+8)","publicznych"]
[null,null,null,null,null,null,"(kol.4+5+6+7)"]
[1,null,null,null,null,2,3,4,5,6,7,8]
["B1. należność główna z tytułu udzielonych gwarancji i poręczeń",null,null,null,null,{"$f":"G51+L51","v":0},{"$f":"H51+I51+J51+K51","v":0}]
["B2. odsetki ustawowe za opóźnienie od należności głównej z tytułu udzielonych gwarancji i poręczeń",null,null,null,null,{"$f":"G52+L52","v":0},{"$f":"H52+I52+J52+K52","v":0}]
["B3. wartość spłat dokonanych w okresie sprawozdawczym za dłużników z tytułu udzielonych poręczeń i gwarancji (wydatki)",null,null,null,null,{"$f":"G53+L53","v":0},{"$f":"H53+I53+J53+K53","v":0}]
["B4. kwota odzyskanych wierzytelności w okresie sprawozdawczym od dłużników z tytułu poręczeń lub gwarancji (dochody)",null,null,null,null,{"$f":"G54+L54","v":0},{"$f":"H54+I54+J54+K54","v":0}]
[]
[]
[]
[]
[]
[]
[]
[]
["……………………",null,null,"………………",null,"………………",null,null,"…………………"]
["Główny księgowy * / Skarbnik",null,null,"telefon",null,"rok m-c dzień",null,null,"Kierownik jednostki (jednostki obsługującej)/ Przewodniczący Zarządu"]
["* Nie dotyczy sprawozdań zbiorczych sporządzanych przez RIO. W przypadku braku głównego księgowego podpisuje tylko kierownik jednostki."]

{"sheet":"61-samodz.publ.ZOZ państw.","index":5,"n_rows":65,"n_cols":21,"rows_kept":65,"cut":false,"hidden":false,"merged":[[22,0,22,1],[8,2,8,4],[38,0,38,1],[53,0,53,4],[49,0,49,4],[50,0,50,4],[45,0,45,4],[51,0,51,4],[52,0,52,4],[39,0,39,1],[2,0,2,1],[5,0,5,1],[7,0,7,1],[16,0,16,1],[3,4,3,11]]}
[null,null,null,null,null,null,null,null,null,null,null,null,null,null,null,null,null,null,null,null,0]
["Nazwa jednostki sprawozdawczej ",null,null,null,null,"Rb-N   KWARTALNE SPRAWOZDANIE O STANIE NALEŻNOŚCI ORAZ WYBRANYCH AKTYWÓW FINANSOWYCH",null,null,null,null,null,null,null,null,null,null,null,null,null,null,{"$f":"MAX('11-państw.fund.cel.:90-agencja wykonawcza'!U1)","v":0}]
[{"$f":"IF(U$1<>0,INDEX(LISTANAZW,U1,1),IF(U$2<>0,INDEX(LISTANAZW,U2,1),\"\"))","v":""}]
[null,null,null,null,"samodzielnego publicznego zakładu opieki zdrowotnej, dla którego podmiotem tworzącym jest minister, centralny organ administracji rządowej, wojewoda,  uczelnia medyczna"]
["Adres jednostki sprawozdawczej",null,null,null,null,null,null,null,null,null,null,null,null,"Adresat:"]
[null,null,null,null,null,null,null,null,null,null,null,null,null,"Urząd Statystyczny we Wrocławiu"]
["Numer identyfikacyjny REGON",null,"liczba identyfik.jedn.",null,null,null,null,null,null,null,null,null,null,"ul. Oławska 31"]
[{"$f":"IF(U$1<>0,INDEX(LISTAREG,$U1,1),IF(U$2<>0,INDEX(LISTAREG,$U2,1),\"\"))","v":""},null,null,null,null,"wg stanu na koniec",null,null,"kwartału","  roku",null,null,null,"50-950 Wrocław"]
["Nazwa województwa",null,null,null,null,null,null,"SYMBOLE"]
["Nazwa powiatu / związku",null,null,null,null,"WOJ.","POWIAT","GMINA","TYP GM.","ZWIĄZEK JST","TYP ZW.","GRUPA","CZĘŚĆ BUDŻ."]
["Nazwa gminy / związku",null,null,null,null,null,null,null,null,null,null,61]
[]
[" A. Należności oraz wybrane aktywa finansowe"]
[]
[null,null,null,null,null,null,null,"d ł u ż n i c y   k r a j o w i",null,null,null,null,null,null,null,"             d ł u ż n i c y   z a g r a n i c z n i "]
[null,null,"kwota"]
["Wyszczególnienie",null,"należności",null,"sektor",null,null,null,null,null,null,null,null,null,"instytucje"]
[null,null,"ogółem","ogółem","finansów","grupa I","grupa II","grupa III","grupa IV","bank","banki","pozostałe","przedsiębiorstwa ","gospodarstwa","niekomercyjne",null,"podmioty","pozostałe"]
[null,null,"(kol. 3+15)","(kol 4+9+10+11+","publicznych",null,null,null,null,"centralny",null,"krajowe","niefinansowe","domowe","działające ","ogółem","należące ","podmioty"]
[null,null,null,"12+13+14)","ogółem",null,null,null,null,null,null,"instytucje",null,null,"na rzecz",null,"do strefy","zagraniczne"]
[null,null,null,null,"(kol 5+6+7+8)",null,null,null,null,null,null,"finansowe",null,null,"gospodarstw","(kol. 16+17)","euro"]
[null,null,null,null,null,null,null,null,null,null,null,null,null,null,"domowych"]
[1,null,2,3,4,5,6,7,8,9,10,11,12,13,14,15,16,17]
["N1. papiery wartościowe (N1.1+N1.2)",null,{"$f":"C25+C26","v":0},{"$f":"D25+D26","v":0},{"$f":"E25+E26","v":0},{"$f":"F25+F26","v":0},{"$f":"G25+G26","v":0},0,0,0,0,0,0,0,0,{"$f":"P25+P26","v":0},{"$f":"Q25+Q26","v":0},{"$f":"R25+R26","v":0}]
["      N1.1. krótkoterminowe",null,{"$f":"D25+P25","v":0},{"$f":"E25+J25+K25+L25+M25+N25+O25","v":0},{"$f":"F25+G25+H25+I25","v":0},null,null,null,null,null,null,null,null,null,null,{"$f":"Q25+R25","v":0}]
["      N1.2. długoterminowe",null,{"$f":"D26+P26","v":0},{"$f":"E26+J26+K26+L26+M26+N26+O26","v":0},{"$f":"F26+G26+H26+I26","v":0},null,null,null,null,null,null,null,null,null,null,{"$f":"Q26+R26","v":0}]
["N2. pożyczki (N2.1+N2.2)",null,{"$f":"C28+C29","v":0},{"$f":"D28+D29","v":0},{"$f":"E28+E29","v":0},{"$f":"F28+F29","v":0},{"$f":"G28+G29","v":0},0,0,0,0,0,0,0,0,{"$f":"P28+P29","v":0},{"$f":"Q28+Q29","v":0},{"$f":"R28+R29","v":0}]
["      N2.1. krótkoterminowe",null,{"$f":"D28+P28","v":0},{"$f":"E28+J28+K28+L28+M28+N28+O28","v":0},{"$f":"F28+G28+H28+I28","v":0},null,null,null,null,null,null,null,null,null,null,{"$f":"Q28+R28","v":0}]
["      N2.2. długoterminowe",null,{"$f":"D29+P29","v":0},{"$f":"E29+J29+K29+L29+M29+N29+O29","v":0},{"$f":"F29+G29+H29+I29","v":0},null,null,null,null,null,null,null,null,null,null,{"$f":"Q29+R29","v":0}]
["N3. gotówka i depozyty (N3.1+N3.2+N3.3)",null,{"$f":"C31+C32+C33","v":0},{"$f":"D31+D32+D33","v":0},0,0,0,0,0,0,0,0,0,0,0,0,0,0]
["      N3.1. gotówka",null,{"$f":"D31+P31","v":0},{"$f":"E31+J31+K31+L31+M31+N31+O31","v":0},{"$f":"F31+G31+H31+I31","v":0},null,null,null,null,null,null,null,null,null,null,{"$f":"Q31+R31","v":0}]
["      N3.2. depozyty na żądanie",null,{"$f":"D32+P32","v":0},{"$f":"E32+J32+K32+L32+M32+N32+O32","v":0},{"$f":"F32+G32+H32+I32","v":0},null,null,null,null,null,null,null,null,null,null,{"$f":"Q32+R32","v":0}]
["      N3.3. depozyty terminowe",null,{"$f":"D33+P33","v":0},{"$f":"E33+J33+K33+L33+M33+N33+O33","v":0},{"$f":"F33+G33+H33+I33","v":0},null,null,null,null,null,null,null,null,null,null,{"$f":"Q33+R33","v":0}]
["N4.należności wymagalne (N4.1+N4.2)",null,{"$f":"C35+C36","v":0},{"$f":"D35+D36","v":0},0,0,0,0,0,0,0,0,0,0,0,0,0,0]
["      N4.1. z tytułu dostaw towarów i usług",null,{"$f":"D35+P35","v":0},{"$f":"E35+J35+K35+L35+M35+N35+O35","v":0},{"$f":"F35+G35+H35+I35","v":0},null,null,null,null,null,null,null,null,null,null,{"$f":"Q35+R35","v":0}]
["      N4.2. pozostałe",null,{"$f":"D36+P36","v":0},{"$f":"E36+J36+K36+L36+M36+N36+O36","v":0},{"$f":"F36+G36+H36+I36","v":0},null,null,null,null,null,null,null,null,null,null,{"$f":"Q36+R36","v":0}]
["N5. pozostałe należności (N5.1+N5.2+N5.3)",null,{"$f":"C38+C39+C40","v":0},0,0,0,0,0,0,0,0,0,0,0,0,0,0,0]
["      N5.1. z tytułu dostaw towarów i usług",null,{"$f":"D38+P38","v":0},{"$f":"E38+J38+K38+L38+M38+N38+O38","v":0},{"$f":"F38+G38+H38+I38","v":0},null,null,null,null,null,null,null,null,null,null,{"$f":"Q38+R38","v":0}]
["      N5.2. z tytułu podatków i składek \n      na ubezpieczenie społeczne",null,{"$f":"D39+P39","v":0},{"$f":"E39+J39+K39+L39+M39+N39+O39","v":0},{"$f":"F39+G39+H39+I39","v":0},null,null,null,null,null,null,null,null,null,null,{"$f":"Q39+R39","v":0}]
["      N5.3. z tytułów innych niż wymienione\n      wyżej",null,{"$f":"D40+P40","v":0},{"$f":"E40+J40+K40+L40+M40+N40+O40","v":0},{"$f":"F40+G40+H40+I40","v":0},null,null,null,null,null,null,null,null,null,null,{"$f":"Q40+R40","v":0}]
[]
[" B. Należności z tytułu udzielonych poręczeń  i gwarancji"]
[]
[null,null,null,null,null,null,"d ł u ż n i c y"]
[null,null,null,null,null,"Kwota ","podmioty"]
["Wyszczególnienie",null,null,null,null,"należności","sektora","grupa  I","grupa II","grupa III","grupa IV","pozostałe "]
[null,null,null,null,null,"ogółem","finansów",null,null,null,null,"podmioty"]
[null,null,null,null,null,"(kol. 3+8)","publicznych"]
[null,null,null,null,null,null,"(kol.4+5+6+7)"]
[1,null,null,null,null,2,3,4,5,6,7,8]
["B1. należność główna z tytułu udzielonych gwarancji i poręczeń",null,null,null,null,{"$f":"G51+L51","v":0},{"$f":"H51+I51+J51+K51","v":0}]
["B2. odsetki ustawowe za opóźnienie od należności głównej z tytułu udzielonych gwarancji i poręczeń",null,null,null,null,{"$f":"G52+L52","v":0},{"$f":"H52+I52+J52+K52","v":0}]
["B3. wartość spłat dokonanych w okresie sprawozdawczym za dłużników z tytułu udzielonych poręczeń i gwarancji (wydatki)",null,null,null,null,{"$f":"G53+L53","v":0},{"$f":"H53+I53+J53+K53","v":0}]
["B4. kwota odzyskanych wierzytelności w okresie sprawozdawczym od dłużników z tytułu poręczeń lub gwarancji (dochody)",null,null,null,null,{"$f":"G54+L54","v":0},{"$f":"H54+I54+J54+K54","v":0}]
[]
[]
[]
[]
[]
[]
[]
[]
["……………………",null,null,"………………",null,"………………",null,null,"…………………"]
["Główny księgowy * / Skarbnik",null,null,"telefon",null,"rok m-c dzień",null,null,"Kierownik jednostki (jednostki obsługującej)/ Przewodniczący Zarządu"]
["* Nie dotyczy sprawozdań zbiorczych sporządzanych przez RIO. W przypadku braku głównego księgowego podpisuje tylko kierownik jednostki."]

{"sheet":"50-PAN i jedn.tworz.przez PAN","index":6,"n_rows":65,"n_cols":21,"rows_kept":65,"cut":false,"hidden":false,"merged":[[53,0,53,4],[49,0,49,4],[50,0,50,4],[45,0,45,4],[51,0,51,4],[52,0,52,4],[22,0,22,1],[8,2,8,4],[38,0,38,1],[39,0,39,1],[2,0,2,1],[5,0,5,1],[7,0,7,1],[16,0,16,1]]}
["Ministerstwo Finansów , ul.Świętokrzyska 12, 00-916 Warszawa",null,null,null,null,null,null,null,null,null,null,null,null,null,null,null,null,null,null,null,0]
["Nazwa jednostki sprawozdawczej ",null,null,null,null,"Rb-N   KWARTALNE SPRAWOZDANIE O STANIE NALEŻNOŚCI ORAZ WYBRANYCH AKTYWÓW FINANSOWYCH",null,null,null,null,null,null,null,null,null,null,null,null,null,null,{"$f":"MAX('11-państw.fund.cel.:90-agencja wykonawcza'!U1)","v":0}]
[{"$f":"IF(U$1<>0,INDEX(LISTANAZW,U1,1),IF(U$2<>0,INDEX(LISTANAZW,U2,1),\"\"))","v":""}]
[null,null,null,null,null,"Polskiej Akademii Nauk i tworzonych przez nią jednostek organizacyjnych"]
["Adres jednostki sprawozdawczej",null,null,null,null,null,null,null,null,null,null,null,null,"Adresat:"]
[null,null,null,null,null,null,null,null,null,null,null,null,null,"Urząd Statystyczny we Wrocławiu"]
["Numer identyfikacyjny REGON",null,"liczba identyfik.jedn.",null,null,null,null,null,null,null,null,null,null,"ul. Oławska 31"]
[{"$f":"IF(U$1<>0,INDEX(LISTAREG,$U1,1),IF(U$2<>0,INDEX(LISTAREG,$U2,1),\"\"))","v":""},null,null,null,null,"wg stanu na koniec",null,null,"kwartału","  roku",null,null,null,"50-950 Wrocław"]
["Nazwa województwa",null,null,null,null,null,null,"SYMBOLE"]
["Nazwa powiatu / związku",null,null,null,null,"WOJ.","POWIAT","GMINA","TYP GM.","ZWIĄZEK JST","TYP ZW.","GRUPA","CZĘŚĆ BUDŻ."]
["Nazwa gminy / związku",null,null,null,null,null,null,null,null,null,null,50]
[]
[" A. Należności oraz wybrane aktywa finansowe"]
[]
[null,null,null,null,null,null,null,"d ł u ż n i c y   k r a j o w i",null,null,null,null,null,null,null,"             d ł u ż n i c y   z a g r a n i c z n i "]
[null,null,"kwota"]
["Wyszczególnienie",null,"należności",null,"sektor",null,null,null,null,null,null,null,null,null,"instytucje"]
[null,null,"ogółem","ogółem","finansów","grupa I","grupa II","grupa III","grupa IV","bank","banki","pozostałe","przedsiębiorstwa ","gospodarstwa","niekomercyjne",null,"podmioty","pozostałe"]
[null,null,"(kol. 3+15)","(kol 4+9+10+11+","publicznych",null,null,null,null,"centralny",null,"krajowe","niefinansowe","domowe","działające ","ogółem","należące ","podmioty"]
[null,null,null,"12+13+14)","ogółem",null,null,null,null,null,null,"instytucje",null,null,"na rzecz",null,"do strefy","zagraniczne"]
[null,null,null,null,"(kol 5+6+7+8)",null,null,null,null,null,null,"finansowe",null,null,"gospodarstw","(kol. 16+17)","euro"]
[null,null,null,null,null,null,null,null,null,null,null,null,null,null,"domowych"]
[1,null,2,3,4,5,6,7,8,9,10,11,12,13,14,15,16,17]
["N1. papiery wartościowe (N1.1+N1.2)",null,{"$f":"C25+C26","v":0},{"$f":"D25+D26","v":0},{"$f":"E25+E26","v":0},{"$f":"F25+F26","v":0},{"$f":"G25+G26","v":0},0,0,0,0,0,0,0,0,{"$f":"P25+P26","v":0},{"$f":"Q25+Q26","v":0},{"$f":"R25+R26","v":0}]
["      N1.1. krótkoterminowe",null,{"$f":"D25+P25","v":0},{"$f":"E25+J25+K25+L25+M25+N25+O25","v":0},{"$f":"F25+G25+H25+I25","v":0},null,null,null,null,null,null,null,null,null,null,{"$f":"Q25+R25","v":0}]
["      N1.2. długoterminowe",null,{"$f":"D26+P26","v":0},{"$f":"E26+J26+K26+L26+M26+N26+O26","v":0},{"$f":"F26+G26+H26+I26","v":0},null,null,null,null,null,null,null,null,null,null,{"$f":"Q26+R26","v":0}]
["N2. pożyczki (N2.1+N2.2)",null,{"$f":"C28+C29","v":0},{"$f":"D28+D29","v":0},{"$f":"E28+E29","v":0},{"$f":"F28+F29","v":0},{"$f":"G28+G29","v":0},0,0,0,0,0,0,0,0,{"$f":"P28+P29","v":0},{"$f":"Q28+Q29","v":0},{"$f":"R28+R29","v":0}]
["      N2.1. krótkoterminowe",null,{"$f":"D28+P28","v":0},{"$f":"E28+J28+K28+L28+M28+N28+O28","v":0},{"$f":"F28+G28+H28+I28","v":0},null,null,null,null,null,null,null,null,null,null,{"$f":"Q28+R28","v":0}]
["      N2.2. długoterminowe",null,{"$f":"D29+P29","v":0},{"$f":"E29+J29+K29+L29+M29+N29+O29","v":0},{"$f":"F29+G29+H29+I29","v":0},null,null,null,null,null,null,null,null,null,null,{"$f":"Q29+R29","v":0}]
["N3. gotówka i depozyty (N3.1+N3.2+N3.3)",null,{"$f":"C31+C32+C33","v":0},{"$f":"D31+D32+D33","v":0},0,0,0,0,0,0,0,0,0,0,0,0,0,0]
["      N3.1. gotówka",null,{"$f":"D31+P31","v":0},{"$f":"E31+J31+K31+L31+M31+N31+O31","v":0},{"$f":"F31+G31+H31+I31","v":0},null,null,null,null,null,null,null,null,null,null,{"$f":"Q31+R31","v":0}]
["      N3.2. depozyty na żądanie",null,{"$f":"D32+P32","v":0},{"$f":"E32+J32+K32+L32+M32+N32+O32","v":0},{"$f":"F32+G32+H32+I32","v":0},null,null,null,null,null,null,null,null,null,null,{"$f":"Q32+R32","v":0}]
["      N3.3. depozyty terminowe",null,{"$f":"D33+P33","v":0},{"$f":"E33+J33+K33+L33+M33+N33+O33","v":0},{"$f":"F33+G33+H33+I33","v":0},null,null,null,null,null,null,null,null,null,null,{"$f":"Q33+R33","v":0}]
["N4.należności wymagalne (N4.1+N4.2)",null,{"$f":"C35+C36","v":0},{"$f":"D35+D36","v":0},0,0,0,0,0,0,0,0,0,0,0,0,0,0]
["      N4.1. z tytułu dostaw towarów i usług",null,{"$f":"D35+P35","v":0},{"$f":"E35+J35+K35+L35+M35+N35+O35","v":0},{"$f":"F35+G35+H35+I35","v":0},null,null,null,null,null,null,null,null,null,null,{"$f":"Q35+R35","v":0}]
["      N4.2. pozostałe",null,{"$f":"D36+P36","v":0},{"$f":"E36+J36+K36+L36+M36+N36+O36","v":0},{"$f":"F36+G36+H36+I36","v":0},null,null,null,null,null,null,null,null,null,null,{"$f":"Q36+R36","v":0}]
["N5. pozostałe należności (N5.1+N5.2+N5.3)",null,{"$f":"C38+C39+C40","v":0},0,0,0,0,0,0,0,0,0,0,0,0,0,0,0]
["      N5.1. z tytułu dostaw towarów i usług",null,{"$f":"D38+P38","v":0},{"$f":"E38+J38+K38+L38+M38+N38+O38","v":0},{"$f":"F38+G38+H38+I38","v":0},null,null,null,null,null,null,null,null,null,null,{"$f":"Q38+R38","v":0}]
["      N5.2. z tytułu podatków i składek \n      na ubezpieczenie społeczne",null,{"$f":"D39+P39","v":0},{"$f":"E39+J39+K39+L39+M39+N39+O39","v":0},{"$f":"F39+G39+H39+I39","v":0},null,null,null,null,null,null,null,null,null,null,{"$f":"Q39+R39","v":0}]
["      N5.3. z tytułów innych niż wymienione\n      wyżej",null,{"$f":"D40+P40","v":0},{"$f":"E40+J40+K40+L40+M40+N40+O40","v":0},{"$f":"F40+G40+H40+I40","v":0},null,null,null,null,null,null,null,null,null,null,{"$f":"Q40+R40","v":0}]
[]
[" B. Należności z tytułu udzielonych poręczeń  i gwarancji"]
[]
[null,null,null,null,null,null,"d ł u ż n i c y"]
[null,null,null,null,null,"Kwota ","podmioty"]
["Wyszczególnienie",null,null,null,null,"należności","sektora","grupa  I","grupa II","grupa III","grupa IV","pozostałe "]
[null,null,null,null,null,"ogółem","finansów",null,null,null,null,"podmioty"]
[null,null,null,null,null,"(kol. 3+8)","publicznych"]
[null,null,null,null,null,null,"(kol.4+5+6+7)"]
[1,null,null,null,null,2,3,4,5,6,7,8]
["B1. należność główna z tytułu udzielonych gwarancji i poręczeń",null,null,null,null,{"$f":"G51+L51","v":0},{"$f":"H51+I51+J51+K51","v":0}]
["B2. odsetki ustawowe za opóźnienie od należności głównej z tytułu udzielonych gwarancji i poręczeń",null,null,null,null,{"$f":"G52+L52","v":0},{"$f":"H52+I52+J52+K52","v":0}]
["B3. wartość spłat dokonanych w okresie sprawozdawczym za dłużników z tytułu udzielonych poręczeń i gwarancji (wydatki)",null,null,null,null,{"$f":"G53+L53","v":0},{"$f":"H53+I53+J53+K53","v":0}]
["B4. kwota odzyskanych wierzytelności w okresie sprawozdawczym od dłużników z tytułu poręczeń lub gwarancji (dochody)",null,null,null,null,{"$f":"G54+L54","v":0},{"$f":"H54+I54+J54+K54","v":0}]
[]
[]
[]
[]
[]
[]
[]
[]
["……………………",null,null,"………………",null,"………………",null,null,"…………………"]
["Główny księgowy * / Skarbnik",null,null,"telefon",null,"rok m-c dzień",null,null,"Kierownik jednostki (jednostki obsługującej)/ Przewodniczący Zarządu"]
["* Nie dotyczy sprawozdań zbiorczych sporządzanych przez RIO. W przypadku braku głównego księgowego podpisuje tylko kierownik jednostki."]

{"sheet":"62-samodz.publ.ZOZ samorz.","index":7,"n_rows":65,"n_cols":21,"rows_kept":65,"cut":false,"hidden":false,"merged":[[53,0,53,4],[49,0,49,4],[50,0,50,4],[45,0,45,4],[51,0,51,4],[52,0,52,4],[22,0,22,1],[8,2,8,4],[38,0,38,1],[39,0,39,1],[2,0,2,1],[5,0,5,1],[7,0,7,1],[16,0,16,1]]}
[null,null,null,null,null,null,null,null,null,null,null,null,null,null,null,null,null,null,null,null,0]
["Nazwa jednostki sprawozdawczej ",null,null,null,null,"Rb-N   KWARTALNE SPRAWOZDANIE O STANIE NALEŻNOŚCI ORAZ WYBRANYCH AKTYWÓW FINANSOWYCH",null,null,null,null,null,null,null,null,null,null,null,null,null,null,{"$f":"MAX('11-państw.fund.cel.:90-agencja wykonawcza'!U1)","v":0}]
[{"$f":"IF(U$1<>0,INDEX(LISTANAZW,U1,1),IF(U$2<>0,INDEX(LISTANAZW,U2,1),\"\"))","v":""}]
[null,null,null,null,null,"samodzielnego publicznego zakładu opieki zdrowotnej, dla którego podmiotem tworzącym jest jednostka samorządu terytorialnego"]
["Adres jednostki sprawozdawczej",null,null,null,null,null,null,null,null,null,null,null,null,"Adresat:"]
[null,null,null,null,null,null,null,null,null,null,null,null,null,"Urząd Statystyczny we Wrocławiu"]
["Numer identyfikacyjny REGON",null,"liczba identyfik.jedn.",null,null,null,null,null,null,null,null,null,null,"ul. Oławska 31",null,null,null,null,null,null,0]
[{"$f":"IF(U$1<>0,INDEX(LISTAREG,$U1,1),IF(U$2<>0,INDEX(LISTAREG,$U2,1),\"\"))","v":""},null,null,null,null,"wg stanu na koniec",null,null,"kwartału","  roku",null,null,null,"50-950 Wrocław"]
["Nazwa województwa",null,null,null,null,null,null,"SYMBOLE"]
["Nazwa powiatu / związku",null,null,null,null,"WOJ.","POWIAT","GMINA","TYP GM.","ZWIĄZEK JST","TYP ZW.","GRUPA","CZĘŚĆ BUDŻ."]
["Nazwa gminy / związku",null,null,null,null,null,null,null,null,null,null,62]
[]
[" A. Należności oraz wybrane aktywa finansowe"]
[]
[null,null,null,null,null,null,null,"d ł u ż n i c y   k r a j o w i",null,null,null,null,null,null,null,"             d ł u ż n i c y   z a g r a n i c z n i "]
[null,null,"kwota"]
["Wyszczególnienie",null,"należności",null,"sektor",null,null,null,null,null,null,null,null,null,"instytucje"]
[null,null,"ogółem","ogółem","finansów","grupa I","grupa II","grupa III","grupa IV","bank","banki","pozostałe","przedsiębiorstwa ","gospodarstwa","niekomercyjne",null,"podmioty","pozostałe"]
[null,null,"(kol. 3+15)","(kol 4+9+10+11+","publicznych",null,null,null,null,"centralny",null,"krajowe","niefinansowe","domowe","działające ","ogółem","należące ","podmioty"]
[null,null,null,"12+13+14)","ogółem",null,null,null,null,null,null,"instytucje",null,null,"na rzecz",null,"do strefy","zagraniczne"]
[null,null,null,null,"(kol 5+6+7+8)",null,null,null,null,null,null,"finansowe",null,null,"gospodarstw","(kol. 16+17)","euro"]
[null,null,null,null,null,null,null,null,null,null,null,null,null,null,"domowych"]
[1,null,2,3,4,5,6,7,8,9,10,11,12,13,14,15,16,17]
["N1. papiery wartościowe (N1.1+N1.2)",null,{"$f":"C25+C26","v":0},{"$f":"D25+D26","v":0},{"$f":"E25+E26","v":0},{"$f":"F25+F26","v":0},{"$f":"G25+G26","v":0},0,0,0,0,0,0,0,0,{"$f":"P25+P26","v":0},{"$f":"Q25+Q26","v":0},{"$f":"R25+R26","v":0}]
["      N1.1. krótkoterminowe",null,{"$f":"D25+P25","v":0},{"$f":"E25+J25+K25+L25+M25+N25+O25","v":0},{"$f":"F25+G25+H25+I25","v":0},null,null,null,null,null,null,null,null,null,null,{"$f":"Q25+R25","v":0}]
["      N1.2. długoterminowe",null,{"$f":"D26+P26","v":0},{"$f":"E26+J26+K26+L26+M26+N26+O26","v":0},{"$f":"F26+G26+H26+I26","v":0},null,null,null,null,null,null,null,null,null,null,{"$f":"Q26+R26","v":0}]
["N2. pożyczki (N2.1+N2.2)",null,{"$f":"C28+C29","v":0},{"$f":"D28+D29","v":0},{"$f":"E28+E29","v":0},{"$f":"F28+F29","v":0},{"$f":"G28+G29","v":0},0,0,0,0,0,0,0,0,{"$f":"P28+P29","v":0},{"$f":"Q28+Q29","v":0},{"$f":"R28+R29","v":0}]
["      N2.1. krótkoterminowe",null,{"$f":"D28+P28","v":0},{"$f":"E28+J28+K28+L28+M28+N28+O28","v":0},{"$f":"F28+G28+H28+I28","v":0},null,null,null,null,null,null,null,null,null,null,{"$f":"Q28+R28","v":0}]
["      N2.2. długoterminowe",null,{"$f":"D29+P29","v":0},{"$f":"E29+J29+K29+L29+M29+N29+O29","v":0},{"$f":"F29+G29+H29+I29","v":0},null,null,null,null,null,null,null,null,null,null,{"$f":"Q29+R29","v":0}]
["N3. gotówka i depozyty (N3.1+N3.2+N3.3)",null,{"$f":"C31+C32+C33","v":0},{"$f":"D31+D32+D33","v":0},0,0,0,0,0,0,0,0,0,0,0,0,0,0]
["      N3.1. gotówka",null,{"$f":"D31+P31","v":0},{"$f":"E31+J31+K31+L31+M31+N31+O31","v":0},{"$f":"F31+G31+H31+I31","v":0},null,null,null,null,null,null,null,null,null,null,{"$f":"Q31+R31","v":0}]
["      N3.2. depozyty na żądanie",null,{"$f":"D32+P32","v":0},{"$f":"E32+J32+K32+L32+M32+N32+O32","v":0},{"$f":"F32+G32+H32+I32","v":0},null,null,null,null,null,null,null,null,null,null,{"$f":"Q32+R32","v":0}]
["      N3.3. depozyty terminowe",null,{"$f":"D33+P33","v":0},{"$f":"E33+J33+K33+L33+M33+N33+O33","v":0},{"$f":"F33+G33+H33+I33","v":0},null,null,null,null,null,null,null,null,null,null,{"$f":"Q33+R33","v":0}]
["N4.należności wymagalne (N4.1+N4.2)",null,{"$f":"C35+C36","v":0},{"$f":"D35+D36","v":0},0,0,0,0,0,0,0,0,0,0,0,0,0,0]
["      N4.1. z tytułu dostaw towarów i usług",null,{"$f":"D35+P35","v":0},{"$f":"E35+J35+K35+L35+M35+N35+O35","v":0},{"$f":"F35+G35+H35+I35","v":0},null,null,null,null,null,null,null,null,null,null,{"$f":"Q35+R35","v":0}]
["      N4.2. pozostałe",null,{"$f":"D36+P36","v":0},{"$f":"E36+J36+K36+L36+M36+N36+O36","v":0},{"$f":"F36+G36+H36+I36","v":0},null,null,null,null,null,null,null,null,null,null,{"$f":"Q36+R36","v":0}]
["N5. pozostałe należności (N5.1+N5.2+N5.3)",null,{"$f":"C38+C39+C40","v":0},0,0,0,0,0,0,0,0,0,0,0,0,0,0,0]
["      N5.1. z tytułu dostaw towarów i usług",null,{"$f":"D38+P38","v":0},{"$f":"E38+J38+K38+L38+M38+N38+O38","v":0},{"$f":"F38+G38+H38+I38","v":0},null,null,null,null,null,null,null,null,null,null,{"$f":"Q38+R38","v":0}]
["      N5.2. z tytułu podatków i składek \n      na ubezpieczenie społeczne",null,{"$f":"D39+P39","v":0},{"$f":"E39+J39+K39+L39+M39+N39+O39","v":0},{"$f":"F39+G39+H39+I39","v":0},null,null,null,null,null,null,null,null,null,null,{"$f":"Q39+R39","v":0}]
["      N5.3. z tytułów innych niż wymienione\n      wyżej",null,{"$f":"D40+P40","v":0},{"$f":"E40+J40+K40+L40+M40+N40+O40","v":0},{"$f":"F40+G40+H40+I40","v":0},null,null,null,null,null,null,null,null,null,null,{"$f":"Q40+R40","v":0}]
[]
[" B. Należności z tytułu udzielonych poręczeń  i gwarancji"]
[]
[null,null,null,null,null,null,"d ł u ż n i c y"]
[null,null,null,null,null,"Kwota ","podmioty"]
["Wyszczególnienie",null,null,null,null,"należności","sektora","grupa  I","grupa II","grupa III","grupa IV","pozostałe "]
[null,null,null,null,null,"ogółem","finansów",null,null,null,null,"podmioty"]
[null,null,null,null,null,"(kol. 3+8)","publicznych"]
[null,null,null,null,null,null,"(kol.4+5+6+7)"]
[1,null,null,null,null,2,3,4,5,6,7,8]
["B1. należność główna z tytułu udzielonych gwarancji i poręczeń",null,null,null,null,{"$f":"G51+L51","v":0},{"$f":"H51+I51+J51+K51","v":0}]
["B2. odsetki ustawowe za opóźnienie od należności głównej z tytułu udzielonych gwarancji i poręczeń",null,null,null,null,{"$f":"G52+L52","v":0},{"$f":"H52+I52+J52+K52","v":0}]
["B3. wartość spłat dokonanych w okresie sprawozdawczym za dłużników z tytułu udzielonych poręczeń i gwarancji (wydatki)",null,null,null,null,{"$f":"G53+L53","v":0},{"$f":"H53+I53+J53+K53","v":0}]
["B4. kwota odzyskanych wierzytelności w okresie sprawozdawczym od dłużników z tytułu poręczeń lub gwarancji (dochody)",null,null,null,null,{"$f":"G54+L54","v":0},{"$f":"H54+I54+J54+K54","v":0}]
[]
[]
[]
[]
[]
[]
[]
[]
["……………………",null,null,"………………",null,"………………",null,null,"…………………"]
["Główny księgowy * / Skarbnik",null,null,"telefon",null,"rok m-c dzień",null,null,"Kierownik jednostki (jednostki obsługującej)/ Przewodniczący Zarządu"]
["* Nie dotyczy sprawozdań zbiorczych sporządzanych przez RIO. W przypadku braku głównego księgowego podpisuje tylko kierownik jednostki."]

{"sheet":"63-Narodowy Fundusz Zdrowia","index":8,"n_rows":65,"n_cols":21,"rows_kept":65,"cut":false,"hidden":false,"merged":[[53,0,53,4],[49,0,49,4],[50,0,50,4],[45,0,45,4],[51,0,51,4],[52,0,52,4],[22,0,22,1],[8,2,8,4],[38,0,38,1],[39,0,39,1],[2,0,2,1],[5,0,5,1],[7,0,7,1],[16,0,16,1]]}
[null,null,null,null,null,null,null,null,null,null,null,null,null,null,null,null,null,null,null,null,0]
["Nazwa jednostki sprawozdawczej ",null,null,null,null,"Rb-N   KWARTALNE SPRAWOZDANIE O STANIE NALEŻNOŚCI ORAZ WYBRANYCH AKTYWÓW FINANSOWYCH",null,null,null,null,null,null,null,null,null,null,null,null,null,null,{"$f":"MAX('11-państw.fund.cel.:90-agencja wykonawcza'!U1)","v":0}]
[{"$f":"IF(U$1<>0,INDEX(LISTANAZW,U1,1),IF(U$2<>0,INDEX(LISTANAZW,U2,1),\"\"))","v":""}]
[null,null,null,null,null,"Narodowego Funduszu Zdrowia"]
["Adres jednostki sprawozdawczej",null,null,null,null,null,null,null,null,null,null,null,null,"Adresat:"]
[null,null,null,null,null,null,null,null,null,null,null,null,null,"Urząd Statystyczny we Wrocławiu"]
["Numer identyfikacyjny REGON",null,"liczba identyfik.jedn.",null,null,null,null,null,null,null,null,null,null,"ul. Oławska 31"]
[{"$f":"IF(U$1<>0,INDEX(LISTAREG,$U1,1),IF(U$2<>0,INDEX(LISTAREG,$U2,1),\"\"))","v":""},null,null,null,null,"wg stanu na koniec",null,null,"kwartału","  roku",null,null,null,"50-950 Wrocław"]
["Nazwa województwa",null,null,null,null,null,null,"SYMBOLE"]
["Nazwa powiatu / związku",null,null,null,null,"WOJ.","POWIAT","GMINA","TYP GM.","ZWIĄZEK JST","TYP ZW.","GRUPA","CZĘŚĆ BUDŻ."]
["Nazwa gminy / związku",null,null,null,null,null,null,null,null,null,null,63]
[]
[" A. Należności oraz wybrane aktywa finansowe"]
[]
[null,null,null,null,null,null,null,"d ł u ż n i c y   k r a j o w i",null,null,null,null,null,null,null,"             d ł u ż n i c y   z a g r a n i c z n i "]
[null,null,"kwota"]
["Wyszczególnienie",null,"należności",null,"sektor",null,null,null,null,null,null,null,null,null,"instytucje"]
[null,null,"ogółem","ogółem","finansów","grupa I","grupa II","grupa III","grupa IV","bank","banki","pozostałe","przedsiębiorstwa ","gospodarstwa","niekomercyjne",null,"podmioty","pozostałe"]
[null,null,"(kol. 3+15)","(kol 4+9+10+11+","publicznych",null,null,null,null,"centralny",null,"krajowe","niefinansowe","domowe","działające ","ogółem","należące ","podmioty"]
[null,null,null,"12+13+14)","ogółem",null,null,null,null,null,null,"instytucje",null,null,"na rzecz",null,"do strefy","zagraniczne"]
[null,null,null,null,"(kol 5+6+7+8)",null,null,null,null,null,null,"finansowe",null,null,"gospodarstw","(kol. 16+17)","euro"]
[null,null,null,null,null,null,null,null,null,null,null,null,null,null,"domowych"]
[1,null,2,3,4,5,6,7,8,9,10,11,12,13,14,15,16,17]
["N1. papiery wartościowe (N1.1+N1.2)",null,{"$f":"C25+C26","v":0},{"$f":"D25+D26","v":0},{"$f":"E25+E26","v":0},{"$f":"F25+F26","v":0},{"$f":"G25+G26","v":0},0,0,0,0,0,0,0,0,{"$f":"P25+P26","v":0},{"$f":"Q25+Q26","v":0},{"$f":"R25+R26","v":0}]
["      N1.1. krótkoterminowe",null,{"$f":"D25+P25","v":0},{"$f":"E25+J25+K25+L25+M25+N25+O25","v":0},{"$f":"F25+G25+H25+I25","v":0},null,null,null,null,null,null,null,null,null,null,{"$f":"Q25+R25","v":0}]
["      N1.2. długoterminowe",null,{"$f":"D26+P26","v":0},{"$f":"E26+J26+K26+L26+M26+N26+O26","v":0},{"$f":"F26+G26+H26+I26","v":0},null,null,null,null,null,null,null,null,null,null,{"$f":"Q26+R26","v":0}]
["N2. pożyczki (N2.1+N2.2)",null,{"$f":"C28+C29","v":0},{"$f":"D28+D29","v":0},{"$f":"E28+E29","v":0},{"$f":"F28+F29","v":0},{"$f":"G28+G29","v":0},0,0,0,0,0,0,0,0,{"$f":"P28+P29","v":0},{"$f":"Q28+Q29","v":0},{"$f":"R28+R29","v":0}]
["      N2.1. krótkoterminowe",null,{"$f":"D28+P28","v":0},{"$f":"E28+J28+K28+L28+M28+N28+O28","v":0},{"$f":"F28+G28+H28+I28","v":0},null,null,null,null,null,null,null,null,null,null,{"$f":"Q28+R28","v":0}]
["      N2.2. długoterminowe",null,{"$f":"D29+P29","v":0},{"$f":"E29+J29+K29+L29+M29+N29+O29","v":0},{"$f":"F29+G29+H29+I29","v":0},null,null,null,null,null,null,null,null,null,null,{"$f":"Q29+R29","v":0}]
["N3. gotówka i depozyty (N3.1+N3.2+N3.3)",null,{"$f":"C31+C32+C33","v":0},{"$f":"D31+D32+D33","v":0},0,0,0,0,0,0,0,0,0,0,0,0,0,0]
["      N3.1. gotówka",null,{"$f":"D31+P31","v":0},{"$f":"E31+J31+K31+L31+M31+N31+O31","v":0},{"$f":"F31+G31+H31+I31","v":0},null,null,null,null,null,null,null,null,null,null,{"$f":"Q31+R31","v":0}]
["      N3.2. depozyty na żądanie",null,{"$f":"D32+P32","v":0},{"$f":"E32+J32+K32+L32+M32+N32+O32","v":0},{"$f":"F32+G32+H32+I32","v":0},null,null,null,null,null,null,null,null,null,null,{"$f":"Q32+R32","v":0}]
["      N3.3. depozyty terminowe",null,{"$f":"D33+P33","v":0},{"$f":"E33+J33+K33+L33+M33+N33+O33","v":0},{"$f":"F33+G33+H33+I33","v":0},null,null,null,null,null,null,null,null,null,null,{"$f":"Q33+R33","v":0}]
["N4.należności wymagalne (N4.1+N4.2)",null,{"$f":"C35+C36","v":0},{"$f":"D35+D36","v":0},0,0,0,0,0,0,0,0,0,0,0,0,0,0]
["      N4.1. z tytułu dostaw towarów i usług",null,{"$f":"D35+P35","v":0},{"$f":"E35+J35+K35+L35+M35+N35+O35","v":0},{"$f":"F35+G35+H35+I35","v":0},null,null,null,null,null,null,null,null,null,null,{"$f":"Q35+R35","v":0}]
["      N4.2. pozostałe",null,{"$f":"D36+P36","v":0},{"$f":"E36+J36+K36+L36+M36+N36+O36","v":0},{"$f":"F36+G36+H36+I36","v":0},null,null,null,null,null,null,null,null,null,null,{"$f":"Q36+R36","v":0}]
["N5. pozostałe należności (N5.1+N5.2+N5.3)",null,{"$f":"C38+C39+C40","v":0},0,0,0,0,0,0,0,0,0,0,0,0,0,0,0]
["      N5.1. z tytułu dostaw towarów i usług",null,{"$f":"D38+P38","v":0},{"$f":"E38+J38+K38+L38+M38+N38+O38","v":0},{"$f":"F38+G38+H38+I38","v":0},null,null,null,null,null,null,null,null,null,null,{"$f":"Q38+R38","v":0}]
["      N5.2. z tytułu podatków i składek \n      na ubezpieczenie społeczne",null,{"$f":"D39+P39","v":0},{"$f":"E39+J39+K39+L39+M39+N39+O39","v":0},{"$f":"F39+G39+H39+I39","v":0},null,null,null,null,null,null,null,null,null,null,{"$f":"Q39+R39","v":0}]
["      N5.3. z tytułów innych niż wymienione\n      wyżej",null,{"$f":"D40+P40","v":0},{"$f":"E40+J40+K40+L40+M40+N40+O40","v":0},{"$f":"F40+G40+H40+I40","v":0},null,null,null,null,null,null,null,null,null,null,{"$f":"Q40+R40","v":0}]
[]
[" B. Należności z tytułu udzielonych poręczeń  i gwarancji"]
[]
[null,null,null,null,null,null,"d ł u ż n i c y"]
[null,null,null,null,null,"Kwota ","podmioty"]
["Wyszczególnienie",null,null,null,null,"należności","sektora","grupa  I","grupa II","grupa III","grupa IV","pozostałe "]
[null,null,null,null,null,"ogółem","finansów",null,null,null,null,"podmioty"]
[null,null,null,null,null,"(kol. 3+8)","publicznych"]
[null,null,null,null,null,null,"(kol.4+5+6+7)"]
[1,null,null,null,null,2,3,4,5,6,7,8]
["B1. należność główna z tytułu udzielonych gwarancji i poręczeń",null,null,null,null,{"$f":"G51+L51","v":0},{"$f":"H51+I51+J51+K51","v":0}]
["B2. odsetki ustawowe za opóźnienie od należności głównej z tytułu udzielonych gwarancji i poręczeń",null,null,null,null,{"$f":"G52+L52","v":0},{"$f":"H52+I52+J52+K52","v":0}]
["B3. wartość spłat dokonanych w okresie sprawozdawczym za dłużników z tytułu udzielonych poręczeń i gwarancji (wydatki)",null,null,null,null,{"$f":"G53+L53","v":0},{"$f":"H53+I53+J53+K53","v":0}]
["B4. kwota odzyskanych wierzytelności w okresie sprawozdawczym od dłużników z tytułu poręczeń lub gwarancji (dochody)",null,null,null,null,{"$f":"G54+L54","v":0},{"$f":"H54+I54+J54+K54","v":0}]
[]
[]
[]
[]
[]
[]
[]
[]
["……………………",null,null,"………………",null,"………………",null,null,"…………………"]
["Główny księgowy * / Skarbnik",null,null,"telefon",null,"rok m-c dzień",null,null,"Kierownik jednostki (jednostki obsługującej)/ Przewodniczący Zarządu"]
["* Nie dotyczy sprawozdań zbiorczych sporządzanych przez RIO. W przypadku braku głównego księgowego podpisuje tylko kierownik jednostki."]

{"sheet":"71-ZUS","index":9,"n_rows":65,"n_cols":21,"rows_kept":65,"cut":false,"hidden":false,"merged":[[22,0,22,1],[8,2,8,4],[2,0,2,1],[5,0,5,1],[7,0,7,1],[16,0,16,1],[38,0,38,1],[39,0,39,1],[53,0,53,4],[49,0,49,4],[50,0,50,4],[45,0,45,4],[51,0,51,4],[52,0,52,4]]}
[null,null,null,null,null,null,null,null,null,null,null,null,null,null,null,null,null,null,null,null,0]
["Nazwa jednostki sprawozdawczej ",null,null,null,null,"Rb-N   KWARTALNE SPRAWOZDANIE O STANIE NALEŻNOŚCI ORAZ WYBRANYCH AKTYWÓW FINANSOWYCH",null,null,null,null,null,null,null,null,null,null,null,null,null,null,{"$f":"MAX('11-państw.fund.cel.:90-agencja wykonawcza'!U1)","v":0}]
[{"$f":"IF(U$1<>0,INDEX(LISTANAZW,U1,1),IF(U$2<>0,INDEX(LISTANAZW,U2,1),\"\"))","v":""}]
[null,null,null,null,null,"ZUS"]
["Adres jednostki sprawozdawczej",null,null,null,null,null,null,null,null,null,null,null,null,"Adresat:"]
[null,null,null,null,null,null,null,null,null,null,null,null,null,"Urząd Statystyczny we Wrocławiu"]
["Numer identyfikacyjny REGON",null,"liczba identyfik.jedn.",null,null,null,null,null,null,null,null,null,null,"ul. Oławska 31"]
[{"$f":"IF(U$1<>0,INDEX(LISTAREG,$U1,1),IF(U$2<>0,INDEX(LISTAREG,$U2,1),\"\"))","v":""},null,null,null,null,"wg stanu na koniec",null,null,"kwartału","  roku",null,null,null,"50-950 Wrocław"]
["Nazwa województwa",null,null,null,null,null,null,"SYMBOLE"]
["Nazwa powiatu / związku",null,null,null,null,"WOJ.","POWIAT","GMINA","TYP GM.","ZWIĄZEK JST","TYP ZW.","GRUPA","CZĘŚĆ BUDŻ."]
["Nazwa gminy / związku",null,null,null,null,null,null,null,null,null,null,71]
[]
[" A. Należności oraz wybrane aktywa finansowe"]
[]
[null,null,null,null,null,null,null,"d ł u ż n i c y   k r a j o w i",null,null,null,null,null,null,null,"             d ł u ż n i c y   z a g r a n i c z n i "]
[null,null,"kwota"]
["Wyszczególnienie",null,"należności",null,"sektor",null,null,null,null,null,null,null,null,null,"instytucje"]
[null,null,"ogółem","ogółem","finansów","grupa I","grupa II","grupa III","grupa IV","bank","banki","pozostałe","przedsiębiorstwa ","gospodarstwa","niekomercyjne",null,"podmioty","pozostałe"]
[null,null,"(kol. 3+15)","(kol 4+9+10+11+","publicznych",null,null,null,null,"centralny",null,"krajowe","niefinansowe","domowe","działające ","ogółem","należące ","podmioty"]
[null,null,null,"12+13+14)","ogółem",null,null,null,null,null,null,"instytucje",null,null,"na rzecz",null,"do strefy","zagraniczne"]
[null,null,null,null,"(kol 5+6+7+8)",null,null,null,null,null,null,"finansowe",null,null,"gospodarstw","(kol. 16+17)","euro"]
[null,null,null,null,null,null,null,null,null,null,null,null,null,null,"domowych"]
[1,null,2,3,4,5,6,7,8,9,10,11,12,13,14,15,16,17]
["N1. papiery wartościowe (N1.1+N1.2)",null,{"$f":"C25+C26","v":0},0,0,0,0,0,0,0,0,0,0,0,0,0,0,0]
["      N1.1. krótkoterminowe",null,{"$f":"D25+P25","v":0},{"$f":"E25+J25+K25+L25+M25+N25+O25","v":0},{"$f":"F25+G25+H25+I25","v":0},null,null,null,null,null,null,null,null,null,null,{"$f":"Q25+R25","v":0}]
["      N1.2. długoterminowe",null,{"$f":"D26+P26","v":0},{"$f":"E26+J26+K26+L26+M26+N26+O26","v":0},{"$f":"F26+G26+H26+I26","v":0},null,null,null,null,null,null,null,null,null,null,{"$f":"Q26+R26","v":0}]
["N2. pożyczki (N2.1+N2.2)",null,{"$f":"C28+C29","v":0},0,0,0,0,0,0,0,0,0,0,0,0,0,0,0]
["      N2.1. krótkoterminowe",null,{"$f":"D28+P28","v":0},{"$f":"E28+J28+K28+L28+M28+N28+O28","v":0},{"$f":"F28+G28+H28+I28","v":0},null,null,null,null,null,null,null,null,null,null,{"$f":"Q28+R28","v":0}]
["      N2.2. długoterminowe",null,{"$f":"D29+P29","v":0},{"$f":"E29+J29+K29+L29+M29+N29+O29","v":0},{"$f":"F29+G29+H29+I29","v":0},null,null,null,null,null,null,null,null,null,null,{"$f":"Q29+R29","v":0}]
["N3. gotówka i depozyty (N3.1+N3.2+N3.3)",null,{"$f":"C31+C32+C33","v":0},0,0,0,0,0,0,0,0,0,0,0,0,0,0,0]
["      N3.1. gotówka",null,{"$f":"D31+P31","v":0},{"$f":"E31+J31+K31+L31+M31+N31+O31","v":0},{"$f":"F31+G31+H31+I31","v":0},null,null,null,null,null,null,null,null,null,null,{"$f":"Q31+R31","v":0}]
["      N3.2. depozyty na żądanie",null,{"$f":"D32+P32","v":0},{"$f":"E32+J32+K32+L32+M32+N32+O32","v":0},{"$f":"F32+G32+H32+I32","v":0},null,null,null,null,null,null,null,null,null,null,{"$f":"Q32+R32","v":0}]
["      N3.3. depozyty terminowe",null,{"$f":"D33+P33","v":0},{"$f":"E33+J33+K33+L33+M33+N33+O33","v":0},{"$f":"F33+G33+H33+I33","v":0},null,null,null,null,null,null,null,null,null,null,{"$f":"Q33+R33","v":0}]
["N4.należności wymagalne (N4.1+N4.2)",null,{"$f":"C35+C36","v":0},0,0,0,0,0,0,0,0,0,0,0,0,0,0,0]
["      N4.1. z tytułu dostaw towarów i usług",null,{"$f":"D35+P35","v":0},{"$f":"E35+J35+K35+L35+M35+N35+O35","v":0},{"$f":"F35+G35+H35+I35","v":0},null,null,null,null,null,null,null,null,null,null,{"$f":"Q35+R35","v":0}]
["      N4.2. pozostałe",null,{"$f":"D36+P36","v":0},{"$f":"E36+J36+K36+L36+M36+N36+O36","v":0},{"$f":"F36+G36+H36+I36","v":0},null,null,null,null,null,null,null,null,null,null,{"$f":"Q36+R36","v":0}]
["N5. pozostałe należności (N5.1+N5.2+N5.3)",null,{"$f":"C38+C39+C40","v":0},0,0,0,0,0,0,0,0,0,0,0,0,0,0,0]
["      N5.1. z tytułu dostaw towarów i usług",null,{"$f":"D38+P38","v":0},{"$f":"E38+J38+K38+L38+M38+N38+O38","v":0},{"$f":"F38+G38+H38+I38","v":0},null,null,null,null,null,null,null,null,null,null,{"$f":"Q38+R38","v":0}]
["      N5.2. z tytułu podatków i składek \n      na ubezpieczenie społeczne",null,{"$f":"D39+P39","v":0},{"$f":"E39+J39+K39+L39+M39+N39+O39","v":0},{"$f":"F39+G39+H39+I39","v":0},null,null,null,null,null,null,null,null,null,null,{"$f":"Q39+R39","v":0}]
["      N5.3. z tytułów innych niż wymienione\n      wyżej",null,{"$f":"D40+P40","v":0},{"$f":"E40+J40+K40+L40+M40+N40+O40","v":0},{"$f":"F40+G40+H40+I40","v":0},null,null,null,null,null,null,null,null,null,null,{"$f":"Q40+R40","v":0}]
[]
[" B. Należności z tytułu udzielonych poręczeń  i gwarancji"]
[]
[null,null,null,null,null,null,"d ł u ż n i c y"]
[null,null,null,null,null,"Kwota ","podmioty"]
["Wyszczególnienie",null,null,null,null,"należności","sektora","grupa  I","grupa II","grupa III","grupa IV","pozostałe "]
[null,null,null,null,null,"ogółem","finansów",null,null,null,null,"podmioty"]
[null,null,null,null,null,"(kol. 3+8)","publicznych"]
[null,null,null,null,null,null,"(kol.4+5+6+7)"]
[1,null,null,null,null,2,3,4,5,6,7,8]
["B1. należność główna z tytułu udzielonych gwarancji i poręczeń",null,null,null,null,{"$f":"G51+L51","v":0},{"$f":"H51+I51+J51+K51","v":0}]
["B2. odsetki ustawowe za opóźnienie od należności głównej z tytułu udzielonych gwarancji i poręczeń",null,null,null,null,{"$f":"G52+L52","v":0},{"$f":"H52+I52+J52+K52","v":0}]
["B3. wartość spłat dokonanych w okresie sprawozdawczym za dłużników z tytułu udzielonych poręczeń i gwarancji (wydatki)",null,null,null,null,{"$f":"G53+L53","v":0},{"$f":"H53+I53+J53+K53","v":0}]
["B4. kwota odzyskanych wierzytelności w okresie sprawozdawczym od dłużników z tytułu poręczeń lub gwarancji (dochody)",null,null,null,null,{"$f":"G54+L54","v":0},{"$f":"H54+I54+J54+K54","v":0}]
[]
[]
[]
[]
[]
[]
[]
[]
["……………………",null,null,"………………",null,"………………",null,null,"…………………"]
["Główny księgowy * / Skarbnik",null,null,"telefon",null,"rok m-c dzień",null,null,"Kierownik jednostki (jednostki obsługującej)/ Przewodniczący Zarządu"]
["* Nie dotyczy sprawozdań zbiorczych sporządzanych przez RIO. W przypadku braku głównego księgowego podpisuje tylko kierownik jednostki."]

{"sheet":"72-fund.zarz.przez ZUS","index":10,"n_rows":65,"n_cols":21,"rows_kept":65,"cut":false,"hidden":false,"merged":[[52,0,52,4],[53,0,53,4],[43,6,43,11],[49,0,49,4],[50,0,50,4],[51,0,51,4],[16,0,16,1],[45,0,45,4],[2,0,2,1],[5,0,5,1],[7,0,7,1],[8,2,8,4],[38,0,38,1],[39,0,39,1]]}
[null,null,null,null,null,null,null,null,null,null,null,null,null,null,null,null,null,null,null,null,0]
["Nazwa jednostki sprawozdawczej ",null,null,null,null,"Rb-N   KWARTALNE SPRAWOZDANIE O STANIE NALEŻNOŚCI ORAZ WYBRANYCH AKTYWÓW FINANSOWYCH",null,null,null,null,null,null,null,null,null,null,null,null,null,null,{"$f":"MAX('11-państw.fund.cel.:90-agencja wykonawcza'!U1)","v":0}]
[{"$f":"IF(U$1<>0,INDEX(LISTANAZW,U1,1),IF(U$2<>0,INDEX(LISTANAZW,U2,1),\"\"))","v":""}]
[null,null,null,null,null,"funduszy zarządzanych przez ZUS"]
["Adres jednostki sprawozdawczej",null,null,null,null,null,null,null,null,null,null,null,null,"Adresat:"]
[null,null,null,null,null,null,null,null,null,null,null,null,null,"Urząd Statystyczny we Wrocławiu"]
["Numer identyfikacyjny REGON",null,"liczba identyfik.jedn.",null,null,null,null,null,null,null,null,null,null,"ul. Oławska 31"]
[{"$f":"IF(U$1<>0,INDEX(LISTAREG,$U1,1),IF(U$2<>0,INDEX(LISTAREG,$U2,1),\"\"))","v":""},null,null,null,null,"wg stanu na koniec",null,null,"kwartału","  roku",null,null,null,"50-950 Wrocław"]
["Nazwa województwa",null,null,null,null,null,null,"SYMBOLE"]
["Nazwa powiatu / związku",null,null,null,null,"WOJ.","POWIAT","GMINA","TYP GM.","ZWIĄZEK JST","TYP ZW.","GRUPA","CZĘŚĆ BUDŻ."]
["Nazwa gminy / związku",null,null,null,null,null,null,null,null,null,null,72]
[]
[" A. Należności oraz wybrane aktywa finansowe"]
[]
[null,null,null,null,null,null,null,"d ł u ż n i c y   k r a j o w i",null,null,null,null,null,null,null,"             d ł u ż n i c y   z a g r a n i c z n i "]
[null,null,"kwota"]
["Wyszczególnienie",null,"należności",null,"sektor",null,null,null,null,null,null,null,null,null,"instytucje"]
[null,null,"ogółem","ogółem","finansów","grupa I","grupa II","grupa III","grupa IV","bank","banki","pozostałe","przedsiębiorstwa ","gospodarstwa","niekomercyjne",null,"podmioty","pozostałe"]
[null,null,"(kol. 3+15)","(kol 4+9+10+11+","publicznych",null,null,null,null,"centralny",null,"krajowe","niefinansowe","domowe","działające ","ogółem","należące ","podmioty"]
[null,null,null,"12+13+14)","ogółem",null,null,null,null,null,null,"instytucje",null,null,"na rzecz",null,"do strefy","zagraniczne"]
[null,null,null,null,"(kol 5+6+7+8)",null,null,null,null,null,null,"finansowe",null,null,"gospodarstw","(kol. 16+17)","euro"]
[null,null,null,null,null,null,null,null,null,null,null,null,null,null,"domowych"]
[1,null,2,3,4,5,6,7,8,9,10,11,12,13,14,15,16,17]
["N1. papiery wartościowe (N1.1+N1.2)",null,{"$f":"C25+C26","v":0},{"$f":"D25+D26","v":0},{"$f":"E25+E26","v":0},{"$f":"F25+F26","v":0},{"$f":"G25+G26","v":0},0,0,0,0,0,0,0,0,{"$f":"P25+P26","v":0},{"$f":"Q25+Q26","v":0},{"$f":"R25+R26","v":0}]
["      N1.1. krótkoterminowe",null,{"$f":"D25+P25","v":0},{"$f":"E25+J25+K25+L25+M25+N25+O25","v":0},{"$f":"F25+G25+H25+I25","v":0},null,null,null,null,null,null,null,null,null,null,{"$f":"Q25+R25","v":0}]
["      N1.2. długoterminowe",null,{"$f":"D26+P26","v":0},{"$f":"E26+J26+K26+L26+M26+N26+O26","v":0},{"$f":"F26+G26+H26+I26","v":0},null,null,null,null,null,null,null,null,null,null,{"$f":"Q26+R26","v":0}]
["N2. pożyczki (N2.1+N2.2)",null,{"$f":"C28+C29","v":0},{"$f":"D28+D29","v":0},{"$f":"E28+E29","v":0},{"$f":"F28+F29","v":0},{"$f":"G28+G29","v":0},0,0,0,0,0,0,0,0,{"$f":"P28+P29","v":0},{"$f":"Q28+Q29","v":0},{"$f":"R28+R29","v":0}]
["      N2.1. krótkoterminowe",null,{"$f":"D28+P28","v":0},{"$f":"E28+J28+K28+L28+M28+N28+O28","v":0},{"$f":"F28+G28+H28+I28","v":0},null,null,null,null,null,null,null,null,null,null,{"$f":"Q28+R28","v":0}]
["      N2.2. długoterminowe",null,{"$f":"D29+P29","v":0},{"$f":"E29+J29+K29+L29+M29+N29+O29","v":0},{"$f":"F29+G29+H29+I29","v":0},null,null,null,null,null,null,null,null,null,null,{"$f":"Q29+R29","v":0}]
["N3. gotówka i depozyty (N3.1+N3.2+N3.3)",null,{"$f":"C31+C32+C33","v":0},{"$f":"D31+D32+D33","v":0},0,0,0,0,0,0,0,0,0,0,0,0,0,0]
["      N3.1. gotówka",null,{"$f":"D31+P31","v":0},{"$f":"E31+J31+K31+L31+M31+N31+O31","v":0},{"$f":"F31+G31+H31+I31","v":0},null,null,null,null,null,null,null,null,null,null,{"$f":"Q31+R31","v":0}]
["      N3.2. depozyty na żądanie",null,{"$f":"D32+P32","v":0},{"$f":"E32+J32+K32+L32+M32+N32+O32","v":0},{"$f":"F32+G32+H32+I32","v":0},null,null,null,null,null,null,null,null,null,null,{"$f":"Q32+R32","v":0}]
["      N3.3. depozyty terminowe",null,{"$f":"D33+P33","v":0},{"$f":"E33+J33+K33+L33+M33+N33+O33","v":0},{"$f":"F33+G33+H33+I33","v":0},null,null,null,null,null,null,null,null,null,null,{"$f":"Q33+R33","v":0}]
["N4.należności wymagalne (N4.1+N4.2)",null,{"$f":"C35+C36","v":0},{"$f":"D35+D36","v":0},0,0,0,0,0,0,0,0,0,0,0,0,0,0]
["      N4.1. z tytułu dostaw towarów i usług",null,{"$f":"D35+P35","v":0},{"$f":"E35+J35+K35+L35+M35+N35+O35","v":0},{"$f":"F35+G35+H35+I35","v":0},null,null,null,null,null,null,null,null,null,null,{"$f":"Q35+R35","v":0}]
["      N4.2. pozostałe",null,{"$f":"D36+P36","v":0},{"$f":"E36+J36+K36+L36+M36+N36+O36","v":0},{"$f":"F36+G36+H36+I36","v":0},null,null,null,null,null,null,null,null,null,null,{"$f":"Q36+R36","v":0}]
["N5. pozostałe należności (N5.1+N5.2+N5.3)",null,{"$f":"C38+C39+C40","v":0},0,0,0,0,0,0,0,0,0,0,0,0,0,0,0]
["      N5.1. z tytułu dostaw towarów i usług",null,{"$f":"D38+P38","v":0},{"$f":"E38+J38+K38+L38+M38+N38+O38","v":0},{"$f":"F38+G38+H38+I38","v":0},null,null,null,null,null,null,null,null,null,null,{"$f":"Q38+R38","v":0}]
["      N5.2. z tytułu podatków i składek \n      na ubezpieczenie społeczne",null,{"$f":"D39+P39","v":0},{"$f":"E39+J39+K39+L39+M39+N39+O39","v":0},{"$f":"F39+G39+H39+I39","v":0},null,null,null,null,null,null,null,null,null,null,{"$f":"Q39+R39","v":0}]
["      N5.3. z tytułów innych niż wymienione\n      wyżej",null,{"$f":"D40+P40","v":0},{"$f":"E40+J40+K40+L40+M40+N40+O40","v":0},{"$f":"F40+G40+H40+I40","v":0},null,null,null,null,null,null,null,null,null,null,{"$f":"Q40+R40","v":0}]
[]
[" B. Należności z tytułu udzielonych poręczeń  i gwarancji"]
[]
[null,null,null,null,null,null,"d ł u ż n i c y"]
[null,null,null,null,null,"Kwota ","podmioty"]
["Wyszczególnienie",null,null,null,null,"należności","sektora","grupa  I","grupa II","grupa III","grupa IV","pozostałe "]
[null,null,null,null,null,"ogółem","finansów",null,null,null,null,"podmioty"]
[null,null,null,null,null,"(kol. 3+8)","publicznych"]
[null,null,null,null,null,null,"(kol.4+5+6+7)"]
[1,null,null,null,null,2,3,4,5,6,7,8]
["B1. należność główna z tytułu udzielonych gwarancji i poręczeń",null,null,null,null,{"$f":"G51+L51","v":0},{"$f":"H51+I51+J51+K51","v":0}]
["B2. odsetki ustawowe za opóźnienie od należności głównej z tytułu udzielonych gwarancji i poręczeń",null,null,null,null,{"$f":"G52+L52","v":0},{"$f":"H52+I52+J52+K52","v":0}]
["B3. wartość spłat dokonanych w okresie sprawozdawczym za dłużników z tytułu udzielonych poręczeń i gwarancji (wydatki)",null,null,null,null,{"$f":"G53+L53","v":0},{"$f":"H53+I53+J53+K53","v":0}]
["B4. kwota odzyskanych wierzytelności w okresie sprawozdawczym od dłużników z tytułu poręczeń lub gwarancji (dochody)",null,null,null,null,{"$f":"G54+L54","v":0},{"$f":"H54+I54+J54+K54","v":0}]
[]
[]
[]
[]
[]
[]
[]
[]
["……………………",null,null,"………………",null,"………………",null,null,"…………………"]
["Główny księgowy * / Skarbnik",null,null,"telefon",null,"rok m-c dzień",null,null,"Kierownik jednostki (jednostki obsługującej)/ Przewodniczący Zarządu"]
["* Nie dotyczy sprawozdań zbiorczych sporządzanych przez RIO. W przypadku braku głównego księgowego podpisuje tylko kierownik jednostki."]

{"sheet":"73-KRUS","index":11,"n_rows":65,"n_cols":21,"rows_kept":65,"cut":false,"hidden":false,"merged":[[16,0,16,1],[45,0,45,4],[2,0,2,1],[5,0,5,1],[7,0,7,1],[8,2,8,4],[38,0,38,1],[39,0,39,1],[52,0,52,4],[53,0,53,4],[43,6,43,11],[49,0,49,4],[50,0,50,4],[51,0,51,4]]}
[null,null,null,null,null,null,null,null,null,null,null,null,null,null,null,null,null,null,null,null,0]
["Nazwa jednostki sprawozdawczej ",null,null,null,null,"Rb-N   KWARTALNE SPRAWOZDANIE O STANIE NALEŻNOŚCI ORAZ WYBRANYCH AKTYWÓW FINANSOWYCH",null,null,null,null,null,null,null,null,null,null,null,null,null,null,{"$f":"MAX('11-państw.fund.cel.:90-agencja wykonawcza'!U1)","v":0}]
[{"$f":"IF(U$1<>0,INDEX(LISTANAZW,U1,1),IF(U$2<>0,INDEX(LISTANAZW,U2,1),\"\"))","v":""}]
[null,null,null,null,null,"KRUS oraz funduszy zarządzanych przez Prezesa KRUS"]
["Adres jednostki sprawozdawczej",null,null,null,null,null,null,null,null,null,null,null,null,"Adresat:"]
[null,null,null,null,null,null,null,null,null,null,null,null,null,"Urząd Statystyczny we Wrocławiu"]
["Numer identyfikacyjny REGON",null,"liczba identyfik.jedn.",null,null,null,null,null,null,null,null,null,null,"ul. Oławska 31"]
[{"$f":"IF(U$1<>0,INDEX(LISTAREG,$U1,1),IF(U$2<>0,INDEX(LISTAREG,$U2,1),\"\"))","v":""},null,null,null,null,"wg stanu na koniec",null,null,"kwartału","  roku",null,null,null,"50-950 Wrocław"]
["Nazwa województwa",null,null,null,null,null,null,"SYMBOLE"]
["Nazwa powiatu / związku",null,null,null,null,"WOJ.","POWIAT","GMINA","TYP GM.","ZWIĄZEK JST","TYP ZW.","GRUPA","CZĘŚĆ BUDŻ."]
["Nazwa gminy / związku",null,null,null,null,null,null,null,null,null,null,73]
[]
[" A. Należności oraz wybrane aktywa finansowe"]
[]
[null,null,null,null,null,null,null,"d ł u ż n i c y   k r a j o w i",null,null,null,null,null,null,null,"             d ł u ż n i c y   z a g r a n i c z n i "]
[null,null,"kwota"]
["Wyszczególnienie",null,"należności",null,"sektor",null,null,null,null,null,null,null,null,null,"instytucje"]
[null,null,"ogółem","ogółem","finansów","grupa I","grupa II","grupa III","grupa IV","bank","banki","pozostałe","przedsiębiorstwa ","gospodarstwa","niekomercyjne",null,"podmioty","pozostałe"]
[null,null,"(kol. 3+15)","(kol 4+9+10+11+","publicznych",null,null,null,null,"centralny",null,"krajowe","niefinansowe","domowe","działające ","ogółem","należące ","podmioty"]
[null,null,null,"12+13+14)","ogółem",null,null,null,null,null,null,"instytucje",null,null,"na rzecz",null,"do strefy","zagraniczne"]
[null,null,null,null,"(kol 5+6+7+8)",null,null,null,null,null,null,"finansowe",null,null,"gospodarstw","(kol. 16+17)","euro"]
[null,null,null,null,null,null,null,null,null,null,null,null,null,null,"domowych"]
[1,null,2,3,4,5,6,7,8,9,10,11,12,13,14,15,16,17]
["N1. papiery wartościowe (N1.1+N1.2)",null,{"$f":"C25+C26","v":0},0,0,0,0,0,0,0,0,0,0,0,0,0,0,0]
["      N1.1. krótkoterminowe",null,{"$f":"D25+P25","v":0},{"$f":"E25+J25+K25+L25+M25+N25+O25","v":0},{"$f":"F25+G25+H25+I25","v":0},null,null,null,null,null,null,null,null,null,null,{"$f":"Q25+R25","v":0}]
["      N1.2. długoterminowe",null,{"$f":"D26+P26","v":0},{"$f":"E26+J26+K26+L26+M26+N26+O26","v":0},{"$f":"F26+G26+H26+I26","v":0},null,null,null,null,null,null,null,null,null,null,{"$f":"Q26+R26","v":0}]
["N2. pożyczki (N2.1+N2.2)",null,{"$f":"C28+C29","v":0},0,0,0,0,0,0,0,0,0,0,0,0,0,0,0]
["      N2.1. krótkoterminowe",null,{"$f":"D28+P28","v":0},{"$f":"E28+J28+K28+L28+M28+N28+O28","v":0},{"$f":"F28+G28+H28+I28","v":0},null,null,null,null,null,null,null,null,null,null,{"$f":"Q28+R28","v":0}]
["      N2.2. długoterminowe",null,{"$f":"D29+P29","v":0},{"$f":"E29+J29+K29+L29+M29+N29+O29","v":0},{"$f":"F29+G29+H29+I29","v":0},null,null,null,null,null,null,null,null,null,null,{"$f":"Q29+R29","v":0}]
["N3. gotówka i depozyty (N3.1+N3.2+N3.3)",null,{"$f":"C31+C32+C33","v":0},0,0,0,0,0,0,0,0,0,0,0,0,0,0,0]
["      N3.1. gotówka",null,{"$f":"D31+P31","v":0},{"$f":"E31+J31+K31+L31+M31+N31+O31","v":0},{"$f":"F31+G31+H31+I31","v":0},null,null,null,null,null,null,null,null,null,null,{"$f":"Q31+R31","v":0}]
["      N3.2. depozyty na żądanie",null,{"$f":"D32+P32","v":0},{"$f":"E32+J32+K32+L32+M32+N32+O32","v":0},{"$f":"F32+G32+H32+I32","v":0},null,null,null,null,null,null,null,null,null,null,{"$f":"Q32+R32","v":0}]
["      N3.3. depozyty terminowe",null,{"$f":"D33+P33","v":0},{"$f":"E33+J33+K33+L33+M33+N33+O33","v":0},{"$f":"F33+G33+H33+I33","v":0},null,null,null,null,null,null,null,null,null,null,{"$f":"Q33+R33","v":0}]
["N4.należności wymagalne (N4.1+N4.2)",null,{"$f":"C35+C36","v":0},0,0,0,0,0,0,0,0,0,0,0,0,0,0,0]
["      N4.1. z tytułu dostaw towarów i usług",null,{"$f":"D35+P35","v":0},{"$f":"E35+J35+K35+L35+M35+N35+O35","v":0},{"$f":"F35+G35+H35+I35","v":0},null,null,null,null,null,null,null,null,null,null,{"$f":"Q35+R35","v":0}]
["      N4.2. pozostałe",null,{"$f":"D36+P36","v":0},{"$f":"E36+J36+K36+L36+M36+N36+O36","v":0},{"$f":"F36+G36+H36+I36","v":0},null,null,null,null,null,null,null,null,null,null,{"$f":"Q36+R36","v":0}]
["N5. pozostałe należności (N5.1+N5.2+N5.3)",null,{"$f":"C38+C39+C40","v":0},0,0,0,0,0,0,0,0,0,0,0,0,0,0,0]
["      N5.1. z tytułu dostaw towarów i usług",null,{"$f":"D38+P38","v":0},{"$f":"E38+J38+K38+L38+M38+N38+O38","v":0},{"$f":"F38+G38+H38+I38","v":0},null,null,null,null,null,null,null,null,null,null,{"$f":"Q38+R38","v":0}]
["      N5.2. z tytułu podatków i składek \n      na ubezpieczenie społeczne",null,{"$f":"D39+P39","v":0},{"$f":"E39+J39+K39+L39+M39+N39+O39","v":0},{"$f":"F39+G39+H39+I39","v":0},null,null,null,null,null,null,null,null,null,null,{"$f":"Q39+R39","v":0}]
["      N5.3. z tytułów innych niż wymienione\n      wyżej",null,{"$f":"D40+P40","v":0},{"$f":"E40+J40+K40+L40+M40+N40+O40","v":0},{"$f":"F40+G40+H40+I40","v":0},null,null,null,null,null,null,null,null,null,null,{"$f":"Q40+R40","v":0}]
[]
[" B. Należności z tytułu udzielonych poręczeń  i gwarancji"]
[]
[null,null,null,null,null,null,"d ł u ż n i c y"]
[null,null,null,null,null,"Kwota ","podmioty"]
["Wyszczególnienie",null,null,null,null,"należności","sektora","grupa  I","grupa II","grupa III","grupa IV","pozostałe "]
[null,null,null,null,null,"ogółem","finansów",null,null,null,null,"podmioty"]
[null,null,null,null,null,"(kol. 3+8)","publicznych"]
[null,null,null,null,null,null,"(kol.4+5+6+7)"]
[1,null,null,null,null,2,3,4,5,6,7,8]
["B1. należność główna z tytułu udzielonych gwarancji i poręczeń",null,null,null,null,{"$f":"G51+L51","v":0},{"$f":"H51+I51+J51+K51","v":0}]
["B2. odsetki ustawowe za opóźnienie od należności głównej z tytułu udzielonych gwarancji i poręczeń",null,null,null,null,{"$f":"G52+L52","v":0},{"$f":"H52+I52+J52+K52","v":0}]
["B3. wartość spłat dokonanych w okresie sprawozdawczym za dłużników z tytułu udzielonych poręczeń i gwarancji (wydatki)",null,null,null,null,{"$f":"G53+L53","v":0},{"$f":"H53+I53+J53+K53","v":0}]
["B4. kwota odzyskanych wierzytelności w okresie sprawozdawczym od dłużników z tytułu poręczeń lub gwarancji (dochody)",null,null,null,null,{"$f":"G54+L54","v":0},{"$f":"H54+I54+J54+K54","v":0}]
[]
[]
[]
[]
[]
[]
[]
[]
["……………………",null,null,"………………",null,"………………",null,null,"…………………"]
["Główny księgowy * / Skarbnik",null,null,"telefon",null,"rok m-c dzień",null,null,"Kierownik jednostki (jednostki obsługującej)/ Przewodniczący Zarządu"]
["* Nie dotyczy sprawozdań zbiorczych sporządzanych przez RIO. W przypadku braku głównego księgowego podpisuje tylko kierownik jednostki."]

{"sheet":"81-państw.osoba prawna","index":12,"n_rows":65,"n_cols":21,"rows_kept":65,"cut":false,"hidden":false,"merged":[[22,0,22,1],[8,2,8,4],[38,0,38,1],[53,0,53,4],[49,0,49,4],[50,0,50,4],[45,0,45,4],[51,0,51,4],[52,0,52,4],[39,0,39,1],[2,0,2,1],[5,0,5,1],[7,0,7,1],[16,0,16,1],[3,4,3,11]]}
[null,null,null,null,null,null,null,null,null,null,null,null,null,null,null,null,null,null,null,null,0]
["Nazwa jednostki sprawozdawczej ",null,null,null,null,"Rb-N   KWARTALNE SPRAWOZDANIE O STANIE NALEŻNOŚCI ORAZ WYBRANYCH AKTYWÓW FINANSOWYCH",null,null,null,null,null,null,null,null,null,null,null,null,null,null,{"$f":"MAX('11-państw.fund.cel.:90-agencja wykonawcza'!U1)","v":0}]
[{"$f":"IF(U$1<>0,INDEX(LISTANAZW,U1,1),IF(U$2<>0,INDEX(LISTANAZW,U2,1),\"\"))","v":""}]
[null,null,null,null,"państwowej osoby prawnej utworzonej na podstawie odrębnych ustaw w celu wykonywania zadań publicznych \n(z wyłączeniem agencji wykonawczych)"]
["Adres jednostki sprawozdawczej",null,null,null,null,null,null,null,null,null,null,null,null,"Adresat:"]
[null,null,null,null,null,null,null,null,null,null,null,null,null,"Urząd Statystyczny we Wrocławiu"]
["Numer identyfikacyjny REGON",null,"liczba identyfik.jedn.",null,null,null,null,null,null,null,null,null,null,"ul. Oławska 31"]
[{"$f":"IF(U$1<>0,INDEX(LISTAREG,$U1,1),IF(U$2<>0,INDEX(LISTAREG,$U2,1),\"\"))","v":""},null,null,null,null,"wg stanu na koniec",null,null,"kwartału","  roku",null,null,null,"50-950 Wrocław"]
["Nazwa województwa",null,null,null,null,null,null,"SYMBOLE"]
["Nazwa powiatu / związku",null,null,null,null,"WOJ.","POWIAT","GMINA","TYP GM.","ZWIĄZEK JST","TYP ZW.","GRUPA","CZĘŚĆ BUDŻ."]
["Nazwa gminy / związku",null,null,null,null,null,null,null,null,null,null,81]
[]
[" A. Należności oraz wybrane aktywa finansowe"]
[]
[null,null,null,null,null,null,null,"d ł u ż n i c y   k r a j o w i",null,null,null,null,null,null,null,"             d ł u ż n i c y   z a g r a n i c z n i "]
[null,null,"kwota"]
["Wyszczególnienie",null,"należności",null,"sektor",null,null,null,null,null,null,null,null,null,"instytucje"]
[null,null,"ogółem","ogółem","finansów","grupa I","grupa II","grupa III","grupa IV","bank","banki","pozostałe","przedsiębiorstwa ","gospodarstwa","niekomercyjne",null,"podmioty","pozostałe"]
[null,null,"(kol. 3+15)","(kol 4+9+10+11+","publicznych",null,null,null,null,"centralny",null,"krajowe","niefinansowe","domowe","działające ","ogółem","należące ","podmioty"]
[null,null,null,"12+13+14)","ogółem",null,null,null,null,null,null,"instytucje",null,null,"na rzecz",null,"do strefy","zagraniczne"]
[null,null,null,null,"(kol 5+6+7+8)",null,null,null,null,null,null,"finansowe",null,null,"gospodarstw","(kol. 16+17)","euro"]
[null,null,null,null,null,null,null,null,null,null,null,null,null,null,"domowych"]
[1,null,2,3,4,5,6,7,8,9,10,11,12,13,14,15,16,17]
["N1. papiery wartościowe (N1.1+N1.2)",null,{"$f":"C25+C26","v":0},{"$f":"D25+D26","v":0},{"$f":"E25+E26","v":0},{"$f":"F25+F26","v":0},{"$f":"G25+G26","v":0},0,0,0,0,0,0,0,0,{"$f":"P25+P26","v":0},{"$f":"Q25+Q26","v":0},{"$f":"R25+R26","v":0}]
["      N1.1. krótkoterminowe",null,{"$f":"D25+P25","v":0},{"$f":"E25+J25+K25+L25+M25+N25+O25","v":0},{"$f":"F25+G25+H25+I25","v":0},null,null,null,null,null,null,null,null,null,null,{"$f":"Q25+R25","v":0}]
["      N1.2. długoterminowe",null,{"$f":"D26+P26","v":0},{"$f":"E26+J26+K26+L26+M26+N26+O26","v":0},{"$f":"F26+G26+H26+I26","v":0},null,null,null,null,null,null,null,null,null,null,{"$f":"Q26+R26","v":0}]
["N2. pożyczki (N2.1+N2.2)",null,{"$f":"C28+C29","v":0},{"$f":"D28+D29","v":0},{"$f":"E28+E29","v":0},{"$f":"F28+F29","v":0},{"$f":"G28+G29","v":0},0,0,0,0,0,0,0,0,{"$f":"P28+P29","v":0},{"$f":"Q28+Q29","v":0},{"$f":"R28+R29","v":0}]
["      N2.1. krótkoterminowe",null,{"$f":"D28+P28","v":0},{"$f":"E28+J28+K28+L28+M28+N28+O28","v":0},{"$f":"F28+G28+H28+I28","v":0},null,null,null,null,null,null,null,null,null,null,{"$f":"Q28+R28","v":0}]
["      N2.2. długoterminowe",null,{"$f":"D29+P29","v":0},{"$f":"E29+J29+K29+L29+M29+N29+O29","v":0},{"$f":"F29+G29+H29+I29","v":0},null,null,null,null,null,null,null,null,null,null,{"$f":"Q29+R29","v":0}]
["N3. gotówka i depozyty (N3.1+N3.2+N3.3)",null,{"$f":"C31+C32+C33","v":0},{"$f":"D31+D32+D33","v":0},0,0,0,0,0,0,0,0,0,0,0,0,0,0]
["      N3.1. gotówka",null,{"$f":"D31+P31","v":0},{"$f":"E31+J31+K31+L31+M31+N31+O31","v":0},{"$f":"F31+G31+H31+I31","v":0},null,null,null,null,null,null,null,null,null,null,{"$f":"Q31+R31","v":0}]
["      N3.2. depozyty na żądanie",null,{"$f":"D32+P32","v":0},{"$f":"E32+J32+K32+L32+M32+N32+O32","v":0},{"$f":"F32+G32+H32+I32","v":0},null,null,null,null,null,null,null,null,null,null,{"$f":"Q32+R32","v":0}]
["      N3.3. depozyty terminowe",null,{"$f":"D33+P33","v":0},{"$f":"E33+J33+K33+L33+M33+N33+O33","v":0},{"$f":"F33+G33+H33+I33","v":0},null,null,null,null,null,null,null,null,null,null,{"$f":"Q33+R33","v":0}]
["N4.należności wymagalne (N4.1+N4.2)",null,{"$f":"C35+C36","v":0},{"$f":"D35+D36","v":0},0,0,0,0,0,0,0,0,0,0,0,0,0,0]
["      N4.1. z tytułu dostaw towarów i usług",null,{"$f":"D35+P35","v":0},{"$f":"E35+J35+K35+L35+M35+N35+O35","v":0},{"$f":"F35+G35+H35+I35","v":0},null,null,null,null,null,null,null,null,null,null,{"$f":"Q35+R35","v":0}]
["      N4.2. pozostałe",null,{"$f":"D36+P36","v":0},{"$f":"E36+J36+K36+L36+M36+N36+O36","v":0},{"$f":"F36+G36+H36+I36","v":0},null,null,null,null,null,null,null,null,null,null,{"$f":"Q36+R36","v":0}]
["N5. pozostałe należności (N5.1+N5.2+N5.3)",null,{"$f":"C38+C39+C40","v":0},0,0,0,0,0,0,0,0,0,0,0,0,0,0,0]
["      N5.1. z tytułu dostaw towarów i usług",null,{"$f":"D38+P38","v":0},{"$f":"E38+J38+K38+L38+M38+N38+O38","v":0},{"$f":"F38+G38+H38+I38","v":0},null,null,null,null,null,null,null,null,null,null,{"$f":"Q38+R38","v":0}]
["      N5.2. z tytułu podatków i składek \n      na ubezpieczenie społeczne",null,{"$f":"D39+P39","v":0},{"$f":"E39+J39+K39+L39+M39+N39+O39","v":0},{"$f":"F39+G39+H39+I39","v":0},null,null,null,null,null,null,null,null,null,null,{"$f":"Q39+R39","v":0}]
["      N5.3. z tytułów innych niż wymienione\n      wyżej",null,{"$f":"D40+P40","v":0},{"$f":"E40+J40+K40+L40+M40+N40+O40","v":0},{"$f":"F40+G40+H40+I40","v":0},null,null,null,null,null,null,null,null,null,null,{"$f":"Q40+R40","v":0}]
[]
[" B. Należności z tytułu udzielonych poręczeń  i gwarancji"]
[]
[null,null,null,null,null,null,"d ł u ż n i c y"]
[null,null,null,null,null,"Kwota ","podmioty"]
["Wyszczególnienie",null,null,null,null,"należności","sektora","grupa  I","grupa II","grupa III","grupa IV","pozostałe "]
[null,null,null,null,null,"ogółem","finansów",null,null,null,null,"podmioty"]
[null,null,null,null,null,"(kol. 3+8)","publicznych"]
[null,null,null,null,null,null,"(kol.4+5+6+7)"]
[1,null,null,null,null,2,3,4,5,6,7,8]
["B1. należność główna z tytułu udzielonych gwarancji i poręczeń",null,null,null,null,{"$f":"G51+L51","v":0},{"$f":"H51+I51+J51+K51","v":0}]
["B2. odsetki ustawowe za opóźnienie od należności głównej z tytułu udzielonych gwarancji i poręczeń",null,null,null,null,{"$f":"G52+L52","v":0},{"$f":"H52+I52+J52+K52","v":0}]
["B3. wartość spłat dokonanych w okresie sprawozdawczym za dłużników z tytułu udzielonych poręczeń i gwarancji (wydatki)",null,null,null,null,{"$f":"G53+L53","v":0},{"$f":"H53+I53+J53+K53","v":0}]
["B4. kwota odzyskanych wierzytelności w okresie sprawozdawczym od dłużników z tytułu poręczeń lub gwarancji (dochody)",null,null,null,null,{"$f":"G54+L54","v":0},{"$f":"H54+I54+J54+K54","v":0}]
[]
[]
[]
[]
[]
[]
[]
[]
["……………………",null,null,"………………",null,"………………",null,null,"…………………"]
["Główny księgowy * / Skarbnik",null,null,"telefon",null,"rok m-c dzień",null,null,"Kierownik jednostki (jednostki obsługującej)/ Przewodniczący Zarządu"]
["* Nie dotyczy sprawozdań zbiorczych sporządzanych przez RIO. W przypadku braku głównego księgowego podpisuje tylko kierownik jednostki."]

{"sheet":"82-samorz.osoba prawna","index":13,"n_rows":65,"n_cols":21,"rows_kept":65,"cut":false,"hidden":false,"merged":[[53,0,53,4],[49,0,49,4],[50,0,50,4],[45,0,45,4],[51,0,51,4],[52,0,52,4],[22,0,22,1],[8,2,8,4],[38,0,38,1],[39,0,39,1],[2,0,2,1],[5,0,5,1],[7,0,7,1],[16,0,16,1]]}
[null,null,null,null,null,null,null,null,null,null,null,null,null,null,null,null,null,null,null,null,0]
["Nazwa jednostki sprawozdawczej ",null,null,null,null,"Rb-N   KWARTALNE SPRAWOZDANIE O STANIE NALEŻNOŚCI ORAZ WYBRANYCH AKTYWÓW FINANSOWYCH",null,null,null,null,null,null,null,null,null,null,null,null,null,null,{"$f":"MAX('11-państw.fund.cel.:90-agencja wykonawcza'!U1)","v":0}]
[{"$f":"IF(U$1<>0,INDEX(LISTANAZW,U1,1),IF(U$2<>0,INDEX(LISTANAZW,U2,1),\"\"))","v":""}]
[null,null,null,null,null,"samorządowej osoby prawnej utworzonej na podstawie odrębnych ustaw w celu wykonywania zadań publicznych"]
["Adres jednostki sprawozdawczej",null,null,null,null,null,null,null,null,null,null,null,null,"Adresat:"]
[null,null,null,null,null,null,null,null,null,null,null,null,null,"Urząd Statystyczny we Wrocławiu"]
["Numer identyfikacyjny REGON",null,"liczba identyfik.jedn.",null,null,null,null,null,null,null,null,null,null,"ul. Oławska 31"]
[{"$f":"IF(U$1<>0,INDEX(LISTAREG,$U1,1),IF(U$2<>0,INDEX(LISTAREG,$U2,1),\"\"))","v":""},null,null,null,null,"wg stanu na koniec",null,null,"kwartału","  roku",null,null,null,"50-950 Wrocław"]
["Nazwa województwa",null,null,null,null,null,null,"SYMBOLE"]
["Nazwa powiatu / związku",null,null,null,null,"WOJ.","POWIAT","GMINA","TYP GM.","ZWIĄZEK JST","TYP ZW.","GRUPA","CZĘŚĆ BUDŻ."]
["Nazwa gminy / związku",null,null,null,null,null,null,null,null,null,null,82]
[]
[" A. Należności oraz wybrane aktywa finansowe"]
[]
[null,null,null,null,null,null,null,"d ł u ż n i c y   k r a j o w i",null,null,null,null,null,null,null,"             d ł u ż n i c y   z a g r a n i c z n i "]
[null,null,"kwota"]
["Wyszczególnienie",null,"należności",null,"sektor",null,null,null,null,null,null,null,null,null,"instytucje"]
[null,null,"ogółem","ogółem","finansów","grupa I","grupa II","grupa III","grupa IV","bank","banki","pozostałe","przedsiębiorstwa ","gospodarstwa","niekomercyjne",null,"podmioty","pozostałe"]
[null,null,"(kol. 3+15)","(kol 4+9+10+11+","publicznych",null,null,null,null,"centralny",null,"krajowe","niefinansowe","domowe","działające ","ogółem","należące ","podmioty"]
[null,null,null,"12+13+14)","ogółem",null,null,null,null,null,null,"instytucje",null,null,"na rzecz",null,"do strefy","zagraniczne"]
[null,null,null,null,"(kol 5+6+7+8)",null,null,null,null,null,null,"finansowe",null,null,"gospodarstw","(kol. 16+17)","euro"]
[null,null,null,null,null,null,null,null,null,null,null,null,null,null,"domowych"]
[1,null,2,3,4,5,6,7,8,9,10,11,12,13,14,15,16,17]
["N1. papiery wartościowe (N1.1+N1.2)",null,{"$f":"C25+C26","v":0},{"$f":"D25+D26","v":0},{"$f":"E25+E26","v":0},{"$f":"F25+F26","v":0},{"$f":"G25+G26","v":0},0,0,0,0,0,0,0,0,{"$f":"P25+P26","v":0},{"$f":"Q25+Q26","v":0},{"$f":"R25+R26","v":0}]
["      N1.1. krótkoterminowe",null,{"$f":"D25+P25","v":0},{"$f":"E25+J25+K25+L25+M25+N25+O25","v":0},{"$f":"F25+G25+H25+I25","v":0},null,null,null,null,null,null,null,null,null,null,{"$f":"Q25+R25","v":0}]
["      N1.2. długoterminowe",null,{"$f":"D26+P26","v":0},{"$f":"E26+J26+K26+L26+M26+N26+O26","v":0},{"$f":"F26+G26+H26+I26","v":0},null,null,null,null,null,null,null,null,null,null,{"$f":"Q26+R26","v":0}]
["N2. pożyczki (N2.1+N2.2)",null,{"$f":"C28+C29","v":0},{"$f":"D28+D29","v":0},{"$f":"E28+E29","v":0},{"$f":"F28+F29","v":0},{"$f":"G28+G29","v":0},0,0,0,0,0,0,0,0,{"$f":"P28+P29","v":0},{"$f":"Q28+Q29","v":0},{"$f":"R28+R29","v":0}]
["      N2.1. krótkoterminowe",null,{"$f":"D28+P28","v":0},{"$f":"E28+J28+K28+L28+M28+N28+O28","v":0},{"$f":"F28+G28+H28+I28","v":0},null,null,null,null,null,null,null,null,null,null,{"$f":"Q28+R28","v":0}]
["      N2.2. długoterminowe",null,{"$f":"D29+P29","v":0},{"$f":"E29+J29+K29+L29+M29+N29+O29","v":0},{"$f":"F29+G29+H29+I29","v":0},null,null,null,null,null,null,null,null,null,null,{"$f":"Q29+R29","v":0}]
["N3. gotówka i depozyty (N3.1+N3.2+N3.3)",null,{"$f":"C31+C32+C33","v":0},{"$f":"D31+D32+D33","v":0},0,0,0,0,0,0,0,0,0,0,0,0,0,0]
["      N3.1. gotówka",null,{"$f":"D31+P31","v":0},{"$f":"E31+J31+K31+L31+M31+N31+O31","v":0},{"$f":"F31+G31+H31+I31","v":0},null,null,null,null,null,null,null,null,null,null,{"$f":"Q31+R31","v":0}]
["      N3.2. depozyty na żądanie",null,{"$f":"D32+P32","v":0},{"$f":"E32+J32+K32+L32+M32+N32+O32","v":0},{"$f":"F32+G32+H32+I32","v":0},null,null,null,null,null,null,null,null,null,null,{"$f":"Q32+R32","v":0}]
["      N3.3. depozyty terminowe",null,{"$f":"D33+P33","v":0},{"$f":"E33+J33+K33+L33+M33+N33+O33","v":0},{"$f":"F33+G33+H33+I33","v":0},null,null,null,null,null,null,null,null,null,null,{"$f":"Q33+R33","v":0}]
["N4.należności wymagalne (N4.1+N4.2)",null,{"$f":"C35+C36","v":0},{"$f":"D35+D36","v":0},0,0,0,0,0,0,0,0,0,0,0,0,0,0]
["      N4.1. z tytułu dostaw towarów i usług",null,{"$f":"D35+P35","v":0},{"$f":"E35+J35+K35+L35+M35+N35+O35","v":0},{"$f":"F35+G35+H35+I35","v":0},null,null,null,null,null,null,null,null,null,null,{"$f":"Q35+R35","v":0}]
["      N4.2. pozostałe",null,{"$f":"D36+P36","v":0},{"$f":"E36+J36+K36+L36+M36+N36+O36","v":0},{"$f":"F36+G36+H36+I36","v":0},null,null,null,null,null,null,null,null,null,null,{"$f":"Q36+R36","v":0}]
["N5. pozostałe należności (N5.1+N5.2+N5.3)",null,{"$f":"C38+C39+C40","v":0},0,0,0,0,0,0,0,0,0,0,0,0,0,0,0]
["      N5.1. z tytułu dostaw towarów i usług",null,{"$f":"D38+P38","v":0},{"$f":"E38+J38+K38+L38+M38+N38+O38","v":0},{"$f":"F38+G38+H38+I38","v":0},null,null,null,null,null,null,null,null,null,null,{"$f":"Q38+R38","v":0}]
["      N5.2. z tytułu podatków i składek \n      na ubezpieczenie społeczne",null,{"$f":"D39+P39","v":0},{"$f":"E39+J39+K39+L39+M39+N39+O39","v":0},{"$f":"F39+G39+H39+I39","v":0},null,null,null,null,null,null,null,null,null,null,{"$f":"Q39+R39","v":0}]
["      N5.3. z tytułów innych niż wymienione\n      wyżej",null,{"$f":"D40+P40","v":0},{"$f":"E40+J40+K40+L40+M40+N40+O40","v":0},{"$f":"F40+G40+H40+I40","v":0},null,null,null,null,null,null,null,null,null,null,{"$f":"Q40+R40","v":0}]
[]
[" B. Należności z tytułu udzielonych poręczeń  i gwarancji"]
[]
[null,null,null,null,null,null,"d ł u ż n i c y"]
[null,null,null,null,null,"Kwota ","podmioty"]
["Wyszczególnienie",null,null,null,null,"należności","sektora","grupa  I","grupa II","grupa III","grupa IV","pozostałe "]
[null,null,null,null,null,"ogółem","finansów",null,null,null,null,"podmioty"]
[null,null,null,null,null,"(kol. 3+8)","publicznych"]
[null,null,null,null,null,null,"(kol.4+5+6+7)"]
[1,null,null,null,null,2,3,4,5,6,7,8]
["B1. należność główna z tytułu udzielonych gwarancji i poręczeń",null,null,null,null,{"$f":"G51+L51","v":0},{"$f":"H51+I51+J51+K51","v":0}]
["B2. odsetki ustawowe za opóźnienie od należności głównej z tytułu udzielonych gwarancji i poręczeń",null,null,null,null,{"$f":"G52+L52","v":0},{"$f":"H52+I52+J52+K52","v":0}]
["B3. wartość spłat dokonanych w okresie sprawozdawczym za dłużników z tytułu udzielonych poręczeń i gwarancji (wydatki)",null,null,null,null,{"$f":"G53+L53","v":0},{"$f":"H53+I53+J53+K53","v":0}]
["B4. kwota odzyskanych wierzytelności w okresie sprawozdawczym od dłużników z tytułu poręczeń lub gwarancji (dochody)",null,null,null,null,{"$f":"G54+L54","v":0},{"$f":"H54+I54+J54+K54","v":0}]
[]
[]
[]
[]
[]
[]
[]
[]
["……………………",null,null,"………………",null,"………………",null,null,"…………………"]
["Główny księgowy * / Skarbnik",null,null,"telefon",null,"rok m-c dzień",null,null,"Kierownik jednostki (jednostki obsługującej)/ Przewodniczący Zarządu"]
["* Nie dotyczy sprawozdań zbiorczych sporządzanych przez RIO. W przypadku braku głównego księgowego podpisuje tylko kierownik jednostki."]

{"sheet":"90-agencja wykonawcza","index":14,"n_rows":65,"n_cols":21,"rows_kept":65,"cut":false,"hidden":false,"merged":[[22,0,22,1],[8,2,8,4],[38,0,38,1],[53,0,53,4],[49,0,49,4],[50,0,50,4],[45,0,45,4],[51,0,51,4],[52,0,52,4],[39,0,39,1],[2,0,2,1],[5,0,5,1],[7,0,7,1],[16,0,16,1],[3,5,3,8]]}
[null,null,null,null,null,null,null,null,null,null,null,null,null,null,null,null,null,null,null,null,0]
["Nazwa jednostki sprawozdawczej ",null,null,null,null,"Rb-N   KWARTALNE SPRAWOZDANIE O STANIE NALEŻNOŚCI ORAZ WYBRANYCH AKTYWÓW FINANSOWYCH",null,null,null,null,null,null,null,null,null,null,null,null,null,null,{"$f":"MAX('11-państw.fund.cel.:90-agencja wykonawcza'!U1)","v":0}]
[{"$f":"IF(U$1<>0,INDEX(LISTANAZW,U1,1),IF(U$2<>0,INDEX(LISTANAZW,U2,1),\"\"))","v":""}]
[null,null,null,null,null,"agencji wykonawczej"]
["Adres jednostki sprawozdawczej",null,null,null,null,null,null,null,null,null,null,null,null,"Adresat:"]
[null,null,null,null,null,null,null,null,null,null,null,null,null,"Urząd Statystyczny we Wrocławiu"]
["Numer identyfikacyjny REGON",null,"liczba identyfik.jedn.",null,null,null,null,null,null,null,null,null,null,"ul. Oławska 31"]
[{"$f":"IF(U$1<>0,INDEX(LISTAREG,$U1,1),IF(U$2<>0,INDEX(LISTAREG,$U2,1),\"\"))","v":""},null,null,null,null,"wg stanu na koniec",null,null,"kwartału","  roku",null,null,null,"50-950 Wrocław"]
["Nazwa województwa",null,null,null,null,null,null,"SYMBOLE"]
["Nazwa powiatu / związku",null,null,null,null,"WOJ.","POWIAT","GMINA","TYP GM.","ZWIĄZEK JST","TYP ZW.","GRUPA","CZĘŚĆ BUDŻ."]
["Nazwa gminy / związku",null,null,null,null,null,null,null,null,null,null,90]
[]
[" A. Należności oraz wybrane aktywa finansowe"]
[]
[null,null,null,null,null,null,null,"d ł u ż n i c y   k r a j o w i",null,null,null,null,null,null,null,"             d ł u ż n i c y   z a g r a n i c z n i "]
[null,null,"kwota"]
["Wyszczególnienie",null,"należności",null,"sektor",null,null,null,null,null,null,null,null,null,"instytucje"]
[null,null,"ogółem","ogółem","finansów","grupa I","grupa II","grupa III","grupa IV","bank","banki","pozostałe","przedsiębiorstwa ","gospodarstwa","niekomercyjne",null,"podmioty","pozostałe"]
[null,null,"(kol. 3+15)","(kol 4+9+10+11+","publicznych",null,null,null,null,"centralny",null,"krajowe","niefinansowe","domowe","działające ","ogółem","należące ","podmioty"]
[null,null,null,"12+13+14)","ogółem",null,null,null,null,null,null,"instytucje",null,null,"na rzecz",null,"do strefy","zagraniczne"]
[null,null,null,null,"(kol 5+6+7+8)",null,null,null,null,null,null,"finansowe",null,null,"gospodarstw","(kol. 16+17)","euro"]
[null,null,null,null,null,null,null,null,null,null,null,null,null,null,"domowych"]
[1,null,2,3,4,5,6,7,8,9,10,11,12,13,14,15,16,17]
["N1. papiery wartościowe (N1.1+N1.2)",null,{"$f":"C25+C26","v":0},{"$f":"D25+D26","v":0},{"$f":"E25+E26","v":0},{"$f":"F25+F26","v":0},{"$f":"G25+G26","v":0},0,0,0,0,0,0,0,0,{"$f":"P25+P26","v":0},{"$f":"Q25+Q26","v":0},{"$f":"R25+R26","v":0}]
["      N1.1. krótkoterminowe",null,{"$f":"D25+P25","v":0},{"$f":"E25+J25+K25+L25+M25+N25+O25","v":0},{"$f":"F25+G25+H25+I25","v":0},null,null,null,null,null,null,null,null,null,null,{"$f":"Q25+R25","v":0}]
["      N1.2. długoterminowe",null,{"$f":"D26+P26","v":0},{"$f":"E26+J26+K26+L26+M26+N26+O26","v":0},{"$f":"F26+G26+H26+I26","v":0},null,null,null,null,null,null,null,null,null,null,{"$f":"Q26+R26","v":0}]
["N2. pożyczki (N2.1+N2.2)",null,{"$f":"C28+C29","v":0},{"$f":"D28+D29","v":0},{"$f":"E28+E29","v":0},{"$f":"F28+F29","v":0},{"$f":"G28+G29","v":0},0,0,0,0,0,0,0,0,{"$f":"P28+P29","v":0},{"$f":"Q28+Q29","v":0},{"$f":"R28+R29","v":0}]
["      N2.1. krótkoterminowe",null,{"$f":"D28+P28","v":0},{"$f":"E28+J28+K28+L28+M28+N28+O28","v":0},{"$f":"F28+G28+H28+I28","v":0},null,null,null,null,null,null,null,null,null,null,{"$f":"Q28+R28","v":0}]
["      N2.2. długoterminowe",null,{"$f":"D29+P29","v":0},{"$f":"E29+J29+K29+L29+M29+N29+O29","v":0},{"$f":"F29+G29+H29+I29","v":0},null,null,null,null,null,null,null,null,null,null,{"$f":"Q29+R29","v":0}]
["N3. gotówka i depozyty (N3.1+N3.2+N3.3)",null,{"$f":"C31+C32+C33","v":0},{"$f":"D31+D32+D33","v":0},0,0,0,0,0,0,0,0,0,0,0,0,0,0]
["      N3.1. gotówka",null,{"$f":"D31+P31","v":0},{"$f":"E31+J31+K31+L31+M31+N31+O31","v":0},{"$f":"F31+G31+H31+I31","v":0},null,null,null,null,null,null,null,null,null,null,{"$f":"Q31+R31","v":0}]
["      N3.2. depozyty na żądanie",null,{"$f":"D32+P32","v":0},{"$f":"E32+J32+K32+L32+M32+N32+O32","v":0},{"$f":"F32+G32+H32+I32","v":0},null,null,null,null,null,null,null,null,null,null,{"$f":"Q32+R32","v":0}]
["      N3.3. depozyty terminowe",null,{"$f":"D33+P33","v":0},{"$f":"E33+J33+K33+L33+M33+N33+O33","v":0},{"$f":"F33+G33+H33+I33","v":0},null,null,null,null,null,null,null,null,null,null,{"$f":"Q33+R33","v":0}]
["N4.należności wymagalne (N4.1+N4.2)",null,{"$f":"C35+C36","v":0},{"$f":"D35+D36","v":0},0,0,0,0,0,0,0,0,0,0,0,0,0,0]
["      N4.1. z tytułu dostaw towarów i usług",null,{"$f":"D35+P35","v":0},{"$f":"E35+J35+K35+L35+M35+N35+O35","v":0},{"$f":"F35+G35+H35+I35","v":0},null,null,null,null,null,null,null,null,null,null,{"$f":"Q35+R35","v":0}]
["      N4.2. pozostałe",null,{"$f":"D36+P36","v":0},{"$f":"E36+J36+K36+L36+M36+N36+O36","v":0},{"$f":"F36+G36+H36+I36","v":0},null,null,null,null,null,null,null,null,null,null,{"$f":"Q36+R36","v":0}]
["N5. pozostałe należności (N5.1+N5.2+N5.3)",null,{"$f":"C38+C39+C40","v":0},0,0,0,0,0,0,0,0,0,0,0,0,0,0,0]
["      N5.1. z tytułu dostaw towarów i usług",null,{"$f":"D38+P38","v":0},{"$f":"E38+J38+K38+L38+M38+N38+O38","v":0},{"$f":"F38+G38+H38+I38","v":0},null,null,null,null,null,null,null,null,null,null,{"$f":"Q38+R38","v":0}]
["      N5.2. z tytułu podatków i składek \n      na ubezpieczenie społeczne",null,{"$f":"D39+P39","v":0},{"$f":"E39+J39+K39+L39+M39+N39+O39","v":0},{"$f":"F39+G39+H39+I39","v":0},null,null,null,null,null,null,null,null,null,null,{"$f":"Q39+R39","v":0}]
["      N5.3. z tytułów innych niż wymienione\n      wyżej",null,{"$f":"D40+P40","v":0},{"$f":"E40+J40+K40+L40+M40+N40+O40","v":0},{"$f":"F40+G40+H40+I40","v":0},null,null,null,null,null,null,null,null,null,null,{"$f":"Q40+R40","v":0}]
[]
[" B. Należności z tytułu udzielonych poręczeń  i gwarancji"]
[]
[null,null,null,null,null,null,"d ł u ż n i c y"]
[null,null,null,null,null,"Kwota ","podmioty"]
["Wyszczególnienie",null,null,null,null,"należności","sektora","grupa  I","grupa II","grupa III","grupa IV","pozostałe "]
[null,null,null,null,null,"ogółem","finansów",null,null,null,null,"podmioty"]
[null,null,null,null,null,"(kol. 3+8)","publicznych"]
[null,null,null,null,null,null,"(kol.4+5+6+7)"]
[1,null,null,null,null,2,3,4,5,6,7,8]
["B1. należność główna z tytułu udzielonych gwarancji i poręczeń",null,null,null,null,{"$f":"G51+L51","v":0},{"$f":"H51+I51+J51+K51","v":0}]
["B2. odsetki ustawowe za opóźnienie od należności głównej z tytułu udzielonych gwarancji i poręczeń",null,null,null,null,{"$f":"G52+L52","v":0},{"$f":"H52+I52+J52+K52","v":0}]
["B3. wartość spłat dokonanych w okresie sprawozdawczym za dłużników z tytułu udzielonych poręczeń i gwarancji (wydatki)",null,null,null,null,{"$f":"G53+L53","v":0},{"$f":"H53+I53+J53+K53","v":0}]
["B4. kwota odzyskanych wierzytelności w okresie sprawozdawczym od dłużników z tytułu poręczeń lub gwarancji (dochody)",null,null,null,null,{"$f":"G54+L54","v":0},{"$f":"H54+I54+J54+K54","v":0}]
[]
[]
[]
[]
[]
[]
[]
[]
["……………………",null,null,"………………",null,"………………",null,null,"…………………"]
["Główny księgowy * / Skarbnik",null,null,"telefon",null,"rok m-c dzień",null,null,"Kierownik jednostki (jednostki obsługującej)/ Przewodniczący Zarządu"]
["* Nie dotyczy sprawozdań zbiorczych sporządzanych przez RIO. W przypadku braku głównego księgowego podpisuje tylko kierownik jednostki."]

{"sheet":"99-zbiorczo","index":15,"n_rows":65,"n_cols":22,"rows_kept":65,"cut":false,"hidden":false,"merged":[[53,0,53,4],[49,0,49,4],[50,0,50,4],[45,0,45,4],[51,0,51,4],[52,0,52,4],[8,2,8,4],[16,0,16,1],[39,0,39,1],[2,0,2,1],[5,0,5,1],[7,0,7,1],[38,0,38,1]]}
[null,null,null,null,null,null,null,null,null,null,null,null,null,null,null,null,null,null,null,null,0]
["Nazwa jednostki sprawozdawczej ",null,null,null,null,"Rb-N   KWARTALNE SPRAWOZDANIE O STANIE NALEŻNOŚCI ORAZ WYBRANYCH AKTYWÓW FINANSOWYCH",null,null,null,null,null,null,null,null,null,null,null,null,null,null,{"$f":"MAX('11-państw.fund.cel.:90-agencja wykonawcza'!U1)","v":0},"regon"]
[{"$f":"IF(U$1<>0,INDEX(LISTANAZW,U1,1),IF(U$2<>0,INDEX(LISTANAZW,U2,1),\"Brak danych o jednostce !!!\"))","v":"Brak danych o jednostce !!!"},null,null,null,null,null,null,null,null,null,null,null,null,null,null,null,null,null,null,null,{"$f":"COUNTA('11-państw.fund.cel.:90-agencja wykonawcza'!H8)","v":0},"kwartal"]
[null,null,null,null,null,"Zbiorczo",null,null,null,null,null,null,null,null,null,null,null,null,null,{"$f":"MIN('11-państw.fund.cel.:90-agencja wykonawcza'!H8)","v":0},{"$f":"MAX('11-państw.fund.cel.:90-agencja wykonawcza'!H8)","v":0}]
["Adres jednostki sprawozdawczej",null,null,null,null,null,null,null,null,null,null,null,null,"Adresat:",null,null,null,null,null,null,{"$f":"COUNTA('11-państw.fund.cel.:90-agencja wykonawcza'!K8)","v":0},"rok"]
[null,null,null,null,null,null,null,null,null,null,null,null,null,"Urząd Statystyczny we Wrocławiu",null,null,null,null,null,{"$f":"MIN('11-państw.fund.cel.:90-agencja wykonawcza'!K8)","v":0},{"$f":"MAX('11-państw.fund.cel.:90-agencja wykonawcza'!K8)","v":0}]
["Numer identyfikacyjny REGON",null,"liczba identyfik.jedn.",null,null,null,null,null,null,null,null,null,null,"ul. Oławska 31",null,null,null,null,null,null,{"$f":"COUNTA('11-państw.fund.cel.:90-agencja wykonawcza'!C8)","v":0}]
[{"$f":"IF(U2<>0,INDEX(LISTAREG,U2,1),\"Brak regonu\")","v":"Brak regonu"},null,null,null,null,"wg stanu na koniec",null,{"$f":"IF(U3=0,\"Brak nr kwartału\",U4)","v":"Brak nr kwartału"},"kwartału","  roku",{"$f":"IF(U5=0,\"Brak roku\",U6)","v":"Brak roku"},null,null,"50-950 Wrocław",null,null,null,null,null,{"$f":"MIN('11-państw.fund.cel.:90-agencja wykonawcza'!C8)","v":0},{"$f":"MAX('11-państw.fund.cel.:90-agencja wykonawcza'!C8)","v":0},"licz.ident.jedn."]
["Nazwa województwa",null,null,null,null,null,null,"SYMBOLE"]
["Nazwa powiatu / związku",null,null,null,null,"WOJ.","POWIAT","GMINA","TYP GM.","ZWIĄZEK JST","TYP ZW.","GRUPA","CZĘŚĆ BUDŻ.",null,null,null,null,null,null,{"$f":"MIN('11-państw.fund.cel.:90-agencja wykonawcza'!U10)","v":0},{"$f":"MAX('11-państw.fund.cel.:90-agencja wykonawcza'!U10)","v":0}]
["Nazwa gminy / związku",null,null,null,null,null,null,null,null,null,null,99,null,null,null,null,null,null,null,{"$f":"MIN('11-państw.fund.cel.:90-agencja wykonawcza'!M11)","v":0},{"$f":"MAX('11-państw.fund.cel.:90-agencja wykonawcza'!M11)","v":0}]
[]
[" A. Należności oraz wybrane aktywa finansowe"]
[]
[null,null,null,null,null,null,null,"d ł u ż n i c y   k r a j o w i",null,null,null,null,null,null,null,"             d ł u ż n i c y   z a g r a n i c z n i "]
[null,null,"kwota"]
["Wyszczególnienie",null,"należności",null,"sektor",null,null,null,null,null,null,null,null,null,"instytucje"]
[null,null,"ogółem","ogółem","finansów","grupa I","grupa II","grupa III","grupa IV","bank","banki","pozostałe","przedsiębiorstwa ","gospodarstwa","niekomercyjne",null,"podmioty","pozostałe"]
[null,null,"(kol. 3+15)","(kol 4+9+10+11+","publicznych",null,null,null,null,"centralny",null,"krajowe","niefinansowe","domowe","działające ","ogółem","należące ","podmioty"]
[null,null,null,"12+13+14)","ogółem",null,null,null,null,null,null,"instytucje",null,null,"na rzecz",null,"do strefy","zagraniczne"]
[null,null,null,null,"(kol 5+6+7+8)",null,null,null,null,null,null,"finansowe",null,null,"gospodarstw","(kol. 16+17)","euro"]
[null,null,null,null,null,null,null,null,null,null,null,null,null,null,"domowych"]
[1,null,2,3,4,5,6,7,8,9,10,11,12,13,14,15,16,17]
["N1. papiery wartościowe (N1.1+N1.2)",null,{"$f":"SUM('11-państw.fund.cel.:90-agencja wykonawcza'!C24)","v":0},{"$f":"SUM('11-państw.fund.cel.:90-agencja wykonawcza'!D24)","v":0},{"$f":"SUM('11-państw.fund.cel.:90-agencja wykonawcza'!E24)","v":0},{"$f":"SUM('11-państw.fund.cel.:90-agencja wykonawcza'!F24)","v":0},{"$f":"SUM('11-państw.fund.cel.:90-agencja wykonawcza'!G24)","v":0},{"$f":"SUM('11-państw.fund.cel.:90-agencja wykonawcza'!H24)","v":0},{"$f":"SUM('11-państw.fund.cel.:90-agencja wykonawcza'!I24)","v":0},{"$f":"SUM('11-państw.fund.cel.:90-agencja wykonawcza'!J24)","v":0},{"$f":"SUM('11-państw.fund.cel.:90-agencja wykonawcza'!K24)","v":0},{"$f":"SUM('11-państw.fund.cel.:90-agencja wykonawcza'!L24)","v":0},{"$f":"SUM('11-państw.fund.cel.:90-agencja wykonawcza'!M24)","v":0},{"$f":"SUM('11-państw.fund.cel.:90-agencja wykonawcza'!N24)","v":0},{"$f":"SUM('11-państw.fund.cel.:90-agencja wykonawcza'!O24)","v":0},{"$f":"SUM('11-państw.fund.cel.:90-agencja wykonawcza'!P24)","v":0},{"$f":"SUM('11-państw.fund.cel.:90-agencja wykonawcza'!Q24)","v":0},{"$f":"SUM('11-państw.fund.cel.:90-agencja wykonawcza'!R24)","v":0}]
["      N1.1. krótkoterminowe",null,{"$f":"SUM('11-państw.fund.cel.:90-agencja wykonawcza'!C25)","v":0},{"$f":"SUM('11-państw.fund.cel.:90-agencja wykonawcza'!D25)","v":0},{"$f":"SUM('11-państw.fund.cel.:90-agencja wykonawcza'!E25)","v":0},{"$f":"SUM('11-państw.fund.cel.:90-agencja wykonawcza'!F25)","v":0},{"$f":"SUM('11-państw.fund.cel.:90-agencja wykonawcza'!G25)","v":0},{"$f":"SUM('11-państw.fund.cel.:90-agencja wykonawcza'!H25)","v":0},{"$f":"SUM('11-państw.fund.cel.:90-agencja wykonawcza'!I25)","v":0},{"$f":"SUM('11-państw.fund.cel.:90-agencja wykonawcza'!J25)","v":0},{"$f":"SUM('11-państw.fund.cel.:90-agencja wykonawcza'!K25)","v":0},{"$f":"SUM('11-państw.fund.cel.:90-agencja wykonawcza'!L25)","v":0},{"$f":"SUM('11-państw.fund.cel.:90-agencja wykonawcza'!M25)","v":0},{"$f":"SUM('11-państw.fund.cel.:90-agencja wykonawcza'!N25)","v":0},{"$f":"SUM('11-państw.fund.cel.:90-agencja wykonawcza'!O25)","v":0},{"$f":"SUM('11-państw.fund.cel.:90-agencja wykonawcza'!P25)","v":0},{"$f":"SUM('11-państw.fund.cel.:90-agencja wykonawcza'!Q25)","v":0},{"$f":"SUM('11-państw.fund.cel.:90-agencja wykonawcza'!R25)","v":0}]
["      N1.2. długoterminowe",null,{"$f":"SUM('11-państw.fund.cel.:90-agencja wykonawcza'!C26)","v":0},{"$f":"SUM('11-państw.fund.cel.:90-agencja wykonawcza'!D26)","v":0},{"$f":"SUM('11-państw.fund.cel.:90-agencja wykonawcza'!E26)","v":0},{"$f":"SUM('11-państw.fund.cel.:90-agencja wykonawcza'!F26)","v":0},{"$f":"SUM('11-państw.fund.cel.:90-agencja wykonawcza'!G26)","v":0},{"$f":"SUM('11-państw.fund.cel.:90-agencja wykonawcza'!H26)","v":0},{"$f":"SUM('11-państw.fund.cel.:90-agencja wykonawcza'!I26)","v":0},{"$f":"SUM('11-państw.fund.cel.:90-agencja wykonawcza'!J26)","v":0},{"$f":"SUM('11-państw.fund.cel.:90-agencja wykonawcza'!K26)","v":0},{"$f":"SUM('11-państw.fund.cel.:90-agencja wykonawcza'!L26)","v":0},{"$f":"SUM('11-państw.fund.cel.:90-agencja wykonawcza'!M26)","v":0},{"$f":"SUM('11-państw.fund.cel.:90-agencja wykonawcza'!N26)","v":0},{"$f":"SUM('11-państw.fund.cel.:90-agencja wykonawcza'!O26)","v":0},{"$f":"SUM('11-państw.fund.cel.:90-agencja wykonawcza'!P26)","v":0},{"$f":"SUM('11-państw.fund.cel.:90-agencja wykonawcza'!Q26)","v":0},{"$f":"SUM('11-państw.fund.cel.:90-agencja wykonawcza'!R26)","v":0}]
["N2. pożyczki (N2.1+N2.2)",null,{"$f":"SUM('11-państw.fund.cel.:90-agencja wykonawcza'!C27)","v":0},{"$f":"SUM('11-państw.fund.cel.:90-agencja wykonawcza'!D27)","v":0},{"$f":"SUM('11-państw.fund.cel.:90-agencja wykonawcza'!E27)","v":0},{"$f":"SUM('11-państw.fund.cel.:90-agencja wykonawcza'!F27)","v":0},{"$f":"SUM('11-państw.fund.cel.:90-agencja wykonawcza'!G27)","v":0},{"$f":"SUM('11-państw.fund.cel.:90-agencja wykonawcza'!H27)","v":0},{"$f":"SUM('11-państw.fund.cel.:90-agencja wykonawcza'!I27)","v":0},{"$f":"SUM('11-państw.fund.cel.:90-agencja wykonawcza'!J27)","v":0},{"$f":"SUM('11-państw.fund.cel.:90-agencja wykonawcza'!K27)","v":0},{"$f":"SUM('11-państw.fund.cel.:90-agencja wykonawcza'!L27)","v":0},{"$f":"SUM('11-państw.fund.cel.:90-agencja wykonawcza'!M27)","v":0},{"$f":"SUM('11-państw.fund.cel.:90-agencja wykonawcza'!N27)","v":0},{"$f":"SUM('11-państw.fund.cel.:90-agencja wykonawcza'!O27)","v":0},{"$f":"SUM('11-państw.fund.cel.:90-agencja wykonawcza'!P27)","v":0},{"$f":"SUM('11-państw.fund.cel.:90-agencja wykonawcza'!Q27)","v":0},{"$f":"SUM('11-państw.fund.cel.:90-agencja wykonawcza'!R27)","v":0}]
["      N2.1. krótkoterminowe",null,{"$f":"SUM('11-państw.fund.cel.:90-agencja wykonawcza'!C28)","v":0},{"$f":"SUM('11-państw.fund.cel.:90-agencja wykonawcza'!D28)","v":0},{"$f":"SUM('11-państw.fund.cel.:90-agencja wykonawcza'!E28)","v":0},{"$f":"SUM('11-państw.fund.cel.:90-agencja wykonawcza'!F28)","v":0},{"$f":"SUM('11-państw.fund.cel.:90-agencja wykonawcza'!G28)","v":0},{"$f":"SUM('11-państw.fund.cel.:90-agencja wykonawcza'!H28)","v":0},{"$f":"SUM('11-państw.fund.cel.:90-agencja wykonawcza'!I28)","v":0},{"$f":"SUM('11-państw.fund.cel.:90-agencja wykonawcza'!J28)","v":0},{"$f":"SUM('11-państw.fund.cel.:90-agencja wykonawcza'!K28)","v":0},{"$f":"SUM('11-państw.fund.cel.:90-agencja wykonawcza'!L28)","v":0},{"$f":"SUM('11-państw.fund.cel.:90-agencja wykonawcza'!M28)","v":0},{"$f":"SUM('11-państw.fund.cel.:90-agencja wykonawcza'!N28)","v":0},{"$f":"SUM('11-państw.fund.cel.:90-agencja wykonawcza'!O28)","v":0},{"$f":"SUM('11-państw.fund.cel.:90-agencja wykonawcza'!P28)","v":0},{"$f":"SUM('11-państw.fund.cel.:90-agencja wykonawcza'!Q28)","v":0},{"$f":"SUM('11-państw.fund.cel.:90-agencja wykonawcza'!R28)","v":0}]
["      N2.2. długoterminowe",null,{"$f":"SUM('11-państw.fund.cel.:90-agencja wykonawcza'!C29)","v":0},{"$f":"SUM('11-państw.fund.cel.:90-agencja wykonawcza'!D29)","v":0},{"$f":"SUM('11-państw.fund.cel.:90-agencja wykonawcza'!E29)","v":0},{"$f":"SUM('11-państw.fund.cel.:90-agencja wykonawcza'!F29)","v":0},{"$f":"SUM('11-państw.fund.cel.:90-agencja wykonawcza'!G29)","v":0},{"$f":"SUM('11-państw.fund.cel.:90-agencja wykonawcza'!H29)","v":0},{"$f":"SUM('11-państw.fund.cel.:90-agencja wykonawcza'!I29)","v":0},{"$f":"SUM('11-państw.fund.cel.:90-agencja wykonawcza'!J29)","v":0},{"$f":"SUM('11-państw.fund.cel.:90-agencja wykonawcza'!K29)","v":0},{"$f":"SUM('11-państw.fund.cel.:90-agencja wykonawcza'!L29)","v":0},{"$f":"SUM('11-państw.fund.cel.:90-agencja wykonawcza'!M29)","v":0},{"$f":"SUM('11-państw.fund.cel.:90-agencja wykonawcza'!N29)","v":0},{"$f":"SUM('11-państw.fund.cel.:90-agencja wykonawcza'!O29)","v":0},{"$f":"SUM('11-państw.fund.cel.:90-agencja wykonawcza'!P29)","v":0},{"$f":"SUM('11-państw.fund.cel.:90-agencja wykonawcza'!Q29)","v":0},{"$f":"SUM('11-państw.fund.cel.:90-agencja wykonawcza'!R29)","v":0}]
["N3. gotówka i depozyty (N3.1+N3.2+N3.3)",null,{"$f":"SUM('11-państw.fund.cel.:90-agencja wykonawcza'!C30)","v":0},{"$f":"SUM('11-państw.fund.cel.:90-agencja wykonawcza'!D30)","v":0},{"$f":"SUM('11-państw.fund.cel.:90-agencja wykonawcza'!E30)","v":0},{"$f":"SUM('11-państw.fund.cel.:90-agencja wykonawcza'!F30)","v":0},{"$f":"SUM('11-państw.fund.cel.:90-agencja wykonawcza'!G30)","v":0},{"$f":"SUM('11-państw.fund.cel.:90-agencja wykonawcza'!H30)","v":0},{"$f":"SUM('11-państw.fund.cel.:90-agencja wykonawcza'!I30)","v":0},{"$f":"SUM('11-państw.fund.cel.:90-agencja wykonawcza'!J30)","v":0},{"$f":"SUM('11-państw.fund.cel.:90-agencja wykonawcza'!K30)","v":0},{"$f":"SUM('11-państw.fund.cel.:90-agencja wykonawcza'!L30)","v":0},{"$f":"SUM('11-państw.fund.cel.:90-agencja wykonawcza'!M30)","v":0},{"$f":"SUM('11-państw.fund.cel.:90-agencja wykonawcza'!N30)","v":0},{"$f":"SUM('11-państw.fund.cel.:90-agencja wykonawcza'!O30)","v":0},{"$f":"SUM('11-państw.fund.cel.:90-agencja wykonawcza'!P30)","v":0},{"$f":"SUM('11-państw.fund.cel.:90-agencja wykonawcza'!Q30)","v":0},{"$f":"SUM('11-państw.fund.cel.:90-agencja wykonawcza'!R30)","v":0}]
["      N3.1. gotówka",null,{"$f":"SUM('11-państw.fund.cel.:90-agencja wykonawcza'!C31)","v":0},{"$f":"SUM('11-państw.fund.cel.:90-agencja wykonawcza'!D31)","v":0},{"$f":"SUM('11-państw.fund.cel.:90-agencja wykonawcza'!E31)","v":0},{"$f":"SUM('11-państw.fund.cel.:90-agencja wykonawcza'!F31)","v":0},{"$f":"SUM('11-państw.fund.cel.:90-agencja wykonawcza'!G31)","v":0},{"$f":"SUM('11-państw.fund.cel.:90-agencja wykonawcza'!H31)","v":0},{"$f":"SUM('11-państw.fund.cel.:90-agencja wykonawcza'!I31)","v":0},{"$f":"SUM('11-państw.fund.cel.:90-agencja wykonawcza'!J31)","v":0},{"$f":"SUM('11-państw.fund.cel.:90-agencja wykonawcza'!K31)","v":0},{"$f":"SUM('11-państw.fund.cel.:90-agencja wykonawcza'!L31)","v":0},{"$f":"SUM('11-państw.fund.cel.:90-agencja wykonawcza'!M31)","v":0},{"$f":"SUM('11-państw.fund.cel.:90-agencja wykonawcza'!N31)","v":0},{"$f":"SUM('11-państw.fund.cel.:90-agencja wykonawcza'!O31)","v":0},{"$f":"SUM('11-państw.fund.cel.:90-agencja wykonawcza'!P31)","v":0},{"$f":"SUM('11-państw.fund.cel.:90-agencja wykonawcza'!Q31)","v":0},{"$f":"SUM('11-państw.fund.cel.:90-agencja wykonawcza'!R31)","v":0}]
["      N3.2. depozyty na żądanie",null,{"$f":"SUM('11-państw.fund.cel.:90-agencja wykonawcza'!C32)","v":0},{"$f":"SUM('11-państw.fund.cel.:90-agencja wykonawcza'!D32)","v":0},{"$f":"SUM('11-państw.fund.cel.:90-agencja wykonawcza'!E32)","v":0},{"$f":"SUM('11-państw.fund.cel.:90-agencja wykonawcza'!F32)","v":0},{"$f":"SUM('11-państw.fund.cel.:90-agencja wykonawcza'!G32)","v":0},{"$f":"SUM('11-państw.fund.cel.:90-agencja wykonawcza'!H32)","v":0},{"$f":"SUM('11-państw.fund.cel.:90-agencja wykonawcza'!I32)","v":0},{"$f":"SUM('11-państw.fund.cel.:90-agencja wykonawcza'!J32)","v":0},{"$f":"SUM('11-państw.fund.cel.:90-agencja wykonawcza'!K32)","v":0},{"$f":"SUM('11-państw.fund.cel.:90-agencja wykonawcza'!L32)","v":0},{"$f":"SUM('11-państw.fund.cel.:90-agencja wykonawcza'!M32)","v":0},{"$f":"SUM('11-państw.fund.cel.:90-agencja wykonawcza'!N32)","v":0},{"$f":"SUM('11-państw.fund.cel.:90-agencja wykonawcza'!O32)","v":0},{"$f":"SUM('11-państw.fund.cel.:90-agencja wykonawcza'!P32)","v":0},{"$f":"SUM('11-państw.fund.cel.:90-agencja wykonawcza'!Q32)","v":0},{"$f":"SUM('11-państw.fund.cel.:90-agencja wykonawcza'!R32)","v":0}]
["      N3.3. depozyty terminowe",null,{"$f":"SUM('11-państw.fund.cel.:90-agencja wykonawcza'!C33)","v":0},{"$f":"SUM('11-państw.fund.cel.:90-agencja wykonawcza'!D33)","v":0},{"$f":"SUM('11-państw.fund.cel.:90-agencja wykonawcza'!E33)","v":0},{"$f":"SUM('11-państw.fund.cel.:90-agencja wykonawcza'!F33)","v":0},{"$f":"SUM('11-państw.fund.cel.:90-agencja wykonawcza'!G33)","v":0},{"$f":"SUM('11-państw.fund.cel.:90-agencja wykonawcza'!H33)","v":0},{"$f":"SUM('11-państw.fund.cel.:90-agencja wykonawcza'!I33)","v":0},{"$f":"SUM('11-państw.fund.cel.:90-agencja wykonawcza'!J33)","v":0},{"$f":"SUM('11-państw.fund.cel.:90-agencja wykonawcza'!K33)","v":0},{"$f":"SUM('11-państw.fund.cel.:90-agencja wykonawcza'!L33)","v":0},{"$f":"SUM('11-państw.fund.cel.:90-agencja wykonawcza'!M33)","v":0},{"$f":"SUM('11-państw.fund.cel.:90-agencja wykonawcza'!N33)","v":0},{"$f":"SUM('11-państw.fund.cel.:90-agencja wykonawcza'!O33)","v":0},{"$f":"SUM('11-państw.fund.cel.:90-agencja wykonawcza'!P33)","v":0},{"$f":"SUM('11-państw.fund.cel.:90-agencja wykonawcza'!Q33)","v":0},{"$f":"SUM('11-państw.fund.cel.:90-agencja wykonawcza'!R33)","v":0}]
["N4.należności wymagalne (N4.1+N4.2)",null,{"$f":"SUM('11-państw.fund.cel.:90-agencja wykonawcza'!C34)","v":0},{"$f":"SUM('11-państw.fund.cel.:90-agencja wykonawcza'!D34)","v":0},{"$f":"SUM('11-państw.fund.cel.:90-agencja wykonawcza'!E34)","v":0},{"$f":"SUM('11-państw.fund.cel.:90-agencja wykonawcza'!F34)","v":0},{"$f":"SUM('11-państw.fund.cel.:90-agencja wykonawcza'!G34)","v":0},{"$f":"SUM('11-państw.fund.cel.:90-agencja wykonawcza'!H34)","v":0},{"$f":"SUM('11-państw.fund.cel.:90-agencja wykonawcza'!I34)","v":0},{"$f":"SUM('11-państw.fund.cel.:90-agencja wykonawcza'!J34)","v":0},{"$f":"SUM('11-państw.fund.cel.:90-agencja wykonawcza'!K34)","v":0},{"$f":"SUM('11-państw.fund.cel.:90-agencja wykonawcza'!L34)","v":0},{"$f":"SUM('11-państw.fund.cel.:90-agencja wykonawcza'!M34)","v":0},{"$f":"SUM('11-państw.fund.cel.:90-agencja wykonawcza'!N34)","v":0},{"$f":"SUM('11-państw.fund.cel.:90-agencja wykonawcza'!O34)","v":0},{"$f":"SUM('11-państw.fund.cel.:90-agencja wykonawcza'!P34)","v":0},{"$f":"SUM('11-państw.fund.cel.:90-agencja wykonawcza'!Q34)","v":0},{"$f":"SUM('11-państw.fund.cel.:90-agencja wykonawcza'!R34)","v":0}]
["      N4.1. z tytułu dostaw towarów i usług",null,{"$f":"SUM('11-państw.fund.cel.:90-agencja wykonawcza'!C35)","v":0},{"$f":"SUM('11-państw.fund.cel.:90-agencja wykonawcza'!D35)","v":0},{"$f":"SUM('11-państw.fund.cel.:90-agencja wykonawcza'!E35)","v":0},{"$f":"SUM('11-państw.fund.cel.:90-agencja wykonawcza'!F35)","v":0},{"$f":"SUM('11-państw.fund.cel.:90-agencja wykonawcza'!G35)","v":0},{"$f":"SUM('11-państw.fund.cel.:90-agencja wykonawcza'!H35)","v":0},{"$f":"SUM('11-państw.fund.cel.:90-agencja wykonawcza'!I35)","v":0},{"$f":"SUM('11-państw.fund.cel.:90-agencja wykonawcza'!J35)","v":0},{"$f":"SUM('11-państw.fund.cel.:90-agencja wykonawcza'!K35)","v":0},{"$f":"SUM('11-państw.fund.cel.:90-agencja wykonawcza'!L35)","v":0},{"$f":"SUM('11-państw.fund.cel.:90-agencja wykonawcza'!M35)","v":0},{"$f":"SUM('11-państw.fund.cel.:90-agencja wykonawcza'!N35)","v":0},{"$f":"SUM('11-państw.fund.cel.:90-agencja wykonawcza'!O35)","v":0},{"$f":"SUM('11-państw.fund.cel.:90-agencja wykonawcza'!P35)","v":0},{"$f":"SUM('11-państw.fund.cel.:90-agencja wykonawcza'!Q35)","v":0},{"$f":"SUM('11-państw.fund.cel.:90-agencja wykonawcza'!R35)","v":0}]
["      N4.2. pozostałe",null,{"$f":"SUM('11-państw.fund.cel.:90-agencja wykonawcza'!C36)","v":0},{"$f":"SUM('11-państw.fund.cel.:90-agencja wykonawcza'!D36)","v":0},{"$f":"SUM('11-państw.fund.cel.:90-agencja wykonawcza'!E36)","v":0},{"$f":"SUM('11-państw.fund.cel.:90-agencja wykonawcza'!F36)","v":0},{"$f":"SUM('11-państw.fund.cel.:90-agencja wykonawcza'!G36)","v":0},{"$f":"SUM('11-państw.fund.cel.:90-agencja wykonawcza'!H36)","v":0},{"$f":"SUM('11-państw.fund.cel.:90-agencja wykonawcza'!I36)","v":0},{"$f":"SUM('11-państw.fund.cel.:90-agencja wykonawcza'!J36)","v":0},{"$f":"SUM('11-państw.fund.cel.:90-agencja wykonawcza'!K36)","v":0},{"$f":"SUM('11-państw.fund.cel.:90-agencja wykonawcza'!L36)","v":0},{"$f":"SUM('11-państw.fund.cel.:90-agencja wykonawcza'!M36)","v":0},{"$f":"SUM('11-państw.fund.cel.:90-agencja wykonawcza'!N36)","v":0},{"$f":"SUM('11-państw.fund.cel.:90-agencja wykonawcza'!O36)","v":0},{"$f":"SUM('11-państw.fund.cel.:90-agencja wykonawcza'!P36)","v":0},{"$f":"SUM('11-państw.fund.cel.:90-agencja wykonawcza'!Q36)","v":0},{"$f":"SUM('11-państw.fund.cel.:90-agencja wykonawcza'!R36)","v":0}]
["N5. pozostałe należności (N5.1+N5.2+N5.3)",null,{"$f":"SUM('11-państw.fund.cel.:90-agencja wykonawcza'!C37)","v":0},{"$f":"SUM('11-państw.fund.cel.:90-agencja wykonawcza'!D37)","v":0},{"$f":"SUM('11-państw.fund.cel.:90-agencja wykonawcza'!E37)","v":0},{"$f":"SUM('11-państw.fund.cel.:90-agencja wykonawcza'!F37)","v":0},{"$f":"SUM('11-państw.fund.cel.:90-agencja wykonawcza'!G37)","v":0},{"$f":"SUM('11-państw.fund.cel.:90-agencja wykonawcza'!H37)","v":0},{"$f":"SUM('11-państw.fund.cel.:90-agencja wykonawcza'!I37)","v":0},{"$f":"SUM('11-państw.fund.cel.:90-agencja wykonawcza'!J37)","v":0},{"$f":"SUM('11-państw.fund.cel.:90-agencja wykonawcza'!K37)","v":0},{"$f":"SUM('11-państw.fund.cel.:90-agencja wykonawcza'!L37)","v":0},{"$f":"SUM('11-państw.fund.cel.:90-agencja wykonawcza'!M37)","v":0},{"$f":"SUM('11-państw.fund.cel.:90-agencja wykonawcza'!N37)","v":0},{"$f":"SUM('11-państw.fund.cel.:90-agencja wykonawcza'!O37)","v":0},{"$f":"SUM('11-państw.fund.cel.:90-agencja wykonawcza'!P37)","v":0},{"$f":"SUM('11-państw.fund.cel.:90-agencja wykonawcza'!Q37)","v":0},{"$f":"SUM('11-państw.fund.cel.:90-agencja wykonawcza'!R37)","v":0}]
["      N5.1. z tytułu dostaw towarów i usług",null,{"$f":"SUM('11-państw.fund.cel.:90-agencja wykonawcza'!C38)","v":0},{"$f":"SUM('11-państw.fund.cel.:90-agencja wykonawcza'!D38)","v":0},{"$f":"SUM('11-państw.fund.cel.:90-agencja wykonawcza'!E38)","v":0},{"$f":"SUM('11-państw.fund.cel.:90-agencja wykonawcza'!F38)","v":0},{"$f":"SUM('11-państw.fund.cel.:90-agencja wykonawcza'!G38)","v":0},{"$f":"SUM('11-państw.fund.cel.:90-agencja wykonawcza'!H38)","v":0},{"$f":"SUM('11-państw.fund.cel.:90-agencja wykonawcza'!I38)","v":0},{"$f":"SUM('11-państw.fund.cel.:90-agencja wykonawcza'!J38)","v":0},{"$f":"SUM('11-państw.fund.cel.:90-agencja wykonawcza'!K38)","v":0},{"$f":"SUM('11-państw.fund.cel.:90-agencja wykonawcza'!L38)","v":0},{"$f":"SUM('11-państw.fund.cel.:90-agencja wykonawcza'!M38)","v":0},{"$f":"SUM('11-państw.fund.cel.:90-agencja wykonawcza'!N38)","v":0},{"$f":"SUM('11-państw.fund.cel.:90-agencja wykonawcza'!O38)","v":0},{"$f":"SUM('11-państw.fund.cel.:90-agencja wykonawcza'!P38)","v":0},{"$f":"SUM('11-państw.fund.cel.:90-agencja wykonawcza'!Q38)","v":0},{"$f":"SUM('11-państw.fund.cel.:90-agencja wykonawcza'!R38)","v":0}]
["      N5.2. z tytułu podatków i składek \n      na ubezpieczenie społeczne",null,{"$f":"SUM('11-państw.fund.cel.:90-agencja wykonawcza'!C39)","v":0},{"$f":"SUM('11-państw.fund.cel.:90-agencja wykonawcza'!D39)","v":0},{"$f":"SUM('11-państw.fund.cel.:90-agencja wykonawcza'!E39)","v":0},{"$f":"SUM('11-państw.fund.cel.:90-agencja wykonawcza'!F39)","v":0},{"$f":"SUM('11-państw.fund.cel.:90-agencja wykonawcza'!G39)","v":0},{"$f":"SUM('11-państw.fund.cel.:90-agencja wykonawcza'!H39)","v":0},{"$f":"SUM('11-państw.fund.cel.:90-agencja wykonawcza'!I39)","v":0},{"$f":"SUM('11-państw.fund.cel.:90-agencja wykonawcza'!J39)","v":0},{"$f":"SUM('11-państw.fund.cel.:90-agencja wykonawcza'!K39)","v":0},{"$f":"SUM('11-państw.fund.cel.:90-agencja wykonawcza'!L39)","v":0},{"$f":"SUM('11-państw.fund.cel.:90-agencja wykonawcza'!M39)","v":0},{"$f":"SUM('11-państw.fund.cel.:90-agencja wykonawcza'!N39)","v":0},{"$f":"SUM('11-państw.fund.cel.:90-agencja wykonawcza'!O39)","v":0},{"$f":"SUM('11-państw.fund.cel.:90-agencja wykonawcza'!P39)","v":0},{"$f":"SUM('11-państw.fund.cel.:90-agencja wykonawcza'!Q39)","v":0},{"$f":"SUM('11-państw.fund.cel.:90-agencja wykonawcza'!R39)","v":0}]
["      N5.3. z tytułów innych niż wymienione\n      wyżej",null,{"$f":"SUM('11-państw.fund.cel.:90-agencja wykonawcza'!C40)","v":0},{"$f":"SUM('11-państw.fund.cel.:90-agencja wykonawcza'!D40)","v":0},{"$f":"SUM('11-państw.fund.cel.:90-agencja wykonawcza'!E40)","v":0},{"$f":"SUM('11-państw.fund.cel.:90-agencja wykonawcza'!F40)","v":0},{"$f":"SUM('11-państw.fund.cel.:90-agencja wykonawcza'!G40)","v":0},{"$f":"SUM('11-państw.fund.cel.:90-agencja wykonawcza'!H40)","v":0},{"$f":"SUM('11-państw.fund.cel.:90-agencja wykonawcza'!I40)","v":0},{"$f":"SUM('11-państw.fund.cel.:90-agencja wykonawcza'!J40)","v":0},{"$f":"SUM('11-państw.fund.cel.:90-agencja wykonawcza'!K40)","v":0},{"$f":"SUM('11-państw.fund.cel.:90-agencja wykonawcza'!L40)","v":0},{"$f":"SUM('11-państw.fund.cel.:90-agencja wykonawcza'!M40)","v":0},{"$f":"SUM('11-państw.fund.cel.:90-agencja wykonawcza'!N40)","v":0},{"$f":"SUM('11-państw.fund.cel.:90-agencja wykonawcza'!O40)","v":0},{"$f":"SUM('11-państw.fund.cel.:90-agencja wykonawcza'!P40)","v":0},{"$f":"SUM('11-państw.fund.cel.:90-agencja wykonawcza'!Q40)","v":0},{"$f":"SUM('11-państw.fund.cel.:90-agencja wykonawcza'!R40)","v":0}]
[]
[" B. Należności z tytułu udzielonych poręczeń  i gwarancji"]
[]
[null,null,null,null,null,null,"d ł u ż n i c y"]
[null,null,null,null,null,"Kwota ","podmioty"]
["Wyszczególnienie",null,null,null,null,"należności","sektora","grupa  I","grupa II","grupa III","grupa IV","pozostałe "]
[null,null,null,null,null,"ogółem","finansów",null,null,null,null,"podmioty"]
[null,null,null,null,null,"(kol. 3+8)","publicznych"]
[null,null,null,null,null,null,"(kol.4+5+6+7)"]
[1,null,null,null,null,2,3,4,5,6,7,8]
["B1. należność główna z tytułu udzielonych gwarancji i poręczeń",null,null,null,null,{"$f":"SUM('11-państw.fund.cel.:90-agencja wykonawcza'!F51)","v":0},{"$f":"SUM('11-państw.fund.cel.:90-agencja wykonawcza'!G51)","v":0},{"$f":"SUM('11-państw.fund.cel.:90-agencja wykonawcza'!H51)","v":0},{"$f":"SUM('11-państw.fund.cel.:90-agencja wykonawcza'!I51)","v":0},{"$f":"SUM('11-państw.fund.cel.:90-agencja wykonawcza'!J51)","v":0},{"$f":"SUM('11-państw.fund.cel.:90-agencja wykonawcza'!K51)","v":0},{"$f":"SUM('11-państw.fund.cel.:90-agencja wykonawcza'!L51)","v":0}]
["B2. odsetki ustawowe za opóźnienie od należności głównej z tytułu udzielonych gwarancji i poręczeń",null,null,null,null,{"$f":"SUM('11-państw.fund.cel.:90-agencja wykonawcza'!F52)","v":0},{"$f":"SUM('11-państw.fund.cel.:90-agencja wykonawcza'!G52)","v":0},{"$f":"SUM('11-państw.fund.cel.:90-agencja wykonawcza'!H52)","v":0},{"$f":"SUM('11-państw.fund.cel.:90-agencja wykonawcza'!I52)","v":0},{"$f":"SUM('11-państw.fund.cel.:90-agencja wykonawcza'!J52)","v":0},{"$f":"SUM('11-państw.fund.cel.:90-agencja wykonawcza'!K52)","v":0},{"$f":"SUM('11-państw.fund.cel.:90-agencja wykonawcza'!L52)","v":0}]
["B3. wartość spłat dokonanych w okresie sprawozdawczym za dłużników z tytułu udzielonych poręczeń i gwarancji (wydatki)",null,null,null,null,{"$f":"SUM('11-państw.fund.cel.:90-agencja wykonawcza'!F53)","v":0},{"$f":"SUM('11-państw.fund.cel.:90-agencja wykonawcza'!G53)","v":0},{"$f":"SUM('11-państw.fund.cel.:90-agencja wykonawcza'!H53)","v":0},{"$f":"SUM('11-państw.fund.cel.:90-agencja wykonawcza'!I53)","v":0},{"$f":"SUM('11-państw.fund.cel.:90-agencja wykonawcza'!J53)","v":0},{"$f":"SUM('11-państw.fund.cel.:90-agencja wykonawcza'!K53)","v":0},{"$f":"SUM('11-państw.fund.cel.:90-agencja wykonawcza'!L53)","v":0}]
["B4. kwota odzyskanych wierzytelności w okresie sprawozdawczym od dłużników z tytułu poręczeń lub gwarancji (dochody)",null,null,null,null,{"$f":"SUM('11-państw.fund.cel.:90-agencja wykonawcza'!F54)","v":0},{"$f":"SUM('11-państw.fund.cel.:90-agencja wykonawcza'!G54)","v":0},{"$f":"SUM('11-państw.fund.cel.:90-agencja wykonawcza'!H54)","v":0},{"$f":"SUM('11-państw.fund.cel.:90-agencja wykonawcza'!I54)","v":0},{"$f":"SUM('11-państw.fund.cel.:90-agencja wykonawcza'!J54)","v":0},{"$f":"SUM('11-państw.fund.cel.:90-agencja wykonawcza'!K54)","v":0},{"$f":"SUM('11-państw.fund.cel.:90-agencja wykonawcza'!L54)","v":0}]
[]
[]
[]
[]
[]
[]
[]
[]
["……………………",null,null,"………………",null,"………………",null,null,"…………………"]
["Główny księgowy * / Skarbnik",null,null,"telefon",null,"rok m-c dzień",null,null,"Kierownik jednostki (jednostki obsługującej)/ Przewodniczący Zarządu"]
["* Nie dotyczy sprawozdań zbiorczych sporządzanych przez RIO. W przypadku braku głównego księgowego podpisuje tylko kierownik jednostki."]

{"sheet":"LISTA","index":16,"n_rows":104,"n_cols":4,"rows_kept":104,"cut":false,"hidden":true,"merged":[]}
["KODKATEGORII","NRWKATEGORII","NAZWA","REGON"]
[null,null,"Agencja Mienia Wojskowego","011263946"]
[null,null,"Agencja Restrukturyzacji i Modernizacji Rolnictwa","010613083"]
[null,null,"Bankowy Fundusz Gwarancyjny","010978710"]
[null,null,"Centralny Ośrodek Badań Odmian Roślin Uprawnych","301631408"]
[null,null,"Centrum Medyczne Kształcenia Podyplomowego","000289093"]
[null,null,"Dolnośląski Urząd Wojewódzki","000514377"]
[null,null,"Gdański Uniwersytet Medyczny","000288627"]
[null,null,"Główny Urząd Statystyczny","000331501"]
[null,null,"Instytut Pamięci Narodowej","016365090"]
[300,1,"Kancelaria Prezesa Rady Ministrów","012261725"]
[null,null,"Kancelaria Prezydenta RP","000000023"]
[500,3,"Kasa Rolniczego Ubezpieczenia Społecznego","012513262"]
[null,null,"Komenda Główna Policji","012137497"]
[100,null,"Krajowa Rada Radiofonii i Telewizji","010182401"]
[600,1,"Krajowy Ośrodek Wsparcia Rolnictwa","367849538"]
[null,null,"Kujawsko-Pomorski Urząd Wojewódzki","000514236"]
[null,null,"Lubelski Urząd Wojewódzki","000514294"]
[null,null,"Lubuski Urząd Wojewódzki","210467089"]
[300,2,"Łódzki Urząd Wojewódzki","004308002"]
[300,3,"Małopolski Urząd Wojewódzki","000514176"]
[300,4,"Mazowiecki Urząd Wojewódzki","013272620"]
[300,5,"Ministerstwo Aktywów Państwowych","363209612"]
[null,null,"Ministerstwo Cyfryzacji","525189465"]
[300,6,"Ministerstwo Edukacji Narodowej","387796051"]
[300,7,"Ministerstwo Finansów","000002217"]
[200,2,"Ministerstwo Funduszy i Polityki Regionalnej","140315583"]
[200,null,"Ministerstwo Infrastruktury","363190367"]
[200,4,"Ministerstwo Klimatu i Środowiska","001064858"]
[200,5,"Ministerstwo Kultury i Dziedzictwa Narodowego","000274068"]
[200,6,"Ministerstwo Nauki i Szkolnictwa Wyższego","527332079"]
[200,7,"Ministerstwo Obrony Narodowej","000665337"]
[200,8,"Ministerstwo Rodziny, Pracy i Polityki Społecznej","015725935"]
[null,null,"Ministerstwo Rolnictwa i Rozwoju Wsi","000063880"]
[200,10,"Ministerstwo Rozwoju i Technologii","369267361"]
[200,11,"Ministerstwo Sportu i Turystyki","520319443"]
[200,12,"Ministerstwo Spraw Wewnętrznych i Administracji","012293240"]
[200,13,"Ministerstwo Spraw Zagranicznych","000177916"]
[200,14,"Ministerstwo Sprawiedliwości","000319150"]
[200,15,"Ministerstwo Zdrowia","000287987"]
[200,17,"Narodowe Centrum Badań i Rozwoju","141032404"]
[200,19,"Narodowe Centrum Nauki","121361537"]
[300,9,"Narodowy Instytut Wolności - Centrum Rozwoju Społeczeństwa Obywatelskiego","368854582"]
[300,10,"Opolski Urząd Wojewódzki","000514325"]
[100,4,"Podkarpacki Urząd Wojewódzki","000514348"]
[null,null,"Podlaski Urząd Wojewódzki","000514213"]
[null,null,"Politechnika Bydgoska im. Jana i Jędrzeja Śniadeckich","000001689"]
[500,9,"Polska Agencja Kosmiczna","360992221"]
[300,11,"Polska Agencja Rozwoju Przedsiębiorczości","017181095"]
[400,1,"Polska Akademia Nauk","000325713"]
[400,2,"Polska Organizacja Turystyczna","016213775"]
[400,3,"Pomorski Uniwersytet Medyczny w Szczecinie","000288886"]
[400,4,"Pomorski Urząd Wojewódzki","000514242"]
[400,5,"Regionalna Izba Obrachunkowa Białystok","050206702"]
[400,6,"Regionalna Izba Obrachunkowa Bydgoszcz","090208727"]
[400,7,"Regionalna Izba Obrachunkowa Gdańsk","190134954"]
[400,8,"Regionalna Izba Obrachunkowa Katowice","270211058"]
[400,9,"Regionalna Izba Obrachunkowa Kielce","290339370"]
[400,10,"Regionalna Izba Obrachunkowa Kraków","350143553"]
[400,11,"Regionalna Izba Obrachunkowa Lublin","430286383"]
[400,12,"Regionalna Izba Obrachunkowa Łódź","470428076"]
[400,13,"Regionalna Izba Obrachunkowa Olsztyn","510131871"]
[400,14,"Regionalna Izba Obrachunkowa Opole","530617411"]
[400,15,"Regionalna Izba Obrachunkowa Poznań","632220057"]
[400,16,"Regionalna Izba Obrachunkowa Rzeszów","690150624"]
[500,4,"Regionalna Izba Obrachunkowa Szczecin","810402540"]
[300,12,"Regionalna Izba Obrachunkowa Warszawa","010081380"]
[300,13,"Regionalna Izba Obrachunkowa Wrocław","930117015"]
[null,null,"Regionalna Izba Obrachunkowa Zielona Góra","970184730"]
[500,8,"Rządowa Agencja Rezerw Strategicznych","012199305"]
[500,1,"Rzecznik Finansowy","011335893"]
[500,6,"Śląski Uniwersytet Medyczny w Katowicach","000289035"]
[500,7,"Śląski Urząd Wojewódzki w Katowicach","000514259"]
[500,2,"Świętokrzyski Urząd Wojewódzki","000514265"]
[500,11,"Uniwersytet Jagielloński Collegium Medicum","000001270"]
[300,14,"Uniwersytet Medyczny im. Karola Marcinkowskiego w Poznaniu","000288811"]
[500,10,"Uniwersytet Medyczny im. Piastów Śląskich we Wrocławiu","000288981"]
[300,15,"Uniwersytet Medyczny w Białymstoku","000288604"]
[null,null,"Uniwersytet Medyczny w Lublinie","000288716"]
[700,null,"Uniwersytet Medyczny w Łodzi","473073308"]
[null,null,"Uniwersytet Mikołaja Kopernika Collegium Medicum im. Ludwika Rydygiera w Bydgoszczy","000001324"]
[null,null,"Uniwersytet Opolski","000001382"]
[300,16,"Uniwersytet Warmińsko – Mazurski w Olsztynie","510884205"]
[null,null,"Warmińsko-Mazurski Urząd Wojewódzki","000514319"]
[null,null,"Warszawski Uniwersytet Medyczny","000288917"]
[null,null,"Wielkopolski Urząd Wojewódzki","000514331"]
[null,null,"Wojewódzki Fundusz Ochrony Środowiska i Gospodarki Wodnej w Białymstoku","200337408"]
[null,null,"Wojewódzki Fundusz Ochrony Środowiska i Gospodarki Wodnej w Gdańsku","220934198"]
[null,null,"Wojewódzki Fundusz Ochrony Środowiska i Gospodarki Wodnej w Katowicach","271806983"]
[null,null,"Wojewódzki Fundusz Ochrony Środowiska i Gospodarki Wodnej w Kielcach","260365480"]
[null,null,"Wojewódzki Fundusz Ochrony Środowiska i Gospodarki Wodnej w Krakowie","121116654"]
[null,null,"Wojewódzki Fundusz Ochrony Środowiska i Gospodarki Wodnej w Lublinie","060573901"]
[null,null,"Wojewódzki Fundusz Ochrony Środowiska i Gospodarki Wodnej w Łodzi","100804793"]
[null,null,"Wojewódzki Fundusz Ochrony Środowiska i Gospodarki Wodnej w Olsztynie","280470792"]
[null,null,"Wojewódzki Fundusz Ochrony Środowiska i Gospodarki Wodnej w Opolu","160300436"]
[null,null,"Wojewódzki Fundusz Ochrony Środowiska i Gospodarki Wodnej w Poznaniu","301313654"]
[null,null,"Wojewódzki Fundusz Ochrony Środowiska i Gospodarki Wodnej w Rzeszowie","180511867"]
[null,null,"Wojewódzki Fundusz Ochrony Środowiska i Gospodarki Wodnej w Szczecinie","320785039"]
[null,null,"Wojewódzki Fundusz Ochrony Środowiska i Gospodarki Wodnej w Toruniu","341191740"]
[null,null,"Wojewódzki Fundusz Ochrony Środowiska i Gospodarki Wodnej w Warszawie","142148155"]
[null,null,"Wojewódzki Fundusz Ochrony Środowiska i Gospodarki Wodnej w Zielonej Górze","080470380"]
[null,null,"Wojewódzki Fundusz Ochrony Środowiska i Gospodarki Wodnej we Wrocławiu","021146486"]
[null,null,"Zachodniopomorski Urząd Wojewódzki","000514354"]
[null,null,"Zakład Ubezpieczeń Społecznych","000017756"]

{"sheet":"RBNN1","index":17,"n_rows":17,"n_cols":171,"rows_kept":17,"cut":false,"hidden":true,"merged":[]}
["REGON","WK","PK","GK","GT","PT","ROK","KWARTAL","CZ_BU","DAT_SKW","UWAGI","N1002","N1003","N1004","N1005","N1006","N1007","N1008","N1009","N1010","N1011","N1012","N1013","N1014","N1015","N1016","N1017","N1102","N1103","N1104","N1105","N1106","N1107","N1108","N1109","N1110","N1111","N1112","N1113","N1114","N1115","N1116","N1117","N1202","N1203","N1204","N1205","N1206","N1207","N1208","N1209","N1210","N1211","N1212","N1213","N1214","N1215","N1216","N1217","N2002","N2003","N2004","N2005","N2006","N2007","N2008","N2009","N2010","N2011","N2012","N2013","N2014","N2015","N2016","N2017","N2102","N2103","N2104","N2105","N2106","N2107","N2108","N2109","N2110","N2111","N2112","N2113","N2114","N2115","N2116","N2117","N2202","N2203","N2204","N2205","N2206","N2207","N2208","N2209","N2210","N2211","N2212","N2213","N2214","N2215","N2216","N2217","N3002","N3003","N3004","N3005","N3006","N3007","N3008","N3009","N3010","N3011","N3012","N3013","N3014","N3015","N3016","N3017","N3102","N3103","N3104","N3105","N3106","N3107","N3108","N3109","N3110","N3111","N3112","N3113","N3114","N3115","N3116","N3117","N3202","N3203","N3204","N3205","N3206","N3207","N3208","N3209","N3210","N3211","N3212","N3213","N3214","N3215","N3216","N3217","N3302","N3303","N3304","N3305","N3306","N3307","N3308","N3309","N3310","N3311","N3312","N3313","N3314","N3315","N3316","N3317"]
[{"$f":"'11-państw.fund.cel.'!A8","v":""},null,null,null,null,{"$f":"'11-państw.fund.cel.'!L11","v":11},{"$f":"'11-państw.fund.cel.'!K8","v":0},{"$f":"'11-państw.fund.cel.'!H8","v":0},{"$f":"'11-państw.fund.cel.'!M11","v":0},null,null,{"$f":"'11-państw.fund.cel.'!C24","v":0},{"$f":"'11-państw.fund.cel.'!D24","v":0},{"$f":"'11-państw.fund.cel.'!E24","v":0},{"$f":"'11-państw.fund.cel.'!F24","v":0},{"$f":"'11-państw.fund.cel.'!G24","v":0},{"$f":"'11-państw.fund.cel.'!H24","v":0},{"$f":"'11-państw.fund.cel.'!I24","v":0},{"$f":"'11-państw.fund.cel.'!J24","v":0},{"$f":"'11-państw.fund.cel.'!K24","v":0},{"$f":"'11-państw.fund.cel.'!L24","v":0},{"$f":"'11-państw.fund.cel.'!M24","v":0},{"$f":"'11-państw.fund.cel.'!N24","v":0},{"$f":"'11-państw.fund.cel.'!O24","v":0},{"$f":"'11-państw.fund.cel.'!P24","v":0},{"$f":"'11-państw.fund.cel.'!Q24","v":0},{"$f":"'11-państw.fund.cel.'!R24","v":0},{"$f":"'11-państw.fund.cel.'!C25","v":0},{"$f":"'11-państw.fund.cel.'!D25","v":0},{"$f":"'11-państw.fund.cel.'!E25","v":0},{"$f":"'11-państw.fund.cel.'!F25","v":0},{"$f":"'11-państw.fund.cel.'!G25","v":0},{"$f":"'11-państw.fund.cel.'!H25","v":0},{"$f":"'11-państw.fund.cel.'!I25","v":0},{"$f":"'11-państw.fund.cel.'!J25","v":0},{"$f":"'11-państw.fund.cel.'!K25","v":0},{"$f":"'11-państw.fund.cel.'!L25","v":0},{"$f":"'11-państw.fund.cel.'!M25","v":0},{"$f":"'11-państw.fund.cel.'!N25","v":0},{"$f":"'11-państw.fund.cel.'!O25","v":0},{"$f":"'11-państw.fund.cel.'!P25","v":0},{"$f":"'11-państw.fund.cel.'!Q25","v":0},{"$f":"'11-państw.fund.cel.'!R25","v":0},{"$f":"'11-państw.fund.cel.'!C26","v":0},{"$f":"'11-państw.fund.cel.'!D26","v":0},{"$f":"'11-państw.fund.cel.'!E26","v":0},{"$f":"'11-państw.fund.cel.'!F26","v":0},{"$f":"'11-państw.fund.cel.'!G26","v":0},{"$f":"'11-państw.fund.cel.'!H26","v":0},{"$f":"'11-państw.fund.cel.'!I26","v":0},{"$f":"'11-państw.fund.cel.'!J26","v":0},{"$f":"'11-państw.fund.cel.'!K26","v":0},{"$f":"'11-państw.fund.cel.'!L26","v":0},{"$f":"'11-państw.fund.cel.'!M26","v":0},{"$f":"'11-państw.fund.cel.'!N26","v":0},{"$f":"'11-państw.fund.cel.'!O26","v":0},{"$f":"'11-państw.fund.cel.'!P26","v":0},{"$f":"'11-państw.fund.cel.'!Q26","v":0},{"$f":"'11-państw.fund.cel.'!R26","v":0},{"$f":"'11-państw.fund.cel.'!C27","v":0},{"$f":"'11-państw.fund.cel.'!D27","v":0},{"$f":"'11-państw.fund.cel.'!E27","v":0},{"$f":"'11-państw.fund.cel.'!F27","v":0},{"$f":"'11-państw.fund.cel.'!G27","v":0},{"$f":"'11-państw.fund.cel.'!H27","v":0},{"$f":"'11-państw.fund.cel.'!I27","v":0},{"$f":"'11-państw.fund.cel.'!J27","v":0},{"$f":"'11-państw.fund.cel.'!K27","v":0},{"$f":"'11-państw.fund.cel.'!L27","v":0},{"$f":"'11-państw.fund.cel.'!M27","v":0},{"$f":"'11-państw.fund.cel.'!N27","v":0},{"$f":"'11-państw.fund.cel.'!O27","v":0},{"$f":"'11-państw.fund.cel.'!P27","v":0},{"$f":"'11-państw.fund.cel.'!Q27","v":0},{"$f":"'11-państw.fund.cel.'!R27","v":0},{"$f":"'11-państw.fund.cel.'!C28","v":0},{"$f":"'11-państw.fund.cel.'!D28","v":0},{"$f":"'11-państw.fund.cel.'!E28","v":0},{"$f":"'11-państw.fund.cel.'!F28","v":0},{"$f":"'11-państw.fund.cel.'!G28","v":0},{"$f":"'11-państw.fund.cel.'!H28","v":0},{"$f":"'11-państw.fund.cel.'!I28","v":0},{"$f":"'11-państw.fund.cel.'!J28","v":0},{"$f":"'11-państw.fund.cel.'!K28","v":0},{"$f":"'11-państw.fund.cel.'!L28","v":0},{"$f":"'11-państw.fund.cel.'!M28","v":0},{"$f":"'11-państw.fund.cel.'!N28","v":0},{"$f":"'11-państw.fund.cel.'!O28","v":0},{"$f":"'11-państw.fund.cel.'!P28","v":0},{"$f":"'11-państw.fund.cel.'!Q28","v":0},{"$f":"'11-państw.fund.cel.'!R28","v":0},{"$f":"'11-państw.fund.cel.'!C29","v":0},{"$f":"'11-państw.fund.cel.'!D29","v":0},{"$f":"'11-państw.fund.cel.'!E29","v":0},{"$f":"'11-państw.fund.cel.'!F29","v":0},{"$f":"'11-państw.fund.cel.'!G29","v":0},{"$f":"'11-państw.fund.cel.'!H29","v":0},{"$f":"'11-państw.fund.cel.'!I29","v":0},{"$f":"'11-państw.fund.cel.'!J29","v":0},{"$f":"'11-państw.fund.cel.'!K29","v":0},{"$f":"'11-państw.fund.cel.'!L29","v":0},{"$f":"'11-państw.fund.cel.'!M29","v":0},{"$f":"'11-państw.fund.cel.'!N29","v":0},{"$f":"'11-państw.fund.cel.'!O29","v":0},{"$f":"'11-państw.fund.cel.'!P29","v":0},{"$f":"'11-państw.fund.cel.'!Q29","v":0},{"$f":"'11-państw.fund.cel.'!R29","v":0},{"$f":"'11-państw.fund.cel.'!C30","v":0},{"$f":"'11-państw.fund.cel.'!D30","v":0},{"$f":"'11-państw.fund.cel.'!E30","v":0},{"$f":"'11-państw.fund.cel.'!F30","v":0},{"$f":"'11-państw.fund.cel.'!G30","v":0},{"$f":"'11-państw.fund.cel.'!H30","v":0},{"$f":"'11-państw.fund.cel.'!I30","v":0},{"$f":"'11-państw.fund.cel.'!J30","v":0},{"$f":"'11-państw.fund.cel.'!K30","v":0},{"$f":"'11-państw.fund.cel.'!L30","v":0},{"$f":"'11-państw.fund.cel.'!M30","v":0},{"$f":"'11-państw.fund.cel.'!N30","v":0},{"$f":"'11-państw.fund.cel.'!O30","v":0},{"$f":"'11-państw.fund.cel.'!P30","v":0},{"$f":"'11-państw.fund.cel.'!Q30","v":0},{"$f":"'11-państw.fund.cel.'!R30","v":0},{"$f":"'11-państw.fund.cel.'!C31","v":0},{"$f":"'11-państw.fund.cel.'!D31","v":0},{"$f":"'11-państw.fund.cel.'!E31","v":0},{"$f":"'11-państw.fund.cel.'!F31","v":0},{"$f":"'11-państw.fund.cel.'!G31","v":0},{"$f":"'11-państw.fund.cel.'!H31","v":0},{"$f":"'11-państw.fund.cel.'!I31","v":0},{"$f":"'11-państw.fund.cel.'!J31","v":0},{"$f":"'11-państw.fund.cel.'!K31","v":0},{"$f":"'11-państw.fund.cel.'!L31","v":0},{"$f":"'11-państw.fund.cel.'!M31","v":0},{"$f":"'11-państw.fund.cel.'!N31","v":0},{"$f":"'11-państw.fund.cel.'!O31","v":0},{"$f":"'11-państw.fund.cel.'!P31","v":0},{"$f":"'11-państw.fund.cel.'!Q31","v":0},{"$f":"'11-państw.fund.cel.'!R31","v":0},{"$f":"'11-państw.fund.cel.'!C32","v":0},{"$f":"'11-państw.fund.cel.'!D32","v":0},{"$f":"'11-państw.fund.cel.'!E32","v":0},{"$f":"'11-państw.fund.cel.'!F32","v":0},{"$f":"'11-państw.fund.cel.'!G32","v":0},{"$f":"'11-państw.fund.cel.'!H32","v":0},{"$f":"'11-państw.fund.cel.'!I32","v":0},{"$f":"'11-państw.fund.cel.'!J32","v":0},{"$f":"'11-państw.fund.cel.'!K32","v":0},{"$f":"'11-państw.fund.cel.'!L32","v":0},{"$f":"'11-państw.fund.cel.'!M32","v":0},{"$f":"'11-państw.fund.cel.'!N32","v":0},{"$f":"'11-państw.fund.cel.'!O32","v":0},{"$f":"'11-państw.fund.cel.'!P32","v":0},{"$f":"'11-państw.fund.cel.'!Q32","v":0},{"$f":"'11-państw.fund.cel.'!R32","v":0},{"$f":"'11-państw.fund.cel.'!C33","v":0},{"$f":"'11-państw.fund.cel.'!D33","v":0},{"$f":"'11-państw.fund.cel.'!E33","v":0},{"$f":"'11-państw.fund.cel.'!F33","v":0},{"$f":"'11-państw.fund.cel.'!G33","v":0},{"$f":"'11-państw.fund.cel.'!H33","v":0},{"$f":"'11-państw.fund.cel.'!I33","v":0},{"$f":"'11-państw.fund.cel.'!J33","v":0},{"$f":"'11-państw.fund.cel.'!K33","v":0},{"$f":"'11-państw.fund.cel.'!L33","v":0},{"$f":"'11-państw.fund.cel.'!M33","v":0},{"$f":"'11-państw.fund.cel.'!N33","v":0},{"$f":"'11-państw.fund.cel.'!O33","v":0},{"$f":"'11-państw.fund.cel.'!P33","v":0},{"$f":"'11-państw.fund.cel.'!Q33","v":0},{"$f":"'11-państw.fund.cel.'!R33","v":0}]
[{"$f":"'20-państw.szk.wyż.'!A8","v":""},null,null,null,null,{"$f":"'20-państw.szk.wyż.'!L11","v":20},{"$f":"'20-państw.szk.wyż.'!K8","v":0},{"$f":"'20-państw.szk.wyż.'!H8","v":0},{"$f":"'20-państw.szk.wyż.'!M11","v":0},null,null,{"$f":"'20-państw.szk.wyż.'!C24","v":0},{"$f":"'20-państw.szk.wyż.'!D24","v":0},{"$f":"'20-państw.szk.wyż.'!E24","v":0},{"$f":"'20-państw.szk.wyż.'!F24","v":0},{"$f":"'20-państw.szk.wyż.'!G24","v":0},{"$f":"'20-państw.szk.wyż.'!H24","v":0},{"$f":"'20-państw.szk.wyż.'!I24","v":0},{"$f":"'20-państw.szk.wyż.'!J24","v":0},{"$f":"'20-państw.szk.wyż.'!K24","v":0},{"$f":"'20-państw.szk.wyż.'!L24","v":0},{"$f":"'20-państw.szk.wyż.'!M24","v":0},{"$f":"'20-państw.szk.wyż.'!N24","v":0},{"$f":"'20-państw.szk.wyż.'!O24","v":0},{"$f":"'20-państw.szk.wyż.'!P24","v":0},{"$f":"'20-państw.szk.wyż.'!Q24","v":0},{"$f":"'20-państw.szk.wyż.'!R24","v":0},{"$f":"'20-państw.szk.wyż.'!C25","v":0},{"$f":"'20-państw.szk.wyż.'!D25","v":0},{"$f":"'20-państw.szk.wyż.'!E25","v":0},{"$f":"'20-państw.szk.wyż.'!F25","v":0},{"$f":"'20-państw.szk.wyż.'!G25","v":0},{"$f":"'20-państw.szk.wyż.'!H25","v":0},{"$f":"'20-państw.szk.wyż.'!I25","v":0},{"$f":"'20-państw.szk.wyż.'!J25","v":0},{"$f":"'20-państw.szk.wyż.'!K25","v":0},{"$f":"'20-państw.szk.wyż.'!L25","v":0},{"$f":"'20-państw.szk.wyż.'!M25","v":0},{"$f":"'20-państw.szk.wyż.'!N25","v":0},{"$f":"'20-państw.szk.wyż.'!O25","v":0},{"$f":"'20-państw.szk.wyż.'!P25","v":0},{"$f":"'20-państw.szk.wyż.'!Q25","v":0},{"$f":"'20-państw.szk.wyż.'!R25","v":0},{"$f":"'20-państw.szk.wyż.'!C26","v":0},{"$f":"'20-państw.szk.wyż.'!D26","v":0},{"$f":"'20-państw.szk.wyż.'!E26","v":0},{"$f":"'20-państw.szk.wyż.'!F26","v":0},{"$f":"'20-państw.szk.wyż.'!G26","v":0},{"$f":"'20-państw.szk.wyż.'!H26","v":0},{"$f":"'20-państw.szk.wyż.'!I26","v":0},{"$f":"'20-państw.szk.wyż.'!J26","v":0},{"$f":"'20-państw.szk.wyż.'!K26","v":0},{"$f":"'20-państw.szk.wyż.'!L26","v":0},{"$f":"'20-państw.szk.wyż.'!M26","v":0},{"$f":"'20-państw.szk.wyż.'!N26","v":0},{"$f":"'20-państw.szk.wyż.'!O26","v":0},{"$f":"'20-państw.szk.wyż.'!P26","v":0},{"$f":"'20-państw.szk.wyż.'!Q26","v":0},{"$f":"'20-państw.szk.wyż.'!R26","v":0},{"$f":"'20-państw.szk.wyż.'!C27","v":0},{"$f":"'20-państw.szk.wyż.'!D27","v":0},{"$f":"'20-państw.szk.wyż.'!E27","v":0},{"$f":"'20-państw.szk.wyż.'!F27","v":0},{"$f":"'20-państw.szk.wyż.'!G27","v":0},{"$f":"'20-państw.szk.wyż.'!H27","v":0},{"$f":"'20-państw.szk.wyż.'!I27","v":0},{"$f":"'20-państw.szk.wyż.'!J27","v":0},{"$f":"'20-państw.szk.wyż.'!K27","v":0},{"$f":"'20-państw.szk.wyż.'!L27","v":0},{"$f":"'20-państw.szk.wyż.'!M27","v":0},{"$f":"'20-państw.szk.wyż.'!N27","v":0},{"$f":"'20-państw.szk.wyż.'!O27","v":0},{"$f":"'20-państw.szk.wyż.'!P27","v":0},{"$f":"'20-państw.szk.wyż.'!Q27","v":0},{"$f":"'20-państw.szk.wyż.'!R27","v":0},{"$f":"'20-państw.szk.wyż.'!C28","v":0},{"$f":"'20-państw.szk.wyż.'!D28","v":0},{"$f":"'20-państw.szk.wyż.'!E28","v":0},{"$f":"'20-państw.szk.wyż.'!F28","v":0},{"$f":"'20-państw.szk.wyż.'!G28","v":0},{"$f":"'20-państw.szk.wyż.'!H28","v":0},{"$f":"'20-państw.szk.wyż.'!I28","v":0},{"$f":"'20-państw.szk.wyż.'!J28","v":0},{"$f":"'20-państw.szk.wyż.'!K28","v":0},{"$f":"'20-państw.szk.wyż.'!L28","v":0},{"$f":"'20-państw.szk.wyż.'!M28","v":0},{"$f":"'20-państw.szk.wyż.'!N28","v":0},{"$f":"'20-państw.szk.wyż.'!O28","v":0},{"$f":"'20-państw.szk.wyż.'!P28","v":0},{"$f":"'20-państw.szk.wyż.'!Q28","v":0},{"$f":"'20-państw.szk.wyż.'!R28","v":0},{"$f":"'20-państw.szk.wyż.'!C29","v":0},{"$f":"'20-państw.szk.wyż.'!D29","v":0},{"$f":"'20-państw.szk.wyż.'!E29","v":0},{"$f":"'20-państw.szk.wyż.'!F29","v":0},{"$f":"'20-państw.szk.wyż.'!G29","v":0},{"$f":"'20-państw.szk.wyż.'!H29","v":0},{"$f":"'20-państw.szk.wyż.'!I29","v":0},{"$f":"'20-państw.szk.wyż.'!J29","v":0},{"$f":"'20-państw.szk.wyż.'!K29","v":0},{"$f":"'20-państw.szk.wyż.'!L29","v":0},{"$f":"'20-państw.szk.wyż.'!M29","v":0},{"$f":"'20-państw.szk.wyż.'!N29","v":0},{"$f":"'20-państw.szk.wyż.'!O29","v":0},{"$f":"'20-państw.szk.wyż.'!P29","v":0},{"$f":"'20-państw.szk.wyż.'!Q29","v":0},{"$f":"'20-państw.szk.wyż.'!R29","v":0},{"$f":"'20-państw.szk.wyż.'!C30","v":0},{"$f":"'20-państw.szk.wyż.'!D30","v":0},{"$f":"'20-państw.szk.wyż.'!E30","v":0},{"$f":"'20-państw.szk.wyż.'!F30","v":0},{"$f":"'20-państw.szk.wyż.'!G30","v":0},{"$f":"'20-państw.szk.wyż.'!H30","v":0},{"$f":"'20-państw.szk.wyż.'!I30","v":0},{"$f":"'20-państw.szk.wyż.'!J30","v":0},{"$f":"'20-państw.szk.wyż.'!K30","v":0},{"$f":"'20-państw.szk.wyż.'!L30","v":0},{"$f":"'20-państw.szk.wyż.'!M30","v":0},{"$f":"'20-państw.szk.wyż.'!N30","v":0},{"$f":"'20-państw.szk.wyż.'!O30","v":0},{"$f":"'20-państw.szk.wyż.'!P30","v":0},{"$f":"'20-państw.szk.wyż.'!Q30","v":0},{"$f":"'20-państw.szk.wyż.'!R30","v":0},{"$f":"'20-państw.szk.wyż.'!C31","v":0},{"$f":"'20-państw.szk.wyż.'!D31","v":0},{"$f":"'20-państw.szk.wyż.'!E31","v":0},{"$f":"'20-państw.szk.wyż.'!F31","v":0},{"$f":"'20-państw.szk.wyż.'!G31","v":0},{"$f":"'20-państw.szk.wyż.'!H31","v":0},{"$f":"'20-państw.szk.wyż.'!I31","v":0},{"$f":"'20-państw.szk.wyż.'!J31","v":0},{"$f":"'20-państw.szk.wyż.'!K31","v":0},{"$f":"'20-państw.szk.wyż.'!L31","v":0},{"$f":"'20-państw.szk.wyż.'!M31","v":0},{"$f":"'20-państw.szk.wyż.'!N31","v":0},{"$f":"'20-państw.szk.wyż.'!O31","v":0},{"$f":"'20-państw.szk.wyż.'!P31","v":0},{"$f":"'20-państw.szk.wyż.'!Q31","v":0},{"$f":"'20-państw.szk.wyż.'!R31","v":0},{"$f":"'20-państw.szk.wyż.'!C32","v":0},{"$f":"'20-państw.szk.wyż.'!D32","v":0},{"$f":"'20-państw.szk.wyż.'!E32","v":0},{"$f":"'20-państw.szk.wyż.'!F32","v":0},{"$f":"'20-państw.szk.wyż.'!G32","v":0},{"$f":"'20-państw.szk.wyż.'!H32","v":0},{"$f":"'20-państw.szk.wyż.'!I32","v":0},{"$f":"'20-państw.szk.wyż.'!J32","v":0},{"$f":"'20-państw.szk.wyż.'!K32","v":0},{"$f":"'20-państw.szk.wyż.'!L32","v":0},{"$f":"'20-państw.szk.wyż.'!M32","v":0},{"$f":"'20-państw.szk.wyż.'!N32","v":0},{"$f":"'20-państw.szk.wyż.'!O32","v":0},{"$f":"'20-państw.szk.wyż.'!P32","v":0},{"$f":"'20-państw.szk.wyż.'!Q32","v":0},{"$f":"'20-państw.szk.wyż.'!R32","v":0},{"$f":"'20-państw.szk.wyż.'!C33","v":0},{"$f":"'20-państw.szk.wyż.'!D33","v":0},{"$f":"'20-państw.szk.wyż.'!E33","v":0},{"$f":"'20-państw.szk.wyż.'!F33","v":0},{"$f":"'20-państw.szk.wyż.'!G33","v":0},{"$f":"'20-państw.szk.wyż.'!H33","v":0},{"$f":"'20-państw.szk.wyż.'!I33","v":0},{"$f":"'20-państw.szk.wyż.'!J33","v":0},{"$f":"'20-państw.szk.wyż.'!K33","v":0},{"$f":"'20-państw.szk.wyż.'!L33","v":0},{"$f":"'20-państw.szk.wyż.'!M33","v":0},{"$f":"'20-państw.szk.wyż.'!N33","v":0},{"$f":"'20-państw.szk.wyż.'!O33","v":0},{"$f":"'20-państw.szk.wyż.'!P33","v":0},{"$f":"'20-państw.szk.wyż.'!Q33","v":0},{"$f":"'20-państw.szk.wyż.'!R33","v":0}]
[{"$f":"'31-instytucje gosp budż'!A8","v":""},null,null,null,null,{"$f":"'31-instytucje gosp budż'!L11","v":31},{"$f":"'31-instytucje gosp budż'!K8","v":0},{"$f":"'31-instytucje gosp budż'!H8","v":0},{"$f":"'31-instytucje gosp budż'!M11","v":0},null,null,{"$f":"'31-instytucje gosp budż'!C24","v":0},{"$f":"'31-instytucje gosp budż'!D24","v":0},{"$f":"'31-instytucje gosp budż'!E24","v":0},{"$f":"'31-instytucje gosp budż'!F24","v":0},{"$f":"'31-instytucje gosp budż'!G24","v":0},{"$f":"'31-instytucje gosp budż'!H24","v":0},{"$f":"'31-instytucje gosp budż'!I24","v":0},{"$f":"'31-instytucje gosp budż'!J24","v":0},{"$f":"'31-instytucje gosp budż'!K24","v":0},{"$f":"'31-instytucje gosp budż'!L24","v":0},{"$f":"'31-instytucje gosp budż'!M24","v":0},{"$f":"'31-instytucje gosp budż'!N24","v":0},{"$f":"'31-instytucje gosp budż'!O24","v":0},{"$f":"'31-instytucje gosp budż'!P24","v":0},{"$f":"'31-instytucje gosp budż'!Q24","v":0},{"$f":"'31-instytucje gosp budż'!R24","v":0},{"$f":"'31-instytucje gosp budż'!C25","v":0},{"$f":"'31-instytucje gosp budż'!D25","v":0},{"$f":"'31-instytucje gosp budż'!E25","v":0},{"$f":"'31-instytucje gosp budż'!F25","v":0},{"$f":"'31-instytucje gosp budż'!G25","v":0},{"$f":"'31-instytucje gosp budż'!H25","v":0},{"$f":"'31-instytucje gosp budż'!I25","v":0},{"$f":"'31-instytucje gosp budż'!J25","v":0},{"$f":"'31-instytucje gosp budż'!K25","v":0},{"$f":"'31-instytucje gosp budż'!L25","v":0},{"$f":"'31-instytucje gosp budż'!M25","v":0},{"$f":"'31-instytucje gosp budż'!N25","v":0},{"$f":"'31-instytucje gosp budż'!O25","v":0},{"$f":"'31-instytucje gosp budż'!P25","v":0},{"$f":"'31-instytucje gosp budż'!Q25","v":0},{"$f":"'31-instytucje gosp budż'!R25","v":0},{"$f":"'31-instytucje gosp budż'!C26","v":0},{"$f":"'31-instytucje gosp budż'!D26","v":0},{"$f":"'31-instytucje gosp budż'!E26","v":0},{"$f":"'31-instytucje gosp budż'!F26","v":0},{"$f":"'31-instytucje gosp budż'!G26","v":0},{"$f":"'31-instytucje gosp budż'!H26","v":0},{"$f":"'31-instytucje gosp budż'!I26","v":0},{"$f":"'31-instytucje gosp budż'!J26","v":0},{"$f":"'31-instytucje gosp budż'!K26","v":0},{"$f":"'31-instytucje gosp budż'!L26","v":0},{"$f":"'31-instytucje gosp budż'!M26","v":0},{"$f":"'31-instytucje gosp budż'!N26","v":0},{"$f":"'31-instytucje gosp budż'!O26","v":0},{"$f":"'31-instytucje gosp budż'!P26","v":0},{"$f":"'31-instytucje gosp budż'!Q26","v":0},{"$f":"'31-instytucje gosp budż'!R26","v":0},{"$f":"'31-instytucje gosp budż'!C27","v":0},{"$f":"'31-instytucje gosp budż'!D27","v":0},{"$f":"'31-instytucje gosp budż'!E27","v":0},{"$f":"'31-instytucje gosp budż'!F27","v":0},{"$f":"'31-instytucje gosp budż'!G27","v":0},{"$f":"'31-instytucje gosp budż'!H27","v":0},{"$f":"'31-instytucje gosp budż'!I27","v":0},{"$f":"'31-instytucje gosp budż'!J27","v":0},{"$f":"'31-instytucje gosp budż'!K27","v":0},{"$f":"'31-instytucje gosp budż'!L27","v":0},{"$f":"'31-instytucje gosp budż'!M27","v":0},{"$f":"'31-instytucje gosp budż'!N27","v":0},{"$f":"'31-instytucje gosp budż'!O27","v":0},{"$f":"'31-instytucje gosp budż'!P27","v":0},{"$f":"'31-instytucje gosp budż'!Q27","v":0},{"$f":"'31-instytucje gosp budż'!R27","v":0},{"$f":"'31-instytucje gosp budż'!C28","v":0},{"$f":"'31-instytucje gosp budż'!D28","v":0},{"$f":"'31-instytucje gosp budż'!E28","v":0},{"$f":"'31-instytucje gosp budż'!F28","v":0},{"$f":"'31-instytucje gosp budż'!G28","v":0},{"$f":"'31-instytucje gosp budż'!H28","v":0},{"$f":"'31-instytucje gosp budż'!I28","v":0},{"$f":"'31-instytucje gosp budż'!J28","v":0},{"$f":"'31-instytucje gosp budż'!K28","v":0},{"$f":"'31-instytucje gosp budż'!L28","v":0},{"$f":"'31-instytucje gosp budż'!M28","v":0},{"$f":"'31-instytucje gosp budż'!N28","v":0},{"$f":"'31-instytucje gosp budż'!O28","v":0},{"$f":"'31-instytucje gosp budż'!P28","v":0},{"$f":"'31-instytucje gosp budż'!Q28","v":0},{"$f":"'31-instytucje gosp budż'!R28","v":0},{"$f":"'31-instytucje gosp budż'!C29","v":0},{"$f":"'31-instytucje gosp budż'!D29","v":0},{"$f":"'31-instytucje gosp budż'!E29","v":0},{"$f":"'31-instytucje gosp budż'!F29","v":0},{"$f":"'31-instytucje gosp budż'!G29","v":0},{"$f":"'31-instytucje gosp budż'!H29","v":0},{"$f":"'31-instytucje gosp budż'!I29","v":0},{"$f":"'31-instytucje gosp budż'!J29","v":0},{"$f":"'31-instytucje gosp budż'!K29","v":0},{"$f":"'31-instytucje gosp budż'!L29","v":0},{"$f":"'31-instytucje gosp budż'!M29","v":0},{"$f":"'31-instytucje gosp budż'!N29","v":0},{"$f":"'31-instytucje gosp budż'!O29","v":0},{"$f":"'31-instytucje gosp budż'!P29","v":0},{"$f":"'31-instytucje gosp budż'!Q29","v":0},{"$f":"'31-instytucje gosp budż'!R29","v":0},{"$f":"'31-instytucje gosp budż'!C30","v":0},{"$f":"'31-instytucje gosp budż'!D30","v":0},{"$f":"'31-instytucje gosp budż'!E30","v":0},{"$f":"'31-instytucje gosp budż'!F30","v":0},{"$f":"'31-instytucje gosp budż'!G30","v":0},{"$f":"'31-instytucje gosp budż'!H30","v":0},{"$f":"'31-instytucje gosp budż'!I30","v":0},{"$f":"'31-instytucje gosp budż'!J30","v":0},{"$f":"'31-instytucje gosp budż'!K30","v":0},{"$f":"'31-instytucje gosp budż'!L30","v":0},{"$f":"'31-instytucje gosp budż'!M30","v":0},{"$f":"'31-instytucje gosp budż'!N30","v":0},{"$f":"'31-instytucje gosp budż'!O30","v":0},{"$f":"'31-instytucje gosp budż'!P30","v":0},{"$f":"'31-instytucje gosp budż'!Q30","v":0},{"$f":"'31-instytucje gosp budż'!R30","v":0},{"$f":"'31-instytucje gosp budż'!C31","v":0},{"$f":"'31-instytucje gosp budż'!D31","v":0},{"$f":"'31-instytucje gosp budż'!E31","v":0},{"$f":"'31-instytucje gosp budż'!F31","v":0},{"$f":"'31-instytucje gosp budż'!G31","v":0},{"$f":"'31-instytucje gosp budż'!H31","v":0},{"$f":"'31-instytucje gosp budż'!I31","v":0},{"$f":"'31-instytucje gosp budż'!J31","v":0},{"$f":"'31-instytucje gosp budż'!K31","v":0},{"$f":"'31-instytucje gosp budż'!L31","v":0},{"$f":"'31-instytucje gosp budż'!M31","v":0},{"$f":"'31-instytucje gosp budż'!N31","v":0},{"$f":"'31-instytucje gosp budż'!O31","v":0},{"$f":"'31-instytucje gosp budż'!P31","v":0},{"$f":"'31-instytucje gosp budż'!Q31","v":0},{"$f":"'31-instytucje gosp budż'!R31","v":0},{"$f":"'31-instytucje gosp budż'!C32","v":0},{"$f":"'31-instytucje gosp budż'!D32","v":0},{"$f":"'31-instytucje gosp budż'!E32","v":0},{"$f":"'31-instytucje gosp budż'!F32","v":0},{"$f":"'31-instytucje gosp budż'!G32","v":0},{"$f":"'31-instytucje gosp budż'!H32","v":0},{"$f":"'31-instytucje gosp budż'!I32","v":0},{"$f":"'31-instytucje gosp budż'!J32","v":0},{"$f":"'31-instytucje gosp budż'!K32","v":0},{"$f":"'31-instytucje gosp budż'!L32","v":0},{"$f":"'31-instytucje gosp budż'!M32","v":0},{"$f":"'31-instytucje gosp budż'!N32","v":0},{"$f":"'31-instytucje gosp budż'!O32","v":0},{"$f":"'31-instytucje gosp budż'!P32","v":0},{"$f":"'31-instytucje gosp budż'!Q32","v":0},{"$f":"'31-instytucje gosp budż'!R32","v":0},{"$f":"'31-instytucje gosp budż'!C33","v":0},{"$f":"'31-instytucje gosp budż'!D33","v":0},{"$f":"'31-instytucje gosp budż'!E33","v":0},{"$f":"'31-instytucje gosp budż'!F33","v":0},{"$f":"'31-instytucje gosp budż'!G33","v":0},{"$f":"'31-instytucje gosp budż'!H33","v":0},{"$f":"'31-instytucje gosp budż'!I33","v":0},{"$f":"'31-instytucje gosp budż'!J33","v":0},{"$f":"'31-instytucje gosp budż'!K33","v":0},{"$f":"'31-instytucje gosp budż'!L33","v":0},{"$f":"'31-instytucje gosp budż'!M33","v":0},{"$f":"'31-instytucje gosp budż'!N33","v":0},{"$f":"'31-instytucje gosp budż'!O33","v":0},{"$f":"'31-instytucje gosp budż'!P33","v":0},{"$f":"'31-instytucje gosp budż'!Q33","v":0},{"$f":"'31-instytucje gosp budż'!R33","v":0}]
[{"$f":"'41-państw.inst.kult.'!A8","v":""},null,null,null,null,{"$f":"'41-państw.inst.kult.'!L11","v":41},{"$f":"'41-państw.inst.kult.'!K8","v":0},{"$f":"'41-państw.inst.kult.'!H8","v":0},{"$f":"'41-państw.inst.kult.'!M11","v":0},null,null,{"$f":"'41-państw.inst.kult.'!C24","v":0},{"$f":"'41-państw.inst.kult.'!D24","v":0},{"$f":"'41-państw.inst.kult.'!E24","v":0},{"$f":"'41-państw.inst.kult.'!F24","v":0},{"$f":"'41-państw.inst.kult.'!G24","v":0},{"$f":"'41-państw.inst.kult.'!H24","v":0},{"$f":"'41-państw.inst.kult.'!I24","v":0},{"$f":"'41-państw.inst.kult.'!J24","v":0},{"$f":"'41-państw.inst.kult.'!K24","v":0},{"$f":"'41-państw.inst.kult.'!L24","v":0},{"$f":"'41-państw.inst.kult.'!M24","v":0},{"$f":"'41-państw.inst.kult.'!N24","v":0},{"$f":"'41-państw.inst.kult.'!O24","v":0},{"$f":"'41-państw.inst.kult.'!P24","v":0},{"$f":"'41-państw.inst.kult.'!Q24","v":0},{"$f":"'41-państw.inst.kult.'!R24","v":0},{"$f":"'41-państw.inst.kult.'!C25","v":0},{"$f":"'41-państw.inst.kult.'!D25","v":0},{"$f":"'41-państw.inst.kult.'!E25","v":0},{"$f":"'41-państw.inst.kult.'!F25","v":0},{"$f":"'41-państw.inst.kult.'!G25","v":0},{"$f":"'41-państw.inst.kult.'!H25","v":0},{"$f":"'41-państw.inst.kult.'!I25","v":0},{"$f":"'41-państw.inst.kult.'!J25","v":0},{"$f":"'41-państw.inst.kult.'!K25","v":0},{"$f":"'41-państw.inst.kult.'!L25","v":0},{"$f":"'41-państw.inst.kult.'!M25","v":0},{"$f":"'41-państw.inst.kult.'!N25","v":0},{"$f":"'41-państw.inst.kult.'!O25","v":0},{"$f":"'41-państw.inst.kult.'!P25","v":0},{"$f":"'41-państw.inst.kult.'!Q25","v":0},{"$f":"'41-państw.inst.kult.'!R25","v":0},{"$f":"'41-państw.inst.kult.'!C26","v":0},{"$f":"'41-państw.inst.kult.'!D26","v":0},{"$f":"'41-państw.inst.kult.'!E26","v":0},{"$f":"'41-państw.inst.kult.'!F26","v":0},{"$f":"'41-państw.inst.kult.'!G26","v":0},{"$f":"'41-państw.inst.kult.'!H26","v":0},{"$f":"'41-państw.inst.kult.'!I26","v":0},{"$f":"'41-państw.inst.kult.'!J26","v":0},{"$f":"'41-państw.inst.kult.'!K26","v":0},{"$f":"'41-państw.inst.kult.'!L26","v":0},{"$f":"'41-państw.inst.kult.'!M26","v":0},{"$f":"'41-państw.inst.kult.'!N26","v":0},{"$f":"'41-państw.inst.kult.'!O26","v":0},{"$f":"'41-państw.inst.kult.'!P26","v":0},{"$f":"'41-państw.inst.kult.'!Q26","v":0},{"$f":"'41-państw.inst.kult.'!R26","v":0},{"$f":"'41-państw.inst.kult.'!C27","v":0},{"$f":"'41-państw.inst.kult.'!D27","v":0},{"$f":"'41-państw.inst.kult.'!E27","v":0},{"$f":"'41-państw.inst.kult.'!F27","v":0},{"$f":"'41-państw.inst.kult.'!G27","v":0},{"$f":"'41-państw.inst.kult.'!H27","v":0},{"$f":"'41-państw.inst.kult.'!I27","v":0},{"$f":"'41-państw.inst.kult.'!J27","v":0},{"$f":"'41-państw.inst.kult.'!K27","v":0},{"$f":"'41-państw.inst.kult.'!L27","v":0},{"$f":"'41-państw.inst.kult.'!M27","v":0},{"$f":"'41-państw.inst.kult.'!N27","v":0},{"$f":"'41-państw.inst.kult.'!O27","v":0},{"$f":"'41-państw.inst.kult.'!P27","v":0},{"$f":"'41-państw.inst.kult.'!Q27","v":0},{"$f":"'41-państw.inst.kult.'!R27","v":0},{"$f":"'41-państw.inst.kult.'!C28","v":0},{"$f":"'41-państw.inst.kult.'!D28","v":0},{"$f":"'41-państw.inst.kult.'!E28","v":0},{"$f":"'41-państw.inst.kult.'!F28","v":0},{"$f":"'41-państw.inst.kult.'!G28","v":0},{"$f":"'41-państw.inst.kult.'!H28","v":0},{"$f":"'41-państw.inst.kult.'!I28","v":0},{"$f":"'41-państw.inst.kult.'!J28","v":0},{"$f":"'41-państw.inst.kult.'!K28","v":0},{"$f":"'41-państw.inst.kult.'!L28","v":0},{"$f":"'41-państw.inst.kult.'!M28","v":0},{"$f":"'41-państw.inst.kult.'!N28","v":0},{"$f":"'41-państw.inst.kult.'!O28","v":0},{"$f":"'41-państw.inst.kult.'!P28","v":0},{"$f":"'41-państw.inst.kult.'!Q28","v":0},{"$f":"'41-państw.inst.kult.'!R28","v":0},{"$f":"'41-państw.inst.kult.'!C29","v":0},{"$f":"'41-państw.inst.kult.'!D29","v":0},{"$f":"'41-państw.inst.kult.'!E29","v":0},{"$f":"'41-państw.inst.kult.'!F29","v":0},{"$f":"'41-państw.inst.kult.'!G29","v":0},{"$f":"'41-państw.inst.kult.'!H29","v":0},{"$f":"'41-państw.inst.kult.'!I29","v":0},{"$f":"'41-państw.inst.kult.'!J29","v":0},{"$f":"'41-państw.inst.kult.'!K29","v":0},{"$f":"'41-państw.inst.kult.'!L29","v":0},{"$f":"'41-państw.inst.kult.'!M29","v":0},{"$f":"'41-państw.inst.kult.'!N29","v":0},{"$f":"'41-państw.inst.kult.'!O29","v":0},{"$f":"'41-państw.inst.kult.'!P29","v":0},{"$f":"'41-państw.inst.kult.'!Q29","v":0},{"$f":"'41-państw.inst.kult.'!R29","v":0},{"$f":"'41-państw.inst.kult.'!C30","v":0},{"$f":"'41-państw.inst.kult.'!D30","v":0},{"$f":"'41-państw.inst.kult.'!E30","v":0},{"$f":"'41-państw.inst.kult.'!F30","v":0},{"$f":"'41-państw.inst.kult.'!G30","v":0},{"$f":"'41-państw.inst.kult.'!H30","v":0},{"$f":"'41-państw.inst.kult.'!I30","v":0},{"$f":"'41-państw.inst.kult.'!J30","v":0},{"$f":"'41-państw.inst.kult.'!K30","v":0},{"$f":"'41-państw.inst.kult.'!L30","v":0},{"$f":"'41-państw.inst.kult.'!M30","v":0},{"$f":"'41-państw.inst.kult.'!N30","v":0},{"$f":"'41-państw.inst.kult.'!O30","v":0},{"$f":"'41-państw.inst.kult.'!P30","v":0},{"$f":"'41-państw.inst.kult.'!Q30","v":0},{"$f":"'41-państw.inst.kult.'!R30","v":0},{"$f":"'41-państw.inst.kult.'!C31","v":0},{"$f":"'41-państw.inst.kult.'!D31","v":0},{"$f":"'41-państw.inst.kult.'!E31","v":0},{"$f":"'41-państw.inst.kult.'!F31","v":0},{"$f":"'41-państw.inst.kult.'!G31","v":0},{"$f":"'41-państw.inst.kult.'!H31","v":0},{"$f":"'41-państw.inst.kult.'!I31","v":0},{"$f":"'41-państw.inst.kult.'!J31","v":0},{"$f":"'41-państw.inst.kult.'!K31","v":0},{"$f":"'41-państw.inst.kult.'!L31","v":0},{"$f":"'41-państw.inst.kult.'!M31","v":0},{"$f":"'41-państw.inst.kult.'!N31","v":0},{"$f":"'41-państw.inst.kult.'!O31","v":0},{"$f":"'41-państw.inst.kult.'!P31","v":0},{"$f":"'41-państw.inst.kult.'!Q31","v":0},{"$f":"'41-państw.inst.kult.'!R31","v":0},{"$f":"'41-państw.inst.kult.'!C32","v":0},{"$f":"'41-państw.inst.kult.'!D32","v":0},{"$f":"'41-państw.inst.kult.'!E32","v":0},{"$f":"'41-państw.inst.kult.'!F32","v":0},{"$f":"'41-państw.inst.kult.'!G32","v":0},{"$f":"'41-państw.inst.kult.'!H32","v":0},{"$f":"'41-państw.inst.kult.'!I32","v":0},{"$f":"'41-państw.inst.kult.'!J32","v":0},{"$f":"'41-państw.inst.kult.'!K32","v":0},{"$f":"'41-państw.inst.kult.'!L32","v":0},{"$f":"'41-państw.inst.kult.'!M32","v":0},{"$f":"'41-państw.inst.kult.'!N32","v":0},{"$f":"'41-państw.inst.kult.'!O32","v":0},{"$f":"'41-państw.inst.kult.'!P32","v":0},{"$f":"'41-państw.inst.kult.'!Q32","v":0},{"$f":"'41-państw.inst.kult.'!R32","v":0},{"$f":"'41-państw.inst.kult.'!C33","v":0},{"$f":"'41-państw.inst.kult.'!D33","v":0},{"$f":"'41-państw.inst.kult.'!E33","v":0},{"$f":"'41-państw.inst.kult.'!F33","v":0},{"$f":"'41-państw.inst.kult.'!G33","v":0},{"$f":"'41-państw.inst.kult.'!H33","v":0},{"$f":"'41-państw.inst.kult.'!I33","v":0},{"$f":"'41-państw.inst.kult.'!J33","v":0},{"$f":"'41-państw.inst.kult.'!K33","v":0},{"$f":"'41-państw.inst.kult.'!L33","v":0},{"$f":"'41-państw.inst.kult.'!M33","v":0},{"$f":"'41-państw.inst.kult.'!N33","v":0},{"$f":"'41-państw.inst.kult.'!O33","v":0},{"$f":"'41-państw.inst.kult.'!P33","v":0},{"$f":"'41-państw.inst.kult.'!Q33","v":0},{"$f":"'41-państw.inst.kult.'!R33","v":0}]
[{"$f":"'42-samorz.inst.kult.'!A8","v":""},null,null,null,null,{"$f":"'42-samorz.inst.kult.'!L11","v":42},{"$f":"'42-samorz.inst.kult.'!K8","v":0},{"$f":"'42-samorz.inst.kult.'!H8","v":0},{"$f":"'42-samorz.inst.kult.'!M11","v":0},null,null,{"$f":"'42-samorz.inst.kult.'!C24","v":0},{"$f":"'42-samorz.inst.kult.'!D24","v":0},{"$f":"'42-samorz.inst.kult.'!E24","v":0},{"$f":"'42-samorz.inst.kult.'!F24","v":0},{"$f":"'42-samorz.inst.kult.'!G24","v":0},{"$f":"'42-samorz.inst.kult.'!H24","v":0},{"$f":"'42-samorz.inst.kult.'!I24","v":0},{"$f":"'42-samorz.inst.kult.'!J24","v":0},{"$f":"'42-samorz.inst.kult.'!K24","v":0},{"$f":"'42-samorz.inst.kult.'!L24","v":0},{"$f":"'42-samorz.inst.kult.'!M24","v":0},{"$f":"'42-samorz.inst.kult.'!N24","v":0},{"$f":"'42-samorz.inst.kult.'!O24","v":0},{"$f":"'42-samorz.inst.kult.'!P24","v":0},{"$f":"'42-samorz.inst.kult.'!Q24","v":0},{"$f":"'42-samorz.inst.kult.'!R24","v":0},{"$f":"'42-samorz.inst.kult.'!C25","v":0},{"$f":"'42-samorz.inst.kult.'!D25","v":0},{"$f":"'42-samorz.inst.kult.'!E25","v":0},{"$f":"'42-samorz.inst.kult.'!F25","v":0},{"$f":"'42-samorz.inst.kult.'!G25","v":0},{"$f":"'42-samorz.inst.kult.'!H25","v":0},{"$f":"'42-samorz.inst.kult.'!I25","v":0},{"$f":"'42-samorz.inst.kult.'!J25","v":0},{"$f":"'42-samorz.inst.kult.'!K25","v":0},{"$f":"'42-samorz.inst.kult.'!L25","v":0},{"$f":"'42-samorz.inst.kult.'!M25","v":0},{"$f":"'42-samorz.inst.kult.'!N25","v":0},{"$f":"'42-samorz.inst.kult.'!O25","v":0},{"$f":"'42-samorz.inst.kult.'!P25","v":0},{"$f":"'42-samorz.inst.kult.'!Q25","v":0},{"$f":"'42-samorz.inst.kult.'!R25","v":0},{"$f":"'42-samorz.inst.kult.'!C26","v":0},{"$f":"'42-samorz.inst.kult.'!D26","v":0},{"$f":"'42-samorz.inst.kult.'!E26","v":0},{"$f":"'42-samorz.inst.kult.'!F26","v":0},{"$f":"'42-samorz.inst.kult.'!G26","v":0},{"$f":"'42-samorz.inst.kult.'!H26","v":0},{"$f":"'42-samorz.inst.kult.'!I26","v":0},{"$f":"'42-samorz.inst.kult.'!J26","v":0},{"$f":"'42-samorz.inst.kult.'!K26","v":0},{"$f":"'42-samorz.inst.kult.'!L26","v":0},{"$f":"'42-samorz.inst.kult.'!M26","v":0},{"$f":"'42-samorz.inst.kult.'!N26","v":0},{"$f":"'42-samorz.inst.kult.'!O26","v":0},{"$f":"'42-samorz.inst.kult.'!P26","v":0},{"$f":"'42-samorz.inst.kult.'!Q26","v":0},{"$f":"'42-samorz.inst.kult.'!R26","v":0},{"$f":"'42-samorz.inst.kult.'!C27","v":0},{"$f":"'42-samorz.inst.kult.'!D27","v":0},{"$f":"'42-samorz.inst.kult.'!E27","v":0},{"$f":"'42-samorz.inst.kult.'!F27","v":0},{"$f":"'42-samorz.inst.kult.'!G27","v":0},{"$f":"'42-samorz.inst.kult.'!H27","v":0},{"$f":"'42-samorz.inst.kult.'!I27","v":0},{"$f":"'42-samorz.inst.kult.'!J27","v":0},{"$f":"'42-samorz.inst.kult.'!K27","v":0},{"$f":"'42-samorz.inst.kult.'!L27","v":0},{"$f":"'42-samorz.inst.kult.'!M27","v":0},{"$f":"'42-samorz.inst.kult.'!N27","v":0},{"$f":"'42-samorz.inst.kult.'!O27","v":0},{"$f":"'42-samorz.inst.kult.'!P27","v":0},{"$f":"'42-samorz.inst.kult.'!Q27","v":0},{"$f":"'42-samorz.inst.kult.'!R27","v":0},{"$f":"'42-samorz.inst.kult.'!C28","v":0},{"$f":"'42-samorz.inst.kult.'!D28","v":0},{"$f":"'42-samorz.inst.kult.'!E28","v":0},{"$f":"'42-samorz.inst.kult.'!F28","v":0},{"$f":"'42-samorz.inst.kult.'!G28","v":0},{"$f":"'42-samorz.inst.kult.'!H28","v":0},{"$f":"'42-samorz.inst.kult.'!I28","v":0},{"$f":"'42-samorz.inst.kult.'!J28","v":0},{"$f":"'42-samorz.inst.kult.'!K28","v":0},{"$f":"'42-samorz.inst.kult.'!L28","v":0},{"$f":"'42-samorz.inst.kult.'!M28","v":0},{"$f":"'42-samorz.inst.kult.'!N28","v":0},{"$f":"'42-samorz.inst.kult.'!O28","v":0},{"$f":"'42-samorz.inst.kult.'!P28","v":0},{"$f":"'42-samorz.inst.kult.'!Q28","v":0},{"$f":"'42-samorz.inst.kult.'!R28","v":0},{"$f":"'42-samorz.inst.kult.'!C29","v":0},{"$f":"'42-samorz.inst.kult.'!D29","v":0},{"$f":"'42-samorz.inst.kult.'!E29","v":0},{"$f":"'42-samorz.inst.kult.'!F29","v":0},{"$f":"'42-samorz.inst.kult.'!G29","v":0},{"$f":"'42-samorz.inst.kult.'!H29","v":0},{"$f":"'42-samorz.inst.kult.'!I29","v":0},{"$f":"'42-samorz.inst.kult.'!J29","v":0},{"$f":"'42-samorz.inst.kult.'!K29","v":0},{"$f":"'42-samorz.inst.kult.'!L29","v":0},{"$f":"'42-samorz.inst.kult.'!M29","v":0},{"$f":"'42-samorz.inst.kult.'!N29","v":0},{"$f":"'42-samorz.inst.kult.'!O29","v":0},{"$f":"'42-samorz.inst.kult.'!P29","v":0},{"$f":"'42-samorz.inst.kult.'!Q29","v":0},{"$f":"'42-samorz.inst.kult.'!R29","v":0},{"$f":"'42-samorz.inst.kult.'!C30","v":0},{"$f":"'42-samorz.inst.kult.'!D30","v":0},{"$f":"'42-samorz.inst.kult.'!E30","v":0},{"$f":"'42-samorz.inst.kult.'!F30","v":0},{"$f":"'42-samorz.inst.kult.'!G30","v":0},{"$f":"'42-samorz.inst.kult.'!H30","v":0},{"$f":"'42-samorz.inst.kult.'!I30","v":0},{"$f":"'42-samorz.inst.kult.'!J30","v":0},{"$f":"'42-samorz.inst.kult.'!K30","v":0},{"$f":"'42-samorz.inst.kult.'!L30","v":0},{"$f":"'42-samorz.inst.kult.'!M30","v":0},{"$f":"'42-samorz.inst.kult.'!N30","v":0},{"$f":"'42-samorz.inst.kult.'!O30","v":0},{"$f":"'42-samorz.inst.kult.'!P30","v":0},{"$f":"'42-samorz.inst.kult.'!Q30","v":0},{"$f":"'42-samorz.inst.kult.'!R30","v":0},{"$f":"'42-samorz.inst.kult.'!C31","v":0},{"$f":"'42-samorz.inst.kult.'!D31","v":0},{"$f":"'42-samorz.inst.kult.'!E31","v":0},{"$f":"'42-samorz.inst.kult.'!F31","v":0},{"$f":"'42-samorz.inst.kult.'!G31","v":0},{"$f":"'42-samorz.inst.kult.'!H31","v":0},{"$f":"'42-samorz.inst.kult.'!I31","v":0},{"$f":"'42-samorz.inst.kult.'!J31","v":0},{"$f":"'42-samorz.inst.kult.'!K31","v":0},{"$f":"'42-samorz.inst.kult.'!L31","v":0},{"$f":"'42-samorz.inst.kult.'!M31","v":0},{"$f":"'42-samorz.inst.kult.'!N31","v":0},{"$f":"'42-samorz.inst.kult.'!O31","v":0},{"$f":"'42-samorz.inst.kult.'!P31","v":0},{"$f":"'42-samorz.inst.kult.'!Q31","v":0},{"$f":"'42-samorz.inst.kult.'!R31","v":0},{"$f":"'42-samorz.inst.kult.'!C32","v":0},{"$f":"'42-samorz.inst.kult.'!D32","v":0},{"$f":"'42-samorz.inst.kult.'!E32","v":0},{"$f":"'42-samorz.inst.kult.'!F32","v":0},{"$f":"'42-samorz.inst.kult.'!G32","v":0},{"$f":"'42-samorz.inst.kult.'!H32","v":0},{"$f":"'42-samorz.inst.kult.'!I32","v":0},{"$f":"'42-samorz.inst.kult.'!J32","v":0},{"$f":"'42-samorz.inst.kult.'!K32","v":0},{"$f":"'42-samorz.inst.kult.'!L32","v":0},{"$f":"'42-samorz.inst.kult.'!M32","v":0},{"$f":"'42-samorz.inst.kult.'!N32","v":0},{"$f":"'42-samorz.inst.kult.'!O32","v":0},{"$f":"'42-samorz.inst.kult.'!P32","v":0},{"$f":"'42-samorz.inst.kult.'!Q32","v":0},{"$f":"'42-samorz.inst.kult.'!R32","v":0},{"$f":"'42-samorz.inst.kult.'!C33","v":0},{"$f":"'42-samorz.inst.kult.'!D33","v":0},{"$f":"'42-samorz.inst.kult.'!E33","v":0},{"$f":"'42-samorz.inst.kult.'!F33","v":0},{"$f":"'42-samorz.inst.kult.'!G33","v":0},{"$f":"'42-samorz.inst.kult.'!H33","v":0},{"$f":"'42-samorz.inst.kult.'!I33","v":0},{"$f":"'42-samorz.inst.kult.'!J33","v":0},{"$f":"'42-samorz.inst.kult.'!K33","v":0},{"$f":"'42-samorz.inst.kult.'!L33","v":0},{"$f":"'42-samorz.inst.kult.'!M33","v":0},{"$f":"'42-samorz.inst.kult.'!N33","v":0},{"$f":"'42-samorz.inst.kult.'!O33","v":0},{"$f":"'42-samorz.inst.kult.'!P33","v":0},{"$f":"'42-samorz.inst.kult.'!Q33","v":0},{"$f":"'42-samorz.inst.kult.'!R33","v":0}]
[{"$f":"'50-PAN i jedn.tworz.przez PAN'!A8","v":""},null,null,null,null,{"$f":"'50-PAN i jedn.tworz.przez PAN'!L11","v":50},{"$f":"'50-PAN i jedn.tworz.przez PAN'!K8","v":0},{"$f":"'50-PAN i jedn.tworz.przez PAN'!H8","v":0},{"$f":"'50-PAN i jedn.tworz.przez PAN'!M11","v":0},null,null,{"$f":"'50-PAN i jedn.tworz.przez PAN'!C24","v":0},{"$f":"'50-PAN i jedn.tworz.przez PAN'!D24","v":0},{"$f":"'50-PAN i jedn.tworz.przez PAN'!E24","v":0},{"$f":"'50-PAN i jedn.tworz.przez PAN'!F24","v":0},{"$f":"'50-PAN i jedn.tworz.przez PAN'!G24","v":0},{"$f":"'50-PAN i jedn.tworz.przez PAN'!H24","v":0},{"$f":"'50-PAN i jedn.tworz.przez PAN'!I24","v":0},{"$f":"'50-PAN i jedn.tworz.przez PAN'!J24","v":0},{"$f":"'50-PAN i jedn.tworz.przez PAN'!K24","v":0},{"$f":"'50-PAN i jedn.tworz.przez PAN'!L24","v":0},{"$f":"'50-PAN i jedn.tworz.przez PAN'!M24","v":0},{"$f":"'50-PAN i jedn.tworz.przez PAN'!N24","v":0},{"$f":"'50-PAN i jedn.tworz.przez PAN'!O24","v":0},{"$f":"'50-PAN i jedn.tworz.przez PAN'!P24","v":0},{"$f":"'50-PAN i jedn.tworz.przez PAN'!Q24","v":0},{"$f":"'50-PAN i jedn.tworz.przez PAN'!R24","v":0},{"$f":"'50-PAN i jedn.tworz.przez PAN'!C25","v":0},{"$f":"'50-PAN i jedn.tworz.przez PAN'!D25","v":0},{"$f":"'50-PAN i jedn.tworz.przez PAN'!E25","v":0},{"$f":"'50-PAN i jedn.tworz.przez PAN'!F25","v":0},{"$f":"'50-PAN i jedn.tworz.przez PAN'!G25","v":0},{"$f":"'50-PAN i jedn.tworz.przez PAN'!H25","v":0},{"$f":"'50-PAN i jedn.tworz.przez PAN'!I25","v":0},{"$f":"'50-PAN i jedn.tworz.przez PAN'!J25","v":0},{"$f":"'50-PAN i jedn.tworz.przez PAN'!K25","v":0},{"$f":"'50-PAN i jedn.tworz.przez PAN'!L25","v":0},{"$f":"'50-PAN i jedn.tworz.przez PAN'!M25","v":0},{"$f":"'50-PAN i jedn.tworz.przez PAN'!N25","v":0},{"$f":"'50-PAN i jedn.tworz.przez PAN'!O25","v":0},{"$f":"'50-PAN i jedn.tworz.przez PAN'!P25","v":0},{"$f":"'50-PAN i jedn.tworz.przez PAN'!Q25","v":0},{"$f":"'50-PAN i jedn.tworz.przez PAN'!R25","v":0},{"$f":"'50-PAN i jedn.tworz.przez PAN'!C26","v":0},{"$f":"'50-PAN i jedn.tworz.przez PAN'!D26","v":0},{"$f":"'50-PAN i jedn.tworz.przez PAN'!E26","v":0},{"$f":"'50-PAN i jedn.tworz.przez PAN'!F26","v":0},{"$f":"'50-PAN i jedn.tworz.przez PAN'!G26","v":0},{"$f":"'50-PAN i jedn.tworz.przez PAN'!H26","v":0},{"$f":"'50-PAN i jedn.tworz.przez PAN'!I26","v":0},{"$f":"'50-PAN i jedn.tworz.przez PAN'!J26","v":0},{"$f":"'50-PAN i jedn.tworz.przez PAN'!K26","v":0},{"$f":"'50-PAN i jedn.tworz.przez PAN'!L26","v":0},{"$f":"'50-PAN i jedn.tworz.przez PAN'!M26","v":0},{"$f":"'50-PAN i jedn.tworz.przez PAN'!N26","v":0},{"$f":"'50-PAN i jedn.tworz.przez PAN'!O26","v":0},{"$f":"'50-PAN i jedn.tworz.przez PAN'!P26","v":0},{"$f":"'50-PAN i jedn.tworz.przez PAN'!Q26","v":0},{"$f":"'50-PAN i jedn.tworz.przez PAN'!R26","v":0},{"$f":"'50-PAN i jedn.tworz.przez PAN'!C27","v":0},{"$f":"'50-PAN i jedn.tworz.przez PAN'!D27","v":0},{"$f":"'50-PAN i jedn.tworz.przez PAN'!E27","v":0},{"$f":"'50-PAN i jedn.tworz.przez PAN'!F27","v":0},{"$f":"'50-PAN i jedn.tworz.przez PAN'!G27","v":0},{"$f":"'50-PAN i jedn.tworz.przez PAN'!H27","v":0},{"$f":"'50-PAN i jedn.tworz.przez PAN'!I27","v":0},{"$f":"'50-PAN i jedn.tworz.przez PAN'!J27","v":0},{"$f":"'50-PAN i jedn.tworz.przez PAN'!K27","v":0},{"$f":"'50-PAN i jedn.tworz.przez PAN'!L27","v":0},{"$f":"'50-PAN i jedn.tworz.przez PAN'!M27","v":0},{"$f":"'50-PAN i jedn.tworz.przez PAN'!N27","v":0},{"$f":"'50-PAN i jedn.tworz.przez PAN'!O27","v":0},{"$f":"'50-PAN i jedn.tworz.przez PAN'!P27","v":0},{"$f":"'50-PAN i jedn.tworz.przez PAN'!Q27","v":0},{"$f":"'50-PAN i jedn.tworz.przez PAN'!R27","v":0},{"$f":"'50-PAN i jedn.tworz.przez PAN'!C28","v":0},{"$f":"'50-PAN i jedn.tworz.przez PAN'!D28","v":0},{"$f":"'50-PAN i jedn.tworz.przez PAN'!E28","v":0},{"$f":"'50-PAN i jedn.tworz.przez PAN'!F28","v":0},{"$f":"'50-PAN i jedn.tworz.przez PAN'!G28","v":0},{"$f":"'50-PAN i jedn.tworz.przez PAN'!H28","v":0},{"$f":"'50-PAN i jedn.tworz.przez PAN'!I28","v":0},{"$f":"'50-PAN i jedn.tworz.przez PAN'!J28","v":0},{"$f":"'50-PAN i jedn.tworz.przez PAN'!K28","v":0},{"$f":"'50-PAN i jedn.tworz.przez PAN'!L28","v":0},{"$f":"'50-PAN i jedn.tworz.przez PAN'!M28","v":0},{"$f":"'50-PAN i jedn.tworz.przez PAN'!N28","v":0},{"$f":"'50-PAN i jedn.tworz.przez PAN'!O28","v":0},{"$f":"'50-PAN i jedn.tworz.przez PAN'!P28","v":0},{"$f":"'50-PAN i jedn.tworz.przez PAN'!Q28","v":0},{"$f":"'50-PAN i jedn.tworz.przez PAN'!R28","v":0},{"$f":"'50-PAN i jedn.tworz.przez PAN'!C29","v":0},{"$f":"'50-PAN i jedn.tworz.przez PAN'!D29","v":0},{"$f":"'50-PAN i jedn.tworz.przez PAN'!E29","v":0},{"$f":"'50-PAN i jedn.tworz.przez PAN'!F29","v":0},{"$f":"'50-PAN i jedn.tworz.przez PAN'!G29","v":0},{"$f":"'50-PAN i jedn.tworz.przez PAN'!H29","v":0},{"$f":"'50-PAN i jedn.tworz.przez PAN'!I29","v":0},{"$f":"'50-PAN i jedn.tworz.przez PAN'!J29","v":0},{"$f":"'50-PAN i jedn.tworz.przez PAN'!K29","v":0},{"$f":"'50-PAN i jedn.tworz.przez PAN'!L29","v":0},{"$f":"'50-PAN i jedn.tworz.przez PAN'!M29","v":0},{"$f":"'50-PAN i jedn.tworz.przez PAN'!N29","v":0},{"$f":"'50-PAN i jedn.tworz.przez PAN'!O29","v":0},{"$f":"'50-PAN i jedn.tworz.przez PAN'!P29","v":0},{"$f":"'50-PAN i jedn.tworz.przez PAN'!Q29","v":0},{"$f":"'50-PAN i jedn.tworz.przez PAN'!R29","v":0},{"$f":"'50-PAN i jedn.tworz.przez PAN'!C30","v":0},{"$f":"'50-PAN i jedn.tworz.przez PAN'!D30","v":0},{"$f":"'50-PAN i jedn.tworz.przez PAN'!E30","v":0},{"$f":"'50-PAN i jedn.tworz.przez PAN'!F30","v":0},{"$f":"'50-PAN i jedn.tworz.przez PAN'!G30","v":0},{"$f":"'50-PAN i jedn.tworz.przez PAN'!H30","v":0},{"$f":"'50-PAN i jedn.tworz.przez PAN'!I30","v":0},{"$f":"'50-PAN i jedn.tworz.przez PAN'!J30","v":0},{"$f":"'50-PAN i jedn.tworz.przez PAN'!K30","v":0},{"$f":"'50-PAN i jedn.tworz.przez PAN'!L30","v":0},{"$f":"'50-PAN i jedn.tworz.przez PAN'!M30","v":0},{"$f":"'50-PAN i jedn.tworz.przez PAN'!N30","v":0},{"$f":"'50-PAN i jedn.tworz.przez PAN'!O30","v":0},{"$f":"'50-PAN i jedn.tworz.przez PAN'!P30","v":0},{"$f":"'50-PAN i jedn.tworz.przez PAN'!Q30","v":0},{"$f":"'50-PAN i jedn.tworz.przez PAN'!R30","v":0},{"$f":"'50-PAN i jedn.tworz.przez PAN'!C31","v":0},{"$f":"'50-PAN i jedn.tworz.przez PAN'!D31","v":0},{"$f":"'50-PAN i jedn.tworz.przez PAN'!E31","v":0},{"$f":"'50-PAN i jedn.tworz.przez PAN'!F31","v":0},{"$f":"'50-PAN i jedn.tworz.przez PAN'!G31","v":0},{"$f":"'50-PAN i jedn.tworz.przez PAN'!H31","v":0},{"$f":"'50-PAN i jedn.tworz.przez PAN'!I31","v":0},{"$f":"'50-PAN i jedn.tworz.przez PAN'!J31","v":0},{"$f":"'50-PAN i jedn.tworz.przez PAN'!K31","v":0},{"$f":"'50-PAN i jedn.tworz.przez PAN'!L31","v":0},{"$f":"'50-PAN i jedn.tworz.przez PAN'!M31","v":0},{"$f":"'50-PAN i jedn.tworz.przez PAN'!N31","v":0},{"$f":"'50-PAN i jedn.tworz.przez PAN'!O31","v":0},{"$f":"'50-PAN i jedn.tworz.przez PAN'!P31","v":0},{"$f":"'50-PAN i jedn.tworz.przez PAN'!Q31","v":0},{"$f":"'50-PAN i jedn.tworz.przez PAN'!R31","v":0},{"$f":"'50-PAN i jedn.tworz.przez PAN'!C32","v":0},{"$f":"'50-PAN i jedn.tworz.przez PAN'!D32","v":0},{"$f":"'50-PAN i jedn.tworz.przez PAN'!E32","v":0},{"$f":"'50-PAN i jedn.tworz.przez PAN'!F32","v":0},{"$f":"'50-PAN i jedn.tworz.przez PAN'!G32","v":0},{"$f":"'50-PAN i jedn.tworz.przez PAN'!H32","v":0},{"$f":"'50-PAN i jedn.tworz.przez PAN'!I32","v":0},{"$f":"'50-PAN i jedn.tworz.przez PAN'!J32","v":0},{"$f":"'50-PAN i jedn.tworz.przez PAN'!K32","v":0},{"$f":"'50-PAN i jedn.tworz.przez PAN'!L32","v":0},{"$f":"'50-PAN i jedn.tworz.przez PAN'!M32","v":0},{"$f":"'50-PAN i jedn.tworz.przez PAN'!N32","v":0},{"$f":"'50-PAN i jedn.tworz.przez PAN'!O32","v":0},{"$f":"'50-PAN i jedn.tworz.przez PAN'!P32","v":0},{"$f":"'50-PAN i jedn.tworz.przez PAN'!Q32","v":0},{"$f":"'50-PAN i jedn.tworz.przez PAN'!R32","v":0},{"$f":"'50-PAN i jedn.tworz.przez PAN'!C33","v":0},{"$f":"'50-PAN i jedn.tworz.przez PAN'!D33","v":0},{"$f":"'50-PAN i jedn.tworz.przez PAN'!E33","v":0},{"$f":"'50-PAN i jedn.tworz.przez PAN'!F33","v":0},{"$f":"'50-PAN i jedn.tworz.przez PAN'!G33","v":0},{"$f":"'50-PAN i jedn.tworz.przez PAN'!H33","v":0},{"$f":"'50-PAN i jedn.tworz.przez PAN'!I33","v":0},{"$f":"'50-PAN i jedn.tworz.przez PAN'!J33","v":0},{"$f":"'50-PAN i jedn.tworz.przez PAN'!K33","v":0},{"$f":"'50-PAN i jedn.tworz.przez PAN'!L33","v":0},{"$f":"'50-PAN i jedn.tworz.przez PAN'!M33","v":0},{"$f":"'50-PAN i jedn.tworz.przez PAN'!N33","v":0},{"$f":"'50-PAN i jedn.tworz.przez PAN'!O33","v":0},{"$f":"'50-PAN i jedn.tworz.przez PAN'!P33","v":0},{"$f":"'50-PAN i jedn.tworz.przez PAN'!Q33","v":0},{"$f":"'50-PAN i jedn.tworz.przez PAN'!R33","v":0}]
[{"$f":"'61-samodz.publ.ZOZ państw.'!A8","v":""},null,null,null,null,{"$f":"'61-samodz.publ.ZOZ państw.'!L11","v":61},{"$f":"'61-samodz.publ.ZOZ państw.'!K8","v":0},{"$f":"'61-samodz.publ.ZOZ państw.'!H8","v":0},{"$f":"'61-samodz.publ.ZOZ państw.'!M11","v":0},null,null,{"$f":"'61-samodz.publ.ZOZ państw.'!C24","v":0},{"$f":"'61-samodz.publ.ZOZ państw.'!D24","v":0},{"$f":"'61-samodz.publ.ZOZ państw.'!E24","v":0},{"$f":"'61-samodz.publ.ZOZ państw.'!F24","v":0},{"$f":"'61-samodz.publ.ZOZ państw.'!G24","v":0},{"$f":"'61-samodz.publ.ZOZ państw.'!H24","v":0},{"$f":"'61-samodz.publ.ZOZ państw.'!I24","v":0},{"$f":"'61-samodz.publ.ZOZ państw.'!J24","v":0},{"$f":"'61-samodz.publ.ZOZ państw.'!K24","v":0},{"$f":"'61-samodz.publ.ZOZ państw.'!L24","v":0},{"$f":"'61-samodz.publ.ZOZ państw.'!M24","v":0},{"$f":"'61-samodz.publ.ZOZ państw.'!N24","v":0},{"$f":"'61-samodz.publ.ZOZ państw.'!O24","v":0},{"$f":"'61-samodz.publ.ZOZ państw.'!P24","v":0},{"$f":"'61-samodz.publ.ZOZ państw.'!Q24","v":0},{"$f":"'61-samodz.publ.ZOZ państw.'!R24","v":0},{"$f":"'61-samodz.publ.ZOZ państw.'!C25","v":0},{"$f":"'61-samodz.publ.ZOZ państw.'!D25","v":0},{"$f":"'61-samodz.publ.ZOZ państw.'!E25","v":0},{"$f":"'61-samodz.publ.ZOZ państw.'!F25","v":0},{"$f":"'61-samodz.publ.ZOZ państw.'!G25","v":0},{"$f":"'61-samodz.publ.ZOZ państw.'!H25","v":0},{"$f":"'61-samodz.publ.ZOZ państw.'!I25","v":0},{"$f":"'61-samodz.publ.ZOZ państw.'!J25","v":0},{"$f":"'61-samodz.publ.ZOZ państw.'!K25","v":0},{"$f":"'61-samodz.publ.ZOZ państw.'!L25","v":0},{"$f":"'61-samodz.publ.ZOZ państw.'!M25","v":0},{"$f":"'61-samodz.publ.ZOZ państw.'!N25","v":0},{"$f":"'61-samodz.publ.ZOZ państw.'!O25","v":0},{"$f":"'61-samodz.publ.ZOZ państw.'!P25","v":0},{"$f":"'61-samodz.publ.ZOZ państw.'!Q25","v":0},{"$f":"'61-samodz.publ.ZOZ państw.'!R25","v":0},{"$f":"'61-samodz.publ.ZOZ państw.'!C26","v":0},{"$f":"'61-samodz.publ.ZOZ państw.'!D26","v":0},{"$f":"'61-samodz.publ.ZOZ państw.'!E26","v":0},{"$f":"'61-samodz.publ.ZOZ państw.'!F26","v":0},{"$f":"'61-samodz.publ.ZOZ państw.'!G26","v":0},{"$f":"'61-samodz.publ.ZOZ państw.'!H26","v":0},{"$f":"'61-samodz.publ.ZOZ państw.'!I26","v":0},{"$f":"'61-samodz.publ.ZOZ państw.'!J26","v":0},{"$f":"'61-samodz.publ.ZOZ państw.'!K26","v":0},{"$f":"'61-samodz.publ.ZOZ państw.'!L26","v":0},{"$f":"'61-samodz.publ.ZOZ państw.'!M26","v":0},{"$f":"'61-samodz.publ.ZOZ państw.'!N26","v":0},{"$f":"'61-samodz.publ.ZOZ państw.'!O26","v":0},{"$f":"'61-samodz.publ.ZOZ państw.'!P26","v":0},{"$f":"'61-samodz.publ.ZOZ państw.'!Q26","v":0},{"$f":"'61-samodz.publ.ZOZ państw.'!R26","v":0},{"$f":"'61-samodz.publ.ZOZ państw.'!C27","v":0},{"$f":"'61-samodz.publ.ZOZ państw.'!D27","v":0},{"$f":"'61-samodz.publ.ZOZ państw.'!E27","v":0},{"$f":"'61-samodz.publ.ZOZ państw.'!F27","v":0},{"$f":"'61-samodz.publ.ZOZ państw.'!G27","v":0},{"$f":"'61-samodz.publ.ZOZ państw.'!H27","v":0},{"$f":"'61-samodz.publ.ZOZ państw.'!I27","v":0},{"$f":"'61-samodz.publ.ZOZ państw.'!J27","v":0},{"$f":"'61-samodz.publ.ZOZ państw.'!K27","v":0},{"$f":"'61-samodz.publ.ZOZ państw.'!L27","v":0},{"$f":"'61-samodz.publ.ZOZ państw.'!M27","v":0},{"$f":"'61-samodz.publ.ZOZ państw.'!N27","v":0},{"$f":"'61-samodz.publ.ZOZ państw.'!O27","v":0},{"$f":"'61-samodz.publ.ZOZ państw.'!P27","v":0},{"$f":"'61-samodz.publ.ZOZ państw.'!Q27","v":0},{"$f":"'61-samodz.publ.ZOZ państw.'!R27","v":0},{"$f":"'61-samodz.publ.ZOZ państw.'!C28","v":0},{"$f":"'61-samodz.publ.ZOZ państw.'!D28","v":0},{"$f":"'61-samodz.publ.ZOZ państw.'!E28","v":0},{"$f":"'61-samodz.publ.ZOZ państw.'!F28","v":0},{"$f":"'61-samodz.publ.ZOZ państw.'!G28","v":0},{"$f":"'61-samodz.publ.ZOZ państw.'!H28","v":0},{"$f":"'61-samodz.publ.ZOZ państw.'!I28","v":0},{"$f":"'61-samodz.publ.ZOZ państw.'!J28","v":0},{"$f":"'61-samodz.publ.ZOZ państw.'!K28","v":0},{"$f":"'61-samodz.publ.ZOZ państw.'!L28","v":0},{"$f":"'61-samodz.publ.ZOZ państw.'!M28","v":0},{"$f":"'61-samodz.publ.ZOZ państw.'!N28","v":0},{"$f":"'61-samodz.publ.ZOZ państw.'!O28","v":0},{"$f":"'61-samodz.publ.ZOZ państw.'!P28","v":0},{"$f":"'61-samodz.publ.ZOZ państw.'!Q28","v":0},{"$f":"'61-samodz.publ.ZOZ państw.'!R28","v":0},{"$f":"'61-samodz.publ.ZOZ państw.'!C29","v":0},{"$f":"'61-samodz.publ.ZOZ państw.'!D29","v":0},{"$f":"'61-samodz.publ.ZOZ państw.'!E29","v":0},{"$f":"'61-samodz.publ.ZOZ państw.'!F29","v":0},{"$f":"'61-samodz.publ.ZOZ państw.'!G29","v":0},{"$f":"'61-samodz.publ.ZOZ państw.'!H29","v":0},{"$f":"'61-samodz.publ.ZOZ państw.'!I29","v":0},{"$f":"'61-samodz.publ.ZOZ państw.'!J29","v":0},{"$f":"'61-samodz.publ.ZOZ państw.'!K29","v":0},{"$f":"'61-samodz.publ.ZOZ państw.'!L29","v":0},{"$f":"'61-samodz.publ.ZOZ państw.'!M29","v":0},{"$f":"'61-samodz.publ.ZOZ państw.'!N29","v":0},{"$f":"'61-samodz.publ.ZOZ państw.'!O29","v":0},{"$f":"'61-samodz.publ.ZOZ państw.'!P29","v":0},{"$f":"'61-samodz.publ.ZOZ państw.'!Q29","v":0},{"$f":"'61-samodz.publ.ZOZ państw.'!R29","v":0},{"$f":"'61-samodz.publ.ZOZ państw.'!C30","v":0},{"$f":"'61-samodz.publ.ZOZ państw.'!D30","v":0},{"$f":"'61-samodz.publ.ZOZ państw.'!E30","v":0},{"$f":"'61-samodz.publ.ZOZ państw.'!F30","v":0},{"$f":"'61-samodz.publ.ZOZ państw.'!G30","v":0},{"$f":"'61-samodz.publ.ZOZ państw.'!H30","v":0},{"$f":"'61-samodz.publ.ZOZ państw.'!I30","v":0},{"$f":"'61-samodz.publ.ZOZ państw.'!J30","v":0},{"$f":"'61-samodz.publ.ZOZ państw.'!K30","v":0},{"$f":"'61-samodz.publ.ZOZ państw.'!L30","v":0},{"$f":"'61-samodz.publ.ZOZ państw.'!M30","v":0},{"$f":"'61-samodz.publ.ZOZ państw.'!N30","v":0},{"$f":"'61-samodz.publ.ZOZ państw.'!O30","v":0},{"$f":"'61-samodz.publ.ZOZ państw.'!P30","v":0},{"$f":"'61-samodz.publ.ZOZ państw.'!Q30","v":0},{"$f":"'61-samodz.publ.ZOZ państw.'!R30","v":0},{"$f":"'61-samodz.publ.ZOZ państw.'!C31","v":0},{"$f":"'61-samodz.publ.ZOZ państw.'!D31","v":0},{"$f":"'61-samodz.publ.ZOZ państw.'!E31","v":0},{"$f":"'61-samodz.publ.ZOZ państw.'!F31","v":0},{"$f":"'61-samodz.publ.ZOZ państw.'!G31","v":0},{"$f":"'61-samodz.publ.ZOZ państw.'!H31","v":0},{"$f":"'61-samodz.publ.ZOZ państw.'!I31","v":0},{"$f":"'61-samodz.publ.ZOZ państw.'!J31","v":0},{"$f":"'61-samodz.publ.ZOZ państw.'!K31","v":0},{"$f":"'61-samodz.publ.ZOZ państw.'!L31","v":0},{"$f":"'61-samodz.publ.ZOZ państw.'!M31","v":0},{"$f":"'61-samodz.publ.ZOZ państw.'!N31","v":0},{"$f":"'61-samodz.publ.ZOZ państw.'!O31","v":0},{"$f":"'61-samodz.publ.ZOZ państw.'!P31","v":0},{"$f":"'61-samodz.publ.ZOZ państw.'!Q31","v":0},{"$f":"'61-samodz.publ.ZOZ państw.'!R31","v":0},{"$f":"'61-samodz.publ.ZOZ państw.'!C32","v":0},{"$f":"'61-samodz.publ.ZOZ państw.'!D32","v":0},{"$f":"'61-samodz.publ.ZOZ państw.'!E32","v":0},{"$f":"'61-samodz.publ.ZOZ państw.'!F32","v":0},{"$f":"'61-samodz.publ.ZOZ państw.'!G32","v":0},{"$f":"'61-samodz.publ.ZOZ państw.'!H32","v":0},{"$f":"'61-samodz.publ.ZOZ państw.'!I32","v":0},{"$f":"'61-samodz.publ.ZOZ państw.'!J32","v":0},{"$f":"'61-samodz.publ.ZOZ państw.'!K32","v":0},{"$f":"'61-samodz.publ.ZOZ państw.'!L32","v":0},{"$f":"'61-samodz.publ.ZOZ państw.'!M32","v":0},{"$f":"'61-samodz.publ.ZOZ państw.'!N32","v":0},{"$f":"'61-samodz.publ.ZOZ państw.'!O32","v":0},{"$f":"'61-samodz.publ.ZOZ państw.'!P32","v":0},{"$f":"'61-samodz.publ.ZOZ państw.'!Q32","v":0},{"$f":"'61-samodz.publ.ZOZ państw.'!R32","v":0},{"$f":"'61-samodz.publ.ZOZ państw.'!C33","v":0},{"$f":"'61-samodz.publ.ZOZ państw.'!D33","v":0},{"$f":"'61-samodz.publ.ZOZ państw.'!E33","v":0},{"$f":"'61-samodz.publ.ZOZ państw.'!F33","v":0},{"$f":"'61-samodz.publ.ZOZ państw.'!G33","v":0},{"$f":"'61-samodz.publ.ZOZ państw.'!H33","v":0},{"$f":"'61-samodz.publ.ZOZ państw.'!I33","v":0},{"$f":"'61-samodz.publ.ZOZ państw.'!J33","v":0},{"$f":"'61-samodz.publ.ZOZ państw.'!K33","v":0},{"$f":"'61-samodz.publ.ZOZ państw.'!L33","v":0},{"$f":"'61-samodz.publ.ZOZ państw.'!M33","v":0},{"$f":"'61-samodz.publ.ZOZ państw.'!N33","v":0},{"$f":"'61-samodz.publ.ZOZ państw.'!O33","v":0},{"$f":"'61-samodz.publ.ZOZ państw.'!P33","v":0},{"$f":"'61-samodz.publ.ZOZ państw.'!Q33","v":0},{"$f":"'61-samodz.publ.ZOZ państw.'!R33","v":0}]
[{"$f":"'62-samodz.publ.ZOZ samorz.'!A8","v":""},null,null,null,null,{"$f":"'62-samodz.publ.ZOZ samorz.'!L11","v":62},{"$f":"'62-samodz.publ.ZOZ samorz.'!K8","v":0},{"$f":"'62-samodz.publ.ZOZ samorz.'!H8","v":0},{"$f":"'62-samodz.publ.ZOZ samorz.'!M11","v":0},null,null,{"$f":"'62-samodz.publ.ZOZ samorz.'!C24","v":0},{"$f":"'62-samodz.publ.ZOZ samorz.'!D24","v":0},{"$f":"'62-samodz.publ.ZOZ samorz.'!E24","v":0},{"$f":"'62-samodz.publ.ZOZ samorz.'!F24","v":0},{"$f":"'62-samodz.publ.ZOZ samorz.'!G24","v":0},{"$f":"'62-samodz.publ.ZOZ samorz.'!H24","v":0},{"$f":"'62-samodz.publ.ZOZ samorz.'!I24","v":0},{"$f":"'62-samodz.publ.ZOZ samorz.'!J24","v":0},{"$f":"'62-samodz.publ.ZOZ samorz.'!K24","v":0},{"$f":"'62-samodz.publ.ZOZ samorz.'!L24","v":0},{"$f":"'62-samodz.publ.ZOZ samorz.'!M24","v":0},{"$f":"'62-samodz.publ.ZOZ samorz.'!N24","v":0},{"$f":"'62-samodz.publ.ZOZ samorz.'!O24","v":0},{"$f":"'62-samodz.publ.ZOZ samorz.'!P24","v":0},{"$f":"'62-samodz.publ.ZOZ samorz.'!Q24","v":0},{"$f":"'62-samodz.publ.ZOZ samorz.'!R24","v":0},{"$f":"'62-samodz.publ.ZOZ samorz.'!C25","v":0},{"$f":"'62-samodz.publ.ZOZ samorz.'!D25","v":0},{"$f":"'62-samodz.publ.ZOZ samorz.'!E25","v":0},{"$f":"'62-samodz.publ.ZOZ samorz.'!F25","v":0},{"$f":"'62-samodz.publ.ZOZ samorz.'!G25","v":0},{"$f":"'62-samodz.publ.ZOZ samorz.'!H25","v":0},{"$f":"'62-samodz.publ.ZOZ samorz.'!I25","v":0},{"$f":"'62-samodz.publ.ZOZ samorz.'!J25","v":0},{"$f":"'62-samodz.publ.ZOZ samorz.'!K25","v":0},{"$f":"'62-samodz.publ.ZOZ samorz.'!L25","v":0},{"$f":"'62-samodz.publ.ZOZ samorz.'!M25","v":0},{"$f":"'62-samodz.publ.ZOZ samorz.'!N25","v":0},{"$f":"'62-samodz.publ.ZOZ samorz.'!O25","v":0},{"$f":"'62-samodz.publ.ZOZ samorz.'!P25","v":0},{"$f":"'62-samodz.publ.ZOZ samorz.'!Q25","v":0},{"$f":"'62-samodz.publ.ZOZ samorz.'!R25","v":0},{"$f":"'62-samodz.publ.ZOZ samorz.'!C26","v":0},{"$f":"'62-samodz.publ.ZOZ samorz.'!D26","v":0},{"$f":"'62-samodz.publ.ZOZ samorz.'!E26","v":0},{"$f":"'62-samodz.publ.ZOZ samorz.'!F26","v":0},{"$f":"'62-samodz.publ.ZOZ samorz.'!G26","v":0},{"$f":"'62-samodz.publ.ZOZ samorz.'!H26","v":0},{"$f":"'62-samodz.publ.ZOZ samorz.'!I26","v":0},{"$f":"'62-samodz.publ.ZOZ samorz.'!J26","v":0},{"$f":"'62-samodz.publ.ZOZ samorz.'!K26","v":0},{"$f":"'62-samodz.publ.ZOZ samorz.'!L26","v":0},{"$f":"'62-samodz.publ.ZOZ samorz.'!M26","v":0},{"$f":"'62-samodz.publ.ZOZ samorz.'!N26","v":0},{"$f":"'62-samodz.publ.ZOZ samorz.'!O26","v":0},{"$f":"'62-samodz.publ.ZOZ samorz.'!P26","v":0},{"$f":"'62-samodz.publ.ZOZ samorz.'!Q26","v":0},{"$f":"'62-samodz.publ.ZOZ samorz.'!R26","v":0},{"$f":"'62-samodz.publ.ZOZ samorz.'!C27","v":0},{"$f":"'62-samodz.publ.ZOZ samorz.'!D27","v":0},{"$f":"'62-samodz.publ.ZOZ samorz.'!E27","v":0},{"$f":"'62-samodz.publ.ZOZ samorz.'!F27","v":0},{"$f":"'62-samodz.publ.ZOZ samorz.'!G27","v":0},{"$f":"'62-samodz.publ.ZOZ samorz.'!H27","v":0},{"$f":"'62-samodz.publ.ZOZ samorz.'!I27","v":0},{"$f":"'62-samodz.publ.ZOZ samorz.'!J27","v":0},{"$f":"'62-samodz.publ.ZOZ samorz.'!K27","v":0},{"$f":"'62-samodz.publ.ZOZ samorz.'!L27","v":0},{"$f":"'62-samodz.publ.ZOZ samorz.'!M27","v":0},{"$f":"'62-samodz.publ.ZOZ samorz.'!N27","v":0},{"$f":"'62-samodz.publ.ZOZ samorz.'!O27","v":0},{"$f":"'62-samodz.publ.ZOZ samorz.'!P27","v":0},{"$f":"'62-samodz.publ.ZOZ samorz.'!Q27","v":0},{"$f":"'62-samodz.publ.ZOZ samorz.'!R27","v":0},{"$f":"'62-samodz.publ.ZOZ samorz.'!C28","v":0},{"$f":"'62-samodz.publ.ZOZ samorz.'!D28","v":0},{"$f":"'62-samodz.publ.ZOZ samorz.'!E28","v":0},{"$f":"'62-samodz.publ.ZOZ samorz.'!F28","v":0},{"$f":"'62-samodz.publ.ZOZ samorz.'!G28","v":0},{"$f":"'62-samodz.publ.ZOZ samorz.'!H28","v":0},{"$f":"'62-samodz.publ.ZOZ samorz.'!I28","v":0},{"$f":"'62-samodz.publ.ZOZ samorz.'!J28","v":0},{"$f":"'62-samodz.publ.ZOZ samorz.'!K28","v":0},{"$f":"'62-samodz.publ.ZOZ samorz.'!L28","v":0},{"$f":"'62-samodz.publ.ZOZ samorz.'!M28","v":0},{"$f":"'62-samodz.publ.ZOZ samorz.'!N28","v":0},{"$f":"'62-samodz.publ.ZOZ samorz.'!O28","v":0},{"$f":"'62-samodz.publ.ZOZ samorz.'!P28","v":0},{"$f":"'62-samodz.publ.ZOZ samorz.'!Q28","v":0},{"$f":"'62-samodz.publ.ZOZ samorz.'!R28","v":0},{"$f":"'62-samodz.publ.ZOZ samorz.'!C29","v":0},{"$f":"'62-samodz.publ.ZOZ samorz.'!D29","v":0},{"$f":"'62-samodz.publ.ZOZ samorz.'!E29","v":0},{"$f":"'62-samodz.publ.ZOZ samorz.'!F29","v":0},{"$f":"'62-samodz.publ.ZOZ samorz.'!G29","v":0},{"$f":"'62-samodz.publ.ZOZ samorz.'!H29","v":0},{"$f":"'62-samodz.publ.ZOZ samorz.'!I29","v":0},{"$f":"'62-samodz.publ.ZOZ samorz.'!J29","v":0},{"$f":"'62-samodz.publ.ZOZ samorz.'!K29","v":0},{"$f":"'62-samodz.publ.ZOZ samorz.'!L29","v":0},{"$f":"'62-samodz.publ.ZOZ samorz.'!M29","v":0},{"$f":"'62-samodz.publ.ZOZ samorz.'!N29","v":0},{"$f":"'62-samodz.publ.ZOZ samorz.'!O29","v":0},{"$f":"'62-samodz.publ.ZOZ samorz.'!P29","v":0},{"$f":"'62-samodz.publ.ZOZ samorz.'!Q29","v":0},{"$f":"'62-samodz.publ.ZOZ samorz.'!R29","v":0},{"$f":"'62-samodz.publ.ZOZ samorz.'!C30","v":0},{"$f":"'62-samodz.publ.ZOZ samorz.'!D30","v":0},{"$f":"'62-samodz.publ.ZOZ samorz.'!E30","v":0},{"$f":"'62-samodz.publ.ZOZ samorz.'!F30","v":0},{"$f":"'62-samodz.publ.ZOZ samorz.'!G30","v":0},{"$f":"'62-samodz.publ.ZOZ samorz.'!H30","v":0},{"$f":"'62-samodz.publ.ZOZ samorz.'!I30","v":0},{"$f":"'62-samodz.publ.ZOZ samorz.'!J30","v":0},{"$f":"'62-samodz.publ.ZOZ samorz.'!K30","v":0},{"$f":"'62-samodz.publ.ZOZ samorz.'!L30","v":0},{"$f":"'62-samodz.publ.ZOZ samorz.'!M30","v":0},{"$f":"'62-samodz.publ.ZOZ samorz.'!N30","v":0},{"$f":"'62-samodz.publ.ZOZ samorz.'!O30","v":0},{"$f":"'62-samodz.publ.ZOZ samorz.'!P30","v":0},{"$f":"'62-samodz.publ.ZOZ samorz.'!Q30","v":0},{"$f":"'62-samodz.publ.ZOZ samorz.'!R30","v":0},{"$f":"'62-samodz.publ.ZOZ samorz.'!C31","v":0},{"$f":"'62-samodz.publ.ZOZ samorz.'!D31","v":0},{"$f":"'62-samodz.publ.ZOZ samorz.'!E31","v":0},{"$f":"'62-samodz.publ.ZOZ samorz.'!F31","v":0},{"$f":"'62-samodz.publ.ZOZ samorz.'!G31","v":0},{"$f":"'62-samodz.publ.ZOZ samorz.'!H31","v":0},{"$f":"'62-samodz.publ.ZOZ samorz.'!I31","v":0},{"$f":"'62-samodz.publ.ZOZ samorz.'!J31","v":0},{"$f":"'62-samodz.publ.ZOZ samorz.'!K31","v":0},{"$f":"'62-samodz.publ.ZOZ samorz.'!L31","v":0},{"$f":"'62-samodz.publ.ZOZ samorz.'!M31","v":0},{"$f":"'62-samodz.publ.ZOZ samorz.'!N31","v":0},{"$f":"'62-samodz.publ.ZOZ samorz.'!O31","v":0},{"$f":"'62-samodz.publ.ZOZ samorz.'!P31","v":0},{"$f":"'62-samodz.publ.ZOZ samorz.'!Q31","v":0},{"$f":"'62-samodz.publ.ZOZ samorz.'!R31","v":0},{"$f":"'62-samodz.publ.ZOZ samorz.'!C32","v":0},{"$f":"'62-samodz.publ.ZOZ samorz.'!D32","v":0},{"$f":"'62-samodz.publ.ZOZ samorz.'!E32","v":0},{"$f":"'62-samodz.publ.ZOZ samorz.'!F32","v":0},{"$f":"'62-samodz.publ.ZOZ samorz.'!G32","v":0},{"$f":"'62-samodz.publ.ZOZ samorz.'!H32","v":0},{"$f":"'62-samodz.publ.ZOZ samorz.'!I32","v":0},{"$f":"'62-samodz.publ.ZOZ samorz.'!J32","v":0},{"$f":"'62-samodz.publ.ZOZ samorz.'!K32","v":0},{"$f":"'62-samodz.publ.ZOZ samorz.'!L32","v":0},{"$f":"'62-samodz.publ.ZOZ samorz.'!M32","v":0},{"$f":"'62-samodz.publ.ZOZ samorz.'!N32","v":0},{"$f":"'62-samodz.publ.ZOZ samorz.'!O32","v":0},{"$f":"'62-samodz.publ.ZOZ samorz.'!P32","v":0},{"$f":"'62-samodz.publ.ZOZ samorz.'!Q32","v":0},{"$f":"'62-samodz.publ.ZOZ samorz.'!R32","v":0},{"$f":"'62-samodz.publ.ZOZ samorz.'!C33","v":0},{"$f":"'62-samodz.publ.ZOZ samorz.'!D33","v":0},{"$f":"'62-samodz.publ.ZOZ samorz.'!E33","v":0},{"$f":"'62-samodz.publ.ZOZ samorz.'!F33","v":0},{"$f":"'62-samodz.publ.ZOZ samorz.'!G33","v":0},{"$f":"'62-samodz.publ.ZOZ samorz.'!H33","v":0},{"$f":"'62-samodz.publ.ZOZ samorz.'!I33","v":0},{"$f":"'62-samodz.publ.ZOZ samorz.'!J33","v":0},{"$f":"'62-samodz.publ.ZOZ samorz.'!K33","v":0},{"$f":"'62-samodz.publ.ZOZ samorz.'!L33","v":0},{"$f":"'62-samodz.publ.ZOZ samorz.'!M33","v":0},{"$f":"'62-samodz.publ.ZOZ samorz.'!N33","v":0},{"$f":"'62-samodz.publ.ZOZ samorz.'!O33","v":0},{"$f":"'62-samodz.publ.ZOZ samorz.'!P33","v":0},{"$f":"'62-samodz.publ.ZOZ samorz.'!Q33","v":0},{"$f":"'62-samodz.publ.ZOZ samorz.'!R33","v":0}]
[{"$f":"'63-Narodowy Fundusz Zdrowia'!A8","v":""},null,null,null,null,{"$f":"'63-Narodowy Fundusz Zdrowia'!L11","v":63},{"$f":"'63-Narodowy Fundusz Zdrowia'!K8","v":0},{"$f":"'63-Narodowy Fundusz Zdrowia'!H8","v":0},{"$f":"'63-Narodowy Fundusz Zdrowia'!M11","v":0},null,null,{"$f":"'63-Narodowy Fundusz Zdrowia'!C24","v":0},{"$f":"'63-Narodowy Fundusz Zdrowia'!D24","v":0},{"$f":"'63-Narodowy Fundusz Zdrowia'!E24","v":0},{"$f":"'63-Narodowy Fundusz Zdrowia'!F24","v":0},{"$f":"'63-Narodowy Fundusz Zdrowia'!G24","v":0},{"$f":"'63-Narodowy Fundusz Zdrowia'!H24","v":0},{"$f":"'63-Narodowy Fundusz Zdrowia'!I24","v":0},{"$f":"'63-Narodowy Fundusz Zdrowia'!J24","v":0},{"$f":"'63-Narodowy Fundusz Zdrowia'!K24","v":0},{"$f":"'63-Narodowy Fundusz Zdrowia'!L24","v":0},{"$f":"'63-Narodowy Fundusz Zdrowia'!M24","v":0},{"$f":"'63-Narodowy Fundusz Zdrowia'!N24","v":0},{"$f":"'63-Narodowy Fundusz Zdrowia'!O24","v":0},{"$f":"'63-Narodowy Fundusz Zdrowia'!P24","v":0},{"$f":"'63-Narodowy Fundusz Zdrowia'!Q24","v":0},{"$f":"'63-Narodowy Fundusz Zdrowia'!R24","v":0},{"$f":"'63-Narodowy Fundusz Zdrowia'!C25","v":0},{"$f":"'63-Narodowy Fundusz Zdrowia'!D25","v":0},{"$f":"'63-Narodowy Fundusz Zdrowia'!E25","v":0},{"$f":"'63-Narodowy Fundusz Zdrowia'!F25","v":0},{"$f":"'63-Narodowy Fundusz Zdrowia'!G25","v":0},{"$f":"'63-Narodowy Fundusz Zdrowia'!H25","v":0},{"$f":"'63-Narodowy Fundusz Zdrowia'!I25","v":0},{"$f":"'63-Narodowy Fundusz Zdrowia'!J25","v":0},{"$f":"'63-Narodowy Fundusz Zdrowia'!K25","v":0},{"$f":"'63-Narodowy Fundusz Zdrowia'!L25","v":0},{"$f":"'63-Narodowy Fundusz Zdrowia'!M25","v":0},{"$f":"'63-Narodowy Fundusz Zdrowia'!N25","v":0},{"$f":"'63-Narodowy Fundusz Zdrowia'!O25","v":0},{"$f":"'63-Narodowy Fundusz Zdrowia'!P25","v":0},{"$f":"'63-Narodowy Fundusz Zdrowia'!Q25","v":0},{"$f":"'63-Narodowy Fundusz Zdrowia'!R25","v":0},{"$f":"'63-Narodowy Fundusz Zdrowia'!C26","v":0},{"$f":"'63-Narodowy Fundusz Zdrowia'!D26","v":0},{"$f":"'63-Narodowy Fundusz Zdrowia'!E26","v":0},{"$f":"'63-Narodowy Fundusz Zdrowia'!F26","v":0},{"$f":"'63-Narodowy Fundusz Zdrowia'!G26","v":0},{"$f":"'63-Narodowy Fundusz Zdrowia'!H26","v":0},{"$f":"'63-Narodowy Fundusz Zdrowia'!I26","v":0},{"$f":"'63-Narodowy Fundusz Zdrowia'!J26","v":0},{"$f":"'63-Narodowy Fundusz Zdrowia'!K26","v":0},{"$f":"'63-Narodowy Fundusz Zdrowia'!L26","v":0},{"$f":"'63-Narodowy Fundusz Zdrowia'!M26","v":0},{"$f":"'63-Narodowy Fundusz Zdrowia'!N26","v":0},{"$f":"'63-Narodowy Fundusz Zdrowia'!O26","v":0},{"$f":"'63-Narodowy Fundusz Zdrowia'!P26","v":0},{"$f":"'63-Narodowy Fundusz Zdrowia'!Q26","v":0},{"$f":"'63-Narodowy Fundusz Zdrowia'!R26","v":0},{"$f":"'63-Narodowy Fundusz Zdrowia'!C27","v":0},{"$f":"'63-Narodowy Fundusz Zdrowia'!D27","v":0},{"$f":"'63-Narodowy Fundusz Zdrowia'!E27","v":0},{"$f":"'63-Narodowy Fundusz Zdrowia'!F27","v":0},{"$f":"'63-Narodowy Fundusz Zdrowia'!G27","v":0},{"$f":"'63-Narodowy Fundusz Zdrowia'!H27","v":0},{"$f":"'63-Narodowy Fundusz Zdrowia'!I27","v":0},{"$f":"'63-Narodowy Fundusz Zdrowia'!J27","v":0},{"$f":"'63-Narodowy Fundusz Zdrowia'!K27","v":0},{"$f":"'63-Narodowy Fundusz Zdrowia'!L27","v":0},{"$f":"'63-Narodowy Fundusz Zdrowia'!M27","v":0},{"$f":"'63-Narodowy Fundusz Zdrowia'!N27","v":0},{"$f":"'63-Narodowy Fundusz Zdrowia'!O27","v":0},{"$f":"'63-Narodowy Fundusz Zdrowia'!P27","v":0},{"$f":"'63-Narodowy Fundusz Zdrowia'!Q27","v":0},{"$f":"'63-Narodowy Fundusz Zdrowia'!R27","v":0},{"$f":"'63-Narodowy Fundusz Zdrowia'!C28","v":0},{"$f":"'63-Narodowy Fundusz Zdrowia'!D28","v":0},{"$f":"'63-Narodowy Fundusz Zdrowia'!E28","v":0},{"$f":"'63-Narodowy Fundusz Zdrowia'!F28","v":0},{"$f":"'63-Narodowy Fundusz Zdrowia'!G28","v":0},{"$f":"'63-Narodowy Fundusz Zdrowia'!H28","v":0},{"$f":"'63-Narodowy Fundusz Zdrowia'!I28","v":0},{"$f":"'63-Narodowy Fundusz Zdrowia'!J28","v":0},{"$f":"'63-Narodowy Fundusz Zdrowia'!K28","v":0},{"$f":"'63-Narodowy Fundusz Zdrowia'!L28","v":0},{"$f":"'63-Narodowy Fundusz Zdrowia'!M28","v":0},{"$f":"'63-Narodowy Fundusz Zdrowia'!N28","v":0},{"$f":"'63-Narodowy Fundusz Zdrowia'!O28","v":0},{"$f":"'63-Narodowy Fundusz Zdrowia'!P28","v":0},{"$f":"'63-Narodowy Fundusz Zdrowia'!Q28","v":0},{"$f":"'63-Narodowy Fundusz Zdrowia'!R28","v":0},{"$f":"'63-Narodowy Fundusz Zdrowia'!C29","v":0},{"$f":"'63-Narodowy Fundusz Zdrowia'!D29","v":0},{"$f":"'63-Narodowy Fundusz Zdrowia'!E29","v":0},{"$f":"'63-Narodowy Fundusz Zdrowia'!F29","v":0},{"$f":"'63-Narodowy Fundusz Zdrowia'!G29","v":0},{"$f":"'63-Narodowy Fundusz Zdrowia'!H29","v":0},{"$f":"'63-Narodowy Fundusz Zdrowia'!I29","v":0},{"$f":"'63-Narodowy Fundusz Zdrowia'!J29","v":0},{"$f":"'63-Narodowy Fundusz Zdrowia'!K29","v":0},{"$f":"'63-Narodowy Fundusz Zdrowia'!L29","v":0},{"$f":"'63-Narodowy Fundusz Zdrowia'!M29","v":0},{"$f":"'63-Narodowy Fundusz Zdrowia'!N29","v":0},{"$f":"'63-Narodowy Fundusz Zdrowia'!O29","v":0},{"$f":"'63-Narodowy Fundusz Zdrowia'!P29","v":0},{"$f":"'63-Narodowy Fundusz Zdrowia'!Q29","v":0},{"$f":"'63-Narodowy Fundusz Zdrowia'!R29","v":0},{"$f":"'63-Narodowy Fundusz Zdrowia'!C30","v":0},{"$f":"'63-Narodowy Fundusz Zdrowia'!D30","v":0},{"$f":"'63-Narodowy Fundusz Zdrowia'!E30","v":0},{"$f":"'63-Narodowy Fundusz Zdrowia'!F30","v":0},{"$f":"'63-Narodowy Fundusz Zdrowia'!G30","v":0},{"$f":"'63-Narodowy Fundusz Zdrowia'!H30","v":0},{"$f":"'63-Narodowy Fundusz Zdrowia'!I30","v":0},{"$f":"'63-Narodowy Fundusz Zdrowia'!J30","v":0},{"$f":"'63-Narodowy Fundusz Zdrowia'!K30","v":0},{"$f":"'63-Narodowy Fundusz Zdrowia'!L30","v":0},{"$f":"'63-Narodowy Fundusz Zdrowia'!M30","v":0},{"$f":"'63-Narodowy Fundusz Zdrowia'!N30","v":0},{"$f":"'63-Narodowy Fundusz Zdrowia'!O30","v":0},{"$f":"'63-Narodowy Fundusz Zdrowia'!P30","v":0},{"$f":"'63-Narodowy Fundusz Zdrowia'!Q30","v":0},{"$f":"'63-Narodowy Fundusz Zdrowia'!R30","v":0},{"$f":"'63-Narodowy Fundusz Zdrowia'!C31","v":0},{"$f":"'63-Narodowy Fundusz Zdrowia'!D31","v":0},{"$f":"'63-Narodowy Fundusz Zdrowia'!E31","v":0},{"$f":"'63-Narodowy Fundusz Zdrowia'!F31","v":0},{"$f":"'63-Narodowy Fundusz Zdrowia'!G31","v":0},{"$f":"'63-Narodowy Fundusz Zdrowia'!H31","v":0},{"$f":"'63-Narodowy Fundusz Zdrowia'!I31","v":0},{"$f":"'63-Narodowy Fundusz Zdrowia'!J31","v":0},{"$f":"'63-Narodowy Fundusz Zdrowia'!K31","v":0},{"$f":"'63-Narodowy Fundusz Zdrowia'!L31","v":0},{"$f":"'63-Narodowy Fundusz Zdrowia'!M31","v":0},{"$f":"'63-Narodowy Fundusz Zdrowia'!N31","v":0},{"$f":"'63-Narodowy Fundusz Zdrowia'!O31","v":0},{"$f":"'63-Narodowy Fundusz Zdrowia'!P31","v":0},{"$f":"'63-Narodowy Fundusz Zdrowia'!Q31","v":0},{"$f":"'63-Narodowy Fundusz Zdrowia'!R31","v":0},{"$f":"'63-Narodowy Fundusz Zdrowia'!C32","v":0},{"$f":"'63-Narodowy Fundusz Zdrowia'!D32","v":0},{"$f":"'63-Narodowy Fundusz Zdrowia'!E32","v":0},{"$f":"'63-Narodowy Fundusz Zdrowia'!F32","v":0},{"$f":"'63-Narodowy Fundusz Zdrowia'!G32","v":0},{"$f":"'63-Narodowy Fundusz Zdrowia'!H32","v":0},{"$f":"'63-Narodowy Fundusz Zdrowia'!I32","v":0},{"$f":"'63-Narodowy Fundusz Zdrowia'!J32","v":0},{"$f":"'63-Narodowy Fundusz Zdrowia'!K32","v":0},{"$f":"'63-Narodowy Fundusz Zdrowia'!L32","v":0},{"$f":"'63-Narodowy Fundusz Zdrowia'!M32","v":0},{"$f":"'63-Narodowy Fundusz Zdrowia'!N32","v":0},{"$f":"'63-Narodowy Fundusz Zdrowia'!O32","v":0},{"$f":"'63-Narodowy Fundusz Zdrowia'!P32","v":0},{"$f":"'63-Narodowy Fundusz Zdrowia'!Q32","v":0},{"$f":"'63-Narodowy Fundusz Zdrowia'!R32","v":0},{"$f":"'63-Narodowy Fundusz Zdrowia'!C33","v":0},{"$f":"'63-Narodowy Fundusz Zdrowia'!D33","v":0},{"$f":"'63-Narodowy Fundusz Zdrowia'!E33","v":0},{"$f":"'63-Narodowy Fundusz Zdrowia'!F33","v":0},{"$f":"'63-Narodowy Fundusz Zdrowia'!G33","v":0},{"$f":"'63-Narodowy Fundusz Zdrowia'!H33","v":0},{"$f":"'63-Narodowy Fundusz Zdrowia'!I33","v":0},{"$f":"'63-Narodowy Fundusz Zdrowia'!J33","v":0},{"$f":"'63-Narodowy Fundusz Zdrowia'!K33","v":0},{"$f":"'63-Narodowy Fundusz Zdrowia'!L33","v":0},{"$f":"'63-Narodowy Fundusz Zdrowia'!M33","v":0},{"$f":"'63-Narodowy Fundusz Zdrowia'!N33","v":0},{"$f":"'63-Narodowy Fundusz Zdrowia'!O33","v":0},{"$f":"'63-Narodowy Fundusz Zdrowia'!P33","v":0},{"$f":"'63-Narodowy Fundusz Zdrowia'!Q33","v":0},{"$f":"'63-Narodowy Fundusz Zdrowia'!R33","v":0}]
[{"$f":"'71-ZUS'!A8","v":""},null,null,null,null,{"$f":"'71-ZUS'!L11","v":71},{"$f":"'71-ZUS'!K8","v":0},{"$f":"'71-ZUS'!H8","v":0},{"$f":"'71-ZUS'!M11","v":0},null,null,{"$f":"'71-ZUS'!C24","v":0},{"$f":"'71-ZUS'!D24","v":0},{"$f":"'71-ZUS'!E24","v":0},{"$f":"'71-ZUS'!F24","v":0},{"$f":"'71-ZUS'!G24","v":0},{"$f":"'71-ZUS'!H24","v":0},{"$f":"'71-ZUS'!I24","v":0},{"$f":"'71-ZUS'!J24","v":0},{"$f":"'71-ZUS'!K24","v":0},{"$f":"'71-ZUS'!L24","v":0},{"$f":"'71-ZUS'!M24","v":0},{"$f":"'71-ZUS'!N24","v":0},{"$f":"'71-ZUS'!O24","v":0},{"$f":"'71-ZUS'!P24","v":0},{"$f":"'71-ZUS'!Q24","v":0},{"$f":"'71-ZUS'!R24","v":0},{"$f":"'71-ZUS'!C25","v":0},{"$f":"'71-ZUS'!D25","v":0},{"$f":"'71-ZUS'!E25","v":0},{"$f":"'71-ZUS'!F25","v":0},{"$f":"'71-ZUS'!G25","v":0},{"$f":"'71-ZUS'!H25","v":0},{"$f":"'71-ZUS'!I25","v":0},{"$f":"'71-ZUS'!J25","v":0},{"$f":"'71-ZUS'!K25","v":0},{"$f":"'71-ZUS'!L25","v":0},{"$f":"'71-ZUS'!M25","v":0},{"$f":"'71-ZUS'!N25","v":0},{"$f":"'71-ZUS'!O25","v":0},{"$f":"'71-ZUS'!P25","v":0},{"$f":"'71-ZUS'!Q25","v":0},{"$f":"'71-ZUS'!R25","v":0},{"$f":"'71-ZUS'!C26","v":0},{"$f":"'71-ZUS'!D26","v":0},{"$f":"'71-ZUS'!E26","v":0},{"$f":"'71-ZUS'!F26","v":0},{"$f":"'71-ZUS'!G26","v":0},{"$f":"'71-ZUS'!H26","v":0},{"$f":"'71-ZUS'!I26","v":0},{"$f":"'71-ZUS'!J26","v":0},{"$f":"'71-ZUS'!K26","v":0},{"$f":"'71-ZUS'!L26","v":0},{"$f":"'71-ZUS'!M26","v":0},{"$f":"'71-ZUS'!N26","v":0},{"$f":"'71-ZUS'!O26","v":0},{"$f":"'71-ZUS'!P26","v":0},{"$f":"'71-ZUS'!Q26","v":0},{"$f":"'71-ZUS'!R26","v":0},{"$f":"'71-ZUS'!C27","v":0},{"$f":"'71-ZUS'!D27","v":0},{"$f":"'71-ZUS'!E27","v":0},{"$f":"'71-ZUS'!F27","v":0},{"$f":"'71-ZUS'!G27","v":0},{"$f":"'71-ZUS'!H27","v":0},{"$f":"'71-ZUS'!I27","v":0},{"$f":"'71-ZUS'!J27","v":0},{"$f":"'71-ZUS'!K27","v":0},{"$f":"'71-ZUS'!L27","v":0},{"$f":"'71-ZUS'!M27","v":0},{"$f":"'71-ZUS'!N27","v":0},{"$f":"'71-ZUS'!O27","v":0},{"$f":"'71-ZUS'!P27","v":0},{"$f":"'71-ZUS'!Q27","v":0},{"$f":"'71-ZUS'!R27","v":0},{"$f":"'71-ZUS'!C28","v":0},{"$f":"'71-ZUS'!D28","v":0},{"$f":"'71-ZUS'!E28","v":0},{"$f":"'71-ZUS'!F28","v":0},{"$f":"'71-ZUS'!G28","v":0},{"$f":"'71-ZUS'!H28","v":0},{"$f":"'71-ZUS'!I28","v":0},{"$f":"'71-ZUS'!J28","v":0},{"$f":"'71-ZUS'!K28","v":0},{"$f":"'71-ZUS'!L28","v":0},{"$f":"'71-ZUS'!M28","v":0},{"$f":"'71-ZUS'!N28","v":0},{"$f":"'71-ZUS'!O28","v":0},{"$f":"'71-ZUS'!P28","v":0},{"$f":"'71-ZUS'!Q28","v":0},{"$f":"'71-ZUS'!R28","v":0},{"$f":"'71-ZUS'!C29","v":0},{"$f":"'71-ZUS'!D29","v":0},{"$f":"'71-ZUS'!E29","v":0},{"$f":"'71-ZUS'!F29","v":0},{"$f":"'71-ZUS'!G29","v":0},{"$f":"'71-ZUS'!H29","v":0},{"$f":"'71-ZUS'!I29","v":0},{"$f":"'71-ZUS'!J29","v":0},{"$f":"'71-ZUS'!K29","v":0},{"$f":"'71-ZUS'!L29","v":0},{"$f":"'71-ZUS'!M29","v":0},{"$f":"'71-ZUS'!N29","v":0},{"$f":"'71-ZUS'!O29","v":0},{"$f":"'71-ZUS'!P29","v":0},{"$f":"'71-ZUS'!Q29","v":0},{"$f":"'71-ZUS'!R29","v":0},{"$f":"'71-ZUS'!C30","v":0},{"$f":"'71-ZUS'!D30","v":0},{"$f":"'71-ZUS'!E30","v":0},{"$f":"'71-ZUS'!F30","v":0},{"$f":"'71-ZUS'!G30","v":0},{"$f":"'71-ZUS'!H30","v":0},{"$f":"'71-ZUS'!I30","v":0},{"$f":"'71-ZUS'!J30","v":0},{"$f":"'71-ZUS'!K30","v":0},{"$f":"'71-ZUS'!L30","v":0},{"$f":"'71-ZUS'!M30","v":0},{"$f":"'71-ZUS'!N30","v":0},{"$f":"'71-ZUS'!O30","v":0},{"$f":"'71-ZUS'!P30","v":0},{"$f":"'71-ZUS'!Q30","v":0},{"$f":"'71-ZUS'!R30","v":0},{"$f":"'71-ZUS'!C31","v":0},{"$f":"'71-ZUS'!D31","v":0},{"$f":"'71-ZUS'!E31","v":0},{"$f":"'71-ZUS'!F31","v":0},{"$f":"'71-ZUS'!G31","v":0},{"$f":"'71-ZUS'!H31","v":0},{"$f":"'71-ZUS'!I31","v":0},{"$f":"'71-ZUS'!J31","v":0},{"$f":"'71-ZUS'!K31","v":0},{"$f":"'71-ZUS'!L31","v":0},{"$f":"'71-ZUS'!M31","v":0},{"$f":"'71-ZUS'!N31","v":0},{"$f":"'71-ZUS'!O31","v":0},{"$f":"'71-ZUS'!P31","v":0},{"$f":"'71-ZUS'!Q31","v":0},{"$f":"'71-ZUS'!R31","v":0},{"$f":"'71-ZUS'!C32","v":0},{"$f":"'71-ZUS'!D32","v":0},{"$f":"'71-ZUS'!E32","v":0},{"$f":"'71-ZUS'!F32","v":0},{"$f":"'71-ZUS'!G32","v":0},{"$f":"'71-ZUS'!H32","v":0},{"$f":"'71-ZUS'!I32","v":0},{"$f":"'71-ZUS'!J32","v":0},{"$f":"'71-ZUS'!K32","v":0},{"$f":"'71-ZUS'!L32","v":0},{"$f":"'71-ZUS'!M32","v":0},{"$f":"'71-ZUS'!N32","v":0},{"$f":"'71-ZUS'!O32","v":0},{"$f":"'71-ZUS'!P32","v":0},{"$f":"'71-ZUS'!Q32","v":0},{"$f":"'71-ZUS'!R32","v":0},{"$f":"'71-ZUS'!C33","v":0},{"$f":"'71-ZUS'!D33","v":0},{"$f":"'71-ZUS'!E33","v":0},{"$f":"'71-ZUS'!F33","v":0},{"$f":"'71-ZUS'!G33","v":0},{"$f":"'71-ZUS'!H33","v":0},{"$f":"'71-ZUS'!I33","v":0},{"$f":"'71-ZUS'!J33","v":0},{"$f":"'71-ZUS'!K33","v":0},{"$f":"'71-ZUS'!L33","v":0},{"$f":"'71-ZUS'!M33","v":0},{"$f":"'71-ZUS'!N33","v":0},{"$f":"'71-ZUS'!O33","v":0},{"$f":"'71-ZUS'!P33","v":0},{"$f":"'71-ZUS'!Q33","v":0},{"$f":"'71-ZUS'!R33","v":0}]
[{"$f":"'72-fund.zarz.przez ZUS'!A8","v":""},null,null,null,null,{"$f":"'72-fund.zarz.przez ZUS'!L11","v":72},{"$f":"'72-fund.zarz.przez ZUS'!K8","v":0},{"$f":"'72-fund.zarz.przez ZUS'!H8","v":0},{"$f":"'72-fund.zarz.przez ZUS'!M11","v":0},null,null,{"$f":"'72-fund.zarz.przez ZUS'!C24","v":0},{"$f":"'72-fund.zarz.przez ZUS'!D24","v":0},{"$f":"'72-fund.zarz.przez ZUS'!E24","v":0},{"$f":"'72-fund.zarz.przez ZUS'!F24","v":0},{"$f":"'72-fund.zarz.przez ZUS'!G24","v":0},{"$f":"'72-fund.zarz.przez ZUS'!H24","v":0},{"$f":"'72-fund.zarz.przez ZUS'!I24","v":0},{"$f":"'72-fund.zarz.przez ZUS'!J24","v":0},{"$f":"'72-fund.zarz.przez ZUS'!K24","v":0},{"$f":"'72-fund.zarz.przez ZUS'!L24","v":0},{"$f":"'72-fund.zarz.przez ZUS'!M24","v":0},{"$f":"'72-fund.zarz.przez ZUS'!N24","v":0},{"$f":"'72-fund.zarz.przez ZUS'!O24","v":0},{"$f":"'72-fund.zarz.przez ZUS'!P24","v":0},{"$f":"'72-fund.zarz.przez ZUS'!Q24","v":0},{"$f":"'72-fund.zarz.przez ZUS'!R24","v":0},{"$f":"'72-fund.zarz.przez ZUS'!C25","v":0},{"$f":"'72-fund.zarz.przez ZUS'!D25","v":0},{"$f":"'72-fund.zarz.przez ZUS'!E25","v":0},{"$f":"'72-fund.zarz.przez ZUS'!F25","v":0},{"$f":"'72-fund.zarz.przez ZUS'!G25","v":0},{"$f":"'72-fund.zarz.przez ZUS'!H25","v":0},{"$f":"'72-fund.zarz.przez ZUS'!I25","v":0},{"$f":"'72-fund.zarz.przez ZUS'!J25","v":0},{"$f":"'72-fund.zarz.przez ZUS'!K25","v":0},{"$f":"'72-fund.zarz.przez ZUS'!L25","v":0},{"$f":"'72-fund.zarz.przez ZUS'!M25","v":0},{"$f":"'72-fund.zarz.przez ZUS'!N25","v":0},{"$f":"'72-fund.zarz.przez ZUS'!O25","v":0},{"$f":"'72-fund.zarz.przez ZUS'!P25","v":0},{"$f":"'72-fund.zarz.przez ZUS'!Q25","v":0},{"$f":"'72-fund.zarz.przez ZUS'!R25","v":0},{"$f":"'72-fund.zarz.przez ZUS'!C26","v":0},{"$f":"'72-fund.zarz.przez ZUS'!D26","v":0},{"$f":"'72-fund.zarz.przez ZUS'!E26","v":0},{"$f":"'72-fund.zarz.przez ZUS'!F26","v":0},{"$f":"'72-fund.zarz.przez ZUS'!G26","v":0},{"$f":"'72-fund.zarz.przez ZUS'!H26","v":0},{"$f":"'72-fund.zarz.przez ZUS'!I26","v":0},{"$f":"'72-fund.zarz.przez ZUS'!J26","v":0},{"$f":"'72-fund.zarz.przez ZUS'!K26","v":0},{"$f":"'72-fund.zarz.przez ZUS'!L26","v":0},{"$f":"'72-fund.zarz.przez ZUS'!M26","v":0},{"$f":"'72-fund.zarz.przez ZUS'!N26","v":0},{"$f":"'72-fund.zarz.przez ZUS'!O26","v":0},{"$f":"'72-fund.zarz.przez ZUS'!P26","v":0},{"$f":"'72-fund.zarz.przez ZUS'!Q26","v":0},{"$f":"'72-fund.zarz.przez ZUS'!R26","v":0},{"$f":"'72-fund.zarz.przez ZUS'!C27","v":0},{"$f":"'72-fund.zarz.przez ZUS'!D27","v":0},{"$f":"'72-fund.zarz.przez ZUS'!E27","v":0},{"$f":"'72-fund.zarz.przez ZUS'!F27","v":0},{"$f":"'72-fund.zarz.przez ZUS'!G27","v":0},{"$f":"'72-fund.zarz.przez ZUS'!H27","v":0},{"$f":"'72-fund.zarz.przez ZUS'!I27","v":0},{"$f":"'72-fund.zarz.przez ZUS'!J27","v":0},{"$f":"'72-fund.zarz.przez ZUS'!K27","v":0},{"$f":"'72-fund.zarz.przez ZUS'!L27","v":0},{"$f":"'72-fund.zarz.przez ZUS'!M27","v":0},{"$f":"'72-fund.zarz.przez ZUS'!N27","v":0},{"$f":"'72-fund.zarz.przez ZUS'!O27","v":0},{"$f":"'72-fund.zarz.przez ZUS'!P27","v":0},{"$f":"'72-fund.zarz.przez ZUS'!Q27","v":0},{"$f":"'72-fund.zarz.przez ZUS'!R27","v":0},{"$f":"'72-fund.zarz.przez ZUS'!C28","v":0},{"$f":"'72-fund.zarz.przez ZUS'!D28","v":0},{"$f":"'72-fund.zarz.przez ZUS'!E28","v":0},{"$f":"'72-fund.zarz.przez ZUS'!F28","v":0},{"$f":"'72-fund.zarz.przez ZUS'!G28","v":0},{"$f":"'72-fund.zarz.przez ZUS'!H28","v":0},{"$f":"'72-fund.zarz.przez ZUS'!I28","v":0},{"$f":"'72-fund.zarz.przez ZUS'!J28","v":0},{"$f":"'72-fund.zarz.przez ZUS'!K28","v":0},{"$f":"'72-fund.zarz.przez ZUS'!L28","v":0},{"$f":"'72-fund.zarz.przez ZUS'!M28","v":0},{"$f":"'72-fund.zarz.przez ZUS'!N28","v":0},{"$f":"'72-fund.zarz.przez ZUS'!O28","v":0},{"$f":"'72-fund.zarz.przez ZUS'!P28","v":0},{"$f":"'72-fund.zarz.przez ZUS'!Q28","v":0},{"$f":"'72-fund.zarz.przez ZUS'!R28","v":0},{"$f":"'72-fund.zarz.przez ZUS'!C29","v":0},{"$f":"'72-fund.zarz.przez ZUS'!D29","v":0},{"$f":"'72-fund.zarz.przez ZUS'!E29","v":0},{"$f":"'72-fund.zarz.przez ZUS'!F29","v":0},{"$f":"'72-fund.zarz.przez ZUS'!G29","v":0},{"$f":"'72-fund.zarz.przez ZUS'!H29","v":0},{"$f":"'72-fund.zarz.przez ZUS'!I29","v":0},{"$f":"'72-fund.zarz.przez ZUS'!J29","v":0},{"$f":"'72-fund.zarz.przez ZUS'!K29","v":0},{"$f":"'72-fund.zarz.przez ZUS'!L29","v":0},{"$f":"'72-fund.zarz.przez ZUS'!M29","v":0},{"$f":"'72-fund.zarz.przez ZUS'!N29","v":0},{"$f":"'72-fund.zarz.przez ZUS'!O29","v":0},{"$f":"'72-fund.zarz.przez ZUS'!P29","v":0},{"$f":"'72-fund.zarz.przez ZUS'!Q29","v":0},{"$f":"'72-fund.zarz.przez ZUS'!R29","v":0},{"$f":"'72-fund.zarz.przez ZUS'!C30","v":0},{"$f":"'72-fund.zarz.przez ZUS'!D30","v":0},{"$f":"'72-fund.zarz.przez ZUS'!E30","v":0},{"$f":"'72-fund.zarz.przez ZUS'!F30","v":0},{"$f":"'72-fund.zarz.przez ZUS'!G30","v":0},{"$f":"'72-fund.zarz.przez ZUS'!H30","v":0},{"$f":"'72-fund.zarz.przez ZUS'!I30","v":0},{"$f":"'72-fund.zarz.przez ZUS'!J30","v":0},{"$f":"'72-fund.zarz.przez ZUS'!K30","v":0},{"$f":"'72-fund.zarz.przez ZUS'!L30","v":0},{"$f":"'72-fund.zarz.przez ZUS'!M30","v":0},{"$f":"'72-fund.zarz.przez ZUS'!N30","v":0},{"$f":"'72-fund.zarz.przez ZUS'!O30","v":0},{"$f":"'72-fund.zarz.przez ZUS'!P30","v":0},{"$f":"'72-fund.zarz.przez ZUS'!Q30","v":0},{"$f":"'72-fund.zarz.przez ZUS'!R30","v":0},{"$f":"'72-fund.zarz.przez ZUS'!C31","v":0},{"$f":"'72-fund.zarz.przez ZUS'!D31","v":0},{"$f":"'72-fund.zarz.przez ZUS'!E31","v":0},{"$f":"'72-fund.zarz.przez ZUS'!F31","v":0},{"$f":"'72-fund.zarz.przez ZUS'!G31","v":0},{"$f":"'72-fund.zarz.przez ZUS'!H31","v":0},{"$f":"'72-fund.zarz.przez ZUS'!I31","v":0},{"$f":"'72-fund.zarz.przez ZUS'!J31","v":0},{"$f":"'72-fund.zarz.przez ZUS'!K31","v":0},{"$f":"'72-fund.zarz.przez ZUS'!L31","v":0},{"$f":"'72-fund.zarz.przez ZUS'!M31","v":0},{"$f":"'72-fund.zarz.przez ZUS'!N31","v":0},{"$f":"'72-fund.zarz.przez ZUS'!O31","v":0},{"$f":"'72-fund.zarz.przez ZUS'!P31","v":0},{"$f":"'72-fund.zarz.przez ZUS'!Q31","v":0},{"$f":"'72-fund.zarz.przez ZUS'!R31","v":0},{"$f":"'72-fund.zarz.przez ZUS'!C32","v":0},{"$f":"'72-fund.zarz.przez ZUS'!D32","v":0},{"$f":"'72-fund.zarz.przez ZUS'!E32","v":0},{"$f":"'72-fund.zarz.przez ZUS'!F32","v":0},{"$f":"'72-fund.zarz.przez ZUS'!G32","v":0},{"$f":"'72-fund.zarz.przez ZUS'!H32","v":0},{"$f":"'72-fund.zarz.przez ZUS'!I32","v":0},{"$f":"'72-fund.zarz.przez ZUS'!J32","v":0},{"$f":"'72-fund.zarz.przez ZUS'!K32","v":0},{"$f":"'72-fund.zarz.przez ZUS'!L32","v":0},{"$f":"'72-fund.zarz.przez ZUS'!M32","v":0},{"$f":"'72-fund.zarz.przez ZUS'!N32","v":0},{"$f":"'72-fund.zarz.przez ZUS'!O32","v":0},{"$f":"'72-fund.zarz.przez ZUS'!P32","v":0},{"$f":"'72-fund.zarz.przez ZUS'!Q32","v":0},{"$f":"'72-fund.zarz.przez ZUS'!R32","v":0},{"$f":"'72-fund.zarz.przez ZUS'!C33","v":0},{"$f":"'72-fund.zarz.przez ZUS'!D33","v":0},{"$f":"'72-fund.zarz.przez ZUS'!E33","v":0},{"$f":"'72-fund.zarz.przez ZUS'!F33","v":0},{"$f":"'72-fund.zarz.przez ZUS'!G33","v":0},{"$f":"'72-fund.zarz.przez ZUS'!H33","v":0},{"$f":"'72-fund.zarz.przez ZUS'!I33","v":0},{"$f":"'72-fund.zarz.przez ZUS'!J33","v":0},{"$f":"'72-fund.zarz.przez ZUS'!K33","v":0},{"$f":"'72-fund.zarz.przez ZUS'!L33","v":0},{"$f":"'72-fund.zarz.przez ZUS'!M33","v":0},{"$f":"'72-fund.zarz.przez ZUS'!N33","v":0},{"$f":"'72-fund.zarz.przez ZUS'!O33","v":0},{"$f":"'72-fund.zarz.przez ZUS'!P33","v":0},{"$f":"'72-fund.zarz.przez ZUS'!Q33","v":0},{"$f":"'72-fund.zarz.przez ZUS'!R33","v":0}]
[{"$f":"'73-KRUS'!A8","v":""},null,null,null,null,{"$f":"'73-KRUS'!L11","v":73},{"$f":"'73-KRUS'!K8","v":0},{"$f":"'73-KRUS'!H8","v":0},{"$f":"'73-KRUS'!M11","v":0},null,null,{"$f":"'73-KRUS'!C24","v":0},{"$f":"'73-KRUS'!D24","v":0},{"$f":"'73-KRUS'!E24","v":0},{"$f":"'73-KRUS'!F24","v":0},{"$f":"'73-KRUS'!G24","v":0},{"$f":"'73-KRUS'!H24","v":0},{"$f":"'73-KRUS'!I24","v":0},{"$f":"'73-KRUS'!J24","v":0},{"$f":"'73-KRUS'!K24","v":0},{"$f":"'73-KRUS'!L24","v":0},{"$f":"'73-KRUS'!M24","v":0},{"$f":"'73-KRUS'!N24","v":0},{"$f":"'73-KRUS'!O24","v":0},{"$f":"'73-KRUS'!P24","v":0},{"$f":"'73-KRUS'!Q24","v":0},{"$f":"'73-KRUS'!R24","v":0},{"$f":"'73-KRUS'!C25","v":0},{"$f":"'73-KRUS'!D25","v":0},{"$f":"'73-KRUS'!E25","v":0},{"$f":"'73-KRUS'!F25","v":0},{"$f":"'73-KRUS'!G25","v":0},{"$f":"'73-KRUS'!H25","v":0},{"$f":"'73-KRUS'!I25","v":0},{"$f":"'73-KRUS'!J25","v":0},{"$f":"'73-KRUS'!K25","v":0},{"$f":"'73-KRUS'!L25","v":0},{"$f":"'73-KRUS'!M25","v":0},{"$f":"'73-KRUS'!N25","v":0},{"$f":"'73-KRUS'!O25","v":0},{"$f":"'73-KRUS'!P25","v":0},{"$f":"'73-KRUS'!Q25","v":0},{"$f":"'73-KRUS'!R25","v":0},{"$f":"'73-KRUS'!C26","v":0},{"$f":"'73-KRUS'!D26","v":0},{"$f":"'73-KRUS'!E26","v":0},{"$f":"'73-KRUS'!F26","v":0},{"$f":"'73-KRUS'!G26","v":0},{"$f":"'73-KRUS'!H26","v":0},{"$f":"'73-KRUS'!I26","v":0},{"$f":"'73-KRUS'!J26","v":0},{"$f":"'73-KRUS'!K26","v":0},{"$f":"'73-KRUS'!L26","v":0},{"$f":"'73-KRUS'!M26","v":0},{"$f":"'73-KRUS'!N26","v":0},{"$f":"'73-KRUS'!O26","v":0},{"$f":"'73-KRUS'!P26","v":0},{"$f":"'73-KRUS'!Q26","v":0},{"$f":"'73-KRUS'!R26","v":0},{"$f":"'73-KRUS'!C27","v":0},{"$f":"'73-KRUS'!D27","v":0},{"$f":"'73-KRUS'!E27","v":0},{"$f":"'73-KRUS'!F27","v":0},{"$f":"'73-KRUS'!G27","v":0},{"$f":"'73-KRUS'!H27","v":0},{"$f":"'73-KRUS'!I27","v":0},{"$f":"'73-KRUS'!J27","v":0},{"$f":"'73-KRUS'!K27","v":0},{"$f":"'73-KRUS'!L27","v":0},{"$f":"'73-KRUS'!M27","v":0},{"$f":"'73-KRUS'!N27","v":0},{"$f":"'73-KRUS'!O27","v":0},{"$f":"'73-KRUS'!P27","v":0},{"$f":"'73-KRUS'!Q27","v":0},{"$f":"'73-KRUS'!R27","v":0},{"$f":"'73-KRUS'!C28","v":0},{"$f":"'73-KRUS'!D28","v":0},{"$f":"'73-KRUS'!E28","v":0},{"$f":"'73-KRUS'!F28","v":0},{"$f":"'73-KRUS'!G28","v":0},{"$f":"'73-KRUS'!H28","v":0},{"$f":"'73-KRUS'!I28","v":0},{"$f":"'73-KRUS'!J28","v":0},{"$f":"'73-KRUS'!K28","v":0},{"$f":"'73-KRUS'!L28","v":0},{"$f":"'73-KRUS'!M28","v":0},{"$f":"'73-KRUS'!N28","v":0},{"$f":"'73-KRUS'!O28","v":0},{"$f":"'73-KRUS'!P28","v":0},{"$f":"'73-KRUS'!Q28","v":0},{"$f":"'73-KRUS'!R28","v":0},{"$f":"'73-KRUS'!C29","v":0},{"$f":"'73-KRUS'!D29","v":0},{"$f":"'73-KRUS'!E29","v":0},{"$f":"'73-KRUS'!F29","v":0},{"$f":"'73-KRUS'!G29","v":0},{"$f":"'73-KRUS'!H29","v":0},{"$f":"'73-KRUS'!I29","v":0},{"$f":"'73-KRUS'!J29","v":0},{"$f":"'73-KRUS'!K29","v":0},{"$f":"'73-KRUS'!L29","v":0},{"$f":"'73-KRUS'!M29","v":0},{"$f":"'73-KRUS'!N29","v":0},{"$f":"'73-KRUS'!O29","v":0},{"$f":"'73-KRUS'!P29","v":0},{"$f":"'73-KRUS'!Q29","v":0},{"$f":"'73-KRUS'!R29","v":0},{"$f":"'73-KRUS'!C30","v":0},{"$f":"'73-KRUS'!D30","v":0},{"$f":"'73-KRUS'!E30","v":0},{"$f":"'73-KRUS'!F30","v":0},{"$f":"'73-KRUS'!G30","v":0},{"$f":"'73-KRUS'!H30","v":0},{"$f":"'73-KRUS'!I30","v":0},{"$f":"'73-KRUS'!J30","v":0},{"$f":"'73-KRUS'!K30","v":0},{"$f":"'73-KRUS'!L30","v":0},{"$f":"'73-KRUS'!M30","v":0},{"$f":"'73-KRUS'!N30","v":0},{"$f":"'73-KRUS'!O30","v":0},{"$f":"'73-KRUS'!P30","v":0},{"$f":"'73-KRUS'!Q30","v":0},{"$f":"'73-KRUS'!R30","v":0},{"$f":"'73-KRUS'!C31","v":0},{"$f":"'73-KRUS'!D31","v":0},{"$f":"'73-KRUS'!E31","v":0},{"$f":"'73-KRUS'!F31","v":0},{"$f":"'73-KRUS'!G31","v":0},{"$f":"'73-KRUS'!H31","v":0},{"$f":"'73-KRUS'!I31","v":0},{"$f":"'73-KRUS'!J31","v":0},{"$f":"'73-KRUS'!K31","v":0},{"$f":"'73-KRUS'!L31","v":0},{"$f":"'73-KRUS'!M31","v":0},{"$f":"'73-KRUS'!N31","v":0},{"$f":"'73-KRUS'!O31","v":0},{"$f":"'73-KRUS'!P31","v":0},{"$f":"'73-KRUS'!Q31","v":0},{"$f":"'73-KRUS'!R31","v":0},{"$f":"'73-KRUS'!C32","v":0},{"$f":"'73-KRUS'!D32","v":0},{"$f":"'73-KRUS'!E32","v":0},{"$f":"'73-KRUS'!F32","v":0},{"$f":"'73-KRUS'!G32","v":0},{"$f":"'73-KRUS'!H32","v":0},{"$f":"'73-KRUS'!I32","v":0},{"$f":"'73-KRUS'!J32","v":0},{"$f":"'73-KRUS'!K32","v":0},{"$f":"'73-KRUS'!L32","v":0},{"$f":"'73-KRUS'!M32","v":0},{"$f":"'73-KRUS'!N32","v":0},{"$f":"'73-KRUS'!O32","v":0},{"$f":"'73-KRUS'!P32","v":0},{"$f":"'73-KRUS'!Q32","v":0},{"$f":"'73-KRUS'!R32","v":0},{"$f":"'73-KRUS'!C33","v":0},{"$f":"'73-KRUS'!D33","v":0},{"$f":"'73-KRUS'!E33","v":0},{"$f":"'73-KRUS'!F33","v":0},{"$f":"'73-KRUS'!G33","v":0},{"$f":"'73-KRUS'!H33","v":0},{"$f":"'73-KRUS'!I33","v":0},{"$f":"'73-KRUS'!J33","v":0},{"$f":"'73-KRUS'!K33","v":0},{"$f":"'73-KRUS'!L33","v":0},{"$f":"'73-KRUS'!M33","v":0},{"$f":"'73-KRUS'!N33","v":0},{"$f":"'73-KRUS'!O33","v":0},{"$f":"'73-KRUS'!P33","v":0},{"$f":"'73-KRUS'!Q33","v":0},{"$f":"'73-KRUS'!R33","v":0}]
[{"$f":"'81-państw.osoba prawna'!A8","v":""},null,null,null,null,{"$f":"'81-państw.osoba prawna'!L11","v":81},{"$f":"'81-państw.osoba prawna'!K8","v":0},{"$f":"'81-państw.osoba prawna'!H8","v":0},{"$f":"'81-państw.osoba prawna'!M11","v":0},null,null,{"$f":"'81-państw.osoba prawna'!C24","v":0},{"$f":"'81-państw.osoba prawna'!D24","v":0},{"$f":"'81-państw.osoba prawna'!E24","v":0},{"$f":"'81-państw.osoba prawna'!F24","v":0},{"$f":"'81-państw.osoba prawna'!G24","v":0},{"$f":"'81-państw.osoba prawna'!H24","v":0},{"$f":"'81-państw.osoba prawna'!I24","v":0},{"$f":"'81-państw.osoba prawna'!J24","v":0},{"$f":"'81-państw.osoba prawna'!K24","v":0},{"$f":"'81-państw.osoba prawna'!L24","v":0},{"$f":"'81-państw.osoba prawna'!M24","v":0},{"$f":"'81-państw.osoba prawna'!N24","v":0},{"$f":"'81-państw.osoba prawna'!O24","v":0},{"$f":"'81-państw.osoba prawna'!P24","v":0},{"$f":"'81-państw.osoba prawna'!Q24","v":0},{"$f":"'81-państw.osoba prawna'!R24","v":0},{"$f":"'81-państw.osoba prawna'!C25","v":0},{"$f":"'81-państw.osoba prawna'!D25","v":0},{"$f":"'81-państw.osoba prawna'!E25","v":0},{"$f":"'81-państw.osoba prawna'!F25","v":0},{"$f":"'81-państw.osoba prawna'!G25","v":0},{"$f":"'81-państw.osoba prawna'!H25","v":0},{"$f":"'81-państw.osoba prawna'!I25","v":0},{"$f":"'81-państw.osoba prawna'!J25","v":0},{"$f":"'81-państw.osoba prawna'!K25","v":0},{"$f":"'81-państw.osoba prawna'!L25","v":0},{"$f":"'81-państw.osoba prawna'!M25","v":0},{"$f":"'81-państw.osoba prawna'!N25","v":0},{"$f":"'81-państw.osoba prawna'!O25","v":0},{"$f":"'81-państw.osoba prawna'!P25","v":0},{"$f":"'81-państw.osoba prawna'!Q25","v":0},{"$f":"'81-państw.osoba prawna'!R25","v":0},{"$f":"'81-państw.osoba prawna'!C26","v":0},{"$f":"'81-państw.osoba prawna'!D26","v":0},{"$f":"'81-państw.osoba prawna'!E26","v":0},{"$f":"'81-państw.osoba prawna'!F26","v":0},{"$f":"'81-państw.osoba prawna'!G26","v":0},{"$f":"'81-państw.osoba prawna'!H26","v":0},{"$f":"'81-państw.osoba prawna'!I26","v":0},{"$f":"'81-państw.osoba prawna'!J26","v":0},{"$f":"'81-państw.osoba prawna'!K26","v":0},{"$f":"'81-państw.osoba prawna'!L26","v":0},{"$f":"'81-państw.osoba prawna'!M26","v":0},{"$f":"'81-państw.osoba prawna'!N26","v":0},{"$f":"'81-państw.osoba prawna'!O26","v":0},{"$f":"'81-państw.osoba prawna'!P26","v":0},{"$f":"'81-państw.osoba prawna'!Q26","v":0},{"$f":"'81-państw.osoba prawna'!R26","v":0},{"$f":"'81-państw.osoba prawna'!C27","v":0},{"$f":"'81-państw.osoba prawna'!D27","v":0},{"$f":"'81-państw.osoba prawna'!E27","v":0},{"$f":"'81-państw.osoba prawna'!F27","v":0},{"$f":"'81-państw.osoba prawna'!G27","v":0},{"$f":"'81-państw.osoba prawna'!H27","v":0},{"$f":"'81-państw.osoba prawna'!I27","v":0},{"$f":"'81-państw.osoba prawna'!J27","v":0},{"$f":"'81-państw.osoba prawna'!K27","v":0},{"$f":"'81-państw.osoba prawna'!L27","v":0},{"$f":"'81-państw.osoba prawna'!M27","v":0},{"$f":"'81-państw.osoba prawna'!N27","v":0},{"$f":"'81-państw.osoba prawna'!O27","v":0},{"$f":"'81-państw.osoba prawna'!P27","v":0},{"$f":"'81-państw.osoba prawna'!Q27","v":0},{"$f":"'81-państw.osoba prawna'!R27","v":0},{"$f":"'81-państw.osoba prawna'!C28","v":0},{"$f":"'81-państw.osoba prawna'!D28","v":0},{"$f":"'81-państw.osoba prawna'!E28","v":0},{"$f":"'81-państw.osoba prawna'!F28","v":0},{"$f":"'81-państw.osoba prawna'!G28","v":0},{"$f":"'81-państw.osoba prawna'!H28","v":0},{"$f":"'81-państw.osoba prawna'!I28","v":0},{"$f":"'81-państw.osoba prawna'!J28","v":0},{"$f":"'81-państw.osoba prawna'!K28","v":0},{"$f":"'81-państw.osoba prawna'!L28","v":0},{"$f":"'81-państw.osoba prawna'!M28","v":0},{"$f":"'81-państw.osoba prawna'!N28","v":0},{"$f":"'81-państw.osoba prawna'!O28","v":0},{"$f":"'81-państw.osoba prawna'!P28","v":0},{"$f":"'81-państw.osoba prawna'!Q28","v":0},{"$f":"'81-państw.osoba prawna'!R28","v":0},{"$f":"'81-państw.osoba prawna'!C29","v":0},{"$f":"'81-państw.osoba prawna'!D29","v":0},{"$f":"'81-państw.osoba prawna'!E29","v":0},{"$f":"'81-państw.osoba prawna'!F29","v":0},{"$f":"'81-państw.osoba prawna'!G29","v":0},{"$f":"'81-państw.osoba prawna'!H29","v":0},{"$f":"'81-państw.osoba prawna'!I29","v":0},{"$f":"'81-państw.osoba prawna'!J29","v":0},{"$f":"'81-państw.osoba prawna'!K29","v":0},{"$f":"'81-państw.osoba prawna'!L29","v":0},{"$f":"'81-państw.osoba prawna'!M29","v":0},{"$f":"'81-państw.osoba prawna'!N29","v":0},{"$f":"'81-państw.osoba prawna'!O29","v":0},{"$f":"'81-państw.osoba prawna'!P29","v":0},{"$f":"'81-państw.osoba prawna'!Q29","v":0},{"$f":"'81-państw.osoba prawna'!R29","v":0},{"$f":"'81-państw.osoba prawna'!C30","v":0},{"$f":"'81-państw.osoba prawna'!D30","v":0},{"$f":"'81-państw.osoba prawna'!E30","v":0},{"$f":"'81-państw.osoba prawna'!F30","v":0},{"$f":"'81-państw.osoba prawna'!G30","v":0},{"$f":"'81-państw.osoba prawna'!H30","v":0},{"$f":"'81-państw.osoba prawna'!I30","v":0},{"$f":"'81-państw.osoba prawna'!J30","v":0},{"$f":"'81-państw.osoba prawna'!K30","v":0},{"$f":"'81-państw.osoba prawna'!L30","v":0},{"$f":"'81-państw.osoba prawna'!M30","v":0},{"$f":"'81-państw.osoba prawna'!N30","v":0},{"$f":"'81-państw.osoba prawna'!O30","v":0},{"$f":"'81-państw.osoba prawna'!P30","v":0},{"$f":"'81-państw.osoba prawna'!Q30","v":0},{"$f":"'81-państw.osoba prawna'!R30","v":0},{"$f":"'81-państw.osoba prawna'!C31","v":0},{"$f":"'81-państw.osoba prawna'!D31","v":0},{"$f":"'81-państw.osoba prawna'!E31","v":0},{"$f":"'81-państw.osoba prawna'!F31","v":0},{"$f":"'81-państw.osoba prawna'!G31","v":0},{"$f":"'81-państw.osoba prawna'!H31","v":0},{"$f":"'81-państw.osoba prawna'!I31","v":0},{"$f":"'81-państw.osoba prawna'!J31","v":0},{"$f":"'81-państw.osoba prawna'!K31","v":0},{"$f":"'81-państw.osoba prawna'!L31","v":0},{"$f":"'81-państw.osoba prawna'!M31","v":0},{"$f":"'81-państw.osoba prawna'!N31","v":0},{"$f":"'81-państw.osoba prawna'!O31","v":0},{"$f":"'81-państw.osoba prawna'!P31","v":0},{"$f":"'81-państw.osoba prawna'!Q31","v":0},{"$f":"'81-państw.osoba prawna'!R31","v":0},{"$f":"'81-państw.osoba prawna'!C32","v":0},{"$f":"'81-państw.osoba prawna'!D32","v":0},{"$f":"'81-państw.osoba prawna'!E32","v":0},{"$f":"'81-państw.osoba prawna'!F32","v":0},{"$f":"'81-państw.osoba prawna'!G32","v":0},{"$f":"'81-państw.osoba prawna'!H32","v":0},{"$f":"'81-państw.osoba prawna'!I32","v":0},{"$f":"'81-państw.osoba prawna'!J32","v":0},{"$f":"'81-państw.osoba prawna'!K32","v":0},{"$f":"'81-państw.osoba prawna'!L32","v":0},{"$f":"'81-państw.osoba prawna'!M32","v":0},{"$f":"'81-państw.osoba prawna'!N32","v":0},{"$f":"'81-państw.osoba prawna'!O32","v":0},{"$f":"'81-państw.osoba prawna'!P32","v":0},{"$f":"'81-państw.osoba prawna'!Q32","v":0},{"$f":"'81-państw.osoba prawna'!R32","v":0},{"$f":"'81-państw.osoba prawna'!C33","v":0},{"$f":"'81-państw.osoba prawna'!D33","v":0},{"$f":"'81-państw.osoba prawna'!E33","v":0},{"$f":"'81-państw.osoba prawna'!F33","v":0},{"$f":"'81-państw.osoba prawna'!G33","v":0},{"$f":"'81-państw.osoba prawna'!H33","v":0},{"$f":"'81-państw.osoba prawna'!I33","v":0},{"$f":"'81-państw.osoba prawna'!J33","v":0},{"$f":"'81-państw.osoba prawna'!K33","v":0},{"$f":"'81-państw.osoba prawna'!L33","v":0},{"$f":"'81-państw.osoba prawna'!M33","v":0},{"$f":"'81-państw.osoba prawna'!N33","v":0},{"$f":"'81-państw.osoba prawna'!O33","v":0},{"$f":"'81-państw.osoba prawna'!P33","v":0},{"$f":"'81-państw.osoba prawna'!Q33","v":0},{"$f":"'81-państw.osoba prawna'!R33","v":0}]
[{"$f":"'82-samorz.osoba prawna'!A8","v":""},null,null,null,null,{"$f":"'82-samorz.osoba prawna'!L11","v":82},{"$f":"'82-samorz.osoba prawna'!K8","v":0},{"$f":"'82-samorz.osoba prawna'!H8","v":0},{"$f":"'82-samorz.osoba prawna'!M11","v":0},null,null,{"$f":"'82-samorz.osoba prawna'!C24","v":0},{"$f":"'82-samorz.osoba prawna'!D24","v":0},{"$f":"'82-samorz.osoba prawna'!E24","v":0},{"$f":"'82-samorz.osoba prawna'!F24","v":0},{"$f":"'82-samorz.osoba prawna'!G24","v":0},{"$f":"'82-samorz.osoba prawna'!H24","v":0},{"$f":"'82-samorz.osoba prawna'!I24","v":0},{"$f":"'82-samorz.osoba prawna'!J24","v":0},{"$f":"'82-samorz.osoba prawna'!K24","v":0},{"$f":"'82-samorz.osoba prawna'!L24","v":0},{"$f":"'82-samorz.osoba prawna'!M24","v":0},{"$f":"'82-samorz.osoba prawna'!N24","v":0},{"$f":"'82-samorz.osoba prawna'!O24","v":0},{"$f":"'82-samorz.osoba prawna'!P24","v":0},{"$f":"'82-samorz.osoba prawna'!Q24","v":0},{"$f":"'82-samorz.osoba prawna'!R24","v":0},{"$f":"'82-samorz.osoba prawna'!C25","v":0},{"$f":"'82-samorz.osoba prawna'!D25","v":0},{"$f":"'82-samorz.osoba prawna'!E25","v":0},{"$f":"'82-samorz.osoba prawna'!F25","v":0},{"$f":"'82-samorz.osoba prawna'!G25","v":0},{"$f":"'82-samorz.osoba prawna'!H25","v":0},{"$f":"'82-samorz.osoba prawna'!I25","v":0},{"$f":"'82-samorz.osoba prawna'!J25","v":0},{"$f":"'82-samorz.osoba prawna'!K25","v":0},{"$f":"'82-samorz.osoba prawna'!L25","v":0},{"$f":"'82-samorz.osoba prawna'!M25","v":0},{"$f":"'82-samorz.osoba prawna'!N25","v":0},{"$f":"'82-samorz.osoba prawna'!O25","v":0},{"$f":"'82-samorz.osoba prawna'!P25","v":0},{"$f":"'82-samorz.osoba prawna'!Q25","v":0},{"$f":"'82-samorz.osoba prawna'!R25","v":0},{"$f":"'82-samorz.osoba prawna'!C26","v":0},{"$f":"'82-samorz.osoba prawna'!D26","v":0},{"$f":"'82-samorz.osoba prawna'!E26","v":0},{"$f":"'82-samorz.osoba prawna'!F26","v":0},{"$f":"'82-samorz.osoba prawna'!G26","v":0},{"$f":"'82-samorz.osoba prawna'!H26","v":0},{"$f":"'82-samorz.osoba prawna'!I26","v":0},{"$f":"'82-samorz.osoba prawna'!J26","v":0},{"$f":"'82-samorz.osoba prawna'!K26","v":0},{"$f":"'82-samorz.osoba prawna'!L26","v":0},{"$f":"'82-samorz.osoba prawna'!M26","v":0},{"$f":"'82-samorz.osoba prawna'!N26","v":0},{"$f":"'82-samorz.osoba prawna'!O26","v":0},{"$f":"'82-samorz.osoba prawna'!P26","v":0},{"$f":"'82-samorz.osoba prawna'!Q26","v":0},{"$f":"'82-samorz.osoba prawna'!R26","v":0},{"$f":"'82-samorz.osoba prawna'!C27","v":0},{"$f":"'82-samorz.osoba prawna'!D27","v":0},{"$f":"'82-samorz.osoba prawna'!E27","v":0},{"$f":"'82-samorz.osoba prawna'!F27","v":0},{"$f":"'82-samorz.osoba prawna'!G27","v":0},{"$f":"'82-samorz.osoba prawna'!H27","v":0},{"$f":"'82-samorz.osoba prawna'!I27","v":0},{"$f":"'82-samorz.osoba prawna'!J27","v":0},{"$f":"'82-samorz.osoba prawna'!K27","v":0},{"$f":"'82-samorz.osoba prawna'!L27","v":0},{"$f":"'82-samorz.osoba prawna'!M27","v":0},{"$f":"'82-samorz.osoba prawna'!N27","v":0},{"$f":"'82-samorz.osoba prawna'!O27","v":0},{"$f":"'82-samorz.osoba prawna'!P27","v":0},{"$f":"'82-samorz.osoba prawna'!Q27","v":0},{"$f":"'82-samorz.osoba prawna'!R27","v":0},{"$f":"'82-samorz.osoba prawna'!C28","v":0},{"$f":"'82-samorz.osoba prawna'!D28","v":0},{"$f":"'82-samorz.osoba prawna'!E28","v":0},{"$f":"'82-samorz.osoba prawna'!F28","v":0},{"$f":"'82-samorz.osoba prawna'!G28","v":0},{"$f":"'82-samorz.osoba prawna'!H28","v":0},{"$f":"'82-samorz.osoba prawna'!I28","v":0},{"$f":"'82-samorz.osoba prawna'!J28","v":0},{"$f":"'82-samorz.osoba prawna'!K28","v":0},{"$f":"'82-samorz.osoba prawna'!L28","v":0},{"$f":"'82-samorz.osoba prawna'!M28","v":0},{"$f":"'82-samorz.osoba prawna'!N28","v":0},{"$f":"'82-samorz.osoba prawna'!O28","v":0},{"$f":"'82-samorz.osoba prawna'!P28","v":0},{"$f":"'82-samorz.osoba prawna'!Q28","v":0},{"$f":"'82-samorz.osoba prawna'!R28","v":0},{"$f":"'82-samorz.osoba prawna'!C29","v":0},{"$f":"'82-samorz.osoba prawna'!D29","v":0},{"$f":"'82-samorz.osoba prawna'!E29","v":0},{"$f":"'82-samorz.osoba prawna'!F29","v":0},{"$f":"'82-samorz.osoba prawna'!G29","v":0},{"$f":"'82-samorz.osoba prawna'!H29","v":0},{"$f":"'82-samorz.osoba prawna'!I29","v":0},{"$f":"'82-samorz.osoba prawna'!J29","v":0},{"$f":"'82-samorz.osoba prawna'!K29","v":0},{"$f":"'82-samorz.osoba prawna'!L29","v":0},{"$f":"'82-samorz.osoba prawna'!M29","v":0},{"$f":"'82-samorz.osoba prawna'!N29","v":0},{"$f":"'82-samorz.osoba prawna'!O29","v":0},{"$f":"'82-samorz.osoba prawna'!P29","v":0},{"$f":"'82-samorz.osoba prawna'!Q29","v":0},{"$f":"'82-samorz.osoba prawna'!R29","v":0},{"$f":"'82-samorz.osoba prawna'!C30","v":0},{"$f":"'82-samorz.osoba prawna'!D30","v":0},{"$f":"'82-samorz.osoba prawna'!E30","v":0},{"$f":"'82-samorz.osoba prawna'!F30","v":0},{"$f":"'82-samorz.osoba prawna'!G30","v":0},{"$f":"'82-samorz.osoba prawna'!H30","v":0},{"$f":"'82-samorz.osoba prawna'!I30","v":0},{"$f":"'82-samorz.osoba prawna'!J30","v":0},{"$f":"'82-samorz.osoba prawna'!K30","v":0},{"$f":"'82-samorz.osoba prawna'!L30","v":0},{"$f":"'82-samorz.osoba prawna'!M30","v":0},{"$f":"'82-samorz.osoba prawna'!N30","v":0},{"$f":"'82-samorz.osoba prawna'!O30","v":0},{"$f":"'82-samorz.osoba prawna'!P30","v":0},{"$f":"'82-samorz.osoba prawna'!Q30","v":0},{"$f":"'82-samorz.osoba prawna'!R30","v":0},{"$f":"'82-samorz.osoba prawna'!C31","v":0},{"$f":"'82-samorz.osoba prawna'!D31","v":0},{"$f":"'82-samorz.osoba prawna'!E31","v":0},{"$f":"'82-samorz.osoba prawna'!F31","v":0},{"$f":"'82-samorz.osoba prawna'!G31","v":0},{"$f":"'82-samorz.osoba prawna'!H31","v":0},{"$f":"'82-samorz.osoba prawna'!I31","v":0},{"$f":"'82-samorz.osoba prawna'!J31","v":0},{"$f":"'82-samorz.osoba prawna'!K31","v":0},{"$f":"'82-samorz.osoba prawna'!L31","v":0},{"$f":"'82-samorz.osoba prawna'!M31","v":0},{"$f":"'82-samorz.osoba prawna'!N31","v":0},{"$f":"'82-samorz.osoba prawna'!O31","v":0},{"$f":"'82-samorz.osoba prawna'!P31","v":0},{"$f":"'82-samorz.osoba prawna'!Q31","v":0},{"$f":"'82-samorz.osoba prawna'!R31","v":0},{"$f":"'82-samorz.osoba prawna'!C32","v":0},{"$f":"'82-samorz.osoba prawna'!D32","v":0},{"$f":"'82-samorz.osoba prawna'!E32","v":0},{"$f":"'82-samorz.osoba prawna'!F32","v":0},{"$f":"'82-samorz.osoba prawna'!G32","v":0},{"$f":"'82-samorz.osoba prawna'!H32","v":0},{"$f":"'82-samorz.osoba prawna'!I32","v":0},{"$f":"'82-samorz.osoba prawna'!J32","v":0},{"$f":"'82-samorz.osoba prawna'!K32","v":0},{"$f":"'82-samorz.osoba prawna'!L32","v":0},{"$f":"'82-samorz.osoba prawna'!M32","v":0},{"$f":"'82-samorz.osoba prawna'!N32","v":0},{"$f":"'82-samorz.osoba prawna'!O32","v":0},{"$f":"'82-samorz.osoba prawna'!P32","v":0},{"$f":"'82-samorz.osoba prawna'!Q32","v":0},{"$f":"'82-samorz.osoba prawna'!R32","v":0},{"$f":"'82-samorz.osoba prawna'!C33","v":0},{"$f":"'82-samorz.osoba prawna'!D33","v":0},{"$f":"'82-samorz.osoba prawna'!E33","v":0},{"$f":"'82-samorz.osoba prawna'!F33","v":0},{"$f":"'82-samorz.osoba prawna'!G33","v":0},{"$f":"'82-samorz.osoba prawna'!H33","v":0},{"$f":"'82-samorz.osoba prawna'!I33","v":0},{"$f":"'82-samorz.osoba prawna'!J33","v":0},{"$f":"'82-samorz.osoba prawna'!K33","v":0},{"$f":"'82-samorz.osoba prawna'!L33","v":0},{"$f":"'82-samorz.osoba prawna'!M33","v":0},{"$f":"'82-samorz.osoba prawna'!N33","v":0},{"$f":"'82-samorz.osoba prawna'!O33","v":0},{"$f":"'82-samorz.osoba prawna'!P33","v":0},{"$f":"'82-samorz.osoba prawna'!Q33","v":0},{"$f":"'82-samorz.osoba prawna'!R33","v":0}]
[{"$f":"'90-agencja wykonawcza'!A8","v":""},null,null,null,null,{"$f":"'90-agencja wykonawcza'!L11","v":90},{"$f":"'90-agencja wykonawcza'!K8","v":0},{"$f":"'90-agencja wykonawcza'!H8","v":0},{"$f":"'90-agencja wykonawcza'!M11","v":0},null,null,{"$f":"'90-agencja wykonawcza'!C24","v":0},{"$f":"'90-agencja wykonawcza'!D24","v":0},{"$f":"'90-agencja wykonawcza'!E24","v":0},{"$f":"'90-agencja wykonawcza'!F24","v":0},{"$f":"'90-agencja wykonawcza'!G24","v":0},{"$f":"'90-agencja wykonawcza'!H24","v":0},{"$f":"'90-agencja wykonawcza'!I24","v":0},{"$f":"'90-agencja wykonawcza'!J24","v":0},{"$f":"'90-agencja wykonawcza'!K24","v":0},{"$f":"'90-agencja wykonawcza'!L24","v":0},{"$f":"'90-agencja wykonawcza'!M24","v":0},{"$f":"'90-agencja wykonawcza'!N24","v":0},{"$f":"'90-agencja wykonawcza'!O24","v":0},{"$f":"'90-agencja wykonawcza'!P24","v":0},{"$f":"'90-agencja wykonawcza'!Q24","v":0},{"$f":"'90-agencja wykonawcza'!R24","v":0},{"$f":"'90-agencja wykonawcza'!C25","v":0},{"$f":"'90-agencja wykonawcza'!D25","v":0},{"$f":"'90-agencja wykonawcza'!E25","v":0},{"$f":"'90-agencja wykonawcza'!F25","v":0},{"$f":"'90-agencja wykonawcza'!G25","v":0},{"$f":"'90-agencja wykonawcza'!H25","v":0},{"$f":"'90-agencja wykonawcza'!I25","v":0},{"$f":"'90-agencja wykonawcza'!J25","v":0},{"$f":"'90-agencja wykonawcza'!K25","v":0},{"$f":"'90-agencja wykonawcza'!L25","v":0},{"$f":"'90-agencja wykonawcza'!M25","v":0},{"$f":"'90-agencja wykonawcza'!N25","v":0},{"$f":"'90-agencja wykonawcza'!O25","v":0},{"$f":"'90-agencja wykonawcza'!P25","v":0},{"$f":"'90-agencja wykonawcza'!Q25","v":0},{"$f":"'90-agencja wykonawcza'!R25","v":0},{"$f":"'90-agencja wykonawcza'!C26","v":0},{"$f":"'90-agencja wykonawcza'!D26","v":0},{"$f":"'90-agencja wykonawcza'!E26","v":0},{"$f":"'90-agencja wykonawcza'!F26","v":0},{"$f":"'90-agencja wykonawcza'!G26","v":0},{"$f":"'90-agencja wykonawcza'!H26","v":0},{"$f":"'90-agencja wykonawcza'!I26","v":0},{"$f":"'90-agencja wykonawcza'!J26","v":0},{"$f":"'90-agencja wykonawcza'!K26","v":0},{"$f":"'90-agencja wykonawcza'!L26","v":0},{"$f":"'90-agencja wykonawcza'!M26","v":0},{"$f":"'90-agencja wykonawcza'!N26","v":0},{"$f":"'90-agencja wykonawcza'!O26","v":0},{"$f":"'90-agencja wykonawcza'!P26","v":0},{"$f":"'90-agencja wykonawcza'!Q26","v":0},{"$f":"'90-agencja wykonawcza'!R26","v":0},{"$f":"'90-agencja wykonawcza'!C27","v":0},{"$f":"'90-agencja wykonawcza'!D27","v":0},{"$f":"'90-agencja wykonawcza'!E27","v":0},{"$f":"'90-agencja wykonawcza'!F27","v":0},{"$f":"'90-agencja wykonawcza'!G27","v":0},{"$f":"'90-agencja wykonawcza'!H27","v":0},{"$f":"'90-agencja wykonawcza'!I27","v":0},{"$f":"'90-agencja wykonawcza'!J27","v":0},{"$f":"'90-agencja wykonawcza'!K27","v":0},{"$f":"'90-agencja wykonawcza'!L27","v":0},{"$f":"'90-agencja wykonawcza'!M27","v":0},{"$f":"'90-agencja wykonawcza'!N27","v":0},{"$f":"'90-agencja wykonawcza'!O27","v":0},{"$f":"'90-agencja wykonawcza'!P27","v":0},{"$f":"'90-agencja wykonawcza'!Q27","v":0},{"$f":"'90-agencja wykonawcza'!R27","v":0},{"$f":"'90-agencja wykonawcza'!C28","v":0},{"$f":"'90-agencja wykonawcza'!D28","v":0},{"$f":"'90-agencja wykonawcza'!E28","v":0},{"$f":"'90-agencja wykonawcza'!F28","v":0},{"$f":"'90-agencja wykonawcza'!G28","v":0},{"$f":"'90-agencja wykonawcza'!H28","v":0},{"$f":"'90-agencja wykonawcza'!I28","v":0},{"$f":"'90-agencja wykonawcza'!J28","v":0},{"$f":"'90-agencja wykonawcza'!K28","v":0},{"$f":"'90-agencja wykonawcza'!L28","v":0},{"$f":"'90-agencja wykonawcza'!M28","v":0},{"$f":"'90-agencja wykonawcza'!N28","v":0},{"$f":"'90-agencja wykonawcza'!O28","v":0},{"$f":"'90-agencja wykonawcza'!P28","v":0},{"$f":"'90-agencja wykonawcza'!Q28","v":0},{"$f":"'90-agencja wykonawcza'!R28","v":0},{"$f":"'90-agencja wykonawcza'!C29","v":0},{"$f":"'90-agencja wykonawcza'!D29","v":0},{"$f":"'90-agencja wykonawcza'!E29","v":0},{"$f":"'90-agencja wykonawcza'!F29","v":0},{"$f":"'90-agencja wykonawcza'!G29","v":0},{"$f":"'90-agencja wykonawcza'!H29","v":0},{"$f":"'90-agencja wykonawcza'!I29","v":0},{"$f":"'90-agencja wykonawcza'!J29","v":0},{"$f":"'90-agencja wykonawcza'!K29","v":0},{"$f":"'90-agencja wykonawcza'!L29","v":0},{"$f":"'90-agencja wykonawcza'!M29","v":0},{"$f":"'90-agencja wykonawcza'!N29","v":0},{"$f":"'90-agencja wykonawcza'!O29","v":0},{"$f":"'90-agencja wykonawcza'!P29","v":0},{"$f":"'90-agencja wykonawcza'!Q29","v":0},{"$f":"'90-agencja wykonawcza'!R29","v":0},{"$f":"'90-agencja wykonawcza'!C30","v":0},{"$f":"'90-agencja wykonawcza'!D30","v":0},{"$f":"'90-agencja wykonawcza'!E30","v":0},{"$f":"'90-agencja wykonawcza'!F30","v":0},{"$f":"'90-agencja wykonawcza'!G30","v":0},{"$f":"'90-agencja wykonawcza'!H30","v":0},{"$f":"'90-agencja wykonawcza'!I30","v":0},{"$f":"'90-agencja wykonawcza'!J30","v":0},{"$f":"'90-agencja wykonawcza'!K30","v":0},{"$f":"'90-agencja wykonawcza'!L30","v":0},{"$f":"'90-agencja wykonawcza'!M30","v":0},{"$f":"'90-agencja wykonawcza'!N30","v":0},{"$f":"'90-agencja wykonawcza'!O30","v":0},{"$f":"'90-agencja wykonawcza'!P30","v":0},{"$f":"'90-agencja wykonawcza'!Q30","v":0},{"$f":"'90-agencja wykonawcza'!R30","v":0},{"$f":"'90-agencja wykonawcza'!C31","v":0},{"$f":"'90-agencja wykonawcza'!D31","v":0},{"$f":"'90-agencja wykonawcza'!E31","v":0},{"$f":"'90-agencja wykonawcza'!F31","v":0},{"$f":"'90-agencja wykonawcza'!G31","v":0},{"$f":"'90-agencja wykonawcza'!H31","v":0},{"$f":"'90-agencja wykonawcza'!I31","v":0},{"$f":"'90-agencja wykonawcza'!J31","v":0},{"$f":"'90-agencja wykonawcza'!K31","v":0},{"$f":"'90-agencja wykonawcza'!L31","v":0},{"$f":"'90-agencja wykonawcza'!M31","v":0},{"$f":"'90-agencja wykonawcza'!N31","v":0},{"$f":"'90-agencja wykonawcza'!O31","v":0},{"$f":"'90-agencja wykonawcza'!P31","v":0},{"$f":"'90-agencja wykonawcza'!Q31","v":0},{"$f":"'90-agencja wykonawcza'!R31","v":0},{"$f":"'90-agencja wykonawcza'!C32","v":0},{"$f":"'90-agencja wykonawcza'!D32","v":0},{"$f":"'90-agencja wykonawcza'!E32","v":0},{"$f":"'90-agencja wykonawcza'!F32","v":0},{"$f":"'90-agencja wykonawcza'!G32","v":0},{"$f":"'90-agencja wykonawcza'!H32","v":0},{"$f":"'90-agencja wykonawcza'!I32","v":0},{"$f":"'90-agencja wykonawcza'!J32","v":0},{"$f":"'90-agencja wykonawcza'!K32","v":0},{"$f":"'90-agencja wykonawcza'!L32","v":0},{"$f":"'90-agencja wykonawcza'!M32","v":0},{"$f":"'90-agencja wykonawcza'!N32","v":0},{"$f":"'90-agencja wykonawcza'!O32","v":0},{"$f":"'90-agencja wykonawcza'!P32","v":0},{"$f":"'90-agencja wykonawcza'!Q32","v":0},{"$f":"'90-agencja wykonawcza'!R32","v":0},{"$f":"'90-agencja wykonawcza'!C33","v":0},{"$f":"'90-agencja wykonawcza'!D33","v":0},{"$f":"'90-agencja wykonawcza'!E33","v":0},{"$f":"'90-agencja wykonawcza'!F33","v":0},{"$f":"'90-agencja wykonawcza'!G33","v":0},{"$f":"'90-agencja wykonawcza'!H33","v":0},{"$f":"'90-agencja wykonawcza'!I33","v":0},{"$f":"'90-agencja wykonawcza'!J33","v":0},{"$f":"'90-agencja wykonawcza'!K33","v":0},{"$f":"'90-agencja wykonawcza'!L33","v":0},{"$f":"'90-agencja wykonawcza'!M33","v":0},{"$f":"'90-agencja wykonawcza'!N33","v":0},{"$f":"'90-agencja wykonawcza'!O33","v":0},{"$f":"'90-agencja wykonawcza'!P33","v":0},{"$f":"'90-agencja wykonawcza'!Q33","v":0},{"$f":"'90-agencja wykonawcza'!R33","v":0}]
[{"$f":"'99-zbiorczo'!A8","v":"Brak regonu"},null,null,null,null,{"$f":"'99-zbiorczo'!L11","v":99},{"$f":"'99-zbiorczo'!K8","v":"Brak roku"},{"$f":"'99-zbiorczo'!H8","v":"Brak nr kwartału"},{"$f":"'99-zbiorczo'!M11","v":0},null,null,{"$f":"'99-zbiorczo'!C24","v":0},{"$f":"'99-zbiorczo'!D24","v":0},{"$f":"'99-zbiorczo'!E24","v":0},{"$f":"'99-zbiorczo'!F24","v":0},{"$f":"'99-zbiorczo'!G24","v":0},{"$f":"'99-zbiorczo'!H24","v":0},{"$f":"'99-zbiorczo'!I24","v":0},{"$f":"'99-zbiorczo'!J24","v":0},{"$f":"'99-zbiorczo'!K24","v":0},{"$f":"'99-zbiorczo'!L24","v":0},{"$f":"'99-zbiorczo'!M24","v":0},{"$f":"'99-zbiorczo'!N24","v":0},{"$f":"'99-zbiorczo'!O24","v":0},{"$f":"'99-zbiorczo'!P24","v":0},{"$f":"'99-zbiorczo'!Q24","v":0},{"$f":"'99-zbiorczo'!R24","v":0},{"$f":"'99-zbiorczo'!C25","v":0},{"$f":"'99-zbiorczo'!D25","v":0},{"$f":"'99-zbiorczo'!E25","v":0},{"$f":"'99-zbiorczo'!F25","v":0},{"$f":"'99-zbiorczo'!G25","v":0},{"$f":"'99-zbiorczo'!H25","v":0},{"$f":"'99-zbiorczo'!I25","v":0},{"$f":"'99-zbiorczo'!J25","v":0},{"$f":"'99-zbiorczo'!K25","v":0},{"$f":"'99-zbiorczo'!L25","v":0},{"$f":"'99-zbiorczo'!M25","v":0},{"$f":"'99-zbiorczo'!N25","v":0},{"$f":"'99-zbiorczo'!O25","v":0},{"$f":"'99-zbiorczo'!P25","v":0},{"$f":"'99-zbiorczo'!Q25","v":0},{"$f":"'99-zbiorczo'!R25","v":0},{"$f":"'99-zbiorczo'!C26","v":0},{"$f":"'99-zbiorczo'!D26","v":0},{"$f":"'99-zbiorczo'!E26","v":0},{"$f":"'99-zbiorczo'!F26","v":0},{"$f":"'99-zbiorczo'!G26","v":0},{"$f":"'99-zbiorczo'!H26","v":0},{"$f":"'99-zbiorczo'!I26","v":0},{"$f":"'99-zbiorczo'!J26","v":0},{"$f":"'99-zbiorczo'!K26","v":0},{"$f":"'99-zbiorczo'!L26","v":0},{"$f":"'99-zbiorczo'!M26","v":0},{"$f":"'99-zbiorczo'!N26","v":0},{"$f":"'99-zbiorczo'!O26","v":0},{"$f":"'99-zbiorczo'!P26","v":0},{"$f":"'99-zbiorczo'!Q26","v":0},{"$f":"'99-zbiorczo'!R26","v":0},{"$f":"'99-zbiorczo'!C27","v":0},{"$f":"'99-zbiorczo'!D27","v":0},{"$f":"'99-zbiorczo'!E27","v":0},{"$f":"'99-zbiorczo'!F27","v":0},{"$f":"'99-zbiorczo'!G27","v":0},{"$f":"'99-zbiorczo'!H27","v":0},{"$f":"'99-zbiorczo'!I27","v":0},{"$f":"'99-zbiorczo'!J27","v":0},{"$f":"'99-zbiorczo'!K27","v":0},{"$f":"'99-zbiorczo'!L27","v":0},{"$f":"'99-zbiorczo'!M27","v":0},{"$f":"'99-zbiorczo'!N27","v":0},{"$f":"'99-zbiorczo'!O27","v":0},{"$f":"'99-zbiorczo'!P27","v":0},{"$f":"'99-zbiorczo'!Q27","v":0},{"$f":"'99-zbiorczo'!R27","v":0},{"$f":"'99-zbiorczo'!C28","v":0},{"$f":"'99-zbiorczo'!D28","v":0},{"$f":"'99-zbiorczo'!E28","v":0},{"$f":"'99-zbiorczo'!F28","v":0},{"$f":"'99-zbiorczo'!G28","v":0},{"$f":"'99-zbiorczo'!H28","v":0},{"$f":"'99-zbiorczo'!I28","v":0},{"$f":"'99-zbiorczo'!J28","v":0},{"$f":"'99-zbiorczo'!K28","v":0},{"$f":"'99-zbiorczo'!L28","v":0},{"$f":"'99-zbiorczo'!M28","v":0},{"$f":"'99-zbiorczo'!N28","v":0},{"$f":"'99-zbiorczo'!O28","v":0},{"$f":"'99-zbiorczo'!P28","v":0},{"$f":"'99-zbiorczo'!Q28","v":0},{"$f":"'99-zbiorczo'!R28","v":0},{"$f":"'99-zbiorczo'!C29","v":0},{"$f":"'99-zbiorczo'!D29","v":0},{"$f":"'99-zbiorczo'!E29","v":0},{"$f":"'99-zbiorczo'!F29","v":0},{"$f":"'99-zbiorczo'!G29","v":0},{"$f":"'99-zbiorczo'!H29","v":0},{"$f":"'99-zbiorczo'!I29","v":0},{"$f":"'99-zbiorczo'!J29","v":0},{"$f":"'99-zbiorczo'!K29","v":0},{"$f":"'99-zbiorczo'!L29","v":0},{"$f":"'99-zbiorczo'!M29","v":0},{"$f":"'99-zbiorczo'!N29","v":0},{"$f":"'99-zbiorczo'!O29","v":0},{"$f":"'99-zbiorczo'!P29","v":0},{"$f":"'99-zbiorczo'!Q29","v":0},{"$f":"'99-zbiorczo'!R29","v":0},{"$f":"'99-zbiorczo'!C30","v":0},{"$f":"'99-zbiorczo'!D30","v":0},{"$f":"'99-zbiorczo'!E30","v":0},{"$f":"'99-zbiorczo'!F30","v":0},{"$f":"'99-zbiorczo'!G30","v":0},{"$f":"'99-zbiorczo'!H30","v":0},{"$f":"'99-zbiorczo'!I30","v":0},{"$f":"'99-zbiorczo'!J30","v":0},{"$f":"'99-zbiorczo'!K30","v":0},{"$f":"'99-zbiorczo'!L30","v":0},{"$f":"'99-zbiorczo'!M30","v":0},{"$f":"'99-zbiorczo'!N30","v":0},{"$f":"'99-zbiorczo'!O30","v":0},{"$f":"'99-zbiorczo'!P30","v":0},{"$f":"'99-zbiorczo'!Q30","v":0},{"$f":"'99-zbiorczo'!R30","v":0},{"$f":"'99-zbiorczo'!C31","v":0},{"$f":"'99-zbiorczo'!D31","v":0},{"$f":"'99-zbiorczo'!E31","v":0},{"$f":"'99-zbiorczo'!F31","v":0},{"$f":"'99-zbiorczo'!G31","v":0},{"$f":"'99-zbiorczo'!H31","v":0},{"$f":"'99-zbiorczo'!I31","v":0},{"$f":"'99-zbiorczo'!J31","v":0},{"$f":"'99-zbiorczo'!K31","v":0},{"$f":"'99-zbiorczo'!L31","v":0},{"$f":"'99-zbiorczo'!M31","v":0},{"$f":"'99-zbiorczo'!N31","v":0},{"$f":"'99-zbiorczo'!O31","v":0},{"$f":"'99-zbiorczo'!P31","v":0},{"$f":"'99-zbiorczo'!Q31","v":0},{"$f":"'99-zbiorczo'!R31","v":0},{"$f":"'99-zbiorczo'!C32","v":0},{"$f":"'99-zbiorczo'!D32","v":0},{"$f":"'99-zbiorczo'!E32","v":0},{"$f":"'99-zbiorczo'!F32","v":0},{"$f":"'99-zbiorczo'!G32","v":0},{"$f":"'99-zbiorczo'!H32","v":0},{"$f":"'99-zbiorczo'!I32","v":0},{"$f":"'99-zbiorczo'!J32","v":0},{"$f":"'99-zbiorczo'!K32","v":0},{"$f":"'99-zbiorczo'!L32","v":0},{"$f":"'99-zbiorczo'!M32","v":0},{"$f":"'99-zbiorczo'!N32","v":0},{"$f":"'99-zbiorczo'!O32","v":0},{"$f":"'99-zbiorczo'!P32","v":0},{"$f":"'99-zbiorczo'!Q32","v":0},{"$f":"'99-zbiorczo'!R32","v":0},{"$f":"'99-zbiorczo'!C33","v":0},{"$f":"'99-zbiorczo'!D33","v":0},{"$f":"'99-zbiorczo'!E33","v":0},{"$f":"'99-zbiorczo'!F33","v":0},{"$f":"'99-zbiorczo'!G33","v":0},{"$f":"'99-zbiorczo'!H33","v":0},{"$f":"'99-zbiorczo'!I33","v":0},{"$f":"'99-zbiorczo'!J33","v":0},{"$f":"'99-zbiorczo'!K33","v":0},{"$f":"'99-zbiorczo'!L33","v":0},{"$f":"'99-zbiorczo'!M33","v":0},{"$f":"'99-zbiorczo'!N33","v":0},{"$f":"'99-zbiorczo'!O33","v":0},{"$f":"'99-zbiorczo'!P33","v":0},{"$f":"'99-zbiorczo'!Q33","v":0},{"$f":"'99-zbiorczo'!R33","v":0}]

{"sheet":"RBNN2","index":18,"n_rows":17,"n_cols":123,"rows_kept":17,"cut":false,"hidden":true,"merged":[]}
["REGON","WK","PK","GK","GT","PT","ROK","KWARTAL","CZ_BU","DAT_SKW","UWAGI","N4002","N4003","N4004","N4005","N4006","N4007","N4008","N4009","N4010","N4011","N4012","N4013","N4014","N4015","N4016","N4017","N4102","N4103","N4104","N4105","N4106","N4107","N4108","N4109","N4110","N4111","N4112","N4113","N4114","N4115","N4116","N4117","N4202","N4203","N4204","N4205","N4206","N4207","N4208","N4209","N4210","N4211","N4212","N4213","N4214","N4215","N4216","N4217","N5002","N5003","N5004","N5005","N5006","N5007","N5008","N5009","N5010","N5011","N5012","N5013","N5014","N5015","N5016","N5017","N5102","N5103","N5104","N5105","N5106","N5107","N5108","N5109","N5110","N5111","N5112","N5113","N5114","N5115","N5116","N5117","N5202","N5203","N5204","N5205","N5206","N5207","N5208","N5209","N5210","N5211","N5212","N5213","N5214","N5215","N5216","N5217","N5302","N5303","N5304","N5305","N5306","N5307","N5308","N5309","N5310","N5311","N5312","N5313","N5314","N5315","N5316","N5317"]
[{"$f":"'11-państw.fund.cel.'!A8","v":""},null,null,null,null,{"$f":"'11-państw.fund.cel.'!L11","v":11},{"$f":"'11-państw.fund.cel.'!K8","v":0},{"$f":"'11-państw.fund.cel.'!H8","v":0},{"$f":"'11-państw.fund.cel.'!M11","v":0},null,null,{"$f":"'11-państw.fund.cel.'!C34","v":0},{"$f":"'11-państw.fund.cel.'!D34","v":0},{"$f":"'11-państw.fund.cel.'!E34","v":0},{"$f":"'11-państw.fund.cel.'!F34","v":0},{"$f":"'11-państw.fund.cel.'!G34","v":0},{"$f":"'11-państw.fund.cel.'!H34","v":0},{"$f":"'11-państw.fund.cel.'!I34","v":0},{"$f":"'11-państw.fund.cel.'!J34","v":0},{"$f":"'11-państw.fund.cel.'!K34","v":0},{"$f":"'11-państw.fund.cel.'!L34","v":0},{"$f":"'11-państw.fund.cel.'!M34","v":0},{"$f":"'11-państw.fund.cel.'!N34","v":0},{"$f":"'11-państw.fund.cel.'!O34","v":0},{"$f":"'11-państw.fund.cel.'!P34","v":0},{"$f":"'11-państw.fund.cel.'!Q34","v":0},{"$f":"'11-państw.fund.cel.'!R34","v":0},{"$f":"'11-państw.fund.cel.'!C35","v":0},{"$f":"'11-państw.fund.cel.'!D35","v":0},{"$f":"'11-państw.fund.cel.'!E35","v":0},{"$f":"'11-państw.fund.cel.'!F35","v":0},{"$f":"'11-państw.fund.cel.'!G35","v":0},{"$f":"'11-państw.fund.cel.'!H35","v":0},{"$f":"'11-państw.fund.cel.'!I35","v":0},{"$f":"'11-państw.fund.cel.'!J35","v":0},{"$f":"'11-państw.fund.cel.'!K35","v":0},{"$f":"'11-państw.fund.cel.'!L35","v":0},{"$f":"'11-państw.fund.cel.'!M35","v":0},{"$f":"'11-państw.fund.cel.'!N35","v":0},{"$f":"'11-państw.fund.cel.'!O35","v":0},{"$f":"'11-państw.fund.cel.'!P35","v":0},{"$f":"'11-państw.fund.cel.'!Q35","v":0},{"$f":"'11-państw.fund.cel.'!R35","v":0},{"$f":"'11-państw.fund.cel.'!C36","v":0},{"$f":"'11-państw.fund.cel.'!D36","v":0},{"$f":"'11-państw.fund.cel.'!E36","v":0},{"$f":"'11-państw.fund.cel.'!F36","v":0},{"$f":"'11-państw.fund.cel.'!G36","v":0},{"$f":"'11-państw.fund.cel.'!H36","v":0},{"$f":"'11-państw.fund.cel.'!I36","v":0},{"$f":"'11-państw.fund.cel.'!J36","v":0},{"$f":"'11-państw.fund.cel.'!K36","v":0},{"$f":"'11-państw.fund.cel.'!L36","v":0},{"$f":"'11-państw.fund.cel.'!M36","v":0},{"$f":"'11-państw.fund.cel.'!N36","v":0},{"$f":"'11-państw.fund.cel.'!O36","v":0},{"$f":"'11-państw.fund.cel.'!P36","v":0},{"$f":"'11-państw.fund.cel.'!Q36","v":0},{"$f":"'11-państw.fund.cel.'!R36","v":0},{"$f":"'11-państw.fund.cel.'!C37","v":0},{"$f":"'11-państw.fund.cel.'!D37","v":0},{"$f":"'11-państw.fund.cel.'!E37","v":0},{"$f":"'11-państw.fund.cel.'!F37","v":0},{"$f":"'11-państw.fund.cel.'!G37","v":0},{"$f":"'11-państw.fund.cel.'!H37","v":0},{"$f":"'11-państw.fund.cel.'!I37","v":0},{"$f":"'11-państw.fund.cel.'!J37","v":0},{"$f":"'11-państw.fund.cel.'!K37","v":0},{"$f":"'11-państw.fund.cel.'!L37","v":0},{"$f":"'11-państw.fund.cel.'!M37","v":0},{"$f":"'11-państw.fund.cel.'!N37","v":0},{"$f":"'11-państw.fund.cel.'!O37","v":0},{"$f":"'11-państw.fund.cel.'!P37","v":0},{"$f":"'11-państw.fund.cel.'!Q37","v":0},{"$f":"'11-państw.fund.cel.'!R37","v":0},{"$f":"'11-państw.fund.cel.'!C38","v":0},{"$f":"'11-państw.fund.cel.'!D38","v":0},{"$f":"'11-państw.fund.cel.'!E38","v":0},{"$f":"'11-państw.fund.cel.'!F38","v":0},{"$f":"'11-państw.fund.cel.'!G38","v":0},{"$f":"'11-państw.fund.cel.'!H38","v":0},{"$f":"'11-państw.fund.cel.'!I38","v":0},{"$f":"'11-państw.fund.cel.'!J38","v":0},{"$f":"'11-państw.fund.cel.'!K38","v":0},{"$f":"'11-państw.fund.cel.'!L38","v":0},{"$f":"'11-państw.fund.cel.'!M38","v":0},{"$f":"'11-państw.fund.cel.'!N38","v":0},{"$f":"'11-państw.fund.cel.'!O38","v":0},{"$f":"'11-państw.fund.cel.'!P38","v":0},{"$f":"'11-państw.fund.cel.'!Q38","v":0},{"$f":"'11-państw.fund.cel.'!R38","v":0},{"$f":"'11-państw.fund.cel.'!C39","v":0},{"$f":"'11-państw.fund.cel.'!D39","v":0},{"$f":"'11-państw.fund.cel.'!E39","v":0},{"$f":"'11-państw.fund.cel.'!F39","v":0},{"$f":"'11-państw.fund.cel.'!G39","v":0},{"$f":"'11-państw.fund.cel.'!H39","v":0},{"$f":"'11-państw.fund.cel.'!I39","v":0},{"$f":"'11-państw.fund.cel.'!J39","v":0},{"$f":"'11-państw.fund.cel.'!K39","v":0},{"$f":"'11-państw.fund.cel.'!L39","v":0},{"$f":"'11-państw.fund.cel.'!M39","v":0},{"$f":"'11-państw.fund.cel.'!N39","v":0},{"$f":"'11-państw.fund.cel.'!O39","v":0},{"$f":"'11-państw.fund.cel.'!P39","v":0},{"$f":"'11-państw.fund.cel.'!Q39","v":0},{"$f":"'11-państw.fund.cel.'!R39","v":0},{"$f":"'11-państw.fund.cel.'!C40","v":0},{"$f":"'11-państw.fund.cel.'!D40","v":0},{"$f":"'11-państw.fund.cel.'!E40","v":0},{"$f":"'11-państw.fund.cel.'!F40","v":0},{"$f":"'11-państw.fund.cel.'!G40","v":0},{"$f":"'11-państw.fund.cel.'!H40","v":0},{"$f":"'11-państw.fund.cel.'!I40","v":0},{"$f":"'11-państw.fund.cel.'!J40","v":0},{"$f":"'11-państw.fund.cel.'!K40","v":0},{"$f":"'11-państw.fund.cel.'!L40","v":0},{"$f":"'11-państw.fund.cel.'!M40","v":0},{"$f":"'11-państw.fund.cel.'!N40","v":0},{"$f":"'11-państw.fund.cel.'!O40","v":0},{"$f":"'11-państw.fund.cel.'!P40","v":0},{"$f":"'11-państw.fund.cel.'!Q40","v":0},{"$f":"'11-państw.fund.cel.'!R40","v":0}]
[{"$f":"'20-państw.szk.wyż.'!A8","v":""},null,null,null,null,{"$f":"'20-państw.szk.wyż.'!L11","v":20},{"$f":"'20-państw.szk.wyż.'!K8","v":0},{"$f":"'20-państw.szk.wyż.'!H8","v":0},{"$f":"'20-państw.szk.wyż.'!M11","v":0},null,null,{"$f":"'20-państw.szk.wyż.'!C34","v":0},{"$f":"'20-państw.szk.wyż.'!D34","v":0},{"$f":"'20-państw.szk.wyż.'!E34","v":0},{"$f":"'20-państw.szk.wyż.'!F34","v":0},{"$f":"'20-państw.szk.wyż.'!G34","v":0},{"$f":"'20-państw.szk.wyż.'!H34","v":0},{"$f":"'20-państw.szk.wyż.'!I34","v":0},{"$f":"'20-państw.szk.wyż.'!J34","v":0},{"$f":"'20-państw.szk.wyż.'!K34","v":0},{"$f":"'20-państw.szk.wyż.'!L34","v":0},{"$f":"'20-państw.szk.wyż.'!M34","v":0},{"$f":"'20-państw.szk.wyż.'!N34","v":0},{"$f":"'20-państw.szk.wyż.'!O34","v":0},{"$f":"'20-państw.szk.wyż.'!P34","v":0},{"$f":"'20-państw.szk.wyż.'!Q34","v":0},{"$f":"'20-państw.szk.wyż.'!R34","v":0},{"$f":"'20-państw.szk.wyż.'!C35","v":0},{"$f":"'20-państw.szk.wyż.'!D35","v":0},{"$f":"'20-państw.szk.wyż.'!E35","v":0},{"$f":"'20-państw.szk.wyż.'!F35","v":0},{"$f":"'20-państw.szk.wyż.'!G35","v":0},{"$f":"'20-państw.szk.wyż.'!H35","v":0},{"$f":"'20-państw.szk.wyż.'!I35","v":0},{"$f":"'20-państw.szk.wyż.'!J35","v":0},{"$f":"'20-państw.szk.wyż.'!K35","v":0},{"$f":"'20-państw.szk.wyż.'!L35","v":0},{"$f":"'20-państw.szk.wyż.'!M35","v":0},{"$f":"'20-państw.szk.wyż.'!N35","v":0},{"$f":"'20-państw.szk.wyż.'!O35","v":0},{"$f":"'20-państw.szk.wyż.'!P35","v":0},{"$f":"'20-państw.szk.wyż.'!Q35","v":0},{"$f":"'20-państw.szk.wyż.'!R35","v":0},{"$f":"'20-państw.szk.wyż.'!C36","v":0},{"$f":"'20-państw.szk.wyż.'!D36","v":0},{"$f":"'20-państw.szk.wyż.'!E36","v":0},{"$f":"'20-państw.szk.wyż.'!F36","v":0},{"$f":"'20-państw.szk.wyż.'!G36","v":0},{"$f":"'20-państw.szk.wyż.'!H36","v":0},{"$f":"'20-państw.szk.wyż.'!I36","v":0},{"$f":"'20-państw.szk.wyż.'!J36","v":0},{"$f":"'20-państw.szk.wyż.'!K36","v":0},{"$f":"'20-państw.szk.wyż.'!L36","v":0},{"$f":"'20-państw.szk.wyż.'!M36","v":0},{"$f":"'20-państw.szk.wyż.'!N36","v":0},{"$f":"'20-państw.szk.wyż.'!O36","v":0},{"$f":"'20-państw.szk.wyż.'!P36","v":0},{"$f":"'20-państw.szk.wyż.'!Q36","v":0},{"$f":"'20-państw.szk.wyż.'!R36","v":0},{"$f":"'20-państw.szk.wyż.'!C37","v":0},{"$f":"'20-państw.szk.wyż.'!D37","v":0},{"$f":"'20-państw.szk.wyż.'!E37","v":0},{"$f":"'20-państw.szk.wyż.'!F37","v":0},{"$f":"'20-państw.szk.wyż.'!G37","v":0},{"$f":"'20-państw.szk.wyż.'!H37","v":0},{"$f":"'20-państw.szk.wyż.'!I37","v":0},{"$f":"'20-państw.szk.wyż.'!J37","v":0},{"$f":"'20-państw.szk.wyż.'!K37","v":0},{"$f":"'20-państw.szk.wyż.'!L37","v":0},{"$f":"'20-państw.szk.wyż.'!M37","v":0},{"$f":"'20-państw.szk.wyż.'!N37","v":0},{"$f":"'20-państw.szk.wyż.'!O37","v":0},{"$f":"'20-państw.szk.wyż.'!P37","v":0},{"$f":"'20-państw.szk.wyż.'!Q37","v":0},{"$f":"'20-państw.szk.wyż.'!R37","v":0},{"$f":"'20-państw.szk.wyż.'!C38","v":0},{"$f":"'20-państw.szk.wyż.'!D38","v":0},{"$f":"'20-państw.szk.wyż.'!E38","v":0},{"$f":"'20-państw.szk.wyż.'!F38","v":0},{"$f":"'20-państw.szk.wyż.'!G38","v":0},{"$f":"'20-państw.szk.wyż.'!H38","v":0},{"$f":"'20-państw.szk.wyż.'!I38","v":0},{"$f":"'20-państw.szk.wyż.'!J38","v":0},{"$f":"'20-państw.szk.wyż.'!K38","v":0},{"$f":"'20-państw.szk.wyż.'!L38","v":0},{"$f":"'20-państw.szk.wyż.'!M38","v":0},{"$f":"'20-państw.szk.wyż.'!N38","v":0},{"$f":"'20-państw.szk.wyż.'!O38","v":0},{"$f":"'20-państw.szk.wyż.'!P38","v":0},{"$f":"'20-państw.szk.wyż.'!Q38","v":0},{"$f":"'20-państw.szk.wyż.'!R38","v":0},{"$f":"'20-państw.szk.wyż.'!C39","v":0},{"$f":"'20-państw.szk.wyż.'!D39","v":0},{"$f":"'20-państw.szk.wyż.'!E39","v":0},{"$f":"'20-państw.szk.wyż.'!F39","v":0},{"$f":"'20-państw.szk.wyż.'!G39","v":0},{"$f":"'20-państw.szk.wyż.'!H39","v":0},{"$f":"'20-państw.szk.wyż.'!I39","v":0},{"$f":"'20-państw.szk.wyż.'!J39","v":0},{"$f":"'20-państw.szk.wyż.'!K39","v":0},{"$f":"'20-państw.szk.wyż.'!L39","v":0},{"$f":"'20-państw.szk.wyż.'!M39","v":0},{"$f":"'20-państw.szk.wyż.'!N39","v":0},{"$f":"'20-państw.szk.wyż.'!O39","v":0},{"$f":"'20-państw.szk.wyż.'!P39","v":0},{"$f":"'20-państw.szk.wyż.'!Q39","v":0},{"$f":"'20-państw.szk.wyż.'!R39","v":0},{"$f":"'20-państw.szk.wyż.'!C40","v":0},{"$f":"'20-państw.szk.wyż.'!D40","v":0},{"$f":"'20-państw.szk.wyż.'!E40","v":0},{"$f":"'20-państw.szk.wyż.'!F40","v":0},{"$f":"'20-państw.szk.wyż.'!G40","v":0},{"$f":"'20-państw.szk.wyż.'!H40","v":0},{"$f":"'20-państw.szk.wyż.'!I40","v":0},{"$f":"'20-państw.szk.wyż.'!J40","v":0},{"$f":"'20-państw.szk.wyż.'!K40","v":0},{"$f":"'20-państw.szk.wyż.'!L40","v":0},{"$f":"'20-państw.szk.wyż.'!M40","v":0},{"$f":"'20-państw.szk.wyż.'!N40","v":0},{"$f":"'20-państw.szk.wyż.'!O40","v":0},{"$f":"'20-państw.szk.wyż.'!P40","v":0},{"$f":"'20-państw.szk.wyż.'!Q40","v":0},{"$f":"'20-państw.szk.wyż.'!R40","v":0}]
[{"$f":"'31-instytucje gosp budż'!A8","v":""},null,null,null,null,{"$f":"'31-instytucje gosp budż'!L11","v":31},{"$f":"'31-instytucje gosp budż'!K8","v":0},{"$f":"'31-instytucje gosp budż'!H8","v":0},{"$f":"'31-instytucje gosp budż'!M11","v":0},null,null,{"$f":"'31-instytucje gosp budż'!C34","v":0},{"$f":"'31-instytucje gosp budż'!D34","v":0},{"$f":"'31-instytucje gosp budż'!E34","v":0},{"$f":"'31-instytucje gosp budż'!F34","v":0},{"$f":"'31-instytucje gosp budż'!G34","v":0},{"$f":"'31-instytucje gosp budż'!H34","v":0},{"$f":"'31-instytucje gosp budż'!I34","v":0},{"$f":"'31-instytucje gosp budż'!J34","v":0},{"$f":"'31-instytucje gosp budż'!K34","v":0},{"$f":"'31-instytucje gosp budż'!L34","v":0},{"$f":"'31-instytucje gosp budż'!M34","v":0},{"$f":"'31-instytucje gosp budż'!N34","v":0},{"$f":"'31-instytucje gosp budż'!O34","v":0},{"$f":"'31-instytucje gosp budż'!P34","v":0},{"$f":"'31-instytucje gosp budż'!Q34","v":0},{"$f":"'31-instytucje gosp budż'!R34","v":0},{"$f":"'31-instytucje gosp budż'!C35","v":0},{"$f":"'31-instytucje gosp budż'!D35","v":0},{"$f":"'31-instytucje gosp budż'!E35","v":0},{"$f":"'31-instytucje gosp budż'!F35","v":0},{"$f":"'31-instytucje gosp budż'!G35","v":0},{"$f":"'31-instytucje gosp budż'!H35","v":0},{"$f":"'31-instytucje gosp budż'!I35","v":0},{"$f":"'31-instytucje gosp budż'!J35","v":0},{"$f":"'31-instytucje gosp budż'!K35","v":0},{"$f":"'31-instytucje gosp budż'!L35","v":0},{"$f":"'31-instytucje gosp budż'!M35","v":0},{"$f":"'31-instytucje gosp budż'!N35","v":0},{"$f":"'31-instytucje gosp budż'!O35","v":0},{"$f":"'31-instytucje gosp budż'!P35","v":0},{"$f":"'31-instytucje gosp budż'!Q35","v":0},{"$f":"'31-instytucje gosp budż'!R35","v":0},{"$f":"'31-instytucje gosp budż'!C36","v":0},{"$f":"'31-instytucje gosp budż'!D36","v":0},{"$f":"'31-instytucje gosp budż'!E36","v":0},{"$f":"'31-instytucje gosp budż'!F36","v":0},{"$f":"'31-instytucje gosp budż'!G36","v":0},{"$f":"'31-instytucje gosp budż'!H36","v":0},{"$f":"'31-instytucje gosp budż'!I36","v":0},{"$f":"'31-instytucje gosp budż'!J36","v":0},{"$f":"'31-instytucje gosp budż'!K36","v":0},{"$f":"'31-instytucje gosp budż'!L36","v":0},{"$f":"'31-instytucje gosp budż'!M36","v":0},{"$f":"'31-instytucje gosp budż'!N36","v":0},{"$f":"'31-instytucje gosp budż'!O36","v":0},{"$f":"'31-instytucje gosp budż'!P36","v":0},{"$f":"'31-instytucje gosp budż'!Q36","v":0},{"$f":"'31-instytucje gosp budż'!R36","v":0},{"$f":"'31-instytucje gosp budż'!C37","v":0},{"$f":"'31-instytucje gosp budż'!D37","v":0},{"$f":"'31-instytucje gosp budż'!E37","v":0},{"$f":"'31-instytucje gosp budż'!F37","v":0},{"$f":"'31-instytucje gosp budż'!G37","v":0},{"$f":"'31-instytucje gosp budż'!H37","v":0},{"$f":"'31-instytucje gosp budż'!I37","v":0},{"$f":"'31-instytucje gosp budż'!J37","v":0},{"$f":"'31-instytucje gosp budż'!K37","v":0},{"$f":"'31-instytucje gosp budż'!L37","v":0},{"$f":"'31-instytucje gosp budż'!M37","v":0},{"$f":"'31-instytucje gosp budż'!N37","v":0},{"$f":"'31-instytucje gosp budż'!O37","v":0},{"$f":"'31-instytucje gosp budż'!P37","v":0},{"$f":"'31-instytucje gosp budż'!Q37","v":0},{"$f":"'31-instytucje gosp budż'!R37","v":0},{"$f":"'31-instytucje gosp budż'!C38","v":0},{"$f":"'31-instytucje gosp budż'!D38","v":0},{"$f":"'31-instytucje gosp budż'!E38","v":0},{"$f":"'31-instytucje gosp budż'!F38","v":0},{"$f":"'31-instytucje gosp budż'!G38","v":0},{"$f":"'31-instytucje gosp budż'!H38","v":0},{"$f":"'31-instytucje gosp budż'!I38","v":0},{"$f":"'31-instytucje gosp budż'!J38","v":0},{"$f":"'31-instytucje gosp budż'!K38","v":0},{"$f":"'31-instytucje gosp budż'!L38","v":0},{"$f":"'31-instytucje gosp budż'!M38","v":0},{"$f":"'31-instytucje gosp budż'!N38","v":0},{"$f":"'31-instytucje gosp budż'!O38","v":0},{"$f":"'31-instytucje gosp budż'!P38","v":0},{"$f":"'31-instytucje gosp budż'!Q38","v":0},{"$f":"'31-instytucje gosp budż'!R38","v":0},{"$f":"'31-instytucje gosp budż'!C39","v":0},{"$f":"'31-instytucje gosp budż'!D39","v":0},{"$f":"'31-instytucje gosp budż'!E39","v":0},{"$f":"'31-instytucje gosp budż'!F39","v":0},{"$f":"'31-instytucje gosp budż'!G39","v":0},{"$f":"'31-instytucje gosp budż'!H39","v":0},{"$f":"'31-instytucje gosp budż'!I39","v":0},{"$f":"'31-instytucje gosp budż'!J39","v":0},{"$f":"'31-instytucje gosp budż'!K39","v":0},{"$f":"'31-instytucje gosp budż'!L39","v":0},{"$f":"'31-instytucje gosp budż'!M39","v":0},{"$f":"'31-instytucje gosp budż'!N39","v":0},{"$f":"'31-instytucje gosp budż'!O39","v":0},{"$f":"'31-instytucje gosp budż'!P39","v":0},{"$f":"'31-instytucje gosp budż'!Q39","v":0},{"$f":"'31-instytucje gosp budż'!R39","v":0},{"$f":"'31-instytucje gosp budż'!C40","v":0},{"$f":"'31-instytucje gosp budż'!D40","v":0},{"$f":"'31-instytucje gosp budż'!E40","v":0},{"$f":"'31-instytucje gosp budż'!F40","v":0},{"$f":"'31-instytucje gosp budż'!G40","v":0},{"$f":"'31-instytucje gosp budż'!H40","v":0},{"$f":"'31-instytucje gosp budż'!I40","v":0},{"$f":"'31-instytucje gosp budż'!J40","v":0},{"$f":"'31-instytucje gosp budż'!K40","v":0},{"$f":"'31-instytucje gosp budż'!L40","v":0},{"$f":"'31-instytucje gosp budż'!M40","v":0},{"$f":"'31-instytucje gosp budż'!N40","v":0},{"$f":"'31-instytucje gosp budż'!O40","v":0},{"$f":"'31-instytucje gosp budż'!P40","v":0},{"$f":"'31-instytucje gosp budż'!Q40","v":0},{"$f":"'31-instytucje gosp budż'!R40","v":0}]
[{"$f":"'41-państw.inst.kult.'!A8","v":""},null,null,null,null,{"$f":"'41-państw.inst.kult.'!L11","v":41},{"$f":"'41-państw.inst.kult.'!K8","v":0},{"$f":"'41-państw.inst.kult.'!H8","v":0},{"$f":"'41-państw.inst.kult.'!M11","v":0},null,null,{"$f":"'41-państw.inst.kult.'!C34","v":0},{"$f":"'41-państw.inst.kult.'!D34","v":0},{"$f":"'41-państw.inst.kult.'!E34","v":0},{"$f":"'41-państw.inst.kult.'!F34","v":0},{"$f":"'41-państw.inst.kult.'!G34","v":0},{"$f":"'41-państw.inst.kult.'!H34","v":0},{"$f":"'41-państw.inst.kult.'!I34","v":0},{"$f":"'41-państw.inst.kult.'!J34","v":0},{"$f":"'41-państw.inst.kult.'!K34","v":0},{"$f":"'41-państw.inst.kult.'!L34","v":0},{"$f":"'41-państw.inst.kult.'!M34","v":0},{"$f":"'41-państw.inst.kult.'!N34","v":0},{"$f":"'41-państw.inst.kult.'!O34","v":0},{"$f":"'41-państw.inst.kult.'!P34","v":0},{"$f":"'41-państw.inst.kult.'!Q34","v":0},{"$f":"'41-państw.inst.kult.'!R34","v":0},{"$f":"'41-państw.inst.kult.'!C35","v":0},{"$f":"'41-państw.inst.kult.'!D35","v":0},{"$f":"'41-państw.inst.kult.'!E35","v":0},{"$f":"'41-państw.inst.kult.'!F35","v":0},{"$f":"'41-państw.inst.kult.'!G35","v":0},{"$f":"'41-państw.inst.kult.'!H35","v":0},{"$f":"'41-państw.inst.kult.'!I35","v":0},{"$f":"'41-państw.inst.kult.'!J35","v":0},{"$f":"'41-państw.inst.kult.'!K35","v":0},{"$f":"'41-państw.inst.kult.'!L35","v":0},{"$f":"'41-państw.inst.kult.'!M35","v":0},{"$f":"'41-państw.inst.kult.'!N35","v":0},{"$f":"'41-państw.inst.kult.'!O35","v":0},{"$f":"'41-państw.inst.kult.'!P35","v":0},{"$f":"'41-państw.inst.kult.'!Q35","v":0},{"$f":"'41-państw.inst.kult.'!R35","v":0},{"$f":"'41-państw.inst.kult.'!C36","v":0},{"$f":"'41-państw.inst.kult.'!D36","v":0},{"$f":"'41-państw.inst.kult.'!E36","v":0},{"$f":"'41-państw.inst.kult.'!F36","v":0},{"$f":"'41-państw.inst.kult.'!G36","v":0},{"$f":"'41-państw.inst.kult.'!H36","v":0},{"$f":"'41-państw.inst.kult.'!I36","v":0},{"$f":"'41-państw.inst.kult.'!J36","v":0},{"$f":"'41-państw.inst.kult.'!K36","v":0},{"$f":"'41-państw.inst.kult.'!L36","v":0},{"$f":"'41-państw.inst.kult.'!M36","v":0},{"$f":"'41-państw.inst.kult.'!N36","v":0},{"$f":"'41-państw.inst.kult.'!O36","v":0},{"$f":"'41-państw.inst.kult.'!P36","v":0},{"$f":"'41-państw.inst.kult.'!Q36","v":0},{"$f":"'41-państw.inst.kult.'!R36","v":0},{"$f":"'41-państw.inst.kult.'!C37","v":0},{"$f":"'41-państw.inst.kult.'!D37","v":0},{"$f":"'41-państw.inst.kult.'!E37","v":0},{"$f":"'41-państw.inst.kult.'!F37","v":0},{"$f":"'41-państw.inst.kult.'!G37","v":0},{"$f":"'41-państw.inst.kult.'!H37","v":0},{"$f":"'41-państw.inst.kult.'!I37","v":0},{"$f":"'41-państw.inst.kult.'!J37","v":0},{"$f":"'41-państw.inst.kult.'!K37","v":0},{"$f":"'41-państw.inst.kult.'!L37","v":0},{"$f":"'41-państw.inst.kult.'!M37","v":0},{"$f":"'41-państw.inst.kult.'!N37","v":0},{"$f":"'41-państw.inst.kult.'!O37","v":0},{"$f":"'41-państw.inst.kult.'!P37","v":0},{"$f":"'41-państw.inst.kult.'!Q37","v":0},{"$f":"'41-państw.inst.kult.'!R37","v":0},{"$f":"'41-państw.inst.kult.'!C38","v":0},{"$f":"'41-państw.inst.kult.'!D38","v":0},{"$f":"'41-państw.inst.kult.'!E38","v":0},{"$f":"'41-państw.inst.kult.'!F38","v":0},{"$f":"'41-państw.inst.kult.'!G38","v":0},{"$f":"'41-państw.inst.kult.'!H38","v":0},{"$f":"'41-państw.inst.kult.'!I38","v":0},{"$f":"'41-państw.inst.kult.'!J38","v":0},{"$f":"'41-państw.inst.kult.'!K38","v":0},{"$f":"'41-państw.inst.kult.'!L38","v":0},{"$f":"'41-państw.inst.kult.'!M38","v":0},{"$f":"'41-państw.inst.kult.'!N38","v":0},{"$f":"'41-państw.inst.kult.'!O38","v":0},{"$f":"'41-państw.inst.kult.'!P38","v":0},{"$f":"'41-państw.inst.kult.'!Q38","v":0},{"$f":"'41-państw.inst.kult.'!R38","v":0},{"$f":"'41-państw.inst.kult.'!C39","v":0},{"$f":"'41-państw.inst.kult.'!D39","v":0},{"$f":"'41-państw.inst.kult.'!E39","v":0},{"$f":"'41-państw.inst.kult.'!F39","v":0},{"$f":"'41-państw.inst.kult.'!G39","v":0},{"$f":"'41-państw.inst.kult.'!H39","v":0},{"$f":"'41-państw.inst.kult.'!I39","v":0},{"$f":"'41-państw.inst.kult.'!J39","v":0},{"$f":"'41-państw.inst.kult.'!K39","v":0},{"$f":"'41-państw.inst.kult.'!L39","v":0},{"$f":"'41-państw.inst.kult.'!M39","v":0},{"$f":"'41-państw.inst.kult.'!N39","v":0},{"$f":"'41-państw.inst.kult.'!O39","v":0},{"$f":"'41-państw.inst.kult.'!P39","v":0},{"$f":"'41-państw.inst.kult.'!Q39","v":0},{"$f":"'41-państw.inst.kult.'!R39","v":0},{"$f":"'41-państw.inst.kult.'!C40","v":0},{"$f":"'41-państw.inst.kult.'!D40","v":0},{"$f":"'41-państw.inst.kult.'!E40","v":0},{"$f":"'41-państw.inst.kult.'!F40","v":0},{"$f":"'41-państw.inst.kult.'!G40","v":0},{"$f":"'41-państw.inst.kult.'!H40","v":0},{"$f":"'41-państw.inst.kult.'!I40","v":0},{"$f":"'41-państw.inst.kult.'!J40","v":0},{"$f":"'41-państw.inst.kult.'!K40","v":0},{"$f":"'41-państw.inst.kult.'!L40","v":0},{"$f":"'41-państw.inst.kult.'!M40","v":0},{"$f":"'41-państw.inst.kult.'!N40","v":0},{"$f":"'41-państw.inst.kult.'!O40","v":0},{"$f":"'41-państw.inst.kult.'!P40","v":0},{"$f":"'41-państw.inst.kult.'!Q40","v":0},{"$f":"'41-państw.inst.kult.'!R40","v":0}]
[{"$f":"'42-samorz.inst.kult.'!A8","v":""},null,null,null,null,{"$f":"'42-samorz.inst.kult.'!L11","v":42},{"$f":"'42-samorz.inst.kult.'!K8","v":0},{"$f":"'42-samorz.inst.kult.'!H8","v":0},{"$f":"'42-samorz.inst.kult.'!M11","v":0},null,null,{"$f":"'42-samorz.inst.kult.'!C34","v":0},{"$f":"'42-samorz.inst.kult.'!D34","v":0},{"$f":"'42-samorz.inst.kult.'!E34","v":0},{"$f":"'42-samorz.inst.kult.'!F34","v":0},{"$f":"'42-samorz.inst.kult.'!G34","v":0},{"$f":"'42-samorz.inst.kult.'!H34","v":0},{"$f":"'42-samorz.inst.kult.'!I34","v":0},{"$f":"'42-samorz.inst.kult.'!J34","v":0},{"$f":"'42-samorz.inst.kult.'!K34","v":0},{"$f":"'42-samorz.inst.kult.'!L34","v":0},{"$f":"'42-samorz.inst.kult.'!M34","v":0},{"$f":"'42-samorz.inst.kult.'!N34","v":0},{"$f":"'42-samorz.inst.kult.'!O34","v":0},{"$f":"'42-samorz.inst.kult.'!P34","v":0},{"$f":"'42-samorz.inst.kult.'!Q34","v":0},{"$f":"'42-samorz.inst.kult.'!R34","v":0},{"$f":"'42-samorz.inst.kult.'!C35","v":0},{"$f":"'42-samorz.inst.kult.'!D35","v":0},{"$f":"'42-samorz.inst.kult.'!E35","v":0},{"$f":"'42-samorz.inst.kult.'!F35","v":0},{"$f":"'42-samorz.inst.kult.'!G35","v":0},{"$f":"'42-samorz.inst.kult.'!H35","v":0},{"$f":"'42-samorz.inst.kult.'!I35","v":0},{"$f":"'42-samorz.inst.kult.'!J35","v":0},{"$f":"'42-samorz.inst.kult.'!K35","v":0},{"$f":"'42-samorz.inst.kult.'!L35","v":0},{"$f":"'42-samorz.inst.kult.'!M35","v":0},{"$f":"'42-samorz.inst.kult.'!N35","v":0},{"$f":"'42-samorz.inst.kult.'!O35","v":0},{"$f":"'42-samorz.inst.kult.'!P35","v":0},{"$f":"'42-samorz.inst.kult.'!Q35","v":0},{"$f":"'42-samorz.inst.kult.'!R35","v":0},{"$f":"'42-samorz.inst.kult.'!C36","v":0},{"$f":"'42-samorz.inst.kult.'!D36","v":0},{"$f":"'42-samorz.inst.kult.'!E36","v":0},{"$f":"'42-samorz.inst.kult.'!F36","v":0},{"$f":"'42-samorz.inst.kult.'!G36","v":0},{"$f":"'42-samorz.inst.kult.'!H36","v":0},{"$f":"'42-samorz.inst.kult.'!I36","v":0},{"$f":"'42-samorz.inst.kult.'!J36","v":0},{"$f":"'42-samorz.inst.kult.'!K36","v":0},{"$f":"'42-samorz.inst.kult.'!L36","v":0},{"$f":"'42-samorz.inst.kult.'!M36","v":0},{"$f":"'42-samorz.inst.kult.'!N36","v":0},{"$f":"'42-samorz.inst.kult.'!O36","v":0},{"$f":"'42-samorz.inst.kult.'!P36","v":0},{"$f":"'42-samorz.inst.kult.'!Q36","v":0},{"$f":"'42-samorz.inst.kult.'!R36","v":0},{"$f":"'42-samorz.inst.kult.'!C37","v":0},{"$f":"'42-samorz.inst.kult.'!D37","v":0},{"$f":"'42-samorz.inst.kult.'!E37","v":0},{"$f":"'42-samorz.inst.kult.'!F37","v":0},{"$f":"'42-samorz.inst.kult.'!G37","v":0},{"$f":"'42-samorz.inst.kult.'!H37","v":0},{"$f":"'42-samorz.inst.kult.'!I37","v":0},{"$f":"'42-samorz.inst.kult.'!J37","v":0},{"$f":"'42-samorz.inst.kult.'!K37","v":0},{"$f":"'42-samorz.inst.kult.'!L37","v":0},{"$f":"'42-samorz.inst.kult.'!M37","v":0},{"$f":"'42-samorz.inst.kult.'!N37","v":0},{"$f":"'42-samorz.inst.kult.'!O37","v":0},{"$f":"'42-samorz.inst.kult.'!P37","v":0},{"$f":"'42-samorz.inst.kult.'!Q37","v":0},{"$f":"'42-samorz.inst.kult.'!R37","v":0},{"$f":"'42-samorz.inst.kult.'!C38","v":0},{"$f":"'42-samorz.inst.kult.'!D38","v":0},{"$f":"'42-samorz.inst.kult.'!E38","v":0},{"$f":"'42-samorz.inst.kult.'!F38","v":0},{"$f":"'42-samorz.inst.kult.'!G38","v":0},{"$f":"'42-samorz.inst.kult.'!H38","v":0},{"$f":"'42-samorz.inst.kult.'!I38","v":0},{"$f":"'42-samorz.inst.kult.'!J38","v":0},{"$f":"'42-samorz.inst.kult.'!K38","v":0},{"$f":"'42-samorz.inst.kult.'!L38","v":0},{"$f":"'42-samorz.inst.kult.'!M38","v":0},{"$f":"'42-samorz.inst.kult.'!N38","v":0},{"$f":"'42-samorz.inst.kult.'!O38","v":0},{"$f":"'42-samorz.inst.kult.'!P38","v":0},{"$f":"'42-samorz.inst.kult.'!Q38","v":0},{"$f":"'42-samorz.inst.kult.'!R38","v":0},{"$f":"'42-samorz.inst.kult.'!C39","v":0},{"$f":"'42-samorz.inst.kult.'!D39","v":0},{"$f":"'42-samorz.inst.kult.'!E39","v":0},{"$f":"'42-samorz.inst.kult.'!F39","v":0},{"$f":"'42-samorz.inst.kult.'!G39","v":0},{"$f":"'42-samorz.inst.kult.'!H39","v":0},{"$f":"'42-samorz.inst.kult.'!I39","v":0},{"$f":"'42-samorz.inst.kult.'!J39","v":0},{"$f":"'42-samorz.inst.kult.'!K39","v":0},{"$f":"'42-samorz.inst.kult.'!L39","v":0},{"$f":"'42-samorz.inst.kult.'!M39","v":0},{"$f":"'42-samorz.inst.kult.'!N39","v":0},{"$f":"'42-samorz.inst.kult.'!O39","v":0},{"$f":"'42-samorz.inst.kult.'!P39","v":0},{"$f":"'42-samorz.inst.kult.'!Q39","v":0},{"$f":"'42-samorz.inst.kult.'!R39","v":0},{"$f":"'42-samorz.inst.kult.'!C40","v":0},{"$f":"'42-samorz.inst.kult.'!D40","v":0},{"$f":"'42-samorz.inst.kult.'!E40","v":0},{"$f":"'42-samorz.inst.kult.'!F40","v":0},{"$f":"'42-samorz.inst.kult.'!G40","v":0},{"$f":"'42-samorz.inst.kult.'!H40","v":0},{"$f":"'42-samorz.inst.kult.'!I40","v":0},{"$f":"'42-samorz.inst.kult.'!J40","v":0},{"$f":"'42-samorz.inst.kult.'!K40","v":0},{"$f":"'42-samorz.inst.kult.'!L40","v":0},{"$f":"'42-samorz.inst.kult.'!M40","v":0},{"$f":"'42-samorz.inst.kult.'!N40","v":0},{"$f":"'42-samorz.inst.kult.'!O40","v":0},{"$f":"'42-samorz.inst.kult.'!P40","v":0},{"$f":"'42-samorz.inst.kult.'!Q40","v":0},{"$f":"'42-samorz.inst.kult.'!R40","v":0}]
[{"$f":"'50-PAN i jedn.tworz.przez PAN'!A8","v":""},null,null,null,null,{"$f":"'50-PAN i jedn.tworz.przez PAN'!L11","v":50},{"$f":"'50-PAN i jedn.tworz.przez PAN'!K8","v":0},{"$f":"'50-PAN i jedn.tworz.przez PAN'!H8","v":0},{"$f":"'50-PAN i jedn.tworz.przez PAN'!M11","v":0},null,null,{"$f":"'50-PAN i jedn.tworz.przez PAN'!C34","v":0},{"$f":"'50-PAN i jedn.tworz.przez PAN'!D34","v":0},{"$f":"'50-PAN i jedn.tworz.przez PAN'!E34","v":0},{"$f":"'50-PAN i jedn.tworz.przez PAN'!F34","v":0},{"$f":"'50-PAN i jedn.tworz.przez PAN'!G34","v":0},{"$f":"'50-PAN i jedn.tworz.przez PAN'!H34","v":0},{"$f":"'50-PAN i jedn.tworz.przez PAN'!I34","v":0},{"$f":"'50-PAN i jedn.tworz.przez PAN'!J34","v":0},{"$f":"'50-PAN i jedn.tworz.przez PAN'!K34","v":0},{"$f":"'50-PAN i jedn.tworz.przez PAN'!L34","v":0},{"$f":"'50-PAN i jedn.tworz.przez PAN'!M34","v":0},{"$f":"'50-PAN i jedn.tworz.przez PAN'!N34","v":0},{"$f":"'50-PAN i jedn.tworz.przez PAN'!O34","v":0},{"$f":"'50-PAN i jedn.tworz.przez PAN'!P34","v":0},{"$f":"'50-PAN i jedn.tworz.przez PAN'!Q34","v":0},{"$f":"'50-PAN i jedn.tworz.przez PAN'!R34","v":0},{"$f":"'50-PAN i jedn.tworz.przez PAN'!C35","v":0},{"$f":"'50-PAN i jedn.tworz.przez PAN'!D35","v":0},{"$f":"'50-PAN i jedn.tworz.przez PAN'!E35","v":0},{"$f":"'50-PAN i jedn.tworz.przez PAN'!F35","v":0},{"$f":"'50-PAN i jedn.tworz.przez PAN'!G35","v":0},{"$f":"'50-PAN i jedn.tworz.przez PAN'!H35","v":0},{"$f":"'50-PAN i jedn.tworz.przez PAN'!I35","v":0},{"$f":"'50-PAN i jedn.tworz.przez PAN'!J35","v":0},{"$f":"'50-PAN i jedn.tworz.przez PAN'!K35","v":0},{"$f":"'50-PAN i jedn.tworz.przez PAN'!L35","v":0},{"$f":"'50-PAN i jedn.tworz.przez PAN'!M35","v":0},{"$f":"'50-PAN i jedn.tworz.przez PAN'!N35","v":0},{"$f":"'50-PAN i jedn.tworz.przez PAN'!O35","v":0},{"$f":"'50-PAN i jedn.tworz.przez PAN'!P35","v":0},{"$f":"'50-PAN i jedn.tworz.przez PAN'!Q35","v":0},{"$f":"'50-PAN i jedn.tworz.przez PAN'!R35","v":0},{"$f":"'50-PAN i jedn.tworz.przez PAN'!C36","v":0},{"$f":"'50-PAN i jedn.tworz.przez PAN'!D36","v":0},{"$f":"'50-PAN i jedn.tworz.przez PAN'!E36","v":0},{"$f":"'50-PAN i jedn.tworz.przez PAN'!F36","v":0},{"$f":"'50-PAN i jedn.tworz.przez PAN'!G36","v":0},{"$f":"'50-PAN i jedn.tworz.przez PAN'!H36","v":0},{"$f":"'50-PAN i jedn.tworz.przez PAN'!I36","v":0},{"$f":"'50-PAN i jedn.tworz.przez PAN'!J36","v":0},{"$f":"'50-PAN i jedn.tworz.przez PAN'!K36","v":0},{"$f":"'50-PAN i jedn.tworz.przez PAN'!L36","v":0},{"$f":"'50-PAN i jedn.tworz.przez PAN'!M36","v":0},{"$f":"'50-PAN i jedn.tworz.przez PAN'!N36","v":0},{"$f":"'50-PAN i jedn.tworz.przez PAN'!O36","v":0},{"$f":"'50-PAN i jedn.tworz.przez PAN'!P36","v":0},{"$f":"'50-PAN i jedn.tworz.przez PAN'!Q36","v":0},{"$f":"'50-PAN i jedn.tworz.przez PAN'!R36","v":0},{"$f":"'50-PAN i jedn.tworz.przez PAN'!C37","v":0},{"$f":"'50-PAN i jedn.tworz.przez PAN'!D37","v":0},{"$f":"'50-PAN i jedn.tworz.przez PAN'!E37","v":0},{"$f":"'50-PAN i jedn.tworz.przez PAN'!F37","v":0},{"$f":"'50-PAN i jedn.tworz.przez PAN'!G37","v":0},{"$f":"'50-PAN i jedn.tworz.przez PAN'!H37","v":0},{"$f":"'50-PAN i jedn.tworz.przez PAN'!I37","v":0},{"$f":"'50-PAN i jedn.tworz.przez PAN'!J37","v":0},{"$f":"'50-PAN i jedn.tworz.przez PAN'!K37","v":0},{"$f":"'50-PAN i jedn.tworz.przez PAN'!L37","v":0},{"$f":"'50-PAN i jedn.tworz.przez PAN'!M37","v":0},{"$f":"'50-PAN i jedn.tworz.przez PAN'!N37","v":0},{"$f":"'50-PAN i jedn.tworz.przez PAN'!O37","v":0},{"$f":"'50-PAN i jedn.tworz.przez PAN'!P37","v":0},{"$f":"'50-PAN i jedn.tworz.przez PAN'!Q37","v":0},{"$f":"'50-PAN i jedn.tworz.przez PAN'!R37","v":0},{"$f":"'50-PAN i jedn.tworz.przez PAN'!C38","v":0},{"$f":"'50-PAN i jedn.tworz.przez PAN'!D38","v":0},{"$f":"'50-PAN i jedn.tworz.przez PAN'!E38","v":0},{"$f":"'50-PAN i jedn.tworz.przez PAN'!F38","v":0},{"$f":"'50-PAN i jedn.tworz.przez PAN'!G38","v":0},{"$f":"'50-PAN i jedn.tworz.przez PAN'!H38","v":0},{"$f":"'50-PAN i jedn.tworz.przez PAN'!I38","v":0},{"$f":"'50-PAN i jedn.tworz.przez PAN'!J38","v":0},{"$f":"'50-PAN i jedn.tworz.przez PAN'!K38","v":0},{"$f":"'50-PAN i jedn.tworz.przez PAN'!L38","v":0},{"$f":"'50-PAN i jedn.tworz.przez PAN'!M38","v":0},{"$f":"'50-PAN i jedn.tworz.przez PAN'!N38","v":0},{"$f":"'50-PAN i jedn.tworz.przez PAN'!O38","v":0},{"$f":"'50-PAN i jedn.tworz.przez PAN'!P38","v":0},{"$f":"'50-PAN i jedn.tworz.przez PAN'!Q38","v":0},{"$f":"'50-PAN i jedn.tworz.przez PAN'!R38","v":0},{"$f":"'50-PAN i jedn.tworz.przez PAN'!C39","v":0},{"$f":"'50-PAN i jedn.tworz.przez PAN'!D39","v":0},{"$f":"'50-PAN i jedn.tworz.przez PAN'!E39","v":0},{"$f":"'50-PAN i jedn.tworz.przez PAN'!F39","v":0},{"$f":"'50-PAN i jedn.tworz.przez PAN'!G39","v":0},{"$f":"'50-PAN i jedn.tworz.przez PAN'!H39","v":0},{"$f":"'50-PAN i jedn.tworz.przez PAN'!I39","v":0},{"$f":"'50-PAN i jedn.tworz.przez PAN'!J39","v":0},{"$f":"'50-PAN i jedn.tworz.przez PAN'!K39","v":0},{"$f":"'50-PAN i jedn.tworz.przez PAN'!L39","v":0},{"$f":"'50-PAN i jedn.tworz.przez PAN'!M39","v":0},{"$f":"'50-PAN i jedn.tworz.przez PAN'!N39","v":0},{"$f":"'50-PAN i jedn.tworz.przez PAN'!O39","v":0},{"$f":"'50-PAN i jedn.tworz.przez PAN'!P39","v":0},{"$f":"'50-PAN i jedn.tworz.przez PAN'!Q39","v":0},{"$f":"'50-PAN i jedn.tworz.przez PAN'!R39","v":0},{"$f":"'50-PAN i jedn.tworz.przez PAN'!C40","v":0},{"$f":"'50-PAN i jedn.tworz.przez PAN'!D40","v":0},{"$f":"'50-PAN i jedn.tworz.przez PAN'!E40","v":0},{"$f":"'50-PAN i jedn.tworz.przez PAN'!F40","v":0},{"$f":"'50-PAN i jedn.tworz.przez PAN'!G40","v":0},{"$f":"'50-PAN i jedn.tworz.przez PAN'!H40","v":0},{"$f":"'50-PAN i jedn.tworz.przez PAN'!I40","v":0},{"$f":"'50-PAN i jedn.tworz.przez PAN'!J40","v":0},{"$f":"'50-PAN i jedn.tworz.przez PAN'!K40","v":0},{"$f":"'50-PAN i jedn.tworz.przez PAN'!L40","v":0},{"$f":"'50-PAN i jedn.tworz.przez PAN'!M40","v":0},{"$f":"'50-PAN i jedn.tworz.przez PAN'!N40","v":0},{"$f":"'50-PAN i jedn.tworz.przez PAN'!O40","v":0},{"$f":"'50-PAN i jedn.tworz.przez PAN'!P40","v":0},{"$f":"'50-PAN i jedn.tworz.przez PAN'!Q40","v":0},{"$f":"'50-PAN i jedn.tworz.przez PAN'!R40","v":0}]
[{"$f":"'61-samodz.publ.ZOZ państw.'!A8","v":""},null,null,null,null,{"$f":"'61-samodz.publ.ZOZ państw.'!L11","v":61},{"$f":"'61-samodz.publ.ZOZ państw.'!K8","v":0},{"$f":"'61-samodz.publ.ZOZ państw.'!H8","v":0},{"$f":"'61-samodz.publ.ZOZ państw.'!M11","v":0},null,null,{"$f":"'61-samodz.publ.ZOZ państw.'!C34","v":0},{"$f":"'61-samodz.publ.ZOZ państw.'!D34","v":0},{"$f":"'61-samodz.publ.ZOZ państw.'!E34","v":0},{"$f":"'61-samodz.publ.ZOZ państw.'!F34","v":0},{"$f":"'61-samodz.publ.ZOZ państw.'!G34","v":0},{"$f":"'61-samodz.publ.ZOZ państw.'!H34","v":0},{"$f":"'61-samodz.publ.ZOZ państw.'!I34","v":0},{"$f":"'61-samodz.publ.ZOZ państw.'!J34","v":0},{"$f":"'61-samodz.publ.ZOZ państw.'!K34","v":0},{"$f":"'61-samodz.publ.ZOZ państw.'!L34","v":0},{"$f":"'61-samodz.publ.ZOZ państw.'!M34","v":0},{"$f":"'61-samodz.publ.ZOZ państw.'!N34","v":0},{"$f":"'61-samodz.publ.ZOZ państw.'!O34","v":0},{"$f":"'61-samodz.publ.ZOZ państw.'!P34","v":0},{"$f":"'61-samodz.publ.ZOZ państw.'!Q34","v":0},{"$f":"'61-samodz.publ.ZOZ państw.'!R34","v":0},{"$f":"'61-samodz.publ.ZOZ państw.'!C35","v":0},{"$f":"'61-samodz.publ.ZOZ państw.'!D35","v":0},{"$f":"'61-samodz.publ.ZOZ państw.'!E35","v":0},{"$f":"'61-samodz.publ.ZOZ państw.'!F35","v":0},{"$f":"'61-samodz.publ.ZOZ państw.'!G35","v":0},{"$f":"'61-samodz.publ.ZOZ państw.'!H35","v":0},{"$f":"'61-samodz.publ.ZOZ państw.'!I35","v":0},{"$f":"'61-samodz.publ.ZOZ państw.'!J35","v":0},{"$f":"'61-samodz.publ.ZOZ państw.'!K35","v":0},{"$f":"'61-samodz.publ.ZOZ państw.'!L35","v":0},{"$f":"'61-samodz.publ.ZOZ państw.'!M35","v":0},{"$f":"'61-samodz.publ.ZOZ państw.'!N35","v":0},{"$f":"'61-samodz.publ.ZOZ państw.'!O35","v":0},{"$f":"'61-samodz.publ.ZOZ państw.'!P35","v":0},{"$f":"'61-samodz.publ.ZOZ państw.'!Q35","v":0},{"$f":"'61-samodz.publ.ZOZ państw.'!R35","v":0},{"$f":"'61-samodz.publ.ZOZ państw.'!C36","v":0},{"$f":"'61-samodz.publ.ZOZ państw.'!D36","v":0},{"$f":"'61-samodz.publ.ZOZ państw.'!E36","v":0},{"$f":"'61-samodz.publ.ZOZ państw.'!F36","v":0},{"$f":"'61-samodz.publ.ZOZ państw.'!G36","v":0},{"$f":"'61-samodz.publ.ZOZ państw.'!H36","v":0},{"$f":"'61-samodz.publ.ZOZ państw.'!I36","v":0},{"$f":"'61-samodz.publ.ZOZ państw.'!J36","v":0},{"$f":"'61-samodz.publ.ZOZ państw.'!K36","v":0},{"$f":"'61-samodz.publ.ZOZ państw.'!L36","v":0},{"$f":"'61-samodz.publ.ZOZ państw.'!M36","v":0},{"$f":"'61-samodz.publ.ZOZ państw.'!N36","v":0},{"$f":"'61-samodz.publ.ZOZ państw.'!O36","v":0},{"$f":"'61-samodz.publ.ZOZ państw.'!P36","v":0},{"$f":"'61-samodz.publ.ZOZ państw.'!Q36","v":0},{"$f":"'61-samodz.publ.ZOZ państw.'!R36","v":0},{"$f":"'61-samodz.publ.ZOZ państw.'!C37","v":0},{"$f":"'61-samodz.publ.ZOZ państw.'!D37","v":0},{"$f":"'61-samodz.publ.ZOZ państw.'!E37","v":0},{"$f":"'61-samodz.publ.ZOZ państw.'!F37","v":0},{"$f":"'61-samodz.publ.ZOZ państw.'!G37","v":0},{"$f":"'61-samodz.publ.ZOZ państw.'!H37","v":0},{"$f":"'61-samodz.publ.ZOZ państw.'!I37","v":0},{"$f":"'61-samodz.publ.ZOZ państw.'!J37","v":0},{"$f":"'61-samodz.publ.ZOZ państw.'!K37","v":0},{"$f":"'61-samodz.publ.ZOZ państw.'!L37","v":0},{"$f":"'61-samodz.publ.ZOZ państw.'!M37","v":0},{"$f":"'61-samodz.publ.ZOZ państw.'!N37","v":0},{"$f":"'61-samodz.publ.ZOZ państw.'!O37","v":0},{"$f":"'61-samodz.publ.ZOZ państw.'!P37","v":0},{"$f":"'61-samodz.publ.ZOZ państw.'!Q37","v":0},{"$f":"'61-samodz.publ.ZOZ państw.'!R37","v":0},{"$f":"'61-samodz.publ.ZOZ państw.'!C38","v":0},{"$f":"'61-samodz.publ.ZOZ państw.'!D38","v":0},{"$f":"'61-samodz.publ.ZOZ państw.'!E38","v":0},{"$f":"'61-samodz.publ.ZOZ państw.'!F38","v":0},{"$f":"'61-samodz.publ.ZOZ państw.'!G38","v":0},{"$f":"'61-samodz.publ.ZOZ państw.'!H38","v":0},{"$f":"'61-samodz.publ.ZOZ państw.'!I38","v":0},{"$f":"'61-samodz.publ.ZOZ państw.'!J38","v":0},{"$f":"'61-samodz.publ.ZOZ państw.'!K38","v":0},{"$f":"'61-samodz.publ.ZOZ państw.'!L38","v":0},{"$f":"'61-samodz.publ.ZOZ państw.'!M38","v":0},{"$f":"'61-samodz.publ.ZOZ państw.'!N38","v":0},{"$f":"'61-samodz.publ.ZOZ państw.'!O38","v":0},{"$f":"'61-samodz.publ.ZOZ państw.'!P38","v":0},{"$f":"'61-samodz.publ.ZOZ państw.'!Q38","v":0},{"$f":"'61-samodz.publ.ZOZ państw.'!R38","v":0},{"$f":"'61-samodz.publ.ZOZ państw.'!C39","v":0},{"$f":"'61-samodz.publ.ZOZ państw.'!D39","v":0},{"$f":"'61-samodz.publ.ZOZ państw.'!E39","v":0},{"$f":"'61-samodz.publ.ZOZ państw.'!F39","v":0},{"$f":"'61-samodz.publ.ZOZ państw.'!G39","v":0},{"$f":"'61-samodz.publ.ZOZ państw.'!H39","v":0},{"$f":"'61-samodz.publ.ZOZ państw.'!I39","v":0},{"$f":"'61-samodz.publ.ZOZ państw.'!J39","v":0},{"$f":"'61-samodz.publ.ZOZ państw.'!K39","v":0},{"$f":"'61-samodz.publ.ZOZ państw.'!L39","v":0},{"$f":"'61-samodz.publ.ZOZ państw.'!M39","v":0},{"$f":"'61-samodz.publ.ZOZ państw.'!N39","v":0},{"$f":"'61-samodz.publ.ZOZ państw.'!O39","v":0},{"$f":"'61-samodz.publ.ZOZ państw.'!P39","v":0},{"$f":"'61-samodz.publ.ZOZ państw.'!Q39","v":0},{"$f":"'61-samodz.publ.ZOZ państw.'!R39","v":0},{"$f":"'61-samodz.publ.ZOZ państw.'!C40","v":0},{"$f":"'61-samodz.publ.ZOZ państw.'!D40","v":0},{"$f":"'61-samodz.publ.ZOZ państw.'!E40","v":0},{"$f":"'61-samodz.publ.ZOZ państw.'!F40","v":0},{"$f":"'61-samodz.publ.ZOZ państw.'!G40","v":0},{"$f":"'61-samodz.publ.ZOZ państw.'!H40","v":0},{"$f":"'61-samodz.publ.ZOZ państw.'!I40","v":0},{"$f":"'61-samodz.publ.ZOZ państw.'!J40","v":0},{"$f":"'61-samodz.publ.ZOZ państw.'!K40","v":0},{"$f":"'61-samodz.publ.ZOZ państw.'!L40","v":0},{"$f":"'61-samodz.publ.ZOZ państw.'!M40","v":0},{"$f":"'61-samodz.publ.ZOZ państw.'!N40","v":0},{"$f":"'61-samodz.publ.ZOZ państw.'!O40","v":0},{"$f":"'61-samodz.publ.ZOZ państw.'!P40","v":0},{"$f":"'61-samodz.publ.ZOZ państw.'!Q40","v":0},{"$f":"'61-samodz.publ.ZOZ państw.'!R40","v":0}]
[{"$f":"'62-samodz.publ.ZOZ samorz.'!A8","v":""},null,null,null,null,{"$f":"'62-samodz.publ.ZOZ samorz.'!L11","v":62},{"$f":"'62-samodz.publ.ZOZ samorz.'!K8","v":0},{"$f":"'62-samodz.publ.ZOZ samorz.'!H8","v":0},{"$f":"'62-samodz.publ.ZOZ samorz.'!M11","v":0},null,null,{"$f":"'62-samodz.publ.ZOZ samorz.'!C34","v":0},{"$f":"'62-samodz.publ.ZOZ samorz.'!D34","v":0},{"$f":"'62-samodz.publ.ZOZ samorz.'!E34","v":0},{"$f":"'62-samodz.publ.ZOZ samorz.'!F34","v":0},{"$f":"'62-samodz.publ.ZOZ samorz.'!G34","v":0},{"$f":"'62-samodz.publ.ZOZ samorz.'!H34","v":0},{"$f":"'62-samodz.publ.ZOZ samorz.'!I34","v":0},{"$f":"'62-samodz.publ.ZOZ samorz.'!J34","v":0},{"$f":"'62-samodz.publ.ZOZ samorz.'!K34","v":0},{"$f":"'62-samodz.publ.ZOZ samorz.'!L34","v":0},{"$f":"'62-samodz.publ.ZOZ samorz.'!M34","v":0},{"$f":"'62-samodz.publ.ZOZ samorz.'!N34","v":0},{"$f":"'62-samodz.publ.ZOZ samorz.'!O34","v":0},{"$f":"'62-samodz.publ.ZOZ samorz.'!P34","v":0},{"$f":"'62-samodz.publ.ZOZ samorz.'!Q34","v":0},{"$f":"'62-samodz.publ.ZOZ samorz.'!R34","v":0},{"$f":"'62-samodz.publ.ZOZ samorz.'!C35","v":0},{"$f":"'62-samodz.publ.ZOZ samorz.'!D35","v":0},{"$f":"'62-samodz.publ.ZOZ samorz.'!E35","v":0},{"$f":"'62-samodz.publ.ZOZ samorz.'!F35","v":0},{"$f":"'62-samodz.publ.ZOZ samorz.'!G35","v":0},{"$f":"'62-samodz.publ.ZOZ samorz.'!H35","v":0},{"$f":"'62-samodz.publ.ZOZ samorz.'!I35","v":0},{"$f":"'62-samodz.publ.ZOZ samorz.'!J35","v":0},{"$f":"'62-samodz.publ.ZOZ samorz.'!K35","v":0},{"$f":"'62-samodz.publ.ZOZ samorz.'!L35","v":0},{"$f":"'62-samodz.publ.ZOZ samorz.'!M35","v":0},{"$f":"'62-samodz.publ.ZOZ samorz.'!N35","v":0},{"$f":"'62-samodz.publ.ZOZ samorz.'!O35","v":0},{"$f":"'62-samodz.publ.ZOZ samorz.'!P35","v":0},{"$f":"'62-samodz.publ.ZOZ samorz.'!Q35","v":0},{"$f":"'62-samodz.publ.ZOZ samorz.'!R35","v":0},{"$f":"'62-samodz.publ.ZOZ samorz.'!C36","v":0},{"$f":"'62-samodz.publ.ZOZ samorz.'!D36","v":0},{"$f":"'62-samodz.publ.ZOZ samorz.'!E36","v":0},{"$f":"'62-samodz.publ.ZOZ samorz.'!F36","v":0},{"$f":"'62-samodz.publ.ZOZ samorz.'!G36","v":0},{"$f":"'62-samodz.publ.ZOZ samorz.'!H36","v":0},{"$f":"'62-samodz.publ.ZOZ samorz.'!I36","v":0},{"$f":"'62-samodz.publ.ZOZ samorz.'!J36","v":0},{"$f":"'62-samodz.publ.ZOZ samorz.'!K36","v":0},{"$f":"'62-samodz.publ.ZOZ samorz.'!L36","v":0},{"$f":"'62-samodz.publ.ZOZ samorz.'!M36","v":0},{"$f":"'62-samodz.publ.ZOZ samorz.'!N36","v":0},{"$f":"'62-samodz.publ.ZOZ samorz.'!O36","v":0},{"$f":"'62-samodz.publ.ZOZ samorz.'!P36","v":0},{"$f":"'62-samodz.publ.ZOZ samorz.'!Q36","v":0},{"$f":"'62-samodz.publ.ZOZ samorz.'!R36","v":0},{"$f":"'62-samodz.publ.ZOZ samorz.'!C37","v":0},{"$f":"'62-samodz.publ.ZOZ samorz.'!D37","v":0},{"$f":"'62-samodz.publ.ZOZ samorz.'!E37","v":0},{"$f":"'62-samodz.publ.ZOZ samorz.'!F37","v":0},{"$f":"'62-samodz.publ.ZOZ samorz.'!G37","v":0},{"$f":"'62-samodz.publ.ZOZ samorz.'!H37","v":0},{"$f":"'62-samodz.publ.ZOZ samorz.'!I37","v":0},{"$f":"'62-samodz.publ.ZOZ samorz.'!J37","v":0},{"$f":"'62-samodz.publ.ZOZ samorz.'!K37","v":0},{"$f":"'62-samodz.publ.ZOZ samorz.'!L37","v":0},{"$f":"'62-samodz.publ.ZOZ samorz.'!M37","v":0},{"$f":"'62-samodz.publ.ZOZ samorz.'!N37","v":0},{"$f":"'62-samodz.publ.ZOZ samorz.'!O37","v":0},{"$f":"'62-samodz.publ.ZOZ samorz.'!P37","v":0},{"$f":"'62-samodz.publ.ZOZ samorz.'!Q37","v":0},{"$f":"'62-samodz.publ.ZOZ samorz.'!R37","v":0},{"$f":"'62-samodz.publ.ZOZ samorz.'!C38","v":0},{"$f":"'62-samodz.publ.ZOZ samorz.'!D38","v":0},{"$f":"'62-samodz.publ.ZOZ samorz.'!E38","v":0},{"$f":"'62-samodz.publ.ZOZ samorz.'!F38","v":0},{"$f":"'62-samodz.publ.ZOZ samorz.'!G38","v":0},{"$f":"'62-samodz.publ.ZOZ samorz.'!H38","v":0},{"$f":"'62-samodz.publ.ZOZ samorz.'!I38","v":0},{"$f":"'62-samodz.publ.ZOZ samorz.'!J38","v":0},{"$f":"'62-samodz.publ.ZOZ samorz.'!K38","v":0},{"$f":"'62-samodz.publ.ZOZ samorz.'!L38","v":0},{"$f":"'62-samodz.publ.ZOZ samorz.'!M38","v":0},{"$f":"'62-samodz.publ.ZOZ samorz.'!N38","v":0},{"$f":"'62-samodz.publ.ZOZ samorz.'!O38","v":0},{"$f":"'62-samodz.publ.ZOZ samorz.'!P38","v":0},{"$f":"'62-samodz.publ.ZOZ samorz.'!Q38","v":0},{"$f":"'62-samodz.publ.ZOZ samorz.'!R38","v":0},{"$f":"'62-samodz.publ.ZOZ samorz.'!C39","v":0},{"$f":"'62-samodz.publ.ZOZ samorz.'!D39","v":0},{"$f":"'62-samodz.publ.ZOZ samorz.'!E39","v":0},{"$f":"'62-samodz.publ.ZOZ samorz.'!F39","v":0},{"$f":"'62-samodz.publ.ZOZ samorz.'!G39","v":0},{"$f":"'62-samodz.publ.ZOZ samorz.'!H39","v":0},{"$f":"'62-samodz.publ.ZOZ samorz.'!I39","v":0},{"$f":"'62-samodz.publ.ZOZ samorz.'!J39","v":0},{"$f":"'62-samodz.publ.ZOZ samorz.'!K39","v":0},{"$f":"'62-samodz.publ.ZOZ samorz.'!L39","v":0},{"$f":"'62-samodz.publ.ZOZ samorz.'!M39","v":0},{"$f":"'62-samodz.publ.ZOZ samorz.'!N39","v":0},{"$f":"'62-samodz.publ.ZOZ samorz.'!O39","v":0},{"$f":"'62-samodz.publ.ZOZ samorz.'!P39","v":0},{"$f":"'62-samodz.publ.ZOZ samorz.'!Q39","v":0},{"$f":"'62-samodz.publ.ZOZ samorz.'!R39","v":0},{"$f":"'62-samodz.publ.ZOZ samorz.'!C40","v":0},{"$f":"'62-samodz.publ.ZOZ samorz.'!D40","v":0},{"$f":"'62-samodz.publ.ZOZ samorz.'!E40","v":0},{"$f":"'62-samodz.publ.ZOZ samorz.'!F40","v":0},{"$f":"'62-samodz.publ.ZOZ samorz.'!G40","v":0},{"$f":"'62-samodz.publ.ZOZ samorz.'!H40","v":0},{"$f":"'62-samodz.publ.ZOZ samorz.'!I40","v":0},{"$f":"'62-samodz.publ.ZOZ samorz.'!J40","v":0},{"$f":"'62-samodz.publ.ZOZ samorz.'!K40","v":0},{"$f":"'62-samodz.publ.ZOZ samorz.'!L40","v":0},{"$f":"'62-samodz.publ.ZOZ samorz.'!M40","v":0},{"$f":"'62-samodz.publ.ZOZ samorz.'!N40","v":0},{"$f":"'62-samodz.publ.ZOZ samorz.'!O40","v":0},{"$f":"'62-samodz.publ.ZOZ samorz.'!P40","v":0},{"$f":"'62-samodz.publ.ZOZ samorz.'!Q40","v":0},{"$f":"'62-samodz.publ.ZOZ samorz.'!R40","v":0}]
[{"$f":"'63-Narodowy Fundusz Zdrowia'!A8","v":""},null,null,null,null,{"$f":"'63-Narodowy Fundusz Zdrowia'!L11","v":63},{"$f":"'63-Narodowy Fundusz Zdrowia'!K8","v":0},{"$f":"'63-Narodowy Fundusz Zdrowia'!H8","v":0},{"$f":"'63-Narodowy Fundusz Zdrowia'!M11","v":0},null,null,{"$f":"'63-Narodowy Fundusz Zdrowia'!C34","v":0},{"$f":"'63-Narodowy Fundusz Zdrowia'!D34","v":0},{"$f":"'63-Narodowy Fundusz Zdrowia'!E34","v":0},{"$f":"'63-Narodowy Fundusz Zdrowia'!F34","v":0},{"$f":"'63-Narodowy Fundusz Zdrowia'!G34","v":0},{"$f":"'63-Narodowy Fundusz Zdrowia'!H34","v":0},{"$f":"'63-Narodowy Fundusz Zdrowia'!I34","v":0},{"$f":"'63-Narodowy Fundusz Zdrowia'!J34","v":0},{"$f":"'63-Narodowy Fundusz Zdrowia'!K34","v":0},{"$f":"'63-Narodowy Fundusz Zdrowia'!L34","v":0},{"$f":"'63-Narodowy Fundusz Zdrowia'!M34","v":0},{"$f":"'63-Narodowy Fundusz Zdrowia'!N34","v":0},{"$f":"'63-Narodowy Fundusz Zdrowia'!O34","v":0},{"$f":"'63-Narodowy Fundusz Zdrowia'!P34","v":0},{"$f":"'63-Narodowy Fundusz Zdrowia'!Q34","v":0},{"$f":"'63-Narodowy Fundusz Zdrowia'!R34","v":0},{"$f":"'63-Narodowy Fundusz Zdrowia'!C35","v":0},{"$f":"'63-Narodowy Fundusz Zdrowia'!D35","v":0},{"$f":"'63-Narodowy Fundusz Zdrowia'!E35","v":0},{"$f":"'63-Narodowy Fundusz Zdrowia'!F35","v":0},{"$f":"'63-Narodowy Fundusz Zdrowia'!G35","v":0},{"$f":"'63-Narodowy Fundusz Zdrowia'!H35","v":0},{"$f":"'63-Narodowy Fundusz Zdrowia'!I35","v":0},{"$f":"'63-Narodowy Fundusz Zdrowia'!J35","v":0},{"$f":"'63-Narodowy Fundusz Zdrowia'!K35","v":0},{"$f":"'63-Narodowy Fundusz Zdrowia'!L35","v":0},{"$f":"'63-Narodowy Fundusz Zdrowia'!M35","v":0},{"$f":"'63-Narodowy Fundusz Zdrowia'!N35","v":0},{"$f":"'63-Narodowy Fundusz Zdrowia'!O35","v":0},{"$f":"'63-Narodowy Fundusz Zdrowia'!P35","v":0},{"$f":"'63-Narodowy Fundusz Zdrowia'!Q35","v":0},{"$f":"'63-Narodowy Fundusz Zdrowia'!R35","v":0},{"$f":"'63-Narodowy Fundusz Zdrowia'!C36","v":0},{"$f":"'63-Narodowy Fundusz Zdrowia'!D36","v":0},{"$f":"'63-Narodowy Fundusz Zdrowia'!E36","v":0},{"$f":"'63-Narodowy Fundusz Zdrowia'!F36","v":0},{"$f":"'63-Narodowy Fundusz Zdrowia'!G36","v":0},{"$f":"'63-Narodowy Fundusz Zdrowia'!H36","v":0},{"$f":"'63-Narodowy Fundusz Zdrowia'!I36","v":0},{"$f":"'63-Narodowy Fundusz Zdrowia'!J36","v":0},{"$f":"'63-Narodowy Fundusz Zdrowia'!K36","v":0},{"$f":"'63-Narodowy Fundusz Zdrowia'!L36","v":0},{"$f":"'63-Narodowy Fundusz Zdrowia'!M36","v":0},{"$f":"'63-Narodowy Fundusz Zdrowia'!N36","v":0},{"$f":"'63-Narodowy Fundusz Zdrowia'!O36","v":0},{"$f":"'63-Narodowy Fundusz Zdrowia'!P36","v":0},{"$f":"'63-Narodowy Fundusz Zdrowia'!Q36","v":0},{"$f":"'63-Narodowy Fundusz Zdrowia'!R36","v":0},{"$f":"'63-Narodowy Fundusz Zdrowia'!C37","v":0},{"$f":"'63-Narodowy Fundusz Zdrowia'!D37","v":0},{"$f":"'63-Narodowy Fundusz Zdrowia'!E37","v":0},{"$f":"'63-Narodowy Fundusz Zdrowia'!F37","v":0},{"$f":"'63-Narodowy Fundusz Zdrowia'!G37","v":0},{"$f":"'63-Narodowy Fundusz Zdrowia'!H37","v":0},{"$f":"'63-Narodowy Fundusz Zdrowia'!I37","v":0},{"$f":"'63-Narodowy Fundusz Zdrowia'!J37","v":0},{"$f":"'63-Narodowy Fundusz Zdrowia'!K37","v":0},{"$f":"'63-Narodowy Fundusz Zdrowia'!L37","v":0},{"$f":"'63-Narodowy Fundusz Zdrowia'!M37","v":0},{"$f":"'63-Narodowy Fundusz Zdrowia'!N37","v":0},{"$f":"'63-Narodowy Fundusz Zdrowia'!O37","v":0},{"$f":"'63-Narodowy Fundusz Zdrowia'!P37","v":0},{"$f":"'63-Narodowy Fundusz Zdrowia'!Q37","v":0},{"$f":"'63-Narodowy Fundusz Zdrowia'!R37","v":0},{"$f":"'63-Narodowy Fundusz Zdrowia'!C38","v":0},{"$f":"'63-Narodowy Fundusz Zdrowia'!D38","v":0},{"$f":"'63-Narodowy Fundusz Zdrowia'!E38","v":0},{"$f":"'63-Narodowy Fundusz Zdrowia'!F38","v":0},{"$f":"'63-Narodowy Fundusz Zdrowia'!G38","v":0},{"$f":"'63-Narodowy Fundusz Zdrowia'!H38","v":0},{"$f":"'63-Narodowy Fundusz Zdrowia'!I38","v":0},{"$f":"'63-Narodowy Fundusz Zdrowia'!J38","v":0},{"$f":"'63-Narodowy Fundusz Zdrowia'!K38","v":0},{"$f":"'63-Narodowy Fundusz Zdrowia'!L38","v":0},{"$f":"'63-Narodowy Fundusz Zdrowia'!M38","v":0},{"$f":"'63-Narodowy Fundusz Zdrowia'!N38","v":0},{"$f":"'63-Narodowy Fundusz Zdrowia'!O38","v":0},{"$f":"'63-Narodowy Fundusz Zdrowia'!P38","v":0},{"$f":"'63-Narodowy Fundusz Zdrowia'!Q38","v":0},{"$f":"'63-Narodowy Fundusz Zdrowia'!R38","v":0},{"$f":"'63-Narodowy Fundusz Zdrowia'!C39","v":0},{"$f":"'63-Narodowy Fundusz Zdrowia'!D39","v":0},{"$f":"'63-Narodowy Fundusz Zdrowia'!E39","v":0},{"$f":"'63-Narodowy Fundusz Zdrowia'!F39","v":0},{"$f":"'63-Narodowy Fundusz Zdrowia'!G39","v":0},{"$f":"'63-Narodowy Fundusz Zdrowia'!H39","v":0},{"$f":"'63-Narodowy Fundusz Zdrowia'!I39","v":0},{"$f":"'63-Narodowy Fundusz Zdrowia'!J39","v":0},{"$f":"'63-Narodowy Fundusz Zdrowia'!K39","v":0},{"$f":"'63-Narodowy Fundusz Zdrowia'!L39","v":0},{"$f":"'63-Narodowy Fundusz Zdrowia'!M39","v":0},{"$f":"'63-Narodowy Fundusz Zdrowia'!N39","v":0},{"$f":"'63-Narodowy Fundusz Zdrowia'!O39","v":0},{"$f":"'63-Narodowy Fundusz Zdrowia'!P39","v":0},{"$f":"'63-Narodowy Fundusz Zdrowia'!Q39","v":0},{"$f":"'63-Narodowy Fundusz Zdrowia'!R39","v":0},{"$f":"'63-Narodowy Fundusz Zdrowia'!C40","v":0},{"$f":"'63-Narodowy Fundusz Zdrowia'!D40","v":0},{"$f":"'63-Narodowy Fundusz Zdrowia'!E40","v":0},{"$f":"'63-Narodowy Fundusz Zdrowia'!F40","v":0},{"$f":"'63-Narodowy Fundusz Zdrowia'!G40","v":0},{"$f":"'63-Narodowy Fundusz Zdrowia'!H40","v":0},{"$f":"'63-Narodowy Fundusz Zdrowia'!I40","v":0},{"$f":"'63-Narodowy Fundusz Zdrowia'!J40","v":0},{"$f":"'63-Narodowy Fundusz Zdrowia'!K40","v":0},{"$f":"'63-Narodowy Fundusz Zdrowia'!L40","v":0},{"$f":"'63-Narodowy Fundusz Zdrowia'!M40","v":0},{"$f":"'63-Narodowy Fundusz Zdrowia'!N40","v":0},{"$f":"'63-Narodowy Fundusz Zdrowia'!O40","v":0},{"$f":"'63-Narodowy Fundusz Zdrowia'!P40","v":0},{"$f":"'63-Narodowy Fundusz Zdrowia'!Q40","v":0},{"$f":"'63-Narodowy Fundusz Zdrowia'!R40","v":0}]
[{"$f":"'71-ZUS'!A8","v":""},null,null,null,null,{"$f":"'71-ZUS'!L11","v":71},{"$f":"'71-ZUS'!K8","v":0},{"$f":"'71-ZUS'!H8","v":0},{"$f":"'71-ZUS'!M11","v":0},null,null,{"$f":"'71-ZUS'!C34","v":0},{"$f":"'71-ZUS'!D34","v":0},{"$f":"'71-ZUS'!E34","v":0},{"$f":"'71-ZUS'!F34","v":0},{"$f":"'71-ZUS'!G34","v":0},{"$f":"'71-ZUS'!H34","v":0},{"$f":"'71-ZUS'!I34","v":0},{"$f":"'71-ZUS'!J34","v":0},{"$f":"'71-ZUS'!K34","v":0},{"$f":"'71-ZUS'!L34","v":0},{"$f":"'71-ZUS'!M34","v":0},{"$f":"'71-ZUS'!N34","v":0},{"$f":"'71-ZUS'!O34","v":0},{"$f":"'71-ZUS'!P34","v":0},{"$f":"'71-ZUS'!Q34","v":0},{"$f":"'71-ZUS'!R34","v":0},{"$f":"'71-ZUS'!C35","v":0},{"$f":"'71-ZUS'!D35","v":0},{"$f":"'71-ZUS'!E35","v":0},{"$f":"'71-ZUS'!F35","v":0},{"$f":"'71-ZUS'!G35","v":0},{"$f":"'71-ZUS'!H35","v":0},{"$f":"'71-ZUS'!I35","v":0},{"$f":"'71-ZUS'!J35","v":0},{"$f":"'71-ZUS'!K35","v":0},{"$f":"'71-ZUS'!L35","v":0},{"$f":"'71-ZUS'!M35","v":0},{"$f":"'71-ZUS'!N35","v":0},{"$f":"'71-ZUS'!O35","v":0},{"$f":"'71-ZUS'!P35","v":0},{"$f":"'71-ZUS'!Q35","v":0},{"$f":"'71-ZUS'!R35","v":0},{"$f":"'71-ZUS'!C36","v":0},{"$f":"'71-ZUS'!D36","v":0},{"$f":"'71-ZUS'!E36","v":0},{"$f":"'71-ZUS'!F36","v":0},{"$f":"'71-ZUS'!G36","v":0},{"$f":"'71-ZUS'!H36","v":0},{"$f":"'71-ZUS'!I36","v":0},{"$f":"'71-ZUS'!J36","v":0},{"$f":"'71-ZUS'!K36","v":0},{"$f":"'71-ZUS'!L36","v":0},{"$f":"'71-ZUS'!M36","v":0},{"$f":"'71-ZUS'!N36","v":0},{"$f":"'71-ZUS'!O36","v":0},{"$f":"'71-ZUS'!P36","v":0},{"$f":"'71-ZUS'!Q36","v":0},{"$f":"'71-ZUS'!R36","v":0},{"$f":"'71-ZUS'!C37","v":0},{"$f":"'71-ZUS'!D37","v":0},{"$f":"'71-ZUS'!E37","v":0},{"$f":"'71-ZUS'!F37","v":0},{"$f":"'71-ZUS'!G37","v":0},{"$f":"'71-ZUS'!H37","v":0},{"$f":"'71-ZUS'!I37","v":0},{"$f":"'71-ZUS'!J37","v":0},{"$f":"'71-ZUS'!K37","v":0},{"$f":"'71-ZUS'!L37","v":0},{"$f":"'71-ZUS'!M37","v":0},{"$f":"'71-ZUS'!N37","v":0},{"$f":"'71-ZUS'!O37","v":0},{"$f":"'71-ZUS'!P37","v":0},{"$f":"'71-ZUS'!Q37","v":0},{"$f":"'71-ZUS'!R37","v":0},{"$f":"'71-ZUS'!C38","v":0},{"$f":"'71-ZUS'!D38","v":0},{"$f":"'71-ZUS'!E38","v":0},{"$f":"'71-ZUS'!F38","v":0},{"$f":"'71-ZUS'!G38","v":0},{"$f":"'71-ZUS'!H38","v":0},{"$f":"'71-ZUS'!I38","v":0},{"$f":"'71-ZUS'!J38","v":0},{"$f":"'71-ZUS'!K38","v":0},{"$f":"'71-ZUS'!L38","v":0},{"$f":"'71-ZUS'!M38","v":0},{"$f":"'71-ZUS'!N38","v":0},{"$f":"'71-ZUS'!O38","v":0},{"$f":"'71-ZUS'!P38","v":0},{"$f":"'71-ZUS'!Q38","v":0},{"$f":"'71-ZUS'!R38","v":0},{"$f":"'71-ZUS'!C39","v":0},{"$f":"'71-ZUS'!D39","v":0},{"$f":"'71-ZUS'!E39","v":0},{"$f":"'71-ZUS'!F39","v":0},{"$f":"'71-ZUS'!G39","v":0},{"$f":"'71-ZUS'!H39","v":0},{"$f":"'71-ZUS'!I39","v":0},{"$f":"'71-ZUS'!J39","v":0},{"$f":"'71-ZUS'!K39","v":0},{"$f":"'71-ZUS'!L39","v":0},{"$f":"'71-ZUS'!M39","v":0},{"$f":"'71-ZUS'!N39","v":0},{"$f":"'71-ZUS'!O39","v":0},{"$f":"'71-ZUS'!P39","v":0},{"$f":"'71-ZUS'!Q39","v":0},{"$f":"'71-ZUS'!R39","v":0},{"$f":"'71-ZUS'!C40","v":0},{"$f":"'71-ZUS'!D40","v":0},{"$f":"'71-ZUS'!E40","v":0},{"$f":"'71-ZUS'!F40","v":0},{"$f":"'71-ZUS'!G40","v":0},{"$f":"'71-ZUS'!H40","v":0},{"$f":"'71-ZUS'!I40","v":0},{"$f":"'71-ZUS'!J40","v":0},{"$f":"'71-ZUS'!K40","v":0},{"$f":"'71-ZUS'!L40","v":0},{"$f":"'71-ZUS'!M40","v":0},{"$f":"'71-ZUS'!N40","v":0},{"$f":"'71-ZUS'!O40","v":0},{"$f":"'71-ZUS'!P40","v":0},{"$f":"'71-ZUS'!Q40","v":0},{"$f":"'71-ZUS'!R40","v":0}]
[{"$f":"'72-fund.zarz.przez ZUS'!A8","v":""},null,null,null,null,{"$f":"'72-fund.zarz.przez ZUS'!L11","v":72},{"$f":"'72-fund.zarz.przez ZUS'!K8","v":0},{"$f":"'72-fund.zarz.przez ZUS'!H8","v":0},{"$f":"'72-fund.zarz.przez ZUS'!M11","v":0},null,null,{"$f":"'72-fund.zarz.przez ZUS'!C34","v":0},{"$f":"'72-fund.zarz.przez ZUS'!D34","v":0},{"$f":"'72-fund.zarz.przez ZUS'!E34","v":0},{"$f":"'72-fund.zarz.przez ZUS'!F34","v":0},{"$f":"'72-fund.zarz.przez ZUS'!G34","v":0},{"$f":"'72-fund.zarz.przez ZUS'!H34","v":0},{"$f":"'72-fund.zarz.przez ZUS'!I34","v":0},{"$f":"'72-fund.zarz.przez ZUS'!J34","v":0},{"$f":"'72-fund.zarz.przez ZUS'!K34","v":0},{"$f":"'72-fund.zarz.przez ZUS'!L34","v":0},{"$f":"'72-fund.zarz.przez ZUS'!M34","v":0},{"$f":"'72-fund.zarz.przez ZUS'!N34","v":0},{"$f":"'72-fund.zarz.przez ZUS'!O34","v":0},{"$f":"'72-fund.zarz.przez ZUS'!P34","v":0},{"$f":"'72-fund.zarz.przez ZUS'!Q34","v":0},{"$f":"'72-fund.zarz.przez ZUS'!R34","v":0},{"$f":"'72-fund.zarz.przez ZUS'!C35","v":0},{"$f":"'72-fund.zarz.przez ZUS'!D35","v":0},{"$f":"'72-fund.zarz.przez ZUS'!E35","v":0},{"$f":"'72-fund.zarz.przez ZUS'!F35","v":0},{"$f":"'72-fund.zarz.przez ZUS'!G35","v":0},{"$f":"'72-fund.zarz.przez ZUS'!H35","v":0},{"$f":"'72-fund.zarz.przez ZUS'!I35","v":0},{"$f":"'72-fund.zarz.przez ZUS'!J35","v":0},{"$f":"'72-fund.zarz.przez ZUS'!K35","v":0},{"$f":"'72-fund.zarz.przez ZUS'!L35","v":0},{"$f":"'72-fund.zarz.przez ZUS'!M35","v":0},{"$f":"'72-fund.zarz.przez ZUS'!N35","v":0},{"$f":"'72-fund.zarz.przez ZUS'!O35","v":0},{"$f":"'72-fund.zarz.przez ZUS'!P35","v":0},{"$f":"'72-fund.zarz.przez ZUS'!Q35","v":0},{"$f":"'72-fund.zarz.przez ZUS'!R35","v":0},{"$f":"'72-fund.zarz.przez ZUS'!C36","v":0},{"$f":"'72-fund.zarz.przez ZUS'!D36","v":0},{"$f":"'72-fund.zarz.przez ZUS'!E36","v":0},{"$f":"'72-fund.zarz.przez ZUS'!F36","v":0},{"$f":"'72-fund.zarz.przez ZUS'!G36","v":0},{"$f":"'72-fund.zarz.przez ZUS'!H36","v":0},{"$f":"'72-fund.zarz.przez ZUS'!I36","v":0},{"$f":"'72-fund.zarz.przez ZUS'!J36","v":0},{"$f":"'72-fund.zarz.przez ZUS'!K36","v":0},{"$f":"'72-fund.zarz.przez ZUS'!L36","v":0},{"$f":"'72-fund.zarz.przez ZUS'!M36","v":0},{"$f":"'72-fund.zarz.przez ZUS'!N36","v":0},{"$f":"'72-fund.zarz.przez ZUS'!O36","v":0},{"$f":"'72-fund.zarz.przez ZUS'!P36","v":0},{"$f":"'72-fund.zarz.przez ZUS'!Q36","v":0},{"$f":"'72-fund.zarz.przez ZUS'!R36","v":0},{"$f":"'72-fund.zarz.przez ZUS'!C37","v":0},{"$f":"'72-fund.zarz.przez ZUS'!D37","v":0},{"$f":"'72-fund.zarz.przez ZUS'!E37","v":0},{"$f":"'72-fund.zarz.przez ZUS'!F37","v":0},{"$f":"'72-fund.zarz.przez ZUS'!G37","v":0},{"$f":"'72-fund.zarz.przez ZUS'!H37","v":0},{"$f":"'72-fund.zarz.przez ZUS'!I37","v":0},{"$f":"'72-fund.zarz.przez ZUS'!J37","v":0},{"$f":"'72-fund.zarz.przez ZUS'!K37","v":0},{"$f":"'72-fund.zarz.przez ZUS'!L37","v":0},{"$f":"'72-fund.zarz.przez ZUS'!M37","v":0},{"$f":"'72-fund.zarz.przez ZUS'!N37","v":0},{"$f":"'72-fund.zarz.przez ZUS'!O37","v":0},{"$f":"'72-fund.zarz.przez ZUS'!P37","v":0},{"$f":"'72-fund.zarz.przez ZUS'!Q37","v":0},{"$f":"'72-fund.zarz.przez ZUS'!R37","v":0},{"$f":"'72-fund.zarz.przez ZUS'!C38","v":0},{"$f":"'72-fund.zarz.przez ZUS'!D38","v":0},{"$f":"'72-fund.zarz.przez ZUS'!E38","v":0},{"$f":"'72-fund.zarz.przez ZUS'!F38","v":0},{"$f":"'72-fund.zarz.przez ZUS'!G38","v":0},{"$f":"'72-fund.zarz.przez ZUS'!H38","v":0},{"$f":"'72-fund.zarz.przez ZUS'!I38","v":0},{"$f":"'72-fund.zarz.przez ZUS'!J38","v":0},{"$f":"'72-fund.zarz.przez ZUS'!K38","v":0},{"$f":"'72-fund.zarz.przez ZUS'!L38","v":0},{"$f":"'72-fund.zarz.przez ZUS'!M38","v":0},{"$f":"'72-fund.zarz.przez ZUS'!N38","v":0},{"$f":"'72-fund.zarz.przez ZUS'!O38","v":0},{"$f":"'72-fund.zarz.przez ZUS'!P38","v":0},{"$f":"'72-fund.zarz.przez ZUS'!Q38","v":0},{"$f":"'72-fund.zarz.przez ZUS'!R38","v":0},{"$f":"'72-fund.zarz.przez ZUS'!C39","v":0},{"$f":"'72-fund.zarz.przez ZUS'!D39","v":0},{"$f":"'72-fund.zarz.przez ZUS'!E39","v":0},{"$f":"'72-fund.zarz.przez ZUS'!F39","v":0},{"$f":"'72-fund.zarz.przez ZUS'!G39","v":0},{"$f":"'72-fund.zarz.przez ZUS'!H39","v":0},{"$f":"'72-fund.zarz.przez ZUS'!I39","v":0},{"$f":"'72-fund.zarz.przez ZUS'!J39","v":0},{"$f":"'72-fund.zarz.przez ZUS'!K39","v":0},{"$f":"'72-fund.zarz.przez ZUS'!L39","v":0},{"$f":"'72-fund.zarz.przez ZUS'!M39","v":0},{"$f":"'72-fund.zarz.przez ZUS'!N39","v":0},{"$f":"'72-fund.zarz.przez ZUS'!O39","v":0},{"$f":"'72-fund.zarz.przez ZUS'!P39","v":0},{"$f":"'72-fund.zarz.przez ZUS'!Q39","v":0},{"$f":"'72-fund.zarz.przez ZUS'!R39","v":0},{"$f":"'72-fund.zarz.przez ZUS'!C40","v":0},{"$f":"'72-fund.zarz.przez ZUS'!D40","v":0},{"$f":"'72-fund.zarz.przez ZUS'!E40","v":0},{"$f":"'72-fund.zarz.przez ZUS'!F40","v":0},{"$f":"'72-fund.zarz.przez ZUS'!G40","v":0},{"$f":"'72-fund.zarz.przez ZUS'!H40","v":0},{"$f":"'72-fund.zarz.przez ZUS'!I40","v":0},{"$f":"'72-fund.zarz.przez ZUS'!J40","v":0},{"$f":"'72-fund.zarz.przez ZUS'!K40","v":0},{"$f":"'72-fund.zarz.przez ZUS'!L40","v":0},{"$f":"'72-fund.zarz.przez ZUS'!M40","v":0},{"$f":"'72-fund.zarz.przez ZUS'!N40","v":0},{"$f":"'72-fund.zarz.przez ZUS'!O40","v":0},{"$f":"'72-fund.zarz.przez ZUS'!P40","v":0},{"$f":"'72-fund.zarz.przez ZUS'!Q40","v":0},{"$f":"'72-fund.zarz.przez ZUS'!R40","v":0}]
[{"$f":"'73-KRUS'!A8","v":""},null,null,null,null,{"$f":"'73-KRUS'!L11","v":73},{"$f":"'73-KRUS'!K8","v":0},{"$f":"'73-KRUS'!H8","v":0},{"$f":"'73-KRUS'!M11","v":0},null,null,{"$f":"'73-KRUS'!C34","v":0},{"$f":"'73-KRUS'!D34","v":0},{"$f":"'73-KRUS'!E34","v":0},{"$f":"'73-KRUS'!F34","v":0},{"$f":"'73-KRUS'!G34","v":0},{"$f":"'73-KRUS'!H34","v":0},{"$f":"'73-KRUS'!I34","v":0},{"$f":"'73-KRUS'!J34","v":0},{"$f":"'73-KRUS'!K34","v":0},{"$f":"'73-KRUS'!L34","v":0},{"$f":"'73-KRUS'!M34","v":0},{"$f":"'73-KRUS'!N34","v":0},{"$f":"'73-KRUS'!O34","v":0},{"$f":"'73-KRUS'!P34","v":0},{"$f":"'73-KRUS'!Q34","v":0},{"$f":"'73-KRUS'!R34","v":0},{"$f":"'73-KRUS'!C35","v":0},{"$f":"'73-KRUS'!D35","v":0},{"$f":"'73-KRUS'!E35","v":0},{"$f":"'73-KRUS'!F35","v":0},{"$f":"'73-KRUS'!G35","v":0},{"$f":"'73-KRUS'!H35","v":0},{"$f":"'73-KRUS'!I35","v":0},{"$f":"'73-KRUS'!J35","v":0},{"$f":"'73-KRUS'!K35","v":0},{"$f":"'73-KRUS'!L35","v":0},{"$f":"'73-KRUS'!M35","v":0},{"$f":"'73-KRUS'!N35","v":0},{"$f":"'73-KRUS'!O35","v":0},{"$f":"'73-KRUS'!P35","v":0},{"$f":"'73-KRUS'!Q35","v":0},{"$f":"'73-KRUS'!R35","v":0},{"$f":"'73-KRUS'!C36","v":0},{"$f":"'73-KRUS'!D36","v":0},{"$f":"'73-KRUS'!E36","v":0},{"$f":"'73-KRUS'!F36","v":0},{"$f":"'73-KRUS'!G36","v":0},{"$f":"'73-KRUS'!H36","v":0},{"$f":"'73-KRUS'!I36","v":0},{"$f":"'73-KRUS'!J36","v":0},{"$f":"'73-KRUS'!K36","v":0},{"$f":"'73-KRUS'!L36","v":0},{"$f":"'73-KRUS'!M36","v":0},{"$f":"'73-KRUS'!N36","v":0},{"$f":"'73-KRUS'!O36","v":0},{"$f":"'73-KRUS'!P36","v":0},{"$f":"'73-KRUS'!Q36","v":0},{"$f":"'73-KRUS'!R36","v":0},{"$f":"'73-KRUS'!C37","v":0},{"$f":"'73-KRUS'!D37","v":0},{"$f":"'73-KRUS'!E37","v":0},{"$f":"'73-KRUS'!F37","v":0},{"$f":"'73-KRUS'!G37","v":0},{"$f":"'73-KRUS'!H37","v":0},{"$f":"'73-KRUS'!I37","v":0},{"$f":"'73-KRUS'!J37","v":0},{"$f":"'73-KRUS'!K37","v":0},{"$f":"'73-KRUS'!L37","v":0},{"$f":"'73-KRUS'!M37","v":0},{"$f":"'73-KRUS'!N37","v":0},{"$f":"'73-KRUS'!O37","v":0},{"$f":"'73-KRUS'!P37","v":0},{"$f":"'73-KRUS'!Q37","v":0},{"$f":"'73-KRUS'!R37","v":0},{"$f":"'73-KRUS'!C38","v":0},{"$f":"'73-KRUS'!D38","v":0},{"$f":"'73-KRUS'!E38","v":0},{"$f":"'73-KRUS'!F38","v":0},{"$f":"'73-KRUS'!G38","v":0},{"$f":"'73-KRUS'!H38","v":0},{"$f":"'73-KRUS'!I38","v":0},{"$f":"'73-KRUS'!J38","v":0},{"$f":"'73-KRUS'!K38","v":0},{"$f":"'73-KRUS'!L38","v":0},{"$f":"'73-KRUS'!M38","v":0},{"$f":"'73-KRUS'!N38","v":0},{"$f":"'73-KRUS'!O38","v":0},{"$f":"'73-KRUS'!P38","v":0},{"$f":"'73-KRUS'!Q38","v":0},{"$f":"'73-KRUS'!R38","v":0},{"$f":"'73-KRUS'!C39","v":0},{"$f":"'73-KRUS'!D39","v":0},{"$f":"'73-KRUS'!E39","v":0},{"$f":"'73-KRUS'!F39","v":0},{"$f":"'73-KRUS'!G39","v":0},{"$f":"'73-KRUS'!H39","v":0},{"$f":"'73-KRUS'!I39","v":0},{"$f":"'73-KRUS'!J39","v":0},{"$f":"'73-KRUS'!K39","v":0},{"$f":"'73-KRUS'!L39","v":0},{"$f":"'73-KRUS'!M39","v":0},{"$f":"'73-KRUS'!N39","v":0},{"$f":"'73-KRUS'!O39","v":0},{"$f":"'73-KRUS'!P39","v":0},{"$f":"'73-KRUS'!Q39","v":0},{"$f":"'73-KRUS'!R39","v":0},{"$f":"'73-KRUS'!C40","v":0},{"$f":"'73-KRUS'!D40","v":0},{"$f":"'73-KRUS'!E40","v":0},{"$f":"'73-KRUS'!F40","v":0},{"$f":"'73-KRUS'!G40","v":0},{"$f":"'73-KRUS'!H40","v":0},{"$f":"'73-KRUS'!I40","v":0},{"$f":"'73-KRUS'!J40","v":0},{"$f":"'73-KRUS'!K40","v":0},{"$f":"'73-KRUS'!L40","v":0},{"$f":"'73-KRUS'!M40","v":0},{"$f":"'73-KRUS'!N40","v":0},{"$f":"'73-KRUS'!O40","v":0},{"$f":"'73-KRUS'!P40","v":0},{"$f":"'73-KRUS'!Q40","v":0},{"$f":"'73-KRUS'!R40","v":0}]
[{"$f":"'81-państw.osoba prawna'!A8","v":""},null,null,null,null,{"$f":"'81-państw.osoba prawna'!L11","v":81},{"$f":"'81-państw.osoba prawna'!K8","v":0},{"$f":"'81-państw.osoba prawna'!H8","v":0},{"$f":"'81-państw.osoba prawna'!M11","v":0},null,null,{"$f":"'81-państw.osoba prawna'!C34","v":0},{"$f":"'81-państw.osoba prawna'!D34","v":0},{"$f":"'81-państw.osoba prawna'!E34","v":0},{"$f":"'81-państw.osoba prawna'!F34","v":0},{"$f":"'81-państw.osoba prawna'!G34","v":0},{"$f":"'81-państw.osoba prawna'!H34","v":0},{"$f":"'81-państw.osoba prawna'!I34","v":0},{"$f":"'81-państw.osoba prawna'!J34","v":0},{"$f":"'81-państw.osoba prawna'!K34","v":0},{"$f":"'81-państw.osoba prawna'!L34","v":0},{"$f":"'81-państw.osoba prawna'!M34","v":0},{"$f":"'81-państw.osoba prawna'!N34","v":0},{"$f":"'81-państw.osoba prawna'!O34","v":0},{"$f":"'81-państw.osoba prawna'!P34","v":0},{"$f":"'81-państw.osoba prawna'!Q34","v":0},{"$f":"'81-państw.osoba prawna'!R34","v":0},{"$f":"'81-państw.osoba prawna'!C35","v":0},{"$f":"'81-państw.osoba prawna'!D35","v":0},{"$f":"'81-państw.osoba prawna'!E35","v":0},{"$f":"'81-państw.osoba prawna'!F35","v":0},{"$f":"'81-państw.osoba prawna'!G35","v":0},{"$f":"'81-państw.osoba prawna'!H35","v":0},{"$f":"'81-państw.osoba prawna'!I35","v":0},{"$f":"'81-państw.osoba prawna'!J35","v":0},{"$f":"'81-państw.osoba prawna'!K35","v":0},{"$f":"'81-państw.osoba prawna'!L35","v":0},{"$f":"'81-państw.osoba prawna'!M35","v":0},{"$f":"'81-państw.osoba prawna'!N35","v":0},{"$f":"'81-państw.osoba prawna'!O35","v":0},{"$f":"'81-państw.osoba prawna'!P35","v":0},{"$f":"'81-państw.osoba prawna'!Q35","v":0},{"$f":"'81-państw.osoba prawna'!R35","v":0},{"$f":"'81-państw.osoba prawna'!C36","v":0},{"$f":"'81-państw.osoba prawna'!D36","v":0},{"$f":"'81-państw.osoba prawna'!E36","v":0},{"$f":"'81-państw.osoba prawna'!F36","v":0},{"$f":"'81-państw.osoba prawna'!G36","v":0},{"$f":"'81-państw.osoba prawna'!H36","v":0},{"$f":"'81-państw.osoba prawna'!I36","v":0},{"$f":"'81-państw.osoba prawna'!J36","v":0},{"$f":"'81-państw.osoba prawna'!K36","v":0},{"$f":"'81-państw.osoba prawna'!L36","v":0},{"$f":"'81-państw.osoba prawna'!M36","v":0},{"$f":"'81-państw.osoba prawna'!N36","v":0},{"$f":"'81-państw.osoba prawna'!O36","v":0},{"$f":"'81-państw.osoba prawna'!P36","v":0},{"$f":"'81-państw.osoba prawna'!Q36","v":0},{"$f":"'81-państw.osoba prawna'!R36","v":0},{"$f":"'81-państw.osoba prawna'!C37","v":0},{"$f":"'81-państw.osoba prawna'!D37","v":0},{"$f":"'81-państw.osoba prawna'!E37","v":0},{"$f":"'81-państw.osoba prawna'!F37","v":0},{"$f":"'81-państw.osoba prawna'!G37","v":0},{"$f":"'81-państw.osoba prawna'!H37","v":0},{"$f":"'81-państw.osoba prawna'!I37","v":0},{"$f":"'81-państw.osoba prawna'!J37","v":0},{"$f":"'81-państw.osoba prawna'!K37","v":0},{"$f":"'81-państw.osoba prawna'!L37","v":0},{"$f":"'81-państw.osoba prawna'!M37","v":0},{"$f":"'81-państw.osoba prawna'!N37","v":0},{"$f":"'81-państw.osoba prawna'!O37","v":0},{"$f":"'81-państw.osoba prawna'!P37","v":0},{"$f":"'81-państw.osoba prawna'!Q37","v":0},{"$f":"'81-państw.osoba prawna'!R37","v":0},{"$f":"'81-państw.osoba prawna'!C38","v":0},{"$f":"'81-państw.osoba prawna'!D38","v":0},{"$f":"'81-państw.osoba prawna'!E38","v":0},{"$f":"'81-państw.osoba prawna'!F38","v":0},{"$f":"'81-państw.osoba prawna'!G38","v":0},{"$f":"'81-państw.osoba prawna'!H38","v":0},{"$f":"'81-państw.osoba prawna'!I38","v":0},{"$f":"'81-państw.osoba prawna'!J38","v":0},{"$f":"'81-państw.osoba prawna'!K38","v":0},{"$f":"'81-państw.osoba prawna'!L38","v":0},{"$f":"'81-państw.osoba prawna'!M38","v":0},{"$f":"'81-państw.osoba prawna'!N38","v":0},{"$f":"'81-państw.osoba prawna'!O38","v":0},{"$f":"'81-państw.osoba prawna'!P38","v":0},{"$f":"'81-państw.osoba prawna'!Q38","v":0},{"$f":"'81-państw.osoba prawna'!R38","v":0},{"$f":"'81-państw.osoba prawna'!C39","v":0},{"$f":"'81-państw.osoba prawna'!D39","v":0},{"$f":"'81-państw.osoba prawna'!E39","v":0},{"$f":"'81-państw.osoba prawna'!F39","v":0},{"$f":"'81-państw.osoba prawna'!G39","v":0},{"$f":"'81-państw.osoba prawna'!H39","v":0},{"$f":"'81-państw.osoba prawna'!I39","v":0},{"$f":"'81-państw.osoba prawna'!J39","v":0},{"$f":"'81-państw.osoba prawna'!K39","v":0},{"$f":"'81-państw.osoba prawna'!L39","v":0},{"$f":"'81-państw.osoba prawna'!M39","v":0},{"$f":"'81-państw.osoba prawna'!N39","v":0},{"$f":"'81-państw.osoba prawna'!O39","v":0},{"$f":"'81-państw.osoba prawna'!P39","v":0},{"$f":"'81-państw.osoba prawna'!Q39","v":0},{"$f":"'81-państw.osoba prawna'!R39","v":0},{"$f":"'81-państw.osoba prawna'!C40","v":0},{"$f":"'81-państw.osoba prawna'!D40","v":0},{"$f":"'81-państw.osoba prawna'!E40","v":0},{"$f":"'81-państw.osoba prawna'!F40","v":0},{"$f":"'81-państw.osoba prawna'!G40","v":0},{"$f":"'81-państw.osoba prawna'!H40","v":0},{"$f":"'81-państw.osoba prawna'!I40","v":0},{"$f":"'81-państw.osoba prawna'!J40","v":0},{"$f":"'81-państw.osoba prawna'!K40","v":0},{"$f":"'81-państw.osoba prawna'!L40","v":0},{"$f":"'81-państw.osoba prawna'!M40","v":0},{"$f":"'81-państw.osoba prawna'!N40","v":0},{"$f":"'81-państw.osoba prawna'!O40","v":0},{"$f":"'81-państw.osoba prawna'!P40","v":0},{"$f":"'81-państw.osoba prawna'!Q40","v":0},{"$f":"'81-państw.osoba prawna'!R40","v":0}]
[{"$f":"'82-samorz.osoba prawna'!A8","v":""},null,null,null,null,{"$f":"'82-samorz.osoba prawna'!L11","v":82},{"$f":"'82-samorz.osoba prawna'!K8","v":0},{"$f":"'82-samorz.osoba prawna'!H8","v":0},{"$f":"'82-samorz.osoba prawna'!M11","v":0},null,null,{"$f":"'82-samorz.osoba prawna'!C34","v":0},{"$f":"'82-samorz.osoba prawna'!D34","v":0},{"$f":"'82-samorz.osoba prawna'!E34","v":0},{"$f":"'82-samorz.osoba prawna'!F34","v":0},{"$f":"'82-samorz.osoba prawna'!G34","v":0},{"$f":"'82-samorz.osoba prawna'!H34","v":0},{"$f":"'82-samorz.osoba prawna'!I34","v":0},{"$f":"'82-samorz.osoba prawna'!J34","v":0},{"$f":"'82-samorz.osoba prawna'!K34","v":0},{"$f":"'82-samorz.osoba prawna'!L34","v":0},{"$f":"'82-samorz.osoba prawna'!M34","v":0},{"$f":"'82-samorz.osoba prawna'!N34","v":0},{"$f":"'82-samorz.osoba prawna'!O34","v":0},{"$f":"'82-samorz.osoba prawna'!P34","v":0},{"$f":"'82-samorz.osoba prawna'!Q34","v":0},{"$f":"'82-samorz.osoba prawna'!R34","v":0},{"$f":"'82-samorz.osoba prawna'!C35","v":0},{"$f":"'82-samorz.osoba prawna'!D35","v":0},{"$f":"'82-samorz.osoba prawna'!E35","v":0},{"$f":"'82-samorz.osoba prawna'!F35","v":0},{"$f":"'82-samorz.osoba prawna'!G35","v":0},{"$f":"'82-samorz.osoba prawna'!H35","v":0},{"$f":"'82-samorz.osoba prawna'!I35","v":0},{"$f":"'82-samorz.osoba prawna'!J35","v":0},{"$f":"'82-samorz.osoba prawna'!K35","v":0},{"$f":"'82-samorz.osoba prawna'!L35","v":0},{"$f":"'82-samorz.osoba prawna'!M35","v":0},{"$f":"'82-samorz.osoba prawna'!N35","v":0},{"$f":"'82-samorz.osoba prawna'!O35","v":0},{"$f":"'82-samorz.osoba prawna'!P35","v":0},{"$f":"'82-samorz.osoba prawna'!Q35","v":0},{"$f":"'82-samorz.osoba prawna'!R35","v":0},{"$f":"'82-samorz.osoba prawna'!C36","v":0},{"$f":"'82-samorz.osoba prawna'!D36","v":0},{"$f":"'82-samorz.osoba prawna'!E36","v":0},{"$f":"'82-samorz.osoba prawna'!F36","v":0},{"$f":"'82-samorz.osoba prawna'!G36","v":0},{"$f":"'82-samorz.osoba prawna'!H36","v":0},{"$f":"'82-samorz.osoba prawna'!I36","v":0},{"$f":"'82-samorz.osoba prawna'!J36","v":0},{"$f":"'82-samorz.osoba prawna'!K36","v":0},{"$f":"'82-samorz.osoba prawna'!L36","v":0},{"$f":"'82-samorz.osoba prawna'!M36","v":0},{"$f":"'82-samorz.osoba prawna'!N36","v":0},{"$f":"'82-samorz.osoba prawna'!O36","v":0},{"$f":"'82-samorz.osoba prawna'!P36","v":0},{"$f":"'82-samorz.osoba prawna'!Q36","v":0},{"$f":"'82-samorz.osoba prawna'!R36","v":0},{"$f":"'82-samorz.osoba prawna'!C37","v":0},{"$f":"'82-samorz.osoba prawna'!D37","v":0},{"$f":"'82-samorz.osoba prawna'!E37","v":0},{"$f":"'82-samorz.osoba prawna'!F37","v":0},{"$f":"'82-samorz.osoba prawna'!G37","v":0},{"$f":"'82-samorz.osoba prawna'!H37","v":0},{"$f":"'82-samorz.osoba prawna'!I37","v":0},{"$f":"'82-samorz.osoba prawna'!J37","v":0},{"$f":"'82-samorz.osoba prawna'!K37","v":0},{"$f":"'82-samorz.osoba prawna'!L37","v":0},{"$f":"'82-samorz.osoba prawna'!M37","v":0},{"$f":"'82-samorz.osoba prawna'!N37","v":0},{"$f":"'82-samorz.osoba prawna'!O37","v":0},{"$f":"'82-samorz.osoba prawna'!P37","v":0},{"$f":"'82-samorz.osoba prawna'!Q37","v":0},{"$f":"'82-samorz.osoba prawna'!R37","v":0},{"$f":"'82-samorz.osoba prawna'!C38","v":0},{"$f":"'82-samorz.osoba prawna'!D38","v":0},{"$f":"'82-samorz.osoba prawna'!E38","v":0},{"$f":"'82-samorz.osoba prawna'!F38","v":0},{"$f":"'82-samorz.osoba prawna'!G38","v":0},{"$f":"'82-samorz.osoba prawna'!H38","v":0},{"$f":"'82-samorz.osoba prawna'!I38","v":0},{"$f":"'82-samorz.osoba prawna'!J38","v":0},{"$f":"'82-samorz.osoba prawna'!K38","v":0},{"$f":"'82-samorz.osoba prawna'!L38","v":0},{"$f":"'82-samorz.osoba prawna'!M38","v":0},{"$f":"'82-samorz.osoba prawna'!N38","v":0},{"$f":"'82-samorz.osoba prawna'!O38","v":0},{"$f":"'82-samorz.osoba prawna'!P38","v":0},{"$f":"'82-samorz.osoba prawna'!Q38","v":0},{"$f":"'82-samorz.osoba prawna'!R38","v":0},{"$f":"'82-samorz.osoba prawna'!C39","v":0},{"$f":"'82-samorz.osoba prawna'!D39","v":0},{"$f":"'82-samorz.osoba prawna'!E39","v":0},{"$f":"'82-samorz.osoba prawna'!F39","v":0},{"$f":"'82-samorz.osoba prawna'!G39","v":0},{"$f":"'82-samorz.osoba prawna'!H39","v":0},{"$f":"'82-samorz.osoba prawna'!I39","v":0},{"$f":"'82-samorz.osoba prawna'!J39","v":0},{"$f":"'82-samorz.osoba prawna'!K39","v":0},{"$f":"'82-samorz.osoba prawna'!L39","v":0},{"$f":"'82-samorz.osoba prawna'!M39","v":0},{"$f":"'82-samorz.osoba prawna'!N39","v":0},{"$f":"'82-samorz.osoba prawna'!O39","v":0},{"$f":"'82-samorz.osoba prawna'!P39","v":0},{"$f":"'82-samorz.osoba prawna'!Q39","v":0},{"$f":"'82-samorz.osoba prawna'!R39","v":0},{"$f":"'82-samorz.osoba prawna'!C40","v":0},{"$f":"'82-samorz.osoba prawna'!D40","v":0},{"$f":"'82-samorz.osoba prawna'!E40","v":0},{"$f":"'82-samorz.osoba prawna'!F40","v":0},{"$f":"'82-samorz.osoba prawna'!G40","v":0},{"$f":"'82-samorz.osoba prawna'!H40","v":0},{"$f":"'82-samorz.osoba prawna'!I40","v":0},{"$f":"'82-samorz.osoba prawna'!J40","v":0},{"$f":"'82-samorz.osoba prawna'!K40","v":0},{"$f":"'82-samorz.osoba prawna'!L40","v":0},{"$f":"'82-samorz.osoba prawna'!M40","v":0},{"$f":"'82-samorz.osoba prawna'!N40","v":0},{"$f":"'82-samorz.osoba prawna'!O40","v":0},{"$f":"'82-samorz.osoba prawna'!P40","v":0},{"$f":"'82-samorz.osoba prawna'!Q40","v":0},{"$f":"'82-samorz.osoba prawna'!R40","v":0}]
[{"$f":"'90-agencja wykonawcza'!A8","v":""},null,null,null,null,{"$f":"'90-agencja wykonawcza'!L11","v":90},{"$f":"'90-agencja wykonawcza'!K8","v":0},{"$f":"'90-agencja wykonawcza'!H8","v":0},{"$f":"'90-agencja wykonawcza'!M11","v":0},null,null,{"$f":"'90-agencja wykonawcza'!C34","v":0},{"$f":"'90-agencja wykonawcza'!D34","v":0},{"$f":"'90-agencja wykonawcza'!E34","v":0},{"$f":"'90-agencja wykonawcza'!F34","v":0},{"$f":"'90-agencja wykonawcza'!G34","v":0},{"$f":"'90-agencja wykonawcza'!H34","v":0},{"$f":"'90-agencja wykonawcza'!I34","v":0},{"$f":"'90-agencja wykonawcza'!J34","v":0},{"$f":"'90-agencja wykonawcza'!K34","v":0},{"$f":"'90-agencja wykonawcza'!L34","v":0},{"$f":"'90-agencja wykonawcza'!M34","v":0},{"$f":"'90-agencja wykonawcza'!N34","v":0},{"$f":"'90-agencja wykonawcza'!O34","v":0},{"$f":"'90-agencja wykonawcza'!P34","v":0},{"$f":"'90-agencja wykonawcza'!Q34","v":0},{"$f":"'90-agencja wykonawcza'!R34","v":0},{"$f":"'90-agencja wykonawcza'!C35","v":0},{"$f":"'90-agencja wykonawcza'!D35","v":0},{"$f":"'90-agencja wykonawcza'!E35","v":0},{"$f":"'90-agencja wykonawcza'!F35","v":0},{"$f":"'90-agencja wykonawcza'!G35","v":0},{"$f":"'90-agencja wykonawcza'!H35","v":0},{"$f":"'90-agencja wykonawcza'!I35","v":0},{"$f":"'90-agencja wykonawcza'!J35","v":0},{"$f":"'90-agencja wykonawcza'!K35","v":0},{"$f":"'90-agencja wykonawcza'!L35","v":0},{"$f":"'90-agencja wykonawcza'!M35","v":0},{"$f":"'90-agencja wykonawcza'!N35","v":0},{"$f":"'90-agencja wykonawcza'!O35","v":0},{"$f":"'90-agencja wykonawcza'!P35","v":0},{"$f":"'90-agencja wykonawcza'!Q35","v":0},{"$f":"'90-agencja wykonawcza'!R35","v":0},{"$f":"'90-agencja wykonawcza'!C36","v":0},{"$f":"'90-agencja wykonawcza'!D36","v":0},{"$f":"'90-agencja wykonawcza'!E36","v":0},{"$f":"'90-agencja wykonawcza'!F36","v":0},{"$f":"'90-agencja wykonawcza'!G36","v":0},{"$f":"'90-agencja wykonawcza'!H36","v":0},{"$f":"'90-agencja wykonawcza'!I36","v":0},{"$f":"'90-agencja wykonawcza'!J36","v":0},{"$f":"'90-agencja wykonawcza'!K36","v":0},{"$f":"'90-agencja wykonawcza'!L36","v":0},{"$f":"'90-agencja wykonawcza'!M36","v":0},{"$f":"'90-agencja wykonawcza'!N36","v":0},{"$f":"'90-agencja wykonawcza'!O36","v":0},{"$f":"'90-agencja wykonawcza'!P36","v":0},{"$f":"'90-agencja wykonawcza'!Q36","v":0},{"$f":"'90-agencja wykonawcza'!R36","v":0},{"$f":"'90-agencja wykonawcza'!C37","v":0},{"$f":"'90-agencja wykonawcza'!D37","v":0},{"$f":"'90-agencja wykonawcza'!E37","v":0},{"$f":"'90-agencja wykonawcza'!F37","v":0},{"$f":"'90-agencja wykonawcza'!G37","v":0},{"$f":"'90-agencja wykonawcza'!H37","v":0},{"$f":"'90-agencja wykonawcza'!I37","v":0},{"$f":"'90-agencja wykonawcza'!J37","v":0},{"$f":"'90-agencja wykonawcza'!K37","v":0},{"$f":"'90-agencja wykonawcza'!L37","v":0},{"$f":"'90-agencja wykonawcza'!M37","v":0},{"$f":"'90-agencja wykonawcza'!N37","v":0},{"$f":"'90-agencja wykonawcza'!O37","v":0},{"$f":"'90-agencja wykonawcza'!P37","v":0},{"$f":"'90-agencja wykonawcza'!Q37","v":0},{"$f":"'90-agencja wykonawcza'!R37","v":0},{"$f":"'90-agencja wykonawcza'!C38","v":0},{"$f":"'90-agencja wykonawcza'!D38","v":0},{"$f":"'90-agencja wykonawcza'!E38","v":0},{"$f":"'90-agencja wykonawcza'!F38","v":0},{"$f":"'90-agencja wykonawcza'!G38","v":0},{"$f":"'90-agencja wykonawcza'!H38","v":0},{"$f":"'90-agencja wykonawcza'!I38","v":0},{"$f":"'90-agencja wykonawcza'!J38","v":0},{"$f":"'90-agencja wykonawcza'!K38","v":0},{"$f":"'90-agencja wykonawcza'!L38","v":0},{"$f":"'90-agencja wykonawcza'!M38","v":0},{"$f":"'90-agencja wykonawcza'!N38","v":0},{"$f":"'90-agencja wykonawcza'!O38","v":0},{"$f":"'90-agencja wykonawcza'!P38","v":0},{"$f":"'90-agencja wykonawcza'!Q38","v":0},{"$f":"'90-agencja wykonawcza'!R38","v":0},{"$f":"'90-agencja wykonawcza'!C39","v":0},{"$f":"'90-agencja wykonawcza'!D39","v":0},{"$f":"'90-agencja wykonawcza'!E39","v":0},{"$f":"'90-agencja wykonawcza'!F39","v":0},{"$f":"'90-agencja wykonawcza'!G39","v":0},{"$f":"'90-agencja wykonawcza'!H39","v":0},{"$f":"'90-agencja wykonawcza'!I39","v":0},{"$f":"'90-agencja wykonawcza'!J39","v":0},{"$f":"'90-agencja wykonawcza'!K39","v":0},{"$f":"'90-agencja wykonawcza'!L39","v":0},{"$f":"'90-agencja wykonawcza'!M39","v":0},{"$f":"'90-agencja wykonawcza'!N39","v":0},{"$f":"'90-agencja wykonawcza'!O39","v":0},{"$f":"'90-agencja wykonawcza'!P39","v":0},{"$f":"'90-agencja wykonawcza'!Q39","v":0},{"$f":"'90-agencja wykonawcza'!R39","v":0},{"$f":"'90-agencja wykonawcza'!C40","v":0},{"$f":"'90-agencja wykonawcza'!D40","v":0},{"$f":"'90-agencja wykonawcza'!E40","v":0},{"$f":"'90-agencja wykonawcza'!F40","v":0},{"$f":"'90-agencja wykonawcza'!G40","v":0},{"$f":"'90-agencja wykonawcza'!H40","v":0},{"$f":"'90-agencja wykonawcza'!I40","v":0},{"$f":"'90-agencja wykonawcza'!J40","v":0},{"$f":"'90-agencja wykonawcza'!K40","v":0},{"$f":"'90-agencja wykonawcza'!L40","v":0},{"$f":"'90-agencja wykonawcza'!M40","v":0},{"$f":"'90-agencja wykonawcza'!N40","v":0},{"$f":"'90-agencja wykonawcza'!O40","v":0},{"$f":"'90-agencja wykonawcza'!P40","v":0},{"$f":"'90-agencja wykonawcza'!Q40","v":0},{"$f":"'90-agencja wykonawcza'!R40","v":0}]
[{"$f":"'99-zbiorczo'!A8","v":"Brak regonu"},null,null,null,null,{"$f":"'99-zbiorczo'!L11","v":99},{"$f":"'99-zbiorczo'!K8","v":"Brak roku"},{"$f":"'99-zbiorczo'!H8","v":"Brak nr kwartału"},{"$f":"'99-zbiorczo'!M11","v":0},null,null,{"$f":"'99-zbiorczo'!C34","v":0},{"$f":"'99-zbiorczo'!D34","v":0},{"$f":"'99-zbiorczo'!E34","v":0},{"$f":"'99-zbiorczo'!F34","v":0},{"$f":"'99-zbiorczo'!G34","v":0},{"$f":"'99-zbiorczo'!H34","v":0},{"$f":"'99-zbiorczo'!I34","v":0},{"$f":"'99-zbiorczo'!J34","v":0},{"$f":"'99-zbiorczo'!K34","v":0},{"$f":"'99-zbiorczo'!L34","v":0},{"$f":"'99-zbiorczo'!M34","v":0},{"$f":"'99-zbiorczo'!N34","v":0},{"$f":"'99-zbiorczo'!O34","v":0},{"$f":"'99-zbiorczo'!P34","v":0},{"$f":"'99-zbiorczo'!Q34","v":0},{"$f":"'99-zbiorczo'!R34","v":0},{"$f":"'99-zbiorczo'!C35","v":0},{"$f":"'99-zbiorczo'!D35","v":0},{"$f":"'99-zbiorczo'!E35","v":0},{"$f":"'99-zbiorczo'!F35","v":0},{"$f":"'99-zbiorczo'!G35","v":0},{"$f":"'99-zbiorczo'!H35","v":0},{"$f":"'99-zbiorczo'!I35","v":0},{"$f":"'99-zbiorczo'!J35","v":0},{"$f":"'99-zbiorczo'!K35","v":0},{"$f":"'99-zbiorczo'!L35","v":0},{"$f":"'99-zbiorczo'!M35","v":0},{"$f":"'99-zbiorczo'!N35","v":0},{"$f":"'99-zbiorczo'!O35","v":0},{"$f":"'99-zbiorczo'!P35","v":0},{"$f":"'99-zbiorczo'!Q35","v":0},{"$f":"'99-zbiorczo'!R35","v":0},{"$f":"'99-zbiorczo'!C36","v":0},{"$f":"'99-zbiorczo'!D36","v":0},{"$f":"'99-zbiorczo'!E36","v":0},{"$f":"'99-zbiorczo'!F36","v":0},{"$f":"'99-zbiorczo'!G36","v":0},{"$f":"'99-zbiorczo'!H36","v":0},{"$f":"'99-zbiorczo'!I36","v":0},{"$f":"'99-zbiorczo'!J36","v":0},{"$f":"'99-zbiorczo'!K36","v":0},{"$f":"'99-zbiorczo'!L36","v":0},{"$f":"'99-zbiorczo'!M36","v":0},{"$f":"'99-zbiorczo'!N36","v":0},{"$f":"'99-zbiorczo'!O36","v":0},{"$f":"'99-zbiorczo'!P36","v":0},{"$f":"'99-zbiorczo'!Q36","v":0},{"$f":"'99-zbiorczo'!R36","v":0},{"$f":"'99-zbiorczo'!C37","v":0},{"$f":"'99-zbiorczo'!D37","v":0},{"$f":"'99-zbiorczo'!E37","v":0},{"$f":"'99-zbiorczo'!F37","v":0},{"$f":"'99-zbiorczo'!G37","v":0},{"$f":"'99-zbiorczo'!H37","v":0},{"$f":"'99-zbiorczo'!I37","v":0},{"$f":"'99-zbiorczo'!J37","v":0},{"$f":"'99-zbiorczo'!K37","v":0},{"$f":"'99-zbiorczo'!L37","v":0},{"$f":"'99-zbiorczo'!M37","v":0},{"$f":"'99-zbiorczo'!N37","v":0},{"$f":"'99-zbiorczo'!O37","v":0},{"$f":"'99-zbiorczo'!P37","v":0},{"$f":"'99-zbiorczo'!Q37","v":0},{"$f":"'99-zbiorczo'!R37","v":0},{"$f":"'99-zbiorczo'!C38","v":0},{"$f":"'99-zbiorczo'!D38","v":0},{"$f":"'99-zbiorczo'!E38","v":0},{"$f":"'99-zbiorczo'!F38","v":0},{"$f":"'99-zbiorczo'!G38","v":0},{"$f":"'99-zbiorczo'!H38","v":0},{"$f":"'99-zbiorczo'!I38","v":0},{"$f":"'99-zbiorczo'!J38","v":0},{"$f":"'99-zbiorczo'!K38","v":0},{"$f":"'99-zbiorczo'!L38","v":0},{"$f":"'99-zbiorczo'!M38","v":0},{"$f":"'99-zbiorczo'!N38","v":0},{"$f":"'99-zbiorczo'!O38","v":0},{"$f":"'99-zbiorczo'!P38","v":0},{"$f":"'99-zbiorczo'!Q38","v":0},{"$f":"'99-zbiorczo'!R38","v":0},{"$f":"'99-zbiorczo'!C39","v":0},{"$f":"'99-zbiorczo'!D39","v":0},{"$f":"'99-zbiorczo'!E39","v":0},{"$f":"'99-zbiorczo'!F39","v":0},{"$f":"'99-zbiorczo'!G39","v":0},{"$f":"'99-zbiorczo'!H39","v":0},{"$f":"'99-zbiorczo'!I39","v":0},{"$f":"'99-zbiorczo'!J39","v":0},{"$f":"'99-zbiorczo'!K39","v":0},{"$f":"'99-zbiorczo'!L39","v":0},{"$f":"'99-zbiorczo'!M39","v":0},{"$f":"'99-zbiorczo'!N39","v":0},{"$f":"'99-zbiorczo'!O39","v":0},{"$f":"'99-zbiorczo'!P39","v":0},{"$f":"'99-zbiorczo'!Q39","v":0},{"$f":"'99-zbiorczo'!R39","v":0},{"$f":"'99-zbiorczo'!C40","v":0},{"$f":"'99-zbiorczo'!D40","v":0},{"$f":"'99-zbiorczo'!E40","v":0},{"$f":"'99-zbiorczo'!F40","v":0},{"$f":"'99-zbiorczo'!G40","v":0},{"$f":"'99-zbiorczo'!H40","v":0},{"$f":"'99-zbiorczo'!I40","v":0},{"$f":"'99-zbiorczo'!J40","v":0},{"$f":"'99-zbiorczo'!K40","v":0},{"$f":"'99-zbiorczo'!L40","v":0},{"$f":"'99-zbiorczo'!M40","v":0},{"$f":"'99-zbiorczo'!N40","v":0},{"$f":"'99-zbiorczo'!O40","v":0},{"$f":"'99-zbiorczo'!P40","v":0},{"$f":"'99-zbiorczo'!Q40","v":0},{"$f":"'99-zbiorczo'!R40","v":0}]

{"sheet":"RBNB","index":19,"n_rows":17,"n_cols":39,"rows_kept":17,"cut":false,"hidden":true,"merged":[]}
["REGON","WK","PK","GK","GT","PT","ROK","KWARTAL","CZ_BU","DAT_SKW","UWAGI","B1002","B1003","B1004","B1005","B1006","B1007","B1008","B2002","B2003","B2004","B2005","B2006","B2007","B2008","B3002","B3003","B3004","B3005","B3006","B3007","B3008","B4002","B4003","B4004","B4005","B4006","B4007","B4008"]
[{"$f":"'11-państw.fund.cel.'!A8","v":""},null,null,null,null,{"$f":"'11-państw.fund.cel.'!L11","v":11},{"$f":"'11-państw.fund.cel.'!K8","v":0},{"$f":"'11-państw.fund.cel.'!H8","v":0},{"$f":"'11-państw.fund.cel.'!M11","v":0},null,null,{"$f":"'11-państw.fund.cel.'!F51","v":0},{"$f":"'11-państw.fund.cel.'!G51","v":0},{"$f":"'11-państw.fund.cel.'!H51","v":0},{"$f":"'11-państw.fund.cel.'!I51","v":0},{"$f":"'11-państw.fund.cel.'!J51","v":0},{"$f":"'11-państw.fund.cel.'!K51","v":0},{"$f":"'11-państw.fund.cel.'!L51","v":0},{"$f":"'11-państw.fund.cel.'!F52","v":0},{"$f":"'11-państw.fund.cel.'!G52","v":0},{"$f":"'11-państw.fund.cel.'!H52","v":0},{"$f":"'11-państw.fund.cel.'!I52","v":0},{"$f":"'11-państw.fund.cel.'!J52","v":0},{"$f":"'11-państw.fund.cel.'!K52","v":0},{"$f":"'11-państw.fund.cel.'!L52","v":0},{"$f":"'11-państw.fund.cel.'!F53","v":0},{"$f":"'11-państw.fund.cel.'!G53","v":0},{"$f":"'11-państw.fund.cel.'!H53","v":0},{"$f":"'11-państw.fund.cel.'!I53","v":0},{"$f":"'11-państw.fund.cel.'!J53","v":0},{"$f":"'11-państw.fund.cel.'!K53","v":0},{"$f":"'11-państw.fund.cel.'!L53","v":0},{"$f":"'11-państw.fund.cel.'!F54","v":0},{"$f":"'11-państw.fund.cel.'!G54","v":0},{"$f":"'11-państw.fund.cel.'!H54","v":0},{"$f":"'11-państw.fund.cel.'!I54","v":0},{"$f":"'11-państw.fund.cel.'!J54","v":0},{"$f":"'11-państw.fund.cel.'!K54","v":0},{"$f":"'11-państw.fund.cel.'!L54","v":0}]
[{"$f":"'20-państw.szk.wyż.'!A8","v":""},null,null,null,null,{"$f":"'20-państw.szk.wyż.'!L11","v":20},{"$f":"'20-państw.szk.wyż.'!K8","v":0},{"$f":"'20-państw.szk.wyż.'!H8","v":0},{"$f":"'20-państw.szk.wyż.'!M11","v":0},null,null,{"$f":"'20-państw.szk.wyż.'!F51","v":0},{"$f":"'20-państw.szk.wyż.'!G51","v":0},{"$f":"'20-państw.szk.wyż.'!H51","v":0},{"$f":"'20-państw.szk.wyż.'!I51","v":0},{"$f":"'20-państw.szk.wyż.'!J51","v":0},{"$f":"'20-państw.szk.wyż.'!K51","v":0},{"$f":"'20-państw.szk.wyż.'!L51","v":0},{"$f":"'20-państw.szk.wyż.'!F52","v":0},{"$f":"'20-państw.szk.wyż.'!G52","v":0},{"$f":"'20-państw.szk.wyż.'!H52","v":0},{"$f":"'20-państw.szk.wyż.'!I52","v":0},{"$f":"'20-państw.szk.wyż.'!J52","v":0},{"$f":"'20-państw.szk.wyż.'!K52","v":0},{"$f":"'20-państw.szk.wyż.'!L52","v":0},{"$f":"'20-państw.szk.wyż.'!F53","v":0},{"$f":"'20-państw.szk.wyż.'!G53","v":0},{"$f":"'20-państw.szk.wyż.'!H53","v":0},{"$f":"'20-państw.szk.wyż.'!I53","v":0},{"$f":"'20-państw.szk.wyż.'!J53","v":0},{"$f":"'20-państw.szk.wyż.'!K53","v":0},{"$f":"'20-państw.szk.wyż.'!L53","v":0},{"$f":"'20-państw.szk.wyż.'!F54","v":0},{"$f":"'20-państw.szk.wyż.'!G54","v":0},{"$f":"'20-państw.szk.wyż.'!H54","v":0},{"$f":"'20-państw.szk.wyż.'!I54","v":0},{"$f":"'20-państw.szk.wyż.'!J54","v":0},{"$f":"'20-państw.szk.wyż.'!K54","v":0},{"$f":"'20-państw.szk.wyż.'!L54","v":0}]
[{"$f":"'31-instytucje gosp budż'!A8","v":""},null,null,null,null,{"$f":"'31-instytucje gosp budż'!L11","v":31},{"$f":"'31-instytucje gosp budż'!K8","v":0},{"$f":"'31-instytucje gosp budż'!H8","v":0},{"$f":"'31-instytucje gosp budż'!M11","v":0},null,null,{"$f":"'31-instytucje gosp budż'!F51","v":0},{"$f":"'31-instytucje gosp budż'!G51","v":0},{"$f":"'31-instytucje gosp budż'!H51","v":0},{"$f":"'31-instytucje gosp budż'!I51","v":0},{"$f":"'31-instytucje gosp budż'!J51","v":0},{"$f":"'31-instytucje gosp budż'!K51","v":0},{"$f":"'31-instytucje gosp budż'!L51","v":0},{"$f":"'31-instytucje gosp budż'!F52","v":0},{"$f":"'31-instytucje gosp budż'!G52","v":0},{"$f":"'31-instytucje gosp budż'!H52","v":0},{"$f":"'31-instytucje gosp budż'!I52","v":0},{"$f":"'31-instytucje gosp budż'!J52","v":0},{"$f":"'31-instytucje gosp budż'!K52","v":0},{"$f":"'31-instytucje gosp budż'!L52","v":0},{"$f":"'31-instytucje gosp budż'!F53","v":0},{"$f":"'31-instytucje gosp budż'!G53","v":0},{"$f":"'31-instytucje gosp budż'!H53","v":0},{"$f":"'31-instytucje gosp budż'!I53","v":0},{"$f":"'31-instytucje gosp budż'!J53","v":0},{"$f":"'31-instytucje gosp budż'!K53","v":0},{"$f":"'31-instytucje gosp budż'!L53","v":0},{"$f":"'31-instytucje gosp budż'!F54","v":0},{"$f":"'31-instytucje gosp budż'!G54","v":0},{"$f":"'31-instytucje gosp budż'!H54","v":0},{"$f":"'31-instytucje gosp budż'!I54","v":0},{"$f":"'31-instytucje gosp budż'!J54","v":0},{"$f":"'31-instytucje gosp budż'!K54","v":0},{"$f":"'31-instytucje gosp budż'!L54","v":0}]
[{"$f":"'41-państw.inst.kult.'!A8","v":""},null,null,null,null,{"$f":"'41-państw.inst.kult.'!L11","v":41},{"$f":"'41-państw.inst.kult.'!K8","v":0},{"$f":"'41-państw.inst.kult.'!H8","v":0},{"$f":"'41-państw.inst.kult.'!M11","v":0},null,null,{"$f":"'41-państw.inst.kult.'!F51","v":0},{"$f":"'41-państw.inst.kult.'!G51","v":0},{"$f":"'41-państw.inst.kult.'!H51","v":0},{"$f":"'41-państw.inst.kult.'!I51","v":0},{"$f":"'41-państw.inst.kult.'!J51","v":0},{"$f":"'41-państw.inst.kult.'!K51","v":0},{"$f":"'41-państw.inst.kult.'!L51","v":0},{"$f":"'41-państw.inst.kult.'!F52","v":0},{"$f":"'41-państw.inst.kult.'!G52","v":0},{"$f":"'41-państw.inst.kult.'!H52","v":0},{"$f":"'41-państw.inst.kult.'!I52","v":0},{"$f":"'41-państw.inst.kult.'!J52","v":0},{"$f":"'41-państw.inst.kult.'!K52","v":0},{"$f":"'41-państw.inst.kult.'!L52","v":0},{"$f":"'41-państw.inst.kult.'!F53","v":0},{"$f":"'41-państw.inst.kult.'!G53","v":0},{"$f":"'41-państw.inst.kult.'!H53","v":0},{"$f":"'41-państw.inst.kult.'!I53","v":0},{"$f":"'41-państw.inst.kult.'!J53","v":0},{"$f":"'41-państw.inst.kult.'!K53","v":0},{"$f":"'41-państw.inst.kult.'!L53","v":0},{"$f":"'41-państw.inst.kult.'!F54","v":0},{"$f":"'41-państw.inst.kult.'!G54","v":0},{"$f":"'41-państw.inst.kult.'!H54","v":0},{"$f":"'41-państw.inst.kult.'!I54","v":0},{"$f":"'41-państw.inst.kult.'!J54","v":0},{"$f":"'41-państw.inst.kult.'!K54","v":0},{"$f":"'41-państw.inst.kult.'!L54","v":0}]
[{"$f":"'42-samorz.inst.kult.'!A8","v":""},null,null,null,null,{"$f":"'42-samorz.inst.kult.'!L11","v":42},{"$f":"'42-samorz.inst.kult.'!K8","v":0},{"$f":"'42-samorz.inst.kult.'!H8","v":0},{"$f":"'42-samorz.inst.kult.'!M11","v":0},null,null,{"$f":"'42-samorz.inst.kult.'!F51","v":0},{"$f":"'42-samorz.inst.kult.'!G51","v":0},{"$f":"'42-samorz.inst.kult.'!H51","v":0},{"$f":"'42-samorz.inst.kult.'!I51","v":0},{"$f":"'42-samorz.inst.kult.'!J51","v":0},{"$f":"'42-samorz.inst.kult.'!K51","v":0},{"$f":"'42-samorz.inst.kult.'!L51","v":0},{"$f":"'42-samorz.inst.kult.'!F52","v":0},{"$f":"'42-samorz.inst.kult.'!G52","v":0},{"$f":"'42-samorz.inst.kult.'!H52","v":0},{"$f":"'42-samorz.inst.kult.'!I52","v":0},{"$f":"'42-samorz.inst.kult.'!J52","v":0},{"$f":"'42-samorz.inst.kult.'!K52","v":0},{"$f":"'42-samorz.inst.kult.'!L52","v":0},{"$f":"'42-samorz.inst.kult.'!F53","v":0},{"$f":"'42-samorz.inst.kult.'!G53","v":0},{"$f":"'42-samorz.inst.kult.'!H53","v":0},{"$f":"'42-samorz.inst.kult.'!I53","v":0},{"$f":"'42-samorz.inst.kult.'!J53","v":0},{"$f":"'42-samorz.inst.kult.'!K53","v":0},{"$f":"'42-samorz.inst.kult.'!L53","v":0},{"$f":"'42-samorz.inst.kult.'!F54","v":0},{"$f":"'42-samorz.inst.kult.'!G54","v":0},{"$f":"'42-samorz.inst.kult.'!H54","v":0},{"$f":"'42-samorz.inst.kult.'!I54","v":0},{"$f":"'42-samorz.inst.kult.'!J54","v":0},{"$f":"'42-samorz.inst.kult.'!K54","v":0},{"$f":"'42-samorz.inst.kult.'!L54","v":0}]
[{"$f":"'50-PAN i jedn.tworz.przez PAN'!A8","v":""},null,null,null,null,{"$f":"'50-PAN i jedn.tworz.przez PAN'!L11","v":50},{"$f":"'50-PAN i jedn.tworz.przez PAN'!K8","v":0},{"$f":"'50-PAN i jedn.tworz.przez PAN'!H8","v":0},{"$f":"'50-PAN i jedn.tworz.przez PAN'!M11","v":0},null,null,{"$f":"'50-PAN i jedn.tworz.przez PAN'!F51","v":0},{"$f":"'50-PAN i jedn.tworz.przez PAN'!G51","v":0},{"$f":"'50-PAN i jedn.tworz.przez PAN'!H51","v":0},{"$f":"'50-PAN i jedn.tworz.przez PAN'!I51","v":0},{"$f":"'50-PAN i jedn.tworz.przez PAN'!J51","v":0},{"$f":"'50-PAN i jedn.tworz.przez PAN'!K51","v":0},{"$f":"'50-PAN i jedn.tworz.przez PAN'!L51","v":0},{"$f":"'50-PAN i jedn.tworz.przez PAN'!F52","v":0},{"$f":"'50-PAN i jedn.tworz.przez PAN'!G52","v":0},{"$f":"'50-PAN i jedn.tworz.przez PAN'!H52","v":0},{"$f":"'50-PAN i jedn.tworz.przez PAN'!I52","v":0},{"$f":"'50-PAN i jedn.tworz.przez PAN'!J52","v":0},{"$f":"'50-PAN i jedn.tworz.przez PAN'!K52","v":0},{"$f":"'50-PAN i jedn.tworz.przez PAN'!L52","v":0},{"$f":"'50-PAN i jedn.tworz.przez PAN'!F53","v":0},{"$f":"'50-PAN i jedn.tworz.przez PAN'!G53","v":0},{"$f":"'50-PAN i jedn.tworz.przez PAN'!H53","v":0},{"$f":"'50-PAN i jedn.tworz.przez PAN'!I53","v":0},{"$f":"'50-PAN i jedn.tworz.przez PAN'!J53","v":0},{"$f":"'50-PAN i jedn.tworz.przez PAN'!K53","v":0},{"$f":"'50-PAN i jedn.tworz.przez PAN'!L53","v":0},{"$f":"'50-PAN i jedn.tworz.przez PAN'!F54","v":0},{"$f":"'50-PAN i jedn.tworz.przez PAN'!G54","v":0},{"$f":"'50-PAN i jedn.tworz.przez PAN'!H54","v":0},{"$f":"'50-PAN i jedn.tworz.przez PAN'!I54","v":0},{"$f":"'50-PAN i jedn.tworz.przez PAN'!J54","v":0},{"$f":"'50-PAN i jedn.tworz.przez PAN'!K54","v":0},{"$f":"'50-PAN i jedn.tworz.przez PAN'!L54","v":0}]
[{"$f":"'61-samodz.publ.ZOZ państw.'!A8","v":""},null,null,null,null,{"$f":"'61-samodz.publ.ZOZ państw.'!L11","v":61},{"$f":"'61-samodz.publ.ZOZ państw.'!K8","v":0},{"$f":"'61-samodz.publ.ZOZ państw.'!H8","v":0},{"$f":"'61-samodz.publ.ZOZ państw.'!M11","v":0},null,null,{"$f":"'61-samodz.publ.ZOZ państw.'!F51","v":0},{"$f":"'61-samodz.publ.ZOZ państw.'!G51","v":0},{"$f":"'61-samodz.publ.ZOZ państw.'!H51","v":0},{"$f":"'61-samodz.publ.ZOZ państw.'!I51","v":0},{"$f":"'61-samodz.publ.ZOZ państw.'!J51","v":0},{"$f":"'61-samodz.publ.ZOZ państw.'!K51","v":0},{"$f":"'61-samodz.publ.ZOZ państw.'!L51","v":0},{"$f":"'61-samodz.publ.ZOZ państw.'!F52","v":0},{"$f":"'61-samodz.publ.ZOZ państw.'!G52","v":0},{"$f":"'61-samodz.publ.ZOZ państw.'!H52","v":0},{"$f":"'61-samodz.publ.ZOZ państw.'!I52","v":0},{"$f":"'61-samodz.publ.ZOZ państw.'!J52","v":0},{"$f":"'61-samodz.publ.ZOZ państw.'!K52","v":0},{"$f":"'61-samodz.publ.ZOZ państw.'!L52","v":0},{"$f":"'61-samodz.publ.ZOZ państw.'!F53","v":0},{"$f":"'61-samodz.publ.ZOZ państw.'!G53","v":0},{"$f":"'61-samodz.publ.ZOZ państw.'!H53","v":0},{"$f":"'61-samodz.publ.ZOZ państw.'!I53","v":0},{"$f":"'61-samodz.publ.ZOZ państw.'!J53","v":0},{"$f":"'61-samodz.publ.ZOZ państw.'!K53","v":0},{"$f":"'61-samodz.publ.ZOZ państw.'!L53","v":0},{"$f":"'61-samodz.publ.ZOZ państw.'!F54","v":0},{"$f":"'61-samodz.publ.ZOZ państw.'!G54","v":0},{"$f":"'61-samodz.publ.ZOZ państw.'!H54","v":0},{"$f":"'61-samodz.publ.ZOZ państw.'!I54","v":0},{"$f":"'61-samodz.publ.ZOZ państw.'!J54","v":0},{"$f":"'61-samodz.publ.ZOZ państw.'!K54","v":0},{"$f":"'61-samodz.publ.ZOZ państw.'!L54","v":0}]
[{"$f":"'62-samodz.publ.ZOZ samorz.'!A8","v":""},null,null,null,null,{"$f":"'62-samodz.publ.ZOZ samorz.'!L11","v":62},{"$f":"'62-samodz.publ.ZOZ samorz.'!K8","v":0},{"$f":"'62-samodz.publ.ZOZ samorz.'!H8","v":0},{"$f":"'62-samodz.publ.ZOZ samorz.'!M11","v":0},null,null,{"$f":"'62-samodz.publ.ZOZ samorz.'!F51","v":0},{"$f":"'62-samodz.publ.ZOZ samorz.'!G51","v":0},{"$f":"'62-samodz.publ.ZOZ samorz.'!H51","v":0},{"$f":"'62-samodz.publ.ZOZ samorz.'!I51","v":0},{"$f":"'62-samodz.publ.ZOZ samorz.'!J51","v":0},{"$f":"'62-samodz.publ.ZOZ samorz.'!K51","v":0},{"$f":"'62-samodz.publ.ZOZ samorz.'!L51","v":0},{"$f":"'62-samodz.publ.ZOZ samorz.'!F52","v":0},{"$f":"'62-samodz.publ.ZOZ samorz.'!G52","v":0},{"$f":"'62-samodz.publ.ZOZ samorz.'!H52","v":0},{"$f":"'62-samodz.publ.ZOZ samorz.'!I52","v":0},{"$f":"'62-samodz.publ.ZOZ samorz.'!J52","v":0},{"$f":"'62-samodz.publ.ZOZ samorz.'!K52","v":0},{"$f":"'62-samodz.publ.ZOZ samorz.'!L52","v":0},{"$f":"'62-samodz.publ.ZOZ samorz.'!F53","v":0},{"$f":"'62-samodz.publ.ZOZ samorz.'!G53","v":0},{"$f":"'62-samodz.publ.ZOZ samorz.'!H53","v":0},{"$f":"'62-samodz.publ.ZOZ samorz.'!I53","v":0},{"$f":"'62-samodz.publ.ZOZ samorz.'!J53","v":0},{"$f":"'62-samodz.publ.ZOZ samorz.'!K53","v":0},{"$f":"'62-samodz.publ.ZOZ samorz.'!L53","v":0},{"$f":"'62-samodz.publ.ZOZ samorz.'!F54","v":0},{"$f":"'62-samodz.publ.ZOZ samorz.'!G54","v":0},{"$f":"'62-samodz.publ.ZOZ samorz.'!H54","v":0},{"$f":"'62-samodz.publ.ZOZ samorz.'!I54","v":0},{"$f":"'62-samodz.publ.ZOZ samorz.'!J54","v":0},{"$f":"'62-samodz.publ.ZOZ samorz.'!K54","v":0},{"$f":"'62-samodz.publ.ZOZ samorz.'!L54","v":0}]
[{"$f":"'63-Narodowy Fundusz Zdrowia'!A8","v":""},null,null,null,null,{"$f":"'63-Narodowy Fundusz Zdrowia'!L11","v":63},{"$f":"'63-Narodowy Fundusz Zdrowia'!K8","v":0},{"$f":"'63-Narodowy Fundusz Zdrowia'!H8","v":0},{"$f":"'63-Narodowy Fundusz Zdrowia'!M11","v":0},null,null,{"$f":"'63-Narodowy Fundusz Zdrowia'!F51","v":0},{"$f":"'63-Narodowy Fundusz Zdrowia'!G51","v":0},{"$f":"'63-Narodowy Fundusz Zdrowia'!H51","v":0},{"$f":"'63-Narodowy Fundusz Zdrowia'!I51","v":0},{"$f":"'63-Narodowy Fundusz Zdrowia'!J51","v":0},{"$f":"'63-Narodowy Fundusz Zdrowia'!K51","v":0},{"$f":"'63-Narodowy Fundusz Zdrowia'!L51","v":0},{"$f":"'63-Narodowy Fundusz Zdrowia'!F52","v":0},{"$f":"'63-Narodowy Fundusz Zdrowia'!G52","v":0},{"$f":"'63-Narodowy Fundusz Zdrowia'!H52","v":0},{"$f":"'63-Narodowy Fundusz Zdrowia'!I52","v":0},{"$f":"'63-Narodowy Fundusz Zdrowia'!J52","v":0},{"$f":"'63-Narodowy Fundusz Zdrowia'!K52","v":0},{"$f":"'63-Narodowy Fundusz Zdrowia'!L52","v":0},{"$f":"'63-Narodowy Fundusz Zdrowia'!F53","v":0},{"$f":"'63-Narodowy Fundusz Zdrowia'!G53","v":0},{"$f":"'63-Narodowy Fundusz Zdrowia'!H53","v":0},{"$f":"'63-Narodowy Fundusz Zdrowia'!I53","v":0},{"$f":"'63-Narodowy Fundusz Zdrowia'!J53","v":0},{"$f":"'63-Narodowy Fundusz Zdrowia'!K53","v":0},{"$f":"'63-Narodowy Fundusz Zdrowia'!L53","v":0},{"$f":"'63-Narodowy Fundusz Zdrowia'!F54","v":0},{"$f":"'63-Narodowy Fundusz Zdrowia'!G54","v":0},{"$f":"'63-Narodowy Fundusz Zdrowia'!H54","v":0},{"$f":"'63-Narodowy Fundusz Zdrowia'!I54","v":0},{"$f":"'63-Narodowy Fundusz Zdrowia'!J54","v":0},{"$f":"'63-Narodowy Fundusz Zdrowia'!K54","v":0},{"$f":"'63-Narodowy Fundusz Zdrowia'!L54","v":0}]
[{"$f":"'71-ZUS'!A8","v":""},null,null,null,null,{"$f":"'71-ZUS'!L11","v":71},{"$f":"'71-ZUS'!K8","v":0},{"$f":"'71-ZUS'!H8","v":0},{"$f":"'71-ZUS'!M11","v":0},null,null,{"$f":"'71-ZUS'!F51","v":0},{"$f":"'71-ZUS'!G51","v":0},{"$f":"'71-ZUS'!H51","v":0},{"$f":"'71-ZUS'!I51","v":0},{"$f":"'71-ZUS'!J51","v":0},{"$f":"'71-ZUS'!K51","v":0},{"$f":"'71-ZUS'!L51","v":0},{"$f":"'71-ZUS'!F52","v":0},{"$f":"'71-ZUS'!G52","v":0},{"$f":"'71-ZUS'!H52","v":0},{"$f":"'71-ZUS'!I52","v":0},{"$f":"'71-ZUS'!J52","v":0},{"$f":"'71-ZUS'!K52","v":0},{"$f":"'71-ZUS'!L52","v":0},{"$f":"'71-ZUS'!F53","v":0},{"$f":"'71-ZUS'!G53","v":0},{"$f":"'71-ZUS'!H53","v":0},{"$f":"'71-ZUS'!I53","v":0},{"$f":"'71-ZUS'!J53","v":0},{"$f":"'71-ZUS'!K53","v":0},{"$f":"'71-ZUS'!L53","v":0},{"$f":"'71-ZUS'!F54","v":0},{"$f":"'71-ZUS'!G54","v":0},{"$f":"'71-ZUS'!H54","v":0},{"$f":"'71-ZUS'!I54","v":0},{"$f":"'71-ZUS'!J54","v":0},{"$f":"'71-ZUS'!K54","v":0},{"$f":"'71-ZUS'!L54","v":0}]
[{"$f":"'72-fund.zarz.przez ZUS'!A8","v":""},null,null,null,null,{"$f":"'72-fund.zarz.przez ZUS'!L11","v":72},{"$f":"'72-fund.zarz.przez ZUS'!K8","v":0},{"$f":"'72-fund.zarz.przez ZUS'!H8","v":0},{"$f":"'72-fund.zarz.przez ZUS'!M11","v":0},null,null,{"$f":"'72-fund.zarz.przez ZUS'!F51","v":0},{"$f":"'72-fund.zarz.przez ZUS'!G51","v":0},{"$f":"'72-fund.zarz.przez ZUS'!H51","v":0},{"$f":"'72-fund.zarz.przez ZUS'!I51","v":0},{"$f":"'72-fund.zarz.przez ZUS'!J51","v":0},{"$f":"'72-fund.zarz.przez ZUS'!K51","v":0},{"$f":"'72-fund.zarz.przez ZUS'!L51","v":0},{"$f":"'72-fund.zarz.przez ZUS'!F52","v":0},{"$f":"'72-fund.zarz.przez ZUS'!G52","v":0},{"$f":"'72-fund.zarz.przez ZUS'!H52","v":0},{"$f":"'72-fund.zarz.przez ZUS'!I52","v":0},{"$f":"'72-fund.zarz.przez ZUS'!J52","v":0},{"$f":"'72-fund.zarz.przez ZUS'!K52","v":0},{"$f":"'72-fund.zarz.przez ZUS'!L52","v":0},{"$f":"'72-fund.zarz.przez ZUS'!F53","v":0},{"$f":"'72-fund.zarz.przez ZUS'!G53","v":0},{"$f":"'72-fund.zarz.przez ZUS'!H53","v":0},{"$f":"'72-fund.zarz.przez ZUS'!I53","v":0},{"$f":"'72-fund.zarz.przez ZUS'!J53","v":0},{"$f":"'72-fund.zarz.przez ZUS'!K53","v":0},{"$f":"'72-fund.zarz.przez ZUS'!L53","v":0},{"$f":"'72-fund.zarz.przez ZUS'!F54","v":0},{"$f":"'72-fund.zarz.przez ZUS'!G54","v":0},{"$f":"'72-fund.zarz.przez ZUS'!H54","v":0},{"$f":"'72-fund.zarz.przez ZUS'!I54","v":0},{"$f":"'72-fund.zarz.przez ZUS'!J54","v":0},{"$f":"'72-fund.zarz.przez ZUS'!K54","v":0},{"$f":"'72-fund.zarz.przez ZUS'!L54","v":0}]
[{"$f":"'73-KRUS'!A8","v":""},null,null,null,null,{"$f":"'73-KRUS'!L11","v":73},{"$f":"'73-KRUS'!K8","v":0},{"$f":"'73-KRUS'!H8","v":0},{"$f":"'73-KRUS'!M11","v":0},null,null,{"$f":"'73-KRUS'!F51","v":0},{"$f":"'73-KRUS'!G51","v":0},{"$f":"'73-KRUS'!H51","v":0},{"$f":"'73-KRUS'!I51","v":0},{"$f":"'73-KRUS'!J51","v":0},{"$f":"'73-KRUS'!K51","v":0},{"$f":"'73-KRUS'!L51","v":0},{"$f":"'73-KRUS'!F52","v":0},{"$f":"'73-KRUS'!G52","v":0},{"$f":"'73-KRUS'!H52","v":0},{"$f":"'73-KRUS'!I52","v":0},{"$f":"'73-KRUS'!J52","v":0},{"$f":"'73-KRUS'!K52","v":0},{"$f":"'73-KRUS'!L52","v":0},{"$f":"'73-KRUS'!F53","v":0},{"$f":"'73-KRUS'!G53","v":0},{"$f":"'73-KRUS'!H53","v":0},{"$f":"'73-KRUS'!I53","v":0},{"$f":"'73-KRUS'!J53","v":0},{"$f":"'73-KRUS'!K53","v":0},{"$f":"'73-KRUS'!L53","v":0},{"$f":"'73-KRUS'!F54","v":0},{"$f":"'73-KRUS'!G54","v":0},{"$f":"'73-KRUS'!H54","v":0},{"$f":"'73-KRUS'!I54","v":0},{"$f":"'73-KRUS'!J54","v":0},{"$f":"'73-KRUS'!K54","v":0},{"$f":"'73-KRUS'!L54","v":0}]
[{"$f":"'81-państw.osoba prawna'!A8","v":""},null,null,null,null,{"$f":"'81-państw.osoba prawna'!L11","v":81},{"$f":"'81-państw.osoba prawna'!K8","v":0},{"$f":"'81-państw.osoba prawna'!H8","v":0},{"$f":"'81-państw.osoba prawna'!M11","v":0},null,null,{"$f":"'81-państw.osoba prawna'!F51","v":0},{"$f":"'81-państw.osoba prawna'!G51","v":0},{"$f":"'81-państw.osoba prawna'!H51","v":0},{"$f":"'81-państw.osoba prawna'!I51","v":0},{"$f":"'81-państw.osoba prawna'!J51","v":0},{"$f":"'81-państw.osoba prawna'!K51","v":0},{"$f":"'81-państw.osoba prawna'!L51","v":0},{"$f":"'81-państw.osoba prawna'!F52","v":0},{"$f":"'81-państw.osoba prawna'!G52","v":0},{"$f":"'81-państw.osoba prawna'!H52","v":0},{"$f":"'81-państw.osoba prawna'!I52","v":0},{"$f":"'81-państw.osoba prawna'!J52","v":0},{"$f":"'81-państw.osoba prawna'!K52","v":0},{"$f":"'81-państw.osoba prawna'!L52","v":0},{"$f":"'81-państw.osoba prawna'!F53","v":0},{"$f":"'81-państw.osoba prawna'!G53","v":0},{"$f":"'81-państw.osoba prawna'!H53","v":0},{"$f":"'81-państw.osoba prawna'!I53","v":0},{"$f":"'81-państw.osoba prawna'!J53","v":0},{"$f":"'81-państw.osoba prawna'!K53","v":0},{"$f":"'81-państw.osoba prawna'!L53","v":0},{"$f":"'81-państw.osoba prawna'!F54","v":0},{"$f":"'81-państw.osoba prawna'!G54","v":0},{"$f":"'81-państw.osoba prawna'!H54","v":0},{"$f":"'81-państw.osoba prawna'!I54","v":0},{"$f":"'81-państw.osoba prawna'!J54","v":0},{"$f":"'81-państw.osoba prawna'!K54","v":0},{"$f":"'81-państw.osoba prawna'!L54","v":0}]
[{"$f":"'82-samorz.osoba prawna'!A8","v":""},null,null,null,null,{"$f":"'82-samorz.osoba prawna'!L11","v":82},{"$f":"'82-samorz.osoba prawna'!K8","v":0},{"$f":"'82-samorz.osoba prawna'!H8","v":0},{"$f":"'82-samorz.osoba prawna'!M11","v":0},null,null,{"$f":"'82-samorz.osoba prawna'!F51","v":0},{"$f":"'82-samorz.osoba prawna'!G51","v":0},{"$f":"'82-samorz.osoba prawna'!H51","v":0},{"$f":"'82-samorz.osoba prawna'!I51","v":0},{"$f":"'82-samorz.osoba prawna'!J51","v":0},{"$f":"'82-samorz.osoba prawna'!K51","v":0},{"$f":"'82-samorz.osoba prawna'!L51","v":0},{"$f":"'82-samorz.osoba prawna'!F52","v":0},{"$f":"'82-samorz.osoba prawna'!G52","v":0},{"$f":"'82-samorz.osoba prawna'!H52","v":0},{"$f":"'82-samorz.osoba prawna'!I52","v":0},{"$f":"'82-samorz.osoba prawna'!J52","v":0},{"$f":"'82-samorz.osoba prawna'!K52","v":0},{"$f":"'82-samorz.osoba prawna'!L52","v":0},{"$f":"'82-samorz.osoba prawna'!F53","v":0},{"$f":"'82-samorz.osoba prawna'!G53","v":0},{"$f":"'82-samorz.osoba prawna'!H53","v":0},{"$f":"'82-samorz.osoba prawna'!I53","v":0},{"$f":"'82-samorz.osoba prawna'!J53","v":0},{"$f":"'82-samorz.osoba prawna'!K53","v":0},{"$f":"'82-samorz.osoba prawna'!L53","v":0},{"$f":"'82-samorz.osoba prawna'!F54","v":0},{"$f":"'82-samorz.osoba prawna'!G54","v":0},{"$f":"'82-samorz.osoba prawna'!H54","v":0},{"$f":"'82-samorz.osoba prawna'!I54","v":0},{"$f":"'82-samorz.osoba prawna'!J54","v":0},{"$f":"'82-samorz.osoba prawna'!K54","v":0},{"$f":"'82-samorz.osoba prawna'!L54","v":0}]
[{"$f":"'90-agencja wykonawcza'!A8","v":""},null,null,null,null,{"$f":"'90-agencja wykonawcza'!L11","v":90},{"$f":"'90-agencja wykonawcza'!K8","v":0},{"$f":"'90-agencja wykonawcza'!H8","v":0},{"$f":"'90-agencja wykonawcza'!M11","v":0},null,null,{"$f":"'90-agencja wykonawcza'!F51","v":0},{"$f":"'90-agencja wykonawcza'!G51","v":0},{"$f":"'90-agencja wykonawcza'!H51","v":0},{"$f":"'90-agencja wykonawcza'!I51","v":0},{"$f":"'90-agencja wykonawcza'!J51","v":0},{"$f":"'90-agencja wykonawcza'!K51","v":0},{"$f":"'90-agencja wykonawcza'!L51","v":0},{"$f":"'90-agencja wykonawcza'!F52","v":0},{"$f":"'90-agencja wykonawcza'!G52","v":0},{"$f":"'90-agencja wykonawcza'!H52","v":0},{"$f":"'90-agencja wykonawcza'!I52","v":0},{"$f":"'90-agencja wykonawcza'!J52","v":0},{"$f":"'90-agencja wykonawcza'!K52","v":0},{"$f":"'90-agencja wykonawcza'!L52","v":0},{"$f":"'90-agencja wykonawcza'!F53","v":0},{"$f":"'90-agencja wykonawcza'!G53","v":0},{"$f":"'90-agencja wykonawcza'!H53","v":0},{"$f":"'90-agencja wykonawcza'!I53","v":0},{"$f":"'90-agencja wykonawcza'!J53","v":0},{"$f":"'90-agencja wykonawcza'!K53","v":0},{"$f":"'90-agencja wykonawcza'!L53","v":0},{"$f":"'90-agencja wykonawcza'!F54","v":0},{"$f":"'90-agencja wykonawcza'!G54","v":0},{"$f":"'90-agencja wykonawcza'!H54","v":0},{"$f":"'90-agencja wykonawcza'!I54","v":0},{"$f":"'90-agencja wykonawcza'!J54","v":0},{"$f":"'90-agencja wykonawcza'!K54","v":0},{"$f":"'90-agencja wykonawcza'!L54","v":0}]
[{"$f":"'99-zbiorczo'!A8","v":"Brak regonu"},null,null,null,null,{"$f":"'99-zbiorczo'!L11","v":99},{"$f":"'99-zbiorczo'!K8","v":"Brak roku"},{"$f":"'99-zbiorczo'!H8","v":"Brak nr kwartału"},{"$f":"'99-zbiorczo'!M11","v":0},null,null,{"$f":"'99-zbiorczo'!F51","v":0},{"$f":"'99-zbiorczo'!G51","v":0},{"$f":"'99-zbiorczo'!H51","v":0},{"$f":"'99-zbiorczo'!I51","v":0},{"$f":"'99-zbiorczo'!J51","v":0},{"$f":"'99-zbiorczo'!K51","v":0},{"$f":"'99-zbiorczo'!L51","v":0},{"$f":"'99-zbiorczo'!F52","v":0},{"$f":"'99-zbiorczo'!G52","v":0},{"$f":"'99-zbiorczo'!H52","v":0},{"$f":"'99-zbiorczo'!I52","v":0},{"$f":"'99-zbiorczo'!J52","v":0},{"$f":"'99-zbiorczo'!K52","v":0},{"$f":"'99-zbiorczo'!L52","v":0},{"$f":"'99-zbiorczo'!F53","v":0},{"$f":"'99-zbiorczo'!G53","v":0},{"$f":"'99-zbiorczo'!H53","v":0},{"$f":"'99-zbiorczo'!I53","v":0},{"$f":"'99-zbiorczo'!J53","v":0},{"$f":"'99-zbiorczo'!K53","v":0},{"$f":"'99-zbiorczo'!L53","v":0},{"$f":"'99-zbiorczo'!F54","v":0},{"$f":"'99-zbiorczo'!G54","v":0},{"$f":"'99-zbiorczo'!H54","v":0},{"$f":"'99-zbiorczo'!I54","v":0},{"$f":"'99-zbiorczo'!J54","v":0},{"$f":"'99-zbiorczo'!K54","v":0},{"$f":"'99-zbiorczo'!L54","v":0}]