Workbook
Name Print_Area_0: 'Zad 11 Szkło labo cylindry'!$A$1:$J$18
Name Print_Area_0: 'Zad.3 Testy i roztwory '!$A$1:$J$30
Name Print_Area_0: 'Zad.31 odczynniki SBW'!$A$1:$J$8
Name Print_Area_0: 'Zad.32 wzorce SBW '!$A$1:$J$59
Name Print_Area_0: 'Zad.34 Podłoża suche '!$A$1:$J$34
Name Print_Area_0: 'Zad.36 IDEEX'!$A$1:$J$22
Name Print_Area_0: 'Zad.37 Filtry i leje'!$A$1:$J$28
Name Print_Area_0: 'Zad.38 But jednorazowe'!$A$1:$J$14
Name Print_Area_0: 'Zad.39 worki na odpady'!$A$1:$J$23
Name Print_Area_0: 'Zad.40 Art do steryl'!$A$1:$J$22
Name Print_Area_0_0: 'Zad 11 Szkło labo cylindry'!$A$1:$J$18
Name Print_Area_0_0: 'Zad.3 Testy i roztwory '!$A$1:$J$30
Name Print_Area_0_0: 'Zad.31 odczynniki SBW'!$A$1:$J$8
Name Print_Area_0_0: 'Zad.32 wzorce SBW '!$A$1:$J$59
Name Print_Area_0_0: 'Zad.34 Podłoża suche '!$A$1:$J$34
Name Print_Area_0_0: 'Zad.36 IDEEX'!$A$1:$J$22
Name Print_Area_0_0: 'Zad.37 Filtry i leje'!$A$1:$J$28
Name Print_Area_0_0: 'Zad.38 But jednorazowe'!$A$1:$J$14
Name Print_Area_0_0: 'Zad.39 worki na odpady'!$A$1:$J$23
Name Print_Area_0_0: 'Zad.40 Art do steryl'!$A$1:$J$22

Sheet ZESTAWIENIE
B1: ZESTAWIENIE
A2: Lp. | B2: Nazwa | C2: Termin realizacji w dniach
A3: 1 | B3: ='Zad.1 Odczynniki chem.'!B8 -> Zadanie nr 1- Odczynniki chemiczne | C3: 14
A4: 2 | B4: ='Zad.2 Testy '!B8 -> Zadanie nr 2 - Testy | C4: 14
A5: 3 | B5: ='Zad.3 Testy i roztwory '!B8 -> Zadanie nr 3- Testy i roztwory | C5: 21
A6: 4 | B6: ='Zad.4 Płytki do monitoringu'!B8 -> Zadanie nr 4 - Płytki do monitoringu | C6: 14
A7: 5 | B7: ='Zad.5 Krążki diagnostyczne'!B8 -> Zadanie nr 5 - Krążki diagnostyczne | C7: 14
A8: 6 | B8: ='Zad.6 Podłoża sypkie i supl'!B8 -> Zadanie nr 6 - Podłoża sypkie i suplementy | C8: 14
A9: 7 | B9: ='Zad.7 Podłoża sypkie '!B8 -> Zadanie nr 7 - Podłoża sypkie | C9: 14 | D9: PRAWO OPCJI
A10: 8 | B10: ='Zad.8 Płytki Petriego'!B8 -> Zadanie nr 8 - Płytki Petriego | C10: 14
A11: 9 | B11: ='Zadanie 9_Surowice diagnost.'!B8 -> Zadanie nr 9 - Surowice diagnostyczne | C11: 14
A12: 10 | B12: ='Zadanie 10_Szkło laboratoryjne'!B8 -> Zadanie nr 10 - Szkło laboratoryjne | C12: 21
A13: 11 | B13: ='Zad 11 Szkło labo cylindry'!B8 -> Zadanie nr 11- Szkło laboratoryjne- cylindry | C13: 21
A14: 12 | B14: ='Zad.12 Pojemniki do pob.pr.'!B8 -> Zadanie nr 12- Pojemniki do pobierania próbek | C14: 14
A15: 13 | B15: ='Zad.13 Szkło laboratoryjne AS'!B8 -> Zadanie nr 13 - Szkło laboratoryjne klasa AS | C15: 14
A16: 14 | B16: ='Zad.14_Rękawice diagnostycz'!B8 -> Zadanie nr 14 - Rękawiczki diagnostyczne | C16: 14
A17: 15 | B17: ='Zad.15 Środki ochrony osob.'!B8 -> Zadanie nr 15 - Środki ochrony osobistej | C17: 14
A18: 16 | B18: ='Zad. 16 Środki myjące, dezynf.'!B8 -> Zadanie nr 16 - Środki myjące i dezynfekcyjne | C18: 14
A19: 17 | B19: ='Zad.17 Środki j.uż.'!B8 -> Zadanie nr 17 - Środki j.uż. | C19: 14
A20: 18 | B20: ='Zad.18_Artykuły do steryl.'!B8 -> Zadanie nr 18 - Artykuły do sterylizacji | C20: 14
A21: 19 | B21: ='Zadanie 19_Testy lateksowe EPEC'!B8 -> Zadanie nr 19 - Testy lateksowe EPEC, E.coli O157, VTEC | C21: 14
A22: 20 | B22: ='Zadanie 20_Pojemniki na odpady'!B8 -> Zadanie nr 20 - Pojemniki na odpady | C22: 14
A23: 21 | B23: ='Zadanie 21_Krążki antyb.'!B8 -> Zadanie nr 21 - Krążki antybiogramowe | C23: 14
A24: 22 | B24: ='Zadanie22_Wkłady do dejoni.'!B8 -> Zadanie nr 22 - Wkłady do dejonizatora- filtry do wody | C24: 14
A25: 23 | B25: ='Zadanie 23_Zestaw hodow.-identy'!B8 -> Zadanie nr 23 - Zestaw hodowlano-identyfikacyjny | C25: 14 | D25: PRAWO OPCJI
A26: 24 | B26: ='Zadanie 24 Końcówki do pipet'!B8 -> Zadanie nr 24- Końcówki do pipet automatycznych w pojemniku | C26: 21
A27: 25 | B27: ='Zadanie 25_Szczepy wzorcowe'!B8 -> Zadanie nr 25- Szczepy wzorcowe | C27: 21
A28: 26 | B28: ='ZAD.26 Podł.syp.i supl.'!B8 -> Zadanie nr 26 - Podłoża sypkie i suplementy | C28: 14 | D28: PRAWO OPCJI
A29: 27 | B29: ='Zad.27 Materiały j.uż.'!B8 -> Zadanie nr 27 - Materiały laboratoryjne jednorazowego użytku | C29: 14
A30: 28 | B30: ='Zad.28 Worki sterylne '!B8 -> Zadanie nr 28- Worki sterylne | C30: 14
A31: 29 | B31: ='Zad.29 KOŃCÓWKI DO PIPET AUTOMA'!B8 -> Zadanie nr 29 - Końcówki do pipet automatycznych | C31: 14
A32: 30 | B32: ='Zad.30 Zest. do identyf. Salm.'!B9 -> Zadanie nr 30- Zestaw do identyfikacji szczepów Salmonella | C32: 14
A33: 31 | B33: ='Zad.31 odczynniki SBW'!B8 -> Zadanie nr 31- Odczynniki chemiczne SBW | C33: 21 | D33: PRAWO OPCJI
A34: 32 | B34: ='Zad.32 wzorce SBW '!B8 -> Zadanie nr 32- Wzorce SBW | C34: 21 | D34: PRAWO OPCJI
A35: 33 | B35: ='Zad.33 Mętność '!B8 -> Zadanie nr 33- Wzorce mętności | C35: 21
A36: 34 | B36: ='Zad.34 Podłoża suche '!B8 -> Zadanie nr 34- Suche podłoża mikrobiologiczne | C36: 14
A37: 35 | B37: ='Zad.35 Podłoża'!B8 -> Zadanie nr 35- Podłoża | C37: 14
A38: 36 | B38: ='Zad.36 IDEEX'!B8 -> Zadanie nr 36- Materiały do testów IDEXX | C38: 14
A39: 37 | B39: ='Zad.37 Filtry i leje'!B8 -> Zadanie nr 37- Filtry i leje do aparatu MILIPORE | C39: 14
A40: 38 | B40: ='Zad.38 But jednorazowe'!B8 -> Zadanie nr 38- Butelki jednorazowego użytku do pobierania próbek mikrobiologicznych wody | C40: 90
A41: 39 | B41: ='Zad.39 worki na odpady'!B8 -> Zadanie nr 39- Worki na odpady | C41: 21
A42: 40 | B42: ='Zad.40 Art do steryl'!B8 -> Zadanie nr 40- Artykuły do sterylizacji | C42: 14
A43: 41 | B43: ='Zad.41 Szczepy wzorcowe SBW'!B8 -> Zadanie nr 41- Szczepy wzorcowe SBW | C43: 21
A44: 42 | B44: ='Zad.42 Szczepy wzorcowy'!B8 -> Zadanie nr 42- Szczepy wzorcowy | C44: 21
A45: 43 | B45: ='Zad.43 Sporale'!B8 -> Zadanie nr 43- Sporale | C45: 14

Sheet Zad.1 Odczynniki chem.
B1: Znak sprawy: OEA-ZP.272.1.1.2022 | I1: załącznik 1/1
B3: …………………………………………
B4: …………………………………………
B5: ………..…....………………………….
B6: dane wykonawcy
D7: FORMULARZ CENOWY
B8: Zadanie nr 1- Odczynniki chemiczne
A9: Labora-torium | B9: lp. | C9: nazwa produktu | D9: szczegółowy opis przedmiotu zamówienia | E9: nazwa producenta/ dystrybutora/ importera | F9: nr katalogowy | G9: j.m. | H9: ilość | I9: cena jednostkowa brutto za j.m. | J9: wartość ogółem brutto
A10: SBEK | B10: 1 | C10: Disodu wodorofosforan bezwodny cz.d.a | D10: opakowanie 100g; równoważny produktowi CHEMPUR; ; okres ważności od daty dostawy min.2 lata | G10: op. | H10: 1
B11: 2 | C11: Potasu diwodorofosforan cz.d.a | D11: opakowanie 100g; równoważny produktowi CHEMPUR; okres ważności od daty dostawy min.2 lata | G11: op. | H11: 1
B12: 3 | C12: Wodorotlenek sodu cz.d.a | D12: opakowanie jednostkowe 50 g, równowazny produktowi CHEMPUR; okrez ważności od daty dostawy min. 2 lata | G12: op. | H12: 1
B13: 4 | C13: L-arginine monochloride | D13: opakowanie jednostkowe 25g, okres ważności od daty dostawy min.2 lata | G13: op. | H13: 1
B14: 5 | C14: Żelaza (II) siarczan 7 hydrat cz.d.a | D14: opakowanie jednostkowe250g; okres ważności od daty dostawy min. 2 lata, równoważny produktowi CHEMPUR | G14: op. | H14: 1
B15: 6 | C15: Sacharoza | D15: dla biochemii, opakowanie jednostkowe 10g, okres ważności od daty dostawy min. 2 lata, równoważny produktowi BTL | G15: op. | H15: 1
B16: 7 | C16: Maltoza | D16: dla biochemii, opakowanie jednostkowe 10g, okres ważności od daty dostawy min. 2 lata, równoważny produktowi Chempur | G16: op. | H16: 1
B17: 8 | C17: Cyjanek potasu | D17: opakowanie jednostkowe 100 g, okres ważności od daty dostawy min. 3 lata | G17: op. | H17: 1
B18: 9 | C18: L-Rhamnose monohydrate | D18: dla biochemii, opakowanie jednostkowe 10g, okres ważności od daty dostawy min. 2 lata, równoważny produktowi Sigma Aldrich | G18: op. | H18: 1
B19: 10 | C19: Płyn do przechowywania elektrod pehametrycznych | D19: opakowanie 500 ml, równoważny produktowi HI 70300L, okres ważności od daty dostawy min.2 lata | G19: op. | H19: 1
J20: =SUM(J10:J19) -> 0
A21: SBEK | B21: Do oferty przetargowej dla wszystkich pozycji należy dołączyć wymienione poniżej dokumenty lub wskazać określone adresy internetowe, ogólnodostępne i bezpłatne bazy danych gdzie zamawiający może je samodzielnie pobrać :
B22: 1. | C22: Dla pozycji 1-9 przykładowe certyfikaty jakości
B23: Czas realizacji: 14 dni od dnia złożenia zamówienia
B24: Do dostawy należy dostarczyć:
B25: 1. | C25: Dla każdej serii odczynnika należy dostarczyć certyfikat jakości lub świadectwo kontroli jakości w języku polskim, na którym będzie nr serii bądź partii oraz skład ilościowy, stopień zanieczyszczenia i data ważności odczynników
B26: 2. | C26: W dniu pierwszej dostawy należy bezpłatnie udostępnić kartę charakterystyki dostarczonej substancji lub preparatu, dla których jest ona wymagana oraz dokonywać jej aktualizacji i dystrybucji zgodnie z ustawą o substancjach chemicznych i ich mieszaninach (t.j. Dz. U. z 2020r. poz.2289 z poźn. zm.) i tytułem IV rozporządzenia REACH (WE) nr 987/2008
B27: 3. | C27: Przy każdej dostawie należy zapewnić prawidłowe oznakowanie opakowań substancji i preparatów, w tym również sklasyfikowanych jako niebezpieczne; substancje i preparaty chemiczne powinny być oznakowane w sposób widoczny, umożliwiający ich identyfikację i rodzaj stwarzanych przez nie zagrożeń (wskazanych przez wymagane znaki ostrzegawcze - piktogramy)
B28: Niniejszym podpisem potwierdzam parametry przedmiotu zamówienia
F29: …………………………………………………………………..
F30: podpis wykonawcy

Sheet Zad.2 Testy 
B1: Znak sprawy: OEA-ZP.272.1.1.2022 | I1: załącznik 1/2
B3: …………………………………………
B4: …………………………………………
B5: ………..…....………………………….
B6: dane wykonawcy
D7: FORMULARZ CENOWY
B8: Zadanie nr 2 - Testy
A9: Labora-torium | B9: lp. | C9: nazwa produktu | D9: szczegółowy opis przedmiotu zamówienia | E9: nazwa producenta/ dystrybutora/ importera | F9: nr katalogowy | G9: j.m. | H9: ilość | I9: cena jednostkowa brutto za j.m. | J9: wartość ogółem brutto
A10: SBEK | B10: 1 | C10: Test do wykrywania aktywności oksydazy cytochromowej wytwarzanej przez mikroorganizmy | D10: w postaci pasków ze strefą reakcyjną do wykrywania oksydazy; odczyt paska testowego natychmiast, nie później niż w przeciagu 1 minuty; opakowanie=50 pasków, Wymagane dokumenty:karta kontroli produktu i instrukcja wykonania testu w języku polskim; minimalny termin okresu przydatności min. 10 miesięcy od daty dostawy | G10: op. | H10: 2
A11: SBEK | B11: 2 | C11: Szybki test lateksowy do wykrywania i identyfikacji szczepów paciorkowców grupy A, B, C, D (w tym enterokoków), F i G wg Lancefield. | D11: test lateksowy (50 oznaczeń) do diagnostyki in vitro;na zestaw składa się:1) odczynnik lateksowy do wykrywania paciorkowców odpowiednio grupy A, B, C, D (oraz enterokoków), F i G - każdy w buteleczce z zakraplaczem; 2) antygen kontrolny - 1 fiolka ; 3) enzym do ekstrakcji 4) płytki do oznaczeń; 5) bagietki 6) zakraplacz - 1 sztuka; Wymagane dokumenty:1) karta produktu; instrukcja wykonania testu w języku polskim; minimalny termin okresu przydatności 9 miesięcy od daty dostawy | G11: zestaw | H11: 1
B12: 3 | C12: Szybki test lateksowy do identyfikacji Campylobacter spp. | D12: test lateksowy (50 oznaczeń) do diagnostyki in vitro; na zestaw gotowy do użycia składa się: odczynniki 1 i 2, lateksowy,kontrola dodatnia, jednorazowe karty reakcyjne, pałeczki do mieszania; Wymagane dokumenty:1) certyfikat jakości; instrukcja wykonania testu w języku polskim; minimalny termin okresu przydatności 9 miesięcy od daty dostawy | G12: zestaw | H12: 1
A13: SBEK | B13: 4 | C13: Test na hipuran sodu | D13: test do diagnostyki mikrobilogicznej - do wykrywania zdolności szczepów bakteryjnych do hydrolizy hipuranu; test na 50 oznaczeń w postaci pasków lub krążków identyfikacyjnch wraz z odczynnikiem do wywoływania reakcji; Wymagane dokumenty; 1) certyfikat jakości; instrukcja wykaonania testu; minimalny termin okresu przydatności 9 miesięcy od daty dostawy | G13: op. | H13: 1
B14: 5 | C14: Test na octan indoksylu (Indoxyl Test) | D14: test do diagnostyki mikrobilogicznej - do szybkiego wykrywania aktywności esterazy octanowej u bakterii, w tym Campylobacter; test na 50 oznaczeń; minimalny termin okresu przydatności 9 miesięcy od daty dostawy; Wymagane dokumenty; 1) certyfikat jakości; instrukcja wykonania testu; | G14: op. | H14: 1
B15: 6 | C15: Szybki test lateksowy do identyfikacji Staphylococcus aureus | D15: test lateksowy do diagnostyki in vitro; zestaw gotowy do użycia; Wymagane dokumenty:1) certyfikat jakości; instrukcja wykonania testu w języku polskim; minimalny termin okresu przydatności 9 miesięcy od daty dostaw | G15: op. | H15: 1
B16: 7 | C16: Test na katalazę | D16: w butelce z wkraplaczem, opakowanie = 10 ml; Wymagane dokumenty: 1) karta kontroli produktu, na której będzie umieszczona nazwa drobnoustrojów kontrolnych i data ważności produktu. Okres przydatności od daty dostawy minimum 10 miesięcy. | G16: op. | H16: 1
A17: SBMŻ | B17: 8 | C17: Test do wykrywania aktywności oksydazy cytochromowej wytwarzanej przez mikroorganizmy | D17: test w postaci pasków ze strefą reakcyjną do wykrywania oksydazy; odczyt paska testowego natychmiast, nie później niż w przeciągu 1 minuty; opakowanie = 50 pasków. Wymagane dokumenty: 1) karta kontroli produktu, na której będzie umieszczona nazwa drobnoustrojów kontrolnych i data ważności, 2) instrukcja wykonania testu w języku polskim. Okres przydatności od daty dostawy minimum 12 miesięcy. | G17: op. | H17: 1
B18: 9 | C18: Test ONPG | D18: test do diagnostyki mikrobiologicznej, do wykrywania aktywności β-galaktozydazy u Enterobactericeae; 1 opakowanie = 50 krążków. Wymagane dokumenty: 1) certyfikat jakości, na którym będzie umieszczona nazwa drobnoustrojów kontrolnych i data ważności, 2) instrukcja wykonania testu w języku polskim. Okres przydatności od daty dostawy minimum 8 miesięcy. | G18: op. | H18: 2
J19: =SUM(J10:J18) -> 0
A20: SBEK | B20: Do oferty przetargowej dla wszystkich pozycji należy dołączyć wymienione poniżej dokumenty lub wskazać określone adresy internetowe, ogólnodostępne i bezpłatne bazy danych gdzie zamawiający może je samodzielnie pobrać :
B21: 1. | C21: DLA KAŻDEJ POZYCJI PRZYKŁADOWE CERTYFIKATY zgodności z dyrektywą 98/79/ EC - CE na oferowane produkty
B22: 2. | C22: Instrukcję wykonania w języku polskim (zasada działania, przygotowanie, wykonanie oznaczenia, kontrola jakości oraz użyte szczepy testowe)
B23: 3. | C23: Zaktualizowane karty bezpieczeństwa produktu lub oświadczenie, że oferowane produkty nie podlegają ustawie osubstancjach chemicznych i ich mieszaninach (t.j. Dz. U. z 2020r., poz. 2289 z poźn. zm.)
B24: 4. | C24: Wykaz i nazwy substancji niebezpiecznych zawartych w poszczególnych odczynnikach (jeżeli nie występują – dołączyć oświadczenie)
C25: UWAGA! Dokumenty wymienione powyżej w punktach 1-4 przeznaczone są dla potrzeb laboratorium i należy skompletować je oddzielnie.
B26: Czas realizacji: 14 dni od dnia złożenia zamówienia
B27: Do dostawy należy dostarczyć:
B28: 1. | C28: Certyfikat jakości na oferowane produkty
B29: 2. | C29: Instrukcję wykonania w języku polskim (zasada działania, przygotowanie, wykonanie oznaczenia, kontrola jakości oraz użyte szczepy testowe)
A30: SBMŻ | B30: Do oferty przetargowej dla wszystkich pozycji należy dołączyć wymienione poniżej dokumenty lub wskazać określone adresy internetowe, ogólnodostępne i bezpłatne bazy danych gdzie zamawiający może je samodzielnie pobrać :
B31: 1. przykładowe certyfikaty jakości lub karty kontroli produktu
B32: 2. instrukcje wykonania w języku polskim
B33: 3. karty charakterystyki produktu lub oświadczenie, że oferowane produkty nie podlegają ustawie o substancjach chemicznych i ich mieszaninach (t.j. Dz. U. z 2020r. poz. 2289 z poźn. zm.)
B34: Czas realizacji: 14 dni od dnia złożenia zamówienia
B35: Do dostawy dla wszystkich pozycji należy dołączyć:
B36: 1. certyfikat jakości lub kartę kontroli produktu
B37: 2. Instrukcję wykonania w języku polskim
B38: Niniejszym podpisem potwierdzam parametry przedmiotu zamówienia
F39: …………………………………………………………………..
F40: podpis wykonawcy

Sheet Zad.3 Testy i roztwory 
B1: Znak sprawy: OEA-ZP.272.1.1.2022 | I1: załącznik 1/3
B3: …………………………………………
B4: …………………………………………
B5: ………..…....………………………….
B6: dane wykonawcy
D7: FORMULARZ CENOWY
B8: Zadanie nr 3- Testy i roztwory
A9: Laborat-orium | B9: lp. | C9: nazwa produktu | D9: szczegółowy opis przedmiotu zamówienia | E9: nazwa producenta/dystrybutora/importera | F9: nr katalogowy | G9: j.m. | H9: ilość | I9: cena jednostkowa brutto za j.m. | J9: wartość ogółem brutto
A10: SBW | B10: 1 | C10: Test -paski wskaźnikowe do kontroli warunków beztlenowych w woreczkach | D10: wyraźna (jednoznaczna) zmiana barwy wskaźnika przy przejściu z warunków tlenowych na beztlenowe i z beztlenowych na tlenowe; op.=50 szt. | G10: op | H10: 1
B11: 2 | C11: Test do wykrywania aktywności oxydazy cytochromowej wytwarzanej przez mikroorganizmy | D11: w postaci pasków ze strefą reakcyjną do wykrywania oksydazy; odczyt paska testowego natychmiast, nie później niż w przeciagu 1 minuty, przez porównanie paska testowego z kolorową skalą zamieszczoną na opakowaniu;opakowanie=50 pasków, Wymagane dokumenty:karta kontroli produktu i instrukcja wykonania testu w języku polskim; minimalny termin okresu przydatności min. 10 miesięcy od daty dostawy | G11: op | H11: 40
B12: 3 | C12: Odczynnik Kovacsa (do wykrywania indolu wytwarzanego przez mikroorganizmy przy identyfikacji drobnoustrojów) | D12: w butelce z wkraplaczem, 1opakowanie = 30 ml; karta kontroli produktu, na której będzie umieszczona nazwa drobnoustrojów kontrolnych i data ważności produktu; minimalny termin okresu przydatności min.14 miesięcy od daty dostawy. Równoważne produktowi nr katalogowy Merck 111350.0001 | G12: op | H12: 1
B13: 4 | C13: Test do oznaczeń wolnego chloru, metoda kolorymetryczna DPD | D13: Zakres testu 0,10-1,5 mg/l Cl2, równoważne produktowi Merck, nr. Katalogowy 1.11160.0001 | G13: op | H13: 1
B14: 5 | C14: Siarczany, test opakowanie uzupełniające do 1.14411.0001 | D14: Zestaw uzupełniający do testu do oznaczenia siarczanów w zakresie 25-300 mg/l SO4, równoważne produktowi Merck nr katalogowy 1.18467.0002 | G14: op | H14: 1
B15: 6 | C15: Test do oznaczeń cyjanków -metoda kolorymetryczna | D15: zakres testu 0,002-0,030 mg/l , równoważny produktowi Merck, MColortest TM, nr kat. 1.14417.0001 | G15: op | H15: 1
A16: SBMŻ | B16: 7 | C16: Odczynnik Kovacsa (do wykrywania indolu wytwarzanego przez mikroorganizmy przy identyfikacji drobnoustrojów) | D16: w butelce z wkraplaczem, opakowanie zawierające nie więcej niż 50 ml. Wymagane dokumenty: 1) karta kontroli produktu, na której będzie umieszczona nazwa drobnoustrojów kontrolnych, nr partii i data ważności produktu, 2) karta charakterystyki w języku polskim. Okres przydatności od daty dostawy minimum 14 miesięcy. | G16: op. | H16: 1
J17: =SUM(J10:J16) -> 0
A18: SBW SBMŻ | B18: Do oferty należy dołączyć:
B19: przykładowe certyfikaty jakości
B20: Czas realizacji: 21 dni od dnia złożenia zamówienia
B21: Do dostawy należy dostarczyć:
B22: 1. przykładowe certyfikaty jakości
B23: 2. karty charakterystyki w języku polskim
B24: 3. instrukcje wykonania w języku polskim
B26: Niniejszym podpisem potwierdzam parametry przedmiotu zamówienia
F29: …………………………………………………………………..
F30: podpis wykonawcy

Sheet Zad.4 Płytki do monitoringu
B1: Znak sprawy: OEA-ZP.272.1.1.2022 | I1: załącznik 1/4
B3: …………………………………………
B4: …………………………………………
B5: ………..…....………………………….
B6: dane wykonawcy
D7: FORMULARZ CENOWY
B8: Zadanie nr 4 - Płytki do monitoringu
A9: Labora-torium | B9: lp. | C9: nazwa produktu | D9: szczegółowy opis przedmiotu zamówienia | E9: nazwa producenta/ dystrybutora/ importera | F9: nr katalogowy | G9: j.m. | H9: ilość | I9: cena jednostkowa brutto za j.m. | J9: wartość ogółem brutto
A10: SBEK | B10: 1 | C10: Gotowe płytki odciskowe z agarem tryptozowo-sojowym (TSA) wraz z substancjami neutralizującymi do monitoringu czystości powierzchni (ogólna liczba drobnoustrojów) | D10: 1op=2 zestawy po 10 płytek potrójnie pakowanych i sterylizowanych promieniami gamma; Wymagane dokumenty: 1) certyfikat jakości, na którym będą wyniki sprawdzania wzrostów dla szczepów (między innymi Staphylococcus aureus, Escherichia coli, Pseudomonas aeruginosa) 2) karta charakterystyki produktu w języku polskim; min. termin okresu przydatności 6 miesięcy od daty dostawy, temp. przechowywania +15ºC do + 25 ºC; na każdej płytce podana musi być nazwa produktu, data ważności, nr partii, nr seryjny produktu; | G10: op. | H10: 14
A11: SBEK | B11: 2 | C11: Gotowe płytki odciskowe z agarem Sabouraud z 4% dekstrozą i netralizatorami do monitoringu czystości powierzchni (ogólna liczba pleśni i drożdży) | D11: 1op=2 zestawy po 10 płytek potrójnie pakowanych i sterylizowanych promieniami gamma; Wymagane dokumenty: 1) certyfikat jakości, na którym będą wyniki sprawdzania wzrostów dla szczepów (między innymi Sacharomyces cerevisiae ) 2) karta charakterystyki produktu w języku polskim; min.termin okresu przydatności 4 miesiące od daty dostawy, temp. przechowywania +15ºC do + 25º C; na każdej płytce podana musi być nazwa produktu, data ważności, nr partii, nr seryjny produktu; | G11: op. | H11: 14
A12: SBMŻ | B12: 3 | C12: Gotowe płytki odciskowe z agarem tryptozowo-sojowym (TSA) wraz z substancjami neutralizującymi do monitoringu czystości powierzchni (ogólna liczba drobnoustrojów) | D12: w opakowaniu zawierającym 2 zestawy po 10 płytek lub 4 zestawy po 5 płytek potrójnie pakowanych i sterylizowanych promieniami Gamma. Wymagane dokumenty: 1) certyfikat jakości, na którym będą wyniki sprawdzania wzrostów dla szczepów (m.in. Staphylococcus aureus, Escherichia coli, Pseudomonas aeruginosa), 2) karta charakterystyki produktu w języku polskim. Minimalny termin okresu przydatności 6 miesięcy od daty dostawy, temp. przechowywania +15ºC do +25 ºC; na każdej płytce musi być podana nazwa produktu, data ważności, nr partii, nr seryjny produktu. | G12: op. | H12: 10
B13: 4 | C13: Gotowe płytki odciskowe z agarem Sabouraud z 4% dekstrozą i nuetralizatorami do monitoringu czystości powierzchni (ogólna liczba pleśni i drożdży) | D13: w opakowaniu zawierającym 2 zestawy po 10 płytek lub 4 zestawy po 5 płytek potrójnie pakowanych i sterylizowanych promieniami Gamma. Wymagane dokumenty: 1) certyfikat jakości, na którym będą wyniki sprawdzania wzrostów dla szczepów (m.in. Saccharomyces cerevisiae); 2) karta charakterystyki produktu w języku polskim. Minimalny termin okresu przydatności 6 miesiący od daty dostawy, temp. przechowywania +15ºC do + 25º C; na każdej płytce musi być podana nazwa produktu, data ważności, nr partii, nr seryjny produktu. | G13: op. | H13: 10
A14: SBW | B14: 5 | C14: Gotowe płytki odciskowe z agarem tryptozowo-sojowym (TSA) wraz z substancjami neutralizującymi do monitoringu czystości powierzchni (ogólna liczba drobnoustrojów) | D14: 1op=2 zestawy po 10 płytekpotrójnie pakowanych i sterylizowanych promieniami gamma; Wymagane dokumenty: 1)certyfikat jakości, na którym będą wyniki sprawdzania wzrostów dla szczepów (między innymi Staphylococcus aureus, Escherichia coli, Pseudomonas aeruginosa) 2) karta charkaterystyki produktu w języku polskim; min.termin okresu przydatności7miesięcy od daty dostawy, temp. przechowywania +15ºC do + 25 ºC; na każdej płytce podana musi być nazwa produktu, data ważności, nr partii, nr seryjny produktu; | G14: op | H14: 12
J15: =SUM(J10:J14) -> 0
A16: SBEK | B16: Do oferty przetargowej dla wszystkich pozycji należy dołączyć wymienione poniżej dokumenty lub wskazać określone adresy internetowe, ogólnodostępne i bezpłatne bazy danych gdzie zamawiający może je samodzielnie pobrać :
B17: 1. | C17: przykładowe świadectwa jakości (certyfikaty ) dla wszystkich podłoży
B18: 2. | C18: instrukcje zawierające pełny opis i zastosowanie podłóż w języku polskim oraz barwne ulotki dla podłoży - oddzielnie dla każdego podłoża
B19: Czas realizacji: 14 dni od dnia złożenia zamówienia
B20: Do dostawy należy dostarczyć:
B21: 1. | C21: certyfikat jakości na podłoża zawierający informacje: nazwę produktu, nr serii zgodny z numerem podanym na płytce, data ważności, wyznaczniki pH, stopień odzysku drobnoustrojów z uwzględnieniem szczepów wymienionych w specyfikacji; temperaturę i czas inkubacji.
B22: 2. | C22: wymienione w specyfikacji szczepy kontrolne powinny pochodzić z uznanych kolekcji zapewniających utrzymanie spójności pomiarowej
B23: 3. | C23: dla pozycji wymaganych ustawą o substancjach chemicznych i ich mieszaninach (t.j.Dz.U. z 2020r., poz. 2289 z poźn. zm.) karty charakterystyk oraz oznakowanie opakowania pożywki jako niebezpiecznej
A24: SBMŻ | B24: Do oferty przetargowej dla wszystkich pozycji należy dołączyć wymienione poniżej dokumenty lub wskazać określone adresy internetowe, ogólnodostępne i bezpłatne bazy danych gdzie zamawiający może je samodzielnie pobrać :
B25: 1. przykładowe certyfikaty jakości
B26: 2. instrukcje zawierające pełny opis i zastosowanie podłóż w języku polskim oraz barwne ulotki dla podłoży - oddzielnie dla każdego podłoża.
B27: Czas realizacji: 14 dni od dnia złożenia zamówienia
B28: Do dostawy dla wszystkich pozycji należy dołączyć:
B29: 1. certyfikat jakości na podłoża zawierający informacje: nazwę produktu, nr serii zgodny z numerem podanym na płytce, data ważności, wyznaczniki pH, stopień odzysku drobnoustrojów z uwzględnieniem szczepów wymienionych w specyfikacji; temperaturę i czas inkubacji.
B30: 2. wymienione w specyfikacji szczepy kontrolne powinny pochodzić z uznanych kolekcji zapewniających utrzymanie spójności pomiarowej.
B31: 3. dla pozycji wymaganych ustawą o substancjach chemicznych i ich mieszninach (t.j.Dz.U. z 2020r., poz. 2289 z późn. zm.) karty charakterystyk
A32: SBW | B32: Do oferty przetargowej dla wszystkich pozycji należy dołączyć wymienione poniżej dokumenty lub wskazać określone adresy internetowe, ogólnodostępne i bezpłatne bazy danych gdzie zamawiający może je samodzielnie pobrać :
B33: 1. przykładowe certyfikaty jakości
B34: 2. instrukcje zawierające pełny opis i zastosowanie podłóż w języku polskim oraz barwne ulotki dla podłoży - oddzielnie dla każdego podłoża.
B35: Czas realizacji: 14 dni od dnia złożenia zamówienia
B36: Do dostawy dla wszystkich pozycji należy dołączyć:
B37: 1. certyfikat jakości na podłoża zawierający informacje: nazwę produktu, nr serii zgodny z numerem podanym na płytce, data ważności, wyznaczniki pH, stopień odzysku drobnoustrojów z uwzględnieniem szczepów wymienionych w specyfikacji; temperaturę i czas inkubacji.
B38: 2. wymienione w specyfikacji szczepy kontrolne powinny pochodzić z uznanych kolekcji zapewniających utrzymanie spójności pomiarowej.
B39: 3. dla pozycji wymaganych ustawą o substancjach chemicznych i ich mieszninach (t.j.Dz.U. z 2020r., poz. 2289 z późn. zm.) karty charakterystyk
B40: Niniejszym podpisem potwierdzam parametry przedmiotu zamówienia
F41: …………………………………………………………………..
F42: podpis wykonawcy

Sheet Zad.5 Krążki diagnostyczne
B1: Znak sprawy: OEA-ZP.272.1.1.2022 | I1: załącznik 1/5
B3: …………………………………………
B4: …………………………………………
B5: ………..…....………………………….
B6: dane wykonawcy
D7: FORMULARZ CENOWY
B8: Zadanie nr 5 - Krążki diagnostyczne
A9: Labora-torium | B9: lp. | C9: nazwa produktu | D9: szczegółowy opis przedmiotu zamówienia | E9: nazwa producenta/ dystrybutora/ importera | F9: nr katalogowy | G9: j.m. | H9: ilość | I9: cena jednostkowa brutto za j.m. | J9: wartość ogółem brutto
A10: SBEK | B10: 1 | C10: Krążki diagnostyczne EF do różnicowania szczepów Enterococcus faecalis i Enterococcus faecium | D10: 1 opakowanie to 50 krążków; min. termin okresu przydatności 12 miesięcy od daty dostawy; Wymagane dokumenty: certyfikat jakości | G10: op. | H10: 1
B11: 2 | C11: Krążki diagnostyczne Op do różnicowania Streptococcus pneumoniae | D11: jak wyżej | G11: op. | H11: 1
B12: 3 | C12: Krążki diagnostyczne SP do różnicowania Streptococcus pyogenes | D12: jak wyżej | G12: op. | H12: 1
B13: 4 | C13: Krążki diagnostyczne F do różnicowania bakterii rodzaju Staphylococcus od Micrococcus | D13: jak wyżej | G13: op. | H13: 1
B14: 5 | C14: Krążki diagnostyczne N do identyfikacji Staphylococcus saprophyticus | D14: jak wyżej | G14: op. | H14: 1
B15: 6 | C15: Krążki diagnostyczne BC do różnicowania bakterii z rodzaju Moraxella od bakterii rodzaju Neisseria | D15: jak wyżej | G15: op. | H15: 1
B16: 7 | C16: Krążki diagnostyczne BV | D16: jak wyżej | G16: op. | H16: 1
B17: 8 | C17: Krążki diagnostyczne BX | D17: jak wyżej | G17: op. | H17: 1
B18: 9 | C18: Krążki diagnostyczne BVX | D18: jak wyżej | G18: op. | H18: 1
J19: =SUM(J10:J18) -> 0
A20: Wymagania dodatkowe 1. wszystkie krążki antybiogramowe powinny posiadać termin ważności minimum 2 lata i pochodzić od jednego producenta oraz że są konfekcjonowane w opakowania zawierające ilości nie większe niż w tabeli 2. krążki spełniają wymogi dla wyrobów do diagnostyki in vitro (Ustawa o wyrobach medycznych tj. Dz.U. z 2021r. poz. 1565 ) 3. każda fiolka z krążkami powinna być zapakowana w oddzielne, hermetycznie zamknięte opakowanie typu "blister" z pochłaniaczem wilgoci 4. każda fiolka musi posiadać etykietę z nazwą antybiotyku, jego stężeniem, datą ważności i numerem serii 5. na każdym pojedynczym krążku musi widnieć jego symbol i stężenie w µg 6. certyfikat jakości na krążki antybiogramowe musi zawierać kontrolę wysycenia krążka antybiotykiem 7. posiadają zaktualizowane karty bezpieczeństwa produktu lub oświadczenie, że oferowane produkty nie podlegają ustawie o substancjach chemicznych i ich mieszaninach (t.j.Dz.U. z 2020r. poz.2289)
A21: SBEK | B21: Do oferty przetargowej dla wszystkich pozycji należy dołączyć wymienione poniżej dokumenty lub wskazać określone adresy internetowe, ogólnodostępne i bezpłatne bazy danych gdzie zamawiający może je samodzielnie pobrać :
B22: 1. certyfikat zgodności z dyrektywą 98/79/ EC - CE na oferowane produkty 2. zaktualizowane karty bezpieczeństwa produktu lub oświadczenie, że oferowane produkty nie podlegają ustawie 3. wykaz i nazwy substancji niebezpiecznych zawartych w poszczególnych odczynnikach (jeżeli nie występują – dołączyć oświadczenie) 4. instrukcje użytkowania krążków diagnostycznych 5. pozytywną opinię Krajowego Ośrodka ds. Lekowrażliwości Drobnoustrojów lub innego równoważnego o oferowanych krążkach antybiogramowych UWAGA! Dokumenty wymienione powyżej w punktach 1-5 przeznaczone są dla potrzeb laboratorium i należy skompletować je oddzielnie.
B23: Czas realizacji: 14 dni od dnia złożenia zamówienia
B24: Do dostawy należy dostarczyć:
B25: 1. certyfikat jakości
B26: 2. instrukcje użytkowania krążków diagnostycznych
B27: Niniejszym podpisem potwierdzam parametry przedmiotu zamówienia
F28: …………………………………………………………………..
F29: podpis wykonawcy

Sheet Zad.6 Podłoża sypkie i supl
B1: Znak sprawy: OEA-ZP.272.1.1.2022 | I1: załącznik 1/6
B3: …………………………………………
B4: …………………………………………
B5: ………..…....………………………….
B6: dane wykonawcy
D7: FORMULARZ CENOWY
B8: Zadanie nr 6 - Podłoża sypkie i suplementy
A9: Labora-torium | B9: lp. | C9: nazwa produktu | D9: szczegółowy opis przedmiotu zamówienia | E9: nazwa producenta/ dystrybutora/ importera | F9: nr katalogowy | G9: j.m. | H9: ilość | I9: cena jednostkowa brutto za j.m. | J9: wartość ogółem brutto
A10: SBEK | B10: 1 | C10: Salmonella-Shigella agar (agar SS) | D10: podłoże sypkie ; podłoże wybiórcze do izolacji pał. Salmonella i Shigella z kału i poduktów spożywczych; wydajność 60 g/litr; w opakowaniu jednostkowym po 500g; z tej samej serii; na opakowaniu musi być umieszczony skład podłoża. Wymagane dokumenty: 1) certyfikat jakości, na którym będzie umieszczona nazwa szczepu testowego (między innymi Salmonella typhimurium, Shigella flexneri, Salmonella Enteritidis, Proteus mirabilis, E.coli, E. faecalis, K .pneumoniae, S. virchow, S. dysenteriae, P. aeruginosa), opis wyglądu kolonii oraz stopień odzysku drobnoustrojów; 2) instrukcja wykonania w języku polskim; 3) karta charakterystyki produktu; minimalny termin okresu przydatności 42 miesiące od daty dostawy | G10: op. | H10: 15
B11: 2 | C11: Hektoen enteric agar | D11: podłoże sypkie; podłoże do wykrywania i izolowania drobnoustrojów z rodziny Enterobacteriaceae, szczególnie do wykrywania pałeczek Salmonella i Shigella z produktów spożywczych, materiałów klinicznych i innych materiałów; wydajność 75 g/litr; w opakowaniu jednostkowym po 500g; z tej samej serii; na opakowaniu musi być umieszczony skład podłoża. Wymagane dokumenty:1) certyfikat jakości, na którym będzie umieszczona nazwa szczepu testowego (między innymi Escherichia coli, Klebsiella pneumoniae, Salmonella typhimurium, Salmonella Enteritidis, Shigella flexneri, Shigella sonnei, Proteus mirabilis, Enterococcus faecalis, P.aeruginosa, S.dysenteriae, S.poona), opis wyglądu kolonii oraz stopień odzysku drobnoustrojów;2) instrukcja wykonania w języku polskim; 3) karta charakterystyki produktu; minimalny termin okresu przydatności 42 miesiące od daty dostawy | G11: op. | H11: 15
A12: SBEK | B12: 3 | C12: Pożywka z seleninem sodu (SF) | D12: podłoże sypkie; podłoże do selektywnego namnażania pałeczek Salmonella; skład na 1000ml wody: diwodorofosforan sodu 1g, kwaśny selenin sodu 4g, wodorofosforan sodu 10g, pepton kazeinowy (tryptone T) 5g, laktoza 4g;pH = 7,0 ± 0,2; w opakowaniu jednostkowym po 500g; z tej samej serii; na opakowaniu musi być umieszczony skład podłoża. Wymagane dokumenty: 1) certyfikat jakości, na którym będzie umieszczona nazwa szczepu testowego, opis wyglądu kolonii oraz stopień odzysku drobnoustrojów; 2) instrukcja wykonania w języku polskim; 3) karta charakterystyki produktu; minimalny termin okresu przydatności 42 miesiące od daty dostawy | G12: op. | H12: 4
A13: SBW | B13: 4 | C13: Nutrient Difco agar 1,5% | D13: podłoże sypkie służące do przechowywania szczepów bakteryjnych; w opakowaniu jednostkowym po 500g; na opakowaniu musi być umieszczony skład podłoża. minimalny termin okresu przydatności 4 lata od daty dostawy,certyfikat jakości, na którym będzie umieszczona informacja o trwałości podłoża, nazwy szczepów kontrolnych, nazwa pożywki referencyjnej użytej przy kontroli podłoża, | G13: op | H13: 1
J14: =SUM(J10:J13) -> 0
A15: SBEK | B15: Do oferty przetargowej dla wszystkich pozycji należy dołączyć wymienione poniżej dokumenty lub wskazać określone adresy internetowe, ogólnodostępne i bezpłatne bazy danych gdzie zamawiający może je samodzielnie pobrać :
B16: 1. przykładowe świadectwa jakości (certyfikaty ) dla wszystkich podłoży i dodatków do podłoży (1-5) 2. certyfikat zarządzania jakością dla wyrobów medycznych np. ISO13485 3. wymienione w specyfikacji szczepy kontrolne powinny pochodzić z uznanych kolekcji zapewniających utrzymanie spójności pomiarowej 4. zaktualizowane karty bezpieczeństwa produktu lub oświadczenie, że oferowane produkty nie podlegają ustawie 5. wykaz i nazwy substancji niebezpiecznych zawartych w poszczególnych odczynnikach(jeżeli nie występują – dołączyć oświadczenie) 6. instrukcje zawierające pełny opis i zastosowanie podłóż w języku polskim – oddzielnie dla każdego podłoża UWAGA! Dokumenty wymienione powyżej w punktach 1-6 przeznaczone są dla potrzeb laboratorium i należy skompletować je oddzielnie.
B17: Czas realizacji: 14 dni od dnia złożenia zamówienia
B18: Do dostawy należy dostarczyć:
B19: 1 | C19: świadectwa jakości (certyfikaty ) dla wszystkich podłoży i suplementów oraz instrukcje przygotowania podłoży w języku polskim
A20: SBW | B20: Do oferty należy dołączyć:
B21: 1. Certyfikat jakości oraz kartę kontroli produktu zawierającą datę ważności dostarczonego produktu, na której również będzie umieszczona informacja o trwałości podłoża, warunkach przechowywania, nazwa drobnoustojów kontrolnych, nazwa pożywki referencyjnej użytej przy kontroli podłoża,, opis wyglądu oraz stopień odzysku drobnoustrojów .
B22: 2.certyfikat zarządzania jakością producenta i dystrybutora (wykonawcy) np. ISO 9001;
B23: 3.certyfikat kontroli jakości pożywek mikrobiologicznych zgodnie z wymaganiami normy PN-EN ISO 11133
B24: Czas realizacji: 14 dni od dnia złożenia zamówienia
B25: Do dostawy należy dostarczyć:
B26: 1. Certyfikat jakości oraz kartę kontroli produktu zawierającą datę ważności dostarczonego produktu, na której również będzie umieszczona informacja o trwałości podłoża, warunkach przechowywania, nazwa drobnoustojów kontrolnych, nazwa pożywki referencyjnej użytej przy kontroli podłoża,, opis wyglądu oraz stopień odzysku drobnoustrojów .
B27: 2. Instrukcje przygotowania w języku polskim z podanym terminem trwałości podłoża po przygotowaniu.
B28: 3. Wymienione w specyfikacji szczepy kontrolne powinny pochodzić z uznanych kolekcji zapewniających utrzymanie spójności pomiarowej
B29: 4.Dołączyć karty charakterystyki produktu oraz oznakowanie opakowania podłoża jako niebezpiecznego
B31: Niniejszym podpisem potwierdzam parametry przedmiotu zamówienia
F32: …………………………………………………………………..
F33: podpis wykonawcy

Sheet Zad.7 Podłoża sypkie 
B1: Znak sprawy: OEA-ZP.272.1.1.2022 | I1: załącznik 1/7
B3: …………………………………………
B4: …………………………………………
B5: ………..…....………………………….
B6: dane wykonawcy
D7: FORMULARZ CENOWY
B8: Zadanie nr 7 - Podłoża sypkie
A9: Laborat-orium | B9: lp. | C9: nazwa produktu | D9: szczegółowy opis przedmiotu zamówienia | E9: nazwa producenta/dystrybutora/importera | F9: nr katalogowy | G9: j.m. | H9: ilość | I9: cena jednostkowa brutto za j.m. | J9: wartość ogółem brutto
A10: SBMŻ | B10: 1 | C10: Podłoże agarowe MYP wg Mossela (podstawowe) | D10: podłoże sypkie; skład zgodny z normą PN-EN ISO 7932; w opakowaniu jednostkowym po 500 g; na opakowaniu musi być instrukcja w języku polskim wykonania podłoża; Wymagane dokumenty: 1) karta kontroli produktu, na której będzie umieszczona informacja o trwałości podłoża oraz nazwa drobnoustrojów kontrolnych; minimalny termin okresu przydatności 2 lata od daty dostawy. | G10: op. | H10: 1
B11: 2 | C11: Podłoże trójcukrowe z cytrynianem żelaza (TSI) | D11: podłoże sypkie; skład zgodny z normą PN-EN ISO 6579; wydajność 67,6 g/litr; w opakowaniu jednostkowym 250g; na opakowaniu musi być instrukcja w języku polskim wykonania podłoża; Wymagane dokumenty: 1) karta kontroli produktu, na której będzie umieszczona informacja o trwałości podłoża oraz nazwa drobnoustrojów kontrolnych; 2) karta charakterystyki produktu; minimalny termin okresu przydatności 2 lata od daty dostawy. | G11: op. | H11: 1
B12: 3 | C12: Siarczan polimyksyny B - 1 000 000 IU | D12: Siarczan polimyksyny B 1 000 000 IU; 1 op. = 106 IU; Wymagane dokumenty: 1) karta kontroli produktu; 2) karta charakterysytyki produktu; minimalny termin okresu przydatności 18 miesięcy od daty dostawy. | G12: op. | H12: 3
B13: 4 | C13: Emulsja żółtka jaja kurzego | D13: jałowa, bez tellurynu - do pożywki Baird - Parkera oraz do pożywki MYP; certyfikat jakości; opakowanie jednostkowe = butelka 100 ml; z tej samej serii; termin ważności minimum 11 miesięcy od daty dostawy. | G13: butel-ka (100 ml) | H13: 15
B14: 5 | C14: Podłoże do wykrywania dekarboksylacji L-lizyny | D14: podłoże sypkie; skład zgodny z PN-EN ISO 6579-1; w opakowaniu jednostkowym po 100 g; Wymagane dokumenty: 1) karta kontoli produktu, na której będzie umieszczona informacja o trwałości podłoża oraz nazwa drobnoustojów kontrolnych; 2) karta charakterystyki produktu; minimalny termin okresu przydatności 2 lata od daty dostawy. | G14: op. | H14: 1
B15: 6 | C15: Zbuforowany roztwór soli fizjologicznej (PBS) | D15: podłoże sypkie; skład (g/l): chlorek sodu 8,50g, wodorofosforan disodu 8,98g, diwodorofosforan sodu 2,71g; wydajność 20,2 g/l; w opakowaniu jednostkowym 500g; z tej samej serii; na opakowaniu musi być instrukcja w języku polskim wykonania podłoża; Wymagane dokumenty: 1) karta kontroli produktu, na której będzie umieszczona informacja o trwałości podłoża oraz nazwa drobnoustrojów kontrolnych (m.in. Escherichia coli); minimalny termin okresu przydatności 3 lata od daty dostawy. | G15: op. | H15: 2
B16: 7 | C16: Podłoże z mocznikiem wg Christensena | D16: podłoże sypkie; skład zgodny z normą PN-EN ISO 6579-1; wydajność 44g/litr; w opakowaniu jednostkowym 250g; na opakowaniu musi być instrukcja wykonania podłoża w języku polskim. Wymagane dokumenty: 1) karta kontroli produktu, na której będzie umieszczona informacja o trwałości podłoża oraz nazwa drobnoustrojów kontrolnych; 2) karta charakterystyki produktu; minimalny termin okresu przydatności 2 lata od daty dostawy. | G16: op. | H16: 1
B17: 8 | C17: Agar kazeinowo-sojowy do wykrywania pirazynamidazy | D17: podłoże sypkie; skład zgodny z normą PN-EN ISO 10273; w opakowaniu jednostkowym 100g; na opakowaniu musi być instrukcja w języku polskim wykonania podłoża; Wymagane dokumenty: 1) karta kontroli produktu, na której będzie umieszczona informacja o trwałości podłoża oraz nazwa drobnoustrojów kontrolnych; 2) karta charakterystyki produktu; minimalny termin okresu przydatności 3 lata od daty dostawy. | G17: op. | H17: 1
B18: 9 | C18: Woda tryptonowa | D18: podłoże sypkie; skład zgodny z normą PN ISO 7251; w opakowaniu jednostkowym 100g; na opakowaniu musi być instrukcja w języku polskim wykonania podłoża; Wymagane dokumenty: 1) karta kontroli produktu, na której będzie umieszczona informacja o trwałości podłoża oraz nazwa drobnoustrojów kontrolnych; 2) karta charakterystyki produktu; minimalny termin okresu przydatności 2 lata od daty dostawy. | G18: op. | H18: 1
B19: 10 | C19: Woda peptonowa z tryptofanem | D19: podłoże sypkie; podłoże przeznaczone do hodowli przy różnicowaniu bakterii z grupy coli - test na wytwarzanie indolu; wydajność 16g/litr; w opakowaniu jednostkowym po 100 g; na opakowaniu musi być instrukcja w języku polskim wykonania podłoża; Wymagane dokumenty: 1) karta kontroli produktu, na której będzie umieszczona informacja o trwałości podłoża oraz nazwa drobnoustrojów kontrolnych; 2) karta charakterystyki produktu; minimalny termin okresu przydatności 2 lata od daty dostawy. | G19: op. | H19: 1
B20: 11 | C20: Płyn do rozcieńczeń | D20: podłoże sypkie; do przygotowania izotonicznego roztworu do rozcieńczeń, stwarzający optymalne warunki przeżywalności mikroorganizmów. Skład (g/l): Enzymatyczny hydrolizat kazeiny 1,0g, Chlorek sodu 8,5g. Opakowanie jednostkowe: 500g. Wymagane dokumenty: 1) certyfikat jakości, na którym będzie umieszczona informacja o trwałości podłoża oraz nazwa drobnoustrojów kontrolnych (m.in. Escherichia coli), 2) Instrukcja przygotowania podłoża w języku polskim; minimalny termin okresu przydatności 3 lata od daty dostawy. | G20: op. | H20: 2
B21: 12 | C21: Agar odżywczy wg ISO 21528 | D21: podłoże sypkie; w opakowaniu jednostkowym 250g; na opakowaniu musi być instrukcja w języku polskim wykonania podłoża; Wymagane dokumenty: 1) karta kontroli produktu, na której będzie umieszczona informacja o trwałości podłoża oraz nazwa drobnoustrojów kontrolnych; 2) karta charakterystyki produktu; minimalny termin okresu przydatności 2 lata od daty dostawy. | G21: op. | H21: 1
A22: SBEK | B22: 13 | C22: Bulion kazeinowo-sojowy (TSB) | D22: podłoże sypkie; podłoże uniwersalne do hodowli i namnażania mikroorganizmów; skład: pepton K, pepton SP, glukoza, chlorek sodu, wodorofosforan dipotasu; wydajność 30g/litr; w opakowaniu jednostkowym po 500 g; na opakowaniu musi być instrukcja w języku polskim wykonania podłoża; Wymagane dokumenty: 1)karta kontroli produktu, na której będzie umieszczona informacja o trwałości podłoża oraz nazwa drobnoustrojów kontrolnych; 2) karta charakterystyki produktu; minimalny termin okresu przydatności 2 lata od daty dostawy | G22: op. | H22: 1
B23: 14 | C23: Pożywka podstawowa OF według Hugh-Leifsona | D23: podłoże sypkie do wykrywania tlenowego lub beztlenowego rozkładu węglowodanów - glukozy;w opakowaniu jednostkowym po 100g; Wymagane dokumenty: 1)karta kontroli produktu, na której będzie umieszczona informacja o trwałości podłoża oraz nazwa drobnoustrojów kontrolnych; 2) karta charakterystyki produktu; minimalny termin okresu przydatności 2 lata od daty dostawy | G23: op. | H23: 1
B24: 15 | C24: Laktoza 1-hydrat cz.d.a | D24: w opakowaniu jednostkowym po 250 g; Wymagane dokumenty: 1)certyfikat jakości; 2)karta charakterystyki produktu; minimalny termin okresu przydatności 2 lata od daty dostawy | G24: op. | H24: 1
B25: 16 | C25: Podłoże z mocznikiem wg Christensena w modyfikacji Hormaeche i Munilla | D25: podłoże sypkie; skład zgodny z normą PN-EN ISO 6579-1; wydajność 44g/litr; w opakowaniu jednostkowym 250g; na opakowaniu musi być instrukcja w języku polskim wykonania podłoża; Wymagane dokumenty: 1) karta kontroli produktu, na której będzie umieszczona informacja o trwałości podłoża oraz nazwa drobnoustrojów kontrolnych; 2) karta charakterystyki produktu; minimalny termin okresu przydatności 2 lata od daty dostawy. | G25: op. | H25: 1
J26: =SUM(J11:J25) -> 0
A27: SBMŻ | B27: Do oferty przetargowej dla wszystkich pozycji należy dołączyć wymienione poniżej dokumenty lub wskazać określone adresy internetowe, ogólnodostępne i bezpłatne bazy danych gdzie zamawiający może je samodzielnie pobrać :
B28: 1. przykładowe certyfikaty jakości dla wszystkich podłoży
B29: 2. certyfikat zarządzania jakością ISO 9001
B30: 3.wymienione w specyfikacji szczepy kontrolne powinny pochodzić z uznanych kolekcji zapewniających utrzymanie spójności pomiarowej
B31: 4. zaktualizowane karty bezpieczeństwa produktu lub oświadczenie, że oferowane produkty nie podlegają ustawie.
B32: 5. wykaz i nazwy substancji niebezpiecznych zawartych w poszczególnych odczynnikach (jeżeli nie występują – dołączyć oświadczenie)
B33: 6. instrukcje zawierające pełny opis i zastosowanie podłóż w języku polskim – oddzielnie dla każdego podłoża.
B34: Czas realizacji: 14 dni od dnia złożenia zamówienia
B35: Do dostawy należy dostarczyć:
B36: 1.certyfikaty jakości dla wszystkich podłoży oraz instrukcje przygotowania podłoży w języku polskim
B37: 2. Zamawiajacy zastrzega sobie prawo opcji zmniejszenia zamówienia o nie więcej niż 20%.
A38: SBEK | B38: Do oferty przetargowej dla wszystkich pozycji należy dołączyć wymienione poniżej dokumenty lub wskazać określone adresy internetowe, ogólnodostępne i bezpłatne bazy danych gdzie zamawiający może je samodzielnie pobrać :
B39: 1. | C39: przykładowe świadectwa jakości (certyfikaty ) dla wszystkich podłoży i suplementów
B40: 2. | C40: certyfikat zarządzania jakością dla wyrobów medycznych np. ISO 9001
B41: 3. | C41: wymienione w specyfikacji szczepy kontrolne powinny pochodzić z uznanych kolekcji zapewniających utrzymanie spójności pomiarowej
B42: 4. | C42: zaktualizowane karty bezpieczeństwa produktu lub oświadczenie, że oferowane produkty nie podlegają ustawie
B43: 5. | C43: wykaz i nazwy substancji niebezpiecznych zawartych w poszczególnych odczynnikach (jeżeli nie występują – dołączyć oświadczenie)
B44: 6. | C44: instrukcje zawierające pełny opis i zastosowanie podłóż w języku polskim – oddzielnie dla każdego podłoża
B45: UWAGA! Dokumenty wymienione powyżej w punktach 1-6 przeznaczone są dla potrzeb laboratorium i należy skompletować je oddzielnie.
B46: Czas realizacji: 14 dni od dnia złożenia zamówienia
B47: Do dostawy należy dostarczyć:
B48: 1. świadectwa jakości (certyfikaty ) dla wszystkich podłoży i suplementów, oraz instrukcje przygotowania podłoży w języku polskim
B49: Niniejszym podpisem potwierdzam parametry przedmiotu zamówienia
F51: …………………………………………………………………..
F52: podpis wykonawcy

Sheet Zad.8 Płytki Petriego
B1: Znak sprawy: OEA-ZP.272.1.1.2022 | I1: załącznik 1/8
B3: …………………………………………
B4: …………………………………………
B5: ………..…....………………………….
B6: dane wykonawcy
D7: FORMULARZ CENOWY
B8: Zadanie nr 8 - Płytki Petriego
A9: Labora-torium | B9: lp. | C9: nazwa produktu | D9: szczegółowy opis przedmiotu zamówienia | E9: nazwa producenta/dystrybutora/importera | F9: nr katalogowy | G9: j.m. | H9: ilość | I9: cena jednostkowa brutto za j.m. | J9: wartość ogółem brutto
A10: SBEK | B10: 1 | C10: Płytki Petriego STERYLNE jednorazowego użytku o wymiarach: zewnętrzna średnica pokrywki {mm} 90-90 i wysokość {mm} 14-16,2 | D10: z polistyrenu; z trzema żebrami wentylacyjnymi; pakowane maksymalnie po 25 sztuk w rękawie; na każdym rękawie oraz na opakowaniu transportowym musi być umieszczony termin ważnosci sterylności oraz numer serii produktu; ze świadectwem sterylności z datą ważności sterylności; minimalny termin okresu przydatności 18 miesięcy od daty dostawy | G10: szt. | H10: 12000
A11: SBMŻ | B11: 2 | C11: Płytki Petriego STERYLNE jednorazowego użytku o wymiarach: średnica {mm} 90 i wysokość {mm} 14-16,2 | D11: z trzema żebrami wentylacyjnymi; pakowane maksymalnie po 25 sztuk w rękawie; na każdym rękawie i na opakowaniu transportowym musi być umieszczona etykieta z numerem serii produktu i datą ważności sterylności. Wymagane dokumenty: świadectwo sterylności z datą ważności sterylności. Płytki z terminem ważności minimum 2 lata od daty dostawy. | G11: szt. | H11: 5000
A12: SBW | B12: 3 | C12: Płytki Petriego STERYLNE jednorazowego użytku o wymiarach: zewnętrzna średnica pokrywki {mm} 90-90 i wysokość {mm} 14-16,2 | D12: z trzema żebrami wentylacyjnymi;pakowane maksymalnie po 25 sztuk w rękawie; na każdym rękawie oraz na opakowaniu transportowym musi być umieszczony termin ważnosci sterylności oraz numer serii produktu; ze świadectwem sterylności z datą ważności sterylności; minimalny termin okresu przydatności 2 lata od daty dostawy | G12: szt | H12: 6000
B13: 4 | C13: Płytki Petriego STERYLNE jednorazowego użytku o wymiarach: wysokość {mm} min 14; średnica dolnej płytki {mm} 55 | D13: z trzema żebrami wentylacyjnymi;pakowane maksymalnie po 25 sztuk w rękawie; na każdym rękawie oraz na opakowaniu transportowym musi być umieszczony termin ważnosci sterylności oraz numer serii produktu; ze świadectwem sterylności z datą ważności sterylności; minimalny termin okresu przydatności 2 lata od daty dostawy | G13: szt | H13: 5000
J14: =SUM(J10:J13) -> 0
A15: SBEK | B15: Do oferty przetargowej dla wszystkich pozycji należy dołączyć wymienione poniżej dokumenty lub wskazać określone adresy internetowe, ogólnodostępne i bezpłatne bazy danych gdzie zamawiający może je samodzielnie pobrać :
B16: 1.przykladowe świadectwo sterylności
B17: Czas realizacji: 14 dni od dnia złożenia zamówienia
B18: Do dostawy należy dostarczyć:
B19: 1. świadectwo sterylności
A20: SBMŻ | B20: Do oferty przetargowej dla wszystkich pozycji należy dołączyć wymienione poniżej dokumenty lub wskazać określone adresy internetowe, ogólnodostępne i bezpłatne bazy danych gdzie zamawiający może je samodzielnie pobrać :
B21: 1. przykładowe świadectwo sterylności
B22: Czas realizacji: 14 dni od dnia złożenia zamówienia
B23: Do dostawy dla wszystkich pozycji należy dołączyć:
B24: 1. świadectwa sterylności.
A25: SBW | B25: Do oferty należy dołączyć:
B26: świadectwa sterylności dla każdej pozycji
B27: Czas realizacji: 14 dni od dnia złożenia zamówienia
B28: Do dostawy należy dostarczyć:
B29: 1.świadectwa sterylności
B30: Niniejszym podpisem potwierdzam parametry przedmiotu zamówienia
F31: …………………………………………………………………..
F32: podpis wykonawcy

Sheet Zadanie 9_Surowice diagnost.
B1: Znak sprawy: OEA-ZP.272.1.1.2022 | I1: załącznik 1/9
B3: …………………………………………
B4: …………………………………………
B5: ………..…....………………………….
B6: dane wykonawcy
D7: FORMULARZ CENOWY
B8: Zadanie nr 9 - Surowice diagnostyczne
A9: Labora-torium | B9: lp. | C9: nazwa produktu | D9: szczegółowy opis przedmiotu zamówienia | E9: nazwa producenta/ dystrybutora/ importera | F9: nr katalogowy | G9: j.m. | H9: ilość | I9: cena jednostkowa brutto za j.m. | J9: wartość ogółem brutto
A10: SBEK | B10: 1 | C10: SUROWICA DIAGNOSTYCZNA SALMONELLA DO AGLUTYNACJI SZKIEŁKOWEJ - Surowica HM | D10: w buteleczkach z zakraplaczem po 5 ml ; certyfikat dopuszczenia do obrotu; karta charakerystyki produktu w języku polskim; instrukcja wykonania; min. termin okresu przydatności 18 miesięcy od daty dostawy | G10: szt. | H10: 2
B11: 2 | C11: SUROWICA DIAGNOSTYCZNA SALMONELLA DO AGLUTYNACJI SZKIEŁKOWEJ - Surowica Hgm | D11: w buteleczkach z zakraplaczem po 5 ml ; certyfikat dopuszczenia do obrotu; karta charakerystyki produktu w języku polskim; instrukcja wykonania; min. termin okresu przydatności 18 miesięcy od daty dostawy | G11: szt. | H11: 2
B12: 3 | C12: SUROWICA DIAGNOSTYCZNA SALMONELLA DO AGLUTYNACJI SZKIEŁKOWEJ - Surowica O46 | D12: w buteleczkach z zakraplaczem po 5 ml ; certyfikat dopuszczenia do obrotu; karta charakerystyki produktu w języku polskim; instrukcja wykonania; min. termin okresu przydatności 18 miesięcy od daty dostawy | G12: szt. | H12: 1
B13: 4 | C13: SUROWICA DIAGNOSTYCZNA SALMONELLA DO AGLUTYNACJI SZKIEŁKOWEJ - Surowica Hq(ku) | D13: w buteleczkach z zakraplaczem po 5 ml ; certyfikat dopuszczenia do obrotu; karta charakerystyki produktu w języku polskim; instrukcja wykonania; min. termin okresu przydatności 18 miesięcy od daty dostawy | G13: szt. | H13: 1
B14: 5 | C14: SUROWICA DIAGNOSTYCZNA SALMONELLA DO AGLUTYNACJI SZKIEŁKOWEJ - Surowica DO | D14: w buteleczkach z zakraplaczem po 5 ml ; certyfikat dopuszczenia do obrotu; karta charakerystyki produktu w języku polskim; instrukcja wykonania; min. termin okresu przydatności 18 miesięcy od daty dostawy | G14: szt. | H14: 1
B15: 6 | C15: SUROWICA DIAGNOSTYCZNA SALMONELLA DO AGLUTYNACJI SZKIEŁKOWEJ - Surowica O4 | D15: w buteleczkach z zakraplaczem po 5 ml ; certyfikat dopuszczenia do obrotu; karta charakerystyki produktu w języku polskim; instrukcja wykonania; min. termin okresu przydatności 18 miesięcy od daty dostawy | G15: szt. | H15: 1
B16: 7 | C16: SUROWICA DIAGNOSTYCZNA DO AGLUTYNACJI SZKIEŁKOWEJ Shigella boydii 1-7 | D16: w buteleczkach z zakraplaczem po 5 ml ; certyfikat dopuszczenia do obrotu; karta charakerystyki produktu w języku polskim; instrukcja wykonania; min. termin okresu przydatności 1 rok od daty dostawy | G16: szt. | H16: 1
B17: 8 | C17: SUROWICA DIAGNOSTYCZNA DO AGLUTYNACJI SZKIEŁKOWEJ Shigella boydii 8-11 | D17: w buteleczkach z zakraplaczem po 5 ml ; certyfikat dopuszczenia do obrotu; karta charakerystyki produktu w języku polskim; instrukcja wykonania; min. termin okresu przydatności 1 rok od daty dostawy | G17: szt. | H17: 1
B18: 9 | C18: SUROWICA DIAGNOSTYCZNA DO AGLUTYNACJI SZKIEŁKOWEJ Shigella boydii 12-15 | D18: w buteleczkach z zakraplaczem po 5 ml ; certyfikat dopuszczenia do obrotu; karta charakerystyki produktu w języku polskim; instrukcja wykonania; min. termin okresu przydatności 1 rok od daty dostawy | G18: szt. | H18: 1
B19: 10 | C19: SUROWICA DIAGNOSTYCZNA DO AGLUTYNACJI SZKIEŁKOWEJ Shigella sonnei I,II f | D19: w buteleczkach z zakraplaczem po 5 ml ; certyfikat dopuszczenia do obrotu; karta charakerystyki produktu w języku polskim; instrukcja wykonania; min. termin okresu przydatności 1 rok od daty dostawy | G19: szt. | H19: 1
B20: 11 | C20: SUROWICA DIAGNOSTYCZNA DO AGLUTYNACJI SZKIEŁKOWEJ Shigella flexneri | D20: w buteleczkach z zakraplaczem po 5 ml ; certyfikat dopuszczenia do obrotu; karta charakerystyki produktu w języku polskim; instrukcja wykonania; min. termin okresu przydatności 1 rok od daty dostawy | G20: szt. | H20: 1
B21: 12 | C21: SUROWICA DIAGNOSTYCZNA DO AGLUTYNACJI SZKIEŁKOWEJ Shigella dysenteriae 1 | D21: w buteleczkach z zakraplaczem po 5 ml ; certyfikat dopuszczenia do obrotu; karta charakerystyki produktu w języku polskim; instrukcja wykonania; min. termin okresu przydatności 1 rok od daty dostawy | G21: szt. | H21: 1
B22: 13 | C22: SUROWICA DIAGNOSTYCZNA DO AGLUTYNACJI SZKIEŁKOWEJ Shigella dysenteriae 2 | D22: w buteleczkach z zakraplaczem po 5 ml ; certyfikat dopuszczenia do obrotu; karta charakerystyki produktu w języku polskim; instrukcja wykonania; min. termin okresu przydatności 1 rok od daty dostawy | G22: szt. | H22: 1
... B24: 15 | C24: Osocze królicze liofilizowane | D24: w ampułkach po 2 ml; 1 op. to 10 ampułek; Wymagane dokumenty; 1) certyfikat dopuszczenia do obrotu; minimalny termin okresu przydatności 6 m-cy od daty dostawy | G24: op. | H24: 1
A25: SBMŻ | B25: 16 | C25: Surowica diagnostyczna Salmonella do aglutynacji szkiełkowej - Surowica DO | D25: Surowica do wykrywania antygenów somatycznych szczepów Salmonella (zakwalifikowania szczepu do grupy serologicznej zgodnie ze schematem White'a-Kaufmanna Le Minora) w buteleczkach z zakraplaczem po 5 ml. Wymagane dokumenty: certyfikat dopuszczenia do obrotu; karta charakterystyki; instrukcja wykonania w języku polskim; minimalny termin okresu przydatności 18 miesięcy od daty dostawy. | G25: butelka a'5 ml | H25: 1
B26: 17 | C26: Surowica diagnostyczna Salmonella do aglutynacji szkiełkowej - Surowica BO | D26: Surowica do wykrywania antygenów somatycznych szczepów Salmonella (zakwalifikowania szczepu do grupy serologicznej zgodnie ze schematem White'a-Kaufmanna Le Minora) w buteleczkach z zakraplaczem po 5 ml. Wymagane dokumenty: certyfikat dopuszczenia do obrotu; karta charakterystyki; instrukcja wykonania w języku polskim; minimalny termin okresu przydatności 18 miesięcy od daty dostawy. | G26: butelka a'5 ml | H26: 1
B27: 18 | C27: Osocze królicze liofilizowane | D27: w ampułkach po 2 ml; 1 opakowanie to 10 ampułek; wymagane dokumenty: 1) certyfikat dopuszczenia do obrotu; minimalny termin okresu przydatności 10 miesięcy od daty dostawy. | G27: op. | H27: 2
J28: =SUM(J10:J27) -> 0
A29: SBEK | B29: Do oferty przetargowej dla wszystkich pozycji należy dołączyć wymienione poniżej dokumenty lub wskazać określone adresy internetowe, ogólnodostępne i bezpłatne bazy danych gdzie zamawiający może je samodzielnie pobrać :
B30: nie dotyczy
B31: Czas realizacji: 14 dni od dnia złożenia zamówienia
B32: Do dostawy należy dostarczyć:
B33: 1. | C33: dla każdej pozycji z pakietu certyfikat dopuszczenia do obrotu
A34: SBMŻ | B34: Do oferty przetargowej dla wszystkich pozycji należy dołączyć wymienione poniżej dokumenty lub wskazać określone adresy internetowe, ogólnodostępne i bezpłatne bazy danych gdzie zamawiający może je samodzielnie pobrać :
B35: 1.-
B36: Czas realizacji: 14 dni od dnia złożenia zamówienia
B37: Do dostawy dla wszystkich pozycji należy dołączyć:
B38: 1. certyfikat dopuszczenia do obrotu oraz instrukcję wykonania w języku polskim
B39: Niniejszym podpisem potwierdzam parametry przedmiotu zamówienia
F40: …………………………………………………………………..
F41: podpis wykonawcy

Sheet Zadanie 10_Szkło laboratoryjne
B1: Znak sprawy: OEA-ZP.272.1.1.2022 | I1: załącznik 1/10
B3: …………………………………………
B4: …………………………………………
B5: ………..…....………………………….
B6: dane wykonawcy
D7: FORMULARZ CENOWY
B8: Zadanie nr 10 - Szkło laboratoryjne
A9: Labora-torium | B9: lp. | C9: nazwa produktu | D9: szczegółowy opis przedmiotu zamówienia | E9: nazwa producenta/ dystrybutora/ importera | F9: nr katalogowy | G9: j.m. | H9: ilość | I9: cena jednostkowa brutto za j.m. | J9: wartość ogółem brutto
A10: SBEK | B10: 1 | C10: Próbówki Durhama | D10: śr.zew. 4-5mm dł.40mm | G10: szt. | H10: 300
B11: 2 | C11: Kolby stożkowe Erlenmayera bez szlifu, z wąską szyjką, poj.1000 ml | D11: z wąską szyjką, szkło nie gorsze jakością niż borokrzemowe 3.3, wysokość kolby 23 cm, średnica podstawy 13cm, śr. zewnętrzna szyjki 40mm, wysokość 40mm | G11: szt. | H11: 15
B12: 3 | C12: Probówki szklane duże | D12: Z dnem okrągłym, bez wywiniecia, szkło simax, Ø wewnetrzne 15 mm., grubość scianki 1,2 mm, długość 140 mm | G12: szt. | H12: 400
A13: SBW | B13: 4 | C13: kuwety pomiarowe do mętnościomierza laboratoryjnego HACH TL2310 | D13: kuwety pomiarowe okrągłe ze szkła borokrzemianowego, z nakrętkami i uszczelkami z gumy ( 95 x 25 mm; 3,74 x 1 cala); 6 sztuk w opakowaniu; równoważny produktowi HACH nr kat. 2084900 | G13: op | H13: 2
B14: 5 | C14: Probówki szklane małe | D14: z dnem okrągłym, bez wywinięcia, szkło simax, Æ wewnętrzne 10 mm,grubość ścianki 1-1,2 mm, długość 100 mm | G14: szt | H14: 100
B15: 6 | C15: Probówki szklane proste | D15: mikrobiologiczne, z dnem okrągłym, bez wywinięcia, szkło simax, śr.12mm x dł.140 mm, grubość ścianek 1,5 mm | G15: szt | H15: 200
B16: 7 | C16: Probówki szklane proste | D16: mikrobiologiczne, z dnem okrągłym, bez wywinięcia, szkło simax, śr.19mm x dł.180 mm | G16: szt | H16: 200
B17: 8 | C17: Probówki szklane proste | D17: do oznaczania indeksu nadmanganianowego, z dnem okrągłym, bez wywinięcia, szkło jasne o grubości ścianki 1mm, śr.wew. 25mm x dł.200 mm | G17: szt | H17: 20
B18: 9 | C18: Kolby stożkowe Erlenmayera bez szlifu, z szeroką szyjką, poj. 100 ml | D18: z szeroką szyjką, szkło nie gorsze jakością niż borokrzemowe 3.3, śr. zewnętrzna szyjki 40mm, wysokość 100mm | G18: szt | H18: 50
B19: 10 | C19: Kolby stożkowe Erlenmayera bez szlifu, z szeroką szyjką, poj. 250 ml | D19: z szeroką szyjką, szkło nie gorsze jakością niż borokrzemowe 3.3, śr. zewnętrzna szyjki 50mm, wysokość 140mm | G19: szt | H19: 50
B20: 11 | C20: Kolby stożkowe Erlenmayera bez szlifu, z szeroką szyjką, poj. 500 ml | D20: z szeroką szyjką, szkło nie gorsze jakością niż borokrzemowe 3.3, śr. zewnętrzna szyjki 50mm, wysokość 175mm | G20: szt | H20: 10
B21: 12 | C21: Kolba pomiarowa, szklana, pojemność 50 ml, kl.A, płaskodenna, z korkiem, ze szlifem | D21: szlif 12,5/21, z korkiem z tworzywa sztucznego, ze szkła jasnego borokrzemowego 3.3, nie gorszego niż DURAN, wzorcowane na wlew, oznaczenia na szkle naniesione niezmywalną brązową farbą wtopioną w szkło: pojemność nominalna, producent, klasa dokładności, nr serii, tolerancja, temperatura wzorcowania, rodzaj szkła. Zgodność serii poświadczona certyfikatem ( cała partia z jednym numerem serii). Nie gorsze jakością niż kolby BLAUBRAND. | G21: szt | H21: 20
B22: 13 | C22: Kolba pomiarowa, szklana, pojemność 100 ml, kl.A, płaskodenna, z korkiem, ze szlifem | D22: szlif 12,5/21, z korkiem z tworzywa sztucznego, ze szkła jasnego borokrzemowego 3.3, nie gorszego niż DURAN, wzorcowane na wlew, oznaczenia na szkle naniesione niezmywalną brązową farbą wtopioną w szkło: pojemność nominalna, producent, klasa dokładności, nr serii, tolerancja, temperatura wzorcowania, rodzaj szkła. Zgodność serii poświadczona certyfikatem ( cała partia z jednym numerem serii). Nie gorsze jakością niż kolby BLAUBRAND. | G22: szt | H22: 10
B23: 14 | C23: Kolba pomiarowa, szklana, pojemność 200 ml, kl.A, płaskodenna, z korkiem, ze szlifem | D23: szlif 14/23, z korkiem z tworzywa sztucznego, ze szkła jasnego borokrzemowego 3.3, nie gorszego niż DURAN, wzorcowane na wlew, oznaczenia na szkle naniesione niezmywalną brązową farbą wtopioną w szkło: pojemność nominalna, producent, klasa dokładności, nr serii, tolerancja, temperatura wzorcowania, rodzaj szkła. Zgodność serii poświadczona certyfikatem ( cała partia z jednym numerem serii). Nie gorsze jakością niż kolby BLAUBRAND. | G23: szt | H23: 10
B24: 15 | C24: Kolba pomiarowa, szklana, pojemność 250 ml, kl.A, płaskodenna, z korkiem, ze szlifem | D24: szlif 14/23, z korkiem z tworzywa sztucznego, ze szkła jasnego borokrzemowego 3.3, nie gorszego niż DURAN, wzorcowane na wlew, oznaczenia na szkle naniesione niezmywalną brązową farbą wtopioną w szkło: pojemność nominalna, producent, klasa dokładności, nr serii, tolerancja, temperatura wzorcowania, rodzaj szkła. Zgodność serii poświadczona certyfikatem ( cała partia z jednym numerem serii). Nie gorsze jakością niż kolby BLAUBRAND. | G24: szt | H24: 10
B25: 16 | C25: Kolba pomiarowa, szklana, pojemność 500 ml, kl.A, płaskodenna, z korkiem, ze szlifem | D25: szlif 19/26, z korkiem z tworzywa sztucznego, ze szkła jasnego borokrzemowego 3.3, nie gorszego niż DURAN, wzorcowane na wlew, oznaczenia na szkle naniesione niezmywalną brązową farbą wtopioną w szkło: pojemność nominalna, producent, klasa dokładności, nr serii, tolerancja, temperatura wzorcowania, rodzaj szkła. Zgodność serii poświadczona certyfikatem ( cała partia z jednym numerem serii). Nie gorsze jakością niż kolby BLAUBRAND. | G25: szt | H25: 10
J26: =SUM(J10:J25) -> 0
A27: SBEK SBW | B27: Do oferty przetargowej dla wszystkich pozycji należy dołączyć wymienione poniżej dokumenty lub wskazać określone adresy internetowe, ogólnodostępne i bezpłatne bazy danych gdzie zamawiający może je samodzielnie pobrać :
B28: nie dotyczy
B29: Czas realizacji: 21 dni od dnia złożenia zamówienia
B30: Do dostawy należy dostarczyć:
B31: 1. nie dotyczy
B32: Niniejszym podpisem potwierdzam parametry przedmiotu zamówienia
F33: …………………………………………………………………..
F34: podpis wykonawcy

Sheet Zad 11 Szkło labo cylindry
B1: Znak sprawy: OEA-ZP.272.1.1.2022 | I1: załącznik 1/11
B3: …………………………………………
B4: …………………………………………
B5: ………..…....………………………….
B6: dane wykonawcy
D7: FORMULARZ CENOWY
B8: Zadanie nr 11- Szkło laboratoryjne- cylindry
A9: Laborat-orium | B9: lp. | C9: nazwa produktu | D9: szczegółowy opis przedmiotu zamówienia | E9: nazwa producenta/dystrybutora/importera | F9: nr katalogowy | G9: j.m. | H9: ilość | I9: cena jednostkowa brutto za j.m. | J9: wartość ogółem brutto
A10: SBW | B10: 1 | C10: Cylinder miarowy wysoki 100ml, klasa A bez podstawy, z wylewką | D10: ze szkła jasnego borokrzemianowego 3.3, nie gorszego niż DURAN, z brązową podziałką pierścieniową wtopioną w szkło (wykonaną brązową farbą dyfuzyjną); oznaczenia na szkle naniesione tym samym niezmywalnym barwnikiem co skala: pojemność nominalna, producent, klasa dokładności, nr serii, tolerancja, temperatura wzorcowania, rodzaj szkła.Wzorcowane na wlew. Zgodność serii poświadczona certyfikatem (cała partia z jednym numerem serii). | G10: szt | H10: 100
B11: 2 | C11: Cylinder miarowy, szklany, pojemności 50ml, kl. A bez podstawy, z korkiem | D11: ze szlifem 19/26, z korkiem z tworzywa sztucznego, ze szkła jasnego borokrzemianowego 3.3, nie gorszego niż DURAN, z brązową podziałką pierścieniową wtopioną w szkło (wykonaną brązową farbą dyfuzyjną); oznaczenia na szkle naniesione tym samym niezmywalnym barwnikiem co skala: pojemność nominalna, producent, klasa dokładności, nr serii, tolerancja, temperatura wzorcowania, rodzaj szkła. Wzorcowane na wlew. Zgodność serii poświadczona certyfikatem (cała partia z jednym numerem serii). | G11: szt | H11: 100
J12: =SUM(J10:J11) -> 0
A13: SBW | B13: Do oferty przetargowej dla wszystkich pozycji należy dołączyć wymienione poniżej dokumenty lub wskazać określone adresy internetowe, ogólnodostępne i bezpłatne bazy danych gdzie zamawiający może je samodzielnie pobrać :
B14: nie dotyczy
B15: Czas realizacji: 21 dni od dnia złożenia zamówienia
B16: Do dostawy należy dostarczyć:
B17: 1. nie dotyczy
B18: Niniejszym podpisem potwierdzam parametry przedmiotu zamówienia
F21: …………………………………………………………………..
F22: podpis wykonawcy

Sheet Zad.12 Pojemniki do pob.pr.
B1: Znak sprawy: OEA-ZP.272.1.1.2022 | I1: załącznik 1/12
B3: …………………………………………
B4: …………………………………………
B5: ………..…....………………………….
B6: dane wykonawcy
D7: FORMULARZ CENOWY
B8: Zadanie nr 12- Pojemniki do pobierania próbek
A9: Labora-torium | B9: lp. | C9: nazwa produktu | D9: szczegółowy opis przedmiotu zamówienia | E9: nazwa producenta/ dystrybutora/ importera | F9: nr katalogowy | G9: j.m. | H9: ilość | I9: cena jednostkowa brutto za j.m. | J9: wartość ogółem brutto
A10: SBEK | B10: 1 | C10: Pakiet do wymazów z podłożem transportowym Amies bezwęglowym | D10: probówka okrągłodenna z PP o dł.1 50mm, śred.zewn. 12mm z etykietą i plastikowym aplikatorem łatwo łamiącym się, z certyfikatem jakości serii, zawierającym warunki i czas przeżywania określonych drobnoustrojów oraz odzysk dla poszczególnych bakterii; minimalny termin okresu przydatności 2 lata od dnia dostawy | G10: szt. | H10: 13000
B11: 2 | C11: Pakiet do wymazów z podłożem transportowym Amies węglowym | D11: probówka okrągłodenna z PP o dł. 150mm, śred.zewn .12mm z etykietą i plastikowym aplikatorem łatwo łamiącym się, z certyfikatem jakości serii, zawierającym warunki i czas przeżywania określonych drobnoustrojów oraz odzysk dla poszczególnych bakterii; minimalny termin okresu przydatności 2 lata od dnia dostawy | G11: szt. | H11: 100
J12: =SUM(J10:J11) -> 0
A13: SBEK | B13: Do oferty przetargowej dla wszystkich pozycji należy dołączyć wymienione poniżej dokumenty lub wskazać określone adresy internetowe, ogólnodostępne i bezpłatne bazy danych gdzie zamawiający może je samodzielnie pobrać :
B14: 1. dla kazdej pozycji (1-2) przykladowe świadectwo sterylności
B15: Czas realizacji: 14 dni od dnia złożenia zamówienia
B16: Do dostawy należy dostarczyć:
B17: 1. dla kazdej pozycji świadectwo sterylności
B20: Niniejszym podpisem potwierdzam parametry przedmiotu zamówienia
F21: …………………………………………………………………..
F22: podpis wykonawcy

Sheet Zad.13  Szkło laboratoryjne AS
B1: Znak sprawy: OEA-ZP.272.1.1.2022 | I1: załącznik 1/13
B3: …………………………………………
B4: …………………………………………
B5: ………..…....………………………….
B6: dane wykonawcy
D7: FORMULARZ CENOWY
B8: Zadanie nr 13 - Szkło laboratoryjne klasa AS
A9: Laborat-orium | B9: lp. | C9: nazwa produktu | D9: szczegółowy opis przedmiotu zamówienia | E9: nazwa producenta/ dystrybutora/ importera | F9: nr katalogowy | G9: j.m. | H9: ilość | I9: cena jednostkowa brutto za j.m. | J9: wartość ogółem brutto
A10: SBMŻ | B10: 1 | C10: Pipeta szklana wielomiarowa o pojemności 1 ml | D10: klasa AS, szkło borokrzemowe, certyfikat serii (cała partia z jednym numerem serii), wzorcowanie na wylew, podziałka elementarna 0,01 ml, czas odczekania 15s, z paskiem Schellbacha, oznaczenie trwałe, niezmywalne naniesione na szkło: producent, znak towarowy firmy, objętość nominalna, tolerancja, klasa dokładności, nr serii, temperatura wzorcowania, wzorcowanie na wylew, czas odczekania, rodzaj szkła. Wymagane dokumenty: certyfikat serii. | G10: szt. | H10: 20
B11: 2 | C11: Pipeta szklana wielomiarowa o pojemności 5 ml | D11: klasa AS, szkło borokrzemowe, certyfikat serii (cała partia z jednym numerem serii), wzorcowanie na wylew, podziałka elementarna 0,05 ml, czas odczekania 15s, z paskiem Schellbacha, oznaczenie trwałe, niezmywalne naniesione na szkło: producent, znak towarowy firmy, objętość nominalna, tolerancja, klasa dokładności, nr serii, temperatura wzorcowania, wzorcowanie na wylew, czas odczekania, rodzaj szkła. Wymagane dokumenty: certyfikat serii. | G11: szt. | H11: 20
B12: 3 | C12: Pipeta szklana wielomiarowa o pojemności 10 ml | D12: klasa AS, szkło borokrzemowe, certyfikat serii (cała partia z jednym numerem serii), wzorcowanie na wylew, podziałka elementarna 0,1 ml, czas odczekania 5s, z paskiem Schellbacha, oznaczenie trwałe, niezmywalne naniesione na szkło: producent, znak towarowy firmy, objętość nominalna, tolerancja, klasa dokładności, nr serii, temperatura wzorcowania, wzorcowanie na wylew, czas odczekania, rodzaj szkła. Wymagane dokumenty: certyfikat serii. | G12: szt. | H12: 40
A13: SBW | B13: 4 | C13: Pipety wielomiarowe, szklane, pojemności 25ml, kl.AS | D13: skalowane na wylew, niezmywalne brązowe oznakowanie wykonane farbą dyfuzyjną ETERNA, certyfikat serii, nie gorsza jakością niż pipeta BLAUBRAND®ETERNA, punkt "0" u góry, cała partia z jednym numerem serii. | G13: szt | H13: 30
B14: 5 | C14: Pipety wielomiarowe, szklane, pojemności 10ml, kl.AS | D14: skalowane na wylew, niezmywalne brązowe oznakowanie wykonane farbą dyfuzyjną ETERNA, certyfikat serii, nie gorsza jakością niż pipeta BLAUBRAND®ETERNA, punkt "0" u góry, cała partia z jednym numerem serii. | G14: szt | H14: 80
B15: 6 | C15: Pipety wielomiarowe, szklane, pojemności 5ml, kl.AS | D15: skalowane na wylew, niezmywalne brązowe oznakowanie wykonane farbą dyfuzyjną ETERNA, certyfikat serii, nie gorsza jakością niż pipeta BLAUBRAND®ETERNA, punkt "0" u góry, cała partia z jednym numerem serii. | G15: szt | H15: 50
B16: 7 | C16: Pipety wielomiarowe, szklane, pojemności 2ml, kl.AS | D16: skalowane na wylew, niezmywalne brązowe oznakowanie wykonane farbą dyfuzyjną ETERNA, certyfikat serii, nie gorsza jakością niż pipeta BLAUBRAND®ETERNA, punkt "0" u góry, cała partia z jednym numerem serii. | G16: szt | H16: 30
J17: =SUM(J10:J16) -> 0
A18: SBMŻ | B18: Do oferty przetargowej dla wszystkich pozycji należy dołączyć wymienione poniżej dokumenty lub wskazać określone adresy internetowe, ogólnodostępne i bezpłatne bazy danych gdzie zamawiający może je samodzielnie pobrać :
B19: 1. przykładowy certyfikat serii
B20: Czas realizacji: 14 dni od dnia złożenia zamówienia
B21: Do dostawy dla wszystkich pozycji należy dołączyć:
B22: 1. Certyfikat serii
A23: SBW | B23: Do oferty przetargowej dla wszystkich pozycji należy dołączyć wymienione poniżej dokumenty lub wskazać określone adresy internetowe, ogólnodostępne i bezpłatne bazy danych gdzie zamawiający może je samodzielnie pobrać :
B24: 1. przykładowy certyfikat serii
B25: Czas realizacji: 14 dni od dnia złożenia zamówienia
B26: Do dostawy dla wszystkich pozycji należy dołączyć:
B27: 1. Certyfikat serii
B28: Niniejszym podpisem potwierdzam parametry przedmiotu zamówienia
F30: …………………………………………………………………..
F31: podpis wykonawcy

Sheet Zad.14_Rękawice diagnostycz
B1: Znak sprawy: OEA-ZP.272.1.1.2022 | I1: załącznik 1/14
B3: …………………………………………
B4: …………………………………………
B5: ………..…....………………………….
B6: dane wykonawcy
D7: FORMULARZ CENOWY
B8: Zadanie nr 14 - Rękawiczki diagnostyczne
A9: Labora-torium | B9: lp. | C9: nazwa produktu | D9: szczegółowy opis przedmiotu zamówienia | E9: nazwa producenta/ dystrybutora/ importera | F9: nr katalogowy | G9: j.m. | H9: ilość | I9: cena jednostkowa brutto za j.m. | J9: wartość ogółem brutto
A10: SBEK | B10: 1 | C10: LATEKSOWE diagnostyczne, ochronne rękawice | D10: jednorazowe; rozmiar M (7-8); wykonane z lateksu kauczuku naturalnego; lekko pudrowane; powierzchnia teksturowana; wykonczenie mankietu - równomiernie rolowany brzeg; kształt uniwersalny, pasujący na lewą i prawą dłoń; AQL = 1,5; gwarancja jakosci 3 lata; deklaracja zgodnosci CE; zgodność z normami EN 455-1-2-3-4, MD 93/42/EEC, PPE 89/686/EEC, ISO 13485, ISO 9001; 1 opakowanie=100 szt | G10: op. | H10: 10
B11: 2 | C11: Syntetyczne NITRYLOWE diagnostyczne, ochronne rękawice | D11: jednorazowe; rozmiar M (7-8); bez zawartości protein lateksu; bezpudrowe; powierzchnia teksturowana; wykonczenie mankietu - równomiernie rolowany brzeg; kształt uniwersalny, pasujący na lewą i prawą dłoń; AQL = 1,5; gwarancja jakosci 3 lata; deklaracja zgodnosci CE; zgodność z normami EN 455-1-2-3-4, MD 93/42/EEC, PPE 89/686/EEC, ISO 13485, ISO 9001; 1 opakowanie=100 szt | G11: op. | H11: 5
B12: 3 | C12: Syntetyczne NITRYLOWE diagnostyczne, ochronne rękawice | D12: jednorazowe; rozmiar L (9); bez zawartości protein lateksu; bezpudrowe; powierzchnia teksturowana; wykonczenie mankietu - równomiernie rolowany brzeg; kształt uniwersalny, pasujący na lewą i prawą dłoń; AQL = 1,5; gwarancja jakosci 3 lata; deklaracja zgodnosci CE; zgodność z normami EN 455-1-2-3-4, MD 93/42/EEC, PPE 89/686/EEC, ISO 13485, ISO 9001; 1 opakowanie=100 szt | G12: op. | H12: 4
A13: SBMŻ | B13: 4 | C13: Syntetyczne NITRYLOWE diagnostyczne, ochronne rękawice | D13: jednorazowe; rozmiar M (7-8); bez zawartości protein lateksu; bezpudrowe; powierzchnia teksturowana; wykończenie mankietu - równomiernie rolowany brzeg; kształt uniwersalny, pasujący na lewą i prawą dłoń; AQL = 1,5; gwarancja jakości 3 lata; deklaracja zgodności CE; zgodność z normami EN 455-1-2-3-4, MD 93/42/EEC, PPE 89/686/EEC, ISO 13485, ISO 9001; 1 opakowanie = 100 sztuk. | G13: op. | H13: 5
B14: 5 | C14: WINYLOWE diagnostyczne, ochronne rękawice | D14: jednorazowe; rozmiar M (7-8); wykonane z polichlorku winylu; kolor niebieski; lekko pudrowane; powierzchnia gładka; wykończenie mankietu - równomiernie rolowany brzeg; kształt uniwersalny, pasujący na lewą i prawą dłoń; AQL = 1,5; gwarancja jakości 3 lata; deklaracja zgodności CE; zgodność z normami EN 455-1-2-3-4, MD 93/42/EEC, PPE 89/686/EEC, ISO 13485, ISO 9001; 1 opakowanie = 100 sztuk. | G14: op. | H14: 5
A15: SBW | B15: 6 | C15: Rękawiczki nitrylowe bezpudrowe jednorazowe, rozmiar S, | D15: 1 opakowanie=100 szt, równoważne produktowi safehand | G15: op | H15: 15
B16: 7 | C16: Rękawiczki nitrylowe bezpudrowe jednorazowe, rozmiar M | D16: 1 opakowanie=100 szt, równoważne produktowi safehand | G16: op | H16: 15
B17: 8 | C17: Rękawiczki diagnostyczne, lateksowe, bezpudrowe, rozmiar M | D17: 1 opakowanie=100 szt, | G17: op | H17: 10
B18: 9 | C18: Rękawiczki nitrylowe bezpudrowe jednorazowe, rozmiar L | D18: 1 opakowanie=100 szt, równoważne produktowi safehand | G18: op | H18: 15
J19: =SUM(J10:J18) -> 0
A20: SBEK | B20: Do oferty przetargowej dla wszystkich pozycji należy dołączyć wymienione poniżej dokumenty lub wskazać określone adresy internetowe, ogólnodostępne i bezpłatne bazy danych gdzie zamawiający może je samodzielnie pobrać :
B21: 1. ulotki informujące o rodzaju materiału z jakiego są wykonane rękawice, o współczynniku AQL, długości gwarancji, deklaracji zgodności CE i zgodności z pozostałymi normami wymienionymi w SWZ – oddzielnie dla pozycji (1-3)
B22: Czas realizacji: 14 dni od dnia złożenia zamówienia
B23: Do dostawy należy dostarczyć:
B24: 1. nie dotyczy
A25: SBMŻ | B25: Do oferty przetargowej dla wszystkich pozycji należy dołączyć wymienione poniżej dokumenty lub wskazać określone adresy internetowe, ogólnodostępne i bezpłatne bazy danych gdzie zamawiający może je samodzielnie pobrać :
B26: 1. ulotki informujące o rodzaju materiału z jakiego są wykonane rękawice, o współczynniku AQL, długości gwarancji, deklaracji zgodności CE i zgodności z pozostałymi normami wymienionymi w SWZ.
B27: Czas realizacji: 14 dni od dnia złożenia zamówienia
B28: Do dostawy dla wszystkich pozycji należy dołączyć:
B29: 1.-
A30: SBW | B30: Do oferty należy dołączyć:
B31: ulotki informujące o rodzaju materiału z jakiego są wykonane rękawice, o współczynniku AQL, długości gwarancji, deklaracji zgodności CE i zgodności z pozostałymi normami wymienionymi w SWZ
B32: Czas realizacji: 14 dni od dnia złożenia zamówienia
B33: Do dostawy należy dostarczyć:
B34: ulotki informujące o rodzaju materiału z jakiego są wykonane rękawice, o współczynniku AQL, długości gwarancji, deklaracji zgodności CE i zgodności z pozostałymi normami wymienionymi w SWZ
B37: Niniejszym podpisem potwierdzam parametry przedmiotu zamówienia
F38: …………………………………………………………………..
F39: podpis wykonawcy

Sheet Zad.15 Środki ochrony osob.
B1: Znak sprawy: OEA-ZP.272.1.1.2022 | I1: załącznik 1/15
B3: …………………………………………
B4: …………………………………………
B5: ………..…....………………………….
B6: dane wykonawcy
D7: FORMULARZ CENOWY
B8: Zadanie nr 15 - Środki ochrony osobistej
A9: Labora-torium | B9: lp. | C9: nazwa produktu | D9: szczegółowy opis przedmiotu zamówienia | E9: nazwa producenta/ dystrybutora/ importera | F9: nr katalogowy | G9: j.m. | H9: ilość | I9: cena jednostkowa brutto za j.m. | J9: wartość ogółem brutto
A10: SBEK | B10: 1 | C10: Maseczka chirurgiczna | D10: kolor biały z włókniny, trzywarstwowa,z gumkami, jednorazowego użytku; rozmiar M, op= 50 szt. | G10: Op. | H10: 2
A11: SBMŻ | B11: 2 | C11: Maseczka chirurgiczna | D11: z włókniny, trzywarstwowa,z gumkami, jednorazowego użytku. Opakowanie jednostkowe: 50 szt. | G11: op. | H11: 2
A12: SBW | B12: 3 | C12: Maseczka chirurgiczna | D12: kolor biały z włókniny, trzywarstwowa,z gumkami, jednorazowego użytku; rozmiar M, op= 50 szt. | G12: op. | H12: 3
B13: 4 | C13: Fartuch jednorazowego użytku z flizeliny | D13: kolor zielony, 1op=10szt | G13: op | H13: 2
A15: SBEK SBMŻ SBW | B15: Do oferty przetargowej dla wszystkich pozycji należy dołączyć wymienione poniżej dokumenty lub wskazać określone adresy internetowe, ogólnodostępne i bezpłatne bazy danych gdzie zamawiający może je samodzielnie pobrać :
B16: 1. -
B17: Czas realizacji: 14 dni od dnia złożenia zamówienia
B18: Do dostawy należy dostarczyć:
B19: 1. -
B20: Niniejszym podpisem potwierdzam parametry przedmiotu zamówienia
F21: …………………………………………………………………..
F22: podpis wykonawcy

Sheet Zad. 16 Środki myjące, dezynf.
B1: Znak sprawy: OEA-ZP.272.1.1.2022 | I1: załącznik 1/16
B3: …………………………………………
B4: …………………………………………
B5: ………..…....………………………….
B6: dane wykonawcy
D7: FORMULARZ CENOWY
B8: Zadanie nr 16 - Środki myjące i dezynfekcyjne
A9: Laborat-orium | B9: lp. | C9: nazwa produktu | D9: szczegółowy opis przedmiotu zamówienia | E9: nazwa producenta/ dystrybutora/ importera | F9: nr katalogowy | G9: j.m. | H9: ilość | I9: cena jednostkowa brutto za j.m. | J9: wartość ogółem brutto
A10: SBEK | B10: 1 | C10: Preparat myjący do dezynfekcji rąk | D10: Preparat myjący przeznaczony do higienicznej dezynfekcji rąk na bazie alkoholu (etanol) o własciwościach biobójczych: bakterio-, wiruso-, prątko- i grzybobójczy, opakowanie z pompką = 500 ml | G10: op. | H10: 12
B11: 2 | C11: Preparat w tabletkach o działaniu dezynfekcyjnym | D11: 1 opakowanie = 300 tabletek; preparat zawiera jako substancję aktywną - aktywny chlor; działa szybko i skutecznie wobec bakterii, wirusów i grzybów; stosowany do dezynfekcji w zakladach opieki zdrowotnej; minimum rok ważności od daty dostawy | G11: op. | H11: 6
A12: SBMŻ | B12: 3 | C12: Roztwór do higienicznego i chirurgicznego odkażania rąk | D12: 1 op = 500 ml; roztwór gotowy do użycia; aktywny w stosunku do bakterii (także prątków grużlicy), grzybów, rotawirusów i wirusów opryszczki, inaktywuje wirusy HBV i HIV; skład: zawartość alkoholu conajmniej 70%.; z dodatkiem substancji nawilżających. Minimalny termin okresu przydatności rok od daty dostawy. | G12: szt. | H12: 10
B13: 4 | C13: Szybko działający alkoholowy preparat dezynfekcyjny | D13: preparat do dezynfekcji sprzętu medycznego; szerokie spektrum działania obejmujące bakterie (włącznie z Tbc), grzyby i wirusy osłonione (HBV, HCV, HIV), Adeno, Papova, Rota; posiada optymalnie dobrany skład wykorzystujący synergistyczne działanie poszczególnych substancji czynnych; nie zawiera aldehydów, posiada przyjemny zapach; roztwór gotowy do użycia, do przecierania lub spryskiwania. W 100 g jako substancje aktywne zawiera między innymi 35,0 g 2-propanol. W opakowaniu jednostkowym nie większym niż 1 litr. Minimalny termin okresu przydatności 18 miesięcy od daty dostawy. | G13: litr | H13: 10
A14: SBW | B14: 5 | C14: Szybko działający alkoholowy preparat dezynfekcyjny | D14: preparat do dezynfekcji sprzętu medycznego; szerokie spektrum działania obejmujące bakterie (włącznie z Tbc), grzyby i wirusy osłonione (HBV, HCV, HIV), Adeno, Papova, Rota; posiada optymalnie dobrany skład wykorzystujący synergistyczne działanie poszczególnych substancji czynnych; nie zawiera aldehydów, posiada przyjemny zapach; roztwór gotowy do użycia, do przecierania lub spryskiwania. ;w 100 g jako substancje aktywne zawiera: 35,0 g 2-propanol, 25,0 g 1-propanol. 0,375 g amfoterycznych związków powierzchniowo-czynnych o działaniu mikrobójczym (20%); op=1l | G14: op | H14: 40
J15: =SUM(J10:J14) -> 0
A16: SBEK | B16: Do oferty przetargowej dla wszystkich pozycji należy dołączyć wymienione poniżej dokumenty lub wskazać określone adresy internetowe, ogólnodostępne i bezpłatne bazy danych gdzie zamawiający może je samodzielnie pobrać :
B17: 1.dla pozycji 1 ulotka informacyjna dotycząca produktu.
B18: Czas realizacji: 14 dni od dnia złożenia zamówienia
B19: Do dostawy należy dołączyć:
B20: 1. dla pozycji 3-4 karty charakterystyk
A21: SBMŻ | B21: Do oferty przetargowej dla wszystkich pozycji należy dołączyć wymienione poniżej dokumenty lub wskazać określone adresy internetowe, ogólnodostępne i bezpłatne bazy danych gdzie zamawiający może je samodzielnie pobrać :
B22: 1.dla pozycji 3- 4 ulotka informacyjna dotycząca produktu.
B23: Czas realizacji: 14 dni od dnia złożenia zamówienia
B24: Do dostawy należy dołączyć:
B25: 1. dla pozycji 3-4 karty charakterystyk
A26: SBW | B26: Do oferty przetargowej dla wszystkich pozycji należy dołączyć wymienione poniżej dokumenty lub wskazać określone adresy internetowe, ogólnodostępne i bezpłatne bazy danych gdzie zamawiający może je samodzielnie pobrać :
B27: 1.dla pozycji 5 ulotka informacyjna dotycząca produktu.
B28: Czas realizacji: 14 dni od dnia złożenia zamówienia
B29: Do dostawy należy dołączyć:
B30: 1. dla pozycji 5 karta charakterystyki
B31: Niniejszym podpisem potwierdzam parametry przedmiotu zamówienia
F33: …………………………………………………………………..
F34: podpis wykonawcy

Sheet Zad.17 Środki j.uż.
B1: Znak sprawy: OEA-ZP.272.1.1.2022 | I1: załącznik 1/17
B3: …………………………………………
B4: …………………………………………
B5: ………..…....………………………….
B6: dane wykonawcy
D7: FORMULARZ CENOWY
B8: Zadanie nr 17 - Środki j.uż.
A9: Labora-torium | B9: lp. | C9: nazwa produktu | D9: szczegółowy opis przedmiotu zamówienia | E9: nazwa producenta/ dystrybutora/ importera | F9: nr katalogowy | G9: j.m. | H9: ilość | I9: cena jednostkowa brutto za j.m. | J9: wartość ogółem brutto
A10: SBEK | B10: 1 | C10: Wata bawełniana (100% bawełna) nadająca się do sterylizacji na suche gorace powietrze w temperaturze 180ºC | D10: w pakowaniach jednostkowych 200g-500g | G10: kg | H10: 30
B11: 2 | C11: Wata celulozowa (lignina) | D11: w arkuszach, wykonana w 100% z celulozy bielonej. | G11: kg | H11: 20
B12: 3 | C12: Gaza | D12: niejałowa, w pakietach 1 metr kwadratowy | G12: pakiet | H12: 600
A13: SBMŻ | B13: 4 | C13: Wata bawełniana | D13: wykonana w 100% z czystych, miękkich i naturalnych włókien bawełnianych, nadająca się do sterylizacji na suche gorace powietrze w temp. 180°C; w opakowaniach jednostkowych 250g do 500 g. | G13: kg | H13: 5
B14: 5 | C14: Gaza | D14: niejałowa, w pakietach 1 metr kwadratowy | G14: pakiet | H14: 200
A15: SBW | B15: 6 | C15: Wata celulozowa (Lignina) | D15: w arkuszach, wykonana w 100% z celulozy bielonej. | G15: kg | H15: 5
J16: =SUM(J10:J15) -> 0
A17: SBEK | B17: Do oferty przetargowej dla wszystkich pozycji należy dołączyć wymienione poniżej dokumenty lub wskazać określone adresy internetowe, ogólnodostępne i bezpłatne bazy danych gdzie zamawiający może je samodzielnie pobrać :
B18: 1. nie dotyczy
B19: Czas realizacji: 14 dni od dnia złożenia zamówienia
B20: Do dostawy należy dostarczyć:
B21: 1. -
A22: SBMŻ | B22: Do oferty przetargowej dla wszystkich pozycji należy dołączyć wymienione poniżej dokumenty lub wskazać określone adresy internetowe, ogólnodostępne i bezpłatne bazy danych gdzie zamawiający może je samodzielnie pobrać :
B23: 1. nie dotyczy
B24: Czas realizacji: 14 dni od dnia złożenia zamówienia
B25: Do dostawy należy dołączyć:
B26: 1. -
A27: SBW | B27: Do oferty należy dołączyć:
B28: 1. nie dotyczy
B29: Czas realizacji: 14 dni od dnia złożenia zamówienia
B30: Do dostawy należy dostarczyć:
B31: 1. -
B32: Niniejszym podpisem potwierdzam parametry przedmiotu zamówienia
F33: …………………………………………………………………..
F34: podpis wykonawcy

Sheet Zad.18_Artykuły do steryl.
B1: Znak sprawy: OEA-ZP.272.1.1.2022 | I1: załącznik 1/18
B3: …………………………………………
B4: …………………………………………
B5: ………..…....………………………….
B6: dane wykonawcy
D7: FORMULARZ CENOWY
B8: Zadanie nr 18 - Artykuły do sterylizacji
A9: Labora-torium | B9: lp. | C9: nazwa produktu | D9: szczegółowy opis przedmiotu zamówienia | E9: nazwa producenta/ dystrybutora/ importera | F9: nr katalogowy | G9: j.m. | H9: ilość | I9: cena jednostkowa brutto za j.m. | J9: wartość ogółem brutto
A10: SBEK | B10: 1 | C10: Paski TST | D10: chemiczny wskaźnik kontroli procesu sterylizacji parą wodną w temp. 121 ºC i 134 ºC; 1 opakowanie = 100 sztuk; minimalny termin okresu przydatności 1 rok od daty dostawy | G10: op. | H10: 9
B11: 2 | C11: Rurki Browne`a | D11: chemiczny wskaźnik kontroli procesu sterylizacji na suche gorące powietrze w temp. 180 °C ; 1 opakowanie = 100 sztuk;minimalny termin okresu przydatności 1 rok od daty dostawy | G11: op. | H11: 4
J12: =SUM(J10:J11) -> 0
A13: SBEK | B13: Do oferty przetargowej dla wszystkich pozycji należy dołączyć wymienione poniżej dokumenty lub wskazać określone adresy internetowe, ogólnodostępne i bezpłatne bazy danych gdzie zamawiający może je samodzielnie pobrać :
B14: 1.nie dotyczy
B15: Czas realizacji: 14 dni od dnia złożenia zamówienia
B16: Do dostawy należy dostarczyć:
B17: 1. dla poz. 1 i 2 certyfikaty dopuszczenia do obrotu
B18: Niniejszym podpisem potwierdzam parametry przedmiotu zamówienia
F19: …………………………………………………………………..
F20: podpis wykonawcy

Sheet Zadanie 19_Testy lateksowe EPEC
B1: Znak sprawy: OEA-ZP.272.1.1.2022 | I1: załącznik 1/19
B3: …………………………………………
B4: …………………………………………
B5: ………..…....………………………….
B6: dane wykonawcy
D7: FORMULARZ CENOWY
B8: Zadanie nr 19 - Testy lateksowe EPEC, E.coli O157, VTEC
A9: Labora-torium | B9: lp. | C9: nazwa produktu | D9: szczegółowy opis przedmiotu zamówienia | E9: nazwa producenta/ dystrybutora/ importera | F9: nr katalogowy | G9: j.m. | H9: ilość | I9: cena jednostkowa brutto za j.m. | J9: wartość ogółem brutto
A10: SBEK | B10: A | C10: Zestaw odczynników diagnostycznych do identyfikacji O antygenów enteropatogennych pałeczek Escherichia coli:
B11: 1 | C11: odczynnik wieloważny A | D11: w buteleczkach z zakraplaczem po 5 ml ; certyfikat dopuszczenia do obrotu; karta charakerystyki produktu w języku polskim; instrukcja wykonania; min. termin okresu przydatności 6 miesięcy od daty dostawy, | G11: szt. | H11: 1
B12: 2 | C12: odczynnik wieloważny B | D12: jak wyżej | G12: szt. | H12: 1
B13: 3 | C13: odczynnik wieloważny C | D13: jak wyżej | G13: szt. | H13: 1
B14: 4 | C14: lateks kontrolny | D14: jak wyżej | G14: szt. | H14: 1
B15: 5 | C15: Odczynnik jednoważny A: O26 | D15: jak wyżej | G15: szt. | H15: 1
B16: 6 | C16: Odczynnik jednoważny A: O55 | D16: jak wyżej | G16: szt. | H16: 1
A17: SBEK | B17: 7 | C17: Odczynnik jednoważny A: O111 | D17: w buteleczkach z zakraplaczem po 2 ml ; certyfikat dopuszczenia do obrotu; karta charakerystyki produktu w języku polskim; instrukcja wykonania; min. termin okresu przydatności 6 miesięcy od daty dostawy, | G17: szt. | H17: 1
B18: 8 | C18: Odczynnik jednoważny A: O127 | D18: jak wyżej | G18: szt. | H18: 1
B19: 9 | C19: Odczynnik jednoważny A: O142 | D19: jak wyżej | G19: szt. | H19: 1
B20: 10 | C20: Odczynnik jednoważny B: O86 | D20: jak wyżej | G20: szt. | H20: 1
B21: 11 | C21: Odczynnik jednoważny B: O119 | D21: jak wyżej | G21: szt. | H21: 1
B22: 12 | C22: Odczynnik jednoważny B: O124 | D22: jak wyżej | G22: szt. | H22: 1
B23: 13 | C23: Odczynnik jednoważny B: O125 | D23: jak wyżej | G23: szt. | H23: 1
B24: 14 | C24: Odczynnik jednoważny B: O126 | D24: jak wyżej | G24: szt. | H24: 1
B25: 15 | C25: Odczynnik jednoważny B: O128 | D25: jak wyżej | G25: szt. | H25: 1
B26: 16 | C26: Odczynnik jednoważny C: O25 | D26: jak wyżej | G26: szt. | H26: 1
B27: 17 | C27: Odczynnik jednoważny C: O44 | D27: jak wyżej | G27: szt. | H27: 1
B28: 18 | C28: Odczynnik jednoważny C: O114 | D28: jak wyżej | G28: szt. | H28: 1
B29: 19 | C29: antygen kontrolny po 1 sztuce dla każdej grupy (czyli A, B, C) odczynników jednoważnych | D29: w buteleczkach z zakraplaczem po 1 ml ; certyfikat dopuszczenia do obrotu; karta charakerystyki produktu w języku polskim; instrukcja wykonania; min. termin okresu przydatności 6 miesięcy od daty dostawy, | G29: szt. | H29: 3
A30: SBEK | B30: B | C30: Odczynnik diagnostyczny dla Escherichia coli O157 | D30: w buteleczkach z zakraplaczem po 5 ml ; certyfikat dopuszczenia do obrotu; karta charakerystyki produktu w języku polskim; instrukcja wykonania; min. termin okresu przydatności 6 miesięcy od daty dostawy, | G30: szt. | H30: 1
B31: 1 | C31: Odczynnik kontrolny dla Escherichia coli O 157 | D31: w buteleczkach z zakraplaczem po 5 ml ; certyfikat dopuszczenia do obrotu; karta charakerystyki produktu w języku polskim; instrukcja wykonania; min. termin okresu przydatności 6 miesięcy od daty dostawy, | G31: szt. | H31: 1
B32: 2 | C32: antygen kontrolny dla E.coli O157 | D32: w buteleczkach z zakraplaczem po 1 ml ; certyfikat dopuszczenia do obrotu; karta charakerystyki produktu w języku polskim; instrukcja wykonania; min. termin okresu przydatności 6 miesięcy od daty dostawy, | G32: szt. | H32: 1
B33: 3 | C33: Pałeczki do wykonania oznaczenia | D33: 1 opakowanie to 50 sztuk | G33: op. | H33: 2
B34: 4 | C34: Płytki szklane do oznaczeń | D34: na jednej płytce znajduje się 12 pól do oznaczeń; tło płytki czarne, a obramowanie pól do oznaczeń koloru żółtego lub czerwnoego | G34: szt. | H34: 5
A35: SBEK | B35: C | C35: Lateks VTEC | D35: zestaw umożliwia przeprowadzenie ok. 80 oznaczeń; na zestaw składa się:7 odczynników diagnostycznych (O26, O103, O104, O111, O121, O145, O157) w buteleczkach (2 ml) z dozownikiem, lateks kontrolny (2 ml) w buteleczce z dozownikiem, wieloważny antygen kontrolny (1ml) w buteleczce z dozownikiem, 2 płytki szklane z wyznaczonymi polami do badań, pałeczki-mieszadełka z tworzywa sztucznego 3 x 50 sztuk; certyfikat dopuszczenia do obrotu; karta charakerystyki produktu w języku polskim; instrukcja wykonania; min. termin okresu przydatności 12 miesięcy od daty dostawy | G35: zestaw | H35: 1
J36: =SUM(J10:J35) -> 0
A37: SBEK | B37: Do oferty przetargowej dla wszystkich pozycji należy dołączyć wymienione poniżej dokumenty lub wskazać określone adresy internetowe, ogólnodostępne i bezpłatne bazy danych gdzie zamawiający może je samodzielnie pobrać :
B38: nie dotyczy
B39: Czas realizacji: 14 dni od dnia złożenia zamówienia
B40: Do dostawy należy dostarczyć:
B41: 1. dla każdej pozycji z pakietu certyfikat dopuszczenia do obrotu
B42: Niniejszym podpisem potwierdzam parametry przedmiotu zamówienia
F43: …………………………………………………………………..
F44: podpis wykonawcy

Sheet Zadanie 20_Pojemniki na odpady
B1: Znak sprawy: OEA-ZP.272.1.1.2022 | I1: załącznik 1/20
B3: …………………………………………
B4: ………..…....………………………….
B5: ………..…....………………………….
B6: dane wykonawcy
D7: FORMULARZ CENOWY
B8: Zadanie nr 20 - Pojemniki na odpady
A9: Labora-torium | B9: lp. | C9: nazwa produktu | D9: szczegółowy opis przedmiotu zamówienia | E9: nazwa producenta/ dystrybutora/ importera | F9: nr katalogowy | G9: j.m. | H9: ilość | I9: cena jednostkowa brutto za j.m. | J9: wartość ogółem brutto
A10: SBEK | B10: 1 | C10: Pojemnik jednorazowego użytku na odpady medyczne z przeznaczeniem do utylizacji o wymiarach wysokość 23cm, średnica górna 14,5cm, średnica dolna 11cm | D10: Pojemnik: 1. wykonany z tworzywa sztucznego, odpornego na działanie wilgoci, mechanicznie odporny na przekłucia i przecięcia materiału; 2. otwór pokrywy powinien posiadać wycięcie umożliwiające bezpieczne zdejmowanie igły; 3.zamknięcie otworu pojemnika zespolone z pokrywą pojemnika; 4.otwór wrzutowy szczelnie zamykany po napełnieniu pojemnika; 5.pokrywa szczelnie zatrzaskiwana na pojemniku głównym; 6. pojemnik z naklejona etykietą z symbolem "biohazard" i mozliwością opisu pojemnika.; 7. pojemnik w kolorze czerwonym, pokrywa i zakrywka w kolorze czerwonym; 8. posiada atest PZH | G10: szt. | H10: 20
A11: SBEK | B11: 2 | C11: Pojemnik okrągły na odpady zbiorczy o pojemności 10-15 LITRÓW | D11: Pojemnik: 1. wykonany z tworzywa HDPE odpornego na uderzenia i chemikalia; 2. z uchwytem do przenoszenia; 3. pojemnik i pokrywa w kolorze ŻÓŁTYM | G11: szt. | H11: 30
A12: SBMŻ | B12: 3 | C12: Pojemnik jednorazowego użytku na odpady medyczne z przeznaczeniem do utylizacji o wymiarach: wysokość 23cm, średnica górna 14,5 cm, średnica dolna 11 cm. | D12: Pojemnik: 1. wykonany z tworzywa sztucznego, odpornego na działanie wilgoci, mechanicznie odporny na przekłucia i przecięcia materiału; 2. otwór pokrywy powinien posiadać wycięcie umożliwiające bezpieczne zdejmowanie igły; 3. zamknięcie otworu pojemnika zespolone z pokrywą pojemnika; 4. otwór wrzutowy szczelnie zamykany po napełnieniu pojemnika; 5. pokrywa szczelnie zatrzaskiwana na pojemniku głównym; 6. pojemnik z naklejona etykietą z symbolem "biohazard" i mozliwością opisu pojemnika; 7. pojemnik, pokrywa i zakrywka w kolorze czerwonym; 8. posiada atest PZH. Wymiary pojemnika: wysokość 23cm, średnica górna 14,5 cm, średnica dolna 11 cm. | G12: szt. | H12: 50
A13: SBW | B13: 4 | C13: Pojemnik jednorazowego użytku na odpady medyczne z przeznaczeniem do utylizacji o wymiarach wysokość 23cm, średnica górna 14,5cm, średnica dolna 11cm | D13: Pojemnik: 1. wykonany z tworzywa sztucznego, odpornego na działanie wilgoci, mechanicznie odporny na przekłucia i przecięcia materiału; 2. otwór pokrywy powinien posiadać wycięcie umożliwiające bezpieczne zdejmowanie igły; 3.zamknięcie otworu pojemnika zespolone z pokrywą pojemnika; 4.otwór wrzutowy szczelnie zamykany po napełnieniu pojemnika; 5.pokrywa szczelnie zatrzaskiwana na pojemniku głównym; 7. oznakowanie pojemnika zgodnie z Rozporządzeniem Ministra Zdrowia z dnia 23 sierpnia 2007r.; 8. pojemnik, pokrywa i zakrywka w kolorze czerwonym; 9. posiada atest PZH, 10. wysokość ok 24cm. | G13: szt | H13: 30
J14: =SUM(J10:J13) -> 0
A15: SBEK | B15: Do oferty przetargowej dla wszystkich pozycji należy dołączyć wymienione poniżej dokumenty lub wskazać określone adresy internetowe, ogólnodostępne i bezpłatne bazy danych gdzie zamawiający może je samodzielnie pobrać :
B16: Do oferty należy dołączyć: Dla każdej pozycji ulotki informacyjne dotyczące produktu
B17: Czas realizacji: 14 dni od dnia złożenia zamówienia
B18: Do dostawy należy dostarczyć:
B19: nie dotyczy
A20: SBMŻ | B20: Do oferty przetargowej dla wszystkich pozycji należy dołączyć wymienione poniżej dokumenty lub wskazać określone adresy internetowe, ogólnodostępne i bezpłatne bazy danych gdzie zamawiający może je samodzielnie pobrać :
B21: 1. ulotkę informacyjną dotyczącą produktu
B22: Czas realizacji: 14 dni od dnia złożenia zamówienia
B23: Do dostawy należy dołączyć:
B24: 1.-
A25: SBW | B25: Do oferty przetargowej dla wszystkich pozycji należy dołączyć wymienione poniżej dokumenty lub wskazać określone adresy internetowe, ogólnodostępne i bezpłatne bazy danych gdzie zamawiający może je samodzielnie pobrać :
B26: 1. ulotkę informacyjną dotyczącą produktu
B27: Czas realizacji: 14 dni od dnia złożenia zamówienia
B28: Do dostawy należy dołączyć:
B29: 1.-
B30: Niniejszym podpisem potwierdzam parametry przedmiotu zamówienia | I30: …………………………………………………………………..
F31: podpis wykonawcy

Sheet Zadanie 21_Krążki antyb.
B1: Znak sprawy: OEA-ZP.272.1.1.2022 | I1: załącznik 1/21
B3: …………………………………………
B4: …………………………………………
B5: ………..…....………………………….
B6: dane wykonawcy
D7: FORMULARZ CENOWY
B8: Zadanie nr 21 - Krążki antybiogramowe
A9: Labora-torium | B9: lp. | C9: nazwa produktu | D9: szczegółowy opis przedmiotu zamówienia | E9: nazwa producenta/ dystrybutora/ importera | F9: nr katalogowy | G9: j.m. | H9: ilość | I9: cena jednostkowa brutto za j.m. | J9: wartość ogółem brutto
B10: 1 | C10: Krążki antybiogramowe VANKOMYCYNA 5 µg | D10: 1 opakowanie to 50 krążków; min. termin okresu przydatności 2 lata od daty dostawy; Wymagane dokumenty: certyfikat jakości | G10: op. | H10: 1
B11: 2 | C11: Krążki antybiogramowe NORFLOKSACYNA 10 µg | D11: jak wyżej | G11: op. | H11: 1
B12: 3 | C12: Krążki antybiogramowe LEVOFLOKSACYNA 5 µg | D12: jak wyżej | G12: op. | H12: 1
B13: 4 | C13: Krążki antybiogramowe TOBRAMYCYNA 30 µg | D13: jak wyżej | G13: op. | H13: 1
A14: SBEK | B14: 5 | C14: Krążki antybiogramowe PIPIERACYLINA 30 µg | D14: jak wyżej | G14: op. | H14: 1
B15: 6 | C15: Krążki antybiogramowe CEFALEKSYNA 30 µg | D15: jak wyżej | G15: op. | H15: 1
B16: 7 | C16: Krążki antybiogramowe DOKSYCYKLINA 30 µg | D16: jak wyżej | G16: op. | H16: 1
B17: 8 | C17: Krążki antybiogramowe AMPICYLINA 2 µg | D17: jak wyżej | G17: op. | H17: 1
B18: 9 | C18: Krążki antybiogramowe PIPERACYLINA/TAZOBAKTAM 36 µg | D18: jak wyżej | G18: op. | H18: 1
B19: 10 | C19: Krążki antybiogramowe KLINDAMYCYNA 2 µg | D19: jak wyżej | G19: op. | H19: 1
B20: 11 | C20: Krążki antybiogramowe OFLOKSACYNA 5 µg | D20: jak wyżej | G20: op. | H20: 1
B21: 12 | C21: Krążki antybiogramowe DORIPENEM 10 µg | D21: jak wyżej | G21: op. | H21: 1
B22: 13 | C22: Krążki antybiogramowe PENICYLINA 10 µg | D22: jak wyżej | G22: op. | H22: 1
B23: 14 | C23: Krążki antybiogramowe ERYTROMYCYNA 15 µg | D23: jak wyżej | G23: op. | H23: 1
B24: 15 | C24: Krążki antybiogramowe GENTAMYCYNA 30 µg | D24: jak wyżej | G24: op. | H24: 1
B25: 16 | C25: Krążki antybiogramowe NITROFURANTOINA 100 µg | D25: jak wyżej | G25: op. | H25: 1
B26: 17 | C26: Krążki antybiogramowe OXACYLINA 5 µg | D26: jak wyżej | G26: op. | H26: 1
... B31: 22 | C31: Krążki antybiogramowe CEFUROKSYM 30 µg | D31: jak wyżej | G31: op. | H31: 1
J32: =SUM(J10:J31) -> 0
A33: Wymagania dodatkowe 1. wszystkie krążki antybiogramowe powinny posiadać termin ważności minimum 2 lata i pochodzić od jednego producenta oraz że są konfekcjonowane w opakowania zawierające ilości nie większe niż w tabeli 2. krążki spełniają wymogi dla wyrobów do diagnostyki in vitro (Ustawa o wyrobach medycznych tekst jednolity Dz.U. z 2020r. poz. 2289 ) 3. każda fiolka z krążkami powinna być zapakowana w oddzielne, hermetycznie zamknięte opakowanie typu "blister" z pochłaniaczem wilgoci 4. każda fiolka musi posiadać etykietę z nazwą antybiotyku, jego stężeniem, datą ważności i numerem serii 5. na każdym pojedynczym krążku musi widnieć jego symbol i stężenie w µg 6. certyfikat jakości na krążki antybiogramowe musi zawierać kontrolę wysycenia krążka antybiotykiem 7. posiadają zaktualizowane karty bezpieczeństwa produktu lub oświadczenie, że oferowane produkty nie podlegają ustawie o substancjach chemicznych i ich mieszaninach (t.j.Dz.U. z 2019r., poz.1225)
A34: SBEK | B34: Do oferty przetargowej dla wszystkich pozycji należy dołączyć wymienione poniżej dokumenty lub wskazać określone adresy internetowe, ogólnodostępne i bezpłatne bazy danych gdzie zamawiający może je samodzielnie pobrać :
B35: 1. certyfikat zgodności z dyrektywą 98/79/ EC - CE na oferowane produkty 2. zaktualizowane karty bezpieczeństwa produktu lub oświadczenie, że oferowane produkty nie podlegają ustawie 3. wykaz i nazwy substancji niebezpiecznych zawartych w poszczególnych odczynnikach (jeżeli nie występują – dołączyć oświadczenie) 4. instrukcje użytkowania krążków diagnostycznych 5. pozytywną opinię Krajowego Ośrodka ds. Lekowrażliwości Drobnoustrojów lub innego równoważnego o oferowanych krążkach antybiogramowych UWAGA! Dokumenty wymienione powyżej w punktach 1-5 przeznaczone są dla potrzeb laboratorium i należy skompletować je oddzielnie.
B36: Czas realizacji: 14 dni od dnia złożenia zamówienia
B37: Do dostawy należy dostarczyć:
B38: 1. certyfikat jakości
B39: 2. instrukcje użytkowania krążków diagnostycznych
B40: Niniejszym podpisem potwierdzam parametry przedmiotu zamówienia
F41: …………………………………………………………………..
F42: podpis wykonawcy

Sheet Zadanie22_Wkłady do dejoni.
B1: Znak sprawy: OEA-ZP.272.1.1.2022 | I1: załącznik 1/22
B2: …………………………………………
B3: …………………………………………
B4: …………………………………………
B5: ………..…....………………………….
B6: dane wykonawcy
D7: FORMULARZ CENOWY
B8: Zadanie nr 22 - Wkłady do dejonizatora- filtry do wody
A9: Labora-torium | B9: lp. | C9: nazwa produktu | D9: szczegółowy opis przedmiotu zamówienia | E9: nazwa producenta/ dystrybutora/ importera | F9: nr katalogowy | G9: j.m. | H9: ilość | I9: cena jednostkowa brutto za j.m. | J9: wartość ogółem brutto
A10: SBEK | B10: 1 | C10: wkład piankowy polipropylenowy 5-cio mikronowy (FCPS5 AF) | G10: szt. | H10: 12
B11: 2 | C11: wkład węglowy blokowy (FCCBL) | G11: szt. | H11: 12
B12: 3 | C12: Złoże demineralizujace (MB 400) razem z plastikową obudową | G12: szt. | H12: 12
B13: 4 | C13: Membrana osmotyczna (75 gpd Osmonics) | D13: oryginalny producent USA | G13: szt. | H13: 12
A14: SBW | B14: 5 | C14: wkład piankowy polipropylenowy 5-cio mikronowy (FCPS5 AF) | G14: szt. | H14: 8
B15: 6 | C15: wkład węglowy blokowy (FCCBL) | G15: szt. | H15: 8
B16: 7 | C16: Membrana osmotyczna (100 gpd Osmonics) | G16: szt. | H16: 6
J17: =SUM(J10:J16) -> 0
A18: SBEK SBW | B18: Do oferty należy dołączyć:Do oferty przetargowej dla wszystkich pozycji należy dołączyć wymienione poniżej dokumenty lub wskazać określone adresy internetowe, ogólnodostępne i bezpłatne bazy danych gdzie zamawiający może je samodzielnie pobrać :
B19: nie dotyczy
B20: Czas realizacji: 14 dni od dnia złożenia zamówienia
B21: Do dostawy należy dostarczyć:
B22: 1. nie dotyczy
B23: Niniejszym podpisem potwierdzam parametry przedmiotu zamówienia
F24: …………………………………………………………………..
F25: podpis wykonawcy

Sheet Zadanie 23_Zestaw hodow.-identy
B1: Znak sprawy: OEA-ZP.272.1.1.2022 | I1: załącznik 1/23
B3: …………………………………………
B4: …………………………………………
B5: ………..…....………………………….
B6: dane wykonawcy
D7: FORMULARZ CENOWY
B8: Zadanie nr 23 - Zestaw hodowlano-identyfikacyjny
A9: Labora-torium | B9: lp. | C9: nazwa produktu | D9: szczegółowy opis przedmiotu zamówienia | E9: nazwa producenta/ dystrybutora/ importera | F9: nr katalogowy | G9: j.m. | H9: ilość | I9: cena jednostkowa brutto za j.m. | J9: wartość ogółem brutto
A10: SBEK | B10: 1 | C10: Agar Columbia z dodatkiem 5% odwłóknionej krwi baraniej | D10: podłoże służące do izolacji bakterii o wysokich wymaganiach odżywczych oraz wykrywania hemolizy; podłoże gotowe do użycia na płytkach Petriego o średnicy 90 mm; opakowanie na 2 x 10 płytek; Wymagane dokumenty: 1)certyfikat jakości, na którym będzie umieszczona nazwa szczepu testowego (między innymi Streptococcus pyogenes, Streptococcus pneumoniae, Listeria monocytogenes, Staphylococcus aureus , Escherichia coli ) i opis jego wzrostu; 2) karta charakterystyki produktu; minimalny termin okresu przydatności 1 miesiąc od daty dostawy | G10: op. | H10: 10
A11: SBEK | B11: 2 | C11: Podłoże chromogenne do identyfikacji Candida | D11: podłoże służące do wstępnej identyfikacji grzybów Candida;podłoże gotowe do użycia na płytkach Petriego o średnicy 90 mm; opakowanie na 2 x 10 płytek; Wymagane dokumenty: 1)certyfikat jakości, na którym będzie umieszczona nazwa szczepu testowego i opis jego wzrostu; 2) karta charakterystyki produktu; minimalny termin okresu przydatności 1 miesiąc od daty dostawy | G11: op. | H11: 4
B12: 3 | C12: Podłoże chromogenne do identyfikacji Staphylococcus aureus | D12: podłoże służące do identyfikacji S.aureus;podłoże gotowe do użycia na płytkach Petriego o średnicy 90 mm; opakowanie na 2 x 10 płytek; Wymagane dokumenty: 1)certyfikat jakości, na którym będzie umieszczona nazwa szczepu testowego i opis jego wzrostu; 2) karta charakterystyki produktu; minimalny termin okresu przydatności 1 miesiąc od daty dostawy | G12: op. | H12: 6
B13: 4 | C13: Zestaw do barwienia metodą Grama | D13: 4 roztwory odczynników po x 240 ml; minimum 9-cio miesięcznym terminem ważności od daty dostawy | G13: zestaw | H13: 1
A14: SBEK | B14: 5 | C14: Agar Mueller-Hintona 2 | D14: podłoże do badania lekowrażliwości bakterii na antybiotyki i sulfonamidy metodą dyfuzyjno-krążkową ; podłoże gotowe do użycia na płytkach Petriego o średnicy 90 mm; opakowanie na 2 x 10 płytek; Wymagane dokumenty: 1)certyfikat jakości, na którym będzie umieszczona nazwa szczepu testowego i opis jego wzrostu oraz strefy zahamowania wzrostu (mm) 2) karta charakterystyki produktu; minimalny termin okresu przydatności 2 miesiące od daty dostawy | G14: op. | H14: 6
B15: 6 | C15: Mueller-Hinton agar z dodatkiem 5% odwłóknionej KRWI KOŃSKIEJ i 20 mg/L β-NAD (podłoże MH-F) | D15: podłoże do badania lekowrażliwości pneumokoków i innych paciorkowców na antybiotyki i sulfonamidy metodą dyfuzyjno-krążkową ; podłoże gotowe do użycia na płytkach Petriego o średnicy 90 mm; opakowanie na 2 x 10 płytek; Wymagane dokumenty: 1)certyfikat jakości, na który będzie umieszczona nazwa szczepu testowego i opis jego wzrostu oraz strefy zahamowania wzrostu (mm) 2) karta charakterystyki produktu; minimalny termin okresu przydatności 1 miesiąc od daty dostawy | G15: op. | H15: 6
B16: 7 | C16: Yersinia CIN agar | D16: gotowe podłoże howowlane do selektywnej izolacji Yersinia na płytkach Petriego o średnicy 20x90 mm, opakowanie 2 x 10 płytek. Wymagane dokumenty: 1)certyfikat jakości, na którym będzie umieszczona nazwa szczepu testowego i opis jego wzrostu; 2) karta charakterystyki produktu; minimalny termin okresu przydatności 1 miesiąc od daty dostawy | G16: op. | H16: 2
A17: SBEK | B17: 8 | C17: Agar czekoladowy dla Haemophilus | D17: podłoże gotowe do użycia na płytkach Petriego o średnicy 90 mm; do hodowli Haemophilus; opakowanie na 2 x 10 płytek; Wymagane dokumenty: 1)certyfikat jakości, na którym będzie umieszczona nazwa szczepu testowego i opis jego wzrostu; 2) karta charakterystyki produktu; minimalny termin okresu przydatności 1 miesiąc od daty dostawy | G17: op. | H17: 8
B18: 9 | C18: Roztwór fizjologicznego chlorku sodu (roztwór NaCl 0,85%) | D18: podłoże służące do przygotowania zawiesin drobnoustrojów; w ampułkach po 2 ml (które będą pasowały do gniazda densytometru); na opakowanie składa się 100 ampułek; Wymagane dokumenty: 1) certyfikat jakości; min. termin okresu przydatności 18 m-cy od daty dostawy | G18: op. | H18: 1
B19: 10 | C19: Generator do hodowli bakterii wymagających do wzrostu obecności atmosfery 5% CO2 | D19: 1 op to 10 torebek, z terminem ważności minimum 5 m-cy od daty dostawy | G19: op. | H19: 2
B20: 11 | C20: Skala McFarlanda | D20: zestaw pięciu roztworów wzorcowych; Wymagane dokumenty: 1) certyfikat jakości; min. termin okresu przydatności 3 m-ce od daty dostawy | G20: zestaw | H20: 2
B21: 12 | C21: Generator warunków mikroaerofilnych | D21: 1 op to 10 torebek, z terminem ważności minimum 12 m-cy od daty dostawy | G21: op. | H21: 1
A22: SBMŻ | B22: 13 | C22: Bulion Muller-Kauffmanna z czterotionianem i nowiobiocyną (MKTTn) | D22: gotowe podłoże do użycia w probówkach; skład zgodny z normą PN-EN ISO 6579-1; pakowane maksymalnie po 100 probówek (po 10 ml) w opakowaniu; z tej samej serii. Wymagane dokumenty: 1) certyfikat jakości, na którym będzie umieszczona nazwa szczepu testowego (m.in. Salmonella typhimurium, Escherichia coli, Pseudomonas aeruginosa, Enterococcus faecalis ) i data ważności, 2) karta charakterystyki produktu. Minimalny termin okresu przydatności 9 miesięcy od daty dostawy. | G22: op. | H22: 2
B23: 14 | C23: Agar Columbia z dodatkiem 5% odwłóknionej krwi baraniej | D23: podłoże służące do izolacji bakterii o wysokich wymaganiach odżywczych oraz wykrywania hemolizy; podłoże gotowe do użycia na płytkach Petriego o średnicy 90 mm; opakowanie zawierające maksymalnie 20 płytek; z tej samej serii. Wymagane dokumenty: 1) certyfikat jakości, na którym będzie umieszczona nazwa szczepu testowego (między innymi Streptococcus pyogenes, Streptococcus pneumoniae, Listeria monocytogenes, Staphylococcus aureus , Escherichia coli ) i opis jego wzrostu; 2) karta charakterystyki produktu. Minimalny termin okresu przydatności 1 miesiąc od daty dostawy. | G23: op. | H23: 8
B24: 15 | C24: Roztwór fizjologicznego chlorku sodu (roztwór NaCl 0,85%) | D24: podłoże służące do przygotowania zawiesin drobnoustrojów; w ampułkach po 2 ml (które będą pasowały do gniazda densytometru); na opakowanie składa się 100 ampułek; Wymagane dokumenty: 1) certyfikat jakości; minimalny termin okresu przydatności 18 m-cy od daty dostawy. | G24: op. | H24: 1
B25: 16 | C25: Bulion wg Rappaport - Vassiliadis RVS | D25: gotowa pożywka płynna do wykrywania Salmonella w żywności, skład zgodny z PN-EN ISO 6579-1; z tej samej serii. Opakowanie zawierające maksymalnie 20 probówek po 10ml. Wymagane dokumenty: 1) certyfikat jakości, na którym będzie umieszczona nazwa szczepu testowego (m.in. Salmonella typhimurium i/lub Salmnella enteritidis, Escherichia coli, Pseudomonas aeruginosa, Enterococcus faecalis) i data ważności, 2) karta charakterystyki; minimalny termin okresu przydatności 7 miesięcy od daty dostawy. | G25: op. | H25: 10
B26: 17 | C26: Test biochemiczny pozwalający na identyfikację pałeczek Listeria | D26: zestaw identyfikacyjny dla Listeria spp. w tym Listeria monocytogenes; opakowanie zawierające maksymalnie 10 testów, 10 podłoży, 10 kart wyników, odczynnik. Wymagane dokumenty: 1) certyfikat jakości, 2) instrukcja wykonania w języku polskim. Minimalny termin okresu przydatności 6 miesiący od daty dostawy. | G26: zestaw | H26: 2
J27: =SUM(J10:J26) -> 0
A28: SBEK | B28: Do oferty przetargowej dla wszystkich pozycji należy dołączyć wymienione poniżej dokumenty lub wskazać określone adresy internetowe, ogólnodostępne i bezpłatne bazy danych gdzie zamawiający może je samodzielnie pobrać :
B29: 1. certyfikat zgodności z dyrektywą 98/79/ EC - CE na oferowane produkty (bez pozycji 10 i 12) 2. dokument wydany przez niezależną jednostkę certyfikującą, potwierdzający, że produkcja i kontrola podłóż mikrobiologicznych do badania żywności i pasz odbywa się zgodnie z normą ISO 11133 3. certyfikat zarządzania jakością dla wyrobów medycznych np. ISO13485 4. wymienione w specyfikacji szczepy kontrolne powinny pochodzić z uznanych kolekcji zapewniających utrzymanie spójności pomiarowej 5. zaktualizowane karty bezpieczeństwa produktu lub oświadczenie, że oferowane produkty nie podlegają ustawie o substancjach chemicznych i ich mieszaninach (tj. Dz. U. z 2020 r., poz.2289 z poźn. zm.) 6. wykaz i nazwy substancji niebezpiecznych zawartych w poszczególnych odczynnikach(jeżeli nie występują – dołączyć oświadczenie) 7. instrukcje zawierające pełny opis i zastosowanie podłóż w języku polskim oraz barwne ulotki dla podłoży chromogennych – oddzielnie dla każdego podłoża UWAGA! Dokumenty wymienione powyżej w punktach 1-8 przeznaczone są dla potrzeb laboratorium i należy skompletować je oddzielnie.
B30: Czas realizacji: 14 dni od dnia złożenia zamówienia
B31: Do dostawy należy dostarczyć:
B32: 1. certyfikaty jakośći
B33: Zamawiający zastrzega sobie prawo opcji zmniejszenia zamówienia o nie więcej niż 20%.
A34: SBMŻ | B34: Do oferty przetargowej dla wszystkich pozycji należy dołączyć wymienione poniżej dokumenty lub wskazać określone adresy internetowe, ogólnodostępne i bezpłatne bazy danych gdzie zamawiający może je samodzielnie pobrać :
B35: 1. przykładowe certyfikaty jakości.
B36: 2. Certyfikat zarządzania jakością ISO 9001.
B37: 3. Dokument potwierdzający, że produkcja i kontrola podłóż mikrobiologicznych do badania żywności i pasz odbywa się zgodnie z normą ISO 11133.
B38: 4. Wymienione w specyfikacji szczepy kontrolne powinny pochodzić z uznanych kolekcji zapewniających utrzymanie spójności pomiarowej.
B39: 5. karty charakterystyki produktu lub oświadczenie, że oferowane produkty nie podlegają ustawie o substancjach chemicznych i ich mieszaninach (t.j. Dz. U. z 2020r. poz. 2289 z poźn. zm.)
B40: 6. Instrukcje zawierające pełny opis i zastosowanie podłóż w języku polskim
B41: Czas realizacji: 14 dni od dnia złożenia zamówienia
B42: Do dostawy należy dostarczyć:
B43: 1. Certyfikaty jakości dla wszystkich podłoży oraz instrukcje przygotowania wszystkich podłoży w języku polskim.
B44: 2. karty charakterystyki produktu
B45: Zamawiający zastrzega sobie prawo opcji zmniejszenia zamówienia o nie więcej niż 20%.
B46: Niniejszym podpisem potwierdzam parametry przedmiotu zamówienia
F47: …………………………………………………………………..
F48: podpis wykonawcy

Sheet Zadanie 24 Końcówki do pipet
B1: Znak sprawy: OEA-ZP.272.1.1.2022 | I1: załącznik 1/24
B3: …………………………………………
B4: …………………………………………
B5: ………..…....………………………….
B6: dane wykonawcy
D7: FORMULARZ CENOWY
B8: Zadanie nr 24- Końcówki do pipet automatycznych w pojemniku
A9: Labora-torium | B9: lp. | C9: nazwa produktu | D9: szczegółowy opis przedmiotu zamówienia | E9: nazwa producenta/ dystrybutora/ importera | F9: nr katalogowy | G9: j.m. | H9: ilość | I9: cena jednostkowa brutto za j.m. | J9: wartość ogółem brutto
A10: SBEK | B10: 1 | C10: Końcówki do pipet automatycznych Transferpette o pojemności 50-1000 µl w pojemniku | D10: pojemnik wielokrotnego użytku włącznie z 96 końcówkami do pipet automatycznych o pojemności 50-1000 µl, nadający się do sterylizacji w autoklawie w temp. 121°C ; Długość końcówki: 70 mm. Opakowanie z PP, z uchylnym wieczkiem i zatrzaskową pokrywką, uniemożliwiającym przypadkowe otwarcie się pojemnika. | G10: szt. | H10: 10
A11: SBW | B11: 2 | C11: Końcówki do pipet automatycznych Transferpette o pojemności 50-1000 µl w pojemniku | D11: pojemnik wielokrotnego użytku włącznie z 96 końcówkami do pipet automatycznych o pojemności 50-1000 µl, nadający się do sterylizacji w autoklawie w temp. 121°C ; Długość końcówki: 70 mm. Opakowanie z PP, z uchylnym wieczkiem i zatrzaskową pokrywką, uniemożliwiającym przypadkowe otwarcie się pojemnika. | G11: szt | H11: 5
J12: =SUM(J10:J11) -> 0
A13: SBEK | B13: Do oferty przetargowej dla wszystkich pozycji należy dołączyć wymienione poniżej dokumenty lub wskazać określone adresy internetowe, ogólnodostępne i bezpłatne bazy danych gdzie zamawiający może je samodzielnie pobrać :
B14: 1. ulotki informacyjne opisujące produkt
B15: Czas realizacji: 21 dni dni od dnia złożenia zamówienia
B16: Do dostawy należy dostarczyć:
B17: 1. nie dotyczy
A18: SBW | B18: Do oferty przetargowej należy dołączyć wymienione poniżej dokumenty lub wskazać określone adresy internetowe, ogólnodostępne i bezpłatne bazy danych gdzie zamawiający może je samodzielnie pobrać :
B19: 1. ulotki informacyjne opisujące produkt
B20: Czas realizacji: 21 dni dni od dnia złożenia zamówienia
B21: Do dostawy należy dostarczyć:
B22: 1. nie dotyczy
B23: Niniejszym podpisem potwierdzam parametry przedmiotu zamówienia
F24: …………………………………………………………………..
F25: podpis wykonawcy

Sheet Zadanie 25_Szczepy wzorcowe
B1: Znak sprawy: OEA-ZP.272.1.1.2022 | I1: załącznik 1/25
B3: …………………………………………
B4: …………………………………………
B5: ………..…....………………………….
B6: dane wykonawcy
D7: FORMULARZ CENOWY
B8: Zadanie nr 25- Szczepy wzorcowe
A9: Labora-torium | B9: lp. | C9: nazwa produktu | D9: szczegółowy opis przedmiotu zamówienia | E9: nazwa producenta/ dystrybutora/ importera | F9: nr katalogowy | G9: j.m. | H9: ilość | I9: cena jednostkowa brutto za j.m. | J9: wartość ogółem brutto
A10: SBEK | B10: 1 | C10: Szczep wzorcowy Staphylococcus aureus ATCC 25923 | D10: lub szczepy zarejestrowane jako równoważne w innych kolekcjach szczepów; pasaż II-III (do badań jakościowych); szczep liofilizowany; ożywienie szczepu nie jest pasażem; 1 wymazówka- wraz z zalecanymi wymaganiami wzrostowymi i warunkami przechowywania oraz certyfikat jakości z datą ważności; minimalny termin ważności 9 m-cy od daty dostawy | G10: szt. | H10: 1
B11: 2 | C11: Szczep wzorcowy Staphylococcus aureus ATCC 6538 | D11: lub szczepy zarejestrowane jako równoważne w innych kolekcjach szczepów; pasaż II-III (do badań jakościowych); szczep liofilizowany; ożywienie szczepu nie jest pasażem; 1 wymazówka- wraz z zalecanymi wymaganiami wzrostowymi i warunkami przechowywania oraz certyfikat jakości z datą ważności; minimalny termin ważności 9 m-cy od daty dostawy | G11: szt. | H11: 1
B12: 3 | C12: Szczep wzorcowy Staphylococcus epdermidis ATCC 12228 | D12: lub szczepy zarejestrowane jako równoważne w innych kolekcjach szczepów; pasaż II-III (do badań jakościowych); szczep liofilizowany; ożywienie szczepu nie jest pasażem; 1 wymazówka- wraz z zalecanymi wymaganiami wzrostowymi i warunkami przechowywania oraz certyfikat jakości z datą ważności; minimalny termin ważności 9 m-cy od daty dostawy | G12: szt. | H12: 1
B13: 4 | C13: Szczep wzorcowy Staphylococcus saprophyticus ATCC 15305 | D13: lub szczepy zarejestrowane jako równoważne w innych kolekcjach szczepów; pasaż II-III (do badań jakościowych); szczep liofilizowany; ożywienie szczepu nie jest pasażem; 1 wymazówka- wraz z zalecanymi wymaganiami wzrostowymi i warunkami przechowywania oraz certyfikat jakości z datą ważności; minimalny termin ważności 9 m-cy od daty dostawy | G13: szt. | H13: 1
A14: SBMŻ | B14: 5 | C14: Szczep wzorcowy Listeria monocytogenes ATCC 13932 | D14: pasaż II-III (do badań jakościowych) wymazówka - max. 2 szt. wraz z zalecanymi wymaganiami wzrostowymi i warunkami przechowywania oraz certyfikat jakości z datą ważności. Minimalny termin ważności 9 m-cy od daty dostawy. | G14: op./ wymazówka | H14: 1
B15: 6 | C15: Szczep wzorcowy Listeria monocytogenes ATCC 35152 | D15: pasaż II-III (do badań jakościowych) wymazówka - max. 2 szt. wraz z zalecanymi wymaganiami wzrostowymi i warunkami przechowywania oraz certyfikat jakości z datą ważności. Minimalny termin ważności 9 m-cy od daty dostawy. | G15: op./ wymazówka | H15: 1
J16: =SUM(J10:J15) -> 0
A17: SBEK | B17: Do oferty przetargowej dla wszystkich pozycji należy dołączyć wymienione poniżej dokumenty lub wskazać określone adresy internetowe, ogólnodostępne i bezpłatne bazy danych gdzie zamawiający może je samodzielnie pobrać :
B18: 1. poz. 1-4 przykładowy certyfikat jakosci
B19: 2. instrukcja sposobu użytkowania w języku polskim
B20: Czas realizacji: 21 dni od dnia złożenia zamówienia
B21: Do dostawy należy dostarczyć:
B22: 1. certyfikat jakości z datą ważności oraz instrukcja dotycząca zalecanych wymagań wzrostowych, sposobu ożywienia i warunków przechowywania szczepu
B23: Czas realizacji: max 21 dni od dnia złożenia zamówienia
B24: UWAGA !!! Transport szczepów wzorcowych powinien odbywać się w warunkach uwzględniających wymagania (temperatura, wilgotność, itp.) ich przechowywania.
A25: SBMŻ | B25: Do oferty przetargowej dla wszystkich pozycji należy dołączyć wymienione poniżej dokumenty lub wskazać określone adresy internetowe, ogólnodostępne i bezpłatne bazy danych gdzie zamawiający może je samodzielnie pobrać :
B26: 1. przykładowy certyfikat jakości
B27: 2. instrukcja sposobu użytkowania w języku polskim
B28: Czas realizacji: max. 21 dni od dnia złożenia zamówienia
B29: Do dostawy dla wszystkich pozycji należy dołączyć:
B30: 1. certyfikat jakości z datą ważności oraz instrukcja dotycząca zalecanych wymagań wzrostowych, sposobu ożywienia i warunków przechowywania szczepu
B31: UWAGA !!! Transport szczepów wzorcowych powinien odbywać się w warunkach uwzględniających wymagania (temperatura, wilgotność, itp.) ich przechowywania.
B32: Niniejszym podpisem potwierdzam parametry przedmiotu zamówienia
F33: …………………………………………………………………..
F34: podpis wykonawcy

Sheet ZAD.26 Podł.syp.i supl.
B1: Znak sprawy: OEA-ZP.272.1.1.2022 | I1: załącznik 1/26
B3: …………………………………………
B4: …………………………………………
B5: ………..…....………………………….
B6: dane wykonawcy
D7: FORMULARZ CENOWY
B8: Zadanie nr 26 - Podłoża sypkie i suplementy
A9: Laborat-orium | B9: lp. | C9: nazwa produktu | D9: szczegółowy opis przedmiotu zamówienia | E9: nazwa producenta/dystrybutora/importera | F9: nr katalogowy | G9: j.m. | H9: ilość | I9: cena jednostkowa brutto za j.m. | J9: wartość ogółem brutto
A10: SBMŻ | B10: 1 | C10: Agar z ksylozą, lizyną i dezoksycholanem (agar XLD) | D10: podłoże sypkie; skład zgodny z normą PN-EN ISO 6579-1; w opakowaniu jednostkowym po 500g; z tej samej serii; na opakowaniu musi być umieszczony skład podłoża. Wymagane dokumenty: 1) certyfikat jakości, na którym będzie umieszczona nazwa szczepu testowego (m.in. Salmonella Typhimurium, Salmonella Enteritidis, Escherichia coli, Enterococcus faecalis), opis wyglądu kolonii oraz data ważności, 2) instrukcja wykonania w języku polskim, 3) karta charakterystyki produktu. Minimalny termin okresu przydatności 3 lata od daty dostawy. | G10: op. | H10: 2
B11: 2 | C11: Zbuforowana woda peptonowa | D11: podłoże sypkie, służące do wstępnego, nieselektywnego namnażania bakterii, szczególnie patogennych Enterobacteriaceae, izolowanych z artykułów żywnościowych i innych materiałów; skład zgodny z normą PN-EN ISO 6579-1; w opakowaniu jednostkowym po 500g z tej samej serii; na opakowaniu musi być umieszczony skład podłoża. Wymagane dokumenty: 1) certyfikat jakości, na którym będzie umieszczona nazwa szczepu testowego (m.in. Escherichia coli, Salmonella enteritidis, Salmonella typhimurium) oraz data ważności, 2) instrukcja wykonania w języku polskim, 3) karta charakterystyki produktu. Minimalny termin okresu przydatności 3 lata od daty dostawy. | G11: op. | H11: 5
A12: SBMŻ | B12: 3 | C12: Hektoen enteric agar | D12: podłoże sypkie; podłoże do wykrywania i izolowania drobnoustrojów z rodziny Enterobacteriaceae, szczególnie do wykrywania pałeczek Salmonella i Shigella z produktów spożywczych, materiałów klinicznych i innych materiałów; w opakowaniu jednostkowym po 500g; z tej samej serii; na opakowaniu musi być umieszczony skład podłoża. Wymagane dokumenty: 1) certyfikat jakości, na którym będzie umieszczona nazwa szczepu testowego (między innymi Escherichia coli, Salmonella typhimurium, Salmonella enteritidis, Proteus mirabilis, Enterococcus faecalis), opis wyglądu kolonii oraz stopień odzysku drobnoustrojów; 2) instrukcja wykonania w języku polskim; 3) karta charakterystyki produktu. Minimalny termin okresu przydatności 3 lata od daty dostawy. | G12: op. | H12: 1
B13: 4 | C13: Agar z cefsulodyną, irgasanem, nowobiocyną (agar CIN) - podstawa | D13: podłoże sypkie; skład zgodny z normą PN-EN ISO 10273; w opakowaniu jednostkowym 500g; na opakowaniu musi być instrukcja w języku polskim wykonania podłoża; Wymagane dokumenty: 1) karta kontroli produktu, na której będzie umieszczona informacja o trwałości podłoża oraz nazwa drobnoustrojów kontrolnych; 2) karta charakterystyki produktu. Minimalny termin okresu przydatności 4 lata od daty dostawy. | G13: op. | H13: 1
B14: 5 | C14: Dodatek selektywny do pożywki agar CIN (podstawa) | D14: skład zgodny z normą PN-EN ISO 10273; 1 opakowanie to 10 fiolek; Wymagane dokumenty: 1) certyfikat jakości, 2) instrukcja wykonania w języku polskim, 3) karta charakterystyki produktu. Minimalny termin okresu przydatności 2 lata od daty dostawy. | G14: op. | H14: 1
B15: 6 | C15: Suplement selektywny do pożywki ITC | D15: suplement do pożywki ITC bulion (podstawa); skład zgodny z normą PE-EN ISO 10273; 1 opakowanie to 10 fiolek; Wymagane dokumenty: 1) certyfikat jakości; 2) instrukcja wykonania w języku polskim; 3) karta charakterystyki produktu. Minimalny termin okresu przydatności 2 lata od daty dostawy. | G15: op. | H15: 1
B16: 7 | C16: CT-suplement | D16: suplement do pożywki SMAC agar (podstawa); 1 opakowanie to 10 fiolek; Wymagane dokumenty: 1) certyfikat jakości; 2) instrukcja wykonania w języku polskim; 3) karta charakterystyki produktu. Minimalny termin okresu przydatności 2 lata od daty dostawy. | G16: op. | H16: 1
A17: SBMŻ | B17: 8 | C17: Suplement selektywny do pożywki agar Oxford wybiórczy dla Listeria | D17: suplement do pożywki; 1 opakowanie to 10 fiolek; Wymagane dokumenty: 1) certyfikat jakości; 2) instrukcja wykonania w języku polskim; 3) karta charakterystyki produktu; Minimalny termin okresu przydatności 2 lata od daty dostawy. | G17: op. | H17: 1
B18: 9 | C18: Bulion Frasera (podstawa) | D18: podłoże sypkie - służące do wykrywania bakterii Listeria izolowanych z artykułów żywnościowych; skład zgodny z normą PN-EN ISO 11290-1; w opakowaniu jednostkowym po 500g; na opakowaniu musi być umieszczony skład podłoża; wymagane dokumenty: 1) certyfikat jakości, na którym będzie umieszczona nazwa szczepu testowego (m.in. Listeria monocytogenes, Escherichia coli, Enterococcus faecalis), 2) instrukcja wykonania w języku polskim, 3) karta charakterystyki produktu. Minimalny termin okresu przydatności 3 lata od daty dostawy. | G18: op. | H18: 1
B19: 10 | C19: Dodatek selektywny do bulionu Frasera | D19: skład: kwas nalidyksowy 10 mg, cytrynian żelaza i amonu 250 mg, akryflawina 12,5 mg; 1 opakowanie to 10 fiolek; 1 fiolka na 500 ml pożywki; Wymagane dokumenty: 1) certyfikat jakości, 2) karta charakterystyki produktu. Minimalny termin okresu przydatności 18 miesięcy od daty dostawy. | G19: op. | H19: 1
B20: 11 | C20: Dodatek selektywny do bulionu pół-Frasera | D20: skład: kwas nalidyksowy 2,25 mg, cytrynian żelaza i amonu 112,50 mg, akryflawina 2,8125 mg; 1 opakowanie to 10 fiolek; 1 fiolka na 225 ml pożywki; Wymagane dokumenty: 1) certyfikat jakości, 2) karta charakterystyki produktu. Minimalny termin okresu przydatności 20 miesięcy od daty dostawy. | G20: op. | H20: 2
B21: 12 | C21: Pożywka Chromogenic Listeria agar (ISO) – podstawa | D21: podłoże sypkie koloru słomkowego; w opakowaniu po 500g; z tej samej serii; skład: enzymatyczny hydrolizat tkanek zwierzęcych, enzymatyczny hydrolizat kazeiny, ekstrakt drożdżowy, pirogronian sodu, glukoza, glicerofosforan magnezu, siarczan magnezu (bezwodny), chlorek sodu, chlorek litu, wodorofosforan (V) disodu (bezwodny), miesznina chromogenów, agar 12g; Wymagane dokumenty: 1) certyfikat jakości, na którym będzie umieszczona nazwa szczepu testowego (m.in. L.monocytogenes, L. innocua, Escherichia coli, Enterococcus faecalis), opis wyglądu kolonii, 2) karta charakterystyki produktu. Minimalny termin okresu przydatności 30 miesięcy od daty dostawy. | G21: op. | H21: 2
A22: SBMŻ | B22: 13 | C22: Dodatek selektywny do podstawy pożywki Chromogenic Listeria agar | D22: jasnożółty liofilizat w postaci peletu; skład: kwas nalidyksowy, polimyksyna B, ceftazidimina, amfoterycyna B; 1 opakowanie to 10 fiolek; 1 fiolka przeznaczona jest na 500ml pożywki; z tej samej serii. Wymagane dokumenty: 1) certyfikat jakości, 2) karta charakterystyki produktu. Minimalny termin okresu przydatności 20 miesięcy od daty dostawy. | G22: op. | H22: 4
B23: 14 | C23: Dodatek różnicujący do podstawy pożywki Chromogenic Listeria agar | D23: skład: roztwór lecytyny; 1 opakowanie to 10 fiolek; 1 fiolka przeznaczona jest na 500 ml pożywki; z tej samej serii. Wymagane dokumenty: 1) certyfikat jakości, 2) karta charakterystyki produktu. Minimalny termin okresu przydatności 20 miesięcy od daty dostawy. | G23: op. | H23: 4
B24: 15 | C24: Agar PCA (agar z ekstraktem drożdżowym i glukozą) | D24: podłoże sypkie; stosowane głównie do oznaczania ogólnej liczby drobnoustrojów; nie zawiera żadnych inhibitorów i wskaźników; skład zgodny z normą PN-EN ISO 4833-1; w opakowaniu jednostkowym 500 g; na opakowaniu musi być umieszczony skład podłoża oraz musi być instrukcja wykonania podłoża; Wymagane dokumenty: 1) certyfikat jakości, na którym będzie umieszczona informacja o trwałości podłoża oraz nazwa drobnoustrojów kontrolnych; 2) karta charakterystyki produktu. Minimalny termin okresu przydatności 4 lata od daty dostawy. | G24: op. | H24: 2
B25: 16 | C25: Podłoże agarowe Baird-Parkera | D25: podłoże sypkie, skład (g/l): Enzymatyczny hydrolizat kazeiny 10,0g, Ekstrakt drożdżowy 1,0g, Ekstrakt mięsny 5,0g, Pirogronian sodu 10,0g, L-glicyna 12,0g, Chlorek litu 5,0g, Agar od 12g do 22g, zgodny z normą PN-EN ISO 6888-1; w opakowaniu jednostkowym 500 g; na opakowaniu musi być instrukcja wykonania podłoża w języku polskim. Wymagane dokumenty: 1) karta kontroli produktu, na której będzie umieszczona informacja o trwałości podłoża oraz nazwa drobnoustrojów kontrolnych (m.in. Staphylococcus aureus, Staphylococcus saprophyticus, Staphylococcus epidermidis, Esch. coli); 2) karta charakterystyki produktu. Minimalny termin okresu przydatności 3 lata od daty dostawy. | G25: op. | H25: 2
A26: SBMŻ | B26: 17 | C26: Dodatek (RPF) do podstawy pożywki Baird- Parker zgodny z normą ISO 6888-2 | D26: skład zgodny z normą ISO 6888-2: fibrynogen wołowy, plazma królicza, inhibitor trypsyny, telluryn potasu; 1 opakowanie to 10 fiolek. 1 fiolka na 100ml podłoża. Wymagane dokumenty: 1) certyfikat jakości, 2) karta charakterystyki produktu. Minimalny termin okresu przydatności 2 lata od daty dostawy. | G26: op. | H26: 2
J27: =SUM(J10:J26) -> 0
A28: SBMŻ | B28: Do oferty przetargowej dla wszystkich pozycji należy dołączyć wymienione poniżej dokumenty lub wskazać określone adresy internetowe, ogólnodostępne i bezpłatne bazy danych gdzie zamawiający może je samodzielnie pobrać :
B29: 1.przykładowe certyfikaty jakości dla wszystkich podłoży i dodatków
B30: 2.certyfikat zarządzania jakością ISO 9001
B31: 3.wymienione w specyfikacji szczepy kontrolne powinny pochodzić z uznanych kolekcji zapewniających utrzymanie spójności pomiarowej
B32: 4.zaktualizowane karty bezpieczeństwa produktu lub oświadczenie, że oferowane produkty nie podlegają ustawie.
B33: 5.wykaz i nazwy substancji niebezpiecznych zawartych w poszczególnych odczynnikach (jeżeli nie występują – dołączyć oświadczenie)
B34: 6.instrukcje zawierające pełny opis i zastosowanie podłóż w języku polskim – oddzielnie dla każdego podłoża
B35: UWAGA! Podłoża i dodatki do nich winny być tego samego producenta (każdy producent ma odpowiedni skład podstawy i suplementu - podstawa i suplement od różnych producentów nie są kompatybilne.) poz. 4-5, 9-11, 12-14, 16 z 18 .
B36: Czas realizacji: 14 dni od dnia złożenia zamówienia
B37: Do dostawy należy dostarczyć:
B38: 1.certyfikaty jakości dla wszystkich podłoży oraz instrukcje przygotowania podłoży w języku polskim
B39: 2.Zamawiajacy zastrzega sobie prawo opcji zmniejszenia zamówienia o nie więcej niż 20%.
B40: Niniejszym podpisem potwierdzam parametry przedmiotu zamówienia
F41: …………………………………………………………………..
F42: podpis wykonawcy

Sheet Zad.27 Materiały j.uż.
B1: Znak sprawy: OEA-ZP.272.1.1.2022 | I1: załącznik 1/27
B3: …………………………………………
B4: …………………………………………
B5: ………..…....………………………….
B6: dane wykonawcy
D7: FORMULARZ CENOWY
B8: Zadanie nr 27 - Materiały laboratoryjne jednorazowego użytku
A9: Laborat-orium | B9: lp. | C9: nazwa produktu | D9: szczegółowy opis przedmiotu zamówienia | E9: nazwa producenta/ dystrybutora/ importera | F9: nr katalogowy | G9: j.m. | H9: ilość | I9: cena jednostkowa brutto za j.m. | J9: wartość ogółem brutto
A10: SBMŻ | B10: 1 | C10: Eza bakteriologiczna sterylna jednorazowego użytku o pojemności oczka 10 µl | D10: sterylna, jednorazowego użytku; wykonana z polistyrenu, sterylizowana radiacyjnie, pakowana po 20 sztuk w torebkę z zamknięciem strunowym; ze świadectwem sterylności i datą ważności sterylizacji; minimalny termin okresu przydatności 1 rok od daty dostawy. | G10: szt. | H10: 1000
B11: 2 | C11: Pipeta sterylna wielomiarowa o pojemności 2 ml | D11: pipeta z PS; pakowana pojedynczo, jednorazowego użytku, podziałka (ml) 0,01; z czarną skalą i z zatyczką z waty; minimum z rocznym terminem ważności sterylizacji; świadectwo sterylności. | G11: szt. | H11: 500
B12: 3 | C12: Pipeta sterylna wielomiarowa o pojemności 1 ml | D12: pipeta z PS; pakowana pojedynczo, jednorazowego użytku, podziałka (ml) 0,01; z czarną skalą i z zatyczką z waty; minimum z rocznym terminem ważności sterylizacji; świadectwo sterylności. | G12: szt. | H12: 1000
B13: 4 | C13: Głaszczka jednorazowa, sterylna | D13: głaszczka transparentna, sztywna, sterylizowana radiacyjnie; pakowana po 5 sztuk; ze świadectwem sterylności i datą ważności sterylizacji; minimalny termin okresu przydatności 1 rok od daty dostawy. | G13: szt. | H13: 1000
A14: SBEK | B14: 5 | C14: Eza bakteriologiczna sterylna jednorazowego użytku o pojemności oczka 1 µl | D14: sterylna, jednorazowego użytku; pakowana po 20 sztuk w torebkę foliową z zamknięciem strunowym lub pakowana pojedynczo w opakowanie papierowo-foliowe; wykonana z polistyrenu; sterylizowana radiacyjnie;ze świadectwem sterylności i datą ważności sterylności ; minimalny termin okresu przydatności 1 rok od daty dostawy. | G14: szt. | H14: 100
B15: 6 | C15: Eza bakteriologiczna sterylna jednorazowego użytku o pojemności oczka 10 µl | D15: sterylna, jednorazowego użytku; wykonana z polistyrenu, sterylizowana radiacyjnie, pakowana po 20 sztuk w torebkę z zamknięciem strunowym; ze świadectwem sterylności i datą ważności sterylizacji; minimalny termin okresu przydatności 1 rok od daty dostawy. | G15: szt. | H15: 1000
B16: 7 | C16: Pipeta sterylna wielomiarowa o pojemności 2 ml | D16: pipeta z PS; pakowana pojedynczo, jednorazowego użytku, podziałka (ml) 0,01; z czarną skalą i z zatyczką z waty; minimum z rocznym terminem ważności sterylizacji; świadectwo sterylności. | G16: szt. | H16: 250
A17: SBW | B17: 8 | C17: Eza bakteriologiczna sterylna jednorazowego użytku o poj. Oczka 1 µl, jednorazowego użytku; | D17: sterylna, jednorazowego użytku; pakowana pojedynczo w torebkę foliową z zamknięciem strunowym lub pakowana pojedynczo w opakowanie papierowo-foliowe; wykonana z polistyrenu; sterylizowana radiacyjnie;ze świadectwem sterylności i datą ważności sterylności ; minimalny termin okresu przydatności 1 rok od daty dostawy | G17: szt | H17: 1500
B18: 9 | C18: Eza bakteriologiczna sterylna jednorazowego użytku o poj. Oczka 10 µl, jednorazowego użytku; | D18: sterylna, jednorazowego użytku; pakowana pojedynczo w torebkę foliową z zamknięciem strunowym lub pakowana pojedynczo w opakowanie papierowo-foliowe; wykonana z polistyrenu; sterylizowana radiacyjnie;ze świadectwem sterylności i datą ważności sterylności ; minimalny termin okresu przydatności 1 rok od daty dostawy | G18: szt | H18: 100
B19: 10 | C19: Głaszczka jednorazowa, sterylna | D19: głaszczka transparentna, sztywna, sterylizowana radiacyjnie; pakowana po 5 sztuk; ze świadectwem sterylności i datą ważności sterylizacji; minimalny termin okresu przydatności 1 rok od daty dostawy. | G19: szt | H19: 100
J20: =SUM(J10:J19) -> 0
A21: SBMŻ | B21: Do oferty przetargowej dla wszystkich pozycji należy dołączyć wymienione poniżej dokumenty lub wskazać określone adresy internetowe, ogólnodostępne i bezpłatne bazy danych gdzie zamawiający może je samodzielnie pobrać :
B22: 1. przykładowe świadectwo sterylności
B23: Czas realizacji: 14 dni od dnia złożenia zamówienia
B24: Do dostawy dla wszystkich pozycji należy dołączyć:
B25: 1. świadectwo sterylności.
A26: SBEK | B26: Do oferty przetargowej dla wszystkich pozycji należy dołączyć wymienione poniżej dokumenty lub wskazać określone adresy internetowe, ogólnodostępne i bezpłatne bazy danych gdzie zamawiający może je samodzielnie pobrać :
B27: 1. przykładowe świadectwo sterylności
B28: Czas realizacji: 14 dni od dnia złożenia zamówienia
B29: Do dostawy dla wszystkich pozycji należy dołączyć:
B30: 1. świadectwo sterylności.
A31: SBW | B31: Do oferty przetargowej dla pozycji 8-10 należy dołączyć wymienione poniżej dokumenty lub wskazać określone adresy internetowe, ogólnodostępne i bezpłatne bazy danych gdzie zamawiający może je samodzielnie pobrać :
B32: 1. przykładowe świadectwo sterylności
B33: Czas realizacji: 14 dni od dnia złożenia zamówienia
B34: Do dostawy dla wszystkich pozycji należy dołączyć:
B35: 1. świadectwo sterylności.
B36: Niniejszym podpisem potwierdzam parametry przedmiotu zamówienia
F38: …………………………………………………………………..
F39: podpis wykonawcy

Sheet Zad.28 Worki sterylne 
B1: Znak sprawy: OEA-ZP.272.1.1.2022 | I1: załącznik 1/28
B3: …………………………………………
B4: …………………………………………
B5: ………..…....………………………….
B6: dane wykonawcy
D7: FORMULARZ CENOWY
B8: Zadanie nr 28- Worki sterylne
A9: Laborat-orium | B9: lp. | C9: nazwa produktu | D9: szczegółowy opis przedmiotu zamówienia | E9: nazwa producenta/dystrybutora/importera | F9: nr katalogowy | G9: j.m. | H9: ilość | I9: cena jednostkowa brutto za j.m. | J9: wartość ogółem brutto
A10: SBMŻ | B10: 1 | C10: Worki do stomachera | D10: worki sterylne o pojemności 400 ml; z filtrem bocznym; wymiary 190 x 300 mm. Wymagane dokumenty: świadectwo sterylności. Minimalny termin okresu przydatności 2 lata od daty dostawy. Opakowanie jednostkowe nie więcej niż 25 sztuk. | G10: szt. | H10: 1500
J11: =SUM(J10) -> 0
A12: SBMŻ | B12: Do oferty przetargowej dla wszystkich pozycji należy dołączyć wymienione poniżej dokumenty lub wskazać określone adresy internetowe, ogólnodostępne i bezpłatne bazy danych gdzie zamawiający może je samodzielnie pobrać :
B13: 1.przykładowe świadectwa sterylności
B14: Czas realizacji: 14 dni od dnia złożenia zamówienia
B15: Do dostawy dla wszystkich pozycji należy dołączyć:
B16: 1. świadectwo sterylności
B17: Niniejszym podpisem potwierdzam parametry przedmiotu zamówienia
F19: …………………………………………………………………..
F20: podpis wykonawcy

Sheet Zad.29 KOŃCÓWKI DO PIPET AUTOMA
B1: Znak sprawy: OEA-ZP.272.1.1.2022 | I1: załącznik 1/29
B3: …………………………………………
B4: …………………………………………
B5: ………..…....………………………….
B6: dane wykonawcy
D7: FORMULARZ CENOWY
B8: Zadanie nr 29 - Końcówki do pipet automatycznych
A9: Laborat-orium | B9: lp. | C9: nazwa produktu | D9: szczegółowy opis przedmiotu zamówienia | E9: nazwa producenta/dystrybutora/importera | F9: nr katalogowy | G9: j.m. | H9: ilość | I9: cena jednostkowa brutto za j.m. | J9: wartość ogółem brutto
A10: SBMŻ | B10: 1 | C10: Sterylne końcówki typu słomka współdziałajace z automatyczną pipetą BagPipet | D10: sterylne końcówki typu słomka współpracujące z pipetą automatyczną BagPipet. Długość max. końcówki to 19cm. Pakowane maksymalnie po 25 szt. Wymagane dokumenty: świadectwo sterylizacji. Minimalny okres przydatności 2 lata od daty dostawy. | G10: szt. | H10: 1000
B11: 2 | C11: Końcówki pasujące do pipet automatycznych BRAND Transferpette o pojemności 100-1000 µl | D11: nadające się do sterylizacji w autoklawie w temp. 121°C; Długość końcówki: 70 mm; 1 opakowanie = 500 szt.; końcówki pakowane luzem w woreczkach zamykanych strunowo, do wielokrotnego otwierania. | G11: szt. | H11: 500
A12: SBW | B12: 3 | C12: Końcówki pasujące do pipet automatycznych BRAND Transferpette o pojemności 100-1000 µl | D12: nadające się do sterylizacji w autoklawie w temp. 121°C; Długość końcówki: 70 mm; 1 opakowanie = 500 szt.; końcówki pakowane luzem w woreczkach zamykanych strunowo, do wielokrotnego otwierania. | G12: szt. | H12: 500
J13: =SUM(J10:J12) -> 0
A14: SBMŻ | B14: Do oferty przetargowej dla wszystkich pozycji należy dołączyć wymienione poniżej dokumenty lub wskazać określone adresy internetowe, ogólnodostępne i bezpłatne bazy danych gdzie zamawiający może je samodzielnie pobrać :
B15: 1.przykładowe świadectwo sterylizacji dla poz. 1
B16: Czas realizacji: 14 dni od dnia złożenia zamówienia
B17: Do dostawy należy dołączyć:
B18: 1. dla poz. 1 świadectwo sterylizacji
A19: SBW | B19: Do oferty przetargowej należy dołączyć wymienione poniżej dokumenty lub wskazać określone adresy internetowe, ogólnodostępne i bezpłatne bazy danych gdzie zamawiający może je samodzielnie pobrać :
B20: 1.nie dotyczy
B21: Czas realizacji: 14 dni od dnia złożenia zamówienia
B22: Do dostawy należy dołączyć:
B23: 1. nie dotyczy
B24: Niniejszym podpisem potwierdzam parametry przedmiotu zamówienia
F26: …………………………………………………………………..
F27: podpis wykonawcy

Sheet Zad.30 Zest. do identyf. Salm.
B1: Znak sprawy: OEA-ZP.272.1.1.2022 | I1: załącznik 1/30
B3: …………………………………………
B4: …………………………………………
B5: ………..…....………………………….
B6: dane wykonawcy
D7: FORMULARZ CENOWY
B9: Zadanie nr 30- Zestaw do identyfikacji szczepów Salmonella
A10: Laborat-orium | B10: lp. | C10: nazwa produktu | D10: szczegółowy opis przedmiotu zamówienia | E10: nazwa producenta/dystrybutora/importera | F10: nr katalogowy | G10: j.m. | H10: ilość | I10: cena jednostkowa brutto za j.m. | J10: wartość ogółem brutto
A11: SBMŻ | B11: 1 | C11: Zestaw do identyfikacji szczepów Salmonella Enteritidis i Salmonella Typhimurium | D11: Zestaw surowic do identyfikacji serologicznej Salmonella Enteritidis i Salmonella Typhimurium zgodnie ze schematem White'a-Kaufmanna Le Minora; w składzie min. surowice: HM, O:4; O:9; O:46; H:g,m; H:m; H:q; H:s; H:t; H:i; H:2; H:5; H:6. Wymagane dokumenty: certyfikat dopuszczenia do obrotu; karta charakterystyki produktu; instrukcja wykonania w języku polskim; minimalny termin okresu przydatności 12 miesięcy od daty dostawy. | G11: Zestaw | H11: 1
B12: 2 | C12: Podłoże Garda do rozwoju antygenów rzęskowych | D12: podłoże miękkie wg Garda do identyfikacji antygenów rzęskowych bakterii Salmonella; skład w g/l: agar 5 g; bulion wzbogacony 15 g; deoksycholan sodu 0,3 g. Opakowanie do przygotowania podłoża 1 litr. Wymagane dokumenty: certyfikat jakości; karta charakterystyki produktu; instrukcja wykonania w języku polskim; minimalny termin okresu przydatności 12 miesięcy od daty dostawy. | G12: op. | H12: 1
J13: =SUM(J11:J12) -> 0
A14: SBMŻ | B14: Do oferty przetargowej dla wszystkich pozycji należy dołączyć wymienione poniżej dokumenty lub wskazać określone adresy internetowe, ogólnodostępne i bezpłatne bazy danych gdzie zamawiający może je samodzielnie pobrać :
B15: 1.przykładowy certyfikat dopuszczenia do obrotu oraz certyfikat jakości
B16: Czas realizacji: 14 dni od dnia złożenia zamówienia
B17: Do dostawy dla wszystkich pozycji należy dołączyć:
B18: 1.dla poz. 1 certyfikat dopuszczenia do obrotu oraz instrukcję wykonania w języku polskim; dla poz. 2 certyfikat jakości oraz instrukcję wykonania w języku polskim
B19: Niniejszym podpisem potwierdzam parametry przedmiotu zamówienia
F21: …………………………………………………………………..
F22: podpis wykonawcy

Sheet Zad.31 odczynniki SBW
B1: Znak sprawy: OEA-ZP.272.1.1.2022 | I1: załącznik 1/31
B3: …………………………………………
B4: …………………………………………
B5: ………..…....………………………….
B6: dane wykonawcy
D7: FORMULARZ CENOWY
B8: Zadanie nr 31- Odczynniki chemiczne SBW
A9: Laborat-orium | B9: lp. | C9: nazwa produktu | D9: szczegółowy opis przedmiotu zamówienia | E9: nazwa producenta/dystrybutora/importera | F9: nr katalogowy | G9: j.m. | H9: ilość | I9: cena jednostkowa brutto za j.m. | J9: wartość ogółem brutto
B10: 1 | C10: di-Sodu wersenian 0,01 mol/l roztwór mianowany ( z odniesieniem do SRM z NIST) | D10: opakowanie 1000ml, okres ważności od daty dostawy minimum 1 rok , równoważny produktowi Chempur | G10: op | H10: 8
B11: 2 | C11: Wodorotlenek sodu NaOH cz.d.a | D11: opakowanie jednostkowe 1000g; drobne granulki śr. 1-2mm, min 98,8% NaOH; okres ważności od daty dostawy min. 2 lata;równoważny produktowi POCH Gliwice | G11: op | H11: 2
B12: 3 | C12: 1 hydrat chlorowodorku 1,10 fenantroliny cz.d.a. wskaźnik | D12: opakowanie jednostkowe 25g; okres ważności od daty dostawy min. 4 lata, równoważny produktowi POCH Gliwice | G12: op | H12: 1
B13: 4 | C13: N-(1-naftylo) etylenodiaminy dichlorowodorek CZDA,ACS | D13: opakowanie jednostkowe 10g; okres ważności od daty dostawy min. 4 lata, równoważny produktowi POCH Gliwice | G13: op | H13: 1
B14: 5 | C14: sulfanilamid cz.d.a., odczynnik FP | D14: opakowanie jednostkowe 25g, okres ważności od daty dostawy min. 4 lata, równoważny produktowi POCH Gliwice nr.kat.821180118 | G14: op | H14: 1
B15: 6 | C15: Srebra azotan 0,02 mol/l (0,02 N) ±0,2% r-r mianowany | D15: opakowanie 1000ml, okres ważności od daty dostawy min 2 lata, równoważny produktowi POCH Gliwice | G15: op | H15: 2
B16: 7 | C16: Potasu sodu winian, 4.hydrat czda | D16: opakowanie jednostkowe 1000g; bezbarwny, przezroczysty kryształ lub biały proszek, min 99% zawartości winianu, okres ważności od daty dostawy min. 3 lata, lub równoważne produktowi POCH Gliwice | G16: op | H16: 2
B17: 8 | C17: Di Sodu wersenian 2 hydrat czda | D17: opakowanie 1000g, okres ważności od daty dostawy min 4 lata, równoważny produktowi POCH | G17: op | H17: 1
B18: 9 | C18: Amonu octan czda | D18: opakowanie 1000g, okres ważności od daty dostawy min.3 lata, równoważny produktowi POCH Gliwice | G18: op | H18: 1
B19: 10 | C19: TitraFix(TM) Potasu nadmanganian 0,02 MOL/L (0,1N) odważka analityczna, ciało stałe | D19: okres ważności od daty dostawy min.2 lata, stężenie po rozcieńczeniu 0,02mol/l +/-0,2%, równoważny produktowi POCH Gliwice | G19: op | H19: 2
B20: 11 | C20: TitraFix(TM) di-Sodu szczawian 0,05 mol/l (0,1 N) odważka analityczna | D20: okres ważności od daty dostawy min.2 lata, stężenie po rozcieńczeniu 0,05mol/l +/-0,2%, równoważny produktowi POCH Gliwice | G20: op | H20: 2
B21: 12 | C21: Czerwień metylowa 0,1% w etanolu | D21: opakowanie jednostkowe 100 ml; okres ważności od daty dostawy min.12 mc-y, równoważny produktowi Chempur | G21: op | H21: 1
... B36: 27 | C36: Potasu chromian cz.d.a | D36: opakowanie 100g; okres ważności od daty dostawy min. 4 lata; równoważny produktowi POCH Gliwice | G36: op | H36: 1
A37: SBMŻ | B37: 28 | C37: Chlorek sodu cz.d.a | D37: opakowanie jednostkowe 500g; okres ważności od daty dostawy minimum 2 lata, równoważny produktowi POCH. | G37: op. | H37: 1
B38: 29 | C38: Wodorotlenek potasu KOH cz.d.a | D38: opakowanie jednostkowe 100g; drobne granulki śr.1-2mm, min 98,8% KOH; okres ważności od daty dostawy minimum 2 lata, równoważny produktowi POCH. | G38: op. | H38: 1
J39: =SUM(J10:J38) -> 0
A40: SBW | B40: Do oferty przetargowej dla wszystkich pozycji należy dołączyć wymienione poniżej dokumenty lub wskazać określone adresy internetowe, ogólnodostępne i bezpłatne bazy danych gdzie zamawiający może je samodzielnie pobrać :
B41: Przykładowe certyfikaty jakości.
B42: Czas realizacji: 21 dni od dnia złożenia zamówienia
B43: Do dostawy należy dostarczyć:
B44: 1. Dla każdej serii odczynnika należy dostarczyć certyfikat jakości lub świadectwo kontroli jakości w języku polskim, na którym będzie nr serii bądź partii oraz skład ilościowy, stopień zanieczyszczenia i data ważności odczynników. Dla odpowiedników produktów innych producentów niż podano w załącznikach dostawca gwarantuje parametry (jakość, czystość, wielkość opakowań i inne) takie same lub lepsze jak produkt według katalogu wymienionego producenta oraz przedstawi dokumenty potwierdzające taką samą lub lepszą jakość oferowanych odpowiedników.
B45: 2. W dniu pierwszej dostawy należy bezpłatnie udostępnić aktualną kartę charakterystyki dostarczonych substancji lub preparatów, dla których jest ona wymagana oraz dokonywać jej aktualizacji i dystrybucji zgodnie z ustawą o substancjach i preparatach chemicznych (Dz. U. z 2020r., poz.2289), Rozporządzeniem Komisji UE nr 2015/830 oraz Rozporządzeniem (WE) nr 1272/2008(CLP)-Polska
B46: 3. Przy każdej dostawie należy zapewnić prawidłowe oznakowanie opakowań substancji i preparatów, w tym również sklasyfikowanych jako niebezpieczne; substancje i preparaty chemiczne powinny być oznakowane w sposób widoczny, umozliwiający ich identyfikację i rodzaj stwarzanych przez nie zagrożeń (wskazanych przez wymagane znaki ostrzegawcze - piktogramy)
B47: 4. Zamawiający zastrzega sobie prawo zmniejszenia zamówienia o nie więcej niż 20%
A48: SBMŻ | B48: Do oferty przetargowej dla wszystkich pozycji należy dołączyć wymienione poniżej dokumenty lub wskazać określone adresy internetowe, ogólnodostępne i bezpłatne bazy danych gdzie zamawiający może je samodzielnie pobrać :
B49: 1. przykładowy certyfikat jakości lub kartę kontroli produktu
B50: 2. kartę charakterystyki produktu lub oświadczenie, że oferowane produkty nie podlegają ustawie o substancjach chemicznych i ich mieszaninach (t.j. Dz. U. z 2020r. poz. 2289)
B51: Czas realizacji: 21 dni od dnia złożenia zamówienia
B52: Do dostawy dla wszystkich pozycji należy dołączyć:
B53: 1. certyfikat jakości lub świadectwo kontroli jakości w języku polskim, na którym będzie nr serii bądź partii oraz skład ilościowy, stopień zanieczyszczenia i data ważności odczynników
B54: 2. aktualną kartę charakterystyki dostarczonych substancji lub preparatów, dla których jest ona wymagana oraz dokonywać jej aktualizacji i dystrybucji zgodnie z ustawą o substancjach i preparatach chemicznych (tj.Dz. U. z 2020r., poz. 2289)
B55: 3. Przy każdej dostawie należy zapewnić prawidłowe oznakowanie opakowań substancji i preparatów, w tym również sklasyfikowanych jako niebezpieczne; substancje i preparaty chemiczne powinny być oznakowane w sposób widoczny, umożliwiający ich identyfikację i rodzaj stwarzanych przez nie zagrożeń (wskazanych przez wymagane znaki ostrzegawcze - piktogramy).

Sheet Zad.32 wzorce SBW 
B1: Znak sprawy: OEA-ZP.272.1.1.2022 | I1: załącznik 1/32
B3: …………………………………………
B4: …………………………………………
B5: ………..…....………………………….
B6: dane wykonawcy
D7: FORMULARZ CENOWY
B8: Zadanie nr 32- Wzorce SBW
A9: Laborat-orium | B9: lp. | C9: nazwa produktu | D9: szczegółowy opis przedmiotu zamówienia | E9: nazwa producenta/dystrybutora/importera | F9: nr katalogowy | G9: j.m. | H9: ilość | I9: cena jednostkowa brutto za j.m. | J9: wartość ogółem brutto
A10: SBW | B10: 1 | C10: R-r wzorcowy jonu azotu amonowego 1000 mg/l | D10: Certyfikowany materiał odniesienia; zgodny z ISO 17034 lub NIST 2), do oznaczeń spektrofotometrycznych, op.=100ml; okres ważności od daty dostawy minimum 2 lata | G10: op | H10: 1
B11: 2 | C11: R-r wzorcowy jonu azotu azotanowego 1000 mg/l | D11: Certyfikowany materiał odniesienia; zgodny z ISO 17034 lub NIST 2), do oznaczeń spektrofotometrycznych, op.= 100 ml; okres ważności od daty dostawy minimum 2 lata; | G11: op | H11: 1
B12: 3 | C12: R-r wzorcowy jonu azotu azotynowego 1000 mg/l | D12: Certyfikowany materiał odniesienia; zgodny z ISO 17034 lub NIST 2), do oznaczeń spektrofotometrycznych, op.= 100 ml; okres ważności od daty dostawy minimum 2 lata; | G12: op | H12: 1
B13: 4 | C13: R-r wzorcowy jonu żelaza 1000 mg/l (Fe3+) | D13: Certyfikowany materiał odniesienia; zgodny z ISO 17034 lub NIST 2), do oznaczeń spektrofotometrycznych, op.=100 ml; okres ważności od daty dostawy minimum 2 lata | G13: op | H13: 1
B14: 5 | C14: R-r wzorcowy jonu manganu 1000 mg/l (Mn2+) | D14: Certyfikowany materiał odniesienia; zgodny z ISO 17034 lub NIST 2), do oznaczeń spektrofotometrycznych, op.=100 ml; okres ważności od daty dostawy minimum 2 lata | G14: op | H14: 1
B15: 6 | C15: R-r wzorcowy jonu fluorkowego 1000 mg/l (F-) | D15: Certyfikowany materiał odniesienia; zgodny z ISO 17034 lub NIST 2), do oznaczeń spektrofotometrycznych, op.=100 ml; okres ważności od daty dostawy minimum 2 lata | G15: op | H15: 1
B16: 7 | C16: wzorzec twardości ogólnej wody c=10mmol/dm3CaCO3 | D16: Certyfikowany materiał odniesienia; zgodny z ISO 17034 lub NIST 2), równoważny produktowi OUM w Łodzi 20.AF.1c, okres ważności od daty dostawy minimum 1 rok; dostawa 5 x rok; op.=100 ml* | G16: op | H16: 5
B17: 8 | C17: formazynowy stabilizowany wzorzec mętności 1,0 NTU | D17: StablCal®Standard, 1,0NTU do sprawdzania mętnościomierza 2100P ISO, opakowanie 100ml, okres ważności od daty dostawy min.2 lata, równoważny produktowi HACH nr katalogowy 2659842 | G17: op | H17: 1
B18: 9 | C18: formazynowy stabilizowany wzorzec mętności 10 NTU | D18: StablCal®Standard, 10NTU do sprawdzania mętnościomierza 2100P ISO, opakowanie 100ml, okres ważności od daty dostawy min.2 lata, równoważny produktowi HACH nr katalogowy 2659942 | G18: op | H18: 1
B19: 10 | C19: Wzorzec konduktometryczny o przewodności elektrycznej właściwej 0,015 S/m (simens na m) - typ 0,001D | D19: Certyfikowany wzorzec konduktometryczny; zgodny z ISO 17034 lub NIST 2), opakowanie 100ml; równoważny produktowi GUM, Zakład Fizykochemii, okres ważności od daty dostawy min. 12 miesięcy; nr kat.5.4; op= 100ml*; | G19: op | H19: 5
B20: 11 | C20: Wzorzec konduktometryczny o przewodności elektrycznej właściwej 0,0720 S/m (simens na m) - typ 0,005D | D20: Certyfikowany wzorzec konduktometryczny; zgodny z ISO 17034 lub NIST 2), opakowanie 100 ml; równoważny produktowi GUM, Zakład Fizykochemii, okres ważności od daty dostawy minimum 12 miesięcy; nr kat. 5.5; op.=100ml* | G20: op | H20: 4
B21: 12 | C21: Wzorzec konduktometryczny o przewodności elektrycznej właściwej 0,141 S/m (simens na m) | D21: Certyfikowany wzorzec konduktometryczny ; zgodny z ISO 17034 lub NIST2), do kalibracji, opakowanie 500 ml; równoważny produktowi GUM nr kat.5.3 (typ 0,01D) lub CPAchem Conductivity Standard 1413µS/cm at 25°C nr kat. CS1413M0S.L5, okres ważności od daty dostawy minimum 1 rok | G21: op | H21: 1
B22: 13 | C22: Wzorzec konduktometryczny o przewodności elektrycznej właściwej 2000 µS/cm (mikrosimens na cm) | D22: Certyfikowany wzorzec konduktometryczny; zgodny z ISO 17034 lub NIST 2), opakowanie 500 ml; równoważny produktowi CPAchem Conductivity Standard 2000µS/cm at 25°C okres ważności od daty dostawy minimum 12 miesięcy; nr kat. CS2P3S.L5 | G22: op | H22: 1
... B41: 32 | C41: Węglan wapnia ( związek o wysokiej czystości) | D41: Certyfikowany materiał referencyjny (CRM); zgodny z ISO 17034 2), opakowanie 50g do oznaczeń miareczkowych; okres ważności od daty dostawy min. 2 lata; równoważny produktowi CPAchem nr katalogowy PSCACC05 | G41: op | H41: 1
J42: =SUM(J10:J41) -> 0
A45: SBW | B45: Do oferty należy dołączyć:
B46: Przykładowe certyfikaty jakości.
B47: Czas realizacji: 21 dni od dnia złożenia zamówienia
B48: Do dostawy należy dostarczyć:
B49: 1 .Dla każdej serii wzorca należy dostarczyć certyfikat jakości lub świadectwo kontroli jakości w języku polskim, na którym będzie nr serii bądź partii oraz skład ilościowy, stopień zanieczyszczenia i data ważności wzorców
B50: 2. Wzorce muszą posiadać certyfikaty jakości dla wzorców na zgodność z przepisami metrologicznymi (o wykazanej spójności pomiarowej z SI ), wydane przez akredytowane laboratorium, zapewniające zgodność z normą PN-EN ISO 17034, przewodnikiem ISO GUIDE 31, przewodnikiem ISO GUIDE 35 ( czyli CRM musi być wyprodukowany przez akredytowanego producenta materiałów odniesienia w odniesieniu do wymagań normy PN-EN ISO 17034, w ramach posiadanego zakresu akredytacji, a jednostka akredytująca jest sygnatariuszem porozumień EA MLA i /lub ILAC MRA) lub wzorce muszą posiadać certyfikaty jakości zapewniające odniesienie do wzorców wyższego rzędu-pierwotny CRM (czyli muszą być wyprodukowane przez NMI i zarejestrowane w bazie BIPM KCDB). Jakość wzorców taka sama lub lepsza od podanej w opisie wg katalogu. Wzorce muszą posiadać co najmniej dwuletni okres gwarancji od daty dostawy (z wyjątkiem, kiedy wzorzec wg podanych katalogów posiada krótszy okres trwałości). Dla odpowiedników produktów innych producentów niż podano w załącznikach dostawca gwarantuje parametry (jakość, czystość, wielkość opakowań i inne) takie same lub lepsze jak produkt według katalogu wymienionego producenta oraz przedstawi dokumenty potwierdzające taką samą lub lepszą jakość oferowanych odpowiedników. *Laboratorium musi posiadać wzorce różnych serii, jest to niezbędne do zachowania spójności pomiarowej-wymagania normy PN-EN ISO 17025.
B51: 3. W dniu pierwszej dostawy należy bezpłatnie udostępnić aktualną kartę charakterystyki dostarczonych substancji lub preparatów, dla których jest ona wymagana oraz dokonywać jej aktualizacji i dystrybucji zgodnie z ustawą o substancjach i preparatach chemicznych (Dz. U. Nr 11, poz.84 z 2001r. z późn. zm.), Rozporządzeniem Komisji UE nr 2015/830 oraz Rozporządzeniem (WE) nr 1272/2008(CLP)-Polska
B52: 4. Przy każdej dostawie należy zapewnić prawidłowe oznakowanie opakowań substancji i preparatów, w tym również sklasyfikowanych jako niebezpieczne; substancje i preparaty chemiczne powinny być oznakowane w sposób widoczny, umozliwiający ich identyfikację i rodzaj stwarzanych przez nie zagrożeń (wskazanych przez wymagane znaki ostrzegawcze - piktogramy)
B53: 5. Zamawiający zastrzega sobie prawo zmniejszenia zamówienia o nie więcej niż 20%
B54: Niniejszym podpisem potwierdzam parametry przedmiotu zamówienia
F55: …………………………………………………………………..
F56: podpis wykonawcy

Sheet Zad.33 Mętność 
B1: Znak sprawy: OEA-ZP.272.1.1.2022 | I1: załącznik 1/33
B3: …………………………………………
B4: …………………………………………
B5: ………..…....………………………….
B6: dane wykonawcy
D7: FORMULARZ CENOWY
B8: Zadanie nr 33- Wzorce mętności
A9: Laborat-orium | B9: lp. | C9: nazwa produktu | D9: szczegółowy opis przedmiotu zamówienia | E9: nazwa producenta/dystrybutora/importera | F9: nr katalogowy | G9: j.m. | H9: ilość | I9: cena jednostkowa brutto za j.m. | J9: wartość ogółem brutto
A10: SBW | B10: 1 | C10: wzorzec mętności 1,0 NTU formazynowy | D10: Certyfikowany materiał odniesienia zgodny z ISO 17034 lub NIST1), Turbidity 1 NTU Calibration Standard- Formazin, opakowanie 100 ml, okres ważności od daty dostawy min. 2 lata, równoważny produktowi Sigma-Aldrich® nr katalogowy TURB1-100ML | G10: op | H10: 1
B11: 2 | C11: wzorzec mętności 10 NTU formazynowy | D11: Certyfikowany materiał odniesienia zgodny z ISO 17034 lub NIST1), Turbidity 10 NTU Calibration Standard -Formazin, opakowanie 100 ml, okres ważności od daty dostawy min. 2 lata, równoważny produktowi Sigma-Aldrich® nr katalogowy TURB10-100ML | G11: op | H11: 1
B12: 3 | C12: wzorzec mętności 50 NTU formazynowy | D12: Certyfikowany materiał odniesienia zgodny z ISO 17034 lub NIST1), Turbidity 50 NTU Calibration Standard -Formazin, opakowanie 100 ml, okres ważności od daty dostawy min. 2 lata, równoważny produktowi Sigma-Aldrich® nr katalogowy TURB50-100ML | G12: op | H12: 1
B13: 4 | C13: wzorzec mętności 100 NTU formazynowy | D13: Certyfikowany materiał odniesienia zgodny z ISO 17034 lub NIST1), Turbidity 100 NTU Calibration Standard- Formazin, opakowanie 100 ml, okres ważności od daty dostawy min. 2 lata, równoważny produktowi SIGMA-ALDRICH® nr katalogowy TURB100-100ML | G13: op | H13: 1
J14: =SUM(J10:J13) -> 0
A15: SBW | B15: Do oferty należy dołączyć:
B16: przykładowe świadectwo jakości z odniesieniem do NIST
B17: Czas realizacji: 21 dni od dnia złożenia zamówienia
B18: Do dostawy należy dostarczyć:
B19: 1)Wzorce muszą posiadać certyfikaty jakości dla wzorców na zgodność z przepisami metrologicznymi (o wykazanej spójności pomiarowej z SI ), wydane przez akredytowane laboratorium, zapewniające zgodność z normą PN-EN ISO 17034, przewodnikiem ISO GUIDE 31, przewodnikiem ISO GUIDE 35 ( czyli CRM musi być wyprodukowany przez akredytowanego producenta materiałów odniesienia w odniesieniu do wymagań normy PN-EN ISO 17034, w ramach posiadanego zakresu akredytacji, a jednostka akredytująca jest sygnatariuszem porozumień EA MLA i /lub ILAC MRA) lub wzorce muszą posiadać certyfikaty jakości zapewniające odniesienie do wzorców wyższego rzędu-pierwotny CRM (czyli muszą być wyprodukowane przez NMI i zarejestrowane w bazie BIPM KCDB). Jakość wzorców taka sama lub lepsza od podanej w opisie wg katalogu. Wzorce muszą posiadać co najmniej dwuletni okres gwarancji od daty dostawy (z wyjątkiem, kiedy wzorzec wg podanych katalogów posiada krótszy okres trwałości). Dla odpowiedników produktów innych producentów niż podano w załącznikach dostawca gwarantuje parametry (jakość, czystość, wielkość opakowań i inne) takie same lub lepsze jak produkt według katalogu wymienionego producenta oraz przedstawi dokumenty potwierdzające taką samą lub lepszą jakość oferowanych odpowiedników.
B20: Niniejszym podpisem potwierdzam parametry przedmiotu zamówienia
F23: …………………………………………………………………..
F24: podpis wykonawcy

Sheet Zad.34 Podłoża suche 
B1: Znak sprawy: OEA-ZP.272.1.1.2022 | I1: załącznik 1/34
B3: …………………………………………
B4: …………………………………………
B5: ………..…....………………………….
B6: dane wykonawcy
D7: FORMULARZ CENOWY
B8: Zadanie nr 34- Suche podłoża mikrobiologiczne
A9: Laborat-orium | B9: lp. | C9: nazwa produktu | D9: szczegółowy opis przedmiotu zamówienia | E9: nazwa producenta/dystrybutora/importera | F9: nr katalogowy | G9: j.m. | H9: ilość | I9: cena jednostkowa brutto za j.m. | J9: wartość ogółem brutto
A10: SBW | B10: 1 | C10: Chromogenne podłoże agarowe (CCA) | D10: podłoże sypkie; jednorodne, skład ilościowy i jakościowy podłoża zgodny z PN-EN ISO 9308-1:2014-12 w opakowaniu jednostkowym po 500g; Wymagane dokumenty: 1)certyfikat jakości, na którym będzie umieszczona informacja o trwałości podłoża po upłynnieniu ( min. 1 miesiać) , nazwy szczepów kontrolnych , nazwa pożywki referencyjnej użytej przy kontroli podłoża, opis wyglądu oraz stopień odzysku drobnoustrojów; Równoważny produktowi nr katalogowy Merck 1.10426.0500, na certyfikacie jakości | G10: op | H10: 2
B11: 2 | C11: Agar z ekstraktem drożdżowym Yeast Extrakt Agar | D11: podłoże sypkie; jednorodne, skład ilościowy i jakościowy podłoża zgodny z ISO 6222 w opakowaniu jednostkowym po 500g; z tej samej serii; na opakowaniu musi być umieszczony skład podłoża. Wymagane dokumenty: 1) certyfikat jakości, na którym będzie umieszczona informacja o trwałości podłoża po upłynnieniu ( min. 1 miesiać) , nazwy szczepów kontrolnych , nazwa pożywki referencyjnej użytej przy kontroli podłoża, opis wyglądu oraz stopień odzysku drobnoustrojów;. Równoważny produktowi nr katalogowy Merck 113116 | G11: op | H11: 3
A12: SBW | B12: 3 | C12: Agar wybiórczy dla enterokoków do metody filtrów membranowych wg Slanetza i Bartley z dodatkiem TTC | D12: podłoże sypkie; jednorodne, skład ilościowy i jakościowy podłoża zgodny z PN-EN ISO 7899-2:2004 w składzie podłoża dodatek suplementu TTC; w opakowaniu jednostkowym po 500g;Wymagane dokumenty: 1)certyfikat jakości, na którym będzie umieszczona informacja o trwałości podłoża, nazwy szczepów kontrolnych, nazwa pożywki referencyjnej użytej przy kontroli podłoża, opis wyglądu oraz stopień odzysku drobnoustrojów; 2) minimalny termin okresu przydatności podłoża po upłynnieniu 7 dni. Równoważny produktowi nr katalogowy Merck 105262.0500 | G12: op | H12: 1
B13: 4 | C13: Agar z żółcią, eskuliną i azydkiem (BEA) | D13: podłoże sypkie; jednorodne,skład ilościowy i jakościowy podłoża zgodny z PN-EN ISO 7899-2:2004 w opakowaniu jednostkowym po 500g; Wymagane dokumenty: 1)certyfikat jakości, na którym będzie umieszczona informacja o trwałości podłoża oraz nazwa drobnoustrojów kontrolnych; 2) minimalny termin okresu przydatności podłoża po upłynnieniu14 dni. Równoważny produktowi nr katalogowy Merck 100072 | G13: op | H13: 1
B14: 5 | C14: Agar Chapmana z mannitolem, solą i czerwienią fenolową | D14: podłoże sypkie; w opakowaniu jednostkowym po 500g; skład: peptony 10,0 g/l, ekstrakt mięsny 1,0 g/l, NaCl 75 g/l, D(-) mannitol 10 g/l, czerwień fenolowa 0,025g/l, agar-agar 12 g/l ; na opakowaniu musi być umieszczony skład podłoża oraz musi być instrukcja wykonania podłoża; Wymagane dokumenty: 1)certyfikat jakości, na którym będzie umieszczona informacja o trwałości podłoża po upłynnieniu , nazwy szczepów kontrolnych , nazwa pożywki referencyjnej użytej przy kontroli podłoża, opis wyglądu oraz stopień odzysku drobnoustrojów; 2) termin okresu przydatności po upłynnieniu od 7 do 8 tygodni. | G14: op | H14: 1
B15: 6 | C15: Płyn Ringera czterokrotnie rozcieńczony | D15: skład: Chlorek sodu (NaCl) 2,25g/l; Chlorek potasu (KCl) 0,105g/l; Chlorek wapnia bezwodny) (CaCl2) 0,12g/l; Wodorowęglan sodu ( NaHCO3) 0,05g/l; op-500g | G15: op | H15: 1
A16: SBW | B16: 7 | C16: Agar tryptozowo-siarczynowy | D16: podłoże sypkie;podłoze do wykrywania i oznaczania liczby bakterii beztlenowych redukujacych siarczyny, skład ilościowy i jakościowy podłoża zgodny z PN-EN 26461-2:2001; wydajność 42 - 47 g/l; w opakowaniu jednostkowym po 250 g; na opakowaniu musi być instrukcja w języku polskim przygotowania podłoża; Wymagane dokumenty: 1) )certyfikat jakości, na którym będzie umieszczona informacja o trwałości podłoża, nazwy szczepów kontrolnych, nazwa pożywki referencyjnej użytej przy kontroli podłoża, opis wyglądu oraz stopień odzysku drobnoustrojów2) karta charakterystyki produktu; minimalny termin okresu przydatności 2 lata od daty dostawy, termin okresu przydatności po upłynnieniu 14 dni. | G16: op | H16: 1
J17: =SUM(J10:J16) -> 0
A18: SBW | B18: Do oferty należy dołączyć:
B19: 1. Certyfikat jakości oraz kartę kontroli produktu zawierającą datę ważności dostarczonego produktu, na której również będzie umieszczona informacja o trwałości podłoża, warunkach przechowywania, nazwa drobnoustojów kontrolnych, nazwa pożywki referencyjnej użytej przy kontroli podłoża,, opis wyglądu oraz stopień odzysku drobnoustrojów , .
B20: 2.certyfikat kontroli jakości pożywek mikrobiologicznych zgodny z wymaganiami normy PN-EN ISO 11133
B21: 3.Wymienione w specyfikacji szczepy kontrolne powinny pochodzić z uznanych kolekcji zapewniających utrzymanie spójności pomiarowej
B22: 4. zaktualizowane karty bezpieczeństwa produktu lub oświadczenie, że oferowane produkty nie podlegają ustawie.
B23: 5. wykaz i nazwy substancji niebezpiecznych zawartych w poszczególnych odczynnikach (jeżeli nie występują – dołączyć oświadczenie)
B24: 6. instrukcje zawierające pełny opis i zastosowanie podłóż w języku polskim – oddzielnie dla każdego podłoża.
B25: Czas realizacji: 14 dni od dnia złożenia zamówienia
B26: Do dostawy należy dostarczyć:
B27: 1. Certyfikat jakości oraz kartę kontroli produktu zawierającą datę ważności dostarczonego produktu, na której również będzie umieszczona informacja o trwałości podłoża, warunkach przechowywania, nazwa drobnoustojów kontrolnych, nazwa pożywki referencyjnej użytej przy kontroli podłoża,, opis wyglądu oraz stopień odzysku drobnoustrojów , .
B28: 2. Wymienione w specyfikacji szczepy kontrolne powinny pochodzić z uznanych kolekcji zapewniających utrzymanie spójności pomiarowej
B29: 3.Dołączyć karty charakterystyki produktu oraz oznakowanie opakowania podłoża jako niebezpiecznego
B30: 4. zaktualizowane karty bezpieczeństwa produktu lub oświadczenie, że oferowane produkty nie podlegają ustawie.
... B33: Niniejszym podpisem potwierdzam parametry przedmiotu zamówienia
F34: ……………………………………………..
F35: podpis wykonawcy

Sheet Zad.35 Podłoża
B1: Znak sprawy: OEA-ZP.272.1.1.2022 | I1: załącznik 1/35
B3: …………………………………………
B4: …………………………………………
B5: ………..…....………………………….
B6: dane wykonawcy
D7: FORMULARZ CENOWY
B8: Zadanie nr 35- Podłoża
A9: Laborat-orium | B9: lp. | C9: nazwa produktu | D9: szczegółowy opis przedmiotu zamówienia | E9: nazwa producenta/dystrybutora/importera | F9: nr katalogowy | G9: j.m. | H9: ilość | I9: cena jednostkowa brutto za j.m. | J9: wartość ogółem brutto
A10: SBW | B10: 1 | C10: Agar CN dla Pseudomonas | D10: Kompletne podłoże Pseudomonas CN Agar z suplementami: (cetrymide oraz kwas nalidyksowy) podłoże sypkie; skład ilościowy i jakościowy podłoża zgodny z PN-EN ISO 16266:2009; w opakowaniu jednostkowym po 500g, na opakowaniu musi być instrukcja w języku polskim wykonania podłoża. Wymagane dokumenty: 1) certyfikat jakości, na którym będzie umieszczona informacja o trwałości podłoża, nazwy szczepów kontrolnych, nazwa pożywki referencyjnej użytej przy kontroli podłoża, opis wyglądu oraz stopień odzysku drobnoustrojów; 2) karta charakterystyki produktu; minimalny termin okresu przydatności 2 lata od daty dostawy, minimalny termin okresu przydatności po upłynnieniu 1 miesiąc; | G10: op | H10: 1
B11: 2 | C11: Agar odżywczy | D11: podłoże sypkie do hodowli bakterii z grupy coli i Escherichia coli; w opakowaniach jednostkowych 250 g., wydajność 22,0 g/l; skład: ekstrakt mięsny 1,0 g/l; pepton 1,0 g/l; chlorek sodu 5,0 g/l; agar 15,0 g/l; na opakowaniu musi być instrukcja w języku polskim przygotowania podłoża, termin okresu przydatności po upłynnieniu 3 miesiące. | G11: op | H11: 2
A12: SBW | B12: 3 | C12: Bulion laurylowotryptozowy z mannitolem i tryptofanem | D12: podłoże sypkie; w opakowaniu jednostkowym po 250 g; wydajność 35,8g/l; na opakowaniu musi być instrukcja w języku polskim przygotowania podłoża; Wymagane dokumenty: 1) certyfikat jakości, na którym będzie umieszczona informacja o trwałości podłoża, nazwy szczepów kontrolnych, nazwa pożywki referencyjnej użytej przy kontroli podłoża, 2) karta charakterystyki produktu; minimalny termin okresu przydatności 2 lata od daty dostawy, termin okresu przydatności po upłynnieniu 3 miesiące. | G12: op | H12: 1
B13: 4 | C13: bulion odżywczy | D13: Bulion odżywczy; podłoże suche; skład: ekstrakt mięsny 2g, ekstrakt drożdżowy 2g, pepton 5g, chlorek sodu 4g, glukoza 10g; w opakowaniu jednostkowym po 500 g; na opakowaniu musi być instrukcja w języku polskim wykonania podłoża; Wymagane dokumenty: 1)certyfikat jakości, na którym będzie umieszczona informacja o trwałości podłoża, nazwy szczepów kontrolnych, nazwa pożywki referencyjnej użytej przy kontroli podłoża; 2) karta charakterystyki produktu; minimalny termin okresu przydatności 1 rok od daty dostawy | G13: op | H13: 1
B14: 5 | C14: Bulion kazeinowo – sojowy (TSB); | D14: podłoże sypkie; podłoże uniwersalne do hodowli i namnażania mikroorganizmów; skład: pepton K, pepton SP, glukoza, chlorek sodu, wodorofosforan dipotasu; wydajność 30g/litr; w opakowaniu jednostkowym po 500 g; na opakowaniu musi być instrukcja w języku polskim wykonania podłoża, Wymagane dokumenty: 1) certyfikat jakości, na którym będzie umieszczona informacja o trwałości podłoża, nazwy szczepów kontrolnych, nazwa pożywki referencyjnej użytej przy kontroli podłoża, 2) karta charakterystyki produktu; minimalny termin okresu przydatności 2 lata od daty dostawy. | G14: op | H14: 1
J15: =SUM(J10:J14) -> 0
A16: SBW | B16: Do oferty należy dołączyć:
B17: 1. Certyfikat jakości oraz kartę kontroli produktu zawierającą datę ważności dostarczonego produktu, na której również będzie umieszczona informacja o trwałości podłoża, warunkach przechowywania, nazwa drobnoustojów kontrolnych, nazwa pożywki referencyjnej użytej przy kontroli podłoża,, opis wyglądu oraz stopień odzysku drobnoustrojów , .
B18: 2.certyfikat kontroli jakości pożywek mikrobiologicznych zgodny z wymaganiami normy PN-EN ISO 11133
B19: 3.Wymienione w specyfikacji szczepy kontrolne powinny pochodzić z uznanych kolekcji zapewniających utrzymanie spójności pomiarowej
B20: 4. zaktualizowane karty bezpieczeństwa produktu lub oświadczenie, że oferowane produkty nie podlegają ustawie.
B21: 5. wykaz i nazwy substancji niebezpiecznych zawartych w poszczególnych odczynnikach (jeżeli nie występują – dołączyć oświadczenie)
B22: 6. instrukcje zawierające pełny opis i zastosowanie podłóż w języku polskim – oddzielnie dla każdego podłoża.
B23: Czas realizacji: 14 dni od dnia złożenia zamówienia
B24: Do dostawy należy dostarczyć:
B25: 1. Certyfikat jakości oraz kartę kontroli produktu zawierającą datę ważności dostarczonego produktu, na której również będzie umieszczona informacja o trwałości podłoża, warunkach przechowywania, nazwa drobnoustojów kontrolnych, nazwa pożywki referencyjnej użytej przy kontroli podłoża,, opis wyglądu oraz stopień odzysku drobnoustrojów , .
B26: 2. Wymienione w specyfikacji szczepy kontrolne powinny pochodzić z uznanych kolekcji zapewniających utrzymanie spójności pomiarowej
B27: 3. Dołączyć karty charakterystyki produktu oraz oznakowanie opakowania podłoża jako niebezpiecznego
B28: 4. zaktualizowane karty bezpieczeństwa produktu lub oświadczenie, że oferowane produkty nie podlegają ustawie.
... B31: Niniejszym podpisem potwierdzam parametry przedmiotu zamówienia
F34: …………………………………………………………………..
F35: podpis wykonawcy

Sheet Zad.36 IDEEX
B1: Znak sprawy: OEA-ZP.272.1.1.2022 | I1: załącznik 1/36
B3: …………………………………………
B4: …………………………………………
B5: ………..…....………………………….
B6: dane wykonawcy
D7: FORMULARZ CENOWY
B8: Zadanie nr 36- Materiały do testów IDEXX
A9: Laborat-orium | B9: lp. | C9: nazwa produktu | D9: szczegółowy opis przedmiotu zamówienia | E9: nazwa producenta/dystrybutora/importera | F9: nr katalogowy | G9: j.m. | H9: ilość | I9: cena jednostkowa brutto za j.m. | J9: wartość ogółem brutto
A10: SBW | B10: 1 | C10: Sterylne, plastikowe buteleczki do pobierania próbek wody z dodatkiem środka p/pienieniu – do testu Colilert-18 | D10: pojemność 120 ml,op=100szt | G10: op | H10: 4
B11: 2 | C11: Wzorzec zabarwienia dla testu Quanti-Tray2000 | D11: z 97 dołkami do zliczania bakterii; dostawa 2 razy w roku | G11: szt | H11: 2
B12: 3 | C12: Porcjowane podłoża do wykrywania E.coli i bakterii grupy coli (Colilert 18) | D12: do badania 100 ml próbki wody; Produkt równoważny firmy IDEXX,op=100szt | G12: op | H12: 4
B13: 4 | C13: Tacki plastikowe Quanti-Tray 2000 | D13: do badania 100 ml próbek wody/ zakres zliczania od 1 do 2419,6 cfu na 100 ml; z 97 dołkami do zliczania bakterii; Produkt równoważny firmy IDEXX,op=100szt | G13: op | H13: 4
J14: =SUM(J10:J13) -> 0
A16: SBW | B16: Wymagania ogólne: (poz.1-4)
B17: 1.produkty nie gorsze jakością niż produkty firmy IDEXX
B18: 2.termin ważności minimum 10 miesięcy od daty dostawy
B19: 3.oryginalne opakowania producenta lub równoważne
B20: 4.dostawa w większej ilości niż jednego opakowania z jednym numerem serii
B21: 5.karty charakterystyk dla substancji i preparatów niebezpiecznych
B22: 6. Certyfikaty jakości lub świadectwo kontroli jakości, na którym będzie nr serii bądź partii
B23: Czas realizacji: 14 dni od dnia złożenia zamówienia
B24: Do dostawy należy dostarczyć:
B25: Certyfikaty jakości lub świadectwo kontroli jakości, na którym będzie nr serii bądź partii oraz karty charakterystyk dla substancji i preparatów niebezpiecznych
B26: Niniejszym podpisem potwierdzam parametry przedmiotu zamówienia
F29: …………………………………………………………………..
F30: podpis wykonawcy

Sheet Zad.37 Filtry i leje
B1: Znak sprawy: OEA-ZP.272.1.1.2022 | I1: załącznik 1/37
B3: …………………………………………
B4: …………………………………………
B5: ………..…....………………………….
B6: dane wykonawcy
D7: FORMULARZ CENOWY
B8: Zadanie nr 37- Filtry i leje do aparatu MILIPORE
A9: Laborat-orium | B9: lp. | C9: nazwa produktu | D9: szczegółowy opis przedmiotu zamówienia | E9: nazwa producenta/dystrybutora/importera | F9: nr katalogowy | G9: j.m. | H9: ilość | I9: cena jednostkowa brutto za j.m. | J9: wartość ogółem brutto
A10: SBW | B10: 1 | C10: Filtry membranowe sterylne, w taśmach do podajnika EZ PAK f-my MILLIPORE | D10: Filtry wykonane z mieszaniny estrów celulozy (octan + azotan), okrągłe, białe, kratkowane, śr. 47 mm; średnica porów 0,45 mikrometr, numerowane, oznakowane numerem serii oraz informacją o sterylności. Opakowania po 600 szt = 4 taśmy x 150szt; lub równoważne produktowi f-my Milipore nr. kat. EZHAWG474 | G10: op | H10: 8
B11: 2 | C11: Leje jednorazowe z podziałką + filtry membranowe( do 3-stanowiskowego aparatu Millipore do filtracji wody) | D11: pojemność 100 ml, sterylne, z tworzywa + filtry membranowe w taśmie do podajnika, okrągłe, białe, kratkowane, śr. 47 mm; średnica porów 0,45 mikrometr, opakowanie =150szt., równoważne produktowi f-my Millipore nr kat. MIHAWG100 | G11: op | H11: 4
B12: 3 | C12: Leje jednorazowe z podziałką + filtry membranowe( do 3-stanowiskowego aparatu Millipore do filtracji wody) | D12: pojemność 100 ml, sterylne, z tworzywa + filtry membranowe w taśmie do podajnika, okrągłe, białe, kratkowane, śr. 47 mm; średnica porów 0,22 mikrometr, opakowanie = 150szt, równoważne produktowi f-my Millipore nr kat. MIGSWG100 | G12: op | H12: 1
J13: =SUM(J10:J12) -> 0
A15: SBW | B15: Do oferty należy dołączyć:
B16: przykładowe certyfikaty sterylności i jakości
B17: Czas realizacji:14 dni od dnia złożenia zamówienia
B18: Do dostawy należy dostarczyć:
B19: 1. poz. 1 wszystkie opakowania z jednego zamówienia z jednej serii
B20: 2. certyfikat sterylności identyfikowany numerem serii lub datą produkcji/sterylizacji
B21: 3.certyfikat jakości zawierający między innymi odzysk drobnoustrojów wyrażony procentowo
B22: Niniejszym podpisem potwierdzam parametry przedmiotu zamówienia
F25: …………………………………………………………………..
F26: podpis wykonawcy

Sheet Zad.38 But jednorazowe
B1: Znak sprawy: OEA-ZP.272.1.1.2022 | I1: załącznik 1/38
B3: …………………………………………
B4: …………………………………………
B5: ………..…....………………………….
B6: dane wykonawcy
D7: FORMULARZ CENOWY
B8: Zadanie nr 38- Butelki jednorazowego użytku do pobierania próbek mikrobiologicznych wody
A9: Laborat-orium | B9: lp. | C9: nazwa produktu | D9: szczegółowy opis przedmiotu zamówienia | E9: nazwa producenta/dystrybutora/importera | F9: nr katalogowy | G9: j.m. | H9: ilość | I9: cena jednostkowa brutto za j.m. | J9: wartość ogółem brutto
A10: SBW | B10: 1 | C10: Butelka sterylna 500 ml z zawartością tiosiarczanu sodu - 20 mg /L | D10: butelka ośmioboczna 500 ml, PET, z podziałką, przezroczysta, sztywna , odporna na pęknięcia; z szeroką szyjką,, nakrętka zakręcana, sterylna wewnątrz i na zewnątrz, pakowana indywidualnie ze świadectwem sterylności i datą ważności sterylizacji; minimalny termin okresu przydatności 2 lata od daty dostawy,równoważne produktowi GOSSELIN nr kat:HP500B-52 | G10: szt | H10: 800
J11: =SUM(J10:J10) -> 0
A13: SBW | B13: Do oferty należy dołączyć:
B14: 1.świadectwo sterylności
B15: 2.zdjęcie wyglądu butelki
B16: Czas realizacji: 90 dni od dnia złożenia zamówienia
B17: Do dostawy należy dostarczyć:
B18: 1.świadectwa sterylności
B19: Niniejszym podpisem potwierdzam parametry przedmiotu zamówienia
F20: …………………………………………………………………..
F21: podpis wykonawcy

Sheet Zad.39 worki na odpady
B1: Znak sprawy: OEA-ZP.272.1.1.2022 | I1: załącznik 1/39
B3: …………………………………………
B4: …………………………………………
B5: ………..…....………………………….
B6: dane wykonawcy
D7: FORMULARZ CENOWY
B8: Zadanie nr 39- Worki na odpady
A9: Laborat-orium | B9: lp. | C9: nazwa produktu | D9: szczegółowy opis przedmiotu zamówienia | E9: nazwa producenta/dystrybutora/importera | F9: nr katalogowy | G9: j.m. | H9: ilość | I9: cena jednostkowa brutto za j.m. | J9: wartość ogółem brutto
A10: SBW | B10: 1 | C10: Worki do usuwania i utylizacji odpadów, jednorazowe | D10: autoklawowalne - do sterylizacji parowej w 134°C;czerwone; wykonane z PP; z nadrukiem "biohazard"; rozmiar: szerokość/wysokość 420 mm / 610 mm; minimalne opakowanie = 100 sztuk | G10: szt. | H10: 200
J11: =SUM(J10) -> 0
A12: SBW | B12: Do oferty przetargowej dla wszystkich pozycji należy dołączyć wymienione poniżej dokumenty lub wskazać określone adresy internetowe, ogólnodostępne i bezpłatne bazy danych gdzie zamawiający może je samodzielnie pobrać :
B13: Nie dotyczy
B14: Czas realizacji: do 21 dni od dnia złożenia zamówienia
B15: Do dostawy należy dostarczyć:
B16: Nie dotyczy
F22: …………………………………………………………………..
F23: podpis wykonawcy

Sheet Zad.40 Art do steryl
B1: Znak sprawy: OEA-ZP.272.1.1.2022 | I1: załącznik 1/40
B3: …………………………………………
B4: …………………………………………
B5: ………..…....………………………….
B6: dane wykonawcy
D7: FORMULARZ CENOWY
B8: Zadanie nr 40- Artykuły do sterylizacji
A9: Laborat-orium | B9: lp. | C9: nazwa produktu | D9: szczegółowy opis przedmiotu zamówienia | E9: nazwa producenta/dystrybutora/importera | F9: nr katalogowy | G9: j.m. | H9: ilość | I9: cena jednostkowa brutto za j.m. | J9: wartość ogółem brutto
A10: SBW | B10: 1 | C10: Rękaw papierowo-foliowy | D10: do sterylizacji parowej, z dwoma wskaźnikami sterylizacji; bez zakładki; rozmiar 30 cm x 200 m | G10: rulon | H10: 2
J11: =SUM(J10:J10) -> 0
A12: SBW | B12: Do oferty przetargowej dla wszystkich pozycji należy dołączyć wymienione poniżej dokumenty lub wskazać określone adresy internetowe, ogólnodostępne i bezpłatne bazy danych gdzie zamawiający może je samodzielnie pobrać :
B13: Nie dotyczy
B14: Czas realizacji: do 14 dni od dnia złożenia zamówienia
B15: Do dostawy należy dostarczyć:
B16: Nie dotyczy
B18: Niniejszym podpisem potwierdzam parametry przedmiotu zamówienia
F21: …………………………………………………………………..
F22: podpis wykonawcy

Sheet Zad.41 Szczepy wzorcowe SBW
B1: Znak sprawy: OEA-ZP.272.1.1.2022 | I1: załącznik 1/41
B3: …………………………………………
B4: …………………………………………
B5: ………..…....………………………….
B6: dane wykonawcy
D7: FORMULARZ CENOWY
B8: Zadanie nr 41- Szczepy wzorcowe SBW
A9: Laborat-orium | B9: lp. | C9: nazwa produktu | D9: szczegółowy opis przedmiotu zamówienia | E9: nazwa producenta/dystrybutora/importera | F9: nr katalogowy | G9: j.m. | H9: ilość | I9: cena jednostkowa brutto za j.m. | J9: wartość ogółem brutto
A10: SBW | B10: 1 | C10: Szczep wzorcowy Escherichia coli WDCM 00013 ATCC 25922 | D10: lub szczepy zarejestrowane jako równoważne w innych kolekcjach szczepów; pasaż II-III (do badań jakościowych) jedna wymazówka- wraz z zalecanymi wymaganiami wzrostowymi i warunkami przechowywania oraz certyfikat jakości z datą ważności; minimalny termin ważności 12 m-cy od daty dostawy | G10: szt | H10: 1
B11: 2 | C11: Szczep wzorcowy Escherichia coli WDCM 00090 ATCC 11775 | D11: lub szczepy zarejestrowane jako równoważne w innych kolekcjach szczepów; pasaż II-III (do badań jakościowych) jedna wymazówka- wraz z zalecanymi wymaganiami wzrostowymi i warunkami przechowywania oraz certyfikat jakości z datą ważności; minimalny termin ważności 12 m-cy od daty dostawy | G11: szt | H11: 1
B12: 3 | C12: Szczep wzorcowy Enterococcus faecalis WDCM 00009 ATCC 19433 | D12: lub szczepy zarejestrowane jako równoważne w innych kolekcjach szczepów; pasaż II-III (do badań jakościowych) jedna wymazówka- wraz z zalecanymi wymaganiami wzrostowymi i warunkami przechowywania oraz certyfikat jakości z datą ważności; minimalny termin ważności 12 m-cy od daty dostawy | G12: szt | H12: 1
A13: SBW | B13: 4 | C13: Szczep wzorcowy Enterococcus faecium WDCM 00177 ATCC 6057 | D13: lub szczepy zarejestrowane jako równoważne w innych kolekcjach szczepów; pasaż II-III (do badań jakościowych) jedna wymazówka- wraz z zalecanymi wymaganiami wzrostowymi i warunkami przechowywania oraz certyfikat jakości z datą ważności; minimalny termin ważności 12 m-cy od daty dostawy | G13: szt | H13: 1
B14: 5 | C14: Szczep wzorcowy Enterobacter aerogenes WDCM 00175 ATCC 13048 | D14: lub szczepy zarejestrowane jako równoważne w innych kolekcjach szczepów; pasaż II-III (do badań jakościowych) jedna wymazówka- wraz z zalecanymi wymaganiami wzrostowymi i warunkami przechowywania oraz certyfikat jakości z datą ważności; minimalny termin ważności 12 m-cy od daty dostawy | G14: szt | H14: 1
B15: 6 | C15: Szczep wzorcowy Pseudomonas aeruginosa ATCC 10145 WDCM 00024 | D15: lub szczepy zarejestrowane jako równoważne w innych kolekcjach szczepów; pasaż II-III (do badań jakościowych) jedna wymazówka- wraz z zalecanymi wymaganiami wzrostowymi i warunkami przechowywania oraz certyfikat jakości z datą ważności; minimalny termin ważności 12 m-cy od daty dostawy | G15: szt | H15: 1
B16: 7 | C16: Szczep wzorcowy Pseudomonas aeruginosa ATCC 27853 WDCM 00025 | D16: lub szczepy zarejestrowane jako równoważne w innych kolekcjach szczepów; pasaż II-III (do badań jakościowych) jedna wymazówka- wraz z zalecanymi wymaganiami wzrostowymi i warunkami przechowywania oraz certyfikat jakości z datą ważności; minimalny termin ważności 12 m-cy od daty dostawy | G16: szt | H16: 1
B17: 8 | C17: Szczep wzorcowy Staphylococcus aureus WDCM 00034 ATCC 25923 | D17: lub szczepy zarejestrowane jako równoważne w innych kolekcjach szczepów; pasaż II-III (do badań jakościowych) jedna wymazówka- wraz z zalecanymi wymaganiami wzrostowymi i warunkami przechowywania oraz certyfikat jakości z datą ważności; minimalny termin ważności 12 m-cy od daty dostawy | G17: szt | H17: 1
A18: SBW | B18: 10 | C18: Szczep wzorcowy Clostridium bifermentans WDCM 00079 | D18: lub szczepy zarejestrowane jako równoważne w innych kolekcjach szczepów; pasaż II-III (do badań jakościowych) jedna wymazówka- wraz z zalecanymi wymaganiami wzrostowymi i warunkami przechowywania oraz certyfikat jakości z datą ważności; minimalny termin ważności 12 m-cy od daty dostawy | G18: szt | H18: 1
B19: 11 | C19: Szczep wzorcowy Clostridium perfringens WDCM 00007 ATCC 13124 | D19: lub szczepy zarejestrowane jako równoważne w innych kolekcjach szczepów; pasaż II-III (do badań jakościowych) jedna wymazówka- wraz z zalecanymi wymaganiami wzrostowymi i warunkami przechowywania oraz certyfikat jakości z datą ważności; minimalny termin ważności 12 m-cy od daty dostawy | G19: szt | H19: 1
B20: 12 | C20: Szczep wzorcowy Bacillus subtillis subsp. Spizzizeni WDCM 00003 ATCC 6633 | D20: lub szczepy zarejestrowane jako równoważne w innych kolekcjach szczepów; pasaż II-III (do badań jakościowych) jedna wymazówka- wraz z zalecanymi wymaganiami wzrostowymi i warunkami przechowywania oraz certyfikat jakości z datą ważności; minimalny termin ważności 12 m-cy od daty dostawy | G20: szt | H20: 1
J21: =SUM(J10:J20) -> 0
A22: SBW | B22: Do oferty należy dołączyć:
B23: przykladowe certyfikaty jakości, instrukcje sposobu użycia w języku polskim
B24: Czas realizacji: do 21 dni od dnia złożenia zamówienia
B25: Do dostawy należy dostarczyć:
B26: 1. dla każdej pozycji certyfikat jakości, instrukcję w języku polskim dotyczącą przechowywania i sposobu ożywienia lub przygotowania szczepu wzorcowego
B27: 2. wymienione w specyfikacji szczepy kontrolne powinny pochodzić z uznanych kolekcji zapewniających utrzymanie spójności pomiarowej
B28: 3. Transport szczepów wzorcowych powinien odbywać się w warunkach uwzględniających wymagania (temperatura, wilgotność, itp.) ich przechowywania.
B29: Niniejszym podpisem potwierdzam parametry przedmiotu zamówienia
F32: …………………………………………………………………..
F33: podpis wykonawcy

Sheet Zad.42 Szczepy wzorcowy
B1: Znak sprawy: OEA-ZP.272.1.1.2022 | I1: załącznik 1/42
B3: …………………………………………
B4: …………………………………………
B5: ………..…....………………………….
B6: dane wykonawcy
D7: FORMULARZ CENOWY
B8: Zadanie nr 42- Szczepy wzorcowy
A9: Laborat-orium | B9: lp. | C9: nazwa produktu | D9: szczegółowy opis przedmiotu zamówienia | E9: nazwa producenta/dystrybutora/importera | F9: nr katalogowy | G9: j.m. | H9: ilość | I9: cena jednostkowa brutto za j.m. | J9: wartość ogółem brutto
B10: 1 | C10: Szczep wzorcowy Klebsiella pneumoniae WDCM 00206 ATCC 31488 | D10: lub szczepy zarejestrowane jako równoważne w innych kolekcjach szczepów; pasaż II-III (do badań jakościowych) jedna wymazówka- wraz z zalecanymi wymaganiami wzrostowymi i warunkami przechowywania oraz certyfikat jakości z datą ważności; minimalny termin ważności 12 m-cy od daty dostawy | G10: szt | H10: 1
J11: =SUM(J10:J10) -> 0
A12: SBW | B12: Do oferty należy dołączyć:
B13: przykladowe certyfikaty jakości, instrukcje sposobu użycia w języku polskim
B14: Czas realizacji:do 21 dni od dnia złożenia zamówienia
B15: Do dostawy należy dostarczyć:
B16: 1. dla każdej pozycji certyfikat jakości, instrukcję w języku polskim dotyczącą przechowywania i sposobu ożywienia lub przygotowania szczepu wzorcowego
B17: 2. wymienione w specyfikacji szczepy kontrolne powinny pochodzić z uznanych kolekcji zapewniających utrzymanie spójności pomiarowej
B18: 3. Transport szczepów wzorcowych powinien odbywać się w warunkach uwzględniających wymagania (temperatura, wilgotność, itp.) ich przechowywania.
B19: Niniejszym podpisem potwierdzam parametry przedmiotu zamówienia
F22: …………………………………………………………………..
F23: podpis wykonawcy

Sheet Zad.43 Sporale
B1: Znak sprawy: OEA-ZP.272.1.1.2022 | I1: załącznik 1/43
B3: …………………………………………
B4: …………………………………………
B5: ………..…....………………………….
B6: dane wykonawcy
D7: FORMULARZ CENOWY
B8: Zadanie nr 43- Sporale
A9: Labora-torium | B9: lp. | C9: nazwa produktu | D9: szczegółowy opis przedmiotu zamówienia | E9: nazwa producenta/ dystrybutora/ importera | F9: nr katalogowy | G9: j.m. | H9: ilość | I9: cena jednostkowa brutto za j.m. | J9: wartość ogółem brutto
A10: SBEK | B10: 1 | C10: Sporal A | D10: biologiczny wskaźnik kontroli procesu sterylizacji parą wodną; odczyt wyniku do 3 dni 1 opakowanie = 10 sztuk; certyfikat dopuszczenia do obrotu; minimalny termin okresu przydatności 1 rok od dnia dostawy | G10: op. | H10: 60
B11: 2 | C11: Sporal S | D11: biologiczny wskaźnik kontroli procesu sterylizacji w suchym gorącym powietrzu; odczyt wyniku do 7 dni. 1 opakowanie = 40 szt.; certyfikat dopuszczenia do obrotu; minimalny termin okresu przydatności 1 rok od dnia dostawy | G11: op. | H11: 5
J12: =SUM(J10:J11) -> 0
A13: SBEK | B13: Do oferty przetargowej dla wszystkich pozycji należy dołączyć wymienione poniżej dokumenty lub wskazać określone adresy internetowe, ogólnodostępne i bezpłatne bazy danych gdzie zamawiający może je samodzielnie pobrać :
B14: 1.przykładowe certyfikaty dopuszczenia do obrotu (dla poz. 1 i 2)
B15: Czas realizacji: 14 dni od dnia złożenia zamówienia
B16: Do dostawy należy dostarczyć:
B17: 1. dla poz. 1 i 2 certyfikaty dopuszczenia do obrotu
B18: Niniejszym podpisem potwierdzam parametry przedmiotu zamówienia
F19: …………………………………………………………………..
F20: podpis wykonawcy
