Workbook
Name Print_Area_0: 'Zad 11 Szkło labo cylindry'!$A$1:$J$18
Name Print_Area_0: 'Zad.3 Testy i roztwory '!$A$1:$J$30
Name Print_Area_0: 'Zad.31 odczynniki SBW'!$A$1:$J$8
Name Print_Area_0: 'Zad.32 wzorce SBW '!$A$1:$J$59
Name Print_Area_0: 'Zad.34 Podłoża suche '!$A$1:$J$34
Name Print_Area_0: 'Zad.36 IDEEX'!$A$1:$J$22
Name Print_Area_0: 'Zad.37 Filtry i leje'!$A$1:$J$28
Name Print_Area_0: 'Zad.38 But jednorazowe'!$A$1:$J$14
Name Print_Area_0: 'Zad.39 worki na odpady'!$A$1:$J$23
Name Print_Area_0: 'Zad.40 Art do steryl'!$A$1:$J$22
Name Print_Area_0_0: 'Zad 11 Szkło labo cylindry'!$A$1:$J$18
Name Print_Area_0_0: 'Zad.3 Testy i roztwory '!$A$1:$J$30
Name Print_Area_0_0: 'Zad.31 odczynniki SBW'!$A$1:$J$8
Name Print_Area_0_0: 'Zad.32 wzorce SBW '!$A$1:$J$59
Name Print_Area_0_0: 'Zad.34 Podłoża suche '!$A$1:$J$34
Name Print_Area_0_0: 'Zad.36 IDEEX'!$A$1:$J$22
Name Print_Area_0_0: 'Zad.37 Filtry i leje'!$A$1:$J$28
Name Print_Area_0_0: 'Zad.38 But jednorazowe'!$A$1:$J$14
Name Print_Area_0_0: 'Zad.39 worki na odpady'!$A$1:$J$23
Name Print_Area_0_0: 'Zad.40 Art do steryl'!$A$1:$J$22

Sheet ZESTAWIENIE
B1: ZESTAWIENIE
A2: Lp. | B2: Nazwa | C2: Termin realizacji w dniach
A3: 1 | B3: ='Zad.1 Odczynniki chem.'!B8 -> Zadanie nr 1- Odczynniki chemiczne | C3: 14
A4: 2 | B4: ='Zad.2 Testy '!B8 -> Zadanie nr 2 - Testy | C4: 14
A5: 3 | B5: ='Zad.3 Testy i roztwory '!B8 -> Zadanie nr 3- Testy i roztwory | C5: 21
A6: 4 | B6: ='Zad.4 Płytki do monitoringu'!B8 -> Zadanie nr 4 - Płytki do monitoringu | C6: 14
A7: 5 | B7: ='Zad.5 Krążki diagnostyczne'!B8 -> Zadanie nr 5 - Krążki diagnostyczne | C7: 14
A8: 6 | B8: ='Zad.6 Podłoża sypkie i supl'!B8 -> Zadanie nr 6 - Podłoża sypkie i suplementy | C8: 14
A9: 7 | B9: ='Zad.7 Podłoża sypkie '!B8 -> Zadanie nr 7 - Podłoża sypkie | C9: 14 | D9: PRAWO OPCJI
A10: 8 | B10: ='Zad.8 Płytki Petriego'!B8 -> Zadanie nr 8 - Płytki Petriego | C10: 14
A11: 9 | B11: ='Zadanie 9_Surowice diagnost.'!B8 -> Zadanie nr 9 - Surowice diagnostyczne | C11: 14
A12: 10 | B12: ='Zadanie 10_Szkło laboratoryjne'!B8 -> Zadanie nr 10 - Szkło laboratoryjne | C12: 21
A13: 11 | B13: ='Zad 11 Szkło labo cylindry'!B8 -> Zadanie nr 11- Szkło laboratoryjne- cylindry | C13: 21
A14: 12 | B14: ='Zad.12 Pojemniki do pob.pr.'!B8 -> Zadanie nr 12- Pojemniki do pobierania próbek | C14: 14
A15: 13 | B15: ='Zad.13 Szkło laboratoryjne AS'!B8 -> Zadanie nr 13 - Szkło laboratoryjne klasa AS | C15: 14
A16: 14 | B16: ='Zad.14_Rękawice diagnostycz'!B8 -> Zadanie nr 14 - Rękawiczki diagnostyczne | C16: 14
A17: 15 | B17: ='Zad.15 Środki ochrony osob.'!B8 -> Zadanie nr 15 - Środki ochrony osobistej | C17: 14
A18: 16 | B18: ='Zad. 16 Środki myjące, dezynf.'!B8 -> Zadanie nr 16 - Środki myjące i dezynfekcyjne | C18: 14
A19: 17 | B19: ='Zad.17 Środki j.uż.'!B8 -> Zadanie nr 17 - Środki j.uż. | C19: 14
A20: 18 | B20: ='Zad.18_Artykuły do steryl.'!B8 -> Zadanie nr 18 - Artykuły do sterylizacji | C20: 14
A21: 19 | B21: ='Zadanie 19_Testy lateksowe EPEC'!B8 -> Zadanie nr 19 - Testy lateksowe EPEC, E.coli O157, VTEC | C21: 14
A22: 20 | B22: ='Zadanie 20_Pojemniki na odpady'!B8 -> Zadanie nr 20 - Pojemniki na odpady | C22: 14
A23: 21 | B23: ='Zadanie 21_Krążki antyb.'!B8 -> Zadanie nr 21 - Krążki antybiogramowe | C23: 14
A24: 22 | B24: ='Zadanie22_Wkłady do dejoni.'!B8 -> Zadanie nr 22 - Wkłady do dejonizatora- filtry do wody | C24: 14
A25: 23 | B25: ='Zadanie 23_Zestaw hodow.-identy'!B8 -> Zadanie nr 23 - Zestaw hodowlano-identyfikacyjny | C25: 14 | D25: PRAWO OPCJI
A26: 24 | B26: ='Zadanie 24 Końcówki do pipet'!B8 -> Zadanie nr 24- Końcówki do pipet automatycznych w pojemniku | C26: 21
A27: 25 | B27: ='Zadanie 25_Szczepy wzorcowe'!B8 -> Zadanie nr 25- Szczepy wzorcowe | C27: 21
A28: 26 | B28: ='ZAD.26 Podł.syp.i supl.'!B8 -> Zadanie nr 26 - Podłoża sypkie i suplementy | C28: 14 | D28: PRAWO OPCJI
A29: 27 | B29: ='Zad.27 Materiały j.uż.'!B8 -> Zadanie nr 27 - Materiały laboratoryjne jednorazowego użytku | C29: 14
A30: 28 | B30: ='Zad.28 Worki sterylne '!B8 -> Zadanie nr 28- Worki sterylne | C30: 14
A31: 29 | B31: ='Zad.29 KOŃCÓWKI DO PIPET AUTOMA'!B8 -> Zadanie nr 29 - Końcówki do pipet automatycznych | C31: 14
A32: 30 | B32: ='Zad.30 Zest. do identyf. Salm.'!B9 -> Zadanie nr 30- Zestaw do identyfikacji szczepów Salmonella | C32: 14
A33: 31 | B33: ='Zad.31 odczynniki SBW'!B8 -> Zadanie nr 31- Odczynniki chemiczne SBW | C33: 21 | D33: PRAWO OPCJI
A34: 32 | B34: ='Zad.32 wzorce SBW '!B8 -> Zadanie nr 32- Wzorce SBW | C34: 21 | D34: PRAWO OPCJI
A35: 33 | B35: ='Zad.33 Mętność '!B8 -> Zadanie nr 33- Wzorce mętności | C35: 21
A36: 34 | B36: ='Zad.34 Podłoża suche '!B8 -> Zadanie nr 34- Suche podłoża mikrobiologiczne | C36: 14
A37: 35 | B37: ='Zad.35 Podłoża'!B8 -> Zadanie nr 35- Podłoża | C37: 14
A38: 36 | B38: ='Zad.36 IDEEX'!B8 -> Zadanie nr 36- Materiały do testów IDEXX | C38: 14
A39: 37 | B39: ='Zad.37 Filtry i leje'!B8 -> Zadanie nr 37- Filtry i leje do aparatu MILIPORE | C39: 14
A40: 38 | B40: ='Zad.38 But jednorazowe'!B8 -> Zadanie nr 38- Butelki jednorazowego użytku do pobierania próbek mikrobiologicznych wody | C40: 90
...

Sheet Zad.1 Odczynniki chem.
B1: Znak sprawy: OEA-ZP.272.1.1.2022 | I1: załącznik 1/1
B3: …………………………………………
B4: …………………………………………
B5: ………..…....………………………….
B6: dane wykonawcy
D7: FORMULARZ CENOWY
B8: Zadanie nr 1- Odczynniki chemiczne
A9: Labora-torium | B9: lp. | C9: nazwa produktu | D9: szczegółowy opis przedmiotu zamówienia | E9: nazwa producenta/ dystrybutora/ importera | F9: nr katalogowy | G9: j.m. | H9: ilość | I9: cena jednostkowa brutto za j.m. | J9: wartość ogółem brutto
A10: SBEK | B10: 1 | C10: Disodu wodorofosforan bezwodny cz.d.a | D10: opakowanie 100g; równoważny produktowi CHEMPUR; ; okres ważności od daty dostawy min.2 lata | G10: op. | H10: 1
B11: 2 | C11: Potasu diwodorofosforan cz.d.a | D11: opakowanie 100g; równoważny produktowi CHEMPUR; okres ważności od daty dostawy min.2 lata | G11: op. | H11: 1
B12: 3 | C12: Wodorotlenek sodu cz.d.a | D12: opakowanie jednostkowe 50 g, równowazny produktowi CHEMPUR; okrez ważności od daty dostawy min. 2 lata | G12: op. | H12: 1
B13: 4 | C13: L-arginine monochloride | D13: opakowanie jednostkowe 25g, okres ważności od daty dostawy min.2 lata | G13: op. | H13: 1
B14: 5 | C14: Żelaza (II) siarczan 7 hydrat cz.d.a | D14: opakowanie jednostkowe250g; okres ważności od daty dostawy min. 2 lata, równoważny produktowi CHEMPUR | G14: op. | H14: 1
B15: 6 | C15: Sacharoza | D15: dla biochemii, opakowanie jednostkowe 10g, okres ważności od daty dostawy min. 2 lata, równoważny produktowi BTL | G15: op. | H15: 1
B16: 7 | C16: Maltoza | D16: dla biochemii, opakowanie jednostkowe 10g, okres ważności od daty dostawy min. 2 lata, równoważny produktowi Chempur | G16: op. | H16: 1
B17: 8 | C17: Cyjanek potasu | D17: opakowanie jednostkowe 100 g, okres ważności od daty dostawy min. 3 lata | G17: op. | H17: 1
B18: 9 | C18: L-Rhamnose monohydrate | D18: dla biochemii, opakowanie jednostkowe 10g, okres ważności od daty dostawy min. 2 lata, równoważny produktowi Sigma Aldrich | G18: op. | H18: 1
B19: 10 | C19: Płyn do przechowywania elektrod pehametrycznych | D19: opakowanie 500 ml, równoważny produktowi HI 70300L, okres ważności od daty dostawy min.2 lata | G19: op. | H19: 1
J20: =SUM(J10:J19) -> 0
A21: SBEK | B21: Do oferty przetargowej dla wszystkich pozycji należy dołączyć wymienione poniżej dokumenty lub wskazać określone adresy internetowe, ogólnodostępne i bezpłatne bazy danych gdzie zamawiający może je samodzielnie pobrać :
B22: 1. | C22: Dla pozycji 1-9 przykładowe certyfikaty jakości
B23: Czas realizacji: 14 dni od dnia złożenia zamówienia
B24: Do dostawy należy dostarczyć:
B25: 1. | C25: Dla każdej serii odczynnika należy dostarczyć certyfikat jakości lub świadectwo kontroli jakości w języku polskim, na którym będzie nr serii bądź partii oraz skład ilościowy, stopień zanieczyszczenia i data ważności odczynników
B26: 2. | C26: W dniu pierwszej dostawy należy bezpłatnie udostępnić kartę charakterystyki dostarczonej substancji lub preparatu, dla których jest ona wymagana oraz dokonywać jej aktualizacji i dystrybucji zgodnie z ustawą o substancjach chemicznych i ich mieszaninach (t.j. Dz. U. z 2020r. poz.2289 z poźn. zm.) i tytułem IV rozporządzenia REACH (WE) nr 987/2008
B27: 3. | C27: Przy każdej dostawie należy zapewnić prawidłowe oznakowanie opakowań substancji i preparatów, w tym również sklasyfikowanych jako niebezpieczne; substancje i preparaty chemiczne powinny być oznakowane w sposób widoczny, umożliwiający ich identyfikację i rodzaj stwarzanych przez nie zagrożeń (wskazanych przez wymagane znaki ostrzegawcze - piktogramy)
B28: Niniejszym podpisem potwierdzam parametry przedmiotu zamówienia
F29: …………………………………………………………………..
F30: podpis wykonawcy

Sheet Zad.2 Testy 
B1: Znak sprawy: OEA-ZP.272.1.1.2022 | I1: załącznik 1/2
B3: …………………………………………
B4: …………………………………………
B5: ………..…....………………………….
B6: dane wykonawcy
D7: FORMULARZ CENOWY
B8: Zadanie nr 2 - Testy
A9: Labora-torium | B9: lp. | C9: nazwa produktu | D9: szczegółowy opis przedmiotu zamówienia | E9: nazwa producenta/ dystrybutora/ importera | F9: nr katalogowy | G9: j.m. | H9: ilość | I9: cena jednostkowa brutto za j.m. | J9: wartość ogółem brutto
A10: SBEK | B10: 1 | C10: Test do wykrywania aktywności oksydazy cytochromowej wytwarzanej przez mikroorganizmy | D10: w postaci pasków ze strefą reakcyjną do wykrywania oksydazy; odczyt paska testowego natychmiast, nie później niż w przeciagu 1 minuty; opakowanie=50 pasków, Wymagane dokumenty:karta kontroli produktu i instrukcja wykonania testu w języku polskim; minimalny termin okresu przydatności min. 10 miesięcy od daty dostawy | G10: op. | H10: 2
A11: SBEK | B11: 2 | C11: Szybki test lateksowy do wykrywania i identyfikacji szczepów paciorkowców grupy A, B, C, D (w tym enterokoków), F i G wg Lancefield. | D11: test lateksowy (50 oznaczeń) do diagnostyki in vitro;na zestaw składa się:1) odczynnik lateksowy do wykrywania paciorkowców odpowiednio grupy A, B, C, D (oraz enterokoków), F i G - każdy w buteleczce z zakraplaczem; 2) antygen kontrolny - 1 fiolka ; 3) enzym do ekstrakcji 4) płytki do oznaczeń; 5) bagietki 6) zakraplacz - 1 sztuka; Wymagane dokumenty:1) karta produktu; instrukcja wykonania testu w języku polskim; minimalny termin okresu przydatności 9 miesięcy od daty dostawy | G11: zestaw | H11: 1
B12: 3 | C12: Szybki test lateksowy do identyfikacji Campylobacter spp. | D12: test lateksowy (50 oznaczeń) do diagnostyki in vitro; na zestaw gotowy do użycia składa się: odczynniki 1 i 2, lateksowy,kontrola dodatnia, jednorazowe karty reakcyjne, pałeczki do mieszania; Wymagane dokumenty:1) certyfikat jakości; instrukcja wykonania testu w języku polskim; minimalny termin okresu przydatności 9 miesięcy od daty dostawy | G12: zestaw | H12: 1
A13: SBEK | B13: 4 | C13: Test na hipuran sodu | D13: test do diagnostyki mikrobilogicznej - do wykrywania zdolności szczepów bakteryjnych do hydrolizy hipuranu; test na 50 oznaczeń w postaci pasków lub krążków identyfikacyjnch wraz z odczynnikiem do wywoływania reakcji; Wymagane dokumenty; 1) certyfikat jakości; instrukcja wykaonania testu; minimalny termin okresu przydatności 9 miesięcy od daty dostawy | G13: op. | H13: 1
B14: 5 | C14: Test na octan indoksylu (Indoxyl Test) | D14: test do diagnostyki mikrobilogicznej - do szybkiego wykrywania aktywności esterazy octanowej u bakterii, w tym Campylobacter; test na 50 oznaczeń; minimalny termin okresu przydatności 9 miesięcy od daty dostawy; Wymagane dokumenty; 1) certyfikat jakości; instrukcja wykonania testu; | G14: op. | H14: 1
B15: 6 | C15: Szybki test lateksowy do identyfikacji Staphylococcus aureus | D15: test lateksowy do diagnostyki in vitro; zestaw gotowy do użycia; Wymagane dokumenty:1) certyfikat jakości; instrukcja wykonania testu w języku polskim; minimalny termin okresu przydatności 9 miesięcy od daty dostaw | G15: op. | H15: 1
B16: 7 | C16: Test na katalazę | D16: w butelce z wkraplaczem, opakowanie = 10 ml; Wymagane dokumenty: 1) karta kontroli produktu, na której będzie umieszczona nazwa drobnoustrojów kontrolnych i data ważności produktu. Okres przydatności od daty dostawy minimum 10 miesięcy. | G16: op. | H16: 1
A17: SBMŻ | B17: 8 | C17: Test do wykrywania aktywności oksydazy cytochromowej wytwarzanej przez mikroorganizmy | D17: test w postaci pasków ze strefą reakcyjną do wykrywania oksydazy; odczyt paska testowego natychmiast, nie później niż w przeciągu 1 minuty; opakowanie = 50 pasków. Wymagane dokumenty: 1) karta kontroli produktu, na której będzie umieszczona nazwa drobnoustrojów kontrolnych i data ważności, 2) instrukcja wykonania testu w języku polskim. Okres przydatności od daty dostawy minimum 12 miesięcy. | G17: op. | H17: 1
B18: 9 | C18: Test ONPG | D18: test do diagnostyki mikrobiologicznej, do wykrywania aktywności β-galaktozydazy u Enterobactericeae; 1 opakowanie = 50 krążków. Wymagane dokumenty: 1) certyfikat jakości, na którym będzie umieszczona nazwa drobnoustrojów kontrolnych i data ważności, 2) instrukcja wykonania testu w języku polskim. Okres przydatności od daty dostawy minimum 8 miesięcy. | G18: op. | H18: 2
J19: =SUM(J10:J18) -> 0
A20: SBEK | B20: Do oferty przetargowej dla wszystkich pozycji należy dołączyć wymienione poniżej dokumenty lub wskazać określone adresy internetowe, ogólnodostępne i bezpłatne bazy danych gdzie zamawiający może je samodzielnie pobrać :
B21: 1. | C21: DLA KAŻDEJ POZYCJI PRZYKŁADOWE CERTYFIKATY zgodności z dyrektywą 98/79/ EC - CE na oferowane produkty
B22: 2. | C22: Instrukcję wykonania w języku polskim (zasada działania, przygotowanie, wykonanie oznaczenia, kontrola jakości oraz użyte szczepy testowe)
B23: 3. | C23: Zaktualizowane karty bezpieczeństwa produktu lub oświadczenie, że oferowane produkty nie podlegają ustawie osubstancjach chemicznych i ich mieszaninach (t.j. Dz. U. z 2020r., poz. 2289 z poźn. zm.)
B24: 4. | C24: Wykaz i nazwy substancji niebezpiecznych zawartych w poszczególnych odczynnikach (jeżeli nie występują – dołączyć oświadczenie)
C25: UWAGA! Dokumenty wymienione powyżej w punktach 1-4 przeznaczone są dla potrzeb laboratorium i należy skompletować je oddzielnie.
B26: Czas realizacji: 14 dni od dnia złożenia zamówienia
B27: Do dostawy należy dostarczyć:
B28: 1. | C28: Certyfikat jakości na oferowane produkty
B29: 2. | C29: Instrukcję wykonania w języku polskim (zasada działania, przygotowanie, wykonanie oznaczenia, kontrola jakości oraz użyte szczepy testowe)
A30: SBMŻ | B30: Do oferty przetargowej dla wszystkich pozycji należy dołączyć wymienione poniżej dokumenty lub wskazać określone adresy internetowe, ogólnodostępne i bezpłatne bazy danych gdzie zamawiający może je samodzielnie pobrać :
B31: 1. przykładowe certyfikaty jakości lub karty kontroli produktu
B32: 2. instrukcje wykonania w języku polskim
B33: 3. karty charakterystyki produktu lub oświadczenie, że oferowane produkty nie podlegają ustawie o substancjach chemicznych i ich mieszaninach (t.j. Dz. U. z 2020r. poz. 2289 z poźn. zm.)
B34: Czas realizacji: 14 dni od dnia złożenia zamówienia
B35: Do dostawy dla wszystkich pozycji należy dołączyć:
B36: 1. certyfikat jakości lub kartę kontroli produktu
B37: 2. Instrukcję wykonania w języku polskim
B38: Niniejszym podpisem potwierdzam parametry przedmiotu zamówienia
F39: …………………………………………………………………..
F40: podpis wykonawcy

Sheet Zad.3 Testy i roztwory 
B1: Znak sprawy: OEA-ZP.272.1.1.2022 | I1: załącznik 1/3
B3: …………………………………………
B4: …………………………………………
B5: ………..…....………………………….
B6: dane wykonawcy
D7: FORMULARZ CENOWY
B8: Zadanie nr 3- Testy i roztwory
A9: Laborat-orium | B9: lp. | C9: nazwa produktu | D9: szczegółowy opis przedmiotu zamówienia | E9: nazwa producenta/dystrybutora/importera | F9: nr katalogowy | G9: j.m. | H9: ilość | I9: cena jednostkowa brutto za j.m. | J9: wartość ogółem brutto
A10: SBW | B10: 1 | C10: Test -paski wskaźnikowe do kontroli warunków beztlenowych w woreczkach | D10: wyraźna (jednoznaczna) zmiana barwy wskaźnika przy przejściu z warunków tlenowych na beztlenowe i z beztlenowych na tlenowe; op.=50 szt. | G10: op | H10: 1
B11: 2 | C11: Test do wykrywania aktywności oxydazy cytochromowej wytwarzanej przez mikroorganizmy | D11: w postaci pasków ze strefą reakcyjną do wykrywania oksydazy; odczyt paska testowego natychmiast, nie później niż w przeciagu 1 minuty, przez porównanie paska testowego z kolorową skalą zamieszczoną na opakowaniu;opakowanie=50 pasków, Wymagane dokumenty:karta kontroli produktu i instrukcja wykonania testu w języku polskim; minimalny termin okresu przydatności min. 10 miesięcy od daty dostawy | G11: op | H11: 40
B12: 3 | C12: Odczynnik Kovacsa (do wykrywania indolu wytwarzanego przez mikroorganizmy przy identyfikacji drobnoustrojów) | D12: w butelce z wkraplaczem, 1opakowanie = 30 ml; karta kontroli produktu, na której będzie umieszczona nazwa drobnoustrojów kontrolnych i data ważności produktu; minimalny termin okresu przydatności min.14 miesięcy od daty dostawy. Równoważne produktowi nr katalogowy Merck 111350.0001 | G12: op | H12: 1
B13: 4 | C13: Test do oznaczeń wolnego chloru, metoda kolorymetryczna DPD | D13: Zakres testu 0,10-1,5 mg/l Cl2, równoważne produktowi Merck, nr. Katalogowy 1.11160.0001 | G13: op | H13: 1
B14: 5 | C14: Siarczany, test opakowanie uzupełniające do 1.14411.0001 | D14: Zestaw uzupełniający do testu do oznaczenia siarczanów w zakresie 25-300 mg/l SO4, równoważne produktowi Merck nr katalogowy 1.18467.0002 | G14: op | H14: 1
B15: 6 | C15: Test do oznaczeń cyjanków -metoda kolorymetryczna | D15: zakres testu 0,002-0,030 mg/l , równoważny produktowi Merck, MColortest TM, nr kat. 1.14417.0001 | G15: op | H15: 1
A16: SBMŻ | B16: 7 | C16: Odczynnik Kovacsa (do wykrywania indolu wytwarzanego przez mikroorganizmy przy identyfikacji drobnoustrojów) | D16: w butelce z wkraplaczem, opakowanie zawierające nie więcej niż 50 ml. Wymagane dokumenty: 1) karta kontroli produktu, na której będzie umieszczona nazwa drobnoustrojów kontrolnych, nr partii i data ważności produktu, 2) karta charakterystyki w języku polskim. Okres przydatności od daty dostawy minimum 14 miesięcy. | G16: op. | H16: 1
J17: =SUM(J10:J16) -> 0
A18: SBW SBMŻ | B18: Do oferty należy dołączyć:
B19: przykładowe certyfikaty jakości
B20: Czas realizacji: 21 dni od dnia złożenia zamówienia
B21: Do dostawy należy dostarczyć:
B22: 1. przykładowe certyfikaty jakości
B23: 2. karty charakterystyki w języku polskim
B24: 3. instrukcje wykonania w języku polskim
B26: Niniejszym podpisem potwierdzam parametry przedmiotu zamówienia
F29: …………………………………………………………………..
F30: podpis wykonawcy

Sheet Zad.4 Płytki do monitoringu
B1: Znak sprawy: OEA-ZP.272.1.1.2022 | I1: załącznik 1/4
B3: …………………………………………
B4: …………………………………………
B5: ………..…....………………………….
B6: dane wykonawcy
D7: FORMULARZ CENOWY
B8: Zadanie nr 4 - Płytki do monitoringu
A9: Labora-torium | B9: lp. | C9: nazwa produktu | D9: szczegółowy opis przedmiotu zamówienia | E9: nazwa producenta/ dystrybutora/ importera | F9: nr katalogowy | G9: j.m. | H9: ilość | I9: cena jednostkowa brutto za j.m. | J9: wartość ogółem brutto
A10: SBEK | B10: 1 | C10: Gotowe płytki odciskowe z agarem tryptozowo-sojowym (TSA) wraz z substancjami neutralizującymi do monitoringu czystości powierzchni (ogólna liczba drobnoustrojów) | D10: 1op=2 zestawy po 10 płytek potrójnie pakowanych i sterylizowanych promieniami gamma; Wymagane dokumenty: 1) certyfikat jakości, na którym będą wyniki sprawdzania wzrostów dla szczepów (między innymi Staphylococcus aureus, Escherichia coli, Pseudomonas aeruginosa) 2) karta charakterystyki produktu w języku polskim; min. termin okresu przydatności 6 miesięcy od daty dostawy, temp. przechowywania +15ºC do + 25 ºC; na każdej płytce podana musi być nazwa produktu, data ważności, nr partii, nr seryjny produktu; | G10: op. | H10: 14
A11: SBEK | B11: 2 | C11: Gotowe płytki odciskowe z agarem Sabouraud z 4% dekstrozą i netralizatorami do monitoringu czystości powierzchni (ogólna liczba pleśni i drożdży) | D11: 1op=2 zestawy po 10 płytek potrójnie pakowanych i sterylizowanych promieniami gamma; Wymagane dokumenty: 1) certyfikat jakości, na którym będą wyniki sprawdzania wzrostów dla szczepów (między innymi Sacharomyces cerevisiae ) 2) karta charakterystyki produktu w języku polskim; min.termin okresu przydatności 4 miesiące od daty dostawy, temp. przechowywania +15ºC do + 25º C; na każdej płytce podana musi być nazwa produktu, data ważności, nr partii, nr seryjny produktu; | G11: op. | H11: 14
A12: SBMŻ | B12: 3 | C12: Gotowe płytki odciskowe z agarem tryptozowo-sojowym (TSA) wraz z substancjami neutralizującymi do monitoringu czystości powierzchni (ogólna liczba drobnoustrojów) | D12: w opakowaniu zawierającym 2 zestawy po 10 płytek lub 4 zestawy po 5 płytek potrójnie pakowanych i sterylizowanych promieniami Gamma. Wymagane dokumenty: 1) certyfikat jakości, na którym będą wyniki sprawdzania wzrostów dla szczepów (m.in. Staphylococcus aureus, Escherichia coli, Pseudomonas aeruginosa), 2) karta charakterystyki produktu w języku polskim. Minimalny termin okresu przydatności 6 miesięcy od daty dostawy, temp. przechowywania +15ºC do +25 ºC; na każdej płytce musi być podana nazwa produktu, data ważności, nr partii, nr seryjny produktu. | G12: op. | H12: 10
B13: 4 | C13: Gotowe płytki odciskowe z agarem Sabouraud z 4% dekstrozą i nuetralizatorami do monitoringu czystości powierzchni (ogólna liczba pleśni i drożdży) | D13: w opakowaniu zawierającym 2 zestawy po 10 płytek lub 4 zestawy po 5 płytek potrójnie pakowanych i sterylizowanych promieniami Gamma. Wymagane dokumenty: 1) certyfikat jakości, na którym będą wyniki sprawdzania wzrostów dla szczepów (m.in. Saccharomyces cerevisiae); 2) karta charakterystyki produktu w języku polskim. Minimalny termin okresu przydatności 6 miesiący od daty dostawy, temp. przechowywania +15ºC do + 25º C; na każdej płytce musi być podana nazwa produktu, data ważności, nr partii, nr seryjny produktu. | G13: op. | H13: 10
A14: SBW | B14: 5 | C14: Gotowe płytki odciskowe z agarem tryptozowo-sojowym (TSA) wraz z substancjami neutralizującymi do monitoringu czystości powierzchni (ogólna liczba drobnoustrojów) | D14: 1op=2 zestawy po 10 płytekpotrójnie pakowanych i sterylizowanych promieniami gamma; Wymagane dokumenty: 1)certyfikat jakości, na którym będą wyniki sprawdzania wzrostów dla szczepów (między innymi Staphylococcus aureus, Escherichia coli, Pseudomonas aeruginosa) 2) karta charkaterystyki produktu w języku polskim; min.termin okresu przydatności7miesięcy od daty dostawy, temp. przechowywania +15ºC do + 25 ºC; na każdej płytce podana musi być nazwa produktu, data ważności, nr partii, nr seryjny produktu; | G14: op | H14: 12
J15: =SUM(J10:J14) -> 0
A16: SBEK | B16: Do oferty przetargowej dla wszystkich pozycji należy dołączyć wymienione poniżej dokumenty lub wskazać określone adresy internetowe, ogólnodostępne i bezpłatne bazy danych gdzie zamawiający może je samodzielnie pobrać :
B17: 1. | C17: przykładowe świadectwa jakości (certyfikaty ) dla wszystkich podłoży
B18: 2. | C18: instrukcje zawierające pełny opis i zastosowanie podłóż w języku polskim oraz barwne ulotki dla podłoży - oddzielnie dla każdego podłoża
B19: Czas realizacji: 14 dni od dnia złożenia zamówienia
B20: Do dostawy należy dostarczyć:
B21: 1. | C21: certyfikat jakości na podłoża zawierający informacje: nazwę produktu, nr serii zgodny z numerem podanym na płytce, data ważności, wyznaczniki pH, stopień odzysku drobnoustrojów z uwzględnieniem szczepów wymienionych w specyfikacji; temperaturę i czas inkubacji.
B22: 2. | C22: wymienione w specyfikacji szczepy kontrolne powinny pochodzić z uznanych kolekcji zapewniających utrzymanie spójności pomiarowej
B23: 3. | C23: dla pozycji wymaganych ustawą o substancjach chemicznych i ich mieszaninach (t.j.Dz.U. z 2020r., poz. 2289 z poźn. zm.) karty charakterystyk oraz oznakowanie opakowania pożywki jako niebezpiecznej
A24: SBMŻ | B24: Do oferty przetargowej dla wszystkich pozycji należy dołączyć wymienione poniżej dokumenty lub wskazać określone adresy internetowe, ogólnodostępne i bezpłatne bazy danych gdzie zamawiający może je samodzielnie pobrać :
B25: 1. przykładowe certyfikaty jakości
B26: 2. instrukcje zawierające pełny opis i zastosowanie podłóż w języku polskim oraz barwne ulotki dla podłoży - oddzielnie dla każdego podłoża.
B27: Czas realizacji: 14 dni od dnia złożenia zamówienia
B28: Do dostawy dla wszystkich pozycji należy dołączyć:
B29: 1. certyfikat jakości na podłoża zawierający informacje: nazwę produktu, nr serii zgodny z numerem podanym na płytce, data ważności, wyznaczniki pH, stopień odzysku drobnoustrojów z uwzględnieniem szczepów wymienionych w specyfikacji; temperaturę i czas inkubacji.
B30: 2. wymienione w specyfikacji szczepy kontrolne powinny pochodzić z uznanych kolekcji zapewniających utrzymanie spójności pomiarowej.
B31: 3. dla pozycji wymaganych ustawą o substancjach chemicznych i ich mieszninach (t.j.Dz.U. z 2020r., poz. 2289 z późn. zm.) karty charakterystyk
A32: SBW | B32: Do oferty przetargowej dla wszystkich pozycji należy dołączyć wymienione poniżej dokumenty lub wskazać określone adresy internetowe, ogólnodostępne i bezpłatne bazy danych gdzie zamawiający może je samodzielnie pobrać :
B33: 1. przykładowe certyfikaty jakości
B34: 2. instrukcje zawierające pełny opis i zastosowanie podłóż w języku polskim oraz barwne ulotki dla podłoży - oddzielnie dla każdego podłoża.
B35: Czas realizacji: 14 dni od dnia złożenia zamówienia
B36: Do dostawy dla wszystkich pozycji należy dołączyć:
B37: 1. certyfikat jakości na podłoża zawierający informacje: nazwę produktu, nr serii zgodny z numerem podanym na płytce, data ważności, wyznaczniki pH, stopień odzysku drobnoustrojów z uwzględnieniem szczepów wymienionych w specyfikacji; temperaturę i czas inkubacji.
B38: 2. wymienione w specyfikacji szczepy kontrolne powinny pochodzić z uznanych kolekcji zapewniających utrzymanie spójności pomiarowej.
B39: 3. dla pozycji wymaganych ustawą o substancjach chemicznych i ich mieszninach (t.j.Dz.U. z 2020r., poz. 2289 z późn. zm.) karty charakterystyk
B40: Niniejszym podpisem potwierdzam parametry przedmiotu zamówienia
F41: …………………………………………………………………..
...

Sheet Zad.5 Krążki diagnostyczne
B1: Znak sprawy: OEA-ZP.272.1.1.2022 | I1: załącznik 1/5
B3: …………………………………………
B4: …………………………………………
B5: ………..…....………………………….
B6: dane wykonawcy
D7: FORMULARZ CENOWY
B8: Zadanie nr 5 - Krążki diagnostyczne
A9: Labora-torium | B9: lp. | C9: nazwa produktu | D9: szczegółowy opis przedmiotu zamówienia | E9: nazwa producenta/ dystrybutora/ importera | F9: nr katalogowy | G9: j.m. | H9: ilość | I9: cena jednostkowa brutto za j.m. | J9: wartość ogółem brutto
A10: SBEK | B10: 1 | C10: Krążki diagnostyczne EF do różnicowania szczepów Enterococcus faecalis i Enterococcus faecium | D10: 1 opakowanie to 50 krążków; min. termin okresu przydatności 12 miesięcy od daty dostawy; Wymagane dokumenty: certyfikat jakości | G10: op. | H10: 1
B11: 2 | C11: Krążki diagnostyczne Op do różnicowania Streptococcus pneumoniae | D11: jak wyżej | G11: op. | H11: 1
B12: 3 | C12: Krążki diagnostyczne SP do różnicowania Streptococcus pyogenes | D12: jak wyżej | G12: op. | H12: 1
B13: 4 | C13: Krążki diagnostyczne F do różnicowania bakterii rodzaju Staphylococcus od Micrococcus | D13: jak wyżej | G13: op. | H13: 1
B14: 5 | C14: Krążki diagnostyczne N do identyfikacji Staphylococcus saprophyticus | D14: jak wyżej | G14: op. | H14: 1
B15: 6 | C15: Krążki diagnostyczne BC do różnicowania bakterii z rodzaju Moraxella od bakterii rodzaju Neisseria | D15: jak wyżej | G15: op. | H15: 1
B16: 7 | C16: Krążki diagnostyczne BV | D16: jak wyżej | G16: op. | H16: 1
B17: 8 | C17: Krążki diagnostyczne BX | D17: jak wyżej | G17: op. | H17: 1
B18: 9 | C18: Krążki diagnostyczne BVX | D18: jak wyżej | G18: op. | H18: 1
J19: =SUM(J10:J18) -> 0
A20: Wymagania dodatkowe 1. wszystkie krążki antybiogramowe powinny posiadać termin ważności minimum 2 lata i pochodzić od jednego producenta oraz że są konfekcjonowane w opakowania zawierające ilości nie większe niż w tabeli 2. krążki spełniają wymogi dla wyrobów do diagnostyki in vitro (Ustawa o wyrobach medycznych tj. Dz.U. z 2021r. poz. 1565 ) 3. każda fiolka z krążkami powinna być zapakowana w oddzielne, hermetycznie zamknięte opakowanie typu "blister" z pochłaniaczem wilgoci 4. każda fiolka musi posiadać etykietę z nazwą antybiotyku, jego stężeniem, datą ważności i numerem serii 5. na każdym pojedynczym krążku musi widnieć jego symbol i stężenie w µg 6. certyfikat jakości na krążki antybiogramowe musi zawierać kontrolę wysycenia krążka antybiotykiem 7. posiadają zaktualizowane karty bezpieczeństwa produktu lub oświadczenie, że oferowane produkty nie podlegają ustawie o substancjach chemicznych i ich mieszaninach (t.j.Dz.U. z 2020r. poz.2289)
A21: SBEK | B21: Do oferty przetargowej dla wszystkich pozycji należy dołączyć wymienione poniżej dokumenty lub wskazać określone adresy internetowe, ogólnodostępne i bezpłatne bazy danych gdzie zamawiający może je samodzielnie pobrać :
B22: 1. certyfikat zgodności z dyrektywą 98/79/ EC - CE na oferowane produkty 2. zaktualizowane karty bezpieczeństwa produktu lub oświadczenie, że oferowane produkty nie podlegają ustawie 3. wykaz i nazwy substancji niebezpiecznych zawartych w poszczególnych odczynnikach (jeżeli nie występują – dołączyć oświadczenie) 4. instrukcje użytkowania krążków diagnostycznych 5. pozytywną opinię Krajowego Ośrodka ds. Lekowrażliwości Drobnoustrojów lub innego równoważnego o oferowanych krążkach antybiogramowych UWAGA! Dokumenty wymienione powyżej w punktach 1-5 przeznaczone są dla potrzeb laboratorium i należy skompletować je oddzielnie.
B23: Czas realizacji: 14 dni od dnia złożenia zamówienia
B24: Do dostawy należy dostarczyć:
B25: 1. certyfikat jakości
B26: 2. instrukcje użytkowania krążków diagnostycznych
B27: Niniejszym podpisem potwierdzam parametry przedmiotu zamówienia
F28: …………………………………………………………………..
F29: podpis wykonawcy

Sheet Zad.6 Podłoża sypkie i supl
B1: Znak sprawy: OEA-ZP.272.1.1.2022 | I1: załącznik 1/6
B3: …………………………………………
B4: …………………………………………
B5: ………..…....………………………….
B6: dane wykonawcy
D7: FORMULARZ CENOWY
B8: Zadanie nr 6 - Podłoża sypkie i suplementy
A9: Labora-torium | B9: lp. | C9: nazwa produktu | D9: szczegółowy opis przedmiotu zamówienia | E9: nazwa producenta/ dystrybutora/ importera | F9: nr katalogowy | G9: j.m. | H9: ilość | I9: cena jednostkowa brutto za j.m. | J9: wartość ogółem brutto
A10: SBEK | B10: 1 | C10: Salmonella-Shigella agar (agar SS) | D10: podłoże sypkie ; podłoże wybiórcze do izolacji pał. Salmonella i Shigella z kału i poduktów spożywczych; wydajność 60 g/litr; w opakowaniu jednostkowym po 500g; z tej samej serii; na opakowaniu musi być umieszczony skład podłoża. Wymagane dokumenty: 1) certyfikat jakości, na którym będzie umieszczona nazwa szczepu testowego (między innymi Salmonella typhimurium, Shigella flexneri, Salmonella Enteritidis, Proteus mirabilis, E.coli, E. faecalis, K .pneumoniae, S. virchow, S. dysenteriae, P. aeruginosa), opis wyglądu kolonii oraz stopień odzysku drobnoustrojów; 2) instrukcja wykonania w języku polskim; 3) karta charakterystyki produktu; minimalny termin okresu przydatności 42 miesiące od daty dostawy | G10: op. | H10: 15
B11: 2 | C11: Hektoen enteric agar | D11: podłoże sypkie; podłoże do wykrywania i izolowania drobnoustrojów z rodziny Enterobacteriaceae, szczególnie do wykrywania pałeczek Salmonella i Shigella z produktów spożywczych, materiałów klinicznych i innych materiałów; wydajność 75 g/litr; w opakowaniu jednostkowym po 500g; z tej samej serii; na opakowaniu musi być umieszczony skład podłoża. Wymagane dokumenty:1) certyfikat jakości, na którym będzie umieszczona nazwa szczepu testowego (między innymi Escherichia coli, Klebsiella pneumoniae, Salmonella typhimurium, Salmonella Enteritidis, Shigella flexneri, Shigella sonnei, Proteus mirabilis, Enterococcus faecalis, P.aeruginosa, S.dysenteriae, S.poona), opis wyglądu kolonii oraz stopień odzysku drobnoustrojów;2) instrukcja wykonania w języku polskim; 3) karta charakterystyki produktu; minimalny termin okresu przydatności 42 miesiące od daty dostawy | G11: op. | H11: 15
A12: SBEK | B12: 3 | C12: Pożywka z seleninem sodu (SF) | D12: podłoże sypkie; podłoże do selektywnego namnażania pałeczek Salmonella; skład na 1000ml wody: diwodorofosforan sodu 1g, kwaśny selenin sodu 4g, wodorofosforan sodu 10g, pepton kazeinowy (tryptone T) 5g, laktoza 4g;pH = 7,0 ± 0,2; w opakowaniu jednostkowym po 500g; z tej samej serii; na opakowaniu musi być umieszczony skład podłoża. Wymagane dokumenty: 1) certyfikat jakości, na którym będzie umieszczona nazwa szczepu testowego, opis wyglądu kolonii oraz stopień odzysku drobnoustrojów; 2) instrukcja wykonania w języku polskim; 3) karta charakterystyki produktu; minimalny termin okresu przydatności 42 miesiące od daty dostawy | G12: op. | H12: 4
A13: SBW | B13: 4 | C13: Nutrient Difco agar 1,5% | D13: podłoże sypkie służące do przechowywania szczepów bakteryjnych; w opakowaniu jednostkowym po 500g; na opakowaniu musi być umieszczony skład podłoża. minimalny termin okresu przydatności 4 lata od daty dostawy,certyfikat jakości, na którym będzie umieszczona informacja o trwałości podłoża, nazwy szczepów kontrolnych, nazwa pożywki referencyjnej użytej przy kontroli podłoża, | G13: op | H13: 1
J14: =SUM(J10:J13) -> 0
A15: SBEK | B15: Do oferty przetargowej dla wszystkich pozycji należy dołączyć wymienione poniżej dokumenty lub wskazać określone adresy internetowe, ogólnodostępne i bezpłatne bazy danych gdzie zamawiający może je samodzielnie pobrać :
B16: 1. przykładowe świadectwa jakości (certyfikaty ) dla wszystkich podłoży i dodatków do podłoży (1-5) 2. certyfikat zarządzania jakością dla wyrobów medycznych np. ISO13485 3. wymienione w specyfikacji szczepy kontrolne powinny pochodzić z uznanych kolekcji zapewniających utrzymanie spójności pomiarowej 4. zaktualizowane karty bezpieczeństwa produktu lub oświadczenie, że oferowane produkty nie podlegają ustawie 5. wykaz i nazwy substancji niebezpiecznych zawartych w poszczególnych odczynnikach(jeżeli nie występują – dołączyć oświadczenie) 6. instrukcje zawierające pełny opis i zastosowanie podłóż w języku polskim – oddzielnie dla każdego podłoża UWAGA! Dokumenty wymienione powyżej w punktach 1-6 przeznaczone są dla potrzeb laboratorium i należy skompletować je oddzielnie.
B17: Czas realizacji: 14 dni od dnia złożenia zamówienia
B18: Do dostawy należy dostarczyć:
B19: 1 | C19: świadectwa jakości (certyfikaty ) dla wszystkich podłoży i suplementów oraz instrukcje przygotowania podłoży w języku polskim
A20: SBW | B20: Do oferty należy dołączyć:
B21: 1. Certyfikat jakości oraz kartę kontroli produktu zawierającą datę ważności dostarczonego produktu, na której również będzie umieszczona informacja o trwałości podłoża, warunkach przechowywania, nazwa drobnoustojów kontrolnych, nazwa pożywki referencyjnej użytej przy kontroli podłoża,, opis wyglądu oraz stopień odzysku drobnoustrojów .
B22: 2.certyfikat zarządzania jakością producenta i dystrybutora (wykonawcy) np. ISO 9001;
B23: 3.certyfikat kontroli jakości pożywek mikrobiologicznych zgodnie z wymaganiami normy PN-EN ISO 11133
B24: Czas realizacji: 14 dni od dnia złożenia zamówienia
B25: Do dostawy należy dostarczyć:
B26: 1. Certyfikat jakości oraz kartę kontroli produktu zawierającą datę ważności dostarczonego produktu, na której również będzie umieszczona informacja o trwałości podłoża, warunkach przechowywania, nazwa drobnoustojów kontrolnych, nazwa pożywki referencyjnej użytej przy kontroli podłoża,, opis wyglądu oraz stopień odzysku drobnoustrojów .
B27: 2. Instrukcje przygotowania w języku polskim z podanym terminem trwałości podłoża po przygotowaniu.
B28: 3. Wymienione w specyfikacji szczepy kontrolne powinny pochodzić z uznanych kolekcji zapewniających utrzymanie spójności pomiarowej
B29: 4.Dołączyć karty charakterystyki produktu oraz oznakowanie opakowania podłoża jako niebezpiecznego
B31: Niniejszym podpisem potwierdzam parametry przedmiotu zamówienia
F32: …………………………………………………………………..
F33: podpis wykonawcy

Sheet Zad.7 Podłoża sypkie 
B1: Znak sprawy: OEA-ZP.272.1.1.2022 | I1: załącznik 1/7
B3: …………………………………………
B4: …………………………………………
B5: ………..…....………………………….
B6: dane wykonawcy
D7: FORMULARZ CENOWY
B8: Zadanie nr 7 - Podłoża sypkie
A9: Laborat-orium | B9: lp. | C9: nazwa produktu | D9: szczegółowy opis przedmiotu zamówienia | E9: nazwa producenta/dystrybutora/importera | F9: nr katalogowy | G9: j.m. | H9: ilość | I9: cena jednostkowa brutto za j.m. | J9: wartość ogółem brutto
A10: SBMŻ | B10: 1 | C10: Podłoże agarowe MYP wg Mossela (podstawowe) | D10: podłoże sypkie; skład zgodny z normą PN-EN ISO 7932; w opakowaniu jednostkowym po 500 g; na opakowaniu musi być instrukcja w języku polskim wykonania podłoża; Wymagane dokumenty: 1) karta kontroli produktu, na której będzie umieszczona informacja o trwałości podłoża oraz nazwa drobnoustrojów kontrolnych; minimalny termin okresu przydatności 2 lata od daty dostawy. | G10: op. | H10: 1
B11: 2 | C11: Podłoże trójcukrowe z cytrynianem żelaza (TSI) | D11: podłoże sypkie; skład zgodny z normą PN-EN ISO 6579; wydajność 67,6 g/litr; w opakowaniu jednostkowym 250g; na opakowaniu musi być instrukcja w języku polskim wykonania podłoża; Wymagane dokumenty: 1) karta kontroli produktu, na której będzie umieszczona informacja o trwałości podłoża oraz nazwa drobnoustrojów kontrolnych; 2) karta charakterystyki produktu; minimalny termin okresu przydatności 2 lata od daty dostawy. | G11: op. | H11: 1
B12: 3 | C12: Siarczan polimyksyny B - 1 000 000 IU | D12: Siarczan polimyksyny B 1 000 000 IU; 1 op. = 106 IU; Wymagane dokumenty: 1) karta kontroli produktu; 2) karta charakterysytyki produktu; minimalny termin okresu przydatności 18 miesięcy od daty dostawy. | G12: op. | H12: 3
B13: 4 | C13: Emulsja żółtka jaja kurzego | D13: jałowa, bez tellurynu - do pożywki Baird - Parkera oraz do pożywki MYP; certyfikat jakości; opakowanie jednostkowe = butelka 100 ml; z tej samej serii; termin ważności minimum 11 miesięcy od daty dostawy. | G13: butel-ka (100 ml) | H13: 15
B14: 5 | C14: Podłoże do wykrywania dekarboksylacji L-lizyny | D14: podłoże sypkie; skład zgodny z PN-EN ISO 6579-1; w opakowaniu jednostkowym po 100 g; Wymagane dokumenty: 1) karta kontoli produktu, na której będzie umieszczona informacja o trwałości podłoża oraz nazwa drobnoustojów kontrolnych; 2) karta charakterystyki produktu; minimalny termin okresu przydatności 2 lata od daty dostawy. | G14: op. | H14: 1
B15: 6 | C15: Zbuforowany roztwór soli fizjologicznej (PBS) | D15: podłoże sypkie; skład (g/l): chlorek sodu 8,50g, wodorofosforan disodu 8,98g, diwodorofosforan sodu 2,71g; wydajność 20,2 g/l; w opakowaniu jednostkowym 500g; z tej samej serii; na opakowaniu musi być instrukcja w języku polskim wykonania podłoża; Wymagane dokumenty: 1) karta kontroli produktu, na której będzie umieszczona informacja o trwałości podłoża oraz nazwa drobnoustrojów kontrolnych (m.in. Escherichia coli); minimalny termin okresu przydatności 3 lata od daty dostawy. | G15: op. | H15: 2
B16: 7 | C16: Podłoże z mocznikiem wg Christensena | D16: podłoże sypkie; skład zgodny z normą PN-EN ISO 6579-1; wydajność 44g/litr; w opakowaniu jednostkowym 250g; na opakowaniu musi być instrukcja wykonania podłoża w języku polskim. Wymagane dokumenty: 1) karta kontroli produktu, na której będzie umieszczona informacja o trwałości podłoża oraz nazwa drobnoustrojów kontrolnych; 2) karta charakterystyki produktu; minimalny termin okresu przydatności 2 lata od daty dostawy. | G16: op. | H16: 1
B17: 8 | C17: Agar kazeinowo-sojowy do wykrywania pirazynamidazy | D17: podłoże sypkie; skład zgodny z normą PN-EN ISO 10273; w opakowaniu jednostkowym 100g; na opakowaniu musi być instrukcja w języku polskim wykonania podłoża; Wymagane dokumenty: 1) karta kontroli produktu, na której będzie umieszczona informacja o trwałości podłoża oraz nazwa drobnoustrojów kontrolnych; 2) karta charakterystyki produktu; minimalny termin okresu przydatności 3 lata od daty dostawy. | G17: op. | H17: 1
B18: 9 | C18: Woda tryptonowa | D18: podłoże sypkie; skład zgodny z normą PN ISO 7251; w opakowaniu jednostkowym 100g; na opakowaniu musi być instrukcja w języku polskim wykonania podłoża; Wymagane dokumenty: 1) karta kontroli produktu, na której będzie umieszczona informacja o trwałości podłoża oraz nazwa drobnoustrojów kontrolnych; 2) karta charakterystyki produktu; minimalny termin okresu przydatności 2 lata od daty dostawy. | G18: op. | H18: 1
B19: 10 | C19: Woda peptonowa z tryptofanem | D19: podłoże sypkie; podłoże przeznaczone do hodowli przy różnicowaniu bakterii z grupy coli - test na wytwarzanie indolu; wydajność 16g/litr; w opakowaniu jednostkowym po 100 g; na opakowaniu musi być instrukcja w języku polskim wykonania podłoża; Wymagane dokumenty: 1) karta kontroli produktu, na której będzie umieszczona informacja o trwałości podłoża oraz nazwa drobnoustrojów kontrolnych; 2) karta charakterystyki produktu; minimalny termin okresu przydatności 2 lata od daty dostawy. | G19: op. | H19: 1
B20: 11 | C20: Płyn do rozcieńczeń | D20: podłoże sypkie; do przygotowania izotonicznego roztworu do rozcieńczeń, stwarzający optymalne warunki przeżywalności mikroorganizmów. Skład (g/l): Enzymatyczny hydrolizat kazeiny 1,0g, Chlorek sodu 8,5g. Opakowanie jednostkowe: 500g. Wymagane dokumenty: 1) certyfikat jakości, na którym będzie umieszczona informacja o trwałości podłoża oraz nazwa drobnoustrojów kontrolnych (m.in. Escherichia coli), 2) Instrukcja przygotowania podłoża w języku polskim; minimalny termin okresu przydatności 3 lata od daty dostawy. | G20: op. | H20: 2
B21: 12 | C21: Agar odżywczy wg ISO 21528 | D21: podłoże sypkie; w opakowaniu jednostkowym 250g; na opakowaniu musi być instrukcja w języku polskim wykonania podłoża; Wymagane dokumenty: 1) karta kontroli produktu, na której będzie umieszczona informacja o trwałości podłoża oraz nazwa drobnoustrojów kontrolnych; 2) karta charakterystyki produktu; minimalny termin okresu przydatności 2 lata od daty dostawy. | G21: op. | H21: 1
A22: SBEK | B22: 13 | C22: Bulion kazeinowo-sojowy (TSB) | D22: podłoże sypkie; podłoże uniwersalne do hodowli i namnażania mikroorganizmów; skład: pepton K, pepton SP, glukoza, chlorek sodu, wodorofosforan dipotasu; wydajność 30g/litr; w opakowaniu jednostkowym po 500 g; na opakowaniu musi być instrukcja w języku polskim wykonania podłoża; Wymagane dokumenty: 1)karta kontroli produktu, na której będzie umieszczona informacja o trwałości podłoża oraz nazwa drobnoustrojów kontrolnych; 2) karta charakterystyki produktu; minimalny termin okresu przydatności 2 lata od daty dostawy | G22: op. | H22: 1
B23: 14 | C23: Pożywka podstawowa OF według Hugh-Leifsona | D23: podłoże sypkie do wykrywania tlenowego lub beztlenowego rozkładu węglowodanów - glukozy;w opakowaniu jednostkowym po 100g; Wymagane dokumenty: 1)karta kontroli produktu, na której będzie umieszczona informacja o trwałości podłoża oraz nazwa drobnoustrojów kontrolnych; 2) karta charakterystyki produktu; minimalny termin okresu przydatności 2 lata od daty dostawy | G23: op. | H23: 1
B24: 15 | C24: Laktoza 1-hydrat cz.d.a | D24: w opakowaniu jednostkowym po 250 g; Wymagane dokumenty: 1)certyfikat jakości; 2)karta charakterystyki produktu; minimalny termin okresu przydatności 2 lata od daty dostawy | G24: op. | H24: 1
B25: 16 | C25: Podłoże z mocznikiem wg Christensena w modyfikacji Hormaeche i Munilla | D25: podłoże sypkie; skład zgodny z normą PN-EN ISO 6579-1; wydajność 44g/litr; w opakowaniu jednostkowym 250g; na opakowaniu musi być instrukcja w języku polskim wykonania podłoża; Wymagane dokumenty: 1) karta kontroli produktu, na której będzie umieszczona informacja o trwałości podłoża oraz nazwa drobnoustrojów kontrolnych; 2) karta charakterystyki produktu; minimalny termin okresu przydatności 2 lata od daty dostawy. | G25: op. | H25: 1
J26: =SUM(J11:J25) -> 0
A27: SBMŻ | B27: Do oferty przetargowej dla wszystkich pozycji należy dołączyć wymienione poniżej dokumenty lub wskazać określone adresy internetowe, ogólnodostępne i bezpłatne bazy danych gdzie zamawiający może je samodzielnie pobrać :
B28: 1. przykładowe certyfikaty jakości dla wszystkich podłoży
B29: 2. certyfikat zarządzania jakością ISO 9001
B30: 3.wymienione w specyfikacji szczepy kontrolne powinny pochodzić z uznanych kolekcji zapewniających utrzymanie spójności pomiarowej
B31: 4. zaktualizowane karty bezpieczeństwa produktu lub oświadczenie, że oferowane produkty nie podlegają ustawie.
B32: 5. wykaz i nazwy substancji niebezpiecznych zawartych w poszczególnych odczynnikach (jeżeli nie występują – dołączyć oświadczenie)
B33: 6. instrukcje zawierające pełny opis i zastosowanie podłóż w języku polskim – oddzielnie dla każdego podłoża.
B34: Czas realizacji: 14 dni od dnia złożenia zamówienia
B35: Do dostawy należy dostarczyć:
B36: 1.certyfikaty jakości dla wszystkich podłoży oraz instrukcje przygotowania podłoży w języku polskim
B37: 2. Zamawiajacy zastrzega sobie prawo opcji zmniejszenia zamówienia o nie więcej niż 20%.
A38: SBEK | B38: Do oferty przetargowej dla wszystkich pozycji należy dołączyć wymienione poniżej dokumenty lub wskazać określone adresy internetowe, ogólnodostępne i bezpłatne bazy danych gdzie zamawiający może je samodzielnie pobrać :
B39: 1. | C39: przykładowe świadectwa jakości (certyfikaty ) dla wszystkich podłoży i suplementów
B40: 2. | C40: certyfikat zarządzania jakością dla wyrobów medycznych np. ISO 9001
B41: 3. | C41: wymienione w specyfikacji szczepy kontrolne powinny pochodzić z uznanych kolekcji zapewniających utrzymanie spójności pomiarowej
...

Sheet Zad.8 Płytki Petriego
B1: Znak sprawy: OEA-ZP.272.1.1.2022 | I1: załącznik 1/8
B3: …………………………………………
B4: …………………………………………
B5: ………..…....………………………….
B6: dane wykonawcy
D7: FORMULARZ CENOWY
B8: Zadanie nr 8 - Płytki Petriego
A9: Labora-torium | B9: lp. | C9: nazwa produktu | D9: szczegółowy opis przedmiotu zamówienia | E9: nazwa producenta/dystrybutora/importera | F9: nr katalogowy | G9: j.m. | H9: ilość | I9: cena jednostkowa brutto za j.m. | J9: wartość ogółem brutto
A10: SBEK | B10: 1 | C10: Płytki Petriego STERYLNE jednorazowego użytku o wymiarach: zewnętrzna średnica pokrywki {mm} 90-90 i wysokość {mm} 14-16,2 | D10: z polistyrenu; z trzema żebrami wentylacyjnymi; pakowane maksymalnie po 25 sztuk w rękawie; na każdym rękawie oraz na opakowaniu transportowym musi być umieszczony termin ważnosci sterylności oraz numer serii produktu; ze świadectwem sterylności z datą ważności sterylności; minimalny termin okresu przydatności 18 miesięcy od daty dostawy | G10: szt. | H10: 12000
A11: SBMŻ | B11: 2 | C11: Płytki Petriego STERYLNE jednorazowego użytku o wymiarach: średnica {mm} 90 i wysokość {mm} 14-16,2 | D11: z trzema żebrami wentylacyjnymi; pakowane maksymalnie po 25 sztuk w rękawie; na każdym rękawie i na opakowaniu transportowym musi być umieszczona etykieta z numerem serii produktu i datą ważności sterylności. Wymagane dokumenty: świadectwo sterylności z datą ważności sterylności. Płytki z terminem ważności minimum 2 lata od daty dostawy. | G11: szt. | H11: 5000
A12: SBW | B12: 3 | C12: Płytki Petriego STERYLNE jednorazowego użytku o wymiarach: zewnętrzna średnica pokrywki {mm} 90-90 i wysokość {mm} 14-16,2 | D12: z trzema żebrami wentylacyjnymi;pakowane maksymalnie po 25 sztuk w rękawie; na każdym rękawie oraz na opakowaniu transportowym musi być umieszczony termin ważnosci sterylności oraz numer serii produktu; ze świadectwem sterylności z datą ważności sterylności; minimalny termin okresu przydatności 2 lata od daty dostawy | G12: szt | H12: 6000
B13: 4 | C13: Płytki Petriego STERYLNE jednorazowego użytku o wymiarach: wysokość {mm} min 14; średnica dolnej płytki {mm} 55 | D13: z trzema żebrami wentylacyjnymi;pakowane maksymalnie po 25 sztuk w rękawie; na każdym rękawie oraz na opakowaniu transportowym musi być umieszczony termin ważnosci sterylności oraz numer serii produktu; ze świadectwem sterylności z datą ważności sterylności; minimalny termin okresu przydatności 2 lata od daty dostawy | G13: szt | H13: 5000
J14: =SUM(J10:J13) -> 0
A15: SBEK | B15: Do oferty przetargowej dla wszystkich pozycji należy dołączyć wymienione poniżej dokumenty lub wskazać określone adresy internetowe, ogólnodostępne i bezpłatne bazy danych gdzie zamawiający może je samodzielnie pobrać :
B16: 1.przykladowe świadectwo sterylności
B17: Czas realizacji: 14 dni od dnia złożenia zamówienia
B18: Do dostawy należy dostarczyć:
B19: 1. świadectwo sterylności
A20: SBMŻ | B20: Do oferty przetargowej dla wszystkich pozycji należy dołączyć wymienione poniżej dokumenty lub wskazać określone adresy internetowe, ogólnodostępne i bezpłatne bazy danych gdzie zamawiający może je samodzielnie pobrać :
B21: 1. przykładowe świadectwo sterylności
B22: Czas realizacji: 14 dni od dnia złożenia zamówienia
B23: Do dostawy dla wszystkich pozycji należy dołączyć:
B24: 1. świadectwa sterylności.
A25: SBW | B25: Do oferty należy dołączyć:
B26: świadectwa sterylności dla każdej pozycji
B27: Czas realizacji: 14 dni od dnia złożenia zamówienia
B28: Do dostawy należy dostarczyć:
B29: 1.świadectwa sterylności
B30: Niniejszym podpisem potwierdzam parametry przedmiotu zamówienia
F31: …………………………………………………………………..
F32: podpis wykonawcy

Sheet Zadanie 9_Surowice diagnost.
B1: Znak sprawy: OEA-ZP.272.1.1.2022 | I1: załącznik 1/9
B3: …………………………………………
B4: …………………………………………
B5: ………..…....………………………….
B6: dane wykonawcy
D7: FORMULARZ CENOWY
B8: Zadanie nr 9 - Surowice diagnostyczne
A9: Labora-torium | B9: lp. | C9: nazwa produktu | D9: szczegółowy opis przedmiotu zamówienia | E9: nazwa producenta/ dystrybutora/ importera | F9: nr katalogowy | G9: j.m. | H9: ilość | I9: cena jednostkowa brutto za j.m. | J9: wartość ogółem brutto
A10: SBEK | B10: 1 | C10: SUROWICA DIAGNOSTYCZNA SALMONELLA DO AGLUTYNACJI SZKIEŁKOWEJ - Surowica HM | D10: w buteleczkach z zakraplaczem po 5 ml ; certyfikat dopuszczenia do obrotu; karta charakerystyki produktu w języku polskim; instrukcja wykonania; min. termin okresu przydatności 18 miesięcy od daty dostawy | G10: szt. | H10: 2
B11: 2 | C11: SUROWICA DIAGNOSTYCZNA SALMONELLA DO AGLUTYNACJI SZKIEŁKOWEJ - Surowica Hgm | D11: w buteleczkach z zakraplaczem po 5 ml ; certyfikat dopuszczenia do obrotu; karta charakerystyki produktu w języku polskim; instrukcja wykonania; min. termin okresu przydatności 18 miesięcy od daty dostawy | G11: szt. | H11: 2
B12: 3 | C12: SUROWICA DIAGNOSTYCZNA SALMONELLA DO AGLUTYNACJI SZKIEŁKOWEJ - Surowica O46 | D12: w buteleczkach z zakraplaczem po 5 ml ; certyfikat dopuszczenia do obrotu; karta charakerystyki produktu w języku polskim; instrukcja wykonania; min. termin okresu przydatności 18 miesięcy od daty dostawy | G12: szt. | H12: 1
B13: 4 | C13: SUROWICA DIAGNOSTYCZNA SALMONELLA DO AGLUTYNACJI SZKIEŁKOWEJ - Surowica Hq(ku) | D13: w buteleczkach z zakraplaczem po 5 ml ; certyfikat dopuszczenia do obrotu; karta charakerystyki produktu w języku polskim; instrukcja wykonania; min. termin okresu przydatności 18 miesięcy od daty dostawy | G13: szt. | H13: 1
B14: 5 | C14: SUROWICA DIAGNOSTYCZNA SALMONELLA DO AGLUTYNACJI SZKIEŁKOWEJ - Surowica DO | D14: w buteleczkach z zakraplaczem po 5 ml ; certyfikat dopuszczenia do obrotu; karta charakerystyki produktu w języku polskim; instrukcja wykonania; min. termin okresu przydatności 18 miesięcy od daty dostawy | G14: szt. | H14: 1
B15: 6 | C15: SUROWICA DIAGNOSTYCZNA SALMONELLA DO AGLUTYNACJI SZKIEŁKOWEJ - Surowica O4 | D15: w buteleczkach z zakraplaczem po 5 ml ; certyfikat dopuszczenia do obrotu; karta charakerystyki produktu w języku polskim; instrukcja wykonania; min. termin okresu przydatności 18 miesięcy od daty dostawy | G15: szt. | H15: 1
B16: 7 | C16: SUROWICA DIAGNOSTYCZNA DO AGLUTYNACJI SZKIEŁKOWEJ Shigella boydii 1-7 | D16: w buteleczkach z zakraplaczem po 5 ml ; certyfikat dopuszczenia do obrotu; karta charakerystyki produktu w języku polskim; instrukcja wykonania; min. termin okresu przydatności 1 rok od daty dostawy | G16: szt. | H16: 1
B17: 8 | C17: SUROWICA DIAGNOSTYCZNA DO AGLUTYNACJI SZKIEŁKOWEJ Shigella boydii 8-11 | D17: w buteleczkach z zakraplaczem po 5 ml ; certyfikat dopuszczenia do obrotu; karta charakerystyki produktu w języku polskim; instrukcja wykonania; min. termin okresu przydatności 1 rok od daty dostawy | G17: szt. | H17: 1
B18: 9 | C18: SUROWICA DIAGNOSTYCZNA DO AGLUTYNACJI SZKIEŁKOWEJ Shigella boydii 12-15 | D18: w buteleczkach z zakraplaczem po 5 ml ; certyfikat dopuszczenia do obrotu; karta charakerystyki produktu w języku polskim; instrukcja wykonania; min. termin okresu przydatności 1 rok od daty dostawy | G18: szt. | H18: 1
B19: 10 | C19: SUROWICA DIAGNOSTYCZNA DO AGLUTYNACJI SZKIEŁKOWEJ Shigella sonnei I,II f | D19: w buteleczkach z zakraplaczem po 5 ml ; certyfikat dopuszczenia do obrotu; karta charakerystyki produktu w języku polskim; instrukcja wykonania; min. termin okresu przydatności 1 rok od daty dostawy | G19: szt. | H19: 1
B20: 11 | C20: SUROWICA DIAGNOSTYCZNA DO AGLUTYNACJI SZKIEŁKOWEJ Shigella flexneri | D20: w buteleczkach z zakraplaczem po 5 ml ; certyfikat dopuszczenia do obrotu; karta charakerystyki produktu w języku polskim; instrukcja wykonania; min. termin okresu przydatności 1 rok od daty dostawy | G20: szt. | H20: 1
B21: 12 | C21: SUROWICA DIAGNOSTYCZNA DO AGLUTYNACJI SZKIEŁKOWEJ Shigella dysenteriae 1 | D21: w buteleczkach z zakraplaczem po 5 ml ; certyfikat dopuszczenia do obrotu; karta charakerystyki produktu w języku polskim; instrukcja wykonania; min. termin okresu przydatności 1 rok od daty dostawy | G21: szt. | H21: 1
B22: 13 | C22: SUROWICA DIAGNOSTYCZNA DO AGLUTYNACJI SZKIEŁKOWEJ Shigella dysenteriae 2 | D22: w buteleczkach z zakraplaczem po 5 ml ; certyfikat dopuszczenia do obrotu; karta charakerystyki produktu w języku polskim; instrukcja wykonania; min. termin okresu przydatności 1 rok od daty dostawy | G22: szt. | H22: 1
... B24: 15 | C24: Osocze królicze liofilizowane | D24: w ampułkach po 2 ml; 1 op. to 10 ampułek; Wymagane dokumenty; 1) certyfikat dopuszczenia do obrotu; minimalny termin okresu przydatności 6 m-cy od daty dostawy | G24: op. | H24: 1
A25: SBMŻ | B25: 16 | C25: Surowica diagnostyczna Salmonella do aglutynacji szkiełkowej - Surowica DO | D25: Surowica do wykrywania antygenów somatycznych szczepów Salmonella (zakwalifikowania szczepu do grupy serologicznej zgodnie ze schematem White'a-Kaufmanna Le Minora) w buteleczkach z zakraplaczem po 5 ml. Wymagane dokumenty: certyfikat dopuszczenia do obrotu; karta charakterystyki; instrukcja wykonania w języku polskim; minimalny termin okresu przydatności 18 miesięcy od daty dostawy. | G25: butelka a'5 ml | H25: 1
B26: 17 | C26: Surowica diagnostyczna Salmonella do aglutynacji szkiełkowej - Surowica BO | D26: Surowica do wykrywania antygenów somatycznych szczepów Salmonella (zakwalifikowania szczepu do grupy serologicznej zgodnie ze schematem White'a-Kaufmanna Le Minora) w buteleczkach z zakraplaczem po 5 ml. Wymagane dokumenty: certyfikat dopuszczenia do obrotu; karta charakterystyki; instrukcja wykonania w języku polskim; minimalny termin okresu przydatności 18 miesięcy od daty dostawy. | G26: butelka a'5 ml | H26: 1
B27: 18 | C27: Osocze królicze liofilizowane | D27: w ampułkach po 2 ml; 1 opakowanie to 10 ampułek; wymagane dokumenty: 1) certyfikat dopuszczenia do obrotu; minimalny termin okresu przydatności 10 miesięcy od daty dostawy. | G27: op. | H27: 2
J28: =SUM(J10:J27) -> 0
A29: SBEK | B29: Do oferty przetargowej dla wszystkich pozycji należy dołączyć wymienione poniżej dokumenty lub wskazać określone adresy internetowe, ogólnodostępne i bezpłatne bazy danych gdzie zamawiający może je samodzielnie pobrać :
B30: nie dotyczy
B31: Czas realizacji: 14 dni od dnia złożenia zamówienia
B32: Do dostawy należy dostarczyć:
B33: 1. | C33: dla każdej pozycji z pakietu certyfikat dopuszczenia do obrotu
A34: SBMŻ | B34: Do oferty przetargowej dla wszystkich pozycji należy dołączyć wymienione poniżej dokumenty lub wskazać określone adresy internetowe, ogólnodostępne i bezpłatne bazy danych gdzie zamawiający może je samodzielnie pobrać :
B35: 1.-
B36: Czas realizacji: 14 dni od dnia złożenia zamówienia
B37: Do dostawy dla wszystkich pozycji należy dołączyć:
B38: 1. certyfikat dopuszczenia do obrotu oraz instrukcję wykonania w języku polskim
B39: Niniejszym podpisem potwierdzam parametry przedmiotu zamówienia
F40: …………………………………………………………………..
F41: podpis wykonawcy

Sheet Zadanie 10_Szkło laboratoryjne
B1: Znak sprawy: OEA-ZP.272.1.1.2022 | I1: załącznik 1/10
B3: …………………………………………
B4: …………………………………………
B5: ………..…....………………………….
B6: dane wykonawcy
D7: FORMULARZ CENOWY
B8: Zadanie nr 10 - Szkło laboratoryjne
A9: Labora-torium | B9: lp. | C9: nazwa produktu | D9: szczegółowy opis przedmiotu zamówienia | E9: nazwa producenta/ dystrybutora/ importera | F9: nr katalogowy | G9: j.m. | H9: ilość | I9: cena jednostkowa brutto za j.m. | J9: wartość ogółem brutto
A10: SBEK | B10: 1 | C10: Próbówki Durhama | D10: śr.zew. 4-5mm dł.40mm | G10: szt. | H10: 300
B11: 2 | C11: Kolby stożkowe Erlenmayera bez szlifu, z wąską szyjką, poj.1000 ml | D11: z wąską szyjką, szkło nie gorsze jakością niż borokrzemowe 3.3, wysokość kolby 23 cm, średnica podstawy 13cm, śr. zewnętrzna szyjki 40mm, wysokość 40mm | G11: szt. | H11: 15
B12: 3 | C12: Probówki szklane duże | D12: Z dnem okrągłym, bez wywiniecia, szkło simax, Ø wewnetrzne 15 mm., grubość scianki 1,2 mm, długość 140 mm | G12: szt. | H12: 400
A13: SBW | B13: 4 | C13: kuwety pomiarowe do mętnościomierza laboratoryjnego HACH TL2310 | D13: kuwety pomiarowe okrągłe ze szkła borokrzemianowego, z nakrętkami i uszczelkami z gumy ( 95 x 25 mm; 3,74 x 1 cala); 6 sztuk w opakowaniu; równoważny produktowi HACH nr kat. 2084900 | G13: op | H13: 2
B14: 5 | C14: Probówki szklane małe | D14: z dnem okrągłym, bez wywinięcia, szkło simax, Æ wewnętrzne 10 mm,grubość ścianki 1-1,2 mm, długość 100 mm | G14: szt | H14: 100
B15: 6 | C15: Probówki szklane proste | D15: mikrobiologiczne, z dnem okrągłym, bez wywinięcia, szkło simax, śr.12mm x dł.140 mm, grubość ścianek 1,5 mm | G15: szt | H15: 200
B16: 7 | C16: Probówki szklane proste | D16: mikrobiologiczne, z dnem okrągłym, bez wywinięcia, szkło simax, śr.19mm x dł.180 mm | G16: szt | H16: 200
B17: 8 | C17: Probówki szklane proste | D17: do oznaczania indeksu nadmanganianowego, z dnem okrągłym, bez wywinięcia, szkło jasne o grubości ścianki 1mm, śr.wew. 25mm x dł.200 mm | G17: szt | H17: 20
B18: 9 | C18: Kolby stożkowe Erlenmayera bez szlifu, z szeroką szyjką, poj. 100 ml | D18: z szeroką szyjką, szkło nie gorsze jakością niż borokrzemowe 3.3, śr. zewnętrzna szyjki 40mm, wysokość 100mm | G18: szt | H18: 50
B19: 10 | C19: Kolby stożkowe Erlenmayera bez szlifu, z szeroką szyjką, poj. 250 ml | D19: z szeroką szyjką, szkło nie gorsze jakością niż borokrzemowe 3.3, śr. zewnętrzna szyjki 50mm, wysokość 140mm | G19: szt | H19: 50
B20: 11 | C20: Kolby stożkowe Erlenmayera bez szlifu, z szeroką szyjką, poj. 500 ml | D20: z szeroką szyjką, szkło nie gorsze jakością niż borokrzemowe 3.3, śr. zewnętrzna szyjki 50mm, wysokość 175mm | G20: szt | H20: 10
B21: 12 | C21: Kolba pomiarowa, szklana, pojemność 50 ml, kl.A, płaskodenna, z korkiem, ze szlifem | D21: szlif 12,5/21, z korkiem z tworzywa sztucznego, ze szkła jasnego borokrzemowego 3.3, nie gorszego niż DURAN, wzorcowane na wlew, oznaczenia na szkle naniesione niezmywalną brązową farbą wtopioną w szkło: pojemność nominalna, producent, klasa dokładności, nr serii, tolerancja, temperatura wzorcowania, rodzaj szkła. Zgodność serii poświadczona certyfikatem ( cała partia z jednym numerem serii). Nie gorsze jakością niż kolby BLAUBRAND. | G21: szt | H21: 20
