{"text_format":"1","workbook":"xlsx","n_sheets":19,"sheets":["Wniosek 2026 r.","Zał. nr 1 a-e oświadczenia","Zał. nr 2 kalkulacja - 2026 r.","Zał. nr 4 dane osób","Zał. nr 5 jednostki","Weryfikacja 2026 r. płaska","Tabelka do umowy","Dane szczegółowe","Dane ogólne","Dane zbiorcze","Dane do umowy","JST","Weryfikacja 2026 r.","Dane JST","Bank danych","Mazowieckie - TERYT","BW","Do rankingu","dane GUS-MF"],"not_rendered":{"charts":0,"images":0,"macros":1,"external_links":0,"defined_names":1331,"comments":0,"pivot_tables":0},"unopened":[],"bounds":{"document_bytes":16777216,"sheet_cells":100000,"rows_first":2000,"rows_last":500,"rows_between":2000,"halvings":0,"cell_chars":16384,"cell_head_chars":4096},"cells_cut":0,"cells_raw":0,"read":"whole","date_system":"1900"}

{"sheet":"Wniosek 2026 r.","index":0,"n_rows":1161,"n_cols":9,"rows_kept":1161,"cut":false,"hidden":false,"merged":[[1160,3,1160,8],[1160,0,1160,1],[1111,6,1111,8],[1112,6,1112,8],[1113,6,1113,8],[1114,6,1114,8],[1115,6,1115,8],[1116,6,1116,8],[1117,6,1117,8],[1118,6,1118,8],[1119,6,1119,8],[1120,6,1120,8],[1121,6,1121,8],[1122,6,1122,8],[1123,6,1123,8],[1124,6,1124,8],[1119,3,1119,5],[1120,3,1120,5],[1121,3,1121,5],[1122,3,1122,5],[1123,3,1123,5],[1124,3,1124,5],[1111,3,1111,5],[1112,3,1112,5],[1113,3,1113,5],[1114,3,1114,5],[1115,3,1115,5],[1116,3,1116,5],[1117,3,1117,5],[1118,3,1118,5],[1126,3,1126,7],[1158,0,1158,1],[1085,6,1085,8],[1086,6,1086,8],[1087,6,1087,8],[1088,6,1088,8],[1089,6,1089,8],[1090,6,1090,8],[1091,6,1091,8],[1092,6,1092,8],[1093,6,1093,8],[1094,6,1094,8],[1095,6,1095,8],[1096,6,1096,8],[1097,6,1097,8],[1098,6,1098,8],[1099,6,1099,8],[1100,6,1100,8],[1101,6,1101,8],[1102,6,1102,8],[1103,6,1103,8],[1104,6,1104,8],[1105,6,1105,8],[1106,6,1106,8],[1107,6,1107,8],[1108,6,1108,8],[1109,6,1109,8],[1110,6,1110,8],[1102,3,1102,5],[1103,3,1103,5],[1104,3,1104,5],[1105,3,1105,5],[1106,3,1106,5],[1107,3,1107,5],[1108,3,1108,5],[1109,3,1109,5],[1110,3,1110,5],[1085,3,1085,5],[1086,3,1086,5],[1087,3,1087,5],[1088,3,1088,5],[1089,3,1089,5],[1090,3,1090,5],[1091,3,1091,5],[1092,3,1092,5],[1093,3,1093,5],[1094,3,1094,5],[1095,3,1095,5],[1096,3,1096,5],[1097,3,1097,5],[1098,3,1098,5],[1099,3,1099,5],[1100,3,1100,5],[1101,3,1101,5],[14,4,18,8],[0,0,0,1],[1131,3,1131,7],[0,4,0,5],[974,3,974,5],[974,6,974,8],[23,1,23,4],[23,5,23,8],[1159,0,1159,1],[970,2,970,3],[970,4,970,6],[966,4,966,6],[967,4,967,6],[968,4,968,6],[969,4,969,6],[961,4,961,6],[962,4,962,6],[963,4,963,6],[964,4,964,6],[965,4,965,6],[956,4,956,6],[957,4,957,6],[958,4,958,6],[959,4,959,6],[960,4,960,6],[951,4,951,6],[952,4,952,6],[953,4,953,6],[904,4,904,6],[954,4,954,6],[955,4,955,6],[946,4,946,6],[947,4,947,6],[948,4,948,6],[949,4,949,6],[950,4,950,6],[931,4,931,6],[932,4,932,6],[933,4,933,6],[934,4,934,6],[935,4,935,6],[926,4,926,6],[927,4,927,6],[928,4,928,6],[929,4,929,6],[930,4,930,6],[941,4,941,6],[942,4,942,6],[943,4,943,6],[944,4,944,6],[945,4,945,6],[936,4,936,6],[937,4,937,6],[938,4,938,6],[939,4,939,6],[940,4,940,6],[866,4,866,6],[867,4,867,6],[868,4,868,6],[869,4,869,6],[870,4,870,6],[861,4,861,6],[862,4,862,6],[863,4,863,6],[864,4,864,6],[865,4,865,6],[856,4,856,6],[857,4,857,6],[858,4,858,6],[859,4,859,6],[860,4,860,6],[896,4,896,6],[897,4,897,6],[892,4,892,6],[893,4,893,6],[894,4,894,6],[895,4,895,6],[886,4,886,6],[887,4,887,6],[888,4,888,6],[889,4,889,6],[890,4,890,6],[891,4,891,6],[871,4,871,6],[872,4,872,6],[873,4,873,6],[874,4,874,6],[875,4,875,6],[851,4,851,6],[852,4,852,6],[853,4,853,6],[854,4,854,6],[855,4,855,6],[846,4,846,6],[847,4,847,6],[848,4,848,6],[849,4,849,6],[850,4,850,6],[841,4,841,6],[842,4,842,6],[843,4,843,6],[844,4,844,6],[845,4,845,6],[836,4,836,6],[837,4,837,6],[838,4,838,6],[839,4,839,6],[840,4,840,6],[969,2,969,3],[822,4,822,6],[823,4,823,6],[824,4,824,6],[825,4,825,6],[826,4,826,6],[827,4,827,6],[828,4,828,6],[829,4,829,6],[830,4,830,6],[831,4,831,6],[832,4,832,6],[833,4,833,6],[834,4,834,6],[835,4,835,6],[964,2,964,3],[965,2,965,3],[966,2,966,3],[967,2,967,3],[968,2,968,3],[959,2,959,3],[960,2,960,3],[961,2,961,3],[962,2,962,3],[963,2,963,3],[954,2,954,3],[955,2,955,3],[956,2,956,3],[957,2,957,3],[958,2,958,3],[949,2,949,3],[950,2,950,3],[907,2,907,3],[908,2,908,3],[909,2,909,3],[910,2,910,3],[911,2,911,3],[912,2,912,3],[913,2,913,3],[897,2,897,3],[898,2,898,3],[951,2,951,3],[952,2,952,3],[953,2,953,3],[944,2,944,3],[945,2,945,3],[946,2,946,3],[947,2,947,3],[948,2,948,3],[939,2,939,3],[940,2,940,3],[941,2,941,3],[942,2,942,3],[943,2,943,3],[934,2,934,3],[935,2,935,3],[936,2,936,3],[937,2,937,3],[938,2,938,3],[849,2,849,3],[850,2,850,3],[851,2,851,3],[852,2,852,3],[853,2,853,3],[845,2,845,3],[846,2,846,3],[847,2,847,3],[848,2,848,3],[869,2,869,3],[870,2,870,3],[921,2,921,3],[922,2,922,3],[923,2,923,3],[864,2,864,3],[865,2,865,3],[866,2,866,3],[867,2,867,3],[868,2,868,3],[885,2,885,3],[886,2,886,3],[887,2,887,3],[888,2,888,3],[889,2,889,3],[890,2,890,3],[891,2,891,3],[892,2,892,3],[893,2,893,3],[894,2,894,3],[895,2,895,3],[896,2,896,3],[906,2,906,3],[783,2,783,3],[784,2,784,3],[785,2,785,3],[786,2,786,3],[787,2,787,3],[813,2,813,3],[814,2,814,3],[808,2,808,3],[809,2,809,3],[810,2,810,3],[811,2,811,3],[812,2,812,3],[834,2,834,3],[835,2,835,3],[829,2,829,3],[830,2,830,3],[831,2,831,3],[832,2,832,3],[833,2,833,3],[803,2,803,3],[804,2,804,3],[805,2,805,3],[806,2,806,3],[807,2,807,3],[822,2,822,3],[823,2,823,3],[825,2,825,3],[826,2,826,3],[827,2,827,3],[828,2,828,3],[713,2,713,3],[714,2,714,3],[715,2,715,3],[766,2,766,3],[767,2,767,3],[732,2,732,3],[733,2,733,3],[734,2,734,3],[735,2,735,3],[736,2,736,3],[737,2,737,3],[738,2,738,3],[739,2,739,3],[740,2,740,3],[741,2,741,3],[742,2,742,3],[743,2,743,3],[718,2,718,3],[719,2,719,3],[720,2,720,3],[721,2,721,3],[722,2,722,3],[723,2,723,3],[753,2,753,3],[754,2,754,3],[755,2,755,3],[744,2,744,3],[745,2,745,3],[746,2,746,3],[747,2,747,3],[748,2,748,3],[749,2,749,3],[708,2,708,3],[709,2,709,3],[710,2,710,3],[711,2,711,3],[712,2,712,3],[703,2,703,3],[704,2,704,3],[705,2,705,3],[706,2,706,3],[707,2,707,3],[698,2,698,3],[699,2,699,3],[700,2,700,3],[701,2,701,3],[702,2,702,3],[693,2,693,3],[694,2,694,3],[695,2,695,3],[696,2,696,3],[697,2,697,3],[688,2,688,3],[689,2,689,3],[690,2,690,3],[691,2,691,3],[692,2,692,3],[683,2,683,3],[684,2,684,3],[685,2,685,3],[686,2,686,3],[687,2,687,3],[678,2,678,3],[679,2,679,3],[680,2,680,3],[681,2,681,3],[682,2,682,3],[673,2,673,3],[674,2,674,3],[675,2,675,3],[676,2,676,3],[677,2,677,3],[639,2,639,3],[640,2,640,3],[641,2,641,3],[632,2,632,3],[633,2,633,3],[634,2,634,3],[635,2,635,3],[636,2,636,3],[668,2,668,3],[669,2,669,3],[670,2,670,3],[671,2,671,3],[672,2,672,3],[657,2,657,3],[658,2,658,3],[659,2,659,3],[666,2,666,3],[667,2,667,3],[652,2,652,3],[653,2,653,3],[654,2,654,3],[655,2,655,3],[656,2,656,3],[664,0,664,8],[665,2,665,3],[661,0,661,1],[661,2,661,3],[665,4,665,6],[647,2,647,3],[648,2,648,3],[649,2,649,3],[650,2,650,3],[538,2,538,3],[527,2,527,3],[528,2,528,3],[529,2,529,3],[532,2,532,3],[533,2,533,3],[534,2,534,3],[535,2,535,3],[536,2,536,3],[537,2,537,3],[615,2,615,3],[616,2,616,3],[569,2,569,3],[570,2,570,3],[571,2,571,3],[572,2,572,3],[573,2,573,3],[574,2,574,3],[575,2,575,3],[576,2,576,3],[591,2,591,3],[589,2,589,3],[590,2,590,3],[583,2,583,3],[584,2,584,3],[585,2,585,3],[586,2,586,3],[587,2,587,3],[588,2,588,3],[596,2,596,3],[597,2,597,3],[562,2,562,3],[505,5,505,6],[510,2,510,3],[507,0,507,6],[500,5,500,6],[530,2,530,3],[531,2,531,3],[522,2,522,3],[523,2,523,3],[524,2,524,3],[525,2,525,3],[526,2,526,3],[521,2,521,3],[512,2,512,3],[513,2,513,3],[514,2,514,3],[515,2,515,3],[516,2,516,3],[482,7,482,8],[483,7,483,8],[484,7,484,8],[485,7,485,8],[486,7,486,8],[477,7,477,8],[478,7,478,8],[479,7,479,8],[480,7,480,8],[481,7,481,8],[504,7,504,8],[505,7,505,8],[511,2,511,3],[497,7,497,8],[498,7,498,8],[499,7,499,8],[500,7,500,8],[501,7,501,8],[503,5,503,6],[504,5,504,6],[503,3,503,4],[504,3,504,4],[505,3,505,4],[498,3,498,4],[499,3,499,4],[500,3,500,4],[501,3,501,4],[502,3,502,4],[507,7,507,8],[509,0,509,8],[501,5,501,6],[502,5,502,6],[492,7,492,8],[493,7,493,8],[494,7,494,8],[495,7,495,8],[496,7,496,8],[493,3,493,4],[494,3,494,4],[495,3,495,4],[496,3,496,4],[497,3,497,4],[502,7,502,8],[503,7,503,8],[487,7,487,8],[488,7,488,8],[489,7,489,8],[490,7,490,8],[491,7,491,8],[490,3,490,4],[491,3,491,4],[492,3,492,4],[473,7,473,8],[474,7,474,8],[475,7,475,8],[476,7,476,8],[379,7,379,8],[380,7,380,8],[381,7,381,8],[372,7,372,8],[373,7,373,8],[374,7,374,8],[375,7,375,8],[376,7,376,8],[387,7,387,8],[468,7,468,8],[469,7,469,8],[470,7,470,8],[471,7,471,8],[462,7,462,8],[463,7,463,8],[464,7,464,8],[465,7,465,8],[466,7,466,8],[457,7,457,8],[458,7,458,8],[459,7,459,8],[460,7,460,8],[461,7,461,8],[402,7,402,8],[403,7,403,8],[404,7,404,8],[405,7,405,8],[443,7,443,8],[406,7,406,8],[427,7,427,8],[428,7,428,8],[429,7,429,8],[430,7,430,8],[407,5,407,6],[408,5,408,6],[409,5,409,6],[410,5,410,6],[411,5,411,6],[412,5,412,6],[413,5,413,6],[414,5,414,6],[358,7,358,8],[359,7,359,8],[360,7,360,8],[361,7,361,8],[362,7,362,8],[363,7,363,8],[364,7,364,8],[365,7,365,8],[366,7,366,8],[367,7,367,8],[368,7,368,8],[369,7,369,8],[370,7,370,8],[371,7,371,8],[397,7,397,8],[398,7,398,8],[392,7,392,8],[393,7,393,8],[394,7,394,8],[395,7,395,8],[396,7,396,8],[377,7,377,8],[378,7,378,8],[399,7,399,8],[400,7,400,8],[401,7,401,8],[389,5,389,6],[400,5,400,6],[401,5,401,6],[402,5,402,6],[403,5,403,6],[404,5,404,6],[395,5,395,6],[396,5,396,6],[397,5,397,6],[398,5,398,6],[399,5,399,6],[385,5,385,6],[386,5,386,6],[387,5,387,6],[388,5,388,6],[378,5,378,6],[379,5,379,6],[411,7,411,8],[467,7,467,8],[424,5,424,6],[425,5,425,6],[458,5,458,6],[459,5,459,6],[433,5,433,6],[434,5,434,6],[435,5,435,6],[436,5,436,6],[437,5,437,6],[438,5,438,6],[439,5,439,6],[440,5,440,6],[441,5,441,6],[442,5,442,6],[443,5,443,6],[451,7,451,8],[430,5,430,6],[432,5,432,6],[412,7,412,8],[413,7,413,8],[414,7,414,8],[415,7,415,8],[416,7,416,8],[417,7,417,8],[418,7,418,8],[419,7,419,8],[420,7,420,8],[421,7,421,8],[422,7,422,8],[423,7,423,8],[362,5,362,6],[363,5,363,6],[364,5,364,6],[365,5,365,6],[375,5,375,6],[366,5,366,6],[367,5,367,6],[368,5,368,6],[380,5,380,6],[446,7,446,8],[447,7,447,8],[448,7,448,8],[449,7,449,8],[450,7,450,8],[424,7,424,8],[425,7,425,8],[426,7,426,8],[439,7,439,8],[440,7,440,8],[441,7,441,8],[442,7,442,8],[388,7,388,8],[389,7,389,8],[390,7,390,8],[391,7,391,8],[382,7,382,8],[383,7,383,8],[384,7,384,8],[385,7,385,8],[386,7,386,8],[406,5,406,6],[405,5,405,6],[468,3,468,4],[469,3,469,4],[470,3,470,4],[471,3,471,4],[472,3,472,4],[463,3,463,4],[464,3,464,4],[465,3,465,4],[466,3,466,4],[407,7,407,8],[408,7,408,8],[421,5,421,6],[422,5,422,6],[409,7,409,8],[410,7,410,8],[446,5,446,6],[447,5,447,6],[448,5,448,6],[449,5,449,6],[450,5,450,6],[452,7,452,8],[453,7,453,8],[432,7,432,8],[433,7,433,8],[434,7,434,8],[435,7,435,8],[436,7,436,8],[437,7,437,8],[438,7,438,8],[445,7,445,8],[427,5,427,6],[428,5,428,6],[369,5,369,6],[390,5,390,6],[391,5,391,6],[392,5,392,6],[393,5,393,6],[394,5,394,6],[402,3,402,4],[393,3,393,4],[394,3,394,4],[457,5,457,6],[426,5,426,6],[398,3,398,4],[399,3,399,4],[400,3,400,4],[401,3,401,4],[431,5,431,6],[403,3,403,4],[404,3,404,4],[405,3,405,4],[406,3,406,4],[457,3,457,4],[452,3,452,4],[453,3,453,4],[454,3,454,4],[455,3,455,4],[456,3,456,4],[442,3,442,4],[443,3,443,4],[444,3,444,4],[450,3,450,4],[407,3,407,4],[408,3,408,4],[483,3,483,4],[484,3,484,4],[485,3,485,4],[486,3,486,4],[487,3,487,4],[478,3,478,4],[479,3,479,4],[480,3,480,4],[481,3,481,4],[482,3,482,4],[473,3,473,4],[474,3,474,4],[475,3,475,4],[476,3,476,4],[477,3,477,4],[488,3,488,4],[489,3,489,4],[409,3,409,4],[410,3,410,4],[411,3,411,4],[412,3,412,4],[413,3,413,4],[414,3,414,4],[415,3,415,4],[416,3,416,4],[417,3,417,4],[418,3,418,4],[419,3,419,4],[438,3,438,4],[439,3,439,4],[449,3,449,4],[448,3,448,4],[427,3,427,4],[428,3,428,4],[429,3,429,4],[431,3,431,4],[432,3,432,4],[433,3,433,4],[420,3,420,4],[421,3,421,4],[422,3,422,4],[423,3,423,4],[424,3,424,4],[447,3,447,4],[451,3,451,4],[430,3,430,4],[395,3,395,4],[396,3,396,4],[397,3,397,4],[388,3,388,4],[389,3,389,4],[390,3,390,4],[391,3,391,4],[392,3,392,4],[383,3,383,4],[384,3,384,4],[385,3,385,4],[386,3,386,4],[387,3,387,4],[373,5,373,6],[374,5,374,6],[381,5,381,6],[382,5,382,6],[383,5,383,6],[384,5,384,6],[376,5,376,6],[377,5,377,6],[381,3,381,4],[382,3,382,4],[373,3,373,4],[374,3,374,4],[375,3,375,4],[376,3,376,4],[377,3,377,4],[380,3,380,4],[378,3,378,4],[379,3,379,4],[330,2,330,3],[331,2,331,3],[332,2,332,3],[333,2,333,3],[335,2,335,3],[336,2,336,3],[337,2,337,3],[338,2,338,3],[357,3,357,4],[348,2,348,3],[349,2,349,3],[347,2,347,3],[351,2,351,3],[343,2,343,3],[354,0,354,8],[356,3,356,4],[356,5,356,6],[356,7,356,8],[355,3,355,4],[355,5,355,6],[355,7,355,8],[357,5,357,6],[350,2,350,3],[339,2,339,3],[340,2,340,3],[357,7,357,8],[346,2,346,3],[351,0,351,1],[341,2,341,3],[342,2,342,3],[344,2,344,3],[240,2,240,3],[241,2,241,3],[242,2,242,3],[315,2,315,3],[316,2,316,3],[317,2,317,3],[318,2,318,3],[319,2,319,3],[311,2,311,3],[312,2,312,3],[313,2,313,3],[314,2,314,3],[305,2,305,3],[306,2,306,3],[307,2,307,3],[320,2,320,3],[297,2,297,3],[298,2,298,3],[299,2,299,3],[300,2,300,3],[295,2,295,3],[296,2,296,3],[246,2,246,3],[247,2,247,3],[248,2,248,3],[249,2,249,3],[259,2,259,3],[260,2,260,3],[261,2,261,3],[262,2,262,3],[263,2,263,3],[368,3,368,4],[369,3,369,4],[370,3,370,4],[371,3,371,4],[364,3,364,4],[372,3,372,4],[363,3,363,4],[358,5,358,6],[359,5,359,6],[360,5,360,6],[361,5,361,6],[370,5,370,6],[371,5,371,6],[372,5,372,6],[334,2,334,3],[1133,0,1133,8],[1132,3,1132,7],[1129,3,1129,7],[1127,3,1128,7],[506,7,506,8],[506,3,506,4],[815,2,815,3],[660,2,660,3],[1125,0,1125,1],[973,0,973,8],[508,0,508,8],[817,0,817,8],[517,2,517,3],[518,2,518,3],[519,2,519,3],[520,2,520,3],[345,2,345,3],[971,0,971,1],[971,2,971,3],[971,4,971,6],[819,0,819,8],[820,2,820,3],[820,4,820,6],[821,2,821,3],[821,4,821,6],[824,2,824,3],[567,2,567,3],[568,2,568,3],[627,2,627,3],[628,2,628,3],[629,2,629,3],[630,2,630,3],[67,7,67,8],[68,7,68,8],[69,7,69,8],[70,7,70,8],[205,2,205,3],[206,2,206,3],[816,0,816,1],[506,5,506,6],[816,2,816,3],[662,0,662,8],[321,2,321,3],[322,2,322,3],[323,2,323,3],[324,2,324,3],[276,2,276,3],[277,2,277,3],[245,2,245,3],[72,7,72,8],[225,2,225,3],[226,2,226,3],[227,2,227,3],[228,2,228,3],[229,2,229,3],[219,2,219,3],[188,0,188,3],[36,7,36,8],[38,7,38,8],[39,7,39,8],[40,7,40,8],[41,7,41,8],[42,7,42,8],[43,7,43,8],[44,7,44,8],[45,7,45,8],[46,7,46,8],[47,7,47,8],[48,7,48,8],[49,7,49,8],[50,7,50,8],[51,7,51,8],[52,7,52,8],[53,7,53,8],[73,7,73,8],[143,7,143,8],[144,7,144,8],[145,7,145,8],[146,7,146,8],[65,7,65,8],[66,7,66,8],[33,0,33,8],[189,0,198,8],[188,7,188,8],[35,0,35,8],[2,1,2,2],[9,1,9,2],[20,0,21,8],[22,0,22,8],[215,2,215,3],[86,7,86,8],[87,7,87,8],[138,7,138,8],[37,7,37,8],[31,5,31,8],[88,7,88,8],[89,7,89,8],[90,7,90,8],[91,7,91,8],[92,7,92,8],[93,7,93,8],[94,7,94,8],[95,7,95,8],[96,7,96,8],[97,7,97,8],[54,7,54,8],[55,7,55,8],[56,7,56,8],[57,7,57,8],[58,7,58,8],[181,7,181,8],[71,7,71,8]],"merged_total":1730,"flags":["merged_cut"]}
[{"$f":"IF(C4=\"\",\"\",A1159&\"#\"&C817&\"#\"&C5)","v":""}]
[null,null,null,null,null,"(miejscowość)","     (data)"]
[null,"A1. ORGANIZATOR PUBLICZNEGO TRANSPORTU ZBIOROWEGO"]
[null,"NIP"]
[null,"Nazwa organizatora publicznego transportu zbiorowego",{"$f":"IFERROR(VLOOKUP(C4,'Dane JST'!$B$3:$D$372,3,0),\"Proszę wybrać nr NIP z listy rozwijanej\")","v":"Proszę wybrać nr NIP z listy rozwijanej"}]
[null,"REGON",{"$f":"IFERROR(VLOOKUP(C4,'Dane JST'!B3:C372,2,0),\"Proszę wybrać nr NIP z listy rozwijanej\")","v":"Proszę wybrać nr NIP z listy rozwijanej"}]
[null,"Adres",{"$f":"IFERROR(VLOOKUP(C4,'Dane JST'!$B$3:$E$372,4,0),\"Proszę wybrać nr NIP z listy rozwijanej\")","v":"Proszę wybrać nr NIP z listy rozwijanej"}]
[null,"Powiat",{"$f":"IFERROR(VLOOKUP(C4,'Dane JST'!B3:G372,6,0), \"Proszę wybrać nr NIP z listy rozwijanej\")","v":"Proszę wybrać nr NIP z listy rozwijanej"}]
[null,"Województwo","mazowieckie"]
[null,"A2. Dane osoby do kontaktu w sprawie wniosku"]
[null,"Imię"]
[null,"Nazwisko"]
[null,"Telefon "]
[null,"Adres e-mail"]
[null,null,null,null,"Wojewoda Mazowiecki\nWydział Infrastruktury i Rolnictwa\npl.Bankowy 3/5\n00-950 Warszawa"]
[]
[]
[]
[]
[]
["WNIOSEK  O OBJĘCIE DOPŁATĄ REALIZACJI ZADAŃ WŁASNYCH  ORGANIZATORA  W  ZAKRESIE PRZEWOZÓW AUTOBUSOWYCH  O CHARAKTERZE UŻYTECZNOŚCI PUBLICZNEJ PRZEZ DOPŁATĘ DO CENY USŁUGI W RAMACH NABORU WNIOSKÓW NA 2026 R."]
[]
["A.3   Informacje dotyczące organizatora publicznego transportu zbiorowego"]
["1.","Rodzaj wniosku:"]
["2.","Organizatorem publicznego transportu zbiorowego jest:"]
["3.","Kod TERYT (TERC) organizatora publicznego transportu zbiorowego:",null,null,null,14]
[null,null,null,null,null,"Województwo","Powiat","Gmina","Rodzaj"]
["4.","Liczba jednostek samorządu terytorialnego objętych porozumieniami lub wchodzących w skład związku:"]
["5.","Liczba gmin na obszarze których będą realizowane przewozy z wykorzystaniem środków Funduszu:"]
["6.","Liczba mieszkańców gmin na obszarze których będą realizowane przewozy z wykorzystaniem środków Funduszu:"]
["7.","Liczba linii komunikacyjnych na które organizator występuje o objęcie dopłatą:"]
["8.","NRB - numer rachunku bankowego (bez kodu kraju):"]
["9.","Nazwa banku:"]
["pkt.2 - Proszę podać kod TERYT organizatora zgodny z bazą GUS - w przypadku związków należy wskazać wartości zerowe.\nDostępne rodzaje jednostek: 0 - w przypadku województwa, powiatu lub związku; 2-gmina wiejska; 3- gmina miejsko wiejska"]
[]
["B.1 Linie komunikacyjne, na których będą wykonywane przewozy autobusowe o charakterze użyteczności publicznej, które nie funkcjonowały co najmniej 3 miesiące przed dniem wejścia w życie ustawy o Funduszu rozwoju przewozów autobusowych o charakterze użyteczności publicznej oraz na które umowa o świadczenie usług w zakresie publicznego transportu zbiorowego zostanie zawarta po dniu wejścia w życie ustawy o Funduszu rozwoju przewozów autobusowych o charakterze użyteczności publicznej"]
["L.p.","Nazwa linii komunikacyjnej","Miejscowości,\nw których zlokalizowane są przystanki autobusowe ","Gminy, na terenie których wykonywane będą przewozy autobusowe","Długość linii \n[km]","Łączna liczba zatrzymań \n[w danym roku]"," Częstotliwość","Data uruchomienia linii komunikacyjnej"]
[null,1,2,3,4,5,6,7]
[1,null,null,null,null,null,{"$f":"IFERROR(ROUND(C202/E39,0),0)","v":0}]
[2,null,null,null,null,null,{"$f":"IFERROR(ROUND(C203/E40,0),0)","v":0}]
[3,null,null,null,null,null,0]
[4,null,null,null,null,null,0]
[5,null,null,null,null,null,0]
[6,null,null,null,null,null,0]
[7,null,null,null,null,null,0]
[8,null,null,null,null,null,0]
[9,null,null,null,null,null,0]
[10,null,null,null,null,null,0]
[11,null,null,null,null,null,0]
[12,null,null,null,null,null,0]
[13,null,null,null,null,null,0]
[14,null,null,null,null,null,0]
[15,null,null,null,null,null,0]
[16,null,null,null,null,null,0]
[17,null,null,null,null,null,0]
[18,null,null,null,null,null,0]
[19,null,null,null,null,null,0]
[20,null,null,null,null,null,0]
[21,null,null,null,null,null,0]
[22,null,null,null,null,null,0]
[23,null,null,null,null,null,0]
[24,null,null,null,null,null,0]
[25,null,null,null,null,null,0]
[26,null,null,null,null,null,0]
[27,null,null,null,null,null,0]
[28,null,null,null,null,null,0]
[29,null,null,null,null,null,0]
[30,null,null,null,null,null,0]
[31,null,null,null,null,null,0]
[32,null,null,null,null,null,0]
[33,null,null,null,null,null,0]
[34,null,null,null,null,null,0]
[35,null,null,null,null,null,0]
[36,null,null,null,null,null,0]
[37,null,null,null,null,null,0]
[38,null,null,null,null,null,0]
[39,null,null,null,null,null,0]
[40,null,null,null,null,null,0]
[41,null,null,null,null,null,0]
[42,null,null,null,null,null,0]
[43,null,null,null,null,null,0]
[44,null,null,null,null,null,0]
[45,null,null,null,null,null,0]
[46,null,null,null,null,null,0]
[47,null,null,null,null,null,0]
[48,null,null,null,null,null,0]
[49,null,null,null,null,null,0]
[50,null,null,null,null,null,0]
[51,null,null,null,null,null,0]
[52,null,null,null,null,null,0]
[53,null,null,null,null,null,0]
[54,null,null,null,null,null,0]
[55,null,null,null,null,null,0]
[56,null,null,null,null,null,0]
[57,null,null,null,null,null,0]
[58,null,null,null,null,null,0]
[59,null,null,null,null,null,0]
[60,null,null,null,null,null,0]
[61,null,null,null,null,null,0]
[62,null,null,null,null,null,0]
[63,null,null,null,null,null,0]
[64,null,null,null,null,null,0]
[65,null,null,null,null,null,0]
[66,null,null,null,null,null,{"$f":"IFERROR(ROUND(C267/E104,0),0)","v":0}]
[67,null,null,null,null,null,0]
[68,null,null,null,null,null,0]
[69,null,null,null,null,null,0]
[70,null,null,null,null,null,0]
[71,null,null,null,null,null,0]
[72,null,null,null,null,null,0]
[73,null,null,null,null,null,0]
[74,null,null,null,null,null,0]
[75,null,null,null,null,null,0]
[76,null,null,null,null,null,0]
[77,null,null,null,null,null,0]
[78,null,null,null,null,null,0]
[79,null,null,null,null,null,0]
[80,null,null,null,null,null,0]
[81,null,null,null,null,null,0]
[82,null,null,null,null,null,0]
[83,null,null,null,null,null,0]
[84,null,null,null,null,null,0]
[85,null,null,null,null,null,0]
[86,null,null,null,null,null,0]
[87,null,null,null,null,null,0]
[88,null,null,null,null,null,0]
[89,null,null,null,null,null,0]
[90,null,null,null,null,null,0]
[91,null,null,null,null,null,0]
[92,null,null,null,null,null,0]
[93,null,null,null,null,null,0]
[94,null,null,null,null,null,0]
[95,null,null,null,null,null,0]
[96,null,null,null,null,null,0]
[97,null,null,null,null,null,0]
[98,null,null,null,null,null,0]
[99,null,null,null,null,null,0]
[100,null,null,null,null,null,0]
[101,null,null,null,null,null,0]
[102,null,null,null,null,null,0]
[103,null,null,null,null,null,0]
[104,null,null,null,null,null,0]
[105,null,null,null,null,null,0]
[106,null,null,null,null,null,0]
[107,null,null,null,null,null,0]
[108,null,null,null,null,null,0]
[109,null,null,null,null,null,0]
[110,null,null,null,null,null,0]
[111,null,null,null,null,null,0]
[112,null,null,null,null,null,0]
[113,null,null,null,null,null,0]
[114,null,null,null,null,null,0]
[115,null,null,null,null,null,0]
[116,null,null,null,null,null,0]
[117,null,null,null,null,null,0]
[118,null,null,null,null,null,0]
[119,null,null,null,null,null,0]
[120,null,null,null,null,null,0]
[121,null,null,null,null,null,0]
[122,null,null,null,null,null,0]
[123,null,null,null,null,null,0]
[124,null,null,null,null,null,0]
[125,null,null,null,null,null,0]
[126,null,null,null,null,null,0]
[127,null,null,null,null,null,0]
[128,null,null,null,null,null,0]
[129,null,null,null,null,null,0]
[130,null,null,null,null,null,{"$f":"IFERROR(ROUND(C331/E168,0),0)","v":0}]
[131,null,null,null,null,null,0]
[132,null,null,null,null,null,0]
[133,null,null,null,null,null,0]
[134,null,null,null,null,null,0]
[135,null,null,null,null,null,0]
[136,null,null,null,null,null,0]
[137,null,null,null,null,null,0]
[138,null,null,null,null,null,0]
[139,null,null,null,null,null,0]
[140,null,null,null,null,null,0]
[141,null,null,null,null,null,0]
[142,null,null,null,null,null,0]
[143,null,null,null,null,null,0]
[144,null,null,null,null,null,0]
[145,null,null,null,null,null,0]
[146,null,null,null,null,null,0]
[147,null,null,null,null,null,0]
[148,null,null,null,null,null,0]
[149,null,null,null,null,null,0]
[150,null,null,null,null,null,0]
["Ogółem:",null,null,null,{"$f":"SUM(E39:E188)","v":0},{"$f":"SUM(F39:F188)","v":0},{"$f":"SUMIF(G39:G188,\">0\")","v":0}]
["Tabelę B.1 proszę wypełnić zgodnie z wytycznymi poniżej:\nKolumna 1\nNależy wskazać nazwę lub numer linii komunikacyjnej\nKażda linia komunikacyjna będzie traktowana jako oddzielne zadanie.\nKolumna nr 2\nNależy wskazać miejscowości, w których zlokalizowane są przystanki autobusowe w danej linii komunikacyjnej. \nW przypadku, gdy w danej miejscowości znajduje się więcej niż jeden przystanek komunikacyjny, należy wskazać tę miejscowość tylko raz.\nKolumna nr 3\nNależy wskazać gminy, na obszarze których wykonywane będą przewozy autobusowe o charakterze użyteczności publicznej.\nKolumna 4\nNależy wskazać długość linii komunikacyjnej wyrażoną w kilometrach.  \nKolumna 5\nNależy wskazać łączną liczbę zatrzymań autobusu na przystankach komunikacyjnych, w roku budżetowym, którego dotyczy wniosek o objęcie dopłatą.\nKolumna 6\n Średnioroczna częstotliwość linii komunikacyjnej jako planowana ilość kursów w roku budżetowym, którego dotyczy wniosek o objęcie dopłatą. Wartość oblicza się automatycznie po wskazaniu długości linii oraz pracy eksploatacyjnej.\nKolumna 7\nNależy wskazać graniczną datę uruchomienia linii komunikacyjnej. Uwaga, linia nieuruchomiona w tym terminie nie będzie podlegała dofinansowaniu.\n"]
[]
[]
[]
[]
[]
[]
[]
[]
[]
["C.1   Planowana wielkość pracy eksploatacyjnej wyrażona w wozokilometrach wykonywana w 2026 roku"]
["L.p.","Nazwa linii komunikacyjnej","Liczba wozokilometrów*"]
[{"$f":"A39","v":1},0]
[2,0]
[3,0]
[4,0]
[5,0]
[6,0]
[7,0]
[8,0]
[9,0]
[10,0]
[11,0]
[12,0]
[13,0]
[14,0]
[15,0]
[16,0]
[17,0]
[18,0]
[19,0]
[20,0]
[{"$f":"A59","v":21},0]
[22,0]
[23,0]
[24,0]
[25,0]
[26,0]
[27,0]
[28,0]
[29,0]
[30,0]
[31,0]
[32,0]
[33,0]
[34,0]
[35,0]
[36,0]
[37,0]
[38,0]
[39,0]
[40,0]
[{"$f":"A79","v":41},0]
[42,0]
[43,0]
[44,0]
[45,0]
[46,0]
[47,0]
[48,0]
[49,0]
[50,0]
[{"$f":"A89","v":51},0]
[52,0]
[53,0]
[54,0]
[55,0]
[56,0]
[57,0]
[58,0]
[59,0]
[60,0]
[61,0]
[62,0]
[63,0]
[64,0]
[65,0]
[66,0]
[67,0]
[68,0]
[69,0]
[70,0]
[71,0]
[72,0]
[73,0]
[74,0]
[75,0]
[76,0]
[77,0]
[78,0]
[79,0]
[80,0]
[81,0]
[82,0]
[83,0]
[84,0]
[85,0]
[86,0]
[87,0]
[88,0]
[89,0]
[90,0]
[91,0]
[92,0]
[93,0]
[94,0]
[95,0]
[96,0]
[97,0]
[98,0]
[99,0]
[100,0]
[101,{"$f":"B139","v":0}]
[102,0]
[103,0]
[104,0]
[105,0]
[106,0]
[107,0]
[108,0]
[109,0]
[110,0]
[111,0]
[112,0]
[113,0]
[114,0]
[{"$f":"A153","v":115},0]
[116,0]
[117,0]
[118,0]
[119,0]
[120,0]
[121,0]
[122,0]
[123,0]
[124,0]
[125,0]
[126,0]
[127,0]
[128,0]
[129,0]
[130,0]
[131,0]
[132,0]
[133,{"$f":"B171","v":0}]
[134,0]
[135,0]
[136,0]
[137,0]
[138,0]
[139,0]
[140,0]
[141,0]
[142,0]
[143,0]
[144,0]
[145,0]
[146,0]
[147,0]
[148,0]
[149,0]
[150,0]
["Ogółem:",null,{"$f":"SUM(C202:C351)","v":0}]
["* przejazd 1 autobusu na odległość 1 km"]
[]
["D.1 Planowany wkład własny organizatora publicznego transportu zbiorowego w 2026 roku"]
["L.p.","Nazwa linii komunikacyjnej","Cena usługi \n[zł]","Część ceny usługi sfinansowanej ze środków własnych organizatora \n[zł]",null,"Procentowa wartość części ceny usługi sfinansowanej ze środków własnych organizatora \n[%]",null,"Środki własne organizatora \n[zł]"]
[null,1,2,3,null,4,null,5]
[{"$f":"A39","v":1},0,{"$f":"IFERROR(C512/C202,0)","v":0},{"$f":"IFERROR(H358/C202,0)","v":0},null,{"$f":"IFERROR(D358/C358,0)","v":0}]
[2,0,0,{"$f":"IFERROR(H359/C203,0)","v":0},null,{"$f":"IFERROR(D359/C359,0)","v":0}]
[3,0,0,0,null,0]
[4,0,0,0,null,0]
[5,0,0,0,null,0]
[6,0,0,0,null,0]
[7,0,0,0,null,0]
[8,0,0,0,null,0]
[9,0,0,0,null,0]
[10,0,0,0,null,0]
[11,0,0,0,null,0]
[12,0,0,0,null,0]
[13,0,0,0,null,0]
[14,0,0,0,null,0]
[15,0,0,0,null,0]
[16,0,0,0,null,0]
[17,0,0,0,null,0]
[18,0,0,0,null,0]
[19,0,0,0,null,0]
[20,0,0,0,null,0]
[{"$f":"A59","v":21},0,0,0,null,0]
[22,0,0,0,null,0]
[23,0,0,0,null,0]
[24,0,0,0,null,0]
[25,0,0,0,null,0]
[26,0,0,0,null,0]
[27,0,0,0,null,0]
[28,0,0,0,null,0]
[29,0,0,0,null,0]
[30,0,0,0,null,0]
[31,0,0,0,null,0]
[32,0,0,0,null,0]
[33,0,0,0,null,0]
[34,0,0,0,null,0]
[35,0,0,0,null,0]
[36,0,0,0,null,0]
[37,0,0,0,null,0]
[38,0,0,0,null,0]
[39,0,0,0,null,0]
[40,0,0,0,null,0]
[{"$f":"A79","v":41},0,0,0,null,0]
[42,0,0,0,null,0]
[43,0,0,0,null,0]
[44,0,0,0,null,0]
[45,0,0,0,null,0]
[46,0,0,0,null,0]
[47,0,0,0,null,0]
[48,0,0,0,null,0]
[49,0,0,0,null,0]
[50,0,0,0,null,0]
[51,0,0,0,null,0]
[52,0,0,0,null,0]
[53,0,0,0,null,0]
[54,0,0,0,null,0]
[55,0,0,0,null,0]
[56,0,0,0,null,0]
[57,0,0,0,null,0]
[58,0,0,0,null,0]
[59,0,0,0,null,0]
[60,0,0,0,null,0]
[{"$f":"A99","v":61},0,0,0,null,0]
[62,0,0,0,null,0]
[63,0,0,0,null,0]
[64,0,0,0,null,0]
[65,0,{"$f":"IFERROR(C576/C266,0)","v":0},0,null,0]
[66,0,0,{"$f":"IFERROR(H423/C267,0)","v":0},null,{"$f":"IFERROR(D423/C423,0)","v":0}]
[67,0,0,0,null,0]
[68,0,0,0,null,0]
[69,0,0,0,null,0]
[70,0,0,0,null,0]
[71,0,0,0,null,0]
[72,0,0,0,null,0]
[73,0,0,0,null,0]
[74,0,0,0,null,0]
[75,0,0,0,null,0]
[76,0,0,0,null,0]
[77,0,0,0,null,0]
[78,0,0,0,null,0]
[79,0,0,0,null,0]
[80,0,0,0,null,0]
[{"$f":"A119","v":81},0,0,0,null,0]
[82,0,0,0,null,0]
[83,0,0,0,null,0]
[84,0,0,0,null,0]
[85,0,0,0,null,0]
[86,0,0,0,null,0]
[87,0,0,0,null,0]
[88,0,0,0,null,0]
[89,0,0,0,null,0]
[90,0,0,0,null,0]
[91,0,0,0,null,0]
[92,0,0,0,null,0]
[93,0,0,0,null,0]
[94,0,0,0,null,0]
[95,0,0,0,null,0]
[96,0,0,0,null,0]
[97,0,0,0,null,0]
[98,0,0,0,null,0]
[99,0,0,0,null,0]
[{"$f":"A138","v":100},{"$f":"B138","v":0},0,0,null,0]
[101,{"$f":"B139","v":0},0,0,null,0]
[102,{"$f":"B140","v":0},0,0,null,0]
[103,{"$f":"B141","v":0},0,0,null,0]
[104,{"$f":"B142","v":0},0,0,null,0]
[105,{"$f":"B143","v":0},0,0,null,0]
[106,{"$f":"B144","v":0},0,0,null,0]
[107,{"$f":"B145","v":0},0,0,null,0]
[108,{"$f":"B146","v":0},0,0,null,0]
[109,{"$f":"B147","v":0},0,0,null,0]
[110,0,0,0,null,0]
[111,0,0,0,null,0]
[112,0,0,0,null,0]
[113,0,0,0,null,0]
[114,0,0,0,null,0]
[115,0,0,0,null,0]
[116,0,0,0,null,0]
[117,0,0,0,null,0]
[118,0,0,0,null,0]
[119,0,0,0,null,0]
[120,0,0,0,null,0]
[121,0,0,0,null,0]
[122,0,0,0,null,0]
[123,0,0,0,null,0]
[124,0,0,0,null,0]
[125,0,0,0,null,0]
[126,0,0,0,null,0]
[127,0,0,0,null,0]
[128,0,0,0,null,0]
[129,0,{"$f":"IFERROR(C640/C330,0)","v":0},0,null,0]
[130,0,0,{"$f":"IFERROR(H487/C331,0)","v":0},null,{"$f":"IFERROR(D487/C487,0)","v":0}]
[131,0,0,0,null,0]
[{"$f":"A170","v":132},0,0,0,null,0]
[133,0,0,0,null,0]
[134,0,0,0,null,0]
[135,0,0,0,null,0]
[136,0,0,0,null,0]
[137,0,0,0,null,0]
[138,0,0,0,null,0]
[139,0,0,0,null,0]
[140,0,0,0,null,0]
[141,0,0,0,null,0]
[142,0,0,0,null,0]
[143,0,0,0,null,0]
[144,0,0,0,null,0]
[145,0,0,0,null,0]
[146,0,0,0,null,0]
[147,0,0,0,null,0]
[148,0,0,0,null,0]
[149,0,0,0,null,0]
[150,0,0,0,null,0]
["Ogółem:",null,null,null,null,null,null,{"$f":"SUM(H358:H507)","v":0}]
["Tabelę D.1 proszę wypełnić zgodnie z wytycznymi poniżej:\nKolumna nr 1\nNależy wskazać nazwę lub numer linii komunikacyjnej. Pole wypełnia się automatycznie po wskazaniu nazwy w części B.1\nKolumna nr 2\nCena usługi jako kwota deficytu pojedyńczej linii komunikacyjnej w przewozach autobusowych o charakterze użyteczności publicznej wyrażona w złotych w odniesieniu do 1 wozokilometra.Wartość oblicza się automatycznie po wskazaniu deficytu oraz pracy eksploatacyjnej.\nKolumna nr 3\nUdział własny organizatora publicznego transportu zbiorowego wyrażony w złotych w odniesieniu do 1 wozokilometra.Wartość oblicza się automatycznie po wskazaniu środków własnych organizatora oraz pracy eksploatacyjnej.\nKolumna 4\nCzęści ceny usługi sfinansowana ze środków własnych organizatora publicznego transportu zbiorowego (nie mniej niż 10 %). Wartość oblicza się automatycznie po wypełnieniu pozostałych pól.\nKolumna 5\nNależy wskazać kwotę środków własnych organizatora publicznego transportu zbiorowego dla danej linii komunikacyjnej."]
["E.1 Planowana kwota deficytu linii komunikacyjnych, na których będą wykonywane przewozy autobusowe o charakterze użyteczności publicznej w 2026 roku"]
["L.p.","Nazwa linii komunikacyjnej","Planowana kwota deficytu*"]
[{"$f":"A39","v":1},0,{"$f":"IF('Zał. nr 2 kalkulacja - 2026 r.'!N26<0,'Zał. nr 2 kalkulacja - 2026 r.'!N26*(-1),0)","v":0}]
[2,0,{"$f":"IF('Zał. nr 2 kalkulacja - 2026 r.'!N27<0,'Zał. nr 2 kalkulacja - 2026 r.'!N27*(-1),0)","v":0}]
[3,0,{"$f":"IF('Zał. nr 2 kalkulacja - 2026 r.'!N28<0,'Zał. nr 2 kalkulacja - 2026 r.'!N28*(-1),0)","v":0}]
[4,0,{"$f":"IF('Zał. nr 2 kalkulacja - 2026 r.'!N29<0,'Zał. nr 2 kalkulacja - 2026 r.'!N29*(-1),0)","v":0}]
[5,0,{"$f":"IF('Zał. nr 2 kalkulacja - 2026 r.'!N30<0,'Zał. nr 2 kalkulacja - 2026 r.'!N30*(-1),0)","v":0}]
[6,0,{"$f":"IF('Zał. nr 2 kalkulacja - 2026 r.'!N31<0,'Zał. nr 2 kalkulacja - 2026 r.'!N31*(-1),0)","v":0}]
[7,0,{"$f":"IF('Zał. nr 2 kalkulacja - 2026 r.'!N32<0,'Zał. nr 2 kalkulacja - 2026 r.'!N32*(-1),0)","v":0}]
[8,0,{"$f":"IF('Zał. nr 2 kalkulacja - 2026 r.'!N33<0,'Zał. nr 2 kalkulacja - 2026 r.'!N33*(-1),0)","v":0}]
[9,0,{"$f":"IF('Zał. nr 2 kalkulacja - 2026 r.'!N34<0,'Zał. nr 2 kalkulacja - 2026 r.'!N34*(-1),0)","v":0}]
[10,0,{"$f":"IF('Zał. nr 2 kalkulacja - 2026 r.'!N35<0,'Zał. nr 2 kalkulacja - 2026 r.'!N35*(-1),0)","v":0}]
[11,0,{"$f":"IF('Zał. nr 2 kalkulacja - 2026 r.'!N36<0,'Zał. nr 2 kalkulacja - 2026 r.'!N36*(-1),0)","v":0}]
[12,0,{"$f":"IF('Zał. nr 2 kalkulacja - 2026 r.'!N37<0,'Zał. nr 2 kalkulacja - 2026 r.'!N37*(-1),0)","v":0}]
[13,0,{"$f":"IF('Zał. nr 2 kalkulacja - 2026 r.'!N38<0,'Zał. nr 2 kalkulacja - 2026 r.'!N38*(-1),0)","v":0}]
[14,0,{"$f":"IF('Zał. nr 2 kalkulacja - 2026 r.'!N39<0,'Zał. nr 2 kalkulacja - 2026 r.'!N39*(-1),0)","v":0}]
[15,0,{"$f":"IF('Zał. nr 2 kalkulacja - 2026 r.'!N40<0,'Zał. nr 2 kalkulacja - 2026 r.'!N40*(-1),0)","v":0}]
[16,0,{"$f":"IF('Zał. nr 2 kalkulacja - 2026 r.'!N41<0,'Zał. nr 2 kalkulacja - 2026 r.'!N41*(-1),0)","v":0}]
[17,0,{"$f":"IF('Zał. nr 2 kalkulacja - 2026 r.'!N42<0,'Zał. nr 2 kalkulacja - 2026 r.'!N42*(-1),0)","v":0}]
[18,0,{"$f":"IF('Zał. nr 2 kalkulacja - 2026 r.'!N43<0,'Zał. nr 2 kalkulacja - 2026 r.'!N43*(-1),0)","v":0}]
[19,0,{"$f":"IF('Zał. nr 2 kalkulacja - 2026 r.'!N44<0,'Zał. nr 2 kalkulacja - 2026 r.'!N44*(-1),0)","v":0}]
[20,0,{"$f":"IF('Zał. nr 2 kalkulacja - 2026 r.'!N45<0,'Zał. nr 2 kalkulacja - 2026 r.'!N45*(-1),0)","v":0}]
[{"$f":"A59","v":21},0,{"$f":"IF('Zał. nr 2 kalkulacja - 2026 r.'!N46<0,'Zał. nr 2 kalkulacja - 2026 r.'!N46*(-1),0)","v":0}]
[22,0,{"$f":"IF('Zał. nr 2 kalkulacja - 2026 r.'!N47<0,'Zał. nr 2 kalkulacja - 2026 r.'!N47*(-1),0)","v":0}]
[23,0,{"$f":"IF('Zał. nr 2 kalkulacja - 2026 r.'!N48<0,'Zał. nr 2 kalkulacja - 2026 r.'!N48*(-1),0)","v":0}]
[24,0,{"$f":"IF('Zał. nr 2 kalkulacja - 2026 r.'!N49<0,'Zał. nr 2 kalkulacja - 2026 r.'!N49*(-1),0)","v":0}]
[25,0,{"$f":"IF('Zał. nr 2 kalkulacja - 2026 r.'!N50<0,'Zał. nr 2 kalkulacja - 2026 r.'!N50*(-1),0)","v":0}]
[26,0,{"$f":"IF('Zał. nr 2 kalkulacja - 2026 r.'!N51<0,'Zał. nr 2 kalkulacja - 2026 r.'!N51*(-1),0)","v":0}]
[27,0,{"$f":"IF('Zał. nr 2 kalkulacja - 2026 r.'!N52<0,'Zał. nr 2 kalkulacja - 2026 r.'!N52*(-1),0)","v":0}]
[28,0,{"$f":"IF('Zał. nr 2 kalkulacja - 2026 r.'!N53<0,'Zał. nr 2 kalkulacja - 2026 r.'!N53*(-1),0)","v":0}]
[29,0,{"$f":"IF('Zał. nr 2 kalkulacja - 2026 r.'!N54<0,'Zał. nr 2 kalkulacja - 2026 r.'!N54*(-1),0)","v":0}]
[30,0,{"$f":"IF('Zał. nr 2 kalkulacja - 2026 r.'!N55<0,'Zał. nr 2 kalkulacja - 2026 r.'!N55*(-1),0)","v":0}]
[31,0,{"$f":"IF('Zał. nr 2 kalkulacja - 2026 r.'!N56<0,'Zał. nr 2 kalkulacja - 2026 r.'!N56*(-1),0)","v":0}]
[32,0,{"$f":"IF('Zał. nr 2 kalkulacja - 2026 r.'!N57<0,'Zał. nr 2 kalkulacja - 2026 r.'!N57*(-1),0)","v":0}]
[33,0,{"$f":"IF('Zał. nr 2 kalkulacja - 2026 r.'!N58<0,'Zał. nr 2 kalkulacja - 2026 r.'!N58*(-1),0)","v":0}]
[34,0,{"$f":"IF('Zał. nr 2 kalkulacja - 2026 r.'!N59<0,'Zał. nr 2 kalkulacja - 2026 r.'!N59*(-1),0)","v":0}]
[35,0,{"$f":"IF('Zał. nr 2 kalkulacja - 2026 r.'!N60<0,'Zał. nr 2 kalkulacja - 2026 r.'!N60*(-1),0)","v":0}]
[36,0,{"$f":"IF('Zał. nr 2 kalkulacja - 2026 r.'!N61<0,'Zał. nr 2 kalkulacja - 2026 r.'!N61*(-1),0)","v":0}]
[37,0,{"$f":"IF('Zał. nr 2 kalkulacja - 2026 r.'!N62<0,'Zał. nr 2 kalkulacja - 2026 r.'!N62*(-1),0)","v":0}]
[38,0,{"$f":"IF('Zał. nr 2 kalkulacja - 2026 r.'!N63<0,'Zał. nr 2 kalkulacja - 2026 r.'!N63*(-1),0)","v":0}]
[39,0,{"$f":"IF('Zał. nr 2 kalkulacja - 2026 r.'!N64<0,'Zał. nr 2 kalkulacja - 2026 r.'!N64*(-1),0)","v":0}]
[40,0,{"$f":"IF('Zał. nr 2 kalkulacja - 2026 r.'!N65<0,'Zał. nr 2 kalkulacja - 2026 r.'!N65*(-1),0)","v":0}]
[{"$f":"A79","v":41},0,{"$f":"IF('Zał. nr 2 kalkulacja - 2026 r.'!N66<0,'Zał. nr 2 kalkulacja - 2026 r.'!N66*(-1),0)","v":0}]
[42,0,{"$f":"IF('Zał. nr 2 kalkulacja - 2026 r.'!N67<0,'Zał. nr 2 kalkulacja - 2026 r.'!N67*(-1),0)","v":0}]
[43,0,{"$f":"IF('Zał. nr 2 kalkulacja - 2026 r.'!N68<0,'Zał. nr 2 kalkulacja - 2026 r.'!N68*(-1),0)","v":0}]
[44,0,{"$f":"IF('Zał. nr 2 kalkulacja - 2026 r.'!N69<0,'Zał. nr 2 kalkulacja - 2026 r.'!N69*(-1),0)","v":0}]
[45,0,{"$f":"IF('Zał. nr 2 kalkulacja - 2026 r.'!N70<0,'Zał. nr 2 kalkulacja - 2026 r.'!N70*(-1),0)","v":0}]
[46,0,{"$f":"IF('Zał. nr 2 kalkulacja - 2026 r.'!N71<0,'Zał. nr 2 kalkulacja - 2026 r.'!N71*(-1),0)","v":0}]
[47,0,{"$f":"IF('Zał. nr 2 kalkulacja - 2026 r.'!N72<0,'Zał. nr 2 kalkulacja - 2026 r.'!N72*(-1),0)","v":0}]
[48,0,{"$f":"IF('Zał. nr 2 kalkulacja - 2026 r.'!N73<0,'Zał. nr 2 kalkulacja - 2026 r.'!N73*(-1),0)","v":0}]
[49,0,{"$f":"IF('Zał. nr 2 kalkulacja - 2026 r.'!N74<0,'Zał. nr 2 kalkulacja - 2026 r.'!N74*(-1),0)","v":0}]
[50,0,{"$f":"IF('Zał. nr 2 kalkulacja - 2026 r.'!N75<0,'Zał. nr 2 kalkulacja - 2026 r.'!N75*(-1),0)","v":0}]
[51,0,{"$f":"IF('Zał. nr 2 kalkulacja - 2026 r.'!N76<0,'Zał. nr 2 kalkulacja - 2026 r.'!N76*(-1),0)","v":0}]
[52,0,{"$f":"IF('Zał. nr 2 kalkulacja - 2026 r.'!N77<0,'Zał. nr 2 kalkulacja - 2026 r.'!N77*(-1),0)","v":0}]
[53,0,{"$f":"IF('Zał. nr 2 kalkulacja - 2026 r.'!N78<0,'Zał. nr 2 kalkulacja - 2026 r.'!N78*(-1),0)","v":0}]
[54,0,{"$f":"IF('Zał. nr 2 kalkulacja - 2026 r.'!N79<0,'Zał. nr 2 kalkulacja - 2026 r.'!N79*(-1),0)","v":0}]
[55,0,{"$f":"IF('Zał. nr 2 kalkulacja - 2026 r.'!N80<0,'Zał. nr 2 kalkulacja - 2026 r.'!N80*(-1),0)","v":0}]
[56,0,{"$f":"IF('Zał. nr 2 kalkulacja - 2026 r.'!N81<0,'Zał. nr 2 kalkulacja - 2026 r.'!N81*(-1),0)","v":0}]
[57,0,{"$f":"IF('Zał. nr 2 kalkulacja - 2026 r.'!N82<0,'Zał. nr 2 kalkulacja - 2026 r.'!N82*(-1),0)","v":0}]
[58,0,{"$f":"IF('Zał. nr 2 kalkulacja - 2026 r.'!N83<0,'Zał. nr 2 kalkulacja - 2026 r.'!N83*(-1),0)","v":0}]
[59,0,{"$f":"IF('Zał. nr 2 kalkulacja - 2026 r.'!N84<0,'Zał. nr 2 kalkulacja - 2026 r.'!N84*(-1),0)","v":0}]
[60,0,{"$f":"IF('Zał. nr 2 kalkulacja - 2026 r.'!N85<0,'Zał. nr 2 kalkulacja - 2026 r.'!N85*(-1),0)","v":0}]
[{"$f":"A99","v":61},0,{"$f":"IF('Zał. nr 2 kalkulacja - 2026 r.'!N86<0,'Zał. nr 2 kalkulacja - 2026 r.'!N86*(-1),0)","v":0}]
[62,0,{"$f":"IF('Zał. nr 2 kalkulacja - 2026 r.'!N87<0,'Zał. nr 2 kalkulacja - 2026 r.'!N87*(-1),0)","v":0}]
[63,0,{"$f":"IF('Zał. nr 2 kalkulacja - 2026 r.'!N88<0,'Zał. nr 2 kalkulacja - 2026 r.'!N88*(-1),0)","v":0}]
[64,0,{"$f":"IF('Zał. nr 2 kalkulacja - 2026 r.'!N89<0,'Zał. nr 2 kalkulacja - 2026 r.'!N89*(-1),0)","v":0}]
[65,0,{"$f":"IF('Zał. nr 2 kalkulacja - 2026 r.'!N90<0,'Zał. nr 2 kalkulacja - 2026 r.'!N90*(-1),0)","v":0}]
[66,0,{"$f":"IF('Zał. nr 2 kalkulacja - 2026 r.'!N91<0,'Zał. nr 2 kalkulacja - 2026 r.'!N91*(-1),0)","v":0}]
[67,0,{"$f":"IF('Zał. nr 2 kalkulacja - 2026 r.'!N92<0,'Zał. nr 2 kalkulacja - 2026 r.'!N92*(-1),0)","v":0}]
[68,0,{"$f":"IF('Zał. nr 2 kalkulacja - 2026 r.'!N93<0,'Zał. nr 2 kalkulacja - 2026 r.'!N93*(-1),0)","v":0}]
[69,0,{"$f":"IF('Zał. nr 2 kalkulacja - 2026 r.'!N94<0,'Zał. nr 2 kalkulacja - 2026 r.'!N94*(-1),0)","v":0}]
[70,0,{"$f":"IF('Zał. nr 2 kalkulacja - 2026 r.'!N95<0,'Zał. nr 2 kalkulacja - 2026 r.'!N95*(-1),0)","v":0}]
[71,0,{"$f":"IF('Zał. nr 2 kalkulacja - 2026 r.'!N96<0,'Zał. nr 2 kalkulacja - 2026 r.'!N96*(-1),0)","v":0}]
[72,0,{"$f":"IF('Zał. nr 2 kalkulacja - 2026 r.'!N97<0,'Zał. nr 2 kalkulacja - 2026 r.'!N97*(-1),0)","v":0}]
[73,0,{"$f":"IF('Zał. nr 2 kalkulacja - 2026 r.'!N98<0,'Zał. nr 2 kalkulacja - 2026 r.'!N98*(-1),0)","v":0}]
[74,0,{"$f":"IF('Zał. nr 2 kalkulacja - 2026 r.'!N99<0,'Zał. nr 2 kalkulacja - 2026 r.'!N99*(-1),0)","v":0}]
[75,0,{"$f":"IF('Zał. nr 2 kalkulacja - 2026 r.'!N100<0,'Zał. nr 2 kalkulacja - 2026 r.'!N100*(-1),0)","v":0}]
[76,0,{"$f":"IF('Zał. nr 2 kalkulacja - 2026 r.'!N101<0,'Zał. nr 2 kalkulacja - 2026 r.'!N101*(-1),0)","v":0}]
[77,0,{"$f":"IF('Zał. nr 2 kalkulacja - 2026 r.'!N102<0,'Zał. nr 2 kalkulacja - 2026 r.'!N102*(-1),0)","v":0}]
[78,0,{"$f":"IF('Zał. nr 2 kalkulacja - 2026 r.'!N103<0,'Zał. nr 2 kalkulacja - 2026 r.'!N103*(-1),0)","v":0}]
[79,0,{"$f":"IF('Zał. nr 2 kalkulacja - 2026 r.'!N104<0,'Zał. nr 2 kalkulacja - 2026 r.'!N104*(-1),0)","v":0}]
[80,0,{"$f":"IF('Zał. nr 2 kalkulacja - 2026 r.'!N105<0,'Zał. nr 2 kalkulacja - 2026 r.'!N105*(-1),0)","v":0}]
[{"$f":"A119","v":81},0,{"$f":"IF('Zał. nr 2 kalkulacja - 2026 r.'!N106<0,'Zał. nr 2 kalkulacja - 2026 r.'!N106*(-1),0)","v":0}]
[82,0,{"$f":"IF('Zał. nr 2 kalkulacja - 2026 r.'!N107<0,'Zał. nr 2 kalkulacja - 2026 r.'!N107*(-1),0)","v":0}]
[83,0,{"$f":"IF('Zał. nr 2 kalkulacja - 2026 r.'!N108<0,'Zał. nr 2 kalkulacja - 2026 r.'!N108*(-1),0)","v":0}]
[84,0,{"$f":"IF('Zał. nr 2 kalkulacja - 2026 r.'!N109<0,'Zał. nr 2 kalkulacja - 2026 r.'!N109*(-1),0)","v":0}]
[85,0,{"$f":"IF('Zał. nr 2 kalkulacja - 2026 r.'!N110<0,'Zał. nr 2 kalkulacja - 2026 r.'!N110*(-1),0)","v":0}]
[86,0,{"$f":"IF('Zał. nr 2 kalkulacja - 2026 r.'!N111<0,'Zał. nr 2 kalkulacja - 2026 r.'!N111*(-1),0)","v":0}]
[87,0,{"$f":"IF('Zał. nr 2 kalkulacja - 2026 r.'!N112<0,'Zał. nr 2 kalkulacja - 2026 r.'!N112*(-1),0)","v":0}]
[88,0,{"$f":"IF('Zał. nr 2 kalkulacja - 2026 r.'!N113<0,'Zał. nr 2 kalkulacja - 2026 r.'!N113*(-1),0)","v":0}]
[89,0,{"$f":"IF('Zał. nr 2 kalkulacja - 2026 r.'!N114<0,'Zał. nr 2 kalkulacja - 2026 r.'!N114*(-1),0)","v":0}]
[90,0,{"$f":"IF('Zał. nr 2 kalkulacja - 2026 r.'!N115<0,'Zał. nr 2 kalkulacja - 2026 r.'!N115*(-1),0)","v":0}]
[91,0,{"$f":"IF('Zał. nr 2 kalkulacja - 2026 r.'!N116<0,'Zał. nr 2 kalkulacja - 2026 r.'!N116*(-1),0)","v":0}]
[92,0,{"$f":"IF('Zał. nr 2 kalkulacja - 2026 r.'!N117<0,'Zał. nr 2 kalkulacja - 2026 r.'!N117*(-1),0)","v":0}]
[93,0,{"$f":"IF('Zał. nr 2 kalkulacja - 2026 r.'!N118<0,'Zał. nr 2 kalkulacja - 2026 r.'!N118*(-1),0)","v":0}]
[94,0,{"$f":"IF('Zał. nr 2 kalkulacja - 2026 r.'!N119<0,'Zał. nr 2 kalkulacja - 2026 r.'!N119*(-1),0)","v":0}]
[95,0,{"$f":"IF('Zał. nr 2 kalkulacja - 2026 r.'!N120<0,'Zał. nr 2 kalkulacja - 2026 r.'!N120*(-1),0)","v":0}]
[96,0,{"$f":"IF('Zał. nr 2 kalkulacja - 2026 r.'!N121<0,'Zał. nr 2 kalkulacja - 2026 r.'!N121*(-1),0)","v":0}]
[97,0,{"$f":"IF('Zał. nr 2 kalkulacja - 2026 r.'!N122<0,'Zał. nr 2 kalkulacja - 2026 r.'!N122*(-1),0)","v":0}]
[98,0,{"$f":"IF('Zał. nr 2 kalkulacja - 2026 r.'!N123<0,'Zał. nr 2 kalkulacja - 2026 r.'!N123*(-1),0)","v":0}]
[99,0,{"$f":"IF('Zał. nr 2 kalkulacja - 2026 r.'!N124<0,'Zał. nr 2 kalkulacja - 2026 r.'!N124*(-1),0)","v":0}]
[100,0,{"$f":"IF('Zał. nr 2 kalkulacja - 2026 r.'!N125<0,'Zał. nr 2 kalkulacja - 2026 r.'!N125*(-1),0)","v":0}]
[{"$f":"A139","v":101},0,{"$f":"IF('Zał. nr 2 kalkulacja - 2026 r.'!N126<0,'Zał. nr 2 kalkulacja - 2026 r.'!N126*(-1),0)","v":0}]
[102,0,{"$f":"IF('Zał. nr 2 kalkulacja - 2026 r.'!N127<0,'Zał. nr 2 kalkulacja - 2026 r.'!N127*(-1),0)","v":0}]
[103,0,{"$f":"IF('Zał. nr 2 kalkulacja - 2026 r.'!N128<0,'Zał. nr 2 kalkulacja - 2026 r.'!N128*(-1),0)","v":0}]
[104,0,{"$f":"IF('Zał. nr 2 kalkulacja - 2026 r.'!N129<0,'Zał. nr 2 kalkulacja - 2026 r.'!N129*(-1),0)","v":0}]
[105,0,{"$f":"IF('Zał. nr 2 kalkulacja - 2026 r.'!N130<0,'Zał. nr 2 kalkulacja - 2026 r.'!N130*(-1),0)","v":0}]
[106,0,{"$f":"IF('Zał. nr 2 kalkulacja - 2026 r.'!N131<0,'Zał. nr 2 kalkulacja - 2026 r.'!N131*(-1),0)","v":0}]
[107,0,{"$f":"IF('Zał. nr 2 kalkulacja - 2026 r.'!N132<0,'Zał. nr 2 kalkulacja - 2026 r.'!N132*(-1),0)","v":0}]
[108,0,{"$f":"IF('Zał. nr 2 kalkulacja - 2026 r.'!N133<0,'Zał. nr 2 kalkulacja - 2026 r.'!N133*(-1),0)","v":0}]
[109,0,{"$f":"IF('Zał. nr 2 kalkulacja - 2026 r.'!N134<0,'Zał. nr 2 kalkulacja - 2026 r.'!N134*(-1),0)","v":0}]
[110,0,{"$f":"IF('Zał. nr 2 kalkulacja - 2026 r.'!N135<0,'Zał. nr 2 kalkulacja - 2026 r.'!N135*(-1),0)","v":0}]
[111,0,{"$f":"IF('Zał. nr 2 kalkulacja - 2026 r.'!N136<0,'Zał. nr 2 kalkulacja - 2026 r.'!N136*(-1),0)","v":0}]
[112,0,{"$f":"IF('Zał. nr 2 kalkulacja - 2026 r.'!N137<0,'Zał. nr 2 kalkulacja - 2026 r.'!N137*(-1),0)","v":0}]
[113,0,{"$f":"IF('Zał. nr 2 kalkulacja - 2026 r.'!N138<0,'Zał. nr 2 kalkulacja - 2026 r.'!N138*(-1),0)","v":0}]
[114,0,{"$f":"IF('Zał. nr 2 kalkulacja - 2026 r.'!N139<0,'Zał. nr 2 kalkulacja - 2026 r.'!N139*(-1),0)","v":0}]
[115,0,{"$f":"IF('Zał. nr 2 kalkulacja - 2026 r.'!N140<0,'Zał. nr 2 kalkulacja - 2026 r.'!N140*(-1),0)","v":0}]
[116,0,{"$f":"IF('Zał. nr 2 kalkulacja - 2026 r.'!N141<0,'Zał. nr 2 kalkulacja - 2026 r.'!N141*(-1),0)","v":0}]
[117,0,{"$f":"IF('Zał. nr 2 kalkulacja - 2026 r.'!N142<0,'Zał. nr 2 kalkulacja - 2026 r.'!N142*(-1),0)","v":0}]
[118,0,{"$f":"IF('Zał. nr 2 kalkulacja - 2026 r.'!N143<0,'Zał. nr 2 kalkulacja - 2026 r.'!N143*(-1),0)","v":0}]
[119,0,{"$f":"IF('Zał. nr 2 kalkulacja - 2026 r.'!N144<0,'Zał. nr 2 kalkulacja - 2026 r.'!N144*(-1),0)","v":0}]
[120,0,{"$f":"IF('Zał. nr 2 kalkulacja - 2026 r.'!N145<0,'Zał. nr 2 kalkulacja - 2026 r.'!N145*(-1),0)","v":0}]
[{"$f":"A159","v":121},0,{"$f":"IF('Zał. nr 2 kalkulacja - 2026 r.'!N146<0,'Zał. nr 2 kalkulacja - 2026 r.'!N146*(-1),0)","v":0}]
[122,0,{"$f":"IF('Zał. nr 2 kalkulacja - 2026 r.'!N147<0,'Zał. nr 2 kalkulacja - 2026 r.'!N147*(-1),0)","v":0}]
[123,0,{"$f":"IF('Zał. nr 2 kalkulacja - 2026 r.'!N148<0,'Zał. nr 2 kalkulacja - 2026 r.'!N148*(-1),0)","v":0}]
[124,0,{"$f":"IF('Zał. nr 2 kalkulacja - 2026 r.'!N149<0,'Zał. nr 2 kalkulacja - 2026 r.'!N149*(-1),0)","v":0}]
[125,0,{"$f":"IF('Zał. nr 2 kalkulacja - 2026 r.'!N150<0,'Zał. nr 2 kalkulacja - 2026 r.'!N150*(-1),0)","v":0}]
[126,0,{"$f":"IF('Zał. nr 2 kalkulacja - 2026 r.'!N151<0,'Zał. nr 2 kalkulacja - 2026 r.'!N151*(-1),0)","v":0}]
[127,0,{"$f":"IF('Zał. nr 2 kalkulacja - 2026 r.'!N152<0,'Zał. nr 2 kalkulacja - 2026 r.'!N152*(-1),0)","v":0}]
[128,0,{"$f":"IF('Zał. nr 2 kalkulacja - 2026 r.'!N153<0,'Zał. nr 2 kalkulacja - 2026 r.'!N153*(-1),0)","v":0}]
[129,0,{"$f":"IF('Zał. nr 2 kalkulacja - 2026 r.'!N154<0,'Zał. nr 2 kalkulacja - 2026 r.'!N154*(-1),0)","v":0}]
[130,0,{"$f":"IF('Zał. nr 2 kalkulacja - 2026 r.'!N155<0,'Zał. nr 2 kalkulacja - 2026 r.'!N155*(-1),0)","v":0}]
[131,0,{"$f":"IF('Zał. nr 2 kalkulacja - 2026 r.'!N156<0,'Zał. nr 2 kalkulacja - 2026 r.'!N156*(-1),0)","v":0}]
[132,0,{"$f":"IF('Zał. nr 2 kalkulacja - 2026 r.'!N157<0,'Zał. nr 2 kalkulacja - 2026 r.'!N157*(-1),0)","v":0}]
[133,0,{"$f":"IF('Zał. nr 2 kalkulacja - 2026 r.'!N158<0,'Zał. nr 2 kalkulacja - 2026 r.'!N158*(-1),0)","v":0}]
[134,0,{"$f":"IF('Zał. nr 2 kalkulacja - 2026 r.'!N159<0,'Zał. nr 2 kalkulacja - 2026 r.'!N159*(-1),0)","v":0}]
[135,0,{"$f":"IF('Zał. nr 2 kalkulacja - 2026 r.'!N160<0,'Zał. nr 2 kalkulacja - 2026 r.'!N160*(-1),0)","v":0}]
[136,0,{"$f":"IF('Zał. nr 2 kalkulacja - 2026 r.'!N161<0,'Zał. nr 2 kalkulacja - 2026 r.'!N161*(-1),0)","v":0}]
[137,0,{"$f":"IF('Zał. nr 2 kalkulacja - 2026 r.'!N162<0,'Zał. nr 2 kalkulacja - 2026 r.'!N162*(-1),0)","v":0}]
[138,0,{"$f":"IF('Zał. nr 2 kalkulacja - 2026 r.'!N163<0,'Zał. nr 2 kalkulacja - 2026 r.'!N163*(-1),0)","v":0}]
[139,0,{"$f":"IF('Zał. nr 2 kalkulacja - 2026 r.'!N164<0,'Zał. nr 2 kalkulacja - 2026 r.'!N164*(-1),0)","v":0}]
[140,0,{"$f":"IF('Zał. nr 2 kalkulacja - 2026 r.'!N165<0,'Zał. nr 2 kalkulacja - 2026 r.'!N165*(-1),0)","v":0}]
[{"$f":"A179","v":141},0,{"$f":"IF('Zał. nr 2 kalkulacja - 2026 r.'!N166<0,'Zał. nr 2 kalkulacja - 2026 r.'!N166*(-1),0)","v":0}]
[142,0,{"$f":"IF('Zał. nr 2 kalkulacja - 2026 r.'!N167<0,'Zał. nr 2 kalkulacja - 2026 r.'!N167*(-1),0)","v":0}]
[143,0,{"$f":"IF('Zał. nr 2 kalkulacja - 2026 r.'!N168<0,'Zał. nr 2 kalkulacja - 2026 r.'!N168*(-1),0)","v":0}]
[144,0,{"$f":"IF('Zał. nr 2 kalkulacja - 2026 r.'!N169<0,'Zał. nr 2 kalkulacja - 2026 r.'!N169*(-1),0)","v":0}]
[145,0,{"$f":"IF('Zał. nr 2 kalkulacja - 2026 r.'!N170<0,'Zał. nr 2 kalkulacja - 2026 r.'!N170*(-1),0)","v":0}]
[146,0,{"$f":"IF('Zał. nr 2 kalkulacja - 2026 r.'!N171<0,'Zał. nr 2 kalkulacja - 2026 r.'!N171*(-1),0)","v":0}]
[147,0,{"$f":"IF('Zał. nr 2 kalkulacja - 2026 r.'!N172<0,'Zał. nr 2 kalkulacja - 2026 r.'!N172*(-1),0)","v":0}]
[148,0,{"$f":"IF('Zał. nr 2 kalkulacja - 2026 r.'!N173<0,'Zał. nr 2 kalkulacja - 2026 r.'!N173*(-1),0)","v":0}]
[149,0,{"$f":"IF('Zał. nr 2 kalkulacja - 2026 r.'!N174<0,'Zał. nr 2 kalkulacja - 2026 r.'!N174*(-1),0)","v":0}]
[150,0,{"$f":"IF('Zał. nr 2 kalkulacja - 2026 r.'!N175<0,'Zał. nr 2 kalkulacja - 2026 r.'!N175*(-1),0)","v":0}]
["Ogółem:",null,{"$f":"SUM(C512:C661)","v":0}]
["* ujemny wynik finansowy netto wyliczony dla linii o charakterze użyteczności publicznej nieuwzględniający rozsądnego zysku (iloczyn ilości wozokilometrów i ceny usługi), zgodnie z kalkulacją stanowiącą załącznik nr 2 do wniosku o objęcie dopłatą."]
[]
["F.1 Planowana łączna kwota dopłaty w 2026 roku."]
["L.p.","Nazwa linii komunikacyjnej","Planowana kwota dopłaty*"]
[{"$f":"A39","v":1},0,{"$f":"IFERROR('Weryfikacja 2026 r.'!I157,0)","v":0}]
[2,0,{"$f":"IFERROR('Weryfikacja 2026 r.'!I158,0)","v":0}]
[3,0,{"$f":"IFERROR('Weryfikacja 2026 r.'!I159,0)","v":0}]
[4,0,{"$f":"IFERROR('Weryfikacja 2026 r.'!I160,0)","v":0}]
[5,0,{"$f":"IFERROR('Weryfikacja 2026 r.'!I161,0)","v":0}]
[6,0,{"$f":"IFERROR('Weryfikacja 2026 r.'!I162,0)","v":0}]
[7,0,{"$f":"IFERROR('Weryfikacja 2026 r.'!I163,0)","v":0}]
[8,0,{"$f":"IFERROR('Weryfikacja 2026 r.'!I164,0)","v":0}]
[9,0,{"$f":"IFERROR('Weryfikacja 2026 r.'!I165,0)","v":0}]
[10,0,{"$f":"IFERROR('Weryfikacja 2026 r.'!I166,0)","v":0}]
[11,0,{"$f":"IFERROR('Weryfikacja 2026 r.'!I167,0)","v":0}]
[12,0,{"$f":"IFERROR('Weryfikacja 2026 r.'!I168,0)","v":0}]
[13,0,{"$f":"IFERROR('Weryfikacja 2026 r.'!I169,0)","v":0}]
[14,0,{"$f":"IFERROR('Weryfikacja 2026 r.'!I170,0)","v":0}]
[15,0,{"$f":"IFERROR('Weryfikacja 2026 r.'!I171,0)","v":0}]
[16,0,{"$f":"IFERROR('Weryfikacja 2026 r.'!I172,0)","v":0}]
[17,0,{"$f":"IFERROR('Weryfikacja 2026 r.'!I173,0)","v":0}]
[18,0,{"$f":"IFERROR('Weryfikacja 2026 r.'!I174,0)","v":0}]
[19,0,{"$f":"IFERROR('Weryfikacja 2026 r.'!I175,0)","v":0}]
[20,0,{"$f":"IFERROR('Weryfikacja 2026 r.'!I176,0)","v":0}]
[{"$f":"A59","v":21},0,{"$f":"IFERROR('Weryfikacja 2026 r.'!I177,0)","v":0}]
[22,0,{"$f":"IFERROR('Weryfikacja 2026 r.'!I178,0)","v":0}]
[23,0,{"$f":"IFERROR('Weryfikacja 2026 r.'!I179,0)","v":0}]
[24,0,{"$f":"IFERROR('Weryfikacja 2026 r.'!I180,0)","v":0}]
[25,0,{"$f":"IFERROR('Weryfikacja 2026 r.'!I181,0)","v":0}]
[26,0,{"$f":"IFERROR('Weryfikacja 2026 r.'!I182,0)","v":0}]
[27,0,{"$f":"IFERROR('Weryfikacja 2026 r.'!I183,0)","v":0}]
[28,0,{"$f":"IFERROR('Weryfikacja 2026 r.'!I184,0)","v":0}]
[29,0,{"$f":"IFERROR('Weryfikacja 2026 r.'!I185,0)","v":0}]
[30,0,{"$f":"IFERROR('Weryfikacja 2026 r.'!I186,0)","v":0}]
[31,0,{"$f":"IFERROR('Weryfikacja 2026 r.'!I187,0)","v":0}]
[32,0,{"$f":"IFERROR('Weryfikacja 2026 r.'!I188,0)","v":0}]
[33,0,{"$f":"IFERROR('Weryfikacja 2026 r.'!I189,0)","v":0}]
[34,0,{"$f":"IFERROR('Weryfikacja 2026 r.'!I190,0)","v":0}]
[35,0,{"$f":"IFERROR('Weryfikacja 2026 r.'!I191,0)","v":0}]
[36,0,{"$f":"IFERROR('Weryfikacja 2026 r.'!I192,0)","v":0}]
[37,0,{"$f":"IFERROR('Weryfikacja 2026 r.'!I193,0)","v":0}]
[38,0,{"$f":"IFERROR('Weryfikacja 2026 r.'!I194,0)","v":0}]
[39,0,{"$f":"IFERROR('Weryfikacja 2026 r.'!I195,0)","v":0}]
[40,0,{"$f":"IFERROR('Weryfikacja 2026 r.'!I196,0)","v":0}]
[{"$f":"A79","v":41},0,{"$f":"IFERROR('Weryfikacja 2026 r.'!I197,0)","v":0}]
[42,0,{"$f":"IFERROR('Weryfikacja 2026 r.'!I198,0)","v":0}]
[43,0,{"$f":"IFERROR('Weryfikacja 2026 r.'!I199,0)","v":0}]
[44,0,{"$f":"IFERROR('Weryfikacja 2026 r.'!I200,0)","v":0}]
[45,0,{"$f":"IFERROR('Weryfikacja 2026 r.'!I201,0)","v":0}]
[46,0,{"$f":"IFERROR('Weryfikacja 2026 r.'!I202,0)","v":0}]
[47,0,{"$f":"IFERROR('Weryfikacja 2026 r.'!I203,0)","v":0}]
[48,0,{"$f":"IFERROR('Weryfikacja 2026 r.'!I204,0)","v":0}]
[49,0,{"$f":"IFERROR('Weryfikacja 2026 r.'!I205,0)","v":0}]
[50,0,{"$f":"IFERROR('Weryfikacja 2026 r.'!I206,0)","v":0}]
[51,0,{"$f":"IFERROR('Weryfikacja 2026 r.'!I207,0)","v":0}]
[52,0,{"$f":"IFERROR('Weryfikacja 2026 r.'!I208,0)","v":0}]
[53,0,{"$f":"IFERROR('Weryfikacja 2026 r.'!I209,0)","v":0}]
[54,0,{"$f":"IFERROR('Weryfikacja 2026 r.'!I210,0)","v":0}]
[55,0,{"$f":"IFERROR('Weryfikacja 2026 r.'!I211,0)","v":0}]
[56,0,{"$f":"IFERROR('Weryfikacja 2026 r.'!I212,0)","v":0}]
[57,0,{"$f":"IFERROR('Weryfikacja 2026 r.'!I213,0)","v":0}]
[58,0,{"$f":"IFERROR('Weryfikacja 2026 r.'!I214,0)","v":0}]
[59,0,{"$f":"IFERROR('Weryfikacja 2026 r.'!I215,0)","v":0}]
[60,0,{"$f":"IFERROR('Weryfikacja 2026 r.'!I216,0)","v":0}]
[{"$f":"A99","v":61},0,{"$f":"IFERROR('Weryfikacja 2026 r.'!I217,0)","v":0}]
[62,0,{"$f":"IFERROR('Weryfikacja 2026 r.'!I218,0)","v":0}]
[63,0,{"$f":"IFERROR('Weryfikacja 2026 r.'!I219,0)","v":0}]
[64,0,{"$f":"IFERROR('Weryfikacja 2026 r.'!I220,0)","v":0}]
[65,0,{"$f":"IFERROR('Weryfikacja 2026 r.'!I221,0)","v":0}]
[66,0,{"$f":"IFERROR('Weryfikacja 2026 r.'!I222,0)","v":0}]
[67,0,{"$f":"IFERROR('Weryfikacja 2026 r.'!I223,0)","v":0}]
[68,0,{"$f":"IFERROR('Weryfikacja 2026 r.'!I224,0)","v":0}]
[69,0,{"$f":"IFERROR('Weryfikacja 2026 r.'!I225,0)","v":0}]
[70,0,{"$f":"IFERROR('Weryfikacja 2026 r.'!I226,0)","v":0}]
[71,0,{"$f":"IFERROR('Weryfikacja 2026 r.'!I227,0)","v":0}]
[72,0,{"$f":"IFERROR('Weryfikacja 2026 r.'!I228,0)","v":0}]
[73,0,{"$f":"IFERROR('Weryfikacja 2026 r.'!I229,0)","v":0}]
[74,0,{"$f":"IFERROR('Weryfikacja 2026 r.'!I230,0)","v":0}]
[75,0,{"$f":"IFERROR('Weryfikacja 2026 r.'!I231,0)","v":0}]
[76,0,{"$f":"IFERROR('Weryfikacja 2026 r.'!I232,0)","v":0}]
[77,0,{"$f":"IFERROR('Weryfikacja 2026 r.'!I233,0)","v":0}]
[78,0,{"$f":"IFERROR('Weryfikacja 2026 r.'!I234,0)","v":0}]
[79,0,{"$f":"IFERROR('Weryfikacja 2026 r.'!I235,0)","v":0}]
[80,0,{"$f":"IFERROR('Weryfikacja 2026 r.'!I236,0)","v":0}]
[{"$f":"A119","v":81},0,{"$f":"IFERROR('Weryfikacja 2026 r.'!I237,0)","v":0}]
[82,0,{"$f":"IFERROR('Weryfikacja 2026 r.'!I238,0)","v":0}]
[83,0,{"$f":"IFERROR('Weryfikacja 2026 r.'!I239,0)","v":0}]
[84,0,{"$f":"IFERROR('Weryfikacja 2026 r.'!I240,0)","v":0}]
[85,0,{"$f":"IFERROR('Weryfikacja 2026 r.'!I241,0)","v":0}]
[86,0,{"$f":"IFERROR('Weryfikacja 2026 r.'!I242,0)","v":0}]
[87,0,{"$f":"IFERROR('Weryfikacja 2026 r.'!I243,0)","v":0}]
[88,0,{"$f":"IFERROR('Weryfikacja 2026 r.'!I244,0)","v":0}]
[89,0,{"$f":"IFERROR('Weryfikacja 2026 r.'!I245,0)","v":0}]
[90,0,{"$f":"IFERROR('Weryfikacja 2026 r.'!I246,0)","v":0}]
[91,0,{"$f":"IFERROR('Weryfikacja 2026 r.'!I247,0)","v":0}]
[92,0,{"$f":"IFERROR('Weryfikacja 2026 r.'!I248,0)","v":0}]
[93,0,{"$f":"IFERROR('Weryfikacja 2026 r.'!I249,0)","v":0}]
[94,0,{"$f":"IFERROR('Weryfikacja 2026 r.'!I250,0)","v":0}]
[95,0,{"$f":"IFERROR('Weryfikacja 2026 r.'!I251,0)","v":0}]
[96,0,{"$f":"IFERROR('Weryfikacja 2026 r.'!I252,0)","v":0}]
[97,0,{"$f":"IFERROR('Weryfikacja 2026 r.'!I253,0)","v":0}]
[98,0,{"$f":"IFERROR('Weryfikacja 2026 r.'!I254,0)","v":0}]
[99,0,{"$f":"IFERROR('Weryfikacja 2026 r.'!I255,0)","v":0}]
[100,0,{"$f":"IFERROR('Weryfikacja 2026 r.'!I256,0)","v":0}]
[{"$f":"A139","v":101},{"$f":"B139","v":0},{"$f":"IFERROR('Weryfikacja 2026 r.'!I257,0)","v":0}]
[102,{"$f":"B140","v":0},{"$f":"IFERROR('Weryfikacja 2026 r.'!I258,0)","v":0}]
[103,{"$f":"B141","v":0},{"$f":"IFERROR('Weryfikacja 2026 r.'!I259,0)","v":0}]
[104,{"$f":"B142","v":0},{"$f":"IFERROR('Weryfikacja 2026 r.'!I260,0)","v":0}]
[105,{"$f":"B143","v":0},{"$f":"IFERROR('Weryfikacja 2026 r.'!I261,0)","v":0}]
[106,{"$f":"B144","v":0},{"$f":"IFERROR('Weryfikacja 2026 r.'!I262,0)","v":0}]
[107,{"$f":"B145","v":0},{"$f":"IFERROR('Weryfikacja 2026 r.'!I263,0)","v":0}]
[108,{"$f":"B146","v":0},{"$f":"IFERROR('Weryfikacja 2026 r.'!I264,0)","v":0}]
[109,{"$f":"B147","v":0},{"$f":"IFERROR('Weryfikacja 2026 r.'!I265,0)","v":0}]
[110,{"$f":"B148","v":0},{"$f":"IFERROR('Weryfikacja 2026 r.'!I266,0)","v":0}]
[111,{"$f":"B149","v":0},{"$f":"IFERROR('Weryfikacja 2026 r.'!I267,0)","v":0}]
[112,{"$f":"B150","v":0},{"$f":"IFERROR('Weryfikacja 2026 r.'!I268,0)","v":0}]
[113,{"$f":"B151","v":0},{"$f":"IFERROR('Weryfikacja 2026 r.'!I269,0)","v":0}]
[114,{"$f":"B152","v":0},{"$f":"IFERROR('Weryfikacja 2026 r.'!I270,0)","v":0}]
[115,{"$f":"B153","v":0},{"$f":"IFERROR('Weryfikacja 2026 r.'!I271,0)","v":0}]
[116,0,{"$f":"IFERROR('Weryfikacja 2026 r.'!I272,0)","v":0}]
[117,0,{"$f":"IFERROR('Weryfikacja 2026 r.'!I273,0)","v":0}]
[118,0,{"$f":"IFERROR('Weryfikacja 2026 r.'!I274,0)","v":0}]
[119,0,{"$f":"IFERROR('Weryfikacja 2026 r.'!I275,0)","v":0}]
[120,0,{"$f":"IFERROR('Weryfikacja 2026 r.'!I276,0)","v":0}]
[121,0,{"$f":"IFERROR('Weryfikacja 2026 r.'!I277,0)","v":0}]
[122,0,{"$f":"IFERROR('Weryfikacja 2026 r.'!I278,0)","v":0}]
[123,0,{"$f":"IFERROR('Weryfikacja 2026 r.'!I279,0)","v":0}]
[124,0,{"$f":"IFERROR('Weryfikacja 2026 r.'!I280,0)","v":0}]
[125,0,{"$f":"IFERROR('Weryfikacja 2026 r.'!I281,0)","v":0}]
[126,0,{"$f":"IFERROR('Weryfikacja 2026 r.'!I282,0)","v":0}]
[127,0,{"$f":"IFERROR('Weryfikacja 2026 r.'!I283,0)","v":0}]
[128,0,{"$f":"IFERROR('Weryfikacja 2026 r.'!I284,0)","v":0}]
[129,0,{"$f":"IFERROR('Weryfikacja 2026 r.'!I285,0)","v":0}]
[130,0,{"$f":"IFERROR('Weryfikacja 2026 r.'!I286,0)","v":0}]
[131,0,{"$f":"IFERROR('Weryfikacja 2026 r.'!I287,0)","v":0}]
[132,0,{"$f":"IFERROR('Weryfikacja 2026 r.'!I288,0)","v":0}]
[{"$f":"A171","v":133},0,{"$f":"IFERROR('Weryfikacja 2026 r.'!I289,0)","v":0}]
[134,0,{"$f":"IFERROR('Weryfikacja 2026 r.'!I290,0)","v":0}]
[135,0,{"$f":"IFERROR('Weryfikacja 2026 r.'!I291,0)","v":0}]
[136,0,{"$f":"IFERROR('Weryfikacja 2026 r.'!I292,0)","v":0}]
[137,0,{"$f":"IFERROR('Weryfikacja 2026 r.'!I293,0)","v":0}]
[138,0,{"$f":"IFERROR('Weryfikacja 2026 r.'!I294,0)","v":0}]
[139,0,{"$f":"IFERROR('Weryfikacja 2026 r.'!I295,0)","v":0}]
[140,0,{"$f":"IFERROR('Weryfikacja 2026 r.'!I296,0)","v":0}]
[141,0,{"$f":"IFERROR('Weryfikacja 2026 r.'!I297,0)","v":0}]
[142,0,{"$f":"IFERROR('Weryfikacja 2026 r.'!I298,0)","v":0}]
[143,0,{"$f":"IFERROR('Weryfikacja 2026 r.'!I299,0)","v":0}]
[144,0,{"$f":"IFERROR('Weryfikacja 2026 r.'!I300,0)","v":0}]
[145,0,{"$f":"IFERROR('Weryfikacja 2026 r.'!I301,0)","v":0}]
[146,0,{"$f":"IFERROR('Weryfikacja 2026 r.'!I302,0)","v":0}]
[147,0,{"$f":"IFERROR('Weryfikacja 2026 r.'!I303,0)","v":0}]
[148,0,{"$f":"IFERROR('Weryfikacja 2026 r.'!I304,0)","v":0}]
[149,0,{"$f":"IFERROR('Weryfikacja 2026 r.'!I305,0)","v":0}]
[150,0,{"$f":"IFERROR('Weryfikacja 2026 r.'!I306,0)","v":0}]
["Ogółem:",null,{"$f":"SUMIF(C667:C816,\">0\")","v":0}]
["*maksymalna kwota dopłaty do 1 wozokilometra  wynosi nie więcej niż 3 zł. "]
[]
["G.1 Sposób realizacji przez organizatora publicznego transportu zbiorowego potrzeb osób niepełnosprawnych oraz osób o ograniczonej zdolności ruchowej w zakresie dostosowania infrastruktury do potrzeb tych osób."]
["L.p.","Nazwa linii komunikacyjnej","Liczba przystanków i dworców zapewniających nieutrudniony do nich dostęp osobom niepełnosprawnym oraz osobom o ograniczonej zdolności ruchowej",null,"Liczba wszystkich przystanków"]
[{"$f":"A39","v":1},0]
[2,0]
[3,0]
[4,0]
[5,0]
[6,0]
[7,0]
[8,0]
[9,0]
[10,0]
[11,0]
[12,0]
[13,0]
[14,0]
[15,0]
[16,0]
[17,0]
[18,0]
[19,0]
[20,0]
[{"$f":"A59","v":21},0]
[22,0]
[23,0]
[24,0]
[25,0]
[26,0]
[27,0]
[28,0]
[29,0]
[30,0]
[31,0]
[32,0]
[33,0]
[34,0]
[35,0]
[36,0]
[37,0]
[38,0]
[39,0]
[40,0]
[{"$f":"A79","v":41},0]
[42,0]
[43,0]
[44,0]
[45,0]
[46,0]
[47,0]
[48,0]
[49,0]
[50,0]
[51,0]
[52,0]
[53,0]
[54,0]
[55,0]
[56,0]
[57,0]
[58,0]
[59,0]
[60,0]
[{"$f":"A99","v":61},0]
[62,0]
[63,0]
[64,0]
[65,0]
[66,0]
[67,0]
[68,0]
[69,0]
[70,0]
[71,0]
[72,0]
[73,0]
[74,0]
[75,0]
[76,0]
[77,0]
[78,0]
[79,0]
[80,0]
[{"$f":"A119","v":81},0]
[82,0]
[83,0]
[84,0]
[85,0]
[86,0]
[87,0]
[88,0]
[89,0]
[90,0]
[91,0]
[92,0]
[93,0]
[94,0]
[95,0]
[96,0]
[97,0]
[98,0]
[99,0]
[100,0]
[{"$f":"A139","v":101},0]
[{"$f":"A140","v":102},{"$f":"B140","v":0}]
[103,{"$f":"B141","v":0}]
[104,{"$f":"B142","v":0}]
[105,{"$f":"B143","v":0}]
[106,{"$f":"B144","v":0}]
[107,{"$f":"B145","v":0}]
[108,{"$f":"B146","v":0}]
[109,{"$f":"B147","v":0}]
[110,{"$f":"B148","v":0}]
[111,{"$f":"B149","v":0}]
[112,{"$f":"B150","v":0}]
[113,{"$f":"B151","v":0}]
[114,{"$f":"B152","v":0}]
[115,{"$f":"B153","v":0}]
[116,0]
[117,0]
[118,0]
[119,0]
[120,0]
[121,0]
[122,0]
[123,0]
[124,0]
[125,0]
[126,0]
[127,0]
[128,0]
[129,0]
[130,0]
[131,0]
[132,0]
[133,0]
[{"$f":"A172","v":134},0]
[135,0]
[136,0]
[137,0]
[138,0]
[139,0]
[140,0]
[141,0]
[142,0]
[143,0]
[144,0]
[145,0]
[146,0]
[147,0]
[148,0]
[149,0]
[150,0]
["Ogółem:",null,{"$f":"SUM(C822:C971)","v":0},null,{"$f":"SUM(E822:E971)","v":0}]
[]
["H.1 Liczba przystanków na liniach komunikacyjnych zlokalizowanych w odległości nie większej niż 500 m od terenów objętych przedsięwzięciami lub inwestycjami powiązanymi  z przedsięwzieciem infrastrukturalnym o którym mowa w art. 5c ust. 1 ustawy z dnia 8 grudnia 2006 r. o finansowym wsparciu niektórych przedsięwzięć mieszkaniowych (Dz. U. z 2024 r. poz. 304)"]
["L.p.","Nazwa linii komunikacyjnej","Liczba przystanków zlokalizowanych w odległości nie większej niż 500 m.","Rodzaj i nazwa przedsięwzięcia infrastrukturalnego",null,null,"Odległość (w metrach) od najbliższego przystanku komunikacyjnego"]
[{"$f":"A39","v":1},{"$f":"B822","v":0}]
[2,0]
[3,0]
[4,0]
[5,0]
[6,0]
[7,0]
[8,0]
[9,0]
[10,0]
[11,0]
[12,0]
[13,0]
[14,0]
[15,0]
[16,0]
[17,0]
[18,0]
[19,0]
[20,0]
[21,0]
[22,0]
[23,0]
[24,0]
[25,0]
[26,0]
[27,0]
[28,0]
[29,0]
[30,0]
[31,0]
[32,0]
[{"$f":"A71","v":33},{"$f":"B854","v":0}]
[34,0]
[35,0]
[36,0]
[37,0]
[38,0]
[39,0]
[40,0]
[41,0]
[42,0]
[43,0]
[44,0]
[45,0]
[46,0]
[47,0]
[48,0]
[49,0]
[50,0]
[51,{"$f":"B872","v":0}]
[52,0]
[53,0]
[54,0]
[55,0]
[56,0]
[57,0]
[58,0]
[59,0]
[60,0]
[61,0]
[62,0]
[63,0]
[64,0]
[{"$f":"A103","v":65},0]
[66,0]
[67,0]
[68,0]
[69,0]
[70,0]
[71,0]
[72,0]
[73,0]
[74,0]
[75,0]
[76,0]
[77,0]
[78,0]
[79,0]
[80,0]
[81,0]
[82,0]
[83,0]
[84,0]
[85,0]
[86,0]
[87,0]
[88,0]
[89,0]
[90,0]
[91,0]
[92,0]
[93,0]
[94,0]
[95,0]
[96,0]
[{"$f":"A135","v":97},0]
[98,0]
[99,0]
[100,0]
[101,0]
[102,0]
[103,0]
[104,0]
[105,0]
[106,0]
[107,0]
[108,0]
[109,0]
[110,0]
[111,0]
[112,0]
[113,0]
[114,0]
[115,{"$f":"B936","v":0}]
[116,0]
[117,0]
[118,0]
[119,0]
[120,0]
[121,0]
[122,0]
[123,0]
[124,0]
[125,0]
[126,0]
[127,0]
[128,0]
[{"$f":"A167","v":129},0]
[130,0]
[131,0]
[132,0]
[133,0]
[134,0]
[135,0]
[136,0]
[137,0]
[138,0]
[139,0]
[140,0]
[141,0]
[142,0]
[143,0]
[144,0]
[145,0]
[146,0]
[147,0]
[148,0]
[149,0]
[150,0]
["Ogółem:",null,{"$f":"SUM(C976:C1125)","v":0}]
[]
[]
[]
[null,null,null,"dane osób działających w imieniu organizatora publicznego transportu zbiorowego składających kwalifikowany podpis elektroniczny pod wnioskiem "]
[]
[]
[null,null,null,"kontrasygnata Skarbnika/Głównego księgowego budżetu  - dane osoby składającej kwalifikowany podpis elektroniczny"]
[]
["Załączniki:\n1. oświadczenia do wniosku:\na) oświadczenie o niefunkcjonowaniu co najmniej 3 miesiące przed dniem wejścia w życie ustawy o Funduszu rozwoju przewozów autobusowych o charakterze użyteczności publicznej linii komunikacyjnych, dla których organizator publicznego transportu zbiorowego złożył wniosek o objęcie dopłatą w danym roku budżetowym;\nb) oświadczenie o zamiarze zawarcia umowy o świadczeniu usług w zakresie publicznego transportu zbiorowego na liniach komunikacyjnych zawartych we wniosku o objęcie dopłatą \nw danym roku budżetowym, między organizatorem publicznego transportu zbiorowego a operatorem publicznego transportu zbiorowego, posiadającym uprawnienia do wykonywania publicznego transportu zbiorowego;\nc) oświadczenie, że organizator publicznego transportu zbiorowego sfinansuje ze środków własnych część ceny usługi, w wysokości nie mniejszej niż 10%;\nd) oświadczenie, że dane zawarte we wniosku o objęcie dopłatą w danym roku budżetowym realizacji zadań własnych  organizatora w zakresie przewozów autobusowych o charakterze użyteczności  publicznej przez dopłatę do ceny usługi są kompletne i zgodne z prawdą oraz znane mi są zasady dofinansowania ze środków Funduszu realizacji zadań własnych organizatorów dotyczących zapewnienia funkcjonowania publicznego transportu zbiorowego w zakresie przewozów autobusowych o charakterze użyteczności publicznej określone \nw ustawie o Funduszu rozwoju przewozów autobusowych o charakterze użyteczności publicznej;\ne) oświadczenie, że zgłoszone do dofinansowania linie komunikacyjne nie stanowią komunikacji miejskiej w rozumieniu ustawy o publicznym transporcie zbiorowym;\nf) oświadczenie, że zgłoszone do dofinansowania linie realizowane będą w ramach przewozów otwartych na podstawie ustawy o publicznym transporcie zbiorowym i nie stanowią przewozów regularnych specjalnych tzw. linii szkolnych. \ng) oświadczenie, że przebieg zgłoszonych do dofinansowania linii komunikacyjnych nie wykracza poza obszar właściwości organizatora a w przypadku linii której przebieg wykracza poza obszar własciwości organizatora zawarte zostało porozumienie na podstawie ustawy o publicznym transporcie zbiorowym na mocy którego powierzona została realizacja zadania.\n\n2. kalkulacje planowanej kwoty deficytu dla poszczególnych linii komunikacyjnych ujętych we wniosku o objęcie dopłatą w danym roku budżetowym w oparciu o koszty i przychody \n(z wyszczególnieniem elementów składowych) ;\n3. poświadczona za zgodność z oryginałem kserokopia porozumienia między gminami, porozumienia między powiatami, statutu związku międzygminnego, statutu związku powiatów, statutu związku powiatowo-gminnego (jeśli dotyczy);\n4. dane osób, które w imieniu organizatora publicznego transportu zbiorowego zawrą umowę o dopłatę, z podaniem pełnionej funkcji;\n5.informacja uzupełniająca o jednostkach samorządu terytorialnego wchodzących w skład organizatora publicznego transportu zbiorowego.\n\nPouczenie:\n1. oświadczenia stanowiące załączniki do wniosku o objęcie dopłatą w danym roku budżetowym powinny zawierać: oznaczenie organizatora publicznego transportu zbiorowego oraz jego adres; oznaczenie miejsca i datę złożenia oświadczenia;\n2. wniosek o objęcie dopłatą w danym roku budżetowym dofinansowaniem realizacji zadań własnych organizatorów w zakresie przewozów autobusowych o charakterze użyteczności publicznej przez dopłatę do ceny usługi, doręczony po upływie terminu, o którym mowa w Biuletynie Informacji Publicznej na stronie Mazowieckiego Urzędu Wojewódzkiego \nw Warszawie, bądź nieuzupełniony w terminie wyznaczonym przez Wojewodę, nie podlega rozpatrzeniu.\n3. należy wypełnić wszystkie czerwone pola wniosku o objęcie dopłatą oraz załączyć wszystkie wymagane załączniki. Niedozwolona jest samowolna zmiana układu wniosku.\n4. wnioski o objęcie dopłatą w danym roku budżetowym, składane drogą elektroniczną, winny być podpisane elektronicznie przez osoby uprawnione do reprezentowania organizatora publicznego transportu zbiorowego z użyciem ważnego kwalifikowanego podpisu elektronicznego. Każdorazowo (niezależnie od formy złożenia wniosku) należy przekazać wniosek \nw wersji edytowalnej na adres e-mail: autobusy@mazowieckie.pl Warunkiem przyjęcia wniosku jest przesłanie jego wersji edytowalnej  w formacie pliku EXCEL (z rozszrzeniem .xlsm) oraz przekazanie jednobrzmiącej podpisanej wersji wniosku za pośrednictwem ePUAP w terminie określonym w ogłoszeniu.\n5. plik w wersji edytowalnej należy nazwać nazwą organizatora.\n6. na żądanie wojewody, organizator zobowiązany jest dołączyć do wniosku schematy przebiegu linii komunikacyjnych wykonanych na podkładzie mapy administracyjnej.                                   \n                                                                                                                                                                                                                                                                                                                                                                                                                                                                                    Ver.3.1                                                                                                                                                                                                                                                                                                                                                                                          "]
[]
[]
[]
[]
[]
[]
[]
[]
[]
[]
[]
[]
[]
[]
[]
[]
[]
[]
[]
[]
[]
[]
["Nr sprawy w MUW: "]
[]
["Uwagi:"]
["ver. 1.1",null,null,{"$f":"IF(C4=\"\",\"\",A1159&\"#\"&C817&\"#\"&C5)","v":""}]

{"sheet":"Zał. nr 1 a-e oświadczenia","index":1,"n_rows":32,"n_cols":7,"rows_kept":32,"cut":false,"hidden":false,"merged":[[0,4,0,5],[2,1,2,2],[9,1,9,2],[14,4,18,8],[20,0,21,8],[22,0,22,8],[23,0,23,8],[29,3,30,7],[31,3,31,7],[24,1,24,8],[26,3,26,7],[27,3,27,7],[25,3,25,7]]}
[null,null,null,null,{"$f":"IF('Wniosek 2026 r.'!E1=\"\",\"\",'Wniosek 2026 r.'!E1)","v":""},null,{"$f":"IF('Wniosek 2026 r.'!G1=\"\",\"\",'Wniosek 2026 r.'!G1)","v":""}]
[null,null,null,null,null,"(miejscowość)","     (data)"]
[null,"A1. ORGANIZATOR PUBLICZNEGO TRANSPORTU ZBIOROWEGO"]
[null,"NIP",{"$f":"IF('Wniosek 2026 r.'!$C$4=0,\"\",'Wniosek 2026 r.'!C4)","v":""}]
[null,"Nazwa organizatora publicznego transportu zbiorowego",{"$f":"IF('Wniosek 2026 r.'!$C$4=0,\"\",'Wniosek 2026 r.'!C5)","v":""}]
[null,"REGON",{"$f":"IF('Wniosek 2026 r.'!$C$4=0,\"\",'Wniosek 2026 r.'!C6)","v":""}]
[null,"Adres",{"$f":"IF('Wniosek 2026 r.'!$C$4=0,\"\",'Wniosek 2026 r.'!C7)","v":""}]
[null,"Powiat",{"$f":"IF('Wniosek 2026 r.'!$C$4=0,\"\",'Wniosek 2026 r.'!C8)","v":""}]
[null,"Województwo",{"$f":"IF('Wniosek 2026 r.'!$C$4=0,\"\",'Wniosek 2026 r.'!C9)","v":""}]
[null,"A2. Dane osoby do kontaktu w sprawie wniosku"]
[null,"Imię",{"$f":"IF('Wniosek 2026 r.'!$C$4=0,\"\",'Wniosek 2026 r.'!C11)","v":""}]
[null,"Nazwisko",{"$f":"IF('Wniosek 2026 r.'!$C$4=0,\"\",'Wniosek 2026 r.'!C12)","v":""}]
[null,"Telefon ",{"$f":"IF('Wniosek 2026 r.'!$C$4=0,\"\",'Wniosek 2026 r.'!C13)","v":""}]
[null,"Adres e-mail",{"$f":"IF('Wniosek 2026 r.'!$C$4=0,\"\",'Wniosek 2026 r.'!C14)","v":""}]
[null,null,null,null,"Wojewoda Mazowiecki\nWydział Infrastruktury i Rolnictwa\npl.Bankowy 3/5\n00-950 Warszawa"]
[]
[]
[]
[]
[]
["ZAŁĄCZNIK NR 1 DO WNIOSKU O OBJĘCIE DOPŁATĄ - OŚWIADCZENIA"]
[]
["A.3   Treść oświadczeń"]
["Oświadczenia do wniosku o objęcie w 2026 roku dopłatą realizacji zadań własnych  organizatorów w zakresie przewozów autobusowych \no charakterze użyteczności publicznej przez dopłatę do ceny usługi, zwanego dalej „wnioskiem”:"]
[null,"a) Oświadczam, że linie komunikacyjne wskazane we wniosku  nie funkcjonowały co najmniej 3 miesiące przed dniem wejścia w życie ustawy o Funduszu rozwoju przewozów autobusowych o charakterze użyteczności publicznej (Dz. U. z 2024 r. poz. 402 ze zm.);\n\nb) Oświadczam, że zamierzam zawrzeć umowę o świadczeniu usług w zakresie publicznego transportu zbiorowego na liniach komunikacyjnych zawartych we wniosku, między organizatorem publicznego transportu zbiorowego a operatorem publicznego transportu zbiorowego, posiadającym uprawnienia do wykonywania publicznego transportu zbiorowego;\n\nc) Oświadczam, że jako organizator publicznego transportu zbiorowego sfinansuję ze środków własnych część ceny usługi, w wysokości nie mniejszej niż 10%;\n\nd) Oświadczam, że dane zawarte we wniosku są kompletne i zgodne z prawdą oraz znane mi są zasady dofinansowania ze środków Funduszu realizacji zadań własnych organizatorów dotyczących zapewnienia funkcjonowania publicznego transportu zbiorowego w zakresie przewozów autobusowych o charakterze użyteczności publicznej określone w ustawie o Funduszu rozwoju przewozów autobusowych o charakterze użyteczności publicznej (Dz. U. z 2024 r. poz. 402 ze zm.);\n\ne) Oświadczam, że zgłoszone we wniosku linie komunikacyjne nie stanowią przewozów realizowanych w ramach komunikacji miejskiej w rozumieniu ustawy z dnia 16 grudnia 2010 roku o publicznym transporcie zbiorowym (Dz. U. z 2025 r. poz. 285). \n\nf) Oświadczam, że zgłoszone do dofinansowania linie realizowane będą w ramach przewozów otwartych na podstawie ustawy o publicznym transporcie zbiorowym i nie stanowią przewozów regularnych specjalnych tzw. linii szkolnych.\n\ng) Oświadczam, że przebieg zgłoszonych do dofinansowania linii komunikacyjnych nie wykracza poza obszar właściwości organizatora a w przypadku linii której przebieg wykracza poza obszar własciwości organizatora zawarte zostało porozumienie na podstawie ustawy o publicznym transporcie zbiorowym na mocy którego powierzona została realizacja zadania.\n\n"]
[null,null,null,"Jestem świadomy/świadoma odpowiedzialności karnej za podanie nieprawdy \nw niniejszym oświadczeniu, zgodnie z art.. 233 ustawy z dnia 6 czerwca 1997 r. \n- Kodeks karny (Dz. U. z 2025 r. poz. 383)."]
[]
[null,null,null,"dane osób działających w imieniu organizatora publicznego transportu zbiorowego składających kwalifikowany podpis elektroniczny pod wnioskiem "]
[]
[]
[]
[null,null,null,"kontrasygnata Skarbnika/Głównego księgowego budżetu  - dane osoby składającej kwalifikowany podpis elektroniczny"]

{"sheet":"Zał. nr 2 kalkulacja - 2026 r.","index":2,"n_rows":185,"n_cols":14,"rows_kept":185,"cut":false,"hidden":false,"merged":[[183,8,183,12],[184,8,184,12],[185,0,185,8],[175,0,175,1],[177,12,177,13],[179,8,180,12],[181,8,181,12],[0,11,0,12],[1,11,1,12],[19,0,20,13],[22,0,22,13],[3,2,3,3],[2,1,2,3],[4,2,4,3],[5,2,5,3],[6,2,6,3],[7,2,7,3],[8,2,8,3],[9,1,9,3],[10,2,10,3],[11,2,11,3],[12,2,12,3],[13,2,13,3],[17,5,17,7],[14,5,14,7],[15,5,15,7],[16,5,16,7],[14,10,17,12]]}
[null,null,null,null,null,null,null,null,null,null,null,{"$f":"IF('Wniosek 2026 r.'!E1=\"\",\"\",'Wniosek 2026 r.'!E1)","v":""},null,{"$f":"IF('Wniosek 2026 r.'!G1=\"\",\"\",'Wniosek 2026 r.'!G1)","v":""}]
[null,null,null,null,null,null,null,null,null,null,null,"(miejscowość)",null,"     (data)"]
[null,"A1. ORGANIZATOR PUBLICZNEGO TRANSPORTU ZBIOROWEGO"]
[null,"NIP",{"$f":"IF('Wniosek 2026 r.'!$C$4=0,\"\",'Wniosek 2026 r.'!C4)","v":""}]
[null,"Nazwa organizatora publicznego transportu zbiorowego",{"$f":"IF('Wniosek 2026 r.'!$C$4=0,\"\",'Wniosek 2026 r.'!C5)","v":""}]
[null,"REGON",{"$f":"IF('Wniosek 2026 r.'!$C$4=0,\"\",'Wniosek 2026 r.'!C6)","v":""}]
[null,"Adres",{"$f":"IF('Wniosek 2026 r.'!$C$4=0,\"\",'Wniosek 2026 r.'!C7)","v":""}]
[null,"Powiat",{"$f":"IF('Wniosek 2026 r.'!$C$4=0,\"\",'Wniosek 2026 r.'!C8)","v":""}]
[null,"Województwo",{"$f":"IF('Wniosek 2026 r.'!$C$4=0,\"\",'Wniosek 2026 r.'!C9)","v":""}]
[null,"A2. Dane osoby do kontaktu w sprawie wniosku"]
[null,"Imię",{"$f":"IF('Wniosek 2026 r.'!$C$4=0,\"\",'Wniosek 2026 r.'!C11)","v":""}]
[null,"Nazwisko",{"$f":"IF('Wniosek 2026 r.'!$C$4=0,\"\",'Wniosek 2026 r.'!C12)","v":""}]
[null,"Telefon ",{"$f":"IF('Wniosek 2026 r.'!$C$4=0,\"\",'Wniosek 2026 r.'!C13)","v":""}]
[null,"Adres e-mail",{"$f":"IF('Wniosek 2026 r.'!$C$4=0,\"\",'Wniosek 2026 r.'!C14)","v":""}]
[null,null,null,null,null,null,null,null,null,null,"Wojewoda Mazowiecki\nWydział Infrastruktury i Rolnictwa\npl.Bankowy 3/5\n00-950 Warszawa"]
[]
[]
[]
[]
["ZAŁĄCZNIK NR 2 DO WNIOSKU - KALKULACJE PLANOWANEJ KWOTY DEFICYTU DLA POSZCZEGÓLNYCH LINII KOMUNIKACYJNYCH UJĘTYCH WE WNIOSKU O OBJĘCIE DOPŁATĄ W DANYM ROKU BUDŻETOWYM W OPARCIU O KOSZTY I PRZYCHODY (Z WYSZCZEGÓLNIENIEM ELEMENTÓW SKŁADOWYCH)"]
[]
[]
["B.1 Linie komunikacyjne, na których będą wykonywane przewozy autobusowe o charakterze użyteczności publicznej, które nie funkcjonowały co najmniej 3 miesiące przed dniem wejścia w życie ustawy o Funduszu rozwoju przewozów autobusowych o charakterze użyteczności publicznej oraz na które umowa o świadczenie usług \nw zakresie publicznego transportu zbiorowego zostanie zawarta po dniu wejścia w życie ustawy o Funduszu rozwoju przewozów autobusowych o charakterze użyteczności publicznej"]
["L.p.","Nazwa linii komunikacyjnej","Koszty kierowców autobusów","Koszty taboru (autobusów)","Koszty eksploatacyjne","Koszty wydziałowe przewozów autobusowych","Koszty zarządzania","Pozostałe koszty","Planowane koszty ogółem ","Przychody ze sprzedaży biletów za przewóz osób i bagażu","Przychody z dotacji przedmiotowej na wyrównanie utraconych przychodów z tytułu ulg ustawowych","Pozostałe przychody ","Planowane przychody ogółem ","Deficyt"]
[null,1,2,3,4,5,6,7,8,9,10,11,12,13]
[{"$f":"'Wniosek 2026 r.'!A39","v":1},{"$f":"'Wniosek 2026 r.'!B39","v":0},null,null,null,null,null,null,{"$f":"C26+D26+E26+F26+G26+H26","v":0},null,null,null,{"$f":"J26+K26+L26","v":0},{"$f":"M26-I26","v":0}]
[{"$f":"'Wniosek 2026 r.'!A40","v":2},{"$f":"'Wniosek 2026 r.'!B40","v":0},null,null,null,null,null,null,{"$f":"C27+D27+E27+F27+G27+H27","v":0},null,null,null,{"$f":"J27+K27+L27","v":0},{"$f":"M27-I27","v":0}]
[{"$f":"'Wniosek 2026 r.'!A41","v":3},{"$f":"'Wniosek 2026 r.'!B41","v":0},null,null,null,null,null,null,0,null,null,null,0,0]
[{"$f":"'Wniosek 2026 r.'!A42","v":4},{"$f":"'Wniosek 2026 r.'!B42","v":0},null,null,null,null,null,null,0,null,null,null,0,0]
[{"$f":"'Wniosek 2026 r.'!A43","v":5},{"$f":"'Wniosek 2026 r.'!B43","v":0},null,null,null,null,null,null,0,null,null,null,0,0]
[{"$f":"'Wniosek 2026 r.'!A44","v":6},{"$f":"'Wniosek 2026 r.'!B44","v":0},null,null,null,null,null,null,0,null,null,null,0,0]
[{"$f":"'Wniosek 2026 r.'!A45","v":7},{"$f":"'Wniosek 2026 r.'!B45","v":0},null,null,null,null,null,null,0,null,null,null,0,0]
[{"$f":"'Wniosek 2026 r.'!A46","v":8},{"$f":"'Wniosek 2026 r.'!B46","v":0},null,null,null,null,null,null,0,null,null,null,0,0]
[{"$f":"'Wniosek 2026 r.'!A47","v":9},{"$f":"'Wniosek 2026 r.'!B47","v":0},null,null,null,null,null,null,0,null,null,null,0,0]
[{"$f":"'Wniosek 2026 r.'!A48","v":10},{"$f":"'Wniosek 2026 r.'!B48","v":0},null,null,null,null,null,null,0,null,null,null,0,0]
[{"$f":"'Wniosek 2026 r.'!A49","v":11},{"$f":"'Wniosek 2026 r.'!B49","v":0},null,null,null,null,null,null,0,null,null,null,0,0]
[{"$f":"'Wniosek 2026 r.'!A50","v":12},{"$f":"'Wniosek 2026 r.'!B50","v":0},null,null,null,null,null,null,0,null,null,null,0,0]
[{"$f":"'Wniosek 2026 r.'!A51","v":13},{"$f":"'Wniosek 2026 r.'!B51","v":0},null,null,null,null,null,null,0,null,null,null,0,0]
[{"$f":"'Wniosek 2026 r.'!A52","v":14},{"$f":"'Wniosek 2026 r.'!B52","v":0},null,null,null,null,null,null,0,null,null,null,0,0]
[{"$f":"'Wniosek 2026 r.'!A53","v":15},{"$f":"'Wniosek 2026 r.'!B53","v":0},null,null,null,null,null,null,0,null,null,null,0,0]
[{"$f":"'Wniosek 2026 r.'!A54","v":16},{"$f":"'Wniosek 2026 r.'!B54","v":0},null,null,null,null,null,null,0,null,null,null,0,0]
[{"$f":"'Wniosek 2026 r.'!A55","v":17},{"$f":"'Wniosek 2026 r.'!B55","v":0},null,null,null,null,null,null,0,null,null,null,0,0]
[{"$f":"'Wniosek 2026 r.'!A56","v":18},{"$f":"'Wniosek 2026 r.'!B56","v":0},null,null,null,null,null,null,0,null,null,null,0,0]
[{"$f":"'Wniosek 2026 r.'!A57","v":19},{"$f":"'Wniosek 2026 r.'!B57","v":0},null,null,null,null,null,null,0,null,null,null,0,0]
[{"$f":"'Wniosek 2026 r.'!A58","v":20},{"$f":"'Wniosek 2026 r.'!B58","v":0},null,null,null,null,null,null,0,null,null,null,0,0]
[{"$f":"'Wniosek 2026 r.'!A59","v":21},{"$f":"'Wniosek 2026 r.'!B59","v":0},null,null,null,null,null,null,0,null,null,null,0,0]
[{"$f":"'Wniosek 2026 r.'!A60","v":22},{"$f":"'Wniosek 2026 r.'!B60","v":0},null,null,null,null,null,null,0,null,null,null,0,0]
[{"$f":"'Wniosek 2026 r.'!A61","v":23},{"$f":"'Wniosek 2026 r.'!B61","v":0},null,null,null,null,null,null,0,null,null,null,0,0]
[{"$f":"'Wniosek 2026 r.'!A62","v":24},{"$f":"'Wniosek 2026 r.'!B62","v":0},null,null,null,null,null,null,0,null,null,null,0,0]
[{"$f":"'Wniosek 2026 r.'!A63","v":25},{"$f":"'Wniosek 2026 r.'!B63","v":0},null,null,null,null,null,null,0,null,null,null,0,0]
[{"$f":"'Wniosek 2026 r.'!A64","v":26},{"$f":"'Wniosek 2026 r.'!B64","v":0},null,null,null,null,null,null,0,null,null,null,0,0]
[{"$f":"'Wniosek 2026 r.'!A65","v":27},{"$f":"'Wniosek 2026 r.'!B65","v":0},null,null,null,null,null,null,0,null,null,null,0,0]
[{"$f":"'Wniosek 2026 r.'!A66","v":28},{"$f":"'Wniosek 2026 r.'!B66","v":0},null,null,null,null,null,null,0,null,null,null,0,0]
[{"$f":"'Wniosek 2026 r.'!A67","v":29},{"$f":"'Wniosek 2026 r.'!B67","v":0},null,null,null,null,null,null,0,null,null,null,0,0]
[{"$f":"'Wniosek 2026 r.'!A68","v":30},{"$f":"'Wniosek 2026 r.'!B68","v":0},null,null,null,null,null,null,0,null,null,null,0,0]
[{"$f":"'Wniosek 2026 r.'!A69","v":31},{"$f":"'Wniosek 2026 r.'!B69","v":0},null,null,null,null,null,null,0,null,null,null,0,0]
[{"$f":"'Wniosek 2026 r.'!A70","v":32},{"$f":"'Wniosek 2026 r.'!B70","v":0},null,null,null,null,null,null,0,null,null,null,0,0]
[{"$f":"'Wniosek 2026 r.'!A71","v":33},{"$f":"'Wniosek 2026 r.'!B71","v":0},null,null,null,null,null,null,0,null,null,null,0,0]
[{"$f":"'Wniosek 2026 r.'!A72","v":34},{"$f":"'Wniosek 2026 r.'!B72","v":0},null,null,null,null,null,null,0,null,null,null,0,0]
[{"$f":"'Wniosek 2026 r.'!A73","v":35},{"$f":"'Wniosek 2026 r.'!B73","v":0},null,null,null,null,null,null,0,null,null,null,0,0]
[{"$f":"'Wniosek 2026 r.'!A74","v":36},{"$f":"'Wniosek 2026 r.'!B74","v":0},null,null,null,null,null,null,0,null,null,null,0,0]
[{"$f":"'Wniosek 2026 r.'!A75","v":37},{"$f":"'Wniosek 2026 r.'!B75","v":0},null,null,null,null,null,null,0,null,null,null,0,0]
[{"$f":"'Wniosek 2026 r.'!A76","v":38},{"$f":"'Wniosek 2026 r.'!B76","v":0},null,null,null,null,null,null,0,null,null,null,0,0]
[{"$f":"'Wniosek 2026 r.'!A77","v":39},{"$f":"'Wniosek 2026 r.'!B77","v":0},null,null,null,null,null,null,0,null,null,null,0,0]
[{"$f":"'Wniosek 2026 r.'!A78","v":40},{"$f":"'Wniosek 2026 r.'!B78","v":0},null,null,null,null,null,null,0,null,null,null,0,0]
[{"$f":"'Wniosek 2026 r.'!A79","v":41},{"$f":"'Wniosek 2026 r.'!B79","v":0},null,null,null,null,null,null,0,null,null,null,0,0]
[{"$f":"'Wniosek 2026 r.'!A80","v":42},{"$f":"'Wniosek 2026 r.'!B80","v":0},null,null,null,null,null,null,0,null,null,null,0,0]
[{"$f":"'Wniosek 2026 r.'!A81","v":43},{"$f":"'Wniosek 2026 r.'!B81","v":0},null,null,null,null,null,null,0,null,null,null,0,0]
[{"$f":"'Wniosek 2026 r.'!A82","v":44},{"$f":"'Wniosek 2026 r.'!B82","v":0},null,null,null,null,null,null,0,null,null,null,0,0]
[{"$f":"'Wniosek 2026 r.'!A83","v":45},{"$f":"'Wniosek 2026 r.'!B83","v":0},null,null,null,null,null,null,0,null,null,null,0,0]
[{"$f":"'Wniosek 2026 r.'!A84","v":46},{"$f":"'Wniosek 2026 r.'!B84","v":0},null,null,null,null,null,null,0,null,null,null,0,0]
[{"$f":"'Wniosek 2026 r.'!A85","v":47},{"$f":"'Wniosek 2026 r.'!B85","v":0},null,null,null,null,null,null,0,null,null,null,0,0]
[{"$f":"'Wniosek 2026 r.'!A86","v":48},{"$f":"'Wniosek 2026 r.'!B86","v":0},null,null,null,null,null,null,0,null,null,null,0,0]
[{"$f":"'Wniosek 2026 r.'!A87","v":49},{"$f":"'Wniosek 2026 r.'!B87","v":0},null,null,null,null,null,null,0,null,null,null,0,0]
[{"$f":"'Wniosek 2026 r.'!A88","v":50},{"$f":"'Wniosek 2026 r.'!B88","v":0},null,null,null,null,null,null,0,null,null,null,0,0]
[{"$f":"'Wniosek 2026 r.'!A89","v":51},{"$f":"'Wniosek 2026 r.'!B89","v":0},null,null,null,null,null,null,0,null,null,null,0,0]
[{"$f":"'Wniosek 2026 r.'!A90","v":52},{"$f":"'Wniosek 2026 r.'!B90","v":0},null,null,null,null,null,null,0,null,null,null,0,0]
[{"$f":"'Wniosek 2026 r.'!A91","v":53},{"$f":"'Wniosek 2026 r.'!B91","v":0},null,null,null,null,null,null,0,null,null,null,0,0]
[{"$f":"'Wniosek 2026 r.'!A92","v":54},{"$f":"'Wniosek 2026 r.'!B92","v":0},null,null,null,null,null,null,0,null,null,null,0,0]
[{"$f":"'Wniosek 2026 r.'!A93","v":55},{"$f":"'Wniosek 2026 r.'!B93","v":0},null,null,null,null,null,null,0,null,null,null,0,0]
[{"$f":"'Wniosek 2026 r.'!A94","v":56},{"$f":"'Wniosek 2026 r.'!B94","v":0},null,null,null,null,null,null,0,null,null,null,0,0]
[{"$f":"'Wniosek 2026 r.'!A95","v":57},{"$f":"'Wniosek 2026 r.'!B95","v":0},null,null,null,null,null,null,0,null,null,null,0,0]
[{"$f":"'Wniosek 2026 r.'!A96","v":58},{"$f":"'Wniosek 2026 r.'!B96","v":0},null,null,null,null,null,null,0,null,null,null,0,0]
[{"$f":"'Wniosek 2026 r.'!A97","v":59},{"$f":"'Wniosek 2026 r.'!B97","v":0},null,null,null,null,null,null,0,null,null,null,0,0]
[{"$f":"'Wniosek 2026 r.'!A98","v":60},{"$f":"'Wniosek 2026 r.'!B98","v":0},null,null,null,null,null,null,0,null,null,null,0,0]
[{"$f":"'Wniosek 2026 r.'!A99","v":61},{"$f":"'Wniosek 2026 r.'!B99","v":0},null,null,null,null,null,null,0,null,null,null,0,0]
[{"$f":"'Wniosek 2026 r.'!A100","v":62},{"$f":"'Wniosek 2026 r.'!B100","v":0},null,null,null,null,null,null,0,null,null,null,0,0]
[{"$f":"'Wniosek 2026 r.'!A101","v":63},{"$f":"'Wniosek 2026 r.'!B101","v":0},null,null,null,null,null,null,0,null,null,null,0,0]
[{"$f":"'Wniosek 2026 r.'!A102","v":64},{"$f":"'Wniosek 2026 r.'!B102","v":0},null,null,null,null,null,null,0,null,null,null,0,0]
[{"$f":"'Wniosek 2026 r.'!A103","v":65},{"$f":"'Wniosek 2026 r.'!B103","v":0},null,null,null,null,null,null,0,null,null,null,0,0]
[{"$f":"'Wniosek 2026 r.'!A104","v":66},{"$f":"'Wniosek 2026 r.'!B104","v":0},null,null,null,null,null,null,0,null,null,null,0,0]
[{"$f":"'Wniosek 2026 r.'!A105","v":67},{"$f":"'Wniosek 2026 r.'!B105","v":0},null,null,null,null,null,null,0,null,null,null,0,0]
[{"$f":"'Wniosek 2026 r.'!A106","v":68},{"$f":"'Wniosek 2026 r.'!B106","v":0},null,null,null,null,null,null,0,null,null,null,0,0]
[{"$f":"'Wniosek 2026 r.'!A107","v":69},{"$f":"'Wniosek 2026 r.'!B107","v":0},null,null,null,null,null,null,0,null,null,null,0,0]
[{"$f":"'Wniosek 2026 r.'!A108","v":70},{"$f":"'Wniosek 2026 r.'!B108","v":0},null,null,null,null,null,null,0,null,null,null,0,0]
[{"$f":"'Wniosek 2026 r.'!A109","v":71},{"$f":"'Wniosek 2026 r.'!B109","v":0},null,null,null,null,null,null,0,null,null,null,0,0]
[{"$f":"'Wniosek 2026 r.'!A110","v":72},{"$f":"'Wniosek 2026 r.'!B110","v":0},null,null,null,null,null,null,0,null,null,null,0,0]
[{"$f":"'Wniosek 2026 r.'!A111","v":73},{"$f":"'Wniosek 2026 r.'!B111","v":0},null,null,null,null,null,null,0,null,null,null,0,0]
[{"$f":"'Wniosek 2026 r.'!A112","v":74},{"$f":"'Wniosek 2026 r.'!B112","v":0},null,null,null,null,null,null,0,null,null,null,0,0]
[{"$f":"'Wniosek 2026 r.'!A113","v":75},{"$f":"'Wniosek 2026 r.'!B113","v":0},null,null,null,null,null,null,0,null,null,null,0,0]
[{"$f":"'Wniosek 2026 r.'!A114","v":76},{"$f":"'Wniosek 2026 r.'!B114","v":0},null,null,null,null,null,null,0,null,null,null,0,0]
[{"$f":"'Wniosek 2026 r.'!A115","v":77},{"$f":"'Wniosek 2026 r.'!B115","v":0},null,null,null,null,null,null,0,null,null,null,0,0]
[{"$f":"'Wniosek 2026 r.'!A116","v":78},{"$f":"'Wniosek 2026 r.'!B116","v":0},null,null,null,null,null,null,0,null,null,null,0,0]
[{"$f":"'Wniosek 2026 r.'!A117","v":79},{"$f":"'Wniosek 2026 r.'!B117","v":0},null,null,null,null,null,null,0,null,null,null,0,0]
[{"$f":"'Wniosek 2026 r.'!A118","v":80},{"$f":"'Wniosek 2026 r.'!B118","v":0},null,null,null,null,null,null,0,null,null,null,0,0]
[{"$f":"'Wniosek 2026 r.'!A119","v":81},{"$f":"'Wniosek 2026 r.'!B119","v":0},null,null,null,null,null,null,0,null,null,null,0,0]
[{"$f":"'Wniosek 2026 r.'!A120","v":82},{"$f":"'Wniosek 2026 r.'!B120","v":0},null,null,null,null,null,null,0,null,null,null,0,0]
[{"$f":"'Wniosek 2026 r.'!A121","v":83},{"$f":"'Wniosek 2026 r.'!B121","v":0},null,null,null,null,null,null,0,null,null,null,0,0]
[{"$f":"'Wniosek 2026 r.'!A122","v":84},{"$f":"'Wniosek 2026 r.'!B122","v":0},null,null,null,null,null,null,0,null,null,null,0,0]
[{"$f":"'Wniosek 2026 r.'!A123","v":85},{"$f":"'Wniosek 2026 r.'!B123","v":0},null,null,null,null,null,null,0,null,null,null,0,0]
[{"$f":"'Wniosek 2026 r.'!A124","v":86},{"$f":"'Wniosek 2026 r.'!B124","v":0},null,null,null,null,null,null,0,null,null,null,0,0]
[{"$f":"'Wniosek 2026 r.'!A125","v":87},{"$f":"'Wniosek 2026 r.'!B125","v":0},null,null,null,null,null,null,0,null,null,null,0,0]
[{"$f":"'Wniosek 2026 r.'!A126","v":88},{"$f":"'Wniosek 2026 r.'!B126","v":0},null,null,null,null,null,null,0,null,null,null,0,0]
[{"$f":"'Wniosek 2026 r.'!A127","v":89},{"$f":"'Wniosek 2026 r.'!B127","v":0},null,null,null,null,null,null,0,null,null,null,0,0]
[{"$f":"'Wniosek 2026 r.'!A128","v":90},{"$f":"'Wniosek 2026 r.'!B128","v":0},null,null,null,null,null,null,0,null,null,null,0,0]
[{"$f":"'Wniosek 2026 r.'!A129","v":91},{"$f":"'Wniosek 2026 r.'!B129","v":0},null,null,null,null,null,null,0,null,null,null,0,0]
[{"$f":"'Wniosek 2026 r.'!A130","v":92},{"$f":"'Wniosek 2026 r.'!B130","v":0},null,null,null,null,null,null,0,null,null,null,0,0]
[{"$f":"'Wniosek 2026 r.'!A131","v":93},{"$f":"'Wniosek 2026 r.'!B131","v":0},null,null,null,null,null,null,0,null,null,null,0,0]
[{"$f":"'Wniosek 2026 r.'!A132","v":94},{"$f":"'Wniosek 2026 r.'!B132","v":0},null,null,null,null,null,null,0,null,null,null,0,0]
[{"$f":"'Wniosek 2026 r.'!A133","v":95},{"$f":"'Wniosek 2026 r.'!B133","v":0},null,null,null,null,null,null,0,null,null,null,0,0]
[{"$f":"'Wniosek 2026 r.'!A134","v":96},{"$f":"'Wniosek 2026 r.'!B134","v":0},null,null,null,null,null,null,0,null,null,null,0,0]
[{"$f":"'Wniosek 2026 r.'!A135","v":97},{"$f":"'Wniosek 2026 r.'!B135","v":0},null,null,null,null,null,null,0,null,null,null,0,0]
[{"$f":"'Wniosek 2026 r.'!A136","v":98},{"$f":"'Wniosek 2026 r.'!B136","v":0},null,null,null,null,null,null,0,null,null,null,0,0]
[{"$f":"'Wniosek 2026 r.'!A137","v":99},{"$f":"'Wniosek 2026 r.'!B137","v":0},null,null,null,null,null,null,0,null,null,null,0,0]
[{"$f":"'Wniosek 2026 r.'!A138","v":100},{"$f":"'Wniosek 2026 r.'!B138","v":0},null,null,null,null,null,null,0,null,null,null,0,0]
[{"$f":"'Wniosek 2026 r.'!A139","v":101},{"$f":"'Wniosek 2026 r.'!B139","v":0},null,null,null,null,null,null,0,null,null,null,0,0]
[{"$f":"'Wniosek 2026 r.'!A140","v":102},{"$f":"'Wniosek 2026 r.'!B140","v":0},null,null,null,null,null,null,0,null,null,null,0,0]
[{"$f":"'Wniosek 2026 r.'!A141","v":103},{"$f":"'Wniosek 2026 r.'!B141","v":0},null,null,null,null,null,null,0,null,null,null,0,0]
[{"$f":"'Wniosek 2026 r.'!A142","v":104},{"$f":"'Wniosek 2026 r.'!B142","v":0},null,null,null,null,null,null,0,null,null,null,0,0]
[{"$f":"'Wniosek 2026 r.'!A143","v":105},{"$f":"'Wniosek 2026 r.'!B143","v":0},null,null,null,null,null,null,0,null,null,null,0,0]
[{"$f":"'Wniosek 2026 r.'!A144","v":106},{"$f":"'Wniosek 2026 r.'!B144","v":0},null,null,null,null,null,null,0,null,null,null,0,0]
[{"$f":"'Wniosek 2026 r.'!A145","v":107},{"$f":"'Wniosek 2026 r.'!B145","v":0},null,null,null,null,null,null,0,null,null,null,0,0]
[{"$f":"'Wniosek 2026 r.'!A146","v":108},{"$f":"'Wniosek 2026 r.'!B146","v":0},null,null,null,null,null,null,0,null,null,null,0,0]
[{"$f":"'Wniosek 2026 r.'!A147","v":109},{"$f":"'Wniosek 2026 r.'!B147","v":0},null,null,null,null,null,null,0,null,null,null,0,0]
[{"$f":"'Wniosek 2026 r.'!A148","v":110},{"$f":"'Wniosek 2026 r.'!B148","v":0},null,null,null,null,null,null,0,null,null,null,0,0]
[{"$f":"'Wniosek 2026 r.'!A149","v":111},{"$f":"'Wniosek 2026 r.'!B149","v":0},null,null,null,null,null,null,0,null,null,null,0,0]
[{"$f":"'Wniosek 2026 r.'!A150","v":112},{"$f":"'Wniosek 2026 r.'!B150","v":0},null,null,null,null,null,null,0,null,null,null,0,0]
[{"$f":"'Wniosek 2026 r.'!A151","v":113},{"$f":"'Wniosek 2026 r.'!B151","v":0},null,null,null,null,null,null,0,null,null,null,0,0]
[{"$f":"'Wniosek 2026 r.'!A152","v":114},{"$f":"'Wniosek 2026 r.'!B152","v":0},null,null,null,null,null,null,0,null,null,null,0,0]
[{"$f":"'Wniosek 2026 r.'!A153","v":115},{"$f":"'Wniosek 2026 r.'!B153","v":0},null,null,null,null,null,null,0,null,null,null,0,0]
[{"$f":"'Wniosek 2026 r.'!A154","v":116},{"$f":"'Wniosek 2026 r.'!B154","v":0},null,null,null,null,null,null,{"$f":"C141+D141+E141+F141+G141+H141","v":0},null,null,null,{"$f":"J141+K141+L141","v":0},{"$f":"M141-I141","v":0}]
[{"$f":"'Wniosek 2026 r.'!A155","v":117},{"$f":"'Wniosek 2026 r.'!B155","v":0},null,null,null,null,null,null,0,null,null,null,0,0]
[{"$f":"'Wniosek 2026 r.'!A156","v":118},{"$f":"'Wniosek 2026 r.'!B156","v":0},null,null,null,null,null,null,0,null,null,null,0,0]
[{"$f":"'Wniosek 2026 r.'!A157","v":119},{"$f":"'Wniosek 2026 r.'!B157","v":0},null,null,null,null,null,null,0,null,null,null,0,0]
[{"$f":"'Wniosek 2026 r.'!A158","v":120},{"$f":"'Wniosek 2026 r.'!B158","v":0},null,null,null,null,null,null,0,null,null,null,0,0]
[{"$f":"'Wniosek 2026 r.'!A159","v":121},{"$f":"'Wniosek 2026 r.'!B159","v":0},null,null,null,null,null,null,0,null,null,null,0,0]
[{"$f":"'Wniosek 2026 r.'!A160","v":122},{"$f":"'Wniosek 2026 r.'!B160","v":0},null,null,null,null,null,null,0,null,null,null,0,0]
[{"$f":"'Wniosek 2026 r.'!A161","v":123},{"$f":"'Wniosek 2026 r.'!B161","v":0},null,null,null,null,null,null,0,null,null,null,0,0]
[{"$f":"'Wniosek 2026 r.'!A162","v":124},{"$f":"'Wniosek 2026 r.'!B162","v":0},null,null,null,null,null,null,0,null,null,null,0,0]
[{"$f":"'Wniosek 2026 r.'!A163","v":125},{"$f":"'Wniosek 2026 r.'!B163","v":0},null,null,null,null,null,null,0,null,null,null,0,0]
[{"$f":"'Wniosek 2026 r.'!A164","v":126},{"$f":"'Wniosek 2026 r.'!B164","v":0},null,null,null,null,null,null,0,null,null,null,0,0]
[{"$f":"'Wniosek 2026 r.'!A165","v":127},{"$f":"'Wniosek 2026 r.'!B165","v":0},null,null,null,null,null,null,0,null,null,null,0,0]
[{"$f":"'Wniosek 2026 r.'!A166","v":128},{"$f":"'Wniosek 2026 r.'!B166","v":0},null,null,null,null,null,null,0,null,null,null,0,0]
[{"$f":"'Wniosek 2026 r.'!A167","v":129},{"$f":"'Wniosek 2026 r.'!B167","v":0},null,null,null,null,null,null,0,null,null,null,0,0]
[{"$f":"'Wniosek 2026 r.'!A168","v":130},{"$f":"'Wniosek 2026 r.'!B168","v":0},null,null,null,null,null,null,0,null,null,null,0,0]
[{"$f":"'Wniosek 2026 r.'!A169","v":131},{"$f":"'Wniosek 2026 r.'!B169","v":0},null,null,null,null,null,null,0,null,null,null,0,0]
[{"$f":"'Wniosek 2026 r.'!A170","v":132},{"$f":"'Wniosek 2026 r.'!B170","v":0},null,null,null,null,null,null,0,null,null,null,0,0]
[{"$f":"'Wniosek 2026 r.'!A171","v":133},{"$f":"'Wniosek 2026 r.'!B171","v":0},null,null,null,null,null,null,0,null,null,null,0,0]
[{"$f":"'Wniosek 2026 r.'!A172","v":134},{"$f":"'Wniosek 2026 r.'!B172","v":0},null,null,null,null,null,null,0,null,null,null,0,0]
[{"$f":"'Wniosek 2026 r.'!A173","v":135},{"$f":"'Wniosek 2026 r.'!B173","v":0},null,null,null,null,null,null,0,null,null,null,0,0]
[{"$f":"'Wniosek 2026 r.'!A174","v":136},{"$f":"'Wniosek 2026 r.'!B174","v":0},null,null,null,null,null,null,0,null,null,null,0,0]
[{"$f":"'Wniosek 2026 r.'!A175","v":137},{"$f":"'Wniosek 2026 r.'!B175","v":0},null,null,null,null,null,null,0,null,null,null,0,0]
[{"$f":"'Wniosek 2026 r.'!A176","v":138},{"$f":"'Wniosek 2026 r.'!B176","v":0},null,null,null,null,null,null,0,null,null,null,0,0]
[{"$f":"'Wniosek 2026 r.'!A177","v":139},{"$f":"'Wniosek 2026 r.'!B177","v":0},null,null,null,null,null,null,0,null,null,null,0,0]
[{"$f":"'Wniosek 2026 r.'!A178","v":140},{"$f":"'Wniosek 2026 r.'!B178","v":0},null,null,null,null,null,null,0,null,null,null,0,0]
[{"$f":"'Wniosek 2026 r.'!A179","v":141},{"$f":"'Wniosek 2026 r.'!B179","v":0},null,null,null,null,null,null,0,null,null,null,0,0]
[{"$f":"'Wniosek 2026 r.'!A180","v":142},{"$f":"'Wniosek 2026 r.'!B180","v":0},null,null,null,null,null,null,0,null,null,null,0,0]
[{"$f":"'Wniosek 2026 r.'!A181","v":143},{"$f":"'Wniosek 2026 r.'!B181","v":0},null,null,null,null,null,null,0,null,null,null,0,0]
[{"$f":"'Wniosek 2026 r.'!A182","v":144},{"$f":"'Wniosek 2026 r.'!B182","v":0},null,null,null,null,null,null,0,null,null,null,0,0]
[{"$f":"'Wniosek 2026 r.'!A183","v":145},{"$f":"'Wniosek 2026 r.'!B183","v":0},null,null,null,null,null,null,0,null,null,null,0,0]
[{"$f":"'Wniosek 2026 r.'!A184","v":146},{"$f":"'Wniosek 2026 r.'!B184","v":0},null,null,null,null,null,null,0,null,null,null,0,0]
[{"$f":"'Wniosek 2026 r.'!A185","v":147},{"$f":"'Wniosek 2026 r.'!B185","v":0},null,null,null,null,null,null,0,null,null,null,0,0]
[{"$f":"'Wniosek 2026 r.'!A186","v":148},{"$f":"'Wniosek 2026 r.'!B186","v":0},null,null,null,null,null,null,0,null,null,null,0,0]
[{"$f":"'Wniosek 2026 r.'!A187","v":149},{"$f":"'Wniosek 2026 r.'!B187","v":0},null,null,null,null,null,null,0,null,null,null,0,0]
[{"$f":"'Wniosek 2026 r.'!A188","v":150},{"$f":"'Wniosek 2026 r.'!B188","v":0},null,null,null,null,null,null,0,null,null,null,{"$f":"J175+K175+L175","v":0},{"$f":"M175-I175","v":0}]
["Ogółem:",null,{"$f":"SUM(C26:C175)","v":0},{"$f":"SUM(D26:D175)","v":0},{"$f":"SUM(E26:E175)","v":0},{"$f":"SUM(F26:F175)","v":0},0,0,0,0,0,0,0,{"$f":"SUMIF(N26:N175,\"<0\")","v":0}]
[]
[null,null,null,null,null,null,null,null,"Łączny planowany deficyt na liniach komunikacyjnych w 2026 roku wynosi:",null,null,null,{"$f":"N176","v":0}]
[]
[]
[]
[null,null,null,null,null,null,null,null,"dane osób działających w imieniu organizatora publicznego transportu zbiorowego składających kwalifikowany podpis elektroniczny pod wnioskiem "]
[]
[]
[null,null,null,null,null,null,null,null,"kontrasygnata Skarbnika/Głównego księgowego budżetu  - dane osoby składającej kwalifikowany podpis elektroniczny"]

{"sheet":"Zał. nr 4 dane osób","index":3,"n_rows":39,"n_cols":7,"rows_kept":39,"cut":false,"hidden":false,"merged":[[20,0,21,8],[22,0,22,8],[0,4,0,5],[2,1,2,2],[9,1,9,2],[14,4,18,8],[28,4,28,8],[29,4,29,8],[36,3,37,7],[38,3,38,7],[23,0,23,8],[25,4,25,8],[24,4,24,8],[26,4,26,8],[27,4,27,8],[31,0,31,8],[33,4,33,8],[34,4,34,8]]}
[null,null,null,null,{"$f":"IF('Wniosek 2026 r.'!E1=\"\",\"\",'Wniosek 2026 r.'!E1)","v":""},null,{"$f":"IF('Wniosek 2026 r.'!G1=\"\",\"\",'Wniosek 2026 r.'!G1)","v":""}]
[null,null,null,null,null,"(miejscowość)","     (data)"]
[null,"A1. ORGANIZATOR PUBLICZNEGO TRANSPORTU ZBIOROWEGO"]
[null,"NIP",{"$f":"IF('Wniosek 2026 r.'!$C$4=0,\"\",'Wniosek 2026 r.'!C4)","v":""}]
[null,"Nazwa organizatora publicznego transportu zbiorowego",{"$f":"IF('Wniosek 2026 r.'!$C$4=0,\"\",'Wniosek 2026 r.'!C5)","v":""}]
[null,"REGON",{"$f":"IF('Wniosek 2026 r.'!$C$4=0,\"\",'Wniosek 2026 r.'!C6)","v":""}]
[null,"Adres",{"$f":"IF('Wniosek 2026 r.'!$C$4=0,\"\",'Wniosek 2026 r.'!C7)","v":""}]
[null,"Powiat",{"$f":"IF('Wniosek 2026 r.'!$C$4=0,\"\",'Wniosek 2026 r.'!C8)","v":""}]
[null,"Województwo",{"$f":"IF('Wniosek 2026 r.'!$C$4=0,\"\",'Wniosek 2026 r.'!C9)","v":""}]
[null,"A2. Dane osoby do kontaktu w sprawie wniosku"]
[null,"Imię",{"$f":"IF('Wniosek 2026 r.'!$C$4=0,\"\",'Wniosek 2026 r.'!C11)","v":""}]
[null,"Nazwisko",{"$f":"IF('Wniosek 2026 r.'!$C$4=0,\"\",'Wniosek 2026 r.'!C12)","v":""}]
[null,"Telefon ",{"$f":"IF('Wniosek 2026 r.'!$C$4=0,\"\",'Wniosek 2026 r.'!C13)","v":""}]
[null,"Adres e-mail",{"$f":"IF('Wniosek 2026 r.'!$C$4=0,\"\",'Wniosek 2026 r.'!C14)","v":""}]
[null,null,null,null,"Wojewoda Mazowiecki\nWydział Infrastruktury i Rolnictwa\npl.Bankowy 3/5\n00-950 Warszawa"]
[]
[]
[]
[]
[]
["ZAŁĄCZNIK NR 4 DO WNIOSKU O OBJĘCIE DOPŁATĄ - OŚWIADCZENIE O DANYCH OSÓB UPRAWNIONYCH DO REPREZENTOWANIA ORGANIZATORA, KTÓRE ZAWRĄ UMOWĘ O DOPŁATĘ"]
[]
["A.3   Informacje dotyczące organizatora publicznego transportu zbiorowego"]
["W imieniu organizatora publicznego transportu zbiorowego umowę o dopłatę zawrą :"]
["1."]
[null,"Pan/Pani","Imię i Nazwisko","Stanowisko","Nazwa c.d"]
["2."]
[null,"Pan/Pani","Imię i Nazwisko","Stanowisko","Nazwa c.d"]
["3."]
[null,"Pan/Pani","Imię i Nazwisko","Stanowisko","Nazwa c.d"]
[]
["Umowę kontrasygnuje:"]
[]
["1."]
[null,"Pan/Pani","Imię i Nazwisko","Stanowisko","Nazwa c.d"]
[]
[]
[]
[null,null,null,"dane osób działających w imieniu organizatora publicznego transportu zbiorowego składających kwalifikowany podpis elektroniczny pod wnioskiem "]

{"sheet":"Zał. nr 5 jednostki","index":4,"n_rows":330,"n_cols":7,"rows_kept":330,"cut":false,"hidden":false,"merged":[[14,4,18,6],[20,0,21,6],[22,0,22,6],[2,1,2,2],[9,1,9,2],[24,3,24,6],[229,1,229,2],[230,1,230,2],[227,1,227,2],[228,1,228,2],[37,1,37,2],[38,1,38,2],[35,1,35,2],[36,1,36,2],[33,1,33,2],[34,1,34,2],[31,1,31,2],[32,1,32,2],[29,1,29,2],[30,1,30,2],[47,1,47,2],[48,1,48,2],[45,1,45,2],[46,1,46,2],[279,1,279,2],[278,1,278,2],[276,1,276,2],[281,1,281,2],[277,1,277,2],[24,0,24,2],[275,1,275,2],[23,1,23,2],[225,1,225,2],[226,1,226,2],[240,1,240,2],[237,1,237,2],[238,1,238,2],[235,1,235,2],[236,1,236,2],[233,1,233,2],[234,1,234,2],[231,1,231,2],[232,1,232,2],[27,1,27,2],[28,1,28,2],[25,1,25,2],[26,1,26,2],[273,1,273,2],[292,1,292,2],[288,1,288,2],[289,1,289,2],[290,1,290,2],[285,1,285,2],[291,1,291,2],[284,1,284,2],[282,1,282,2],[280,1,280,2],[286,1,286,2],[287,1,287,2],[283,1,283,2],[299,1,299,2],[300,1,300,2],[298,1,298,2],[302,1,302,2],[303,1,303,2],[301,1,301,2],[294,1,294,2],[295,1,295,2],[293,1,293,2],[296,1,296,2],[297,1,297,2],[320,1,320,2],[321,1,321,2],[323,1,323,2],[324,1,324,2],[322,1,322,2],[315,1,315,2],[316,1,316,2],[314,1,314,2],[318,1,318,2],[319,1,319,2],[317,1,317,2],[310,1,310,2],[311,1,311,2],[309,1,309,2],[312,1,312,2],[313,1,313,2],[304,1,304,2],[305,1,305,2],[307,1,307,2],[308,1,308,2],[306,1,306,2],[274,1,274,2],[271,1,271,2],[272,1,272,2],[269,1,269,2],[270,1,270,2],[267,1,267,2],[268,1,268,2],[265,1,265,2],[266,1,266,2],[263,1,263,2],[264,1,264,2],[261,1,261,2],[262,1,262,2],[259,1,259,2],[260,1,260,2],[257,1,257,2],[258,1,258,2],[255,1,255,2],[256,1,256,2],[43,1,43,2],[44,1,44,2],[41,1,41,2],[42,1,42,2],[39,1,39,2],[40,1,40,2],[57,1,57,2],[58,1,58,2],[55,1,55,2],[56,1,56,2],[53,1,53,2],[54,1,54,2],[51,1,51,2],[52,1,52,2],[49,1,49,2],[50,1,50,2],[67,1,67,2],[68,1,68,2],[65,1,65,2],[66,1,66,2],[63,1,63,2],[64,1,64,2],[61,1,61,2],[62,1,62,2],[59,1,59,2],[60,1,60,2],[77,1,77,2],[78,1,78,2],[75,1,75,2],[76,1,76,2],[73,1,73,2],[74,1,74,2],[71,1,71,2],[72,1,72,2],[69,1,69,2],[70,1,70,2],[87,1,87,2],[88,1,88,2],[85,1,85,2],[86,1,86,2],[83,1,83,2],[84,1,84,2],[81,1,81,2],[82,1,82,2],[79,1,79,2],[80,1,80,2],[97,1,97,2],[98,1,98,2],[95,1,95,2],[96,1,96,2],[93,1,93,2],[94,1,94,2],[91,1,91,2],[92,1,92,2],[89,1,89,2],[90,1,90,2],[107,1,107,2],[108,1,108,2],[105,1,105,2],[106,1,106,2],[103,1,103,2],[104,1,104,2],[101,1,101,2],[102,1,102,2],[99,1,99,2],[100,1,100,2],[117,1,117,2],[118,1,118,2],[115,1,115,2],[116,1,116,2],[113,1,113,2],[114,1,114,2],[111,1,111,2],[112,1,112,2],[109,1,109,2],[110,1,110,2],[127,1,127,2],[128,1,128,2],[125,1,125,2],[126,1,126,2],[123,1,123,2],[124,1,124,2],[121,1,121,2],[122,1,122,2],[119,1,119,2],[120,1,120,2],[137,1,137,2],[138,1,138,2],[135,1,135,2],[136,1,136,2],[133,1,133,2],[134,1,134,2],[131,1,131,2],[132,1,132,2],[129,1,129,2],[130,1,130,2],[147,1,147,2],[148,1,148,2],[145,1,145,2],[146,1,146,2],[143,1,143,2],[144,1,144,2],[141,1,141,2],[142,1,142,2],[139,1,139,2],[140,1,140,2],[157,1,157,2],[158,1,158,2],[155,1,155,2],[156,1,156,2],[153,1,153,2],[154,1,154,2],[151,1,151,2],[152,1,152,2],[149,1,149,2],[150,1,150,2],[167,1,167,2],[168,1,168,2],[165,1,165,2],[166,1,166,2],[163,1,163,2],[164,1,164,2],[161,1,161,2],[162,1,162,2],[159,1,159,2],[160,1,160,2],[177,1,177,2],[178,1,178,2],[175,1,175,2],[176,1,176,2],[173,1,173,2],[174,1,174,2],[171,1,171,2],[172,1,172,2],[169,1,169,2],[170,1,170,2],[187,1,187,2],[188,1,188,2],[185,1,185,2],[186,1,186,2],[183,1,183,2],[184,1,184,2],[181,1,181,2],[182,1,182,2],[179,1,179,2],[180,1,180,2],[197,1,197,2],[198,1,198,2],[195,1,195,2],[196,1,196,2],[193,1,193,2],[194,1,194,2],[191,1,191,2],[192,1,192,2],[189,1,189,2],[190,1,190,2],[207,1,207,2],[208,1,208,2],[205,1,205,2],[206,1,206,2],[203,1,203,2],[204,1,204,2],[201,1,201,2],[202,1,202,2],[199,1,199,2],[200,1,200,2],[216,1,216,2],[217,1,217,2],[213,1,213,2],[214,1,214,2],[215,1,215,2],[211,1,211,2],[212,1,212,2],[209,1,209,2],[210,1,210,2],[327,3,328,5],[329,3,329,5],[224,1,224,2],[220,1,220,2],[221,1,221,2],[222,1,222,2],[218,1,218,2],[219,1,219,2],[223,1,223,2],[253,1,253,2],[254,1,254,2],[251,1,251,2],[252,1,252,2],[249,1,249,2],[250,1,250,2],[247,1,247,2],[248,1,248,2],[245,1,245,2],[246,1,246,2],[243,1,243,2],[244,1,244,2],[241,1,241,2],[242,1,242,2],[239,1,239,2]]}
[null,null,null,null,{"$f":"IF('Wniosek 2026 r.'!E1=\"\",\"\",'Wniosek 2026 r.'!E1)","v":""},{"$f":"IF('Wniosek 2026 r.'!G1=\"\",\"\",'Wniosek 2026 r.'!G1)","v":""}]
[null,null,null,null,"(miejscowość)","     (data)"]
[null,"A1. ORGANIZATOR PUBLICZNEGO TRANSPORTU ZBIOROWEGO"]
[null,"NIP",{"$f":"IF('Wniosek 2026 r.'!C4=\"\",\"\",'Wniosek 2026 r.'!C4)","v":""}]
[null,"Nazwa organizatora publicznego transportu zbiorowego",{"$f":"IF('Wniosek 2026 r.'!C4=\"\",\"\",'Wniosek 2026 r.'!C5)","v":""}]
[null,"REGON",{"$f":"IF('Wniosek 2026 r.'!C4=\"\",\"\",'Wniosek 2026 r.'!C6)","v":""}]
[null,"Adres",{"$f":"IF('Wniosek 2026 r.'!C4=\"\",\"\",'Wniosek 2026 r.'!C7)","v":""}]
[null,"Powiat",{"$f":"IF('Wniosek 2026 r.'!C4=\"\",\"\",'Wniosek 2026 r.'!C8)","v":""}]
[null,"Województwo",{"$f":"IF('Wniosek 2026 r.'!C9=\"\",\"\",'Wniosek 2026 r.'!C9)","v":"mazowieckie"}]
[null,"A2. Dane osoby do kontaktu w sprawie wniosku"]
[null,"Imię",{"$f":"IF('Wniosek 2026 r.'!$C$4=\"\",\"\",'Wniosek 2026 r.'!C11)","v":""}]
[null,"Nazwisko",{"$f":"IF('Wniosek 2026 r.'!$C$4=\"\",\"\",'Wniosek 2026 r.'!C12)","v":""}]
[null,"Telefon ",{"$f":"IF('Wniosek 2026 r.'!$C$4=\"\",\"\",'Wniosek 2026 r.'!C13)","v":""}]
[null,"Adres e-mail",{"$f":"IF('Wniosek 2026 r.'!$C$4=\"\",\"\",'Wniosek 2026 r.'!C14)","v":""}]
[null,null,null,null,"Wojewoda Mazowiecki\nWydział Infrastruktury i Rolnictwa\npl.Bankowy 3/5\n00-950 Warszawa"]
[]
[]
[]
[]
[]
["ZAŁĄCZNIK NR 5 DO WNIOSKU O OBJĘCIE DOPŁATĄ - INFORMACJA UZUPEŁNIAJĄCA O JEDNOSTKACH (GMINACH) WCHODZĄCYCH W SKŁAD ORGANIZATORA PUBLICZNEGO TRANSPORTU ZBIOROWEGO NA TERENIE KTÓRYCH REALIZOWANE BĘDĄ PRZEWOZY AUTOBUSOWE"]
[]
["A.3   Kod TERYT jednostek wchodzących w skład organizatora"]
["Lp.","Nazwa jednostki samorządu terytorialnego",null,"Kod Województwa","Kod Powiatu","Kod Gminy","Rodzaj jednostki"]
[null,null,null,"Kod TERYT - TERC"]
[]
[]
[]
[]
[]
[]
[]
[]
[]
[]
[]
[]
[]
[]
[]
[]
[]
[]
[]
[]
[]
[]
[]
[]
[]
[]
[]
[]
[]
[]
[]
[]
[]
[]
[]
[]
[]
[]
[]
[]
[]
[]
[]
[]
[]
[]
[]
[]
[]
[]
[]
[]
[]
[]
[]
[]
[]
[]
[]
[]
[]
[]
[]
[]
[]
[]
[]
[]
[]
[]
[]
[]
[]
[]
[]
[]
[]
[]
[]
[]
[]
[]
[]
[]
[]
[]
[]
[]
[]
[]
[]
[]
[]
[]
[]
[]
[]
[]
[]
[]
[]
[]
[]
[]
[]
[]
[]
[]
[]
[]
[]
[]
[]
[]
[]
[]
[]
[]
[]
[]
[]
[]
[]
[]
[]
[]
[]
[]
[]
[]
[]
[]
[]
[]
[]
[]
[]
[]
[]
[]
[]
[]
[]
[]
[]
[]
[]
[]
[]
[]
[]
[]
[]
[]
[]
[]
[]
[]
[]
[]
[]
[]
[]
[]
[]
[]
[]
[]
[]
[]
[]
[]
[]
[]
[]
[]
[]
[]
[]
[]
[]
[]
[]
[]
[]
[]
[]
[]
[]
[]
[]
[]
[]
[]
[]
[]
[]
[]
[]
[]
[]
[]
[]
[]
[]
[]
[]
[]
[]
[]
[]
[]
[]
[]
[]
[]
[]
[]
[]
[]
[]
[]
[]
[]
[]
[]
[]
[]
[]
[]
[]
[]
[]
[]
[]
[]
[]
[]
[]
[]
[]
[]
[]
[]
[]
[]
[]
[]
[]
[]
[]
[]
[]
[]
[]
[]
[]
[]
[]
[]
[]
[]
[]
[]
[]
[]
[]
[]
[]
[]
[]
[]
[]
[]
[]
[]
[]
[]
[]
[]
[]
[]
[]
[]
[]
[]
[]
[]
[]
[]
[]
[]
[]
[]
[]
[]
[]
[]
[]
[]
[]
[]
[]
[]
[null,null,null,"dane osób działających w imieniu organizatora publicznego transportu zbiorowego składających kwalifikowany podpis elektroniczny pod wnioskiem "]

{"sheet":"Weryfikacja 2026 r. płaska","index":5,"n_rows":305,"n_cols":43,"rows_kept":305,"cut":false,"hidden":true,"merged":[]}
["l.p","NAZWA LINII","Dł.linii","Częstotliwość","WOZOKILOMETRY","DEFICYT","CENA USŁUGI","WKŁAD WŁASNY/KM [ZŁ]","WKŁAD WŁASNY [%]","WKŁAD WŁASNY [ZŁ]","KWOTA DOPŁATY",{"$f":"A1","v":"l.p"},"Częstotliwość","Cena usługi","Wkład własny/km [zł]","Wkład własny [%]","Wkład własny [zł]","Def z ceny usł","Kwota dopłaty","Max kwota dopł na podst wk. wł.","Max kwota dopł na podst wk wł/wzkm ","Kwota dopłaty/wozokm","10% z deficytu ","10 % z ceny usługi","warunek 10%","max 1 (3) zł/wzkm","Różnica w finansowaniu","Różnica def z zaokrągleń",{"$f":"'Zał. nr 2 kalkulacja - 2026 r.'!C24","v":"Koszty kierowców autobusów"},{"$f":"'Zał. nr 2 kalkulacja - 2026 r.'!D24","v":"Koszty taboru (autobusów)"},{"$f":"'Zał. nr 2 kalkulacja - 2026 r.'!E24","v":"Koszty eksploatacyjne"},{"$f":"'Zał. nr 2 kalkulacja - 2026 r.'!F24","v":"Koszty wydziałowe przewozów autobusowych"},{"$f":"'Zał. nr 2 kalkulacja - 2026 r.'!G24","v":"Koszty zarządzania"},{"$f":"'Zał. nr 2 kalkulacja - 2026 r.'!H24","v":"Pozostałe koszty"},{"$f":"'Zał. nr 2 kalkulacja - 2026 r.'!I24","v":"Planowane koszty ogółem "},{"$f":"'Zał. nr 2 kalkulacja - 2026 r.'!J24","v":"Przychody ze sprzedaży biletów za przewóz osób i bagażu"},{"$f":"'Zał. nr 2 kalkulacja - 2026 r.'!K24","v":"Przychody z dotacji przedmiotowej na wyrównanie utraconych przychodów z tytułu ulg ustawowych"},{"$f":"'Zał. nr 2 kalkulacja - 2026 r.'!L24","v":"Pozostałe przychody "},{"$f":"'Zał. nr 2 kalkulacja - 2026 r.'!M24","v":"Planowane przychody ogółem "},{"$f":"'Zał. nr 2 kalkulacja - 2026 r.'!N24","v":"Deficyt"},"Zgodność kalkulacji","STAWKA MAX Z UMOWY","ok"]
[{"$f":"'Wniosek 2026 r.'!A39","v":1},{"$f":"'Wniosek 2026 r.'!B39","v":0},{"$f":"'Wniosek 2026 r.'!E39","v":0},{"$f":"'Wniosek 2026 r.'!G39","v":0},{"$f":"'Wniosek 2026 r.'!C202","v":0},{"$f":"'Wniosek 2026 r.'!C512","v":0},{"$f":"'Wniosek 2026 r.'!C358","v":0},{"$f":"'Wniosek 2026 r.'!D358","v":0},{"$f":"'Wniosek 2026 r.'!F358","v":0},{"$f":"'Wniosek 2026 r.'!H358","v":0},{"$f":"'Wniosek 2026 r.'!C667","v":0},1,{"$f":"IFERROR(E2/C2,\"\")","v":""},{"$f":"IFERROR(F2/E2,\"\")","v":""},{"$f":"H2","v":0},{"$f":"IFERROR(O2/N2,\"\")","v":""},{"$f":"O2*E2","v":0},{"$f":"G2*E2","v":0},{"$f":"IFERROR(U2*E2,0)","v":0},{"$f":"IFERROR(U2*E2,0)","v":0},{"$f":"IFERROR(IF((F2-J2)/E2>=$AP$2,$AP$2,(F2-J2)/E2),0)","v":0},{"$f":"IFERROR(K2/E2,0)","v":0},{"$f":"F2*0.1","v":0},{"$f":"IFERROR(N2*0.1,0)","v":0},{"$f":"IF(O2>=X2,$AQ$1,$AQ$2)","v":"ok"},{"$f":"IF(V2<=$AP$2,$AQ$1,$AQ$2)","v":"ok"},{"$f":"(S2+Q2)-F2","v":0},{"$f":"F2-R2","v":0},{"$f":"'Zał. nr 2 kalkulacja - 2026 r.'!C26","v":0},{"$f":"'Zał. nr 2 kalkulacja - 2026 r.'!D26","v":0},{"$f":"'Zał. nr 2 kalkulacja - 2026 r.'!E26","v":0},{"$f":"'Zał. nr 2 kalkulacja - 2026 r.'!F26","v":0},{"$f":"'Zał. nr 2 kalkulacja - 2026 r.'!G26","v":0},{"$f":"'Zał. nr 2 kalkulacja - 2026 r.'!H26","v":0},{"$f":"'Zał. nr 2 kalkulacja - 2026 r.'!I26","v":0},{"$f":"'Zał. nr 2 kalkulacja - 2026 r.'!J26","v":0},{"$f":"'Zał. nr 2 kalkulacja - 2026 r.'!K26","v":0},{"$f":"'Zał. nr 2 kalkulacja - 2026 r.'!L26","v":0},{"$f":"'Zał. nr 2 kalkulacja - 2026 r.'!M26","v":0},{"$f":"'Zał. nr 2 kalkulacja - 2026 r.'!N26","v":0},{"$f":"IF('Zał. nr 2 kalkulacja - 2026 r.'!M178=('Wniosek 2026 r.'!C662*(-1)),'Weryfikacja 2026 r. płaska'!AQ1,'Weryfikacja 2026 r. płaska'!AQ2)","v":"ok"},3,"X"]
[{"$f":"'Wniosek 2026 r.'!A40","v":2},{"$f":"'Wniosek 2026 r.'!B40","v":0},{"$f":"'Wniosek 2026 r.'!E40","v":0},{"$f":"'Wniosek 2026 r.'!G40","v":0},{"$f":"'Wniosek 2026 r.'!C203","v":0},{"$f":"'Wniosek 2026 r.'!C513","v":0},{"$f":"'Wniosek 2026 r.'!C359","v":0},{"$f":"'Wniosek 2026 r.'!D359","v":0},{"$f":"'Wniosek 2026 r.'!F359","v":0},{"$f":"'Wniosek 2026 r.'!H359","v":0},{"$f":"'Wniosek 2026 r.'!C668","v":0},2,"","",0,{"$f":"IFERROR(O3/N3,\"\")","v":""},0,0,0,0,0,0,0,{"$f":"IFERROR(N3*0.1,0)","v":0},"ok","ok",0,0,{"$f":"'Zał. nr 2 kalkulacja - 2026 r.'!C27","v":0},{"$f":"'Zał. nr 2 kalkulacja - 2026 r.'!D27","v":0},{"$f":"'Zał. nr 2 kalkulacja - 2026 r.'!E27","v":0},{"$f":"'Zał. nr 2 kalkulacja - 2026 r.'!F27","v":0},{"$f":"'Zał. nr 2 kalkulacja - 2026 r.'!G27","v":0},{"$f":"'Zał. nr 2 kalkulacja - 2026 r.'!H27","v":0},{"$f":"'Zał. nr 2 kalkulacja - 2026 r.'!I27","v":0},{"$f":"'Zał. nr 2 kalkulacja - 2026 r.'!J27","v":0},{"$f":"'Zał. nr 2 kalkulacja - 2026 r.'!K27","v":0},{"$f":"'Zał. nr 2 kalkulacja - 2026 r.'!L27","v":0},{"$f":"'Zał. nr 2 kalkulacja - 2026 r.'!M27","v":0},{"$f":"'Zał. nr 2 kalkulacja - 2026 r.'!N27","v":0}]
[{"$f":"'Wniosek 2026 r.'!A41","v":3},{"$f":"'Wniosek 2026 r.'!B41","v":0},{"$f":"'Wniosek 2026 r.'!E41","v":0},{"$f":"'Wniosek 2026 r.'!G41","v":0},{"$f":"'Wniosek 2026 r.'!C204","v":0},{"$f":"'Wniosek 2026 r.'!C514","v":0},{"$f":"'Wniosek 2026 r.'!C360","v":0},{"$f":"'Wniosek 2026 r.'!D360","v":0},{"$f":"'Wniosek 2026 r.'!F360","v":0},{"$f":"'Wniosek 2026 r.'!H360","v":0},{"$f":"'Wniosek 2026 r.'!C669","v":0},3,"","",0,"",0,0,0,0,0,0,0,0,"ok","ok",0,0,{"$f":"'Zał. nr 2 kalkulacja - 2026 r.'!C28","v":0},{"$f":"'Zał. nr 2 kalkulacja - 2026 r.'!D28","v":0},{"$f":"'Zał. nr 2 kalkulacja - 2026 r.'!E28","v":0},{"$f":"'Zał. nr 2 kalkulacja - 2026 r.'!F28","v":0},{"$f":"'Zał. nr 2 kalkulacja - 2026 r.'!G28","v":0},{"$f":"'Zał. nr 2 kalkulacja - 2026 r.'!H28","v":0},{"$f":"'Zał. nr 2 kalkulacja - 2026 r.'!I28","v":0},{"$f":"'Zał. nr 2 kalkulacja - 2026 r.'!J28","v":0},{"$f":"'Zał. nr 2 kalkulacja - 2026 r.'!K28","v":0},{"$f":"'Zał. nr 2 kalkulacja - 2026 r.'!L28","v":0},{"$f":"'Zał. nr 2 kalkulacja - 2026 r.'!M28","v":0},{"$f":"'Zał. nr 2 kalkulacja - 2026 r.'!N28","v":0}]
[{"$f":"'Wniosek 2026 r.'!A42","v":4},{"$f":"'Wniosek 2026 r.'!B42","v":0},{"$f":"'Wniosek 2026 r.'!E42","v":0},{"$f":"'Wniosek 2026 r.'!G42","v":0},{"$f":"'Wniosek 2026 r.'!C205","v":0},{"$f":"'Wniosek 2026 r.'!C515","v":0},{"$f":"'Wniosek 2026 r.'!C361","v":0},{"$f":"'Wniosek 2026 r.'!D361","v":0},{"$f":"'Wniosek 2026 r.'!F361","v":0},{"$f":"'Wniosek 2026 r.'!H361","v":0},{"$f":"'Wniosek 2026 r.'!C670","v":0},4,"","",0,"",0,0,0,0,0,0,0,0,"ok","ok",0,0,{"$f":"'Zał. nr 2 kalkulacja - 2026 r.'!C29","v":0},{"$f":"'Zał. nr 2 kalkulacja - 2026 r.'!D29","v":0},{"$f":"'Zał. nr 2 kalkulacja - 2026 r.'!E29","v":0},{"$f":"'Zał. nr 2 kalkulacja - 2026 r.'!F29","v":0},{"$f":"'Zał. nr 2 kalkulacja - 2026 r.'!G29","v":0},{"$f":"'Zał. nr 2 kalkulacja - 2026 r.'!H29","v":0},{"$f":"'Zał. nr 2 kalkulacja - 2026 r.'!I29","v":0},{"$f":"'Zał. nr 2 kalkulacja - 2026 r.'!J29","v":0},{"$f":"'Zał. nr 2 kalkulacja - 2026 r.'!K29","v":0},{"$f":"'Zał. nr 2 kalkulacja - 2026 r.'!L29","v":0},{"$f":"'Zał. nr 2 kalkulacja - 2026 r.'!M29","v":0},{"$f":"'Zał. nr 2 kalkulacja - 2026 r.'!N29","v":0}]
[{"$f":"'Wniosek 2026 r.'!A43","v":5},{"$f":"'Wniosek 2026 r.'!B43","v":0},{"$f":"'Wniosek 2026 r.'!E43","v":0},{"$f":"'Wniosek 2026 r.'!G43","v":0},{"$f":"'Wniosek 2026 r.'!C206","v":0},{"$f":"'Wniosek 2026 r.'!C516","v":0},{"$f":"'Wniosek 2026 r.'!C362","v":0},{"$f":"'Wniosek 2026 r.'!D362","v":0},{"$f":"'Wniosek 2026 r.'!F362","v":0},{"$f":"'Wniosek 2026 r.'!H362","v":0},{"$f":"'Wniosek 2026 r.'!C671","v":0},5,"","",0,"",0,0,0,0,0,0,0,0,"ok","ok",0,0,{"$f":"'Zał. nr 2 kalkulacja - 2026 r.'!C30","v":0},{"$f":"'Zał. nr 2 kalkulacja - 2026 r.'!D30","v":0},{"$f":"'Zał. nr 2 kalkulacja - 2026 r.'!E30","v":0},{"$f":"'Zał. nr 2 kalkulacja - 2026 r.'!F30","v":0},{"$f":"'Zał. nr 2 kalkulacja - 2026 r.'!G30","v":0},{"$f":"'Zał. nr 2 kalkulacja - 2026 r.'!H30","v":0},{"$f":"'Zał. nr 2 kalkulacja - 2026 r.'!I30","v":0},{"$f":"'Zał. nr 2 kalkulacja - 2026 r.'!J30","v":0},{"$f":"'Zał. nr 2 kalkulacja - 2026 r.'!K30","v":0},{"$f":"'Zał. nr 2 kalkulacja - 2026 r.'!L30","v":0},{"$f":"'Zał. nr 2 kalkulacja - 2026 r.'!M30","v":0},{"$f":"'Zał. nr 2 kalkulacja - 2026 r.'!N30","v":0}]
[{"$f":"'Wniosek 2026 r.'!A44","v":6},{"$f":"'Wniosek 2026 r.'!B44","v":0},{"$f":"'Wniosek 2026 r.'!E44","v":0},{"$f":"'Wniosek 2026 r.'!G44","v":0},{"$f":"'Wniosek 2026 r.'!C207","v":0},{"$f":"'Wniosek 2026 r.'!C517","v":0},{"$f":"'Wniosek 2026 r.'!C363","v":0},{"$f":"'Wniosek 2026 r.'!D363","v":0},{"$f":"'Wniosek 2026 r.'!F363","v":0},{"$f":"'Wniosek 2026 r.'!H363","v":0},{"$f":"'Wniosek 2026 r.'!C672","v":0},6,"","",0,"",0,0,0,0,0,0,0,0,"ok","ok",0,0,{"$f":"'Zał. nr 2 kalkulacja - 2026 r.'!C31","v":0},{"$f":"'Zał. nr 2 kalkulacja - 2026 r.'!D31","v":0},{"$f":"'Zał. nr 2 kalkulacja - 2026 r.'!E31","v":0},{"$f":"'Zał. nr 2 kalkulacja - 2026 r.'!F31","v":0},{"$f":"'Zał. nr 2 kalkulacja - 2026 r.'!G31","v":0},{"$f":"'Zał. nr 2 kalkulacja - 2026 r.'!H31","v":0},{"$f":"'Zał. nr 2 kalkulacja - 2026 r.'!I31","v":0},{"$f":"'Zał. nr 2 kalkulacja - 2026 r.'!J31","v":0},{"$f":"'Zał. nr 2 kalkulacja - 2026 r.'!K31","v":0},{"$f":"'Zał. nr 2 kalkulacja - 2026 r.'!L31","v":0},{"$f":"'Zał. nr 2 kalkulacja - 2026 r.'!M31","v":0},{"$f":"'Zał. nr 2 kalkulacja - 2026 r.'!N31","v":0}]
[{"$f":"'Wniosek 2026 r.'!A45","v":7},{"$f":"'Wniosek 2026 r.'!B45","v":0},{"$f":"'Wniosek 2026 r.'!E45","v":0},{"$f":"'Wniosek 2026 r.'!G45","v":0},{"$f":"'Wniosek 2026 r.'!C208","v":0},{"$f":"'Wniosek 2026 r.'!C518","v":0},{"$f":"'Wniosek 2026 r.'!C364","v":0},{"$f":"'Wniosek 2026 r.'!D364","v":0},{"$f":"'Wniosek 2026 r.'!F364","v":0},{"$f":"'Wniosek 2026 r.'!H364","v":0},{"$f":"'Wniosek 2026 r.'!C673","v":0},7,"","",0,"",0,0,0,0,0,0,0,0,"ok","ok",0,0,{"$f":"'Zał. nr 2 kalkulacja - 2026 r.'!C32","v":0},{"$f":"'Zał. nr 2 kalkulacja - 2026 r.'!D32","v":0},{"$f":"'Zał. nr 2 kalkulacja - 2026 r.'!E32","v":0},{"$f":"'Zał. nr 2 kalkulacja - 2026 r.'!F32","v":0},{"$f":"'Zał. nr 2 kalkulacja - 2026 r.'!G32","v":0},{"$f":"'Zał. nr 2 kalkulacja - 2026 r.'!H32","v":0},{"$f":"'Zał. nr 2 kalkulacja - 2026 r.'!I32","v":0},{"$f":"'Zał. nr 2 kalkulacja - 2026 r.'!J32","v":0},{"$f":"'Zał. nr 2 kalkulacja - 2026 r.'!K32","v":0},{"$f":"'Zał. nr 2 kalkulacja - 2026 r.'!L32","v":0},{"$f":"'Zał. nr 2 kalkulacja - 2026 r.'!M32","v":0},{"$f":"'Zał. nr 2 kalkulacja - 2026 r.'!N32","v":0}]
[{"$f":"'Wniosek 2026 r.'!A46","v":8},{"$f":"'Wniosek 2026 r.'!B46","v":0},{"$f":"'Wniosek 2026 r.'!E46","v":0},{"$f":"'Wniosek 2026 r.'!G46","v":0},{"$f":"'Wniosek 2026 r.'!C209","v":0},{"$f":"'Wniosek 2026 r.'!C519","v":0},{"$f":"'Wniosek 2026 r.'!C365","v":0},{"$f":"'Wniosek 2026 r.'!D365","v":0},{"$f":"'Wniosek 2026 r.'!F365","v":0},{"$f":"'Wniosek 2026 r.'!H365","v":0},{"$f":"'Wniosek 2026 r.'!C674","v":0},8,"","",0,"",0,0,0,0,0,0,0,0,"ok","ok",0,0,{"$f":"'Zał. nr 2 kalkulacja - 2026 r.'!C33","v":0},{"$f":"'Zał. nr 2 kalkulacja - 2026 r.'!D33","v":0},{"$f":"'Zał. nr 2 kalkulacja - 2026 r.'!E33","v":0},{"$f":"'Zał. nr 2 kalkulacja - 2026 r.'!F33","v":0},{"$f":"'Zał. nr 2 kalkulacja - 2026 r.'!G33","v":0},{"$f":"'Zał. nr 2 kalkulacja - 2026 r.'!H33","v":0},{"$f":"'Zał. nr 2 kalkulacja - 2026 r.'!I33","v":0},{"$f":"'Zał. nr 2 kalkulacja - 2026 r.'!J33","v":0},{"$f":"'Zał. nr 2 kalkulacja - 2026 r.'!K33","v":0},{"$f":"'Zał. nr 2 kalkulacja - 2026 r.'!L33","v":0},{"$f":"'Zał. nr 2 kalkulacja - 2026 r.'!M33","v":0},{"$f":"'Zał. nr 2 kalkulacja - 2026 r.'!N33","v":0}]
[{"$f":"'Wniosek 2026 r.'!A47","v":9},{"$f":"'Wniosek 2026 r.'!B47","v":0},{"$f":"'Wniosek 2026 r.'!E47","v":0},{"$f":"'Wniosek 2026 r.'!G47","v":0},{"$f":"'Wniosek 2026 r.'!C210","v":0},{"$f":"'Wniosek 2026 r.'!C520","v":0},{"$f":"'Wniosek 2026 r.'!C366","v":0},{"$f":"'Wniosek 2026 r.'!D366","v":0},{"$f":"'Wniosek 2026 r.'!F366","v":0},{"$f":"'Wniosek 2026 r.'!H366","v":0},{"$f":"'Wniosek 2026 r.'!C675","v":0},9,"","",0,"",0,0,0,0,0,0,0,0,"ok","ok",0,0,{"$f":"'Zał. nr 2 kalkulacja - 2026 r.'!C34","v":0},{"$f":"'Zał. nr 2 kalkulacja - 2026 r.'!D34","v":0},{"$f":"'Zał. nr 2 kalkulacja - 2026 r.'!E34","v":0},{"$f":"'Zał. nr 2 kalkulacja - 2026 r.'!F34","v":0},{"$f":"'Zał. nr 2 kalkulacja - 2026 r.'!G34","v":0},{"$f":"'Zał. nr 2 kalkulacja - 2026 r.'!H34","v":0},{"$f":"'Zał. nr 2 kalkulacja - 2026 r.'!I34","v":0},{"$f":"'Zał. nr 2 kalkulacja - 2026 r.'!J34","v":0},{"$f":"'Zał. nr 2 kalkulacja - 2026 r.'!K34","v":0},{"$f":"'Zał. nr 2 kalkulacja - 2026 r.'!L34","v":0},{"$f":"'Zał. nr 2 kalkulacja - 2026 r.'!M34","v":0},{"$f":"'Zał. nr 2 kalkulacja - 2026 r.'!N34","v":0}]
[{"$f":"'Wniosek 2026 r.'!A48","v":10},{"$f":"'Wniosek 2026 r.'!B48","v":0},{"$f":"'Wniosek 2026 r.'!E48","v":0},{"$f":"'Wniosek 2026 r.'!G48","v":0},{"$f":"'Wniosek 2026 r.'!C211","v":0},{"$f":"'Wniosek 2026 r.'!C521","v":0},{"$f":"'Wniosek 2026 r.'!C367","v":0},{"$f":"'Wniosek 2026 r.'!D367","v":0},{"$f":"'Wniosek 2026 r.'!F367","v":0},{"$f":"'Wniosek 2026 r.'!H367","v":0},{"$f":"'Wniosek 2026 r.'!C676","v":0},10,"","",0,"",0,0,0,0,0,0,0,0,"ok","ok",0,0,{"$f":"'Zał. nr 2 kalkulacja - 2026 r.'!C35","v":0},{"$f":"'Zał. nr 2 kalkulacja - 2026 r.'!D35","v":0},{"$f":"'Zał. nr 2 kalkulacja - 2026 r.'!E35","v":0},{"$f":"'Zał. nr 2 kalkulacja - 2026 r.'!F35","v":0},{"$f":"'Zał. nr 2 kalkulacja - 2026 r.'!G35","v":0},{"$f":"'Zał. nr 2 kalkulacja - 2026 r.'!H35","v":0},{"$f":"'Zał. nr 2 kalkulacja - 2026 r.'!I35","v":0},{"$f":"'Zał. nr 2 kalkulacja - 2026 r.'!J35","v":0},{"$f":"'Zał. nr 2 kalkulacja - 2026 r.'!K35","v":0},{"$f":"'Zał. nr 2 kalkulacja - 2026 r.'!L35","v":0},{"$f":"'Zał. nr 2 kalkulacja - 2026 r.'!M35","v":0},{"$f":"'Zał. nr 2 kalkulacja - 2026 r.'!N35","v":0}]
[{"$f":"'Wniosek 2026 r.'!A49","v":11},{"$f":"'Wniosek 2026 r.'!B49","v":0},{"$f":"'Wniosek 2026 r.'!E49","v":0},{"$f":"'Wniosek 2026 r.'!G49","v":0},{"$f":"'Wniosek 2026 r.'!C212","v":0},{"$f":"'Wniosek 2026 r.'!C522","v":0},{"$f":"'Wniosek 2026 r.'!C368","v":0},{"$f":"'Wniosek 2026 r.'!D368","v":0},{"$f":"'Wniosek 2026 r.'!F368","v":0},{"$f":"'Wniosek 2026 r.'!H368","v":0},{"$f":"'Wniosek 2026 r.'!C677","v":0},11,"","",0,"",0,0,0,0,0,0,0,0,"ok","ok",0,0,{"$f":"'Zał. nr 2 kalkulacja - 2026 r.'!C36","v":0},{"$f":"'Zał. nr 2 kalkulacja - 2026 r.'!D36","v":0},{"$f":"'Zał. nr 2 kalkulacja - 2026 r.'!E36","v":0},{"$f":"'Zał. nr 2 kalkulacja - 2026 r.'!F36","v":0},{"$f":"'Zał. nr 2 kalkulacja - 2026 r.'!G36","v":0},{"$f":"'Zał. nr 2 kalkulacja - 2026 r.'!H36","v":0},{"$f":"'Zał. nr 2 kalkulacja - 2026 r.'!I36","v":0},{"$f":"'Zał. nr 2 kalkulacja - 2026 r.'!J36","v":0},{"$f":"'Zał. nr 2 kalkulacja - 2026 r.'!K36","v":0},{"$f":"'Zał. nr 2 kalkulacja - 2026 r.'!L36","v":0},{"$f":"'Zał. nr 2 kalkulacja - 2026 r.'!M36","v":0},{"$f":"'Zał. nr 2 kalkulacja - 2026 r.'!N36","v":0}]
[{"$f":"'Wniosek 2026 r.'!A50","v":12},{"$f":"'Wniosek 2026 r.'!B50","v":0},{"$f":"'Wniosek 2026 r.'!E50","v":0},{"$f":"'Wniosek 2026 r.'!G50","v":0},{"$f":"'Wniosek 2026 r.'!C213","v":0},{"$f":"'Wniosek 2026 r.'!C523","v":0},{"$f":"'Wniosek 2026 r.'!C369","v":0},{"$f":"'Wniosek 2026 r.'!D369","v":0},{"$f":"'Wniosek 2026 r.'!F369","v":0},{"$f":"'Wniosek 2026 r.'!H369","v":0},{"$f":"'Wniosek 2026 r.'!C678","v":0},12,"","",0,"",0,0,0,0,0,0,0,0,"ok","ok",0,0,{"$f":"'Zał. nr 2 kalkulacja - 2026 r.'!C37","v":0},{"$f":"'Zał. nr 2 kalkulacja - 2026 r.'!D37","v":0},{"$f":"'Zał. nr 2 kalkulacja - 2026 r.'!E37","v":0},{"$f":"'Zał. nr 2 kalkulacja - 2026 r.'!F37","v":0},{"$f":"'Zał. nr 2 kalkulacja - 2026 r.'!G37","v":0},{"$f":"'Zał. nr 2 kalkulacja - 2026 r.'!H37","v":0},{"$f":"'Zał. nr 2 kalkulacja - 2026 r.'!I37","v":0},{"$f":"'Zał. nr 2 kalkulacja - 2026 r.'!J37","v":0},{"$f":"'Zał. nr 2 kalkulacja - 2026 r.'!K37","v":0},{"$f":"'Zał. nr 2 kalkulacja - 2026 r.'!L37","v":0},{"$f":"'Zał. nr 2 kalkulacja - 2026 r.'!M37","v":0},{"$f":"'Zał. nr 2 kalkulacja - 2026 r.'!N37","v":0}]
[{"$f":"'Wniosek 2026 r.'!A51","v":13},{"$f":"'Wniosek 2026 r.'!B51","v":0},{"$f":"'Wniosek 2026 r.'!E51","v":0},{"$f":"'Wniosek 2026 r.'!G51","v":0},{"$f":"'Wniosek 2026 r.'!C214","v":0},{"$f":"'Wniosek 2026 r.'!C524","v":0},{"$f":"'Wniosek 2026 r.'!C370","v":0},{"$f":"'Wniosek 2026 r.'!D370","v":0},{"$f":"'Wniosek 2026 r.'!F370","v":0},{"$f":"'Wniosek 2026 r.'!H370","v":0},{"$f":"'Wniosek 2026 r.'!C679","v":0},13,"","",0,"",0,0,0,0,0,0,0,0,"ok","ok",0,0,{"$f":"'Zał. nr 2 kalkulacja - 2026 r.'!C38","v":0},{"$f":"'Zał. nr 2 kalkulacja - 2026 r.'!D38","v":0},{"$f":"'Zał. nr 2 kalkulacja - 2026 r.'!E38","v":0},{"$f":"'Zał. nr 2 kalkulacja - 2026 r.'!F38","v":0},{"$f":"'Zał. nr 2 kalkulacja - 2026 r.'!G38","v":0},{"$f":"'Zał. nr 2 kalkulacja - 2026 r.'!H38","v":0},{"$f":"'Zał. nr 2 kalkulacja - 2026 r.'!I38","v":0},{"$f":"'Zał. nr 2 kalkulacja - 2026 r.'!J38","v":0},{"$f":"'Zał. nr 2 kalkulacja - 2026 r.'!K38","v":0},{"$f":"'Zał. nr 2 kalkulacja - 2026 r.'!L38","v":0},{"$f":"'Zał. nr 2 kalkulacja - 2026 r.'!M38","v":0},{"$f":"'Zał. nr 2 kalkulacja - 2026 r.'!N38","v":0}]
[{"$f":"'Wniosek 2026 r.'!A52","v":14},{"$f":"'Wniosek 2026 r.'!B52","v":0},{"$f":"'Wniosek 2026 r.'!E52","v":0},{"$f":"'Wniosek 2026 r.'!G52","v":0},{"$f":"'Wniosek 2026 r.'!C215","v":0},{"$f":"'Wniosek 2026 r.'!C525","v":0},{"$f":"'Wniosek 2026 r.'!C371","v":0},{"$f":"'Wniosek 2026 r.'!D371","v":0},{"$f":"'Wniosek 2026 r.'!F371","v":0},{"$f":"'Wniosek 2026 r.'!H371","v":0},{"$f":"'Wniosek 2026 r.'!C680","v":0},14,"","",0,"",0,0,0,0,0,0,0,0,"ok","ok",0,0,{"$f":"'Zał. nr 2 kalkulacja - 2026 r.'!C39","v":0},{"$f":"'Zał. nr 2 kalkulacja - 2026 r.'!D39","v":0},{"$f":"'Zał. nr 2 kalkulacja - 2026 r.'!E39","v":0},{"$f":"'Zał. nr 2 kalkulacja - 2026 r.'!F39","v":0},{"$f":"'Zał. nr 2 kalkulacja - 2026 r.'!G39","v":0},{"$f":"'Zał. nr 2 kalkulacja - 2026 r.'!H39","v":0},{"$f":"'Zał. nr 2 kalkulacja - 2026 r.'!I39","v":0},{"$f":"'Zał. nr 2 kalkulacja - 2026 r.'!J39","v":0},{"$f":"'Zał. nr 2 kalkulacja - 2026 r.'!K39","v":0},{"$f":"'Zał. nr 2 kalkulacja - 2026 r.'!L39","v":0},{"$f":"'Zał. nr 2 kalkulacja - 2026 r.'!M39","v":0},{"$f":"'Zał. nr 2 kalkulacja - 2026 r.'!N39","v":0}]
[{"$f":"'Wniosek 2026 r.'!A53","v":15},{"$f":"'Wniosek 2026 r.'!B53","v":0},{"$f":"'Wniosek 2026 r.'!E53","v":0},{"$f":"'Wniosek 2026 r.'!G53","v":0},{"$f":"'Wniosek 2026 r.'!C216","v":0},{"$f":"'Wniosek 2026 r.'!C526","v":0},{"$f":"'Wniosek 2026 r.'!C372","v":0},{"$f":"'Wniosek 2026 r.'!D372","v":0},{"$f":"'Wniosek 2026 r.'!F372","v":0},{"$f":"'Wniosek 2026 r.'!H372","v":0},{"$f":"'Wniosek 2026 r.'!C681","v":0},15,"","",0,"",0,0,0,0,0,0,0,0,"ok","ok",0,0,{"$f":"'Zał. nr 2 kalkulacja - 2026 r.'!C40","v":0},{"$f":"'Zał. nr 2 kalkulacja - 2026 r.'!D40","v":0},{"$f":"'Zał. nr 2 kalkulacja - 2026 r.'!E40","v":0},{"$f":"'Zał. nr 2 kalkulacja - 2026 r.'!F40","v":0},{"$f":"'Zał. nr 2 kalkulacja - 2026 r.'!G40","v":0},{"$f":"'Zał. nr 2 kalkulacja - 2026 r.'!H40","v":0},{"$f":"'Zał. nr 2 kalkulacja - 2026 r.'!I40","v":0},{"$f":"'Zał. nr 2 kalkulacja - 2026 r.'!J40","v":0},{"$f":"'Zał. nr 2 kalkulacja - 2026 r.'!K40","v":0},{"$f":"'Zał. nr 2 kalkulacja - 2026 r.'!L40","v":0},{"$f":"'Zał. nr 2 kalkulacja - 2026 r.'!M40","v":0},{"$f":"'Zał. nr 2 kalkulacja - 2026 r.'!N40","v":0}]
[{"$f":"'Wniosek 2026 r.'!A54","v":16},{"$f":"'Wniosek 2026 r.'!B54","v":0},{"$f":"'Wniosek 2026 r.'!E54","v":0},{"$f":"'Wniosek 2026 r.'!G54","v":0},{"$f":"'Wniosek 2026 r.'!C217","v":0},{"$f":"'Wniosek 2026 r.'!C527","v":0},{"$f":"'Wniosek 2026 r.'!C373","v":0},{"$f":"'Wniosek 2026 r.'!D373","v":0},{"$f":"'Wniosek 2026 r.'!F373","v":0},{"$f":"'Wniosek 2026 r.'!H373","v":0},{"$f":"'Wniosek 2026 r.'!C682","v":0},16,"","",0,"",0,0,0,0,0,0,0,0,"ok","ok",0,0,{"$f":"'Zał. nr 2 kalkulacja - 2026 r.'!C41","v":0},{"$f":"'Zał. nr 2 kalkulacja - 2026 r.'!D41","v":0},{"$f":"'Zał. nr 2 kalkulacja - 2026 r.'!E41","v":0},{"$f":"'Zał. nr 2 kalkulacja - 2026 r.'!F41","v":0},{"$f":"'Zał. nr 2 kalkulacja - 2026 r.'!G41","v":0},{"$f":"'Zał. nr 2 kalkulacja - 2026 r.'!H41","v":0},{"$f":"'Zał. nr 2 kalkulacja - 2026 r.'!I41","v":0},{"$f":"'Zał. nr 2 kalkulacja - 2026 r.'!J41","v":0},{"$f":"'Zał. nr 2 kalkulacja - 2026 r.'!K41","v":0},{"$f":"'Zał. nr 2 kalkulacja - 2026 r.'!L41","v":0},{"$f":"'Zał. nr 2 kalkulacja - 2026 r.'!M41","v":0},{"$f":"'Zał. nr 2 kalkulacja - 2026 r.'!N41","v":0}]
[{"$f":"'Wniosek 2026 r.'!A55","v":17},{"$f":"'Wniosek 2026 r.'!B55","v":0},{"$f":"'Wniosek 2026 r.'!E55","v":0},{"$f":"'Wniosek 2026 r.'!G55","v":0},{"$f":"'Wniosek 2026 r.'!C218","v":0},{"$f":"'Wniosek 2026 r.'!C528","v":0},{"$f":"'Wniosek 2026 r.'!C374","v":0},{"$f":"'Wniosek 2026 r.'!D374","v":0},{"$f":"'Wniosek 2026 r.'!F374","v":0},{"$f":"'Wniosek 2026 r.'!H374","v":0},{"$f":"'Wniosek 2026 r.'!C683","v":0},17,"","",0,"",0,0,0,0,0,0,0,0,"ok","ok",0,0,{"$f":"'Zał. nr 2 kalkulacja - 2026 r.'!C42","v":0},{"$f":"'Zał. nr 2 kalkulacja - 2026 r.'!D42","v":0},{"$f":"'Zał. nr 2 kalkulacja - 2026 r.'!E42","v":0},{"$f":"'Zał. nr 2 kalkulacja - 2026 r.'!F42","v":0},{"$f":"'Zał. nr 2 kalkulacja - 2026 r.'!G42","v":0},{"$f":"'Zał. nr 2 kalkulacja - 2026 r.'!H42","v":0},{"$f":"'Zał. nr 2 kalkulacja - 2026 r.'!I42","v":0},{"$f":"'Zał. nr 2 kalkulacja - 2026 r.'!J42","v":0},{"$f":"'Zał. nr 2 kalkulacja - 2026 r.'!K42","v":0},{"$f":"'Zał. nr 2 kalkulacja - 2026 r.'!L42","v":0},{"$f":"'Zał. nr 2 kalkulacja - 2026 r.'!M42","v":0},{"$f":"'Zał. nr 2 kalkulacja - 2026 r.'!N42","v":0}]
[{"$f":"'Wniosek 2026 r.'!A56","v":18},{"$f":"'Wniosek 2026 r.'!B56","v":0},{"$f":"'Wniosek 2026 r.'!E56","v":0},{"$f":"'Wniosek 2026 r.'!G56","v":0},{"$f":"'Wniosek 2026 r.'!C219","v":0},{"$f":"'Wniosek 2026 r.'!C529","v":0},{"$f":"'Wniosek 2026 r.'!C375","v":0},{"$f":"'Wniosek 2026 r.'!D375","v":0},{"$f":"'Wniosek 2026 r.'!F375","v":0},{"$f":"'Wniosek 2026 r.'!H375","v":0},{"$f":"'Wniosek 2026 r.'!C684","v":0},18,"","",0,"",0,0,0,0,0,0,0,0,"ok","ok",0,0,{"$f":"'Zał. nr 2 kalkulacja - 2026 r.'!C43","v":0},{"$f":"'Zał. nr 2 kalkulacja - 2026 r.'!D43","v":0},{"$f":"'Zał. nr 2 kalkulacja - 2026 r.'!E43","v":0},{"$f":"'Zał. nr 2 kalkulacja - 2026 r.'!F43","v":0},{"$f":"'Zał. nr 2 kalkulacja - 2026 r.'!G43","v":0},{"$f":"'Zał. nr 2 kalkulacja - 2026 r.'!H43","v":0},{"$f":"'Zał. nr 2 kalkulacja - 2026 r.'!I43","v":0},{"$f":"'Zał. nr 2 kalkulacja - 2026 r.'!J43","v":0},{"$f":"'Zał. nr 2 kalkulacja - 2026 r.'!K43","v":0},{"$f":"'Zał. nr 2 kalkulacja - 2026 r.'!L43","v":0},{"$f":"'Zał. nr 2 kalkulacja - 2026 r.'!M43","v":0},{"$f":"'Zał. nr 2 kalkulacja - 2026 r.'!N43","v":0}]
[{"$f":"'Wniosek 2026 r.'!A57","v":19},{"$f":"'Wniosek 2026 r.'!B57","v":0},{"$f":"'Wniosek 2026 r.'!E57","v":0},{"$f":"'Wniosek 2026 r.'!G57","v":0},{"$f":"'Wniosek 2026 r.'!C220","v":0},{"$f":"'Wniosek 2026 r.'!C530","v":0},{"$f":"'Wniosek 2026 r.'!C376","v":0},{"$f":"'Wniosek 2026 r.'!D376","v":0},{"$f":"'Wniosek 2026 r.'!F376","v":0},{"$f":"'Wniosek 2026 r.'!H376","v":0},{"$f":"'Wniosek 2026 r.'!C685","v":0},19,"","",0,"",0,0,0,0,0,0,0,0,"ok","ok",0,0,{"$f":"'Zał. nr 2 kalkulacja - 2026 r.'!C44","v":0},{"$f":"'Zał. nr 2 kalkulacja - 2026 r.'!D44","v":0},{"$f":"'Zał. nr 2 kalkulacja - 2026 r.'!E44","v":0},{"$f":"'Zał. nr 2 kalkulacja - 2026 r.'!F44","v":0},{"$f":"'Zał. nr 2 kalkulacja - 2026 r.'!G44","v":0},{"$f":"'Zał. nr 2 kalkulacja - 2026 r.'!H44","v":0},{"$f":"'Zał. nr 2 kalkulacja - 2026 r.'!I44","v":0},{"$f":"'Zał. nr 2 kalkulacja - 2026 r.'!J44","v":0},{"$f":"'Zał. nr 2 kalkulacja - 2026 r.'!K44","v":0},{"$f":"'Zał. nr 2 kalkulacja - 2026 r.'!L44","v":0},{"$f":"'Zał. nr 2 kalkulacja - 2026 r.'!M44","v":0},{"$f":"'Zał. nr 2 kalkulacja - 2026 r.'!N44","v":0}]
[{"$f":"'Wniosek 2026 r.'!A58","v":20},{"$f":"'Wniosek 2026 r.'!B58","v":0},{"$f":"'Wniosek 2026 r.'!E58","v":0},{"$f":"'Wniosek 2026 r.'!G58","v":0},{"$f":"'Wniosek 2026 r.'!C221","v":0},{"$f":"'Wniosek 2026 r.'!C531","v":0},{"$f":"'Wniosek 2026 r.'!C377","v":0},{"$f":"'Wniosek 2026 r.'!D377","v":0},{"$f":"'Wniosek 2026 r.'!F377","v":0},{"$f":"'Wniosek 2026 r.'!H377","v":0},{"$f":"'Wniosek 2026 r.'!C686","v":0},20,"","",0,"",0,0,0,0,0,0,0,0,"ok","ok",0,0,{"$f":"'Zał. nr 2 kalkulacja - 2026 r.'!C45","v":0},{"$f":"'Zał. nr 2 kalkulacja - 2026 r.'!D45","v":0},{"$f":"'Zał. nr 2 kalkulacja - 2026 r.'!E45","v":0},{"$f":"'Zał. nr 2 kalkulacja - 2026 r.'!F45","v":0},{"$f":"'Zał. nr 2 kalkulacja - 2026 r.'!G45","v":0},{"$f":"'Zał. nr 2 kalkulacja - 2026 r.'!H45","v":0},{"$f":"'Zał. nr 2 kalkulacja - 2026 r.'!I45","v":0},{"$f":"'Zał. nr 2 kalkulacja - 2026 r.'!J45","v":0},{"$f":"'Zał. nr 2 kalkulacja - 2026 r.'!K45","v":0},{"$f":"'Zał. nr 2 kalkulacja - 2026 r.'!L45","v":0},{"$f":"'Zał. nr 2 kalkulacja - 2026 r.'!M45","v":0},{"$f":"'Zał. nr 2 kalkulacja - 2026 r.'!N45","v":0}]
[{"$f":"'Wniosek 2026 r.'!A59","v":21},{"$f":"'Wniosek 2026 r.'!B59","v":0},{"$f":"'Wniosek 2026 r.'!E59","v":0},{"$f":"'Wniosek 2026 r.'!G59","v":0},{"$f":"'Wniosek 2026 r.'!C222","v":0},{"$f":"'Wniosek 2026 r.'!C532","v":0},{"$f":"'Wniosek 2026 r.'!C378","v":0},{"$f":"'Wniosek 2026 r.'!D378","v":0},{"$f":"'Wniosek 2026 r.'!F378","v":0},{"$f":"'Wniosek 2026 r.'!H378","v":0},{"$f":"'Wniosek 2026 r.'!C687","v":0},21,"","",0,"",0,0,0,0,0,0,0,0,"ok","ok",0,0,{"$f":"'Zał. nr 2 kalkulacja - 2026 r.'!C46","v":0},{"$f":"'Zał. nr 2 kalkulacja - 2026 r.'!D46","v":0},{"$f":"'Zał. nr 2 kalkulacja - 2026 r.'!E46","v":0},{"$f":"'Zał. nr 2 kalkulacja - 2026 r.'!F46","v":0},{"$f":"'Zał. nr 2 kalkulacja - 2026 r.'!G46","v":0},{"$f":"'Zał. nr 2 kalkulacja - 2026 r.'!H46","v":0},{"$f":"'Zał. nr 2 kalkulacja - 2026 r.'!I46","v":0},{"$f":"'Zał. nr 2 kalkulacja - 2026 r.'!J46","v":0},{"$f":"'Zał. nr 2 kalkulacja - 2026 r.'!K46","v":0},{"$f":"'Zał. nr 2 kalkulacja - 2026 r.'!L46","v":0},{"$f":"'Zał. nr 2 kalkulacja - 2026 r.'!M46","v":0},{"$f":"'Zał. nr 2 kalkulacja - 2026 r.'!N46","v":0}]
[{"$f":"'Wniosek 2026 r.'!A60","v":22},{"$f":"'Wniosek 2026 r.'!B60","v":0},{"$f":"'Wniosek 2026 r.'!E60","v":0},{"$f":"'Wniosek 2026 r.'!G60","v":0},{"$f":"'Wniosek 2026 r.'!C223","v":0},{"$f":"'Wniosek 2026 r.'!C533","v":0},{"$f":"'Wniosek 2026 r.'!C379","v":0},{"$f":"'Wniosek 2026 r.'!D379","v":0},{"$f":"'Wniosek 2026 r.'!F379","v":0},{"$f":"'Wniosek 2026 r.'!H379","v":0},{"$f":"'Wniosek 2026 r.'!C688","v":0},22,"","",0,"",0,0,0,0,0,0,0,0,"ok","ok",0,0,{"$f":"'Zał. nr 2 kalkulacja - 2026 r.'!C47","v":0},{"$f":"'Zał. nr 2 kalkulacja - 2026 r.'!D47","v":0},{"$f":"'Zał. nr 2 kalkulacja - 2026 r.'!E47","v":0},{"$f":"'Zał. nr 2 kalkulacja - 2026 r.'!F47","v":0},{"$f":"'Zał. nr 2 kalkulacja - 2026 r.'!G47","v":0},{"$f":"'Zał. nr 2 kalkulacja - 2026 r.'!H47","v":0},{"$f":"'Zał. nr 2 kalkulacja - 2026 r.'!I47","v":0},{"$f":"'Zał. nr 2 kalkulacja - 2026 r.'!J47","v":0},{"$f":"'Zał. nr 2 kalkulacja - 2026 r.'!K47","v":0},{"$f":"'Zał. nr 2 kalkulacja - 2026 r.'!L47","v":0},{"$f":"'Zał. nr 2 kalkulacja - 2026 r.'!M47","v":0},{"$f":"'Zał. nr 2 kalkulacja - 2026 r.'!N47","v":0}]
[{"$f":"'Wniosek 2026 r.'!A61","v":23},{"$f":"'Wniosek 2026 r.'!B61","v":0},{"$f":"'Wniosek 2026 r.'!E61","v":0},{"$f":"'Wniosek 2026 r.'!G61","v":0},{"$f":"'Wniosek 2026 r.'!C224","v":0},{"$f":"'Wniosek 2026 r.'!C534","v":0},{"$f":"'Wniosek 2026 r.'!C380","v":0},{"$f":"'Wniosek 2026 r.'!D380","v":0},{"$f":"'Wniosek 2026 r.'!F380","v":0},{"$f":"'Wniosek 2026 r.'!H380","v":0},{"$f":"'Wniosek 2026 r.'!C689","v":0},23,"","",0,"",0,0,0,0,0,0,0,0,"ok","ok",0,0,{"$f":"'Zał. nr 2 kalkulacja - 2026 r.'!C48","v":0},{"$f":"'Zał. nr 2 kalkulacja - 2026 r.'!D48","v":0},{"$f":"'Zał. nr 2 kalkulacja - 2026 r.'!E48","v":0},{"$f":"'Zał. nr 2 kalkulacja - 2026 r.'!F48","v":0},{"$f":"'Zał. nr 2 kalkulacja - 2026 r.'!G48","v":0},{"$f":"'Zał. nr 2 kalkulacja - 2026 r.'!H48","v":0},{"$f":"'Zał. nr 2 kalkulacja - 2026 r.'!I48","v":0},{"$f":"'Zał. nr 2 kalkulacja - 2026 r.'!J48","v":0},{"$f":"'Zał. nr 2 kalkulacja - 2026 r.'!K48","v":0},{"$f":"'Zał. nr 2 kalkulacja - 2026 r.'!L48","v":0},{"$f":"'Zał. nr 2 kalkulacja - 2026 r.'!M48","v":0},{"$f":"'Zał. nr 2 kalkulacja - 2026 r.'!N48","v":0}]
[{"$f":"'Wniosek 2026 r.'!A62","v":24},{"$f":"'Wniosek 2026 r.'!B62","v":0},{"$f":"'Wniosek 2026 r.'!E62","v":0},{"$f":"'Wniosek 2026 r.'!G62","v":0},{"$f":"'Wniosek 2026 r.'!C225","v":0},{"$f":"'Wniosek 2026 r.'!C535","v":0},{"$f":"'Wniosek 2026 r.'!C381","v":0},{"$f":"'Wniosek 2026 r.'!D381","v":0},{"$f":"'Wniosek 2026 r.'!F381","v":0},{"$f":"'Wniosek 2026 r.'!H381","v":0},{"$f":"'Wniosek 2026 r.'!C690","v":0},24,"","",0,"",0,0,0,0,0,0,0,0,"ok","ok",0,0,{"$f":"'Zał. nr 2 kalkulacja - 2026 r.'!C49","v":0},{"$f":"'Zał. nr 2 kalkulacja - 2026 r.'!D49","v":0},{"$f":"'Zał. nr 2 kalkulacja - 2026 r.'!E49","v":0},{"$f":"'Zał. nr 2 kalkulacja - 2026 r.'!F49","v":0},{"$f":"'Zał. nr 2 kalkulacja - 2026 r.'!G49","v":0},{"$f":"'Zał. nr 2 kalkulacja - 2026 r.'!H49","v":0},{"$f":"'Zał. nr 2 kalkulacja - 2026 r.'!I49","v":0},{"$f":"'Zał. nr 2 kalkulacja - 2026 r.'!J49","v":0},{"$f":"'Zał. nr 2 kalkulacja - 2026 r.'!K49","v":0},{"$f":"'Zał. nr 2 kalkulacja - 2026 r.'!L49","v":0},{"$f":"'Zał. nr 2 kalkulacja - 2026 r.'!M49","v":0},{"$f":"'Zał. nr 2 kalkulacja - 2026 r.'!N49","v":0}]
[{"$f":"'Wniosek 2026 r.'!A63","v":25},{"$f":"'Wniosek 2026 r.'!B63","v":0},{"$f":"'Wniosek 2026 r.'!E63","v":0},{"$f":"'Wniosek 2026 r.'!G63","v":0},{"$f":"'Wniosek 2026 r.'!C226","v":0},{"$f":"'Wniosek 2026 r.'!C536","v":0},{"$f":"'Wniosek 2026 r.'!C382","v":0},{"$f":"'Wniosek 2026 r.'!D382","v":0},{"$f":"'Wniosek 2026 r.'!F382","v":0},{"$f":"'Wniosek 2026 r.'!H382","v":0},{"$f":"'Wniosek 2026 r.'!C691","v":0},25,"","",0,"",0,0,0,0,0,0,0,0,"ok","ok",0,0,{"$f":"'Zał. nr 2 kalkulacja - 2026 r.'!C50","v":0},{"$f":"'Zał. nr 2 kalkulacja - 2026 r.'!D50","v":0},{"$f":"'Zał. nr 2 kalkulacja - 2026 r.'!E50","v":0},{"$f":"'Zał. nr 2 kalkulacja - 2026 r.'!F50","v":0},{"$f":"'Zał. nr 2 kalkulacja - 2026 r.'!G50","v":0},{"$f":"'Zał. nr 2 kalkulacja - 2026 r.'!H50","v":0},{"$f":"'Zał. nr 2 kalkulacja - 2026 r.'!I50","v":0},{"$f":"'Zał. nr 2 kalkulacja - 2026 r.'!J50","v":0},{"$f":"'Zał. nr 2 kalkulacja - 2026 r.'!K50","v":0},{"$f":"'Zał. nr 2 kalkulacja - 2026 r.'!L50","v":0},{"$f":"'Zał. nr 2 kalkulacja - 2026 r.'!M50","v":0},{"$f":"'Zał. nr 2 kalkulacja - 2026 r.'!N50","v":0}]
[{"$f":"'Wniosek 2026 r.'!A64","v":26},{"$f":"'Wniosek 2026 r.'!B64","v":0},{"$f":"'Wniosek 2026 r.'!E64","v":0},{"$f":"'Wniosek 2026 r.'!G64","v":0},{"$f":"'Wniosek 2026 r.'!C227","v":0},{"$f":"'Wniosek 2026 r.'!C537","v":0},{"$f":"'Wniosek 2026 r.'!C383","v":0},{"$f":"'Wniosek 2026 r.'!D383","v":0},{"$f":"'Wniosek 2026 r.'!F383","v":0},{"$f":"'Wniosek 2026 r.'!H383","v":0},{"$f":"'Wniosek 2026 r.'!C692","v":0},26,"","",0,"",0,0,0,0,0,0,0,0,"ok","ok",0,0,{"$f":"'Zał. nr 2 kalkulacja - 2026 r.'!C51","v":0},{"$f":"'Zał. nr 2 kalkulacja - 2026 r.'!D51","v":0},{"$f":"'Zał. nr 2 kalkulacja - 2026 r.'!E51","v":0},{"$f":"'Zał. nr 2 kalkulacja - 2026 r.'!F51","v":0},{"$f":"'Zał. nr 2 kalkulacja - 2026 r.'!G51","v":0},{"$f":"'Zał. nr 2 kalkulacja - 2026 r.'!H51","v":0},{"$f":"'Zał. nr 2 kalkulacja - 2026 r.'!I51","v":0},{"$f":"'Zał. nr 2 kalkulacja - 2026 r.'!J51","v":0},{"$f":"'Zał. nr 2 kalkulacja - 2026 r.'!K51","v":0},{"$f":"'Zał. nr 2 kalkulacja - 2026 r.'!L51","v":0},{"$f":"'Zał. nr 2 kalkulacja - 2026 r.'!M51","v":0},{"$f":"'Zał. nr 2 kalkulacja - 2026 r.'!N51","v":0}]
[{"$f":"'Wniosek 2026 r.'!A65","v":27},{"$f":"'Wniosek 2026 r.'!B65","v":0},{"$f":"'Wniosek 2026 r.'!E65","v":0},{"$f":"'Wniosek 2026 r.'!G65","v":0},{"$f":"'Wniosek 2026 r.'!C228","v":0},{"$f":"'Wniosek 2026 r.'!C538","v":0},{"$f":"'Wniosek 2026 r.'!C384","v":0},{"$f":"'Wniosek 2026 r.'!D384","v":0},{"$f":"'Wniosek 2026 r.'!F384","v":0},{"$f":"'Wniosek 2026 r.'!H384","v":0},{"$f":"'Wniosek 2026 r.'!C693","v":0},27,"","",0,"",0,0,0,0,0,0,0,0,"ok","ok",0,0,{"$f":"'Zał. nr 2 kalkulacja - 2026 r.'!C52","v":0},{"$f":"'Zał. nr 2 kalkulacja - 2026 r.'!D52","v":0},{"$f":"'Zał. nr 2 kalkulacja - 2026 r.'!E52","v":0},{"$f":"'Zał. nr 2 kalkulacja - 2026 r.'!F52","v":0},{"$f":"'Zał. nr 2 kalkulacja - 2026 r.'!G52","v":0},{"$f":"'Zał. nr 2 kalkulacja - 2026 r.'!H52","v":0},{"$f":"'Zał. nr 2 kalkulacja - 2026 r.'!I52","v":0},{"$f":"'Zał. nr 2 kalkulacja - 2026 r.'!J52","v":0},{"$f":"'Zał. nr 2 kalkulacja - 2026 r.'!K52","v":0},{"$f":"'Zał. nr 2 kalkulacja - 2026 r.'!L52","v":0},{"$f":"'Zał. nr 2 kalkulacja - 2026 r.'!M52","v":0},{"$f":"'Zał. nr 2 kalkulacja - 2026 r.'!N52","v":0}]
[{"$f":"'Wniosek 2026 r.'!A66","v":28},{"$f":"'Wniosek 2026 r.'!B66","v":0},{"$f":"'Wniosek 2026 r.'!E66","v":0},{"$f":"'Wniosek 2026 r.'!G66","v":0},{"$f":"'Wniosek 2026 r.'!C229","v":0},{"$f":"'Wniosek 2026 r.'!C539","v":0},{"$f":"'Wniosek 2026 r.'!C385","v":0},{"$f":"'Wniosek 2026 r.'!D385","v":0},{"$f":"'Wniosek 2026 r.'!F385","v":0},{"$f":"'Wniosek 2026 r.'!H385","v":0},{"$f":"'Wniosek 2026 r.'!C694","v":0},28,"","",0,"",0,0,0,0,0,0,0,0,"ok","ok",0,0,{"$f":"'Zał. nr 2 kalkulacja - 2026 r.'!C53","v":0},{"$f":"'Zał. nr 2 kalkulacja - 2026 r.'!D53","v":0},{"$f":"'Zał. nr 2 kalkulacja - 2026 r.'!E53","v":0},{"$f":"'Zał. nr 2 kalkulacja - 2026 r.'!F53","v":0},{"$f":"'Zał. nr 2 kalkulacja - 2026 r.'!G53","v":0},{"$f":"'Zał. nr 2 kalkulacja - 2026 r.'!H53","v":0},{"$f":"'Zał. nr 2 kalkulacja - 2026 r.'!I53","v":0},{"$f":"'Zał. nr 2 kalkulacja - 2026 r.'!J53","v":0},{"$f":"'Zał. nr 2 kalkulacja - 2026 r.'!K53","v":0},{"$f":"'Zał. nr 2 kalkulacja - 2026 r.'!L53","v":0},{"$f":"'Zał. nr 2 kalkulacja - 2026 r.'!M53","v":0},{"$f":"'Zał. nr 2 kalkulacja - 2026 r.'!N53","v":0}]
[{"$f":"'Wniosek 2026 r.'!A67","v":29},{"$f":"'Wniosek 2026 r.'!B67","v":0},{"$f":"'Wniosek 2026 r.'!E67","v":0},{"$f":"'Wniosek 2026 r.'!G67","v":0},{"$f":"'Wniosek 2026 r.'!C230","v":0},{"$f":"'Wniosek 2026 r.'!C540","v":0},{"$f":"'Wniosek 2026 r.'!C386","v":0},{"$f":"'Wniosek 2026 r.'!D386","v":0},{"$f":"'Wniosek 2026 r.'!F386","v":0},{"$f":"'Wniosek 2026 r.'!H386","v":0},{"$f":"'Wniosek 2026 r.'!C695","v":0},29,"","",0,"",0,0,0,0,0,0,0,0,"ok","ok",0,0,{"$f":"'Zał. nr 2 kalkulacja - 2026 r.'!C54","v":0},{"$f":"'Zał. nr 2 kalkulacja - 2026 r.'!D54","v":0},{"$f":"'Zał. nr 2 kalkulacja - 2026 r.'!E54","v":0},{"$f":"'Zał. nr 2 kalkulacja - 2026 r.'!F54","v":0},{"$f":"'Zał. nr 2 kalkulacja - 2026 r.'!G54","v":0},{"$f":"'Zał. nr 2 kalkulacja - 2026 r.'!H54","v":0},{"$f":"'Zał. nr 2 kalkulacja - 2026 r.'!I54","v":0},{"$f":"'Zał. nr 2 kalkulacja - 2026 r.'!J54","v":0},{"$f":"'Zał. nr 2 kalkulacja - 2026 r.'!K54","v":0},{"$f":"'Zał. nr 2 kalkulacja - 2026 r.'!L54","v":0},{"$f":"'Zał. nr 2 kalkulacja - 2026 r.'!M54","v":0},{"$f":"'Zał. nr 2 kalkulacja - 2026 r.'!N54","v":0}]
[{"$f":"'Wniosek 2026 r.'!A68","v":30},{"$f":"'Wniosek 2026 r.'!B68","v":0},{"$f":"'Wniosek 2026 r.'!E68","v":0},{"$f":"'Wniosek 2026 r.'!G68","v":0},{"$f":"'Wniosek 2026 r.'!C231","v":0},{"$f":"'Wniosek 2026 r.'!C541","v":0},{"$f":"'Wniosek 2026 r.'!C387","v":0},{"$f":"'Wniosek 2026 r.'!D387","v":0},{"$f":"'Wniosek 2026 r.'!F387","v":0},{"$f":"'Wniosek 2026 r.'!H387","v":0},{"$f":"'Wniosek 2026 r.'!C696","v":0},30,"","",0,"",0,0,0,0,0,0,0,0,"ok","ok",0,0,{"$f":"'Zał. nr 2 kalkulacja - 2026 r.'!C55","v":0},{"$f":"'Zał. nr 2 kalkulacja - 2026 r.'!D55","v":0},{"$f":"'Zał. nr 2 kalkulacja - 2026 r.'!E55","v":0},{"$f":"'Zał. nr 2 kalkulacja - 2026 r.'!F55","v":0},{"$f":"'Zał. nr 2 kalkulacja - 2026 r.'!G55","v":0},{"$f":"'Zał. nr 2 kalkulacja - 2026 r.'!H55","v":0},{"$f":"'Zał. nr 2 kalkulacja - 2026 r.'!I55","v":0},{"$f":"'Zał. nr 2 kalkulacja - 2026 r.'!J55","v":0},{"$f":"'Zał. nr 2 kalkulacja - 2026 r.'!K55","v":0},{"$f":"'Zał. nr 2 kalkulacja - 2026 r.'!L55","v":0},{"$f":"'Zał. nr 2 kalkulacja - 2026 r.'!M55","v":0},{"$f":"'Zał. nr 2 kalkulacja - 2026 r.'!N55","v":0}]
[{"$f":"'Wniosek 2026 r.'!A69","v":31},{"$f":"'Wniosek 2026 r.'!B69","v":0},{"$f":"'Wniosek 2026 r.'!E69","v":0},{"$f":"'Wniosek 2026 r.'!G69","v":0},{"$f":"'Wniosek 2026 r.'!C232","v":0},{"$f":"'Wniosek 2026 r.'!C542","v":0},{"$f":"'Wniosek 2026 r.'!C388","v":0},{"$f":"'Wniosek 2026 r.'!D388","v":0},{"$f":"'Wniosek 2026 r.'!F388","v":0},{"$f":"'Wniosek 2026 r.'!H388","v":0},{"$f":"'Wniosek 2026 r.'!C697","v":0},31,"","",0,"",0,0,0,0,0,0,0,0,"ok","ok",0,0,{"$f":"'Zał. nr 2 kalkulacja - 2026 r.'!C56","v":0},{"$f":"'Zał. nr 2 kalkulacja - 2026 r.'!D56","v":0},{"$f":"'Zał. nr 2 kalkulacja - 2026 r.'!E56","v":0},{"$f":"'Zał. nr 2 kalkulacja - 2026 r.'!F56","v":0},{"$f":"'Zał. nr 2 kalkulacja - 2026 r.'!G56","v":0},{"$f":"'Zał. nr 2 kalkulacja - 2026 r.'!H56","v":0},{"$f":"'Zał. nr 2 kalkulacja - 2026 r.'!I56","v":0},{"$f":"'Zał. nr 2 kalkulacja - 2026 r.'!J56","v":0},{"$f":"'Zał. nr 2 kalkulacja - 2026 r.'!K56","v":0},{"$f":"'Zał. nr 2 kalkulacja - 2026 r.'!L56","v":0},{"$f":"'Zał. nr 2 kalkulacja - 2026 r.'!M56","v":0},{"$f":"'Zał. nr 2 kalkulacja - 2026 r.'!N56","v":0}]
[{"$f":"'Wniosek 2026 r.'!A70","v":32},{"$f":"'Wniosek 2026 r.'!B70","v":0},{"$f":"'Wniosek 2026 r.'!E70","v":0},{"$f":"'Wniosek 2026 r.'!G70","v":0},{"$f":"'Wniosek 2026 r.'!C233","v":0},{"$f":"'Wniosek 2026 r.'!C543","v":0},{"$f":"'Wniosek 2026 r.'!C389","v":0},{"$f":"'Wniosek 2026 r.'!D389","v":0},{"$f":"'Wniosek 2026 r.'!F389","v":0},{"$f":"'Wniosek 2026 r.'!H389","v":0},{"$f":"'Wniosek 2026 r.'!C698","v":0},{"$f":"A33","v":32},"","",0,"",0,0,0,0,0,0,0,0,"ok","ok",0,0,{"$f":"'Zał. nr 2 kalkulacja - 2026 r.'!C57","v":0},{"$f":"'Zał. nr 2 kalkulacja - 2026 r.'!D57","v":0},{"$f":"'Zał. nr 2 kalkulacja - 2026 r.'!E57","v":0},{"$f":"'Zał. nr 2 kalkulacja - 2026 r.'!F57","v":0},{"$f":"'Zał. nr 2 kalkulacja - 2026 r.'!G57","v":0},{"$f":"'Zał. nr 2 kalkulacja - 2026 r.'!H57","v":0},{"$f":"'Zał. nr 2 kalkulacja - 2026 r.'!I57","v":0},{"$f":"'Zał. nr 2 kalkulacja - 2026 r.'!J57","v":0},{"$f":"'Zał. nr 2 kalkulacja - 2026 r.'!K57","v":0},{"$f":"'Zał. nr 2 kalkulacja - 2026 r.'!L57","v":0},{"$f":"'Zał. nr 2 kalkulacja - 2026 r.'!M57","v":0},{"$f":"'Zał. nr 2 kalkulacja - 2026 r.'!N57","v":0}]
[{"$f":"'Wniosek 2026 r.'!A71","v":33},{"$f":"'Wniosek 2026 r.'!B71","v":0},{"$f":"'Wniosek 2026 r.'!E71","v":0},{"$f":"'Wniosek 2026 r.'!G71","v":0},{"$f":"'Wniosek 2026 r.'!C234","v":0},{"$f":"'Wniosek 2026 r.'!C544","v":0},{"$f":"'Wniosek 2026 r.'!C390","v":0},{"$f":"'Wniosek 2026 r.'!D390","v":0},{"$f":"'Wniosek 2026 r.'!F390","v":0},{"$f":"'Wniosek 2026 r.'!H390","v":0},{"$f":"'Wniosek 2026 r.'!C699","v":0},33,{"$f":"IFERROR(E34/C34,\"\")","v":""},{"$f":"IFERROR(F34/E34,\"\")","v":""},{"$f":"H34","v":0},"",{"$f":"O34*E34","v":0},{"$f":"G34*E34","v":0},{"$f":"IFERROR(U34*E34,0)","v":0},{"$f":"IFERROR(U34*E34,0)","v":0},{"$f":"IFERROR(IF((F34-J34)/E34>=$AP$2,$AP$2,(F34-J34)/E34),0)","v":0},{"$f":"IFERROR(K34/E34,0)","v":0},{"$f":"F34*0.1","v":0},0,{"$f":"IF(O34>=X34,$AQ$1,$AQ$2)","v":"ok"},{"$f":"IF(V34<=$AP$2,$AQ$1,$AQ$2)","v":"ok"},{"$f":"(S34+Q34)-F34","v":0},{"$f":"F34-R34","v":0},{"$f":"'Zał. nr 2 kalkulacja - 2026 r.'!C58","v":0},{"$f":"'Zał. nr 2 kalkulacja - 2026 r.'!D58","v":0},{"$f":"'Zał. nr 2 kalkulacja - 2026 r.'!E58","v":0},{"$f":"'Zał. nr 2 kalkulacja - 2026 r.'!F58","v":0},{"$f":"'Zał. nr 2 kalkulacja - 2026 r.'!G58","v":0},{"$f":"'Zał. nr 2 kalkulacja - 2026 r.'!H58","v":0},{"$f":"'Zał. nr 2 kalkulacja - 2026 r.'!I58","v":0},{"$f":"'Zał. nr 2 kalkulacja - 2026 r.'!J58","v":0},{"$f":"'Zał. nr 2 kalkulacja - 2026 r.'!K58","v":0},{"$f":"'Zał. nr 2 kalkulacja - 2026 r.'!L58","v":0},{"$f":"'Zał. nr 2 kalkulacja - 2026 r.'!M58","v":0},{"$f":"'Zał. nr 2 kalkulacja - 2026 r.'!N58","v":0}]
[{"$f":"'Wniosek 2026 r.'!A72","v":34},{"$f":"'Wniosek 2026 r.'!B72","v":0},{"$f":"'Wniosek 2026 r.'!E72","v":0},{"$f":"'Wniosek 2026 r.'!G72","v":0},{"$f":"'Wniosek 2026 r.'!C235","v":0},{"$f":"'Wniosek 2026 r.'!C545","v":0},{"$f":"'Wniosek 2026 r.'!C391","v":0},{"$f":"'Wniosek 2026 r.'!D391","v":0},{"$f":"'Wniosek 2026 r.'!F391","v":0},{"$f":"'Wniosek 2026 r.'!H391","v":0},{"$f":"'Wniosek 2026 r.'!C700","v":0},34,"","",0,"",0,0,0,0,0,0,0,0,"ok","ok",0,0,{"$f":"'Zał. nr 2 kalkulacja - 2026 r.'!C59","v":0},{"$f":"'Zał. nr 2 kalkulacja - 2026 r.'!D59","v":0},{"$f":"'Zał. nr 2 kalkulacja - 2026 r.'!E59","v":0},{"$f":"'Zał. nr 2 kalkulacja - 2026 r.'!F59","v":0},{"$f":"'Zał. nr 2 kalkulacja - 2026 r.'!G59","v":0},{"$f":"'Zał. nr 2 kalkulacja - 2026 r.'!H59","v":0},{"$f":"'Zał. nr 2 kalkulacja - 2026 r.'!I59","v":0},{"$f":"'Zał. nr 2 kalkulacja - 2026 r.'!J59","v":0},{"$f":"'Zał. nr 2 kalkulacja - 2026 r.'!K59","v":0},{"$f":"'Zał. nr 2 kalkulacja - 2026 r.'!L59","v":0},{"$f":"'Zał. nr 2 kalkulacja - 2026 r.'!M59","v":0},{"$f":"'Zał. nr 2 kalkulacja - 2026 r.'!N59","v":0}]
[{"$f":"'Wniosek 2026 r.'!A73","v":35},{"$f":"'Wniosek 2026 r.'!B73","v":0},{"$f":"'Wniosek 2026 r.'!E73","v":0},{"$f":"'Wniosek 2026 r.'!G73","v":0},{"$f":"'Wniosek 2026 r.'!C236","v":0},{"$f":"'Wniosek 2026 r.'!C546","v":0},{"$f":"'Wniosek 2026 r.'!C392","v":0},{"$f":"'Wniosek 2026 r.'!D392","v":0},{"$f":"'Wniosek 2026 r.'!F392","v":0},{"$f":"'Wniosek 2026 r.'!H392","v":0},{"$f":"'Wniosek 2026 r.'!C701","v":0},35,"","",0,"",0,0,0,0,0,0,0,0,"ok","ok",0,0,{"$f":"'Zał. nr 2 kalkulacja - 2026 r.'!C60","v":0},{"$f":"'Zał. nr 2 kalkulacja - 2026 r.'!D60","v":0},{"$f":"'Zał. nr 2 kalkulacja - 2026 r.'!E60","v":0},{"$f":"'Zał. nr 2 kalkulacja - 2026 r.'!F60","v":0},{"$f":"'Zał. nr 2 kalkulacja - 2026 r.'!G60","v":0},{"$f":"'Zał. nr 2 kalkulacja - 2026 r.'!H60","v":0},{"$f":"'Zał. nr 2 kalkulacja - 2026 r.'!I60","v":0},{"$f":"'Zał. nr 2 kalkulacja - 2026 r.'!J60","v":0},{"$f":"'Zał. nr 2 kalkulacja - 2026 r.'!K60","v":0},{"$f":"'Zał. nr 2 kalkulacja - 2026 r.'!L60","v":0},{"$f":"'Zał. nr 2 kalkulacja - 2026 r.'!M60","v":0},{"$f":"'Zał. nr 2 kalkulacja - 2026 r.'!N60","v":0}]
[{"$f":"'Wniosek 2026 r.'!A74","v":36},{"$f":"'Wniosek 2026 r.'!B74","v":0},{"$f":"'Wniosek 2026 r.'!E74","v":0},{"$f":"'Wniosek 2026 r.'!G74","v":0},{"$f":"'Wniosek 2026 r.'!C237","v":0},{"$f":"'Wniosek 2026 r.'!C547","v":0},{"$f":"'Wniosek 2026 r.'!C393","v":0},{"$f":"'Wniosek 2026 r.'!D393","v":0},{"$f":"'Wniosek 2026 r.'!F393","v":0},{"$f":"'Wniosek 2026 r.'!H393","v":0},{"$f":"'Wniosek 2026 r.'!C702","v":0},36,"","",0,"",0,0,0,0,0,0,0,0,"ok","ok",0,0,{"$f":"'Zał. nr 2 kalkulacja - 2026 r.'!C61","v":0},{"$f":"'Zał. nr 2 kalkulacja - 2026 r.'!D61","v":0},{"$f":"'Zał. nr 2 kalkulacja - 2026 r.'!E61","v":0},{"$f":"'Zał. nr 2 kalkulacja - 2026 r.'!F61","v":0},{"$f":"'Zał. nr 2 kalkulacja - 2026 r.'!G61","v":0},{"$f":"'Zał. nr 2 kalkulacja - 2026 r.'!H61","v":0},{"$f":"'Zał. nr 2 kalkulacja - 2026 r.'!I61","v":0},{"$f":"'Zał. nr 2 kalkulacja - 2026 r.'!J61","v":0},{"$f":"'Zał. nr 2 kalkulacja - 2026 r.'!K61","v":0},{"$f":"'Zał. nr 2 kalkulacja - 2026 r.'!L61","v":0},{"$f":"'Zał. nr 2 kalkulacja - 2026 r.'!M61","v":0},{"$f":"'Zał. nr 2 kalkulacja - 2026 r.'!N61","v":0}]
[{"$f":"'Wniosek 2026 r.'!A75","v":37},{"$f":"'Wniosek 2026 r.'!B75","v":0},{"$f":"'Wniosek 2026 r.'!E75","v":0},{"$f":"'Wniosek 2026 r.'!G75","v":0},{"$f":"'Wniosek 2026 r.'!C238","v":0},{"$f":"'Wniosek 2026 r.'!C548","v":0},{"$f":"'Wniosek 2026 r.'!C394","v":0},{"$f":"'Wniosek 2026 r.'!D394","v":0},{"$f":"'Wniosek 2026 r.'!F394","v":0},{"$f":"'Wniosek 2026 r.'!H394","v":0},{"$f":"'Wniosek 2026 r.'!C703","v":0},37,"","",0,"",0,0,0,0,0,0,0,0,"ok","ok",0,0,{"$f":"'Zał. nr 2 kalkulacja - 2026 r.'!C62","v":0},{"$f":"'Zał. nr 2 kalkulacja - 2026 r.'!D62","v":0},{"$f":"'Zał. nr 2 kalkulacja - 2026 r.'!E62","v":0},{"$f":"'Zał. nr 2 kalkulacja - 2026 r.'!F62","v":0},{"$f":"'Zał. nr 2 kalkulacja - 2026 r.'!G62","v":0},{"$f":"'Zał. nr 2 kalkulacja - 2026 r.'!H62","v":0},{"$f":"'Zał. nr 2 kalkulacja - 2026 r.'!I62","v":0},{"$f":"'Zał. nr 2 kalkulacja - 2026 r.'!J62","v":0},{"$f":"'Zał. nr 2 kalkulacja - 2026 r.'!K62","v":0},{"$f":"'Zał. nr 2 kalkulacja - 2026 r.'!L62","v":0},{"$f":"'Zał. nr 2 kalkulacja - 2026 r.'!M62","v":0},{"$f":"'Zał. nr 2 kalkulacja - 2026 r.'!N62","v":0}]
[{"$f":"'Wniosek 2026 r.'!A76","v":38},{"$f":"'Wniosek 2026 r.'!B76","v":0},{"$f":"'Wniosek 2026 r.'!E76","v":0},{"$f":"'Wniosek 2026 r.'!G76","v":0},{"$f":"'Wniosek 2026 r.'!C239","v":0},{"$f":"'Wniosek 2026 r.'!C549","v":0},{"$f":"'Wniosek 2026 r.'!C395","v":0},{"$f":"'Wniosek 2026 r.'!D395","v":0},{"$f":"'Wniosek 2026 r.'!F395","v":0},{"$f":"'Wniosek 2026 r.'!H395","v":0},{"$f":"'Wniosek 2026 r.'!C704","v":0},38,"","",0,"",0,0,0,0,0,0,0,0,"ok","ok",0,0,{"$f":"'Zał. nr 2 kalkulacja - 2026 r.'!C63","v":0},{"$f":"'Zał. nr 2 kalkulacja - 2026 r.'!D63","v":0},{"$f":"'Zał. nr 2 kalkulacja - 2026 r.'!E63","v":0},{"$f":"'Zał. nr 2 kalkulacja - 2026 r.'!F63","v":0},{"$f":"'Zał. nr 2 kalkulacja - 2026 r.'!G63","v":0},{"$f":"'Zał. nr 2 kalkulacja - 2026 r.'!H63","v":0},{"$f":"'Zał. nr 2 kalkulacja - 2026 r.'!I63","v":0},{"$f":"'Zał. nr 2 kalkulacja - 2026 r.'!J63","v":0},{"$f":"'Zał. nr 2 kalkulacja - 2026 r.'!K63","v":0},{"$f":"'Zał. nr 2 kalkulacja - 2026 r.'!L63","v":0},{"$f":"'Zał. nr 2 kalkulacja - 2026 r.'!M63","v":0},{"$f":"'Zał. nr 2 kalkulacja - 2026 r.'!N63","v":0}]
[{"$f":"'Wniosek 2026 r.'!A77","v":39},{"$f":"'Wniosek 2026 r.'!B77","v":0},{"$f":"'Wniosek 2026 r.'!E77","v":0},{"$f":"'Wniosek 2026 r.'!G77","v":0},{"$f":"'Wniosek 2026 r.'!C240","v":0},{"$f":"'Wniosek 2026 r.'!C550","v":0},{"$f":"'Wniosek 2026 r.'!C396","v":0},{"$f":"'Wniosek 2026 r.'!D396","v":0},{"$f":"'Wniosek 2026 r.'!F396","v":0},{"$f":"'Wniosek 2026 r.'!H396","v":0},{"$f":"'Wniosek 2026 r.'!C705","v":0},39,"","",0,"",0,0,0,0,0,0,0,0,"ok","ok",0,0,{"$f":"'Zał. nr 2 kalkulacja - 2026 r.'!C64","v":0},{"$f":"'Zał. nr 2 kalkulacja - 2026 r.'!D64","v":0},{"$f":"'Zał. nr 2 kalkulacja - 2026 r.'!E64","v":0},{"$f":"'Zał. nr 2 kalkulacja - 2026 r.'!F64","v":0},{"$f":"'Zał. nr 2 kalkulacja - 2026 r.'!G64","v":0},{"$f":"'Zał. nr 2 kalkulacja - 2026 r.'!H64","v":0},{"$f":"'Zał. nr 2 kalkulacja - 2026 r.'!I64","v":0},{"$f":"'Zał. nr 2 kalkulacja - 2026 r.'!J64","v":0},{"$f":"'Zał. nr 2 kalkulacja - 2026 r.'!K64","v":0},{"$f":"'Zał. nr 2 kalkulacja - 2026 r.'!L64","v":0},{"$f":"'Zał. nr 2 kalkulacja - 2026 r.'!M64","v":0},{"$f":"'Zał. nr 2 kalkulacja - 2026 r.'!N64","v":0}]
[{"$f":"'Wniosek 2026 r.'!A78","v":40},{"$f":"'Wniosek 2026 r.'!B78","v":0},{"$f":"'Wniosek 2026 r.'!E78","v":0},{"$f":"'Wniosek 2026 r.'!G78","v":0},{"$f":"'Wniosek 2026 r.'!C241","v":0},{"$f":"'Wniosek 2026 r.'!C551","v":0},{"$f":"'Wniosek 2026 r.'!C397","v":0},{"$f":"'Wniosek 2026 r.'!D397","v":0},{"$f":"'Wniosek 2026 r.'!F397","v":0},{"$f":"'Wniosek 2026 r.'!H397","v":0},{"$f":"'Wniosek 2026 r.'!C706","v":0},40,"","",0,"",0,0,0,0,0,0,0,0,"ok","ok",0,0,{"$f":"'Zał. nr 2 kalkulacja - 2026 r.'!C65","v":0},{"$f":"'Zał. nr 2 kalkulacja - 2026 r.'!D65","v":0},{"$f":"'Zał. nr 2 kalkulacja - 2026 r.'!E65","v":0},{"$f":"'Zał. nr 2 kalkulacja - 2026 r.'!F65","v":0},{"$f":"'Zał. nr 2 kalkulacja - 2026 r.'!G65","v":0},{"$f":"'Zał. nr 2 kalkulacja - 2026 r.'!H65","v":0},{"$f":"'Zał. nr 2 kalkulacja - 2026 r.'!I65","v":0},{"$f":"'Zał. nr 2 kalkulacja - 2026 r.'!J65","v":0},{"$f":"'Zał. nr 2 kalkulacja - 2026 r.'!K65","v":0},{"$f":"'Zał. nr 2 kalkulacja - 2026 r.'!L65","v":0},{"$f":"'Zał. nr 2 kalkulacja - 2026 r.'!M65","v":0},{"$f":"'Zał. nr 2 kalkulacja - 2026 r.'!N65","v":0}]
[{"$f":"'Wniosek 2026 r.'!A79","v":41},{"$f":"'Wniosek 2026 r.'!B79","v":0},{"$f":"'Wniosek 2026 r.'!E79","v":0},{"$f":"'Wniosek 2026 r.'!G79","v":0},{"$f":"'Wniosek 2026 r.'!C242","v":0},{"$f":"'Wniosek 2026 r.'!C552","v":0},{"$f":"'Wniosek 2026 r.'!C398","v":0},{"$f":"'Wniosek 2026 r.'!D398","v":0},{"$f":"'Wniosek 2026 r.'!F398","v":0},{"$f":"'Wniosek 2026 r.'!H398","v":0},{"$f":"'Wniosek 2026 r.'!C707","v":0},41,"","",0,"",0,0,0,0,0,0,0,0,"ok","ok",0,0,{"$f":"'Zał. nr 2 kalkulacja - 2026 r.'!C66","v":0},{"$f":"'Zał. nr 2 kalkulacja - 2026 r.'!D66","v":0},{"$f":"'Zał. nr 2 kalkulacja - 2026 r.'!E66","v":0},{"$f":"'Zał. nr 2 kalkulacja - 2026 r.'!F66","v":0},{"$f":"'Zał. nr 2 kalkulacja - 2026 r.'!G66","v":0},{"$f":"'Zał. nr 2 kalkulacja - 2026 r.'!H66","v":0},{"$f":"'Zał. nr 2 kalkulacja - 2026 r.'!I66","v":0},{"$f":"'Zał. nr 2 kalkulacja - 2026 r.'!J66","v":0},{"$f":"'Zał. nr 2 kalkulacja - 2026 r.'!K66","v":0},{"$f":"'Zał. nr 2 kalkulacja - 2026 r.'!L66","v":0},{"$f":"'Zał. nr 2 kalkulacja - 2026 r.'!M66","v":0},{"$f":"'Zał. nr 2 kalkulacja - 2026 r.'!N66","v":0}]
[{"$f":"'Wniosek 2026 r.'!A80","v":42},{"$f":"'Wniosek 2026 r.'!B80","v":0},{"$f":"'Wniosek 2026 r.'!E80","v":0},{"$f":"'Wniosek 2026 r.'!G80","v":0},{"$f":"'Wniosek 2026 r.'!C243","v":0},{"$f":"'Wniosek 2026 r.'!C553","v":0},{"$f":"'Wniosek 2026 r.'!C399","v":0},{"$f":"'Wniosek 2026 r.'!D399","v":0},{"$f":"'Wniosek 2026 r.'!F399","v":0},{"$f":"'Wniosek 2026 r.'!H399","v":0},{"$f":"'Wniosek 2026 r.'!C708","v":0},42,"","",0,"",0,0,0,0,0,0,0,0,"ok","ok",0,0,{"$f":"'Zał. nr 2 kalkulacja - 2026 r.'!C67","v":0},{"$f":"'Zał. nr 2 kalkulacja - 2026 r.'!D67","v":0},{"$f":"'Zał. nr 2 kalkulacja - 2026 r.'!E67","v":0},{"$f":"'Zał. nr 2 kalkulacja - 2026 r.'!F67","v":0},{"$f":"'Zał. nr 2 kalkulacja - 2026 r.'!G67","v":0},{"$f":"'Zał. nr 2 kalkulacja - 2026 r.'!H67","v":0},{"$f":"'Zał. nr 2 kalkulacja - 2026 r.'!I67","v":0},{"$f":"'Zał. nr 2 kalkulacja - 2026 r.'!J67","v":0},{"$f":"'Zał. nr 2 kalkulacja - 2026 r.'!K67","v":0},{"$f":"'Zał. nr 2 kalkulacja - 2026 r.'!L67","v":0},{"$f":"'Zał. nr 2 kalkulacja - 2026 r.'!M67","v":0},{"$f":"'Zał. nr 2 kalkulacja - 2026 r.'!N67","v":0}]
[{"$f":"'Wniosek 2026 r.'!A81","v":43},{"$f":"'Wniosek 2026 r.'!B81","v":0},{"$f":"'Wniosek 2026 r.'!E81","v":0},{"$f":"'Wniosek 2026 r.'!G81","v":0},{"$f":"'Wniosek 2026 r.'!C244","v":0},{"$f":"'Wniosek 2026 r.'!C554","v":0},{"$f":"'Wniosek 2026 r.'!C400","v":0},{"$f":"'Wniosek 2026 r.'!D400","v":0},{"$f":"'Wniosek 2026 r.'!F400","v":0},{"$f":"'Wniosek 2026 r.'!H400","v":0},{"$f":"'Wniosek 2026 r.'!C709","v":0},43,"","",0,"",0,0,0,0,0,0,0,0,"ok","ok",0,0,{"$f":"'Zał. nr 2 kalkulacja - 2026 r.'!C68","v":0},{"$f":"'Zał. nr 2 kalkulacja - 2026 r.'!D68","v":0},{"$f":"'Zał. nr 2 kalkulacja - 2026 r.'!E68","v":0},{"$f":"'Zał. nr 2 kalkulacja - 2026 r.'!F68","v":0},{"$f":"'Zał. nr 2 kalkulacja - 2026 r.'!G68","v":0},{"$f":"'Zał. nr 2 kalkulacja - 2026 r.'!H68","v":0},{"$f":"'Zał. nr 2 kalkulacja - 2026 r.'!I68","v":0},{"$f":"'Zał. nr 2 kalkulacja - 2026 r.'!J68","v":0},{"$f":"'Zał. nr 2 kalkulacja - 2026 r.'!K68","v":0},{"$f":"'Zał. nr 2 kalkulacja - 2026 r.'!L68","v":0},{"$f":"'Zał. nr 2 kalkulacja - 2026 r.'!M68","v":0},{"$f":"'Zał. nr 2 kalkulacja - 2026 r.'!N68","v":0}]
[{"$f":"'Wniosek 2026 r.'!A82","v":44},{"$f":"'Wniosek 2026 r.'!B82","v":0},{"$f":"'Wniosek 2026 r.'!E82","v":0},{"$f":"'Wniosek 2026 r.'!G82","v":0},{"$f":"'Wniosek 2026 r.'!C245","v":0},{"$f":"'Wniosek 2026 r.'!C555","v":0},{"$f":"'Wniosek 2026 r.'!C401","v":0},{"$f":"'Wniosek 2026 r.'!D401","v":0},{"$f":"'Wniosek 2026 r.'!F401","v":0},{"$f":"'Wniosek 2026 r.'!H401","v":0},{"$f":"'Wniosek 2026 r.'!C710","v":0},44,"","",0,"",0,0,0,0,0,0,0,0,"ok","ok",0,0,{"$f":"'Zał. nr 2 kalkulacja - 2026 r.'!C69","v":0},{"$f":"'Zał. nr 2 kalkulacja - 2026 r.'!D69","v":0},{"$f":"'Zał. nr 2 kalkulacja - 2026 r.'!E69","v":0},{"$f":"'Zał. nr 2 kalkulacja - 2026 r.'!F69","v":0},{"$f":"'Zał. nr 2 kalkulacja - 2026 r.'!G69","v":0},{"$f":"'Zał. nr 2 kalkulacja - 2026 r.'!H69","v":0},{"$f":"'Zał. nr 2 kalkulacja - 2026 r.'!I69","v":0},{"$f":"'Zał. nr 2 kalkulacja - 2026 r.'!J69","v":0},{"$f":"'Zał. nr 2 kalkulacja - 2026 r.'!K69","v":0},{"$f":"'Zał. nr 2 kalkulacja - 2026 r.'!L69","v":0},{"$f":"'Zał. nr 2 kalkulacja - 2026 r.'!M69","v":0},{"$f":"'Zał. nr 2 kalkulacja - 2026 r.'!N69","v":0}]
[{"$f":"'Wniosek 2026 r.'!A83","v":45},{"$f":"'Wniosek 2026 r.'!B83","v":0},{"$f":"'Wniosek 2026 r.'!E83","v":0},{"$f":"'Wniosek 2026 r.'!G83","v":0},{"$f":"'Wniosek 2026 r.'!C246","v":0},{"$f":"'Wniosek 2026 r.'!C556","v":0},{"$f":"'Wniosek 2026 r.'!C402","v":0},{"$f":"'Wniosek 2026 r.'!D402","v":0},{"$f":"'Wniosek 2026 r.'!F402","v":0},{"$f":"'Wniosek 2026 r.'!H402","v":0},{"$f":"'Wniosek 2026 r.'!C711","v":0},45,"","",0,"",0,0,0,0,0,0,0,0,"ok","ok",0,0,{"$f":"'Zał. nr 2 kalkulacja - 2026 r.'!C70","v":0},{"$f":"'Zał. nr 2 kalkulacja - 2026 r.'!D70","v":0},{"$f":"'Zał. nr 2 kalkulacja - 2026 r.'!E70","v":0},{"$f":"'Zał. nr 2 kalkulacja - 2026 r.'!F70","v":0},{"$f":"'Zał. nr 2 kalkulacja - 2026 r.'!G70","v":0},{"$f":"'Zał. nr 2 kalkulacja - 2026 r.'!H70","v":0},{"$f":"'Zał. nr 2 kalkulacja - 2026 r.'!I70","v":0},{"$f":"'Zał. nr 2 kalkulacja - 2026 r.'!J70","v":0},{"$f":"'Zał. nr 2 kalkulacja - 2026 r.'!K70","v":0},{"$f":"'Zał. nr 2 kalkulacja - 2026 r.'!L70","v":0},{"$f":"'Zał. nr 2 kalkulacja - 2026 r.'!M70","v":0},{"$f":"'Zał. nr 2 kalkulacja - 2026 r.'!N70","v":0}]
[{"$f":"'Wniosek 2026 r.'!A84","v":46},{"$f":"'Wniosek 2026 r.'!B84","v":0},{"$f":"'Wniosek 2026 r.'!E84","v":0},{"$f":"'Wniosek 2026 r.'!G84","v":0},{"$f":"'Wniosek 2026 r.'!C247","v":0},{"$f":"'Wniosek 2026 r.'!C557","v":0},{"$f":"'Wniosek 2026 r.'!C403","v":0},{"$f":"'Wniosek 2026 r.'!D403","v":0},{"$f":"'Wniosek 2026 r.'!F403","v":0},{"$f":"'Wniosek 2026 r.'!H403","v":0},{"$f":"'Wniosek 2026 r.'!C712","v":0},46,"","",0,"",0,0,0,0,0,0,0,0,"ok","ok",0,0,{"$f":"'Zał. nr 2 kalkulacja - 2026 r.'!C71","v":0},{"$f":"'Zał. nr 2 kalkulacja - 2026 r.'!D71","v":0},{"$f":"'Zał. nr 2 kalkulacja - 2026 r.'!E71","v":0},{"$f":"'Zał. nr 2 kalkulacja - 2026 r.'!F71","v":0},{"$f":"'Zał. nr 2 kalkulacja - 2026 r.'!G71","v":0},{"$f":"'Zał. nr 2 kalkulacja - 2026 r.'!H71","v":0},{"$f":"'Zał. nr 2 kalkulacja - 2026 r.'!I71","v":0},{"$f":"'Zał. nr 2 kalkulacja - 2026 r.'!J71","v":0},{"$f":"'Zał. nr 2 kalkulacja - 2026 r.'!K71","v":0},{"$f":"'Zał. nr 2 kalkulacja - 2026 r.'!L71","v":0},{"$f":"'Zał. nr 2 kalkulacja - 2026 r.'!M71","v":0},{"$f":"'Zał. nr 2 kalkulacja - 2026 r.'!N71","v":0}]
[{"$f":"'Wniosek 2026 r.'!A85","v":47},{"$f":"'Wniosek 2026 r.'!B85","v":0},{"$f":"'Wniosek 2026 r.'!E85","v":0},{"$f":"'Wniosek 2026 r.'!G85","v":0},{"$f":"'Wniosek 2026 r.'!C248","v":0},{"$f":"'Wniosek 2026 r.'!C558","v":0},{"$f":"'Wniosek 2026 r.'!C404","v":0},{"$f":"'Wniosek 2026 r.'!D404","v":0},{"$f":"'Wniosek 2026 r.'!F404","v":0},{"$f":"'Wniosek 2026 r.'!H404","v":0},{"$f":"'Wniosek 2026 r.'!C713","v":0},47,"","",0,"",0,0,0,0,0,0,0,0,"ok","ok",0,0,{"$f":"'Zał. nr 2 kalkulacja - 2026 r.'!C72","v":0},{"$f":"'Zał. nr 2 kalkulacja - 2026 r.'!D72","v":0},{"$f":"'Zał. nr 2 kalkulacja - 2026 r.'!E72","v":0},{"$f":"'Zał. nr 2 kalkulacja - 2026 r.'!F72","v":0},{"$f":"'Zał. nr 2 kalkulacja - 2026 r.'!G72","v":0},{"$f":"'Zał. nr 2 kalkulacja - 2026 r.'!H72","v":0},{"$f":"'Zał. nr 2 kalkulacja - 2026 r.'!I72","v":0},{"$f":"'Zał. nr 2 kalkulacja - 2026 r.'!J72","v":0},{"$f":"'Zał. nr 2 kalkulacja - 2026 r.'!K72","v":0},{"$f":"'Zał. nr 2 kalkulacja - 2026 r.'!L72","v":0},{"$f":"'Zał. nr 2 kalkulacja - 2026 r.'!M72","v":0},{"$f":"'Zał. nr 2 kalkulacja - 2026 r.'!N72","v":0}]
[{"$f":"'Wniosek 2026 r.'!A86","v":48},{"$f":"'Wniosek 2026 r.'!B86","v":0},{"$f":"'Wniosek 2026 r.'!E86","v":0},{"$f":"'Wniosek 2026 r.'!G86","v":0},{"$f":"'Wniosek 2026 r.'!C249","v":0},{"$f":"'Wniosek 2026 r.'!C559","v":0},{"$f":"'Wniosek 2026 r.'!C405","v":0},{"$f":"'Wniosek 2026 r.'!D405","v":0},{"$f":"'Wniosek 2026 r.'!F405","v":0},{"$f":"'Wniosek 2026 r.'!H405","v":0},{"$f":"'Wniosek 2026 r.'!C714","v":0},48,"","",0,"",0,0,0,0,0,0,0,0,"ok","ok",0,0,{"$f":"'Zał. nr 2 kalkulacja - 2026 r.'!C73","v":0},{"$f":"'Zał. nr 2 kalkulacja - 2026 r.'!D73","v":0},{"$f":"'Zał. nr 2 kalkulacja - 2026 r.'!E73","v":0},{"$f":"'Zał. nr 2 kalkulacja - 2026 r.'!F73","v":0},{"$f":"'Zał. nr 2 kalkulacja - 2026 r.'!G73","v":0},{"$f":"'Zał. nr 2 kalkulacja - 2026 r.'!H73","v":0},{"$f":"'Zał. nr 2 kalkulacja - 2026 r.'!I73","v":0},{"$f":"'Zał. nr 2 kalkulacja - 2026 r.'!J73","v":0},{"$f":"'Zał. nr 2 kalkulacja - 2026 r.'!K73","v":0},{"$f":"'Zał. nr 2 kalkulacja - 2026 r.'!L73","v":0},{"$f":"'Zał. nr 2 kalkulacja - 2026 r.'!M73","v":0},{"$f":"'Zał. nr 2 kalkulacja - 2026 r.'!N73","v":0}]
[{"$f":"'Wniosek 2026 r.'!A87","v":49},{"$f":"'Wniosek 2026 r.'!B87","v":0},{"$f":"'Wniosek 2026 r.'!E87","v":0},{"$f":"'Wniosek 2026 r.'!G87","v":0},{"$f":"'Wniosek 2026 r.'!C250","v":0},{"$f":"'Wniosek 2026 r.'!C560","v":0},{"$f":"'Wniosek 2026 r.'!C406","v":0},{"$f":"'Wniosek 2026 r.'!D406","v":0},{"$f":"'Wniosek 2026 r.'!F406","v":0},{"$f":"'Wniosek 2026 r.'!H406","v":0},{"$f":"'Wniosek 2026 r.'!C715","v":0},49,"","",0,"",0,0,0,0,0,0,0,0,"ok","ok",0,0,{"$f":"'Zał. nr 2 kalkulacja - 2026 r.'!C74","v":0},{"$f":"'Zał. nr 2 kalkulacja - 2026 r.'!D74","v":0},{"$f":"'Zał. nr 2 kalkulacja - 2026 r.'!E74","v":0},{"$f":"'Zał. nr 2 kalkulacja - 2026 r.'!F74","v":0},{"$f":"'Zał. nr 2 kalkulacja - 2026 r.'!G74","v":0},{"$f":"'Zał. nr 2 kalkulacja - 2026 r.'!H74","v":0},{"$f":"'Zał. nr 2 kalkulacja - 2026 r.'!I74","v":0},{"$f":"'Zał. nr 2 kalkulacja - 2026 r.'!J74","v":0},{"$f":"'Zał. nr 2 kalkulacja - 2026 r.'!K74","v":0},{"$f":"'Zał. nr 2 kalkulacja - 2026 r.'!L74","v":0},{"$f":"'Zał. nr 2 kalkulacja - 2026 r.'!M74","v":0},{"$f":"'Zał. nr 2 kalkulacja - 2026 r.'!N74","v":0}]
[{"$f":"'Wniosek 2026 r.'!A88","v":50},{"$f":"'Wniosek 2026 r.'!B88","v":0},{"$f":"'Wniosek 2026 r.'!E88","v":0},{"$f":"'Wniosek 2026 r.'!G88","v":0},{"$f":"'Wniosek 2026 r.'!C251","v":0},{"$f":"'Wniosek 2026 r.'!C561","v":0},{"$f":"'Wniosek 2026 r.'!C407","v":0},{"$f":"'Wniosek 2026 r.'!D407","v":0},{"$f":"'Wniosek 2026 r.'!F407","v":0},{"$f":"'Wniosek 2026 r.'!H407","v":0},{"$f":"'Wniosek 2026 r.'!C716","v":0},50,"","",0,"",0,0,0,0,0,0,0,0,"ok","ok",0,0,{"$f":"'Zał. nr 2 kalkulacja - 2026 r.'!C75","v":0},{"$f":"'Zał. nr 2 kalkulacja - 2026 r.'!D75","v":0},{"$f":"'Zał. nr 2 kalkulacja - 2026 r.'!E75","v":0},{"$f":"'Zał. nr 2 kalkulacja - 2026 r.'!F75","v":0},{"$f":"'Zał. nr 2 kalkulacja - 2026 r.'!G75","v":0},{"$f":"'Zał. nr 2 kalkulacja - 2026 r.'!H75","v":0},{"$f":"'Zał. nr 2 kalkulacja - 2026 r.'!I75","v":0},{"$f":"'Zał. nr 2 kalkulacja - 2026 r.'!J75","v":0},{"$f":"'Zał. nr 2 kalkulacja - 2026 r.'!K75","v":0},{"$f":"'Zał. nr 2 kalkulacja - 2026 r.'!L75","v":0},{"$f":"'Zał. nr 2 kalkulacja - 2026 r.'!M75","v":0},{"$f":"'Zał. nr 2 kalkulacja - 2026 r.'!N75","v":0}]
[{"$f":"'Wniosek 2026 r.'!A89","v":51},{"$f":"'Wniosek 2026 r.'!B89","v":0},{"$f":"'Wniosek 2026 r.'!E89","v":0},{"$f":"'Wniosek 2026 r.'!G89","v":0},{"$f":"'Wniosek 2026 r.'!C252","v":0},{"$f":"'Wniosek 2026 r.'!C562","v":0},{"$f":"'Wniosek 2026 r.'!C408","v":0},{"$f":"'Wniosek 2026 r.'!D408","v":0},{"$f":"'Wniosek 2026 r.'!F408","v":0},{"$f":"'Wniosek 2026 r.'!H408","v":0},{"$f":"'Wniosek 2026 r.'!C717","v":0},51,"","",0,"",0,0,0,0,0,0,0,0,"ok","ok",0,0,{"$f":"'Zał. nr 2 kalkulacja - 2026 r.'!C76","v":0},{"$f":"'Zał. nr 2 kalkulacja - 2026 r.'!D76","v":0},{"$f":"'Zał. nr 2 kalkulacja - 2026 r.'!E76","v":0},{"$f":"'Zał. nr 2 kalkulacja - 2026 r.'!F76","v":0},{"$f":"'Zał. nr 2 kalkulacja - 2026 r.'!G76","v":0},{"$f":"'Zał. nr 2 kalkulacja - 2026 r.'!H76","v":0},{"$f":"'Zał. nr 2 kalkulacja - 2026 r.'!I76","v":0},{"$f":"'Zał. nr 2 kalkulacja - 2026 r.'!J76","v":0},{"$f":"'Zał. nr 2 kalkulacja - 2026 r.'!K76","v":0},{"$f":"'Zał. nr 2 kalkulacja - 2026 r.'!L76","v":0},{"$f":"'Zał. nr 2 kalkulacja - 2026 r.'!M76","v":0},{"$f":"'Zał. nr 2 kalkulacja - 2026 r.'!N76","v":0}]
[{"$f":"'Wniosek 2026 r.'!A90","v":52},{"$f":"'Wniosek 2026 r.'!B90","v":0},{"$f":"'Wniosek 2026 r.'!E90","v":0},{"$f":"'Wniosek 2026 r.'!G90","v":0},{"$f":"'Wniosek 2026 r.'!C253","v":0},{"$f":"'Wniosek 2026 r.'!C563","v":0},{"$f":"'Wniosek 2026 r.'!C409","v":0},{"$f":"'Wniosek 2026 r.'!D409","v":0},{"$f":"'Wniosek 2026 r.'!F409","v":0},{"$f":"'Wniosek 2026 r.'!H409","v":0},{"$f":"'Wniosek 2026 r.'!C718","v":0},52,"","",0,"",0,0,0,0,0,0,0,0,"ok","ok",0,0,{"$f":"'Zał. nr 2 kalkulacja - 2026 r.'!C77","v":0},{"$f":"'Zał. nr 2 kalkulacja - 2026 r.'!D77","v":0},{"$f":"'Zał. nr 2 kalkulacja - 2026 r.'!E77","v":0},{"$f":"'Zał. nr 2 kalkulacja - 2026 r.'!F77","v":0},{"$f":"'Zał. nr 2 kalkulacja - 2026 r.'!G77","v":0},{"$f":"'Zał. nr 2 kalkulacja - 2026 r.'!H77","v":0},{"$f":"'Zał. nr 2 kalkulacja - 2026 r.'!I77","v":0},{"$f":"'Zał. nr 2 kalkulacja - 2026 r.'!J77","v":0},{"$f":"'Zał. nr 2 kalkulacja - 2026 r.'!K77","v":0},{"$f":"'Zał. nr 2 kalkulacja - 2026 r.'!L77","v":0},{"$f":"'Zał. nr 2 kalkulacja - 2026 r.'!M77","v":0},{"$f":"'Zał. nr 2 kalkulacja - 2026 r.'!N77","v":0}]
[{"$f":"'Wniosek 2026 r.'!A91","v":53},{"$f":"'Wniosek 2026 r.'!B91","v":0},{"$f":"'Wniosek 2026 r.'!E91","v":0},{"$f":"'Wniosek 2026 r.'!G91","v":0},{"$f":"'Wniosek 2026 r.'!C254","v":0},{"$f":"'Wniosek 2026 r.'!C564","v":0},{"$f":"'Wniosek 2026 r.'!C410","v":0},{"$f":"'Wniosek 2026 r.'!D410","v":0},{"$f":"'Wniosek 2026 r.'!F410","v":0},{"$f":"'Wniosek 2026 r.'!H410","v":0},{"$f":"'Wniosek 2026 r.'!C719","v":0},53,"","",0,"",0,0,0,0,0,0,0,0,"ok","ok",0,0,{"$f":"'Zał. nr 2 kalkulacja - 2026 r.'!C78","v":0},{"$f":"'Zał. nr 2 kalkulacja - 2026 r.'!D78","v":0},{"$f":"'Zał. nr 2 kalkulacja - 2026 r.'!E78","v":0},{"$f":"'Zał. nr 2 kalkulacja - 2026 r.'!F78","v":0},{"$f":"'Zał. nr 2 kalkulacja - 2026 r.'!G78","v":0},{"$f":"'Zał. nr 2 kalkulacja - 2026 r.'!H78","v":0},{"$f":"'Zał. nr 2 kalkulacja - 2026 r.'!I78","v":0},{"$f":"'Zał. nr 2 kalkulacja - 2026 r.'!J78","v":0},{"$f":"'Zał. nr 2 kalkulacja - 2026 r.'!K78","v":0},{"$f":"'Zał. nr 2 kalkulacja - 2026 r.'!L78","v":0},{"$f":"'Zał. nr 2 kalkulacja - 2026 r.'!M78","v":0},{"$f":"'Zał. nr 2 kalkulacja - 2026 r.'!N78","v":0}]
[{"$f":"'Wniosek 2026 r.'!A92","v":54},{"$f":"'Wniosek 2026 r.'!B92","v":0},{"$f":"'Wniosek 2026 r.'!E92","v":0},{"$f":"'Wniosek 2026 r.'!G92","v":0},{"$f":"'Wniosek 2026 r.'!C255","v":0},{"$f":"'Wniosek 2026 r.'!C565","v":0},{"$f":"'Wniosek 2026 r.'!C411","v":0},{"$f":"'Wniosek 2026 r.'!D411","v":0},{"$f":"'Wniosek 2026 r.'!F411","v":0},{"$f":"'Wniosek 2026 r.'!H411","v":0},{"$f":"'Wniosek 2026 r.'!C720","v":0},54,"","",0,"",0,0,0,0,0,0,0,0,"ok","ok",0,0,{"$f":"'Zał. nr 2 kalkulacja - 2026 r.'!C79","v":0},{"$f":"'Zał. nr 2 kalkulacja - 2026 r.'!D79","v":0},{"$f":"'Zał. nr 2 kalkulacja - 2026 r.'!E79","v":0},{"$f":"'Zał. nr 2 kalkulacja - 2026 r.'!F79","v":0},{"$f":"'Zał. nr 2 kalkulacja - 2026 r.'!G79","v":0},{"$f":"'Zał. nr 2 kalkulacja - 2026 r.'!H79","v":0},{"$f":"'Zał. nr 2 kalkulacja - 2026 r.'!I79","v":0},{"$f":"'Zał. nr 2 kalkulacja - 2026 r.'!J79","v":0},{"$f":"'Zał. nr 2 kalkulacja - 2026 r.'!K79","v":0},{"$f":"'Zał. nr 2 kalkulacja - 2026 r.'!L79","v":0},{"$f":"'Zał. nr 2 kalkulacja - 2026 r.'!M79","v":0},{"$f":"'Zał. nr 2 kalkulacja - 2026 r.'!N79","v":0}]
[{"$f":"'Wniosek 2026 r.'!A93","v":55},{"$f":"'Wniosek 2026 r.'!B93","v":0},{"$f":"'Wniosek 2026 r.'!E93","v":0},{"$f":"'Wniosek 2026 r.'!G93","v":0},{"$f":"'Wniosek 2026 r.'!C256","v":0},{"$f":"'Wniosek 2026 r.'!C566","v":0},{"$f":"'Wniosek 2026 r.'!C412","v":0},{"$f":"'Wniosek 2026 r.'!D412","v":0},{"$f":"'Wniosek 2026 r.'!F412","v":0},{"$f":"'Wniosek 2026 r.'!H412","v":0},{"$f":"'Wniosek 2026 r.'!C721","v":0},55,"","",0,"",0,0,0,0,0,0,0,0,"ok","ok",0,0,{"$f":"'Zał. nr 2 kalkulacja - 2026 r.'!C80","v":0},{"$f":"'Zał. nr 2 kalkulacja - 2026 r.'!D80","v":0},{"$f":"'Zał. nr 2 kalkulacja - 2026 r.'!E80","v":0},{"$f":"'Zał. nr 2 kalkulacja - 2026 r.'!F80","v":0},{"$f":"'Zał. nr 2 kalkulacja - 2026 r.'!G80","v":0},{"$f":"'Zał. nr 2 kalkulacja - 2026 r.'!H80","v":0},{"$f":"'Zał. nr 2 kalkulacja - 2026 r.'!I80","v":0},{"$f":"'Zał. nr 2 kalkulacja - 2026 r.'!J80","v":0},{"$f":"'Zał. nr 2 kalkulacja - 2026 r.'!K80","v":0},{"$f":"'Zał. nr 2 kalkulacja - 2026 r.'!L80","v":0},{"$f":"'Zał. nr 2 kalkulacja - 2026 r.'!M80","v":0},{"$f":"'Zał. nr 2 kalkulacja - 2026 r.'!N80","v":0}]
[{"$f":"'Wniosek 2026 r.'!A94","v":56},{"$f":"'Wniosek 2026 r.'!B94","v":0},{"$f":"'Wniosek 2026 r.'!E94","v":0},{"$f":"'Wniosek 2026 r.'!G94","v":0},{"$f":"'Wniosek 2026 r.'!C257","v":0},{"$f":"'Wniosek 2026 r.'!C567","v":0},{"$f":"'Wniosek 2026 r.'!C413","v":0},{"$f":"'Wniosek 2026 r.'!D413","v":0},{"$f":"'Wniosek 2026 r.'!F413","v":0},{"$f":"'Wniosek 2026 r.'!H413","v":0},{"$f":"'Wniosek 2026 r.'!C722","v":0},56,"","",0,"",0,0,0,0,0,0,0,0,"ok","ok",0,0,{"$f":"'Zał. nr 2 kalkulacja - 2026 r.'!C81","v":0},{"$f":"'Zał. nr 2 kalkulacja - 2026 r.'!D81","v":0},{"$f":"'Zał. nr 2 kalkulacja - 2026 r.'!E81","v":0},{"$f":"'Zał. nr 2 kalkulacja - 2026 r.'!F81","v":0},{"$f":"'Zał. nr 2 kalkulacja - 2026 r.'!G81","v":0},{"$f":"'Zał. nr 2 kalkulacja - 2026 r.'!H81","v":0},{"$f":"'Zał. nr 2 kalkulacja - 2026 r.'!I81","v":0},{"$f":"'Zał. nr 2 kalkulacja - 2026 r.'!J81","v":0},{"$f":"'Zał. nr 2 kalkulacja - 2026 r.'!K81","v":0},{"$f":"'Zał. nr 2 kalkulacja - 2026 r.'!L81","v":0},{"$f":"'Zał. nr 2 kalkulacja - 2026 r.'!M81","v":0},{"$f":"'Zał. nr 2 kalkulacja - 2026 r.'!N81","v":0}]
[{"$f":"'Wniosek 2026 r.'!A95","v":57},{"$f":"'Wniosek 2026 r.'!B95","v":0},{"$f":"'Wniosek 2026 r.'!E95","v":0},{"$f":"'Wniosek 2026 r.'!G95","v":0},{"$f":"'Wniosek 2026 r.'!C258","v":0},{"$f":"'Wniosek 2026 r.'!C568","v":0},{"$f":"'Wniosek 2026 r.'!C414","v":0},{"$f":"'Wniosek 2026 r.'!D414","v":0},{"$f":"'Wniosek 2026 r.'!F414","v":0},{"$f":"'Wniosek 2026 r.'!H414","v":0},{"$f":"'Wniosek 2026 r.'!C723","v":0},57,"","",0,"",0,0,0,0,0,0,0,0,"ok","ok",0,0,{"$f":"'Zał. nr 2 kalkulacja - 2026 r.'!C82","v":0},{"$f":"'Zał. nr 2 kalkulacja - 2026 r.'!D82","v":0},{"$f":"'Zał. nr 2 kalkulacja - 2026 r.'!E82","v":0},{"$f":"'Zał. nr 2 kalkulacja - 2026 r.'!F82","v":0},{"$f":"'Zał. nr 2 kalkulacja - 2026 r.'!G82","v":0},{"$f":"'Zał. nr 2 kalkulacja - 2026 r.'!H82","v":0},{"$f":"'Zał. nr 2 kalkulacja - 2026 r.'!I82","v":0},{"$f":"'Zał. nr 2 kalkulacja - 2026 r.'!J82","v":0},{"$f":"'Zał. nr 2 kalkulacja - 2026 r.'!K82","v":0},{"$f":"'Zał. nr 2 kalkulacja - 2026 r.'!L82","v":0},{"$f":"'Zał. nr 2 kalkulacja - 2026 r.'!M82","v":0},{"$f":"'Zał. nr 2 kalkulacja - 2026 r.'!N82","v":0}]
[{"$f":"'Wniosek 2026 r.'!A96","v":58},{"$f":"'Wniosek 2026 r.'!B96","v":0},{"$f":"'Wniosek 2026 r.'!E96","v":0},{"$f":"'Wniosek 2026 r.'!G96","v":0},{"$f":"'Wniosek 2026 r.'!C259","v":0},{"$f":"'Wniosek 2026 r.'!C569","v":0},{"$f":"'Wniosek 2026 r.'!C415","v":0},{"$f":"'Wniosek 2026 r.'!D415","v":0},{"$f":"'Wniosek 2026 r.'!F415","v":0},{"$f":"'Wniosek 2026 r.'!H415","v":0},{"$f":"'Wniosek 2026 r.'!C724","v":0},58,"","",0,"",0,0,0,0,0,0,0,0,"ok","ok",0,0,{"$f":"'Zał. nr 2 kalkulacja - 2026 r.'!C83","v":0},{"$f":"'Zał. nr 2 kalkulacja - 2026 r.'!D83","v":0},{"$f":"'Zał. nr 2 kalkulacja - 2026 r.'!E83","v":0},{"$f":"'Zał. nr 2 kalkulacja - 2026 r.'!F83","v":0},{"$f":"'Zał. nr 2 kalkulacja - 2026 r.'!G83","v":0},{"$f":"'Zał. nr 2 kalkulacja - 2026 r.'!H83","v":0},{"$f":"'Zał. nr 2 kalkulacja - 2026 r.'!I83","v":0},{"$f":"'Zał. nr 2 kalkulacja - 2026 r.'!J83","v":0},{"$f":"'Zał. nr 2 kalkulacja - 2026 r.'!K83","v":0},{"$f":"'Zał. nr 2 kalkulacja - 2026 r.'!L83","v":0},{"$f":"'Zał. nr 2 kalkulacja - 2026 r.'!M83","v":0},{"$f":"'Zał. nr 2 kalkulacja - 2026 r.'!N83","v":0}]
[{"$f":"'Wniosek 2026 r.'!A97","v":59},{"$f":"'Wniosek 2026 r.'!B97","v":0},{"$f":"'Wniosek 2026 r.'!E97","v":0},{"$f":"'Wniosek 2026 r.'!G97","v":0},{"$f":"'Wniosek 2026 r.'!C260","v":0},{"$f":"'Wniosek 2026 r.'!C570","v":0},{"$f":"'Wniosek 2026 r.'!C416","v":0},{"$f":"'Wniosek 2026 r.'!D416","v":0},{"$f":"'Wniosek 2026 r.'!F416","v":0},{"$f":"'Wniosek 2026 r.'!H416","v":0},{"$f":"'Wniosek 2026 r.'!C725","v":0},59,"","",0,"",0,0,0,0,0,0,0,0,"ok","ok",0,0,{"$f":"'Zał. nr 2 kalkulacja - 2026 r.'!C84","v":0},{"$f":"'Zał. nr 2 kalkulacja - 2026 r.'!D84","v":0},{"$f":"'Zał. nr 2 kalkulacja - 2026 r.'!E84","v":0},{"$f":"'Zał. nr 2 kalkulacja - 2026 r.'!F84","v":0},{"$f":"'Zał. nr 2 kalkulacja - 2026 r.'!G84","v":0},{"$f":"'Zał. nr 2 kalkulacja - 2026 r.'!H84","v":0},{"$f":"'Zał. nr 2 kalkulacja - 2026 r.'!I84","v":0},{"$f":"'Zał. nr 2 kalkulacja - 2026 r.'!J84","v":0},{"$f":"'Zał. nr 2 kalkulacja - 2026 r.'!K84","v":0},{"$f":"'Zał. nr 2 kalkulacja - 2026 r.'!L84","v":0},{"$f":"'Zał. nr 2 kalkulacja - 2026 r.'!M84","v":0},{"$f":"'Zał. nr 2 kalkulacja - 2026 r.'!N84","v":0}]
[{"$f":"'Wniosek 2026 r.'!A98","v":60},{"$f":"'Wniosek 2026 r.'!B98","v":0},{"$f":"'Wniosek 2026 r.'!E98","v":0},{"$f":"'Wniosek 2026 r.'!G98","v":0},{"$f":"'Wniosek 2026 r.'!C261","v":0},{"$f":"'Wniosek 2026 r.'!C571","v":0},{"$f":"'Wniosek 2026 r.'!C417","v":0},{"$f":"'Wniosek 2026 r.'!D417","v":0},{"$f":"'Wniosek 2026 r.'!F417","v":0},{"$f":"'Wniosek 2026 r.'!H417","v":0},{"$f":"'Wniosek 2026 r.'!C726","v":0},60,"","",0,"",0,0,0,0,0,0,0,0,"ok","ok",0,0,{"$f":"'Zał. nr 2 kalkulacja - 2026 r.'!C85","v":0},{"$f":"'Zał. nr 2 kalkulacja - 2026 r.'!D85","v":0},{"$f":"'Zał. nr 2 kalkulacja - 2026 r.'!E85","v":0},{"$f":"'Zał. nr 2 kalkulacja - 2026 r.'!F85","v":0},{"$f":"'Zał. nr 2 kalkulacja - 2026 r.'!G85","v":0},{"$f":"'Zał. nr 2 kalkulacja - 2026 r.'!H85","v":0},{"$f":"'Zał. nr 2 kalkulacja - 2026 r.'!I85","v":0},{"$f":"'Zał. nr 2 kalkulacja - 2026 r.'!J85","v":0},{"$f":"'Zał. nr 2 kalkulacja - 2026 r.'!K85","v":0},{"$f":"'Zał. nr 2 kalkulacja - 2026 r.'!L85","v":0},{"$f":"'Zał. nr 2 kalkulacja - 2026 r.'!M85","v":0},{"$f":"'Zał. nr 2 kalkulacja - 2026 r.'!N85","v":0}]
[{"$f":"'Wniosek 2026 r.'!A99","v":61},{"$f":"'Wniosek 2026 r.'!B99","v":0},{"$f":"'Wniosek 2026 r.'!E99","v":0},{"$f":"'Wniosek 2026 r.'!G99","v":0},{"$f":"'Wniosek 2026 r.'!C262","v":0},{"$f":"'Wniosek 2026 r.'!C572","v":0},{"$f":"'Wniosek 2026 r.'!C418","v":0},{"$f":"'Wniosek 2026 r.'!D418","v":0},{"$f":"'Wniosek 2026 r.'!F418","v":0},{"$f":"'Wniosek 2026 r.'!H418","v":0},{"$f":"'Wniosek 2026 r.'!C727","v":0},61,"","",0,"",0,0,0,0,0,0,0,0,"ok","ok",0,0,{"$f":"'Zał. nr 2 kalkulacja - 2026 r.'!C86","v":0},{"$f":"'Zał. nr 2 kalkulacja - 2026 r.'!D86","v":0},{"$f":"'Zał. nr 2 kalkulacja - 2026 r.'!E86","v":0},{"$f":"'Zał. nr 2 kalkulacja - 2026 r.'!F86","v":0},{"$f":"'Zał. nr 2 kalkulacja - 2026 r.'!G86","v":0},{"$f":"'Zał. nr 2 kalkulacja - 2026 r.'!H86","v":0},{"$f":"'Zał. nr 2 kalkulacja - 2026 r.'!I86","v":0},{"$f":"'Zał. nr 2 kalkulacja - 2026 r.'!J86","v":0},{"$f":"'Zał. nr 2 kalkulacja - 2026 r.'!K86","v":0},{"$f":"'Zał. nr 2 kalkulacja - 2026 r.'!L86","v":0},{"$f":"'Zał. nr 2 kalkulacja - 2026 r.'!M86","v":0},{"$f":"'Zał. nr 2 kalkulacja - 2026 r.'!N86","v":0}]
[{"$f":"'Wniosek 2026 r.'!A100","v":62},{"$f":"'Wniosek 2026 r.'!B100","v":0},{"$f":"'Wniosek 2026 r.'!E100","v":0},{"$f":"'Wniosek 2026 r.'!G100","v":0},{"$f":"'Wniosek 2026 r.'!C263","v":0},{"$f":"'Wniosek 2026 r.'!C573","v":0},{"$f":"'Wniosek 2026 r.'!C419","v":0},{"$f":"'Wniosek 2026 r.'!D419","v":0},{"$f":"'Wniosek 2026 r.'!F419","v":0},{"$f":"'Wniosek 2026 r.'!H419","v":0},{"$f":"'Wniosek 2026 r.'!C728","v":0},62,"","",0,"",0,0,0,0,0,0,0,0,"ok","ok",0,0,{"$f":"'Zał. nr 2 kalkulacja - 2026 r.'!C87","v":0},{"$f":"'Zał. nr 2 kalkulacja - 2026 r.'!D87","v":0},{"$f":"'Zał. nr 2 kalkulacja - 2026 r.'!E87","v":0},{"$f":"'Zał. nr 2 kalkulacja - 2026 r.'!F87","v":0},{"$f":"'Zał. nr 2 kalkulacja - 2026 r.'!G87","v":0},{"$f":"'Zał. nr 2 kalkulacja - 2026 r.'!H87","v":0},{"$f":"'Zał. nr 2 kalkulacja - 2026 r.'!I87","v":0},{"$f":"'Zał. nr 2 kalkulacja - 2026 r.'!J87","v":0},{"$f":"'Zał. nr 2 kalkulacja - 2026 r.'!K87","v":0},{"$f":"'Zał. nr 2 kalkulacja - 2026 r.'!L87","v":0},{"$f":"'Zał. nr 2 kalkulacja - 2026 r.'!M87","v":0},{"$f":"'Zał. nr 2 kalkulacja - 2026 r.'!N87","v":0}]
[{"$f":"'Wniosek 2026 r.'!A101","v":63},{"$f":"'Wniosek 2026 r.'!B101","v":0},{"$f":"'Wniosek 2026 r.'!E101","v":0},{"$f":"'Wniosek 2026 r.'!G101","v":0},{"$f":"'Wniosek 2026 r.'!C264","v":0},{"$f":"'Wniosek 2026 r.'!C574","v":0},{"$f":"'Wniosek 2026 r.'!C420","v":0},{"$f":"'Wniosek 2026 r.'!D420","v":0},{"$f":"'Wniosek 2026 r.'!F420","v":0},{"$f":"'Wniosek 2026 r.'!H420","v":0},{"$f":"'Wniosek 2026 r.'!C729","v":0},63,"","",0,"",0,0,0,0,0,0,0,0,"ok","ok",0,0,{"$f":"'Zał. nr 2 kalkulacja - 2026 r.'!C88","v":0},{"$f":"'Zał. nr 2 kalkulacja - 2026 r.'!D88","v":0},{"$f":"'Zał. nr 2 kalkulacja - 2026 r.'!E88","v":0},{"$f":"'Zał. nr 2 kalkulacja - 2026 r.'!F88","v":0},{"$f":"'Zał. nr 2 kalkulacja - 2026 r.'!G88","v":0},{"$f":"'Zał. nr 2 kalkulacja - 2026 r.'!H88","v":0},{"$f":"'Zał. nr 2 kalkulacja - 2026 r.'!I88","v":0},{"$f":"'Zał. nr 2 kalkulacja - 2026 r.'!J88","v":0},{"$f":"'Zał. nr 2 kalkulacja - 2026 r.'!K88","v":0},{"$f":"'Zał. nr 2 kalkulacja - 2026 r.'!L88","v":0},{"$f":"'Zał. nr 2 kalkulacja - 2026 r.'!M88","v":0},{"$f":"'Zał. nr 2 kalkulacja - 2026 r.'!N88","v":0}]
[{"$f":"'Wniosek 2026 r.'!A102","v":64},{"$f":"'Wniosek 2026 r.'!B102","v":0},{"$f":"'Wniosek 2026 r.'!E102","v":0},{"$f":"'Wniosek 2026 r.'!G102","v":0},{"$f":"'Wniosek 2026 r.'!C265","v":0},{"$f":"'Wniosek 2026 r.'!C575","v":0},{"$f":"'Wniosek 2026 r.'!C421","v":0},{"$f":"'Wniosek 2026 r.'!D421","v":0},{"$f":"'Wniosek 2026 r.'!F421","v":0},{"$f":"'Wniosek 2026 r.'!H421","v":0},{"$f":"'Wniosek 2026 r.'!C730","v":0},{"$f":"A65","v":64},"","",0,"",0,0,0,0,0,0,0,0,"ok","ok",0,0,{"$f":"'Zał. nr 2 kalkulacja - 2026 r.'!C89","v":0},{"$f":"'Zał. nr 2 kalkulacja - 2026 r.'!D89","v":0},{"$f":"'Zał. nr 2 kalkulacja - 2026 r.'!E89","v":0},{"$f":"'Zał. nr 2 kalkulacja - 2026 r.'!F89","v":0},{"$f":"'Zał. nr 2 kalkulacja - 2026 r.'!G89","v":0},{"$f":"'Zał. nr 2 kalkulacja - 2026 r.'!H89","v":0},{"$f":"'Zał. nr 2 kalkulacja - 2026 r.'!I89","v":0},{"$f":"'Zał. nr 2 kalkulacja - 2026 r.'!J89","v":0},{"$f":"'Zał. nr 2 kalkulacja - 2026 r.'!K89","v":0},{"$f":"'Zał. nr 2 kalkulacja - 2026 r.'!L89","v":0},{"$f":"'Zał. nr 2 kalkulacja - 2026 r.'!M89","v":0},{"$f":"'Zał. nr 2 kalkulacja - 2026 r.'!N89","v":0}]
[{"$f":"'Wniosek 2026 r.'!A103","v":65},{"$f":"'Wniosek 2026 r.'!B103","v":0},{"$f":"'Wniosek 2026 r.'!E103","v":0},{"$f":"'Wniosek 2026 r.'!G103","v":0},{"$f":"'Wniosek 2026 r.'!C266","v":0},{"$f":"'Wniosek 2026 r.'!C576","v":0},{"$f":"'Wniosek 2026 r.'!C422","v":0},{"$f":"'Wniosek 2026 r.'!D422","v":0},{"$f":"'Wniosek 2026 r.'!F422","v":0},{"$f":"'Wniosek 2026 r.'!H422","v":0},{"$f":"'Wniosek 2026 r.'!C731","v":0},65,{"$f":"IFERROR(E66/C66,\"\")","v":""},{"$f":"IFERROR(F66/E66,\"\")","v":""},{"$f":"H66","v":0},"",{"$f":"O66*E66","v":0},{"$f":"G66*E66","v":0},{"$f":"IFERROR(U66*E66,0)","v":0},{"$f":"IFERROR(U66*E66,0)","v":0},{"$f":"IFERROR(IF((F66-J66)/E66>=$AP$2,$AP$2,(F66-J66)/E66),0)","v":0},{"$f":"IFERROR(K66/E66,0)","v":0},{"$f":"F66*0.1","v":0},0,{"$f":"IF(O66>=X66,$AQ$1,$AQ$2)","v":"ok"},{"$f":"IF(V66<=$AP$2,$AQ$1,$AQ$2)","v":"ok"},{"$f":"(S66+Q66)-F66","v":0},{"$f":"F66-R66","v":0},{"$f":"'Zał. nr 2 kalkulacja - 2026 r.'!C90","v":0},{"$f":"'Zał. nr 2 kalkulacja - 2026 r.'!D90","v":0},{"$f":"'Zał. nr 2 kalkulacja - 2026 r.'!E90","v":0},{"$f":"'Zał. nr 2 kalkulacja - 2026 r.'!F90","v":0},{"$f":"'Zał. nr 2 kalkulacja - 2026 r.'!G90","v":0},{"$f":"'Zał. nr 2 kalkulacja - 2026 r.'!H90","v":0},{"$f":"'Zał. nr 2 kalkulacja - 2026 r.'!I90","v":0},{"$f":"'Zał. nr 2 kalkulacja - 2026 r.'!J90","v":0},{"$f":"'Zał. nr 2 kalkulacja - 2026 r.'!K90","v":0},{"$f":"'Zał. nr 2 kalkulacja - 2026 r.'!L90","v":0},{"$f":"'Zał. nr 2 kalkulacja - 2026 r.'!M90","v":0},{"$f":"'Zał. nr 2 kalkulacja - 2026 r.'!N90","v":0}]
[{"$f":"'Wniosek 2026 r.'!A104","v":66},{"$f":"'Wniosek 2026 r.'!B104","v":0},{"$f":"'Wniosek 2026 r.'!E104","v":0},{"$f":"'Wniosek 2026 r.'!G104","v":0},{"$f":"'Wniosek 2026 r.'!C267","v":0},{"$f":"'Wniosek 2026 r.'!C577","v":0},{"$f":"'Wniosek 2026 r.'!C423","v":0},{"$f":"'Wniosek 2026 r.'!D423","v":0},{"$f":"'Wniosek 2026 r.'!F423","v":0},{"$f":"'Wniosek 2026 r.'!H423","v":0},{"$f":"'Wniosek 2026 r.'!C732","v":0},66,"","",0,{"$f":"IFERROR(O67/N67,\"\")","v":""},0,0,0,0,0,0,0,{"$f":"IFERROR(N67*0.1,0)","v":0},"ok","ok",0,0,{"$f":"'Zał. nr 2 kalkulacja - 2026 r.'!C91","v":0},{"$f":"'Zał. nr 2 kalkulacja - 2026 r.'!D91","v":0},{"$f":"'Zał. nr 2 kalkulacja - 2026 r.'!E91","v":0},{"$f":"'Zał. nr 2 kalkulacja - 2026 r.'!F91","v":0},{"$f":"'Zał. nr 2 kalkulacja - 2026 r.'!G91","v":0},{"$f":"'Zał. nr 2 kalkulacja - 2026 r.'!H91","v":0},{"$f":"'Zał. nr 2 kalkulacja - 2026 r.'!I91","v":0},{"$f":"'Zał. nr 2 kalkulacja - 2026 r.'!J91","v":0},{"$f":"'Zał. nr 2 kalkulacja - 2026 r.'!K91","v":0},{"$f":"'Zał. nr 2 kalkulacja - 2026 r.'!L91","v":0},{"$f":"'Zał. nr 2 kalkulacja - 2026 r.'!M91","v":0},{"$f":"'Zał. nr 2 kalkulacja - 2026 r.'!N91","v":0}]
[{"$f":"'Wniosek 2026 r.'!A105","v":67},{"$f":"'Wniosek 2026 r.'!B105","v":0},{"$f":"'Wniosek 2026 r.'!E105","v":0},{"$f":"'Wniosek 2026 r.'!G105","v":0},{"$f":"'Wniosek 2026 r.'!C268","v":0},{"$f":"'Wniosek 2026 r.'!C578","v":0},{"$f":"'Wniosek 2026 r.'!C424","v":0},{"$f":"'Wniosek 2026 r.'!D424","v":0},{"$f":"'Wniosek 2026 r.'!F424","v":0},{"$f":"'Wniosek 2026 r.'!H424","v":0},{"$f":"'Wniosek 2026 r.'!C733","v":0},67,"","",0,"",0,0,0,0,0,0,0,0,"ok","ok",0,0,{"$f":"'Zał. nr 2 kalkulacja - 2026 r.'!C92","v":0},{"$f":"'Zał. nr 2 kalkulacja - 2026 r.'!D92","v":0},{"$f":"'Zał. nr 2 kalkulacja - 2026 r.'!E92","v":0},{"$f":"'Zał. nr 2 kalkulacja - 2026 r.'!F92","v":0},{"$f":"'Zał. nr 2 kalkulacja - 2026 r.'!G92","v":0},{"$f":"'Zał. nr 2 kalkulacja - 2026 r.'!H92","v":0},{"$f":"'Zał. nr 2 kalkulacja - 2026 r.'!I92","v":0},{"$f":"'Zał. nr 2 kalkulacja - 2026 r.'!J92","v":0},{"$f":"'Zał. nr 2 kalkulacja - 2026 r.'!K92","v":0},{"$f":"'Zał. nr 2 kalkulacja - 2026 r.'!L92","v":0},{"$f":"'Zał. nr 2 kalkulacja - 2026 r.'!M92","v":0},{"$f":"'Zał. nr 2 kalkulacja - 2026 r.'!N92","v":0}]
[{"$f":"'Wniosek 2026 r.'!A106","v":68},{"$f":"'Wniosek 2026 r.'!B106","v":0},{"$f":"'Wniosek 2026 r.'!E106","v":0},{"$f":"'Wniosek 2026 r.'!G106","v":0},{"$f":"'Wniosek 2026 r.'!C269","v":0},{"$f":"'Wniosek 2026 r.'!C579","v":0},{"$f":"'Wniosek 2026 r.'!C425","v":0},{"$f":"'Wniosek 2026 r.'!D425","v":0},{"$f":"'Wniosek 2026 r.'!F425","v":0},{"$f":"'Wniosek 2026 r.'!H425","v":0},{"$f":"'Wniosek 2026 r.'!C734","v":0},68,"","",0,"",0,0,0,0,0,0,0,0,"ok","ok",0,0,{"$f":"'Zał. nr 2 kalkulacja - 2026 r.'!C93","v":0},{"$f":"'Zał. nr 2 kalkulacja - 2026 r.'!D93","v":0},{"$f":"'Zał. nr 2 kalkulacja - 2026 r.'!E93","v":0},{"$f":"'Zał. nr 2 kalkulacja - 2026 r.'!F93","v":0},{"$f":"'Zał. nr 2 kalkulacja - 2026 r.'!G93","v":0},{"$f":"'Zał. nr 2 kalkulacja - 2026 r.'!H93","v":0},{"$f":"'Zał. nr 2 kalkulacja - 2026 r.'!I93","v":0},{"$f":"'Zał. nr 2 kalkulacja - 2026 r.'!J93","v":0},{"$f":"'Zał. nr 2 kalkulacja - 2026 r.'!K93","v":0},{"$f":"'Zał. nr 2 kalkulacja - 2026 r.'!L93","v":0},{"$f":"'Zał. nr 2 kalkulacja - 2026 r.'!M93","v":0},{"$f":"'Zał. nr 2 kalkulacja - 2026 r.'!N93","v":0}]
[{"$f":"'Wniosek 2026 r.'!A107","v":69},{"$f":"'Wniosek 2026 r.'!B107","v":0},{"$f":"'Wniosek 2026 r.'!E107","v":0},{"$f":"'Wniosek 2026 r.'!G107","v":0},{"$f":"'Wniosek 2026 r.'!C270","v":0},{"$f":"'Wniosek 2026 r.'!C580","v":0},{"$f":"'Wniosek 2026 r.'!C426","v":0},{"$f":"'Wniosek 2026 r.'!D426","v":0},{"$f":"'Wniosek 2026 r.'!F426","v":0},{"$f":"'Wniosek 2026 r.'!H426","v":0},{"$f":"'Wniosek 2026 r.'!C735","v":0},69,"","",0,"",0,0,0,0,0,0,0,0,"ok","ok",0,0,{"$f":"'Zał. nr 2 kalkulacja - 2026 r.'!C94","v":0},{"$f":"'Zał. nr 2 kalkulacja - 2026 r.'!D94","v":0},{"$f":"'Zał. nr 2 kalkulacja - 2026 r.'!E94","v":0},{"$f":"'Zał. nr 2 kalkulacja - 2026 r.'!F94","v":0},{"$f":"'Zał. nr 2 kalkulacja - 2026 r.'!G94","v":0},{"$f":"'Zał. nr 2 kalkulacja - 2026 r.'!H94","v":0},{"$f":"'Zał. nr 2 kalkulacja - 2026 r.'!I94","v":0},{"$f":"'Zał. nr 2 kalkulacja - 2026 r.'!J94","v":0},{"$f":"'Zał. nr 2 kalkulacja - 2026 r.'!K94","v":0},{"$f":"'Zał. nr 2 kalkulacja - 2026 r.'!L94","v":0},{"$f":"'Zał. nr 2 kalkulacja - 2026 r.'!M94","v":0},{"$f":"'Zał. nr 2 kalkulacja - 2026 r.'!N94","v":0}]
[{"$f":"'Wniosek 2026 r.'!A108","v":70},{"$f":"'Wniosek 2026 r.'!B108","v":0},{"$f":"'Wniosek 2026 r.'!E108","v":0},{"$f":"'Wniosek 2026 r.'!G108","v":0},{"$f":"'Wniosek 2026 r.'!C271","v":0},{"$f":"'Wniosek 2026 r.'!C581","v":0},{"$f":"'Wniosek 2026 r.'!C427","v":0},{"$f":"'Wniosek 2026 r.'!D427","v":0},{"$f":"'Wniosek 2026 r.'!F427","v":0},{"$f":"'Wniosek 2026 r.'!H427","v":0},{"$f":"'Wniosek 2026 r.'!C736","v":0},70,"","",0,"",0,0,0,0,0,0,0,0,"ok","ok",0,0,{"$f":"'Zał. nr 2 kalkulacja - 2026 r.'!C95","v":0},{"$f":"'Zał. nr 2 kalkulacja - 2026 r.'!D95","v":0},{"$f":"'Zał. nr 2 kalkulacja - 2026 r.'!E95","v":0},{"$f":"'Zał. nr 2 kalkulacja - 2026 r.'!F95","v":0},{"$f":"'Zał. nr 2 kalkulacja - 2026 r.'!G95","v":0},{"$f":"'Zał. nr 2 kalkulacja - 2026 r.'!H95","v":0},{"$f":"'Zał. nr 2 kalkulacja - 2026 r.'!I95","v":0},{"$f":"'Zał. nr 2 kalkulacja - 2026 r.'!J95","v":0},{"$f":"'Zał. nr 2 kalkulacja - 2026 r.'!K95","v":0},{"$f":"'Zał. nr 2 kalkulacja - 2026 r.'!L95","v":0},{"$f":"'Zał. nr 2 kalkulacja - 2026 r.'!M95","v":0},{"$f":"'Zał. nr 2 kalkulacja - 2026 r.'!N95","v":0}]
[{"$f":"'Wniosek 2026 r.'!A109","v":71},{"$f":"'Wniosek 2026 r.'!B109","v":0},{"$f":"'Wniosek 2026 r.'!E109","v":0},{"$f":"'Wniosek 2026 r.'!G109","v":0},{"$f":"'Wniosek 2026 r.'!C272","v":0},{"$f":"'Wniosek 2026 r.'!C582","v":0},{"$f":"'Wniosek 2026 r.'!C428","v":0},{"$f":"'Wniosek 2026 r.'!D428","v":0},{"$f":"'Wniosek 2026 r.'!F428","v":0},{"$f":"'Wniosek 2026 r.'!H428","v":0},{"$f":"'Wniosek 2026 r.'!C737","v":0},71,"","",0,"",0,0,0,0,0,0,0,0,"ok","ok",0,0,{"$f":"'Zał. nr 2 kalkulacja - 2026 r.'!C96","v":0},{"$f":"'Zał. nr 2 kalkulacja - 2026 r.'!D96","v":0},{"$f":"'Zał. nr 2 kalkulacja - 2026 r.'!E96","v":0},{"$f":"'Zał. nr 2 kalkulacja - 2026 r.'!F96","v":0},{"$f":"'Zał. nr 2 kalkulacja - 2026 r.'!G96","v":0},{"$f":"'Zał. nr 2 kalkulacja - 2026 r.'!H96","v":0},{"$f":"'Zał. nr 2 kalkulacja - 2026 r.'!I96","v":0},{"$f":"'Zał. nr 2 kalkulacja - 2026 r.'!J96","v":0},{"$f":"'Zał. nr 2 kalkulacja - 2026 r.'!K96","v":0},{"$f":"'Zał. nr 2 kalkulacja - 2026 r.'!L96","v":0},{"$f":"'Zał. nr 2 kalkulacja - 2026 r.'!M96","v":0},{"$f":"'Zał. nr 2 kalkulacja - 2026 r.'!N96","v":0}]
[{"$f":"'Wniosek 2026 r.'!A110","v":72},{"$f":"'Wniosek 2026 r.'!B110","v":0},{"$f":"'Wniosek 2026 r.'!E110","v":0},{"$f":"'Wniosek 2026 r.'!G110","v":0},{"$f":"'Wniosek 2026 r.'!C273","v":0},{"$f":"'Wniosek 2026 r.'!C583","v":0},{"$f":"'Wniosek 2026 r.'!C429","v":0},{"$f":"'Wniosek 2026 r.'!D429","v":0},{"$f":"'Wniosek 2026 r.'!F429","v":0},{"$f":"'Wniosek 2026 r.'!H429","v":0},{"$f":"'Wniosek 2026 r.'!C738","v":0},72,"","",0,"",0,0,0,0,0,0,0,0,"ok","ok",0,0,{"$f":"'Zał. nr 2 kalkulacja - 2026 r.'!C97","v":0},{"$f":"'Zał. nr 2 kalkulacja - 2026 r.'!D97","v":0},{"$f":"'Zał. nr 2 kalkulacja - 2026 r.'!E97","v":0},{"$f":"'Zał. nr 2 kalkulacja - 2026 r.'!F97","v":0},{"$f":"'Zał. nr 2 kalkulacja - 2026 r.'!G97","v":0},{"$f":"'Zał. nr 2 kalkulacja - 2026 r.'!H97","v":0},{"$f":"'Zał. nr 2 kalkulacja - 2026 r.'!I97","v":0},{"$f":"'Zał. nr 2 kalkulacja - 2026 r.'!J97","v":0},{"$f":"'Zał. nr 2 kalkulacja - 2026 r.'!K97","v":0},{"$f":"'Zał. nr 2 kalkulacja - 2026 r.'!L97","v":0},{"$f":"'Zał. nr 2 kalkulacja - 2026 r.'!M97","v":0},{"$f":"'Zał. nr 2 kalkulacja - 2026 r.'!N97","v":0}]
[{"$f":"'Wniosek 2026 r.'!A111","v":73},{"$f":"'Wniosek 2026 r.'!B111","v":0},{"$f":"'Wniosek 2026 r.'!E111","v":0},{"$f":"'Wniosek 2026 r.'!G111","v":0},{"$f":"'Wniosek 2026 r.'!C274","v":0},{"$f":"'Wniosek 2026 r.'!C584","v":0},{"$f":"'Wniosek 2026 r.'!C430","v":0},{"$f":"'Wniosek 2026 r.'!D430","v":0},{"$f":"'Wniosek 2026 r.'!F430","v":0},{"$f":"'Wniosek 2026 r.'!H430","v":0},{"$f":"'Wniosek 2026 r.'!C739","v":0},73,"","",0,"",0,0,0,0,0,0,0,0,"ok","ok",0,0,{"$f":"'Zał. nr 2 kalkulacja - 2026 r.'!C98","v":0},{"$f":"'Zał. nr 2 kalkulacja - 2026 r.'!D98","v":0},{"$f":"'Zał. nr 2 kalkulacja - 2026 r.'!E98","v":0},{"$f":"'Zał. nr 2 kalkulacja - 2026 r.'!F98","v":0},{"$f":"'Zał. nr 2 kalkulacja - 2026 r.'!G98","v":0},{"$f":"'Zał. nr 2 kalkulacja - 2026 r.'!H98","v":0},{"$f":"'Zał. nr 2 kalkulacja - 2026 r.'!I98","v":0},{"$f":"'Zał. nr 2 kalkulacja - 2026 r.'!J98","v":0},{"$f":"'Zał. nr 2 kalkulacja - 2026 r.'!K98","v":0},{"$f":"'Zał. nr 2 kalkulacja - 2026 r.'!L98","v":0},{"$f":"'Zał. nr 2 kalkulacja - 2026 r.'!M98","v":0},{"$f":"'Zał. nr 2 kalkulacja - 2026 r.'!N98","v":0}]
[{"$f":"'Wniosek 2026 r.'!A112","v":74},{"$f":"'Wniosek 2026 r.'!B112","v":0},{"$f":"'Wniosek 2026 r.'!E112","v":0},{"$f":"'Wniosek 2026 r.'!G112","v":0},{"$f":"'Wniosek 2026 r.'!C275","v":0},{"$f":"'Wniosek 2026 r.'!C585","v":0},{"$f":"'Wniosek 2026 r.'!C431","v":0},{"$f":"'Wniosek 2026 r.'!D431","v":0},{"$f":"'Wniosek 2026 r.'!F431","v":0},{"$f":"'Wniosek 2026 r.'!H431","v":0},{"$f":"'Wniosek 2026 r.'!C740","v":0},74,"","",0,"",0,0,0,0,0,0,0,0,"ok","ok",0,0,{"$f":"'Zał. nr 2 kalkulacja - 2026 r.'!C99","v":0},{"$f":"'Zał. nr 2 kalkulacja - 2026 r.'!D99","v":0},{"$f":"'Zał. nr 2 kalkulacja - 2026 r.'!E99","v":0},{"$f":"'Zał. nr 2 kalkulacja - 2026 r.'!F99","v":0},{"$f":"'Zał. nr 2 kalkulacja - 2026 r.'!G99","v":0},{"$f":"'Zał. nr 2 kalkulacja - 2026 r.'!H99","v":0},{"$f":"'Zał. nr 2 kalkulacja - 2026 r.'!I99","v":0},{"$f":"'Zał. nr 2 kalkulacja - 2026 r.'!J99","v":0},{"$f":"'Zał. nr 2 kalkulacja - 2026 r.'!K99","v":0},{"$f":"'Zał. nr 2 kalkulacja - 2026 r.'!L99","v":0},{"$f":"'Zał. nr 2 kalkulacja - 2026 r.'!M99","v":0},{"$f":"'Zał. nr 2 kalkulacja - 2026 r.'!N99","v":0}]
[{"$f":"'Wniosek 2026 r.'!A113","v":75},{"$f":"'Wniosek 2026 r.'!B113","v":0},{"$f":"'Wniosek 2026 r.'!E113","v":0},{"$f":"'Wniosek 2026 r.'!G113","v":0},{"$f":"'Wniosek 2026 r.'!C276","v":0},{"$f":"'Wniosek 2026 r.'!C586","v":0},{"$f":"'Wniosek 2026 r.'!C432","v":0},{"$f":"'Wniosek 2026 r.'!D432","v":0},{"$f":"'Wniosek 2026 r.'!F432","v":0},{"$f":"'Wniosek 2026 r.'!H432","v":0},{"$f":"'Wniosek 2026 r.'!C741","v":0},75,"","",0,"",0,0,0,0,0,0,0,0,"ok","ok",0,0,{"$f":"'Zał. nr 2 kalkulacja - 2026 r.'!C100","v":0},{"$f":"'Zał. nr 2 kalkulacja - 2026 r.'!D100","v":0},{"$f":"'Zał. nr 2 kalkulacja - 2026 r.'!E100","v":0},{"$f":"'Zał. nr 2 kalkulacja - 2026 r.'!F100","v":0},{"$f":"'Zał. nr 2 kalkulacja - 2026 r.'!G100","v":0},{"$f":"'Zał. nr 2 kalkulacja - 2026 r.'!H100","v":0},{"$f":"'Zał. nr 2 kalkulacja - 2026 r.'!I100","v":0},{"$f":"'Zał. nr 2 kalkulacja - 2026 r.'!J100","v":0},{"$f":"'Zał. nr 2 kalkulacja - 2026 r.'!K100","v":0},{"$f":"'Zał. nr 2 kalkulacja - 2026 r.'!L100","v":0},{"$f":"'Zał. nr 2 kalkulacja - 2026 r.'!M100","v":0},{"$f":"'Zał. nr 2 kalkulacja - 2026 r.'!N100","v":0}]
[{"$f":"'Wniosek 2026 r.'!A114","v":76},{"$f":"'Wniosek 2026 r.'!B114","v":0},{"$f":"'Wniosek 2026 r.'!E114","v":0},{"$f":"'Wniosek 2026 r.'!G114","v":0},{"$f":"'Wniosek 2026 r.'!C277","v":0},{"$f":"'Wniosek 2026 r.'!C587","v":0},{"$f":"'Wniosek 2026 r.'!C433","v":0},{"$f":"'Wniosek 2026 r.'!D433","v":0},{"$f":"'Wniosek 2026 r.'!F433","v":0},{"$f":"'Wniosek 2026 r.'!H433","v":0},{"$f":"'Wniosek 2026 r.'!C742","v":0},76,"","",0,"",0,0,0,0,0,0,0,0,"ok","ok",0,0,{"$f":"'Zał. nr 2 kalkulacja - 2026 r.'!C101","v":0},{"$f":"'Zał. nr 2 kalkulacja - 2026 r.'!D101","v":0},{"$f":"'Zał. nr 2 kalkulacja - 2026 r.'!E101","v":0},{"$f":"'Zał. nr 2 kalkulacja - 2026 r.'!F101","v":0},{"$f":"'Zał. nr 2 kalkulacja - 2026 r.'!G101","v":0},{"$f":"'Zał. nr 2 kalkulacja - 2026 r.'!H101","v":0},{"$f":"'Zał. nr 2 kalkulacja - 2026 r.'!I101","v":0},{"$f":"'Zał. nr 2 kalkulacja - 2026 r.'!J101","v":0},{"$f":"'Zał. nr 2 kalkulacja - 2026 r.'!K101","v":0},{"$f":"'Zał. nr 2 kalkulacja - 2026 r.'!L101","v":0},{"$f":"'Zał. nr 2 kalkulacja - 2026 r.'!M101","v":0},{"$f":"'Zał. nr 2 kalkulacja - 2026 r.'!N101","v":0}]
[{"$f":"'Wniosek 2026 r.'!A115","v":77},{"$f":"'Wniosek 2026 r.'!B115","v":0},{"$f":"'Wniosek 2026 r.'!E115","v":0},{"$f":"'Wniosek 2026 r.'!G115","v":0},{"$f":"'Wniosek 2026 r.'!C278","v":0},{"$f":"'Wniosek 2026 r.'!C588","v":0},{"$f":"'Wniosek 2026 r.'!C434","v":0},{"$f":"'Wniosek 2026 r.'!D434","v":0},{"$f":"'Wniosek 2026 r.'!F434","v":0},{"$f":"'Wniosek 2026 r.'!H434","v":0},{"$f":"'Wniosek 2026 r.'!C743","v":0},77,"","",0,"",0,0,0,0,0,0,0,0,"ok","ok",0,0,{"$f":"'Zał. nr 2 kalkulacja - 2026 r.'!C102","v":0},{"$f":"'Zał. nr 2 kalkulacja - 2026 r.'!D102","v":0},{"$f":"'Zał. nr 2 kalkulacja - 2026 r.'!E102","v":0},{"$f":"'Zał. nr 2 kalkulacja - 2026 r.'!F102","v":0},{"$f":"'Zał. nr 2 kalkulacja - 2026 r.'!G102","v":0},{"$f":"'Zał. nr 2 kalkulacja - 2026 r.'!H102","v":0},{"$f":"'Zał. nr 2 kalkulacja - 2026 r.'!I102","v":0},{"$f":"'Zał. nr 2 kalkulacja - 2026 r.'!J102","v":0},{"$f":"'Zał. nr 2 kalkulacja - 2026 r.'!K102","v":0},{"$f":"'Zał. nr 2 kalkulacja - 2026 r.'!L102","v":0},{"$f":"'Zał. nr 2 kalkulacja - 2026 r.'!M102","v":0},{"$f":"'Zał. nr 2 kalkulacja - 2026 r.'!N102","v":0}]
[{"$f":"'Wniosek 2026 r.'!A116","v":78},{"$f":"'Wniosek 2026 r.'!B116","v":0},{"$f":"'Wniosek 2026 r.'!E116","v":0},{"$f":"'Wniosek 2026 r.'!G116","v":0},{"$f":"'Wniosek 2026 r.'!C279","v":0},{"$f":"'Wniosek 2026 r.'!C589","v":0},{"$f":"'Wniosek 2026 r.'!C435","v":0},{"$f":"'Wniosek 2026 r.'!D435","v":0},{"$f":"'Wniosek 2026 r.'!F435","v":0},{"$f":"'Wniosek 2026 r.'!H435","v":0},{"$f":"'Wniosek 2026 r.'!C744","v":0},78,"","",0,"",0,0,0,0,0,0,0,0,"ok","ok",0,0,{"$f":"'Zał. nr 2 kalkulacja - 2026 r.'!C103","v":0},{"$f":"'Zał. nr 2 kalkulacja - 2026 r.'!D103","v":0},{"$f":"'Zał. nr 2 kalkulacja - 2026 r.'!E103","v":0},{"$f":"'Zał. nr 2 kalkulacja - 2026 r.'!F103","v":0},{"$f":"'Zał. nr 2 kalkulacja - 2026 r.'!G103","v":0},{"$f":"'Zał. nr 2 kalkulacja - 2026 r.'!H103","v":0},{"$f":"'Zał. nr 2 kalkulacja - 2026 r.'!I103","v":0},{"$f":"'Zał. nr 2 kalkulacja - 2026 r.'!J103","v":0},{"$f":"'Zał. nr 2 kalkulacja - 2026 r.'!K103","v":0},{"$f":"'Zał. nr 2 kalkulacja - 2026 r.'!L103","v":0},{"$f":"'Zał. nr 2 kalkulacja - 2026 r.'!M103","v":0},{"$f":"'Zał. nr 2 kalkulacja - 2026 r.'!N103","v":0}]
[{"$f":"'Wniosek 2026 r.'!A117","v":79},{"$f":"'Wniosek 2026 r.'!B117","v":0},{"$f":"'Wniosek 2026 r.'!E117","v":0},{"$f":"'Wniosek 2026 r.'!G117","v":0},{"$f":"'Wniosek 2026 r.'!C280","v":0},{"$f":"'Wniosek 2026 r.'!C590","v":0},{"$f":"'Wniosek 2026 r.'!C436","v":0},{"$f":"'Wniosek 2026 r.'!D436","v":0},{"$f":"'Wniosek 2026 r.'!F436","v":0},{"$f":"'Wniosek 2026 r.'!H436","v":0},{"$f":"'Wniosek 2026 r.'!C745","v":0},79,"","",0,"",0,0,0,0,0,0,0,0,"ok","ok",0,0,{"$f":"'Zał. nr 2 kalkulacja - 2026 r.'!C104","v":0},{"$f":"'Zał. nr 2 kalkulacja - 2026 r.'!D104","v":0},{"$f":"'Zał. nr 2 kalkulacja - 2026 r.'!E104","v":0},{"$f":"'Zał. nr 2 kalkulacja - 2026 r.'!F104","v":0},{"$f":"'Zał. nr 2 kalkulacja - 2026 r.'!G104","v":0},{"$f":"'Zał. nr 2 kalkulacja - 2026 r.'!H104","v":0},{"$f":"'Zał. nr 2 kalkulacja - 2026 r.'!I104","v":0},{"$f":"'Zał. nr 2 kalkulacja - 2026 r.'!J104","v":0},{"$f":"'Zał. nr 2 kalkulacja - 2026 r.'!K104","v":0},{"$f":"'Zał. nr 2 kalkulacja - 2026 r.'!L104","v":0},{"$f":"'Zał. nr 2 kalkulacja - 2026 r.'!M104","v":0},{"$f":"'Zał. nr 2 kalkulacja - 2026 r.'!N104","v":0}]
[{"$f":"'Wniosek 2026 r.'!A118","v":80},{"$f":"'Wniosek 2026 r.'!B118","v":0},{"$f":"'Wniosek 2026 r.'!E118","v":0},{"$f":"'Wniosek 2026 r.'!G118","v":0},{"$f":"'Wniosek 2026 r.'!C281","v":0},{"$f":"'Wniosek 2026 r.'!C591","v":0},{"$f":"'Wniosek 2026 r.'!C437","v":0},{"$f":"'Wniosek 2026 r.'!D437","v":0},{"$f":"'Wniosek 2026 r.'!F437","v":0},{"$f":"'Wniosek 2026 r.'!H437","v":0},{"$f":"'Wniosek 2026 r.'!C746","v":0},80,"","",0,"",0,0,0,0,0,0,0,0,"ok","ok",0,0,{"$f":"'Zał. nr 2 kalkulacja - 2026 r.'!C105","v":0},{"$f":"'Zał. nr 2 kalkulacja - 2026 r.'!D105","v":0},{"$f":"'Zał. nr 2 kalkulacja - 2026 r.'!E105","v":0},{"$f":"'Zał. nr 2 kalkulacja - 2026 r.'!F105","v":0},{"$f":"'Zał. nr 2 kalkulacja - 2026 r.'!G105","v":0},{"$f":"'Zał. nr 2 kalkulacja - 2026 r.'!H105","v":0},{"$f":"'Zał. nr 2 kalkulacja - 2026 r.'!I105","v":0},{"$f":"'Zał. nr 2 kalkulacja - 2026 r.'!J105","v":0},{"$f":"'Zał. nr 2 kalkulacja - 2026 r.'!K105","v":0},{"$f":"'Zał. nr 2 kalkulacja - 2026 r.'!L105","v":0},{"$f":"'Zał. nr 2 kalkulacja - 2026 r.'!M105","v":0},{"$f":"'Zał. nr 2 kalkulacja - 2026 r.'!N105","v":0}]
[{"$f":"'Wniosek 2026 r.'!A119","v":81},{"$f":"'Wniosek 2026 r.'!B119","v":0},{"$f":"'Wniosek 2026 r.'!E119","v":0},{"$f":"'Wniosek 2026 r.'!G119","v":0},{"$f":"'Wniosek 2026 r.'!C282","v":0},{"$f":"'Wniosek 2026 r.'!C592","v":0},{"$f":"'Wniosek 2026 r.'!C438","v":0},{"$f":"'Wniosek 2026 r.'!D438","v":0},{"$f":"'Wniosek 2026 r.'!F438","v":0},{"$f":"'Wniosek 2026 r.'!H438","v":0},{"$f":"'Wniosek 2026 r.'!C747","v":0},81,"","",0,"",0,0,0,0,0,0,0,0,"ok","ok",0,0,{"$f":"'Zał. nr 2 kalkulacja - 2026 r.'!C106","v":0},{"$f":"'Zał. nr 2 kalkulacja - 2026 r.'!D106","v":0},{"$f":"'Zał. nr 2 kalkulacja - 2026 r.'!E106","v":0},{"$f":"'Zał. nr 2 kalkulacja - 2026 r.'!F106","v":0},{"$f":"'Zał. nr 2 kalkulacja - 2026 r.'!G106","v":0},{"$f":"'Zał. nr 2 kalkulacja - 2026 r.'!H106","v":0},{"$f":"'Zał. nr 2 kalkulacja - 2026 r.'!I106","v":0},{"$f":"'Zał. nr 2 kalkulacja - 2026 r.'!J106","v":0},{"$f":"'Zał. nr 2 kalkulacja - 2026 r.'!K106","v":0},{"$f":"'Zał. nr 2 kalkulacja - 2026 r.'!L106","v":0},{"$f":"'Zał. nr 2 kalkulacja - 2026 r.'!M106","v":0},{"$f":"'Zał. nr 2 kalkulacja - 2026 r.'!N106","v":0}]
[{"$f":"'Wniosek 2026 r.'!A120","v":82},{"$f":"'Wniosek 2026 r.'!B120","v":0},{"$f":"'Wniosek 2026 r.'!E120","v":0},{"$f":"'Wniosek 2026 r.'!G120","v":0},{"$f":"'Wniosek 2026 r.'!C283","v":0},{"$f":"'Wniosek 2026 r.'!C593","v":0},{"$f":"'Wniosek 2026 r.'!C439","v":0},{"$f":"'Wniosek 2026 r.'!D439","v":0},{"$f":"'Wniosek 2026 r.'!F439","v":0},{"$f":"'Wniosek 2026 r.'!H439","v":0},{"$f":"'Wniosek 2026 r.'!C748","v":0},82,"","",0,"",0,0,0,0,0,0,0,0,"ok","ok",0,0,{"$f":"'Zał. nr 2 kalkulacja - 2026 r.'!C107","v":0},{"$f":"'Zał. nr 2 kalkulacja - 2026 r.'!D107","v":0},{"$f":"'Zał. nr 2 kalkulacja - 2026 r.'!E107","v":0},{"$f":"'Zał. nr 2 kalkulacja - 2026 r.'!F107","v":0},{"$f":"'Zał. nr 2 kalkulacja - 2026 r.'!G107","v":0},{"$f":"'Zał. nr 2 kalkulacja - 2026 r.'!H107","v":0},{"$f":"'Zał. nr 2 kalkulacja - 2026 r.'!I107","v":0},{"$f":"'Zał. nr 2 kalkulacja - 2026 r.'!J107","v":0},{"$f":"'Zał. nr 2 kalkulacja - 2026 r.'!K107","v":0},{"$f":"'Zał. nr 2 kalkulacja - 2026 r.'!L107","v":0},{"$f":"'Zał. nr 2 kalkulacja - 2026 r.'!M107","v":0},{"$f":"'Zał. nr 2 kalkulacja - 2026 r.'!N107","v":0}]
[{"$f":"'Wniosek 2026 r.'!A121","v":83},{"$f":"'Wniosek 2026 r.'!B121","v":0},{"$f":"'Wniosek 2026 r.'!E121","v":0},{"$f":"'Wniosek 2026 r.'!G121","v":0},{"$f":"'Wniosek 2026 r.'!C284","v":0},{"$f":"'Wniosek 2026 r.'!C594","v":0},{"$f":"'Wniosek 2026 r.'!C440","v":0},{"$f":"'Wniosek 2026 r.'!D440","v":0},{"$f":"'Wniosek 2026 r.'!F440","v":0},{"$f":"'Wniosek 2026 r.'!H440","v":0},{"$f":"'Wniosek 2026 r.'!C749","v":0},83,"","",0,"",0,0,0,0,0,0,0,0,"ok","ok",0,0,{"$f":"'Zał. nr 2 kalkulacja - 2026 r.'!C108","v":0},{"$f":"'Zał. nr 2 kalkulacja - 2026 r.'!D108","v":0},{"$f":"'Zał. nr 2 kalkulacja - 2026 r.'!E108","v":0},{"$f":"'Zał. nr 2 kalkulacja - 2026 r.'!F108","v":0},{"$f":"'Zał. nr 2 kalkulacja - 2026 r.'!G108","v":0},{"$f":"'Zał. nr 2 kalkulacja - 2026 r.'!H108","v":0},{"$f":"'Zał. nr 2 kalkulacja - 2026 r.'!I108","v":0},{"$f":"'Zał. nr 2 kalkulacja - 2026 r.'!J108","v":0},{"$f":"'Zał. nr 2 kalkulacja - 2026 r.'!K108","v":0},{"$f":"'Zał. nr 2 kalkulacja - 2026 r.'!L108","v":0},{"$f":"'Zał. nr 2 kalkulacja - 2026 r.'!M108","v":0},{"$f":"'Zał. nr 2 kalkulacja - 2026 r.'!N108","v":0}]
[{"$f":"'Wniosek 2026 r.'!A122","v":84},{"$f":"'Wniosek 2026 r.'!B122","v":0},{"$f":"'Wniosek 2026 r.'!E122","v":0},{"$f":"'Wniosek 2026 r.'!G122","v":0},{"$f":"'Wniosek 2026 r.'!C285","v":0},{"$f":"'Wniosek 2026 r.'!C595","v":0},{"$f":"'Wniosek 2026 r.'!C441","v":0},{"$f":"'Wniosek 2026 r.'!D441","v":0},{"$f":"'Wniosek 2026 r.'!F441","v":0},{"$f":"'Wniosek 2026 r.'!H441","v":0},{"$f":"'Wniosek 2026 r.'!C750","v":0},84,"","",0,"",0,0,0,0,0,0,0,0,"ok","ok",0,0,{"$f":"'Zał. nr 2 kalkulacja - 2026 r.'!C109","v":0},{"$f":"'Zał. nr 2 kalkulacja - 2026 r.'!D109","v":0},{"$f":"'Zał. nr 2 kalkulacja - 2026 r.'!E109","v":0},{"$f":"'Zał. nr 2 kalkulacja - 2026 r.'!F109","v":0},{"$f":"'Zał. nr 2 kalkulacja - 2026 r.'!G109","v":0},{"$f":"'Zał. nr 2 kalkulacja - 2026 r.'!H109","v":0},{"$f":"'Zał. nr 2 kalkulacja - 2026 r.'!I109","v":0},{"$f":"'Zał. nr 2 kalkulacja - 2026 r.'!J109","v":0},{"$f":"'Zał. nr 2 kalkulacja - 2026 r.'!K109","v":0},{"$f":"'Zał. nr 2 kalkulacja - 2026 r.'!L109","v":0},{"$f":"'Zał. nr 2 kalkulacja - 2026 r.'!M109","v":0},{"$f":"'Zał. nr 2 kalkulacja - 2026 r.'!N109","v":0}]
[{"$f":"'Wniosek 2026 r.'!A123","v":85},{"$f":"'Wniosek 2026 r.'!B123","v":0},{"$f":"'Wniosek 2026 r.'!E123","v":0},{"$f":"'Wniosek 2026 r.'!G123","v":0},{"$f":"'Wniosek 2026 r.'!C286","v":0},{"$f":"'Wniosek 2026 r.'!C596","v":0},{"$f":"'Wniosek 2026 r.'!C442","v":0},{"$f":"'Wniosek 2026 r.'!D442","v":0},{"$f":"'Wniosek 2026 r.'!F442","v":0},{"$f":"'Wniosek 2026 r.'!H442","v":0},{"$f":"'Wniosek 2026 r.'!C751","v":0},85,"","",0,"",0,0,0,0,0,0,0,0,"ok","ok",0,0,{"$f":"'Zał. nr 2 kalkulacja - 2026 r.'!C110","v":0},{"$f":"'Zał. nr 2 kalkulacja - 2026 r.'!D110","v":0},{"$f":"'Zał. nr 2 kalkulacja - 2026 r.'!E110","v":0},{"$f":"'Zał. nr 2 kalkulacja - 2026 r.'!F110","v":0},{"$f":"'Zał. nr 2 kalkulacja - 2026 r.'!G110","v":0},{"$f":"'Zał. nr 2 kalkulacja - 2026 r.'!H110","v":0},{"$f":"'Zał. nr 2 kalkulacja - 2026 r.'!I110","v":0},{"$f":"'Zał. nr 2 kalkulacja - 2026 r.'!J110","v":0},{"$f":"'Zał. nr 2 kalkulacja - 2026 r.'!K110","v":0},{"$f":"'Zał. nr 2 kalkulacja - 2026 r.'!L110","v":0},{"$f":"'Zał. nr 2 kalkulacja - 2026 r.'!M110","v":0},{"$f":"'Zał. nr 2 kalkulacja - 2026 r.'!N110","v":0}]
[{"$f":"'Wniosek 2026 r.'!A124","v":86},{"$f":"'Wniosek 2026 r.'!B124","v":0},{"$f":"'Wniosek 2026 r.'!E124","v":0},{"$f":"'Wniosek 2026 r.'!G124","v":0},{"$f":"'Wniosek 2026 r.'!C287","v":0},{"$f":"'Wniosek 2026 r.'!C597","v":0},{"$f":"'Wniosek 2026 r.'!C443","v":0},{"$f":"'Wniosek 2026 r.'!D443","v":0},{"$f":"'Wniosek 2026 r.'!F443","v":0},{"$f":"'Wniosek 2026 r.'!H443","v":0},{"$f":"'Wniosek 2026 r.'!C752","v":0},86,"","",0,"",0,0,0,0,0,0,0,0,"ok","ok",0,0,{"$f":"'Zał. nr 2 kalkulacja - 2026 r.'!C111","v":0},{"$f":"'Zał. nr 2 kalkulacja - 2026 r.'!D111","v":0},{"$f":"'Zał. nr 2 kalkulacja - 2026 r.'!E111","v":0},{"$f":"'Zał. nr 2 kalkulacja - 2026 r.'!F111","v":0},{"$f":"'Zał. nr 2 kalkulacja - 2026 r.'!G111","v":0},{"$f":"'Zał. nr 2 kalkulacja - 2026 r.'!H111","v":0},{"$f":"'Zał. nr 2 kalkulacja - 2026 r.'!I111","v":0},{"$f":"'Zał. nr 2 kalkulacja - 2026 r.'!J111","v":0},{"$f":"'Zał. nr 2 kalkulacja - 2026 r.'!K111","v":0},{"$f":"'Zał. nr 2 kalkulacja - 2026 r.'!L111","v":0},{"$f":"'Zał. nr 2 kalkulacja - 2026 r.'!M111","v":0},{"$f":"'Zał. nr 2 kalkulacja - 2026 r.'!N111","v":0}]
[{"$f":"'Wniosek 2026 r.'!A125","v":87},{"$f":"'Wniosek 2026 r.'!B125","v":0},{"$f":"'Wniosek 2026 r.'!E125","v":0},{"$f":"'Wniosek 2026 r.'!G125","v":0},{"$f":"'Wniosek 2026 r.'!C288","v":0},{"$f":"'Wniosek 2026 r.'!C598","v":0},{"$f":"'Wniosek 2026 r.'!C444","v":0},{"$f":"'Wniosek 2026 r.'!D444","v":0},{"$f":"'Wniosek 2026 r.'!F444","v":0},{"$f":"'Wniosek 2026 r.'!H444","v":0},{"$f":"'Wniosek 2026 r.'!C753","v":0},87,"","",0,"",0,0,0,0,0,0,0,0,"ok","ok",0,0,{"$f":"'Zał. nr 2 kalkulacja - 2026 r.'!C112","v":0},{"$f":"'Zał. nr 2 kalkulacja - 2026 r.'!D112","v":0},{"$f":"'Zał. nr 2 kalkulacja - 2026 r.'!E112","v":0},{"$f":"'Zał. nr 2 kalkulacja - 2026 r.'!F112","v":0},{"$f":"'Zał. nr 2 kalkulacja - 2026 r.'!G112","v":0},{"$f":"'Zał. nr 2 kalkulacja - 2026 r.'!H112","v":0},{"$f":"'Zał. nr 2 kalkulacja - 2026 r.'!I112","v":0},{"$f":"'Zał. nr 2 kalkulacja - 2026 r.'!J112","v":0},{"$f":"'Zał. nr 2 kalkulacja - 2026 r.'!K112","v":0},{"$f":"'Zał. nr 2 kalkulacja - 2026 r.'!L112","v":0},{"$f":"'Zał. nr 2 kalkulacja - 2026 r.'!M112","v":0},{"$f":"'Zał. nr 2 kalkulacja - 2026 r.'!N112","v":0}]
[{"$f":"'Wniosek 2026 r.'!A126","v":88},{"$f":"'Wniosek 2026 r.'!B126","v":0},{"$f":"'Wniosek 2026 r.'!E126","v":0},{"$f":"'Wniosek 2026 r.'!G126","v":0},{"$f":"'Wniosek 2026 r.'!C289","v":0},{"$f":"'Wniosek 2026 r.'!C599","v":0},{"$f":"'Wniosek 2026 r.'!C445","v":0},{"$f":"'Wniosek 2026 r.'!D445","v":0},{"$f":"'Wniosek 2026 r.'!F445","v":0},{"$f":"'Wniosek 2026 r.'!H445","v":0},{"$f":"'Wniosek 2026 r.'!C754","v":0},88,"","",0,"",0,0,0,0,0,0,0,0,"ok","ok",0,0,{"$f":"'Zał. nr 2 kalkulacja - 2026 r.'!C113","v":0},{"$f":"'Zał. nr 2 kalkulacja - 2026 r.'!D113","v":0},{"$f":"'Zał. nr 2 kalkulacja - 2026 r.'!E113","v":0},{"$f":"'Zał. nr 2 kalkulacja - 2026 r.'!F113","v":0},{"$f":"'Zał. nr 2 kalkulacja - 2026 r.'!G113","v":0},{"$f":"'Zał. nr 2 kalkulacja - 2026 r.'!H113","v":0},{"$f":"'Zał. nr 2 kalkulacja - 2026 r.'!I113","v":0},{"$f":"'Zał. nr 2 kalkulacja - 2026 r.'!J113","v":0},{"$f":"'Zał. nr 2 kalkulacja - 2026 r.'!K113","v":0},{"$f":"'Zał. nr 2 kalkulacja - 2026 r.'!L113","v":0},{"$f":"'Zał. nr 2 kalkulacja - 2026 r.'!M113","v":0},{"$f":"'Zał. nr 2 kalkulacja - 2026 r.'!N113","v":0}]
[{"$f":"'Wniosek 2026 r.'!A127","v":89},{"$f":"'Wniosek 2026 r.'!B127","v":0},{"$f":"'Wniosek 2026 r.'!E127","v":0},{"$f":"'Wniosek 2026 r.'!G127","v":0},{"$f":"'Wniosek 2026 r.'!C290","v":0},{"$f":"'Wniosek 2026 r.'!C600","v":0},{"$f":"'Wniosek 2026 r.'!C446","v":0},{"$f":"'Wniosek 2026 r.'!D446","v":0},{"$f":"'Wniosek 2026 r.'!F446","v":0},{"$f":"'Wniosek 2026 r.'!H446","v":0},{"$f":"'Wniosek 2026 r.'!C755","v":0},89,"","",0,"",0,0,0,0,0,0,0,0,"ok","ok",0,0,{"$f":"'Zał. nr 2 kalkulacja - 2026 r.'!C114","v":0},{"$f":"'Zał. nr 2 kalkulacja - 2026 r.'!D114","v":0},{"$f":"'Zał. nr 2 kalkulacja - 2026 r.'!E114","v":0},{"$f":"'Zał. nr 2 kalkulacja - 2026 r.'!F114","v":0},{"$f":"'Zał. nr 2 kalkulacja - 2026 r.'!G114","v":0},{"$f":"'Zał. nr 2 kalkulacja - 2026 r.'!H114","v":0},{"$f":"'Zał. nr 2 kalkulacja - 2026 r.'!I114","v":0},{"$f":"'Zał. nr 2 kalkulacja - 2026 r.'!J114","v":0},{"$f":"'Zał. nr 2 kalkulacja - 2026 r.'!K114","v":0},{"$f":"'Zał. nr 2 kalkulacja - 2026 r.'!L114","v":0},{"$f":"'Zał. nr 2 kalkulacja - 2026 r.'!M114","v":0},{"$f":"'Zał. nr 2 kalkulacja - 2026 r.'!N114","v":0}]
[{"$f":"'Wniosek 2026 r.'!A128","v":90},{"$f":"'Wniosek 2026 r.'!B128","v":0},{"$f":"'Wniosek 2026 r.'!E128","v":0},{"$f":"'Wniosek 2026 r.'!G128","v":0},{"$f":"'Wniosek 2026 r.'!C291","v":0},{"$f":"'Wniosek 2026 r.'!C601","v":0},{"$f":"'Wniosek 2026 r.'!C447","v":0},{"$f":"'Wniosek 2026 r.'!D447","v":0},{"$f":"'Wniosek 2026 r.'!F447","v":0},{"$f":"'Wniosek 2026 r.'!H447","v":0},{"$f":"'Wniosek 2026 r.'!C756","v":0},90,"","",0,"",0,0,0,0,0,0,0,0,"ok","ok",0,0,{"$f":"'Zał. nr 2 kalkulacja - 2026 r.'!C115","v":0},{"$f":"'Zał. nr 2 kalkulacja - 2026 r.'!D115","v":0},{"$f":"'Zał. nr 2 kalkulacja - 2026 r.'!E115","v":0},{"$f":"'Zał. nr 2 kalkulacja - 2026 r.'!F115","v":0},{"$f":"'Zał. nr 2 kalkulacja - 2026 r.'!G115","v":0},{"$f":"'Zał. nr 2 kalkulacja - 2026 r.'!H115","v":0},{"$f":"'Zał. nr 2 kalkulacja - 2026 r.'!I115","v":0},{"$f":"'Zał. nr 2 kalkulacja - 2026 r.'!J115","v":0},{"$f":"'Zał. nr 2 kalkulacja - 2026 r.'!K115","v":0},{"$f":"'Zał. nr 2 kalkulacja - 2026 r.'!L115","v":0},{"$f":"'Zał. nr 2 kalkulacja - 2026 r.'!M115","v":0},{"$f":"'Zał. nr 2 kalkulacja - 2026 r.'!N115","v":0}]
[{"$f":"'Wniosek 2026 r.'!A129","v":91},{"$f":"'Wniosek 2026 r.'!B129","v":0},{"$f":"'Wniosek 2026 r.'!E129","v":0},{"$f":"'Wniosek 2026 r.'!G129","v":0},{"$f":"'Wniosek 2026 r.'!C292","v":0},{"$f":"'Wniosek 2026 r.'!C602","v":0},{"$f":"'Wniosek 2026 r.'!C448","v":0},{"$f":"'Wniosek 2026 r.'!D448","v":0},{"$f":"'Wniosek 2026 r.'!F448","v":0},{"$f":"'Wniosek 2026 r.'!H448","v":0},{"$f":"'Wniosek 2026 r.'!C757","v":0},91,"","",0,"",0,0,0,0,0,0,0,0,"ok","ok",0,0,{"$f":"'Zał. nr 2 kalkulacja - 2026 r.'!C116","v":0},{"$f":"'Zał. nr 2 kalkulacja - 2026 r.'!D116","v":0},{"$f":"'Zał. nr 2 kalkulacja - 2026 r.'!E116","v":0},{"$f":"'Zał. nr 2 kalkulacja - 2026 r.'!F116","v":0},{"$f":"'Zał. nr 2 kalkulacja - 2026 r.'!G116","v":0},{"$f":"'Zał. nr 2 kalkulacja - 2026 r.'!H116","v":0},{"$f":"'Zał. nr 2 kalkulacja - 2026 r.'!I116","v":0},{"$f":"'Zał. nr 2 kalkulacja - 2026 r.'!J116","v":0},{"$f":"'Zał. nr 2 kalkulacja - 2026 r.'!K116","v":0},{"$f":"'Zał. nr 2 kalkulacja - 2026 r.'!L116","v":0},{"$f":"'Zał. nr 2 kalkulacja - 2026 r.'!M116","v":0},{"$f":"'Zał. nr 2 kalkulacja - 2026 r.'!N116","v":0}]
[{"$f":"'Wniosek 2026 r.'!A130","v":92},{"$f":"'Wniosek 2026 r.'!B130","v":0},{"$f":"'Wniosek 2026 r.'!E130","v":0},{"$f":"'Wniosek 2026 r.'!G130","v":0},{"$f":"'Wniosek 2026 r.'!C293","v":0},{"$f":"'Wniosek 2026 r.'!C603","v":0},{"$f":"'Wniosek 2026 r.'!C449","v":0},{"$f":"'Wniosek 2026 r.'!D449","v":0},{"$f":"'Wniosek 2026 r.'!F449","v":0},{"$f":"'Wniosek 2026 r.'!H449","v":0},{"$f":"'Wniosek 2026 r.'!C758","v":0},92,"","",0,"",0,0,0,0,0,0,0,0,"ok","ok",0,0,{"$f":"'Zał. nr 2 kalkulacja - 2026 r.'!C117","v":0},{"$f":"'Zał. nr 2 kalkulacja - 2026 r.'!D117","v":0},{"$f":"'Zał. nr 2 kalkulacja - 2026 r.'!E117","v":0},{"$f":"'Zał. nr 2 kalkulacja - 2026 r.'!F117","v":0},{"$f":"'Zał. nr 2 kalkulacja - 2026 r.'!G117","v":0},{"$f":"'Zał. nr 2 kalkulacja - 2026 r.'!H117","v":0},{"$f":"'Zał. nr 2 kalkulacja - 2026 r.'!I117","v":0},{"$f":"'Zał. nr 2 kalkulacja - 2026 r.'!J117","v":0},{"$f":"'Zał. nr 2 kalkulacja - 2026 r.'!K117","v":0},{"$f":"'Zał. nr 2 kalkulacja - 2026 r.'!L117","v":0},{"$f":"'Zał. nr 2 kalkulacja - 2026 r.'!M117","v":0},{"$f":"'Zał. nr 2 kalkulacja - 2026 r.'!N117","v":0}]
[{"$f":"'Wniosek 2026 r.'!A131","v":93},{"$f":"'Wniosek 2026 r.'!B131","v":0},{"$f":"'Wniosek 2026 r.'!E131","v":0},{"$f":"'Wniosek 2026 r.'!G131","v":0},{"$f":"'Wniosek 2026 r.'!C294","v":0},{"$f":"'Wniosek 2026 r.'!C604","v":0},{"$f":"'Wniosek 2026 r.'!C450","v":0},{"$f":"'Wniosek 2026 r.'!D450","v":0},{"$f":"'Wniosek 2026 r.'!F450","v":0},{"$f":"'Wniosek 2026 r.'!H450","v":0},{"$f":"'Wniosek 2026 r.'!C759","v":0},93,"","",0,"",0,0,0,0,0,0,0,0,"ok","ok",0,0,{"$f":"'Zał. nr 2 kalkulacja - 2026 r.'!C118","v":0},{"$f":"'Zał. nr 2 kalkulacja - 2026 r.'!D118","v":0},{"$f":"'Zał. nr 2 kalkulacja - 2026 r.'!E118","v":0},{"$f":"'Zał. nr 2 kalkulacja - 2026 r.'!F118","v":0},{"$f":"'Zał. nr 2 kalkulacja - 2026 r.'!G118","v":0},{"$f":"'Zał. nr 2 kalkulacja - 2026 r.'!H118","v":0},{"$f":"'Zał. nr 2 kalkulacja - 2026 r.'!I118","v":0},{"$f":"'Zał. nr 2 kalkulacja - 2026 r.'!J118","v":0},{"$f":"'Zał. nr 2 kalkulacja - 2026 r.'!K118","v":0},{"$f":"'Zał. nr 2 kalkulacja - 2026 r.'!L118","v":0},{"$f":"'Zał. nr 2 kalkulacja - 2026 r.'!M118","v":0},{"$f":"'Zał. nr 2 kalkulacja - 2026 r.'!N118","v":0}]
[{"$f":"'Wniosek 2026 r.'!A132","v":94},{"$f":"'Wniosek 2026 r.'!B132","v":0},{"$f":"'Wniosek 2026 r.'!E132","v":0},{"$f":"'Wniosek 2026 r.'!G132","v":0},{"$f":"'Wniosek 2026 r.'!C295","v":0},{"$f":"'Wniosek 2026 r.'!C605","v":0},{"$f":"'Wniosek 2026 r.'!C451","v":0},{"$f":"'Wniosek 2026 r.'!D451","v":0},{"$f":"'Wniosek 2026 r.'!F451","v":0},{"$f":"'Wniosek 2026 r.'!H451","v":0},{"$f":"'Wniosek 2026 r.'!C760","v":0},94,"","",0,"",0,0,0,0,0,0,0,0,"ok","ok",0,0,{"$f":"'Zał. nr 2 kalkulacja - 2026 r.'!C119","v":0},{"$f":"'Zał. nr 2 kalkulacja - 2026 r.'!D119","v":0},{"$f":"'Zał. nr 2 kalkulacja - 2026 r.'!E119","v":0},{"$f":"'Zał. nr 2 kalkulacja - 2026 r.'!F119","v":0},{"$f":"'Zał. nr 2 kalkulacja - 2026 r.'!G119","v":0},{"$f":"'Zał. nr 2 kalkulacja - 2026 r.'!H119","v":0},{"$f":"'Zał. nr 2 kalkulacja - 2026 r.'!I119","v":0},{"$f":"'Zał. nr 2 kalkulacja - 2026 r.'!J119","v":0},{"$f":"'Zał. nr 2 kalkulacja - 2026 r.'!K119","v":0},{"$f":"'Zał. nr 2 kalkulacja - 2026 r.'!L119","v":0},{"$f":"'Zał. nr 2 kalkulacja - 2026 r.'!M119","v":0},{"$f":"'Zał. nr 2 kalkulacja - 2026 r.'!N119","v":0}]
[{"$f":"'Wniosek 2026 r.'!A133","v":95},{"$f":"'Wniosek 2026 r.'!B133","v":0},{"$f":"'Wniosek 2026 r.'!E133","v":0},{"$f":"'Wniosek 2026 r.'!G133","v":0},{"$f":"'Wniosek 2026 r.'!C296","v":0},{"$f":"'Wniosek 2026 r.'!C606","v":0},{"$f":"'Wniosek 2026 r.'!C452","v":0},{"$f":"'Wniosek 2026 r.'!D452","v":0},{"$f":"'Wniosek 2026 r.'!F452","v":0},{"$f":"'Wniosek 2026 r.'!H452","v":0},{"$f":"'Wniosek 2026 r.'!C761","v":0},95,"","",0,"",0,0,0,0,0,0,0,0,"ok","ok",0,0,{"$f":"'Zał. nr 2 kalkulacja - 2026 r.'!C120","v":0},{"$f":"'Zał. nr 2 kalkulacja - 2026 r.'!D120","v":0},{"$f":"'Zał. nr 2 kalkulacja - 2026 r.'!E120","v":0},{"$f":"'Zał. nr 2 kalkulacja - 2026 r.'!F120","v":0},{"$f":"'Zał. nr 2 kalkulacja - 2026 r.'!G120","v":0},{"$f":"'Zał. nr 2 kalkulacja - 2026 r.'!H120","v":0},{"$f":"'Zał. nr 2 kalkulacja - 2026 r.'!I120","v":0},{"$f":"'Zał. nr 2 kalkulacja - 2026 r.'!J120","v":0},{"$f":"'Zał. nr 2 kalkulacja - 2026 r.'!K120","v":0},{"$f":"'Zał. nr 2 kalkulacja - 2026 r.'!L120","v":0},{"$f":"'Zał. nr 2 kalkulacja - 2026 r.'!M120","v":0},{"$f":"'Zał. nr 2 kalkulacja - 2026 r.'!N120","v":0}]
[{"$f":"'Wniosek 2026 r.'!A134","v":96},{"$f":"'Wniosek 2026 r.'!B134","v":0},{"$f":"'Wniosek 2026 r.'!E134","v":0},{"$f":"'Wniosek 2026 r.'!G134","v":0},{"$f":"'Wniosek 2026 r.'!C297","v":0},{"$f":"'Wniosek 2026 r.'!C607","v":0},{"$f":"'Wniosek 2026 r.'!C453","v":0},{"$f":"'Wniosek 2026 r.'!D453","v":0},{"$f":"'Wniosek 2026 r.'!F453","v":0},{"$f":"'Wniosek 2026 r.'!H453","v":0},{"$f":"'Wniosek 2026 r.'!C762","v":0},{"$f":"A97","v":96},"","",0,"",0,0,0,0,0,0,0,0,"ok","ok",0,0,{"$f":"'Zał. nr 2 kalkulacja - 2026 r.'!C121","v":0},{"$f":"'Zał. nr 2 kalkulacja - 2026 r.'!D121","v":0},{"$f":"'Zał. nr 2 kalkulacja - 2026 r.'!E121","v":0},{"$f":"'Zał. nr 2 kalkulacja - 2026 r.'!F121","v":0},{"$f":"'Zał. nr 2 kalkulacja - 2026 r.'!G121","v":0},{"$f":"'Zał. nr 2 kalkulacja - 2026 r.'!H121","v":0},{"$f":"'Zał. nr 2 kalkulacja - 2026 r.'!I121","v":0},{"$f":"'Zał. nr 2 kalkulacja - 2026 r.'!J121","v":0},{"$f":"'Zał. nr 2 kalkulacja - 2026 r.'!K121","v":0},{"$f":"'Zał. nr 2 kalkulacja - 2026 r.'!L121","v":0},{"$f":"'Zał. nr 2 kalkulacja - 2026 r.'!M121","v":0},{"$f":"'Zał. nr 2 kalkulacja - 2026 r.'!N121","v":0}]
[{"$f":"'Wniosek 2026 r.'!A135","v":97},{"$f":"'Wniosek 2026 r.'!B135","v":0},{"$f":"'Wniosek 2026 r.'!E135","v":0},{"$f":"'Wniosek 2026 r.'!G135","v":0},{"$f":"'Wniosek 2026 r.'!C298","v":0},{"$f":"'Wniosek 2026 r.'!C608","v":0},{"$f":"'Wniosek 2026 r.'!C454","v":0},{"$f":"'Wniosek 2026 r.'!D454","v":0},{"$f":"'Wniosek 2026 r.'!F454","v":0},{"$f":"'Wniosek 2026 r.'!H454","v":0},{"$f":"'Wniosek 2026 r.'!C763","v":0},97,{"$f":"IFERROR(E98/C98,\"\")","v":""},{"$f":"IFERROR(F98/E98,\"\")","v":""},{"$f":"H98","v":0},"",{"$f":"O98*E98","v":0},{"$f":"G98*E98","v":0},{"$f":"IFERROR(U98*E98,0)","v":0},{"$f":"IFERROR(U98*E98,0)","v":0},{"$f":"IFERROR(IF((F98-J98)/E98>=$AP$2,$AP$2,(F98-J98)/E98),0)","v":0},{"$f":"IFERROR(K98/E98,0)","v":0},{"$f":"F98*0.1","v":0},0,{"$f":"IF(O98>=X98,$AQ$1,$AQ$2)","v":"ok"},{"$f":"IF(V98<=$AP$2,$AQ$1,$AQ$2)","v":"ok"},{"$f":"(S98+Q98)-F98","v":0},{"$f":"F98-R98","v":0},{"$f":"'Zał. nr 2 kalkulacja - 2026 r.'!C122","v":0},{"$f":"'Zał. nr 2 kalkulacja - 2026 r.'!D122","v":0},{"$f":"'Zał. nr 2 kalkulacja - 2026 r.'!E122","v":0},{"$f":"'Zał. nr 2 kalkulacja - 2026 r.'!F122","v":0},{"$f":"'Zał. nr 2 kalkulacja - 2026 r.'!G122","v":0},{"$f":"'Zał. nr 2 kalkulacja - 2026 r.'!H122","v":0},{"$f":"'Zał. nr 2 kalkulacja - 2026 r.'!I122","v":0},{"$f":"'Zał. nr 2 kalkulacja - 2026 r.'!J122","v":0},{"$f":"'Zał. nr 2 kalkulacja - 2026 r.'!K122","v":0},{"$f":"'Zał. nr 2 kalkulacja - 2026 r.'!L122","v":0},{"$f":"'Zał. nr 2 kalkulacja - 2026 r.'!M122","v":0},{"$f":"'Zał. nr 2 kalkulacja - 2026 r.'!N122","v":0}]
[{"$f":"'Wniosek 2026 r.'!A136","v":98},{"$f":"'Wniosek 2026 r.'!B136","v":0},{"$f":"'Wniosek 2026 r.'!E136","v":0},{"$f":"'Wniosek 2026 r.'!G136","v":0},{"$f":"'Wniosek 2026 r.'!C299","v":0},{"$f":"'Wniosek 2026 r.'!C609","v":0},{"$f":"'Wniosek 2026 r.'!C455","v":0},{"$f":"'Wniosek 2026 r.'!D455","v":0},{"$f":"'Wniosek 2026 r.'!F455","v":0},{"$f":"'Wniosek 2026 r.'!H455","v":0},{"$f":"'Wniosek 2026 r.'!C764","v":0},98,"","",0,"",0,0,0,0,0,0,0,0,"ok","ok",0,0,{"$f":"'Zał. nr 2 kalkulacja - 2026 r.'!C123","v":0},{"$f":"'Zał. nr 2 kalkulacja - 2026 r.'!D123","v":0},{"$f":"'Zał. nr 2 kalkulacja - 2026 r.'!E123","v":0},{"$f":"'Zał. nr 2 kalkulacja - 2026 r.'!F123","v":0},{"$f":"'Zał. nr 2 kalkulacja - 2026 r.'!G123","v":0},{"$f":"'Zał. nr 2 kalkulacja - 2026 r.'!H123","v":0},{"$f":"'Zał. nr 2 kalkulacja - 2026 r.'!I123","v":0},{"$f":"'Zał. nr 2 kalkulacja - 2026 r.'!J123","v":0},{"$f":"'Zał. nr 2 kalkulacja - 2026 r.'!K123","v":0},{"$f":"'Zał. nr 2 kalkulacja - 2026 r.'!L123","v":0},{"$f":"'Zał. nr 2 kalkulacja - 2026 r.'!M123","v":0},{"$f":"'Zał. nr 2 kalkulacja - 2026 r.'!N123","v":0}]
[{"$f":"'Wniosek 2026 r.'!A137","v":99},{"$f":"'Wniosek 2026 r.'!B137","v":0},{"$f":"'Wniosek 2026 r.'!E137","v":0},{"$f":"'Wniosek 2026 r.'!G137","v":0},{"$f":"'Wniosek 2026 r.'!C300","v":0},{"$f":"'Wniosek 2026 r.'!C610","v":0},{"$f":"'Wniosek 2026 r.'!C456","v":0},{"$f":"'Wniosek 2026 r.'!D456","v":0},{"$f":"'Wniosek 2026 r.'!F456","v":0},{"$f":"'Wniosek 2026 r.'!H456","v":0},{"$f":"'Wniosek 2026 r.'!C765","v":0},99,"","",0,"",0,0,0,0,0,0,0,0,"ok","ok",0,0,{"$f":"'Zał. nr 2 kalkulacja - 2026 r.'!C124","v":0},{"$f":"'Zał. nr 2 kalkulacja - 2026 r.'!D124","v":0},{"$f":"'Zał. nr 2 kalkulacja - 2026 r.'!E124","v":0},{"$f":"'Zał. nr 2 kalkulacja - 2026 r.'!F124","v":0},{"$f":"'Zał. nr 2 kalkulacja - 2026 r.'!G124","v":0},{"$f":"'Zał. nr 2 kalkulacja - 2026 r.'!H124","v":0},{"$f":"'Zał. nr 2 kalkulacja - 2026 r.'!I124","v":0},{"$f":"'Zał. nr 2 kalkulacja - 2026 r.'!J124","v":0},{"$f":"'Zał. nr 2 kalkulacja - 2026 r.'!K124","v":0},{"$f":"'Zał. nr 2 kalkulacja - 2026 r.'!L124","v":0},{"$f":"'Zał. nr 2 kalkulacja - 2026 r.'!M124","v":0},{"$f":"'Zał. nr 2 kalkulacja - 2026 r.'!N124","v":0}]
[{"$f":"'Wniosek 2026 r.'!A138","v":100},{"$f":"'Wniosek 2026 r.'!B138","v":0},{"$f":"'Wniosek 2026 r.'!E138","v":0},{"$f":"'Wniosek 2026 r.'!G138","v":0},{"$f":"'Wniosek 2026 r.'!C301","v":0},{"$f":"'Wniosek 2026 r.'!C611","v":0},{"$f":"'Wniosek 2026 r.'!C457","v":0},{"$f":"'Wniosek 2026 r.'!D457","v":0},{"$f":"'Wniosek 2026 r.'!F457","v":0},{"$f":"'Wniosek 2026 r.'!H457","v":0},{"$f":"'Wniosek 2026 r.'!C766","v":0},100,"","",0,"",0,0,0,0,0,0,0,0,"ok","ok",0,0,{"$f":"'Zał. nr 2 kalkulacja - 2026 r.'!C125","v":0},{"$f":"'Zał. nr 2 kalkulacja - 2026 r.'!D125","v":0},{"$f":"'Zał. nr 2 kalkulacja - 2026 r.'!E125","v":0},{"$f":"'Zał. nr 2 kalkulacja - 2026 r.'!F125","v":0},{"$f":"'Zał. nr 2 kalkulacja - 2026 r.'!G125","v":0},{"$f":"'Zał. nr 2 kalkulacja - 2026 r.'!H125","v":0},{"$f":"'Zał. nr 2 kalkulacja - 2026 r.'!I125","v":0},{"$f":"'Zał. nr 2 kalkulacja - 2026 r.'!J125","v":0},{"$f":"'Zał. nr 2 kalkulacja - 2026 r.'!K125","v":0},{"$f":"'Zał. nr 2 kalkulacja - 2026 r.'!L125","v":0},{"$f":"'Zał. nr 2 kalkulacja - 2026 r.'!M125","v":0},{"$f":"'Zał. nr 2 kalkulacja - 2026 r.'!N125","v":0}]
[{"$f":"'Wniosek 2026 r.'!A139","v":101},{"$f":"'Wniosek 2026 r.'!B139","v":0},{"$f":"'Wniosek 2026 r.'!E139","v":0},{"$f":"'Wniosek 2026 r.'!G139","v":0},{"$f":"'Wniosek 2026 r.'!C302","v":0},{"$f":"'Wniosek 2026 r.'!C612","v":0},{"$f":"'Wniosek 2026 r.'!C458","v":0},{"$f":"'Wniosek 2026 r.'!D458","v":0},{"$f":"'Wniosek 2026 r.'!F458","v":0},{"$f":"'Wniosek 2026 r.'!H458","v":0},{"$f":"'Wniosek 2026 r.'!C767","v":0},101,"","",0,"",0,0,0,0,0,0,0,0,"ok","ok",0,0,{"$f":"'Zał. nr 2 kalkulacja - 2026 r.'!C126","v":0},{"$f":"'Zał. nr 2 kalkulacja - 2026 r.'!D126","v":0},{"$f":"'Zał. nr 2 kalkulacja - 2026 r.'!E126","v":0},{"$f":"'Zał. nr 2 kalkulacja - 2026 r.'!F126","v":0},{"$f":"'Zał. nr 2 kalkulacja - 2026 r.'!G126","v":0},{"$f":"'Zał. nr 2 kalkulacja - 2026 r.'!H126","v":0},{"$f":"'Zał. nr 2 kalkulacja - 2026 r.'!I126","v":0},{"$f":"'Zał. nr 2 kalkulacja - 2026 r.'!J126","v":0},{"$f":"'Zał. nr 2 kalkulacja - 2026 r.'!K126","v":0},{"$f":"'Zał. nr 2 kalkulacja - 2026 r.'!L126","v":0},{"$f":"'Zał. nr 2 kalkulacja - 2026 r.'!M126","v":0},{"$f":"'Zał. nr 2 kalkulacja - 2026 r.'!N126","v":0}]
[{"$f":"'Wniosek 2026 r.'!A140","v":102},{"$f":"'Wniosek 2026 r.'!B140","v":0},{"$f":"'Wniosek 2026 r.'!E140","v":0},{"$f":"'Wniosek 2026 r.'!G140","v":0},{"$f":"'Wniosek 2026 r.'!C303","v":0},{"$f":"'Wniosek 2026 r.'!C613","v":0},{"$f":"'Wniosek 2026 r.'!C459","v":0},{"$f":"'Wniosek 2026 r.'!D459","v":0},{"$f":"'Wniosek 2026 r.'!F459","v":0},{"$f":"'Wniosek 2026 r.'!H459","v":0},{"$f":"'Wniosek 2026 r.'!C768","v":0},102,"","",0,"",0,0,0,0,0,0,0,0,"ok","ok",0,0,{"$f":"'Zał. nr 2 kalkulacja - 2026 r.'!C127","v":0},{"$f":"'Zał. nr 2 kalkulacja - 2026 r.'!D127","v":0},{"$f":"'Zał. nr 2 kalkulacja - 2026 r.'!E127","v":0},{"$f":"'Zał. nr 2 kalkulacja - 2026 r.'!F127","v":0},{"$f":"'Zał. nr 2 kalkulacja - 2026 r.'!G127","v":0},{"$f":"'Zał. nr 2 kalkulacja - 2026 r.'!H127","v":0},{"$f":"'Zał. nr 2 kalkulacja - 2026 r.'!I127","v":0},{"$f":"'Zał. nr 2 kalkulacja - 2026 r.'!J127","v":0},{"$f":"'Zał. nr 2 kalkulacja - 2026 r.'!K127","v":0},{"$f":"'Zał. nr 2 kalkulacja - 2026 r.'!L127","v":0},{"$f":"'Zał. nr 2 kalkulacja - 2026 r.'!M127","v":0},{"$f":"'Zał. nr 2 kalkulacja - 2026 r.'!N127","v":0}]
[{"$f":"'Wniosek 2026 r.'!A141","v":103},{"$f":"'Wniosek 2026 r.'!B141","v":0},{"$f":"'Wniosek 2026 r.'!E141","v":0},{"$f":"'Wniosek 2026 r.'!G141","v":0},{"$f":"'Wniosek 2026 r.'!C304","v":0},{"$f":"'Wniosek 2026 r.'!C614","v":0},{"$f":"'Wniosek 2026 r.'!C460","v":0},{"$f":"'Wniosek 2026 r.'!D460","v":0},{"$f":"'Wniosek 2026 r.'!F460","v":0},{"$f":"'Wniosek 2026 r.'!H460","v":0},{"$f":"'Wniosek 2026 r.'!C769","v":0},103,"","",0,"",0,0,0,0,0,0,0,0,"ok","ok",0,0,{"$f":"'Zał. nr 2 kalkulacja - 2026 r.'!C128","v":0},{"$f":"'Zał. nr 2 kalkulacja - 2026 r.'!D128","v":0},{"$f":"'Zał. nr 2 kalkulacja - 2026 r.'!E128","v":0},{"$f":"'Zał. nr 2 kalkulacja - 2026 r.'!F128","v":0},{"$f":"'Zał. nr 2 kalkulacja - 2026 r.'!G128","v":0},{"$f":"'Zał. nr 2 kalkulacja - 2026 r.'!H128","v":0},{"$f":"'Zał. nr 2 kalkulacja - 2026 r.'!I128","v":0},{"$f":"'Zał. nr 2 kalkulacja - 2026 r.'!J128","v":0},{"$f":"'Zał. nr 2 kalkulacja - 2026 r.'!K128","v":0},{"$f":"'Zał. nr 2 kalkulacja - 2026 r.'!L128","v":0},{"$f":"'Zał. nr 2 kalkulacja - 2026 r.'!M128","v":0},{"$f":"'Zał. nr 2 kalkulacja - 2026 r.'!N128","v":0}]
[{"$f":"'Wniosek 2026 r.'!A142","v":104},{"$f":"'Wniosek 2026 r.'!B142","v":0},{"$f":"'Wniosek 2026 r.'!E142","v":0},{"$f":"'Wniosek 2026 r.'!G142","v":0},{"$f":"'Wniosek 2026 r.'!C305","v":0},{"$f":"'Wniosek 2026 r.'!C615","v":0},{"$f":"'Wniosek 2026 r.'!C461","v":0},{"$f":"'Wniosek 2026 r.'!D461","v":0},{"$f":"'Wniosek 2026 r.'!F461","v":0},{"$f":"'Wniosek 2026 r.'!H461","v":0},{"$f":"'Wniosek 2026 r.'!C770","v":0},104,"","",0,"",0,0,0,0,0,0,0,0,"ok","ok",0,0,{"$f":"'Zał. nr 2 kalkulacja - 2026 r.'!C129","v":0},{"$f":"'Zał. nr 2 kalkulacja - 2026 r.'!D129","v":0},{"$f":"'Zał. nr 2 kalkulacja - 2026 r.'!E129","v":0},{"$f":"'Zał. nr 2 kalkulacja - 2026 r.'!F129","v":0},{"$f":"'Zał. nr 2 kalkulacja - 2026 r.'!G129","v":0},{"$f":"'Zał. nr 2 kalkulacja - 2026 r.'!H129","v":0},{"$f":"'Zał. nr 2 kalkulacja - 2026 r.'!I129","v":0},{"$f":"'Zał. nr 2 kalkulacja - 2026 r.'!J129","v":0},{"$f":"'Zał. nr 2 kalkulacja - 2026 r.'!K129","v":0},{"$f":"'Zał. nr 2 kalkulacja - 2026 r.'!L129","v":0},{"$f":"'Zał. nr 2 kalkulacja - 2026 r.'!M129","v":0},{"$f":"'Zał. nr 2 kalkulacja - 2026 r.'!N129","v":0}]
[{"$f":"'Wniosek 2026 r.'!A143","v":105},{"$f":"'Wniosek 2026 r.'!B143","v":0},{"$f":"'Wniosek 2026 r.'!E143","v":0},{"$f":"'Wniosek 2026 r.'!G143","v":0},{"$f":"'Wniosek 2026 r.'!C306","v":0},{"$f":"'Wniosek 2026 r.'!C616","v":0},{"$f":"'Wniosek 2026 r.'!C462","v":0},{"$f":"'Wniosek 2026 r.'!D462","v":0},{"$f":"'Wniosek 2026 r.'!F462","v":0},{"$f":"'Wniosek 2026 r.'!H462","v":0},{"$f":"'Wniosek 2026 r.'!C771","v":0},105,"","",0,"",0,0,0,0,0,0,0,0,"ok","ok",0,0,{"$f":"'Zał. nr 2 kalkulacja - 2026 r.'!C130","v":0},{"$f":"'Zał. nr 2 kalkulacja - 2026 r.'!D130","v":0},{"$f":"'Zał. nr 2 kalkulacja - 2026 r.'!E130","v":0},{"$f":"'Zał. nr 2 kalkulacja - 2026 r.'!F130","v":0},{"$f":"'Zał. nr 2 kalkulacja - 2026 r.'!G130","v":0},{"$f":"'Zał. nr 2 kalkulacja - 2026 r.'!H130","v":0},{"$f":"'Zał. nr 2 kalkulacja - 2026 r.'!I130","v":0},{"$f":"'Zał. nr 2 kalkulacja - 2026 r.'!J130","v":0},{"$f":"'Zał. nr 2 kalkulacja - 2026 r.'!K130","v":0},{"$f":"'Zał. nr 2 kalkulacja - 2026 r.'!L130","v":0},{"$f":"'Zał. nr 2 kalkulacja - 2026 r.'!M130","v":0},{"$f":"'Zał. nr 2 kalkulacja - 2026 r.'!N130","v":0}]
[{"$f":"'Wniosek 2026 r.'!A144","v":106},{"$f":"'Wniosek 2026 r.'!B144","v":0},{"$f":"'Wniosek 2026 r.'!E144","v":0},{"$f":"'Wniosek 2026 r.'!G144","v":0},{"$f":"'Wniosek 2026 r.'!C307","v":0},{"$f":"'Wniosek 2026 r.'!C617","v":0},{"$f":"'Wniosek 2026 r.'!C463","v":0},{"$f":"'Wniosek 2026 r.'!D463","v":0},{"$f":"'Wniosek 2026 r.'!F463","v":0},{"$f":"'Wniosek 2026 r.'!H463","v":0},{"$f":"'Wniosek 2026 r.'!C772","v":0},106,"","",0,"",0,0,0,0,0,0,0,0,"ok","ok",0,0,{"$f":"'Zał. nr 2 kalkulacja - 2026 r.'!C131","v":0},{"$f":"'Zał. nr 2 kalkulacja - 2026 r.'!D131","v":0},{"$f":"'Zał. nr 2 kalkulacja - 2026 r.'!E131","v":0},{"$f":"'Zał. nr 2 kalkulacja - 2026 r.'!F131","v":0},{"$f":"'Zał. nr 2 kalkulacja - 2026 r.'!G131","v":0},{"$f":"'Zał. nr 2 kalkulacja - 2026 r.'!H131","v":0},{"$f":"'Zał. nr 2 kalkulacja - 2026 r.'!I131","v":0},{"$f":"'Zał. nr 2 kalkulacja - 2026 r.'!J131","v":0},{"$f":"'Zał. nr 2 kalkulacja - 2026 r.'!K131","v":0},{"$f":"'Zał. nr 2 kalkulacja - 2026 r.'!L131","v":0},{"$f":"'Zał. nr 2 kalkulacja - 2026 r.'!M131","v":0},{"$f":"'Zał. nr 2 kalkulacja - 2026 r.'!N131","v":0}]
[{"$f":"'Wniosek 2026 r.'!A145","v":107},{"$f":"'Wniosek 2026 r.'!B145","v":0},{"$f":"'Wniosek 2026 r.'!E145","v":0},{"$f":"'Wniosek 2026 r.'!G145","v":0},{"$f":"'Wniosek 2026 r.'!C308","v":0},{"$f":"'Wniosek 2026 r.'!C618","v":0},{"$f":"'Wniosek 2026 r.'!C464","v":0},{"$f":"'Wniosek 2026 r.'!D464","v":0},{"$f":"'Wniosek 2026 r.'!F464","v":0},{"$f":"'Wniosek 2026 r.'!H464","v":0},{"$f":"'Wniosek 2026 r.'!C773","v":0},107,"","",0,"",0,0,0,0,0,0,0,0,"ok","ok",0,0,{"$f":"'Zał. nr 2 kalkulacja - 2026 r.'!C132","v":0},{"$f":"'Zał. nr 2 kalkulacja - 2026 r.'!D132","v":0},{"$f":"'Zał. nr 2 kalkulacja - 2026 r.'!E132","v":0},{"$f":"'Zał. nr 2 kalkulacja - 2026 r.'!F132","v":0},{"$f":"'Zał. nr 2 kalkulacja - 2026 r.'!G132","v":0},{"$f":"'Zał. nr 2 kalkulacja - 2026 r.'!H132","v":0},{"$f":"'Zał. nr 2 kalkulacja - 2026 r.'!I132","v":0},{"$f":"'Zał. nr 2 kalkulacja - 2026 r.'!J132","v":0},{"$f":"'Zał. nr 2 kalkulacja - 2026 r.'!K132","v":0},{"$f":"'Zał. nr 2 kalkulacja - 2026 r.'!L132","v":0},{"$f":"'Zał. nr 2 kalkulacja - 2026 r.'!M132","v":0},{"$f":"'Zał. nr 2 kalkulacja - 2026 r.'!N132","v":0}]
[{"$f":"'Wniosek 2026 r.'!A146","v":108},{"$f":"'Wniosek 2026 r.'!B146","v":0},{"$f":"'Wniosek 2026 r.'!E146","v":0},{"$f":"'Wniosek 2026 r.'!G146","v":0},{"$f":"'Wniosek 2026 r.'!C309","v":0},{"$f":"'Wniosek 2026 r.'!C619","v":0},{"$f":"'Wniosek 2026 r.'!C465","v":0},{"$f":"'Wniosek 2026 r.'!D465","v":0},{"$f":"'Wniosek 2026 r.'!F465","v":0},{"$f":"'Wniosek 2026 r.'!H465","v":0},{"$f":"'Wniosek 2026 r.'!C774","v":0},108,"","",0,"",0,0,0,0,0,0,0,0,"ok","ok",0,0,{"$f":"'Zał. nr 2 kalkulacja - 2026 r.'!C133","v":0},{"$f":"'Zał. nr 2 kalkulacja - 2026 r.'!D133","v":0},{"$f":"'Zał. nr 2 kalkulacja - 2026 r.'!E133","v":0},{"$f":"'Zał. nr 2 kalkulacja - 2026 r.'!F133","v":0},{"$f":"'Zał. nr 2 kalkulacja - 2026 r.'!G133","v":0},{"$f":"'Zał. nr 2 kalkulacja - 2026 r.'!H133","v":0},{"$f":"'Zał. nr 2 kalkulacja - 2026 r.'!I133","v":0},{"$f":"'Zał. nr 2 kalkulacja - 2026 r.'!J133","v":0},{"$f":"'Zał. nr 2 kalkulacja - 2026 r.'!K133","v":0},{"$f":"'Zał. nr 2 kalkulacja - 2026 r.'!L133","v":0},{"$f":"'Zał. nr 2 kalkulacja - 2026 r.'!M133","v":0},{"$f":"'Zał. nr 2 kalkulacja - 2026 r.'!N133","v":0}]
[{"$f":"'Wniosek 2026 r.'!A147","v":109},{"$f":"'Wniosek 2026 r.'!B147","v":0},{"$f":"'Wniosek 2026 r.'!E147","v":0},{"$f":"'Wniosek 2026 r.'!G147","v":0},{"$f":"'Wniosek 2026 r.'!C310","v":0},{"$f":"'Wniosek 2026 r.'!C620","v":0},{"$f":"'Wniosek 2026 r.'!C466","v":0},{"$f":"'Wniosek 2026 r.'!D466","v":0},{"$f":"'Wniosek 2026 r.'!F466","v":0},{"$f":"'Wniosek 2026 r.'!H466","v":0},{"$f":"'Wniosek 2026 r.'!C775","v":0},109,"","",0,"",0,0,0,0,0,0,0,0,"ok","ok",0,0,{"$f":"'Zał. nr 2 kalkulacja - 2026 r.'!C134","v":0},{"$f":"'Zał. nr 2 kalkulacja - 2026 r.'!D134","v":0},{"$f":"'Zał. nr 2 kalkulacja - 2026 r.'!E134","v":0},{"$f":"'Zał. nr 2 kalkulacja - 2026 r.'!F134","v":0},{"$f":"'Zał. nr 2 kalkulacja - 2026 r.'!G134","v":0},{"$f":"'Zał. nr 2 kalkulacja - 2026 r.'!H134","v":0},{"$f":"'Zał. nr 2 kalkulacja - 2026 r.'!I134","v":0},{"$f":"'Zał. nr 2 kalkulacja - 2026 r.'!J134","v":0},{"$f":"'Zał. nr 2 kalkulacja - 2026 r.'!K134","v":0},{"$f":"'Zał. nr 2 kalkulacja - 2026 r.'!L134","v":0},{"$f":"'Zał. nr 2 kalkulacja - 2026 r.'!M134","v":0},{"$f":"'Zał. nr 2 kalkulacja - 2026 r.'!N134","v":0}]
[{"$f":"'Wniosek 2026 r.'!A148","v":110},{"$f":"'Wniosek 2026 r.'!B148","v":0},{"$f":"'Wniosek 2026 r.'!E148","v":0},{"$f":"'Wniosek 2026 r.'!G148","v":0},{"$f":"'Wniosek 2026 r.'!C311","v":0},{"$f":"'Wniosek 2026 r.'!C621","v":0},{"$f":"'Wniosek 2026 r.'!C467","v":0},{"$f":"'Wniosek 2026 r.'!D467","v":0},{"$f":"'Wniosek 2026 r.'!F467","v":0},{"$f":"'Wniosek 2026 r.'!H467","v":0},{"$f":"'Wniosek 2026 r.'!C776","v":0},110,"","",0,"",0,0,0,0,0,0,0,0,"ok","ok",0,0,{"$f":"'Zał. nr 2 kalkulacja - 2026 r.'!C135","v":0},{"$f":"'Zał. nr 2 kalkulacja - 2026 r.'!D135","v":0},{"$f":"'Zał. nr 2 kalkulacja - 2026 r.'!E135","v":0},{"$f":"'Zał. nr 2 kalkulacja - 2026 r.'!F135","v":0},{"$f":"'Zał. nr 2 kalkulacja - 2026 r.'!G135","v":0},{"$f":"'Zał. nr 2 kalkulacja - 2026 r.'!H135","v":0},{"$f":"'Zał. nr 2 kalkulacja - 2026 r.'!I135","v":0},{"$f":"'Zał. nr 2 kalkulacja - 2026 r.'!J135","v":0},{"$f":"'Zał. nr 2 kalkulacja - 2026 r.'!K135","v":0},{"$f":"'Zał. nr 2 kalkulacja - 2026 r.'!L135","v":0},{"$f":"'Zał. nr 2 kalkulacja - 2026 r.'!M135","v":0},{"$f":"'Zał. nr 2 kalkulacja - 2026 r.'!N135","v":0}]
[{"$f":"'Wniosek 2026 r.'!A149","v":111},{"$f":"'Wniosek 2026 r.'!B149","v":0},{"$f":"'Wniosek 2026 r.'!E149","v":0},{"$f":"'Wniosek 2026 r.'!G149","v":0},{"$f":"'Wniosek 2026 r.'!C312","v":0},{"$f":"'Wniosek 2026 r.'!C622","v":0},{"$f":"'Wniosek 2026 r.'!C468","v":0},{"$f":"'Wniosek 2026 r.'!D468","v":0},{"$f":"'Wniosek 2026 r.'!F468","v":0},{"$f":"'Wniosek 2026 r.'!H468","v":0},{"$f":"'Wniosek 2026 r.'!C777","v":0},111,"","",0,"",0,0,0,0,0,0,0,0,"ok","ok",0,0,{"$f":"'Zał. nr 2 kalkulacja - 2026 r.'!C136","v":0},{"$f":"'Zał. nr 2 kalkulacja - 2026 r.'!D136","v":0},{"$f":"'Zał. nr 2 kalkulacja - 2026 r.'!E136","v":0},{"$f":"'Zał. nr 2 kalkulacja - 2026 r.'!F136","v":0},{"$f":"'Zał. nr 2 kalkulacja - 2026 r.'!G136","v":0},{"$f":"'Zał. nr 2 kalkulacja - 2026 r.'!H136","v":0},{"$f":"'Zał. nr 2 kalkulacja - 2026 r.'!I136","v":0},{"$f":"'Zał. nr 2 kalkulacja - 2026 r.'!J136","v":0},{"$f":"'Zał. nr 2 kalkulacja - 2026 r.'!K136","v":0},{"$f":"'Zał. nr 2 kalkulacja - 2026 r.'!L136","v":0},{"$f":"'Zał. nr 2 kalkulacja - 2026 r.'!M136","v":0},{"$f":"'Zał. nr 2 kalkulacja - 2026 r.'!N136","v":0}]
[{"$f":"'Wniosek 2026 r.'!A150","v":112},{"$f":"'Wniosek 2026 r.'!B150","v":0},{"$f":"'Wniosek 2026 r.'!E150","v":0},{"$f":"'Wniosek 2026 r.'!G150","v":0},{"$f":"'Wniosek 2026 r.'!C313","v":0},{"$f":"'Wniosek 2026 r.'!C623","v":0},{"$f":"'Wniosek 2026 r.'!C469","v":0},{"$f":"'Wniosek 2026 r.'!D469","v":0},{"$f":"'Wniosek 2026 r.'!F469","v":0},{"$f":"'Wniosek 2026 r.'!H469","v":0},{"$f":"'Wniosek 2026 r.'!C778","v":0},112,"","",0,"",0,0,0,0,0,0,0,0,"ok","ok",0,0,{"$f":"'Zał. nr 2 kalkulacja - 2026 r.'!C137","v":0},{"$f":"'Zał. nr 2 kalkulacja - 2026 r.'!D137","v":0},{"$f":"'Zał. nr 2 kalkulacja - 2026 r.'!E137","v":0},{"$f":"'Zał. nr 2 kalkulacja - 2026 r.'!F137","v":0},{"$f":"'Zał. nr 2 kalkulacja - 2026 r.'!G137","v":0},{"$f":"'Zał. nr 2 kalkulacja - 2026 r.'!H137","v":0},{"$f":"'Zał. nr 2 kalkulacja - 2026 r.'!I137","v":0},{"$f":"'Zał. nr 2 kalkulacja - 2026 r.'!J137","v":0},{"$f":"'Zał. nr 2 kalkulacja - 2026 r.'!K137","v":0},{"$f":"'Zał. nr 2 kalkulacja - 2026 r.'!L137","v":0},{"$f":"'Zał. nr 2 kalkulacja - 2026 r.'!M137","v":0},{"$f":"'Zał. nr 2 kalkulacja - 2026 r.'!N137","v":0}]
[{"$f":"'Wniosek 2026 r.'!A151","v":113},{"$f":"'Wniosek 2026 r.'!B151","v":0},{"$f":"'Wniosek 2026 r.'!E151","v":0},{"$f":"'Wniosek 2026 r.'!G151","v":0},{"$f":"'Wniosek 2026 r.'!C314","v":0},{"$f":"'Wniosek 2026 r.'!C624","v":0},{"$f":"'Wniosek 2026 r.'!C470","v":0},{"$f":"'Wniosek 2026 r.'!D470","v":0},{"$f":"'Wniosek 2026 r.'!F470","v":0},{"$f":"'Wniosek 2026 r.'!H470","v":0},{"$f":"'Wniosek 2026 r.'!C779","v":0},113,"","",0,"",0,0,0,0,0,0,0,0,"ok","ok",0,0,{"$f":"'Zał. nr 2 kalkulacja - 2026 r.'!C138","v":0},{"$f":"'Zał. nr 2 kalkulacja - 2026 r.'!D138","v":0},{"$f":"'Zał. nr 2 kalkulacja - 2026 r.'!E138","v":0},{"$f":"'Zał. nr 2 kalkulacja - 2026 r.'!F138","v":0},{"$f":"'Zał. nr 2 kalkulacja - 2026 r.'!G138","v":0},{"$f":"'Zał. nr 2 kalkulacja - 2026 r.'!H138","v":0},{"$f":"'Zał. nr 2 kalkulacja - 2026 r.'!I138","v":0},{"$f":"'Zał. nr 2 kalkulacja - 2026 r.'!J138","v":0},{"$f":"'Zał. nr 2 kalkulacja - 2026 r.'!K138","v":0},{"$f":"'Zał. nr 2 kalkulacja - 2026 r.'!L138","v":0},{"$f":"'Zał. nr 2 kalkulacja - 2026 r.'!M138","v":0},{"$f":"'Zał. nr 2 kalkulacja - 2026 r.'!N138","v":0}]
[{"$f":"'Wniosek 2026 r.'!A152","v":114},{"$f":"'Wniosek 2026 r.'!B152","v":0},{"$f":"'Wniosek 2026 r.'!E152","v":0},{"$f":"'Wniosek 2026 r.'!G152","v":0},{"$f":"'Wniosek 2026 r.'!C315","v":0},{"$f":"'Wniosek 2026 r.'!C625","v":0},{"$f":"'Wniosek 2026 r.'!C471","v":0},{"$f":"'Wniosek 2026 r.'!D471","v":0},{"$f":"'Wniosek 2026 r.'!F471","v":0},{"$f":"'Wniosek 2026 r.'!H471","v":0},{"$f":"'Wniosek 2026 r.'!C780","v":0},114,"","",0,"",0,0,0,0,0,0,0,0,"ok","ok",0,0,{"$f":"'Zał. nr 2 kalkulacja - 2026 r.'!C139","v":0},{"$f":"'Zał. nr 2 kalkulacja - 2026 r.'!D139","v":0},{"$f":"'Zał. nr 2 kalkulacja - 2026 r.'!E139","v":0},{"$f":"'Zał. nr 2 kalkulacja - 2026 r.'!F139","v":0},{"$f":"'Zał. nr 2 kalkulacja - 2026 r.'!G139","v":0},{"$f":"'Zał. nr 2 kalkulacja - 2026 r.'!H139","v":0},{"$f":"'Zał. nr 2 kalkulacja - 2026 r.'!I139","v":0},{"$f":"'Zał. nr 2 kalkulacja - 2026 r.'!J139","v":0},{"$f":"'Zał. nr 2 kalkulacja - 2026 r.'!K139","v":0},{"$f":"'Zał. nr 2 kalkulacja - 2026 r.'!L139","v":0},{"$f":"'Zał. nr 2 kalkulacja - 2026 r.'!M139","v":0},{"$f":"'Zał. nr 2 kalkulacja - 2026 r.'!N139","v":0}]
[{"$f":"'Wniosek 2026 r.'!A153","v":115},{"$f":"'Wniosek 2026 r.'!B153","v":0},{"$f":"'Wniosek 2026 r.'!E153","v":0},{"$f":"'Wniosek 2026 r.'!G153","v":0},{"$f":"'Wniosek 2026 r.'!C316","v":0},{"$f":"'Wniosek 2026 r.'!C626","v":0},{"$f":"'Wniosek 2026 r.'!C472","v":0},{"$f":"'Wniosek 2026 r.'!D472","v":0},{"$f":"'Wniosek 2026 r.'!F472","v":0},{"$f":"'Wniosek 2026 r.'!H472","v":0},{"$f":"'Wniosek 2026 r.'!C781","v":0},115,"","",0,"",0,0,0,0,0,0,0,0,"ok","ok",0,0,{"$f":"'Zał. nr 2 kalkulacja - 2026 r.'!C140","v":0},{"$f":"'Zał. nr 2 kalkulacja - 2026 r.'!D140","v":0},{"$f":"'Zał. nr 2 kalkulacja - 2026 r.'!E140","v":0},{"$f":"'Zał. nr 2 kalkulacja - 2026 r.'!F140","v":0},{"$f":"'Zał. nr 2 kalkulacja - 2026 r.'!G140","v":0},{"$f":"'Zał. nr 2 kalkulacja - 2026 r.'!H140","v":0},{"$f":"'Zał. nr 2 kalkulacja - 2026 r.'!I140","v":0},{"$f":"'Zał. nr 2 kalkulacja - 2026 r.'!J140","v":0},{"$f":"'Zał. nr 2 kalkulacja - 2026 r.'!K140","v":0},{"$f":"'Zał. nr 2 kalkulacja - 2026 r.'!L140","v":0},{"$f":"'Zał. nr 2 kalkulacja - 2026 r.'!M140","v":0},{"$f":"'Zał. nr 2 kalkulacja - 2026 r.'!N140","v":0}]
[{"$f":"'Wniosek 2026 r.'!A154","v":116},{"$f":"'Wniosek 2026 r.'!B154","v":0},{"$f":"'Wniosek 2026 r.'!E154","v":0},{"$f":"'Wniosek 2026 r.'!G154","v":0},{"$f":"'Wniosek 2026 r.'!C317","v":0},{"$f":"'Wniosek 2026 r.'!C627","v":0},{"$f":"'Wniosek 2026 r.'!C473","v":0},{"$f":"'Wniosek 2026 r.'!D473","v":0},{"$f":"'Wniosek 2026 r.'!F473","v":0},{"$f":"'Wniosek 2026 r.'!H473","v":0},{"$f":"'Wniosek 2026 r.'!C782","v":0},116,"","",0,"",0,0,0,0,0,0,0,0,"ok","ok",0,0,{"$f":"'Zał. nr 2 kalkulacja - 2026 r.'!C141","v":0},{"$f":"'Zał. nr 2 kalkulacja - 2026 r.'!D141","v":0},{"$f":"'Zał. nr 2 kalkulacja - 2026 r.'!E141","v":0},{"$f":"'Zał. nr 2 kalkulacja - 2026 r.'!F141","v":0},{"$f":"'Zał. nr 2 kalkulacja - 2026 r.'!G141","v":0},{"$f":"'Zał. nr 2 kalkulacja - 2026 r.'!H141","v":0},{"$f":"'Zał. nr 2 kalkulacja - 2026 r.'!I141","v":0},{"$f":"'Zał. nr 2 kalkulacja - 2026 r.'!J141","v":0},{"$f":"'Zał. nr 2 kalkulacja - 2026 r.'!K141","v":0},{"$f":"'Zał. nr 2 kalkulacja - 2026 r.'!L141","v":0},{"$f":"'Zał. nr 2 kalkulacja - 2026 r.'!M141","v":0},{"$f":"'Zał. nr 2 kalkulacja - 2026 r.'!N141","v":0}]
[{"$f":"'Wniosek 2026 r.'!A155","v":117},{"$f":"'Wniosek 2026 r.'!B155","v":0},{"$f":"'Wniosek 2026 r.'!E155","v":0},{"$f":"'Wniosek 2026 r.'!G155","v":0},{"$f":"'Wniosek 2026 r.'!C318","v":0},{"$f":"'Wniosek 2026 r.'!C628","v":0},{"$f":"'Wniosek 2026 r.'!C474","v":0},{"$f":"'Wniosek 2026 r.'!D474","v":0},{"$f":"'Wniosek 2026 r.'!F474","v":0},{"$f":"'Wniosek 2026 r.'!H474","v":0},{"$f":"'Wniosek 2026 r.'!C783","v":0},117,"","",0,"",0,0,0,0,0,0,0,0,"ok","ok",0,0,{"$f":"'Zał. nr 2 kalkulacja - 2026 r.'!C142","v":0},{"$f":"'Zał. nr 2 kalkulacja - 2026 r.'!D142","v":0},{"$f":"'Zał. nr 2 kalkulacja - 2026 r.'!E142","v":0},{"$f":"'Zał. nr 2 kalkulacja - 2026 r.'!F142","v":0},{"$f":"'Zał. nr 2 kalkulacja - 2026 r.'!G142","v":0},{"$f":"'Zał. nr 2 kalkulacja - 2026 r.'!H142","v":0},{"$f":"'Zał. nr 2 kalkulacja - 2026 r.'!I142","v":0},{"$f":"'Zał. nr 2 kalkulacja - 2026 r.'!J142","v":0},{"$f":"'Zał. nr 2 kalkulacja - 2026 r.'!K142","v":0},{"$f":"'Zał. nr 2 kalkulacja - 2026 r.'!L142","v":0},{"$f":"'Zał. nr 2 kalkulacja - 2026 r.'!M142","v":0},{"$f":"'Zał. nr 2 kalkulacja - 2026 r.'!N142","v":0}]
[{"$f":"'Wniosek 2026 r.'!A156","v":118},{"$f":"'Wniosek 2026 r.'!B156","v":0},{"$f":"'Wniosek 2026 r.'!E156","v":0},{"$f":"'Wniosek 2026 r.'!G156","v":0},{"$f":"'Wniosek 2026 r.'!C319","v":0},{"$f":"'Wniosek 2026 r.'!C629","v":0},{"$f":"'Wniosek 2026 r.'!C475","v":0},{"$f":"'Wniosek 2026 r.'!D475","v":0},{"$f":"'Wniosek 2026 r.'!F475","v":0},{"$f":"'Wniosek 2026 r.'!H475","v":0},{"$f":"'Wniosek 2026 r.'!C784","v":0},118,"","",0,"",0,0,0,0,0,0,0,0,"ok","ok",0,0,{"$f":"'Zał. nr 2 kalkulacja - 2026 r.'!C143","v":0},{"$f":"'Zał. nr 2 kalkulacja - 2026 r.'!D143","v":0},{"$f":"'Zał. nr 2 kalkulacja - 2026 r.'!E143","v":0},{"$f":"'Zał. nr 2 kalkulacja - 2026 r.'!F143","v":0},{"$f":"'Zał. nr 2 kalkulacja - 2026 r.'!G143","v":0},{"$f":"'Zał. nr 2 kalkulacja - 2026 r.'!H143","v":0},{"$f":"'Zał. nr 2 kalkulacja - 2026 r.'!I143","v":0},{"$f":"'Zał. nr 2 kalkulacja - 2026 r.'!J143","v":0},{"$f":"'Zał. nr 2 kalkulacja - 2026 r.'!K143","v":0},{"$f":"'Zał. nr 2 kalkulacja - 2026 r.'!L143","v":0},{"$f":"'Zał. nr 2 kalkulacja - 2026 r.'!M143","v":0},{"$f":"'Zał. nr 2 kalkulacja - 2026 r.'!N143","v":0}]
[{"$f":"'Wniosek 2026 r.'!A157","v":119},{"$f":"'Wniosek 2026 r.'!B157","v":0},{"$f":"'Wniosek 2026 r.'!E157","v":0},{"$f":"'Wniosek 2026 r.'!G157","v":0},{"$f":"'Wniosek 2026 r.'!C320","v":0},{"$f":"'Wniosek 2026 r.'!C630","v":0},{"$f":"'Wniosek 2026 r.'!C476","v":0},{"$f":"'Wniosek 2026 r.'!D476","v":0},{"$f":"'Wniosek 2026 r.'!F476","v":0},{"$f":"'Wniosek 2026 r.'!H476","v":0},{"$f":"'Wniosek 2026 r.'!C785","v":0},119,"","",0,"",0,0,0,0,0,0,0,0,"ok","ok",0,0,{"$f":"'Zał. nr 2 kalkulacja - 2026 r.'!C144","v":0},{"$f":"'Zał. nr 2 kalkulacja - 2026 r.'!D144","v":0},{"$f":"'Zał. nr 2 kalkulacja - 2026 r.'!E144","v":0},{"$f":"'Zał. nr 2 kalkulacja - 2026 r.'!F144","v":0},{"$f":"'Zał. nr 2 kalkulacja - 2026 r.'!G144","v":0},{"$f":"'Zał. nr 2 kalkulacja - 2026 r.'!H144","v":0},{"$f":"'Zał. nr 2 kalkulacja - 2026 r.'!I144","v":0},{"$f":"'Zał. nr 2 kalkulacja - 2026 r.'!J144","v":0},{"$f":"'Zał. nr 2 kalkulacja - 2026 r.'!K144","v":0},{"$f":"'Zał. nr 2 kalkulacja - 2026 r.'!L144","v":0},{"$f":"'Zał. nr 2 kalkulacja - 2026 r.'!M144","v":0},{"$f":"'Zał. nr 2 kalkulacja - 2026 r.'!N144","v":0}]
[{"$f":"'Wniosek 2026 r.'!A158","v":120},{"$f":"'Wniosek 2026 r.'!B158","v":0},{"$f":"'Wniosek 2026 r.'!E158","v":0},{"$f":"'Wniosek 2026 r.'!G158","v":0},{"$f":"'Wniosek 2026 r.'!C321","v":0},{"$f":"'Wniosek 2026 r.'!C631","v":0},{"$f":"'Wniosek 2026 r.'!C477","v":0},{"$f":"'Wniosek 2026 r.'!D477","v":0},{"$f":"'Wniosek 2026 r.'!F477","v":0},{"$f":"'Wniosek 2026 r.'!H477","v":0},{"$f":"'Wniosek 2026 r.'!C786","v":0},120,"","",0,"",0,0,0,0,0,0,0,0,"ok","ok",0,0,{"$f":"'Zał. nr 2 kalkulacja - 2026 r.'!C145","v":0},{"$f":"'Zał. nr 2 kalkulacja - 2026 r.'!D145","v":0},{"$f":"'Zał. nr 2 kalkulacja - 2026 r.'!E145","v":0},{"$f":"'Zał. nr 2 kalkulacja - 2026 r.'!F145","v":0},{"$f":"'Zał. nr 2 kalkulacja - 2026 r.'!G145","v":0},{"$f":"'Zał. nr 2 kalkulacja - 2026 r.'!H145","v":0},{"$f":"'Zał. nr 2 kalkulacja - 2026 r.'!I145","v":0},{"$f":"'Zał. nr 2 kalkulacja - 2026 r.'!J145","v":0},{"$f":"'Zał. nr 2 kalkulacja - 2026 r.'!K145","v":0},{"$f":"'Zał. nr 2 kalkulacja - 2026 r.'!L145","v":0},{"$f":"'Zał. nr 2 kalkulacja - 2026 r.'!M145","v":0},{"$f":"'Zał. nr 2 kalkulacja - 2026 r.'!N145","v":0}]
[{"$f":"'Wniosek 2026 r.'!A159","v":121},{"$f":"'Wniosek 2026 r.'!B159","v":0},{"$f":"'Wniosek 2026 r.'!E159","v":0},{"$f":"'Wniosek 2026 r.'!G159","v":0},{"$f":"'Wniosek 2026 r.'!C322","v":0},{"$f":"'Wniosek 2026 r.'!C632","v":0},{"$f":"'Wniosek 2026 r.'!C478","v":0},{"$f":"'Wniosek 2026 r.'!D478","v":0},{"$f":"'Wniosek 2026 r.'!F478","v":0},{"$f":"'Wniosek 2026 r.'!H478","v":0},{"$f":"'Wniosek 2026 r.'!C787","v":0},121,"","",0,"",0,0,0,0,0,0,0,0,"ok","ok",0,0,{"$f":"'Zał. nr 2 kalkulacja - 2026 r.'!C146","v":0},{"$f":"'Zał. nr 2 kalkulacja - 2026 r.'!D146","v":0},{"$f":"'Zał. nr 2 kalkulacja - 2026 r.'!E146","v":0},{"$f":"'Zał. nr 2 kalkulacja - 2026 r.'!F146","v":0},{"$f":"'Zał. nr 2 kalkulacja - 2026 r.'!G146","v":0},{"$f":"'Zał. nr 2 kalkulacja - 2026 r.'!H146","v":0},{"$f":"'Zał. nr 2 kalkulacja - 2026 r.'!I146","v":0},{"$f":"'Zał. nr 2 kalkulacja - 2026 r.'!J146","v":0},{"$f":"'Zał. nr 2 kalkulacja - 2026 r.'!K146","v":0},{"$f":"'Zał. nr 2 kalkulacja - 2026 r.'!L146","v":0},{"$f":"'Zał. nr 2 kalkulacja - 2026 r.'!M146","v":0},{"$f":"'Zał. nr 2 kalkulacja - 2026 r.'!N146","v":0}]
[{"$f":"'Wniosek 2026 r.'!A160","v":122},{"$f":"'Wniosek 2026 r.'!B160","v":0},{"$f":"'Wniosek 2026 r.'!E160","v":0},{"$f":"'Wniosek 2026 r.'!G160","v":0},{"$f":"'Wniosek 2026 r.'!C323","v":0},{"$f":"'Wniosek 2026 r.'!C633","v":0},{"$f":"'Wniosek 2026 r.'!C479","v":0},{"$f":"'Wniosek 2026 r.'!D479","v":0},{"$f":"'Wniosek 2026 r.'!F479","v":0},{"$f":"'Wniosek 2026 r.'!H479","v":0},{"$f":"'Wniosek 2026 r.'!C788","v":0},122,"","",0,"",0,0,0,0,0,0,0,0,"ok","ok",0,0,{"$f":"'Zał. nr 2 kalkulacja - 2026 r.'!C147","v":0},{"$f":"'Zał. nr 2 kalkulacja - 2026 r.'!D147","v":0},{"$f":"'Zał. nr 2 kalkulacja - 2026 r.'!E147","v":0},{"$f":"'Zał. nr 2 kalkulacja - 2026 r.'!F147","v":0},{"$f":"'Zał. nr 2 kalkulacja - 2026 r.'!G147","v":0},{"$f":"'Zał. nr 2 kalkulacja - 2026 r.'!H147","v":0},{"$f":"'Zał. nr 2 kalkulacja - 2026 r.'!I147","v":0},{"$f":"'Zał. nr 2 kalkulacja - 2026 r.'!J147","v":0},{"$f":"'Zał. nr 2 kalkulacja - 2026 r.'!K147","v":0},{"$f":"'Zał. nr 2 kalkulacja - 2026 r.'!L147","v":0},{"$f":"'Zał. nr 2 kalkulacja - 2026 r.'!M147","v":0},{"$f":"'Zał. nr 2 kalkulacja - 2026 r.'!N147","v":0}]
[{"$f":"'Wniosek 2026 r.'!A161","v":123},{"$f":"'Wniosek 2026 r.'!B161","v":0},{"$f":"'Wniosek 2026 r.'!E161","v":0},{"$f":"'Wniosek 2026 r.'!G161","v":0},{"$f":"'Wniosek 2026 r.'!C324","v":0},{"$f":"'Wniosek 2026 r.'!C634","v":0},{"$f":"'Wniosek 2026 r.'!C480","v":0},{"$f":"'Wniosek 2026 r.'!D480","v":0},{"$f":"'Wniosek 2026 r.'!F480","v":0},{"$f":"'Wniosek 2026 r.'!H480","v":0},{"$f":"'Wniosek 2026 r.'!C789","v":0},123,"","",0,"",0,0,0,0,0,0,0,0,"ok","ok",0,0,{"$f":"'Zał. nr 2 kalkulacja - 2026 r.'!C148","v":0},{"$f":"'Zał. nr 2 kalkulacja - 2026 r.'!D148","v":0},{"$f":"'Zał. nr 2 kalkulacja - 2026 r.'!E148","v":0},{"$f":"'Zał. nr 2 kalkulacja - 2026 r.'!F148","v":0},{"$f":"'Zał. nr 2 kalkulacja - 2026 r.'!G148","v":0},{"$f":"'Zał. nr 2 kalkulacja - 2026 r.'!H148","v":0},{"$f":"'Zał. nr 2 kalkulacja - 2026 r.'!I148","v":0},{"$f":"'Zał. nr 2 kalkulacja - 2026 r.'!J148","v":0},{"$f":"'Zał. nr 2 kalkulacja - 2026 r.'!K148","v":0},{"$f":"'Zał. nr 2 kalkulacja - 2026 r.'!L148","v":0},{"$f":"'Zał. nr 2 kalkulacja - 2026 r.'!M148","v":0},{"$f":"'Zał. nr 2 kalkulacja - 2026 r.'!N148","v":0}]
[{"$f":"'Wniosek 2026 r.'!A162","v":124},{"$f":"'Wniosek 2026 r.'!B162","v":0},{"$f":"'Wniosek 2026 r.'!E162","v":0},{"$f":"'Wniosek 2026 r.'!G162","v":0},{"$f":"'Wniosek 2026 r.'!C325","v":0},{"$f":"'Wniosek 2026 r.'!C635","v":0},{"$f":"'Wniosek 2026 r.'!C481","v":0},{"$f":"'Wniosek 2026 r.'!D481","v":0},{"$f":"'Wniosek 2026 r.'!F481","v":0},{"$f":"'Wniosek 2026 r.'!H481","v":0},{"$f":"'Wniosek 2026 r.'!C790","v":0},124,"","",0,"",0,0,0,0,0,0,0,0,"ok","ok",0,0,{"$f":"'Zał. nr 2 kalkulacja - 2026 r.'!C149","v":0},{"$f":"'Zał. nr 2 kalkulacja - 2026 r.'!D149","v":0},{"$f":"'Zał. nr 2 kalkulacja - 2026 r.'!E149","v":0},{"$f":"'Zał. nr 2 kalkulacja - 2026 r.'!F149","v":0},{"$f":"'Zał. nr 2 kalkulacja - 2026 r.'!G149","v":0},{"$f":"'Zał. nr 2 kalkulacja - 2026 r.'!H149","v":0},{"$f":"'Zał. nr 2 kalkulacja - 2026 r.'!I149","v":0},{"$f":"'Zał. nr 2 kalkulacja - 2026 r.'!J149","v":0},{"$f":"'Zał. nr 2 kalkulacja - 2026 r.'!K149","v":0},{"$f":"'Zał. nr 2 kalkulacja - 2026 r.'!L149","v":0},{"$f":"'Zał. nr 2 kalkulacja - 2026 r.'!M149","v":0},{"$f":"'Zał. nr 2 kalkulacja - 2026 r.'!N149","v":0}]
[{"$f":"'Wniosek 2026 r.'!A163","v":125},{"$f":"'Wniosek 2026 r.'!B163","v":0},{"$f":"'Wniosek 2026 r.'!E163","v":0},{"$f":"'Wniosek 2026 r.'!G163","v":0},{"$f":"'Wniosek 2026 r.'!C326","v":0},{"$f":"'Wniosek 2026 r.'!C636","v":0},{"$f":"'Wniosek 2026 r.'!C482","v":0},{"$f":"'Wniosek 2026 r.'!D482","v":0},{"$f":"'Wniosek 2026 r.'!F482","v":0},{"$f":"'Wniosek 2026 r.'!H482","v":0},{"$f":"'Wniosek 2026 r.'!C791","v":0},125,"","",0,"",0,0,0,0,0,0,0,0,"ok","ok",0,0,{"$f":"'Zał. nr 2 kalkulacja - 2026 r.'!C150","v":0},{"$f":"'Zał. nr 2 kalkulacja - 2026 r.'!D150","v":0},{"$f":"'Zał. nr 2 kalkulacja - 2026 r.'!E150","v":0},{"$f":"'Zał. nr 2 kalkulacja - 2026 r.'!F150","v":0},{"$f":"'Zał. nr 2 kalkulacja - 2026 r.'!G150","v":0},{"$f":"'Zał. nr 2 kalkulacja - 2026 r.'!H150","v":0},{"$f":"'Zał. nr 2 kalkulacja - 2026 r.'!I150","v":0},{"$f":"'Zał. nr 2 kalkulacja - 2026 r.'!J150","v":0},{"$f":"'Zał. nr 2 kalkulacja - 2026 r.'!K150","v":0},{"$f":"'Zał. nr 2 kalkulacja - 2026 r.'!L150","v":0},{"$f":"'Zał. nr 2 kalkulacja - 2026 r.'!M150","v":0},{"$f":"'Zał. nr 2 kalkulacja - 2026 r.'!N150","v":0}]
[{"$f":"'Wniosek 2026 r.'!A164","v":126},{"$f":"'Wniosek 2026 r.'!B164","v":0},{"$f":"'Wniosek 2026 r.'!E164","v":0},{"$f":"'Wniosek 2026 r.'!G164","v":0},{"$f":"'Wniosek 2026 r.'!C327","v":0},{"$f":"'Wniosek 2026 r.'!C637","v":0},{"$f":"'Wniosek 2026 r.'!C483","v":0},{"$f":"'Wniosek 2026 r.'!D483","v":0},{"$f":"'Wniosek 2026 r.'!F483","v":0},{"$f":"'Wniosek 2026 r.'!H483","v":0},{"$f":"'Wniosek 2026 r.'!C792","v":0},126,"","",0,"",0,0,0,0,0,0,0,0,"ok","ok",0,0,{"$f":"'Zał. nr 2 kalkulacja - 2026 r.'!C151","v":0},{"$f":"'Zał. nr 2 kalkulacja - 2026 r.'!D151","v":0},{"$f":"'Zał. nr 2 kalkulacja - 2026 r.'!E151","v":0},{"$f":"'Zał. nr 2 kalkulacja - 2026 r.'!F151","v":0},{"$f":"'Zał. nr 2 kalkulacja - 2026 r.'!G151","v":0},{"$f":"'Zał. nr 2 kalkulacja - 2026 r.'!H151","v":0},{"$f":"'Zał. nr 2 kalkulacja - 2026 r.'!I151","v":0},{"$f":"'Zał. nr 2 kalkulacja - 2026 r.'!J151","v":0},{"$f":"'Zał. nr 2 kalkulacja - 2026 r.'!K151","v":0},{"$f":"'Zał. nr 2 kalkulacja - 2026 r.'!L151","v":0},{"$f":"'Zał. nr 2 kalkulacja - 2026 r.'!M151","v":0},{"$f":"'Zał. nr 2 kalkulacja - 2026 r.'!N151","v":0}]
[{"$f":"'Wniosek 2026 r.'!A165","v":127},{"$f":"'Wniosek 2026 r.'!B165","v":0},{"$f":"'Wniosek 2026 r.'!E165","v":0},{"$f":"'Wniosek 2026 r.'!G165","v":0},{"$f":"'Wniosek 2026 r.'!C328","v":0},{"$f":"'Wniosek 2026 r.'!C638","v":0},{"$f":"'Wniosek 2026 r.'!C484","v":0},{"$f":"'Wniosek 2026 r.'!D484","v":0},{"$f":"'Wniosek 2026 r.'!F484","v":0},{"$f":"'Wniosek 2026 r.'!H484","v":0},{"$f":"'Wniosek 2026 r.'!C793","v":0},127,"","",0,"",0,0,0,0,0,0,0,0,"ok","ok",0,0,{"$f":"'Zał. nr 2 kalkulacja - 2026 r.'!C152","v":0},{"$f":"'Zał. nr 2 kalkulacja - 2026 r.'!D152","v":0},{"$f":"'Zał. nr 2 kalkulacja - 2026 r.'!E152","v":0},{"$f":"'Zał. nr 2 kalkulacja - 2026 r.'!F152","v":0},{"$f":"'Zał. nr 2 kalkulacja - 2026 r.'!G152","v":0},{"$f":"'Zał. nr 2 kalkulacja - 2026 r.'!H152","v":0},{"$f":"'Zał. nr 2 kalkulacja - 2026 r.'!I152","v":0},{"$f":"'Zał. nr 2 kalkulacja - 2026 r.'!J152","v":0},{"$f":"'Zał. nr 2 kalkulacja - 2026 r.'!K152","v":0},{"$f":"'Zał. nr 2 kalkulacja - 2026 r.'!L152","v":0},{"$f":"'Zał. nr 2 kalkulacja - 2026 r.'!M152","v":0},{"$f":"'Zał. nr 2 kalkulacja - 2026 r.'!N152","v":0}]
[{"$f":"'Wniosek 2026 r.'!A166","v":128},{"$f":"'Wniosek 2026 r.'!B166","v":0},{"$f":"'Wniosek 2026 r.'!E166","v":0},{"$f":"'Wniosek 2026 r.'!G166","v":0},{"$f":"'Wniosek 2026 r.'!C329","v":0},{"$f":"'Wniosek 2026 r.'!C639","v":0},{"$f":"'Wniosek 2026 r.'!C485","v":0},{"$f":"'Wniosek 2026 r.'!D485","v":0},{"$f":"'Wniosek 2026 r.'!F485","v":0},{"$f":"'Wniosek 2026 r.'!H485","v":0},{"$f":"'Wniosek 2026 r.'!C794","v":0},{"$f":"A129","v":128},"","",0,"",0,0,0,0,0,0,0,0,"ok","ok",0,0,{"$f":"'Zał. nr 2 kalkulacja - 2026 r.'!C153","v":0},{"$f":"'Zał. nr 2 kalkulacja - 2026 r.'!D153","v":0},{"$f":"'Zał. nr 2 kalkulacja - 2026 r.'!E153","v":0},{"$f":"'Zał. nr 2 kalkulacja - 2026 r.'!F153","v":0},{"$f":"'Zał. nr 2 kalkulacja - 2026 r.'!G153","v":0},{"$f":"'Zał. nr 2 kalkulacja - 2026 r.'!H153","v":0},{"$f":"'Zał. nr 2 kalkulacja - 2026 r.'!I153","v":0},{"$f":"'Zał. nr 2 kalkulacja - 2026 r.'!J153","v":0},{"$f":"'Zał. nr 2 kalkulacja - 2026 r.'!K153","v":0},{"$f":"'Zał. nr 2 kalkulacja - 2026 r.'!L153","v":0},{"$f":"'Zał. nr 2 kalkulacja - 2026 r.'!M153","v":0},{"$f":"'Zał. nr 2 kalkulacja - 2026 r.'!N153","v":0}]
[{"$f":"'Wniosek 2026 r.'!A167","v":129},{"$f":"'Wniosek 2026 r.'!B167","v":0},{"$f":"'Wniosek 2026 r.'!E167","v":0},{"$f":"'Wniosek 2026 r.'!G167","v":0},{"$f":"'Wniosek 2026 r.'!C330","v":0},{"$f":"'Wniosek 2026 r.'!C640","v":0},{"$f":"'Wniosek 2026 r.'!C486","v":0},{"$f":"'Wniosek 2026 r.'!D486","v":0},{"$f":"'Wniosek 2026 r.'!F486","v":0},{"$f":"'Wniosek 2026 r.'!H486","v":0},{"$f":"'Wniosek 2026 r.'!C795","v":0},129,{"$f":"IFERROR(E130/C130,\"\")","v":""},{"$f":"IFERROR(F130/E130,\"\")","v":""},{"$f":"H130","v":0},"",{"$f":"O130*E130","v":0},{"$f":"G130*E130","v":0},{"$f":"IFERROR(U130*E130,0)","v":0},{"$f":"IFERROR(U130*E130,0)","v":0},{"$f":"IFERROR(IF((F130-J130)/E130>=$AP$2,$AP$2,(F130-J130)/E130),0)","v":0},{"$f":"IFERROR(K130/E130,0)","v":0},{"$f":"F130*0.1","v":0},0,{"$f":"IF(O130>=X130,$AQ$1,$AQ$2)","v":"ok"},{"$f":"IF(V130<=$AP$2,$AQ$1,$AQ$2)","v":"ok"},{"$f":"(S130+Q130)-F130","v":0},{"$f":"F130-R130","v":0},{"$f":"'Zał. nr 2 kalkulacja - 2026 r.'!C154","v":0},{"$f":"'Zał. nr 2 kalkulacja - 2026 r.'!D154","v":0},{"$f":"'Zał. nr 2 kalkulacja - 2026 r.'!E154","v":0},{"$f":"'Zał. nr 2 kalkulacja - 2026 r.'!F154","v":0},{"$f":"'Zał. nr 2 kalkulacja - 2026 r.'!G154","v":0},{"$f":"'Zał. nr 2 kalkulacja - 2026 r.'!H154","v":0},{"$f":"'Zał. nr 2 kalkulacja - 2026 r.'!I154","v":0},{"$f":"'Zał. nr 2 kalkulacja - 2026 r.'!J154","v":0},{"$f":"'Zał. nr 2 kalkulacja - 2026 r.'!K154","v":0},{"$f":"'Zał. nr 2 kalkulacja - 2026 r.'!L154","v":0},{"$f":"'Zał. nr 2 kalkulacja - 2026 r.'!M154","v":0},{"$f":"'Zał. nr 2 kalkulacja - 2026 r.'!N154","v":0}]
[{"$f":"'Wniosek 2026 r.'!A168","v":130},{"$f":"'Wniosek 2026 r.'!B168","v":0},{"$f":"'Wniosek 2026 r.'!E168","v":0},{"$f":"'Wniosek 2026 r.'!G168","v":0},{"$f":"'Wniosek 2026 r.'!C331","v":0},{"$f":"'Wniosek 2026 r.'!C641","v":0},{"$f":"'Wniosek 2026 r.'!C487","v":0},{"$f":"'Wniosek 2026 r.'!D487","v":0},{"$f":"'Wniosek 2026 r.'!F487","v":0},{"$f":"'Wniosek 2026 r.'!H487","v":0},{"$f":"'Wniosek 2026 r.'!C796","v":0},130,"","",0,{"$f":"IFERROR(O131/N131,\"\")","v":""},0,0,0,0,0,0,0,{"$f":"IFERROR(N131*0.1,0)","v":0},"ok","ok",0,0,{"$f":"'Zał. nr 2 kalkulacja - 2026 r.'!C155","v":0},{"$f":"'Zał. nr 2 kalkulacja - 2026 r.'!D155","v":0},{"$f":"'Zał. nr 2 kalkulacja - 2026 r.'!E155","v":0},{"$f":"'Zał. nr 2 kalkulacja - 2026 r.'!F155","v":0},{"$f":"'Zał. nr 2 kalkulacja - 2026 r.'!G155","v":0},{"$f":"'Zał. nr 2 kalkulacja - 2026 r.'!H155","v":0},{"$f":"'Zał. nr 2 kalkulacja - 2026 r.'!I155","v":0},{"$f":"'Zał. nr 2 kalkulacja - 2026 r.'!J155","v":0},{"$f":"'Zał. nr 2 kalkulacja - 2026 r.'!K155","v":0},{"$f":"'Zał. nr 2 kalkulacja - 2026 r.'!L155","v":0},{"$f":"'Zał. nr 2 kalkulacja - 2026 r.'!M155","v":0},{"$f":"'Zał. nr 2 kalkulacja - 2026 r.'!N155","v":0}]
[{"$f":"'Wniosek 2026 r.'!A169","v":131},{"$f":"'Wniosek 2026 r.'!B169","v":0},{"$f":"'Wniosek 2026 r.'!E169","v":0},{"$f":"'Wniosek 2026 r.'!G169","v":0},{"$f":"'Wniosek 2026 r.'!C332","v":0},{"$f":"'Wniosek 2026 r.'!C642","v":0},{"$f":"'Wniosek 2026 r.'!C488","v":0},{"$f":"'Wniosek 2026 r.'!D488","v":0},{"$f":"'Wniosek 2026 r.'!F488","v":0},{"$f":"'Wniosek 2026 r.'!H488","v":0},{"$f":"'Wniosek 2026 r.'!C797","v":0},131,"","",0,"",0,0,0,0,0,0,0,0,"ok","ok",0,0,{"$f":"'Zał. nr 2 kalkulacja - 2026 r.'!C156","v":0},{"$f":"'Zał. nr 2 kalkulacja - 2026 r.'!D156","v":0},{"$f":"'Zał. nr 2 kalkulacja - 2026 r.'!E156","v":0},{"$f":"'Zał. nr 2 kalkulacja - 2026 r.'!F156","v":0},{"$f":"'Zał. nr 2 kalkulacja - 2026 r.'!G156","v":0},{"$f":"'Zał. nr 2 kalkulacja - 2026 r.'!H156","v":0},{"$f":"'Zał. nr 2 kalkulacja - 2026 r.'!I156","v":0},{"$f":"'Zał. nr 2 kalkulacja - 2026 r.'!J156","v":0},{"$f":"'Zał. nr 2 kalkulacja - 2026 r.'!K156","v":0},{"$f":"'Zał. nr 2 kalkulacja - 2026 r.'!L156","v":0},{"$f":"'Zał. nr 2 kalkulacja - 2026 r.'!M156","v":0},{"$f":"'Zał. nr 2 kalkulacja - 2026 r.'!N156","v":0}]
[{"$f":"'Wniosek 2026 r.'!A170","v":132},{"$f":"'Wniosek 2026 r.'!B170","v":0},{"$f":"'Wniosek 2026 r.'!E170","v":0},{"$f":"'Wniosek 2026 r.'!G170","v":0},{"$f":"'Wniosek 2026 r.'!C333","v":0},{"$f":"'Wniosek 2026 r.'!C643","v":0},{"$f":"'Wniosek 2026 r.'!C489","v":0},{"$f":"'Wniosek 2026 r.'!D489","v":0},{"$f":"'Wniosek 2026 r.'!F489","v":0},{"$f":"'Wniosek 2026 r.'!H489","v":0},{"$f":"'Wniosek 2026 r.'!C798","v":0},132,"","",0,"",0,0,0,0,0,0,0,0,"ok","ok",0,0,{"$f":"'Zał. nr 2 kalkulacja - 2026 r.'!C157","v":0},{"$f":"'Zał. nr 2 kalkulacja - 2026 r.'!D157","v":0},{"$f":"'Zał. nr 2 kalkulacja - 2026 r.'!E157","v":0},{"$f":"'Zał. nr 2 kalkulacja - 2026 r.'!F157","v":0},{"$f":"'Zał. nr 2 kalkulacja - 2026 r.'!G157","v":0},{"$f":"'Zał. nr 2 kalkulacja - 2026 r.'!H157","v":0},{"$f":"'Zał. nr 2 kalkulacja - 2026 r.'!I157","v":0},{"$f":"'Zał. nr 2 kalkulacja - 2026 r.'!J157","v":0},{"$f":"'Zał. nr 2 kalkulacja - 2026 r.'!K157","v":0},{"$f":"'Zał. nr 2 kalkulacja - 2026 r.'!L157","v":0},{"$f":"'Zał. nr 2 kalkulacja - 2026 r.'!M157","v":0},{"$f":"'Zał. nr 2 kalkulacja - 2026 r.'!N157","v":0}]
[{"$f":"'Wniosek 2026 r.'!A171","v":133},{"$f":"'Wniosek 2026 r.'!B171","v":0},{"$f":"'Wniosek 2026 r.'!E171","v":0},{"$f":"'Wniosek 2026 r.'!G171","v":0},{"$f":"'Wniosek 2026 r.'!C334","v":0},{"$f":"'Wniosek 2026 r.'!C644","v":0},{"$f":"'Wniosek 2026 r.'!C490","v":0},{"$f":"'Wniosek 2026 r.'!D490","v":0},{"$f":"'Wniosek 2026 r.'!F490","v":0},{"$f":"'Wniosek 2026 r.'!H490","v":0},{"$f":"'Wniosek 2026 r.'!C799","v":0},133,"","",0,"",0,0,0,0,0,0,0,0,"ok","ok",0,0,{"$f":"'Zał. nr 2 kalkulacja - 2026 r.'!C158","v":0},{"$f":"'Zał. nr 2 kalkulacja - 2026 r.'!D158","v":0},{"$f":"'Zał. nr 2 kalkulacja - 2026 r.'!E158","v":0},{"$f":"'Zał. nr 2 kalkulacja - 2026 r.'!F158","v":0},{"$f":"'Zał. nr 2 kalkulacja - 2026 r.'!G158","v":0},{"$f":"'Zał. nr 2 kalkulacja - 2026 r.'!H158","v":0},{"$f":"'Zał. nr 2 kalkulacja - 2026 r.'!I158","v":0},{"$f":"'Zał. nr 2 kalkulacja - 2026 r.'!J158","v":0},{"$f":"'Zał. nr 2 kalkulacja - 2026 r.'!K158","v":0},{"$f":"'Zał. nr 2 kalkulacja - 2026 r.'!L158","v":0},{"$f":"'Zał. nr 2 kalkulacja - 2026 r.'!M158","v":0},{"$f":"'Zał. nr 2 kalkulacja - 2026 r.'!N158","v":0}]
[{"$f":"'Wniosek 2026 r.'!A172","v":134},{"$f":"'Wniosek 2026 r.'!B172","v":0},{"$f":"'Wniosek 2026 r.'!E172","v":0},{"$f":"'Wniosek 2026 r.'!G172","v":0},{"$f":"'Wniosek 2026 r.'!C335","v":0},{"$f":"'Wniosek 2026 r.'!C645","v":0},{"$f":"'Wniosek 2026 r.'!C491","v":0},{"$f":"'Wniosek 2026 r.'!D491","v":0},{"$f":"'Wniosek 2026 r.'!F491","v":0},{"$f":"'Wniosek 2026 r.'!H491","v":0},{"$f":"'Wniosek 2026 r.'!C800","v":0},134,"","",0,"",0,0,0,0,0,0,0,0,"ok","ok",0,0,{"$f":"'Zał. nr 2 kalkulacja - 2026 r.'!C159","v":0},{"$f":"'Zał. nr 2 kalkulacja - 2026 r.'!D159","v":0},{"$f":"'Zał. nr 2 kalkulacja - 2026 r.'!E159","v":0},{"$f":"'Zał. nr 2 kalkulacja - 2026 r.'!F159","v":0},{"$f":"'Zał. nr 2 kalkulacja - 2026 r.'!G159","v":0},{"$f":"'Zał. nr 2 kalkulacja - 2026 r.'!H159","v":0},{"$f":"'Zał. nr 2 kalkulacja - 2026 r.'!I159","v":0},{"$f":"'Zał. nr 2 kalkulacja - 2026 r.'!J159","v":0},{"$f":"'Zał. nr 2 kalkulacja - 2026 r.'!K159","v":0},{"$f":"'Zał. nr 2 kalkulacja - 2026 r.'!L159","v":0},{"$f":"'Zał. nr 2 kalkulacja - 2026 r.'!M159","v":0},{"$f":"'Zał. nr 2 kalkulacja - 2026 r.'!N159","v":0}]
[{"$f":"'Wniosek 2026 r.'!A173","v":135},{"$f":"'Wniosek 2026 r.'!B173","v":0},{"$f":"'Wniosek 2026 r.'!E173","v":0},{"$f":"'Wniosek 2026 r.'!G173","v":0},{"$f":"'Wniosek 2026 r.'!C336","v":0},{"$f":"'Wniosek 2026 r.'!C646","v":0},{"$f":"'Wniosek 2026 r.'!C492","v":0},{"$f":"'Wniosek 2026 r.'!D492","v":0},{"$f":"'Wniosek 2026 r.'!F492","v":0},{"$f":"'Wniosek 2026 r.'!H492","v":0},{"$f":"'Wniosek 2026 r.'!C801","v":0},135,"","",0,"",0,0,0,0,0,0,0,0,"ok","ok",0,0,{"$f":"'Zał. nr 2 kalkulacja - 2026 r.'!C160","v":0},{"$f":"'Zał. nr 2 kalkulacja - 2026 r.'!D160","v":0},{"$f":"'Zał. nr 2 kalkulacja - 2026 r.'!E160","v":0},{"$f":"'Zał. nr 2 kalkulacja - 2026 r.'!F160","v":0},{"$f":"'Zał. nr 2 kalkulacja - 2026 r.'!G160","v":0},{"$f":"'Zał. nr 2 kalkulacja - 2026 r.'!H160","v":0},{"$f":"'Zał. nr 2 kalkulacja - 2026 r.'!I160","v":0},{"$f":"'Zał. nr 2 kalkulacja - 2026 r.'!J160","v":0},{"$f":"'Zał. nr 2 kalkulacja - 2026 r.'!K160","v":0},{"$f":"'Zał. nr 2 kalkulacja - 2026 r.'!L160","v":0},{"$f":"'Zał. nr 2 kalkulacja - 2026 r.'!M160","v":0},{"$f":"'Zał. nr 2 kalkulacja - 2026 r.'!N160","v":0}]
[{"$f":"'Wniosek 2026 r.'!A174","v":136},{"$f":"'Wniosek 2026 r.'!B174","v":0},{"$f":"'Wniosek 2026 r.'!E174","v":0},{"$f":"'Wniosek 2026 r.'!G174","v":0},{"$f":"'Wniosek 2026 r.'!C337","v":0},{"$f":"'Wniosek 2026 r.'!C647","v":0},{"$f":"'Wniosek 2026 r.'!C493","v":0},{"$f":"'Wniosek 2026 r.'!D493","v":0},{"$f":"'Wniosek 2026 r.'!F493","v":0},{"$f":"'Wniosek 2026 r.'!H493","v":0},{"$f":"'Wniosek 2026 r.'!C802","v":0},136,"","",0,"",0,0,0,0,0,0,0,0,"ok","ok",0,0,{"$f":"'Zał. nr 2 kalkulacja - 2026 r.'!C161","v":0},{"$f":"'Zał. nr 2 kalkulacja - 2026 r.'!D161","v":0},{"$f":"'Zał. nr 2 kalkulacja - 2026 r.'!E161","v":0},{"$f":"'Zał. nr 2 kalkulacja - 2026 r.'!F161","v":0},{"$f":"'Zał. nr 2 kalkulacja - 2026 r.'!G161","v":0},{"$f":"'Zał. nr 2 kalkulacja - 2026 r.'!H161","v":0},{"$f":"'Zał. nr 2 kalkulacja - 2026 r.'!I161","v":0},{"$f":"'Zał. nr 2 kalkulacja - 2026 r.'!J161","v":0},{"$f":"'Zał. nr 2 kalkulacja - 2026 r.'!K161","v":0},{"$f":"'Zał. nr 2 kalkulacja - 2026 r.'!L161","v":0},{"$f":"'Zał. nr 2 kalkulacja - 2026 r.'!M161","v":0},{"$f":"'Zał. nr 2 kalkulacja - 2026 r.'!N161","v":0}]
[{"$f":"'Wniosek 2026 r.'!A175","v":137},{"$f":"'Wniosek 2026 r.'!B175","v":0},{"$f":"'Wniosek 2026 r.'!E175","v":0},{"$f":"'Wniosek 2026 r.'!G175","v":0},{"$f":"'Wniosek 2026 r.'!C338","v":0},{"$f":"'Wniosek 2026 r.'!C648","v":0},{"$f":"'Wniosek 2026 r.'!C494","v":0},{"$f":"'Wniosek 2026 r.'!D494","v":0},{"$f":"'Wniosek 2026 r.'!F494","v":0},{"$f":"'Wniosek 2026 r.'!H494","v":0},{"$f":"'Wniosek 2026 r.'!C803","v":0},137,"","",0,"",0,0,0,0,0,0,0,0,"ok","ok",0,0,{"$f":"'Zał. nr 2 kalkulacja - 2026 r.'!C162","v":0},{"$f":"'Zał. nr 2 kalkulacja - 2026 r.'!D162","v":0},{"$f":"'Zał. nr 2 kalkulacja - 2026 r.'!E162","v":0},{"$f":"'Zał. nr 2 kalkulacja - 2026 r.'!F162","v":0},{"$f":"'Zał. nr 2 kalkulacja - 2026 r.'!G162","v":0},{"$f":"'Zał. nr 2 kalkulacja - 2026 r.'!H162","v":0},{"$f":"'Zał. nr 2 kalkulacja - 2026 r.'!I162","v":0},{"$f":"'Zał. nr 2 kalkulacja - 2026 r.'!J162","v":0},{"$f":"'Zał. nr 2 kalkulacja - 2026 r.'!K162","v":0},{"$f":"'Zał. nr 2 kalkulacja - 2026 r.'!L162","v":0},{"$f":"'Zał. nr 2 kalkulacja - 2026 r.'!M162","v":0},{"$f":"'Zał. nr 2 kalkulacja - 2026 r.'!N162","v":0}]
[{"$f":"'Wniosek 2026 r.'!A176","v":138},{"$f":"'Wniosek 2026 r.'!B176","v":0},{"$f":"'Wniosek 2026 r.'!E176","v":0},{"$f":"'Wniosek 2026 r.'!G176","v":0},{"$f":"'Wniosek 2026 r.'!C339","v":0},{"$f":"'Wniosek 2026 r.'!C649","v":0},{"$f":"'Wniosek 2026 r.'!C495","v":0},{"$f":"'Wniosek 2026 r.'!D495","v":0},{"$f":"'Wniosek 2026 r.'!F495","v":0},{"$f":"'Wniosek 2026 r.'!H495","v":0},{"$f":"'Wniosek 2026 r.'!C804","v":0},138,"","",0,"",0,0,0,0,0,0,0,0,"ok","ok",0,0,{"$f":"'Zał. nr 2 kalkulacja - 2026 r.'!C163","v":0},{"$f":"'Zał. nr 2 kalkulacja - 2026 r.'!D163","v":0},{"$f":"'Zał. nr 2 kalkulacja - 2026 r.'!E163","v":0},{"$f":"'Zał. nr 2 kalkulacja - 2026 r.'!F163","v":0},{"$f":"'Zał. nr 2 kalkulacja - 2026 r.'!G163","v":0},{"$f":"'Zał. nr 2 kalkulacja - 2026 r.'!H163","v":0},{"$f":"'Zał. nr 2 kalkulacja - 2026 r.'!I163","v":0},{"$f":"'Zał. nr 2 kalkulacja - 2026 r.'!J163","v":0},{"$f":"'Zał. nr 2 kalkulacja - 2026 r.'!K163","v":0},{"$f":"'Zał. nr 2 kalkulacja - 2026 r.'!L163","v":0},{"$f":"'Zał. nr 2 kalkulacja - 2026 r.'!M163","v":0},{"$f":"'Zał. nr 2 kalkulacja - 2026 r.'!N163","v":0}]
[{"$f":"'Wniosek 2026 r.'!A177","v":139},{"$f":"'Wniosek 2026 r.'!B177","v":0},{"$f":"'Wniosek 2026 r.'!E177","v":0},{"$f":"'Wniosek 2026 r.'!G177","v":0},{"$f":"'Wniosek 2026 r.'!C340","v":0},{"$f":"'Wniosek 2026 r.'!C650","v":0},{"$f":"'Wniosek 2026 r.'!C496","v":0},{"$f":"'Wniosek 2026 r.'!D496","v":0},{"$f":"'Wniosek 2026 r.'!F496","v":0},{"$f":"'Wniosek 2026 r.'!H496","v":0},{"$f":"'Wniosek 2026 r.'!C805","v":0},139,"","",0,"",0,0,0,0,0,0,0,0,"ok","ok",0,0,{"$f":"'Zał. nr 2 kalkulacja - 2026 r.'!C164","v":0},{"$f":"'Zał. nr 2 kalkulacja - 2026 r.'!D164","v":0},{"$f":"'Zał. nr 2 kalkulacja - 2026 r.'!E164","v":0},{"$f":"'Zał. nr 2 kalkulacja - 2026 r.'!F164","v":0},{"$f":"'Zał. nr 2 kalkulacja - 2026 r.'!G164","v":0},{"$f":"'Zał. nr 2 kalkulacja - 2026 r.'!H164","v":0},{"$f":"'Zał. nr 2 kalkulacja - 2026 r.'!I164","v":0},{"$f":"'Zał. nr 2 kalkulacja - 2026 r.'!J164","v":0},{"$f":"'Zał. nr 2 kalkulacja - 2026 r.'!K164","v":0},{"$f":"'Zał. nr 2 kalkulacja - 2026 r.'!L164","v":0},{"$f":"'Zał. nr 2 kalkulacja - 2026 r.'!M164","v":0},{"$f":"'Zał. nr 2 kalkulacja - 2026 r.'!N164","v":0}]
[{"$f":"'Wniosek 2026 r.'!A178","v":140},{"$f":"'Wniosek 2026 r.'!B178","v":0},{"$f":"'Wniosek 2026 r.'!E178","v":0},{"$f":"'Wniosek 2026 r.'!G178","v":0},{"$f":"'Wniosek 2026 r.'!C341","v":0},{"$f":"'Wniosek 2026 r.'!C651","v":0},{"$f":"'Wniosek 2026 r.'!C497","v":0},{"$f":"'Wniosek 2026 r.'!D497","v":0},{"$f":"'Wniosek 2026 r.'!F497","v":0},{"$f":"'Wniosek 2026 r.'!H497","v":0},{"$f":"'Wniosek 2026 r.'!C806","v":0},140,"","",0,"",0,0,0,0,0,0,0,0,"ok","ok",0,0,{"$f":"'Zał. nr 2 kalkulacja - 2026 r.'!C165","v":0},{"$f":"'Zał. nr 2 kalkulacja - 2026 r.'!D165","v":0},{"$f":"'Zał. nr 2 kalkulacja - 2026 r.'!E165","v":0},{"$f":"'Zał. nr 2 kalkulacja - 2026 r.'!F165","v":0},{"$f":"'Zał. nr 2 kalkulacja - 2026 r.'!G165","v":0},{"$f":"'Zał. nr 2 kalkulacja - 2026 r.'!H165","v":0},{"$f":"'Zał. nr 2 kalkulacja - 2026 r.'!I165","v":0},{"$f":"'Zał. nr 2 kalkulacja - 2026 r.'!J165","v":0},{"$f":"'Zał. nr 2 kalkulacja - 2026 r.'!K165","v":0},{"$f":"'Zał. nr 2 kalkulacja - 2026 r.'!L165","v":0},{"$f":"'Zał. nr 2 kalkulacja - 2026 r.'!M165","v":0},{"$f":"'Zał. nr 2 kalkulacja - 2026 r.'!N165","v":0}]
[{"$f":"'Wniosek 2026 r.'!A179","v":141},{"$f":"'Wniosek 2026 r.'!B179","v":0},{"$f":"'Wniosek 2026 r.'!E179","v":0},{"$f":"'Wniosek 2026 r.'!G179","v":0},{"$f":"'Wniosek 2026 r.'!C342","v":0},{"$f":"'Wniosek 2026 r.'!C652","v":0},{"$f":"'Wniosek 2026 r.'!C498","v":0},{"$f":"'Wniosek 2026 r.'!D498","v":0},{"$f":"'Wniosek 2026 r.'!F498","v":0},{"$f":"'Wniosek 2026 r.'!H498","v":0},{"$f":"'Wniosek 2026 r.'!C807","v":0},141,"","",0,"",0,0,0,0,0,0,0,0,"ok","ok",0,0,{"$f":"'Zał. nr 2 kalkulacja - 2026 r.'!C166","v":0},{"$f":"'Zał. nr 2 kalkulacja - 2026 r.'!D166","v":0},{"$f":"'Zał. nr 2 kalkulacja - 2026 r.'!E166","v":0},{"$f":"'Zał. nr 2 kalkulacja - 2026 r.'!F166","v":0},{"$f":"'Zał. nr 2 kalkulacja - 2026 r.'!G166","v":0},{"$f":"'Zał. nr 2 kalkulacja - 2026 r.'!H166","v":0},{"$f":"'Zał. nr 2 kalkulacja - 2026 r.'!I166","v":0},{"$f":"'Zał. nr 2 kalkulacja - 2026 r.'!J166","v":0},{"$f":"'Zał. nr 2 kalkulacja - 2026 r.'!K166","v":0},{"$f":"'Zał. nr 2 kalkulacja - 2026 r.'!L166","v":0},{"$f":"'Zał. nr 2 kalkulacja - 2026 r.'!M166","v":0},{"$f":"'Zał. nr 2 kalkulacja - 2026 r.'!N166","v":0}]
[{"$f":"'Wniosek 2026 r.'!A180","v":142},{"$f":"'Wniosek 2026 r.'!B180","v":0},{"$f":"'Wniosek 2026 r.'!E180","v":0},{"$f":"'Wniosek 2026 r.'!G180","v":0},{"$f":"'Wniosek 2026 r.'!C343","v":0},{"$f":"'Wniosek 2026 r.'!C653","v":0},{"$f":"'Wniosek 2026 r.'!C499","v":0},{"$f":"'Wniosek 2026 r.'!D499","v":0},{"$f":"'Wniosek 2026 r.'!F499","v":0},{"$f":"'Wniosek 2026 r.'!H499","v":0},{"$f":"'Wniosek 2026 r.'!C808","v":0},142,"","",0,"",0,0,0,0,0,0,0,0,"ok","ok",0,0,{"$f":"'Zał. nr 2 kalkulacja - 2026 r.'!C167","v":0},{"$f":"'Zał. nr 2 kalkulacja - 2026 r.'!D167","v":0},{"$f":"'Zał. nr 2 kalkulacja - 2026 r.'!E167","v":0},{"$f":"'Zał. nr 2 kalkulacja - 2026 r.'!F167","v":0},{"$f":"'Zał. nr 2 kalkulacja - 2026 r.'!G167","v":0},{"$f":"'Zał. nr 2 kalkulacja - 2026 r.'!H167","v":0},{"$f":"'Zał. nr 2 kalkulacja - 2026 r.'!I167","v":0},{"$f":"'Zał. nr 2 kalkulacja - 2026 r.'!J167","v":0},{"$f":"'Zał. nr 2 kalkulacja - 2026 r.'!K167","v":0},{"$f":"'Zał. nr 2 kalkulacja - 2026 r.'!L167","v":0},{"$f":"'Zał. nr 2 kalkulacja - 2026 r.'!M167","v":0},{"$f":"'Zał. nr 2 kalkulacja - 2026 r.'!N167","v":0}]
[{"$f":"'Wniosek 2026 r.'!A181","v":143},{"$f":"'Wniosek 2026 r.'!B181","v":0},{"$f":"'Wniosek 2026 r.'!E181","v":0},{"$f":"'Wniosek 2026 r.'!G181","v":0},{"$f":"'Wniosek 2026 r.'!C344","v":0},{"$f":"'Wniosek 2026 r.'!C654","v":0},{"$f":"'Wniosek 2026 r.'!C500","v":0},{"$f":"'Wniosek 2026 r.'!D500","v":0},{"$f":"'Wniosek 2026 r.'!F500","v":0},{"$f":"'Wniosek 2026 r.'!H500","v":0},{"$f":"'Wniosek 2026 r.'!C809","v":0},143,"","",0,"",0,0,0,0,0,0,0,0,"ok","ok",0,0,{"$f":"'Zał. nr 2 kalkulacja - 2026 r.'!C168","v":0},{"$f":"'Zał. nr 2 kalkulacja - 2026 r.'!D168","v":0},{"$f":"'Zał. nr 2 kalkulacja - 2026 r.'!E168","v":0},{"$f":"'Zał. nr 2 kalkulacja - 2026 r.'!F168","v":0},{"$f":"'Zał. nr 2 kalkulacja - 2026 r.'!G168","v":0},{"$f":"'Zał. nr 2 kalkulacja - 2026 r.'!H168","v":0},{"$f":"'Zał. nr 2 kalkulacja - 2026 r.'!I168","v":0},{"$f":"'Zał. nr 2 kalkulacja - 2026 r.'!J168","v":0},{"$f":"'Zał. nr 2 kalkulacja - 2026 r.'!K168","v":0},{"$f":"'Zał. nr 2 kalkulacja - 2026 r.'!L168","v":0},{"$f":"'Zał. nr 2 kalkulacja - 2026 r.'!M168","v":0},{"$f":"'Zał. nr 2 kalkulacja - 2026 r.'!N168","v":0}]
[{"$f":"'Wniosek 2026 r.'!A182","v":144},{"$f":"'Wniosek 2026 r.'!B182","v":0},{"$f":"'Wniosek 2026 r.'!E182","v":0},{"$f":"'Wniosek 2026 r.'!G182","v":0},{"$f":"'Wniosek 2026 r.'!C345","v":0},{"$f":"'Wniosek 2026 r.'!C655","v":0},{"$f":"'Wniosek 2026 r.'!C501","v":0},{"$f":"'Wniosek 2026 r.'!D501","v":0},{"$f":"'Wniosek 2026 r.'!F501","v":0},{"$f":"'Wniosek 2026 r.'!H501","v":0},{"$f":"'Wniosek 2026 r.'!C810","v":0},144,"","",0,"",0,0,0,0,0,0,0,0,"ok","ok",0,0,{"$f":"'Zał. nr 2 kalkulacja - 2026 r.'!C169","v":0},{"$f":"'Zał. nr 2 kalkulacja - 2026 r.'!D169","v":0},{"$f":"'Zał. nr 2 kalkulacja - 2026 r.'!E169","v":0},{"$f":"'Zał. nr 2 kalkulacja - 2026 r.'!F169","v":0},{"$f":"'Zał. nr 2 kalkulacja - 2026 r.'!G169","v":0},{"$f":"'Zał. nr 2 kalkulacja - 2026 r.'!H169","v":0},{"$f":"'Zał. nr 2 kalkulacja - 2026 r.'!I169","v":0},{"$f":"'Zał. nr 2 kalkulacja - 2026 r.'!J169","v":0},{"$f":"'Zał. nr 2 kalkulacja - 2026 r.'!K169","v":0},{"$f":"'Zał. nr 2 kalkulacja - 2026 r.'!L169","v":0},{"$f":"'Zał. nr 2 kalkulacja - 2026 r.'!M169","v":0},{"$f":"'Zał. nr 2 kalkulacja - 2026 r.'!N169","v":0}]
[{"$f":"'Wniosek 2026 r.'!A183","v":145},{"$f":"'Wniosek 2026 r.'!B183","v":0},{"$f":"'Wniosek 2026 r.'!E183","v":0},{"$f":"'Wniosek 2026 r.'!G183","v":0},{"$f":"'Wniosek 2026 r.'!C346","v":0},{"$f":"'Wniosek 2026 r.'!C656","v":0},{"$f":"'Wniosek 2026 r.'!C502","v":0},{"$f":"'Wniosek 2026 r.'!D502","v":0},{"$f":"'Wniosek 2026 r.'!F502","v":0},{"$f":"'Wniosek 2026 r.'!H502","v":0},{"$f":"'Wniosek 2026 r.'!C811","v":0},145,"","",0,"",0,0,0,0,0,0,0,0,"ok","ok",0,0,{"$f":"'Zał. nr 2 kalkulacja - 2026 r.'!C170","v":0},{"$f":"'Zał. nr 2 kalkulacja - 2026 r.'!D170","v":0},{"$f":"'Zał. nr 2 kalkulacja - 2026 r.'!E170","v":0},{"$f":"'Zał. nr 2 kalkulacja - 2026 r.'!F170","v":0},{"$f":"'Zał. nr 2 kalkulacja - 2026 r.'!G170","v":0},{"$f":"'Zał. nr 2 kalkulacja - 2026 r.'!H170","v":0},{"$f":"'Zał. nr 2 kalkulacja - 2026 r.'!I170","v":0},{"$f":"'Zał. nr 2 kalkulacja - 2026 r.'!J170","v":0},{"$f":"'Zał. nr 2 kalkulacja - 2026 r.'!K170","v":0},{"$f":"'Zał. nr 2 kalkulacja - 2026 r.'!L170","v":0},{"$f":"'Zał. nr 2 kalkulacja - 2026 r.'!M170","v":0},{"$f":"'Zał. nr 2 kalkulacja - 2026 r.'!N170","v":0}]
[{"$f":"'Wniosek 2026 r.'!A184","v":146},{"$f":"'Wniosek 2026 r.'!B184","v":0},{"$f":"'Wniosek 2026 r.'!E184","v":0},{"$f":"'Wniosek 2026 r.'!G184","v":0},{"$f":"'Wniosek 2026 r.'!C347","v":0},{"$f":"'Wniosek 2026 r.'!C657","v":0},{"$f":"'Wniosek 2026 r.'!C503","v":0},{"$f":"'Wniosek 2026 r.'!D503","v":0},{"$f":"'Wniosek 2026 r.'!F503","v":0},{"$f":"'Wniosek 2026 r.'!H503","v":0},{"$f":"'Wniosek 2026 r.'!C812","v":0},146,"","",0,"",0,0,0,0,0,0,0,0,"ok","ok",0,0,{"$f":"'Zał. nr 2 kalkulacja - 2026 r.'!C171","v":0},{"$f":"'Zał. nr 2 kalkulacja - 2026 r.'!D171","v":0},{"$f":"'Zał. nr 2 kalkulacja - 2026 r.'!E171","v":0},{"$f":"'Zał. nr 2 kalkulacja - 2026 r.'!F171","v":0},{"$f":"'Zał. nr 2 kalkulacja - 2026 r.'!G171","v":0},{"$f":"'Zał. nr 2 kalkulacja - 2026 r.'!H171","v":0},{"$f":"'Zał. nr 2 kalkulacja - 2026 r.'!I171","v":0},{"$f":"'Zał. nr 2 kalkulacja - 2026 r.'!J171","v":0},{"$f":"'Zał. nr 2 kalkulacja - 2026 r.'!K171","v":0},{"$f":"'Zał. nr 2 kalkulacja - 2026 r.'!L171","v":0},{"$f":"'Zał. nr 2 kalkulacja - 2026 r.'!M171","v":0},{"$f":"'Zał. nr 2 kalkulacja - 2026 r.'!N171","v":0}]
[{"$f":"'Wniosek 2026 r.'!A185","v":147},{"$f":"'Wniosek 2026 r.'!B185","v":0},{"$f":"'Wniosek 2026 r.'!E185","v":0},{"$f":"'Wniosek 2026 r.'!G185","v":0},{"$f":"'Wniosek 2026 r.'!C348","v":0},{"$f":"'Wniosek 2026 r.'!C658","v":0},{"$f":"'Wniosek 2026 r.'!C504","v":0},{"$f":"'Wniosek 2026 r.'!D504","v":0},{"$f":"'Wniosek 2026 r.'!F504","v":0},{"$f":"'Wniosek 2026 r.'!H504","v":0},{"$f":"'Wniosek 2026 r.'!C813","v":0},147,"","",0,"",0,0,0,0,0,0,0,0,"ok","ok",0,0,{"$f":"'Zał. nr 2 kalkulacja - 2026 r.'!C172","v":0},{"$f":"'Zał. nr 2 kalkulacja - 2026 r.'!D172","v":0},{"$f":"'Zał. nr 2 kalkulacja - 2026 r.'!E172","v":0},{"$f":"'Zał. nr 2 kalkulacja - 2026 r.'!F172","v":0},{"$f":"'Zał. nr 2 kalkulacja - 2026 r.'!G172","v":0},{"$f":"'Zał. nr 2 kalkulacja - 2026 r.'!H172","v":0},{"$f":"'Zał. nr 2 kalkulacja - 2026 r.'!I172","v":0},{"$f":"'Zał. nr 2 kalkulacja - 2026 r.'!J172","v":0},{"$f":"'Zał. nr 2 kalkulacja - 2026 r.'!K172","v":0},{"$f":"'Zał. nr 2 kalkulacja - 2026 r.'!L172","v":0},{"$f":"'Zał. nr 2 kalkulacja - 2026 r.'!M172","v":0},{"$f":"'Zał. nr 2 kalkulacja - 2026 r.'!N172","v":0}]
[{"$f":"'Wniosek 2026 r.'!A186","v":148},{"$f":"'Wniosek 2026 r.'!B186","v":0},{"$f":"'Wniosek 2026 r.'!E186","v":0},{"$f":"'Wniosek 2026 r.'!G186","v":0},{"$f":"'Wniosek 2026 r.'!C349","v":0},{"$f":"'Wniosek 2026 r.'!C659","v":0},{"$f":"'Wniosek 2026 r.'!C505","v":0},{"$f":"'Wniosek 2026 r.'!D505","v":0},{"$f":"'Wniosek 2026 r.'!F505","v":0},{"$f":"'Wniosek 2026 r.'!H505","v":0},{"$f":"'Wniosek 2026 r.'!C814","v":0},148,"","",0,"",0,0,0,0,0,0,0,0,"ok","ok",0,0,{"$f":"'Zał. nr 2 kalkulacja - 2026 r.'!C173","v":0},{"$f":"'Zał. nr 2 kalkulacja - 2026 r.'!D173","v":0},{"$f":"'Zał. nr 2 kalkulacja - 2026 r.'!E173","v":0},{"$f":"'Zał. nr 2 kalkulacja - 2026 r.'!F173","v":0},{"$f":"'Zał. nr 2 kalkulacja - 2026 r.'!G173","v":0},{"$f":"'Zał. nr 2 kalkulacja - 2026 r.'!H173","v":0},{"$f":"'Zał. nr 2 kalkulacja - 2026 r.'!I173","v":0},{"$f":"'Zał. nr 2 kalkulacja - 2026 r.'!J173","v":0},{"$f":"'Zał. nr 2 kalkulacja - 2026 r.'!K173","v":0},{"$f":"'Zał. nr 2 kalkulacja - 2026 r.'!L173","v":0},{"$f":"'Zał. nr 2 kalkulacja - 2026 r.'!M173","v":0},{"$f":"'Zał. nr 2 kalkulacja - 2026 r.'!N173","v":0}]
[{"$f":"'Wniosek 2026 r.'!A187","v":149},{"$f":"'Wniosek 2026 r.'!B187","v":0},{"$f":"'Wniosek 2026 r.'!E187","v":0},{"$f":"'Wniosek 2026 r.'!G187","v":0},{"$f":"'Wniosek 2026 r.'!C350","v":0},{"$f":"'Wniosek 2026 r.'!C660","v":0},{"$f":"'Wniosek 2026 r.'!C506","v":0},{"$f":"'Wniosek 2026 r.'!D506","v":0},{"$f":"'Wniosek 2026 r.'!F506","v":0},{"$f":"'Wniosek 2026 r.'!H506","v":0},{"$f":"'Wniosek 2026 r.'!C815","v":0},149,"","",0,"",0,0,0,0,0,0,0,0,"ok","ok",0,0,{"$f":"'Zał. nr 2 kalkulacja - 2026 r.'!C174","v":0},{"$f":"'Zał. nr 2 kalkulacja - 2026 r.'!D174","v":0},{"$f":"'Zał. nr 2 kalkulacja - 2026 r.'!E174","v":0},{"$f":"'Zał. nr 2 kalkulacja - 2026 r.'!F174","v":0},{"$f":"'Zał. nr 2 kalkulacja - 2026 r.'!G174","v":0},{"$f":"'Zał. nr 2 kalkulacja - 2026 r.'!H174","v":0},{"$f":"'Zał. nr 2 kalkulacja - 2026 r.'!I174","v":0},{"$f":"'Zał. nr 2 kalkulacja - 2026 r.'!J174","v":0},{"$f":"'Zał. nr 2 kalkulacja - 2026 r.'!K174","v":0},{"$f":"'Zał. nr 2 kalkulacja - 2026 r.'!L174","v":0},{"$f":"'Zał. nr 2 kalkulacja - 2026 r.'!M174","v":0},{"$f":"'Zał. nr 2 kalkulacja - 2026 r.'!N174","v":0}]
[{"$f":"'Wniosek 2026 r.'!A188","v":150},{"$f":"'Wniosek 2026 r.'!B188","v":0},{"$f":"'Wniosek 2026 r.'!E188","v":0},{"$f":"'Wniosek 2026 r.'!G188","v":0},{"$f":"'Wniosek 2026 r.'!C351","v":0},{"$f":"'Wniosek 2026 r.'!C661","v":0},{"$f":"'Wniosek 2026 r.'!C507","v":0},{"$f":"'Wniosek 2026 r.'!D507","v":0},{"$f":"'Wniosek 2026 r.'!F507","v":0},{"$f":"'Wniosek 2026 r.'!H507","v":0},{"$f":"'Wniosek 2026 r.'!C816","v":0},150,"","",0,"",0,0,0,0,0,0,0,0,"ok","ok",0,0,{"$f":"'Zał. nr 2 kalkulacja - 2026 r.'!C175","v":0},{"$f":"'Zał. nr 2 kalkulacja - 2026 r.'!D175","v":0},{"$f":"'Zał. nr 2 kalkulacja - 2026 r.'!E175","v":0},{"$f":"'Zał. nr 2 kalkulacja - 2026 r.'!F175","v":0},{"$f":"'Zał. nr 2 kalkulacja - 2026 r.'!G175","v":0},{"$f":"'Zał. nr 2 kalkulacja - 2026 r.'!H175","v":0},{"$f":"'Zał. nr 2 kalkulacja - 2026 r.'!I175","v":0},{"$f":"'Zał. nr 2 kalkulacja - 2026 r.'!J175","v":0},{"$f":"'Zał. nr 2 kalkulacja - 2026 r.'!K175","v":0},{"$f":"'Zał. nr 2 kalkulacja - 2026 r.'!L175","v":0},{"$f":"'Zał. nr 2 kalkulacja - 2026 r.'!M175","v":0},{"$f":"'Zał. nr 2 kalkulacja - 2026 r.'!N175","v":0}]
["Suma",null,{"$f":"SUM(C2:C151)","v":0},{"$f":"SUMIF(D2:D151,\">0\")","v":0},{"$f":"SUM(E2:E151)","v":0},{"$f":"SUM(F2:F151)","v":0},null,null,null,{"$f":"SUM(J2:J151)","v":0},{"$f":"SUM(K2:K151)","v":0},null,null,null,null,null,null,null,null,null,null,null,null,null,null,null,null,null,{"$f":"'Zał. nr 2 kalkulacja - 2026 r.'!C176","v":0},{"$f":"'Zał. nr 2 kalkulacja - 2026 r.'!D176","v":0},{"$f":"'Zał. nr 2 kalkulacja - 2026 r.'!E176","v":0},{"$f":"'Zał. nr 2 kalkulacja - 2026 r.'!F176","v":0},{"$f":"'Zał. nr 2 kalkulacja - 2026 r.'!G176","v":0},{"$f":"'Zał. nr 2 kalkulacja - 2026 r.'!H176","v":0},{"$f":"'Zał. nr 2 kalkulacja - 2026 r.'!I176","v":0},{"$f":"'Zał. nr 2 kalkulacja - 2026 r.'!J176","v":0},{"$f":"'Zał. nr 2 kalkulacja - 2026 r.'!K176","v":0},{"$f":"'Zał. nr 2 kalkulacja - 2026 r.'!L176","v":0},{"$f":"'Zał. nr 2 kalkulacja - 2026 r.'!M176","v":0},{"$f":"'Zał. nr 2 kalkulacja - 2026 r.'!N176","v":0}]
[]
[]
[]
[]
[]
[]
[]
[]
[]
[]
[]
[]
[]
[]
[]
[]
[]
[]
[]
[]
[]
[]
[]
[]
[]
[]
[]
[]
[]
[]
[]
[]
[]
[]
[]
[]
[]
[]
[]
[]
[]
[]
[]
[]
[]
[]
[]
[]
[]
[]
[]
[]
[]
[]
[]
[]
[]
[]
[]
[]
[]
[]
[]
[]
[]
[]
[]
[]
[]
[]
[]
[]
[]
[]
[]
[]
[]
[]
[]
[]
[]
[]
[]
[]
[]
[]
[]
[]
[]
[]
[]
[]
[]
[]
[]
[]
[]
[]
[]
[]
[]
[]
[]
[]
[]
[]
[]
[]
[]
[]
[]
[]
[]
[]
[]
[]
[]
[]
[]
[]
[]
[]
[]
[]
[]
[]
[]
[]
[]
[]
[]
[]
[]
[]
[]
[]
[]
[]
[]
[]
[]
[]
[]
[]
[]
[]
[]
[]
[]
[]
[]
[]
[null,{"$f":"SUMIF(M2:M151,\">0\")","v":0},null,null,null,{"$f":"SUMIF(Q2:Q151,\">0\")","v":0},{"$f":"SUMIF(R2:R151,\">0\")","v":0},{"$f":"SUMIF(S2:S151,\">0\")","v":0},{"$f":"SUMIF(T2:T151,\">0\")","v":0},null,null,{"$f":"SUM(W2:W151)","v":0}]

{"sheet":"Tabelka do umowy","index":6,"n_rows":152,"n_cols":6,"rows_kept":152,"cut":false,"hidden":true,"merged":[[151,0,151,1]]}
["Nr zadania ","Nazwa linii komunikacyjnej","Długość linii komunikacyjnej\n(km) ","Średnioroczna częstotliwość połączeń linii komunikacyjnej","Wielkość pracy eksploatacyjnej  (wozokilometry)","Przewidywana (szacunkowa) kwota dopłaty do linii komunikacyjnej "]
[{"$f":"'Wniosek 2026 r.'!A39","v":1},{"$f":"'Wniosek 2026 r.'!B39","v":0},{"$f":"'Wniosek 2026 r.'!E39","v":0},{"$f":"'Wniosek 2026 r.'!G39","v":0},{"$f":"'Wniosek 2026 r.'!C202","v":0},{"$f":"'Wniosek 2026 r.'!C667","v":0}]
[{"$f":"'Wniosek 2026 r.'!A40","v":2},{"$f":"'Wniosek 2026 r.'!B40","v":0},{"$f":"'Wniosek 2026 r.'!E40","v":0},{"$f":"'Wniosek 2026 r.'!G40","v":0},{"$f":"'Wniosek 2026 r.'!C203","v":0},{"$f":"'Wniosek 2026 r.'!C668","v":0}]
[{"$f":"'Wniosek 2026 r.'!A41","v":3},{"$f":"'Wniosek 2026 r.'!B41","v":0},{"$f":"'Wniosek 2026 r.'!E41","v":0},{"$f":"'Wniosek 2026 r.'!G41","v":0},{"$f":"'Wniosek 2026 r.'!C204","v":0},{"$f":"'Wniosek 2026 r.'!C669","v":0}]
[{"$f":"'Wniosek 2026 r.'!A42","v":4},{"$f":"'Wniosek 2026 r.'!B42","v":0},{"$f":"'Wniosek 2026 r.'!E42","v":0},{"$f":"'Wniosek 2026 r.'!G42","v":0},{"$f":"'Wniosek 2026 r.'!C205","v":0},{"$f":"'Wniosek 2026 r.'!C670","v":0}]
[{"$f":"'Wniosek 2026 r.'!A43","v":5},{"$f":"'Wniosek 2026 r.'!B43","v":0},{"$f":"'Wniosek 2026 r.'!E43","v":0},{"$f":"'Wniosek 2026 r.'!G43","v":0},{"$f":"'Wniosek 2026 r.'!C206","v":0},{"$f":"'Wniosek 2026 r.'!C671","v":0}]
[{"$f":"'Wniosek 2026 r.'!A44","v":6},{"$f":"'Wniosek 2026 r.'!B44","v":0},{"$f":"'Wniosek 2026 r.'!E44","v":0},{"$f":"'Wniosek 2026 r.'!G44","v":0},{"$f":"'Wniosek 2026 r.'!C207","v":0},{"$f":"'Wniosek 2026 r.'!C672","v":0}]
[{"$f":"'Wniosek 2026 r.'!A45","v":7},{"$f":"'Wniosek 2026 r.'!B45","v":0},{"$f":"'Wniosek 2026 r.'!E45","v":0},{"$f":"'Wniosek 2026 r.'!G45","v":0},{"$f":"'Wniosek 2026 r.'!C208","v":0},{"$f":"'Wniosek 2026 r.'!C673","v":0}]
[{"$f":"'Wniosek 2026 r.'!A46","v":8},{"$f":"'Wniosek 2026 r.'!B46","v":0},{"$f":"'Wniosek 2026 r.'!E46","v":0},{"$f":"'Wniosek 2026 r.'!G46","v":0},{"$f":"'Wniosek 2026 r.'!C209","v":0},{"$f":"'Wniosek 2026 r.'!C674","v":0}]
[{"$f":"'Wniosek 2026 r.'!A47","v":9},{"$f":"'Wniosek 2026 r.'!B47","v":0},{"$f":"'Wniosek 2026 r.'!E47","v":0},{"$f":"'Wniosek 2026 r.'!G47","v":0},{"$f":"'Wniosek 2026 r.'!C210","v":0},{"$f":"'Wniosek 2026 r.'!C675","v":0}]
[{"$f":"'Wniosek 2026 r.'!A48","v":10},{"$f":"'Wniosek 2026 r.'!B48","v":0},{"$f":"'Wniosek 2026 r.'!E48","v":0},{"$f":"'Wniosek 2026 r.'!G48","v":0},{"$f":"'Wniosek 2026 r.'!C211","v":0},{"$f":"'Wniosek 2026 r.'!C676","v":0}]
[{"$f":"'Wniosek 2026 r.'!A49","v":11},{"$f":"'Wniosek 2026 r.'!B49","v":0},{"$f":"'Wniosek 2026 r.'!E49","v":0},{"$f":"'Wniosek 2026 r.'!G49","v":0},{"$f":"'Wniosek 2026 r.'!C212","v":0},{"$f":"'Wniosek 2026 r.'!C677","v":0}]
[{"$f":"'Wniosek 2026 r.'!A50","v":12},{"$f":"'Wniosek 2026 r.'!B50","v":0},{"$f":"'Wniosek 2026 r.'!E50","v":0},{"$f":"'Wniosek 2026 r.'!G50","v":0},{"$f":"'Wniosek 2026 r.'!C213","v":0},{"$f":"'Wniosek 2026 r.'!C678","v":0}]
[{"$f":"'Wniosek 2026 r.'!A51","v":13},{"$f":"'Wniosek 2026 r.'!B51","v":0},{"$f":"'Wniosek 2026 r.'!E51","v":0},{"$f":"'Wniosek 2026 r.'!G51","v":0},{"$f":"'Wniosek 2026 r.'!C214","v":0},{"$f":"'Wniosek 2026 r.'!C679","v":0}]
[{"$f":"'Wniosek 2026 r.'!A52","v":14},{"$f":"'Wniosek 2026 r.'!B52","v":0},{"$f":"'Wniosek 2026 r.'!E52","v":0},{"$f":"'Wniosek 2026 r.'!G52","v":0},{"$f":"'Wniosek 2026 r.'!C215","v":0},{"$f":"'Wniosek 2026 r.'!C680","v":0}]
[{"$f":"'Wniosek 2026 r.'!A53","v":15},{"$f":"'Wniosek 2026 r.'!B53","v":0},{"$f":"'Wniosek 2026 r.'!E53","v":0},{"$f":"'Wniosek 2026 r.'!G53","v":0},{"$f":"'Wniosek 2026 r.'!C216","v":0},{"$f":"'Wniosek 2026 r.'!C681","v":0}]
[{"$f":"'Wniosek 2026 r.'!A54","v":16},{"$f":"'Wniosek 2026 r.'!B54","v":0},{"$f":"'Wniosek 2026 r.'!E54","v":0},{"$f":"'Wniosek 2026 r.'!G54","v":0},{"$f":"'Wniosek 2026 r.'!C217","v":0},{"$f":"'Wniosek 2026 r.'!C682","v":0}]
[{"$f":"'Wniosek 2026 r.'!A55","v":17},{"$f":"'Wniosek 2026 r.'!B55","v":0},{"$f":"'Wniosek 2026 r.'!E55","v":0},{"$f":"'Wniosek 2026 r.'!G55","v":0},{"$f":"'Wniosek 2026 r.'!C218","v":0},{"$f":"'Wniosek 2026 r.'!C683","v":0}]
[{"$f":"'Wniosek 2026 r.'!A56","v":18},{"$f":"'Wniosek 2026 r.'!B56","v":0},{"$f":"'Wniosek 2026 r.'!E56","v":0},{"$f":"'Wniosek 2026 r.'!G56","v":0},{"$f":"'Wniosek 2026 r.'!C219","v":0},{"$f":"'Wniosek 2026 r.'!C684","v":0}]
[{"$f":"'Wniosek 2026 r.'!A57","v":19},{"$f":"'Wniosek 2026 r.'!B57","v":0},{"$f":"'Wniosek 2026 r.'!E57","v":0},{"$f":"'Wniosek 2026 r.'!G57","v":0},{"$f":"'Wniosek 2026 r.'!C220","v":0},{"$f":"'Wniosek 2026 r.'!C685","v":0}]
[{"$f":"'Wniosek 2026 r.'!A58","v":20},{"$f":"'Wniosek 2026 r.'!B58","v":0},{"$f":"'Wniosek 2026 r.'!E58","v":0},{"$f":"'Wniosek 2026 r.'!G58","v":0},{"$f":"'Wniosek 2026 r.'!C221","v":0},{"$f":"'Wniosek 2026 r.'!C686","v":0}]
[{"$f":"'Wniosek 2026 r.'!A59","v":21},{"$f":"'Wniosek 2026 r.'!B59","v":0},{"$f":"'Wniosek 2026 r.'!E59","v":0},{"$f":"'Wniosek 2026 r.'!G59","v":0},{"$f":"'Wniosek 2026 r.'!C222","v":0},{"$f":"'Wniosek 2026 r.'!C687","v":0}]
[{"$f":"'Wniosek 2026 r.'!A60","v":22},{"$f":"'Wniosek 2026 r.'!B60","v":0},{"$f":"'Wniosek 2026 r.'!E60","v":0},{"$f":"'Wniosek 2026 r.'!G60","v":0},{"$f":"'Wniosek 2026 r.'!C223","v":0},{"$f":"'Wniosek 2026 r.'!C688","v":0}]
[{"$f":"'Wniosek 2026 r.'!A61","v":23},{"$f":"'Wniosek 2026 r.'!B61","v":0},{"$f":"'Wniosek 2026 r.'!E61","v":0},{"$f":"'Wniosek 2026 r.'!G61","v":0},{"$f":"'Wniosek 2026 r.'!C224","v":0},{"$f":"'Wniosek 2026 r.'!C689","v":0}]
[{"$f":"'Wniosek 2026 r.'!A62","v":24},{"$f":"'Wniosek 2026 r.'!B62","v":0},{"$f":"'Wniosek 2026 r.'!E62","v":0},{"$f":"'Wniosek 2026 r.'!G62","v":0},{"$f":"'Wniosek 2026 r.'!C225","v":0},{"$f":"'Wniosek 2026 r.'!C690","v":0}]
[{"$f":"'Wniosek 2026 r.'!A63","v":25},{"$f":"'Wniosek 2026 r.'!B63","v":0},{"$f":"'Wniosek 2026 r.'!E63","v":0},{"$f":"'Wniosek 2026 r.'!G63","v":0},{"$f":"'Wniosek 2026 r.'!C226","v":0},{"$f":"'Wniosek 2026 r.'!C691","v":0}]
[{"$f":"'Wniosek 2026 r.'!A64","v":26},{"$f":"'Wniosek 2026 r.'!B64","v":0},{"$f":"'Wniosek 2026 r.'!E64","v":0},{"$f":"'Wniosek 2026 r.'!G64","v":0},{"$f":"'Wniosek 2026 r.'!C227","v":0},{"$f":"'Wniosek 2026 r.'!C692","v":0}]
[{"$f":"'Wniosek 2026 r.'!A65","v":27},{"$f":"'Wniosek 2026 r.'!B65","v":0},{"$f":"'Wniosek 2026 r.'!E65","v":0},{"$f":"'Wniosek 2026 r.'!G65","v":0},{"$f":"'Wniosek 2026 r.'!C228","v":0},{"$f":"'Wniosek 2026 r.'!C693","v":0}]
[{"$f":"'Wniosek 2026 r.'!A66","v":28},{"$f":"'Wniosek 2026 r.'!B66","v":0},{"$f":"'Wniosek 2026 r.'!E66","v":0},{"$f":"'Wniosek 2026 r.'!G66","v":0},{"$f":"'Wniosek 2026 r.'!C229","v":0},{"$f":"'Wniosek 2026 r.'!C694","v":0}]
[{"$f":"'Wniosek 2026 r.'!A67","v":29},{"$f":"'Wniosek 2026 r.'!B67","v":0},{"$f":"'Wniosek 2026 r.'!E67","v":0},{"$f":"'Wniosek 2026 r.'!G67","v":0},{"$f":"'Wniosek 2026 r.'!C230","v":0},{"$f":"'Wniosek 2026 r.'!C695","v":0}]
[{"$f":"'Wniosek 2026 r.'!A68","v":30},{"$f":"'Wniosek 2026 r.'!B68","v":0},{"$f":"'Wniosek 2026 r.'!E68","v":0},{"$f":"'Wniosek 2026 r.'!G68","v":0},{"$f":"'Wniosek 2026 r.'!C231","v":0},{"$f":"'Wniosek 2026 r.'!C696","v":0}]
[{"$f":"'Wniosek 2026 r.'!A69","v":31},{"$f":"'Wniosek 2026 r.'!B69","v":0},{"$f":"'Wniosek 2026 r.'!E69","v":0},{"$f":"'Wniosek 2026 r.'!G69","v":0},{"$f":"'Wniosek 2026 r.'!C232","v":0},{"$f":"'Wniosek 2026 r.'!C697","v":0}]
[{"$f":"'Wniosek 2026 r.'!A70","v":32},{"$f":"'Wniosek 2026 r.'!B70","v":0},{"$f":"'Wniosek 2026 r.'!E70","v":0},{"$f":"'Wniosek 2026 r.'!G70","v":0},{"$f":"'Wniosek 2026 r.'!C233","v":0},{"$f":"'Wniosek 2026 r.'!C698","v":0}]
[{"$f":"'Wniosek 2026 r.'!A71","v":33},{"$f":"'Wniosek 2026 r.'!B71","v":0},{"$f":"'Wniosek 2026 r.'!E71","v":0},{"$f":"'Wniosek 2026 r.'!G71","v":0},{"$f":"'Wniosek 2026 r.'!C234","v":0},{"$f":"'Wniosek 2026 r.'!C699","v":0}]
[{"$f":"'Wniosek 2026 r.'!A72","v":34},{"$f":"'Wniosek 2026 r.'!B72","v":0},{"$f":"'Wniosek 2026 r.'!E72","v":0},{"$f":"'Wniosek 2026 r.'!G72","v":0},{"$f":"'Wniosek 2026 r.'!C235","v":0},{"$f":"'Wniosek 2026 r.'!C700","v":0}]
[{"$f":"'Wniosek 2026 r.'!A73","v":35},{"$f":"'Wniosek 2026 r.'!B73","v":0},{"$f":"'Wniosek 2026 r.'!E73","v":0},{"$f":"'Wniosek 2026 r.'!G73","v":0},{"$f":"'Wniosek 2026 r.'!C236","v":0},{"$f":"'Wniosek 2026 r.'!C701","v":0}]
[{"$f":"'Wniosek 2026 r.'!A74","v":36},{"$f":"'Wniosek 2026 r.'!B74","v":0},{"$f":"'Wniosek 2026 r.'!E74","v":0},{"$f":"'Wniosek 2026 r.'!G74","v":0},{"$f":"'Wniosek 2026 r.'!C237","v":0},{"$f":"'Wniosek 2026 r.'!C702","v":0}]
[{"$f":"'Wniosek 2026 r.'!A75","v":37},{"$f":"'Wniosek 2026 r.'!B75","v":0},{"$f":"'Wniosek 2026 r.'!E75","v":0},{"$f":"'Wniosek 2026 r.'!G75","v":0},{"$f":"'Wniosek 2026 r.'!C238","v":0},{"$f":"'Wniosek 2026 r.'!C703","v":0}]
[{"$f":"'Wniosek 2026 r.'!A76","v":38},{"$f":"'Wniosek 2026 r.'!B76","v":0},{"$f":"'Wniosek 2026 r.'!E76","v":0},{"$f":"'Wniosek 2026 r.'!G76","v":0},{"$f":"'Wniosek 2026 r.'!C239","v":0},{"$f":"'Wniosek 2026 r.'!C704","v":0}]
[{"$f":"'Wniosek 2026 r.'!A77","v":39},{"$f":"'Wniosek 2026 r.'!B77","v":0},{"$f":"'Wniosek 2026 r.'!E77","v":0},{"$f":"'Wniosek 2026 r.'!G77","v":0},{"$f":"'Wniosek 2026 r.'!C240","v":0},{"$f":"'Wniosek 2026 r.'!C705","v":0}]
[{"$f":"'Wniosek 2026 r.'!A78","v":40},{"$f":"'Wniosek 2026 r.'!B78","v":0},{"$f":"'Wniosek 2026 r.'!E78","v":0},{"$f":"'Wniosek 2026 r.'!G78","v":0},{"$f":"'Wniosek 2026 r.'!C241","v":0},{"$f":"'Wniosek 2026 r.'!C706","v":0}]
[{"$f":"'Wniosek 2026 r.'!A79","v":41},{"$f":"'Wniosek 2026 r.'!B79","v":0},{"$f":"'Wniosek 2026 r.'!E79","v":0},{"$f":"'Wniosek 2026 r.'!G79","v":0},{"$f":"'Wniosek 2026 r.'!C242","v":0},{"$f":"'Wniosek 2026 r.'!C707","v":0}]
[{"$f":"'Wniosek 2026 r.'!A80","v":42},{"$f":"'Wniosek 2026 r.'!B80","v":0},{"$f":"'Wniosek 2026 r.'!E80","v":0},{"$f":"'Wniosek 2026 r.'!G80","v":0},{"$f":"'Wniosek 2026 r.'!C243","v":0},{"$f":"'Wniosek 2026 r.'!C708","v":0}]
[{"$f":"'Wniosek 2026 r.'!A81","v":43},{"$f":"'Wniosek 2026 r.'!B81","v":0},{"$f":"'Wniosek 2026 r.'!E81","v":0},{"$f":"'Wniosek 2026 r.'!G81","v":0},{"$f":"'Wniosek 2026 r.'!C244","v":0},{"$f":"'Wniosek 2026 r.'!C709","v":0}]
[{"$f":"'Wniosek 2026 r.'!A82","v":44},{"$f":"'Wniosek 2026 r.'!B82","v":0},{"$f":"'Wniosek 2026 r.'!E82","v":0},{"$f":"'Wniosek 2026 r.'!G82","v":0},{"$f":"'Wniosek 2026 r.'!C245","v":0},{"$f":"'Wniosek 2026 r.'!C710","v":0}]
[{"$f":"'Wniosek 2026 r.'!A83","v":45},{"$f":"'Wniosek 2026 r.'!B83","v":0},{"$f":"'Wniosek 2026 r.'!E83","v":0},{"$f":"'Wniosek 2026 r.'!G83","v":0},{"$f":"'Wniosek 2026 r.'!C246","v":0},{"$f":"'Wniosek 2026 r.'!C711","v":0}]
[{"$f":"'Wniosek 2026 r.'!A84","v":46},{"$f":"'Wniosek 2026 r.'!B84","v":0},{"$f":"'Wniosek 2026 r.'!E84","v":0},{"$f":"'Wniosek 2026 r.'!G84","v":0},{"$f":"'Wniosek 2026 r.'!C247","v":0},{"$f":"'Wniosek 2026 r.'!C712","v":0}]
[{"$f":"'Wniosek 2026 r.'!A85","v":47},{"$f":"'Wniosek 2026 r.'!B85","v":0},{"$f":"'Wniosek 2026 r.'!E85","v":0},{"$f":"'Wniosek 2026 r.'!G85","v":0},{"$f":"'Wniosek 2026 r.'!C248","v":0},{"$f":"'Wniosek 2026 r.'!C713","v":0}]
[{"$f":"'Wniosek 2026 r.'!A86","v":48},{"$f":"'Wniosek 2026 r.'!B86","v":0},{"$f":"'Wniosek 2026 r.'!E86","v":0},{"$f":"'Wniosek 2026 r.'!G86","v":0},{"$f":"'Wniosek 2026 r.'!C249","v":0},{"$f":"'Wniosek 2026 r.'!C714","v":0}]
[{"$f":"'Wniosek 2026 r.'!A87","v":49},{"$f":"'Wniosek 2026 r.'!B87","v":0},{"$f":"'Wniosek 2026 r.'!E87","v":0},{"$f":"'Wniosek 2026 r.'!G87","v":0},{"$f":"'Wniosek 2026 r.'!C250","v":0},{"$f":"'Wniosek 2026 r.'!C715","v":0}]
[{"$f":"'Wniosek 2026 r.'!A88","v":50},{"$f":"'Wniosek 2026 r.'!B88","v":0},{"$f":"'Wniosek 2026 r.'!E88","v":0},{"$f":"'Wniosek 2026 r.'!G88","v":0},{"$f":"'Wniosek 2026 r.'!C251","v":0},{"$f":"'Wniosek 2026 r.'!C716","v":0}]
[{"$f":"'Wniosek 2026 r.'!A89","v":51},{"$f":"'Wniosek 2026 r.'!B89","v":0},{"$f":"'Wniosek 2026 r.'!E89","v":0},{"$f":"'Wniosek 2026 r.'!G89","v":0},{"$f":"'Wniosek 2026 r.'!C252","v":0},{"$f":"'Wniosek 2026 r.'!C717","v":0}]
[{"$f":"'Wniosek 2026 r.'!A90","v":52},{"$f":"'Wniosek 2026 r.'!B90","v":0},{"$f":"'Wniosek 2026 r.'!E90","v":0},{"$f":"'Wniosek 2026 r.'!G90","v":0},{"$f":"'Wniosek 2026 r.'!C253","v":0},{"$f":"'Wniosek 2026 r.'!C718","v":0}]
[{"$f":"'Wniosek 2026 r.'!A91","v":53},{"$f":"'Wniosek 2026 r.'!B91","v":0},{"$f":"'Wniosek 2026 r.'!E91","v":0},{"$f":"'Wniosek 2026 r.'!G91","v":0},{"$f":"'Wniosek 2026 r.'!C254","v":0},{"$f":"'Wniosek 2026 r.'!C719","v":0}]
[{"$f":"'Wniosek 2026 r.'!A92","v":54},{"$f":"'Wniosek 2026 r.'!B92","v":0},{"$f":"'Wniosek 2026 r.'!E92","v":0},{"$f":"'Wniosek 2026 r.'!G92","v":0},{"$f":"'Wniosek 2026 r.'!C255","v":0},{"$f":"'Wniosek 2026 r.'!C720","v":0}]
[{"$f":"'Wniosek 2026 r.'!A93","v":55},{"$f":"'Wniosek 2026 r.'!B93","v":0},{"$f":"'Wniosek 2026 r.'!E93","v":0},{"$f":"'Wniosek 2026 r.'!G93","v":0},{"$f":"'Wniosek 2026 r.'!C256","v":0},{"$f":"'Wniosek 2026 r.'!C721","v":0}]
[{"$f":"'Wniosek 2026 r.'!A94","v":56},{"$f":"'Wniosek 2026 r.'!B94","v":0},{"$f":"'Wniosek 2026 r.'!E94","v":0},{"$f":"'Wniosek 2026 r.'!G94","v":0},{"$f":"'Wniosek 2026 r.'!C257","v":0},{"$f":"'Wniosek 2026 r.'!C722","v":0}]
[{"$f":"'Wniosek 2026 r.'!A95","v":57},{"$f":"'Wniosek 2026 r.'!B95","v":0},{"$f":"'Wniosek 2026 r.'!E95","v":0},{"$f":"'Wniosek 2026 r.'!G95","v":0},{"$f":"'Wniosek 2026 r.'!C258","v":0},{"$f":"'Wniosek 2026 r.'!C723","v":0}]
[{"$f":"'Wniosek 2026 r.'!A96","v":58},{"$f":"'Wniosek 2026 r.'!B96","v":0},{"$f":"'Wniosek 2026 r.'!E96","v":0},{"$f":"'Wniosek 2026 r.'!G96","v":0},{"$f":"'Wniosek 2026 r.'!C259","v":0},{"$f":"'Wniosek 2026 r.'!C724","v":0}]
[{"$f":"'Wniosek 2026 r.'!A97","v":59},{"$f":"'Wniosek 2026 r.'!B97","v":0},{"$f":"'Wniosek 2026 r.'!E97","v":0},{"$f":"'Wniosek 2026 r.'!G97","v":0},{"$f":"'Wniosek 2026 r.'!C260","v":0},{"$f":"'Wniosek 2026 r.'!C725","v":0}]
[{"$f":"'Wniosek 2026 r.'!A98","v":60},{"$f":"'Wniosek 2026 r.'!B98","v":0},{"$f":"'Wniosek 2026 r.'!E98","v":0},{"$f":"'Wniosek 2026 r.'!G98","v":0},{"$f":"'Wniosek 2026 r.'!C261","v":0},{"$f":"'Wniosek 2026 r.'!C726","v":0}]
[{"$f":"'Wniosek 2026 r.'!A99","v":61},{"$f":"'Wniosek 2026 r.'!B99","v":0},{"$f":"'Wniosek 2026 r.'!E99","v":0},{"$f":"'Wniosek 2026 r.'!G99","v":0},{"$f":"'Wniosek 2026 r.'!C262","v":0},{"$f":"'Wniosek 2026 r.'!C727","v":0}]
[{"$f":"'Wniosek 2026 r.'!A100","v":62},{"$f":"'Wniosek 2026 r.'!B100","v":0},{"$f":"'Wniosek 2026 r.'!E100","v":0},{"$f":"'Wniosek 2026 r.'!G100","v":0},{"$f":"'Wniosek 2026 r.'!C263","v":0},{"$f":"'Wniosek 2026 r.'!C728","v":0}]
[{"$f":"'Wniosek 2026 r.'!A101","v":63},{"$f":"'Wniosek 2026 r.'!B101","v":0},{"$f":"'Wniosek 2026 r.'!E101","v":0},{"$f":"'Wniosek 2026 r.'!G101","v":0},{"$f":"'Wniosek 2026 r.'!C264","v":0},{"$f":"'Wniosek 2026 r.'!C729","v":0}]
[{"$f":"'Wniosek 2026 r.'!A102","v":64},{"$f":"'Wniosek 2026 r.'!B102","v":0},{"$f":"'Wniosek 2026 r.'!E102","v":0},{"$f":"'Wniosek 2026 r.'!G102","v":0},{"$f":"'Wniosek 2026 r.'!C265","v":0},{"$f":"'Wniosek 2026 r.'!C730","v":0}]
[{"$f":"'Wniosek 2026 r.'!A103","v":65},{"$f":"'Wniosek 2026 r.'!B103","v":0},{"$f":"'Wniosek 2026 r.'!E103","v":0},{"$f":"'Wniosek 2026 r.'!G103","v":0},{"$f":"'Wniosek 2026 r.'!C266","v":0},{"$f":"'Wniosek 2026 r.'!C731","v":0}]
[{"$f":"'Wniosek 2026 r.'!A104","v":66},{"$f":"'Wniosek 2026 r.'!B104","v":0},{"$f":"'Wniosek 2026 r.'!E104","v":0},{"$f":"'Wniosek 2026 r.'!G104","v":0},{"$f":"'Wniosek 2026 r.'!C267","v":0},{"$f":"'Wniosek 2026 r.'!C732","v":0}]
[{"$f":"'Wniosek 2026 r.'!A105","v":67},{"$f":"'Wniosek 2026 r.'!B105","v":0},{"$f":"'Wniosek 2026 r.'!E105","v":0},{"$f":"'Wniosek 2026 r.'!G105","v":0},{"$f":"'Wniosek 2026 r.'!C268","v":0},{"$f":"'Wniosek 2026 r.'!C733","v":0}]
[{"$f":"'Wniosek 2026 r.'!A106","v":68},{"$f":"'Wniosek 2026 r.'!B106","v":0},{"$f":"'Wniosek 2026 r.'!E106","v":0},{"$f":"'Wniosek 2026 r.'!G106","v":0},{"$f":"'Wniosek 2026 r.'!C269","v":0},{"$f":"'Wniosek 2026 r.'!C734","v":0}]
[{"$f":"'Wniosek 2026 r.'!A107","v":69},{"$f":"'Wniosek 2026 r.'!B107","v":0},{"$f":"'Wniosek 2026 r.'!E107","v":0},{"$f":"'Wniosek 2026 r.'!G107","v":0},{"$f":"'Wniosek 2026 r.'!C270","v":0},{"$f":"'Wniosek 2026 r.'!C735","v":0}]
[{"$f":"'Wniosek 2026 r.'!A108","v":70},{"$f":"'Wniosek 2026 r.'!B108","v":0},{"$f":"'Wniosek 2026 r.'!E108","v":0},{"$f":"'Wniosek 2026 r.'!G108","v":0},{"$f":"'Wniosek 2026 r.'!C271","v":0},{"$f":"'Wniosek 2026 r.'!C736","v":0}]
[{"$f":"'Wniosek 2026 r.'!A109","v":71},{"$f":"'Wniosek 2026 r.'!B109","v":0},{"$f":"'Wniosek 2026 r.'!E109","v":0},{"$f":"'Wniosek 2026 r.'!G109","v":0},{"$f":"'Wniosek 2026 r.'!C272","v":0},{"$f":"'Wniosek 2026 r.'!C737","v":0}]
[{"$f":"'Wniosek 2026 r.'!A110","v":72},{"$f":"'Wniosek 2026 r.'!B110","v":0},{"$f":"'Wniosek 2026 r.'!E110","v":0},{"$f":"'Wniosek 2026 r.'!G110","v":0},{"$f":"'Wniosek 2026 r.'!C273","v":0},{"$f":"'Wniosek 2026 r.'!C738","v":0}]
[{"$f":"'Wniosek 2026 r.'!A111","v":73},{"$f":"'Wniosek 2026 r.'!B111","v":0},{"$f":"'Wniosek 2026 r.'!E111","v":0},{"$f":"'Wniosek 2026 r.'!G111","v":0},{"$f":"'Wniosek 2026 r.'!C274","v":0},{"$f":"'Wniosek 2026 r.'!C739","v":0}]
[{"$f":"'Wniosek 2026 r.'!A112","v":74},{"$f":"'Wniosek 2026 r.'!B112","v":0},{"$f":"'Wniosek 2026 r.'!E112","v":0},{"$f":"'Wniosek 2026 r.'!G112","v":0},{"$f":"'Wniosek 2026 r.'!C275","v":0},{"$f":"'Wniosek 2026 r.'!C740","v":0}]
[{"$f":"'Wniosek 2026 r.'!A113","v":75},{"$f":"'Wniosek 2026 r.'!B113","v":0},{"$f":"'Wniosek 2026 r.'!E113","v":0},{"$f":"'Wniosek 2026 r.'!G113","v":0},{"$f":"'Wniosek 2026 r.'!C276","v":0},{"$f":"'Wniosek 2026 r.'!C741","v":0}]
[{"$f":"'Wniosek 2026 r.'!A114","v":76},{"$f":"'Wniosek 2026 r.'!B114","v":0},{"$f":"'Wniosek 2026 r.'!E114","v":0},{"$f":"'Wniosek 2026 r.'!G114","v":0},{"$f":"'Wniosek 2026 r.'!C277","v":0},{"$f":"'Wniosek 2026 r.'!C742","v":0}]
[{"$f":"'Wniosek 2026 r.'!A115","v":77},{"$f":"'Wniosek 2026 r.'!B115","v":0},{"$f":"'Wniosek 2026 r.'!E115","v":0},{"$f":"'Wniosek 2026 r.'!G115","v":0},{"$f":"'Wniosek 2026 r.'!C278","v":0},{"$f":"'Wniosek 2026 r.'!C743","v":0}]
[{"$f":"'Wniosek 2026 r.'!A116","v":78},{"$f":"'Wniosek 2026 r.'!B116","v":0},{"$f":"'Wniosek 2026 r.'!E116","v":0},{"$f":"'Wniosek 2026 r.'!G116","v":0},{"$f":"'Wniosek 2026 r.'!C279","v":0},{"$f":"'Wniosek 2026 r.'!C744","v":0}]
[{"$f":"'Wniosek 2026 r.'!A117","v":79},{"$f":"'Wniosek 2026 r.'!B117","v":0},{"$f":"'Wniosek 2026 r.'!E117","v":0},{"$f":"'Wniosek 2026 r.'!G117","v":0},{"$f":"'Wniosek 2026 r.'!C280","v":0},{"$f":"'Wniosek 2026 r.'!C745","v":0}]
[{"$f":"'Wniosek 2026 r.'!A118","v":80},{"$f":"'Wniosek 2026 r.'!B118","v":0},{"$f":"'Wniosek 2026 r.'!E118","v":0},{"$f":"'Wniosek 2026 r.'!G118","v":0},{"$f":"'Wniosek 2026 r.'!C281","v":0},{"$f":"'Wniosek 2026 r.'!C746","v":0}]
[{"$f":"'Wniosek 2026 r.'!A119","v":81},{"$f":"'Wniosek 2026 r.'!B119","v":0},{"$f":"'Wniosek 2026 r.'!E119","v":0},{"$f":"'Wniosek 2026 r.'!G119","v":0},{"$f":"'Wniosek 2026 r.'!C282","v":0},{"$f":"'Wniosek 2026 r.'!C747","v":0}]
[{"$f":"'Wniosek 2026 r.'!A120","v":82},{"$f":"'Wniosek 2026 r.'!B120","v":0},{"$f":"'Wniosek 2026 r.'!E120","v":0},{"$f":"'Wniosek 2026 r.'!G120","v":0},{"$f":"'Wniosek 2026 r.'!C283","v":0},{"$f":"'Wniosek 2026 r.'!C748","v":0}]
[{"$f":"'Wniosek 2026 r.'!A121","v":83},{"$f":"'Wniosek 2026 r.'!B121","v":0},{"$f":"'Wniosek 2026 r.'!E121","v":0},{"$f":"'Wniosek 2026 r.'!G121","v":0},{"$f":"'Wniosek 2026 r.'!C284","v":0},{"$f":"'Wniosek 2026 r.'!C749","v":0}]
[{"$f":"'Wniosek 2026 r.'!A122","v":84},{"$f":"'Wniosek 2026 r.'!B122","v":0},{"$f":"'Wniosek 2026 r.'!E122","v":0},{"$f":"'Wniosek 2026 r.'!G122","v":0},{"$f":"'Wniosek 2026 r.'!C285","v":0},{"$f":"'Wniosek 2026 r.'!C750","v":0}]
[{"$f":"'Wniosek 2026 r.'!A123","v":85},{"$f":"'Wniosek 2026 r.'!B123","v":0},{"$f":"'Wniosek 2026 r.'!E123","v":0},{"$f":"'Wniosek 2026 r.'!G123","v":0},{"$f":"'Wniosek 2026 r.'!C286","v":0},{"$f":"'Wniosek 2026 r.'!C751","v":0}]
[{"$f":"'Wniosek 2026 r.'!A124","v":86},{"$f":"'Wniosek 2026 r.'!B124","v":0},{"$f":"'Wniosek 2026 r.'!E124","v":0},{"$f":"'Wniosek 2026 r.'!G124","v":0},{"$f":"'Wniosek 2026 r.'!C287","v":0},{"$f":"'Wniosek 2026 r.'!C752","v":0}]
[{"$f":"'Wniosek 2026 r.'!A125","v":87},{"$f":"'Wniosek 2026 r.'!B125","v":0},{"$f":"'Wniosek 2026 r.'!E125","v":0},{"$f":"'Wniosek 2026 r.'!G125","v":0},{"$f":"'Wniosek 2026 r.'!C288","v":0},{"$f":"'Wniosek 2026 r.'!C753","v":0}]
[{"$f":"'Wniosek 2026 r.'!A126","v":88},{"$f":"'Wniosek 2026 r.'!B126","v":0},{"$f":"'Wniosek 2026 r.'!E126","v":0},{"$f":"'Wniosek 2026 r.'!G126","v":0},{"$f":"'Wniosek 2026 r.'!C289","v":0},{"$f":"'Wniosek 2026 r.'!C754","v":0}]
[{"$f":"'Wniosek 2026 r.'!A127","v":89},{"$f":"'Wniosek 2026 r.'!B127","v":0},{"$f":"'Wniosek 2026 r.'!E127","v":0},{"$f":"'Wniosek 2026 r.'!G127","v":0},{"$f":"'Wniosek 2026 r.'!C290","v":0},{"$f":"'Wniosek 2026 r.'!C755","v":0}]
[{"$f":"'Wniosek 2026 r.'!A128","v":90},{"$f":"'Wniosek 2026 r.'!B128","v":0},{"$f":"'Wniosek 2026 r.'!E128","v":0},{"$f":"'Wniosek 2026 r.'!G128","v":0},{"$f":"'Wniosek 2026 r.'!C291","v":0},{"$f":"'Wniosek 2026 r.'!C756","v":0}]
[{"$f":"'Wniosek 2026 r.'!A129","v":91},{"$f":"'Wniosek 2026 r.'!B129","v":0},{"$f":"'Wniosek 2026 r.'!E129","v":0},{"$f":"'Wniosek 2026 r.'!G129","v":0},{"$f":"'Wniosek 2026 r.'!C292","v":0},{"$f":"'Wniosek 2026 r.'!C757","v":0}]
[{"$f":"'Wniosek 2026 r.'!A130","v":92},{"$f":"'Wniosek 2026 r.'!B130","v":0},{"$f":"'Wniosek 2026 r.'!E130","v":0},{"$f":"'Wniosek 2026 r.'!G130","v":0},{"$f":"'Wniosek 2026 r.'!C293","v":0},{"$f":"'Wniosek 2026 r.'!C758","v":0}]
[{"$f":"'Wniosek 2026 r.'!A131","v":93},{"$f":"'Wniosek 2026 r.'!B131","v":0},{"$f":"'Wniosek 2026 r.'!E131","v":0},{"$f":"'Wniosek 2026 r.'!G131","v":0},{"$f":"'Wniosek 2026 r.'!C294","v":0},{"$f":"'Wniosek 2026 r.'!C759","v":0}]
[{"$f":"'Wniosek 2026 r.'!A132","v":94},{"$f":"'Wniosek 2026 r.'!B132","v":0},{"$f":"'Wniosek 2026 r.'!E132","v":0},{"$f":"'Wniosek 2026 r.'!G132","v":0},{"$f":"'Wniosek 2026 r.'!C295","v":0},{"$f":"'Wniosek 2026 r.'!C760","v":0}]
[{"$f":"'Wniosek 2026 r.'!A133","v":95},{"$f":"'Wniosek 2026 r.'!B133","v":0},{"$f":"'Wniosek 2026 r.'!E133","v":0},{"$f":"'Wniosek 2026 r.'!G133","v":0},{"$f":"'Wniosek 2026 r.'!C296","v":0},{"$f":"'Wniosek 2026 r.'!C761","v":0}]
[{"$f":"'Wniosek 2026 r.'!A134","v":96},{"$f":"'Wniosek 2026 r.'!B134","v":0},{"$f":"'Wniosek 2026 r.'!E134","v":0},{"$f":"'Wniosek 2026 r.'!G134","v":0},{"$f":"'Wniosek 2026 r.'!C297","v":0},{"$f":"'Wniosek 2026 r.'!C762","v":0}]
[{"$f":"'Wniosek 2026 r.'!A135","v":97},{"$f":"'Wniosek 2026 r.'!B135","v":0},{"$f":"'Wniosek 2026 r.'!E135","v":0},{"$f":"'Wniosek 2026 r.'!G135","v":0},{"$f":"'Wniosek 2026 r.'!C298","v":0},{"$f":"'Wniosek 2026 r.'!C763","v":0}]
[{"$f":"'Wniosek 2026 r.'!A136","v":98},{"$f":"'Wniosek 2026 r.'!B136","v":0},{"$f":"'Wniosek 2026 r.'!E136","v":0},{"$f":"'Wniosek 2026 r.'!G136","v":0},{"$f":"'Wniosek 2026 r.'!C299","v":0},{"$f":"'Wniosek 2026 r.'!C764","v":0}]
[{"$f":"'Wniosek 2026 r.'!A137","v":99},{"$f":"'Wniosek 2026 r.'!B137","v":0},{"$f":"'Wniosek 2026 r.'!E137","v":0},{"$f":"'Wniosek 2026 r.'!G137","v":0},{"$f":"'Wniosek 2026 r.'!C300","v":0},{"$f":"'Wniosek 2026 r.'!C765","v":0}]
[{"$f":"'Wniosek 2026 r.'!A138","v":100},{"$f":"'Wniosek 2026 r.'!B138","v":0},{"$f":"'Wniosek 2026 r.'!E138","v":0},{"$f":"'Wniosek 2026 r.'!G138","v":0},{"$f":"'Wniosek 2026 r.'!C301","v":0},{"$f":"'Wniosek 2026 r.'!C766","v":0}]
[{"$f":"'Wniosek 2026 r.'!A139","v":101},{"$f":"'Wniosek 2026 r.'!B139","v":0},{"$f":"'Wniosek 2026 r.'!E139","v":0},{"$f":"'Wniosek 2026 r.'!G139","v":0},{"$f":"'Wniosek 2026 r.'!C302","v":0},{"$f":"'Wniosek 2026 r.'!C767","v":0}]
[{"$f":"'Wniosek 2026 r.'!A140","v":102},{"$f":"'Wniosek 2026 r.'!B140","v":0},{"$f":"'Wniosek 2026 r.'!E140","v":0},{"$f":"'Wniosek 2026 r.'!G140","v":0},{"$f":"'Wniosek 2026 r.'!C303","v":0},{"$f":"'Wniosek 2026 r.'!C768","v":0}]
[{"$f":"'Wniosek 2026 r.'!A141","v":103},{"$f":"'Wniosek 2026 r.'!B141","v":0},{"$f":"'Wniosek 2026 r.'!E141","v":0},{"$f":"'Wniosek 2026 r.'!G141","v":0},{"$f":"'Wniosek 2026 r.'!C304","v":0},{"$f":"'Wniosek 2026 r.'!C769","v":0}]
[{"$f":"'Wniosek 2026 r.'!A142","v":104},{"$f":"'Wniosek 2026 r.'!B142","v":0},{"$f":"'Wniosek 2026 r.'!E142","v":0},{"$f":"'Wniosek 2026 r.'!G142","v":0},{"$f":"'Wniosek 2026 r.'!C305","v":0},{"$f":"'Wniosek 2026 r.'!C770","v":0}]
[{"$f":"'Wniosek 2026 r.'!A143","v":105},{"$f":"'Wniosek 2026 r.'!B143","v":0},{"$f":"'Wniosek 2026 r.'!E143","v":0},{"$f":"'Wniosek 2026 r.'!G143","v":0},{"$f":"'Wniosek 2026 r.'!C306","v":0},{"$f":"'Wniosek 2026 r.'!C771","v":0}]
[{"$f":"'Wniosek 2026 r.'!A144","v":106},{"$f":"'Wniosek 2026 r.'!B144","v":0},{"$f":"'Wniosek 2026 r.'!E144","v":0},{"$f":"'Wniosek 2026 r.'!G144","v":0},{"$f":"'Wniosek 2026 r.'!C307","v":0},{"$f":"'Wniosek 2026 r.'!C772","v":0}]
[{"$f":"'Wniosek 2026 r.'!A145","v":107},{"$f":"'Wniosek 2026 r.'!B145","v":0},{"$f":"'Wniosek 2026 r.'!E145","v":0},{"$f":"'Wniosek 2026 r.'!G145","v":0},{"$f":"'Wniosek 2026 r.'!C308","v":0},{"$f":"'Wniosek 2026 r.'!C773","v":0}]
[{"$f":"'Wniosek 2026 r.'!A146","v":108},{"$f":"'Wniosek 2026 r.'!B146","v":0},{"$f":"'Wniosek 2026 r.'!E146","v":0},{"$f":"'Wniosek 2026 r.'!G146","v":0},{"$f":"'Wniosek 2026 r.'!C309","v":0},{"$f":"'Wniosek 2026 r.'!C774","v":0}]
[{"$f":"'Wniosek 2026 r.'!A147","v":109},{"$f":"'Wniosek 2026 r.'!B147","v":0},{"$f":"'Wniosek 2026 r.'!E147","v":0},{"$f":"'Wniosek 2026 r.'!G147","v":0},{"$f":"'Wniosek 2026 r.'!C310","v":0},{"$f":"'Wniosek 2026 r.'!C775","v":0}]
[{"$f":"'Wniosek 2026 r.'!A148","v":110},{"$f":"'Wniosek 2026 r.'!B148","v":0},{"$f":"'Wniosek 2026 r.'!E148","v":0},{"$f":"'Wniosek 2026 r.'!G148","v":0},{"$f":"'Wniosek 2026 r.'!C311","v":0},{"$f":"'Wniosek 2026 r.'!C776","v":0}]
[{"$f":"'Wniosek 2026 r.'!A149","v":111},{"$f":"'Wniosek 2026 r.'!B149","v":0},{"$f":"'Wniosek 2026 r.'!E149","v":0},{"$f":"'Wniosek 2026 r.'!G149","v":0},{"$f":"'Wniosek 2026 r.'!C312","v":0},{"$f":"'Wniosek 2026 r.'!C777","v":0}]
[{"$f":"'Wniosek 2026 r.'!A150","v":112},{"$f":"'Wniosek 2026 r.'!B150","v":0},{"$f":"'Wniosek 2026 r.'!E150","v":0},{"$f":"'Wniosek 2026 r.'!G150","v":0},{"$f":"'Wniosek 2026 r.'!C313","v":0},{"$f":"'Wniosek 2026 r.'!C778","v":0}]
[{"$f":"'Wniosek 2026 r.'!A151","v":113},{"$f":"'Wniosek 2026 r.'!B151","v":0},{"$f":"'Wniosek 2026 r.'!E151","v":0},{"$f":"'Wniosek 2026 r.'!G151","v":0},{"$f":"'Wniosek 2026 r.'!C314","v":0},{"$f":"'Wniosek 2026 r.'!C779","v":0}]
[{"$f":"'Wniosek 2026 r.'!A152","v":114},{"$f":"'Wniosek 2026 r.'!B152","v":0},{"$f":"'Wniosek 2026 r.'!E152","v":0},{"$f":"'Wniosek 2026 r.'!G152","v":0},{"$f":"'Wniosek 2026 r.'!C315","v":0},{"$f":"'Wniosek 2026 r.'!C780","v":0}]
[{"$f":"'Wniosek 2026 r.'!A153","v":115},{"$f":"'Wniosek 2026 r.'!B153","v":0},{"$f":"'Wniosek 2026 r.'!E153","v":0},{"$f":"'Wniosek 2026 r.'!G153","v":0},{"$f":"'Wniosek 2026 r.'!C316","v":0},{"$f":"'Wniosek 2026 r.'!C781","v":0}]
[{"$f":"'Wniosek 2026 r.'!A154","v":116},{"$f":"'Wniosek 2026 r.'!B154","v":0},{"$f":"'Wniosek 2026 r.'!E154","v":0},{"$f":"'Wniosek 2026 r.'!G154","v":0},{"$f":"'Wniosek 2026 r.'!C317","v":0},{"$f":"'Wniosek 2026 r.'!C782","v":0}]
[{"$f":"'Wniosek 2026 r.'!A155","v":117},{"$f":"'Wniosek 2026 r.'!B155","v":0},{"$f":"'Wniosek 2026 r.'!E155","v":0},{"$f":"'Wniosek 2026 r.'!G155","v":0},{"$f":"'Wniosek 2026 r.'!C318","v":0},{"$f":"'Wniosek 2026 r.'!C783","v":0}]
[{"$f":"'Wniosek 2026 r.'!A156","v":118},{"$f":"'Wniosek 2026 r.'!B156","v":0},{"$f":"'Wniosek 2026 r.'!E156","v":0},{"$f":"'Wniosek 2026 r.'!G156","v":0},{"$f":"'Wniosek 2026 r.'!C319","v":0},{"$f":"'Wniosek 2026 r.'!C784","v":0}]
[{"$f":"'Wniosek 2026 r.'!A157","v":119},{"$f":"'Wniosek 2026 r.'!B157","v":0},{"$f":"'Wniosek 2026 r.'!E157","v":0},{"$f":"'Wniosek 2026 r.'!G157","v":0},{"$f":"'Wniosek 2026 r.'!C320","v":0},{"$f":"'Wniosek 2026 r.'!C785","v":0}]
[{"$f":"'Wniosek 2026 r.'!A158","v":120},{"$f":"'Wniosek 2026 r.'!B158","v":0},{"$f":"'Wniosek 2026 r.'!E158","v":0},{"$f":"'Wniosek 2026 r.'!G158","v":0},{"$f":"'Wniosek 2026 r.'!C321","v":0},{"$f":"'Wniosek 2026 r.'!C786","v":0}]
[{"$f":"'Wniosek 2026 r.'!A159","v":121},{"$f":"'Wniosek 2026 r.'!B159","v":0},{"$f":"'Wniosek 2026 r.'!E159","v":0},{"$f":"'Wniosek 2026 r.'!G159","v":0},{"$f":"'Wniosek 2026 r.'!C322","v":0},{"$f":"'Wniosek 2026 r.'!C787","v":0}]
[{"$f":"'Wniosek 2026 r.'!A160","v":122},{"$f":"'Wniosek 2026 r.'!B160","v":0},{"$f":"'Wniosek 2026 r.'!E160","v":0},{"$f":"'Wniosek 2026 r.'!G160","v":0},{"$f":"'Wniosek 2026 r.'!C323","v":0},{"$f":"'Wniosek 2026 r.'!C788","v":0}]
[{"$f":"'Wniosek 2026 r.'!A161","v":123},{"$f":"'Wniosek 2026 r.'!B161","v":0},{"$f":"'Wniosek 2026 r.'!E161","v":0},{"$f":"'Wniosek 2026 r.'!G161","v":0},{"$f":"'Wniosek 2026 r.'!C324","v":0},{"$f":"'Wniosek 2026 r.'!C789","v":0}]
[{"$f":"'Wniosek 2026 r.'!A162","v":124},{"$f":"'Wniosek 2026 r.'!B162","v":0},{"$f":"'Wniosek 2026 r.'!E162","v":0},{"$f":"'Wniosek 2026 r.'!G162","v":0},{"$f":"'Wniosek 2026 r.'!C325","v":0},{"$f":"'Wniosek 2026 r.'!C790","v":0}]
[{"$f":"'Wniosek 2026 r.'!A163","v":125},{"$f":"'Wniosek 2026 r.'!B163","v":0},{"$f":"'Wniosek 2026 r.'!E163","v":0},{"$f":"'Wniosek 2026 r.'!G163","v":0},{"$f":"'Wniosek 2026 r.'!C326","v":0},{"$f":"'Wniosek 2026 r.'!C791","v":0}]
[{"$f":"'Wniosek 2026 r.'!A164","v":126},{"$f":"'Wniosek 2026 r.'!B164","v":0},{"$f":"'Wniosek 2026 r.'!E164","v":0},{"$f":"'Wniosek 2026 r.'!G164","v":0},{"$f":"'Wniosek 2026 r.'!C327","v":0},{"$f":"'Wniosek 2026 r.'!C792","v":0}]
[{"$f":"'Wniosek 2026 r.'!A165","v":127},{"$f":"'Wniosek 2026 r.'!B165","v":0},{"$f":"'Wniosek 2026 r.'!E165","v":0},{"$f":"'Wniosek 2026 r.'!G165","v":0},{"$f":"'Wniosek 2026 r.'!C328","v":0},{"$f":"'Wniosek 2026 r.'!C793","v":0}]
[{"$f":"'Wniosek 2026 r.'!A166","v":128},{"$f":"'Wniosek 2026 r.'!B166","v":0},{"$f":"'Wniosek 2026 r.'!E166","v":0},{"$f":"'Wniosek 2026 r.'!G166","v":0},{"$f":"'Wniosek 2026 r.'!C329","v":0},{"$f":"'Wniosek 2026 r.'!C794","v":0}]
[{"$f":"'Wniosek 2026 r.'!A167","v":129},{"$f":"'Wniosek 2026 r.'!B167","v":0},{"$f":"'Wniosek 2026 r.'!E167","v":0},{"$f":"'Wniosek 2026 r.'!G167","v":0},{"$f":"'Wniosek 2026 r.'!C330","v":0},{"$f":"'Wniosek 2026 r.'!C795","v":0}]
[{"$f":"'Wniosek 2026 r.'!A168","v":130},{"$f":"'Wniosek 2026 r.'!B168","v":0},{"$f":"'Wniosek 2026 r.'!E168","v":0},{"$f":"'Wniosek 2026 r.'!G168","v":0},{"$f":"'Wniosek 2026 r.'!C331","v":0},{"$f":"'Wniosek 2026 r.'!C796","v":0}]
[{"$f":"'Wniosek 2026 r.'!A169","v":131},{"$f":"'Wniosek 2026 r.'!B169","v":0},{"$f":"'Wniosek 2026 r.'!E169","v":0},{"$f":"'Wniosek 2026 r.'!G169","v":0},{"$f":"'Wniosek 2026 r.'!C332","v":0},{"$f":"'Wniosek 2026 r.'!C797","v":0}]
[{"$f":"'Wniosek 2026 r.'!A170","v":132},{"$f":"'Wniosek 2026 r.'!B170","v":0},{"$f":"'Wniosek 2026 r.'!E170","v":0},{"$f":"'Wniosek 2026 r.'!G170","v":0},{"$f":"'Wniosek 2026 r.'!C333","v":0},{"$f":"'Wniosek 2026 r.'!C798","v":0}]
[{"$f":"'Wniosek 2026 r.'!A171","v":133},{"$f":"'Wniosek 2026 r.'!B171","v":0},{"$f":"'Wniosek 2026 r.'!E171","v":0},{"$f":"'Wniosek 2026 r.'!G171","v":0},{"$f":"'Wniosek 2026 r.'!C334","v":0},{"$f":"'Wniosek 2026 r.'!C799","v":0}]
[{"$f":"'Wniosek 2026 r.'!A172","v":134},{"$f":"'Wniosek 2026 r.'!B172","v":0},{"$f":"'Wniosek 2026 r.'!E172","v":0},{"$f":"'Wniosek 2026 r.'!G172","v":0},{"$f":"'Wniosek 2026 r.'!C335","v":0},{"$f":"'Wniosek 2026 r.'!C800","v":0}]
[{"$f":"'Wniosek 2026 r.'!A173","v":135},{"$f":"'Wniosek 2026 r.'!B173","v":0},{"$f":"'Wniosek 2026 r.'!E173","v":0},{"$f":"'Wniosek 2026 r.'!G173","v":0},{"$f":"'Wniosek 2026 r.'!C336","v":0},{"$f":"'Wniosek 2026 r.'!C801","v":0}]
[{"$f":"'Wniosek 2026 r.'!A174","v":136},{"$f":"'Wniosek 2026 r.'!B174","v":0},{"$f":"'Wniosek 2026 r.'!E174","v":0},{"$f":"'Wniosek 2026 r.'!G174","v":0},{"$f":"'Wniosek 2026 r.'!C337","v":0},{"$f":"'Wniosek 2026 r.'!C802","v":0}]
[{"$f":"'Wniosek 2026 r.'!A175","v":137},{"$f":"'Wniosek 2026 r.'!B175","v":0},{"$f":"'Wniosek 2026 r.'!E175","v":0},{"$f":"'Wniosek 2026 r.'!G175","v":0},{"$f":"'Wniosek 2026 r.'!C338","v":0},{"$f":"'Wniosek 2026 r.'!C803","v":0}]
[{"$f":"'Wniosek 2026 r.'!A176","v":138},{"$f":"'Wniosek 2026 r.'!B176","v":0},{"$f":"'Wniosek 2026 r.'!E176","v":0},{"$f":"'Wniosek 2026 r.'!G176","v":0},{"$f":"'Wniosek 2026 r.'!C339","v":0},{"$f":"'Wniosek 2026 r.'!C804","v":0}]
[{"$f":"'Wniosek 2026 r.'!A177","v":139},{"$f":"'Wniosek 2026 r.'!B177","v":0},{"$f":"'Wniosek 2026 r.'!E177","v":0},{"$f":"'Wniosek 2026 r.'!G177","v":0},{"$f":"'Wniosek 2026 r.'!C340","v":0},{"$f":"'Wniosek 2026 r.'!C805","v":0}]
[{"$f":"'Wniosek 2026 r.'!A178","v":140},{"$f":"'Wniosek 2026 r.'!B178","v":0},{"$f":"'Wniosek 2026 r.'!E178","v":0},{"$f":"'Wniosek 2026 r.'!G178","v":0},{"$f":"'Wniosek 2026 r.'!C341","v":0},{"$f":"'Wniosek 2026 r.'!C806","v":0}]
[{"$f":"'Wniosek 2026 r.'!A179","v":141},{"$f":"'Wniosek 2026 r.'!B179","v":0},{"$f":"'Wniosek 2026 r.'!E179","v":0},{"$f":"'Wniosek 2026 r.'!G179","v":0},{"$f":"'Wniosek 2026 r.'!C342","v":0},{"$f":"'Wniosek 2026 r.'!C807","v":0}]
[{"$f":"'Wniosek 2026 r.'!A180","v":142},{"$f":"'Wniosek 2026 r.'!B180","v":0},{"$f":"'Wniosek 2026 r.'!E180","v":0},{"$f":"'Wniosek 2026 r.'!G180","v":0},{"$f":"'Wniosek 2026 r.'!C343","v":0},{"$f":"'Wniosek 2026 r.'!C808","v":0}]
[{"$f":"'Wniosek 2026 r.'!A181","v":143},{"$f":"'Wniosek 2026 r.'!B181","v":0},{"$f":"'Wniosek 2026 r.'!E181","v":0},{"$f":"'Wniosek 2026 r.'!G181","v":0},{"$f":"'Wniosek 2026 r.'!C344","v":0},{"$f":"'Wniosek 2026 r.'!C809","v":0}]
[{"$f":"'Wniosek 2026 r.'!A182","v":144},{"$f":"'Wniosek 2026 r.'!B182","v":0},{"$f":"'Wniosek 2026 r.'!E182","v":0},{"$f":"'Wniosek 2026 r.'!G182","v":0},{"$f":"'Wniosek 2026 r.'!C345","v":0},{"$f":"'Wniosek 2026 r.'!C810","v":0}]
[{"$f":"'Wniosek 2026 r.'!A183","v":145},{"$f":"'Wniosek 2026 r.'!B183","v":0},{"$f":"'Wniosek 2026 r.'!E183","v":0},{"$f":"'Wniosek 2026 r.'!G183","v":0},{"$f":"'Wniosek 2026 r.'!C346","v":0},{"$f":"'Wniosek 2026 r.'!C811","v":0}]
[{"$f":"'Wniosek 2026 r.'!A184","v":146},{"$f":"'Wniosek 2026 r.'!B184","v":0},{"$f":"'Wniosek 2026 r.'!E184","v":0},{"$f":"'Wniosek 2026 r.'!G184","v":0},{"$f":"'Wniosek 2026 r.'!C347","v":0},{"$f":"'Wniosek 2026 r.'!C812","v":0}]
[{"$f":"'Wniosek 2026 r.'!A185","v":147},{"$f":"'Wniosek 2026 r.'!B185","v":0},{"$f":"'Wniosek 2026 r.'!E185","v":0},{"$f":"'Wniosek 2026 r.'!G185","v":0},{"$f":"'Wniosek 2026 r.'!C348","v":0},{"$f":"'Wniosek 2026 r.'!C813","v":0}]
[{"$f":"'Wniosek 2026 r.'!A186","v":148},{"$f":"'Wniosek 2026 r.'!B186","v":0},{"$f":"'Wniosek 2026 r.'!E186","v":0},{"$f":"'Wniosek 2026 r.'!G186","v":0},{"$f":"'Wniosek 2026 r.'!C349","v":0},{"$f":"'Wniosek 2026 r.'!C814","v":0}]
[{"$f":"'Wniosek 2026 r.'!A187","v":149},{"$f":"'Wniosek 2026 r.'!B187","v":0},{"$f":"'Wniosek 2026 r.'!E187","v":0},{"$f":"'Wniosek 2026 r.'!G187","v":0},{"$f":"'Wniosek 2026 r.'!C350","v":0},{"$f":"'Wniosek 2026 r.'!C815","v":0}]
[{"$f":"'Wniosek 2026 r.'!A188","v":150},{"$f":"'Wniosek 2026 r.'!B188","v":0},{"$f":"'Wniosek 2026 r.'!E188","v":0},{"$f":"'Wniosek 2026 r.'!G188","v":0},{"$f":"'Wniosek 2026 r.'!C351","v":0},{"$f":"'Wniosek 2026 r.'!C816","v":0}]
[{"$f":"'Wniosek 2026 r.'!A189","v":"Ogółem:"},null,{"$f":"'Wniosek 2026 r.'!E189","v":0},{"$f":"'Wniosek 2026 r.'!G189","v":0},{"$f":"'Wniosek 2026 r.'!C352","v":0},{"$f":"'Wniosek 2026 r.'!C817","v":0}]

{"sheet":"Dane szczegółowe","index":7,"n_rows":151,"n_cols":20,"rows_kept":151,"cut":false,"hidden":true,"merged":[]}
[{"$f":"'Dane zbiorcze'!W1","v":"L.p."},{"$f":"'Dane zbiorcze'!X1","v":"Nazwa linii komunikacyjnej"},{"$f":"'Dane zbiorcze'!Y1","v":"Miejscowości,\nw których zlokalizowane są przystanki autobusowe "},{"$f":"'Dane zbiorcze'!Z1","v":"Gminy, na terenie których wykonywane będą przewozy autobusowe"},{"$f":"'Dane zbiorcze'!AA1","v":"Długość linii "},{"$f":"'Dane zbiorcze'!AB1","v":"Liczba zatrzymań  2026"},{"$f":"'Dane zbiorcze'!AC1","v":" Częstotliwość 2026\n "},{"$f":"'Dane zbiorcze'!AD1","v":"Data uruchomienia linii komunikacyjnej 2026"},{"$f":"'Dane zbiorcze'!AE1","v":"Liczba wozokilometrów 2026"},{"$f":"'Dane zbiorcze'!AF1","v":"Cena usługi 2026 [zł]"},{"$f":"'Dane zbiorcze'!AG1","v":"Część ceny usługi sfinansowanej ze środków własnych organizatora 2026 [zł]"},{"$f":"'Dane zbiorcze'!AH1","v":"Procentowa wartość części ceny usługi sfinansowanej ze środków własnych organizatora [%] 2026"},{"$f":"'Dane zbiorcze'!AI1","v":"Środki własne organizatora [zł] 2026"},{"$f":"'Dane zbiorcze'!AJ1","v":"Planowana kwota deficytu* 2026"},{"$f":"'Dane zbiorcze'!AK1","v":"Planowana kwota dopłaty* 2026"},{"$f":"'Dane zbiorcze'!AL1","v":"Liczba przystanków niepełnosprawni"},{"$f":"'Dane zbiorcze'!AM1","v":"Liczba wszystkich przystanków"},{"$f":"'Dane zbiorcze'!AN1","v":"Liczba przystanków ogrzewalnie"},{"$f":"'Wniosek 2026 r.'!D975","v":"Rodzaj i nazwa przedsięwzięcia infrastrukturalnego"},{"$f":"'Wniosek 2026 r.'!G975","v":"Odległość (w metrach) od najbliższego przystanku komunikacyjnego"}]
[{"$f":"'Wniosek 2026 r.'!A39","v":1},{"$f":"'Wniosek 2026 r.'!B39","v":0},{"$f":"'Wniosek 2026 r.'!C39","v":0},{"$f":"'Wniosek 2026 r.'!D39","v":0},{"$f":"'Wniosek 2026 r.'!E39","v":0},{"$f":"'Wniosek 2026 r.'!F39","v":0},{"$f":"'Wniosek 2026 r.'!G39","v":0},{"$f":"'Wniosek 2026 r.'!H39","v":"00:00:00"},{"$f":"'Wniosek 2026 r.'!C202","v":0},{"$f":"'Wniosek 2026 r.'!C358","v":0},{"$f":"'Wniosek 2026 r.'!D358","v":0},{"$f":"'Wniosek 2026 r.'!F358","v":0},{"$f":"'Wniosek 2026 r.'!H358","v":0},{"$f":"'Wniosek 2026 r.'!C512","v":0},{"$f":"'Wniosek 2026 r.'!C667","v":0},{"$f":"'Wniosek 2026 r.'!C822","v":0},{"$f":"'Wniosek 2026 r.'!E822","v":0},{"$f":"'Wniosek 2026 r.'!C976","v":0},{"$f":"'Wniosek 2026 r.'!D976","v":0},{"$f":"'Wniosek 2026 r.'!G976","v":0}]
[{"$f":"'Wniosek 2026 r.'!A40","v":2},{"$f":"'Wniosek 2026 r.'!B40","v":0},{"$f":"'Wniosek 2026 r.'!C40","v":0},{"$f":"'Wniosek 2026 r.'!D40","v":0},{"$f":"'Wniosek 2026 r.'!E40","v":0},{"$f":"'Wniosek 2026 r.'!F40","v":0},{"$f":"'Wniosek 2026 r.'!G40","v":0},{"$f":"'Wniosek 2026 r.'!H40","v":"00:00:00"},{"$f":"'Wniosek 2026 r.'!C203","v":0},{"$f":"'Wniosek 2026 r.'!C359","v":0},{"$f":"'Wniosek 2026 r.'!D359","v":0},{"$f":"'Wniosek 2026 r.'!F359","v":0},{"$f":"'Wniosek 2026 r.'!H359","v":0},{"$f":"'Wniosek 2026 r.'!C513","v":0},{"$f":"'Wniosek 2026 r.'!C668","v":0},{"$f":"'Wniosek 2026 r.'!C823","v":0},{"$f":"'Wniosek 2026 r.'!E823","v":0},{"$f":"'Wniosek 2026 r.'!C977","v":0},{"$f":"'Wniosek 2026 r.'!D977","v":0},{"$f":"'Wniosek 2026 r.'!G977","v":0}]
[{"$f":"'Wniosek 2026 r.'!A41","v":3},{"$f":"'Wniosek 2026 r.'!B41","v":0},{"$f":"'Wniosek 2026 r.'!C41","v":0},{"$f":"'Wniosek 2026 r.'!D41","v":0},{"$f":"'Wniosek 2026 r.'!E41","v":0},{"$f":"'Wniosek 2026 r.'!F41","v":0},{"$f":"'Wniosek 2026 r.'!G41","v":0},{"$f":"'Wniosek 2026 r.'!H41","v":"00:00:00"},{"$f":"'Wniosek 2026 r.'!C204","v":0},{"$f":"'Wniosek 2026 r.'!C360","v":0},{"$f":"'Wniosek 2026 r.'!D360","v":0},{"$f":"'Wniosek 2026 r.'!F360","v":0},{"$f":"'Wniosek 2026 r.'!H360","v":0},{"$f":"'Wniosek 2026 r.'!C514","v":0},{"$f":"'Wniosek 2026 r.'!C669","v":0},{"$f":"'Wniosek 2026 r.'!C824","v":0},{"$f":"'Wniosek 2026 r.'!E824","v":0},{"$f":"'Wniosek 2026 r.'!C978","v":0},{"$f":"'Wniosek 2026 r.'!D978","v":0},{"$f":"'Wniosek 2026 r.'!G978","v":0}]
[{"$f":"'Wniosek 2026 r.'!A42","v":4},{"$f":"'Wniosek 2026 r.'!B42","v":0},{"$f":"'Wniosek 2026 r.'!C42","v":0},{"$f":"'Wniosek 2026 r.'!D42","v":0},{"$f":"'Wniosek 2026 r.'!E42","v":0},{"$f":"'Wniosek 2026 r.'!F42","v":0},{"$f":"'Wniosek 2026 r.'!G42","v":0},{"$f":"'Wniosek 2026 r.'!H42","v":"00:00:00"},{"$f":"'Wniosek 2026 r.'!C205","v":0},{"$f":"'Wniosek 2026 r.'!C361","v":0},{"$f":"'Wniosek 2026 r.'!D361","v":0},{"$f":"'Wniosek 2026 r.'!F361","v":0},{"$f":"'Wniosek 2026 r.'!H361","v":0},{"$f":"'Wniosek 2026 r.'!C515","v":0},{"$f":"'Wniosek 2026 r.'!C670","v":0},{"$f":"'Wniosek 2026 r.'!C825","v":0},{"$f":"'Wniosek 2026 r.'!E825","v":0},{"$f":"'Wniosek 2026 r.'!C979","v":0},{"$f":"'Wniosek 2026 r.'!D979","v":0},{"$f":"'Wniosek 2026 r.'!G979","v":0}]
[{"$f":"'Wniosek 2026 r.'!A43","v":5},{"$f":"'Wniosek 2026 r.'!B43","v":0},{"$f":"'Wniosek 2026 r.'!C43","v":0},{"$f":"'Wniosek 2026 r.'!D43","v":0},{"$f":"'Wniosek 2026 r.'!E43","v":0},{"$f":"'Wniosek 2026 r.'!F43","v":0},{"$f":"'Wniosek 2026 r.'!G43","v":0},{"$f":"'Wniosek 2026 r.'!H43","v":"00:00:00"},{"$f":"'Wniosek 2026 r.'!C206","v":0},{"$f":"'Wniosek 2026 r.'!C362","v":0},{"$f":"'Wniosek 2026 r.'!D362","v":0},{"$f":"'Wniosek 2026 r.'!F362","v":0},{"$f":"'Wniosek 2026 r.'!H362","v":0},{"$f":"'Wniosek 2026 r.'!C516","v":0},{"$f":"'Wniosek 2026 r.'!C671","v":0},{"$f":"'Wniosek 2026 r.'!C826","v":0},{"$f":"'Wniosek 2026 r.'!E826","v":0},{"$f":"'Wniosek 2026 r.'!C980","v":0},{"$f":"'Wniosek 2026 r.'!D980","v":0},{"$f":"'Wniosek 2026 r.'!G980","v":0}]
[{"$f":"'Wniosek 2026 r.'!A44","v":6},{"$f":"'Wniosek 2026 r.'!B44","v":0},{"$f":"'Wniosek 2026 r.'!C44","v":0},{"$f":"'Wniosek 2026 r.'!D44","v":0},{"$f":"'Wniosek 2026 r.'!E44","v":0},{"$f":"'Wniosek 2026 r.'!F44","v":0},{"$f":"'Wniosek 2026 r.'!G44","v":0},{"$f":"'Wniosek 2026 r.'!H44","v":"00:00:00"},{"$f":"'Wniosek 2026 r.'!C207","v":0},{"$f":"'Wniosek 2026 r.'!C363","v":0},{"$f":"'Wniosek 2026 r.'!D363","v":0},{"$f":"'Wniosek 2026 r.'!F363","v":0},{"$f":"'Wniosek 2026 r.'!H363","v":0},{"$f":"'Wniosek 2026 r.'!C517","v":0},{"$f":"'Wniosek 2026 r.'!C672","v":0},{"$f":"'Wniosek 2026 r.'!C827","v":0},{"$f":"'Wniosek 2026 r.'!E827","v":0},{"$f":"'Wniosek 2026 r.'!C981","v":0},{"$f":"'Wniosek 2026 r.'!D981","v":0},{"$f":"'Wniosek 2026 r.'!G981","v":0}]
[{"$f":"'Wniosek 2026 r.'!A45","v":7},{"$f":"'Wniosek 2026 r.'!B45","v":0},{"$f":"'Wniosek 2026 r.'!C45","v":0},{"$f":"'Wniosek 2026 r.'!D45","v":0},{"$f":"'Wniosek 2026 r.'!E45","v":0},{"$f":"'Wniosek 2026 r.'!F45","v":0},{"$f":"'Wniosek 2026 r.'!G45","v":0},{"$f":"'Wniosek 2026 r.'!H45","v":"00:00:00"},{"$f":"'Wniosek 2026 r.'!C208","v":0},{"$f":"'Wniosek 2026 r.'!C364","v":0},{"$f":"'Wniosek 2026 r.'!D364","v":0},{"$f":"'Wniosek 2026 r.'!F364","v":0},{"$f":"'Wniosek 2026 r.'!H364","v":0},{"$f":"'Wniosek 2026 r.'!C518","v":0},{"$f":"'Wniosek 2026 r.'!C673","v":0},{"$f":"'Wniosek 2026 r.'!C828","v":0},{"$f":"'Wniosek 2026 r.'!E828","v":0},{"$f":"'Wniosek 2026 r.'!C982","v":0},{"$f":"'Wniosek 2026 r.'!D982","v":0},{"$f":"'Wniosek 2026 r.'!G982","v":0}]
[{"$f":"'Wniosek 2026 r.'!A46","v":8},{"$f":"'Wniosek 2026 r.'!B46","v":0},{"$f":"'Wniosek 2026 r.'!C46","v":0},{"$f":"'Wniosek 2026 r.'!D46","v":0},{"$f":"'Wniosek 2026 r.'!E46","v":0},{"$f":"'Wniosek 2026 r.'!F46","v":0},{"$f":"'Wniosek 2026 r.'!G46","v":0},{"$f":"'Wniosek 2026 r.'!H46","v":"00:00:00"},{"$f":"'Wniosek 2026 r.'!C209","v":0},{"$f":"'Wniosek 2026 r.'!C365","v":0},{"$f":"'Wniosek 2026 r.'!D365","v":0},{"$f":"'Wniosek 2026 r.'!F365","v":0},{"$f":"'Wniosek 2026 r.'!H365","v":0},{"$f":"'Wniosek 2026 r.'!C519","v":0},{"$f":"'Wniosek 2026 r.'!C674","v":0},{"$f":"'Wniosek 2026 r.'!C829","v":0},{"$f":"'Wniosek 2026 r.'!E829","v":0},{"$f":"'Wniosek 2026 r.'!C983","v":0},{"$f":"'Wniosek 2026 r.'!D983","v":0},{"$f":"'Wniosek 2026 r.'!G983","v":0}]
[{"$f":"'Wniosek 2026 r.'!A47","v":9},{"$f":"'Wniosek 2026 r.'!B47","v":0},{"$f":"'Wniosek 2026 r.'!C47","v":0},{"$f":"'Wniosek 2026 r.'!D47","v":0},{"$f":"'Wniosek 2026 r.'!E47","v":0},{"$f":"'Wniosek 2026 r.'!F47","v":0},{"$f":"'Wniosek 2026 r.'!G47","v":0},{"$f":"'Wniosek 2026 r.'!H47","v":"00:00:00"},{"$f":"'Wniosek 2026 r.'!C210","v":0},{"$f":"'Wniosek 2026 r.'!C366","v":0},{"$f":"'Wniosek 2026 r.'!D366","v":0},{"$f":"'Wniosek 2026 r.'!F366","v":0},{"$f":"'Wniosek 2026 r.'!H366","v":0},{"$f":"'Wniosek 2026 r.'!C520","v":0},{"$f":"'Wniosek 2026 r.'!C675","v":0},{"$f":"'Wniosek 2026 r.'!C830","v":0},{"$f":"'Wniosek 2026 r.'!E830","v":0},{"$f":"'Wniosek 2026 r.'!C984","v":0},{"$f":"'Wniosek 2026 r.'!D984","v":0},{"$f":"'Wniosek 2026 r.'!G984","v":0}]
[{"$f":"'Wniosek 2026 r.'!A48","v":10},{"$f":"'Wniosek 2026 r.'!B48","v":0},{"$f":"'Wniosek 2026 r.'!C48","v":0},{"$f":"'Wniosek 2026 r.'!D48","v":0},{"$f":"'Wniosek 2026 r.'!E48","v":0},{"$f":"'Wniosek 2026 r.'!F48","v":0},{"$f":"'Wniosek 2026 r.'!G48","v":0},{"$f":"'Wniosek 2026 r.'!H48","v":"00:00:00"},{"$f":"'Wniosek 2026 r.'!C211","v":0},{"$f":"'Wniosek 2026 r.'!C367","v":0},{"$f":"'Wniosek 2026 r.'!D367","v":0},{"$f":"'Wniosek 2026 r.'!F367","v":0},{"$f":"'Wniosek 2026 r.'!H367","v":0},{"$f":"'Wniosek 2026 r.'!C521","v":0},{"$f":"'Wniosek 2026 r.'!C676","v":0},{"$f":"'Wniosek 2026 r.'!C831","v":0},{"$f":"'Wniosek 2026 r.'!E831","v":0},{"$f":"'Wniosek 2026 r.'!C985","v":0},{"$f":"'Wniosek 2026 r.'!D985","v":0},{"$f":"'Wniosek 2026 r.'!G985","v":0}]
[{"$f":"'Wniosek 2026 r.'!A49","v":11},{"$f":"'Wniosek 2026 r.'!B49","v":0},{"$f":"'Wniosek 2026 r.'!C49","v":0},{"$f":"'Wniosek 2026 r.'!D49","v":0},{"$f":"'Wniosek 2026 r.'!E49","v":0},{"$f":"'Wniosek 2026 r.'!F49","v":0},{"$f":"'Wniosek 2026 r.'!G49","v":0},{"$f":"'Wniosek 2026 r.'!H49","v":"00:00:00"},{"$f":"'Wniosek 2026 r.'!C212","v":0},{"$f":"'Wniosek 2026 r.'!C368","v":0},{"$f":"'Wniosek 2026 r.'!D368","v":0},{"$f":"'Wniosek 2026 r.'!F368","v":0},{"$f":"'Wniosek 2026 r.'!H368","v":0},{"$f":"'Wniosek 2026 r.'!C522","v":0},{"$f":"'Wniosek 2026 r.'!C677","v":0},{"$f":"'Wniosek 2026 r.'!C832","v":0},{"$f":"'Wniosek 2026 r.'!E832","v":0},{"$f":"'Wniosek 2026 r.'!C986","v":0},{"$f":"'Wniosek 2026 r.'!D986","v":0},{"$f":"'Wniosek 2026 r.'!G986","v":0}]
[{"$f":"'Wniosek 2026 r.'!A50","v":12},{"$f":"'Wniosek 2026 r.'!B50","v":0},{"$f":"'Wniosek 2026 r.'!C50","v":0},{"$f":"'Wniosek 2026 r.'!D50","v":0},{"$f":"'Wniosek 2026 r.'!E50","v":0},{"$f":"'Wniosek 2026 r.'!F50","v":0},{"$f":"'Wniosek 2026 r.'!G50","v":0},{"$f":"'Wniosek 2026 r.'!H50","v":"00:00:00"},{"$f":"'Wniosek 2026 r.'!C213","v":0},{"$f":"'Wniosek 2026 r.'!C369","v":0},{"$f":"'Wniosek 2026 r.'!D369","v":0},{"$f":"'Wniosek 2026 r.'!F369","v":0},{"$f":"'Wniosek 2026 r.'!H369","v":0},{"$f":"'Wniosek 2026 r.'!C523","v":0},{"$f":"'Wniosek 2026 r.'!C678","v":0},{"$f":"'Wniosek 2026 r.'!C833","v":0},{"$f":"'Wniosek 2026 r.'!E833","v":0},{"$f":"'Wniosek 2026 r.'!C987","v":0},{"$f":"'Wniosek 2026 r.'!D987","v":0},{"$f":"'Wniosek 2026 r.'!G987","v":0}]
[{"$f":"'Wniosek 2026 r.'!A51","v":13},{"$f":"'Wniosek 2026 r.'!B51","v":0},{"$f":"'Wniosek 2026 r.'!C51","v":0},{"$f":"'Wniosek 2026 r.'!D51","v":0},{"$f":"'Wniosek 2026 r.'!E51","v":0},{"$f":"'Wniosek 2026 r.'!F51","v":0},{"$f":"'Wniosek 2026 r.'!G51","v":0},{"$f":"'Wniosek 2026 r.'!H51","v":"00:00:00"},{"$f":"'Wniosek 2026 r.'!C214","v":0},{"$f":"'Wniosek 2026 r.'!C370","v":0},{"$f":"'Wniosek 2026 r.'!D370","v":0},{"$f":"'Wniosek 2026 r.'!F370","v":0},{"$f":"'Wniosek 2026 r.'!H370","v":0},{"$f":"'Wniosek 2026 r.'!C524","v":0},{"$f":"'Wniosek 2026 r.'!C679","v":0},{"$f":"'Wniosek 2026 r.'!C834","v":0},{"$f":"'Wniosek 2026 r.'!E834","v":0},{"$f":"'Wniosek 2026 r.'!C988","v":0},{"$f":"'Wniosek 2026 r.'!D988","v":0},{"$f":"'Wniosek 2026 r.'!G988","v":0}]
[{"$f":"'Wniosek 2026 r.'!A52","v":14},{"$f":"'Wniosek 2026 r.'!B52","v":0},{"$f":"'Wniosek 2026 r.'!C52","v":0},{"$f":"'Wniosek 2026 r.'!D52","v":0},{"$f":"'Wniosek 2026 r.'!E52","v":0},{"$f":"'Wniosek 2026 r.'!F52","v":0},{"$f":"'Wniosek 2026 r.'!G52","v":0},{"$f":"'Wniosek 2026 r.'!H52","v":"00:00:00"},{"$f":"'Wniosek 2026 r.'!C215","v":0},{"$f":"'Wniosek 2026 r.'!C371","v":0},{"$f":"'Wniosek 2026 r.'!D371","v":0},{"$f":"'Wniosek 2026 r.'!F371","v":0},{"$f":"'Wniosek 2026 r.'!H371","v":0},{"$f":"'Wniosek 2026 r.'!C525","v":0},{"$f":"'Wniosek 2026 r.'!C680","v":0},{"$f":"'Wniosek 2026 r.'!C835","v":0},{"$f":"'Wniosek 2026 r.'!E835","v":0},{"$f":"'Wniosek 2026 r.'!C989","v":0},{"$f":"'Wniosek 2026 r.'!D989","v":0},{"$f":"'Wniosek 2026 r.'!G989","v":0}]
[{"$f":"'Wniosek 2026 r.'!A53","v":15},{"$f":"'Wniosek 2026 r.'!B53","v":0},{"$f":"'Wniosek 2026 r.'!C53","v":0},{"$f":"'Wniosek 2026 r.'!D53","v":0},{"$f":"'Wniosek 2026 r.'!E53","v":0},{"$f":"'Wniosek 2026 r.'!F53","v":0},{"$f":"'Wniosek 2026 r.'!G53","v":0},{"$f":"'Wniosek 2026 r.'!H53","v":"00:00:00"},{"$f":"'Wniosek 2026 r.'!C216","v":0},{"$f":"'Wniosek 2026 r.'!C372","v":0},{"$f":"'Wniosek 2026 r.'!D372","v":0},{"$f":"'Wniosek 2026 r.'!F372","v":0},{"$f":"'Wniosek 2026 r.'!H372","v":0},{"$f":"'Wniosek 2026 r.'!C526","v":0},{"$f":"'Wniosek 2026 r.'!C681","v":0},{"$f":"'Wniosek 2026 r.'!C836","v":0},{"$f":"'Wniosek 2026 r.'!E836","v":0},{"$f":"'Wniosek 2026 r.'!C990","v":0},{"$f":"'Wniosek 2026 r.'!D990","v":0},{"$f":"'Wniosek 2026 r.'!G990","v":0}]
[{"$f":"'Wniosek 2026 r.'!A54","v":16},{"$f":"'Wniosek 2026 r.'!B54","v":0},{"$f":"'Wniosek 2026 r.'!C54","v":0},{"$f":"'Wniosek 2026 r.'!D54","v":0},{"$f":"'Wniosek 2026 r.'!E54","v":0},{"$f":"'Wniosek 2026 r.'!F54","v":0},{"$f":"'Wniosek 2026 r.'!G54","v":0},{"$f":"'Wniosek 2026 r.'!H54","v":"00:00:00"},{"$f":"'Wniosek 2026 r.'!C217","v":0},{"$f":"'Wniosek 2026 r.'!C373","v":0},{"$f":"'Wniosek 2026 r.'!D373","v":0},{"$f":"'Wniosek 2026 r.'!F373","v":0},{"$f":"'Wniosek 2026 r.'!H373","v":0},{"$f":"'Wniosek 2026 r.'!C527","v":0},{"$f":"'Wniosek 2026 r.'!C682","v":0},{"$f":"'Wniosek 2026 r.'!C837","v":0},{"$f":"'Wniosek 2026 r.'!E837","v":0},{"$f":"'Wniosek 2026 r.'!C991","v":0},{"$f":"'Wniosek 2026 r.'!D991","v":0},{"$f":"'Wniosek 2026 r.'!G991","v":0}]
[{"$f":"'Wniosek 2026 r.'!A55","v":17},{"$f":"'Wniosek 2026 r.'!B55","v":0},{"$f":"'Wniosek 2026 r.'!C55","v":0},{"$f":"'Wniosek 2026 r.'!D55","v":0},{"$f":"'Wniosek 2026 r.'!E55","v":0},{"$f":"'Wniosek 2026 r.'!F55","v":0},{"$f":"'Wniosek 2026 r.'!G55","v":0},{"$f":"'Wniosek 2026 r.'!H55","v":"00:00:00"},{"$f":"'Wniosek 2026 r.'!C218","v":0},{"$f":"'Wniosek 2026 r.'!C374","v":0},{"$f":"'Wniosek 2026 r.'!D374","v":0},{"$f":"'Wniosek 2026 r.'!F374","v":0},{"$f":"'Wniosek 2026 r.'!H374","v":0},{"$f":"'Wniosek 2026 r.'!C528","v":0},{"$f":"'Wniosek 2026 r.'!C683","v":0},{"$f":"'Wniosek 2026 r.'!C838","v":0},{"$f":"'Wniosek 2026 r.'!E838","v":0},{"$f":"'Wniosek 2026 r.'!C992","v":0},{"$f":"'Wniosek 2026 r.'!D992","v":0},{"$f":"'Wniosek 2026 r.'!G992","v":0}]
[{"$f":"'Wniosek 2026 r.'!A56","v":18},{"$f":"'Wniosek 2026 r.'!B56","v":0},{"$f":"'Wniosek 2026 r.'!C56","v":0},{"$f":"'Wniosek 2026 r.'!D56","v":0},{"$f":"'Wniosek 2026 r.'!E56","v":0},{"$f":"'Wniosek 2026 r.'!F56","v":0},{"$f":"'Wniosek 2026 r.'!G56","v":0},{"$f":"'Wniosek 2026 r.'!H56","v":"00:00:00"},{"$f":"'Wniosek 2026 r.'!C219","v":0},{"$f":"'Wniosek 2026 r.'!C375","v":0},{"$f":"'Wniosek 2026 r.'!D375","v":0},{"$f":"'Wniosek 2026 r.'!F375","v":0},{"$f":"'Wniosek 2026 r.'!H375","v":0},{"$f":"'Wniosek 2026 r.'!C529","v":0},{"$f":"'Wniosek 2026 r.'!C684","v":0},{"$f":"'Wniosek 2026 r.'!C839","v":0},{"$f":"'Wniosek 2026 r.'!E839","v":0},{"$f":"'Wniosek 2026 r.'!C993","v":0},{"$f":"'Wniosek 2026 r.'!D993","v":0},{"$f":"'Wniosek 2026 r.'!G993","v":0}]
[{"$f":"'Wniosek 2026 r.'!A57","v":19},{"$f":"'Wniosek 2026 r.'!B57","v":0},{"$f":"'Wniosek 2026 r.'!C57","v":0},{"$f":"'Wniosek 2026 r.'!D57","v":0},{"$f":"'Wniosek 2026 r.'!E57","v":0},{"$f":"'Wniosek 2026 r.'!F57","v":0},{"$f":"'Wniosek 2026 r.'!G57","v":0},{"$f":"'Wniosek 2026 r.'!H57","v":"00:00:00"},{"$f":"'Wniosek 2026 r.'!C220","v":0},{"$f":"'Wniosek 2026 r.'!C376","v":0},{"$f":"'Wniosek 2026 r.'!D376","v":0},{"$f":"'Wniosek 2026 r.'!F376","v":0},{"$f":"'Wniosek 2026 r.'!H376","v":0},{"$f":"'Wniosek 2026 r.'!C530","v":0},{"$f":"'Wniosek 2026 r.'!C685","v":0},{"$f":"'Wniosek 2026 r.'!C840","v":0},{"$f":"'Wniosek 2026 r.'!E840","v":0},{"$f":"'Wniosek 2026 r.'!C994","v":0},{"$f":"'Wniosek 2026 r.'!D994","v":0},{"$f":"'Wniosek 2026 r.'!G994","v":0}]
[{"$f":"'Wniosek 2026 r.'!A58","v":20},{"$f":"'Wniosek 2026 r.'!B58","v":0},{"$f":"'Wniosek 2026 r.'!C58","v":0},{"$f":"'Wniosek 2026 r.'!D58","v":0},{"$f":"'Wniosek 2026 r.'!E58","v":0},{"$f":"'Wniosek 2026 r.'!F58","v":0},{"$f":"'Wniosek 2026 r.'!G58","v":0},{"$f":"'Wniosek 2026 r.'!H58","v":"00:00:00"},{"$f":"'Wniosek 2026 r.'!C221","v":0},{"$f":"'Wniosek 2026 r.'!C377","v":0},{"$f":"'Wniosek 2026 r.'!D377","v":0},{"$f":"'Wniosek 2026 r.'!F377","v":0},{"$f":"'Wniosek 2026 r.'!H377","v":0},{"$f":"'Wniosek 2026 r.'!C531","v":0},{"$f":"'Wniosek 2026 r.'!C686","v":0},{"$f":"'Wniosek 2026 r.'!C841","v":0},{"$f":"'Wniosek 2026 r.'!E841","v":0},{"$f":"'Wniosek 2026 r.'!C995","v":0},{"$f":"'Wniosek 2026 r.'!D995","v":0},{"$f":"'Wniosek 2026 r.'!G995","v":0}]
[{"$f":"'Wniosek 2026 r.'!A59","v":21},{"$f":"'Wniosek 2026 r.'!B59","v":0},{"$f":"'Wniosek 2026 r.'!C59","v":0},{"$f":"'Wniosek 2026 r.'!D59","v":0},{"$f":"'Wniosek 2026 r.'!E59","v":0},{"$f":"'Wniosek 2026 r.'!F59","v":0},{"$f":"'Wniosek 2026 r.'!G59","v":0},{"$f":"'Wniosek 2026 r.'!H59","v":"00:00:00"},{"$f":"'Wniosek 2026 r.'!C222","v":0},{"$f":"'Wniosek 2026 r.'!C378","v":0},{"$f":"'Wniosek 2026 r.'!D378","v":0},{"$f":"'Wniosek 2026 r.'!F378","v":0},{"$f":"'Wniosek 2026 r.'!H378","v":0},{"$f":"'Wniosek 2026 r.'!C532","v":0},{"$f":"'Wniosek 2026 r.'!C687","v":0},{"$f":"'Wniosek 2026 r.'!C842","v":0},{"$f":"'Wniosek 2026 r.'!E842","v":0},{"$f":"'Wniosek 2026 r.'!C996","v":0},{"$f":"'Wniosek 2026 r.'!D996","v":0},{"$f":"'Wniosek 2026 r.'!G996","v":0}]
[{"$f":"'Wniosek 2026 r.'!A60","v":22},{"$f":"'Wniosek 2026 r.'!B60","v":0},{"$f":"'Wniosek 2026 r.'!C60","v":0},{"$f":"'Wniosek 2026 r.'!D60","v":0},{"$f":"'Wniosek 2026 r.'!E60","v":0},{"$f":"'Wniosek 2026 r.'!F60","v":0},{"$f":"'Wniosek 2026 r.'!G60","v":0},{"$f":"'Wniosek 2026 r.'!H60","v":"00:00:00"},{"$f":"'Wniosek 2026 r.'!C223","v":0},{"$f":"'Wniosek 2026 r.'!C379","v":0},{"$f":"'Wniosek 2026 r.'!D379","v":0},{"$f":"'Wniosek 2026 r.'!F379","v":0},{"$f":"'Wniosek 2026 r.'!H379","v":0},{"$f":"'Wniosek 2026 r.'!C533","v":0},{"$f":"'Wniosek 2026 r.'!C688","v":0},{"$f":"'Wniosek 2026 r.'!C843","v":0},{"$f":"'Wniosek 2026 r.'!E843","v":0},{"$f":"'Wniosek 2026 r.'!C997","v":0},{"$f":"'Wniosek 2026 r.'!D997","v":0},{"$f":"'Wniosek 2026 r.'!G997","v":0}]
[{"$f":"'Wniosek 2026 r.'!A61","v":23},{"$f":"'Wniosek 2026 r.'!B61","v":0},{"$f":"'Wniosek 2026 r.'!C61","v":0},{"$f":"'Wniosek 2026 r.'!D61","v":0},{"$f":"'Wniosek 2026 r.'!E61","v":0},{"$f":"'Wniosek 2026 r.'!F61","v":0},{"$f":"'Wniosek 2026 r.'!G61","v":0},{"$f":"'Wniosek 2026 r.'!H61","v":"00:00:00"},{"$f":"'Wniosek 2026 r.'!C224","v":0},{"$f":"'Wniosek 2026 r.'!C380","v":0},{"$f":"'Wniosek 2026 r.'!D380","v":0},{"$f":"'Wniosek 2026 r.'!F380","v":0},{"$f":"'Wniosek 2026 r.'!H380","v":0},{"$f":"'Wniosek 2026 r.'!C534","v":0},{"$f":"'Wniosek 2026 r.'!C689","v":0},{"$f":"'Wniosek 2026 r.'!C844","v":0},{"$f":"'Wniosek 2026 r.'!E844","v":0},{"$f":"'Wniosek 2026 r.'!C998","v":0},{"$f":"'Wniosek 2026 r.'!D998","v":0},{"$f":"'Wniosek 2026 r.'!G998","v":0}]
[{"$f":"'Wniosek 2026 r.'!A62","v":24},{"$f":"'Wniosek 2026 r.'!B62","v":0},{"$f":"'Wniosek 2026 r.'!C62","v":0},{"$f":"'Wniosek 2026 r.'!D62","v":0},{"$f":"'Wniosek 2026 r.'!E62","v":0},{"$f":"'Wniosek 2026 r.'!F62","v":0},{"$f":"'Wniosek 2026 r.'!G62","v":0},{"$f":"'Wniosek 2026 r.'!H62","v":"00:00:00"},{"$f":"'Wniosek 2026 r.'!C225","v":0},{"$f":"'Wniosek 2026 r.'!C381","v":0},{"$f":"'Wniosek 2026 r.'!D381","v":0},{"$f":"'Wniosek 2026 r.'!F381","v":0},{"$f":"'Wniosek 2026 r.'!H381","v":0},{"$f":"'Wniosek 2026 r.'!C535","v":0},{"$f":"'Wniosek 2026 r.'!C690","v":0},{"$f":"'Wniosek 2026 r.'!C845","v":0},{"$f":"'Wniosek 2026 r.'!E845","v":0},{"$f":"'Wniosek 2026 r.'!C999","v":0},{"$f":"'Wniosek 2026 r.'!D999","v":0},{"$f":"'Wniosek 2026 r.'!G999","v":0}]
[{"$f":"'Wniosek 2026 r.'!A63","v":25},{"$f":"'Wniosek 2026 r.'!B63","v":0},{"$f":"'Wniosek 2026 r.'!C63","v":0},{"$f":"'Wniosek 2026 r.'!D63","v":0},{"$f":"'Wniosek 2026 r.'!E63","v":0},{"$f":"'Wniosek 2026 r.'!F63","v":0},{"$f":"'Wniosek 2026 r.'!G63","v":0},{"$f":"'Wniosek 2026 r.'!H63","v":"00:00:00"},{"$f":"'Wniosek 2026 r.'!C226","v":0},{"$f":"'Wniosek 2026 r.'!C382","v":0},{"$f":"'Wniosek 2026 r.'!D382","v":0},{"$f":"'Wniosek 2026 r.'!F382","v":0},{"$f":"'Wniosek 2026 r.'!H382","v":0},{"$f":"'Wniosek 2026 r.'!C536","v":0},{"$f":"'Wniosek 2026 r.'!C691","v":0},{"$f":"'Wniosek 2026 r.'!C846","v":0},{"$f":"'Wniosek 2026 r.'!E846","v":0},{"$f":"'Wniosek 2026 r.'!C1000","v":0},{"$f":"'Wniosek 2026 r.'!D1000","v":0},{"$f":"'Wniosek 2026 r.'!G1000","v":0}]
[{"$f":"'Wniosek 2026 r.'!A64","v":26},{"$f":"'Wniosek 2026 r.'!B64","v":0},{"$f":"'Wniosek 2026 r.'!C64","v":0},{"$f":"'Wniosek 2026 r.'!D64","v":0},{"$f":"'Wniosek 2026 r.'!E64","v":0},{"$f":"'Wniosek 2026 r.'!F64","v":0},{"$f":"'Wniosek 2026 r.'!G64","v":0},{"$f":"'Wniosek 2026 r.'!H64","v":"00:00:00"},{"$f":"'Wniosek 2026 r.'!C227","v":0},{"$f":"'Wniosek 2026 r.'!C383","v":0},{"$f":"'Wniosek 2026 r.'!D383","v":0},{"$f":"'Wniosek 2026 r.'!F383","v":0},{"$f":"'Wniosek 2026 r.'!H383","v":0},{"$f":"'Wniosek 2026 r.'!C537","v":0},{"$f":"'Wniosek 2026 r.'!C692","v":0},{"$f":"'Wniosek 2026 r.'!C847","v":0},{"$f":"'Wniosek 2026 r.'!E847","v":0},{"$f":"'Wniosek 2026 r.'!C1001","v":0},{"$f":"'Wniosek 2026 r.'!D1001","v":0},{"$f":"'Wniosek 2026 r.'!G1001","v":0}]
[{"$f":"'Wniosek 2026 r.'!A65","v":27},{"$f":"'Wniosek 2026 r.'!B65","v":0},{"$f":"'Wniosek 2026 r.'!C65","v":0},{"$f":"'Wniosek 2026 r.'!D65","v":0},{"$f":"'Wniosek 2026 r.'!E65","v":0},{"$f":"'Wniosek 2026 r.'!F65","v":0},{"$f":"'Wniosek 2026 r.'!G65","v":0},{"$f":"'Wniosek 2026 r.'!H65","v":"00:00:00"},{"$f":"'Wniosek 2026 r.'!C228","v":0},{"$f":"'Wniosek 2026 r.'!C384","v":0},{"$f":"'Wniosek 2026 r.'!D384","v":0},{"$f":"'Wniosek 2026 r.'!F384","v":0},{"$f":"'Wniosek 2026 r.'!H384","v":0},{"$f":"'Wniosek 2026 r.'!C538","v":0},{"$f":"'Wniosek 2026 r.'!C693","v":0},{"$f":"'Wniosek 2026 r.'!C848","v":0},{"$f":"'Wniosek 2026 r.'!E848","v":0},{"$f":"'Wniosek 2026 r.'!C1002","v":0},{"$f":"'Wniosek 2026 r.'!D1002","v":0},{"$f":"'Wniosek 2026 r.'!G1002","v":0}]
[{"$f":"'Wniosek 2026 r.'!A66","v":28},{"$f":"'Wniosek 2026 r.'!B66","v":0},{"$f":"'Wniosek 2026 r.'!C66","v":0},{"$f":"'Wniosek 2026 r.'!D66","v":0},{"$f":"'Wniosek 2026 r.'!E66","v":0},{"$f":"'Wniosek 2026 r.'!F66","v":0},{"$f":"'Wniosek 2026 r.'!G66","v":0},{"$f":"'Wniosek 2026 r.'!H66","v":"00:00:00"},{"$f":"'Wniosek 2026 r.'!C229","v":0},{"$f":"'Wniosek 2026 r.'!C385","v":0},{"$f":"'Wniosek 2026 r.'!D385","v":0},{"$f":"'Wniosek 2026 r.'!F385","v":0},{"$f":"'Wniosek 2026 r.'!H385","v":0},{"$f":"'Wniosek 2026 r.'!C539","v":0},{"$f":"'Wniosek 2026 r.'!C694","v":0},{"$f":"'Wniosek 2026 r.'!C849","v":0},{"$f":"'Wniosek 2026 r.'!E849","v":0},{"$f":"'Wniosek 2026 r.'!C1003","v":0},{"$f":"'Wniosek 2026 r.'!D1003","v":0},{"$f":"'Wniosek 2026 r.'!G1003","v":0}]
[{"$f":"'Wniosek 2026 r.'!A67","v":29},{"$f":"'Wniosek 2026 r.'!B67","v":0},{"$f":"'Wniosek 2026 r.'!C67","v":0},{"$f":"'Wniosek 2026 r.'!D67","v":0},{"$f":"'Wniosek 2026 r.'!E67","v":0},{"$f":"'Wniosek 2026 r.'!F67","v":0},{"$f":"'Wniosek 2026 r.'!G67","v":0},{"$f":"'Wniosek 2026 r.'!H67","v":"00:00:00"},{"$f":"'Wniosek 2026 r.'!C230","v":0},{"$f":"'Wniosek 2026 r.'!C386","v":0},{"$f":"'Wniosek 2026 r.'!D386","v":0},{"$f":"'Wniosek 2026 r.'!F386","v":0},{"$f":"'Wniosek 2026 r.'!H386","v":0},{"$f":"'Wniosek 2026 r.'!C540","v":0},{"$f":"'Wniosek 2026 r.'!C695","v":0},{"$f":"'Wniosek 2026 r.'!C850","v":0},{"$f":"'Wniosek 2026 r.'!E850","v":0},{"$f":"'Wniosek 2026 r.'!C1004","v":0},{"$f":"'Wniosek 2026 r.'!D1004","v":0},{"$f":"'Wniosek 2026 r.'!G1004","v":0}]
[{"$f":"'Wniosek 2026 r.'!A68","v":30},{"$f":"'Wniosek 2026 r.'!B68","v":0},{"$f":"'Wniosek 2026 r.'!C68","v":0},{"$f":"'Wniosek 2026 r.'!D68","v":0},{"$f":"'Wniosek 2026 r.'!E68","v":0},{"$f":"'Wniosek 2026 r.'!F68","v":0},{"$f":"'Wniosek 2026 r.'!G68","v":0},{"$f":"'Wniosek 2026 r.'!H68","v":"00:00:00"},{"$f":"'Wniosek 2026 r.'!C231","v":0},{"$f":"'Wniosek 2026 r.'!C387","v":0},{"$f":"'Wniosek 2026 r.'!D387","v":0},{"$f":"'Wniosek 2026 r.'!F387","v":0},{"$f":"'Wniosek 2026 r.'!H387","v":0},{"$f":"'Wniosek 2026 r.'!C541","v":0},{"$f":"'Wniosek 2026 r.'!C696","v":0},{"$f":"'Wniosek 2026 r.'!C851","v":0},{"$f":"'Wniosek 2026 r.'!E851","v":0},{"$f":"'Wniosek 2026 r.'!C1005","v":0},{"$f":"'Wniosek 2026 r.'!D1005","v":0},{"$f":"'Wniosek 2026 r.'!G1005","v":0}]
[{"$f":"'Wniosek 2026 r.'!A69","v":31},{"$f":"'Wniosek 2026 r.'!B69","v":0},{"$f":"'Wniosek 2026 r.'!C69","v":0},{"$f":"'Wniosek 2026 r.'!D69","v":0},{"$f":"'Wniosek 2026 r.'!E69","v":0},{"$f":"'Wniosek 2026 r.'!F69","v":0},{"$f":"'Wniosek 2026 r.'!G69","v":0},{"$f":"'Wniosek 2026 r.'!H69","v":"00:00:00"},{"$f":"'Wniosek 2026 r.'!C232","v":0},{"$f":"'Wniosek 2026 r.'!C388","v":0},{"$f":"'Wniosek 2026 r.'!D388","v":0},{"$f":"'Wniosek 2026 r.'!F388","v":0},{"$f":"'Wniosek 2026 r.'!H388","v":0},{"$f":"'Wniosek 2026 r.'!C542","v":0},{"$f":"'Wniosek 2026 r.'!C697","v":0},{"$f":"'Wniosek 2026 r.'!C852","v":0},{"$f":"'Wniosek 2026 r.'!E852","v":0},{"$f":"'Wniosek 2026 r.'!C1006","v":0},{"$f":"'Wniosek 2026 r.'!D1006","v":0},{"$f":"'Wniosek 2026 r.'!G1006","v":0}]
[{"$f":"'Wniosek 2026 r.'!A70","v":32},{"$f":"'Wniosek 2026 r.'!B70","v":0},{"$f":"'Wniosek 2026 r.'!C70","v":0},{"$f":"'Wniosek 2026 r.'!D70","v":0},{"$f":"'Wniosek 2026 r.'!E70","v":0},{"$f":"'Wniosek 2026 r.'!F70","v":0},{"$f":"'Wniosek 2026 r.'!G70","v":0},{"$f":"'Wniosek 2026 r.'!H70","v":"00:00:00"},{"$f":"'Wniosek 2026 r.'!C233","v":0},{"$f":"'Wniosek 2026 r.'!C389","v":0},{"$f":"'Wniosek 2026 r.'!D389","v":0},{"$f":"'Wniosek 2026 r.'!F389","v":0},{"$f":"'Wniosek 2026 r.'!H389","v":0},{"$f":"'Wniosek 2026 r.'!C543","v":0},{"$f":"'Wniosek 2026 r.'!C698","v":0},{"$f":"'Wniosek 2026 r.'!C853","v":0},{"$f":"'Wniosek 2026 r.'!E853","v":0},{"$f":"'Wniosek 2026 r.'!C1007","v":0},{"$f":"'Wniosek 2026 r.'!D1007","v":0},{"$f":"'Wniosek 2026 r.'!G1007","v":0}]
[{"$f":"'Wniosek 2026 r.'!A71","v":33},{"$f":"'Wniosek 2026 r.'!B71","v":0},{"$f":"'Wniosek 2026 r.'!C71","v":0},{"$f":"'Wniosek 2026 r.'!D71","v":0},{"$f":"'Wniosek 2026 r.'!E71","v":0},{"$f":"'Wniosek 2026 r.'!F71","v":0},{"$f":"'Wniosek 2026 r.'!G71","v":0},{"$f":"'Wniosek 2026 r.'!H71","v":"00:00:00"},{"$f":"'Wniosek 2026 r.'!C234","v":0},{"$f":"'Wniosek 2026 r.'!C390","v":0},{"$f":"'Wniosek 2026 r.'!D390","v":0},{"$f":"'Wniosek 2026 r.'!F390","v":0},{"$f":"'Wniosek 2026 r.'!H390","v":0},{"$f":"'Wniosek 2026 r.'!C544","v":0},{"$f":"'Wniosek 2026 r.'!C699","v":0},{"$f":"'Wniosek 2026 r.'!C854","v":0},{"$f":"'Wniosek 2026 r.'!E854","v":0},{"$f":"'Wniosek 2026 r.'!C1008","v":0},{"$f":"'Wniosek 2026 r.'!D1008","v":0},{"$f":"'Wniosek 2026 r.'!G1008","v":0}]
[{"$f":"'Wniosek 2026 r.'!A72","v":34},{"$f":"'Wniosek 2026 r.'!B72","v":0},{"$f":"'Wniosek 2026 r.'!C72","v":0},{"$f":"'Wniosek 2026 r.'!D72","v":0},{"$f":"'Wniosek 2026 r.'!E72","v":0},{"$f":"'Wniosek 2026 r.'!F72","v":0},{"$f":"'Wniosek 2026 r.'!G72","v":0},{"$f":"'Wniosek 2026 r.'!H72","v":"00:00:00"},{"$f":"'Wniosek 2026 r.'!C235","v":0},{"$f":"'Wniosek 2026 r.'!C391","v":0},{"$f":"'Wniosek 2026 r.'!D391","v":0},{"$f":"'Wniosek 2026 r.'!F391","v":0},{"$f":"'Wniosek 2026 r.'!H391","v":0},{"$f":"'Wniosek 2026 r.'!C545","v":0},{"$f":"'Wniosek 2026 r.'!C700","v":0},{"$f":"'Wniosek 2026 r.'!C855","v":0},{"$f":"'Wniosek 2026 r.'!E855","v":0},{"$f":"'Wniosek 2026 r.'!C1009","v":0},{"$f":"'Wniosek 2026 r.'!D1009","v":0},{"$f":"'Wniosek 2026 r.'!G1009","v":0}]
[{"$f":"'Wniosek 2026 r.'!A73","v":35},{"$f":"'Wniosek 2026 r.'!B73","v":0},{"$f":"'Wniosek 2026 r.'!C73","v":0},{"$f":"'Wniosek 2026 r.'!D73","v":0},{"$f":"'Wniosek 2026 r.'!E73","v":0},{"$f":"'Wniosek 2026 r.'!F73","v":0},{"$f":"'Wniosek 2026 r.'!G73","v":0},{"$f":"'Wniosek 2026 r.'!H73","v":"00:00:00"},{"$f":"'Wniosek 2026 r.'!C236","v":0},{"$f":"'Wniosek 2026 r.'!C392","v":0},{"$f":"'Wniosek 2026 r.'!D392","v":0},{"$f":"'Wniosek 2026 r.'!F392","v":0},{"$f":"'Wniosek 2026 r.'!H392","v":0},{"$f":"'Wniosek 2026 r.'!C546","v":0},{"$f":"'Wniosek 2026 r.'!C701","v":0},{"$f":"'Wniosek 2026 r.'!C856","v":0},{"$f":"'Wniosek 2026 r.'!E856","v":0},{"$f":"'Wniosek 2026 r.'!C1010","v":0},{"$f":"'Wniosek 2026 r.'!D1010","v":0},{"$f":"'Wniosek 2026 r.'!G1010","v":0}]
[{"$f":"'Wniosek 2026 r.'!A74","v":36},{"$f":"'Wniosek 2026 r.'!B74","v":0},{"$f":"'Wniosek 2026 r.'!C74","v":0},{"$f":"'Wniosek 2026 r.'!D74","v":0},{"$f":"'Wniosek 2026 r.'!E74","v":0},{"$f":"'Wniosek 2026 r.'!F74","v":0},{"$f":"'Wniosek 2026 r.'!G74","v":0},{"$f":"'Wniosek 2026 r.'!H74","v":"00:00:00"},{"$f":"'Wniosek 2026 r.'!C237","v":0},{"$f":"'Wniosek 2026 r.'!C393","v":0},{"$f":"'Wniosek 2026 r.'!D393","v":0},{"$f":"'Wniosek 2026 r.'!F393","v":0},{"$f":"'Wniosek 2026 r.'!H393","v":0},{"$f":"'Wniosek 2026 r.'!C547","v":0},{"$f":"'Wniosek 2026 r.'!C702","v":0},{"$f":"'Wniosek 2026 r.'!C857","v":0},{"$f":"'Wniosek 2026 r.'!E857","v":0},{"$f":"'Wniosek 2026 r.'!C1011","v":0},{"$f":"'Wniosek 2026 r.'!D1011","v":0},{"$f":"'Wniosek 2026 r.'!G1011","v":0}]
[{"$f":"'Wniosek 2026 r.'!A75","v":37},{"$f":"'Wniosek 2026 r.'!B75","v":0},{"$f":"'Wniosek 2026 r.'!C75","v":0},{"$f":"'Wniosek 2026 r.'!D75","v":0},{"$f":"'Wniosek 2026 r.'!E75","v":0},{"$f":"'Wniosek 2026 r.'!F75","v":0},{"$f":"'Wniosek 2026 r.'!G75","v":0},{"$f":"'Wniosek 2026 r.'!H75","v":"00:00:00"},{"$f":"'Wniosek 2026 r.'!C238","v":0},{"$f":"'Wniosek 2026 r.'!C394","v":0},{"$f":"'Wniosek 2026 r.'!D394","v":0},{"$f":"'Wniosek 2026 r.'!F394","v":0},{"$f":"'Wniosek 2026 r.'!H394","v":0},{"$f":"'Wniosek 2026 r.'!C548","v":0},{"$f":"'Wniosek 2026 r.'!C703","v":0},{"$f":"'Wniosek 2026 r.'!C858","v":0},{"$f":"'Wniosek 2026 r.'!E858","v":0},{"$f":"'Wniosek 2026 r.'!C1012","v":0},{"$f":"'Wniosek 2026 r.'!D1012","v":0},{"$f":"'Wniosek 2026 r.'!G1012","v":0}]
[{"$f":"'Wniosek 2026 r.'!A76","v":38},{"$f":"'Wniosek 2026 r.'!B76","v":0},{"$f":"'Wniosek 2026 r.'!C76","v":0},{"$f":"'Wniosek 2026 r.'!D76","v":0},{"$f":"'Wniosek 2026 r.'!E76","v":0},{"$f":"'Wniosek 2026 r.'!F76","v":0},{"$f":"'Wniosek 2026 r.'!G76","v":0},{"$f":"'Wniosek 2026 r.'!H76","v":"00:00:00"},{"$f":"'Wniosek 2026 r.'!C239","v":0},{"$f":"'Wniosek 2026 r.'!C395","v":0},{"$f":"'Wniosek 2026 r.'!D395","v":0},{"$f":"'Wniosek 2026 r.'!F395","v":0},{"$f":"'Wniosek 2026 r.'!H395","v":0},{"$f":"'Wniosek 2026 r.'!C549","v":0},{"$f":"'Wniosek 2026 r.'!C704","v":0},{"$f":"'Wniosek 2026 r.'!C859","v":0},{"$f":"'Wniosek 2026 r.'!E859","v":0},{"$f":"'Wniosek 2026 r.'!C1013","v":0},{"$f":"'Wniosek 2026 r.'!D1013","v":0},{"$f":"'Wniosek 2026 r.'!G1013","v":0}]
[{"$f":"'Wniosek 2026 r.'!A77","v":39},{"$f":"'Wniosek 2026 r.'!B77","v":0},{"$f":"'Wniosek 2026 r.'!C77","v":0},{"$f":"'Wniosek 2026 r.'!D77","v":0},{"$f":"'Wniosek 2026 r.'!E77","v":0},{"$f":"'Wniosek 2026 r.'!F77","v":0},{"$f":"'Wniosek 2026 r.'!G77","v":0},{"$f":"'Wniosek 2026 r.'!H77","v":"00:00:00"},{"$f":"'Wniosek 2026 r.'!C240","v":0},{"$f":"'Wniosek 2026 r.'!C396","v":0},{"$f":"'Wniosek 2026 r.'!D396","v":0},{"$f":"'Wniosek 2026 r.'!F396","v":0},{"$f":"'Wniosek 2026 r.'!H396","v":0},{"$f":"'Wniosek 2026 r.'!C550","v":0},{"$f":"'Wniosek 2026 r.'!C705","v":0},{"$f":"'Wniosek 2026 r.'!C860","v":0},{"$f":"'Wniosek 2026 r.'!E860","v":0},{"$f":"'Wniosek 2026 r.'!C1014","v":0},{"$f":"'Wniosek 2026 r.'!D1014","v":0},{"$f":"'Wniosek 2026 r.'!G1014","v":0}]
[{"$f":"'Wniosek 2026 r.'!A78","v":40},{"$f":"'Wniosek 2026 r.'!B78","v":0},{"$f":"'Wniosek 2026 r.'!C78","v":0},{"$f":"'Wniosek 2026 r.'!D78","v":0},{"$f":"'Wniosek 2026 r.'!E78","v":0},{"$f":"'Wniosek 2026 r.'!F78","v":0},{"$f":"'Wniosek 2026 r.'!G78","v":0},{"$f":"'Wniosek 2026 r.'!H78","v":"00:00:00"},{"$f":"'Wniosek 2026 r.'!C241","v":0},{"$f":"'Wniosek 2026 r.'!C397","v":0},{"$f":"'Wniosek 2026 r.'!D397","v":0},{"$f":"'Wniosek 2026 r.'!F397","v":0},{"$f":"'Wniosek 2026 r.'!H397","v":0},{"$f":"'Wniosek 2026 r.'!C551","v":0},{"$f":"'Wniosek 2026 r.'!C706","v":0},{"$f":"'Wniosek 2026 r.'!C861","v":0},{"$f":"'Wniosek 2026 r.'!E861","v":0},{"$f":"'Wniosek 2026 r.'!C1015","v":0},{"$f":"'Wniosek 2026 r.'!D1015","v":0},{"$f":"'Wniosek 2026 r.'!G1015","v":0}]
[{"$f":"'Wniosek 2026 r.'!A79","v":41},{"$f":"'Wniosek 2026 r.'!B79","v":0},{"$f":"'Wniosek 2026 r.'!C79","v":0},{"$f":"'Wniosek 2026 r.'!D79","v":0},{"$f":"'Wniosek 2026 r.'!E79","v":0},{"$f":"'Wniosek 2026 r.'!F79","v":0},{"$f":"'Wniosek 2026 r.'!G79","v":0},{"$f":"'Wniosek 2026 r.'!H79","v":"00:00:00"},{"$f":"'Wniosek 2026 r.'!C242","v":0},{"$f":"'Wniosek 2026 r.'!C398","v":0},{"$f":"'Wniosek 2026 r.'!D398","v":0},{"$f":"'Wniosek 2026 r.'!F398","v":0},{"$f":"'Wniosek 2026 r.'!H398","v":0},{"$f":"'Wniosek 2026 r.'!C552","v":0},{"$f":"'Wniosek 2026 r.'!C707","v":0},{"$f":"'Wniosek 2026 r.'!C862","v":0},{"$f":"'Wniosek 2026 r.'!E862","v":0},{"$f":"'Wniosek 2026 r.'!C1016","v":0},{"$f":"'Wniosek 2026 r.'!D1016","v":0},{"$f":"'Wniosek 2026 r.'!G1016","v":0}]
[{"$f":"'Wniosek 2026 r.'!A80","v":42},{"$f":"'Wniosek 2026 r.'!B80","v":0},{"$f":"'Wniosek 2026 r.'!C80","v":0},{"$f":"'Wniosek 2026 r.'!D80","v":0},{"$f":"'Wniosek 2026 r.'!E80","v":0},{"$f":"'Wniosek 2026 r.'!F80","v":0},{"$f":"'Wniosek 2026 r.'!G80","v":0},{"$f":"'Wniosek 2026 r.'!H80","v":"00:00:00"},{"$f":"'Wniosek 2026 r.'!C243","v":0},{"$f":"'Wniosek 2026 r.'!C399","v":0},{"$f":"'Wniosek 2026 r.'!D399","v":0},{"$f":"'Wniosek 2026 r.'!F399","v":0},{"$f":"'Wniosek 2026 r.'!H399","v":0},{"$f":"'Wniosek 2026 r.'!C553","v":0},{"$f":"'Wniosek 2026 r.'!C708","v":0},{"$f":"'Wniosek 2026 r.'!C863","v":0},{"$f":"'Wniosek 2026 r.'!E863","v":0},{"$f":"'Wniosek 2026 r.'!C1017","v":0},{"$f":"'Wniosek 2026 r.'!D1017","v":0},{"$f":"'Wniosek 2026 r.'!G1017","v":0}]
[{"$f":"'Wniosek 2026 r.'!A81","v":43},{"$f":"'Wniosek 2026 r.'!B81","v":0},{"$f":"'Wniosek 2026 r.'!C81","v":0},{"$f":"'Wniosek 2026 r.'!D81","v":0},{"$f":"'Wniosek 2026 r.'!E81","v":0},{"$f":"'Wniosek 2026 r.'!F81","v":0},{"$f":"'Wniosek 2026 r.'!G81","v":0},{"$f":"'Wniosek 2026 r.'!H81","v":"00:00:00"},{"$f":"'Wniosek 2026 r.'!C244","v":0},{"$f":"'Wniosek 2026 r.'!C400","v":0},{"$f":"'Wniosek 2026 r.'!D400","v":0},{"$f":"'Wniosek 2026 r.'!F400","v":0},{"$f":"'Wniosek 2026 r.'!H400","v":0},{"$f":"'Wniosek 2026 r.'!C554","v":0},{"$f":"'Wniosek 2026 r.'!C709","v":0},{"$f":"'Wniosek 2026 r.'!C864","v":0},{"$f":"'Wniosek 2026 r.'!E864","v":0},{"$f":"'Wniosek 2026 r.'!C1018","v":0},{"$f":"'Wniosek 2026 r.'!D1018","v":0},{"$f":"'Wniosek 2026 r.'!G1018","v":0}]
[{"$f":"'Wniosek 2026 r.'!A82","v":44},{"$f":"'Wniosek 2026 r.'!B82","v":0},{"$f":"'Wniosek 2026 r.'!C82","v":0},{"$f":"'Wniosek 2026 r.'!D82","v":0},{"$f":"'Wniosek 2026 r.'!E82","v":0},{"$f":"'Wniosek 2026 r.'!F82","v":0},{"$f":"'Wniosek 2026 r.'!G82","v":0},{"$f":"'Wniosek 2026 r.'!H82","v":"00:00:00"},{"$f":"'Wniosek 2026 r.'!C245","v":0},{"$f":"'Wniosek 2026 r.'!C401","v":0},{"$f":"'Wniosek 2026 r.'!D401","v":0},{"$f":"'Wniosek 2026 r.'!F401","v":0},{"$f":"'Wniosek 2026 r.'!H401","v":0},{"$f":"'Wniosek 2026 r.'!C555","v":0},{"$f":"'Wniosek 2026 r.'!C710","v":0},{"$f":"'Wniosek 2026 r.'!C865","v":0},{"$f":"'Wniosek 2026 r.'!E865","v":0},{"$f":"'Wniosek 2026 r.'!C1019","v":0},{"$f":"'Wniosek 2026 r.'!D1019","v":0},{"$f":"'Wniosek 2026 r.'!G1019","v":0}]
[{"$f":"'Wniosek 2026 r.'!A83","v":45},{"$f":"'Wniosek 2026 r.'!B83","v":0},{"$f":"'Wniosek 2026 r.'!C83","v":0},{"$f":"'Wniosek 2026 r.'!D83","v":0},{"$f":"'Wniosek 2026 r.'!E83","v":0},{"$f":"'Wniosek 2026 r.'!F83","v":0},{"$f":"'Wniosek 2026 r.'!G83","v":0},{"$f":"'Wniosek 2026 r.'!H83","v":"00:00:00"},{"$f":"'Wniosek 2026 r.'!C246","v":0},{"$f":"'Wniosek 2026 r.'!C402","v":0},{"$f":"'Wniosek 2026 r.'!D402","v":0},{"$f":"'Wniosek 2026 r.'!F402","v":0},{"$f":"'Wniosek 2026 r.'!H402","v":0},{"$f":"'Wniosek 2026 r.'!C556","v":0},{"$f":"'Wniosek 2026 r.'!C711","v":0},{"$f":"'Wniosek 2026 r.'!C866","v":0},{"$f":"'Wniosek 2026 r.'!E866","v":0},{"$f":"'Wniosek 2026 r.'!C1020","v":0},{"$f":"'Wniosek 2026 r.'!D1020","v":0},{"$f":"'Wniosek 2026 r.'!G1020","v":0}]
[{"$f":"'Wniosek 2026 r.'!A84","v":46},{"$f":"'Wniosek 2026 r.'!B84","v":0},{"$f":"'Wniosek 2026 r.'!C84","v":0},{"$f":"'Wniosek 2026 r.'!D84","v":0},{"$f":"'Wniosek 2026 r.'!E84","v":0},{"$f":"'Wniosek 2026 r.'!F84","v":0},{"$f":"'Wniosek 2026 r.'!G84","v":0},{"$f":"'Wniosek 2026 r.'!H84","v":"00:00:00"},{"$f":"'Wniosek 2026 r.'!C247","v":0},{"$f":"'Wniosek 2026 r.'!C403","v":0},{"$f":"'Wniosek 2026 r.'!D403","v":0},{"$f":"'Wniosek 2026 r.'!F403","v":0},{"$f":"'Wniosek 2026 r.'!H403","v":0},{"$f":"'Wniosek 2026 r.'!C557","v":0},{"$f":"'Wniosek 2026 r.'!C712","v":0},{"$f":"'Wniosek 2026 r.'!C867","v":0},{"$f":"'Wniosek 2026 r.'!E867","v":0},{"$f":"'Wniosek 2026 r.'!C1021","v":0},{"$f":"'Wniosek 2026 r.'!D1021","v":0},{"$f":"'Wniosek 2026 r.'!G1021","v":0}]
[{"$f":"'Wniosek 2026 r.'!A85","v":47},{"$f":"'Wniosek 2026 r.'!B85","v":0},{"$f":"'Wniosek 2026 r.'!C85","v":0},{"$f":"'Wniosek 2026 r.'!D85","v":0},{"$f":"'Wniosek 2026 r.'!E85","v":0},{"$f":"'Wniosek 2026 r.'!F85","v":0},{"$f":"'Wniosek 2026 r.'!G85","v":0},{"$f":"'Wniosek 2026 r.'!H85","v":"00:00:00"},{"$f":"'Wniosek 2026 r.'!C248","v":0},{"$f":"'Wniosek 2026 r.'!C404","v":0},{"$f":"'Wniosek 2026 r.'!D404","v":0},{"$f":"'Wniosek 2026 r.'!F404","v":0},{"$f":"'Wniosek 2026 r.'!H404","v":0},{"$f":"'Wniosek 2026 r.'!C558","v":0},{"$f":"'Wniosek 2026 r.'!C713","v":0},{"$f":"'Wniosek 2026 r.'!C868","v":0},{"$f":"'Wniosek 2026 r.'!E868","v":0},{"$f":"'Wniosek 2026 r.'!C1022","v":0},{"$f":"'Wniosek 2026 r.'!D1022","v":0},{"$f":"'Wniosek 2026 r.'!G1022","v":0}]
[{"$f":"'Wniosek 2026 r.'!A86","v":48},{"$f":"'Wniosek 2026 r.'!B86","v":0},{"$f":"'Wniosek 2026 r.'!C86","v":0},{"$f":"'Wniosek 2026 r.'!D86","v":0},{"$f":"'Wniosek 2026 r.'!E86","v":0},{"$f":"'Wniosek 2026 r.'!F86","v":0},{"$f":"'Wniosek 2026 r.'!G86","v":0},{"$f":"'Wniosek 2026 r.'!H86","v":"00:00:00"},{"$f":"'Wniosek 2026 r.'!C249","v":0},{"$f":"'Wniosek 2026 r.'!C405","v":0},{"$f":"'Wniosek 2026 r.'!D405","v":0},{"$f":"'Wniosek 2026 r.'!F405","v":0},{"$f":"'Wniosek 2026 r.'!H405","v":0},{"$f":"'Wniosek 2026 r.'!C559","v":0},{"$f":"'Wniosek 2026 r.'!C714","v":0},{"$f":"'Wniosek 2026 r.'!C869","v":0},{"$f":"'Wniosek 2026 r.'!E869","v":0},{"$f":"'Wniosek 2026 r.'!C1023","v":0},{"$f":"'Wniosek 2026 r.'!D1023","v":0},{"$f":"'Wniosek 2026 r.'!G1023","v":0}]
[{"$f":"'Wniosek 2026 r.'!A87","v":49},{"$f":"'Wniosek 2026 r.'!B87","v":0},{"$f":"'Wniosek 2026 r.'!C87","v":0},{"$f":"'Wniosek 2026 r.'!D87","v":0},{"$f":"'Wniosek 2026 r.'!E87","v":0},{"$f":"'Wniosek 2026 r.'!F87","v":0},{"$f":"'Wniosek 2026 r.'!G87","v":0},{"$f":"'Wniosek 2026 r.'!H87","v":"00:00:00"},{"$f":"'Wniosek 2026 r.'!C250","v":0},{"$f":"'Wniosek 2026 r.'!C406","v":0},{"$f":"'Wniosek 2026 r.'!D406","v":0},{"$f":"'Wniosek 2026 r.'!F406","v":0},{"$f":"'Wniosek 2026 r.'!H406","v":0},{"$f":"'Wniosek 2026 r.'!C560","v":0},{"$f":"'Wniosek 2026 r.'!C715","v":0},{"$f":"'Wniosek 2026 r.'!C870","v":0},{"$f":"'Wniosek 2026 r.'!E870","v":0},{"$f":"'Wniosek 2026 r.'!C1024","v":0},{"$f":"'Wniosek 2026 r.'!D1024","v":0},{"$f":"'Wniosek 2026 r.'!G1024","v":0}]
[{"$f":"'Wniosek 2026 r.'!A88","v":50},{"$f":"'Wniosek 2026 r.'!B88","v":0},{"$f":"'Wniosek 2026 r.'!C88","v":0},{"$f":"'Wniosek 2026 r.'!D88","v":0},{"$f":"'Wniosek 2026 r.'!E88","v":0},{"$f":"'Wniosek 2026 r.'!F88","v":0},{"$f":"'Wniosek 2026 r.'!G88","v":0},{"$f":"'Wniosek 2026 r.'!H88","v":"00:00:00"},{"$f":"'Wniosek 2026 r.'!C251","v":0},{"$f":"'Wniosek 2026 r.'!C407","v":0},{"$f":"'Wniosek 2026 r.'!D407","v":0},{"$f":"'Wniosek 2026 r.'!F407","v":0},{"$f":"'Wniosek 2026 r.'!H407","v":0},{"$f":"'Wniosek 2026 r.'!C561","v":0},{"$f":"'Wniosek 2026 r.'!C716","v":0},{"$f":"'Wniosek 2026 r.'!C871","v":0},{"$f":"'Wniosek 2026 r.'!E871","v":0},{"$f":"'Wniosek 2026 r.'!C1025","v":0},{"$f":"'Wniosek 2026 r.'!D1025","v":0},{"$f":"'Wniosek 2026 r.'!G1025","v":0}]
[{"$f":"'Wniosek 2026 r.'!A89","v":51},{"$f":"'Wniosek 2026 r.'!B89","v":0},{"$f":"'Wniosek 2026 r.'!C89","v":0},{"$f":"'Wniosek 2026 r.'!D89","v":0},{"$f":"'Wniosek 2026 r.'!E89","v":0},{"$f":"'Wniosek 2026 r.'!F89","v":0},{"$f":"'Wniosek 2026 r.'!G89","v":0},{"$f":"'Wniosek 2026 r.'!H89","v":"00:00:00"},{"$f":"'Wniosek 2026 r.'!C252","v":0},{"$f":"'Wniosek 2026 r.'!C408","v":0},{"$f":"'Wniosek 2026 r.'!D408","v":0},{"$f":"'Wniosek 2026 r.'!F408","v":0},{"$f":"'Wniosek 2026 r.'!H408","v":0},{"$f":"'Wniosek 2026 r.'!C562","v":0},{"$f":"'Wniosek 2026 r.'!C717","v":0},{"$f":"'Wniosek 2026 r.'!C872","v":0},{"$f":"'Wniosek 2026 r.'!E872","v":0},{"$f":"'Wniosek 2026 r.'!C1026","v":0},{"$f":"'Wniosek 2026 r.'!D1026","v":0},{"$f":"'Wniosek 2026 r.'!G1026","v":0}]
[{"$f":"'Wniosek 2026 r.'!A90","v":52},{"$f":"'Wniosek 2026 r.'!B90","v":0},{"$f":"'Wniosek 2026 r.'!C90","v":0},{"$f":"'Wniosek 2026 r.'!D90","v":0},{"$f":"'Wniosek 2026 r.'!E90","v":0},{"$f":"'Wniosek 2026 r.'!F90","v":0},{"$f":"'Wniosek 2026 r.'!G90","v":0},{"$f":"'Wniosek 2026 r.'!H90","v":"00:00:00"},{"$f":"'Wniosek 2026 r.'!C253","v":0},{"$f":"'Wniosek 2026 r.'!C409","v":0},{"$f":"'Wniosek 2026 r.'!D409","v":0},{"$f":"'Wniosek 2026 r.'!F409","v":0},{"$f":"'Wniosek 2026 r.'!H409","v":0},{"$f":"'Wniosek 2026 r.'!C563","v":0},{"$f":"'Wniosek 2026 r.'!C718","v":0},{"$f":"'Wniosek 2026 r.'!C873","v":0},{"$f":"'Wniosek 2026 r.'!E873","v":0},{"$f":"'Wniosek 2026 r.'!C1027","v":0},{"$f":"'Wniosek 2026 r.'!D1027","v":0},{"$f":"'Wniosek 2026 r.'!G1027","v":0}]
[{"$f":"'Wniosek 2026 r.'!A91","v":53},{"$f":"'Wniosek 2026 r.'!B91","v":0},{"$f":"'Wniosek 2026 r.'!C91","v":0},{"$f":"'Wniosek 2026 r.'!D91","v":0},{"$f":"'Wniosek 2026 r.'!E91","v":0},{"$f":"'Wniosek 2026 r.'!F91","v":0},{"$f":"'Wniosek 2026 r.'!G91","v":0},{"$f":"'Wniosek 2026 r.'!H91","v":"00:00:00"},{"$f":"'Wniosek 2026 r.'!C254","v":0},{"$f":"'Wniosek 2026 r.'!C410","v":0},{"$f":"'Wniosek 2026 r.'!D410","v":0},{"$f":"'Wniosek 2026 r.'!F410","v":0},{"$f":"'Wniosek 2026 r.'!H410","v":0},{"$f":"'Wniosek 2026 r.'!C564","v":0},{"$f":"'Wniosek 2026 r.'!C719","v":0},{"$f":"'Wniosek 2026 r.'!C874","v":0},{"$f":"'Wniosek 2026 r.'!E874","v":0},{"$f":"'Wniosek 2026 r.'!C1028","v":0},{"$f":"'Wniosek 2026 r.'!D1028","v":0},{"$f":"'Wniosek 2026 r.'!G1028","v":0}]
[{"$f":"'Wniosek 2026 r.'!A92","v":54},{"$f":"'Wniosek 2026 r.'!B92","v":0},{"$f":"'Wniosek 2026 r.'!C92","v":0},{"$f":"'Wniosek 2026 r.'!D92","v":0},{"$f":"'Wniosek 2026 r.'!E92","v":0},{"$f":"'Wniosek 2026 r.'!F92","v":0},{"$f":"'Wniosek 2026 r.'!G92","v":0},{"$f":"'Wniosek 2026 r.'!H92","v":"00:00:00"},{"$f":"'Wniosek 2026 r.'!C255","v":0},{"$f":"'Wniosek 2026 r.'!C411","v":0},{"$f":"'Wniosek 2026 r.'!D411","v":0},{"$f":"'Wniosek 2026 r.'!F411","v":0},{"$f":"'Wniosek 2026 r.'!H411","v":0},{"$f":"'Wniosek 2026 r.'!C565","v":0},{"$f":"'Wniosek 2026 r.'!C720","v":0},{"$f":"'Wniosek 2026 r.'!C875","v":0},{"$f":"'Wniosek 2026 r.'!E875","v":0},{"$f":"'Wniosek 2026 r.'!C1029","v":0},{"$f":"'Wniosek 2026 r.'!D1029","v":0},{"$f":"'Wniosek 2026 r.'!G1029","v":0}]
[{"$f":"'Wniosek 2026 r.'!A93","v":55},{"$f":"'Wniosek 2026 r.'!B93","v":0},{"$f":"'Wniosek 2026 r.'!C93","v":0},{"$f":"'Wniosek 2026 r.'!D93","v":0},{"$f":"'Wniosek 2026 r.'!E93","v":0},{"$f":"'Wniosek 2026 r.'!F93","v":0},{"$f":"'Wniosek 2026 r.'!G93","v":0},{"$f":"'Wniosek 2026 r.'!H93","v":"00:00:00"},{"$f":"'Wniosek 2026 r.'!C256","v":0},{"$f":"'Wniosek 2026 r.'!C412","v":0},{"$f":"'Wniosek 2026 r.'!D412","v":0},{"$f":"'Wniosek 2026 r.'!F412","v":0},{"$f":"'Wniosek 2026 r.'!H412","v":0},{"$f":"'Wniosek 2026 r.'!C566","v":0},{"$f":"'Wniosek 2026 r.'!C721","v":0},{"$f":"'Wniosek 2026 r.'!C876","v":0},{"$f":"'Wniosek 2026 r.'!E876","v":0},{"$f":"'Wniosek 2026 r.'!C1030","v":0},{"$f":"'Wniosek 2026 r.'!D1030","v":0},{"$f":"'Wniosek 2026 r.'!G1030","v":0}]
[{"$f":"'Wniosek 2026 r.'!A94","v":56},{"$f":"'Wniosek 2026 r.'!B94","v":0},{"$f":"'Wniosek 2026 r.'!C94","v":0},{"$f":"'Wniosek 2026 r.'!D94","v":0},{"$f":"'Wniosek 2026 r.'!E94","v":0},{"$f":"'Wniosek 2026 r.'!F94","v":0},{"$f":"'Wniosek 2026 r.'!G94","v":0},{"$f":"'Wniosek 2026 r.'!H94","v":"00:00:00"},{"$f":"'Wniosek 2026 r.'!C257","v":0},{"$f":"'Wniosek 2026 r.'!C413","v":0},{"$f":"'Wniosek 2026 r.'!D413","v":0},{"$f":"'Wniosek 2026 r.'!F413","v":0},{"$f":"'Wniosek 2026 r.'!H413","v":0},{"$f":"'Wniosek 2026 r.'!C567","v":0},{"$f":"'Wniosek 2026 r.'!C722","v":0},{"$f":"'Wniosek 2026 r.'!C877","v":0},{"$f":"'Wniosek 2026 r.'!E877","v":0},{"$f":"'Wniosek 2026 r.'!C1031","v":0},{"$f":"'Wniosek 2026 r.'!D1031","v":0},{"$f":"'Wniosek 2026 r.'!G1031","v":0}]
[{"$f":"'Wniosek 2026 r.'!A95","v":57},{"$f":"'Wniosek 2026 r.'!B95","v":0},{"$f":"'Wniosek 2026 r.'!C95","v":0},{"$f":"'Wniosek 2026 r.'!D95","v":0},{"$f":"'Wniosek 2026 r.'!E95","v":0},{"$f":"'Wniosek 2026 r.'!F95","v":0},{"$f":"'Wniosek 2026 r.'!G95","v":0},{"$f":"'Wniosek 2026 r.'!H95","v":"00:00:00"},{"$f":"'Wniosek 2026 r.'!C258","v":0},{"$f":"'Wniosek 2026 r.'!C414","v":0},{"$f":"'Wniosek 2026 r.'!D414","v":0},{"$f":"'Wniosek 2026 r.'!F414","v":0},{"$f":"'Wniosek 2026 r.'!H414","v":0},{"$f":"'Wniosek 2026 r.'!C568","v":0},{"$f":"'Wniosek 2026 r.'!C723","v":0},{"$f":"'Wniosek 2026 r.'!C878","v":0},{"$f":"'Wniosek 2026 r.'!E878","v":0},{"$f":"'Wniosek 2026 r.'!C1032","v":0},{"$f":"'Wniosek 2026 r.'!D1032","v":0},{"$f":"'Wniosek 2026 r.'!G1032","v":0}]
[{"$f":"'Wniosek 2026 r.'!A96","v":58},{"$f":"'Wniosek 2026 r.'!B96","v":0},{"$f":"'Wniosek 2026 r.'!C96","v":0},{"$f":"'Wniosek 2026 r.'!D96","v":0},{"$f":"'Wniosek 2026 r.'!E96","v":0},{"$f":"'Wniosek 2026 r.'!F96","v":0},{"$f":"'Wniosek 2026 r.'!G96","v":0},{"$f":"'Wniosek 2026 r.'!H96","v":"00:00:00"},{"$f":"'Wniosek 2026 r.'!C259","v":0},{"$f":"'Wniosek 2026 r.'!C415","v":0},{"$f":"'Wniosek 2026 r.'!D415","v":0},{"$f":"'Wniosek 2026 r.'!F415","v":0},{"$f":"'Wniosek 2026 r.'!H415","v":0},{"$f":"'Wniosek 2026 r.'!C569","v":0},{"$f":"'Wniosek 2026 r.'!C724","v":0},{"$f":"'Wniosek 2026 r.'!C879","v":0},{"$f":"'Wniosek 2026 r.'!E879","v":0},{"$f":"'Wniosek 2026 r.'!C1033","v":0},{"$f":"'Wniosek 2026 r.'!D1033","v":0},{"$f":"'Wniosek 2026 r.'!G1033","v":0}]
[{"$f":"'Wniosek 2026 r.'!A97","v":59},{"$f":"'Wniosek 2026 r.'!B97","v":0},{"$f":"'Wniosek 2026 r.'!C97","v":0},{"$f":"'Wniosek 2026 r.'!D97","v":0},{"$f":"'Wniosek 2026 r.'!E97","v":0},{"$f":"'Wniosek 2026 r.'!F97","v":0},{"$f":"'Wniosek 2026 r.'!G97","v":0},{"$f":"'Wniosek 2026 r.'!H97","v":"00:00:00"},{"$f":"'Wniosek 2026 r.'!C260","v":0},{"$f":"'Wniosek 2026 r.'!C416","v":0},{"$f":"'Wniosek 2026 r.'!D416","v":0},{"$f":"'Wniosek 2026 r.'!F416","v":0},{"$f":"'Wniosek 2026 r.'!H416","v":0},{"$f":"'Wniosek 2026 r.'!C570","v":0},{"$f":"'Wniosek 2026 r.'!C725","v":0},{"$f":"'Wniosek 2026 r.'!C880","v":0},{"$f":"'Wniosek 2026 r.'!E880","v":0},{"$f":"'Wniosek 2026 r.'!C1034","v":0},{"$f":"'Wniosek 2026 r.'!D1034","v":0},{"$f":"'Wniosek 2026 r.'!G1034","v":0}]
[{"$f":"'Wniosek 2026 r.'!A98","v":60},{"$f":"'Wniosek 2026 r.'!B98","v":0},{"$f":"'Wniosek 2026 r.'!C98","v":0},{"$f":"'Wniosek 2026 r.'!D98","v":0},{"$f":"'Wniosek 2026 r.'!E98","v":0},{"$f":"'Wniosek 2026 r.'!F98","v":0},{"$f":"'Wniosek 2026 r.'!G98","v":0},{"$f":"'Wniosek 2026 r.'!H98","v":"00:00:00"},{"$f":"'Wniosek 2026 r.'!C261","v":0},{"$f":"'Wniosek 2026 r.'!C417","v":0},{"$f":"'Wniosek 2026 r.'!D417","v":0},{"$f":"'Wniosek 2026 r.'!F417","v":0},{"$f":"'Wniosek 2026 r.'!H417","v":0},{"$f":"'Wniosek 2026 r.'!C571","v":0},{"$f":"'Wniosek 2026 r.'!C726","v":0},{"$f":"'Wniosek 2026 r.'!C881","v":0},{"$f":"'Wniosek 2026 r.'!E881","v":0},{"$f":"'Wniosek 2026 r.'!C1035","v":0},{"$f":"'Wniosek 2026 r.'!D1035","v":0},{"$f":"'Wniosek 2026 r.'!G1035","v":0}]
[{"$f":"'Wniosek 2026 r.'!A99","v":61},{"$f":"'Wniosek 2026 r.'!B99","v":0},{"$f":"'Wniosek 2026 r.'!C99","v":0},{"$f":"'Wniosek 2026 r.'!D99","v":0},{"$f":"'Wniosek 2026 r.'!E99","v":0},{"$f":"'Wniosek 2026 r.'!F99","v":0},{"$f":"'Wniosek 2026 r.'!G99","v":0},{"$f":"'Wniosek 2026 r.'!H99","v":"00:00:00"},{"$f":"'Wniosek 2026 r.'!C262","v":0},{"$f":"'Wniosek 2026 r.'!C418","v":0},{"$f":"'Wniosek 2026 r.'!D418","v":0},{"$f":"'Wniosek 2026 r.'!F418","v":0},{"$f":"'Wniosek 2026 r.'!H418","v":0},{"$f":"'Wniosek 2026 r.'!C572","v":0},{"$f":"'Wniosek 2026 r.'!C727","v":0},{"$f":"'Wniosek 2026 r.'!C882","v":0},{"$f":"'Wniosek 2026 r.'!E882","v":0},{"$f":"'Wniosek 2026 r.'!C1036","v":0},{"$f":"'Wniosek 2026 r.'!D1036","v":0},{"$f":"'Wniosek 2026 r.'!G1036","v":0}]
[{"$f":"'Wniosek 2026 r.'!A100","v":62},{"$f":"'Wniosek 2026 r.'!B100","v":0},{"$f":"'Wniosek 2026 r.'!C100","v":0},{"$f":"'Wniosek 2026 r.'!D100","v":0},{"$f":"'Wniosek 2026 r.'!E100","v":0},{"$f":"'Wniosek 2026 r.'!F100","v":0},{"$f":"'Wniosek 2026 r.'!G100","v":0},{"$f":"'Wniosek 2026 r.'!H100","v":"00:00:00"},{"$f":"'Wniosek 2026 r.'!C263","v":0},{"$f":"'Wniosek 2026 r.'!C419","v":0},{"$f":"'Wniosek 2026 r.'!D419","v":0},{"$f":"'Wniosek 2026 r.'!F419","v":0},{"$f":"'Wniosek 2026 r.'!H419","v":0},{"$f":"'Wniosek 2026 r.'!C573","v":0},{"$f":"'Wniosek 2026 r.'!C728","v":0},{"$f":"'Wniosek 2026 r.'!C883","v":0},{"$f":"'Wniosek 2026 r.'!E883","v":0},{"$f":"'Wniosek 2026 r.'!C1037","v":0},{"$f":"'Wniosek 2026 r.'!D1037","v":0},{"$f":"'Wniosek 2026 r.'!G1037","v":0}]
[{"$f":"'Wniosek 2026 r.'!A101","v":63},{"$f":"'Wniosek 2026 r.'!B101","v":0},{"$f":"'Wniosek 2026 r.'!C101","v":0},{"$f":"'Wniosek 2026 r.'!D101","v":0},{"$f":"'Wniosek 2026 r.'!E101","v":0},{"$f":"'Wniosek 2026 r.'!F101","v":0},{"$f":"'Wniosek 2026 r.'!G101","v":0},{"$f":"'Wniosek 2026 r.'!H101","v":"00:00:00"},{"$f":"'Wniosek 2026 r.'!C264","v":0},{"$f":"'Wniosek 2026 r.'!C420","v":0},{"$f":"'Wniosek 2026 r.'!D420","v":0},{"$f":"'Wniosek 2026 r.'!F420","v":0},{"$f":"'Wniosek 2026 r.'!H420","v":0},{"$f":"'Wniosek 2026 r.'!C574","v":0},{"$f":"'Wniosek 2026 r.'!C729","v":0},{"$f":"'Wniosek 2026 r.'!C884","v":0},{"$f":"'Wniosek 2026 r.'!E884","v":0},{"$f":"'Wniosek 2026 r.'!C1038","v":0},{"$f":"'Wniosek 2026 r.'!D1038","v":0},{"$f":"'Wniosek 2026 r.'!G1038","v":0}]
[{"$f":"'Wniosek 2026 r.'!A102","v":64},{"$f":"'Wniosek 2026 r.'!B102","v":0},{"$f":"'Wniosek 2026 r.'!C102","v":0},{"$f":"'Wniosek 2026 r.'!D102","v":0},{"$f":"'Wniosek 2026 r.'!E102","v":0},{"$f":"'Wniosek 2026 r.'!F102","v":0},{"$f":"'Wniosek 2026 r.'!G102","v":0},{"$f":"'Wniosek 2026 r.'!H102","v":"00:00:00"},{"$f":"'Wniosek 2026 r.'!C265","v":0},{"$f":"'Wniosek 2026 r.'!C421","v":0},{"$f":"'Wniosek 2026 r.'!D421","v":0},{"$f":"'Wniosek 2026 r.'!F421","v":0},{"$f":"'Wniosek 2026 r.'!H421","v":0},{"$f":"'Wniosek 2026 r.'!C575","v":0},{"$f":"'Wniosek 2026 r.'!C730","v":0},{"$f":"'Wniosek 2026 r.'!C885","v":0},{"$f":"'Wniosek 2026 r.'!E885","v":0},{"$f":"'Wniosek 2026 r.'!C1039","v":0},{"$f":"'Wniosek 2026 r.'!D1039","v":0},{"$f":"'Wniosek 2026 r.'!G1039","v":0}]
[{"$f":"'Wniosek 2026 r.'!A103","v":65},{"$f":"'Wniosek 2026 r.'!B103","v":0},{"$f":"'Wniosek 2026 r.'!C103","v":0},{"$f":"'Wniosek 2026 r.'!D103","v":0},{"$f":"'Wniosek 2026 r.'!E103","v":0},{"$f":"'Wniosek 2026 r.'!F103","v":0},{"$f":"'Wniosek 2026 r.'!G103","v":0},{"$f":"'Wniosek 2026 r.'!H103","v":"00:00:00"},{"$f":"'Wniosek 2026 r.'!C266","v":0},{"$f":"'Wniosek 2026 r.'!C422","v":0},{"$f":"'Wniosek 2026 r.'!D422","v":0},{"$f":"'Wniosek 2026 r.'!F422","v":0},{"$f":"'Wniosek 2026 r.'!H422","v":0},{"$f":"'Wniosek 2026 r.'!C576","v":0},{"$f":"'Wniosek 2026 r.'!C731","v":0},{"$f":"'Wniosek 2026 r.'!C886","v":0},{"$f":"'Wniosek 2026 r.'!E886","v":0},{"$f":"'Wniosek 2026 r.'!C1040","v":0},{"$f":"'Wniosek 2026 r.'!D1040","v":0},{"$f":"'Wniosek 2026 r.'!G1040","v":0}]
[{"$f":"'Wniosek 2026 r.'!A104","v":66},{"$f":"'Wniosek 2026 r.'!B104","v":0},{"$f":"'Wniosek 2026 r.'!C104","v":0},{"$f":"'Wniosek 2026 r.'!D104","v":0},{"$f":"'Wniosek 2026 r.'!E104","v":0},{"$f":"'Wniosek 2026 r.'!F104","v":0},{"$f":"'Wniosek 2026 r.'!G104","v":0},{"$f":"'Wniosek 2026 r.'!H104","v":"00:00:00"},{"$f":"'Wniosek 2026 r.'!C267","v":0},{"$f":"'Wniosek 2026 r.'!C423","v":0},{"$f":"'Wniosek 2026 r.'!D423","v":0},{"$f":"'Wniosek 2026 r.'!F423","v":0},{"$f":"'Wniosek 2026 r.'!H423","v":0},{"$f":"'Wniosek 2026 r.'!C577","v":0},{"$f":"'Wniosek 2026 r.'!C732","v":0},{"$f":"'Wniosek 2026 r.'!C887","v":0},{"$f":"'Wniosek 2026 r.'!E887","v":0},{"$f":"'Wniosek 2026 r.'!C1041","v":0},{"$f":"'Wniosek 2026 r.'!D1041","v":0},{"$f":"'Wniosek 2026 r.'!G1041","v":0}]
[{"$f":"'Wniosek 2026 r.'!A105","v":67},{"$f":"'Wniosek 2026 r.'!B105","v":0},{"$f":"'Wniosek 2026 r.'!C105","v":0},{"$f":"'Wniosek 2026 r.'!D105","v":0},{"$f":"'Wniosek 2026 r.'!E105","v":0},{"$f":"'Wniosek 2026 r.'!F105","v":0},{"$f":"'Wniosek 2026 r.'!G105","v":0},{"$f":"'Wniosek 2026 r.'!H105","v":"00:00:00"},{"$f":"'Wniosek 2026 r.'!C268","v":0},{"$f":"'Wniosek 2026 r.'!C424","v":0},{"$f":"'Wniosek 2026 r.'!D424","v":0},{"$f":"'Wniosek 2026 r.'!F424","v":0},{"$f":"'Wniosek 2026 r.'!H424","v":0},{"$f":"'Wniosek 2026 r.'!C578","v":0},{"$f":"'Wniosek 2026 r.'!C733","v":0},{"$f":"'Wniosek 2026 r.'!C888","v":0},{"$f":"'Wniosek 2026 r.'!E888","v":0},{"$f":"'Wniosek 2026 r.'!C1042","v":0},{"$f":"'Wniosek 2026 r.'!D1042","v":0},{"$f":"'Wniosek 2026 r.'!G1042","v":0}]
[{"$f":"'Wniosek 2026 r.'!A106","v":68},{"$f":"'Wniosek 2026 r.'!B106","v":0},{"$f":"'Wniosek 2026 r.'!C106","v":0},{"$f":"'Wniosek 2026 r.'!D106","v":0},{"$f":"'Wniosek 2026 r.'!E106","v":0},{"$f":"'Wniosek 2026 r.'!F106","v":0},{"$f":"'Wniosek 2026 r.'!G106","v":0},{"$f":"'Wniosek 2026 r.'!H106","v":"00:00:00"},{"$f":"'Wniosek 2026 r.'!C269","v":0},{"$f":"'Wniosek 2026 r.'!C425","v":0},{"$f":"'Wniosek 2026 r.'!D425","v":0},{"$f":"'Wniosek 2026 r.'!F425","v":0},{"$f":"'Wniosek 2026 r.'!H425","v":0},{"$f":"'Wniosek 2026 r.'!C579","v":0},{"$f":"'Wniosek 2026 r.'!C734","v":0},{"$f":"'Wniosek 2026 r.'!C889","v":0},{"$f":"'Wniosek 2026 r.'!E889","v":0},{"$f":"'Wniosek 2026 r.'!C1043","v":0},{"$f":"'Wniosek 2026 r.'!D1043","v":0},{"$f":"'Wniosek 2026 r.'!G1043","v":0}]
[{"$f":"'Wniosek 2026 r.'!A107","v":69},{"$f":"'Wniosek 2026 r.'!B107","v":0},{"$f":"'Wniosek 2026 r.'!C107","v":0},{"$f":"'Wniosek 2026 r.'!D107","v":0},{"$f":"'Wniosek 2026 r.'!E107","v":0},{"$f":"'Wniosek 2026 r.'!F107","v":0},{"$f":"'Wniosek 2026 r.'!G107","v":0},{"$f":"'Wniosek 2026 r.'!H107","v":"00:00:00"},{"$f":"'Wniosek 2026 r.'!C270","v":0},{"$f":"'Wniosek 2026 r.'!C426","v":0},{"$f":"'Wniosek 2026 r.'!D426","v":0},{"$f":"'Wniosek 2026 r.'!F426","v":0},{"$f":"'Wniosek 2026 r.'!H426","v":0},{"$f":"'Wniosek 2026 r.'!C580","v":0},{"$f":"'Wniosek 2026 r.'!C735","v":0},{"$f":"'Wniosek 2026 r.'!C890","v":0},{"$f":"'Wniosek 2026 r.'!E890","v":0},{"$f":"'Wniosek 2026 r.'!C1044","v":0},{"$f":"'Wniosek 2026 r.'!D1044","v":0},{"$f":"'Wniosek 2026 r.'!G1044","v":0}]
[{"$f":"'Wniosek 2026 r.'!A108","v":70},{"$f":"'Wniosek 2026 r.'!B108","v":0},{"$f":"'Wniosek 2026 r.'!C108","v":0},{"$f":"'Wniosek 2026 r.'!D108","v":0},{"$f":"'Wniosek 2026 r.'!E108","v":0},{"$f":"'Wniosek 2026 r.'!F108","v":0},{"$f":"'Wniosek 2026 r.'!G108","v":0},{"$f":"'Wniosek 2026 r.'!H108","v":"00:00:00"},{"$f":"'Wniosek 2026 r.'!C271","v":0},{"$f":"'Wniosek 2026 r.'!C427","v":0},{"$f":"'Wniosek 2026 r.'!D427","v":0},{"$f":"'Wniosek 2026 r.'!F427","v":0},{"$f":"'Wniosek 2026 r.'!H427","v":0},{"$f":"'Wniosek 2026 r.'!C581","v":0},{"$f":"'Wniosek 2026 r.'!C736","v":0},{"$f":"'Wniosek 2026 r.'!C891","v":0},{"$f":"'Wniosek 2026 r.'!E891","v":0},{"$f":"'Wniosek 2026 r.'!C1045","v":0},{"$f":"'Wniosek 2026 r.'!D1045","v":0},{"$f":"'Wniosek 2026 r.'!G1045","v":0}]
[{"$f":"'Wniosek 2026 r.'!A109","v":71},{"$f":"'Wniosek 2026 r.'!B109","v":0},{"$f":"'Wniosek 2026 r.'!C109","v":0},{"$f":"'Wniosek 2026 r.'!D109","v":0},{"$f":"'Wniosek 2026 r.'!E109","v":0},{"$f":"'Wniosek 2026 r.'!F109","v":0},{"$f":"'Wniosek 2026 r.'!G109","v":0},{"$f":"'Wniosek 2026 r.'!H109","v":"00:00:00"},{"$f":"'Wniosek 2026 r.'!C272","v":0},{"$f":"'Wniosek 2026 r.'!C428","v":0},{"$f":"'Wniosek 2026 r.'!D428","v":0},{"$f":"'Wniosek 2026 r.'!F428","v":0},{"$f":"'Wniosek 2026 r.'!H428","v":0},{"$f":"'Wniosek 2026 r.'!C582","v":0},{"$f":"'Wniosek 2026 r.'!C737","v":0},{"$f":"'Wniosek 2026 r.'!C892","v":0},{"$f":"'Wniosek 2026 r.'!E892","v":0},{"$f":"'Wniosek 2026 r.'!C1046","v":0},{"$f":"'Wniosek 2026 r.'!D1046","v":0},{"$f":"'Wniosek 2026 r.'!G1046","v":0}]
[{"$f":"'Wniosek 2026 r.'!A110","v":72},{"$f":"'Wniosek 2026 r.'!B110","v":0},{"$f":"'Wniosek 2026 r.'!C110","v":0},{"$f":"'Wniosek 2026 r.'!D110","v":0},{"$f":"'Wniosek 2026 r.'!E110","v":0},{"$f":"'Wniosek 2026 r.'!F110","v":0},{"$f":"'Wniosek 2026 r.'!G110","v":0},{"$f":"'Wniosek 2026 r.'!H110","v":"00:00:00"},{"$f":"'Wniosek 2026 r.'!C273","v":0},{"$f":"'Wniosek 2026 r.'!C429","v":0},{"$f":"'Wniosek 2026 r.'!D429","v":0},{"$f":"'Wniosek 2026 r.'!F429","v":0},{"$f":"'Wniosek 2026 r.'!H429","v":0},{"$f":"'Wniosek 2026 r.'!C583","v":0},{"$f":"'Wniosek 2026 r.'!C738","v":0},{"$f":"'Wniosek 2026 r.'!C893","v":0},{"$f":"'Wniosek 2026 r.'!E893","v":0},{"$f":"'Wniosek 2026 r.'!C1047","v":0},{"$f":"'Wniosek 2026 r.'!D1047","v":0},{"$f":"'Wniosek 2026 r.'!G1047","v":0}]
[{"$f":"'Wniosek 2026 r.'!A111","v":73},{"$f":"'Wniosek 2026 r.'!B111","v":0},{"$f":"'Wniosek 2026 r.'!C111","v":0},{"$f":"'Wniosek 2026 r.'!D111","v":0},{"$f":"'Wniosek 2026 r.'!E111","v":0},{"$f":"'Wniosek 2026 r.'!F111","v":0},{"$f":"'Wniosek 2026 r.'!G111","v":0},{"$f":"'Wniosek 2026 r.'!H111","v":"00:00:00"},{"$f":"'Wniosek 2026 r.'!C274","v":0},{"$f":"'Wniosek 2026 r.'!C430","v":0},{"$f":"'Wniosek 2026 r.'!D430","v":0},{"$f":"'Wniosek 2026 r.'!F430","v":0},{"$f":"'Wniosek 2026 r.'!H430","v":0},{"$f":"'Wniosek 2026 r.'!C584","v":0},{"$f":"'Wniosek 2026 r.'!C739","v":0},{"$f":"'Wniosek 2026 r.'!C894","v":0},{"$f":"'Wniosek 2026 r.'!E894","v":0},{"$f":"'Wniosek 2026 r.'!C1048","v":0},{"$f":"'Wniosek 2026 r.'!D1048","v":0},{"$f":"'Wniosek 2026 r.'!G1048","v":0}]
[{"$f":"'Wniosek 2026 r.'!A112","v":74},{"$f":"'Wniosek 2026 r.'!B112","v":0},{"$f":"'Wniosek 2026 r.'!C112","v":0},{"$f":"'Wniosek 2026 r.'!D112","v":0},{"$f":"'Wniosek 2026 r.'!E112","v":0},{"$f":"'Wniosek 2026 r.'!F112","v":0},{"$f":"'Wniosek 2026 r.'!G112","v":0},{"$f":"'Wniosek 2026 r.'!H112","v":"00:00:00"},{"$f":"'Wniosek 2026 r.'!C275","v":0},{"$f":"'Wniosek 2026 r.'!C431","v":0},{"$f":"'Wniosek 2026 r.'!D431","v":0},{"$f":"'Wniosek 2026 r.'!F431","v":0},{"$f":"'Wniosek 2026 r.'!H431","v":0},{"$f":"'Wniosek 2026 r.'!C585","v":0},{"$f":"'Wniosek 2026 r.'!C740","v":0},{"$f":"'Wniosek 2026 r.'!C895","v":0},{"$f":"'Wniosek 2026 r.'!E895","v":0},{"$f":"'Wniosek 2026 r.'!C1049","v":0},{"$f":"'Wniosek 2026 r.'!D1049","v":0},{"$f":"'Wniosek 2026 r.'!G1049","v":0}]
[{"$f":"'Wniosek 2026 r.'!A113","v":75},{"$f":"'Wniosek 2026 r.'!B113","v":0},{"$f":"'Wniosek 2026 r.'!C113","v":0},{"$f":"'Wniosek 2026 r.'!D113","v":0},{"$f":"'Wniosek 2026 r.'!E113","v":0},{"$f":"'Wniosek 2026 r.'!F113","v":0},{"$f":"'Wniosek 2026 r.'!G113","v":0},{"$f":"'Wniosek 2026 r.'!H113","v":"00:00:00"},{"$f":"'Wniosek 2026 r.'!C276","v":0},{"$f":"'Wniosek 2026 r.'!C432","v":0},{"$f":"'Wniosek 2026 r.'!D432","v":0},{"$f":"'Wniosek 2026 r.'!F432","v":0},{"$f":"'Wniosek 2026 r.'!H432","v":0},{"$f":"'Wniosek 2026 r.'!C586","v":0},{"$f":"'Wniosek 2026 r.'!C741","v":0},{"$f":"'Wniosek 2026 r.'!C896","v":0},{"$f":"'Wniosek 2026 r.'!E896","v":0},{"$f":"'Wniosek 2026 r.'!C1050","v":0},{"$f":"'Wniosek 2026 r.'!D1050","v":0},{"$f":"'Wniosek 2026 r.'!G1050","v":0}]
[{"$f":"'Wniosek 2026 r.'!A114","v":76},{"$f":"'Wniosek 2026 r.'!B114","v":0},{"$f":"'Wniosek 2026 r.'!C114","v":0},{"$f":"'Wniosek 2026 r.'!D114","v":0},{"$f":"'Wniosek 2026 r.'!E114","v":0},{"$f":"'Wniosek 2026 r.'!F114","v":0},{"$f":"'Wniosek 2026 r.'!G114","v":0},{"$f":"'Wniosek 2026 r.'!H114","v":"00:00:00"},{"$f":"'Wniosek 2026 r.'!C277","v":0},{"$f":"'Wniosek 2026 r.'!C433","v":0},{"$f":"'Wniosek 2026 r.'!D433","v":0},{"$f":"'Wniosek 2026 r.'!F433","v":0},{"$f":"'Wniosek 2026 r.'!H433","v":0},{"$f":"'Wniosek 2026 r.'!C587","v":0},{"$f":"'Wniosek 2026 r.'!C742","v":0},{"$f":"'Wniosek 2026 r.'!C897","v":0},{"$f":"'Wniosek 2026 r.'!E897","v":0},{"$f":"'Wniosek 2026 r.'!C1051","v":0},{"$f":"'Wniosek 2026 r.'!D1051","v":0},{"$f":"'Wniosek 2026 r.'!G1051","v":0}]
[{"$f":"'Wniosek 2026 r.'!A115","v":77},{"$f":"'Wniosek 2026 r.'!B115","v":0},{"$f":"'Wniosek 2026 r.'!C115","v":0},{"$f":"'Wniosek 2026 r.'!D115","v":0},{"$f":"'Wniosek 2026 r.'!E115","v":0},{"$f":"'Wniosek 2026 r.'!F115","v":0},{"$f":"'Wniosek 2026 r.'!G115","v":0},{"$f":"'Wniosek 2026 r.'!H115","v":"00:00:00"},{"$f":"'Wniosek 2026 r.'!C278","v":0},{"$f":"'Wniosek 2026 r.'!C434","v":0},{"$f":"'Wniosek 2026 r.'!D434","v":0},{"$f":"'Wniosek 2026 r.'!F434","v":0},{"$f":"'Wniosek 2026 r.'!H434","v":0},{"$f":"'Wniosek 2026 r.'!C588","v":0},{"$f":"'Wniosek 2026 r.'!C743","v":0},{"$f":"'Wniosek 2026 r.'!C898","v":0},{"$f":"'Wniosek 2026 r.'!E898","v":0},{"$f":"'Wniosek 2026 r.'!C1052","v":0},{"$f":"'Wniosek 2026 r.'!D1052","v":0},{"$f":"'Wniosek 2026 r.'!G1052","v":0}]
[{"$f":"'Wniosek 2026 r.'!A116","v":78},{"$f":"'Wniosek 2026 r.'!B116","v":0},{"$f":"'Wniosek 2026 r.'!C116","v":0},{"$f":"'Wniosek 2026 r.'!D116","v":0},{"$f":"'Wniosek 2026 r.'!E116","v":0},{"$f":"'Wniosek 2026 r.'!F116","v":0},{"$f":"'Wniosek 2026 r.'!G116","v":0},{"$f":"'Wniosek 2026 r.'!H116","v":"00:00:00"},{"$f":"'Wniosek 2026 r.'!C279","v":0},{"$f":"'Wniosek 2026 r.'!C435","v":0},{"$f":"'Wniosek 2026 r.'!D435","v":0},{"$f":"'Wniosek 2026 r.'!F435","v":0},{"$f":"'Wniosek 2026 r.'!H435","v":0},{"$f":"'Wniosek 2026 r.'!C589","v":0},{"$f":"'Wniosek 2026 r.'!C744","v":0},{"$f":"'Wniosek 2026 r.'!C899","v":0},{"$f":"'Wniosek 2026 r.'!E899","v":0},{"$f":"'Wniosek 2026 r.'!C1053","v":0},{"$f":"'Wniosek 2026 r.'!D1053","v":0},{"$f":"'Wniosek 2026 r.'!G1053","v":0}]
[{"$f":"'Wniosek 2026 r.'!A117","v":79},{"$f":"'Wniosek 2026 r.'!B117","v":0},{"$f":"'Wniosek 2026 r.'!C117","v":0},{"$f":"'Wniosek 2026 r.'!D117","v":0},{"$f":"'Wniosek 2026 r.'!E117","v":0},{"$f":"'Wniosek 2026 r.'!F117","v":0},{"$f":"'Wniosek 2026 r.'!G117","v":0},{"$f":"'Wniosek 2026 r.'!H117","v":"00:00:00"},{"$f":"'Wniosek 2026 r.'!C280","v":0},{"$f":"'Wniosek 2026 r.'!C436","v":0},{"$f":"'Wniosek 2026 r.'!D436","v":0},{"$f":"'Wniosek 2026 r.'!F436","v":0},{"$f":"'Wniosek 2026 r.'!H436","v":0},{"$f":"'Wniosek 2026 r.'!C590","v":0},{"$f":"'Wniosek 2026 r.'!C745","v":0},{"$f":"'Wniosek 2026 r.'!C900","v":0},{"$f":"'Wniosek 2026 r.'!E900","v":0},{"$f":"'Wniosek 2026 r.'!C1054","v":0},{"$f":"'Wniosek 2026 r.'!D1054","v":0},{"$f":"'Wniosek 2026 r.'!G1054","v":0}]
[{"$f":"'Wniosek 2026 r.'!A118","v":80},{"$f":"'Wniosek 2026 r.'!B118","v":0},{"$f":"'Wniosek 2026 r.'!C118","v":0},{"$f":"'Wniosek 2026 r.'!D118","v":0},{"$f":"'Wniosek 2026 r.'!E118","v":0},{"$f":"'Wniosek 2026 r.'!F118","v":0},{"$f":"'Wniosek 2026 r.'!G118","v":0},{"$f":"'Wniosek 2026 r.'!H118","v":"00:00:00"},{"$f":"'Wniosek 2026 r.'!C281","v":0},{"$f":"'Wniosek 2026 r.'!C437","v":0},{"$f":"'Wniosek 2026 r.'!D437","v":0},{"$f":"'Wniosek 2026 r.'!F437","v":0},{"$f":"'Wniosek 2026 r.'!H437","v":0},{"$f":"'Wniosek 2026 r.'!C591","v":0},{"$f":"'Wniosek 2026 r.'!C746","v":0},{"$f":"'Wniosek 2026 r.'!C901","v":0},{"$f":"'Wniosek 2026 r.'!E901","v":0},{"$f":"'Wniosek 2026 r.'!C1055","v":0},{"$f":"'Wniosek 2026 r.'!D1055","v":0},{"$f":"'Wniosek 2026 r.'!G1055","v":0}]
[{"$f":"'Wniosek 2026 r.'!A119","v":81},{"$f":"'Wniosek 2026 r.'!B119","v":0},{"$f":"'Wniosek 2026 r.'!C119","v":0},{"$f":"'Wniosek 2026 r.'!D119","v":0},{"$f":"'Wniosek 2026 r.'!E119","v":0},{"$f":"'Wniosek 2026 r.'!F119","v":0},{"$f":"'Wniosek 2026 r.'!G119","v":0},{"$f":"'Wniosek 2026 r.'!H119","v":"00:00:00"},{"$f":"'Wniosek 2026 r.'!C282","v":0},{"$f":"'Wniosek 2026 r.'!C438","v":0},{"$f":"'Wniosek 2026 r.'!D438","v":0},{"$f":"'Wniosek 2026 r.'!F438","v":0},{"$f":"'Wniosek 2026 r.'!H438","v":0},{"$f":"'Wniosek 2026 r.'!C592","v":0},{"$f":"'Wniosek 2026 r.'!C747","v":0},{"$f":"'Wniosek 2026 r.'!C902","v":0},{"$f":"'Wniosek 2026 r.'!E902","v":0},{"$f":"'Wniosek 2026 r.'!C1056","v":0},{"$f":"'Wniosek 2026 r.'!D1056","v":0},{"$f":"'Wniosek 2026 r.'!G1056","v":0}]
[{"$f":"'Wniosek 2026 r.'!A120","v":82},{"$f":"'Wniosek 2026 r.'!B120","v":0},{"$f":"'Wniosek 2026 r.'!C120","v":0},{"$f":"'Wniosek 2026 r.'!D120","v":0},{"$f":"'Wniosek 2026 r.'!E120","v":0},{"$f":"'Wniosek 2026 r.'!F120","v":0},{"$f":"'Wniosek 2026 r.'!G120","v":0},{"$f":"'Wniosek 2026 r.'!H120","v":"00:00:00"},{"$f":"'Wniosek 2026 r.'!C283","v":0},{"$f":"'Wniosek 2026 r.'!C439","v":0},{"$f":"'Wniosek 2026 r.'!D439","v":0},{"$f":"'Wniosek 2026 r.'!F439","v":0},{"$f":"'Wniosek 2026 r.'!H439","v":0},{"$f":"'Wniosek 2026 r.'!C593","v":0},{"$f":"'Wniosek 2026 r.'!C748","v":0},{"$f":"'Wniosek 2026 r.'!C903","v":0},{"$f":"'Wniosek 2026 r.'!E903","v":0},{"$f":"'Wniosek 2026 r.'!C1057","v":0},{"$f":"'Wniosek 2026 r.'!D1057","v":0},{"$f":"'Wniosek 2026 r.'!G1057","v":0}]
[{"$f":"'Wniosek 2026 r.'!A121","v":83},{"$f":"'Wniosek 2026 r.'!B121","v":0},{"$f":"'Wniosek 2026 r.'!C121","v":0},{"$f":"'Wniosek 2026 r.'!D121","v":0},{"$f":"'Wniosek 2026 r.'!E121","v":0},{"$f":"'Wniosek 2026 r.'!F121","v":0},{"$f":"'Wniosek 2026 r.'!G121","v":0},{"$f":"'Wniosek 2026 r.'!H121","v":"00:00:00"},{"$f":"'Wniosek 2026 r.'!C284","v":0},{"$f":"'Wniosek 2026 r.'!C440","v":0},{"$f":"'Wniosek 2026 r.'!D440","v":0},{"$f":"'Wniosek 2026 r.'!F440","v":0},{"$f":"'Wniosek 2026 r.'!H440","v":0},{"$f":"'Wniosek 2026 r.'!C594","v":0},{"$f":"'Wniosek 2026 r.'!C749","v":0},{"$f":"'Wniosek 2026 r.'!C904","v":0},{"$f":"'Wniosek 2026 r.'!E904","v":0},{"$f":"'Wniosek 2026 r.'!C1058","v":0},{"$f":"'Wniosek 2026 r.'!D1058","v":0},{"$f":"'Wniosek 2026 r.'!G1058","v":0}]
[{"$f":"'Wniosek 2026 r.'!A122","v":84},{"$f":"'Wniosek 2026 r.'!B122","v":0},{"$f":"'Wniosek 2026 r.'!C122","v":0},{"$f":"'Wniosek 2026 r.'!D122","v":0},{"$f":"'Wniosek 2026 r.'!E122","v":0},{"$f":"'Wniosek 2026 r.'!F122","v":0},{"$f":"'Wniosek 2026 r.'!G122","v":0},{"$f":"'Wniosek 2026 r.'!H122","v":"00:00:00"},{"$f":"'Wniosek 2026 r.'!C285","v":0},{"$f":"'Wniosek 2026 r.'!C441","v":0},{"$f":"'Wniosek 2026 r.'!D441","v":0},{"$f":"'Wniosek 2026 r.'!F441","v":0},{"$f":"'Wniosek 2026 r.'!H441","v":0},{"$f":"'Wniosek 2026 r.'!C595","v":0},{"$f":"'Wniosek 2026 r.'!C750","v":0},{"$f":"'Wniosek 2026 r.'!C905","v":0},{"$f":"'Wniosek 2026 r.'!E905","v":0},{"$f":"'Wniosek 2026 r.'!C1059","v":0},{"$f":"'Wniosek 2026 r.'!D1059","v":0},{"$f":"'Wniosek 2026 r.'!G1059","v":0}]
[{"$f":"'Wniosek 2026 r.'!A123","v":85},{"$f":"'Wniosek 2026 r.'!B123","v":0},{"$f":"'Wniosek 2026 r.'!C123","v":0},{"$f":"'Wniosek 2026 r.'!D123","v":0},{"$f":"'Wniosek 2026 r.'!E123","v":0},{"$f":"'Wniosek 2026 r.'!F123","v":0},{"$f":"'Wniosek 2026 r.'!G123","v":0},{"$f":"'Wniosek 2026 r.'!H123","v":"00:00:00"},{"$f":"'Wniosek 2026 r.'!C286","v":0},{"$f":"'Wniosek 2026 r.'!C442","v":0},{"$f":"'Wniosek 2026 r.'!D442","v":0},{"$f":"'Wniosek 2026 r.'!F442","v":0},{"$f":"'Wniosek 2026 r.'!H442","v":0},{"$f":"'Wniosek 2026 r.'!C596","v":0},{"$f":"'Wniosek 2026 r.'!C751","v":0},{"$f":"'Wniosek 2026 r.'!C906","v":0},{"$f":"'Wniosek 2026 r.'!E906","v":0},{"$f":"'Wniosek 2026 r.'!C1060","v":0},{"$f":"'Wniosek 2026 r.'!D1060","v":0},{"$f":"'Wniosek 2026 r.'!G1060","v":0}]
[{"$f":"'Wniosek 2026 r.'!A124","v":86},{"$f":"'Wniosek 2026 r.'!B124","v":0},{"$f":"'Wniosek 2026 r.'!C124","v":0},{"$f":"'Wniosek 2026 r.'!D124","v":0},{"$f":"'Wniosek 2026 r.'!E124","v":0},{"$f":"'Wniosek 2026 r.'!F124","v":0},{"$f":"'Wniosek 2026 r.'!G124","v":0},{"$f":"'Wniosek 2026 r.'!H124","v":"00:00:00"},{"$f":"'Wniosek 2026 r.'!C287","v":0},{"$f":"'Wniosek 2026 r.'!C443","v":0},{"$f":"'Wniosek 2026 r.'!D443","v":0},{"$f":"'Wniosek 2026 r.'!F443","v":0},{"$f":"'Wniosek 2026 r.'!H443","v":0},{"$f":"'Wniosek 2026 r.'!C597","v":0},{"$f":"'Wniosek 2026 r.'!C752","v":0},{"$f":"'Wniosek 2026 r.'!C907","v":0},{"$f":"'Wniosek 2026 r.'!E907","v":0},{"$f":"'Wniosek 2026 r.'!C1061","v":0},{"$f":"'Wniosek 2026 r.'!D1061","v":0},{"$f":"'Wniosek 2026 r.'!G1061","v":0}]
[{"$f":"'Wniosek 2026 r.'!A125","v":87},{"$f":"'Wniosek 2026 r.'!B125","v":0},{"$f":"'Wniosek 2026 r.'!C125","v":0},{"$f":"'Wniosek 2026 r.'!D125","v":0},{"$f":"'Wniosek 2026 r.'!E125","v":0},{"$f":"'Wniosek 2026 r.'!F125","v":0},{"$f":"'Wniosek 2026 r.'!G125","v":0},{"$f":"'Wniosek 2026 r.'!H125","v":"00:00:00"},{"$f":"'Wniosek 2026 r.'!C288","v":0},{"$f":"'Wniosek 2026 r.'!C444","v":0},{"$f":"'Wniosek 2026 r.'!D444","v":0},{"$f":"'Wniosek 2026 r.'!F444","v":0},{"$f":"'Wniosek 2026 r.'!H444","v":0},{"$f":"'Wniosek 2026 r.'!C598","v":0},{"$f":"'Wniosek 2026 r.'!C753","v":0},{"$f":"'Wniosek 2026 r.'!C908","v":0},{"$f":"'Wniosek 2026 r.'!E908","v":0},{"$f":"'Wniosek 2026 r.'!C1062","v":0},{"$f":"'Wniosek 2026 r.'!D1062","v":0},{"$f":"'Wniosek 2026 r.'!G1062","v":0}]
[{"$f":"'Wniosek 2026 r.'!A126","v":88},{"$f":"'Wniosek 2026 r.'!B126","v":0},{"$f":"'Wniosek 2026 r.'!C126","v":0},{"$f":"'Wniosek 2026 r.'!D126","v":0},{"$f":"'Wniosek 2026 r.'!E126","v":0},{"$f":"'Wniosek 2026 r.'!F126","v":0},{"$f":"'Wniosek 2026 r.'!G126","v":0},{"$f":"'Wniosek 2026 r.'!H126","v":"00:00:00"},{"$f":"'Wniosek 2026 r.'!C289","v":0},{"$f":"'Wniosek 2026 r.'!C445","v":0},{"$f":"'Wniosek 2026 r.'!D445","v":0},{"$f":"'Wniosek 2026 r.'!F445","v":0},{"$f":"'Wniosek 2026 r.'!H445","v":0},{"$f":"'Wniosek 2026 r.'!C599","v":0},{"$f":"'Wniosek 2026 r.'!C754","v":0},{"$f":"'Wniosek 2026 r.'!C909","v":0},{"$f":"'Wniosek 2026 r.'!E909","v":0},{"$f":"'Wniosek 2026 r.'!C1063","v":0},{"$f":"'Wniosek 2026 r.'!D1063","v":0},{"$f":"'Wniosek 2026 r.'!G1063","v":0}]
[{"$f":"'Wniosek 2026 r.'!A127","v":89},{"$f":"'Wniosek 2026 r.'!B127","v":0},{"$f":"'Wniosek 2026 r.'!C127","v":0},{"$f":"'Wniosek 2026 r.'!D127","v":0},{"$f":"'Wniosek 2026 r.'!E127","v":0},{"$f":"'Wniosek 2026 r.'!F127","v":0},{"$f":"'Wniosek 2026 r.'!G127","v":0},{"$f":"'Wniosek 2026 r.'!H127","v":"00:00:00"},{"$f":"'Wniosek 2026 r.'!C290","v":0},{"$f":"'Wniosek 2026 r.'!C446","v":0},{"$f":"'Wniosek 2026 r.'!D446","v":0},{"$f":"'Wniosek 2026 r.'!F446","v":0},{"$f":"'Wniosek 2026 r.'!H446","v":0},{"$f":"'Wniosek 2026 r.'!C600","v":0},{"$f":"'Wniosek 2026 r.'!C755","v":0},{"$f":"'Wniosek 2026 r.'!C910","v":0},{"$f":"'Wniosek 2026 r.'!E910","v":0},{"$f":"'Wniosek 2026 r.'!C1064","v":0},{"$f":"'Wniosek 2026 r.'!D1064","v":0},{"$f":"'Wniosek 2026 r.'!G1064","v":0}]
[{"$f":"'Wniosek 2026 r.'!A128","v":90},{"$f":"'Wniosek 2026 r.'!B128","v":0},{"$f":"'Wniosek 2026 r.'!C128","v":0},{"$f":"'Wniosek 2026 r.'!D128","v":0},{"$f":"'Wniosek 2026 r.'!E128","v":0},{"$f":"'Wniosek 2026 r.'!F128","v":0},{"$f":"'Wniosek 2026 r.'!G128","v":0},{"$f":"'Wniosek 2026 r.'!H128","v":"00:00:00"},{"$f":"'Wniosek 2026 r.'!C291","v":0},{"$f":"'Wniosek 2026 r.'!C447","v":0},{"$f":"'Wniosek 2026 r.'!D447","v":0},{"$f":"'Wniosek 2026 r.'!F447","v":0},{"$f":"'Wniosek 2026 r.'!H447","v":0},{"$f":"'Wniosek 2026 r.'!C601","v":0},{"$f":"'Wniosek 2026 r.'!C756","v":0},{"$f":"'Wniosek 2026 r.'!C911","v":0},{"$f":"'Wniosek 2026 r.'!E911","v":0},{"$f":"'Wniosek 2026 r.'!C1065","v":0},{"$f":"'Wniosek 2026 r.'!D1065","v":0},{"$f":"'Wniosek 2026 r.'!G1065","v":0}]
[{"$f":"'Wniosek 2026 r.'!A129","v":91},{"$f":"'Wniosek 2026 r.'!B129","v":0},{"$f":"'Wniosek 2026 r.'!C129","v":0},{"$f":"'Wniosek 2026 r.'!D129","v":0},{"$f":"'Wniosek 2026 r.'!E129","v":0},{"$f":"'Wniosek 2026 r.'!F129","v":0},{"$f":"'Wniosek 2026 r.'!G129","v":0},{"$f":"'Wniosek 2026 r.'!H129","v":"00:00:00"},{"$f":"'Wniosek 2026 r.'!C292","v":0},{"$f":"'Wniosek 2026 r.'!C448","v":0},{"$f":"'Wniosek 2026 r.'!D448","v":0},{"$f":"'Wniosek 2026 r.'!F448","v":0},{"$f":"'Wniosek 2026 r.'!H448","v":0},{"$f":"'Wniosek 2026 r.'!C602","v":0},{"$f":"'Wniosek 2026 r.'!C757","v":0},{"$f":"'Wniosek 2026 r.'!C912","v":0},{"$f":"'Wniosek 2026 r.'!E912","v":0},{"$f":"'Wniosek 2026 r.'!C1066","v":0},{"$f":"'Wniosek 2026 r.'!D1066","v":0},{"$f":"'Wniosek 2026 r.'!G1066","v":0}]
[{"$f":"'Wniosek 2026 r.'!A130","v":92},{"$f":"'Wniosek 2026 r.'!B130","v":0},{"$f":"'Wniosek 2026 r.'!C130","v":0},{"$f":"'Wniosek 2026 r.'!D130","v":0},{"$f":"'Wniosek 2026 r.'!E130","v":0},{"$f":"'Wniosek 2026 r.'!F130","v":0},{"$f":"'Wniosek 2026 r.'!G130","v":0},{"$f":"'Wniosek 2026 r.'!H130","v":"00:00:00"},{"$f":"'Wniosek 2026 r.'!C293","v":0},{"$f":"'Wniosek 2026 r.'!C449","v":0},{"$f":"'Wniosek 2026 r.'!D449","v":0},{"$f":"'Wniosek 2026 r.'!F449","v":0},{"$f":"'Wniosek 2026 r.'!H449","v":0},{"$f":"'Wniosek 2026 r.'!C603","v":0},{"$f":"'Wniosek 2026 r.'!C758","v":0},{"$f":"'Wniosek 2026 r.'!C913","v":0},{"$f":"'Wniosek 2026 r.'!E913","v":0},{"$f":"'Wniosek 2026 r.'!C1067","v":0},{"$f":"'Wniosek 2026 r.'!D1067","v":0},{"$f":"'Wniosek 2026 r.'!G1067","v":0}]
[{"$f":"'Wniosek 2026 r.'!A131","v":93},{"$f":"'Wniosek 2026 r.'!B131","v":0},{"$f":"'Wniosek 2026 r.'!C131","v":0},{"$f":"'Wniosek 2026 r.'!D131","v":0},{"$f":"'Wniosek 2026 r.'!E131","v":0},{"$f":"'Wniosek 2026 r.'!F131","v":0},{"$f":"'Wniosek 2026 r.'!G131","v":0},{"$f":"'Wniosek 2026 r.'!H131","v":"00:00:00"},{"$f":"'Wniosek 2026 r.'!C294","v":0},{"$f":"'Wniosek 2026 r.'!C450","v":0},{"$f":"'Wniosek 2026 r.'!D450","v":0},{"$f":"'Wniosek 2026 r.'!F450","v":0},{"$f":"'Wniosek 2026 r.'!H450","v":0},{"$f":"'Wniosek 2026 r.'!C604","v":0},{"$f":"'Wniosek 2026 r.'!C759","v":0},{"$f":"'Wniosek 2026 r.'!C914","v":0},{"$f":"'Wniosek 2026 r.'!E914","v":0},{"$f":"'Wniosek 2026 r.'!C1068","v":0},{"$f":"'Wniosek 2026 r.'!D1068","v":0},{"$f":"'Wniosek 2026 r.'!G1068","v":0}]
[{"$f":"'Wniosek 2026 r.'!A132","v":94},{"$f":"'Wniosek 2026 r.'!B132","v":0},{"$f":"'Wniosek 2026 r.'!C132","v":0},{"$f":"'Wniosek 2026 r.'!D132","v":0},{"$f":"'Wniosek 2026 r.'!E132","v":0},{"$f":"'Wniosek 2026 r.'!F132","v":0},{"$f":"'Wniosek 2026 r.'!G132","v":0},{"$f":"'Wniosek 2026 r.'!H132","v":"00:00:00"},{"$f":"'Wniosek 2026 r.'!C295","v":0},{"$f":"'Wniosek 2026 r.'!C451","v":0},{"$f":"'Wniosek 2026 r.'!D451","v":0},{"$f":"'Wniosek 2026 r.'!F451","v":0},{"$f":"'Wniosek 2026 r.'!H451","v":0},{"$f":"'Wniosek 2026 r.'!C605","v":0},{"$f":"'Wniosek 2026 r.'!C760","v":0},{"$f":"'Wniosek 2026 r.'!C915","v":0},{"$f":"'Wniosek 2026 r.'!E915","v":0},{"$f":"'Wniosek 2026 r.'!C1069","v":0},{"$f":"'Wniosek 2026 r.'!D1069","v":0},{"$f":"'Wniosek 2026 r.'!G1069","v":0}]
[{"$f":"'Wniosek 2026 r.'!A133","v":95},{"$f":"'Wniosek 2026 r.'!B133","v":0},{"$f":"'Wniosek 2026 r.'!C133","v":0},{"$f":"'Wniosek 2026 r.'!D133","v":0},{"$f":"'Wniosek 2026 r.'!E133","v":0},{"$f":"'Wniosek 2026 r.'!F133","v":0},{"$f":"'Wniosek 2026 r.'!G133","v":0},{"$f":"'Wniosek 2026 r.'!H133","v":"00:00:00"},{"$f":"'Wniosek 2026 r.'!C296","v":0},{"$f":"'Wniosek 2026 r.'!C452","v":0},{"$f":"'Wniosek 2026 r.'!D452","v":0},{"$f":"'Wniosek 2026 r.'!F452","v":0},{"$f":"'Wniosek 2026 r.'!H452","v":0},{"$f":"'Wniosek 2026 r.'!C606","v":0},{"$f":"'Wniosek 2026 r.'!C761","v":0},{"$f":"'Wniosek 2026 r.'!C916","v":0},{"$f":"'Wniosek 2026 r.'!E916","v":0},{"$f":"'Wniosek 2026 r.'!C1070","v":0},{"$f":"'Wniosek 2026 r.'!D1070","v":0},{"$f":"'Wniosek 2026 r.'!G1070","v":0}]
[{"$f":"'Wniosek 2026 r.'!A134","v":96},{"$f":"'Wniosek 2026 r.'!B134","v":0},{"$f":"'Wniosek 2026 r.'!C134","v":0},{"$f":"'Wniosek 2026 r.'!D134","v":0},{"$f":"'Wniosek 2026 r.'!E134","v":0},{"$f":"'Wniosek 2026 r.'!F134","v":0},{"$f":"'Wniosek 2026 r.'!G134","v":0},{"$f":"'Wniosek 2026 r.'!H134","v":"00:00:00"},{"$f":"'Wniosek 2026 r.'!C297","v":0},{"$f":"'Wniosek 2026 r.'!C453","v":0},{"$f":"'Wniosek 2026 r.'!D453","v":0},{"$f":"'Wniosek 2026 r.'!F453","v":0},{"$f":"'Wniosek 2026 r.'!H453","v":0},{"$f":"'Wniosek 2026 r.'!C607","v":0},{"$f":"'Wniosek 2026 r.'!C762","v":0},{"$f":"'Wniosek 2026 r.'!C917","v":0},{"$f":"'Wniosek 2026 r.'!E917","v":0},{"$f":"'Wniosek 2026 r.'!C1071","v":0},{"$f":"'Wniosek 2026 r.'!D1071","v":0},{"$f":"'Wniosek 2026 r.'!G1071","v":0}]
[{"$f":"'Wniosek 2026 r.'!A135","v":97},{"$f":"'Wniosek 2026 r.'!B135","v":0},{"$f":"'Wniosek 2026 r.'!C135","v":0},{"$f":"'Wniosek 2026 r.'!D135","v":0},{"$f":"'Wniosek 2026 r.'!E135","v":0},{"$f":"'Wniosek 2026 r.'!F135","v":0},{"$f":"'Wniosek 2026 r.'!G135","v":0},{"$f":"'Wniosek 2026 r.'!H135","v":"00:00:00"},{"$f":"'Wniosek 2026 r.'!C298","v":0},{"$f":"'Wniosek 2026 r.'!C454","v":0},{"$f":"'Wniosek 2026 r.'!D454","v":0},{"$f":"'Wniosek 2026 r.'!F454","v":0},{"$f":"'Wniosek 2026 r.'!H454","v":0},{"$f":"'Wniosek 2026 r.'!C608","v":0},{"$f":"'Wniosek 2026 r.'!C763","v":0},{"$f":"'Wniosek 2026 r.'!C918","v":0},{"$f":"'Wniosek 2026 r.'!E918","v":0},{"$f":"'Wniosek 2026 r.'!C1072","v":0},{"$f":"'Wniosek 2026 r.'!D1072","v":0},{"$f":"'Wniosek 2026 r.'!G1072","v":0}]
[{"$f":"'Wniosek 2026 r.'!A136","v":98},{"$f":"'Wniosek 2026 r.'!B136","v":0},{"$f":"'Wniosek 2026 r.'!C136","v":0},{"$f":"'Wniosek 2026 r.'!D136","v":0},{"$f":"'Wniosek 2026 r.'!E136","v":0},{"$f":"'Wniosek 2026 r.'!F136","v":0},{"$f":"'Wniosek 2026 r.'!G136","v":0},{"$f":"'Wniosek 2026 r.'!H136","v":"00:00:00"},{"$f":"'Wniosek 2026 r.'!C299","v":0},{"$f":"'Wniosek 2026 r.'!C455","v":0},{"$f":"'Wniosek 2026 r.'!D455","v":0},{"$f":"'Wniosek 2026 r.'!F455","v":0},{"$f":"'Wniosek 2026 r.'!H455","v":0},{"$f":"'Wniosek 2026 r.'!C609","v":0},{"$f":"'Wniosek 2026 r.'!C764","v":0},{"$f":"'Wniosek 2026 r.'!C919","v":0},{"$f":"'Wniosek 2026 r.'!E919","v":0},{"$f":"'Wniosek 2026 r.'!C1073","v":0},{"$f":"'Wniosek 2026 r.'!D1073","v":0},{"$f":"'Wniosek 2026 r.'!G1073","v":0}]
[{"$f":"'Wniosek 2026 r.'!A137","v":99},{"$f":"'Wniosek 2026 r.'!B137","v":0},{"$f":"'Wniosek 2026 r.'!C137","v":0},{"$f":"'Wniosek 2026 r.'!D137","v":0},{"$f":"'Wniosek 2026 r.'!E137","v":0},{"$f":"'Wniosek 2026 r.'!F137","v":0},{"$f":"'Wniosek 2026 r.'!G137","v":0},{"$f":"'Wniosek 2026 r.'!H137","v":"00:00:00"},{"$f":"'Wniosek 2026 r.'!C300","v":0},{"$f":"'Wniosek 2026 r.'!C456","v":0},{"$f":"'Wniosek 2026 r.'!D456","v":0},{"$f":"'Wniosek 2026 r.'!F456","v":0},{"$f":"'Wniosek 2026 r.'!H456","v":0},{"$f":"'Wniosek 2026 r.'!C610","v":0},{"$f":"'Wniosek 2026 r.'!C765","v":0},{"$f":"'Wniosek 2026 r.'!C920","v":0},{"$f":"'Wniosek 2026 r.'!E920","v":0},{"$f":"'Wniosek 2026 r.'!C1074","v":0},{"$f":"'Wniosek 2026 r.'!D1074","v":0},{"$f":"'Wniosek 2026 r.'!G1074","v":0}]
[{"$f":"'Wniosek 2026 r.'!A138","v":100},{"$f":"'Wniosek 2026 r.'!B138","v":0},{"$f":"'Wniosek 2026 r.'!C138","v":0},{"$f":"'Wniosek 2026 r.'!D138","v":0},{"$f":"'Wniosek 2026 r.'!E138","v":0},{"$f":"'Wniosek 2026 r.'!F138","v":0},{"$f":"'Wniosek 2026 r.'!G138","v":0},{"$f":"'Wniosek 2026 r.'!H138","v":"00:00:00"},{"$f":"'Wniosek 2026 r.'!C301","v":0},{"$f":"'Wniosek 2026 r.'!C457","v":0},{"$f":"'Wniosek 2026 r.'!D457","v":0},{"$f":"'Wniosek 2026 r.'!F457","v":0},{"$f":"'Wniosek 2026 r.'!H457","v":0},{"$f":"'Wniosek 2026 r.'!C611","v":0},{"$f":"'Wniosek 2026 r.'!C766","v":0},{"$f":"'Wniosek 2026 r.'!C921","v":0},{"$f":"'Wniosek 2026 r.'!E921","v":0},{"$f":"'Wniosek 2026 r.'!C1075","v":0},{"$f":"'Wniosek 2026 r.'!D1075","v":0},{"$f":"'Wniosek 2026 r.'!G1075","v":0}]
[{"$f":"'Wniosek 2026 r.'!A139","v":101},{"$f":"'Wniosek 2026 r.'!B139","v":0},{"$f":"'Wniosek 2026 r.'!C139","v":0},{"$f":"'Wniosek 2026 r.'!D139","v":0},{"$f":"'Wniosek 2026 r.'!E139","v":0},{"$f":"'Wniosek 2026 r.'!F139","v":0},{"$f":"'Wniosek 2026 r.'!G139","v":0},{"$f":"'Wniosek 2026 r.'!H139","v":"00:00:00"},{"$f":"'Wniosek 2026 r.'!C302","v":0},{"$f":"'Wniosek 2026 r.'!C458","v":0},{"$f":"'Wniosek 2026 r.'!D458","v":0},{"$f":"'Wniosek 2026 r.'!F458","v":0},{"$f":"'Wniosek 2026 r.'!H458","v":0},{"$f":"'Wniosek 2026 r.'!C612","v":0},{"$f":"'Wniosek 2026 r.'!C767","v":0},{"$f":"'Wniosek 2026 r.'!C922","v":0},{"$f":"'Wniosek 2026 r.'!E922","v":0},{"$f":"'Wniosek 2026 r.'!C1076","v":0},{"$f":"'Wniosek 2026 r.'!D1076","v":0},{"$f":"'Wniosek 2026 r.'!G1076","v":0}]
[{"$f":"'Wniosek 2026 r.'!A140","v":102},{"$f":"'Wniosek 2026 r.'!B140","v":0},{"$f":"'Wniosek 2026 r.'!C140","v":0},{"$f":"'Wniosek 2026 r.'!D140","v":0},{"$f":"'Wniosek 2026 r.'!E140","v":0},{"$f":"'Wniosek 2026 r.'!F140","v":0},{"$f":"'Wniosek 2026 r.'!G140","v":0},{"$f":"'Wniosek 2026 r.'!H140","v":"00:00:00"},{"$f":"'Wniosek 2026 r.'!C303","v":0},{"$f":"'Wniosek 2026 r.'!C459","v":0},{"$f":"'Wniosek 2026 r.'!D459","v":0},{"$f":"'Wniosek 2026 r.'!F459","v":0},{"$f":"'Wniosek 2026 r.'!H459","v":0},{"$f":"'Wniosek 2026 r.'!C613","v":0},{"$f":"'Wniosek 2026 r.'!C768","v":0},{"$f":"'Wniosek 2026 r.'!C923","v":0},{"$f":"'Wniosek 2026 r.'!E923","v":0},{"$f":"'Wniosek 2026 r.'!C1077","v":0},{"$f":"'Wniosek 2026 r.'!D1077","v":0},{"$f":"'Wniosek 2026 r.'!G1077","v":0}]
[{"$f":"'Wniosek 2026 r.'!A141","v":103},{"$f":"'Wniosek 2026 r.'!B141","v":0},{"$f":"'Wniosek 2026 r.'!C141","v":0},{"$f":"'Wniosek 2026 r.'!D141","v":0},{"$f":"'Wniosek 2026 r.'!E141","v":0},{"$f":"'Wniosek 2026 r.'!F141","v":0},{"$f":"'Wniosek 2026 r.'!G141","v":0},{"$f":"'Wniosek 2026 r.'!H141","v":"00:00:00"},{"$f":"'Wniosek 2026 r.'!C304","v":0},{"$f":"'Wniosek 2026 r.'!C460","v":0},{"$f":"'Wniosek 2026 r.'!D460","v":0},{"$f":"'Wniosek 2026 r.'!F460","v":0},{"$f":"'Wniosek 2026 r.'!H460","v":0},{"$f":"'Wniosek 2026 r.'!C614","v":0},{"$f":"'Wniosek 2026 r.'!C769","v":0},{"$f":"'Wniosek 2026 r.'!C924","v":0},{"$f":"'Wniosek 2026 r.'!E924","v":0},{"$f":"'Wniosek 2026 r.'!C1078","v":0},{"$f":"'Wniosek 2026 r.'!D1078","v":0},{"$f":"'Wniosek 2026 r.'!G1078","v":0}]
[{"$f":"'Wniosek 2026 r.'!A142","v":104},{"$f":"'Wniosek 2026 r.'!B142","v":0},{"$f":"'Wniosek 2026 r.'!C142","v":0},{"$f":"'Wniosek 2026 r.'!D142","v":0},{"$f":"'Wniosek 2026 r.'!E142","v":0},{"$f":"'Wniosek 2026 r.'!F142","v":0},{"$f":"'Wniosek 2026 r.'!G142","v":0},{"$f":"'Wniosek 2026 r.'!H142","v":"00:00:00"},{"$f":"'Wniosek 2026 r.'!C305","v":0},{"$f":"'Wniosek 2026 r.'!C461","v":0},{"$f":"'Wniosek 2026 r.'!D461","v":0},{"$f":"'Wniosek 2026 r.'!F461","v":0},{"$f":"'Wniosek 2026 r.'!H461","v":0},{"$f":"'Wniosek 2026 r.'!C615","v":0},{"$f":"'Wniosek 2026 r.'!C770","v":0},{"$f":"'Wniosek 2026 r.'!C925","v":0},{"$f":"'Wniosek 2026 r.'!E925","v":0},{"$f":"'Wniosek 2026 r.'!C1079","v":0},{"$f":"'Wniosek 2026 r.'!D1079","v":0},{"$f":"'Wniosek 2026 r.'!G1079","v":0}]
[{"$f":"'Wniosek 2026 r.'!A143","v":105},{"$f":"'Wniosek 2026 r.'!B143","v":0},{"$f":"'Wniosek 2026 r.'!C143","v":0},{"$f":"'Wniosek 2026 r.'!D143","v":0},{"$f":"'Wniosek 2026 r.'!E143","v":0},{"$f":"'Wniosek 2026 r.'!F143","v":0},{"$f":"'Wniosek 2026 r.'!G143","v":0},{"$f":"'Wniosek 2026 r.'!H143","v":"00:00:00"},{"$f":"'Wniosek 2026 r.'!C306","v":0},{"$f":"'Wniosek 2026 r.'!C462","v":0},{"$f":"'Wniosek 2026 r.'!D462","v":0},{"$f":"'Wniosek 2026 r.'!F462","v":0},{"$f":"'Wniosek 2026 r.'!H462","v":0},{"$f":"'Wniosek 2026 r.'!C616","v":0},{"$f":"'Wniosek 2026 r.'!C771","v":0},{"$f":"'Wniosek 2026 r.'!C926","v":0},{"$f":"'Wniosek 2026 r.'!E926","v":0},{"$f":"'Wniosek 2026 r.'!C1080","v":0},{"$f":"'Wniosek 2026 r.'!D1080","v":0},{"$f":"'Wniosek 2026 r.'!G1080","v":0}]
[{"$f":"'Wniosek 2026 r.'!A144","v":106},{"$f":"'Wniosek 2026 r.'!B144","v":0},{"$f":"'Wniosek 2026 r.'!C144","v":0},{"$f":"'Wniosek 2026 r.'!D144","v":0},{"$f":"'Wniosek 2026 r.'!E144","v":0},{"$f":"'Wniosek 2026 r.'!F144","v":0},{"$f":"'Wniosek 2026 r.'!G144","v":0},{"$f":"'Wniosek 2026 r.'!H144","v":"00:00:00"},{"$f":"'Wniosek 2026 r.'!C307","v":0},{"$f":"'Wniosek 2026 r.'!C463","v":0},{"$f":"'Wniosek 2026 r.'!D463","v":0},{"$f":"'Wniosek 2026 r.'!F463","v":0},{"$f":"'Wniosek 2026 r.'!H463","v":0},{"$f":"'Wniosek 2026 r.'!C617","v":0},{"$f":"'Wniosek 2026 r.'!C772","v":0},{"$f":"'Wniosek 2026 r.'!C927","v":0},{"$f":"'Wniosek 2026 r.'!E927","v":0},{"$f":"'Wniosek 2026 r.'!C1081","v":0},{"$f":"'Wniosek 2026 r.'!D1081","v":0},{"$f":"'Wniosek 2026 r.'!G1081","v":0}]
[{"$f":"'Wniosek 2026 r.'!A145","v":107},{"$f":"'Wniosek 2026 r.'!B145","v":0},{"$f":"'Wniosek 2026 r.'!C145","v":0},{"$f":"'Wniosek 2026 r.'!D145","v":0},{"$f":"'Wniosek 2026 r.'!E145","v":0},{"$f":"'Wniosek 2026 r.'!F145","v":0},{"$f":"'Wniosek 2026 r.'!G145","v":0},{"$f":"'Wniosek 2026 r.'!H145","v":"00:00:00"},{"$f":"'Wniosek 2026 r.'!C308","v":0},{"$f":"'Wniosek 2026 r.'!C464","v":0},{"$f":"'Wniosek 2026 r.'!D464","v":0},{"$f":"'Wniosek 2026 r.'!F464","v":0},{"$f":"'Wniosek 2026 r.'!H464","v":0},{"$f":"'Wniosek 2026 r.'!C618","v":0},{"$f":"'Wniosek 2026 r.'!C773","v":0},{"$f":"'Wniosek 2026 r.'!C928","v":0},{"$f":"'Wniosek 2026 r.'!E928","v":0},{"$f":"'Wniosek 2026 r.'!C1082","v":0},{"$f":"'Wniosek 2026 r.'!D1082","v":0},{"$f":"'Wniosek 2026 r.'!G1082","v":0}]
[{"$f":"'Wniosek 2026 r.'!A146","v":108},{"$f":"'Wniosek 2026 r.'!B146","v":0},{"$f":"'Wniosek 2026 r.'!C146","v":0},{"$f":"'Wniosek 2026 r.'!D146","v":0},{"$f":"'Wniosek 2026 r.'!E146","v":0},{"$f":"'Wniosek 2026 r.'!F146","v":0},{"$f":"'Wniosek 2026 r.'!G146","v":0},{"$f":"'Wniosek 2026 r.'!H146","v":"00:00:00"},{"$f":"'Wniosek 2026 r.'!C309","v":0},{"$f":"'Wniosek 2026 r.'!C465","v":0},{"$f":"'Wniosek 2026 r.'!D465","v":0},{"$f":"'Wniosek 2026 r.'!F465","v":0},{"$f":"'Wniosek 2026 r.'!H465","v":0},{"$f":"'Wniosek 2026 r.'!C619","v":0},{"$f":"'Wniosek 2026 r.'!C774","v":0},{"$f":"'Wniosek 2026 r.'!C929","v":0},{"$f":"'Wniosek 2026 r.'!E929","v":0},{"$f":"'Wniosek 2026 r.'!C1083","v":0},{"$f":"'Wniosek 2026 r.'!D1083","v":0},{"$f":"'Wniosek 2026 r.'!G1083","v":0}]
[{"$f":"'Wniosek 2026 r.'!A147","v":109},{"$f":"'Wniosek 2026 r.'!B147","v":0},{"$f":"'Wniosek 2026 r.'!C147","v":0},{"$f":"'Wniosek 2026 r.'!D147","v":0},{"$f":"'Wniosek 2026 r.'!E147","v":0},{"$f":"'Wniosek 2026 r.'!F147","v":0},{"$f":"'Wniosek 2026 r.'!G147","v":0},{"$f":"'Wniosek 2026 r.'!H147","v":"00:00:00"},{"$f":"'Wniosek 2026 r.'!C310","v":0},{"$f":"'Wniosek 2026 r.'!C466","v":0},{"$f":"'Wniosek 2026 r.'!D466","v":0},{"$f":"'Wniosek 2026 r.'!F466","v":0},{"$f":"'Wniosek 2026 r.'!H466","v":0},{"$f":"'Wniosek 2026 r.'!C620","v":0},{"$f":"'Wniosek 2026 r.'!C775","v":0},{"$f":"'Wniosek 2026 r.'!C930","v":0},{"$f":"'Wniosek 2026 r.'!E930","v":0},{"$f":"'Wniosek 2026 r.'!C1084","v":0},{"$f":"'Wniosek 2026 r.'!D1084","v":0},{"$f":"'Wniosek 2026 r.'!G1084","v":0}]
[{"$f":"'Wniosek 2026 r.'!A148","v":110},{"$f":"'Wniosek 2026 r.'!B148","v":0},{"$f":"'Wniosek 2026 r.'!C148","v":0},{"$f":"'Wniosek 2026 r.'!D148","v":0},{"$f":"'Wniosek 2026 r.'!E148","v":0},{"$f":"'Wniosek 2026 r.'!F148","v":0},{"$f":"'Wniosek 2026 r.'!G148","v":0},{"$f":"'Wniosek 2026 r.'!H148","v":"00:00:00"},{"$f":"'Wniosek 2026 r.'!C311","v":0},{"$f":"'Wniosek 2026 r.'!C467","v":0},{"$f":"'Wniosek 2026 r.'!D467","v":0},{"$f":"'Wniosek 2026 r.'!F467","v":0},{"$f":"'Wniosek 2026 r.'!H467","v":0},{"$f":"'Wniosek 2026 r.'!C621","v":0},{"$f":"'Wniosek 2026 r.'!C776","v":0},{"$f":"'Wniosek 2026 r.'!C931","v":0},{"$f":"'Wniosek 2026 r.'!E931","v":0},{"$f":"'Wniosek 2026 r.'!C1085","v":0},{"$f":"'Wniosek 2026 r.'!D1085","v":0},{"$f":"'Wniosek 2026 r.'!G1085","v":0}]
[{"$f":"'Wniosek 2026 r.'!A149","v":111},{"$f":"'Wniosek 2026 r.'!B149","v":0},{"$f":"'Wniosek 2026 r.'!C149","v":0},{"$f":"'Wniosek 2026 r.'!D149","v":0},{"$f":"'Wniosek 2026 r.'!E149","v":0},{"$f":"'Wniosek 2026 r.'!F149","v":0},{"$f":"'Wniosek 2026 r.'!G149","v":0},{"$f":"'Wniosek 2026 r.'!H149","v":"00:00:00"},{"$f":"'Wniosek 2026 r.'!C312","v":0},{"$f":"'Wniosek 2026 r.'!C468","v":0},{"$f":"'Wniosek 2026 r.'!D468","v":0},{"$f":"'Wniosek 2026 r.'!F468","v":0},{"$f":"'Wniosek 2026 r.'!H468","v":0},{"$f":"'Wniosek 2026 r.'!C622","v":0},{"$f":"'Wniosek 2026 r.'!C777","v":0},{"$f":"'Wniosek 2026 r.'!C932","v":0},{"$f":"'Wniosek 2026 r.'!E932","v":0},{"$f":"'Wniosek 2026 r.'!C1086","v":0},{"$f":"'Wniosek 2026 r.'!D1086","v":0},{"$f":"'Wniosek 2026 r.'!G1086","v":0}]
[{"$f":"'Wniosek 2026 r.'!A150","v":112},{"$f":"'Wniosek 2026 r.'!B150","v":0},{"$f":"'Wniosek 2026 r.'!C150","v":0},{"$f":"'Wniosek 2026 r.'!D150","v":0},{"$f":"'Wniosek 2026 r.'!E150","v":0},{"$f":"'Wniosek 2026 r.'!F150","v":0},{"$f":"'Wniosek 2026 r.'!G150","v":0},{"$f":"'Wniosek 2026 r.'!H150","v":"00:00:00"},{"$f":"'Wniosek 2026 r.'!C313","v":0},{"$f":"'Wniosek 2026 r.'!C469","v":0},{"$f":"'Wniosek 2026 r.'!D469","v":0},{"$f":"'Wniosek 2026 r.'!F469","v":0},{"$f":"'Wniosek 2026 r.'!H469","v":0},{"$f":"'Wniosek 2026 r.'!C623","v":0},{"$f":"'Wniosek 2026 r.'!C778","v":0},{"$f":"'Wniosek 2026 r.'!C933","v":0},{"$f":"'Wniosek 2026 r.'!E933","v":0},{"$f":"'Wniosek 2026 r.'!C1087","v":0},{"$f":"'Wniosek 2026 r.'!D1087","v":0},{"$f":"'Wniosek 2026 r.'!G1087","v":0}]
[{"$f":"'Wniosek 2026 r.'!A151","v":113},{"$f":"'Wniosek 2026 r.'!B151","v":0},{"$f":"'Wniosek 2026 r.'!C151","v":0},{"$f":"'Wniosek 2026 r.'!D151","v":0},{"$f":"'Wniosek 2026 r.'!E151","v":0},{"$f":"'Wniosek 2026 r.'!F151","v":0},{"$f":"'Wniosek 2026 r.'!G151","v":0},{"$f":"'Wniosek 2026 r.'!H151","v":"00:00:00"},{"$f":"'Wniosek 2026 r.'!C314","v":0},{"$f":"'Wniosek 2026 r.'!C470","v":0},{"$f":"'Wniosek 2026 r.'!D470","v":0},{"$f":"'Wniosek 2026 r.'!F470","v":0},{"$f":"'Wniosek 2026 r.'!H470","v":0},{"$f":"'Wniosek 2026 r.'!C624","v":0},{"$f":"'Wniosek 2026 r.'!C779","v":0},{"$f":"'Wniosek 2026 r.'!C934","v":0},{"$f":"'Wniosek 2026 r.'!E934","v":0},{"$f":"'Wniosek 2026 r.'!C1088","v":0},{"$f":"'Wniosek 2026 r.'!D1088","v":0},{"$f":"'Wniosek 2026 r.'!G1088","v":0}]
[{"$f":"'Wniosek 2026 r.'!A152","v":114},{"$f":"'Wniosek 2026 r.'!B152","v":0},{"$f":"'Wniosek 2026 r.'!C152","v":0},{"$f":"'Wniosek 2026 r.'!D152","v":0},{"$f":"'Wniosek 2026 r.'!E152","v":0},{"$f":"'Wniosek 2026 r.'!F152","v":0},{"$f":"'Wniosek 2026 r.'!G152","v":0},{"$f":"'Wniosek 2026 r.'!H152","v":"00:00:00"},{"$f":"'Wniosek 2026 r.'!C315","v":0},{"$f":"'Wniosek 2026 r.'!C471","v":0},{"$f":"'Wniosek 2026 r.'!D471","v":0},{"$f":"'Wniosek 2026 r.'!F471","v":0},{"$f":"'Wniosek 2026 r.'!H471","v":0},{"$f":"'Wniosek 2026 r.'!C625","v":0},{"$f":"'Wniosek 2026 r.'!C780","v":0},{"$f":"'Wniosek 2026 r.'!C935","v":0},{"$f":"'Wniosek 2026 r.'!E935","v":0},{"$f":"'Wniosek 2026 r.'!C1089","v":0},{"$f":"'Wniosek 2026 r.'!D1089","v":0},{"$f":"'Wniosek 2026 r.'!G1089","v":0}]
[{"$f":"'Wniosek 2026 r.'!A153","v":115},{"$f":"'Wniosek 2026 r.'!B153","v":0},{"$f":"'Wniosek 2026 r.'!C153","v":0},{"$f":"'Wniosek 2026 r.'!D153","v":0},{"$f":"'Wniosek 2026 r.'!E153","v":0},{"$f":"'Wniosek 2026 r.'!F153","v":0},{"$f":"'Wniosek 2026 r.'!G153","v":0},{"$f":"'Wniosek 2026 r.'!H153","v":"00:00:00"},{"$f":"'Wniosek 2026 r.'!C316","v":0},{"$f":"'Wniosek 2026 r.'!C472","v":0},{"$f":"'Wniosek 2026 r.'!D472","v":0},{"$f":"'Wniosek 2026 r.'!F472","v":0},{"$f":"'Wniosek 2026 r.'!H472","v":0},{"$f":"'Wniosek 2026 r.'!C626","v":0},{"$f":"'Wniosek 2026 r.'!C781","v":0},{"$f":"'Wniosek 2026 r.'!C936","v":0},{"$f":"'Wniosek 2026 r.'!E936","v":0},{"$f":"'Wniosek 2026 r.'!C1090","v":0},{"$f":"'Wniosek 2026 r.'!D1090","v":0},{"$f":"'Wniosek 2026 r.'!G1090","v":0}]
[{"$f":"'Wniosek 2026 r.'!A154","v":116},{"$f":"'Wniosek 2026 r.'!B154","v":0},{"$f":"'Wniosek 2026 r.'!C154","v":0},{"$f":"'Wniosek 2026 r.'!D154","v":0},{"$f":"'Wniosek 2026 r.'!E154","v":0},{"$f":"'Wniosek 2026 r.'!F154","v":0},{"$f":"'Wniosek 2026 r.'!G154","v":0},{"$f":"'Wniosek 2026 r.'!H154","v":"00:00:00"},{"$f":"'Wniosek 2026 r.'!C317","v":0},{"$f":"'Wniosek 2026 r.'!C473","v":0},{"$f":"'Wniosek 2026 r.'!D473","v":0},{"$f":"'Wniosek 2026 r.'!F473","v":0},{"$f":"'Wniosek 2026 r.'!H473","v":0},{"$f":"'Wniosek 2026 r.'!C627","v":0},{"$f":"'Wniosek 2026 r.'!C782","v":0},{"$f":"'Wniosek 2026 r.'!C937","v":0},{"$f":"'Wniosek 2026 r.'!E937","v":0},{"$f":"'Wniosek 2026 r.'!C1091","v":0},{"$f":"'Wniosek 2026 r.'!D1091","v":0},{"$f":"'Wniosek 2026 r.'!G1091","v":0}]
[{"$f":"'Wniosek 2026 r.'!A155","v":117},{"$f":"'Wniosek 2026 r.'!B155","v":0},{"$f":"'Wniosek 2026 r.'!C155","v":0},{"$f":"'Wniosek 2026 r.'!D155","v":0},{"$f":"'Wniosek 2026 r.'!E155","v":0},{"$f":"'Wniosek 2026 r.'!F155","v":0},{"$f":"'Wniosek 2026 r.'!G155","v":0},{"$f":"'Wniosek 2026 r.'!H155","v":"00:00:00"},{"$f":"'Wniosek 2026 r.'!C318","v":0},{"$f":"'Wniosek 2026 r.'!C474","v":0},{"$f":"'Wniosek 2026 r.'!D474","v":0},{"$f":"'Wniosek 2026 r.'!F474","v":0},{"$f":"'Wniosek 2026 r.'!H474","v":0},{"$f":"'Wniosek 2026 r.'!C628","v":0},{"$f":"'Wniosek 2026 r.'!C783","v":0},{"$f":"'Wniosek 2026 r.'!C938","v":0},{"$f":"'Wniosek 2026 r.'!E938","v":0},{"$f":"'Wniosek 2026 r.'!C1092","v":0},{"$f":"'Wniosek 2026 r.'!D1092","v":0},{"$f":"'Wniosek 2026 r.'!G1092","v":0}]
[{"$f":"'Wniosek 2026 r.'!A156","v":118},{"$f":"'Wniosek 2026 r.'!B156","v":0},{"$f":"'Wniosek 2026 r.'!C156","v":0},{"$f":"'Wniosek 2026 r.'!D156","v":0},{"$f":"'Wniosek 2026 r.'!E156","v":0},{"$f":"'Wniosek 2026 r.'!F156","v":0},{"$f":"'Wniosek 2026 r.'!G156","v":0},{"$f":"'Wniosek 2026 r.'!H156","v":"00:00:00"},{"$f":"'Wniosek 2026 r.'!C319","v":0},{"$f":"'Wniosek 2026 r.'!C475","v":0},{"$f":"'Wniosek 2026 r.'!D475","v":0},{"$f":"'Wniosek 2026 r.'!F475","v":0},{"$f":"'Wniosek 2026 r.'!H475","v":0},{"$f":"'Wniosek 2026 r.'!C629","v":0},{"$f":"'Wniosek 2026 r.'!C784","v":0},{"$f":"'Wniosek 2026 r.'!C939","v":0},{"$f":"'Wniosek 2026 r.'!E939","v":0},{"$f":"'Wniosek 2026 r.'!C1093","v":0},{"$f":"'Wniosek 2026 r.'!D1093","v":0},{"$f":"'Wniosek 2026 r.'!G1093","v":0}]
[{"$f":"'Wniosek 2026 r.'!A157","v":119},{"$f":"'Wniosek 2026 r.'!B157","v":0},{"$f":"'Wniosek 2026 r.'!C157","v":0},{"$f":"'Wniosek 2026 r.'!D157","v":0},{"$f":"'Wniosek 2026 r.'!E157","v":0},{"$f":"'Wniosek 2026 r.'!F157","v":0},{"$f":"'Wniosek 2026 r.'!G157","v":0},{"$f":"'Wniosek 2026 r.'!H157","v":"00:00:00"},{"$f":"'Wniosek 2026 r.'!C320","v":0},{"$f":"'Wniosek 2026 r.'!C476","v":0},{"$f":"'Wniosek 2026 r.'!D476","v":0},{"$f":"'Wniosek 2026 r.'!F476","v":0},{"$f":"'Wniosek 2026 r.'!H476","v":0},{"$f":"'Wniosek 2026 r.'!C630","v":0},{"$f":"'Wniosek 2026 r.'!C785","v":0},{"$f":"'Wniosek 2026 r.'!C940","v":0},{"$f":"'Wniosek 2026 r.'!E940","v":0},{"$f":"'Wniosek 2026 r.'!C1094","v":0},{"$f":"'Wniosek 2026 r.'!D1094","v":0},{"$f":"'Wniosek 2026 r.'!G1094","v":0}]
[{"$f":"'Wniosek 2026 r.'!A158","v":120},{"$f":"'Wniosek 2026 r.'!B158","v":0},{"$f":"'Wniosek 2026 r.'!C158","v":0},{"$f":"'Wniosek 2026 r.'!D158","v":0},{"$f":"'Wniosek 2026 r.'!E158","v":0},{"$f":"'Wniosek 2026 r.'!F158","v":0},{"$f":"'Wniosek 2026 r.'!G158","v":0},{"$f":"'Wniosek 2026 r.'!H158","v":"00:00:00"},{"$f":"'Wniosek 2026 r.'!C321","v":0},{"$f":"'Wniosek 2026 r.'!C477","v":0},{"$f":"'Wniosek 2026 r.'!D477","v":0},{"$f":"'Wniosek 2026 r.'!F477","v":0},{"$f":"'Wniosek 2026 r.'!H477","v":0},{"$f":"'Wniosek 2026 r.'!C631","v":0},{"$f":"'Wniosek 2026 r.'!C786","v":0},{"$f":"'Wniosek 2026 r.'!C941","v":0},{"$f":"'Wniosek 2026 r.'!E941","v":0},{"$f":"'Wniosek 2026 r.'!C1095","v":0},{"$f":"'Wniosek 2026 r.'!D1095","v":0},{"$f":"'Wniosek 2026 r.'!G1095","v":0}]
[{"$f":"'Wniosek 2026 r.'!A159","v":121},{"$f":"'Wniosek 2026 r.'!B159","v":0},{"$f":"'Wniosek 2026 r.'!C159","v":0},{"$f":"'Wniosek 2026 r.'!D159","v":0},{"$f":"'Wniosek 2026 r.'!E159","v":0},{"$f":"'Wniosek 2026 r.'!F159","v":0},{"$f":"'Wniosek 2026 r.'!G159","v":0},{"$f":"'Wniosek 2026 r.'!H159","v":"00:00:00"},{"$f":"'Wniosek 2026 r.'!C322","v":0},{"$f":"'Wniosek 2026 r.'!C478","v":0},{"$f":"'Wniosek 2026 r.'!D478","v":0},{"$f":"'Wniosek 2026 r.'!F478","v":0},{"$f":"'Wniosek 2026 r.'!H478","v":0},{"$f":"'Wniosek 2026 r.'!C632","v":0},{"$f":"'Wniosek 2026 r.'!C787","v":0},{"$f":"'Wniosek 2026 r.'!C942","v":0},{"$f":"'Wniosek 2026 r.'!E942","v":0},{"$f":"'Wniosek 2026 r.'!C1096","v":0},{"$f":"'Wniosek 2026 r.'!D1096","v":0},{"$f":"'Wniosek 2026 r.'!G1096","v":0}]
[{"$f":"'Wniosek 2026 r.'!A160","v":122},{"$f":"'Wniosek 2026 r.'!B160","v":0},{"$f":"'Wniosek 2026 r.'!C160","v":0},{"$f":"'Wniosek 2026 r.'!D160","v":0},{"$f":"'Wniosek 2026 r.'!E160","v":0},{"$f":"'Wniosek 2026 r.'!F160","v":0},{"$f":"'Wniosek 2026 r.'!G160","v":0},{"$f":"'Wniosek 2026 r.'!H160","v":"00:00:00"},{"$f":"'Wniosek 2026 r.'!C323","v":0},{"$f":"'Wniosek 2026 r.'!C479","v":0},{"$f":"'Wniosek 2026 r.'!D479","v":0},{"$f":"'Wniosek 2026 r.'!F479","v":0},{"$f":"'Wniosek 2026 r.'!H479","v":0},{"$f":"'Wniosek 2026 r.'!C633","v":0},{"$f":"'Wniosek 2026 r.'!C788","v":0},{"$f":"'Wniosek 2026 r.'!C943","v":0},{"$f":"'Wniosek 2026 r.'!E943","v":0},{"$f":"'Wniosek 2026 r.'!C1097","v":0},{"$f":"'Wniosek 2026 r.'!D1097","v":0},{"$f":"'Wniosek 2026 r.'!G1097","v":0}]
[{"$f":"'Wniosek 2026 r.'!A161","v":123},{"$f":"'Wniosek 2026 r.'!B161","v":0},{"$f":"'Wniosek 2026 r.'!C161","v":0},{"$f":"'Wniosek 2026 r.'!D161","v":0},{"$f":"'Wniosek 2026 r.'!E161","v":0},{"$f":"'Wniosek 2026 r.'!F161","v":0},{"$f":"'Wniosek 2026 r.'!G161","v":0},{"$f":"'Wniosek 2026 r.'!H161","v":"00:00:00"},{"$f":"'Wniosek 2026 r.'!C324","v":0},{"$f":"'Wniosek 2026 r.'!C480","v":0},{"$f":"'Wniosek 2026 r.'!D480","v":0},{"$f":"'Wniosek 2026 r.'!F480","v":0},{"$f":"'Wniosek 2026 r.'!H480","v":0},{"$f":"'Wniosek 2026 r.'!C634","v":0},{"$f":"'Wniosek 2026 r.'!C789","v":0},{"$f":"'Wniosek 2026 r.'!C944","v":0},{"$f":"'Wniosek 2026 r.'!E944","v":0},{"$f":"'Wniosek 2026 r.'!C1098","v":0},{"$f":"'Wniosek 2026 r.'!D1098","v":0},{"$f":"'Wniosek 2026 r.'!G1098","v":0}]
[{"$f":"'Wniosek 2026 r.'!A162","v":124},{"$f":"'Wniosek 2026 r.'!B162","v":0},{"$f":"'Wniosek 2026 r.'!C162","v":0},{"$f":"'Wniosek 2026 r.'!D162","v":0},{"$f":"'Wniosek 2026 r.'!E162","v":0},{"$f":"'Wniosek 2026 r.'!F162","v":0},{"$f":"'Wniosek 2026 r.'!G162","v":0},{"$f":"'Wniosek 2026 r.'!H162","v":"00:00:00"},{"$f":"'Wniosek 2026 r.'!C325","v":0},{"$f":"'Wniosek 2026 r.'!C481","v":0},{"$f":"'Wniosek 2026 r.'!D481","v":0},{"$f":"'Wniosek 2026 r.'!F481","v":0},{"$f":"'Wniosek 2026 r.'!H481","v":0},{"$f":"'Wniosek 2026 r.'!C635","v":0},{"$f":"'Wniosek 2026 r.'!C790","v":0},{"$f":"'Wniosek 2026 r.'!C945","v":0},{"$f":"'Wniosek 2026 r.'!E945","v":0},{"$f":"'Wniosek 2026 r.'!C1099","v":0},{"$f":"'Wniosek 2026 r.'!D1099","v":0},{"$f":"'Wniosek 2026 r.'!G1099","v":0}]
[{"$f":"'Wniosek 2026 r.'!A163","v":125},{"$f":"'Wniosek 2026 r.'!B163","v":0},{"$f":"'Wniosek 2026 r.'!C163","v":0},{"$f":"'Wniosek 2026 r.'!D163","v":0},{"$f":"'Wniosek 2026 r.'!E163","v":0},{"$f":"'Wniosek 2026 r.'!F163","v":0},{"$f":"'Wniosek 2026 r.'!G163","v":0},{"$f":"'Wniosek 2026 r.'!H163","v":"00:00:00"},{"$f":"'Wniosek 2026 r.'!C326","v":0},{"$f":"'Wniosek 2026 r.'!C482","v":0},{"$f":"'Wniosek 2026 r.'!D482","v":0},{"$f":"'Wniosek 2026 r.'!F482","v":0},{"$f":"'Wniosek 2026 r.'!H482","v":0},{"$f":"'Wniosek 2026 r.'!C636","v":0},{"$f":"'Wniosek 2026 r.'!C791","v":0},{"$f":"'Wniosek 2026 r.'!C946","v":0},{"$f":"'Wniosek 2026 r.'!E946","v":0},{"$f":"'Wniosek 2026 r.'!C1100","v":0},{"$f":"'Wniosek 2026 r.'!D1100","v":0},{"$f":"'Wniosek 2026 r.'!G1100","v":0}]
[{"$f":"'Wniosek 2026 r.'!A164","v":126},{"$f":"'Wniosek 2026 r.'!B164","v":0},{"$f":"'Wniosek 2026 r.'!C164","v":0},{"$f":"'Wniosek 2026 r.'!D164","v":0},{"$f":"'Wniosek 2026 r.'!E164","v":0},{"$f":"'Wniosek 2026 r.'!F164","v":0},{"$f":"'Wniosek 2026 r.'!G164","v":0},{"$f":"'Wniosek 2026 r.'!H164","v":"00:00:00"},{"$f":"'Wniosek 2026 r.'!C327","v":0},{"$f":"'Wniosek 2026 r.'!C483","v":0},{"$f":"'Wniosek 2026 r.'!D483","v":0},{"$f":"'Wniosek 2026 r.'!F483","v":0},{"$f":"'Wniosek 2026 r.'!H483","v":0},{"$f":"'Wniosek 2026 r.'!C637","v":0},{"$f":"'Wniosek 2026 r.'!C792","v":0},{"$f":"'Wniosek 2026 r.'!C947","v":0},{"$f":"'Wniosek 2026 r.'!E947","v":0},{"$f":"'Wniosek 2026 r.'!C1101","v":0},{"$f":"'Wniosek 2026 r.'!D1101","v":0},{"$f":"'Wniosek 2026 r.'!G1101","v":0}]
[{"$f":"'Wniosek 2026 r.'!A165","v":127},{"$f":"'Wniosek 2026 r.'!B165","v":0},{"$f":"'Wniosek 2026 r.'!C165","v":0},{"$f":"'Wniosek 2026 r.'!D165","v":0},{"$f":"'Wniosek 2026 r.'!E165","v":0},{"$f":"'Wniosek 2026 r.'!F165","v":0},{"$f":"'Wniosek 2026 r.'!G165","v":0},{"$f":"'Wniosek 2026 r.'!H165","v":"00:00:00"},{"$f":"'Wniosek 2026 r.'!C328","v":0},{"$f":"'Wniosek 2026 r.'!C484","v":0},{"$f":"'Wniosek 2026 r.'!D484","v":0},{"$f":"'Wniosek 2026 r.'!F484","v":0},{"$f":"'Wniosek 2026 r.'!H484","v":0},{"$f":"'Wniosek 2026 r.'!C638","v":0},{"$f":"'Wniosek 2026 r.'!C793","v":0},{"$f":"'Wniosek 2026 r.'!C948","v":0},{"$f":"'Wniosek 2026 r.'!E948","v":0},{"$f":"'Wniosek 2026 r.'!C1102","v":0},{"$f":"'Wniosek 2026 r.'!D1102","v":0},{"$f":"'Wniosek 2026 r.'!G1102","v":0}]
[{"$f":"'Wniosek 2026 r.'!A166","v":128},{"$f":"'Wniosek 2026 r.'!B166","v":0},{"$f":"'Wniosek 2026 r.'!C166","v":0},{"$f":"'Wniosek 2026 r.'!D166","v":0},{"$f":"'Wniosek 2026 r.'!E166","v":0},{"$f":"'Wniosek 2026 r.'!F166","v":0},{"$f":"'Wniosek 2026 r.'!G166","v":0},{"$f":"'Wniosek 2026 r.'!H166","v":"00:00:00"},{"$f":"'Wniosek 2026 r.'!C329","v":0},{"$f":"'Wniosek 2026 r.'!C485","v":0},{"$f":"'Wniosek 2026 r.'!D485","v":0},{"$f":"'Wniosek 2026 r.'!F485","v":0},{"$f":"'Wniosek 2026 r.'!H485","v":0},{"$f":"'Wniosek 2026 r.'!C639","v":0},{"$f":"'Wniosek 2026 r.'!C794","v":0},{"$f":"'Wniosek 2026 r.'!C949","v":0},{"$f":"'Wniosek 2026 r.'!E949","v":0},{"$f":"'Wniosek 2026 r.'!C1103","v":0},{"$f":"'Wniosek 2026 r.'!D1103","v":0},{"$f":"'Wniosek 2026 r.'!G1103","v":0}]
[{"$f":"'Wniosek 2026 r.'!A167","v":129},{"$f":"'Wniosek 2026 r.'!B167","v":0},{"$f":"'Wniosek 2026 r.'!C167","v":0},{"$f":"'Wniosek 2026 r.'!D167","v":0},{"$f":"'Wniosek 2026 r.'!E167","v":0},{"$f":"'Wniosek 2026 r.'!F167","v":0},{"$f":"'Wniosek 2026 r.'!G167","v":0},{"$f":"'Wniosek 2026 r.'!H167","v":"00:00:00"},{"$f":"'Wniosek 2026 r.'!C330","v":0},{"$f":"'Wniosek 2026 r.'!C486","v":0},{"$f":"'Wniosek 2026 r.'!D486","v":0},{"$f":"'Wniosek 2026 r.'!F486","v":0},{"$f":"'Wniosek 2026 r.'!H486","v":0},{"$f":"'Wniosek 2026 r.'!C640","v":0},{"$f":"'Wniosek 2026 r.'!C795","v":0},{"$f":"'Wniosek 2026 r.'!C950","v":0},{"$f":"'Wniosek 2026 r.'!E950","v":0},{"$f":"'Wniosek 2026 r.'!C1104","v":0},{"$f":"'Wniosek 2026 r.'!D1104","v":0},{"$f":"'Wniosek 2026 r.'!G1104","v":0}]
[{"$f":"'Wniosek 2026 r.'!A168","v":130},{"$f":"'Wniosek 2026 r.'!B168","v":0},{"$f":"'Wniosek 2026 r.'!C168","v":0},{"$f":"'Wniosek 2026 r.'!D168","v":0},{"$f":"'Wniosek 2026 r.'!E168","v":0},{"$f":"'Wniosek 2026 r.'!F168","v":0},{"$f":"'Wniosek 2026 r.'!G168","v":0},{"$f":"'Wniosek 2026 r.'!H168","v":"00:00:00"},{"$f":"'Wniosek 2026 r.'!C331","v":0},{"$f":"'Wniosek 2026 r.'!C487","v":0},{"$f":"'Wniosek 2026 r.'!D487","v":0},{"$f":"'Wniosek 2026 r.'!F487","v":0},{"$f":"'Wniosek 2026 r.'!H487","v":0},{"$f":"'Wniosek 2026 r.'!C641","v":0},{"$f":"'Wniosek 2026 r.'!C796","v":0},{"$f":"'Wniosek 2026 r.'!C951","v":0},{"$f":"'Wniosek 2026 r.'!E951","v":0},{"$f":"'Wniosek 2026 r.'!C1105","v":0},{"$f":"'Wniosek 2026 r.'!D1105","v":0},{"$f":"'Wniosek 2026 r.'!G1105","v":0}]
[{"$f":"'Wniosek 2026 r.'!A169","v":131},{"$f":"'Wniosek 2026 r.'!B169","v":0},{"$f":"'Wniosek 2026 r.'!C169","v":0},{"$f":"'Wniosek 2026 r.'!D169","v":0},{"$f":"'Wniosek 2026 r.'!E169","v":0},{"$f":"'Wniosek 2026 r.'!F169","v":0},{"$f":"'Wniosek 2026 r.'!G169","v":0},{"$f":"'Wniosek 2026 r.'!H169","v":"00:00:00"},{"$f":"'Wniosek 2026 r.'!C332","v":0},{"$f":"'Wniosek 2026 r.'!C488","v":0},{"$f":"'Wniosek 2026 r.'!D488","v":0},{"$f":"'Wniosek 2026 r.'!F488","v":0},{"$f":"'Wniosek 2026 r.'!H488","v":0},{"$f":"'Wniosek 2026 r.'!C642","v":0},{"$f":"'Wniosek 2026 r.'!C797","v":0},{"$f":"'Wniosek 2026 r.'!C952","v":0},{"$f":"'Wniosek 2026 r.'!E952","v":0},{"$f":"'Wniosek 2026 r.'!C1106","v":0},{"$f":"'Wniosek 2026 r.'!D1106","v":0},{"$f":"'Wniosek 2026 r.'!G1106","v":0}]
[{"$f":"'Wniosek 2026 r.'!A170","v":132},{"$f":"'Wniosek 2026 r.'!B170","v":0},{"$f":"'Wniosek 2026 r.'!C170","v":0},{"$f":"'Wniosek 2026 r.'!D170","v":0},{"$f":"'Wniosek 2026 r.'!E170","v":0},{"$f":"'Wniosek 2026 r.'!F170","v":0},{"$f":"'Wniosek 2026 r.'!G170","v":0},{"$f":"'Wniosek 2026 r.'!H170","v":"00:00:00"},{"$f":"'Wniosek 2026 r.'!C333","v":0},{"$f":"'Wniosek 2026 r.'!C489","v":0},{"$f":"'Wniosek 2026 r.'!D489","v":0},{"$f":"'Wniosek 2026 r.'!F489","v":0},{"$f":"'Wniosek 2026 r.'!H489","v":0},{"$f":"'Wniosek 2026 r.'!C643","v":0},{"$f":"'Wniosek 2026 r.'!C798","v":0},{"$f":"'Wniosek 2026 r.'!C953","v":0},{"$f":"'Wniosek 2026 r.'!E953","v":0},{"$f":"'Wniosek 2026 r.'!C1107","v":0},{"$f":"'Wniosek 2026 r.'!D1107","v":0},{"$f":"'Wniosek 2026 r.'!G1107","v":0}]
[{"$f":"'Wniosek 2026 r.'!A171","v":133},{"$f":"'Wniosek 2026 r.'!B171","v":0},{"$f":"'Wniosek 2026 r.'!C171","v":0},{"$f":"'Wniosek 2026 r.'!D171","v":0},{"$f":"'Wniosek 2026 r.'!E171","v":0},{"$f":"'Wniosek 2026 r.'!F171","v":0},{"$f":"'Wniosek 2026 r.'!G171","v":0},{"$f":"'Wniosek 2026 r.'!H171","v":"00:00:00"},{"$f":"'Wniosek 2026 r.'!C334","v":0},{"$f":"'Wniosek 2026 r.'!C490","v":0},{"$f":"'Wniosek 2026 r.'!D490","v":0},{"$f":"'Wniosek 2026 r.'!F490","v":0},{"$f":"'Wniosek 2026 r.'!H490","v":0},{"$f":"'Wniosek 2026 r.'!C644","v":0},{"$f":"'Wniosek 2026 r.'!C799","v":0},{"$f":"'Wniosek 2026 r.'!C954","v":0},{"$f":"'Wniosek 2026 r.'!E954","v":0},{"$f":"'Wniosek 2026 r.'!C1108","v":0},{"$f":"'Wniosek 2026 r.'!D1108","v":0},{"$f":"'Wniosek 2026 r.'!G1108","v":0}]
[{"$f":"'Wniosek 2026 r.'!A172","v":134},{"$f":"'Wniosek 2026 r.'!B172","v":0},{"$f":"'Wniosek 2026 r.'!C172","v":0},{"$f":"'Wniosek 2026 r.'!D172","v":0},{"$f":"'Wniosek 2026 r.'!E172","v":0},{"$f":"'Wniosek 2026 r.'!F172","v":0},{"$f":"'Wniosek 2026 r.'!G172","v":0},{"$f":"'Wniosek 2026 r.'!H172","v":"00:00:00"},{"$f":"'Wniosek 2026 r.'!C335","v":0},{"$f":"'Wniosek 2026 r.'!C491","v":0},{"$f":"'Wniosek 2026 r.'!D491","v":0},{"$f":"'Wniosek 2026 r.'!F491","v":0},{"$f":"'Wniosek 2026 r.'!H491","v":0},{"$f":"'Wniosek 2026 r.'!C645","v":0},{"$f":"'Wniosek 2026 r.'!C800","v":0},{"$f":"'Wniosek 2026 r.'!C955","v":0},{"$f":"'Wniosek 2026 r.'!E955","v":0},{"$f":"'Wniosek 2026 r.'!C1109","v":0},{"$f":"'Wniosek 2026 r.'!D1109","v":0},{"$f":"'Wniosek 2026 r.'!G1109","v":0}]
[{"$f":"'Wniosek 2026 r.'!A173","v":135},{"$f":"'Wniosek 2026 r.'!B173","v":0},{"$f":"'Wniosek 2026 r.'!C173","v":0},{"$f":"'Wniosek 2026 r.'!D173","v":0},{"$f":"'Wniosek 2026 r.'!E173","v":0},{"$f":"'Wniosek 2026 r.'!F173","v":0},{"$f":"'Wniosek 2026 r.'!G173","v":0},{"$f":"'Wniosek 2026 r.'!H173","v":"00:00:00"},{"$f":"'Wniosek 2026 r.'!C336","v":0},{"$f":"'Wniosek 2026 r.'!C492","v":0},{"$f":"'Wniosek 2026 r.'!D492","v":0},{"$f":"'Wniosek 2026 r.'!F492","v":0},{"$f":"'Wniosek 2026 r.'!H492","v":0},{"$f":"'Wniosek 2026 r.'!C646","v":0},{"$f":"'Wniosek 2026 r.'!C801","v":0},{"$f":"'Wniosek 2026 r.'!C956","v":0},{"$f":"'Wniosek 2026 r.'!E956","v":0},{"$f":"'Wniosek 2026 r.'!C1110","v":0},{"$f":"'Wniosek 2026 r.'!D1110","v":0},{"$f":"'Wniosek 2026 r.'!G1110","v":0}]
[{"$f":"'Wniosek 2026 r.'!A174","v":136},{"$f":"'Wniosek 2026 r.'!B174","v":0},{"$f":"'Wniosek 2026 r.'!C174","v":0},{"$f":"'Wniosek 2026 r.'!D174","v":0},{"$f":"'Wniosek 2026 r.'!E174","v":0},{"$f":"'Wniosek 2026 r.'!F174","v":0},{"$f":"'Wniosek 2026 r.'!G174","v":0},{"$f":"'Wniosek 2026 r.'!H174","v":"00:00:00"},{"$f":"'Wniosek 2026 r.'!C337","v":0},{"$f":"'Wniosek 2026 r.'!C493","v":0},{"$f":"'Wniosek 2026 r.'!D493","v":0},{"$f":"'Wniosek 2026 r.'!F493","v":0},{"$f":"'Wniosek 2026 r.'!H493","v":0},{"$f":"'Wniosek 2026 r.'!C647","v":0},{"$f":"'Wniosek 2026 r.'!C802","v":0},{"$f":"'Wniosek 2026 r.'!C957","v":0},{"$f":"'Wniosek 2026 r.'!E957","v":0},{"$f":"'Wniosek 2026 r.'!C1111","v":0},{"$f":"'Wniosek 2026 r.'!D1111","v":0},{"$f":"'Wniosek 2026 r.'!G1111","v":0}]
[{"$f":"'Wniosek 2026 r.'!A175","v":137},{"$f":"'Wniosek 2026 r.'!B175","v":0},{"$f":"'Wniosek 2026 r.'!C175","v":0},{"$f":"'Wniosek 2026 r.'!D175","v":0},{"$f":"'Wniosek 2026 r.'!E175","v":0},{"$f":"'Wniosek 2026 r.'!F175","v":0},{"$f":"'Wniosek 2026 r.'!G175","v":0},{"$f":"'Wniosek 2026 r.'!H175","v":"00:00:00"},{"$f":"'Wniosek 2026 r.'!C338","v":0},{"$f":"'Wniosek 2026 r.'!C494","v":0},{"$f":"'Wniosek 2026 r.'!D494","v":0},{"$f":"'Wniosek 2026 r.'!F494","v":0},{"$f":"'Wniosek 2026 r.'!H494","v":0},{"$f":"'Wniosek 2026 r.'!C648","v":0},{"$f":"'Wniosek 2026 r.'!C803","v":0},{"$f":"'Wniosek 2026 r.'!C958","v":0},{"$f":"'Wniosek 2026 r.'!E958","v":0},{"$f":"'Wniosek 2026 r.'!C1112","v":0},{"$f":"'Wniosek 2026 r.'!D1112","v":0},{"$f":"'Wniosek 2026 r.'!G1112","v":0}]
[{"$f":"'Wniosek 2026 r.'!A176","v":138},{"$f":"'Wniosek 2026 r.'!B176","v":0},{"$f":"'Wniosek 2026 r.'!C176","v":0},{"$f":"'Wniosek 2026 r.'!D176","v":0},{"$f":"'Wniosek 2026 r.'!E176","v":0},{"$f":"'Wniosek 2026 r.'!F176","v":0},{"$f":"'Wniosek 2026 r.'!G176","v":0},{"$f":"'Wniosek 2026 r.'!H176","v":"00:00:00"},{"$f":"'Wniosek 2026 r.'!C339","v":0},{"$f":"'Wniosek 2026 r.'!C495","v":0},{"$f":"'Wniosek 2026 r.'!D495","v":0},{"$f":"'Wniosek 2026 r.'!F495","v":0},{"$f":"'Wniosek 2026 r.'!H495","v":0},{"$f":"'Wniosek 2026 r.'!C649","v":0},{"$f":"'Wniosek 2026 r.'!C804","v":0},{"$f":"'Wniosek 2026 r.'!C959","v":0},{"$f":"'Wniosek 2026 r.'!E959","v":0},{"$f":"'Wniosek 2026 r.'!C1113","v":0},{"$f":"'Wniosek 2026 r.'!D1113","v":0},{"$f":"'Wniosek 2026 r.'!G1113","v":0}]
[{"$f":"'Wniosek 2026 r.'!A177","v":139},{"$f":"'Wniosek 2026 r.'!B177","v":0},{"$f":"'Wniosek 2026 r.'!C177","v":0},{"$f":"'Wniosek 2026 r.'!D177","v":0},{"$f":"'Wniosek 2026 r.'!E177","v":0},{"$f":"'Wniosek 2026 r.'!F177","v":0},{"$f":"'Wniosek 2026 r.'!G177","v":0},{"$f":"'Wniosek 2026 r.'!H177","v":"00:00:00"},{"$f":"'Wniosek 2026 r.'!C340","v":0},{"$f":"'Wniosek 2026 r.'!C496","v":0},{"$f":"'Wniosek 2026 r.'!D496","v":0},{"$f":"'Wniosek 2026 r.'!F496","v":0},{"$f":"'Wniosek 2026 r.'!H496","v":0},{"$f":"'Wniosek 2026 r.'!C650","v":0},{"$f":"'Wniosek 2026 r.'!C805","v":0},{"$f":"'Wniosek 2026 r.'!C960","v":0},{"$f":"'Wniosek 2026 r.'!E960","v":0},{"$f":"'Wniosek 2026 r.'!C1114","v":0},{"$f":"'Wniosek 2026 r.'!D1114","v":0},{"$f":"'Wniosek 2026 r.'!G1114","v":0}]
[{"$f":"'Wniosek 2026 r.'!A178","v":140},{"$f":"'Wniosek 2026 r.'!B178","v":0},{"$f":"'Wniosek 2026 r.'!C178","v":0},{"$f":"'Wniosek 2026 r.'!D178","v":0},{"$f":"'Wniosek 2026 r.'!E178","v":0},{"$f":"'Wniosek 2026 r.'!F178","v":0},{"$f":"'Wniosek 2026 r.'!G178","v":0},{"$f":"'Wniosek 2026 r.'!H178","v":"00:00:00"},{"$f":"'Wniosek 2026 r.'!C341","v":0},{"$f":"'Wniosek 2026 r.'!C497","v":0},{"$f":"'Wniosek 2026 r.'!D497","v":0},{"$f":"'Wniosek 2026 r.'!F497","v":0},{"$f":"'Wniosek 2026 r.'!H497","v":0},{"$f":"'Wniosek 2026 r.'!C651","v":0},{"$f":"'Wniosek 2026 r.'!C806","v":0},{"$f":"'Wniosek 2026 r.'!C961","v":0},{"$f":"'Wniosek 2026 r.'!E961","v":0},{"$f":"'Wniosek 2026 r.'!C1115","v":0},{"$f":"'Wniosek 2026 r.'!D1115","v":0},{"$f":"'Wniosek 2026 r.'!G1115","v":0}]
[{"$f":"'Wniosek 2026 r.'!A179","v":141},{"$f":"'Wniosek 2026 r.'!B179","v":0},{"$f":"'Wniosek 2026 r.'!C179","v":0},{"$f":"'Wniosek 2026 r.'!D179","v":0},{"$f":"'Wniosek 2026 r.'!E179","v":0},{"$f":"'Wniosek 2026 r.'!F179","v":0},{"$f":"'Wniosek 2026 r.'!G179","v":0},{"$f":"'Wniosek 2026 r.'!H179","v":"00:00:00"},{"$f":"'Wniosek 2026 r.'!C342","v":0},{"$f":"'Wniosek 2026 r.'!C498","v":0},{"$f":"'Wniosek 2026 r.'!D498","v":0},{"$f":"'Wniosek 2026 r.'!F498","v":0},{"$f":"'Wniosek 2026 r.'!H498","v":0},{"$f":"'Wniosek 2026 r.'!C652","v":0},{"$f":"'Wniosek 2026 r.'!C807","v":0},{"$f":"'Wniosek 2026 r.'!C962","v":0},{"$f":"'Wniosek 2026 r.'!E962","v":0},{"$f":"'Wniosek 2026 r.'!C1116","v":0},{"$f":"'Wniosek 2026 r.'!D1116","v":0},{"$f":"'Wniosek 2026 r.'!G1116","v":0}]
[{"$f":"'Wniosek 2026 r.'!A180","v":142},{"$f":"'Wniosek 2026 r.'!B180","v":0},{"$f":"'Wniosek 2026 r.'!C180","v":0},{"$f":"'Wniosek 2026 r.'!D180","v":0},{"$f":"'Wniosek 2026 r.'!E180","v":0},{"$f":"'Wniosek 2026 r.'!F180","v":0},{"$f":"'Wniosek 2026 r.'!G180","v":0},{"$f":"'Wniosek 2026 r.'!H180","v":"00:00:00"},{"$f":"'Wniosek 2026 r.'!C343","v":0},{"$f":"'Wniosek 2026 r.'!C499","v":0},{"$f":"'Wniosek 2026 r.'!D499","v":0},{"$f":"'Wniosek 2026 r.'!F499","v":0},{"$f":"'Wniosek 2026 r.'!H499","v":0},{"$f":"'Wniosek 2026 r.'!C653","v":0},{"$f":"'Wniosek 2026 r.'!C808","v":0},{"$f":"'Wniosek 2026 r.'!C963","v":0},{"$f":"'Wniosek 2026 r.'!E963","v":0},{"$f":"'Wniosek 2026 r.'!C1117","v":0},{"$f":"'Wniosek 2026 r.'!D1117","v":0},{"$f":"'Wniosek 2026 r.'!G1117","v":0}]
[{"$f":"'Wniosek 2026 r.'!A181","v":143},{"$f":"'Wniosek 2026 r.'!B181","v":0},{"$f":"'Wniosek 2026 r.'!C181","v":0},{"$f":"'Wniosek 2026 r.'!D181","v":0},{"$f":"'Wniosek 2026 r.'!E181","v":0},{"$f":"'Wniosek 2026 r.'!F181","v":0},{"$f":"'Wniosek 2026 r.'!G181","v":0},{"$f":"'Wniosek 2026 r.'!H181","v":"00:00:00"},{"$f":"'Wniosek 2026 r.'!C344","v":0},{"$f":"'Wniosek 2026 r.'!C500","v":0},{"$f":"'Wniosek 2026 r.'!D500","v":0},{"$f":"'Wniosek 2026 r.'!F500","v":0},{"$f":"'Wniosek 2026 r.'!H500","v":0},{"$f":"'Wniosek 2026 r.'!C654","v":0},{"$f":"'Wniosek 2026 r.'!C809","v":0},{"$f":"'Wniosek 2026 r.'!C964","v":0},{"$f":"'Wniosek 2026 r.'!E964","v":0},{"$f":"'Wniosek 2026 r.'!C1118","v":0},{"$f":"'Wniosek 2026 r.'!D1118","v":0},{"$f":"'Wniosek 2026 r.'!G1118","v":0}]
[{"$f":"'Wniosek 2026 r.'!A182","v":144},{"$f":"'Wniosek 2026 r.'!B182","v":0},{"$f":"'Wniosek 2026 r.'!C182","v":0},{"$f":"'Wniosek 2026 r.'!D182","v":0},{"$f":"'Wniosek 2026 r.'!E182","v":0},{"$f":"'Wniosek 2026 r.'!F182","v":0},{"$f":"'Wniosek 2026 r.'!G182","v":0},{"$f":"'Wniosek 2026 r.'!H182","v":"00:00:00"},{"$f":"'Wniosek 2026 r.'!C345","v":0},{"$f":"'Wniosek 2026 r.'!C501","v":0},{"$f":"'Wniosek 2026 r.'!D501","v":0},{"$f":"'Wniosek 2026 r.'!F501","v":0},{"$f":"'Wniosek 2026 r.'!H501","v":0},{"$f":"'Wniosek 2026 r.'!C655","v":0},{"$f":"'Wniosek 2026 r.'!C810","v":0},{"$f":"'Wniosek 2026 r.'!C965","v":0},{"$f":"'Wniosek 2026 r.'!E965","v":0},{"$f":"'Wniosek 2026 r.'!C1119","v":0},{"$f":"'Wniosek 2026 r.'!D1119","v":0},{"$f":"'Wniosek 2026 r.'!G1119","v":0}]
[{"$f":"'Wniosek 2026 r.'!A183","v":145},{"$f":"'Wniosek 2026 r.'!B183","v":0},{"$f":"'Wniosek 2026 r.'!C183","v":0},{"$f":"'Wniosek 2026 r.'!D183","v":0},{"$f":"'Wniosek 2026 r.'!E183","v":0},{"$f":"'Wniosek 2026 r.'!F183","v":0},{"$f":"'Wniosek 2026 r.'!G183","v":0},{"$f":"'Wniosek 2026 r.'!H183","v":"00:00:00"},{"$f":"'Wniosek 2026 r.'!C346","v":0},{"$f":"'Wniosek 2026 r.'!C502","v":0},{"$f":"'Wniosek 2026 r.'!D502","v":0},{"$f":"'Wniosek 2026 r.'!F502","v":0},{"$f":"'Wniosek 2026 r.'!H502","v":0},{"$f":"'Wniosek 2026 r.'!C656","v":0},{"$f":"'Wniosek 2026 r.'!C811","v":0},{"$f":"'Wniosek 2026 r.'!C966","v":0},{"$f":"'Wniosek 2026 r.'!E966","v":0},{"$f":"'Wniosek 2026 r.'!C1120","v":0},{"$f":"'Wniosek 2026 r.'!D1120","v":0},{"$f":"'Wniosek 2026 r.'!G1120","v":0}]
[{"$f":"'Wniosek 2026 r.'!A184","v":146},{"$f":"'Wniosek 2026 r.'!B184","v":0},{"$f":"'Wniosek 2026 r.'!C184","v":0},{"$f":"'Wniosek 2026 r.'!D184","v":0},{"$f":"'Wniosek 2026 r.'!E184","v":0},{"$f":"'Wniosek 2026 r.'!F184","v":0},{"$f":"'Wniosek 2026 r.'!G184","v":0},{"$f":"'Wniosek 2026 r.'!H184","v":"00:00:00"},{"$f":"'Wniosek 2026 r.'!C347","v":0},{"$f":"'Wniosek 2026 r.'!C503","v":0},{"$f":"'Wniosek 2026 r.'!D503","v":0},{"$f":"'Wniosek 2026 r.'!F503","v":0},{"$f":"'Wniosek 2026 r.'!H503","v":0},{"$f":"'Wniosek 2026 r.'!C657","v":0},{"$f":"'Wniosek 2026 r.'!C812","v":0},{"$f":"'Wniosek 2026 r.'!C967","v":0},{"$f":"'Wniosek 2026 r.'!E967","v":0},{"$f":"'Wniosek 2026 r.'!C1121","v":0},{"$f":"'Wniosek 2026 r.'!D1121","v":0},{"$f":"'Wniosek 2026 r.'!G1121","v":0}]
[{"$f":"'Wniosek 2026 r.'!A185","v":147},{"$f":"'Wniosek 2026 r.'!B185","v":0},{"$f":"'Wniosek 2026 r.'!C185","v":0},{"$f":"'Wniosek 2026 r.'!D185","v":0},{"$f":"'Wniosek 2026 r.'!E185","v":0},{"$f":"'Wniosek 2026 r.'!F185","v":0},{"$f":"'Wniosek 2026 r.'!G185","v":0},{"$f":"'Wniosek 2026 r.'!H185","v":"00:00:00"},{"$f":"'Wniosek 2026 r.'!C348","v":0},{"$f":"'Wniosek 2026 r.'!C504","v":0},{"$f":"'Wniosek 2026 r.'!D504","v":0},{"$f":"'Wniosek 2026 r.'!F504","v":0},{"$f":"'Wniosek 2026 r.'!H504","v":0},{"$f":"'Wniosek 2026 r.'!C658","v":0},{"$f":"'Wniosek 2026 r.'!C813","v":0},{"$f":"'Wniosek 2026 r.'!C968","v":0},{"$f":"'Wniosek 2026 r.'!E968","v":0},{"$f":"'Wniosek 2026 r.'!C1122","v":0},{"$f":"'Wniosek 2026 r.'!D1122","v":0},{"$f":"'Wniosek 2026 r.'!G1122","v":0}]
[{"$f":"'Wniosek 2026 r.'!A186","v":148},{"$f":"'Wniosek 2026 r.'!B186","v":0},{"$f":"'Wniosek 2026 r.'!C186","v":0},{"$f":"'Wniosek 2026 r.'!D186","v":0},{"$f":"'Wniosek 2026 r.'!E186","v":0},{"$f":"'Wniosek 2026 r.'!F186","v":0},{"$f":"'Wniosek 2026 r.'!G186","v":0},{"$f":"'Wniosek 2026 r.'!H186","v":"00:00:00"},{"$f":"'Wniosek 2026 r.'!C349","v":0},{"$f":"'Wniosek 2026 r.'!C505","v":0},{"$f":"'Wniosek 2026 r.'!D505","v":0},{"$f":"'Wniosek 2026 r.'!F505","v":0},{"$f":"'Wniosek 2026 r.'!H505","v":0},{"$f":"'Wniosek 2026 r.'!C659","v":0},{"$f":"'Wniosek 2026 r.'!C814","v":0},{"$f":"'Wniosek 2026 r.'!C969","v":0},{"$f":"'Wniosek 2026 r.'!E969","v":0},{"$f":"'Wniosek 2026 r.'!C1123","v":0},{"$f":"'Wniosek 2026 r.'!D1123","v":0},{"$f":"'Wniosek 2026 r.'!G1123","v":0}]
[{"$f":"'Wniosek 2026 r.'!A187","v":149},{"$f":"'Wniosek 2026 r.'!B187","v":0},{"$f":"'Wniosek 2026 r.'!C187","v":0},{"$f":"'Wniosek 2026 r.'!D187","v":0},{"$f":"'Wniosek 2026 r.'!E187","v":0},{"$f":"'Wniosek 2026 r.'!F187","v":0},{"$f":"'Wniosek 2026 r.'!G187","v":0},{"$f":"'Wniosek 2026 r.'!H187","v":"00:00:00"},{"$f":"'Wniosek 2026 r.'!C350","v":0},{"$f":"'Wniosek 2026 r.'!C506","v":0},{"$f":"'Wniosek 2026 r.'!D506","v":0},{"$f":"'Wniosek 2026 r.'!F506","v":0},{"$f":"'Wniosek 2026 r.'!H506","v":0},{"$f":"'Wniosek 2026 r.'!C660","v":0},{"$f":"'Wniosek 2026 r.'!C815","v":0},{"$f":"'Wniosek 2026 r.'!C970","v":0},{"$f":"'Wniosek 2026 r.'!E970","v":0},{"$f":"'Wniosek 2026 r.'!C1124","v":0},{"$f":"'Wniosek 2026 r.'!D1124","v":0},{"$f":"'Wniosek 2026 r.'!G1124","v":0}]
[{"$f":"'Wniosek 2026 r.'!A188","v":150},{"$f":"'Wniosek 2026 r.'!B188","v":0},{"$f":"'Wniosek 2026 r.'!C188","v":0},{"$f":"'Wniosek 2026 r.'!D188","v":0},{"$f":"'Wniosek 2026 r.'!E188","v":0},{"$f":"'Wniosek 2026 r.'!F188","v":0},{"$f":"'Wniosek 2026 r.'!G188","v":0},{"$f":"'Wniosek 2026 r.'!H188","v":"00:00:00"},{"$f":"'Wniosek 2026 r.'!C351","v":0},{"$f":"'Wniosek 2026 r.'!C507","v":0},{"$f":"'Wniosek 2026 r.'!D507","v":0},{"$f":"'Wniosek 2026 r.'!F507","v":0},{"$f":"'Wniosek 2026 r.'!H507","v":0},{"$f":"'Wniosek 2026 r.'!C661","v":0},{"$f":"'Wniosek 2026 r.'!C816","v":0},{"$f":"'Wniosek 2026 r.'!C971","v":0},{"$f":"'Wniosek 2026 r.'!E971","v":0},{"$f":"'Wniosek 2026 r.'!C1125","v":0},{"$f":"'Wniosek 2026 r.'!D1125","v":0},{"$f":"'Wniosek 2026 r.'!G1125","v":0}]

{"sheet":"Dane ogólne","index":8,"n_rows":2,"n_cols":45,"rows_kept":2,"cut":false,"hidden":true,"merged":[]}
[{"$f":"'Dane zbiorcze'!A1","v":"Nazwa organizatora publicznego transportu zbiorowego"},{"$f":"'Dane zbiorcze'!B1","v":"NIP"},{"$f":"'Dane zbiorcze'!C1","v":"REGON"},{"$f":"'Dane zbiorcze'!D1","v":"Adres"},{"$f":"'Dane zbiorcze'!E1","v":"Powiat"},{"$f":"'Dane zbiorcze'!F1","v":"Województwo"},{"$f":"'Dane zbiorcze'!G1","v":"Imię"},{"$f":"'Dane zbiorcze'!H1","v":"Nazwisko"},{"$f":"'Dane zbiorcze'!I1","v":"Telefon "},{"$f":"'Dane zbiorcze'!J1","v":"Adres e-mail"},{"$f":"'Dane zbiorcze'!K1","v":"Organizator"},{"$f":"'Dane zbiorcze'!L1","v":"Kod TERYT (TERC) organizatora publicznego transportu zbiorowego:"},{"$f":"'Wniosek 2026 r.'!F27","v":"Województwo"},{"$f":"'Dane zbiorcze'!N1","v":"Powiat"},{"$f":"'Dane zbiorcze'!O1","v":"Gmina"},{"$f":"'Dane zbiorcze'!P1","v":"Rodzaj"},{"$f":"'Dane zbiorcze'!Q1","v":"Liczba jednostek samorządu terytorialnego objętych porozumieniami lub wchodzących w skład związku:"},{"$f":"'Dane zbiorcze'!R1","v":"Liczba gmin na obszarze których będą realizowane przewozy z wykorzystaniem środków Funduszu:"},{"$f":"'Dane zbiorcze'!S1","v":"Liczba mieszkańców gmin na obszarze których będą realizowane przewozy z wykorzystaniem środków Funduszu:"},{"$f":"'Wniosek 2026 r.'!B31","v":"Liczba linii komunikacyjnych na które organizator występuje o objęcie dopłatą:"},{"$f":"'Wniosek 2026 r.'!B32","v":"NRB - numer rachunku bankowego (bez kodu kraju):"},{"$f":"'Dane zbiorcze'!V1","v":"Nazwa banku:"},{"$f":"'Dane zbiorcze'!AO1","v":"Ogółem dł linii"},{"$f":"'Dane zbiorcze'!AP1","v":"Ogółem liczba zatrzymań 2026"},{"$f":"'Dane zbiorcze'!AQ1","v":"Ogółem częstotliwość 2026"},{"$f":"'Dane zbiorcze'!AR1","v":"Ogółem liczba wzkm 2026"},{"$f":"'Dane zbiorcze'!AS1","v":"Ogółem śr własne 2026"},{"$f":"'Dane zbiorcze'!AT1","v":"Ogółem deficyt 2026"},{"$f":"'Dane zbiorcze'!AU1","v":"Ogółem Dopłata 2026"},{"$f":"'Dane zbiorcze'!AV1","v":"Ogółem niepełnosprawni"},{"$f":"'Dane zbiorcze'!AW1","v":"Ogółem przystanki"},{"$f":"'Dane zbiorcze'!AX1","v":"Ogółem ogrzewalnie"},{"$f":"'Dane zbiorcze'!AY1","v":"Data"},{"$f":"'Wniosek 2026 r.'!A1158","v":"Nr sprawy w MUW: "},"Podpis organizator wniosek","Podpis skarbnik wniosek","Podpis organizator oświadczenia","Podpis skarbnik oświadczenia","Podpis organizator kalkulacja","Podpis skarbnik kalkulacja","Podpis organizator dane osób","podpis organizator zał nr 5 -jednostki",{"$f":"'Wniosek 2026 r.'!B24","v":"Rodzaj wniosku:"},{"$f":"'Wniosek 2026 r.'!A1160","v":"Uwagi:"},"Wersja"]
[{"$f":"'Wniosek 2026 r.'!C5","v":"Proszę wybrać nr NIP z listy rozwijanej"},{"$f":"'Wniosek 2026 r.'!C4","v":0},{"$f":"'Wniosek 2026 r.'!C6","v":"Proszę wybrać nr NIP z listy rozwijanej"},{"$f":"'Wniosek 2026 r.'!C7","v":"Proszę wybrać nr NIP z listy rozwijanej"},{"$f":"'Wniosek 2026 r.'!C8","v":"Proszę wybrać nr NIP z listy rozwijanej"},{"$f":"'Wniosek 2026 r.'!C9","v":"mazowieckie"},{"$f":"'Wniosek 2026 r.'!C11","v":0},{"$f":"'Wniosek 2026 r.'!C12","v":0},{"$f":"'Wniosek 2026 r.'!C13","v":0},{"$f":"'Wniosek 2026 r.'!C14","v":0},{"$f":"'Wniosek 2026 r.'!F25","v":0},{"$f":"_xlfn.CONCAT('Wniosek 2026 r.'!F26,'Wniosek 2026 r.'!G26,'Wniosek 2026 r.'!H26,'Wniosek 2026 r.'!I26)","v":"14"},{"$f":"'Wniosek 2026 r.'!F26","v":14},{"$f":"'Wniosek 2026 r.'!G26","v":0},{"$f":"'Wniosek 2026 r.'!H26","v":0},{"$f":"'Wniosek 2026 r.'!I26","v":0},{"$f":"'Wniosek 2026 r.'!F28","v":0},{"$f":"'Wniosek 2026 r.'!F29","v":0},{"$f":"'Wniosek 2026 r.'!F30","v":0},{"$f":"'Wniosek 2026 r.'!F31","v":0},{"$f":"'Wniosek 2026 r.'!F32","v":0},{"$f":"'Wniosek 2026 r.'!F33","v":0},{"$f":"'Wniosek 2026 r.'!E189","v":0},{"$f":"'Wniosek 2026 r.'!F189","v":0},{"$f":"'Wniosek 2026 r.'!G189","v":0},{"$f":"'Wniosek 2026 r.'!C352","v":0},{"$f":"'Wniosek 2026 r.'!H508","v":0},{"$f":"'Wniosek 2026 r.'!C662","v":0},{"$f":"'Wniosek 2026 r.'!C817","v":0},{"$f":"'Wniosek 2026 r.'!C972","v":0},{"$f":"'Wniosek 2026 r.'!E972","v":0},{"$f":"'Wniosek 2026 r.'!C1126","v":0},{"$f":"'Wniosek 2026 r.'!G1","v":"00:00:00"},{"$f":"'Wniosek 2026 r.'!A1159","v":0},{"$f":"'Wniosek 2026 r.'!D1128","v":0},{"$f":"'Wniosek 2026 r.'!D1132","v":0},{"$f":"'Zał. nr 1 a-e oświadczenia'!D27","v":0},{"$f":"'Zał. nr 1 a-e oświadczenia'!D30","v":0},{"$f":"'Zał. nr 2 kalkulacja - 2026 r.'!I180","v":0},{"$f":"'Zał. nr 2 kalkulacja - 2026 r.'!I184","v":0},{"$f":"'Zał. nr 4 dane osób'!D37","v":0},{"$f":"'Zał. nr 5 jednostki'!D328","v":0},{"$f":"'Wniosek 2026 r.'!F24","v":0},{"$f":"'Wniosek 2026 r.'!C1160","v":0},{"$f":"'Wniosek 2026 r.'!A1161","v":"ver. 1.1"}]

{"sheet":"Dane zbiorcze","index":9,"n_rows":151,"n_cols":51,"rows_kept":151,"cut":false,"hidden":true,"merged":[]}
["Nazwa organizatora publicznego transportu zbiorowego","NIP","REGON","Adres","Powiat","Województwo","Imię","Nazwisko","Telefon ","Adres e-mail","Organizator",{"$f":"'Wniosek 2026 r.'!B26","v":"Kod TERYT (TERC) organizatora publicznego transportu zbiorowego:"},{"$f":"'Wniosek 2026 r.'!F27","v":"Województwo"},{"$f":"'Wniosek 2026 r.'!G27","v":"Powiat"},{"$f":"'Wniosek 2026 r.'!H27","v":"Gmina"},{"$f":"'Wniosek 2026 r.'!I27","v":"Rodzaj"},{"$f":"'Wniosek 2026 r.'!B28","v":"Liczba jednostek samorządu terytorialnego objętych porozumieniami lub wchodzących w skład związku:"},{"$f":"'Wniosek 2026 r.'!B29","v":"Liczba gmin na obszarze których będą realizowane przewozy z wykorzystaniem środków Funduszu:"},{"$f":"'Wniosek 2026 r.'!B30","v":"Liczba mieszkańców gmin na obszarze których będą realizowane przewozy z wykorzystaniem środków Funduszu:"},{"$f":"'Wniosek 2026 r.'!B31","v":"Liczba linii komunikacyjnych na które organizator występuje o objęcie dopłatą:"},{"$f":"'Wniosek 2026 r.'!B32","v":"NRB - numer rachunku bankowego (bez kodu kraju):"},{"$f":"'Wniosek 2026 r.'!B33","v":"Nazwa banku:"},"L.p.","Nazwa linii komunikacyjnej","Miejscowości,\nw których zlokalizowane są przystanki autobusowe ","Gminy, na terenie których wykonywane będą przewozy autobusowe","Długość linii ","Liczba zatrzymań  2026"," Częstotliwość 2026\n ","Data uruchomienia linii komunikacyjnej 2026","Liczba wozokilometrów 2026","Cena usługi 2026 [zł]","Część ceny usługi sfinansowanej ze środków własnych organizatora 2026 [zł]","Procentowa wartość części ceny usługi sfinansowanej ze środków własnych organizatora [%] 2026","Środki własne organizatora [zł] 2026","Planowana kwota deficytu* 2026","Planowana kwota dopłaty* 2026","Liczba przystanków niepełnosprawni","Liczba wszystkich przystanków","Liczba przystanków ogrzewalnie","Ogółem dł linii","Ogółem liczba zatrzymań 2026","Ogółem częstotliwość 2026","Ogółem liczba wzkm 2026","Ogółem śr własne 2026","Ogółem deficyt 2026","Ogółem Dopłata 2026","Ogółem niepełnosprawni","Ogółem przystanki","Ogółem ogrzewalnie","Data"]
[{"$f":"'Wniosek 2026 r.'!C5","v":"Proszę wybrać nr NIP z listy rozwijanej"},{"$f":"'Wniosek 2026 r.'!C4","v":0},{"$f":"'Wniosek 2026 r.'!C6","v":"Proszę wybrać nr NIP z listy rozwijanej"},{"$f":"'Wniosek 2026 r.'!C7","v":"Proszę wybrać nr NIP z listy rozwijanej"},{"$f":"'Wniosek 2026 r.'!C8","v":"Proszę wybrać nr NIP z listy rozwijanej"},{"$f":"'Wniosek 2026 r.'!C9","v":"mazowieckie"},{"$f":"'Wniosek 2026 r.'!C11","v":0},{"$f":"'Wniosek 2026 r.'!C12","v":0},{"$f":"'Wniosek 2026 r.'!C13","v":0},{"$f":"'Wniosek 2026 r.'!C14","v":0},{"$f":"'Wniosek 2026 r.'!F25","v":0},{"$f":"_xlfn.CONCAT('Wniosek 2026 r.'!F26,'Wniosek 2026 r.'!G26,'Wniosek 2026 r.'!H26,'Wniosek 2026 r.'!I26)","v":"14"},{"$f":"'Wniosek 2026 r.'!F26","v":14},{"$f":"'Wniosek 2026 r.'!G26","v":0},{"$f":"'Wniosek 2026 r.'!H26","v":0},{"$f":"'Wniosek 2026 r.'!I26","v":0},{"$f":"'Wniosek 2026 r.'!F28","v":0},{"$f":"'Wniosek 2026 r.'!F29","v":0},{"$f":"'Wniosek 2026 r.'!F30","v":0},{"$f":"'Wniosek 2026 r.'!F31","v":0},{"$f":"'Wniosek 2026 r.'!F31","v":0},{"$f":"'Wniosek 2026 r.'!F33","v":0},{"$f":"'Wniosek 2026 r.'!A39","v":1},{"$f":"'Wniosek 2026 r.'!B39","v":0},{"$f":"'Wniosek 2026 r.'!C39","v":0},{"$f":"'Wniosek 2026 r.'!D39","v":0},{"$f":"'Wniosek 2026 r.'!E39","v":0},{"$f":"'Wniosek 2026 r.'!F39","v":0},{"$f":"'Wniosek 2026 r.'!G39","v":0},{"$f":"'Wniosek 2026 r.'!H39","v":"00:00:00"},{"$f":"'Wniosek 2026 r.'!C202","v":0},{"$f":"'Wniosek 2026 r.'!C358","v":0},{"$f":"'Wniosek 2026 r.'!D358","v":0},{"$f":"'Wniosek 2026 r.'!F358","v":0},{"$f":"'Wniosek 2026 r.'!H358","v":0},{"$f":"'Wniosek 2026 r.'!C512","v":0},{"$f":"'Wniosek 2026 r.'!C667","v":0},{"$f":"'Wniosek 2026 r.'!C822","v":0},{"$f":"'Wniosek 2026 r.'!E822","v":0},{"$f":"'Wniosek 2026 r.'!C976","v":0},{"$f":"'Wniosek 2026 r.'!E189","v":0},{"$f":"'Wniosek 2026 r.'!F189","v":0},{"$f":"'Wniosek 2026 r.'!G189","v":0},{"$f":"'Wniosek 2026 r.'!C352","v":0},{"$f":"'Wniosek 2026 r.'!H508","v":0},{"$f":"'Wniosek 2026 r.'!C662","v":0},{"$f":"'Wniosek 2026 r.'!C817","v":0},{"$f":"'Wniosek 2026 r.'!C972","v":0},{"$f":"'Wniosek 2026 r.'!E972","v":0},{"$f":"'Wniosek 2026 r.'!C1126","v":0},{"$f":"'Wniosek 2026 r.'!G1","v":"00:00:00"}]
[null,null,null,null,null,null,null,null,null,null,null,null,null,null,null,null,null,null,null,null,null,null,{"$f":"'Wniosek 2026 r.'!A40","v":2},{"$f":"'Wniosek 2026 r.'!B40","v":0},{"$f":"'Wniosek 2026 r.'!C40","v":0},{"$f":"'Wniosek 2026 r.'!D40","v":0},{"$f":"'Wniosek 2026 r.'!E40","v":0},{"$f":"'Wniosek 2026 r.'!F40","v":0},{"$f":"'Wniosek 2026 r.'!G40","v":0},{"$f":"'Wniosek 2026 r.'!H40","v":"00:00:00"},{"$f":"'Wniosek 2026 r.'!C203","v":0},{"$f":"'Wniosek 2026 r.'!C359","v":0},{"$f":"'Wniosek 2026 r.'!D359","v":0},{"$f":"'Wniosek 2026 r.'!F359","v":0},{"$f":"'Wniosek 2026 r.'!H359","v":0},{"$f":"'Wniosek 2026 r.'!C513","v":0},{"$f":"'Wniosek 2026 r.'!C668","v":0},{"$f":"'Wniosek 2026 r.'!C823","v":0},{"$f":"'Wniosek 2026 r.'!E823","v":0},{"$f":"'Wniosek 2026 r.'!C977","v":0}]
[null,null,null,null,null,null,null,null,null,null,null,null,null,null,null,null,null,null,null,null,null,null,{"$f":"'Wniosek 2026 r.'!A41","v":3},{"$f":"'Wniosek 2026 r.'!B41","v":0},{"$f":"'Wniosek 2026 r.'!C41","v":0},{"$f":"'Wniosek 2026 r.'!D41","v":0},{"$f":"'Wniosek 2026 r.'!E41","v":0},{"$f":"'Wniosek 2026 r.'!F41","v":0},{"$f":"'Wniosek 2026 r.'!G41","v":0},{"$f":"'Wniosek 2026 r.'!H41","v":"00:00:00"},{"$f":"'Wniosek 2026 r.'!C204","v":0},{"$f":"'Wniosek 2026 r.'!C360","v":0},{"$f":"'Wniosek 2026 r.'!D360","v":0},{"$f":"'Wniosek 2026 r.'!F360","v":0},{"$f":"'Wniosek 2026 r.'!H360","v":0},{"$f":"'Wniosek 2026 r.'!C514","v":0},{"$f":"'Wniosek 2026 r.'!C669","v":0},{"$f":"'Wniosek 2026 r.'!C824","v":0},{"$f":"'Wniosek 2026 r.'!E824","v":0},{"$f":"'Wniosek 2026 r.'!C978","v":0}]
[null,null,null,null,null,null,null,null,null,null,null,null,null,null,null,null,null,null,null,null,null,null,{"$f":"'Wniosek 2026 r.'!A42","v":4},{"$f":"'Wniosek 2026 r.'!B42","v":0},{"$f":"'Wniosek 2026 r.'!C42","v":0},{"$f":"'Wniosek 2026 r.'!D42","v":0},{"$f":"'Wniosek 2026 r.'!E42","v":0},{"$f":"'Wniosek 2026 r.'!F42","v":0},{"$f":"'Wniosek 2026 r.'!G42","v":0},{"$f":"'Wniosek 2026 r.'!H42","v":"00:00:00"},{"$f":"'Wniosek 2026 r.'!C205","v":0},{"$f":"'Wniosek 2026 r.'!C361","v":0},{"$f":"'Wniosek 2026 r.'!D361","v":0},{"$f":"'Wniosek 2026 r.'!F361","v":0},{"$f":"'Wniosek 2026 r.'!H361","v":0},{"$f":"'Wniosek 2026 r.'!C515","v":0},{"$f":"'Wniosek 2026 r.'!C670","v":0},{"$f":"'Wniosek 2026 r.'!C825","v":0},{"$f":"'Wniosek 2026 r.'!E825","v":0},{"$f":"'Wniosek 2026 r.'!C979","v":0}]
[null,null,null,null,null,null,null,null,null,null,null,null,null,null,null,null,null,null,null,null,null,null,{"$f":"'Wniosek 2026 r.'!A43","v":5},{"$f":"'Wniosek 2026 r.'!B43","v":0},{"$f":"'Wniosek 2026 r.'!C43","v":0},{"$f":"'Wniosek 2026 r.'!D43","v":0},{"$f":"'Wniosek 2026 r.'!E43","v":0},{"$f":"'Wniosek 2026 r.'!F43","v":0},{"$f":"'Wniosek 2026 r.'!G43","v":0},{"$f":"'Wniosek 2026 r.'!H43","v":"00:00:00"},{"$f":"'Wniosek 2026 r.'!C206","v":0},{"$f":"'Wniosek 2026 r.'!C362","v":0},{"$f":"'Wniosek 2026 r.'!D362","v":0},{"$f":"'Wniosek 2026 r.'!F362","v":0},{"$f":"'Wniosek 2026 r.'!H362","v":0},{"$f":"'Wniosek 2026 r.'!C516","v":0},{"$f":"'Wniosek 2026 r.'!C671","v":0},{"$f":"'Wniosek 2026 r.'!C826","v":0},{"$f":"'Wniosek 2026 r.'!E826","v":0},{"$f":"'Wniosek 2026 r.'!C980","v":0}]
[null,null,null,null,null,null,null,null,null,null,null,null,null,null,null,null,null,null,null,null,null,null,{"$f":"'Wniosek 2026 r.'!A44","v":6},{"$f":"'Wniosek 2026 r.'!B44","v":0},{"$f":"'Wniosek 2026 r.'!C44","v":0},{"$f":"'Wniosek 2026 r.'!D44","v":0},{"$f":"'Wniosek 2026 r.'!E44","v":0},{"$f":"'Wniosek 2026 r.'!F44","v":0},{"$f":"'Wniosek 2026 r.'!G44","v":0},{"$f":"'Wniosek 2026 r.'!H44","v":"00:00:00"},{"$f":"'Wniosek 2026 r.'!C207","v":0},{"$f":"'Wniosek 2026 r.'!C363","v":0},{"$f":"'Wniosek 2026 r.'!D363","v":0},{"$f":"'Wniosek 2026 r.'!F363","v":0},{"$f":"'Wniosek 2026 r.'!H363","v":0},{"$f":"'Wniosek 2026 r.'!C517","v":0},{"$f":"'Wniosek 2026 r.'!C672","v":0},{"$f":"'Wniosek 2026 r.'!C827","v":0},{"$f":"'Wniosek 2026 r.'!E827","v":0},{"$f":"'Wniosek 2026 r.'!C981","v":0}]
[null,null,null,null,null,null,null,null,null,null,null,null,null,null,null,null,null,null,null,null,null,null,{"$f":"'Wniosek 2026 r.'!A45","v":7},{"$f":"'Wniosek 2026 r.'!B45","v":0},{"$f":"'Wniosek 2026 r.'!C45","v":0},{"$f":"'Wniosek 2026 r.'!D45","v":0},{"$f":"'Wniosek 2026 r.'!E45","v":0},{"$f":"'Wniosek 2026 r.'!F45","v":0},{"$f":"'Wniosek 2026 r.'!G45","v":0},{"$f":"'Wniosek 2026 r.'!H45","v":"00:00:00"},{"$f":"'Wniosek 2026 r.'!C208","v":0},{"$f":"'Wniosek 2026 r.'!C364","v":0},{"$f":"'Wniosek 2026 r.'!D364","v":0},{"$f":"'Wniosek 2026 r.'!F364","v":0},{"$f":"'Wniosek 2026 r.'!H364","v":0},{"$f":"'Wniosek 2026 r.'!C518","v":0},{"$f":"'Wniosek 2026 r.'!C673","v":0},{"$f":"'Wniosek 2026 r.'!C828","v":0},{"$f":"'Wniosek 2026 r.'!E828","v":0},{"$f":"'Wniosek 2026 r.'!C982","v":0}]
[null,null,null,null,null,null,null,null,null,null,null,null,null,null,null,null,null,null,null,null,null,null,{"$f":"'Wniosek 2026 r.'!A46","v":8},{"$f":"'Wniosek 2026 r.'!B46","v":0},{"$f":"'Wniosek 2026 r.'!C46","v":0},{"$f":"'Wniosek 2026 r.'!D46","v":0},{"$f":"'Wniosek 2026 r.'!E46","v":0},{"$f":"'Wniosek 2026 r.'!F46","v":0},{"$f":"'Wniosek 2026 r.'!G46","v":0},{"$f":"'Wniosek 2026 r.'!H46","v":"00:00:00"},{"$f":"'Wniosek 2026 r.'!C209","v":0},{"$f":"'Wniosek 2026 r.'!C365","v":0},{"$f":"'Wniosek 2026 r.'!D365","v":0},{"$f":"'Wniosek 2026 r.'!F365","v":0},{"$f":"'Wniosek 2026 r.'!H365","v":0},{"$f":"'Wniosek 2026 r.'!C519","v":0},{"$f":"'Wniosek 2026 r.'!C674","v":0},{"$f":"'Wniosek 2026 r.'!C829","v":0},{"$f":"'Wniosek 2026 r.'!E829","v":0},{"$f":"'Wniosek 2026 r.'!C983","v":0}]
[null,null,null,null,null,null,null,null,null,null,null,null,null,null,null,null,null,null,null,null,null,null,{"$f":"'Wniosek 2026 r.'!A47","v":9},{"$f":"'Wniosek 2026 r.'!B47","v":0},{"$f":"'Wniosek 2026 r.'!C47","v":0},{"$f":"'Wniosek 2026 r.'!D47","v":0},{"$f":"'Wniosek 2026 r.'!E47","v":0},{"$f":"'Wniosek 2026 r.'!F47","v":0},{"$f":"'Wniosek 2026 r.'!G47","v":0},{"$f":"'Wniosek 2026 r.'!H47","v":"00:00:00"},{"$f":"'Wniosek 2026 r.'!C210","v":0},{"$f":"'Wniosek 2026 r.'!C366","v":0},{"$f":"'Wniosek 2026 r.'!D366","v":0},{"$f":"'Wniosek 2026 r.'!F366","v":0},{"$f":"'Wniosek 2026 r.'!H366","v":0},{"$f":"'Wniosek 2026 r.'!C520","v":0},{"$f":"'Wniosek 2026 r.'!C675","v":0},{"$f":"'Wniosek 2026 r.'!C830","v":0},{"$f":"'Wniosek 2026 r.'!E830","v":0},{"$f":"'Wniosek 2026 r.'!C984","v":0}]
[null,null,null,null,null,null,null,null,null,null,null,null,null,null,null,null,null,null,null,null,null,null,{"$f":"'Wniosek 2026 r.'!A48","v":10},{"$f":"'Wniosek 2026 r.'!B48","v":0},{"$f":"'Wniosek 2026 r.'!C48","v":0},{"$f":"'Wniosek 2026 r.'!D48","v":0},{"$f":"'Wniosek 2026 r.'!E48","v":0},{"$f":"'Wniosek 2026 r.'!F48","v":0},{"$f":"'Wniosek 2026 r.'!G48","v":0},{"$f":"'Wniosek 2026 r.'!H48","v":"00:00:00"},{"$f":"'Wniosek 2026 r.'!C211","v":0},{"$f":"'Wniosek 2026 r.'!C367","v":0},{"$f":"'Wniosek 2026 r.'!D367","v":0},{"$f":"'Wniosek 2026 r.'!F367","v":0},{"$f":"'Wniosek 2026 r.'!H367","v":0},{"$f":"'Wniosek 2026 r.'!C521","v":0},{"$f":"'Wniosek 2026 r.'!C676","v":0},{"$f":"'Wniosek 2026 r.'!C831","v":0},{"$f":"'Wniosek 2026 r.'!E831","v":0},{"$f":"'Wniosek 2026 r.'!C985","v":0}]
[null,null,null,null,null,null,null,null,null,null,null,null,null,null,null,null,null,null,null,null,null,null,{"$f":"'Wniosek 2026 r.'!A49","v":11},{"$f":"'Wniosek 2026 r.'!B49","v":0},{"$f":"'Wniosek 2026 r.'!C49","v":0},{"$f":"'Wniosek 2026 r.'!D49","v":0},{"$f":"'Wniosek 2026 r.'!E49","v":0},{"$f":"'Wniosek 2026 r.'!F49","v":0},{"$f":"'Wniosek 2026 r.'!G49","v":0},{"$f":"'Wniosek 2026 r.'!H49","v":"00:00:00"},{"$f":"'Wniosek 2026 r.'!C212","v":0},{"$f":"'Wniosek 2026 r.'!C368","v":0},{"$f":"'Wniosek 2026 r.'!D368","v":0},{"$f":"'Wniosek 2026 r.'!F368","v":0},{"$f":"'Wniosek 2026 r.'!H368","v":0},{"$f":"'Wniosek 2026 r.'!C522","v":0},{"$f":"'Wniosek 2026 r.'!C677","v":0},{"$f":"'Wniosek 2026 r.'!C832","v":0},{"$f":"'Wniosek 2026 r.'!E832","v":0},{"$f":"'Wniosek 2026 r.'!C986","v":0}]
[null,null,null,null,null,null,null,null,null,null,null,null,null,null,null,null,null,null,null,null,null,null,{"$f":"'Wniosek 2026 r.'!A50","v":12},{"$f":"'Wniosek 2026 r.'!B50","v":0},{"$f":"'Wniosek 2026 r.'!C50","v":0},{"$f":"'Wniosek 2026 r.'!D50","v":0},{"$f":"'Wniosek 2026 r.'!E50","v":0},{"$f":"'Wniosek 2026 r.'!F50","v":0},{"$f":"'Wniosek 2026 r.'!G50","v":0},{"$f":"'Wniosek 2026 r.'!H50","v":"00:00:00"},{"$f":"'Wniosek 2026 r.'!C213","v":0},{"$f":"'Wniosek 2026 r.'!C369","v":0},{"$f":"'Wniosek 2026 r.'!D369","v":0},{"$f":"'Wniosek 2026 r.'!F369","v":0},{"$f":"'Wniosek 2026 r.'!H369","v":0},{"$f":"'Wniosek 2026 r.'!C523","v":0},{"$f":"'Wniosek 2026 r.'!C678","v":0},{"$f":"'Wniosek 2026 r.'!C833","v":0},{"$f":"'Wniosek 2026 r.'!E833","v":0},{"$f":"'Wniosek 2026 r.'!C987","v":0}]
[null,null,null,null,null,null,null,null,null,null,null,null,null,null,null,null,null,null,null,null,null,null,{"$f":"'Wniosek 2026 r.'!A51","v":13},{"$f":"'Wniosek 2026 r.'!B51","v":0},{"$f":"'Wniosek 2026 r.'!C51","v":0},{"$f":"'Wniosek 2026 r.'!D51","v":0},{"$f":"'Wniosek 2026 r.'!E51","v":0},{"$f":"'Wniosek 2026 r.'!F51","v":0},{"$f":"'Wniosek 2026 r.'!G51","v":0},{"$f":"'Wniosek 2026 r.'!H51","v":"00:00:00"},{"$f":"'Wniosek 2026 r.'!C214","v":0},{"$f":"'Wniosek 2026 r.'!C370","v":0},{"$f":"'Wniosek 2026 r.'!D370","v":0},{"$f":"'Wniosek 2026 r.'!F370","v":0},{"$f":"'Wniosek 2026 r.'!H370","v":0},{"$f":"'Wniosek 2026 r.'!C524","v":0},{"$f":"'Wniosek 2026 r.'!C679","v":0},{"$f":"'Wniosek 2026 r.'!C834","v":0},{"$f":"'Wniosek 2026 r.'!E834","v":0},{"$f":"'Wniosek 2026 r.'!C988","v":0}]
[null,null,null,null,null,null,null,null,null,null,null,null,null,null,null,null,null,null,null,null,null,null,{"$f":"'Wniosek 2026 r.'!A52","v":14},{"$f":"'Wniosek 2026 r.'!B52","v":0},{"$f":"'Wniosek 2026 r.'!C52","v":0},{"$f":"'Wniosek 2026 r.'!D52","v":0},{"$f":"'Wniosek 2026 r.'!E52","v":0},{"$f":"'Wniosek 2026 r.'!F52","v":0},{"$f":"'Wniosek 2026 r.'!G52","v":0},{"$f":"'Wniosek 2026 r.'!H52","v":"00:00:00"},{"$f":"'Wniosek 2026 r.'!C215","v":0},{"$f":"'Wniosek 2026 r.'!C371","v":0},{"$f":"'Wniosek 2026 r.'!D371","v":0},{"$f":"'Wniosek 2026 r.'!F371","v":0},{"$f":"'Wniosek 2026 r.'!H371","v":0},{"$f":"'Wniosek 2026 r.'!C525","v":0},{"$f":"'Wniosek 2026 r.'!C680","v":0},{"$f":"'Wniosek 2026 r.'!C835","v":0},{"$f":"'Wniosek 2026 r.'!E835","v":0},{"$f":"'Wniosek 2026 r.'!C989","v":0}]
[null,null,null,null,null,null,null,null,null,null,null,null,null,null,null,null,null,null,null,null,null,null,{"$f":"'Wniosek 2026 r.'!A53","v":15},{"$f":"'Wniosek 2026 r.'!B53","v":0},{"$f":"'Wniosek 2026 r.'!C53","v":0},{"$f":"'Wniosek 2026 r.'!D53","v":0},{"$f":"'Wniosek 2026 r.'!E53","v":0},{"$f":"'Wniosek 2026 r.'!F53","v":0},{"$f":"'Wniosek 2026 r.'!G53","v":0},{"$f":"'Wniosek 2026 r.'!H53","v":"00:00:00"},{"$f":"'Wniosek 2026 r.'!C216","v":0},{"$f":"'Wniosek 2026 r.'!C372","v":0},{"$f":"'Wniosek 2026 r.'!D372","v":0},{"$f":"'Wniosek 2026 r.'!F372","v":0},{"$f":"'Wniosek 2026 r.'!H372","v":0},{"$f":"'Wniosek 2026 r.'!C526","v":0},{"$f":"'Wniosek 2026 r.'!C681","v":0},{"$f":"'Wniosek 2026 r.'!C836","v":0},{"$f":"'Wniosek 2026 r.'!E836","v":0},{"$f":"'Wniosek 2026 r.'!C990","v":0}]
[null,null,null,null,null,null,null,null,null,null,null,null,null,null,null,null,null,null,null,null,null,null,{"$f":"'Wniosek 2026 r.'!A54","v":16},{"$f":"'Wniosek 2026 r.'!B54","v":0},{"$f":"'Wniosek 2026 r.'!C54","v":0},{"$f":"'Wniosek 2026 r.'!D54","v":0},{"$f":"'Wniosek 2026 r.'!E54","v":0},{"$f":"'Wniosek 2026 r.'!F54","v":0},{"$f":"'Wniosek 2026 r.'!G54","v":0},{"$f":"'Wniosek 2026 r.'!H54","v":"00:00:00"},{"$f":"'Wniosek 2026 r.'!C217","v":0},{"$f":"'Wniosek 2026 r.'!C373","v":0},{"$f":"'Wniosek 2026 r.'!D373","v":0},{"$f":"'Wniosek 2026 r.'!F373","v":0},{"$f":"'Wniosek 2026 r.'!H373","v":0},{"$f":"'Wniosek 2026 r.'!C527","v":0},{"$f":"'Wniosek 2026 r.'!C682","v":0},{"$f":"'Wniosek 2026 r.'!C837","v":0},{"$f":"'Wniosek 2026 r.'!E837","v":0},{"$f":"'Wniosek 2026 r.'!C991","v":0}]
[null,null,null,null,null,null,null,null,null,null,null,null,null,null,null,null,null,null,null,null,null,null,{"$f":"'Wniosek 2026 r.'!A55","v":17},{"$f":"'Wniosek 2026 r.'!B55","v":0},{"$f":"'Wniosek 2026 r.'!C55","v":0},{"$f":"'Wniosek 2026 r.'!D55","v":0},{"$f":"'Wniosek 2026 r.'!E55","v":0},{"$f":"'Wniosek 2026 r.'!F55","v":0},{"$f":"'Wniosek 2026 r.'!G55","v":0},{"$f":"'Wniosek 2026 r.'!H55","v":"00:00:00"},{"$f":"'Wniosek 2026 r.'!C218","v":0},{"$f":"'Wniosek 2026 r.'!C374","v":0},{"$f":"'Wniosek 2026 r.'!D374","v":0},{"$f":"'Wniosek 2026 r.'!F374","v":0},{"$f":"'Wniosek 2026 r.'!H374","v":0},{"$f":"'Wniosek 2026 r.'!C528","v":0},{"$f":"'Wniosek 2026 r.'!C683","v":0},{"$f":"'Wniosek 2026 r.'!C838","v":0},{"$f":"'Wniosek 2026 r.'!E838","v":0},{"$f":"'Wniosek 2026 r.'!C992","v":0}]
[null,null,null,null,null,null,null,null,null,null,null,null,null,null,null,null,null,null,null,null,null,null,{"$f":"'Wniosek 2026 r.'!A56","v":18},{"$f":"'Wniosek 2026 r.'!B56","v":0},{"$f":"'Wniosek 2026 r.'!C56","v":0},{"$f":"'Wniosek 2026 r.'!D56","v":0},{"$f":"'Wniosek 2026 r.'!E56","v":0},{"$f":"'Wniosek 2026 r.'!F56","v":0},{"$f":"'Wniosek 2026 r.'!G56","v":0},{"$f":"'Wniosek 2026 r.'!H56","v":"00:00:00"},{"$f":"'Wniosek 2026 r.'!C219","v":0},{"$f":"'Wniosek 2026 r.'!C375","v":0},{"$f":"'Wniosek 2026 r.'!D375","v":0},{"$f":"'Wniosek 2026 r.'!F375","v":0},{"$f":"'Wniosek 2026 r.'!H375","v":0},{"$f":"'Wniosek 2026 r.'!C529","v":0},{"$f":"'Wniosek 2026 r.'!C684","v":0},{"$f":"'Wniosek 2026 r.'!C839","v":0},{"$f":"'Wniosek 2026 r.'!E839","v":0},{"$f":"'Wniosek 2026 r.'!C993","v":0}]
[null,null,null,null,null,null,null,null,null,null,null,null,null,null,null,null,null,null,null,null,null,null,{"$f":"'Wniosek 2026 r.'!A57","v":19},{"$f":"'Wniosek 2026 r.'!B57","v":0},{"$f":"'Wniosek 2026 r.'!C57","v":0},{"$f":"'Wniosek 2026 r.'!D57","v":0},{"$f":"'Wniosek 2026 r.'!E57","v":0},{"$f":"'Wniosek 2026 r.'!F57","v":0},{"$f":"'Wniosek 2026 r.'!G57","v":0},{"$f":"'Wniosek 2026 r.'!H57","v":"00:00:00"},{"$f":"'Wniosek 2026 r.'!C220","v":0},{"$f":"'Wniosek 2026 r.'!C376","v":0},{"$f":"'Wniosek 2026 r.'!D376","v":0},{"$f":"'Wniosek 2026 r.'!F376","v":0},{"$f":"'Wniosek 2026 r.'!H376","v":0},{"$f":"'Wniosek 2026 r.'!C530","v":0},{"$f":"'Wniosek 2026 r.'!C685","v":0},{"$f":"'Wniosek 2026 r.'!C840","v":0},{"$f":"'Wniosek 2026 r.'!E840","v":0},{"$f":"'Wniosek 2026 r.'!C994","v":0}]
[null,null,null,null,null,null,null,null,null,null,null,null,null,null,null,null,null,null,null,null,null,null,{"$f":"'Wniosek 2026 r.'!A58","v":20},{"$f":"'Wniosek 2026 r.'!B58","v":0},{"$f":"'Wniosek 2026 r.'!C58","v":0},{"$f":"'Wniosek 2026 r.'!D58","v":0},{"$f":"'Wniosek 2026 r.'!E58","v":0},{"$f":"'Wniosek 2026 r.'!F58","v":0},{"$f":"'Wniosek 2026 r.'!G58","v":0},{"$f":"'Wniosek 2026 r.'!H58","v":"00:00:00"},{"$f":"'Wniosek 2026 r.'!C221","v":0},{"$f":"'Wniosek 2026 r.'!C377","v":0},{"$f":"'Wniosek 2026 r.'!D377","v":0},{"$f":"'Wniosek 2026 r.'!F377","v":0},{"$f":"'Wniosek 2026 r.'!H377","v":0},{"$f":"'Wniosek 2026 r.'!C531","v":0},{"$f":"'Wniosek 2026 r.'!C686","v":0},{"$f":"'Wniosek 2026 r.'!C841","v":0},{"$f":"'Wniosek 2026 r.'!E841","v":0},{"$f":"'Wniosek 2026 r.'!C995","v":0}]
[null,null,null,null,null,null,null,null,null,null,null,null,null,null,null,null,null,null,null,null,null,null,{"$f":"'Wniosek 2026 r.'!A59","v":21},{"$f":"'Wniosek 2026 r.'!B59","v":0},{"$f":"'Wniosek 2026 r.'!C59","v":0},{"$f":"'Wniosek 2026 r.'!D59","v":0},{"$f":"'Wniosek 2026 r.'!E59","v":0},{"$f":"'Wniosek 2026 r.'!F59","v":0},{"$f":"'Wniosek 2026 r.'!G59","v":0},{"$f":"'Wniosek 2026 r.'!H59","v":"00:00:00"},{"$f":"'Wniosek 2026 r.'!C222","v":0},{"$f":"'Wniosek 2026 r.'!C378","v":0},{"$f":"'Wniosek 2026 r.'!D378","v":0},{"$f":"'Wniosek 2026 r.'!F378","v":0},{"$f":"'Wniosek 2026 r.'!H378","v":0},{"$f":"'Wniosek 2026 r.'!C532","v":0},{"$f":"'Wniosek 2026 r.'!C687","v":0},{"$f":"'Wniosek 2026 r.'!C842","v":0},{"$f":"'Wniosek 2026 r.'!E842","v":0},{"$f":"'Wniosek 2026 r.'!C996","v":0}]
[null,null,null,null,null,null,null,null,null,null,null,null,null,null,null,null,null,null,null,null,null,null,{"$f":"'Wniosek 2026 r.'!A60","v":22},{"$f":"'Wniosek 2026 r.'!B60","v":0},{"$f":"'Wniosek 2026 r.'!C60","v":0},{"$f":"'Wniosek 2026 r.'!D60","v":0},{"$f":"'Wniosek 2026 r.'!E60","v":0},{"$f":"'Wniosek 2026 r.'!F60","v":0},{"$f":"'Wniosek 2026 r.'!G60","v":0},{"$f":"'Wniosek 2026 r.'!H60","v":"00:00:00"},{"$f":"'Wniosek 2026 r.'!C223","v":0},{"$f":"'Wniosek 2026 r.'!C379","v":0},{"$f":"'Wniosek 2026 r.'!D379","v":0},{"$f":"'Wniosek 2026 r.'!F379","v":0},{"$f":"'Wniosek 2026 r.'!H379","v":0},{"$f":"'Wniosek 2026 r.'!C533","v":0},{"$f":"'Wniosek 2026 r.'!C688","v":0},{"$f":"'Wniosek 2026 r.'!C843","v":0},{"$f":"'Wniosek 2026 r.'!E843","v":0},{"$f":"'Wniosek 2026 r.'!C997","v":0}]
[null,null,null,null,null,null,null,null,null,null,null,null,null,null,null,null,null,null,null,null,null,null,{"$f":"'Wniosek 2026 r.'!A61","v":23},{"$f":"'Wniosek 2026 r.'!B61","v":0},{"$f":"'Wniosek 2026 r.'!C61","v":0},{"$f":"'Wniosek 2026 r.'!D61","v":0},{"$f":"'Wniosek 2026 r.'!E61","v":0},{"$f":"'Wniosek 2026 r.'!F61","v":0},{"$f":"'Wniosek 2026 r.'!G61","v":0},{"$f":"'Wniosek 2026 r.'!H61","v":"00:00:00"},{"$f":"'Wniosek 2026 r.'!C224","v":0},{"$f":"'Wniosek 2026 r.'!C380","v":0},{"$f":"'Wniosek 2026 r.'!D380","v":0},{"$f":"'Wniosek 2026 r.'!F380","v":0},{"$f":"'Wniosek 2026 r.'!H380","v":0},{"$f":"'Wniosek 2026 r.'!C534","v":0},{"$f":"'Wniosek 2026 r.'!C689","v":0},{"$f":"'Wniosek 2026 r.'!C844","v":0},{"$f":"'Wniosek 2026 r.'!E844","v":0},{"$f":"'Wniosek 2026 r.'!C998","v":0}]
[null,null,null,null,null,null,null,null,null,null,null,null,null,null,null,null,null,null,null,null,null,null,{"$f":"'Wniosek 2026 r.'!A62","v":24},{"$f":"'Wniosek 2026 r.'!B62","v":0},{"$f":"'Wniosek 2026 r.'!C62","v":0},{"$f":"'Wniosek 2026 r.'!D62","v":0},{"$f":"'Wniosek 2026 r.'!E62","v":0},{"$f":"'Wniosek 2026 r.'!F62","v":0},{"$f":"'Wniosek 2026 r.'!G62","v":0},{"$f":"'Wniosek 2026 r.'!H62","v":"00:00:00"},{"$f":"'Wniosek 2026 r.'!C225","v":0},{"$f":"'Wniosek 2026 r.'!C381","v":0},{"$f":"'Wniosek 2026 r.'!D381","v":0},{"$f":"'Wniosek 2026 r.'!F381","v":0},{"$f":"'Wniosek 2026 r.'!H381","v":0},{"$f":"'Wniosek 2026 r.'!C535","v":0},{"$f":"'Wniosek 2026 r.'!C690","v":0},{"$f":"'Wniosek 2026 r.'!C845","v":0},{"$f":"'Wniosek 2026 r.'!E845","v":0},{"$f":"'Wniosek 2026 r.'!C999","v":0}]
[null,null,null,null,null,null,null,null,null,null,null,null,null,null,null,null,null,null,null,null,null,null,{"$f":"'Wniosek 2026 r.'!A63","v":25},{"$f":"'Wniosek 2026 r.'!B63","v":0},{"$f":"'Wniosek 2026 r.'!C63","v":0},{"$f":"'Wniosek 2026 r.'!D63","v":0},{"$f":"'Wniosek 2026 r.'!E63","v":0},{"$f":"'Wniosek 2026 r.'!F63","v":0},{"$f":"'Wniosek 2026 r.'!G63","v":0},{"$f":"'Wniosek 2026 r.'!H63","v":"00:00:00"},{"$f":"'Wniosek 2026 r.'!C226","v":0},{"$f":"'Wniosek 2026 r.'!C382","v":0},{"$f":"'Wniosek 2026 r.'!D382","v":0},{"$f":"'Wniosek 2026 r.'!F382","v":0},{"$f":"'Wniosek 2026 r.'!H382","v":0},{"$f":"'Wniosek 2026 r.'!C536","v":0},{"$f":"'Wniosek 2026 r.'!C691","v":0},{"$f":"'Wniosek 2026 r.'!C846","v":0},{"$f":"'Wniosek 2026 r.'!E846","v":0},{"$f":"'Wniosek 2026 r.'!C1000","v":0}]
[null,null,null,null,null,null,null,null,null,null,null,null,null,null,null,null,null,null,null,null,null,null,{"$f":"'Wniosek 2026 r.'!A64","v":26},{"$f":"'Wniosek 2026 r.'!B64","v":0},{"$f":"'Wniosek 2026 r.'!C64","v":0},{"$f":"'Wniosek 2026 r.'!D64","v":0},{"$f":"'Wniosek 2026 r.'!E64","v":0},{"$f":"'Wniosek 2026 r.'!F64","v":0},{"$f":"'Wniosek 2026 r.'!G64","v":0},{"$f":"'Wniosek 2026 r.'!H64","v":"00:00:00"},{"$f":"'Wniosek 2026 r.'!C227","v":0},{"$f":"'Wniosek 2026 r.'!C383","v":0},{"$f":"'Wniosek 2026 r.'!D383","v":0},{"$f":"'Wniosek 2026 r.'!F383","v":0},{"$f":"'Wniosek 2026 r.'!H383","v":0},{"$f":"'Wniosek 2026 r.'!C537","v":0},{"$f":"'Wniosek 2026 r.'!C692","v":0},{"$f":"'Wniosek 2026 r.'!C847","v":0},{"$f":"'Wniosek 2026 r.'!E847","v":0},{"$f":"'Wniosek 2026 r.'!C1001","v":0}]
[null,null,null,null,null,null,null,null,null,null,null,null,null,null,null,null,null,null,null,null,null,null,{"$f":"'Wniosek 2026 r.'!A65","v":27},{"$f":"'Wniosek 2026 r.'!B65","v":0},{"$f":"'Wniosek 2026 r.'!C65","v":0},{"$f":"'Wniosek 2026 r.'!D65","v":0},{"$f":"'Wniosek 2026 r.'!E65","v":0},{"$f":"'Wniosek 2026 r.'!F65","v":0},{"$f":"'Wniosek 2026 r.'!G65","v":0},{"$f":"'Wniosek 2026 r.'!H65","v":"00:00:00"},{"$f":"'Wniosek 2026 r.'!C228","v":0},{"$f":"'Wniosek 2026 r.'!C384","v":0},{"$f":"'Wniosek 2026 r.'!D384","v":0},{"$f":"'Wniosek 2026 r.'!F384","v":0},{"$f":"'Wniosek 2026 r.'!H384","v":0},{"$f":"'Wniosek 2026 r.'!C538","v":0},{"$f":"'Wniosek 2026 r.'!C693","v":0},{"$f":"'Wniosek 2026 r.'!C848","v":0},{"$f":"'Wniosek 2026 r.'!E848","v":0},{"$f":"'Wniosek 2026 r.'!C1002","v":0}]
[null,null,null,null,null,null,null,null,null,null,null,null,null,null,null,null,null,null,null,null,null,null,{"$f":"'Wniosek 2026 r.'!A66","v":28},{"$f":"'Wniosek 2026 r.'!B66","v":0},{"$f":"'Wniosek 2026 r.'!C66","v":0},{"$f":"'Wniosek 2026 r.'!D66","v":0},{"$f":"'Wniosek 2026 r.'!E66","v":0},{"$f":"'Wniosek 2026 r.'!F66","v":0},{"$f":"'Wniosek 2026 r.'!G66","v":0},{"$f":"'Wniosek 2026 r.'!H66","v":"00:00:00"},{"$f":"'Wniosek 2026 r.'!C229","v":0},{"$f":"'Wniosek 2026 r.'!C385","v":0},{"$f":"'Wniosek 2026 r.'!D385","v":0},{"$f":"'Wniosek 2026 r.'!F385","v":0},{"$f":"'Wniosek 2026 r.'!H385","v":0},{"$f":"'Wniosek 2026 r.'!C539","v":0},{"$f":"'Wniosek 2026 r.'!C694","v":0},{"$f":"'Wniosek 2026 r.'!C849","v":0},{"$f":"'Wniosek 2026 r.'!E849","v":0},{"$f":"'Wniosek 2026 r.'!C1003","v":0}]
[null,null,null,null,null,null,null,null,null,null,null,null,null,null,null,null,null,null,null,null,null,null,{"$f":"'Wniosek 2026 r.'!A67","v":29},{"$f":"'Wniosek 2026 r.'!B67","v":0},{"$f":"'Wniosek 2026 r.'!C67","v":0},{"$f":"'Wniosek 2026 r.'!D67","v":0},{"$f":"'Wniosek 2026 r.'!E67","v":0},{"$f":"'Wniosek 2026 r.'!F67","v":0},{"$f":"'Wniosek 2026 r.'!G67","v":0},{"$f":"'Wniosek 2026 r.'!H67","v":"00:00:00"},{"$f":"'Wniosek 2026 r.'!C230","v":0},{"$f":"'Wniosek 2026 r.'!C386","v":0},{"$f":"'Wniosek 2026 r.'!D386","v":0},{"$f":"'Wniosek 2026 r.'!F386","v":0},{"$f":"'Wniosek 2026 r.'!H386","v":0},{"$f":"'Wniosek 2026 r.'!C540","v":0},{"$f":"'Wniosek 2026 r.'!C695","v":0},{"$f":"'Wniosek 2026 r.'!C850","v":0},{"$f":"'Wniosek 2026 r.'!E850","v":0},{"$f":"'Wniosek 2026 r.'!C1004","v":0}]
[null,null,null,null,null,null,null,null,null,null,null,null,null,null,null,null,null,null,null,null,null,null,{"$f":"'Wniosek 2026 r.'!A68","v":30},{"$f":"'Wniosek 2026 r.'!B68","v":0},{"$f":"'Wniosek 2026 r.'!C68","v":0},{"$f":"'Wniosek 2026 r.'!D68","v":0},{"$f":"'Wniosek 2026 r.'!E68","v":0},{"$f":"'Wniosek 2026 r.'!F68","v":0},{"$f":"'Wniosek 2026 r.'!G68","v":0},{"$f":"'Wniosek 2026 r.'!H68","v":"00:00:00"},{"$f":"'Wniosek 2026 r.'!C231","v":0},{"$f":"'Wniosek 2026 r.'!C387","v":0},{"$f":"'Wniosek 2026 r.'!D387","v":0},{"$f":"'Wniosek 2026 r.'!F387","v":0},{"$f":"'Wniosek 2026 r.'!H387","v":0},{"$f":"'Wniosek 2026 r.'!C541","v":0},{"$f":"'Wniosek 2026 r.'!C696","v":0},{"$f":"'Wniosek 2026 r.'!C851","v":0},{"$f":"'Wniosek 2026 r.'!E851","v":0},{"$f":"'Wniosek 2026 r.'!C1005","v":0}]
[null,null,null,null,null,null,null,null,null,null,null,null,null,null,null,null,null,null,null,null,null,null,{"$f":"'Wniosek 2026 r.'!A69","v":31},{"$f":"'Wniosek 2026 r.'!B69","v":0},{"$f":"'Wniosek 2026 r.'!C69","v":0},{"$f":"'Wniosek 2026 r.'!D69","v":0},{"$f":"'Wniosek 2026 r.'!E69","v":0},{"$f":"'Wniosek 2026 r.'!F69","v":0},{"$f":"'Wniosek 2026 r.'!G69","v":0},{"$f":"'Wniosek 2026 r.'!H69","v":"00:00:00"},{"$f":"'Wniosek 2026 r.'!C232","v":0},{"$f":"'Wniosek 2026 r.'!C388","v":0},{"$f":"'Wniosek 2026 r.'!D388","v":0},{"$f":"'Wniosek 2026 r.'!F388","v":0},{"$f":"'Wniosek 2026 r.'!H388","v":0},{"$f":"'Wniosek 2026 r.'!C542","v":0},{"$f":"'Wniosek 2026 r.'!C697","v":0},{"$f":"'Wniosek 2026 r.'!C852","v":0},{"$f":"'Wniosek 2026 r.'!E852","v":0},{"$f":"'Wniosek 2026 r.'!C1006","v":0}]
[null,null,null,null,null,null,null,null,null,null,null,null,null,null,null,null,null,null,null,null,null,null,{"$f":"'Wniosek 2026 r.'!A70","v":32},{"$f":"'Wniosek 2026 r.'!B70","v":0},{"$f":"'Wniosek 2026 r.'!C70","v":0},{"$f":"'Wniosek 2026 r.'!D70","v":0},{"$f":"'Wniosek 2026 r.'!E70","v":0},{"$f":"'Wniosek 2026 r.'!F70","v":0},{"$f":"'Wniosek 2026 r.'!G70","v":0},{"$f":"'Wniosek 2026 r.'!H70","v":"00:00:00"},{"$f":"'Wniosek 2026 r.'!C233","v":0},{"$f":"'Wniosek 2026 r.'!C389","v":0},{"$f":"'Wniosek 2026 r.'!D389","v":0},{"$f":"'Wniosek 2026 r.'!F389","v":0},{"$f":"'Wniosek 2026 r.'!H389","v":0},{"$f":"'Wniosek 2026 r.'!C543","v":0},{"$f":"'Wniosek 2026 r.'!C698","v":0},{"$f":"'Wniosek 2026 r.'!C853","v":0},{"$f":"'Wniosek 2026 r.'!E853","v":0},{"$f":"'Wniosek 2026 r.'!C1007","v":0}]
[null,null,null,null,null,null,null,null,null,null,null,null,null,null,null,null,null,null,null,null,null,null,{"$f":"'Wniosek 2026 r.'!A71","v":33},{"$f":"'Wniosek 2026 r.'!B71","v":0},{"$f":"'Wniosek 2026 r.'!C71","v":0},{"$f":"'Wniosek 2026 r.'!D71","v":0},{"$f":"'Wniosek 2026 r.'!E71","v":0},{"$f":"'Wniosek 2026 r.'!F71","v":0},{"$f":"'Wniosek 2026 r.'!G71","v":0},{"$f":"'Wniosek 2026 r.'!H71","v":"00:00:00"},{"$f":"'Wniosek 2026 r.'!C234","v":0},{"$f":"'Wniosek 2026 r.'!C390","v":0},{"$f":"'Wniosek 2026 r.'!D390","v":0},{"$f":"'Wniosek 2026 r.'!F390","v":0},{"$f":"'Wniosek 2026 r.'!H390","v":0},{"$f":"'Wniosek 2026 r.'!C544","v":0},{"$f":"'Wniosek 2026 r.'!C699","v":0},{"$f":"'Wniosek 2026 r.'!C854","v":0},{"$f":"'Wniosek 2026 r.'!E854","v":0},{"$f":"'Wniosek 2026 r.'!C1008","v":0}]
[null,null,null,null,null,null,null,null,null,null,null,null,null,null,null,null,null,null,null,null,null,null,{"$f":"'Wniosek 2026 r.'!A72","v":34},{"$f":"'Wniosek 2026 r.'!B72","v":0},{"$f":"'Wniosek 2026 r.'!C72","v":0},{"$f":"'Wniosek 2026 r.'!D72","v":0},{"$f":"'Wniosek 2026 r.'!E72","v":0},{"$f":"'Wniosek 2026 r.'!F72","v":0},{"$f":"'Wniosek 2026 r.'!G72","v":0},{"$f":"'Wniosek 2026 r.'!H72","v":"00:00:00"},{"$f":"'Wniosek 2026 r.'!C235","v":0},{"$f":"'Wniosek 2026 r.'!C391","v":0},{"$f":"'Wniosek 2026 r.'!D391","v":0},{"$f":"'Wniosek 2026 r.'!F391","v":0},{"$f":"'Wniosek 2026 r.'!H391","v":0},{"$f":"'Wniosek 2026 r.'!C545","v":0},{"$f":"'Wniosek 2026 r.'!C700","v":0},{"$f":"'Wniosek 2026 r.'!C855","v":0},{"$f":"'Wniosek 2026 r.'!E855","v":0},{"$f":"'Wniosek 2026 r.'!C1009","v":0}]
[null,null,null,null,null,null,null,null,null,null,null,null,null,null,null,null,null,null,null,null,null,null,{"$f":"'Wniosek 2026 r.'!A73","v":35},{"$f":"'Wniosek 2026 r.'!B73","v":0},{"$f":"'Wniosek 2026 r.'!C73","v":0},{"$f":"'Wniosek 2026 r.'!D73","v":0},{"$f":"'Wniosek 2026 r.'!E73","v":0},{"$f":"'Wniosek 2026 r.'!F73","v":0},{"$f":"'Wniosek 2026 r.'!G73","v":0},{"$f":"'Wniosek 2026 r.'!H73","v":"00:00:00"},{"$f":"'Wniosek 2026 r.'!C236","v":0},{"$f":"'Wniosek 2026 r.'!C392","v":0},{"$f":"'Wniosek 2026 r.'!D392","v":0},{"$f":"'Wniosek 2026 r.'!F392","v":0},{"$f":"'Wniosek 2026 r.'!H392","v":0},{"$f":"'Wniosek 2026 r.'!C546","v":0},{"$f":"'Wniosek 2026 r.'!C701","v":0},{"$f":"'Wniosek 2026 r.'!C856","v":0},{"$f":"'Wniosek 2026 r.'!E856","v":0},{"$f":"'Wniosek 2026 r.'!C1010","v":0}]
[null,null,null,null,null,null,null,null,null,null,null,null,null,null,null,null,null,null,null,null,null,null,{"$f":"'Wniosek 2026 r.'!A74","v":36},{"$f":"'Wniosek 2026 r.'!B74","v":0},{"$f":"'Wniosek 2026 r.'!C74","v":0},{"$f":"'Wniosek 2026 r.'!D74","v":0},{"$f":"'Wniosek 2026 r.'!E74","v":0},{"$f":"'Wniosek 2026 r.'!F74","v":0},{"$f":"'Wniosek 2026 r.'!G74","v":0},{"$f":"'Wniosek 2026 r.'!H74","v":"00:00:00"},{"$f":"'Wniosek 2026 r.'!C237","v":0},{"$f":"'Wniosek 2026 r.'!C393","v":0},{"$f":"'Wniosek 2026 r.'!D393","v":0},{"$f":"'Wniosek 2026 r.'!F393","v":0},{"$f":"'Wniosek 2026 r.'!H393","v":0},{"$f":"'Wniosek 2026 r.'!C547","v":0},{"$f":"'Wniosek 2026 r.'!C702","v":0},{"$f":"'Wniosek 2026 r.'!C857","v":0},{"$f":"'Wniosek 2026 r.'!E857","v":0},{"$f":"'Wniosek 2026 r.'!C1011","v":0}]
[null,null,null,null,null,null,null,null,null,null,null,null,null,null,null,null,null,null,null,null,null,null,{"$f":"'Wniosek 2026 r.'!A75","v":37},{"$f":"'Wniosek 2026 r.'!B75","v":0},{"$f":"'Wniosek 2026 r.'!C75","v":0},{"$f":"'Wniosek 2026 r.'!D75","v":0},{"$f":"'Wniosek 2026 r.'!E75","v":0},{"$f":"'Wniosek 2026 r.'!F75","v":0},{"$f":"'Wniosek 2026 r.'!G75","v":0},{"$f":"'Wniosek 2026 r.'!H75","v":"00:00:00"},{"$f":"'Wniosek 2026 r.'!C238","v":0},{"$f":"'Wniosek 2026 r.'!C394","v":0},{"$f":"'Wniosek 2026 r.'!D394","v":0},{"$f":"'Wniosek 2026 r.'!F394","v":0},{"$f":"'Wniosek 2026 r.'!H394","v":0},{"$f":"'Wniosek 2026 r.'!C548","v":0},{"$f":"'Wniosek 2026 r.'!C703","v":0},{"$f":"'Wniosek 2026 r.'!C858","v":0},{"$f":"'Wniosek 2026 r.'!E858","v":0},{"$f":"'Wniosek 2026 r.'!C1012","v":0}]
[null,null,null,null,null,null,null,null,null,null,null,null,null,null,null,null,null,null,null,null,null,null,{"$f":"'Wniosek 2026 r.'!A76","v":38},{"$f":"'Wniosek 2026 r.'!B76","v":0},{"$f":"'Wniosek 2026 r.'!C76","v":0},{"$f":"'Wniosek 2026 r.'!D76","v":0},{"$f":"'Wniosek 2026 r.'!E76","v":0},{"$f":"'Wniosek 2026 r.'!F76","v":0},{"$f":"'Wniosek 2026 r.'!G76","v":0},{"$f":"'Wniosek 2026 r.'!H76","v":"00:00:00"},{"$f":"'Wniosek 2026 r.'!C239","v":0},{"$f":"'Wniosek 2026 r.'!C395","v":0},{"$f":"'Wniosek 2026 r.'!D395","v":0},{"$f":"'Wniosek 2026 r.'!F395","v":0},{"$f":"'Wniosek 2026 r.'!H395","v":0},{"$f":"'Wniosek 2026 r.'!C549","v":0},{"$f":"'Wniosek 2026 r.'!C704","v":0},{"$f":"'Wniosek 2026 r.'!C859","v":0},{"$f":"'Wniosek 2026 r.'!E859","v":0},{"$f":"'Wniosek 2026 r.'!C1013","v":0}]
[null,null,null,null,null,null,null,null,null,null,null,null,null,null,null,null,null,null,null,null,null,null,{"$f":"'Wniosek 2026 r.'!A77","v":39},{"$f":"'Wniosek 2026 r.'!B77","v":0},{"$f":"'Wniosek 2026 r.'!C77","v":0},{"$f":"'Wniosek 2026 r.'!D77","v":0},{"$f":"'Wniosek 2026 r.'!E77","v":0},{"$f":"'Wniosek 2026 r.'!F77","v":0},{"$f":"'Wniosek 2026 r.'!G77","v":0},{"$f":"'Wniosek 2026 r.'!H77","v":"00:00:00"},{"$f":"'Wniosek 2026 r.'!C240","v":0},{"$f":"'Wniosek 2026 r.'!C396","v":0},{"$f":"'Wniosek 2026 r.'!D396","v":0},{"$f":"'Wniosek 2026 r.'!F396","v":0},{"$f":"'Wniosek 2026 r.'!H396","v":0},{"$f":"'Wniosek 2026 r.'!C550","v":0},{"$f":"'Wniosek 2026 r.'!C705","v":0},{"$f":"'Wniosek 2026 r.'!C860","v":0},{"$f":"'Wniosek 2026 r.'!E860","v":0},{"$f":"'Wniosek 2026 r.'!C1014","v":0}]
[null,null,null,null,null,null,null,null,null,null,null,null,null,null,null,null,null,null,null,null,null,null,{"$f":"'Wniosek 2026 r.'!A78","v":40},{"$f":"'Wniosek 2026 r.'!B78","v":0},{"$f":"'Wniosek 2026 r.'!C78","v":0},{"$f":"'Wniosek 2026 r.'!D78","v":0},{"$f":"'Wniosek 2026 r.'!E78","v":0},{"$f":"'Wniosek 2026 r.'!F78","v":0},{"$f":"'Wniosek 2026 r.'!G78","v":0},{"$f":"'Wniosek 2026 r.'!H78","v":"00:00:00"},{"$f":"'Wniosek 2026 r.'!C241","v":0},{"$f":"'Wniosek 2026 r.'!C397","v":0},{"$f":"'Wniosek 2026 r.'!D397","v":0},{"$f":"'Wniosek 2026 r.'!F397","v":0},{"$f":"'Wniosek 2026 r.'!H397","v":0},{"$f":"'Wniosek 2026 r.'!C551","v":0},{"$f":"'Wniosek 2026 r.'!C706","v":0},{"$f":"'Wniosek 2026 r.'!C861","v":0},{"$f":"'Wniosek 2026 r.'!E861","v":0},{"$f":"'Wniosek 2026 r.'!C1015","v":0}]
[null,null,null,null,null,null,null,null,null,null,null,null,null,null,null,null,null,null,null,null,null,null,{"$f":"'Wniosek 2026 r.'!A79","v":41},{"$f":"'Wniosek 2026 r.'!B79","v":0},{"$f":"'Wniosek 2026 r.'!C79","v":0},{"$f":"'Wniosek 2026 r.'!D79","v":0},{"$f":"'Wniosek 2026 r.'!E79","v":0},{"$f":"'Wniosek 2026 r.'!F79","v":0},{"$f":"'Wniosek 2026 r.'!G79","v":0},{"$f":"'Wniosek 2026 r.'!H79","v":"00:00:00"},{"$f":"'Wniosek 2026 r.'!C242","v":0},{"$f":"'Wniosek 2026 r.'!C398","v":0},{"$f":"'Wniosek 2026 r.'!D398","v":0},{"$f":"'Wniosek 2026 r.'!F398","v":0},{"$f":"'Wniosek 2026 r.'!H398","v":0},{"$f":"'Wniosek 2026 r.'!C552","v":0},{"$f":"'Wniosek 2026 r.'!C707","v":0},{"$f":"'Wniosek 2026 r.'!C862","v":0},{"$f":"'Wniosek 2026 r.'!E862","v":0},{"$f":"'Wniosek 2026 r.'!C1016","v":0}]
[null,null,null,null,null,null,null,null,null,null,null,null,null,null,null,null,null,null,null,null,null,null,{"$f":"'Wniosek 2026 r.'!A80","v":42},{"$f":"'Wniosek 2026 r.'!B80","v":0},{"$f":"'Wniosek 2026 r.'!C80","v":0},{"$f":"'Wniosek 2026 r.'!D80","v":0},{"$f":"'Wniosek 2026 r.'!E80","v":0},{"$f":"'Wniosek 2026 r.'!F80","v":0},{"$f":"'Wniosek 2026 r.'!G80","v":0},{"$f":"'Wniosek 2026 r.'!H80","v":"00:00:00"},{"$f":"'Wniosek 2026 r.'!C243","v":0},{"$f":"'Wniosek 2026 r.'!C399","v":0},{"$f":"'Wniosek 2026 r.'!D399","v":0},{"$f":"'Wniosek 2026 r.'!F399","v":0},{"$f":"'Wniosek 2026 r.'!H399","v":0},{"$f":"'Wniosek 2026 r.'!C553","v":0},{"$f":"'Wniosek 2026 r.'!C708","v":0},{"$f":"'Wniosek 2026 r.'!C863","v":0},{"$f":"'Wniosek 2026 r.'!E863","v":0},{"$f":"'Wniosek 2026 r.'!C1017","v":0}]
[null,null,null,null,null,null,null,null,null,null,null,null,null,null,null,null,null,null,null,null,null,null,{"$f":"'Wniosek 2026 r.'!A81","v":43},{"$f":"'Wniosek 2026 r.'!B81","v":0},{"$f":"'Wniosek 2026 r.'!C81","v":0},{"$f":"'Wniosek 2026 r.'!D81","v":0},{"$f":"'Wniosek 2026 r.'!E81","v":0},{"$f":"'Wniosek 2026 r.'!F81","v":0},{"$f":"'Wniosek 2026 r.'!G81","v":0},{"$f":"'Wniosek 2026 r.'!H81","v":"00:00:00"},{"$f":"'Wniosek 2026 r.'!C244","v":0},{"$f":"'Wniosek 2026 r.'!C400","v":0},{"$f":"'Wniosek 2026 r.'!D400","v":0},{"$f":"'Wniosek 2026 r.'!F400","v":0},{"$f":"'Wniosek 2026 r.'!H400","v":0},{"$f":"'Wniosek 2026 r.'!C554","v":0},{"$f":"'Wniosek 2026 r.'!C709","v":0},{"$f":"'Wniosek 2026 r.'!C864","v":0},{"$f":"'Wniosek 2026 r.'!E864","v":0},{"$f":"'Wniosek 2026 r.'!C1018","v":0}]
[null,null,null,null,null,null,null,null,null,null,null,null,null,null,null,null,null,null,null,null,null,null,{"$f":"'Wniosek 2026 r.'!A82","v":44},{"$f":"'Wniosek 2026 r.'!B82","v":0},{"$f":"'Wniosek 2026 r.'!C82","v":0},{"$f":"'Wniosek 2026 r.'!D82","v":0},{"$f":"'Wniosek 2026 r.'!E82","v":0},{"$f":"'Wniosek 2026 r.'!F82","v":0},{"$f":"'Wniosek 2026 r.'!G82","v":0},{"$f":"'Wniosek 2026 r.'!H82","v":"00:00:00"},{"$f":"'Wniosek 2026 r.'!C245","v":0},{"$f":"'Wniosek 2026 r.'!C401","v":0},{"$f":"'Wniosek 2026 r.'!D401","v":0},{"$f":"'Wniosek 2026 r.'!F401","v":0},{"$f":"'Wniosek 2026 r.'!H401","v":0},{"$f":"'Wniosek 2026 r.'!C555","v":0},{"$f":"'Wniosek 2026 r.'!C710","v":0},{"$f":"'Wniosek 2026 r.'!C865","v":0},{"$f":"'Wniosek 2026 r.'!E865","v":0},{"$f":"'Wniosek 2026 r.'!C1019","v":0}]
[null,null,null,null,null,null,null,null,null,null,null,null,null,null,null,null,null,null,null,null,null,null,{"$f":"'Wniosek 2026 r.'!A83","v":45},{"$f":"'Wniosek 2026 r.'!B83","v":0},{"$f":"'Wniosek 2026 r.'!C83","v":0},{"$f":"'Wniosek 2026 r.'!D83","v":0},{"$f":"'Wniosek 2026 r.'!E83","v":0},{"$f":"'Wniosek 2026 r.'!F83","v":0},{"$f":"'Wniosek 2026 r.'!G83","v":0},{"$f":"'Wniosek 2026 r.'!H83","v":"00:00:00"},{"$f":"'Wniosek 2026 r.'!C246","v":0},{"$f":"'Wniosek 2026 r.'!C402","v":0},{"$f":"'Wniosek 2026 r.'!D402","v":0},{"$f":"'Wniosek 2026 r.'!F402","v":0},{"$f":"'Wniosek 2026 r.'!H402","v":0},{"$f":"'Wniosek 2026 r.'!C556","v":0},{"$f":"'Wniosek 2026 r.'!C711","v":0},{"$f":"'Wniosek 2026 r.'!C866","v":0},{"$f":"'Wniosek 2026 r.'!E866","v":0},{"$f":"'Wniosek 2026 r.'!C1020","v":0}]
[null,null,null,null,null,null,null,null,null,null,null,null,null,null,null,null,null,null,null,null,null,null,{"$f":"'Wniosek 2026 r.'!A84","v":46},{"$f":"'Wniosek 2026 r.'!B84","v":0},{"$f":"'Wniosek 2026 r.'!C84","v":0},{"$f":"'Wniosek 2026 r.'!D84","v":0},{"$f":"'Wniosek 2026 r.'!E84","v":0},{"$f":"'Wniosek 2026 r.'!F84","v":0},{"$f":"'Wniosek 2026 r.'!G84","v":0},{"$f":"'Wniosek 2026 r.'!H84","v":"00:00:00"},{"$f":"'Wniosek 2026 r.'!C247","v":0},{"$f":"'Wniosek 2026 r.'!C403","v":0},{"$f":"'Wniosek 2026 r.'!D403","v":0},{"$f":"'Wniosek 2026 r.'!F403","v":0},{"$f":"'Wniosek 2026 r.'!H403","v":0},{"$f":"'Wniosek 2026 r.'!C557","v":0},{"$f":"'Wniosek 2026 r.'!C712","v":0},{"$f":"'Wniosek 2026 r.'!C867","v":0},{"$f":"'Wniosek 2026 r.'!E867","v":0},{"$f":"'Wniosek 2026 r.'!C1021","v":0}]
[null,null,null,null,null,null,null,null,null,null,null,null,null,null,null,null,null,null,null,null,null,null,{"$f":"'Wniosek 2026 r.'!A85","v":47},{"$f":"'Wniosek 2026 r.'!B85","v":0},{"$f":"'Wniosek 2026 r.'!C85","v":0},{"$f":"'Wniosek 2026 r.'!D85","v":0},{"$f":"'Wniosek 2026 r.'!E85","v":0},{"$f":"'Wniosek 2026 r.'!F85","v":0},{"$f":"'Wniosek 2026 r.'!G85","v":0},{"$f":"'Wniosek 2026 r.'!H85","v":"00:00:00"},{"$f":"'Wniosek 2026 r.'!C248","v":0},{"$f":"'Wniosek 2026 r.'!C404","v":0},{"$f":"'Wniosek 2026 r.'!D404","v":0},{"$f":"'Wniosek 2026 r.'!F404","v":0},{"$f":"'Wniosek 2026 r.'!H404","v":0},{"$f":"'Wniosek 2026 r.'!C558","v":0},{"$f":"'Wniosek 2026 r.'!C713","v":0},{"$f":"'Wniosek 2026 r.'!C868","v":0},{"$f":"'Wniosek 2026 r.'!E868","v":0},{"$f":"'Wniosek 2026 r.'!C1022","v":0}]
[null,null,null,null,null,null,null,null,null,null,null,null,null,null,null,null,null,null,null,null,null,null,{"$f":"'Wniosek 2026 r.'!A86","v":48},{"$f":"'Wniosek 2026 r.'!B86","v":0},{"$f":"'Wniosek 2026 r.'!C86","v":0},{"$f":"'Wniosek 2026 r.'!D86","v":0},{"$f":"'Wniosek 2026 r.'!E86","v":0},{"$f":"'Wniosek 2026 r.'!F86","v":0},{"$f":"'Wniosek 2026 r.'!G86","v":0},{"$f":"'Wniosek 2026 r.'!H86","v":"00:00:00"},{"$f":"'Wniosek 2026 r.'!C249","v":0},{"$f":"'Wniosek 2026 r.'!C405","v":0},{"$f":"'Wniosek 2026 r.'!D405","v":0},{"$f":"'Wniosek 2026 r.'!F405","v":0},{"$f":"'Wniosek 2026 r.'!H405","v":0},{"$f":"'Wniosek 2026 r.'!C559","v":0},{"$f":"'Wniosek 2026 r.'!C714","v":0},{"$f":"'Wniosek 2026 r.'!C869","v":0},{"$f":"'Wniosek 2026 r.'!E869","v":0},{"$f":"'Wniosek 2026 r.'!C1023","v":0}]
[null,null,null,null,null,null,null,null,null,null,null,null,null,null,null,null,null,null,null,null,null,null,{"$f":"'Wniosek 2026 r.'!A87","v":49},{"$f":"'Wniosek 2026 r.'!B87","v":0},{"$f":"'Wniosek 2026 r.'!C87","v":0},{"$f":"'Wniosek 2026 r.'!D87","v":0},{"$f":"'Wniosek 2026 r.'!E87","v":0},{"$f":"'Wniosek 2026 r.'!F87","v":0},{"$f":"'Wniosek 2026 r.'!G87","v":0},{"$f":"'Wniosek 2026 r.'!H87","v":"00:00:00"},{"$f":"'Wniosek 2026 r.'!C250","v":0},{"$f":"'Wniosek 2026 r.'!C406","v":0},{"$f":"'Wniosek 2026 r.'!D406","v":0},{"$f":"'Wniosek 2026 r.'!F406","v":0},{"$f":"'Wniosek 2026 r.'!H406","v":0},{"$f":"'Wniosek 2026 r.'!C560","v":0},{"$f":"'Wniosek 2026 r.'!C715","v":0},{"$f":"'Wniosek 2026 r.'!C870","v":0},{"$f":"'Wniosek 2026 r.'!E870","v":0},{"$f":"'Wniosek 2026 r.'!C1024","v":0}]
[null,null,null,null,null,null,null,null,null,null,null,null,null,null,null,null,null,null,null,null,null,null,{"$f":"'Wniosek 2026 r.'!A88","v":50},{"$f":"'Wniosek 2026 r.'!B88","v":0},{"$f":"'Wniosek 2026 r.'!C88","v":0},{"$f":"'Wniosek 2026 r.'!D88","v":0},{"$f":"'Wniosek 2026 r.'!E88","v":0},{"$f":"'Wniosek 2026 r.'!F88","v":0},{"$f":"'Wniosek 2026 r.'!G88","v":0},{"$f":"'Wniosek 2026 r.'!H88","v":"00:00:00"},{"$f":"'Wniosek 2026 r.'!C251","v":0},{"$f":"'Wniosek 2026 r.'!C407","v":0},{"$f":"'Wniosek 2026 r.'!D407","v":0},{"$f":"'Wniosek 2026 r.'!F407","v":0},{"$f":"'Wniosek 2026 r.'!H407","v":0},{"$f":"'Wniosek 2026 r.'!C561","v":0},{"$f":"'Wniosek 2026 r.'!C716","v":0},{"$f":"'Wniosek 2026 r.'!C871","v":0},{"$f":"'Wniosek 2026 r.'!E871","v":0},{"$f":"'Wniosek 2026 r.'!C1025","v":0}]
[null,null,null,null,null,null,null,null,null,null,null,null,null,null,null,null,null,null,null,null,null,null,{"$f":"'Wniosek 2026 r.'!A89","v":51},{"$f":"'Wniosek 2026 r.'!B89","v":0},{"$f":"'Wniosek 2026 r.'!C89","v":0},{"$f":"'Wniosek 2026 r.'!D89","v":0},{"$f":"'Wniosek 2026 r.'!E89","v":0},{"$f":"'Wniosek 2026 r.'!F89","v":0},{"$f":"'Wniosek 2026 r.'!G89","v":0},{"$f":"'Wniosek 2026 r.'!H89","v":"00:00:00"},{"$f":"'Wniosek 2026 r.'!C252","v":0},{"$f":"'Wniosek 2026 r.'!C408","v":0},{"$f":"'Wniosek 2026 r.'!D408","v":0},{"$f":"'Wniosek 2026 r.'!F408","v":0},{"$f":"'Wniosek 2026 r.'!H408","v":0},{"$f":"'Wniosek 2026 r.'!C562","v":0},{"$f":"'Wniosek 2026 r.'!C717","v":0},{"$f":"'Wniosek 2026 r.'!C872","v":0},{"$f":"'Wniosek 2026 r.'!E872","v":0},{"$f":"'Wniosek 2026 r.'!C1026","v":0}]
[null,null,null,null,null,null,null,null,null,null,null,null,null,null,null,null,null,null,null,null,null,null,{"$f":"'Wniosek 2026 r.'!A90","v":52},{"$f":"'Wniosek 2026 r.'!B90","v":0},{"$f":"'Wniosek 2026 r.'!C90","v":0},{"$f":"'Wniosek 2026 r.'!D90","v":0},{"$f":"'Wniosek 2026 r.'!E90","v":0},{"$f":"'Wniosek 2026 r.'!F90","v":0},{"$f":"'Wniosek 2026 r.'!G90","v":0},{"$f":"'Wniosek 2026 r.'!H90","v":"00:00:00"},{"$f":"'Wniosek 2026 r.'!C253","v":0},{"$f":"'Wniosek 2026 r.'!C409","v":0},{"$f":"'Wniosek 2026 r.'!D409","v":0},{"$f":"'Wniosek 2026 r.'!F409","v":0},{"$f":"'Wniosek 2026 r.'!H409","v":0},{"$f":"'Wniosek 2026 r.'!C563","v":0},{"$f":"'Wniosek 2026 r.'!C718","v":0},{"$f":"'Wniosek 2026 r.'!C873","v":0},{"$f":"'Wniosek 2026 r.'!E873","v":0},{"$f":"'Wniosek 2026 r.'!C1027","v":0}]
[null,null,null,null,null,null,null,null,null,null,null,null,null,null,null,null,null,null,null,null,null,null,{"$f":"'Wniosek 2026 r.'!A91","v":53},{"$f":"'Wniosek 2026 r.'!B91","v":0},{"$f":"'Wniosek 2026 r.'!C91","v":0},{"$f":"'Wniosek 2026 r.'!D91","v":0},{"$f":"'Wniosek 2026 r.'!E91","v":0},{"$f":"'Wniosek 2026 r.'!F91","v":0},{"$f":"'Wniosek 2026 r.'!G91","v":0},{"$f":"'Wniosek 2026 r.'!H91","v":"00:00:00"},{"$f":"'Wniosek 2026 r.'!C254","v":0},{"$f":"'Wniosek 2026 r.'!C410","v":0},{"$f":"'Wniosek 2026 r.'!D410","v":0},{"$f":"'Wniosek 2026 r.'!F410","v":0},{"$f":"'Wniosek 2026 r.'!H410","v":0},{"$f":"'Wniosek 2026 r.'!C564","v":0},{"$f":"'Wniosek 2026 r.'!C719","v":0},{"$f":"'Wniosek 2026 r.'!C874","v":0},{"$f":"'Wniosek 2026 r.'!E874","v":0},{"$f":"'Wniosek 2026 r.'!C1028","v":0}]
[null,null,null,null,null,null,null,null,null,null,null,null,null,null,null,null,null,null,null,null,null,null,{"$f":"'Wniosek 2026 r.'!A92","v":54},{"$f":"'Wniosek 2026 r.'!B92","v":0},{"$f":"'Wniosek 2026 r.'!C92","v":0},{"$f":"'Wniosek 2026 r.'!D92","v":0},{"$f":"'Wniosek 2026 r.'!E92","v":0},{"$f":"'Wniosek 2026 r.'!F92","v":0},{"$f":"'Wniosek 2026 r.'!G92","v":0},{"$f":"'Wniosek 2026 r.'!H92","v":"00:00:00"},{"$f":"'Wniosek 2026 r.'!C255","v":0},{"$f":"'Wniosek 2026 r.'!C411","v":0},{"$f":"'Wniosek 2026 r.'!D411","v":0},{"$f":"'Wniosek 2026 r.'!F411","v":0},{"$f":"'Wniosek 2026 r.'!H411","v":0},{"$f":"'Wniosek 2026 r.'!C565","v":0},{"$f":"'Wniosek 2026 r.'!C720","v":0},{"$f":"'Wniosek 2026 r.'!C875","v":0},{"$f":"'Wniosek 2026 r.'!E875","v":0},{"$f":"'Wniosek 2026 r.'!C1029","v":0}]
[null,null,null,null,null,null,null,null,null,null,null,null,null,null,null,null,null,null,null,null,null,null,{"$f":"'Wniosek 2026 r.'!A93","v":55},{"$f":"'Wniosek 2026 r.'!B93","v":0},{"$f":"'Wniosek 2026 r.'!C93","v":0},{"$f":"'Wniosek 2026 r.'!D93","v":0},{"$f":"'Wniosek 2026 r.'!E93","v":0},{"$f":"'Wniosek 2026 r.'!F93","v":0},{"$f":"'Wniosek 2026 r.'!G93","v":0},{"$f":"'Wniosek 2026 r.'!H93","v":"00:00:00"},{"$f":"'Wniosek 2026 r.'!C256","v":0},{"$f":"'Wniosek 2026 r.'!C412","v":0},{"$f":"'Wniosek 2026 r.'!D412","v":0},{"$f":"'Wniosek 2026 r.'!F412","v":0},{"$f":"'Wniosek 2026 r.'!H412","v":0},{"$f":"'Wniosek 2026 r.'!C566","v":0},{"$f":"'Wniosek 2026 r.'!C721","v":0},{"$f":"'Wniosek 2026 r.'!C876","v":0},{"$f":"'Wniosek 2026 r.'!E876","v":0},{"$f":"'Wniosek 2026 r.'!C1030","v":0}]
[null,null,null,null,null,null,null,null,null,null,null,null,null,null,null,null,null,null,null,null,null,null,{"$f":"'Wniosek 2026 r.'!A94","v":56},{"$f":"'Wniosek 2026 r.'!B94","v":0},{"$f":"'Wniosek 2026 r.'!C94","v":0},{"$f":"'Wniosek 2026 r.'!D94","v":0},{"$f":"'Wniosek 2026 r.'!E94","v":0},{"$f":"'Wniosek 2026 r.'!F94","v":0},{"$f":"'Wniosek 2026 r.'!G94","v":0},{"$f":"'Wniosek 2026 r.'!H94","v":"00:00:00"},{"$f":"'Wniosek 2026 r.'!C257","v":0},{"$f":"'Wniosek 2026 r.'!C413","v":0},{"$f":"'Wniosek 2026 r.'!D413","v":0},{"$f":"'Wniosek 2026 r.'!F413","v":0},{"$f":"'Wniosek 2026 r.'!H413","v":0},{"$f":"'Wniosek 2026 r.'!C567","v":0},{"$f":"'Wniosek 2026 r.'!C722","v":0},{"$f":"'Wniosek 2026 r.'!C877","v":0},{"$f":"'Wniosek 2026 r.'!E877","v":0},{"$f":"'Wniosek 2026 r.'!C1031","v":0}]
[null,null,null,null,null,null,null,null,null,null,null,null,null,null,null,null,null,null,null,null,null,null,{"$f":"'Wniosek 2026 r.'!A95","v":57},{"$f":"'Wniosek 2026 r.'!B95","v":0},{"$f":"'Wniosek 2026 r.'!C95","v":0},{"$f":"'Wniosek 2026 r.'!D95","v":0},{"$f":"'Wniosek 2026 r.'!E95","v":0},{"$f":"'Wniosek 2026 r.'!F95","v":0},{"$f":"'Wniosek 2026 r.'!G95","v":0},{"$f":"'Wniosek 2026 r.'!H95","v":"00:00:00"},{"$f":"'Wniosek 2026 r.'!C258","v":0},{"$f":"'Wniosek 2026 r.'!C414","v":0},{"$f":"'Wniosek 2026 r.'!D414","v":0},{"$f":"'Wniosek 2026 r.'!F414","v":0},{"$f":"'Wniosek 2026 r.'!H414","v":0},{"$f":"'Wniosek 2026 r.'!C568","v":0},{"$f":"'Wniosek 2026 r.'!C723","v":0},{"$f":"'Wniosek 2026 r.'!C878","v":0},{"$f":"'Wniosek 2026 r.'!E878","v":0},{"$f":"'Wniosek 2026 r.'!C1032","v":0}]
[null,null,null,null,null,null,null,null,null,null,null,null,null,null,null,null,null,null,null,null,null,null,{"$f":"'Wniosek 2026 r.'!A96","v":58},{"$f":"'Wniosek 2026 r.'!B96","v":0},{"$f":"'Wniosek 2026 r.'!C96","v":0},{"$f":"'Wniosek 2026 r.'!D96","v":0},{"$f":"'Wniosek 2026 r.'!E96","v":0},{"$f":"'Wniosek 2026 r.'!F96","v":0},{"$f":"'Wniosek 2026 r.'!G96","v":0},{"$f":"'Wniosek 2026 r.'!H96","v":"00:00:00"},{"$f":"'Wniosek 2026 r.'!C259","v":0},{"$f":"'Wniosek 2026 r.'!C415","v":0},{"$f":"'Wniosek 2026 r.'!D415","v":0},{"$f":"'Wniosek 2026 r.'!F415","v":0},{"$f":"'Wniosek 2026 r.'!H415","v":0},{"$f":"'Wniosek 2026 r.'!C569","v":0},{"$f":"'Wniosek 2026 r.'!C724","v":0},{"$f":"'Wniosek 2026 r.'!C879","v":0},{"$f":"'Wniosek 2026 r.'!E879","v":0},{"$f":"'Wniosek 2026 r.'!C1033","v":0}]
[null,null,null,null,null,null,null,null,null,null,null,null,null,null,null,null,null,null,null,null,null,null,{"$f":"'Wniosek 2026 r.'!A97","v":59},{"$f":"'Wniosek 2026 r.'!B97","v":0},{"$f":"'Wniosek 2026 r.'!C97","v":0},{"$f":"'Wniosek 2026 r.'!D97","v":0},{"$f":"'Wniosek 2026 r.'!E97","v":0},{"$f":"'Wniosek 2026 r.'!F97","v":0},{"$f":"'Wniosek 2026 r.'!G97","v":0},{"$f":"'Wniosek 2026 r.'!H97","v":"00:00:00"},{"$f":"'Wniosek 2026 r.'!C260","v":0},{"$f":"'Wniosek 2026 r.'!C416","v":0},{"$f":"'Wniosek 2026 r.'!D416","v":0},{"$f":"'Wniosek 2026 r.'!F416","v":0},{"$f":"'Wniosek 2026 r.'!H416","v":0},{"$f":"'Wniosek 2026 r.'!C570","v":0},{"$f":"'Wniosek 2026 r.'!C725","v":0},{"$f":"'Wniosek 2026 r.'!C880","v":0},{"$f":"'Wniosek 2026 r.'!E880","v":0},{"$f":"'Wniosek 2026 r.'!C1034","v":0}]
[null,null,null,null,null,null,null,null,null,null,null,null,null,null,null,null,null,null,null,null,null,null,{"$f":"'Wniosek 2026 r.'!A98","v":60},{"$f":"'Wniosek 2026 r.'!B98","v":0},{"$f":"'Wniosek 2026 r.'!C98","v":0},{"$f":"'Wniosek 2026 r.'!D98","v":0},{"$f":"'Wniosek 2026 r.'!E98","v":0},{"$f":"'Wniosek 2026 r.'!F98","v":0},{"$f":"'Wniosek 2026 r.'!G98","v":0},{"$f":"'Wniosek 2026 r.'!H98","v":"00:00:00"},{"$f":"'Wniosek 2026 r.'!C261","v":0},{"$f":"'Wniosek 2026 r.'!C417","v":0},{"$f":"'Wniosek 2026 r.'!D417","v":0},{"$f":"'Wniosek 2026 r.'!F417","v":0},{"$f":"'Wniosek 2026 r.'!H417","v":0},{"$f":"'Wniosek 2026 r.'!C571","v":0},{"$f":"'Wniosek 2026 r.'!C726","v":0},{"$f":"'Wniosek 2026 r.'!C881","v":0},{"$f":"'Wniosek 2026 r.'!E881","v":0},{"$f":"'Wniosek 2026 r.'!C1035","v":0}]
[null,null,null,null,null,null,null,null,null,null,null,null,null,null,null,null,null,null,null,null,null,null,{"$f":"'Wniosek 2026 r.'!A99","v":61},{"$f":"'Wniosek 2026 r.'!B99","v":0},{"$f":"'Wniosek 2026 r.'!C99","v":0},{"$f":"'Wniosek 2026 r.'!D99","v":0},{"$f":"'Wniosek 2026 r.'!E99","v":0},{"$f":"'Wniosek 2026 r.'!F99","v":0},{"$f":"'Wniosek 2026 r.'!G99","v":0},{"$f":"'Wniosek 2026 r.'!H99","v":"00:00:00"},{"$f":"'Wniosek 2026 r.'!C262","v":0},{"$f":"'Wniosek 2026 r.'!C418","v":0},{"$f":"'Wniosek 2026 r.'!D418","v":0},{"$f":"'Wniosek 2026 r.'!F418","v":0},{"$f":"'Wniosek 2026 r.'!H418","v":0},{"$f":"'Wniosek 2026 r.'!C572","v":0},{"$f":"'Wniosek 2026 r.'!C727","v":0},{"$f":"'Wniosek 2026 r.'!C882","v":0},{"$f":"'Wniosek 2026 r.'!E882","v":0},{"$f":"'Wniosek 2026 r.'!C1036","v":0}]
[null,null,null,null,null,null,null,null,null,null,null,null,null,null,null,null,null,null,null,null,null,null,{"$f":"'Wniosek 2026 r.'!A100","v":62},{"$f":"'Wniosek 2026 r.'!B100","v":0},{"$f":"'Wniosek 2026 r.'!C100","v":0},{"$f":"'Wniosek 2026 r.'!D100","v":0},{"$f":"'Wniosek 2026 r.'!E100","v":0},{"$f":"'Wniosek 2026 r.'!F100","v":0},{"$f":"'Wniosek 2026 r.'!G100","v":0},{"$f":"'Wniosek 2026 r.'!H100","v":"00:00:00"},{"$f":"'Wniosek 2026 r.'!C263","v":0},{"$f":"'Wniosek 2026 r.'!C419","v":0},{"$f":"'Wniosek 2026 r.'!D419","v":0},{"$f":"'Wniosek 2026 r.'!F419","v":0},{"$f":"'Wniosek 2026 r.'!H419","v":0},{"$f":"'Wniosek 2026 r.'!C573","v":0},{"$f":"'Wniosek 2026 r.'!C728","v":0},{"$f":"'Wniosek 2026 r.'!C883","v":0},{"$f":"'Wniosek 2026 r.'!E883","v":0},{"$f":"'Wniosek 2026 r.'!C1037","v":0}]
[null,null,null,null,null,null,null,null,null,null,null,null,null,null,null,null,null,null,null,null,null,null,{"$f":"'Wniosek 2026 r.'!A101","v":63},{"$f":"'Wniosek 2026 r.'!B101","v":0},{"$f":"'Wniosek 2026 r.'!C101","v":0},{"$f":"'Wniosek 2026 r.'!D101","v":0},{"$f":"'Wniosek 2026 r.'!E101","v":0},{"$f":"'Wniosek 2026 r.'!F101","v":0},{"$f":"'Wniosek 2026 r.'!G101","v":0},{"$f":"'Wniosek 2026 r.'!H101","v":"00:00:00"},{"$f":"'Wniosek 2026 r.'!C264","v":0},{"$f":"'Wniosek 2026 r.'!C420","v":0},{"$f":"'Wniosek 2026 r.'!D420","v":0},{"$f":"'Wniosek 2026 r.'!F420","v":0},{"$f":"'Wniosek 2026 r.'!H420","v":0},{"$f":"'Wniosek 2026 r.'!C574","v":0},{"$f":"'Wniosek 2026 r.'!C729","v":0},{"$f":"'Wniosek 2026 r.'!C884","v":0},{"$f":"'Wniosek 2026 r.'!E884","v":0},{"$f":"'Wniosek 2026 r.'!C1038","v":0}]
[null,null,null,null,null,null,null,null,null,null,null,null,null,null,null,null,null,null,null,null,null,null,{"$f":"'Wniosek 2026 r.'!A102","v":64},{"$f":"'Wniosek 2026 r.'!B102","v":0},{"$f":"'Wniosek 2026 r.'!C102","v":0},{"$f":"'Wniosek 2026 r.'!D102","v":0},{"$f":"'Wniosek 2026 r.'!E102","v":0},{"$f":"'Wniosek 2026 r.'!F102","v":0},{"$f":"'Wniosek 2026 r.'!G102","v":0},{"$f":"'Wniosek 2026 r.'!H102","v":"00:00:00"},{"$f":"'Wniosek 2026 r.'!C265","v":0},{"$f":"'Wniosek 2026 r.'!C421","v":0},{"$f":"'Wniosek 2026 r.'!D421","v":0},{"$f":"'Wniosek 2026 r.'!F421","v":0},{"$f":"'Wniosek 2026 r.'!H421","v":0},{"$f":"'Wniosek 2026 r.'!C575","v":0},{"$f":"'Wniosek 2026 r.'!C730","v":0},{"$f":"'Wniosek 2026 r.'!C885","v":0},{"$f":"'Wniosek 2026 r.'!E885","v":0},{"$f":"'Wniosek 2026 r.'!C1039","v":0}]
[null,null,null,null,null,null,null,null,null,null,null,null,null,null,null,null,null,null,null,null,null,null,{"$f":"'Wniosek 2026 r.'!A103","v":65},{"$f":"'Wniosek 2026 r.'!B103","v":0},{"$f":"'Wniosek 2026 r.'!C103","v":0},{"$f":"'Wniosek 2026 r.'!D103","v":0},{"$f":"'Wniosek 2026 r.'!E103","v":0},{"$f":"'Wniosek 2026 r.'!F103","v":0},{"$f":"'Wniosek 2026 r.'!G103","v":0},{"$f":"'Wniosek 2026 r.'!H103","v":"00:00:00"},{"$f":"'Wniosek 2026 r.'!C266","v":0},{"$f":"'Wniosek 2026 r.'!C422","v":0},{"$f":"'Wniosek 2026 r.'!D422","v":0},{"$f":"'Wniosek 2026 r.'!F422","v":0},{"$f":"'Wniosek 2026 r.'!H422","v":0},{"$f":"'Wniosek 2026 r.'!C576","v":0},{"$f":"'Wniosek 2026 r.'!C731","v":0},{"$f":"'Wniosek 2026 r.'!C886","v":0},{"$f":"'Wniosek 2026 r.'!E886","v":0},{"$f":"'Wniosek 2026 r.'!C1040","v":0}]
[null,null,null,null,null,null,null,null,null,null,null,null,null,null,null,null,null,null,null,null,null,null,{"$f":"'Wniosek 2026 r.'!A104","v":66},{"$f":"'Wniosek 2026 r.'!B104","v":0},{"$f":"'Wniosek 2026 r.'!C104","v":0},{"$f":"'Wniosek 2026 r.'!D104","v":0},{"$f":"'Wniosek 2026 r.'!E104","v":0},{"$f":"'Wniosek 2026 r.'!F104","v":0},{"$f":"'Wniosek 2026 r.'!G104","v":0},{"$f":"'Wniosek 2026 r.'!H104","v":"00:00:00"},{"$f":"'Wniosek 2026 r.'!C267","v":0},{"$f":"'Wniosek 2026 r.'!C423","v":0},{"$f":"'Wniosek 2026 r.'!D423","v":0},{"$f":"'Wniosek 2026 r.'!F423","v":0},{"$f":"'Wniosek 2026 r.'!H423","v":0},{"$f":"'Wniosek 2026 r.'!C577","v":0},{"$f":"'Wniosek 2026 r.'!C732","v":0},{"$f":"'Wniosek 2026 r.'!C887","v":0},{"$f":"'Wniosek 2026 r.'!E887","v":0},{"$f":"'Wniosek 2026 r.'!C1041","v":0}]
[null,null,null,null,null,null,null,null,null,null,null,null,null,null,null,null,null,null,null,null,null,null,{"$f":"'Wniosek 2026 r.'!A105","v":67},{"$f":"'Wniosek 2026 r.'!B105","v":0},{"$f":"'Wniosek 2026 r.'!C105","v":0},{"$f":"'Wniosek 2026 r.'!D105","v":0},{"$f":"'Wniosek 2026 r.'!E105","v":0},{"$f":"'Wniosek 2026 r.'!F105","v":0},{"$f":"'Wniosek 2026 r.'!G105","v":0},{"$f":"'Wniosek 2026 r.'!H105","v":"00:00:00"},{"$f":"'Wniosek 2026 r.'!C268","v":0},{"$f":"'Wniosek 2026 r.'!C424","v":0},{"$f":"'Wniosek 2026 r.'!D424","v":0},{"$f":"'Wniosek 2026 r.'!F424","v":0},{"$f":"'Wniosek 2026 r.'!H424","v":0},{"$f":"'Wniosek 2026 r.'!C578","v":0},{"$f":"'Wniosek 2026 r.'!C733","v":0},{"$f":"'Wniosek 2026 r.'!C888","v":0},{"$f":"'Wniosek 2026 r.'!E888","v":0},{"$f":"'Wniosek 2026 r.'!C1042","v":0}]
[null,null,null,null,null,null,null,null,null,null,null,null,null,null,null,null,null,null,null,null,null,null,{"$f":"'Wniosek 2026 r.'!A106","v":68},{"$f":"'Wniosek 2026 r.'!B106","v":0},{"$f":"'Wniosek 2026 r.'!C106","v":0},{"$f":"'Wniosek 2026 r.'!D106","v":0},{"$f":"'Wniosek 2026 r.'!E106","v":0},{"$f":"'Wniosek 2026 r.'!F106","v":0},{"$f":"'Wniosek 2026 r.'!G106","v":0},{"$f":"'Wniosek 2026 r.'!H106","v":"00:00:00"},{"$f":"'Wniosek 2026 r.'!C269","v":0},{"$f":"'Wniosek 2026 r.'!C425","v":0},{"$f":"'Wniosek 2026 r.'!D425","v":0},{"$f":"'Wniosek 2026 r.'!F425","v":0},{"$f":"'Wniosek 2026 r.'!H425","v":0},{"$f":"'Wniosek 2026 r.'!C579","v":0},{"$f":"'Wniosek 2026 r.'!C734","v":0},{"$f":"'Wniosek 2026 r.'!C889","v":0},{"$f":"'Wniosek 2026 r.'!E889","v":0},{"$f":"'Wniosek 2026 r.'!C1043","v":0}]
[null,null,null,null,null,null,null,null,null,null,null,null,null,null,null,null,null,null,null,null,null,null,{"$f":"'Wniosek 2026 r.'!A107","v":69},{"$f":"'Wniosek 2026 r.'!B107","v":0},{"$f":"'Wniosek 2026 r.'!C107","v":0},{"$f":"'Wniosek 2026 r.'!D107","v":0},{"$f":"'Wniosek 2026 r.'!E107","v":0},{"$f":"'Wniosek 2026 r.'!F107","v":0},{"$f":"'Wniosek 2026 r.'!G107","v":0},{"$f":"'Wniosek 2026 r.'!H107","v":"00:00:00"},{"$f":"'Wniosek 2026 r.'!C270","v":0},{"$f":"'Wniosek 2026 r.'!C426","v":0},{"$f":"'Wniosek 2026 r.'!D426","v":0},{"$f":"'Wniosek 2026 r.'!F426","v":0},{"$f":"'Wniosek 2026 r.'!H426","v":0},{"$f":"'Wniosek 2026 r.'!C580","v":0},{"$f":"'Wniosek 2026 r.'!C735","v":0},{"$f":"'Wniosek 2026 r.'!C890","v":0},{"$f":"'Wniosek 2026 r.'!E890","v":0},{"$f":"'Wniosek 2026 r.'!C1044","v":0}]
[null,null,null,null,null,null,null,null,null,null,null,null,null,null,null,null,null,null,null,null,null,null,{"$f":"'Wniosek 2026 r.'!A108","v":70},{"$f":"'Wniosek 2026 r.'!B108","v":0},{"$f":"'Wniosek 2026 r.'!C108","v":0},{"$f":"'Wniosek 2026 r.'!D108","v":0},{"$f":"'Wniosek 2026 r.'!E108","v":0},{"$f":"'Wniosek 2026 r.'!F108","v":0},{"$f":"'Wniosek 2026 r.'!G108","v":0},{"$f":"'Wniosek 2026 r.'!H108","v":"00:00:00"},{"$f":"'Wniosek 2026 r.'!C271","v":0},{"$f":"'Wniosek 2026 r.'!C427","v":0},{"$f":"'Wniosek 2026 r.'!D427","v":0},{"$f":"'Wniosek 2026 r.'!F427","v":0},{"$f":"'Wniosek 2026 r.'!H427","v":0},{"$f":"'Wniosek 2026 r.'!C581","v":0},{"$f":"'Wniosek 2026 r.'!C736","v":0},{"$f":"'Wniosek 2026 r.'!C891","v":0},{"$f":"'Wniosek 2026 r.'!E891","v":0},{"$f":"'Wniosek 2026 r.'!C1045","v":0}]
[null,null,null,null,null,null,null,null,null,null,null,null,null,null,null,null,null,null,null,null,null,null,{"$f":"'Wniosek 2026 r.'!A109","v":71},{"$f":"'Wniosek 2026 r.'!B109","v":0},{"$f":"'Wniosek 2026 r.'!C109","v":0},{"$f":"'Wniosek 2026 r.'!D109","v":0},{"$f":"'Wniosek 2026 r.'!E109","v":0},{"$f":"'Wniosek 2026 r.'!F109","v":0},{"$f":"'Wniosek 2026 r.'!G109","v":0},{"$f":"'Wniosek 2026 r.'!H109","v":"00:00:00"},{"$f":"'Wniosek 2026 r.'!C272","v":0},{"$f":"'Wniosek 2026 r.'!C428","v":0},{"$f":"'Wniosek 2026 r.'!D428","v":0},{"$f":"'Wniosek 2026 r.'!F428","v":0},{"$f":"'Wniosek 2026 r.'!H428","v":0},{"$f":"'Wniosek 2026 r.'!C582","v":0},{"$f":"'Wniosek 2026 r.'!C737","v":0},{"$f":"'Wniosek 2026 r.'!C892","v":0},{"$f":"'Wniosek 2026 r.'!E892","v":0},{"$f":"'Wniosek 2026 r.'!C1046","v":0}]
[null,null,null,null,null,null,null,null,null,null,null,null,null,null,null,null,null,null,null,null,null,null,{"$f":"'Wniosek 2026 r.'!A110","v":72},{"$f":"'Wniosek 2026 r.'!B110","v":0},{"$f":"'Wniosek 2026 r.'!C110","v":0},{"$f":"'Wniosek 2026 r.'!D110","v":0},{"$f":"'Wniosek 2026 r.'!E110","v":0},{"$f":"'Wniosek 2026 r.'!F110","v":0},{"$f":"'Wniosek 2026 r.'!G110","v":0},{"$f":"'Wniosek 2026 r.'!H110","v":"00:00:00"},{"$f":"'Wniosek 2026 r.'!C273","v":0},{"$f":"'Wniosek 2026 r.'!C429","v":0},{"$f":"'Wniosek 2026 r.'!D429","v":0},{"$f":"'Wniosek 2026 r.'!F429","v":0},{"$f":"'Wniosek 2026 r.'!H429","v":0},{"$f":"'Wniosek 2026 r.'!C583","v":0},{"$f":"'Wniosek 2026 r.'!C738","v":0},{"$f":"'Wniosek 2026 r.'!C893","v":0},{"$f":"'Wniosek 2026 r.'!E893","v":0},{"$f":"'Wniosek 2026 r.'!C1047","v":0}]
[null,null,null,null,null,null,null,null,null,null,null,null,null,null,null,null,null,null,null,null,null,null,{"$f":"'Wniosek 2026 r.'!A111","v":73},{"$f":"'Wniosek 2026 r.'!B111","v":0},{"$f":"'Wniosek 2026 r.'!C111","v":0},{"$f":"'Wniosek 2026 r.'!D111","v":0},{"$f":"'Wniosek 2026 r.'!E111","v":0},{"$f":"'Wniosek 2026 r.'!F111","v":0},{"$f":"'Wniosek 2026 r.'!G111","v":0},{"$f":"'Wniosek 2026 r.'!H111","v":"00:00:00"},{"$f":"'Wniosek 2026 r.'!C274","v":0},{"$f":"'Wniosek 2026 r.'!C430","v":0},{"$f":"'Wniosek 2026 r.'!D430","v":0},{"$f":"'Wniosek 2026 r.'!F430","v":0},{"$f":"'Wniosek 2026 r.'!H430","v":0},{"$f":"'Wniosek 2026 r.'!C584","v":0},{"$f":"'Wniosek 2026 r.'!C739","v":0},{"$f":"'Wniosek 2026 r.'!C894","v":0},{"$f":"'Wniosek 2026 r.'!E894","v":0},{"$f":"'Wniosek 2026 r.'!C1048","v":0}]
[null,null,null,null,null,null,null,null,null,null,null,null,null,null,null,null,null,null,null,null,null,null,{"$f":"'Wniosek 2026 r.'!A112","v":74},{"$f":"'Wniosek 2026 r.'!B112","v":0},{"$f":"'Wniosek 2026 r.'!C112","v":0},{"$f":"'Wniosek 2026 r.'!D112","v":0},{"$f":"'Wniosek 2026 r.'!E112","v":0},{"$f":"'Wniosek 2026 r.'!F112","v":0},{"$f":"'Wniosek 2026 r.'!G112","v":0},{"$f":"'Wniosek 2026 r.'!H112","v":"00:00:00"},{"$f":"'Wniosek 2026 r.'!C275","v":0},{"$f":"'Wniosek 2026 r.'!C431","v":0},{"$f":"'Wniosek 2026 r.'!D431","v":0},{"$f":"'Wniosek 2026 r.'!F431","v":0},{"$f":"'Wniosek 2026 r.'!H431","v":0},{"$f":"'Wniosek 2026 r.'!C585","v":0},{"$f":"'Wniosek 2026 r.'!C740","v":0},{"$f":"'Wniosek 2026 r.'!C895","v":0},{"$f":"'Wniosek 2026 r.'!E895","v":0},{"$f":"'Wniosek 2026 r.'!C1049","v":0}]
[null,null,null,null,null,null,null,null,null,null,null,null,null,null,null,null,null,null,null,null,null,null,{"$f":"'Wniosek 2026 r.'!A113","v":75},{"$f":"'Wniosek 2026 r.'!B113","v":0},{"$f":"'Wniosek 2026 r.'!C113","v":0},{"$f":"'Wniosek 2026 r.'!D113","v":0},{"$f":"'Wniosek 2026 r.'!E113","v":0},{"$f":"'Wniosek 2026 r.'!F113","v":0},{"$f":"'Wniosek 2026 r.'!G113","v":0},{"$f":"'Wniosek 2026 r.'!H113","v":"00:00:00"},{"$f":"'Wniosek 2026 r.'!C276","v":0},{"$f":"'Wniosek 2026 r.'!C432","v":0},{"$f":"'Wniosek 2026 r.'!D432","v":0},{"$f":"'Wniosek 2026 r.'!F432","v":0},{"$f":"'Wniosek 2026 r.'!H432","v":0},{"$f":"'Wniosek 2026 r.'!C586","v":0},{"$f":"'Wniosek 2026 r.'!C741","v":0},{"$f":"'Wniosek 2026 r.'!C896","v":0},{"$f":"'Wniosek 2026 r.'!E896","v":0},{"$f":"'Wniosek 2026 r.'!C1050","v":0}]
[null,null,null,null,null,null,null,null,null,null,null,null,null,null,null,null,null,null,null,null,null,null,{"$f":"'Wniosek 2026 r.'!A114","v":76},{"$f":"'Wniosek 2026 r.'!B114","v":0},{"$f":"'Wniosek 2026 r.'!C114","v":0},{"$f":"'Wniosek 2026 r.'!D114","v":0},{"$f":"'Wniosek 2026 r.'!E114","v":0},{"$f":"'Wniosek 2026 r.'!F114","v":0},{"$f":"'Wniosek 2026 r.'!G114","v":0},{"$f":"'Wniosek 2026 r.'!H114","v":"00:00:00"},{"$f":"'Wniosek 2026 r.'!C277","v":0},{"$f":"'Wniosek 2026 r.'!C433","v":0},{"$f":"'Wniosek 2026 r.'!D433","v":0},{"$f":"'Wniosek 2026 r.'!F433","v":0},{"$f":"'Wniosek 2026 r.'!H433","v":0},{"$f":"'Wniosek 2026 r.'!C587","v":0},{"$f":"'Wniosek 2026 r.'!C742","v":0},{"$f":"'Wniosek 2026 r.'!C897","v":0},{"$f":"'Wniosek 2026 r.'!E897","v":0},{"$f":"'Wniosek 2026 r.'!C1051","v":0}]
[null,null,null,null,null,null,null,null,null,null,null,null,null,null,null,null,null,null,null,null,null,null,{"$f":"'Wniosek 2026 r.'!A115","v":77},{"$f":"'Wniosek 2026 r.'!B115","v":0},{"$f":"'Wniosek 2026 r.'!C115","v":0},{"$f":"'Wniosek 2026 r.'!D115","v":0},{"$f":"'Wniosek 2026 r.'!E115","v":0},{"$f":"'Wniosek 2026 r.'!F115","v":0},{"$f":"'Wniosek 2026 r.'!G115","v":0},{"$f":"'Wniosek 2026 r.'!H115","v":"00:00:00"},{"$f":"'Wniosek 2026 r.'!C278","v":0},{"$f":"'Wniosek 2026 r.'!C434","v":0},{"$f":"'Wniosek 2026 r.'!D434","v":0},{"$f":"'Wniosek 2026 r.'!F434","v":0},{"$f":"'Wniosek 2026 r.'!H434","v":0},{"$f":"'Wniosek 2026 r.'!C588","v":0},{"$f":"'Wniosek 2026 r.'!C743","v":0},{"$f":"'Wniosek 2026 r.'!C898","v":0},{"$f":"'Wniosek 2026 r.'!E898","v":0},{"$f":"'Wniosek 2026 r.'!C1052","v":0}]
[null,null,null,null,null,null,null,null,null,null,null,null,null,null,null,null,null,null,null,null,null,null,{"$f":"'Wniosek 2026 r.'!A116","v":78},{"$f":"'Wniosek 2026 r.'!B116","v":0},{"$f":"'Wniosek 2026 r.'!C116","v":0},{"$f":"'Wniosek 2026 r.'!D116","v":0},{"$f":"'Wniosek 2026 r.'!E116","v":0},{"$f":"'Wniosek 2026 r.'!F116","v":0},{"$f":"'Wniosek 2026 r.'!G116","v":0},{"$f":"'Wniosek 2026 r.'!H116","v":"00:00:00"},{"$f":"'Wniosek 2026 r.'!C279","v":0},{"$f":"'Wniosek 2026 r.'!C435","v":0},{"$f":"'Wniosek 2026 r.'!D435","v":0},{"$f":"'Wniosek 2026 r.'!F435","v":0},{"$f":"'Wniosek 2026 r.'!H435","v":0},{"$f":"'Wniosek 2026 r.'!C589","v":0},{"$f":"'Wniosek 2026 r.'!C744","v":0},{"$f":"'Wniosek 2026 r.'!C899","v":0},{"$f":"'Wniosek 2026 r.'!E899","v":0},{"$f":"'Wniosek 2026 r.'!C1053","v":0}]
[null,null,null,null,null,null,null,null,null,null,null,null,null,null,null,null,null,null,null,null,null,null,{"$f":"'Wniosek 2026 r.'!A117","v":79},{"$f":"'Wniosek 2026 r.'!B117","v":0},{"$f":"'Wniosek 2026 r.'!C117","v":0},{"$f":"'Wniosek 2026 r.'!D117","v":0},{"$f":"'Wniosek 2026 r.'!E117","v":0},{"$f":"'Wniosek 2026 r.'!F117","v":0},{"$f":"'Wniosek 2026 r.'!G117","v":0},{"$f":"'Wniosek 2026 r.'!H117","v":"00:00:00"},{"$f":"'Wniosek 2026 r.'!C280","v":0},{"$f":"'Wniosek 2026 r.'!C436","v":0},{"$f":"'Wniosek 2026 r.'!D436","v":0},{"$f":"'Wniosek 2026 r.'!F436","v":0},{"$f":"'Wniosek 2026 r.'!H436","v":0},{"$f":"'Wniosek 2026 r.'!C590","v":0},{"$f":"'Wniosek 2026 r.'!C745","v":0},{"$f":"'Wniosek 2026 r.'!C900","v":0},{"$f":"'Wniosek 2026 r.'!E900","v":0},{"$f":"'Wniosek 2026 r.'!C1054","v":0}]
[null,null,null,null,null,null,null,null,null,null,null,null,null,null,null,null,null,null,null,null,null,null,{"$f":"'Wniosek 2026 r.'!A118","v":80},{"$f":"'Wniosek 2026 r.'!B118","v":0},{"$f":"'Wniosek 2026 r.'!C118","v":0},{"$f":"'Wniosek 2026 r.'!D118","v":0},{"$f":"'Wniosek 2026 r.'!E118","v":0},{"$f":"'Wniosek 2026 r.'!F118","v":0},{"$f":"'Wniosek 2026 r.'!G118","v":0},{"$f":"'Wniosek 2026 r.'!H118","v":"00:00:00"},{"$f":"'Wniosek 2026 r.'!C281","v":0},{"$f":"'Wniosek 2026 r.'!C437","v":0},{"$f":"'Wniosek 2026 r.'!D437","v":0},{"$f":"'Wniosek 2026 r.'!F437","v":0},{"$f":"'Wniosek 2026 r.'!H437","v":0},{"$f":"'Wniosek 2026 r.'!C591","v":0},{"$f":"'Wniosek 2026 r.'!C746","v":0},{"$f":"'Wniosek 2026 r.'!C901","v":0},{"$f":"'Wniosek 2026 r.'!E901","v":0},{"$f":"'Wniosek 2026 r.'!C1055","v":0}]
[null,null,null,null,null,null,null,null,null,null,null,null,null,null,null,null,null,null,null,null,null,null,{"$f":"'Wniosek 2026 r.'!A119","v":81},{"$f":"'Wniosek 2026 r.'!B119","v":0},{"$f":"'Wniosek 2026 r.'!C119","v":0},{"$f":"'Wniosek 2026 r.'!D119","v":0},{"$f":"'Wniosek 2026 r.'!E119","v":0},{"$f":"'Wniosek 2026 r.'!F119","v":0},{"$f":"'Wniosek 2026 r.'!G119","v":0},{"$f":"'Wniosek 2026 r.'!H119","v":"00:00:00"},{"$f":"'Wniosek 2026 r.'!C282","v":0},{"$f":"'Wniosek 2026 r.'!C438","v":0},{"$f":"'Wniosek 2026 r.'!D438","v":0},{"$f":"'Wniosek 2026 r.'!F438","v":0},{"$f":"'Wniosek 2026 r.'!H438","v":0},{"$f":"'Wniosek 2026 r.'!C592","v":0},{"$f":"'Wniosek 2026 r.'!C747","v":0},{"$f":"'Wniosek 2026 r.'!C902","v":0},{"$f":"'Wniosek 2026 r.'!E902","v":0},{"$f":"'Wniosek 2026 r.'!C1056","v":0}]
[null,null,null,null,null,null,null,null,null,null,null,null,null,null,null,null,null,null,null,null,null,null,{"$f":"'Wniosek 2026 r.'!A120","v":82},{"$f":"'Wniosek 2026 r.'!B120","v":0},{"$f":"'Wniosek 2026 r.'!C120","v":0},{"$f":"'Wniosek 2026 r.'!D120","v":0},{"$f":"'Wniosek 2026 r.'!E120","v":0},{"$f":"'Wniosek 2026 r.'!F120","v":0},{"$f":"'Wniosek 2026 r.'!G120","v":0},{"$f":"'Wniosek 2026 r.'!H120","v":"00:00:00"},{"$f":"'Wniosek 2026 r.'!C283","v":0},{"$f":"'Wniosek 2026 r.'!C439","v":0},{"$f":"'Wniosek 2026 r.'!D439","v":0},{"$f":"'Wniosek 2026 r.'!F439","v":0},{"$f":"'Wniosek 2026 r.'!H439","v":0},{"$f":"'Wniosek 2026 r.'!C593","v":0},{"$f":"'Wniosek 2026 r.'!C748","v":0},{"$f":"'Wniosek 2026 r.'!C903","v":0},{"$f":"'Wniosek 2026 r.'!E903","v":0},{"$f":"'Wniosek 2026 r.'!C1057","v":0}]
[null,null,null,null,null,null,null,null,null,null,null,null,null,null,null,null,null,null,null,null,null,null,{"$f":"'Wniosek 2026 r.'!A121","v":83},{"$f":"'Wniosek 2026 r.'!B121","v":0},{"$f":"'Wniosek 2026 r.'!C121","v":0},{"$f":"'Wniosek 2026 r.'!D121","v":0},{"$f":"'Wniosek 2026 r.'!E121","v":0},{"$f":"'Wniosek 2026 r.'!F121","v":0},{"$f":"'Wniosek 2026 r.'!G121","v":0},{"$f":"'Wniosek 2026 r.'!H121","v":"00:00:00"},{"$f":"'Wniosek 2026 r.'!C284","v":0},{"$f":"'Wniosek 2026 r.'!C440","v":0},{"$f":"'Wniosek 2026 r.'!D440","v":0},{"$f":"'Wniosek 2026 r.'!F440","v":0},{"$f":"'Wniosek 2026 r.'!H440","v":0},{"$f":"'Wniosek 2026 r.'!C594","v":0},{"$f":"'Wniosek 2026 r.'!C749","v":0},{"$f":"'Wniosek 2026 r.'!C904","v":0},{"$f":"'Wniosek 2026 r.'!E904","v":0},{"$f":"'Wniosek 2026 r.'!C1058","v":0}]
[null,null,null,null,null,null,null,null,null,null,null,null,null,null,null,null,null,null,null,null,null,null,{"$f":"'Wniosek 2026 r.'!A122","v":84},{"$f":"'Wniosek 2026 r.'!B122","v":0},{"$f":"'Wniosek 2026 r.'!C122","v":0},{"$f":"'Wniosek 2026 r.'!D122","v":0},{"$f":"'Wniosek 2026 r.'!E122","v":0},{"$f":"'Wniosek 2026 r.'!F122","v":0},{"$f":"'Wniosek 2026 r.'!G122","v":0},{"$f":"'Wniosek 2026 r.'!H122","v":"00:00:00"},{"$f":"'Wniosek 2026 r.'!C285","v":0},{"$f":"'Wniosek 2026 r.'!C441","v":0},{"$f":"'Wniosek 2026 r.'!D441","v":0},{"$f":"'Wniosek 2026 r.'!F441","v":0},{"$f":"'Wniosek 2026 r.'!H441","v":0},{"$f":"'Wniosek 2026 r.'!C595","v":0},{"$f":"'Wniosek 2026 r.'!C750","v":0},{"$f":"'Wniosek 2026 r.'!C905","v":0},{"$f":"'Wniosek 2026 r.'!E905","v":0},{"$f":"'Wniosek 2026 r.'!C1059","v":0}]
[null,null,null,null,null,null,null,null,null,null,null,null,null,null,null,null,null,null,null,null,null,null,{"$f":"'Wniosek 2026 r.'!A123","v":85},{"$f":"'Wniosek 2026 r.'!B123","v":0},{"$f":"'Wniosek 2026 r.'!C123","v":0},{"$f":"'Wniosek 2026 r.'!D123","v":0},{"$f":"'Wniosek 2026 r.'!E123","v":0},{"$f":"'Wniosek 2026 r.'!F123","v":0},{"$f":"'Wniosek 2026 r.'!G123","v":0},{"$f":"'Wniosek 2026 r.'!H123","v":"00:00:00"},{"$f":"'Wniosek 2026 r.'!C286","v":0},{"$f":"'Wniosek 2026 r.'!C442","v":0},{"$f":"'Wniosek 2026 r.'!D442","v":0},{"$f":"'Wniosek 2026 r.'!F442","v":0},{"$f":"'Wniosek 2026 r.'!H442","v":0},{"$f":"'Wniosek 2026 r.'!C596","v":0},{"$f":"'Wniosek 2026 r.'!C751","v":0},{"$f":"'Wniosek 2026 r.'!C906","v":0},{"$f":"'Wniosek 2026 r.'!E906","v":0},{"$f":"'Wniosek 2026 r.'!C1060","v":0}]
[null,null,null,null,null,null,null,null,null,null,null,null,null,null,null,null,null,null,null,null,null,null,{"$f":"'Wniosek 2026 r.'!A124","v":86},{"$f":"'Wniosek 2026 r.'!B124","v":0},{"$f":"'Wniosek 2026 r.'!C124","v":0},{"$f":"'Wniosek 2026 r.'!D124","v":0},{"$f":"'Wniosek 2026 r.'!E124","v":0},{"$f":"'Wniosek 2026 r.'!F124","v":0},{"$f":"'Wniosek 2026 r.'!G124","v":0},{"$f":"'Wniosek 2026 r.'!H124","v":"00:00:00"},{"$f":"'Wniosek 2026 r.'!C287","v":0},{"$f":"'Wniosek 2026 r.'!C443","v":0},{"$f":"'Wniosek 2026 r.'!D443","v":0},{"$f":"'Wniosek 2026 r.'!F443","v":0},{"$f":"'Wniosek 2026 r.'!H443","v":0},{"$f":"'Wniosek 2026 r.'!C597","v":0},{"$f":"'Wniosek 2026 r.'!C752","v":0},{"$f":"'Wniosek 2026 r.'!C907","v":0},{"$f":"'Wniosek 2026 r.'!E907","v":0},{"$f":"'Wniosek 2026 r.'!C1061","v":0}]
[null,null,null,null,null,null,null,null,null,null,null,null,null,null,null,null,null,null,null,null,null,null,{"$f":"'Wniosek 2026 r.'!A125","v":87},{"$f":"'Wniosek 2026 r.'!B125","v":0},{"$f":"'Wniosek 2026 r.'!C125","v":0},{"$f":"'Wniosek 2026 r.'!D125","v":0},{"$f":"'Wniosek 2026 r.'!E125","v":0},{"$f":"'Wniosek 2026 r.'!F125","v":0},{"$f":"'Wniosek 2026 r.'!G125","v":0},{"$f":"'Wniosek 2026 r.'!H125","v":"00:00:00"},{"$f":"'Wniosek 2026 r.'!C288","v":0},{"$f":"'Wniosek 2026 r.'!C444","v":0},{"$f":"'Wniosek 2026 r.'!D444","v":0},{"$f":"'Wniosek 2026 r.'!F444","v":0},{"$f":"'Wniosek 2026 r.'!H444","v":0},{"$f":"'Wniosek 2026 r.'!C598","v":0},{"$f":"'Wniosek 2026 r.'!C753","v":0},{"$f":"'Wniosek 2026 r.'!C908","v":0},{"$f":"'Wniosek 2026 r.'!E908","v":0},{"$f":"'Wniosek 2026 r.'!C1062","v":0}]
[null,null,null,null,null,null,null,null,null,null,null,null,null,null,null,null,null,null,null,null,null,null,{"$f":"'Wniosek 2026 r.'!A126","v":88},{"$f":"'Wniosek 2026 r.'!B126","v":0},{"$f":"'Wniosek 2026 r.'!C126","v":0},{"$f":"'Wniosek 2026 r.'!D126","v":0},{"$f":"'Wniosek 2026 r.'!E126","v":0},{"$f":"'Wniosek 2026 r.'!F126","v":0},{"$f":"'Wniosek 2026 r.'!G126","v":0},{"$f":"'Wniosek 2026 r.'!H126","v":"00:00:00"},{"$f":"'Wniosek 2026 r.'!C289","v":0},{"$f":"'Wniosek 2026 r.'!C445","v":0},{"$f":"'Wniosek 2026 r.'!D445","v":0},{"$f":"'Wniosek 2026 r.'!F445","v":0},{"$f":"'Wniosek 2026 r.'!H445","v":0},{"$f":"'Wniosek 2026 r.'!C599","v":0},{"$f":"'Wniosek 2026 r.'!C754","v":0},{"$f":"'Wniosek 2026 r.'!C909","v":0},{"$f":"'Wniosek 2026 r.'!E909","v":0},{"$f":"'Wniosek 2026 r.'!C1063","v":0}]
[null,null,null,null,null,null,null,null,null,null,null,null,null,null,null,null,null,null,null,null,null,null,{"$f":"'Wniosek 2026 r.'!A127","v":89},{"$f":"'Wniosek 2026 r.'!B127","v":0},{"$f":"'Wniosek 2026 r.'!C127","v":0},{"$f":"'Wniosek 2026 r.'!D127","v":0},{"$f":"'Wniosek 2026 r.'!E127","v":0},{"$f":"'Wniosek 2026 r.'!F127","v":0},{"$f":"'Wniosek 2026 r.'!G127","v":0},{"$f":"'Wniosek 2026 r.'!H127","v":"00:00:00"},{"$f":"'Wniosek 2026 r.'!C290","v":0},{"$f":"'Wniosek 2026 r.'!C446","v":0},{"$f":"'Wniosek 2026 r.'!D446","v":0},{"$f":"'Wniosek 2026 r.'!F446","v":0},{"$f":"'Wniosek 2026 r.'!H446","v":0},{"$f":"'Wniosek 2026 r.'!C600","v":0},{"$f":"'Wniosek 2026 r.'!C755","v":0},{"$f":"'Wniosek 2026 r.'!C910","v":0},{"$f":"'Wniosek 2026 r.'!E910","v":0},{"$f":"'Wniosek 2026 r.'!C1064","v":0}]
[null,null,null,null,null,null,null,null,null,null,null,null,null,null,null,null,null,null,null,null,null,null,{"$f":"'Wniosek 2026 r.'!A128","v":90},{"$f":"'Wniosek 2026 r.'!B128","v":0},{"$f":"'Wniosek 2026 r.'!C128","v":0},{"$f":"'Wniosek 2026 r.'!D128","v":0},{"$f":"'Wniosek 2026 r.'!E128","v":0},{"$f":"'Wniosek 2026 r.'!F128","v":0},{"$f":"'Wniosek 2026 r.'!G128","v":0},{"$f":"'Wniosek 2026 r.'!H128","v":"00:00:00"},{"$f":"'Wniosek 2026 r.'!C291","v":0},{"$f":"'Wniosek 2026 r.'!C447","v":0},{"$f":"'Wniosek 2026 r.'!D447","v":0},{"$f":"'Wniosek 2026 r.'!F447","v":0},{"$f":"'Wniosek 2026 r.'!H447","v":0},{"$f":"'Wniosek 2026 r.'!C601","v":0},{"$f":"'Wniosek 2026 r.'!C756","v":0},{"$f":"'Wniosek 2026 r.'!C911","v":0},{"$f":"'Wniosek 2026 r.'!E911","v":0},{"$f":"'Wniosek 2026 r.'!C1065","v":0}]
[null,null,null,null,null,null,null,null,null,null,null,null,null,null,null,null,null,null,null,null,null,null,{"$f":"'Wniosek 2026 r.'!A129","v":91},{"$f":"'Wniosek 2026 r.'!B129","v":0},{"$f":"'Wniosek 2026 r.'!C129","v":0},{"$f":"'Wniosek 2026 r.'!D129","v":0},{"$f":"'Wniosek 2026 r.'!E129","v":0},{"$f":"'Wniosek 2026 r.'!F129","v":0},{"$f":"'Wniosek 2026 r.'!G129","v":0},{"$f":"'Wniosek 2026 r.'!H129","v":"00:00:00"},{"$f":"'Wniosek 2026 r.'!C292","v":0},{"$f":"'Wniosek 2026 r.'!C448","v":0},{"$f":"'Wniosek 2026 r.'!D448","v":0},{"$f":"'Wniosek 2026 r.'!F448","v":0},{"$f":"'Wniosek 2026 r.'!H448","v":0},{"$f":"'Wniosek 2026 r.'!C602","v":0},{"$f":"'Wniosek 2026 r.'!C757","v":0},{"$f":"'Wniosek 2026 r.'!C912","v":0},{"$f":"'Wniosek 2026 r.'!E912","v":0},{"$f":"'Wniosek 2026 r.'!C1066","v":0}]
[null,null,null,null,null,null,null,null,null,null,null,null,null,null,null,null,null,null,null,null,null,null,{"$f":"'Wniosek 2026 r.'!A130","v":92},{"$f":"'Wniosek 2026 r.'!B130","v":0},{"$f":"'Wniosek 2026 r.'!C130","v":0},{"$f":"'Wniosek 2026 r.'!D130","v":0},{"$f":"'Wniosek 2026 r.'!E130","v":0},{"$f":"'Wniosek 2026 r.'!F130","v":0},{"$f":"'Wniosek 2026 r.'!G130","v":0},{"$f":"'Wniosek 2026 r.'!H130","v":"00:00:00"},{"$f":"'Wniosek 2026 r.'!C293","v":0},{"$f":"'Wniosek 2026 r.'!C449","v":0},{"$f":"'Wniosek 2026 r.'!D449","v":0},{"$f":"'Wniosek 2026 r.'!F449","v":0},{"$f":"'Wniosek 2026 r.'!H449","v":0},{"$f":"'Wniosek 2026 r.'!C603","v":0},{"$f":"'Wniosek 2026 r.'!C758","v":0},{"$f":"'Wniosek 2026 r.'!C913","v":0},{"$f":"'Wniosek 2026 r.'!E913","v":0},{"$f":"'Wniosek 2026 r.'!C1067","v":0}]
[null,null,null,null,null,null,null,null,null,null,null,null,null,null,null,null,null,null,null,null,null,null,{"$f":"'Wniosek 2026 r.'!A131","v":93},{"$f":"'Wniosek 2026 r.'!B131","v":0},{"$f":"'Wniosek 2026 r.'!C131","v":0},{"$f":"'Wniosek 2026 r.'!D131","v":0},{"$f":"'Wniosek 2026 r.'!E131","v":0},{"$f":"'Wniosek 2026 r.'!F131","v":0},{"$f":"'Wniosek 2026 r.'!G131","v":0},{"$f":"'Wniosek 2026 r.'!H131","v":"00:00:00"},{"$f":"'Wniosek 2026 r.'!C294","v":0},{"$f":"'Wniosek 2026 r.'!C450","v":0},{"$f":"'Wniosek 2026 r.'!D450","v":0},{"$f":"'Wniosek 2026 r.'!F450","v":0},{"$f":"'Wniosek 2026 r.'!H450","v":0},{"$f":"'Wniosek 2026 r.'!C604","v":0},{"$f":"'Wniosek 2026 r.'!C759","v":0},{"$f":"'Wniosek 2026 r.'!C914","v":0},{"$f":"'Wniosek 2026 r.'!E914","v":0},{"$f":"'Wniosek 2026 r.'!C1068","v":0}]
[null,null,null,null,null,null,null,null,null,null,null,null,null,null,null,null,null,null,null,null,null,null,{"$f":"'Wniosek 2026 r.'!A132","v":94},{"$f":"'Wniosek 2026 r.'!B132","v":0},{"$f":"'Wniosek 2026 r.'!C132","v":0},{"$f":"'Wniosek 2026 r.'!D132","v":0},{"$f":"'Wniosek 2026 r.'!E132","v":0},{"$f":"'Wniosek 2026 r.'!F132","v":0},{"$f":"'Wniosek 2026 r.'!G132","v":0},{"$f":"'Wniosek 2026 r.'!H132","v":"00:00:00"},{"$f":"'Wniosek 2026 r.'!C295","v":0},{"$f":"'Wniosek 2026 r.'!C451","v":0},{"$f":"'Wniosek 2026 r.'!D451","v":0},{"$f":"'Wniosek 2026 r.'!F451","v":0},{"$f":"'Wniosek 2026 r.'!H451","v":0},{"$f":"'Wniosek 2026 r.'!C605","v":0},{"$f":"'Wniosek 2026 r.'!C760","v":0},{"$f":"'Wniosek 2026 r.'!C915","v":0},{"$f":"'Wniosek 2026 r.'!E915","v":0},{"$f":"'Wniosek 2026 r.'!C1069","v":0}]
[null,null,null,null,null,null,null,null,null,null,null,null,null,null,null,null,null,null,null,null,null,null,{"$f":"'Wniosek 2026 r.'!A133","v":95},{"$f":"'Wniosek 2026 r.'!B133","v":0},{"$f":"'Wniosek 2026 r.'!C133","v":0},{"$f":"'Wniosek 2026 r.'!D133","v":0},{"$f":"'Wniosek 2026 r.'!E133","v":0},{"$f":"'Wniosek 2026 r.'!F133","v":0},{"$f":"'Wniosek 2026 r.'!G133","v":0},{"$f":"'Wniosek 2026 r.'!H133","v":"00:00:00"},{"$f":"'Wniosek 2026 r.'!C296","v":0},{"$f":"'Wniosek 2026 r.'!C452","v":0},{"$f":"'Wniosek 2026 r.'!D452","v":0},{"$f":"'Wniosek 2026 r.'!F452","v":0},{"$f":"'Wniosek 2026 r.'!H452","v":0},{"$f":"'Wniosek 2026 r.'!C606","v":0},{"$f":"'Wniosek 2026 r.'!C761","v":0},{"$f":"'Wniosek 2026 r.'!C916","v":0},{"$f":"'Wniosek 2026 r.'!E916","v":0},{"$f":"'Wniosek 2026 r.'!C1070","v":0}]
[null,null,null,null,null,null,null,null,null,null,null,null,null,null,null,null,null,null,null,null,null,null,{"$f":"'Wniosek 2026 r.'!A134","v":96},{"$f":"'Wniosek 2026 r.'!B134","v":0},{"$f":"'Wniosek 2026 r.'!C134","v":0},{"$f":"'Wniosek 2026 r.'!D134","v":0},{"$f":"'Wniosek 2026 r.'!E134","v":0},{"$f":"'Wniosek 2026 r.'!F134","v":0},{"$f":"'Wniosek 2026 r.'!G134","v":0},{"$f":"'Wniosek 2026 r.'!H134","v":"00:00:00"},{"$f":"'Wniosek 2026 r.'!C297","v":0},{"$f":"'Wniosek 2026 r.'!C453","v":0},{"$f":"'Wniosek 2026 r.'!D453","v":0},{"$f":"'Wniosek 2026 r.'!F453","v":0},{"$f":"'Wniosek 2026 r.'!H453","v":0},{"$f":"'Wniosek 2026 r.'!C607","v":0},{"$f":"'Wniosek 2026 r.'!C762","v":0},{"$f":"'Wniosek 2026 r.'!C917","v":0},{"$f":"'Wniosek 2026 r.'!E917","v":0},{"$f":"'Wniosek 2026 r.'!C1071","v":0}]
[null,null,null,null,null,null,null,null,null,null,null,null,null,null,null,null,null,null,null,null,null,null,{"$f":"'Wniosek 2026 r.'!A135","v":97},{"$f":"'Wniosek 2026 r.'!B135","v":0},{"$f":"'Wniosek 2026 r.'!C135","v":0},{"$f":"'Wniosek 2026 r.'!D135","v":0},{"$f":"'Wniosek 2026 r.'!E135","v":0},{"$f":"'Wniosek 2026 r.'!F135","v":0},{"$f":"'Wniosek 2026 r.'!G135","v":0},{"$f":"'Wniosek 2026 r.'!H135","v":"00:00:00"},{"$f":"'Wniosek 2026 r.'!C298","v":0},{"$f":"'Wniosek 2026 r.'!C454","v":0},{"$f":"'Wniosek 2026 r.'!D454","v":0},{"$f":"'Wniosek 2026 r.'!F454","v":0},{"$f":"'Wniosek 2026 r.'!H454","v":0},{"$f":"'Wniosek 2026 r.'!C608","v":0},{"$f":"'Wniosek 2026 r.'!C763","v":0},{"$f":"'Wniosek 2026 r.'!C918","v":0},{"$f":"'Wniosek 2026 r.'!E918","v":0},{"$f":"'Wniosek 2026 r.'!C1072","v":0}]
[null,null,null,null,null,null,null,null,null,null,null,null,null,null,null,null,null,null,null,null,null,null,{"$f":"'Wniosek 2026 r.'!A136","v":98},{"$f":"'Wniosek 2026 r.'!B136","v":0},{"$f":"'Wniosek 2026 r.'!C136","v":0},{"$f":"'Wniosek 2026 r.'!D136","v":0},{"$f":"'Wniosek 2026 r.'!E136","v":0},{"$f":"'Wniosek 2026 r.'!F136","v":0},{"$f":"'Wniosek 2026 r.'!G136","v":0},{"$f":"'Wniosek 2026 r.'!H136","v":"00:00:00"},{"$f":"'Wniosek 2026 r.'!C299","v":0},{"$f":"'Wniosek 2026 r.'!C455","v":0},{"$f":"'Wniosek 2026 r.'!D455","v":0},{"$f":"'Wniosek 2026 r.'!F455","v":0},{"$f":"'Wniosek 2026 r.'!H455","v":0},{"$f":"'Wniosek 2026 r.'!C609","v":0},{"$f":"'Wniosek 2026 r.'!C764","v":0},{"$f":"'Wniosek 2026 r.'!C919","v":0},{"$f":"'Wniosek 2026 r.'!E919","v":0},{"$f":"'Wniosek 2026 r.'!C1073","v":0}]
[null,null,null,null,null,null,null,null,null,null,null,null,null,null,null,null,null,null,null,null,null,null,{"$f":"'Wniosek 2026 r.'!A137","v":99},{"$f":"'Wniosek 2026 r.'!B137","v":0},{"$f":"'Wniosek 2026 r.'!C137","v":0},{"$f":"'Wniosek 2026 r.'!D137","v":0},{"$f":"'Wniosek 2026 r.'!E137","v":0},{"$f":"'Wniosek 2026 r.'!F137","v":0},{"$f":"'Wniosek 2026 r.'!G137","v":0},{"$f":"'Wniosek 2026 r.'!H137","v":"00:00:00"},{"$f":"'Wniosek 2026 r.'!C300","v":0},{"$f":"'Wniosek 2026 r.'!C456","v":0},{"$f":"'Wniosek 2026 r.'!D456","v":0},{"$f":"'Wniosek 2026 r.'!F456","v":0},{"$f":"'Wniosek 2026 r.'!H456","v":0},{"$f":"'Wniosek 2026 r.'!C610","v":0},{"$f":"'Wniosek 2026 r.'!C765","v":0},{"$f":"'Wniosek 2026 r.'!C920","v":0},{"$f":"'Wniosek 2026 r.'!E920","v":0},{"$f":"'Wniosek 2026 r.'!C1074","v":0}]
[null,null,null,null,null,null,null,null,null,null,null,null,null,null,null,null,null,null,null,null,null,null,{"$f":"'Wniosek 2026 r.'!A138","v":100},{"$f":"'Wniosek 2026 r.'!B138","v":0},{"$f":"'Wniosek 2026 r.'!C138","v":0},{"$f":"'Wniosek 2026 r.'!D138","v":0},{"$f":"'Wniosek 2026 r.'!E138","v":0},{"$f":"'Wniosek 2026 r.'!F138","v":0},{"$f":"'Wniosek 2026 r.'!G138","v":0},{"$f":"'Wniosek 2026 r.'!H138","v":"00:00:00"},{"$f":"'Wniosek 2026 r.'!C301","v":0},{"$f":"'Wniosek 2026 r.'!C457","v":0},{"$f":"'Wniosek 2026 r.'!D457","v":0},{"$f":"'Wniosek 2026 r.'!F457","v":0},{"$f":"'Wniosek 2026 r.'!H457","v":0},{"$f":"'Wniosek 2026 r.'!C611","v":0},{"$f":"'Wniosek 2026 r.'!C766","v":0},{"$f":"'Wniosek 2026 r.'!C921","v":0},{"$f":"'Wniosek 2026 r.'!E921","v":0},{"$f":"'Wniosek 2026 r.'!C1075","v":0}]
[null,null,null,null,null,null,null,null,null,null,null,null,null,null,null,null,null,null,null,null,null,null,{"$f":"'Wniosek 2026 r.'!A139","v":101},{"$f":"'Wniosek 2026 r.'!B139","v":0},{"$f":"'Wniosek 2026 r.'!C139","v":0},{"$f":"'Wniosek 2026 r.'!D139","v":0},{"$f":"'Wniosek 2026 r.'!E139","v":0},{"$f":"'Wniosek 2026 r.'!F139","v":0},{"$f":"'Wniosek 2026 r.'!G139","v":0},{"$f":"'Wniosek 2026 r.'!H139","v":"00:00:00"},{"$f":"'Wniosek 2026 r.'!C302","v":0},{"$f":"'Wniosek 2026 r.'!C458","v":0},{"$f":"'Wniosek 2026 r.'!D458","v":0},{"$f":"'Wniosek 2026 r.'!F458","v":0},{"$f":"'Wniosek 2026 r.'!H458","v":0},{"$f":"'Wniosek 2026 r.'!C612","v":0},{"$f":"'Wniosek 2026 r.'!C767","v":0},{"$f":"'Wniosek 2026 r.'!C922","v":0},{"$f":"'Wniosek 2026 r.'!E922","v":0},{"$f":"'Wniosek 2026 r.'!C1076","v":0}]
[null,null,null,null,null,null,null,null,null,null,null,null,null,null,null,null,null,null,null,null,null,null,{"$f":"'Wniosek 2026 r.'!A140","v":102},{"$f":"'Wniosek 2026 r.'!B140","v":0},{"$f":"'Wniosek 2026 r.'!C140","v":0},{"$f":"'Wniosek 2026 r.'!D140","v":0},{"$f":"'Wniosek 2026 r.'!E140","v":0},{"$f":"'Wniosek 2026 r.'!F140","v":0},{"$f":"'Wniosek 2026 r.'!G140","v":0},{"$f":"'Wniosek 2026 r.'!H140","v":"00:00:00"},{"$f":"'Wniosek 2026 r.'!C303","v":0},{"$f":"'Wniosek 2026 r.'!C459","v":0},{"$f":"'Wniosek 2026 r.'!D459","v":0},{"$f":"'Wniosek 2026 r.'!F459","v":0},{"$f":"'Wniosek 2026 r.'!H459","v":0},{"$f":"'Wniosek 2026 r.'!C613","v":0},{"$f":"'Wniosek 2026 r.'!C768","v":0},{"$f":"'Wniosek 2026 r.'!C923","v":0},{"$f":"'Wniosek 2026 r.'!E923","v":0},{"$f":"'Wniosek 2026 r.'!C1077","v":0}]
[null,null,null,null,null,null,null,null,null,null,null,null,null,null,null,null,null,null,null,null,null,null,{"$f":"'Wniosek 2026 r.'!A141","v":103},{"$f":"'Wniosek 2026 r.'!B141","v":0},{"$f":"'Wniosek 2026 r.'!C141","v":0},{"$f":"'Wniosek 2026 r.'!D141","v":0},{"$f":"'Wniosek 2026 r.'!E141","v":0},{"$f":"'Wniosek 2026 r.'!F141","v":0},{"$f":"'Wniosek 2026 r.'!G141","v":0},{"$f":"'Wniosek 2026 r.'!H141","v":"00:00:00"},{"$f":"'Wniosek 2026 r.'!C304","v":0},{"$f":"'Wniosek 2026 r.'!C460","v":0},{"$f":"'Wniosek 2026 r.'!D460","v":0},{"$f":"'Wniosek 2026 r.'!F460","v":0},{"$f":"'Wniosek 2026 r.'!H460","v":0},{"$f":"'Wniosek 2026 r.'!C614","v":0},{"$f":"'Wniosek 2026 r.'!C769","v":0},{"$f":"'Wniosek 2026 r.'!C924","v":0},{"$f":"'Wniosek 2026 r.'!E924","v":0},{"$f":"'Wniosek 2026 r.'!C1078","v":0}]
[null,null,null,null,null,null,null,null,null,null,null,null,null,null,null,null,null,null,null,null,null,null,{"$f":"'Wniosek 2026 r.'!A142","v":104},{"$f":"'Wniosek 2026 r.'!B142","v":0},{"$f":"'Wniosek 2026 r.'!C142","v":0},{"$f":"'Wniosek 2026 r.'!D142","v":0},{"$f":"'Wniosek 2026 r.'!E142","v":0},{"$f":"'Wniosek 2026 r.'!F142","v":0},{"$f":"'Wniosek 2026 r.'!G142","v":0},{"$f":"'Wniosek 2026 r.'!H142","v":"00:00:00"},{"$f":"'Wniosek 2026 r.'!C305","v":0},{"$f":"'Wniosek 2026 r.'!C461","v":0},{"$f":"'Wniosek 2026 r.'!D461","v":0},{"$f":"'Wniosek 2026 r.'!F461","v":0},{"$f":"'Wniosek 2026 r.'!H461","v":0},{"$f":"'Wniosek 2026 r.'!C615","v":0},{"$f":"'Wniosek 2026 r.'!C770","v":0},{"$f":"'Wniosek 2026 r.'!C925","v":0},{"$f":"'Wniosek 2026 r.'!E925","v":0},{"$f":"'Wniosek 2026 r.'!C1079","v":0}]
[null,null,null,null,null,null,null,null,null,null,null,null,null,null,null,null,null,null,null,null,null,null,{"$f":"'Wniosek 2026 r.'!A143","v":105},{"$f":"'Wniosek 2026 r.'!B143","v":0},{"$f":"'Wniosek 2026 r.'!C143","v":0},{"$f":"'Wniosek 2026 r.'!D143","v":0},{"$f":"'Wniosek 2026 r.'!E143","v":0},{"$f":"'Wniosek 2026 r.'!F143","v":0},{"$f":"'Wniosek 2026 r.'!G143","v":0},{"$f":"'Wniosek 2026 r.'!H143","v":"00:00:00"},{"$f":"'Wniosek 2026 r.'!C306","v":0},{"$f":"'Wniosek 2026 r.'!C462","v":0},{"$f":"'Wniosek 2026 r.'!D462","v":0},{"$f":"'Wniosek 2026 r.'!F462","v":0},{"$f":"'Wniosek 2026 r.'!H462","v":0},{"$f":"'Wniosek 2026 r.'!C616","v":0},{"$f":"'Wniosek 2026 r.'!C771","v":0},{"$f":"'Wniosek 2026 r.'!C926","v":0},{"$f":"'Wniosek 2026 r.'!E926","v":0},{"$f":"'Wniosek 2026 r.'!C1080","v":0}]
[null,null,null,null,null,null,null,null,null,null,null,null,null,null,null,null,null,null,null,null,null,null,{"$f":"'Wniosek 2026 r.'!A144","v":106},{"$f":"'Wniosek 2026 r.'!B144","v":0},{"$f":"'Wniosek 2026 r.'!C144","v":0},{"$f":"'Wniosek 2026 r.'!D144","v":0},{"$f":"'Wniosek 2026 r.'!E144","v":0},{"$f":"'Wniosek 2026 r.'!F144","v":0},{"$f":"'Wniosek 2026 r.'!G144","v":0},{"$f":"'Wniosek 2026 r.'!H144","v":"00:00:00"},{"$f":"'Wniosek 2026 r.'!C307","v":0},{"$f":"'Wniosek 2026 r.'!C463","v":0},{"$f":"'Wniosek 2026 r.'!D463","v":0},{"$f":"'Wniosek 2026 r.'!F463","v":0},{"$f":"'Wniosek 2026 r.'!H463","v":0},{"$f":"'Wniosek 2026 r.'!C617","v":0},{"$f":"'Wniosek 2026 r.'!C772","v":0},{"$f":"'Wniosek 2026 r.'!C927","v":0},{"$f":"'Wniosek 2026 r.'!E927","v":0},{"$f":"'Wniosek 2026 r.'!C1081","v":0}]
[null,null,null,null,null,null,null,null,null,null,null,null,null,null,null,null,null,null,null,null,null,null,{"$f":"'Wniosek 2026 r.'!A145","v":107},{"$f":"'Wniosek 2026 r.'!B145","v":0},{"$f":"'Wniosek 2026 r.'!C145","v":0},{"$f":"'Wniosek 2026 r.'!D145","v":0},{"$f":"'Wniosek 2026 r.'!E145","v":0},{"$f":"'Wniosek 2026 r.'!F145","v":0},{"$f":"'Wniosek 2026 r.'!G145","v":0},{"$f":"'Wniosek 2026 r.'!H145","v":"00:00:00"},{"$f":"'Wniosek 2026 r.'!C308","v":0},{"$f":"'Wniosek 2026 r.'!C464","v":0},{"$f":"'Wniosek 2026 r.'!D464","v":0},{"$f":"'Wniosek 2026 r.'!F464","v":0},{"$f":"'Wniosek 2026 r.'!H464","v":0},{"$f":"'Wniosek 2026 r.'!C618","v":0},{"$f":"'Wniosek 2026 r.'!C773","v":0},{"$f":"'Wniosek 2026 r.'!C928","v":0},{"$f":"'Wniosek 2026 r.'!E928","v":0},{"$f":"'Wniosek 2026 r.'!C1082","v":0}]
[null,null,null,null,null,null,null,null,null,null,null,null,null,null,null,null,null,null,null,null,null,null,{"$f":"'Wniosek 2026 r.'!A146","v":108},{"$f":"'Wniosek 2026 r.'!B146","v":0},{"$f":"'Wniosek 2026 r.'!C146","v":0},{"$f":"'Wniosek 2026 r.'!D146","v":0},{"$f":"'Wniosek 2026 r.'!E146","v":0},{"$f":"'Wniosek 2026 r.'!F146","v":0},{"$f":"'Wniosek 2026 r.'!G146","v":0},{"$f":"'Wniosek 2026 r.'!H146","v":"00:00:00"},{"$f":"'Wniosek 2026 r.'!C309","v":0},{"$f":"'Wniosek 2026 r.'!C465","v":0},{"$f":"'Wniosek 2026 r.'!D465","v":0},{"$f":"'Wniosek 2026 r.'!F465","v":0},{"$f":"'Wniosek 2026 r.'!H465","v":0},{"$f":"'Wniosek 2026 r.'!C619","v":0},{"$f":"'Wniosek 2026 r.'!C774","v":0},{"$f":"'Wniosek 2026 r.'!C929","v":0},{"$f":"'Wniosek 2026 r.'!E929","v":0},{"$f":"'Wniosek 2026 r.'!C1083","v":0}]
[null,null,null,null,null,null,null,null,null,null,null,null,null,null,null,null,null,null,null,null,null,null,{"$f":"'Wniosek 2026 r.'!A147","v":109},{"$f":"'Wniosek 2026 r.'!B147","v":0},{"$f":"'Wniosek 2026 r.'!C147","v":0},{"$f":"'Wniosek 2026 r.'!D147","v":0},{"$f":"'Wniosek 2026 r.'!E147","v":0},{"$f":"'Wniosek 2026 r.'!F147","v":0},{"$f":"'Wniosek 2026 r.'!G147","v":0},{"$f":"'Wniosek 2026 r.'!H147","v":"00:00:00"},{"$f":"'Wniosek 2026 r.'!C310","v":0},{"$f":"'Wniosek 2026 r.'!C466","v":0},{"$f":"'Wniosek 2026 r.'!D466","v":0},{"$f":"'Wniosek 2026 r.'!F466","v":0},{"$f":"'Wniosek 2026 r.'!H466","v":0},{"$f":"'Wniosek 2026 r.'!C620","v":0},{"$f":"'Wniosek 2026 r.'!C775","v":0},{"$f":"'Wniosek 2026 r.'!C930","v":0},{"$f":"'Wniosek 2026 r.'!E930","v":0},{"$f":"'Wniosek 2026 r.'!C1084","v":0}]
[null,null,null,null,null,null,null,null,null,null,null,null,null,null,null,null,null,null,null,null,null,null,{"$f":"'Wniosek 2026 r.'!A148","v":110},{"$f":"'Wniosek 2026 r.'!B148","v":0},{"$f":"'Wniosek 2026 r.'!C148","v":0},{"$f":"'Wniosek 2026 r.'!D148","v":0},{"$f":"'Wniosek 2026 r.'!E148","v":0},{"$f":"'Wniosek 2026 r.'!F148","v":0},{"$f":"'Wniosek 2026 r.'!G148","v":0},{"$f":"'Wniosek 2026 r.'!H148","v":"00:00:00"},{"$f":"'Wniosek 2026 r.'!C311","v":0},{"$f":"'Wniosek 2026 r.'!C467","v":0},{"$f":"'Wniosek 2026 r.'!D467","v":0},{"$f":"'Wniosek 2026 r.'!F467","v":0},{"$f":"'Wniosek 2026 r.'!H467","v":0},{"$f":"'Wniosek 2026 r.'!C621","v":0},{"$f":"'Wniosek 2026 r.'!C776","v":0},{"$f":"'Wniosek 2026 r.'!C931","v":0},{"$f":"'Wniosek 2026 r.'!E931","v":0},{"$f":"'Wniosek 2026 r.'!C1085","v":0}]
[null,null,null,null,null,null,null,null,null,null,null,null,null,null,null,null,null,null,null,null,null,null,{"$f":"'Wniosek 2026 r.'!A149","v":111},{"$f":"'Wniosek 2026 r.'!B149","v":0},{"$f":"'Wniosek 2026 r.'!C149","v":0},{"$f":"'Wniosek 2026 r.'!D149","v":0},{"$f":"'Wniosek 2026 r.'!E149","v":0},{"$f":"'Wniosek 2026 r.'!F149","v":0},{"$f":"'Wniosek 2026 r.'!G149","v":0},{"$f":"'Wniosek 2026 r.'!H149","v":"00:00:00"},{"$f":"'Wniosek 2026 r.'!C312","v":0},{"$f":"'Wniosek 2026 r.'!C468","v":0},{"$f":"'Wniosek 2026 r.'!D468","v":0},{"$f":"'Wniosek 2026 r.'!F468","v":0},{"$f":"'Wniosek 2026 r.'!H468","v":0},{"$f":"'Wniosek 2026 r.'!C622","v":0},{"$f":"'Wniosek 2026 r.'!C777","v":0},{"$f":"'Wniosek 2026 r.'!C932","v":0},{"$f":"'Wniosek 2026 r.'!E932","v":0},{"$f":"'Wniosek 2026 r.'!C1086","v":0}]
[null,null,null,null,null,null,null,null,null,null,null,null,null,null,null,null,null,null,null,null,null,null,{"$f":"'Wniosek 2026 r.'!A150","v":112},{"$f":"'Wniosek 2026 r.'!B150","v":0},{"$f":"'Wniosek 2026 r.'!C150","v":0},{"$f":"'Wniosek 2026 r.'!D150","v":0},{"$f":"'Wniosek 2026 r.'!E150","v":0},{"$f":"'Wniosek 2026 r.'!F150","v":0},{"$f":"'Wniosek 2026 r.'!G150","v":0},{"$f":"'Wniosek 2026 r.'!H150","v":"00:00:00"},{"$f":"'Wniosek 2026 r.'!C313","v":0},{"$f":"'Wniosek 2026 r.'!C469","v":0},{"$f":"'Wniosek 2026 r.'!D469","v":0},{"$f":"'Wniosek 2026 r.'!F469","v":0},{"$f":"'Wniosek 2026 r.'!H469","v":0},{"$f":"'Wniosek 2026 r.'!C623","v":0},{"$f":"'Wniosek 2026 r.'!C778","v":0},{"$f":"'Wniosek 2026 r.'!C933","v":0},{"$f":"'Wniosek 2026 r.'!E933","v":0},{"$f":"'Wniosek 2026 r.'!C1087","v":0}]
[null,null,null,null,null,null,null,null,null,null,null,null,null,null,null,null,null,null,null,null,null,null,{"$f":"'Wniosek 2026 r.'!A151","v":113},{"$f":"'Wniosek 2026 r.'!B151","v":0},{"$f":"'Wniosek 2026 r.'!C151","v":0},{"$f":"'Wniosek 2026 r.'!D151","v":0},{"$f":"'Wniosek 2026 r.'!E151","v":0},{"$f":"'Wniosek 2026 r.'!F151","v":0},{"$f":"'Wniosek 2026 r.'!G151","v":0},{"$f":"'Wniosek 2026 r.'!H151","v":"00:00:00"},{"$f":"'Wniosek 2026 r.'!C314","v":0},{"$f":"'Wniosek 2026 r.'!C470","v":0},{"$f":"'Wniosek 2026 r.'!D470","v":0},{"$f":"'Wniosek 2026 r.'!F470","v":0},{"$f":"'Wniosek 2026 r.'!H470","v":0},{"$f":"'Wniosek 2026 r.'!C624","v":0},{"$f":"'Wniosek 2026 r.'!C779","v":0},{"$f":"'Wniosek 2026 r.'!C934","v":0},{"$f":"'Wniosek 2026 r.'!E934","v":0},{"$f":"'Wniosek 2026 r.'!C1088","v":0}]
[null,null,null,null,null,null,null,null,null,null,null,null,null,null,null,null,null,null,null,null,null,null,{"$f":"'Wniosek 2026 r.'!A152","v":114},{"$f":"'Wniosek 2026 r.'!B152","v":0},{"$f":"'Wniosek 2026 r.'!C152","v":0},{"$f":"'Wniosek 2026 r.'!D152","v":0},{"$f":"'Wniosek 2026 r.'!E152","v":0},{"$f":"'Wniosek 2026 r.'!F152","v":0},{"$f":"'Wniosek 2026 r.'!G152","v":0},{"$f":"'Wniosek 2026 r.'!H152","v":"00:00:00"},{"$f":"'Wniosek 2026 r.'!C315","v":0},{"$f":"'Wniosek 2026 r.'!C471","v":0},{"$f":"'Wniosek 2026 r.'!D471","v":0},{"$f":"'Wniosek 2026 r.'!F471","v":0},{"$f":"'Wniosek 2026 r.'!H471","v":0},{"$f":"'Wniosek 2026 r.'!C625","v":0},{"$f":"'Wniosek 2026 r.'!C780","v":0},{"$f":"'Wniosek 2026 r.'!C935","v":0},{"$f":"'Wniosek 2026 r.'!E935","v":0},{"$f":"'Wniosek 2026 r.'!C1089","v":0}]
[null,null,null,null,null,null,null,null,null,null,null,null,null,null,null,null,null,null,null,null,null,null,{"$f":"'Wniosek 2026 r.'!A153","v":115},{"$f":"'Wniosek 2026 r.'!B153","v":0},{"$f":"'Wniosek 2026 r.'!C153","v":0},{"$f":"'Wniosek 2026 r.'!D153","v":0},{"$f":"'Wniosek 2026 r.'!E153","v":0},{"$f":"'Wniosek 2026 r.'!F153","v":0},{"$f":"'Wniosek 2026 r.'!G153","v":0},{"$f":"'Wniosek 2026 r.'!H153","v":"00:00:00"},{"$f":"'Wniosek 2026 r.'!C316","v":0},{"$f":"'Wniosek 2026 r.'!C472","v":0},{"$f":"'Wniosek 2026 r.'!D472","v":0},{"$f":"'Wniosek 2026 r.'!F472","v":0},{"$f":"'Wniosek 2026 r.'!H472","v":0},{"$f":"'Wniosek 2026 r.'!C626","v":0},{"$f":"'Wniosek 2026 r.'!C781","v":0},{"$f":"'Wniosek 2026 r.'!C936","v":0},{"$f":"'Wniosek 2026 r.'!E936","v":0},{"$f":"'Wniosek 2026 r.'!C1090","v":0}]
[null,null,null,null,null,null,null,null,null,null,null,null,null,null,null,null,null,null,null,null,null,null,{"$f":"'Wniosek 2026 r.'!A154","v":116},{"$f":"'Wniosek 2026 r.'!B154","v":0},{"$f":"'Wniosek 2026 r.'!C154","v":0},{"$f":"'Wniosek 2026 r.'!D154","v":0},{"$f":"'Wniosek 2026 r.'!E154","v":0},{"$f":"'Wniosek 2026 r.'!F154","v":0},{"$f":"'Wniosek 2026 r.'!G154","v":0},{"$f":"'Wniosek 2026 r.'!H154","v":"00:00:00"},{"$f":"'Wniosek 2026 r.'!C317","v":0},{"$f":"'Wniosek 2026 r.'!C473","v":0},{"$f":"'Wniosek 2026 r.'!D473","v":0},{"$f":"'Wniosek 2026 r.'!F473","v":0},{"$f":"'Wniosek 2026 r.'!H473","v":0},{"$f":"'Wniosek 2026 r.'!C627","v":0},{"$f":"'Wniosek 2026 r.'!C782","v":0},{"$f":"'Wniosek 2026 r.'!C937","v":0},{"$f":"'Wniosek 2026 r.'!E937","v":0},{"$f":"'Wniosek 2026 r.'!C1091","v":0}]
[null,null,null,null,null,null,null,null,null,null,null,null,null,null,null,null,null,null,null,null,null,null,{"$f":"'Wniosek 2026 r.'!A155","v":117},{"$f":"'Wniosek 2026 r.'!B155","v":0},{"$f":"'Wniosek 2026 r.'!C155","v":0},{"$f":"'Wniosek 2026 r.'!D155","v":0},{"$f":"'Wniosek 2026 r.'!E155","v":0},{"$f":"'Wniosek 2026 r.'!F155","v":0},{"$f":"'Wniosek 2026 r.'!G155","v":0},{"$f":"'Wniosek 2026 r.'!H155","v":"00:00:00"},{"$f":"'Wniosek 2026 r.'!C318","v":0},{"$f":"'Wniosek 2026 r.'!C474","v":0},{"$f":"'Wniosek 2026 r.'!D474","v":0},{"$f":"'Wniosek 2026 r.'!F474","v":0},{"$f":"'Wniosek 2026 r.'!H474","v":0},{"$f":"'Wniosek 2026 r.'!C628","v":0},{"$f":"'Wniosek 2026 r.'!C783","v":0},{"$f":"'Wniosek 2026 r.'!C938","v":0},{"$f":"'Wniosek 2026 r.'!E938","v":0},{"$f":"'Wniosek 2026 r.'!C1092","v":0}]
[null,null,null,null,null,null,null,null,null,null,null,null,null,null,null,null,null,null,null,null,null,null,{"$f":"'Wniosek 2026 r.'!A156","v":118},{"$f":"'Wniosek 2026 r.'!B156","v":0},{"$f":"'Wniosek 2026 r.'!C156","v":0},{"$f":"'Wniosek 2026 r.'!D156","v":0},{"$f":"'Wniosek 2026 r.'!E156","v":0},{"$f":"'Wniosek 2026 r.'!F156","v":0},{"$f":"'Wniosek 2026 r.'!G156","v":0},{"$f":"'Wniosek 2026 r.'!H156","v":"00:00:00"},{"$f":"'Wniosek 2026 r.'!C319","v":0},{"$f":"'Wniosek 2026 r.'!C475","v":0},{"$f":"'Wniosek 2026 r.'!D475","v":0},{"$f":"'Wniosek 2026 r.'!F475","v":0},{"$f":"'Wniosek 2026 r.'!H475","v":0},{"$f":"'Wniosek 2026 r.'!C629","v":0},{"$f":"'Wniosek 2026 r.'!C784","v":0},{"$f":"'Wniosek 2026 r.'!C939","v":0},{"$f":"'Wniosek 2026 r.'!E939","v":0},{"$f":"'Wniosek 2026 r.'!C1093","v":0}]
[null,null,null,null,null,null,null,null,null,null,null,null,null,null,null,null,null,null,null,null,null,null,{"$f":"'Wniosek 2026 r.'!A157","v":119},{"$f":"'Wniosek 2026 r.'!B157","v":0},{"$f":"'Wniosek 2026 r.'!C157","v":0},{"$f":"'Wniosek 2026 r.'!D157","v":0},{"$f":"'Wniosek 2026 r.'!E157","v":0},{"$f":"'Wniosek 2026 r.'!F157","v":0},{"$f":"'Wniosek 2026 r.'!G157","v":0},{"$f":"'Wniosek 2026 r.'!H157","v":"00:00:00"},{"$f":"'Wniosek 2026 r.'!C320","v":0},{"$f":"'Wniosek 2026 r.'!C476","v":0},{"$f":"'Wniosek 2026 r.'!D476","v":0},{"$f":"'Wniosek 2026 r.'!F476","v":0},{"$f":"'Wniosek 2026 r.'!H476","v":0},{"$f":"'Wniosek 2026 r.'!C630","v":0},{"$f":"'Wniosek 2026 r.'!C785","v":0},{"$f":"'Wniosek 2026 r.'!C940","v":0},{"$f":"'Wniosek 2026 r.'!E940","v":0},{"$f":"'Wniosek 2026 r.'!C1094","v":0}]
[null,null,null,null,null,null,null,null,null,null,null,null,null,null,null,null,null,null,null,null,null,null,{"$f":"'Wniosek 2026 r.'!A158","v":120},{"$f":"'Wniosek 2026 r.'!B158","v":0},{"$f":"'Wniosek 2026 r.'!C158","v":0},{"$f":"'Wniosek 2026 r.'!D158","v":0},{"$f":"'Wniosek 2026 r.'!E158","v":0},{"$f":"'Wniosek 2026 r.'!F158","v":0},{"$f":"'Wniosek 2026 r.'!G158","v":0},{"$f":"'Wniosek 2026 r.'!H158","v":"00:00:00"},{"$f":"'Wniosek 2026 r.'!C321","v":0},{"$f":"'Wniosek 2026 r.'!C477","v":0},{"$f":"'Wniosek 2026 r.'!D477","v":0},{"$f":"'Wniosek 2026 r.'!F477","v":0},{"$f":"'Wniosek 2026 r.'!H477","v":0},{"$f":"'Wniosek 2026 r.'!C631","v":0},{"$f":"'Wniosek 2026 r.'!C786","v":0},{"$f":"'Wniosek 2026 r.'!C941","v":0},{"$f":"'Wniosek 2026 r.'!E941","v":0},{"$f":"'Wniosek 2026 r.'!C1095","v":0}]
[null,null,null,null,null,null,null,null,null,null,null,null,null,null,null,null,null,null,null,null,null,null,{"$f":"'Wniosek 2026 r.'!A159","v":121},{"$f":"'Wniosek 2026 r.'!B159","v":0},{"$f":"'Wniosek 2026 r.'!C159","v":0},{"$f":"'Wniosek 2026 r.'!D159","v":0},{"$f":"'Wniosek 2026 r.'!E159","v":0},{"$f":"'Wniosek 2026 r.'!F159","v":0},{"$f":"'Wniosek 2026 r.'!G159","v":0},{"$f":"'Wniosek 2026 r.'!H159","v":"00:00:00"},{"$f":"'Wniosek 2026 r.'!C322","v":0},{"$f":"'Wniosek 2026 r.'!C478","v":0},{"$f":"'Wniosek 2026 r.'!D478","v":0},{"$f":"'Wniosek 2026 r.'!F478","v":0},{"$f":"'Wniosek 2026 r.'!H478","v":0},{"$f":"'Wniosek 2026 r.'!C632","v":0},{"$f":"'Wniosek 2026 r.'!C787","v":0},{"$f":"'Wniosek 2026 r.'!C942","v":0},{"$f":"'Wniosek 2026 r.'!E942","v":0},{"$f":"'Wniosek 2026 r.'!C1096","v":0}]
[null,null,null,null,null,null,null,null,null,null,null,null,null,null,null,null,null,null,null,null,null,null,{"$f":"'Wniosek 2026 r.'!A160","v":122},{"$f":"'Wniosek 2026 r.'!B160","v":0},{"$f":"'Wniosek 2026 r.'!C160","v":0},{"$f":"'Wniosek 2026 r.'!D160","v":0},{"$f":"'Wniosek 2026 r.'!E160","v":0},{"$f":"'Wniosek 2026 r.'!F160","v":0},{"$f":"'Wniosek 2026 r.'!G160","v":0},{"$f":"'Wniosek 2026 r.'!H160","v":"00:00:00"},{"$f":"'Wniosek 2026 r.'!C323","v":0},{"$f":"'Wniosek 2026 r.'!C479","v":0},{"$f":"'Wniosek 2026 r.'!D479","v":0},{"$f":"'Wniosek 2026 r.'!F479","v":0},{"$f":"'Wniosek 2026 r.'!H479","v":0},{"$f":"'Wniosek 2026 r.'!C633","v":0},{"$f":"'Wniosek 2026 r.'!C788","v":0},{"$f":"'Wniosek 2026 r.'!C943","v":0},{"$f":"'Wniosek 2026 r.'!E943","v":0},{"$f":"'Wniosek 2026 r.'!C1097","v":0}]
[null,null,null,null,null,null,null,null,null,null,null,null,null,null,null,null,null,null,null,null,null,null,{"$f":"'Wniosek 2026 r.'!A161","v":123},{"$f":"'Wniosek 2026 r.'!B161","v":0},{"$f":"'Wniosek 2026 r.'!C161","v":0},{"$f":"'Wniosek 2026 r.'!D161","v":0},{"$f":"'Wniosek 2026 r.'!E161","v":0},{"$f":"'Wniosek 2026 r.'!F161","v":0},{"$f":"'Wniosek 2026 r.'!G161","v":0},{"$f":"'Wniosek 2026 r.'!H161","v":"00:00:00"},{"$f":"'Wniosek 2026 r.'!C324","v":0},{"$f":"'Wniosek 2026 r.'!C480","v":0},{"$f":"'Wniosek 2026 r.'!D480","v":0},{"$f":"'Wniosek 2026 r.'!F480","v":0},{"$f":"'Wniosek 2026 r.'!H480","v":0},{"$f":"'Wniosek 2026 r.'!C634","v":0},{"$f":"'Wniosek 2026 r.'!C789","v":0},{"$f":"'Wniosek 2026 r.'!C944","v":0},{"$f":"'Wniosek 2026 r.'!E944","v":0},{"$f":"'Wniosek 2026 r.'!C1098","v":0}]
[null,null,null,null,null,null,null,null,null,null,null,null,null,null,null,null,null,null,null,null,null,null,{"$f":"'Wniosek 2026 r.'!A162","v":124},{"$f":"'Wniosek 2026 r.'!B162","v":0},{"$f":"'Wniosek 2026 r.'!C162","v":0},{"$f":"'Wniosek 2026 r.'!D162","v":0},{"$f":"'Wniosek 2026 r.'!E162","v":0},{"$f":"'Wniosek 2026 r.'!F162","v":0},{"$f":"'Wniosek 2026 r.'!G162","v":0},{"$f":"'Wniosek 2026 r.'!H162","v":"00:00:00"},{"$f":"'Wniosek 2026 r.'!C325","v":0},{"$f":"'Wniosek 2026 r.'!C481","v":0},{"$f":"'Wniosek 2026 r.'!D481","v":0},{"$f":"'Wniosek 2026 r.'!F481","v":0},{"$f":"'Wniosek 2026 r.'!H481","v":0},{"$f":"'Wniosek 2026 r.'!C635","v":0},{"$f":"'Wniosek 2026 r.'!C790","v":0},{"$f":"'Wniosek 2026 r.'!C945","v":0},{"$f":"'Wniosek 2026 r.'!E945","v":0},{"$f":"'Wniosek 2026 r.'!C1099","v":0}]
[null,null,null,null,null,null,null,null,null,null,null,null,null,null,null,null,null,null,null,null,null,null,{"$f":"'Wniosek 2026 r.'!A163","v":125},{"$f":"'Wniosek 2026 r.'!B163","v":0},{"$f":"'Wniosek 2026 r.'!C163","v":0},{"$f":"'Wniosek 2026 r.'!D163","v":0},{"$f":"'Wniosek 2026 r.'!E163","v":0},{"$f":"'Wniosek 2026 r.'!F163","v":0},{"$f":"'Wniosek 2026 r.'!G163","v":0},{"$f":"'Wniosek 2026 r.'!H163","v":"00:00:00"},{"$f":"'Wniosek 2026 r.'!C326","v":0},{"$f":"'Wniosek 2026 r.'!C482","v":0},{"$f":"'Wniosek 2026 r.'!D482","v":0},{"$f":"'Wniosek 2026 r.'!F482","v":0},{"$f":"'Wniosek 2026 r.'!H482","v":0},{"$f":"'Wniosek 2026 r.'!C636","v":0},{"$f":"'Wniosek 2026 r.'!C791","v":0},{"$f":"'Wniosek 2026 r.'!C946","v":0},{"$f":"'Wniosek 2026 r.'!E946","v":0},{"$f":"'Wniosek 2026 r.'!C1100","v":0}]
[null,null,null,null,null,null,null,null,null,null,null,null,null,null,null,null,null,null,null,null,null,null,{"$f":"'Wniosek 2026 r.'!A164","v":126},{"$f":"'Wniosek 2026 r.'!B164","v":0},{"$f":"'Wniosek 2026 r.'!C164","v":0},{"$f":"'Wniosek 2026 r.'!D164","v":0},{"$f":"'Wniosek 2026 r.'!E164","v":0},{"$f":"'Wniosek 2026 r.'!F164","v":0},{"$f":"'Wniosek 2026 r.'!G164","v":0},{"$f":"'Wniosek 2026 r.'!H164","v":"00:00:00"},{"$f":"'Wniosek 2026 r.'!C327","v":0},{"$f":"'Wniosek 2026 r.'!C483","v":0},{"$f":"'Wniosek 2026 r.'!D483","v":0},{"$f":"'Wniosek 2026 r.'!F483","v":0},{"$f":"'Wniosek 2026 r.'!H483","v":0},{"$f":"'Wniosek 2026 r.'!C637","v":0},{"$f":"'Wniosek 2026 r.'!C792","v":0},{"$f":"'Wniosek 2026 r.'!C947","v":0},{"$f":"'Wniosek 2026 r.'!E947","v":0},{"$f":"'Wniosek 2026 r.'!C1101","v":0}]
[null,null,null,null,null,null,null,null,null,null,null,null,null,null,null,null,null,null,null,null,null,null,{"$f":"'Wniosek 2026 r.'!A165","v":127},{"$f":"'Wniosek 2026 r.'!B165","v":0},{"$f":"'Wniosek 2026 r.'!C165","v":0},{"$f":"'Wniosek 2026 r.'!D165","v":0},{"$f":"'Wniosek 2026 r.'!E165","v":0},{"$f":"'Wniosek 2026 r.'!F165","v":0},{"$f":"'Wniosek 2026 r.'!G165","v":0},{"$f":"'Wniosek 2026 r.'!H165","v":"00:00:00"},{"$f":"'Wniosek 2026 r.'!C328","v":0},{"$f":"'Wniosek 2026 r.'!C484","v":0},{"$f":"'Wniosek 2026 r.'!D484","v":0},{"$f":"'Wniosek 2026 r.'!F484","v":0},{"$f":"'Wniosek 2026 r.'!H484","v":0},{"$f":"'Wniosek 2026 r.'!C638","v":0},{"$f":"'Wniosek 2026 r.'!C793","v":0},{"$f":"'Wniosek 2026 r.'!C948","v":0},{"$f":"'Wniosek 2026 r.'!E948","v":0},{"$f":"'Wniosek 2026 r.'!C1102","v":0}]
[null,null,null,null,null,null,null,null,null,null,null,null,null,null,null,null,null,null,null,null,null,null,{"$f":"'Wniosek 2026 r.'!A166","v":128},{"$f":"'Wniosek 2026 r.'!B166","v":0},{"$f":"'Wniosek 2026 r.'!C166","v":0},{"$f":"'Wniosek 2026 r.'!D166","v":0},{"$f":"'Wniosek 2026 r.'!E166","v":0},{"$f":"'Wniosek 2026 r.'!F166","v":0},{"$f":"'Wniosek 2026 r.'!G166","v":0},{"$f":"'Wniosek 2026 r.'!H166","v":"00:00:00"},{"$f":"'Wniosek 2026 r.'!C329","v":0},{"$f":"'Wniosek 2026 r.'!C485","v":0},{"$f":"'Wniosek 2026 r.'!D485","v":0},{"$f":"'Wniosek 2026 r.'!F485","v":0},{"$f":"'Wniosek 2026 r.'!H485","v":0},{"$f":"'Wniosek 2026 r.'!C639","v":0},{"$f":"'Wniosek 2026 r.'!C794","v":0},{"$f":"'Wniosek 2026 r.'!C949","v":0},{"$f":"'Wniosek 2026 r.'!E949","v":0},{"$f":"'Wniosek 2026 r.'!C1103","v":0}]
[null,null,null,null,null,null,null,null,null,null,null,null,null,null,null,null,null,null,null,null,null,null,{"$f":"'Wniosek 2026 r.'!A167","v":129},{"$f":"'Wniosek 2026 r.'!B167","v":0},{"$f":"'Wniosek 2026 r.'!C167","v":0},{"$f":"'Wniosek 2026 r.'!D167","v":0},{"$f":"'Wniosek 2026 r.'!E167","v":0},{"$f":"'Wniosek 2026 r.'!F167","v":0},{"$f":"'Wniosek 2026 r.'!G167","v":0},{"$f":"'Wniosek 2026 r.'!H167","v":"00:00:00"},{"$f":"'Wniosek 2026 r.'!C330","v":0},{"$f":"'Wniosek 2026 r.'!C486","v":0},{"$f":"'Wniosek 2026 r.'!D486","v":0},{"$f":"'Wniosek 2026 r.'!F486","v":0},{"$f":"'Wniosek 2026 r.'!H486","v":0},{"$f":"'Wniosek 2026 r.'!C640","v":0},{"$f":"'Wniosek 2026 r.'!C795","v":0},{"$f":"'Wniosek 2026 r.'!C950","v":0},{"$f":"'Wniosek 2026 r.'!E950","v":0},{"$f":"'Wniosek 2026 r.'!C1104","v":0}]
[null,null,null,null,null,null,null,null,null,null,null,null,null,null,null,null,null,null,null,null,null,null,{"$f":"'Wniosek 2026 r.'!A168","v":130},{"$f":"'Wniosek 2026 r.'!B168","v":0},{"$f":"'Wniosek 2026 r.'!C168","v":0},{"$f":"'Wniosek 2026 r.'!D168","v":0},{"$f":"'Wniosek 2026 r.'!E168","v":0},{"$f":"'Wniosek 2026 r.'!F168","v":0},{"$f":"'Wniosek 2026 r.'!G168","v":0},{"$f":"'Wniosek 2026 r.'!H168","v":"00:00:00"},{"$f":"'Wniosek 2026 r.'!C331","v":0},{"$f":"'Wniosek 2026 r.'!C487","v":0},{"$f":"'Wniosek 2026 r.'!D487","v":0},{"$f":"'Wniosek 2026 r.'!F487","v":0},{"$f":"'Wniosek 2026 r.'!H487","v":0},{"$f":"'Wniosek 2026 r.'!C641","v":0},{"$f":"'Wniosek 2026 r.'!C796","v":0},{"$f":"'Wniosek 2026 r.'!C951","v":0},{"$f":"'Wniosek 2026 r.'!E951","v":0},{"$f":"'Wniosek 2026 r.'!C1105","v":0}]
[null,null,null,null,null,null,null,null,null,null,null,null,null,null,null,null,null,null,null,null,null,null,{"$f":"'Wniosek 2026 r.'!A169","v":131},{"$f":"'Wniosek 2026 r.'!B169","v":0},{"$f":"'Wniosek 2026 r.'!C169","v":0},{"$f":"'Wniosek 2026 r.'!D169","v":0},{"$f":"'Wniosek 2026 r.'!E169","v":0},{"$f":"'Wniosek 2026 r.'!F169","v":0},{"$f":"'Wniosek 2026 r.'!G169","v":0},{"$f":"'Wniosek 2026 r.'!H169","v":"00:00:00"},{"$f":"'Wniosek 2026 r.'!C332","v":0},{"$f":"'Wniosek 2026 r.'!C488","v":0},{"$f":"'Wniosek 2026 r.'!D488","v":0},{"$f":"'Wniosek 2026 r.'!F488","v":0},{"$f":"'Wniosek 2026 r.'!H488","v":0},{"$f":"'Wniosek 2026 r.'!C642","v":0},{"$f":"'Wniosek 2026 r.'!C797","v":0},{"$f":"'Wniosek 2026 r.'!C952","v":0},{"$f":"'Wniosek 2026 r.'!E952","v":0},{"$f":"'Wniosek 2026 r.'!C1106","v":0}]
[null,null,null,null,null,null,null,null,null,null,null,null,null,null,null,null,null,null,null,null,null,null,{"$f":"'Wniosek 2026 r.'!A170","v":132},{"$f":"'Wniosek 2026 r.'!B170","v":0},{"$f":"'Wniosek 2026 r.'!C170","v":0},{"$f":"'Wniosek 2026 r.'!D170","v":0},{"$f":"'Wniosek 2026 r.'!E170","v":0},{"$f":"'Wniosek 2026 r.'!F170","v":0},{"$f":"'Wniosek 2026 r.'!G170","v":0},{"$f":"'Wniosek 2026 r.'!H170","v":"00:00:00"},{"$f":"'Wniosek 2026 r.'!C333","v":0},{"$f":"'Wniosek 2026 r.'!C489","v":0},{"$f":"'Wniosek 2026 r.'!D489","v":0},{"$f":"'Wniosek 2026 r.'!F489","v":0},{"$f":"'Wniosek 2026 r.'!H489","v":0},{"$f":"'Wniosek 2026 r.'!C643","v":0},{"$f":"'Wniosek 2026 r.'!C798","v":0},{"$f":"'Wniosek 2026 r.'!C953","v":0},{"$f":"'Wniosek 2026 r.'!E953","v":0},{"$f":"'Wniosek 2026 r.'!C1107","v":0}]
[null,null,null,null,null,null,null,null,null,null,null,null,null,null,null,null,null,null,null,null,null,null,{"$f":"'Wniosek 2026 r.'!A171","v":133},{"$f":"'Wniosek 2026 r.'!B171","v":0},{"$f":"'Wniosek 2026 r.'!C171","v":0},{"$f":"'Wniosek 2026 r.'!D171","v":0},{"$f":"'Wniosek 2026 r.'!E171","v":0},{"$f":"'Wniosek 2026 r.'!F171","v":0},{"$f":"'Wniosek 2026 r.'!G171","v":0},{"$f":"'Wniosek 2026 r.'!H171","v":"00:00:00"},{"$f":"'Wniosek 2026 r.'!C334","v":0},{"$f":"'Wniosek 2026 r.'!C490","v":0},{"$f":"'Wniosek 2026 r.'!D490","v":0},{"$f":"'Wniosek 2026 r.'!F490","v":0},{"$f":"'Wniosek 2026 r.'!H490","v":0},{"$f":"'Wniosek 2026 r.'!C644","v":0},{"$f":"'Wniosek 2026 r.'!C799","v":0},{"$f":"'Wniosek 2026 r.'!C954","v":0},{"$f":"'Wniosek 2026 r.'!E954","v":0},{"$f":"'Wniosek 2026 r.'!C1108","v":0}]
[null,null,null,null,null,null,null,null,null,null,null,null,null,null,null,null,null,null,null,null,null,null,{"$f":"'Wniosek 2026 r.'!A172","v":134},{"$f":"'Wniosek 2026 r.'!B172","v":0},{"$f":"'Wniosek 2026 r.'!C172","v":0},{"$f":"'Wniosek 2026 r.'!D172","v":0},{"$f":"'Wniosek 2026 r.'!E172","v":0},{"$f":"'Wniosek 2026 r.'!F172","v":0},{"$f":"'Wniosek 2026 r.'!G172","v":0},{"$f":"'Wniosek 2026 r.'!H172","v":"00:00:00"},{"$f":"'Wniosek 2026 r.'!C335","v":0},{"$f":"'Wniosek 2026 r.'!C491","v":0},{"$f":"'Wniosek 2026 r.'!D491","v":0},{"$f":"'Wniosek 2026 r.'!F491","v":0},{"$f":"'Wniosek 2026 r.'!H491","v":0},{"$f":"'Wniosek 2026 r.'!C645","v":0},{"$f":"'Wniosek 2026 r.'!C800","v":0},{"$f":"'Wniosek 2026 r.'!C955","v":0},{"$f":"'Wniosek 2026 r.'!E955","v":0},{"$f":"'Wniosek 2026 r.'!C1109","v":0}]
[null,null,null,null,null,null,null,null,null,null,null,null,null,null,null,null,null,null,null,null,null,null,{"$f":"'Wniosek 2026 r.'!A173","v":135},{"$f":"'Wniosek 2026 r.'!B173","v":0},{"$f":"'Wniosek 2026 r.'!C173","v":0},{"$f":"'Wniosek 2026 r.'!D173","v":0},{"$f":"'Wniosek 2026 r.'!E173","v":0},{"$f":"'Wniosek 2026 r.'!F173","v":0},{"$f":"'Wniosek 2026 r.'!G173","v":0},{"$f":"'Wniosek 2026 r.'!H173","v":"00:00:00"},{"$f":"'Wniosek 2026 r.'!C336","v":0},{"$f":"'Wniosek 2026 r.'!C492","v":0},{"$f":"'Wniosek 2026 r.'!D492","v":0},{"$f":"'Wniosek 2026 r.'!F492","v":0},{"$f":"'Wniosek 2026 r.'!H492","v":0},{"$f":"'Wniosek 2026 r.'!C646","v":0},{"$f":"'Wniosek 2026 r.'!C801","v":0},{"$f":"'Wniosek 2026 r.'!C956","v":0},{"$f":"'Wniosek 2026 r.'!E956","v":0},{"$f":"'Wniosek 2026 r.'!C1110","v":0}]
[null,null,null,null,null,null,null,null,null,null,null,null,null,null,null,null,null,null,null,null,null,null,{"$f":"'Wniosek 2026 r.'!A174","v":136},{"$f":"'Wniosek 2026 r.'!B174","v":0},{"$f":"'Wniosek 2026 r.'!C174","v":0},{"$f":"'Wniosek 2026 r.'!D174","v":0},{"$f":"'Wniosek 2026 r.'!E174","v":0},{"$f":"'Wniosek 2026 r.'!F174","v":0},{"$f":"'Wniosek 2026 r.'!G174","v":0},{"$f":"'Wniosek 2026 r.'!H174","v":"00:00:00"},{"$f":"'Wniosek 2026 r.'!C337","v":0},{"$f":"'Wniosek 2026 r.'!C493","v":0},{"$f":"'Wniosek 2026 r.'!D493","v":0},{"$f":"'Wniosek 2026 r.'!F493","v":0},{"$f":"'Wniosek 2026 r.'!H493","v":0},{"$f":"'Wniosek 2026 r.'!C647","v":0},{"$f":"'Wniosek 2026 r.'!C802","v":0},{"$f":"'Wniosek 2026 r.'!C957","v":0},{"$f":"'Wniosek 2026 r.'!E957","v":0},{"$f":"'Wniosek 2026 r.'!C1111","v":0}]
[null,null,null,null,null,null,null,null,null,null,null,null,null,null,null,null,null,null,null,null,null,null,{"$f":"'Wniosek 2026 r.'!A175","v":137},{"$f":"'Wniosek 2026 r.'!B175","v":0},{"$f":"'Wniosek 2026 r.'!C175","v":0},{"$f":"'Wniosek 2026 r.'!D175","v":0},{"$f":"'Wniosek 2026 r.'!E175","v":0},{"$f":"'Wniosek 2026 r.'!F175","v":0},{"$f":"'Wniosek 2026 r.'!G175","v":0},{"$f":"'Wniosek 2026 r.'!H175","v":"00:00:00"},{"$f":"'Wniosek 2026 r.'!C338","v":0},{"$f":"'Wniosek 2026 r.'!C494","v":0},{"$f":"'Wniosek 2026 r.'!D494","v":0},{"$f":"'Wniosek 2026 r.'!F494","v":0},{"$f":"'Wniosek 2026 r.'!H494","v":0},{"$f":"'Wniosek 2026 r.'!C648","v":0},{"$f":"'Wniosek 2026 r.'!C803","v":0},{"$f":"'Wniosek 2026 r.'!C958","v":0},{"$f":"'Wniosek 2026 r.'!E958","v":0},{"$f":"'Wniosek 2026 r.'!C1112","v":0}]
[null,null,null,null,null,null,null,null,null,null,null,null,null,null,null,null,null,null,null,null,null,null,{"$f":"'Wniosek 2026 r.'!A176","v":138},{"$f":"'Wniosek 2026 r.'!B176","v":0},{"$f":"'Wniosek 2026 r.'!C176","v":0},{"$f":"'Wniosek 2026 r.'!D176","v":0},{"$f":"'Wniosek 2026 r.'!E176","v":0},{"$f":"'Wniosek 2026 r.'!F176","v":0},{"$f":"'Wniosek 2026 r.'!G176","v":0},{"$f":"'Wniosek 2026 r.'!H176","v":"00:00:00"},{"$f":"'Wniosek 2026 r.'!C339","v":0},{"$f":"'Wniosek 2026 r.'!C495","v":0},{"$f":"'Wniosek 2026 r.'!D495","v":0},{"$f":"'Wniosek 2026 r.'!F495","v":0},{"$f":"'Wniosek 2026 r.'!H495","v":0},{"$f":"'Wniosek 2026 r.'!C649","v":0},{"$f":"'Wniosek 2026 r.'!C804","v":0},{"$f":"'Wniosek 2026 r.'!C959","v":0},{"$f":"'Wniosek 2026 r.'!E959","v":0},{"$f":"'Wniosek 2026 r.'!C1113","v":0}]
[null,null,null,null,null,null,null,null,null,null,null,null,null,null,null,null,null,null,null,null,null,null,{"$f":"'Wniosek 2026 r.'!A177","v":139},{"$f":"'Wniosek 2026 r.'!B177","v":0},{"$f":"'Wniosek 2026 r.'!C177","v":0},{"$f":"'Wniosek 2026 r.'!D177","v":0},{"$f":"'Wniosek 2026 r.'!E177","v":0},{"$f":"'Wniosek 2026 r.'!F177","v":0},{"$f":"'Wniosek 2026 r.'!G177","v":0},{"$f":"'Wniosek 2026 r.'!H177","v":"00:00:00"},{"$f":"'Wniosek 2026 r.'!C340","v":0},{"$f":"'Wniosek 2026 r.'!C496","v":0},{"$f":"'Wniosek 2026 r.'!D496","v":0},{"$f":"'Wniosek 2026 r.'!F496","v":0},{"$f":"'Wniosek 2026 r.'!H496","v":0},{"$f":"'Wniosek 2026 r.'!C650","v":0},{"$f":"'Wniosek 2026 r.'!C805","v":0},{"$f":"'Wniosek 2026 r.'!C960","v":0},{"$f":"'Wniosek 2026 r.'!E960","v":0},{"$f":"'Wniosek 2026 r.'!C1114","v":0}]
[null,null,null,null,null,null,null,null,null,null,null,null,null,null,null,null,null,null,null,null,null,null,{"$f":"'Wniosek 2026 r.'!A178","v":140},{"$f":"'Wniosek 2026 r.'!B178","v":0},{"$f":"'Wniosek 2026 r.'!C178","v":0},{"$f":"'Wniosek 2026 r.'!D178","v":0},{"$f":"'Wniosek 2026 r.'!E178","v":0},{"$f":"'Wniosek 2026 r.'!F178","v":0},{"$f":"'Wniosek 2026 r.'!G178","v":0},{"$f":"'Wniosek 2026 r.'!H178","v":"00:00:00"},{"$f":"'Wniosek 2026 r.'!C341","v":0},{"$f":"'Wniosek 2026 r.'!C497","v":0},{"$f":"'Wniosek 2026 r.'!D497","v":0},{"$f":"'Wniosek 2026 r.'!F497","v":0},{"$f":"'Wniosek 2026 r.'!H497","v":0},{"$f":"'Wniosek 2026 r.'!C651","v":0},{"$f":"'Wniosek 2026 r.'!C806","v":0},{"$f":"'Wniosek 2026 r.'!C961","v":0},{"$f":"'Wniosek 2026 r.'!E961","v":0},{"$f":"'Wniosek 2026 r.'!C1115","v":0}]
[null,null,null,null,null,null,null,null,null,null,null,null,null,null,null,null,null,null,null,null,null,null,{"$f":"'Wniosek 2026 r.'!A179","v":141},{"$f":"'Wniosek 2026 r.'!B179","v":0},{"$f":"'Wniosek 2026 r.'!C179","v":0},{"$f":"'Wniosek 2026 r.'!D179","v":0},{"$f":"'Wniosek 2026 r.'!E179","v":0},{"$f":"'Wniosek 2026 r.'!F179","v":0},{"$f":"'Wniosek 2026 r.'!G179","v":0},{"$f":"'Wniosek 2026 r.'!H179","v":"00:00:00"},{"$f":"'Wniosek 2026 r.'!C342","v":0},{"$f":"'Wniosek 2026 r.'!C498","v":0},{"$f":"'Wniosek 2026 r.'!D498","v":0},{"$f":"'Wniosek 2026 r.'!F498","v":0},{"$f":"'Wniosek 2026 r.'!H498","v":0},{"$f":"'Wniosek 2026 r.'!C652","v":0},{"$f":"'Wniosek 2026 r.'!C807","v":0},{"$f":"'Wniosek 2026 r.'!C962","v":0},{"$f":"'Wniosek 2026 r.'!E962","v":0},{"$f":"'Wniosek 2026 r.'!C1116","v":0}]
[null,null,null,null,null,null,null,null,null,null,null,null,null,null,null,null,null,null,null,null,null,null,{"$f":"'Wniosek 2026 r.'!A180","v":142},{"$f":"'Wniosek 2026 r.'!B180","v":0},{"$f":"'Wniosek 2026 r.'!C180","v":0},{"$f":"'Wniosek 2026 r.'!D180","v":0},{"$f":"'Wniosek 2026 r.'!E180","v":0},{"$f":"'Wniosek 2026 r.'!F180","v":0},{"$f":"'Wniosek 2026 r.'!G180","v":0},{"$f":"'Wniosek 2026 r.'!H180","v":"00:00:00"},{"$f":"'Wniosek 2026 r.'!C343","v":0},{"$f":"'Wniosek 2026 r.'!C499","v":0},{"$f":"'Wniosek 2026 r.'!D499","v":0},{"$f":"'Wniosek 2026 r.'!F499","v":0},{"$f":"'Wniosek 2026 r.'!H499","v":0},{"$f":"'Wniosek 2026 r.'!C653","v":0},{"$f":"'Wniosek 2026 r.'!C808","v":0},{"$f":"'Wniosek 2026 r.'!C963","v":0},{"$f":"'Wniosek 2026 r.'!E963","v":0},{"$f":"'Wniosek 2026 r.'!C1117","v":0}]
[null,null,null,null,null,null,null,null,null,null,null,null,null,null,null,null,null,null,null,null,null,null,{"$f":"'Wniosek 2026 r.'!A181","v":143},{"$f":"'Wniosek 2026 r.'!B181","v":0},{"$f":"'Wniosek 2026 r.'!C181","v":0},{"$f":"'Wniosek 2026 r.'!D181","v":0},{"$f":"'Wniosek 2026 r.'!E181","v":0},{"$f":"'Wniosek 2026 r.'!F181","v":0},{"$f":"'Wniosek 2026 r.'!G181","v":0},{"$f":"'Wniosek 2026 r.'!H181","v":"00:00:00"},{"$f":"'Wniosek 2026 r.'!C344","v":0},{"$f":"'Wniosek 2026 r.'!C500","v":0},{"$f":"'Wniosek 2026 r.'!D500","v":0},{"$f":"'Wniosek 2026 r.'!F500","v":0},{"$f":"'Wniosek 2026 r.'!H500","v":0},{"$f":"'Wniosek 2026 r.'!C654","v":0},{"$f":"'Wniosek 2026 r.'!C809","v":0},{"$f":"'Wniosek 2026 r.'!C964","v":0},{"$f":"'Wniosek 2026 r.'!E964","v":0},{"$f":"'Wniosek 2026 r.'!C1118","v":0}]
[null,null,null,null,null,null,null,null,null,null,null,null,null,null,null,null,null,null,null,null,null,null,{"$f":"'Wniosek 2026 r.'!A182","v":144},{"$f":"'Wniosek 2026 r.'!B182","v":0},{"$f":"'Wniosek 2026 r.'!C182","v":0},{"$f":"'Wniosek 2026 r.'!D182","v":0},{"$f":"'Wniosek 2026 r.'!E182","v":0},{"$f":"'Wniosek 2026 r.'!F182","v":0},{"$f":"'Wniosek 2026 r.'!G182","v":0},{"$f":"'Wniosek 2026 r.'!H182","v":"00:00:00"},{"$f":"'Wniosek 2026 r.'!C345","v":0},{"$f":"'Wniosek 2026 r.'!C501","v":0},{"$f":"'Wniosek 2026 r.'!D501","v":0},{"$f":"'Wniosek 2026 r.'!F501","v":0},{"$f":"'Wniosek 2026 r.'!H501","v":0},{"$f":"'Wniosek 2026 r.'!C655","v":0},{"$f":"'Wniosek 2026 r.'!C810","v":0},{"$f":"'Wniosek 2026 r.'!C965","v":0},{"$f":"'Wniosek 2026 r.'!E965","v":0},{"$f":"'Wniosek 2026 r.'!C1119","v":0}]
[null,null,null,null,null,null,null,null,null,null,null,null,null,null,null,null,null,null,null,null,null,null,{"$f":"'Wniosek 2026 r.'!A183","v":145},{"$f":"'Wniosek 2026 r.'!B183","v":0},{"$f":"'Wniosek 2026 r.'!C183","v":0},{"$f":"'Wniosek 2026 r.'!D183","v":0},{"$f":"'Wniosek 2026 r.'!E183","v":0},{"$f":"'Wniosek 2026 r.'!F183","v":0},{"$f":"'Wniosek 2026 r.'!G183","v":0},{"$f":"'Wniosek 2026 r.'!H183","v":"00:00:00"},{"$f":"'Wniosek 2026 r.'!C346","v":0},{"$f":"'Wniosek 2026 r.'!C502","v":0},{"$f":"'Wniosek 2026 r.'!D502","v":0},{"$f":"'Wniosek 2026 r.'!F502","v":0},{"$f":"'Wniosek 2026 r.'!H502","v":0},{"$f":"'Wniosek 2026 r.'!C656","v":0},{"$f":"'Wniosek 2026 r.'!C811","v":0},{"$f":"'Wniosek 2026 r.'!C966","v":0},{"$f":"'Wniosek 2026 r.'!E966","v":0},{"$f":"'Wniosek 2026 r.'!C1120","v":0}]
[null,null,null,null,null,null,null,null,null,null,null,null,null,null,null,null,null,null,null,null,null,null,{"$f":"'Wniosek 2026 r.'!A184","v":146},{"$f":"'Wniosek 2026 r.'!B184","v":0},{"$f":"'Wniosek 2026 r.'!C184","v":0},{"$f":"'Wniosek 2026 r.'!D184","v":0},{"$f":"'Wniosek 2026 r.'!E184","v":0},{"$f":"'Wniosek 2026 r.'!F184","v":0},{"$f":"'Wniosek 2026 r.'!G184","v":0},{"$f":"'Wniosek 2026 r.'!H184","v":"00:00:00"},{"$f":"'Wniosek 2026 r.'!C347","v":0},{"$f":"'Wniosek 2026 r.'!C503","v":0},{"$f":"'Wniosek 2026 r.'!D503","v":0},{"$f":"'Wniosek 2026 r.'!F503","v":0},{"$f":"'Wniosek 2026 r.'!H503","v":0},{"$f":"'Wniosek 2026 r.'!C657","v":0},{"$f":"'Wniosek 2026 r.'!C812","v":0},{"$f":"'Wniosek 2026 r.'!C967","v":0},{"$f":"'Wniosek 2026 r.'!E967","v":0},{"$f":"'Wniosek 2026 r.'!C1121","v":0}]
[null,null,null,null,null,null,null,null,null,null,null,null,null,null,null,null,null,null,null,null,null,null,{"$f":"'Wniosek 2026 r.'!A185","v":147},{"$f":"'Wniosek 2026 r.'!B185","v":0},{"$f":"'Wniosek 2026 r.'!C185","v":0},{"$f":"'Wniosek 2026 r.'!D185","v":0},{"$f":"'Wniosek 2026 r.'!E185","v":0},{"$f":"'Wniosek 2026 r.'!F185","v":0},{"$f":"'Wniosek 2026 r.'!G185","v":0},{"$f":"'Wniosek 2026 r.'!H185","v":"00:00:00"},{"$f":"'Wniosek 2026 r.'!C348","v":0},{"$f":"'Wniosek 2026 r.'!C504","v":0},{"$f":"'Wniosek 2026 r.'!D504","v":0},{"$f":"'Wniosek 2026 r.'!F504","v":0},{"$f":"'Wniosek 2026 r.'!H504","v":0},{"$f":"'Wniosek 2026 r.'!C658","v":0},{"$f":"'Wniosek 2026 r.'!C813","v":0},{"$f":"'Wniosek 2026 r.'!C968","v":0},{"$f":"'Wniosek 2026 r.'!E968","v":0},{"$f":"'Wniosek 2026 r.'!C1122","v":0}]
[null,null,null,null,null,null,null,null,null,null,null,null,null,null,null,null,null,null,null,null,null,null,{"$f":"'Wniosek 2026 r.'!A186","v":148},{"$f":"'Wniosek 2026 r.'!B186","v":0},{"$f":"'Wniosek 2026 r.'!C186","v":0},{"$f":"'Wniosek 2026 r.'!D186","v":0},{"$f":"'Wniosek 2026 r.'!E186","v":0},{"$f":"'Wniosek 2026 r.'!F186","v":0},{"$f":"'Wniosek 2026 r.'!G186","v":0},{"$f":"'Wniosek 2026 r.'!H186","v":"00:00:00"},{"$f":"'Wniosek 2026 r.'!C349","v":0},{"$f":"'Wniosek 2026 r.'!C505","v":0},{"$f":"'Wniosek 2026 r.'!D505","v":0},{"$f":"'Wniosek 2026 r.'!F505","v":0},{"$f":"'Wniosek 2026 r.'!H505","v":0},{"$f":"'Wniosek 2026 r.'!C659","v":0},{"$f":"'Wniosek 2026 r.'!C814","v":0},{"$f":"'Wniosek 2026 r.'!C969","v":0},{"$f":"'Wniosek 2026 r.'!E969","v":0},{"$f":"'Wniosek 2026 r.'!C1123","v":0}]
[null,null,null,null,null,null,null,null,null,null,null,null,null,null,null,null,null,null,null,null,null,null,{"$f":"'Wniosek 2026 r.'!A187","v":149},{"$f":"'Wniosek 2026 r.'!B187","v":0},{"$f":"'Wniosek 2026 r.'!C187","v":0},{"$f":"'Wniosek 2026 r.'!D187","v":0},{"$f":"'Wniosek 2026 r.'!E187","v":0},{"$f":"'Wniosek 2026 r.'!F187","v":0},{"$f":"'Wniosek 2026 r.'!G187","v":0},{"$f":"'Wniosek 2026 r.'!H187","v":"00:00:00"},{"$f":"'Wniosek 2026 r.'!C350","v":0},{"$f":"'Wniosek 2026 r.'!C506","v":0},{"$f":"'Wniosek 2026 r.'!D506","v":0},{"$f":"'Wniosek 2026 r.'!F506","v":0},{"$f":"'Wniosek 2026 r.'!H506","v":0},{"$f":"'Wniosek 2026 r.'!C660","v":0},{"$f":"'Wniosek 2026 r.'!C815","v":0},{"$f":"'Wniosek 2026 r.'!C970","v":0},{"$f":"'Wniosek 2026 r.'!E970","v":0},{"$f":"'Wniosek 2026 r.'!C1124","v":0}]
[null,null,null,null,null,null,null,null,null,null,null,null,null,null,null,null,null,null,null,null,null,null,{"$f":"'Wniosek 2026 r.'!A188","v":150},{"$f":"'Wniosek 2026 r.'!B188","v":0},{"$f":"'Wniosek 2026 r.'!C188","v":0},{"$f":"'Wniosek 2026 r.'!D188","v":0},{"$f":"'Wniosek 2026 r.'!E188","v":0},{"$f":"'Wniosek 2026 r.'!F188","v":0},{"$f":"'Wniosek 2026 r.'!G188","v":0},{"$f":"'Wniosek 2026 r.'!H188","v":"00:00:00"},{"$f":"'Wniosek 2026 r.'!C351","v":0},{"$f":"'Wniosek 2026 r.'!C507","v":0},{"$f":"'Wniosek 2026 r.'!D507","v":0},{"$f":"'Wniosek 2026 r.'!F507","v":0},{"$f":"'Wniosek 2026 r.'!H507","v":0},{"$f":"'Wniosek 2026 r.'!C661","v":0},{"$f":"'Wniosek 2026 r.'!C816","v":0},{"$f":"'Wniosek 2026 r.'!C971","v":0},{"$f":"'Wniosek 2026 r.'!E971","v":0},{"$f":"'Wniosek 2026 r.'!C1125","v":0}]

{"sheet":"Dane do umowy","index":10,"n_rows":2,"n_cols":166,"rows_kept":2,"cut":false,"hidden":true,"merged":[]}
["Nazwa organizatora","NIP","REGON","OSOBA 1","OSOBA 2","OSOBA 3","SKARBNIK","DATA WNIOSKU","NUMER UMOWY","liczba linii","długość linii","wzkm 2026","częstotliwość 2026","linia 1","linia 2","linia 3","linia 4","linia 5","linia 6","linia 7","linia 8","linia 9","linia 10","linia 11","linia 12","linia 13","linia 14","linia 15","linia 16","linia 17","linia 18","linia 19","linia 20","linia 21","linia 22","linia 23","linia 24","linia 25","linia 26","linia 27","linia 28","linia 29","linia 30","linia 31","linia 32","linia 33","linia 34","linia 35","linia 36","linia 37","linia 38","linia 39","linia 40","linia 41","linia 42","linia 43","linia 44","linia 45","linia 46","linia 47","linia 48","linia 49","linia 50","linia 51","linia 52","linia 53","linia 54","linia 55","linia 56","linia 57","linia 58","linia 59","linia 60","linia 61","linia 62","linia 63","linia 64","linia 65","linia 66","linia 67","linia 68","linia 69","linia 70","linia 71","linia 72","linia 73","linia 74","linia 75","linia 76","linia 77","linia 78","linia 79","linia 80","linia 81","linia 82","linia 83","linia 84","linia 85","linia 86","linia 87","linia 88","linia 89","linia 90","linia 91","linia 92","linia 93","linia 94","linia 95","linia 96","linia 97","linia 98","linia 99","linia 100","linia 101","linia 102","linia 103","linia 104","linia 105","linia 106","linia 107","linia 108","linia 109","linia 110","linia 111","linia 112","linia 113","linia 114","linia 115","linia 116","linia 117","linia 118","linia 119","linia 120","linia 121","linia 122","linia 123","linia 124","linia 125","linia 126","linia 127","linia 128","linia 129","linia 130","linia 131","linia 132","linia 133","linia 134","linia 135","linia 136","linia 137","linia 138","linia 139","linia 140","linia 141","linia 142","linia 143","linia 144","linia 145","linia 146","linia 147","linia 148","linia 149","linia 150","dopłata 2026 r.","kwota do umowy 2026","Nr konta"]
[{"$f":"'Wniosek 2026 r.'!C5","v":"Proszę wybrać nr NIP z listy rozwijanej"},{"$f":"'Wniosek 2026 r.'!C4","v":0},{"$f":"'Wniosek 2026 r.'!C6","v":"Proszę wybrać nr NIP z listy rozwijanej"},{"$f":"PROPER((_xlfn.CONCAT('Zał. nr 4 dane osób'!B25,\" \",'Zał. nr 4 dane osób'!C25,\" \",'Zał. nr 4 dane osób'!D25,\" \",'Zał. nr 4 dane osób'!E25:I25)))","v":"   "},{"$f":"PROPER((_xlfn.CONCAT('Zał. nr 4 dane osób'!B27,\" \",'Zał. nr 4 dane osób'!C27,\" \",'Zał. nr 4 dane osób'!D27, \" \",'Zał. nr 4 dane osób'!E27:I27)))","v":"   "},{"$f":"PROPER((_xlfn.CONCAT('Zał. nr 4 dane osób'!B29,\" \",'Zał. nr 4 dane osób'!C29,\" \",'Zał. nr 4 dane osób'!D29,\" \",'Zał. nr 4 dane osób'!E29:I29)))","v":"   "},{"$f":"PROPER((_xlfn.CONCAT('Zał. nr 4 dane osób'!B34,\" \",'Zał. nr 4 dane osób'!C34,\" \",'Zał. nr 4 dane osób'!D34,\" \",'Zał. nr 4 dane osób'!E34:I34)))","v":"   "},{"$f":"'Wniosek 2026 r.'!G1","v":"00:00:00"},{"$f":"'Wniosek 2026 r.'!A1159","v":0},{"$f":"'Wniosek 2026 r.'!F31","v":0},{"$f":"'Wniosek 2026 r.'!E189","v":0},{"$f":"'Wniosek 2026 r.'!C352","v":0},{"$f":"'Wniosek 2026 r.'!G189","v":0},{"$f":"IF('Wniosek 2026 r.'!E39=\"\",\"\",\"linia \"&'Wniosek 2026 r.'!B39&\" o długości \"&'Wniosek 2026 r.'!E39&\" km,\")","v":""},{"$f":"IF('Wniosek 2026 r.'!E40=\"\",\"\",\"linia \"&'Wniosek 2026 r.'!B40&\" o długości \"&'Wniosek 2026 r.'!E40&\" km,\")","v":""},{"$f":"IF('Wniosek 2026 r.'!E41=\"\",\"\",\"linia \"&'Wniosek 2026 r.'!B41&\" o długości \"&'Wniosek 2026 r.'!E41&\" km,\")","v":""},{"$f":"IF('Wniosek 2026 r.'!E42=\"\",\"\",\"linia \"&'Wniosek 2026 r.'!B42&\" o długości \"&'Wniosek 2026 r.'!E42&\" km,\")","v":""},{"$f":"IF('Wniosek 2026 r.'!E43=\"\",\"\",\"linia \"&'Wniosek 2026 r.'!B43&\" o długości \"&'Wniosek 2026 r.'!E43&\" km,\")","v":""},{"$f":"IF('Wniosek 2026 r.'!E44=\"\",\"\",\"linia \"&'Wniosek 2026 r.'!B44&\" o długości \"&'Wniosek 2026 r.'!E44&\" km,\")","v":""},{"$f":"IF('Wniosek 2026 r.'!E45=\"\",\"\",\"linia \"&'Wniosek 2026 r.'!B45&\" o długości \"&'Wniosek 2026 r.'!E45&\" km,\")","v":""},{"$f":"IF('Wniosek 2026 r.'!E46=\"\",\"\",\"linia \"&'Wniosek 2026 r.'!B46&\" o długości \"&'Wniosek 2026 r.'!E46&\" km,\")","v":""},{"$f":"IF('Wniosek 2026 r.'!E47=\"\",\"\",\"linia \"&'Wniosek 2026 r.'!B47&\" o długości \"&'Wniosek 2026 r.'!E47&\" km,\")","v":""},{"$f":"IF('Wniosek 2026 r.'!E48=\"\",\"\",\"linia \"&'Wniosek 2026 r.'!B48&\" o długości \"&'Wniosek 2026 r.'!E48&\" km,\")","v":""},{"$f":"IF('Wniosek 2026 r.'!E49=\"\",\"\",\"linia \"&'Wniosek 2026 r.'!B49&\" o długości \"&'Wniosek 2026 r.'!E49&\" km,\")","v":""},{"$f":"IF('Wniosek 2026 r.'!E50=\"\",\"\",\"linia \"&'Wniosek 2026 r.'!B50&\" o długości \"&'Wniosek 2026 r.'!E50&\" km,\")","v":""},{"$f":"IF('Wniosek 2026 r.'!E51=\"\",\"\",\"linia \"&'Wniosek 2026 r.'!B51&\" o długości \"&'Wniosek 2026 r.'!E51&\" km,\")","v":""},{"$f":"IF('Wniosek 2026 r.'!E52=\"\",\"\",\"linia \"&'Wniosek 2026 r.'!B52&\" o długości \"&'Wniosek 2026 r.'!E52&\" km,\")","v":""},{"$f":"IF('Wniosek 2026 r.'!E53=\"\",\"\",\"linia \"&'Wniosek 2026 r.'!B53&\" o długości \"&'Wniosek 2026 r.'!E53&\" km,\")","v":""},{"$f":"IF('Wniosek 2026 r.'!E54=\"\",\"\",\"linia \"&'Wniosek 2026 r.'!B54&\" o długości \"&'Wniosek 2026 r.'!E54&\" km,\")","v":""},{"$f":"IF('Wniosek 2026 r.'!E55=\"\",\"\",\"linia \"&'Wniosek 2026 r.'!B55&\" o długości \"&'Wniosek 2026 r.'!E55&\" km,\")","v":""},{"$f":"IF('Wniosek 2026 r.'!E56=\"\",\"\",\"linia \"&'Wniosek 2026 r.'!B56&\" o długości \"&'Wniosek 2026 r.'!E56&\" km,\")","v":""},{"$f":"IF('Wniosek 2026 r.'!E57=\"\",\"\",\"linia \"&'Wniosek 2026 r.'!B57&\" o długości \"&'Wniosek 2026 r.'!E57&\" km,\")","v":""},{"$f":"IF('Wniosek 2026 r.'!E58=\"\",\"\",\"linia \"&'Wniosek 2026 r.'!B58&\" o długości \"&'Wniosek 2026 r.'!E58&\" km,\")","v":""},{"$f":"IF('Wniosek 2026 r.'!E59=\"\",\"\",\"linia \"&'Wniosek 2026 r.'!B59&\" o długości \"&'Wniosek 2026 r.'!E59&\" km,\")","v":""},{"$f":"IF('Wniosek 2026 r.'!E60=\"\",\"\",\"linia \"&'Wniosek 2026 r.'!B60&\" o długości \"&'Wniosek 2026 r.'!E60&\" km,\")","v":""},{"$f":"IF('Wniosek 2026 r.'!E61=\"\",\"\",\"linia \"&'Wniosek 2026 r.'!B61&\" o długości \"&'Wniosek 2026 r.'!E61&\" km,\")","v":""},{"$f":"IF('Wniosek 2026 r.'!E62=\"\",\"\",\"linia \"&'Wniosek 2026 r.'!B62&\" o długości \"&'Wniosek 2026 r.'!E62&\" km,\")","v":""},{"$f":"IF('Wniosek 2026 r.'!E63=\"\",\"\",\"linia \"&'Wniosek 2026 r.'!B63&\" o długości \"&'Wniosek 2026 r.'!E63&\" km,\")","v":""},{"$f":"IF('Wniosek 2026 r.'!E64=\"\",\"\",\"linia \"&'Wniosek 2026 r.'!B64&\" o długości \"&'Wniosek 2026 r.'!E64&\" km,\")","v":""},{"$f":"IF('Wniosek 2026 r.'!E65=\"\",\"\",\"linia \"&'Wniosek 2026 r.'!B65&\" o długości \"&'Wniosek 2026 r.'!E65&\" km,\")","v":""},{"$f":"IF('Wniosek 2026 r.'!E66=\"\",\"\",\"linia \"&'Wniosek 2026 r.'!B66&\" o długości \"&'Wniosek 2026 r.'!E66&\" km,\")","v":""},{"$f":"IF('Wniosek 2026 r.'!E67=\"\",\"\",\"linia \"&'Wniosek 2026 r.'!B67&\" o długości \"&'Wniosek 2026 r.'!E67&\" km,\")","v":""},{"$f":"IF('Wniosek 2026 r.'!E68=\"\",\"\",\"linia \"&'Wniosek 2026 r.'!B68&\" o długości \"&'Wniosek 2026 r.'!E68&\" km,\")","v":""},{"$f":"IF('Wniosek 2026 r.'!E69=\"\",\"\",\"linia \"&'Wniosek 2026 r.'!B69&\" o długości \"&'Wniosek 2026 r.'!E69&\" km,\")","v":""},{"$f":"IF('Wniosek 2026 r.'!E70=\"\",\"\",\"linia \"&'Wniosek 2026 r.'!B70&\" o długości \"&'Wniosek 2026 r.'!E70&\" km,\")","v":""},{"$f":"IF('Wniosek 2026 r.'!E71=\"\",\"\",\"linia \"&'Wniosek 2026 r.'!B71&\" o długości \"&'Wniosek 2026 r.'!E71&\" km,\")","v":""},{"$f":"IF('Wniosek 2026 r.'!E72=\"\",\"\",\"linia \"&'Wniosek 2026 r.'!B72&\" o długości \"&'Wniosek 2026 r.'!E72&\" km,\")","v":""},{"$f":"IF('Wniosek 2026 r.'!E73=\"\",\"\",\"linia \"&'Wniosek 2026 r.'!B73&\" o długości \"&'Wniosek 2026 r.'!E73&\" km,\")","v":""},{"$f":"IF('Wniosek 2026 r.'!E74=\"\",\"\",\"linia \"&'Wniosek 2026 r.'!B74&\" o długości \"&'Wniosek 2026 r.'!E74&\" km,\")","v":""},{"$f":"IF('Wniosek 2026 r.'!E75=\"\",\"\",\"linia \"&'Wniosek 2026 r.'!B75&\" o długości \"&'Wniosek 2026 r.'!E75&\" km,\")","v":""},{"$f":"IF('Wniosek 2026 r.'!E76=\"\",\"\",\"linia \"&'Wniosek 2026 r.'!B76&\" o długości \"&'Wniosek 2026 r.'!E76&\" km,\")","v":""},{"$f":"IF('Wniosek 2026 r.'!E77=\"\",\"\",\"linia \"&'Wniosek 2026 r.'!B77&\" o długości \"&'Wniosek 2026 r.'!E77&\" km,\")","v":""},{"$f":"IF('Wniosek 2026 r.'!E78=\"\",\"\",\"linia \"&'Wniosek 2026 r.'!B78&\" o długości \"&'Wniosek 2026 r.'!E78&\" km,\")","v":""},{"$f":"IF('Wniosek 2026 r.'!E79=\"\",\"\",\"linia \"&'Wniosek 2026 r.'!B79&\" o długości \"&'Wniosek 2026 r.'!E79&\" km,\")","v":""},{"$f":"IF('Wniosek 2026 r.'!E80=\"\",\"\",\"linia \"&'Wniosek 2026 r.'!B80&\" o długości \"&'Wniosek 2026 r.'!E80&\" km,\")","v":""},{"$f":"IF('Wniosek 2026 r.'!E81=\"\",\"\",\"linia \"&'Wniosek 2026 r.'!B81&\" o długości \"&'Wniosek 2026 r.'!E81&\" km,\")","v":""},{"$f":"IF('Wniosek 2026 r.'!E82=\"\",\"\",\"linia \"&'Wniosek 2026 r.'!B82&\" o długości \"&'Wniosek 2026 r.'!E82&\" km,\")","v":""},{"$f":"IF('Wniosek 2026 r.'!E83=\"\",\"\",\"linia \"&'Wniosek 2026 r.'!B83&\" o długości \"&'Wniosek 2026 r.'!E83&\" km,\")","v":""},{"$f":"IF('Wniosek 2026 r.'!E84=\"\",\"\",\"linia \"&'Wniosek 2026 r.'!B84&\" o długości \"&'Wniosek 2026 r.'!E84&\" km,\")","v":""},{"$f":"IF('Wniosek 2026 r.'!E85=\"\",\"\",\"linia \"&'Wniosek 2026 r.'!B85&\" o długości \"&'Wniosek 2026 r.'!E85&\" km,\")","v":""},{"$f":"IF('Wniosek 2026 r.'!E86=\"\",\"\",\"linia \"&'Wniosek 2026 r.'!B86&\" o długości \"&'Wniosek 2026 r.'!E86&\" km,\")","v":""},{"$f":"IF('Wniosek 2026 r.'!E87=\"\",\"\",\"linia \"&'Wniosek 2026 r.'!B87&\" o długości \"&'Wniosek 2026 r.'!E87&\" km,\")","v":""},{"$f":"IF('Wniosek 2026 r.'!E88=\"\",\"\",\"linia \"&'Wniosek 2026 r.'!B88&\" o długości \"&'Wniosek 2026 r.'!E88&\" km,\")","v":""},{"$f":"IF('Wniosek 2026 r.'!E89=\"\",\"\",\"linia \"&'Wniosek 2026 r.'!B89&\" o długości \"&'Wniosek 2026 r.'!E89&\" km,\")","v":""},{"$f":"IF('Wniosek 2026 r.'!E90=\"\",\"\",\"linia \"&'Wniosek 2026 r.'!B90&\" o długości \"&'Wniosek 2026 r.'!E90&\" km,\")","v":""},{"$f":"IF('Wniosek 2026 r.'!E91=\"\",\"\",\"linia \"&'Wniosek 2026 r.'!B91&\" o długości \"&'Wniosek 2026 r.'!E91&\" km,\")","v":""},{"$f":"IF('Wniosek 2026 r.'!E92=\"\",\"\",\"linia \"&'Wniosek 2026 r.'!B92&\" o długości \"&'Wniosek 2026 r.'!E92&\" km,\")","v":""},{"$f":"IF('Wniosek 2026 r.'!E93=\"\",\"\",\"linia \"&'Wniosek 2026 r.'!B93&\" o długości \"&'Wniosek 2026 r.'!E93&\" km,\")","v":""},{"$f":"IF('Wniosek 2026 r.'!E94=\"\",\"\",\"linia \"&'Wniosek 2026 r.'!B94&\" o długości \"&'Wniosek 2026 r.'!E94&\" km,\")","v":""},{"$f":"IF('Wniosek 2026 r.'!E95=\"\",\"\",\"linia \"&'Wniosek 2026 r.'!B95&\" o długości \"&'Wniosek 2026 r.'!E95&\" km,\")","v":""},{"$f":"IF('Wniosek 2026 r.'!E96=\"\",\"\",\"linia \"&'Wniosek 2026 r.'!B96&\" o długości \"&'Wniosek 2026 r.'!E96&\" km,\")","v":""},{"$f":"IF('Wniosek 2026 r.'!E97=\"\",\"\",\"linia \"&'Wniosek 2026 r.'!B97&\" o długości \"&'Wniosek 2026 r.'!E97&\" km,\")","v":""},{"$f":"IF('Wniosek 2026 r.'!E98=\"\",\"\",\"linia \"&'Wniosek 2026 r.'!B98&\" o długości \"&'Wniosek 2026 r.'!E98&\" km,\")","v":""},{"$f":"IF('Wniosek 2026 r.'!E99=\"\",\"\",\"linia \"&'Wniosek 2026 r.'!B99&\" o długości \"&'Wniosek 2026 r.'!E99&\" km,\")","v":""},{"$f":"IF('Wniosek 2026 r.'!E100=\"\",\"\",\"linia \"&'Wniosek 2026 r.'!B100&\" o długości \"&'Wniosek 2026 r.'!E100&\" km,\")","v":""},{"$f":"IF('Wniosek 2026 r.'!E101=\"\",\"\",\"linia \"&'Wniosek 2026 r.'!B101&\" o długości \"&'Wniosek 2026 r.'!E101&\" km,\")","v":""},{"$f":"IF('Wniosek 2026 r.'!E102=\"\",\"\",\"linia \"&'Wniosek 2026 r.'!B102&\" o długości \"&'Wniosek 2026 r.'!E102&\" km,\")","v":""},{"$f":"IF('Wniosek 2026 r.'!E103=\"\",\"\",\"linia \"&'Wniosek 2026 r.'!B103&\" o długości \"&'Wniosek 2026 r.'!E103&\" km,\")","v":""},{"$f":"IF('Wniosek 2026 r.'!E104=\"\",\"\",\"linia \"&'Wniosek 2026 r.'!B104&\" o długości \"&'Wniosek 2026 r.'!E104&\" km,\")","v":""},{"$f":"IF('Wniosek 2026 r.'!E105=\"\",\"\",\"linia \"&'Wniosek 2026 r.'!B105&\" o długości \"&'Wniosek 2026 r.'!E105&\" km,\")","v":""},{"$f":"IF('Wniosek 2026 r.'!E106=\"\",\"\",\"linia \"&'Wniosek 2026 r.'!B106&\" o długości \"&'Wniosek 2026 r.'!E106&\" km,\")","v":""},{"$f":"IF('Wniosek 2026 r.'!E107=\"\",\"\",\"linia \"&'Wniosek 2026 r.'!B107&\" o długości \"&'Wniosek 2026 r.'!E107&\" km,\")","v":""},{"$f":"IF('Wniosek 2026 r.'!E108=\"\",\"\",\"linia \"&'Wniosek 2026 r.'!B108&\" o długości \"&'Wniosek 2026 r.'!E108&\" km,\")","v":""},{"$f":"IF('Wniosek 2026 r.'!E109=\"\",\"\",\"linia \"&'Wniosek 2026 r.'!B109&\" o długości \"&'Wniosek 2026 r.'!E109&\" km,\")","v":""},{"$f":"IF('Wniosek 2026 r.'!E110=\"\",\"\",\"linia \"&'Wniosek 2026 r.'!B110&\" o długości \"&'Wniosek 2026 r.'!E110&\" km,\")","v":""},{"$f":"IF('Wniosek 2026 r.'!E111=\"\",\"\",\"linia \"&'Wniosek 2026 r.'!B111&\" o długości \"&'Wniosek 2026 r.'!E111&\" km,\")","v":""},{"$f":"IF('Wniosek 2026 r.'!E112=\"\",\"\",\"linia \"&'Wniosek 2026 r.'!B112&\" o długości \"&'Wniosek 2026 r.'!E112&\" km,\")","v":""},{"$f":"IF('Wniosek 2026 r.'!E113=\"\",\"\",\"linia \"&'Wniosek 2026 r.'!B113&\" o długości \"&'Wniosek 2026 r.'!E113&\" km,\")","v":""},{"$f":"IF('Wniosek 2026 r.'!E114=\"\",\"\",\"linia \"&'Wniosek 2026 r.'!B114&\" o długości \"&'Wniosek 2026 r.'!E114&\" km,\")","v":""},{"$f":"IF('Wniosek 2026 r.'!E115=\"\",\"\",\"linia \"&'Wniosek 2026 r.'!B115&\" o długości \"&'Wniosek 2026 r.'!E115&\" km,\")","v":""},{"$f":"IF('Wniosek 2026 r.'!E116=\"\",\"\",\"linia \"&'Wniosek 2026 r.'!B116&\" o długości \"&'Wniosek 2026 r.'!E116&\" km,\")","v":""},{"$f":"IF('Wniosek 2026 r.'!E117=\"\",\"\",\"linia \"&'Wniosek 2026 r.'!B117&\" o długości \"&'Wniosek 2026 r.'!E117&\" km,\")","v":""},{"$f":"IF('Wniosek 2026 r.'!E118=\"\",\"\",\"linia \"&'Wniosek 2026 r.'!B118&\" o długości \"&'Wniosek 2026 r.'!E118&\" km,\")","v":""},{"$f":"IF('Wniosek 2026 r.'!E119=\"\",\"\",\"linia \"&'Wniosek 2026 r.'!B119&\" o długości \"&'Wniosek 2026 r.'!E119&\" km,\")","v":""},{"$f":"IF('Wniosek 2026 r.'!E120=\"\",\"\",\"linia \"&'Wniosek 2026 r.'!B120&\" o długości \"&'Wniosek 2026 r.'!E120&\" km,\")","v":""},{"$f":"IF('Wniosek 2026 r.'!E121=\"\",\"\",\"linia \"&'Wniosek 2026 r.'!B121&\" o długości \"&'Wniosek 2026 r.'!E121&\" km,\")","v":""},{"$f":"IF('Wniosek 2026 r.'!E122=\"\",\"\",\"linia \"&'Wniosek 2026 r.'!B122&\" o długości \"&'Wniosek 2026 r.'!E122&\" km,\")","v":""},{"$f":"IF('Wniosek 2026 r.'!E123=\"\",\"\",\"linia \"&'Wniosek 2026 r.'!B123&\" o długości \"&'Wniosek 2026 r.'!E123&\" km,\")","v":""},{"$f":"IF('Wniosek 2026 r.'!E124=\"\",\"\",\"linia \"&'Wniosek 2026 r.'!B124&\" o długości \"&'Wniosek 2026 r.'!E124&\" km,\")","v":""},{"$f":"IF('Wniosek 2026 r.'!E125=\"\",\"\",\"linia \"&'Wniosek 2026 r.'!B125&\" o długości \"&'Wniosek 2026 r.'!E125&\" km,\")","v":""},{"$f":"IF('Wniosek 2026 r.'!E126=\"\",\"\",\"linia \"&'Wniosek 2026 r.'!B126&\" o długości \"&'Wniosek 2026 r.'!E126&\" km,\")","v":""},{"$f":"IF('Wniosek 2026 r.'!E127=\"\",\"\",\"linia \"&'Wniosek 2026 r.'!B127&\" o długości \"&'Wniosek 2026 r.'!E127&\" km,\")","v":""},{"$f":"IF('Wniosek 2026 r.'!E128=\"\",\"\",\"linia \"&'Wniosek 2026 r.'!B128&\" o długości \"&'Wniosek 2026 r.'!E128&\" km,\")","v":""},{"$f":"IF('Wniosek 2026 r.'!E129=\"\",\"\",\"linia \"&'Wniosek 2026 r.'!B129&\" o długości \"&'Wniosek 2026 r.'!E129&\" km,\")","v":""},{"$f":"IF('Wniosek 2026 r.'!E130=\"\",\"\",\"linia \"&'Wniosek 2026 r.'!B130&\" o długości \"&'Wniosek 2026 r.'!E130&\" km,\")","v":""},{"$f":"IF('Wniosek 2026 r.'!E131=\"\",\"\",\"linia \"&'Wniosek 2026 r.'!B131&\" o długości \"&'Wniosek 2026 r.'!E131&\" km,\")","v":""},{"$f":"IF('Wniosek 2026 r.'!E132=\"\",\"\",\"linia \"&'Wniosek 2026 r.'!B132&\" o długości \"&'Wniosek 2026 r.'!E132&\" km,\")","v":""},{"$f":"IF('Wniosek 2026 r.'!E133=\"\",\"\",\"linia \"&'Wniosek 2026 r.'!B133&\" o długości \"&'Wniosek 2026 r.'!E133&\" km,\")","v":""},{"$f":"IF('Wniosek 2026 r.'!E134=\"\",\"\",\"linia \"&'Wniosek 2026 r.'!B134&\" o długości \"&'Wniosek 2026 r.'!E134&\" km,\")","v":""},{"$f":"IF('Wniosek 2026 r.'!E135=\"\",\"\",\"linia \"&'Wniosek 2026 r.'!B135&\" o długości \"&'Wniosek 2026 r.'!E135&\" km,\")","v":""},{"$f":"IF('Wniosek 2026 r.'!E136=\"\",\"\",\"linia \"&'Wniosek 2026 r.'!B136&\" o długości \"&'Wniosek 2026 r.'!E136&\" km,\")","v":""},{"$f":"IF('Wniosek 2026 r.'!E137=\"\",\"\",\"linia \"&'Wniosek 2026 r.'!B137&\" o długości \"&'Wniosek 2026 r.'!E137&\" km,\")","v":""},{"$f":"IF('Wniosek 2026 r.'!E138=\"\",\"\",\"linia \"&'Wniosek 2026 r.'!B138&\" o długości \"&'Wniosek 2026 r.'!E138&\" km,\")","v":""},{"$f":"IF('Wniosek 2026 r.'!E139=\"\",\"\",\"linia \"&'Wniosek 2026 r.'!B139&\" o długości \"&'Wniosek 2026 r.'!E139&\" km,\")","v":""},{"$f":"IF('Wniosek 2026 r.'!E140=\"\",\"\",\"linia \"&'Wniosek 2026 r.'!B140&\" o długości \"&'Wniosek 2026 r.'!E140&\" km,\")","v":""},{"$f":"IF('Wniosek 2026 r.'!E141=\"\",\"\",\"linia \"&'Wniosek 2026 r.'!B141&\" o długości \"&'Wniosek 2026 r.'!E141&\" km,\")","v":""},{"$f":"IF('Wniosek 2026 r.'!E142=\"\",\"\",\"linia \"&'Wniosek 2026 r.'!B142&\" o długości \"&'Wniosek 2026 r.'!E142&\" km,\")","v":""},{"$f":"IF('Wniosek 2026 r.'!E143=\"\",\"\",\"linia \"&'Wniosek 2026 r.'!B143&\" o długości \"&'Wniosek 2026 r.'!E143&\" km,\")","v":""},{"$f":"IF('Wniosek 2026 r.'!E144=\"\",\"\",\"linia \"&'Wniosek 2026 r.'!B144&\" o długości \"&'Wniosek 2026 r.'!E144&\" km,\")","v":""},{"$f":"IF('Wniosek 2026 r.'!E145=\"\",\"\",\"linia \"&'Wniosek 2026 r.'!B145&\" o długości \"&'Wniosek 2026 r.'!E145&\" km,\")","v":""},{"$f":"IF('Wniosek 2026 r.'!E146=\"\",\"\",\"linia \"&'Wniosek 2026 r.'!B146&\" o długości \"&'Wniosek 2026 r.'!E146&\" km,\")","v":""},{"$f":"IF('Wniosek 2026 r.'!E147=\"\",\"\",\"linia \"&'Wniosek 2026 r.'!B147&\" o długości \"&'Wniosek 2026 r.'!E147&\" km,\")","v":""},{"$f":"IF('Wniosek 2026 r.'!E148=\"\",\"\",\"linia \"&'Wniosek 2026 r.'!B148&\" o długości \"&'Wniosek 2026 r.'!E148&\" km,\")","v":""},{"$f":"IF('Wniosek 2026 r.'!E149=\"\",\"\",\"linia \"&'Wniosek 2026 r.'!B149&\" o długości \"&'Wniosek 2026 r.'!E149&\" km,\")","v":""},{"$f":"IF('Wniosek 2026 r.'!E150=\"\",\"\",\"linia \"&'Wniosek 2026 r.'!B150&\" o długości \"&'Wniosek 2026 r.'!E150&\" km,\")","v":""},{"$f":"IF('Wniosek 2026 r.'!E151=\"\",\"\",\"linia \"&'Wniosek 2026 r.'!B151&\" o długości \"&'Wniosek 2026 r.'!E151&\" km,\")","v":""},{"$f":"IF('Wniosek 2026 r.'!E152=\"\",\"\",\"linia \"&'Wniosek 2026 r.'!B152&\" o długości \"&'Wniosek 2026 r.'!E152&\" km,\")","v":""},{"$f":"IF('Wniosek 2026 r.'!E153=\"\",\"\",\"linia \"&'Wniosek 2026 r.'!B153&\" o długości \"&'Wniosek 2026 r.'!E153&\" km,\")","v":""},{"$f":"IF('Wniosek 2026 r.'!E154=\"\",\"\",\"linia \"&'Wniosek 2026 r.'!B154&\" o długości \"&'Wniosek 2026 r.'!E154&\" km,\")","v":""},{"$f":"IF('Wniosek 2026 r.'!E155=\"\",\"\",\"linia \"&'Wniosek 2026 r.'!B155&\" o długości \"&'Wniosek 2026 r.'!E155&\" km,\")","v":""},{"$f":"IF('Wniosek 2026 r.'!E156=\"\",\"\",\"linia \"&'Wniosek 2026 r.'!B156&\" o długości \"&'Wniosek 2026 r.'!E156&\" km,\")","v":""},{"$f":"IF('Wniosek 2026 r.'!E157=\"\",\"\",\"linia \"&'Wniosek 2026 r.'!B157&\" o długości \"&'Wniosek 2026 r.'!E157&\" km,\")","v":""},{"$f":"IF('Wniosek 2026 r.'!E158=\"\",\"\",\"linia \"&'Wniosek 2026 r.'!B158&\" o długości \"&'Wniosek 2026 r.'!E158&\" km,\")","v":""},{"$f":"IF('Wniosek 2026 r.'!E159=\"\",\"\",\"linia \"&'Wniosek 2026 r.'!B159&\" o długości \"&'Wniosek 2026 r.'!E159&\" km,\")","v":""},{"$f":"IF('Wniosek 2026 r.'!E160=\"\",\"\",\"linia \"&'Wniosek 2026 r.'!B160&\" o długości \"&'Wniosek 2026 r.'!E160&\" km,\")","v":""},{"$f":"IF('Wniosek 2026 r.'!E161=\"\",\"\",\"linia \"&'Wniosek 2026 r.'!B161&\" o długości \"&'Wniosek 2026 r.'!E161&\" km,\")","v":""},{"$f":"IF('Wniosek 2026 r.'!E162=\"\",\"\",\"linia \"&'Wniosek 2026 r.'!B162&\" o długości \"&'Wniosek 2026 r.'!E162&\" km,\")","v":""},{"$f":"IF('Wniosek 2026 r.'!E163=\"\",\"\",\"linia \"&'Wniosek 2026 r.'!B163&\" o długości \"&'Wniosek 2026 r.'!E163&\" km,\")","v":""},{"$f":"IF('Wniosek 2026 r.'!E164=\"\",\"\",\"linia \"&'Wniosek 2026 r.'!B164&\" o długości \"&'Wniosek 2026 r.'!E164&\" km,\")","v":""},{"$f":"IF('Wniosek 2026 r.'!E165=\"\",\"\",\"linia \"&'Wniosek 2026 r.'!B165&\" o długości \"&'Wniosek 2026 r.'!E165&\" km,\")","v":""},{"$f":"IF('Wniosek 2026 r.'!E166=\"\",\"\",\"linia \"&'Wniosek 2026 r.'!B166&\" o długości \"&'Wniosek 2026 r.'!E166&\" km,\")","v":""},{"$f":"IF('Wniosek 2026 r.'!E167=\"\",\"\",\"linia \"&'Wniosek 2026 r.'!B167&\" o długości \"&'Wniosek 2026 r.'!E167&\" km,\")","v":""},{"$f":"IF('Wniosek 2026 r.'!E168=\"\",\"\",\"linia \"&'Wniosek 2026 r.'!B168&\" o długości \"&'Wniosek 2026 r.'!E168&\" km,\")","v":""},{"$f":"IF('Wniosek 2026 r.'!E169=\"\",\"\",\"linia \"&'Wniosek 2026 r.'!B169&\" o długości \"&'Wniosek 2026 r.'!E169&\" km,\")","v":""},{"$f":"IF('Wniosek 2026 r.'!E170=\"\",\"\",\"linia \"&'Wniosek 2026 r.'!B170&\" o długości \"&'Wniosek 2026 r.'!E170&\" km,\")","v":""},{"$f":"IF('Wniosek 2026 r.'!E171=\"\",\"\",\"linia \"&'Wniosek 2026 r.'!B171&\" o długości \"&'Wniosek 2026 r.'!E171&\" km,\")","v":""},{"$f":"IF('Wniosek 2026 r.'!E172=\"\",\"\",\"linia \"&'Wniosek 2026 r.'!B172&\" o długości \"&'Wniosek 2026 r.'!E172&\" km,\")","v":""},{"$f":"IF('Wniosek 2026 r.'!E173=\"\",\"\",\"linia \"&'Wniosek 2026 r.'!B173&\" o długości \"&'Wniosek 2026 r.'!E173&\" km,\")","v":""},{"$f":"IF('Wniosek 2026 r.'!E174=\"\",\"\",\"linia \"&'Wniosek 2026 r.'!B174&\" o długości \"&'Wniosek 2026 r.'!E174&\" km,\")","v":""},{"$f":"IF('Wniosek 2026 r.'!E175=\"\",\"\",\"linia \"&'Wniosek 2026 r.'!B175&\" o długości \"&'Wniosek 2026 r.'!E175&\" km,\")","v":""},{"$f":"IF('Wniosek 2026 r.'!E176=\"\",\"\",\"linia \"&'Wniosek 2026 r.'!B176&\" o długości \"&'Wniosek 2026 r.'!E176&\" km,\")","v":""},{"$f":"IF('Wniosek 2026 r.'!E177=\"\",\"\",\"linia \"&'Wniosek 2026 r.'!B177&\" o długości \"&'Wniosek 2026 r.'!E177&\" km,\")","v":""},{"$f":"IF('Wniosek 2026 r.'!E178=\"\",\"\",\"linia \"&'Wniosek 2026 r.'!B178&\" o długości \"&'Wniosek 2026 r.'!E178&\" km,\")","v":""},{"$f":"IF('Wniosek 2026 r.'!E179=\"\",\"\",\"linia \"&'Wniosek 2026 r.'!B179&\" o długości \"&'Wniosek 2026 r.'!E179&\" km,\")","v":""},{"$f":"IF('Wniosek 2026 r.'!E180=\"\",\"\",\"linia \"&'Wniosek 2026 r.'!B180&\" o długości \"&'Wniosek 2026 r.'!E180&\" km,\")","v":""},{"$f":"IF('Wniosek 2026 r.'!E181=\"\",\"\",\"linia \"&'Wniosek 2026 r.'!B181&\" o długości \"&'Wniosek 2026 r.'!E181&\" km,\")","v":""},{"$f":"IF('Wniosek 2026 r.'!E182=\"\",\"\",\"linia \"&'Wniosek 2026 r.'!B182&\" o długości \"&'Wniosek 2026 r.'!E182&\" km,\")","v":""},{"$f":"IF('Wniosek 2026 r.'!E183=\"\",\"\",\"linia \"&'Wniosek 2026 r.'!B183&\" o długości \"&'Wniosek 2026 r.'!E183&\" km,\")","v":""},{"$f":"IF('Wniosek 2026 r.'!E184=\"\",\"\",\"linia \"&'Wniosek 2026 r.'!B184&\" o długości \"&'Wniosek 2026 r.'!E184&\" km,\")","v":""},{"$f":"IF('Wniosek 2026 r.'!E185=\"\",\"\",\"linia \"&'Wniosek 2026 r.'!B185&\" o długości \"&'Wniosek 2026 r.'!E185&\" km,\")","v":""},{"$f":"IF('Wniosek 2026 r.'!E186=\"\",\"\",\"linia \"&'Wniosek 2026 r.'!B186&\" o długości \"&'Wniosek 2026 r.'!E186&\" km,\")","v":""},{"$f":"IF('Wniosek 2026 r.'!E187=\"\",\"\",\"linia \"&'Wniosek 2026 r.'!B187&\" o długości \"&'Wniosek 2026 r.'!E187&\" km,\")","v":""},{"$f":"IF('Wniosek 2026 r.'!E188=\"\",\"\",\"linia \"&'Wniosek 2026 r.'!B188&\" o długości \"&'Wniosek 2026 r.'!E188&\" km,\")","v":""},{"$f":"'Wniosek 2026 r.'!C817","v":0},{"$f":"\"w 2026 r. - \"&FH2&\" zł\"&\" (słownie: \"&Slownie(FH2)&\")\"","v":"w 2026 r. - 0 zł (słownie: zero groszy)"},{"$f":"'Wniosek 2026 r.'!F32","v":0}]

{"sheet":"JST","index":11,"n_rows":301,"n_cols":7,"rows_kept":301,"cut":false,"hidden":true,"merged":[]}
["LP",{"$f":"'Zał. nr 5 jednostki'!B24:C24","v":"Nazwa jednostki samorządu terytorialnego"},{"$f":"'Zał. nr 5 jednostki'!D24","v":"Kod Województwa"},{"$f":"'Zał. nr 5 jednostki'!E24","v":"Kod Powiatu"},{"$f":"'Zał. nr 5 jednostki'!F24","v":"Kod Gminy"},{"$f":"'Zał. nr 5 jednostki'!G24","v":"Rodzaj jednostki"},"TERYT"]
[{"$f":"'Zał. nr 5 jednostki'!A26","v":0},{"$f":"'Zał. nr 5 jednostki'!B26","v":0},{"$f":"'Zał. nr 5 jednostki'!D26","v":0},{"$f":"'Zał. nr 5 jednostki'!E26","v":0},{"$f":"'Zał. nr 5 jednostki'!F26","v":0},{"$f":"'Zał. nr 5 jednostki'!G26","v":0},{"$f":"C2&D2&E2&F2","v":"0000"}]
[{"$f":"'Zał. nr 5 jednostki'!A27","v":0},{"$f":"'Zał. nr 5 jednostki'!B27","v":0},{"$f":"'Zał. nr 5 jednostki'!D27","v":0},{"$f":"'Zał. nr 5 jednostki'!E27","v":0},{"$f":"'Zał. nr 5 jednostki'!F27","v":0},{"$f":"'Zał. nr 5 jednostki'!G27","v":0},{"$f":"C3&D3&E3&F3","v":"0000"}]
[{"$f":"'Zał. nr 5 jednostki'!A28","v":0},{"$f":"'Zał. nr 5 jednostki'!B28","v":0},{"$f":"'Zał. nr 5 jednostki'!D28","v":0},{"$f":"'Zał. nr 5 jednostki'!E28","v":0},{"$f":"'Zał. nr 5 jednostki'!F28","v":0},{"$f":"'Zał. nr 5 jednostki'!G28","v":0},"0000"]
[{"$f":"'Zał. nr 5 jednostki'!A29","v":0},{"$f":"'Zał. nr 5 jednostki'!B29","v":0},{"$f":"'Zał. nr 5 jednostki'!D29","v":0},{"$f":"'Zał. nr 5 jednostki'!E29","v":0},{"$f":"'Zał. nr 5 jednostki'!F29","v":0},{"$f":"'Zał. nr 5 jednostki'!G29","v":0},"0000"]
[{"$f":"'Zał. nr 5 jednostki'!A30","v":0},{"$f":"'Zał. nr 5 jednostki'!B30","v":0},{"$f":"'Zał. nr 5 jednostki'!D30","v":0},{"$f":"'Zał. nr 5 jednostki'!E30","v":0},{"$f":"'Zał. nr 5 jednostki'!F30","v":0},{"$f":"'Zał. nr 5 jednostki'!G30","v":0},"0000"]
[{"$f":"'Zał. nr 5 jednostki'!A31","v":0},{"$f":"'Zał. nr 5 jednostki'!B31","v":0},{"$f":"'Zał. nr 5 jednostki'!D31","v":0},{"$f":"'Zał. nr 5 jednostki'!E31","v":0},{"$f":"'Zał. nr 5 jednostki'!F31","v":0},{"$f":"'Zał. nr 5 jednostki'!G31","v":0},"0000"]
[{"$f":"'Zał. nr 5 jednostki'!A32","v":0},{"$f":"'Zał. nr 5 jednostki'!B32","v":0},{"$f":"'Zał. nr 5 jednostki'!D32","v":0},{"$f":"'Zał. nr 5 jednostki'!E32","v":0},{"$f":"'Zał. nr 5 jednostki'!F32","v":0},{"$f":"'Zał. nr 5 jednostki'!G32","v":0},"0000"]
[{"$f":"'Zał. nr 5 jednostki'!A33","v":0},{"$f":"'Zał. nr 5 jednostki'!B33","v":0},{"$f":"'Zał. nr 5 jednostki'!D33","v":0},{"$f":"'Zał. nr 5 jednostki'!E33","v":0},{"$f":"'Zał. nr 5 jednostki'!F33","v":0},{"$f":"'Zał. nr 5 jednostki'!G33","v":0},"0000"]
[{"$f":"'Zał. nr 5 jednostki'!A34","v":0},{"$f":"'Zał. nr 5 jednostki'!B34","v":0},{"$f":"'Zał. nr 5 jednostki'!D34","v":0},{"$f":"'Zał. nr 5 jednostki'!E34","v":0},{"$f":"'Zał. nr 5 jednostki'!F34","v":0},{"$f":"'Zał. nr 5 jednostki'!G34","v":0},"0000"]
[{"$f":"'Zał. nr 5 jednostki'!A35","v":0},{"$f":"'Zał. nr 5 jednostki'!B35","v":0},{"$f":"'Zał. nr 5 jednostki'!D35","v":0},{"$f":"'Zał. nr 5 jednostki'!E35","v":0},{"$f":"'Zał. nr 5 jednostki'!F35","v":0},{"$f":"'Zał. nr 5 jednostki'!G35","v":0},"0000"]
[{"$f":"'Zał. nr 5 jednostki'!A36","v":0},{"$f":"'Zał. nr 5 jednostki'!B36","v":0},{"$f":"'Zał. nr 5 jednostki'!D36","v":0},{"$f":"'Zał. nr 5 jednostki'!E36","v":0},{"$f":"'Zał. nr 5 jednostki'!F36","v":0},{"$f":"'Zał. nr 5 jednostki'!G36","v":0},"0000"]
[{"$f":"'Zał. nr 5 jednostki'!A37","v":0},{"$f":"'Zał. nr 5 jednostki'!B37","v":0},{"$f":"'Zał. nr 5 jednostki'!D37","v":0},{"$f":"'Zał. nr 5 jednostki'!E37","v":0},{"$f":"'Zał. nr 5 jednostki'!F37","v":0},{"$f":"'Zał. nr 5 jednostki'!G37","v":0},"0000"]
[{"$f":"'Zał. nr 5 jednostki'!A38","v":0},{"$f":"'Zał. nr 5 jednostki'!B38","v":0},{"$f":"'Zał. nr 5 jednostki'!D38","v":0},{"$f":"'Zał. nr 5 jednostki'!E38","v":0},{"$f":"'Zał. nr 5 jednostki'!F38","v":0},{"$f":"'Zał. nr 5 jednostki'!G38","v":0},"0000"]
[{"$f":"'Zał. nr 5 jednostki'!A39","v":0},{"$f":"'Zał. nr 5 jednostki'!B39","v":0},{"$f":"'Zał. nr 5 jednostki'!D39","v":0},{"$f":"'Zał. nr 5 jednostki'!E39","v":0},{"$f":"'Zał. nr 5 jednostki'!F39","v":0},{"$f":"'Zał. nr 5 jednostki'!G39","v":0},"0000"]
[{"$f":"'Zał. nr 5 jednostki'!A40","v":0},{"$f":"'Zał. nr 5 jednostki'!B40","v":0},{"$f":"'Zał. nr 5 jednostki'!D40","v":0},{"$f":"'Zał. nr 5 jednostki'!E40","v":0},{"$f":"'Zał. nr 5 jednostki'!F40","v":0},{"$f":"'Zał. nr 5 jednostki'!G40","v":0},"0000"]
[{"$f":"'Zał. nr 5 jednostki'!A41","v":0},{"$f":"'Zał. nr 5 jednostki'!B41","v":0},{"$f":"'Zał. nr 5 jednostki'!D41","v":0},{"$f":"'Zał. nr 5 jednostki'!E41","v":0},{"$f":"'Zał. nr 5 jednostki'!F41","v":0},{"$f":"'Zał. nr 5 jednostki'!G41","v":0},"0000"]
[{"$f":"'Zał. nr 5 jednostki'!A42","v":0},{"$f":"'Zał. nr 5 jednostki'!B42","v":0},{"$f":"'Zał. nr 5 jednostki'!D42","v":0},{"$f":"'Zał. nr 5 jednostki'!E42","v":0},{"$f":"'Zał. nr 5 jednostki'!F42","v":0},{"$f":"'Zał. nr 5 jednostki'!G42","v":0},"0000"]
[{"$f":"'Zał. nr 5 jednostki'!A43","v":0},{"$f":"'Zał. nr 5 jednostki'!B43","v":0},{"$f":"'Zał. nr 5 jednostki'!D43","v":0},{"$f":"'Zał. nr 5 jednostki'!E43","v":0},{"$f":"'Zał. nr 5 jednostki'!F43","v":0},{"$f":"'Zał. nr 5 jednostki'!G43","v":0},"0000"]
[{"$f":"'Zał. nr 5 jednostki'!A44","v":0},{"$f":"'Zał. nr 5 jednostki'!B44","v":0},{"$f":"'Zał. nr 5 jednostki'!D44","v":0},{"$f":"'Zał. nr 5 jednostki'!E44","v":0},{"$f":"'Zał. nr 5 jednostki'!F44","v":0},{"$f":"'Zał. nr 5 jednostki'!G44","v":0},"0000"]
[{"$f":"'Zał. nr 5 jednostki'!A45","v":0},{"$f":"'Zał. nr 5 jednostki'!B45","v":0},{"$f":"'Zał. nr 5 jednostki'!D45","v":0},{"$f":"'Zał. nr 5 jednostki'!E45","v":0},{"$f":"'Zał. nr 5 jednostki'!F45","v":0},{"$f":"'Zał. nr 5 jednostki'!G45","v":0},"0000"]
[{"$f":"'Zał. nr 5 jednostki'!A46","v":0},{"$f":"'Zał. nr 5 jednostki'!B46","v":0},{"$f":"'Zał. nr 5 jednostki'!D46","v":0},{"$f":"'Zał. nr 5 jednostki'!E46","v":0},{"$f":"'Zał. nr 5 jednostki'!F46","v":0},{"$f":"'Zał. nr 5 jednostki'!G46","v":0},"0000"]
[{"$f":"'Zał. nr 5 jednostki'!A47","v":0},{"$f":"'Zał. nr 5 jednostki'!B47","v":0},{"$f":"'Zał. nr 5 jednostki'!D47","v":0},{"$f":"'Zał. nr 5 jednostki'!E47","v":0},{"$f":"'Zał. nr 5 jednostki'!F47","v":0},{"$f":"'Zał. nr 5 jednostki'!G47","v":0},"0000"]
[{"$f":"'Zał. nr 5 jednostki'!A48","v":0},{"$f":"'Zał. nr 5 jednostki'!B48","v":0},{"$f":"'Zał. nr 5 jednostki'!D48","v":0},{"$f":"'Zał. nr 5 jednostki'!E48","v":0},{"$f":"'Zał. nr 5 jednostki'!F48","v":0},{"$f":"'Zał. nr 5 jednostki'!G48","v":0},"0000"]
[{"$f":"'Zał. nr 5 jednostki'!A49","v":0},{"$f":"'Zał. nr 5 jednostki'!B49","v":0},{"$f":"'Zał. nr 5 jednostki'!D49","v":0},{"$f":"'Zał. nr 5 jednostki'!E49","v":0},{"$f":"'Zał. nr 5 jednostki'!F49","v":0},{"$f":"'Zał. nr 5 jednostki'!G49","v":0},"0000"]
[{"$f":"'Zał. nr 5 jednostki'!A50","v":0},{"$f":"'Zał. nr 5 jednostki'!B50","v":0},{"$f":"'Zał. nr 5 jednostki'!D50","v":0},{"$f":"'Zał. nr 5 jednostki'!E50","v":0},{"$f":"'Zał. nr 5 jednostki'!F50","v":0},{"$f":"'Zał. nr 5 jednostki'!G50","v":0},"0000"]
[{"$f":"'Zał. nr 5 jednostki'!A51","v":0},{"$f":"'Zał. nr 5 jednostki'!B51","v":0},{"$f":"'Zał. nr 5 jednostki'!D51","v":0},{"$f":"'Zał. nr 5 jednostki'!E51","v":0},{"$f":"'Zał. nr 5 jednostki'!F51","v":0},{"$f":"'Zał. nr 5 jednostki'!G51","v":0},"0000"]
[{"$f":"'Zał. nr 5 jednostki'!A52","v":0},{"$f":"'Zał. nr 5 jednostki'!B52","v":0},{"$f":"'Zał. nr 5 jednostki'!D52","v":0},{"$f":"'Zał. nr 5 jednostki'!E52","v":0},{"$f":"'Zał. nr 5 jednostki'!F52","v":0},{"$f":"'Zał. nr 5 jednostki'!G52","v":0},"0000"]
[{"$f":"'Zał. nr 5 jednostki'!A53","v":0},{"$f":"'Zał. nr 5 jednostki'!B53","v":0},{"$f":"'Zał. nr 5 jednostki'!D53","v":0},{"$f":"'Zał. nr 5 jednostki'!E53","v":0},{"$f":"'Zał. nr 5 jednostki'!F53","v":0},{"$f":"'Zał. nr 5 jednostki'!G53","v":0},"0000"]
[{"$f":"'Zał. nr 5 jednostki'!A54","v":0},{"$f":"'Zał. nr 5 jednostki'!B54","v":0},{"$f":"'Zał. nr 5 jednostki'!D54","v":0},{"$f":"'Zał. nr 5 jednostki'!E54","v":0},{"$f":"'Zał. nr 5 jednostki'!F54","v":0},{"$f":"'Zał. nr 5 jednostki'!G54","v":0},"0000"]
[{"$f":"'Zał. nr 5 jednostki'!A55","v":0},{"$f":"'Zał. nr 5 jednostki'!B55","v":0},{"$f":"'Zał. nr 5 jednostki'!D55","v":0},{"$f":"'Zał. nr 5 jednostki'!E55","v":0},{"$f":"'Zał. nr 5 jednostki'!F55","v":0},{"$f":"'Zał. nr 5 jednostki'!G55","v":0},"0000"]
[{"$f":"'Zał. nr 5 jednostki'!A56","v":0},{"$f":"'Zał. nr 5 jednostki'!B56","v":0},{"$f":"'Zał. nr 5 jednostki'!D56","v":0},{"$f":"'Zał. nr 5 jednostki'!E56","v":0},{"$f":"'Zał. nr 5 jednostki'!F56","v":0},{"$f":"'Zał. nr 5 jednostki'!G56","v":0},"0000"]
[{"$f":"'Zał. nr 5 jednostki'!A57","v":0},{"$f":"'Zał. nr 5 jednostki'!B57","v":0},{"$f":"'Zał. nr 5 jednostki'!D57","v":0},{"$f":"'Zał. nr 5 jednostki'!E57","v":0},{"$f":"'Zał. nr 5 jednostki'!F57","v":0},{"$f":"'Zał. nr 5 jednostki'!G57","v":0},"0000"]
[{"$f":"'Zał. nr 5 jednostki'!A58","v":0},{"$f":"'Zał. nr 5 jednostki'!B58","v":0},{"$f":"'Zał. nr 5 jednostki'!D58","v":0},{"$f":"'Zał. nr 5 jednostki'!E58","v":0},{"$f":"'Zał. nr 5 jednostki'!F58","v":0},{"$f":"'Zał. nr 5 jednostki'!G58","v":0},"0000"]
[{"$f":"'Zał. nr 5 jednostki'!A59","v":0},{"$f":"'Zał. nr 5 jednostki'!B59","v":0},{"$f":"'Zał. nr 5 jednostki'!D59","v":0},{"$f":"'Zał. nr 5 jednostki'!E59","v":0},{"$f":"'Zał. nr 5 jednostki'!F59","v":0},{"$f":"'Zał. nr 5 jednostki'!G59","v":0},"0000"]
[{"$f":"'Zał. nr 5 jednostki'!A60","v":0},{"$f":"'Zał. nr 5 jednostki'!B60","v":0},{"$f":"'Zał. nr 5 jednostki'!D60","v":0},{"$f":"'Zał. nr 5 jednostki'!E60","v":0},{"$f":"'Zał. nr 5 jednostki'!F60","v":0},{"$f":"'Zał. nr 5 jednostki'!G60","v":0},"0000"]
[{"$f":"'Zał. nr 5 jednostki'!A61","v":0},{"$f":"'Zał. nr 5 jednostki'!B61","v":0},{"$f":"'Zał. nr 5 jednostki'!D61","v":0},{"$f":"'Zał. nr 5 jednostki'!E61","v":0},{"$f":"'Zał. nr 5 jednostki'!F61","v":0},{"$f":"'Zał. nr 5 jednostki'!G61","v":0},"0000"]
[{"$f":"'Zał. nr 5 jednostki'!A62","v":0},{"$f":"'Zał. nr 5 jednostki'!B62","v":0},{"$f":"'Zał. nr 5 jednostki'!D62","v":0},{"$f":"'Zał. nr 5 jednostki'!E62","v":0},{"$f":"'Zał. nr 5 jednostki'!F62","v":0},{"$f":"'Zał. nr 5 jednostki'!G62","v":0},"0000"]
[{"$f":"'Zał. nr 5 jednostki'!A63","v":0},{"$f":"'Zał. nr 5 jednostki'!B63","v":0},{"$f":"'Zał. nr 5 jednostki'!D63","v":0},{"$f":"'Zał. nr 5 jednostki'!E63","v":0},{"$f":"'Zał. nr 5 jednostki'!F63","v":0},{"$f":"'Zał. nr 5 jednostki'!G63","v":0},"0000"]
[{"$f":"'Zał. nr 5 jednostki'!A64","v":0},{"$f":"'Zał. nr 5 jednostki'!B64","v":0},{"$f":"'Zał. nr 5 jednostki'!D64","v":0},{"$f":"'Zał. nr 5 jednostki'!E64","v":0},{"$f":"'Zał. nr 5 jednostki'!F64","v":0},{"$f":"'Zał. nr 5 jednostki'!G64","v":0},"0000"]
[{"$f":"'Zał. nr 5 jednostki'!A65","v":0},{"$f":"'Zał. nr 5 jednostki'!B65","v":0},{"$f":"'Zał. nr 5 jednostki'!D65","v":0},{"$f":"'Zał. nr 5 jednostki'!E65","v":0},{"$f":"'Zał. nr 5 jednostki'!F65","v":0},{"$f":"'Zał. nr 5 jednostki'!G65","v":0},"0000"]
[{"$f":"'Zał. nr 5 jednostki'!A66","v":0},{"$f":"'Zał. nr 5 jednostki'!B66","v":0},{"$f":"'Zał. nr 5 jednostki'!D66","v":0},{"$f":"'Zał. nr 5 jednostki'!E66","v":0},{"$f":"'Zał. nr 5 jednostki'!F66","v":0},{"$f":"'Zał. nr 5 jednostki'!G66","v":0},"0000"]
[{"$f":"'Zał. nr 5 jednostki'!A67","v":0},{"$f":"'Zał. nr 5 jednostki'!B67","v":0},{"$f":"'Zał. nr 5 jednostki'!D67","v":0},{"$f":"'Zał. nr 5 jednostki'!E67","v":0},{"$f":"'Zał. nr 5 jednostki'!F67","v":0},{"$f":"'Zał. nr 5 jednostki'!G67","v":0},"0000"]
[{"$f":"'Zał. nr 5 jednostki'!A68","v":0},{"$f":"'Zał. nr 5 jednostki'!B68","v":0},{"$f":"'Zał. nr 5 jednostki'!D68","v":0},{"$f":"'Zał. nr 5 jednostki'!E68","v":0},{"$f":"'Zał. nr 5 jednostki'!F68","v":0},{"$f":"'Zał. nr 5 jednostki'!G68","v":0},"0000"]
[{"$f":"'Zał. nr 5 jednostki'!A69","v":0},{"$f":"'Zał. nr 5 jednostki'!B69","v":0},{"$f":"'Zał. nr 5 jednostki'!D69","v":0},{"$f":"'Zał. nr 5 jednostki'!E69","v":0},{"$f":"'Zał. nr 5 jednostki'!F69","v":0},{"$f":"'Zał. nr 5 jednostki'!G69","v":0},"0000"]
[{"$f":"'Zał. nr 5 jednostki'!A70","v":0},{"$f":"'Zał. nr 5 jednostki'!B70","v":0},{"$f":"'Zał. nr 5 jednostki'!D70","v":0},{"$f":"'Zał. nr 5 jednostki'!E70","v":0},{"$f":"'Zał. nr 5 jednostki'!F70","v":0},{"$f":"'Zał. nr 5 jednostki'!G70","v":0},"0000"]
[{"$f":"'Zał. nr 5 jednostki'!A71","v":0},{"$f":"'Zał. nr 5 jednostki'!B71","v":0},{"$f":"'Zał. nr 5 jednostki'!D71","v":0},{"$f":"'Zał. nr 5 jednostki'!E71","v":0},{"$f":"'Zał. nr 5 jednostki'!F71","v":0},{"$f":"'Zał. nr 5 jednostki'!G71","v":0},"0000"]
[{"$f":"'Zał. nr 5 jednostki'!A72","v":0},{"$f":"'Zał. nr 5 jednostki'!B72","v":0},{"$f":"'Zał. nr 5 jednostki'!D72","v":0},{"$f":"'Zał. nr 5 jednostki'!E72","v":0},{"$f":"'Zał. nr 5 jednostki'!F72","v":0},{"$f":"'Zał. nr 5 jednostki'!G72","v":0},"0000"]
[{"$f":"'Zał. nr 5 jednostki'!A73","v":0},{"$f":"'Zał. nr 5 jednostki'!B73","v":0},{"$f":"'Zał. nr 5 jednostki'!D73","v":0},{"$f":"'Zał. nr 5 jednostki'!E73","v":0},{"$f":"'Zał. nr 5 jednostki'!F73","v":0},{"$f":"'Zał. nr 5 jednostki'!G73","v":0},"0000"]
[{"$f":"'Zał. nr 5 jednostki'!A74","v":0},{"$f":"'Zał. nr 5 jednostki'!B74","v":0},{"$f":"'Zał. nr 5 jednostki'!D74","v":0},{"$f":"'Zał. nr 5 jednostki'!E74","v":0},{"$f":"'Zał. nr 5 jednostki'!F74","v":0},{"$f":"'Zał. nr 5 jednostki'!G74","v":0},"0000"]
[{"$f":"'Zał. nr 5 jednostki'!A75","v":0},{"$f":"'Zał. nr 5 jednostki'!B75","v":0},{"$f":"'Zał. nr 5 jednostki'!D75","v":0},{"$f":"'Zał. nr 5 jednostki'!E75","v":0},{"$f":"'Zał. nr 5 jednostki'!F75","v":0},{"$f":"'Zał. nr 5 jednostki'!G75","v":0},"0000"]
[{"$f":"'Zał. nr 5 jednostki'!A76","v":0},{"$f":"'Zał. nr 5 jednostki'!B76","v":0},{"$f":"'Zał. nr 5 jednostki'!D76","v":0},{"$f":"'Zał. nr 5 jednostki'!E76","v":0},{"$f":"'Zał. nr 5 jednostki'!F76","v":0},{"$f":"'Zał. nr 5 jednostki'!G76","v":0},"0000"]
[{"$f":"'Zał. nr 5 jednostki'!A77","v":0},{"$f":"'Zał. nr 5 jednostki'!B77","v":0},{"$f":"'Zał. nr 5 jednostki'!D77","v":0},{"$f":"'Zał. nr 5 jednostki'!E77","v":0},{"$f":"'Zał. nr 5 jednostki'!F77","v":0},{"$f":"'Zał. nr 5 jednostki'!G77","v":0},"0000"]
[{"$f":"'Zał. nr 5 jednostki'!A78","v":0},{"$f":"'Zał. nr 5 jednostki'!B78","v":0},{"$f":"'Zał. nr 5 jednostki'!D78","v":0},{"$f":"'Zał. nr 5 jednostki'!E78","v":0},{"$f":"'Zał. nr 5 jednostki'!F78","v":0},{"$f":"'Zał. nr 5 jednostki'!G78","v":0},"0000"]
[{"$f":"'Zał. nr 5 jednostki'!A79","v":0},{"$f":"'Zał. nr 5 jednostki'!B79","v":0},{"$f":"'Zał. nr 5 jednostki'!D79","v":0},{"$f":"'Zał. nr 5 jednostki'!E79","v":0},{"$f":"'Zał. nr 5 jednostki'!F79","v":0},{"$f":"'Zał. nr 5 jednostki'!G79","v":0},"0000"]
[{"$f":"'Zał. nr 5 jednostki'!A80","v":0},{"$f":"'Zał. nr 5 jednostki'!B80","v":0},{"$f":"'Zał. nr 5 jednostki'!D80","v":0},{"$f":"'Zał. nr 5 jednostki'!E80","v":0},{"$f":"'Zał. nr 5 jednostki'!F80","v":0},{"$f":"'Zał. nr 5 jednostki'!G80","v":0},"0000"]
[{"$f":"'Zał. nr 5 jednostki'!A81","v":0},{"$f":"'Zał. nr 5 jednostki'!B81","v":0},{"$f":"'Zał. nr 5 jednostki'!D81","v":0},{"$f":"'Zał. nr 5 jednostki'!E81","v":0},{"$f":"'Zał. nr 5 jednostki'!F81","v":0},{"$f":"'Zał. nr 5 jednostki'!G81","v":0},"0000"]
[{"$f":"'Zał. nr 5 jednostki'!A82","v":0},{"$f":"'Zał. nr 5 jednostki'!B82","v":0},{"$f":"'Zał. nr 5 jednostki'!D82","v":0},{"$f":"'Zał. nr 5 jednostki'!E82","v":0},{"$f":"'Zał. nr 5 jednostki'!F82","v":0},{"$f":"'Zał. nr 5 jednostki'!G82","v":0},"0000"]
[{"$f":"'Zał. nr 5 jednostki'!A83","v":0},{"$f":"'Zał. nr 5 jednostki'!B83","v":0},{"$f":"'Zał. nr 5 jednostki'!D83","v":0},{"$f":"'Zał. nr 5 jednostki'!E83","v":0},{"$f":"'Zał. nr 5 jednostki'!F83","v":0},{"$f":"'Zał. nr 5 jednostki'!G83","v":0},"0000"]
[{"$f":"'Zał. nr 5 jednostki'!A84","v":0},{"$f":"'Zał. nr 5 jednostki'!B84","v":0},{"$f":"'Zał. nr 5 jednostki'!D84","v":0},{"$f":"'Zał. nr 5 jednostki'!E84","v":0},{"$f":"'Zał. nr 5 jednostki'!F84","v":0},{"$f":"'Zał. nr 5 jednostki'!G84","v":0},"0000"]
[{"$f":"'Zał. nr 5 jednostki'!A85","v":0},{"$f":"'Zał. nr 5 jednostki'!B85","v":0},{"$f":"'Zał. nr 5 jednostki'!D85","v":0},{"$f":"'Zał. nr 5 jednostki'!E85","v":0},{"$f":"'Zał. nr 5 jednostki'!F85","v":0},{"$f":"'Zał. nr 5 jednostki'!G85","v":0},"0000"]
[{"$f":"'Zał. nr 5 jednostki'!A86","v":0},{"$f":"'Zał. nr 5 jednostki'!B86","v":0},{"$f":"'Zał. nr 5 jednostki'!D86","v":0},{"$f":"'Zał. nr 5 jednostki'!E86","v":0},{"$f":"'Zał. nr 5 jednostki'!F86","v":0},{"$f":"'Zał. nr 5 jednostki'!G86","v":0},"0000"]
[{"$f":"'Zał. nr 5 jednostki'!A87","v":0},{"$f":"'Zał. nr 5 jednostki'!B87","v":0},{"$f":"'Zał. nr 5 jednostki'!D87","v":0},{"$f":"'Zał. nr 5 jednostki'!E87","v":0},{"$f":"'Zał. nr 5 jednostki'!F87","v":0},{"$f":"'Zał. nr 5 jednostki'!G87","v":0},"0000"]
[{"$f":"'Zał. nr 5 jednostki'!A88","v":0},{"$f":"'Zał. nr 5 jednostki'!B88","v":0},{"$f":"'Zał. nr 5 jednostki'!D88","v":0},{"$f":"'Zał. nr 5 jednostki'!E88","v":0},{"$f":"'Zał. nr 5 jednostki'!F88","v":0},{"$f":"'Zał. nr 5 jednostki'!G88","v":0},"0000"]
[{"$f":"'Zał. nr 5 jednostki'!A89","v":0},{"$f":"'Zał. nr 5 jednostki'!B89","v":0},{"$f":"'Zał. nr 5 jednostki'!D89","v":0},{"$f":"'Zał. nr 5 jednostki'!E89","v":0},{"$f":"'Zał. nr 5 jednostki'!F89","v":0},{"$f":"'Zał. nr 5 jednostki'!G89","v":0},"0000"]
[{"$f":"'Zał. nr 5 jednostki'!A90","v":0},{"$f":"'Zał. nr 5 jednostki'!B90","v":0},{"$f":"'Zał. nr 5 jednostki'!D90","v":0},{"$f":"'Zał. nr 5 jednostki'!E90","v":0},{"$f":"'Zał. nr 5 jednostki'!F90","v":0},{"$f":"'Zał. nr 5 jednostki'!G90","v":0},{"$f":"C66&D66&E66&F66","v":"0000"}]
[{"$f":"'Zał. nr 5 jednostki'!A91","v":0},{"$f":"'Zał. nr 5 jednostki'!B91","v":0},{"$f":"'Zał. nr 5 jednostki'!D91","v":0},{"$f":"'Zał. nr 5 jednostki'!E91","v":0},{"$f":"'Zał. nr 5 jednostki'!F91","v":0},{"$f":"'Zał. nr 5 jednostki'!G91","v":0},"0000"]
[{"$f":"'Zał. nr 5 jednostki'!A92","v":0},{"$f":"'Zał. nr 5 jednostki'!B92","v":0},{"$f":"'Zał. nr 5 jednostki'!D92","v":0},{"$f":"'Zał. nr 5 jednostki'!E92","v":0},{"$f":"'Zał. nr 5 jednostki'!F92","v":0},{"$f":"'Zał. nr 5 jednostki'!G92","v":0},"0000"]
[{"$f":"'Zał. nr 5 jednostki'!A93","v":0},{"$f":"'Zał. nr 5 jednostki'!B93","v":0},{"$f":"'Zał. nr 5 jednostki'!D93","v":0},{"$f":"'Zał. nr 5 jednostki'!E93","v":0},{"$f":"'Zał. nr 5 jednostki'!F93","v":0},{"$f":"'Zał. nr 5 jednostki'!G93","v":0},"0000"]
[{"$f":"'Zał. nr 5 jednostki'!A94","v":0},{"$f":"'Zał. nr 5 jednostki'!B94","v":0},{"$f":"'Zał. nr 5 jednostki'!D94","v":0},{"$f":"'Zał. nr 5 jednostki'!E94","v":0},{"$f":"'Zał. nr 5 jednostki'!F94","v":0},{"$f":"'Zał. nr 5 jednostki'!G94","v":0},"0000"]
[{"$f":"'Zał. nr 5 jednostki'!A95","v":0},{"$f":"'Zał. nr 5 jednostki'!B95","v":0},{"$f":"'Zał. nr 5 jednostki'!D95","v":0},{"$f":"'Zał. nr 5 jednostki'!E95","v":0},{"$f":"'Zał. nr 5 jednostki'!F95","v":0},{"$f":"'Zał. nr 5 jednostki'!G95","v":0},"0000"]
[{"$f":"'Zał. nr 5 jednostki'!A96","v":0},{"$f":"'Zał. nr 5 jednostki'!B96","v":0},{"$f":"'Zał. nr 5 jednostki'!D96","v":0},{"$f":"'Zał. nr 5 jednostki'!E96","v":0},{"$f":"'Zał. nr 5 jednostki'!F96","v":0},{"$f":"'Zał. nr 5 jednostki'!G96","v":0},"0000"]
[{"$f":"'Zał. nr 5 jednostki'!A97","v":0},{"$f":"'Zał. nr 5 jednostki'!B97","v":0},{"$f":"'Zał. nr 5 jednostki'!D97","v":0},{"$f":"'Zał. nr 5 jednostki'!E97","v":0},{"$f":"'Zał. nr 5 jednostki'!F97","v":0},{"$f":"'Zał. nr 5 jednostki'!G97","v":0},"0000"]
[{"$f":"'Zał. nr 5 jednostki'!A98","v":0},{"$f":"'Zał. nr 5 jednostki'!B98","v":0},{"$f":"'Zał. nr 5 jednostki'!D98","v":0},{"$f":"'Zał. nr 5 jednostki'!E98","v":0},{"$f":"'Zał. nr 5 jednostki'!F98","v":0},{"$f":"'Zał. nr 5 jednostki'!G98","v":0},"0000"]
[{"$f":"'Zał. nr 5 jednostki'!A99","v":0},{"$f":"'Zał. nr 5 jednostki'!B99","v":0},{"$f":"'Zał. nr 5 jednostki'!D99","v":0},{"$f":"'Zał. nr 5 jednostki'!E99","v":0},{"$f":"'Zał. nr 5 jednostki'!F99","v":0},{"$f":"'Zał. nr 5 jednostki'!G99","v":0},"0000"]
[{"$f":"'Zał. nr 5 jednostki'!A100","v":0},{"$f":"'Zał. nr 5 jednostki'!B100","v":0},{"$f":"'Zał. nr 5 jednostki'!D100","v":0},{"$f":"'Zał. nr 5 jednostki'!E100","v":0},{"$f":"'Zał. nr 5 jednostki'!F100","v":0},{"$f":"'Zał. nr 5 jednostki'!G100","v":0},"0000"]
[{"$f":"'Zał. nr 5 jednostki'!A101","v":0},{"$f":"'Zał. nr 5 jednostki'!B101","v":0},{"$f":"'Zał. nr 5 jednostki'!D101","v":0},{"$f":"'Zał. nr 5 jednostki'!E101","v":0},{"$f":"'Zał. nr 5 jednostki'!F101","v":0},{"$f":"'Zał. nr 5 jednostki'!G101","v":0},"0000"]
[{"$f":"'Zał. nr 5 jednostki'!A102","v":0},{"$f":"'Zał. nr 5 jednostki'!B102","v":0},{"$f":"'Zał. nr 5 jednostki'!D102","v":0},{"$f":"'Zał. nr 5 jednostki'!E102","v":0},{"$f":"'Zał. nr 5 jednostki'!F102","v":0},{"$f":"'Zał. nr 5 jednostki'!G102","v":0},"0000"]
[{"$f":"'Zał. nr 5 jednostki'!A103","v":0},{"$f":"'Zał. nr 5 jednostki'!B103","v":0},{"$f":"'Zał. nr 5 jednostki'!D103","v":0},{"$f":"'Zał. nr 5 jednostki'!E103","v":0},{"$f":"'Zał. nr 5 jednostki'!F103","v":0},{"$f":"'Zał. nr 5 jednostki'!G103","v":0},"0000"]
[{"$f":"'Zał. nr 5 jednostki'!A104","v":0},{"$f":"'Zał. nr 5 jednostki'!B104","v":0},{"$f":"'Zał. nr 5 jednostki'!D104","v":0},{"$f":"'Zał. nr 5 jednostki'!E104","v":0},{"$f":"'Zał. nr 5 jednostki'!F104","v":0},{"$f":"'Zał. nr 5 jednostki'!G104","v":0},"0000"]
[{"$f":"'Zał. nr 5 jednostki'!A105","v":0},{"$f":"'Zał. nr 5 jednostki'!B105","v":0},{"$f":"'Zał. nr 5 jednostki'!D105","v":0},{"$f":"'Zał. nr 5 jednostki'!E105","v":0},{"$f":"'Zał. nr 5 jednostki'!F105","v":0},{"$f":"'Zał. nr 5 jednostki'!G105","v":0},"0000"]
[{"$f":"'Zał. nr 5 jednostki'!A106","v":0},{"$f":"'Zał. nr 5 jednostki'!B106","v":0},{"$f":"'Zał. nr 5 jednostki'!D106","v":0},{"$f":"'Zał. nr 5 jednostki'!E106","v":0},{"$f":"'Zał. nr 5 jednostki'!F106","v":0},{"$f":"'Zał. nr 5 jednostki'!G106","v":0},"0000"]
[{"$f":"'Zał. nr 5 jednostki'!A107","v":0},{"$f":"'Zał. nr 5 jednostki'!B107","v":0},{"$f":"'Zał. nr 5 jednostki'!D107","v":0},{"$f":"'Zał. nr 5 jednostki'!E107","v":0},{"$f":"'Zał. nr 5 jednostki'!F107","v":0},{"$f":"'Zał. nr 5 jednostki'!G107","v":0},"0000"]
[{"$f":"'Zał. nr 5 jednostki'!A108","v":0},{"$f":"'Zał. nr 5 jednostki'!B108","v":0},{"$f":"'Zał. nr 5 jednostki'!D108","v":0},{"$f":"'Zał. nr 5 jednostki'!E108","v":0},{"$f":"'Zał. nr 5 jednostki'!F108","v":0},{"$f":"'Zał. nr 5 jednostki'!G108","v":0},"0000"]
[{"$f":"'Zał. nr 5 jednostki'!A109","v":0},{"$f":"'Zał. nr 5 jednostki'!B109","v":0},{"$f":"'Zał. nr 5 jednostki'!D109","v":0},{"$f":"'Zał. nr 5 jednostki'!E109","v":0},{"$f":"'Zał. nr 5 jednostki'!F109","v":0},{"$f":"'Zał. nr 5 jednostki'!G109","v":0},"0000"]
[{"$f":"'Zał. nr 5 jednostki'!A110","v":0},{"$f":"'Zał. nr 5 jednostki'!B110","v":0},{"$f":"'Zał. nr 5 jednostki'!D110","v":0},{"$f":"'Zał. nr 5 jednostki'!E110","v":0},{"$f":"'Zał. nr 5 jednostki'!F110","v":0},{"$f":"'Zał. nr 5 jednostki'!G110","v":0},"0000"]
[{"$f":"'Zał. nr 5 jednostki'!A111","v":0},{"$f":"'Zał. nr 5 jednostki'!B111","v":0},{"$f":"'Zał. nr 5 jednostki'!D111","v":0},{"$f":"'Zał. nr 5 jednostki'!E111","v":0},{"$f":"'Zał. nr 5 jednostki'!F111","v":0},{"$f":"'Zał. nr 5 jednostki'!G111","v":0},"0000"]
[{"$f":"'Zał. nr 5 jednostki'!A112","v":0},{"$f":"'Zał. nr 5 jednostki'!B112","v":0},{"$f":"'Zał. nr 5 jednostki'!D112","v":0},{"$f":"'Zał. nr 5 jednostki'!E112","v":0},{"$f":"'Zał. nr 5 jednostki'!F112","v":0},{"$f":"'Zał. nr 5 jednostki'!G112","v":0},"0000"]
[{"$f":"'Zał. nr 5 jednostki'!A113","v":0},{"$f":"'Zał. nr 5 jednostki'!B113","v":0},{"$f":"'Zał. nr 5 jednostki'!D113","v":0},{"$f":"'Zał. nr 5 jednostki'!E113","v":0},{"$f":"'Zał. nr 5 jednostki'!F113","v":0},{"$f":"'Zał. nr 5 jednostki'!G113","v":0},"0000"]
[{"$f":"'Zał. nr 5 jednostki'!A114","v":0},{"$f":"'Zał. nr 5 jednostki'!B114","v":0},{"$f":"'Zał. nr 5 jednostki'!D114","v":0},{"$f":"'Zał. nr 5 jednostki'!E114","v":0},{"$f":"'Zał. nr 5 jednostki'!F114","v":0},{"$f":"'Zał. nr 5 jednostki'!G114","v":0},"0000"]
[{"$f":"'Zał. nr 5 jednostki'!A115","v":0},{"$f":"'Zał. nr 5 jednostki'!B115","v":0},{"$f":"'Zał. nr 5 jednostki'!D115","v":0},{"$f":"'Zał. nr 5 jednostki'!E115","v":0},{"$f":"'Zał. nr 5 jednostki'!F115","v":0},{"$f":"'Zał. nr 5 jednostki'!G115","v":0},"0000"]
[{"$f":"'Zał. nr 5 jednostki'!A116","v":0},{"$f":"'Zał. nr 5 jednostki'!B116","v":0},{"$f":"'Zał. nr 5 jednostki'!D116","v":0},{"$f":"'Zał. nr 5 jednostki'!E116","v":0},{"$f":"'Zał. nr 5 jednostki'!F116","v":0},{"$f":"'Zał. nr 5 jednostki'!G116","v":0},"0000"]
[{"$f":"'Zał. nr 5 jednostki'!A117","v":0},{"$f":"'Zał. nr 5 jednostki'!B117","v":0},{"$f":"'Zał. nr 5 jednostki'!D117","v":0},{"$f":"'Zał. nr 5 jednostki'!E117","v":0},{"$f":"'Zał. nr 5 jednostki'!F117","v":0},{"$f":"'Zał. nr 5 jednostki'!G117","v":0},"0000"]
[{"$f":"'Zał. nr 5 jednostki'!A118","v":0},{"$f":"'Zał. nr 5 jednostki'!B118","v":0},{"$f":"'Zał. nr 5 jednostki'!D118","v":0},{"$f":"'Zał. nr 5 jednostki'!E118","v":0},{"$f":"'Zał. nr 5 jednostki'!F118","v":0},{"$f":"'Zał. nr 5 jednostki'!G118","v":0},"0000"]
[{"$f":"'Zał. nr 5 jednostki'!A119","v":0},{"$f":"'Zał. nr 5 jednostki'!B119","v":0},{"$f":"'Zał. nr 5 jednostki'!D119","v":0},{"$f":"'Zał. nr 5 jednostki'!E119","v":0},{"$f":"'Zał. nr 5 jednostki'!F119","v":0},{"$f":"'Zał. nr 5 jednostki'!G119","v":0},"0000"]
[{"$f":"'Zał. nr 5 jednostki'!A120","v":0},{"$f":"'Zał. nr 5 jednostki'!B120","v":0},{"$f":"'Zał. nr 5 jednostki'!D120","v":0},{"$f":"'Zał. nr 5 jednostki'!E120","v":0},{"$f":"'Zał. nr 5 jednostki'!F120","v":0},{"$f":"'Zał. nr 5 jednostki'!G120","v":0},"0000"]
[{"$f":"'Zał. nr 5 jednostki'!A121","v":0},{"$f":"'Zał. nr 5 jednostki'!B121","v":0},{"$f":"'Zał. nr 5 jednostki'!D121","v":0},{"$f":"'Zał. nr 5 jednostki'!E121","v":0},{"$f":"'Zał. nr 5 jednostki'!F121","v":0},{"$f":"'Zał. nr 5 jednostki'!G121","v":0},"0000"]
[{"$f":"'Zał. nr 5 jednostki'!A122","v":0},{"$f":"'Zał. nr 5 jednostki'!B122","v":0},{"$f":"'Zał. nr 5 jednostki'!D122","v":0},{"$f":"'Zał. nr 5 jednostki'!E122","v":0},{"$f":"'Zał. nr 5 jednostki'!F122","v":0},{"$f":"'Zał. nr 5 jednostki'!G122","v":0},"0000"]
[{"$f":"'Zał. nr 5 jednostki'!A123","v":0},{"$f":"'Zał. nr 5 jednostki'!B123","v":0},{"$f":"'Zał. nr 5 jednostki'!D123","v":0},{"$f":"'Zał. nr 5 jednostki'!E123","v":0},{"$f":"'Zał. nr 5 jednostki'!F123","v":0},{"$f":"'Zał. nr 5 jednostki'!G123","v":0},"0000"]
[{"$f":"'Zał. nr 5 jednostki'!A124","v":0},{"$f":"'Zał. nr 5 jednostki'!B124","v":0},{"$f":"'Zał. nr 5 jednostki'!D124","v":0},{"$f":"'Zał. nr 5 jednostki'!E124","v":0},{"$f":"'Zał. nr 5 jednostki'!F124","v":0},{"$f":"'Zał. nr 5 jednostki'!G124","v":0},"0000"]
[{"$f":"'Zał. nr 5 jednostki'!A125","v":0},{"$f":"'Zał. nr 5 jednostki'!B125","v":0},{"$f":"'Zał. nr 5 jednostki'!D125","v":0},{"$f":"'Zał. nr 5 jednostki'!E125","v":0},{"$f":"'Zał. nr 5 jednostki'!F125","v":0},{"$f":"'Zał. nr 5 jednostki'!G125","v":0},"0000"]
[{"$f":"'Zał. nr 5 jednostki'!A126","v":0},{"$f":"'Zał. nr 5 jednostki'!B126","v":0},{"$f":"'Zał. nr 5 jednostki'!D126","v":0},{"$f":"'Zał. nr 5 jednostki'!E126","v":0},{"$f":"'Zał. nr 5 jednostki'!F126","v":0},{"$f":"'Zał. nr 5 jednostki'!G126","v":0},"0000"]
[{"$f":"'Zał. nr 5 jednostki'!A127","v":0},{"$f":"'Zał. nr 5 jednostki'!B127","v":0},{"$f":"'Zał. nr 5 jednostki'!D127","v":0},{"$f":"'Zał. nr 5 jednostki'!E127","v":0},{"$f":"'Zał. nr 5 jednostki'!F127","v":0},{"$f":"'Zał. nr 5 jednostki'!G127","v":0},"0000"]
[{"$f":"'Zał. nr 5 jednostki'!A128","v":0},{"$f":"'Zał. nr 5 jednostki'!B128","v":0},{"$f":"'Zał. nr 5 jednostki'!D128","v":0},{"$f":"'Zał. nr 5 jednostki'!E128","v":0},{"$f":"'Zał. nr 5 jednostki'!F128","v":0},{"$f":"'Zał. nr 5 jednostki'!G128","v":0},"0000"]
[{"$f":"'Zał. nr 5 jednostki'!A129","v":0},{"$f":"'Zał. nr 5 jednostki'!B129","v":0},{"$f":"'Zał. nr 5 jednostki'!D129","v":0},{"$f":"'Zał. nr 5 jednostki'!E129","v":0},{"$f":"'Zał. nr 5 jednostki'!F129","v":0},{"$f":"'Zał. nr 5 jednostki'!G129","v":0},"0000"]
[{"$f":"'Zał. nr 5 jednostki'!A130","v":0},{"$f":"'Zał. nr 5 jednostki'!B130","v":0},{"$f":"'Zał. nr 5 jednostki'!D130","v":0},{"$f":"'Zał. nr 5 jednostki'!E130","v":0},{"$f":"'Zał. nr 5 jednostki'!F130","v":0},{"$f":"'Zał. nr 5 jednostki'!G130","v":0},"0000"]
[{"$f":"'Zał. nr 5 jednostki'!A131","v":0},{"$f":"'Zał. nr 5 jednostki'!B131","v":0},{"$f":"'Zał. nr 5 jednostki'!D131","v":0},{"$f":"'Zał. nr 5 jednostki'!E131","v":0},{"$f":"'Zał. nr 5 jednostki'!F131","v":0},{"$f":"'Zał. nr 5 jednostki'!G131","v":0},"0000"]
[{"$f":"'Zał. nr 5 jednostki'!A132","v":0},{"$f":"'Zał. nr 5 jednostki'!B132","v":0},{"$f":"'Zał. nr 5 jednostki'!D132","v":0},{"$f":"'Zał. nr 5 jednostki'!E132","v":0},{"$f":"'Zał. nr 5 jednostki'!F132","v":0},{"$f":"'Zał. nr 5 jednostki'!G132","v":0},"0000"]
[{"$f":"'Zał. nr 5 jednostki'!A133","v":0},{"$f":"'Zał. nr 5 jednostki'!B133","v":0},{"$f":"'Zał. nr 5 jednostki'!D133","v":0},{"$f":"'Zał. nr 5 jednostki'!E133","v":0},{"$f":"'Zał. nr 5 jednostki'!F133","v":0},{"$f":"'Zał. nr 5 jednostki'!G133","v":0},"0000"]
[{"$f":"'Zał. nr 5 jednostki'!A134","v":0},{"$f":"'Zał. nr 5 jednostki'!B134","v":0},{"$f":"'Zał. nr 5 jednostki'!D134","v":0},{"$f":"'Zał. nr 5 jednostki'!E134","v":0},{"$f":"'Zał. nr 5 jednostki'!F134","v":0},{"$f":"'Zał. nr 5 jednostki'!G134","v":0},"0000"]
[{"$f":"'Zał. nr 5 jednostki'!A135","v":0},{"$f":"'Zał. nr 5 jednostki'!B135","v":0},{"$f":"'Zał. nr 5 jednostki'!D135","v":0},{"$f":"'Zał. nr 5 jednostki'!E135","v":0},{"$f":"'Zał. nr 5 jednostki'!F135","v":0},{"$f":"'Zał. nr 5 jednostki'!G135","v":0},"0000"]
[{"$f":"'Zał. nr 5 jednostki'!A136","v":0},{"$f":"'Zał. nr 5 jednostki'!B136","v":0},{"$f":"'Zał. nr 5 jednostki'!D136","v":0},{"$f":"'Zał. nr 5 jednostki'!E136","v":0},{"$f":"'Zał. nr 5 jednostki'!F136","v":0},{"$f":"'Zał. nr 5 jednostki'!G136","v":0},"0000"]
[{"$f":"'Zał. nr 5 jednostki'!A137","v":0},{"$f":"'Zał. nr 5 jednostki'!B137","v":0},{"$f":"'Zał. nr 5 jednostki'!D137","v":0},{"$f":"'Zał. nr 5 jednostki'!E137","v":0},{"$f":"'Zał. nr 5 jednostki'!F137","v":0},{"$f":"'Zał. nr 5 jednostki'!G137","v":0},"0000"]
[{"$f":"'Zał. nr 5 jednostki'!A138","v":0},{"$f":"'Zał. nr 5 jednostki'!B138","v":0},{"$f":"'Zał. nr 5 jednostki'!D138","v":0},{"$f":"'Zał. nr 5 jednostki'!E138","v":0},{"$f":"'Zał. nr 5 jednostki'!F138","v":0},{"$f":"'Zał. nr 5 jednostki'!G138","v":0},"0000"]
[{"$f":"'Zał. nr 5 jednostki'!A139","v":0},{"$f":"'Zał. nr 5 jednostki'!B139","v":0},{"$f":"'Zał. nr 5 jednostki'!D139","v":0},{"$f":"'Zał. nr 5 jednostki'!E139","v":0},{"$f":"'Zał. nr 5 jednostki'!F139","v":0},{"$f":"'Zał. nr 5 jednostki'!G139","v":0},"0000"]
[{"$f":"'Zał. nr 5 jednostki'!A140","v":0},{"$f":"'Zał. nr 5 jednostki'!B140","v":0},{"$f":"'Zał. nr 5 jednostki'!D140","v":0},{"$f":"'Zał. nr 5 jednostki'!E140","v":0},{"$f":"'Zał. nr 5 jednostki'!F140","v":0},{"$f":"'Zał. nr 5 jednostki'!G140","v":0},"0000"]
[{"$f":"'Zał. nr 5 jednostki'!A141","v":0},{"$f":"'Zał. nr 5 jednostki'!B141","v":0},{"$f":"'Zał. nr 5 jednostki'!D141","v":0},{"$f":"'Zał. nr 5 jednostki'!E141","v":0},{"$f":"'Zał. nr 5 jednostki'!F141","v":0},{"$f":"'Zał. nr 5 jednostki'!G141","v":0},"0000"]
[{"$f":"'Zał. nr 5 jednostki'!A142","v":0},{"$f":"'Zał. nr 5 jednostki'!B142","v":0},{"$f":"'Zał. nr 5 jednostki'!D142","v":0},{"$f":"'Zał. nr 5 jednostki'!E142","v":0},{"$f":"'Zał. nr 5 jednostki'!F142","v":0},{"$f":"'Zał. nr 5 jednostki'!G142","v":0},"0000"]
[{"$f":"'Zał. nr 5 jednostki'!A143","v":0},{"$f":"'Zał. nr 5 jednostki'!B143","v":0},{"$f":"'Zał. nr 5 jednostki'!D143","v":0},{"$f":"'Zał. nr 5 jednostki'!E143","v":0},{"$f":"'Zał. nr 5 jednostki'!F143","v":0},{"$f":"'Zał. nr 5 jednostki'!G143","v":0},"0000"]
[{"$f":"'Zał. nr 5 jednostki'!A144","v":0},{"$f":"'Zał. nr 5 jednostki'!B144","v":0},{"$f":"'Zał. nr 5 jednostki'!D144","v":0},{"$f":"'Zał. nr 5 jednostki'!E144","v":0},{"$f":"'Zał. nr 5 jednostki'!F144","v":0},{"$f":"'Zał. nr 5 jednostki'!G144","v":0},"0000"]
[{"$f":"'Zał. nr 5 jednostki'!A145","v":0},{"$f":"'Zał. nr 5 jednostki'!B145","v":0},{"$f":"'Zał. nr 5 jednostki'!D145","v":0},{"$f":"'Zał. nr 5 jednostki'!E145","v":0},{"$f":"'Zał. nr 5 jednostki'!F145","v":0},{"$f":"'Zał. nr 5 jednostki'!G145","v":0},"0000"]
[{"$f":"'Zał. nr 5 jednostki'!A146","v":0},{"$f":"'Zał. nr 5 jednostki'!B146","v":0},{"$f":"'Zał. nr 5 jednostki'!D146","v":0},{"$f":"'Zał. nr 5 jednostki'!E146","v":0},{"$f":"'Zał. nr 5 jednostki'!F146","v":0},{"$f":"'Zał. nr 5 jednostki'!G146","v":0},"0000"]
[{"$f":"'Zał. nr 5 jednostki'!A147","v":0},{"$f":"'Zał. nr 5 jednostki'!B147","v":0},{"$f":"'Zał. nr 5 jednostki'!D147","v":0},{"$f":"'Zał. nr 5 jednostki'!E147","v":0},{"$f":"'Zał. nr 5 jednostki'!F147","v":0},{"$f":"'Zał. nr 5 jednostki'!G147","v":0},"0000"]
[{"$f":"'Zał. nr 5 jednostki'!A148","v":0},{"$f":"'Zał. nr 5 jednostki'!B148","v":0},{"$f":"'Zał. nr 5 jednostki'!D148","v":0},{"$f":"'Zał. nr 5 jednostki'!E148","v":0},{"$f":"'Zał. nr 5 jednostki'!F148","v":0},{"$f":"'Zał. nr 5 jednostki'!G148","v":0},"0000"]
[{"$f":"'Zał. nr 5 jednostki'!A149","v":0},{"$f":"'Zał. nr 5 jednostki'!B149","v":0},{"$f":"'Zał. nr 5 jednostki'!D149","v":0},{"$f":"'Zał. nr 5 jednostki'!E149","v":0},{"$f":"'Zał. nr 5 jednostki'!F149","v":0},{"$f":"'Zał. nr 5 jednostki'!G149","v":0},"0000"]
[{"$f":"'Zał. nr 5 jednostki'!A150","v":0},{"$f":"'Zał. nr 5 jednostki'!B150","v":0},{"$f":"'Zał. nr 5 jednostki'!D150","v":0},{"$f":"'Zał. nr 5 jednostki'!E150","v":0},{"$f":"'Zał. nr 5 jednostki'!F150","v":0},{"$f":"'Zał. nr 5 jednostki'!G150","v":0},"0000"]
[{"$f":"'Zał. nr 5 jednostki'!A151","v":0},{"$f":"'Zał. nr 5 jednostki'!B151","v":0},{"$f":"'Zał. nr 5 jednostki'!D151","v":0},{"$f":"'Zał. nr 5 jednostki'!E151","v":0},{"$f":"'Zał. nr 5 jednostki'!F151","v":0},{"$f":"'Zał. nr 5 jednostki'!G151","v":0},"0000"]
[{"$f":"'Zał. nr 5 jednostki'!A152","v":0},{"$f":"'Zał. nr 5 jednostki'!B152","v":0},{"$f":"'Zał. nr 5 jednostki'!D152","v":0},{"$f":"'Zał. nr 5 jednostki'!E152","v":0},{"$f":"'Zał. nr 5 jednostki'!F152","v":0},{"$f":"'Zał. nr 5 jednostki'!G152","v":0},"0000"]
[{"$f":"'Zał. nr 5 jednostki'!A153","v":0},{"$f":"'Zał. nr 5 jednostki'!B153","v":0},{"$f":"'Zał. nr 5 jednostki'!D153","v":0},{"$f":"'Zał. nr 5 jednostki'!E153","v":0},{"$f":"'Zał. nr 5 jednostki'!F153","v":0},{"$f":"'Zał. nr 5 jednostki'!G153","v":0},"0000"]
[{"$f":"'Zał. nr 5 jednostki'!A154","v":0},{"$f":"'Zał. nr 5 jednostki'!B154","v":0},{"$f":"'Zał. nr 5 jednostki'!D154","v":0},{"$f":"'Zał. nr 5 jednostki'!E154","v":0},{"$f":"'Zał. nr 5 jednostki'!F154","v":0},{"$f":"'Zał. nr 5 jednostki'!G154","v":0},{"$f":"C130&D130&E130&F130","v":"0000"}]
[{"$f":"'Zał. nr 5 jednostki'!A155","v":0},{"$f":"'Zał. nr 5 jednostki'!B155","v":0},{"$f":"'Zał. nr 5 jednostki'!D155","v":0},{"$f":"'Zał. nr 5 jednostki'!E155","v":0},{"$f":"'Zał. nr 5 jednostki'!F155","v":0},{"$f":"'Zał. nr 5 jednostki'!G155","v":0},"0000"]
[{"$f":"'Zał. nr 5 jednostki'!A156","v":0},{"$f":"'Zał. nr 5 jednostki'!B156","v":0},{"$f":"'Zał. nr 5 jednostki'!D156","v":0},{"$f":"'Zał. nr 5 jednostki'!E156","v":0},{"$f":"'Zał. nr 5 jednostki'!F156","v":0},{"$f":"'Zał. nr 5 jednostki'!G156","v":0},"0000"]
[{"$f":"'Zał. nr 5 jednostki'!A157","v":0},{"$f":"'Zał. nr 5 jednostki'!B157","v":0},{"$f":"'Zał. nr 5 jednostki'!D157","v":0},{"$f":"'Zał. nr 5 jednostki'!E157","v":0},{"$f":"'Zał. nr 5 jednostki'!F157","v":0},{"$f":"'Zał. nr 5 jednostki'!G157","v":0},"0000"]
[{"$f":"'Zał. nr 5 jednostki'!A158","v":0},{"$f":"'Zał. nr 5 jednostki'!B158","v":0},{"$f":"'Zał. nr 5 jednostki'!D158","v":0},{"$f":"'Zał. nr 5 jednostki'!E158","v":0},{"$f":"'Zał. nr 5 jednostki'!F158","v":0},{"$f":"'Zał. nr 5 jednostki'!G158","v":0},"0000"]
[{"$f":"'Zał. nr 5 jednostki'!A159","v":0},{"$f":"'Zał. nr 5 jednostki'!B159","v":0},{"$f":"'Zał. nr 5 jednostki'!D159","v":0},{"$f":"'Zał. nr 5 jednostki'!E159","v":0},{"$f":"'Zał. nr 5 jednostki'!F159","v":0},{"$f":"'Zał. nr 5 jednostki'!G159","v":0},"0000"]
[{"$f":"'Zał. nr 5 jednostki'!A160","v":0},{"$f":"'Zał. nr 5 jednostki'!B160","v":0},{"$f":"'Zał. nr 5 jednostki'!D160","v":0},{"$f":"'Zał. nr 5 jednostki'!E160","v":0},{"$f":"'Zał. nr 5 jednostki'!F160","v":0},{"$f":"'Zał. nr 5 jednostki'!G160","v":0},"0000"]
[{"$f":"'Zał. nr 5 jednostki'!A161","v":0},{"$f":"'Zał. nr 5 jednostki'!B161","v":0},{"$f":"'Zał. nr 5 jednostki'!D161","v":0},{"$f":"'Zał. nr 5 jednostki'!E161","v":0},{"$f":"'Zał. nr 5 jednostki'!F161","v":0},{"$f":"'Zał. nr 5 jednostki'!G161","v":0},"0000"]
[{"$f":"'Zał. nr 5 jednostki'!A162","v":0},{"$f":"'Zał. nr 5 jednostki'!B162","v":0},{"$f":"'Zał. nr 5 jednostki'!D162","v":0},{"$f":"'Zał. nr 5 jednostki'!E162","v":0},{"$f":"'Zał. nr 5 jednostki'!F162","v":0},{"$f":"'Zał. nr 5 jednostki'!G162","v":0},"0000"]
[{"$f":"'Zał. nr 5 jednostki'!A163","v":0},{"$f":"'Zał. nr 5 jednostki'!B163","v":0},{"$f":"'Zał. nr 5 jednostki'!D163","v":0},{"$f":"'Zał. nr 5 jednostki'!E163","v":0},{"$f":"'Zał. nr 5 jednostki'!F163","v":0},{"$f":"'Zał. nr 5 jednostki'!G163","v":0},"0000"]
[{"$f":"'Zał. nr 5 jednostki'!A164","v":0},{"$f":"'Zał. nr 5 jednostki'!B164","v":0},{"$f":"'Zał. nr 5 jednostki'!D164","v":0},{"$f":"'Zał. nr 5 jednostki'!E164","v":0},{"$f":"'Zał. nr 5 jednostki'!F164","v":0},{"$f":"'Zał. nr 5 jednostki'!G164","v":0},"0000"]
[{"$f":"'Zał. nr 5 jednostki'!A165","v":0},{"$f":"'Zał. nr 5 jednostki'!B165","v":0},{"$f":"'Zał. nr 5 jednostki'!D165","v":0},{"$f":"'Zał. nr 5 jednostki'!E165","v":0},{"$f":"'Zał. nr 5 jednostki'!F165","v":0},{"$f":"'Zał. nr 5 jednostki'!G165","v":0},"0000"]
[{"$f":"'Zał. nr 5 jednostki'!A166","v":0},{"$f":"'Zał. nr 5 jednostki'!B166","v":0},{"$f":"'Zał. nr 5 jednostki'!D166","v":0},{"$f":"'Zał. nr 5 jednostki'!E166","v":0},{"$f":"'Zał. nr 5 jednostki'!F166","v":0},{"$f":"'Zał. nr 5 jednostki'!G166","v":0},"0000"]
[{"$f":"'Zał. nr 5 jednostki'!A167","v":0},{"$f":"'Zał. nr 5 jednostki'!B167","v":0},{"$f":"'Zał. nr 5 jednostki'!D167","v":0},{"$f":"'Zał. nr 5 jednostki'!E167","v":0},{"$f":"'Zał. nr 5 jednostki'!F167","v":0},{"$f":"'Zał. nr 5 jednostki'!G167","v":0},"0000"]
[{"$f":"'Zał. nr 5 jednostki'!A168","v":0},{"$f":"'Zał. nr 5 jednostki'!B168","v":0},{"$f":"'Zał. nr 5 jednostki'!D168","v":0},{"$f":"'Zał. nr 5 jednostki'!E168","v":0},{"$f":"'Zał. nr 5 jednostki'!F168","v":0},{"$f":"'Zał. nr 5 jednostki'!G168","v":0},"0000"]
[{"$f":"'Zał. nr 5 jednostki'!A169","v":0},{"$f":"'Zał. nr 5 jednostki'!B169","v":0},{"$f":"'Zał. nr 5 jednostki'!D169","v":0},{"$f":"'Zał. nr 5 jednostki'!E169","v":0},{"$f":"'Zał. nr 5 jednostki'!F169","v":0},{"$f":"'Zał. nr 5 jednostki'!G169","v":0},"0000"]
[{"$f":"'Zał. nr 5 jednostki'!A170","v":0},{"$f":"'Zał. nr 5 jednostki'!B170","v":0},{"$f":"'Zał. nr 5 jednostki'!D170","v":0},{"$f":"'Zał. nr 5 jednostki'!E170","v":0},{"$f":"'Zał. nr 5 jednostki'!F170","v":0},{"$f":"'Zał. nr 5 jednostki'!G170","v":0},"0000"]
[{"$f":"'Zał. nr 5 jednostki'!A171","v":0},{"$f":"'Zał. nr 5 jednostki'!B171","v":0},{"$f":"'Zał. nr 5 jednostki'!D171","v":0},{"$f":"'Zał. nr 5 jednostki'!E171","v":0},{"$f":"'Zał. nr 5 jednostki'!F171","v":0},{"$f":"'Zał. nr 5 jednostki'!G171","v":0},"0000"]
[{"$f":"'Zał. nr 5 jednostki'!A172","v":0},{"$f":"'Zał. nr 5 jednostki'!B172","v":0},{"$f":"'Zał. nr 5 jednostki'!D172","v":0},{"$f":"'Zał. nr 5 jednostki'!E172","v":0},{"$f":"'Zał. nr 5 jednostki'!F172","v":0},{"$f":"'Zał. nr 5 jednostki'!G172","v":0},"0000"]
[{"$f":"'Zał. nr 5 jednostki'!A173","v":0},{"$f":"'Zał. nr 5 jednostki'!B173","v":0},{"$f":"'Zał. nr 5 jednostki'!D173","v":0},{"$f":"'Zał. nr 5 jednostki'!E173","v":0},{"$f":"'Zał. nr 5 jednostki'!F173","v":0},{"$f":"'Zał. nr 5 jednostki'!G173","v":0},"0000"]
[{"$f":"'Zał. nr 5 jednostki'!A174","v":0},{"$f":"'Zał. nr 5 jednostki'!B174","v":0},{"$f":"'Zał. nr 5 jednostki'!D174","v":0},{"$f":"'Zał. nr 5 jednostki'!E174","v":0},{"$f":"'Zał. nr 5 jednostki'!F174","v":0},{"$f":"'Zał. nr 5 jednostki'!G174","v":0},"0000"]
[{"$f":"'Zał. nr 5 jednostki'!A175","v":0},{"$f":"'Zał. nr 5 jednostki'!B175","v":0},{"$f":"'Zał. nr 5 jednostki'!D175","v":0},{"$f":"'Zał. nr 5 jednostki'!E175","v":0},{"$f":"'Zał. nr 5 jednostki'!F175","v":0},{"$f":"'Zał. nr 5 jednostki'!G175","v":0},"0000"]
[{"$f":"'Zał. nr 5 jednostki'!A176","v":0},{"$f":"'Zał. nr 5 jednostki'!B176","v":0},{"$f":"'Zał. nr 5 jednostki'!D176","v":0},{"$f":"'Zał. nr 5 jednostki'!E176","v":0},{"$f":"'Zał. nr 5 jednostki'!F176","v":0},{"$f":"'Zał. nr 5 jednostki'!G176","v":0},"0000"]
[{"$f":"'Zał. nr 5 jednostki'!A177","v":0},{"$f":"'Zał. nr 5 jednostki'!B177","v":0},{"$f":"'Zał. nr 5 jednostki'!D177","v":0},{"$f":"'Zał. nr 5 jednostki'!E177","v":0},{"$f":"'Zał. nr 5 jednostki'!F177","v":0},{"$f":"'Zał. nr 5 jednostki'!G177","v":0},"0000"]
[{"$f":"'Zał. nr 5 jednostki'!A178","v":0},{"$f":"'Zał. nr 5 jednostki'!B178","v":0},{"$f":"'Zał. nr 5 jednostki'!D178","v":0},{"$f":"'Zał. nr 5 jednostki'!E178","v":0},{"$f":"'Zał. nr 5 jednostki'!F178","v":0},{"$f":"'Zał. nr 5 jednostki'!G178","v":0},"0000"]
[{"$f":"'Zał. nr 5 jednostki'!A179","v":0},{"$f":"'Zał. nr 5 jednostki'!B179","v":0},{"$f":"'Zał. nr 5 jednostki'!D179","v":0},{"$f":"'Zał. nr 5 jednostki'!E179","v":0},{"$f":"'Zał. nr 5 jednostki'!F179","v":0},{"$f":"'Zał. nr 5 jednostki'!G179","v":0},"0000"]
[{"$f":"'Zał. nr 5 jednostki'!A180","v":0},{"$f":"'Zał. nr 5 jednostki'!B180","v":0},{"$f":"'Zał. nr 5 jednostki'!D180","v":0},{"$f":"'Zał. nr 5 jednostki'!E180","v":0},{"$f":"'Zał. nr 5 jednostki'!F180","v":0},{"$f":"'Zał. nr 5 jednostki'!G180","v":0},"0000"]
[{"$f":"'Zał. nr 5 jednostki'!A181","v":0},{"$f":"'Zał. nr 5 jednostki'!B181","v":0},{"$f":"'Zał. nr 5 jednostki'!D181","v":0},{"$f":"'Zał. nr 5 jednostki'!E181","v":0},{"$f":"'Zał. nr 5 jednostki'!F181","v":0},{"$f":"'Zał. nr 5 jednostki'!G181","v":0},"0000"]
[{"$f":"'Zał. nr 5 jednostki'!A182","v":0},{"$f":"'Zał. nr 5 jednostki'!B182","v":0},{"$f":"'Zał. nr 5 jednostki'!D182","v":0},{"$f":"'Zał. nr 5 jednostki'!E182","v":0},{"$f":"'Zał. nr 5 jednostki'!F182","v":0},{"$f":"'Zał. nr 5 jednostki'!G182","v":0},"0000"]
[{"$f":"'Zał. nr 5 jednostki'!A183","v":0},{"$f":"'Zał. nr 5 jednostki'!B183","v":0},{"$f":"'Zał. nr 5 jednostki'!D183","v":0},{"$f":"'Zał. nr 5 jednostki'!E183","v":0},{"$f":"'Zał. nr 5 jednostki'!F183","v":0},{"$f":"'Zał. nr 5 jednostki'!G183","v":0},"0000"]
[{"$f":"'Zał. nr 5 jednostki'!A184","v":0},{"$f":"'Zał. nr 5 jednostki'!B184","v":0},{"$f":"'Zał. nr 5 jednostki'!D184","v":0},{"$f":"'Zał. nr 5 jednostki'!E184","v":0},{"$f":"'Zał. nr 5 jednostki'!F184","v":0},{"$f":"'Zał. nr 5 jednostki'!G184","v":0},"0000"]
[{"$f":"'Zał. nr 5 jednostki'!A185","v":0},{"$f":"'Zał. nr 5 jednostki'!B185","v":0},{"$f":"'Zał. nr 5 jednostki'!D185","v":0},{"$f":"'Zał. nr 5 jednostki'!E185","v":0},{"$f":"'Zał. nr 5 jednostki'!F185","v":0},{"$f":"'Zał. nr 5 jednostki'!G185","v":0},"0000"]
[{"$f":"'Zał. nr 5 jednostki'!A186","v":0},{"$f":"'Zał. nr 5 jednostki'!B186","v":0},{"$f":"'Zał. nr 5 jednostki'!D186","v":0},{"$f":"'Zał. nr 5 jednostki'!E186","v":0},{"$f":"'Zał. nr 5 jednostki'!F186","v":0},{"$f":"'Zał. nr 5 jednostki'!G186","v":0},"0000"]
[{"$f":"'Zał. nr 5 jednostki'!A187","v":0},{"$f":"'Zał. nr 5 jednostki'!B187","v":0},{"$f":"'Zał. nr 5 jednostki'!D187","v":0},{"$f":"'Zał. nr 5 jednostki'!E187","v":0},{"$f":"'Zał. nr 5 jednostki'!F187","v":0},{"$f":"'Zał. nr 5 jednostki'!G187","v":0},"0000"]
[{"$f":"'Zał. nr 5 jednostki'!A188","v":0},{"$f":"'Zał. nr 5 jednostki'!B188","v":0},{"$f":"'Zał. nr 5 jednostki'!D188","v":0},{"$f":"'Zał. nr 5 jednostki'!E188","v":0},{"$f":"'Zał. nr 5 jednostki'!F188","v":0},{"$f":"'Zał. nr 5 jednostki'!G188","v":0},"0000"]
[{"$f":"'Zał. nr 5 jednostki'!A189","v":0},{"$f":"'Zał. nr 5 jednostki'!B189","v":0},{"$f":"'Zał. nr 5 jednostki'!D189","v":0},{"$f":"'Zał. nr 5 jednostki'!E189","v":0},{"$f":"'Zał. nr 5 jednostki'!F189","v":0},{"$f":"'Zał. nr 5 jednostki'!G189","v":0},"0000"]
[{"$f":"'Zał. nr 5 jednostki'!A190","v":0},{"$f":"'Zał. nr 5 jednostki'!B190","v":0},{"$f":"'Zał. nr 5 jednostki'!D190","v":0},{"$f":"'Zał. nr 5 jednostki'!E190","v":0},{"$f":"'Zał. nr 5 jednostki'!F190","v":0},{"$f":"'Zał. nr 5 jednostki'!G190","v":0},"0000"]
[{"$f":"'Zał. nr 5 jednostki'!A191","v":0},{"$f":"'Zał. nr 5 jednostki'!B191","v":0},{"$f":"'Zał. nr 5 jednostki'!D191","v":0},{"$f":"'Zał. nr 5 jednostki'!E191","v":0},{"$f":"'Zał. nr 5 jednostki'!F191","v":0},{"$f":"'Zał. nr 5 jednostki'!G191","v":0},"0000"]
[{"$f":"'Zał. nr 5 jednostki'!A192","v":0},{"$f":"'Zał. nr 5 jednostki'!B192","v":0},{"$f":"'Zał. nr 5 jednostki'!D192","v":0},{"$f":"'Zał. nr 5 jednostki'!E192","v":0},{"$f":"'Zał. nr 5 jednostki'!F192","v":0},{"$f":"'Zał. nr 5 jednostki'!G192","v":0},"0000"]
[{"$f":"'Zał. nr 5 jednostki'!A193","v":0},{"$f":"'Zał. nr 5 jednostki'!B193","v":0},{"$f":"'Zał. nr 5 jednostki'!D193","v":0},{"$f":"'Zał. nr 5 jednostki'!E193","v":0},{"$f":"'Zał. nr 5 jednostki'!F193","v":0},{"$f":"'Zał. nr 5 jednostki'!G193","v":0},"0000"]
[{"$f":"'Zał. nr 5 jednostki'!A194","v":0},{"$f":"'Zał. nr 5 jednostki'!B194","v":0},{"$f":"'Zał. nr 5 jednostki'!D194","v":0},{"$f":"'Zał. nr 5 jednostki'!E194","v":0},{"$f":"'Zał. nr 5 jednostki'!F194","v":0},{"$f":"'Zał. nr 5 jednostki'!G194","v":0},"0000"]
[{"$f":"'Zał. nr 5 jednostki'!A195","v":0},{"$f":"'Zał. nr 5 jednostki'!B195","v":0},{"$f":"'Zał. nr 5 jednostki'!D195","v":0},{"$f":"'Zał. nr 5 jednostki'!E195","v":0},{"$f":"'Zał. nr 5 jednostki'!F195","v":0},{"$f":"'Zał. nr 5 jednostki'!G195","v":0},"0000"]
[{"$f":"'Zał. nr 5 jednostki'!A196","v":0},{"$f":"'Zał. nr 5 jednostki'!B196","v":0},{"$f":"'Zał. nr 5 jednostki'!D196","v":0},{"$f":"'Zał. nr 5 jednostki'!E196","v":0},{"$f":"'Zał. nr 5 jednostki'!F196","v":0},{"$f":"'Zał. nr 5 jednostki'!G196","v":0},"0000"]
[{"$f":"'Zał. nr 5 jednostki'!A197","v":0},{"$f":"'Zał. nr 5 jednostki'!B197","v":0},{"$f":"'Zał. nr 5 jednostki'!D197","v":0},{"$f":"'Zał. nr 5 jednostki'!E197","v":0},{"$f":"'Zał. nr 5 jednostki'!F197","v":0},{"$f":"'Zał. nr 5 jednostki'!G197","v":0},"0000"]
[{"$f":"'Zał. nr 5 jednostki'!A198","v":0},{"$f":"'Zał. nr 5 jednostki'!B198","v":0},{"$f":"'Zał. nr 5 jednostki'!D198","v":0},{"$f":"'Zał. nr 5 jednostki'!E198","v":0},{"$f":"'Zał. nr 5 jednostki'!F198","v":0},{"$f":"'Zał. nr 5 jednostki'!G198","v":0},"0000"]
[{"$f":"'Zał. nr 5 jednostki'!A199","v":0},{"$f":"'Zał. nr 5 jednostki'!B199","v":0},{"$f":"'Zał. nr 5 jednostki'!D199","v":0},{"$f":"'Zał. nr 5 jednostki'!E199","v":0},{"$f":"'Zał. nr 5 jednostki'!F199","v":0},{"$f":"'Zał. nr 5 jednostki'!G199","v":0},"0000"]
[{"$f":"'Zał. nr 5 jednostki'!A200","v":0},{"$f":"'Zał. nr 5 jednostki'!B200","v":0},{"$f":"'Zał. nr 5 jednostki'!D200","v":0},{"$f":"'Zał. nr 5 jednostki'!E200","v":0},{"$f":"'Zał. nr 5 jednostki'!F200","v":0},{"$f":"'Zał. nr 5 jednostki'!G200","v":0},"0000"]
[{"$f":"'Zał. nr 5 jednostki'!A201","v":0},{"$f":"'Zał. nr 5 jednostki'!B201","v":0},{"$f":"'Zał. nr 5 jednostki'!D201","v":0},{"$f":"'Zał. nr 5 jednostki'!E201","v":0},{"$f":"'Zał. nr 5 jednostki'!F201","v":0},{"$f":"'Zał. nr 5 jednostki'!G201","v":0},"0000"]
[{"$f":"'Zał. nr 5 jednostki'!A202","v":0},{"$f":"'Zał. nr 5 jednostki'!B202","v":0},{"$f":"'Zał. nr 5 jednostki'!D202","v":0},{"$f":"'Zał. nr 5 jednostki'!E202","v":0},{"$f":"'Zał. nr 5 jednostki'!F202","v":0},{"$f":"'Zał. nr 5 jednostki'!G202","v":0},"0000"]
[{"$f":"'Zał. nr 5 jednostki'!A203","v":0},{"$f":"'Zał. nr 5 jednostki'!B203","v":0},{"$f":"'Zał. nr 5 jednostki'!D203","v":0},{"$f":"'Zał. nr 5 jednostki'!E203","v":0},{"$f":"'Zał. nr 5 jednostki'!F203","v":0},{"$f":"'Zał. nr 5 jednostki'!G203","v":0},"0000"]
[{"$f":"'Zał. nr 5 jednostki'!A204","v":0},{"$f":"'Zał. nr 5 jednostki'!B204","v":0},{"$f":"'Zał. nr 5 jednostki'!D204","v":0},{"$f":"'Zał. nr 5 jednostki'!E204","v":0},{"$f":"'Zał. nr 5 jednostki'!F204","v":0},{"$f":"'Zał. nr 5 jednostki'!G204","v":0},"0000"]
[{"$f":"'Zał. nr 5 jednostki'!A205","v":0},{"$f":"'Zał. nr 5 jednostki'!B205","v":0},{"$f":"'Zał. nr 5 jednostki'!D205","v":0},{"$f":"'Zał. nr 5 jednostki'!E205","v":0},{"$f":"'Zał. nr 5 jednostki'!F205","v":0},{"$f":"'Zał. nr 5 jednostki'!G205","v":0},"0000"]
[{"$f":"'Zał. nr 5 jednostki'!A206","v":0},{"$f":"'Zał. nr 5 jednostki'!B206","v":0},{"$f":"'Zał. nr 5 jednostki'!D206","v":0},{"$f":"'Zał. nr 5 jednostki'!E206","v":0},{"$f":"'Zał. nr 5 jednostki'!F206","v":0},{"$f":"'Zał. nr 5 jednostki'!G206","v":0},"0000"]
[{"$f":"'Zał. nr 5 jednostki'!A207","v":0},{"$f":"'Zał. nr 5 jednostki'!B207","v":0},{"$f":"'Zał. nr 5 jednostki'!D207","v":0},{"$f":"'Zał. nr 5 jednostki'!E207","v":0},{"$f":"'Zał. nr 5 jednostki'!F207","v":0},{"$f":"'Zał. nr 5 jednostki'!G207","v":0},"0000"]
[{"$f":"'Zał. nr 5 jednostki'!A208","v":0},{"$f":"'Zał. nr 5 jednostki'!B208","v":0},{"$f":"'Zał. nr 5 jednostki'!D208","v":0},{"$f":"'Zał. nr 5 jednostki'!E208","v":0},{"$f":"'Zał. nr 5 jednostki'!F208","v":0},{"$f":"'Zał. nr 5 jednostki'!G208","v":0},"0000"]
[{"$f":"'Zał. nr 5 jednostki'!A209","v":0},{"$f":"'Zał. nr 5 jednostki'!B209","v":0},{"$f":"'Zał. nr 5 jednostki'!D209","v":0},{"$f":"'Zał. nr 5 jednostki'!E209","v":0},{"$f":"'Zał. nr 5 jednostki'!F209","v":0},{"$f":"'Zał. nr 5 jednostki'!G209","v":0},"0000"]
[{"$f":"'Zał. nr 5 jednostki'!A210","v":0},{"$f":"'Zał. nr 5 jednostki'!B210","v":0},{"$f":"'Zał. nr 5 jednostki'!D210","v":0},{"$f":"'Zał. nr 5 jednostki'!E210","v":0},{"$f":"'Zał. nr 5 jednostki'!F210","v":0},{"$f":"'Zał. nr 5 jednostki'!G210","v":0},"0000"]
[{"$f":"'Zał. nr 5 jednostki'!A211","v":0},{"$f":"'Zał. nr 5 jednostki'!B211","v":0},{"$f":"'Zał. nr 5 jednostki'!D211","v":0},{"$f":"'Zał. nr 5 jednostki'!E211","v":0},{"$f":"'Zał. nr 5 jednostki'!F211","v":0},{"$f":"'Zał. nr 5 jednostki'!G211","v":0},"0000"]
[{"$f":"'Zał. nr 5 jednostki'!A212","v":0},{"$f":"'Zał. nr 5 jednostki'!B212","v":0},{"$f":"'Zał. nr 5 jednostki'!D212","v":0},{"$f":"'Zał. nr 5 jednostki'!E212","v":0},{"$f":"'Zał. nr 5 jednostki'!F212","v":0},{"$f":"'Zał. nr 5 jednostki'!G212","v":0},"0000"]
[{"$f":"'Zał. nr 5 jednostki'!A213","v":0},{"$f":"'Zał. nr 5 jednostki'!B213","v":0},{"$f":"'Zał. nr 5 jednostki'!D213","v":0},{"$f":"'Zał. nr 5 jednostki'!E213","v":0},{"$f":"'Zał. nr 5 jednostki'!F213","v":0},{"$f":"'Zał. nr 5 jednostki'!G213","v":0},"0000"]
[{"$f":"'Zał. nr 5 jednostki'!A214","v":0},{"$f":"'Zał. nr 5 jednostki'!B214","v":0},{"$f":"'Zał. nr 5 jednostki'!D214","v":0},{"$f":"'Zał. nr 5 jednostki'!E214","v":0},{"$f":"'Zał. nr 5 jednostki'!F214","v":0},{"$f":"'Zał. nr 5 jednostki'!G214","v":0},"0000"]
[{"$f":"'Zał. nr 5 jednostki'!A215","v":0},{"$f":"'Zał. nr 5 jednostki'!B215","v":0},{"$f":"'Zał. nr 5 jednostki'!D215","v":0},{"$f":"'Zał. nr 5 jednostki'!E215","v":0},{"$f":"'Zał. nr 5 jednostki'!F215","v":0},{"$f":"'Zał. nr 5 jednostki'!G215","v":0},"0000"]
[{"$f":"'Zał. nr 5 jednostki'!A216","v":0},{"$f":"'Zał. nr 5 jednostki'!B216","v":0},{"$f":"'Zał. nr 5 jednostki'!D216","v":0},{"$f":"'Zał. nr 5 jednostki'!E216","v":0},{"$f":"'Zał. nr 5 jednostki'!F216","v":0},{"$f":"'Zał. nr 5 jednostki'!G216","v":0},"0000"]
[{"$f":"'Zał. nr 5 jednostki'!A217","v":0},{"$f":"'Zał. nr 5 jednostki'!B217","v":0},{"$f":"'Zał. nr 5 jednostki'!D217","v":0},{"$f":"'Zał. nr 5 jednostki'!E217","v":0},{"$f":"'Zał. nr 5 jednostki'!F217","v":0},{"$f":"'Zał. nr 5 jednostki'!G217","v":0},"0000"]
[{"$f":"'Zał. nr 5 jednostki'!A218","v":0},{"$f":"'Zał. nr 5 jednostki'!B218","v":0},{"$f":"'Zał. nr 5 jednostki'!D218","v":0},{"$f":"'Zał. nr 5 jednostki'!E218","v":0},{"$f":"'Zał. nr 5 jednostki'!F218","v":0},{"$f":"'Zał. nr 5 jednostki'!G218","v":0},{"$f":"C194&D194&E194&F194","v":"0000"}]
[{"$f":"'Zał. nr 5 jednostki'!A219","v":0},{"$f":"'Zał. nr 5 jednostki'!B219","v":0},{"$f":"'Zał. nr 5 jednostki'!D219","v":0},{"$f":"'Zał. nr 5 jednostki'!E219","v":0},{"$f":"'Zał. nr 5 jednostki'!F219","v":0},{"$f":"'Zał. nr 5 jednostki'!G219","v":0},"0000"]
[{"$f":"'Zał. nr 5 jednostki'!A220","v":0},{"$f":"'Zał. nr 5 jednostki'!B220","v":0},{"$f":"'Zał. nr 5 jednostki'!D220","v":0},{"$f":"'Zał. nr 5 jednostki'!E220","v":0},{"$f":"'Zał. nr 5 jednostki'!F220","v":0},{"$f":"'Zał. nr 5 jednostki'!G220","v":0},"0000"]
[{"$f":"'Zał. nr 5 jednostki'!A221","v":0},{"$f":"'Zał. nr 5 jednostki'!B221","v":0},{"$f":"'Zał. nr 5 jednostki'!D221","v":0},{"$f":"'Zał. nr 5 jednostki'!E221","v":0},{"$f":"'Zał. nr 5 jednostki'!F221","v":0},{"$f":"'Zał. nr 5 jednostki'!G221","v":0},"0000"]
[{"$f":"'Zał. nr 5 jednostki'!A222","v":0},{"$f":"'Zał. nr 5 jednostki'!B222","v":0},{"$f":"'Zał. nr 5 jednostki'!D222","v":0},{"$f":"'Zał. nr 5 jednostki'!E222","v":0},{"$f":"'Zał. nr 5 jednostki'!F222","v":0},{"$f":"'Zał. nr 5 jednostki'!G222","v":0},"0000"]
[{"$f":"'Zał. nr 5 jednostki'!A223","v":0},{"$f":"'Zał. nr 5 jednostki'!B223","v":0},{"$f":"'Zał. nr 5 jednostki'!D223","v":0},{"$f":"'Zał. nr 5 jednostki'!E223","v":0},{"$f":"'Zał. nr 5 jednostki'!F223","v":0},{"$f":"'Zał. nr 5 jednostki'!G223","v":0},"0000"]
[{"$f":"'Zał. nr 5 jednostki'!A224","v":0},{"$f":"'Zał. nr 5 jednostki'!B224","v":0},{"$f":"'Zał. nr 5 jednostki'!D224","v":0},{"$f":"'Zał. nr 5 jednostki'!E224","v":0},{"$f":"'Zał. nr 5 jednostki'!F224","v":0},{"$f":"'Zał. nr 5 jednostki'!G224","v":0},"0000"]
[{"$f":"'Zał. nr 5 jednostki'!A225","v":0},{"$f":"'Zał. nr 5 jednostki'!B225","v":0},{"$f":"'Zał. nr 5 jednostki'!D225","v":0},{"$f":"'Zał. nr 5 jednostki'!E225","v":0},{"$f":"'Zał. nr 5 jednostki'!F225","v":0},{"$f":"'Zał. nr 5 jednostki'!G225","v":0},"0000"]
[{"$f":"'Zał. nr 5 jednostki'!A226","v":0},{"$f":"'Zał. nr 5 jednostki'!B226","v":0},{"$f":"'Zał. nr 5 jednostki'!D226","v":0},{"$f":"'Zał. nr 5 jednostki'!E226","v":0},{"$f":"'Zał. nr 5 jednostki'!F226","v":0},{"$f":"'Zał. nr 5 jednostki'!G226","v":0},"0000"]
[{"$f":"'Zał. nr 5 jednostki'!A227","v":0},{"$f":"'Zał. nr 5 jednostki'!B227","v":0},{"$f":"'Zał. nr 5 jednostki'!D227","v":0},{"$f":"'Zał. nr 5 jednostki'!E227","v":0},{"$f":"'Zał. nr 5 jednostki'!F227","v":0},{"$f":"'Zał. nr 5 jednostki'!G227","v":0},"0000"]
[{"$f":"'Zał. nr 5 jednostki'!A228","v":0},{"$f":"'Zał. nr 5 jednostki'!B228","v":0},{"$f":"'Zał. nr 5 jednostki'!D228","v":0},{"$f":"'Zał. nr 5 jednostki'!E228","v":0},{"$f":"'Zał. nr 5 jednostki'!F228","v":0},{"$f":"'Zał. nr 5 jednostki'!G228","v":0},"0000"]
[{"$f":"'Zał. nr 5 jednostki'!A229","v":0},{"$f":"'Zał. nr 5 jednostki'!B229","v":0},{"$f":"'Zał. nr 5 jednostki'!D229","v":0},{"$f":"'Zał. nr 5 jednostki'!E229","v":0},{"$f":"'Zał. nr 5 jednostki'!F229","v":0},{"$f":"'Zał. nr 5 jednostki'!G229","v":0},"0000"]
[{"$f":"'Zał. nr 5 jednostki'!A230","v":0},{"$f":"'Zał. nr 5 jednostki'!B230","v":0},{"$f":"'Zał. nr 5 jednostki'!D230","v":0},{"$f":"'Zał. nr 5 jednostki'!E230","v":0},{"$f":"'Zał. nr 5 jednostki'!F230","v":0},{"$f":"'Zał. nr 5 jednostki'!G230","v":0},"0000"]
[{"$f":"'Zał. nr 5 jednostki'!A231","v":0},{"$f":"'Zał. nr 5 jednostki'!B231","v":0},{"$f":"'Zał. nr 5 jednostki'!D231","v":0},{"$f":"'Zał. nr 5 jednostki'!E231","v":0},{"$f":"'Zał. nr 5 jednostki'!F231","v":0},{"$f":"'Zał. nr 5 jednostki'!G231","v":0},"0000"]
[{"$f":"'Zał. nr 5 jednostki'!A232","v":0},{"$f":"'Zał. nr 5 jednostki'!B232","v":0},{"$f":"'Zał. nr 5 jednostki'!D232","v":0},{"$f":"'Zał. nr 5 jednostki'!E232","v":0},{"$f":"'Zał. nr 5 jednostki'!F232","v":0},{"$f":"'Zał. nr 5 jednostki'!G232","v":0},"0000"]
[{"$f":"'Zał. nr 5 jednostki'!A233","v":0},{"$f":"'Zał. nr 5 jednostki'!B233","v":0},{"$f":"'Zał. nr 5 jednostki'!D233","v":0},{"$f":"'Zał. nr 5 jednostki'!E233","v":0},{"$f":"'Zał. nr 5 jednostki'!F233","v":0},{"$f":"'Zał. nr 5 jednostki'!G233","v":0},"0000"]
[{"$f":"'Zał. nr 5 jednostki'!A234","v":0},{"$f":"'Zał. nr 5 jednostki'!B234","v":0},{"$f":"'Zał. nr 5 jednostki'!D234","v":0},{"$f":"'Zał. nr 5 jednostki'!E234","v":0},{"$f":"'Zał. nr 5 jednostki'!F234","v":0},{"$f":"'Zał. nr 5 jednostki'!G234","v":0},"0000"]
[{"$f":"'Zał. nr 5 jednostki'!A235","v":0},{"$f":"'Zał. nr 5 jednostki'!B235","v":0},{"$f":"'Zał. nr 5 jednostki'!D235","v":0},{"$f":"'Zał. nr 5 jednostki'!E235","v":0},{"$f":"'Zał. nr 5 jednostki'!F235","v":0},{"$f":"'Zał. nr 5 jednostki'!G235","v":0},"0000"]
[{"$f":"'Zał. nr 5 jednostki'!A236","v":0},{"$f":"'Zał. nr 5 jednostki'!B236","v":0},{"$f":"'Zał. nr 5 jednostki'!D236","v":0},{"$f":"'Zał. nr 5 jednostki'!E236","v":0},{"$f":"'Zał. nr 5 jednostki'!F236","v":0},{"$f":"'Zał. nr 5 jednostki'!G236","v":0},"0000"]
[{"$f":"'Zał. nr 5 jednostki'!A237","v":0},{"$f":"'Zał. nr 5 jednostki'!B237","v":0},{"$f":"'Zał. nr 5 jednostki'!D237","v":0},{"$f":"'Zał. nr 5 jednostki'!E237","v":0},{"$f":"'Zał. nr 5 jednostki'!F237","v":0},{"$f":"'Zał. nr 5 jednostki'!G237","v":0},"0000"]
[{"$f":"'Zał. nr 5 jednostki'!A238","v":0},{"$f":"'Zał. nr 5 jednostki'!B238","v":0},{"$f":"'Zał. nr 5 jednostki'!D238","v":0},{"$f":"'Zał. nr 5 jednostki'!E238","v":0},{"$f":"'Zał. nr 5 jednostki'!F238","v":0},{"$f":"'Zał. nr 5 jednostki'!G238","v":0},"0000"]
[{"$f":"'Zał. nr 5 jednostki'!A239","v":0},{"$f":"'Zał. nr 5 jednostki'!B239","v":0},{"$f":"'Zał. nr 5 jednostki'!D239","v":0},{"$f":"'Zał. nr 5 jednostki'!E239","v":0},{"$f":"'Zał. nr 5 jednostki'!F239","v":0},{"$f":"'Zał. nr 5 jednostki'!G239","v":0},"0000"]
[{"$f":"'Zał. nr 5 jednostki'!A240","v":0},{"$f":"'Zał. nr 5 jednostki'!B240","v":0},{"$f":"'Zał. nr 5 jednostki'!D240","v":0},{"$f":"'Zał. nr 5 jednostki'!E240","v":0},{"$f":"'Zał. nr 5 jednostki'!F240","v":0},{"$f":"'Zał. nr 5 jednostki'!G240","v":0},"0000"]
[{"$f":"'Zał. nr 5 jednostki'!A241","v":0},{"$f":"'Zał. nr 5 jednostki'!B241","v":0},{"$f":"'Zał. nr 5 jednostki'!D241","v":0},{"$f":"'Zał. nr 5 jednostki'!E241","v":0},{"$f":"'Zał. nr 5 jednostki'!F241","v":0},{"$f":"'Zał. nr 5 jednostki'!G241","v":0},"0000"]
[{"$f":"'Zał. nr 5 jednostki'!A242","v":0},{"$f":"'Zał. nr 5 jednostki'!B242","v":0},{"$f":"'Zał. nr 5 jednostki'!D242","v":0},{"$f":"'Zał. nr 5 jednostki'!E242","v":0},{"$f":"'Zał. nr 5 jednostki'!F242","v":0},{"$f":"'Zał. nr 5 jednostki'!G242","v":0},"0000"]
[{"$f":"'Zał. nr 5 jednostki'!A243","v":0},{"$f":"'Zał. nr 5 jednostki'!B243","v":0},{"$f":"'Zał. nr 5 jednostki'!D243","v":0},{"$f":"'Zał. nr 5 jednostki'!E243","v":0},{"$f":"'Zał. nr 5 jednostki'!F243","v":0},{"$f":"'Zał. nr 5 jednostki'!G243","v":0},"0000"]
[{"$f":"'Zał. nr 5 jednostki'!A244","v":0},{"$f":"'Zał. nr 5 jednostki'!B244","v":0},{"$f":"'Zał. nr 5 jednostki'!D244","v":0},{"$f":"'Zał. nr 5 jednostki'!E244","v":0},{"$f":"'Zał. nr 5 jednostki'!F244","v":0},{"$f":"'Zał. nr 5 jednostki'!G244","v":0},"0000"]
[{"$f":"'Zał. nr 5 jednostki'!A245","v":0},{"$f":"'Zał. nr 5 jednostki'!B245","v":0},{"$f":"'Zał. nr 5 jednostki'!D245","v":0},{"$f":"'Zał. nr 5 jednostki'!E245","v":0},{"$f":"'Zał. nr 5 jednostki'!F245","v":0},{"$f":"'Zał. nr 5 jednostki'!G245","v":0},"0000"]
[{"$f":"'Zał. nr 5 jednostki'!A246","v":0},{"$f":"'Zał. nr 5 jednostki'!B246","v":0},{"$f":"'Zał. nr 5 jednostki'!D246","v":0},{"$f":"'Zał. nr 5 jednostki'!E246","v":0},{"$f":"'Zał. nr 5 jednostki'!F246","v":0},{"$f":"'Zał. nr 5 jednostki'!G246","v":0},"0000"]
[{"$f":"'Zał. nr 5 jednostki'!A247","v":0},{"$f":"'Zał. nr 5 jednostki'!B247","v":0},{"$f":"'Zał. nr 5 jednostki'!D247","v":0},{"$f":"'Zał. nr 5 jednostki'!E247","v":0},{"$f":"'Zał. nr 5 jednostki'!F247","v":0},{"$f":"'Zał. nr 5 jednostki'!G247","v":0},"0000"]
[{"$f":"'Zał. nr 5 jednostki'!A248","v":0},{"$f":"'Zał. nr 5 jednostki'!B248","v":0},{"$f":"'Zał. nr 5 jednostki'!D248","v":0},{"$f":"'Zał. nr 5 jednostki'!E248","v":0},{"$f":"'Zał. nr 5 jednostki'!F248","v":0},{"$f":"'Zał. nr 5 jednostki'!G248","v":0},"0000"]
[{"$f":"'Zał. nr 5 jednostki'!A249","v":0},{"$f":"'Zał. nr 5 jednostki'!B249","v":0},{"$f":"'Zał. nr 5 jednostki'!D249","v":0},{"$f":"'Zał. nr 5 jednostki'!E249","v":0},{"$f":"'Zał. nr 5 jednostki'!F249","v":0},{"$f":"'Zał. nr 5 jednostki'!G249","v":0},"0000"]
[{"$f":"'Zał. nr 5 jednostki'!A250","v":0},{"$f":"'Zał. nr 5 jednostki'!B250","v":0},{"$f":"'Zał. nr 5 jednostki'!D250","v":0},{"$f":"'Zał. nr 5 jednostki'!E250","v":0},{"$f":"'Zał. nr 5 jednostki'!F250","v":0},{"$f":"'Zał. nr 5 jednostki'!G250","v":0},"0000"]
[{"$f":"'Zał. nr 5 jednostki'!A251","v":0},{"$f":"'Zał. nr 5 jednostki'!B251","v":0},{"$f":"'Zał. nr 5 jednostki'!D251","v":0},{"$f":"'Zał. nr 5 jednostki'!E251","v":0},{"$f":"'Zał. nr 5 jednostki'!F251","v":0},{"$f":"'Zał. nr 5 jednostki'!G251","v":0},"0000"]
[{"$f":"'Zał. nr 5 jednostki'!A252","v":0},{"$f":"'Zał. nr 5 jednostki'!B252","v":0},{"$f":"'Zał. nr 5 jednostki'!D252","v":0},{"$f":"'Zał. nr 5 jednostki'!E252","v":0},{"$f":"'Zał. nr 5 jednostki'!F252","v":0},{"$f":"'Zał. nr 5 jednostki'!G252","v":0},"0000"]
[{"$f":"'Zał. nr 5 jednostki'!A253","v":0},{"$f":"'Zał. nr 5 jednostki'!B253","v":0},{"$f":"'Zał. nr 5 jednostki'!D253","v":0},{"$f":"'Zał. nr 5 jednostki'!E253","v":0},{"$f":"'Zał. nr 5 jednostki'!F253","v":0},{"$f":"'Zał. nr 5 jednostki'!G253","v":0},"0000"]
[{"$f":"'Zał. nr 5 jednostki'!A254","v":0},{"$f":"'Zał. nr 5 jednostki'!B254","v":0},{"$f":"'Zał. nr 5 jednostki'!D254","v":0},{"$f":"'Zał. nr 5 jednostki'!E254","v":0},{"$f":"'Zał. nr 5 jednostki'!F254","v":0},{"$f":"'Zał. nr 5 jednostki'!G254","v":0},"0000"]
[{"$f":"'Zał. nr 5 jednostki'!A255","v":0},{"$f":"'Zał. nr 5 jednostki'!B255","v":0},{"$f":"'Zał. nr 5 jednostki'!D255","v":0},{"$f":"'Zał. nr 5 jednostki'!E255","v":0},{"$f":"'Zał. nr 5 jednostki'!F255","v":0},{"$f":"'Zał. nr 5 jednostki'!G255","v":0},"0000"]
[{"$f":"'Zał. nr 5 jednostki'!A256","v":0},{"$f":"'Zał. nr 5 jednostki'!B256","v":0},{"$f":"'Zał. nr 5 jednostki'!D256","v":0},{"$f":"'Zał. nr 5 jednostki'!E256","v":0},{"$f":"'Zał. nr 5 jednostki'!F256","v":0},{"$f":"'Zał. nr 5 jednostki'!G256","v":0},"0000"]
[{"$f":"'Zał. nr 5 jednostki'!A257","v":0},{"$f":"'Zał. nr 5 jednostki'!B257","v":0},{"$f":"'Zał. nr 5 jednostki'!D257","v":0},{"$f":"'Zał. nr 5 jednostki'!E257","v":0},{"$f":"'Zał. nr 5 jednostki'!F257","v":0},{"$f":"'Zał. nr 5 jednostki'!G257","v":0},"0000"]
[{"$f":"'Zał. nr 5 jednostki'!A258","v":0},{"$f":"'Zał. nr 5 jednostki'!B258","v":0},{"$f":"'Zał. nr 5 jednostki'!D258","v":0},{"$f":"'Zał. nr 5 jednostki'!E258","v":0},{"$f":"'Zał. nr 5 jednostki'!F258","v":0},{"$f":"'Zał. nr 5 jednostki'!G258","v":0},"0000"]
[{"$f":"'Zał. nr 5 jednostki'!A259","v":0},{"$f":"'Zał. nr 5 jednostki'!B259","v":0},{"$f":"'Zał. nr 5 jednostki'!D259","v":0},{"$f":"'Zał. nr 5 jednostki'!E259","v":0},{"$f":"'Zał. nr 5 jednostki'!F259","v":0},{"$f":"'Zał. nr 5 jednostki'!G259","v":0},"0000"]
[{"$f":"'Zał. nr 5 jednostki'!A260","v":0},{"$f":"'Zał. nr 5 jednostki'!B260","v":0},{"$f":"'Zał. nr 5 jednostki'!D260","v":0},{"$f":"'Zał. nr 5 jednostki'!E260","v":0},{"$f":"'Zał. nr 5 jednostki'!F260","v":0},{"$f":"'Zał. nr 5 jednostki'!G260","v":0},"0000"]
[{"$f":"'Zał. nr 5 jednostki'!A261","v":0},{"$f":"'Zał. nr 5 jednostki'!B261","v":0},{"$f":"'Zał. nr 5 jednostki'!D261","v":0},{"$f":"'Zał. nr 5 jednostki'!E261","v":0},{"$f":"'Zał. nr 5 jednostki'!F261","v":0},{"$f":"'Zał. nr 5 jednostki'!G261","v":0},"0000"]
[{"$f":"'Zał. nr 5 jednostki'!A262","v":0},{"$f":"'Zał. nr 5 jednostki'!B262","v":0},{"$f":"'Zał. nr 5 jednostki'!D262","v":0},{"$f":"'Zał. nr 5 jednostki'!E262","v":0},{"$f":"'Zał. nr 5 jednostki'!F262","v":0},{"$f":"'Zał. nr 5 jednostki'!G262","v":0},"0000"]
[{"$f":"'Zał. nr 5 jednostki'!A263","v":0},{"$f":"'Zał. nr 5 jednostki'!B263","v":0},{"$f":"'Zał. nr 5 jednostki'!D263","v":0},{"$f":"'Zał. nr 5 jednostki'!E263","v":0},{"$f":"'Zał. nr 5 jednostki'!F263","v":0},{"$f":"'Zał. nr 5 jednostki'!G263","v":0},"0000"]
[{"$f":"'Zał. nr 5 jednostki'!A264","v":0},{"$f":"'Zał. nr 5 jednostki'!B264","v":0},{"$f":"'Zał. nr 5 jednostki'!D264","v":0},{"$f":"'Zał. nr 5 jednostki'!E264","v":0},{"$f":"'Zał. nr 5 jednostki'!F264","v":0},{"$f":"'Zał. nr 5 jednostki'!G264","v":0},"0000"]
[{"$f":"'Zał. nr 5 jednostki'!A265","v":0},{"$f":"'Zał. nr 5 jednostki'!B265","v":0},{"$f":"'Zał. nr 5 jednostki'!D265","v":0},{"$f":"'Zał. nr 5 jednostki'!E265","v":0},{"$f":"'Zał. nr 5 jednostki'!F265","v":0},{"$f":"'Zał. nr 5 jednostki'!G265","v":0},"0000"]
[{"$f":"'Zał. nr 5 jednostki'!A266","v":0},{"$f":"'Zał. nr 5 jednostki'!B266","v":0},{"$f":"'Zał. nr 5 jednostki'!D266","v":0},{"$f":"'Zał. nr 5 jednostki'!E266","v":0},{"$f":"'Zał. nr 5 jednostki'!F266","v":0},{"$f":"'Zał. nr 5 jednostki'!G266","v":0},"0000"]
[{"$f":"'Zał. nr 5 jednostki'!A267","v":0},{"$f":"'Zał. nr 5 jednostki'!B267","v":0},{"$f":"'Zał. nr 5 jednostki'!D267","v":0},{"$f":"'Zał. nr 5 jednostki'!E267","v":0},{"$f":"'Zał. nr 5 jednostki'!F267","v":0},{"$f":"'Zał. nr 5 jednostki'!G267","v":0},"0000"]
[{"$f":"'Zał. nr 5 jednostki'!A268","v":0},{"$f":"'Zał. nr 5 jednostki'!B268","v":0},{"$f":"'Zał. nr 5 jednostki'!D268","v":0},{"$f":"'Zał. nr 5 jednostki'!E268","v":0},{"$f":"'Zał. nr 5 jednostki'!F268","v":0},{"$f":"'Zał. nr 5 jednostki'!G268","v":0},"0000"]
[{"$f":"'Zał. nr 5 jednostki'!A269","v":0},{"$f":"'Zał. nr 5 jednostki'!B269","v":0},{"$f":"'Zał. nr 5 jednostki'!D269","v":0},{"$f":"'Zał. nr 5 jednostki'!E269","v":0},{"$f":"'Zał. nr 5 jednostki'!F269","v":0},{"$f":"'Zał. nr 5 jednostki'!G269","v":0},"0000"]
[{"$f":"'Zał. nr 5 jednostki'!A270","v":0},{"$f":"'Zał. nr 5 jednostki'!B270","v":0},{"$f":"'Zał. nr 5 jednostki'!D270","v":0},{"$f":"'Zał. nr 5 jednostki'!E270","v":0},{"$f":"'Zał. nr 5 jednostki'!F270","v":0},{"$f":"'Zał. nr 5 jednostki'!G270","v":0},"0000"]
[{"$f":"'Zał. nr 5 jednostki'!A271","v":0},{"$f":"'Zał. nr 5 jednostki'!B271","v":0},{"$f":"'Zał. nr 5 jednostki'!D271","v":0},{"$f":"'Zał. nr 5 jednostki'!E271","v":0},{"$f":"'Zał. nr 5 jednostki'!F271","v":0},{"$f":"'Zał. nr 5 jednostki'!G271","v":0},"0000"]
[{"$f":"'Zał. nr 5 jednostki'!A272","v":0},{"$f":"'Zał. nr 5 jednostki'!B272","v":0},{"$f":"'Zał. nr 5 jednostki'!D272","v":0},{"$f":"'Zał. nr 5 jednostki'!E272","v":0},{"$f":"'Zał. nr 5 jednostki'!F272","v":0},{"$f":"'Zał. nr 5 jednostki'!G272","v":0},"0000"]
[{"$f":"'Zał. nr 5 jednostki'!A273","v":0},{"$f":"'Zał. nr 5 jednostki'!B273","v":0},{"$f":"'Zał. nr 5 jednostki'!D273","v":0},{"$f":"'Zał. nr 5 jednostki'!E273","v":0},{"$f":"'Zał. nr 5 jednostki'!F273","v":0},{"$f":"'Zał. nr 5 jednostki'!G273","v":0},"0000"]
[{"$f":"'Zał. nr 5 jednostki'!A274","v":0},{"$f":"'Zał. nr 5 jednostki'!B274","v":0},{"$f":"'Zał. nr 5 jednostki'!D274","v":0},{"$f":"'Zał. nr 5 jednostki'!E274","v":0},{"$f":"'Zał. nr 5 jednostki'!F274","v":0},{"$f":"'Zał. nr 5 jednostki'!G274","v":0},"0000"]
[{"$f":"'Zał. nr 5 jednostki'!A275","v":0},{"$f":"'Zał. nr 5 jednostki'!B275","v":0},{"$f":"'Zał. nr 5 jednostki'!D275","v":0},{"$f":"'Zał. nr 5 jednostki'!E275","v":0},{"$f":"'Zał. nr 5 jednostki'!F275","v":0},{"$f":"'Zał. nr 5 jednostki'!G275","v":0},"0000"]
[{"$f":"'Zał. nr 5 jednostki'!A276","v":0},{"$f":"'Zał. nr 5 jednostki'!B276","v":0},{"$f":"'Zał. nr 5 jednostki'!D276","v":0},{"$f":"'Zał. nr 5 jednostki'!E276","v":0},{"$f":"'Zał. nr 5 jednostki'!F276","v":0},{"$f":"'Zał. nr 5 jednostki'!G276","v":0},"0000"]
[{"$f":"'Zał. nr 5 jednostki'!A277","v":0},{"$f":"'Zał. nr 5 jednostki'!B277","v":0},{"$f":"'Zał. nr 5 jednostki'!D277","v":0},{"$f":"'Zał. nr 5 jednostki'!E277","v":0},{"$f":"'Zał. nr 5 jednostki'!F277","v":0},{"$f":"'Zał. nr 5 jednostki'!G277","v":0},"0000"]
[{"$f":"'Zał. nr 5 jednostki'!A278","v":0},{"$f":"'Zał. nr 5 jednostki'!B278","v":0},{"$f":"'Zał. nr 5 jednostki'!D278","v":0},{"$f":"'Zał. nr 5 jednostki'!E278","v":0},{"$f":"'Zał. nr 5 jednostki'!F278","v":0},{"$f":"'Zał. nr 5 jednostki'!G278","v":0},"0000"]
[{"$f":"'Zał. nr 5 jednostki'!A279","v":0},{"$f":"'Zał. nr 5 jednostki'!B279","v":0},{"$f":"'Zał. nr 5 jednostki'!D279","v":0},{"$f":"'Zał. nr 5 jednostki'!E279","v":0},{"$f":"'Zał. nr 5 jednostki'!F279","v":0},{"$f":"'Zał. nr 5 jednostki'!G279","v":0},"0000"]
[{"$f":"'Zał. nr 5 jednostki'!A280","v":0},{"$f":"'Zał. nr 5 jednostki'!B280","v":0},{"$f":"'Zał. nr 5 jednostki'!D280","v":0},{"$f":"'Zał. nr 5 jednostki'!E280","v":0},{"$f":"'Zał. nr 5 jednostki'!F280","v":0},{"$f":"'Zał. nr 5 jednostki'!G280","v":0},"0000"]
[{"$f":"'Zał. nr 5 jednostki'!A281","v":0},{"$f":"'Zał. nr 5 jednostki'!B281","v":0},{"$f":"'Zał. nr 5 jednostki'!D281","v":0},{"$f":"'Zał. nr 5 jednostki'!E281","v":0},{"$f":"'Zał. nr 5 jednostki'!F281","v":0},{"$f":"'Zał. nr 5 jednostki'!G281","v":0},"0000"]
[{"$f":"'Zał. nr 5 jednostki'!A282","v":0},{"$f":"'Zał. nr 5 jednostki'!B282","v":0},{"$f":"'Zał. nr 5 jednostki'!D282","v":0},{"$f":"'Zał. nr 5 jednostki'!E282","v":0},{"$f":"'Zał. nr 5 jednostki'!F282","v":0},{"$f":"'Zał. nr 5 jednostki'!G282","v":0},{"$f":"C258&D258&E258&F258","v":"0000"}]
[{"$f":"'Zał. nr 5 jednostki'!A283","v":0},{"$f":"'Zał. nr 5 jednostki'!B283","v":0},{"$f":"'Zał. nr 5 jednostki'!D283","v":0},{"$f":"'Zał. nr 5 jednostki'!E283","v":0},{"$f":"'Zał. nr 5 jednostki'!F283","v":0},{"$f":"'Zał. nr 5 jednostki'!G283","v":0},"0000"]
[{"$f":"'Zał. nr 5 jednostki'!A284","v":0},{"$f":"'Zał. nr 5 jednostki'!B284","v":0},{"$f":"'Zał. nr 5 jednostki'!D284","v":0},{"$f":"'Zał. nr 5 jednostki'!E284","v":0},{"$f":"'Zał. nr 5 jednostki'!F284","v":0},{"$f":"'Zał. nr 5 jednostki'!G284","v":0},"0000"]
[{"$f":"'Zał. nr 5 jednostki'!A285","v":0},{"$f":"'Zał. nr 5 jednostki'!B285","v":0},{"$f":"'Zał. nr 5 jednostki'!D285","v":0},{"$f":"'Zał. nr 5 jednostki'!E285","v":0},{"$f":"'Zał. nr 5 jednostki'!F285","v":0},{"$f":"'Zał. nr 5 jednostki'!G285","v":0},"0000"]
[{"$f":"'Zał. nr 5 jednostki'!A286","v":0},{"$f":"'Zał. nr 5 jednostki'!B286","v":0},{"$f":"'Zał. nr 5 jednostki'!D286","v":0},{"$f":"'Zał. nr 5 jednostki'!E286","v":0},{"$f":"'Zał. nr 5 jednostki'!F286","v":0},{"$f":"'Zał. nr 5 jednostki'!G286","v":0},"0000"]
[{"$f":"'Zał. nr 5 jednostki'!A287","v":0},{"$f":"'Zał. nr 5 jednostki'!B287","v":0},{"$f":"'Zał. nr 5 jednostki'!D287","v":0},{"$f":"'Zał. nr 5 jednostki'!E287","v":0},{"$f":"'Zał. nr 5 jednostki'!F287","v":0},{"$f":"'Zał. nr 5 jednostki'!G287","v":0},"0000"]
[{"$f":"'Zał. nr 5 jednostki'!A288","v":0},{"$f":"'Zał. nr 5 jednostki'!B288","v":0},{"$f":"'Zał. nr 5 jednostki'!D288","v":0},{"$f":"'Zał. nr 5 jednostki'!E288","v":0},{"$f":"'Zał. nr 5 jednostki'!F288","v":0},{"$f":"'Zał. nr 5 jednostki'!G288","v":0},"0000"]
[{"$f":"'Zał. nr 5 jednostki'!A289","v":0},{"$f":"'Zał. nr 5 jednostki'!B289","v":0},{"$f":"'Zał. nr 5 jednostki'!D289","v":0},{"$f":"'Zał. nr 5 jednostki'!E289","v":0},{"$f":"'Zał. nr 5 jednostki'!F289","v":0},{"$f":"'Zał. nr 5 jednostki'!G289","v":0},"0000"]
[{"$f":"'Zał. nr 5 jednostki'!A290","v":0},{"$f":"'Zał. nr 5 jednostki'!B290","v":0},{"$f":"'Zał. nr 5 jednostki'!D290","v":0},{"$f":"'Zał. nr 5 jednostki'!E290","v":0},{"$f":"'Zał. nr 5 jednostki'!F290","v":0},{"$f":"'Zał. nr 5 jednostki'!G290","v":0},"0000"]
[{"$f":"'Zał. nr 5 jednostki'!A291","v":0},{"$f":"'Zał. nr 5 jednostki'!B291","v":0},{"$f":"'Zał. nr 5 jednostki'!D291","v":0},{"$f":"'Zał. nr 5 jednostki'!E291","v":0},{"$f":"'Zał. nr 5 jednostki'!F291","v":0},{"$f":"'Zał. nr 5 jednostki'!G291","v":0},"0000"]
[{"$f":"'Zał. nr 5 jednostki'!A292","v":0},{"$f":"'Zał. nr 5 jednostki'!B292","v":0},{"$f":"'Zał. nr 5 jednostki'!D292","v":0},{"$f":"'Zał. nr 5 jednostki'!E292","v":0},{"$f":"'Zał. nr 5 jednostki'!F292","v":0},{"$f":"'Zał. nr 5 jednostki'!G292","v":0},"0000"]
[{"$f":"'Zał. nr 5 jednostki'!A293","v":0},{"$f":"'Zał. nr 5 jednostki'!B293","v":0},{"$f":"'Zał. nr 5 jednostki'!D293","v":0},{"$f":"'Zał. nr 5 jednostki'!E293","v":0},{"$f":"'Zał. nr 5 jednostki'!F293","v":0},{"$f":"'Zał. nr 5 jednostki'!G293","v":0},"0000"]
[{"$f":"'Zał. nr 5 jednostki'!A294","v":0},{"$f":"'Zał. nr 5 jednostki'!B294","v":0},{"$f":"'Zał. nr 5 jednostki'!D294","v":0},{"$f":"'Zał. nr 5 jednostki'!E294","v":0},{"$f":"'Zał. nr 5 jednostki'!F294","v":0},{"$f":"'Zał. nr 5 jednostki'!G294","v":0},"0000"]
[{"$f":"'Zał. nr 5 jednostki'!A295","v":0},{"$f":"'Zał. nr 5 jednostki'!B295","v":0},{"$f":"'Zał. nr 5 jednostki'!D295","v":0},{"$f":"'Zał. nr 5 jednostki'!E295","v":0},{"$f":"'Zał. nr 5 jednostki'!F295","v":0},{"$f":"'Zał. nr 5 jednostki'!G295","v":0},"0000"]
[{"$f":"'Zał. nr 5 jednostki'!A296","v":0},{"$f":"'Zał. nr 5 jednostki'!B296","v":0},{"$f":"'Zał. nr 5 jednostki'!D296","v":0},{"$f":"'Zał. nr 5 jednostki'!E296","v":0},{"$f":"'Zał. nr 5 jednostki'!F296","v":0},{"$f":"'Zał. nr 5 jednostki'!G296","v":0},"0000"]
[{"$f":"'Zał. nr 5 jednostki'!A297","v":0},{"$f":"'Zał. nr 5 jednostki'!B297","v":0},{"$f":"'Zał. nr 5 jednostki'!D297","v":0},{"$f":"'Zał. nr 5 jednostki'!E297","v":0},{"$f":"'Zał. nr 5 jednostki'!F297","v":0},{"$f":"'Zał. nr 5 jednostki'!G297","v":0},"0000"]
[{"$f":"'Zał. nr 5 jednostki'!A298","v":0},{"$f":"'Zał. nr 5 jednostki'!B298","v":0},{"$f":"'Zał. nr 5 jednostki'!D298","v":0},{"$f":"'Zał. nr 5 jednostki'!E298","v":0},{"$f":"'Zał. nr 5 jednostki'!F298","v":0},{"$f":"'Zał. nr 5 jednostki'!G298","v":0},"0000"]
[{"$f":"'Zał. nr 5 jednostki'!A299","v":0},{"$f":"'Zał. nr 5 jednostki'!B299","v":0},{"$f":"'Zał. nr 5 jednostki'!D299","v":0},{"$f":"'Zał. nr 5 jednostki'!E299","v":0},{"$f":"'Zał. nr 5 jednostki'!F299","v":0},{"$f":"'Zał. nr 5 jednostki'!G299","v":0},"0000"]
[{"$f":"'Zał. nr 5 jednostki'!A300","v":0},{"$f":"'Zał. nr 5 jednostki'!B300","v":0},{"$f":"'Zał. nr 5 jednostki'!D300","v":0},{"$f":"'Zał. nr 5 jednostki'!E300","v":0},{"$f":"'Zał. nr 5 jednostki'!F300","v":0},{"$f":"'Zał. nr 5 jednostki'!G300","v":0},"0000"]
[{"$f":"'Zał. nr 5 jednostki'!A301","v":0},{"$f":"'Zał. nr 5 jednostki'!B301","v":0},{"$f":"'Zał. nr 5 jednostki'!D301","v":0},{"$f":"'Zał. nr 5 jednostki'!E301","v":0},{"$f":"'Zał. nr 5 jednostki'!F301","v":0},{"$f":"'Zał. nr 5 jednostki'!G301","v":0},"0000"]
[{"$f":"'Zał. nr 5 jednostki'!A302","v":0},{"$f":"'Zał. nr 5 jednostki'!B302","v":0},{"$f":"'Zał. nr 5 jednostki'!D302","v":0},{"$f":"'Zał. nr 5 jednostki'!E302","v":0},{"$f":"'Zał. nr 5 jednostki'!F302","v":0},{"$f":"'Zał. nr 5 jednostki'!G302","v":0},"0000"]
[{"$f":"'Zał. nr 5 jednostki'!A303","v":0},{"$f":"'Zał. nr 5 jednostki'!B303","v":0},{"$f":"'Zał. nr 5 jednostki'!D303","v":0},{"$f":"'Zał. nr 5 jednostki'!E303","v":0},{"$f":"'Zał. nr 5 jednostki'!F303","v":0},{"$f":"'Zał. nr 5 jednostki'!G303","v":0},"0000"]
[{"$f":"'Zał. nr 5 jednostki'!A304","v":0},{"$f":"'Zał. nr 5 jednostki'!B304","v":0},{"$f":"'Zał. nr 5 jednostki'!D304","v":0},{"$f":"'Zał. nr 5 jednostki'!E304","v":0},{"$f":"'Zał. nr 5 jednostki'!F304","v":0},{"$f":"'Zał. nr 5 jednostki'!G304","v":0},"0000"]
[{"$f":"'Zał. nr 5 jednostki'!A305","v":0},{"$f":"'Zał. nr 5 jednostki'!B305","v":0},{"$f":"'Zał. nr 5 jednostki'!D305","v":0},{"$f":"'Zał. nr 5 jednostki'!E305","v":0},{"$f":"'Zał. nr 5 jednostki'!F305","v":0},{"$f":"'Zał. nr 5 jednostki'!G305","v":0},"0000"]
[{"$f":"'Zał. nr 5 jednostki'!A306","v":0},{"$f":"'Zał. nr 5 jednostki'!B306","v":0},{"$f":"'Zał. nr 5 jednostki'!D306","v":0},{"$f":"'Zał. nr 5 jednostki'!E306","v":0},{"$f":"'Zał. nr 5 jednostki'!F306","v":0},{"$f":"'Zał. nr 5 jednostki'!G306","v":0},"0000"]
[{"$f":"'Zał. nr 5 jednostki'!A307","v":0},{"$f":"'Zał. nr 5 jednostki'!B307","v":0},{"$f":"'Zał. nr 5 jednostki'!D307","v":0},{"$f":"'Zał. nr 5 jednostki'!E307","v":0},{"$f":"'Zał. nr 5 jednostki'!F307","v":0},{"$f":"'Zał. nr 5 jednostki'!G307","v":0},"0000"]
[{"$f":"'Zał. nr 5 jednostki'!A308","v":0},{"$f":"'Zał. nr 5 jednostki'!B308","v":0},{"$f":"'Zał. nr 5 jednostki'!D308","v":0},{"$f":"'Zał. nr 5 jednostki'!E308","v":0},{"$f":"'Zał. nr 5 jednostki'!F308","v":0},{"$f":"'Zał. nr 5 jednostki'!G308","v":0},"0000"]
[{"$f":"'Zał. nr 5 jednostki'!A309","v":0},{"$f":"'Zał. nr 5 jednostki'!B309","v":0},{"$f":"'Zał. nr 5 jednostki'!D309","v":0},{"$f":"'Zał. nr 5 jednostki'!E309","v":0},{"$f":"'Zał. nr 5 jednostki'!F309","v":0},{"$f":"'Zał. nr 5 jednostki'!G309","v":0},"0000"]
[{"$f":"'Zał. nr 5 jednostki'!A310","v":0},{"$f":"'Zał. nr 5 jednostki'!B310","v":0},{"$f":"'Zał. nr 5 jednostki'!D310","v":0},{"$f":"'Zał. nr 5 jednostki'!E310","v":0},{"$f":"'Zał. nr 5 jednostki'!F310","v":0},{"$f":"'Zał. nr 5 jednostki'!G310","v":0},"0000"]
[{"$f":"'Zał. nr 5 jednostki'!A311","v":0},{"$f":"'Zał. nr 5 jednostki'!B311","v":0},{"$f":"'Zał. nr 5 jednostki'!D311","v":0},{"$f":"'Zał. nr 5 jednostki'!E311","v":0},{"$f":"'Zał. nr 5 jednostki'!F311","v":0},{"$f":"'Zał. nr 5 jednostki'!G311","v":0},"0000"]
[{"$f":"'Zał. nr 5 jednostki'!A312","v":0},{"$f":"'Zał. nr 5 jednostki'!B312","v":0},{"$f":"'Zał. nr 5 jednostki'!D312","v":0},{"$f":"'Zał. nr 5 jednostki'!E312","v":0},{"$f":"'Zał. nr 5 jednostki'!F312","v":0},{"$f":"'Zał. nr 5 jednostki'!G312","v":0},"0000"]
[{"$f":"'Zał. nr 5 jednostki'!A313","v":0},{"$f":"'Zał. nr 5 jednostki'!B313","v":0},{"$f":"'Zał. nr 5 jednostki'!D313","v":0},{"$f":"'Zał. nr 5 jednostki'!E313","v":0},{"$f":"'Zał. nr 5 jednostki'!F313","v":0},{"$f":"'Zał. nr 5 jednostki'!G313","v":0},"0000"]
[{"$f":"'Zał. nr 5 jednostki'!A314","v":0},{"$f":"'Zał. nr 5 jednostki'!B314","v":0},{"$f":"'Zał. nr 5 jednostki'!D314","v":0},{"$f":"'Zał. nr 5 jednostki'!E314","v":0},{"$f":"'Zał. nr 5 jednostki'!F314","v":0},{"$f":"'Zał. nr 5 jednostki'!G314","v":0},"0000"]
[{"$f":"'Zał. nr 5 jednostki'!A315","v":0},{"$f":"'Zał. nr 5 jednostki'!B315","v":0},{"$f":"'Zał. nr 5 jednostki'!D315","v":0},{"$f":"'Zał. nr 5 jednostki'!E315","v":0},{"$f":"'Zał. nr 5 jednostki'!F315","v":0},{"$f":"'Zał. nr 5 jednostki'!G315","v":0},"0000"]
[{"$f":"'Zał. nr 5 jednostki'!A316","v":0},{"$f":"'Zał. nr 5 jednostki'!B316","v":0},{"$f":"'Zał. nr 5 jednostki'!D316","v":0},{"$f":"'Zał. nr 5 jednostki'!E316","v":0},{"$f":"'Zał. nr 5 jednostki'!F316","v":0},{"$f":"'Zał. nr 5 jednostki'!G316","v":0},"0000"]
[{"$f":"'Zał. nr 5 jednostki'!A317","v":0},{"$f":"'Zał. nr 5 jednostki'!B317","v":0},{"$f":"'Zał. nr 5 jednostki'!D317","v":0},{"$f":"'Zał. nr 5 jednostki'!E317","v":0},{"$f":"'Zał. nr 5 jednostki'!F317","v":0},{"$f":"'Zał. nr 5 jednostki'!G317","v":0},"0000"]
[{"$f":"'Zał. nr 5 jednostki'!A318","v":0},{"$f":"'Zał. nr 5 jednostki'!B318","v":0},{"$f":"'Zał. nr 5 jednostki'!D318","v":0},{"$f":"'Zał. nr 5 jednostki'!E318","v":0},{"$f":"'Zał. nr 5 jednostki'!F318","v":0},{"$f":"'Zał. nr 5 jednostki'!G318","v":0},"0000"]
[{"$f":"'Zał. nr 5 jednostki'!A319","v":0},{"$f":"'Zał. nr 5 jednostki'!B319","v":0},{"$f":"'Zał. nr 5 jednostki'!D319","v":0},{"$f":"'Zał. nr 5 jednostki'!E319","v":0},{"$f":"'Zał. nr 5 jednostki'!F319","v":0},{"$f":"'Zał. nr 5 jednostki'!G319","v":0},"0000"]
[{"$f":"'Zał. nr 5 jednostki'!A320","v":0},{"$f":"'Zał. nr 5 jednostki'!B320","v":0},{"$f":"'Zał. nr 5 jednostki'!D320","v":0},{"$f":"'Zał. nr 5 jednostki'!E320","v":0},{"$f":"'Zał. nr 5 jednostki'!F320","v":0},{"$f":"'Zał. nr 5 jednostki'!G320","v":0},"0000"]
[{"$f":"'Zał. nr 5 jednostki'!A321","v":0},{"$f":"'Zał. nr 5 jednostki'!B321","v":0},{"$f":"'Zał. nr 5 jednostki'!D321","v":0},{"$f":"'Zał. nr 5 jednostki'!E321","v":0},{"$f":"'Zał. nr 5 jednostki'!F321","v":0},{"$f":"'Zał. nr 5 jednostki'!G321","v":0},"0000"]
[{"$f":"'Zał. nr 5 jednostki'!A322","v":0},{"$f":"'Zał. nr 5 jednostki'!B322","v":0},{"$f":"'Zał. nr 5 jednostki'!D322","v":0},{"$f":"'Zał. nr 5 jednostki'!E322","v":0},{"$f":"'Zał. nr 5 jednostki'!F322","v":0},{"$f":"'Zał. nr 5 jednostki'!G322","v":0},"0000"]
[{"$f":"'Zał. nr 5 jednostki'!A323","v":0},{"$f":"'Zał. nr 5 jednostki'!B323","v":0},{"$f":"'Zał. nr 5 jednostki'!D323","v":0},{"$f":"'Zał. nr 5 jednostki'!E323","v":0},{"$f":"'Zał. nr 5 jednostki'!F323","v":0},{"$f":"'Zał. nr 5 jednostki'!G323","v":0},"0000"]
[{"$f":"'Zał. nr 5 jednostki'!A324","v":0},{"$f":"'Zał. nr 5 jednostki'!B324","v":0},{"$f":"'Zał. nr 5 jednostki'!D324","v":0},{"$f":"'Zał. nr 5 jednostki'!E324","v":0},{"$f":"'Zał. nr 5 jednostki'!F324","v":0},{"$f":"'Zał. nr 5 jednostki'!G324","v":0},"0000"]
[{"$f":"'Zał. nr 5 jednostki'!A325","v":0},{"$f":"'Zał. nr 5 jednostki'!B325","v":0},{"$f":"'Zał. nr 5 jednostki'!D325","v":0},{"$f":"'Zał. nr 5 jednostki'!E325","v":0},{"$f":"'Zał. nr 5 jednostki'!F325","v":0},{"$f":"'Zał. nr 5 jednostki'!G325","v":0},{"$f":"C301&D301&E301&F301","v":"0000"}]

{"sheet":"Weryfikacja 2026 r.","index":12,"n_rows":307,"n_cols":18,"rows_kept":307,"cut":false,"hidden":true,"merged":[[0,1,0,11],[154,1,154,16]]}
[null,"Dane z wniosku",null,null,null,null,null,null,null,null,null,null,"ok"]
["l.p","NAZWA LINII","Dł.linii","Częstotliwość","WOZOKILOMETRY","DEFICYT","CENA USŁUGI","WKŁAD WŁASNY/KM [ZŁ]","WKŁAD WŁASNY [%]","WKŁAD WŁASNY [ZŁ]","KWOTA DOPŁATY","STAWKA MAX Z UMOWY","X"]
[{"$f":"'Wniosek 2026 r.'!A39","v":1},{"$f":"'Wniosek 2026 r.'!B39","v":0},{"$f":"'Wniosek 2026 r.'!E39","v":0},{"$f":"'Wniosek 2026 r.'!G39","v":0},{"$f":"'Wniosek 2026 r.'!C202","v":0},{"$f":"'Wniosek 2026 r.'!C512","v":0},{"$f":"'Wniosek 2026 r.'!C358","v":0},{"$f":"'Wniosek 2026 r.'!D358","v":0},{"$f":"'Wniosek 2026 r.'!F358","v":0},{"$f":"'Wniosek 2026 r.'!H358","v":0},{"$f":"'Wniosek 2026 r.'!C667","v":0},3]
[{"$f":"'Wniosek 2026 r.'!A40","v":2},{"$f":"'Wniosek 2026 r.'!B40","v":0},{"$f":"'Wniosek 2026 r.'!E40","v":0},{"$f":"'Wniosek 2026 r.'!G40","v":0},{"$f":"'Wniosek 2026 r.'!C203","v":0},{"$f":"'Wniosek 2026 r.'!C513","v":0},{"$f":"'Wniosek 2026 r.'!C359","v":0},{"$f":"'Wniosek 2026 r.'!D359","v":0},{"$f":"'Wniosek 2026 r.'!F359","v":0},{"$f":"'Wniosek 2026 r.'!H359","v":0},{"$f":"'Wniosek 2026 r.'!C668","v":0}]
[{"$f":"'Wniosek 2026 r.'!A41","v":3},{"$f":"'Wniosek 2026 r.'!B41","v":0},{"$f":"'Wniosek 2026 r.'!E41","v":0},{"$f":"'Wniosek 2026 r.'!G41","v":0},{"$f":"'Wniosek 2026 r.'!C204","v":0},{"$f":"'Wniosek 2026 r.'!C514","v":0},{"$f":"'Wniosek 2026 r.'!C360","v":0},{"$f":"'Wniosek 2026 r.'!D360","v":0},{"$f":"'Wniosek 2026 r.'!F360","v":0},{"$f":"'Wniosek 2026 r.'!H360","v":0},{"$f":"'Wniosek 2026 r.'!C669","v":0}]
[{"$f":"'Wniosek 2026 r.'!A42","v":4},{"$f":"'Wniosek 2026 r.'!B42","v":0},{"$f":"'Wniosek 2026 r.'!E42","v":0},{"$f":"'Wniosek 2026 r.'!G42","v":0},{"$f":"'Wniosek 2026 r.'!C205","v":0},{"$f":"'Wniosek 2026 r.'!C515","v":0},{"$f":"'Wniosek 2026 r.'!C361","v":0},{"$f":"'Wniosek 2026 r.'!D361","v":0},{"$f":"'Wniosek 2026 r.'!F361","v":0},{"$f":"'Wniosek 2026 r.'!H361","v":0},{"$f":"'Wniosek 2026 r.'!C670","v":0}]
[{"$f":"'Wniosek 2026 r.'!A43","v":5},{"$f":"'Wniosek 2026 r.'!B43","v":0},{"$f":"'Wniosek 2026 r.'!E43","v":0},{"$f":"'Wniosek 2026 r.'!G43","v":0},{"$f":"'Wniosek 2026 r.'!C206","v":0},{"$f":"'Wniosek 2026 r.'!C516","v":0},{"$f":"'Wniosek 2026 r.'!C362","v":0},{"$f":"'Wniosek 2026 r.'!D362","v":0},{"$f":"'Wniosek 2026 r.'!F362","v":0},{"$f":"'Wniosek 2026 r.'!H362","v":0},{"$f":"'Wniosek 2026 r.'!C671","v":0}]
[{"$f":"'Wniosek 2026 r.'!A44","v":6},{"$f":"'Wniosek 2026 r.'!B44","v":0},{"$f":"'Wniosek 2026 r.'!E44","v":0},{"$f":"'Wniosek 2026 r.'!G44","v":0},{"$f":"'Wniosek 2026 r.'!C207","v":0},{"$f":"'Wniosek 2026 r.'!C517","v":0},{"$f":"'Wniosek 2026 r.'!C363","v":0},{"$f":"'Wniosek 2026 r.'!D363","v":0},{"$f":"'Wniosek 2026 r.'!F363","v":0},{"$f":"'Wniosek 2026 r.'!H363","v":0},{"$f":"'Wniosek 2026 r.'!C672","v":0}]
[{"$f":"'Wniosek 2026 r.'!A45","v":7},{"$f":"'Wniosek 2026 r.'!B45","v":0},{"$f":"'Wniosek 2026 r.'!E45","v":0},{"$f":"'Wniosek 2026 r.'!G45","v":0},{"$f":"'Wniosek 2026 r.'!C208","v":0},{"$f":"'Wniosek 2026 r.'!C518","v":0},{"$f":"'Wniosek 2026 r.'!C364","v":0},{"$f":"'Wniosek 2026 r.'!D364","v":0},{"$f":"'Wniosek 2026 r.'!F364","v":0},{"$f":"'Wniosek 2026 r.'!H364","v":0},{"$f":"'Wniosek 2026 r.'!C673","v":0}]
[{"$f":"'Wniosek 2026 r.'!A46","v":8},{"$f":"'Wniosek 2026 r.'!B46","v":0},{"$f":"'Wniosek 2026 r.'!E46","v":0},{"$f":"'Wniosek 2026 r.'!G46","v":0},{"$f":"'Wniosek 2026 r.'!C209","v":0},{"$f":"'Wniosek 2026 r.'!C519","v":0},{"$f":"'Wniosek 2026 r.'!C365","v":0},{"$f":"'Wniosek 2026 r.'!D365","v":0},{"$f":"'Wniosek 2026 r.'!F365","v":0},{"$f":"'Wniosek 2026 r.'!H365","v":0},{"$f":"'Wniosek 2026 r.'!C674","v":0}]
[{"$f":"'Wniosek 2026 r.'!A47","v":9},{"$f":"'Wniosek 2026 r.'!B47","v":0},{"$f":"'Wniosek 2026 r.'!E47","v":0},{"$f":"'Wniosek 2026 r.'!G47","v":0},{"$f":"'Wniosek 2026 r.'!C210","v":0},{"$f":"'Wniosek 2026 r.'!C520","v":0},{"$f":"'Wniosek 2026 r.'!C366","v":0},{"$f":"'Wniosek 2026 r.'!D366","v":0},{"$f":"'Wniosek 2026 r.'!F366","v":0},{"$f":"'Wniosek 2026 r.'!H366","v":0},{"$f":"'Wniosek 2026 r.'!C675","v":0}]
[{"$f":"'Wniosek 2026 r.'!A48","v":10},{"$f":"'Wniosek 2026 r.'!B48","v":0},{"$f":"'Wniosek 2026 r.'!E48","v":0},{"$f":"'Wniosek 2026 r.'!G48","v":0},{"$f":"'Wniosek 2026 r.'!C211","v":0},{"$f":"'Wniosek 2026 r.'!C521","v":0},{"$f":"'Wniosek 2026 r.'!C367","v":0},{"$f":"'Wniosek 2026 r.'!D367","v":0},{"$f":"'Wniosek 2026 r.'!F367","v":0},{"$f":"'Wniosek 2026 r.'!H367","v":0},{"$f":"'Wniosek 2026 r.'!C676","v":0}]
[{"$f":"'Wniosek 2026 r.'!A49","v":11},{"$f":"'Wniosek 2026 r.'!B49","v":0},{"$f":"'Wniosek 2026 r.'!E49","v":0},{"$f":"'Wniosek 2026 r.'!G49","v":0},{"$f":"'Wniosek 2026 r.'!C212","v":0},{"$f":"'Wniosek 2026 r.'!C522","v":0},{"$f":"'Wniosek 2026 r.'!C368","v":0},{"$f":"'Wniosek 2026 r.'!D368","v":0},{"$f":"'Wniosek 2026 r.'!F368","v":0},{"$f":"'Wniosek 2026 r.'!H368","v":0},{"$f":"'Wniosek 2026 r.'!C677","v":0}]
[{"$f":"'Wniosek 2026 r.'!A50","v":12},{"$f":"'Wniosek 2026 r.'!B50","v":0},{"$f":"'Wniosek 2026 r.'!E50","v":0},{"$f":"'Wniosek 2026 r.'!G50","v":0},{"$f":"'Wniosek 2026 r.'!C213","v":0},{"$f":"'Wniosek 2026 r.'!C523","v":0},{"$f":"'Wniosek 2026 r.'!C369","v":0},{"$f":"'Wniosek 2026 r.'!D369","v":0},{"$f":"'Wniosek 2026 r.'!F369","v":0},{"$f":"'Wniosek 2026 r.'!H369","v":0},{"$f":"'Wniosek 2026 r.'!C678","v":0}]
[{"$f":"'Wniosek 2026 r.'!A51","v":13},{"$f":"'Wniosek 2026 r.'!B51","v":0},{"$f":"'Wniosek 2026 r.'!E51","v":0},{"$f":"'Wniosek 2026 r.'!G51","v":0},{"$f":"'Wniosek 2026 r.'!C214","v":0},{"$f":"'Wniosek 2026 r.'!C524","v":0},{"$f":"'Wniosek 2026 r.'!C370","v":0},{"$f":"'Wniosek 2026 r.'!D370","v":0},{"$f":"'Wniosek 2026 r.'!F370","v":0},{"$f":"'Wniosek 2026 r.'!H370","v":0},{"$f":"'Wniosek 2026 r.'!C679","v":0}]
[{"$f":"'Wniosek 2026 r.'!A52","v":14},{"$f":"'Wniosek 2026 r.'!B52","v":0},{"$f":"'Wniosek 2026 r.'!E52","v":0},{"$f":"'Wniosek 2026 r.'!G52","v":0},{"$f":"'Wniosek 2026 r.'!C215","v":0},{"$f":"'Wniosek 2026 r.'!C525","v":0},{"$f":"'Wniosek 2026 r.'!C371","v":0},{"$f":"'Wniosek 2026 r.'!D371","v":0},{"$f":"'Wniosek 2026 r.'!F371","v":0},{"$f":"'Wniosek 2026 r.'!H371","v":0},{"$f":"'Wniosek 2026 r.'!C680","v":0}]
[{"$f":"'Wniosek 2026 r.'!A53","v":15},{"$f":"'Wniosek 2026 r.'!B53","v":0},{"$f":"'Wniosek 2026 r.'!E53","v":0},{"$f":"'Wniosek 2026 r.'!G53","v":0},{"$f":"'Wniosek 2026 r.'!C216","v":0},{"$f":"'Wniosek 2026 r.'!C526","v":0},{"$f":"'Wniosek 2026 r.'!C372","v":0},{"$f":"'Wniosek 2026 r.'!D372","v":0},{"$f":"'Wniosek 2026 r.'!F372","v":0},{"$f":"'Wniosek 2026 r.'!H372","v":0},{"$f":"'Wniosek 2026 r.'!C681","v":0}]
[{"$f":"'Wniosek 2026 r.'!A54","v":16},{"$f":"'Wniosek 2026 r.'!B54","v":0},{"$f":"'Wniosek 2026 r.'!E54","v":0},{"$f":"'Wniosek 2026 r.'!G54","v":0},{"$f":"'Wniosek 2026 r.'!C217","v":0},{"$f":"'Wniosek 2026 r.'!C527","v":0},{"$f":"'Wniosek 2026 r.'!C373","v":0},{"$f":"'Wniosek 2026 r.'!D373","v":0},{"$f":"'Wniosek 2026 r.'!F373","v":0},{"$f":"'Wniosek 2026 r.'!H373","v":0},{"$f":"'Wniosek 2026 r.'!C682","v":0}]
[{"$f":"'Wniosek 2026 r.'!A55","v":17},{"$f":"'Wniosek 2026 r.'!B55","v":0},{"$f":"'Wniosek 2026 r.'!E55","v":0},{"$f":"'Wniosek 2026 r.'!G55","v":0},{"$f":"'Wniosek 2026 r.'!C218","v":0},{"$f":"'Wniosek 2026 r.'!C528","v":0},{"$f":"'Wniosek 2026 r.'!C374","v":0},{"$f":"'Wniosek 2026 r.'!D374","v":0},{"$f":"'Wniosek 2026 r.'!F374","v":0},{"$f":"'Wniosek 2026 r.'!H374","v":0},{"$f":"'Wniosek 2026 r.'!C683","v":0}]
[{"$f":"'Wniosek 2026 r.'!A56","v":18},{"$f":"'Wniosek 2026 r.'!B56","v":0},{"$f":"'Wniosek 2026 r.'!E56","v":0},{"$f":"'Wniosek 2026 r.'!G56","v":0},{"$f":"'Wniosek 2026 r.'!C219","v":0},{"$f":"'Wniosek 2026 r.'!C529","v":0},{"$f":"'Wniosek 2026 r.'!C375","v":0},{"$f":"'Wniosek 2026 r.'!D375","v":0},{"$f":"'Wniosek 2026 r.'!F375","v":0},{"$f":"'Wniosek 2026 r.'!H375","v":0},{"$f":"'Wniosek 2026 r.'!C684","v":0}]
[{"$f":"'Wniosek 2026 r.'!A57","v":19},{"$f":"'Wniosek 2026 r.'!B57","v":0},{"$f":"'Wniosek 2026 r.'!E57","v":0},{"$f":"'Wniosek 2026 r.'!G57","v":0},{"$f":"'Wniosek 2026 r.'!C220","v":0},{"$f":"'Wniosek 2026 r.'!C530","v":0},{"$f":"'Wniosek 2026 r.'!C376","v":0},{"$f":"'Wniosek 2026 r.'!D376","v":0},{"$f":"'Wniosek 2026 r.'!F376","v":0},{"$f":"'Wniosek 2026 r.'!H376","v":0},{"$f":"'Wniosek 2026 r.'!C685","v":0}]
[{"$f":"'Wniosek 2026 r.'!A58","v":20},{"$f":"'Wniosek 2026 r.'!B58","v":0},{"$f":"'Wniosek 2026 r.'!E58","v":0},{"$f":"'Wniosek 2026 r.'!G58","v":0},{"$f":"'Wniosek 2026 r.'!C221","v":0},{"$f":"'Wniosek 2026 r.'!C531","v":0},{"$f":"'Wniosek 2026 r.'!C377","v":0},{"$f":"'Wniosek 2026 r.'!D377","v":0},{"$f":"'Wniosek 2026 r.'!F377","v":0},{"$f":"'Wniosek 2026 r.'!H377","v":0},{"$f":"'Wniosek 2026 r.'!C686","v":0}]
[{"$f":"'Wniosek 2026 r.'!A59","v":21},{"$f":"'Wniosek 2026 r.'!B59","v":0},{"$f":"'Wniosek 2026 r.'!E59","v":0},{"$f":"'Wniosek 2026 r.'!G59","v":0},{"$f":"'Wniosek 2026 r.'!C222","v":0},{"$f":"'Wniosek 2026 r.'!C532","v":0},{"$f":"'Wniosek 2026 r.'!C378","v":0},{"$f":"'Wniosek 2026 r.'!D378","v":0},{"$f":"'Wniosek 2026 r.'!F378","v":0},{"$f":"'Wniosek 2026 r.'!H378","v":0},{"$f":"'Wniosek 2026 r.'!C687","v":0}]
[{"$f":"'Wniosek 2026 r.'!A60","v":22},{"$f":"'Wniosek 2026 r.'!B60","v":0},{"$f":"'Wniosek 2026 r.'!E60","v":0},{"$f":"'Wniosek 2026 r.'!G60","v":0},{"$f":"'Wniosek 2026 r.'!C223","v":0},{"$f":"'Wniosek 2026 r.'!C533","v":0},{"$f":"'Wniosek 2026 r.'!C379","v":0},{"$f":"'Wniosek 2026 r.'!D379","v":0},{"$f":"'Wniosek 2026 r.'!F379","v":0},{"$f":"'Wniosek 2026 r.'!H379","v":0},{"$f":"'Wniosek 2026 r.'!C688","v":0}]
[{"$f":"'Wniosek 2026 r.'!A61","v":23},{"$f":"'Wniosek 2026 r.'!B61","v":0},{"$f":"'Wniosek 2026 r.'!E61","v":0},{"$f":"'Wniosek 2026 r.'!G61","v":0},{"$f":"'Wniosek 2026 r.'!C224","v":0},{"$f":"'Wniosek 2026 r.'!C534","v":0},{"$f":"'Wniosek 2026 r.'!C380","v":0},{"$f":"'Wniosek 2026 r.'!D380","v":0},{"$f":"'Wniosek 2026 r.'!F380","v":0},{"$f":"'Wniosek 2026 r.'!H380","v":0},{"$f":"'Wniosek 2026 r.'!C689","v":0}]
[{"$f":"'Wniosek 2026 r.'!A62","v":24},{"$f":"'Wniosek 2026 r.'!B62","v":0},{"$f":"'Wniosek 2026 r.'!E62","v":0},{"$f":"'Wniosek 2026 r.'!G62","v":0},{"$f":"'Wniosek 2026 r.'!C225","v":0},{"$f":"'Wniosek 2026 r.'!C535","v":0},{"$f":"'Wniosek 2026 r.'!C381","v":0},{"$f":"'Wniosek 2026 r.'!D381","v":0},{"$f":"'Wniosek 2026 r.'!F381","v":0},{"$f":"'Wniosek 2026 r.'!H381","v":0},{"$f":"'Wniosek 2026 r.'!C690","v":0}]
[{"$f":"'Wniosek 2026 r.'!A63","v":25},{"$f":"'Wniosek 2026 r.'!B63","v":0},{"$f":"'Wniosek 2026 r.'!E63","v":0},{"$f":"'Wniosek 2026 r.'!G63","v":0},{"$f":"'Wniosek 2026 r.'!C226","v":0},{"$f":"'Wniosek 2026 r.'!C536","v":0},{"$f":"'Wniosek 2026 r.'!C382","v":0},{"$f":"'Wniosek 2026 r.'!D382","v":0},{"$f":"'Wniosek 2026 r.'!F382","v":0},{"$f":"'Wniosek 2026 r.'!H382","v":0},{"$f":"'Wniosek 2026 r.'!C691","v":0}]
[{"$f":"'Wniosek 2026 r.'!A64","v":26},{"$f":"'Wniosek 2026 r.'!B64","v":0},{"$f":"'Wniosek 2026 r.'!E64","v":0},{"$f":"'Wniosek 2026 r.'!G64","v":0},{"$f":"'Wniosek 2026 r.'!C227","v":0},{"$f":"'Wniosek 2026 r.'!C537","v":0},{"$f":"'Wniosek 2026 r.'!C383","v":0},{"$f":"'Wniosek 2026 r.'!D383","v":0},{"$f":"'Wniosek 2026 r.'!F383","v":0},{"$f":"'Wniosek 2026 r.'!H383","v":0},{"$f":"'Wniosek 2026 r.'!C692","v":0}]
[{"$f":"'Wniosek 2026 r.'!A65","v":27},{"$f":"'Wniosek 2026 r.'!B65","v":0},{"$f":"'Wniosek 2026 r.'!E65","v":0},{"$f":"'Wniosek 2026 r.'!G65","v":0},{"$f":"'Wniosek 2026 r.'!C228","v":0},{"$f":"'Wniosek 2026 r.'!C538","v":0},{"$f":"'Wniosek 2026 r.'!C384","v":0},{"$f":"'Wniosek 2026 r.'!D384","v":0},{"$f":"'Wniosek 2026 r.'!F384","v":0},{"$f":"'Wniosek 2026 r.'!H384","v":0},{"$f":"'Wniosek 2026 r.'!C693","v":0}]
[{"$f":"'Wniosek 2026 r.'!A66","v":28},{"$f":"'Wniosek 2026 r.'!B66","v":0},{"$f":"'Wniosek 2026 r.'!E66","v":0},{"$f":"'Wniosek 2026 r.'!G66","v":0},{"$f":"'Wniosek 2026 r.'!C229","v":0},{"$f":"'Wniosek 2026 r.'!C539","v":0},{"$f":"'Wniosek 2026 r.'!C385","v":0},{"$f":"'Wniosek 2026 r.'!D385","v":0},{"$f":"'Wniosek 2026 r.'!F385","v":0},{"$f":"'Wniosek 2026 r.'!H385","v":0},{"$f":"'Wniosek 2026 r.'!C694","v":0}]
[{"$f":"'Wniosek 2026 r.'!A67","v":29},{"$f":"'Wniosek 2026 r.'!B67","v":0},{"$f":"'Wniosek 2026 r.'!E67","v":0},{"$f":"'Wniosek 2026 r.'!G67","v":0},{"$f":"'Wniosek 2026 r.'!C230","v":0},{"$f":"'Wniosek 2026 r.'!C540","v":0},{"$f":"'Wniosek 2026 r.'!C386","v":0},{"$f":"'Wniosek 2026 r.'!D386","v":0},{"$f":"'Wniosek 2026 r.'!F386","v":0},{"$f":"'Wniosek 2026 r.'!H386","v":0},{"$f":"'Wniosek 2026 r.'!C695","v":0}]
[{"$f":"'Wniosek 2026 r.'!A68","v":30},{"$f":"'Wniosek 2026 r.'!B68","v":0},{"$f":"'Wniosek 2026 r.'!E68","v":0},{"$f":"'Wniosek 2026 r.'!G68","v":0},{"$f":"'Wniosek 2026 r.'!C231","v":0},{"$f":"'Wniosek 2026 r.'!C541","v":0},{"$f":"'Wniosek 2026 r.'!C387","v":0},{"$f":"'Wniosek 2026 r.'!D387","v":0},{"$f":"'Wniosek 2026 r.'!F387","v":0},{"$f":"'Wniosek 2026 r.'!H387","v":0},{"$f":"'Wniosek 2026 r.'!C696","v":0}]
[{"$f":"'Wniosek 2026 r.'!A69","v":31},{"$f":"'Wniosek 2026 r.'!B69","v":0},{"$f":"'Wniosek 2026 r.'!E69","v":0},{"$f":"'Wniosek 2026 r.'!G69","v":0},{"$f":"'Wniosek 2026 r.'!C232","v":0},{"$f":"'Wniosek 2026 r.'!C542","v":0},{"$f":"'Wniosek 2026 r.'!C388","v":0},{"$f":"'Wniosek 2026 r.'!D388","v":0},{"$f":"'Wniosek 2026 r.'!F388","v":0},{"$f":"'Wniosek 2026 r.'!H388","v":0},{"$f":"'Wniosek 2026 r.'!C697","v":0}]
[{"$f":"'Wniosek 2026 r.'!A70","v":32},{"$f":"'Wniosek 2026 r.'!B70","v":0},{"$f":"'Wniosek 2026 r.'!E70","v":0},{"$f":"'Wniosek 2026 r.'!G70","v":0},{"$f":"'Wniosek 2026 r.'!C233","v":0},{"$f":"'Wniosek 2026 r.'!C543","v":0},{"$f":"'Wniosek 2026 r.'!C389","v":0},{"$f":"'Wniosek 2026 r.'!D389","v":0},{"$f":"'Wniosek 2026 r.'!F389","v":0},{"$f":"'Wniosek 2026 r.'!H389","v":0},{"$f":"'Wniosek 2026 r.'!C698","v":0}]
[{"$f":"'Wniosek 2026 r.'!A71","v":33},{"$f":"'Wniosek 2026 r.'!B71","v":0},{"$f":"'Wniosek 2026 r.'!E71","v":0},{"$f":"'Wniosek 2026 r.'!G71","v":0},{"$f":"'Wniosek 2026 r.'!C234","v":0},{"$f":"'Wniosek 2026 r.'!C544","v":0},{"$f":"'Wniosek 2026 r.'!C390","v":0},{"$f":"'Wniosek 2026 r.'!D390","v":0},{"$f":"'Wniosek 2026 r.'!F390","v":0},{"$f":"'Wniosek 2026 r.'!H390","v":0},{"$f":"'Wniosek 2026 r.'!C699","v":0}]
[{"$f":"'Wniosek 2026 r.'!A72","v":34},{"$f":"'Wniosek 2026 r.'!B72","v":0},{"$f":"'Wniosek 2026 r.'!E72","v":0},{"$f":"'Wniosek 2026 r.'!G72","v":0},{"$f":"'Wniosek 2026 r.'!C235","v":0},{"$f":"'Wniosek 2026 r.'!C545","v":0},{"$f":"'Wniosek 2026 r.'!C391","v":0},{"$f":"'Wniosek 2026 r.'!D391","v":0},{"$f":"'Wniosek 2026 r.'!F391","v":0},{"$f":"'Wniosek 2026 r.'!H391","v":0},{"$f":"'Wniosek 2026 r.'!C700","v":0}]
[{"$f":"'Wniosek 2026 r.'!A73","v":35},{"$f":"'Wniosek 2026 r.'!B73","v":0},{"$f":"'Wniosek 2026 r.'!E73","v":0},{"$f":"'Wniosek 2026 r.'!G73","v":0},{"$f":"'Wniosek 2026 r.'!C236","v":0},{"$f":"'Wniosek 2026 r.'!C546","v":0},{"$f":"'Wniosek 2026 r.'!C392","v":0},{"$f":"'Wniosek 2026 r.'!D392","v":0},{"$f":"'Wniosek 2026 r.'!F392","v":0},{"$f":"'Wniosek 2026 r.'!H392","v":0},{"$f":"'Wniosek 2026 r.'!C701","v":0}]
[{"$f":"'Wniosek 2026 r.'!A74","v":36},{"$f":"'Wniosek 2026 r.'!B74","v":0},{"$f":"'Wniosek 2026 r.'!E74","v":0},{"$f":"'Wniosek 2026 r.'!G74","v":0},{"$f":"'Wniosek 2026 r.'!C237","v":0},{"$f":"'Wniosek 2026 r.'!C547","v":0},{"$f":"'Wniosek 2026 r.'!C393","v":0},{"$f":"'Wniosek 2026 r.'!D393","v":0},{"$f":"'Wniosek 2026 r.'!F393","v":0},{"$f":"'Wniosek 2026 r.'!H393","v":0},{"$f":"'Wniosek 2026 r.'!C702","v":0}]
[{"$f":"'Wniosek 2026 r.'!A75","v":37},{"$f":"'Wniosek 2026 r.'!B75","v":0},{"$f":"'Wniosek 2026 r.'!E75","v":0},{"$f":"'Wniosek 2026 r.'!G75","v":0},{"$f":"'Wniosek 2026 r.'!C238","v":0},{"$f":"'Wniosek 2026 r.'!C548","v":0},{"$f":"'Wniosek 2026 r.'!C394","v":0},{"$f":"'Wniosek 2026 r.'!D394","v":0},{"$f":"'Wniosek 2026 r.'!F394","v":0},{"$f":"'Wniosek 2026 r.'!H394","v":0},{"$f":"'Wniosek 2026 r.'!C703","v":0}]
[{"$f":"'Wniosek 2026 r.'!A76","v":38},{"$f":"'Wniosek 2026 r.'!B76","v":0},{"$f":"'Wniosek 2026 r.'!E76","v":0},{"$f":"'Wniosek 2026 r.'!G76","v":0},{"$f":"'Wniosek 2026 r.'!C239","v":0},{"$f":"'Wniosek 2026 r.'!C549","v":0},{"$f":"'Wniosek 2026 r.'!C395","v":0},{"$f":"'Wniosek 2026 r.'!D395","v":0},{"$f":"'Wniosek 2026 r.'!F395","v":0},{"$f":"'Wniosek 2026 r.'!H395","v":0},{"$f":"'Wniosek 2026 r.'!C704","v":0}]
[{"$f":"'Wniosek 2026 r.'!A77","v":39},{"$f":"'Wniosek 2026 r.'!B77","v":0},{"$f":"'Wniosek 2026 r.'!E77","v":0},{"$f":"'Wniosek 2026 r.'!G77","v":0},{"$f":"'Wniosek 2026 r.'!C240","v":0},{"$f":"'Wniosek 2026 r.'!C550","v":0},{"$f":"'Wniosek 2026 r.'!C396","v":0},{"$f":"'Wniosek 2026 r.'!D396","v":0},{"$f":"'Wniosek 2026 r.'!F396","v":0},{"$f":"'Wniosek 2026 r.'!H396","v":0},{"$f":"'Wniosek 2026 r.'!C705","v":0}]
[{"$f":"'Wniosek 2026 r.'!A78","v":40},{"$f":"'Wniosek 2026 r.'!B78","v":0},{"$f":"'Wniosek 2026 r.'!E78","v":0},{"$f":"'Wniosek 2026 r.'!G78","v":0},{"$f":"'Wniosek 2026 r.'!C241","v":0},{"$f":"'Wniosek 2026 r.'!C551","v":0},{"$f":"'Wniosek 2026 r.'!C397","v":0},{"$f":"'Wniosek 2026 r.'!D397","v":0},{"$f":"'Wniosek 2026 r.'!F397","v":0},{"$f":"'Wniosek 2026 r.'!H397","v":0},{"$f":"'Wniosek 2026 r.'!C706","v":0}]
[{"$f":"'Wniosek 2026 r.'!A79","v":41},{"$f":"'Wniosek 2026 r.'!B79","v":0},{"$f":"'Wniosek 2026 r.'!E79","v":0},{"$f":"'Wniosek 2026 r.'!G79","v":0},{"$f":"'Wniosek 2026 r.'!C242","v":0},{"$f":"'Wniosek 2026 r.'!C552","v":0},{"$f":"'Wniosek 2026 r.'!C398","v":0},{"$f":"'Wniosek 2026 r.'!D398","v":0},{"$f":"'Wniosek 2026 r.'!F398","v":0},{"$f":"'Wniosek 2026 r.'!H398","v":0},{"$f":"'Wniosek 2026 r.'!C707","v":0}]
[{"$f":"'Wniosek 2026 r.'!A80","v":42},{"$f":"'Wniosek 2026 r.'!B80","v":0},{"$f":"'Wniosek 2026 r.'!E80","v":0},{"$f":"'Wniosek 2026 r.'!G80","v":0},{"$f":"'Wniosek 2026 r.'!C243","v":0},{"$f":"'Wniosek 2026 r.'!C553","v":0},{"$f":"'Wniosek 2026 r.'!C399","v":0},{"$f":"'Wniosek 2026 r.'!D399","v":0},{"$f":"'Wniosek 2026 r.'!F399","v":0},{"$f":"'Wniosek 2026 r.'!H399","v":0},{"$f":"'Wniosek 2026 r.'!C708","v":0}]
[{"$f":"'Wniosek 2026 r.'!A81","v":43},{"$f":"'Wniosek 2026 r.'!B81","v":0},{"$f":"'Wniosek 2026 r.'!E81","v":0},{"$f":"'Wniosek 2026 r.'!G81","v":0},{"$f":"'Wniosek 2026 r.'!C244","v":0},{"$f":"'Wniosek 2026 r.'!C554","v":0},{"$f":"'Wniosek 2026 r.'!C400","v":0},{"$f":"'Wniosek 2026 r.'!D400","v":0},{"$f":"'Wniosek 2026 r.'!F400","v":0},{"$f":"'Wniosek 2026 r.'!H400","v":0},{"$f":"'Wniosek 2026 r.'!C709","v":0}]
[{"$f":"'Wniosek 2026 r.'!A82","v":44},{"$f":"'Wniosek 2026 r.'!B82","v":0},{"$f":"'Wniosek 2026 r.'!E82","v":0},{"$f":"'Wniosek 2026 r.'!G82","v":0},{"$f":"'Wniosek 2026 r.'!C245","v":0},{"$f":"'Wniosek 2026 r.'!C555","v":0},{"$f":"'Wniosek 2026 r.'!C401","v":0},{"$f":"'Wniosek 2026 r.'!D401","v":0},{"$f":"'Wniosek 2026 r.'!F401","v":0},{"$f":"'Wniosek 2026 r.'!H401","v":0},{"$f":"'Wniosek 2026 r.'!C710","v":0}]
[{"$f":"'Wniosek 2026 r.'!A83","v":45},{"$f":"'Wniosek 2026 r.'!B83","v":0},{"$f":"'Wniosek 2026 r.'!E83","v":0},{"$f":"'Wniosek 2026 r.'!G83","v":0},{"$f":"'Wniosek 2026 r.'!C246","v":0},{"$f":"'Wniosek 2026 r.'!C556","v":0},{"$f":"'Wniosek 2026 r.'!C402","v":0},{"$f":"'Wniosek 2026 r.'!D402","v":0},{"$f":"'Wniosek 2026 r.'!F402","v":0},{"$f":"'Wniosek 2026 r.'!H402","v":0},{"$f":"'Wniosek 2026 r.'!C711","v":0}]
[{"$f":"'Wniosek 2026 r.'!A84","v":46},{"$f":"'Wniosek 2026 r.'!B84","v":0},{"$f":"'Wniosek 2026 r.'!E84","v":0},{"$f":"'Wniosek 2026 r.'!G84","v":0},{"$f":"'Wniosek 2026 r.'!C247","v":0},{"$f":"'Wniosek 2026 r.'!C557","v":0},{"$f":"'Wniosek 2026 r.'!C403","v":0},{"$f":"'Wniosek 2026 r.'!D403","v":0},{"$f":"'Wniosek 2026 r.'!F403","v":0},{"$f":"'Wniosek 2026 r.'!H403","v":0},{"$f":"'Wniosek 2026 r.'!C712","v":0}]
[{"$f":"'Wniosek 2026 r.'!A85","v":47},{"$f":"'Wniosek 2026 r.'!B85","v":0},{"$f":"'Wniosek 2026 r.'!E85","v":0},{"$f":"'Wniosek 2026 r.'!G85","v":0},{"$f":"'Wniosek 2026 r.'!C248","v":0},{"$f":"'Wniosek 2026 r.'!C558","v":0},{"$f":"'Wniosek 2026 r.'!C404","v":0},{"$f":"'Wniosek 2026 r.'!D404","v":0},{"$f":"'Wniosek 2026 r.'!F404","v":0},{"$f":"'Wniosek 2026 r.'!H404","v":0},{"$f":"'Wniosek 2026 r.'!C713","v":0}]
[{"$f":"'Wniosek 2026 r.'!A86","v":48},{"$f":"'Wniosek 2026 r.'!B86","v":0},{"$f":"'Wniosek 2026 r.'!E86","v":0},{"$f":"'Wniosek 2026 r.'!G86","v":0},{"$f":"'Wniosek 2026 r.'!C249","v":0},{"$f":"'Wniosek 2026 r.'!C559","v":0},{"$f":"'Wniosek 2026 r.'!C405","v":0},{"$f":"'Wniosek 2026 r.'!D405","v":0},{"$f":"'Wniosek 2026 r.'!F405","v":0},{"$f":"'Wniosek 2026 r.'!H405","v":0},{"$f":"'Wniosek 2026 r.'!C714","v":0}]
[{"$f":"'Wniosek 2026 r.'!A87","v":49},{"$f":"'Wniosek 2026 r.'!B87","v":0},{"$f":"'Wniosek 2026 r.'!E87","v":0},{"$f":"'Wniosek 2026 r.'!G87","v":0},{"$f":"'Wniosek 2026 r.'!C250","v":0},{"$f":"'Wniosek 2026 r.'!C560","v":0},{"$f":"'Wniosek 2026 r.'!C406","v":0},{"$f":"'Wniosek 2026 r.'!D406","v":0},{"$f":"'Wniosek 2026 r.'!F406","v":0},{"$f":"'Wniosek 2026 r.'!H406","v":0},{"$f":"'Wniosek 2026 r.'!C715","v":0}]
[{"$f":"'Wniosek 2026 r.'!A88","v":50},{"$f":"'Wniosek 2026 r.'!B88","v":0},{"$f":"'Wniosek 2026 r.'!E88","v":0},{"$f":"'Wniosek 2026 r.'!G88","v":0},{"$f":"'Wniosek 2026 r.'!C251","v":0},{"$f":"'Wniosek 2026 r.'!C561","v":0},{"$f":"'Wniosek 2026 r.'!C407","v":0},{"$f":"'Wniosek 2026 r.'!D407","v":0},{"$f":"'Wniosek 2026 r.'!F407","v":0},{"$f":"'Wniosek 2026 r.'!H407","v":0},{"$f":"'Wniosek 2026 r.'!C716","v":0}]
[{"$f":"'Wniosek 2026 r.'!A89","v":51},{"$f":"'Wniosek 2026 r.'!B89","v":0},{"$f":"'Wniosek 2026 r.'!E89","v":0},{"$f":"'Wniosek 2026 r.'!G89","v":0},{"$f":"'Wniosek 2026 r.'!C252","v":0},{"$f":"'Wniosek 2026 r.'!C562","v":0},{"$f":"'Wniosek 2026 r.'!C408","v":0},{"$f":"'Wniosek 2026 r.'!D408","v":0},{"$f":"'Wniosek 2026 r.'!F408","v":0},{"$f":"'Wniosek 2026 r.'!H408","v":0},{"$f":"'Wniosek 2026 r.'!C717","v":0}]
[{"$f":"'Wniosek 2026 r.'!A90","v":52},{"$f":"'Wniosek 2026 r.'!B90","v":0},{"$f":"'Wniosek 2026 r.'!E90","v":0},{"$f":"'Wniosek 2026 r.'!G90","v":0},{"$f":"'Wniosek 2026 r.'!C253","v":0},{"$f":"'Wniosek 2026 r.'!C563","v":0},{"$f":"'Wniosek 2026 r.'!C409","v":0},{"$f":"'Wniosek 2026 r.'!D409","v":0},{"$f":"'Wniosek 2026 r.'!F409","v":0},{"$f":"'Wniosek 2026 r.'!H409","v":0},{"$f":"'Wniosek 2026 r.'!C718","v":0}]
[{"$f":"'Wniosek 2026 r.'!A91","v":53},{"$f":"'Wniosek 2026 r.'!B91","v":0},{"$f":"'Wniosek 2026 r.'!E91","v":0},{"$f":"'Wniosek 2026 r.'!G91","v":0},{"$f":"'Wniosek 2026 r.'!C254","v":0},{"$f":"'Wniosek 2026 r.'!C564","v":0},{"$f":"'Wniosek 2026 r.'!C410","v":0},{"$f":"'Wniosek 2026 r.'!D410","v":0},{"$f":"'Wniosek 2026 r.'!F410","v":0},{"$f":"'Wniosek 2026 r.'!H410","v":0},{"$f":"'Wniosek 2026 r.'!C719","v":0}]
[{"$f":"'Wniosek 2026 r.'!A92","v":54},{"$f":"'Wniosek 2026 r.'!B92","v":0},{"$f":"'Wniosek 2026 r.'!E92","v":0},{"$f":"'Wniosek 2026 r.'!G92","v":0},{"$f":"'Wniosek 2026 r.'!C255","v":0},{"$f":"'Wniosek 2026 r.'!C565","v":0},{"$f":"'Wniosek 2026 r.'!C411","v":0},{"$f":"'Wniosek 2026 r.'!D411","v":0},{"$f":"'Wniosek 2026 r.'!F411","v":0},{"$f":"'Wniosek 2026 r.'!H411","v":0},{"$f":"'Wniosek 2026 r.'!C720","v":0}]
[{"$f":"'Wniosek 2026 r.'!A93","v":55},{"$f":"'Wniosek 2026 r.'!B93","v":0},{"$f":"'Wniosek 2026 r.'!E93","v":0},{"$f":"'Wniosek 2026 r.'!G93","v":0},{"$f":"'Wniosek 2026 r.'!C256","v":0},{"$f":"'Wniosek 2026 r.'!C566","v":0},{"$f":"'Wniosek 2026 r.'!C412","v":0},{"$f":"'Wniosek 2026 r.'!D412","v":0},{"$f":"'Wniosek 2026 r.'!F412","v":0},{"$f":"'Wniosek 2026 r.'!H412","v":0},{"$f":"'Wniosek 2026 r.'!C721","v":0}]
[{"$f":"'Wniosek 2026 r.'!A94","v":56},{"$f":"'Wniosek 2026 r.'!B94","v":0},{"$f":"'Wniosek 2026 r.'!E94","v":0},{"$f":"'Wniosek 2026 r.'!G94","v":0},{"$f":"'Wniosek 2026 r.'!C257","v":0},{"$f":"'Wniosek 2026 r.'!C567","v":0},{"$f":"'Wniosek 2026 r.'!C413","v":0},{"$f":"'Wniosek 2026 r.'!D413","v":0},{"$f":"'Wniosek 2026 r.'!F413","v":0},{"$f":"'Wniosek 2026 r.'!H413","v":0},{"$f":"'Wniosek 2026 r.'!C722","v":0}]
[{"$f":"'Wniosek 2026 r.'!A95","v":57},{"$f":"'Wniosek 2026 r.'!B95","v":0},{"$f":"'Wniosek 2026 r.'!E95","v":0},{"$f":"'Wniosek 2026 r.'!G95","v":0},{"$f":"'Wniosek 2026 r.'!C258","v":0},{"$f":"'Wniosek 2026 r.'!C568","v":0},{"$f":"'Wniosek 2026 r.'!C414","v":0},{"$f":"'Wniosek 2026 r.'!D414","v":0},{"$f":"'Wniosek 2026 r.'!F414","v":0},{"$f":"'Wniosek 2026 r.'!H414","v":0},{"$f":"'Wniosek 2026 r.'!C723","v":0}]
[{"$f":"'Wniosek 2026 r.'!A96","v":58},{"$f":"'Wniosek 2026 r.'!B96","v":0},{"$f":"'Wniosek 2026 r.'!E96","v":0},{"$f":"'Wniosek 2026 r.'!G96","v":0},{"$f":"'Wniosek 2026 r.'!C259","v":0},{"$f":"'Wniosek 2026 r.'!C569","v":0},{"$f":"'Wniosek 2026 r.'!C415","v":0},{"$f":"'Wniosek 2026 r.'!D415","v":0},{"$f":"'Wniosek 2026 r.'!F415","v":0},{"$f":"'Wniosek 2026 r.'!H415","v":0},{"$f":"'Wniosek 2026 r.'!C724","v":0}]
[{"$f":"'Wniosek 2026 r.'!A97","v":59},{"$f":"'Wniosek 2026 r.'!B97","v":0},{"$f":"'Wniosek 2026 r.'!E97","v":0},{"$f":"'Wniosek 2026 r.'!G97","v":0},{"$f":"'Wniosek 2026 r.'!C260","v":0},{"$f":"'Wniosek 2026 r.'!C570","v":0},{"$f":"'Wniosek 2026 r.'!C416","v":0},{"$f":"'Wniosek 2026 r.'!D416","v":0},{"$f":"'Wniosek 2026 r.'!F416","v":0},{"$f":"'Wniosek 2026 r.'!H416","v":0},{"$f":"'Wniosek 2026 r.'!C725","v":0}]
[{"$f":"'Wniosek 2026 r.'!A98","v":60},{"$f":"'Wniosek 2026 r.'!B98","v":0},{"$f":"'Wniosek 2026 r.'!E98","v":0},{"$f":"'Wniosek 2026 r.'!G98","v":0},{"$f":"'Wniosek 2026 r.'!C261","v":0},{"$f":"'Wniosek 2026 r.'!C571","v":0},{"$f":"'Wniosek 2026 r.'!C417","v":0},{"$f":"'Wniosek 2026 r.'!D417","v":0},{"$f":"'Wniosek 2026 r.'!F417","v":0},{"$f":"'Wniosek 2026 r.'!H417","v":0},{"$f":"'Wniosek 2026 r.'!C726","v":0}]
[{"$f":"'Wniosek 2026 r.'!A99","v":61},{"$f":"'Wniosek 2026 r.'!B99","v":0},{"$f":"'Wniosek 2026 r.'!E99","v":0},{"$f":"'Wniosek 2026 r.'!G99","v":0},{"$f":"'Wniosek 2026 r.'!C262","v":0},{"$f":"'Wniosek 2026 r.'!C572","v":0},{"$f":"'Wniosek 2026 r.'!C418","v":0},{"$f":"'Wniosek 2026 r.'!D418","v":0},{"$f":"'Wniosek 2026 r.'!F418","v":0},{"$f":"'Wniosek 2026 r.'!H418","v":0},{"$f":"'Wniosek 2026 r.'!C727","v":0}]
[{"$f":"'Wniosek 2026 r.'!A100","v":62},{"$f":"'Wniosek 2026 r.'!B100","v":0},{"$f":"'Wniosek 2026 r.'!E100","v":0},{"$f":"'Wniosek 2026 r.'!G100","v":0},{"$f":"'Wniosek 2026 r.'!C263","v":0},{"$f":"'Wniosek 2026 r.'!C573","v":0},{"$f":"'Wniosek 2026 r.'!C419","v":0},{"$f":"'Wniosek 2026 r.'!D419","v":0},{"$f":"'Wniosek 2026 r.'!F419","v":0},{"$f":"'Wniosek 2026 r.'!H419","v":0},{"$f":"'Wniosek 2026 r.'!C728","v":0}]
[{"$f":"'Wniosek 2026 r.'!A101","v":63},{"$f":"'Wniosek 2026 r.'!B101","v":0},{"$f":"'Wniosek 2026 r.'!E101","v":0},{"$f":"'Wniosek 2026 r.'!G101","v":0},{"$f":"'Wniosek 2026 r.'!C264","v":0},{"$f":"'Wniosek 2026 r.'!C574","v":0},{"$f":"'Wniosek 2026 r.'!C420","v":0},{"$f":"'Wniosek 2026 r.'!D420","v":0},{"$f":"'Wniosek 2026 r.'!F420","v":0},{"$f":"'Wniosek 2026 r.'!H420","v":0},{"$f":"'Wniosek 2026 r.'!C729","v":0}]
[{"$f":"'Wniosek 2026 r.'!A102","v":64},{"$f":"'Wniosek 2026 r.'!B102","v":0},{"$f":"'Wniosek 2026 r.'!E102","v":0},{"$f":"'Wniosek 2026 r.'!G102","v":0},{"$f":"'Wniosek 2026 r.'!C265","v":0},{"$f":"'Wniosek 2026 r.'!C575","v":0},{"$f":"'Wniosek 2026 r.'!C421","v":0},{"$f":"'Wniosek 2026 r.'!D421","v":0},{"$f":"'Wniosek 2026 r.'!F421","v":0},{"$f":"'Wniosek 2026 r.'!H421","v":0},{"$f":"'Wniosek 2026 r.'!C730","v":0}]
[{"$f":"'Wniosek 2026 r.'!A103","v":65},{"$f":"'Wniosek 2026 r.'!B103","v":0},{"$f":"'Wniosek 2026 r.'!E103","v":0},{"$f":"'Wniosek 2026 r.'!G103","v":0},{"$f":"'Wniosek 2026 r.'!C266","v":0},{"$f":"'Wniosek 2026 r.'!C576","v":0},{"$f":"'Wniosek 2026 r.'!C422","v":0},{"$f":"'Wniosek 2026 r.'!D422","v":0},{"$f":"'Wniosek 2026 r.'!F422","v":0},{"$f":"'Wniosek 2026 r.'!H422","v":0},{"$f":"'Wniosek 2026 r.'!C731","v":0}]
[{"$f":"'Wniosek 2026 r.'!A104","v":66},{"$f":"'Wniosek 2026 r.'!B104","v":0},{"$f":"'Wniosek 2026 r.'!E104","v":0},{"$f":"'Wniosek 2026 r.'!G104","v":0},{"$f":"'Wniosek 2026 r.'!C267","v":0},{"$f":"'Wniosek 2026 r.'!C577","v":0},{"$f":"'Wniosek 2026 r.'!C423","v":0},{"$f":"'Wniosek 2026 r.'!D423","v":0},{"$f":"'Wniosek 2026 r.'!F423","v":0},{"$f":"'Wniosek 2026 r.'!H423","v":0},{"$f":"'Wniosek 2026 r.'!C732","v":0}]
[{"$f":"'Wniosek 2026 r.'!A105","v":67},{"$f":"'Wniosek 2026 r.'!B105","v":0},{"$f":"'Wniosek 2026 r.'!E105","v":0},{"$f":"'Wniosek 2026 r.'!G105","v":0},{"$f":"'Wniosek 2026 r.'!C268","v":0},{"$f":"'Wniosek 2026 r.'!C578","v":0},{"$f":"'Wniosek 2026 r.'!C424","v":0},{"$f":"'Wniosek 2026 r.'!D424","v":0},{"$f":"'Wniosek 2026 r.'!F424","v":0},{"$f":"'Wniosek 2026 r.'!H424","v":0},{"$f":"'Wniosek 2026 r.'!C733","v":0}]
[{"$f":"'Wniosek 2026 r.'!A106","v":68},{"$f":"'Wniosek 2026 r.'!B106","v":0},{"$f":"'Wniosek 2026 r.'!E106","v":0},{"$f":"'Wniosek 2026 r.'!G106","v":0},{"$f":"'Wniosek 2026 r.'!C269","v":0},{"$f":"'Wniosek 2026 r.'!C579","v":0},{"$f":"'Wniosek 2026 r.'!C425","v":0},{"$f":"'Wniosek 2026 r.'!D425","v":0},{"$f":"'Wniosek 2026 r.'!F425","v":0},{"$f":"'Wniosek 2026 r.'!H425","v":0},{"$f":"'Wniosek 2026 r.'!C734","v":0}]
[{"$f":"'Wniosek 2026 r.'!A107","v":69},{"$f":"'Wniosek 2026 r.'!B107","v":0},{"$f":"'Wniosek 2026 r.'!E107","v":0},{"$f":"'Wniosek 2026 r.'!G107","v":0},{"$f":"'Wniosek 2026 r.'!C270","v":0},{"$f":"'Wniosek 2026 r.'!C580","v":0},{"$f":"'Wniosek 2026 r.'!C426","v":0},{"$f":"'Wniosek 2026 r.'!D426","v":0},{"$f":"'Wniosek 2026 r.'!F426","v":0},{"$f":"'Wniosek 2026 r.'!H426","v":0},{"$f":"'Wniosek 2026 r.'!C735","v":0}]
[{"$f":"'Wniosek 2026 r.'!A108","v":70},{"$f":"'Wniosek 2026 r.'!B108","v":0},{"$f":"'Wniosek 2026 r.'!E108","v":0},{"$f":"'Wniosek 2026 r.'!G108","v":0},{"$f":"'Wniosek 2026 r.'!C271","v":0},{"$f":"'Wniosek 2026 r.'!C581","v":0},{"$f":"'Wniosek 2026 r.'!C427","v":0},{"$f":"'Wniosek 2026 r.'!D427","v":0},{"$f":"'Wniosek 2026 r.'!F427","v":0},{"$f":"'Wniosek 2026 r.'!H427","v":0},{"$f":"'Wniosek 2026 r.'!C736","v":0}]
[{"$f":"'Wniosek 2026 r.'!A109","v":71},{"$f":"'Wniosek 2026 r.'!B109","v":0},{"$f":"'Wniosek 2026 r.'!E109","v":0},{"$f":"'Wniosek 2026 r.'!G109","v":0},{"$f":"'Wniosek 2026 r.'!C272","v":0},{"$f":"'Wniosek 2026 r.'!C582","v":0},{"$f":"'Wniosek 2026 r.'!C428","v":0},{"$f":"'Wniosek 2026 r.'!D428","v":0},{"$f":"'Wniosek 2026 r.'!F428","v":0},{"$f":"'Wniosek 2026 r.'!H428","v":0},{"$f":"'Wniosek 2026 r.'!C737","v":0}]
[{"$f":"'Wniosek 2026 r.'!A110","v":72},{"$f":"'Wniosek 2026 r.'!B110","v":0},{"$f":"'Wniosek 2026 r.'!E110","v":0},{"$f":"'Wniosek 2026 r.'!G110","v":0},{"$f":"'Wniosek 2026 r.'!C273","v":0},{"$f":"'Wniosek 2026 r.'!C583","v":0},{"$f":"'Wniosek 2026 r.'!C429","v":0},{"$f":"'Wniosek 2026 r.'!D429","v":0},{"$f":"'Wniosek 2026 r.'!F429","v":0},{"$f":"'Wniosek 2026 r.'!H429","v":0},{"$f":"'Wniosek 2026 r.'!C738","v":0}]
[{"$f":"'Wniosek 2026 r.'!A111","v":73},{"$f":"'Wniosek 2026 r.'!B111","v":0},{"$f":"'Wniosek 2026 r.'!E111","v":0},{"$f":"'Wniosek 2026 r.'!G111","v":0},{"$f":"'Wniosek 2026 r.'!C274","v":0},{"$f":"'Wniosek 2026 r.'!C584","v":0},{"$f":"'Wniosek 2026 r.'!C430","v":0},{"$f":"'Wniosek 2026 r.'!D430","v":0},{"$f":"'Wniosek 2026 r.'!F430","v":0},{"$f":"'Wniosek 2026 r.'!H430","v":0},{"$f":"'Wniosek 2026 r.'!C739","v":0}]
[{"$f":"'Wniosek 2026 r.'!A112","v":74},{"$f":"'Wniosek 2026 r.'!B112","v":0},{"$f":"'Wniosek 2026 r.'!E112","v":0},{"$f":"'Wniosek 2026 r.'!G112","v":0},{"$f":"'Wniosek 2026 r.'!C275","v":0},{"$f":"'Wniosek 2026 r.'!C585","v":0},{"$f":"'Wniosek 2026 r.'!C431","v":0},{"$f":"'Wniosek 2026 r.'!D431","v":0},{"$f":"'Wniosek 2026 r.'!F431","v":0},{"$f":"'Wniosek 2026 r.'!H431","v":0},{"$f":"'Wniosek 2026 r.'!C740","v":0}]
[{"$f":"'Wniosek 2026 r.'!A113","v":75},{"$f":"'Wniosek 2026 r.'!B113","v":0},{"$f":"'Wniosek 2026 r.'!E113","v":0},{"$f":"'Wniosek 2026 r.'!G113","v":0},{"$f":"'Wniosek 2026 r.'!C276","v":0},{"$f":"'Wniosek 2026 r.'!C586","v":0},{"$f":"'Wniosek 2026 r.'!C432","v":0},{"$f":"'Wniosek 2026 r.'!D432","v":0},{"$f":"'Wniosek 2026 r.'!F432","v":0},{"$f":"'Wniosek 2026 r.'!H432","v":0},{"$f":"'Wniosek 2026 r.'!C741","v":0}]
[{"$f":"'Wniosek 2026 r.'!A114","v":76},{"$f":"'Wniosek 2026 r.'!B114","v":0},{"$f":"'Wniosek 2026 r.'!E114","v":0},{"$f":"'Wniosek 2026 r.'!G114","v":0},{"$f":"'Wniosek 2026 r.'!C277","v":0},{"$f":"'Wniosek 2026 r.'!C587","v":0},{"$f":"'Wniosek 2026 r.'!C433","v":0},{"$f":"'Wniosek 2026 r.'!D433","v":0},{"$f":"'Wniosek 2026 r.'!F433","v":0},{"$f":"'Wniosek 2026 r.'!H433","v":0},{"$f":"'Wniosek 2026 r.'!C742","v":0}]
[{"$f":"'Wniosek 2026 r.'!A115","v":77},{"$f":"'Wniosek 2026 r.'!B115","v":0},{"$f":"'Wniosek 2026 r.'!E115","v":0},{"$f":"'Wniosek 2026 r.'!G115","v":0},{"$f":"'Wniosek 2026 r.'!C278","v":0},{"$f":"'Wniosek 2026 r.'!C588","v":0},{"$f":"'Wniosek 2026 r.'!C434","v":0},{"$f":"'Wniosek 2026 r.'!D434","v":0},{"$f":"'Wniosek 2026 r.'!F434","v":0},{"$f":"'Wniosek 2026 r.'!H434","v":0},{"$f":"'Wniosek 2026 r.'!C743","v":0}]
[{"$f":"'Wniosek 2026 r.'!A116","v":78},{"$f":"'Wniosek 2026 r.'!B116","v":0},{"$f":"'Wniosek 2026 r.'!E116","v":0},{"$f":"'Wniosek 2026 r.'!G116","v":0},{"$f":"'Wniosek 2026 r.'!C279","v":0},{"$f":"'Wniosek 2026 r.'!C589","v":0},{"$f":"'Wniosek 2026 r.'!C435","v":0},{"$f":"'Wniosek 2026 r.'!D435","v":0},{"$f":"'Wniosek 2026 r.'!F435","v":0},{"$f":"'Wniosek 2026 r.'!H435","v":0},{"$f":"'Wniosek 2026 r.'!C744","v":0}]
[{"$f":"'Wniosek 2026 r.'!A117","v":79},{"$f":"'Wniosek 2026 r.'!B117","v":0},{"$f":"'Wniosek 2026 r.'!E117","v":0},{"$f":"'Wniosek 2026 r.'!G117","v":0},{"$f":"'Wniosek 2026 r.'!C280","v":0},{"$f":"'Wniosek 2026 r.'!C590","v":0},{"$f":"'Wniosek 2026 r.'!C436","v":0},{"$f":"'Wniosek 2026 r.'!D436","v":0},{"$f":"'Wniosek 2026 r.'!F436","v":0},{"$f":"'Wniosek 2026 r.'!H436","v":0},{"$f":"'Wniosek 2026 r.'!C745","v":0}]
[{"$f":"'Wniosek 2026 r.'!A118","v":80},{"$f":"'Wniosek 2026 r.'!B118","v":0},{"$f":"'Wniosek 2026 r.'!E118","v":0},{"$f":"'Wniosek 2026 r.'!G118","v":0},{"$f":"'Wniosek 2026 r.'!C281","v":0},{"$f":"'Wniosek 2026 r.'!C591","v":0},{"$f":"'Wniosek 2026 r.'!C437","v":0},{"$f":"'Wniosek 2026 r.'!D437","v":0},{"$f":"'Wniosek 2026 r.'!F437","v":0},{"$f":"'Wniosek 2026 r.'!H437","v":0},{"$f":"'Wniosek 2026 r.'!C746","v":0}]
[{"$f":"'Wniosek 2026 r.'!A119","v":81},{"$f":"'Wniosek 2026 r.'!B119","v":0},{"$f":"'Wniosek 2026 r.'!E119","v":0},{"$f":"'Wniosek 2026 r.'!G119","v":0},{"$f":"'Wniosek 2026 r.'!C282","v":0},{"$f":"'Wniosek 2026 r.'!C592","v":0},{"$f":"'Wniosek 2026 r.'!C438","v":0},{"$f":"'Wniosek 2026 r.'!D438","v":0},{"$f":"'Wniosek 2026 r.'!F438","v":0},{"$f":"'Wniosek 2026 r.'!H438","v":0},{"$f":"'Wniosek 2026 r.'!C747","v":0}]
[{"$f":"'Wniosek 2026 r.'!A120","v":82},{"$f":"'Wniosek 2026 r.'!B120","v":0},{"$f":"'Wniosek 2026 r.'!E120","v":0},{"$f":"'Wniosek 2026 r.'!G120","v":0},{"$f":"'Wniosek 2026 r.'!C283","v":0},{"$f":"'Wniosek 2026 r.'!C593","v":0},{"$f":"'Wniosek 2026 r.'!C439","v":0},{"$f":"'Wniosek 2026 r.'!D439","v":0},{"$f":"'Wniosek 2026 r.'!F439","v":0},{"$f":"'Wniosek 2026 r.'!H439","v":0},{"$f":"'Wniosek 2026 r.'!C748","v":0}]
[{"$f":"'Wniosek 2026 r.'!A121","v":83},{"$f":"'Wniosek 2026 r.'!B121","v":0},{"$f":"'Wniosek 2026 r.'!E121","v":0},{"$f":"'Wniosek 2026 r.'!G121","v":0},{"$f":"'Wniosek 2026 r.'!C284","v":0},{"$f":"'Wniosek 2026 r.'!C594","v":0},{"$f":"'Wniosek 2026 r.'!C440","v":0},{"$f":"'Wniosek 2026 r.'!D440","v":0},{"$f":"'Wniosek 2026 r.'!F440","v":0},{"$f":"'Wniosek 2026 r.'!H440","v":0},{"$f":"'Wniosek 2026 r.'!C749","v":0}]
[{"$f":"'Wniosek 2026 r.'!A122","v":84},{"$f":"'Wniosek 2026 r.'!B122","v":0},{"$f":"'Wniosek 2026 r.'!E122","v":0},{"$f":"'Wniosek 2026 r.'!G122","v":0},{"$f":"'Wniosek 2026 r.'!C285","v":0},{"$f":"'Wniosek 2026 r.'!C595","v":0},{"$f":"'Wniosek 2026 r.'!C441","v":0},{"$f":"'Wniosek 2026 r.'!D441","v":0},{"$f":"'Wniosek 2026 r.'!F441","v":0},{"$f":"'Wniosek 2026 r.'!H441","v":0},{"$f":"'Wniosek 2026 r.'!C750","v":0}]
[{"$f":"'Wniosek 2026 r.'!A123","v":85},{"$f":"'Wniosek 2026 r.'!B123","v":0},{"$f":"'Wniosek 2026 r.'!E123","v":0},{"$f":"'Wniosek 2026 r.'!G123","v":0},{"$f":"'Wniosek 2026 r.'!C286","v":0},{"$f":"'Wniosek 2026 r.'!C596","v":0},{"$f":"'Wniosek 2026 r.'!C442","v":0},{"$f":"'Wniosek 2026 r.'!D442","v":0},{"$f":"'Wniosek 2026 r.'!F442","v":0},{"$f":"'Wniosek 2026 r.'!H442","v":0},{"$f":"'Wniosek 2026 r.'!C751","v":0}]
[{"$f":"'Wniosek 2026 r.'!A124","v":86},{"$f":"'Wniosek 2026 r.'!B124","v":0},{"$f":"'Wniosek 2026 r.'!E124","v":0},{"$f":"'Wniosek 2026 r.'!G124","v":0},{"$f":"'Wniosek 2026 r.'!C287","v":0},{"$f":"'Wniosek 2026 r.'!C597","v":0},{"$f":"'Wniosek 2026 r.'!C443","v":0},{"$f":"'Wniosek 2026 r.'!D443","v":0},{"$f":"'Wniosek 2026 r.'!F443","v":0},{"$f":"'Wniosek 2026 r.'!H443","v":0},{"$f":"'Wniosek 2026 r.'!C752","v":0}]
[{"$f":"'Wniosek 2026 r.'!A125","v":87},{"$f":"'Wniosek 2026 r.'!B125","v":0},{"$f":"'Wniosek 2026 r.'!E125","v":0},{"$f":"'Wniosek 2026 r.'!G125","v":0},{"$f":"'Wniosek 2026 r.'!C288","v":0},{"$f":"'Wniosek 2026 r.'!C598","v":0},{"$f":"'Wniosek 2026 r.'!C444","v":0},{"$f":"'Wniosek 2026 r.'!D444","v":0},{"$f":"'Wniosek 2026 r.'!F444","v":0},{"$f":"'Wniosek 2026 r.'!H444","v":0},{"$f":"'Wniosek 2026 r.'!C753","v":0}]
[{"$f":"'Wniosek 2026 r.'!A126","v":88},{"$f":"'Wniosek 2026 r.'!B126","v":0},{"$f":"'Wniosek 2026 r.'!E126","v":0},{"$f":"'Wniosek 2026 r.'!G126","v":0},{"$f":"'Wniosek 2026 r.'!C289","v":0},{"$f":"'Wniosek 2026 r.'!C599","v":0},{"$f":"'Wniosek 2026 r.'!C445","v":0},{"$f":"'Wniosek 2026 r.'!D445","v":0},{"$f":"'Wniosek 2026 r.'!F445","v":0},{"$f":"'Wniosek 2026 r.'!H445","v":0},{"$f":"'Wniosek 2026 r.'!C754","v":0}]
[{"$f":"'Wniosek 2026 r.'!A127","v":89},{"$f":"'Wniosek 2026 r.'!B127","v":0},{"$f":"'Wniosek 2026 r.'!E127","v":0},{"$f":"'Wniosek 2026 r.'!G127","v":0},{"$f":"'Wniosek 2026 r.'!C290","v":0},{"$f":"'Wniosek 2026 r.'!C600","v":0},{"$f":"'Wniosek 2026 r.'!C446","v":0},{"$f":"'Wniosek 2026 r.'!D446","v":0},{"$f":"'Wniosek 2026 r.'!F446","v":0},{"$f":"'Wniosek 2026 r.'!H446","v":0},{"$f":"'Wniosek 2026 r.'!C755","v":0}]
[{"$f":"'Wniosek 2026 r.'!A128","v":90},{"$f":"'Wniosek 2026 r.'!B128","v":0},{"$f":"'Wniosek 2026 r.'!E128","v":0},{"$f":"'Wniosek 2026 r.'!G128","v":0},{"$f":"'Wniosek 2026 r.'!C291","v":0},{"$f":"'Wniosek 2026 r.'!C601","v":0},{"$f":"'Wniosek 2026 r.'!C447","v":0},{"$f":"'Wniosek 2026 r.'!D447","v":0},{"$f":"'Wniosek 2026 r.'!F447","v":0},{"$f":"'Wniosek 2026 r.'!H447","v":0},{"$f":"'Wniosek 2026 r.'!C756","v":0}]
[{"$f":"'Wniosek 2026 r.'!A129","v":91},{"$f":"'Wniosek 2026 r.'!B129","v":0},{"$f":"'Wniosek 2026 r.'!E129","v":0},{"$f":"'Wniosek 2026 r.'!G129","v":0},{"$f":"'Wniosek 2026 r.'!C292","v":0},{"$f":"'Wniosek 2026 r.'!C602","v":0},{"$f":"'Wniosek 2026 r.'!C448","v":0},{"$f":"'Wniosek 2026 r.'!D448","v":0},{"$f":"'Wniosek 2026 r.'!F448","v":0},{"$f":"'Wniosek 2026 r.'!H448","v":0},{"$f":"'Wniosek 2026 r.'!C757","v":0}]
[{"$f":"'Wniosek 2026 r.'!A130","v":92},{"$f":"'Wniosek 2026 r.'!B130","v":0},{"$f":"'Wniosek 2026 r.'!E130","v":0},{"$f":"'Wniosek 2026 r.'!G130","v":0},{"$f":"'Wniosek 2026 r.'!C293","v":0},{"$f":"'Wniosek 2026 r.'!C603","v":0},{"$f":"'Wniosek 2026 r.'!C449","v":0},{"$f":"'Wniosek 2026 r.'!D449","v":0},{"$f":"'Wniosek 2026 r.'!F449","v":0},{"$f":"'Wniosek 2026 r.'!H449","v":0},{"$f":"'Wniosek 2026 r.'!C758","v":0}]
[{"$f":"'Wniosek 2026 r.'!A131","v":93},{"$f":"'Wniosek 2026 r.'!B131","v":0},{"$f":"'Wniosek 2026 r.'!E131","v":0},{"$f":"'Wniosek 2026 r.'!G131","v":0},{"$f":"'Wniosek 2026 r.'!C294","v":0},{"$f":"'Wniosek 2026 r.'!C604","v":0},{"$f":"'Wniosek 2026 r.'!C450","v":0},{"$f":"'Wniosek 2026 r.'!D450","v":0},{"$f":"'Wniosek 2026 r.'!F450","v":0},{"$f":"'Wniosek 2026 r.'!H450","v":0},{"$f":"'Wniosek 2026 r.'!C759","v":0}]
[{"$f":"'Wniosek 2026 r.'!A132","v":94},{"$f":"'Wniosek 2026 r.'!B132","v":0},{"$f":"'Wniosek 2026 r.'!E132","v":0},{"$f":"'Wniosek 2026 r.'!G132","v":0},{"$f":"'Wniosek 2026 r.'!C295","v":0},{"$f":"'Wniosek 2026 r.'!C605","v":0},{"$f":"'Wniosek 2026 r.'!C451","v":0},{"$f":"'Wniosek 2026 r.'!D451","v":0},{"$f":"'Wniosek 2026 r.'!F451","v":0},{"$f":"'Wniosek 2026 r.'!H451","v":0},{"$f":"'Wniosek 2026 r.'!C760","v":0}]
[{"$f":"'Wniosek 2026 r.'!A133","v":95},{"$f":"'Wniosek 2026 r.'!B133","v":0},{"$f":"'Wniosek 2026 r.'!E133","v":0},{"$f":"'Wniosek 2026 r.'!G133","v":0},{"$f":"'Wniosek 2026 r.'!C296","v":0},{"$f":"'Wniosek 2026 r.'!C606","v":0},{"$f":"'Wniosek 2026 r.'!C452","v":0},{"$f":"'Wniosek 2026 r.'!D452","v":0},{"$f":"'Wniosek 2026 r.'!F452","v":0},{"$f":"'Wniosek 2026 r.'!H452","v":0},{"$f":"'Wniosek 2026 r.'!C761","v":0}]
[{"$f":"'Wniosek 2026 r.'!A134","v":96},{"$f":"'Wniosek 2026 r.'!B134","v":0},{"$f":"'Wniosek 2026 r.'!E134","v":0},{"$f":"'Wniosek 2026 r.'!G134","v":0},{"$f":"'Wniosek 2026 r.'!C297","v":0},{"$f":"'Wniosek 2026 r.'!C607","v":0},{"$f":"'Wniosek 2026 r.'!C453","v":0},{"$f":"'Wniosek 2026 r.'!D453","v":0},{"$f":"'Wniosek 2026 r.'!F453","v":0},{"$f":"'Wniosek 2026 r.'!H453","v":0},{"$f":"'Wniosek 2026 r.'!C762","v":0}]
[{"$f":"'Wniosek 2026 r.'!A135","v":97},{"$f":"'Wniosek 2026 r.'!B135","v":0},{"$f":"'Wniosek 2026 r.'!E135","v":0},{"$f":"'Wniosek 2026 r.'!G135","v":0},{"$f":"'Wniosek 2026 r.'!C298","v":0},{"$f":"'Wniosek 2026 r.'!C608","v":0},{"$f":"'Wniosek 2026 r.'!C454","v":0},{"$f":"'Wniosek 2026 r.'!D454","v":0},{"$f":"'Wniosek 2026 r.'!F454","v":0},{"$f":"'Wniosek 2026 r.'!H454","v":0},{"$f":"'Wniosek 2026 r.'!C763","v":0}]
[{"$f":"'Wniosek 2026 r.'!A136","v":98},{"$f":"'Wniosek 2026 r.'!B136","v":0},{"$f":"'Wniosek 2026 r.'!E136","v":0},{"$f":"'Wniosek 2026 r.'!G136","v":0},{"$f":"'Wniosek 2026 r.'!C299","v":0},{"$f":"'Wniosek 2026 r.'!C609","v":0},{"$f":"'Wniosek 2026 r.'!C455","v":0},{"$f":"'Wniosek 2026 r.'!D455","v":0},{"$f":"'Wniosek 2026 r.'!F455","v":0},{"$f":"'Wniosek 2026 r.'!H455","v":0},{"$f":"'Wniosek 2026 r.'!C764","v":0}]
[{"$f":"'Wniosek 2026 r.'!A137","v":99},{"$f":"'Wniosek 2026 r.'!B137","v":0},{"$f":"'Wniosek 2026 r.'!E137","v":0},{"$f":"'Wniosek 2026 r.'!G137","v":0},{"$f":"'Wniosek 2026 r.'!C300","v":0},{"$f":"'Wniosek 2026 r.'!C610","v":0},{"$f":"'Wniosek 2026 r.'!C456","v":0},{"$f":"'Wniosek 2026 r.'!D456","v":0},{"$f":"'Wniosek 2026 r.'!F456","v":0},{"$f":"'Wniosek 2026 r.'!H456","v":0},{"$f":"'Wniosek 2026 r.'!C765","v":0}]
[{"$f":"'Wniosek 2026 r.'!A138","v":100},{"$f":"'Wniosek 2026 r.'!B138","v":0},{"$f":"'Wniosek 2026 r.'!E138","v":0},{"$f":"'Wniosek 2026 r.'!G138","v":0},{"$f":"'Wniosek 2026 r.'!C301","v":0},{"$f":"'Wniosek 2026 r.'!C611","v":0},{"$f":"'Wniosek 2026 r.'!C457","v":0},{"$f":"'Wniosek 2026 r.'!D457","v":0},{"$f":"'Wniosek 2026 r.'!F457","v":0},{"$f":"'Wniosek 2026 r.'!H457","v":0},{"$f":"'Wniosek 2026 r.'!C766","v":0}]
[{"$f":"'Wniosek 2026 r.'!A139","v":101},{"$f":"'Wniosek 2026 r.'!B139","v":0},{"$f":"'Wniosek 2026 r.'!E139","v":0},{"$f":"'Wniosek 2026 r.'!G139","v":0},{"$f":"'Wniosek 2026 r.'!C302","v":0},{"$f":"'Wniosek 2026 r.'!C612","v":0},{"$f":"'Wniosek 2026 r.'!C458","v":0},{"$f":"'Wniosek 2026 r.'!D458","v":0},{"$f":"'Wniosek 2026 r.'!F458","v":0},{"$f":"'Wniosek 2026 r.'!H458","v":0},{"$f":"'Wniosek 2026 r.'!C767","v":0}]
[{"$f":"'Wniosek 2026 r.'!A140","v":102},{"$f":"'Wniosek 2026 r.'!B140","v":0},{"$f":"'Wniosek 2026 r.'!E140","v":0},{"$f":"'Wniosek 2026 r.'!G140","v":0},{"$f":"'Wniosek 2026 r.'!C303","v":0},{"$f":"'Wniosek 2026 r.'!C613","v":0},{"$f":"'Wniosek 2026 r.'!C459","v":0},{"$f":"'Wniosek 2026 r.'!D459","v":0},{"$f":"'Wniosek 2026 r.'!F459","v":0},{"$f":"'Wniosek 2026 r.'!H459","v":0},{"$f":"'Wniosek 2026 r.'!C768","v":0}]
[{"$f":"'Wniosek 2026 r.'!A141","v":103},{"$f":"'Wniosek 2026 r.'!B141","v":0},{"$f":"'Wniosek 2026 r.'!E141","v":0},{"$f":"'Wniosek 2026 r.'!G141","v":0},{"$f":"'Wniosek 2026 r.'!C304","v":0},{"$f":"'Wniosek 2026 r.'!C614","v":0},{"$f":"'Wniosek 2026 r.'!C460","v":0},{"$f":"'Wniosek 2026 r.'!D460","v":0},{"$f":"'Wniosek 2026 r.'!F460","v":0},{"$f":"'Wniosek 2026 r.'!H460","v":0},{"$f":"'Wniosek 2026 r.'!C769","v":0}]
[{"$f":"'Wniosek 2026 r.'!A142","v":104},{"$f":"'Wniosek 2026 r.'!B142","v":0},{"$f":"'Wniosek 2026 r.'!E142","v":0},{"$f":"'Wniosek 2026 r.'!G142","v":0},{"$f":"'Wniosek 2026 r.'!C305","v":0},{"$f":"'Wniosek 2026 r.'!C615","v":0},{"$f":"'Wniosek 2026 r.'!C461","v":0},{"$f":"'Wniosek 2026 r.'!D461","v":0},{"$f":"'Wniosek 2026 r.'!F461","v":0},{"$f":"'Wniosek 2026 r.'!H461","v":0},{"$f":"'Wniosek 2026 r.'!C770","v":0}]
[{"$f":"'Wniosek 2026 r.'!A143","v":105},{"$f":"'Wniosek 2026 r.'!B143","v":0},{"$f":"'Wniosek 2026 r.'!E143","v":0},{"$f":"'Wniosek 2026 r.'!G143","v":0},{"$f":"'Wniosek 2026 r.'!C306","v":0},{"$f":"'Wniosek 2026 r.'!C616","v":0},{"$f":"'Wniosek 2026 r.'!C462","v":0},{"$f":"'Wniosek 2026 r.'!D462","v":0},{"$f":"'Wniosek 2026 r.'!F462","v":0},{"$f":"'Wniosek 2026 r.'!H462","v":0},{"$f":"'Wniosek 2026 r.'!C771","v":0}]
[{"$f":"'Wniosek 2026 r.'!A144","v":106},{"$f":"'Wniosek 2026 r.'!B144","v":0},{"$f":"'Wniosek 2026 r.'!E144","v":0},{"$f":"'Wniosek 2026 r.'!G144","v":0},{"$f":"'Wniosek 2026 r.'!C307","v":0},{"$f":"'Wniosek 2026 r.'!C617","v":0},{"$f":"'Wniosek 2026 r.'!C463","v":0},{"$f":"'Wniosek 2026 r.'!D463","v":0},{"$f":"'Wniosek 2026 r.'!F463","v":0},{"$f":"'Wniosek 2026 r.'!H463","v":0},{"$f":"'Wniosek 2026 r.'!C772","v":0}]
[{"$f":"'Wniosek 2026 r.'!A145","v":107},{"$f":"'Wniosek 2026 r.'!B145","v":0},{"$f":"'Wniosek 2026 r.'!E145","v":0},{"$f":"'Wniosek 2026 r.'!G145","v":0},{"$f":"'Wniosek 2026 r.'!C308","v":0},{"$f":"'Wniosek 2026 r.'!C618","v":0},{"$f":"'Wniosek 2026 r.'!C464","v":0},{"$f":"'Wniosek 2026 r.'!D464","v":0},{"$f":"'Wniosek 2026 r.'!F464","v":0},{"$f":"'Wniosek 2026 r.'!H464","v":0},{"$f":"'Wniosek 2026 r.'!C773","v":0}]
[{"$f":"'Wniosek 2026 r.'!A146","v":108},{"$f":"'Wniosek 2026 r.'!B146","v":0},{"$f":"'Wniosek 2026 r.'!E146","v":0},{"$f":"'Wniosek 2026 r.'!G146","v":0},{"$f":"'Wniosek 2026 r.'!C309","v":0},{"$f":"'Wniosek 2026 r.'!C619","v":0},{"$f":"'Wniosek 2026 r.'!C465","v":0},{"$f":"'Wniosek 2026 r.'!D465","v":0},{"$f":"'Wniosek 2026 r.'!F465","v":0},{"$f":"'Wniosek 2026 r.'!H465","v":0},{"$f":"'Wniosek 2026 r.'!C774","v":0}]
[{"$f":"'Wniosek 2026 r.'!A147","v":109},{"$f":"'Wniosek 2026 r.'!B147","v":0},{"$f":"'Wniosek 2026 r.'!E147","v":0},{"$f":"'Wniosek 2026 r.'!G147","v":0},{"$f":"'Wniosek 2026 r.'!C310","v":0},{"$f":"'Wniosek 2026 r.'!C620","v":0},{"$f":"'Wniosek 2026 r.'!C466","v":0},{"$f":"'Wniosek 2026 r.'!D466","v":0},{"$f":"'Wniosek 2026 r.'!F466","v":0},{"$f":"'Wniosek 2026 r.'!H466","v":0},{"$f":"'Wniosek 2026 r.'!C775","v":0}]
[{"$f":"'Wniosek 2026 r.'!A148","v":110},{"$f":"'Wniosek 2026 r.'!B148","v":0},{"$f":"'Wniosek 2026 r.'!E148","v":0},{"$f":"'Wniosek 2026 r.'!G148","v":0},{"$f":"'Wniosek 2026 r.'!C311","v":0},{"$f":"'Wniosek 2026 r.'!C621","v":0},{"$f":"'Wniosek 2026 r.'!C467","v":0},{"$f":"'Wniosek 2026 r.'!D467","v":0},{"$f":"'Wniosek 2026 r.'!F467","v":0},{"$f":"'Wniosek 2026 r.'!H467","v":0},{"$f":"'Wniosek 2026 r.'!C776","v":0}]
[{"$f":"'Wniosek 2026 r.'!A149","v":111},{"$f":"'Wniosek 2026 r.'!B149","v":0},{"$f":"'Wniosek 2026 r.'!E149","v":0},{"$f":"'Wniosek 2026 r.'!G149","v":0},{"$f":"'Wniosek 2026 r.'!C312","v":0},{"$f":"'Wniosek 2026 r.'!C622","v":0},{"$f":"'Wniosek 2026 r.'!C468","v":0},{"$f":"'Wniosek 2026 r.'!D468","v":0},{"$f":"'Wniosek 2026 r.'!F468","v":0},{"$f":"'Wniosek 2026 r.'!H468","v":0},{"$f":"'Wniosek 2026 r.'!C777","v":0}]
[{"$f":"'Wniosek 2026 r.'!A150","v":112},{"$f":"'Wniosek 2026 r.'!B150","v":0},{"$f":"'Wniosek 2026 r.'!E150","v":0},{"$f":"'Wniosek 2026 r.'!G150","v":0},{"$f":"'Wniosek 2026 r.'!C313","v":0},{"$f":"'Wniosek 2026 r.'!C623","v":0},{"$f":"'Wniosek 2026 r.'!C469","v":0},{"$f":"'Wniosek 2026 r.'!D469","v":0},{"$f":"'Wniosek 2026 r.'!F469","v":0},{"$f":"'Wniosek 2026 r.'!H469","v":0},{"$f":"'Wniosek 2026 r.'!C778","v":0}]
[{"$f":"'Wniosek 2026 r.'!A151","v":113},{"$f":"'Wniosek 2026 r.'!B151","v":0},{"$f":"'Wniosek 2026 r.'!E151","v":0},{"$f":"'Wniosek 2026 r.'!G151","v":0},{"$f":"'Wniosek 2026 r.'!C314","v":0},{"$f":"'Wniosek 2026 r.'!C624","v":0},{"$f":"'Wniosek 2026 r.'!C470","v":0},{"$f":"'Wniosek 2026 r.'!D470","v":0},{"$f":"'Wniosek 2026 r.'!F470","v":0},{"$f":"'Wniosek 2026 r.'!H470","v":0},{"$f":"'Wniosek 2026 r.'!C779","v":0}]
[{"$f":"'Wniosek 2026 r.'!A152","v":114},{"$f":"'Wniosek 2026 r.'!B152","v":0},{"$f":"'Wniosek 2026 r.'!E152","v":0},{"$f":"'Wniosek 2026 r.'!G152","v":0},{"$f":"'Wniosek 2026 r.'!C315","v":0},{"$f":"'Wniosek 2026 r.'!C625","v":0},{"$f":"'Wniosek 2026 r.'!C471","v":0},{"$f":"'Wniosek 2026 r.'!D471","v":0},{"$f":"'Wniosek 2026 r.'!F471","v":0},{"$f":"'Wniosek 2026 r.'!H471","v":0},{"$f":"'Wniosek 2026 r.'!C780","v":0}]
[{"$f":"'Wniosek 2026 r.'!A153","v":115},{"$f":"'Wniosek 2026 r.'!B153","v":0},{"$f":"'Wniosek 2026 r.'!E153","v":0},{"$f":"'Wniosek 2026 r.'!G153","v":0},{"$f":"'Wniosek 2026 r.'!C316","v":0},{"$f":"'Wniosek 2026 r.'!C626","v":0},{"$f":"'Wniosek 2026 r.'!C472","v":0},{"$f":"'Wniosek 2026 r.'!D472","v":0},{"$f":"'Wniosek 2026 r.'!F472","v":0},{"$f":"'Wniosek 2026 r.'!H472","v":0},{"$f":"'Wniosek 2026 r.'!C781","v":0}]
[{"$f":"'Wniosek 2026 r.'!A154","v":116},{"$f":"'Wniosek 2026 r.'!B154","v":0},{"$f":"'Wniosek 2026 r.'!E154","v":0},{"$f":"'Wniosek 2026 r.'!G154","v":0},{"$f":"'Wniosek 2026 r.'!C317","v":0},{"$f":"'Wniosek 2026 r.'!C627","v":0},{"$f":"'Wniosek 2026 r.'!C473","v":0},{"$f":"'Wniosek 2026 r.'!D473","v":0},{"$f":"'Wniosek 2026 r.'!F473","v":0},{"$f":"'Wniosek 2026 r.'!H473","v":0},{"$f":"'Wniosek 2026 r.'!C782","v":0}]
[{"$f":"'Wniosek 2026 r.'!A155","v":117},{"$f":"'Wniosek 2026 r.'!B155","v":0},{"$f":"'Wniosek 2026 r.'!E155","v":0},{"$f":"'Wniosek 2026 r.'!G155","v":0},{"$f":"'Wniosek 2026 r.'!C318","v":0},{"$f":"'Wniosek 2026 r.'!C628","v":0},{"$f":"'Wniosek 2026 r.'!C474","v":0},{"$f":"'Wniosek 2026 r.'!D474","v":0},{"$f":"'Wniosek 2026 r.'!F474","v":0},{"$f":"'Wniosek 2026 r.'!H474","v":0},{"$f":"'Wniosek 2026 r.'!C783","v":0}]
[{"$f":"'Wniosek 2026 r.'!A156","v":118},{"$f":"'Wniosek 2026 r.'!B156","v":0},{"$f":"'Wniosek 2026 r.'!E156","v":0},{"$f":"'Wniosek 2026 r.'!G156","v":0},{"$f":"'Wniosek 2026 r.'!C319","v":0},{"$f":"'Wniosek 2026 r.'!C629","v":0},{"$f":"'Wniosek 2026 r.'!C475","v":0},{"$f":"'Wniosek 2026 r.'!D475","v":0},{"$f":"'Wniosek 2026 r.'!F475","v":0},{"$f":"'Wniosek 2026 r.'!H475","v":0},{"$f":"'Wniosek 2026 r.'!C784","v":0}]
[{"$f":"'Wniosek 2026 r.'!A157","v":119},{"$f":"'Wniosek 2026 r.'!B157","v":0},{"$f":"'Wniosek 2026 r.'!E157","v":0},{"$f":"'Wniosek 2026 r.'!G157","v":0},{"$f":"'Wniosek 2026 r.'!C320","v":0},{"$f":"'Wniosek 2026 r.'!C630","v":0},{"$f":"'Wniosek 2026 r.'!C476","v":0},{"$f":"'Wniosek 2026 r.'!D476","v":0},{"$f":"'Wniosek 2026 r.'!F476","v":0},{"$f":"'Wniosek 2026 r.'!H476","v":0},{"$f":"'Wniosek 2026 r.'!C785","v":0}]
[{"$f":"'Wniosek 2026 r.'!A158","v":120},{"$f":"'Wniosek 2026 r.'!B158","v":0},{"$f":"'Wniosek 2026 r.'!E158","v":0},{"$f":"'Wniosek 2026 r.'!G158","v":0},{"$f":"'Wniosek 2026 r.'!C321","v":0},{"$f":"'Wniosek 2026 r.'!C631","v":0},{"$f":"'Wniosek 2026 r.'!C477","v":0},{"$f":"'Wniosek 2026 r.'!D477","v":0},{"$f":"'Wniosek 2026 r.'!F477","v":0},{"$f":"'Wniosek 2026 r.'!H477","v":0},{"$f":"'Wniosek 2026 r.'!C786","v":0}]
[{"$f":"'Wniosek 2026 r.'!A159","v":121},{"$f":"'Wniosek 2026 r.'!B159","v":0},{"$f":"'Wniosek 2026 r.'!E159","v":0},{"$f":"'Wniosek 2026 r.'!G159","v":0},{"$f":"'Wniosek 2026 r.'!C322","v":0},{"$f":"'Wniosek 2026 r.'!C632","v":0},{"$f":"'Wniosek 2026 r.'!C478","v":0},{"$f":"'Wniosek 2026 r.'!D478","v":0},{"$f":"'Wniosek 2026 r.'!F478","v":0},{"$f":"'Wniosek 2026 r.'!H478","v":0},{"$f":"'Wniosek 2026 r.'!C787","v":0}]
[{"$f":"'Wniosek 2026 r.'!A160","v":122},{"$f":"'Wniosek 2026 r.'!B160","v":0},{"$f":"'Wniosek 2026 r.'!E160","v":0},{"$f":"'Wniosek 2026 r.'!G160","v":0},{"$f":"'Wniosek 2026 r.'!C323","v":0},{"$f":"'Wniosek 2026 r.'!C633","v":0},{"$f":"'Wniosek 2026 r.'!C479","v":0},{"$f":"'Wniosek 2026 r.'!D479","v":0},{"$f":"'Wniosek 2026 r.'!F479","v":0},{"$f":"'Wniosek 2026 r.'!H479","v":0},{"$f":"'Wniosek 2026 r.'!C788","v":0}]
[{"$f":"'Wniosek 2026 r.'!A161","v":123},{"$f":"'Wniosek 2026 r.'!B161","v":0},{"$f":"'Wniosek 2026 r.'!E161","v":0},{"$f":"'Wniosek 2026 r.'!G161","v":0},{"$f":"'Wniosek 2026 r.'!C324","v":0},{"$f":"'Wniosek 2026 r.'!C634","v":0},{"$f":"'Wniosek 2026 r.'!C480","v":0},{"$f":"'Wniosek 2026 r.'!D480","v":0},{"$f":"'Wniosek 2026 r.'!F480","v":0},{"$f":"'Wniosek 2026 r.'!H480","v":0},{"$f":"'Wniosek 2026 r.'!C789","v":0}]
[{"$f":"'Wniosek 2026 r.'!A162","v":124},{"$f":"'Wniosek 2026 r.'!B162","v":0},{"$f":"'Wniosek 2026 r.'!E162","v":0},{"$f":"'Wniosek 2026 r.'!G162","v":0},{"$f":"'Wniosek 2026 r.'!C325","v":0},{"$f":"'Wniosek 2026 r.'!C635","v":0},{"$f":"'Wniosek 2026 r.'!C481","v":0},{"$f":"'Wniosek 2026 r.'!D481","v":0},{"$f":"'Wniosek 2026 r.'!F481","v":0},{"$f":"'Wniosek 2026 r.'!H481","v":0},{"$f":"'Wniosek 2026 r.'!C790","v":0}]
[{"$f":"'Wniosek 2026 r.'!A163","v":125},{"$f":"'Wniosek 2026 r.'!B163","v":0},{"$f":"'Wniosek 2026 r.'!E163","v":0},{"$f":"'Wniosek 2026 r.'!G163","v":0},{"$f":"'Wniosek 2026 r.'!C326","v":0},{"$f":"'Wniosek 2026 r.'!C636","v":0},{"$f":"'Wniosek 2026 r.'!C482","v":0},{"$f":"'Wniosek 2026 r.'!D482","v":0},{"$f":"'Wniosek 2026 r.'!F482","v":0},{"$f":"'Wniosek 2026 r.'!H482","v":0},{"$f":"'Wniosek 2026 r.'!C791","v":0}]
[{"$f":"'Wniosek 2026 r.'!A164","v":126},{"$f":"'Wniosek 2026 r.'!B164","v":0},{"$f":"'Wniosek 2026 r.'!E164","v":0},{"$f":"'Wniosek 2026 r.'!G164","v":0},{"$f":"'Wniosek 2026 r.'!C327","v":0},{"$f":"'Wniosek 2026 r.'!C637","v":0},{"$f":"'Wniosek 2026 r.'!C483","v":0},{"$f":"'Wniosek 2026 r.'!D483","v":0},{"$f":"'Wniosek 2026 r.'!F483","v":0},{"$f":"'Wniosek 2026 r.'!H483","v":0},{"$f":"'Wniosek 2026 r.'!C792","v":0}]
[{"$f":"'Wniosek 2026 r.'!A165","v":127},{"$f":"'Wniosek 2026 r.'!B165","v":0},{"$f":"'Wniosek 2026 r.'!E165","v":0},{"$f":"'Wniosek 2026 r.'!G165","v":0},{"$f":"'Wniosek 2026 r.'!C328","v":0},{"$f":"'Wniosek 2026 r.'!C638","v":0},{"$f":"'Wniosek 2026 r.'!C484","v":0},{"$f":"'Wniosek 2026 r.'!D484","v":0},{"$f":"'Wniosek 2026 r.'!F484","v":0},{"$f":"'Wniosek 2026 r.'!H484","v":0},{"$f":"'Wniosek 2026 r.'!C793","v":0}]
[{"$f":"'Wniosek 2026 r.'!A166","v":128},{"$f":"'Wniosek 2026 r.'!B166","v":0},{"$f":"'Wniosek 2026 r.'!E166","v":0},{"$f":"'Wniosek 2026 r.'!G166","v":0},{"$f":"'Wniosek 2026 r.'!C329","v":0},{"$f":"'Wniosek 2026 r.'!C639","v":0},{"$f":"'Wniosek 2026 r.'!C485","v":0},{"$f":"'Wniosek 2026 r.'!D485","v":0},{"$f":"'Wniosek 2026 r.'!F485","v":0},{"$f":"'Wniosek 2026 r.'!H485","v":0},{"$f":"'Wniosek 2026 r.'!C794","v":0}]
[{"$f":"'Wniosek 2026 r.'!A167","v":129},{"$f":"'Wniosek 2026 r.'!B167","v":0},{"$f":"'Wniosek 2026 r.'!E167","v":0},{"$f":"'Wniosek 2026 r.'!G167","v":0},{"$f":"'Wniosek 2026 r.'!C330","v":0},{"$f":"'Wniosek 2026 r.'!C640","v":0},{"$f":"'Wniosek 2026 r.'!C486","v":0},{"$f":"'Wniosek 2026 r.'!D486","v":0},{"$f":"'Wniosek 2026 r.'!F486","v":0},{"$f":"'Wniosek 2026 r.'!H486","v":0},{"$f":"'Wniosek 2026 r.'!C795","v":0}]
[{"$f":"'Wniosek 2026 r.'!A168","v":130},{"$f":"'Wniosek 2026 r.'!B168","v":0},{"$f":"'Wniosek 2026 r.'!E168","v":0},{"$f":"'Wniosek 2026 r.'!G168","v":0},{"$f":"'Wniosek 2026 r.'!C331","v":0},{"$f":"'Wniosek 2026 r.'!C641","v":0},{"$f":"'Wniosek 2026 r.'!C487","v":0},{"$f":"'Wniosek 2026 r.'!D487","v":0},{"$f":"'Wniosek 2026 r.'!F487","v":0},{"$f":"'Wniosek 2026 r.'!H487","v":0},{"$f":"'Wniosek 2026 r.'!C796","v":0}]
[{"$f":"'Wniosek 2026 r.'!A169","v":131},{"$f":"'Wniosek 2026 r.'!B169","v":0},{"$f":"'Wniosek 2026 r.'!E169","v":0},{"$f":"'Wniosek 2026 r.'!G169","v":0},{"$f":"'Wniosek 2026 r.'!C332","v":0},{"$f":"'Wniosek 2026 r.'!C642","v":0},{"$f":"'Wniosek 2026 r.'!C488","v":0},{"$f":"'Wniosek 2026 r.'!D488","v":0},{"$f":"'Wniosek 2026 r.'!F488","v":0},{"$f":"'Wniosek 2026 r.'!H488","v":0},{"$f":"'Wniosek 2026 r.'!C797","v":0}]
[{"$f":"'Wniosek 2026 r.'!A170","v":132},{"$f":"'Wniosek 2026 r.'!B170","v":0},{"$f":"'Wniosek 2026 r.'!E170","v":0},{"$f":"'Wniosek 2026 r.'!G170","v":0},{"$f":"'Wniosek 2026 r.'!C333","v":0},{"$f":"'Wniosek 2026 r.'!C643","v":0},{"$f":"'Wniosek 2026 r.'!C489","v":0},{"$f":"'Wniosek 2026 r.'!D489","v":0},{"$f":"'Wniosek 2026 r.'!F489","v":0},{"$f":"'Wniosek 2026 r.'!H489","v":0},{"$f":"'Wniosek 2026 r.'!C798","v":0}]
[{"$f":"'Wniosek 2026 r.'!A171","v":133},{"$f":"'Wniosek 2026 r.'!B171","v":0},{"$f":"'Wniosek 2026 r.'!E171","v":0},{"$f":"'Wniosek 2026 r.'!G171","v":0},{"$f":"'Wniosek 2026 r.'!C334","v":0},{"$f":"'Wniosek 2026 r.'!C644","v":0},{"$f":"'Wniosek 2026 r.'!C490","v":0},{"$f":"'Wniosek 2026 r.'!D490","v":0},{"$f":"'Wniosek 2026 r.'!F490","v":0},{"$f":"'Wniosek 2026 r.'!H490","v":0},{"$f":"'Wniosek 2026 r.'!C799","v":0}]
[{"$f":"'Wniosek 2026 r.'!A172","v":134},{"$f":"'Wniosek 2026 r.'!B172","v":0},{"$f":"'Wniosek 2026 r.'!E172","v":0},{"$f":"'Wniosek 2026 r.'!G172","v":0},{"$f":"'Wniosek 2026 r.'!C335","v":0},{"$f":"'Wniosek 2026 r.'!C645","v":0},{"$f":"'Wniosek 2026 r.'!C491","v":0},{"$f":"'Wniosek 2026 r.'!D491","v":0},{"$f":"'Wniosek 2026 r.'!F491","v":0},{"$f":"'Wniosek 2026 r.'!H491","v":0},{"$f":"'Wniosek 2026 r.'!C800","v":0}]
[{"$f":"'Wniosek 2026 r.'!A173","v":135},{"$f":"'Wniosek 2026 r.'!B173","v":0},{"$f":"'Wniosek 2026 r.'!E173","v":0},{"$f":"'Wniosek 2026 r.'!G173","v":0},{"$f":"'Wniosek 2026 r.'!C336","v":0},{"$f":"'Wniosek 2026 r.'!C646","v":0},{"$f":"'Wniosek 2026 r.'!C492","v":0},{"$f":"'Wniosek 2026 r.'!D492","v":0},{"$f":"'Wniosek 2026 r.'!F492","v":0},{"$f":"'Wniosek 2026 r.'!H492","v":0},{"$f":"'Wniosek 2026 r.'!C801","v":0}]
[{"$f":"'Wniosek 2026 r.'!A174","v":136},{"$f":"'Wniosek 2026 r.'!B174","v":0},{"$f":"'Wniosek 2026 r.'!E174","v":0},{"$f":"'Wniosek 2026 r.'!G174","v":0},{"$f":"'Wniosek 2026 r.'!C337","v":0},{"$f":"'Wniosek 2026 r.'!C647","v":0},{"$f":"'Wniosek 2026 r.'!C493","v":0},{"$f":"'Wniosek 2026 r.'!D493","v":0},{"$f":"'Wniosek 2026 r.'!F493","v":0},{"$f":"'Wniosek 2026 r.'!H493","v":0},{"$f":"'Wniosek 2026 r.'!C802","v":0}]
[{"$f":"'Wniosek 2026 r.'!A175","v":137},{"$f":"'Wniosek 2026 r.'!B175","v":0},{"$f":"'Wniosek 2026 r.'!E175","v":0},{"$f":"'Wniosek 2026 r.'!G175","v":0},{"$f":"'Wniosek 2026 r.'!C338","v":0},{"$f":"'Wniosek 2026 r.'!C648","v":0},{"$f":"'Wniosek 2026 r.'!C494","v":0},{"$f":"'Wniosek 2026 r.'!D494","v":0},{"$f":"'Wniosek 2026 r.'!F494","v":0},{"$f":"'Wniosek 2026 r.'!H494","v":0},{"$f":"'Wniosek 2026 r.'!C803","v":0}]
[{"$f":"'Wniosek 2026 r.'!A176","v":138},{"$f":"'Wniosek 2026 r.'!B176","v":0},{"$f":"'Wniosek 2026 r.'!E176","v":0},{"$f":"'Wniosek 2026 r.'!G176","v":0},{"$f":"'Wniosek 2026 r.'!C339","v":0},{"$f":"'Wniosek 2026 r.'!C649","v":0},{"$f":"'Wniosek 2026 r.'!C495","v":0},{"$f":"'Wniosek 2026 r.'!D495","v":0},{"$f":"'Wniosek 2026 r.'!F495","v":0},{"$f":"'Wniosek 2026 r.'!H495","v":0},{"$f":"'Wniosek 2026 r.'!C804","v":0}]
[{"$f":"'Wniosek 2026 r.'!A177","v":139},{"$f":"'Wniosek 2026 r.'!B177","v":0},{"$f":"'Wniosek 2026 r.'!E177","v":0},{"$f":"'Wniosek 2026 r.'!G177","v":0},{"$f":"'Wniosek 2026 r.'!C340","v":0},{"$f":"'Wniosek 2026 r.'!C650","v":0},{"$f":"'Wniosek 2026 r.'!C496","v":0},{"$f":"'Wniosek 2026 r.'!D496","v":0},{"$f":"'Wniosek 2026 r.'!F496","v":0},{"$f":"'Wniosek 2026 r.'!H496","v":0},{"$f":"'Wniosek 2026 r.'!C805","v":0}]
[{"$f":"'Wniosek 2026 r.'!A178","v":140},{"$f":"'Wniosek 2026 r.'!B178","v":0},{"$f":"'Wniosek 2026 r.'!E178","v":0},{"$f":"'Wniosek 2026 r.'!G178","v":0},{"$f":"'Wniosek 2026 r.'!C341","v":0},{"$f":"'Wniosek 2026 r.'!C651","v":0},{"$f":"'Wniosek 2026 r.'!C497","v":0},{"$f":"'Wniosek 2026 r.'!D497","v":0},{"$f":"'Wniosek 2026 r.'!F497","v":0},{"$f":"'Wniosek 2026 r.'!H497","v":0},{"$f":"'Wniosek 2026 r.'!C806","v":0}]
[{"$f":"'Wniosek 2026 r.'!A179","v":141},{"$f":"'Wniosek 2026 r.'!B179","v":0},{"$f":"'Wniosek 2026 r.'!E179","v":0},{"$f":"'Wniosek 2026 r.'!G179","v":0},{"$f":"'Wniosek 2026 r.'!C342","v":0},{"$f":"'Wniosek 2026 r.'!C652","v":0},{"$f":"'Wniosek 2026 r.'!C498","v":0},{"$f":"'Wniosek 2026 r.'!D498","v":0},{"$f":"'Wniosek 2026 r.'!F498","v":0},{"$f":"'Wniosek 2026 r.'!H498","v":0},{"$f":"'Wniosek 2026 r.'!C807","v":0}]
[{"$f":"'Wniosek 2026 r.'!A180","v":142},{"$f":"'Wniosek 2026 r.'!B180","v":0},{"$f":"'Wniosek 2026 r.'!E180","v":0},{"$f":"'Wniosek 2026 r.'!G180","v":0},{"$f":"'Wniosek 2026 r.'!C343","v":0},{"$f":"'Wniosek 2026 r.'!C653","v":0},{"$f":"'Wniosek 2026 r.'!C499","v":0},{"$f":"'Wniosek 2026 r.'!D499","v":0},{"$f":"'Wniosek 2026 r.'!F499","v":0},{"$f":"'Wniosek 2026 r.'!H499","v":0},{"$f":"'Wniosek 2026 r.'!C808","v":0}]
[{"$f":"'Wniosek 2026 r.'!A181","v":143},{"$f":"'Wniosek 2026 r.'!B181","v":0},{"$f":"'Wniosek 2026 r.'!E181","v":0},{"$f":"'Wniosek 2026 r.'!G181","v":0},{"$f":"'Wniosek 2026 r.'!C344","v":0},{"$f":"'Wniosek 2026 r.'!C654","v":0},{"$f":"'Wniosek 2026 r.'!C500","v":0},{"$f":"'Wniosek 2026 r.'!D500","v":0},{"$f":"'Wniosek 2026 r.'!F500","v":0},{"$f":"'Wniosek 2026 r.'!H500","v":0},{"$f":"'Wniosek 2026 r.'!C809","v":0}]
[{"$f":"'Wniosek 2026 r.'!A182","v":144},{"$f":"'Wniosek 2026 r.'!B182","v":0},{"$f":"'Wniosek 2026 r.'!E182","v":0},{"$f":"'Wniosek 2026 r.'!G182","v":0},{"$f":"'Wniosek 2026 r.'!C345","v":0},{"$f":"'Wniosek 2026 r.'!C655","v":0},{"$f":"'Wniosek 2026 r.'!C501","v":0},{"$f":"'Wniosek 2026 r.'!D501","v":0},{"$f":"'Wniosek 2026 r.'!F501","v":0},{"$f":"'Wniosek 2026 r.'!H501","v":0},{"$f":"'Wniosek 2026 r.'!C810","v":0}]
[{"$f":"'Wniosek 2026 r.'!A183","v":145},{"$f":"'Wniosek 2026 r.'!B183","v":0},{"$f":"'Wniosek 2026 r.'!E183","v":0},{"$f":"'Wniosek 2026 r.'!G183","v":0},{"$f":"'Wniosek 2026 r.'!C346","v":0},{"$f":"'Wniosek 2026 r.'!C656","v":0},{"$f":"'Wniosek 2026 r.'!C502","v":0},{"$f":"'Wniosek 2026 r.'!D502","v":0},{"$f":"'Wniosek 2026 r.'!F502","v":0},{"$f":"'Wniosek 2026 r.'!H502","v":0},{"$f":"'Wniosek 2026 r.'!C811","v":0}]
[{"$f":"'Wniosek 2026 r.'!A184","v":146},{"$f":"'Wniosek 2026 r.'!B184","v":0},{"$f":"'Wniosek 2026 r.'!E184","v":0},{"$f":"'Wniosek 2026 r.'!G184","v":0},{"$f":"'Wniosek 2026 r.'!C347","v":0},{"$f":"'Wniosek 2026 r.'!C657","v":0},{"$f":"'Wniosek 2026 r.'!C503","v":0},{"$f":"'Wniosek 2026 r.'!D503","v":0},{"$f":"'Wniosek 2026 r.'!F503","v":0},{"$f":"'Wniosek 2026 r.'!H503","v":0},{"$f":"'Wniosek 2026 r.'!C812","v":0}]
[{"$f":"'Wniosek 2026 r.'!A185","v":147},{"$f":"'Wniosek 2026 r.'!B185","v":0},{"$f":"'Wniosek 2026 r.'!E185","v":0},{"$f":"'Wniosek 2026 r.'!G185","v":0},{"$f":"'Wniosek 2026 r.'!C348","v":0},{"$f":"'Wniosek 2026 r.'!C658","v":0},{"$f":"'Wniosek 2026 r.'!C504","v":0},{"$f":"'Wniosek 2026 r.'!D504","v":0},{"$f":"'Wniosek 2026 r.'!F504","v":0},{"$f":"'Wniosek 2026 r.'!H504","v":0},{"$f":"'Wniosek 2026 r.'!C813","v":0}]
[{"$f":"'Wniosek 2026 r.'!A186","v":148},{"$f":"'Wniosek 2026 r.'!B186","v":0},{"$f":"'Wniosek 2026 r.'!E186","v":0},{"$f":"'Wniosek 2026 r.'!G186","v":0},{"$f":"'Wniosek 2026 r.'!C349","v":0},{"$f":"'Wniosek 2026 r.'!C659","v":0},{"$f":"'Wniosek 2026 r.'!C505","v":0},{"$f":"'Wniosek 2026 r.'!D505","v":0},{"$f":"'Wniosek 2026 r.'!F505","v":0},{"$f":"'Wniosek 2026 r.'!H505","v":0},{"$f":"'Wniosek 2026 r.'!C814","v":0}]
[{"$f":"'Wniosek 2026 r.'!A187","v":149},{"$f":"'Wniosek 2026 r.'!B187","v":0},{"$f":"'Wniosek 2026 r.'!E187","v":0},{"$f":"'Wniosek 2026 r.'!G187","v":0},{"$f":"'Wniosek 2026 r.'!C350","v":0},{"$f":"'Wniosek 2026 r.'!C660","v":0},{"$f":"'Wniosek 2026 r.'!C506","v":0},{"$f":"'Wniosek 2026 r.'!D506","v":0},{"$f":"'Wniosek 2026 r.'!F506","v":0},{"$f":"'Wniosek 2026 r.'!H506","v":0},{"$f":"'Wniosek 2026 r.'!C815","v":0}]
[{"$f":"'Wniosek 2026 r.'!A188","v":150},{"$f":"'Wniosek 2026 r.'!B188","v":0},{"$f":"'Wniosek 2026 r.'!E188","v":0},{"$f":"'Wniosek 2026 r.'!G188","v":0},{"$f":"'Wniosek 2026 r.'!C351","v":0},{"$f":"'Wniosek 2026 r.'!C661","v":0},{"$f":"'Wniosek 2026 r.'!C507","v":0},{"$f":"'Wniosek 2026 r.'!D507","v":0},{"$f":"'Wniosek 2026 r.'!F507","v":0},{"$f":"'Wniosek 2026 r.'!H507","v":0},{"$f":"'Wniosek 2026 r.'!C816","v":0}]
["Suma",null,{"$f":"SUM(C3:C152)","v":0},{"$f":"SUMIF(D3:D152,\">0\")","v":0},{"$f":"SUM(E3:E152)","v":0},{"$f":"SUM(F3:F152)","v":0},null,null,null,{"$f":"SUM(J3:J152)","v":0},{"$f":"SUM(K3:K152)","v":0}]
[]
[null,"Weryfikacja",null,null,null,null,null,null,null,null,null,null,null,null,null,null,null,"Zgodność kalkulacji"]
[{"$f":"A2","v":"l.p"},"Częstotliwość","Cena usługi","Wkład własny/km [zł]","Wkład własny [%]","Wkład własny [zł]","Def z ceny usł","Kwota dopłaty","Max kwota dopł na podst wk. wł.","Max kwota dopł na podst wk wł/wzkm ","Kwota dopłaty/wozokm","10% z deficytu ","10 % z ceny usługi","warunek 10%","max 1 (3) zł/wzkm","Różnica w finansowaniu","Różnica def z zaokrągleń",{"$f":"IF('Zał. nr 2 kalkulacja - 2026 r.'!M178=('Wniosek 2026 r.'!C662*(-1)),'Weryfikacja 2026 r.'!M1,'Weryfikacja 2026 r.'!M2)","v":"ok"}]
[1,{"$f":"IFERROR(E3/C3,\"\")","v":""},{"$f":"IFERROR(F3/E3,\"\")","v":""},{"$f":"H3","v":0},{"$f":"IFERROR(D157/C157,\"\")","v":""},{"$f":"D157*E3","v":0},{"$f":"G3*E3","v":0},{"$f":"IFERROR(J157*E3,0)","v":0},{"$f":"IFERROR(J157*E3,0)","v":0},{"$f":"IFERROR(IF((F3-J3)/E3>=$L$3,$L$3,(F3-J3)/E3),0)","v":0},{"$f":"IFERROR(K3/E3,0)","v":0},{"$f":"F3*0.1","v":0},{"$f":"IFERROR(C157*0.1,0)","v":0},{"$f":"IF(D157>=M157,$M$1,$M$2)","v":"ok"},{"$f":"IF(K157<=$L$3,$M$1,$M$2)","v":"ok"},{"$f":"(H157+F157)-F3","v":0},{"$f":"F3-G157","v":0}]
[2,"","",0,{"$f":"IFERROR(D158/C158,\"\")","v":""},0,0,0,0,0,0,0,{"$f":"IFERROR(C158*0.1,0)","v":0},{"$f":"IF(D158>=M158,$M$1,$M$2)","v":"ok"},{"$f":"IF(K158<=$L$3,$M$1,$M$2)","v":"ok"},0,0]
[3,"","",0,"",0,0,0,0,0,0,0,0,"ok","ok",0,0]
[4,"","",0,"",0,0,0,0,0,0,0,0,"ok","ok",0,0]
[5,"","",0,"",0,0,0,0,0,0,0,0,"ok","ok",0,0]
[6,"","",0,"",0,0,0,0,0,0,0,0,"ok","ok",0,0]
[7,"","",0,"",0,0,0,0,0,0,0,0,"ok","ok",0,0]
[8,"","",0,"",0,0,0,0,0,0,0,0,"ok","ok",0,0]
[9,"","",0,"",0,0,0,0,0,0,0,0,"ok","ok",0,0]
[10,"","",0,"",0,0,0,0,0,0,0,0,"ok","ok",0,0]
[11,"","",0,"",0,0,0,0,0,0,0,0,"ok","ok",0,0]
[12,"","",0,"",0,0,0,0,0,0,0,0,"ok","ok",0,0]
[13,"","",0,"",0,0,0,0,0,0,0,0,"ok","ok",0,0]
[14,"","",0,"",0,0,0,0,0,0,0,0,"ok","ok",0,0]
[15,"","",0,"",0,0,0,0,0,0,0,0,"ok","ok",0,0]
[16,"","",0,"",0,0,0,0,0,0,0,0,"ok","ok",0,0]
[17,"","",0,"",0,0,0,0,0,0,0,0,"ok","ok",0,0]
[18,"","",0,"",0,0,0,0,0,0,0,0,"ok","ok",0,0]
[19,"","",0,"",0,0,0,0,0,0,0,0,"ok","ok",0,0]
[20,"","",0,"",0,0,0,0,0,0,0,0,"ok","ok",0,0]
[21,"","",0,"",0,0,0,0,0,0,0,0,"ok","ok",0,0]
[22,"","",0,"",0,0,0,0,0,0,0,0,"ok","ok",0,0]
[23,"","",0,"",0,0,0,0,0,0,0,0,"ok","ok",0,0]
[24,"","",0,"",0,0,0,0,0,0,0,0,"ok","ok",0,0]
[25,"","",0,"",0,0,0,0,0,0,0,0,"ok","ok",0,0]
[26,"","",0,"",0,0,0,0,0,0,0,0,"ok","ok",0,0]
[27,"","",0,"",0,0,0,0,0,0,0,0,"ok","ok",0,0]
[28,"","",0,"",0,0,0,0,0,0,0,0,"ok","ok",0,0]
[29,"","",0,"",0,0,0,0,0,0,0,0,"ok","ok",0,0]
[30,"","",0,"",0,0,0,0,0,0,0,0,"ok","ok",0,0]
[31,"","",0,"",0,0,0,0,0,0,0,0,"ok","ok",0,0]
[{"$f":"A34","v":32},"","",0,"",0,0,0,0,0,0,0,0,"ok","ok",0,0]
[33,{"$f":"IFERROR(E35/C35,\"\")","v":""},{"$f":"IFERROR(F35/E35,\"\")","v":""},{"$f":"H35","v":0},"",{"$f":"D189*E35","v":0},{"$f":"G35*E35","v":0},{"$f":"IFERROR(J189*E35,0)","v":0},{"$f":"IFERROR(J189*E35,0)","v":0},{"$f":"IFERROR(IF((F35-J35)/E35>=$L$3,$L$3,(F35-J35)/E35),0)","v":0},{"$f":"IFERROR(K35/E35,0)","v":0},{"$f":"F35*0.1","v":0},0,"ok","ok",{"$f":"(H189+F189)-F35","v":0},{"$f":"F35-G189","v":0}]
[34,"","",0,"",0,0,0,0,0,0,0,0,"ok","ok",0,0]
[35,"","",0,"",0,0,0,0,0,0,0,0,"ok","ok",0,0]
[36,"","",0,"",0,0,0,0,0,0,0,0,"ok","ok",0,0]
[37,"","",0,"",0,0,0,0,0,0,0,0,"ok","ok",0,0]
[38,"","",0,"",0,0,0,0,0,0,0,0,"ok","ok",0,0]
[39,"","",0,"",0,0,0,0,0,0,0,0,"ok","ok",0,0]
[40,"","",0,"",0,0,0,0,0,0,0,0,"ok","ok",0,0]
[41,"","",0,"",0,0,0,0,0,0,0,0,"ok","ok",0,0]
[42,"","",0,"",0,0,0,0,0,0,0,0,"ok","ok",0,0]
[43,"","",0,"",0,0,0,0,0,0,0,0,"ok","ok",0,0]
[44,"","",0,"",0,0,0,0,0,0,0,0,"ok","ok",0,0]
[45,"","",0,"",0,0,0,0,0,0,0,0,"ok","ok",0,0]
[46,"","",0,"",0,0,0,0,0,0,0,0,"ok","ok",0,0]
[47,"","",0,"",0,0,0,0,0,0,0,0,"ok","ok",0,0]
[48,"","",0,"",0,0,0,0,0,0,0,0,"ok","ok",0,0]
[49,"","",0,"",0,0,0,0,0,0,0,0,"ok","ok",0,0]
[50,"","",0,"",0,0,0,0,0,0,0,0,"ok","ok",0,0]
[51,"","",0,"",0,0,0,0,0,0,0,0,"ok","ok",0,0]
[52,"","",0,"",0,0,0,0,0,0,0,0,"ok","ok",0,0]
[53,"","",0,"",0,0,0,0,0,0,0,0,"ok","ok",0,0]
[54,"","",0,"",0,0,0,0,0,0,0,0,"ok","ok",0,0]
[55,"","",0,"",0,0,0,0,0,0,0,0,"ok","ok",0,0]
[56,"","",0,"",0,0,0,0,0,0,0,0,"ok","ok",0,0]
[57,"","",0,"",0,0,0,0,0,0,0,0,"ok","ok",0,0]
[58,"","",0,"",0,0,0,0,0,0,0,0,"ok","ok",0,0]
[59,"","",0,"",0,0,0,0,0,0,0,0,"ok","ok",0,0]
[60,"","",0,"",0,0,0,0,0,0,0,0,"ok","ok",0,0]
[61,"","",0,"",0,0,0,0,0,0,0,0,"ok","ok",0,0]
[62,"","",0,"",0,0,0,0,0,0,0,0,"ok","ok",0,0]
[63,"","",0,"",0,0,0,0,0,0,0,0,"ok","ok",0,0]
[{"$f":"A66","v":64},"","",0,"",0,0,0,0,0,0,0,0,"ok","ok",0,0]
[65,{"$f":"IFERROR(E67/C67,\"\")","v":""},{"$f":"IFERROR(F67/E67,\"\")","v":""},{"$f":"H67","v":0},"",{"$f":"D221*E67","v":0},{"$f":"G67*E67","v":0},{"$f":"IFERROR(J221*E67,0)","v":0},{"$f":"IFERROR(J221*E67,0)","v":0},{"$f":"IFERROR(IF((F67-J67)/E67>=$L$3,$L$3,(F67-J67)/E67),0)","v":0},{"$f":"IFERROR(K67/E67,0)","v":0},{"$f":"F67*0.1","v":0},0,"ok","ok",{"$f":"(H221+F221)-F67","v":0},{"$f":"F67-G221","v":0}]
[66,"","",0,{"$f":"IFERROR(D222/C222,\"\")","v":""},0,0,0,0,0,0,0,{"$f":"IFERROR(C222*0.1,0)","v":0},{"$f":"IF(D222>=M222,$M$1,$M$2)","v":"ok"},{"$f":"IF(K222<=$L$3,$M$1,$M$2)","v":"ok"},0,0]
[67,"","",0,"",0,0,0,0,0,0,0,0,"ok","ok",0,0]
[68,"","",0,"",0,0,0,0,0,0,0,0,"ok","ok",0,0]
[69,"","",0,"",0,0,0,0,0,0,0,0,"ok","ok",0,0]
[70,"","",0,"",0,0,0,0,0,0,0,0,"ok","ok",0,0]
[71,"","",0,"",0,0,0,0,0,0,0,0,"ok","ok",0,0]
[72,"","",0,"",0,0,0,0,0,0,0,0,"ok","ok",0,0]
[73,"","",0,"",0,0,0,0,0,0,0,0,"ok","ok",0,0]
[74,"","",0,"",0,0,0,0,0,0,0,0,"ok","ok",0,0]
[75,"","",0,"",0,0,0,0,0,0,0,0,"ok","ok",0,0]
[76,"","",0,"",0,0,0,0,0,0,0,0,"ok","ok",0,0]
[77,"","",0,"",0,0,0,0,0,0,0,0,"ok","ok",0,0]
[78,"","",0,"",0,0,0,0,0,0,0,0,"ok","ok",0,0]
[79,"","",0,"",0,0,0,0,0,0,0,0,"ok","ok",0,0]
[80,"","",0,"",0,0,0,0,0,0,0,0,"ok","ok",0,0]
[81,"","",0,"",0,0,0,0,0,0,0,0,"ok","ok",0,0]
[82,"","",0,"",0,0,0,0,0,0,0,0,"ok","ok",0,0]
[83,"","",0,"",0,0,0,0,0,0,0,0,"ok","ok",0,0]
[84,"","",0,"",0,0,0,0,0,0,0,0,"ok","ok",0,0]
[85,"","",0,"",0,0,0,0,0,0,0,0,"ok","ok",0,0]
[86,"","",0,"",0,0,0,0,0,0,0,0,"ok","ok",0,0]
[87,"","",0,"",0,0,0,0,0,0,0,0,"ok","ok",0,0]
[88,"","",0,"",0,0,0,0,0,0,0,0,"ok","ok",0,0]
[89,"","",0,"",0,0,0,0,0,0,0,0,"ok","ok",0,0]
[90,"","",0,"",0,0,0,0,0,0,0,0,"ok","ok",0,0]
[91,"","",0,"",0,0,0,0,0,0,0,0,"ok","ok",0,0]
[92,"","",0,"",0,0,0,0,0,0,0,0,"ok","ok",0,0]
[93,"","",0,"",0,0,0,0,0,0,0,0,"ok","ok",0,0]
[94,"","",0,"",0,0,0,0,0,0,0,0,"ok","ok",0,0]
[95,"","",0,"",0,0,0,0,0,0,0,0,"ok","ok",0,0]
[{"$f":"A98","v":96},"","",0,"",0,0,0,0,0,0,0,0,"ok","ok",0,0]
[97,{"$f":"IFERROR(E99/C99,\"\")","v":""},{"$f":"IFERROR(F99/E99,\"\")","v":""},{"$f":"H99","v":0},"",{"$f":"D253*E99","v":0},{"$f":"G99*E99","v":0},{"$f":"IFERROR(J253*E99,0)","v":0},{"$f":"IFERROR(J253*E99,0)","v":0},{"$f":"IFERROR(IF((F99-J99)/E99>=$L$3,$L$3,(F99-J99)/E99),0)","v":0},{"$f":"IFERROR(K99/E99,0)","v":0},{"$f":"F99*0.1","v":0},0,"ok","ok",{"$f":"(H253+F253)-F99","v":0},{"$f":"F99-G253","v":0}]
[98,"","",0,"",0,0,0,0,0,0,0,0,"ok","ok",0,0]
[99,"","",0,"",0,0,0,0,0,0,0,0,"ok","ok",0,0]
[100,"","",0,"",0,0,0,0,0,0,0,0,"ok","ok",0,0]
[101,"","",0,"",0,0,0,0,0,0,0,0,"ok","ok",0,0]
[102,"","",0,"",0,0,0,0,0,0,0,0,"ok","ok",0,0]
[103,"","",0,"",0,0,0,0,0,0,0,0,"ok","ok",0,0]
[104,"","",0,"",0,0,0,0,0,0,0,0,"ok","ok",0,0]
[105,"","",0,"",0,0,0,0,0,0,0,0,"ok","ok",0,0]
[106,"","",0,"",0,0,0,0,0,0,0,0,"ok","ok",0,0]
[107,"","",0,"",0,0,0,0,0,0,0,0,"ok","ok",0,0]
[108,"","",0,"",0,0,0,0,0,0,0,0,"ok","ok",0,0]
[109,"","",0,"",0,0,0,0,0,0,0,0,"ok","ok",0,0]
[110,"","",0,"",0,0,0,0,0,0,0,0,"ok","ok",0,0]
[111,"","",0,"",0,0,0,0,0,0,0,0,"ok","ok",0,0]
[112,"","",0,"",0,0,0,0,0,0,0,0,"ok","ok",0,0]
[113,"","",0,"",0,0,0,0,0,0,0,0,"ok","ok",0,0]
[114,"","",0,"",0,0,0,0,0,0,0,0,"ok","ok",0,0]
[115,"","",0,"",0,0,0,0,0,0,0,0,"ok","ok",0,0]
[116,"","",0,"",0,0,0,0,0,0,0,0,"ok","ok",0,0]
[117,"","",0,"",0,0,0,0,0,0,0,0,"ok","ok",0,0]
[118,"","",0,"",0,0,0,0,0,0,0,0,"ok","ok",0,0]
[119,"","",0,"",0,0,0,0,0,0,0,0,"ok","ok",0,0]
[120,"","",0,"",0,0,0,0,0,0,0,0,"ok","ok",0,0]
[121,"","",0,"",0,0,0,0,0,0,0,0,"ok","ok",0,0]
[122,"","",0,"",0,0,0,0,0,0,0,0,"ok","ok",0,0]
[123,"","",0,"",0,0,0,0,0,0,0,0,"ok","ok",0,0]
[124,"","",0,"",0,0,0,0,0,0,0,0,"ok","ok",0,0]
[125,"","",0,"",0,0,0,0,0,0,0,0,"ok","ok",0,0]
[126,"","",0,"",0,0,0,0,0,0,0,0,"ok","ok",0,0]
[127,"","",0,"",0,0,0,0,0,0,0,0,"ok","ok",0,0]
[{"$f":"A130","v":128},"","",0,"",0,0,0,0,0,0,0,0,"ok","ok",0,0]
[129,{"$f":"IFERROR(E131/C131,\"\")","v":""},{"$f":"IFERROR(F131/E131,\"\")","v":""},{"$f":"H131","v":0},"",{"$f":"D285*E131","v":0},{"$f":"G131*E131","v":0},{"$f":"IFERROR(J285*E131,0)","v":0},{"$f":"IFERROR(J285*E131,0)","v":0},{"$f":"IFERROR(IF((F131-J131)/E131>=$L$3,$L$3,(F131-J131)/E131),0)","v":0},{"$f":"IFERROR(K131/E131,0)","v":0},{"$f":"F131*0.1","v":0},0,"ok","ok",{"$f":"(H285+F285)-F131","v":0},{"$f":"F131-G285","v":0}]
[130,"","",0,{"$f":"IFERROR(D286/C286,\"\")","v":""},0,0,0,0,0,0,0,{"$f":"IFERROR(C286*0.1,0)","v":0},{"$f":"IF(D286>=M286,$M$1,$M$2)","v":"ok"},{"$f":"IF(K286<=$L$3,$M$1,$M$2)","v":"ok"},0,0]
[131,"","",0,"",0,0,0,0,0,0,0,0,"ok","ok",0,0]
[132,"","",0,"",0,0,0,0,0,0,0,0,"ok","ok",0,0]
[133,"","",0,"",0,0,0,0,0,0,0,0,"ok","ok",0,0]
[134,"","",0,"",0,0,0,0,0,0,0,0,"ok","ok",0,0]
[135,"","",0,"",0,0,0,0,0,0,0,0,"ok","ok",0,0]
[136,"","",0,"",0,0,0,0,0,0,0,0,"ok","ok",0,0]
[137,"","",0,"",0,0,0,0,0,0,0,0,"ok","ok",0,0]
[138,"","",0,"",0,0,0,0,0,0,0,0,"ok","ok",0,0]
[139,"","",0,"",0,0,0,0,0,0,0,0,"ok","ok",0,0]
[140,"","",0,"",0,0,0,0,0,0,0,0,"ok","ok",0,0]
[141,"","",0,"",0,0,0,0,0,0,0,0,"ok","ok",0,0]
[142,"","",0,"",0,0,0,0,0,0,0,0,"ok","ok",0,0]
[143,"","",0,"",0,0,0,0,0,0,0,0,"ok","ok",0,0]
[144,"","",0,"",0,0,0,0,0,0,0,0,"ok","ok",0,0]
[145,"","",0,"",0,0,0,0,0,0,0,0,"ok","ok",0,0]
[146,"","",0,"",0,0,0,0,0,0,0,0,"ok","ok",0,0]
[147,"","",0,"",0,0,0,0,0,0,0,0,"ok","ok",0,0]
[148,"","",0,"",0,0,0,0,0,0,0,0,"ok","ok",0,0]
[149,"","",0,"",0,0,0,0,0,0,0,0,"ok","ok",0,0]
[150,"","",0,"",0,0,0,0,0,0,0,0,"ok","ok",0,0]
[null,{"$f":"SUMIF(B157:B306,\">0\")","v":0},null,null,null,{"$f":"SUMIF(F157:F306,\">0\")","v":0},{"$f":"SUMIF(G157:G306,\">0\")","v":0},{"$f":"SUMIF(H157:H306,\">0\")","v":0},{"$f":"SUMIF(I157:I306,\">0\")","v":0},null,null,{"$f":"SUM(L157:L306)","v":0}]

{"sheet":"Dane JST","index":13,"n_rows":373,"n_cols":9,"rows_kept":373,"cut":false,"hidden":true,"merged":[]}
["Kod powiatu","NIP","REGON","JST","ADRES","TERYT","POWIAT","DYSPONENT","Kolumna1"]
["16",7591624947,"450670083","Gmina Andrzejewo","ul. Warszawska 36, 07-305 Andrzejewo",1416022,"ostrowski",327,{"$f":"RIGHT(F2,1)","v":"2"}]
["20",5671790440,"130378054","Gmina Baboszewo","ul. Warszawska 9A, 09-130 Baboszewo",1420032,"płoński",369,"2"]
["15",7582164133,"550668380","Gmina Baranowo","pl. Rynek 7, 06-320 Baranowo",1415012,"ostrołęcki",315,"2"]
["05",8381426489,"750147834","Gmina Baranów","ul. Armii Krajowej 87, 96-314 Baranów",1405032,"grodziski",235,"2"]
["06",7971930946,"670223505","Gmina Belsk Duży","ul. Jana Kozietulskiego 4, 05-622 Belsk Duży",1406012,"grójecki",241,"2"]
["01",7981458304,"670223304","Gmina Białobrzegi","Plac Zygmunta Starego 9, 26-800 Białobrzegi",1401013,"białobrzeski",201,"3"]
["29",8231561524,"711582820","Gmina Bielany","ul. Słoneczna 2, 08-311 Bielany-Żyłaki",1429022,"sokołowski",451,"2"]
["19",7743223907,"611015566","Gmina Bielsk","ul. Plac Wolności 3A, 09-230 Bielsk",1419012,"płocki",352,"2"]
["37",5110265245,"130377913","Gmina Bieżuń","ul. Warszawska 2, 09-320 Bieżuń",1437013,"żuromiński",504,"3"]
["06",7971903240,"670223528","Gmina Błędów","ul. Sadurkowska 13, 05-620 Błędów",1406022,"grójecki",242,"2"]
["32",1181788623,"013271230","Gmina Błonie","Rynek 6, 05-870 Błonie",1432013,"warszawski zachodni",465,"3"]
["19",7743211034,"611015626","Gmina Bodzanów","ul. Bankowa 7, 09-470 Bodzanów",1419023,"płocki",353,"3"]
["16",7591625622,"450670090","Gmina Boguty-Pianki","ul. Aleja Papieża Jana Pawła II 45, 07-325 Boguty-Pianki",1416032,"ostrowski",328,"2"]
["23",6010085857,"670223540","Gmina Borkowice","ul. ks. Jana Wiśniewskiego 42, 26-422 Borkowice",1423012,"przysuski",392,"2"]
["03",8262037310,"711582227","Gmina Borowie","ul. Aleksandra Sasimowskiego 2, 08-412 Borowie",1403032,"garwoliński",218,"2"]
["35",7621901387,"550667824","Gmina Brańszczyk","ul. Jana Pawła II 45, 07-221 Brańszczyk",1435012,"wyszkowski",493,"2"]
["28",8371692723,"015891220","Gmina Brochów","Brochów 125, 05-088 Brochów",1428022,"sochaczewski",443,"2"]
["16",7591624976,"550667936","Gmina Brok","pl. Kościelny 6, 07-306 Brok",1416043,"ostrowski",329,"3"]
["19",7743188737,"611015678","Gmina Brudzeń Duży","ul. Toruńska 2, 09-414 Brudzeń Duży",1419032,"płocki",354,"2"]
["21",5342254858,"013269203","Gmina Brwinów","ul. Grodziska 12, 05-840 Brwinów",1421033,"pruszkowski",381,"3"]
["19",7743138099,"611015709","Gmina Bulkowo","ul. Szkolna 1, 09-454 Bulkowo",1419042,"płocki",355,"2"]
["12",8222158823,"711582635","Gmina Cegłów","ul. Tadeusza Kościuszki 4, 05-319 Cegłów",1412043,"miński",287,"3"]
["17",5321057650,"013268965","Gmina Celestynów","ul. Regucka 3, 05-430 Celestynów",1417032,"otwocki",339,"2"]
["29",8231597203,"711582842","Gmina Ceranów","Ceranów 140, 08-322 Ceranów",1429032,"sokołowski",452,"2"]
["30",7991966835,"670223557","Gmina Chlewiska","ul. Czachowskiego 49, 26-510 Chlewiska",1430012,"szydłowiecki",459,"2"]
["22",7611504561,"550667882","Gmina Chorzele","ul. Stanisława Komosińskiego 1, 06-330 Chorzele",1422023,"przasnyski",386,"3"]
["09",5090066518,"670223563","Gmina Chotcza","Chotcza-Józefów 60, 27-312 Chotcza-Józefów",1409012,"lipski",263,"2"]
["06",7971903234,"670223570","Gmina Chynów","ul. Główna 67, 05-650 Chynów",1406032,"grójecki",243,"2"]
["02",5661892908,"130378002","Gmina Ciechanów","ul. Fabryczna 8, 06-400 Ciechanów",1402011,"ciechanowski",208,"1"]
["09",5090066702,"670223617","Gmina Ciepielów","ul. Czachowskiego 1, 27-310 Ciepielów",1409023,"lipski",264,"3"]
["15",7582157593,"550668226","Gmina Czarnia","Czarnia 41, 07-431 Czarnia",1415022,"ostrołęcki",316,"2"]
["22",7611485906,"130378060","Gmina Czernice Borowe","ul. Dolna 2, 06-415 Czernice Borowe",1422032,"przasnyski",387,"2"]
["15",7582349619,"550668210","Gmina Czerwin","pl. plac Tysiąclecia 1, 07-407 Czerwin",1415032,"ostrołęcki",317,"2"]
["20",5671851791,"611015715","Gmina Czerwińsk Nad Wisłą","ul. Władysława Jagiełły 16, 09-150 Czerwińsk nad Wisłą",1420043,"płoński",370,"3"]
["11",7571477236,"550668404","Gmina Czerwonka","Czerwonka Włościańska 38, 06-232 Czerwonka Włościańska",1411022,"makowski",276,"2"]
["14",5311664650,"013270413","Gmina Czosnów","ul. Gminna 6, 05-152 Czosnów",1414022,"nowodworski",309,"2"]
["34",1251334785,"550667971","Gmina Dąbrówka","ul. Tadeusza Kościuszki 14, 05-252 Dąbrówka",1434052,"wołomiński",485,"2"]
["12",8222146636,"711582641","Gmina Dębe Wielkie","ul. Strażacka 3, 05-311 Dębe Wielkie",1412052,"miński",288,"2"]
["35",7621918666,"550668114","Gmina Długosiodło","ul. Tadeusza Kościuszki 2, 07-210 Długosiodło",1435022,"wyszkowski",494,"2"]
["12",8222146613,"711582658","Gmina Dobre","ul. Tadeusza Kościuszki 1, 05-307 Dobre",1412063,"miński",289,"3"]
["26",8212551571,"711582121","Gmina Domanice","Domanice 52, 08-113 Domanice",1426012,"siedlecki",422,"2"]
["19",7743211442,"611015371","Gmina Drobin","ul. marsz. Józefa Piłsudskiego 12, 09-210 Drobin",1419053,"płocki",356,"3"]
["20",5671851785,"130378077","Gmina Dzierzążnia","Dzierzążnia 28, 09-164 Dzierzążnia",1420052,"płoński",371,"2"]
["13",5691760005,"130378083","Gmina Dzierzgowo","ul. Tadeusza Kościuszki 1, 06-520 Dzierzgowo",1413022,"mławski",299,"2"]
["07",8121844959,"670223623","Gmina Garbatka-Letnisko","ul. Skrzyńskich 1, 26-930 Garbatka-Letnisko",1407012,"kozienicki",251,"2"]
["03",8262044712,"711582256","Gmina Garwolin","ul. Mazowiecka 16, 08-400 Garwolin",1403011,"garwoliński",219,"1"]
["19",7743211258,"611015425","Gmina Gąbin","ul. Stary Rynek 16, 09-530 Gąbin",1419063,"płocki",357,"3"]
["23",6010073788,"670223630","Gmina Gielniów","ul. Plac Wolności 75, 26-434 Gielniów",1423023,"przysuski",393,"3"]
["02",5661881129,"130377882","Gmina Glinojeck","ul. Płocka 12, 06-450 Glinojeck",1402033,"ciechanowski",209,"3"]
["07",8121839384,"670223646","Gmina Głowaczów","ul. Rynek 35, 26-903 Głowaczów",1407023,"kozienicki",252,"3"]
["07",8121903455,"670223652","Gmina Gniewoszów","ul. Lubelska 16, 26-920 Gniewoszów",1407032,"kozienicki",253,"2"]
["02",5661886687,"130378090","Gmina Gołymin-Ośrodek","ul. Szosa Ciechanowska 8, 06-420 Gołymin-Ośrodek",1402042,"ciechanowski",210,"2"]
["04",9710659440,"611015922","Gmina Gostynin","ul. Rynek 26, 09-500 Gostynin",1404011,"gostyniński",231,"1"]
["06",7971904280,"670223669","Gmina Goszczyn","ul. Bądkowska 2, 05-610 Goszczyn",1406042,"grójecki",244,"2"]
["15",7582352751,"550668203","Gmina Goworowo","ul. Ostrołęcka 21, 07-440 Goworowo",1415042,"ostrołęcki",318,"2"]
["27",7761615061,"611015951","Gmina Gozdowo","ul. Krystyna Gozdawy 19, 09-213 Gozdowo",1427022,"sierpecki",436,"2"]
["18",1231216723,"013271134","Gmina Góra Kalwaria","ul. 3 Maja 10, 05-530 Góra Kalwaria",1418013,"piaseczyński",345,"3"]
["03",8262036670,"711582279","Gmina Górzno","ul. Jana Pawła II 10, 08-404 Górzno",1403052,"garwoliński",220,"2"]
["25",7962929257,"670223698","Gmina Gózd","ul. Radomska 7, 26-634 Gózd",1425022,"radomski",409,"2"]
["07",8121882003,"670223706","Gmina Grabów Nad Pilicą","ul. Kazimierza Pułaskiego 51, 26-902 Grabów nad Pilicą",1407042,"kozienicki",254,"2"]
["33",8241709230,"711582109","Gmina Grębków","ul. Wspólna 5, 07-110 Grębków",1433022,"węgrowski",473,"2"]
["05",5291745901,"013269137","Gmina Grodzisk Mazowiecki","ul. T. Kościuszki 12A, 05-825 Grodzisk Mazowiecki",1405043,"grodziski",201,"3"]
["06",7972011265,"670223310","Gmina Grójec","ul. Józefa Piłsudskiego 47, 05-600 Grójec",1406053,"grójecki",245,"3"]
["02",5661861629,"130378108","Gmina Grudusk","ul. Ciechanowska 54, 06-460 Grudusk",1402052,"ciechanowski",211,"2"]
["24",5681545506,"130378114","Gmina Gzy","Gzy 9, 06-126 Gzy",1424012,"pułtuski",400,"2"]
["12",8222160292,"013269172","Gmina Halinów","ul. Spółdzielcza 1, 05-074 Halinów",1412073,"miński",290,{"$f":"RIGHT(F67,1)","v":"3"}]
["10",4960241880,"030237523","Gmina Huszlew","Huszlew 77, 08-206 Huszlew",1410012,"łosicki",269,"2"]
["28",8371692427,"611015661","Gmina Iłów","ul. Płocka 2, 96-520 Iłów",1428032,"sochaczewski",444,"2"]
["25",7962963277,"670223327","Gmina Iłża","ul. Rynek 11, 27-100 Iłża",1425033,"radomski",410,"3"]
["32",1181762339,"013271861","Gmina Izabelin","ul. 3 Maja 42, 05-080 Izabelin",1432022,"warszawski zachodni",466,"2"]
["08",5361771514,"013270442","Gmina Jabłonna","ul. Modlińska 152, 05-110 Jabłonna",1408022,"legionowski",259,"2"]
["29",8231559906,"711582032","Gmina Jabłonna Lacka","ul. Targowa 4, 08-304 Jabłonna Lacka",1429042,"sokołowski",453,"2"]
["34",1251334791,"711582115","Gmina Jadów","ul. Jana Pawła II 17, 05-280 Jadów",1434063,"wołomiński",486,"3"]
["05",8381426443,"750148259","Gmina Jaktorów","ul. Warszawska 33, 96-313 Jaktorów",1405052,"grodziski",237,"2"]
["12",8222146582,"711582718","Gmina Jakubów","ul. Mińska 15, 05-306 Jakubów",1412082,"miński",291,"2"]
["06",7971945741,"670223729","Gmina Jasieniec","ul. Warecka 42, 05-604 Jasieniec",1406062,"grójecki",246,"2"]
["30",7991965356,"670223741","Gmina Jastrząb","Plac Niepodległości 5, 26-502 Jastrząb",1430023,"szydłowiecki",460,"3"]
["25",7962942660,"670223758","Gmina Jastrzębia","Jastrzębia 110, 26-631 Jastrzębia",1425042,"radomski",411,"2"]
["25",7962896026,"670223764","Gmina Jedlińsk","ul. Warecka 19, 26-660 Jedlińsk",1425052,"radomski",412,"2"]
["25",7962908568,"670223787","Gmina Jedlnia-Letnisko","ul. Radomska 43, 26-630 Jedlnia-Letnisko",1425063,"radomski",413,"3"]
["22",7611485912,"550667853","Gmina Jednorożec","ul. Odrodzenia 14, 06-323 Jednorożec",1422042,"przasnyski",388,"2"]
["20",5671846695,"130378137","Gmina Joniec","Joniec 29, 09-131 Joniec",1420062,"płoński",372,"2"]
["15",7582157110,"550668195","Gmina Kadzidło","ul. Targowa 4, 07-420 Kadzidło",1415052,"ostrołęcki",319,"2"]
["12",8222158817,"711582612","Gmina Kałuszyn","ul. Pocztowa 1, 05-310 Kałuszyn",1412093,"miński",292,"3"]
["32",1182004380,"013271306","Gmina Kampinos","ul. Niepokalanowska 3, 05-085 Kampinos",1432032,"warszawski zachodni",467,"2"]
["17",5321962030,"013269226","Gmina Karczew","ul. Warszawska 28, 05-480 Karczew",1417043,"otwocki",340,"3"]
["11",7571449122,"130378143","Gmina Karniewo","ul. Pułtuska 3, 06-425 Karniewo",1411032,"makowski",277,"2"]
["36",8111715870,"670223793","Gmina Kazanów","pl. Plac Partyzantów 28, 26-713 Kazanów",1436013,"zwoleński",499,"3"]
["34",1251333656,"550668150","Gmina Klembów","ul. gen. Franciszka Żymirskiego 38, 05-205 Klembów",1434072,"wołomiński",487,"2"]
["23",6010085981,"670223801","Gmina Klwów","ul. Opoczyńska 35, 26-415 Klwów",1423032,"przysuski",394,"2"]
["17",8221020459,"711582687","Gmina Kołbiel","ul. Szkolna 1, 05-340 Kołbiel",1417052,"otwocki",341,"2"]
["18",1231217438,"013271045","Gmina Konstancin-Jeziorna","ul. Piaseczyńska 77, 05-520 Konstancin-Jeziorna",1418023,"piaseczyński",346,"3"]
["26",8212392351,"711582486","Gmina Korczew","ul. ks. Stanisława Brzóski 20A, 08-108 Korczew",1426022,"siedlecki",423,"2"]
["33",8241727162,"711582138","Gmina Korytnica","ul. Adama Małkowskiego 20, 07-120 Korytnica",1433032,"węgrowski",474,"2"]
["29",8231560217,"711582049","Gmina Kosów Lacki","ul. Kolejowa 2, 08-330 Kosów Lacki",1429053,"sokołowski",454,"3"]
["26",8212394019,"711582463","Gmina Kotuń","ul. Siedlecka 56C, 08-130 Kotuń",1426032,"siedlecki",424,"2"]
["25",9482371307,"670223818","Gmina Kowala","ul. Marii Walewskiej 7, 26-624 Kowala-Stępocina",1425072,"radomski",414,"2"]
["07",8121828216,"670223333","Gmina Kozienice","ul. Parkowa 5, 26-900 Kozienice",1407053,"kozienicki",255,"3"]
["22",7611542308,"130378150","Gmina Krasne","ul. Adama Mickiewicza 23, 06-408 Krasne",1422052,"przasnyski",389,"2"]
["11",7571420383,"550668315","Gmina Krasnosielc","ul. Rynek 40, 06-212 Krasnosielc",1411042,"makowski",278,"2"]
["22",7611524960,"550667847","Gmina Krzynowłoga Mała","ul. Kościelna 3, 06-316 Krzynowłoga Mała",1422062,"przasnyski",390,"2"]
["37",5110268025,"130378166","Gmina Kuczbork-Osada","ul. Adama Mickiewicza 7A, 09-310 Kuczbork-Osada",1437022,"żuromiński",505,"2"]
["12",8222148747,"711582730","Gmina Latowicz","ul. Rynek 6, 05-334 Latowicz",1412103,"miński",293,"3"]
["15",7582123571,"550668189","Gmina Lelis","ul. Szkolna 39, 07-402 Lelis",1415062,"ostrołęcki",320,"2"]
["14",5311666399,"013270471","Gmina Leoncin","ul. Partyzantów 3, 05-155 Leoncin",1414032,"nowodworski",310,"2"]
["32",1181789539,"013271370","Gmina Leszno","ul. Aleja Wojska Polskiego 21, 05-084 Leszno",1432042,"warszawski zachodni",468,"2"]
["18",1231220334,"013271111","Gmina Lesznowola","ul. Gminna 60, 05-506 Lesznowola",1418032,"piaseczyński",347,"2"]
["13",5691760028,"130378232","Gmina Lipowiec Kościelny","Lipowiec Kościelny 213, 06-545 Lipowiec Kościelny",1413032,"mławski",300,"2"]
["09",5090066174,"670223340","Gmina Lipsko","ul. 1 Maja 2, 27-300 Lipsko",1409033,"lipski",265,"3"]
["33",8241709709,"711582167","Gmina Liw","ul. Adama Mickiewicza 2, 07-100 Węgrów",1433011,"węgrowski",475,"1"]
["37",5110263855,"130378255","Gmina Lubowidz","ul. Zielona 10, 09-304 Lubowidz",1437033,"żuromiński",506,"3"]
["37",5110271300,"130378261","Gmina Lutocin","ul. Poniatowskiego 1, 09-317 Lutocin",1437042,"żuromiński",507,"2"]
["03",8262117380,"711582374","Gmina Łaskarzew","Rynek Duży im. J. Piłsudskiego 32, 08-450 Łaskarzew",1403021,"garwoliński",221,"1"]
["19",7742935675,"611015738","Gmina Łąck","ul. Gostynińska 2, 09-520 Łąck",1419072,"płocki",358,"2"]
["33",8241707277,"711582090","Gmina Łochów","ul. Aleja Pokoju 75, 07-130 Łochów",1433053,"węgrowski",476,"3"]
["32",1181768394,"013271826","Gmina Łomianki","ul. Warszawska 115, 05-092 Łomianki",1432053,"warszawski zachodni",469,"3"]
["10",4960249189,"030237405","Gmina Łosice","ul. Marszałka Józefa Piłsudskiego 6, 08-200 Łosice",1410023,"łosicki",270,"3"]
["15",7582196624,"550668172","Gmina Łyse","ul. Ostrołęcka 2, 07-437 Łyse",1415072,"ostrołęcki",321,"2"]
["03",8262066487,"711582291","Gmina Maciejowice","ul. Rynek 7, 08-480 Maciejowice",1403073,"garwoliński",222,"3"]
["07",8121914938,"670223830","Gmina Magnuszew","ul. Saperów 24, 26-910 Magnuszew",1407063,"kozienicki",256,"3"]
["19",7743211086,"611015750","Gmina Mała Wieś","ul. Jana Kochanowskiego 1, 09-460 Mała Wieś",1419082,"płocki",359,"2"]
["16",7591624930,"550667920","Gmina Małkinia Górna","ul. Przedszkolna 1, 07-320 Małkinia Górna",1416052,"ostrowski",330,"2"]
["04",9710664961,"611015431","Gmina Miasta Gostynina","ul. Rynek 26, 09-500 Gostynin",1404011,"gostyniński",{"$error":"#N/A"},"1"]
["25",7962958767,"670223468","Gmina Miasta Pionki","ul. Aleja Jana Pawła II 15, 26-670 Pionki",1425011,"radomski",{"$error":"#N/A"},"1"]
["63",7962817529,"670223451","Miasto Radom","ul. Jana Kilińskiego 30, 26-600 Radom",1463011,"Radom",{"$error":"#N/A"},"1"]
["03",8262037296,"711582322","Gmina Miastków Kościelny","ul. Rynek 6, 08-420 Miastków Kościelny",1403082,"garwoliński",223,"2"]
["34",1251622308,"013269670","Gmina Miasto Marki","al. Marszałka Józefa Piłsudskiego 95, 05-270 Marki",1434021,"wołomiński",{"$error":"#N/A"},"1"]
["62",7743135712,"611016086","Miasto Płock","pl. Stary Rynek 1, 09-400 Płock",1462011,"Płock",{"$error":"#N/A"},"1"]
["20",5671783718,"130377847","Gmina Miasto Płońsk","ul. Płocka 39, 09-100 Płońsk",1420011,"płoński",{"$error":"#N/A"},"1"]
["20",5671905245,"130377853","Gmina Miasto Raciąż","Plac Adama Mickiewicza 17, 09-140 Raciąż",1420021,"płoński",{"$error":"#N/A"},{"$f":"RIGHT(F131,1)","v":"1"}]
["27",7761679049,"611015483","Gmina Miasto Sierpc","ul. Piastowska 11A, 09-200 Sierpc",1427011,"sierpecki",{"$error":"#N/A"},"1"]
["21",5342480595,"013269290","Gmina Michałowice","ul. Aleja Powstańców Warszawy 1, 05-816 Michałowice",1421042,"pruszkowski",382,"2"]
["33",8241723514,"711582196","Gmina Miedzna","ul. 11 Listopada 4, 07-106 Miedzna",1433062,"węgrowski",477,"2"]
["02",5661876536,"130377824","Gmina Miejska Ciechanów","pl. Plac Jana Pawła II 6, 06-400 Ciechanów",1402011,"ciechanowski",{"$error":"#N/A"},"1"]
["08",5361923243,"015891295","Gmina Miejska Legionowo","ul. marsz. Józefa Piłsudskiego 41, 05-120 Legionowo",1408011,"legionowski",{"$error":"#N/A"},"1"]
["05",5291799245,"013269150","Gmina Milanówek","ul. Kościuszki 45, 05-822 Milanówek",1405011,"grodziski",{"$error":"#N/A"},"1"]
["12",8222146576,"711582747","Gmina Mińsk Mazowiecki","ul. Józefa Chełmońskiego 14, 05-300 Mińsk Mazowiecki",1412011,"miński",294,"1"]
["30",7991958971,"670223847","Gmina Mirów","Mirów Stary 27, 26-503 Mirów Stary",1430032,"szydłowiecki",461,"2"]
["28",8371692019,"750148354","Gmina Młodzieszyn","ul. Wyszogrodzka 25, 96-512 Młodzieszyn",1428042,"sochaczewski",445,"2"]
["11",7571480899,"550668321","Gmina Młynarze","ul. Ostrołęcka 7, 06-231 Młynarze",1411052,"makowski",279,"2"]
["27",7761615078,"611015773","Gmina Mochowo","ul. Sierpecka 2, 09-214 Mochowo",1427032,"sierpecki",437,"2"]
["06",7971893228,"670223445","Gmina Mogielnica","ul. Rynek 1, 05-640 Mogielnica",1406073,"grójecki",247,"3"]
["26",8212529494,"711582492","Gmina Mokobody","ul. Plac Chreptowicza 25, 08-124 Mokobody",1426042,"siedlecki",425,"2"]
["26",8212364231,"711582457","Gmina Mordy","ul. Kilińskiego 9, 08-140 Mordy",1426053,"siedlecki",426,"3"]
["12",8222147185,"711582776","Gmina Mrozy","ul. Adama Mickiewicza 35, 05-320 Mrozy",1412123,"miński",295,"3"]
["38",8381426420,"750148609","Gmina Mszczonów","pl. Józefa Piłsudskiego 1, 96-320 Mszczonów",1438023,"żyrardowski",511,"3"]
["15",7582153537,"550668284","Gmina Myszyniec","pl. Plac Wolności 60, 07-430 Myszyniec",1415083,"ostrołęcki",322,"3"]
["21",5342254841,"013269195","Gmina Nadarzyn","ul. Mszczonowska 24, 05-830 Nadarzyn",1421052,"pruszkowski",383,"2"]
["20",5671789052,"130378278","Gmina Naruszewo","Naruszewo 19A, 09-152 Naruszewo",1420072,"płoński",373,"2"]
["14",5311607468,"130377899","Gmina Nasielsk","ul. Elektronowa 3, 05-190 Nasielsk",1414043,"nowodworski",311,"3"]
["08",5361765293,"013270519","Gmina Nieporęt","Plac Wolności 1, 05-126 Nieporęt",1408032,"legionowski",260,"2"]
["28",8371693792,"750148377","Gmina Nowa Sucha","Nowa Sucha 59 A, 96-513 Nowa Sucha",1428052,"sochaczewski",446,"2"]
["20",5671786697,"130378284","Gmina Nowe Miasto","ul. Apteczna 8, 09-120 Nowe Miasto",1420083,"płoński",374,"3"]
["06",7971881633,"670223362","Gmina Nowe Miasto Nad Pilicą","pl. Ojca Honorata Koźmińskiego 1/2, 26-420 Nowe Miasto nad Pilicą",1406083,"grójecki",248,"3"]
["19",7743211324,"611015796","Gmina Nowy Duninów","ul. Osiedlowa 1, 09-505 Nowy Duninów",1419092,"płocki",360,"2"]
["16",7591624953,"450670108","Gmina Nur","ul. Drohiczyńska 2, 07-322 Nur",1416062,"ostrowski",331,"2"]
["24",5681546196,"550668137","Gmina Obryte","Obryte 185, 07-215 Obryte",1424022,"pułtuski",401,"2"]
["23",6010086182,"670223853","Gmina Odrzywół","ul. Warszawska 53, 26-425 Odrzywół",1423043,"przysuski",395,"3"]
["02",5661874365,"130378338","Gmina Ojrzeń","ul. Ciechanowska 27, 06-456 Ojrzeń",1402062,"ciechanowski",212,"2"]
["10",4960248273,"030237629","Gmina Olszanka","Olszanka 37, 08-207 Olszanka",1410032,"łosicki",271,"2"]
["15",7582123565,"550667965","Gmina Olszewo-Borki","ul. Władysława Broniewskiego 13, 07-415 Olszewo-Borki",1415092,"ostrołęcki",323,"2"]
["02",5661868809,"130378344","Gmina Opinogóra Górna","ul. Zygmunta Krasińskiego 4, 06-406 Opinogóra Górna",1402072,"ciechanowski",213,"2"]
["30",7991922134,"670223860","Gmina Orońsko","ul. Szkolna 8, 26-505 Orońsko",1430042,"szydłowiecki",462,"2"]
["17",8261170716,"711582285","Gmina Osieck","ul. Rynek 1, 08-445 Osieck",1417063,"otwocki",342,"3"]
["16",7591622397,"550667913","Gmina Ostrów Mazowiecka","ul. gen. Władysława Sikorskiego 5, 07-300 Ostrów Mazowiecka",1416011,"ostrowski",332,"1"]
["32",1181766202,"013271269","Gmina Ożarów Mazowiecki","ul. Kolejowa 2, 05-850 Ożarów Mazowiecki",1432063,"warszawski zachodni",470,"3"]
["04",9710664197,"611015810","Gmina Pacyna","ul. Wyzwolenia 7, 09-541 Pacyna",1404032,"gostyniński",232,"2"]
["26",8212433653,"711582523","Gmina Paprotnia","ul. 3 Maja 2, 08-107 Paprotnia",1426062,"siedlecki",427,"2"]
["03",8262064241,"711582339","Gmina Parysów","ul. Kościuszki 28, 08-441 Parysów",1403092,"garwoliński",224,"2"]
["18",1231210962,"015891289","Gmina Piaseczno","ul. Kościuszki 5, 05-500 Piaseczno",1418043,"piaseczyński",348,"3"]
["03",8262037244,"711582345","Gmina Pilawa","al. Wyzwolenia 158, 08-440 Pilawa",1403103,"garwoliński",225,"3"]
["25",7962876911,"670224083","Gmina Pionki","ul. Zwycięstwa 6A, 26-670 Pionki",1425011,"radomski",415,"1"]
["10",4960249522,"030237641","Gmina Platerów","ul. 3 Maja 5, 08-210 Platerów",1410042,"łosicki",272,"2"]
["11",7571412314,"550668338","Gmina Płoniawy-Bramura","Płoniawy-Bramura 83A, 06-210 Płoniawy-Bramura",1411062,"makowski",280,"2"]
["20",5671810266,"130378031","Gmina Płońsk","ul. Pułtuska 39, 09-100 Płońsk",1420011,"płoński",375,"1"]
["06",7972056581,"670223876","Gmina Pniewy","Pniewy 2, 05-652 Pniewy",1406092,"grójecki",249,"2"]
["24",5681524651,"130378367","Gmina Pokrzywnica","ul. Aleja Jana Pawła II 1, 06-121 Pokrzywnica",1424032,"pułtuski",402,"2"]
["36",8111715769,"670223882","Gmina Policzna","ul. Bolesława Prusa 11, 26-720 Policzna",1436022,"zwoleński",500,"2"]
["14",5311688219,"013270531","Gmina Pomiechówek","ul. Szkolna 1A, 05-180 Pomiechówek",1414052,"nowodworski",312,"2"]
["34",1251627895,"711582693","Gmina Poświętne","ul. Krótka 1, 05-326 Poświętne",1434082,"wołomiński",488,"2"]
["23",6010085604,"670223899","Gmina Potworów","ul. Radomska 2A, 26-414 Potworów",1423052,"przysuski",396,"2"]
["18",1231050091,"013271170","Gmina Prażmów","ul. Piotra Czołchańskiego 1, 05-505 Prażmów",1418052,"piaseczyński",349,"2"]
["01",7981437673,"670223913","Gmina Promna","Promna-Kolonia 5, 26-803 Promna",1401022,"białobrzeski",202,"2"]
["22",7611535277,"550667830","Gmina Przasnysz","ul. św. Stanisława Kostki 5, 06-300 Przasnysz",1422011,"przasnyski",391,"1"]
["26",8212389633,"711582569","Gmina Przesmyki","ul. 11 Listopada 13, 08-109 Przesmyki",1426072,"siedlecki",428,"2"]
["36",8111757928,"670223920","Gmina Przyłęk","Przyłęk, 26-704 Przyłęk",1436032,"zwoleński",501,"2"]
["23",6010085828,"670223379","Gmina Przysucha","pl. Plac Kolberga 11, 26-400 Przysucha",1423063,"przysuski",397,"3"]
["25",9482380424,"670223936","Gmina Przytyk","ul. Zachęta 57, 26-650 Przytyk",1425093,"radomski",416,"3"]
["24",5681540236,"130377907","Gmina Pułtusk","ul. Rynek 41, 06-100 Pułtusk",1424043,"pułtuski",403,"3"]
["38",8361514865,"750148390","Gmina Puszcza Mariańska","ul. Stanisława Papczyńskiego 1, 96-330 Puszcza Mariańska",1438032,"żyrardowski",512,"2"]
["20",5671785545,"130378048","Gmina Raciąż","ul. Kilińskiego 2, 09-140 Raciąż",1420021,"płoński",376,"1"]
["19",7743128020,"611016057","Gmina Radzanowo","ul. Płocka 32, 09-451 Radzanowo",1419102,"płocki",361,"2"]
["13",5691759999,"130378373","Gmina Radzanów","ul. Plac Piłsudskiego 26, 06-540 Radzanów",1413042,"mławski",203,"2"]
["01",7981435208,"670223942","Gmina Radzanów","Radzanów 92a, 26-807 Radzanów",1401032,"białobrzeski",203,{"$f":"RIGHT(F195,1)","v":"2"}]
["38",8381426414,"750148414","Gmina Radziejowice","ul. Kubickiego 10, 96-325 Radziejowice",1438042,"żyrardowski",513,"2"]
["34",1251333745,"013269700","Gmina Radzymin","pl. Tadeusza Kościuszki 2, 05-250 Radzymin",1434093,"wołomiński",489,"3"]
["21",5342488243,"013269232","Gmina Raszyn","ul. Szkolna 2A, 05-090 Raszyn",1421062,"pruszkowski",384,"2"]
["02",5661875784,"130378396","Gmina Regimin","ul. Adama Rzewuskiego 19, 06-461 Regimin",1402082,"ciechanowski",214,"2"]
["29",8231559680,"711582055","Gmina Repki","ul. Parkowa 7, 08-307 Repki",1429062,"sokołowski",455,"2"]
["27",7761617545,"611015900","Gmina Rościszewo","ul. Armii Krajowej 1, 09-204 Rościszewo",1427042,"sierpecki",438,"2"]
["11",7571479991,"550668344","Gmina Różan","pl. Obrońców Różana 4, 06-230 Różan",1411073,"makowski",281,"3"]
["23",6010085662,"670223965","Gmina Rusinów","ul. Żeromskiego 4, 26-411 Rusinów",1423072,"przysuski",398,"2"]
["28",8371692261,"750148466","Gmina Rybno","ul. Długa 20, 96-514 Rybno",1428062,"sochaczewski",447,"2"]
["35",7621901370,"550668108","Gmina Rząśnik","ul. Jesionowa 3, 07-205 Rząśnik",1435032,"wyszkowski",495,"2"]
["09",5090013568,"670223971","Gmina Rzeczniów","Rzeczniów 1, 27-353 Rzeczniów",1409042,"lipski",266,"2"]
["15",7582141729,"550667959","Gmina Rzekuń","ul. Kościuszki 33, 07-411 Rzekuń",1415102,"ostrołęcki",324,"2"]
["11",7571450042,"550668350","Gmina Rzewnie","Rzewnie 19, 06-225 Rzewnie",1411082,"makowski",282,"2"]
["29",8231560068,"711582061","Gmina Sabnie","ul. Główna 73, 08-331 Sabnie",1429072,"sokołowski",456,"2"]
["33",8241708503,"711582173","Gmina Sadowne","ul. Kościuszki 3, 07-140 Sadowne",1433072,"węgrowski",478,"2"]
["04",9710659463,"611015916","Gmina Sanniki","ul. Warszawska 169, 09-540 Sanniki",1404043,"gostyniński",233,"3"]
["10",4960206961,"030237687","Gmina Sarnaki","ul. Berka Joselewicza 3, 08-220 Sarnaki",1410052,"łosicki",273,"2"]
["08",5361739574,"015570119","Gmina Serock","ul. Rynek 21, 05-140 Serock",1408043,"legionowski",261,"3"]
["07",8121843836,"670223988","Gmina Sieciechów","ul. Rynek 16, 26-922 Sieciechów",1407072,"kozienicki",257,"2"]
["64",8212443829,"711582552","Gmina Siedlce","ul. Mieczysława Asłanowicza 10, 08-110 Siedlce",1426082,"Siedlce",429,"2"]
["37",5110268723,"130378410","Gmina Siemiątkowo","ul. Władysława Reymonta 2, 09-135 Siemiątkowo",1437052,"żuromiński",508,"2"]
["12",8222147162,"711582782","Gmina Siennica","ul. Mińska 33, 05-332 Siennica",1412133,"miński",296,"3"]
["09",5090066636,"670223994","Gmina Sienno","ul. Rynek 36/40, 27-350 Sienno",1409053,"lipski",267,"3"]
["27",7761624491,"611015945","Gmina Sierpc","ul. Biskupa Floriana 4, 09-200 Sierpc",1427011,"sierpecki",439,"1"]
["25",7962867409,"670223385","Gmina Skaryszew","ul. Juliusza Słowackiego 6, 26-640 Skaryszew",1425103,"radomski",417,"3"]
["26",8212393379,"711582575","Gmina Skórzec","ul. Siedlecka 3, 08-114 Skórzec",1426092,"siedlecki",430,"2"]
["19",7743210626,"611015968","Gmina Słubice","ul. Płocka 32, 09-533 Słubice",1419112,"płocki",362,"2"]
["19",7743213464,"611015997","Gmina Słupno","ul. Miszewska 8A, 09-472 Słupno",1419122,"płocki",363,"2"]
["17",8261144044,"711582300","Gmina Sobienie-Jeziory","ul. Garwolińska 16, 08-443 Sobienie-Jeziory",1417072,"otwocki",343,"2"]
["03",8262044209,"711582351","Gmina Sobolew","ul. Rynek 1, 08-460 Sobolew",1403112,"garwoliński",226,"2"]
["28",8371692031,"750148526","Gmina Sochaczew","ul. Warszawska 115, 96-500 Sochaczew",1428011,"sochaczewski",448,"1"]
["20",5671858729,"130378427","Gmina Sochocin","ul. Guzikarzy 9, 09-110 Sochocin",1420113,"płoński",377,"3"]
["29",8231559697,"711582078","Gmina Sokołów Podlaski","ul. Wolności 44, 08-300 Sokołów Podlaski",1429011,"sokołowski",457,"1"]
["09",5090066613,"670224002","Gmina Solec Nad Wisłą","ul. Rynek 1, 27-320 Solec nad Wisłą",1409063,"lipski",268,"3"]
["35",7621901571,"550668090","Gmina Somianka","ul. Armii Krajowej 4, 07-203 Somianka",1435042,"wyszkowski",496,"2"]
["02",5661887238,"130378433","Gmina Sońsk","ul. Ciechanowska 20, 06-430 Sońsk",1402092,"ciechanowski",215,"2"]
["12",8222147156,"711582434","Gmina Stanisławów","ul. Rynek 32, 05-304 Stanisławów",1412142,"miński",297,"2"]
["19",7742945231,"611016028","Gmina Stara Biała","ul. Jana Kazimierza 1, 09-411 Biała",1419132,"płocki",364,"2"]
["01",7981458221,"670224019","Gmina Stara Błotnica","Stara Błotnica 46, 26-806 Stara Błotnica",1401042,"białobrzeski",204,"2"]
["10",4960213725,"030237724","Gmina Stara Kornica","Stara Kornica 191, 08-205 Stara Kornica",1410062,"łosicki",274,"2"]
["32",1182025548,"013271855","Gmina Stare Babice","ul. Rynek 32, 05-082 Stare Babice",1432072,"warszawski zachodni",471,"2"]
["19",7743186342,"611016040","Gmina Staroźreby","ul. Płocka 18, 09-440 Staroźreby",1419142,"płocki",365,"2"]
["16",7591624568,"550667907","Gmina Stary Lubotyń","Stary Lubotyń 42, 07-303 Stary Lubotyń",1416082,"ostrowski",333,"2"]
["29",8231559823,"711582084","Gmina Sterdyń","ul. Tadeusza Kościuszki 6, 08-320 Sterdyń",1429092,"sokołowski",458,"2"]
["33",8241710167,"711582144","Gmina Stoczek","ul. Kosowska 5, 07-104 Stoczek",1433082,"węgrowski",{"$error":"#N/A"},"2"]
["34",1251333679,"711582724","Gmina Strachówka","ul. Cypriana Kamila Norwida 6, 05-282 Strachówka",1434102,"wołomiński",490,"2"]
["01",7981426072,"670224025","Gmina Stromiec","ul. Piaski 4, 26-804 Stromiec",1401052,"białobrzeski",205,"2"]
["13",5691759048,"130378440","Gmina Strzegowo","ul. Plac Wolności 32, 06-445 Strzegowo",1413052,"mławski",302,"2"]
["13",5691747045,"130378456","Gmina Stupsk","ul. Henryka Sienkiewicza 10, 06-561 Stupsk",1413062,"mławski",303,"2"]
["26",8212536471,"711582606","Gmina Suchożebry","ul. Aleksandry Ogińskiej 11, 08-125 Suchożebry",1426102,"siedlecki",431,"2"]
["11",7571413360,"550668367","Gmina Sypniewo","ul. Ostrołęcka 27, 06-216 Sypniewo",1411092,"makowski",283,"2"]
["04",9710662755,"611016070","Gmina Szczawin Kościelny","ul. Jana Pawła II 10, 09-550 Szczawin Kościelny",1404052,"gostyniński",234,"2"]
["27",7761619685,"611015974","Gmina Szczutowo","ul. Lipowa 5A, 09-227 Szczutowo",1427062,"sierpecki",440,"2"]
["11",7571416453,"550668373","Gmina Szelków","Stary Szelków 39, 06-220 Stary Szelków",1411102,"makowski",284,"2"]
["13",5691820486,"130378462","Gmina Szreńsk","ul. Plac Kanoniczny 10, 06-550 Szreńsk",1413072,"mławski",304,"2"]
["16",7591743066,"450670114","Gmina Szulborze Wielkie","ul. Romantyczna 2, 07-324 Szulborze Wielkie",1416092,"ostrowski",334,"2"]
["30",7991913158,"670223391","Gmina Szydłowiec","pl. Rynek Wielki 1, 26-500 Szydłowiec",1430053,"szydłowiecki",463,"3"]
["13",5691749854,"130378479","Gmina Szydłowo","ul. Mazowiecka 61, 06-516 Szydłowo",1413082,"mławski",305,"2"]
["24",5681541543,"130378491","Gmina Świercze","ul. Pułtuska 47, 06-150 Świercze",1424052,"pułtuski",404,"2"]
["18",1231233414,"015891250","Gmina Tarczyn","ul. Juliana Stępkowskiego 17, 05-555 Tarczyn",1418063,"piaseczyński",350,"3"]
["36",8111714505,"670224031","Gmina Tczów","Tczów 124, 26-706 Tczów",1436042,"zwoleński",502,"2"]
["28",8371695437,"750148532","Gmina Teresin","ul. Zielona 20, 96-515 Teresin",1428082,"sochaczewski",449,"2"]
["34",1251334845,"550668166","Gmina Tłuszcz","ul. Warszawska 10, 05-240 Tłuszcz",1434113,"wołomiński",491,"3"]
["03",8262037304,"711582316","Gmina Trojanów","Trojanów 57A, 08-455 Trojanów",1403122,"garwoliński",227,{"$f":"RIGHT(F259,1)","v":"2"}]
["15",7582165888,"550667942","Gmina Troszyn","ul. Juliusza Słowackiego 13, 07-405 Troszyn",1415112,"ostrołęcki",325,"2"]
["06",7972016015,"670223400","Gmina Warka","pl. Plac Stefana Czarnieckiego 1, 05-660 Warka",1406113,"grójecki",250,"3"]
["16",7591630959,"550667899","Gmina Wąsewo","ul. Zastawska 13, 07-311 Wąsewo",1416102,"ostrowski",335,"2"]
["17",5320000234,"013268994","Gmina Wiązowna","ul. Lubelska 59, 05-462 Wiązowna",1417082,"otwocki",344,"2"]
["13",5691760011,"130378516","Gmina Wieczfnia Kościelna","Wieczfnia Kościelna 48, 06-513 Wieczfnia Kościelna",1413092,"mławski",306,"2"]
["08",5361758264,"013270577","Gmina Wieliszew","ul. Krzysztofa Kamila Baczyńskiego 1, 05-135 Wieliszew",1408052,"legionowski",262,"2"]
["23",6010081434,"670224048","Gmina Wieniawa","ul. Kochanowskiego 88, 26-432 Wieniawa",1423082,"przysuski",399,"2"]
["25",9482382481,"670224054","Gmina Wierzbica","ul. Kościuszki 73, 26-680 Wierzbica",1425112,"radomski",418,"2"]
["33",8241803704,"711582210","Gmina Wierzbno","Wierzbno 90, 07-111 Wierzbno",1433092,"węgrowski",480,"2"]
["03",8262134562,"711582368","Gmina Wilga","ul. Warszawska 38, 08-470 Wilga",1403132,"garwoliński",228,"2"]
["24",5681545340,"130378522","Gmina Winnica","ul. Pułtuska 25, 06-120 Winnica",1424062,"pułtuski",405,"2"]
["38",8381426466,"750148549","Gmina Wiskitki","ul. Kościuszki 1, 96-315 Wiskitki",1438053,"żyrardowski",514,"3"]
["26",8212406047,"711582629","Gmina Wiśniew","ul. Siedlecka 13, 08-112 Wiśniew",1426112,"siedlecki",432,"2"]
["13",5691753672,"130378539","Gmina Wiśniewo","Wiśniewo 86, 06-521 Wiśniewo",1413102,"mławski",307,"2"]
["26",8212393356,"711582664","Gmina Wodynie","ul. Siedlecka 43, 08-117 Wodynie",1426122,"siedlecki",433,"2"]
["25",9482391296,"670224060","Gmina Wolanów","ul. Radomska 20, 26-625 Wolanów",1425122,"radomski",419,"2"]
["34",1251333722,"013269640","Gmina Wołomin","ul. Ogrodowa 4, 05-200 Wołomin",1434123,"wołomiński",492,"3"]
["35",7621888505,"550667994","Gmina Wyszków","al. Aleja Róż 2, 07-200 Wyszków",1435053,"wyszkowski",{"$error":"#N/A"},"3"]
["19",7743211407,"611015508","Gmina Wyszogród","ul. Rębowska 37, 09-450 Wyszogród",1419153,"płocki",366,"3"]
["01",7981457693,"670223422","Gmina Wyśmierzyce","ul. Adama Mickiewicza 75, 26-811 Wyśmierzyce",1401063,"białobrzeski",206,"3"]
["35",7621901022,"550667988","Gmina Zabrodzie","ul. Wł. St. Reymonta 51, 07-230 Zabrodzie",1435062,"wyszkowski",498,"2"]
["14",5311664696,"013270399","Gmina Zakroczym","ul. Warszawska 7, 05-170 Zakroczym",1414063,"nowodworski",313,"3"]
["25",7962959318,"670224077","Gmina Zakrzew","Zakrzew 51, 26-652 Zakrzew",1425132,"radomski",420,"2"]
["20",5671783457,"130378545","Gmina Załuski","ul. Gminna 17, 09-142 Załuski",1420122,"płoński",378,"2"]
["16",7591624924,"450670120","Gmina Zaręby Kościelne","ul. Kowalska 14, 07-323 Zaręby Kościelne",1416112,"ostrowski",336,"2"]
["24",5681541632,"550668143","Gmina Zatory","ul. Jana Pawła II 106, 07-217 Zatory",1424072,"pułtuski",406,"2"]
["27",7761698845,"611016011","Gmina Zawidz","ul. Mazowiecka 24, 09-226 Zawidz Kościelny",1427072,"sierpecki",441,"2"]
["26",8212392687,"711582670","Gmina Zbuczyn","ul. Jana Pawła II 1, 08-106 Zbuczyn",1426132,"siedlecki",434,"2"]
["36",8111764762,"670223439","Gmina Zwoleń","ul. Plac Kochanowskiego 1, 26-700 Zwoleń",1436053,"zwoleński",503,"3"]
["05",8381426472,"750148578","Gmina Żabia Wola","ul. Główna 3, 96-321 Żabia Wola",1405062,"grodziski",240,"2"]
["03",8262037238,"711582204","Gmina Żelechów","ul. Rynek 1, 08-430 Żelechów",1403143,"garwoliński",229,"3"]
["37",5110270269,"130377936","Gmina Żuromin","pl. Plac Józefa Piłsudskiego 3, 09-300 Żuromin",1437063,"żuromiński",509,"3"]
["03",8262197798,"711582150","Miasto Garwolin","ul. Staszica 15, 08-400 Garwolin",1403011,"garwoliński",{"$error":"#N/A"},"1"]
["17",5320016896,"013268729","Miasto Józefów","ul. Kardynała Stefana Wyszyńskiego 1, 05-420 Józefów",1417011,"otwocki",{"$error":"#N/A"},"1"]
["34",1251332390,"013269663","Miasto Kobyłka","ul. Wołomińska 1, 05-230 Kobyłka",1434011,"wołomiński",{"$error":"#N/A"},"1"]
["03",8262189095,"711582180","Miasto Łaskarzew","Rynek Duży im. J. Piłsudskiego 32, 08-450 Łaskarzew",1403021,"garwoliński",{"$error":"#N/A"},"1"]
["11",7571420377,"550668309","Miasto Maków Mazowiecki","ul. Stanisława Moniuszki 6, 06-200 Maków Mazowiecki",1411011,"makowski",{"$error":"#N/A"},"1"]
["12",8222146599,"711582598","Miasto Mińsk Mazowiecki","ul. Konstytucji 3 Maja 1, 05-300 Mińsk Mazowiecki",1412011,"miński",{"$error":"#N/A"},"1"]
["13",5691760034,"130377830","Miasto Mława","ul. Stary Rynek 19, 06-500 Mława",1413011,"mławski",{"$error":"#N/A"},"1"]
["14",5311000938,"013270347","Miasto Nowy Dwór Mazowiecki","ul. Zakroczymska 30, 05-100 Nowy Dwór Mazowiecki",1414011,"nowodworski",{"$error":"#N/A"},"1"]
["61",7582142002,"550668410","Miasto Ostrołęka","pl. Plac Generała Józefa Bema 1, 07-400 Ostrołęka",1461011,"Ostrołęka",{"$error":"#N/A"},"1"]
["16",7591625088,"550667860","Miasto Ostrów Mazowiecka","ul. 3-go Maja 66, 07-300 Ostrów Mazowiecka",1416011,"ostrowski",{"$error":"#N/A"},"1"]
["17",5321007014,"013268770","Miasto Otwock","ul. Armii Krajowej 5, 05-400 Otwock",1417021,"otwocki",{"$error":"#N/A"},"1"]
["21",5342283759,"013269350","Miasto Piastów","ul. 11 Listopada 2, 05-820 Piastów",1421011,"pruszkowski",{"$error":"#N/A"},"1"]
["05",5291809280,"013269338","Miasto Podkowa Leśna","ul. Akacjowa 39/41, 05-807 Podkowa Leśna",1405021,"grodziski",{"$error":"#N/A"},"1"]
["21",5342406015,"015834660","Miasto Pruszków","ul. Józefa Ignacego Kraszewskiego 14/16, 05-800 Pruszków",1421021,"pruszkowski",{"$error":"#N/A"},"1"]
["22",7611525385,"550667876","Miasto Przasnysz","ul. Jana Kilińskiego 2, 06-300 Przasnysz",1422011,"przasnyski",{"$error":"#N/A"},"1"]
["64",8212525409,"711581765","Miasto Siedlce","Skwer Niepodległości 2, 08-110 Siedlce",1464011,"Siedlce",{"$error":"#N/A"},"1"]
["28",8371691451,"750148644","Miasto Sochaczew","ul. 1 Maja 16, 96-500 Sochaczew",1428011,"sochaczewski",{"$error":"#N/A"},"1"]
["29",8231544856,"711582859","Miasto Sokołów Podlaski","ul. Wolności 21, 08-300 Sokołów Podlaski",1429011,"sokołowski",{"$error":"#N/A"},"1"]
["65",5252248481,"015259640","Miasto Stołeczne Warszawa","pl. Plac Bankowy 3/5, 00-950 Warszawa",1465108,"m. st. Warszawa",{"$error":"#N/A"},"8"]
["12",8222146607,"013269114","Miasto Sulejówek","ul. Dworcowa 55, 05-070 Sulejówek",1412151,"miński",{"$error":"#N/A"},"1"]
["33",8241694882,"711582233","Miasto Węgrów","ul. Rynek Mariacki 16, 07-100 Węgrów",1433011,"węgrowski",{"$error":"#N/A"},"1"]
["34",1251332295,"013269717","Miasto Ząbki","ul. Wojska Polskiego 10, 05-091 Ząbki",1434031,"wołomiński",{"$error":"#N/A"},"1"]
["34",1251334816,"013269730","Miasto Zielonka","ul. Lipowa 5, 05-220 Zielonka",1434041,"wołomiński",{"$error":"#N/A"},"1"]
["38",8381464722,"750148650","Miasto Żyrardów","pl. Plac Jana Pawła II 1, 96-300 Żyrardów",1438011,"żyrardowski",{"$error":"#N/A"},"1"]
["16",7590004964,"550029207","Międzygminny Związek \"Ziemia Ostrowska\"","ul. 3-go Maja 66, 07-300 Ostrów Mazowiecka",1416011,"ostrowski",{"$error":"#N/A"},"1"]
["01",7981464078,"670223132","Powiat Białobrzeski","Plac Zygmunta Starego 9, 26-800 Białobrzegi",1401000,"białobrzeski",101,"0"]
["02",5661889579,"130377706","Powiat Ciechanowski","ul. 17 Stycznia 7, 06-400 Ciechanów",1402000,"ciechanowski",102,"0"]
["03",8262189646,"711581802","Powiat Garwoliński","ul. Mazowiecka 26, 08-400 Garwolin",1403000,"garwoliński",103,"0"]
["04",9710658050,"611016100","Powiat Gostyniński","ul. Romana Dmowskiego 13, 09-500 Gostynin",1404000,"gostyniński",104,"0"]
["05",5291798895,"013269108","Powiat Grodziski","ul. Daleka 11A, 05-825 Grodzisk Mazowiecki",1405000,"grodziski",105,"0"]
["06",7972052212,"670223149","Powiat Grójecki","ul. Józefa Piłsudskiego 59, 05-600 Grójec",1406000,"grójecki",106,"0"]
["07",8121907683,"670223155","Powiat Kozienicki","ul. Jana Kochanowskiego 28, 26-900 Kozienice",1407000,"kozienicki",107,{"$f":"RIGHT(F323,1)","v":"0"}]
["08",5361597016,"013269858","Powiat Legionowski","ul. gen. Władysława Sikorskiego 11, 05-119 Legionowo",1408000,"legionowski",108,"0"]
["09",5090054952,"670223161","Powiat Lipski","ul. Rynek 1, 27-300 Lipsko",1409000,"lipski",109,"0"]
["10",4960249456,"030237351","Powiat Łosicki","ul. Narutowicza 6, 08-200 Łosice",1410000,"łosicki",110,"0"]
["11",7571452124,"550668841","Powiat Makowski","ul. Rynek 1, 06-200 Maków Mazowiecki",1411000,"makowski",111,"0"]
["12",8222342426,"711581788","Powiat Miński","ul. Tadeusza Kościuszki 3, 05-300 Mińsk Mazowiecki",1412000,"miński",112,"0"]
["13",5691760040,"130377735","Powiat Mławski","ul. Władysława Stanisława Reymonta 6, 06-500 Mława",1413000,"mławski",113,"0"]
["14",5311688975,"013270034","Powiat Nowodworski","ul. Ignacego Paderewskiego 1B, 05-100 Nowy Dwór Mazowiecki",1414000,"nowodworski",114,"0"]
["61",7582359776,"550668835","Powiat Ostrołęcki","pl. Plac Generała Józefa Bema 5, 07-410 Ostrołęka",1415000,"Ostrołęka",115,"0"]
["16",7591613174,"550668806","Powiat Ostrowski","ul. 3-go Maja 68, 07-300 Ostrów Mazowiecka",1416000,"ostrowski",117,"0"]
["17",5322008671,"013268681","Powiat Otwocki","ul. Górna 13, 05-400 Otwock",1417000,"otwocki",118,"0"]
["18",1231268996,"013270979","Powiat Piaseczyński","ul. Chyliczkowska 14, 05-500 Piaseczno",1418000,"piaseczyński",119,"0"]
["62",7743227414,"611016034","Powiat Płocki","ul. Bielska 59, 09-400 Płock",1419000,"Płock",120,"0"]
["20",5671788408,"130377712","Powiat Płoński","ul. Płocka 39, 09-100 Płońsk",1420000,"płoński",122,"0"]
["21",5342405501,"013267144","Powiat Pruszkowski","ul. Michała Drzymały 30, 05-800 Pruszków",1421000,"pruszkowski",123,"0"]
["22",7611527332,"550668812","Powiat Przasnyski","ul. św. Stanisława Kostki 5, 06-300 Przasnysz",1422000,"przasnyski",124]
["23",6010078283,"670223190","Powiat Przysuski","ul. Aleja Jana Pawła II 10, 26-400 Przysucha",1423000,"przysuski",125]
["24",5681618062,"130377729","Powiat Pułtuski","ul. Marii Skłodowskiej-Curie 11, 06-100 Pułtusk",1424000,"pułtuski",126]
["63",9482604208,"670223110","Powiat Radomski","ul. Tadeusza Mazowieckiego 7, 26-600 Radom",1425000,"Radom",127]
["64",8212546021,"711581653","Powiat Siedlecki","ul. Józefa Piłsudskiego 40, 08-110 Siedlce",1426000,"Siedlce",129]
["27",7761676252,"611016169","Powiat Sierpecki","ul. Świętokrzyska 2A, 09-200 Sierpc",1427000,"sierpecki",131]
["28",8371511868,"750147805","Powiat Sochaczewski","ul. marsz. Józefa Piłsudskiego 65, 96-500 Sochaczew",1428000,"sochaczewski",132]
["29",8231627536,"711581771","Powiat Sokołowski","ul. Wolności 23, 08-300 Sokołów Podlaski",1429000,"sokołowski",133]
["30",7991963340,"670223215","Powiat Szydłowiecki","pl. Marii Konopnickiej 7, 26-500 Szydłowiec",1430000,"szydłowiecki",134]
["32",5272185341,"013271996","Powiat Warszawski Zachodni","ul. Poznańska 129/133, 05-850 Ożarów Mazowiecki",1432000,"warszawski zachodni",136]
["33",8241765263,"711581831","Powiat Węgrowski","ul. Przemysłowa 5, 07-100 Węgrów",1433000,"węgrowski",138]
["34",1250940609,"013269344","Powiat Wołomiński","ul. Prądzyńskiego 3, 05-200 Wołomin",1434000,"wołomiński",138]
["35",7621886920,"550668829","Powiat Wyszkowski","al. Aleja Róż 2, 07-200 Wyszków",1435000,"wyszkowski",139]
["36",8111766100,"670223221","Powiat Zwoleński","ul. Władysława Jagiełły 4, 26-700 Zwoleń",1436000,"zwoleński",140]
["37",5110290993,"130377758","Powiat Żuromiński","Plac Józefa Piłsudskiego 4, 09-300 Żuromin",1437000,"żuromiński",141]
["38",8381610589,"750147828","Powiat Żyrardowski","ul. Bolesława Limanowskiego 45, 96-300 Żyrardów",1438000,"żyrardowski",142]
["12",8222393748,522184154,"Powiatowo-gminny związek transportu publicznego Powiatu Mińskiego","ul. Budowlana 4; 05-300 Mińsk Mazowiecki",1412,"miński",94476]
["65",1132453940,"015528910","Województwo Mazowieckie","ul. Jagiellońska 26, 03-719 Warszawa",1465088,"m. st. Warszawa",{"$error":"#N/A"}]
["24",7621733978,"550661750","Związek Gmin \"Kurpie Białe\"","Obryte 185, 07-215 Obryte",1424022,"pułtuski",{"$error":"#N/A"}]
["63",9482594912,"145803614","Związek Gmin \"Podradomska Komunikacja Samochodowa\"","ul. 1905 Roku 47, 26-600 Radom",1463011,"Radom",{"$error":"#N/A"}]
["25",7981300520,"670977871","Związek Gmin \"Radomka\"","ul. Zachęta 57, 26-650 Przytyk",1425092,"radomski",{"$error":"#N/A"}]
["25",7962146733,"670818919","Związek Gmin Nad Iłżanką","ul. Rynek 11, 27-100 Iłża",1425034,"radomski",{"$error":"#N/A"}]
["62",7741977335,"610216771","Związek Gmin Regionu Płockiego","ul. Witolda Zglenickiego 42, 09-411 Płock",1462011,"Płock",{"$error":"#N/A"}]
["08",5361765287,"140012061","Związek Gmin Zalewu Zegrzyńskiego","ul. gen. Władysława Sikorskiego 11, 05-119 Legionowo",1408011,"legionowski",{"$error":"#N/A"}]
["07",8121785949,"672874744","Związek Gmin Ziemi Kozienickiej","ul. Parkowa 5, 26-900 Kozienice",1407054,"kozienicki",{"$error":"#N/A"}]
["11",7571259723,"550044483","Związek Gmin Ziemi Makowskiej","ul. Stanisława Moniuszki 6, 06-200 Maków Mazowiecki",1411011,"makowski",{"$error":"#N/A"}]
["10",4960062462,"030190164","Związek Komunalny \"Nieskażone Środowisko\" Z Siedzibą W Łosicach","ul. Ekologiczna 5, 08-200 Łosice",1410024,"łosicki",{"$error":"#N/A"}]
["09",8111536995,"670157961","Związek Komunalny Powiśle","ul. 1 Maja 2, 27-300 Lipsko",1409034,"lipski",{"$error":"#N/A"}]
["38",8381727742,"015433581","Związek Międzygminny \"Mazowsze Zachodnie\"","ul. Grójecka 45, 96-320 Mszczonów",1438024,"żyrardowski",{"$error":"#N/A"}]
["21",5341995825,"012100360","Związek Międzygminny Utrata","ul. Bohaterów Warszawy 4, 05-800 Pruszków",1421021,"pruszkowski",{"$error":"#N/A"}]
["64",8212679822,"522594254","Związek Międzygminny Zielone Gminy","ul. Mieczysława Asłanowicza 10, 08-110 Siedlce",1464011,"Siedlce",{"$error":"#N/A"}]
["03",8262221226,526980652,"Związek Powiatowo - Gminny  \"Garwolińskie Przewozy Gminno - Powiatowe\"","Ul. Mazowiecka 26, 08-400 Garwolin",1403,"garwoliński",94475]
["05",5291836443,"389450569","Związek Powiatowo-Gminny \"Grodziskie Przewozy Autobusowe\"","ul. Kościuszki 32a, 05-825 Grodzisk Mazowiecki",1405,"grodziski",25938]
["17",5322102832,"524171813","Związek Powiatowo-Gminny \"Otwockie Przewozy Gminno-Powiatowe\"","ul. Komunardów 10, 05-402 Otwock",1417,"otwocki",93665]
[38,8381888184,540340545,"Związek Powiatowo Gminny \"Żyrardowskie Przewozy Autobusowe\"","ul. Limanowskiego 45, 96-300 Żyardów",1438,"żyrardowski",95216]
["06",1,"670582724","Związek Gmin \"Pilica\"","ul. Tomaszowska 1A, 26-420 Nowe Miasto nad Pilicą",1406084,"grójecki",{"$error":"#N/A"}]

{"sheet":"Bank danych","index":14,"n_rows":31,"n_cols":10,"rows_kept":31,"cut":false,"hidden":true,"merged":[[0,0,0,2]]}
["Katalog organizatorów PTZ",null,null,"Gmina wiejska",null,null,null,null,null,"2025 - 2026, tj. na okres 2 lat"]
[null,null,null,"Gmina miejsko-wiejska",null,null,null,null,null,"2025 - 2027, tj. na okres 3 lat"]
[null,null,null,"Gmina na mocy porozumienia",null,null,null,null,null,"2025 - 2028, tj. na okres 4 lat"]
[null,null,null,"Związek międzygminny",null,null,null,null,null,"2025 - 2029, tj. na okres 5 lat"]
[null,null,null,"Powiat",null,null,null,null,null,"2025 - 2030, tj. na okres 6 lat"]
[null,null,null,"Powiat na mocy porozumienia",null,null,null,null,null,"2025 - 2031, tj. na okres 7 lat"]
[null,null,null,"Związek powiatów",null,null,null,null,null,"2025 - 2032, tj. na okres 8 lat"]
[null,null,null,"Związek powiatowo gminny",null,null,null,null,null,"2025 - 2033, tj. na okres 9 lat"]
[null,null,null,"Województwo"]
[null,null,null,"Województwo na mocy porozumienia"]
[]
["JEST",null,null,"TAK"]
["BRAK",null,null,"NIE"]
["NIE DOTYCZY"]
[]
[]
["Pan",null,null,null,"Wniosek"]
["Pani",null,null,null,"Korekta wniosku"]
["Wójt"]
["Zastępca Wójta"]
["Burmistrz"]
["Zastępca Burmistrza"]
["Starosta"]
["Wicestarosta"]
["Członek Zarządu"]
["Etatowy Członek Zarządu"]
["Marszałek"]
["Prezes Zarządu"]
["Wiceprezes Zarządu"]
["Skarbnik"]
["Główny Księgowy"]

{"sheet":"Mazowieckie - TERYT","index":15,"n_rows":633,"n_cols":7,"rows_kept":633,"cut":false,"hidden":true,"merged":[]}
["WOJ","POW","GMI","RODZ","NAZWA","NAZWA_DOD","STAN_NA"]
[14,null,null,null,"MAZOWIECKIE","województwo","2022-01-01"]
[14,1,null,null,"białobrzeski","powiat","2025-01-01"]
[14,1,1,3,"Białobrzegi","gmina miejsko-wiejska","2025-01-01"]
[14,1,1,4,"Białobrzegi","miasto","2025-01-01"]
[14,1,1,5,"Białobrzegi","obszar wiejski","2025-01-01"]
[14,1,2,2,"Promna","gmina wiejska","2025-01-01"]
[14,1,3,2,"Radzanów","gmina wiejska","2025-01-01"]
[14,1,4,2,"Stara Błotnica","gmina wiejska","2025-01-01"]
[14,1,5,2,"Stromiec","gmina wiejska","2025-01-01"]
[14,1,6,3,"Wyśmierzyce","gmina miejsko-wiejska","2025-01-01"]
[14,1,6,4,"Wyśmierzyce","miasto","2025-01-01"]
[14,1,6,5,"Wyśmierzyce","obszar wiejski","2025-01-01"]
[14,2,null,null,"ciechanowski","powiat","2025-01-01"]
[14,2,1,1,"Ciechanów","gmina miejska","2025-01-01"]
[14,2,2,2,"Ciechanów","gmina wiejska","2025-01-01"]
[14,2,3,3,"Glinojeck","gmina miejsko-wiejska","2025-01-01"]
[14,2,3,4,"Glinojeck","miasto","2025-01-01"]
[14,2,3,5,"Glinojeck","obszar wiejski","2025-01-01"]
[14,2,4,2,"Gołymin-Ośrodek","gmina wiejska","2025-01-01"]
[14,2,5,2,"Grudusk","gmina wiejska","2025-01-01"]
[14,2,6,2,"Ojrzeń","gmina wiejska","2025-01-01"]
[14,2,7,2,"Opinogóra Górna","gmina wiejska","2025-01-01"]
[14,2,8,2,"Regimin","gmina wiejska","2025-01-01"]
[14,2,9,2,"Sońsk","gmina wiejska","2025-01-01"]
[14,3,null,null,"garwoliński","powiat","2025-01-01"]
[14,3,3,2,"Borowie","gmina wiejska","2025-01-01"]
[14,3,1,1,"Garwolin","gmina miejska","2025-01-01"]
[14,3,4,2,"Garwolin","gmina wiejska","2025-01-01"]
[14,3,5,2,"Górzno","gmina wiejska","2025-01-01"]
[14,3,2,1,"Łaskarzew","gmina miejska","2025-01-01"]
[14,3,6,2,"Łaskarzew","gmina wiejska","2025-01-01"]
[14,3,7,3,"Maciejowice","gmina miejsko-wiejska","2025-01-01"]
[14,3,7,4,"Maciejowice","miasto","2025-01-01"]
[14,3,7,5,"Maciejowice","obszar wiejski","2025-01-01"]
[14,3,8,2,"Miastków Kościelny","gmina wiejska","2025-01-01"]
[14,3,9,2,"Parysów","gmina wiejska","2025-01-01"]
[14,3,10,3,"Pilawa","gmina miejsko-wiejska","2025-01-01"]
[14,3,10,4,"Pilawa","miasto","2025-01-01"]
[14,3,10,5,"Pilawa","obszar wiejski","2025-01-01"]
[14,3,11,2,"Sobolew","gmina wiejska","2025-01-01"]
[14,3,12,2,"Trojanów","gmina wiejska","2025-01-01"]
[14,3,13,2,"Wilga","gmina wiejska","2025-01-01"]
[14,3,14,3,"Żelechów","gmina miejsko-wiejska","2025-01-01"]
[14,3,14,4,"Żelechów","miasto","2025-01-01"]
[14,3,14,5,"Żelechów","obszar wiejski","2025-01-01"]
[14,4,null,null,"gostyniński","powiat","2025-01-01"]
[14,4,1,1,"Gostynin","gmina miejska","2025-01-01"]
[14,4,2,2,"Gostynin","gmina wiejska","2025-01-01"]
[14,4,3,2,"Pacyna","gmina wiejska","2025-01-01"]
[14,4,4,3,"Sanniki","gmina miejsko-wiejska","2025-01-01"]
[14,4,4,4,"Sanniki","miasto","2025-01-01"]
[14,4,4,5,"Sanniki","obszar wiejski","2025-01-01"]
[14,4,5,2,"Szczawin Kościelny","gmina wiejska","2025-01-01"]
[14,5,null,null,"grodziski","powiat","2025-01-01"]
[14,5,3,2,"Baranów","gmina wiejska","2025-01-01"]
[14,5,4,3,"Grodzisk Mazowiecki","gmina miejsko-wiejska","2025-01-01"]
[14,5,4,4,"Grodzisk Mazowiecki","miasto","2025-01-01"]
[14,5,4,5,"Grodzisk Mazowiecki","obszar wiejski","2025-01-01"]
[14,5,5,2,"Jaktorów","gmina wiejska","2025-01-01"]
[14,5,1,1,"Milanówek","gmina miejska","2025-01-01"]
[14,5,2,1,"Podkowa Leśna","gmina miejska","2025-01-01"]
[14,5,6,2,"Żabia Wola","gmina wiejska","2025-01-01"]
[14,6,null,null,"grójecki","powiat","2025-01-01"]
[14,6,1,2,"Belsk Duży","gmina wiejska","2025-01-01"]
[14,6,2,2,"Błędów","gmina wiejska","2025-01-01"]
[14,6,3,2,"Chynów","gmina wiejska","2025-01-01"]
[14,6,4,2,"Goszczyn","gmina wiejska","2025-01-01"]
[14,6,5,3,"Grójec","gmina miejsko-wiejska","2025-01-01"]
[14,6,5,4,"Grójec","miasto","2025-01-01"]
[14,6,5,5,"Grójec","obszar wiejski","2025-01-01"]
[14,6,6,2,"Jasieniec","gmina wiejska","2025-01-01"]
[14,6,7,3,"Mogielnica","gmina miejsko-wiejska","2025-01-01"]
[14,6,7,4,"Mogielnica","miasto","2025-01-01"]
[14,6,7,5,"Mogielnica","obszar wiejski","2025-01-01"]
[14,6,8,3,"Nowe Miasto nad Pilicą","gmina miejsko-wiejska","2025-01-01"]
[14,6,8,4,"Nowe Miasto nad Pilicą","miasto","2025-01-01"]
[14,6,8,5,"Nowe Miasto nad Pilicą","obszar wiejski","2025-01-01"]
[14,6,9,2,"Pniewy","gmina wiejska","2025-01-01"]
[14,6,11,3,"Warka","gmina miejsko-wiejska","2025-01-01"]
[14,6,11,4,"Warka","miasto","2025-01-01"]
[14,6,11,5,"Warka","obszar wiejski","2025-01-01"]
[14,7,null,null,"kozienicki","powiat","2025-01-01"]
[14,7,1,2,"Garbatka-Letnisko","gmina wiejska","2025-01-01"]
[14,7,2,3,"Głowaczów","gmina miejsko-wiejska","2025-01-01"]
[14,7,2,4,"Głowaczów","miasto","2025-01-01"]
[14,7,2,5,"Głowaczów","obszar wiejski","2025-01-01"]
[14,7,3,2,"Gniewoszów","gmina wiejska","2025-01-01"]
[14,7,4,2,"Grabów nad Pilicą","gmina wiejska","2025-01-01"]
[14,7,5,3,"Kozienice","gmina miejsko-wiejska","2025-01-01"]
[14,7,5,4,"Kozienice","miasto","2025-01-01"]
[14,7,5,5,"Kozienice","obszar wiejski","2025-01-01"]
[14,7,6,3,"Magnuszew","gmina miejsko-wiejska","2025-01-01"]
[14,7,6,4,"Magnuszew","miasto","2025-01-01"]
[14,7,6,5,"Magnuszew","obszar wiejski","2025-01-01"]
[14,7,7,2,"Sieciechów","gmina wiejska","2025-01-01"]
[14,8,null,null,"legionowski","powiat","2025-01-01"]
[14,8,2,2,"Jabłonna","gmina wiejska","2025-01-01"]
[14,8,1,1,"Legionowo","gmina miejska","2025-01-01"]
[14,8,3,2,"Nieporęt","gmina wiejska","2025-01-01"]
[14,8,4,3,"Serock","gmina miejsko-wiejska","2025-01-01"]
[14,8,4,4,"Serock","miasto","2025-01-01"]
[14,8,4,5,"Serock","obszar wiejski","2025-01-01"]
[14,8,5,2,"Wieliszew","gmina wiejska","2025-01-01"]
[14,9,null,null,"lipski","powiat","2025-01-01"]
[14,9,1,2,"Chotcza","gmina wiejska","2025-01-01"]
[14,9,2,3,"Ciepielów","gmina miejsko-wiejska","2025-01-01"]
[14,9,2,4,"Ciepielów","miasto","2025-01-01"]
[14,9,2,5,"Ciepielów","obszar wiejski","2025-01-01"]
[14,9,3,3,"Lipsko","gmina miejsko-wiejska","2025-01-01"]
[14,9,3,4,"Lipsko","miasto","2025-01-01"]
[14,9,3,5,"Lipsko","obszar wiejski","2025-01-01"]
[14,9,4,2,"Rzeczniów","gmina wiejska","2025-01-01"]
[14,9,5,3,"Sienno","gmina miejsko-wiejska","2025-01-01"]
[14,9,5,4,"Sienno","miasto","2025-01-01"]
[14,9,5,5,"Sienno","obszar wiejski","2025-01-01"]
[14,9,6,3,"Solec nad Wisłą","gmina miejsko-wiejska","2025-01-01"]
[14,9,6,4,"Solec nad Wisłą","miasto","2025-01-01"]
[14,9,6,5,"Solec nad Wisłą","obszar wiejski","2025-01-01"]
[14,10,null,null,"łosicki","powiat","2025-01-01"]
[14,10,1,2,"Huszlew","gmina wiejska","2025-01-01"]
[14,10,2,3,"Łosice","gmina miejsko-wiejska","2025-01-01"]
[14,10,2,4,"Łosice","miasto","2025-01-01"]
[14,10,2,5,"Łosice","obszar wiejski","2025-01-01"]
[14,10,3,2,"Olszanka","gmina wiejska","2025-01-01"]
[14,10,4,2,"Platerów","gmina wiejska","2025-01-01"]
[14,10,5,2,"Sarnaki","gmina wiejska","2025-01-01"]
[14,10,6,2,"Stara Kornica","gmina wiejska","2025-01-01"]
[14,11,null,null,"makowski","powiat","2025-01-01"]
[14,11,2,2,"Czerwonka","gmina wiejska","2025-01-01"]
[14,11,3,2,"Karniewo","gmina wiejska","2025-01-01"]
[14,11,4,2,"Krasnosielc","gmina wiejska","2025-01-01"]
[14,11,1,1,"Maków Mazowiecki","gmina miejska","2025-01-01"]
[14,11,5,2,"Młynarze","gmina wiejska","2025-01-01"]
[14,11,6,2,"Płoniawy-Bramura","gmina wiejska","2025-01-01"]
[14,11,7,3,"Różan","gmina miejsko-wiejska","2025-01-01"]
[14,11,7,4,"Różan","miasto","2025-01-01"]
[14,11,7,5,"Różan","obszar wiejski","2025-01-01"]
[14,11,8,2,"Rzewnie","gmina wiejska","2025-01-01"]
[14,11,9,2,"Sypniewo","gmina wiejska","2025-01-01"]
[14,11,10,2,"Szelków","gmina wiejska","2025-01-01"]
[14,12,null,null,"miński","powiat","2025-01-01"]
[14,12,4,3,"Cegłów","gmina miejsko-wiejska","2025-01-01"]
[14,12,4,4,"Cegłów","miasto","2025-01-01"]
[14,12,4,5,"Cegłów","obszar wiejski","2025-01-01"]
[14,12,5,2,"Dębe Wielkie","gmina wiejska","2025-01-01"]
[14,12,6,3,"Dobre","gmina miejsko-wiejska","2025-01-01"]
[14,12,6,4,"Dobre","miasto","2025-01-01"]
[14,12,6,5,"Dobre","obszar wiejski","2025-01-01"]
[14,12,7,3,"Halinów","gmina miejsko-wiejska","2025-01-01"]
[14,12,7,4,"Halinów","miasto","2025-01-01"]
[14,12,7,5,"Halinów","obszar wiejski","2025-01-01"]
[14,12,8,2,"Jakubów","gmina wiejska","2025-01-01"]
[14,12,9,3,"Kałuszyn","gmina miejsko-wiejska","2025-01-01"]
[14,12,9,4,"Kałuszyn","miasto","2025-01-01"]
[14,12,9,5,"Kałuszyn","obszar wiejski","2025-01-01"]
[14,12,10,3,"Latowicz","gmina miejsko-wiejska","2025-01-01"]
[14,12,10,4,"Latowicz","miasto","2025-01-01"]
[14,12,10,5,"Latowicz","obszar wiejski","2025-01-01"]
[14,12,1,1,"Mińsk Mazowiecki","gmina miejska","2025-01-01"]
[14,12,11,2,"Mińsk Mazowiecki","gmina wiejska","2025-01-01"]
[14,12,12,3,"Mrozy","gmina miejsko-wiejska","2025-01-01"]
[14,12,12,4,"Mrozy","miasto","2025-01-01"]
[14,12,12,5,"Mrozy","obszar wiejski","2025-01-01"]
[14,12,13,3,"Siennica","gmina miejsko-wiejska","2025-01-01"]
[14,12,13,4,"Siennica","miasto","2025-01-01"]
[14,12,13,5,"Siennica","obszar wiejski","2025-01-01"]
[14,12,14,2,"Stanisławów","gmina wiejska","2025-01-01"]
[14,12,15,1,"Sulejówek","gmina miejska","2025-01-01"]
[14,13,null,null,"mławski","powiat","2025-01-01"]
[14,13,2,2,"Dzierzgowo","gmina wiejska","2025-01-01"]
[14,13,3,2,"Lipowiec Kościelny","gmina wiejska","2025-01-01"]
[14,13,1,1,"Mława","gmina miejska","2025-01-01"]
[14,13,4,2,"Radzanów","gmina wiejska","2025-01-01"]
[14,13,5,2,"Strzegowo","gmina wiejska","2025-01-01"]
[14,13,6,2,"Stupsk","gmina wiejska","2025-01-01"]
[14,13,7,2,"Szreńsk","gmina wiejska","2025-01-01"]
[14,13,8,2,"Szydłowo","gmina wiejska","2025-01-01"]
[14,13,9,2,"Wieczfnia Kościelna","gmina wiejska","2025-01-01"]
[14,13,10,2,"Wiśniewo","gmina wiejska","2025-01-01"]
[14,14,null,null,"nowodworski","powiat","2025-01-01"]
[14,14,2,2,"Czosnów","gmina wiejska","2025-01-01"]
[14,14,3,2,"Leoncin","gmina wiejska","2025-01-01"]
[14,14,4,3,"Nasielsk","gmina miejsko-wiejska","2025-01-01"]
[14,14,4,4,"Nasielsk","miasto","2025-01-01"]
[14,14,4,5,"Nasielsk","obszar wiejski","2025-01-01"]
[14,14,1,1,"Nowy Dwór Mazowiecki","gmina miejska","2025-01-01"]
[14,14,5,2,"Pomiechówek","gmina wiejska","2025-01-01"]
[14,14,6,3,"Zakroczym","gmina miejsko-wiejska","2025-01-01"]
[14,14,6,4,"Zakroczym","miasto","2025-01-01"]
[14,14,6,5,"Zakroczym","obszar wiejski","2025-01-01"]
[14,15,null,null,"ostrołęcki","powiat","2025-01-01"]
[14,15,1,2,"Baranowo","gmina wiejska","2025-01-01"]
[14,15,2,2,"Czarnia","gmina wiejska","2025-01-01"]
[14,15,3,2,"Czerwin","gmina wiejska","2025-01-01"]
[14,15,4,2,"Goworowo","gmina wiejska","2025-01-01"]
[14,15,5,2,"Kadzidło","gmina wiejska","2025-01-01"]
[14,15,6,2,"Lelis","gmina wiejska","2025-01-01"]
[14,15,7,2,"Łyse","gmina wiejska","2025-01-01"]
[14,15,8,3,"Myszyniec","gmina miejsko-wiejska","2025-01-01"]
[14,15,8,4,"Myszyniec","miasto","2025-01-01"]
[14,15,8,5,"Myszyniec","obszar wiejski","2025-01-01"]
[14,15,9,2,"Olszewo-Borki","gmina wiejska","2025-01-01"]
[14,15,10,2,"Rzekuń","gmina wiejska","2025-01-01"]
[14,15,11,2,"Troszyn","gmina wiejska","2025-01-01"]
[14,16,null,null,"ostrowski","powiat","2025-01-01"]
[14,16,2,2,"Andrzejewo","gmina wiejska","2025-01-01"]
[14,16,3,2,"Boguty-Pianki","gmina wiejska","2025-01-01"]
[14,16,4,3,"Brok","gmina miejsko-wiejska","2025-01-01"]
[14,16,4,4,"Brok","miasto","2025-01-01"]
[14,16,4,5,"Brok","obszar wiejski","2025-01-01"]
[14,16,5,2,"Małkinia Górna","gmina wiejska","2025-01-01"]
[14,16,6,2,"Nur","gmina wiejska","2025-01-01"]
[14,16,1,1,"Ostrów Mazowiecka","gmina miejska","2025-01-01"]
[14,16,7,2,"Ostrów Mazowiecka","gmina wiejska","2025-01-01"]
[14,16,8,2,"Stary Lubotyń","gmina wiejska","2025-01-01"]
[14,16,9,2,"Szulborze Wielkie","gmina wiejska","2025-01-01"]
[14,16,10,2,"Wąsewo","gmina wiejska","2025-01-01"]
[14,16,11,2,"Zaręby Kościelne","gmina wiejska","2025-01-01"]
[14,17,null,null,"otwocki","powiat","2025-01-01"]
[14,17,3,2,"Celestynów","gmina wiejska","2025-01-01"]
[14,17,1,1,"Józefów","gmina miejska","2025-01-01"]
[14,17,4,3,"Karczew","gmina miejsko-wiejska","2025-01-01"]
[14,17,4,4,"Karczew","miasto","2025-01-01"]
[14,17,4,5,"Karczew","obszar wiejski","2025-01-01"]
[14,17,5,2,"Kołbiel","gmina wiejska","2025-01-01"]
[14,17,6,3,"Osieck","gmina miejsko-wiejska","2025-01-01"]
[14,17,6,4,"Osieck","miasto","2025-01-01"]
[14,17,6,5,"Osieck","obszar wiejski","2025-01-01"]
[14,17,2,1,"Otwock","gmina miejska","2025-01-01"]
[14,17,7,2,"Sobienie-Jeziory","gmina wiejska","2025-01-01"]
[14,17,8,2,"Wiązowna","gmina wiejska","2025-01-01"]
[14,18,null,null,"piaseczyński","powiat","2025-01-01"]
[14,18,1,3,"Góra Kalwaria","gmina miejsko-wiejska","2025-01-01"]
[14,18,1,4,"Góra Kalwaria","miasto","2025-01-01"]
[14,18,1,5,"Góra Kalwaria","obszar wiejski","2025-01-01"]
[14,18,2,3,"Konstancin-Jeziorna","gmina miejsko-wiejska","2025-01-01"]
[14,18,2,4,"Konstancin-Jeziorna","miasto","2025-01-01"]
[14,18,2,5,"Konstancin-Jeziorna","obszar wiejski","2025-01-01"]
[14,18,3,2,"Lesznowola","gmina wiejska","2025-01-01"]
[14,18,4,3,"Piaseczno","gmina miejsko-wiejska","2025-01-01"]
[14,18,4,4,"Piaseczno","miasto","2025-01-01"]
[14,18,4,5,"Piaseczno","obszar wiejski","2025-01-01"]
[14,18,5,2,"Prażmów","gmina wiejska","2025-01-01"]
[14,18,6,3,"Tarczyn","gmina miejsko-wiejska","2025-01-01"]
[14,18,6,4,"Tarczyn","miasto","2025-01-01"]
[14,18,6,5,"Tarczyn","obszar wiejski","2025-01-01"]
[14,19,null,null,"płocki","powiat","2025-01-01"]
[14,19,1,2,"Bielsk","gmina wiejska","2025-01-01"]
[14,19,2,3,"Bodzanów","gmina miejsko-wiejska","2025-01-01"]
[14,19,2,4,"Bodzanów","miasto","2025-01-01"]
[14,19,2,5,"Bodzanów","obszar wiejski","2025-01-01"]
[14,19,3,2,"Brudzeń Duży","gmina wiejska","2025-01-01"]
[14,19,4,2,"Bulkowo","gmina wiejska","2025-01-01"]
[14,19,5,3,"Drobin","gmina miejsko-wiejska","2025-01-01"]
[14,19,5,4,"Drobin","miasto","2025-01-01"]
[14,19,5,5,"Drobin","obszar wiejski","2025-01-01"]
[14,19,6,3,"Gąbin","gmina miejsko-wiejska","2025-01-01"]
[14,19,6,4,"Gąbin","miasto","2025-01-01"]
[14,19,6,5,"Gąbin","obszar wiejski","2025-01-01"]
[14,19,7,2,"Łąck","gmina wiejska","2025-01-01"]
[14,19,8,2,"Mała Wieś","gmina wiejska","2025-01-01"]
[14,19,9,2,"Nowy Duninów","gmina wiejska","2025-01-01"]
[14,19,10,2,"Radzanowo","gmina wiejska","2025-01-01"]
[14,19,11,2,"Słubice","gmina wiejska","2025-01-01"]
[14,19,12,2,"Słupno","gmina wiejska","2025-01-01"]
[14,19,13,2,"Stara Biała","gmina wiejska","2025-01-01"]
[14,19,14,2,"Staroźreby","gmina wiejska","2025-01-01"]
[14,19,15,3,"Wyszogród","gmina miejsko-wiejska","2025-01-01"]
[14,19,15,4,"Wyszogród","miasto","2025-01-01"]
[14,19,15,5,"Wyszogród","obszar wiejski","2025-01-01"]
[14,20,null,null,"płoński","powiat","2025-01-01"]
[14,20,3,2,"Baboszewo","gmina wiejska","2025-01-01"]
[14,20,4,3,"Czerwińsk nad Wisłą","gmina miejsko-wiejska","2025-01-01"]
[14,20,4,4,"Czerwińsk nad Wisłą","miasto","2025-01-01"]
[14,20,4,5,"Czerwińsk nad Wisłą","obszar wiejski","2025-01-01"]
[14,20,5,2,"Dzierzążnia","gmina wiejska","2025-01-01"]
[14,20,6,2,"Joniec","gmina wiejska","2025-01-01"]
[14,20,7,2,"Naruszewo","gmina wiejska","2025-01-01"]
[14,20,8,3,"Nowe Miasto","gmina miejsko-wiejska","2025-01-01"]
[14,20,8,4,"Nowe Miasto","miasto","2025-01-01"]
[14,20,8,5,"Nowe Miasto","obszar wiejski","2025-01-01"]
[14,20,1,1,"Płońsk","gmina miejska","2025-01-01"]
[14,20,9,2,"Płońsk","gmina wiejska","2025-01-01"]
[14,20,2,1,"Raciąż","gmina miejska","2025-01-01"]
[14,20,10,2,"Raciąż","gmina wiejska","2025-01-01"]
[14,20,11,3,"Sochocin","gmina miejsko-wiejska","2025-01-01"]
[14,20,11,4,"Sochocin","miasto","2025-01-01"]
[14,20,11,5,"Sochocin","obszar wiejski","2025-01-01"]
[14,20,12,2,"Załuski","gmina wiejska","2025-01-01"]
[14,21,null,null,"pruszkowski","powiat","2025-01-01"]
[14,21,3,3,"Brwinów","gmina miejsko-wiejska","2025-01-01"]
[14,21,3,4,"Brwinów","miasto","2025-01-01"]
[14,21,3,5,"Brwinów","obszar wiejski","2025-01-01"]
[14,21,4,2,"Michałowice","gmina wiejska","2025-01-01"]
[14,21,5,2,"Nadarzyn","gmina wiejska","2025-01-01"]
[14,21,1,1,"Piastów","gmina miejska","2025-01-01"]
[14,21,2,1,"Pruszków","gmina miejska","2025-01-01"]
[14,21,6,2,"Raszyn","gmina wiejska","2025-01-01"]
[14,22,null,null,"przasnyski","powiat","2025-01-01"]
[14,22,2,3,"Chorzele","gmina miejsko-wiejska","2025-01-01"]
[14,22,2,4,"Chorzele","miasto","2025-01-01"]
[14,22,2,5,"Chorzele","obszar wiejski","2025-01-01"]
[14,22,3,2,"Czernice Borowe","gmina wiejska","2025-01-01"]
[14,22,4,2,"Jednorożec","gmina wiejska","2025-01-01"]
[14,22,5,2,"Krasne","gmina wiejska","2025-01-01"]
[14,22,6,2,"Krzynowłoga Mała","gmina wiejska","2025-01-01"]
[14,22,1,1,"Przasnysz","gmina miejska","2025-01-01"]
[14,22,7,2,"Przasnysz","gmina wiejska","2025-01-01"]
[14,23,null,null,"przysuski","powiat","2025-01-01"]
[14,23,1,2,"Borkowice","gmina wiejska","2025-01-01"]
[14,23,2,3,"Gielniów","gmina miejsko-wiejska","2025-01-01"]
[14,23,2,4,"Gielniów","miasto","2025-01-01"]
[14,23,2,5,"Gielniów","obszar wiejski","2025-01-01"]
[14,23,3,2,"Klwów","gmina wiejska","2025-01-01"]
[14,23,4,3,"Odrzywół","gmina miejsko-wiejska","2025-01-01"]
[14,23,4,4,"Odrzywół","miasto","2025-01-01"]
[14,23,4,5,"Odrzywół","obszar wiejski","2025-01-01"]
[14,23,5,2,"Potworów","gmina wiejska","2025-01-01"]
[14,23,6,3,"Przysucha","gmina miejsko-wiejska","2025-01-01"]
[14,23,6,4,"Przysucha","miasto","2025-01-01"]
[14,23,6,5,"Przysucha","obszar wiejski","2025-01-01"]
[14,23,7,2,"Rusinów","gmina wiejska","2025-01-01"]
[14,23,8,2,"Wieniawa","gmina wiejska","2025-01-01"]
[14,24,null,null,"pułtuski","powiat","2025-01-01"]
[14,24,1,2,"Gzy","gmina wiejska","2025-01-01"]
[14,24,2,2,"Obryte","gmina wiejska","2025-01-01"]
[14,24,3,2,"Pokrzywnica","gmina wiejska","2025-01-01"]
[14,24,4,3,"Pułtusk","gmina miejsko-wiejska","2025-01-01"]
[14,24,4,4,"Pułtusk","miasto","2025-01-01"]
[14,24,4,5,"Pułtusk","obszar wiejski","2025-01-01"]
[14,24,5,2,"Świercze","gmina wiejska","2025-01-01"]
[14,24,6,2,"Winnica","gmina wiejska","2025-01-01"]
[14,24,7,2,"Zatory","gmina wiejska","2025-01-01"]
[14,25,null,null,"radomski","powiat","2025-01-01"]
[14,25,2,2,"Gózd","gmina wiejska","2025-01-01"]
[14,25,3,3,"Iłża","gmina miejsko-wiejska","2025-01-01"]
[14,25,3,4,"Iłża","miasto","2025-01-01"]
[14,25,3,5,"Iłża","obszar wiejski","2025-01-01"]
[14,25,4,2,"Jastrzębia","gmina wiejska","2025-01-01"]
[14,25,5,2,"Jedlińsk","gmina wiejska","2025-01-01"]
[14,25,6,3,"Jedlnia-Letnisko","gmina miejsko-wiejska","2025-01-01"]
[14,25,6,4,"Jedlnia-Letnisko","miasto","2025-01-01"]
[14,25,6,5,"Jedlnia-Letnisko","obszar wiejski","2025-01-01"]
[14,25,7,2,"Kowala","gmina wiejska","2025-01-01"]
[14,25,1,1,"Pionki","gmina miejska","2025-01-01"]
[14,25,8,2,"Pionki","gmina wiejska","2025-01-01"]
[14,25,9,3,"Przytyk","gmina miejsko-wiejska","2025-01-01"]
[14,25,9,4,"Przytyk","miasto","2025-01-01"]
[14,25,9,5,"Przytyk","obszar wiejski","2025-01-01"]
[14,25,10,3,"Skaryszew","gmina miejsko-wiejska","2025-01-01"]
[14,25,10,4,"Skaryszew","miasto","2025-01-01"]
[14,25,10,5,"Skaryszew","obszar wiejski","2025-01-01"]
[14,25,11,2,"Wierzbica","gmina wiejska","2025-01-01"]
[14,25,12,2,"Wolanów","gmina wiejska","2025-01-01"]
[14,25,13,2,"Zakrzew","gmina wiejska","2025-01-01"]
[14,26,null,null,"siedlecki","powiat","2025-01-01"]
[14,26,1,2,"Domanice","gmina wiejska","2025-01-01"]
[14,26,2,2,"Korczew","gmina wiejska","2025-01-01"]
[14,26,3,2,"Kotuń","gmina wiejska","2025-01-01"]
[14,26,4,2,"Mokobody","gmina wiejska","2025-01-01"]
[14,26,5,3,"Mordy","gmina miejsko-wiejska","2025-01-01"]
[14,26,5,4,"Mordy","miasto","2025-01-01"]
[14,26,5,5,"Mordy","obszar wiejski","2025-01-01"]
[14,26,6,2,"Paprotnia","gmina wiejska","2025-01-01"]
[14,26,7,2,"Przesmyki","gmina wiejska","2025-01-01"]
[14,26,8,2,"Siedlce","gmina wiejska","2025-01-01"]
[14,26,9,2,"Skórzec","gmina wiejska","2025-01-01"]
[14,26,10,2,"Suchożebry","gmina wiejska","2025-01-01"]
[14,26,11,2,"Wiśniew","gmina wiejska","2025-01-01"]
[14,26,12,2,"Wodynie","gmina wiejska","2025-01-01"]
[14,26,13,2,"Zbuczyn","gmina wiejska","2025-01-01"]
[14,27,null,null,"sierpecki","powiat","2025-01-01"]
[14,27,2,2,"Gozdowo","gmina wiejska","2025-01-01"]
[14,27,3,2,"Mochowo","gmina wiejska","2025-01-01"]
[14,27,4,2,"Rościszewo","gmina wiejska","2025-01-01"]
[14,27,1,1,"Sierpc","gmina miejska","2025-01-01"]
[14,27,5,2,"Sierpc","gmina wiejska","2025-01-01"]
[14,27,6,2,"Szczutowo","gmina wiejska","2025-01-01"]
[14,27,7,2,"Zawidz","gmina wiejska","2025-01-01"]
[14,28,null,null,"sochaczewski","powiat","2025-01-01"]
[14,28,2,2,"Brochów","gmina wiejska","2025-01-01"]
[14,28,3,2,"Iłów","gmina wiejska","2025-01-01"]
[14,28,4,2,"Młodzieszyn","gmina wiejska","2025-01-01"]
[14,28,5,2,"Nowa Sucha","gmina wiejska","2025-01-01"]
[14,28,6,2,"Rybno","gmina wiejska","2025-01-01"]
[14,28,1,1,"Sochaczew","gmina miejska","2025-01-01"]
[14,28,7,2,"Sochaczew","gmina wiejska","2025-01-01"]
[14,28,8,2,"Teresin","gmina wiejska","2025-01-01"]
[14,29,null,null,"sokołowski","powiat","2025-01-01"]
[14,29,2,2,"Bielany","gmina wiejska","2025-01-01"]
[14,29,3,2,"Ceranów","gmina wiejska","2025-01-01"]
[14,29,4,2,"Jabłonna Lacka","gmina wiejska","2025-01-01"]
[14,29,5,3,"Kosów Lacki","gmina miejsko-wiejska","2025-01-01"]
[14,29,5,4,"Kosów Lacki","miasto","2025-01-01"]
[14,29,5,5,"Kosów Lacki","obszar wiejski","2025-01-01"]
[14,29,6,2,"Repki","gmina wiejska","2025-01-01"]
[14,29,7,2,"Sabnie","gmina wiejska","2025-01-01"]
[14,29,1,1,"Sokołów Podlaski","gmina miejska","2025-01-01"]
[14,29,8,2,"Sokołów Podlaski","gmina wiejska","2025-01-01"]
[14,29,9,2,"Sterdyń","gmina wiejska","2025-01-01"]
[14,30,null,null,"szydłowiecki","powiat","2025-01-01"]
[14,30,1,2,"Chlewiska","gmina wiejska","2025-01-01"]
[14,30,2,3,"Jastrząb","gmina miejsko-wiejska","2025-01-01"]
[14,30,2,4,"Jastrząb","miasto","2025-01-01"]
[14,30,2,5,"Jastrząb","obszar wiejski","2025-01-01"]
[14,30,3,2,"Mirów","gmina wiejska","2025-01-01"]
[14,30,4,2,"Orońsko","gmina wiejska","2025-01-01"]
[14,30,5,3,"Szydłowiec","gmina miejsko-wiejska","2025-01-01"]
[14,30,5,4,"Szydłowiec","miasto","2025-01-01"]
[14,30,5,5,"Szydłowiec","obszar wiejski","2025-01-01"]
[14,32,null,null,"warszawski zachodni","powiat","2025-01-01"]
[14,32,1,3,"Błonie","gmina miejsko-wiejska","2025-01-01"]
[14,32,1,4,"Błonie","miasto","2025-01-01"]
[14,32,1,5,"Błonie","obszar wiejski","2025-01-01"]
[14,32,2,2,"Izabelin","gmina wiejska","2025-01-01"]
[14,32,3,2,"Kampinos","gmina wiejska","2025-01-01"]
[14,32,4,2,"Leszno","gmina wiejska","2025-01-01"]
[14,32,5,3,"Łomianki","gmina miejsko-wiejska","2025-01-01"]
[14,32,5,4,"Łomianki","miasto","2025-01-01"]
[14,32,5,5,"Łomianki","obszar wiejski","2025-01-01"]
[14,32,6,3,"Ożarów Mazowiecki","gmina miejsko-wiejska","2025-01-01"]
[14,32,6,4,"Ożarów Mazowiecki","miasto","2025-01-01"]
[14,32,6,5,"Ożarów Mazowiecki","obszar wiejski","2025-01-01"]
[14,32,7,2,"Stare Babice","gmina wiejska","2025-01-01"]
[14,33,null,null,"węgrowski","powiat","2025-01-01"]
[14,33,2,2,"Grębków","gmina wiejska","2025-01-01"]
[14,33,3,2,"Korytnica","gmina wiejska","2025-01-01"]
[14,33,4,2,"Liw","gmina wiejska","2025-01-01"]
[14,33,5,3,"Łochów","gmina miejsko-wiejska","2025-01-01"]
[14,33,5,4,"Łochów","miasto","2025-01-01"]
[14,33,5,5,"Łochów","obszar wiejski","2025-01-01"]
[14,33,6,2,"Miedzna","gmina wiejska","2025-01-01"]
[14,33,7,2,"Sadowne","gmina wiejska","2025-01-01"]
[14,33,8,2,"Stoczek","gmina wiejska","2025-01-01"]
[14,33,1,1,"Węgrów","gmina miejska","2025-01-01"]
[14,33,9,2,"Wierzbno","gmina wiejska","2025-01-01"]
[14,34,null,null,"wołomiński","powiat","2025-01-01"]
[14,34,5,2,"Dąbrówka","gmina wiejska","2025-01-01"]
[14,34,6,3,"Jadów","gmina miejsko-wiejska","2025-01-01"]
[14,34,6,4,"Jadów","miasto","2025-01-01"]
[14,34,6,5,"Jadów","obszar wiejski","2025-01-01"]
[14,34,7,2,"Klembów","gmina wiejska","2025-01-01"]
[14,34,1,1,"Kobyłka","gmina miejska","2025-01-01"]
[14,34,2,1,"Marki","gmina miejska","2025-01-01"]
[14,34,8,2,"Poświętne","gmina wiejska","2025-01-01"]
[14,34,9,3,"Radzymin","gmina miejsko-wiejska","2025-01-01"]
[14,34,9,4,"Radzymin","miasto","2025-01-01"]
[14,34,9,5,"Radzymin","obszar wiejski","2025-01-01"]
[14,34,10,2,"Strachówka","gmina wiejska","2025-01-01"]
[14,34,11,3,"Tłuszcz","gmina miejsko-wiejska","2025-01-01"]
[14,34,11,4,"Tłuszcz","miasto","2025-01-01"]
[14,34,11,5,"Tłuszcz","obszar wiejski","2025-01-01"]
[14,34,12,3,"Wołomin","gmina miejsko-wiejska","2025-01-01"]
[14,34,12,4,"Wołomin","miasto","2025-01-01"]
[14,34,12,5,"Wołomin","obszar wiejski","2025-01-01"]
[14,34,3,1,"Ząbki","gmina miejska","2025-01-01"]
[14,34,4,1,"Zielonka","gmina miejska","2025-01-01"]
[14,35,null,null,"wyszkowski","powiat","2025-01-01"]
[14,35,1,2,"Brańszczyk","gmina wiejska","2025-01-01"]
[14,35,2,2,"Długosiodło","gmina wiejska","2025-01-01"]
[14,35,3,2,"Rząśnik","gmina wiejska","2025-01-01"]
[14,35,4,2,"Somianka","gmina wiejska","2025-01-01"]
[14,35,5,3,"Wyszków","gmina miejsko-wiejska","2025-01-01"]
[14,35,5,4,"Wyszków","miasto","2025-01-01"]
[14,35,5,5,"Wyszków","obszar wiejski","2025-01-01"]
[14,35,6,2,"Zabrodzie","gmina wiejska","2025-01-01"]
[14,36,null,null,"zwoleński","powiat","2025-01-01"]
[14,36,1,3,"Kazanów","gmina miejsko-wiejska","2025-01-01"]
[14,36,1,4,"Kazanów","miasto","2025-01-01"]
[14,36,1,5,"Kazanów","obszar wiejski","2025-01-01"]
[14,36,2,2,"Policzna","gmina wiejska","2025-01-01"]
[14,36,3,2,"Przyłęk","gmina wiejska","2025-01-01"]
[14,36,4,2,"Tczów","gmina wiejska","2025-01-01"]
[14,36,5,3,"Zwoleń","gmina miejsko-wiejska","2025-01-01"]
[14,36,5,4,"Zwoleń","miasto","2025-01-01"]
[14,36,5,5,"Zwoleń","obszar wiejski","2025-01-01"]
[14,37,null,null,"żuromiński","powiat","2025-01-01"]
[14,37,1,3,"Bieżuń","gmina miejsko-wiejska","2025-01-01"]
[14,37,1,4,"Bieżuń","miasto","2025-01-01"]
[14,37,1,5,"Bieżuń","obszar wiejski","2025-01-01"]
[14,37,2,2,"Kuczbork-Osada","gmina wiejska","2025-01-01"]
[14,37,3,3,"Lubowidz","gmina miejsko-wiejska","2025-01-01"]
[14,37,3,4,"Lubowidz","miasto","2025-01-01"]
[14,37,3,5,"Lubowidz","obszar wiejski","2025-01-01"]
[14,37,4,2,"Lutocin","gmina wiejska","2025-01-01"]
[14,37,5,2,"Siemiątkowo","gmina wiejska","2025-01-01"]
[14,37,6,3,"Żuromin","gmina miejsko-wiejska","2025-01-01"]
[14,37,6,4,"Żuromin","miasto","2025-01-01"]
[14,37,6,5,"Żuromin","obszar wiejski","2025-01-01"]
[14,38,null,null,"żyrardowski","powiat","2025-01-01"]
[14,38,2,3,"Mszczonów","gmina miejsko-wiejska","2025-01-01"]
[14,38,2,4,"Mszczonów","miasto","2025-01-01"]
[14,38,2,5,"Mszczonów","obszar wiejski","2025-01-01"]
[14,38,3,2,"Puszcza Mariańska","gmina wiejska","2025-01-01"]
[14,38,4,2,"Radziejowice","gmina wiejska","2025-01-01"]
[14,38,5,3,"Wiskitki","gmina miejsko-wiejska","2025-01-01"]
[14,38,5,4,"Wiskitki","miasto","2025-01-01"]
[14,38,5,5,"Wiskitki","obszar wiejski","2025-01-01"]
[14,38,1,1,"Żyrardów","gmina miejska","2025-01-01"]
[14,61,null,null,"Ostrołęka","miasto na prawach powiatu","2025-01-01"]
[14,61,1,1,"Ostrołęka","gmina miejska","2025-01-01"]
[14,62,null,null,"Płock","miasto na prawach powiatu","2025-01-01"]
[14,62,1,1,"Płock","gmina miejska","2025-01-01"]
[14,63,null,null,"Radom","miasto na prawach powiatu","2025-01-01"]
[14,63,1,1,"Radom","gmina miejska","2025-01-01"]
[14,64,null,null,"Siedlce","miasto na prawach powiatu","2025-01-01"]
[14,64,1,1,"Siedlce","gmina miejska","2025-01-01"]
[]
[]
["Lista","00"]
[14,"01","00",0]
[0,"02","01",2]
[null,"03","02",3]
[null,"04","03"]
[null,"05","04"]
[null,"06","05"]
[null,"07","06"]
[null,"08","07"]
[null,"09","08"]
[null,10,"09"]
[null,11,"10"]
[null,12,"11"]
[null,13,"12"]
[null,14,"13"]
[null,15,"14"]
[null,16,"15"]
[null,17]
[null,18]
[null,19]
[null,20]
[null,21]
[null,22]
[null,23]
[null,24]
[null,25]
[null,26]
[null,27]
[null,28]
[null,29]
[null,30]
[null,32]
[null,33]
[null,34]
[null,35]
[null,36]
[null,37]
[null,38]
[null,61]
[null,62]
[null,63]
[null,64]
[]
["Woj.","Pow","Gm","Rodzaj"]
["02","01","01",1]
["03","02","02",2]
["04","03","03",3]
["05","04","04"]
["06","05","05"]
["07","06","06"]
["08","07","07"]
["09","08","08"]
[10,"09","09"]
[11,10,"10"]
[12,11,"11"]
[13,12,"12"]
[14,13,"13"]
[15,14,"14"]
[16,15,"15"]
[17,16,"16"]
[18,17,"17"]
[19,18,"18"]
[20,19,"19"]
[21,20]
[22,21]
[23,22]
[24,23]
[25,24]
[26,25]
[27,26]
[28,27]
[29,28]
[30,29]
[31,30]
[32,31]
[null,32]
[null,33]
[null,34]
[null,35]
[null,36]
[null,37]
[null,38]
[null,39]
[null,40]
[null,41]
[null,42]
[null,43]
[null,44]
[null,45]
[null,46]
[null,47]
[null,48]
[null,49]
[null,50]
[null,51]
[null,52]
[null,53]
[null,54]
[null,55]
[null,56]
[null,57]
[null,58]
[null,59]
[null,60]
[null,61]
[null,62]
[null,63]
[null,64]
[null,65]
[null,66]
[null,67]
[null,68]
[null,69]
[null,70]
[null,71]
[null,72]
[null,73]
[null,74]
[null,75]
[null,76]
[null,77]
[null,78]
[null,79]

{"sheet":"BW","index":16,"n_rows":2,"n_cols":16,"rows_kept":2,"cut":false,"hidden":true,"merged":[]}
["Beneficjent","Nazwa projektu","Numer umowy","1. zwrot","1. Imie i Nazwisko","1. Stanowisko","2. zwrot","2. Imie i Nazwisko","2. Stanowisko","3. zwrot","3. Imie i Nazwisko","3. Stanowisko","4. zwrot","4. Imie i Nazwisko","4. Stanowisko","Łączna kwota dofinansowania"]
[{"$f":"'Wniosek 2026 r.'!C5","v":"Proszę wybrać nr NIP z listy rozwijanej"},"Fundusz rozwoju przewozów autobusowych ",{"$f":"'Wniosek 2026 r.'!A1159","v":0},{"$f":"PROPER('Zał. nr 4 dane osób'!B25)","v":""},{"$f":"PROPER('Zał. nr 4 dane osób'!C25)","v":""},{"$f":"PROPER('Zał. nr 4 dane osób'!D25)","v":""},{"$f":"PROPER('Zał. nr 4 dane osób'!B27)","v":""},{"$f":"PROPER('Zał. nr 4 dane osób'!C27)","v":""},{"$f":"PROPER('Zał. nr 4 dane osób'!D27)","v":""},{"$f":"PROPER('Zał. nr 4 dane osób'!B29)","v":""},{"$f":"PROPER('Zał. nr 4 dane osób'!C29)","v":""},{"$f":"PROPER('Zał. nr 4 dane osób'!D29)","v":""},{"$f":"PROPER('Zał. nr 4 dane osób'!B34)","v":""},{"$f":"PROPER('Zał. nr 4 dane osób'!C34)","v":""},{"$f":"PROPER('Zał. nr 4 dane osób'!D34)","v":""},{"$f":"'Wniosek 2026 r.'!C817","v":0}]

{"sheet":"Do rankingu","index":17,"n_rows":2,"n_cols":32,"rows_kept":2,"cut":false,"hidden":true,"merged":[]}
["l.p","Nazwa organizatora","Kod TERYT","Rodzaj jednostki","powierzchnia obszaru właściwości organizatora","liczba mieszkańców obszaru właściwości organizatora ","obliczona gęstość zaludnienia (punktacja od 0 pkt do 500 pkt - najmniejsza wartość odpowiada najwyższej punktacji)","Liczba przyznanych punktów ","Liczba przyznanych punktów z uwzględnieniem wagi ","obliczona łączna liczba linii komunikacyjnych, dla których organizator złożył wniosek (punktacja od 0 pkt do 500 pkt - najwyższa wartość odpowiada najwyższej punktacji)","Liczba przyznanych punktów ","Liczba przyznanych punktów z uwzględnieniem wagi ","obliczona łączna długość linii komunikacyjnych, dla których organizator złożył wniosek (punktacja od 0 pkt do 500 pkt - najwyższa wartość odpowiada najwyższej punktacji)","Liczba przyznanych punktów ","Liczba przyznanych punktów z uwzględnieniem wagi ","2026 obliczona łączna ilość zatrzymań na liniach komunikacyjnych, dla których organizator złożył wniosek (punktacja od 0 pkt do 500 pkt - najwyższa wartość odpowiada najwyższej punktacji)","Liczba przyznanych punktów ","Liczba przyznanych punktów z uwzględnieniem wagi ","Liczba przystanków zapewniających nieutrudniony dostęp osobom niepełnosprawnym","Liczba wszystkich przystanków","Wskażnik realizacji potrzeb osób niepełnosprawnych (0-500 pkt)","Liczba przyznanych punktów ","Liczba przyznanych punktów z uwzględnieniem wagi ","Wskażnik dochodów na mieszkańca (0-500 pkt)","Liczba przyznanych punktów ","Liczba przyznanych punktów z uwzględnieniem wagi ","Liczba przystanków zlokalizowanych w ogdległości nie większej niż 500 m od terenów objętych przedsięwzięciami lub inwestycjami powiązanymi z przedsięwzięciem infrastrukturalnym, o których mowa w art. 5c ust. 1 ustawy z dnia 8 grudnia 2006 r.(Dz. U. z 2020 r. poz. 508 oraz z 2021 r. poz. 11 i 223)","Liczba przyznanych punktów","Liczba przyznanych punktów z uwzględnieniem wagi ","Łączna liczba punktów 2026","Lączna kwota z wniosku 2026","Nr sprawy MUW"]
[null,{"$f":"'Wniosek 2026 r.'!C5","v":"Proszę wybrać nr NIP z listy rozwijanej"},{"$f":"'Dane zbiorcze'!L2*1","v":14},{"$f":"'Wniosek 2026 r.'!F25","v":0},{"$f":"IFERROR(VLOOKUP(C2,dane_zbiorcze[[Kod]:[ogółem w km2]],3,0),0)","v":0},{"$f":"IFERROR(VLOOKUP(C2,dane_zbiorcze[[Kod]:[ludność]],4,0),0)","v":0},{"$f":"IFERROR(F2/E2,0)","v":0},null,null,{"$f":"'Wniosek 2026 r.'!F31","v":0},null,null,{"$f":"'Wniosek 2026 r.'!E189","v":0},null,null,{"$f":"'Wniosek 2026 r.'!F189","v":0},null,null,{"$f":"'Wniosek 2026 r.'!C972","v":0},{"$f":"'Wniosek 2026 r.'!E972","v":0},null,null,null,{"$f":"IFERROR(VLOOKUP(C2,dane_zbiorcze[],5,0),0)","v":0},null,null,{"$f":"'Wniosek 2026 r.'!C1126","v":0},null,null,{"$f":"I2+L2+O2+R2+W2+Z2+AC2","v":0},{"$f":"'Wniosek 2026 r.'!C817","v":0},{"$f":"'Wniosek 2026 r.'!A1159","v":0}]

{"sheet":"dane GUS-MF","index":18,"n_rows":347,"n_cols":5,"rows_kept":347,"cut":false,"hidden":true,"merged":[]}
["Kod","Nazwa","ogółem w km2","ludność","wskaźniki dochodowe"]
[1416022,"Andrzejewo (2)",119,3723,3163.29]
[1420032,"Baboszewo (2)",162,7346,3742.49]
[1415012,"Baranowo (2)",197,5924,3036.93]
[1405032,"Baranów (2)",76,5360,5347.7]
[1406012,"Belsk Duży (2)",108,6140,5832.36]
[1401013,"Białobrzegi (3)",78,9709,5361.09]
[1429022,"Bielany (2)",110,3462,3982.98]
[1419012,"Bielsk (2)",125,8812,4268.3500000000004]
[1437013,"Bieżuń (3)",121,4478,5690.58]
[1406022,"Błędów (2)",134,6986,4826.08]
[1432013,"Błonie (3)",86,22510,8159.76]
[1419023,"Bodzanów (3)",136,7699,4440.8]
[1416032,"Boguty-Pianki (2)",89,2343,2765.33]
[1423012,"Borkowice (2)",86,3964,3293.37]
[1403032,"Borowie (2)",80,4900,4145.83]
[1435012,"Brańszczyk (2)",167,8039,3668.88]
[1428022,"Brochów (2)",120,4430,4728.04]
[1416043,"Brok (3)",110,2534,4463.8]
[1419032,"Brudzeń Duży (2)",160,8160,4786.82]
[1421033,"Brwinów (3)",69,30164,7056.43]
[1419042,"Bulkowo (2)",117,5165,3666.18]
[1412043,"Cegłów (3)",96,6073,4518.01]
[1417032,"Celestynów (2)",89,11639,6200.12]
[1429032,"Ceranów (2)",111,1777,4128.6499999999996]
[1430012,"Chlewiska (2)",124,5425,3242.35]
[1422023,"Chorzele (3)",371,9184,2892.45]
[1409012,"Chotcza (2)",90,2160,3482.75]
[1406032,"Chynów (2)",135,10119,4154.6899999999996]
[1402011,"Ciechanów (1)",33,41474,5359.25]
[1402022,"Ciechanów (2)",140,7586,7246.24]
[1409023,"Ciepielów (2)",135,5133,3251.97]
[1415022,"Czarnia (2)",94,2206,2183.06]
[1422032,"Czernice Borowe (2)",120,3456,3745.87]
[1415032,"Czerwin (2)",170,4674,4335.33]
[1420043,"Czerwińsk nad Wisłą (3)",144,7067,3151.74]
[1411022,"Czerwonka (2)",111,2537,4493.34]
[1414022,"Czosnów (2)",128,11012,7355.14]
[1434052,"Dąbrówka (2)",109,8700,6246.73]
[1412052,"Dębe Wielkie (2)",78,11956,5328.72]
[1435022,"Długosiodło (2)",168,7391,3523.77]
[1412063,"Dobre (2)",125,5856,4766.26]
[1426012,"Domanice (2)",47,2480,3398.32]
[1419053,"Drobin (3)",144,7200,3588.18]
[1420052,"Dzierzążnia (2)",103,3330,4039.6]
[1413022,"Dzierzgowo (2)",151,2704,2649.36]
[1407012,"Garbatka-Letnisko (2)",74,4758,4507.82]
[1403011,"Garwolin (1)",22,17258,4581.58]
[1403042,"Garwolin (2)",136,13504,5637.63]
[1419063,"Gąbin (3)",146,11097,4130.96]
[1423023,"Gielniów (2)",79,4238,3509.52]
[1402033,"Glinojeck (3)",154,6987,5664.13]
[1407023,"Głowaczów (2)",186,6624,4933.93]
[1407032,"Gniewoszów (2)",84,3738,3042.96]
[1402042,"Gołymin-Ośrodek (2)",111,3442,3771.54]
[1404011,"Gostynin (1)",32,16695,4969.62]
[1404022,"Gostynin (2)",271,11669,4339.8]
[1406042,"Goszczyn (2)",58,2848,3382.89]
[1415042,"Goworowo (2)",219,7784,3272.32]
[1427022,"Gozdowo (2)",126,5616,4077.52]
[1418013,"Góra Kalwaria (3)",144,28622,6184.33]
[1403052,"Górzno (2)",91,6726,3638.34]
[1425022,"Gózd (2)",78,9626,3453.54]
[1407042,"Grabów nad Pilicą (2)",125,4103,4016.9]
[1433022,"Grębków (2)",131,4228,3214.97]
[1405043,"Grodzisk Mazowiecki (3)",107,56430,7980.27]
[1406053,"Grójec (3)",121,26181,5498.47]
[1402052,"Grudusk (2)",97,3252,3958.8]
[1424012,"Gzy (2)",104,3509,3593.92]
[1412073,"Halinów (3)",63,18287,6098.41]
[1410012,"Huszlew (2)",118,2600,5238.59]
[1428032,"Iłów (2)",129,5826,4335.5200000000004]
[1425033,"Iłża (3)",256,13428,4201.59]
[1432022,"Izabelin (2)",65,10720,8042.12]
[1408022,"Jabłonna (2)",65,23747,6731.92]
[1429042,"Jabłonna Lacka (2)",149,4002,4510.2]
[1434063,"Jadów (3)",117,6976,4340.33]
[1405052,"Jaktorów (2)",55,13675,8135.36]
[1412082,"Jakubów (2)",87,5071,4323.28]
[1406062,"Jasieniec (2)",108,5346,4252.28]
[1430023,"Jastrząb (3)",55,5125,4088.86]
[1425042,"Jastrzębia (2)",90,7134,3744.45]
[1425052,"Jedlińsk (2)",139,14612,4278.55]
[1425063,"Jedlnia-Letnisko (3)",66,13661,4546.3]
[1422042,"Jednorożec (2)",235,6575,2486.54]
[1420062,"Joniec (2)",73,2800,4249.63]
[1417011,"Józefów (1)",24,21235,6415]
[1415052,"Kadzidło (2)",259,11009,3645.06]
[1412093,"Kałuszyn (3)",94,5480,5576.26]
[1432032,"Kampinos (2)",85,4499,9823.06]
[1417043,"Karczew (3)",81,15831,7247.41]
[1411032,"Karniewo (2)",129,4780,4251.3100000000004]
[1436013,"Kazanów (2)",95,4228,2461.2399999999998]
[1434072,"Klembów (2)",86,11568,4993.45]
[1423032,"Klwów (2)",87,3087,2807]
[1434011,"Kobyłka (1)",20,28599,5662.63]
[1417052,"Kołbiel (2)",107,8320,5536.4]
[1418023,"Konstancin-Jeziorna (3)",79,25012,8129.01]
[1426022,"Korczew (2)",105,2306,4141.57]
[1433032,"Korytnica (2)",180,5466,4452.6400000000003]
[1429053,"Kosów Lacki (3)",200,5279,5867.87]
[1426032,"Kotuń (2)",151,8081,4276.66]
[1425072,"Kowala (2)",75,12493,4737.43]
[1407053,"Kozienice (3)",244,27482,7640.33]
[1422052,"Krasne (2)",101,3212,4720.76]
[1411042,"Krasnosielc (2)",167,5801,2557.56]
[1422062,"Krzynowłoga Mała (2)",185,3192,2564.4699999999998]
[1437022,"Kuczbork-Osada (2)",122,4192,4117.2299999999996]
[1412103,"Latowicz (3)",114,5109,3868.24]
[1408011,"Legionowo (1)",14,52247,5870.48]
[1415062,"Lelis (2)",196,9906,4207.4799999999996]
[1414032,"Leoncin (2)",158,5613,5209.8500000000004]
[1432042,"Leszno (2)",125,11175,7991.35]
[1418032,"Lesznowola (2)",69,39913,7612.81]
[1413032,"Lipowiec Kościelny (2)",114,4421,3565.99]
[1409033,"Lipsko (3)",135,9968,4802.3100000000004]
[1433042,"Liw (2)",169,7017,4743.07]
[1437033,"Lubowidz (3)",191,6196,3460.22]
[1437042,"Lutocin (2)",126,3919,2811.35]
[1403021,"Łaskarzew (1)",15,4447,4021.24]
[1403062,"Łaskarzew (2)",88,5241,3398.63]
[1419072,"Łąck (2)",94,5412,5831.68]
[1433053,"Łochów (3)",195,17230,4520.75]
[1432053,"Łomianki (3)",39,32199,7514.4]
[1410023,"Łosice (3)",121,10331,5203.96]
[1415072,"Łyse (2)",247,8168,4577.8500000000004]
[1403073,"Maciejowice (2)",174,6298,4378.26]
[1407063,"Magnuszew (2)",141,6340,3565.98]
[1411011,"Maków Mazowiecki (1)",10,8818,3965.5]
[1419082,"Mała Wieś (2)",109,5603,3366.87]
[1416052,"Małkinia Górna (2)",134,10718,4921.7299999999996]
[1434021,"Marki (1)",26,46163,5675.08]
[1403082,"Miastków Kościelny (2)",85,4584,3705.12]
[1421042,"Michałowice (2)",35,19496,9049.64]
[1433062,"Miedzna (2)",116,3544,5604.61]
[1405011,"Milanówek (1)",13,16317,6151.57]
[1412011,"Mińsk Mazowiecki (1)",13,39645,5897.94]
[1412112,"Mińsk Mazowiecki (2)",112,17129,5845.29]
[1430032,"Mirów (2)",53,3715,2707.94]
[1413011,"Mława (1)",35,30693,6152.34]
[1428042,"Młodzieszyn (2)",118,5595,4480.54]
[1411052,"Młynarze (2)",75,1610,4455.16]
[1427032,"Mochowo (2)",144,5482,3332.28]
[1406073,"Mogielnica (3)",141,8097,5012.04]
[1426042,"Mokobody (2)",119,4745,3746.07]
[1426053,"Mordy (3)",170,5293,4521.55]
[1412123,"Mrozy (3)",145,8637,4744.6400000000003]
[1438023,"Mszczonów (3)",152,11247,7918.69]
[1415083,"Myszyniec (3)",227,9906,2781.4]
[1421052,"Nadarzyn (2)",73,18761,11160.97]
[1420072,"Naruszewo (2)",160,5839,3552.24]
[1414043,"Nasielsk (3)",206,19139,4441.55]
[1408032,"Nieporęt (2)",96,17401,6894.56]
[1428052,"Nowa Sucha (2)",90,6889,4735.3900000000003]
[1420083,"Nowe Miasto (3)",118,4548,4854.54]
[1406083,"Nowe Miasto nad Pilicą (3)",159,7041,4357.62]
[1419092,"Nowy Duninów (2)",146,3929,4833.1499999999996]
[1414011,"Nowy Dwór Mazowiecki (1)",28,28469,6368.43]
[1416062,"Nur (2)",96,2408,3127.9]
[1424022,"Obryte (2)",140,4301,3314.47]
[1423043,"Odrzywół (2)",99,3353,4134.6899999999996]
[1402062,"Ojrzeń (2)",120,4026,3643.42]
[1410032,"Olszanka (2)",88,2704,3521.28]
[1415092,"Olszewo-Borki (2)",197,11035,4528.83]
[1402072,"Opinogóra Górna (2)",139,5807,4672.03]
[1430042,"Orońsko (2)",82,5934,3951]
[1417063,"Osieck (2)",68,3651,4687.75]
[1416011,"Ostrów Mazowiecka (1)",22,21400,5473.72]
[1416072,"Ostrów Mazowiecka (2)",283,12562,4192.72]
[1417021,"Otwock (1)",47,43527,5333.33]
[1432063,"Ożarów Mazowiecki (3)",71,32078,8566.36]
[1404032,"Pacyna (2)",90,3175,3973.21]
[1426062,"Paprotnia (2)",81,2382,4101.3599999999997]
[1403092,"Parysów (2)",64,4095,3712.27]
[1418043,"Piaseczno (3)",128,97948,6626.12]
[1421011,"Piastów (1)",6,22719,5905.05]
[1403103,"Pilawa (3)",77,10528,5171.95]
[1425011,"Pionki (1)",18,15824,5016.2299999999996]
[1425082,"Pionki (2)",230,9640,4157.45]
[1410042,"Platerów (2)",129,4325,2870.16]
[1411062,"Płoniawy-Bramura (2)",135,4763,3788.36]
[1420011,"Płońsk (1)",12,21381,5188.12]
[1420092,"Płońsk (2)",127,8471,6146.92]
[1406092,"Pniewy (2)",102,4864,4583.82]
[1405021,"Podkowa Leśna (1)",10,3741,6114.68]
[1424032,"Pokrzywnica (2)",121,5143,4402.43]
[1436022,"Policzna (2)",113,5088,3669.34]
[1414052,"Pomiechówek (2)",103,9287,5910.66]
[1434082,"Poświętne (2)",104,6542,3760.03]
[1423052,"Potworów (2)",82,3976,2766.53]
[1401000,"Powiat białobrzeski",639,32350,857.56]
[1402000,"Powiat ciechanowski",1060,84565,988.73]
[1403000,"Powiat garwoliński",1285,105213,1078.5999999999999]
[1404000,"Powiat gostyniński",615,41756,814.81]
[1405000,"Powiat grodziski",367,106973,1816.47]
[1406000,"Powiat grójecki",1268,96662,1083.47]
[1407000,"Powiat kozienicki",916,56754,1300.8900000000001]
[1408000,"Powiat legionowski",391,133097,1845.16]
[1409000,"Powiat lipski",740,31251,648.91999999999996]
[1410000,"Powiat łosicki",772,28338,1017.57]
[1411000,"Powiat makowski",1065,41254,706.52]
[1412000,"Powiat miński",1164,159535,1351.57]
[1413000,"Powiat mławski",1182,68556,1436.72]
[1414000,"Powiat nowodworski",695,79351,1548.72]
[1415000,"Powiat ostrołęcki",2093,87397,945.23]
[1416000,"Powiat ostrowski",1218,67854,1022.99]
[1417000,"Powiat otwocki",616,126669,1667.14]
[1418000,"Powiat piaseczyński",621,217738,1920.29]
[1419000,"Powiat płocki",1797,109144,959.15]
[1420000,"Powiat płoński",1380,83436,952.47]
[1421000,"Powiat pruszkowski",246,181026,2157]
[1422000,"Powiat przasnyski",1219,48615,715.82]
[1423000,"Powiat przysuski",802,38291,663.83]
[1424000,"Powiat pułtuski",827,50163,792.14]
[1425000,"Powiat radomski",1530,151367,856.21]
[1426000,"Powiat siedlecki",1603,80446,1364.97]
[1427000,"Powiat sierpecki",852,47742,881.61]
[1428000,"Powiat sochaczewski",735,82854,1338.36]
[1429000,"Powiat sokołowski",1131,49551,1111.97]
[1430000,"Powiat szydłowiecki",452,37244,698.57]
[1432000,"Powiat warszawski zachodni",534,136493,2293.2800000000002]
[1433000,"Powiat węgrowski",1220,61472,1163.4100000000001]
[1434000,"Powiat wołomiński",954,277725,1645.48]
[1435000,"Powiat wyszkowski",877,73179,1062.5]
[1436000,"Powiat zwoleński",573,34091,748.36]
[1437000,"Powiat żuromiński",806,35122,768.47]
[1438000,"Powiat żyrardowski",532,74935,1117.22]
[1418052,"Prażmów (2)",87,13654,5769.16]
[1401022,"Promna (2)",120,5434,4071.14]
[1421021,"Pruszków (1)",19,65686,6152.73]
[1422011,"Przasnysz (1)",25,16189,4297.74]
[1422072,"Przasnysz (2)",182,6807,4389.71]
[1426072,"Przesmyki (2)",117,2750,3376.11]
[1436032,"Przyłęk (2)",131,5741,3442.16]
[1423063,"Przysucha (3)",182,10689,5619.79]
[1425093,"Przytyk (2)",134,7058,3478.01]
[1424043,"Pułtusk (3)",134,24084,4925.09]
[1438032,"Puszcza Mariańska (2)",142,8795,4606.33]
[1420021,"Raciąż (1)",8,3932,4364.83]
[1420102,"Raciąż (2)",243,7714,4046.86]
[1419102,"Radzanowo (2)",104,8808,5899.79]
[1413042,"Radzanów (2)",99,2872,5742.65]
[1401032,"Radzanów (2)",83,3798,3149.63]
[1438042,"Radziejowice (2)",73,6545,6621.96]
[1434093,"Radzymin (3)",129,31933,6277.93]
[1421062,"Raszyn (2)",44,24200,8744.42]
[1402082,"Regimin (2)",111,4680,4423.8500000000004]
[1429062,"Repki (2)",169,4522,4375.42]
[1427042,"Rościszewo (2)",115,3705,2861.45]
[1411073,"Różan (3)",85,4174,4215.3999999999996]
[1423072,"Rusinów (2)",83,3959,2855.04]
[1428062,"Rybno (2)",73,3404,4015.83]
[1435032,"Rząśnik (2)",167,6765,3756.93]
[1409042,"Rzeczniów (2)",103,4015,4165.22]
[1415102,"Rzekuń (2)",131,12316,5732.05]
[1411082,"Rzewnie (2)",112,2389,3933.89]
[1429072,"Sabnie (2)",108,3200,5668.86]
[1433072,"Sadowne (2)",145,5430,3551.8]
[1404043,"Sanniki (3)",95,5562,4173.74]
[1410052,"Sarnaki (2)",197,4025,6093.56]
[1408043,"Serock (3)",110,18148,6502.96]
[1407072,"Sieciechów (2)",62,3709,3948.8]
[1426082,"Siedlce (2)",141,19890,5785.19]
[1437052,"Siemiątkowo (2)",113,3139,2542.9299999999998]
[1412133,"Siennica (2)",111,7688,4199.09]
[1409053,"Sienno (2)",147,5457,3333.3]
[1427011,"Sierpc (1)",18,16692,5876.2]
[1427052,"Sierpc (2)",150,6536,3927.45]
[1425103,"Skaryszew (3)",171,15581,4154.66]
[1426092,"Skórzec (2)",119,8217,4383.47]
[1419112,"Słubice (2)",96,4082,3368.2]
[1419122,"Słupno (2)",75,9135,9868.84]
[1417072,"Sobienie-Jeziory (2)",98,6190,4800.34]
[1403112,"Sobolew (2)",95,7779,3875.7]
[1428011,"Sochaczew (1)",26,33154,5485.09]
[1428072,"Sochaczew (2)",91,12001,7045.93]
[1420113,"Sochocin (3)",122,5558,4529.92]
[1429011,"Sokołów Podlaski (1)",17,18209,5016.24]
[1429082,"Sokołów Podlaski (2)",137,5772,5177.22]
[1409063,"Solec nad Wisłą (3)",130,4518,3576.32]
[1435042,"Somianka (2)",118,5603,4140.74]
[1402092,"Sońsk (2)",155,7311,4470.41]
[1412142,"Stanisławów (2)",107,7036,4677.8900000000003]
[1419132,"Stara Biała (2)",111,12237,8480.6]
[1401042,"Stara Błotnica (2)",96,5404,3704.48]
[1410062,"Stara Kornica (2)",119,4353,2989.78]
[1432072,"Stare Babice (2)",63,23312,7730.96]
[1419142,"Staroźreby (2)",138,6681,4132.1899999999996]
[1416082,"Stary Lubotyń (2)",110,3556,3162.19]
[1429092,"Sterdyń (2)",130,3328,4257.22]
[1433082,"Stoczek (2)",145,4437,4258.54]
[1434102,"Strachówka (2)",108,2563,4406.5600000000004]
[1401052,"Stromiec (2)",157,5352,3532.87]
[1413052,"Strzegowo (2)",214,6959,4612.87]
[1413062,"Stupsk (2)",118,4357,4519.97]
[1426102,"Suchożebry (2)",101,4731,4932.5]
[1412151,"Sulejówek (1)",19,21568,5669.39]
[1411092,"Sypniewo (2)",128,2879,3782.5]
[1404052,"Szczawin Kościelny (2)",127,4655,3704.04]
[1427062,"Szczutowo (2)",113,3938,3215.56]
[1411102,"Szelków (2)",113,3503,4748.84]
[1413072,"Szreńsk (2)",109,3744,4458.46]
[1416092,"Szulborze Wielkie (2)",47,1466,3426.84]
[1430053,"Szydłowiec (3)",138,17045,4140.8900000000003]
[1413082,"Szydłowo (2)",123,4123,4471.51]
[1424052,"Świercze (2)",93,4445,4123.1499999999996]
[1418063,"Tarczyn (3)",114,12589,6807.81]
[1436042,"Tczów (2)",72,4755,2527.84]
[1428082,"Teresin (2)",88,11555,7561.45]
[1434113,"Tłuszcz (3)",103,20204,4719.38]
[1403122,"Trojanów (2)",152,7066,4050.48]
[1415112,"Troszyn (2)",156,4469,3415.03]
[1406113,"Warka (3)",202,19040,5149.49]
[1416102,"Wąsewo (2)",119,3907,2901.3]
[1433011,"Węgrów (1)",36,11718,5349.9]
[1417082,"Wiązowna (2)",102,16276,7154.57]
[1413092,"Wieczfnia Kościelna (2)",120,3597,5306.1]
[1408052,"Wieliszew (2)",106,21554,6848.5]
[1423082,"Wieniawa (2)",104,5025,3873.23]
[1425112,"Wierzbica (2)",94,9113,4114.34]
[1433092,"Wierzbno (2)",103,2402,4873.8999999999996]
[1403132,"Wilga (2)",119,5088,3929.11]
[1424062,"Winnica (2)",115,3974,3783.94]
[1438053,"Wiskitki (3)",151,9947,6008.29]
[1426112,"Wiśniew (2)",126,5730,4757.13]
[1413102,"Wiśniewo (2)",99,5086,4599.47]
[1426122,"Wodynie (2)",115,4074,3440.52]
[1425122,"Wolanów (2)",83,9049,4117.8500000000004]
[1434123,"Wołomin (3)",62,50892,5366.96]
[1435053,"Wyszków (3)",165,39165,5442.52]
[1419153,"Wyszogród (3)",96,5124,3589.16]
[1401063,"Wyśmierzyce (3)",105,2653,4065.95]
[1435062,"Zabrodzie (2)",92,6216,4742.25]
[1414063,"Zakroczym (3)",72,5831,6057.72]
[1425132,"Zakrzew (2)",96,14148,4312.22]
[1420122,"Załuski (2)",108,5450,4892.8599999999997]
[1416112,"Zaręby Kościelne (2)",89,3237,3773.74]
[1424072,"Zatory (2)",120,4707,3637.38]
[1427072,"Zawidz (2)",186,5773,3127.41]
[1434031,"Ząbki (1)",11,45538,5389.08]
[1426132,"Zbuczyn (2)",211,9767,3825.4]
[1434041,"Zielonka (1)",79,18047,6626.84]
[1436053,"Zwoleń (3)",162,14279,4596.12]
[1405062,"Żabia Wola (2)",106,11450,7375.71]
[1403143,"Żelechów (3)",87,7699,3682.44]
[1437063,"Żuromin (3)",133,13198,4700.71]
[1438011,"Żyrardów (1)",14,38401,5353.81]