{"text_format":"1","workbook":"xlsx","n_sheets":3,"sheets":["Arkusz1","RBZNA","RBZNB"],"not_rendered":{"charts":0,"images":0,"macros":1,"external_links":0,"defined_names":4,"comments":0,"pivot_tables":0},"unopened":[],"bounds":{"document_bytes":16777216,"sheet_cells":100000,"rows_first":2000,"rows_last":500,"rows_between":2000,"halvings":0,"cell_chars":16384,"cell_head_chars":4096},"cells_cut":0,"cells_raw":0,"read":"whole","date_system":"1900"}

{"sheet":"Arkusz1","index":0,"n_rows":61,"n_cols":28,"rows_kept":61,"cut":false,"hidden":false,"merged":[[1,2,2,12],[34,0,34,1],[50,0,50,1],[51,0,51,1],[2,0,2,1],[5,0,5,1],[7,0,7,1],[3,13,6,16],[9,2,9,4],[10,2,10,4],[16,0,16,1],[8,2,8,4]]}
[null,null,null,null,null,null,null,null,null,null,null,null,null,null,null,null,null,null,null,null,0]
["Nazwa jednostki sprawozdawczej ",null,"Rb-ZN KWARTALNE SPRAWOZDANIE O STANIE ZOBOWIĄZAŃ ORAZ NALEŻNOŚCI SKARBU PAŃSTWA Z TYTUŁU WYKONYWANIA PRZEZ JEDNOSTKI SAMORZĄDU TERYTORIALNEGO ZADAŃ ZLECONYCH",null,null,null,null,null,null,null,null,null,null,null,null,null,null,null,null,null,0]
[null,null,null,null,null,null,null,null,null,null,null,null,null,"Adresat"]
[null,null,null,null,null,null,null,null,null,null,null,null,null,null,null,null,null,null,null,null,null,1,2,3,4]
["Adres jednostki sprawozdawczej",null,null,null,null,null,"jednostki bezpośrednio realizujące zadania",null,null,null,null,null,null,null,null,null,null,null,null,null,null,2021,2022,2023,2024,2025,2026,2027]
[]
["Numer identyfikacyjny REGON",null,"liczba identyfik.jedn."]
[null,null,null,null,null,"wg stanu na koniec",null,null,"kwartału","  roku"]
["Nazwa województwa",null,null,null,null,null,null,"SYMBOLE"]
["Nazwa powiatu / zwiazku",null,null,null,null,"WOJ.","POWIAT","GMINA","TYP GM.","ZWIĄZEK JST","TYP ZW.","GRUPA","CZĘŚĆ BUDŻ.",null,null,null,null,null,null,null,0]
["Nazwa gminy / zwiazku"]
[]
[" A. Zobowiązania według tytułów dłużnych"]
[]
[]
[null,null,"kwota",null,null,null,null,"wierzyciele krajowi",null,null,null,null,null,null,null,null,"wierzyciele zagraniczni"]
["Wyszczególnienie",null,"zadłużenia",null,"sektor",null,null,null,null,null,null,null,null,null,"instytucje"]
[null,null,"ogółem","ogółem","finansów","grupa I","grupa II","grupa III","grupa IV","bank","banki","pozostałe","przedsiębiorstwa ","gospodarstwa","niekomercyjne","ogółem","podmioty","pozostałe"]
[null,null,"(kol. 3+15)","(kol. 4+9+10+11+","publicznych",null,null,null,null,"centralny",null,"krajowe","niefinansowe","domowe","działające ","(kol. 16+17)","należące ","podmioty"]
[null,null,null,"12+13+14)","ogółem",null,null,null,null,null,null,"instytucje",null,null,"na rzecz",null,"do strefy","zagraniczne"]
[null,null,null,null,"(kol 5+6+7+8)",null,null,null,null,null,null,"finansowe",null,null,"gospodarstw",null,"euro"]
[null,null,null,null,null,null,null,null,null,null,null,null,null,null,"domowych"]
[1,null,2,3,4,5,6,7,8,9,10,11,12,13,14,15,16,17]
["E2. kredyty i pożyczki (E2.1+E2.2)",null,{"$f":"C25+C26","v":0},0,0,0,0,0,0,0,0,0,0,0,0,0,0,0]
["      E2.1. krótkoterminowe",null,{"$f":"D25+P25","v":0},{"$f":"E25+J25+K25+L25+M25+N25+O25","v":0},{"$f":"F25+G25+H25+I25","v":0},null,null,null,null,null,null,null,null,null,null,{"$f":"Q25+R25","v":0}]
["      E2.2. długoterminowe",null,{"$f":"D26+P26","v":0},{"$f":"E26+J26+K26+L26+M26+N26+O26","v":0},{"$f":"F26+G26+H26+I26","v":0},null,null,null,null,null,null,null,null,null,null,{"$f":"Q26+R26","v":0}]
["E4. wymagalne zobowiązania (E4.1+E4.2)",null,{"$f":"C28+C29","v":0},0,0,0,0,0,0,0,0,0,0,0,0,0,0,0]
["      E4.1. z tyt. dostaw towarów i usług",null,{"$f":"D28+P28","v":0},{"$f":"E28+J28+K28+L28+M28+N28+O28","v":0},{"$f":"F28+G28+H28+I28","v":0},null,null,null,null,null,null,null,null,null,null,{"$f":"Q28+R28","v":0}]
["      E4.2. pozostałe",null,{"$f":"D29+P29","v":0},{"$f":"E29+J29+K29+L29+M29+N29+O29","v":0},{"$f":"F29+G29+H29+I29","v":0},null,null,null,null,null,null,null,null,null,null,{"$f":"Q29+R29","v":0}]
[]
[" B. Należności oraz wybrane aktywa finansowe"]
[]
[]
[null,null,"kwota",null,null,null,null,"dłużnicy krajowi",null,null,null,null,null,null,null,null,"dłużnicy zagraniczni"]
["Wyszczególnienie",null,"należności",null,"sektor",null,null,null,null,null,null,null,null,null,"instytucje"]
[null,null,"ogółem","ogółem","finansów","grupa I","grupa II","grupa III","grupa IV","bank","banki","pozostałe","przedsiębiorstwa ","gospodarstwa","niekomercyjne","ogółem","podmioty","pozostałe"]
[null,null,"(kol. 3+15)","(kol 4+9+10+11+","publicznych",null,null,null,null,"centralny",null,"krajowe","niefinansowe","domowe","działające ","(kol. 16+17)","należące ","podmioty"]
[null,null,null,"12+13+14)","ogółem",null,null,null,null,null,null,"instytucje",null,null,"na rzecz",null,"do strefy","zagraniczne"]
[null,null,null,null,"(kol 5+6+7+8)",null,null,null,null,null,null,"finansowe",null,null,"gospodarstw",null,"euro"]
[null,null,null,null,null,null,null,null,null,null,null,null,null,null,"domowych"]
[1,null,2,3,4,5,6,7,8,9,10,11,12,13,14,15,16,17]
["N3. gotówka i depozyty (N3.1+N3.2+N3.3)",null,{"$f":"C43+C44+C45","v":0},{"$f":"D43+D44+D45","v":0},0,0,0,0,0,0,0,0,0,0,0,0,0,0]
["      N3.1. gotówka",null,{"$f":"D43+P43","v":0},{"$f":"E43+J43+K43+L43+M43+N43+O43","v":0},{"$f":"F43+G43+H43+I43","v":0},null,null,null,null,null,null,null,null,null,null,{"$f":"Q43+R43","v":0}]
["      N3.2. depozyty na żądanie",null,{"$f":"D44+P44","v":0},{"$f":"E44+J44+K44+L44+M44+N44+O44","v":0},{"$f":"F44+G44+H44+I44","v":0},null,null,null,null,null,null,null,null,null,null,{"$f":"Q44+R44","v":0}]
["      N3.3. depozyty terminowe",null,{"$f":"D45+P45","v":0},{"$f":"E45+J45+K45+L45+M45+N45+O45","v":0},{"$f":"F45+G45+H45+I45","v":0},null,null,null,null,null,null,null,null,null,null,{"$f":"Q45+R45","v":0}]
["N4.należności wymagalne (N4.1+N4.2)",null,{"$f":"C47+C48","v":0},{"$f":"D47+D48","v":0},0,0,0,0,0,0,0,0,0,0,0,0,0,0]
["      N4.1 z tytułu dostaw towarów i usług",null,{"$f":"D47+P47","v":0},{"$f":"E47+J47+K47+L47+M47+N47+O47","v":0},{"$f":"F47+G47+H47+I47","v":0},null,null,null,null,null,null,null,null,null,null,{"$f":"Q47+R47","v":0}]
["      N4.2 pozostałe",null,{"$f":"D48+P48","v":0},{"$f":"E48+J48+K48+L48+M48+N48+O48","v":0},{"$f":"F48+G48+H48+I48","v":0},null,null,null,null,null,null,null,null,null,null,{"$f":"Q48+R48","v":0}]
["N5. pozostałe należności (N5.1+N5.2+N5.3)",null,{"$f":"C50+C51+C52","v":0},0,0,0,0,0,0,0,0,0,0,0,0,0,0,0]
["      N5.1. z tytułu dostaw towarów i usług",null,{"$f":"D50+P50","v":0},{"$f":"E50+J50+K50+L50+M50+N50+O50","v":0},{"$f":"F50+G50+H50+I50","v":0},null,null,null,null,null,null,null,null,null,null,{"$f":"Q50+R50","v":0}]
["      N5.2. z tytułu podatków i składek \n      na ubezpieczenie społeczne",null,{"$f":"D51+P51","v":0},{"$f":"E51+J51+K51+L51+M51+N51+O51","v":0},{"$f":"F51+G51+H51+I51","v":0},null,null,null,null,null,null,null,null,null,null,{"$f":"Q51+R51","v":0}]
["      N5.3. z tytułów innych niż wymienione powyżej",null,{"$f":"D52+P52","v":0},{"$f":"E52+J52+K52+L52+M52+N52+O52","v":0},{"$f":"F52+G52+H52+I52","v":0},null,null,null,null,null,null,null,null,null,null,{"$f":"Q52+R52","v":0}]
[]
[]
[]
[]
[]
["…………………",null,null,"………………",null,"………………",null,null,"…………………"]
["Główny Księgowy* / Skarbnik",null,null,"telefon",null,"rok m-c dzień",null,null,"Kierownik jednostki (jednostki obsługującej)/ Przewodniczący Zarządu"]
[]
["* W przypadku braku głównego księgowego podpisuje tylko kierownik jednostki."]

{"sheet":"RBZNA","index":1,"n_rows":2,"n_cols":106,"rows_kept":2,"cut":false,"hidden":true,"merged":[]}
["REGON","WK","PK","GK","GT","PT","ROK","KWARTAL","DAT_SKW","UWAGI","E2002","E2003","E2004","E2005","E2006","E2007","E2008","E2009","E2010","E2011","E2012","E2013","E2014","E2015","E2016","E2017","E2102","E2103","E2104","E2105","E2106","E2107","E2108","E2109","E2110","E2111","E2112","E2113","E2114","E2115","E2116","E2117","E2202","E2203","E2204","E2205","E2206","E2207","E2208","E2209","E2210","E2211","E2212","E2213","E2214","E2215","E2216","E2217","E4002","E4003","E4004","E4005","E4006","E4007","E4008","E4009","E4010","E4011","E4012","E4013","E4014","E4015","E4016","E4017","E4102","E4103","E4104","E4105","E4106","E4107","E4108","E4109","E4110","E4111","E4112","E4113","E4114","E4115","E4116","E4117","E4202","E4203","E4204","E4205","E4206","E4207","E4208","E4209","E4210","E4211","E4212","E4213","E4214","E4215","E4216","E4217"]
[{"$f":"REGON","v":0},null,null,null,null,null,{"$f":"ROK","v":0},{"$f":"KWARTAŁ","v":0},null,null,{"$f":"Arkusz1!C24","v":0},{"$f":"Arkusz1!D24","v":0},{"$f":"Arkusz1!E24","v":0},{"$f":"Arkusz1!F24","v":0},{"$f":"Arkusz1!G24","v":0},{"$f":"Arkusz1!H24","v":0},{"$f":"Arkusz1!I24","v":0},{"$f":"Arkusz1!J24","v":0},{"$f":"Arkusz1!K24","v":0},{"$f":"Arkusz1!L24","v":0},{"$f":"Arkusz1!M24","v":0},{"$f":"Arkusz1!N24","v":0},{"$f":"Arkusz1!O24","v":0},{"$f":"Arkusz1!P24","v":0},{"$f":"Arkusz1!Q24","v":0},{"$f":"Arkusz1!R24","v":0},{"$f":"Arkusz1!C25","v":0},{"$f":"Arkusz1!D25","v":0},{"$f":"Arkusz1!E25","v":0},{"$f":"Arkusz1!F25","v":0},{"$f":"Arkusz1!G25","v":0},{"$f":"Arkusz1!H25","v":0},{"$f":"Arkusz1!I25","v":0},{"$f":"Arkusz1!J25","v":0},{"$f":"Arkusz1!K25","v":0},{"$f":"Arkusz1!L25","v":0},{"$f":"Arkusz1!M25","v":0},{"$f":"Arkusz1!N25","v":0},{"$f":"Arkusz1!O25","v":0},{"$f":"Arkusz1!P25","v":0},{"$f":"Arkusz1!Q25","v":0},{"$f":"Arkusz1!R25","v":0},{"$f":"Arkusz1!C26","v":0},{"$f":"Arkusz1!D26","v":0},{"$f":"Arkusz1!E26","v":0},{"$f":"Arkusz1!F26","v":0},{"$f":"Arkusz1!G26","v":0},{"$f":"Arkusz1!H26","v":0},{"$f":"Arkusz1!I26","v":0},{"$f":"Arkusz1!J26","v":0},{"$f":"Arkusz1!K26","v":0},{"$f":"Arkusz1!L26","v":0},{"$f":"Arkusz1!M26","v":0},{"$f":"Arkusz1!N26","v":0},{"$f":"Arkusz1!O26","v":0},{"$f":"Arkusz1!P26","v":0},{"$f":"Arkusz1!Q26","v":0},{"$f":"Arkusz1!R26","v":0},{"$f":"Arkusz1!C27","v":0},{"$f":"Arkusz1!D27","v":0},{"$f":"Arkusz1!E27","v":0},{"$f":"Arkusz1!F27","v":0},{"$f":"Arkusz1!G27","v":0},{"$f":"Arkusz1!H27","v":0},{"$f":"Arkusz1!I27","v":0},{"$f":"Arkusz1!J27","v":0},{"$f":"Arkusz1!K27","v":0},{"$f":"Arkusz1!L27","v":0},{"$f":"Arkusz1!M27","v":0},{"$f":"Arkusz1!N27","v":0},{"$f":"Arkusz1!O27","v":0},{"$f":"Arkusz1!P27","v":0},{"$f":"Arkusz1!Q27","v":0},{"$f":"Arkusz1!R27","v":0},{"$f":"Arkusz1!C28","v":0},{"$f":"Arkusz1!D28","v":0},{"$f":"Arkusz1!E28","v":0},{"$f":"Arkusz1!F28","v":0},{"$f":"Arkusz1!G28","v":0},{"$f":"Arkusz1!H28","v":0},{"$f":"Arkusz1!I28","v":0},{"$f":"Arkusz1!J28","v":0},{"$f":"Arkusz1!K28","v":0},{"$f":"Arkusz1!L28","v":0},{"$f":"Arkusz1!M28","v":0},{"$f":"Arkusz1!N28","v":0},{"$f":"Arkusz1!O28","v":0},{"$f":"Arkusz1!P28","v":0},{"$f":"Arkusz1!Q28","v":0},{"$f":"Arkusz1!R28","v":0},{"$f":"Arkusz1!C29","v":0},{"$f":"Arkusz1!D29","v":0},{"$f":"Arkusz1!E29","v":0},{"$f":"Arkusz1!F29","v":0},{"$f":"Arkusz1!G29","v":0},{"$f":"Arkusz1!H29","v":0},{"$f":"Arkusz1!I29","v":0},{"$f":"Arkusz1!J29","v":0},{"$f":"Arkusz1!K29","v":0},{"$f":"Arkusz1!L29","v":0},{"$f":"Arkusz1!M29","v":0},{"$f":"Arkusz1!N29","v":0},{"$f":"Arkusz1!O29","v":0},{"$f":"Arkusz1!P29","v":0},{"$f":"Arkusz1!Q29","v":0},{"$f":"Arkusz1!R29","v":0}]

{"sheet":"RBZNB","index":2,"n_rows":2,"n_cols":186,"rows_kept":2,"cut":false,"hidden":true,"merged":[]}
["REGON","WK","PK","GK","GT","PT","ROK","KWARTAL","DAT_SKW","UWAGI","N3002","N3003","N3004","N3005","N3006","N3007","N3008","N3009","N3010","N3011","N3012","N3013","N3014","N3015","N3016","N3017","N3102","N3103","N3104","N3105","N3106","N3107","N3108","N3109","N3110","N3111","N3112","N3113","N3114","N3115","N3116","N3117","N3202","N3203","N3204","N3205","N3206","N3207","N3208","N3209","N3210","N3211","N3212","N3213","N3214","N3215","N3216","N3217","N3302","N3303","N3304","N3305","N3306","N3307","N3308","N3309","N3310","N3311","N3312","N3313","N3314","N3315","N3316","N3317","N4002","N4003","N4004","N4005","N4006","N4007","N4008","N4009","N4010","N4011","N4012","N4013","N4014","N4015","N4016","N4017","N4102","N4103","N4104","N4105","N4106","N4107","N4108","N4109","N4110","N4111","N4112","N4113","N4114","N4115","N4116","N4117","N4202","N4203","N4204","N4205","N4206","N4207","N4208","N4209","N4210","N4211","N4212","N4213","N4214","N4215","N4216","N4217","N5002","N5003","N5004","N5005","N5006","N5007","N5008","N5009","N5010","N5011","N5012","N5013","N5014","N5015","N5016","N5017","N5102","N5103","N5104","N5105","N5106","N5107","N5108","N5109","N5110","N5111","N5112","N5113","N5114","N5115","N5116","N5117","N5202","N5203","N5204","N5205","N5206","N5207","N5208","N5209","N5210","N5211","N5212","N5213","N5214","N5215","N5216","N5217","N5302","N5303","N5304","N5305","N5306","N5307","N5308","N5309","N5310","N5311","N5312","N5313","N5314","N5315","N5316","N5317"]
[{"$f":"REGON","v":0},null,null,null,null,null,{"$f":"ROK","v":0},{"$f":"KWARTAŁ","v":0},null,null,{"$f":"Arkusz1!C42","v":0},{"$f":"Arkusz1!D42","v":0},{"$f":"Arkusz1!E42","v":0},{"$f":"Arkusz1!F42","v":0},{"$f":"Arkusz1!G42","v":0},{"$f":"Arkusz1!H42","v":0},{"$f":"Arkusz1!I42","v":0},{"$f":"Arkusz1!J42","v":0},{"$f":"Arkusz1!K42","v":0},{"$f":"Arkusz1!L42","v":0},{"$f":"Arkusz1!M42","v":0},{"$f":"Arkusz1!N42","v":0},{"$f":"Arkusz1!O42","v":0},{"$f":"Arkusz1!P42","v":0},{"$f":"Arkusz1!Q42","v":0},{"$f":"Arkusz1!R42","v":0},{"$f":"Arkusz1!C43","v":0},{"$f":"Arkusz1!D43","v":0},{"$f":"Arkusz1!E43","v":0},{"$f":"Arkusz1!F43","v":0},{"$f":"Arkusz1!G43","v":0},{"$f":"Arkusz1!H43","v":0},{"$f":"Arkusz1!I43","v":0},{"$f":"Arkusz1!J43","v":0},{"$f":"Arkusz1!K43","v":0},{"$f":"Arkusz1!L43","v":0},{"$f":"Arkusz1!M43","v":0},{"$f":"Arkusz1!N43","v":0},{"$f":"Arkusz1!O43","v":0},{"$f":"Arkusz1!P43","v":0},{"$f":"Arkusz1!Q43","v":0},{"$f":"Arkusz1!R43","v":0},{"$f":"Arkusz1!C44","v":0},{"$f":"Arkusz1!D44","v":0},{"$f":"Arkusz1!E44","v":0},{"$f":"Arkusz1!F44","v":0},{"$f":"Arkusz1!G44","v":0},{"$f":"Arkusz1!H44","v":0},{"$f":"Arkusz1!I44","v":0},{"$f":"Arkusz1!J44","v":0},{"$f":"Arkusz1!K44","v":0},{"$f":"Arkusz1!L44","v":0},{"$f":"Arkusz1!M44","v":0},{"$f":"Arkusz1!N44","v":0},{"$f":"Arkusz1!O44","v":0},{"$f":"Arkusz1!P44","v":0},{"$f":"Arkusz1!Q44","v":0},{"$f":"Arkusz1!R44","v":0},{"$f":"Arkusz1!C45","v":0},{"$f":"Arkusz1!D45","v":0},{"$f":"Arkusz1!E45","v":0},{"$f":"Arkusz1!F45","v":0},{"$f":"Arkusz1!G45","v":0},{"$f":"Arkusz1!H45","v":0},{"$f":"Arkusz1!I45","v":0},{"$f":"Arkusz1!J45","v":0},{"$f":"Arkusz1!K45","v":0},{"$f":"Arkusz1!L45","v":0},{"$f":"Arkusz1!M45","v":0},{"$f":"Arkusz1!N45","v":0},{"$f":"Arkusz1!O45","v":0},{"$f":"Arkusz1!P45","v":0},{"$f":"Arkusz1!Q45","v":0},{"$f":"Arkusz1!R45","v":0},{"$f":"Arkusz1!C46","v":0},{"$f":"Arkusz1!D46","v":0},{"$f":"Arkusz1!E46","v":0},{"$f":"Arkusz1!F46","v":0},{"$f":"Arkusz1!G46","v":0},{"$f":"Arkusz1!H46","v":0},{"$f":"Arkusz1!I46","v":0},{"$f":"Arkusz1!J46","v":0},{"$f":"Arkusz1!K46","v":0},{"$f":"Arkusz1!L46","v":0},{"$f":"Arkusz1!M46","v":0},{"$f":"Arkusz1!N46","v":0},{"$f":"Arkusz1!O46","v":0},{"$f":"Arkusz1!P46","v":0},{"$f":"Arkusz1!Q46","v":0},{"$f":"Arkusz1!R46","v":0},{"$f":"Arkusz1!C47","v":0},{"$f":"Arkusz1!D47","v":0},{"$f":"Arkusz1!E47","v":0},{"$f":"Arkusz1!F47","v":0},{"$f":"Arkusz1!G47","v":0},{"$f":"Arkusz1!H47","v":0},{"$f":"Arkusz1!I47","v":0},{"$f":"Arkusz1!J47","v":0},{"$f":"Arkusz1!K47","v":0},{"$f":"Arkusz1!L47","v":0},{"$f":"Arkusz1!M47","v":0},{"$f":"Arkusz1!N47","v":0},{"$f":"Arkusz1!O47","v":0},{"$f":"Arkusz1!P47","v":0},{"$f":"Arkusz1!Q47","v":0},{"$f":"Arkusz1!R47","v":0},{"$f":"Arkusz1!C48","v":0},{"$f":"Arkusz1!D48","v":0},{"$f":"Arkusz1!E48","v":0},{"$f":"Arkusz1!F48","v":0},{"$f":"Arkusz1!G48","v":0},{"$f":"Arkusz1!H48","v":0},{"$f":"Arkusz1!I48","v":0},{"$f":"Arkusz1!J48","v":0},{"$f":"Arkusz1!K48","v":0},{"$f":"Arkusz1!L48","v":0},{"$f":"Arkusz1!M48","v":0},{"$f":"Arkusz1!N48","v":0},{"$f":"Arkusz1!O48","v":0},{"$f":"Arkusz1!P48","v":0},{"$f":"Arkusz1!Q48","v":0},{"$f":"Arkusz1!R48","v":0},{"$f":"Arkusz1!C49","v":0},{"$f":"Arkusz1!D49","v":0},{"$f":"Arkusz1!E49","v":0},{"$f":"Arkusz1!F49","v":0},{"$f":"Arkusz1!G49","v":0},{"$f":"Arkusz1!H49","v":0},{"$f":"Arkusz1!I49","v":0},{"$f":"Arkusz1!J49","v":0},{"$f":"Arkusz1!K49","v":0},{"$f":"Arkusz1!L49","v":0},{"$f":"Arkusz1!M49","v":0},{"$f":"Arkusz1!N49","v":0},{"$f":"Arkusz1!O49","v":0},{"$f":"Arkusz1!P49","v":0},{"$f":"Arkusz1!Q49","v":0},{"$f":"Arkusz1!R49","v":0},{"$f":"Arkusz1!C50","v":0},{"$f":"Arkusz1!D50","v":0},{"$f":"Arkusz1!E50","v":0},{"$f":"Arkusz1!F50","v":0},{"$f":"Arkusz1!G50","v":0},{"$f":"Arkusz1!H50","v":0},{"$f":"Arkusz1!I50","v":0},{"$f":"Arkusz1!J50","v":0},{"$f":"Arkusz1!K50","v":0},{"$f":"Arkusz1!L50","v":0},{"$f":"Arkusz1!M50","v":0},{"$f":"Arkusz1!N50","v":0},{"$f":"Arkusz1!O50","v":0},{"$f":"Arkusz1!P50","v":0},{"$f":"Arkusz1!Q50","v":0},{"$f":"Arkusz1!R50","v":0},{"$f":"Arkusz1!C51","v":0},{"$f":"Arkusz1!D51","v":0},{"$f":"Arkusz1!E51","v":0},{"$f":"Arkusz1!F51","v":0},{"$f":"Arkusz1!G51","v":0},{"$f":"Arkusz1!H51","v":0},{"$f":"Arkusz1!I51","v":0},{"$f":"Arkusz1!J51","v":0},{"$f":"Arkusz1!K51","v":0},{"$f":"Arkusz1!L51","v":0},{"$f":"Arkusz1!M51","v":0},{"$f":"Arkusz1!N51","v":0},{"$f":"Arkusz1!O51","v":0},{"$f":"Arkusz1!P51","v":0},{"$f":"Arkusz1!Q51","v":0},{"$f":"Arkusz1!R51","v":0},{"$f":"Arkusz1!C52","v":0},{"$f":"Arkusz1!D52","v":0},{"$f":"Arkusz1!E52","v":0},{"$f":"Arkusz1!F52","v":0},{"$f":"Arkusz1!G52","v":0},{"$f":"Arkusz1!H52","v":0},{"$f":"Arkusz1!I52","v":0},{"$f":"Arkusz1!J52","v":0},{"$f":"Arkusz1!K52","v":0},{"$f":"Arkusz1!L52","v":0},{"$f":"Arkusz1!M52","v":0},{"$f":"Arkusz1!N52","v":0},{"$f":"Arkusz1!O52","v":0},{"$f":"Arkusz1!P52","v":0},{"$f":"Arkusz1!Q52","v":0},{"$f":"Arkusz1!R52","v":0}]