Workbook

Sheet Meldunek tygodniowy
E5: Informacja o działalności Urzędu do Spraw Cudzoziemców
E9: =CONCATENATE("w okresie ",Arkusz18!A2," - ",Arkusz18!B2," r.") -> w okresie 01.08.2026 - 31.08.2026 r.
A15: Legalizacja pobytu
A18: I. Wnioski, które wpłynęły do wojewodów w sprawie zezwolenia na pobyt czasowy, pobyt stały i pobyt rezydenta długoterminowego UE oraz wydane w tych sprawach decyzje:
G22: Sprawa | K22: wnioski | M22: =CONCATENATE("decyzje ",Arkusz18!A2," - ",Arkusz18!B2," r.") -> decyzje 01.08.2026 - 31.08.2026 r.
M23: pozytywne | O23: negatywne | Q23: umorzenia
G24: pobyt czasowy | K24: 31506 | M24: 22478 | O24: =Arkusz9!B2 -> 1987 | Q24: =Arkusz9!B4 -> 1067
G25: pobyt stały | K25: 631 | M25: =Arkusz9!B11 -> 947 | O25: =Arkusz9!B10 -> 252 | Q25: =Arkusz9!B12 -> 69
G26: pobyt rezyd. UE | K26: 1499 | M26: =Arkusz9!B7 -> 1291 | O26: =Arkusz9!B6 -> 238 | Q26: =Arkusz9!B8 -> 109
G27: suma | K27: =SUM(K24:K26) -> 33636 | M27: =SUM(M24:M26) -> 24716 | O27: =SUM(O24:O26) -> 2477 | Q27: =SUM(Q24:Q26) -> 1245
G46: Sprawa | O46: wnioski | Q46: wydane dokumenty
G48: prawo pob. obyw. UE | O48: =Arkusz10!A2 -> 411 | Q48: =Arkusz10!A3 -> 337
G49: prawo st. pobytu obyw. UE | O49: =Arkusz10!A4 -> 59 | Q49: =Arkusz10!A5 -> 58
G50: prawo pob. członka rodz. obyw. UE | O50: =Arkusz10!A6 -> 0 | Q50: =Arkusz10!A7 -> 0
G51: prawo st. pob. członka rodz. obyw. UE | O51: =Arkusz10!A8 -> 10 | Q51: =Arkusz10!A9 -> 1
G52: suma | O52: =SUM(O48:O51) -> 480 | Q52: =SUM(Q48:Q51) -> 396
G56: Sprawa | K56: wnioski | M56: =CONCATENATE("decyzje ",Arkusz18!C2," - ",Arkusz18!B2," r.") -> decyzje 01.01.2026 - 31.08.2026 r.
M57: pozytywne | O57: negatywne | Q57: umorzenia
G58: pobyt czasowy | K58: 352584 | M58: 181541 | O58: =Arkusz11!B2 -> 16590 | Q58: =Arkusz11!B4 -> 11119
G59: pobyt stały | K59: 12061 | M59: =Arkusz11!B11 -> 9526 | O59: =Arkusz11!B10 -> 1780 | Q59: =Arkusz11!B12 -> 984
G60: pobyt rezyd. UE | K60: 19556 | M60: =Arkusz11!B7 -> 13138 | O60: =Arkusz11!B6 -> 1879 | Q60: =Arkusz11!B8 -> 1336
G61: suma | K61: =SUM(K58:L60) -> 384201 | M61: =SUM(M58:N60) -> 204205 | O61: =SUM(O58:P60) -> 20249 | Q61: =SUM(Q58:R60) -> 13439
G82: Sprawa | O82: wnioski | Q82: wydane dokumenty
G84: prawo pob. obyw. UE | O84: =Arkusz12!A2 -> 3612 | Q84: =Arkusz12!A3 -> 3025
G85: prawo st. pobytu obyw. UE | O85: =Arkusz12!A4 -> 511 | Q85: =Arkusz12!A5 -> 417
G86: prawo pob. członka rodz. obyw. UE | O86: =Arkusz12!A6 -> 0 | Q86: =Arkusz12!A7 -> 3
G87: prawo st. pob. członka rodz. obyw. UE | O87: =Arkusz12!A8 -> 60 | Q87: =Arkusz12!A9 -> 35
G88: suma | O88: =SUM(O84:P87) -> 4183 | Q88: =SUM(Q84:R87) -> 3480
A91: W sierpniu 2026 r. cudzoziemcy złożyli 34 tys. wniosków o udzielenie zezwoleń na pobyt, z czego zdecydowana większość (94%) dotyczyła pobytu czasowego (32 tys.). O pobyt stały wnioskowało 0,6 tys. osób (2%), a o status rezydenta długoterminowego UE – 1,5 tys. wnioskodawców (4%). Główne państwa pochodzenia: Listę otwierają obywatele Ukrainy (62% – 22 tys.), a następnie Białorusi (2,3 tys.) oraz Kolumbii (1,6 tys.). Wiek i płeć: Imigracja ma charakter wybitnie zarobkowy – aż 81% wnioskodawców to osoby w wieku produkcyjnym (równomiernie rozłożone między grupy 18–34 oraz 35–64 lata). Wśród dzieci dominują osoby do 13. roku życia (4,1 tys.). Przewaga mężczyzn (56%) wynika prawdopodobnie ze specyfiki sektorów budowlanego, transportowego i przemysłowego. Cudzoziemcy wybierają regiony o najsilniejszych rynkach pracy. Ponad dwie trzecie wszystkich wniosków (69%) wpłynęła do czterech urzędów wojewódzkich: * Mazowieckiego (10,1 tys. – 30%), * Wielkopolskiego (5,5 tys.), * Małopolskiego (4,1 tys.), * Dolnośląskiego (3,5 tys.). W sierpniu urzędy zakończyły postępowania w 28 tys. spraw (suma decyzji pozytywnych, negatywnych i umorzeń). Struktura rozstrzygnięć kształtowała się następująco: *Decyzje pozytywne: 25 tys. (co stanowi 87% ogółu rozstrzygnięć), *Decyzje negatywne: 2,5 tys. (9% ogółu), *Umorzenia postępowań: 1,3 tys. (4% ogółu). W podziale na poszczególne rodzaje spraw, łączna liczba wydanych decyzji (pozytywnych, negatywnych i umorzeń) wyniosła: Pobyt czasowy: 26 tys. decyzji, Pobyt stały: 1,3 tys. decyzji, Pobyt rezydenta UE: 1,6 tys. decyzji. W strukturze wydanych decyzji pozytywnych zdecydowanie dominował pobyt czasowy (23 tys. decyzji – 91%), przed pobytem rezydenta długoterminowego UE (1,3 tys. decyzji – 5%) oraz pobytem stałym (1 tys. decyzji – 4%). Warto odnotować, że w przypadku pobytu stałego liczba wydanych decyzji pozytywnych (1 tys.) była wyższa niż liczba nowych wniosków złożonych w tym miesiącu (0,6 tys.). Podsumowanie (I - VIII 2026 r.): Napływ wniosków: Od początku roku do końca sierpnia złożono 384 tys. wniosków. Głównymi państwami pochodzenia pozostają: Ukraina (68%) oraz Białoruś (8%), przy widocznym udziale obywateli Kolumbii, Gruzji i Indii (po ok. 3%). Napływ wniosków: Od początku roku do końca sierpnia złożono łącznie 384 201 wniosków. Głównymi państwami pochodzenia pozostają Ukraina (68%) oraz Białoruś (8%), przy widocznym udziale obywateli Kolumbii (4%) oraz Gruzji i Indii (po ok. 2%) Wydane decyzje: Urzędy wydały 238 tys. rozstrzygnięć. Odsetek decyzji pozytywnych utrzymał się na poziomie 86%. Najwięcej zgód na pobyt otrzymali obywatele Ukrainy (68%), Białorusi (9%) oraz Indii (3%) oraz Kolumbia i Gruzja (po 2%).
A117: II. Odwołania od decyzji wydanych w I instancji w sprawie legalizacji pobytu cudzoziemców na terytorium RP, odpowiedzi na skargi oraz wnioski o udzielenie zezwolenia na pobyt stały dla członków rodzin repatriantów:
L119: =CONCATENATE(Arkusz18!C2," - ",Arkusz18!B2," r.") -> 01.01.2026 - 31.08.2026 r.
C120: Sprawa | L120: odwołania | N120: utrzymanie | O120: decyzje pozytywne | P120: uchylenie i przekazanie do ponownego rozp. | Q120: uchylenie i umorzenie | R120: pobyt humanitarny | S120: pobyt tolerowany | T120: cofnięcie zakazu wjazdu | U120: inne | V120: Suma decyzji
C121: pobyt czasowy | L121: =Arkusz13!C2 -> 11088 | N121: 2146 | O121: 4650 | P121: 3474 | Q121: 559 | R121: =Arkusz13!C82 -> 0 | S121: =Arkusz13!C98 -> 0 | T121: =Arkusz13!C114 -> 0 | U121: 622 | V121: 11451
C122: pobyt stały | L122: =Arkusz13!C3 -> 921 | N122: =Arkusz13!C19 -> 486 | O122: =Arkusz13!C35 -> 138 | P122: =Arkusz13!C51 -> 109 | Q122: =Arkusz13!C67 -> 10 | R122: =Arkusz13!C83 -> 0 | S122: =Arkusz13!C99 -> 0 | T122: =Arkusz13!C115 -> 0 | U122: =Arkusz13!C131-SUM(N122:T122) -> 97 | V122: =SUM(N122:U122) -> 840
C123: pobyt rezydenta długoterminowego UE | L123: =Arkusz13!C4 -> 1073 | N123: =Arkusz13!C20 -> 543 | O123: =Arkusz13!C36 -> 161 | P123: =Arkusz13!C52 -> 163 | Q123: =Arkusz13!C68 -> 27 | R123: =Arkusz13!C84 -> 0 | S123: =Arkusz13!C100 -> 0 | T123: =Arkusz13!C116 -> 0 | U123: =Arkusz13!C132-SUM(N123:T123) -> 132 | V123: =SUM(N123:U123) -> 1026
C124: prawo pobytu ob. UE | L124: =Arkusz13!C5 -> 25 | N124: =Arkusz13!C21 -> 18 | O124: =Arkusz13!C37 -> 0 | P124: =Arkusz13!C53 -> 1 | Q124: =Arkusz13!C69 -> 0 | R124: =Arkusz13!C85 -> 0 | S124: =Arkusz13!C101 -> 0 | T124: =Arkusz13!C117 -> 0 | U124: =Arkusz13!C133-SUM(N124:T124) -> 8 | V124: =SUM(N124:U124) -> 27
C125: prawo stałego pobytu obywatela UE | L125: =Arkusz13!C6 -> 4 | N125: =Arkusz13!C22 -> 2 | O125: =Arkusz13!C38 -> 1 | P125: =Arkusz13!C54 -> 3 | Q125: =Arkusz13!C70 -> 0 | R125: =Arkusz13!C86 -> 0 | S125: =Arkusz13!C102 -> 0 | T125: =Arkusz13!C118 -> 0 | U125: =Arkusz13!C134-SUM(N125:T125) -> 2 | V125: =SUM(N125:U125) -> 8
C126: prawo pobytu członka rodziny ob. UE | L126: =Arkusz13!C7 -> 7 | N126: =Arkusz13!C23 -> 3 | O126: =Arkusz13!C39 -> 2 | P126: =Arkusz13!C55 -> 2 | Q126: =Arkusz13!C71 -> 1 | R126: =Arkusz13!C87 -> 0 | S126: =Arkusz13!C103 -> 0 | T126: =Arkusz13!C119 -> 0 | U126: =Arkusz13!C135-SUM(N126:T126) -> 2 | V126: =SUM(N126:U126) -> 10
C127: prawo stałego pobytu członka rodziny ob.. UE | L127: =Arkusz13!C8 -> 3 | N127: =Arkusz13!C24 -> 0 | O127: =Arkusz13!C40 -> 0 | P127: =Arkusz13!C56 -> 2 | Q127: =Arkusz13!C72 -> 0 | R127: =Arkusz13!C88 -> 0 | S127: =Arkusz13!C104 -> 0 | T127: =Arkusz13!C120 -> 0 | U127: =Arkusz13!C136-SUM(N127:T127) -> 1 | V127: =SUM(N127:U127) -> 3
C128: pobyt tolerowany | L128: 0 | N128: =Arkusz13!C25 -> 0 | O128: =Arkusz13!C41 -> 0 | P128: =Arkusz13!C57 -> 0 | Q128: =Arkusz13!C73 -> 0 | R128: =Arkusz13!C89 -> 0 | S128: =Arkusz13!C105 -> 0 | T128: =Arkusz13!C121 -> 0 | U128: =Arkusz13!C137-SUM(N128:T128) -> 0 | V128: =SUM(N128:U128) -> 0
...

Sheet Arkusz15
A1: Lp | B1: Czynnosc | C1: Liczba
A2: 1 | B2: wpis | C2: 243
A3: 2 | B3: wpis SIS | C3: 52
A4: 3 | B4: wykreślenie | C4: 26
A5: 4 | B5: korekta wpisów | C5: 97
A6: 5 | B6: odmowa wpisu | C6: 0
A7: 6 | B7: zawieszenie wpisów | C7: 0
A8: 7 | B8: wykreślenie SIS | C8: 0
A9: 8 | B9: wnioski cudz. | C9: 0
A10: 9 | B10: konsultacje | C10: 0
A11: 10 | B11: telegramy | C11: 0
A12: 11 | B12: alerty pobytowe | C12: 0

Sheet Arkusz1
A1: Lp | B1: Wnioskujacy | C1: Wnioski | D1: Decyzje
A2: 1 | B2: Inne_panstwo | C2: 0 | D2: 0
A3: 2 | B3: Konsul_RP | C3: 0 | D3: 0
A4: 3 | B4: fakultatywne | C4: 0 | D4: 0

Sheet Arkusz2
A1: Lp | B1: Obywatelstwo_pl | C1: Grupa | D1: Typ | E1: Lp_typ | F1: Liczba | G1: Lp_grupa
A2: 1 | B2: UKRAINA | C2: PIERWSZE | D2: Wnioski | E2: 1 | F2: 103 | G2: 1
A3: 2 | B3: BIAŁORUŚ | C3: PIERWSZE | D3: Wnioski | E3: 1 | F3: 70 | G3: 1
A4: 3 | B4: ROSJA | C4: PIERWSZE | D4: Wnioski | E4: 1 | F4: 14 | G4: 1
A5: 4 | B5: NIGERIA | C5: PIERWSZE | D5: Wnioski | E5: 1 | F5: 5 | G5: 1
A6: 5 | B6: KAMERUN | C6: PIERWSZE | D6: Wnioski | E6: 1 | F6: 6 | G6: 1
A7: 6 | B7: Pozostałe | C7: PIERWSZE | D7: Wnioski | E7: 1 | F7: 57 | G7: 1
A8: 1 | B8: UKRAINA | C8: PIERWSZE | D8: Osoby | E8: 2 | F8: 119 | G8: 1
A9: 2 | B9: BIAŁORUŚ | C9: PIERWSZE | D9: Osoby | E9: 2 | F9: 79 | G9: 1
A10: 3 | B10: ROSJA | C10: PIERWSZE | D10: Osoby | E10: 2 | F10: 15 | G10: 1
A11: 4 | B11: NIGERIA | C11: PIERWSZE | D11: Osoby | E11: 2 | F11: 5 | G11: 1
A12: 5 | B12: KAMERUN | C12: PIERWSZE | D12: Osoby | E12: 2 | F12: 6 | G12: 1
A13: 6 | B13: Pozostałe | C13: PIERWSZE | D13: Osoby | E13: 2 | F13: 66 | G13: 1
... A37: 6 | B37: Pozostałe | C37: WZNOWIENIA* | D37: Osoby | E37: 2 | F37: 3 | G37: 3

Sheet Arkusz3
A1: Lp | B1: Obywatelstwo_pl | C1: Grupa | D1: Typ | E1: Lp_typ | F1: Liczba | G1: Lp_grupa
A2: 1 | B2: UKRAINA | C2: PIERWSZE | D2: Wnioski | E2: 1 | F2: 1055 | G2: 1
A3: 2 | B3: BIAŁORUŚ | C3: PIERWSZE | D3: Wnioski | E3: 1 | F3: 898 | G3: 1
A4: 3 | B4: ROSJA | C4: PIERWSZE | D4: Wnioski | E4: 1 | F4: 104 | G4: 1
A5: 4 | B5: TADŻYKISTAN | C5: PIERWSZE | D5: Wnioski | E5: 1 | F5: 36 | G5: 1
A6: 5 | B6: AFGANISTAN | C6: PIERWSZE | D6: Wnioski | E6: 1 | F6: 36 | G6: 1
A7: 6 | B7: Pozostałe | C7: PIERWSZE | D7: Wnioski | E7: 1 | F7: 610 | G7: 1
A8: 1 | B8: UKRAINA | C8: PIERWSZE | D8: Osoby | E8: 2 | F8: 1268 | G8: 1
A9: 2 | B9: BIAŁORUŚ | C9: PIERWSZE | D9: Osoby | E9: 2 | F9: 1092 | G9: 1
A10: 3 | B10: ROSJA | C10: PIERWSZE | D10: Osoby | E10: 2 | F10: 122 | G10: 1
A11: 4 | B11: TADŻYKISTAN | C11: PIERWSZE | D11: Osoby | E11: 2 | F11: 47 | G11: 1
A12: 5 | B12: AFGANISTAN | C12: PIERWSZE | D12: Osoby | E12: 2 | F12: 40 | G12: 1
A13: 6 | B13: Pozostałe | C13: PIERWSZE | D13: Osoby | E13: 2 | F13: 673 | G13: 1
... A37: 6 | B37: Pozostałe | C37: WZNOWIENIA* | D37: Osoby | E37: 2 | F37: 48 | G37: 3

Sheet Arkusz4
A1: Lp | B1: Obywatelstwo | C1: Wniosek IN | D1: Decyzje pozytywne | E1: Transfer
A2: 1 | B2: NIEMCY | C2: 374 | D2: 323 | E2: 60
A3: 2 | B3: FRANCJA | C3: 185 | D3: 133 | E3: 15
A4: 3 | B4: BELGIA | C4: 65 | D4: 53 | E4: 9
A5: 4 | B5: NIDERLANDY | C5: 41 | D5: 36 | E5: 7
A6: 5 | B6: WŁOCHY | C6: 41 | D6: 29 | E6: 0
A7: 6 | B7: Pozostałe | C7: 236 | D7: 158 | E7: 74

Sheet Arkusz5
A1: Lp | B1: Obywatelstwo | C1: Wniosek OUT | D1: Decyzje pozytywne | E1: Transfer
A2: 1 | B2: NIEMCY | C2: 32 | D2: 26 | E2: 13
A3: 2 | B3: CHORWACJA | C3: 24 | D3: 17 | E3: 7
A4: 3 | B4: HISZPANIA | C4: 16 | D4: 20 | E4: 5
A5: 4 | B5: ŁOTWA | C5: 16 | D5: 16 | E5: 17
A6: 5 | B6: FRANCJA | C6: 12 | D6: 10 | E6: 5
A7: 6 | B7: Pozostałe | C7: 79 | D7: 79 | E7: 32

Sheet Arkusz18
A1: Kolumna1 | B1: Kolumna2 | C1: Kolumna3
A2: 01.08.2026 | B2: 31.08.2026 | C2: 01.01.2026

Sheet Arkusz16
A1: Liczba | B1: Placowka | C1: Opis | D1: Lp
A2: 0 | B2: Kaliningrad | C2: Zezwolenia wydane | D2: 1
A3: 0 | B3: Kaliningrad | C3: Odmowy wydania | D3: 2
A4: 0 | B4: Kaliningrad | C4: Zezwolenia cofnięte | D4: 3
A5: 0 | B5: Kaliningrad | C5: Zezwolenia unieważnione | D5: 4
A6: 110 | B6: Lwów | C6: Zezwolenia wydane | D6: 1
A7: 0 | B7: Lwów | C7: Odmowy wydania | D7: 2
A8: 0 | B8: Lwów | C8: Zezwolenia cofnięte | D8: 3
A9: 0 | B9: Lwów | C9: Zezwolenia unieważnione | D9: 4
A10: 31 | B10: Łuck | C10: Zezwolenia wydane | D10: 1
A11: 0 | B11: Łuck | C11: Odmowy wydania | D11: 2
A12: 0 | B12: Łuck | C12: Zezwolenia cofnięte | D12: 3
A13: 0 | B13: Łuck | C13: Zezwolenia unieważnione | D13: 4

Sheet Arkusz17
A1: Liczba | B1: Placowka | C1: Opis | D1: Lp
A2: 0 | B2: Kaliningrad | C2: Zezwolenia wydane | D2: 1
A3: 0 | B3: Kaliningrad | C3: Odmowy wydania | D3: 2
A4: 0 | B4: Kaliningrad | C4: Zezwolenia cofnięte | D4: 3
A5: 0 | B5: Kaliningrad | C5: Zezwolenia unieważnione | D5: 4
A6: 1138 | B6: Lwów | C6: Zezwolenia wydane | D6: 1
A7: 2 | B7: Lwów | C7: Odmowy wydania | D7: 2
A8: 0 | B8: Lwów | C8: Zezwolenia cofnięte | D8: 3
A9: 1 | B9: Lwów | C9: Zezwolenia unieważnione | D9: 4
A10: 231 | B10: Łuck | C10: Zezwolenia wydane | D10: 1
A11: 0 | B11: Łuck | C11: Odmowy wydania | D11: 2
A12: 0 | B12: Łuck | C12: Zezwolenia cofnięte | D12: 3
A13: 0 | B13: Łuck | C13: Zezwolenia unieważnione | D13: 4

Sheet Arkusz6
A1: Lp | B1: Nazwa_kraju | C1: Status uchodźcy | D1: Ochrona uzupełniająca | E1: Pobyt tolerowany | F1: Negatywna | G1: Umorzenie
A2: 1 | B2: UKRAINA | C2: 0 | D2: 33 | E2: 0 | F2: 280 | G2: 16
A3: 2 | B3: BIAŁORUŚ | C3: 35 | D3: 1 | E3: 0 | F3: 49 | G3: 17
A4: 3 | B4: ROSJA | C4: 5 | D4: 0 | E4: 0 | F4: 25 | G4: 0
A5: 4 | B5: KOLUMBIA | C5: 0 | D5: 0 | E5: 0 | F5: 16 | G5: 2
A6: 5 | B6: DEMOKRATYCZNA REPUBLIKA KONGA | C6: 0 | D6: 1 | E6: 0 | F6: 0 | G6: 6
A7: 6 | B7: Pozostałe | C7: 17 | D7: 4 | E7: 0 | F7: 51 | G7: 29

Sheet Arkusz7
A1: Lp | B1: Nazwa_kraju | C1: Status uchodźcy | D1: Ochrona uzupełniająca | E1: Pobyt tolerowany | F1: Negatywna | G1: Umorzenie
A2: 1 | B2: UKRAINA | C2: 1 | D2: 176 | E2: 0 | F2: 2951 | G2: 347
A3: 2 | B3: BIAŁORUŚ | C3: 283 | D3: 377 | E3: 0 | F3: 214 | G3: 138
A4: 3 | B4: ROSJA | C4: 18 | D4: 15 | E4: 0 | F4: 231 | G4: 73
A5: 4 | B5: TADŻYKISTAN | C5: 8 | D5: 14 | E5: 0 | F5: 34 | G5: 81
A6: 5 | B6: AFGANISTAN | C6: 19 | D6: 0 | E6: 0 | F6: 48 | G6: 49
A7: 6 | B7: Pozostałe | C7: 67 | D7: 44 | E7: 0 | F7: 386 | G7: 453

Sheet Arkusz8
A1: Ilosc | B1: Cudzoziemcy | C1: Tydzien
A2: 712 | B2: przebywający w ośrodku | C2: 25.08.2026 - 31.08.2026
A3: 715 | B3: przebywający w ośrodku | C3: 18.08.2026 - 24.08.2026
A4: 730 | B4: przebywający w ośrodku | C4: 11.08.2026 - 17.08.2026
A5: 736 | B5: przebywający w ośrodku | C5: 04.08.2026 - 10.08.2026
A6: 737 | B6: przebywający w ośrodku | C6: 28.07.2026 - 03.08.2026
A7: 5797 | B7: świadczenia poza ośrodkiem | C7: 25.08.2026 - 31.08.2026
A8: 5811 | B8: świadczenia poza ośrodkiem | C8: 18.08.2026 - 24.08.2026
A9: 5826 | B9: świadczenia poza ośrodkiem | C9: 11.08.2026 - 17.08.2026
A10: 5849 | B10: świadczenia poza ośrodkiem | C10: 04.08.2026 - 10.08.2026
A11: 5833 | B11: świadczenia poza ośrodkiem | C11: 28.07.2026 - 03.08.2026
A12: 79 | B12: opuścili ośrodek | C12: 25.08.2026 - 31.08.2026
A13: 93 | B13: opuścili ośrodek | C13: 18.08.2026 - 24.08.2026
... A26: 1 | B26: małoletni | C26: 28.07.2026 - 03.08.2026

Sheet Arkusz9
A1: Opis_rozstrzygniecia | B1: Liczba | C1: Opis
A2: NEGATYWNA | B2: 1987 | C2: pobyt czasowy
A3: POZYTYWNA | B3: 17517 | C3: pobyt czasowy
A4: UMORZENIE | B4: 1067 | C4: pobyt czasowy
A5: Wnioski | B5: 36500 | C5: pobyt czasowy
A6: NEGATYWNA | B6: 238 | C6: pobyt rezyd. UE
A7: POZYTYWNA | B7: 1291 | C7: pobyt rezyd. UE
A8: UMORZENIE | B8: 109 | C8: pobyt rezyd. UE
A9: Wnioski | B9: 2977 | C9: pobyt rezyd. UE
A10: NEGATYWNA | B10: 252 | C10: pobyt stały
A11: POZYTYWNA | B11: 947 | C11: pobyt stały
A12: UMORZENIE | B12: 69 | C12: pobyt stały
A13: Wnioski | B13: 907 | C13: pobyt stały

Sheet Arkusz10
A1: Liczba | B1: Opis | C1: Typ | D1: Lp
A2: 411 | B2: WNIOSEK O ZAREJESTROWANIE POBYTU OBYWATELA UE | C2: wnioski | D2: 1
A3: 337 | B3: WNIOSEK O ZAREJESTROWANIE POBYTU OBYWATELA UE | C3: wydane dokumenty | D3: 1
A4: 59 | B4: WNIOSEK O WYDANIE DOKUMENTU POTWIERDZAJĄCEGO PRAWO STAŁEGO POBYTU | C4: wnioski | D4: 2
A5: 58 | B5: WNIOSEK O WYDANIE DOKUMENTU POTWIERDZAJĄCEGO PRAWO STAŁEGO POBYTU | C5: wydane dokumenty | D5: 2
A6: 0 | B6: WNIOSEK O WYDANIE KARTY POBYTU CZŁONKA RODZINY OBYWATELA UE | C6: wnioski | D6: 3
A7: 0 | B7: WNIOSEK O WYDANIE KARTY POBYTU CZŁONKA RODZINY OBYWATELA UE | C7: wydane dokumenty | D7: 3
A8: 10 | B8: WNIOSEK O WYDANIE KARTY STAŁEGO POBYTU (CZŁONKA RODZINY OBYWATELA UE) | C8: wnioski | D8: 4
A9: 1 | B9: WNIOSEK O WYDANIE KARTY STAŁEGO POBYTU (CZŁONKA RODZINY OBYWATELA UE) | C9: wydane dokumenty | D9: 4

Sheet Arkusz11
A1: Opis_rozstrzygniecia | B1: Liczba | C1: Opis
A2: NEGATYWNA | B2: 16590 | C2: pobyt czasowy
A3: POZYTYWNA | B3: 172284 | C3: pobyt czasowy
A4: UMORZENIE | B4: 11119 | C4: pobyt czasowy
A5: Wnioski | B5: 492346 | C5: pobyt czasowy
A6: NEGATYWNA | B6: 1879 | C6: pobyt rezyd. UE
A7: POZYTYWNA | B7: 13138 | C7: pobyt rezyd. UE
A8: UMORZENIE | B8: 1336 | C8: pobyt rezyd. UE
A9: Wnioski | B9: 27057 | C9: pobyt rezyd. UE
A10: NEGATYWNA | B10: 1780 | C10: pobyt stały
A11: POZYTYWNA | B11: 9526 | C11: pobyt stały
A12: UMORZENIE | B12: 984 | C12: pobyt stały
A13: Wnioski | B13: 16291 | C13: pobyt stały

Sheet Arkusz12
A1: Liczba | B1: Opis | C1: Typ | D1: Lp
A2: 3612 | B2: WNIOSEK O ZAREJESTROWANIE POBYTU OBYWATELA UE | C2: wnioski | D2: 1
A3: 3025 | B3: WNIOSEK O ZAREJESTROWANIE POBYTU OBYWATELA UE | C3: wydane dokumenty | D3: 1
A4: 511 | B4: WNIOSEK O WYDANIE DOKUMENTU POTWIERDZAJĄCEGO PRAWO STAŁEGO POBYTU | C4: wnioski | D4: 2
A5: 417 | B5: WNIOSEK O WYDANIE DOKUMENTU POTWIERDZAJĄCEGO PRAWO STAŁEGO POBYTU | C5: wydane dokumenty | D5: 2
A6: 0 | B6: WNIOSEK O WYDANIE KARTY POBYTU CZŁONKA RODZINY OBYWATELA UE | C6: wnioski | D6: 3
A7: 3 | B7: WNIOSEK O WYDANIE KARTY POBYTU CZŁONKA RODZINY OBYWATELA UE | C7: wydane dokumenty | D7: 3
A8: 60 | B8: WNIOSEK O WYDANIE KARTY STAŁEGO POBYTU (CZŁONKA RODZINY OBYWATELA UE) | C8: wnioski | D8: 4
A9: 35 | B9: WNIOSEK O WYDANIE KARTY STAŁEGO POBYTU (CZŁONKA RODZINY OBYWATELA UE) | C9: wydane dokumenty | D9: 4

Sheet Arkusz13
A1: Lp | B1: Sprawa | C1: Liczba | D1: Opis | E1: Lp_opis
A2: 1 | B2: pobyt czasowy | C2: 11088 | D2: odwołanie | E2: 1
A3: 2 | B3: pobyt stały | C3: 921 | D3: odwołanie | E3: 1
A4: 3 | B4: pobyt rezydenta długoterminowego UE | C4: 1073 | D4: odwołanie | E4: 1
A5: 4 | B5: prawo pobytu ob. UE | C5: 25 | D5: odwołanie | E5: 1
A6: 5 | B6: prawo stałego pobytu obywatela UE | C6: 4 | D6: odwołanie | E6: 1
A7: 6 | B7: prawo pobytu członka rodziny ob. UE | C7: 7 | D7: odwołanie | E7: 1
A8: 7 | B8: prawo stałego pobytu członka rodziny ob. UE | C8: 3 | D8: odwołanie | E8: 1
A9: 8 | B9: pobyt tolerowany | C9: 1 | D9: odwołanie | E9: 1
A10: 9 | B10: pobyt humanitarny | C10: 14 | D10: odwołanie | E10: 1
A11: 10 | B11: wydalenie | C11: 5 | D11: odwołanie | E11: 1
A12: 11 | B12: zobowiązanie do powrotu | C12: 2969 | D12: odwołanie | E12: 1
A13: 12 | B13: cofnięcie zakazu wjazdu | C13: 0 | D13: odwołanie | E13: 1
... A145: 16 | B145: wiza (nowa + Schengen) | C145: 9 | D145: inne | E145: 9

Sheet Arkusz14
A1: Lp | B1: Liczba | C1: Sprawa | D1: Opis
A2: 1 | B2: 13 | C2: pob. stały dla członków rodzin repatrianta | D2: wnioski
A3: 2 | B3: 9 | C3: pob. stały dla członków rodzin repatrianta | D3: wydane zezwolenia
A4: 3 | B4: 1 | C4: pob. stały dla członków rodzin repatrianta | D4: inne decyzje
