Workbook

Sheet Meldunek tygodniowy
E5: Informacja o działalności Urzędu do Spraw Cudzoziemców
E9: =CONCATENATE("w okresie ",Arkusz18!A2," - ",Arkusz18!B2," r.") -> w okresie 01.08.2026 - 31.08.2026 r.
A15: Legalizacja pobytu
A18: I. Wnioski, które wpłynęły do wojewodów w sprawie zezwolenia na pobyt czasowy, pobyt stały i pobyt rezydenta długoterminowego UE oraz wydane w tych sprawach decyzje:
G22: Sprawa | K22: wnioski | M22: =CONCATENATE("decyzje ",Arkusz18!A2," - ",Arkusz18!B2," r.") -> decyzje 01.08.2026 - 31.08.2026 r.
M23: pozytywne | O23: negatywne | Q23: umorzenia
G24: pobyt czasowy | K24: 31506 | M24: 22478 | O24: =Arkusz9!B2 -> 1987 | Q24: =Arkusz9!B4 -> 1067
G25: pobyt stały | K25: 631 | M25: =Arkusz9!B11 -> 947 | O25: =Arkusz9!B10 -> 252 | Q25: =Arkusz9!B12 -> 69
G26: pobyt rezyd. UE | K26: 1499 | M26: =Arkusz9!B7 -> 1291 | O26: =Arkusz9!B6 -> 238 | Q26: =Arkusz9!B8 -> 109
G27: suma | K27: =SUM(K24:K26) -> 33636 | M27: =SUM(M24:M26) -> 24716 | O27: =SUM(O24:O26) -> 2477 | Q27: =SUM(Q24:Q26) -> 1245
G46: Sprawa | O46: wnioski | Q46: wydane dokumenty
G48: prawo pob. obyw. UE | O48: =Arkusz10!A2 -> 411 | Q48: =Arkusz10!A3 -> 337
G49: prawo st. pobytu obyw. UE | O49: =Arkusz10!A4 -> 59 | Q49: =Arkusz10!A5 -> 58
G50: prawo pob. członka rodz. obyw. UE | O50: =Arkusz10!A6 -> 0 | Q50: =Arkusz10!A7 -> 0
G51: prawo st. pob. członka rodz. obyw. UE | O51: =Arkusz10!A8 -> 10 | Q51: =Arkusz10!A9 -> 1
G52: suma | O52: =SUM(O48:O51) -> 480 | Q52: =SUM(Q48:Q51) -> 396
G56: Sprawa | K56: wnioski | M56: =CONCATENATE("decyzje ",Arkusz18!C2," - ",Arkusz18!B2," r.") -> decyzje 01.01.2026 - 31.08.2026 r.
M57: pozytywne | O57: negatywne | Q57: umorzenia
G58: pobyt czasowy | K58: 352584 | M58: 181541 | O58: =Arkusz11!B2 -> 16590 | Q58: =Arkusz11!B4 -> 11119
G59: pobyt stały | K59: 12061 | M59: =Arkusz11!B11 -> 9526 | O59: =Arkusz11!B10 -> 1780 | Q59: =Arkusz11!B12 -> 984
G60: pobyt rezyd. UE | K60: 19556 | M60: =Arkusz11!B7 -> 13138 | O60: =Arkusz11!B6 -> 1879 | Q60: =Arkusz11!B8 -> 1336
G61: suma | K61: =SUM(K58:L60) -> 384201 | M61: =SUM(M58:N60) -> 204205 | O61: =SUM(O58:P60) -> 20249 | Q61: =SUM(Q58:R60) -> 13439
G82: Sprawa | O82: wnioski | Q82: wydane dokumenty
G84: prawo pob. obyw. UE | O84: =Arkusz12!A2 -> 3612 | Q84: =Arkusz12!A3 -> 3025
G85: prawo st. pobytu obyw. UE | O85: =Arkusz12!A4 -> 511 | Q85: =Arkusz12!A5 -> 417
G86: prawo pob. członka rodz. obyw. UE | O86: =Arkusz12!A6 -> 0 | Q86: =Arkusz12!A7 -> 3
G87: prawo st. pob. członka rodz. obyw. UE | O87: =Arkusz12!A8 -> 60 | Q87: =Arkusz12!A9 -> 35
G88: suma | O88: =SUM(O84:P87) -> 4183 | Q88: =SUM(Q84:R87) -> 3480
A91: W sierpniu 2026 r. cudzoziemcy złożyli 34 tys. wniosków o udzielenie zezwoleń na pobyt, z czego zdecydowana większość (94%) dotyczyła pobytu czasowego (32 tys.). O pobyt stały wnioskowało 0,6 tys. osób (2%), a o status rezydenta długoterminowego UE – 1,5 tys. wnioskodawców (4%). Główne państwa pochodzenia: Listę otwierają obywatele Ukrainy (62% – 22 tys.), a następnie Białorusi (2,3 tys.) oraz Kolumbii (1,6 tys.). Wiek i płeć: Imigracja ma charakter wybitnie zarobkowy – aż 81% wnioskodawców to osoby w wieku produkcyjnym (równomiernie rozłożone między grupy 18–34 oraz 35–64 lata). Wśród dzieci dominują osoby do 13. roku życia (4,1 tys.). Przewaga mężczyzn (56%) wynika prawdopodobnie ze specyfiki sektorów budowlanego, transportowego i przemysłowego. Cudzoziemcy wybierają regiony o najsilniejszych rynkach pracy. Ponad dwie trzecie wszystkich wniosków (69%) wpłynęła do czterech urzędów wojewódzkich: * Mazowieckiego (10,1 tys. – 30%), * Wielkopolskiego (5,5 tys.), * Małopolskiego (4,1 tys.), * Dolnośląskiego (3,5 tys.). W sierpniu urzędy zakończyły postępowania w 28 tys. spraw (suma decyzji pozytywnych, negatywnych i umorzeń). Struktura rozstrzygnięć kształtowała się następująco: *Decyzje pozytywne: 25 tys. (co stanowi 87% ogółu rozstrzygnięć), *Decyzje negatywne: 2,5 tys. (9% ogółu), *Umorzenia postępowań: 1,3 tys. (4% ogółu). W podziale na poszczególne rodzaje spraw, łączna liczba wydanych decyzji (pozytywnych, negatywnych i umorzeń) wyniosła: Pobyt czasowy: 26 tys. decyzji, Pobyt stały: 1,3 tys. decyzji, Pobyt rezydenta UE: 1,6 tys. decyzji. W strukturze wydanych decyzji pozytywnych zdecydowanie dominował pobyt czasowy (23 tys. decyzji – 91%), przed pobytem rezydenta długoterminowego UE (1,3 tys. decyzji – 5%) oraz pobytem stałym (1 tys. decyzji – 4%). Warto odnotować, że w przypadku pobytu stałego liczba wydanych decyzji pozytywnych (1 tys.) była wyższa niż liczba nowych wniosków złożonych w tym miesiącu (0,6 tys.). Podsumowanie (I - VIII 2026 r.): Napływ wniosków: Od początku roku do końca sierpnia złożono 384 tys. wniosków. Głównymi państwami pochodzenia pozostają: Ukraina (68%) oraz Białoruś (8%), przy widocznym udziale obywateli Kolumbii, Gruzji i Indii (po ok. 3%). Napływ wniosków: Od początku roku do końca sierpnia złożono łącznie 384 201 wniosków. Głównymi państwami pochodzenia pozostają Ukraina (68%) oraz Białoruś (8%), przy widocznym udziale obywateli Kolumbii (4%) oraz Gruzji i Indii (po ok. 2%) Wydane decyzje: Urzędy wydały 238 tys. rozstrzygnięć. Odsetek decyzji pozytywnych utrzymał się na poziomie 86%. Najwięcej zgód na pobyt otrzymali obywatele Ukrainy (68%), Białorusi (9%) oraz Indii (3%) oraz Kolumbia i Gruzja (po 2%).
A117: II. Odwołania od decyzji wydanych w I instancji w sprawie legalizacji pobytu cudzoziemców na terytorium RP, odpowiedzi na skargi oraz wnioski o udzielenie zezwolenia na pobyt stały dla członków rodzin repatriantów:
L119: =CONCATENATE(Arkusz18!C2," - ",Arkusz18!B2," r.") -> 01.01.2026 - 31.08.2026 r.
C120: Sprawa | L120: odwołania | N120: utrzymanie | O120: decyzje pozytywne | P120: uchylenie i przekazanie do ponownego rozp. | Q120: uchylenie i umorzenie | R120: pobyt humanitarny | S120: pobyt tolerowany | T120: cofnięcie zakazu wjazdu | U120: inne | V120: Suma decyzji
C121: pobyt czasowy | L121: =Arkusz13!C2 -> 11088 | N121: 2146 | O121: 4650 | P121: 3474 | Q121: 559 | R121: =Arkusz13!C82 -> 0 | S121: =Arkusz13!C98 -> 0 | T121: =Arkusz13!C114 -> 0 | U121: 622 | V121: 11451
C122: pobyt stały | L122: =Arkusz13!C3 -> 921 | N122: =Arkusz13!C19 -> 486 | O122: =Arkusz13!C35 -> 138 | P122: =Arkusz13!C51 -> 109 | Q122: =Arkusz13!C67 -> 10 | R122: =Arkusz13!C83 -> 0 | S122: =Arkusz13!C99 -> 0 | T122: =Arkusz13!C115 -> 0 | U122: =Arkusz13!C131-SUM(N122:T122) -> 97 | V122: =SUM(N122:U122) -> 840
C123: pobyt rezydenta długoterminowego UE | L123: =Arkusz13!C4 -> 1073 | N123: =Arkusz13!C20 -> 543 | O123: =Arkusz13!C36 -> 161 | P123: =Arkusz13!C52 -> 163 | Q123: =Arkusz13!C68 -> 27 | R123: =Arkusz13!C84 -> 0 | S123: =Arkusz13!C100 -> 0 | T123: =Arkusz13!C116 -> 0 | U123: =Arkusz13!C132-SUM(N123:T123) -> 132 | V123: =SUM(N123:U123) -> 1026
C124: prawo pobytu ob. UE | L124: =Arkusz13!C5 -> 25 | N124: =Arkusz13!C21 -> 18 | O124: =Arkusz13!C37 -> 0 | P124: =Arkusz13!C53 -> 1 | Q124: =Arkusz13!C69 -> 0 | R124: =Arkusz13!C85 -> 0 | S124: =Arkusz13!C101 -> 0 | T124: =Arkusz13!C117 -> 0 | U124: =Arkusz13!C133-SUM(N124:T124) -> 8 | V124: =SUM(N124:U124) -> 27
C125: prawo stałego pobytu obywatela UE | L125: =Arkusz13!C6 -> 4 | N125: =Arkusz13!C22 -> 2 | O125: =Arkusz13!C38 -> 1 | P125: =Arkusz13!C54 -> 3 | Q125: =Arkusz13!C70 -> 0 | R125: =Arkusz13!C86 -> 0 | S125: =Arkusz13!C102 -> 0 | T125: =Arkusz13!C118 -> 0 | U125: =Arkusz13!C134-SUM(N125:T125) -> 2 | V125: =SUM(N125:U125) -> 8
C126: prawo pobytu członka rodziny ob. UE | L126: =Arkusz13!C7 -> 7 | N126: =Arkusz13!C23 -> 3 | O126: =Arkusz13!C39 -> 2 | P126: =Arkusz13!C55 -> 2 | Q126: =Arkusz13!C71 -> 1 | R126: =Arkusz13!C87 -> 0 | S126: =Arkusz13!C103 -> 0 | T126: =Arkusz13!C119 -> 0 | U126: =Arkusz13!C135-SUM(N126:T126) -> 2 | V126: =SUM(N126:U126) -> 10
C127: prawo stałego pobytu członka rodziny ob.. UE | L127: =Arkusz13!C8 -> 3 | N127: =Arkusz13!C24 -> 0 | O127: =Arkusz13!C40 -> 0 | P127: =Arkusz13!C56 -> 2 | Q127: =Arkusz13!C72 -> 0 | R127: =Arkusz13!C88 -> 0 | S127: =Arkusz13!C104 -> 0 | T127: =Arkusz13!C120 -> 0 | U127: =Arkusz13!C136-SUM(N127:T127) -> 1 | V127: =SUM(N127:U127) -> 3
C128: pobyt tolerowany | L128: 0 | N128: =Arkusz13!C25 -> 0 | O128: =Arkusz13!C41 -> 0 | P128: =Arkusz13!C57 -> 0 | Q128: =Arkusz13!C73 -> 0 | R128: =Arkusz13!C89 -> 0 | S128: =Arkusz13!C105 -> 0 | T128: =Arkusz13!C121 -> 0 | U128: =Arkusz13!C137-SUM(N128:T128) -> 0 | V128: =SUM(N128:U128) -> 0
C129: pobyt humanitarny | L129: 0 | N129: =Arkusz13!C26 -> 0 | O129: =Arkusz13!C42 -> 0 | P129: =Arkusz13!C58 -> 0 | Q129: =Arkusz13!C74 -> 0 | R129: =Arkusz13!C90 -> 0 | S129: =Arkusz13!C106 -> 0 | T129: =Arkusz13!C122 -> 0 | U129: =Arkusz13!C138-SUM(N129:T129) -> 1 | V129: =SUM(N129:U129) -> 1
C130: wydalenie | L130: 0 | N130: =Arkusz13!C27 -> 0 | O130: =Arkusz13!C43 -> 0 | P130: =Arkusz13!C59 -> 0 | Q130: =Arkusz13!C75 -> 0 | R130: =Arkusz13!C91 -> 0 | S130: =Arkusz13!C107 -> 0 | T130: =Arkusz13!C123 -> 0 | U130: =Arkusz13!C139-SUM(N130:T130) -> 0 | V130: =SUM(N130:U130) -> 0
C131: zobowiązanie do powrotu | L131: 0 | N131: =Arkusz13!C28 -> 5 | O131: =Arkusz13!C44 -> 0 | P131: =Arkusz13!C60 -> 0 | Q131: =Arkusz13!C76 -> 5 | R131: =Arkusz13!C92 -> 2 | S131: =Arkusz13!C108 -> 0 | T131: =Arkusz13!C124 -> 2 | U131: =Arkusz13!C140-SUM(N131:T131) -> 7 | V131: =SUM(N131:U131) -> 21
C132: zaproszenie | L132: =Arkusz13!C14 -> 29 | N132: =Arkusz13!C30 -> 8 | O132: =Arkusz13!C46 -> 0 | P132: =Arkusz13!C62 -> 0 | Q132: =Arkusz13!C78 -> 19 | R132: =Arkusz13!C94 -> 0 | S132: =Arkusz13!C110 -> 0 | T132: =Arkusz13!C126 -> 0 | U132: =Arkusz13!C142-SUM(N132:T132) -> 21 | V132: =SUM(N132:U132) -> 48
C133: polski dokument podróży | L133: =Arkusz13!C15 -> 104 | N133: =Arkusz13!C31 -> 79 | O133: =Arkusz13!C47 -> 8 | P133: =Arkusz13!C63 -> 9 | Q133: =Arkusz13!C79 -> 4 | R133: =Arkusz13!C95 -> 0 | S133: =Arkusz13!C111 -> 0 | T133: =Arkusz13!C127 -> 0 | U133: =Arkusz13!C143-SUM(N133:T133) -> 30 | V133: =SUM(N133:U133) -> 130
C134: polski dokument tożsamości cudzoziemca | L134: =Arkusz13!C16 -> 4 | N134: =Arkusz13!C32 -> 1 | O134: =Arkusz13!C48 -> 1 | P134: =Arkusz13!C64 -> 0 | Q134: =Arkusz13!C80 -> 0 | R134: =Arkusz13!C96 -> 0 | S134: =Arkusz13!C112 -> 0 | T134: =Arkusz13!C128 -> 0 | U134: =Arkusz13!C144-SUM(N134:T134) -> 2 | V134: =SUM(N134:U134) -> 4
C135: wiza (nowa + Schengen) | L135: =Arkusz13!C17 -> 7 | N135: =Arkusz13!C33 -> 3 | O135: =Arkusz13!C49 -> 0 | P135: =Arkusz13!C65 -> 0 | Q135: =Arkusz13!C81 -> 4 | R135: =Arkusz13!C97 -> 0 | S135: =Arkusz13!C113 -> 0 | T135: =Arkusz13!C129 -> 0 | U135: =Arkusz13!C145-SUM(N135:T135) -> 2 | V135: =SUM(N135:U135) -> 9
C136: Razem | L136: =SUM(L121:L135) -> 13265 | N136: =SUM(N121:N135) -> 3294 | O136: =SUM(O121:O135) -> 4961 | P136: =SUM(P121:P135) -> 3763 | Q136: =SUM(Q121:Q135) -> 629 | R136: =SUM(R121:R135) -> 2 | S136: =SUM(S121:S135) -> 0 | T136: =SUM(T121:T135) -> 2 | U136: =SUM(U121:U135) -> 927 | V136: =SUM(V121:V135) -> 13578
D162: Sprawa | L162: wnioski | N162: wydane zezwolenia | Q162: inne decyzje
D163: pob. stały dla członków rodzin repatrianta | L163: =Arkusz14!B2 -> 13 | N163: =Arkusz14!B3 -> 9 | Q163: =Arkusz14!B4 -> 1
A165: W pierwszych ośmiu miesiącach 2026 r. organ odwoławczy (Szef UdSC) wydał 13,6 tys. decyzji przy wpływie na poziomie 13,3 tys. odwołań (co oznacza ogólny wskaźnik załatwialności spraw na poziomie 102%). Statystyki wskazują na następującą strukturę i wyniki rozstrzygnieć wnoszonych środków zaskarżenia: Wskaźnik utrzymania decyzji: 24% zaskarżonych rozstrzygnięć wojewodów zostało utrzymanych w mocy (3,3 tys. decyzji). Decyzje pozytywne: W 37% spraw (5 tys. decyzji) Szef UdSC zmienił zaskarżoną decyzję i wydał rozstrzygnięcie merytorycznie pozytywne, przyznając cudzoziemcowi prawo do pobytu. Wskaźnik kasacyjny: W 28% przypadków (3,8 tys. decyzji) organ odwoławczy uchylił decyzję pierwszej instancji i przekazał sprawę do ponownego rozpatrzenia. Uchylenia i umorzenia: Stanowiły 5% ogółu (0,6 tys. decyzji). Pozostałe rozstrzygnięcia: Kategoria „inne” objęła 7% (1 tys. decyzji.) Pobyt czasowy: Odwołania w sprawach o pobyt czasowy zdominowały statystyki, stanowiąc 84% wszystkich wpływających spraw (11 tys. z 13 tys.). W tej kategorii wydano łącznie 11,5 tys. decyzji. Wskaźnik zmiany zaskarżonej decyzji na korzyść cudzoziemca (decyzje pozytywne) wyniósł tu 41% (4,7 tys. decyzji). W mocy utrzymano 19% decyzji (2,2 tys.), natomiast do ponownego rozpatrzenia przekazano 30% spraw (3,5 tys.). Pobyt rezydenta długoterminowego UE: Do Urzędu wpłynęło ponad 1 tys. odwołań, a wydano 1 tys. decyzji. W tej kategorii odnotowano najwyższy wskaźnik utrzymania decyzji w mocy, który wyniósł aż 53% (0,5 tys. rozstrzygnięć). Decyzje merytorycznie pozytywne stanowiły 16% (0,2 tys. decyzji). Uchylenia z przekazaniem do ponownego rozpoznania wyniosły 16% (0,2 tys. decyzje). Pobyt stały: Odnotowano wpływ 0,9 tys. odwołań oraz wydanie 0,8 tys. decyzji. Podobnie jak w przypadku rezydenta UE, większość postępowań zakończyła się utrzymaniem w mocy decyzji wojewody - 58% spraw (0,5 tys.). Decyzje pozytywne stanowiły 16% (0,1 tys.), a uchylenia z przekazaniem do ponownego rozpatrzenia – 13% (0,1 tys.)
A172: III. Wykaz cudzoziemców, których pobyt na terytorium RP jest niepożądany
G174: Czynności | K174: osoby
G175: wpis | K175: 495
G176: wpis SIS | K176: 1721
G177: wykreślenie | K177: 81
G178: korekta wpisów | K178: 326
G179: odmowa wpisu | K179: 0
G180: zawiesz. wpisów | K180: 49
G181: wykreślenie SIS | K181: 46
G182: wnioski cudz. | K182: 187
G183: konsultacje | K183: 79
G184: telegramy | K184: 44
G185: alerty pobytowe | K185: 919
G186: Razem | K186: 3947
A188: W analizowanym okresie sprawozdawczym zrealizowano łącznie 4 tys. czynności (spraw) dotyczących wykazu cudzoziemców, których pobyt na terytorium RP jest niepożądany. Struktura podejmowanych działań odzwierciedla kluczową rolę w zapewnianiu bezpieczeństwa i porządku publicznego, dzieląc się na następujące kategorie: Wpisy SIS stanowiły największy segment operacyjny – 44% ogółu działań (1,7 tys. spraw). Alerty pobytowe odpowiadały za 23% wszystkich czynności (1 tys. spraw). Wpisy krajowe - trzon działań o charakterze stricte krajowym zamknął podium z udziałem 13% (0,5 tys. spraw).
A198: IV. Konsultacje wizowe
D200: Wnioskujący | H200: wnioski | K200: decyzje
D201: inne państwo | H201: 69835 | K201: 74903
D202: obligatoryjne | H202: 5579 | K202: 5637
D203: fakultatywne | H203: 6761 | K203: 6584
D204: Razem | H204: 82175 | K204: 87124
A223: W analizowanym okresie sprawozdawczym odnotowano 82 tys. wpływających wniosków o konsultacje wizowe. Struktura napływu wniosków: Współpraca w strefie Schengen: Zdecydowana większość wniosków - 70 tys. (85% ogólnego wpływu) - wpłynęła z państw partnerskich obszaru Schengen. Podkreśla to istotną rolę Polski w europejskim systemie weryfikacji bezpieczeństwa. Konsultacje obligatoryjne: Generowane na wniosek polskich placówek dyplomatycznyc, stanowiły 5,6 tys. wniosków (7% ogólnego wpływu). Konsultacje fakultatywne: Zgłaszane przez polskie placówki w sprawach niewymagających bezwzględnego zasięgania opinii, objęły 6,8 tys. wniosków (8% ogólnej puli). Wkład polskich konsulów: Łącznie polskie placówki wygenerowały w tym okresie 12 tys. wniosków (konsultacje obligatoryjne i fakultatywne razem). Wydajność decyzyjna: W tym samym okresie wydano łącznie 87 tys. decyzji, co oznacza sprawne procedowanie bieżącego napływu oraz sukcesywne nadrabianie spraw z wcześniejszych okresów. Ogólny wskaźnik załatwialności spraw (stosunek wydanych decyzji do wpływających wniosków) ukształtował się na wysokim poziomie 106%.
A236: V. Informacja o Małym Ruchu Granicznym
D239: Placówka | G239: =CONCATENATE(Arkusz18!A2," - ",Arkusz18!B2," r.") -> 01.08.2026 - 31.08.2026 r.
G240: Zezwolenia wydane | J240: Odmowy wydania | M240: Zezwolenia cofnięte | P240: Zezwolenia unieważnione
D241: Kaliningrad | G241: =Arkusz16!A2 -> 0 | J241: =Arkusz16!A3 -> 0 | M241: =Arkusz16!A4 -> 0 | P241: =Arkusz16!A5 -> 0
D242: Lwów | G242: =Arkusz16!A6 -> 110 | J242: =Arkusz16!A7 -> 0 | M242: =Arkusz16!A8 -> 0 | P242: =Arkusz16!A9 -> 0
D243: Łuck | G243: =Arkusz16!A10 -> 31 | J243: =Arkusz16!A11 -> 0 | M243: =Arkusz16!A12 -> 0 | P243: =Arkusz16!A13 -> 0
D244: RAZEM | G244: =SUM(G241:I243) -> 141 | J244: =SUM(J241:L243) -> 0 | M244: =SUM(M241:O243) -> 0 | P244: =SUM(P241:R243) -> 0
D248: Placówka | G248: =CONCATENATE(Arkusz18!C2," - ",Arkusz18!B2," r.") -> 01.01.2026 - 31.08.2026 r.
G249: Zezwolenia wydane | J249: Odmowy wydania | M249: Zezwolenia cofnięte | P249: Zezwolenia unieważnione
D250: Kaliningrad | G250: =Arkusz17!A2 -> 0 | J250: =Arkusz17!A3 -> 0 | M250: =Arkusz17!A4 -> 0 | P250: =Arkusz17!A5 -> 0
D251: Lwów | G251: =Arkusz17!A6 -> 1138 | J251: =Arkusz17!A7 -> 2 | M251: =Arkusz17!A8 -> 0 | P251: =Arkusz17!A9 -> 1
D252: Łuck | G252: =Arkusz17!A10 -> 231 | J252: =Arkusz17!A11 -> 0 | M252: =Arkusz17!A12 -> 0 | P252: =Arkusz17!A13 -> 0
D253: RAZEM | G253: =SUM(G250:I252) -> 1369 | J253: =SUM(J250:L252) -> 2 | M253: =SUM(M250:O252) -> 0 | P253: =SUM(P250:R252) -> 1
A256: Dane za sierpień oraz okres od stycznia do sierpnia 2026 r. potwierdzają stabilną i przewidywalną skalę operacji w obszarze Małego Ruchu Granicznego (MRG). Obecnie zadania te realizowane są wyłącznie przez polskie placówki dyplomatyczne na Ukrainie, przy całkowitym zawieszeniu działalności w tym zakresie przez placówkę w Kaliningradzie. Podsumowanie zbiorcze: W pierwszych ośmiu miesiącach 2026 r. konsulaty zrealizowały łącznie 1,4 tys. czynności proceduralnych. Struktura rozstrzygnięć prezentuje się następująco: Zezwolenia wydane: Wydano łącznie 1,4 tys. zezwoleń MRG, co stanowi aż 99,8% wszystkich podjętych działań. Odmowy wydania: Odnotowano znikomy odsetek negatywnych rozstrzygnięć – wydano zaledwie 2 decyzje odmowne (0,2% ogółu spraw). Obie decyzje zapadły w konsulacie we Lwowie. Rozkład terytorialny: Obsługa ruchu koncentruje się w dwóch działających placówkach: * Lwów: W placówce tej wydano 1,1 tys. dokumentów, co stanowi 83% całkowitego wolumenu pozytywnych rozstrzygnięć. Konsulat ten obsłużył także wszystkie odnotowane odmowy (2) oraz unieważnienie (1). * Łuck: Odpowiada za wydanie 0,2 tys. zezwoleń, co stanowi 17% ogólnej liczby wydanych dokumentów. Marginalna liczba odmów i unieważnień w skali roku przy jednoczesnej dominacji placówki we Lwowie wskazuje na ugruntowaną i bezpieczną procedurę obsługi beneficjentów MRG w tym regionie.
A274: Ochrona międzynarodowa
A276: VI. Przyjęte wnioski o udzielenie ochrony międzynarodowej w RP:
C279: Obywatelstwo | G279: =CONCATENATE(Arkusz18!A2," - ",Arkusz18!B2," r.") -> 01.08.2026 - 31.08.2026 r.
G280: PIERWSZE | K280: KOLEJNE | O280: WZNOWIENIA* | S280: SUMA
G281: Wnioski | I281: Osoby | K281: Wnioski | M281: Osoby | O281: Wnioski | Q281: Osoby | S281: Wnioski | U281: Osoby
C282: =Arkusz2!B2 -> UKRAINA | G282: =Arkusz2!F2 -> 103 | I282: =Arkusz2!F8 -> 119 | K282: =SUM(Arkusz2!F14,-G282) -> 20 | M282: =SUM(Arkusz2!F20,-I282) -> 26 | O282: =Arkusz2!F26 -> 1 | Q282: =Arkusz2!F32 -> 1 | S282: =SUM(Arkusz2!F14,O282) -> 124 | U282: =SUM(Arkusz2!F20,Q282) -> 146
C283: =Arkusz2!B3 -> BIAŁORUŚ | G283: =Arkusz2!F3 -> 70 | I283: =Arkusz2!F9 -> 79 | K283: =SUM(Arkusz2!F15,-G283) -> 6 | M283: =SUM(Arkusz2!F21,-I283) -> 7 | O283: =Arkusz2!F27 -> 3 | Q283: =Arkusz2!F33 -> 3 | S283: =SUM(Arkusz2!F15,O283) -> 79 | U283: =SUM(Arkusz2!F21,Q283) -> 89
C284: =Arkusz2!B4 -> ROSJA | G284: =Arkusz2!F4 -> 14 | I284: =Arkusz2!F10 -> 15 | K284: =SUM(Arkusz2!F16,-G284) -> 11 | M284: =SUM(Arkusz2!F22,-I284) -> 18 | O284: =Arkusz2!F28 -> 1 | Q284: =Arkusz2!F34 -> 1 | S284: =SUM(Arkusz2!F16,O284) -> 26 | U284: =SUM(Arkusz2!F22,Q284) -> 34
C285: =Arkusz2!B5 -> NIGERIA | G285: =Arkusz2!F5 -> 5 | I285: =Arkusz2!F11 -> 5 | K285: =SUM(Arkusz2!F17,-G285) -> 0 | M285: =SUM(Arkusz2!F23,-I285) -> 1 | O285: =Arkusz2!F29 -> 0 | Q285: =Arkusz2!F35 -> 0 | S285: =SUM(Arkusz2!F17,O285) -> 5 | U285: =SUM(Arkusz2!F23,Q285) -> 6
C286: =Arkusz2!B6 -> KAMERUN | G286: =Arkusz2!F6 -> 6 | I286: =Arkusz2!F12 -> 6 | K286: =SUM(Arkusz2!F18,-G286) -> 0 | M286: =SUM(Arkusz2!F24,-I286) -> 0 | O286: =Arkusz2!F30 -> 0 | Q286: =Arkusz2!F36 -> 0 | S286: =SUM(Arkusz2!F18,O286) -> 6 | U286: =SUM(Arkusz2!F24,Q286) -> 6
C287: =Arkusz2!B7 -> Pozostałe | G287: =Arkusz2!F7 -> 57 | I287: =Arkusz2!F13 -> 66 | K287: =SUM(Arkusz2!F19,-G287) -> 14 | M287: =SUM(Arkusz2!F25,-I287) -> 16 | O287: =Arkusz2!F31 -> 3 | Q287: =Arkusz2!F37 -> 3 | S287: =SUM(Arkusz2!F19,O287) -> 74 | U287: =SUM(Arkusz2!F25,Q287) -> 85
C288: Razem | G288: =SUM(G282:G287) -> 255 | I288: =SUM(I282:I287) -> 290 | K288: =SUM(K282:K287) -> 51 | M288: =SUM(M282:M287) -> 68 | O288: =SUM(O282:O287) -> 8 | Q288: =SUM(Q282:Q287) -> 8 | S288: =SUM(S282:S287) -> 314 | U288: =SUM(U282:U287) -> 366
C311: Obywatelstwo | G311: =CONCATENATE(Arkusz18!C2," - ",Arkusz18!B2," r.") -> 01.01.2026 - 31.08.2026 r.
...

Sheet Arkusz15
A1: Lp | B1: Czynnosc | C1: Liczba
A2: 1 | B2: wpis | C2: 243
A3: 2 | B3: wpis SIS | C3: 52
A4: 3 | B4: wykreślenie | C4: 26
A5: 4 | B5: korekta wpisów | C5: 97
A6: 5 | B6: odmowa wpisu | C6: 0
A7: 6 | B7: zawieszenie wpisów | C7: 0
A8: 7 | B8: wykreślenie SIS | C8: 0
A9: 8 | B9: wnioski cudz. | C9: 0
A10: 9 | B10: konsultacje | C10: 0
A11: 10 | B11: telegramy | C11: 0
A12: 11 | B12: alerty pobytowe | C12: 0

Sheet Arkusz1
A1: Lp | B1: Wnioskujacy | C1: Wnioski | D1: Decyzje
A2: 1 | B2: Inne_panstwo | C2: 0 | D2: 0
A3: 2 | B3: Konsul_RP | C3: 0 | D3: 0
A4: 3 | B4: fakultatywne | C4: 0 | D4: 0

Sheet Arkusz2
A1: Lp | B1: Obywatelstwo_pl | C1: Grupa | D1: Typ | E1: Lp_typ | F1: Liczba | G1: Lp_grupa
A2: 1 | B2: UKRAINA | C2: PIERWSZE | D2: Wnioski | E2: 1 | F2: 103 | G2: 1
A3: 2 | B3: BIAŁORUŚ | C3: PIERWSZE | D3: Wnioski | E3: 1 | F3: 70 | G3: 1
A4: 3 | B4: ROSJA | C4: PIERWSZE | D4: Wnioski | E4: 1 | F4: 14 | G4: 1
A5: 4 | B5: NIGERIA | C5: PIERWSZE | D5: Wnioski | E5: 1 | F5: 5 | G5: 1
A6: 5 | B6: KAMERUN | C6: PIERWSZE | D6: Wnioski | E6: 1 | F6: 6 | G6: 1
A7: 6 | B7: Pozostałe | C7: PIERWSZE | D7: Wnioski | E7: 1 | F7: 57 | G7: 1
A8: 1 | B8: UKRAINA | C8: PIERWSZE | D8: Osoby | E8: 2 | F8: 119 | G8: 1
A9: 2 | B9: BIAŁORUŚ | C9: PIERWSZE | D9: Osoby | E9: 2 | F9: 79 | G9: 1
A10: 3 | B10: ROSJA | C10: PIERWSZE | D10: Osoby | E10: 2 | F10: 15 | G10: 1
A11: 4 | B11: NIGERIA | C11: PIERWSZE | D11: Osoby | E11: 2 | F11: 5 | G11: 1
A12: 5 | B12: KAMERUN | C12: PIERWSZE | D12: Osoby | E12: 2 | F12: 6 | G12: 1
A13: 6 | B13: Pozostałe | C13: PIERWSZE | D13: Osoby | E13: 2 | F13: 66 | G13: 1
... A37: 6 | B37: Pozostałe | C37: WZNOWIENIA* | D37: Osoby | E37: 2 | F37: 3 | G37: 3

Sheet Arkusz3
A1: Lp | B1: Obywatelstwo_pl | C1: Grupa | D1: Typ | E1: Lp_typ | F1: Liczba | G1: Lp_grupa
A2: 1 | B2: UKRAINA | C2: PIERWSZE | D2: Wnioski | E2: 1 | F2: 1055 | G2: 1
A3: 2 | B3: BIAŁORUŚ | C3: PIERWSZE | D3: Wnioski | E3: 1 | F3: 898 | G3: 1
A4: 3 | B4: ROSJA | C4: PIERWSZE | D4: Wnioski | E4: 1 | F4: 104 | G4: 1
A5: 4 | B5: TADŻYKISTAN | C5: PIERWSZE | D5: Wnioski | E5: 1 | F5: 36 | G5: 1
A6: 5 | B6: AFGANISTAN | C6: PIERWSZE | D6: Wnioski | E6: 1 | F6: 36 | G6: 1
A7: 6 | B7: Pozostałe | C7: PIERWSZE | D7: Wnioski | E7: 1 | F7: 610 | G7: 1
A8: 1 | B8: UKRAINA | C8: PIERWSZE | D8: Osoby | E8: 2 | F8: 1268 | G8: 1
A9: 2 | B9: BIAŁORUŚ | C9: PIERWSZE | D9: Osoby | E9: 2 | F9: 1092 | G9: 1
A10: 3 | B10: ROSJA | C10: PIERWSZE | D10: Osoby | E10: 2 | F10: 122 | G10: 1
A11: 4 | B11: TADŻYKISTAN | C11: PIERWSZE | D11: Osoby | E11: 2 | F11: 47 | G11: 1
A12: 5 | B12: AFGANISTAN | C12: PIERWSZE | D12: Osoby | E12: 2 | F12: 40 | G12: 1
A13: 6 | B13: Pozostałe | C13: PIERWSZE | D13: Osoby | E13: 2 | F13: 673 | G13: 1
... A37: 6 | B37: Pozostałe | C37: WZNOWIENIA* | D37: Osoby | E37: 2 | F37: 48 | G37: 3

Sheet Arkusz4
A1: Lp | B1: Obywatelstwo | C1: Wniosek IN | D1: Decyzje pozytywne | E1: Transfer
A2: 1 | B2: NIEMCY | C2: 374 | D2: 323 | E2: 60
A3: 2 | B3: FRANCJA | C3: 185 | D3: 133 | E3: 15
A4: 3 | B4: BELGIA | C4: 65 | D4: 53 | E4: 9
A5: 4 | B5: NIDERLANDY | C5: 41 | D5: 36 | E5: 7
A6: 5 | B6: WŁOCHY | C6: 41 | D6: 29 | E6: 0
A7: 6 | B7: Pozostałe | C7: 236 | D7: 158 | E7: 74

Sheet Arkusz5
A1: Lp | B1: Obywatelstwo | C1: Wniosek OUT | D1: Decyzje pozytywne | E1: Transfer
A2: 1 | B2: NIEMCY | C2: 32 | D2: 26 | E2: 13
A3: 2 | B3: CHORWACJA | C3: 24 | D3: 17 | E3: 7
A4: 3 | B4: HISZPANIA | C4: 16 | D4: 20 | E4: 5
A5: 4 | B5: ŁOTWA | C5: 16 | D5: 16 | E5: 17
A6: 5 | B6: FRANCJA | C6: 12 | D6: 10 | E6: 5
A7: 6 | B7: Pozostałe | C7: 79 | D7: 79 | E7: 32

Sheet Arkusz18
A1: Kolumna1 | B1: Kolumna2 | C1: Kolumna3
A2: 01.08.2026 | B2: 31.08.2026 | C2: 01.01.2026

Sheet Arkusz16
A1: Liczba | B1: Placowka | C1: Opis | D1: Lp
A2: 0 | B2: Kaliningrad | C2: Zezwolenia wydane | D2: 1
A3: 0 | B3: Kaliningrad | C3: Odmowy wydania | D3: 2
A4: 0 | B4: Kaliningrad | C4: Zezwolenia cofnięte | D4: 3
A5: 0 | B5: Kaliningrad | C5: Zezwolenia unieważnione | D5: 4
A6: 110 | B6: Lwów | C6: Zezwolenia wydane | D6: 1
A7: 0 | B7: Lwów | C7: Odmowy wydania | D7: 2
A8: 0 | B8: Lwów | C8: Zezwolenia cofnięte | D8: 3
A9: 0 | B9: Lwów | C9: Zezwolenia unieważnione | D9: 4
A10: 31 | B10: Łuck | C10: Zezwolenia wydane | D10: 1
A11: 0 | B11: Łuck | C11: Odmowy wydania | D11: 2
A12: 0 | B12: Łuck | C12: Zezwolenia cofnięte | D12: 3
A13: 0 | B13: Łuck | C13: Zezwolenia unieważnione | D13: 4

Sheet Arkusz17
A1: Liczba | B1: Placowka | C1: Opis | D1: Lp
A2: 0 | B2: Kaliningrad | C2: Zezwolenia wydane | D2: 1
A3: 0 | B3: Kaliningrad | C3: Odmowy wydania | D3: 2
A4: 0 | B4: Kaliningrad | C4: Zezwolenia cofnięte | D4: 3
A5: 0 | B5: Kaliningrad | C5: Zezwolenia unieważnione | D5: 4
A6: 1138 | B6: Lwów | C6: Zezwolenia wydane | D6: 1
A7: 2 | B7: Lwów | C7: Odmowy wydania | D7: 2
A8: 0 | B8: Lwów | C8: Zezwolenia cofnięte | D8: 3
A9: 1 | B9: Lwów | C9: Zezwolenia unieważnione | D9: 4
A10: 231 | B10: Łuck | C10: Zezwolenia wydane | D10: 1
A11: 0 | B11: Łuck | C11: Odmowy wydania | D11: 2
A12: 0 | B12: Łuck | C12: Zezwolenia cofnięte | D12: 3
A13: 0 | B13: Łuck | C13: Zezwolenia unieważnione | D13: 4

Sheet Arkusz6
A1: Lp | B1: Nazwa_kraju | C1: Status uchodźcy | D1: Ochrona uzupełniająca | E1: Pobyt tolerowany | F1: Negatywna | G1: Umorzenie
A2: 1 | B2: UKRAINA | C2: 0 | D2: 33 | E2: 0 | F2: 280 | G2: 16
A3: 2 | B3: BIAŁORUŚ | C3: 35 | D3: 1 | E3: 0 | F3: 49 | G3: 17
A4: 3 | B4: ROSJA | C4: 5 | D4: 0 | E4: 0 | F4: 25 | G4: 0
A5: 4 | B5: KOLUMBIA | C5: 0 | D5: 0 | E5: 0 | F5: 16 | G5: 2
A6: 5 | B6: DEMOKRATYCZNA REPUBLIKA KONGA | C6: 0 | D6: 1 | E6: 0 | F6: 0 | G6: 6
A7: 6 | B7: Pozostałe | C7: 17 | D7: 4 | E7: 0 | F7: 51 | G7: 29

Sheet Arkusz7
A1: Lp | B1: Nazwa_kraju | C1: Status uchodźcy | D1: Ochrona uzupełniająca | E1: Pobyt tolerowany | F1: Negatywna | G1: Umorzenie
A2: 1 | B2: UKRAINA | C2: 1 | D2: 176 | E2: 0 | F2: 2951 | G2: 347
A3: 2 | B3: BIAŁORUŚ | C3: 283 | D3: 377 | E3: 0 | F3: 214 | G3: 138
A4: 3 | B4: ROSJA | C4: 18 | D4: 15 | E4: 0 | F4: 231 | G4: 73
A5: 4 | B5: TADŻYKISTAN | C5: 8 | D5: 14 | E5: 0 | F5: 34 | G5: 81
A6: 5 | B6: AFGANISTAN | C6: 19 | D6: 0 | E6: 0 | F6: 48 | G6: 49
A7: 6 | B7: Pozostałe | C7: 67 | D7: 44 | E7: 0 | F7: 386 | G7: 453

Sheet Arkusz8
A1: Ilosc | B1: Cudzoziemcy | C1: Tydzien
A2: 712 | B2: przebywający w ośrodku | C2: 25.08.2026 - 31.08.2026
A3: 715 | B3: przebywający w ośrodku | C3: 18.08.2026 - 24.08.2026
A4: 730 | B4: przebywający w ośrodku | C4: 11.08.2026 - 17.08.2026
A5: 736 | B5: przebywający w ośrodku | C5: 04.08.2026 - 10.08.2026
A6: 737 | B6: przebywający w ośrodku | C6: 28.07.2026 - 03.08.2026
A7: 5797 | B7: świadczenia poza ośrodkiem | C7: 25.08.2026 - 31.08.2026
A8: 5811 | B8: świadczenia poza ośrodkiem | C8: 18.08.2026 - 24.08.2026
A9: 5826 | B9: świadczenia poza ośrodkiem | C9: 11.08.2026 - 17.08.2026
A10: 5849 | B10: świadczenia poza ośrodkiem | C10: 04.08.2026 - 10.08.2026
A11: 5833 | B11: świadczenia poza ośrodkiem | C11: 28.07.2026 - 03.08.2026
A12: 79 | B12: opuścili ośrodek | C12: 25.08.2026 - 31.08.2026
A13: 93 | B13: opuścili ośrodek | C13: 18.08.2026 - 24.08.2026
... A26: 1 | B26: małoletni | C26: 28.07.2026 - 03.08.2026

Sheet Arkusz9
A1: Opis_rozstrzygniecia | B1: Liczba | C1: Opis
A2: NEGATYWNA | B2: 1987 | C2: pobyt czasowy
A3: POZYTYWNA | B3: 17517 | C3: pobyt czasowy
A4: UMORZENIE | B4: 1067 | C4: pobyt czasowy
A5: Wnioski | B5: 36500 | C5: pobyt czasowy
A6: NEGATYWNA | B6: 238 | C6: pobyt rezyd. UE
A7: POZYTYWNA | B7: 1291 | C7: pobyt rezyd. UE
A8: UMORZENIE | B8: 109 | C8: pobyt rezyd. UE
A9: Wnioski | B9: 2977 | C9: pobyt rezyd. UE
A10: NEGATYWNA | B10: 252 | C10: pobyt stały
A11: POZYTYWNA | B11: 947 | C11: pobyt stały
A12: UMORZENIE | B12: 69 | C12: pobyt stały
A13: Wnioski | B13: 907 | C13: pobyt stały

Sheet Arkusz10
A1: Liczba | B1: Opis | C1: Typ | D1: Lp
A2: 411 | B2: WNIOSEK O ZAREJESTROWANIE POBYTU OBYWATELA UE | C2: wnioski | D2: 1
A3: 337 | B3: WNIOSEK O ZAREJESTROWANIE POBYTU OBYWATELA UE | C3: wydane dokumenty | D3: 1
A4: 59 | B4: WNIOSEK O WYDANIE DOKUMENTU POTWIERDZAJĄCEGO PRAWO STAŁEGO POBYTU | C4: wnioski | D4: 2
A5: 58 | B5: WNIOSEK O WYDANIE DOKUMENTU POTWIERDZAJĄCEGO PRAWO STAŁEGO POBYTU | C5: wydane dokumenty | D5: 2
A6: 0 | B6: WNIOSEK O WYDANIE KARTY POBYTU CZŁONKA RODZINY OBYWATELA UE | C6: wnioski | D6: 3
A7: 0 | B7: WNIOSEK O WYDANIE KARTY POBYTU CZŁONKA RODZINY OBYWATELA UE | C7: wydane dokumenty | D7: 3
A8: 10 | B8: WNIOSEK O WYDANIE KARTY STAŁEGO POBYTU (CZŁONKA RODZINY OBYWATELA UE) | C8: wnioski | D8: 4
A9: 1 | B9: WNIOSEK O WYDANIE KARTY STAŁEGO POBYTU (CZŁONKA RODZINY OBYWATELA UE) | C9: wydane dokumenty | D9: 4

Sheet Arkusz11
A1: Opis_rozstrzygniecia | B1: Liczba | C1: Opis
A2: NEGATYWNA | B2: 16590 | C2: pobyt czasowy
A3: POZYTYWNA | B3: 172284 | C3: pobyt czasowy
A4: UMORZENIE | B4: 11119 | C4: pobyt czasowy
A5: Wnioski | B5: 492346 | C5: pobyt czasowy
A6: NEGATYWNA | B6: 1879 | C6: pobyt rezyd. UE
A7: POZYTYWNA | B7: 13138 | C7: pobyt rezyd. UE
A8: UMORZENIE | B8: 1336 | C8: pobyt rezyd. UE
A9: Wnioski | B9: 27057 | C9: pobyt rezyd. UE
A10: NEGATYWNA | B10: 1780 | C10: pobyt stały
A11: POZYTYWNA | B11: 9526 | C11: pobyt stały
A12: UMORZENIE | B12: 984 | C12: pobyt stały
A13: Wnioski | B13: 16291 | C13: pobyt stały

Sheet Arkusz12
A1: Liczba | B1: Opis | C1: Typ | D1: Lp
A2: 3612 | B2: WNIOSEK O ZAREJESTROWANIE POBYTU OBYWATELA UE | C2: wnioski | D2: 1
A3: 3025 | B3: WNIOSEK O ZAREJESTROWANIE POBYTU OBYWATELA UE | C3: wydane dokumenty | D3: 1
A4: 511 | B4: WNIOSEK O WYDANIE DOKUMENTU POTWIERDZAJĄCEGO PRAWO STAŁEGO POBYTU | C4: wnioski | D4: 2
A5: 417 | B5: WNIOSEK O WYDANIE DOKUMENTU POTWIERDZAJĄCEGO PRAWO STAŁEGO POBYTU | C5: wydane dokumenty | D5: 2
A6: 0 | B6: WNIOSEK O WYDANIE KARTY POBYTU CZŁONKA RODZINY OBYWATELA UE | C6: wnioski | D6: 3
A7: 3 | B7: WNIOSEK O WYDANIE KARTY POBYTU CZŁONKA RODZINY OBYWATELA UE | C7: wydane dokumenty | D7: 3
A8: 60 | B8: WNIOSEK O WYDANIE KARTY STAŁEGO POBYTU (CZŁONKA RODZINY OBYWATELA UE) | C8: wnioski | D8: 4
A9: 35 | B9: WNIOSEK O WYDANIE KARTY STAŁEGO POBYTU (CZŁONKA RODZINY OBYWATELA UE) | C9: wydane dokumenty | D9: 4

Sheet Arkusz13
A1: Lp | B1: Sprawa | C1: Liczba | D1: Opis | E1: Lp_opis
A2: 1 | B2: pobyt czasowy | C2: 11088 | D2: odwołanie | E2: 1
A3: 2 | B3: pobyt stały | C3: 921 | D3: odwołanie | E3: 1
A4: 3 | B4: pobyt rezydenta długoterminowego UE | C4: 1073 | D4: odwołanie | E4: 1
A5: 4 | B5: prawo pobytu ob. UE | C5: 25 | D5: odwołanie | E5: 1
A6: 5 | B6: prawo stałego pobytu obywatela UE | C6: 4 | D6: odwołanie | E6: 1
A7: 6 | B7: prawo pobytu członka rodziny ob. UE | C7: 7 | D7: odwołanie | E7: 1
A8: 7 | B8: prawo stałego pobytu członka rodziny ob. UE | C8: 3 | D8: odwołanie | E8: 1
A9: 8 | B9: pobyt tolerowany | C9: 1 | D9: odwołanie | E9: 1
A10: 9 | B10: pobyt humanitarny | C10: 14 | D10: odwołanie | E10: 1
A11: 10 | B11: wydalenie | C11: 5 | D11: odwołanie | E11: 1
A12: 11 | B12: zobowiązanie do powrotu | C12: 2969 | D12: odwołanie | E12: 1
A13: 12 | B13: cofnięcie zakazu wjazdu | C13: 0 | D13: odwołanie | E13: 1
... A145: 16 | B145: wiza (nowa + Schengen) | C145: 9 | D145: inne | E145: 9

Sheet Arkusz14
A1: Lp | B1: Liczba | C1: Sprawa | D1: Opis
A2: 1 | B2: 13 | C2: pob. stały dla członków rodzin repatrianta | D2: wnioski
A3: 2 | B3: 9 | C3: pob. stały dla członków rodzin repatrianta | D3: wydane zezwolenia
A4: 3 | B4: 1 | C4: pob. stały dla członków rodzin repatrianta | D4: inne decyzje
