{"text_format":"1","workbook":"xlsx","n_sheets":2,"sheets":["Porównanie dochodów JST","Wyszukiwarka"],"not_rendered":{"charts":0,"images":1,"macros":1,"external_links":1,"defined_names":11,"comments":0,"pivot_tables":0},"unopened":[],"bounds":{"document_bytes":16777216,"sheet_cells":100000,"rows_first":2000,"rows_last":500,"rows_between":2000,"halvings":0,"cell_chars":16384,"cell_head_chars":4096},"cells_cut":0,"cells_raw":0,"read":"whole","date_system":"1900"}

{"sheet":"Porównanie dochodów JST","index":0,"n_rows":2825,"n_cols":19,"rows_kept":2825,"cut":false,"hidden":true,"merged":[[13,6,14,6],[13,7,14,7],[13,8,14,8],[13,9,14,9],[13,0,14,0],[13,1,14,1],[13,2,14,2],[13,3,14,3],[13,4,14,4],[13,5,14,5]]}
[null,null,null,null,null,null,null,null,null,null,null,null,null,null,null,null,null,null,""]
[]
[null,null,null,null,null,null,null,null,"typJST",null,"RAZEM","RAZEM"]
[null,null,null,null,"G",null,null,null,"GMINA",null,99455983967,0]
[null,null,null,null,"G1",null,null,null,"gminy miejskie",null,20638887976,22301691957.333427]
["DO UKRYCIA ",null,null,null,"G2",null,null,null,"gminy wiejskie",null,45320520149,48556407188.797089]
[null,null,null,null,"G3",null,null,null,"gminy miejsko-wiejskie",null,33496575842,35794379374.188385]
[null,null,null,null,"M",null,null,null,"MIASTA NPP",null,77567754508,0]
[null,null,null,null,"P",null,null,null,"POWIATY",null,33523123466,0]
[null,null,null,null,"W",null,null,null,"WOJEWÓDZTWA",null,22678540387,0]
[null,null,null,null,null,null,null,null," R A Z E M",null,233225402328,0]
[null,null,null,null,null,null," / "," - "]
[]
["WK","PK","GK","GT","kodGUS (6)","typJST","Województwo ","Powiat ","Nazwa JST","Nazwa JST","2025 wg obowiązującej ustawy*","2025 wg projektu**"]
[null,null,null,null,null,null,null,null,null,null,"RAZEM","RAZEM"]
["02","01","01","1","020101","Gmina miejska","DOLNOŚLĄSKIE","bolesławiecki","BOLESŁAWIEC",{"$f":"I16&$H$12&F16&$G$12&$H$14&H16&$G$12&$G$14&$H$12&G16&$G$12&E16&$G$12","v":"BOLESŁAWIEC - Gmina miejska / Powiat bolesławiecki / Województwo  - DOLNOŚLĄSKIE / 020101 / "},120876243,139397806.24000001,{"$f":"ISNUMBER(SEARCH(Wyszukiwarka!$A$1,'Porównanie dochodów JST'!J16))","v":true},{"$f":"IF(M16,COUNTIF($M$16:M16,TRUE),\"\")","v":1},{"$f":"IFERROR(INDEX($J$16:$J$2822,MATCH(ROWS($J$16:J16),$N$16:$N$2822,0)),\"\")","v":"BOLESŁAWIEC - Gmina miejska / Powiat bolesławiecki / Województwo  - DOLNOŚLĄSKIE / 020101 / "},null,{"$f":"OFFSET(O16,0,0,MAX($N$16:$N$2822),1)","v":"BOLESŁAWIEC - Gmina miejska / Powiat bolesławiecki / Województwo  - DOLNOŚLĄSKIE / 020101 / "}]
["02","01","02","2","020102","Gmina wiejska","DOLNOŚLĄSKIE","bolesławiecki","BOLESŁAWIEC",{"$f":"I17&$H$12&F17&$G$12&$H$14&H17&$G$12&$G$14&$H$12&G17&$G$12&E17&$G$12","v":"BOLESŁAWIEC - Gmina wiejska / Powiat bolesławiecki / Województwo  - DOLNOŚLĄSKIE / 020102 / "},49040802,53919660,{"$f":"ISNUMBER(SEARCH(Wyszukiwarka!$A$1,'Porównanie dochodów JST'!J17))","v":false},{"$f":"IF(M17,COUNTIF($M$16:M17,TRUE),\"\")","v":""},{"$f":"IFERROR(INDEX($J$16:$J$2822,MATCH(ROWS($J$16:J17),$N$16:$N$2822,0)),\"\")","v":""}]
["02","01","03","2","020103","Gmina wiejska","DOLNOŚLĄSKIE","bolesławiecki","GROMADKA","GROMADKA - Gmina wiejska / Powiat bolesławiecki / Województwo  - DOLNOŚLĄSKIE / 020103 / ",13838266,15672786.658502746,{"$f":"ISNUMBER(SEARCH(Wyszukiwarka!$A$1,'Porównanie dochodów JST'!J18))","v":false},{"$f":"IF(M18,COUNTIF($M$16:M18,TRUE),\"\")","v":""},{"$f":"IFERROR(INDEX($J$16:$J$2822,MATCH(ROWS($J$16:J18),$N$16:$N$2822,0)),\"\")","v":""}]
["02","01","04","3","020104","Gmina miejsko-wiejska","DOLNOŚLĄSKIE","bolesławiecki","NOWOGRODZIEC","NOWOGRODZIEC - Gmina miejsko-wiejska / Powiat bolesławiecki / Województwo  - DOLNOŚLĄSKIE / 020104 / ",42310272,46127753,{"$f":"ISNUMBER(SEARCH(Wyszukiwarka!$A$1,'Porównanie dochodów JST'!J19))","v":false},{"$f":"IF(M19,COUNTIF($M$16:M19,TRUE),\"\")","v":""},{"$f":"IFERROR(INDEX($J$16:$J$2822,MATCH(ROWS($J$16:J19),$N$16:$N$2822,0)),\"\")","v":""}]
["02","01","05","2","020105","Gmina wiejska","DOLNOŚLĄSKIE","bolesławiecki","OSIECZNICA","OSIECZNICA - Gmina wiejska / Powiat bolesławiecki / Województwo  - DOLNOŚLĄSKIE / 020105 / ",25783872,28365646.523857366,{"$f":"ISNUMBER(SEARCH(Wyszukiwarka!$A$1,'Porównanie dochodów JST'!J20))","v":false},{"$f":"IF(M20,COUNTIF($M$16:M20,TRUE),\"\")","v":""},{"$f":"IFERROR(INDEX($J$16:$J$2822,MATCH(ROWS($J$16:J20),$N$16:$N$2822,0)),\"\")","v":""}]
["02","01","06","2","020106","Gmina wiejska","DOLNOŚLĄSKIE","bolesławiecki","WARTA BOLESŁAWIECKA","WARTA BOLESŁAWIECKA - Gmina wiejska / Powiat bolesławiecki / Województwo  - DOLNOŚLĄSKIE / 020106 / ",29700012,32997574,{"$f":"ISNUMBER(SEARCH(Wyszukiwarka!$A$1,'Porównanie dochodów JST'!J21))","v":false},{"$f":"IF(M21,COUNTIF($M$16:M21,TRUE),\"\")","v":""},{"$f":"IFERROR(INDEX($J$16:$J$2822,MATCH(ROWS($J$16:J21),$N$16:$N$2822,0)),\"\")","v":""}]
["02","02","01","1","020201","Gmina miejska","DOLNOŚLĄSKIE","dzierżoniowski","BIELAWA","BIELAWA - Gmina miejska / Powiat dzierżoniowski / Województwo  - DOLNOŚLĄSKIE / 020201 / ",96810255,103352175.51021451,{"$f":"ISNUMBER(SEARCH(Wyszukiwarka!$A$1,'Porównanie dochodów JST'!J22))","v":false},{"$f":"IF(M22,COUNTIF($M$16:M22,TRUE),\"\")","v":""},{"$f":"IFERROR(INDEX($J$16:$J$2822,MATCH(ROWS($J$16:J22),$N$16:$N$2822,0)),\"\")","v":""}]
["02","02","02","1","020202","Gmina miejska","DOLNOŚLĄSKIE","dzierżoniowski","DZIERŻONIÓW","DZIERŻONIÓW - Gmina miejska / Powiat dzierżoniowski / Województwo  - DOLNOŚLĄSKIE / 020202 / ",95661476,104412290.668,{"$f":"ISNUMBER(SEARCH(Wyszukiwarka!$A$1,'Porównanie dochodów JST'!J23))","v":false},{"$f":"IF(M23,COUNTIF($M$16:M23,TRUE),\"\")","v":""},{"$f":"IFERROR(INDEX($J$16:$J$2822,MATCH(ROWS($J$16:J23),$N$16:$N$2822,0)),\"\")","v":""}]
["02","02","03","3","020203","Gmina miejsko-wiejska","DOLNOŚLĄSKIE","dzierżoniowski","PIESZYCE","PIESZYCE - Gmina miejsko-wiejska / Powiat dzierżoniowski / Województwo  - DOLNOŚLĄSKIE / 020203 / ",29384821,32700486.738057971,{"$f":"ISNUMBER(SEARCH(Wyszukiwarka!$A$1,'Porównanie dochodów JST'!J24))","v":false},{"$f":"IF(M24,COUNTIF($M$16:M24,TRUE),\"\")","v":""},{"$f":"IFERROR(INDEX($J$16:$J$2822,MATCH(ROWS($J$16:J24),$N$16:$N$2822,0)),\"\")","v":""}]
["02","02","04","1","020204","Gmina miejska","DOLNOŚLĄSKIE","dzierżoniowski","PIŁAWA GÓRNA","PIŁAWA GÓRNA - Gmina miejska / Powiat dzierżoniowski / Województwo  - DOLNOŚLĄSKIE / 020204 / ",17650777,19666696.706596743,{"$f":"ISNUMBER(SEARCH(Wyszukiwarka!$A$1,'Porównanie dochodów JST'!J25))","v":false},{"$f":"IF(M25,COUNTIF($M$16:M25,TRUE),\"\")","v":""},{"$f":"IFERROR(INDEX($J$16:$J$2822,MATCH(ROWS($J$16:J25),$N$16:$N$2822,0)),\"\")","v":""}]
["02","02","05","2","020205","Gmina wiejska","DOLNOŚLĄSKIE","dzierżoniowski","DZIERŻONIÓW","DZIERŻONIÓW - Gmina wiejska / Powiat dzierżoniowski / Województwo  - DOLNOŚLĄSKIE / 020205 / ",29396236,32782294.897600003,{"$f":"ISNUMBER(SEARCH(Wyszukiwarka!$A$1,'Porównanie dochodów JST'!J26))","v":false},{"$f":"IF(M26,COUNTIF($M$16:M26,TRUE),\"\")","v":""},{"$f":"IFERROR(INDEX($J$16:$J$2822,MATCH(ROWS($J$16:J26),$N$16:$N$2822,0)),\"\")","v":""}]
["02","02","06","2","020206","Gmina wiejska","DOLNOŚLĄSKIE","dzierżoniowski","ŁAGIEWNIKI","ŁAGIEWNIKI - Gmina wiejska / Powiat dzierżoniowski / Województwo  - DOLNOŚLĄSKIE / 020206 / ",27686760,30386504.901455976,{"$f":"ISNUMBER(SEARCH(Wyszukiwarka!$A$1,'Porównanie dochodów JST'!J27))","v":false},{"$f":"IF(M27,COUNTIF($M$16:M27,TRUE),\"\")","v":""},{"$f":"IFERROR(INDEX($J$16:$J$2822,MATCH(ROWS($J$16:J27),$N$16:$N$2822,0)),\"\")","v":""}]
["02","02","07","3","020207","Gmina miejsko-wiejska","DOLNOŚLĄSKIE","dzierżoniowski","NIEMCZA","NIEMCZA - Gmina miejsko-wiejska / Powiat dzierżoniowski / Województwo  - DOLNOŚLĄSKIE / 020207 / ",17507022,19502284,{"$f":"ISNUMBER(SEARCH(Wyszukiwarka!$A$1,'Porównanie dochodów JST'!J28))","v":false},{"$f":"IF(M28,COUNTIF($M$16:M28,TRUE),\"\")","v":""},{"$f":"IFERROR(INDEX($J$16:$J$2822,MATCH(ROWS($J$16:J28),$N$16:$N$2822,0)),\"\")","v":""}]
["02","03","01","1","020301","Gmina miejska","DOLNOŚLĄSKIE","głogowski","GŁOGÓW","GŁOGÓW - Gmina miejska / Powiat głogowski / Województwo  - DOLNOŚLĄSKIE / 020301 / ",227941989,250864801.51275137,{"$f":"ISNUMBER(SEARCH(Wyszukiwarka!$A$1,'Porównanie dochodów JST'!J29))","v":false},{"$f":"IF(M29,COUNTIF($M$16:M29,TRUE),\"\")","v":""},{"$f":"IFERROR(INDEX($J$16:$J$2822,MATCH(ROWS($J$16:J29),$N$16:$N$2822,0)),\"\")","v":""}]
["02","03","02","2","020302","Gmina wiejska","DOLNOŚLĄSKIE","głogowski","GŁOGÓW","GŁOGÓW - Gmina wiejska / Powiat głogowski / Województwo  - DOLNOŚLĄSKIE / 020302 / ",26678852,29544622.661761615,{"$f":"ISNUMBER(SEARCH(Wyszukiwarka!$A$1,'Porównanie dochodów JST'!J30))","v":false},{"$f":"IF(M30,COUNTIF($M$16:M30,TRUE),\"\")","v":""},{"$f":"IFERROR(INDEX($J$16:$J$2822,MATCH(ROWS($J$16:J30),$N$16:$N$2822,0)),\"\")","v":""}]
["02","03","03","2","020303","Gmina wiejska","DOLNOŚLĄSKIE","głogowski","JERZMANOWA","JERZMANOWA - Gmina wiejska / Powiat głogowski / Województwo  - DOLNOŚLĄSKIE / 020303 / ",20007561,22410611,{"$f":"ISNUMBER(SEARCH(Wyszukiwarka!$A$1,'Porównanie dochodów JST'!J31))","v":false},{"$f":"IF(M31,COUNTIF($M$16:M31,TRUE),\"\")","v":""},{"$f":"IFERROR(INDEX($J$16:$J$2822,MATCH(ROWS($J$16:J31),$N$16:$N$2822,0)),\"\")","v":""}]
["02","03","04","2","020304","Gmina wiejska","DOLNOŚLĄSKIE","głogowski","KOTLA","KOTLA - Gmina wiejska / Powiat głogowski / Województwo  - DOLNOŚLĄSKIE / 020304 / ",16270446,18228034,{"$f":"ISNUMBER(SEARCH(Wyszukiwarka!$A$1,'Porównanie dochodów JST'!J32))","v":false},{"$f":"IF(M32,COUNTIF($M$16:M32,TRUE),\"\")","v":""},{"$f":"IFERROR(INDEX($J$16:$J$2822,MATCH(ROWS($J$16:J32),$N$16:$N$2822,0)),\"\")","v":""}]
["02","03","05","2","020305","Gmina wiejska","DOLNOŚLĄSKIE","głogowski","PĘCŁAW","PĘCŁAW - Gmina wiejska / Powiat głogowski / Województwo  - DOLNOŚLĄSKIE / 020305 / ",8316158,9381905.5,{"$f":"ISNUMBER(SEARCH(Wyszukiwarka!$A$1,'Porównanie dochodów JST'!J33))","v":false},{"$f":"IF(M33,COUNTIF($M$16:M33,TRUE),\"\")","v":""},{"$f":"IFERROR(INDEX($J$16:$J$2822,MATCH(ROWS($J$16:J33),$N$16:$N$2822,0)),\"\")","v":""}]
["02","03","06","2","020306","Gmina wiejska","DOLNOŚLĄSKIE","głogowski","ŻUKOWICE","ŻUKOWICE - Gmina wiejska / Powiat głogowski / Województwo  - DOLNOŚLĄSKIE / 020306 / ",11507539,12729929,{"$f":"ISNUMBER(SEARCH(Wyszukiwarka!$A$1,'Porównanie dochodów JST'!J34))","v":false},{"$f":"IF(M34,COUNTIF($M$16:M34,TRUE),\"\")","v":""},{"$f":"IFERROR(INDEX($J$16:$J$2822,MATCH(ROWS($J$16:J34),$N$16:$N$2822,0)),\"\")","v":""}]
["02","04","01","3","020401","Gmina miejsko-wiejska","DOLNOŚLĄSKIE","górowski","GÓRA","GÓRA - Gmina miejsko-wiejska / Powiat górowski / Województwo  - DOLNOŚLĄSKIE / 020401 / ",60531858,66656269.468738884,{"$f":"ISNUMBER(SEARCH(Wyszukiwarka!$A$1,'Porównanie dochodów JST'!J35))","v":false},{"$f":"IF(M35,COUNTIF($M$16:M35,TRUE),\"\")","v":""},{"$f":"IFERROR(INDEX($J$16:$J$2822,MATCH(ROWS($J$16:J35),$N$16:$N$2822,0)),\"\")","v":""}]
["02","04","02","2","020402","Gmina wiejska","DOLNOŚLĄSKIE","górowski","JEMIELNO","JEMIELNO - Gmina wiejska / Powiat górowski / Województwo  - DOLNOŚLĄSKIE / 020402 / ",10848130,12191632.879999999,{"$f":"ISNUMBER(SEARCH(Wyszukiwarka!$A$1,'Porównanie dochodów JST'!J36))","v":false},{"$f":"IF(M36,COUNTIF($M$16:M36,TRUE),\"\")","v":""},{"$f":"IFERROR(INDEX($J$16:$J$2822,MATCH(ROWS($J$16:J36),$N$16:$N$2822,0)),\"\")","v":""}]
["02","04","03","2","020403","Gmina wiejska","DOLNOŚLĄSKIE","górowski","NIECHLÓW","NIECHLÓW - Gmina wiejska / Powiat górowski / Województwo  - DOLNOŚLĄSKIE / 020403 / ",15934079,17882973.826350428,{"$f":"ISNUMBER(SEARCH(Wyszukiwarka!$A$1,'Porównanie dochodów JST'!J37))","v":false},{"$f":"IF(M37,COUNTIF($M$16:M37,TRUE),\"\")","v":""},{"$f":"IFERROR(INDEX($J$16:$J$2822,MATCH(ROWS($J$16:J37),$N$16:$N$2822,0)),\"\")","v":""}]
["02","04","04","3","020404","Gmina miejsko-wiejska","DOLNOŚLĄSKIE","górowski","WĄSOSZ","WĄSOSZ - Gmina miejsko-wiejska / Powiat górowski / Województwo  - DOLNOŚLĄSKIE / 020404 / ",22403037,25084717,{"$f":"ISNUMBER(SEARCH(Wyszukiwarka!$A$1,'Porównanie dochodów JST'!J38))","v":false},{"$f":"IF(M38,COUNTIF($M$16:M38,TRUE),\"\")","v":""},{"$f":"IFERROR(INDEX($J$16:$J$2822,MATCH(ROWS($J$16:J38),$N$16:$N$2822,0)),\"\")","v":""}]
["02","05","01","1","020501","Gmina miejska","DOLNOŚLĄSKIE","jaworski","JAWOR","JAWOR - Gmina miejska / Powiat jaworski / Województwo  - DOLNOŚLĄSKIE / 020501 / ",61655216,71456117.600000009,{"$f":"ISNUMBER(SEARCH(Wyszukiwarka!$A$1,'Porównanie dochodów JST'!J39))","v":false},{"$f":"IF(M39,COUNTIF($M$16:M39,TRUE),\"\")","v":""},{"$f":"IFERROR(INDEX($J$16:$J$2822,MATCH(ROWS($J$16:J39),$N$16:$N$2822,0)),\"\")","v":""}]
["02","05","02","3","020502","Gmina miejsko-wiejska","DOLNOŚLĄSKIE","jaworski","BOLKÓW","BOLKÓW - Gmina miejsko-wiejska / Powiat jaworski / Województwo  - DOLNOŚLĄSKIE / 020502 / ",32362821,35794700,{"$f":"ISNUMBER(SEARCH(Wyszukiwarka!$A$1,'Porównanie dochodów JST'!J40))","v":false},{"$f":"IF(M40,COUNTIF($M$16:M40,TRUE),\"\")","v":""},{"$f":"IFERROR(INDEX($J$16:$J$2822,MATCH(ROWS($J$16:J40),$N$16:$N$2822,0)),\"\")","v":""}]
["02","05","03","2","020503","Gmina wiejska","DOLNOŚLĄSKIE","jaworski","MĘCINKA","MĘCINKA - Gmina wiejska / Powiat jaworski / Województwo  - DOLNOŚLĄSKIE / 020503 / ",15235429,17105541.547879063,{"$f":"ISNUMBER(SEARCH(Wyszukiwarka!$A$1,'Porównanie dochodów JST'!J41))","v":false},{"$f":"IF(M41,COUNTIF($M$16:M41,TRUE),\"\")","v":""},{"$f":"IFERROR(INDEX($J$16:$J$2822,MATCH(ROWS($J$16:J41),$N$16:$N$2822,0)),\"\")","v":""}]
["02","05","04","2","020504","Gmina wiejska","DOLNOŚLĄSKIE","jaworski","MŚCIWOJÓW","MŚCIWOJÓW - Gmina wiejska / Powiat jaworski / Województwo  - DOLNOŚLĄSKIE / 020504 / ",13043403,14423655.886377115,{"$f":"ISNUMBER(SEARCH(Wyszukiwarka!$A$1,'Porównanie dochodów JST'!J42))","v":false},{"$f":"IF(M42,COUNTIF($M$16:M42,TRUE),\"\")","v":""},{"$f":"IFERROR(INDEX($J$16:$J$2822,MATCH(ROWS($J$16:J42),$N$16:$N$2822,0)),\"\")","v":""}]
["02","05","05","2","020505","Gmina wiejska","DOLNOŚLĄSKIE","jaworski","PASZOWICE","PASZOWICE - Gmina wiejska / Powiat jaworski / Województwo  - DOLNOŚLĄSKIE / 020505 / ",15026579,16949770,{"$f":"ISNUMBER(SEARCH(Wyszukiwarka!$A$1,'Porównanie dochodów JST'!J43))","v":false},{"$f":"IF(M43,COUNTIF($M$16:M43,TRUE),\"\")","v":""},{"$f":"IFERROR(INDEX($J$16:$J$2822,MATCH(ROWS($J$16:J43),$N$16:$N$2822,0)),\"\")","v":""}]
["02","05","06","2","020506","Gmina wiejska","DOLNOŚLĄSKIE","jaworski","WĄDROŻE WIELKIE","WĄDROŻE WIELKIE - Gmina wiejska / Powiat jaworski / Województwo  - DOLNOŚLĄSKIE / 020506 / ",13703660,15076803.990796363,{"$f":"ISNUMBER(SEARCH(Wyszukiwarka!$A$1,'Porównanie dochodów JST'!J44))","v":false},{"$f":"IF(M44,COUNTIF($M$16:M44,TRUE),\"\")","v":""},{"$f":"IFERROR(INDEX($J$16:$J$2822,MATCH(ROWS($J$16:J44),$N$16:$N$2822,0)),\"\")","v":""}]
["02","06","01","1","020601","Gmina miejska","DOLNOŚLĄSKIE","jeleniogórski","KARPACZ","KARPACZ - Gmina miejska / Powiat jeleniogórski / Województwo  - DOLNOŚLĄSKIE / 020601 / ",15247109,17306515.970013693,{"$f":"ISNUMBER(SEARCH(Wyszukiwarka!$A$1,'Porównanie dochodów JST'!J45))","v":false},{"$f":"IF(M45,COUNTIF($M$16:M45,TRUE),\"\")","v":""},{"$f":"IFERROR(INDEX($J$16:$J$2822,MATCH(ROWS($J$16:J45),$N$16:$N$2822,0)),\"\")","v":""}]
["02","06","02","1","020602","Gmina miejska","DOLNOŚLĄSKIE","jeleniogórski","KOWARY","KOWARY - Gmina miejska / Powiat jeleniogórski / Województwo  - DOLNOŚLĄSKIE / 020602 / ",28227738,31614070.885900006,{"$f":"ISNUMBER(SEARCH(Wyszukiwarka!$A$1,'Porównanie dochodów JST'!J46))","v":false},{"$f":"IF(M46,COUNTIF($M$16:M46,TRUE),\"\")","v":""},{"$f":"IFERROR(INDEX($J$16:$J$2822,MATCH(ROWS($J$16:J46),$N$16:$N$2822,0)),\"\")","v":""}]
["02","06","03","1","020603","Gmina miejska","DOLNOŚLĄSKIE","jeleniogórski","PIECHOWICE","PIECHOWICE - Gmina miejska / Powiat jeleniogórski / Województwo  - DOLNOŚLĄSKIE / 020603 / ",13953451,16114971.040000001,{"$f":"ISNUMBER(SEARCH(Wyszukiwarka!$A$1,'Porównanie dochodów JST'!J47))","v":false},{"$f":"IF(M47,COUNTIF($M$16:M47,TRUE),\"\")","v":""},{"$f":"IFERROR(INDEX($J$16:$J$2822,MATCH(ROWS($J$16:J47),$N$16:$N$2822,0)),\"\")","v":""}]
["02","06","04","1","020604","Gmina miejska","DOLNOŚLĄSKIE","jeleniogórski","SZKLARSKA PORĘBA","SZKLARSKA PORĘBA - Gmina miejska / Powiat jeleniogórski / Województwo  - DOLNOŚLĄSKIE / 020604 / ",15439993,18587590.855925053,{"$f":"ISNUMBER(SEARCH(Wyszukiwarka!$A$1,'Porównanie dochodów JST'!J48))","v":false},{"$f":"IF(M48,COUNTIF($M$16:M48,TRUE),\"\")","v":""},{"$f":"IFERROR(INDEX($J$16:$J$2822,MATCH(ROWS($J$16:J48),$N$16:$N$2822,0)),\"\")","v":""}]
["02","06","05","2","020605","Gmina wiejska","DOLNOŚLĄSKIE","jeleniogórski","JANOWICE WIELKIE","JANOWICE WIELKIE - Gmina wiejska / Powiat jeleniogórski / Województwo  - DOLNOŚLĄSKIE / 020605 / ",14211255,16067165.399999999,{"$f":"ISNUMBER(SEARCH(Wyszukiwarka!$A$1,'Porównanie dochodów JST'!J49))","v":false},{"$f":"IF(M49,COUNTIF($M$16:M49,TRUE),\"\")","v":""},{"$f":"IFERROR(INDEX($J$16:$J$2822,MATCH(ROWS($J$16:J49),$N$16:$N$2822,0)),\"\")","v":""}]
["02","06","06","2","020606","Gmina wiejska","DOLNOŚLĄSKIE","jeleniogórski","JEŻÓW SUDECKI","JEŻÓW SUDECKI - Gmina wiejska / Powiat jeleniogórski / Województwo  - DOLNOŚLĄSKIE / 020606 / ",27554556,30375761.796200003,{"$f":"ISNUMBER(SEARCH(Wyszukiwarka!$A$1,'Porównanie dochodów JST'!J50))","v":false},{"$f":"IF(M50,COUNTIF($M$16:M50,TRUE),\"\")","v":""},{"$f":"IFERROR(INDEX($J$16:$J$2822,MATCH(ROWS($J$16:J50),$N$16:$N$2822,0)),\"\")","v":""}]
["02","06","07","2","020607","Gmina wiejska","DOLNOŚLĄSKIE","jeleniogórski","MYSŁAKOWICE","MYSŁAKOWICE - Gmina wiejska / Powiat jeleniogórski / Województwo  - DOLNOŚLĄSKIE / 020607 / ",32548610,35943715.942534991,{"$f":"ISNUMBER(SEARCH(Wyszukiwarka!$A$1,'Porównanie dochodów JST'!J51))","v":false},{"$f":"IF(M51,COUNTIF($M$16:M51,TRUE),\"\")","v":""},{"$f":"IFERROR(INDEX($J$16:$J$2822,MATCH(ROWS($J$16:J51),$N$16:$N$2822,0)),\"\")","v":""}]
["02","06","08","2","020608","Gmina wiejska","DOLNOŚLĄSKIE","jeleniogórski","PODGÓRZYN","PODGÓRZYN - Gmina wiejska / Powiat jeleniogórski / Województwo  - DOLNOŚLĄSKIE / 020608 / ",29906829,33095721.5875028,{"$f":"ISNUMBER(SEARCH(Wyszukiwarka!$A$1,'Porównanie dochodów JST'!J52))","v":false},{"$f":"IF(M52,COUNTIF($M$16:M52,TRUE),\"\")","v":""},{"$f":"IFERROR(INDEX($J$16:$J$2822,MATCH(ROWS($J$16:J52),$N$16:$N$2822,0)),\"\")","v":""}]
["02","06","09","2","020609","Gmina wiejska","DOLNOŚLĄSKIE","jeleniogórski","STARA KAMIENICA","STARA KAMIENICA - Gmina wiejska / Powiat jeleniogórski / Województwo  - DOLNOŚLĄSKIE / 020609 / ",17092992,18924087.842054762,{"$f":"ISNUMBER(SEARCH(Wyszukiwarka!$A$1,'Porównanie dochodów JST'!J53))","v":false},{"$f":"IF(M53,COUNTIF($M$16:M53,TRUE),\"\")","v":""},{"$f":"IFERROR(INDEX($J$16:$J$2822,MATCH(ROWS($J$16:J53),$N$16:$N$2822,0)),\"\")","v":""}]
["02","07","01","1","020701","Gmina miejska","DOLNOŚLĄSKIE","kamiennogórski","KAMIENNA GÓRA","KAMIENNA GÓRA - Gmina miejska / Powiat kamiennogórski / Województwo  - DOLNOŚLĄSKIE / 020701 / ",54496470,59544601.606919058,{"$f":"ISNUMBER(SEARCH(Wyszukiwarka!$A$1,'Porównanie dochodów JST'!J54))","v":false},{"$f":"IF(M54,COUNTIF($M$16:M54,TRUE),\"\")","v":""},{"$f":"IFERROR(INDEX($J$16:$J$2822,MATCH(ROWS($J$16:J54),$N$16:$N$2822,0)),\"\")","v":""}]
["02","07","02","2","020702","Gmina wiejska","DOLNOŚLĄSKIE","kamiennogórski","KAMIENNA GÓRA","KAMIENNA GÓRA - Gmina wiejska / Powiat kamiennogórski / Województwo  - DOLNOŚLĄSKIE / 020702 / ",34962590,38349937.58150281,{"$f":"ISNUMBER(SEARCH(Wyszukiwarka!$A$1,'Porównanie dochodów JST'!J55))","v":false},{"$f":"IF(M55,COUNTIF($M$16:M55,TRUE),\"\")","v":""},{"$f":"IFERROR(INDEX($J$16:$J$2822,MATCH(ROWS($J$16:J55),$N$16:$N$2822,0)),\"\")","v":""}]
["02","07","03","3","020703","Gmina miejsko-wiejska","DOLNOŚLĄSKIE","kamiennogórski","LUBAWKA","LUBAWKA - Gmina miejsko-wiejska / Powiat kamiennogórski / Województwo  - DOLNOŚLĄSKIE / 020703 / ",33851520,37837182.851716116,{"$f":"ISNUMBER(SEARCH(Wyszukiwarka!$A$1,'Porównanie dochodów JST'!J56))","v":false},{"$f":"IF(M56,COUNTIF($M$16:M56,TRUE),\"\")","v":""},{"$f":"IFERROR(INDEX($J$16:$J$2822,MATCH(ROWS($J$16:J56),$N$16:$N$2822,0)),\"\")","v":""}]
["02","07","04","2","020704","Gmina wiejska","DOLNOŚLĄSKIE","kamiennogórski","MARCISZÓW","MARCISZÓW - Gmina wiejska / Powiat kamiennogórski / Województwo  - DOLNOŚLĄSKIE / 020704 / ",14545876,16464448.655312618,{"$f":"ISNUMBER(SEARCH(Wyszukiwarka!$A$1,'Porównanie dochodów JST'!J57))","v":false},{"$f":"IF(M57,COUNTIF($M$16:M57,TRUE),\"\")","v":""},{"$f":"IFERROR(INDEX($J$16:$J$2822,MATCH(ROWS($J$16:J57),$N$16:$N$2822,0)),\"\")","v":""}]
["02","08","01","1","020801","Gmina miejska","DOLNOŚLĄSKIE","kłodzki","DUSZNIKI-ZDRÓJ","DUSZNIKI-ZDRÓJ - Gmina miejska / Powiat kłodzki / Województwo  - DOLNOŚLĄSKIE / 020801 / ",14469025,16278980.300000001,{"$f":"ISNUMBER(SEARCH(Wyszukiwarka!$A$1,'Porównanie dochodów JST'!J58))","v":false},{"$f":"IF(M58,COUNTIF($M$16:M58,TRUE),\"\")","v":""},{"$f":"IFERROR(INDEX($J$16:$J$2822,MATCH(ROWS($J$16:J58),$N$16:$N$2822,0)),\"\")","v":""}]
["02","08","02","1","020802","Gmina miejska","DOLNOŚLĄSKIE","kłodzki","KŁODZKO","KŁODZKO - Gmina miejska / Powiat kłodzki / Województwo  - DOLNOŚLĄSKIE / 020802 / ",82323704,88122980.907767251,{"$f":"ISNUMBER(SEARCH(Wyszukiwarka!$A$1,'Porównanie dochodów JST'!J59))","v":false},{"$f":"IF(M59,COUNTIF($M$16:M59,TRUE),\"\")","v":""},{"$f":"IFERROR(INDEX($J$16:$J$2822,MATCH(ROWS($J$16:J59),$N$16:$N$2822,0)),\"\")","v":""}]
["02","08","03","1","020803","Gmina miejska","DOLNOŚLĄSKIE","kłodzki","KUDOWA-ZDRÓJ","KUDOWA-ZDRÓJ - Gmina miejska / Powiat kłodzki / Województwo  - DOLNOŚLĄSKIE / 020803 / ",30709970,34992968.480454072,{"$f":"ISNUMBER(SEARCH(Wyszukiwarka!$A$1,'Porównanie dochodów JST'!J60))","v":false},{"$f":"IF(M60,COUNTIF($M$16:M60,TRUE),\"\")","v":""},{"$f":"IFERROR(INDEX($J$16:$J$2822,MATCH(ROWS($J$16:J60),$N$16:$N$2822,0)),\"\")","v":""}]
["02","08","04","1","020804","Gmina miejska","DOLNOŚLĄSKIE","kłodzki","NOWA RUDA","NOWA RUDA - Gmina miejska / Powiat kłodzki / Województwo  - DOLNOŚLĄSKIE / 020804 / ",55975857,61590422.086900003,{"$f":"ISNUMBER(SEARCH(Wyszukiwarka!$A$1,'Porównanie dochodów JST'!J61))","v":false},{"$f":"IF(M61,COUNTIF($M$16:M61,TRUE),\"\")","v":""},{"$f":"IFERROR(INDEX($J$16:$J$2822,MATCH(ROWS($J$16:J61),$N$16:$N$2822,0)),\"\")","v":""}]
["02","08","05","1","020805","Gmina miejska","DOLNOŚLĄSKIE","kłodzki","POLANICA-ZDRÓJ","POLANICA-ZDRÓJ - Gmina miejska / Powiat kłodzki / Województwo  - DOLNOŚLĄSKIE / 020805 / ",19283782,22136175.039999999,{"$f":"ISNUMBER(SEARCH(Wyszukiwarka!$A$1,'Porównanie dochodów JST'!J62))","v":false},{"$f":"IF(M62,COUNTIF($M$16:M62,TRUE),\"\")","v":""},{"$f":"IFERROR(INDEX($J$16:$J$2822,MATCH(ROWS($J$16:J62),$N$16:$N$2822,0)),\"\")","v":""}]
["02","08","06","3","020806","Gmina miejsko-wiejska","DOLNOŚLĄSKIE","kłodzki","BYSTRZYCA KŁODZKA","BYSTRZYCA KŁODZKA - Gmina miejsko-wiejska / Powiat kłodzki / Województwo  - DOLNOŚLĄSKIE / 020806 / ",68189534,73402771.78175883,{"$f":"ISNUMBER(SEARCH(Wyszukiwarka!$A$1,'Porównanie dochodów JST'!J63))","v":false},{"$f":"IF(M63,COUNTIF($M$16:M63,TRUE),\"\")","v":""},{"$f":"IFERROR(INDEX($J$16:$J$2822,MATCH(ROWS($J$16:J63),$N$16:$N$2822,0)),\"\")","v":""}]
["02","08","07","2","020807","Gmina wiejska","DOLNOŚLĄSKIE","kłodzki","KŁODZKO","KŁODZKO - Gmina wiejska / Powiat kłodzki / Województwo  - DOLNOŚLĄSKIE / 020807 / ",59932586,65049595.599949777,{"$f":"ISNUMBER(SEARCH(Wyszukiwarka!$A$1,'Porównanie dochodów JST'!J64))","v":false},{"$f":"IF(M64,COUNTIF($M$16:M64,TRUE),\"\")","v":""},{"$f":"IFERROR(INDEX($J$16:$J$2822,MATCH(ROWS($J$16:J64),$N$16:$N$2822,0)),\"\")","v":""}]
["02","08","08","3","020808","Gmina miejsko-wiejska","DOLNOŚLĄSKIE","kłodzki","LĄDEK-ZDRÓJ","LĄDEK-ZDRÓJ - Gmina miejsko-wiejska / Powiat kłodzki / Województwo  - DOLNOŚLĄSKIE / 020808 / ",22818700,25547928.779300001,{"$f":"ISNUMBER(SEARCH(Wyszukiwarka!$A$1,'Porównanie dochodów JST'!J65))","v":false},{"$f":"IF(M65,COUNTIF($M$16:M65,TRUE),\"\")","v":""},{"$f":"IFERROR(INDEX($J$16:$J$2822,MATCH(ROWS($J$16:J65),$N$16:$N$2822,0)),\"\")","v":""}]
["02","08","09","2","020809","Gmina wiejska","DOLNOŚLĄSKIE","kłodzki","LEWIN KŁODZKI","LEWIN KŁODZKI - Gmina wiejska / Powiat kłodzki / Województwo  - DOLNOŚLĄSKIE / 020809 / ",8845686,9956404.5999999996,{"$f":"ISNUMBER(SEARCH(Wyszukiwarka!$A$1,'Porównanie dochodów JST'!J66))","v":false},{"$f":"IF(M66,COUNTIF($M$16:M66,TRUE),\"\")","v":""},{"$f":"IFERROR(INDEX($J$16:$J$2822,MATCH(ROWS($J$16:J66),$N$16:$N$2822,0)),\"\")","v":""}]
["02","08","10","3","020810","Gmina miejsko-wiejska","DOLNOŚLĄSKIE","kłodzki","MIĘDZYLESIE","MIĘDZYLESIE - Gmina miejsko-wiejska / Powiat kłodzki / Województwo  - DOLNOŚLĄSKIE / 020810 / ",25429818,28123211,{"$f":"ISNUMBER(SEARCH(Wyszukiwarka!$A$1,'Porównanie dochodów JST'!J67))","v":false},{"$f":"IF(M67,COUNTIF($M$16:M67,TRUE),\"\")","v":""},{"$f":"IFERROR(INDEX($J$16:$J$2822,MATCH(ROWS($J$16:J67),$N$16:$N$2822,0)),\"\")","v":""}]
["02","08","11","2","020811","Gmina wiejska","DOLNOŚLĄSKIE","kłodzki","NOWA RUDA","NOWA RUDA - Gmina wiejska / Powiat kłodzki / Województwo  - DOLNOŚLĄSKIE / 020811 / ",44774062,48790314.511002496,{"$f":"ISNUMBER(SEARCH(Wyszukiwarka!$A$1,'Porównanie dochodów JST'!J68))","v":false},{"$f":"IF(M68,COUNTIF($M$16:M68,TRUE),\"\")","v":""},{"$f":"IFERROR(INDEX($J$16:$J$2822,MATCH(ROWS($J$16:J68),$N$16:$N$2822,0)),\"\")","v":""}]
["02","08","12","3","020812","Gmina miejsko-wiejska","DOLNOŚLĄSKIE","kłodzki","RADKÓW","RADKÓW - Gmina miejsko-wiejska / Powiat kłodzki / Województwo  - DOLNOŚLĄSKIE / 020812 / ",28637123,31959338,{"$f":"ISNUMBER(SEARCH(Wyszukiwarka!$A$1,'Porównanie dochodów JST'!J69))","v":false},{"$f":"IF(M69,COUNTIF($M$16:M69,TRUE),\"\")","v":""},{"$f":"IFERROR(INDEX($J$16:$J$2822,MATCH(ROWS($J$16:J69),$N$16:$N$2822,0)),\"\")","v":""}]
["02","08","13","3","020813","Gmina miejsko-wiejska","DOLNOŚLĄSKIE","kłodzki","STRONIE ŚLĄSKIE","STRONIE ŚLĄSKIE - Gmina miejsko-wiejska / Powiat kłodzki / Województwo  - DOLNOŚLĄSKIE / 020813 / ",19152921,21796980.699999999,{"$f":"ISNUMBER(SEARCH(Wyszukiwarka!$A$1,'Porównanie dochodów JST'!J70))","v":false},{"$f":"IF(M70,COUNTIF($M$16:M70,TRUE),\"\")","v":""},{"$f":"IFERROR(INDEX($J$16:$J$2822,MATCH(ROWS($J$16:J70),$N$16:$N$2822,0)),\"\")","v":""}]
["02","08","14","3","020814","Gmina miejsko-wiejska","DOLNOŚLĄSKIE","kłodzki","SZCZYTNA","SZCZYTNA - Gmina miejsko-wiejska / Powiat kłodzki / Województwo  - DOLNOŚLĄSKIE / 020814 / ",24023331,26707232,{"$f":"ISNUMBER(SEARCH(Wyszukiwarka!$A$1,'Porównanie dochodów JST'!J71))","v":false},{"$f":"IF(M71,COUNTIF($M$16:M71,TRUE),\"\")","v":""},{"$f":"IFERROR(INDEX($J$16:$J$2822,MATCH(ROWS($J$16:J71),$N$16:$N$2822,0)),\"\")","v":""}]
["02","09","01","1","020901","Gmina miejska","DOLNOŚLĄSKIE","legnicki","CHOJNÓW","CHOJNÓW - Gmina miejska / Powiat legnicki / Województwo  - DOLNOŚLĄSKIE / 020901 / ",41511440,45657592.909600019,{"$f":"ISNUMBER(SEARCH(Wyszukiwarka!$A$1,'Porównanie dochodów JST'!J72))","v":false},{"$f":"IF(M72,COUNTIF($M$16:M72,TRUE),\"\")","v":""},{"$f":"IFERROR(INDEX($J$16:$J$2822,MATCH(ROWS($J$16:J72),$N$16:$N$2822,0)),\"\")","v":""}]
["02","09","02","2","020902","Gmina wiejska","DOLNOŚLĄSKIE","legnicki","CHOJNÓW","CHOJNÓW - Gmina wiejska / Powiat legnicki / Województwo  - DOLNOŚLĄSKIE / 020902 / ",29973900,33443223,{"$f":"ISNUMBER(SEARCH(Wyszukiwarka!$A$1,'Porównanie dochodów JST'!J73))","v":false},{"$f":"IF(M73,COUNTIF($M$16:M73,TRUE),\"\")","v":""},{"$f":"IFERROR(INDEX($J$16:$J$2822,MATCH(ROWS($J$16:J73),$N$16:$N$2822,0)),\"\")","v":""}]
["02","09","03","2","020903","Gmina wiejska","DOLNOŚLĄSKIE","legnicki","KROTOSZYCE","KROTOSZYCE - Gmina wiejska / Powiat legnicki / Województwo  - DOLNOŚLĄSKIE / 020903 / ",10749230,12021084,{"$f":"ISNUMBER(SEARCH(Wyszukiwarka!$A$1,'Porównanie dochodów JST'!J74))","v":false},{"$f":"IF(M74,COUNTIF($M$16:M74,TRUE),\"\")","v":""},{"$f":"IFERROR(INDEX($J$16:$J$2822,MATCH(ROWS($J$16:J74),$N$16:$N$2822,0)),\"\")","v":""}]
["02","09","04","2","020904","Gmina wiejska","DOLNOŚLĄSKIE","legnicki","KUNICE","KUNICE - Gmina wiejska / Powiat legnicki / Województwo  - DOLNOŚLĄSKIE / 020904 / ",31731286,34739396,{"$f":"ISNUMBER(SEARCH(Wyszukiwarka!$A$1,'Porównanie dochodów JST'!J75))","v":false},{"$f":"IF(M75,COUNTIF($M$16:M75,TRUE),\"\")","v":""},{"$f":"IFERROR(INDEX($J$16:$J$2822,MATCH(ROWS($J$16:J75),$N$16:$N$2822,0)),\"\")","v":""}]
["02","09","05","2","020905","Gmina wiejska","DOLNOŚLĄSKIE","legnicki","LEGNICKIE POLE","LEGNICKIE POLE - Gmina wiejska / Powiat legnicki / Województwo  - DOLNOŚLĄSKIE / 020905 / ",16852895,18997599,{"$f":"ISNUMBER(SEARCH(Wyszukiwarka!$A$1,'Porównanie dochodów JST'!J76))","v":false},{"$f":"IF(M76,COUNTIF($M$16:M76,TRUE),\"\")","v":""},{"$f":"IFERROR(INDEX($J$16:$J$2822,MATCH(ROWS($J$16:J76),$N$16:$N$2822,0)),\"\")","v":""}]
["02","09","06","2","020906","Gmina wiejska","DOLNOŚLĄSKIE","legnicki","MIŁKOWICE","MIŁKOWICE - Gmina wiejska / Powiat legnicki / Województwo  - DOLNOŚLĄSKIE / 020906 / ",22694676,25510296.670499999,{"$f":"ISNUMBER(SEARCH(Wyszukiwarka!$A$1,'Porównanie dochodów JST'!J77))","v":false},{"$f":"IF(M77,COUNTIF($M$16:M77,TRUE),\"\")","v":""},{"$f":"IFERROR(INDEX($J$16:$J$2822,MATCH(ROWS($J$16:J77),$N$16:$N$2822,0)),\"\")","v":""}]
["02","09","07","3","020907","Gmina miejsko-wiejska","DOLNOŚLĄSKIE","legnicki","PROCHOWICE","PROCHOWICE - Gmina miejsko-wiejska / Powiat legnicki / Województwo  - DOLNOŚLĄSKIE / 020907 / ",22509473,25058639.532605428,{"$f":"ISNUMBER(SEARCH(Wyszukiwarka!$A$1,'Porównanie dochodów JST'!J78))","v":false},{"$f":"IF(M78,COUNTIF($M$16:M78,TRUE),\"\")","v":""},{"$f":"IFERROR(INDEX($J$16:$J$2822,MATCH(ROWS($J$16:J78),$N$16:$N$2822,0)),\"\")","v":""}]
["02","09","08","2","020908","Gmina wiejska","DOLNOŚLĄSKIE","legnicki","RUJA","RUJA - Gmina wiejska / Powiat legnicki / Województwo  - DOLNOŚLĄSKIE / 020908 / ",7577167,8601619.1608000007,{"$f":"ISNUMBER(SEARCH(Wyszukiwarka!$A$1,'Porównanie dochodów JST'!J79))","v":false},{"$f":"IF(M79,COUNTIF($M$16:M79,TRUE),\"\")","v":""},{"$f":"IFERROR(INDEX($J$16:$J$2822,MATCH(ROWS($J$16:J79),$N$16:$N$2822,0)),\"\")","v":""}]
["02","10","01","1","021001","Gmina miejska","DOLNOŚLĄSKIE","lubański","LUBAŃ","LUBAŃ - Gmina miejska / Powiat lubański / Województwo  - DOLNOŚLĄSKIE / 021001 / ",59569920,66601707.152199998,{"$f":"ISNUMBER(SEARCH(Wyszukiwarka!$A$1,'Porównanie dochodów JST'!J80))","v":false},{"$f":"IF(M80,COUNTIF($M$16:M80,TRUE),\"\")","v":""},{"$f":"IFERROR(INDEX($J$16:$J$2822,MATCH(ROWS($J$16:J80),$N$16:$N$2822,0)),\"\")","v":""}]
["02","10","02","1","021002","Gmina miejska","DOLNOŚLĄSKIE","lubański","ŚWIERADÓW-ZDRÓJ",{"$f":"I81&$H$12&F81&$G$12&$H$14&H81&$G$12&$G$14&$H$12&G81&$G$12&E81&$G$12","v":"ŚWIERADÓW-ZDRÓJ - Gmina miejska / Powiat lubański / Województwo  - DOLNOŚLĄSKIE / 021002 / "},14454615,15723127,{"$f":"ISNUMBER(SEARCH(Wyszukiwarka!$A$1,'Porównanie dochodów JST'!J81))","v":false},{"$f":"IF(M81,COUNTIF($M$16:M81,TRUE),\"\")","v":""},{"$f":"IFERROR(INDEX($J$16:$J$2822,MATCH(ROWS($J$16:J81),$N$16:$N$2822,0)),\"\")","v":""}]
["02","10","03","3","021003","Gmina miejsko-wiejska","DOLNOŚLĄSKIE","lubański","LEŚNA","LEŚNA - Gmina miejsko-wiejska / Powiat lubański / Województwo  - DOLNOŚLĄSKIE / 021003 / ",33554147,36926862.632310241,{"$f":"ISNUMBER(SEARCH(Wyszukiwarka!$A$1,'Porównanie dochodów JST'!J82))","v":false},{"$f":"IF(M82,COUNTIF($M$16:M82,TRUE),\"\")","v":""},{"$f":"IFERROR(INDEX($J$16:$J$2822,MATCH(ROWS($J$16:J82),$N$16:$N$2822,0)),\"\")","v":""}]
["02","10","04","2","021004","Gmina wiejska","DOLNOŚLĄSKIE","lubański","LUBAŃ","LUBAŃ - Gmina wiejska / Powiat lubański / Województwo  - DOLNOŚLĄSKIE / 021004 / ",21792396,24440516,{"$f":"ISNUMBER(SEARCH(Wyszukiwarka!$A$1,'Porównanie dochodów JST'!J83))","v":false},{"$f":"IF(M83,COUNTIF($M$16:M83,TRUE),\"\")","v":""},{"$f":"IFERROR(INDEX($J$16:$J$2822,MATCH(ROWS($J$16:J83),$N$16:$N$2822,0)),\"\")","v":""}]
["02","10","05","3","021005","Gmina miejsko-wiejska","DOLNOŚLĄSKIE","lubański","OLSZYNA","OLSZYNA - Gmina miejsko-wiejska / Powiat lubański / Województwo  - DOLNOŚLĄSKIE / 021005 / ",20905310,23467456.719666719,{"$f":"ISNUMBER(SEARCH(Wyszukiwarka!$A$1,'Porównanie dochodów JST'!J84))","v":false},{"$f":"IF(M84,COUNTIF($M$16:M84,TRUE),\"\")","v":""},{"$f":"IFERROR(INDEX($J$16:$J$2822,MATCH(ROWS($J$16:J84),$N$16:$N$2822,0)),\"\")","v":""}]
["02","10","06","2","021006","Gmina wiejska","DOLNOŚLĄSKIE","lubański","PLATERÓWKA","PLATERÓWKA - Gmina wiejska / Powiat lubański / Województwo  - DOLNOŚLĄSKIE / 021006 / ",4910492,5510172.7999999998,{"$f":"ISNUMBER(SEARCH(Wyszukiwarka!$A$1,'Porównanie dochodów JST'!J85))","v":false},{"$f":"IF(M85,COUNTIF($M$16:M85,TRUE),\"\")","v":""},{"$f":"IFERROR(INDEX($J$16:$J$2822,MATCH(ROWS($J$16:J85),$N$16:$N$2822,0)),\"\")","v":""}]
["02","10","07","2","021007","Gmina wiejska","DOLNOŚLĄSKIE","lubański","SIEKIERCZYN","SIEKIERCZYN - Gmina wiejska / Powiat lubański / Województwo  - DOLNOŚLĄSKIE / 021007 / ",15957409,17871987.000000004,{"$f":"ISNUMBER(SEARCH(Wyszukiwarka!$A$1,'Porównanie dochodów JST'!J86))","v":false},{"$f":"IF(M86,COUNTIF($M$16:M86,TRUE),\"\")","v":""},{"$f":"IFERROR(INDEX($J$16:$J$2822,MATCH(ROWS($J$16:J86),$N$16:$N$2822,0)),\"\")","v":""}]
["02","11","01","1","021101","Gmina miejska","DOLNOŚLĄSKIE","lubiński","LUBIN","LUBIN - Gmina miejska / Powiat lubiński / Województwo  - DOLNOŚLĄSKIE / 021101 / ",343744447,401876036.80000001,{"$f":"ISNUMBER(SEARCH(Wyszukiwarka!$A$1,'Porównanie dochodów JST'!J87))","v":false},{"$f":"IF(M87,COUNTIF($M$16:M87,TRUE),\"\")","v":""},{"$f":"IFERROR(INDEX($J$16:$J$2822,MATCH(ROWS($J$16:J87),$N$16:$N$2822,0)),\"\")","v":""}]
["02","11","02","2","021102","Gmina wiejska","DOLNOŚLĄSKIE","lubiński","LUBIN","LUBIN - Gmina wiejska / Powiat lubiński / Województwo  - DOLNOŚLĄSKIE / 021102 / ",70661429,79520791.037576154,{"$f":"ISNUMBER(SEARCH(Wyszukiwarka!$A$1,'Porównanie dochodów JST'!J88))","v":false},{"$f":"IF(M88,COUNTIF($M$16:M88,TRUE),\"\")","v":""},{"$f":"IFERROR(INDEX($J$16:$J$2822,MATCH(ROWS($J$16:J88),$N$16:$N$2822,0)),\"\")","v":""}]
["02","11","03","2","021103","Gmina wiejska","DOLNOŚLĄSKIE","lubiński","RUDNA","RUDNA - Gmina wiejska / Powiat lubiński / Województwo  - DOLNOŚLĄSKIE / 021103 / ",24033356,27016107.795948904,{"$f":"ISNUMBER(SEARCH(Wyszukiwarka!$A$1,'Porównanie dochodów JST'!J89))","v":false},{"$f":"IF(M89,COUNTIF($M$16:M89,TRUE),\"\")","v":""},{"$f":"IFERROR(INDEX($J$16:$J$2822,MATCH(ROWS($J$16:J89),$N$16:$N$2822,0)),\"\")","v":""}]
["02","11","04","3","021104","Gmina miejsko-wiejska","DOLNOŚLĄSKIE","lubiński","ŚCINAWA","ŚCINAWA - Gmina miejsko-wiejska / Powiat lubiński / Województwo  - DOLNOŚLĄSKIE / 021104 / ",32728794,36177647,{"$f":"ISNUMBER(SEARCH(Wyszukiwarka!$A$1,'Porównanie dochodów JST'!J90))","v":false},{"$f":"IF(M90,COUNTIF($M$16:M90,TRUE),\"\")","v":""},{"$f":"IFERROR(INDEX($J$16:$J$2822,MATCH(ROWS($J$16:J90),$N$16:$N$2822,0)),\"\")","v":""}]
["02","12","01","3","021201","Gmina miejsko-wiejska","DOLNOŚLĄSKIE","lwówecki","GRYFÓW ŚLĄSKI","GRYFÓW ŚLĄSKI - Gmina miejsko-wiejska / Powiat lwówecki / Województwo  - DOLNOŚLĄSKIE / 021201 / ",26923383,30244119,{"$f":"ISNUMBER(SEARCH(Wyszukiwarka!$A$1,'Porównanie dochodów JST'!J91))","v":false},{"$f":"IF(M91,COUNTIF($M$16:M91,TRUE),\"\")","v":""},{"$f":"IFERROR(INDEX($J$16:$J$2822,MATCH(ROWS($J$16:J91),$N$16:$N$2822,0)),\"\")","v":""}]
["02","12","02","3","021202","Gmina miejsko-wiejska","DOLNOŚLĄSKIE","lwówecki","LUBOMIERZ","LUBOMIERZ - Gmina miejsko-wiejska / Powiat lwówecki / Województwo  - DOLNOŚLĄSKIE / 021202 / ",25969469,28040319.760222707,{"$f":"ISNUMBER(SEARCH(Wyszukiwarka!$A$1,'Porównanie dochodów JST'!J92))","v":false},{"$f":"IF(M92,COUNTIF($M$16:M92,TRUE),\"\")","v":""},{"$f":"IFERROR(INDEX($J$16:$J$2822,MATCH(ROWS($J$16:J92),$N$16:$N$2822,0)),\"\")","v":""}]
["02","12","03","3","021203","Gmina miejsko-wiejska","DOLNOŚLĄSKIE","lwówecki","LWÓWEK ŚLĄSKI","LWÓWEK ŚLĄSKI - Gmina miejsko-wiejska / Powiat lwówecki / Województwo  - DOLNOŚLĄSKIE / 021203 / ",48769741,53846074.575000003,{"$f":"ISNUMBER(SEARCH(Wyszukiwarka!$A$1,'Porównanie dochodów JST'!J93))","v":false},{"$f":"IF(M93,COUNTIF($M$16:M93,TRUE),\"\")","v":""},{"$f":"IFERROR(INDEX($J$16:$J$2822,MATCH(ROWS($J$16:J93),$N$16:$N$2822,0)),\"\")","v":""}]
["02","12","04","3","021204","Gmina miejsko-wiejska","DOLNOŚLĄSKIE","lwówecki","MIRSK","MIRSK - Gmina miejsko-wiejska / Powiat lwówecki / Województwo  - DOLNOŚLĄSKIE / 021204 / ",28500835,31824995.725824714,{"$f":"ISNUMBER(SEARCH(Wyszukiwarka!$A$1,'Porównanie dochodów JST'!J94))","v":false},{"$f":"IF(M94,COUNTIF($M$16:M94,TRUE),\"\")","v":""},{"$f":"IFERROR(INDEX($J$16:$J$2822,MATCH(ROWS($J$16:J94),$N$16:$N$2822,0)),\"\")","v":""}]
["02","12","05","3","021205","Gmina miejsko-wiejska","DOLNOŚLĄSKIE","lwówecki","WLEŃ","WLEŃ - Gmina miejsko-wiejska / Powiat lwówecki / Województwo  - DOLNOŚLĄSKIE / 021205 / ",13188127,14570740.745848313,{"$f":"ISNUMBER(SEARCH(Wyszukiwarka!$A$1,'Porównanie dochodów JST'!J95))","v":false},{"$f":"IF(M95,COUNTIF($M$16:M95,TRUE),\"\")","v":""},{"$f":"IFERROR(INDEX($J$16:$J$2822,MATCH(ROWS($J$16:J95),$N$16:$N$2822,0)),\"\")","v":""}]
["02","13","01","2","021301","Gmina wiejska","DOLNOŚLĄSKIE","milicki","CIESZKÓW","CIESZKÓW - Gmina wiejska / Powiat milicki / Województwo  - DOLNOŚLĄSKIE / 021301 / ",17393186,19347005.859265968,{"$f":"ISNUMBER(SEARCH(Wyszukiwarka!$A$1,'Porównanie dochodów JST'!J96))","v":false},{"$f":"IF(M96,COUNTIF($M$16:M96,TRUE),\"\")","v":""},{"$f":"IFERROR(INDEX($J$16:$J$2822,MATCH(ROWS($J$16:J96),$N$16:$N$2822,0)),\"\")","v":""}]
["02","13","02","2","021302","Gmina wiejska","DOLNOŚLĄSKIE","milicki","KROŚNICE","KROŚNICE - Gmina wiejska / Powiat milicki / Województwo  - DOLNOŚLĄSKIE / 021302 / ",22597557,25151108.540561829,{"$f":"ISNUMBER(SEARCH(Wyszukiwarka!$A$1,'Porównanie dochodów JST'!J97))","v":false},{"$f":"IF(M97,COUNTIF($M$16:M97,TRUE),\"\")","v":""},{"$f":"IFERROR(INDEX($J$16:$J$2822,MATCH(ROWS($J$16:J97),$N$16:$N$2822,0)),\"\")","v":""}]
["02","13","03","3","021303","Gmina miejsko-wiejska","DOLNOŚLĄSKIE","milicki","MILICZ","MILICZ - Gmina miejsko-wiejska / Powiat milicki / Województwo  - DOLNOŚLĄSKIE / 021303 / ",89556835,95595084.377279609,{"$f":"ISNUMBER(SEARCH(Wyszukiwarka!$A$1,'Porównanie dochodów JST'!J98))","v":false},{"$f":"IF(M98,COUNTIF($M$16:M98,TRUE),\"\")","v":""},{"$f":"IFERROR(INDEX($J$16:$J$2822,MATCH(ROWS($J$16:J98),$N$16:$N$2822,0)),\"\")","v":""}]
["02","14","01","1","021401","Gmina miejska","DOLNOŚLĄSKIE","oleśnicki","OLEŚNICA","OLEŚNICA - Gmina miejska / Powiat oleśnicki / Województwo  - DOLNOŚLĄSKIE / 021401 / ",120884029,139269182.08000001,{"$f":"ISNUMBER(SEARCH(Wyszukiwarka!$A$1,'Porównanie dochodów JST'!J99))","v":false},{"$f":"IF(M99,COUNTIF($M$16:M99,TRUE),\"\")","v":""},{"$f":"IFERROR(INDEX($J$16:$J$2822,MATCH(ROWS($J$16:J99),$N$16:$N$2822,0)),\"\")","v":""}]
["02","14","02","3","021402","Gmina miejsko-wiejska","DOLNOŚLĄSKIE","oleśnicki","BIERUTÓW","BIERUTÓW - Gmina miejsko-wiejska / Powiat oleśnicki / Województwo  - DOLNOŚLĄSKIE / 021402 / ",34417873,37828501.764300004,{"$f":"ISNUMBER(SEARCH(Wyszukiwarka!$A$1,'Porównanie dochodów JST'!J100))","v":false},{"$f":"IF(M100,COUNTIF($M$16:M100,TRUE),\"\")","v":""},{"$f":"IFERROR(INDEX($J$16:$J$2822,MATCH(ROWS($J$16:J100),$N$16:$N$2822,0)),\"\")","v":""}]
["02","14","03","2","021403","Gmina wiejska","DOLNOŚLĄSKIE","oleśnicki","DOBROSZYCE","DOBROSZYCE - Gmina wiejska / Powiat oleśnicki / Województwo  - DOLNOŚLĄSKIE / 021403 / ",27695461,30333505,{"$f":"ISNUMBER(SEARCH(Wyszukiwarka!$A$1,'Porównanie dochodów JST'!J101))","v":false},{"$f":"IF(M101,COUNTIF($M$16:M101,TRUE),\"\")","v":""},{"$f":"IFERROR(INDEX($J$16:$J$2822,MATCH(ROWS($J$16:J101),$N$16:$N$2822,0)),\"\")","v":""}]
["02","14","04","2","021404","Gmina wiejska","DOLNOŚLĄSKIE","oleśnicki","DZIADOWA KŁODA","DZIADOWA KŁODA - Gmina wiejska / Powiat oleśnicki / Województwo  - DOLNOŚLĄSKIE / 021404 / ",19344545,21300786,{"$f":"ISNUMBER(SEARCH(Wyszukiwarka!$A$1,'Porównanie dochodów JST'!J102))","v":false},{"$f":"IF(M102,COUNTIF($M$16:M102,TRUE),\"\")","v":""},{"$f":"IFERROR(INDEX($J$16:$J$2822,MATCH(ROWS($J$16:J102),$N$16:$N$2822,0)),\"\")","v":""}]
["02","14","05","3","021405","Gmina miejsko-wiejska","DOLNOŚLĄSKIE","oleśnicki","MIEDZYBÓRZ","MIEDZYBÓRZ - Gmina miejsko-wiejska / Powiat oleśnicki / Województwo  - DOLNOŚLĄSKIE / 021405 / ",19350085,21342712.727033831,{"$f":"ISNUMBER(SEARCH(Wyszukiwarka!$A$1,'Porównanie dochodów JST'!J103))","v":false},{"$f":"IF(M103,COUNTIF($M$16:M103,TRUE),\"\")","v":""},{"$f":"IFERROR(INDEX($J$16:$J$2822,MATCH(ROWS($J$16:J103),$N$16:$N$2822,0)),\"\")","v":""}]
["02","14","06","2","021406","Gmina wiejska","DOLNOŚLĄSKIE","oleśnicki","OLEŚNICA","OLEŚNICA - Gmina wiejska / Powiat oleśnicki / Województwo  - DOLNOŚLĄSKIE / 021406 / ",50249242,55395773,{"$f":"ISNUMBER(SEARCH(Wyszukiwarka!$A$1,'Porównanie dochodów JST'!J104))","v":false},{"$f":"IF(M104,COUNTIF($M$16:M104,TRUE),\"\")","v":""},{"$f":"IFERROR(INDEX($J$16:$J$2822,MATCH(ROWS($J$16:J104),$N$16:$N$2822,0)),\"\")","v":""}]
["02","14","07","3","021407","Gmina miejsko-wiejska","DOLNOŚLĄSKIE","oleśnicki","SYCÓW","SYCÓW - Gmina miejsko-wiejska / Powiat oleśnicki / Województwo  - DOLNOŚLĄSKIE / 021407 / ",51266080,56290761.828400001,{"$f":"ISNUMBER(SEARCH(Wyszukiwarka!$A$1,'Porównanie dochodów JST'!J105))","v":false},{"$f":"IF(M105,COUNTIF($M$16:M105,TRUE),\"\")","v":""},{"$f":"IFERROR(INDEX($J$16:$J$2822,MATCH(ROWS($J$16:J105),$N$16:$N$2822,0)),\"\")","v":""}]
["02","14","08","3","021408","Gmina miejsko-wiejska","DOLNOŚLĄSKIE","oleśnicki","TWARDOGÓRA","TWARDOGÓRA - Gmina miejsko-wiejska / Powiat oleśnicki / Województwo  - DOLNOŚLĄSKIE / 021408 / ",43787219,48163053.506224118,{"$f":"ISNUMBER(SEARCH(Wyszukiwarka!$A$1,'Porównanie dochodów JST'!J106))","v":false},{"$f":"IF(M106,COUNTIF($M$16:M106,TRUE),\"\")","v":""},{"$f":"IFERROR(INDEX($J$16:$J$2822,MATCH(ROWS($J$16:J106),$N$16:$N$2822,0)),\"\")","v":""}]
["02","15","01","1","021501","Gmina miejska","DOLNOŚLĄSKIE","oławski","OŁAWA","OŁAWA - Gmina miejska / Powiat oławski / Województwo  - DOLNOŚLĄSKIE / 021501 / ",112655997,130249955.36000001,{"$f":"ISNUMBER(SEARCH(Wyszukiwarka!$A$1,'Porównanie dochodów JST'!J107))","v":false},{"$f":"IF(M107,COUNTIF($M$16:M107,TRUE),\"\")","v":""},{"$f":"IFERROR(INDEX($J$16:$J$2822,MATCH(ROWS($J$16:J107),$N$16:$N$2822,0)),\"\")","v":""}]
["02","15","02","2","021502","Gmina wiejska","DOLNOŚLĄSKIE","oławski","DOMANIÓW","DOMANIÓW - Gmina wiejska / Powiat oławski / Województwo  - DOLNOŚLĄSKIE / 021502 / ",19630527,21611067,{"$f":"ISNUMBER(SEARCH(Wyszukiwarka!$A$1,'Porównanie dochodów JST'!J108))","v":false},{"$f":"IF(M108,COUNTIF($M$16:M108,TRUE),\"\")","v":""},{"$f":"IFERROR(INDEX($J$16:$J$2822,MATCH(ROWS($J$16:J108),$N$16:$N$2822,0)),\"\")","v":""}]
["02","15","03","3","021503","Gmina miejsko-wiejska","DOLNOŚLĄSKIE","oławski","JELCZ-LASKOWICE","JELCZ-LASKOWICE - Gmina miejsko-wiejska / Powiat oławski / Województwo  - DOLNOŚLĄSKIE / 021503 / ",83330612,96214154.400000006,{"$f":"ISNUMBER(SEARCH(Wyszukiwarka!$A$1,'Porównanie dochodów JST'!J109))","v":false},{"$f":"IF(M109,COUNTIF($M$16:M109,TRUE),\"\")","v":""},{"$f":"IFERROR(INDEX($J$16:$J$2822,MATCH(ROWS($J$16:J109),$N$16:$N$2822,0)),\"\")","v":""}]
["02","15","04","2","021504","Gmina wiejska","DOLNOŚLĄSKIE","oławski","OŁAWA","OŁAWA - Gmina wiejska / Powiat oławski / Województwo  - DOLNOŚLĄSKIE / 021504 / ",65433142,70976096.999999985,{"$f":"ISNUMBER(SEARCH(Wyszukiwarka!$A$1,'Porównanie dochodów JST'!J110))","v":false},{"$f":"IF(M110,COUNTIF($M$16:M110,TRUE),\"\")","v":""},{"$f":"IFERROR(INDEX($J$16:$J$2822,MATCH(ROWS($J$16:J110),$N$16:$N$2822,0)),\"\")","v":""}]
["02","16","01","3","021601","Gmina miejsko-wiejska","DOLNOŚLĄSKIE","polkowicki","CHOCIANÓW","CHOCIANÓW - Gmina miejsko-wiejska / Powiat polkowicki / Województwo  - DOLNOŚLĄSKIE / 021601 / ",42702317,49292948.32,{"$f":"ISNUMBER(SEARCH(Wyszukiwarka!$A$1,'Porównanie dochodów JST'!J111))","v":false},{"$f":"IF(M111,COUNTIF($M$16:M111,TRUE),\"\")","v":""},{"$f":"IFERROR(INDEX($J$16:$J$2822,MATCH(ROWS($J$16:J111),$N$16:$N$2822,0)),\"\")","v":""}]
["02","16","02","2","021602","Gmina wiejska","DOLNOŚLĄSKIE","polkowicki","GAWORZYCE","GAWORZYCE - Gmina wiejska / Powiat polkowicki / Województwo  - DOLNOŚLĄSKIE / 021602 / ",14817001,16199538.595726218,{"$f":"ISNUMBER(SEARCH(Wyszukiwarka!$A$1,'Porównanie dochodów JST'!J112))","v":false},{"$f":"IF(M112,COUNTIF($M$16:M112,TRUE),\"\")","v":""},{"$f":"IFERROR(INDEX($J$16:$J$2822,MATCH(ROWS($J$16:J112),$N$16:$N$2822,0)),\"\")","v":""}]
["02","16","03","2","021603","Gmina wiejska","DOLNOŚLĄSKIE","polkowicki","GRĘBOCICE","GRĘBOCICE - Gmina wiejska / Powiat polkowicki / Województwo  - DOLNOŚLĄSKIE / 021603 / ",9885799,11494516.000000002,{"$f":"ISNUMBER(SEARCH(Wyszukiwarka!$A$1,'Porównanie dochodów JST'!J113))","v":false},{"$f":"IF(M113,COUNTIF($M$16:M113,TRUE),\"\")","v":""},{"$f":"IFERROR(INDEX($J$16:$J$2822,MATCH(ROWS($J$16:J113),$N$16:$N$2822,0)),\"\")","v":""}]
["02","16","04","3","021604","Gmina miejsko-wiejska","DOLNOŚLĄSKIE","polkowicki","POLKOWICE","POLKOWICE - Gmina miejsko-wiejska / Powiat polkowicki / Województwo  - DOLNOŚLĄSKIE / 021604 / ",110726960,121223560.57565771,{"$f":"ISNUMBER(SEARCH(Wyszukiwarka!$A$1,'Porównanie dochodów JST'!J114))","v":false},{"$f":"IF(M114,COUNTIF($M$16:M114,TRUE),\"\")","v":""},{"$f":"IFERROR(INDEX($J$16:$J$2822,MATCH(ROWS($J$16:J114),$N$16:$N$2822,0)),\"\")","v":""}]
["02","16","05","3","021605","Gmina miejsko-wiejska","DOLNOŚLĄSKIE","polkowicki","PRZEMKÓW","PRZEMKÓW - Gmina miejsko-wiejska / Powiat polkowicki / Województwo  - DOLNOŚLĄSKIE / 021605 / ",29463699,32235481.561500002,{"$f":"ISNUMBER(SEARCH(Wyszukiwarka!$A$1,'Porównanie dochodów JST'!J115))","v":false},{"$f":"IF(M115,COUNTIF($M$16:M115,TRUE),\"\")","v":""},{"$f":"IFERROR(INDEX($J$16:$J$2822,MATCH(ROWS($J$16:J115),$N$16:$N$2822,0)),\"\")","v":""}]
["02","16","06","2","021606","Gmina wiejska","DOLNOŚLĄSKIE","polkowicki","RADWANICE","RADWANICE - Gmina wiejska / Powiat polkowicki / Województwo  - DOLNOŚLĄSKIE / 021606 / ",19888865,23290117,{"$f":"ISNUMBER(SEARCH(Wyszukiwarka!$A$1,'Porównanie dochodów JST'!J116))","v":false},{"$f":"IF(M116,COUNTIF($M$16:M116,TRUE),\"\")","v":""},{"$f":"IFERROR(INDEX($J$16:$J$2822,MATCH(ROWS($J$16:J116),$N$16:$N$2822,0)),\"\")","v":""}]
["02","17","01","2","021701","Gmina wiejska","DOLNOŚLĄSKIE","strzeliński","BORÓW","BORÓW - Gmina wiejska / Powiat strzeliński / Województwo  - DOLNOŚLĄSKIE / 021701 / ",18793170,20793996.924400002,{"$f":"ISNUMBER(SEARCH(Wyszukiwarka!$A$1,'Porównanie dochodów JST'!J117))","v":false},{"$f":"IF(M117,COUNTIF($M$16:M117,TRUE),\"\")","v":""},{"$f":"IFERROR(INDEX($J$16:$J$2822,MATCH(ROWS($J$16:J117),$N$16:$N$2822,0)),\"\")","v":""}]
["02","17","02","2","021702","Gmina wiejska","DOLNOŚLĄSKIE","strzeliński","KONDRATOWICE","KONDRATOWICE - Gmina wiejska / Powiat strzeliński / Województwo  - DOLNOŚLĄSKIE / 021702 / ",13285808,14675509,{"$f":"ISNUMBER(SEARCH(Wyszukiwarka!$A$1,'Porównanie dochodów JST'!J118))","v":false},{"$f":"IF(M118,COUNTIF($M$16:M118,TRUE),\"\")","v":""},{"$f":"IFERROR(INDEX($J$16:$J$2822,MATCH(ROWS($J$16:J118),$N$16:$N$2822,0)),\"\")","v":""}]
["02","17","03","2","021703","Gmina wiejska","DOLNOŚLĄSKIE","strzeliński","PRZEWORNO","PRZEWORNO - Gmina wiejska / Powiat strzeliński / Województwo  - DOLNOŚLĄSKIE / 021703 / ",13171699,14980108,{"$f":"ISNUMBER(SEARCH(Wyszukiwarka!$A$1,'Porównanie dochodów JST'!J119))","v":false},{"$f":"IF(M119,COUNTIF($M$16:M119,TRUE),\"\")","v":""},{"$f":"IFERROR(INDEX($J$16:$J$2822,MATCH(ROWS($J$16:J119),$N$16:$N$2822,0)),\"\")","v":""}]
["02","17","04","3","021704","Gmina miejsko-wiejska","DOLNOŚLĄSKIE","strzeliński","STRZELIN","STRZELIN - Gmina miejsko-wiejska / Powiat strzeliński / Województwo  - DOLNOŚLĄSKIE / 021704 / ",73031257,79202865.452299997,{"$f":"ISNUMBER(SEARCH(Wyszukiwarka!$A$1,'Porównanie dochodów JST'!J120))","v":false},{"$f":"IF(M120,COUNTIF($M$16:M120,TRUE),\"\")","v":""},{"$f":"IFERROR(INDEX($J$16:$J$2822,MATCH(ROWS($J$16:J120),$N$16:$N$2822,0)),\"\")","v":""}]
["02","17","05","3","021705","Gmina miejsko-wiejska","DOLNOŚLĄSKIE","strzeliński","WIĄZÓW","WIĄZÓW - Gmina miejsko-wiejska / Powiat strzeliński / Województwo  - DOLNOŚLĄSKIE / 021705 / ",24365877,27038382,{"$f":"ISNUMBER(SEARCH(Wyszukiwarka!$A$1,'Porównanie dochodów JST'!J121))","v":false},{"$f":"IF(M121,COUNTIF($M$16:M121,TRUE),\"\")","v":""},{"$f":"IFERROR(INDEX($J$16:$J$2822,MATCH(ROWS($J$16:J121),$N$16:$N$2822,0)),\"\")","v":""}]
["02","18","01","2","021801","Gmina wiejska","DOLNOŚLĄSKIE","średzki","KOSTOMŁOTY","KOSTOMŁOTY - Gmina wiejska / Powiat średzki / Województwo  - DOLNOŚLĄSKIE / 021801 / ",25805002,28515572,{"$f":"ISNUMBER(SEARCH(Wyszukiwarka!$A$1,'Porównanie dochodów JST'!J122))","v":false},{"$f":"IF(M122,COUNTIF($M$16:M122,TRUE),\"\")","v":""},{"$f":"IFERROR(INDEX($J$16:$J$2822,MATCH(ROWS($J$16:J122),$N$16:$N$2822,0)),\"\")","v":""}]
["02","18","02","2","021802","Gmina wiejska","DOLNOŚLĄSKIE","średzki","MALCZYCE","MALCZYCE - Gmina wiejska / Powiat średzki / Województwo  - DOLNOŚLĄSKIE / 021802 / ",19635003,21663312.698700003,{"$f":"ISNUMBER(SEARCH(Wyszukiwarka!$A$1,'Porównanie dochodów JST'!J123))","v":false},{"$f":"IF(M123,COUNTIF($M$16:M123,TRUE),\"\")","v":""},{"$f":"IFERROR(INDEX($J$16:$J$2822,MATCH(ROWS($J$16:J123),$N$16:$N$2822,0)),\"\")","v":""}]
["02","18","03","2","021803","Gmina wiejska","DOLNOŚLĄSKIE","średzki","MIĘKINIA","MIĘKINIA - Gmina wiejska / Powiat średzki / Województwo  - DOLNOŚLĄSKIE / 021803 / ",92211927,98854324.645969883,{"$f":"ISNUMBER(SEARCH(Wyszukiwarka!$A$1,'Porównanie dochodów JST'!J124))","v":false},{"$f":"IF(M124,COUNTIF($M$16:M124,TRUE),\"\")","v":""},{"$f":"IFERROR(INDEX($J$16:$J$2822,MATCH(ROWS($J$16:J124),$N$16:$N$2822,0)),\"\")","v":""}]
["02","18","04","3","021804","Gmina miejsko-wiejska","DOLNOŚLĄSKIE","średzki","ŚRODA ŚLĄSKA","ŚRODA ŚLĄSKA - Gmina miejsko-wiejska / Powiat średzki / Województwo  - DOLNOŚLĄSKIE / 021804 / ",69739620,79654910.231099993,{"$f":"ISNUMBER(SEARCH(Wyszukiwarka!$A$1,'Porównanie dochodów JST'!J125))","v":false},{"$f":"IF(M125,COUNTIF($M$16:M125,TRUE),\"\")","v":""},{"$f":"IFERROR(INDEX($J$16:$J$2822,MATCH(ROWS($J$16:J125),$N$16:$N$2822,0)),\"\")","v":""}]
["02","18","05","2","021805","Gmina wiejska","DOLNOŚLĄSKIE","średzki","UDANIN","UDANIN - Gmina wiejska / Powiat średzki / Województwo  - DOLNOŚLĄSKIE / 021805 / ",16308358,18272369,{"$f":"ISNUMBER(SEARCH(Wyszukiwarka!$A$1,'Porównanie dochodów JST'!J126))","v":false},{"$f":"IF(M126,COUNTIF($M$16:M126,TRUE),\"\")","v":""},{"$f":"IFERROR(INDEX($J$16:$J$2822,MATCH(ROWS($J$16:J126),$N$16:$N$2822,0)),\"\")","v":""}]
["02","19","01","1","021901","Gmina miejska","DOLNOŚLĄSKIE","świdnicki","ŚWIDNICA","ŚWIDNICA - Gmina miejska / Powiat świdnicki / Województwo  - DOLNOŚLĄSKIE / 021901 / ",184519521,212965650.24000001,{"$f":"ISNUMBER(SEARCH(Wyszukiwarka!$A$1,'Porównanie dochodów JST'!J127))","v":false},{"$f":"IF(M127,COUNTIF($M$16:M127,TRUE),\"\")","v":""},{"$f":"IFERROR(INDEX($J$16:$J$2822,MATCH(ROWS($J$16:J127),$N$16:$N$2822,0)),\"\")","v":""}]
["02","19","02","1","021902","Gmina miejska","DOLNOŚLĄSKIE","świdnicki","ŚWIEBODZICE","ŚWIEBODZICE - Gmina miejska / Powiat świdnicki / Województwo  - DOLNOŚLĄSKIE / 021902 / ",73505544,81554444.531200007,{"$f":"ISNUMBER(SEARCH(Wyszukiwarka!$A$1,'Porównanie dochodów JST'!J128))","v":false},{"$f":"IF(M128,COUNTIF($M$16:M128,TRUE),\"\")","v":""},{"$f":"IFERROR(INDEX($J$16:$J$2822,MATCH(ROWS($J$16:J128),$N$16:$N$2822,0)),\"\")","v":""}]
["02","19","03","2","021903","Gmina wiejska","DOLNOŚLĄSKIE","świdnicki","DOBROMIERZ","DOBROMIERZ - Gmina wiejska / Powiat świdnicki / Województwo  - DOLNOŚLĄSKIE / 021903 / ",18280415,20257926.516717054,{"$f":"ISNUMBER(SEARCH(Wyszukiwarka!$A$1,'Porównanie dochodów JST'!J129))","v":false},{"$f":"IF(M129,COUNTIF($M$16:M129,TRUE),\"\")","v":""},{"$f":"IFERROR(INDEX($J$16:$J$2822,MATCH(ROWS($J$16:J129),$N$16:$N$2822,0)),\"\")","v":""}]
["02","19","04","3","021904","Gmina miejsko-wiejska","DOLNOŚLĄSKIE","świdnicki","JAWORZYNA ŚLĄSKA","JAWORZYNA ŚLĄSKA - Gmina miejsko-wiejska / Powiat świdnicki / Województwo  - DOLNOŚLĄSKIE / 021904 / ",33236789,37153058.850699998,{"$f":"ISNUMBER(SEARCH(Wyszukiwarka!$A$1,'Porównanie dochodów JST'!J130))","v":false},{"$f":"IF(M130,COUNTIF($M$16:M130,TRUE),\"\")","v":""},{"$f":"IFERROR(INDEX($J$16:$J$2822,MATCH(ROWS($J$16:J130),$N$16:$N$2822,0)),\"\")","v":""}]
["02","19","05","2","021905","Gmina wiejska","DOLNOŚLĄSKIE","świdnicki","MARCINOWICE","MARCINOWICE - Gmina wiejska / Powiat świdnicki / Województwo  - DOLNOŚLĄSKIE / 021905 / ",22571662,25196276,{"$f":"ISNUMBER(SEARCH(Wyszukiwarka!$A$1,'Porównanie dochodów JST'!J131))","v":false},{"$f":"IF(M131,COUNTIF($M$16:M131,TRUE),\"\")","v":""},{"$f":"IFERROR(INDEX($J$16:$J$2822,MATCH(ROWS($J$16:J131),$N$16:$N$2822,0)),\"\")","v":""}]
["02","19","06","3","021906","Gmina miejsko-wiejska","DOLNOŚLĄSKIE","świdnicki","STRZEGOM","STRZEGOM - Gmina miejsko-wiejska / Powiat świdnicki / Województwo  - DOLNOŚLĄSKIE / 021906 / ",71381395,82169284.959999993,{"$f":"ISNUMBER(SEARCH(Wyszukiwarka!$A$1,'Porównanie dochodów JST'!J132))","v":false},{"$f":"IF(M132,COUNTIF($M$16:M132,TRUE),\"\")","v":""},{"$f":"IFERROR(INDEX($J$16:$J$2822,MATCH(ROWS($J$16:J132),$N$16:$N$2822,0)),\"\")","v":""}]
["02","19","07","2","021907","Gmina wiejska","DOLNOŚLĄSKIE","świdnicki","ŚWIDNICA","ŚWIDNICA - Gmina wiejska / Powiat świdnicki / Województwo  - DOLNOŚLĄSKIE / 021907 / ",65434024,70693976.897649109,{"$f":"ISNUMBER(SEARCH(Wyszukiwarka!$A$1,'Porównanie dochodów JST'!J133))","v":false},{"$f":"IF(M133,COUNTIF($M$16:M133,TRUE),\"\")","v":""},{"$f":"IFERROR(INDEX($J$16:$J$2822,MATCH(ROWS($J$16:J133),$N$16:$N$2822,0)),\"\")","v":""}]
["02","19","08","3","021908","Gmina miejsko-wiejska","DOLNOŚLĄSKIE","świdnicki","ŻARÓW","ŻARÓW - Gmina miejsko-wiejska / Powiat świdnicki / Województwo  - DOLNOŚLĄSKIE / 021908 / ",35574111,40868907.520000003,{"$f":"ISNUMBER(SEARCH(Wyszukiwarka!$A$1,'Porównanie dochodów JST'!J134))","v":false},{"$f":"IF(M134,COUNTIF($M$16:M134,TRUE),\"\")","v":""},{"$f":"IFERROR(INDEX($J$16:$J$2822,MATCH(ROWS($J$16:J134),$N$16:$N$2822,0)),\"\")","v":""}]
["02","20","01","3","022001","Gmina miejsko-wiejska","DOLNOŚLĄSKIE","trzebnicki","OBORNIKI ŚLĄSKIE","OBORNIKI ŚLĄSKIE - Gmina miejsko-wiejska / Powiat trzebnicki / Województwo  - DOLNOŚLĄSKIE / 022001 / ",72019143,81139808.786599994,{"$f":"ISNUMBER(SEARCH(Wyszukiwarka!$A$1,'Porównanie dochodów JST'!J135))","v":false},{"$f":"IF(M135,COUNTIF($M$16:M135,TRUE),\"\")","v":""},{"$f":"IFERROR(INDEX($J$16:$J$2822,MATCH(ROWS($J$16:J135),$N$16:$N$2822,0)),\"\")","v":""}]
["02","20","02","3","022002","Gmina miejsko-wiejska","DOLNOŚLĄSKIE","trzebnicki","PRUSICE","PRUSICE - Gmina miejsko-wiejska / Powiat trzebnicki / Województwo  - DOLNOŚLĄSKIE / 022002 / ",27954631,31366859.511700004,{"$f":"ISNUMBER(SEARCH(Wyszukiwarka!$A$1,'Porównanie dochodów JST'!J136))","v":false},{"$f":"IF(M136,COUNTIF($M$16:M136,TRUE),\"\")","v":""},{"$f":"IFERROR(INDEX($J$16:$J$2822,MATCH(ROWS($J$16:J136),$N$16:$N$2822,0)),\"\")","v":""}]
["02","20","03","3","022003","Gmina miejsko-wiejska","DOLNOŚLĄSKIE","trzebnicki","TRZEBNICA","TRZEBNICA - Gmina miejsko-wiejska / Powiat trzebnicki / Województwo  - DOLNOŚLĄSKIE / 022003 / ",93277535,100091052,{"$f":"ISNUMBER(SEARCH(Wyszukiwarka!$A$1,'Porównanie dochodów JST'!J137))","v":false},{"$f":"IF(M137,COUNTIF($M$16:M137,TRUE),\"\")","v":""},{"$f":"IFERROR(INDEX($J$16:$J$2822,MATCH(ROWS($J$16:J137),$N$16:$N$2822,0)),\"\")","v":""}]
["02","20","04","2","022004","Gmina wiejska","DOLNOŚLĄSKIE","trzebnicki","WISZNIA MAŁA","WISZNIA MAŁA - Gmina wiejska / Powiat trzebnicki / Województwo  - DOLNOŚLĄSKIE / 022004 / ",47428270,51891251,{"$f":"ISNUMBER(SEARCH(Wyszukiwarka!$A$1,'Porównanie dochodów JST'!J138))","v":false},{"$f":"IF(M138,COUNTIF($M$16:M138,TRUE),\"\")","v":""},{"$f":"IFERROR(INDEX($J$16:$J$2822,MATCH(ROWS($J$16:J138),$N$16:$N$2822,0)),\"\")","v":""}]
["02","20","05","2","022005","Gmina wiejska","DOLNOŚLĄSKIE","trzebnicki","ZAWONIA","ZAWONIA - Gmina wiejska / Powiat trzebnicki / Województwo  - DOLNOŚLĄSKIE / 022005 / ",22873683,25080998.851315506,{"$f":"ISNUMBER(SEARCH(Wyszukiwarka!$A$1,'Porównanie dochodów JST'!J139))","v":false},{"$f":"IF(M139,COUNTIF($M$16:M139,TRUE),\"\")","v":""},{"$f":"IFERROR(INDEX($J$16:$J$2822,MATCH(ROWS($J$16:J139),$N$16:$N$2822,0)),\"\")","v":""}]
["02","20","06","3","022006","Gmina miejsko-wiejska","DOLNOŚLĄSKIE","trzebnicki","ŻMIGRÓD","ŻMIGRÓD - Gmina miejsko-wiejska / Powiat trzebnicki / Województwo  - DOLNOŚLĄSKIE / 022006 / ",48526801,52950753,{"$f":"ISNUMBER(SEARCH(Wyszukiwarka!$A$1,'Porównanie dochodów JST'!J140))","v":false},{"$f":"IF(M140,COUNTIF($M$16:M140,TRUE),\"\")","v":""},{"$f":"IFERROR(INDEX($J$16:$J$2822,MATCH(ROWS($J$16:J140),$N$16:$N$2822,0)),\"\")","v":""}]
["02","21","01","1","022101","Gmina miejska","DOLNOŚLĄSKIE","wałbrzyski","BOGUSZÓW-GORCE","BOGUSZÓW-GORCE - Gmina miejska / Powiat wałbrzyski / Województwo  - DOLNOŚLĄSKIE / 022101 / ",45668372,49928071,{"$f":"ISNUMBER(SEARCH(Wyszukiwarka!$A$1,'Porównanie dochodów JST'!J141))","v":false},{"$f":"IF(M141,COUNTIF($M$16:M141,TRUE),\"\")","v":""},{"$f":"IFERROR(INDEX($J$16:$J$2822,MATCH(ROWS($J$16:J141),$N$16:$N$2822,0)),\"\")","v":""}]
["02","21","02","1","022102","Gmina miejska","DOLNOŚLĄSKIE","wałbrzyski","JEDLINA-ZDRÓJ","JEDLINA-ZDRÓJ - Gmina miejska / Powiat wałbrzyski / Województwo  - DOLNOŚLĄSKIE / 022102 / ",15507065,17421942,{"$f":"ISNUMBER(SEARCH(Wyszukiwarka!$A$1,'Porównanie dochodów JST'!J142))","v":false},{"$f":"IF(M142,COUNTIF($M$16:M142,TRUE),\"\")","v":""},{"$f":"IFERROR(INDEX($J$16:$J$2822,MATCH(ROWS($J$16:J142),$N$16:$N$2822,0)),\"\")","v":""}]
["02","21","03","1","022103","Gmina miejska","DOLNOŚLĄSKIE","wałbrzyski","SZCZAWNO-ZDRÓJ","SZCZAWNO-ZDRÓJ - Gmina miejska / Powiat wałbrzyski / Województwo  - DOLNOŚLĄSKIE / 022103 / ",19604867,22045683.379999619,{"$f":"ISNUMBER(SEARCH(Wyszukiwarka!$A$1,'Porównanie dochodów JST'!J143))","v":false},{"$f":"IF(M143,COUNTIF($M$16:M143,TRUE),\"\")","v":""},{"$f":"IFERROR(INDEX($J$16:$J$2822,MATCH(ROWS($J$16:J143),$N$16:$N$2822,0)),\"\")","v":""}]
["02","21","04","2","022104","Gmina wiejska","DOLNOŚLĄSKIE","wałbrzyski","CZARNY BÓR","CZARNY BÓR - Gmina wiejska / Powiat wałbrzyski / Województwo  - DOLNOŚLĄSKIE / 022104 / ",17126244,19098639,{"$f":"ISNUMBER(SEARCH(Wyszukiwarka!$A$1,'Porównanie dochodów JST'!J144))","v":false},{"$f":"IF(M144,COUNTIF($M$16:M144,TRUE),\"\")","v":""},{"$f":"IFERROR(INDEX($J$16:$J$2822,MATCH(ROWS($J$16:J144),$N$16:$N$2822,0)),\"\")","v":""}]
["02","21","05","3","022105","Gmina miejsko-wiejska","DOLNOŚLĄSKIE","wałbrzyski","GŁUSZYCA",{"$f":"I145&$H$12&F145&$G$12&$H$14&H145&$G$12&$G$14&$H$12&G145&$G$12&E145&$G$12","v":"GŁUSZYCA - Gmina miejsko-wiejska / Powiat wałbrzyski / Województwo  - DOLNOŚLĄSKIE / 022105 / "},24609799,27843133,{"$f":"ISNUMBER(SEARCH(Wyszukiwarka!$A$1,'Porównanie dochodów JST'!J145))","v":false},{"$f":"IF(M145,COUNTIF($M$16:M145,TRUE),\"\")","v":""},{"$f":"IFERROR(INDEX($J$16:$J$2822,MATCH(ROWS($J$16:J145),$N$16:$N$2822,0)),\"\")","v":""}]
["02","21","06","3","022106","Gmina miejsko-wiejska","DOLNOŚLĄSKIE","wałbrzyski","MIEROSZÓW","MIEROSZÓW - Gmina miejsko-wiejska / Powiat wałbrzyski / Województwo  - DOLNOŚLĄSKIE / 022106 / ",21642161,24233190.873112664,{"$f":"ISNUMBER(SEARCH(Wyszukiwarka!$A$1,'Porównanie dochodów JST'!J146))","v":false},{"$f":"IF(M146,COUNTIF($M$16:M146,TRUE),\"\")","v":""},{"$f":"IFERROR(INDEX($J$16:$J$2822,MATCH(ROWS($J$16:J146),$N$16:$N$2822,0)),\"\")","v":""}]
["02","21","07","2","022107","Gmina wiejska","DOLNOŚLĄSKIE","wałbrzyski","STARE BOGACZOWICE","STARE BOGACZOWICE - Gmina wiejska / Powiat wałbrzyski / Województwo  - DOLNOŚLĄSKIE / 022107 / ",16023313,17966144.6987,{"$f":"ISNUMBER(SEARCH(Wyszukiwarka!$A$1,'Porównanie dochodów JST'!J147))","v":false},{"$f":"IF(M147,COUNTIF($M$16:M147,TRUE),\"\")","v":""},{"$f":"IFERROR(INDEX($J$16:$J$2822,MATCH(ROWS($J$16:J147),$N$16:$N$2822,0)),\"\")","v":""}]
["02","21","08","2","022108","Gmina wiejska","DOLNOŚLĄSKIE","wałbrzyski","WALIM","WALIM - Gmina wiejska / Powiat wałbrzyski / Województwo  - DOLNOŚLĄSKIE / 022108 / ",18395751,20417563,{"$f":"ISNUMBER(SEARCH(Wyszukiwarka!$A$1,'Porównanie dochodów JST'!J148))","v":false},{"$f":"IF(M148,COUNTIF($M$16:M148,TRUE),\"\")","v":""},{"$f":"IFERROR(INDEX($J$16:$J$2822,MATCH(ROWS($J$16:J148),$N$16:$N$2822,0)),\"\")","v":""}]
["02","22","01","3","022201","Gmina miejsko-wiejska","DOLNOŚLĄSKIE","wołowski","BRZEG DOLNY","BRZEG DOLNY - Gmina miejsko-wiejska / Powiat wołowski / Województwo  - DOLNOŚLĄSKIE / 022201 / ",51114952,59117684.639999993,{"$f":"ISNUMBER(SEARCH(Wyszukiwarka!$A$1,'Porównanie dochodów JST'!J149))","v":false},{"$f":"IF(M149,COUNTIF($M$16:M149,TRUE),\"\")","v":""},{"$f":"IFERROR(INDEX($J$16:$J$2822,MATCH(ROWS($J$16:J149),$N$16:$N$2822,0)),\"\")","v":""}]
["02","22","02","2","022202","Gmina wiejska","DOLNOŚLĄSKIE","wołowski","WIŃSKO","WIŃSKO - Gmina wiejska / Powiat wołowski / Województwo  - DOLNOŚLĄSKIE / 022202 / ",30000173,32800013.815385841,{"$f":"ISNUMBER(SEARCH(Wyszukiwarka!$A$1,'Porównanie dochodów JST'!J150))","v":false},{"$f":"IF(M150,COUNTIF($M$16:M150,TRUE),\"\")","v":""},{"$f":"IFERROR(INDEX($J$16:$J$2822,MATCH(ROWS($J$16:J150),$N$16:$N$2822,0)),\"\")","v":""}]
["02","22","03","3","022203","Gmina miejsko-wiejska","DOLNOŚLĄSKIE","wołowski","WOŁÓW","WOŁÓW - Gmina miejsko-wiejska / Powiat wołowski / Województwo  - DOLNOŚLĄSKIE / 022203 / ",73128617,80318399.655393347,{"$f":"ISNUMBER(SEARCH(Wyszukiwarka!$A$1,'Porównanie dochodów JST'!J151))","v":false},{"$f":"IF(M151,COUNTIF($M$16:M151,TRUE),\"\")","v":""},{"$f":"IFERROR(INDEX($J$16:$J$2822,MATCH(ROWS($J$16:J151),$N$16:$N$2822,0)),\"\")","v":""}]
["02","23","01","2","022301","Gmina wiejska","DOLNOŚLĄSKIE","wrocławski","CZERNICA","CZERNICA - Gmina wiejska / Powiat wrocławski / Województwo  - DOLNOŚLĄSKIE / 022301 / ",105447478,114746587.24562293,{"$f":"ISNUMBER(SEARCH(Wyszukiwarka!$A$1,'Porównanie dochodów JST'!J152))","v":false},{"$f":"IF(M152,COUNTIF($M$16:M152,TRUE),\"\")","v":""},{"$f":"IFERROR(INDEX($J$16:$J$2822,MATCH(ROWS($J$16:J152),$N$16:$N$2822,0)),\"\")","v":""}]
["02","23","02","2","022302","Gmina wiejska","DOLNOŚLĄSKIE","wrocławski","DŁUGOŁĘKA","DŁUGOŁĘKA - Gmina wiejska / Powiat wrocławski / Województwo  - DOLNOŚLĄSKIE / 022302 / ",210848163,228157247.80981252,{"$f":"ISNUMBER(SEARCH(Wyszukiwarka!$A$1,'Porównanie dochodów JST'!J153))","v":false},{"$f":"IF(M153,COUNTIF($M$16:M153,TRUE),\"\")","v":""},{"$f":"IFERROR(INDEX($J$16:$J$2822,MATCH(ROWS($J$16:J153),$N$16:$N$2822,0)),\"\")","v":""}]
["02","23","03","2","022303","Gmina wiejska","DOLNOŚLĄSKIE","wrocławski","JORDANÓW ŚLĄSKI","JORDANÓW ŚLĄSKI - Gmina wiejska / Powiat wrocławski / Województwo  - DOLNOŚLĄSKIE / 022303 / ",13257420,14584484,{"$f":"ISNUMBER(SEARCH(Wyszukiwarka!$A$1,'Porównanie dochodów JST'!J154))","v":false},{"$f":"IF(M154,COUNTIF($M$16:M154,TRUE),\"\")","v":""},{"$f":"IFERROR(INDEX($J$16:$J$2822,MATCH(ROWS($J$16:J154),$N$16:$N$2822,0)),\"\")","v":""}]
["02","23","04","3","022304","Gmina miejsko-wiejska","DOLNOŚLĄSKIE","wrocławski","KĄTY WROCŁAWSKIE","KĄTY WROCŁAWSKIE - Gmina miejsko-wiejska / Powiat wrocławski / Województwo  - DOLNOŚLĄSKIE / 022304 / ",134032846,144323976.49335346,{"$f":"ISNUMBER(SEARCH(Wyszukiwarka!$A$1,'Porównanie dochodów JST'!J155))","v":false},{"$f":"IF(M155,COUNTIF($M$16:M155,TRUE),\"\")","v":""},{"$f":"IFERROR(INDEX($J$16:$J$2822,MATCH(ROWS($J$16:J155),$N$16:$N$2822,0)),\"\")","v":""}]
["02","23","05","2","022305","Gmina wiejska","DOLNOŚLĄSKIE","wrocławski","KOBIERZYCE","KOBIERZYCE - Gmina wiejska / Powiat wrocławski / Województwo  - DOLNOŚLĄSKIE / 022305 / ",165690105,181324606.28208014,{"$f":"ISNUMBER(SEARCH(Wyszukiwarka!$A$1,'Porównanie dochodów JST'!J156))","v":false},{"$f":"IF(M156,COUNTIF($M$16:M156,TRUE),\"\")","v":""},{"$f":"IFERROR(INDEX($J$16:$J$2822,MATCH(ROWS($J$16:J156),$N$16:$N$2822,0)),\"\")","v":""}]
["02","23","06","2","022306","Gmina wiejska","DOLNOŚLĄSKIE","wrocławski","MIETKÓW","MIETKÓW - Gmina wiejska / Powiat wrocławski / Województwo  - DOLNOŚLĄSKIE / 022306 / ",11795665,13178034.863,{"$f":"ISNUMBER(SEARCH(Wyszukiwarka!$A$1,'Porównanie dochodów JST'!J157))","v":false},{"$f":"IF(M157,COUNTIF($M$16:M157,TRUE),\"\")","v":""},{"$f":"IFERROR(INDEX($J$16:$J$2822,MATCH(ROWS($J$16:J157),$N$16:$N$2822,0)),\"\")","v":""}]
["02","23","07","3","022307","Gmina miejsko-wiejska","DOLNOŚLĄSKIE","wrocławski","SOBÓTKA","SOBÓTKA - Gmina miejsko-wiejska / Powiat wrocławski / Województwo  - DOLNOŚLĄSKIE / 022307 / ",50120459,54347107,{"$f":"ISNUMBER(SEARCH(Wyszukiwarka!$A$1,'Porównanie dochodów JST'!J158))","v":false},{"$f":"IF(M158,COUNTIF($M$16:M158,TRUE),\"\")","v":""},{"$f":"IFERROR(INDEX($J$16:$J$2822,MATCH(ROWS($J$16:J158),$N$16:$N$2822,0)),\"\")","v":""}]
["02","23","08","3","022308","Gmina miejsko-wiejska","DOLNOŚLĄSKIE","wrocławski","SIECHNICE","SIECHNICE - Gmina miejsko-wiejska / Powiat wrocławski / Województwo  - DOLNOŚLĄSKIE / 022308 / ",146269659,156965034.68138593,{"$f":"ISNUMBER(SEARCH(Wyszukiwarka!$A$1,'Porównanie dochodów JST'!J159))","v":false},{"$f":"IF(M159,COUNTIF($M$16:M159,TRUE),\"\")","v":""},{"$f":"IFERROR(INDEX($J$16:$J$2822,MATCH(ROWS($J$16:J159),$N$16:$N$2822,0)),\"\")","v":""}]
["02","23","09","2","022309","Gmina wiejska","DOLNOŚLĄSKIE","wrocławski","ŻÓRAWINA","ŻÓRAWINA - Gmina wiejska / Powiat wrocławski / Województwo  - DOLNOŚLĄSKIE / 022309 / ",59061951,63922120,{"$f":"ISNUMBER(SEARCH(Wyszukiwarka!$A$1,'Porównanie dochodów JST'!J160))","v":false},{"$f":"IF(M160,COUNTIF($M$16:M160,TRUE),\"\")","v":""},{"$f":"IFERROR(INDEX($J$16:$J$2822,MATCH(ROWS($J$16:J160),$N$16:$N$2822,0)),\"\")","v":""}]
["02","24","01","3","022401","Gmina miejsko-wiejska","DOLNOŚLĄSKIE","ząbkowicki","BARDO","BARDO - Gmina miejsko-wiejska / Powiat ząbkowicki / Województwo  - DOLNOŚLĄSKIE / 022401 / ",17764220,19949466,{"$f":"ISNUMBER(SEARCH(Wyszukiwarka!$A$1,'Porównanie dochodów JST'!J161))","v":false},{"$f":"IF(M161,COUNTIF($M$16:M161,TRUE),\"\")","v":""},{"$f":"IFERROR(INDEX($J$16:$J$2822,MATCH(ROWS($J$16:J161),$N$16:$N$2822,0)),\"\")","v":""}]
["02","24","02","2","022402","Gmina wiejska","DOLNOŚLĄSKIE","ząbkowicki","CIEPŁOWODY","CIEPŁOWODY - Gmina wiejska / Powiat ząbkowicki / Województwo  - DOLNOŚLĄSKIE / 022402 / ",8955233,10158630.9,{"$f":"ISNUMBER(SEARCH(Wyszukiwarka!$A$1,'Porównanie dochodów JST'!J162))","v":false},{"$f":"IF(M162,COUNTIF($M$16:M162,TRUE),\"\")","v":""},{"$f":"IFERROR(INDEX($J$16:$J$2822,MATCH(ROWS($J$16:J162),$N$16:$N$2822,0)),\"\")","v":""}]
["02","24","03","2","022403","Gmina wiejska","DOLNOŚLĄSKIE","ząbkowicki","KAMIENIEC ZĄBKOWICKI","KAMIENIEC ZĄBKOWICKI - Gmina wiejska / Powiat ząbkowicki / Województwo  - DOLNOŚLĄSKIE / 022403 / ",23262799,25994016.7711,{"$f":"ISNUMBER(SEARCH(Wyszukiwarka!$A$1,'Porównanie dochodów JST'!J163))","v":false},{"$f":"IF(M163,COUNTIF($M$16:M163,TRUE),\"\")","v":""},{"$f":"IFERROR(INDEX($J$16:$J$2822,MATCH(ROWS($J$16:J163),$N$16:$N$2822,0)),\"\")","v":""}]
["02","24","04","2","022404","Gmina wiejska","DOLNOŚLĄSKIE","ząbkowicki","STOSZOWICE","STOSZOWICE - Gmina wiejska / Powiat ząbkowicki / Województwo  - DOLNOŚLĄSKIE / 022404 / ",18651794,20667328.886342693,{"$f":"ISNUMBER(SEARCH(Wyszukiwarka!$A$1,'Porównanie dochodów JST'!J164))","v":false},{"$f":"IF(M164,COUNTIF($M$16:M164,TRUE),\"\")","v":""},{"$f":"IFERROR(INDEX($J$16:$J$2822,MATCH(ROWS($J$16:J164),$N$16:$N$2822,0)),\"\")","v":""}]
["02","24","05","3","022405","Gmina miejsko-wiejska","DOLNOŚLĄSKIE","ząbkowicki","ZĄBKOWICE ŚLĄSKIE","ZĄBKOWICE ŚLĄSKIE - Gmina miejsko-wiejska / Powiat ząbkowicki / Województwo  - DOLNOŚLĄSKIE / 022405 / ",64146415,69592076,{"$f":"ISNUMBER(SEARCH(Wyszukiwarka!$A$1,'Porównanie dochodów JST'!J165))","v":false},{"$f":"IF(M165,COUNTIF($M$16:M165,TRUE),\"\")","v":""},{"$f":"IFERROR(INDEX($J$16:$J$2822,MATCH(ROWS($J$16:J165),$N$16:$N$2822,0)),\"\")","v":""}]
["02","24","06","3","022406","Gmina miejsko-wiejska","DOLNOŚLĄSKIE","ząbkowicki","ZIĘBICE","ZIĘBICE - Gmina miejsko-wiejska / Powiat ząbkowicki / Województwo  - DOLNOŚLĄSKIE / 022406 / ",49994028,54984164,{"$f":"ISNUMBER(SEARCH(Wyszukiwarka!$A$1,'Porównanie dochodów JST'!J166))","v":false},{"$f":"IF(M166,COUNTIF($M$16:M166,TRUE),\"\")","v":""},{"$f":"IFERROR(INDEX($J$16:$J$2822,MATCH(ROWS($J$16:J166),$N$16:$N$2822,0)),\"\")","v":""}]
["02","24","07","3","022407","Gmina miejsko-wiejska","DOLNOŚLĄSKIE","ząbkowicki","ZŁOTY STOK","ZŁOTY STOK - Gmina miejsko-wiejska / Powiat ząbkowicki / Województwo  - DOLNOŚLĄSKIE / 022407 / ",15186655,17089830,{"$f":"ISNUMBER(SEARCH(Wyszukiwarka!$A$1,'Porównanie dochodów JST'!J167))","v":false},{"$f":"IF(M167,COUNTIF($M$16:M167,TRUE),\"\")","v":""},{"$f":"IFERROR(INDEX($J$16:$J$2822,MATCH(ROWS($J$16:J167),$N$16:$N$2822,0)),\"\")","v":""}]
["02","25","01","1","022501","Gmina miejska","DOLNOŚLĄSKIE","zgorzelecki","ZAWIDÓW","ZAWIDÓW - Gmina miejska / Powiat zgorzelecki / Województwo  - DOLNOŚLĄSKIE / 022501 / ",13441011,14792347.9904,{"$f":"ISNUMBER(SEARCH(Wyszukiwarka!$A$1,'Porównanie dochodów JST'!J168))","v":false},{"$f":"IF(M168,COUNTIF($M$16:M168,TRUE),\"\")","v":""},{"$f":"IFERROR(INDEX($J$16:$J$2822,MATCH(ROWS($J$16:J168),$N$16:$N$2822,0)),\"\")","v":""}]
["02","25","02","1","022502","Gmina miejska","DOLNOŚLĄSKIE","zgorzelecki","ZGORZELEC","ZGORZELEC - Gmina miejska / Powiat zgorzelecki / Województwo  - DOLNOŚLĄSKIE / 022502 / ",93564986,105536656.52080001,{"$f":"ISNUMBER(SEARCH(Wyszukiwarka!$A$1,'Porównanie dochodów JST'!J169))","v":false},{"$f":"IF(M169,COUNTIF($M$16:M169,TRUE),\"\")","v":""},{"$f":"IFERROR(INDEX($J$16:$J$2822,MATCH(ROWS($J$16:J169),$N$16:$N$2822,0)),\"\")","v":""}]
["02","25","03","3","022503","Gmina miejsko-wiejska","DOLNOŚLĄSKIE","zgorzelecki","BOGATYNIA","BOGATYNIA - Gmina miejsko-wiejska / Powiat zgorzelecki / Województwo  - DOLNOŚLĄSKIE / 022503 / ",69745412,76580428,{"$f":"ISNUMBER(SEARCH(Wyszukiwarka!$A$1,'Porównanie dochodów JST'!J170))","v":false},{"$f":"IF(M170,COUNTIF($M$16:M170,TRUE),\"\")","v":""},{"$f":"IFERROR(INDEX($J$16:$J$2822,MATCH(ROWS($J$16:J170),$N$16:$N$2822,0)),\"\")","v":""}]
["02","25","04","3","022504","Gmina miejsko-wiejska","DOLNOŚLĄSKIE","zgorzelecki","PIEŃSK","PIEŃSK - Gmina miejsko-wiejska / Powiat zgorzelecki / Województwo  - DOLNOŚLĄSKIE / 022504 / ",26022602,29349536,{"$f":"ISNUMBER(SEARCH(Wyszukiwarka!$A$1,'Porównanie dochodów JST'!J171))","v":false},{"$f":"IF(M171,COUNTIF($M$16:M171,TRUE),\"\")","v":""},{"$f":"IFERROR(INDEX($J$16:$J$2822,MATCH(ROWS($J$16:J171),$N$16:$N$2822,0)),\"\")","v":""}]
["02","25","05","2","022505","Gmina wiejska","DOLNOŚLĄSKIE","zgorzelecki","SULIKÓW","SULIKÓW - Gmina wiejska / Powiat zgorzelecki / Województwo  - DOLNOŚLĄSKIE / 022505 / ",15992704,18056018,{"$f":"ISNUMBER(SEARCH(Wyszukiwarka!$A$1,'Porównanie dochodów JST'!J172))","v":false},{"$f":"IF(M172,COUNTIF($M$16:M172,TRUE),\"\")","v":""},{"$f":"IFERROR(INDEX($J$16:$J$2822,MATCH(ROWS($J$16:J172),$N$16:$N$2822,0)),\"\")","v":""}]
["02","25","06","3","022506","Gmina miejsko-wiejska","DOLNOŚLĄSKIE","zgorzelecki","WĘGLINIEC","WĘGLINIEC - Gmina miejsko-wiejska / Powiat zgorzelecki / Województwo  - DOLNOŚLĄSKIE / 022506 / ",28475222,31273666,{"$f":"ISNUMBER(SEARCH(Wyszukiwarka!$A$1,'Porównanie dochodów JST'!J173))","v":false},{"$f":"IF(M173,COUNTIF($M$16:M173,TRUE),\"\")","v":""},{"$f":"IFERROR(INDEX($J$16:$J$2822,MATCH(ROWS($J$16:J173),$N$16:$N$2822,0)),\"\")","v":""}]
["02","25","07","2","022507","Gmina wiejska","DOLNOŚLĄSKIE","zgorzelecki","ZGORZELEC","ZGORZELEC - Gmina wiejska / Powiat zgorzelecki / Województwo  - DOLNOŚLĄSKIE / 022507 / ",24409912,27572691.84236522,{"$f":"ISNUMBER(SEARCH(Wyszukiwarka!$A$1,'Porównanie dochodów JST'!J174))","v":false},{"$f":"IF(M174,COUNTIF($M$16:M174,TRUE),\"\")","v":""},{"$f":"IFERROR(INDEX($J$16:$J$2822,MATCH(ROWS($J$16:J174),$N$16:$N$2822,0)),\"\")","v":""}]
["02","26","01","1","022601","Gmina miejska","DOLNOŚLĄSKIE","złotoryjski","WOJCIESZÓW","WOJCIESZÓW - Gmina miejska / Powiat złotoryjski / Województwo  - DOLNOŚLĄSKIE / 022601 / ",12989713,14892159.52,{"$f":"ISNUMBER(SEARCH(Wyszukiwarka!$A$1,'Porównanie dochodów JST'!J175))","v":false},{"$f":"IF(M175,COUNTIF($M$16:M175,TRUE),\"\")","v":""},{"$f":"IFERROR(INDEX($J$16:$J$2822,MATCH(ROWS($J$16:J175),$N$16:$N$2822,0)),\"\")","v":""}]
["02","26","02","1","022602","Gmina miejska","DOLNOŚLĄSKIE","złotoryjski","ZŁOTORYJA","ZŁOTORYJA - Gmina miejska / Powiat złotoryjski / Województwo  - DOLNOŚLĄSKIE / 022602 / ",43469365,50203968.640000001,{"$f":"ISNUMBER(SEARCH(Wyszukiwarka!$A$1,'Porównanie dochodów JST'!J176))","v":false},{"$f":"IF(M176,COUNTIF($M$16:M176,TRUE),\"\")","v":""},{"$f":"IFERROR(INDEX($J$16:$J$2822,MATCH(ROWS($J$16:J176),$N$16:$N$2822,0)),\"\")","v":""}]
["02","26","03","2","022603","Gmina wiejska","DOLNOŚLĄSKIE","złotoryjski","PIELGRZYMKA","PIELGRZYMKA - Gmina wiejska / Powiat złotoryjski / Województwo  - DOLNOŚLĄSKIE / 022603 / ",15126750,17053580,{"$f":"ISNUMBER(SEARCH(Wyszukiwarka!$A$1,'Porównanie dochodów JST'!J177))","v":false},{"$f":"IF(M177,COUNTIF($M$16:M177,TRUE),\"\")","v":""},{"$f":"IFERROR(INDEX($J$16:$J$2822,MATCH(ROWS($J$16:J177),$N$16:$N$2822,0)),\"\")","v":""}]
["02","26","04","3","022604","Gmina miejsko-wiejska","DOLNOŚLĄSKIE","złotoryjski","ŚWIERZAWA","ŚWIERZAWA - Gmina miejsko-wiejska / Powiat złotoryjski / Województwo  - DOLNOŚLĄSKIE / 022604 / ",26839343,29528283,{"$f":"ISNUMBER(SEARCH(Wyszukiwarka!$A$1,'Porównanie dochodów JST'!J178))","v":false},{"$f":"IF(M178,COUNTIF($M$16:M178,TRUE),\"\")","v":""},{"$f":"IFERROR(INDEX($J$16:$J$2822,MATCH(ROWS($J$16:J178),$N$16:$N$2822,0)),\"\")","v":""}]
["02","26","05","2","022605","Gmina wiejska","DOLNOŚLĄSKIE","złotoryjski","ZAGRODNO","ZAGRODNO - Gmina wiejska / Powiat złotoryjski / Województwo  - DOLNOŚLĄSKIE / 022605 / ",11908909,13429665.699999999,{"$f":"ISNUMBER(SEARCH(Wyszukiwarka!$A$1,'Porównanie dochodów JST'!J179))","v":false},{"$f":"IF(M179,COUNTIF($M$16:M179,TRUE),\"\")","v":""},{"$f":"IFERROR(INDEX($J$16:$J$2822,MATCH(ROWS($J$16:J179),$N$16:$N$2822,0)),\"\")","v":""}]
["02","26","06","2","022606","Gmina wiejska","DOLNOŚLĄSKIE","złotoryjski","ZŁOTORYJA","ZŁOTORYJA - Gmina wiejska / Powiat złotoryjski / Województwo  - DOLNOŚLĄSKIE / 022606 / ",23146016,25841429.748300001,{"$f":"ISNUMBER(SEARCH(Wyszukiwarka!$A$1,'Porównanie dochodów JST'!J180))","v":false},{"$f":"IF(M180,COUNTIF($M$16:M180,TRUE),\"\")","v":""},{"$f":"IFERROR(INDEX($J$16:$J$2822,MATCH(ROWS($J$16:J180),$N$16:$N$2822,0)),\"\")","v":""}]
["04","01","01","1","040101","Gmina miejska","KUJAWSKO-POMORSKIE","aleksandrowski","ALEKSANDRÓW KUJAWSKI","ALEKSANDRÓW KUJAWSKI - Gmina miejska / Powiat aleksandrowski / Województwo  - KUJAWSKO-POMORSKIE / 040101 / ",40317937,46311550.879999995,{"$f":"ISNUMBER(SEARCH(Wyszukiwarka!$A$1,'Porównanie dochodów JST'!J181))","v":false},{"$f":"IF(M181,COUNTIF($M$16:M181,TRUE),\"\")","v":""},{"$f":"IFERROR(INDEX($J$16:$J$2822,MATCH(ROWS($J$16:J181),$N$16:$N$2822,0)),\"\")","v":""}]
["04","01","02","1","040102","Gmina miejska","KUJAWSKO-POMORSKIE","aleksandrowski","CIECHOCINEK","CIECHOCINEK - Gmina miejska / Powiat aleksandrowski / Województwo  - KUJAWSKO-POMORSKIE / 040102 / ",29907726,34590253.600000001,{"$f":"ISNUMBER(SEARCH(Wyszukiwarka!$A$1,'Porównanie dochodów JST'!J182))","v":false},{"$f":"IF(M182,COUNTIF($M$16:M182,TRUE),\"\")","v":""},{"$f":"IFERROR(INDEX($J$16:$J$2822,MATCH(ROWS($J$16:J182),$N$16:$N$2822,0)),\"\")","v":""}]
["04","01","03","1","040103","Gmina miejska","KUJAWSKO-POMORSKIE","aleksandrowski","NIESZAWA","NIESZAWA - Gmina miejska / Powiat aleksandrowski / Województwo  - KUJAWSKO-POMORSKIE / 040103 / ",6491473,7347935.1000000006,{"$f":"ISNUMBER(SEARCH(Wyszukiwarka!$A$1,'Porównanie dochodów JST'!J183))","v":false},{"$f":"IF(M183,COUNTIF($M$16:M183,TRUE),\"\")","v":""},{"$f":"IFERROR(INDEX($J$16:$J$2822,MATCH(ROWS($J$16:J183),$N$16:$N$2822,0)),\"\")","v":""}]
["04","01","04","2","040104","Gmina wiejska","KUJAWSKO-POMORSKIE","aleksandrowski","ALEKSANDRÓW KUJAWSKI","ALEKSANDRÓW KUJAWSKI - Gmina wiejska / Powiat aleksandrowski / Województwo  - KUJAWSKO-POMORSKIE / 040104 / ",40064623,44184131,{"$f":"ISNUMBER(SEARCH(Wyszukiwarka!$A$1,'Porównanie dochodów JST'!J184))","v":false},{"$f":"IF(M184,COUNTIF($M$16:M184,TRUE),\"\")","v":""},{"$f":"IFERROR(INDEX($J$16:$J$2822,MATCH(ROWS($J$16:J184),$N$16:$N$2822,0)),\"\")","v":""}]
["04","01","05","2","040105","Gmina wiejska","KUJAWSKO-POMORSKIE","aleksandrowski","BĄDKOWO","BĄDKOWO - Gmina wiejska / Powiat aleksandrowski / Województwo  - KUJAWSKO-POMORSKIE / 040105 / ",14835726,16732961,{"$f":"ISNUMBER(SEARCH(Wyszukiwarka!$A$1,'Porównanie dochodów JST'!J185))","v":false},{"$f":"IF(M185,COUNTIF($M$16:M185,TRUE),\"\")","v":""},{"$f":"IFERROR(INDEX($J$16:$J$2822,MATCH(ROWS($J$16:J185),$N$16:$N$2822,0)),\"\")","v":""}]
["04","01","06","2","040106","Gmina wiejska","KUJAWSKO-POMORSKIE","aleksandrowski","KONECK","KONECK - Gmina wiejska / Powiat aleksandrowski / Województwo  - KUJAWSKO-POMORSKIE / 040106 / ",14794044,16102438,{"$f":"ISNUMBER(SEARCH(Wyszukiwarka!$A$1,'Porównanie dochodów JST'!J186))","v":false},{"$f":"IF(M186,COUNTIF($M$16:M186,TRUE),\"\")","v":""},{"$f":"IFERROR(INDEX($J$16:$J$2822,MATCH(ROWS($J$16:J186),$N$16:$N$2822,0)),\"\")","v":""}]
["04","01","07","2","040107","Gmina wiejska","KUJAWSKO-POMORSKIE","aleksandrowski","RACIĄŻEK","RACIĄŻEK - Gmina wiejska / Powiat aleksandrowski / Województwo  - KUJAWSKO-POMORSKIE / 040107 / ",11333511,12941890.99,{"$f":"ISNUMBER(SEARCH(Wyszukiwarka!$A$1,'Porównanie dochodów JST'!J187))","v":false},{"$f":"IF(M187,COUNTIF($M$16:M187,TRUE),\"\")","v":""},{"$f":"IFERROR(INDEX($J$16:$J$2822,MATCH(ROWS($J$16:J187),$N$16:$N$2822,0)),\"\")","v":""}]
["04","01","08","2","040108","Gmina wiejska","KUJAWSKO-POMORSKIE","aleksandrowski","WAGANIEC","WAGANIEC - Gmina wiejska / Powiat aleksandrowski / Województwo  - KUJAWSKO-POMORSKIE / 040108 / ",16727995,18649839,{"$f":"ISNUMBER(SEARCH(Wyszukiwarka!$A$1,'Porównanie dochodów JST'!J188))","v":false},{"$f":"IF(M188,COUNTIF($M$16:M188,TRUE),\"\")","v":""},{"$f":"IFERROR(INDEX($J$16:$J$2822,MATCH(ROWS($J$16:J188),$N$16:$N$2822,0)),\"\")","v":""}]
["04","01","09","2","040109","Gmina wiejska","KUJAWSKO-POMORSKIE","aleksandrowski","ZAKRZEWO","ZAKRZEWO - Gmina wiejska / Powiat aleksandrowski / Województwo  - KUJAWSKO-POMORSKIE / 040109 / ",14343806,16443408.800000001,{"$f":"ISNUMBER(SEARCH(Wyszukiwarka!$A$1,'Porównanie dochodów JST'!J189))","v":false},{"$f":"IF(M189,COUNTIF($M$16:M189,TRUE),\"\")","v":""},{"$f":"IFERROR(INDEX($J$16:$J$2822,MATCH(ROWS($J$16:J189),$N$16:$N$2822,0)),\"\")","v":""}]
["04","02","01","1","040201","Gmina miejska","KUJAWSKO-POMORSKIE","brodnicki","BRODNICA","BRODNICA - Gmina miejska / Powiat brodnicki / Województwo  - KUJAWSKO-POMORSKIE / 040201 / ",105057269,117998448.20761365,{"$f":"ISNUMBER(SEARCH(Wyszukiwarka!$A$1,'Porównanie dochodów JST'!J190))","v":false},{"$f":"IF(M190,COUNTIF($M$16:M190,TRUE),\"\")","v":""},{"$f":"IFERROR(INDEX($J$16:$J$2822,MATCH(ROWS($J$16:J190),$N$16:$N$2822,0)),\"\")","v":""}]
["04","02","02","2","040202","Gmina wiejska","KUJAWSKO-POMORSKIE","brodnicki","BOBROWO","BOBROWO - Gmina wiejska / Powiat brodnicki / Województwo  - KUJAWSKO-POMORSKIE / 040202 / ",27654450,30248584.508875035,{"$f":"ISNUMBER(SEARCH(Wyszukiwarka!$A$1,'Porównanie dochodów JST'!J191))","v":false},{"$f":"IF(M191,COUNTIF($M$16:M191,TRUE),\"\")","v":""},{"$f":"IFERROR(INDEX($J$16:$J$2822,MATCH(ROWS($J$16:J191),$N$16:$N$2822,0)),\"\")","v":""}]
["04","02","03","2","040203","Gmina wiejska","KUJAWSKO-POMORSKIE","brodnicki","BRODNICA","BRODNICA - Gmina wiejska / Powiat brodnicki / Województwo  - KUJAWSKO-POMORSKIE / 040203 / ",33330567,36774437.623932511,{"$f":"ISNUMBER(SEARCH(Wyszukiwarka!$A$1,'Porównanie dochodów JST'!J192))","v":false},{"$f":"IF(M192,COUNTIF($M$16:M192,TRUE),\"\")","v":""},{"$f":"IFERROR(INDEX($J$16:$J$2822,MATCH(ROWS($J$16:J192),$N$16:$N$2822,0)),\"\")","v":""}]
["04","02","04","2","040204","Gmina wiejska","KUJAWSKO-POMORSKIE","brodnicki","BRZOZIE","BRZOZIE - Gmina wiejska / Powiat brodnicki / Województwo  - KUJAWSKO-POMORSKIE / 040204 / ",17670044,19540362.588287689,{"$f":"ISNUMBER(SEARCH(Wyszukiwarka!$A$1,'Porównanie dochodów JST'!J193))","v":false},{"$f":"IF(M193,COUNTIF($M$16:M193,TRUE),\"\")","v":""},{"$f":"IFERROR(INDEX($J$16:$J$2822,MATCH(ROWS($J$16:J193),$N$16:$N$2822,0)),\"\")","v":""}]
["04","02","05","3","040205","Gmina miejsko-wiejska","KUJAWSKO-POMORSKIE","brodnicki","GÓRZNO","GÓRZNO - Gmina miejsko-wiejska / Powiat brodnicki / Województwo  - KUJAWSKO-POMORSKIE / 040205 / ",18025996,20610828,{"$f":"ISNUMBER(SEARCH(Wyszukiwarka!$A$1,'Porównanie dochodów JST'!J194))","v":false},{"$f":"IF(M194,COUNTIF($M$16:M194,TRUE),\"\")","v":""},{"$f":"IFERROR(INDEX($J$16:$J$2822,MATCH(ROWS($J$16:J194),$N$16:$N$2822,0)),\"\")","v":""}]
["04","02","06","2","040206","Gmina wiejska","KUJAWSKO-POMORSKIE","brodnicki","BARTNICZKA","BARTNICZKA - Gmina wiejska / Powiat brodnicki / Województwo  - KUJAWSKO-POMORSKIE / 040206 / ",16487198,18438526,{"$f":"ISNUMBER(SEARCH(Wyszukiwarka!$A$1,'Porównanie dochodów JST'!J195))","v":false},{"$f":"IF(M195,COUNTIF($M$16:M195,TRUE),\"\")","v":""},{"$f":"IFERROR(INDEX($J$16:$J$2822,MATCH(ROWS($J$16:J195),$N$16:$N$2822,0)),\"\")","v":""}]
["04","02","07","3","040207","Gmina miejsko-wiejska","KUJAWSKO-POMORSKIE","brodnicki","JABŁONOWO POMORSKIE","JABŁONOWO POMORSKIE - Gmina miejsko-wiejska / Powiat brodnicki / Województwo  - KUJAWSKO-POMORSKIE / 040207 / ",32706000,36005677.729176857,{"$f":"ISNUMBER(SEARCH(Wyszukiwarka!$A$1,'Porównanie dochodów JST'!J196))","v":false},{"$f":"IF(M196,COUNTIF($M$16:M196,TRUE),\"\")","v":""},{"$f":"IFERROR(INDEX($J$16:$J$2822,MATCH(ROWS($J$16:J196),$N$16:$N$2822,0)),\"\")","v":""}]
["04","02","08","2","040208","Gmina wiejska","KUJAWSKO-POMORSKIE","brodnicki","OSIEK","OSIEK - Gmina wiejska / Powiat brodnicki / Województwo  - KUJAWSKO-POMORSKIE / 040208 / ",13944558,15320264,{"$f":"ISNUMBER(SEARCH(Wyszukiwarka!$A$1,'Porównanie dochodów JST'!J197))","v":false},{"$f":"IF(M197,COUNTIF($M$16:M197,TRUE),\"\")","v":""},{"$f":"IFERROR(INDEX($J$16:$J$2822,MATCH(ROWS($J$16:J197),$N$16:$N$2822,0)),\"\")","v":""}]
["04","02","09","2","040209","Gmina wiejska","KUJAWSKO-POMORSKIE","brodnicki","ŚWIEDZIEBNIA","ŚWIEDZIEBNIA - Gmina wiejska / Powiat brodnicki / Województwo  - KUJAWSKO-POMORSKIE / 040209 / ",20256898,22248200.546417035,{"$f":"ISNUMBER(SEARCH(Wyszukiwarka!$A$1,'Porównanie dochodów JST'!J198))","v":false},{"$f":"IF(M198,COUNTIF($M$16:M198,TRUE),\"\")","v":""},{"$f":"IFERROR(INDEX($J$16:$J$2822,MATCH(ROWS($J$16:J198),$N$16:$N$2822,0)),\"\")","v":""}]
["04","02","10","2","040210","Gmina wiejska","KUJAWSKO-POMORSKIE","brodnicki","ZBICZNO","ZBICZNO - Gmina wiejska / Powiat brodnicki / Województwo  - KUJAWSKO-POMORSKIE / 040210 / ",19867382,21863195.626168806,{"$f":"ISNUMBER(SEARCH(Wyszukiwarka!$A$1,'Porównanie dochodów JST'!J199))","v":false},{"$f":"IF(M199,COUNTIF($M$16:M199,TRUE),\"\")","v":""},{"$f":"IFERROR(INDEX($J$16:$J$2822,MATCH(ROWS($J$16:J199),$N$16:$N$2822,0)),\"\")","v":""}]
["04","03","01","2","040301","Gmina wiejska","KUJAWSKO-POMORSKIE","bydgoski","BIAŁE BŁOTA","BIAŁE BŁOTA - Gmina wiejska / Powiat bydgoski / Województwo  - KUJAWSKO-POMORSKIE / 040301 / ",127259417,136309237.00875422,{"$f":"ISNUMBER(SEARCH(Wyszukiwarka!$A$1,'Porównanie dochodów JST'!J200))","v":false},{"$f":"IF(M200,COUNTIF($M$16:M200,TRUE),\"\")","v":""},{"$f":"IFERROR(INDEX($J$16:$J$2822,MATCH(ROWS($J$16:J200),$N$16:$N$2822,0)),\"\")","v":""}]
["04","03","02","2","040302","Gmina wiejska","KUJAWSKO-POMORSKIE","bydgoski","DĄBROWA CHEŁMIŃSKA","DĄBROWA CHEŁMIŃSKA - Gmina wiejska / Powiat bydgoski / Województwo  - KUJAWSKO-POMORSKIE / 040302 / ",32225325,35579717.69486396,{"$f":"ISNUMBER(SEARCH(Wyszukiwarka!$A$1,'Porównanie dochodów JST'!J201))","v":false},{"$f":"IF(M201,COUNTIF($M$16:M201,TRUE),\"\")","v":""},{"$f":"IFERROR(INDEX($J$16:$J$2822,MATCH(ROWS($J$16:J201),$N$16:$N$2822,0)),\"\")","v":""}]
["04","03","03","2","040303","Gmina wiejska","KUJAWSKO-POMORSKIE","bydgoski","DOBRCZ","DOBRCZ - Gmina wiejska / Powiat bydgoski / Województwo  - KUJAWSKO-POMORSKIE / 040303 / ",52330387,56548444,{"$f":"ISNUMBER(SEARCH(Wyszukiwarka!$A$1,'Porównanie dochodów JST'!J202))","v":false},{"$f":"IF(M202,COUNTIF($M$16:M202,TRUE),\"\")","v":""},{"$f":"IFERROR(INDEX($J$16:$J$2822,MATCH(ROWS($J$16:J202),$N$16:$N$2822,0)),\"\")","v":""}]
["04","03","04","3","040304","Gmina miejsko-wiejska","KUJAWSKO-POMORSKIE","bydgoski","KORONOWO","KORONOWO - Gmina miejsko-wiejska / Powiat bydgoski / Województwo  - KUJAWSKO-POMORSKIE / 040304 / ",82349027,88168139,{"$f":"ISNUMBER(SEARCH(Wyszukiwarka!$A$1,'Porównanie dochodów JST'!J203))","v":false},{"$f":"IF(M203,COUNTIF($M$16:M203,TRUE),\"\")","v":""},{"$f":"IFERROR(INDEX($J$16:$J$2822,MATCH(ROWS($J$16:J203),$N$16:$N$2822,0)),\"\")","v":""}]
["04","03","05","2","040305","Gmina wiejska","KUJAWSKO-POMORSKIE","bydgoski","NOWA WIEŚ WIELKA","NOWA WIEŚ WIELKA - Gmina wiejska / Powiat bydgoski / Województwo  - KUJAWSKO-POMORSKIE / 040305 / ",42658563,46876227,{"$f":"ISNUMBER(SEARCH(Wyszukiwarka!$A$1,'Porównanie dochodów JST'!J204))","v":false},{"$f":"IF(M204,COUNTIF($M$16:M204,TRUE),\"\")","v":""},{"$f":"IFERROR(INDEX($J$16:$J$2822,MATCH(ROWS($J$16:J204),$N$16:$N$2822,0)),\"\")","v":""}]
["04","03","06","2","040306","Gmina wiejska","KUJAWSKO-POMORSKIE","bydgoski","OSIELSKO","OSIELSKO - Gmina wiejska / Powiat bydgoski / Województwo  - KUJAWSKO-POMORSKIE / 040306 / ",105445955,113584803.05889648,{"$f":"ISNUMBER(SEARCH(Wyszukiwarka!$A$1,'Porównanie dochodów JST'!J205))","v":false},{"$f":"IF(M205,COUNTIF($M$16:M205,TRUE),\"\")","v":""},{"$f":"IFERROR(INDEX($J$16:$J$2822,MATCH(ROWS($J$16:J205),$N$16:$N$2822,0)),\"\")","v":""}]
["04","03","07","2","040307","Gmina wiejska","KUJAWSKO-POMORSKIE","bydgoski","SICIENKO","SICIENKO - Gmina wiejska / Powiat bydgoski / Województwo  - KUJAWSKO-POMORSKIE / 040307 / ",42634286,46749223,{"$f":"ISNUMBER(SEARCH(Wyszukiwarka!$A$1,'Porównanie dochodów JST'!J206))","v":false},{"$f":"IF(M206,COUNTIF($M$16:M206,TRUE),\"\")","v":""},{"$f":"IFERROR(INDEX($J$16:$J$2822,MATCH(ROWS($J$16:J206),$N$16:$N$2822,0)),\"\")","v":""}]
["04","03","08","3","040308","Gmina miejsko-wiejska","KUJAWSKO-POMORSKIE","bydgoski","SOLEC KUJAWSKI","SOLEC KUJAWSKI - Gmina miejsko-wiejska / Powiat bydgoski / Województwo  - KUJAWSKO-POMORSKIE / 040308 / ",59877960,68490010.413470462,{"$f":"ISNUMBER(SEARCH(Wyszukiwarka!$A$1,'Porównanie dochodów JST'!J207))","v":false},{"$f":"IF(M207,COUNTIF($M$16:M207,TRUE),\"\")","v":""},{"$f":"IFERROR(INDEX($J$16:$J$2822,MATCH(ROWS($J$16:J207),$N$16:$N$2822,0)),\"\")","v":""}]
["04","04","01","1","040401","Gmina miejska","KUJAWSKO-POMORSKIE","chełmiński","CHEŁMNO","CHEŁMNO - Gmina miejska / Powiat chełmiński / Województwo  - KUJAWSKO-POMORSKIE / 040401 / ",58074380,63967641.284397513,{"$f":"ISNUMBER(SEARCH(Wyszukiwarka!$A$1,'Porównanie dochodów JST'!J208))","v":false},{"$f":"IF(M208,COUNTIF($M$16:M208,TRUE),\"\")","v":""},{"$f":"IFERROR(INDEX($J$16:$J$2822,MATCH(ROWS($J$16:J208),$N$16:$N$2822,0)),\"\")","v":""}]
["04","04","02","2","040402","Gmina wiejska","KUJAWSKO-POMORSKIE","chełmiński","CHEŁMNO",{"$f":"I209&$H$12&F209&$G$12&$H$14&H209&$G$12&$G$14&$H$12&G209&$G$12&E209&$G$12","v":"CHEŁMNO - Gmina wiejska / Powiat chełmiński / Województwo  - KUJAWSKO-POMORSKIE / 040402 / "},25273378,27872426.542990565,{"$f":"ISNUMBER(SEARCH(Wyszukiwarka!$A$1,'Porównanie dochodów JST'!J209))","v":false},{"$f":"IF(M209,COUNTIF($M$16:M209,TRUE),\"\")","v":""},{"$f":"IFERROR(INDEX($J$16:$J$2822,MATCH(ROWS($J$16:J209),$N$16:$N$2822,0)),\"\")","v":""}]
["04","04","03","2","040403","Gmina wiejska","KUJAWSKO-POMORSKIE","chełmiński","KIJEWO KRÓLEWSKIE","KIJEWO KRÓLEWSKIE - Gmina wiejska / Powiat chełmiński / Województwo  - KUJAWSKO-POMORSKIE / 040403 / ",17440550,19366767.925700635,{"$f":"ISNUMBER(SEARCH(Wyszukiwarka!$A$1,'Porównanie dochodów JST'!J210))","v":false},{"$f":"IF(M210,COUNTIF($M$16:M210,TRUE),\"\")","v":""},{"$f":"IFERROR(INDEX($J$16:$J$2822,MATCH(ROWS($J$16:J210),$N$16:$N$2822,0)),\"\")","v":""}]
["04","04","04","2","040404","Gmina wiejska","KUJAWSKO-POMORSKIE","chełmiński","LISEWO","LISEWO - Gmina wiejska / Powiat chełmiński / Województwo  - KUJAWSKO-POMORSKIE / 040404 / ",17950565,19928423.884614747,{"$f":"ISNUMBER(SEARCH(Wyszukiwarka!$A$1,'Porównanie dochodów JST'!J211))","v":false},{"$f":"IF(M211,COUNTIF($M$16:M211,TRUE),\"\")","v":""},{"$f":"IFERROR(INDEX($J$16:$J$2822,MATCH(ROWS($J$16:J211),$N$16:$N$2822,0)),\"\")","v":""}]
["04","04","05","2","040405","Gmina wiejska","KUJAWSKO-POMORSKIE","chełmiński","PAPOWO BISKUPIE","PAPOWO BISKUPIE - Gmina wiejska / Powiat chełmiński / Województwo  - KUJAWSKO-POMORSKIE / 040405 / ",15659588,17696121.489362799,{"$f":"ISNUMBER(SEARCH(Wyszukiwarka!$A$1,'Porównanie dochodów JST'!J212))","v":false},{"$f":"IF(M212,COUNTIF($M$16:M212,TRUE),\"\")","v":""},{"$f":"IFERROR(INDEX($J$16:$J$2822,MATCH(ROWS($J$16:J212),$N$16:$N$2822,0)),\"\")","v":""}]
["04","04","06","2","040406","Gmina wiejska","KUJAWSKO-POMORSKIE","chełmiński","STOLNO","STOLNO - Gmina wiejska / Powiat chełmiński / Województwo  - KUJAWSKO-POMORSKIE / 040406 / ",17738197,19750956,{"$f":"ISNUMBER(SEARCH(Wyszukiwarka!$A$1,'Porównanie dochodów JST'!J213))","v":false},{"$f":"IF(M213,COUNTIF($M$16:M213,TRUE),\"\")","v":""},{"$f":"IFERROR(INDEX($J$16:$J$2822,MATCH(ROWS($J$16:J213),$N$16:$N$2822,0)),\"\")","v":""}]
["04","04","07","2","040407","Gmina wiejska","KUJAWSKO-POMORSKIE","chełmiński","UNISŁAW","UNISŁAW - Gmina wiejska / Powiat chełmiński / Województwo  - KUJAWSKO-POMORSKIE / 040407 / ",30187940,34221535.966851883,{"$f":"ISNUMBER(SEARCH(Wyszukiwarka!$A$1,'Porównanie dochodów JST'!J214))","v":false},{"$f":"IF(M214,COUNTIF($M$16:M214,TRUE),\"\")","v":""},{"$f":"IFERROR(INDEX($J$16:$J$2822,MATCH(ROWS($J$16:J214),$N$16:$N$2822,0)),\"\")","v":""}]
["04","05","01","1","040501","Gmina miejska","KUJAWSKO-POMORSKIE","golubsko-dobrzyński","GOLUB-DOBRZYŃ","GOLUB-DOBRZYŃ - Gmina miejska / Powiat golubsko-dobrzyński / Województwo  - KUJAWSKO-POMORSKIE / 040501 / ",39597673,45598852.32,{"$f":"ISNUMBER(SEARCH(Wyszukiwarka!$A$1,'Porównanie dochodów JST'!J215))","v":false},{"$f":"IF(M215,COUNTIF($M$16:M215,TRUE),\"\")","v":""},{"$f":"IFERROR(INDEX($J$16:$J$2822,MATCH(ROWS($J$16:J215),$N$16:$N$2822,0)),\"\")","v":""}]
["04","05","02","2","040502","Gmina wiejska","KUJAWSKO-POMORSKIE","golubsko-dobrzyński","CIECHOCIN","CIECHOCIN - Gmina wiejska / Powiat golubsko-dobrzyński / Województwo  - KUJAWSKO-POMORSKIE / 040502 / ",14549108,15932583.752420722,{"$f":"ISNUMBER(SEARCH(Wyszukiwarka!$A$1,'Porównanie dochodów JST'!J216))","v":false},{"$f":"IF(M216,COUNTIF($M$16:M216,TRUE),\"\")","v":""},{"$f":"IFERROR(INDEX($J$16:$J$2822,MATCH(ROWS($J$16:J216),$N$16:$N$2822,0)),\"\")","v":""}]
["04","05","03","2","040503","Gmina wiejska","KUJAWSKO-POMORSKIE","golubsko-dobrzyński","GOLUB-DOBRZYŃ","GOLUB-DOBRZYŃ - Gmina wiejska / Powiat golubsko-dobrzyński / Województwo  - KUJAWSKO-POMORSKIE / 040503 / ",36793145,40190479.60595566,{"$f":"ISNUMBER(SEARCH(Wyszukiwarka!$A$1,'Porównanie dochodów JST'!J217))","v":false},{"$f":"IF(M217,COUNTIF($M$16:M217,TRUE),\"\")","v":""},{"$f":"IFERROR(INDEX($J$16:$J$2822,MATCH(ROWS($J$16:J217),$N$16:$N$2822,0)),\"\")","v":""}]
["04","05","04","3","040504","Gmina miejsko-wiejska","KUJAWSKO-POMORSKIE","golubsko-dobrzyński","KOWALEWO POMORSKIE","KOWALEWO POMORSKIE - Gmina miejsko-wiejska / Powiat golubsko-dobrzyński / Województwo  - KUJAWSKO-POMORSKIE / 040504 / ",41488775,45535006.548910141,{"$f":"ISNUMBER(SEARCH(Wyszukiwarka!$A$1,'Porównanie dochodów JST'!J218))","v":false},{"$f":"IF(M218,COUNTIF($M$16:M218,TRUE),\"\")","v":""},{"$f":"IFERROR(INDEX($J$16:$J$2822,MATCH(ROWS($J$16:J218),$N$16:$N$2822,0)),\"\")","v":""}]
["04","05","05","2","040505","Gmina wiejska","KUJAWSKO-POMORSKIE","golubsko-dobrzyński","RADOMIN","RADOMIN - Gmina wiejska / Powiat golubsko-dobrzyński / Województwo  - KUJAWSKO-POMORSKIE / 040505 / ",15428833,16813766,{"$f":"ISNUMBER(SEARCH(Wyszukiwarka!$A$1,'Porównanie dochodów JST'!J219))","v":false},{"$f":"IF(M219,COUNTIF($M$16:M219,TRUE),\"\")","v":""},{"$f":"IFERROR(INDEX($J$16:$J$2822,MATCH(ROWS($J$16:J219),$N$16:$N$2822,0)),\"\")","v":""}]
["04","05","06","2","040506","Gmina wiejska","KUJAWSKO-POMORSKIE","golubsko-dobrzyński","ZBÓJNO","ZBÓJNO - Gmina wiejska / Powiat golubsko-dobrzyński / Województwo  - KUJAWSKO-POMORSKIE / 040506 / ",19077241,21829263.68,{"$f":"ISNUMBER(SEARCH(Wyszukiwarka!$A$1,'Porównanie dochodów JST'!J220))","v":false},{"$f":"IF(M220,COUNTIF($M$16:M220,TRUE),\"\")","v":""},{"$f":"IFERROR(INDEX($J$16:$J$2822,MATCH(ROWS($J$16:J220),$N$16:$N$2822,0)),\"\")","v":""}]
["04","06","01","2","040601","Gmina wiejska","KUJAWSKO-POMORSKIE","grudziądzki","GRUDZIĄDZ","GRUDZIĄDZ - Gmina wiejska / Powiat grudziądzki / Województwo  - KUJAWSKO-POMORSKIE / 040601 / ",52493057,56830258.566912279,{"$f":"ISNUMBER(SEARCH(Wyszukiwarka!$A$1,'Porównanie dochodów JST'!J221))","v":false},{"$f":"IF(M221,COUNTIF($M$16:M221,TRUE),\"\")","v":""},{"$f":"IFERROR(INDEX($J$16:$J$2822,MATCH(ROWS($J$16:J221),$N$16:$N$2822,0)),\"\")","v":""}]
["04","06","02","2","040602","Gmina wiejska","KUJAWSKO-POMORSKIE","grudziądzki","GRUTA","GRUTA - Gmina wiejska / Powiat grudziądzki / Województwo  - KUJAWSKO-POMORSKIE / 040602 / ",23363269,26821135.039999999,{"$f":"ISNUMBER(SEARCH(Wyszukiwarka!$A$1,'Porównanie dochodów JST'!J222))","v":false},{"$f":"IF(M222,COUNTIF($M$16:M222,TRUE),\"\")","v":""},{"$f":"IFERROR(INDEX($J$16:$J$2822,MATCH(ROWS($J$16:J222),$N$16:$N$2822,0)),\"\")","v":""}]
["04","06","03","3","040603","Gmina miejsko-wiejska","KUJAWSKO-POMORSKIE","grudziądzki","ŁASIN","ŁASIN - Gmina miejsko-wiejska / Powiat grudziądzki / Województwo  - KUJAWSKO-POMORSKIE / 040603 / ",28652280,31375939,{"$f":"ISNUMBER(SEARCH(Wyszukiwarka!$A$1,'Porównanie dochodów JST'!J223))","v":false},{"$f":"IF(M223,COUNTIF($M$16:M223,TRUE),\"\")","v":""},{"$f":"IFERROR(INDEX($J$16:$J$2822,MATCH(ROWS($J$16:J223),$N$16:$N$2822,0)),\"\")","v":""}]
["04","06","04","3","040604","Gmina miejsko-wiejska","KUJAWSKO-POMORSKIE","grudziądzki","RADZYŃ CHEŁMIŃSKI","RADZYŃ CHEŁMIŃSKI - Gmina miejsko-wiejska / Powiat grudziądzki / Województwo  - KUJAWSKO-POMORSKIE / 040604 / ",14857191,17042601.783330645,{"$f":"ISNUMBER(SEARCH(Wyszukiwarka!$A$1,'Porównanie dochodów JST'!J224))","v":false},{"$f":"IF(M224,COUNTIF($M$16:M224,TRUE),\"\")","v":""},{"$f":"IFERROR(INDEX($J$16:$J$2822,MATCH(ROWS($J$16:J224),$N$16:$N$2822,0)),\"\")","v":""}]
["04","06","05","2","040605","Gmina wiejska","KUJAWSKO-POMORSKIE","grudziądzki","ROGÓŹNO","ROGÓŹNO - Gmina wiejska / Powiat grudziądzki / Województwo  - KUJAWSKO-POMORSKIE / 040605 / ",13489854,14880333.720563883,{"$f":"ISNUMBER(SEARCH(Wyszukiwarka!$A$1,'Porównanie dochodów JST'!J225))","v":false},{"$f":"IF(M225,COUNTIF($M$16:M225,TRUE),\"\")","v":""},{"$f":"IFERROR(INDEX($J$16:$J$2822,MATCH(ROWS($J$16:J225),$N$16:$N$2822,0)),\"\")","v":""}]
["04","06","06","2","040606","Gmina wiejska","KUJAWSKO-POMORSKIE","grudziądzki","ŚWIECIE NAD OSĄ","ŚWIECIE NAD OSĄ - Gmina wiejska / Powiat grudziądzki / Województwo  - KUJAWSKO-POMORSKIE / 040606 / ",12523516,14427358.400000002,{"$f":"ISNUMBER(SEARCH(Wyszukiwarka!$A$1,'Porównanie dochodów JST'!J226))","v":false},{"$f":"IF(M226,COUNTIF($M$16:M226,TRUE),\"\")","v":""},{"$f":"IFERROR(INDEX($J$16:$J$2822,MATCH(ROWS($J$16:J226),$N$16:$N$2822,0)),\"\")","v":""}]
["04","07","01","1","040701","Gmina miejska","KUJAWSKO-POMORSKIE","inowrocławski","INOWROCŁAW","INOWROCŁAW - Gmina miejska / Powiat inowrocławski / Województwo  - KUJAWSKO-POMORSKIE / 040701 / ",238605045,254799758.54223156,{"$f":"ISNUMBER(SEARCH(Wyszukiwarka!$A$1,'Porównanie dochodów JST'!J227))","v":false},{"$f":"IF(M227,COUNTIF($M$16:M227,TRUE),\"\")","v":""},{"$f":"IFERROR(INDEX($J$16:$J$2822,MATCH(ROWS($J$16:J227),$N$16:$N$2822,0)),\"\")","v":""}]
["04","07","02","2","040702","Gmina wiejska","KUJAWSKO-POMORSKIE","inowrocławski","DĄBROWA BISKUPIA","DĄBROWA BISKUPIA - Gmina wiejska / Powiat inowrocławski / Województwo  - KUJAWSKO-POMORSKIE / 040702 / ",20216793,22956916.031380836,{"$f":"ISNUMBER(SEARCH(Wyszukiwarka!$A$1,'Porównanie dochodów JST'!J228))","v":false},{"$f":"IF(M228,COUNTIF($M$16:M228,TRUE),\"\")","v":""},{"$f":"IFERROR(INDEX($J$16:$J$2822,MATCH(ROWS($J$16:J228),$N$16:$N$2822,0)),\"\")","v":""}]
["04","07","03","3","040703","Gmina miejsko-wiejska","KUJAWSKO-POMORSKIE","inowrocławski","GNIEWKOWO","GNIEWKOWO - Gmina miejsko-wiejska / Powiat inowrocławski / Województwo  - KUJAWSKO-POMORSKIE / 040703 / ",44688782,48982284.524318472,{"$f":"ISNUMBER(SEARCH(Wyszukiwarka!$A$1,'Porównanie dochodów JST'!J229))","v":false},{"$f":"IF(M229,COUNTIF($M$16:M229,TRUE),\"\")","v":""},{"$f":"IFERROR(INDEX($J$16:$J$2822,MATCH(ROWS($J$16:J229),$N$16:$N$2822,0)),\"\")","v":""}]
["04","07","04","2","040704","Gmina wiejska","KUJAWSKO-POMORSKIE","inowrocławski","INOWROCŁAW","INOWROCŁAW - Gmina wiejska / Powiat inowrocławski / Województwo  - KUJAWSKO-POMORSKIE / 040704 / ",37156414,41315073,{"$f":"ISNUMBER(SEARCH(Wyszukiwarka!$A$1,'Porównanie dochodów JST'!J230))","v":false},{"$f":"IF(M230,COUNTIF($M$16:M230,TRUE),\"\")","v":""},{"$f":"IFERROR(INDEX($J$16:$J$2822,MATCH(ROWS($J$16:J230),$N$16:$N$2822,0)),\"\")","v":""}]
["04","07","05","3","040705","Gmina miejsko-wiejska","KUJAWSKO-POMORSKIE","inowrocławski","JANIKOWO","JANIKOWO - Gmina miejsko-wiejska / Powiat inowrocławski / Województwo  - KUJAWSKO-POMORSKIE / 040705 / ",34143429,39263259.839999996,{"$f":"ISNUMBER(SEARCH(Wyszukiwarka!$A$1,'Porównanie dochodów JST'!J231))","v":false},{"$f":"IF(M231,COUNTIF($M$16:M231,TRUE),\"\")","v":""},{"$f":"IFERROR(INDEX($J$16:$J$2822,MATCH(ROWS($J$16:J231),$N$16:$N$2822,0)),\"\")","v":""}]
["04","07","06","3","040706","Gmina miejsko-wiejska","KUJAWSKO-POMORSKIE","inowrocławski","KRUSZWICA","KRUSZWICA - Gmina miejsko-wiejska / Powiat inowrocławski / Województwo  - KUJAWSKO-POMORSKIE / 040706 / ",56367493,61633001,{"$f":"ISNUMBER(SEARCH(Wyszukiwarka!$A$1,'Porównanie dochodów JST'!J232))","v":false},{"$f":"IF(M232,COUNTIF($M$16:M232,TRUE),\"\")","v":""},{"$f":"IFERROR(INDEX($J$16:$J$2822,MATCH(ROWS($J$16:J232),$N$16:$N$2822,0)),\"\")","v":""}]
["04","07","07","3","040707","Gmina miejsko-wiejska","KUJAWSKO-POMORSKIE","inowrocławski","PAKOŚĆ","PAKOŚĆ - Gmina miejsko-wiejska / Powiat inowrocławski / Województwo  - KUJAWSKO-POMORSKIE / 040707 / ",27904081,31216380,{"$f":"ISNUMBER(SEARCH(Wyszukiwarka!$A$1,'Porównanie dochodów JST'!J233))","v":false},{"$f":"IF(M233,COUNTIF($M$16:M233,TRUE),\"\")","v":""},{"$f":"IFERROR(INDEX($J$16:$J$2822,MATCH(ROWS($J$16:J233),$N$16:$N$2822,0)),\"\")","v":""}]
["04","07","08","2","040708","Gmina wiejska","KUJAWSKO-POMORSKIE","inowrocławski","ROJEWO","ROJEWO - Gmina wiejska / Powiat inowrocławski / Województwo  - KUJAWSKO-POMORSKIE / 040708 / ",14307679,16229734.399999999,{"$f":"ISNUMBER(SEARCH(Wyszukiwarka!$A$1,'Porównanie dochodów JST'!J234))","v":false},{"$f":"IF(M234,COUNTIF($M$16:M234,TRUE),\"\")","v":""},{"$f":"IFERROR(INDEX($J$16:$J$2822,MATCH(ROWS($J$16:J234),$N$16:$N$2822,0)),\"\")","v":""}]
["04","07","09","2","040709","Gmina wiejska","KUJAWSKO-POMORSKIE","inowrocławski","ZŁOTNIKI KUJAWSKIE","ZŁOTNIKI KUJAWSKIE - Gmina wiejska / Powiat inowrocławski / Województwo  - KUJAWSKO-POMORSKIE / 040709 / ",33139044,36501400,{"$f":"ISNUMBER(SEARCH(Wyszukiwarka!$A$1,'Porównanie dochodów JST'!J235))","v":false},{"$f":"IF(M235,COUNTIF($M$16:M235,TRUE),\"\")","v":""},{"$f":"IFERROR(INDEX($J$16:$J$2822,MATCH(ROWS($J$16:J235),$N$16:$N$2822,0)),\"\")","v":""}]
["04","08","01","1","040801","Gmina miejska","KUJAWSKO-POMORSKIE","lipnowski","LIPNO","LIPNO - Gmina miejska / Powiat lipnowski / Województwo  - KUJAWSKO-POMORSKIE / 040801 / ",47161353,54176022.880000003,{"$f":"ISNUMBER(SEARCH(Wyszukiwarka!$A$1,'Porównanie dochodów JST'!J236))","v":false},{"$f":"IF(M236,COUNTIF($M$16:M236,TRUE),\"\")","v":""},{"$f":"IFERROR(INDEX($J$16:$J$2822,MATCH(ROWS($J$16:J236),$N$16:$N$2822,0)),\"\")","v":""}]
["04","08","02","2","040802","Gmina wiejska","KUJAWSKO-POMORSKIE","lipnowski","BOBROWNIKI","BOBROWNIKI - Gmina wiejska / Powiat lipnowski / Województwo  - KUJAWSKO-POMORSKIE / 040802 / ",11268566,12960619.84,{"$f":"ISNUMBER(SEARCH(Wyszukiwarka!$A$1,'Porównanie dochodów JST'!J237))","v":false},{"$f":"IF(M237,COUNTIF($M$16:M237,TRUE),\"\")","v":""},{"$f":"IFERROR(INDEX($J$16:$J$2822,MATCH(ROWS($J$16:J237),$N$16:$N$2822,0)),\"\")","v":""}]
["04","08","03","2","040803","Gmina wiejska","KUJAWSKO-POMORSKIE","lipnowski","CHROSTKOWO","CHROSTKOWO - Gmina wiejska / Powiat lipnowski / Województwo  - KUJAWSKO-POMORSKIE / 040803 / ",10033270,11314533.869999999,{"$f":"ISNUMBER(SEARCH(Wyszukiwarka!$A$1,'Porównanie dochodów JST'!J238))","v":false},{"$f":"IF(M238,COUNTIF($M$16:M238,TRUE),\"\")","v":""},{"$f":"IFERROR(INDEX($J$16:$J$2822,MATCH(ROWS($J$16:J238),$N$16:$N$2822,0)),\"\")","v":""}]
["04","08","04","3","040804","Gmina miejsko-wiejska","KUJAWSKO-POMORSKIE","lipnowski","DOBRZYŃ NAD WISŁĄ","DOBRZYŃ NAD WISŁĄ - Gmina miejsko-wiejska / Powiat lipnowski / Województwo  - KUJAWSKO-POMORSKIE / 040804 / ",29022328,33272634.079999998,{"$f":"ISNUMBER(SEARCH(Wyszukiwarka!$A$1,'Porównanie dochodów JST'!J239))","v":false},{"$f":"IF(M239,COUNTIF($M$16:M239,TRUE),\"\")","v":""},{"$f":"IFERROR(INDEX($J$16:$J$2822,MATCH(ROWS($J$16:J239),$N$16:$N$2822,0)),\"\")","v":""}]
["04","08","05","2","040805","Gmina wiejska","KUJAWSKO-POMORSKIE","lipnowski","KIKÓŁ","KIKÓŁ - Gmina wiejska / Powiat lipnowski / Województwo  - KUJAWSKO-POMORSKIE / 040805 / ",27724875,31774069.600000001,{"$f":"ISNUMBER(SEARCH(Wyszukiwarka!$A$1,'Porównanie dochodów JST'!J240))","v":false},{"$f":"IF(M240,COUNTIF($M$16:M240,TRUE),\"\")","v":""},{"$f":"IFERROR(INDEX($J$16:$J$2822,MATCH(ROWS($J$16:J240),$N$16:$N$2822,0)),\"\")","v":""}]
["04","08","06","2","040806","Gmina wiejska","KUJAWSKO-POMORSKIE","lipnowski","LIPNO","LIPNO - Gmina wiejska / Powiat lipnowski / Województwo  - KUJAWSKO-POMORSKIE / 040806 / ",45945598,50093608.923444748,{"$f":"ISNUMBER(SEARCH(Wyszukiwarka!$A$1,'Porównanie dochodów JST'!J241))","v":false},{"$f":"IF(M241,COUNTIF($M$16:M241,TRUE),\"\")","v":""},{"$f":"IFERROR(INDEX($J$16:$J$2822,MATCH(ROWS($J$16:J241),$N$16:$N$2822,0)),\"\")","v":""}]
["04","08","07","3","040807","Gmina miejsko-wiejska","KUJAWSKO-POMORSKIE","lipnowski","SKĘPE","SKĘPE - Gmina miejsko-wiejska / Powiat lipnowski / Województwo  - KUJAWSKO-POMORSKIE / 040807 / ",29980023,34396360.32,{"$f":"ISNUMBER(SEARCH(Wyszukiwarka!$A$1,'Porównanie dochodów JST'!J242))","v":false},{"$f":"IF(M242,COUNTIF($M$16:M242,TRUE),\"\")","v":""},{"$f":"IFERROR(INDEX($J$16:$J$2822,MATCH(ROWS($J$16:J242),$N$16:$N$2822,0)),\"\")","v":""}]
["04","08","08","2","040808","Gmina wiejska","KUJAWSKO-POMORSKIE","lipnowski","TŁUCHOWO","TŁUCHOWO - Gmina wiejska / Powiat lipnowski / Województwo  - KUJAWSKO-POMORSKIE / 040808 / ",18611299,20703373.356299736,{"$f":"ISNUMBER(SEARCH(Wyszukiwarka!$A$1,'Porównanie dochodów JST'!J243))","v":false},{"$f":"IF(M243,COUNTIF($M$16:M243,TRUE),\"\")","v":""},{"$f":"IFERROR(INDEX($J$16:$J$2822,MATCH(ROWS($J$16:J243),$N$16:$N$2822,0)),\"\")","v":""}]
["04","08","09","2","040809","Gmina wiejska","KUJAWSKO-POMORSKIE","lipnowski","WIELGIE","WIELGIE - Gmina wiejska / Powiat lipnowski / Województwo  - KUJAWSKO-POMORSKIE / 040809 / ",28619786,32815157.760000002,{"$f":"ISNUMBER(SEARCH(Wyszukiwarka!$A$1,'Porównanie dochodów JST'!J244))","v":false},{"$f":"IF(M244,COUNTIF($M$16:M244,TRUE),\"\")","v":""},{"$f":"IFERROR(INDEX($J$16:$J$2822,MATCH(ROWS($J$16:J244),$N$16:$N$2822,0)),\"\")","v":""}]
["04","09","01","2","040901","Gmina wiejska","KUJAWSKO-POMORSKIE","mogileński","DĄBROWA","DĄBROWA - Gmina wiejska / Powiat mogileński / Województwo  - KUJAWSKO-POMORSKIE / 040901 / ",20102276,22037455,{"$f":"ISNUMBER(SEARCH(Wyszukiwarka!$A$1,'Porównanie dochodów JST'!J245))","v":false},{"$f":"IF(M245,COUNTIF($M$16:M245,TRUE),\"\")","v":""},{"$f":"IFERROR(INDEX($J$16:$J$2822,MATCH(ROWS($J$16:J245),$N$16:$N$2822,0)),\"\")","v":""}]
["04","09","02","2","040902","Gmina wiejska","KUJAWSKO-POMORSKIE","mogileński","JEZIORA WIELKIE","JEZIORA WIELKIE - Gmina wiejska / Powiat mogileński / Województwo  - KUJAWSKO-POMORSKIE / 040902 / ",16864948,18819097.894441798,{"$f":"ISNUMBER(SEARCH(Wyszukiwarka!$A$1,'Porównanie dochodów JST'!J246))","v":false},{"$f":"IF(M246,COUNTIF($M$16:M246,TRUE),\"\")","v":""},{"$f":"IFERROR(INDEX($J$16:$J$2822,MATCH(ROWS($J$16:J246),$N$16:$N$2822,0)),\"\")","v":""}]
["04","09","03","3","040903","Gmina miejsko-wiejska","KUJAWSKO-POMORSKIE","mogileński","MOGILNO","MOGILNO - Gmina miejsko-wiejska / Powiat mogileński / Województwo  - KUJAWSKO-POMORSKIE / 040903 / ",76315135,87116037.514300004,{"$f":"ISNUMBER(SEARCH(Wyszukiwarka!$A$1,'Porównanie dochodów JST'!J247))","v":false},{"$f":"IF(M247,COUNTIF($M$16:M247,TRUE),\"\")","v":""},{"$f":"IFERROR(INDEX($J$16:$J$2822,MATCH(ROWS($J$16:J247),$N$16:$N$2822,0)),\"\")","v":""}]
["04","09","04","3","040904","Gmina miejsko-wiejska","KUJAWSKO-POMORSKIE","mogileński","STRZELNO","STRZELNO - Gmina miejsko-wiejska / Powiat mogileński / Województwo  - KUJAWSKO-POMORSKIE / 040904 / ",28995621,33049839,{"$f":"ISNUMBER(SEARCH(Wyszukiwarka!$A$1,'Porównanie dochodów JST'!J248))","v":false},{"$f":"IF(M248,COUNTIF($M$16:M248,TRUE),\"\")","v":""},{"$f":"IFERROR(INDEX($J$16:$J$2822,MATCH(ROWS($J$16:J248),$N$16:$N$2822,0)),\"\")","v":""}]
["04","10","01","3","041001","Gmina miejsko-wiejska","KUJAWSKO-POMORSKIE","nakielski","KCYNIA","KCYNIA - Gmina miejsko-wiejska / Powiat nakielski / Województwo  - KUJAWSKO-POMORSKIE / 041001 / ",54912823,62840620.640000001,{"$f":"ISNUMBER(SEARCH(Wyszukiwarka!$A$1,'Porównanie dochodów JST'!J249))","v":false},{"$f":"IF(M249,COUNTIF($M$16:M249,TRUE),\"\")","v":""},{"$f":"IFERROR(INDEX($J$16:$J$2822,MATCH(ROWS($J$16:J249),$N$16:$N$2822,0)),\"\")","v":""}]
["04","10","02","3","041002","Gmina miejsko-wiejska","KUJAWSKO-POMORSKIE","nakielski","MROCZA","MROCZA - Gmina miejsko-wiejska / Powiat nakielski / Województwo  - KUJAWSKO-POMORSKIE / 041002 / ",39419004,42782835.586980917,{"$f":"ISNUMBER(SEARCH(Wyszukiwarka!$A$1,'Porównanie dochodów JST'!J250))","v":false},{"$f":"IF(M250,COUNTIF($M$16:M250,TRUE),\"\")","v":""},{"$f":"IFERROR(INDEX($J$16:$J$2822,MATCH(ROWS($J$16:J250),$N$16:$N$2822,0)),\"\")","v":""}]
["04","10","03","3","041003","Gmina miejsko-wiejska","KUJAWSKO-POMORSKIE","nakielski","NAKŁO NAD NOTECIĄ","NAKŁO NAD NOTECIĄ - Gmina miejsko-wiejska / Powiat nakielski / Województwo  - KUJAWSKO-POMORSKIE / 041003 / ",104668341,112980068.57538328,{"$f":"ISNUMBER(SEARCH(Wyszukiwarka!$A$1,'Porównanie dochodów JST'!J251))","v":false},{"$f":"IF(M251,COUNTIF($M$16:M251,TRUE),\"\")","v":""},{"$f":"IFERROR(INDEX($J$16:$J$2822,MATCH(ROWS($J$16:J251),$N$16:$N$2822,0)),\"\")","v":""}]
["04","10","04","2","041004","Gmina wiejska","KUJAWSKO-POMORSKIE","nakielski","SADKI","SADKI - Gmina wiejska / Powiat nakielski / Województwo  - KUJAWSKO-POMORSKIE / 041004 / ",27241795,29926297,{"$f":"ISNUMBER(SEARCH(Wyszukiwarka!$A$1,'Porównanie dochodów JST'!J252))","v":false},{"$f":"IF(M252,COUNTIF($M$16:M252,TRUE),\"\")","v":""},{"$f":"IFERROR(INDEX($J$16:$J$2822,MATCH(ROWS($J$16:J252),$N$16:$N$2822,0)),\"\")","v":""}]
["04","10","05","3","041005","Gmina miejsko-wiejska","KUJAWSKO-POMORSKIE","nakielski","SZUBIN","SZUBIN - Gmina miejsko-wiejska / Powiat nakielski / Województwo  - KUJAWSKO-POMORSKIE / 041005 / ",92721985,99160269.739864439,{"$f":"ISNUMBER(SEARCH(Wyszukiwarka!$A$1,'Porównanie dochodów JST'!J253))","v":false},{"$f":"IF(M253,COUNTIF($M$16:M253,TRUE),\"\")","v":""},{"$f":"IFERROR(INDEX($J$16:$J$2822,MATCH(ROWS($J$16:J253),$N$16:$N$2822,0)),\"\")","v":""}]
["04","11","01","1","041101","Gmina miejska","KUJAWSKO-POMORSKIE","radziejowski","RADZIEJÓW","RADZIEJÓW - Gmina miejska / Powiat radziejowski / Województwo  - KUJAWSKO-POMORSKIE / 041101 / ",16415905,18986243.359999999,{"$f":"ISNUMBER(SEARCH(Wyszukiwarka!$A$1,'Porównanie dochodów JST'!J254))","v":false},{"$f":"IF(M254,COUNTIF($M$16:M254,TRUE),\"\")","v":""},{"$f":"IFERROR(INDEX($J$16:$J$2822,MATCH(ROWS($J$16:J254),$N$16:$N$2822,0)),\"\")","v":""}]
["04","11","02","2","041102","Gmina wiejska","KUJAWSKO-POMORSKIE","radziejowski","BYTOŃ","BYTOŃ - Gmina wiejska / Powiat radziejowski / Województwo  - KUJAWSKO-POMORSKIE / 041102 / ",12615265,13944246.879999999,{"$f":"ISNUMBER(SEARCH(Wyszukiwarka!$A$1,'Porównanie dochodów JST'!J255))","v":false},{"$f":"IF(M255,COUNTIF($M$16:M255,TRUE),\"\")","v":""},{"$f":"IFERROR(INDEX($J$16:$J$2822,MATCH(ROWS($J$16:J255),$N$16:$N$2822,0)),\"\")","v":""}]
["04","11","03","2","041103","Gmina wiejska","KUJAWSKO-POMORSKIE","radziejowski","DOBRE","DOBRE - Gmina wiejska / Powiat radziejowski / Województwo  - KUJAWSKO-POMORSKIE / 041103 / ",17248464,19217327,{"$f":"ISNUMBER(SEARCH(Wyszukiwarka!$A$1,'Porównanie dochodów JST'!J256))","v":false},{"$f":"IF(M256,COUNTIF($M$16:M256,TRUE),\"\")","v":""},{"$f":"IFERROR(INDEX($J$16:$J$2822,MATCH(ROWS($J$16:J256),$N$16:$N$2822,0)),\"\")","v":""}]
["04","11","04","2","041104","Gmina wiejska","KUJAWSKO-POMORSKIE","radziejowski","OSIĘCINY","OSIĘCINY - Gmina wiejska / Powiat radziejowski / Województwo  - KUJAWSKO-POMORSKIE / 041104 / ",28171988,30867208,{"$f":"ISNUMBER(SEARCH(Wyszukiwarka!$A$1,'Porównanie dochodów JST'!J257))","v":false},{"$f":"IF(M257,COUNTIF($M$16:M257,TRUE),\"\")","v":""},{"$f":"IFERROR(INDEX($J$16:$J$2822,MATCH(ROWS($J$16:J257),$N$16:$N$2822,0)),\"\")","v":""}]
["04","11","05","3","041105","Gmina miejsko-wiejska","KUJAWSKO-POMORSKIE","radziejowski","PIOTRKÓW KUJAWSKI","PIOTRKÓW KUJAWSKI - Gmina miejsko-wiejska / Powiat radziejowski / Województwo  - KUJAWSKO-POMORSKIE / 041105 / ",30713567,34056227,{"$f":"ISNUMBER(SEARCH(Wyszukiwarka!$A$1,'Porównanie dochodów JST'!J258))","v":false},{"$f":"IF(M258,COUNTIF($M$16:M258,TRUE),\"\")","v":""},{"$f":"IFERROR(INDEX($J$16:$J$2822,MATCH(ROWS($J$16:J258),$N$16:$N$2822,0)),\"\")","v":""}]
["04","11","06","2","041106","Gmina wiejska","KUJAWSKO-POMORSKIE","radziejowski","RADZIEJÓW","RADZIEJÓW - Gmina wiejska / Powiat radziejowski / Województwo  - KUJAWSKO-POMORSKIE / 041106 / ",11501213,13229731.199999999,{"$f":"ISNUMBER(SEARCH(Wyszukiwarka!$A$1,'Porównanie dochodów JST'!J259))","v":false},{"$f":"IF(M259,COUNTIF($M$16:M259,TRUE),\"\")","v":""},{"$f":"IFERROR(INDEX($J$16:$J$2822,MATCH(ROWS($J$16:J259),$N$16:$N$2822,0)),\"\")","v":""}]
["04","11","07","2","041107","Gmina wiejska","KUJAWSKO-POMORSKIE","radziejowski","TOPÓLKA","TOPÓLKA - Gmina wiejska / Powiat radziejowski / Województwo  - KUJAWSKO-POMORSKIE / 041107 / ",17485311,19434482,{"$f":"ISNUMBER(SEARCH(Wyszukiwarka!$A$1,'Porównanie dochodów JST'!J260))","v":false},{"$f":"IF(M260,COUNTIF($M$16:M260,TRUE),\"\")","v":""},{"$f":"IFERROR(INDEX($J$16:$J$2822,MATCH(ROWS($J$16:J260),$N$16:$N$2822,0)),\"\")","v":""}]
["04","12","01","1","041201","Gmina miejska","KUJAWSKO-POMORSKIE","rypiński","RYPIN","RYPIN - Gmina miejska / Powiat rypiński / Województwo  - KUJAWSKO-POMORSKIE / 041201 / ",50087252,56597858.658886537,{"$f":"ISNUMBER(SEARCH(Wyszukiwarka!$A$1,'Porównanie dochodów JST'!J261))","v":false},{"$f":"IF(M261,COUNTIF($M$16:M261,TRUE),\"\")","v":""},{"$f":"IFERROR(INDEX($J$16:$J$2822,MATCH(ROWS($J$16:J261),$N$16:$N$2822,0)),\"\")","v":""}]
["04","12","02","2","041202","Gmina wiejska","KUJAWSKO-POMORSKIE","rypiński","BRZUZE","BRZUZE - Gmina wiejska / Powiat rypiński / Województwo  - KUJAWSKO-POMORSKIE / 041202 / ",20118428,23060571.52,{"$f":"ISNUMBER(SEARCH(Wyszukiwarka!$A$1,'Porównanie dochodów JST'!J262))","v":false},{"$f":"IF(M262,COUNTIF($M$16:M262,TRUE),\"\")","v":""},{"$f":"IFERROR(INDEX($J$16:$J$2822,MATCH(ROWS($J$16:J262),$N$16:$N$2822,0)),\"\")","v":""}]
["04","12","03","2","041203","Gmina wiejska","KUJAWSKO-POMORSKIE","rypiński","ROGOWO","ROGOWO - Gmina wiejska / Powiat rypiński / Województwo  - KUJAWSKO-POMORSKIE / 041203 / ",19652186,22539257.758540735,{"$f":"ISNUMBER(SEARCH(Wyszukiwarka!$A$1,'Porównanie dochodów JST'!J263))","v":false},{"$f":"IF(M263,COUNTIF($M$16:M263,TRUE),\"\")","v":""},{"$f":"IFERROR(INDEX($J$16:$J$2822,MATCH(ROWS($J$16:J263),$N$16:$N$2822,0)),\"\")","v":""}]
["04","12","04","2","041204","Gmina wiejska","KUJAWSKO-POMORSKIE","rypiński","RYPIN","RYPIN - Gmina wiejska / Powiat rypiński / Województwo  - KUJAWSKO-POMORSKIE / 041204 / ",31530022,36132160.960000001,{"$f":"ISNUMBER(SEARCH(Wyszukiwarka!$A$1,'Porównanie dochodów JST'!J264))","v":false},{"$f":"IF(M264,COUNTIF($M$16:M264,TRUE),\"\")","v":""},{"$f":"IFERROR(INDEX($J$16:$J$2822,MATCH(ROWS($J$16:J264),$N$16:$N$2822,0)),\"\")","v":""}]
["04","12","05","2","041205","Gmina wiejska","KUJAWSKO-POMORSKIE","rypiński","SKRWILNO","SKRWILNO - Gmina wiejska / Powiat rypiński / Województwo  - KUJAWSKO-POMORSKIE / 041205 / ",23401387,25466078,{"$f":"ISNUMBER(SEARCH(Wyszukiwarka!$A$1,'Porównanie dochodów JST'!J265))","v":false},{"$f":"IF(M265,COUNTIF($M$16:M265,TRUE),\"\")","v":""},{"$f":"IFERROR(INDEX($J$16:$J$2822,MATCH(ROWS($J$16:J265),$N$16:$N$2822,0)),\"\")","v":""}]
["04","12","06","2","041206","Gmina wiejska","KUJAWSKO-POMORSKIE","rypiński","WĄPIELSK","WĄPIELSK - Gmina wiejska / Powiat rypiński / Województwo  - KUJAWSKO-POMORSKIE / 041206 / ",15650441,17932971.84,{"$f":"ISNUMBER(SEARCH(Wyszukiwarka!$A$1,'Porównanie dochodów JST'!J266))","v":false},{"$f":"IF(M266,COUNTIF($M$16:M266,TRUE),\"\")","v":""},{"$f":"IFERROR(INDEX($J$16:$J$2822,MATCH(ROWS($J$16:J266),$N$16:$N$2822,0)),\"\")","v":""}]
["04","13","01","3","041301","Gmina miejsko-wiejska","KUJAWSKO-POMORSKIE","sępoleński","KAMIEŃ KRAJEŃSKI","KAMIEŃ KRAJEŃSKI - Gmina miejsko-wiejska / Powiat sępoleński / Województwo  - KUJAWSKO-POMORSKIE / 041301 / ",25968307,28608974.84146481,{"$f":"ISNUMBER(SEARCH(Wyszukiwarka!$A$1,'Porównanie dochodów JST'!J267))","v":false},{"$f":"IF(M267,COUNTIF($M$16:M267,TRUE),\"\")","v":""},{"$f":"IFERROR(INDEX($J$16:$J$2822,MATCH(ROWS($J$16:J267),$N$16:$N$2822,0)),\"\")","v":""}]
["04","13","02","3","041302","Gmina miejsko-wiejska","KUJAWSKO-POMORSKIE","sępoleński","SĘPÓLNO KRAJEŃSKIE","SĘPÓLNO KRAJEŃSKIE - Gmina miejsko-wiejska / Powiat sępoleński / Województwo  - KUJAWSKO-POMORSKIE / 041302 / ",50601775,56281998.28359022,{"$f":"ISNUMBER(SEARCH(Wyszukiwarka!$A$1,'Porównanie dochodów JST'!J268))","v":false},{"$f":"IF(M268,COUNTIF($M$16:M268,TRUE),\"\")","v":""},{"$f":"IFERROR(INDEX($J$16:$J$2822,MATCH(ROWS($J$16:J268),$N$16:$N$2822,0)),\"\")","v":""}]
["04","13","03","2","041303","Gmina wiejska","KUJAWSKO-POMORSKIE","sępoleński","SOŚNO","SOŚNO - Gmina wiejska / Powiat sępoleński / Województwo  - KUJAWSKO-POMORSKIE / 041303 / ",19068953,21006851,{"$f":"ISNUMBER(SEARCH(Wyszukiwarka!$A$1,'Porównanie dochodów JST'!J269))","v":false},{"$f":"IF(M269,COUNTIF($M$16:M269,TRUE),\"\")","v":""},{"$f":"IFERROR(INDEX($J$16:$J$2822,MATCH(ROWS($J$16:J269),$N$16:$N$2822,0)),\"\")","v":""}]
["04","13","04","3","041304","Gmina miejsko-wiejska","KUJAWSKO-POMORSKIE","sępoleński","WIĘCBORK","WIĘCBORK - Gmina miejsko-wiejska / Powiat sępoleński / Województwo  - KUJAWSKO-POMORSKIE / 041304 / ",45522925,49797188,{"$f":"ISNUMBER(SEARCH(Wyszukiwarka!$A$1,'Porównanie dochodów JST'!J270))","v":false},{"$f":"IF(M270,COUNTIF($M$16:M270,TRUE),\"\")","v":""},{"$f":"IFERROR(INDEX($J$16:$J$2822,MATCH(ROWS($J$16:J270),$N$16:$N$2822,0)),\"\")","v":""}]
["04","14","01","2","041401","Gmina wiejska","KUJAWSKO-POMORSKIE","świecki","BUKOWIEC","BUKOWIEC - Gmina wiejska / Powiat świecki / Województwo  - KUJAWSKO-POMORSKIE / 041401 / ",21386844,23389005,{"$f":"ISNUMBER(SEARCH(Wyszukiwarka!$A$1,'Porównanie dochodów JST'!J271))","v":false},{"$f":"IF(M271,COUNTIF($M$16:M271,TRUE),\"\")","v":""},{"$f":"IFERROR(INDEX($J$16:$J$2822,MATCH(ROWS($J$16:J271),$N$16:$N$2822,0)),\"\")","v":""}]
["04","14","02","2","041402","Gmina wiejska","KUJAWSKO-POMORSKIE","świecki","DRAGACZ","DRAGACZ - Gmina wiejska / Powiat świecki / Województwo  - KUJAWSKO-POMORSKIE / 041402 / ",25642351,28311942,{"$f":"ISNUMBER(SEARCH(Wyszukiwarka!$A$1,'Porównanie dochodów JST'!J272))","v":false},{"$f":"IF(M272,COUNTIF($M$16:M272,TRUE),\"\")","v":""},{"$f":"IFERROR(INDEX($J$16:$J$2822,MATCH(ROWS($J$16:J272),$N$16:$N$2822,0)),\"\")","v":""}]
["04","14","03","2","041403","Gmina wiejska","KUJAWSKO-POMORSKIE","świecki","DRZYCIM",{"$f":"I273&$H$12&F273&$G$12&$H$14&H273&$G$12&$G$14&$H$12&G273&$G$12&E273&$G$12","v":"DRZYCIM - Gmina wiejska / Powiat świecki / Województwo  - KUJAWSKO-POMORSKIE / 041403 / "},20144835,22126372,{"$f":"ISNUMBER(SEARCH(Wyszukiwarka!$A$1,'Porównanie dochodów JST'!J273))","v":false},{"$f":"IF(M273,COUNTIF($M$16:M273,TRUE),\"\")","v":""},{"$f":"IFERROR(INDEX($J$16:$J$2822,MATCH(ROWS($J$16:J273),$N$16:$N$2822,0)),\"\")","v":""}]
["04","14","04","2","041404","Gmina wiejska","KUJAWSKO-POMORSKIE","świecki","JEŻEWO","JEŻEWO - Gmina wiejska / Powiat świecki / Województwo  - KUJAWSKO-POMORSKIE / 041404 / ",31644658,34404300.88669537,{"$f":"ISNUMBER(SEARCH(Wyszukiwarka!$A$1,'Porównanie dochodów JST'!J274))","v":false},{"$f":"IF(M274,COUNTIF($M$16:M274,TRUE),\"\")","v":""},{"$f":"IFERROR(INDEX($J$16:$J$2822,MATCH(ROWS($J$16:J274),$N$16:$N$2822,0)),\"\")","v":""}]
["04","14","05","2","041405","Gmina wiejska","KUJAWSKO-POMORSKIE","świecki","LNIANO","LNIANO - Gmina wiejska / Powiat świecki / Województwo  - KUJAWSKO-POMORSKIE / 041405 / ",16268877,18186855,{"$f":"ISNUMBER(SEARCH(Wyszukiwarka!$A$1,'Porównanie dochodów JST'!J275))","v":false},{"$f":"IF(M275,COUNTIF($M$16:M275,TRUE),\"\")","v":""},{"$f":"IFERROR(INDEX($J$16:$J$2822,MATCH(ROWS($J$16:J275),$N$16:$N$2822,0)),\"\")","v":""}]
["04","14","06","3","041406","Gmina miejsko-wiejska","KUJAWSKO-POMORSKIE","świecki","NOWE","NOWE - Gmina miejsko-wiejska / Powiat świecki / Województwo  - KUJAWSKO-POMORSKIE / 041406 / ",32584130,36009993.706863642,{"$f":"ISNUMBER(SEARCH(Wyszukiwarka!$A$1,'Porównanie dochodów JST'!J276))","v":false},{"$f":"IF(M276,COUNTIF($M$16:M276,TRUE),\"\")","v":""},{"$f":"IFERROR(INDEX($J$16:$J$2822,MATCH(ROWS($J$16:J276),$N$16:$N$2822,0)),\"\")","v":""}]
["04","14","07","2","041407","Gmina wiejska","KUJAWSKO-POMORSKIE","świecki","OSIE","OSIE - Gmina wiejska / Powiat świecki / Województwo  - KUJAWSKO-POMORSKIE / 041407 / ",20581242,22630676.690261945,{"$f":"ISNUMBER(SEARCH(Wyszukiwarka!$A$1,'Porównanie dochodów JST'!J277))","v":false},{"$f":"IF(M277,COUNTIF($M$16:M277,TRUE),\"\")","v":""},{"$f":"IFERROR(INDEX($J$16:$J$2822,MATCH(ROWS($J$16:J277),$N$16:$N$2822,0)),\"\")","v":""}]
["04","14","08","2","041408","Gmina wiejska","KUJAWSKO-POMORSKIE","świecki","PRUSZCZ","PRUSZCZ - Gmina wiejska / Powiat świecki / Województwo  - KUJAWSKO-POMORSKIE / 041408 / ",36979742,40365481.609468207,{"$f":"ISNUMBER(SEARCH(Wyszukiwarka!$A$1,'Porównanie dochodów JST'!J278))","v":false},{"$f":"IF(M278,COUNTIF($M$16:M278,TRUE),\"\")","v":""},{"$f":"IFERROR(INDEX($J$16:$J$2822,MATCH(ROWS($J$16:J278),$N$16:$N$2822,0)),\"\")","v":""}]
["04","14","09","3","041409","Gmina miejsko-wiejska","KUJAWSKO-POMORSKIE","świecki","ŚWIECIE","ŚWIECIE - Gmina miejsko-wiejska / Powiat świecki / Województwo  - KUJAWSKO-POMORSKIE / 041409 / ",125802201,145721530.07999998,{"$f":"ISNUMBER(SEARCH(Wyszukiwarka!$A$1,'Porównanie dochodów JST'!J279))","v":false},{"$f":"IF(M279,COUNTIF($M$16:M279,TRUE),\"\")","v":""},{"$f":"IFERROR(INDEX($J$16:$J$2822,MATCH(ROWS($J$16:J279),$N$16:$N$2822,0)),\"\")","v":""}]
["04","14","10","2","041410","Gmina wiejska","KUJAWSKO-POMORSKIE","świecki","ŚWIEKATOWO","ŚWIEKATOWO - Gmina wiejska / Powiat świecki / Województwo  - KUJAWSKO-POMORSKIE / 041410 / ",14566633,15917749,{"$f":"ISNUMBER(SEARCH(Wyszukiwarka!$A$1,'Porównanie dochodów JST'!J280))","v":false},{"$f":"IF(M280,COUNTIF($M$16:M280,TRUE),\"\")","v":""},{"$f":"IFERROR(INDEX($J$16:$J$2822,MATCH(ROWS($J$16:J280),$N$16:$N$2822,0)),\"\")","v":""}]
["04","14","11","2","041411","Gmina wiejska","KUJAWSKO-POMORSKIE","świecki","WARLUBIE","WARLUBIE - Gmina wiejska / Powiat świecki / Województwo  - KUJAWSKO-POMORSKIE / 041411 / ",23722984,27245548.960000001,{"$f":"ISNUMBER(SEARCH(Wyszukiwarka!$A$1,'Porównanie dochodów JST'!J281))","v":false},{"$f":"IF(M281,COUNTIF($M$16:M281,TRUE),\"\")","v":""},{"$f":"IFERROR(INDEX($J$16:$J$2822,MATCH(ROWS($J$16:J281),$N$16:$N$2822,0)),\"\")","v":""}]
["04","15","01","1","041501","Gmina miejska","KUJAWSKO-POMORSKIE","toruński","CHEŁMŻA","CHEŁMŻA - Gmina miejska / Powiat toruński / Województwo  - KUJAWSKO-POMORSKIE / 041501 / ",39077584,43290221.982460529,{"$f":"ISNUMBER(SEARCH(Wyszukiwarka!$A$1,'Porównanie dochodów JST'!J282))","v":false},{"$f":"IF(M282,COUNTIF($M$16:M282,TRUE),\"\")","v":""},{"$f":"IFERROR(INDEX($J$16:$J$2822,MATCH(ROWS($J$16:J282),$N$16:$N$2822,0)),\"\")","v":""}]
["04","15","02","2","041502","Gmina wiejska","KUJAWSKO-POMORSKIE","toruński","CHEŁMŻA","CHEŁMŻA - Gmina wiejska / Powiat toruński / Województwo  - KUJAWSKO-POMORSKIE / 041502 / ",30992674,34416699.738986403,{"$f":"ISNUMBER(SEARCH(Wyszukiwarka!$A$1,'Porównanie dochodów JST'!J283))","v":false},{"$f":"IF(M283,COUNTIF($M$16:M283,TRUE),\"\")","v":""},{"$f":"IFERROR(INDEX($J$16:$J$2822,MATCH(ROWS($J$16:J283),$N$16:$N$2822,0)),\"\")","v":""}]
["04","15","03","2","041503","Gmina wiejska","KUJAWSKO-POMORSKIE","toruński","CZERNIKOWO","CZERNIKOWO - Gmina wiejska / Powiat toruński / Województwo  - KUJAWSKO-POMORSKIE / 041503 / ",46763890,51216065.716627009,{"$f":"ISNUMBER(SEARCH(Wyszukiwarka!$A$1,'Porównanie dochodów JST'!J284))","v":false},{"$f":"IF(M284,COUNTIF($M$16:M284,TRUE),\"\")","v":""},{"$f":"IFERROR(INDEX($J$16:$J$2822,MATCH(ROWS($J$16:J284),$N$16:$N$2822,0)),\"\")","v":""}]
["04","15","04","2","041504","Gmina wiejska","KUJAWSKO-POMORSKIE","toruński","LUBICZ","LUBICZ - Gmina wiejska / Powiat toruński / Województwo  - KUJAWSKO-POMORSKIE / 041504 / ",84616671,91551674.024706244,{"$f":"ISNUMBER(SEARCH(Wyszukiwarka!$A$1,'Porównanie dochodów JST'!J285))","v":false},{"$f":"IF(M285,COUNTIF($M$16:M285,TRUE),\"\")","v":""},{"$f":"IFERROR(INDEX($J$16:$J$2822,MATCH(ROWS($J$16:J285),$N$16:$N$2822,0)),\"\")","v":""}]
["04","15","05","2","041505","Gmina wiejska","KUJAWSKO-POMORSKIE","toruński","ŁUBIANKA","ŁUBIANKA - Gmina wiejska / Powiat toruński / Województwo  - KUJAWSKO-POMORSKIE / 041505 / ",32865350,36122367.759923488,{"$f":"ISNUMBER(SEARCH(Wyszukiwarka!$A$1,'Porównanie dochodów JST'!J286))","v":false},{"$f":"IF(M286,COUNTIF($M$16:M286,TRUE),\"\")","v":""},{"$f":"IFERROR(INDEX($J$16:$J$2822,MATCH(ROWS($J$16:J286),$N$16:$N$2822,0)),\"\")","v":""}]
["04","15","06","2","041506","Gmina wiejska","KUJAWSKO-POMORSKIE","toruński","ŁYSOMICE","ŁYSOMICE - Gmina wiejska / Powiat toruński / Województwo  - KUJAWSKO-POMORSKIE / 041506 / ",45080938,49325786,{"$f":"ISNUMBER(SEARCH(Wyszukiwarka!$A$1,'Porównanie dochodów JST'!J287))","v":false},{"$f":"IF(M287,COUNTIF($M$16:M287,TRUE),\"\")","v":""},{"$f":"IFERROR(INDEX($J$16:$J$2822,MATCH(ROWS($J$16:J287),$N$16:$N$2822,0)),\"\")","v":""}]
["04","15","07","2","041507","Gmina wiejska","KUJAWSKO-POMORSKIE","toruński","OBROWO","OBROWO - Gmina wiejska / Powiat toruński / Województwo  - KUJAWSKO-POMORSKIE / 041507 / ",84854763,90250073.971181154,{"$f":"ISNUMBER(SEARCH(Wyszukiwarka!$A$1,'Porównanie dochodów JST'!J288))","v":false},{"$f":"IF(M288,COUNTIF($M$16:M288,TRUE),\"\")","v":""},{"$f":"IFERROR(INDEX($J$16:$J$2822,MATCH(ROWS($J$16:J288),$N$16:$N$2822,0)),\"\")","v":""}]
["04","15","08","2","041508","Gmina wiejska","KUJAWSKO-POMORSKIE","toruński","WIELKA NIESZAWKA","WIELKA NIESZAWKA - Gmina wiejska / Powiat toruński / Województwo  - KUJAWSKO-POMORSKIE / 041508 / ",25242432,27478938.727468979,{"$f":"ISNUMBER(SEARCH(Wyszukiwarka!$A$1,'Porównanie dochodów JST'!J289))","v":false},{"$f":"IF(M289,COUNTIF($M$16:M289,TRUE),\"\")","v":""},{"$f":"IFERROR(INDEX($J$16:$J$2822,MATCH(ROWS($J$16:J289),$N$16:$N$2822,0)),\"\")","v":""}]
["04","15","09","2","041509","Gmina wiejska","KUJAWSKO-POMORSKIE","toruński","ZŁAWIEŚ WIELKA","ZŁAWIEŚ WIELKA - Gmina wiejska / Powiat toruński / Województwo  - KUJAWSKO-POMORSKIE / 041509 / ",66250364,71429753.547338307,{"$f":"ISNUMBER(SEARCH(Wyszukiwarka!$A$1,'Porównanie dochodów JST'!J290))","v":false},{"$f":"IF(M290,COUNTIF($M$16:M290,TRUE),\"\")","v":""},{"$f":"IFERROR(INDEX($J$16:$J$2822,MATCH(ROWS($J$16:J290),$N$16:$N$2822,0)),\"\")","v":""}]
["04","16","01","2","041601","Gmina wiejska","KUJAWSKO-POMORSKIE","tucholski","CEKCYN","CEKCYN - Gmina wiejska / Powiat tucholski / Województwo  - KUJAWSKO-POMORSKIE / 041601 / ",28754377,31447547,{"$f":"ISNUMBER(SEARCH(Wyszukiwarka!$A$1,'Porównanie dochodów JST'!J291))","v":false},{"$f":"IF(M291,COUNTIF($M$16:M291,TRUE),\"\")","v":""},{"$f":"IFERROR(INDEX($J$16:$J$2822,MATCH(ROWS($J$16:J291),$N$16:$N$2822,0)),\"\")","v":""}]
["04","16","02","2","041602","Gmina wiejska","KUJAWSKO-POMORSKIE","tucholski","GOSTYCYN","GOSTYCYN - Gmina wiejska / Powiat tucholski / Województwo  - KUJAWSKO-POMORSKIE / 041602 / ",20731716,23003561.582070969,{"$f":"ISNUMBER(SEARCH(Wyszukiwarka!$A$1,'Porównanie dochodów JST'!J292))","v":false},{"$f":"IF(M292,COUNTIF($M$16:M292,TRUE),\"\")","v":""},{"$f":"IFERROR(INDEX($J$16:$J$2822,MATCH(ROWS($J$16:J292),$N$16:$N$2822,0)),\"\")","v":""}]
["04","16","03","2","041603","Gmina wiejska","KUJAWSKO-POMORSKIE","tucholski","KĘSOWO","KĘSOWO - Gmina wiejska / Powiat tucholski / Województwo  - KUJAWSKO-POMORSKIE / 041603 / ",18343081,20258262,{"$f":"ISNUMBER(SEARCH(Wyszukiwarka!$A$1,'Porównanie dochodów JST'!J293))","v":false},{"$f":"IF(M293,COUNTIF($M$16:M293,TRUE),\"\")","v":""},{"$f":"IFERROR(INDEX($J$16:$J$2822,MATCH(ROWS($J$16:J293),$N$16:$N$2822,0)),\"\")","v":""}]
["04","16","04","2","041604","Gmina wiejska","KUJAWSKO-POMORSKIE","tucholski","LUBIEWO","LUBIEWO - Gmina wiejska / Powiat tucholski / Województwo  - KUJAWSKO-POMORSKIE / 041604 / ",26421928,28527018,{"$f":"ISNUMBER(SEARCH(Wyszukiwarka!$A$1,'Porównanie dochodów JST'!J294))","v":false},{"$f":"IF(M294,COUNTIF($M$16:M294,TRUE),\"\")","v":""},{"$f":"IFERROR(INDEX($J$16:$J$2822,MATCH(ROWS($J$16:J294),$N$16:$N$2822,0)),\"\")","v":""}]
["04","16","05","2","041605","Gmina wiejska","KUJAWSKO-POMORSKIE","tucholski","ŚLIWICE","ŚLIWICE - Gmina wiejska / Powiat tucholski / Województwo  - KUJAWSKO-POMORSKIE / 041605 / ",22030745,24103133,{"$f":"ISNUMBER(SEARCH(Wyszukiwarka!$A$1,'Porównanie dochodów JST'!J295))","v":false},{"$f":"IF(M295,COUNTIF($M$16:M295,TRUE),\"\")","v":""},{"$f":"IFERROR(INDEX($J$16:$J$2822,MATCH(ROWS($J$16:J295),$N$16:$N$2822,0)),\"\")","v":""}]
["04","16","06","3","041606","Gmina miejsko-wiejska","KUJAWSKO-POMORSKIE","tucholski","TUCHOLA","TUCHOLA - Gmina miejsko-wiejska / Powiat tucholski / Województwo  - KUJAWSKO-POMORSKIE / 041606 / ",65472385,70839464.917396858,{"$f":"ISNUMBER(SEARCH(Wyszukiwarka!$A$1,'Porównanie dochodów JST'!J296))","v":false},{"$f":"IF(M296,COUNTIF($M$16:M296,TRUE),\"\")","v":""},{"$f":"IFERROR(INDEX($J$16:$J$2822,MATCH(ROWS($J$16:J296),$N$16:$N$2822,0)),\"\")","v":""}]
["04","17","01","1","041701","Gmina miejska","KUJAWSKO-POMORSKIE","wąbrzeski","WĄBRZEŹNO","WĄBRZEŹNO - Gmina miejska / Powiat wąbrzeski / Województwo  - KUJAWSKO-POMORSKIE / 041701 / ",39283641,45392398.240000002,{"$f":"ISNUMBER(SEARCH(Wyszukiwarka!$A$1,'Porównanie dochodów JST'!J297))","v":false},{"$f":"IF(M297,COUNTIF($M$16:M297,TRUE),\"\")","v":""},{"$f":"IFERROR(INDEX($J$16:$J$2822,MATCH(ROWS($J$16:J297),$N$16:$N$2822,0)),\"\")","v":""}]
["04","17","02","2","041702","Gmina wiejska","KUJAWSKO-POMORSKIE","wąbrzeski","DĘBOWA ŁĄKA","DĘBOWA ŁĄKA - Gmina wiejska / Powiat wąbrzeski / Województwo  - KUJAWSKO-POMORSKIE / 041702 / ",11368672,12656337.950000001,{"$f":"ISNUMBER(SEARCH(Wyszukiwarka!$A$1,'Porównanie dochodów JST'!J298))","v":false},{"$f":"IF(M298,COUNTIF($M$16:M298,TRUE),\"\")","v":""},{"$f":"IFERROR(INDEX($J$16:$J$2822,MATCH(ROWS($J$16:J298),$N$16:$N$2822,0)),\"\")","v":""}]
["04","17","03","2","041703","Gmina wiejska","KUJAWSKO-POMORSKIE","wąbrzeski","KSIĄŻKI","KSIĄŻKI - Gmina wiejska / Powiat wąbrzeski / Województwo  - KUJAWSKO-POMORSKIE / 041703 / ",13790047,15155278,{"$f":"ISNUMBER(SEARCH(Wyszukiwarka!$A$1,'Porównanie dochodów JST'!J299))","v":false},{"$f":"IF(M299,COUNTIF($M$16:M299,TRUE),\"\")","v":""},{"$f":"IFERROR(INDEX($J$16:$J$2822,MATCH(ROWS($J$16:J299),$N$16:$N$2822,0)),\"\")","v":""}]
["04","17","04","2","041704","Gmina wiejska","KUJAWSKO-POMORSKIE","wąbrzeski","PŁUŻNICA","PŁUŻNICA - Gmina wiejska / Powiat wąbrzeski / Województwo  - KUJAWSKO-POMORSKIE / 041704 / ",16240338,18183801,{"$f":"ISNUMBER(SEARCH(Wyszukiwarka!$A$1,'Porównanie dochodów JST'!J300))","v":false},{"$f":"IF(M300,COUNTIF($M$16:M300,TRUE),\"\")","v":""},{"$f":"IFERROR(INDEX($J$16:$J$2822,MATCH(ROWS($J$16:J300),$N$16:$N$2822,0)),\"\")","v":""}]
["04","17","05","2","041705","Gmina wiejska","KUJAWSKO-POMORSKIE","wąbrzeski","WĄBRZEŹNO","WĄBRZEŹNO - Gmina wiejska / Powiat wąbrzeski / Województwo  - KUJAWSKO-POMORSKIE / 041705 / ",31742541,35072307.529000871,{"$f":"ISNUMBER(SEARCH(Wyszukiwarka!$A$1,'Porównanie dochodów JST'!J301))","v":false},{"$f":"IF(M301,COUNTIF($M$16:M301,TRUE),\"\")","v":""},{"$f":"IFERROR(INDEX($J$16:$J$2822,MATCH(ROWS($J$16:J301),$N$16:$N$2822,0)),\"\")","v":""}]
["04","18","01","1","041801","Gmina miejska","KUJAWSKO-POMORSKIE","włocławski","KOWAL","KOWAL - Gmina miejska / Powiat włocławski / Województwo  - KUJAWSKO-POMORSKIE / 041801 / ",14047479,15352378.84,{"$f":"ISNUMBER(SEARCH(Wyszukiwarka!$A$1,'Porównanie dochodów JST'!J302))","v":false},{"$f":"IF(M302,COUNTIF($M$16:M302,TRUE),\"\")","v":""},{"$f":"IFERROR(INDEX($J$16:$J$2822,MATCH(ROWS($J$16:J302),$N$16:$N$2822,0)),\"\")","v":""}]
["04","18","02","2","041802","Gmina wiejska","KUJAWSKO-POMORSKIE","włocławski","BARUCHOWO","BARUCHOWO - Gmina wiejska / Powiat włocławski / Województwo  - KUJAWSKO-POMORSKIE / 041802 / ",13693755,15028610,{"$f":"ISNUMBER(SEARCH(Wyszukiwarka!$A$1,'Porównanie dochodów JST'!J303))","v":false},{"$f":"IF(M303,COUNTIF($M$16:M303,TRUE),\"\")","v":""},{"$f":"IFERROR(INDEX($J$16:$J$2822,MATCH(ROWS($J$16:J303),$N$16:$N$2822,0)),\"\")","v":""}]
["04","18","03","2","041803","Gmina wiejska","KUJAWSKO-POMORSKIE","włocławski","BONIEWO","BONIEWO - Gmina wiejska / Powiat włocławski / Województwo  - KUJAWSKO-POMORSKIE / 041803 / ",12541127,13854188,{"$f":"ISNUMBER(SEARCH(Wyszukiwarka!$A$1,'Porównanie dochodów JST'!J304))","v":false},{"$f":"IF(M304,COUNTIF($M$16:M304,TRUE),\"\")","v":""},{"$f":"IFERROR(INDEX($J$16:$J$2822,MATCH(ROWS($J$16:J304),$N$16:$N$2822,0)),\"\")","v":""}]
["04","18","04","3","041804","Gmina miejsko-wiejska","KUJAWSKO-POMORSKIE","włocławski","BRZEŚĆ KUJAWSKI","BRZEŚĆ KUJAWSKI - Gmina miejsko-wiejska / Powiat włocławski / Województwo  - KUJAWSKO-POMORSKIE / 041804 / ",41605573,45433984.69648996,{"$f":"ISNUMBER(SEARCH(Wyszukiwarka!$A$1,'Porównanie dochodów JST'!J305))","v":false},{"$f":"IF(M305,COUNTIF($M$16:M305,TRUE),\"\")","v":""},{"$f":"IFERROR(INDEX($J$16:$J$2822,MATCH(ROWS($J$16:J305),$N$16:$N$2822,0)),\"\")","v":""}]
["04","18","05","2","041805","Gmina wiejska","KUJAWSKO-POMORSKIE","włocławski","CHOCEŃ","CHOCEŃ - Gmina wiejska / Powiat włocławski / Województwo  - KUJAWSKO-POMORSKIE / 041805 / ",30299285,33014133.936326146,{"$f":"ISNUMBER(SEARCH(Wyszukiwarka!$A$1,'Porównanie dochodów JST'!J306))","v":false},{"$f":"IF(M306,COUNTIF($M$16:M306,TRUE),\"\")","v":""},{"$f":"IFERROR(INDEX($J$16:$J$2822,MATCH(ROWS($J$16:J306),$N$16:$N$2822,0)),\"\")","v":""}]
["04","18","06","3","041806","Gmina miejsko-wiejska","KUJAWSKO-POMORSKIE","włocławski","CHODECZ","CHODECZ - Gmina miejsko-wiejska / Powiat włocławski / Województwo  - KUJAWSKO-POMORSKIE / 041806 / ",19902221,21952849,{"$f":"ISNUMBER(SEARCH(Wyszukiwarka!$A$1,'Porównanie dochodów JST'!J307))","v":false},{"$f":"IF(M307,COUNTIF($M$16:M307,TRUE),\"\")","v":""},{"$f":"IFERROR(INDEX($J$16:$J$2822,MATCH(ROWS($J$16:J307),$N$16:$N$2822,0)),\"\")","v":""}]
["04","18","07","2","041807","Gmina wiejska","KUJAWSKO-POMORSKIE","włocławski","FABIANKI","FABIANKI - Gmina wiejska / Powiat włocławski / Województwo  - KUJAWSKO-POMORSKIE / 041807 / ",35658233,39653663.555388741,{"$f":"ISNUMBER(SEARCH(Wyszukiwarka!$A$1,'Porównanie dochodów JST'!J308))","v":false},{"$f":"IF(M308,COUNTIF($M$16:M308,TRUE),\"\")","v":""},{"$f":"IFERROR(INDEX($J$16:$J$2822,MATCH(ROWS($J$16:J308),$N$16:$N$2822,0)),\"\")","v":""}]
["04","18","08","3","041808","Gmina miejsko-wiejska","KUJAWSKO-POMORSKIE","włocławski","IZBICA KUJAWSKA","IZBICA KUJAWSKA - Gmina miejsko-wiejska / Powiat włocławski / Województwo  - KUJAWSKO-POMORSKIE / 041808 / ",28344324,31059249.646543972,{"$f":"ISNUMBER(SEARCH(Wyszukiwarka!$A$1,'Porównanie dochodów JST'!J309))","v":false},{"$f":"IF(M309,COUNTIF($M$16:M309,TRUE),\"\")","v":""},{"$f":"IFERROR(INDEX($J$16:$J$2822,MATCH(ROWS($J$16:J309),$N$16:$N$2822,0)),\"\")","v":""}]
["04","18","09","2","041809","Gmina wiejska","KUJAWSKO-POMORSKIE","włocławski","KOWAL","KOWAL - Gmina wiejska / Powiat włocławski / Województwo  - KUJAWSKO-POMORSKIE / 041809 / ",17479331,18863526.867402215,{"$f":"ISNUMBER(SEARCH(Wyszukiwarka!$A$1,'Porównanie dochodów JST'!J310))","v":false},{"$f":"IF(M310,COUNTIF($M$16:M310,TRUE),\"\")","v":""},{"$f":"IFERROR(INDEX($J$16:$J$2822,MATCH(ROWS($J$16:J310),$N$16:$N$2822,0)),\"\")","v":""}]
["04","18","10","2","041810","Gmina wiejska","KUJAWSKO-POMORSKIE","włocławski","LUBANIE","LUBANIE - Gmina wiejska / Powiat włocławski / Województwo  - KUJAWSKO-POMORSKIE / 041810 / ",12268134,13820972,{"$f":"ISNUMBER(SEARCH(Wyszukiwarka!$A$1,'Porównanie dochodów JST'!J311))","v":false},{"$f":"IF(M311,COUNTIF($M$16:M311,TRUE),\"\")","v":""},{"$f":"IFERROR(INDEX($J$16:$J$2822,MATCH(ROWS($J$16:J311),$N$16:$N$2822,0)),\"\")","v":""}]
["04","18","11","3","041811","Gmina miejsko-wiejska","KUJAWSKO-POMORSKIE","włocławski","LUBIEŃ KUJAWSKI","LUBIEŃ KUJAWSKI - Gmina miejsko-wiejska / Powiat włocławski / Województwo  - KUJAWSKO-POMORSKIE / 041811 / ",24711539,28441220.640000001,{"$f":"ISNUMBER(SEARCH(Wyszukiwarka!$A$1,'Porównanie dochodów JST'!J312))","v":false},{"$f":"IF(M312,COUNTIF($M$16:M312,TRUE),\"\")","v":""},{"$f":"IFERROR(INDEX($J$16:$J$2822,MATCH(ROWS($J$16:J312),$N$16:$N$2822,0)),\"\")","v":""}]
["04","18","12","3","041812","Gmina miejsko-wiejska","KUJAWSKO-POMORSKIE","włocławski","LUBRANIEC","LUBRANIEC - Gmina miejsko-wiejska / Powiat włocławski / Województwo  - KUJAWSKO-POMORSKIE / 041812 / ",32956040,36282796,{"$f":"ISNUMBER(SEARCH(Wyszukiwarka!$A$1,'Porównanie dochodów JST'!J313))","v":false},{"$f":"IF(M313,COUNTIF($M$16:M313,TRUE),\"\")","v":""},{"$f":"IFERROR(INDEX($J$16:$J$2822,MATCH(ROWS($J$16:J313),$N$16:$N$2822,0)),\"\")","v":""}]
["04","18","13","2","041813","Gmina wiejska","KUJAWSKO-POMORSKIE","włocławski","WŁOCŁAWEK","WŁOCŁAWEK - Gmina wiejska / Powiat włocławski / Województwo  - KUJAWSKO-POMORSKIE / 041813 / ",37583672,40381256.784844324,{"$f":"ISNUMBER(SEARCH(Wyszukiwarka!$A$1,'Porównanie dochodów JST'!J314))","v":false},{"$f":"IF(M314,COUNTIF($M$16:M314,TRUE),\"\")","v":""},{"$f":"IFERROR(INDEX($J$16:$J$2822,MATCH(ROWS($J$16:J314),$N$16:$N$2822,0)),\"\")","v":""}]
["04","19","01","3","041901","Gmina miejsko-wiejska","KUJAWSKO-POMORSKIE","żniński","BARCIN","BARCIN - Gmina miejsko-wiejska / Powiat żniński / Województwo  - KUJAWSKO-POMORSKIE / 041901 / ",47701677,51823569.593407795,{"$f":"ISNUMBER(SEARCH(Wyszukiwarka!$A$1,'Porównanie dochodów JST'!J315))","v":false},{"$f":"IF(M315,COUNTIF($M$16:M315,TRUE),\"\")","v":""},{"$f":"IFERROR(INDEX($J$16:$J$2822,MATCH(ROWS($J$16:J315),$N$16:$N$2822,0)),\"\")","v":""}]
["04","19","02","2","041902","Gmina wiejska","KUJAWSKO-POMORSKIE","żniński","GĄSAWA","GĄSAWA - Gmina wiejska / Powiat żniński / Województwo  - KUJAWSKO-POMORSKIE / 041902 / ",17498310,19493889,{"$f":"ISNUMBER(SEARCH(Wyszukiwarka!$A$1,'Porównanie dochodów JST'!J316))","v":false},{"$f":"IF(M316,COUNTIF($M$16:M316,TRUE),\"\")","v":""},{"$f":"IFERROR(INDEX($J$16:$J$2822,MATCH(ROWS($J$16:J316),$N$16:$N$2822,0)),\"\")","v":""}]
["04","19","03","3","041903","Gmina miejsko-wiejska","KUJAWSKO-POMORSKIE","żniński","JANOWIEC WIELKOPOLSKI","JANOWIEC WIELKOPOLSKI - Gmina miejsko-wiejska / Powiat żniński / Województwo  - KUJAWSKO-POMORSKIE / 041903 / ",34930004,38236507,{"$f":"ISNUMBER(SEARCH(Wyszukiwarka!$A$1,'Porównanie dochodów JST'!J317))","v":false},{"$f":"IF(M317,COUNTIF($M$16:M317,TRUE),\"\")","v":""},{"$f":"IFERROR(INDEX($J$16:$J$2822,MATCH(ROWS($J$16:J317),$N$16:$N$2822,0)),\"\")","v":""}]
["04","19","04","3","041904","Gmina miejsko-wiejska","KUJAWSKO-POMORSKIE","żniński","ŁABISZYN","ŁABISZYN - Gmina miejsko-wiejska / Powiat żniński / Województwo  - KUJAWSKO-POMORSKIE / 041904 / ",41042897,45119601,{"$f":"ISNUMBER(SEARCH(Wyszukiwarka!$A$1,'Porównanie dochodów JST'!J318))","v":false},{"$f":"IF(M318,COUNTIF($M$16:M318,TRUE),\"\")","v":""},{"$f":"IFERROR(INDEX($J$16:$J$2822,MATCH(ROWS($J$16:J318),$N$16:$N$2822,0)),\"\")","v":""}]
["04","19","05","2","041905","Gmina wiejska","KUJAWSKO-POMORSKIE","żniński","ROGOWO","ROGOWO - Gmina wiejska / Powiat żniński / Województwo  - KUJAWSKO-POMORSKIE / 041905 / ",28627461,31281652.749467246,{"$f":"ISNUMBER(SEARCH(Wyszukiwarka!$A$1,'Porównanie dochodów JST'!J319))","v":false},{"$f":"IF(M319,COUNTIF($M$16:M319,TRUE),\"\")","v":""},{"$f":"IFERROR(INDEX($J$16:$J$2822,MATCH(ROWS($J$16:J319),$N$16:$N$2822,0)),\"\")","v":""}]
["04","19","06","3","041906","Gmina miejsko-wiejska","KUJAWSKO-POMORSKIE","żniński","ŻNIN","ŻNIN - Gmina miejsko-wiejska / Powiat żniński / Województwo  - KUJAWSKO-POMORSKIE / 041906 / ",75760219,81412278.864490211,{"$f":"ISNUMBER(SEARCH(Wyszukiwarka!$A$1,'Porównanie dochodów JST'!J320))","v":false},{"$f":"IF(M320,COUNTIF($M$16:M320,TRUE),\"\")","v":""},{"$f":"IFERROR(INDEX($J$16:$J$2822,MATCH(ROWS($J$16:J320),$N$16:$N$2822,0)),\"\")","v":""}]
["06","01","01","1","060101","Gmina miejska","LUBELSKIE","bialski","MIĘDZYRZEC PODLASKI","MIĘDZYRZEC PODLASKI - Gmina miejska / Powiat bialski / Województwo  - LUBELSKIE / 060101 / ",54352058,59289457,{"$f":"ISNUMBER(SEARCH(Wyszukiwarka!$A$1,'Porównanie dochodów JST'!J321))","v":false},{"$f":"IF(M321,COUNTIF($M$16:M321,TRUE),\"\")","v":""},{"$f":"IFERROR(INDEX($J$16:$J$2822,MATCH(ROWS($J$16:J321),$N$16:$N$2822,0)),\"\")","v":""}]
["06","01","02","1","060102","Gmina miejska","LUBELSKIE","bialski","TERESPOL","TERESPOL - Gmina miejska / Powiat bialski / Województwo  - LUBELSKIE / 060102 / ",16018491,18478542.879999999,{"$f":"ISNUMBER(SEARCH(Wyszukiwarka!$A$1,'Porównanie dochodów JST'!J322))","v":false},{"$f":"IF(M322,COUNTIF($M$16:M322,TRUE),\"\")","v":""},{"$f":"IFERROR(INDEX($J$16:$J$2822,MATCH(ROWS($J$16:J322),$N$16:$N$2822,0)),\"\")","v":""}]
["06","01","03","2","060103","Gmina wiejska","LUBELSKIE","bialski","BIAŁA PODLASKA","BIAŁA PODLASKA - Gmina wiejska / Powiat bialski / Województwo  - LUBELSKIE / 060103 / ",56944822,62003320.729982093,{"$f":"ISNUMBER(SEARCH(Wyszukiwarka!$A$1,'Porównanie dochodów JST'!J323))","v":false},{"$f":"IF(M323,COUNTIF($M$16:M323,TRUE),\"\")","v":""},{"$f":"IFERROR(INDEX($J$16:$J$2822,MATCH(ROWS($J$16:J323),$N$16:$N$2822,0)),\"\")","v":""}]
["06","01","04","2","060104","Gmina wiejska","LUBELSKIE","bialski","DRELÓW","DRELÓW - Gmina wiejska / Powiat bialski / Województwo  - LUBELSKIE / 060104 / ",23086327,25097448,{"$f":"ISNUMBER(SEARCH(Wyszukiwarka!$A$1,'Porównanie dochodów JST'!J324))","v":false},{"$f":"IF(M324,COUNTIF($M$16:M324,TRUE),\"\")","v":""},{"$f":"IFERROR(INDEX($J$16:$J$2822,MATCH(ROWS($J$16:J324),$N$16:$N$2822,0)),\"\")","v":""}]
["06","01","05","2","060105","Gmina wiejska","LUBELSKIE","bialski","JANÓW PODLASKI","JANÓW PODLASKI - Gmina wiejska / Powiat bialski / Województwo  - LUBELSKIE / 060105 / ",17774884,19759460.723943401,{"$f":"ISNUMBER(SEARCH(Wyszukiwarka!$A$1,'Porównanie dochodów JST'!J325))","v":false},{"$f":"IF(M325,COUNTIF($M$16:M325,TRUE),\"\")","v":""},{"$f":"IFERROR(INDEX($J$16:$J$2822,MATCH(ROWS($J$16:J325),$N$16:$N$2822,0)),\"\")","v":""}]
["06","01","06","2","060106","Gmina wiejska","LUBELSKIE","bialski","KODEŃ","KODEŃ - Gmina wiejska / Powiat bialski / Województwo  - LUBELSKIE / 060106 / ",12554193,13883823.759999998,{"$f":"ISNUMBER(SEARCH(Wyszukiwarka!$A$1,'Porównanie dochodów JST'!J326))","v":false},{"$f":"IF(M326,COUNTIF($M$16:M326,TRUE),\"\")","v":""},{"$f":"IFERROR(INDEX($J$16:$J$2822,MATCH(ROWS($J$16:J326),$N$16:$N$2822,0)),\"\")","v":""}]
["06","01","07","2","060107","Gmina wiejska","LUBELSKIE","bialski","KONSTANTYNÓW","KONSTANTYNÓW - Gmina wiejska / Powiat bialski / Województwo  - LUBELSKIE / 060107 / ",16548909,17927075.616573393,{"$f":"ISNUMBER(SEARCH(Wyszukiwarka!$A$1,'Porównanie dochodów JST'!J327))","v":false},{"$f":"IF(M327,COUNTIF($M$16:M327,TRUE),\"\")","v":""},{"$f":"IFERROR(INDEX($J$16:$J$2822,MATCH(ROWS($J$16:J327),$N$16:$N$2822,0)),\"\")","v":""}]
["06","01","08","2","060108","Gmina wiejska","LUBELSKIE","bialski","LEŚNA PODLASKA","LEŚNA PODLASKA - Gmina wiejska / Powiat bialski / Województwo  - LUBELSKIE / 060108 / ",16132873,18047798.895191621,{"$f":"ISNUMBER(SEARCH(Wyszukiwarka!$A$1,'Porównanie dochodów JST'!J328))","v":false},{"$f":"IF(M328,COUNTIF($M$16:M328,TRUE),\"\")","v":""},{"$f":"IFERROR(INDEX($J$16:$J$2822,MATCH(ROWS($J$16:J328),$N$16:$N$2822,0)),\"\")","v":""}]
["06","01","09","2","060109","Gmina wiejska","LUBELSKIE","bialski","ŁOMAZY","ŁOMAZY - Gmina wiejska / Powiat bialski / Województwo  - LUBELSKIE / 060109 / ",18781982,20749313,{"$f":"ISNUMBER(SEARCH(Wyszukiwarka!$A$1,'Porównanie dochodów JST'!J329))","v":false},{"$f":"IF(M329,COUNTIF($M$16:M329,TRUE),\"\")","v":""},{"$f":"IFERROR(INDEX($J$16:$J$2822,MATCH(ROWS($J$16:J329),$N$16:$N$2822,0)),\"\")","v":""}]
["06","01","10","2","060110","Gmina wiejska","LUBELSKIE","bialski","MIĘDZYRZEC PODLASKI","MIĘDZYRZEC PODLASKI - Gmina wiejska / Powiat bialski / Województwo  - LUBELSKIE / 060110 / ",44929996,48986307,{"$f":"ISNUMBER(SEARCH(Wyszukiwarka!$A$1,'Porównanie dochodów JST'!J330))","v":false},{"$f":"IF(M330,COUNTIF($M$16:M330,TRUE),\"\")","v":""},{"$f":"IFERROR(INDEX($J$16:$J$2822,MATCH(ROWS($J$16:J330),$N$16:$N$2822,0)),\"\")","v":""}]
["06","01","11","2","060111","Gmina wiejska","LUBELSKIE","bialski","PISZCZAC","PISZCZAC - Gmina wiejska / Powiat bialski / Województwo  - LUBELSKIE / 060111 / ",33375727,36061629,{"$f":"ISNUMBER(SEARCH(Wyszukiwarka!$A$1,'Porównanie dochodów JST'!J331))","v":false},{"$f":"IF(M331,COUNTIF($M$16:M331,TRUE),\"\")","v":""},{"$f":"IFERROR(INDEX($J$16:$J$2822,MATCH(ROWS($J$16:J331),$N$16:$N$2822,0)),\"\")","v":""}]
["06","01","12","2","060112","Gmina wiejska","LUBELSKIE","bialski","ROKITNO","ROKITNO - Gmina wiejska / Powiat bialski / Województwo  - LUBELSKIE / 060112 / ",10247309,11520829,{"$f":"ISNUMBER(SEARCH(Wyszukiwarka!$A$1,'Porównanie dochodów JST'!J332))","v":false},{"$f":"IF(M332,COUNTIF($M$16:M332,TRUE),\"\")","v":""},{"$f":"IFERROR(INDEX($J$16:$J$2822,MATCH(ROWS($J$16:J332),$N$16:$N$2822,0)),\"\")","v":""}]
["06","01","13","2","060113","Gmina wiejska","LUBELSKIE","bialski","ROSSOSZ","ROSSOSZ - Gmina wiejska / Powiat bialski / Województwo  - LUBELSKIE / 060113 / ",9230990,10390109.240000002,{"$f":"ISNUMBER(SEARCH(Wyszukiwarka!$A$1,'Porównanie dochodów JST'!J333))","v":false},{"$f":"IF(M333,COUNTIF($M$16:M333,TRUE),\"\")","v":""},{"$f":"IFERROR(INDEX($J$16:$J$2822,MATCH(ROWS($J$16:J333),$N$16:$N$2822,0)),\"\")","v":""}]
["06","01","14","2","060114","Gmina wiejska","LUBELSKIE","bialski","SŁAWATYCZE","SŁAWATYCZE - Gmina wiejska / Powiat bialski / Województwo  - LUBELSKIE / 060114 / ",9316255,10497186.700000001,{"$f":"ISNUMBER(SEARCH(Wyszukiwarka!$A$1,'Porównanie dochodów JST'!J334))","v":false},{"$f":"IF(M334,COUNTIF($M$16:M334,TRUE),\"\")","v":""},{"$f":"IFERROR(INDEX($J$16:$J$2822,MATCH(ROWS($J$16:J334),$N$16:$N$2822,0)),\"\")","v":""}]
["06","01","15","2","060115","Gmina wiejska","LUBELSKIE","bialski","SOSNÓWKA","SOSNÓWKA - Gmina wiejska / Powiat bialski / Województwo  - LUBELSKIE / 060115 / ",9941558,11153665,{"$f":"ISNUMBER(SEARCH(Wyszukiwarka!$A$1,'Porównanie dochodów JST'!J335))","v":false},{"$f":"IF(M335,COUNTIF($M$16:M335,TRUE),\"\")","v":""},{"$f":"IFERROR(INDEX($J$16:$J$2822,MATCH(ROWS($J$16:J335),$N$16:$N$2822,0)),\"\")","v":""}]
["06","01","16","2","060116","Gmina wiejska","LUBELSKIE","bialski","TERESPOL","TERESPOL - Gmina wiejska / Powiat bialski / Województwo  - LUBELSKIE / 060116 / ",18841420,20854417,{"$f":"ISNUMBER(SEARCH(Wyszukiwarka!$A$1,'Porównanie dochodów JST'!J336))","v":false},{"$f":"IF(M336,COUNTIF($M$16:M336,TRUE),\"\")","v":""},{"$f":"IFERROR(INDEX($J$16:$J$2822,MATCH(ROWS($J$16:J336),$N$16:$N$2822,0)),\"\")","v":""}]
["06","01","17","2","060117","Gmina wiejska","LUBELSKIE","bialski","TUCZNA",{"$f":"I337&$H$12&F337&$G$12&$H$14&H337&$G$12&$G$14&$H$12&G337&$G$12&E337&$G$12","v":"TUCZNA - Gmina wiejska / Powiat bialski / Województwo  - LUBELSKIE / 060117 / "},11291271,12574850.959999999,{"$f":"ISNUMBER(SEARCH(Wyszukiwarka!$A$1,'Porównanie dochodów JST'!J337))","v":false},{"$f":"IF(M337,COUNTIF($M$16:M337,TRUE),\"\")","v":""},{"$f":"IFERROR(INDEX($J$16:$J$2822,MATCH(ROWS($J$16:J337),$N$16:$N$2822,0)),\"\")","v":""}]
["06","01","18","2","060118","Gmina wiejska","LUBELSKIE","bialski","WISZNICE","WISZNICE - Gmina wiejska / Powiat bialski / Województwo  - LUBELSKIE / 060118 / ",19428083,21375196,{"$f":"ISNUMBER(SEARCH(Wyszukiwarka!$A$1,'Porównanie dochodów JST'!J338))","v":false},{"$f":"IF(M338,COUNTIF($M$16:M338,TRUE),\"\")","v":""},{"$f":"IFERROR(INDEX($J$16:$J$2822,MATCH(ROWS($J$16:J338),$N$16:$N$2822,0)),\"\")","v":""}]
["06","01","19","2","060119","Gmina wiejska","LUBELSKIE","bialski","ZALESIE","ZALESIE - Gmina wiejska / Powiat bialski / Województwo  - LUBELSKIE / 060119 / ",14713884,16628817.732789289,{"$f":"ISNUMBER(SEARCH(Wyszukiwarka!$A$1,'Porównanie dochodów JST'!J339))","v":false},{"$f":"IF(M339,COUNTIF($M$16:M339,TRUE),\"\")","v":""},{"$f":"IFERROR(INDEX($J$16:$J$2822,MATCH(ROWS($J$16:J339),$N$16:$N$2822,0)),\"\")","v":""}]
["06","02","01","1","060201","Gmina miejska","LUBELSKIE","biłgorajski","BIŁGORAJ","BIŁGORAJ - Gmina miejska / Powiat biłgorajski / Województwo  - LUBELSKIE / 060201 / ",97862961,104178400.8778374,{"$f":"ISNUMBER(SEARCH(Wyszukiwarka!$A$1,'Porównanie dochodów JST'!J340))","v":false},{"$f":"IF(M340,COUNTIF($M$16:M340,TRUE),\"\")","v":""},{"$f":"IFERROR(INDEX($J$16:$J$2822,MATCH(ROWS($J$16:J340),$N$16:$N$2822,0)),\"\")","v":""}]
["06","02","02","2","060202","Gmina wiejska","LUBELSKIE","biłgorajski","ALEKSANDRÓW","ALEKSANDRÓW - Gmina wiejska / Powiat biłgorajski / Województwo  - LUBELSKIE / 060202 / ",13181911,14802594.82,{"$f":"ISNUMBER(SEARCH(Wyszukiwarka!$A$1,'Porównanie dochodów JST'!J341))","v":false},{"$f":"IF(M341,COUNTIF($M$16:M341,TRUE),\"\")","v":""},{"$f":"IFERROR(INDEX($J$16:$J$2822,MATCH(ROWS($J$16:J341),$N$16:$N$2822,0)),\"\")","v":""}]
["06","02","03","2","060203","Gmina wiejska","LUBELSKIE","biłgorajski","BIŁGORAJ","BIŁGORAJ - Gmina wiejska / Powiat biłgorajski / Województwo  - LUBELSKIE / 060203 / ",53697615,58064874,{"$f":"ISNUMBER(SEARCH(Wyszukiwarka!$A$1,'Porównanie dochodów JST'!J342))","v":false},{"$f":"IF(M342,COUNTIF($M$16:M342,TRUE),\"\")","v":""},{"$f":"IFERROR(INDEX($J$16:$J$2822,MATCH(ROWS($J$16:J342),$N$16:$N$2822,0)),\"\")","v":""}]
["06","02","04","2","060204","Gmina wiejska","LUBELSKIE","biłgorajski","BISZCZA","BISZCZA - Gmina wiejska / Powiat biłgorajski / Województwo  - LUBELSKIE / 060204 / ",15787791,17158468.752510656,{"$f":"ISNUMBER(SEARCH(Wyszukiwarka!$A$1,'Porównanie dochodów JST'!J343))","v":false},{"$f":"IF(M343,COUNTIF($M$16:M343,TRUE),\"\")","v":""},{"$f":"IFERROR(INDEX($J$16:$J$2822,MATCH(ROWS($J$16:J343),$N$16:$N$2822,0)),\"\")","v":""}]
["06","02","05","3","060205","Gmina miejsko-wiejska","LUBELSKIE","biłgorajski","FRAMPOL","FRAMPOL - Gmina miejsko-wiejska / Powiat biłgorajski / Województwo  - LUBELSKIE / 060205 / ",24028653,26083735.588862326,{"$f":"ISNUMBER(SEARCH(Wyszukiwarka!$A$1,'Porównanie dochodów JST'!J344))","v":false},{"$f":"IF(M344,COUNTIF($M$16:M344,TRUE),\"\")","v":""},{"$f":"IFERROR(INDEX($J$16:$J$2822,MATCH(ROWS($J$16:J344),$N$16:$N$2822,0)),\"\")","v":""}]
["06","02","06","2","060206","Gmina wiejska","LUBELSKIE","biłgorajski","GORAJ","GORAJ - Gmina wiejska / Powiat biłgorajski / Województwo  - LUBELSKIE / 060206 / ",14015408,15404118.667720746,{"$f":"ISNUMBER(SEARCH(Wyszukiwarka!$A$1,'Porównanie dochodów JST'!J345))","v":false},{"$f":"IF(M345,COUNTIF($M$16:M345,TRUE),\"\")","v":""},{"$f":"IFERROR(INDEX($J$16:$J$2822,MATCH(ROWS($J$16:J345),$N$16:$N$2822,0)),\"\")","v":""}]
["06","02","07","3","060207","Gmina miejsko-wiejska","LUBELSKIE","biłgorajski","JÓZEFÓW","JÓZEFÓW - Gmina miejsko-wiejska / Powiat biłgorajski / Województwo  - LUBELSKIE / 060207 / ",23695000,26335278.914364602,{"$f":"ISNUMBER(SEARCH(Wyszukiwarka!$A$1,'Porównanie dochodów JST'!J346))","v":false},{"$f":"IF(M346,COUNTIF($M$16:M346,TRUE),\"\")","v":""},{"$f":"IFERROR(INDEX($J$16:$J$2822,MATCH(ROWS($J$16:J346),$N$16:$N$2822,0)),\"\")","v":""}]
["06","02","08","2","060208","Gmina wiejska","LUBELSKIE","biłgorajski","KSIĘŻPOL","KSIĘŻPOL - Gmina wiejska / Powiat biłgorajski / Województwo  - LUBELSKIE / 060208 / ",28536664,31204401.524801366,{"$f":"ISNUMBER(SEARCH(Wyszukiwarka!$A$1,'Porównanie dochodów JST'!J347))","v":false},{"$f":"IF(M347,COUNTIF($M$16:M347,TRUE),\"\")","v":""},{"$f":"IFERROR(INDEX($J$16:$J$2822,MATCH(ROWS($J$16:J347),$N$16:$N$2822,0)),\"\")","v":""}]
["06","02","09","2","060209","Gmina wiejska","LUBELSKIE","biłgorajski","ŁUKOWA","ŁUKOWA - Gmina wiejska / Powiat biłgorajski / Województwo  - LUBELSKIE / 060209 / ",14342493,15754539,{"$f":"ISNUMBER(SEARCH(Wyszukiwarka!$A$1,'Porównanie dochodów JST'!J348))","v":false},{"$f":"IF(M348,COUNTIF($M$16:M348,TRUE),\"\")","v":""},{"$f":"IFERROR(INDEX($J$16:$J$2822,MATCH(ROWS($J$16:J348),$N$16:$N$2822,0)),\"\")","v":""}]
["06","02","10","2","060210","Gmina wiejska","LUBELSKIE","biłgorajski","OBSZA","OBSZA - Gmina wiejska / Powiat biłgorajski / Województwo  - LUBELSKIE / 060210 / ",17547526,20129623.359999999,{"$f":"ISNUMBER(SEARCH(Wyszukiwarka!$A$1,'Porównanie dochodów JST'!J349))","v":false},{"$f":"IF(M349,COUNTIF($M$16:M349,TRUE),\"\")","v":""},{"$f":"IFERROR(INDEX($J$16:$J$2822,MATCH(ROWS($J$16:J349),$N$16:$N$2822,0)),\"\")","v":""}]
["06","02","11","2","060211","Gmina wiejska","LUBELSKIE","biłgorajski","POTOK GÓRNY","POTOK GÓRNY - Gmina wiejska / Powiat biłgorajski / Województwo  - LUBELSKIE / 060211 / ",22725654,24759267,{"$f":"ISNUMBER(SEARCH(Wyszukiwarka!$A$1,'Porównanie dochodów JST'!J350))","v":false},{"$f":"IF(M350,COUNTIF($M$16:M350,TRUE),\"\")","v":""},{"$f":"IFERROR(INDEX($J$16:$J$2822,MATCH(ROWS($J$16:J350),$N$16:$N$2822,0)),\"\")","v":""}]
["06","02","12","3","060212","Gmina miejsko-wiejska","LUBELSKIE","biłgorajski","TARNOGRÓD","TARNOGRÓD - Gmina miejsko-wiejska / Powiat biłgorajski / Województwo  - LUBELSKIE / 060212 / ",24983443,27593336,{"$f":"ISNUMBER(SEARCH(Wyszukiwarka!$A$1,'Porównanie dochodów JST'!J351))","v":false},{"$f":"IF(M351,COUNTIF($M$16:M351,TRUE),\"\")","v":""},{"$f":"IFERROR(INDEX($J$16:$J$2822,MATCH(ROWS($J$16:J351),$N$16:$N$2822,0)),\"\")","v":""}]
["06","02","13","2","060213","Gmina wiejska","LUBELSKIE","biłgorajski","TERESZPOL","TERESZPOL - Gmina wiejska / Powiat biłgorajski / Województwo  - LUBELSKIE / 060213 / ",15265287,16653080,{"$f":"ISNUMBER(SEARCH(Wyszukiwarka!$A$1,'Porównanie dochodów JST'!J352))","v":false},{"$f":"IF(M352,COUNTIF($M$16:M352,TRUE),\"\")","v":""},{"$f":"IFERROR(INDEX($J$16:$J$2822,MATCH(ROWS($J$16:J352),$N$16:$N$2822,0)),\"\")","v":""}]
["06","02","14","2","060214","Gmina wiejska","LUBELSKIE","biłgorajski","TUROBIN","TUROBIN - Gmina wiejska / Powiat biłgorajski / Województwo  - LUBELSKIE / 060214 / ",21590991,23626000,{"$f":"ISNUMBER(SEARCH(Wyszukiwarka!$A$1,'Porównanie dochodów JST'!J353))","v":false},{"$f":"IF(M353,COUNTIF($M$16:M353,TRUE),\"\")","v":""},{"$f":"IFERROR(INDEX($J$16:$J$2822,MATCH(ROWS($J$16:J353),$N$16:$N$2822,0)),\"\")","v":""}]
["06","03","01","1","060301","Gmina miejska","LUBELSKIE","chełmski","REJOWIEC FABRYCZNY","REJOWIEC FABRYCZNY - Gmina miejska / Powiat chełmski / Województwo  - LUBELSKIE / 060301 / ",12967903,14928126.079999998,{"$f":"ISNUMBER(SEARCH(Wyszukiwarka!$A$1,'Porównanie dochodów JST'!J354))","v":false},{"$f":"IF(M354,COUNTIF($M$16:M354,TRUE),\"\")","v":""},{"$f":"IFERROR(INDEX($J$16:$J$2822,MATCH(ROWS($J$16:J354),$N$16:$N$2822,0)),\"\")","v":""}]
["06","03","02","2","060302","Gmina wiejska","LUBELSKIE","chełmski","BIAŁOPOLE","BIAŁOPOLE - Gmina wiejska / Powiat chełmski / Województwo  - LUBELSKIE / 060302 / ",10731069,12008774.594999999,{"$f":"ISNUMBER(SEARCH(Wyszukiwarka!$A$1,'Porównanie dochodów JST'!J355))","v":false},{"$f":"IF(M355,COUNTIF($M$16:M355,TRUE),\"\")","v":""},{"$f":"IFERROR(INDEX($J$16:$J$2822,MATCH(ROWS($J$16:J355),$N$16:$N$2822,0)),\"\")","v":""}]
["06","03","03","2","060303","Gmina wiejska","LUBELSKIE","chełmski","CHEŁM","CHEŁM - Gmina wiejska / Powiat chełmski / Województwo  - LUBELSKIE / 060303 / ",55233698,60245554.590054341,{"$f":"ISNUMBER(SEARCH(Wyszukiwarka!$A$1,'Porównanie dochodów JST'!J356))","v":false},{"$f":"IF(M356,COUNTIF($M$16:M356,TRUE),\"\")","v":""},{"$f":"IFERROR(INDEX($J$16:$J$2822,MATCH(ROWS($J$16:J356),$N$16:$N$2822,0)),\"\")","v":""}]
["06","03","04","2","060304","Gmina wiejska","LUBELSKIE","chełmski","DOROHUSK","DOROHUSK - Gmina wiejska / Powiat chełmski / Województwo  - LUBELSKIE / 060304 / ",18561874,20650230,{"$f":"ISNUMBER(SEARCH(Wyszukiwarka!$A$1,'Porównanie dochodów JST'!J357))","v":false},{"$f":"IF(M357,COUNTIF($M$16:M357,TRUE),\"\")","v":""},{"$f":"IFERROR(INDEX($J$16:$J$2822,MATCH(ROWS($J$16:J357),$N$16:$N$2822,0)),\"\")","v":""}]
["06","03","05","2","060305","Gmina wiejska","LUBELSKIE","chełmski","DUBIENKA","DUBIENKA - Gmina wiejska / Powiat chełmski / Województwo  - LUBELSKIE / 060305 / ",8243065,9293842.6600000001,{"$f":"ISNUMBER(SEARCH(Wyszukiwarka!$A$1,'Porównanie dochodów JST'!J358))","v":false},{"$f":"IF(M358,COUNTIF($M$16:M358,TRUE),\"\")","v":""},{"$f":"IFERROR(INDEX($J$16:$J$2822,MATCH(ROWS($J$16:J358),$N$16:$N$2822,0)),\"\")","v":""}]
["06","03","06","2","060306","Gmina wiejska","LUBELSKIE","chełmski","KAMIEŃ","KAMIEŃ - Gmina wiejska / Powiat chełmski / Województwo  - LUBELSKIE / 060306 / ",16761818,18658100,{"$f":"ISNUMBER(SEARCH(Wyszukiwarka!$A$1,'Porównanie dochodów JST'!J359))","v":false},{"$f":"IF(M359,COUNTIF($M$16:M359,TRUE),\"\")","v":""},{"$f":"IFERROR(INDEX($J$16:$J$2822,MATCH(ROWS($J$16:J359),$N$16:$N$2822,0)),\"\")","v":""}]
["06","03","07","2","060307","Gmina wiejska","LUBELSKIE","chełmski","LEŚNIOWICE","LEŚNIOWICE - Gmina wiejska / Powiat chełmski / Województwo  - LUBELSKIE / 060307 / ",12809442,14128999.795000002,{"$f":"ISNUMBER(SEARCH(Wyszukiwarka!$A$1,'Porównanie dochodów JST'!J360))","v":false},{"$f":"IF(M360,COUNTIF($M$16:M360,TRUE),\"\")","v":""},{"$f":"IFERROR(INDEX($J$16:$J$2822,MATCH(ROWS($J$16:J360),$N$16:$N$2822,0)),\"\")","v":""}]
["06","03","08","2","060308","Gmina wiejska","LUBELSKIE","chełmski","REJOWIEC FABRYCZNY","REJOWIEC FABRYCZNY - Gmina wiejska / Powiat chełmski / Województwo  - LUBELSKIE / 060308 / ",15662558,17061867,{"$f":"ISNUMBER(SEARCH(Wyszukiwarka!$A$1,'Porównanie dochodów JST'!J361))","v":false},{"$f":"IF(M361,COUNTIF($M$16:M361,TRUE),\"\")","v":""},{"$f":"IFERROR(INDEX($J$16:$J$2822,MATCH(ROWS($J$16:J361),$N$16:$N$2822,0)),\"\")","v":""}]
["06","03","09","2","060309","Gmina wiejska","LUBELSKIE","chełmski","RUDA-HUTA","RUDA-HUTA - Gmina wiejska / Powiat chełmski / Województwo  - LUBELSKIE / 060309 / ",14709153,16636047.502362976,{"$f":"ISNUMBER(SEARCH(Wyszukiwarka!$A$1,'Porównanie dochodów JST'!J362))","v":false},{"$f":"IF(M362,COUNTIF($M$16:M362,TRUE),\"\")","v":""},{"$f":"IFERROR(INDEX($J$16:$J$2822,MATCH(ROWS($J$16:J362),$N$16:$N$2822,0)),\"\")","v":""}]
["06","03","10","2","060310","Gmina wiejska","LUBELSKIE","chełmski","SAWIN","SAWIN - Gmina wiejska / Powiat chełmski / Województwo  - LUBELSKIE / 060310 / ",20190888,23114631.796042673,{"$f":"ISNUMBER(SEARCH(Wyszukiwarka!$A$1,'Porównanie dochodów JST'!J363))","v":false},{"$f":"IF(M363,COUNTIF($M$16:M363,TRUE),\"\")","v":""},{"$f":"IFERROR(INDEX($J$16:$J$2822,MATCH(ROWS($J$16:J363),$N$16:$N$2822,0)),\"\")","v":""}]
["06","03","11","3","060311","Gmina miejsko-wiejska","LUBELSKIE","chełmski","SIEDLISZCZE","SIEDLISZCZE - Gmina miejsko-wiejska / Powiat chełmski / Województwo  - LUBELSKIE / 060311 / ",22624377,25250522.790689878,{"$f":"ISNUMBER(SEARCH(Wyszukiwarka!$A$1,'Porównanie dochodów JST'!J364))","v":false},{"$f":"IF(M364,COUNTIF($M$16:M364,TRUE),\"\")","v":""},{"$f":"IFERROR(INDEX($J$16:$J$2822,MATCH(ROWS($J$16:J364),$N$16:$N$2822,0)),\"\")","v":""}]
["06","03","12","2","060312","Gmina wiejska","LUBELSKIE","chełmski","WIERZBICA","WIERZBICA - Gmina wiejska / Powiat chełmski / Województwo  - LUBELSKIE / 060312 / ",17996337,19962301,{"$f":"ISNUMBER(SEARCH(Wyszukiwarka!$A$1,'Porównanie dochodów JST'!J365))","v":false},{"$f":"IF(M365,COUNTIF($M$16:M365,TRUE),\"\")","v":""},{"$f":"IFERROR(INDEX($J$16:$J$2822,MATCH(ROWS($J$16:J365),$N$16:$N$2822,0)),\"\")","v":""}]
["06","03","13","2","060313","Gmina wiejska","LUBELSKIE","chełmski","WOJSŁAWICE","WOJSŁAWICE - Gmina wiejska / Powiat chełmski / Województwo  - LUBELSKIE / 060313 / ",11514429,12845687,{"$f":"ISNUMBER(SEARCH(Wyszukiwarka!$A$1,'Porównanie dochodów JST'!J366))","v":false},{"$f":"IF(M366,COUNTIF($M$16:M366,TRUE),\"\")","v":""},{"$f":"IFERROR(INDEX($J$16:$J$2822,MATCH(ROWS($J$16:J366),$N$16:$N$2822,0)),\"\")","v":""}]
["06","03","14","2","060314","Gmina wiejska","LUBELSKIE","chełmski","ŻMUDŹ","ŻMUDŹ - Gmina wiejska / Powiat chełmski / Województwo  - LUBELSKIE / 060314 / ",10367636,11638911.805,{"$f":"ISNUMBER(SEARCH(Wyszukiwarka!$A$1,'Porównanie dochodów JST'!J367))","v":false},{"$f":"IF(M367,COUNTIF($M$16:M367,TRUE),\"\")","v":""},{"$f":"IFERROR(INDEX($J$16:$J$2822,MATCH(ROWS($J$16:J367),$N$16:$N$2822,0)),\"\")","v":""}]
["06","03","15","3","060315","Gmina miejsko-wiejska","LUBELSKIE","chełmski","REJOWIEC-OSADA","REJOWIEC-OSADA - Gmina miejsko-wiejska / Powiat chełmski / Województwo  - LUBELSKIE / 060315 / ",20260039,22351170,{"$f":"ISNUMBER(SEARCH(Wyszukiwarka!$A$1,'Porównanie dochodów JST'!J368))","v":false},{"$f":"IF(M368,COUNTIF($M$16:M368,TRUE),\"\")","v":""},{"$f":"IFERROR(INDEX($J$16:$J$2822,MATCH(ROWS($J$16:J368),$N$16:$N$2822,0)),\"\")","v":""}]
["06","04","01","1","060401","Gmina miejska","LUBELSKIE","hrubieszowski","HRUBIESZÓW","HRUBIESZÓW - Gmina miejska / Powiat hrubieszowski / Województwo  - LUBELSKIE / 060401 / ",54900179,59838234,{"$f":"ISNUMBER(SEARCH(Wyszukiwarka!$A$1,'Porównanie dochodów JST'!J369))","v":false},{"$f":"IF(M369,COUNTIF($M$16:M369,TRUE),\"\")","v":""},{"$f":"IFERROR(INDEX($J$16:$J$2822,MATCH(ROWS($J$16:J369),$N$16:$N$2822,0)),\"\")","v":""}]
["06","04","02","2","060402","Gmina wiejska","LUBELSKIE","hrubieszowski","DOŁHOBYCZÓW","DOŁHOBYCZÓW - Gmina wiejska / Powiat hrubieszowski / Województwo  - LUBELSKIE / 060402 / ",14678010,16637829.598664926,{"$f":"ISNUMBER(SEARCH(Wyszukiwarka!$A$1,'Porównanie dochodów JST'!J370))","v":false},{"$f":"IF(M370,COUNTIF($M$16:M370,TRUE),\"\")","v":""},{"$f":"IFERROR(INDEX($J$16:$J$2822,MATCH(ROWS($J$16:J370),$N$16:$N$2822,0)),\"\")","v":""}]
["06","04","03","2","060403","Gmina wiejska","LUBELSKIE","hrubieszowski","HORODŁO","HORODŁO - Gmina wiejska / Powiat hrubieszowski / Województwo  - LUBELSKIE / 060403 / ",16632597,18591480.948767416,{"$f":"ISNUMBER(SEARCH(Wyszukiwarka!$A$1,'Porównanie dochodów JST'!J371))","v":false},{"$f":"IF(M371,COUNTIF($M$16:M371,TRUE),\"\")","v":""},{"$f":"IFERROR(INDEX($J$16:$J$2822,MATCH(ROWS($J$16:J371),$N$16:$N$2822,0)),\"\")","v":""}]
["06","04","04","2","060404","Gmina wiejska","LUBELSKIE","hrubieszowski","HRUBIESZÓW","HRUBIESZÓW - Gmina wiejska / Powiat hrubieszowski / Województwo  - LUBELSKIE / 060404 / ",32849518,36240860,{"$f":"ISNUMBER(SEARCH(Wyszukiwarka!$A$1,'Porównanie dochodów JST'!J372))","v":false},{"$f":"IF(M372,COUNTIF($M$16:M372,TRUE),\"\")","v":""},{"$f":"IFERROR(INDEX($J$16:$J$2822,MATCH(ROWS($J$16:J372),$N$16:$N$2822,0)),\"\")","v":""}]
["06","04","05","2","060405","Gmina wiejska","LUBELSKIE","hrubieszowski","MIRCZE","MIRCZE - Gmina wiejska / Powiat hrubieszowski / Województwo  - LUBELSKIE / 060405 / ",19329999,21933989,{"$f":"ISNUMBER(SEARCH(Wyszukiwarka!$A$1,'Porównanie dochodów JST'!J373))","v":false},{"$f":"IF(M373,COUNTIF($M$16:M373,TRUE),\"\")","v":""},{"$f":"IFERROR(INDEX($J$16:$J$2822,MATCH(ROWS($J$16:J373),$N$16:$N$2822,0)),\"\")","v":""}]
["06","04","06","2","060406","Gmina wiejska","LUBELSKIE","hrubieszowski","TRZESZCZANY","TRZESZCZANY - Gmina wiejska / Powiat hrubieszowski / Województwo  - LUBELSKIE / 060406 / ",13529990,14883089,{"$f":"ISNUMBER(SEARCH(Wyszukiwarka!$A$1,'Porównanie dochodów JST'!J374))","v":false},{"$f":"IF(M374,COUNTIF($M$16:M374,TRUE),\"\")","v":""},{"$f":"IFERROR(INDEX($J$16:$J$2822,MATCH(ROWS($J$16:J374),$N$16:$N$2822,0)),\"\")","v":""}]
["06","04","07","2","060407","Gmina wiejska","LUBELSKIE","hrubieszowski","UCHANIE","UCHANIE - Gmina wiejska / Powiat hrubieszowski / Województwo  - LUBELSKIE / 060407 / ",13805724,15615625.300000001,{"$f":"ISNUMBER(SEARCH(Wyszukiwarka!$A$1,'Porównanie dochodów JST'!J375))","v":false},{"$f":"IF(M375,COUNTIF($M$16:M375,TRUE),\"\")","v":""},{"$f":"IFERROR(INDEX($J$16:$J$2822,MATCH(ROWS($J$16:J375),$N$16:$N$2822,0)),\"\")","v":""}]
["06","04","08","2","060408","Gmina wiejska","LUBELSKIE","hrubieszowski","WERBKOWICE","WERBKOWICE - Gmina wiejska / Powiat hrubieszowski / Województwo  - LUBELSKIE / 060408 / ",25158270,28474125.875785474,{"$f":"ISNUMBER(SEARCH(Wyszukiwarka!$A$1,'Porównanie dochodów JST'!J376))","v":false},{"$f":"IF(M376,COUNTIF($M$16:M376,TRUE),\"\")","v":""},{"$f":"IFERROR(INDEX($J$16:$J$2822,MATCH(ROWS($J$16:J376),$N$16:$N$2822,0)),\"\")","v":""}]
["06","05","01","2","060501","Gmina wiejska","LUBELSKIE","janowski","BATORZ","BATORZ - Gmina wiejska / Powiat janowski / Województwo  - LUBELSKIE / 060501 / ",12633650,13940412.880000001,{"$f":"ISNUMBER(SEARCH(Wyszukiwarka!$A$1,'Porównanie dochodów JST'!J377))","v":false},{"$f":"IF(M377,COUNTIF($M$16:M377,TRUE),\"\")","v":""},{"$f":"IFERROR(INDEX($J$16:$J$2822,MATCH(ROWS($J$16:J377),$N$16:$N$2822,0)),\"\")","v":""}]
["06","05","02","2","060502","Gmina wiejska","LUBELSKIE","janowski","CHRZANÓW","CHRZANÓW - Gmina wiejska / Powiat janowski / Województwo  - LUBELSKIE / 060502 / ",11722728,12986359,{"$f":"ISNUMBER(SEARCH(Wyszukiwarka!$A$1,'Porównanie dochodów JST'!J378))","v":false},{"$f":"IF(M378,COUNTIF($M$16:M378,TRUE),\"\")","v":""},{"$f":"IFERROR(INDEX($J$16:$J$2822,MATCH(ROWS($J$16:J378),$N$16:$N$2822,0)),\"\")","v":""}]
["06","05","03","2","060503","Gmina wiejska","LUBELSKIE","janowski","DZWOLA","DZWOLA - Gmina wiejska / Powiat janowski / Województwo  - LUBELSKIE / 060503 / ",24111208,27124293.757286876,{"$f":"ISNUMBER(SEARCH(Wyszukiwarka!$A$1,'Porównanie dochodów JST'!J379))","v":false},{"$f":"IF(M379,COUNTIF($M$16:M379,TRUE),\"\")","v":""},{"$f":"IFERROR(INDEX($J$16:$J$2822,MATCH(ROWS($J$16:J379),$N$16:$N$2822,0)),\"\")","v":""}]
["06","05","04","2","060504","Gmina wiejska","LUBELSKIE","janowski","GODZISZÓW","GODZISZÓW - Gmina wiejska / Powiat janowski / Województwo  - LUBELSKIE / 060504 / ",21825719,23864013.635349937,{"$f":"ISNUMBER(SEARCH(Wyszukiwarka!$A$1,'Porównanie dochodów JST'!J380))","v":false},{"$f":"IF(M380,COUNTIF($M$16:M380,TRUE),\"\")","v":""},{"$f":"IFERROR(INDEX($J$16:$J$2822,MATCH(ROWS($J$16:J380),$N$16:$N$2822,0)),\"\")","v":""}]
["06","05","05","3","060505","Gmina miejsko-wiejska","LUBELSKIE","janowski","JANÓW LUBELSKI","JANÓW LUBELSKI - Gmina miejsko-wiejska / Powiat janowski / Województwo  - LUBELSKIE / 060505 / ",48185899,52599158,{"$f":"ISNUMBER(SEARCH(Wyszukiwarka!$A$1,'Porównanie dochodów JST'!J381))","v":false},{"$f":"IF(M381,COUNTIF($M$16:M381,TRUE),\"\")","v":""},{"$f":"IFERROR(INDEX($J$16:$J$2822,MATCH(ROWS($J$16:J381),$N$16:$N$2822,0)),\"\")","v":""}]
["06","05","06","3","060506","Gmina miejsko-wiejska","LUBELSKIE","janowski","MODLIBORZYCE","MODLIBORZYCE - Gmina miejsko-wiejska / Powiat janowski / Województwo  - LUBELSKIE / 060506 / ",25138743,27798630,{"$f":"ISNUMBER(SEARCH(Wyszukiwarka!$A$1,'Porównanie dochodów JST'!J382))","v":false},{"$f":"IF(M382,COUNTIF($M$16:M382,TRUE),\"\")","v":""},{"$f":"IFERROR(INDEX($J$16:$J$2822,MATCH(ROWS($J$16:J382),$N$16:$N$2822,0)),\"\")","v":""}]
["06","05","07","2","060507","Gmina wiejska","LUBELSKIE","janowski","POTOK WIELKI","POTOK WIELKI - Gmina wiejska / Powiat janowski / Województwo  - LUBELSKIE / 060507 / ",19460697,21394415,{"$f":"ISNUMBER(SEARCH(Wyszukiwarka!$A$1,'Porównanie dochodów JST'!J383))","v":false},{"$f":"IF(M383,COUNTIF($M$16:M383,TRUE),\"\")","v":""},{"$f":"IFERROR(INDEX($J$16:$J$2822,MATCH(ROWS($J$16:J383),$N$16:$N$2822,0)),\"\")","v":""}]
["06","06","01","1","060601","Gmina miejska","LUBELSKIE","krasnostawski","KRASNYSTAW","KRASNYSTAW - Gmina miejska / Powiat krasnostawski / Województwo  - LUBELSKIE / 060601 / ",55105822,60196524,{"$f":"ISNUMBER(SEARCH(Wyszukiwarka!$A$1,'Porównanie dochodów JST'!J384))","v":false},{"$f":"IF(M384,COUNTIF($M$16:M384,TRUE),\"\")","v":""},{"$f":"IFERROR(INDEX($J$16:$J$2822,MATCH(ROWS($J$16:J384),$N$16:$N$2822,0)),\"\")","v":""}]
["06","06","02","2","060602","Gmina wiejska","LUBELSKIE","krasnostawski","FAJSŁAWICE","FAJSŁAWICE - Gmina wiejska / Powiat krasnostawski / Województwo  - LUBELSKIE / 060602 / ",16732325,18654655.658966888,{"$f":"ISNUMBER(SEARCH(Wyszukiwarka!$A$1,'Porównanie dochodów JST'!J385))","v":false},{"$f":"IF(M385,COUNTIF($M$16:M385,TRUE),\"\")","v":""},{"$f":"IFERROR(INDEX($J$16:$J$2822,MATCH(ROWS($J$16:J385),$N$16:$N$2822,0)),\"\")","v":""}]
["06","06","03","2","060603","Gmina wiejska","LUBELSKIE","krasnostawski","GORZKÓW","GORZKÓW - Gmina wiejska / Powiat krasnostawski / Województwo  - LUBELSKIE / 060603 / ",11250572,12567964,{"$f":"ISNUMBER(SEARCH(Wyszukiwarka!$A$1,'Porównanie dochodów JST'!J386))","v":false},{"$f":"IF(M386,COUNTIF($M$16:M386,TRUE),\"\")","v":""},{"$f":"IFERROR(INDEX($J$16:$J$2822,MATCH(ROWS($J$16:J386),$N$16:$N$2822,0)),\"\")","v":""}]
["06","06","04","2","060604","Gmina wiejska","LUBELSKIE","krasnostawski","IZBICA","IZBICA - Gmina wiejska / Powiat krasnostawski / Województwo  - LUBELSKIE / 060604 / ",29087303,33420520,{"$f":"ISNUMBER(SEARCH(Wyszukiwarka!$A$1,'Porównanie dochodów JST'!J387))","v":false},{"$f":"IF(M387,COUNTIF($M$16:M387,TRUE),\"\")","v":""},{"$f":"IFERROR(INDEX($J$16:$J$2822,MATCH(ROWS($J$16:J387),$N$16:$N$2822,0)),\"\")","v":""}]
["06","06","05","2","060605","Gmina wiejska","LUBELSKIE","krasnostawski","KRASNYSTAW","KRASNYSTAW - Gmina wiejska / Powiat krasnostawski / Województwo  - LUBELSKIE / 060605 / ",26063877,29358954,{"$f":"ISNUMBER(SEARCH(Wyszukiwarka!$A$1,'Porównanie dochodów JST'!J388))","v":false},{"$f":"IF(M388,COUNTIF($M$16:M388,TRUE),\"\")","v":""},{"$f":"IFERROR(INDEX($J$16:$J$2822,MATCH(ROWS($J$16:J388),$N$16:$N$2822,0)),\"\")","v":""}]
["06","06","06","2","060606","Gmina wiejska","LUBELSKIE","krasnostawski","KRAŚNICZYN","KRAŚNICZYN - Gmina wiejska / Powiat krasnostawski / Województwo  - LUBELSKIE / 060606 / ",10728713,12063871,{"$f":"ISNUMBER(SEARCH(Wyszukiwarka!$A$1,'Porównanie dochodów JST'!J389))","v":false},{"$f":"IF(M389,COUNTIF($M$16:M389,TRUE),\"\")","v":""},{"$f":"IFERROR(INDEX($J$16:$J$2822,MATCH(ROWS($J$16:J389),$N$16:$N$2822,0)),\"\")","v":""}]
["06","06","07","2","060607","Gmina wiejska","LUBELSKIE","krasnostawski","ŁOPIENNIK GÓRNY","ŁOPIENNIK GÓRNY - Gmina wiejska / Powiat krasnostawski / Województwo  - LUBELSKIE / 060607 / ",12231768,13582521,{"$f":"ISNUMBER(SEARCH(Wyszukiwarka!$A$1,'Porównanie dochodów JST'!J390))","v":false},{"$f":"IF(M390,COUNTIF($M$16:M390,TRUE),\"\")","v":""},{"$f":"IFERROR(INDEX($J$16:$J$2822,MATCH(ROWS($J$16:J390),$N$16:$N$2822,0)),\"\")","v":""}]
["06","06","09","2","060609","Gmina wiejska","LUBELSKIE","krasnostawski","RUDNIK","RUDNIK - Gmina wiejska / Powiat krasnostawski / Województwo  - LUBELSKIE / 060609 / ",9918780,11187241,{"$f":"ISNUMBER(SEARCH(Wyszukiwarka!$A$1,'Porównanie dochodów JST'!J391))","v":false},{"$f":"IF(M391,COUNTIF($M$16:M391,TRUE),\"\")","v":""},{"$f":"IFERROR(INDEX($J$16:$J$2822,MATCH(ROWS($J$16:J391),$N$16:$N$2822,0)),\"\")","v":""}]
["06","06","10","2","060610","Gmina wiejska","LUBELSKIE","krasnostawski","SIENNICA RÓŻANA","SIENNICA RÓŻANA - Gmina wiejska / Powiat krasnostawski / Województwo  - LUBELSKIE / 060610 / ",13081714,14452266.959576767,{"$f":"ISNUMBER(SEARCH(Wyszukiwarka!$A$1,'Porównanie dochodów JST'!J392))","v":false},{"$f":"IF(M392,COUNTIF($M$16:M392,TRUE),\"\")","v":""},{"$f":"IFERROR(INDEX($J$16:$J$2822,MATCH(ROWS($J$16:J392),$N$16:$N$2822,0)),\"\")","v":""}]
["06","06","11","2","060611","Gmina wiejska","LUBELSKIE","krasnostawski","ŻÓŁKIEWKA","ŻÓŁKIEWKA - Gmina wiejska / Powiat krasnostawski / Województwo  - LUBELSKIE / 060611 / ",16315475,18282528.554544445,{"$f":"ISNUMBER(SEARCH(Wyszukiwarka!$A$1,'Porównanie dochodów JST'!J393))","v":false},{"$f":"IF(M393,COUNTIF($M$16:M393,TRUE),\"\")","v":""},{"$f":"IFERROR(INDEX($J$16:$J$2822,MATCH(ROWS($J$16:J393),$N$16:$N$2822,0)),\"\")","v":""}]
["06","07","01","1","060701","Gmina miejska","LUBELSKIE","kraśnicki","KRAŚNIK","KRAŚNIK - Gmina miejska / Powiat kraśnicki / Województwo  - LUBELSKIE / 060701 / ",100721275,107711665.51158261,{"$f":"ISNUMBER(SEARCH(Wyszukiwarka!$A$1,'Porównanie dochodów JST'!J394))","v":false},{"$f":"IF(M394,COUNTIF($M$16:M394,TRUE),\"\")","v":""},{"$f":"IFERROR(INDEX($J$16:$J$2822,MATCH(ROWS($J$16:J394),$N$16:$N$2822,0)),\"\")","v":""}]
["06","07","02","3","060702","Gmina miejsko-wiejska","LUBELSKIE","kraśnicki","ANNOPOL","ANNOPOL - Gmina miejsko-wiejska / Powiat kraśnicki / Województwo  - LUBELSKIE / 060702 / ",31702230,36081957.132576145,{"$f":"ISNUMBER(SEARCH(Wyszukiwarka!$A$1,'Porównanie dochodów JST'!J395))","v":false},{"$f":"IF(M395,COUNTIF($M$16:M395,TRUE),\"\")","v":""},{"$f":"IFERROR(INDEX($J$16:$J$2822,MATCH(ROWS($J$16:J395),$N$16:$N$2822,0)),\"\")","v":""}]
["06","07","03","2","060703","Gmina wiejska","LUBELSKIE","kraśnicki","DZIERZKOWICE","DZIERZKOWICE - Gmina wiejska / Powiat kraśnicki / Województwo  - LUBELSKIE / 060703 / ",20558381,22556178.830528524,{"$f":"ISNUMBER(SEARCH(Wyszukiwarka!$A$1,'Porównanie dochodów JST'!J396))","v":false},{"$f":"IF(M396,COUNTIF($M$16:M396,TRUE),\"\")","v":""},{"$f":"IFERROR(INDEX($J$16:$J$2822,MATCH(ROWS($J$16:J396),$N$16:$N$2822,0)),\"\")","v":""}]
["06","07","04","2","060704","Gmina wiejska","LUBELSKIE","kraśnicki","GOŚCIERADÓW","GOŚCIERADÓW - Gmina wiejska / Powiat kraśnicki / Województwo  - LUBELSKIE / 060704 / ",27005519,31010490.559999999,{"$f":"ISNUMBER(SEARCH(Wyszukiwarka!$A$1,'Porównanie dochodów JST'!J397))","v":false},{"$f":"IF(M397,COUNTIF($M$16:M397,TRUE),\"\")","v":""},{"$f":"IFERROR(INDEX($J$16:$J$2822,MATCH(ROWS($J$16:J397),$N$16:$N$2822,0)),\"\")","v":""}]
["06","07","05","2","060705","Gmina wiejska","LUBELSKIE","kraśnicki","KRAŚNIK","KRAŚNIK - Gmina wiejska / Powiat kraśnicki / Województwo  - LUBELSKIE / 060705 / ",23272285,25942532,{"$f":"ISNUMBER(SEARCH(Wyszukiwarka!$A$1,'Porównanie dochodów JST'!J398))","v":false},{"$f":"IF(M398,COUNTIF($M$16:M398,TRUE),\"\")","v":""},{"$f":"IFERROR(INDEX($J$16:$J$2822,MATCH(ROWS($J$16:J398),$N$16:$N$2822,0)),\"\")","v":""}]
["06","07","06","2","060706","Gmina wiejska","LUBELSKIE","kraśnicki","SZASTARKA","SZASTARKA - Gmina wiejska / Powiat kraśnicki / Województwo  - LUBELSKIE / 060706 / ",24307707,26324267,{"$f":"ISNUMBER(SEARCH(Wyszukiwarka!$A$1,'Porównanie dochodów JST'!J399))","v":false},{"$f":"IF(M399,COUNTIF($M$16:M399,TRUE),\"\")","v":""},{"$f":"IFERROR(INDEX($J$16:$J$2822,MATCH(ROWS($J$16:J399),$N$16:$N$2822,0)),\"\")","v":""}]
["06","07","07","2","060707","Gmina wiejska","LUBELSKIE","kraśnicki","TRZYDNIK DUŻY","TRZYDNIK DUŻY - Gmina wiejska / Powiat kraśnicki / Województwo  - LUBELSKIE / 060707 / ",21874310,23945344,{"$f":"ISNUMBER(SEARCH(Wyszukiwarka!$A$1,'Porównanie dochodów JST'!J400))","v":false},{"$f":"IF(M400,COUNTIF($M$16:M400,TRUE),\"\")","v":""},{"$f":"IFERROR(INDEX($J$16:$J$2822,MATCH(ROWS($J$16:J400),$N$16:$N$2822,0)),\"\")","v":""}]
["06","07","08","3","060708","Gmina miejsko-wiejska","LUBELSKIE","kraśnicki","URZĘDÓW",{"$f":"I401&$H$12&F401&$G$12&$H$14&H401&$G$12&$G$14&$H$12&G401&$G$12&E401&$G$12","v":"URZĘDÓW - Gmina miejsko-wiejska / Powiat kraśnicki / Województwo  - LUBELSKIE / 060708 / "},28153609,31424681.697748933,{"$f":"ISNUMBER(SEARCH(Wyszukiwarka!$A$1,'Porównanie dochodów JST'!J401))","v":false},{"$f":"IF(M401,COUNTIF($M$16:M401,TRUE),\"\")","v":""},{"$f":"IFERROR(INDEX($J$16:$J$2822,MATCH(ROWS($J$16:J401),$N$16:$N$2822,0)),\"\")","v":""}]
["06","07","09","2","060709","Gmina wiejska","LUBELSKIE","kraśnicki","WILKOŁAZ","WILKOŁAZ - Gmina wiejska / Powiat kraśnicki / Województwo  - LUBELSKIE / 060709 / ",22695656,24702960.677382603,{"$f":"ISNUMBER(SEARCH(Wyszukiwarka!$A$1,'Porównanie dochodów JST'!J402))","v":false},{"$f":"IF(M402,COUNTIF($M$16:M402,TRUE),\"\")","v":""},{"$f":"IFERROR(INDEX($J$16:$J$2822,MATCH(ROWS($J$16:J402),$N$16:$N$2822,0)),\"\")","v":""}]
["06","07","10","2","060710","Gmina wiejska","LUBELSKIE","kraśnicki","ZAKRZÓWEK","ZAKRZÓWEK - Gmina wiejska / Powiat kraśnicki / Województwo  - LUBELSKIE / 060710 / ",22743186,25323108,{"$f":"ISNUMBER(SEARCH(Wyszukiwarka!$A$1,'Porównanie dochodów JST'!J403))","v":false},{"$f":"IF(M403,COUNTIF($M$16:M403,TRUE),\"\")","v":""},{"$f":"IFERROR(INDEX($J$16:$J$2822,MATCH(ROWS($J$16:J403),$N$16:$N$2822,0)),\"\")","v":""}]
["06","08","01","1","060801","Gmina miejska","LUBELSKIE","lubartowski","LUBARTÓW","LUBARTÓW - Gmina miejska / Powiat lubartowski / Województwo  - LUBELSKIE / 060801 / ",76842743,83172222.914163113,{"$f":"ISNUMBER(SEARCH(Wyszukiwarka!$A$1,'Porównanie dochodów JST'!J404))","v":false},{"$f":"IF(M404,COUNTIF($M$16:M404,TRUE),\"\")","v":""},{"$f":"IFERROR(INDEX($J$16:$J$2822,MATCH(ROWS($J$16:J404),$N$16:$N$2822,0)),\"\")","v":""}]
["06","08","02","2","060802","Gmina wiejska","LUBELSKIE","lubartowski","ABRAMÓW","ABRAMÓW - Gmina wiejska / Powiat lubartowski / Województwo  - LUBELSKIE / 060802 / ",15527900,16908277,{"$f":"ISNUMBER(SEARCH(Wyszukiwarka!$A$1,'Porównanie dochodów JST'!J405))","v":false},{"$f":"IF(M405,COUNTIF($M$16:M405,TRUE),\"\")","v":""},{"$f":"IFERROR(INDEX($J$16:$J$2822,MATCH(ROWS($J$16:J405),$N$16:$N$2822,0)),\"\")","v":""}]
["06","08","03","2","060803","Gmina wiejska","LUBELSKIE","lubartowski","FIRLEJ","FIRLEJ - Gmina wiejska / Powiat lubartowski / Województwo  - LUBELSKIE / 060803 / ",22820062,24893850,{"$f":"ISNUMBER(SEARCH(Wyszukiwarka!$A$1,'Porównanie dochodów JST'!J406))","v":false},{"$f":"IF(M406,COUNTIF($M$16:M406,TRUE),\"\")","v":""},{"$f":"IFERROR(INDEX($J$16:$J$2822,MATCH(ROWS($J$16:J406),$N$16:$N$2822,0)),\"\")","v":""}]
["06","08","04","2","060804","Gmina wiejska","LUBELSKIE","lubartowski","JEZIORZANY","JEZIORZANY - Gmina wiejska / Powiat lubartowski / Województwo  - LUBELSKIE / 060804 / ",9092605,10275189.739999998,{"$f":"ISNUMBER(SEARCH(Wyszukiwarka!$A$1,'Porównanie dochodów JST'!J407))","v":false},{"$f":"IF(M407,COUNTIF($M$16:M407,TRUE),\"\")","v":""},{"$f":"IFERROR(INDEX($J$16:$J$2822,MATCH(ROWS($J$16:J407),$N$16:$N$2822,0)),\"\")","v":""}]
["06","08","05","2","060805","Gmina wiejska","LUBELSKIE","lubartowski","KAMIONKA","KAMIONKA - Gmina wiejska / Powiat lubartowski / Województwo  - LUBELSKIE / 060805 / ",24456075,27086131.998814251,{"$f":"ISNUMBER(SEARCH(Wyszukiwarka!$A$1,'Porównanie dochodów JST'!J408))","v":false},{"$f":"IF(M408,COUNTIF($M$16:M408,TRUE),\"\")","v":""},{"$f":"IFERROR(INDEX($J$16:$J$2822,MATCH(ROWS($J$16:J408),$N$16:$N$2822,0)),\"\")","v":""}]
["06","08","06","3","060806","Gmina miejsko-wiejska","LUBELSKIE","lubartowski","KOCK","KOCK - Gmina miejsko-wiejska / Powiat lubartowski / Województwo  - LUBELSKIE / 060806 / ",24350137,27918446.079999998,{"$f":"ISNUMBER(SEARCH(Wyszukiwarka!$A$1,'Porównanie dochodów JST'!J409))","v":false},{"$f":"IF(M409,COUNTIF($M$16:M409,TRUE),\"\")","v":""},{"$f":"IFERROR(INDEX($J$16:$J$2822,MATCH(ROWS($J$16:J409),$N$16:$N$2822,0)),\"\")","v":""}]
["06","08","07","2","060807","Gmina wiejska","LUBELSKIE","lubartowski","LUBARTÓW","LUBARTÓW - Gmina wiejska / Powiat lubartowski / Województwo  - LUBELSKIE / 060807 / ",41763436,45929864,{"$f":"ISNUMBER(SEARCH(Wyszukiwarka!$A$1,'Porównanie dochodów JST'!J410))","v":false},{"$f":"IF(M410,COUNTIF($M$16:M410,TRUE),\"\")","v":""},{"$f":"IFERROR(INDEX($J$16:$J$2822,MATCH(ROWS($J$16:J410),$N$16:$N$2822,0)),\"\")","v":""}]
["06","08","08","2","060808","Gmina wiejska","LUBELSKIE","lubartowski","MICHÓW","MICHÓW - Gmina wiejska / Powiat lubartowski / Województwo  - LUBELSKIE / 060808 / ",20698806,22744208,{"$f":"ISNUMBER(SEARCH(Wyszukiwarka!$A$1,'Porównanie dochodów JST'!J411))","v":false},{"$f":"IF(M411,COUNTIF($M$16:M411,TRUE),\"\")","v":""},{"$f":"IFERROR(INDEX($J$16:$J$2822,MATCH(ROWS($J$16:J411),$N$16:$N$2822,0)),\"\")","v":""}]
["06","08","09","2","060809","Gmina wiejska","LUBELSKIE","lubartowski","NIEDŹWIADA","NIEDŹWIADA - Gmina wiejska / Powiat lubartowski / Województwo  - LUBELSKIE / 060809 / ",27635705,30261358,{"$f":"ISNUMBER(SEARCH(Wyszukiwarka!$A$1,'Porównanie dochodów JST'!J412))","v":false},{"$f":"IF(M412,COUNTIF($M$16:M412,TRUE),\"\")","v":""},{"$f":"IFERROR(INDEX($J$16:$J$2822,MATCH(ROWS($J$16:J412),$N$16:$N$2822,0)),\"\")","v":""}]
["06","08","10","3","060810","Gmina miejsko-wiejska","LUBELSKIE","lubartowski","OSTRÓW LUBELSKI","OSTRÓW LUBELSKI - Gmina miejsko-wiejska / Powiat lubartowski / Województwo  - LUBELSKIE / 060810 / ",21647172,23634157.603819367,{"$f":"ISNUMBER(SEARCH(Wyszukiwarka!$A$1,'Porównanie dochodów JST'!J413))","v":false},{"$f":"IF(M413,COUNTIF($M$16:M413,TRUE),\"\")","v":""},{"$f":"IFERROR(INDEX($J$16:$J$2822,MATCH(ROWS($J$16:J413),$N$16:$N$2822,0)),\"\")","v":""}]
["06","08","11","2","060811","Gmina wiejska","LUBELSKIE","lubartowski","OSTRÓWEK","OSTRÓWEK - Gmina wiejska / Powiat lubartowski / Województwo  - LUBELSKIE / 060811 / ",16783729,18293663.835850254,{"$f":"ISNUMBER(SEARCH(Wyszukiwarka!$A$1,'Porównanie dochodów JST'!J414))","v":false},{"$f":"IF(M414,COUNTIF($M$16:M414,TRUE),\"\")","v":""},{"$f":"IFERROR(INDEX($J$16:$J$2822,MATCH(ROWS($J$16:J414),$N$16:$N$2822,0)),\"\")","v":""}]
["06","08","12","2","060812","Gmina wiejska","LUBELSKIE","lubartowski","SERNIKI","SERNIKI - Gmina wiejska / Powiat lubartowski / Województwo  - LUBELSKIE / 060812 / ",20948369,22929469.501894984,{"$f":"ISNUMBER(SEARCH(Wyszukiwarka!$A$1,'Porównanie dochodów JST'!J415))","v":false},{"$f":"IF(M415,COUNTIF($M$16:M415,TRUE),\"\")","v":""},{"$f":"IFERROR(INDEX($J$16:$J$2822,MATCH(ROWS($J$16:J415),$N$16:$N$2822,0)),\"\")","v":""}]
["06","08","13","2","060813","Gmina wiejska","LUBELSKIE","lubartowski","UŚCIMÓW","UŚCIMÓW - Gmina wiejska / Powiat lubartowski / Województwo  - LUBELSKIE / 060813 / ",10915751,12211754.869999999,{"$f":"ISNUMBER(SEARCH(Wyszukiwarka!$A$1,'Porównanie dochodów JST'!J416))","v":false},{"$f":"IF(M416,COUNTIF($M$16:M416,TRUE),\"\")","v":""},{"$f":"IFERROR(INDEX($J$16:$J$2822,MATCH(ROWS($J$16:J416),$N$16:$N$2822,0)),\"\")","v":""}]
["06","09","01","3","060901","Gmina miejsko-wiejska","LUBELSKIE","lubelski","BEŁŻYCE","BEŁŻYCE - Gmina miejsko-wiejska / Powiat lubelski / Województwo  - LUBELSKIE / 060901 / ",43735240,47911997,{"$f":"ISNUMBER(SEARCH(Wyszukiwarka!$A$1,'Porównanie dochodów JST'!J417))","v":false},{"$f":"IF(M417,COUNTIF($M$16:M417,TRUE),\"\")","v":""},{"$f":"IFERROR(INDEX($J$16:$J$2822,MATCH(ROWS($J$16:J417),$N$16:$N$2822,0)),\"\")","v":""}]
["06","09","02","2","060902","Gmina wiejska","LUBELSKIE","lubelski","BORZECHÓW","BORZECHÓW - Gmina wiejska / Powiat lubelski / Województwo  - LUBELSKIE / 060902 / ",14878704,16246302,{"$f":"ISNUMBER(SEARCH(Wyszukiwarka!$A$1,'Porównanie dochodów JST'!J418))","v":false},{"$f":"IF(M418,COUNTIF($M$16:M418,TRUE),\"\")","v":""},{"$f":"IFERROR(INDEX($J$16:$J$2822,MATCH(ROWS($J$16:J418),$N$16:$N$2822,0)),\"\")","v":""}]
["06","09","03","3","060903","Gmina miejsko-wiejska","LUBELSKIE","lubelski","BYCHAWA","BYCHAWA - Gmina miejsko-wiejska / Powiat lubelski / Województwo  - LUBELSKIE / 060903 / ",43797874,47826424,{"$f":"ISNUMBER(SEARCH(Wyszukiwarka!$A$1,'Porównanie dochodów JST'!J419))","v":false},{"$f":"IF(M419,COUNTIF($M$16:M419,TRUE),\"\")","v":""},{"$f":"IFERROR(INDEX($J$16:$J$2822,MATCH(ROWS($J$16:J419),$N$16:$N$2822,0)),\"\")","v":""}]
["06","09","04","2","060904","Gmina wiejska","LUBELSKIE","lubelski","GARBÓW","GARBÓW - Gmina wiejska / Powiat lubelski / Województwo  - LUBELSKIE / 060904 / ",36448551,39791553.886130549,{"$f":"ISNUMBER(SEARCH(Wyszukiwarka!$A$1,'Porównanie dochodów JST'!J420))","v":false},{"$f":"IF(M420,COUNTIF($M$16:M420,TRUE),\"\")","v":""},{"$f":"IFERROR(INDEX($J$16:$J$2822,MATCH(ROWS($J$16:J420),$N$16:$N$2822,0)),\"\")","v":""}]
["06","09","05","2","060905","Gmina wiejska","LUBELSKIE","lubelski","GŁUSK","GŁUSK - Gmina wiejska / Powiat lubelski / Województwo  - LUBELSKIE / 060905 / ",58221021,62643374.590714067,{"$f":"ISNUMBER(SEARCH(Wyszukiwarka!$A$1,'Porównanie dochodów JST'!J421))","v":false},{"$f":"IF(M421,COUNTIF($M$16:M421,TRUE),\"\")","v":""},{"$f":"IFERROR(INDEX($J$16:$J$2822,MATCH(ROWS($J$16:J421),$N$16:$N$2822,0)),\"\")","v":""}]
["06","09","06","2","060906","Gmina wiejska","LUBELSKIE","lubelski","JABŁONNA","JABŁONNA - Gmina wiejska / Powiat lubelski / Województwo  - LUBELSKIE / 060906 / ",31636787,34932980.929000869,{"$f":"ISNUMBER(SEARCH(Wyszukiwarka!$A$1,'Porównanie dochodów JST'!J422))","v":false},{"$f":"IF(M422,COUNTIF($M$16:M422,TRUE),\"\")","v":""},{"$f":"IFERROR(INDEX($J$16:$J$2822,MATCH(ROWS($J$16:J422),$N$16:$N$2822,0)),\"\")","v":""}]
["06","09","07","2","060907","Gmina wiejska","LUBELSKIE","lubelski","JASTKÓW","JASTKÓW - Gmina wiejska / Powiat lubelski / Województwo  - LUBELSKIE / 060907 / ",56167282,61193396.744679973,{"$f":"ISNUMBER(SEARCH(Wyszukiwarka!$A$1,'Porównanie dochodów JST'!J423))","v":false},{"$f":"IF(M423,COUNTIF($M$16:M423,TRUE),\"\")","v":""},{"$f":"IFERROR(INDEX($J$16:$J$2822,MATCH(ROWS($J$16:J423),$N$16:$N$2822,0)),\"\")","v":""}]
["06","09","08","2","060908","Gmina wiejska","LUBELSKIE","lubelski","KONOPNICA","KONOPNICA - Gmina wiejska / Powiat lubelski / Województwo  - LUBELSKIE / 060908 / ",59937058,65322914.999999993,{"$f":"ISNUMBER(SEARCH(Wyszukiwarka!$A$1,'Porównanie dochodów JST'!J424))","v":false},{"$f":"IF(M424,COUNTIF($M$16:M424,TRUE),\"\")","v":""},{"$f":"IFERROR(INDEX($J$16:$J$2822,MATCH(ROWS($J$16:J424),$N$16:$N$2822,0)),\"\")","v":""}]
["06","09","09","2","060909","Gmina wiejska","LUBELSKIE","lubelski","KRZCZONÓW","KRZCZONÓW - Gmina wiejska / Powiat lubelski / Województwo  - LUBELSKIE / 060909 / ",15217959,17120814.638071619,{"$f":"ISNUMBER(SEARCH(Wyszukiwarka!$A$1,'Porównanie dochodów JST'!J425))","v":false},{"$f":"IF(M425,COUNTIF($M$16:M425,TRUE),\"\")","v":""},{"$f":"IFERROR(INDEX($J$16:$J$2822,MATCH(ROWS($J$16:J425),$N$16:$N$2822,0)),\"\")","v":""}]
["06","09","10","2","060910","Gmina wiejska","LUBELSKIE","lubelski","NIEDRZWICA DUŻA","NIEDRZWICA DUŻA - Gmina wiejska / Powiat lubelski / Województwo  - LUBELSKIE / 060910 / ",48366576,52457537.579975307,{"$f":"ISNUMBER(SEARCH(Wyszukiwarka!$A$1,'Porównanie dochodów JST'!J426))","v":false},{"$f":"IF(M426,COUNTIF($M$16:M426,TRUE),\"\")","v":""},{"$f":"IFERROR(INDEX($J$16:$J$2822,MATCH(ROWS($J$16:J426),$N$16:$N$2822,0)),\"\")","v":""}]
["06","09","11","2","060911","Gmina wiejska","LUBELSKIE","lubelski","NIEMCE","NIEMCE - Gmina wiejska / Powiat lubelski / Województwo  - LUBELSKIE / 060911 / ",72511464,78137275,{"$f":"ISNUMBER(SEARCH(Wyszukiwarka!$A$1,'Porównanie dochodów JST'!J427))","v":false},{"$f":"IF(M427,COUNTIF($M$16:M427,TRUE),\"\")","v":""},{"$f":"IFERROR(INDEX($J$16:$J$2822,MATCH(ROWS($J$16:J427),$N$16:$N$2822,0)),\"\")","v":""}]
["06","09","12","2","060912","Gmina wiejska","LUBELSKIE","lubelski","STRZYŻEWICE","STRZYŻEWICE - Gmina wiejska / Powiat lubelski / Województwo  - LUBELSKIE / 060912 / ",30040601,33309359,{"$f":"ISNUMBER(SEARCH(Wyszukiwarka!$A$1,'Porównanie dochodów JST'!J428))","v":false},{"$f":"IF(M428,COUNTIF($M$16:M428,TRUE),\"\")","v":""},{"$f":"IFERROR(INDEX($J$16:$J$2822,MATCH(ROWS($J$16:J428),$N$16:$N$2822,0)),\"\")","v":""}]
["06","09","13","2","060913","Gmina wiejska","LUBELSKIE","lubelski","WOJCIECHÓW","WOJCIECHÓW - Gmina wiejska / Powiat lubelski / Województwo  - LUBELSKIE / 060913 / ",25233881,27793418,{"$f":"ISNUMBER(SEARCH(Wyszukiwarka!$A$1,'Porównanie dochodów JST'!J429))","v":false},{"$f":"IF(M429,COUNTIF($M$16:M429,TRUE),\"\")","v":""},{"$f":"IFERROR(INDEX($J$16:$J$2822,MATCH(ROWS($J$16:J429),$N$16:$N$2822,0)),\"\")","v":""}]
["06","09","14","2","060914","Gmina wiejska","LUBELSKIE","lubelski","WÓLKA","WÓLKA - Gmina wiejska / Powiat lubelski / Województwo  - LUBELSKIE / 060914 / ",49780453,54144596,{"$f":"ISNUMBER(SEARCH(Wyszukiwarka!$A$1,'Porównanie dochodów JST'!J430))","v":false},{"$f":"IF(M430,COUNTIF($M$16:M430,TRUE),\"\")","v":""},{"$f":"IFERROR(INDEX($J$16:$J$2822,MATCH(ROWS($J$16:J430),$N$16:$N$2822,0)),\"\")","v":""}]
["06","09","15","2","060915","Gmina wiejska","LUBELSKIE","lubelski","WYSOKIE","WYSOKIE - Gmina wiejska / Powiat lubelski / Województwo  - LUBELSKIE / 060915 / ",14742545,16635873.855049737,{"$f":"ISNUMBER(SEARCH(Wyszukiwarka!$A$1,'Porównanie dochodów JST'!J431))","v":false},{"$f":"IF(M431,COUNTIF($M$16:M431,TRUE),\"\")","v":""},{"$f":"IFERROR(INDEX($J$16:$J$2822,MATCH(ROWS($J$16:J431),$N$16:$N$2822,0)),\"\")","v":""}]
["06","09","16","2","060916","Gmina wiejska","LUBELSKIE","lubelski","ZAKRZEW","ZAKRZEW - Gmina wiejska / Powiat lubelski / Województwo  - LUBELSKIE / 060916 / ",10287731,11549605,{"$f":"ISNUMBER(SEARCH(Wyszukiwarka!$A$1,'Porównanie dochodów JST'!J432))","v":false},{"$f":"IF(M432,COUNTIF($M$16:M432,TRUE),\"\")","v":""},{"$f":"IFERROR(INDEX($J$16:$J$2822,MATCH(ROWS($J$16:J432),$N$16:$N$2822,0)),\"\")","v":""}]
["06","10","01","2","061001","Gmina wiejska","LUBELSKIE","łęczyński","CYCÓW","CYCÓW - Gmina wiejska / Powiat łęczyński / Województwo  - LUBELSKIE / 061001 / ",25111930,28676500.159999996,{"$f":"ISNUMBER(SEARCH(Wyszukiwarka!$A$1,'Porównanie dochodów JST'!J433))","v":false},{"$f":"IF(M433,COUNTIF($M$16:M433,TRUE),\"\")","v":""},{"$f":"IFERROR(INDEX($J$16:$J$2822,MATCH(ROWS($J$16:J433),$N$16:$N$2822,0)),\"\")","v":""}]
["06","10","02","2","061002","Gmina wiejska","LUBELSKIE","łęczyński","LUDWIN","LUDWIN - Gmina wiejska / Powiat łęczyński / Województwo  - LUBELSKIE / 061002 / ",17411937,19919084.640000001,{"$f":"ISNUMBER(SEARCH(Wyszukiwarka!$A$1,'Porównanie dochodów JST'!J434))","v":false},{"$f":"IF(M434,COUNTIF($M$16:M434,TRUE),\"\")","v":""},{"$f":"IFERROR(INDEX($J$16:$J$2822,MATCH(ROWS($J$16:J434),$N$16:$N$2822,0)),\"\")","v":""}]
["06","10","03","3","061003","Gmina miejsko-wiejska","LUBELSKIE","łęczyński","ŁĘCZNA","ŁĘCZNA - Gmina miejsko-wiejska / Powiat łęczyński / Województwo  - LUBELSKIE / 061003 / ",80444363,88271228.847400025,{"$f":"ISNUMBER(SEARCH(Wyszukiwarka!$A$1,'Porównanie dochodów JST'!J435))","v":false},{"$f":"IF(M435,COUNTIF($M$16:M435,TRUE),\"\")","v":""},{"$f":"IFERROR(INDEX($J$16:$J$2822,MATCH(ROWS($J$16:J435),$N$16:$N$2822,0)),\"\")","v":""}]
["06","10","04","2","061004","Gmina wiejska","LUBELSKIE","łęczyński","MILEJÓW","MILEJÓW - Gmina wiejska / Powiat łęczyński / Województwo  - LUBELSKIE / 061004 / ",33915011,37531767.651754081,{"$f":"ISNUMBER(SEARCH(Wyszukiwarka!$A$1,'Porównanie dochodów JST'!J436))","v":false},{"$f":"IF(M436,COUNTIF($M$16:M436,TRUE),\"\")","v":""},{"$f":"IFERROR(INDEX($J$16:$J$2822,MATCH(ROWS($J$16:J436),$N$16:$N$2822,0)),\"\")","v":""}]
["06","10","05","2","061005","Gmina wiejska","LUBELSKIE","łęczyński","PUCHACZÓW","PUCHACZÓW - Gmina wiejska / Powiat łęczyński / Województwo  - LUBELSKIE / 061005 / ",23291667,25548998,{"$f":"ISNUMBER(SEARCH(Wyszukiwarka!$A$1,'Porównanie dochodów JST'!J437))","v":false},{"$f":"IF(M437,COUNTIF($M$16:M437,TRUE),\"\")","v":""},{"$f":"IFERROR(INDEX($J$16:$J$2822,MATCH(ROWS($J$16:J437),$N$16:$N$2822,0)),\"\")","v":""}]
["06","10","06","2","061006","Gmina wiejska","LUBELSKIE","łęczyński","SPICZYN","SPICZYN - Gmina wiejska / Powiat łęczyński / Województwo  - LUBELSKIE / 061006 / ",26306509,30104027.52,{"$f":"ISNUMBER(SEARCH(Wyszukiwarka!$A$1,'Porównanie dochodów JST'!J438))","v":false},{"$f":"IF(M438,COUNTIF($M$16:M438,TRUE),\"\")","v":""},{"$f":"IFERROR(INDEX($J$16:$J$2822,MATCH(ROWS($J$16:J438),$N$16:$N$2822,0)),\"\")","v":""}]
["06","11","01","1","061101","Gmina miejska","LUBELSKIE","łukowski","ŁUKÓW","ŁUKÓW - Gmina miejska / Powiat łukowski / Województwo  - LUBELSKIE / 061101 / ",99908637,109104987.1251,{"$f":"ISNUMBER(SEARCH(Wyszukiwarka!$A$1,'Porównanie dochodów JST'!J439))","v":false},{"$f":"IF(M439,COUNTIF($M$16:M439,TRUE),\"\")","v":""},{"$f":"IFERROR(INDEX($J$16:$J$2822,MATCH(ROWS($J$16:J439),$N$16:$N$2822,0)),\"\")","v":""}]
["06","11","02","1","061102","Gmina miejska","LUBELSKIE","łukowski","STOCZEK ŁUKOWSKI","STOCZEK ŁUKOWSKI - Gmina miejska / Powiat łukowski / Województwo  - LUBELSKIE / 061102 / ",9475059,10658464.92,{"$f":"ISNUMBER(SEARCH(Wyszukiwarka!$A$1,'Porównanie dochodów JST'!J440))","v":false},{"$f":"IF(M440,COUNTIF($M$16:M440,TRUE),\"\")","v":""},{"$f":"IFERROR(INDEX($J$16:$J$2822,MATCH(ROWS($J$16:J440),$N$16:$N$2822,0)),\"\")","v":""}]
["06","11","03","2","061103","Gmina wiejska","LUBELSKIE","łukowski","ADAMÓW","ADAMÓW - Gmina wiejska / Powiat łukowski / Województwo  - LUBELSKIE / 061103 / ",22133610,24143661.591378894,{"$f":"ISNUMBER(SEARCH(Wyszukiwarka!$A$1,'Porównanie dochodów JST'!J441))","v":false},{"$f":"IF(M441,COUNTIF($M$16:M441,TRUE),\"\")","v":""},{"$f":"IFERROR(INDEX($J$16:$J$2822,MATCH(ROWS($J$16:J441),$N$16:$N$2822,0)),\"\")","v":""}]
["06","11","04","2","061104","Gmina wiejska","LUBELSKIE","łukowski","KRZYWDA","KRZYWDA - Gmina wiejska / Powiat łukowski / Województwo  - LUBELSKIE / 061104 / ",49472505,53101461.26498802,{"$f":"ISNUMBER(SEARCH(Wyszukiwarka!$A$1,'Porównanie dochodów JST'!J442))","v":false},{"$f":"IF(M442,COUNTIF($M$16:M442,TRUE),\"\")","v":""},{"$f":"IFERROR(INDEX($J$16:$J$2822,MATCH(ROWS($J$16:J442),$N$16:$N$2822,0)),\"\")","v":""}]
["06","11","05","2","061105","Gmina wiejska","LUBELSKIE","łukowski","ŁUKÓW","ŁUKÓW - Gmina wiejska / Powiat łukowski / Województwo  - LUBELSKIE / 061105 / ",80667490,86046169,{"$f":"ISNUMBER(SEARCH(Wyszukiwarka!$A$1,'Porównanie dochodów JST'!J443))","v":false},{"$f":"IF(M443,COUNTIF($M$16:M443,TRUE),\"\")","v":""},{"$f":"IFERROR(INDEX($J$16:$J$2822,MATCH(ROWS($J$16:J443),$N$16:$N$2822,0)),\"\")","v":""}]
["06","11","06","2","061106","Gmina wiejska","LUBELSKIE","łukowski","SEROKOMLA","SEROKOMLA - Gmina wiejska / Powiat łukowski / Województwo  - LUBELSKIE / 061106 / ",16210562,18525893.793200791,{"$f":"ISNUMBER(SEARCH(Wyszukiwarka!$A$1,'Porównanie dochodów JST'!J444))","v":false},{"$f":"IF(M444,COUNTIF($M$16:M444,TRUE),\"\")","v":""},{"$f":"IFERROR(INDEX($J$16:$J$2822,MATCH(ROWS($J$16:J444),$N$16:$N$2822,0)),\"\")","v":""}]
["06","11","07","2","061107","Gmina wiejska","LUBELSKIE","łukowski","STANIN","STANIN - Gmina wiejska / Powiat łukowski / Województwo  - LUBELSKIE / 061107 / ",41119871,44556277,{"$f":"ISNUMBER(SEARCH(Wyszukiwarka!$A$1,'Porównanie dochodów JST'!J445))","v":false},{"$f":"IF(M445,COUNTIF($M$16:M445,TRUE),\"\")","v":""},{"$f":"IFERROR(INDEX($J$16:$J$2822,MATCH(ROWS($J$16:J445),$N$16:$N$2822,0)),\"\")","v":""}]
["06","11","08","2","061108","Gmina wiejska","LUBELSKIE","łukowski","STOCZEK ŁUKOWSKI","STOCZEK ŁUKOWSKI - Gmina wiejska / Powiat łukowski / Województwo  - LUBELSKIE / 061108 / ",30764662,33501839,{"$f":"ISNUMBER(SEARCH(Wyszukiwarka!$A$1,'Porównanie dochodów JST'!J446))","v":false},{"$f":"IF(M446,COUNTIF($M$16:M446,TRUE),\"\")","v":""},{"$f":"IFERROR(INDEX($J$16:$J$2822,MATCH(ROWS($J$16:J446),$N$16:$N$2822,0)),\"\")","v":""}]
["06","11","09","2","061109","Gmina wiejska","LUBELSKIE","łukowski","TRZEBIESZÓW","TRZEBIESZÓW - Gmina wiejska / Powiat łukowski / Województwo  - LUBELSKIE / 061109 / ",29529884,32280966,{"$f":"ISNUMBER(SEARCH(Wyszukiwarka!$A$1,'Porównanie dochodów JST'!J447))","v":false},{"$f":"IF(M447,COUNTIF($M$16:M447,TRUE),\"\")","v":""},{"$f":"IFERROR(INDEX($J$16:$J$2822,MATCH(ROWS($J$16:J447),$N$16:$N$2822,0)),\"\")","v":""}]
["06","11","10","2","061110","Gmina wiejska","LUBELSKIE","łukowski","WOJCIESZKÓW","WOJCIESZKÓW - Gmina wiejska / Powiat łukowski / Województwo  - LUBELSKIE / 061110 / ",30383565,33038575,{"$f":"ISNUMBER(SEARCH(Wyszukiwarka!$A$1,'Porównanie dochodów JST'!J448))","v":false},{"$f":"IF(M448,COUNTIF($M$16:M448,TRUE),\"\")","v":""},{"$f":"IFERROR(INDEX($J$16:$J$2822,MATCH(ROWS($J$16:J448),$N$16:$N$2822,0)),\"\")","v":""}]
["06","11","11","2","061111","Gmina wiejska","LUBELSKIE","łukowski","WOLA MYSŁOWSKA","WOLA MYSŁOWSKA - Gmina wiejska / Powiat łukowski / Województwo  - LUBELSKIE / 061111 / ",19737774,22482625.197589815,{"$f":"ISNUMBER(SEARCH(Wyszukiwarka!$A$1,'Porównanie dochodów JST'!J449))","v":false},{"$f":"IF(M449,COUNTIF($M$16:M449,TRUE),\"\")","v":""},{"$f":"IFERROR(INDEX($J$16:$J$2822,MATCH(ROWS($J$16:J449),$N$16:$N$2822,0)),\"\")","v":""}]
["06","12","01","2","061201","Gmina wiejska","LUBELSKIE","opolski","CHODEL","CHODEL - Gmina wiejska / Powiat opolski / Województwo  - LUBELSKIE / 061201 / ",25960027,28577473.922474317,{"$f":"ISNUMBER(SEARCH(Wyszukiwarka!$A$1,'Porównanie dochodów JST'!J450))","v":false},{"$f":"IF(M450,COUNTIF($M$16:M450,TRUE),\"\")","v":""},{"$f":"IFERROR(INDEX($J$16:$J$2822,MATCH(ROWS($J$16:J450),$N$16:$N$2822,0)),\"\")","v":""}]
["06","12","02","3","061202","Gmina miejsko-wiejska","LUBELSKIE","opolski","JÓZEFÓW nad Wisłą","JÓZEFÓW nad Wisłą - Gmina miejsko-wiejska / Powiat opolski / Województwo  - LUBELSKIE / 061202 / ",23417434,26041355,{"$f":"ISNUMBER(SEARCH(Wyszukiwarka!$A$1,'Porównanie dochodów JST'!J451))","v":false},{"$f":"IF(M451,COUNTIF($M$16:M451,TRUE),\"\")","v":""},{"$f":"IFERROR(INDEX($J$16:$J$2822,MATCH(ROWS($J$16:J451),$N$16:$N$2822,0)),\"\")","v":""}]
["06","12","03","2","061203","Gmina wiejska","LUBELSKIE","opolski","KARCZMISKA","KARCZMISKA - Gmina wiejska / Powiat opolski / Województwo  - LUBELSKIE / 061203 / ",20726839,22754576,{"$f":"ISNUMBER(SEARCH(Wyszukiwarka!$A$1,'Porównanie dochodów JST'!J452))","v":false},{"$f":"IF(M452,COUNTIF($M$16:M452,TRUE),\"\")","v":""},{"$f":"IFERROR(INDEX($J$16:$J$2822,MATCH(ROWS($J$16:J452),$N$16:$N$2822,0)),\"\")","v":""}]
["06","12","04","2","061204","Gmina wiejska","LUBELSKIE","opolski","ŁAZISKA","ŁAZISKA - Gmina wiejska / Powiat opolski / Województwo  - LUBELSKIE / 061204 / ",15665345,17607651.922463685,{"$f":"ISNUMBER(SEARCH(Wyszukiwarka!$A$1,'Porównanie dochodów JST'!J453))","v":false},{"$f":"IF(M453,COUNTIF($M$16:M453,TRUE),\"\")","v":""},{"$f":"IFERROR(INDEX($J$16:$J$2822,MATCH(ROWS($J$16:J453),$N$16:$N$2822,0)),\"\")","v":""}]
["06","12","05","3","061205","Gmina miejsko-wiejska","LUBELSKIE","opolski","OPOLE LUBELSKIE","OPOLE LUBELSKIE - Gmina miejsko-wiejska / Powiat opolski / Województwo  - LUBELSKIE / 061205 / ",61562433,66591014.595076859,{"$f":"ISNUMBER(SEARCH(Wyszukiwarka!$A$1,'Porównanie dochodów JST'!J454))","v":false},{"$f":"IF(M454,COUNTIF($M$16:M454,TRUE),\"\")","v":""},{"$f":"IFERROR(INDEX($J$16:$J$2822,MATCH(ROWS($J$16:J454),$N$16:$N$2822,0)),\"\")","v":""}]
["06","12","06","3","061206","Gmina miejsko-wiejska","LUBELSKIE","opolski","PONIATOWA","PONIATOWA - Gmina miejsko-wiejska / Powiat opolski / Województwo  - LUBELSKIE / 061206 / ",46244775,50422869,{"$f":"ISNUMBER(SEARCH(Wyszukiwarka!$A$1,'Porównanie dochodów JST'!J455))","v":false},{"$f":"IF(M455,COUNTIF($M$16:M455,TRUE),\"\")","v":""},{"$f":"IFERROR(INDEX($J$16:$J$2822,MATCH(ROWS($J$16:J455),$N$16:$N$2822,0)),\"\")","v":""}]
["06","12","07","2","061207","Gmina wiejska","LUBELSKIE","opolski","WILKÓW","WILKÓW - Gmina wiejska / Powiat opolski / Województwo  - LUBELSKIE / 061207 / ",16783858,18689302.618600421,{"$f":"ISNUMBER(SEARCH(Wyszukiwarka!$A$1,'Porównanie dochodów JST'!J456))","v":false},{"$f":"IF(M456,COUNTIF($M$16:M456,TRUE),\"\")","v":""},{"$f":"IFERROR(INDEX($J$16:$J$2822,MATCH(ROWS($J$16:J456),$N$16:$N$2822,0)),\"\")","v":""}]
["06","13","01","2","061301","Gmina wiejska","LUBELSKIE","parczewski","DĘBOWA KŁODA","DĘBOWA KŁODA - Gmina wiejska / Powiat parczewski / Województwo  - LUBELSKIE / 061301 / ",13487526,15506295.84,{"$f":"ISNUMBER(SEARCH(Wyszukiwarka!$A$1,'Porównanie dochodów JST'!J457))","v":false},{"$f":"IF(M457,COUNTIF($M$16:M457,TRUE),\"\")","v":""},{"$f":"IFERROR(INDEX($J$16:$J$2822,MATCH(ROWS($J$16:J457),$N$16:$N$2822,0)),\"\")","v":""}]
["06","13","02","2","061302","Gmina wiejska","LUBELSKIE","parczewski","JABŁOŃ","JABŁOŃ - Gmina wiejska / Powiat parczewski / Województwo  - LUBELSKIE / 061302 / ",15542934,16998140.725000001,{"$f":"ISNUMBER(SEARCH(Wyszukiwarka!$A$1,'Porównanie dochodów JST'!J458))","v":false},{"$f":"IF(M458,COUNTIF($M$16:M458,TRUE),\"\")","v":""},{"$f":"IFERROR(INDEX($J$16:$J$2822,MATCH(ROWS($J$16:J458),$N$16:$N$2822,0)),\"\")","v":""}]
["06","13","03","2","061303","Gmina wiejska","LUBELSKIE","parczewski","MILANÓW","MILANÓW - Gmina wiejska / Powiat parczewski / Województwo  - LUBELSKIE / 061303 / ",13682859,15023357,{"$f":"ISNUMBER(SEARCH(Wyszukiwarka!$A$1,'Porównanie dochodów JST'!J459))","v":false},{"$f":"IF(M459,COUNTIF($M$16:M459,TRUE),\"\")","v":""},{"$f":"IFERROR(INDEX($J$16:$J$2822,MATCH(ROWS($J$16:J459),$N$16:$N$2822,0)),\"\")","v":""}]
["06","13","04","3","061304","Gmina miejsko-wiejska","LUBELSKIE","parczewski","PARCZEW","PARCZEW - Gmina miejsko-wiejska / Powiat parczewski / Województwo  - LUBELSKIE / 061304 / ",46972910,51298502,{"$f":"ISNUMBER(SEARCH(Wyszukiwarka!$A$1,'Porównanie dochodów JST'!J460))","v":false},{"$f":"IF(M460,COUNTIF($M$16:M460,TRUE),\"\")","v":""},{"$f":"IFERROR(INDEX($J$16:$J$2822,MATCH(ROWS($J$16:J460),$N$16:$N$2822,0)),\"\")","v":""}]
["06","13","05","2","061305","Gmina wiejska","LUBELSKIE","parczewski","PODEDWÓRZE","PODEDWÓRZE - Gmina wiejska / Powiat parczewski / Województwo  - LUBELSKIE / 061305 / ",6116296,6895304.9000000004,{"$f":"ISNUMBER(SEARCH(Wyszukiwarka!$A$1,'Porównanie dochodów JST'!J461))","v":false},{"$f":"IF(M461,COUNTIF($M$16:M461,TRUE),\"\")","v":""},{"$f":"IFERROR(INDEX($J$16:$J$2822,MATCH(ROWS($J$16:J461),$N$16:$N$2822,0)),\"\")","v":""}]
["06","13","06","2","061306","Gmina wiejska","LUBELSKIE","parczewski","SIEMIEŃ","SIEMIEŃ - Gmina wiejska / Powiat parczewski / Województwo  - LUBELSKIE / 061306 / ",18921038,20864619.511389669,{"$f":"ISNUMBER(SEARCH(Wyszukiwarka!$A$1,'Porównanie dochodów JST'!J462))","v":false},{"$f":"IF(M462,COUNTIF($M$16:M462,TRUE),\"\")","v":""},{"$f":"IFERROR(INDEX($J$16:$J$2822,MATCH(ROWS($J$16:J462),$N$16:$N$2822,0)),\"\")","v":""}]
["06","13","07","2","061307","Gmina wiejska","LUBELSKIE","parczewski","SOSNOWICA","SOSNOWICA - Gmina wiejska / Powiat parczewski / Województwo  - LUBELSKIE / 061307 / ",7872583,9075558.2400000002,{"$f":"ISNUMBER(SEARCH(Wyszukiwarka!$A$1,'Porównanie dochodów JST'!J463))","v":false},{"$f":"IF(M463,COUNTIF($M$16:M463,TRUE),\"\")","v":""},{"$f":"IFERROR(INDEX($J$16:$J$2822,MATCH(ROWS($J$16:J463),$N$16:$N$2822,0)),\"\")","v":""}]
["06","14","01","1","061401","Gmina miejska","LUBELSKIE","puławski","PUŁAWY","PUŁAWY - Gmina miejska / Powiat puławski / Województwo  - LUBELSKIE / 061401 / ",166590232,181386653.96170002,{"$f":"ISNUMBER(SEARCH(Wyszukiwarka!$A$1,'Porównanie dochodów JST'!J464))","v":false},{"$f":"IF(M464,COUNTIF($M$16:M464,TRUE),\"\")","v":""},{"$f":"IFERROR(INDEX($J$16:$J$2822,MATCH(ROWS($J$16:J464),$N$16:$N$2822,0)),\"\")","v":""}]
["06","14","02","2","061402","Gmina wiejska","LUBELSKIE","puławski","BARANÓW",{"$f":"I465&$H$12&F465&$G$12&$H$14&H465&$G$12&$G$14&$H$12&G465&$G$12&E465&$G$12","v":"BARANÓW - Gmina wiejska / Powiat puławski / Województwo  - LUBELSKIE / 061402 / "},14189516,15543579.799999997,{"$f":"ISNUMBER(SEARCH(Wyszukiwarka!$A$1,'Porównanie dochodów JST'!J465))","v":false},{"$f":"IF(M465,COUNTIF($M$16:M465,TRUE),\"\")","v":""},{"$f":"IFERROR(INDEX($J$16:$J$2822,MATCH(ROWS($J$16:J465),$N$16:$N$2822,0)),\"\")","v":""}]
["06","14","03","2","061403","Gmina wiejska","LUBELSKIE","puławski","JANOWIEC","JANOWIEC - Gmina wiejska / Powiat puławski / Województwo  - LUBELSKIE / 061403 / ",11768638,13121220,{"$f":"ISNUMBER(SEARCH(Wyszukiwarka!$A$1,'Porównanie dochodów JST'!J466))","v":false},{"$f":"IF(M466,COUNTIF($M$16:M466,TRUE),\"\")","v":""},{"$f":"IFERROR(INDEX($J$16:$J$2822,MATCH(ROWS($J$16:J466),$N$16:$N$2822,0)),\"\")","v":""}]
["06","14","04","3","061404","Gmina miejsko-wiejska","LUBELSKIE","puławski","KAZIMIERZ DOLNY","KAZIMIERZ DOLNY - Gmina miejsko-wiejska / Powiat puławski / Województwo  - LUBELSKIE / 061404 / ",21680475,24288287,{"$f":"ISNUMBER(SEARCH(Wyszukiwarka!$A$1,'Porównanie dochodów JST'!J467))","v":false},{"$f":"IF(M467,COUNTIF($M$16:M467,TRUE),\"\")","v":""},{"$f":"IFERROR(INDEX($J$16:$J$2822,MATCH(ROWS($J$16:J467),$N$16:$N$2822,0)),\"\")","v":""}]
["06","14","05","2","061405","Gmina wiejska","LUBELSKIE","puławski","KOŃSKOWOLA","KOŃSKOWOLA - Gmina wiejska / Powiat puławski / Województwo  - LUBELSKIE / 061405 / ",28299762,31610234,{"$f":"ISNUMBER(SEARCH(Wyszukiwarka!$A$1,'Porównanie dochodów JST'!J468))","v":false},{"$f":"IF(M468,COUNTIF($M$16:M468,TRUE),\"\")","v":""},{"$f":"IFERROR(INDEX($J$16:$J$2822,MATCH(ROWS($J$16:J468),$N$16:$N$2822,0)),\"\")","v":""}]
["06","14","06","2","061406","Gmina wiejska","LUBELSKIE","puławski","KURÓW","KURÓW - Gmina wiejska / Powiat puławski / Województwo  - LUBELSKIE / 061406 / ",24541631,27234862,{"$f":"ISNUMBER(SEARCH(Wyszukiwarka!$A$1,'Porównanie dochodów JST'!J469))","v":false},{"$f":"IF(M469,COUNTIF($M$16:M469,TRUE),\"\")","v":""},{"$f":"IFERROR(INDEX($J$16:$J$2822,MATCH(ROWS($J$16:J469),$N$16:$N$2822,0)),\"\")","v":""}]
["06","14","07","2","061407","Gmina wiejska","LUBELSKIE","puławski","MARKUSZÓW","MARKUSZÓW - Gmina wiejska / Powiat puławski / Województwo  - LUBELSKIE / 061407 / ",10973427,12244885,{"$f":"ISNUMBER(SEARCH(Wyszukiwarka!$A$1,'Porównanie dochodów JST'!J470))","v":false},{"$f":"IF(M470,COUNTIF($M$16:M470,TRUE),\"\")","v":""},{"$f":"IFERROR(INDEX($J$16:$J$2822,MATCH(ROWS($J$16:J470),$N$16:$N$2822,0)),\"\")","v":""}]
["06","14","08","3","061408","Gmina miejsko-wiejska","LUBELSKIE","puławski","NAŁĘCZÓW","NAŁĘCZÓW - Gmina miejsko-wiejska / Powiat puławski / Województwo  - LUBELSKIE / 061408 / ",29075434,32348935.584049631,{"$f":"ISNUMBER(SEARCH(Wyszukiwarka!$A$1,'Porównanie dochodów JST'!J471))","v":false},{"$f":"IF(M471,COUNTIF($M$16:M471,TRUE),\"\")","v":""},{"$f":"IFERROR(INDEX($J$16:$J$2822,MATCH(ROWS($J$16:J471),$N$16:$N$2822,0)),\"\")","v":""}]
["06","14","09","2","061409","Gmina wiejska","LUBELSKIE","puławski","PUŁAWY","PUŁAWY - Gmina wiejska / Powiat puławski / Województwo  - LUBELSKIE / 061409 / ",39992547,44179464,{"$f":"ISNUMBER(SEARCH(Wyszukiwarka!$A$1,'Porównanie dochodów JST'!J472))","v":false},{"$f":"IF(M472,COUNTIF($M$16:M472,TRUE),\"\")","v":""},{"$f":"IFERROR(INDEX($J$16:$J$2822,MATCH(ROWS($J$16:J472),$N$16:$N$2822,0)),\"\")","v":""}]
["06","14","10","2","061410","Gmina wiejska","LUBELSKIE","puławski","WĄWOLNICA","WĄWOLNICA - Gmina wiejska / Powiat puławski / Województwo  - LUBELSKIE / 061410 / ",15378811,17275568.79218505,{"$f":"ISNUMBER(SEARCH(Wyszukiwarka!$A$1,'Porównanie dochodów JST'!J473))","v":false},{"$f":"IF(M473,COUNTIF($M$16:M473,TRUE),\"\")","v":""},{"$f":"IFERROR(INDEX($J$16:$J$2822,MATCH(ROWS($J$16:J473),$N$16:$N$2822,0)),\"\")","v":""}]
["06","14","11","2","061411","Gmina wiejska","LUBELSKIE","puławski","ŻYRZYN","ŻYRZYN - Gmina wiejska / Powiat puławski / Województwo  - LUBELSKIE / 061411 / ",24326627,26928384.692459665,{"$f":"ISNUMBER(SEARCH(Wyszukiwarka!$A$1,'Porównanie dochodów JST'!J474))","v":false},{"$f":"IF(M474,COUNTIF($M$16:M474,TRUE),\"\")","v":""},{"$f":"IFERROR(INDEX($J$16:$J$2822,MATCH(ROWS($J$16:J474),$N$16:$N$2822,0)),\"\")","v":""}]
["06","15","01","1","061501","Gmina miejska","LUBELSKIE","radzyński","RADZYŃ PODLASKI","RADZYŃ PODLASKI - Gmina miejska / Powiat radzyński / Województwo  - LUBELSKIE / 061501 / ",47790324,52113467,{"$f":"ISNUMBER(SEARCH(Wyszukiwarka!$A$1,'Porównanie dochodów JST'!J475))","v":false},{"$f":"IF(M475,COUNTIF($M$16:M475,TRUE),\"\")","v":""},{"$f":"IFERROR(INDEX($J$16:$J$2822,MATCH(ROWS($J$16:J475),$N$16:$N$2822,0)),\"\")","v":""}]
["06","15","02","2","061502","Gmina wiejska","LUBELSKIE","radzyński","BORKI","BORKI - Gmina wiejska / Powiat radzyński / Województwo  - LUBELSKIE / 061502 / ",26237550,30039329.600000001,{"$f":"ISNUMBER(SEARCH(Wyszukiwarka!$A$1,'Porównanie dochodów JST'!J476))","v":false},{"$f":"IF(M476,COUNTIF($M$16:M476,TRUE),\"\")","v":""},{"$f":"IFERROR(INDEX($J$16:$J$2822,MATCH(ROWS($J$16:J476),$N$16:$N$2822,0)),\"\")","v":""}]
["06","15","03","2","061503","Gmina wiejska","LUBELSKIE","radzyński","CZEMIERNIKI","CZEMIERNIKI - Gmina wiejska / Powiat radzyński / Województwo  - LUBELSKIE / 061503 / ",15874122,17773964,{"$f":"ISNUMBER(SEARCH(Wyszukiwarka!$A$1,'Porównanie dochodów JST'!J477))","v":false},{"$f":"IF(M477,COUNTIF($M$16:M477,TRUE),\"\")","v":""},{"$f":"IFERROR(INDEX($J$16:$J$2822,MATCH(ROWS($J$16:J477),$N$16:$N$2822,0)),\"\")","v":""}]
["06","15","04","2","061504","Gmina wiejska","LUBELSKIE","radzyński","KĄKOLEWNICA","KĄKOLEWNICA - Gmina wiejska / Powiat radzyński / Województwo  - LUBELSKIE / 061504 / ",30784599,33532016.733923815,{"$f":"ISNUMBER(SEARCH(Wyszukiwarka!$A$1,'Porównanie dochodów JST'!J478))","v":false},{"$f":"IF(M478,COUNTIF($M$16:M478,TRUE),\"\")","v":""},{"$f":"IFERROR(INDEX($J$16:$J$2822,MATCH(ROWS($J$16:J478),$N$16:$N$2822,0)),\"\")","v":""}]
["06","15","05","2","061505","Gmina wiejska","LUBELSKIE","radzyński","KOMARÓWKA PODLASKA","KOMARÓWKA PODLASKA - Gmina wiejska / Powiat radzyński / Województwo  - LUBELSKIE / 061505 / ",17241146,18618778.767314222,{"$f":"ISNUMBER(SEARCH(Wyszukiwarka!$A$1,'Porównanie dochodów JST'!J479))","v":false},{"$f":"IF(M479,COUNTIF($M$16:M479,TRUE),\"\")","v":""},{"$f":"IFERROR(INDEX($J$16:$J$2822,MATCH(ROWS($J$16:J479),$N$16:$N$2822,0)),\"\")","v":""}]
["06","15","06","2","061506","Gmina wiejska","LUBELSKIE","radzyński","RADZYŃ PODLASKI","RADZYŃ PODLASKI - Gmina wiejska / Powiat radzyński / Województwo  - LUBELSKIE / 061506 / ",30921570,33699237.781851903,{"$f":"ISNUMBER(SEARCH(Wyszukiwarka!$A$1,'Porównanie dochodów JST'!J480))","v":false},{"$f":"IF(M480,COUNTIF($M$16:M480,TRUE),\"\")","v":""},{"$f":"IFERROR(INDEX($J$16:$J$2822,MATCH(ROWS($J$16:J480),$N$16:$N$2822,0)),\"\")","v":""}]
["06","15","07","2","061507","Gmina wiejska","LUBELSKIE","radzyński","ULAN-MAJORAT","ULAN-MAJORAT - Gmina wiejska / Powiat radzyński / Województwo  - LUBELSKIE / 061507 / ",23474784,25530936,{"$f":"ISNUMBER(SEARCH(Wyszukiwarka!$A$1,'Porównanie dochodów JST'!J481))","v":false},{"$f":"IF(M481,COUNTIF($M$16:M481,TRUE),\"\")","v":""},{"$f":"IFERROR(INDEX($J$16:$J$2822,MATCH(ROWS($J$16:J481),$N$16:$N$2822,0)),\"\")","v":""}]
["06","15","08","2","061508","Gmina wiejska","LUBELSKIE","radzyński","WOHYŃ","WOHYŃ - Gmina wiejska / Powiat radzyński / Województwo  - LUBELSKIE / 061508 / ",23305468,26202458.08097415,{"$f":"ISNUMBER(SEARCH(Wyszukiwarka!$A$1,'Porównanie dochodów JST'!J482))","v":false},{"$f":"IF(M482,COUNTIF($M$16:M482,TRUE),\"\")","v":""},{"$f":"IFERROR(INDEX($J$16:$J$2822,MATCH(ROWS($J$16:J482),$N$16:$N$2822,0)),\"\")","v":""}]
["06","16","01","1","061601","Gmina miejska","LUBELSKIE","rycki","DĘBLIN","DĘBLIN - Gmina miejska / Powiat rycki / Województwo  - LUBELSKIE / 061601 / ",47765126,52422733.015500002,{"$f":"ISNUMBER(SEARCH(Wyszukiwarka!$A$1,'Porównanie dochodów JST'!J483))","v":false},{"$f":"IF(M483,COUNTIF($M$16:M483,TRUE),\"\")","v":""},{"$f":"IFERROR(INDEX($J$16:$J$2822,MATCH(ROWS($J$16:J483),$N$16:$N$2822,0)),\"\")","v":""}]
["06","16","02","2","061602","Gmina wiejska","LUBELSKIE","rycki","KŁOCZEW","KŁOCZEW - Gmina wiejska / Powiat rycki / Województwo  - LUBELSKIE / 061602 / ",30193014,32870570,{"$f":"ISNUMBER(SEARCH(Wyszukiwarka!$A$1,'Porównanie dochodów JST'!J484))","v":false},{"$f":"IF(M484,COUNTIF($M$16:M484,TRUE),\"\")","v":""},{"$f":"IFERROR(INDEX($J$16:$J$2822,MATCH(ROWS($J$16:J484),$N$16:$N$2822,0)),\"\")","v":""}]
["06","16","03","2","061603","Gmina wiejska","LUBELSKIE","rycki","NOWODWÓR","NOWODWÓR - Gmina wiejska / Powiat rycki / Województwo  - LUBELSKIE / 061603 / ",18834216,20591072.176359266,{"$f":"ISNUMBER(SEARCH(Wyszukiwarka!$A$1,'Porównanie dochodów JST'!J485))","v":false},{"$f":"IF(M485,COUNTIF($M$16:M485,TRUE),\"\")","v":""},{"$f":"IFERROR(INDEX($J$16:$J$2822,MATCH(ROWS($J$16:J485),$N$16:$N$2822,0)),\"\")","v":""}]
["06","16","04","3","061604","Gmina miejsko-wiejska","LUBELSKIE","rycki","RYKI","RYKI - Gmina miejsko-wiejska / Powiat rycki / Województwo  - LUBELSKIE / 061604 / ",73442445,78729909.681467503,{"$f":"ISNUMBER(SEARCH(Wyszukiwarka!$A$1,'Porównanie dochodów JST'!J486))","v":false},{"$f":"IF(M486,COUNTIF($M$16:M486,TRUE),\"\")","v":""},{"$f":"IFERROR(INDEX($J$16:$J$2822,MATCH(ROWS($J$16:J486),$N$16:$N$2822,0)),\"\")","v":""}]
["06","16","05","2","061605","Gmina wiejska","LUBELSKIE","rycki","STĘŻYCA","STĘŻYCA - Gmina wiejska / Powiat rycki / Województwo  - LUBELSKIE / 061605 / ",19035071,21021449.986454174,{"$f":"ISNUMBER(SEARCH(Wyszukiwarka!$A$1,'Porównanie dochodów JST'!J487))","v":false},{"$f":"IF(M487,COUNTIF($M$16:M487,TRUE),\"\")","v":""},{"$f":"IFERROR(INDEX($J$16:$J$2822,MATCH(ROWS($J$16:J487),$N$16:$N$2822,0)),\"\")","v":""}]
["06","16","06","2","061606","Gmina wiejska","LUBELSKIE","rycki","UŁĘŻ","UŁĘŻ - Gmina wiejska / Powiat rycki / Województwo  - LUBELSKIE / 061606 / ",12178933,13459248.6,{"$f":"ISNUMBER(SEARCH(Wyszukiwarka!$A$1,'Porównanie dochodów JST'!J488))","v":false},{"$f":"IF(M488,COUNTIF($M$16:M488,TRUE),\"\")","v":""},{"$f":"IFERROR(INDEX($J$16:$J$2822,MATCH(ROWS($J$16:J488),$N$16:$N$2822,0)),\"\")","v":""}]
["06","17","01","1","061701","Gmina miejska","LUBELSKIE","świdnicki","ŚWIDNIK","ŚWIDNIK - Gmina miejska / Powiat świdnicki / Województwo  - LUBELSKIE / 061701 / ",124038863,140466560.2924,{"$f":"ISNUMBER(SEARCH(Wyszukiwarka!$A$1,'Porównanie dochodów JST'!J489))","v":false},{"$f":"IF(M489,COUNTIF($M$16:M489,TRUE),\"\")","v":""},{"$f":"IFERROR(INDEX($J$16:$J$2822,MATCH(ROWS($J$16:J489),$N$16:$N$2822,0)),\"\")","v":""}]
["06","17","02","2","061702","Gmina wiejska","LUBELSKIE","świdnicki","MEŁGIEW","MEŁGIEW - Gmina wiejska / Powiat świdnicki / Województwo  - LUBELSKIE / 061702 / ",36225172,40210625.736200005,{"$f":"ISNUMBER(SEARCH(Wyszukiwarka!$A$1,'Porównanie dochodów JST'!J490))","v":false},{"$f":"IF(M490,COUNTIF($M$16:M490,TRUE),\"\")","v":""},{"$f":"IFERROR(INDEX($J$16:$J$2822,MATCH(ROWS($J$16:J490),$N$16:$N$2822,0)),\"\")","v":""}]
["06","17","03","3","061703","Gmina miejsko-wiejska","LUBELSKIE","świdnicki","PIASKI","PIASKI - Gmina miejsko-wiejska / Powiat świdnicki / Województwo  - LUBELSKIE / 061703 / ",35235559,39232426,{"$f":"ISNUMBER(SEARCH(Wyszukiwarka!$A$1,'Porównanie dochodów JST'!J491))","v":false},{"$f":"IF(M491,COUNTIF($M$16:M491,TRUE),\"\")","v":""},{"$f":"IFERROR(INDEX($J$16:$J$2822,MATCH(ROWS($J$16:J491),$N$16:$N$2822,0)),\"\")","v":""}]
["06","17","04","2","061704","Gmina wiejska","LUBELSKIE","świdnicki","RYBCZEWICE","RYBCZEWICE - Gmina wiejska / Powiat świdnicki / Województwo  - LUBELSKIE / 061704 / ",10738561,12048097,{"$f":"ISNUMBER(SEARCH(Wyszukiwarka!$A$1,'Porównanie dochodów JST'!J492))","v":false},{"$f":"IF(M492,COUNTIF($M$16:M492,TRUE),\"\")","v":""},{"$f":"IFERROR(INDEX($J$16:$J$2822,MATCH(ROWS($J$16:J492),$N$16:$N$2822,0)),\"\")","v":""}]
["06","17","05","2","061705","Gmina wiejska","LUBELSKIE","świdnicki","TRAWNIKI","TRAWNIKI - Gmina wiejska / Powiat świdnicki / Województwo  - LUBELSKIE / 061705 / ",29964161,33242076,{"$f":"ISNUMBER(SEARCH(Wyszukiwarka!$A$1,'Porównanie dochodów JST'!J493))","v":false},{"$f":"IF(M493,COUNTIF($M$16:M493,TRUE),\"\")","v":""},{"$f":"IFERROR(INDEX($J$16:$J$2822,MATCH(ROWS($J$16:J493),$N$16:$N$2822,0)),\"\")","v":""}]
["06","18","01","1","061801","Gmina miejska","LUBELSKIE","tomaszowski","TOMASZÓW LUBELSKI","TOMASZÓW LUBELSKI - Gmina miejska / Powiat tomaszowski / Województwo  - LUBELSKIE / 061801 / ",65693480,70860197.731713787,{"$f":"ISNUMBER(SEARCH(Wyszukiwarka!$A$1,'Porównanie dochodów JST'!J494))","v":false},{"$f":"IF(M494,COUNTIF($M$16:M494,TRUE),\"\")","v":""},{"$f":"IFERROR(INDEX($J$16:$J$2822,MATCH(ROWS($J$16:J494),$N$16:$N$2822,0)),\"\")","v":""}]
["06","18","02","2","061802","Gmina wiejska","LUBELSKIE","tomaszowski","BEŁŻEC","BEŁŻEC - Gmina wiejska / Powiat tomaszowski / Województwo  - LUBELSKIE / 061802 / ",11998831,13296633.879999999,{"$f":"ISNUMBER(SEARCH(Wyszukiwarka!$A$1,'Porównanie dochodów JST'!J495))","v":false},{"$f":"IF(M495,COUNTIF($M$16:M495,TRUE),\"\")","v":""},{"$f":"IFERROR(INDEX($J$16:$J$2822,MATCH(ROWS($J$16:J495),$N$16:$N$2822,0)),\"\")","v":""}]
["06","18","03","2","061803","Gmina wiejska","LUBELSKIE","tomaszowski","JARCZÓW","JARCZÓW - Gmina wiejska / Powiat tomaszowski / Województwo  - LUBELSKIE / 061803 / ",9804405,11108375.809999999,{"$f":"ISNUMBER(SEARCH(Wyszukiwarka!$A$1,'Porównanie dochodów JST'!J496))","v":false},{"$f":"IF(M496,COUNTIF($M$16:M496,TRUE),\"\")","v":""},{"$f":"IFERROR(INDEX($J$16:$J$2822,MATCH(ROWS($J$16:J496),$N$16:$N$2822,0)),\"\")","v":""}]
["06","18","04","2","061804","Gmina wiejska","LUBELSKIE","tomaszowski","KRYNICE","KRYNICE - Gmina wiejska / Powiat tomaszowski / Województwo  - LUBELSKIE / 061804 / ",11946831,13231133.639999999,{"$f":"ISNUMBER(SEARCH(Wyszukiwarka!$A$1,'Porównanie dochodów JST'!J497))","v":false},{"$f":"IF(M497,COUNTIF($M$16:M497,TRUE),\"\")","v":""},{"$f":"IFERROR(INDEX($J$16:$J$2822,MATCH(ROWS($J$16:J497),$N$16:$N$2822,0)),\"\")","v":""}]
["06","18","05","3","061805","Gmina miejsko-wiejska","LUBELSKIE","tomaszowski","LUBYCZA KRÓLEWSKA","LUBYCZA KRÓLEWSKA - Gmina miejsko-wiejska / Powiat tomaszowski / Województwo  - LUBELSKIE / 061805 / ",20294285,22348566,{"$f":"ISNUMBER(SEARCH(Wyszukiwarka!$A$1,'Porównanie dochodów JST'!J498))","v":false},{"$f":"IF(M498,COUNTIF($M$16:M498,TRUE),\"\")","v":""},{"$f":"IFERROR(INDEX($J$16:$J$2822,MATCH(ROWS($J$16:J498),$N$16:$N$2822,0)),\"\")","v":""}]
["06","18","06","3","061806","Gmina miejsko-wiejska","LUBELSKIE","tomaszowski","ŁASZCZÓW","ŁASZCZÓW - Gmina miejsko-wiejska / Powiat tomaszowski / Województwo  - LUBELSKIE / 061806 / ",19929723,21958267.893299419,{"$f":"ISNUMBER(SEARCH(Wyszukiwarka!$A$1,'Porównanie dochodów JST'!J499))","v":false},{"$f":"IF(M499,COUNTIF($M$16:M499,TRUE),\"\")","v":""},{"$f":"IFERROR(INDEX($J$16:$J$2822,MATCH(ROWS($J$16:J499),$N$16:$N$2822,0)),\"\")","v":""}]
["06","18","07","2","061807","Gmina wiejska","LUBELSKIE","tomaszowski","RACHANIE","RACHANIE - Gmina wiejska / Powiat tomaszowski / Województwo  - LUBELSKIE / 061807 / ",17416119,19355516,{"$f":"ISNUMBER(SEARCH(Wyszukiwarka!$A$1,'Porównanie dochodów JST'!J500))","v":false},{"$f":"IF(M500,COUNTIF($M$16:M500,TRUE),\"\")","v":""},{"$f":"IFERROR(INDEX($J$16:$J$2822,MATCH(ROWS($J$16:J500),$N$16:$N$2822,0)),\"\")","v":""}]
["06","18","08","2","061808","Gmina wiejska","LUBELSKIE","tomaszowski","SUSIEC","SUSIEC - Gmina wiejska / Powiat tomaszowski / Województwo  - LUBELSKIE / 061808 / ",28382095,31102289.649921708,{"$f":"ISNUMBER(SEARCH(Wyszukiwarka!$A$1,'Porównanie dochodów JST'!J501))","v":false},{"$f":"IF(M501,COUNTIF($M$16:M501,TRUE),\"\")","v":""},{"$f":"IFERROR(INDEX($J$16:$J$2822,MATCH(ROWS($J$16:J501),$N$16:$N$2822,0)),\"\")","v":""}]
["06","18","09","2","061809","Gmina wiejska","LUBELSKIE","tomaszowski","TARNAWATKA","TARNAWATKA - Gmina wiejska / Powiat tomaszowski / Województwo  - LUBELSKIE / 061809 / ",14168925,15550293,{"$f":"ISNUMBER(SEARCH(Wyszukiwarka!$A$1,'Porównanie dochodów JST'!J502))","v":false},{"$f":"IF(M502,COUNTIF($M$16:M502,TRUE),\"\")","v":""},{"$f":"IFERROR(INDEX($J$16:$J$2822,MATCH(ROWS($J$16:J502),$N$16:$N$2822,0)),\"\")","v":""}]
["06","18","10","2","061810","Gmina wiejska","LUBELSKIE","tomaszowski","TELATYN","TELATYN - Gmina wiejska / Powiat tomaszowski / Województwo  - LUBELSKIE / 061810 / ",11335306,12676059,{"$f":"ISNUMBER(SEARCH(Wyszukiwarka!$A$1,'Porównanie dochodów JST'!J503))","v":false},{"$f":"IF(M503,COUNTIF($M$16:M503,TRUE),\"\")","v":""},{"$f":"IFERROR(INDEX($J$16:$J$2822,MATCH(ROWS($J$16:J503),$N$16:$N$2822,0)),\"\")","v":""}]
["06","18","11","2","061811","Gmina wiejska","LUBELSKIE","tomaszowski","TOMASZÓW LUBELSKI","TOMASZÓW LUBELSKI - Gmina wiejska / Powiat tomaszowski / Województwo  - LUBELSKIE / 061811 / ",37462517,41534825.675146334,{"$f":"ISNUMBER(SEARCH(Wyszukiwarka!$A$1,'Porównanie dochodów JST'!J504))","v":false},{"$f":"IF(M504,COUNTIF($M$16:M504,TRUE),\"\")","v":""},{"$f":"IFERROR(INDEX($J$16:$J$2822,MATCH(ROWS($J$16:J504),$N$16:$N$2822,0)),\"\")","v":""}]
["06","18","12","3","061812","Gmina miejsko-wiejska","LUBELSKIE","tomaszowski","TYSZOWCE","TYSZOWCE - Gmina miejsko-wiejska / Powiat tomaszowski / Województwo  - LUBELSKIE / 061812 / ",16471171,18464588,{"$f":"ISNUMBER(SEARCH(Wyszukiwarka!$A$1,'Porównanie dochodów JST'!J505))","v":false},{"$f":"IF(M505,COUNTIF($M$16:M505,TRUE),\"\")","v":""},{"$f":"IFERROR(INDEX($J$16:$J$2822,MATCH(ROWS($J$16:J505),$N$16:$N$2822,0)),\"\")","v":""}]
["06","18","13","2","061813","Gmina wiejska","LUBELSKIE","tomaszowski","ULHÓWEK","ULHÓWEK - Gmina wiejska / Powiat tomaszowski / Województwo  - LUBELSKIE / 061813 / ",13527095,14914406.570935208,{"$f":"ISNUMBER(SEARCH(Wyszukiwarka!$A$1,'Porównanie dochodów JST'!J506))","v":false},{"$f":"IF(M506,COUNTIF($M$16:M506,TRUE),\"\")","v":""},{"$f":"IFERROR(INDEX($J$16:$J$2822,MATCH(ROWS($J$16:J506),$N$16:$N$2822,0)),\"\")","v":""}]
["06","19","01","1","061901","Gmina miejska","LUBELSKIE","włodawski","WŁODAWA","WŁODAWA - Gmina miejska / Powiat włodawski / Województwo  - LUBELSKIE / 061901 / ",43463020,47834369.439001858,{"$f":"ISNUMBER(SEARCH(Wyszukiwarka!$A$1,'Porównanie dochodów JST'!J507))","v":false},{"$f":"IF(M507,COUNTIF($M$16:M507,TRUE),\"\")","v":""},{"$f":"IFERROR(INDEX($J$16:$J$2822,MATCH(ROWS($J$16:J507),$N$16:$N$2822,0)),\"\")","v":""}]
["06","19","02","2","061902","Gmina wiejska","LUBELSKIE","włodawski","HANNA","HANNA - Gmina wiejska / Powiat włodawski / Województwo  - LUBELSKIE / 061902 / ",9999412,11352016.745000001,{"$f":"ISNUMBER(SEARCH(Wyszukiwarka!$A$1,'Porównanie dochodów JST'!J508))","v":false},{"$f":"IF(M508,COUNTIF($M$16:M508,TRUE),\"\")","v":""},{"$f":"IFERROR(INDEX($J$16:$J$2822,MATCH(ROWS($J$16:J508),$N$16:$N$2822,0)),\"\")","v":""}]
["06","19","03","2","061903","Gmina wiejska","LUBELSKIE","włodawski","HAŃSK","HAŃSK - Gmina wiejska / Powiat włodawski / Województwo  - LUBELSKIE / 061903 / ",12882521,14227377.504999999,{"$f":"ISNUMBER(SEARCH(Wyszukiwarka!$A$1,'Porównanie dochodów JST'!J509))","v":false},{"$f":"IF(M509,COUNTIF($M$16:M509,TRUE),\"\")","v":""},{"$f":"IFERROR(INDEX($J$16:$J$2822,MATCH(ROWS($J$16:J509),$N$16:$N$2822,0)),\"\")","v":""}]
["06","19","04","2","061904","Gmina wiejska","LUBELSKIE","włodawski","STARY BRUS","STARY BRUS - Gmina wiejska / Powiat włodawski / Województwo  - LUBELSKIE / 061904 / ",7923932,8919165.1999999993,{"$f":"ISNUMBER(SEARCH(Wyszukiwarka!$A$1,'Porównanie dochodów JST'!J510))","v":false},{"$f":"IF(M510,COUNTIF($M$16:M510,TRUE),\"\")","v":""},{"$f":"IFERROR(INDEX($J$16:$J$2822,MATCH(ROWS($J$16:J510),$N$16:$N$2822,0)),\"\")","v":""}]
["06","19","05","2","061905","Gmina wiejska","LUBELSKIE","włodawski","URSZULIN","URSZULIN - Gmina wiejska / Powiat włodawski / Województwo  - LUBELSKIE / 061905 / ",16666602,18864909.36307162,{"$f":"ISNUMBER(SEARCH(Wyszukiwarka!$A$1,'Porównanie dochodów JST'!J511))","v":false},{"$f":"IF(M511,COUNTIF($M$16:M511,TRUE),\"\")","v":""},{"$f":"IFERROR(INDEX($J$16:$J$2822,MATCH(ROWS($J$16:J511),$N$16:$N$2822,0)),\"\")","v":""}]
["06","19","06","2","061906","Gmina wiejska","LUBELSKIE","włodawski","WŁODAWA","WŁODAWA - Gmina wiejska / Powiat włodawski / Województwo  - LUBELSKIE / 061906 / ",18052634,20131165,{"$f":"ISNUMBER(SEARCH(Wyszukiwarka!$A$1,'Porównanie dochodów JST'!J512))","v":false},{"$f":"IF(M512,COUNTIF($M$16:M512,TRUE),\"\")","v":""},{"$f":"IFERROR(INDEX($J$16:$J$2822,MATCH(ROWS($J$16:J512),$N$16:$N$2822,0)),\"\")","v":""}]
["06","19","07","2","061907","Gmina wiejska","LUBELSKIE","włodawski","WOLA UHRUSKA","WOLA UHRUSKA - Gmina wiejska / Powiat włodawski / Województwo  - LUBELSKIE / 061907 / ",15477242,16843433,{"$f":"ISNUMBER(SEARCH(Wyszukiwarka!$A$1,'Porównanie dochodów JST'!J513))","v":false},{"$f":"IF(M513,COUNTIF($M$16:M513,TRUE),\"\")","v":""},{"$f":"IFERROR(INDEX($J$16:$J$2822,MATCH(ROWS($J$16:J513),$N$16:$N$2822,0)),\"\")","v":""}]
["06","19","08","2","061908","Gmina wiejska","LUBELSKIE","włodawski","WYRYKI","WYRYKI - Gmina wiejska / Powiat włodawski / Województwo  - LUBELSKIE / 061908 / ",8626300,9736476.9099999983,{"$f":"ISNUMBER(SEARCH(Wyszukiwarka!$A$1,'Porównanie dochodów JST'!J514))","v":false},{"$f":"IF(M514,COUNTIF($M$16:M514,TRUE),\"\")","v":""},{"$f":"IFERROR(INDEX($J$16:$J$2822,MATCH(ROWS($J$16:J514),$N$16:$N$2822,0)),\"\")","v":""}]
["06","20","01","2","062001","Gmina wiejska","LUBELSKIE","zamojski","ADAMÓW","ADAMÓW - Gmina wiejska / Powiat zamojski / Województwo  - LUBELSKIE / 062001 / ",16057751,17991882.52801403,{"$f":"ISNUMBER(SEARCH(Wyszukiwarka!$A$1,'Porównanie dochodów JST'!J515))","v":false},{"$f":"IF(M515,COUNTIF($M$16:M515,TRUE),\"\")","v":""},{"$f":"IFERROR(INDEX($J$16:$J$2822,MATCH(ROWS($J$16:J515),$N$16:$N$2822,0)),\"\")","v":""}]
["06","20","02","2","062002","Gmina wiejska","LUBELSKIE","zamojski","GRABOWIEC","GRABOWIEC - Gmina wiejska / Powiat zamojski / Województwo  - LUBELSKIE / 062002 / ",12203938,13548739,{"$f":"ISNUMBER(SEARCH(Wyszukiwarka!$A$1,'Porównanie dochodów JST'!J516))","v":false},{"$f":"IF(M516,COUNTIF($M$16:M516,TRUE),\"\")","v":""},{"$f":"IFERROR(INDEX($J$16:$J$2822,MATCH(ROWS($J$16:J516),$N$16:$N$2822,0)),\"\")","v":""}]
["06","20","03","2","062003","Gmina wiejska","LUBELSKIE","zamojski","KOMARÓW-OSADA","KOMARÓW-OSADA - Gmina wiejska / Powiat zamojski / Województwo  - LUBELSKIE / 062003 / ",14562449,16485457.879992146,{"$f":"ISNUMBER(SEARCH(Wyszukiwarka!$A$1,'Porównanie dochodów JST'!J517))","v":false},{"$f":"IF(M517,COUNTIF($M$16:M517,TRUE),\"\")","v":""},{"$f":"IFERROR(INDEX($J$16:$J$2822,MATCH(ROWS($J$16:J517),$N$16:$N$2822,0)),\"\")","v":""}]
["06","20","04","3","062004","Gmina miejsko-wiejska","LUBELSKIE","zamojski","KRASNOBRÓD","KRASNOBRÓD - Gmina miejsko-wiejska / Powiat zamojski / Województwo  - LUBELSKIE / 062004 / ",25438964,28102008.820490412,{"$f":"ISNUMBER(SEARCH(Wyszukiwarka!$A$1,'Porównanie dochodów JST'!J518))","v":false},{"$f":"IF(M518,COUNTIF($M$16:M518,TRUE),\"\")","v":""},{"$f":"IFERROR(INDEX($J$16:$J$2822,MATCH(ROWS($J$16:J518),$N$16:$N$2822,0)),\"\")","v":""}]
["06","20","05","2","062005","Gmina wiejska","LUBELSKIE","zamojski","ŁABUNIE","ŁABUNIE - Gmina wiejska / Powiat zamojski / Województwo  - LUBELSKIE / 062005 / ",22037824,24099186,{"$f":"ISNUMBER(SEARCH(Wyszukiwarka!$A$1,'Porównanie dochodów JST'!J519))","v":false},{"$f":"IF(M519,COUNTIF($M$16:M519,TRUE),\"\")","v":""},{"$f":"IFERROR(INDEX($J$16:$J$2822,MATCH(ROWS($J$16:J519),$N$16:$N$2822,0)),\"\")","v":""}]
["06","20","06","2","062006","Gmina wiejska","LUBELSKIE","zamojski","MIĄCZYN","MIĄCZYN - Gmina wiejska / Powiat zamojski / Województwo  - LUBELSKIE / 062006 / ",17027275,19008946,{"$f":"ISNUMBER(SEARCH(Wyszukiwarka!$A$1,'Porównanie dochodów JST'!J520))","v":false},{"$f":"IF(M520,COUNTIF($M$16:M520,TRUE),\"\")","v":""},{"$f":"IFERROR(INDEX($J$16:$J$2822,MATCH(ROWS($J$16:J520),$N$16:$N$2822,0)),\"\")","v":""}]
["06","20","07","2","062007","Gmina wiejska","LUBELSKIE","zamojski","NIELISZ","NIELISZ - Gmina wiejska / Powiat zamojski / Województwo  - LUBELSKIE / 062007 / ",19242465,21245065.575619556,{"$f":"ISNUMBER(SEARCH(Wyszukiwarka!$A$1,'Porównanie dochodów JST'!J521))","v":false},{"$f":"IF(M521,COUNTIF($M$16:M521,TRUE),\"\")","v":""},{"$f":"IFERROR(INDEX($J$16:$J$2822,MATCH(ROWS($J$16:J521),$N$16:$N$2822,0)),\"\")","v":""}]
["06","20","08","2","062008","Gmina wiejska","LUBELSKIE","zamojski","RADECZNICA","RADECZNICA - Gmina wiejska / Powiat zamojski / Województwo  - LUBELSKIE / 062008 / ",19207346,21206848,{"$f":"ISNUMBER(SEARCH(Wyszukiwarka!$A$1,'Porównanie dochodów JST'!J522))","v":false},{"$f":"IF(M522,COUNTIF($M$16:M522,TRUE),\"\")","v":""},{"$f":"IFERROR(INDEX($J$16:$J$2822,MATCH(ROWS($J$16:J522),$N$16:$N$2822,0)),\"\")","v":""}]
["06","20","09","2","062009","Gmina wiejska","LUBELSKIE","zamojski","SITNO","SITNO - Gmina wiejska / Powiat zamojski / Województwo  - LUBELSKIE / 062009 / ",27298027,29934337.632241841,{"$f":"ISNUMBER(SEARCH(Wyszukiwarka!$A$1,'Porównanie dochodów JST'!J523))","v":false},{"$f":"IF(M523,COUNTIF($M$16:M523,TRUE),\"\")","v":""},{"$f":"IFERROR(INDEX($J$16:$J$2822,MATCH(ROWS($J$16:J523),$N$16:$N$2822,0)),\"\")","v":""}]
["06","20","10","2","062010","Gmina wiejska","LUBELSKIE","zamojski","SKIERBIESZÓW","SKIERBIESZÓW - Gmina wiejska / Powiat zamojski / Województwo  - LUBELSKIE / 062010 / ",14977583,16931505,{"$f":"ISNUMBER(SEARCH(Wyszukiwarka!$A$1,'Porównanie dochodów JST'!J524))","v":false},{"$f":"IF(M524,COUNTIF($M$16:M524,TRUE),\"\")","v":""},{"$f":"IFERROR(INDEX($J$16:$J$2822,MATCH(ROWS($J$16:J524),$N$16:$N$2822,0)),\"\")","v":""}]
["06","20","11","2","062011","Gmina wiejska","LUBELSKIE","zamojski","STARY ZAMOŚĆ","STARY ZAMOŚĆ - Gmina wiejska / Powiat zamojski / Województwo  - LUBELSKIE / 062011 / ",16890414,18854304,{"$f":"ISNUMBER(SEARCH(Wyszukiwarka!$A$1,'Porównanie dochodów JST'!J525))","v":false},{"$f":"IF(M525,COUNTIF($M$16:M525,TRUE),\"\")","v":""},{"$f":"IFERROR(INDEX($J$16:$J$2822,MATCH(ROWS($J$16:J525),$N$16:$N$2822,0)),\"\")","v":""}]
["06","20","12","2","062012","Gmina wiejska","LUBELSKIE","zamojski","SUŁÓW","SUŁÓW - Gmina wiejska / Powiat zamojski / Województwo  - LUBELSKIE / 062012 / ",15702551,17597749,{"$f":"ISNUMBER(SEARCH(Wyszukiwarka!$A$1,'Porównanie dochodów JST'!J526))","v":false},{"$f":"IF(M526,COUNTIF($M$16:M526,TRUE),\"\")","v":""},{"$f":"IFERROR(INDEX($J$16:$J$2822,MATCH(ROWS($J$16:J526),$N$16:$N$2822,0)),\"\")","v":""}]
["06","20","13","3","062013","Gmina miejsko-wiejska","LUBELSKIE","zamojski","SZCZEBRZESZYN","SZCZEBRZESZYN - Gmina miejsko-wiejska / Powiat zamojski / Województwo  - LUBELSKIE / 062013 / ",34591299,38567098,{"$f":"ISNUMBER(SEARCH(Wyszukiwarka!$A$1,'Porównanie dochodów JST'!J527))","v":false},{"$f":"IF(M527,COUNTIF($M$16:M527,TRUE),\"\")","v":""},{"$f":"IFERROR(INDEX($J$16:$J$2822,MATCH(ROWS($J$16:J527),$N$16:$N$2822,0)),\"\")","v":""}]
["06","20","14","2","062014","Gmina wiejska","LUBELSKIE","zamojski","ZAMOŚĆ","ZAMOŚĆ - Gmina wiejska / Powiat zamojski / Województwo  - LUBELSKIE / 062014 / ",78825286,84509730.614199996,{"$f":"ISNUMBER(SEARCH(Wyszukiwarka!$A$1,'Porównanie dochodów JST'!J528))","v":false},{"$f":"IF(M528,COUNTIF($M$16:M528,TRUE),\"\")","v":""},{"$f":"IFERROR(INDEX($J$16:$J$2822,MATCH(ROWS($J$16:J528),$N$16:$N$2822,0)),\"\")","v":""}]
["06","20","15","3","062015","Gmina miejsko-wiejska","LUBELSKIE","zamojski","ZWIERZYNIEC",{"$f":"I529&$H$12&F529&$G$12&$H$14&H529&$G$12&$G$14&$H$12&G529&$G$12&E529&$G$12","v":"ZWIERZYNIEC - Gmina miejsko-wiejska / Powiat zamojski / Województwo  - LUBELSKIE / 062015 / "},21169541,24434174.239999998,{"$f":"ISNUMBER(SEARCH(Wyszukiwarka!$A$1,'Porównanie dochodów JST'!J529))","v":false},{"$f":"IF(M529,COUNTIF($M$16:M529,TRUE),\"\")","v":""},{"$f":"IFERROR(INDEX($J$16:$J$2822,MATCH(ROWS($J$16:J529),$N$16:$N$2822,0)),\"\")","v":""}]
["08","01","01","1","080101","Gmina miejska","LUBUSKIE","gorzowski","KOSTRZYN nad Odrą","KOSTRZYN nad Odrą - Gmina miejska / Powiat gorzowski / Województwo  - LUBUSKIE / 080101 / ",65754697,72614783.127305865,{"$f":"ISNUMBER(SEARCH(Wyszukiwarka!$A$1,'Porównanie dochodów JST'!J530))","v":false},{"$f":"IF(M530,COUNTIF($M$16:M530,TRUE),\"\")","v":""},{"$f":"IFERROR(INDEX($J$16:$J$2822,MATCH(ROWS($J$16:J530),$N$16:$N$2822,0)),\"\")","v":""}]
["08","01","02","2","080102","Gmina wiejska","LUBUSKIE","gorzowski","BOGDANIEC","BOGDANIEC - Gmina wiejska / Powiat gorzowski / Województwo  - LUBUSKIE / 080102 / ",28175582,30911168,{"$f":"ISNUMBER(SEARCH(Wyszukiwarka!$A$1,'Porównanie dochodów JST'!J531))","v":false},{"$f":"IF(M531,COUNTIF($M$16:M531,TRUE),\"\")","v":""},{"$f":"IFERROR(INDEX($J$16:$J$2822,MATCH(ROWS($J$16:J531),$N$16:$N$2822,0)),\"\")","v":""}]
["08","01","03","2","080103","Gmina wiejska","LUBUSKIE","gorzowski","DESZCZNO","DESZCZNO - Gmina wiejska / Powiat gorzowski / Województwo  - LUBUSKIE / 080103 / ",39905905,44016089.561139241,{"$f":"ISNUMBER(SEARCH(Wyszukiwarka!$A$1,'Porównanie dochodów JST'!J532))","v":false},{"$f":"IF(M532,COUNTIF($M$16:M532,TRUE),\"\")","v":""},{"$f":"IFERROR(INDEX($J$16:$J$2822,MATCH(ROWS($J$16:J532),$N$16:$N$2822,0)),\"\")","v":""}]
["08","01","04","2","080104","Gmina wiejska","LUBUSKIE","gorzowski","KŁODAWA","KŁODAWA - Gmina wiejska / Powiat gorzowski / Województwo  - LUBUSKIE / 080104 / ",45363146,49440482.999999993,{"$f":"ISNUMBER(SEARCH(Wyszukiwarka!$A$1,'Porównanie dochodów JST'!J533))","v":false},{"$f":"IF(M533,COUNTIF($M$16:M533,TRUE),\"\")","v":""},{"$f":"IFERROR(INDEX($J$16:$J$2822,MATCH(ROWS($J$16:J533),$N$16:$N$2822,0)),\"\")","v":""}]
["08","01","05","2","080105","Gmina wiejska","LUBUSKIE","gorzowski","LUBISZYN","LUBISZYN - Gmina wiejska / Powiat gorzowski / Województwo  - LUBUSKIE / 080105 / ",26627231,29830683.168558285,{"$f":"ISNUMBER(SEARCH(Wyszukiwarka!$A$1,'Porównanie dochodów JST'!J534))","v":false},{"$f":"IF(M534,COUNTIF($M$16:M534,TRUE),\"\")","v":""},{"$f":"IFERROR(INDEX($J$16:$J$2822,MATCH(ROWS($J$16:J534),$N$16:$N$2822,0)),\"\")","v":""}]
["08","01","06","2","080106","Gmina wiejska","LUBUSKIE","gorzowski","SANTOK","SANTOK - Gmina wiejska / Powiat gorzowski / Województwo  - LUBUSKIE / 080106 / ",33862973,37356545.821811847,{"$f":"ISNUMBER(SEARCH(Wyszukiwarka!$A$1,'Porównanie dochodów JST'!J535))","v":false},{"$f":"IF(M535,COUNTIF($M$16:M535,TRUE),\"\")","v":""},{"$f":"IFERROR(INDEX($J$16:$J$2822,MATCH(ROWS($J$16:J535),$N$16:$N$2822,0)),\"\")","v":""}]
["08","01","07","3","080107","Gmina miejsko-wiejska","LUBUSKIE","gorzowski","WITNICA","WITNICA - Gmina miejsko-wiejska / Powiat gorzowski / Województwo  - LUBUSKIE / 080107 / ",43460359,47714453,{"$f":"ISNUMBER(SEARCH(Wyszukiwarka!$A$1,'Porównanie dochodów JST'!J536))","v":false},{"$f":"IF(M536,COUNTIF($M$16:M536,TRUE),\"\")","v":""},{"$f":"IFERROR(INDEX($J$16:$J$2822,MATCH(ROWS($J$16:J536),$N$16:$N$2822,0)),\"\")","v":""}]
["08","02","01","1","080201","Gmina miejska","LUBUSKIE","krośnieński","GUBIN","GUBIN - Gmina miejska / Powiat krośnieński / Województwo  - LUBUSKIE / 080201 / ",46668474,51873319.507523119,{"$f":"ISNUMBER(SEARCH(Wyszukiwarka!$A$1,'Porównanie dochodów JST'!J537))","v":false},{"$f":"IF(M537,COUNTIF($M$16:M537,TRUE),\"\")","v":""},{"$f":"IFERROR(INDEX($J$16:$J$2822,MATCH(ROWS($J$16:J537),$N$16:$N$2822,0)),\"\")","v":""}]
["08","02","02","2","080202","Gmina wiejska","LUBUSKIE","krośnieński","BOBROWICE","BOBROWICE - Gmina wiejska / Powiat krośnieński / Województwo  - LUBUSKIE / 080202 / ",10063086,11390552.853993658,{"$f":"ISNUMBER(SEARCH(Wyszukiwarka!$A$1,'Porównanie dochodów JST'!J538))","v":false},{"$f":"IF(M538,COUNTIF($M$16:M538,TRUE),\"\")","v":""},{"$f":"IFERROR(INDEX($J$16:$J$2822,MATCH(ROWS($J$16:J538),$N$16:$N$2822,0)),\"\")","v":""}]
["08","02","03","2","080203","Gmina wiejska","LUBUSKIE","krośnieński","BYTNICA","BYTNICA - Gmina wiejska / Powiat krośnieński / Województwo  - LUBUSKIE / 080203 / ",8127265,9201742,{"$f":"ISNUMBER(SEARCH(Wyszukiwarka!$A$1,'Porównanie dochodów JST'!J539))","v":false},{"$f":"IF(M539,COUNTIF($M$16:M539,TRUE),\"\")","v":""},{"$f":"IFERROR(INDEX($J$16:$J$2822,MATCH(ROWS($J$16:J539),$N$16:$N$2822,0)),\"\")","v":""}]
["08","02","04","2","080204","Gmina wiejska","LUBUSKIE","krośnieński","DĄBIE","DĄBIE - Gmina wiejska / Powiat krośnieński / Województwo  - LUBUSKIE / 080204 / ",17476149,19473918,{"$f":"ISNUMBER(SEARCH(Wyszukiwarka!$A$1,'Porównanie dochodów JST'!J540))","v":false},{"$f":"IF(M540,COUNTIF($M$16:M540,TRUE),\"\")","v":""},{"$f":"IFERROR(INDEX($J$16:$J$2822,MATCH(ROWS($J$16:J540),$N$16:$N$2822,0)),\"\")","v":""}]
["08","02","05","2","080205","Gmina wiejska","LUBUSKIE","krośnieński","GUBIN","GUBIN - Gmina wiejska / Powiat krośnieński / Województwo  - LUBUSKIE / 080205 / ",22235120,24967966.984317627,{"$f":"ISNUMBER(SEARCH(Wyszukiwarka!$A$1,'Porównanie dochodów JST'!J541))","v":false},{"$f":"IF(M541,COUNTIF($M$16:M541,TRUE),\"\")","v":""},{"$f":"IFERROR(INDEX($J$16:$J$2822,MATCH(ROWS($J$16:J541),$N$16:$N$2822,0)),\"\")","v":""}]
["08","02","06","3","080206","Gmina miejsko-wiejska","LUBUSKIE","krośnieński","KROSNO ODRZAŃSKIE","KROSNO ODRZAŃSKIE - Gmina miejsko-wiejska / Powiat krośnieński / Województwo  - LUBUSKIE / 080206 / ",51361757,58018383.707400009,{"$f":"ISNUMBER(SEARCH(Wyszukiwarka!$A$1,'Porównanie dochodów JST'!J542))","v":false},{"$f":"IF(M542,COUNTIF($M$16:M542,TRUE),\"\")","v":""},{"$f":"IFERROR(INDEX($J$16:$J$2822,MATCH(ROWS($J$16:J542),$N$16:$N$2822,0)),\"\")","v":""}]
["08","02","07","2","080207","Gmina wiejska","LUBUSKIE","krośnieński","MASZEWO","MASZEWO - Gmina wiejska / Powiat krośnieński / Województwo  - LUBUSKIE / 080207 / ",8737205,9918100.5,{"$f":"ISNUMBER(SEARCH(Wyszukiwarka!$A$1,'Porównanie dochodów JST'!J543))","v":false},{"$f":"IF(M543,COUNTIF($M$16:M543,TRUE),\"\")","v":""},{"$f":"IFERROR(INDEX($J$16:$J$2822,MATCH(ROWS($J$16:J543),$N$16:$N$2822,0)),\"\")","v":""}]
["08","03","01","2","080301","Gmina wiejska","LUBUSKIE","międzyrzecki","BLEDZEW","BLEDZEW - Gmina wiejska / Powiat międzyrzecki / Województwo  - LUBUSKIE / 080301 / ",10820866,12204690,{"$f":"ISNUMBER(SEARCH(Wyszukiwarka!$A$1,'Porównanie dochodów JST'!J544))","v":false},{"$f":"IF(M544,COUNTIF($M$16:M544,TRUE),\"\")","v":""},{"$f":"IFERROR(INDEX($J$16:$J$2822,MATCH(ROWS($J$16:J544),$N$16:$N$2822,0)),\"\")","v":""}]
["08","03","02","3","080302","Gmina miejsko-wiejska","LUBUSKIE","międzyrzecki","MIĘDZYRZECZ","MIĘDZYRZECZ - Gmina miejsko-wiejska / Powiat międzyrzecki / Województwo  - LUBUSKIE / 080302 / ",74565843,86166093.439999998,{"$f":"ISNUMBER(SEARCH(Wyszukiwarka!$A$1,'Porównanie dochodów JST'!J545))","v":false},{"$f":"IF(M545,COUNTIF($M$16:M545,TRUE),\"\")","v":""},{"$f":"IFERROR(INDEX($J$16:$J$2822,MATCH(ROWS($J$16:J545),$N$16:$N$2822,0)),\"\")","v":""}]
["08","03","03","2","080303","Gmina wiejska","LUBUSKIE","międzyrzecki","PRZYTOCZNA","PRZYTOCZNA - Gmina wiejska / Powiat międzyrzecki / Województwo  - LUBUSKIE / 080303 / ",16825519,18649713,{"$f":"ISNUMBER(SEARCH(Wyszukiwarka!$A$1,'Porównanie dochodów JST'!J546))","v":false},{"$f":"IF(M546,COUNTIF($M$16:M546,TRUE),\"\")","v":""},{"$f":"IFERROR(INDEX($J$16:$J$2822,MATCH(ROWS($J$16:J546),$N$16:$N$2822,0)),\"\")","v":""}]
["08","03","04","2","080304","Gmina wiejska","LUBUSKIE","międzyrzecki","PSZCZEW","PSZCZEW - Gmina wiejska / Powiat międzyrzecki / Województwo  - LUBUSKIE / 080304 / ",13876742,15572935.4,{"$f":"ISNUMBER(SEARCH(Wyszukiwarka!$A$1,'Porównanie dochodów JST'!J547))","v":false},{"$f":"IF(M547,COUNTIF($M$16:M547,TRUE),\"\")","v":""},{"$f":"IFERROR(INDEX($J$16:$J$2822,MATCH(ROWS($J$16:J547),$N$16:$N$2822,0)),\"\")","v":""}]
["08","03","05","3","080305","Gmina miejsko-wiejska","LUBUSKIE","międzyrzecki","SKWIERZYNA","SKWIERZYNA - Gmina miejsko-wiejska / Powiat międzyrzecki / Województwo  - LUBUSKIE / 080305 / ",38843586,43023943,{"$f":"ISNUMBER(SEARCH(Wyszukiwarka!$A$1,'Porównanie dochodów JST'!J548))","v":false},{"$f":"IF(M548,COUNTIF($M$16:M548,TRUE),\"\")","v":""},{"$f":"IFERROR(INDEX($J$16:$J$2822,MATCH(ROWS($J$16:J548),$N$16:$N$2822,0)),\"\")","v":""}]
["08","03","06","3","080306","Gmina miejsko-wiejska","LUBUSKIE","międzyrzecki","TRZCIEL","TRZCIEL - Gmina miejsko-wiejska / Powiat międzyrzecki / Województwo  - LUBUSKIE / 080306 / ",22887924,25521732,{"$f":"ISNUMBER(SEARCH(Wyszukiwarka!$A$1,'Porównanie dochodów JST'!J549))","v":false},{"$f":"IF(M549,COUNTIF($M$16:M549,TRUE),\"\")","v":""},{"$f":"IFERROR(INDEX($J$16:$J$2822,MATCH(ROWS($J$16:J549),$N$16:$N$2822,0)),\"\")","v":""}]
["08","04","01","1","080401","Gmina miejska","LUBUSKIE","nowosolski","NOWA SÓL","NOWA SÓL - Gmina miejska / Powiat nowosolski / Województwo  - LUBUSKIE / 080401 / ",102717572,118751679.2,{"$f":"ISNUMBER(SEARCH(Wyszukiwarka!$A$1,'Porównanie dochodów JST'!J550))","v":false},{"$f":"IF(M550,COUNTIF($M$16:M550,TRUE),\"\")","v":""},{"$f":"IFERROR(INDEX($J$16:$J$2822,MATCH(ROWS($J$16:J550),$N$16:$N$2822,0)),\"\")","v":""}]
["08","04","02","3","080402","Gmina miejsko-wiejska","LUBUSKIE","nowosolski","BYTOM ODRZAŃSKI","BYTOM ODRZAŃSKI - Gmina miejsko-wiejska / Powiat nowosolski / Województwo  - LUBUSKIE / 080402 / ",19208357,21184356.629082248,{"$f":"ISNUMBER(SEARCH(Wyszukiwarka!$A$1,'Porównanie dochodów JST'!J551))","v":false},{"$f":"IF(M551,COUNTIF($M$16:M551,TRUE),\"\")","v":""},{"$f":"IFERROR(INDEX($J$16:$J$2822,MATCH(ROWS($J$16:J551),$N$16:$N$2822,0)),\"\")","v":""}]
["08","04","03","2","080403","Gmina wiejska","LUBUSKIE","nowosolski","KOLSKO","KOLSKO - Gmina wiejska / Powiat nowosolski / Województwo  - LUBUSKIE / 080403 / ",11421230,12786071.02,{"$f":"ISNUMBER(SEARCH(Wyszukiwarka!$A$1,'Porównanie dochodów JST'!J552))","v":false},{"$f":"IF(M552,COUNTIF($M$16:M552,TRUE),\"\")","v":""},{"$f":"IFERROR(INDEX($J$16:$J$2822,MATCH(ROWS($J$16:J552),$N$16:$N$2822,0)),\"\")","v":""}]
["08","04","04","3","080404","Gmina miejsko-wiejska","LUBUSKIE","nowosolski","KOŻUCHÓW","KOŻUCHÓW - Gmina miejsko-wiejska / Powiat nowosolski / Województwo  - LUBUSKIE / 080404 / ",47452427,52385827,{"$f":"ISNUMBER(SEARCH(Wyszukiwarka!$A$1,'Porównanie dochodów JST'!J553))","v":false},{"$f":"IF(M553,COUNTIF($M$16:M553,TRUE),\"\")","v":""},{"$f":"IFERROR(INDEX($J$16:$J$2822,MATCH(ROWS($J$16:J553),$N$16:$N$2822,0)),\"\")","v":""}]
["08","04","05","2","080405","Gmina wiejska","LUBUSKIE","nowosolski","NOWA SÓL","NOWA SÓL - Gmina wiejska / Powiat nowosolski / Województwo  - LUBUSKIE / 080405 / ",24420110,27167312,{"$f":"ISNUMBER(SEARCH(Wyszukiwarka!$A$1,'Porównanie dochodów JST'!J554))","v":false},{"$f":"IF(M554,COUNTIF($M$16:M554,TRUE),\"\")","v":""},{"$f":"IFERROR(INDEX($J$16:$J$2822,MATCH(ROWS($J$16:J554),$N$16:$N$2822,0)),\"\")","v":""}]
["08","04","06","3","080406","Gmina miejsko-wiejska","LUBUSKIE","nowosolski","NOWE MIASTECZKO","NOWE MIASTECZKO - Gmina miejsko-wiejska / Powiat nowosolski / Województwo  - LUBUSKIE / 080406 / ",22606081,24585702.602844805,{"$f":"ISNUMBER(SEARCH(Wyszukiwarka!$A$1,'Porównanie dochodów JST'!J555))","v":false},{"$f":"IF(M555,COUNTIF($M$16:M555,TRUE),\"\")","v":""},{"$f":"IFERROR(INDEX($J$16:$J$2822,MATCH(ROWS($J$16:J555),$N$16:$N$2822,0)),\"\")","v":""}]
["08","04","07","3","080407","Gmina miejsko-wiejska","LUBUSKIE","nowosolski","OTYŃ","OTYŃ - Gmina miejsko-wiejska / Powiat nowosolski / Województwo  - LUBUSKIE / 080407 / ",27472306,30152321,{"$f":"ISNUMBER(SEARCH(Wyszukiwarka!$A$1,'Porównanie dochodów JST'!J556))","v":false},{"$f":"IF(M556,COUNTIF($M$16:M556,TRUE),\"\")","v":""},{"$f":"IFERROR(INDEX($J$16:$J$2822,MATCH(ROWS($J$16:J556),$N$16:$N$2822,0)),\"\")","v":""}]
["08","04","08","2","080408","Gmina wiejska","LUBUSKIE","nowosolski","SIEDLISKO","SIEDLISKO - Gmina wiejska / Powiat nowosolski / Województwo  - LUBUSKIE / 080408 / ",13348824,14677930,{"$f":"ISNUMBER(SEARCH(Wyszukiwarka!$A$1,'Porównanie dochodów JST'!J557))","v":false},{"$f":"IF(M557,COUNTIF($M$16:M557,TRUE),\"\")","v":""},{"$f":"IFERROR(INDEX($J$16:$J$2822,MATCH(ROWS($J$16:J557),$N$16:$N$2822,0)),\"\")","v":""}]
["08","05","01","3","080501","Gmina miejsko-wiejska","LUBUSKIE","słubicki","CYBINKA","CYBINKA - Gmina miejsko-wiejska / Powiat słubicki / Województwo  - LUBUSKIE / 080501 / ",19944123,22720330.960197121,{"$f":"ISNUMBER(SEARCH(Wyszukiwarka!$A$1,'Porównanie dochodów JST'!J558))","v":false},{"$f":"IF(M558,COUNTIF($M$16:M558,TRUE),\"\")","v":""},{"$f":"IFERROR(INDEX($J$16:$J$2822,MATCH(ROWS($J$16:J558),$N$16:$N$2822,0)),\"\")","v":""}]
["08","05","02","2","080502","Gmina wiejska","LUBUSKIE","słubicki","GÓRZYCA","GÓRZYCA - Gmina wiejska / Powiat słubicki / Województwo  - LUBUSKIE / 080502 / ",11801648,13235880.899999999,{"$f":"ISNUMBER(SEARCH(Wyszukiwarka!$A$1,'Porównanie dochodów JST'!J559))","v":false},{"$f":"IF(M559,COUNTIF($M$16:M559,TRUE),\"\")","v":""},{"$f":"IFERROR(INDEX($J$16:$J$2822,MATCH(ROWS($J$16:J559),$N$16:$N$2822,0)),\"\")","v":""}]
["08","05","03","3","080503","Gmina miejsko-wiejska","LUBUSKIE","słubicki","OŚNO LUBUSKIE","OŚNO LUBUSKIE - Gmina miejsko-wiejska / Powiat słubicki / Województwo  - LUBUSKIE / 080503 / ",21537382,24170509,{"$f":"ISNUMBER(SEARCH(Wyszukiwarka!$A$1,'Porównanie dochodów JST'!J560))","v":false},{"$f":"IF(M560,COUNTIF($M$16:M560,TRUE),\"\")","v":""},{"$f":"IFERROR(INDEX($J$16:$J$2822,MATCH(ROWS($J$16:J560),$N$16:$N$2822,0)),\"\")","v":""}]
["08","05","04","3","080504","Gmina miejsko-wiejska","LUBUSKIE","słubicki","RZEPIN","RZEPIN - Gmina miejsko-wiejska / Powiat słubicki / Województwo  - LUBUSKIE / 080504 / ",37364273,40704163.505187489,{"$f":"ISNUMBER(SEARCH(Wyszukiwarka!$A$1,'Porównanie dochodów JST'!J561))","v":false},{"$f":"IF(M561,COUNTIF($M$16:M561,TRUE),\"\")","v":""},{"$f":"IFERROR(INDEX($J$16:$J$2822,MATCH(ROWS($J$16:J561),$N$16:$N$2822,0)),\"\")","v":""}]
["08","05","05","3","080505","Gmina miejsko-wiejska","LUBUSKIE","słubicki","SŁUBICE","SŁUBICE - Gmina miejsko-wiejska / Powiat słubicki / Województwo  - LUBUSKIE / 080505 / ",65587961,72682141.610100001,{"$f":"ISNUMBER(SEARCH(Wyszukiwarka!$A$1,'Porównanie dochodów JST'!J562))","v":false},{"$f":"IF(M562,COUNTIF($M$16:M562,TRUE),\"\")","v":""},{"$f":"IFERROR(INDEX($J$16:$J$2822,MATCH(ROWS($J$16:J562),$N$16:$N$2822,0)),\"\")","v":""}]
["08","06","01","3","080601","Gmina miejsko-wiejska","LUBUSKIE","strzelecko-drezdenecki","DOBIEGNIEW","DOBIEGNIEW - Gmina miejsko-wiejska / Powiat strzelecko-drezdenecki / Województwo  - LUBUSKIE / 080601 / ",23814425,27398135.52,{"$f":"ISNUMBER(SEARCH(Wyszukiwarka!$A$1,'Porównanie dochodów JST'!J563))","v":false},{"$f":"IF(M563,COUNTIF($M$16:M563,TRUE),\"\")","v":""},{"$f":"IFERROR(INDEX($J$16:$J$2822,MATCH(ROWS($J$16:J563),$N$16:$N$2822,0)),\"\")","v":""}]
["08","06","02","3","080602","Gmina miejsko-wiejska","LUBUSKIE","strzelecko-drezdenecki","DREZDENKO","DREZDENKO - Gmina miejsko-wiejska / Powiat strzelecko-drezdenecki / Województwo  - LUBUSKIE / 080602 / ",48322438,53165341.817100011,{"$f":"ISNUMBER(SEARCH(Wyszukiwarka!$A$1,'Porównanie dochodów JST'!J564))","v":false},{"$f":"IF(M564,COUNTIF($M$16:M564,TRUE),\"\")","v":""},{"$f":"IFERROR(INDEX($J$16:$J$2822,MATCH(ROWS($J$16:J564),$N$16:$N$2822,0)),\"\")","v":""}]
["08","06","03","2","080603","Gmina wiejska","LUBUSKIE","strzelecko-drezdenecki","STARE KUROWO","STARE KUROWO - Gmina wiejska / Powiat strzelecko-drezdenecki / Województwo  - LUBUSKIE / 080603 / ",15762903,17159669.548639659,{"$f":"ISNUMBER(SEARCH(Wyszukiwarka!$A$1,'Porównanie dochodów JST'!J565))","v":false},{"$f":"IF(M565,COUNTIF($M$16:M565,TRUE),\"\")","v":""},{"$f":"IFERROR(INDEX($J$16:$J$2822,MATCH(ROWS($J$16:J565),$N$16:$N$2822,0)),\"\")","v":""}]
["08","06","04","3","080604","Gmina miejsko-wiejska","LUBUSKIE","strzelecko-drezdenecki","STRZELCE KRAJEŃSKIE","STRZELCE KRAJEŃSKIE - Gmina miejsko-wiejska / Powiat strzelecko-drezdenecki / Województwo  - LUBUSKIE / 080604 / ",51301535,57237846.157003179,{"$f":"ISNUMBER(SEARCH(Wyszukiwarka!$A$1,'Porównanie dochodów JST'!J566))","v":false},{"$f":"IF(M566,COUNTIF($M$16:M566,TRUE),\"\")","v":""},{"$f":"IFERROR(INDEX($J$16:$J$2822,MATCH(ROWS($J$16:J566),$N$16:$N$2822,0)),\"\")","v":""}]
["08","06","05","2","080605","Gmina wiejska","LUBUSKIE","strzelecko-drezdenecki","ZWIERZYN","ZWIERZYN - Gmina wiejska / Powiat strzelecko-drezdenecki / Województwo  - LUBUSKIE / 080605 / ",16099572,18018195,{"$f":"ISNUMBER(SEARCH(Wyszukiwarka!$A$1,'Porównanie dochodów JST'!J567))","v":false},{"$f":"IF(M567,COUNTIF($M$16:M567,TRUE),\"\")","v":""},{"$f":"IFERROR(INDEX($J$16:$J$2822,MATCH(ROWS($J$16:J567),$N$16:$N$2822,0)),\"\")","v":""}]
["08","07","01","2","080701","Gmina wiejska","LUBUSKIE","sulęciński","KRZESZYCE","KRZESZYCE - Gmina wiejska / Powiat sulęciński / Województwo  - LUBUSKIE / 080701 / ",17822786,19793518.683893546,{"$f":"ISNUMBER(SEARCH(Wyszukiwarka!$A$1,'Porównanie dochodów JST'!J568))","v":false},{"$f":"IF(M568,COUNTIF($M$16:M568,TRUE),\"\")","v":""},{"$f":"IFERROR(INDEX($J$16:$J$2822,MATCH(ROWS($J$16:J568),$N$16:$N$2822,0)),\"\")","v":""}]
["08","07","02","3","080702","Gmina miejsko-wiejska","LUBUSKIE","sulęciński","LUBNIEWICE","LUBNIEWICE - Gmina miejsko-wiejska / Powiat sulęciński / Województwo  - LUBUSKIE / 080702 / ",11070991,12380044,{"$f":"ISNUMBER(SEARCH(Wyszukiwarka!$A$1,'Porównanie dochodów JST'!J569))","v":false},{"$f":"IF(M569,COUNTIF($M$16:M569,TRUE),\"\")","v":""},{"$f":"IFERROR(INDEX($J$16:$J$2822,MATCH(ROWS($J$16:J569),$N$16:$N$2822,0)),\"\")","v":""}]
["08","07","03","2","080703","Gmina wiejska","LUBUSKIE","sulęciński","SŁOŃSK","SŁOŃSK - Gmina wiejska / Powiat sulęciński / Województwo  - LUBUSKIE / 080703 / ",17086998,19664294.719999999,{"$f":"ISNUMBER(SEARCH(Wyszukiwarka!$A$1,'Porównanie dochodów JST'!J570))","v":false},{"$f":"IF(M570,COUNTIF($M$16:M570,TRUE),\"\")","v":""},{"$f":"IFERROR(INDEX($J$16:$J$2822,MATCH(ROWS($J$16:J570),$N$16:$N$2822,0)),\"\")","v":""}]
["08","07","04","3","080704","Gmina miejsko-wiejska","LUBUSKIE","sulęciński","SULĘCIN","SULĘCIN - Gmina miejsko-wiejska / Powiat sulęciński / Województwo  - LUBUSKIE / 080704 / ",46897274,52909763.83510001,{"$f":"ISNUMBER(SEARCH(Wyszukiwarka!$A$1,'Porównanie dochodów JST'!J571))","v":false},{"$f":"IF(M571,COUNTIF($M$16:M571,TRUE),\"\")","v":""},{"$f":"IFERROR(INDEX($J$16:$J$2822,MATCH(ROWS($J$16:J571),$N$16:$N$2822,0)),\"\")","v":""}]
["08","07","05","3","080705","Gmina miejsko-wiejska","LUBUSKIE","sulęciński","TORZYM","TORZYM - Gmina miejsko-wiejska / Powiat sulęciński / Województwo  - LUBUSKIE / 080705 / ",22141299,24782642,{"$f":"ISNUMBER(SEARCH(Wyszukiwarka!$A$1,'Porównanie dochodów JST'!J572))","v":false},{"$f":"IF(M572,COUNTIF($M$16:M572,TRUE),\"\")","v":""},{"$f":"IFERROR(INDEX($J$16:$J$2822,MATCH(ROWS($J$16:J572),$N$16:$N$2822,0)),\"\")","v":""}]
["08","08","01","2","080801","Gmina wiejska","LUBUSKIE","świebodziński","LUBRZA","LUBRZA - Gmina wiejska / Powiat świebodziński / Województwo  - LUBUSKIE / 080801 / ",12611061,13934070.997300001,{"$f":"ISNUMBER(SEARCH(Wyszukiwarka!$A$1,'Porównanie dochodów JST'!J573))","v":false},{"$f":"IF(M573,COUNTIF($M$16:M573,TRUE),\"\")","v":""},{"$f":"IFERROR(INDEX($J$16:$J$2822,MATCH(ROWS($J$16:J573),$N$16:$N$2822,0)),\"\")","v":""}]
["08","08","02","2","080802","Gmina wiejska","LUBUSKIE","świebodziński","ŁAGÓW","ŁAGÓW - Gmina wiejska / Powiat świebodziński / Województwo  - LUBUSKIE / 080802 / ",15400974,17368363,{"$f":"ISNUMBER(SEARCH(Wyszukiwarka!$A$1,'Porównanie dochodów JST'!J574))","v":false},{"$f":"IF(M574,COUNTIF($M$16:M574,TRUE),\"\")","v":""},{"$f":"IFERROR(INDEX($J$16:$J$2822,MATCH(ROWS($J$16:J574),$N$16:$N$2822,0)),\"\")","v":""}]
["08","08","03","2","080803","Gmina wiejska","LUBUSKIE","świebodziński","SKĄPE","SKĄPE - Gmina wiejska / Powiat świebodziński / Województwo  - LUBUSKIE / 080803 / ",17436955,19451800,{"$f":"ISNUMBER(SEARCH(Wyszukiwarka!$A$1,'Porównanie dochodów JST'!J575))","v":false},{"$f":"IF(M575,COUNTIF($M$16:M575,TRUE),\"\")","v":""},{"$f":"IFERROR(INDEX($J$16:$J$2822,MATCH(ROWS($J$16:J575),$N$16:$N$2822,0)),\"\")","v":""}]
["08","08","04","2","080804","Gmina wiejska","LUBUSKIE","świebodziński","SZCZANIEC","SZCZANIEC - Gmina wiejska / Powiat świebodziński / Województwo  - LUBUSKIE / 080804 / ",13890818,15257226.798095107,{"$f":"ISNUMBER(SEARCH(Wyszukiwarka!$A$1,'Porównanie dochodów JST'!J576))","v":false},{"$f":"IF(M576,COUNTIF($M$16:M576,TRUE),\"\")","v":""},{"$f":"IFERROR(INDEX($J$16:$J$2822,MATCH(ROWS($J$16:J576),$N$16:$N$2822,0)),\"\")","v":""}]
["08","08","05","3","080805","Gmina miejsko-wiejska","LUBUSKIE","świebodziński","ŚWIEBODZIN","ŚWIEBODZIN - Gmina miejsko-wiejska / Powiat świebodziński / Województwo  - LUBUSKIE / 080805 / ",83771411,96761771.679999992,{"$f":"ISNUMBER(SEARCH(Wyszukiwarka!$A$1,'Porównanie dochodów JST'!J577))","v":false},{"$f":"IF(M577,COUNTIF($M$16:M577,TRUE),\"\")","v":""},{"$f":"IFERROR(INDEX($J$16:$J$2822,MATCH(ROWS($J$16:J577),$N$16:$N$2822,0)),\"\")","v":""}]
["08","08","06","3","080806","Gmina miejsko-wiejska","LUBUSKIE","świebodziński","ZBĄSZYNEK","ZBĄSZYNEK - Gmina miejsko-wiejska / Powiat świebodziński / Województwo  - LUBUSKIE / 080806 / ",36366920,39617053,{"$f":"ISNUMBER(SEARCH(Wyszukiwarka!$A$1,'Porównanie dochodów JST'!J578))","v":false},{"$f":"IF(M578,COUNTIF($M$16:M578,TRUE),\"\")","v":""},{"$f":"IFERROR(INDEX($J$16:$J$2822,MATCH(ROWS($J$16:J578),$N$16:$N$2822,0)),\"\")","v":""}]
["08","09","01","3","080901","Gmina miejsko-wiejska","LUBUSKIE","zielonogórski","BABIMOST","BABIMOST - Gmina miejsko-wiejska / Powiat zielonogórski / Województwo  - LUBUSKIE / 080901 / ",20694264,23240551,{"$f":"ISNUMBER(SEARCH(Wyszukiwarka!$A$1,'Porównanie dochodów JST'!J579))","v":false},{"$f":"IF(M579,COUNTIF($M$16:M579,TRUE),\"\")","v":""},{"$f":"IFERROR(INDEX($J$16:$J$2822,MATCH(ROWS($J$16:J579),$N$16:$N$2822,0)),\"\")","v":""}]
["08","09","02","2","080902","Gmina wiejska","LUBUSKIE","zielonogórski","BOJADŁA","BOJADŁA - Gmina wiejska / Powiat zielonogórski / Województwo  - LUBUSKIE / 080902 / ",11419425,12736501.969999999,{"$f":"ISNUMBER(SEARCH(Wyszukiwarka!$A$1,'Porównanie dochodów JST'!J580))","v":false},{"$f":"IF(M580,COUNTIF($M$16:M580,TRUE),\"\")","v":""},{"$f":"IFERROR(INDEX($J$16:$J$2822,MATCH(ROWS($J$16:J580),$N$16:$N$2822,0)),\"\")","v":""}]
["08","09","03","3","080903","Gmina miejsko-wiejska","LUBUSKIE","zielonogórski","CZERWIEŃSK","CZERWIEŃSK - Gmina miejsko-wiejska / Powiat zielonogórski / Województwo  - LUBUSKIE / 080903 / ",40830418,44865418,{"$f":"ISNUMBER(SEARCH(Wyszukiwarka!$A$1,'Porównanie dochodów JST'!J581))","v":false},{"$f":"IF(M581,COUNTIF($M$16:M581,TRUE),\"\")","v":""},{"$f":"IFERROR(INDEX($J$16:$J$2822,MATCH(ROWS($J$16:J581),$N$16:$N$2822,0)),\"\")","v":""}]
["08","09","04","3","080904","Gmina miejsko-wiejska","LUBUSKIE","zielonogórski","KARGOWA","KARGOWA - Gmina miejsko-wiejska / Powiat zielonogórski / Województwo  - LUBUSKIE / 080904 / ",22101766,24299524,{"$f":"ISNUMBER(SEARCH(Wyszukiwarka!$A$1,'Porównanie dochodów JST'!J582))","v":false},{"$f":"IF(M582,COUNTIF($M$16:M582,TRUE),\"\")","v":""},{"$f":"IFERROR(INDEX($J$16:$J$2822,MATCH(ROWS($J$16:J582),$N$16:$N$2822,0)),\"\")","v":""}]
["08","09","05","3","080905","Gmina miejsko-wiejska","LUBUSKIE","zielonogórski","NOWOGRÓD BOBRZAŃSKI","NOWOGRÓD BOBRZAŃSKI - Gmina miejsko-wiejska / Powiat zielonogórski / Województwo  - LUBUSKIE / 080905 / ",30862237,34257869.632243797,{"$f":"ISNUMBER(SEARCH(Wyszukiwarka!$A$1,'Porównanie dochodów JST'!J583))","v":false},{"$f":"IF(M583,COUNTIF($M$16:M583,TRUE),\"\")","v":""},{"$f":"IFERROR(INDEX($J$16:$J$2822,MATCH(ROWS($J$16:J583),$N$16:$N$2822,0)),\"\")","v":""}]
["08","09","06","3","080906","Gmina miejsko-wiejska","LUBUSKIE","zielonogórski","SULECHÓW","SULECHÓW - Gmina miejsko-wiejska / Powiat zielonogórski / Województwo  - LUBUSKIE / 080906 / ",77201977,89194680.959999993,{"$f":"ISNUMBER(SEARCH(Wyszukiwarka!$A$1,'Porównanie dochodów JST'!J584))","v":false},{"$f":"IF(M584,COUNTIF($M$16:M584,TRUE),\"\")","v":""},{"$f":"IFERROR(INDEX($J$16:$J$2822,MATCH(ROWS($J$16:J584),$N$16:$N$2822,0)),\"\")","v":""}]
["08","09","07","2","080907","Gmina wiejska","LUBUSKIE","zielonogórski","ŚWIDNICA","ŚWIDNICA - Gmina wiejska / Powiat zielonogórski / Województwo  - LUBUSKIE / 080907 / ",27003749,30317690.38493092,{"$f":"ISNUMBER(SEARCH(Wyszukiwarka!$A$1,'Porównanie dochodów JST'!J585))","v":false},{"$f":"IF(M585,COUNTIF($M$16:M585,TRUE),\"\")","v":""},{"$f":"IFERROR(INDEX($J$16:$J$2822,MATCH(ROWS($J$16:J585),$N$16:$N$2822,0)),\"\")","v":""}]
["08","09","08","2","080908","Gmina wiejska","LUBUSKIE","zielonogórski","TRZEBIECHÓW","TRZEBIECHÓW - Gmina wiejska / Powiat zielonogórski / Województwo  - LUBUSKIE / 080908 / ",10397276,11710063.59,{"$f":"ISNUMBER(SEARCH(Wyszukiwarka!$A$1,'Porównanie dochodów JST'!J586))","v":false},{"$f":"IF(M586,COUNTIF($M$16:M586,TRUE),\"\")","v":""},{"$f":"IFERROR(INDEX($J$16:$J$2822,MATCH(ROWS($J$16:J586),$N$16:$N$2822,0)),\"\")","v":""}]
["08","09","09","2","080909","Gmina wiejska","LUBUSKIE","zielonogórski","ZABÓR","ZABÓR - Gmina wiejska / Powiat zielonogórski / Województwo  - LUBUSKIE / 080909 / ",15759595,17757000.792500004,{"$f":"ISNUMBER(SEARCH(Wyszukiwarka!$A$1,'Porównanie dochodów JST'!J587))","v":false},{"$f":"IF(M587,COUNTIF($M$16:M587,TRUE),\"\")","v":""},{"$f":"IFERROR(INDEX($J$16:$J$2822,MATCH(ROWS($J$16:J587),$N$16:$N$2822,0)),\"\")","v":""}]
["08","10","01","1","081001","Gmina miejska","LUBUSKIE","żagański","GOZDNICA","GOZDNICA - Gmina miejska / Powiat żagański / Województwo  - LUBUSKIE / 081001 / ",8695722,10013309.600000001,{"$f":"ISNUMBER(SEARCH(Wyszukiwarka!$A$1,'Porównanie dochodów JST'!J588))","v":false},{"$f":"IF(M588,COUNTIF($M$16:M588,TRUE),\"\")","v":""},{"$f":"IFERROR(INDEX($J$16:$J$2822,MATCH(ROWS($J$16:J588),$N$16:$N$2822,0)),\"\")","v":""}]
["08","10","02","1","081002","Gmina miejska","LUBUSKIE","żagański","ŻAGAŃ","ŻAGAŃ - Gmina miejska / Powiat żagański / Województwo  - LUBUSKIE / 081002 / ",73275145,81446422.635200024,{"$f":"ISNUMBER(SEARCH(Wyszukiwarka!$A$1,'Porównanie dochodów JST'!J589))","v":false},{"$f":"IF(M589,COUNTIF($M$16:M589,TRUE),\"\")","v":""},{"$f":"IFERROR(INDEX($J$16:$J$2822,MATCH(ROWS($J$16:J589),$N$16:$N$2822,0)),\"\")","v":""}]
["08","10","03","2","081003","Gmina wiejska","LUBUSKIE","żagański","BRZEŹNICA","BRZEŹNICA - Gmina wiejska / Powiat żagański / Województwo  - LUBUSKIE / 081003 / ",12235961,13578112,{"$f":"ISNUMBER(SEARCH(Wyszukiwarka!$A$1,'Porównanie dochodów JST'!J590))","v":false},{"$f":"IF(M590,COUNTIF($M$16:M590,TRUE),\"\")","v":""},{"$f":"IFERROR(INDEX($J$16:$J$2822,MATCH(ROWS($J$16:J590),$N$16:$N$2822,0)),\"\")","v":""}]
["08","10","04","3","081004","Gmina miejsko-wiejska","LUBUSKIE","żagański","IŁOWA","IŁOWA - Gmina miejsko-wiejska / Powiat żagański / Województwo  - LUBUSKIE / 081004 / ",20100006,22600550,{"$f":"ISNUMBER(SEARCH(Wyszukiwarka!$A$1,'Porównanie dochodów JST'!J591))","v":false},{"$f":"IF(M591,COUNTIF($M$16:M591,TRUE),\"\")","v":""},{"$f":"IFERROR(INDEX($J$16:$J$2822,MATCH(ROWS($J$16:J591),$N$16:$N$2822,0)),\"\")","v":""}]
["08","10","05","3","081005","Gmina miejsko-wiejska","LUBUSKIE","żagański","MAŁOMICE","MAŁOMICE - Gmina miejsko-wiejska / Powiat żagański / Województwo  - LUBUSKIE / 081005 / ",17933752,19945459.960494421,{"$f":"ISNUMBER(SEARCH(Wyszukiwarka!$A$1,'Porównanie dochodów JST'!J592))","v":false},{"$f":"IF(M592,COUNTIF($M$16:M592,TRUE),\"\")","v":""},{"$f":"IFERROR(INDEX($J$16:$J$2822,MATCH(ROWS($J$16:J592),$N$16:$N$2822,0)),\"\")","v":""}]
["08","10","06","2","081006","Gmina wiejska","LUBUSKIE","żagański","NIEGOSŁAWICE",{"$f":"I593&$H$12&F593&$G$12&$H$14&H593&$G$12&$G$14&$H$12&G593&$G$12&E593&$G$12","v":"NIEGOSŁAWICE - Gmina wiejska / Powiat żagański / Województwo  - LUBUSKIE / 081006 / "},14723398,16650133,{"$f":"ISNUMBER(SEARCH(Wyszukiwarka!$A$1,'Porównanie dochodów JST'!J593))","v":false},{"$f":"IF(M593,COUNTIF($M$16:M593,TRUE),\"\")","v":""},{"$f":"IFERROR(INDEX($J$16:$J$2822,MATCH(ROWS($J$16:J593),$N$16:$N$2822,0)),\"\")","v":""}]
["08","10","07","3","081007","Gmina miejsko-wiejska","LUBUSKIE","żagański","SZPROTAWA","SZPROTAWA - Gmina miejsko-wiejska / Powiat żagański / Województwo  - LUBUSKIE / 081007 / ",64313615,69616917,{"$f":"ISNUMBER(SEARCH(Wyszukiwarka!$A$1,'Porównanie dochodów JST'!J594))","v":false},{"$f":"IF(M594,COUNTIF($M$16:M594,TRUE),\"\")","v":""},{"$f":"IFERROR(INDEX($J$16:$J$2822,MATCH(ROWS($J$16:J594),$N$16:$N$2822,0)),\"\")","v":""}]
["08","10","08","2","081008","Gmina wiejska","LUBUSKIE","żagański","WYMIARKI","WYMIARKI - Gmina wiejska / Powiat żagański / Województwo  - LUBUSKIE / 081008 / ",7673344,8674286.5,{"$f":"ISNUMBER(SEARCH(Wyszukiwarka!$A$1,'Porównanie dochodów JST'!J595))","v":false},{"$f":"IF(M595,COUNTIF($M$16:M595,TRUE),\"\")","v":""},{"$f":"IFERROR(INDEX($J$16:$J$2822,MATCH(ROWS($J$16:J595),$N$16:$N$2822,0)),\"\")","v":""}]
["08","10","09","2","081009","Gmina wiejska","LUBUSKIE","żagański","ŻAGAŃ","ŻAGAŃ - Gmina wiejska / Powiat żagański / Województwo  - LUBUSKIE / 081009 / ",20679821,23400130,{"$f":"ISNUMBER(SEARCH(Wyszukiwarka!$A$1,'Porównanie dochodów JST'!J596))","v":false},{"$f":"IF(M596,COUNTIF($M$16:M596,TRUE),\"\")","v":""},{"$f":"IFERROR(INDEX($J$16:$J$2822,MATCH(ROWS($J$16:J596),$N$16:$N$2822,0)),\"\")","v":""}]
["08","11","01","1","081101","Gmina miejska","LUBUSKIE","żarski","ŁĘKNICA","ŁĘKNICA - Gmina miejska / Powiat żarski / Województwo  - LUBUSKIE / 081101 / ",8055388,9239983.1999999993,{"$f":"ISNUMBER(SEARCH(Wyszukiwarka!$A$1,'Porównanie dochodów JST'!J597))","v":false},{"$f":"IF(M597,COUNTIF($M$16:M597,TRUE),\"\")","v":""},{"$f":"IFERROR(INDEX($J$16:$J$2822,MATCH(ROWS($J$16:J597),$N$16:$N$2822,0)),\"\")","v":""}]
["08","11","02","1","081102","Gmina miejska","LUBUSKIE","żarski","ŻARY","ŻARY - Gmina miejska / Powiat żarski / Województwo  - LUBUSKIE / 081102 / ",109969599,127200743.03999999,{"$f":"ISNUMBER(SEARCH(Wyszukiwarka!$A$1,'Porównanie dochodów JST'!J598))","v":false},{"$f":"IF(M598,COUNTIF($M$16:M598,TRUE),\"\")","v":""},{"$f":"IFERROR(INDEX($J$16:$J$2822,MATCH(ROWS($J$16:J598),$N$16:$N$2822,0)),\"\")","v":""}]
["08","11","03","2","081103","Gmina wiejska","LUBUSKIE","żarski","BRODY","BRODY - Gmina wiejska / Powiat żarski / Województwo  - LUBUSKIE / 081103 / ",10729800,12196040.115,{"$f":"ISNUMBER(SEARCH(Wyszukiwarka!$A$1,'Porównanie dochodów JST'!J599))","v":false},{"$f":"IF(M599,COUNTIF($M$16:M599,TRUE),\"\")","v":""},{"$f":"IFERROR(INDEX($J$16:$J$2822,MATCH(ROWS($J$16:J599),$N$16:$N$2822,0)),\"\")","v":""}]
["08","11","04","3","081104","Gmina miejsko-wiejska","LUBUSKIE","żarski","JASIEŃ","JASIEŃ - Gmina miejsko-wiejska / Powiat żarski / Województwo  - LUBUSKIE / 081104 / ",19562731,22221480.801199999,{"$f":"ISNUMBER(SEARCH(Wyszukiwarka!$A$1,'Porównanie dochodów JST'!J600))","v":false},{"$f":"IF(M600,COUNTIF($M$16:M600,TRUE),\"\")","v":""},{"$f":"IFERROR(INDEX($J$16:$J$2822,MATCH(ROWS($J$16:J600),$N$16:$N$2822,0)),\"\")","v":""}]
["08","11","05","2","081105","Gmina wiejska","LUBUSKIE","żarski","LIPINKI ŁUŻYCKIE","LIPINKI ŁUŻYCKIE - Gmina wiejska / Powiat żarski / Województwo  - LUBUSKIE / 081105 / ",13571348,14901926.51,{"$f":"ISNUMBER(SEARCH(Wyszukiwarka!$A$1,'Porównanie dochodów JST'!J601))","v":false},{"$f":"IF(M601,COUNTIF($M$16:M601,TRUE),\"\")","v":""},{"$f":"IFERROR(INDEX($J$16:$J$2822,MATCH(ROWS($J$16:J601),$N$16:$N$2822,0)),\"\")","v":""}]
["08","11","06","3","081106","Gmina miejsko-wiejska","LUBUSKIE","żarski","LUBSKO","LUBSKO - Gmina miejsko-wiejska / Powiat żarski / Województwo  - LUBUSKIE / 081106 / ",56202306,64149015.216368712,{"$f":"ISNUMBER(SEARCH(Wyszukiwarka!$A$1,'Porównanie dochodów JST'!J602))","v":false},{"$f":"IF(M602,COUNTIF($M$16:M602,TRUE),\"\")","v":""},{"$f":"IFERROR(INDEX($J$16:$J$2822,MATCH(ROWS($J$16:J602),$N$16:$N$2822,0)),\"\")","v":""}]
["08","11","07","2","081107","Gmina wiejska","LUBUSKIE","żarski","PRZEWÓZ","PRZEWÓZ - Gmina wiejska / Powiat żarski / Województwo  - LUBUSKIE / 081107 / ",10286437,11590093,{"$f":"ISNUMBER(SEARCH(Wyszukiwarka!$A$1,'Porównanie dochodów JST'!J603))","v":false},{"$f":"IF(M603,COUNTIF($M$16:M603,TRUE),\"\")","v":""},{"$f":"IFERROR(INDEX($J$16:$J$2822,MATCH(ROWS($J$16:J603),$N$16:$N$2822,0)),\"\")","v":""}]
["08","11","08","2","081108","Gmina wiejska","LUBUSKIE","żarski","TRZEBIEL","TRZEBIEL - Gmina wiejska / Powiat żarski / Województwo  - LUBUSKIE / 081108 / ",21211099,24382357.439999998,{"$f":"ISNUMBER(SEARCH(Wyszukiwarka!$A$1,'Porównanie dochodów JST'!J604))","v":false},{"$f":"IF(M604,COUNTIF($M$16:M604,TRUE),\"\")","v":""},{"$f":"IFERROR(INDEX($J$16:$J$2822,MATCH(ROWS($J$16:J604),$N$16:$N$2822,0)),\"\")","v":""}]
["08","11","09","2","081109","Gmina wiejska","LUBUSKIE","żarski","TUPLICE","TUPLICE - Gmina wiejska / Powiat żarski / Województwo  - LUBUSKIE / 081109 / ",10836368,12123636,{"$f":"ISNUMBER(SEARCH(Wyszukiwarka!$A$1,'Porównanie dochodów JST'!J605))","v":false},{"$f":"IF(M605,COUNTIF($M$16:M605,TRUE),\"\")","v":""},{"$f":"IFERROR(INDEX($J$16:$J$2822,MATCH(ROWS($J$16:J605),$N$16:$N$2822,0)),\"\")","v":""}]
["08","11","10","2","081110","Gmina wiejska","LUBUSKIE","żarski","ŻARY","ŻARY - Gmina wiejska / Powiat żarski / Województwo  - LUBUSKIE / 081110 / ",39880314,44178995,{"$f":"ISNUMBER(SEARCH(Wyszukiwarka!$A$1,'Porównanie dochodów JST'!J606))","v":false},{"$f":"IF(M606,COUNTIF($M$16:M606,TRUE),\"\")","v":""},{"$f":"IFERROR(INDEX($J$16:$J$2822,MATCH(ROWS($J$16:J606),$N$16:$N$2822,0)),\"\")","v":""}]
["08","12","01","3","081201","Gmina miejsko-wiejska","LUBUSKIE","wschowski","SŁAWA","SŁAWA - Gmina miejsko-wiejska / Powiat wschowski / Województwo  - LUBUSKIE / 081201 / ",46822423,51106644,{"$f":"ISNUMBER(SEARCH(Wyszukiwarka!$A$1,'Porównanie dochodów JST'!J607))","v":false},{"$f":"IF(M607,COUNTIF($M$16:M607,TRUE),\"\")","v":""},{"$f":"IFERROR(INDEX($J$16:$J$2822,MATCH(ROWS($J$16:J607),$N$16:$N$2822,0)),\"\")","v":""}]
["08","12","02","3","081202","Gmina miejsko-wiejska","LUBUSKIE","wschowski","SZLICHTYNGOWA","SZLICHTYNGOWA - Gmina miejsko-wiejska / Powiat wschowski / Województwo  - LUBUSKIE / 081202 / ",17115740,19090439.961682953,{"$f":"ISNUMBER(SEARCH(Wyszukiwarka!$A$1,'Porównanie dochodów JST'!J608))","v":false},{"$f":"IF(M608,COUNTIF($M$16:M608,TRUE),\"\")","v":""},{"$f":"IFERROR(INDEX($J$16:$J$2822,MATCH(ROWS($J$16:J608),$N$16:$N$2822,0)),\"\")","v":""}]
["08","12","03","3","081203","Gmina miejsko-wiejska","LUBUSKIE","wschowski","WSCHOWA","WSCHOWA - Gmina miejsko-wiejska / Powiat wschowski / Województwo  - LUBUSKIE / 081203 / ",65252081,72262828.153540522,{"$f":"ISNUMBER(SEARCH(Wyszukiwarka!$A$1,'Porównanie dochodów JST'!J609))","v":false},{"$f":"IF(M609,COUNTIF($M$16:M609,TRUE),\"\")","v":""},{"$f":"IFERROR(INDEX($J$16:$J$2822,MATCH(ROWS($J$16:J609),$N$16:$N$2822,0)),\"\")","v":""}]
["10","01","01","1","100101","Gmina miejska","ŁÓDZKIE","bełchatowski","BEŁCHATÓW","BEŁCHATÓW - Gmina miejska / Powiat bełchatowski / Województwo  - ŁÓDZKIE / 100101 / ",204323396,236087942.71999997,{"$f":"ISNUMBER(SEARCH(Wyszukiwarka!$A$1,'Porównanie dochodów JST'!J610))","v":false},{"$f":"IF(M610,COUNTIF($M$16:M610,TRUE),\"\")","v":""},{"$f":"IFERROR(INDEX($J$16:$J$2822,MATCH(ROWS($J$16:J610),$N$16:$N$2822,0)),\"\")","v":""}]
["10","01","02","2","100102","Gmina wiejska","ŁÓDZKIE","bełchatowski","BEŁCHATÓW","BEŁCHATÓW - Gmina wiejska / Powiat bełchatowski / Województwo  - ŁÓDZKIE / 100102 / ",34967225,39982629,{"$f":"ISNUMBER(SEARCH(Wyszukiwarka!$A$1,'Porównanie dochodów JST'!J611))","v":false},{"$f":"IF(M611,COUNTIF($M$16:M611,TRUE),\"\")","v":""},{"$f":"IFERROR(INDEX($J$16:$J$2822,MATCH(ROWS($J$16:J611),$N$16:$N$2822,0)),\"\")","v":""}]
["10","01","03","2","100103","Gmina wiejska","ŁÓDZKIE","bełchatowski","DRUŻBICE","DRUŻBICE - Gmina wiejska / Powiat bełchatowski / Województwo  - ŁÓDZKIE / 100103 / ",21389601,23416713,{"$f":"ISNUMBER(SEARCH(Wyszukiwarka!$A$1,'Porównanie dochodów JST'!J612))","v":false},{"$f":"IF(M612,COUNTIF($M$16:M612,TRUE),\"\")","v":""},{"$f":"IFERROR(INDEX($J$16:$J$2822,MATCH(ROWS($J$16:J612),$N$16:$N$2822,0)),\"\")","v":""}]
["10","01","04","2","100104","Gmina wiejska","ŁÓDZKIE","bełchatowski","KLESZCZÓW","KLESZCZÓW - Gmina wiejska / Powiat bełchatowski / Województwo  - ŁÓDZKIE / 100104 / ",21875038,26953348.800000001,{"$f":"ISNUMBER(SEARCH(Wyszukiwarka!$A$1,'Porównanie dochodów JST'!J613))","v":false},{"$f":"IF(M613,COUNTIF($M$16:M613,TRUE),\"\")","v":""},{"$f":"IFERROR(INDEX($J$16:$J$2822,MATCH(ROWS($J$16:J613),$N$16:$N$2822,0)),\"\")","v":""}]
["10","01","05","2","100105","Gmina wiejska","ŁÓDZKIE","bełchatowski","KLUKI","KLUKI - Gmina wiejska / Powiat bełchatowski / Województwo  - ŁÓDZKIE / 100105 / ",15855680,17801682.6723,{"$f":"ISNUMBER(SEARCH(Wyszukiwarka!$A$1,'Porównanie dochodów JST'!J614))","v":false},{"$f":"IF(M614,COUNTIF($M$16:M614,TRUE),\"\")","v":""},{"$f":"IFERROR(INDEX($J$16:$J$2822,MATCH(ROWS($J$16:J614),$N$16:$N$2822,0)),\"\")","v":""}]
["10","01","06","2","100106","Gmina wiejska","ŁÓDZKIE","bełchatowski","RUSIEC","RUSIEC - Gmina wiejska / Powiat bełchatowski / Województwo  - ŁÓDZKIE / 100106 / ",17982984,19975901,{"$f":"ISNUMBER(SEARCH(Wyszukiwarka!$A$1,'Porównanie dochodów JST'!J615))","v":false},{"$f":"IF(M615,COUNTIF($M$16:M615,TRUE),\"\")","v":""},{"$f":"IFERROR(INDEX($J$16:$J$2822,MATCH(ROWS($J$16:J615),$N$16:$N$2822,0)),\"\")","v":""}]
["10","01","07","2","100107","Gmina wiejska","ŁÓDZKIE","bełchatowski","SZCZERCÓW","SZCZERCÓW - Gmina wiejska / Powiat bełchatowski / Województwo  - ŁÓDZKIE / 100107 / ",33470267,37129516.871701002,{"$f":"ISNUMBER(SEARCH(Wyszukiwarka!$A$1,'Porównanie dochodów JST'!J616))","v":false},{"$f":"IF(M616,COUNTIF($M$16:M616,TRUE),\"\")","v":""},{"$f":"IFERROR(INDEX($J$16:$J$2822,MATCH(ROWS($J$16:J616),$N$16:$N$2822,0)),\"\")","v":""}]
["10","01","08","3","100108","Gmina miejsko-wiejska","ŁÓDZKIE","bełchatowski","ZELÓW","ZELÓW - Gmina miejsko-wiejska / Powiat bełchatowski / Województwo  - ŁÓDZKIE / 100108 / ",51169830,58826461.120000005,{"$f":"ISNUMBER(SEARCH(Wyszukiwarka!$A$1,'Porównanie dochodów JST'!J617))","v":false},{"$f":"IF(M617,COUNTIF($M$16:M617,TRUE),\"\")","v":""},{"$f":"IFERROR(INDEX($J$16:$J$2822,MATCH(ROWS($J$16:J617),$N$16:$N$2822,0)),\"\")","v":""}]
["10","02","01","1","100201","Gmina miejska","ŁÓDZKIE","kutnowski","KUTNO","KUTNO - Gmina miejska / Powiat kutnowski / Województwo  - ŁÓDZKIE / 100201 / ",128348556,148367897.44,{"$f":"ISNUMBER(SEARCH(Wyszukiwarka!$A$1,'Porównanie dochodów JST'!J618))","v":false},{"$f":"IF(M618,COUNTIF($M$16:M618,TRUE),\"\")","v":""},{"$f":"IFERROR(INDEX($J$16:$J$2822,MATCH(ROWS($J$16:J618),$N$16:$N$2822,0)),\"\")","v":""}]
["10","02","02","2","100202","Gmina wiejska","ŁÓDZKIE","kutnowski","BEDLNO","BEDLNO - Gmina wiejska / Powiat kutnowski / Województwo  - ŁÓDZKIE / 100202 / ",19957353,21972818.853269018,{"$f":"ISNUMBER(SEARCH(Wyszukiwarka!$A$1,'Porównanie dochodów JST'!J619))","v":false},{"$f":"IF(M619,COUNTIF($M$16:M619,TRUE),\"\")","v":""},{"$f":"IFERROR(INDEX($J$16:$J$2822,MATCH(ROWS($J$16:J619),$N$16:$N$2822,0)),\"\")","v":""}]
["10","02","03","2","100203","Gmina wiejska","ŁÓDZKIE","kutnowski","DĄBROWICE","DĄBROWICE - Gmina wiejska / Powiat kutnowski / Województwo  - ŁÓDZKIE / 100203 / ",5776741,6544909.8000000007,{"$f":"ISNUMBER(SEARCH(Wyszukiwarka!$A$1,'Porównanie dochodów JST'!J620))","v":false},{"$f":"IF(M620,COUNTIF($M$16:M620,TRUE),\"\")","v":""},{"$f":"IFERROR(INDEX($J$16:$J$2822,MATCH(ROWS($J$16:J620),$N$16:$N$2822,0)),\"\")","v":""}]
["10","02","04","3","100204","Gmina miejsko-wiejska","ŁÓDZKIE","kutnowski","KROŚNIEWICE","KROŚNIEWICE - Gmina miejsko-wiejska / Powiat kutnowski / Województwo  - ŁÓDZKIE / 100204 / ",28646253,31375526,{"$f":"ISNUMBER(SEARCH(Wyszukiwarka!$A$1,'Porównanie dochodów JST'!J621))","v":false},{"$f":"IF(M621,COUNTIF($M$16:M621,TRUE),\"\")","v":""},{"$f":"IFERROR(INDEX($J$16:$J$2822,MATCH(ROWS($J$16:J621),$N$16:$N$2822,0)),\"\")","v":""}]
["10","02","05","2","100205","Gmina wiejska","ŁÓDZKIE","kutnowski","KRZYŻANÓW","KRZYŻANÓW - Gmina wiejska / Powiat kutnowski / Województwo  - ŁÓDZKIE / 100205 / ",12655015,14339021.24672414,{"$f":"ISNUMBER(SEARCH(Wyszukiwarka!$A$1,'Porównanie dochodów JST'!J622))","v":false},{"$f":"IF(M622,COUNTIF($M$16:M622,TRUE),\"\")","v":""},{"$f":"IFERROR(INDEX($J$16:$J$2822,MATCH(ROWS($J$16:J622),$N$16:$N$2822,0)),\"\")","v":""}]
["10","02","06","2","100206","Gmina wiejska","ŁÓDZKIE","kutnowski","KUTNO","KUTNO - Gmina wiejska / Powiat kutnowski / Województwo  - ŁÓDZKIE / 100206 / ",31236564,34646231.875799999,{"$f":"ISNUMBER(SEARCH(Wyszukiwarka!$A$1,'Porównanie dochodów JST'!J623))","v":false},{"$f":"IF(M623,COUNTIF($M$16:M623,TRUE),\"\")","v":""},{"$f":"IFERROR(INDEX($J$16:$J$2822,MATCH(ROWS($J$16:J623),$N$16:$N$2822,0)),\"\")","v":""}]
["10","02","07","2","100207","Gmina wiejska","ŁÓDZKIE","kutnowski","ŁANIĘTA","ŁANIĘTA - Gmina wiejska / Powiat kutnowski / Województwo  - ŁÓDZKIE / 100207 / ",8334093,9403094.8000000007,{"$f":"ISNUMBER(SEARCH(Wyszukiwarka!$A$1,'Porównanie dochodów JST'!J624))","v":false},{"$f":"IF(M624,COUNTIF($M$16:M624,TRUE),\"\")","v":""},{"$f":"IFERROR(INDEX($J$16:$J$2822,MATCH(ROWS($J$16:J624),$N$16:$N$2822,0)),\"\")","v":""}]
["10","02","08","2","100208","Gmina wiejska","ŁÓDZKIE","kutnowski","NOWE OSTROWY","NOWE OSTROWY - Gmina wiejska / Powiat kutnowski / Województwo  - ŁÓDZKIE / 100208 / ",12968170,14875791.84,{"$f":"ISNUMBER(SEARCH(Wyszukiwarka!$A$1,'Porównanie dochodów JST'!J625))","v":false},{"$f":"IF(M625,COUNTIF($M$16:M625,TRUE),\"\")","v":""},{"$f":"IFERROR(INDEX($J$16:$J$2822,MATCH(ROWS($J$16:J625),$N$16:$N$2822,0)),\"\")","v":""}]
["10","02","09","2","100209","Gmina wiejska","ŁÓDZKIE","kutnowski","OPORÓW","OPORÓW - Gmina wiejska / Powiat kutnowski / Województwo  - ŁÓDZKIE / 100209 / ",9812590,11048509.6,{"$f":"ISNUMBER(SEARCH(Wyszukiwarka!$A$1,'Porównanie dochodów JST'!J626))","v":false},{"$f":"IF(M626,COUNTIF($M$16:M626,TRUE),\"\")","v":""},{"$f":"IFERROR(INDEX($J$16:$J$2822,MATCH(ROWS($J$16:J626),$N$16:$N$2822,0)),\"\")","v":""}]
["10","02","10","2","100210","Gmina wiejska","ŁÓDZKIE","kutnowski","STRZELCE","STRZELCE - Gmina wiejska / Powiat kutnowski / Województwo  - ŁÓDZKIE / 100210 / ",12895132,14264723.574807303,{"$f":"ISNUMBER(SEARCH(Wyszukiwarka!$A$1,'Porównanie dochodów JST'!J627))","v":false},{"$f":"IF(M627,COUNTIF($M$16:M627,TRUE),\"\")","v":""},{"$f":"IFERROR(INDEX($J$16:$J$2822,MATCH(ROWS($J$16:J627),$N$16:$N$2822,0)),\"\")","v":""}]
["10","02","11","3","100211","Gmina miejsko-wiejska","ŁÓDZKIE","kutnowski","ŻYCHLIN","ŻYCHLIN - Gmina miejsko-wiejska / Powiat kutnowski / Województwo  - ŁÓDZKIE / 100211 / ",33188165,37176058,{"$f":"ISNUMBER(SEARCH(Wyszukiwarka!$A$1,'Porównanie dochodów JST'!J628))","v":false},{"$f":"IF(M628,COUNTIF($M$16:M628,TRUE),\"\")","v":""},{"$f":"IFERROR(INDEX($J$16:$J$2822,MATCH(ROWS($J$16:J628),$N$16:$N$2822,0)),\"\")","v":""}]
["10","03","01","2","100301","Gmina wiejska","ŁÓDZKIE","łaski","BUCZEK","BUCZEK - Gmina wiejska / Powiat łaski / Województwo  - ŁÓDZKIE / 100301 / ",17712011,19638683.789330475,{"$f":"ISNUMBER(SEARCH(Wyszukiwarka!$A$1,'Porównanie dochodów JST'!J629))","v":false},{"$f":"IF(M629,COUNTIF($M$16:M629,TRUE),\"\")","v":""},{"$f":"IFERROR(INDEX($J$16:$J$2822,MATCH(ROWS($J$16:J629),$N$16:$N$2822,0)),\"\")","v":""}]
["10","03","02","3","100302","Gmina miejsko-wiejska","ŁÓDZKIE","łaski","ŁASK","ŁASK - Gmina miejsko-wiejska / Powiat łaski / Województwo  - ŁÓDZKIE / 100302 / ",87221826,93719505,{"$f":"ISNUMBER(SEARCH(Wyszukiwarka!$A$1,'Porównanie dochodów JST'!J630))","v":false},{"$f":"IF(M630,COUNTIF($M$16:M630,TRUE),\"\")","v":""},{"$f":"IFERROR(INDEX($J$16:$J$2822,MATCH(ROWS($J$16:J630),$N$16:$N$2822,0)),\"\")","v":""}]
["10","03","03","2","100303","Gmina wiejska","ŁÓDZKIE","łaski","SĘDZIEJOWICE","SĘDZIEJOWICE - Gmina wiejska / Powiat łaski / Województwo  - ŁÓDZKIE / 100303 / ",23485425,26107460.658448882,{"$f":"ISNUMBER(SEARCH(Wyszukiwarka!$A$1,'Porównanie dochodów JST'!J631))","v":false},{"$f":"IF(M631,COUNTIF($M$16:M631,TRUE),\"\")","v":""},{"$f":"IFERROR(INDEX($J$16:$J$2822,MATCH(ROWS($J$16:J631),$N$16:$N$2822,0)),\"\")","v":""}]
["10","03","04","2","100304","Gmina wiejska","ŁÓDZKIE","łaski","WIDAWA","WIDAWA - Gmina wiejska / Powiat łaski / Województwo  - ŁÓDZKIE / 100304 / ",27201226,29910352,{"$f":"ISNUMBER(SEARCH(Wyszukiwarka!$A$1,'Porównanie dochodów JST'!J632))","v":false},{"$f":"IF(M632,COUNTIF($M$16:M632,TRUE),\"\")","v":""},{"$f":"IFERROR(INDEX($J$16:$J$2822,MATCH(ROWS($J$16:J632),$N$16:$N$2822,0)),\"\")","v":""}]
["10","03","05","2","100305","Gmina wiejska","ŁÓDZKIE","łaski","WODZIERADY","WODZIERADY - Gmina wiejska / Powiat łaski / Województwo  - ŁÓDZKIE / 100305 / ",13901074,15285143,{"$f":"ISNUMBER(SEARCH(Wyszukiwarka!$A$1,'Porównanie dochodów JST'!J633))","v":false},{"$f":"IF(M633,COUNTIF($M$16:M633,TRUE),\"\")","v":""},{"$f":"IFERROR(INDEX($J$16:$J$2822,MATCH(ROWS($J$16:J633),$N$16:$N$2822,0)),\"\")","v":""}]
["10","04","01","1","100401","Gmina miejska","ŁÓDZKIE","łęczycki","ŁĘCZYCA","ŁĘCZYCA - Gmina miejska / Powiat łęczycki / Województwo  - ŁÓDZKIE / 100401 / ",39625772,45796235.519999996,{"$f":"ISNUMBER(SEARCH(Wyszukiwarka!$A$1,'Porównanie dochodów JST'!J634))","v":false},{"$f":"IF(M634,COUNTIF($M$16:M634,TRUE),\"\")","v":""},{"$f":"IFERROR(INDEX($J$16:$J$2822,MATCH(ROWS($J$16:J634),$N$16:$N$2822,0)),\"\")","v":""}]
["10","04","02","2","100402","Gmina wiejska","ŁÓDZKIE","łęczycki","DASZYNA","DASZYNA - Gmina wiejska / Powiat łęczycki / Województwo  - ŁÓDZKIE / 100402 / ",9625605,11171083.84,{"$f":"ISNUMBER(SEARCH(Wyszukiwarka!$A$1,'Porównanie dochodów JST'!J635))","v":false},{"$f":"IF(M635,COUNTIF($M$16:M635,TRUE),\"\")","v":""},{"$f":"IFERROR(INDEX($J$16:$J$2822,MATCH(ROWS($J$16:J635),$N$16:$N$2822,0)),\"\")","v":""}]
["10","04","03","2","100403","Gmina wiejska","ŁÓDZKIE","łęczycki","GÓRA ŚW. MAŁGORZATY","GÓRA ŚW. MAŁGORZATY - Gmina wiejska / Powiat łęczycki / Województwo  - ŁÓDZKIE / 100403 / ",15358542,17274244,{"$f":"ISNUMBER(SEARCH(Wyszukiwarka!$A$1,'Porównanie dochodów JST'!J636))","v":false},{"$f":"IF(M636,COUNTIF($M$16:M636,TRUE),\"\")","v":""},{"$f":"IFERROR(INDEX($J$16:$J$2822,MATCH(ROWS($J$16:J636),$N$16:$N$2822,0)),\"\")","v":""}]
["10","04","04","2","100404","Gmina wiejska","ŁÓDZKIE","łęczycki","GRABÓW","GRABÓW - Gmina wiejska / Powiat łęczycki / Województwo  - ŁÓDZKIE / 100404 / ",20298557,22316219.727736518,{"$f":"ISNUMBER(SEARCH(Wyszukiwarka!$A$1,'Porównanie dochodów JST'!J637))","v":false},{"$f":"IF(M637,COUNTIF($M$16:M637,TRUE),\"\")","v":""},{"$f":"IFERROR(INDEX($J$16:$J$2822,MATCH(ROWS($J$16:J637),$N$16:$N$2822,0)),\"\")","v":""}]
["10","04","05","2","100405","Gmina wiejska","ŁÓDZKIE","łęczycki","ŁĘCZYCA","ŁĘCZYCA - Gmina wiejska / Powiat łęczycki / Województwo  - ŁÓDZKIE / 100405 / ",27052961,30359720.95789082,{"$f":"ISNUMBER(SEARCH(Wyszukiwarka!$A$1,'Porównanie dochodów JST'!J638))","v":false},{"$f":"IF(M638,COUNTIF($M$16:M638,TRUE),\"\")","v":""},{"$f":"IFERROR(INDEX($J$16:$J$2822,MATCH(ROWS($J$16:J638),$N$16:$N$2822,0)),\"\")","v":""}]
["10","04","06","3","100406","Gmina miejsko-wiejska","ŁÓDZKIE","łęczycki","PIĄTEK","PIĄTEK - Gmina miejsko-wiejska / Powiat łęczycki / Województwo  - ŁÓDZKIE / 100406 / ",17320009,19246893.747132435,{"$f":"ISNUMBER(SEARCH(Wyszukiwarka!$A$1,'Porównanie dochodów JST'!J639))","v":false},{"$f":"IF(M639,COUNTIF($M$16:M639,TRUE),\"\")","v":""},{"$f":"IFERROR(INDEX($J$16:$J$2822,MATCH(ROWS($J$16:J639),$N$16:$N$2822,0)),\"\")","v":""}]
["10","04","07","2","100407","Gmina wiejska","ŁÓDZKIE","łęczycki","ŚWINICE WARCKIE","ŚWINICE WARCKIE - Gmina wiejska / Powiat łęczycki / Województwo  - ŁÓDZKIE / 100407 / ",14201402,15565663.631434701,{"$f":"ISNUMBER(SEARCH(Wyszukiwarka!$A$1,'Porównanie dochodów JST'!J640))","v":false},{"$f":"IF(M640,COUNTIF($M$16:M640,TRUE),\"\")","v":""},{"$f":"IFERROR(INDEX($J$16:$J$2822,MATCH(ROWS($J$16:J640),$N$16:$N$2822,0)),\"\")","v":""}]
["10","04","08","2","100408","Gmina wiejska","ŁÓDZKIE","łęczycki","WITONIA","WITONIA - Gmina wiejska / Powiat łęczycki / Województwo  - ŁÓDZKIE / 100408 / ",11145936,12445681,{"$f":"ISNUMBER(SEARCH(Wyszukiwarka!$A$1,'Porównanie dochodów JST'!J641))","v":false},{"$f":"IF(M641,COUNTIF($M$16:M641,TRUE),\"\")","v":""},{"$f":"IFERROR(INDEX($J$16:$J$2822,MATCH(ROWS($J$16:J641),$N$16:$N$2822,0)),\"\")","v":""}]
["10","05","01","1","100501","Gmina miejska","ŁÓDZKIE","łowicki","ŁOWICZ","ŁOWICZ - Gmina miejska / Powiat łowicki / Województwo  - ŁÓDZKIE / 100501 / ",93323993,106077557.86070001,{"$f":"ISNUMBER(SEARCH(Wyszukiwarka!$A$1,'Porównanie dochodów JST'!J642))","v":false},{"$f":"IF(M642,COUNTIF($M$16:M642,TRUE),\"\")","v":""},{"$f":"IFERROR(INDEX($J$16:$J$2822,MATCH(ROWS($J$16:J642),$N$16:$N$2822,0)),\"\")","v":""}]
["10","05","02","2","100502","Gmina wiejska","ŁÓDZKIE","łowicki","BIELAWY","BIELAWY - Gmina wiejska / Powiat łowicki / Województwo  - ŁÓDZKIE / 100502 / ",21382823,23386391,{"$f":"ISNUMBER(SEARCH(Wyszukiwarka!$A$1,'Porównanie dochodów JST'!J643))","v":false},{"$f":"IF(M643,COUNTIF($M$16:M643,TRUE),\"\")","v":""},{"$f":"IFERROR(INDEX($J$16:$J$2822,MATCH(ROWS($J$16:J643),$N$16:$N$2822,0)),\"\")","v":""}]
["10","05","03","2","100503","Gmina wiejska","ŁÓDZKIE","łowicki","CHĄŚNO","CHĄŚNO - Gmina wiejska / Powiat łowicki / Województwo  - ŁÓDZKIE / 100503 / ",10698169,11980877.879999999,{"$f":"ISNUMBER(SEARCH(Wyszukiwarka!$A$1,'Porównanie dochodów JST'!J644))","v":false},{"$f":"IF(M644,COUNTIF($M$16:M644,TRUE),\"\")","v":""},{"$f":"IFERROR(INDEX($J$16:$J$2822,MATCH(ROWS($J$16:J644),$N$16:$N$2822,0)),\"\")","v":""}]
["10","05","04","2","100504","Gmina wiejska","ŁÓDZKIE","łowicki","DOMANIEWICE","DOMANIEWICE - Gmina wiejska / Powiat łowicki / Województwo  - ŁÓDZKIE / 100504 / ",18535120,20481133.866156094,{"$f":"ISNUMBER(SEARCH(Wyszukiwarka!$A$1,'Porównanie dochodów JST'!J645))","v":false},{"$f":"IF(M645,COUNTIF($M$16:M645,TRUE),\"\")","v":""},{"$f":"IFERROR(INDEX($J$16:$J$2822,MATCH(ROWS($J$16:J645),$N$16:$N$2822,0)),\"\")","v":""}]
["10","05","05","2","100505","Gmina wiejska","ŁÓDZKIE","łowicki","KIERNOZIA","KIERNOZIA - Gmina wiejska / Powiat łowicki / Województwo  - ŁÓDZKIE / 100505 / ",12008233,13308808,{"$f":"ISNUMBER(SEARCH(Wyszukiwarka!$A$1,'Porównanie dochodów JST'!J646))","v":false},{"$f":"IF(M646,COUNTIF($M$16:M646,TRUE),\"\")","v":""},{"$f":"IFERROR(INDEX($J$16:$J$2822,MATCH(ROWS($J$16:J646),$N$16:$N$2822,0)),\"\")","v":""}]
["10","05","06","2","100506","Gmina wiejska","ŁÓDZKIE","łowicki","KOCIERZEW POŁUDNIOWY","KOCIERZEW POŁUDNIOWY - Gmina wiejska / Powiat łowicki / Województwo  - ŁÓDZKIE / 100506 / ",16921625,18310803,{"$f":"ISNUMBER(SEARCH(Wyszukiwarka!$A$1,'Porównanie dochodów JST'!J647))","v":false},{"$f":"IF(M647,COUNTIF($M$16:M647,TRUE),\"\")","v":""},{"$f":"IFERROR(INDEX($J$16:$J$2822,MATCH(ROWS($J$16:J647),$N$16:$N$2822,0)),\"\")","v":""}]
["10","05","07","2","100507","Gmina wiejska","ŁÓDZKIE","łowicki","ŁOWICZ","ŁOWICZ - Gmina wiejska / Powiat łowicki / Województwo  - ŁÓDZKIE / 100507 / ",30821127,33606682,{"$f":"ISNUMBER(SEARCH(Wyszukiwarka!$A$1,'Porównanie dochodów JST'!J648))","v":false},{"$f":"IF(M648,COUNTIF($M$16:M648,TRUE),\"\")","v":""},{"$f":"IFERROR(INDEX($J$16:$J$2822,MATCH(ROWS($J$16:J648),$N$16:$N$2822,0)),\"\")","v":""}]
["10","05","08","2","100508","Gmina wiejska","ŁÓDZKIE","łowicki","ŁYSZKOWICE","ŁYSZKOWICE - Gmina wiejska / Powiat łowicki / Województwo  - ŁÓDZKIE / 100508 / ",20663040,23294735,{"$f":"ISNUMBER(SEARCH(Wyszukiwarka!$A$1,'Porównanie dochodów JST'!J649))","v":false},{"$f":"IF(M649,COUNTIF($M$16:M649,TRUE),\"\")","v":""},{"$f":"IFERROR(INDEX($J$16:$J$2822,MATCH(ROWS($J$16:J649),$N$16:$N$2822,0)),\"\")","v":""}]
["10","05","09","2","100509","Gmina wiejska","ŁÓDZKIE","łowicki","NIEBORÓW","NIEBORÓW - Gmina wiejska / Powiat łowicki / Województwo  - ŁÓDZKIE / 100509 / ",38048808,41436461.657380387,{"$f":"ISNUMBER(SEARCH(Wyszukiwarka!$A$1,'Porównanie dochodów JST'!J650))","v":false},{"$f":"IF(M650,COUNTIF($M$16:M650,TRUE),\"\")","v":""},{"$f":"IFERROR(INDEX($J$16:$J$2822,MATCH(ROWS($J$16:J650),$N$16:$N$2822,0)),\"\")","v":""}]
["10","05","10","2","100510","Gmina wiejska","ŁÓDZKIE","łowicki","ZDUNY","ZDUNY - Gmina wiejska / Powiat łowicki / Województwo  - ŁÓDZKIE / 100510 / ",20014861,22032140.907754868,{"$f":"ISNUMBER(SEARCH(Wyszukiwarka!$A$1,'Porównanie dochodów JST'!J651))","v":false},{"$f":"IF(M651,COUNTIF($M$16:M651,TRUE),\"\")","v":""},{"$f":"IFERROR(INDEX($J$16:$J$2822,MATCH(ROWS($J$16:J651),$N$16:$N$2822,0)),\"\")","v":""}]
["10","06","02","2","100602","Gmina wiejska","ŁÓDZKIE","łódzki wschodni","ANDRESPOL","ANDRESPOL - Gmina wiejska / Powiat łódzki wschodni / Województwo  - ŁÓDZKIE / 100602 / ",62653433,67763336.747570097,{"$f":"ISNUMBER(SEARCH(Wyszukiwarka!$A$1,'Porównanie dochodów JST'!J652))","v":false},{"$f":"IF(M652,COUNTIF($M$16:M652,TRUE),\"\")","v":""},{"$f":"IFERROR(INDEX($J$16:$J$2822,MATCH(ROWS($J$16:J652),$N$16:$N$2822,0)),\"\")","v":""}]
["10","06","03","2","100603","Gmina wiejska","ŁÓDZKIE","łódzki wschodni","BRÓJCE","BRÓJCE - Gmina wiejska / Powiat łódzki wschodni / Województwo  - ŁÓDZKIE / 100603 / ",28533171,31341097,{"$f":"ISNUMBER(SEARCH(Wyszukiwarka!$A$1,'Porównanie dochodów JST'!J653))","v":false},{"$f":"IF(M653,COUNTIF($M$16:M653,TRUE),\"\")","v":""},{"$f":"IFERROR(INDEX($J$16:$J$2822,MATCH(ROWS($J$16:J653),$N$16:$N$2822,0)),\"\")","v":""}]
["10","06","07","3","100607","Gmina miejsko-wiejska","ŁÓDZKIE","łódzki wschodni","KOLUSZKI","KOLUSZKI - Gmina miejsko-wiejska / Powiat łódzki wschodni / Województwo  - ŁÓDZKIE / 100607 / ",76830204,88701065.599999994,{"$f":"ISNUMBER(SEARCH(Wyszukiwarka!$A$1,'Porównanie dochodów JST'!J654))","v":false},{"$f":"IF(M654,COUNTIF($M$16:M654,TRUE),\"\")","v":""},{"$f":"IFERROR(INDEX($J$16:$J$2822,MATCH(ROWS($J$16:J654),$N$16:$N$2822,0)),\"\")","v":""}]
["10","06","08","2","100608","Gmina wiejska","ŁÓDZKIE","łódzki wschodni","NOWOSOLNA","NOWOSOLNA - Gmina wiejska / Powiat łódzki wschodni / Województwo  - ŁÓDZKIE / 100608 / ",34201193,36916321.999999993,{"$f":"ISNUMBER(SEARCH(Wyszukiwarka!$A$1,'Porównanie dochodów JST'!J655))","v":false},{"$f":"IF(M655,COUNTIF($M$16:M655,TRUE),\"\")","v":""},{"$f":"IFERROR(INDEX($J$16:$J$2822,MATCH(ROWS($J$16:J655),$N$16:$N$2822,0)),\"\")","v":""}]
["10","06","10","3","100610","Gmina miejsko-wiejska","ŁÓDZKIE","łódzki wschodni","RZGÓW","RZGÓW - Gmina miejsko-wiejska / Powiat łódzki wschodni / Województwo  - ŁÓDZKIE / 100610 / ",50703167,55761189.563697107,{"$f":"ISNUMBER(SEARCH(Wyszukiwarka!$A$1,'Porównanie dochodów JST'!J656))","v":false},{"$f":"IF(M656,COUNTIF($M$16:M656,TRUE),\"\")","v":""},{"$f":"IFERROR(INDEX($J$16:$J$2822,MATCH(ROWS($J$16:J656),$N$16:$N$2822,0)),\"\")","v":""}]
["10","06","11","3","100611","Gmina miejsko-wiejska","ŁÓDZKIE","łódzki wschodni","TUSZYN",{"$f":"I657&$H$12&F657&$G$12&$H$14&H657&$G$12&$G$14&$H$12&G657&$G$12&E657&$G$12","v":"TUSZYN - Gmina miejsko-wiejska / Powiat łódzki wschodni / Województwo  - ŁÓDZKIE / 100611 / "},41264540,45461593,{"$f":"ISNUMBER(SEARCH(Wyszukiwarka!$A$1,'Porównanie dochodów JST'!J657))","v":false},{"$f":"IF(M657,COUNTIF($M$16:M657,TRUE),\"\")","v":""},{"$f":"IFERROR(INDEX($J$16:$J$2822,MATCH(ROWS($J$16:J657),$N$16:$N$2822,0)),\"\")","v":""}]
["10","07","01","2","100701","Gmina wiejska","ŁÓDZKIE","opoczyński","BIAŁACZÓW","BIAŁACZÓW - Gmina wiejska / Powiat opoczyński / Województwo  - ŁÓDZKIE / 100701 / ",23971453,26011637,{"$f":"ISNUMBER(SEARCH(Wyszukiwarka!$A$1,'Porównanie dochodów JST'!J658))","v":false},{"$f":"IF(M658,COUNTIF($M$16:M658,TRUE),\"\")","v":""},{"$f":"IFERROR(INDEX($J$16:$J$2822,MATCH(ROWS($J$16:J658),$N$16:$N$2822,0)),\"\")","v":""}]
["10","07","02","3","100702","Gmina miejsko-wiejska","ŁÓDZKIE","opoczyński","DRZEWICA","DRZEWICA - Gmina miejsko-wiejska / Powiat opoczyński / Województwo  - ŁÓDZKIE / 100702 / ",37817240,41253299,{"$f":"ISNUMBER(SEARCH(Wyszukiwarka!$A$1,'Porównanie dochodów JST'!J659))","v":false},{"$f":"IF(M659,COUNTIF($M$16:M659,TRUE),\"\")","v":""},{"$f":"IFERROR(INDEX($J$16:$J$2822,MATCH(ROWS($J$16:J659),$N$16:$N$2822,0)),\"\")","v":""}]
["10","07","03","2","100703","Gmina wiejska","ŁÓDZKIE","opoczyński","MNISZKÓW","MNISZKÓW - Gmina wiejska / Powiat opoczyński / Województwo  - ŁÓDZKIE / 100703 / ",18552714,20529708,{"$f":"ISNUMBER(SEARCH(Wyszukiwarka!$A$1,'Porównanie dochodów JST'!J660))","v":false},{"$f":"IF(M660,COUNTIF($M$16:M660,TRUE),\"\")","v":""},{"$f":"IFERROR(INDEX($J$16:$J$2822,MATCH(ROWS($J$16:J660),$N$16:$N$2822,0)),\"\")","v":""}]
["10","07","04","3","100704","Gmina miejsko-wiejska","ŁÓDZKIE","opoczyński","OPOCZNO","OPOCZNO - Gmina miejsko-wiejska / Powiat opoczyński / Województwo  - ŁÓDZKIE / 100704 / ",117361204,125108426.35214247,{"$f":"ISNUMBER(SEARCH(Wyszukiwarka!$A$1,'Porównanie dochodów JST'!J661))","v":false},{"$f":"IF(M661,COUNTIF($M$16:M661,TRUE),\"\")","v":""},{"$f":"IFERROR(INDEX($J$16:$J$2822,MATCH(ROWS($J$16:J661),$N$16:$N$2822,0)),\"\")","v":""}]
["10","07","05","2","100705","Gmina wiejska","ŁÓDZKIE","opoczyński","PARADYŻ","PARADYŻ - Gmina wiejska / Powiat opoczyński / Województwo  - ŁÓDZKIE / 100705 / ",19374087,21289212,{"$f":"ISNUMBER(SEARCH(Wyszukiwarka!$A$1,'Porównanie dochodów JST'!J662))","v":false},{"$f":"IF(M662,COUNTIF($M$16:M662,TRUE),\"\")","v":""},{"$f":"IFERROR(INDEX($J$16:$J$2822,MATCH(ROWS($J$16:J662),$N$16:$N$2822,0)),\"\")","v":""}]
["10","07","06","2","100706","Gmina wiejska","ŁÓDZKIE","opoczyński","POŚWIĘTNE","POŚWIĘTNE - Gmina wiejska / Powiat opoczyński / Województwo  - ŁÓDZKIE / 100706 / ",13132772,14426798,{"$f":"ISNUMBER(SEARCH(Wyszukiwarka!$A$1,'Porównanie dochodów JST'!J663))","v":false},{"$f":"IF(M663,COUNTIF($M$16:M663,TRUE),\"\")","v":""},{"$f":"IFERROR(INDEX($J$16:$J$2822,MATCH(ROWS($J$16:J663),$N$16:$N$2822,0)),\"\")","v":""}]
["10","07","07","2","100707","Gmina wiejska","ŁÓDZKIE","opoczyński","SŁAWNO","SŁAWNO - Gmina wiejska / Powiat opoczyński / Województwo  - ŁÓDZKIE / 100707 / ",30091208,32833182.515887439,{"$f":"ISNUMBER(SEARCH(Wyszukiwarka!$A$1,'Porównanie dochodów JST'!J664))","v":false},{"$f":"IF(M664,COUNTIF($M$16:M664,TRUE),\"\")","v":""},{"$f":"IFERROR(INDEX($J$16:$J$2822,MATCH(ROWS($J$16:J664),$N$16:$N$2822,0)),\"\")","v":""}]
["10","07","08","2","100708","Gmina wiejska","ŁÓDZKIE","opoczyński","ŻARNÓW","ŻARNÓW - Gmina wiejska / Powiat opoczyński / Województwo  - ŁÓDZKIE / 100708 / ",22914794,24983128,{"$f":"ISNUMBER(SEARCH(Wyszukiwarka!$A$1,'Porównanie dochodów JST'!J665))","v":false},{"$f":"IF(M665,COUNTIF($M$16:M665,TRUE),\"\")","v":""},{"$f":"IFERROR(INDEX($J$16:$J$2822,MATCH(ROWS($J$16:J665),$N$16:$N$2822,0)),\"\")","v":""}]
["10","08","01","1","100801","Gmina miejska","ŁÓDZKIE","pabianicki","KONSTANTYNÓW ŁÓDZKI","KONSTANTYNÓW ŁÓDZKI - Gmina miejska / Powiat pabianicki / Województwo  - ŁÓDZKIE / 100801 / ",60489044,70001504.159999996,{"$f":"ISNUMBER(SEARCH(Wyszukiwarka!$A$1,'Porównanie dochodów JST'!J666))","v":false},{"$f":"IF(M666,COUNTIF($M$16:M666,TRUE),\"\")","v":""},{"$f":"IFERROR(INDEX($J$16:$J$2822,MATCH(ROWS($J$16:J666),$N$16:$N$2822,0)),\"\")","v":""}]
["10","08","02","1","100802","Gmina miejska","ŁÓDZKIE","pabianicki","PABIANICE","PABIANICE - Gmina miejska / Powiat pabianicki / Województwo  - ŁÓDZKIE / 100802 / ",189679660,219025343.03999999,{"$f":"ISNUMBER(SEARCH(Wyszukiwarka!$A$1,'Porównanie dochodów JST'!J667))","v":false},{"$f":"IF(M667,COUNTIF($M$16:M667,TRUE),\"\")","v":""},{"$f":"IFERROR(INDEX($J$16:$J$2822,MATCH(ROWS($J$16:J667),$N$16:$N$2822,0)),\"\")","v":""}]
["10","08","03","2","100803","Gmina wiejska","ŁÓDZKIE","pabianicki","DŁUTÓW","DŁUTÓW - Gmina wiejska / Powiat pabianicki / Województwo  - ŁÓDZKIE / 100803 / ",17377971,19389675,{"$f":"ISNUMBER(SEARCH(Wyszukiwarka!$A$1,'Porównanie dochodów JST'!J668))","v":false},{"$f":"IF(M668,COUNTIF($M$16:M668,TRUE),\"\")","v":""},{"$f":"IFERROR(INDEX($J$16:$J$2822,MATCH(ROWS($J$16:J668),$N$16:$N$2822,0)),\"\")","v":""}]
["10","08","04","2","100804","Gmina wiejska","ŁÓDZKIE","pabianicki","DOBROŃ","DOBROŃ - Gmina wiejska / Powiat pabianicki / Województwo  - ŁÓDZKIE / 100804 / ",28743871,32136401.892856829,{"$f":"ISNUMBER(SEARCH(Wyszukiwarka!$A$1,'Porównanie dochodów JST'!J669))","v":false},{"$f":"IF(M669,COUNTIF($M$16:M669,TRUE),\"\")","v":""},{"$f":"IFERROR(INDEX($J$16:$J$2822,MATCH(ROWS($J$16:J669),$N$16:$N$2822,0)),\"\")","v":""}]
["10","08","05","2","100805","Gmina wiejska","ŁÓDZKIE","pabianicki","KSAWERÓW","KSAWERÓW - Gmina wiejska / Powiat pabianicki / Województwo  - ŁÓDZKIE / 100805 / ",34758972,37888180.824723862,{"$f":"ISNUMBER(SEARCH(Wyszukiwarka!$A$1,'Porównanie dochodów JST'!J670))","v":false},{"$f":"IF(M670,COUNTIF($M$16:M670,TRUE),\"\")","v":""},{"$f":"IFERROR(INDEX($J$16:$J$2822,MATCH(ROWS($J$16:J670),$N$16:$N$2822,0)),\"\")","v":""}]
["10","08","06","2","100806","Gmina wiejska","ŁÓDZKIE","pabianicki","LUTOMIERSK","LUTOMIERSK - Gmina wiejska / Powiat pabianicki / Województwo  - ŁÓDZKIE / 100806 / ",35752946,39223698.704286426,{"$f":"ISNUMBER(SEARCH(Wyszukiwarka!$A$1,'Porównanie dochodów JST'!J671))","v":false},{"$f":"IF(M671,COUNTIF($M$16:M671,TRUE),\"\")","v":""},{"$f":"IFERROR(INDEX($J$16:$J$2822,MATCH(ROWS($J$16:J671),$N$16:$N$2822,0)),\"\")","v":""}]
["10","08","07","2","100807","Gmina wiejska","ŁÓDZKIE","pabianicki","PABIANICE","PABIANICE - Gmina wiejska / Powiat pabianicki / Województwo  - ŁÓDZKIE / 100807 / ",39170259,42809726,{"$f":"ISNUMBER(SEARCH(Wyszukiwarka!$A$1,'Porównanie dochodów JST'!J672))","v":false},{"$f":"IF(M672,COUNTIF($M$16:M672,TRUE),\"\")","v":""},{"$f":"IFERROR(INDEX($J$16:$J$2822,MATCH(ROWS($J$16:J672),$N$16:$N$2822,0)),\"\")","v":""}]
["10","09","01","3","100901","Gmina miejsko-wiejska","ŁÓDZKIE","pajęczański","DZIAŁOSZYN","DZIAŁOSZYN - Gmina miejsko-wiejska / Powiat pajęczański / Województwo  - ŁÓDZKIE / 100901 / ",42148634,46580230.93378932,{"$f":"ISNUMBER(SEARCH(Wyszukiwarka!$A$1,'Porównanie dochodów JST'!J673))","v":false},{"$f":"IF(M673,COUNTIF($M$16:M673,TRUE),\"\")","v":""},{"$f":"IFERROR(INDEX($J$16:$J$2822,MATCH(ROWS($J$16:J673),$N$16:$N$2822,0)),\"\")","v":""}]
["10","09","02","2","100902","Gmina wiejska","ŁÓDZKIE","pajęczański","KIEŁCZYGŁÓW","KIEŁCZYGŁÓW - Gmina wiejska / Powiat pajęczański / Województwo  - ŁÓDZKIE / 100902 / ",13315416,14694256.940548133,{"$f":"ISNUMBER(SEARCH(Wyszukiwarka!$A$1,'Porównanie dochodów JST'!J674))","v":false},{"$f":"IF(M674,COUNTIF($M$16:M674,TRUE),\"\")","v":""},{"$f":"IFERROR(INDEX($J$16:$J$2822,MATCH(ROWS($J$16:J674),$N$16:$N$2822,0)),\"\")","v":""}]
["10","09","03","2","100903","Gmina wiejska","ŁÓDZKIE","pajęczański","NOWA BRZEŹNICA","NOWA BRZEŹNICA - Gmina wiejska / Powiat pajęczański / Województwo  - ŁÓDZKIE / 100903 / ",16228619,18167822.897149004,{"$f":"ISNUMBER(SEARCH(Wyszukiwarka!$A$1,'Porównanie dochodów JST'!J675))","v":false},{"$f":"IF(M675,COUNTIF($M$16:M675,TRUE),\"\")","v":""},{"$f":"IFERROR(INDEX($J$16:$J$2822,MATCH(ROWS($J$16:J675),$N$16:$N$2822,0)),\"\")","v":""}]
["10","09","04","3","100904","Gmina miejsko-wiejska","ŁÓDZKIE","pajęczański","PAJĘCZNO","PAJĘCZNO - Gmina miejsko-wiejska / Powiat pajęczański / Województwo  - ŁÓDZKIE / 100904 / ",32586308,36641316,{"$f":"ISNUMBER(SEARCH(Wyszukiwarka!$A$1,'Porównanie dochodów JST'!J676))","v":false},{"$f":"IF(M676,COUNTIF($M$16:M676,TRUE),\"\")","v":""},{"$f":"IFERROR(INDEX($J$16:$J$2822,MATCH(ROWS($J$16:J676),$N$16:$N$2822,0)),\"\")","v":""}]
["10","09","05","2","100905","Gmina wiejska","ŁÓDZKIE","pajęczański","RZĄŚNIA","RZĄŚNIA - Gmina wiejska / Powiat pajęczański / Województwo  - ŁÓDZKIE / 100905 / ",12713218,14416244.408208311,{"$f":"ISNUMBER(SEARCH(Wyszukiwarka!$A$1,'Porównanie dochodów JST'!J677))","v":false},{"$f":"IF(M677,COUNTIF($M$16:M677,TRUE),\"\")","v":""},{"$f":"IFERROR(INDEX($J$16:$J$2822,MATCH(ROWS($J$16:J677),$N$16:$N$2822,0)),\"\")","v":""}]
["10","09","06","2","100906","Gmina wiejska","ŁÓDZKIE","pajęczański","SIEMKOWICE","SIEMKOWICE - Gmina wiejska / Powiat pajęczański / Województwo  - ŁÓDZKIE / 100906 / ",18622470,20576392.799638234,{"$f":"ISNUMBER(SEARCH(Wyszukiwarka!$A$1,'Porównanie dochodów JST'!J678))","v":false},{"$f":"IF(M678,COUNTIF($M$16:M678,TRUE),\"\")","v":""},{"$f":"IFERROR(INDEX($J$16:$J$2822,MATCH(ROWS($J$16:J678),$N$16:$N$2822,0)),\"\")","v":""}]
["10","09","07","2","100907","Gmina wiejska","ŁÓDZKIE","pajęczański","STRZELCE WIELKIE","STRZELCE WIELKIE - Gmina wiejska / Powiat pajęczański / Województwo  - ŁÓDZKIE / 100907 / ",17450669,19358626,{"$f":"ISNUMBER(SEARCH(Wyszukiwarka!$A$1,'Porównanie dochodów JST'!J679))","v":false},{"$f":"IF(M679,COUNTIF($M$16:M679,TRUE),\"\")","v":""},{"$f":"IFERROR(INDEX($J$16:$J$2822,MATCH(ROWS($J$16:J679),$N$16:$N$2822,0)),\"\")","v":""}]
["10","09","08","2","100908","Gmina wiejska","ŁÓDZKIE","pajęczański","SULMIERZYCE","SULMIERZYCE - Gmina wiejska / Powiat pajęczański / Województwo  - ŁÓDZKIE / 100908 / ",5631002,6669862.1000000006,{"$f":"ISNUMBER(SEARCH(Wyszukiwarka!$A$1,'Porównanie dochodów JST'!J680))","v":false},{"$f":"IF(M680,COUNTIF($M$16:M680,TRUE),\"\")","v":""},{"$f":"IFERROR(INDEX($J$16:$J$2822,MATCH(ROWS($J$16:J680),$N$16:$N$2822,0)),\"\")","v":""}]
["10","10","01","2","101001","Gmina wiejska","ŁÓDZKIE","piotrkowski","ALEKSANDRÓW","ALEKSANDRÓW - Gmina wiejska / Powiat piotrkowski / Województwo  - ŁÓDZKIE / 101001 / ",18864547,20798108.594623581,{"$f":"ISNUMBER(SEARCH(Wyszukiwarka!$A$1,'Porównanie dochodów JST'!J681))","v":false},{"$f":"IF(M681,COUNTIF($M$16:M681,TRUE),\"\")","v":""},{"$f":"IFERROR(INDEX($J$16:$J$2822,MATCH(ROWS($J$16:J681),$N$16:$N$2822,0)),\"\")","v":""}]
["10","10","02","2","101002","Gmina wiejska","ŁÓDZKIE","piotrkowski","CZARNOCIN","CZARNOCIN - Gmina wiejska / Powiat piotrkowski / Województwo  - ŁÓDZKIE / 101002 / ",16674328,18573010.970650777,{"$f":"ISNUMBER(SEARCH(Wyszukiwarka!$A$1,'Porównanie dochodów JST'!J682))","v":false},{"$f":"IF(M682,COUNTIF($M$16:M682,TRUE),\"\")","v":""},{"$f":"IFERROR(INDEX($J$16:$J$2822,MATCH(ROWS($J$16:J682),$N$16:$N$2822,0)),\"\")","v":""}]
["10","10","03","2","101003","Gmina wiejska","ŁÓDZKIE","piotrkowski","GORZKOWICE","GORZKOWICE - Gmina wiejska / Powiat piotrkowski / Województwo  - ŁÓDZKIE / 101003 / ",30833440,34116088.8046,{"$f":"ISNUMBER(SEARCH(Wyszukiwarka!$A$1,'Porównanie dochodów JST'!J683))","v":false},{"$f":"IF(M683,COUNTIF($M$16:M683,TRUE),\"\")","v":""},{"$f":"IFERROR(INDEX($J$16:$J$2822,MATCH(ROWS($J$16:J683),$N$16:$N$2822,0)),\"\")","v":""}]
["10","10","04","2","101004","Gmina wiejska","ŁÓDZKIE","piotrkowski","GRABICA","GRABICA - Gmina wiejska / Powiat piotrkowski / Województwo  - ŁÓDZKIE / 101004 / ",25680903,28229819.658436056,{"$f":"ISNUMBER(SEARCH(Wyszukiwarka!$A$1,'Porównanie dochodów JST'!J684))","v":false},{"$f":"IF(M684,COUNTIF($M$16:M684,TRUE),\"\")","v":""},{"$f":"IFERROR(INDEX($J$16:$J$2822,MATCH(ROWS($J$16:J684),$N$16:$N$2822,0)),\"\")","v":""}]
["10","10","05","2","101005","Gmina wiejska","ŁÓDZKIE","piotrkowski","ŁĘKI SZLACHECKIE","ŁĘKI SZLACHECKIE - Gmina wiejska / Powiat piotrkowski / Województwo  - ŁÓDZKIE / 101005 / ",14419936,15744332.715,{"$f":"ISNUMBER(SEARCH(Wyszukiwarka!$A$1,'Porównanie dochodów JST'!J685))","v":false},{"$f":"IF(M685,COUNTIF($M$16:M685,TRUE),\"\")","v":""},{"$f":"IFERROR(INDEX($J$16:$J$2822,MATCH(ROWS($J$16:J685),$N$16:$N$2822,0)),\"\")","v":""}]
["10","10","06","2","101006","Gmina wiejska","ŁÓDZKIE","piotrkowski","MOSZCZENICA","MOSZCZENICA - Gmina wiejska / Powiat piotrkowski / Województwo  - ŁÓDZKIE / 101006 / ",42890060,47028165,{"$f":"ISNUMBER(SEARCH(Wyszukiwarka!$A$1,'Porównanie dochodów JST'!J686))","v":false},{"$f":"IF(M686,COUNTIF($M$16:M686,TRUE),\"\")","v":""},{"$f":"IFERROR(INDEX($J$16:$J$2822,MATCH(ROWS($J$16:J686),$N$16:$N$2822,0)),\"\")","v":""}]
["10","10","07","2","101007","Gmina wiejska","ŁÓDZKIE","piotrkowski","RĘCZNO","RĘCZNO - Gmina wiejska / Powiat piotrkowski / Województwo  - ŁÓDZKIE / 101007 / ",13614394,14953573.604999999,{"$f":"ISNUMBER(SEARCH(Wyszukiwarka!$A$1,'Porównanie dochodów JST'!J687))","v":false},{"$f":"IF(M687,COUNTIF($M$16:M687,TRUE),\"\")","v":""},{"$f":"IFERROR(INDEX($J$16:$J$2822,MATCH(ROWS($J$16:J687),$N$16:$N$2822,0)),\"\")","v":""}]
["10","10","08","2","101008","Gmina wiejska","ŁÓDZKIE","piotrkowski","ROZPRZA","ROZPRZA - Gmina wiejska / Powiat piotrkowski / Województwo  - ŁÓDZKIE / 101008 / ",53707481,57880765.989903077,{"$f":"ISNUMBER(SEARCH(Wyszukiwarka!$A$1,'Porównanie dochodów JST'!J688))","v":false},{"$f":"IF(M688,COUNTIF($M$16:M688,TRUE),\"\")","v":""},{"$f":"IFERROR(INDEX($J$16:$J$2822,MATCH(ROWS($J$16:J688),$N$16:$N$2822,0)),\"\")","v":""}]
["10","10","09","3","101009","Gmina miejsko-wiejska","ŁÓDZKIE","piotrkowski","SULEJÓW","SULEJÓW - Gmina miejsko-wiejska / Powiat piotrkowski / Województwo  - ŁÓDZKIE / 101009 / ",61023881,66127689.751114815,{"$f":"ISNUMBER(SEARCH(Wyszukiwarka!$A$1,'Porównanie dochodów JST'!J689))","v":false},{"$f":"IF(M689,COUNTIF($M$16:M689,TRUE),\"\")","v":""},{"$f":"IFERROR(INDEX($J$16:$J$2822,MATCH(ROWS($J$16:J689),$N$16:$N$2822,0)),\"\")","v":""}]
["10","10","10","2","101010","Gmina wiejska","ŁÓDZKIE","piotrkowski","WOLA KRZYSZTOPORSKA","WOLA KRZYSZTOPORSKA - Gmina wiejska / Powiat piotrkowski / Województwo  - ŁÓDZKIE / 101010 / ",41854254,46004131,{"$f":"ISNUMBER(SEARCH(Wyszukiwarka!$A$1,'Porównanie dochodów JST'!J690))","v":false},{"$f":"IF(M690,COUNTIF($M$16:M690,TRUE),\"\")","v":""},{"$f":"IFERROR(INDEX($J$16:$J$2822,MATCH(ROWS($J$16:J690),$N$16:$N$2822,0)),\"\")","v":""}]
["10","10","11","3","101011","Gmina miejsko-wiejska","ŁÓDZKIE","piotrkowski","WOLBÓRZ","WOLBÓRZ - Gmina miejsko-wiejska / Powiat piotrkowski / Województwo  - ŁÓDZKIE / 101011 / ",31691955,34477778,{"$f":"ISNUMBER(SEARCH(Wyszukiwarka!$A$1,'Porównanie dochodów JST'!J691))","v":false},{"$f":"IF(M691,COUNTIF($M$16:M691,TRUE),\"\")","v":""},{"$f":"IFERROR(INDEX($J$16:$J$2822,MATCH(ROWS($J$16:J691),$N$16:$N$2822,0)),\"\")","v":""}]
["10","11","01","2","101101","Gmina wiejska","ŁÓDZKIE","poddębicki","DALIKÓW","DALIKÓW - Gmina wiejska / Powiat poddębicki / Województwo  - ŁÓDZKIE / 101101 / ",17599372,19504228.671323225,{"$f":"ISNUMBER(SEARCH(Wyszukiwarka!$A$1,'Porównanie dochodów JST'!J692))","v":false},{"$f":"IF(M692,COUNTIF($M$16:M692,TRUE),\"\")","v":""},{"$f":"IFERROR(INDEX($J$16:$J$2822,MATCH(ROWS($J$16:J692),$N$16:$N$2822,0)),\"\")","v":""}]
["10","11","02","2","101102","Gmina wiejska","ŁÓDZKIE","poddębicki","PĘCZNIEW","PĘCZNIEW - Gmina wiejska / Powiat poddębicki / Województwo  - ŁÓDZKIE / 101102 / ",11871127,13679144.640000001,{"$f":"ISNUMBER(SEARCH(Wyszukiwarka!$A$1,'Porównanie dochodów JST'!J693))","v":false},{"$f":"IF(M693,COUNTIF($M$16:M693,TRUE),\"\")","v":""},{"$f":"IFERROR(INDEX($J$16:$J$2822,MATCH(ROWS($J$16:J693),$N$16:$N$2822,0)),\"\")","v":""}]
["10","11","03","3","101103","Gmina miejsko-wiejska","ŁÓDZKIE","poddębicki","PODDĘBICE","PODDĘBICE - Gmina miejsko-wiejska / Powiat poddębicki / Województwo  - ŁÓDZKIE / 101103 / ",49350459,53810212.516900003,{"$f":"ISNUMBER(SEARCH(Wyszukiwarka!$A$1,'Porównanie dochodów JST'!J694))","v":false},{"$f":"IF(M694,COUNTIF($M$16:M694,TRUE),\"\")","v":""},{"$f":"IFERROR(INDEX($J$16:$J$2822,MATCH(ROWS($J$16:J694),$N$16:$N$2822,0)),\"\")","v":""}]
["10","11","04","3","101104","Gmina miejsko-wiejska","ŁÓDZKIE","poddębicki","UNIEJÓW","UNIEJÓW - Gmina miejsko-wiejska / Powiat poddębicki / Województwo  - ŁÓDZKIE / 101104 / ",25603362,28094862,{"$f":"ISNUMBER(SEARCH(Wyszukiwarka!$A$1,'Porównanie dochodów JST'!J695))","v":false},{"$f":"IF(M695,COUNTIF($M$16:M695,TRUE),\"\")","v":""},{"$f":"IFERROR(INDEX($J$16:$J$2822,MATCH(ROWS($J$16:J695),$N$16:$N$2822,0)),\"\")","v":""}]
["10","11","05","2","101105","Gmina wiejska","ŁÓDZKIE","poddębicki","WARTKOWICE","WARTKOWICE - Gmina wiejska / Powiat poddębicki / Województwo  - ŁÓDZKIE / 101105 / ",18901781,21421810.300000001,{"$f":"ISNUMBER(SEARCH(Wyszukiwarka!$A$1,'Porównanie dochodów JST'!J696))","v":false},{"$f":"IF(M696,COUNTIF($M$16:M696,TRUE),\"\")","v":""},{"$f":"IFERROR(INDEX($J$16:$J$2822,MATCH(ROWS($J$16:J696),$N$16:$N$2822,0)),\"\")","v":""}]
["10","11","06","2","101106","Gmina wiejska","ŁÓDZKIE","poddębicki","ZADZIM","ZADZIM - Gmina wiejska / Powiat poddębicki / Województwo  - ŁÓDZKIE / 101106 / ",17970781,19942040.698927648,{"$f":"ISNUMBER(SEARCH(Wyszukiwarka!$A$1,'Porównanie dochodów JST'!J697))","v":false},{"$f":"IF(M697,COUNTIF($M$16:M697,TRUE),\"\")","v":""},{"$f":"IFERROR(INDEX($J$16:$J$2822,MATCH(ROWS($J$16:J697),$N$16:$N$2822,0)),\"\")","v":""}]
["10","12","01","1","101201","Gmina miejska","ŁÓDZKIE","radomszczański","RADOMSKO","RADOMSKO - Gmina miejska / Powiat radomszczański / Województwo  - ŁÓDZKIE / 101201 / ",132191735,152659225.59999999,{"$f":"ISNUMBER(SEARCH(Wyszukiwarka!$A$1,'Porównanie dochodów JST'!J698))","v":false},{"$f":"IF(M698,COUNTIF($M$16:M698,TRUE),\"\")","v":""},{"$f":"IFERROR(INDEX($J$16:$J$2822,MATCH(ROWS($J$16:J698),$N$16:$N$2822,0)),\"\")","v":""}]
["10","12","02","2","101202","Gmina wiejska","ŁÓDZKIE","radomszczański","DOBRYSZYCE","DOBRYSZYCE - Gmina wiejska / Powiat radomszczański / Województwo  - ŁÓDZKIE / 101202 / ",14099495,15982152.836300002,{"$f":"ISNUMBER(SEARCH(Wyszukiwarka!$A$1,'Porównanie dochodów JST'!J699))","v":false},{"$f":"IF(M699,COUNTIF($M$16:M699,TRUE),\"\")","v":""},{"$f":"IFERROR(INDEX($J$16:$J$2822,MATCH(ROWS($J$16:J699),$N$16:$N$2822,0)),\"\")","v":""}]
["10","12","03","2","101203","Gmina wiejska","ŁÓDZKIE","radomszczański","GIDLE","GIDLE - Gmina wiejska / Powiat radomszczański / Województwo  - ŁÓDZKIE / 101203 / ",22544164,24618088.681033835,{"$f":"ISNUMBER(SEARCH(Wyszukiwarka!$A$1,'Porównanie dochodów JST'!J700))","v":false},{"$f":"IF(M700,COUNTIF($M$16:M700,TRUE),\"\")","v":""},{"$f":"IFERROR(INDEX($J$16:$J$2822,MATCH(ROWS($J$16:J700),$N$16:$N$2822,0)),\"\")","v":""}]
["10","12","04","2","101204","Gmina wiejska","ŁÓDZKIE","radomszczański","GOMUNICE","GOMUNICE - Gmina wiejska / Powiat radomszczański / Województwo  - ŁÓDZKIE / 101204 / ",25272592,27968880.870500032,{"$f":"ISNUMBER(SEARCH(Wyszukiwarka!$A$1,'Porównanie dochodów JST'!J701))","v":false},{"$f":"IF(M701,COUNTIF($M$16:M701,TRUE),\"\")","v":""},{"$f":"IFERROR(INDEX($J$16:$J$2822,MATCH(ROWS($J$16:J701),$N$16:$N$2822,0)),\"\")","v":""}]
["10","12","05","3","101205","Gmina miejsko-wiejska","ŁÓDZKIE","radomszczański","KAMIEŃSK","KAMIEŃSK - Gmina miejsko-wiejska / Powiat radomszczański / Województwo  - ŁÓDZKIE / 101205 / ",24998805,27125134,{"$f":"ISNUMBER(SEARCH(Wyszukiwarka!$A$1,'Porównanie dochodów JST'!J702))","v":false},{"$f":"IF(M702,COUNTIF($M$16:M702,TRUE),\"\")","v":""},{"$f":"IFERROR(INDEX($J$16:$J$2822,MATCH(ROWS($J$16:J702),$N$16:$N$2822,0)),\"\")","v":""}]
["10","12","06","2","101206","Gmina wiejska","ŁÓDZKIE","radomszczański","KOBIELE WIELKIE","KOBIELE WIELKIE - Gmina wiejska / Powiat radomszczański / Województwo  - ŁÓDZKIE / 101206 / ",15849812,17775236.765454501,{"$f":"ISNUMBER(SEARCH(Wyszukiwarka!$A$1,'Porównanie dochodów JST'!J703))","v":false},{"$f":"IF(M703,COUNTIF($M$16:M703,TRUE),\"\")","v":""},{"$f":"IFERROR(INDEX($J$16:$J$2822,MATCH(ROWS($J$16:J703),$N$16:$N$2822,0)),\"\")","v":""}]
["10","12","07","2","101207","Gmina wiejska","ŁÓDZKIE","radomszczański","KODRĄB","KODRĄB - Gmina wiejska / Powiat radomszczański / Województwo  - ŁÓDZKIE / 101207 / ",16019635,17948411,{"$f":"ISNUMBER(SEARCH(Wyszukiwarka!$A$1,'Porównanie dochodów JST'!J704))","v":false},{"$f":"IF(M704,COUNTIF($M$16:M704,TRUE),\"\")","v":""},{"$f":"IFERROR(INDEX($J$16:$J$2822,MATCH(ROWS($J$16:J704),$N$16:$N$2822,0)),\"\")","v":""}]
["10","12","08","2","101208","Gmina wiejska","ŁÓDZKIE","radomszczański","LGOTA WIELKA","LGOTA WIELKA - Gmina wiejska / Powiat radomszczański / Województwo  - ŁÓDZKIE / 101208 / ",16591720,18505840,{"$f":"ISNUMBER(SEARCH(Wyszukiwarka!$A$1,'Porównanie dochodów JST'!J705))","v":false},{"$f":"IF(M705,COUNTIF($M$16:M705,TRUE),\"\")","v":""},{"$f":"IFERROR(INDEX($J$16:$J$2822,MATCH(ROWS($J$16:J705),$N$16:$N$2822,0)),\"\")","v":""}]
["10","12","09","2","101209","Gmina wiejska","ŁÓDZKIE","radomszczański","ŁADZICE","ŁADZICE - Gmina wiejska / Powiat radomszczański / Województwo  - ŁÓDZKIE / 101209 / ",16204763,18148973,{"$f":"ISNUMBER(SEARCH(Wyszukiwarka!$A$1,'Porównanie dochodów JST'!J706))","v":false},{"$f":"IF(M706,COUNTIF($M$16:M706,TRUE),\"\")","v":""},{"$f":"IFERROR(INDEX($J$16:$J$2822,MATCH(ROWS($J$16:J706),$N$16:$N$2822,0)),\"\")","v":""}]
["10","12","10","2","101210","Gmina wiejska","ŁÓDZKIE","radomszczański","MASŁOWICE","MASŁOWICE - Gmina wiejska / Powiat radomszczański / Województwo  - ŁÓDZKIE / 101210 / ",15116622,16515333,{"$f":"ISNUMBER(SEARCH(Wyszukiwarka!$A$1,'Porównanie dochodów JST'!J707))","v":false},{"$f":"IF(M707,COUNTIF($M$16:M707,TRUE),\"\")","v":""},{"$f":"IFERROR(INDEX($J$16:$J$2822,MATCH(ROWS($J$16:J707),$N$16:$N$2822,0)),\"\")","v":""}]
["10","12","11","3","101211","Gmina miejsko-wiejska","ŁÓDZKIE","radomszczański","PRZEDBÓRZ","PRZEDBÓRZ - Gmina miejsko-wiejska / Powiat radomszczański / Województwo  - ŁÓDZKIE / 101211 / ",25556652,29380111.039999999,{"$f":"ISNUMBER(SEARCH(Wyszukiwarka!$A$1,'Porównanie dochodów JST'!J708))","v":false},{"$f":"IF(M708,COUNTIF($M$16:M708,TRUE),\"\")","v":""},{"$f":"IFERROR(INDEX($J$16:$J$2822,MATCH(ROWS($J$16:J708),$N$16:$N$2822,0)),\"\")","v":""}]
["10","12","12","2","101212","Gmina wiejska","ŁÓDZKIE","radomszczański","RADOMSKO","RADOMSKO - Gmina wiejska / Powiat radomszczański / Województwo  - ŁÓDZKIE / 101212 / ",19802491,21849793.934218992,{"$f":"ISNUMBER(SEARCH(Wyszukiwarka!$A$1,'Porównanie dochodów JST'!J709))","v":false},{"$f":"IF(M709,COUNTIF($M$16:M709,TRUE),\"\")","v":""},{"$f":"IFERROR(INDEX($J$16:$J$2822,MATCH(ROWS($J$16:J709),$N$16:$N$2822,0)),\"\")","v":""}]
["10","12","13","2","101213","Gmina wiejska","ŁÓDZKIE","radomszczański","WIELGOMŁYNY","WIELGOMŁYNY - Gmina wiejska / Powiat radomszczański / Województwo  - ŁÓDZKIE / 101213 / ",18539035,20464665.893050075,{"$f":"ISNUMBER(SEARCH(Wyszukiwarka!$A$1,'Porównanie dochodów JST'!J710))","v":false},{"$f":"IF(M710,COUNTIF($M$16:M710,TRUE),\"\")","v":""},{"$f":"IFERROR(INDEX($J$16:$J$2822,MATCH(ROWS($J$16:J710),$N$16:$N$2822,0)),\"\")","v":""}]
["10","12","14","2","101214","Gmina wiejska","ŁÓDZKIE","radomszczański","ŻYTNO","ŻYTNO - Gmina wiejska / Powiat radomszczański / Województwo  - ŁÓDZKIE / 101214 / ",20169374,22162935.604738783,{"$f":"ISNUMBER(SEARCH(Wyszukiwarka!$A$1,'Porównanie dochodów JST'!J711))","v":false},{"$f":"IF(M711,COUNTIF($M$16:M711,TRUE),\"\")","v":""},{"$f":"IFERROR(INDEX($J$16:$J$2822,MATCH(ROWS($J$16:J711),$N$16:$N$2822,0)),\"\")","v":""}]
["10","13","01","1","101301","Gmina miejska","ŁÓDZKIE","rawski","RAWA MAZOWIECKA","RAWA MAZOWIECKA - Gmina miejska / Powiat rawski / Województwo  - ŁÓDZKIE / 101301 / ",65416893,71695484.048984051,{"$f":"ISNUMBER(SEARCH(Wyszukiwarka!$A$1,'Porównanie dochodów JST'!J712))","v":false},{"$f":"IF(M712,COUNTIF($M$16:M712,TRUE),\"\")","v":""},{"$f":"IFERROR(INDEX($J$16:$J$2822,MATCH(ROWS($J$16:J712),$N$16:$N$2822,0)),\"\")","v":""}]
["10","13","02","3","101302","Gmina miejsko-wiejska","ŁÓDZKIE","rawski","BIAŁA RAWSKA","BIAŁA RAWSKA - Gmina miejsko-wiejska / Powiat rawski / Województwo  - ŁÓDZKIE / 101302 / ",38539760,42605570,{"$f":"ISNUMBER(SEARCH(Wyszukiwarka!$A$1,'Porównanie dochodów JST'!J713))","v":false},{"$f":"IF(M713,COUNTIF($M$16:M713,TRUE),\"\")","v":""},{"$f":"IFERROR(INDEX($J$16:$J$2822,MATCH(ROWS($J$16:J713),$N$16:$N$2822,0)),\"\")","v":""}]
["10","13","03","2","101303","Gmina wiejska","ŁÓDZKIE","rawski","CIELĄDZ","CIELĄDZ - Gmina wiejska / Powiat rawski / Województwo  - ŁÓDZKIE / 101303 / ",16668074,18074092,{"$f":"ISNUMBER(SEARCH(Wyszukiwarka!$A$1,'Porównanie dochodów JST'!J714))","v":false},{"$f":"IF(M714,COUNTIF($M$16:M714,TRUE),\"\")","v":""},{"$f":"IFERROR(INDEX($J$16:$J$2822,MATCH(ROWS($J$16:J714),$N$16:$N$2822,0)),\"\")","v":""}]
["10","13","04","2","101304","Gmina wiejska","ŁÓDZKIE","rawski","RAWA MAZOWIECKA","RAWA MAZOWIECKA - Gmina wiejska / Powiat rawski / Województwo  - ŁÓDZKIE / 101304 / ",28619870,31957903.84118814,{"$f":"ISNUMBER(SEARCH(Wyszukiwarka!$A$1,'Porównanie dochodów JST'!J715))","v":false},{"$f":"IF(M715,COUNTIF($M$16:M715,TRUE),\"\")","v":""},{"$f":"IFERROR(INDEX($J$16:$J$2822,MATCH(ROWS($J$16:J715),$N$16:$N$2822,0)),\"\")","v":""}]
["10","13","05","2","101305","Gmina wiejska","ŁÓDZKIE","rawski","REGNÓW","REGNÓW - Gmina wiejska / Powiat rawski / Województwo  - ŁÓDZKIE / 101305 / ",6747496,7608085.0999999996,{"$f":"ISNUMBER(SEARCH(Wyszukiwarka!$A$1,'Porównanie dochodów JST'!J716))","v":false},{"$f":"IF(M716,COUNTIF($M$16:M716,TRUE),\"\")","v":""},{"$f":"IFERROR(INDEX($J$16:$J$2822,MATCH(ROWS($J$16:J716),$N$16:$N$2822,0)),\"\")","v":""}]
["10","13","06","2","101306","Gmina wiejska","ŁÓDZKIE","rawski","SADKOWICE","SADKOWICE - Gmina wiejska / Powiat rawski / Województwo  - ŁÓDZKIE / 101306 / ",21620383,23624356,{"$f":"ISNUMBER(SEARCH(Wyszukiwarka!$A$1,'Porównanie dochodów JST'!J717))","v":false},{"$f":"IF(M717,COUNTIF($M$16:M717,TRUE),\"\")","v":""},{"$f":"IFERROR(INDEX($J$16:$J$2822,MATCH(ROWS($J$16:J717),$N$16:$N$2822,0)),\"\")","v":""}]
["10","14","01","1","101401","Gmina miejska","ŁÓDZKIE","sieradzki","SIERADZ","SIERADZ - Gmina miejska / Powiat sieradzki / Województwo  - ŁÓDZKIE / 101401 / ",126286103,146000326.08000001,{"$f":"ISNUMBER(SEARCH(Wyszukiwarka!$A$1,'Porównanie dochodów JST'!J718))","v":false},{"$f":"IF(M718,COUNTIF($M$16:M718,TRUE),\"\")","v":""},{"$f":"IFERROR(INDEX($J$16:$J$2822,MATCH(ROWS($J$16:J718),$N$16:$N$2822,0)),\"\")","v":""}]
["10","14","02","3","101402","Gmina miejsko-wiejska","ŁÓDZKIE","sieradzki","BŁASZKI","BŁASZKI - Gmina miejsko-wiejska / Powiat sieradzki / Województwo  - ŁÓDZKIE / 101402 / ",50332367,54677667,{"$f":"ISNUMBER(SEARCH(Wyszukiwarka!$A$1,'Porównanie dochodów JST'!J719))","v":false},{"$f":"IF(M719,COUNTIF($M$16:M719,TRUE),\"\")","v":""},{"$f":"IFERROR(INDEX($J$16:$J$2822,MATCH(ROWS($J$16:J719),$N$16:$N$2822,0)),\"\")","v":""}]
["10","14","03","2","101403","Gmina wiejska","ŁÓDZKIE","sieradzki","BRĄSZEWICE","BRĄSZEWICE - Gmina wiejska / Powiat sieradzki / Województwo  - ŁÓDZKIE / 101403 / ",22963155,25114625.977838047,{"$f":"ISNUMBER(SEARCH(Wyszukiwarka!$A$1,'Porównanie dochodów JST'!J720))","v":false},{"$f":"IF(M720,COUNTIF($M$16:M720,TRUE),\"\")","v":""},{"$f":"IFERROR(INDEX($J$16:$J$2822,MATCH(ROWS($J$16:J720),$N$16:$N$2822,0)),\"\")","v":""}]
["10","14","04","2","101404","Gmina wiejska","ŁÓDZKIE","sieradzki","BRZEŹNIO",{"$f":"I721&$H$12&F721&$G$12&$H$14&H721&$G$12&$G$14&$H$12&G721&$G$12&E721&$G$12","v":"BRZEŹNIO - Gmina wiejska / Powiat sieradzki / Województwo  - ŁÓDZKIE / 101404 / "},27193895,29847001.906841271,{"$f":"ISNUMBER(SEARCH(Wyszukiwarka!$A$1,'Porównanie dochodów JST'!J721))","v":false},{"$f":"IF(M721,COUNTIF($M$16:M721,TRUE),\"\")","v":""},{"$f":"IFERROR(INDEX($J$16:$J$2822,MATCH(ROWS($J$16:J721),$N$16:$N$2822,0)),\"\")","v":""}]
["10","14","05","2","101405","Gmina wiejska","ŁÓDZKIE","sieradzki","BURZENIN","BURZENIN - Gmina wiejska / Powiat sieradzki / Województwo  - ŁÓDZKIE / 101405 / ",20889953,22915311.874308929,{"$f":"ISNUMBER(SEARCH(Wyszukiwarka!$A$1,'Porównanie dochodów JST'!J722))","v":false},{"$f":"IF(M722,COUNTIF($M$16:M722,TRUE),\"\")","v":""},{"$f":"IFERROR(INDEX($J$16:$J$2822,MATCH(ROWS($J$16:J722),$N$16:$N$2822,0)),\"\")","v":""}]
["10","14","06","2","101406","Gmina wiejska","ŁÓDZKIE","sieradzki","GOSZCZANÓW","GOSZCZANÓW - Gmina wiejska / Powiat sieradzki / Województwo  - ŁÓDZKIE / 101406 / ",22285937,24314137.868958056,{"$f":"ISNUMBER(SEARCH(Wyszukiwarka!$A$1,'Porównanie dochodów JST'!J723))","v":false},{"$f":"IF(M723,COUNTIF($M$16:M723,TRUE),\"\")","v":""},{"$f":"IFERROR(INDEX($J$16:$J$2822,MATCH(ROWS($J$16:J723),$N$16:$N$2822,0)),\"\")","v":""}]
["10","14","07","2","101407","Gmina wiejska","ŁÓDZKIE","sieradzki","KLONOWA","KLONOWA - Gmina wiejska / Powiat sieradzki / Województwo  - ŁÓDZKIE / 101407 / ",10820017,12112734,{"$f":"ISNUMBER(SEARCH(Wyszukiwarka!$A$1,'Porównanie dochodów JST'!J724))","v":false},{"$f":"IF(M724,COUNTIF($M$16:M724,TRUE),\"\")","v":""},{"$f":"IFERROR(INDEX($J$16:$J$2822,MATCH(ROWS($J$16:J724),$N$16:$N$2822,0)),\"\")","v":""}]
["10","14","08","2","101408","Gmina wiejska","ŁÓDZKIE","sieradzki","SIERADZ","SIERADZ - Gmina wiejska / Powiat sieradzki / Województwo  - ŁÓDZKIE / 101408 / ",42110568,46191134.92631717,{"$f":"ISNUMBER(SEARCH(Wyszukiwarka!$A$1,'Porównanie dochodów JST'!J725))","v":false},{"$f":"IF(M725,COUNTIF($M$16:M725,TRUE),\"\")","v":""},{"$f":"IFERROR(INDEX($J$16:$J$2822,MATCH(ROWS($J$16:J725),$N$16:$N$2822,0)),\"\")","v":""}]
["10","14","09","3","101409","Gmina miejsko-wiejska","ŁÓDZKIE","sieradzki","WARTA","WARTA - Gmina miejsko-wiejska / Powiat sieradzki / Województwo  - ŁÓDZKIE / 101409 / ",46127437,50294702,{"$f":"ISNUMBER(SEARCH(Wyszukiwarka!$A$1,'Porównanie dochodów JST'!J726))","v":false},{"$f":"IF(M726,COUNTIF($M$16:M726,TRUE),\"\")","v":""},{"$f":"IFERROR(INDEX($J$16:$J$2822,MATCH(ROWS($J$16:J726),$N$16:$N$2822,0)),\"\")","v":""}]
["10","14","10","2","101410","Gmina wiejska","ŁÓDZKIE","sieradzki","WRÓBLEW","WRÓBLEW - Gmina wiejska / Powiat sieradzki / Województwo  - ŁÓDZKIE / 101410 / ",22598360,24679212,{"$f":"ISNUMBER(SEARCH(Wyszukiwarka!$A$1,'Porównanie dochodów JST'!J727))","v":false},{"$f":"IF(M727,COUNTIF($M$16:M727,TRUE),\"\")","v":""},{"$f":"IFERROR(INDEX($J$16:$J$2822,MATCH(ROWS($J$16:J727),$N$16:$N$2822,0)),\"\")","v":""}]
["10","14","11","3","101411","Gmina miejsko-wiejska","ŁÓDZKIE","sieradzki","ZŁOCZEW","ZŁOCZEW - Gmina miejsko-wiejska / Powiat sieradzki / Województwo  - ŁÓDZKIE / 101411 / ",27507012,30168076,{"$f":"ISNUMBER(SEARCH(Wyszukiwarka!$A$1,'Porównanie dochodów JST'!J728))","v":false},{"$f":"IF(M728,COUNTIF($M$16:M728,TRUE),\"\")","v":""},{"$f":"IFERROR(INDEX($J$16:$J$2822,MATCH(ROWS($J$16:J728),$N$16:$N$2822,0)),\"\")","v":""}]
["10","15","01","2","101501","Gmina wiejska","ŁÓDZKIE","skierniewicki","BOLIMÓW","BOLIMÓW - Gmina wiejska / Powiat skierniewicki / Województwo  - ŁÓDZKIE / 101501 / ",16384489,17782043.62286263,{"$f":"ISNUMBER(SEARCH(Wyszukiwarka!$A$1,'Porównanie dochodów JST'!J729))","v":false},{"$f":"IF(M729,COUNTIF($M$16:M729,TRUE),\"\")","v":""},{"$f":"IFERROR(INDEX($J$16:$J$2822,MATCH(ROWS($J$16:J729),$N$16:$N$2822,0)),\"\")","v":""}]
["10","15","02","2","101502","Gmina wiejska","ŁÓDZKIE","skierniewicki","GŁUCHÓW","GŁUCHÓW - Gmina wiejska / Powiat skierniewicki / Województwo  - ŁÓDZKIE / 101502 / ",23568918,25608716,{"$f":"ISNUMBER(SEARCH(Wyszukiwarka!$A$1,'Porównanie dochodów JST'!J730))","v":false},{"$f":"IF(M730,COUNTIF($M$16:M730,TRUE),\"\")","v":""},{"$f":"IFERROR(INDEX($J$16:$J$2822,MATCH(ROWS($J$16:J730),$N$16:$N$2822,0)),\"\")","v":""}]
["10","15","03","2","101503","Gmina wiejska","ŁÓDZKIE","skierniewicki","GODZIANÓW","GODZIANÓW - Gmina wiejska / Powiat skierniewicki / Województwo  - ŁÓDZKIE / 101503 / ",13264736,14515611.52,{"$f":"ISNUMBER(SEARCH(Wyszukiwarka!$A$1,'Porównanie dochodów JST'!J731))","v":false},{"$f":"IF(M731,COUNTIF($M$16:M731,TRUE),\"\")","v":""},{"$f":"IFERROR(INDEX($J$16:$J$2822,MATCH(ROWS($J$16:J731),$N$16:$N$2822,0)),\"\")","v":""}]
["10","15","04","2","101504","Gmina wiejska","ŁÓDZKIE","skierniewicki","KOWIESY","KOWIESY - Gmina wiejska / Powiat skierniewicki / Województwo  - ŁÓDZKIE / 101504 / ",10479922,11763139.83,{"$f":"ISNUMBER(SEARCH(Wyszukiwarka!$A$1,'Porównanie dochodów JST'!J732))","v":false},{"$f":"IF(M732,COUNTIF($M$16:M732,TRUE),\"\")","v":""},{"$f":"IFERROR(INDEX($J$16:$J$2822,MATCH(ROWS($J$16:J732),$N$16:$N$2822,0)),\"\")","v":""}]
["10","15","05","2","101505","Gmina wiejska","ŁÓDZKIE","skierniewicki","LIPCE REYMONTOWSKIE","LIPCE REYMONTOWSKIE - Gmina wiejska / Powiat skierniewicki / Województwo  - ŁÓDZKIE / 101505 / ",14229310,15529739.800000001,{"$f":"ISNUMBER(SEARCH(Wyszukiwarka!$A$1,'Porównanie dochodów JST'!J733))","v":false},{"$f":"IF(M733,COUNTIF($M$16:M733,TRUE),\"\")","v":""},{"$f":"IFERROR(INDEX($J$16:$J$2822,MATCH(ROWS($J$16:J733),$N$16:$N$2822,0)),\"\")","v":""}]
["10","15","06","2","101506","Gmina wiejska","ŁÓDZKIE","skierniewicki","MAKÓW","MAKÓW - Gmina wiejska / Powiat skierniewicki / Województwo  - ŁÓDZKIE / 101506 / ",27036163,29114492,{"$f":"ISNUMBER(SEARCH(Wyszukiwarka!$A$1,'Porównanie dochodów JST'!J734))","v":false},{"$f":"IF(M734,COUNTIF($M$16:M734,TRUE),\"\")","v":""},{"$f":"IFERROR(INDEX($J$16:$J$2822,MATCH(ROWS($J$16:J734),$N$16:$N$2822,0)),\"\")","v":""}]
["10","15","07","2","101507","Gmina wiejska","ŁÓDZKIE","skierniewicki","NOWY KAWĘCZYN","NOWY KAWĘCZYN - Gmina wiejska / Powiat skierniewicki / Województwo  - ŁÓDZKIE / 101507 / ",13720255,15082276,{"$f":"ISNUMBER(SEARCH(Wyszukiwarka!$A$1,'Porównanie dochodów JST'!J735))","v":false},{"$f":"IF(M735,COUNTIF($M$16:M735,TRUE),\"\")","v":""},{"$f":"IFERROR(INDEX($J$16:$J$2822,MATCH(ROWS($J$16:J735),$N$16:$N$2822,0)),\"\")","v":""}]
["10","15","08","2","101508","Gmina wiejska","ŁÓDZKIE","skierniewicki","SKIERNIEWICE","SKIERNIEWICE - Gmina wiejska / Powiat skierniewicki / Województwo  - ŁÓDZKIE / 101508 / ",31166278,34500174.589900002,{"$f":"ISNUMBER(SEARCH(Wyszukiwarka!$A$1,'Porównanie dochodów JST'!J736))","v":false},{"$f":"IF(M736,COUNTIF($M$16:M736,TRUE),\"\")","v":""},{"$f":"IFERROR(INDEX($J$16:$J$2822,MATCH(ROWS($J$16:J736),$N$16:$N$2822,0)),\"\")","v":""}]
["10","15","09","2","101509","Gmina wiejska","ŁÓDZKIE","skierniewicki","SŁUPIA","SŁUPIA - Gmina wiejska / Powiat skierniewicki / Województwo  - ŁÓDZKIE / 101509 / ",10780820,12023811.52,{"$f":"ISNUMBER(SEARCH(Wyszukiwarka!$A$1,'Porównanie dochodów JST'!J737))","v":false},{"$f":"IF(M737,COUNTIF($M$16:M737,TRUE),\"\")","v":""},{"$f":"IFERROR(INDEX($J$16:$J$2822,MATCH(ROWS($J$16:J737),$N$16:$N$2822,0)),\"\")","v":""}]
["10","16","01","1","101601","Gmina miejska","ŁÓDZKIE","tomaszowski","TOMASZÓW MAZOWIECKI","TOMASZÓW MAZOWIECKI - Gmina miejska / Powiat tomaszowski / Województwo  - ŁÓDZKIE / 101601 / ",179608757,203224231.7836,{"$f":"ISNUMBER(SEARCH(Wyszukiwarka!$A$1,'Porównanie dochodów JST'!J738))","v":false},{"$f":"IF(M738,COUNTIF($M$16:M738,TRUE),\"\")","v":""},{"$f":"IFERROR(INDEX($J$16:$J$2822,MATCH(ROWS($J$16:J738),$N$16:$N$2822,0)),\"\")","v":""}]
["10","16","02","2","101602","Gmina wiejska","ŁÓDZKIE","tomaszowski","BĘDKÓW","BĘDKÓW - Gmina wiejska / Powiat tomaszowski / Województwo  - ŁÓDZKIE / 101602 / ",12484311,13789176.74,{"$f":"ISNUMBER(SEARCH(Wyszukiwarka!$A$1,'Porównanie dochodów JST'!J739))","v":false},{"$f":"IF(M739,COUNTIF($M$16:M739,TRUE),\"\")","v":""},{"$f":"IFERROR(INDEX($J$16:$J$2822,MATCH(ROWS($J$16:J739),$N$16:$N$2822,0)),\"\")","v":""}]
["10","16","03","2","101603","Gmina wiejska","ŁÓDZKIE","tomaszowski","BUDZISZEWICE","BUDZISZEWICE - Gmina wiejska / Powiat tomaszowski / Województwo  - ŁÓDZKIE / 101603 / ",9662510,10848523.4,{"$f":"ISNUMBER(SEARCH(Wyszukiwarka!$A$1,'Porównanie dochodów JST'!J740))","v":false},{"$f":"IF(M740,COUNTIF($M$16:M740,TRUE),\"\")","v":""},{"$f":"IFERROR(INDEX($J$16:$J$2822,MATCH(ROWS($J$16:J740),$N$16:$N$2822,0)),\"\")","v":""}]
["10","16","04","2","101604","Gmina wiejska","ŁÓDZKIE","tomaszowski","CZERNIEWICE","CZERNIEWICE - Gmina wiejska / Powiat tomaszowski / Województwo  - ŁÓDZKIE / 101604 / ",16430415,18418954.577195004,{"$f":"ISNUMBER(SEARCH(Wyszukiwarka!$A$1,'Porównanie dochodów JST'!J741))","v":false},{"$f":"IF(M741,COUNTIF($M$16:M741,TRUE),\"\")","v":""},{"$f":"IFERROR(INDEX($J$16:$J$2822,MATCH(ROWS($J$16:J741),$N$16:$N$2822,0)),\"\")","v":""}]
["10","16","05","2","101605","Gmina wiejska","ŁÓDZKIE","tomaszowski","INOWŁÓDZ","INOWŁÓDZ - Gmina wiejska / Powiat tomaszowski / Województwo  - ŁÓDZKIE / 101605 / ",12785615,14066558,{"$f":"ISNUMBER(SEARCH(Wyszukiwarka!$A$1,'Porównanie dochodów JST'!J742))","v":false},{"$f":"IF(M742,COUNTIF($M$16:M742,TRUE),\"\")","v":""},{"$f":"IFERROR(INDEX($J$16:$J$2822,MATCH(ROWS($J$16:J742),$N$16:$N$2822,0)),\"\")","v":""}]
["10","16","06","2","101606","Gmina wiejska","ŁÓDZKIE","tomaszowski","LUBOCHNIA","LUBOCHNIA - Gmina wiejska / Powiat tomaszowski / Województwo  - ŁÓDZKIE / 101606 / ",27656141,30375248.530554909,{"$f":"ISNUMBER(SEARCH(Wyszukiwarka!$A$1,'Porównanie dochodów JST'!J743))","v":false},{"$f":"IF(M743,COUNTIF($M$16:M743,TRUE),\"\")","v":""},{"$f":"IFERROR(INDEX($J$16:$J$2822,MATCH(ROWS($J$16:J743),$N$16:$N$2822,0)),\"\")","v":""}]
["10","16","07","2","101607","Gmina wiejska","ŁÓDZKIE","tomaszowski","ROKICINY","ROKICINY - Gmina wiejska / Powiat tomaszowski / Województwo  - ŁÓDZKIE / 101607 / ",23682240,26297114.767247636,{"$f":"ISNUMBER(SEARCH(Wyszukiwarka!$A$1,'Porównanie dochodów JST'!J744))","v":false},{"$f":"IF(M744,COUNTIF($M$16:M744,TRUE),\"\")","v":""},{"$f":"IFERROR(INDEX($J$16:$J$2822,MATCH(ROWS($J$16:J744),$N$16:$N$2822,0)),\"\")","v":""}]
["10","16","08","2","101608","Gmina wiejska","ŁÓDZKIE","tomaszowski","RZECZYCA","RZECZYCA - Gmina wiejska / Powiat tomaszowski / Województwo  - ŁÓDZKIE / 101608 / ",17934170,19881441.655240372,{"$f":"ISNUMBER(SEARCH(Wyszukiwarka!$A$1,'Porównanie dochodów JST'!J745))","v":false},{"$f":"IF(M745,COUNTIF($M$16:M745,TRUE),\"\")","v":""},{"$f":"IFERROR(INDEX($J$16:$J$2822,MATCH(ROWS($J$16:J745),$N$16:$N$2822,0)),\"\")","v":""}]
["10","16","09","2","101609","Gmina wiejska","ŁÓDZKIE","tomaszowski","TOMASZÓW MAZOWIECKI","TOMASZÓW MAZOWIECKI - Gmina wiejska / Powiat tomaszowski / Województwo  - ŁÓDZKIE / 101609 / ",40788396,45032617,{"$f":"ISNUMBER(SEARCH(Wyszukiwarka!$A$1,'Porównanie dochodów JST'!J746))","v":false},{"$f":"IF(M746,COUNTIF($M$16:M746,TRUE),\"\")","v":""},{"$f":"IFERROR(INDEX($J$16:$J$2822,MATCH(ROWS($J$16:J746),$N$16:$N$2822,0)),\"\")","v":""}]
["10","16","10","2","101610","Gmina wiejska","ŁÓDZKIE","tomaszowski","UJAZD","UJAZD - Gmina wiejska / Powiat tomaszowski / Województwo  - ŁÓDZKIE / 101610 / ",31201315,34132080,{"$f":"ISNUMBER(SEARCH(Wyszukiwarka!$A$1,'Porównanie dochodów JST'!J747))","v":false},{"$f":"IF(M747,COUNTIF($M$16:M747,TRUE),\"\")","v":""},{"$f":"IFERROR(INDEX($J$16:$J$2822,MATCH(ROWS($J$16:J747),$N$16:$N$2822,0)),\"\")","v":""}]
["10","16","11","2","101611","Gmina wiejska","ŁÓDZKIE","tomaszowski","ŻELECHLINEK","ŻELECHLINEK - Gmina wiejska / Powiat tomaszowski / Województwo  - ŁÓDZKIE / 101611 / ",13912870,15233895.76,{"$f":"ISNUMBER(SEARCH(Wyszukiwarka!$A$1,'Porównanie dochodów JST'!J748))","v":false},{"$f":"IF(M748,COUNTIF($M$16:M748,TRUE),\"\")","v":""},{"$f":"IFERROR(INDEX($J$16:$J$2822,MATCH(ROWS($J$16:J748),$N$16:$N$2822,0)),\"\")","v":""}]
["10","17","01","2","101701","Gmina wiejska","ŁÓDZKIE","wieluński","BIAŁA","BIAŁA - Gmina wiejska / Powiat wieluński / Województwo  - ŁÓDZKIE / 101701 / ",21516120,23525238,{"$f":"ISNUMBER(SEARCH(Wyszukiwarka!$A$1,'Porównanie dochodów JST'!J749))","v":false},{"$f":"IF(M749,COUNTIF($M$16:M749,TRUE),\"\")","v":""},{"$f":"IFERROR(INDEX($J$16:$J$2822,MATCH(ROWS($J$16:J749),$N$16:$N$2822,0)),\"\")","v":""}]
["10","17","02","2","101702","Gmina wiejska","ŁÓDZKIE","wieluński","CZARNOŻYŁY","CZARNOŻYŁY - Gmina wiejska / Powiat wieluński / Województwo  - ŁÓDZKIE / 101702 / ",16999469,18925020,{"$f":"ISNUMBER(SEARCH(Wyszukiwarka!$A$1,'Porównanie dochodów JST'!J750))","v":false},{"$f":"IF(M750,COUNTIF($M$16:M750,TRUE),\"\")","v":""},{"$f":"IFERROR(INDEX($J$16:$J$2822,MATCH(ROWS($J$16:J750),$N$16:$N$2822,0)),\"\")","v":""}]
["10","17","03","2","101703","Gmina wiejska","ŁÓDZKIE","wieluński","KONOPNICA","KONOPNICA - Gmina wiejska / Powiat wieluński / Województwo  - ŁÓDZKIE / 101703 / ",14200832,15548574,{"$f":"ISNUMBER(SEARCH(Wyszukiwarka!$A$1,'Porównanie dochodów JST'!J751))","v":false},{"$f":"IF(M751,COUNTIF($M$16:M751,TRUE),\"\")","v":""},{"$f":"IFERROR(INDEX($J$16:$J$2822,MATCH(ROWS($J$16:J751),$N$16:$N$2822,0)),\"\")","v":""}]
["10","17","04","2","101704","Gmina wiejska","ŁÓDZKIE","wieluński","MOKRSKO","MOKRSKO - Gmina wiejska / Powiat wieluński / Województwo  - ŁÓDZKIE / 101704 / ",21321640,23304198,{"$f":"ISNUMBER(SEARCH(Wyszukiwarka!$A$1,'Porównanie dochodów JST'!J752))","v":false},{"$f":"IF(M752,COUNTIF($M$16:M752,TRUE),\"\")","v":""},{"$f":"IFERROR(INDEX($J$16:$J$2822,MATCH(ROWS($J$16:J752),$N$16:$N$2822,0)),\"\")","v":""}]
["10","17","05","2","101705","Gmina wiejska","ŁÓDZKIE","wieluński","OSJAKÓW","OSJAKÓW - Gmina wiejska / Powiat wieluński / Województwo  - ŁÓDZKIE / 101705 / ",20322358,22293695,{"$f":"ISNUMBER(SEARCH(Wyszukiwarka!$A$1,'Porównanie dochodów JST'!J753))","v":false},{"$f":"IF(M753,COUNTIF($M$16:M753,TRUE),\"\")","v":""},{"$f":"IFERROR(INDEX($J$16:$J$2822,MATCH(ROWS($J$16:J753),$N$16:$N$2822,0)),\"\")","v":""}]
["10","17","06","2","101706","Gmina wiejska","ŁÓDZKIE","wieluński","OSTRÓWEK","OSTRÓWEK - Gmina wiejska / Powiat wieluński / Województwo  - ŁÓDZKIE / 101706 / ",18528940,20473545.600576598,{"$f":"ISNUMBER(SEARCH(Wyszukiwarka!$A$1,'Porównanie dochodów JST'!J754))","v":false},{"$f":"IF(M754,COUNTIF($M$16:M754,TRUE),\"\")","v":""},{"$f":"IFERROR(INDEX($J$16:$J$2822,MATCH(ROWS($J$16:J754),$N$16:$N$2822,0)),\"\")","v":""}]
["10","17","07","2","101707","Gmina wiejska","ŁÓDZKIE","wieluński","PĄTNÓW","PĄTNÓW - Gmina wiejska / Powiat wieluński / Województwo  - ŁÓDZKIE / 101707 / ",25087921,27701687.815126978,{"$f":"ISNUMBER(SEARCH(Wyszukiwarka!$A$1,'Porównanie dochodów JST'!J755))","v":false},{"$f":"IF(M755,COUNTIF($M$16:M755,TRUE),\"\")","v":""},{"$f":"IFERROR(INDEX($J$16:$J$2822,MATCH(ROWS($J$16:J755),$N$16:$N$2822,0)),\"\")","v":""}]
["10","17","08","2","101708","Gmina wiejska","ŁÓDZKIE","wieluński","SKOMLIN","SKOMLIN - Gmina wiejska / Powiat wieluński / Województwo  - ŁÓDZKIE / 101708 / ",12466361,13779224.870000001,{"$f":"ISNUMBER(SEARCH(Wyszukiwarka!$A$1,'Porównanie dochodów JST'!J756))","v":false},{"$f":"IF(M756,COUNTIF($M$16:M756,TRUE),\"\")","v":""},{"$f":"IFERROR(INDEX($J$16:$J$2822,MATCH(ROWS($J$16:J756),$N$16:$N$2822,0)),\"\")","v":""}]
["10","17","09","3","101709","Gmina miejsko-wiejska","ŁÓDZKIE","wieluński","WIELUŃ","WIELUŃ - Gmina miejsko-wiejska / Powiat wieluński / Województwo  - ŁÓDZKIE / 101709 / ",94665586,107608506.13871859,{"$f":"ISNUMBER(SEARCH(Wyszukiwarka!$A$1,'Porównanie dochodów JST'!J757))","v":false},{"$f":"IF(M757,COUNTIF($M$16:M757,TRUE),\"\")","v":""},{"$f":"IFERROR(INDEX($J$16:$J$2822,MATCH(ROWS($J$16:J757),$N$16:$N$2822,0)),\"\")","v":""}]
["10","17","10","2","101710","Gmina wiejska","ŁÓDZKIE","wieluński","WIERZCHLAS","WIERZCHLAS - Gmina wiejska / Powiat wieluński / Województwo  - ŁÓDZKIE / 101710 / ",31422640,34057540,{"$f":"ISNUMBER(SEARCH(Wyszukiwarka!$A$1,'Porównanie dochodów JST'!J758))","v":false},{"$f":"IF(M758,COUNTIF($M$16:M758,TRUE),\"\")","v":""},{"$f":"IFERROR(INDEX($J$16:$J$2822,MATCH(ROWS($J$16:J758),$N$16:$N$2822,0)),\"\")","v":""}]
["10","18","01","2","101801","Gmina wiejska","ŁÓDZKIE","wieruszowski","BOLESŁAWIEC","BOLESŁAWIEC - Gmina wiejska / Powiat wieruszowski / Województwo  - ŁÓDZKIE / 101801 / ",16927655,18308813.770387895,{"$f":"ISNUMBER(SEARCH(Wyszukiwarka!$A$1,'Porównanie dochodów JST'!J759))","v":false},{"$f":"IF(M759,COUNTIF($M$16:M759,TRUE),\"\")","v":""},{"$f":"IFERROR(INDEX($J$16:$J$2822,MATCH(ROWS($J$16:J759),$N$16:$N$2822,0)),\"\")","v":""}]
["10","18","02","2","101802","Gmina wiejska","ŁÓDZKIE","wieruszowski","CZASTARY","CZASTARY - Gmina wiejska / Powiat wieruszowski / Województwo  - ŁÓDZKIE / 101802 / ",16977542,18359229.907048304,{"$f":"ISNUMBER(SEARCH(Wyszukiwarka!$A$1,'Porównanie dochodów JST'!J760))","v":false},{"$f":"IF(M760,COUNTIF($M$16:M760,TRUE),\"\")","v":""},{"$f":"IFERROR(INDEX($J$16:$J$2822,MATCH(ROWS($J$16:J760),$N$16:$N$2822,0)),\"\")","v":""}]
["10","18","03","2","101803","Gmina wiejska","ŁÓDZKIE","wieruszowski","GALEWICE","GALEWICE - Gmina wiejska / Powiat wieruszowski / Województwo  - ŁÓDZKIE / 101803 / ",26866631,29501654,{"$f":"ISNUMBER(SEARCH(Wyszukiwarka!$A$1,'Porównanie dochodów JST'!J761))","v":false},{"$f":"IF(M761,COUNTIF($M$16:M761,TRUE),\"\")","v":""},{"$f":"IFERROR(INDEX($J$16:$J$2822,MATCH(ROWS($J$16:J761),$N$16:$N$2822,0)),\"\")","v":""}]
["10","18","04","3","101804","Gmina miejsko-wiejska","ŁÓDZKIE","wieruszowski","LUTUTÓW","LUTUTÓW - Gmina miejsko-wiejska / Powiat wieruszowski / Województwo  - ŁÓDZKIE / 101804 / ",19885969,21841872,{"$f":"ISNUMBER(SEARCH(Wyszukiwarka!$A$1,'Porównanie dochodów JST'!J762))","v":false},{"$f":"IF(M762,COUNTIF($M$16:M762,TRUE),\"\")","v":""},{"$f":"IFERROR(INDEX($J$16:$J$2822,MATCH(ROWS($J$16:J762),$N$16:$N$2822,0)),\"\")","v":""}]
["10","18","05","2","101805","Gmina wiejska","ŁÓDZKIE","wieruszowski","ŁUBNICE","ŁUBNICE - Gmina wiejska / Powiat wieruszowski / Województwo  - ŁÓDZKIE / 101805 / ",15504563,16886944.938921832,{"$f":"ISNUMBER(SEARCH(Wyszukiwarka!$A$1,'Porównanie dochodów JST'!J763))","v":false},{"$f":"IF(M763,COUNTIF($M$16:M763,TRUE),\"\")","v":""},{"$f":"IFERROR(INDEX($J$16:$J$2822,MATCH(ROWS($J$16:J763),$N$16:$N$2822,0)),\"\")","v":""}]
["10","18","06","2","101806","Gmina wiejska","ŁÓDZKIE","wieruszowski","SOKOLNIKI","SOKOLNIKI - Gmina wiejska / Powiat wieruszowski / Województwo  - ŁÓDZKIE / 101806 / ",22023906,24032584,{"$f":"ISNUMBER(SEARCH(Wyszukiwarka!$A$1,'Porównanie dochodów JST'!J764))","v":false},{"$f":"IF(M764,COUNTIF($M$16:M764,TRUE),\"\")","v":""},{"$f":"IFERROR(INDEX($J$16:$J$2822,MATCH(ROWS($J$16:J764),$N$16:$N$2822,0)),\"\")","v":""}]
["10","18","07","3","101807","Gmina miejsko-wiejska","ŁÓDZKIE","wieruszowski","WIERUSZÓW","WIERUSZÓW - Gmina miejsko-wiejska / Powiat wieruszowski / Województwo  - ŁÓDZKIE / 101807 / ",51229295,55806654,{"$f":"ISNUMBER(SEARCH(Wyszukiwarka!$A$1,'Porównanie dochodów JST'!J765))","v":false},{"$f":"IF(M765,COUNTIF($M$16:M765,TRUE),\"\")","v":""},{"$f":"IFERROR(INDEX($J$16:$J$2822,MATCH(ROWS($J$16:J765),$N$16:$N$2822,0)),\"\")","v":""}]
["10","19","01","1","101901","Gmina miejska","ŁÓDZKIE","zduńskowolski","ZDUŃSKA WOLA","ZDUŃSKA WOLA - Gmina miejska / Powiat zduńskowolski / Województwo  - ŁÓDZKIE / 101901 / ",124758484,136267910.65810001,{"$f":"ISNUMBER(SEARCH(Wyszukiwarka!$A$1,'Porównanie dochodów JST'!J766))","v":false},{"$f":"IF(M766,COUNTIF($M$16:M766,TRUE),\"\")","v":""},{"$f":"IFERROR(INDEX($J$16:$J$2822,MATCH(ROWS($J$16:J766),$N$16:$N$2822,0)),\"\")","v":""}]
["10","19","02","3","101902","Gmina miejsko-wiejska","ŁÓDZKIE","zduńskowolski","SZADEK","SZADEK - Gmina miejsko-wiejska / Powiat zduńskowolski / Województwo  - ŁÓDZKIE / 101902 / ",26176819,28883562,{"$f":"ISNUMBER(SEARCH(Wyszukiwarka!$A$1,'Porównanie dochodów JST'!J767))","v":false},{"$f":"IF(M767,COUNTIF($M$16:M767,TRUE),\"\")","v":""},{"$f":"IFERROR(INDEX($J$16:$J$2822,MATCH(ROWS($J$16:J767),$N$16:$N$2822,0)),\"\")","v":""}]
["10","19","03","2","101903","Gmina wiejska","ŁÓDZKIE","zduńskowolski","ZAPOLICE","ZAPOLICE - Gmina wiejska / Powiat zduńskowolski / Województwo  - ŁÓDZKIE / 101903 / ",20621936,22677316.844905935,{"$f":"ISNUMBER(SEARCH(Wyszukiwarka!$A$1,'Porównanie dochodów JST'!J768))","v":false},{"$f":"IF(M768,COUNTIF($M$16:M768,TRUE),\"\")","v":""},{"$f":"IFERROR(INDEX($J$16:$J$2822,MATCH(ROWS($J$16:J768),$N$16:$N$2822,0)),\"\")","v":""}]
["10","19","04","2","101904","Gmina wiejska","ŁÓDZKIE","zduńskowolski","ZDUŃSKA WOLA","ZDUŃSKA WOLA - Gmina wiejska / Powiat zduńskowolski / Województwo  - ŁÓDZKIE / 101904 / ",44812409,48956638.855624124,{"$f":"ISNUMBER(SEARCH(Wyszukiwarka!$A$1,'Porównanie dochodów JST'!J769))","v":false},{"$f":"IF(M769,COUNTIF($M$16:M769,TRUE),\"\")","v":""},{"$f":"IFERROR(INDEX($J$16:$J$2822,MATCH(ROWS($J$16:J769),$N$16:$N$2822,0)),\"\")","v":""}]
["10","20","01","1","102001","Gmina miejska","ŁÓDZKIE","zgierski","GŁOWNO","GŁOWNO - Gmina miejska / Powiat zgierski / Województwo  - ŁÓDZKIE / 102001 / ",37853945,43745444.960000001,{"$f":"ISNUMBER(SEARCH(Wyszukiwarka!$A$1,'Porównanie dochodów JST'!J770))","v":false},{"$f":"IF(M770,COUNTIF($M$16:M770,TRUE),\"\")","v":""},{"$f":"IFERROR(INDEX($J$16:$J$2822,MATCH(ROWS($J$16:J770),$N$16:$N$2822,0)),\"\")","v":""}]
["10","20","02","1","102002","Gmina miejska","ŁÓDZKIE","zgierski","OZORKÓW","OZORKÓW - Gmina miejska / Powiat zgierski / Województwo  - ŁÓDZKIE / 102002 / ",56242836,63053619.618200012,{"$f":"ISNUMBER(SEARCH(Wyszukiwarka!$A$1,'Porównanie dochodów JST'!J771))","v":false},{"$f":"IF(M771,COUNTIF($M$16:M771,TRUE),\"\")","v":""},{"$f":"IFERROR(INDEX($J$16:$J$2822,MATCH(ROWS($J$16:J771),$N$16:$N$2822,0)),\"\")","v":""}]
["10","20","03","1","102003","Gmina miejska","ŁÓDZKIE","zgierski","ZGIERZ","ZGIERZ - Gmina miejska / Powiat zgierski / Województwo  - ŁÓDZKIE / 102003 / ",172015330,198445651.03999999,{"$f":"ISNUMBER(SEARCH(Wyszukiwarka!$A$1,'Porównanie dochodów JST'!J772))","v":false},{"$f":"IF(M772,COUNTIF($M$16:M772,TRUE),\"\")","v":""},{"$f":"IFERROR(INDEX($J$16:$J$2822,MATCH(ROWS($J$16:J772),$N$16:$N$2822,0)),\"\")","v":""}]
["10","20","04","3","102004","Gmina miejsko-wiejska","ŁÓDZKIE","zgierski","ALEKSANDRÓW ŁÓDZKI","ALEKSANDRÓW ŁÓDZKI - Gmina miejsko-wiejska / Powiat zgierski / Województwo  - ŁÓDZKIE / 102004 / ",129848900,139775104.94190001,{"$f":"ISNUMBER(SEARCH(Wyszukiwarka!$A$1,'Porównanie dochodów JST'!J773))","v":false},{"$f":"IF(M773,COUNTIF($M$16:M773,TRUE),\"\")","v":""},{"$f":"IFERROR(INDEX($J$16:$J$2822,MATCH(ROWS($J$16:J773),$N$16:$N$2822,0)),\"\")","v":""}]
["10","20","05","2","102005","Gmina wiejska","ŁÓDZKIE","zgierski","GŁOWNO","GŁOWNO - Gmina wiejska / Powiat zgierski / Województwo  - ŁÓDZKIE / 102005 / ",17542882,19495592,{"$f":"ISNUMBER(SEARCH(Wyszukiwarka!$A$1,'Porównanie dochodów JST'!J774))","v":false},{"$f":"IF(M774,COUNTIF($M$16:M774,TRUE),\"\")","v":""},{"$f":"IFERROR(INDEX($J$16:$J$2822,MATCH(ROWS($J$16:J774),$N$16:$N$2822,0)),\"\")","v":""}]
["10","20","06","2","102006","Gmina wiejska","ŁÓDZKIE","zgierski","OZORKÓW","OZORKÓW - Gmina wiejska / Powiat zgierski / Województwo  - ŁÓDZKIE / 102006 / ",21484566,24081846,{"$f":"ISNUMBER(SEARCH(Wyszukiwarka!$A$1,'Porównanie dochodów JST'!J775))","v":false},{"$f":"IF(M775,COUNTIF($M$16:M775,TRUE),\"\")","v":""},{"$f":"IFERROR(INDEX($J$16:$J$2822,MATCH(ROWS($J$16:J775),$N$16:$N$2822,0)),\"\")","v":""}]
["10","20","07","2","102007","Gmina wiejska","ŁÓDZKIE","zgierski","PARZĘCZEW","PARZĘCZEW - Gmina wiejska / Powiat zgierski / Województwo  - ŁÓDZKIE / 102007 / ",18893099,20911344.949096899,{"$f":"ISNUMBER(SEARCH(Wyszukiwarka!$A$1,'Porównanie dochodów JST'!J776))","v":false},{"$f":"IF(M776,COUNTIF($M$16:M776,TRUE),\"\")","v":""},{"$f":"IFERROR(INDEX($J$16:$J$2822,MATCH(ROWS($J$16:J776),$N$16:$N$2822,0)),\"\")","v":""}]
["10","20","08","3","102008","Gmina miejsko-wiejska","ŁÓDZKIE","zgierski","STRYKÓW","STRYKÓW - Gmina miejsko-wiejska / Powiat zgierski / Województwo  - ŁÓDZKIE / 102008 / ",46211648,51172724.79915642,{"$f":"ISNUMBER(SEARCH(Wyszukiwarka!$A$1,'Porównanie dochodów JST'!J777))","v":false},{"$f":"IF(M777,COUNTIF($M$16:M777,TRUE),\"\")","v":""},{"$f":"IFERROR(INDEX($J$16:$J$2822,MATCH(ROWS($J$16:J777),$N$16:$N$2822,0)),\"\")","v":""}]
["10","20","09","2","102009","Gmina wiejska","ŁÓDZKIE","zgierski","ZGIERZ","ZGIERZ - Gmina wiejska / Powiat zgierski / Województwo  - ŁÓDZKIE / 102009 / ",59273386,64552993,{"$f":"ISNUMBER(SEARCH(Wyszukiwarka!$A$1,'Porównanie dochodów JST'!J778))","v":false},{"$f":"IF(M778,COUNTIF($M$16:M778,TRUE),\"\")","v":""},{"$f":"IFERROR(INDEX($J$16:$J$2822,MATCH(ROWS($J$16:J778),$N$16:$N$2822,0)),\"\")","v":""}]
["10","21","01","1","102101","Gmina miejska","ŁÓDZKIE","brzeziński","BRZEZINY","BRZEZINY - Gmina miejska / Powiat brzeziński / Województwo  - ŁÓDZKIE / 102101 / ",37298638,41940489.204900004,{"$f":"ISNUMBER(SEARCH(Wyszukiwarka!$A$1,'Porównanie dochodów JST'!J779))","v":false},{"$f":"IF(M779,COUNTIF($M$16:M779,TRUE),\"\")","v":""},{"$f":"IFERROR(INDEX($J$16:$J$2822,MATCH(ROWS($J$16:J779),$N$16:$N$2822,0)),\"\")","v":""}]
["10","21","02","2","102102","Gmina wiejska","ŁÓDZKIE","brzeziński","BRZEZINY","BRZEZINY - Gmina wiejska / Powiat brzeziński / Województwo  - ŁÓDZKIE / 102102 / ",21107870,23743538.892645314,{"$f":"ISNUMBER(SEARCH(Wyszukiwarka!$A$1,'Porównanie dochodów JST'!J780))","v":false},{"$f":"IF(M780,COUNTIF($M$16:M780,TRUE),\"\")","v":""},{"$f":"IFERROR(INDEX($J$16:$J$2822,MATCH(ROWS($J$16:J780),$N$16:$N$2822,0)),\"\")","v":""}]
["10","21","03","2","102103","Gmina wiejska","ŁÓDZKIE","brzeziński","DMOSIN","DMOSIN - Gmina wiejska / Powiat brzeziński / Województwo  - ŁÓDZKIE / 102103 / ",15609765,17567471,{"$f":"ISNUMBER(SEARCH(Wyszukiwarka!$A$1,'Porównanie dochodów JST'!J781))","v":false},{"$f":"IF(M781,COUNTIF($M$16:M781,TRUE),\"\")","v":""},{"$f":"IFERROR(INDEX($J$16:$J$2822,MATCH(ROWS($J$16:J781),$N$16:$N$2822,0)),\"\")","v":""}]
["10","21","04","2","102104","Gmina wiejska","ŁÓDZKIE","brzeziński","JEŻÓW","JEŻÓW - Gmina wiejska / Powiat brzeziński / Województwo  - ŁÓDZKIE / 102104 / ",12605458,13926643,{"$f":"ISNUMBER(SEARCH(Wyszukiwarka!$A$1,'Porównanie dochodów JST'!J782))","v":false},{"$f":"IF(M782,COUNTIF($M$16:M782,TRUE),\"\")","v":""},{"$f":"IFERROR(INDEX($J$16:$J$2822,MATCH(ROWS($J$16:J782),$N$16:$N$2822,0)),\"\")","v":""}]
["10","21","05","2","102105","Gmina wiejska","ŁÓDZKIE","brzeziński","ROGÓW","ROGÓW - Gmina wiejska / Powiat brzeziński / Województwo  - ŁÓDZKIE / 102105 / ",18877571,20826121.816916533,{"$f":"ISNUMBER(SEARCH(Wyszukiwarka!$A$1,'Porównanie dochodów JST'!J783))","v":false},{"$f":"IF(M783,COUNTIF($M$16:M783,TRUE),\"\")","v":""},{"$f":"IFERROR(INDEX($J$16:$J$2822,MATCH(ROWS($J$16:J783),$N$16:$N$2822,0)),\"\")","v":""}]
["12","01","01","1","120101","Gmina miejska","MAŁOPOLSKIE","bocheński","BOCHNIA","BOCHNIA - Gmina miejska / Powiat bocheński / Województwo  - MAŁOPOLSKIE / 120101 / ",106916013,119763560.4181,{"$f":"ISNUMBER(SEARCH(Wyszukiwarka!$A$1,'Porównanie dochodów JST'!J784))","v":false},{"$f":"IF(M784,COUNTIF($M$16:M784,TRUE),\"\")","v":""},{"$f":"IFERROR(INDEX($J$16:$J$2822,MATCH(ROWS($J$16:J784),$N$16:$N$2822,0)),\"\")","v":""}]
["12","01","02","2","120102","Gmina wiejska","MAŁOPOLSKIE","bocheński","BOCHNIA",{"$f":"I785&$H$12&F785&$G$12&$H$14&H785&$G$12&$G$14&$H$12&G785&$G$12&E785&$G$12","v":"BOCHNIA - Gmina wiejska / Powiat bocheński / Województwo  - MAŁOPOLSKIE / 120102 / "},86847152,92317389.440065965,{"$f":"ISNUMBER(SEARCH(Wyszukiwarka!$A$1,'Porównanie dochodów JST'!J785))","v":false},{"$f":"IF(M785,COUNTIF($M$16:M785,TRUE),\"\")","v":""},{"$f":"IFERROR(INDEX($J$16:$J$2822,MATCH(ROWS($J$16:J785),$N$16:$N$2822,0)),\"\")","v":""}]
["12","01","03","2","120103","Gmina wiejska","MAŁOPOLSKIE","bocheński","DRWINIA","DRWINIA - Gmina wiejska / Powiat bocheński / Województwo  - MAŁOPOLSKIE / 120103 / ",30255576,32888872,{"$f":"ISNUMBER(SEARCH(Wyszukiwarka!$A$1,'Porównanie dochodów JST'!J786))","v":false},{"$f":"IF(M786,COUNTIF($M$16:M786,TRUE),\"\")","v":""},{"$f":"IFERROR(INDEX($J$16:$J$2822,MATCH(ROWS($J$16:J786),$N$16:$N$2822,0)),\"\")","v":""}]
["12","01","04","2","120104","Gmina wiejska","MAŁOPOLSKIE","bocheński","LIPNICA MUROWANA","LIPNICA MUROWANA - Gmina wiejska / Powiat bocheński / Województwo  - MAŁOPOLSKIE / 120104 / ",23124130,25154370,{"$f":"ISNUMBER(SEARCH(Wyszukiwarka!$A$1,'Porównanie dochodów JST'!J787))","v":false},{"$f":"IF(M787,COUNTIF($M$16:M787,TRUE),\"\")","v":""},{"$f":"IFERROR(INDEX($J$16:$J$2822,MATCH(ROWS($J$16:J787),$N$16:$N$2822,0)),\"\")","v":""}]
["12","01","05","2","120105","Gmina wiejska","MAŁOPOLSKIE","bocheński","ŁAPANÓW","ŁAPANÓW - Gmina wiejska / Powiat bocheński / Województwo  - MAŁOPOLSKIE / 120105 / ",41246249,46416992.963538677,{"$f":"ISNUMBER(SEARCH(Wyszukiwarka!$A$1,'Porównanie dochodów JST'!J788))","v":false},{"$f":"IF(M788,COUNTIF($M$16:M788,TRUE),\"\")","v":""},{"$f":"IFERROR(INDEX($J$16:$J$2822,MATCH(ROWS($J$16:J788),$N$16:$N$2822,0)),\"\")","v":""}]
["12","01","06","3","120106","Gmina miejsko-wiejska","MAŁOPOLSKIE","bocheński","NOWY WIŚNICZ","NOWY WIŚNICZ - Gmina miejsko-wiejska / Powiat bocheński / Województwo  - MAŁOPOLSKIE / 120106 / ",60548317,64849050.834624313,{"$f":"ISNUMBER(SEARCH(Wyszukiwarka!$A$1,'Porównanie dochodów JST'!J789))","v":false},{"$f":"IF(M789,COUNTIF($M$16:M789,TRUE),\"\")","v":""},{"$f":"IFERROR(INDEX($J$16:$J$2822,MATCH(ROWS($J$16:J789),$N$16:$N$2822,0)),\"\")","v":""}]
["12","01","07","2","120107","Gmina wiejska","MAŁOPOLSKIE","bocheński","RZEZAWA","RZEZAWA - Gmina wiejska / Powiat bocheński / Województwo  - MAŁOPOLSKIE / 120107 / ",47799590,51836127,{"$f":"ISNUMBER(SEARCH(Wyszukiwarka!$A$1,'Porównanie dochodów JST'!J790))","v":false},{"$f":"IF(M790,COUNTIF($M$16:M790,TRUE),\"\")","v":""},{"$f":"IFERROR(INDEX($J$16:$J$2822,MATCH(ROWS($J$16:J790),$N$16:$N$2822,0)),\"\")","v":""}]
["12","01","08","2","120108","Gmina wiejska","MAŁOPOLSKIE","bocheński","TRZCIANA","TRZCIANA - Gmina wiejska / Powiat bocheński / Województwo  - MAŁOPOLSKIE / 120108 / ",31262332,35589962.239999995,{"$f":"ISNUMBER(SEARCH(Wyszukiwarka!$A$1,'Porównanie dochodów JST'!J791))","v":false},{"$f":"IF(M791,COUNTIF($M$16:M791,TRUE),\"\")","v":""},{"$f":"IFERROR(INDEX($J$16:$J$2822,MATCH(ROWS($J$16:J791),$N$16:$N$2822,0)),\"\")","v":""}]
["12","01","09","2","120109","Gmina wiejska","MAŁOPOLSKIE","bocheński","ŻEGOCINA","ŻEGOCINA - Gmina wiejska / Powiat bocheński / Województwo  - MAŁOPOLSKIE / 120109 / ",32292621,34825378.15236105,{"$f":"ISNUMBER(SEARCH(Wyszukiwarka!$A$1,'Porównanie dochodów JST'!J792))","v":false},{"$f":"IF(M792,COUNTIF($M$16:M792,TRUE),\"\")","v":""},{"$f":"IFERROR(INDEX($J$16:$J$2822,MATCH(ROWS($J$16:J792),$N$16:$N$2822,0)),\"\")","v":""}]
["12","02","01","2","120201","Gmina wiejska","MAŁOPOLSKIE","brzeski","BORZĘCIN","BORZĘCIN - Gmina wiejska / Powiat brzeski / Województwo  - MAŁOPOLSKIE / 120201 / ",28839872,32121802,{"$f":"ISNUMBER(SEARCH(Wyszukiwarka!$A$1,'Porównanie dochodów JST'!J793))","v":false},{"$f":"IF(M793,COUNTIF($M$16:M793,TRUE),\"\")","v":""},{"$f":"IFERROR(INDEX($J$16:$J$2822,MATCH(ROWS($J$16:J793),$N$16:$N$2822,0)),\"\")","v":""}]
["12","02","02","3","120202","Gmina miejsko-wiejska","MAŁOPOLSKIE","brzeski","BRZESKO","BRZESKO - Gmina miejsko-wiejska / Powiat brzeski / Województwo  - MAŁOPOLSKIE / 120202 / ",126837851,135347622.75279629,{"$f":"ISNUMBER(SEARCH(Wyszukiwarka!$A$1,'Porównanie dochodów JST'!J794))","v":false},{"$f":"IF(M794,COUNTIF($M$16:M794,TRUE),\"\")","v":""},{"$f":"IFERROR(INDEX($J$16:$J$2822,MATCH(ROWS($J$16:J794),$N$16:$N$2822,0)),\"\")","v":""}]
["12","02","03","3","120203","Gmina miejsko-wiejska","MAŁOPOLSKIE","brzeski","CZCHÓW","CZCHÓW - Gmina miejsko-wiejska / Powiat brzeski / Województwo  - MAŁOPOLSKIE / 120203 / ",49892505,55871008.056243807,{"$f":"ISNUMBER(SEARCH(Wyszukiwarka!$A$1,'Porównanie dochodów JST'!J795))","v":false},{"$f":"IF(M795,COUNTIF($M$16:M795,TRUE),\"\")","v":""},{"$f":"IFERROR(INDEX($J$16:$J$2822,MATCH(ROWS($J$16:J795),$N$16:$N$2822,0)),\"\")","v":""}]
["12","02","04","2","120204","Gmina wiejska","MAŁOPOLSKIE","brzeski","DĘBNO","DĘBNO - Gmina wiejska / Powiat brzeski / Województwo  - MAŁOPOLSKIE / 120204 / ",57914480,62215842,{"$f":"ISNUMBER(SEARCH(Wyszukiwarka!$A$1,'Porównanie dochodów JST'!J796))","v":false},{"$f":"IF(M796,COUNTIF($M$16:M796,TRUE),\"\")","v":""},{"$f":"IFERROR(INDEX($J$16:$J$2822,MATCH(ROWS($J$16:J796),$N$16:$N$2822,0)),\"\")","v":""}]
["12","02","05","2","120205","Gmina wiejska","MAŁOPOLSKIE","brzeski","GNOJNIK","GNOJNIK - Gmina wiejska / Powiat brzeski / Województwo  - MAŁOPOLSKIE / 120205 / ",35640810,38882165,{"$f":"ISNUMBER(SEARCH(Wyszukiwarka!$A$1,'Porównanie dochodów JST'!J797))","v":false},{"$f":"IF(M797,COUNTIF($M$16:M797,TRUE),\"\")","v":""},{"$f":"IFERROR(INDEX($J$16:$J$2822,MATCH(ROWS($J$16:J797),$N$16:$N$2822,0)),\"\")","v":""}]
["12","02","06","2","120206","Gmina wiejska","MAŁOPOLSKIE","brzeski","IWKOWA","IWKOWA - Gmina wiejska / Powiat brzeski / Województwo  - MAŁOPOLSKIE / 120206 / ",30685571,35040436.480000004,{"$f":"ISNUMBER(SEARCH(Wyszukiwarka!$A$1,'Porównanie dochodów JST'!J798))","v":false},{"$f":"IF(M798,COUNTIF($M$16:M798,TRUE),\"\")","v":""},{"$f":"IFERROR(INDEX($J$16:$J$2822,MATCH(ROWS($J$16:J798),$N$16:$N$2822,0)),\"\")","v":""}]
["12","02","07","2","120207","Gmina wiejska","MAŁOPOLSKIE","brzeski","SZCZUROWA","SZCZUROWA - Gmina wiejska / Powiat brzeski / Województwo  - MAŁOPOLSKIE / 120207 / ",37281552,40658328,{"$f":"ISNUMBER(SEARCH(Wyszukiwarka!$A$1,'Porównanie dochodów JST'!J799))","v":false},{"$f":"IF(M799,COUNTIF($M$16:M799,TRUE),\"\")","v":""},{"$f":"IFERROR(INDEX($J$16:$J$2822,MATCH(ROWS($J$16:J799),$N$16:$N$2822,0)),\"\")","v":""}]
["12","03","01","3","120301","Gmina miejsko-wiejska","MAŁOPOLSKIE","chrzanowski","ALWERNIA","ALWERNIA - Gmina miejsko-wiejska / Powiat chrzanowski / Województwo  - MAŁOPOLSKIE / 120301 / ",47189628,51401185,{"$f":"ISNUMBER(SEARCH(Wyszukiwarka!$A$1,'Porównanie dochodów JST'!J800))","v":false},{"$f":"IF(M800,COUNTIF($M$16:M800,TRUE),\"\")","v":""},{"$f":"IFERROR(INDEX($J$16:$J$2822,MATCH(ROWS($J$16:J800),$N$16:$N$2822,0)),\"\")","v":""}]
["12","03","02","2","120302","Gmina wiejska","MAŁOPOLSKIE","chrzanowski","BABICE","BABICE - Gmina wiejska / Powiat chrzanowski / Województwo  - MAŁOPOLSKIE / 120302 / ",33638939,36977237,{"$f":"ISNUMBER(SEARCH(Wyszukiwarka!$A$1,'Porównanie dochodów JST'!J801))","v":false},{"$f":"IF(M801,COUNTIF($M$16:M801,TRUE),\"\")","v":""},{"$f":"IFERROR(INDEX($J$16:$J$2822,MATCH(ROWS($J$16:J801),$N$16:$N$2822,0)),\"\")","v":""}]
["12","03","03","3","120303","Gmina miejsko-wiejska","MAŁOPOLSKIE","chrzanowski","CHRZANÓW","CHRZANÓW - Gmina miejsko-wiejska / Powiat chrzanowski / Województwo  - MAŁOPOLSKIE / 120303 / ",152666948,169758406.47660005,{"$f":"ISNUMBER(SEARCH(Wyszukiwarka!$A$1,'Porównanie dochodów JST'!J802))","v":false},{"$f":"IF(M802,COUNTIF($M$16:M802,TRUE),\"\")","v":""},{"$f":"IFERROR(INDEX($J$16:$J$2822,MATCH(ROWS($J$16:J802),$N$16:$N$2822,0)),\"\")","v":""}]
["12","03","04","3","120304","Gmina miejsko-wiejska","MAŁOPOLSKIE","chrzanowski","LIBIĄŻ","LIBIĄŻ - Gmina miejsko-wiejska / Powiat chrzanowski / Województwo  - MAŁOPOLSKIE / 120304 / ",68477772,78933004.640000001,{"$f":"ISNUMBER(SEARCH(Wyszukiwarka!$A$1,'Porównanie dochodów JST'!J803))","v":false},{"$f":"IF(M803,COUNTIF($M$16:M803,TRUE),\"\")","v":""},{"$f":"IFERROR(INDEX($J$16:$J$2822,MATCH(ROWS($J$16:J803),$N$16:$N$2822,0)),\"\")","v":""}]
["12","03","05","3","120305","Gmina miejsko-wiejska","MAŁOPOLSKIE","chrzanowski","TRZEBINIA","TRZEBINIA - Gmina miejsko-wiejska / Powiat chrzanowski / Województwo  - MAŁOPOLSKIE / 120305 / ",117766225,135963601.76000002,{"$f":"ISNUMBER(SEARCH(Wyszukiwarka!$A$1,'Porównanie dochodów JST'!J804))","v":false},{"$f":"IF(M804,COUNTIF($M$16:M804,TRUE),\"\")","v":""},{"$f":"IFERROR(INDEX($J$16:$J$2822,MATCH(ROWS($J$16:J804),$N$16:$N$2822,0)),\"\")","v":""}]
["12","04","01","2","120401","Gmina wiejska","MAŁOPOLSKIE","dąbrowski","BOLESŁAW","BOLESŁAW - Gmina wiejska / Powiat dąbrowski / Województwo  - MAŁOPOLSKIE / 120401 / ",9541921,10771607,{"$f":"ISNUMBER(SEARCH(Wyszukiwarka!$A$1,'Porównanie dochodów JST'!J805))","v":false},{"$f":"IF(M805,COUNTIF($M$16:M805,TRUE),\"\")","v":""},{"$f":"IFERROR(INDEX($J$16:$J$2822,MATCH(ROWS($J$16:J805),$N$16:$N$2822,0)),\"\")","v":""}]
["12","04","02","3","120402","Gmina miejsko-wiejska","MAŁOPOLSKIE","dąbrowski","DĄBROWA TARNOWSKA","DĄBROWA TARNOWSKA - Gmina miejsko-wiejska / Powiat dąbrowski / Województwo  - MAŁOPOLSKIE / 120402 / ",76994972,87571370.871231005,{"$f":"ISNUMBER(SEARCH(Wyszukiwarka!$A$1,'Porównanie dochodów JST'!J806))","v":false},{"$f":"IF(M806,COUNTIF($M$16:M806,TRUE),\"\")","v":""},{"$f":"IFERROR(INDEX($J$16:$J$2822,MATCH(ROWS($J$16:J806),$N$16:$N$2822,0)),\"\")","v":""}]
["12","04","03","2","120403","Gmina wiejska","MAŁOPOLSKIE","dąbrowski","GRĘBOSZÓW","GRĘBOSZÓW - Gmina wiejska / Powiat dąbrowski / Województwo  - MAŁOPOLSKIE / 120403 / ",8815089,10021979.989999998,{"$f":"ISNUMBER(SEARCH(Wyszukiwarka!$A$1,'Porównanie dochodów JST'!J807))","v":false},{"$f":"IF(M807,COUNTIF($M$16:M807,TRUE),\"\")","v":""},{"$f":"IFERROR(INDEX($J$16:$J$2822,MATCH(ROWS($J$16:J807),$N$16:$N$2822,0)),\"\")","v":""}]
["12","04","04","2","120404","Gmina wiejska","MAŁOPOLSKIE","dąbrowski","MĘDRZECHÓW","MĘDRZECHÓW - Gmina wiejska / Powiat dąbrowski / Województwo  - MAŁOPOLSKIE / 120404 / ",13413643,14737855,{"$f":"ISNUMBER(SEARCH(Wyszukiwarka!$A$1,'Porównanie dochodów JST'!J808))","v":false},{"$f":"IF(M808,COUNTIF($M$16:M808,TRUE),\"\")","v":""},{"$f":"IFERROR(INDEX($J$16:$J$2822,MATCH(ROWS($J$16:J808),$N$16:$N$2822,0)),\"\")","v":""}]
["12","04","05","2","120405","Gmina wiejska","MAŁOPOLSKIE","dąbrowski","OLESNO","OLESNO - Gmina wiejska / Powiat dąbrowski / Województwo  - MAŁOPOLSKIE / 120405 / ",27803524,30528038,{"$f":"ISNUMBER(SEARCH(Wyszukiwarka!$A$1,'Porównanie dochodów JST'!J809))","v":false},{"$f":"IF(M809,COUNTIF($M$16:M809,TRUE),\"\")","v":""},{"$f":"IFERROR(INDEX($J$16:$J$2822,MATCH(ROWS($J$16:J809),$N$16:$N$2822,0)),\"\")","v":""}]
["12","04","06","2","120406","Gmina wiejska","MAŁOPOLSKIE","dąbrowski","RADGOSZCZ","RADGOSZCZ - Gmina wiejska / Powiat dąbrowski / Województwo  - MAŁOPOLSKIE / 120406 / ",32386545,35136958,{"$f":"ISNUMBER(SEARCH(Wyszukiwarka!$A$1,'Porównanie dochodów JST'!J810))","v":false},{"$f":"IF(M810,COUNTIF($M$16:M810,TRUE),\"\")","v":""},{"$f":"IFERROR(INDEX($J$16:$J$2822,MATCH(ROWS($J$16:J810),$N$16:$N$2822,0)),\"\")","v":""}]
["12","04","07","3","120407","Gmina miejsko-wiejska","MAŁOPOLSKIE","dąbrowski","SZCZUCIN","SZCZUCIN - Gmina miejsko-wiejska / Powiat dąbrowski / Województwo  - MAŁOPOLSKIE / 120407 / ",49272491,53644099.58530575,{"$f":"ISNUMBER(SEARCH(Wyszukiwarka!$A$1,'Porównanie dochodów JST'!J811))","v":false},{"$f":"IF(M811,COUNTIF($M$16:M811,TRUE),\"\")","v":""},{"$f":"IFERROR(INDEX($J$16:$J$2822,MATCH(ROWS($J$16:J811),$N$16:$N$2822,0)),\"\")","v":""}]
["12","05","01","1","120501","Gmina miejska","MAŁOPOLSKIE","gorlicki","GORLICE","GORLICE - Gmina miejska / Powiat gorlicki / Województwo  - MAŁOPOLSKIE / 120501 / ",72574885,83889435.153100014,{"$f":"ISNUMBER(SEARCH(Wyszukiwarka!$A$1,'Porównanie dochodów JST'!J812))","v":false},{"$f":"IF(M812,COUNTIF($M$16:M812,TRUE),\"\")","v":""},{"$f":"IFERROR(INDEX($J$16:$J$2822,MATCH(ROWS($J$16:J812),$N$16:$N$2822,0)),\"\")","v":""}]
["12","05","02","3","120502","Gmina miejsko-wiejska","MAŁOPOLSKIE","gorlicki","BIECZ","BIECZ - Gmina miejsko-wiejska / Powiat gorlicki / Województwo  - MAŁOPOLSKIE / 120502 / ",62845398,67791155,{"$f":"ISNUMBER(SEARCH(Wyszukiwarka!$A$1,'Porównanie dochodów JST'!J813))","v":false},{"$f":"IF(M813,COUNTIF($M$16:M813,TRUE),\"\")","v":""},{"$f":"IFERROR(INDEX($J$16:$J$2822,MATCH(ROWS($J$16:J813),$N$16:$N$2822,0)),\"\")","v":""}]
["12","05","03","3","120503","Gmina miejsko-wiejska","MAŁOPOLSKIE","gorlicki","BOBOWA","BOBOWA - Gmina miejsko-wiejska / Powiat gorlicki / Województwo  - MAŁOPOLSKIE / 120503 / ",48160046,53840190.888083234,{"$f":"ISNUMBER(SEARCH(Wyszukiwarka!$A$1,'Porównanie dochodów JST'!J814))","v":false},{"$f":"IF(M814,COUNTIF($M$16:M814,TRUE),\"\")","v":""},{"$f":"IFERROR(INDEX($J$16:$J$2822,MATCH(ROWS($J$16:J814),$N$16:$N$2822,0)),\"\")","v":""}]
["12","05","04","2","120504","Gmina wiejska","MAŁOPOLSKIE","gorlicki","GORLICE","GORLICE - Gmina wiejska / Powiat gorlicki / Województwo  - MAŁOPOLSKIE / 120504 / ",70840121,79911946.680190116,{"$f":"ISNUMBER(SEARCH(Wyszukiwarka!$A$1,'Porównanie dochodów JST'!J815))","v":false},{"$f":"IF(M815,COUNTIF($M$16:M815,TRUE),\"\")","v":""},{"$f":"IFERROR(INDEX($J$16:$J$2822,MATCH(ROWS($J$16:J815),$N$16:$N$2822,0)),\"\")","v":""}]
["12","05","05","2","120505","Gmina wiejska","MAŁOPOLSKIE","gorlicki","LIPINKI","LIPINKI - Gmina wiejska / Powiat gorlicki / Województwo  - MAŁOPOLSKIE / 120505 / ",28540455,31167302,{"$f":"ISNUMBER(SEARCH(Wyszukiwarka!$A$1,'Porównanie dochodów JST'!J816))","v":false},{"$f":"IF(M816,COUNTIF($M$16:M816,TRUE),\"\")","v":""},{"$f":"IFERROR(INDEX($J$16:$J$2822,MATCH(ROWS($J$16:J816),$N$16:$N$2822,0)),\"\")","v":""}]
["12","05","06","2","120506","Gmina wiejska","MAŁOPOLSKIE","gorlicki","ŁUŻNA","ŁUŻNA - Gmina wiejska / Powiat gorlicki / Województwo  - MAŁOPOLSKIE / 120506 / ",37828906,42709971.150468037,{"$f":"ISNUMBER(SEARCH(Wyszukiwarka!$A$1,'Porównanie dochodów JST'!J817))","v":false},{"$f":"IF(M817,COUNTIF($M$16:M817,TRUE),\"\")","v":""},{"$f":"IFERROR(INDEX($J$16:$J$2822,MATCH(ROWS($J$16:J817),$N$16:$N$2822,0)),\"\")","v":""}]
["12","05","07","2","120507","Gmina wiejska","MAŁOPOLSKIE","gorlicki","MOSZCZENICA","MOSZCZENICA - Gmina wiejska / Powiat gorlicki / Województwo  - MAŁOPOLSKIE / 120507 / ",20673723,22633245,{"$f":"ISNUMBER(SEARCH(Wyszukiwarka!$A$1,'Porównanie dochodów JST'!J818))","v":false},{"$f":"IF(M818,COUNTIF($M$16:M818,TRUE),\"\")","v":""},{"$f":"IFERROR(INDEX($J$16:$J$2822,MATCH(ROWS($J$16:J818),$N$16:$N$2822,0)),\"\")","v":""}]
["12","05","08","2","120508","Gmina wiejska","MAŁOPOLSKIE","gorlicki","ROPA","ROPA - Gmina wiejska / Powiat gorlicki / Województwo  - MAŁOPOLSKIE / 120508 / ",24784623,28356805.119999997,{"$f":"ISNUMBER(SEARCH(Wyszukiwarka!$A$1,'Porównanie dochodów JST'!J819))","v":false},{"$f":"IF(M819,COUNTIF($M$16:M819,TRUE),\"\")","v":""},{"$f":"IFERROR(INDEX($J$16:$J$2822,MATCH(ROWS($J$16:J819),$N$16:$N$2822,0)),\"\")","v":""}]
["12","05","09","2","120509","Gmina wiejska","MAŁOPOLSKIE","gorlicki","SĘKOWA","SĘKOWA - Gmina wiejska / Powiat gorlicki / Województwo  - MAŁOPOLSKIE / 120509 / ",20363083,22370918.622830309,{"$f":"ISNUMBER(SEARCH(Wyszukiwarka!$A$1,'Porównanie dochodów JST'!J820))","v":false},{"$f":"IF(M820,COUNTIF($M$16:M820,TRUE),\"\")","v":""},{"$f":"IFERROR(INDEX($J$16:$J$2822,MATCH(ROWS($J$16:J820),$N$16:$N$2822,0)),\"\")","v":""}]
["12","05","10","2","120510","Gmina wiejska","MAŁOPOLSKIE","gorlicki","UŚCIE GORLICKIE","UŚCIE GORLICKIE - Gmina wiejska / Powiat gorlicki / Województwo  - MAŁOPOLSKIE / 120510 / ",30813448,35309233.120000005,{"$f":"ISNUMBER(SEARCH(Wyszukiwarka!$A$1,'Porównanie dochodów JST'!J821))","v":false},{"$f":"IF(M821,COUNTIF($M$16:M821,TRUE),\"\")","v":""},{"$f":"IFERROR(INDEX($J$16:$J$2822,MATCH(ROWS($J$16:J821),$N$16:$N$2822,0)),\"\")","v":""}]
["12","06","01","2","120601","Gmina wiejska","MAŁOPOLSKIE","krakowski","CZERNICHÓW","CZERNICHÓW - Gmina wiejska / Powiat krakowski / Województwo  - MAŁOPOLSKIE / 120601 / ",63732666,68738184,{"$f":"ISNUMBER(SEARCH(Wyszukiwarka!$A$1,'Porównanie dochodów JST'!J822))","v":false},{"$f":"IF(M822,COUNTIF($M$16:M822,TRUE),\"\")","v":""},{"$f":"IFERROR(INDEX($J$16:$J$2822,MATCH(ROWS($J$16:J822),$N$16:$N$2822,0)),\"\")","v":""}]
["12","06","02","2","120602","Gmina wiejska","MAŁOPOLSKIE","krakowski","IGOŁOMIA-WAWRZEŃCZYCE","IGOŁOMIA-WAWRZEŃCZYCE - Gmina wiejska / Powiat krakowski / Województwo  - MAŁOPOLSKIE / 120602 / ",27163959,29870235,{"$f":"ISNUMBER(SEARCH(Wyszukiwarka!$A$1,'Porównanie dochodów JST'!J823))","v":false},{"$f":"IF(M823,COUNTIF($M$16:M823,TRUE),\"\")","v":""},{"$f":"IFERROR(INDEX($J$16:$J$2822,MATCH(ROWS($J$16:J823),$N$16:$N$2822,0)),\"\")","v":""}]
["12","06","03","2","120603","Gmina wiejska","MAŁOPOLSKIE","krakowski","IWANOWICE","IWANOWICE - Gmina wiejska / Powiat krakowski / Województwo  - MAŁOPOLSKIE / 120603 / ",46233428,49639351,{"$f":"ISNUMBER(SEARCH(Wyszukiwarka!$A$1,'Porównanie dochodów JST'!J824))","v":false},{"$f":"IF(M824,COUNTIF($M$16:M824,TRUE),\"\")","v":""},{"$f":"IFERROR(INDEX($J$16:$J$2822,MATCH(ROWS($J$16:J824),$N$16:$N$2822,0)),\"\")","v":""}]
["12","06","04","2","120604","Gmina wiejska","MAŁOPOLSKIE","krakowski","JERZMANOWICE-PRZEGINIA","JERZMANOWICE-PRZEGINIA - Gmina wiejska / Powiat krakowski / Województwo  - MAŁOPOLSKIE / 120604 / ",43728286,47768126.753856257,{"$f":"ISNUMBER(SEARCH(Wyszukiwarka!$A$1,'Porównanie dochodów JST'!J825))","v":false},{"$f":"IF(M825,COUNTIF($M$16:M825,TRUE),\"\")","v":""},{"$f":"IFERROR(INDEX($J$16:$J$2822,MATCH(ROWS($J$16:J825),$N$16:$N$2822,0)),\"\")","v":""}]
["12","06","05","2","120605","Gmina wiejska","MAŁOPOLSKIE","krakowski","KOCMYRZÓW-LUBORZYCA","KOCMYRZÓW-LUBORZYCA - Gmina wiejska / Powiat krakowski / Województwo  - MAŁOPOLSKIE / 120605 / ",72133582,77428677.601249486,{"$f":"ISNUMBER(SEARCH(Wyszukiwarka!$A$1,'Porównanie dochodów JST'!J826))","v":false},{"$f":"IF(M826,COUNTIF($M$16:M826,TRUE),\"\")","v":""},{"$f":"IFERROR(INDEX($J$16:$J$2822,MATCH(ROWS($J$16:J826),$N$16:$N$2822,0)),\"\")","v":""}]
["12","06","06","3","120606","Gmina miejsko-wiejska","MAŁOPOLSKIE","krakowski","KRZESZOWICE","KRZESZOWICE - Gmina miejsko-wiejska / Powiat krakowski / Województwo  - MAŁOPOLSKIE / 120606 / ",112522266,120156981.72440003,{"$f":"ISNUMBER(SEARCH(Wyszukiwarka!$A$1,'Porównanie dochodów JST'!J827))","v":false},{"$f":"IF(M827,COUNTIF($M$16:M827,TRUE),\"\")","v":""},{"$f":"IFERROR(INDEX($J$16:$J$2822,MATCH(ROWS($J$16:J827),$N$16:$N$2822,0)),\"\")","v":""}]
["12","06","07","2","120607","Gmina wiejska","MAŁOPOLSKIE","krakowski","LISZKI","LISZKI - Gmina wiejska / Powiat krakowski / Województwo  - MAŁOPOLSKIE / 120607 / ",75455042,80934815,{"$f":"ISNUMBER(SEARCH(Wyszukiwarka!$A$1,'Porównanie dochodów JST'!J828))","v":false},{"$f":"IF(M828,COUNTIF($M$16:M828,TRUE),\"\")","v":""},{"$f":"IFERROR(INDEX($J$16:$J$2822,MATCH(ROWS($J$16:J828),$N$16:$N$2822,0)),\"\")","v":""}]
["12","06","08","2","120608","Gmina wiejska","MAŁOPOLSKIE","krakowski","MICHAŁOWICE","MICHAŁOWICE - Gmina wiejska / Powiat krakowski / Województwo  - MAŁOPOLSKIE / 120608 / ",57888443,62722024,{"$f":"ISNUMBER(SEARCH(Wyszukiwarka!$A$1,'Porównanie dochodów JST'!J829))","v":false},{"$f":"IF(M829,COUNTIF($M$16:M829,TRUE),\"\")","v":""},{"$f":"IFERROR(INDEX($J$16:$J$2822,MATCH(ROWS($J$16:J829),$N$16:$N$2822,0)),\"\")","v":""}]
["12","06","09","2","120609","Gmina wiejska","MAŁOPOLSKIE","krakowski","MOGILANY","MOGILANY - Gmina wiejska / Powiat krakowski / Województwo  - MAŁOPOLSKIE / 120609 / ",80160089,86446522,{"$f":"ISNUMBER(SEARCH(Wyszukiwarka!$A$1,'Porównanie dochodów JST'!J830))","v":false},{"$f":"IF(M830,COUNTIF($M$16:M830,TRUE),\"\")","v":""},{"$f":"IFERROR(INDEX($J$16:$J$2822,MATCH(ROWS($J$16:J830),$N$16:$N$2822,0)),\"\")","v":""}]
["12","06","10","3","120610","Gmina miejsko-wiejska","MAŁOPOLSKIE","krakowski","SKAŁA","SKAŁA - Gmina miejsko-wiejska / Powiat krakowski / Województwo  - MAŁOPOLSKIE / 120610 / ",43018787,47033884,{"$f":"ISNUMBER(SEARCH(Wyszukiwarka!$A$1,'Porównanie dochodów JST'!J831))","v":false},{"$f":"IF(M831,COUNTIF($M$16:M831,TRUE),\"\")","v":""},{"$f":"IFERROR(INDEX($J$16:$J$2822,MATCH(ROWS($J$16:J831),$N$16:$N$2822,0)),\"\")","v":""}]
["12","06","11","3","120611","Gmina miejsko-wiejska","MAŁOPOLSKIE","krakowski","SKAWINA","SKAWINA - Gmina miejsko-wiejska / Powiat krakowski / Województwo  - MAŁOPOLSKIE / 120611 / ",163904653,179003833.43531179,{"$f":"ISNUMBER(SEARCH(Wyszukiwarka!$A$1,'Porównanie dochodów JST'!J832))","v":false},{"$f":"IF(M832,COUNTIF($M$16:M832,TRUE),\"\")","v":""},{"$f":"IFERROR(INDEX($J$16:$J$2822,MATCH(ROWS($J$16:J832),$N$16:$N$2822,0)),\"\")","v":""}]
["12","06","12","3","120612","Gmina miejsko-wiejska","MAŁOPOLSKIE","krakowski","SŁOMNIKI","SŁOMNIKI - Gmina miejsko-wiejska / Powiat krakowski / Województwo  - MAŁOPOLSKIE / 120612 / ",57361101,61606399,{"$f":"ISNUMBER(SEARCH(Wyszukiwarka!$A$1,'Porównanie dochodów JST'!J833))","v":false},{"$f":"IF(M833,COUNTIF($M$16:M833,TRUE),\"\")","v":""},{"$f":"IFERROR(INDEX($J$16:$J$2822,MATCH(ROWS($J$16:J833),$N$16:$N$2822,0)),\"\")","v":""}]
["12","06","13","2","120613","Gmina wiejska","MAŁOPOLSKIE","krakowski","SUŁOSZOWA","SUŁOSZOWA - Gmina wiejska / Powiat krakowski / Województwo  - MAŁOPOLSKIE / 120613 / ",23703031,25722640,{"$f":"ISNUMBER(SEARCH(Wyszukiwarka!$A$1,'Porównanie dochodów JST'!J834))","v":false},{"$f":"IF(M834,COUNTIF($M$16:M834,TRUE),\"\")","v":""},{"$f":"IFERROR(INDEX($J$16:$J$2822,MATCH(ROWS($J$16:J834),$N$16:$N$2822,0)),\"\")","v":""}]
["12","06","14","3","120614","Gmina miejsko-wiejska","MAŁOPOLSKIE","krakowski","ŚWIĄTNIKI GÓRNE","ŚWIĄTNIKI GÓRNE - Gmina miejsko-wiejska / Powiat krakowski / Województwo  - MAŁOPOLSKIE / 120614 / ",64418659,69139957.38445729,{"$f":"ISNUMBER(SEARCH(Wyszukiwarka!$A$1,'Porównanie dochodów JST'!J835))","v":false},{"$f":"IF(M835,COUNTIF($M$16:M835,TRUE),\"\")","v":""},{"$f":"IFERROR(INDEX($J$16:$J$2822,MATCH(ROWS($J$16:J835),$N$16:$N$2822,0)),\"\")","v":""}]
["12","06","15","2","120615","Gmina wiejska","MAŁOPOLSKIE","krakowski","WIELKA WIEŚ","WIELKA WIEŚ - Gmina wiejska / Powiat krakowski / Województwo  - MAŁOPOLSKIE / 120615 / ",78384265,84625290.999144316,{"$f":"ISNUMBER(SEARCH(Wyszukiwarka!$A$1,'Porównanie dochodów JST'!J836))","v":false},{"$f":"IF(M836,COUNTIF($M$16:M836,TRUE),\"\")","v":""},{"$f":"IFERROR(INDEX($J$16:$J$2822,MATCH(ROWS($J$16:J836),$N$16:$N$2822,0)),\"\")","v":""}]
["12","06","16","2","120616","Gmina wiejska","MAŁOPOLSKIE","krakowski","ZABIERZÓW","ZABIERZÓW - Gmina wiejska / Powiat krakowski / Województwo  - MAŁOPOLSKIE / 120616 / ",156696742,168166470.77869567,{"$f":"ISNUMBER(SEARCH(Wyszukiwarka!$A$1,'Porównanie dochodów JST'!J837))","v":false},{"$f":"IF(M837,COUNTIF($M$16:M837,TRUE),\"\")","v":""},{"$f":"IFERROR(INDEX($J$16:$J$2822,MATCH(ROWS($J$16:J837),$N$16:$N$2822,0)),\"\")","v":""}]
["12","06","17","2","120617","Gmina wiejska","MAŁOPOLSKIE","krakowski","ZIELONKI","ZIELONKI - Gmina wiejska / Powiat krakowski / Województwo  - MAŁOPOLSKIE / 120617 / ",144054908,154881387.79655507,{"$f":"ISNUMBER(SEARCH(Wyszukiwarka!$A$1,'Porównanie dochodów JST'!J838))","v":false},{"$f":"IF(M838,COUNTIF($M$16:M838,TRUE),\"\")","v":""},{"$f":"IFERROR(INDEX($J$16:$J$2822,MATCH(ROWS($J$16:J838),$N$16:$N$2822,0)),\"\")","v":""}]
["12","07","01","1","120701","Gmina miejska","MAŁOPOLSKIE","limanowski","LIMANOWA","LIMANOWA - Gmina miejska / Powiat limanowski / Województwo  - MAŁOPOLSKIE / 120701 / ",59594491,64876141.10476619,{"$f":"ISNUMBER(SEARCH(Wyszukiwarka!$A$1,'Porównanie dochodów JST'!J839))","v":false},{"$f":"IF(M839,COUNTIF($M$16:M839,TRUE),\"\")","v":""},{"$f":"IFERROR(INDEX($J$16:$J$2822,MATCH(ROWS($J$16:J839),$N$16:$N$2822,0)),\"\")","v":""}]
["12","07","02","1","120702","Gmina miejska","MAŁOPOLSKIE","limanowski","MSZANA DOLNA","MSZANA DOLNA - Gmina miejska / Powiat limanowski / Województwo  - MAŁOPOLSKIE / 120702 / ",26479446,29413486.778301224,{"$f":"ISNUMBER(SEARCH(Wyszukiwarka!$A$1,'Porównanie dochodów JST'!J840))","v":false},{"$f":"IF(M840,COUNTIF($M$16:M840,TRUE),\"\")","v":""},{"$f":"IFERROR(INDEX($J$16:$J$2822,MATCH(ROWS($J$16:J840),$N$16:$N$2822,0)),\"\")","v":""}]
["12","07","03","2","120703","Gmina wiejska","MAŁOPOLSKIE","limanowski","DOBRA","DOBRA - Gmina wiejska / Powiat limanowski / Województwo  - MAŁOPOLSKIE / 120703 / ",48876474,55851176.640000001,{"$f":"ISNUMBER(SEARCH(Wyszukiwarka!$A$1,'Porównanie dochodów JST'!J841))","v":false},{"$f":"IF(M841,COUNTIF($M$16:M841,TRUE),\"\")","v":""},{"$f":"IFERROR(INDEX($J$16:$J$2822,MATCH(ROWS($J$16:J841),$N$16:$N$2822,0)),\"\")","v":""}]
["12","07","04","2","120704","Gmina wiejska","MAŁOPOLSKIE","limanowski","JODŁOWNIK","JODŁOWNIK - Gmina wiejska / Powiat limanowski / Województwo  - MAŁOPOLSKIE / 120704 / ",38685734,44165318.171115898,{"$f":"ISNUMBER(SEARCH(Wyszukiwarka!$A$1,'Porównanie dochodów JST'!J842))","v":false},{"$f":"IF(M842,COUNTIF($M$16:M842,TRUE),\"\")","v":""},{"$f":"IFERROR(INDEX($J$16:$J$2822,MATCH(ROWS($J$16:J842),$N$16:$N$2822,0)),\"\")","v":""}]
["12","07","05","2","120705","Gmina wiejska","MAŁOPOLSKIE","limanowski","KAMIENICA","KAMIENICA - Gmina wiejska / Powiat limanowski / Województwo  - MAŁOPOLSKIE / 120705 / ",37242624,42583444.960000001,{"$f":"ISNUMBER(SEARCH(Wyszukiwarka!$A$1,'Porównanie dochodów JST'!J843))","v":false},{"$f":"IF(M843,COUNTIF($M$16:M843,TRUE),\"\")","v":""},{"$f":"IFERROR(INDEX($J$16:$J$2822,MATCH(ROWS($J$16:J843),$N$16:$N$2822,0)),\"\")","v":""}]
["12","07","06","2","120706","Gmina wiejska","MAŁOPOLSKIE","limanowski","LASKOWA","LASKOWA - Gmina wiejska / Powiat limanowski / Województwo  - MAŁOPOLSKIE / 120706 / ",38050143,43457200.640000001,{"$f":"ISNUMBER(SEARCH(Wyszukiwarka!$A$1,'Porównanie dochodów JST'!J844))","v":false},{"$f":"IF(M844,COUNTIF($M$16:M844,TRUE),\"\")","v":""},{"$f":"IFERROR(INDEX($J$16:$J$2822,MATCH(ROWS($J$16:J844),$N$16:$N$2822,0)),\"\")","v":""}]
["12","07","07","2","120707","Gmina wiejska","MAŁOPOLSKIE","limanowski","LIMANOWA","LIMANOWA - Gmina wiejska / Powiat limanowski / Województwo  - MAŁOPOLSKIE / 120707 / ",109364518,116189029.61025935,{"$f":"ISNUMBER(SEARCH(Wyszukiwarka!$A$1,'Porównanie dochodów JST'!J845))","v":false},{"$f":"IF(M845,COUNTIF($M$16:M845,TRUE),\"\")","v":""},{"$f":"IFERROR(INDEX($J$16:$J$2822,MATCH(ROWS($J$16:J845),$N$16:$N$2822,0)),\"\")","v":""}]
["12","07","08","2","120708","Gmina wiejska","MAŁOPOLSKIE","limanowski","ŁUKOWICA","ŁUKOWICA - Gmina wiejska / Powiat limanowski / Województwo  - MAŁOPOLSKIE / 120708 / ",51178698,58384879.840000004,{"$f":"ISNUMBER(SEARCH(Wyszukiwarka!$A$1,'Porównanie dochodów JST'!J846))","v":false},{"$f":"IF(M846,COUNTIF($M$16:M846,TRUE),\"\")","v":""},{"$f":"IFERROR(INDEX($J$16:$J$2822,MATCH(ROWS($J$16:J846),$N$16:$N$2822,0)),\"\")","v":""}]
["12","07","09","2","120709","Gmina wiejska","MAŁOPOLSKIE","limanowski","MSZANA DOLNA","MSZANA DOLNA - Gmina wiejska / Powiat limanowski / Województwo  - MAŁOPOLSKIE / 120709 / ",78055184,83252103,{"$f":"ISNUMBER(SEARCH(Wyszukiwarka!$A$1,'Porównanie dochodów JST'!J847))","v":false},{"$f":"IF(M847,COUNTIF($M$16:M847,TRUE),\"\")","v":""},{"$f":"IFERROR(INDEX($J$16:$J$2822,MATCH(ROWS($J$16:J847),$N$16:$N$2822,0)),\"\")","v":""}]
["12","07","10","2","120710","Gmina wiejska","MAŁOPOLSKIE","limanowski","NIEDŹWIEDŹ","NIEDŹWIEDŹ - Gmina wiejska / Powiat limanowski / Województwo  - MAŁOPOLSKIE / 120710 / ",34620972,39572668.799999997,{"$f":"ISNUMBER(SEARCH(Wyszukiwarka!$A$1,'Porównanie dochodów JST'!J848))","v":false},{"$f":"IF(M848,COUNTIF($M$16:M848,TRUE),\"\")","v":""},{"$f":"IFERROR(INDEX($J$16:$J$2822,MATCH(ROWS($J$16:J848),$N$16:$N$2822,0)),\"\")","v":""}]
["12","07","11","2","120711","Gmina wiejska","MAŁOPOLSKIE","limanowski","SŁOPNICE",{"$f":"I849&$H$12&F849&$G$12&$H$14&H849&$G$12&$G$14&$H$12&G849&$G$12&E849&$G$12","v":"SŁOPNICE - Gmina wiejska / Powiat limanowski / Województwo  - MAŁOPOLSKIE / 120711 / "},31635839,35845821.518630534,{"$f":"ISNUMBER(SEARCH(Wyszukiwarka!$A$1,'Porównanie dochodów JST'!J849))","v":false},{"$f":"IF(M849,COUNTIF($M$16:M849,TRUE),\"\")","v":""},{"$f":"IFERROR(INDEX($J$16:$J$2822,MATCH(ROWS($J$16:J849),$N$16:$N$2822,0)),\"\")","v":""}]
["12","07","12","2","120712","Gmina wiejska","MAŁOPOLSKIE","limanowski","TYMBARK","TYMBARK - Gmina wiejska / Powiat limanowski / Województwo  - MAŁOPOLSKIE / 120712 / ",26973204,29548365,{"$f":"ISNUMBER(SEARCH(Wyszukiwarka!$A$1,'Porównanie dochodów JST'!J850))","v":false},{"$f":"IF(M850,COUNTIF($M$16:M850,TRUE),\"\")","v":""},{"$f":"IFERROR(INDEX($J$16:$J$2822,MATCH(ROWS($J$16:J850),$N$16:$N$2822,0)),\"\")","v":""}]
["12","08","01","2","120801","Gmina wiejska","MAŁOPOLSKIE","miechowski","CHARSZNICA","CHARSZNICA - Gmina wiejska / Powiat miechowski / Województwo  - MAŁOPOLSKIE / 120801 / ",26157007,28807396.781509869,{"$f":"ISNUMBER(SEARCH(Wyszukiwarka!$A$1,'Porównanie dochodów JST'!J851))","v":false},{"$f":"IF(M851,COUNTIF($M$16:M851,TRUE),\"\")","v":""},{"$f":"IFERROR(INDEX($J$16:$J$2822,MATCH(ROWS($J$16:J851),$N$16:$N$2822,0)),\"\")","v":""}]
["12","08","02","2","120802","Gmina wiejska","MAŁOPOLSKIE","miechowski","GOŁCZA","GOŁCZA - Gmina wiejska / Powiat miechowski / Województwo  - MAŁOPOLSKIE / 120802 / ",22332195,24397097,{"$f":"ISNUMBER(SEARCH(Wyszukiwarka!$A$1,'Porównanie dochodów JST'!J852))","v":false},{"$f":"IF(M852,COUNTIF($M$16:M852,TRUE),\"\")","v":""},{"$f":"IFERROR(INDEX($J$16:$J$2822,MATCH(ROWS($J$16:J852),$N$16:$N$2822,0)),\"\")","v":""}]
["12","08","03","2","120803","Gmina wiejska","MAŁOPOLSKIE","miechowski","KOZŁÓW","KOZŁÓW - Gmina wiejska / Powiat miechowski / Województwo  - MAŁOPOLSKIE / 120803 / ",16166564,18092451.984992146,{"$f":"ISNUMBER(SEARCH(Wyszukiwarka!$A$1,'Porównanie dochodów JST'!J853))","v":false},{"$f":"IF(M853,COUNTIF($M$16:M853,TRUE),\"\")","v":""},{"$f":"IFERROR(INDEX($J$16:$J$2822,MATCH(ROWS($J$16:J853),$N$16:$N$2822,0)),\"\")","v":""}]
["12","08","04","2","120804","Gmina wiejska","MAŁOPOLSKIE","miechowski","KSIĄŻ WIELKI","KSIĄŻ WIELKI - Gmina wiejska / Powiat miechowski / Województwo  - MAŁOPOLSKIE / 120804 / ",19488292,21473229.777177315,{"$f":"ISNUMBER(SEARCH(Wyszukiwarka!$A$1,'Porównanie dochodów JST'!J854))","v":false},{"$f":"IF(M854,COUNTIF($M$16:M854,TRUE),\"\")","v":""},{"$f":"IFERROR(INDEX($J$16:$J$2822,MATCH(ROWS($J$16:J854),$N$16:$N$2822,0)),\"\")","v":""}]
["12","08","05","3","120805","Gmina miejsko-wiejska","MAŁOPOLSKIE","miechowski","MIECHÓW","MIECHÓW - Gmina miejsko-wiejska / Powiat miechowski / Województwo  - MAŁOPOLSKIE / 120805 / ",61211678,66435338.892800003,{"$f":"ISNUMBER(SEARCH(Wyszukiwarka!$A$1,'Porównanie dochodów JST'!J855))","v":false},{"$f":"IF(M855,COUNTIF($M$16:M855,TRUE),\"\")","v":""},{"$f":"IFERROR(INDEX($J$16:$J$2822,MATCH(ROWS($J$16:J855),$N$16:$N$2822,0)),\"\")","v":""}]
["12","08","06","2","120806","Gmina wiejska","MAŁOPOLSKIE","miechowski","RACŁAWICE","RACŁAWICE - Gmina wiejska / Powiat miechowski / Województwo  - MAŁOPOLSKIE / 120806 / ",9207633,10387098.470000001,{"$f":"ISNUMBER(SEARCH(Wyszukiwarka!$A$1,'Porównanie dochodów JST'!J856))","v":false},{"$f":"IF(M856,COUNTIF($M$16:M856,TRUE),\"\")","v":""},{"$f":"IFERROR(INDEX($J$16:$J$2822,MATCH(ROWS($J$16:J856),$N$16:$N$2822,0)),\"\")","v":""}]
["12","08","07","2","120807","Gmina wiejska","MAŁOPOLSKIE","miechowski","SŁABOSZÓW","SŁABOSZÓW - Gmina wiejska / Powiat miechowski / Województwo  - MAŁOPOLSKIE / 120807 / ",12550971,13875686,{"$f":"ISNUMBER(SEARCH(Wyszukiwarka!$A$1,'Porównanie dochodów JST'!J857))","v":false},{"$f":"IF(M857,COUNTIF($M$16:M857,TRUE),\"\")","v":""},{"$f":"IFERROR(INDEX($J$16:$J$2822,MATCH(ROWS($J$16:J857),$N$16:$N$2822,0)),\"\")","v":""}]
["12","09","01","3","120901","Gmina miejsko-wiejska","MAŁOPOLSKIE","myślenicki","DOBCZYCE","DOBCZYCE - Gmina miejsko-wiejska / Powiat myślenicki / Województwo  - MAŁOPOLSKIE / 120901 / ",57370658,62307839,{"$f":"ISNUMBER(SEARCH(Wyszukiwarka!$A$1,'Porównanie dochodów JST'!J858))","v":false},{"$f":"IF(M858,COUNTIF($M$16:M858,TRUE),\"\")","v":""},{"$f":"IFERROR(INDEX($J$16:$J$2822,MATCH(ROWS($J$16:J858),$N$16:$N$2822,0)),\"\")","v":""}]
["12","09","02","2","120902","Gmina wiejska","MAŁOPOLSKIE","myślenicki","LUBIEŃ","LUBIEŃ - Gmina wiejska / Powiat myślenicki / Województwo  - MAŁOPOLSKIE / 120902 / ",43657500,47604367.996628128,{"$f":"ISNUMBER(SEARCH(Wyszukiwarka!$A$1,'Porównanie dochodów JST'!J859))","v":false},{"$f":"IF(M859,COUNTIF($M$16:M859,TRUE),\"\")","v":""},{"$f":"IFERROR(INDEX($J$16:$J$2822,MATCH(ROWS($J$16:J859),$N$16:$N$2822,0)),\"\")","v":""}]
["12","09","03","3","120903","Gmina miejsko-wiejska","MAŁOPOLSKIE","myślenicki","MYŚLENICE","MYŚLENICE - Gmina miejsko-wiejska / Powiat myślenicki / Województwo  - MAŁOPOLSKIE / 120903 / ",172201811,183658383.20898363,{"$f":"ISNUMBER(SEARCH(Wyszukiwarka!$A$1,'Porównanie dochodów JST'!J860))","v":false},{"$f":"IF(M860,COUNTIF($M$16:M860,TRUE),\"\")","v":""},{"$f":"IFERROR(INDEX($J$16:$J$2822,MATCH(ROWS($J$16:J860),$N$16:$N$2822,0)),\"\")","v":""}]
["12","09","04","2","120904","Gmina wiejska","MAŁOPOLSKIE","myślenicki","PCIM","PCIM - Gmina wiejska / Powiat myślenicki / Województwo  - MAŁOPOLSKIE / 120904 / ",43933910,47933398.816171594,{"$f":"ISNUMBER(SEARCH(Wyszukiwarka!$A$1,'Porównanie dochodów JST'!J861))","v":false},{"$f":"IF(M861,COUNTIF($M$16:M861,TRUE),\"\")","v":""},{"$f":"IFERROR(INDEX($J$16:$J$2822,MATCH(ROWS($J$16:J861),$N$16:$N$2822,0)),\"\")","v":""}]
["12","09","05","2","120905","Gmina wiejska","MAŁOPOLSKIE","myślenicki","RACIECHOWICE","RACIECHOWICE - Gmina wiejska / Powiat myślenicki / Województwo  - MAŁOPOLSKIE / 120905 / ",37039036,42138561.920000002,{"$f":"ISNUMBER(SEARCH(Wyszukiwarka!$A$1,'Porównanie dochodów JST'!J862))","v":false},{"$f":"IF(M862,COUNTIF($M$16:M862,TRUE),\"\")","v":""},{"$f":"IFERROR(INDEX($J$16:$J$2822,MATCH(ROWS($J$16:J862),$N$16:$N$2822,0)),\"\")","v":""}]
["12","09","06","2","120906","Gmina wiejska","MAŁOPOLSKIE","myślenicki","SIEPRAW","SIEPRAW - Gmina wiejska / Powiat myślenicki / Województwo  - MAŁOPOLSKIE / 120906 / ",40095909,43534477.626863636,{"$f":"ISNUMBER(SEARCH(Wyszukiwarka!$A$1,'Porównanie dochodów JST'!J863))","v":false},{"$f":"IF(M863,COUNTIF($M$16:M863,TRUE),\"\")","v":""},{"$f":"IFERROR(INDEX($J$16:$J$2822,MATCH(ROWS($J$16:J863),$N$16:$N$2822,0)),\"\")","v":""}]
["12","09","07","3","120907","Gmina miejsko-wiejska","MAŁOPOLSKIE","myślenicki","SUŁKOWICE","SUŁKOWICE - Gmina miejsko-wiejska / Powiat myślenicki / Województwo  - MAŁOPOLSKIE / 120907 / ",55631074,60508005,{"$f":"ISNUMBER(SEARCH(Wyszukiwarka!$A$1,'Porównanie dochodów JST'!J864))","v":false},{"$f":"IF(M864,COUNTIF($M$16:M864,TRUE),\"\")","v":""},{"$f":"IFERROR(INDEX($J$16:$J$2822,MATCH(ROWS($J$16:J864),$N$16:$N$2822,0)),\"\")","v":""}]
["12","09","08","2","120908","Gmina wiejska","MAŁOPOLSKIE","myślenicki","TOKARNIA","TOKARNIA - Gmina wiejska / Powiat myślenicki / Województwo  - MAŁOPOLSKIE / 120908 / ",38260917,41590611.654065378,{"$f":"ISNUMBER(SEARCH(Wyszukiwarka!$A$1,'Porównanie dochodów JST'!J865))","v":false},{"$f":"IF(M865,COUNTIF($M$16:M865,TRUE),\"\")","v":""},{"$f":"IFERROR(INDEX($J$16:$J$2822,MATCH(ROWS($J$16:J865),$N$16:$N$2822,0)),\"\")","v":""}]
["12","09","09","2","120909","Gmina wiejska","MAŁOPOLSKIE","myślenicki","WIŚNIOWA","WIŚNIOWA - Gmina wiejska / Powiat myślenicki / Województwo  - MAŁOPOLSKIE / 120909 / ",35475509,39089616.433624893,{"$f":"ISNUMBER(SEARCH(Wyszukiwarka!$A$1,'Porównanie dochodów JST'!J866))","v":false},{"$f":"IF(M866,COUNTIF($M$16:M866,TRUE),\"\")","v":""},{"$f":"IFERROR(INDEX($J$16:$J$2822,MATCH(ROWS($J$16:J866),$N$16:$N$2822,0)),\"\")","v":""}]
["12","10","01","1","121001","Gmina miejska","MAŁOPOLSKIE","nowosądecki","GRYBÓW","GRYBÓW - Gmina miejska / Powiat nowosądecki / Województwo  - MAŁOPOLSKIE / 121001 / ",25683520,29346020.48,{"$f":"ISNUMBER(SEARCH(Wyszukiwarka!$A$1,'Porównanie dochodów JST'!J867))","v":false},{"$f":"IF(M867,COUNTIF($M$16:M867,TRUE),\"\")","v":""},{"$f":"IFERROR(INDEX($J$16:$J$2822,MATCH(ROWS($J$16:J867),$N$16:$N$2822,0)),\"\")","v":""}]
["12","10","02","2","121002","Gmina wiejska","MAŁOPOLSKIE","nowosądecki","CHEŁMIEC","CHEŁMIEC - Gmina wiejska / Powiat nowosądecki / Województwo  - MAŁOPOLSKIE / 121002 / ",127253628,135202155.49529529,{"$f":"ISNUMBER(SEARCH(Wyszukiwarka!$A$1,'Porównanie dochodów JST'!J868))","v":false},{"$f":"IF(M868,COUNTIF($M$16:M868,TRUE),\"\")","v":""},{"$f":"IFERROR(INDEX($J$16:$J$2822,MATCH(ROWS($J$16:J868),$N$16:$N$2822,0)),\"\")","v":""}]
["12","10","03","2","121003","Gmina wiejska","MAŁOPOLSKIE","nowosądecki","GRÓDEK NAD DUNAJCEM","GRÓDEK NAD DUNAJCEM - Gmina wiejska / Powiat nowosądecki / Województwo  - MAŁOPOLSKIE / 121003 / ",38044219,41390603.78802067,{"$f":"ISNUMBER(SEARCH(Wyszukiwarka!$A$1,'Porównanie dochodów JST'!J869))","v":false},{"$f":"IF(M869,COUNTIF($M$16:M869,TRUE),\"\")","v":""},{"$f":"IFERROR(INDEX($J$16:$J$2822,MATCH(ROWS($J$16:J869),$N$16:$N$2822,0)),\"\")","v":""}]
["12","10","04","2","121004","Gmina wiejska","MAŁOPOLSKIE","nowosądecki","GRYBÓW","GRYBÓW - Gmina wiejska / Powiat nowosądecki / Województwo  - MAŁOPOLSKIE / 121004 / ",111738044,118942353.72989787,{"$f":"ISNUMBER(SEARCH(Wyszukiwarka!$A$1,'Porównanie dochodów JST'!J870))","v":false},{"$f":"IF(M870,COUNTIF($M$16:M870,TRUE),\"\")","v":""},{"$f":"IFERROR(INDEX($J$16:$J$2822,MATCH(ROWS($J$16:J870),$N$16:$N$2822,0)),\"\")","v":""}]
["12","10","05","2","121005","Gmina wiejska","MAŁOPOLSKIE","nowosądecki","KAMIONKA WIELKA","KAMIONKA WIELKA - Gmina wiejska / Powiat nowosądecki / Województwo  - MAŁOPOLSKIE / 121005 / ",47252382,53065186.564166106,{"$f":"ISNUMBER(SEARCH(Wyszukiwarka!$A$1,'Porównanie dochodów JST'!J871))","v":false},{"$f":"IF(M871,COUNTIF($M$16:M871,TRUE),\"\")","v":""},{"$f":"IFERROR(INDEX($J$16:$J$2822,MATCH(ROWS($J$16:J871),$N$16:$N$2822,0)),\"\")","v":""}]
["12","10","06","2","121006","Gmina wiejska","MAŁOPOLSKIE","nowosądecki","KORZENNA","KORZENNA - Gmina wiejska / Powiat nowosądecki / Województwo  - MAŁOPOLSKIE / 121006 / ",67934715,77596665.439999998,{"$f":"ISNUMBER(SEARCH(Wyszukiwarka!$A$1,'Porównanie dochodów JST'!J872))","v":false},{"$f":"IF(M872,COUNTIF($M$16:M872,TRUE),\"\")","v":""},{"$f":"IFERROR(INDEX($J$16:$J$2822,MATCH(ROWS($J$16:J872),$N$16:$N$2822,0)),\"\")","v":""}]
["12","10","07","3","121007","Gmina miejsko-wiejska","MAŁOPOLSKIE","nowosądecki","KRYNICA-ZDRÓJ","KRYNICA-ZDRÓJ - Gmina miejsko-wiejska / Powiat nowosądecki / Województwo  - MAŁOPOLSKIE / 121007 / ",51581077,59402855.68,{"$f":"ISNUMBER(SEARCH(Wyszukiwarka!$A$1,'Porównanie dochodów JST'!J873))","v":false},{"$f":"IF(M873,COUNTIF($M$16:M873,TRUE),\"\")","v":""},{"$f":"IFERROR(INDEX($J$16:$J$2822,MATCH(ROWS($J$16:J873),$N$16:$N$2822,0)),\"\")","v":""}]
["12","10","08","2","121008","Gmina wiejska","MAŁOPOLSKIE","nowosądecki","ŁABOWA","ŁABOWA - Gmina wiejska / Powiat nowosądecki / Województwo  - MAŁOPOLSKIE / 121008 / ",26998153,29605829,{"$f":"ISNUMBER(SEARCH(Wyszukiwarka!$A$1,'Porównanie dochodów JST'!J874))","v":false},{"$f":"IF(M874,COUNTIF($M$16:M874,TRUE),\"\")","v":""},{"$f":"IFERROR(INDEX($J$16:$J$2822,MATCH(ROWS($J$16:J874),$N$16:$N$2822,0)),\"\")","v":""}]
["12","10","09","2","121009","Gmina wiejska","MAŁOPOLSKIE","nowosądecki","ŁĄCKO","ŁĄCKO - Gmina wiejska / Powiat nowosądecki / Województwo  - MAŁOPOLSKIE / 121009 / ",83319440,95064394.879999995,{"$f":"ISNUMBER(SEARCH(Wyszukiwarka!$A$1,'Porównanie dochodów JST'!J875))","v":false},{"$f":"IF(M875,COUNTIF($M$16:M875,TRUE),\"\")","v":""},{"$f":"IFERROR(INDEX($J$16:$J$2822,MATCH(ROWS($J$16:J875),$N$16:$N$2822,0)),\"\")","v":""}]
["12","10","10","2","121010","Gmina wiejska","MAŁOPOLSKIE","nowosądecki","ŁOSOSINA DOLNA","ŁOSOSINA DOLNA - Gmina wiejska / Powiat nowosądecki / Województwo  - MAŁOPOLSKIE / 121010 / ",45058220,49186875.341647595,{"$f":"ISNUMBER(SEARCH(Wyszukiwarka!$A$1,'Porównanie dochodów JST'!J876))","v":false},{"$f":"IF(M876,COUNTIF($M$16:M876,TRUE),\"\")","v":""},{"$f":"IFERROR(INDEX($J$16:$J$2822,MATCH(ROWS($J$16:J876),$N$16:$N$2822,0)),\"\")","v":""}]
["12","10","11","3","121011","Gmina miejsko-wiejska","MAŁOPOLSKIE","nowosądecki","MUSZYNA","MUSZYNA - Gmina miejsko-wiejska / Powiat nowosądecki / Województwo  - MAŁOPOLSKIE / 121011 / ",41058393,45127942,{"$f":"ISNUMBER(SEARCH(Wyszukiwarka!$A$1,'Porównanie dochodów JST'!J877))","v":false},{"$f":"IF(M877,COUNTIF($M$16:M877,TRUE),\"\")","v":""},{"$f":"IFERROR(INDEX($J$16:$J$2822,MATCH(ROWS($J$16:J877),$N$16:$N$2822,0)),\"\")","v":""}]
["12","10","12","2","121012","Gmina wiejska","MAŁOPOLSKIE","nowosądecki","NAWOJOWA","NAWOJOWA - Gmina wiejska / Powiat nowosądecki / Województwo  - MAŁOPOLSKIE / 121012 / ",35489400,38810143.769966602,{"$f":"ISNUMBER(SEARCH(Wyszukiwarka!$A$1,'Porównanie dochodów JST'!J878))","v":false},{"$f":"IF(M878,COUNTIF($M$16:M878,TRUE),\"\")","v":""},{"$f":"IFERROR(INDEX($J$16:$J$2822,MATCH(ROWS($J$16:J878),$N$16:$N$2822,0)),\"\")","v":""}]
["12","10","13","3","121013","Gmina miejsko-wiejska","MAŁOPOLSKIE","nowosądecki","PIWNICZNA-ZDRÓJ","PIWNICZNA-ZDRÓJ - Gmina miejsko-wiejska / Powiat nowosądecki / Województwo  - MAŁOPOLSKIE / 121013 / ",37831393,41305501,{"$f":"ISNUMBER(SEARCH(Wyszukiwarka!$A$1,'Porównanie dochodów JST'!J879))","v":false},{"$f":"IF(M879,COUNTIF($M$16:M879,TRUE),\"\")","v":""},{"$f":"IFERROR(INDEX($J$16:$J$2822,MATCH(ROWS($J$16:J879),$N$16:$N$2822,0)),\"\")","v":""}]
["12","10","14","2","121014","Gmina wiejska","MAŁOPOLSKIE","nowosądecki","PODEGRODZIE","PODEGRODZIE - Gmina wiejska / Powiat nowosądecki / Województwo  - MAŁOPOLSKIE / 121014 / ",56916026,61160223,{"$f":"ISNUMBER(SEARCH(Wyszukiwarka!$A$1,'Porównanie dochodów JST'!J880))","v":false},{"$f":"IF(M880,COUNTIF($M$16:M880,TRUE),\"\")","v":""},{"$f":"IFERROR(INDEX($J$16:$J$2822,MATCH(ROWS($J$16:J880),$N$16:$N$2822,0)),\"\")","v":""}]
["12","10","15","2","121015","Gmina wiejska","MAŁOPOLSKIE","nowosądecki","RYTRO","RYTRO - Gmina wiejska / Powiat nowosądecki / Województwo  - MAŁOPOLSKIE / 121015 / ",14545330,15899882,{"$f":"ISNUMBER(SEARCH(Wyszukiwarka!$A$1,'Porównanie dochodów JST'!J881))","v":false},{"$f":"IF(M881,COUNTIF($M$16:M881,TRUE),\"\")","v":""},{"$f":"IFERROR(INDEX($J$16:$J$2822,MATCH(ROWS($J$16:J881),$N$16:$N$2822,0)),\"\")","v":""}]
["12","10","16","3","121016","Gmina miejsko-wiejska","MAŁOPOLSKIE","nowosądecki","STARY SĄCZ","STARY SĄCZ - Gmina miejsko-wiejska / Powiat nowosądecki / Województwo  - MAŁOPOLSKIE / 121016 / ",90644846,96512006.627007902,{"$f":"ISNUMBER(SEARCH(Wyszukiwarka!$A$1,'Porównanie dochodów JST'!J882))","v":false},{"$f":"IF(M882,COUNTIF($M$16:M882,TRUE),\"\")","v":""},{"$f":"IFERROR(INDEX($J$16:$J$2822,MATCH(ROWS($J$16:J882),$N$16:$N$2822,0)),\"\")","v":""}]
["12","11","01","1","121101","Gmina miejska","MAŁOPOLSKIE","nowotarski","NOWY TARG","NOWY TARG - Gmina miejska / Powiat nowotarski / Województwo  - MAŁOPOLSKIE / 121101 / ",104317342,111715751.72171745,{"$f":"ISNUMBER(SEARCH(Wyszukiwarka!$A$1,'Porównanie dochodów JST'!J883))","v":false},{"$f":"IF(M883,COUNTIF($M$16:M883,TRUE),\"\")","v":""},{"$f":"IFERROR(INDEX($J$16:$J$2822,MATCH(ROWS($J$16:J883),$N$16:$N$2822,0)),\"\")","v":""}]
["12","11","02","3","121102","Gmina miejsko-wiejska","MAŁOPOLSKIE","nowotarski","SZCZAWNICA","SZCZAWNICA - Gmina miejsko-wiejska / Powiat nowotarski / Województwo  - MAŁOPOLSKIE / 121102 / ",20421761,23060051,{"$f":"ISNUMBER(SEARCH(Wyszukiwarka!$A$1,'Porównanie dochodów JST'!J884))","v":false},{"$f":"IF(M884,COUNTIF($M$16:M884,TRUE),\"\")","v":""},{"$f":"IFERROR(INDEX($J$16:$J$2822,MATCH(ROWS($J$16:J884),$N$16:$N$2822,0)),\"\")","v":""}]
["12","11","03","2","121103","Gmina wiejska","MAŁOPOLSKIE","nowotarski","CZARNY DUNAJEC","CZARNY DUNAJEC - Gmina wiejska / Powiat nowotarski / Województwo  - MAŁOPOLSKIE / 121103 / ",101574200,107945512.69787484,{"$f":"ISNUMBER(SEARCH(Wyszukiwarka!$A$1,'Porównanie dochodów JST'!J885))","v":false},{"$f":"IF(M885,COUNTIF($M$16:M885,TRUE),\"\")","v":""},{"$f":"IFERROR(INDEX($J$16:$J$2822,MATCH(ROWS($J$16:J885),$N$16:$N$2822,0)),\"\")","v":""}]
["12","11","04","2","121104","Gmina wiejska","MAŁOPOLSKIE","nowotarski","CZORSZTYN","CZORSZTYN - Gmina wiejska / Powiat nowotarski / Województwo  - MAŁOPOLSKIE / 121104 / ",29450773,32161624,{"$f":"ISNUMBER(SEARCH(Wyszukiwarka!$A$1,'Porównanie dochodów JST'!J886))","v":false},{"$f":"IF(M886,COUNTIF($M$16:M886,TRUE),\"\")","v":""},{"$f":"IFERROR(INDEX($J$16:$J$2822,MATCH(ROWS($J$16:J886),$N$16:$N$2822,0)),\"\")","v":""}]
["12","11","05","2","121105","Gmina wiejska","MAŁOPOLSKIE","nowotarski","JABŁONKA","JABŁONKA - Gmina wiejska / Powiat nowotarski / Województwo  - MAŁOPOLSKIE / 121105 / ",90908582,96493321.485442251,{"$f":"ISNUMBER(SEARCH(Wyszukiwarka!$A$1,'Porównanie dochodów JST'!J887))","v":false},{"$f":"IF(M887,COUNTIF($M$16:M887,TRUE),\"\")","v":""},{"$f":"IFERROR(INDEX($J$16:$J$2822,MATCH(ROWS($J$16:J887),$N$16:$N$2822,0)),\"\")","v":""}]
["12","11","06","2","121106","Gmina wiejska","MAŁOPOLSKIE","nowotarski","KROŚCIENKO NAD DUNAJCEM","KROŚCIENKO NAD DUNAJCEM - Gmina wiejska / Powiat nowotarski / Województwo  - MAŁOPOLSKIE / 121106 / ",27736725,30362347,{"$f":"ISNUMBER(SEARCH(Wyszukiwarka!$A$1,'Porównanie dochodów JST'!J888))","v":false},{"$f":"IF(M888,COUNTIF($M$16:M888,TRUE),\"\")","v":""},{"$f":"IFERROR(INDEX($J$16:$J$2822,MATCH(ROWS($J$16:J888),$N$16:$N$2822,0)),\"\")","v":""}]
["12","11","07","2","121107","Gmina wiejska","MAŁOPOLSKIE","nowotarski","LIPNICA WIELKA","LIPNICA WIELKA - Gmina wiejska / Powiat nowotarski / Województwo  - MAŁOPOLSKIE / 121107 / ",32351227,34974446,{"$f":"ISNUMBER(SEARCH(Wyszukiwarka!$A$1,'Porównanie dochodów JST'!J889))","v":false},{"$f":"IF(M889,COUNTIF($M$16:M889,TRUE),\"\")","v":""},{"$f":"IFERROR(INDEX($J$16:$J$2822,MATCH(ROWS($J$16:J889),$N$16:$N$2822,0)),\"\")","v":""}]
["12","11","08","2","121108","Gmina wiejska","MAŁOPOLSKIE","nowotarski","ŁAPSZE NIŻNE","ŁAPSZE NIŻNE - Gmina wiejska / Powiat nowotarski / Województwo  - MAŁOPOLSKIE / 121108 / ",39355324,42794815.999997012,{"$f":"ISNUMBER(SEARCH(Wyszukiwarka!$A$1,'Porównanie dochodów JST'!J890))","v":false},{"$f":"IF(M890,COUNTIF($M$16:M890,TRUE),\"\")","v":""},{"$f":"IFERROR(INDEX($J$16:$J$2822,MATCH(ROWS($J$16:J890),$N$16:$N$2822,0)),\"\")","v":""}]
["12","11","09","2","121109","Gmina wiejska","MAŁOPOLSKIE","nowotarski","NOWY TARG","NOWY TARG - Gmina wiejska / Powiat nowotarski / Województwo  - MAŁOPOLSKIE / 121109 / ",103729779,112897386.75348458,{"$f":"ISNUMBER(SEARCH(Wyszukiwarka!$A$1,'Porównanie dochodów JST'!J891))","v":false},{"$f":"IF(M891,COUNTIF($M$16:M891,TRUE),\"\")","v":""},{"$f":"IFERROR(INDEX($J$16:$J$2822,MATCH(ROWS($J$16:J891),$N$16:$N$2822,0)),\"\")","v":""}]
["12","11","10","2","121110","Gmina wiejska","MAŁOPOLSKIE","nowotarski","OCHOTNICA DOLNA","OCHOTNICA DOLNA - Gmina wiejska / Powiat nowotarski / Województwo  - MAŁOPOLSKIE / 121110 / ",40501838,44633700.176402271,{"$f":"ISNUMBER(SEARCH(Wyszukiwarka!$A$1,'Porównanie dochodów JST'!J892))","v":false},{"$f":"IF(M892,COUNTIF($M$16:M892,TRUE),\"\")","v":""},{"$f":"IFERROR(INDEX($J$16:$J$2822,MATCH(ROWS($J$16:J892),$N$16:$N$2822,0)),\"\")","v":""}]
["12","11","11","2","121111","Gmina wiejska","MAŁOPOLSKIE","nowotarski","RABA WYŻNA","RABA WYŻNA - Gmina wiejska / Powiat nowotarski / Województwo  - MAŁOPOLSKIE / 121111 / ",61381454,65721826.612573788,{"$f":"ISNUMBER(SEARCH(Wyszukiwarka!$A$1,'Porównanie dochodów JST'!J893))","v":false},{"$f":"IF(M893,COUNTIF($M$16:M893,TRUE),\"\")","v":""},{"$f":"IFERROR(INDEX($J$16:$J$2822,MATCH(ROWS($J$16:J893),$N$16:$N$2822,0)),\"\")","v":""}]
["12","11","12","3","121112","Gmina miejsko-wiejska","MAŁOPOLSKIE","nowotarski","RABKA-ZDRÓJ","RABKA-ZDRÓJ - Gmina miejsko-wiejska / Powiat nowotarski / Województwo  - MAŁOPOLSKIE / 121112 / ",59516858,64535441,{"$f":"ISNUMBER(SEARCH(Wyszukiwarka!$A$1,'Porównanie dochodów JST'!J894))","v":false},{"$f":"IF(M894,COUNTIF($M$16:M894,TRUE),\"\")","v":""},{"$f":"IFERROR(INDEX($J$16:$J$2822,MATCH(ROWS($J$16:J894),$N$16:$N$2822,0)),\"\")","v":""}]
["12","11","13","2","121113","Gmina wiejska","MAŁOPOLSKIE","nowotarski","SPYTKOWICE","SPYTKOWICE - Gmina wiejska / Powiat nowotarski / Województwo  - MAŁOPOLSKIE / 121113 / ",21542096,23471638,{"$f":"ISNUMBER(SEARCH(Wyszukiwarka!$A$1,'Porównanie dochodów JST'!J895))","v":false},{"$f":"IF(M895,COUNTIF($M$16:M895,TRUE),\"\")","v":""},{"$f":"IFERROR(INDEX($J$16:$J$2822,MATCH(ROWS($J$16:J895),$N$16:$N$2822,0)),\"\")","v":""}]
["12","11","14","2","121114","Gmina wiejska","MAŁOPOLSKIE","nowotarski","SZAFLARY","SZAFLARY - Gmina wiejska / Powiat nowotarski / Województwo  - MAŁOPOLSKIE / 121114 / ",46537190,51313554.154720172,{"$f":"ISNUMBER(SEARCH(Wyszukiwarka!$A$1,'Porównanie dochodów JST'!J896))","v":false},{"$f":"IF(M896,COUNTIF($M$16:M896,TRUE),\"\")","v":""},{"$f":"IFERROR(INDEX($J$16:$J$2822,MATCH(ROWS($J$16:J896),$N$16:$N$2822,0)),\"\")","v":""}]
["12","12","01","1","121201","Gmina miejska","MAŁOPOLSKIE","olkuski","BUKOWNO","BUKOWNO - Gmina miejska / Powiat olkuski / Województwo  - MAŁOPOLSKIE / 121201 / ",32990246,37252885.825829938,{"$f":"ISNUMBER(SEARCH(Wyszukiwarka!$A$1,'Porównanie dochodów JST'!J897))","v":false},{"$f":"IF(M897,COUNTIF($M$16:M897,TRUE),\"\")","v":""},{"$f":"IFERROR(INDEX($J$16:$J$2822,MATCH(ROWS($J$16:J897),$N$16:$N$2822,0)),\"\")","v":""}]
["12","12","03","2","121203","Gmina wiejska","MAŁOPOLSKIE","olkuski","BOLESŁAW","BOLESŁAW - Gmina wiejska / Powiat olkuski / Województwo  - MAŁOPOLSKIE / 121203 / ",26193102,28954401,{"$f":"ISNUMBER(SEARCH(Wyszukiwarka!$A$1,'Porównanie dochodów JST'!J898))","v":false},{"$f":"IF(M898,COUNTIF($M$16:M898,TRUE),\"\")","v":""},{"$f":"IFERROR(INDEX($J$16:$J$2822,MATCH(ROWS($J$16:J898),$N$16:$N$2822,0)),\"\")","v":""}]
["12","12","04","2","121204","Gmina wiejska","MAŁOPOLSKIE","olkuski","KLUCZE","KLUCZE - Gmina wiejska / Powiat olkuski / Województwo  - MAŁOPOLSKIE / 121204 / ",49759260,54718533.816400006,{"$f":"ISNUMBER(SEARCH(Wyszukiwarka!$A$1,'Porównanie dochodów JST'!J899))","v":false},{"$f":"IF(M899,COUNTIF($M$16:M899,TRUE),\"\")","v":""},{"$f":"IFERROR(INDEX($J$16:$J$2822,MATCH(ROWS($J$16:J899),$N$16:$N$2822,0)),\"\")","v":""}]
["12","12","05","3","121205","Gmina miejsko-wiejska","MAŁOPOLSKIE","olkuski","OLKUSZ","OLKUSZ - Gmina miejsko-wiejska / Powiat olkuski / Województwo  - MAŁOPOLSKIE / 121205 / ",158707062,182735481.59999999,{"$f":"ISNUMBER(SEARCH(Wyszukiwarka!$A$1,'Porównanie dochodów JST'!J900))","v":false},{"$f":"IF(M900,COUNTIF($M$16:M900,TRUE),\"\")","v":""},{"$f":"IFERROR(INDEX($J$16:$J$2822,MATCH(ROWS($J$16:J900),$N$16:$N$2822,0)),\"\")","v":""}]
["12","12","06","2","121206","Gmina wiejska","MAŁOPOLSKIE","olkuski","TRZYCIĄŻ","TRZYCIĄŻ - Gmina wiejska / Powiat olkuski / Województwo  - MAŁOPOLSKIE / 121206 / ",23614523,26287847,{"$f":"ISNUMBER(SEARCH(Wyszukiwarka!$A$1,'Porównanie dochodów JST'!J901))","v":false},{"$f":"IF(M901,COUNTIF($M$16:M901,TRUE),\"\")","v":""},{"$f":"IFERROR(INDEX($J$16:$J$2822,MATCH(ROWS($J$16:J901),$N$16:$N$2822,0)),\"\")","v":""}]
["12","12","07","3","121207","Gmina miejsko-wiejska","MAŁOPOLSKIE","olkuski","WOLBROM","WOLBROM - Gmina miejsko-wiejska / Powiat olkuski / Województwo  - MAŁOPOLSKIE / 121207 / ",75373164,86988986.560000002,{"$f":"ISNUMBER(SEARCH(Wyszukiwarka!$A$1,'Porównanie dochodów JST'!J902))","v":false},{"$f":"IF(M902,COUNTIF($M$16:M902,TRUE),\"\")","v":""},{"$f":"IFERROR(INDEX($J$16:$J$2822,MATCH(ROWS($J$16:J902),$N$16:$N$2822,0)),\"\")","v":""}]
["12","13","01","1","121301","Gmina miejska","MAŁOPOLSKIE","oświęcimski","OŚWIĘCIM","OŚWIĘCIM - Gmina miejska / Powiat oświęcimski / Województwo  - MAŁOPOLSKIE / 121301 / ",112830777,130691020.31999999,{"$f":"ISNUMBER(SEARCH(Wyszukiwarka!$A$1,'Porównanie dochodów JST'!J903))","v":false},{"$f":"IF(M903,COUNTIF($M$16:M903,TRUE),\"\")","v":""},{"$f":"IFERROR(INDEX($J$16:$J$2822,MATCH(ROWS($J$16:J903),$N$16:$N$2822,0)),\"\")","v":""}]
["12","13","02","3","121302","Gmina miejsko-wiejska","MAŁOPOLSKIE","oświęcimski","BRZESZCZE","BRZESZCZE - Gmina miejsko-wiejska / Powiat oświęcimski / Województwo  - MAŁOPOLSKIE / 121302 / ",68955345,79437713.599999994,{"$f":"ISNUMBER(SEARCH(Wyszukiwarka!$A$1,'Porównanie dochodów JST'!J904))","v":false},{"$f":"IF(M904,COUNTIF($M$16:M904,TRUE),\"\")","v":""},{"$f":"IFERROR(INDEX($J$16:$J$2822,MATCH(ROWS($J$16:J904),$N$16:$N$2822,0)),\"\")","v":""}]
["12","13","03","3","121303","Gmina miejsko-wiejska","MAŁOPOLSKIE","oświęcimski","CHEŁMEK","CHEŁMEK - Gmina miejsko-wiejska / Powiat oświęcimski / Województwo  - MAŁOPOLSKIE / 121303 / ",38157669,44047786.719999999,{"$f":"ISNUMBER(SEARCH(Wyszukiwarka!$A$1,'Porównanie dochodów JST'!J905))","v":false},{"$f":"IF(M905,COUNTIF($M$16:M905,TRUE),\"\")","v":""},{"$f":"IFERROR(INDEX($J$16:$J$2822,MATCH(ROWS($J$16:J905),$N$16:$N$2822,0)),\"\")","v":""}]
["12","13","04","3","121304","Gmina miejsko-wiejska","MAŁOPOLSKIE","oświęcimski","KĘTY","KĘTY - Gmina miejsko-wiejska / Powiat oświęcimski / Województwo  - MAŁOPOLSKIE / 121304 / ",119214019,127305571.25155401,{"$f":"ISNUMBER(SEARCH(Wyszukiwarka!$A$1,'Porównanie dochodów JST'!J906))","v":false},{"$f":"IF(M906,COUNTIF($M$16:M906,TRUE),\"\")","v":""},{"$f":"IFERROR(INDEX($J$16:$J$2822,MATCH(ROWS($J$16:J906),$N$16:$N$2822,0)),\"\")","v":""}]
["12","13","05","2","121305","Gmina wiejska","MAŁOPOLSKIE","oświęcimski","OSIEK","OSIEK - Gmina wiejska / Powiat oświęcimski / Województwo  - MAŁOPOLSKIE / 121305 / ",32798807,36053037,{"$f":"ISNUMBER(SEARCH(Wyszukiwarka!$A$1,'Porównanie dochodów JST'!J907))","v":false},{"$f":"IF(M907,COUNTIF($M$16:M907,TRUE),\"\")","v":""},{"$f":"IFERROR(INDEX($J$16:$J$2822,MATCH(ROWS($J$16:J907),$N$16:$N$2822,0)),\"\")","v":""}]
["12","13","06","2","121306","Gmina wiejska","MAŁOPOLSKIE","oświęcimski","OŚWIĘCIM","OŚWIĘCIM - Gmina wiejska / Powiat oświęcimski / Województwo  - MAŁOPOLSKIE / 121306 / ",78487749,83864480,{"$f":"ISNUMBER(SEARCH(Wyszukiwarka!$A$1,'Porównanie dochodów JST'!J908))","v":false},{"$f":"IF(M908,COUNTIF($M$16:M908,TRUE),\"\")","v":""},{"$f":"IFERROR(INDEX($J$16:$J$2822,MATCH(ROWS($J$16:J908),$N$16:$N$2822,0)),\"\")","v":""}]
["12","13","07","2","121307","Gmina wiejska","MAŁOPOLSKIE","oświęcimski","POLANKA WIELKA","POLANKA WIELKA - Gmina wiejska / Powiat oświęcimski / Województwo  - MAŁOPOLSKIE / 121307 / ",17142367,19041719,{"$f":"ISNUMBER(SEARCH(Wyszukiwarka!$A$1,'Porównanie dochodów JST'!J909))","v":false},{"$f":"IF(M909,COUNTIF($M$16:M909,TRUE),\"\")","v":""},{"$f":"IFERROR(INDEX($J$16:$J$2822,MATCH(ROWS($J$16:J909),$N$16:$N$2822,0)),\"\")","v":""}]
["12","13","08","2","121308","Gmina wiejska","MAŁOPOLSKIE","oświęcimski","PRZECISZÓW","PRZECISZÓW - Gmina wiejska / Powiat oświęcimski / Województwo  - MAŁOPOLSKIE / 121308 / ",24001405,26585600.6965,{"$f":"ISNUMBER(SEARCH(Wyszukiwarka!$A$1,'Porównanie dochodów JST'!J910))","v":false},{"$f":"IF(M910,COUNTIF($M$16:M910,TRUE),\"\")","v":""},{"$f":"IFERROR(INDEX($J$16:$J$2822,MATCH(ROWS($J$16:J910),$N$16:$N$2822,0)),\"\")","v":""}]
["12","13","09","3","121309","Gmina miejsko-wiejska","MAŁOPOLSKIE","oświęcimski","ZATOR","ZATOR - Gmina miejsko-wiejska / Powiat oświęcimski / Województwo  - MAŁOPOLSKIE / 121309 / ",36292653,40074758.588372648,{"$f":"ISNUMBER(SEARCH(Wyszukiwarka!$A$1,'Porównanie dochodów JST'!J911))","v":false},{"$f":"IF(M911,COUNTIF($M$16:M911,TRUE),\"\")","v":""},{"$f":"IFERROR(INDEX($J$16:$J$2822,MATCH(ROWS($J$16:J911),$N$16:$N$2822,0)),\"\")","v":""}]
["12","14","01","2","121401","Gmina wiejska","MAŁOPOLSKIE","proszowicki","KONIUSZA","KONIUSZA - Gmina wiejska / Powiat proszowicki / Województwo  - MAŁOPOLSKIE / 121401 / ",31670103,34996822.977259398,{"$f":"ISNUMBER(SEARCH(Wyszukiwarka!$A$1,'Porównanie dochodów JST'!J912))","v":false},{"$f":"IF(M912,COUNTIF($M$16:M912,TRUE),\"\")","v":""},{"$f":"IFERROR(INDEX($J$16:$J$2822,MATCH(ROWS($J$16:J912),$N$16:$N$2822,0)),\"\")","v":""}]
["12","14","02","3","121402","Gmina miejsko-wiejska","MAŁOPOLSKIE","proszowicki","KOSZYCE",{"$f":"I913&$H$12&F913&$G$12&$H$14&H913&$G$12&$G$14&$H$12&G913&$G$12&E913&$G$12","v":"KOSZYCE - Gmina miejsko-wiejska / Powiat proszowicki / Województwo  - MAŁOPOLSKIE / 121402 / "},18220872,20207212.964204341,{"$f":"ISNUMBER(SEARCH(Wyszukiwarka!$A$1,'Porównanie dochodów JST'!J913))","v":false},{"$f":"IF(M913,COUNTIF($M$16:M913,TRUE),\"\")","v":""},{"$f":"IFERROR(INDEX($J$16:$J$2822,MATCH(ROWS($J$16:J913),$N$16:$N$2822,0)),\"\")","v":""}]
["12","14","03","3","121403","Gmina miejsko-wiejska","MAŁOPOLSKIE","proszowicki","NOWE BRZESKO","NOWE BRZESKO - Gmina miejsko-wiejska / Powiat proszowicki / Województwo  - MAŁOPOLSKIE / 121403 / ",21871064,23887986.781070977,{"$f":"ISNUMBER(SEARCH(Wyszukiwarka!$A$1,'Porównanie dochodów JST'!J914))","v":false},{"$f":"IF(M914,COUNTIF($M$16:M914,TRUE),\"\")","v":""},{"$f":"IFERROR(INDEX($J$16:$J$2822,MATCH(ROWS($J$16:J914),$N$16:$N$2822,0)),\"\")","v":""}]
["12","14","04","2","121404","Gmina wiejska","MAŁOPOLSKIE","proszowicki","PAŁECZNICA","PAŁECZNICA - Gmina wiejska / Powiat proszowicki / Województwo  - MAŁOPOLSKIE / 121404 / ",15968583,17292039.699999999,{"$f":"ISNUMBER(SEARCH(Wyszukiwarka!$A$1,'Porównanie dochodów JST'!J915))","v":false},{"$f":"IF(M915,COUNTIF($M$16:M915,TRUE),\"\")","v":""},{"$f":"IFERROR(INDEX($J$16:$J$2822,MATCH(ROWS($J$16:J915),$N$16:$N$2822,0)),\"\")","v":""}]
["12","14","05","3","121405","Gmina miejsko-wiejska","MAŁOPOLSKIE","proszowicki","PROSZOWICE","PROSZOWICE - Gmina miejsko-wiejska / Powiat proszowicki / Województwo  - MAŁOPOLSKIE / 121405 / ",56039580,60941700.520244822,{"$f":"ISNUMBER(SEARCH(Wyszukiwarka!$A$1,'Porównanie dochodów JST'!J916))","v":false},{"$f":"IF(M916,COUNTIF($M$16:M916,TRUE),\"\")","v":""},{"$f":"IFERROR(INDEX($J$16:$J$2822,MATCH(ROWS($J$16:J916),$N$16:$N$2822,0)),\"\")","v":""}]
["12","14","06","2","121406","Gmina wiejska","MAŁOPOLSKIE","proszowicki","RADZIEMICE","RADZIEMICE - Gmina wiejska / Powiat proszowicki / Województwo  - MAŁOPOLSKIE / 121406 / ",11748034,13064811.959999999,{"$f":"ISNUMBER(SEARCH(Wyszukiwarka!$A$1,'Porównanie dochodów JST'!J917))","v":false},{"$f":"IF(M917,COUNTIF($M$16:M917,TRUE),\"\")","v":""},{"$f":"IFERROR(INDEX($J$16:$J$2822,MATCH(ROWS($J$16:J917),$N$16:$N$2822,0)),\"\")","v":""}]
["12","15","01","1","121501","Gmina miejska","MAŁOPOLSKIE","suski","JORDANÓW","JORDANÓW - Gmina miejska / Powiat suski / Województwo  - MAŁOPOLSKIE / 121501 / ",18234817,20283641,{"$f":"ISNUMBER(SEARCH(Wyszukiwarka!$A$1,'Porównanie dochodów JST'!J918))","v":false},{"$f":"IF(M918,COUNTIF($M$16:M918,TRUE),\"\")","v":""},{"$f":"IFERROR(INDEX($J$16:$J$2822,MATCH(ROWS($J$16:J918),$N$16:$N$2822,0)),\"\")","v":""}]
["12","15","02","1","121502","Gmina miejska","MAŁOPOLSKIE","suski","SUCHA BESKIDZKA","SUCHA BESKIDZKA - Gmina miejska / Powiat suski / Województwo  - MAŁOPOLSKIE / 121502 / ",31725303,35063484,{"$f":"ISNUMBER(SEARCH(Wyszukiwarka!$A$1,'Porównanie dochodów JST'!J919))","v":false},{"$f":"IF(M919,COUNTIF($M$16:M919,TRUE),\"\")","v":""},{"$f":"IFERROR(INDEX($J$16:$J$2822,MATCH(ROWS($J$16:J919),$N$16:$N$2822,0)),\"\")","v":""}]
["12","15","03","2","121503","Gmina wiejska","MAŁOPOLSKIE","suski","BUDZÓW","BUDZÓW - Gmina wiejska / Powiat suski / Województwo  - MAŁOPOLSKIE / 121503 / ",41912152,45224549,{"$f":"ISNUMBER(SEARCH(Wyszukiwarka!$A$1,'Porównanie dochodów JST'!J920))","v":false},{"$f":"IF(M920,COUNTIF($M$16:M920,TRUE),\"\")","v":""},{"$f":"IFERROR(INDEX($J$16:$J$2822,MATCH(ROWS($J$16:J920),$N$16:$N$2822,0)),\"\")","v":""}]
["12","15","04","2","121504","Gmina wiejska","MAŁOPOLSKIE","suski","BYSTRA-SIDZINA","BYSTRA-SIDZINA - Gmina wiejska / Powiat suski / Województwo  - MAŁOPOLSKIE / 121504 / ",29625061,33912557.280000001,{"$f":"ISNUMBER(SEARCH(Wyszukiwarka!$A$1,'Porównanie dochodów JST'!J921))","v":false},{"$f":"IF(M921,COUNTIF($M$16:M921,TRUE),\"\")","v":""},{"$f":"IFERROR(INDEX($J$16:$J$2822,MATCH(ROWS($J$16:J921),$N$16:$N$2822,0)),\"\")","v":""}]
["12","15","05","2","121505","Gmina wiejska","MAŁOPOLSKIE","suski","JORDANÓW","JORDANÓW - Gmina wiejska / Powiat suski / Województwo  - MAŁOPOLSKIE / 121505 / ",46977409,51472856.514191374,{"$f":"ISNUMBER(SEARCH(Wyszukiwarka!$A$1,'Porównanie dochodów JST'!J922))","v":false},{"$f":"IF(M922,COUNTIF($M$16:M922,TRUE),\"\")","v":""},{"$f":"IFERROR(INDEX($J$16:$J$2822,MATCH(ROWS($J$16:J922),$N$16:$N$2822,0)),\"\")","v":""}]
["12","15","06","3","121506","Gmina miejsko-wiejska","MAŁOPOLSKIE","suski","MAKÓW PODHALAŃSKI","MAKÓW PODHALAŃSKI - Gmina miejsko-wiejska / Powiat suski / Województwo  - MAŁOPOLSKIE / 121506 / ",57968785,63008636.804800317,{"$f":"ISNUMBER(SEARCH(Wyszukiwarka!$A$1,'Porównanie dochodów JST'!J923))","v":false},{"$f":"IF(M923,COUNTIF($M$16:M923,TRUE),\"\")","v":""},{"$f":"IFERROR(INDEX($J$16:$J$2822,MATCH(ROWS($J$16:J923),$N$16:$N$2822,0)),\"\")","v":""}]
["12","15","07","2","121507","Gmina wiejska","MAŁOPOLSKIE","suski","STRYSZAWA","STRYSZAWA - Gmina wiejska / Powiat suski / Województwo  - MAŁOPOLSKIE / 121507 / ",48426202,52529055.900895834,{"$f":"ISNUMBER(SEARCH(Wyszukiwarka!$A$1,'Porównanie dochodów JST'!J924))","v":false},{"$f":"IF(M924,COUNTIF($M$16:M924,TRUE),\"\")","v":""},{"$f":"IFERROR(INDEX($J$16:$J$2822,MATCH(ROWS($J$16:J924),$N$16:$N$2822,0)),\"\")","v":""}]
["12","15","08","2","121508","Gmina wiejska","MAŁOPOLSKIE","suski","ZAWOJA","ZAWOJA - Gmina wiejska / Powiat suski / Województwo  - MAŁOPOLSKIE / 121508 / ",34273293,37645320,{"$f":"ISNUMBER(SEARCH(Wyszukiwarka!$A$1,'Porównanie dochodów JST'!J925))","v":false},{"$f":"IF(M925,COUNTIF($M$16:M925,TRUE),\"\")","v":""},{"$f":"IFERROR(INDEX($J$16:$J$2822,MATCH(ROWS($J$16:J925),$N$16:$N$2822,0)),\"\")","v":""}]
["12","15","09","2","121509","Gmina wiejska","MAŁOPOLSKIE","suski","ZEMBRZYCE","ZEMBRZYCE - Gmina wiejska / Powiat suski / Województwo  - MAŁOPOLSKIE / 121509 / ",22000871,23986767.589094799,{"$f":"ISNUMBER(SEARCH(Wyszukiwarka!$A$1,'Porównanie dochodów JST'!J926))","v":false},{"$f":"IF(M926,COUNTIF($M$16:M926,TRUE),\"\")","v":""},{"$f":"IFERROR(INDEX($J$16:$J$2822,MATCH(ROWS($J$16:J926),$N$16:$N$2822,0)),\"\")","v":""}]
["12","16","01","3","121601","Gmina miejsko-wiejska","MAŁOPOLSKIE","tarnowski","CIĘŻKOWICE","CIĘŻKOWICE - Gmina miejsko-wiejska / Powiat tarnowski / Województwo  - MAŁOPOLSKIE / 121601 / ",49231699,56270702.879999995,{"$f":"ISNUMBER(SEARCH(Wyszukiwarka!$A$1,'Porównanie dochodów JST'!J927))","v":false},{"$f":"IF(M927,COUNTIF($M$16:M927,TRUE),\"\")","v":""},{"$f":"IFERROR(INDEX($J$16:$J$2822,MATCH(ROWS($J$16:J927),$N$16:$N$2822,0)),\"\")","v":""}]
["12","16","02","2","121602","Gmina wiejska","MAŁOPOLSKIE","tarnowski","GROMNIK","GROMNIK - Gmina wiejska / Powiat tarnowski / Województwo  - MAŁOPOLSKIE / 121602 / ",40773991,44097277,{"$f":"ISNUMBER(SEARCH(Wyszukiwarka!$A$1,'Porównanie dochodów JST'!J928))","v":false},{"$f":"IF(M928,COUNTIF($M$16:M928,TRUE),\"\")","v":""},{"$f":"IFERROR(INDEX($J$16:$J$2822,MATCH(ROWS($J$16:J928),$N$16:$N$2822,0)),\"\")","v":""}]
["12","16","03","2","121603","Gmina wiejska","MAŁOPOLSKIE","tarnowski","LISIA GÓRA","LISIA GÓRA - Gmina wiejska / Powiat tarnowski / Województwo  - MAŁOPOLSKIE / 121603 / ",64365977,69293723,{"$f":"ISNUMBER(SEARCH(Wyszukiwarka!$A$1,'Porównanie dochodów JST'!J929))","v":false},{"$f":"IF(M929,COUNTIF($M$16:M929,TRUE),\"\")","v":""},{"$f":"IFERROR(INDEX($J$16:$J$2822,MATCH(ROWS($J$16:J929),$N$16:$N$2822,0)),\"\")","v":""}]
["12","16","04","2","121604","Gmina wiejska","MAŁOPOLSKIE","tarnowski","PLEŚNA","PLEŚNA - Gmina wiejska / Powiat tarnowski / Województwo  - MAŁOPOLSKIE / 121604 / ",48930460,52987339.692788057,{"$f":"ISNUMBER(SEARCH(Wyszukiwarka!$A$1,'Porównanie dochodów JST'!J930))","v":false},{"$f":"IF(M930,COUNTIF($M$16:M930,TRUE),\"\")","v":""},{"$f":"IFERROR(INDEX($J$16:$J$2822,MATCH(ROWS($J$16:J930),$N$16:$N$2822,0)),\"\")","v":""}]
["12","16","05","3","121605","Gmina miejsko-wiejska","MAŁOPOLSKIE","tarnowski","RADŁÓW","RADŁÓW - Gmina miejsko-wiejska / Powiat tarnowski / Województwo  - MAŁOPOLSKIE / 121605 / ",35553632,38898927.519782871,{"$f":"ISNUMBER(SEARCH(Wyszukiwarka!$A$1,'Porównanie dochodów JST'!J931))","v":false},{"$f":"IF(M931,COUNTIF($M$16:M931,TRUE),\"\")","v":""},{"$f":"IFERROR(INDEX($J$16:$J$2822,MATCH(ROWS($J$16:J931),$N$16:$N$2822,0)),\"\")","v":""}]
["12","16","06","3","121606","Gmina miejsko-wiejska","MAŁOPOLSKIE","tarnowski","RYGLICE","RYGLICE - Gmina miejsko-wiejska / Powiat tarnowski / Województwo  - MAŁOPOLSKIE / 121606 / ",46795265,50844533.543166116,{"$f":"ISNUMBER(SEARCH(Wyszukiwarka!$A$1,'Porównanie dochodów JST'!J932))","v":false},{"$f":"IF(M932,COUNTIF($M$16:M932,TRUE),\"\")","v":""},{"$f":"IFERROR(INDEX($J$16:$J$2822,MATCH(ROWS($J$16:J932),$N$16:$N$2822,0)),\"\")","v":""}]
["12","16","07","2","121607","Gmina wiejska","MAŁOPOLSKIE","tarnowski","RZEPIENNIK STRZYŻEWSKI","RZEPIENNIK STRZYŻEWSKI - Gmina wiejska / Powiat tarnowski / Województwo  - MAŁOPOLSKIE / 121607 / ",29104477,33187974.756941821,{"$f":"ISNUMBER(SEARCH(Wyszukiwarka!$A$1,'Porównanie dochodów JST'!J933))","v":false},{"$f":"IF(M933,COUNTIF($M$16:M933,TRUE),\"\")","v":""},{"$f":"IFERROR(INDEX($J$16:$J$2822,MATCH(ROWS($J$16:J933),$N$16:$N$2822,0)),\"\")","v":""}]
["12","16","08","2","121608","Gmina wiejska","MAŁOPOLSKIE","tarnowski","SKRZYSZÓW","SKRZYSZÓW - Gmina wiejska / Powiat tarnowski / Województwo  - MAŁOPOLSKIE / 121608 / ",48746543,53043351,{"$f":"ISNUMBER(SEARCH(Wyszukiwarka!$A$1,'Porównanie dochodów JST'!J934))","v":false},{"$f":"IF(M934,COUNTIF($M$16:M934,TRUE),\"\")","v":""},{"$f":"IFERROR(INDEX($J$16:$J$2822,MATCH(ROWS($J$16:J934),$N$16:$N$2822,0)),\"\")","v":""}]
["12","16","09","2","121609","Gmina wiejska","MAŁOPOLSKIE","tarnowski","TARNÓW","TARNÓW - Gmina wiejska / Powiat tarnowski / Województwo  - MAŁOPOLSKIE / 121609 / ",95135420,101654988.64648975,{"$f":"ISNUMBER(SEARCH(Wyszukiwarka!$A$1,'Porównanie dochodów JST'!J935))","v":false},{"$f":"IF(M935,COUNTIF($M$16:M935,TRUE),\"\")","v":""},{"$f":"IFERROR(INDEX($J$16:$J$2822,MATCH(ROWS($J$16:J935),$N$16:$N$2822,0)),\"\")","v":""}]
["12","16","10","3","121610","Gmina miejsko-wiejska","MAŁOPOLSKIE","tarnowski","TUCHÓW","TUCHÓW - Gmina miejsko-wiejska / Powiat tarnowski / Województwo  - MAŁOPOLSKIE / 121610 / ",68728870,73747400,{"$f":"ISNUMBER(SEARCH(Wyszukiwarka!$A$1,'Porównanie dochodów JST'!J936))","v":false},{"$f":"IF(M936,COUNTIF($M$16:M936,TRUE),\"\")","v":""},{"$f":"IFERROR(INDEX($J$16:$J$2822,MATCH(ROWS($J$16:J936),$N$16:$N$2822,0)),\"\")","v":""}]
["12","16","11","2","121611","Gmina wiejska","MAŁOPOLSKIE","tarnowski","WIERZCHOSŁAWICE","WIERZCHOSŁAWICE - Gmina wiejska / Powiat tarnowski / Województwo  - MAŁOPOLSKIE / 121611 / ",34206730,38143428,{"$f":"ISNUMBER(SEARCH(Wyszukiwarka!$A$1,'Porównanie dochodów JST'!J937))","v":false},{"$f":"IF(M937,COUNTIF($M$16:M937,TRUE),\"\")","v":""},{"$f":"IFERROR(INDEX($J$16:$J$2822,MATCH(ROWS($J$16:J937),$N$16:$N$2822,0)),\"\")","v":""}]
["12","16","12","2","121612","Gmina wiejska","MAŁOPOLSKIE","tarnowski","WIETRZYCHOWICE","WIETRZYCHOWICE - Gmina wiejska / Powiat tarnowski / Województwo  - MAŁOPOLSKIE / 121612 / ",12936691,14305754,{"$f":"ISNUMBER(SEARCH(Wyszukiwarka!$A$1,'Porównanie dochodów JST'!J938))","v":false},{"$f":"IF(M938,COUNTIF($M$16:M938,TRUE),\"\")","v":""},{"$f":"IFERROR(INDEX($J$16:$J$2822,MATCH(ROWS($J$16:J938),$N$16:$N$2822,0)),\"\")","v":""}]
["12","16","13","3","121613","Gmina miejsko-wiejska","MAŁOPOLSKIE","tarnowski","WOJNICZ","WOJNICZ - Gmina miejsko-wiejska / Powiat tarnowski / Województwo  - MAŁOPOLSKIE / 121613 / ",51093384,55270423,{"$f":"ISNUMBER(SEARCH(Wyszukiwarka!$A$1,'Porównanie dochodów JST'!J939))","v":false},{"$f":"IF(M939,COUNTIF($M$16:M939,TRUE),\"\")","v":""},{"$f":"IFERROR(INDEX($J$16:$J$2822,MATCH(ROWS($J$16:J939),$N$16:$N$2822,0)),\"\")","v":""}]
["12","16","14","3","121614","Gmina miejsko-wiejska","MAŁOPOLSKIE","tarnowski","ZAKLICZYN","ZAKLICZYN - Gmina miejsko-wiejska / Powiat tarnowski / Województwo  - MAŁOPOLSKIE / 121614 / ",52697378,58670128.519298837,{"$f":"ISNUMBER(SEARCH(Wyszukiwarka!$A$1,'Porównanie dochodów JST'!J940))","v":false},{"$f":"IF(M940,COUNTIF($M$16:M940,TRUE),\"\")","v":""},{"$f":"IFERROR(INDEX($J$16:$J$2822,MATCH(ROWS($J$16:J940),$N$16:$N$2822,0)),\"\")","v":""}]
["12","16","15","3","121615","Gmina miejsko-wiejska","MAŁOPOLSKIE","tarnowski","ŻABNO","ŻABNO - Gmina miejsko-wiejska / Powiat tarnowski / Województwo  - MAŁOPOLSKIE / 121615 / ",62972839,68131094.550328985,{"$f":"ISNUMBER(SEARCH(Wyszukiwarka!$A$1,'Porównanie dochodów JST'!J941))","v":false},{"$f":"IF(M941,COUNTIF($M$16:M941,TRUE),\"\")","v":""},{"$f":"IFERROR(INDEX($J$16:$J$2822,MATCH(ROWS($J$16:J941),$N$16:$N$2822,0)),\"\")","v":""}]
["12","16","16","2","121616","Gmina wiejska","MAŁOPOLSKIE","tarnowski","SZERZYNY","SZERZYNY - Gmina wiejska / Powiat tarnowski / Województwo  - MAŁOPOLSKIE / 121616 / ",34936440,37661394,{"$f":"ISNUMBER(SEARCH(Wyszukiwarka!$A$1,'Porównanie dochodów JST'!J942))","v":false},{"$f":"IF(M942,COUNTIF($M$16:M942,TRUE),\"\")","v":""},{"$f":"IFERROR(INDEX($J$16:$J$2822,MATCH(ROWS($J$16:J942),$N$16:$N$2822,0)),\"\")","v":""}]
["12","17","01","1","121701","Gmina miejska","MAŁOPOLSKIE","tatrzański","ZAKOPANE","ZAKOPANE - Gmina miejska / Powiat tatrzański / Województwo  - MAŁOPOLSKIE / 121701 / ",77348566,89453953.120000005,{"$f":"ISNUMBER(SEARCH(Wyszukiwarka!$A$1,'Porównanie dochodów JST'!J943))","v":false},{"$f":"IF(M943,COUNTIF($M$16:M943,TRUE),\"\")","v":""},{"$f":"IFERROR(INDEX($J$16:$J$2822,MATCH(ROWS($J$16:J943),$N$16:$N$2822,0)),\"\")","v":""}]
["12","17","02","2","121702","Gmina wiejska","MAŁOPOLSKIE","tatrzański","BIAŁY DUNAJEC","BIAŁY DUNAJEC - Gmina wiejska / Powiat tatrzański / Województwo  - MAŁOPOLSKIE / 121702 / ",25842396,28474357.815081943,{"$f":"ISNUMBER(SEARCH(Wyszukiwarka!$A$1,'Porównanie dochodów JST'!J944))","v":false},{"$f":"IF(M944,COUNTIF($M$16:M944,TRUE),\"\")","v":""},{"$f":"IFERROR(INDEX($J$16:$J$2822,MATCH(ROWS($J$16:J944),$N$16:$N$2822,0)),\"\")","v":""}]
["12","17","03","2","121703","Gmina wiejska","MAŁOPOLSKIE","tatrzański","BUKOWINA TATRZAŃSKA","BUKOWINA TATRZAŃSKA - Gmina wiejska / Powiat tatrzański / Województwo  - MAŁOPOLSKIE / 121703 / ",45744281,52673684,{"$f":"ISNUMBER(SEARCH(Wyszukiwarka!$A$1,'Porównanie dochodów JST'!J945))","v":false},{"$f":"IF(M945,COUNTIF($M$16:M945,TRUE),\"\")","v":""},{"$f":"IFERROR(INDEX($J$16:$J$2822,MATCH(ROWS($J$16:J945),$N$16:$N$2822,0)),\"\")","v":""}]
["12","17","04","2","121704","Gmina wiejska","MAŁOPOLSKIE","tatrzański","KOŚCIELISKO","KOŚCIELISKO - Gmina wiejska / Powiat tatrzański / Województwo  - MAŁOPOLSKIE / 121704 / ",27984938,31400155,{"$f":"ISNUMBER(SEARCH(Wyszukiwarka!$A$1,'Porównanie dochodów JST'!J946))","v":false},{"$f":"IF(M946,COUNTIF($M$16:M946,TRUE),\"\")","v":""},{"$f":"IFERROR(INDEX($J$16:$J$2822,MATCH(ROWS($J$16:J946),$N$16:$N$2822,0)),\"\")","v":""}]
["12","17","05","2","121705","Gmina wiejska","MAŁOPOLSKIE","tatrzański","PORONIN","PORONIN - Gmina wiejska / Powiat tatrzański / Województwo  - MAŁOPOLSKIE / 121705 / ",41268300,47462466.239999995,{"$f":"ISNUMBER(SEARCH(Wyszukiwarka!$A$1,'Porównanie dochodów JST'!J947))","v":false},{"$f":"IF(M947,COUNTIF($M$16:M947,TRUE),\"\")","v":""},{"$f":"IFERROR(INDEX($J$16:$J$2822,MATCH(ROWS($J$16:J947),$N$16:$N$2822,0)),\"\")","v":""}]
["12","18","01","3","121801","Gmina miejsko-wiejska","MAŁOPOLSKIE","wadowicki","ANDRYCHÓW","ANDRYCHÓW - Gmina miejsko-wiejska / Powiat wadowicki / Województwo  - MAŁOPOLSKIE / 121801 / ",156800911,167131993.57664782,{"$f":"ISNUMBER(SEARCH(Wyszukiwarka!$A$1,'Porównanie dochodów JST'!J948))","v":false},{"$f":"IF(M948,COUNTIF($M$16:M948,TRUE),\"\")","v":""},{"$f":"IFERROR(INDEX($J$16:$J$2822,MATCH(ROWS($J$16:J948),$N$16:$N$2822,0)),\"\")","v":""}]
["12","18","02","2","121802","Gmina wiejska","MAŁOPOLSKIE","wadowicki","BRZEŹNICA","BRZEŹNICA - Gmina wiejska / Powiat wadowicki / Województwo  - MAŁOPOLSKIE / 121802 / ",43562991,47546861,{"$f":"ISNUMBER(SEARCH(Wyszukiwarka!$A$1,'Porównanie dochodów JST'!J949))","v":false},{"$f":"IF(M949,COUNTIF($M$16:M949,TRUE),\"\")","v":""},{"$f":"IFERROR(INDEX($J$16:$J$2822,MATCH(ROWS($J$16:J949),$N$16:$N$2822,0)),\"\")","v":""}]
["12","18","03","3","121803","Gmina miejsko-wiejska","MAŁOPOLSKIE","wadowicki","KALWARIA ZEBRZYDOWSKA","KALWARIA ZEBRZYDOWSKA - Gmina miejsko-wiejska / Powiat wadowicki / Województwo  - MAŁOPOLSKIE / 121803 / ",82440100,88376985.119584143,{"$f":"ISNUMBER(SEARCH(Wyszukiwarka!$A$1,'Porównanie dochodów JST'!J950))","v":false},{"$f":"IF(M950,COUNTIF($M$16:M950,TRUE),\"\")","v":""},{"$f":"IFERROR(INDEX($J$16:$J$2822,MATCH(ROWS($J$16:J950),$N$16:$N$2822,0)),\"\")","v":""}]
["12","18","04","2","121804","Gmina wiejska","MAŁOPOLSKIE","wadowicki","LANCKORONA","LANCKORONA - Gmina wiejska / Powiat wadowicki / Województwo  - MAŁOPOLSKIE / 121804 / ",26275562,28835262.627510525,{"$f":"ISNUMBER(SEARCH(Wyszukiwarka!$A$1,'Porównanie dochodów JST'!J951))","v":false},{"$f":"IF(M951,COUNTIF($M$16:M951,TRUE),\"\")","v":""},{"$f":"IFERROR(INDEX($J$16:$J$2822,MATCH(ROWS($J$16:J951),$N$16:$N$2822,0)),\"\")","v":""}]
["12","18","05","2","121805","Gmina wiejska","MAŁOPOLSKIE","wadowicki","MUCHARZ","MUCHARZ - Gmina wiejska / Powiat wadowicki / Województwo  - MAŁOPOLSKIE / 121805 / ",16143070,18022794.924235567,{"$f":"ISNUMBER(SEARCH(Wyszukiwarka!$A$1,'Porównanie dochodów JST'!J952))","v":false},{"$f":"IF(M952,COUNTIF($M$16:M952,TRUE),\"\")","v":""},{"$f":"IFERROR(INDEX($J$16:$J$2822,MATCH(ROWS($J$16:J952),$N$16:$N$2822,0)),\"\")","v":""}]
["12","18","06","2","121806","Gmina wiejska","MAŁOPOLSKIE","wadowicki","SPYTKOWICE","SPYTKOWICE - Gmina wiejska / Powiat wadowicki / Województwo  - MAŁOPOLSKIE / 121806 / ",40206263,44130377,{"$f":"ISNUMBER(SEARCH(Wyszukiwarka!$A$1,'Porównanie dochodów JST'!J953))","v":false},{"$f":"IF(M953,COUNTIF($M$16:M953,TRUE),\"\")","v":""},{"$f":"IFERROR(INDEX($J$16:$J$2822,MATCH(ROWS($J$16:J953),$N$16:$N$2822,0)),\"\")","v":""}]
["12","18","07","2","121807","Gmina wiejska","MAŁOPOLSKIE","wadowicki","STRYSZÓW","STRYSZÓW - Gmina wiejska / Powiat wadowicki / Województwo  - MAŁOPOLSKIE / 121807 / ",30180055,32790736,{"$f":"ISNUMBER(SEARCH(Wyszukiwarka!$A$1,'Porównanie dochodów JST'!J954))","v":false},{"$f":"IF(M954,COUNTIF($M$16:M954,TRUE),\"\")","v":""},{"$f":"IFERROR(INDEX($J$16:$J$2822,MATCH(ROWS($J$16:J954),$N$16:$N$2822,0)),\"\")","v":""}]
["12","18","08","2","121808","Gmina wiejska","MAŁOPOLSKIE","wadowicki","TOMICE","TOMICE - Gmina wiejska / Powiat wadowicki / Województwo  - MAŁOPOLSKIE / 121808 / ",33023506,36269373.590310559,{"$f":"ISNUMBER(SEARCH(Wyszukiwarka!$A$1,'Porównanie dochodów JST'!J955))","v":false},{"$f":"IF(M955,COUNTIF($M$16:M955,TRUE),\"\")","v":""},{"$f":"IFERROR(INDEX($J$16:$J$2822,MATCH(ROWS($J$16:J955),$N$16:$N$2822,0)),\"\")","v":""}]
["12","18","09","3","121809","Gmina miejsko-wiejska","MAŁOPOLSKIE","wadowicki","WADOWICE","WADOWICE - Gmina miejsko-wiejska / Powiat wadowicki / Województwo  - MAŁOPOLSKIE / 121809 / ",132576126,141442240.70668802,{"$f":"ISNUMBER(SEARCH(Wyszukiwarka!$A$1,'Porównanie dochodów JST'!J956))","v":false},{"$f":"IF(M956,COUNTIF($M$16:M956,TRUE),\"\")","v":""},{"$f":"IFERROR(INDEX($J$16:$J$2822,MATCH(ROWS($J$16:J956),$N$16:$N$2822,0)),\"\")","v":""}]
["12","18","10","2","121810","Gmina wiejska","MAŁOPOLSKIE","wadowicki","WIEPRZ","WIEPRZ - Gmina wiejska / Powiat wadowicki / Województwo  - MAŁOPOLSKIE / 121810 / ",50169032,54315991,{"$f":"ISNUMBER(SEARCH(Wyszukiwarka!$A$1,'Porównanie dochodów JST'!J957))","v":false},{"$f":"IF(M957,COUNTIF($M$16:M957,TRUE),\"\")","v":""},{"$f":"IFERROR(INDEX($J$16:$J$2822,MATCH(ROWS($J$16:J957),$N$16:$N$2822,0)),\"\")","v":""}]
["12","19","01","2","121901","Gmina wiejska","MAŁOPOLSKIE","wielicki","BISKUPICE","BISKUPICE - Gmina wiejska / Powiat wielicki / Województwo  - MAŁOPOLSKIE / 121901 / ",50019977,54107701.87646278,{"$f":"ISNUMBER(SEARCH(Wyszukiwarka!$A$1,'Porównanie dochodów JST'!J958))","v":false},{"$f":"IF(M958,COUNTIF($M$16:M958,TRUE),\"\")","v":""},{"$f":"IFERROR(INDEX($J$16:$J$2822,MATCH(ROWS($J$16:J958),$N$16:$N$2822,0)),\"\")","v":""}]
["12","19","02","2","121902","Gmina wiejska","MAŁOPOLSKIE","wielicki","GDÓW","GDÓW - Gmina wiejska / Powiat wielicki / Województwo  - MAŁOPOLSKIE / 121902 / ",77420465,82670470,{"$f":"ISNUMBER(SEARCH(Wyszukiwarka!$A$1,'Porównanie dochodów JST'!J959))","v":false},{"$f":"IF(M959,COUNTIF($M$16:M959,TRUE),\"\")","v":""},{"$f":"IFERROR(INDEX($J$16:$J$2822,MATCH(ROWS($J$16:J959),$N$16:$N$2822,0)),\"\")","v":""}]
["12","19","03","2","121903","Gmina wiejska","MAŁOPOLSKIE","wielicki","KŁAJ","KŁAJ - Gmina wiejska / Powiat wielicki / Województwo  - MAŁOPOLSKIE / 121903 / ",40045203,43997213,{"$f":"ISNUMBER(SEARCH(Wyszukiwarka!$A$1,'Porównanie dochodów JST'!J960))","v":false},{"$f":"IF(M960,COUNTIF($M$16:M960,TRUE),\"\")","v":""},{"$f":"IFERROR(INDEX($J$16:$J$2822,MATCH(ROWS($J$16:J960),$N$16:$N$2822,0)),\"\")","v":""}]
["12","19","04","3","121904","Gmina miejsko-wiejska","MAŁOPOLSKIE","wielicki","NIEPOŁOMICE","NIEPOŁOMICE - Gmina miejsko-wiejska / Powiat wielicki / Województwo  - MAŁOPOLSKIE / 121904 / ",155239269,169756781.99530989,{"$f":"ISNUMBER(SEARCH(Wyszukiwarka!$A$1,'Porównanie dochodów JST'!J961))","v":false},{"$f":"IF(M961,COUNTIF($M$16:M961,TRUE),\"\")","v":""},{"$f":"IFERROR(INDEX($J$16:$J$2822,MATCH(ROWS($J$16:J961),$N$16:$N$2822,0)),\"\")","v":""}]
["12","19","05","3","121905","Gmina miejsko-wiejska","MAŁOPOLSKIE","wielicki","WIELICZKA","WIELICZKA - Gmina miejsko-wiejska / Powiat wielicki / Województwo  - MAŁOPOLSKIE / 121905 / ",290356152,310918455.41759998,{"$f":"ISNUMBER(SEARCH(Wyszukiwarka!$A$1,'Porównanie dochodów JST'!J962))","v":false},{"$f":"IF(M962,COUNTIF($M$16:M962,TRUE),\"\")","v":""},{"$f":"IFERROR(INDEX($J$16:$J$2822,MATCH(ROWS($J$16:J962),$N$16:$N$2822,0)),\"\")","v":""}]
["14","01","01","3","140101","Gmina miejsko-wiejska","MAZOWIECKIE","białobrzeski","BIAŁOBRZEGI","BIAŁOBRZEGI - Gmina miejsko-wiejska / Powiat białobrzeski / Województwo  - MAZOWIECKIE / 140101 / ",36072226,39484612.944988012,{"$f":"ISNUMBER(SEARCH(Wyszukiwarka!$A$1,'Porównanie dochodów JST'!J963))","v":false},{"$f":"IF(M963,COUNTIF($M$16:M963,TRUE),\"\")","v":""},{"$f":"IFERROR(INDEX($J$16:$J$2822,MATCH(ROWS($J$16:J963),$N$16:$N$2822,0)),\"\")","v":""}]
["14","01","02","2","140102","Gmina wiejska","MAZOWIECKIE","białobrzeski","PROMNA","PROMNA - Gmina wiejska / Powiat białobrzeski / Województwo  - MAZOWIECKIE / 140102 / ",25409502,27449737,{"$f":"ISNUMBER(SEARCH(Wyszukiwarka!$A$1,'Porównanie dochodów JST'!J964))","v":false},{"$f":"IF(M964,COUNTIF($M$16:M964,TRUE),\"\")","v":""},{"$f":"IFERROR(INDEX($J$16:$J$2822,MATCH(ROWS($J$16:J964),$N$16:$N$2822,0)),\"\")","v":""}]
["14","01","03","2","140103","Gmina wiejska","MAZOWIECKIE","białobrzeski","RADZANÓW","RADZANÓW - Gmina wiejska / Powiat białobrzeski / Województwo  - MAZOWIECKIE / 140103 / ",17330119,18711617,{"$f":"ISNUMBER(SEARCH(Wyszukiwarka!$A$1,'Porównanie dochodów JST'!J965))","v":false},{"$f":"IF(M965,COUNTIF($M$16:M965,TRUE),\"\")","v":""},{"$f":"IFERROR(INDEX($J$16:$J$2822,MATCH(ROWS($J$16:J965),$N$16:$N$2822,0)),\"\")","v":""}]
["14","01","04","2","140104","Gmina wiejska","MAZOWIECKIE","białobrzeski","STARA BŁOTNICA","STARA BŁOTNICA - Gmina wiejska / Powiat białobrzeski / Województwo  - MAZOWIECKIE / 140104 / ",24974175,27013469,{"$f":"ISNUMBER(SEARCH(Wyszukiwarka!$A$1,'Porównanie dochodów JST'!J966))","v":false},{"$f":"IF(M966,COUNTIF($M$16:M966,TRUE),\"\")","v":""},{"$f":"IFERROR(INDEX($J$16:$J$2822,MATCH(ROWS($J$16:J966),$N$16:$N$2822,0)),\"\")","v":""}]
["14","01","05","2","140105","Gmina wiejska","MAZOWIECKIE","białobrzeski","STROMIEC","STROMIEC - Gmina wiejska / Powiat białobrzeski / Województwo  - MAZOWIECKIE / 140105 / ",27278335,29330748,{"$f":"ISNUMBER(SEARCH(Wyszukiwarka!$A$1,'Porównanie dochodów JST'!J967))","v":false},{"$f":"IF(M967,COUNTIF($M$16:M967,TRUE),\"\")","v":""},{"$f":"IFERROR(INDEX($J$16:$J$2822,MATCH(ROWS($J$16:J967),$N$16:$N$2822,0)),\"\")","v":""}]
["14","01","06","3","140106","Gmina miejsko-wiejska","MAZOWIECKIE","białobrzeski","WYŚMIERZYCE","WYŚMIERZYCE - Gmina miejsko-wiejska / Powiat białobrzeski / Województwo  - MAZOWIECKIE / 140106 / ",11645966,12920453,{"$f":"ISNUMBER(SEARCH(Wyszukiwarka!$A$1,'Porównanie dochodów JST'!J968))","v":false},{"$f":"IF(M968,COUNTIF($M$16:M968,TRUE),\"\")","v":""},{"$f":"IFERROR(INDEX($J$16:$J$2822,MATCH(ROWS($J$16:J968),$N$16:$N$2822,0)),\"\")","v":""}]
["14","02","01","1","140201","Gmina miejska","MAZOWIECKIE","ciechanowski","CIECHANÓW","CIECHANÓW - Gmina miejska / Powiat ciechanowski / Województwo  - MAZOWIECKIE / 140201 / ",157266924,168206635.14364639,{"$f":"ISNUMBER(SEARCH(Wyszukiwarka!$A$1,'Porównanie dochodów JST'!J969))","v":false},{"$f":"IF(M969,COUNTIF($M$16:M969,TRUE),\"\")","v":""},{"$f":"IFERROR(INDEX($J$16:$J$2822,MATCH(ROWS($J$16:J969),$N$16:$N$2822,0)),\"\")","v":""}]
["14","02","02","2","140202","Gmina wiejska","MAZOWIECKIE","ciechanowski","CIECHANÓW","CIECHANÓW - Gmina wiejska / Powiat ciechanowski / Województwo  - MAZOWIECKIE / 140202 / ",23253422,26175817,{"$f":"ISNUMBER(SEARCH(Wyszukiwarka!$A$1,'Porównanie dochodów JST'!J970))","v":false},{"$f":"IF(M970,COUNTIF($M$16:M970,TRUE),\"\")","v":""},{"$f":"IFERROR(INDEX($J$16:$J$2822,MATCH(ROWS($J$16:J970),$N$16:$N$2822,0)),\"\")","v":""}]
["14","02","03","3","140203","Gmina miejsko-wiejska","MAZOWIECKIE","ciechanowski","GLINOJECK","GLINOJECK - Gmina miejsko-wiejska / Powiat ciechanowski / Województwo  - MAZOWIECKIE / 140203 / ",25695590,28431087.833116382,{"$f":"ISNUMBER(SEARCH(Wyszukiwarka!$A$1,'Porównanie dochodów JST'!J971))","v":false},{"$f":"IF(M971,COUNTIF($M$16:M971,TRUE),\"\")","v":""},{"$f":"IFERROR(INDEX($J$16:$J$2822,MATCH(ROWS($J$16:J971),$N$16:$N$2822,0)),\"\")","v":""}]
["14","02","04","2","140204","Gmina wiejska","MAZOWIECKIE","ciechanowski","GOŁYMIN-OŚRODEK","GOŁYMIN-OŚRODEK - Gmina wiejska / Powiat ciechanowski / Województwo  - MAZOWIECKIE / 140204 / ",14062551,15413838,{"$f":"ISNUMBER(SEARCH(Wyszukiwarka!$A$1,'Porównanie dochodów JST'!J972))","v":false},{"$f":"IF(M972,COUNTIF($M$16:M972,TRUE),\"\")","v":""},{"$f":"IFERROR(INDEX($J$16:$J$2822,MATCH(ROWS($J$16:J972),$N$16:$N$2822,0)),\"\")","v":""}]
["14","02","05","2","140205","Gmina wiejska","MAZOWIECKIE","ciechanowski","GRUDUSK","GRUDUSK - Gmina wiejska / Powiat ciechanowski / Województwo  - MAZOWIECKIE / 140205 / ",12687033,14016332.76,{"$f":"ISNUMBER(SEARCH(Wyszukiwarka!$A$1,'Porównanie dochodów JST'!J973))","v":false},{"$f":"IF(M973,COUNTIF($M$16:M973,TRUE),\"\")","v":""},{"$f":"IFERROR(INDEX($J$16:$J$2822,MATCH(ROWS($J$16:J973),$N$16:$N$2822,0)),\"\")","v":""}]
["14","02","06","2","140206","Gmina wiejska","MAZOWIECKIE","ciechanowski","OJRZEŃ","OJRZEŃ - Gmina wiejska / Powiat ciechanowski / Województwo  - MAZOWIECKIE / 140206 / ",19414192,21332086,{"$f":"ISNUMBER(SEARCH(Wyszukiwarka!$A$1,'Porównanie dochodów JST'!J974))","v":false},{"$f":"IF(M974,COUNTIF($M$16:M974,TRUE),\"\")","v":""},{"$f":"IFERROR(INDEX($J$16:$J$2822,MATCH(ROWS($J$16:J974),$N$16:$N$2822,0)),\"\")","v":""}]
["14","02","07","2","140207","Gmina wiejska","MAZOWIECKIE","ciechanowski","OPINOGÓRA GÓRNA","OPINOGÓRA GÓRNA - Gmina wiejska / Powiat ciechanowski / Województwo  - MAZOWIECKIE / 140207 / ",19249563,21327962.639195509,{"$f":"ISNUMBER(SEARCH(Wyszukiwarka!$A$1,'Porównanie dochodów JST'!J975))","v":false},{"$f":"IF(M975,COUNTIF($M$16:M975,TRUE),\"\")","v":""},{"$f":"IFERROR(INDEX($J$16:$J$2822,MATCH(ROWS($J$16:J975),$N$16:$N$2822,0)),\"\")","v":""}]
["14","02","08","2","140208","Gmina wiejska","MAZOWIECKIE","ciechanowski","REGIMIN","REGIMIN - Gmina wiejska / Powiat ciechanowski / Województwo  - MAZOWIECKIE / 140208 / ",16071845,18040140,{"$f":"ISNUMBER(SEARCH(Wyszukiwarka!$A$1,'Porównanie dochodów JST'!J976))","v":false},{"$f":"IF(M976,COUNTIF($M$16:M976,TRUE),\"\")","v":""},{"$f":"IFERROR(INDEX($J$16:$J$2822,MATCH(ROWS($J$16:J976),$N$16:$N$2822,0)),\"\")","v":""}]
["14","02","09","2","140209","Gmina wiejska","MAZOWIECKIE","ciechanowski","SOŃSK",{"$f":"I977&$H$12&F977&$G$12&$H$14&H977&$G$12&$G$14&$H$12&G977&$G$12&E977&$G$12","v":"SOŃSK - Gmina wiejska / Powiat ciechanowski / Województwo  - MAZOWIECKIE / 140209 / "},29172256,31908088,{"$f":"ISNUMBER(SEARCH(Wyszukiwarka!$A$1,'Porównanie dochodów JST'!J977))","v":false},{"$f":"IF(M977,COUNTIF($M$16:M977,TRUE),\"\")","v":""},{"$f":"IFERROR(INDEX($J$16:$J$2822,MATCH(ROWS($J$16:J977),$N$16:$N$2822,0)),\"\")","v":""}]
["14","03","01","1","140301","Gmina miejska","MAZOWIECKIE","garwoliński","GARWOLIN","GARWOLIN - Gmina miejska / Powiat garwoliński / Województwo  - MAZOWIECKIE / 140301 / ",76768870,82868647.900168732,{"$f":"ISNUMBER(SEARCH(Wyszukiwarka!$A$1,'Porównanie dochodów JST'!J978))","v":false},{"$f":"IF(M978,COUNTIF($M$16:M978,TRUE),\"\")","v":""},{"$f":"IFERROR(INDEX($J$16:$J$2822,MATCH(ROWS($J$16:J978),$N$16:$N$2822,0)),\"\")","v":""}]
["14","03","02","1","140302","Gmina miejska","MAZOWIECKIE","garwoliński","ŁASKARZEW","ŁASKARZEW - Gmina miejska / Powiat garwoliński / Województwo  - MAZOWIECKIE / 140302 / ",19925297,21855285,{"$f":"ISNUMBER(SEARCH(Wyszukiwarka!$A$1,'Porównanie dochodów JST'!J979))","v":false},{"$f":"IF(M979,COUNTIF($M$16:M979,TRUE),\"\")","v":""},{"$f":"IFERROR(INDEX($J$16:$J$2822,MATCH(ROWS($J$16:J979),$N$16:$N$2822,0)),\"\")","v":""}]
["14","03","03","2","140303","Gmina wiejska","MAZOWIECKIE","garwoliński","BOROWIE","BOROWIE - Gmina wiejska / Powiat garwoliński / Województwo  - MAZOWIECKIE / 140303 / ",21421962,23404983.612053279,{"$f":"ISNUMBER(SEARCH(Wyszukiwarka!$A$1,'Porównanie dochodów JST'!J980))","v":false},{"$f":"IF(M980,COUNTIF($M$16:M980,TRUE),\"\")","v":""},{"$f":"IFERROR(INDEX($J$16:$J$2822,MATCH(ROWS($J$16:J980),$N$16:$N$2822,0)),\"\")","v":""}]
["14","03","04","2","140304","Gmina wiejska","MAZOWIECKIE","garwoliński","GARWOLIN","GARWOLIN - Gmina wiejska / Powiat garwoliński / Województwo  - MAZOWIECKIE / 140304 / ",52528525,56856736,{"$f":"ISNUMBER(SEARCH(Wyszukiwarka!$A$1,'Porównanie dochodów JST'!J981))","v":false},{"$f":"IF(M981,COUNTIF($M$16:M981,TRUE),\"\")","v":""},{"$f":"IFERROR(INDEX($J$16:$J$2822,MATCH(ROWS($J$16:J981),$N$16:$N$2822,0)),\"\")","v":""}]
["14","03","05","2","140305","Gmina wiejska","MAZOWIECKIE","garwoliński","GÓRZNO","GÓRZNO - Gmina wiejska / Powiat garwoliński / Województwo  - MAZOWIECKIE / 140305 / ",32339051,35076072.944643229,{"$f":"ISNUMBER(SEARCH(Wyszukiwarka!$A$1,'Porównanie dochodów JST'!J982))","v":false},{"$f":"IF(M982,COUNTIF($M$16:M982,TRUE),\"\")","v":""},{"$f":"IFERROR(INDEX($J$16:$J$2822,MATCH(ROWS($J$16:J982),$N$16:$N$2822,0)),\"\")","v":""}]
["14","03","06","2","140306","Gmina wiejska","MAZOWIECKIE","garwoliński","ŁASKARZEW","ŁASKARZEW - Gmina wiejska / Powiat garwoliński / Województwo  - MAZOWIECKIE / 140306 / ",25162866,27177048,{"$f":"ISNUMBER(SEARCH(Wyszukiwarka!$A$1,'Porównanie dochodów JST'!J983))","v":false},{"$f":"IF(M983,COUNTIF($M$16:M983,TRUE),\"\")","v":""},{"$f":"IFERROR(INDEX($J$16:$J$2822,MATCH(ROWS($J$16:J983),$N$16:$N$2822,0)),\"\")","v":""}]
["14","03","07","2","140307","Gmina wiejska","MAZOWIECKIE","garwoliński","MACIEJOWICE","MACIEJOWICE - Gmina wiejska / Powiat garwoliński / Województwo  - MAZOWIECKIE / 140307 / ",26170067,28810275,{"$f":"ISNUMBER(SEARCH(Wyszukiwarka!$A$1,'Porównanie dochodów JST'!J984))","v":false},{"$f":"IF(M984,COUNTIF($M$16:M984,TRUE),\"\")","v":""},{"$f":"IFERROR(INDEX($J$16:$J$2822,MATCH(ROWS($J$16:J984),$N$16:$N$2822,0)),\"\")","v":""}]
["14","03","08","2","140308","Gmina wiejska","MAZOWIECKIE","garwoliński","MIASTKÓW KOŚCIELNY","MIASTKÓW KOŚCIELNY - Gmina wiejska / Powiat garwoliński / Województwo  - MAZOWIECKIE / 140308 / ",21574464,23528025.883150622,{"$f":"ISNUMBER(SEARCH(Wyszukiwarka!$A$1,'Porównanie dochodów JST'!J985))","v":false},{"$f":"IF(M985,COUNTIF($M$16:M985,TRUE),\"\")","v":""},{"$f":"IFERROR(INDEX($J$16:$J$2822,MATCH(ROWS($J$16:J985),$N$16:$N$2822,0)),\"\")","v":""}]
["14","03","09","2","140309","Gmina wiejska","MAZOWIECKIE","garwoliński","PARYSÓW","PARYSÓW - Gmina wiejska / Powiat garwoliński / Województwo  - MAZOWIECKIE / 140309 / ",18672735,20574456.553177305,{"$f":"ISNUMBER(SEARCH(Wyszukiwarka!$A$1,'Porównanie dochodów JST'!J986))","v":false},{"$f":"IF(M986,COUNTIF($M$16:M986,TRUE),\"\")","v":""},{"$f":"IFERROR(INDEX($J$16:$J$2822,MATCH(ROWS($J$16:J986),$N$16:$N$2822,0)),\"\")","v":""}]
["14","03","10","3","140310","Gmina miejsko-wiejska","MAZOWIECKIE","garwoliński","PILAWA","PILAWA - Gmina miejsko-wiejska / Powiat garwoliński / Województwo  - MAZOWIECKIE / 140310 / ",43950506,47938143.770225473,{"$f":"ISNUMBER(SEARCH(Wyszukiwarka!$A$1,'Porównanie dochodów JST'!J987))","v":false},{"$f":"IF(M987,COUNTIF($M$16:M987,TRUE),\"\")","v":""},{"$f":"IFERROR(INDEX($J$16:$J$2822,MATCH(ROWS($J$16:J987),$N$16:$N$2822,0)),\"\")","v":""}]
["14","03","11","2","140311","Gmina wiejska","MAZOWIECKIE","garwoliński","SOBOLEW","SOBOLEW - Gmina wiejska / Powiat garwoliński / Województwo  - MAZOWIECKIE / 140311 / ",33656504,38526306.560000002,{"$f":"ISNUMBER(SEARCH(Wyszukiwarka!$A$1,'Porównanie dochodów JST'!J988))","v":false},{"$f":"IF(M988,COUNTIF($M$16:M988,TRUE),\"\")","v":""},{"$f":"IFERROR(INDEX($J$16:$J$2822,MATCH(ROWS($J$16:J988),$N$16:$N$2822,0)),\"\")","v":""}]
["14","03","12","2","140312","Gmina wiejska","MAZOWIECKIE","garwoliński","TROJANÓW","TROJANÓW - Gmina wiejska / Powiat garwoliński / Województwo  - MAZOWIECKIE / 140312 / ",31908742,34605765.85483177,{"$f":"ISNUMBER(SEARCH(Wyszukiwarka!$A$1,'Porównanie dochodów JST'!J989))","v":false},{"$f":"IF(M989,COUNTIF($M$16:M989,TRUE),\"\")","v":""},{"$f":"IFERROR(INDEX($J$16:$J$2822,MATCH(ROWS($J$16:J989),$N$16:$N$2822,0)),\"\")","v":""}]
["14","03","13","2","140313","Gmina wiejska","MAZOWIECKIE","garwoliński","WILGA","WILGA - Gmina wiejska / Powiat garwoliński / Województwo  - MAZOWIECKIE / 140313 / ",20595820,23059853.848746024,{"$f":"ISNUMBER(SEARCH(Wyszukiwarka!$A$1,'Porównanie dochodów JST'!J990))","v":false},{"$f":"IF(M990,COUNTIF($M$16:M990,TRUE),\"\")","v":""},{"$f":"IFERROR(INDEX($J$16:$J$2822,MATCH(ROWS($J$16:J990),$N$16:$N$2822,0)),\"\")","v":""}]
["14","03","14","3","140314","Gmina miejsko-wiejska","MAZOWIECKIE","garwoliński","ŻELECHÓW","ŻELECHÓW - Gmina miejsko-wiejska / Powiat garwoliński / Województwo  - MAZOWIECKIE / 140314 / ",33916844,37609944.362560391,{"$f":"ISNUMBER(SEARCH(Wyszukiwarka!$A$1,'Porównanie dochodów JST'!J991))","v":false},{"$f":"IF(M991,COUNTIF($M$16:M991,TRUE),\"\")","v":""},{"$f":"IFERROR(INDEX($J$16:$J$2822,MATCH(ROWS($J$16:J991),$N$16:$N$2822,0)),\"\")","v":""}]
["14","04","01","1","140401","Gmina miejska","MAZOWIECKIE","gostyniński","GOSTYNIN","GOSTYNIN - Gmina miejska / Powiat gostyniński / Województwo  - MAZOWIECKIE / 140401 / ",56991495,62122221,{"$f":"ISNUMBER(SEARCH(Wyszukiwarka!$A$1,'Porównanie dochodów JST'!J992))","v":false},{"$f":"IF(M992,COUNTIF($M$16:M992,TRUE),\"\")","v":""},{"$f":"IFERROR(INDEX($J$16:$J$2822,MATCH(ROWS($J$16:J992),$N$16:$N$2822,0)),\"\")","v":""}]
["14","04","02","2","140402","Gmina wiejska","MAZOWIECKIE","gostyniński","GOSTYNIN","GOSTYNIN - Gmina wiejska / Powiat gostyniński / Województwo  - MAZOWIECKIE / 140402 / ",44431844,48607024,{"$f":"ISNUMBER(SEARCH(Wyszukiwarka!$A$1,'Porównanie dochodów JST'!J993))","v":false},{"$f":"IF(M993,COUNTIF($M$16:M993,TRUE),\"\")","v":""},{"$f":"IFERROR(INDEX($J$16:$J$2822,MATCH(ROWS($J$16:J993),$N$16:$N$2822,0)),\"\")","v":""}]
["14","04","03","2","140403","Gmina wiejska","MAZOWIECKIE","gostyniński","PACYNA","PACYNA - Gmina wiejska / Powiat gostyniński / Województwo  - MAZOWIECKIE / 140403 / ",11228879,12545861.584999999,{"$f":"ISNUMBER(SEARCH(Wyszukiwarka!$A$1,'Porównanie dochodów JST'!J994))","v":false},{"$f":"IF(M994,COUNTIF($M$16:M994,TRUE),\"\")","v":""},{"$f":"IFERROR(INDEX($J$16:$J$2822,MATCH(ROWS($J$16:J994),$N$16:$N$2822,0)),\"\")","v":""}]
["14","04","04","3","140404","Gmina miejsko-wiejska","MAZOWIECKIE","gostyniński","SANNIKI","SANNIKI - Gmina miejsko-wiejska / Powiat gostyniński / Województwo  - MAZOWIECKIE / 140404 / ",19061976,21104998.555081919,{"$f":"ISNUMBER(SEARCH(Wyszukiwarka!$A$1,'Porównanie dochodów JST'!J995))","v":false},{"$f":"IF(M995,COUNTIF($M$16:M995,TRUE),\"\")","v":""},{"$f":"IFERROR(INDEX($J$16:$J$2822,MATCH(ROWS($J$16:J995),$N$16:$N$2822,0)),\"\")","v":""}]
["14","04","05","2","140405","Gmina wiejska","MAZOWIECKIE","gostyniński","SZCZAWIN KOŚCIELNY","SZCZAWIN KOŚCIELNY - Gmina wiejska / Powiat gostyniński / Województwo  - MAZOWIECKIE / 140405 / ",18045895,20009343.775941968,{"$f":"ISNUMBER(SEARCH(Wyszukiwarka!$A$1,'Porównanie dochodów JST'!J996))","v":false},{"$f":"IF(M996,COUNTIF($M$16:M996,TRUE),\"\")","v":""},{"$f":"IFERROR(INDEX($J$16:$J$2822,MATCH(ROWS($J$16:J996),$N$16:$N$2822,0)),\"\")","v":""}]
["14","05","01","1","140501","Gmina miejska","MAZOWIECKIE","grodziski","MILANÓWEK","MILANÓWEK - Gmina miejska / Powiat grodziski / Województwo  - MAZOWIECKIE / 140501 / ",91862758,98792314.155303985,{"$f":"ISNUMBER(SEARCH(Wyszukiwarka!$A$1,'Porównanie dochodów JST'!J997))","v":false},{"$f":"IF(M997,COUNTIF($M$16:M997,TRUE),\"\")","v":""},{"$f":"IFERROR(INDEX($J$16:$J$2822,MATCH(ROWS($J$16:J997),$N$16:$N$2822,0)),\"\")","v":""}]
["14","05","02","1","140502","Gmina miejska","MAZOWIECKIE","grodziski","PODKOWA LEŚNA","PODKOWA LEŚNA - Gmina miejska / Powiat grodziski / Województwo  - MAZOWIECKIE / 140502 / ",35389918,37901051.28216476,{"$f":"ISNUMBER(SEARCH(Wyszukiwarka!$A$1,'Porównanie dochodów JST'!J998))","v":false},{"$f":"IF(M998,COUNTIF($M$16:M998,TRUE),\"\")","v":""},{"$f":"IFERROR(INDEX($J$16:$J$2822,MATCH(ROWS($J$16:J998),$N$16:$N$2822,0)),\"\")","v":""}]
["14","05","03","2","140503","Gmina wiejska","MAZOWIECKIE","grodziski","BARANÓW","BARANÓW - Gmina wiejska / Powiat grodziski / Województwo  - MAZOWIECKIE / 140503 / ",21710437,23683655,{"$f":"ISNUMBER(SEARCH(Wyszukiwarka!$A$1,'Porównanie dochodów JST'!J999))","v":false},{"$f":"IF(M999,COUNTIF($M$16:M999,TRUE),\"\")","v":""},{"$f":"IFERROR(INDEX($J$16:$J$2822,MATCH(ROWS($J$16:J999),$N$16:$N$2822,0)),\"\")","v":""}]
["14","05","04","3","140504","Gmina miejsko-wiejska","MAZOWIECKIE","grodziski","GRODZISK MAZOWIECKI","GRODZISK MAZOWIECKI - Gmina miejsko-wiejska / Powiat grodziski / Województwo  - MAZOWIECKIE / 140504 / ",262485787,281633438.4285304,{"$f":"ISNUMBER(SEARCH(Wyszukiwarka!$A$1,'Porównanie dochodów JST'!J1000))","v":false},{"$f":"IF(M1000,COUNTIF($M$16:M1000,TRUE),\"\")","v":""},{"$f":"IFERROR(INDEX($J$16:$J$2822,MATCH(ROWS($J$16:J1000),$N$16:$N$2822,0)),\"\")","v":""}]
["14","05","05","2","140505","Gmina wiejska","MAZOWIECKIE","grodziski","JAKTORÓW","JAKTORÓW - Gmina wiejska / Powiat grodziski / Województwo  - MAZOWIECKIE / 140505 / ",52818825,57475534.712294251,{"$f":"ISNUMBER(SEARCH(Wyszukiwarka!$A$1,'Porównanie dochodów JST'!J1001))","v":false},{"$f":"IF(M1001,COUNTIF($M$16:M1001,TRUE),\"\")","v":""},{"$f":"IFERROR(INDEX($J$16:$J$2822,MATCH(ROWS($J$16:J1001),$N$16:$N$2822,0)),\"\")","v":""}]
["14","05","06","2","140506","Gmina wiejska","MAZOWIECKIE","grodziski","ŻABIA WOLA","ŻABIA WOLA - Gmina wiejska / Powiat grodziski / Województwo  - MAZOWIECKIE / 140506 / ",54186987,59015677,{"$f":"ISNUMBER(SEARCH(Wyszukiwarka!$A$1,'Porównanie dochodów JST'!J1002))","v":false},{"$f":"IF(M1002,COUNTIF($M$16:M1002,TRUE),\"\")","v":""},{"$f":"IFERROR(INDEX($J$16:$J$2822,MATCH(ROWS($J$16:J1002),$N$16:$N$2822,0)),\"\")","v":""}]
["14","06","01","2","140601","Gmina wiejska","MAZOWIECKIE","grójecki","BELSK DUŻY","BELSK DUŻY - Gmina wiejska / Powiat grójecki / Województwo  - MAZOWIECKIE / 140601 / ",21422370,23888434.705816012,{"$f":"ISNUMBER(SEARCH(Wyszukiwarka!$A$1,'Porównanie dochodów JST'!J1003))","v":false},{"$f":"IF(M1003,COUNTIF($M$16:M1003,TRUE),\"\")","v":""},{"$f":"IFERROR(INDEX($J$16:$J$2822,MATCH(ROWS($J$16:J1003),$N$16:$N$2822,0)),\"\")","v":""}]
["14","06","02","2","140602","Gmina wiejska","MAZOWIECKIE","grójecki","BŁĘDÓW","BŁĘDÓW - Gmina wiejska / Powiat grójecki / Województwo  - MAZOWIECKIE / 140602 / ",25939425,28650411.652094319,{"$f":"ISNUMBER(SEARCH(Wyszukiwarka!$A$1,'Porównanie dochodów JST'!J1004))","v":false},{"$f":"IF(M1004,COUNTIF($M$16:M1004,TRUE),\"\")","v":""},{"$f":"IFERROR(INDEX($J$16:$J$2822,MATCH(ROWS($J$16:J1004),$N$16:$N$2822,0)),\"\")","v":""}]
["14","06","03","2","140603","Gmina wiejska","MAZOWIECKIE","grójecki","CHYNÓW","CHYNÓW - Gmina wiejska / Powiat grójecki / Województwo  - MAZOWIECKIE / 140603 / ",44920125,48972501,{"$f":"ISNUMBER(SEARCH(Wyszukiwarka!$A$1,'Porównanie dochodów JST'!J1005))","v":false},{"$f":"IF(M1005,COUNTIF($M$16:M1005,TRUE),\"\")","v":""},{"$f":"IFERROR(INDEX($J$16:$J$2822,MATCH(ROWS($J$16:J1005),$N$16:$N$2822,0)),\"\")","v":""}]
["14","06","04","2","140604","Gmina wiejska","MAZOWIECKIE","grójecki","GOSZCZYN","GOSZCZYN - Gmina wiejska / Powiat grójecki / Województwo  - MAZOWIECKIE / 140604 / ",13942662,15220297,{"$f":"ISNUMBER(SEARCH(Wyszukiwarka!$A$1,'Porównanie dochodów JST'!J1006))","v":false},{"$f":"IF(M1006,COUNTIF($M$16:M1006,TRUE),\"\")","v":""},{"$f":"IFERROR(INDEX($J$16:$J$2822,MATCH(ROWS($J$16:J1006),$N$16:$N$2822,0)),\"\")","v":""}]
["14","06","05","3","140605","Gmina miejsko-wiejska","MAZOWIECKIE","grójecki","GRÓJEC","GRÓJEC - Gmina miejsko-wiejska / Powiat grójecki / Województwo  - MAZOWIECKIE / 140605 / ",98231579,107046734.73930265,{"$f":"ISNUMBER(SEARCH(Wyszukiwarka!$A$1,'Porównanie dochodów JST'!J1007))","v":false},{"$f":"IF(M1007,COUNTIF($M$16:M1007,TRUE),\"\")","v":""},{"$f":"IFERROR(INDEX($J$16:$J$2822,MATCH(ROWS($J$16:J1007),$N$16:$N$2822,0)),\"\")","v":""}]
["14","06","06","2","140606","Gmina wiejska","MAZOWIECKIE","grójecki","JASIENIEC","JASIENIEC - Gmina wiejska / Powiat grójecki / Województwo  - MAZOWIECKIE / 140606 / ",22687924,24721621,{"$f":"ISNUMBER(SEARCH(Wyszukiwarka!$A$1,'Porównanie dochodów JST'!J1008))","v":false},{"$f":"IF(M1008,COUNTIF($M$16:M1008,TRUE),\"\")","v":""},{"$f":"IFERROR(INDEX($J$16:$J$2822,MATCH(ROWS($J$16:J1008),$N$16:$N$2822,0)),\"\")","v":""}]
["14","06","07","3","140607","Gmina miejsko-wiejska","MAZOWIECKIE","grójecki","MOGIELNICA","MOGIELNICA - Gmina miejsko-wiejska / Powiat grójecki / Województwo  - MAZOWIECKIE / 140607 / ",31073224,34380144,{"$f":"ISNUMBER(SEARCH(Wyszukiwarka!$A$1,'Porównanie dochodów JST'!J1009))","v":false},{"$f":"IF(M1009,COUNTIF($M$16:M1009,TRUE),\"\")","v":""},{"$f":"IFERROR(INDEX($J$16:$J$2822,MATCH(ROWS($J$16:J1009),$N$16:$N$2822,0)),\"\")","v":""}]
["14","06","08","3","140608","Gmina miejsko-wiejska","MAZOWIECKIE","grójecki","NOWE MIASTO n. PILICĄ","NOWE MIASTO n. PILICĄ - Gmina miejsko-wiejska / Powiat grójecki / Województwo  - MAZOWIECKIE / 140608 / ",27323848,30167107.19447786,{"$f":"ISNUMBER(SEARCH(Wyszukiwarka!$A$1,'Porównanie dochodów JST'!J1010))","v":false},{"$f":"IF(M1010,COUNTIF($M$16:M1010,TRUE),\"\")","v":""},{"$f":"IFERROR(INDEX($J$16:$J$2822,MATCH(ROWS($J$16:J1010),$N$16:$N$2822,0)),\"\")","v":""}]
["14","06","09","2","140609","Gmina wiejska","MAZOWIECKIE","grójecki","PNIEWY","PNIEWY - Gmina wiejska / Powiat grójecki / Województwo  - MAZOWIECKIE / 140609 / ",19311659,22145383.68,{"$f":"ISNUMBER(SEARCH(Wyszukiwarka!$A$1,'Porównanie dochodów JST'!J1011))","v":false},{"$f":"IF(M1011,COUNTIF($M$16:M1011,TRUE),\"\")","v":""},{"$f":"IFERROR(INDEX($J$16:$J$2822,MATCH(ROWS($J$16:J1011),$N$16:$N$2822,0)),\"\")","v":""}]
["14","06","11","3","140611","Gmina miejsko-wiejska","MAZOWIECKIE","grójecki","WARKA","WARKA - Gmina miejsko-wiejska / Powiat grójecki / Województwo  - MAZOWIECKIE / 140611 / ",62624761,67966276.5946652,{"$f":"ISNUMBER(SEARCH(Wyszukiwarka!$A$1,'Porównanie dochodów JST'!J1012))","v":false},{"$f":"IF(M1012,COUNTIF($M$16:M1012,TRUE),\"\")","v":""},{"$f":"IFERROR(INDEX($J$16:$J$2822,MATCH(ROWS($J$16:J1012),$N$16:$N$2822,0)),\"\")","v":""}]
["14","07","01","2","140701","Gmina wiejska","MAZOWIECKIE","kozienicki","GARBATKA-LETNISKO","GARBATKA-LETNISKO - Gmina wiejska / Powiat kozienicki / Województwo  - MAZOWIECKIE / 140701 / ",16355566,18326925,{"$f":"ISNUMBER(SEARCH(Wyszukiwarka!$A$1,'Porównanie dochodów JST'!J1013))","v":false},{"$f":"IF(M1013,COUNTIF($M$16:M1013,TRUE),\"\")","v":""},{"$f":"IFERROR(INDEX($J$16:$J$2822,MATCH(ROWS($J$16:J1013),$N$16:$N$2822,0)),\"\")","v":""}]
["14","07","02","2","140702","Gmina wiejska","MAZOWIECKIE","kozienicki","GŁOWACZÓW","GŁOWACZÓW - Gmina wiejska / Powiat kozienicki / Województwo  - MAZOWIECKIE / 140702 / ",27349252,30024539.770968512,{"$f":"ISNUMBER(SEARCH(Wyszukiwarka!$A$1,'Porównanie dochodów JST'!J1014))","v":false},{"$f":"IF(M1014,COUNTIF($M$16:M1014,TRUE),\"\")","v":""},{"$f":"IFERROR(INDEX($J$16:$J$2822,MATCH(ROWS($J$16:J1014),$N$16:$N$2822,0)),\"\")","v":""}]
["14","07","03","2","140703","Gmina wiejska","MAZOWIECKIE","kozienicki","GNIEWOSZÓW","GNIEWOSZÓW - Gmina wiejska / Powiat kozienicki / Województwo  - MAZOWIECKIE / 140703 / ",15070523,17089715.969895296,{"$f":"ISNUMBER(SEARCH(Wyszukiwarka!$A$1,'Porównanie dochodów JST'!J1015))","v":false},{"$f":"IF(M1015,COUNTIF($M$16:M1015,TRUE),\"\")","v":""},{"$f":"IFERROR(INDEX($J$16:$J$2822,MATCH(ROWS($J$16:J1015),$N$16:$N$2822,0)),\"\")","v":""}]
["14","07","04","2","140704","Gmina wiejska","MAZOWIECKIE","kozienicki","GRABÓW n. PILICĄ","GRABÓW n. PILICĄ - Gmina wiejska / Powiat kozienicki / Województwo  - MAZOWIECKIE / 140704 / ",15852518,17759032,{"$f":"ISNUMBER(SEARCH(Wyszukiwarka!$A$1,'Porównanie dochodów JST'!J1016))","v":false},{"$f":"IF(M1016,COUNTIF($M$16:M1016,TRUE),\"\")","v":""},{"$f":"IFERROR(INDEX($J$16:$J$2822,MATCH(ROWS($J$16:J1016),$N$16:$N$2822,0)),\"\")","v":""}]
["14","07","05","3","140705","Gmina miejsko-wiejska","MAZOWIECKIE","kozienicki","KOZIENICE","KOZIENICE - Gmina miejsko-wiejska / Powiat kozienicki / Województwo  - MAZOWIECKIE / 140705 / ",91596239,98671920,{"$f":"ISNUMBER(SEARCH(Wyszukiwarka!$A$1,'Porównanie dochodów JST'!J1017))","v":false},{"$f":"IF(M1017,COUNTIF($M$16:M1017,TRUE),\"\")","v":""},{"$f":"IFERROR(INDEX($J$16:$J$2822,MATCH(ROWS($J$16:J1017),$N$16:$N$2822,0)),\"\")","v":""}]
["14","07","06","2","140706","Gmina wiejska","MAZOWIECKIE","kozienicki","MAGNUSZEW","MAGNUSZEW - Gmina wiejska / Powiat kozienicki / Województwo  - MAZOWIECKIE / 140706 / ",27251935,31232221.439999998,{"$f":"ISNUMBER(SEARCH(Wyszukiwarka!$A$1,'Porównanie dochodów JST'!J1018))","v":false},{"$f":"IF(M1018,COUNTIF($M$16:M1018,TRUE),\"\")","v":""},{"$f":"IFERROR(INDEX($J$16:$J$2822,MATCH(ROWS($J$16:J1018),$N$16:$N$2822,0)),\"\")","v":""}]
["14","07","07","2","140707","Gmina wiejska","MAZOWIECKIE","kozienicki","SIECIECHÓW","SIECIECHÓW - Gmina wiejska / Powiat kozienicki / Województwo  - MAZOWIECKIE / 140707 / ",14319432,15680103,{"$f":"ISNUMBER(SEARCH(Wyszukiwarka!$A$1,'Porównanie dochodów JST'!J1019))","v":false},{"$f":"IF(M1019,COUNTIF($M$16:M1019,TRUE),\"\")","v":""},{"$f":"IFERROR(INDEX($J$16:$J$2822,MATCH(ROWS($J$16:J1019),$N$16:$N$2822,0)),\"\")","v":""}]
["14","08","01","1","140801","Gmina miejska","MAZOWIECKIE","legionowski","LEGIONOWO","LEGIONOWO - Gmina miejska / Powiat legionowski / Województwo  - MAZOWIECKIE / 140801 / ",237130000,254204454.02782524,{"$f":"ISNUMBER(SEARCH(Wyszukiwarka!$A$1,'Porównanie dochodów JST'!J1020))","v":false},{"$f":"IF(M1020,COUNTIF($M$16:M1020,TRUE),\"\")","v":""},{"$f":"IFERROR(INDEX($J$16:$J$2822,MATCH(ROWS($J$16:J1020),$N$16:$N$2822,0)),\"\")","v":""}]
["14","08","02","2","140802","Gmina wiejska","MAZOWIECKIE","legionowski","JABŁONNA","JABŁONNA - Gmina wiejska / Powiat legionowski / Województwo  - MAZOWIECKIE / 140802 / ",132773919,142219876.10741422,{"$f":"ISNUMBER(SEARCH(Wyszukiwarka!$A$1,'Porównanie dochodów JST'!J1021))","v":false},{"$f":"IF(M1021,COUNTIF($M$16:M1021,TRUE),\"\")","v":""},{"$f":"IFERROR(INDEX($J$16:$J$2822,MATCH(ROWS($J$16:J1021),$N$16:$N$2822,0)),\"\")","v":""}]
["14","08","03","2","140803","Gmina wiejska","MAZOWIECKIE","legionowski","NIEPORĘT","NIEPORĘT - Gmina wiejska / Powiat legionowski / Województwo  - MAZOWIECKIE / 140803 / ",102876253,110025219.18626419,{"$f":"ISNUMBER(SEARCH(Wyszukiwarka!$A$1,'Porównanie dochodów JST'!J1022))","v":false},{"$f":"IF(M1022,COUNTIF($M$16:M1022,TRUE),\"\")","v":""},{"$f":"IFERROR(INDEX($J$16:$J$2822,MATCH(ROWS($J$16:J1022),$N$16:$N$2822,0)),\"\")","v":""}]
["14","08","04","3","140804","Gmina miejsko-wiejska","MAZOWIECKIE","legionowski","SEROCK","SEROCK - Gmina miejsko-wiejska / Powiat legionowski / Województwo  - MAZOWIECKIE / 140804 / ",63805622,70665374.027794704,{"$f":"ISNUMBER(SEARCH(Wyszukiwarka!$A$1,'Porównanie dochodów JST'!J1023))","v":false},{"$f":"IF(M1023,COUNTIF($M$16:M1023,TRUE),\"\")","v":""},{"$f":"IFERROR(INDEX($J$16:$J$2822,MATCH(ROWS($J$16:J1023),$N$16:$N$2822,0)),\"\")","v":""}]
["14","08","05","2","140805","Gmina wiejska","MAZOWIECKIE","legionowski","WIELISZEW","WIELISZEW - Gmina wiejska / Powiat legionowski / Województwo  - MAZOWIECKIE / 140805 / ",93320135,102793398.23626721,{"$f":"ISNUMBER(SEARCH(Wyszukiwarka!$A$1,'Porównanie dochodów JST'!J1024))","v":false},{"$f":"IF(M1024,COUNTIF($M$16:M1024,TRUE),\"\")","v":""},{"$f":"IFERROR(INDEX($J$16:$J$2822,MATCH(ROWS($J$16:J1024),$N$16:$N$2822,0)),\"\")","v":""}]
["14","09","01","2","140901","Gmina wiejska","MAZOWIECKIE","lipski","CHOTCZA","CHOTCZA - Gmina wiejska / Powiat lipski / Województwo  - MAZOWIECKIE / 140901 / ",9614120,10828141.4,{"$f":"ISNUMBER(SEARCH(Wyszukiwarka!$A$1,'Porównanie dochodów JST'!J1025))","v":false},{"$f":"IF(M1025,COUNTIF($M$16:M1025,TRUE),\"\")","v":""},{"$f":"IFERROR(INDEX($J$16:$J$2822,MATCH(ROWS($J$16:J1025),$N$16:$N$2822,0)),\"\")","v":""}]
["14","09","02","2","140902","Gmina wiejska","MAZOWIECKIE","lipski","CIEPIELÓW","CIEPIELÓW - Gmina wiejska / Powiat lipski / Województwo  - MAZOWIECKIE / 140902 / ",21569873,23606125.539258234,{"$f":"ISNUMBER(SEARCH(Wyszukiwarka!$A$1,'Porównanie dochodów JST'!J1026))","v":false},{"$f":"IF(M1026,COUNTIF($M$16:M1026,TRUE),\"\")","v":""},{"$f":"IFERROR(INDEX($J$16:$J$2822,MATCH(ROWS($J$16:J1026),$N$16:$N$2822,0)),\"\")","v":""}]
["14","09","03","3","140903","Gmina miejsko-wiejska","MAZOWIECKIE","lipski","LIPSKO","LIPSKO - Gmina miejsko-wiejska / Powiat lipski / Województwo  - MAZOWIECKIE / 140903 / ",33070806,37057018.736700006,{"$f":"ISNUMBER(SEARCH(Wyszukiwarka!$A$1,'Porównanie dochodów JST'!J1027))","v":false},{"$f":"IF(M1027,COUNTIF($M$16:M1027,TRUE),\"\")","v":""},{"$f":"IFERROR(INDEX($J$16:$J$2822,MATCH(ROWS($J$16:J1027),$N$16:$N$2822,0)),\"\")","v":""}]
["14","09","04","2","140904","Gmina wiejska","MAZOWIECKIE","lipski","RZECZNIÓW","RZECZNIÓW - Gmina wiejska / Powiat lipski / Województwo  - MAZOWIECKIE / 140904 / ",15927239,17830641,{"$f":"ISNUMBER(SEARCH(Wyszukiwarka!$A$1,'Porównanie dochodów JST'!J1028))","v":false},{"$f":"IF(M1028,COUNTIF($M$16:M1028,TRUE),\"\")","v":""},{"$f":"IFERROR(INDEX($J$16:$J$2822,MATCH(ROWS($J$16:J1028),$N$16:$N$2822,0)),\"\")","v":""}]
["14","09","05","2","140905","Gmina wiejska","MAZOWIECKIE","lipski","SIENNO","SIENNO - Gmina wiejska / Powiat lipski / Województwo  - MAZOWIECKIE / 140905 / ",25600526,27640110.58722027,{"$f":"ISNUMBER(SEARCH(Wyszukiwarka!$A$1,'Porównanie dochodów JST'!J1029))","v":false},{"$f":"IF(M1029,COUNTIF($M$16:M1029,TRUE),\"\")","v":""},{"$f":"IFERROR(INDEX($J$16:$J$2822,MATCH(ROWS($J$16:J1029),$N$16:$N$2822,0)),\"\")","v":""}]
["14","09","06","2","140906","Gmina wiejska","MAZOWIECKIE","lipski","SOLEC NAD WISŁĄ","SOLEC NAD WISŁĄ - Gmina wiejska / Powiat lipski / Województwo  - MAZOWIECKIE / 140906 / ",18249014,20194054.517763704,{"$f":"ISNUMBER(SEARCH(Wyszukiwarka!$A$1,'Porównanie dochodów JST'!J1030))","v":false},{"$f":"IF(M1030,COUNTIF($M$16:M1030,TRUE),\"\")","v":""},{"$f":"IFERROR(INDEX($J$16:$J$2822,MATCH(ROWS($J$16:J1030),$N$16:$N$2822,0)),\"\")","v":""}]
["14","10","01","2","141001","Gmina wiejska","MAZOWIECKIE","łosicki","HUSZLEW","HUSZLEW - Gmina wiejska / Powiat łosicki / Województwo  - MAZOWIECKIE / 141001 / ",9243212,10642471.84,{"$f":"ISNUMBER(SEARCH(Wyszukiwarka!$A$1,'Porównanie dochodów JST'!J1031))","v":false},{"$f":"IF(M1031,COUNTIF($M$16:M1031,TRUE),\"\")","v":""},{"$f":"IFERROR(INDEX($J$16:$J$2822,MATCH(ROWS($J$16:J1031),$N$16:$N$2822,0)),\"\")","v":""}]
["14","10","02","3","141002","Gmina miejsko-wiejska","MAZOWIECKIE","łosicki","ŁOSICE","ŁOSICE - Gmina miejsko-wiejska / Powiat łosicki / Województwo  - MAZOWIECKIE / 141002 / ",35431966,39451816,{"$f":"ISNUMBER(SEARCH(Wyszukiwarka!$A$1,'Porównanie dochodów JST'!J1032))","v":false},{"$f":"IF(M1032,COUNTIF($M$16:M1032,TRUE),\"\")","v":""},{"$f":"IFERROR(INDEX($J$16:$J$2822,MATCH(ROWS($J$16:J1032),$N$16:$N$2822,0)),\"\")","v":""}]
["14","10","03","2","141003","Gmina wiejska","MAZOWIECKIE","łosicki","OLSZANKA","OLSZANKA - Gmina wiejska / Powiat łosicki / Województwo  - MAZOWIECKIE / 141003 / ",12847833,14714768.32,{"$f":"ISNUMBER(SEARCH(Wyszukiwarka!$A$1,'Porównanie dochodów JST'!J1033))","v":false},{"$f":"IF(M1033,COUNTIF($M$16:M1033,TRUE),\"\")","v":""},{"$f":"IFERROR(INDEX($J$16:$J$2822,MATCH(ROWS($J$16:J1033),$N$16:$N$2822,0)),\"\")","v":""}]
["14","10","04","2","141004","Gmina wiejska","MAZOWIECKIE","łosicki","PLATERÓW","PLATERÓW - Gmina wiejska / Powiat łosicki / Województwo  - MAZOWIECKIE / 141004 / ",17220290,19347415.198578876,{"$f":"ISNUMBER(SEARCH(Wyszukiwarka!$A$1,'Porównanie dochodów JST'!J1034))","v":false},{"$f":"IF(M1034,COUNTIF($M$16:M1034,TRUE),\"\")","v":""},{"$f":"IFERROR(INDEX($J$16:$J$2822,MATCH(ROWS($J$16:J1034),$N$16:$N$2822,0)),\"\")","v":""}]
["14","10","05","2","141005","Gmina wiejska","MAZOWIECKIE","łosicki","SARNAKI","SARNAKI - Gmina wiejska / Powiat łosicki / Województwo  - MAZOWIECKIE / 141005 / ",13053834,14618196.617699198,{"$f":"ISNUMBER(SEARCH(Wyszukiwarka!$A$1,'Porównanie dochodów JST'!J1035))","v":false},{"$f":"IF(M1035,COUNTIF($M$16:M1035,TRUE),\"\")","v":""},{"$f":"IFERROR(INDEX($J$16:$J$2822,MATCH(ROWS($J$16:J1035),$N$16:$N$2822,0)),\"\")","v":""}]
["14","10","06","2","141006","Gmina wiejska","MAZOWIECKIE","łosicki","STARA KORNICA","STARA KORNICA - Gmina wiejska / Powiat łosicki / Województwo  - MAZOWIECKIE / 141006 / ",18216836,20218444.445204176,{"$f":"ISNUMBER(SEARCH(Wyszukiwarka!$A$1,'Porównanie dochodów JST'!J1036))","v":false},{"$f":"IF(M1036,COUNTIF($M$16:M1036,TRUE),\"\")","v":""},{"$f":"IFERROR(INDEX($J$16:$J$2822,MATCH(ROWS($J$16:J1036),$N$16:$N$2822,0)),\"\")","v":""}]
["14","11","01","1","141101","Gmina miejska","MAZOWIECKIE","makowski","MAKÓW MAZOWIECKI","MAKÓW MAZOWIECKI - Gmina miejska / Powiat makowski / Województwo  - MAZOWIECKIE / 141101 / ",31939898,36718479.840000004,{"$f":"ISNUMBER(SEARCH(Wyszukiwarka!$A$1,'Porównanie dochodów JST'!J1037))","v":false},{"$f":"IF(M1037,COUNTIF($M$16:M1037,TRUE),\"\")","v":""},{"$f":"IFERROR(INDEX($J$16:$J$2822,MATCH(ROWS($J$16:J1037),$N$16:$N$2822,0)),\"\")","v":""}]
["14","11","02","2","141102","Gmina wiejska","MAZOWIECKIE","makowski","CZERWONKA","CZERWONKA - Gmina wiejska / Powiat makowski / Województwo  - MAZOWIECKIE / 141102 / ",8206494,9314817.5999999996,{"$f":"ISNUMBER(SEARCH(Wyszukiwarka!$A$1,'Porównanie dochodów JST'!J1038))","v":false},{"$f":"IF(M1038,COUNTIF($M$16:M1038,TRUE),\"\")","v":""},{"$f":"IFERROR(INDEX($J$16:$J$2822,MATCH(ROWS($J$16:J1038),$N$16:$N$2822,0)),\"\")","v":""}]
["14","11","03","2","141103","Gmina wiejska","MAZOWIECKIE","makowski","KARNIEWO","KARNIEWO - Gmina wiejska / Powiat makowski / Województwo  - MAZOWIECKIE / 141103 / ",18369101,20358786.620004859,{"$f":"ISNUMBER(SEARCH(Wyszukiwarka!$A$1,'Porównanie dochodów JST'!J1039))","v":false},{"$f":"IF(M1039,COUNTIF($M$16:M1039,TRUE),\"\")","v":""},{"$f":"IFERROR(INDEX($J$16:$J$2822,MATCH(ROWS($J$16:J1039),$N$16:$N$2822,0)),\"\")","v":""}]
["14","11","04","2","141104","Gmina wiejska","MAZOWIECKIE","makowski","KRASNOSIELC","KRASNOSIELC - Gmina wiejska / Powiat makowski / Województwo  - MAZOWIECKIE / 141104 / ",26056938,29863102.080000006,{"$f":"ISNUMBER(SEARCH(Wyszukiwarka!$A$1,'Porównanie dochodów JST'!J1040))","v":false},{"$f":"IF(M1040,COUNTIF($M$16:M1040,TRUE),\"\")","v":""},{"$f":"IFERROR(INDEX($J$16:$J$2822,MATCH(ROWS($J$16:J1040),$N$16:$N$2822,0)),\"\")","v":""}]
["14","11","05","2","141105","Gmina wiejska","MAZOWIECKIE","makowski","MŁYNARZE",{"$f":"I1041&$H$12&F1041&$G$12&$H$14&H1041&$G$12&$G$14&$H$12&G1041&$G$12&E1041&$G$12","v":"MŁYNARZE - Gmina wiejska / Powiat makowski / Województwo  - MAZOWIECKIE / 141105 / "},9768419,11078525.663266599,{"$f":"ISNUMBER(SEARCH(Wyszukiwarka!$A$1,'Porównanie dochodów JST'!J1041))","v":false},{"$f":"IF(M1041,COUNTIF($M$16:M1041,TRUE),\"\")","v":""},{"$f":"IFERROR(INDEX($J$16:$J$2822,MATCH(ROWS($J$16:J1041),$N$16:$N$2822,0)),\"\")","v":""}]
["14","11","06","2","141106","Gmina wiejska","MAZOWIECKIE","makowski","PŁONIAWY-BRAMURA","PŁONIAWY-BRAMURA - Gmina wiejska / Powiat makowski / Województwo  - MAZOWIECKIE / 141106 / ",19178255,21166177,{"$f":"ISNUMBER(SEARCH(Wyszukiwarka!$A$1,'Porównanie dochodów JST'!J1042))","v":false},{"$f":"IF(M1042,COUNTIF($M$16:M1042,TRUE),\"\")","v":""},{"$f":"IFERROR(INDEX($J$16:$J$2822,MATCH(ROWS($J$16:J1042),$N$16:$N$2822,0)),\"\")","v":""}]
["14","11","07","3","141107","Gmina miejsko-wiejska","MAZOWIECKIE","makowski","RÓŻAN","RÓŻAN - Gmina miejsko-wiejska / Powiat makowski / Województwo  - MAZOWIECKIE / 141107 / ",15262543,17387395.305648841,{"$f":"ISNUMBER(SEARCH(Wyszukiwarka!$A$1,'Porównanie dochodów JST'!J1043))","v":false},{"$f":"IF(M1043,COUNTIF($M$16:M1043,TRUE),\"\")","v":""},{"$f":"IFERROR(INDEX($J$16:$J$2822,MATCH(ROWS($J$16:J1043),$N$16:$N$2822,0)),\"\")","v":""}]
["14","11","08","2","141108","Gmina wiejska","MAZOWIECKIE","makowski","RZEWNIE","RZEWNIE - Gmina wiejska / Powiat makowski / Województwo  - MAZOWIECKIE / 141108 / ",9180269,10372403.399999999,{"$f":"ISNUMBER(SEARCH(Wyszukiwarka!$A$1,'Porównanie dochodów JST'!J1044))","v":false},{"$f":"IF(M1044,COUNTIF($M$16:M1044,TRUE),\"\")","v":""},{"$f":"IFERROR(INDEX($J$16:$J$2822,MATCH(ROWS($J$16:J1044),$N$16:$N$2822,0)),\"\")","v":""}]
["14","11","09","2","141109","Gmina wiejska","MAZOWIECKIE","makowski","SYPNIEWO","SYPNIEWO - Gmina wiejska / Powiat makowski / Województwo  - MAZOWIECKIE / 141109 / ",12184611,13491766,{"$f":"ISNUMBER(SEARCH(Wyszukiwarka!$A$1,'Porównanie dochodów JST'!J1045))","v":false},{"$f":"IF(M1045,COUNTIF($M$16:M1045,TRUE),\"\")","v":""},{"$f":"IFERROR(INDEX($J$16:$J$2822,MATCH(ROWS($J$16:J1045),$N$16:$N$2822,0)),\"\")","v":""}]
["14","11","10","2","141110","Gmina wiejska","MAZOWIECKIE","makowski","SZELKÓW","SZELKÓW - Gmina wiejska / Powiat makowski / Województwo  - MAZOWIECKIE / 141110 / ",11960449,13315594.819999998,{"$f":"ISNUMBER(SEARCH(Wyszukiwarka!$A$1,'Porównanie dochodów JST'!J1046))","v":false},{"$f":"IF(M1046,COUNTIF($M$16:M1046,TRUE),\"\")","v":""},{"$f":"IFERROR(INDEX($J$16:$J$2822,MATCH(ROWS($J$16:J1046),$N$16:$N$2822,0)),\"\")","v":""}]
["14","12","01","1","141201","Gmina miejska","MAZOWIECKIE","miński","MIŃSK MAZOWIECKI","MIŃSK MAZOWIECKI - Gmina miejska / Powiat miński / Województwo  - MAZOWIECKIE / 141201 / ",179081842,193085975.27190572,{"$f":"ISNUMBER(SEARCH(Wyszukiwarka!$A$1,'Porównanie dochodów JST'!J1047))","v":false},{"$f":"IF(M1047,COUNTIF($M$16:M1047,TRUE),\"\")","v":""},{"$f":"IFERROR(INDEX($J$16:$J$2822,MATCH(ROWS($J$16:J1047),$N$16:$N$2822,0)),\"\")","v":""}]
["14","12","04","2","141204","Gmina wiejska","MAZOWIECKIE","miński","CEGŁÓW","CEGŁÓW - Gmina wiejska / Powiat miński / Województwo  - MAZOWIECKIE / 141204 / ",25821037,28424168.869652063,{"$f":"ISNUMBER(SEARCH(Wyszukiwarka!$A$1,'Porównanie dochodów JST'!J1048))","v":false},{"$f":"IF(M1048,COUNTIF($M$16:M1048,TRUE),\"\")","v":""},{"$f":"IFERROR(INDEX($J$16:$J$2822,MATCH(ROWS($J$16:J1048),$N$16:$N$2822,0)),\"\")","v":""}]
["14","12","05","2","141205","Gmina wiejska","MAZOWIECKIE","miński","DĘBE WIELKIE","DĘBE WIELKIE - Gmina wiejska / Powiat miński / Województwo  - MAZOWIECKIE / 141205 / ",47755532,51889373.921762958,{"$f":"ISNUMBER(SEARCH(Wyszukiwarka!$A$1,'Porównanie dochodów JST'!J1049))","v":false},{"$f":"IF(M1049,COUNTIF($M$16:M1049,TRUE),\"\")","v":""},{"$f":"IFERROR(INDEX($J$16:$J$2822,MATCH(ROWS($J$16:J1049),$N$16:$N$2822,0)),\"\")","v":""}]
["14","12","06","2","141206","Gmina wiejska","MAZOWIECKIE","miński","DOBRE","DOBRE - Gmina wiejska / Powiat miński / Województwo  - MAZOWIECKIE / 141206 / ",24036192,26120492,{"$f":"ISNUMBER(SEARCH(Wyszukiwarka!$A$1,'Porównanie dochodów JST'!J1050))","v":false},{"$f":"IF(M1050,COUNTIF($M$16:M1050,TRUE),\"\")","v":""},{"$f":"IFERROR(INDEX($J$16:$J$2822,MATCH(ROWS($J$16:J1050),$N$16:$N$2822,0)),\"\")","v":""}]
["14","12","07","3","141207","Gmina miejsko-wiejska","MAZOWIECKIE","miński","HALINÓW","HALINÓW - Gmina miejsko-wiejska / Powiat miński / Województwo  - MAZOWIECKIE / 141207 / ",80989568,87822372.803740829,{"$f":"ISNUMBER(SEARCH(Wyszukiwarka!$A$1,'Porównanie dochodów JST'!J1051))","v":false},{"$f":"IF(M1051,COUNTIF($M$16:M1051,TRUE),\"\")","v":""},{"$f":"IFERROR(INDEX($J$16:$J$2822,MATCH(ROWS($J$16:J1051),$N$16:$N$2822,0)),\"\")","v":""}]
["14","12","08","2","141208","Gmina wiejska","MAZOWIECKIE","miński","JAKUBÓW","JAKUBÓW - Gmina wiejska / Powiat miński / Województwo  - MAZOWIECKIE / 141208 / ",21007874,23018157.668904163,{"$f":"ISNUMBER(SEARCH(Wyszukiwarka!$A$1,'Porównanie dochodów JST'!J1052))","v":false},{"$f":"IF(M1052,COUNTIF($M$16:M1052,TRUE),\"\")","v":""},{"$f":"IFERROR(INDEX($J$16:$J$2822,MATCH(ROWS($J$16:J1052),$N$16:$N$2822,0)),\"\")","v":""}]
["14","12","09","3","141209","Gmina miejsko-wiejska","MAZOWIECKIE","miński","KAŁUSZYN","KAŁUSZYN - Gmina miejsko-wiejska / Powiat miński / Województwo  - MAZOWIECKIE / 141209 / ",18396244,20293311,{"$f":"ISNUMBER(SEARCH(Wyszukiwarka!$A$1,'Porównanie dochodów JST'!J1053))","v":false},{"$f":"IF(M1053,COUNTIF($M$16:M1053,TRUE),\"\")","v":""},{"$f":"IFERROR(INDEX($J$16:$J$2822,MATCH(ROWS($J$16:J1053),$N$16:$N$2822,0)),\"\")","v":""}]
["14","12","10","2","141210","Gmina wiejska","MAZOWIECKIE","miński","LATOWICZ","LATOWICZ - Gmina wiejska / Powiat miński / Województwo  - MAZOWIECKIE / 141210 / ",20924709,22937495,{"$f":"ISNUMBER(SEARCH(Wyszukiwarka!$A$1,'Porównanie dochodów JST'!J1054))","v":false},{"$f":"IF(M1054,COUNTIF($M$16:M1054,TRUE),\"\")","v":""},{"$f":"IFERROR(INDEX($J$16:$J$2822,MATCH(ROWS($J$16:J1054),$N$16:$N$2822,0)),\"\")","v":""}]
["14","12","11","2","141211","Gmina wiejska","MAZOWIECKIE","miński","MIŃSK MAZOWIECKI","MIŃSK MAZOWIECKI - Gmina wiejska / Powiat miński / Województwo  - MAZOWIECKIE / 141211 / ",64962036,70356324,{"$f":"ISNUMBER(SEARCH(Wyszukiwarka!$A$1,'Porównanie dochodów JST'!J1055))","v":false},{"$f":"IF(M1055,COUNTIF($M$16:M1055,TRUE),\"\")","v":""},{"$f":"IFERROR(INDEX($J$16:$J$2822,MATCH(ROWS($J$16:J1055),$N$16:$N$2822,0)),\"\")","v":""}]
["14","12","12","3","141212","Gmina miejsko-wiejska","MAZOWIECKIE","miński","MROZY","MROZY - Gmina miejsko-wiejska / Powiat miński / Województwo  - MAZOWIECKIE / 141212 / ",40712781,44072722.942477219,{"$f":"ISNUMBER(SEARCH(Wyszukiwarka!$A$1,'Porównanie dochodów JST'!J1056))","v":false},{"$f":"IF(M1056,COUNTIF($M$16:M1056,TRUE),\"\")","v":""},{"$f":"IFERROR(INDEX($J$16:$J$2822,MATCH(ROWS($J$16:J1056),$N$16:$N$2822,0)),\"\")","v":""}]
["14","12","13","2","141213","Gmina wiejska","MAZOWIECKIE","miński","SIENNICA","SIENNICA - Gmina wiejska / Powiat miński / Województwo  - MAZOWIECKIE / 141213 / ",41323752,44124082,{"$f":"ISNUMBER(SEARCH(Wyszukiwarka!$A$1,'Porównanie dochodów JST'!J1057))","v":false},{"$f":"IF(M1057,COUNTIF($M$16:M1057,TRUE),\"\")","v":""},{"$f":"IFERROR(INDEX($J$16:$J$2822,MATCH(ROWS($J$16:J1057),$N$16:$N$2822,0)),\"\")","v":""}]
["14","12","14","2","141214","Gmina wiejska","MAZOWIECKIE","miński","STANISŁAWÓW","STANISŁAWÓW - Gmina wiejska / Powiat miński / Województwo  - MAZOWIECKIE / 141214 / ",29784477,32474766,{"$f":"ISNUMBER(SEARCH(Wyszukiwarka!$A$1,'Porównanie dochodów JST'!J1058))","v":false},{"$f":"IF(M1058,COUNTIF($M$16:M1058,TRUE),\"\")","v":""},{"$f":"IFERROR(INDEX($J$16:$J$2822,MATCH(ROWS($J$16:J1058),$N$16:$N$2822,0)),\"\")","v":""}]
["14","12","15","1","141215","Gmina miejska","MAZOWIECKIE","miński","SULEJÓWEK","SULEJÓWEK - Gmina miejska / Powiat miński / Województwo  - MAZOWIECKIE / 141215 / ",106745460,114130706.39825484,{"$f":"ISNUMBER(SEARCH(Wyszukiwarka!$A$1,'Porównanie dochodów JST'!J1059))","v":false},{"$f":"IF(M1059,COUNTIF($M$16:M1059,TRUE),\"\")","v":""},{"$f":"IFERROR(INDEX($J$16:$J$2822,MATCH(ROWS($J$16:J1059),$N$16:$N$2822,0)),\"\")","v":""}]
["14","13","01","1","141301","Gmina miejska","MAZOWIECKIE","mławski","MŁAWA","MŁAWA - Gmina miejska / Powiat mławski / Województwo  - MAZOWIECKIE / 141301 / ",125392284,138951003.5526,{"$f":"ISNUMBER(SEARCH(Wyszukiwarka!$A$1,'Porównanie dochodów JST'!J1060))","v":false},{"$f":"IF(M1060,COUNTIF($M$16:M1060,TRUE),\"\")","v":""},{"$f":"IFERROR(INDEX($J$16:$J$2822,MATCH(ROWS($J$16:J1060),$N$16:$N$2822,0)),\"\")","v":""}]
["14","13","02","2","141302","Gmina wiejska","MAZOWIECKIE","mławski","DZIERZGOWO","DZIERZGOWO - Gmina wiejska / Powiat mławski / Województwo  - MAZOWIECKIE / 141302 / ",12446113,14247823.52,{"$f":"ISNUMBER(SEARCH(Wyszukiwarka!$A$1,'Porównanie dochodów JST'!J1061))","v":false},{"$f":"IF(M1061,COUNTIF($M$16:M1061,TRUE),\"\")","v":""},{"$f":"IFERROR(INDEX($J$16:$J$2822,MATCH(ROWS($J$16:J1061),$N$16:$N$2822,0)),\"\")","v":""}]
["14","13","03","2","141303","Gmina wiejska","MAZOWIECKIE","mławski","LIPOWIEC KOŚCIELNY","LIPOWIEC KOŚCIELNY - Gmina wiejska / Powiat mławski / Województwo  - MAZOWIECKIE / 141303 / ",18629072,20584485.960927311,{"$f":"ISNUMBER(SEARCH(Wyszukiwarka!$A$1,'Porównanie dochodów JST'!J1062))","v":false},{"$f":"IF(M1062,COUNTIF($M$16:M1062,TRUE),\"\")","v":""},{"$f":"IFERROR(INDEX($J$16:$J$2822,MATCH(ROWS($J$16:J1062),$N$16:$N$2822,0)),\"\")","v":""}]
["14","13","04","2","141304","Gmina wiejska","MAZOWIECKIE","mławski","RADZANÓW","RADZANÓW - Gmina wiejska / Powiat mławski / Województwo  - MAZOWIECKIE / 141304 / ",16303386,17841831.885223508,{"$f":"ISNUMBER(SEARCH(Wyszukiwarka!$A$1,'Porównanie dochodów JST'!J1063))","v":false},{"$f":"IF(M1063,COUNTIF($M$16:M1063,TRUE),\"\")","v":""},{"$f":"IFERROR(INDEX($J$16:$J$2822,MATCH(ROWS($J$16:J1063),$N$16:$N$2822,0)),\"\")","v":""}]
["14","13","05","2","141305","Gmina wiejska","MAZOWIECKIE","mławski","STRZEGOWO-OSADA","STRZEGOWO-OSADA - Gmina wiejska / Powiat mławski / Województwo  - MAZOWIECKIE / 141305 / ",27661992,30380231,{"$f":"ISNUMBER(SEARCH(Wyszukiwarka!$A$1,'Porównanie dochodów JST'!J1064))","v":false},{"$f":"IF(M1064,COUNTIF($M$16:M1064,TRUE),\"\")","v":""},{"$f":"IFERROR(INDEX($J$16:$J$2822,MATCH(ROWS($J$16:J1064),$N$16:$N$2822,0)),\"\")","v":""}]
["14","13","06","2","141306","Gmina wiejska","MAZOWIECKIE","mławski","STUPSK","STUPSK - Gmina wiejska / Powiat mławski / Województwo  - MAZOWIECKIE / 141306 / ",17940796,19885105.919638231,{"$f":"ISNUMBER(SEARCH(Wyszukiwarka!$A$1,'Porównanie dochodów JST'!J1065))","v":false},{"$f":"IF(M1065,COUNTIF($M$16:M1065,TRUE),\"\")","v":""},{"$f":"IFERROR(INDEX($J$16:$J$2822,MATCH(ROWS($J$16:J1065),$N$16:$N$2822,0)),\"\")","v":""}]
["14","13","07","2","141307","Gmina wiejska","MAZOWIECKIE","mławski","SZREŃSK","SZREŃSK - Gmina wiejska / Powiat mławski / Województwo  - MAZOWIECKIE / 141307 / ",16880715,18457110.771361362,{"$f":"ISNUMBER(SEARCH(Wyszukiwarka!$A$1,'Porównanie dochodów JST'!J1066))","v":false},{"$f":"IF(M1066,COUNTIF($M$16:M1066,TRUE),\"\")","v":""},{"$f":"IFERROR(INDEX($J$16:$J$2822,MATCH(ROWS($J$16:J1066),$N$16:$N$2822,0)),\"\")","v":""}]
["14","13","08","2","141308","Gmina wiejska","MAZOWIECKIE","mławski","SZYDŁOWO","SZYDŁOWO - Gmina wiejska / Powiat mławski / Województwo  - MAZOWIECKIE / 141308 / ",15272749,17194302.559199367,{"$f":"ISNUMBER(SEARCH(Wyszukiwarka!$A$1,'Porównanie dochodów JST'!J1067))","v":false},{"$f":"IF(M1067,COUNTIF($M$16:M1067,TRUE),\"\")","v":""},{"$f":"IFERROR(INDEX($J$16:$J$2822,MATCH(ROWS($J$16:J1067),$N$16:$N$2822,0)),\"\")","v":""}]
["14","13","09","2","141309","Gmina wiejska","MAZOWIECKIE","mławski","WIECZFNIA KOŚCIELNA","WIECZFNIA KOŚCIELNA - Gmina wiejska / Powiat mławski / Województwo  - MAZOWIECKIE / 141309 / ",12407556,13693614,{"$f":"ISNUMBER(SEARCH(Wyszukiwarka!$A$1,'Porównanie dochodów JST'!J1068))","v":false},{"$f":"IF(M1068,COUNTIF($M$16:M1068,TRUE),\"\")","v":""},{"$f":"IFERROR(INDEX($J$16:$J$2822,MATCH(ROWS($J$16:J1068),$N$16:$N$2822,0)),\"\")","v":""}]
["14","13","10","2","141310","Gmina wiejska","MAZOWIECKIE","mławski","WIŚNIEWO","WIŚNIEWO - Gmina wiejska / Powiat mławski / Województwo  - MAZOWIECKIE / 141310 / ",19477051,21486691,{"$f":"ISNUMBER(SEARCH(Wyszukiwarka!$A$1,'Porównanie dochodów JST'!J1069))","v":false},{"$f":"IF(M1069,COUNTIF($M$16:M1069,TRUE),\"\")","v":""},{"$f":"IFERROR(INDEX($J$16:$J$2822,MATCH(ROWS($J$16:J1069),$N$16:$N$2822,0)),\"\")","v":""}]
["14","14","01","1","141401","Gmina miejska","MAZOWIECKIE","nowodworski","NOWY DWÓR MAZOWIECKI","NOWY DWÓR MAZOWIECKI - Gmina miejska / Powiat nowodworski / Województwo  - MAZOWIECKIE / 141401 / ",123205299,142440455.36000001,{"$f":"ISNUMBER(SEARCH(Wyszukiwarka!$A$1,'Porównanie dochodów JST'!J1070))","v":false},{"$f":"IF(M1070,COUNTIF($M$16:M1070,TRUE),\"\")","v":""},{"$f":"IFERROR(INDEX($J$16:$J$2822,MATCH(ROWS($J$16:J1070),$N$16:$N$2822,0)),\"\")","v":""}]
["14","14","02","2","141402","Gmina wiejska","MAZOWIECKIE","nowodworski","CZOSNÓW","CZOSNÓW - Gmina wiejska / Powiat nowodworski / Województwo  - MAZOWIECKIE / 141402 / ",58406197,63585124,{"$f":"ISNUMBER(SEARCH(Wyszukiwarka!$A$1,'Porównanie dochodów JST'!J1071))","v":false},{"$f":"IF(M1071,COUNTIF($M$16:M1071,TRUE),\"\")","v":""},{"$f":"IFERROR(INDEX($J$16:$J$2822,MATCH(ROWS($J$16:J1071),$N$16:$N$2822,0)),\"\")","v":""}]
["14","14","03","2","141403","Gmina wiejska","MAZOWIECKIE","nowodworski","LEONCIN","LEONCIN - Gmina wiejska / Powiat nowodworski / Województwo  - MAZOWIECKIE / 141403 / ",22052125,25371539.200000003,{"$f":"ISNUMBER(SEARCH(Wyszukiwarka!$A$1,'Porównanie dochodów JST'!J1072))","v":false},{"$f":"IF(M1072,COUNTIF($M$16:M1072,TRUE),\"\")","v":""},{"$f":"IFERROR(INDEX($J$16:$J$2822,MATCH(ROWS($J$16:J1072),$N$16:$N$2822,0)),\"\")","v":""}]
["14","14","04","3","141404","Gmina miejsko-wiejska","MAZOWIECKIE","nowodworski","NASIELSK","NASIELSK - Gmina miejsko-wiejska / Powiat nowodworski / Województwo  - MAZOWIECKIE / 141404 / ",74773442,81146748.949610665,{"$f":"ISNUMBER(SEARCH(Wyszukiwarka!$A$1,'Porównanie dochodów JST'!J1073))","v":false},{"$f":"IF(M1073,COUNTIF($M$16:M1073,TRUE),\"\")","v":""},{"$f":"IFERROR(INDEX($J$16:$J$2822,MATCH(ROWS($J$16:J1073),$N$16:$N$2822,0)),\"\")","v":""}]
["14","14","05","2","141405","Gmina wiejska","MAZOWIECKIE","nowodworski","POMIECHÓWEK","POMIECHÓWEK - Gmina wiejska / Powiat nowodworski / Województwo  - MAZOWIECKIE / 141405 / ",43049034,46482247.567982689,{"$f":"ISNUMBER(SEARCH(Wyszukiwarka!$A$1,'Porównanie dochodów JST'!J1074))","v":false},{"$f":"IF(M1074,COUNTIF($M$16:M1074,TRUE),\"\")","v":""},{"$f":"IFERROR(INDEX($J$16:$J$2822,MATCH(ROWS($J$16:J1074),$N$16:$N$2822,0)),\"\")","v":""}]
["14","14","06","3","141406","Gmina miejsko-wiejska","MAZOWIECKIE","nowodworski","ZAKROCZYM","ZAKROCZYM - Gmina miejsko-wiejska / Powiat nowodworski / Województwo  - MAZOWIECKIE / 141406 / ",21016003,23141436,{"$f":"ISNUMBER(SEARCH(Wyszukiwarka!$A$1,'Porównanie dochodów JST'!J1075))","v":false},{"$f":"IF(M1075,COUNTIF($M$16:M1075,TRUE),\"\")","v":""},{"$f":"IFERROR(INDEX($J$16:$J$2822,MATCH(ROWS($J$16:J1075),$N$16:$N$2822,0)),\"\")","v":""}]
["14","15","01","2","141501","Gmina wiejska","MAZOWIECKIE","ostrołęcki","BARANOWO","BARANOWO - Gmina wiejska / Powiat ostrołęcki / Województwo  - MAZOWIECKIE / 141501 / ",25507929,28121630.559334196,{"$f":"ISNUMBER(SEARCH(Wyszukiwarka!$A$1,'Porównanie dochodów JST'!J1076))","v":false},{"$f":"IF(M1076,COUNTIF($M$16:M1076,TRUE),\"\")","v":""},{"$f":"IFERROR(INDEX($J$16:$J$2822,MATCH(ROWS($J$16:J1076),$N$16:$N$2822,0)),\"\")","v":""}]
["14","15","02","2","141502","Gmina wiejska","MAZOWIECKIE","ostrołęcki","CZARNIA","CZARNIA - Gmina wiejska / Powiat ostrołęcki / Województwo  - MAZOWIECKIE / 141502 / ",9621412,11042009.439999999,{"$f":"ISNUMBER(SEARCH(Wyszukiwarka!$A$1,'Porównanie dochodów JST'!J1077))","v":false},{"$f":"IF(M1077,COUNTIF($M$16:M1077,TRUE),\"\")","v":""},{"$f":"IFERROR(INDEX($J$16:$J$2822,MATCH(ROWS($J$16:J1077),$N$16:$N$2822,0)),\"\")","v":""}]
["14","15","03","2","141503","Gmina wiejska","MAZOWIECKIE","ostrołęcki","CZERWIN","CZERWIN - Gmina wiejska / Powiat ostrołęcki / Województwo  - MAZOWIECKIE / 141503 / ",15624330,17478766,{"$f":"ISNUMBER(SEARCH(Wyszukiwarka!$A$1,'Porównanie dochodów JST'!J1078))","v":false},{"$f":"IF(M1078,COUNTIF($M$16:M1078,TRUE),\"\")","v":""},{"$f":"IFERROR(INDEX($J$16:$J$2822,MATCH(ROWS($J$16:J1078),$N$16:$N$2822,0)),\"\")","v":""}]
["14","15","04","2","141504","Gmina wiejska","MAZOWIECKIE","ostrołęcki","GOWOROWO","GOWOROWO - Gmina wiejska / Powiat ostrołęcki / Województwo  - MAZOWIECKIE / 141504 / ",32148458,35243240.161323108,{"$f":"ISNUMBER(SEARCH(Wyszukiwarka!$A$1,'Porównanie dochodów JST'!J1079))","v":false},{"$f":"IF(M1079,COUNTIF($M$16:M1079,TRUE),\"\")","v":""},{"$f":"IFERROR(INDEX($J$16:$J$2822,MATCH(ROWS($J$16:J1079),$N$16:$N$2822,0)),\"\")","v":""}]
["14","15","05","2","141505","Gmina wiejska","MAZOWIECKIE","ostrołęcki","KADZIDŁO","KADZIDŁO - Gmina wiejska / Powiat ostrołęcki / Województwo  - MAZOWIECKIE / 141505 / ",48065936,52198231.937515222,{"$f":"ISNUMBER(SEARCH(Wyszukiwarka!$A$1,'Porównanie dochodów JST'!J1080))","v":false},{"$f":"IF(M1080,COUNTIF($M$16:M1080,TRUE),\"\")","v":""},{"$f":"IFERROR(INDEX($J$16:$J$2822,MATCH(ROWS($J$16:J1080),$N$16:$N$2822,0)),\"\")","v":""}]
["14","15","06","2","141506","Gmina wiejska","MAZOWIECKIE","ostrołęcki","LELIS","LELIS - Gmina wiejska / Powiat ostrołęcki / Województwo  - MAZOWIECKIE / 141506 / ",40157241,43664173.737689435,{"$f":"ISNUMBER(SEARCH(Wyszukiwarka!$A$1,'Porównanie dochodów JST'!J1081))","v":false},{"$f":"IF(M1081,COUNTIF($M$16:M1081,TRUE),\"\")","v":""},{"$f":"IFERROR(INDEX($J$16:$J$2822,MATCH(ROWS($J$16:J1081),$N$16:$N$2822,0)),\"\")","v":""}]
["14","15","07","2","141507","Gmina wiejska","MAZOWIECKIE","ostrołęcki","ŁYSE","ŁYSE - Gmina wiejska / Powiat ostrołęcki / Województwo  - MAZOWIECKIE / 141507 / ",41167100,47219421.760000005,{"$f":"ISNUMBER(SEARCH(Wyszukiwarka!$A$1,'Porównanie dochodów JST'!J1082))","v":false},{"$f":"IF(M1082,COUNTIF($M$16:M1082,TRUE),\"\")","v":""},{"$f":"IFERROR(INDEX($J$16:$J$2822,MATCH(ROWS($J$16:J1082),$N$16:$N$2822,0)),\"\")","v":""}]
["14","15","08","3","141508","Gmina miejsko-wiejska","MAZOWIECKIE","ostrołęcki","MYSZYNIEC","MYSZYNIEC - Gmina miejsko-wiejska / Powiat ostrołęcki / Województwo  - MAZOWIECKIE / 141508 / ",44768114,51324442.399999999,{"$f":"ISNUMBER(SEARCH(Wyszukiwarka!$A$1,'Porównanie dochodów JST'!J1083))","v":false},{"$f":"IF(M1083,COUNTIF($M$16:M1083,TRUE),\"\")","v":""},{"$f":"IFERROR(INDEX($J$16:$J$2822,MATCH(ROWS($J$16:J1083),$N$16:$N$2822,0)),\"\")","v":""}]
["14","15","09","2","141509","Gmina wiejska","MAZOWIECKIE","ostrołęcki","OLSZEWO-BORKI","OLSZEWO-BORKI - Gmina wiejska / Powiat ostrołęcki / Województwo  - MAZOWIECKIE / 141509 / ",43586497,47709210.544281304,{"$f":"ISNUMBER(SEARCH(Wyszukiwarka!$A$1,'Porównanie dochodów JST'!J1084))","v":false},{"$f":"IF(M1084,COUNTIF($M$16:M1084,TRUE),\"\")","v":""},{"$f":"IFERROR(INDEX($J$16:$J$2822,MATCH(ROWS($J$16:J1084),$N$16:$N$2822,0)),\"\")","v":""}]
["14","15","10","2","141510","Gmina wiejska","MAZOWIECKIE","ostrołęcki","RZEKUŃ","RZEKUŃ - Gmina wiejska / Powiat ostrołęcki / Województwo  - MAZOWIECKIE / 141510 / ",43650273,47826161,{"$f":"ISNUMBER(SEARCH(Wyszukiwarka!$A$1,'Porównanie dochodów JST'!J1085))","v":false},{"$f":"IF(M1085,COUNTIF($M$16:M1085,TRUE),\"\")","v":""},{"$f":"IFERROR(INDEX($J$16:$J$2822,MATCH(ROWS($J$16:J1085),$N$16:$N$2822,0)),\"\")","v":""}]
["14","15","11","2","141511","Gmina wiejska","MAZOWIECKIE","ostrołęcki","TROSZYN","TROSZYN - Gmina wiejska / Powiat ostrołęcki / Województwo  - MAZOWIECKIE / 141511 / ",17629669,19685153.827517573,{"$f":"ISNUMBER(SEARCH(Wyszukiwarka!$A$1,'Porównanie dochodów JST'!J1086))","v":false},{"$f":"IF(M1086,COUNTIF($M$16:M1086,TRUE),\"\")","v":""},{"$f":"IFERROR(INDEX($J$16:$J$2822,MATCH(ROWS($J$16:J1086),$N$16:$N$2822,0)),\"\")","v":""}]
["14","16","01","1","141601","Gmina miejska","MAZOWIECKIE","ostrowski","OSTRÓW MAZOWIECKA","OSTRÓW MAZOWIECKA - Gmina miejska / Powiat ostrowski / Województwo  - MAZOWIECKIE / 141601 / ",73386890,81363369.011300012,{"$f":"ISNUMBER(SEARCH(Wyszukiwarka!$A$1,'Porównanie dochodów JST'!J1087))","v":false},{"$f":"IF(M1087,COUNTIF($M$16:M1087,TRUE),\"\")","v":""},{"$f":"IFERROR(INDEX($J$16:$J$2822,MATCH(ROWS($J$16:J1087),$N$16:$N$2822,0)),\"\")","v":""}]
["14","16","02","2","141602","Gmina wiejska","MAZOWIECKIE","ostrowski","ANDRZEJEWO","ANDRZEJEWO - Gmina wiejska / Powiat ostrowski / Województwo  - MAZOWIECKIE / 141602 / ",15736157,17111726.561220579,{"$f":"ISNUMBER(SEARCH(Wyszukiwarka!$A$1,'Porównanie dochodów JST'!J1088))","v":false},{"$f":"IF(M1088,COUNTIF($M$16:M1088,TRUE),\"\")","v":""},{"$f":"IFERROR(INDEX($J$16:$J$2822,MATCH(ROWS($J$16:J1088),$N$16:$N$2822,0)),\"\")","v":""}]
["14","16","03","2","141603","Gmina wiejska","MAZOWIECKIE","ostrowski","BOGUTY-PIANKI","BOGUTY-PIANKI - Gmina wiejska / Powiat ostrowski / Województwo  - MAZOWIECKIE / 141603 / ",10230704,11465020,{"$f":"ISNUMBER(SEARCH(Wyszukiwarka!$A$1,'Porównanie dochodów JST'!J1089))","v":false},{"$f":"IF(M1089,COUNTIF($M$16:M1089,TRUE),\"\")","v":""},{"$f":"IFERROR(INDEX($J$16:$J$2822,MATCH(ROWS($J$16:J1089),$N$16:$N$2822,0)),\"\")","v":""}]
["14","16","04","3","141604","Gmina miejsko-wiejska","MAZOWIECKIE","ostrowski","BROK","BROK - Gmina miejsko-wiejska / Powiat ostrowski / Województwo  - MAZOWIECKIE / 141604 / ",9308960,10532580.300000001,{"$f":"ISNUMBER(SEARCH(Wyszukiwarka!$A$1,'Porównanie dochodów JST'!J1090))","v":false},{"$f":"IF(M1090,COUNTIF($M$16:M1090,TRUE),\"\")","v":""},{"$f":"IFERROR(INDEX($J$16:$J$2822,MATCH(ROWS($J$16:J1090),$N$16:$N$2822,0)),\"\")","v":""}]
["14","16","05","2","141605","Gmina wiejska","MAZOWIECKIE","ostrowski","MAŁKINIA GÓRNA","MAŁKINIA GÓRNA - Gmina wiejska / Powiat ostrowski / Województwo  - MAZOWIECKIE / 141605 / ",40943803,44982369.927678645,{"$f":"ISNUMBER(SEARCH(Wyszukiwarka!$A$1,'Porównanie dochodów JST'!J1091))","v":false},{"$f":"IF(M1091,COUNTIF($M$16:M1091,TRUE),\"\")","v":""},{"$f":"IFERROR(INDEX($J$16:$J$2822,MATCH(ROWS($J$16:J1091),$N$16:$N$2822,0)),\"\")","v":""}]
["14","16","06","2","141606","Gmina wiejska","MAZOWIECKIE","ostrowski","NUR","NUR - Gmina wiejska / Powiat ostrowski / Województwo  - MAZOWIECKIE / 141606 / ",10067807,11315482,{"$f":"ISNUMBER(SEARCH(Wyszukiwarka!$A$1,'Porównanie dochodów JST'!J1092))","v":false},{"$f":"IF(M1092,COUNTIF($M$16:M1092,TRUE),\"\")","v":""},{"$f":"IFERROR(INDEX($J$16:$J$2822,MATCH(ROWS($J$16:J1092),$N$16:$N$2822,0)),\"\")","v":""}]
["14","16","07","2","141607","Gmina wiejska","MAZOWIECKIE","ostrowski","OSTRÓW MAZOWIECKA","OSTRÓW MAZOWIECKA - Gmina wiejska / Powiat ostrowski / Województwo  - MAZOWIECKIE / 141607 / ",51724083,55992109,{"$f":"ISNUMBER(SEARCH(Wyszukiwarka!$A$1,'Porównanie dochodów JST'!J1093))","v":false},{"$f":"IF(M1093,COUNTIF($M$16:M1093,TRUE),\"\")","v":""},{"$f":"IFERROR(INDEX($J$16:$J$2822,MATCH(ROWS($J$16:J1093),$N$16:$N$2822,0)),\"\")","v":""}]
["14","16","08","2","141608","Gmina wiejska","MAZOWIECKIE","ostrowski","STARY LUBOTYŃ","STARY LUBOTYŃ - Gmina wiejska / Powiat ostrowski / Województwo  - MAZOWIECKIE / 141608 / ",13594078,14969871,{"$f":"ISNUMBER(SEARCH(Wyszukiwarka!$A$1,'Porównanie dochodów JST'!J1094))","v":false},{"$f":"IF(M1094,COUNTIF($M$16:M1094,TRUE),\"\")","v":""},{"$f":"IFERROR(INDEX($J$16:$J$2822,MATCH(ROWS($J$16:J1094),$N$16:$N$2822,0)),\"\")","v":""}]
["14","16","09","2","141609","Gmina wiejska","MAZOWIECKIE","ostrowski","SZULBORZE WIELKIE","SZULBORZE WIELKIE - Gmina wiejska / Powiat ostrowski / Województwo  - MAZOWIECKIE / 141609 / ",7603209,8599645.5999999996,{"$f":"ISNUMBER(SEARCH(Wyszukiwarka!$A$1,'Porównanie dochodów JST'!J1095))","v":false},{"$f":"IF(M1095,COUNTIF($M$16:M1095,TRUE),\"\")","v":""},{"$f":"IFERROR(INDEX($J$16:$J$2822,MATCH(ROWS($J$16:J1095),$N$16:$N$2822,0)),\"\")","v":""}]
["14","16","10","2","141610","Gmina wiejska","MAZOWIECKIE","ostrowski","WĄSEWO","WĄSEWO - Gmina wiejska / Powiat ostrowski / Województwo  - MAZOWIECKIE / 141610 / ",15713192,18047209.600000001,{"$f":"ISNUMBER(SEARCH(Wyszukiwarka!$A$1,'Porównanie dochodów JST'!J1096))","v":false},{"$f":"IF(M1096,COUNTIF($M$16:M1096,TRUE),\"\")","v":""},{"$f":"IFERROR(INDEX($J$16:$J$2822,MATCH(ROWS($J$16:J1096),$N$16:$N$2822,0)),\"\")","v":""}]
["14","16","11","2","141611","Gmina wiejska","MAZOWIECKIE","ostrowski","ZARĘBY KOŚCIELNE","ZARĘBY KOŚCIELNE - Gmina wiejska / Powiat ostrowski / Województwo  - MAZOWIECKIE / 141611 / ",12942250,14282235,{"$f":"ISNUMBER(SEARCH(Wyszukiwarka!$A$1,'Porównanie dochodów JST'!J1097))","v":false},{"$f":"IF(M1097,COUNTIF($M$16:M1097,TRUE),\"\")","v":""},{"$f":"IFERROR(INDEX($J$16:$J$2822,MATCH(ROWS($J$16:J1097),$N$16:$N$2822,0)),\"\")","v":""}]
["14","17","01","1","141701","Gmina miejska","MAZOWIECKIE","otwocki","JÓZEFÓW","JÓZEFÓW - Gmina miejska / Powiat otwocki / Województwo  - MAZOWIECKIE / 141701 / ",126728384,136302970.888953,{"$f":"ISNUMBER(SEARCH(Wyszukiwarka!$A$1,'Porównanie dochodów JST'!J1098))","v":false},{"$f":"IF(M1098,COUNTIF($M$16:M1098,TRUE),\"\")","v":""},{"$f":"IFERROR(INDEX($J$16:$J$2822,MATCH(ROWS($J$16:J1098),$N$16:$N$2822,0)),\"\")","v":""}]
["14","17","02","1","141702","Gmina miejska","MAZOWIECKIE","otwocki","OTWOCK","OTWOCK - Gmina miejska / Powiat otwocki / Województwo  - MAZOWIECKIE / 141702 / ",168976354,192651151.86740002,{"$f":"ISNUMBER(SEARCH(Wyszukiwarka!$A$1,'Porównanie dochodów JST'!J1099))","v":false},{"$f":"IF(M1099,COUNTIF($M$16:M1099,TRUE),\"\")","v":""},{"$f":"IFERROR(INDEX($J$16:$J$2822,MATCH(ROWS($J$16:J1099),$N$16:$N$2822,0)),\"\")","v":""}]
["14","17","03","2","141703","Gmina wiejska","MAZOWIECKIE","otwocki","CELESTYNÓW","CELESTYNÓW - Gmina wiejska / Powiat otwocki / Województwo  - MAZOWIECKIE / 141703 / ",47121669,51775063.119273573,{"$f":"ISNUMBER(SEARCH(Wyszukiwarka!$A$1,'Porównanie dochodów JST'!J1100))","v":false},{"$f":"IF(M1100,COUNTIF($M$16:M1100,TRUE),\"\")","v":""},{"$f":"IFERROR(INDEX($J$16:$J$2822,MATCH(ROWS($J$16:J1100),$N$16:$N$2822,0)),\"\")","v":""}]
["14","17","04","3","141704","Gmina miejsko-wiejska","MAZOWIECKIE","otwocki","KARCZEW","KARCZEW - Gmina miejsko-wiejska / Powiat otwocki / Województwo  - MAZOWIECKIE / 141704 / ",67475904,75988872.954881951,{"$f":"ISNUMBER(SEARCH(Wyszukiwarka!$A$1,'Porównanie dochodów JST'!J1101))","v":false},{"$f":"IF(M1101,COUNTIF($M$16:M1101,TRUE),\"\")","v":""},{"$f":"IFERROR(INDEX($J$16:$J$2822,MATCH(ROWS($J$16:J1101),$N$16:$N$2822,0)),\"\")","v":""}]
["14","17","05","2","141705","Gmina wiejska","MAZOWIECKIE","otwocki","KOŁBIEL","KOŁBIEL - Gmina wiejska / Powiat otwocki / Województwo  - MAZOWIECKIE / 141705 / ",34640743,38023575,{"$f":"ISNUMBER(SEARCH(Wyszukiwarka!$A$1,'Porównanie dochodów JST'!J1102))","v":false},{"$f":"IF(M1102,COUNTIF($M$16:M1102,TRUE),\"\")","v":""},{"$f":"IFERROR(INDEX($J$16:$J$2822,MATCH(ROWS($J$16:J1102),$N$16:$N$2822,0)),\"\")","v":""}]
["14","17","06","2","141706","Gmina wiejska","MAZOWIECKIE","otwocki","OSIECK","OSIECK - Gmina wiejska / Powiat otwocki / Województwo  - MAZOWIECKIE / 141706 / ",17148158,18511452.571398504,{"$f":"ISNUMBER(SEARCH(Wyszukiwarka!$A$1,'Porównanie dochodów JST'!J1103))","v":false},{"$f":"IF(M1103,COUNTIF($M$16:M1103,TRUE),\"\")","v":""},{"$f":"IFERROR(INDEX($J$16:$J$2822,MATCH(ROWS($J$16:J1103),$N$16:$N$2822,0)),\"\")","v":""}]
["14","17","07","2","141707","Gmina wiejska","MAZOWIECKIE","otwocki","SOBIENIE-JEZIORY","SOBIENIE-JEZIORY - Gmina wiejska / Powiat otwocki / Województwo  - MAZOWIECKIE / 141707 / ",24811696,27425001.811398365,{"$f":"ISNUMBER(SEARCH(Wyszukiwarka!$A$1,'Porównanie dochodów JST'!J1104))","v":false},{"$f":"IF(M1104,COUNTIF($M$16:M1104,TRUE),\"\")","v":""},{"$f":"IFERROR(INDEX($J$16:$J$2822,MATCH(ROWS($J$16:J1104),$N$16:$N$2822,0)),\"\")","v":""}]
["14","17","08","2","141708","Gmina wiejska","MAZOWIECKIE","otwocki","WIĄZOWNA",{"$f":"I1105&$H$12&F1105&$G$12&$H$14&H1105&$G$12&$G$14&$H$12&G1105&$G$12&E1105&$G$12","v":"WIĄZOWNA - Gmina wiejska / Powiat otwocki / Województwo  - MAZOWIECKIE / 141708 / "},84111934,90152234.690279678,{"$f":"ISNUMBER(SEARCH(Wyszukiwarka!$A$1,'Porównanie dochodów JST'!J1105))","v":false},{"$f":"IF(M1105,COUNTIF($M$16:M1105,TRUE),\"\")","v":""},{"$f":"IFERROR(INDEX($J$16:$J$2822,MATCH(ROWS($J$16:J1105),$N$16:$N$2822,0)),\"\")","v":""}]
["14","18","01","3","141801","Gmina miejsko-wiejska","MAZOWIECKIE","piaseczyński","GÓRA KALWARIA","GÓRA KALWARIA - Gmina miejsko-wiejska / Powiat piaseczyński / Województwo  - MAZOWIECKIE / 141801 / ",119072154,128657225.16245356,{"$f":"ISNUMBER(SEARCH(Wyszukiwarka!$A$1,'Porównanie dochodów JST'!J1106))","v":false},{"$f":"IF(M1106,COUNTIF($M$16:M1106,TRUE),\"\")","v":""},{"$f":"IFERROR(INDEX($J$16:$J$2822,MATCH(ROWS($J$16:J1106),$N$16:$N$2822,0)),\"\")","v":""}]
["14","18","02","3","141802","Gmina miejsko-wiejska","MAZOWIECKIE","piaseczyński","KONSTANCIN-JEZIORNA","KONSTANCIN-JEZIORNA - Gmina miejsko-wiejska / Powiat piaseczyński / Województwo  - MAZOWIECKIE / 141802 / ",166277882,179721968.11775765,{"$f":"ISNUMBER(SEARCH(Wyszukiwarka!$A$1,'Porównanie dochodów JST'!J1107))","v":false},{"$f":"IF(M1107,COUNTIF($M$16:M1107,TRUE),\"\")","v":""},{"$f":"IFERROR(INDEX($J$16:$J$2822,MATCH(ROWS($J$16:J1107),$N$16:$N$2822,0)),\"\")","v":""}]
["14","18","03","2","141803","Gmina wiejska","MAZOWIECKIE","piaseczyński","LESZNOWOLA","LESZNOWOLA - Gmina wiejska / Powiat piaseczyński / Województwo  - MAZOWIECKIE / 141803 / ",261337255,280112074.10646307,{"$f":"ISNUMBER(SEARCH(Wyszukiwarka!$A$1,'Porównanie dochodów JST'!J1108))","v":false},{"$f":"IF(M1108,COUNTIF($M$16:M1108,TRUE),\"\")","v":""},{"$f":"IFERROR(INDEX($J$16:$J$2822,MATCH(ROWS($J$16:J1108),$N$16:$N$2822,0)),\"\")","v":""}]
["14","18","04","3","141804","Gmina miejsko-wiejska","MAZOWIECKIE","piaseczyński","PIASECZNO","PIASECZNO - Gmina miejsko-wiejska / Powiat piaseczyński / Województwo  - MAZOWIECKIE / 141804 / ",560852515,602598653.35463238,{"$f":"ISNUMBER(SEARCH(Wyszukiwarka!$A$1,'Porównanie dochodów JST'!J1109))","v":false},{"$f":"IF(M1109,COUNTIF($M$16:M1109,TRUE),\"\")","v":""},{"$f":"IFERROR(INDEX($J$16:$J$2822,MATCH(ROWS($J$16:J1109),$N$16:$N$2822,0)),\"\")","v":""}]
["14","18","05","2","141805","Gmina wiejska","MAZOWIECKIE","piaseczyński","PRAŻMÓW","PRAŻMÓW - Gmina wiejska / Powiat piaseczyński / Województwo  - MAZOWIECKIE / 141805 / ",56631238,61371808.204992853,{"$f":"ISNUMBER(SEARCH(Wyszukiwarka!$A$1,'Porównanie dochodów JST'!J1110))","v":false},{"$f":"IF(M1110,COUNTIF($M$16:M1110,TRUE),\"\")","v":""},{"$f":"IFERROR(INDEX($J$16:$J$2822,MATCH(ROWS($J$16:J1110),$N$16:$N$2822,0)),\"\")","v":""}]
["14","18","06","3","141806","Gmina miejsko-wiejska","MAZOWIECKIE","piaseczyński","TARCZYN","TARCZYN - Gmina miejsko-wiejska / Powiat piaseczyński / Województwo  - MAZOWIECKIE / 141806 / ",50482607,54878702,{"$f":"ISNUMBER(SEARCH(Wyszukiwarka!$A$1,'Porównanie dochodów JST'!J1111))","v":false},{"$f":"IF(M1111,COUNTIF($M$16:M1111,TRUE),\"\")","v":""},{"$f":"IFERROR(INDEX($J$16:$J$2822,MATCH(ROWS($J$16:J1111),$N$16:$N$2822,0)),\"\")","v":""}]
["14","19","01","2","141901","Gmina wiejska","MAZOWIECKIE","płocki","BIELSK","BIELSK - Gmina wiejska / Powiat płocki / Województwo  - MAZOWIECKIE / 141901 / ",34954663,38334906,{"$f":"ISNUMBER(SEARCH(Wyszukiwarka!$A$1,'Porównanie dochodów JST'!J1112))","v":false},{"$f":"IF(M1112,COUNTIF($M$16:M1112,TRUE),\"\")","v":""},{"$f":"IFERROR(INDEX($J$16:$J$2822,MATCH(ROWS($J$16:J1112),$N$16:$N$2822,0)),\"\")","v":""}]
["14","19","02","2","141902","Gmina wiejska","MAZOWIECKIE","płocki","BODZANÓW","BODZANÓW - Gmina wiejska / Powiat płocki / Województwo  - MAZOWIECKIE / 141902 / ",29705749,32466714,{"$f":"ISNUMBER(SEARCH(Wyszukiwarka!$A$1,'Porównanie dochodów JST'!J1113))","v":false},{"$f":"IF(M1113,COUNTIF($M$16:M1113,TRUE),\"\")","v":""},{"$f":"IFERROR(INDEX($J$16:$J$2822,MATCH(ROWS($J$16:J1113),$N$16:$N$2822,0)),\"\")","v":""}]
["14","19","03","2","141903","Gmina wiejska","MAZOWIECKIE","płocki","BRUDZEŃ DUŻY","BRUDZEŃ DUŻY - Gmina wiejska / Powiat płocki / Województwo  - MAZOWIECKIE / 141903 / ",31792083,35115783.58296112,{"$f":"ISNUMBER(SEARCH(Wyszukiwarka!$A$1,'Porównanie dochodów JST'!J1114))","v":false},{"$f":"IF(M1114,COUNTIF($M$16:M1114,TRUE),\"\")","v":""},{"$f":"IFERROR(INDEX($J$16:$J$2822,MATCH(ROWS($J$16:J1114),$N$16:$N$2822,0)),\"\")","v":""}]
["14","19","04","2","141904","Gmina wiejska","MAZOWIECKIE","płocki","BULKOWO","BULKOWO - Gmina wiejska / Powiat płocki / Województwo  - MAZOWIECKIE / 141904 / ",20827860,22833218.628743924,{"$f":"ISNUMBER(SEARCH(Wyszukiwarka!$A$1,'Porównanie dochodów JST'!J1115))","v":false},{"$f":"IF(M1115,COUNTIF($M$16:M1115,TRUE),\"\")","v":""},{"$f":"IFERROR(INDEX($J$16:$J$2822,MATCH(ROWS($J$16:J1115),$N$16:$N$2822,0)),\"\")","v":""}]
["14","19","05","3","141905","Gmina miejsko-wiejska","MAZOWIECKIE","płocki","DROBIN","DROBIN - Gmina miejsko-wiejska / Powiat płocki / Województwo  - MAZOWIECKIE / 141905 / ",29641276,33985841.120000005,{"$f":"ISNUMBER(SEARCH(Wyszukiwarka!$A$1,'Porównanie dochodów JST'!J1116))","v":false},{"$f":"IF(M1116,COUNTIF($M$16:M1116,TRUE),\"\")","v":""},{"$f":"IFERROR(INDEX($J$16:$J$2822,MATCH(ROWS($J$16:J1116),$N$16:$N$2822,0)),\"\")","v":""}]
["14","19","06","3","141906","Gmina miejsko-wiejska","MAZOWIECKIE","płocki","GĄBIN","GĄBIN - Gmina miejsko-wiejska / Powiat płocki / Województwo  - MAZOWIECKIE / 141906 / ",47687822,51773870,{"$f":"ISNUMBER(SEARCH(Wyszukiwarka!$A$1,'Porównanie dochodów JST'!J1117))","v":false},{"$f":"IF(M1117,COUNTIF($M$16:M1117,TRUE),\"\")","v":""},{"$f":"IFERROR(INDEX($J$16:$J$2822,MATCH(ROWS($J$16:J1117),$N$16:$N$2822,0)),\"\")","v":""}]
["14","19","07","2","141907","Gmina wiejska","MAZOWIECKIE","płocki","ŁĄCK","ŁĄCK - Gmina wiejska / Powiat płocki / Województwo  - MAZOWIECKIE / 141907 / ",18280352,20333477.536600001,{"$f":"ISNUMBER(SEARCH(Wyszukiwarka!$A$1,'Porównanie dochodów JST'!J1118))","v":false},{"$f":"IF(M1118,COUNTIF($M$16:M1118,TRUE),\"\")","v":""},{"$f":"IFERROR(INDEX($J$16:$J$2822,MATCH(ROWS($J$16:J1118),$N$16:$N$2822,0)),\"\")","v":""}]
["14","19","08","2","141908","Gmina wiejska","MAZOWIECKIE","płocki","MAŁA WIEŚ","MAŁA WIEŚ - Gmina wiejska / Powiat płocki / Województwo  - MAZOWIECKIE / 141908 / ",24298066,26344391,{"$f":"ISNUMBER(SEARCH(Wyszukiwarka!$A$1,'Porównanie dochodów JST'!J1119))","v":false},{"$f":"IF(M1119,COUNTIF($M$16:M1119,TRUE),\"\")","v":""},{"$f":"IFERROR(INDEX($J$16:$J$2822,MATCH(ROWS($J$16:J1119),$N$16:$N$2822,0)),\"\")","v":""}]
["14","19","09","2","141909","Gmina wiejska","MAZOWIECKIE","płocki","NOWY DUNINÓW","NOWY DUNINÓW - Gmina wiejska / Powiat płocki / Województwo  - MAZOWIECKIE / 141909 / ",13299854,14705733,{"$f":"ISNUMBER(SEARCH(Wyszukiwarka!$A$1,'Porównanie dochodów JST'!J1120))","v":false},{"$f":"IF(M1120,COUNTIF($M$16:M1120,TRUE),\"\")","v":""},{"$f":"IFERROR(INDEX($J$16:$J$2822,MATCH(ROWS($J$16:J1120),$N$16:$N$2822,0)),\"\")","v":""}]
["14","19","10","2","141910","Gmina wiejska","MAZOWIECKIE","płocki","RADZANOWO","RADZANOWO - Gmina wiejska / Powiat płocki / Województwo  - MAZOWIECKIE / 141910 / ",29199363,32552051.798299998,{"$f":"ISNUMBER(SEARCH(Wyszukiwarka!$A$1,'Porównanie dochodów JST'!J1121))","v":false},{"$f":"IF(M1121,COUNTIF($M$16:M1121,TRUE),\"\")","v":""},{"$f":"IFERROR(INDEX($J$16:$J$2822,MATCH(ROWS($J$16:J1121),$N$16:$N$2822,0)),\"\")","v":""}]
["14","19","11","2","141911","Gmina wiejska","MAZOWIECKIE","płocki","SŁUBICE","SŁUBICE - Gmina wiejska / Powiat płocki / Województwo  - MAZOWIECKIE / 141911 / ",18051722,20205774.056815825,{"$f":"ISNUMBER(SEARCH(Wyszukiwarka!$A$1,'Porównanie dochodów JST'!J1122))","v":false},{"$f":"IF(M1122,COUNTIF($M$16:M1122,TRUE),\"\")","v":""},{"$f":"IFERROR(INDEX($J$16:$J$2822,MATCH(ROWS($J$16:J1122),$N$16:$N$2822,0)),\"\")","v":""}]
["14","19","12","2","141912","Gmina wiejska","MAZOWIECKIE","płocki","SŁUPNO","SŁUPNO - Gmina wiejska / Powiat płocki / Województwo  - MAZOWIECKIE / 141912 / ",41936146,46217929.896153793,{"$f":"ISNUMBER(SEARCH(Wyszukiwarka!$A$1,'Porównanie dochodów JST'!J1123))","v":false},{"$f":"IF(M1123,COUNTIF($M$16:M1123,TRUE),\"\")","v":""},{"$f":"IFERROR(INDEX($J$16:$J$2822,MATCH(ROWS($J$16:J1123),$N$16:$N$2822,0)),\"\")","v":""}]
["14","19","13","2","141913","Gmina wiejska","MAZOWIECKIE","płocki","STARA BIAŁA","STARA BIAŁA - Gmina wiejska / Powiat płocki / Województwo  - MAZOWIECKIE / 141913 / ",48901057,53473085.510409646,{"$f":"ISNUMBER(SEARCH(Wyszukiwarka!$A$1,'Porównanie dochodów JST'!J1124))","v":false},{"$f":"IF(M1124,COUNTIF($M$16:M1124,TRUE),\"\")","v":""},{"$f":"IFERROR(INDEX($J$16:$J$2822,MATCH(ROWS($J$16:J1124),$N$16:$N$2822,0)),\"\")","v":""}]
["14","19","14","2","141914","Gmina wiejska","MAZOWIECKIE","płocki","STAROŹREBY","STAROŹREBY - Gmina wiejska / Powiat płocki / Województwo  - MAZOWIECKIE / 141914 / ",25192572,27853241,{"$f":"ISNUMBER(SEARCH(Wyszukiwarka!$A$1,'Porównanie dochodów JST'!J1125))","v":false},{"$f":"IF(M1125,COUNTIF($M$16:M1125,TRUE),\"\")","v":""},{"$f":"IFERROR(INDEX($J$16:$J$2822,MATCH(ROWS($J$16:J1125),$N$16:$N$2822,0)),\"\")","v":""}]
["14","19","15","3","141915","Gmina miejsko-wiejska","MAZOWIECKIE","płocki","WYSZOGRÓD","WYSZOGRÓD - Gmina miejsko-wiejska / Powiat płocki / Województwo  - MAZOWIECKIE / 141915 / ",20570669,23026921.872418649,{"$f":"ISNUMBER(SEARCH(Wyszukiwarka!$A$1,'Porównanie dochodów JST'!J1126))","v":false},{"$f":"IF(M1126,COUNTIF($M$16:M1126,TRUE),\"\")","v":""},{"$f":"IFERROR(INDEX($J$16:$J$2822,MATCH(ROWS($J$16:J1126),$N$16:$N$2822,0)),\"\")","v":""}]
["14","20","01","1","142001","Gmina miejska","MAZOWIECKIE","płoński","PŁOŃSK","PŁOŃSK - Gmina miejska / Powiat płoński / Województwo  - MAZOWIECKIE / 142001 / ",89692970,98001372.694419891,{"$f":"ISNUMBER(SEARCH(Wyszukiwarka!$A$1,'Porównanie dochodów JST'!J1127))","v":false},{"$f":"IF(M1127,COUNTIF($M$16:M1127,TRUE),\"\")","v":""},{"$f":"IFERROR(INDEX($J$16:$J$2822,MATCH(ROWS($J$16:J1127),$N$16:$N$2822,0)),\"\")","v":""}]
["14","20","02","1","142002","Gmina miejska","MAZOWIECKIE","płoński","RACIĄŻ","RACIĄŻ - Gmina miejska / Powiat płoński / Województwo  - MAZOWIECKIE / 142002 / ",16259999,18321078.780227665,{"$f":"ISNUMBER(SEARCH(Wyszukiwarka!$A$1,'Porównanie dochodów JST'!J1128))","v":false},{"$f":"IF(M1128,COUNTIF($M$16:M1128,TRUE),\"\")","v":""},{"$f":"IFERROR(INDEX($J$16:$J$2822,MATCH(ROWS($J$16:J1128),$N$16:$N$2822,0)),\"\")","v":""}]
["14","20","03","2","142003","Gmina wiejska","MAZOWIECKIE","płoński","BABOSZEWO","BABOSZEWO - Gmina wiejska / Powiat płoński / Województwo  - MAZOWIECKIE / 142003 / ",33647985,36376899,{"$f":"ISNUMBER(SEARCH(Wyszukiwarka!$A$1,'Porównanie dochodów JST'!J1129))","v":false},{"$f":"IF(M1129,COUNTIF($M$16:M1129,TRUE),\"\")","v":""},{"$f":"IFERROR(INDEX($J$16:$J$2822,MATCH(ROWS($J$16:J1129),$N$16:$N$2822,0)),\"\")","v":""}]
["14","20","04","3","142004","Gmina miejsko-wiejska","MAZOWIECKIE","płoński","CZERWIŃSK NAD WISŁĄ","CZERWIŃSK NAD WISŁĄ - Gmina miejsko-wiejska / Powiat płoński / Województwo  - MAZOWIECKIE / 142004 / ",31200206,33902710,{"$f":"ISNUMBER(SEARCH(Wyszukiwarka!$A$1,'Porównanie dochodów JST'!J1130))","v":false},{"$f":"IF(M1130,COUNTIF($M$16:M1130,TRUE),\"\")","v":""},{"$f":"IFERROR(INDEX($J$16:$J$2822,MATCH(ROWS($J$16:J1130),$N$16:$N$2822,0)),\"\")","v":""}]
["14","20","05","2","142005","Gmina wiejska","MAZOWIECKIE","płoński","DZIERZĄŻNIA","DZIERZĄŻNIA - Gmina wiejska / Powiat płoński / Województwo  - MAZOWIECKIE / 142005 / ",12782017,14116718,{"$f":"ISNUMBER(SEARCH(Wyszukiwarka!$A$1,'Porównanie dochodów JST'!J1131))","v":false},{"$f":"IF(M1131,COUNTIF($M$16:M1131,TRUE),\"\")","v":""},{"$f":"IFERROR(INDEX($J$16:$J$2822,MATCH(ROWS($J$16:J1131),$N$16:$N$2822,0)),\"\")","v":""}]
["14","20","06","2","142006","Gmina wiejska","MAZOWIECKIE","płoński","JONIEC","JONIEC - Gmina wiejska / Powiat płoński / Województwo  - MAZOWIECKIE / 142006 / ",11113121,12391251,{"$f":"ISNUMBER(SEARCH(Wyszukiwarka!$A$1,'Porównanie dochodów JST'!J1132))","v":false},{"$f":"IF(M1132,COUNTIF($M$16:M1132,TRUE),\"\")","v":""},{"$f":"IFERROR(INDEX($J$16:$J$2822,MATCH(ROWS($J$16:J1132),$N$16:$N$2822,0)),\"\")","v":""}]
["14","20","07","2","142007","Gmina wiejska","MAZOWIECKIE","płoński","NARUSZEWO","NARUSZEWO - Gmina wiejska / Powiat płoński / Województwo  - MAZOWIECKIE / 142007 / ",22515582,24593356.878964968,{"$f":"ISNUMBER(SEARCH(Wyszukiwarka!$A$1,'Porównanie dochodów JST'!J1133))","v":false},{"$f":"IF(M1133,COUNTIF($M$16:M1133,TRUE),\"\")","v":""},{"$f":"IFERROR(INDEX($J$16:$J$2822,MATCH(ROWS($J$16:J1133),$N$16:$N$2822,0)),\"\")","v":""}]
["14","20","08","2","142008","Gmina wiejska","MAZOWIECKIE","płoński","NOWE MIASTO","NOWE MIASTO - Gmina wiejska / Powiat płoński / Województwo  - MAZOWIECKIE / 142008 / ",16624910,18584539.522463679,{"$f":"ISNUMBER(SEARCH(Wyszukiwarka!$A$1,'Porównanie dochodów JST'!J1134))","v":false},{"$f":"IF(M1134,COUNTIF($M$16:M1134,TRUE),\"\")","v":""},{"$f":"IFERROR(INDEX($J$16:$J$2822,MATCH(ROWS($J$16:J1134),$N$16:$N$2822,0)),\"\")","v":""}]
["14","20","09","2","142009","Gmina wiejska","MAZOWIECKIE","płoński","PŁOŃSK","PŁOŃSK - Gmina wiejska / Powiat płoński / Województwo  - MAZOWIECKIE / 142009 / ",27650051,30966654,{"$f":"ISNUMBER(SEARCH(Wyszukiwarka!$A$1,'Porównanie dochodów JST'!J1135))","v":false},{"$f":"IF(M1135,COUNTIF($M$16:M1135,TRUE),\"\")","v":""},{"$f":"IFERROR(INDEX($J$16:$J$2822,MATCH(ROWS($J$16:J1135),$N$16:$N$2822,0)),\"\")","v":""}]
["14","20","10","2","142010","Gmina wiejska","MAZOWIECKIE","płoński","RACIĄŻ","RACIĄŻ - Gmina wiejska / Powiat płoński / Województwo  - MAZOWIECKIE / 142010 / ",26251613,29039058.661286909,{"$f":"ISNUMBER(SEARCH(Wyszukiwarka!$A$1,'Porównanie dochodów JST'!J1136))","v":false},{"$f":"IF(M1136,COUNTIF($M$16:M1136,TRUE),\"\")","v":""},{"$f":"IFERROR(INDEX($J$16:$J$2822,MATCH(ROWS($J$16:J1136),$N$16:$N$2822,0)),\"\")","v":""}]
["14","20","11","2","142011","Gmina wiejska","MAZOWIECKIE","płoński","SOCHOCIN","SOCHOCIN - Gmina wiejska / Powiat płoński / Województwo  - MAZOWIECKIE / 142011 / ",21660865,23730086.659887582,{"$f":"ISNUMBER(SEARCH(Wyszukiwarka!$A$1,'Porównanie dochodów JST'!J1137))","v":false},{"$f":"IF(M1137,COUNTIF($M$16:M1137,TRUE),\"\")","v":""},{"$f":"IFERROR(INDEX($J$16:$J$2822,MATCH(ROWS($J$16:J1137),$N$16:$N$2822,0)),\"\")","v":""}]
["14","20","12","2","142012","Gmina wiejska","MAZOWIECKIE","płoński","ZAŁUSKI","ZAŁUSKI - Gmina wiejska / Powiat płoński / Województwo  - MAZOWIECKIE / 142012 / ",22984412,25041007.918087393,{"$f":"ISNUMBER(SEARCH(Wyszukiwarka!$A$1,'Porównanie dochodów JST'!J1138))","v":false},{"$f":"IF(M1138,COUNTIF($M$16:M1138,TRUE),\"\")","v":""},{"$f":"IFERROR(INDEX($J$16:$J$2822,MATCH(ROWS($J$16:J1138),$N$16:$N$2822,0)),\"\")","v":""}]
["14","21","01","1","142101","Gmina miejska","MAZOWIECKIE","pruszkowski","PIASTÓW","PIASTÓW - Gmina miejska / Powiat pruszkowski / Województwo  - MAZOWIECKIE / 142101 / ",104896209,114006728.06119999,{"$f":"ISNUMBER(SEARCH(Wyszukiwarka!$A$1,'Porównanie dochodów JST'!J1139))","v":false},{"$f":"IF(M1139,COUNTIF($M$16:M1139,TRUE),\"\")","v":""},{"$f":"IFERROR(INDEX($J$16:$J$2822,MATCH(ROWS($J$16:J1139),$N$16:$N$2822,0)),\"\")","v":""}]
["14","21","02","1","142102","Gmina miejska","MAZOWIECKIE","pruszkowski","PRUSZKÓW","PRUSZKÓW - Gmina miejska / Powiat pruszkowski / Województwo  - MAZOWIECKIE / 142102 / ",306732593,335071885.83220005,{"$f":"ISNUMBER(SEARCH(Wyszukiwarka!$A$1,'Porównanie dochodów JST'!J1140))","v":false},{"$f":"IF(M1140,COUNTIF($M$16:M1140,TRUE),\"\")","v":""},{"$f":"IFERROR(INDEX($J$16:$J$2822,MATCH(ROWS($J$16:J1140),$N$16:$N$2822,0)),\"\")","v":""}]
["14","21","03","3","142103","Gmina miejsko-wiejska","MAZOWIECKIE","pruszkowski","BRWINÓW","BRWINÓW - Gmina miejsko-wiejska / Powiat pruszkowski / Województwo  - MAZOWIECKIE / 142103 / ",137274171,148182290.1030134,{"$f":"ISNUMBER(SEARCH(Wyszukiwarka!$A$1,'Porównanie dochodów JST'!J1141))","v":false},{"$f":"IF(M1141,COUNTIF($M$16:M1141,TRUE),\"\")","v":""},{"$f":"IFERROR(INDEX($J$16:$J$2822,MATCH(ROWS($J$16:J1141),$N$16:$N$2822,0)),\"\")","v":""}]
["14","21","04","2","142104","Gmina wiejska","MAZOWIECKIE","pruszkowski","MICHAŁOWICE","MICHAŁOWICE - Gmina wiejska / Powiat pruszkowski / Województwo  - MAZOWIECKIE / 142104 / ",143421537,154760314.36837947,{"$f":"ISNUMBER(SEARCH(Wyszukiwarka!$A$1,'Porównanie dochodów JST'!J1142))","v":false},{"$f":"IF(M1142,COUNTIF($M$16:M1142,TRUE),\"\")","v":""},{"$f":"IFERROR(INDEX($J$16:$J$2822,MATCH(ROWS($J$16:J1142),$N$16:$N$2822,0)),\"\")","v":""}]
["14","21","05","2","142105","Gmina wiejska","MAZOWIECKIE","pruszkowski","NADARZYN","NADARZYN - Gmina wiejska / Powiat pruszkowski / Województwo  - MAZOWIECKIE / 142105 / ",101831305,109977276.37794381,{"$f":"ISNUMBER(SEARCH(Wyszukiwarka!$A$1,'Porównanie dochodów JST'!J1143))","v":false},{"$f":"IF(M1143,COUNTIF($M$16:M1143,TRUE),\"\")","v":""},{"$f":"IFERROR(INDEX($J$16:$J$2822,MATCH(ROWS($J$16:J1143),$N$16:$N$2822,0)),\"\")","v":""}]
["14","21","06","2","142106","Gmina wiejska","MAZOWIECKIE","pruszkowski","RASZYN","RASZYN - Gmina wiejska / Powiat pruszkowski / Województwo  - MAZOWIECKIE / 142106 / ",124069887,133727830.90366402,{"$f":"ISNUMBER(SEARCH(Wyszukiwarka!$A$1,'Porównanie dochodów JST'!J1144))","v":false},{"$f":"IF(M1144,COUNTIF($M$16:M1144,TRUE),\"\")","v":""},{"$f":"IFERROR(INDEX($J$16:$J$2822,MATCH(ROWS($J$16:J1144),$N$16:$N$2822,0)),\"\")","v":""}]
["14","22","01","1","142201","Gmina miejska","MAZOWIECKIE","przasnyski","PRZASNYSZ","PRZASNYSZ - Gmina miejska / Powiat przasnyski / Województwo  - MAZOWIECKIE / 142201 / ",62358491,71607455.359999999,{"$f":"ISNUMBER(SEARCH(Wyszukiwarka!$A$1,'Porównanie dochodów JST'!J1145))","v":false},{"$f":"IF(M1145,COUNTIF($M$16:M1145,TRUE),\"\")","v":""},{"$f":"IFERROR(INDEX($J$16:$J$2822,MATCH(ROWS($J$16:J1145),$N$16:$N$2822,0)),\"\")","v":""}]
["14","22","02","3","142202","Gmina miejsko-wiejska","MAZOWIECKIE","przasnyski","CHORZELE","CHORZELE - Gmina miejsko-wiejska / Powiat przasnyski / Województwo  - MAZOWIECKIE / 142202 / ",39623244,45449891.200000003,{"$f":"ISNUMBER(SEARCH(Wyszukiwarka!$A$1,'Porównanie dochodów JST'!J1146))","v":false},{"$f":"IF(M1146,COUNTIF($M$16:M1146,TRUE),\"\")","v":""},{"$f":"IFERROR(INDEX($J$16:$J$2822,MATCH(ROWS($J$16:J1146),$N$16:$N$2822,0)),\"\")","v":""}]
["14","22","03","2","142203","Gmina wiejska","MAZOWIECKIE","przasnyski","CZERNICE BOROWE","CZERNICE BOROWE - Gmina wiejska / Powiat przasnyski / Województwo  - MAZOWIECKIE / 142203 / ",11159079,12507199.629999999,{"$f":"ISNUMBER(SEARCH(Wyszukiwarka!$A$1,'Porównanie dochodów JST'!J1147))","v":false},{"$f":"IF(M1147,COUNTIF($M$16:M1147,TRUE),\"\")","v":""},{"$f":"IFERROR(INDEX($J$16:$J$2822,MATCH(ROWS($J$16:J1147),$N$16:$N$2822,0)),\"\")","v":""}]
["14","22","04","2","142204","Gmina wiejska","MAZOWIECKIE","przasnyski","JEDNOROŻEC","JEDNOROŻEC - Gmina wiejska / Powiat przasnyski / Województwo  - MAZOWIECKIE / 142204 / ",31989992,36619315.039999999,{"$f":"ISNUMBER(SEARCH(Wyszukiwarka!$A$1,'Porównanie dochodów JST'!J1148))","v":false},{"$f":"IF(M1148,COUNTIF($M$16:M1148,TRUE),\"\")","v":""},{"$f":"IFERROR(INDEX($J$16:$J$2822,MATCH(ROWS($J$16:J1148),$N$16:$N$2822,0)),\"\")","v":""}]
["14","22","05","2","142205","Gmina wiejska","MAZOWIECKIE","przasnyski","KRASNE","KRASNE - Gmina wiejska / Powiat przasnyski / Województwo  - MAZOWIECKIE / 142205 / ",10864539,12188092,{"$f":"ISNUMBER(SEARCH(Wyszukiwarka!$A$1,'Porównanie dochodów JST'!J1149))","v":false},{"$f":"IF(M1149,COUNTIF($M$16:M1149,TRUE),\"\")","v":""},{"$f":"IFERROR(INDEX($J$16:$J$2822,MATCH(ROWS($J$16:J1149),$N$16:$N$2822,0)),\"\")","v":""}]
["14","22","06","2","142206","Gmina wiejska","MAZOWIECKIE","przasnyski","KRZYNOWŁOGA MAŁA","KRZYNOWŁOGA MAŁA - Gmina wiejska / Powiat przasnyski / Województwo  - MAZOWIECKIE / 142206 / ",14189697,16262912.960000001,{"$f":"ISNUMBER(SEARCH(Wyszukiwarka!$A$1,'Porównanie dochodów JST'!J1150))","v":false},{"$f":"IF(M1150,COUNTIF($M$16:M1150,TRUE),\"\")","v":""},{"$f":"IFERROR(INDEX($J$16:$J$2822,MATCH(ROWS($J$16:J1150),$N$16:$N$2822,0)),\"\")","v":""}]
["14","22","07","2","142207","Gmina wiejska","MAZOWIECKIE","przasnyski","PRZASNYSZ","PRZASNYSZ - Gmina wiejska / Powiat przasnyski / Województwo  - MAZOWIECKIE / 142207 / ",20613106,23298220,{"$f":"ISNUMBER(SEARCH(Wyszukiwarka!$A$1,'Porównanie dochodów JST'!J1151))","v":false},{"$f":"IF(M1151,COUNTIF($M$16:M1151,TRUE),\"\")","v":""},{"$f":"IFERROR(INDEX($J$16:$J$2822,MATCH(ROWS($J$16:J1151),$N$16:$N$2822,0)),\"\")","v":""}]
["14","23","01","2","142301","Gmina wiejska","MAZOWIECKIE","przysuski","BORKOWICE","BORKOWICE - Gmina wiejska / Powiat przysuski / Województwo  - MAZOWIECKIE / 142301 / ",19617224,21024513,{"$f":"ISNUMBER(SEARCH(Wyszukiwarka!$A$1,'Porównanie dochodów JST'!J1152))","v":false},{"$f":"IF(M1152,COUNTIF($M$16:M1152,TRUE),\"\")","v":""},{"$f":"IFERROR(INDEX($J$16:$J$2822,MATCH(ROWS($J$16:J1152),$N$16:$N$2822,0)),\"\")","v":""}]
["14","23","02","2","142302","Gmina wiejska","MAZOWIECKIE","przysuski","GIELNIÓW","GIELNIÓW - Gmina wiejska / Powiat przysuski / Województwo  - MAZOWIECKIE / 142302 / ",18523649,20459791,{"$f":"ISNUMBER(SEARCH(Wyszukiwarka!$A$1,'Porównanie dochodów JST'!J1153))","v":false},{"$f":"IF(M1153,COUNTIF($M$16:M1153,TRUE),\"\")","v":""},{"$f":"IFERROR(INDEX($J$16:$J$2822,MATCH(ROWS($J$16:J1153),$N$16:$N$2822,0)),\"\")","v":""}]
["14","23","03","2","142303","Gmina wiejska","MAZOWIECKIE","przysuski","KLWÓW","KLWÓW - Gmina wiejska / Powiat przysuski / Województwo  - MAZOWIECKIE / 142303 / ",13352739,15159631.890000001,{"$f":"ISNUMBER(SEARCH(Wyszukiwarka!$A$1,'Porównanie dochodów JST'!J1154))","v":false},{"$f":"IF(M1154,COUNTIF($M$16:M1154,TRUE),\"\")","v":""},{"$f":"IFERROR(INDEX($J$16:$J$2822,MATCH(ROWS($J$16:J1154),$N$16:$N$2822,0)),\"\")","v":""}]
["14","23","04","2","142304","Gmina wiejska","MAZOWIECKIE","przysuski","ODRZYWÓŁ","ODRZYWÓŁ - Gmina wiejska / Powiat przysuski / Województwo  - MAZOWIECKIE / 142304 / ",13545402,14893724.91,{"$f":"ISNUMBER(SEARCH(Wyszukiwarka!$A$1,'Porównanie dochodów JST'!J1155))","v":false},{"$f":"IF(M1155,COUNTIF($M$16:M1155,TRUE),\"\")","v":""},{"$f":"IFERROR(INDEX($J$16:$J$2822,MATCH(ROWS($J$16:J1155),$N$16:$N$2822,0)),\"\")","v":""}]
["14","23","05","2","142305","Gmina wiejska","MAZOWIECKIE","przysuski","POTWORÓW","POTWORÓW - Gmina wiejska / Powiat przysuski / Województwo  - MAZOWIECKIE / 142305 / ",16564189,17981870,{"$f":"ISNUMBER(SEARCH(Wyszukiwarka!$A$1,'Porównanie dochodów JST'!J1156))","v":false},{"$f":"IF(M1156,COUNTIF($M$16:M1156,TRUE),\"\")","v":""},{"$f":"IFERROR(INDEX($J$16:$J$2822,MATCH(ROWS($J$16:J1156),$N$16:$N$2822,0)),\"\")","v":""}]
["14","23","06","3","142306","Gmina miejsko-wiejska","MAZOWIECKIE","przysuski","PRZYSUCHA","PRZYSUCHA - Gmina miejsko-wiejska / Powiat przysuski / Województwo  - MAZOWIECKIE / 142306 / ",34519407,38593765,{"$f":"ISNUMBER(SEARCH(Wyszukiwarka!$A$1,'Porównanie dochodów JST'!J1157))","v":false},{"$f":"IF(M1157,COUNTIF($M$16:M1157,TRUE),\"\")","v":""},{"$f":"IFERROR(INDEX($J$16:$J$2822,MATCH(ROWS($J$16:J1157),$N$16:$N$2822,0)),\"\")","v":""}]
["14","23","07","2","142307","Gmina wiejska","MAZOWIECKIE","przysuski","RUSINÓW","RUSINÓW - Gmina wiejska / Powiat przysuski / Województwo  - MAZOWIECKIE / 142307 / ",18021275,19431618.917224288,{"$f":"ISNUMBER(SEARCH(Wyszukiwarka!$A$1,'Porównanie dochodów JST'!J1158))","v":false},{"$f":"IF(M1158,COUNTIF($M$16:M1158,TRUE),\"\")","v":""},{"$f":"IFERROR(INDEX($J$16:$J$2822,MATCH(ROWS($J$16:J1158),$N$16:$N$2822,0)),\"\")","v":""}]
["14","23","08","2","142308","Gmina wiejska","MAZOWIECKIE","przysuski","WIENIAWA","WIENIAWA - Gmina wiejska / Powiat przysuski / Województwo  - MAZOWIECKIE / 142308 / ",21475002,23487827.692932799,{"$f":"ISNUMBER(SEARCH(Wyszukiwarka!$A$1,'Porównanie dochodów JST'!J1159))","v":false},{"$f":"IF(M1159,COUNTIF($M$16:M1159,TRUE),\"\")","v":""},{"$f":"IFERROR(INDEX($J$16:$J$2822,MATCH(ROWS($J$16:J1159),$N$16:$N$2822,0)),\"\")","v":""}]
["14","24","01","2","142401","Gmina wiejska","MAZOWIECKIE","pułtuski","GZY","GZY - Gmina wiejska / Powiat pułtuski / Województwo  - MAZOWIECKIE / 142401 / ",16090696,17444159,{"$f":"ISNUMBER(SEARCH(Wyszukiwarka!$A$1,'Porównanie dochodów JST'!J1160))","v":false},{"$f":"IF(M1160,COUNTIF($M$16:M1160,TRUE),\"\")","v":""},{"$f":"IFERROR(INDEX($J$16:$J$2822,MATCH(ROWS($J$16:J1160),$N$16:$N$2822,0)),\"\")","v":""}]
["14","24","02","2","142402","Gmina wiejska","MAZOWIECKIE","pułtuski","OBRYTE","OBRYTE - Gmina wiejska / Powiat pułtuski / Województwo  - MAZOWIECKIE / 142402 / ",17293566,19344634.534852363,{"$f":"ISNUMBER(SEARCH(Wyszukiwarka!$A$1,'Porównanie dochodów JST'!J1161))","v":false},{"$f":"IF(M1161,COUNTIF($M$16:M1161,TRUE),\"\")","v":""},{"$f":"IFERROR(INDEX($J$16:$J$2822,MATCH(ROWS($J$16:J1161),$N$16:$N$2822,0)),\"\")","v":""}]
["14","24","03","2","142403","Gmina wiejska","MAZOWIECKIE","pułtuski","POKRZYWNICA","POKRZYWNICA - Gmina wiejska / Powiat pułtuski / Województwo  - MAZOWIECKIE / 142403 / ",20644510,22652624,{"$f":"ISNUMBER(SEARCH(Wyszukiwarka!$A$1,'Porównanie dochodów JST'!J1162))","v":false},{"$f":"IF(M1162,COUNTIF($M$16:M1162,TRUE),\"\")","v":""},{"$f":"IFERROR(INDEX($J$16:$J$2822,MATCH(ROWS($J$16:J1162),$N$16:$N$2822,0)),\"\")","v":""}]
["14","24","04","3","142404","Gmina miejsko-wiejska","MAZOWIECKIE","pułtuski","PUŁTUSK","PUŁTUSK - Gmina miejsko-wiejska / Powiat pułtuski / Województwo  - MAZOWIECKIE / 142404 / ",86922629,92774118.878200144,{"$f":"ISNUMBER(SEARCH(Wyszukiwarka!$A$1,'Porównanie dochodów JST'!J1163))","v":false},{"$f":"IF(M1163,COUNTIF($M$16:M1163,TRUE),\"\")","v":""},{"$f":"IFERROR(INDEX($J$16:$J$2822,MATCH(ROWS($J$16:J1163),$N$16:$N$2822,0)),\"\")","v":""}]
["14","24","05","2","142405","Gmina wiejska","MAZOWIECKIE","pułtuski","ŚWIERCZE","ŚWIERCZE - Gmina wiejska / Powiat pułtuski / Województwo  - MAZOWIECKIE / 142405 / ",17080222,19017067,{"$f":"ISNUMBER(SEARCH(Wyszukiwarka!$A$1,'Porównanie dochodów JST'!J1164))","v":false},{"$f":"IF(M1164,COUNTIF($M$16:M1164,TRUE),\"\")","v":""},{"$f":"IFERROR(INDEX($J$16:$J$2822,MATCH(ROWS($J$16:J1164),$N$16:$N$2822,0)),\"\")","v":""}]
["14","24","06","2","142406","Gmina wiejska","MAZOWIECKIE","pułtuski","WINNICA","WINNICA - Gmina wiejska / Powiat pułtuski / Województwo  - MAZOWIECKIE / 142406 / ",18078242,19983728,{"$f":"ISNUMBER(SEARCH(Wyszukiwarka!$A$1,'Porównanie dochodów JST'!J1165))","v":false},{"$f":"IF(M1165,COUNTIF($M$16:M1165,TRUE),\"\")","v":""},{"$f":"IFERROR(INDEX($J$16:$J$2822,MATCH(ROWS($J$16:J1165),$N$16:$N$2822,0)),\"\")","v":""}]
["14","24","07","2","142407","Gmina wiejska","MAZOWIECKIE","pułtuski","ZATORY","ZATORY - Gmina wiejska / Powiat pułtuski / Województwo  - MAZOWIECKIE / 142407 / ",18524200,20502259.986029956,{"$f":"ISNUMBER(SEARCH(Wyszukiwarka!$A$1,'Porównanie dochodów JST'!J1166))","v":false},{"$f":"IF(M1166,COUNTIF($M$16:M1166,TRUE),\"\")","v":""},{"$f":"IFERROR(INDEX($J$16:$J$2822,MATCH(ROWS($J$16:J1166),$N$16:$N$2822,0)),\"\")","v":""}]
["14","25","01","1","142501","Gmina miejska","MAZOWIECKIE","radomski","PIONKI","PIONKI - Gmina miejska / Powiat radomski / Województwo  - MAZOWIECKIE / 142501 / ",49880846,54847638,{"$f":"ISNUMBER(SEARCH(Wyszukiwarka!$A$1,'Porównanie dochodów JST'!J1167))","v":false},{"$f":"IF(M1167,COUNTIF($M$16:M1167,TRUE),\"\")","v":""},{"$f":"IFERROR(INDEX($J$16:$J$2822,MATCH(ROWS($J$16:J1167),$N$16:$N$2822,0)),\"\")","v":""}]
["14","25","02","2","142502","Gmina wiejska","MAZOWIECKIE","radomski","GÓZD","GÓZD - Gmina wiejska / Powiat radomski / Województwo  - MAZOWIECKIE / 142502 / ",42981618,46349212.761548966,{"$f":"ISNUMBER(SEARCH(Wyszukiwarka!$A$1,'Porównanie dochodów JST'!J1168))","v":false},{"$f":"IF(M1168,COUNTIF($M$16:M1168,TRUE),\"\")","v":""},{"$f":"IFERROR(INDEX($J$16:$J$2822,MATCH(ROWS($J$16:J1168),$N$16:$N$2822,0)),\"\")","v":""}]
["14","25","03","3","142503","Gmina miejsko-wiejska","MAZOWIECKIE","radomski","IŁŻA",{"$f":"I1169&$H$12&F1169&$G$12&$H$14&H1169&$G$12&$G$14&$H$12&G1169&$G$12&E1169&$G$12","v":"IŁŻA - Gmina miejsko-wiejska / Powiat radomski / Województwo  - MAZOWIECKIE / 142503 / "},51067694,55403629,{"$f":"ISNUMBER(SEARCH(Wyszukiwarka!$A$1,'Porównanie dochodów JST'!J1169))","v":false},{"$f":"IF(M1169,COUNTIF($M$16:M1169,TRUE),\"\")","v":""},{"$f":"IFERROR(INDEX($J$16:$J$2822,MATCH(ROWS($J$16:J1169),$N$16:$N$2822,0)),\"\")","v":""}]
["14","25","04","2","142504","Gmina wiejska","MAZOWIECKIE","radomski","JASTRZĘBIA","JASTRZĘBIA - Gmina wiejska / Powiat radomski / Województwo  - MAZOWIECKIE / 142504 / ",31751194,34431024,{"$f":"ISNUMBER(SEARCH(Wyszukiwarka!$A$1,'Porównanie dochodów JST'!J1170))","v":false},{"$f":"IF(M1170,COUNTIF($M$16:M1170,TRUE),\"\")","v":""},{"$f":"IFERROR(INDEX($J$16:$J$2822,MATCH(ROWS($J$16:J1170),$N$16:$N$2822,0)),\"\")","v":""}]
["14","25","05","2","142505","Gmina wiejska","MAZOWIECKIE","radomski","JEDLIŃSK","JEDLIŃSK - Gmina wiejska / Powiat radomski / Województwo  - MAZOWIECKIE / 142505 / ",62018361,66388981,{"$f":"ISNUMBER(SEARCH(Wyszukiwarka!$A$1,'Porównanie dochodów JST'!J1171))","v":false},{"$f":"IF(M1171,COUNTIF($M$16:M1171,TRUE),\"\")","v":""},{"$f":"IFERROR(INDEX($J$16:$J$2822,MATCH(ROWS($J$16:J1171),$N$16:$N$2822,0)),\"\")","v":""}]
["14","25","06","2","142506","Gmina wiejska","MAZOWIECKIE","radomski","JEDLNIA-LETNISKO","JEDLNIA-LETNISKO - Gmina wiejska / Powiat radomski / Województwo  - MAZOWIECKIE / 142506 / ",54359407,58612415,{"$f":"ISNUMBER(SEARCH(Wyszukiwarka!$A$1,'Porównanie dochodów JST'!J1172))","v":false},{"$f":"IF(M1172,COUNTIF($M$16:M1172,TRUE),\"\")","v":""},{"$f":"IFERROR(INDEX($J$16:$J$2822,MATCH(ROWS($J$16:J1172),$N$16:$N$2822,0)),\"\")","v":""}]
["14","25","07","2","142507","Gmina wiejska","MAZOWIECKIE","radomski","KOWALA","KOWALA - Gmina wiejska / Powiat radomski / Województwo  - MAZOWIECKIE / 142507 / ",49664831,53786842,{"$f":"ISNUMBER(SEARCH(Wyszukiwarka!$A$1,'Porównanie dochodów JST'!J1173))","v":false},{"$f":"IF(M1173,COUNTIF($M$16:M1173,TRUE),\"\")","v":""},{"$f":"IFERROR(INDEX($J$16:$J$2822,MATCH(ROWS($J$16:J1173),$N$16:$N$2822,0)),\"\")","v":""}]
["14","25","08","2","142508","Gmina wiejska","MAZOWIECKIE","radomski","PIONKI","PIONKI - Gmina wiejska / Powiat radomski / Województwo  - MAZOWIECKIE / 142508 / ",38298411,41768085.906032719,{"$f":"ISNUMBER(SEARCH(Wyszukiwarka!$A$1,'Porównanie dochodów JST'!J1174))","v":false},{"$f":"IF(M1174,COUNTIF($M$16:M1174,TRUE),\"\")","v":""},{"$f":"IFERROR(INDEX($J$16:$J$2822,MATCH(ROWS($J$16:J1174),$N$16:$N$2822,0)),\"\")","v":""}]
["14","25","09","2","142509","Gmina wiejska","MAZOWIECKIE","radomski","PRZYTYK","PRZYTYK - Gmina wiejska / Powiat radomski / Województwo  - MAZOWIECKIE / 142509 / ",30091105,32789962,{"$f":"ISNUMBER(SEARCH(Wyszukiwarka!$A$1,'Porównanie dochodów JST'!J1175))","v":false},{"$f":"IF(M1175,COUNTIF($M$16:M1175,TRUE),\"\")","v":""},{"$f":"IFERROR(INDEX($J$16:$J$2822,MATCH(ROWS($J$16:J1175),$N$16:$N$2822,0)),\"\")","v":""}]
["14","25","10","3","142510","Gmina miejsko-wiejska","MAZOWIECKIE","radomski","SKARYSZEW","SKARYSZEW - Gmina miejsko-wiejska / Powiat radomski / Województwo  - MAZOWIECKIE / 142510 / ",61414991,66366812,{"$f":"ISNUMBER(SEARCH(Wyszukiwarka!$A$1,'Porównanie dochodów JST'!J1176))","v":false},{"$f":"IF(M1176,COUNTIF($M$16:M1176,TRUE),\"\")","v":""},{"$f":"IFERROR(INDEX($J$16:$J$2822,MATCH(ROWS($J$16:J1176),$N$16:$N$2822,0)),\"\")","v":""}]
["14","25","11","2","142511","Gmina wiejska","MAZOWIECKIE","radomski","WIERZBICA","WIERZBICA - Gmina wiejska / Powiat radomski / Województwo  - MAZOWIECKIE / 142511 / ",36220319,39576733,{"$f":"ISNUMBER(SEARCH(Wyszukiwarka!$A$1,'Porównanie dochodów JST'!J1177))","v":false},{"$f":"IF(M1177,COUNTIF($M$16:M1177,TRUE),\"\")","v":""},{"$f":"IFERROR(INDEX($J$16:$J$2822,MATCH(ROWS($J$16:J1177),$N$16:$N$2822,0)),\"\")","v":""}]
["14","25","12","2","142512","Gmina wiejska","MAZOWIECKIE","radomski","WOLANÓW","WOLANÓW - Gmina wiejska / Powiat radomski / Województwo  - MAZOWIECKIE / 142512 / ",36596221,39922588,{"$f":"ISNUMBER(SEARCH(Wyszukiwarka!$A$1,'Porównanie dochodów JST'!J1178))","v":false},{"$f":"IF(M1178,COUNTIF($M$16:M1178,TRUE),\"\")","v":""},{"$f":"IFERROR(INDEX($J$16:$J$2822,MATCH(ROWS($J$16:J1178),$N$16:$N$2822,0)),\"\")","v":""}]
["14","25","13","2","142513","Gmina wiejska","MAZOWIECKIE","radomski","ZAKRZEW","ZAKRZEW - Gmina wiejska / Powiat radomski / Województwo  - MAZOWIECKIE / 142513 / ",58508830,62776391.664100647,{"$f":"ISNUMBER(SEARCH(Wyszukiwarka!$A$1,'Porównanie dochodów JST'!J1179))","v":false},{"$f":"IF(M1179,COUNTIF($M$16:M1179,TRUE),\"\")","v":""},{"$f":"IFERROR(INDEX($J$16:$J$2822,MATCH(ROWS($J$16:J1179),$N$16:$N$2822,0)),\"\")","v":""}]
["14","26","01","2","142601","Gmina wiejska","MAZOWIECKIE","siedlecki","DOMANICE","DOMANICE - Gmina wiejska / Powiat siedlecki / Województwo  - MAZOWIECKIE / 142601 / ",12731768,13980588.725,{"$f":"ISNUMBER(SEARCH(Wyszukiwarka!$A$1,'Porównanie dochodów JST'!J1180))","v":false},{"$f":"IF(M1180,COUNTIF($M$16:M1180,TRUE),\"\")","v":""},{"$f":"IFERROR(INDEX($J$16:$J$2822,MATCH(ROWS($J$16:J1180),$N$16:$N$2822,0)),\"\")","v":""}]
["14","26","02","2","142602","Gmina wiejska","MAZOWIECKIE","siedlecki","KORCZEW","KORCZEW - Gmina wiejska / Powiat siedlecki / Województwo  - MAZOWIECKIE / 142602 / ",8963170,10113371.400000002,{"$f":"ISNUMBER(SEARCH(Wyszukiwarka!$A$1,'Porównanie dochodów JST'!J1181))","v":false},{"$f":"IF(M1181,COUNTIF($M$16:M1181,TRUE),\"\")","v":""},{"$f":"IFERROR(INDEX($J$16:$J$2822,MATCH(ROWS($J$16:J1181),$N$16:$N$2822,0)),\"\")","v":""}]
["14","26","03","2","142603","Gmina wiejska","MAZOWIECKIE","siedlecki","KOTUŃ","KOTUŃ - Gmina wiejska / Powiat siedlecki / Województwo  - MAZOWIECKIE / 142603 / ",34339175,37640475.628986225,{"$f":"ISNUMBER(SEARCH(Wyszukiwarka!$A$1,'Porównanie dochodów JST'!J1182))","v":false},{"$f":"IF(M1182,COUNTIF($M$16:M1182,TRUE),\"\")","v":""},{"$f":"IFERROR(INDEX($J$16:$J$2822,MATCH(ROWS($J$16:J1182),$N$16:$N$2822,0)),\"\")","v":""}]
["14","26","04","2","142604","Gmina wiejska","MAZOWIECKIE","siedlecki","MOKOBODY","MOKOBODY - Gmina wiejska / Powiat siedlecki / Województwo  - MAZOWIECKIE / 142604 / ",20056780,22023910,{"$f":"ISNUMBER(SEARCH(Wyszukiwarka!$A$1,'Porównanie dochodów JST'!J1183))","v":false},{"$f":"IF(M1183,COUNTIF($M$16:M1183,TRUE),\"\")","v":""},{"$f":"IFERROR(INDEX($J$16:$J$2822,MATCH(ROWS($J$16:J1183),$N$16:$N$2822,0)),\"\")","v":""}]
["14","26","05","3","142605","Gmina miejsko-wiejska","MAZOWIECKIE","siedlecki","MORDY","MORDY - Gmina miejsko-wiejska / Powiat siedlecki / Województwo  - MAZOWIECKIE / 142605 / ",17760769,19795598.987346403,{"$f":"ISNUMBER(SEARCH(Wyszukiwarka!$A$1,'Porównanie dochodów JST'!J1184))","v":false},{"$f":"IF(M1184,COUNTIF($M$16:M1184,TRUE),\"\")","v":""},{"$f":"IFERROR(INDEX($J$16:$J$2822,MATCH(ROWS($J$16:J1184),$N$16:$N$2822,0)),\"\")","v":""}]
["14","26","06","2","142606","Gmina wiejska","MAZOWIECKIE","siedlecki","PAPROTNIA","PAPROTNIA - Gmina wiejska / Powiat siedlecki / Województwo  - MAZOWIECKIE / 142606 / ",10845274,12099080.640000001,{"$f":"ISNUMBER(SEARCH(Wyszukiwarka!$A$1,'Porównanie dochodów JST'!J1185))","v":false},{"$f":"IF(M1185,COUNTIF($M$16:M1185,TRUE),\"\")","v":""},{"$f":"IFERROR(INDEX($J$16:$J$2822,MATCH(ROWS($J$16:J1185),$N$16:$N$2822,0)),\"\")","v":""}]
["14","26","07","2","142607","Gmina wiejska","MAZOWIECKIE","siedlecki","PRZESMYKI","PRZESMYKI - Gmina wiejska / Powiat siedlecki / Województwo  - MAZOWIECKIE / 142607 / ",11257767,12528220.83,{"$f":"ISNUMBER(SEARCH(Wyszukiwarka!$A$1,'Porównanie dochodów JST'!J1186))","v":false},{"$f":"IF(M1186,COUNTIF($M$16:M1186,TRUE),\"\")","v":""},{"$f":"IFERROR(INDEX($J$16:$J$2822,MATCH(ROWS($J$16:J1186),$N$16:$N$2822,0)),\"\")","v":""}]
["14","26","08","2","142608","Gmina wiejska","MAZOWIECKIE","siedlecki","SIEDLCE","SIEDLCE - Gmina wiejska / Powiat siedlecki / Województwo  - MAZOWIECKIE / 142608 / ",78306134,85726944.809623376,{"$f":"ISNUMBER(SEARCH(Wyszukiwarka!$A$1,'Porównanie dochodów JST'!J1187))","v":false},{"$f":"IF(M1187,COUNTIF($M$16:M1187,TRUE),\"\")","v":""},{"$f":"IFERROR(INDEX($J$16:$J$2822,MATCH(ROWS($J$16:J1187),$N$16:$N$2822,0)),\"\")","v":""}]
["14","26","09","2","142609","Gmina wiejska","MAZOWIECKIE","siedlecki","SKÓRZEC","SKÓRZEC - Gmina wiejska / Powiat siedlecki / Województwo  - MAZOWIECKIE / 142609 / ",36765338,40079027.605486386,{"$f":"ISNUMBER(SEARCH(Wyszukiwarka!$A$1,'Porównanie dochodów JST'!J1188))","v":false},{"$f":"IF(M1188,COUNTIF($M$16:M1188,TRUE),\"\")","v":""},{"$f":"IFERROR(INDEX($J$16:$J$2822,MATCH(ROWS($J$16:J1188),$N$16:$N$2822,0)),\"\")","v":""}]
["14","26","10","2","142610","Gmina wiejska","MAZOWIECKIE","siedlecki","SUCHOŻEBRY","SUCHOŻEBRY - Gmina wiejska / Powiat siedlecki / Województwo  - MAZOWIECKIE / 142610 / ",18840802,20836446.535693739,{"$f":"ISNUMBER(SEARCH(Wyszukiwarka!$A$1,'Porównanie dochodów JST'!J1189))","v":false},{"$f":"IF(M1189,COUNTIF($M$16:M1189,TRUE),\"\")","v":""},{"$f":"IFERROR(INDEX($J$16:$J$2822,MATCH(ROWS($J$16:J1189),$N$16:$N$2822,0)),\"\")","v":""}]
["14","26","11","2","142611","Gmina wiejska","MAZOWIECKIE","siedlecki","WIŚNIEW","WIŚNIEW - Gmina wiejska / Powiat siedlecki / Województwo  - MAZOWIECKIE / 142611 / ",21459915,23543337.999100003,{"$f":"ISNUMBER(SEARCH(Wyszukiwarka!$A$1,'Porównanie dochodów JST'!J1190))","v":false},{"$f":"IF(M1190,COUNTIF($M$16:M1190,TRUE),\"\")","v":""},{"$f":"IFERROR(INDEX($J$16:$J$2822,MATCH(ROWS($J$16:J1190),$N$16:$N$2822,0)),\"\")","v":""}]
["14","26","12","2","142612","Gmina wiejska","MAZOWIECKIE","siedlecki","WODYNIE","WODYNIE - Gmina wiejska / Powiat siedlecki / Województwo  - MAZOWIECKIE / 142612 / ",18832071,20750784,{"$f":"ISNUMBER(SEARCH(Wyszukiwarka!$A$1,'Porównanie dochodów JST'!J1191))","v":false},{"$f":"IF(M1191,COUNTIF($M$16:M1191,TRUE),\"\")","v":""},{"$f":"IFERROR(INDEX($J$16:$J$2822,MATCH(ROWS($J$16:J1191),$N$16:$N$2822,0)),\"\")","v":""}]
["14","26","13","2","142613","Gmina wiejska","MAZOWIECKIE","siedlecki","ZBUCZYN","ZBUCZYN - Gmina wiejska / Powiat siedlecki / Województwo  - MAZOWIECKIE / 142613 / ",48024150,51985113.795112208,{"$f":"ISNUMBER(SEARCH(Wyszukiwarka!$A$1,'Porównanie dochodów JST'!J1192))","v":false},{"$f":"IF(M1192,COUNTIF($M$16:M1192,TRUE),\"\")","v":""},{"$f":"IFERROR(INDEX($J$16:$J$2822,MATCH(ROWS($J$16:J1192),$N$16:$N$2822,0)),\"\")","v":""}]
["14","27","01","1","142701","Gmina miejska","MAZOWIECKIE","sierpecki","SIERPC","SIERPC - Gmina miejska / Powiat sierpecki / Województwo  - MAZOWIECKIE / 142701 / ",58299661,65616105.215500012,{"$f":"ISNUMBER(SEARCH(Wyszukiwarka!$A$1,'Porównanie dochodów JST'!J1193))","v":false},{"$f":"IF(M1193,COUNTIF($M$16:M1193,TRUE),\"\")","v":""},{"$f":"IFERROR(INDEX($J$16:$J$2822,MATCH(ROWS($J$16:J1193),$N$16:$N$2822,0)),\"\")","v":""}]
["14","27","02","2","142702","Gmina wiejska","MAZOWIECKIE","sierpecki","GOZDOWO","GOZDOWO - Gmina wiejska / Powiat sierpecki / Województwo  - MAZOWIECKIE / 142702 / ",22659602,24714043,{"$f":"ISNUMBER(SEARCH(Wyszukiwarka!$A$1,'Porównanie dochodów JST'!J1194))","v":false},{"$f":"IF(M1194,COUNTIF($M$16:M1194,TRUE),\"\")","v":""},{"$f":"IFERROR(INDEX($J$16:$J$2822,MATCH(ROWS($J$16:J1194),$N$16:$N$2822,0)),\"\")","v":""}]
["14","27","03","2","142703","Gmina wiejska","MAZOWIECKIE","sierpecki","MOCHOWO","MOCHOWO - Gmina wiejska / Powiat sierpecki / Województwo  - MAZOWIECKIE / 142703 / ",22644205,24693084,{"$f":"ISNUMBER(SEARCH(Wyszukiwarka!$A$1,'Porównanie dochodów JST'!J1195))","v":false},{"$f":"IF(M1195,COUNTIF($M$16:M1195,TRUE),\"\")","v":""},{"$f":"IFERROR(INDEX($J$16:$J$2822,MATCH(ROWS($J$16:J1195),$N$16:$N$2822,0)),\"\")","v":""}]
["14","27","04","2","142704","Gmina wiejska","MAZOWIECKIE","sierpecki","ROŚCISZEWO","ROŚCISZEWO - Gmina wiejska / Powiat sierpecki / Województwo  - MAZOWIECKIE / 142704 / ",16014508,17411796.612934873,{"$f":"ISNUMBER(SEARCH(Wyszukiwarka!$A$1,'Porównanie dochodów JST'!J1196))","v":false},{"$f":"IF(M1196,COUNTIF($M$16:M1196,TRUE),\"\")","v":""},{"$f":"IFERROR(INDEX($J$16:$J$2822,MATCH(ROWS($J$16:J1196),$N$16:$N$2822,0)),\"\")","v":""}]
["14","27","05","2","142705","Gmina wiejska","MAZOWIECKIE","sierpecki","SIERPC","SIERPC - Gmina wiejska / Powiat sierpecki / Województwo  - MAZOWIECKIE / 142705 / ",24110472,26767727.798654016,{"$f":"ISNUMBER(SEARCH(Wyszukiwarka!$A$1,'Porównanie dochodów JST'!J1197))","v":false},{"$f":"IF(M1197,COUNTIF($M$16:M1197,TRUE),\"\")","v":""},{"$f":"IFERROR(INDEX($J$16:$J$2822,MATCH(ROWS($J$16:J1197),$N$16:$N$2822,0)),\"\")","v":""}]
["14","27","06","2","142706","Gmina wiejska","MAZOWIECKIE","sierpecki","SZCZUTOWO","SZCZUTOWO - Gmina wiejska / Powiat sierpecki / Województwo  - MAZOWIECKIE / 142706 / ",15750135,17168114,{"$f":"ISNUMBER(SEARCH(Wyszukiwarka!$A$1,'Porównanie dochodów JST'!J1198))","v":false},{"$f":"IF(M1198,COUNTIF($M$16:M1198,TRUE),\"\")","v":""},{"$f":"IFERROR(INDEX($J$16:$J$2822,MATCH(ROWS($J$16:J1198),$N$16:$N$2822,0)),\"\")","v":""}]
["14","27","07","2","142707","Gmina wiejska","MAZOWIECKIE","sierpecki","ZAWIDZ","ZAWIDZ - Gmina wiejska / Powiat sierpecki / Województwo  - MAZOWIECKIE / 142707 / ",25939783,29530097.802551702,{"$f":"ISNUMBER(SEARCH(Wyszukiwarka!$A$1,'Porównanie dochodów JST'!J1199))","v":false},{"$f":"IF(M1199,COUNTIF($M$16:M1199,TRUE),\"\")","v":""},{"$f":"IFERROR(INDEX($J$16:$J$2822,MATCH(ROWS($J$16:J1199),$N$16:$N$2822,0)),\"\")","v":""}]
["14","28","01","1","142801","Gmina miejska","MAZOWIECKIE","sochaczewski","SOCHACZEW","SOCHACZEW - Gmina miejska / Powiat sochaczewski / Województwo  - MAZOWIECKIE / 142801 / ",133726483,143979608.37490937,{"$f":"ISNUMBER(SEARCH(Wyszukiwarka!$A$1,'Porównanie dochodów JST'!J1200))","v":false},{"$f":"IF(M1200,COUNTIF($M$16:M1200,TRUE),\"\")","v":""},{"$f":"IFERROR(INDEX($J$16:$J$2822,MATCH(ROWS($J$16:J1200),$N$16:$N$2822,0)),\"\")","v":""}]
["14","28","02","2","142802","Gmina wiejska","MAZOWIECKIE","sochaczewski","BROCHÓW","BROCHÓW - Gmina wiejska / Powiat sochaczewski / Województwo  - MAZOWIECKIE / 142802 / ",17373972,19979496.32,{"$f":"ISNUMBER(SEARCH(Wyszukiwarka!$A$1,'Porównanie dochodów JST'!J1201))","v":false},{"$f":"IF(M1201,COUNTIF($M$16:M1201,TRUE),\"\")","v":""},{"$f":"IFERROR(INDEX($J$16:$J$2822,MATCH(ROWS($J$16:J1201),$N$16:$N$2822,0)),\"\")","v":""}]
["14","28","03","2","142803","Gmina wiejska","MAZOWIECKIE","sochaczewski","IŁÓW","IŁÓW - Gmina wiejska / Powiat sochaczewski / Województwo  - MAZOWIECKIE / 142803 / ",22817234,24939720,{"$f":"ISNUMBER(SEARCH(Wyszukiwarka!$A$1,'Porównanie dochodów JST'!J1202))","v":false},{"$f":"IF(M1202,COUNTIF($M$16:M1202,TRUE),\"\")","v":""},{"$f":"IFERROR(INDEX($J$16:$J$2822,MATCH(ROWS($J$16:J1202),$N$16:$N$2822,0)),\"\")","v":""}]
["14","28","04","2","142804","Gmina wiejska","MAZOWIECKIE","sochaczewski","MŁODZIESZYN","MŁODZIESZYN - Gmina wiejska / Powiat sochaczewski / Województwo  - MAZOWIECKIE / 142804 / ",21720407,23784325,{"$f":"ISNUMBER(SEARCH(Wyszukiwarka!$A$1,'Porównanie dochodów JST'!J1203))","v":false},{"$f":"IF(M1203,COUNTIF($M$16:M1203,TRUE),\"\")","v":""},{"$f":"IFERROR(INDEX($J$16:$J$2822,MATCH(ROWS($J$16:J1203),$N$16:$N$2822,0)),\"\")","v":""}]
["14","28","05","2","142805","Gmina wiejska","MAZOWIECKIE","sochaczewski","NOWA SUCHA","NOWA SUCHA - Gmina wiejska / Powiat sochaczewski / Województwo  - MAZOWIECKIE / 142805 / ",30974643,33647250,{"$f":"ISNUMBER(SEARCH(Wyszukiwarka!$A$1,'Porównanie dochodów JST'!J1204))","v":false},{"$f":"IF(M1204,COUNTIF($M$16:M1204,TRUE),\"\")","v":""},{"$f":"IFERROR(INDEX($J$16:$J$2822,MATCH(ROWS($J$16:J1204),$N$16:$N$2822,0)),\"\")","v":""}]
["14","28","06","2","142806","Gmina wiejska","MAZOWIECKIE","sochaczewski","RYBNO","RYBNO - Gmina wiejska / Powiat sochaczewski / Województwo  - MAZOWIECKIE / 142806 / ",13742647,15459923,{"$f":"ISNUMBER(SEARCH(Wyszukiwarka!$A$1,'Porównanie dochodów JST'!J1205))","v":false},{"$f":"IF(M1205,COUNTIF($M$16:M1205,TRUE),\"\")","v":""},{"$f":"IFERROR(INDEX($J$16:$J$2822,MATCH(ROWS($J$16:J1205),$N$16:$N$2822,0)),\"\")","v":""}]
["14","28","07","2","142807","Gmina wiejska","MAZOWIECKIE","sochaczewski","SOCHACZEW","SOCHACZEW - Gmina wiejska / Powiat sochaczewski / Województwo  - MAZOWIECKIE / 142807 / ",53728574,58412694,{"$f":"ISNUMBER(SEARCH(Wyszukiwarka!$A$1,'Porównanie dochodów JST'!J1206))","v":false},{"$f":"IF(M1206,COUNTIF($M$16:M1206,TRUE),\"\")","v":""},{"$f":"IFERROR(INDEX($J$16:$J$2822,MATCH(ROWS($J$16:J1206),$N$16:$N$2822,0)),\"\")","v":""}]
["14","28","08","2","142808","Gmina wiejska","MAZOWIECKIE","sochaczewski","TERESIN","TERESIN - Gmina wiejska / Powiat sochaczewski / Województwo  - MAZOWIECKIE / 142808 / ",49967920,54287022.877340771,{"$f":"ISNUMBER(SEARCH(Wyszukiwarka!$A$1,'Porównanie dochodów JST'!J1207))","v":false},{"$f":"IF(M1207,COUNTIF($M$16:M1207,TRUE),\"\")","v":""},{"$f":"IFERROR(INDEX($J$16:$J$2822,MATCH(ROWS($J$16:J1207),$N$16:$N$2822,0)),\"\")","v":""}]
["14","29","01","1","142901","Gmina miejska","MAZOWIECKIE","sokołowski","SOKOŁÓW PODLASKI","SOKOŁÓW PODLASKI - Gmina miejska / Powiat sokołowski / Województwo  - MAZOWIECKIE / 142901 / ",75641731,81867377.813899115,{"$f":"ISNUMBER(SEARCH(Wyszukiwarka!$A$1,'Porównanie dochodów JST'!J1208))","v":false},{"$f":"IF(M1208,COUNTIF($M$16:M1208,TRUE),\"\")","v":""},{"$f":"IFERROR(INDEX($J$16:$J$2822,MATCH(ROWS($J$16:J1208),$N$16:$N$2822,0)),\"\")","v":""}]
["14","29","02","2","142902","Gmina wiejska","MAZOWIECKIE","sokołowski","BIELANY","BIELANY - Gmina wiejska / Powiat sokołowski / Województwo  - MAZOWIECKIE / 142902 / ",15573606,16929371.990000002,{"$f":"ISNUMBER(SEARCH(Wyszukiwarka!$A$1,'Porównanie dochodów JST'!J1209))","v":false},{"$f":"IF(M1209,COUNTIF($M$16:M1209,TRUE),\"\")","v":""},{"$f":"IFERROR(INDEX($J$16:$J$2822,MATCH(ROWS($J$16:J1209),$N$16:$N$2822,0)),\"\")","v":""}]
["14","29","03","2","142903","Gmina wiejska","MAZOWIECKIE","sokołowski","CERANÓW","CERANÓW - Gmina wiejska / Powiat sokołowski / Województwo  - MAZOWIECKIE / 142903 / ",8574589,9638811.5999999996,{"$f":"ISNUMBER(SEARCH(Wyszukiwarka!$A$1,'Porównanie dochodów JST'!J1210))","v":false},{"$f":"IF(M1210,COUNTIF($M$16:M1210,TRUE),\"\")","v":""},{"$f":"IFERROR(INDEX($J$16:$J$2822,MATCH(ROWS($J$16:J1210),$N$16:$N$2822,0)),\"\")","v":""}]
["14","29","04","2","142904","Gmina wiejska","MAZOWIECKIE","sokołowski","JABŁONNA LACKA","JABŁONNA LACKA - Gmina wiejska / Powiat sokołowski / Województwo  - MAZOWIECKIE / 142904 / ",15802829,17719624.615738772,{"$f":"ISNUMBER(SEARCH(Wyszukiwarka!$A$1,'Porównanie dochodów JST'!J1211))","v":false},{"$f":"IF(M1211,COUNTIF($M$16:M1211,TRUE),\"\")","v":""},{"$f":"IFERROR(INDEX($J$16:$J$2822,MATCH(ROWS($J$16:J1211),$N$16:$N$2822,0)),\"\")","v":""}]
["14","29","05","3","142905","Gmina miejsko-wiejska","MAZOWIECKIE","sokołowski","KOSÓW LACKI","KOSÓW LACKI - Gmina miejsko-wiejska / Powiat sokołowski / Województwo  - MAZOWIECKIE / 142905 / ",23106966,25279313,{"$f":"ISNUMBER(SEARCH(Wyszukiwarka!$A$1,'Porównanie dochodów JST'!J1212))","v":false},{"$f":"IF(M1212,COUNTIF($M$16:M1212,TRUE),\"\")","v":""},{"$f":"IFERROR(INDEX($J$16:$J$2822,MATCH(ROWS($J$16:J1212),$N$16:$N$2822,0)),\"\")","v":""}]
["14","29","06","2","142906","Gmina wiejska","MAZOWIECKIE","sokołowski","REPKI","REPKI - Gmina wiejska / Powiat sokołowski / Województwo  - MAZOWIECKIE / 142906 / ",17741381,19709410,{"$f":"ISNUMBER(SEARCH(Wyszukiwarka!$A$1,'Porównanie dochodów JST'!J1213))","v":false},{"$f":"IF(M1213,COUNTIF($M$16:M1213,TRUE),\"\")","v":""},{"$f":"IFERROR(INDEX($J$16:$J$2822,MATCH(ROWS($J$16:J1213),$N$16:$N$2822,0)),\"\")","v":""}]
["14","29","07","2","142907","Gmina wiejska","MAZOWIECKIE","sokołowski","SABNIE","SABNIE - Gmina wiejska / Powiat sokołowski / Województwo  - MAZOWIECKIE / 142907 / ",12032845,13375868.74,{"$f":"ISNUMBER(SEARCH(Wyszukiwarka!$A$1,'Porównanie dochodów JST'!J1214))","v":false},{"$f":"IF(M1214,COUNTIF($M$16:M1214,TRUE),\"\")","v":""},{"$f":"IFERROR(INDEX($J$16:$J$2822,MATCH(ROWS($J$16:J1214),$N$16:$N$2822,0)),\"\")","v":""}]
["14","29","08","2","142908","Gmina wiejska","MAZOWIECKIE","sokołowski","SOKOŁÓW PODLASKI","SOKOŁÓW PODLASKI - Gmina wiejska / Powiat sokołowski / Województwo  - MAZOWIECKIE / 142908 / ",21043435,23129643,{"$f":"ISNUMBER(SEARCH(Wyszukiwarka!$A$1,'Porównanie dochodów JST'!J1215))","v":false},{"$f":"IF(M1215,COUNTIF($M$16:M1215,TRUE),\"\")","v":""},{"$f":"IFERROR(INDEX($J$16:$J$2822,MATCH(ROWS($J$16:J1215),$N$16:$N$2822,0)),\"\")","v":""}]
["14","29","09","2","142909","Gmina wiejska","MAZOWIECKIE","sokołowski","STERDYŃ","STERDYŃ - Gmina wiejska / Powiat sokołowski / Województwo  - MAZOWIECKIE / 142909 / ",13722068,15070308,{"$f":"ISNUMBER(SEARCH(Wyszukiwarka!$A$1,'Porównanie dochodów JST'!J1216))","v":false},{"$f":"IF(M1216,COUNTIF($M$16:M1216,TRUE),\"\")","v":""},{"$f":"IFERROR(INDEX($J$16:$J$2822,MATCH(ROWS($J$16:J1216),$N$16:$N$2822,0)),\"\")","v":""}]
["14","30","01","2","143001","Gmina wiejska","MAZOWIECKIE","szydłowiecki","CHLEWISKA","CHLEWISKA - Gmina wiejska / Powiat szydłowiecki / Województwo  - MAZOWIECKIE / 143001 / ",21144850,23211852.651073076,{"$f":"ISNUMBER(SEARCH(Wyszukiwarka!$A$1,'Porównanie dochodów JST'!J1217))","v":false},{"$f":"IF(M1217,COUNTIF($M$16:M1217,TRUE),\"\")","v":""},{"$f":"IFERROR(INDEX($J$16:$J$2822,MATCH(ROWS($J$16:J1217),$N$16:$N$2822,0)),\"\")","v":""}]
["14","30","02","2","143002","Gmina wiejska","MAZOWIECKIE","szydłowiecki","JASTRZĄB","JASTRZĄB - Gmina wiejska / Powiat szydłowiecki / Województwo  - MAZOWIECKIE / 143002 / ",22780014,24770896,{"$f":"ISNUMBER(SEARCH(Wyszukiwarka!$A$1,'Porównanie dochodów JST'!J1218))","v":false},{"$f":"IF(M1218,COUNTIF($M$16:M1218,TRUE),\"\")","v":""},{"$f":"IFERROR(INDEX($J$16:$J$2822,MATCH(ROWS($J$16:J1218),$N$16:$N$2822,0)),\"\")","v":""}]
["14","30","03","2","143003","Gmina wiejska","MAZOWIECKIE","szydłowiecki","MIRÓW","MIRÓW - Gmina wiejska / Powiat szydłowiecki / Województwo  - MAZOWIECKIE / 143003 / ",17086545,19560078.719999999,{"$f":"ISNUMBER(SEARCH(Wyszukiwarka!$A$1,'Porównanie dochodów JST'!J1219))","v":false},{"$f":"IF(M1219,COUNTIF($M$16:M1219,TRUE),\"\")","v":""},{"$f":"IFERROR(INDEX($J$16:$J$2822,MATCH(ROWS($J$16:J1219),$N$16:$N$2822,0)),\"\")","v":""}]
["14","30","04","2","143004","Gmina wiejska","MAZOWIECKIE","szydłowiecki","OROŃSKO","OROŃSKO - Gmina wiejska / Powiat szydłowiecki / Województwo  - MAZOWIECKIE / 143004 / ",23553559,25629448,{"$f":"ISNUMBER(SEARCH(Wyszukiwarka!$A$1,'Porównanie dochodów JST'!J1220))","v":false},{"$f":"IF(M1220,COUNTIF($M$16:M1220,TRUE),\"\")","v":""},{"$f":"IFERROR(INDEX($J$16:$J$2822,MATCH(ROWS($J$16:J1220),$N$16:$N$2822,0)),\"\")","v":""}]
["14","30","05","3","143005","Gmina miejsko-wiejska","MAZOWIECKIE","szydłowiecki","SZYDŁOWIEC","SZYDŁOWIEC - Gmina miejsko-wiejska / Powiat szydłowiecki / Województwo  - MAZOWIECKIE / 143005 / ",57365933,62414505,{"$f":"ISNUMBER(SEARCH(Wyszukiwarka!$A$1,'Porównanie dochodów JST'!J1221))","v":false},{"$f":"IF(M1221,COUNTIF($M$16:M1221,TRUE),\"\")","v":""},{"$f":"IFERROR(INDEX($J$16:$J$2822,MATCH(ROWS($J$16:J1221),$N$16:$N$2822,0)),\"\")","v":""}]
["14","32","01","3","143201","Gmina miejsko-wiejska","MAZOWIECKIE","warszawski zachodni","BŁONIE","BŁONIE - Gmina miejsko-wiejska / Powiat warszawski zachodni / Województwo  - MAZOWIECKIE / 143201 / ",101616391,109273328.36478233,{"$f":"ISNUMBER(SEARCH(Wyszukiwarka!$A$1,'Porównanie dochodów JST'!J1222))","v":false},{"$f":"IF(M1222,COUNTIF($M$16:M1222,TRUE),\"\")","v":""},{"$f":"IFERROR(INDEX($J$16:$J$2822,MATCH(ROWS($J$16:J1222),$N$16:$N$2822,0)),\"\")","v":""}]
["14","32","02","2","143202","Gmina wiejska","MAZOWIECKIE","warszawski zachodni","IZABELIN","IZABELIN - Gmina wiejska / Powiat warszawski zachodni / Województwo  - MAZOWIECKIE / 143202 / ",65226632,70720942,{"$f":"ISNUMBER(SEARCH(Wyszukiwarka!$A$1,'Porównanie dochodów JST'!J1223))","v":false},{"$f":"IF(M1223,COUNTIF($M$16:M1223,TRUE),\"\")","v":""},{"$f":"IFERROR(INDEX($J$16:$J$2822,MATCH(ROWS($J$16:J1223),$N$16:$N$2822,0)),\"\")","v":""}]
["14","32","03","2","143203","Gmina wiejska","MAZOWIECKIE","warszawski zachodni","KAMPINOS","KAMPINOS - Gmina wiejska / Powiat warszawski zachodni / Województwo  - MAZOWIECKIE / 143203 / ",13258894,15200069.071523087,{"$f":"ISNUMBER(SEARCH(Wyszukiwarka!$A$1,'Porównanie dochodów JST'!J1224))","v":false},{"$f":"IF(M1224,COUNTIF($M$16:M1224,TRUE),\"\")","v":""},{"$f":"IFERROR(INDEX($J$16:$J$2822,MATCH(ROWS($J$16:J1224),$N$16:$N$2822,0)),\"\")","v":""}]
["14","32","04","2","143204","Gmina wiejska","MAZOWIECKIE","warszawski zachodni","LESZNO","LESZNO - Gmina wiejska / Powiat warszawski zachodni / Województwo  - MAZOWIECKIE / 143204 / ",57592056,62591518.544313677,{"$f":"ISNUMBER(SEARCH(Wyszukiwarka!$A$1,'Porównanie dochodów JST'!J1225))","v":false},{"$f":"IF(M1225,COUNTIF($M$16:M1225,TRUE),\"\")","v":""},{"$f":"IFERROR(INDEX($J$16:$J$2822,MATCH(ROWS($J$16:J1225),$N$16:$N$2822,0)),\"\")","v":""}]
["14","32","05","3","143205","Gmina miejsko-wiejska","MAZOWIECKIE","warszawski zachodni","ŁOMIANKI","ŁOMIANKI - Gmina miejsko-wiejska / Powiat warszawski zachodni / Województwo  - MAZOWIECKIE / 143205 / ",187141958,201753417.66727114,{"$f":"ISNUMBER(SEARCH(Wyszukiwarka!$A$1,'Porównanie dochodów JST'!J1226))","v":false},{"$f":"IF(M1226,COUNTIF($M$16:M1226,TRUE),\"\")","v":""},{"$f":"IFERROR(INDEX($J$16:$J$2822,MATCH(ROWS($J$16:J1226),$N$16:$N$2822,0)),\"\")","v":""}]
["14","32","06","3","143206","Gmina miejsko-wiejska","MAZOWIECKIE","warszawski zachodni","OŻARÓW MAZOWIECKI","OŻARÓW MAZOWIECKI - Gmina miejsko-wiejska / Powiat warszawski zachodni / Województwo  - MAZOWIECKIE / 143206 / ",160331010,172638056.26890159,{"$f":"ISNUMBER(SEARCH(Wyszukiwarka!$A$1,'Porównanie dochodów JST'!J1227))","v":false},{"$f":"IF(M1227,COUNTIF($M$16:M1227,TRUE),\"\")","v":""},{"$f":"IFERROR(INDEX($J$16:$J$2822,MATCH(ROWS($J$16:J1227),$N$16:$N$2822,0)),\"\")","v":""}]
["14","32","07","2","143207","Gmina wiejska","MAZOWIECKIE","warszawski zachodni","STARE BABICE","STARE BABICE - Gmina wiejska / Powiat warszawski zachodni / Województwo  - MAZOWIECKIE / 143207 / ",164221961,176349185.45725361,{"$f":"ISNUMBER(SEARCH(Wyszukiwarka!$A$1,'Porównanie dochodów JST'!J1228))","v":false},{"$f":"IF(M1228,COUNTIF($M$16:M1228,TRUE),\"\")","v":""},{"$f":"IFERROR(INDEX($J$16:$J$2822,MATCH(ROWS($J$16:J1228),$N$16:$N$2822,0)),\"\")","v":""}]
["14","33","01","1","143301","Gmina miejska","MAZOWIECKIE","węgrowski","WĘGRÓW","WĘGRÓW - Gmina miejska / Powiat węgrowski / Województwo  - MAZOWIECKIE / 143301 / ",49623798,54063364,{"$f":"ISNUMBER(SEARCH(Wyszukiwarka!$A$1,'Porównanie dochodów JST'!J1229))","v":false},{"$f":"IF(M1229,COUNTIF($M$16:M1229,TRUE),\"\")","v":""},{"$f":"IFERROR(INDEX($J$16:$J$2822,MATCH(ROWS($J$16:J1229),$N$16:$N$2822,0)),\"\")","v":""}]
["14","33","02","2","143302","Gmina wiejska","MAZOWIECKIE","węgrowski","GRĘBKÓW","GRĘBKÓW - Gmina wiejska / Powiat węgrowski / Województwo  - MAZOWIECKIE / 143302 / ",19297075,21669656.005454503,{"$f":"ISNUMBER(SEARCH(Wyszukiwarka!$A$1,'Porównanie dochodów JST'!J1230))","v":false},{"$f":"IF(M1230,COUNTIF($M$16:M1230,TRUE),\"\")","v":""},{"$f":"IFERROR(INDEX($J$16:$J$2822,MATCH(ROWS($J$16:J1230),$N$16:$N$2822,0)),\"\")","v":""}]
["14","33","03","2","143303","Gmina wiejska","MAZOWIECKIE","węgrowski","KORYTNICA","KORYTNICA - Gmina wiejska / Powiat węgrowski / Województwo  - MAZOWIECKIE / 143303 / ",18490044,20536075,{"$f":"ISNUMBER(SEARCH(Wyszukiwarka!$A$1,'Porównanie dochodów JST'!J1231))","v":false},{"$f":"IF(M1231,COUNTIF($M$16:M1231,TRUE),\"\")","v":""},{"$f":"IFERROR(INDEX($J$16:$J$2822,MATCH(ROWS($J$16:J1231),$N$16:$N$2822,0)),\"\")","v":""}]
["14","33","04","2","143304","Gmina wiejska","MAZOWIECKIE","węgrowski","LIW","LIW - Gmina wiejska / Powiat węgrowski / Województwo  - MAZOWIECKIE / 143304 / ",28206612,30931584,{"$f":"ISNUMBER(SEARCH(Wyszukiwarka!$A$1,'Porównanie dochodów JST'!J1232))","v":false},{"$f":"IF(M1232,COUNTIF($M$16:M1232,TRUE),\"\")","v":""},{"$f":"IFERROR(INDEX($J$16:$J$2822,MATCH(ROWS($J$16:J1232),$N$16:$N$2822,0)),\"\")","v":""}]
["14","33","05","3","143305","Gmina miejsko-wiejska","MAZOWIECKIE","węgrowski","ŁOCHÓW",{"$f":"I1233&$H$12&F1233&$G$12&$H$14&H1233&$G$12&$G$14&$H$12&G1233&$G$12&E1233&$G$12","v":"ŁOCHÓW - Gmina miejsko-wiejska / Powiat węgrowski / Województwo  - MAZOWIECKIE / 143305 / "},67117367,72247361.817835867,{"$f":"ISNUMBER(SEARCH(Wyszukiwarka!$A$1,'Porównanie dochodów JST'!J1233))","v":false},{"$f":"IF(M1233,COUNTIF($M$16:M1233,TRUE),\"\")","v":""},{"$f":"IFERROR(INDEX($J$16:$J$2822,MATCH(ROWS($J$16:J1233),$N$16:$N$2822,0)),\"\")","v":""}]
["14","33","06","2","143306","Gmina wiejska","MAZOWIECKIE","węgrowski","MIEDZNA","MIEDZNA - Gmina wiejska / Powiat węgrowski / Województwo  - MAZOWIECKIE / 143306 / ",14034588,15401632.777371969,{"$f":"ISNUMBER(SEARCH(Wyszukiwarka!$A$1,'Porównanie dochodów JST'!J1234))","v":false},{"$f":"IF(M1234,COUNTIF($M$16:M1234,TRUE),\"\")","v":""},{"$f":"IFERROR(INDEX($J$16:$J$2822,MATCH(ROWS($J$16:J1234),$N$16:$N$2822,0)),\"\")","v":""}]
["14","33","07","2","143307","Gmina wiejska","MAZOWIECKIE","węgrowski","SADOWNE","SADOWNE - Gmina wiejska / Powiat węgrowski / Województwo  - MAZOWIECKIE / 143307 / ",25610381,27672270,{"$f":"ISNUMBER(SEARCH(Wyszukiwarka!$A$1,'Porównanie dochodów JST'!J1235))","v":false},{"$f":"IF(M1235,COUNTIF($M$16:M1235,TRUE),\"\")","v":""},{"$f":"IFERROR(INDEX($J$16:$J$2822,MATCH(ROWS($J$16:J1235),$N$16:$N$2822,0)),\"\")","v":""}]
["14","33","08","2","143308","Gmina wiejska","MAZOWIECKIE","węgrowski","STOCZEK","STOCZEK - Gmina wiejska / Powiat węgrowski / Województwo  - MAZOWIECKIE / 143308 / ",17189527,19149551.727076765,{"$f":"ISNUMBER(SEARCH(Wyszukiwarka!$A$1,'Porównanie dochodów JST'!J1236))","v":false},{"$f":"IF(M1236,COUNTIF($M$16:M1236,TRUE),\"\")","v":""},{"$f":"IFERROR(INDEX($J$16:$J$2822,MATCH(ROWS($J$16:J1236),$N$16:$N$2822,0)),\"\")","v":""}]
["14","33","09","2","143309","Gmina wiejska","MAZOWIECKIE","węgrowski","WIERZBNO","WIERZBNO - Gmina wiejska / Powiat węgrowski / Województwo  - MAZOWIECKIE / 143309 / ",9880257,11128854,{"$f":"ISNUMBER(SEARCH(Wyszukiwarka!$A$1,'Porównanie dochodów JST'!J1237))","v":false},{"$f":"IF(M1237,COUNTIF($M$16:M1237,TRUE),\"\")","v":""},{"$f":"IFERROR(INDEX($J$16:$J$2822,MATCH(ROWS($J$16:J1237),$N$16:$N$2822,0)),\"\")","v":""}]
["14","34","01","1","143401","Gmina miejska","MAZOWIECKIE","wołomiński","KOBYŁKA","KOBYŁKA - Gmina miejska / Powiat wołomiński / Województwo  - MAZOWIECKIE / 143401 / ",122432497,132856687.31854898,{"$f":"ISNUMBER(SEARCH(Wyszukiwarka!$A$1,'Porównanie dochodów JST'!J1238))","v":false},{"$f":"IF(M1238,COUNTIF($M$16:M1238,TRUE),\"\")","v":""},{"$f":"IFERROR(INDEX($J$16:$J$2822,MATCH(ROWS($J$16:J1238),$N$16:$N$2822,0)),\"\")","v":""}]
["14","34","02","1","143402","Gmina miejska","MAZOWIECKIE","wołomiński","MARKI","MARKI - Gmina miejska / Powiat wołomiński / Województwo  - MAZOWIECKIE / 143402 / ",205408594,223510006.62393165,{"$f":"ISNUMBER(SEARCH(Wyszukiwarka!$A$1,'Porównanie dochodów JST'!J1239))","v":false},{"$f":"IF(M1239,COUNTIF($M$16:M1239,TRUE),\"\")","v":""},{"$f":"IFERROR(INDEX($J$16:$J$2822,MATCH(ROWS($J$16:J1239),$N$16:$N$2822,0)),\"\")","v":""}]
["14","34","03","1","143403","Gmina miejska","MAZOWIECKIE","wołomiński","ZĄBKI","ZĄBKI - Gmina miejska / Powiat wołomiński / Województwo  - MAZOWIECKIE / 143403 / ",196823616,214854785.86930406,{"$f":"ISNUMBER(SEARCH(Wyszukiwarka!$A$1,'Porównanie dochodów JST'!J1240))","v":false},{"$f":"IF(M1240,COUNTIF($M$16:M1240,TRUE),\"\")","v":""},{"$f":"IFERROR(INDEX($J$16:$J$2822,MATCH(ROWS($J$16:J1240),$N$16:$N$2822,0)),\"\")","v":""}]
["14","34","04","1","143404","Gmina miejska","MAZOWIECKIE","wołomiński","ZIELONKA","ZIELONKA - Gmina miejska / Powiat wołomiński / Województwo  - MAZOWIECKIE / 143404 / ",86788109,93257212.57973817,{"$f":"ISNUMBER(SEARCH(Wyszukiwarka!$A$1,'Porównanie dochodów JST'!J1241))","v":false},{"$f":"IF(M1241,COUNTIF($M$16:M1241,TRUE),\"\")","v":""},{"$f":"IFERROR(INDEX($J$16:$J$2822,MATCH(ROWS($J$16:J1241),$N$16:$N$2822,0)),\"\")","v":""}]
["14","34","05","2","143405","Gmina wiejska","MAZOWIECKIE","wołomiński","DĄBRÓWKA","DĄBRÓWKA - Gmina wiejska / Powiat wołomiński / Województwo  - MAZOWIECKIE / 143405 / ",33356313,36620708.785640985,{"$f":"ISNUMBER(SEARCH(Wyszukiwarka!$A$1,'Porównanie dochodów JST'!J1242))","v":false},{"$f":"IF(M1242,COUNTIF($M$16:M1242,TRUE),\"\")","v":""},{"$f":"IFERROR(INDEX($J$16:$J$2822,MATCH(ROWS($J$16:J1242),$N$16:$N$2822,0)),\"\")","v":""}]
["14","34","06","2","143406","Gmina wiejska","MAZOWIECKIE","wołomiński","JADÓW","JADÓW - Gmina wiejska / Powiat wołomiński / Województwo  - MAZOWIECKIE / 143406 / ",30531511,33228133.643065687,{"$f":"ISNUMBER(SEARCH(Wyszukiwarka!$A$1,'Porównanie dochodów JST'!J1243))","v":false},{"$f":"IF(M1243,COUNTIF($M$16:M1243,TRUE),\"\")","v":""},{"$f":"IFERROR(INDEX($J$16:$J$2822,MATCH(ROWS($J$16:J1243),$N$16:$N$2822,0)),\"\")","v":""}]
["14","34","07","2","143407","Gmina wiejska","MAZOWIECKIE","wołomiński","KLEMBÓW","KLEMBÓW - Gmina wiejska / Powiat wołomiński / Województwo  - MAZOWIECKIE / 143407 / ",45709591,49777396.949419156,{"$f":"ISNUMBER(SEARCH(Wyszukiwarka!$A$1,'Porównanie dochodów JST'!J1244))","v":false},{"$f":"IF(M1244,COUNTIF($M$16:M1244,TRUE),\"\")","v":""},{"$f":"IFERROR(INDEX($J$16:$J$2822,MATCH(ROWS($J$16:J1244),$N$16:$N$2822,0)),\"\")","v":""}]
["14","34","08","2","143408","Gmina wiejska","MAZOWIECKIE","wołomiński","POŚWIĘTNE","POŚWIĘTNE - Gmina wiejska / Powiat wołomiński / Województwo  - MAZOWIECKIE / 143408 / ",30905952,33549275,{"$f":"ISNUMBER(SEARCH(Wyszukiwarka!$A$1,'Porównanie dochodów JST'!J1245))","v":false},{"$f":"IF(M1245,COUNTIF($M$16:M1245,TRUE),\"\")","v":""},{"$f":"IFERROR(INDEX($J$16:$J$2822,MATCH(ROWS($J$16:J1245),$N$16:$N$2822,0)),\"\")","v":""}]
["14","34","09","3","143409","Gmina miejsko-wiejska","MAZOWIECKIE","wołomiński","RADZYMIN","RADZYMIN - Gmina miejsko-wiejska / Powiat wołomiński / Województwo  - MAZOWIECKIE / 143409 / ",147171232,160468981.07368267,{"$f":"ISNUMBER(SEARCH(Wyszukiwarka!$A$1,'Porównanie dochodów JST'!J1246))","v":false},{"$f":"IF(M1246,COUNTIF($M$16:M1246,TRUE),\"\")","v":""},{"$f":"IFERROR(INDEX($J$16:$J$2822,MATCH(ROWS($J$16:J1246),$N$16:$N$2822,0)),\"\")","v":""}]
["14","34","10","2","143410","Gmina wiejska","MAZOWIECKIE","wołomiński","STRACHÓWKA","STRACHÓWKA - Gmina wiejska / Powiat wołomiński / Województwo  - MAZOWIECKIE / 143410 / ",10109025,11381430,{"$f":"ISNUMBER(SEARCH(Wyszukiwarka!$A$1,'Porównanie dochodów JST'!J1247))","v":false},{"$f":"IF(M1247,COUNTIF($M$16:M1247,TRUE),\"\")","v":""},{"$f":"IFERROR(INDEX($J$16:$J$2822,MATCH(ROWS($J$16:J1247),$N$16:$N$2822,0)),\"\")","v":""}]
["14","34","11","3","143411","Gmina miejsko-wiejska","MAZOWIECKIE","wołomiński","TŁUSZCZ","TŁUSZCZ - Gmina miejsko-wiejska / Powiat wołomiński / Województwo  - MAZOWIECKIE / 143411 / ",84130833,89516405.830763817,{"$f":"ISNUMBER(SEARCH(Wyszukiwarka!$A$1,'Porównanie dochodów JST'!J1248))","v":false},{"$f":"IF(M1248,COUNTIF($M$16:M1248,TRUE),\"\")","v":""},{"$f":"IFERROR(INDEX($J$16:$J$2822,MATCH(ROWS($J$16:J1248),$N$16:$N$2822,0)),\"\")","v":""}]
["14","34","12","3","143412","Gmina miejsko-wiejska","MAZOWIECKIE","wołomiński","WOŁOMIN","WOŁOMIN - Gmina miejsko-wiejska / Powiat wołomiński / Województwo  - MAZOWIECKIE / 143412 / ",219857705,234549768.84804127,{"$f":"ISNUMBER(SEARCH(Wyszukiwarka!$A$1,'Porównanie dochodów JST'!J1249))","v":false},{"$f":"IF(M1249,COUNTIF($M$16:M1249,TRUE),\"\")","v":""},{"$f":"IFERROR(INDEX($J$16:$J$2822,MATCH(ROWS($J$16:J1249),$N$16:$N$2822,0)),\"\")","v":""}]
["14","35","01","2","143501","Gmina wiejska","MAZOWIECKIE","wyszkowski","BRAŃSZCZYK","BRAŃSZCZYK - Gmina wiejska / Powiat wyszkowski / Województwo  - MAZOWIECKIE / 143501 / ",32459516,37279249.280000001,{"$f":"ISNUMBER(SEARCH(Wyszukiwarka!$A$1,'Porównanie dochodów JST'!J1250))","v":false},{"$f":"IF(M1250,COUNTIF($M$16:M1250,TRUE),\"\")","v":""},{"$f":"IFERROR(INDEX($J$16:$J$2822,MATCH(ROWS($J$16:J1250),$N$16:$N$2822,0)),\"\")","v":""}]
["14","35","02","2","143502","Gmina wiejska","MAZOWIECKIE","wyszkowski","DŁUGOSIODŁO","DŁUGOSIODŁO - Gmina wiejska / Powiat wyszkowski / Województwo  - MAZOWIECKIE / 143502 / ",32910750,35670581,{"$f":"ISNUMBER(SEARCH(Wyszukiwarka!$A$1,'Porównanie dochodów JST'!J1251))","v":false},{"$f":"IF(M1251,COUNTIF($M$16:M1251,TRUE),\"\")","v":""},{"$f":"IFERROR(INDEX($J$16:$J$2822,MATCH(ROWS($J$16:J1251),$N$16:$N$2822,0)),\"\")","v":""}]
["14","35","03","2","143503","Gmina wiejska","MAZOWIECKIE","wyszkowski","RZĄŚNIK","RZĄŚNIK - Gmina wiejska / Powiat wyszkowski / Województwo  - MAZOWIECKIE / 143503 / ",28993450,31712229,{"$f":"ISNUMBER(SEARCH(Wyszukiwarka!$A$1,'Porównanie dochodów JST'!J1252))","v":false},{"$f":"IF(M1252,COUNTIF($M$16:M1252,TRUE),\"\")","v":""},{"$f":"IFERROR(INDEX($J$16:$J$2822,MATCH(ROWS($J$16:J1252),$N$16:$N$2822,0)),\"\")","v":""}]
["14","35","04","2","143504","Gmina wiejska","MAZOWIECKIE","wyszkowski","SOMIANKA","SOMIANKA - Gmina wiejska / Powiat wyszkowski / Województwo  - MAZOWIECKIE / 143504 / ",26356124,30179703.68,{"$f":"ISNUMBER(SEARCH(Wyszukiwarka!$A$1,'Porównanie dochodów JST'!J1253))","v":false},{"$f":"IF(M1253,COUNTIF($M$16:M1253,TRUE),\"\")","v":""},{"$f":"IFERROR(INDEX($J$16:$J$2822,MATCH(ROWS($J$16:J1253),$N$16:$N$2822,0)),\"\")","v":""}]
["14","35","05","3","143505","Gmina miejsko-wiejska","MAZOWIECKIE","wyszkowski","WYSZKÓW","WYSZKÓW - Gmina miejsko-wiejska / Powiat wyszkowski / Województwo  - MAZOWIECKIE / 143505 / ",149260574,162908176.86889285,{"$f":"ISNUMBER(SEARCH(Wyszukiwarka!$A$1,'Porównanie dochodów JST'!J1254))","v":false},{"$f":"IF(M1254,COUNTIF($M$16:M1254,TRUE),\"\")","v":""},{"$f":"IFERROR(INDEX($J$16:$J$2822,MATCH(ROWS($J$16:J1254),$N$16:$N$2822,0)),\"\")","v":""}]
["14","35","06","2","143506","Gmina wiejska","MAZOWIECKIE","wyszkowski","ZABRODZIE","ZABRODZIE - Gmina wiejska / Powiat wyszkowski / Województwo  - MAZOWIECKIE / 143506 / ",27408324,30026560.535974152,{"$f":"ISNUMBER(SEARCH(Wyszukiwarka!$A$1,'Porównanie dochodów JST'!J1255))","v":false},{"$f":"IF(M1255,COUNTIF($M$16:M1255,TRUE),\"\")","v":""},{"$f":"IFERROR(INDEX($J$16:$J$2822,MATCH(ROWS($J$16:J1255),$N$16:$N$2822,0)),\"\")","v":""}]
["14","36","01","2","143601","Gmina wiejska","MAZOWIECKIE","zwoleński","KAZANÓW","KAZANÓW - Gmina wiejska / Powiat zwoleński / Województwo  - MAZOWIECKIE / 143601 / ",20827807,23095857.815276414,{"$f":"ISNUMBER(SEARCH(Wyszukiwarka!$A$1,'Porównanie dochodów JST'!J1256))","v":false},{"$f":"IF(M1256,COUNTIF($M$16:M1256,TRUE),\"\")","v":""},{"$f":"IFERROR(INDEX($J$16:$J$2822,MATCH(ROWS($J$16:J1256),$N$16:$N$2822,0)),\"\")","v":""}]
["14","36","02","2","143602","Gmina wiejska","MAZOWIECKIE","zwoleński","POLICZNA","POLICZNA - Gmina wiejska / Powiat zwoleński / Województwo  - MAZOWIECKIE / 143602 / ",19426918,21435861.558056988,{"$f":"ISNUMBER(SEARCH(Wyszukiwarka!$A$1,'Porównanie dochodów JST'!J1257))","v":false},{"$f":"IF(M1257,COUNTIF($M$16:M1257,TRUE),\"\")","v":""},{"$f":"IFERROR(INDEX($J$16:$J$2822,MATCH(ROWS($J$16:J1257),$N$16:$N$2822,0)),\"\")","v":""}]
["14","36","03","2","143603","Gmina wiejska","MAZOWIECKIE","zwoleński","PRZYŁĘK","PRZYŁĘK - Gmina wiejska / Powiat zwoleński / Województwo  - MAZOWIECKIE / 143603 / ",24899772,26969335,{"$f":"ISNUMBER(SEARCH(Wyszukiwarka!$A$1,'Porównanie dochodów JST'!J1258))","v":false},{"$f":"IF(M1258,COUNTIF($M$16:M1258,TRUE),\"\")","v":""},{"$f":"IFERROR(INDEX($J$16:$J$2822,MATCH(ROWS($J$16:J1258),$N$16:$N$2822,0)),\"\")","v":""}]
["14","36","04","2","143604","Gmina wiejska","MAZOWIECKIE","zwoleński","TCZÓW","TCZÓW - Gmina wiejska / Powiat zwoleński / Województwo  - MAZOWIECKIE / 143604 / ",22279710,24307978.197902553,{"$f":"ISNUMBER(SEARCH(Wyszukiwarka!$A$1,'Porównanie dochodów JST'!J1259))","v":false},{"$f":"IF(M1259,COUNTIF($M$16:M1259,TRUE),\"\")","v":""},{"$f":"IFERROR(INDEX($J$16:$J$2822,MATCH(ROWS($J$16:J1259),$N$16:$N$2822,0)),\"\")","v":""}]
["14","36","05","3","143605","Gmina miejsko-wiejska","MAZOWIECKIE","zwoleński","ZWOLEŃ","ZWOLEŃ - Gmina miejsko-wiejska / Powiat zwoleński / Województwo  - MAZOWIECKIE / 143605 / ",54257568,58629908.596338607,{"$f":"ISNUMBER(SEARCH(Wyszukiwarka!$A$1,'Porównanie dochodów JST'!J1260))","v":false},{"$f":"IF(M1260,COUNTIF($M$16:M1260,TRUE),\"\")","v":""},{"$f":"IFERROR(INDEX($J$16:$J$2822,MATCH(ROWS($J$16:J1260),$N$16:$N$2822,0)),\"\")","v":""}]
["14","37","01","3","143701","Gmina miejsko-wiejska","MAZOWIECKIE","żuromiński","BIEŻUŃ","BIEŻUŃ - Gmina miejsko-wiejska / Powiat żuromiński / Województwo  - MAZOWIECKIE / 143701 / ",16538969,18535577,{"$f":"ISNUMBER(SEARCH(Wyszukiwarka!$A$1,'Porównanie dochodów JST'!J1261))","v":false},{"$f":"IF(M1261,COUNTIF($M$16:M1261,TRUE),\"\")","v":""},{"$f":"IFERROR(INDEX($J$16:$J$2822,MATCH(ROWS($J$16:J1261),$N$16:$N$2822,0)),\"\")","v":""}]
["14","37","02","2","143702","Gmina wiejska","MAZOWIECKIE","żuromiński","KUCZBORK-OSADA","KUCZBORK-OSADA - Gmina wiejska / Powiat żuromiński / Województwo  - MAZOWIECKIE / 143702 / ",17091019,19030034.978598319,{"$f":"ISNUMBER(SEARCH(Wyszukiwarka!$A$1,'Porównanie dochodów JST'!J1262))","v":false},{"$f":"IF(M1262,COUNTIF($M$16:M1262,TRUE),\"\")","v":""},{"$f":"IFERROR(INDEX($J$16:$J$2822,MATCH(ROWS($J$16:J1262),$N$16:$N$2822,0)),\"\")","v":""}]
["14","37","03","3","143703","Gmina miejsko-wiejska","MAZOWIECKIE","żuromiński","LUBOWIDZ","LUBOWIDZ - Gmina miejsko-wiejska / Powiat żuromiński / Województwo  - MAZOWIECKIE / 143703 / ",25062328,27799866.306502953,{"$f":"ISNUMBER(SEARCH(Wyszukiwarka!$A$1,'Porównanie dochodów JST'!J1263))","v":false},{"$f":"IF(M1263,COUNTIF($M$16:M1263,TRUE),\"\")","v":""},{"$f":"IFERROR(INDEX($J$16:$J$2822,MATCH(ROWS($J$16:J1263),$N$16:$N$2822,0)),\"\")","v":""}]
["14","37","04","2","143704","Gmina wiejska","MAZOWIECKIE","żuromiński","LUTOCIN","LUTOCIN - Gmina wiejska / Powiat żuromiński / Województwo  - MAZOWIECKIE / 143704 / ",16738447,18328196.689574827,{"$f":"ISNUMBER(SEARCH(Wyszukiwarka!$A$1,'Porównanie dochodów JST'!J1264))","v":false},{"$f":"IF(M1264,COUNTIF($M$16:M1264,TRUE),\"\")","v":""},{"$f":"IFERROR(INDEX($J$16:$J$2822,MATCH(ROWS($J$16:J1264),$N$16:$N$2822,0)),\"\")","v":""}]
["14","37","05","2","143705","Gmina wiejska","MAZOWIECKIE","żuromiński","SIEMIĄTKOWO","SIEMIĄTKOWO - Gmina wiejska / Powiat żuromiński / Województwo  - MAZOWIECKIE / 143705 / ",14267710,16350803.840000002,{"$f":"ISNUMBER(SEARCH(Wyszukiwarka!$A$1,'Porównanie dochodów JST'!J1265))","v":false},{"$f":"IF(M1265,COUNTIF($M$16:M1265,TRUE),\"\")","v":""},{"$f":"IFERROR(INDEX($J$16:$J$2822,MATCH(ROWS($J$16:J1265),$N$16:$N$2822,0)),\"\")","v":""}]
["14","37","06","3","143706","Gmina miejsko-wiejska","MAZOWIECKIE","żuromiński","ŻUROMIN","ŻUROMIN - Gmina miejsko-wiejska / Powiat żuromiński / Województwo  - MAZOWIECKIE / 143706 / ",43600700,47856879,{"$f":"ISNUMBER(SEARCH(Wyszukiwarka!$A$1,'Porównanie dochodów JST'!J1266))","v":false},{"$f":"IF(M1266,COUNTIF($M$16:M1266,TRUE),\"\")","v":""},{"$f":"IFERROR(INDEX($J$16:$J$2822,MATCH(ROWS($J$16:J1266),$N$16:$N$2822,0)),\"\")","v":""}]
["14","38","01","1","143801","Gmina miejska","MAZOWIECKIE","żyrardowski","ŻYRARDÓW","ŻYRARDÓW - Gmina miejska / Powiat żyrardowski / Województwo  - MAZOWIECKIE / 143801 / ",153959227,164861189.39020002,{"$f":"ISNUMBER(SEARCH(Wyszukiwarka!$A$1,'Porównanie dochodów JST'!J1267))","v":false},{"$f":"IF(M1267,COUNTIF($M$16:M1267,TRUE),\"\")","v":""},{"$f":"IFERROR(INDEX($J$16:$J$2822,MATCH(ROWS($J$16:J1267),$N$16:$N$2822,0)),\"\")","v":""}]
["14","38","02","3","143802","Gmina miejsko-wiejska","MAZOWIECKIE","żyrardowski","MSZCZONÓW","MSZCZONÓW - Gmina miejsko-wiejska / Powiat żyrardowski / Województwo  - MAZOWIECKIE / 143802 / ",45152694,49493855.647161402,{"$f":"ISNUMBER(SEARCH(Wyszukiwarka!$A$1,'Porównanie dochodów JST'!J1268))","v":false},{"$f":"IF(M1268,COUNTIF($M$16:M1268,TRUE),\"\")","v":""},{"$f":"IFERROR(INDEX($J$16:$J$2822,MATCH(ROWS($J$16:J1268),$N$16:$N$2822,0)),\"\")","v":""}]
["14","38","03","2","143803","Gmina wiejska","MAZOWIECKIE","żyrardowski","PUSZCZA MARIAŃSKA","PUSZCZA MARIAŃSKA - Gmina wiejska / Powiat żyrardowski / Województwo  - MAZOWIECKIE / 143803 / ",34326497,37709828,{"$f":"ISNUMBER(SEARCH(Wyszukiwarka!$A$1,'Porównanie dochodów JST'!J1269))","v":false},{"$f":"IF(M1269,COUNTIF($M$16:M1269,TRUE),\"\")","v":""},{"$f":"IFERROR(INDEX($J$16:$J$2822,MATCH(ROWS($J$16:J1269),$N$16:$N$2822,0)),\"\")","v":""}]
["14","38","04","2","143804","Gmina wiejska","MAZOWIECKIE","żyrardowski","RADZIEJOWICE","RADZIEJOWICE - Gmina wiejska / Powiat żyrardowski / Województwo  - MAZOWIECKIE / 143804 / ",32986804,35798221,{"$f":"ISNUMBER(SEARCH(Wyszukiwarka!$A$1,'Porównanie dochodów JST'!J1270))","v":false},{"$f":"IF(M1270,COUNTIF($M$16:M1270,TRUE),\"\")","v":""},{"$f":"IFERROR(INDEX($J$16:$J$2822,MATCH(ROWS($J$16:J1270),$N$16:$N$2822,0)),\"\")","v":""}]
["14","38","05","2","143805","Gmina wiejska","MAZOWIECKIE","żyrardowski","WISKITKI","WISKITKI - Gmina wiejska / Powiat żyrardowski / Województwo  - MAZOWIECKIE / 143805 / ",32058719,35329547,{"$f":"ISNUMBER(SEARCH(Wyszukiwarka!$A$1,'Porównanie dochodów JST'!J1271))","v":false},{"$f":"IF(M1271,COUNTIF($M$16:M1271,TRUE),\"\")","v":""},{"$f":"IFERROR(INDEX($J$16:$J$2822,MATCH(ROWS($J$16:J1271),$N$16:$N$2822,0)),\"\")","v":""}]
["16","01","01","1","160101","Gmina miejska","OPOLSKIE","brzeski","BRZEG","BRZEG - Gmina miejska / Powiat brzeski / Województwo  - OPOLSKIE / 160101 / ",114780764,122604309.9688323,{"$f":"ISNUMBER(SEARCH(Wyszukiwarka!$A$1,'Porównanie dochodów JST'!J1272))","v":false},{"$f":"IF(M1272,COUNTIF($M$16:M1272,TRUE),\"\")","v":""},{"$f":"IFERROR(INDEX($J$16:$J$2822,MATCH(ROWS($J$16:J1272),$N$16:$N$2822,0)),\"\")","v":""}]
["16","01","02","2","160102","Gmina wiejska","OPOLSKIE","brzeski","SKARBIMIERZ","SKARBIMIERZ - Gmina wiejska / Powiat brzeski / Województwo  - OPOLSKIE / 160102 / ",24831368,28184540,{"$f":"ISNUMBER(SEARCH(Wyszukiwarka!$A$1,'Porównanie dochodów JST'!J1273))","v":false},{"$f":"IF(M1273,COUNTIF($M$16:M1273,TRUE),\"\")","v":""},{"$f":"IFERROR(INDEX($J$16:$J$2822,MATCH(ROWS($J$16:J1273),$N$16:$N$2822,0)),\"\")","v":""}]
["16","01","03","3","160103","Gmina miejsko-wiejska","OPOLSKIE","brzeski","GRODKÓW","GRODKÓW - Gmina miejsko-wiejska / Powiat brzeski / Województwo  - OPOLSKIE / 160103 / ",60514655,65798588.623899996,{"$f":"ISNUMBER(SEARCH(Wyszukiwarka!$A$1,'Porównanie dochodów JST'!J1274))","v":false},{"$f":"IF(M1274,COUNTIF($M$16:M1274,TRUE),\"\")","v":""},{"$f":"IFERROR(INDEX($J$16:$J$2822,MATCH(ROWS($J$16:J1274),$N$16:$N$2822,0)),\"\")","v":""}]
["16","01","04","3","160104","Gmina miejsko-wiejska","OPOLSKIE","brzeski","LEWIN BRZESKI","LEWIN BRZESKI - Gmina miejsko-wiejska / Powiat brzeski / Województwo  - OPOLSKIE / 160104 / ",38419494,42603139.585699998,{"$f":"ISNUMBER(SEARCH(Wyszukiwarka!$A$1,'Porównanie dochodów JST'!J1275))","v":false},{"$f":"IF(M1275,COUNTIF($M$16:M1275,TRUE),\"\")","v":""},{"$f":"IFERROR(INDEX($J$16:$J$2822,MATCH(ROWS($J$16:J1275),$N$16:$N$2822,0)),\"\")","v":""}]
["16","01","05","2","160105","Gmina wiejska","OPOLSKIE","brzeski","LUBSZA","LUBSZA - Gmina wiejska / Powiat brzeski / Województwo  - OPOLSKIE / 160105 / ",33218575,36667775,{"$f":"ISNUMBER(SEARCH(Wyszukiwarka!$A$1,'Porównanie dochodów JST'!J1276))","v":false},{"$f":"IF(M1276,COUNTIF($M$16:M1276,TRUE),\"\")","v":""},{"$f":"IFERROR(INDEX($J$16:$J$2822,MATCH(ROWS($J$16:J1276),$N$16:$N$2822,0)),\"\")","v":""}]
["16","01","06","2","160106","Gmina wiejska","OPOLSKIE","brzeski","OLSZANKA","OLSZANKA - Gmina wiejska / Powiat brzeski / Województwo  - OPOLSKIE / 160106 / ",18634230,20590303.58783225,{"$f":"ISNUMBER(SEARCH(Wyszukiwarka!$A$1,'Porównanie dochodów JST'!J1277))","v":false},{"$f":"IF(M1277,COUNTIF($M$16:M1277,TRUE),\"\")","v":""},{"$f":"IFERROR(INDEX($J$16:$J$2822,MATCH(ROWS($J$16:J1277),$N$16:$N$2822,0)),\"\")","v":""}]
["16","02","01","3","160201","Gmina miejsko-wiejska","OPOLSKIE","głubczycki","BABORÓW","BABORÓW - Gmina miejsko-wiejska / Powiat głubczycki / Województwo  - OPOLSKIE / 160201 / ",15675581,17731323,{"$f":"ISNUMBER(SEARCH(Wyszukiwarka!$A$1,'Porównanie dochodów JST'!J1278))","v":false},{"$f":"IF(M1278,COUNTIF($M$16:M1278,TRUE),\"\")","v":""},{"$f":"IFERROR(INDEX($J$16:$J$2822,MATCH(ROWS($J$16:J1278),$N$16:$N$2822,0)),\"\")","v":""}]
["16","02","02","2","160202","Gmina wiejska","OPOLSKIE","głubczycki","BRANICE","BRANICE - Gmina wiejska / Powiat głubczycki / Województwo  - OPOLSKIE / 160202 / ",21301887,23916791,{"$f":"ISNUMBER(SEARCH(Wyszukiwarka!$A$1,'Porównanie dochodów JST'!J1279))","v":false},{"$f":"IF(M1279,COUNTIF($M$16:M1279,TRUE),\"\")","v":""},{"$f":"IFERROR(INDEX($J$16:$J$2822,MATCH(ROWS($J$16:J1279),$N$16:$N$2822,0)),\"\")","v":""}]
["16","02","03","3","160203","Gmina miejsko-wiejska","OPOLSKIE","głubczycki","GŁUBCZYCE","GŁUBCZYCE - Gmina miejsko-wiejska / Powiat głubczycki / Województwo  - OPOLSKIE / 160203 / ",67664444,73198749.519900009,{"$f":"ISNUMBER(SEARCH(Wyszukiwarka!$A$1,'Porównanie dochodów JST'!J1280))","v":false},{"$f":"IF(M1280,COUNTIF($M$16:M1280,TRUE),\"\")","v":""},{"$f":"IFERROR(INDEX($J$16:$J$2822,MATCH(ROWS($J$16:J1280),$N$16:$N$2822,0)),\"\")","v":""}]
["16","02","04","3","160204","Gmina miejsko-wiejska","OPOLSKIE","głubczycki","KIETRZ","KIETRZ - Gmina miejsko-wiejska / Powiat głubczycki / Województwo  - OPOLSKIE / 160204 / ",32207546,35678492.650800005,{"$f":"ISNUMBER(SEARCH(Wyszukiwarka!$A$1,'Porównanie dochodów JST'!J1281))","v":false},{"$f":"IF(M1281,COUNTIF($M$16:M1281,TRUE),\"\")","v":""},{"$f":"IFERROR(INDEX($J$16:$J$2822,MATCH(ROWS($J$16:J1281),$N$16:$N$2822,0)),\"\")","v":""}]
["16","03","01","1","160301","Gmina miejska","OPOLSKIE","kędzierzyńsko-kozielski","KĘDZIERZYN-KOŹLE","KĘDZIERZYN-KOŹLE - Gmina miejska / Powiat kędzierzyńsko-kozielski / Województwo  - OPOLSKIE / 160301 / ",182715573,211533269.91999999,{"$f":"ISNUMBER(SEARCH(Wyszukiwarka!$A$1,'Porównanie dochodów JST'!J1282))","v":false},{"$f":"IF(M1282,COUNTIF($M$16:M1282,TRUE),\"\")","v":""},{"$f":"IFERROR(INDEX($J$16:$J$2822,MATCH(ROWS($J$16:J1282),$N$16:$N$2822,0)),\"\")","v":""}]
["16","03","02","2","160302","Gmina wiejska","OPOLSKIE","kędzierzyńsko-kozielski","BIERAWA","BIERAWA - Gmina wiejska / Powiat kędzierzyńsko-kozielski / Województwo  - OPOLSKIE / 160302 / ",28728326,31464296,{"$f":"ISNUMBER(SEARCH(Wyszukiwarka!$A$1,'Porównanie dochodów JST'!J1283))","v":false},{"$f":"IF(M1283,COUNTIF($M$16:M1283,TRUE),\"\")","v":""},{"$f":"IFERROR(INDEX($J$16:$J$2822,MATCH(ROWS($J$16:J1283),$N$16:$N$2822,0)),\"\")","v":""}]
["16","03","03","2","160303","Gmina wiejska","OPOLSKIE","kędzierzyńsko-kozielski","CISEK","CISEK - Gmina wiejska / Powiat kędzierzyńsko-kozielski / Województwo  - OPOLSKIE / 160303 / ",21427141,23431900,{"$f":"ISNUMBER(SEARCH(Wyszukiwarka!$A$1,'Porównanie dochodów JST'!J1284))","v":false},{"$f":"IF(M1284,COUNTIF($M$16:M1284,TRUE),\"\")","v":""},{"$f":"IFERROR(INDEX($J$16:$J$2822,MATCH(ROWS($J$16:J1284),$N$16:$N$2822,0)),\"\")","v":""}]
["16","03","04","2","160304","Gmina wiejska","OPOLSKIE","kędzierzyńsko-kozielski","PAWŁOWICZKI","PAWŁOWICZKI - Gmina wiejska / Powiat kędzierzyńsko-kozielski / Województwo  - OPOLSKIE / 160304 / ",26048662,28739041,{"$f":"ISNUMBER(SEARCH(Wyszukiwarka!$A$1,'Porównanie dochodów JST'!J1285))","v":false},{"$f":"IF(M1285,COUNTIF($M$16:M1285,TRUE),\"\")","v":""},{"$f":"IFERROR(INDEX($J$16:$J$2822,MATCH(ROWS($J$16:J1285),$N$16:$N$2822,0)),\"\")","v":""}]
["16","03","05","2","160305","Gmina wiejska","OPOLSKIE","kędzierzyńsko-kozielski","POLSKA CEREKIEW","POLSKA CEREKIEW - Gmina wiejska / Powiat kędzierzyńsko-kozielski / Województwo  - OPOLSKIE / 160305 / ",10881012,12088835,{"$f":"ISNUMBER(SEARCH(Wyszukiwarka!$A$1,'Porównanie dochodów JST'!J1286))","v":false},{"$f":"IF(M1286,COUNTIF($M$16:M1286,TRUE),\"\")","v":""},{"$f":"IFERROR(INDEX($J$16:$J$2822,MATCH(ROWS($J$16:J1286),$N$16:$N$2822,0)),\"\")","v":""}]
["16","03","06","2","160306","Gmina wiejska","OPOLSKIE","kędzierzyńsko-kozielski","REŃSKA WIEŚ","REŃSKA WIEŚ - Gmina wiejska / Powiat kędzierzyńsko-kozielski / Województwo  - OPOLSKIE / 160306 / ",32839957,36126088,{"$f":"ISNUMBER(SEARCH(Wyszukiwarka!$A$1,'Porównanie dochodów JST'!J1287))","v":false},{"$f":"IF(M1287,COUNTIF($M$16:M1287,TRUE),\"\")","v":""},{"$f":"IFERROR(INDEX($J$16:$J$2822,MATCH(ROWS($J$16:J1287),$N$16:$N$2822,0)),\"\")","v":""}]
["16","04","01","3","160401","Gmina miejsko-wiejska","OPOLSKIE","kluczborski","BYCZYNA","BYCZYNA - Gmina miejsko-wiejska / Powiat kluczborski / Województwo  - OPOLSKIE / 160401 / ",33466400,36812605,{"$f":"ISNUMBER(SEARCH(Wyszukiwarka!$A$1,'Porównanie dochodów JST'!J1288))","v":false},{"$f":"IF(M1288,COUNTIF($M$16:M1288,TRUE),\"\")","v":""},{"$f":"IFERROR(INDEX($J$16:$J$2822,MATCH(ROWS($J$16:J1288),$N$16:$N$2822,0)),\"\")","v":""}]
["16","04","02","3","160402","Gmina miejsko-wiejska","OPOLSKIE","kluczborski","KLUCZBORK","KLUCZBORK - Gmina miejsko-wiejska / Powiat kluczborski / Województwo  - OPOLSKIE / 160402 / ",109059708,116678057.62899999,{"$f":"ISNUMBER(SEARCH(Wyszukiwarka!$A$1,'Porównanie dochodów JST'!J1289))","v":false},{"$f":"IF(M1289,COUNTIF($M$16:M1289,TRUE),\"\")","v":""},{"$f":"IFERROR(INDEX($J$16:$J$2822,MATCH(ROWS($J$16:J1289),$N$16:$N$2822,0)),\"\")","v":""}]
["16","04","03","2","160403","Gmina wiejska","OPOLSKIE","kluczborski","LASOWICE WIELKIE","LASOWICE WIELKIE - Gmina wiejska / Powiat kluczborski / Województwo  - OPOLSKIE / 160403 / ",25466962,28116183.538040418,{"$f":"ISNUMBER(SEARCH(Wyszukiwarka!$A$1,'Porównanie dochodów JST'!J1290))","v":false},{"$f":"IF(M1290,COUNTIF($M$16:M1290,TRUE),\"\")","v":""},{"$f":"IFERROR(INDEX($J$16:$J$2822,MATCH(ROWS($J$16:J1290),$N$16:$N$2822,0)),\"\")","v":""}]
["16","04","04","3","160404","Gmina miejsko-wiejska","OPOLSKIE","kluczborski","WOŁCZYN","WOŁCZYN - Gmina miejsko-wiejska / Powiat kluczborski / Województwo  - OPOLSKIE / 160404 / ",40908264,45115962,{"$f":"ISNUMBER(SEARCH(Wyszukiwarka!$A$1,'Porównanie dochodów JST'!J1291))","v":false},{"$f":"IF(M1291,COUNTIF($M$16:M1291,TRUE),\"\")","v":""},{"$f":"IFERROR(INDEX($J$16:$J$2822,MATCH(ROWS($J$16:J1291),$N$16:$N$2822,0)),\"\")","v":""}]
["16","05","01","3","160501","Gmina miejsko-wiejska","OPOLSKIE","krapkowicki","GOGOLIN","GOGOLIN - Gmina miejsko-wiejska / Powiat krapkowicki / Województwo  - OPOLSKIE / 160501 / ",40519957,44938565.562000319,{"$f":"ISNUMBER(SEARCH(Wyszukiwarka!$A$1,'Porównanie dochodów JST'!J1292))","v":false},{"$f":"IF(M1292,COUNTIF($M$16:M1292,TRUE),\"\")","v":""},{"$f":"IFERROR(INDEX($J$16:$J$2822,MATCH(ROWS($J$16:J1292),$N$16:$N$2822,0)),\"\")","v":""}]
["16","05","02","3","160502","Gmina miejsko-wiejska","OPOLSKIE","krapkowicki","KRAPKOWICE","KRAPKOWICE - Gmina miejsko-wiejska / Powiat krapkowicki / Województwo  - OPOLSKIE / 160502 / ",63571403,72372904.868900001,{"$f":"ISNUMBER(SEARCH(Wyszukiwarka!$A$1,'Porównanie dochodów JST'!J1293))","v":false},{"$f":"IF(M1293,COUNTIF($M$16:M1293,TRUE),\"\")","v":""},{"$f":"IFERROR(INDEX($J$16:$J$2822,MATCH(ROWS($J$16:J1293),$N$16:$N$2822,0)),\"\")","v":""}]
["16","05","03","2","160503","Gmina wiejska","OPOLSKIE","krapkowicki","STRZELECZKI","STRZELECZKI - Gmina wiejska / Powiat krapkowicki / Województwo  - OPOLSKIE / 160503 / ",32321291,35028979,{"$f":"ISNUMBER(SEARCH(Wyszukiwarka!$A$1,'Porównanie dochodów JST'!J1294))","v":false},{"$f":"IF(M1294,COUNTIF($M$16:M1294,TRUE),\"\")","v":""},{"$f":"IFERROR(INDEX($J$16:$J$2822,MATCH(ROWS($J$16:J1294),$N$16:$N$2822,0)),\"\")","v":""}]
["16","05","04","2","160504","Gmina wiejska","OPOLSKIE","krapkowicki","WALCE","WALCE - Gmina wiejska / Powiat krapkowicki / Województwo  - OPOLSKIE / 160504 / ",21106532,23112558.707808763,{"$f":"ISNUMBER(SEARCH(Wyszukiwarka!$A$1,'Porównanie dochodów JST'!J1295))","v":false},{"$f":"IF(M1295,COUNTIF($M$16:M1295,TRUE),\"\")","v":""},{"$f":"IFERROR(INDEX($J$16:$J$2822,MATCH(ROWS($J$16:J1295),$N$16:$N$2822,0)),\"\")","v":""}]
["16","05","05","3","160505","Gmina miejsko-wiejska","OPOLSKIE","krapkowicki","ZDZIESZOWICE","ZDZIESZOWICE - Gmina miejsko-wiejska / Powiat krapkowicki / Województwo  - OPOLSKIE / 160505 / ",43734844,48208602.681151338,{"$f":"ISNUMBER(SEARCH(Wyszukiwarka!$A$1,'Porównanie dochodów JST'!J1296))","v":false},{"$f":"IF(M1296,COUNTIF($M$16:M1296,TRUE),\"\")","v":""},{"$f":"IFERROR(INDEX($J$16:$J$2822,MATCH(ROWS($J$16:J1296),$N$16:$N$2822,0)),\"\")","v":""}]
["16","06","01","2","160601","Gmina wiejska","OPOLSKIE","namysłowski","DOMASZOWICE",{"$f":"I1297&$H$12&F1297&$G$12&$H$14&H1297&$G$12&$G$14&$H$12&G1297&$G$12&E1297&$G$12","v":"DOMASZOWICE - Gmina wiejska / Powiat namysłowski / Województwo  - OPOLSKIE / 160601 / "},12926221,14275107,{"$f":"ISNUMBER(SEARCH(Wyszukiwarka!$A$1,'Porównanie dochodów JST'!J1297))","v":false},{"$f":"IF(M1297,COUNTIF($M$16:M1297,TRUE),\"\")","v":""},{"$f":"IFERROR(INDEX($J$16:$J$2822,MATCH(ROWS($J$16:J1297),$N$16:$N$2822,0)),\"\")","v":""}]
["16","06","02","3","160602","Gmina miejsko-wiejska","OPOLSKIE","namysłowski","NAMYSŁÓW","NAMYSŁÓW - Gmina miejsko-wiejska / Powiat namysłowski / Województwo  - OPOLSKIE / 160602 / ",87450783,94017502.588300005,{"$f":"ISNUMBER(SEARCH(Wyszukiwarka!$A$1,'Porównanie dochodów JST'!J1298))","v":false},{"$f":"IF(M1298,COUNTIF($M$16:M1298,TRUE),\"\")","v":""},{"$f":"IFERROR(INDEX($J$16:$J$2822,MATCH(ROWS($J$16:J1298),$N$16:$N$2822,0)),\"\")","v":""}]
["16","06","03","2","160603","Gmina wiejska","OPOLSKIE","namysłowski","POKÓJ","POKÓJ - Gmina wiejska / Powiat namysłowski / Województwo  - OPOLSKIE / 160603 / ",20366481,22390687.746855743,{"$f":"ISNUMBER(SEARCH(Wyszukiwarka!$A$1,'Porównanie dochodów JST'!J1299))","v":false},{"$f":"IF(M1299,COUNTIF($M$16:M1299,TRUE),\"\")","v":""},{"$f":"IFERROR(INDEX($J$16:$J$2822,MATCH(ROWS($J$16:J1299),$N$16:$N$2822,0)),\"\")","v":""}]
["16","06","04","2","160604","Gmina wiejska","OPOLSKIE","namysłowski","ŚWIERCZÓW","ŚWIERCZÓW - Gmina wiejska / Powiat namysłowski / Województwo  - OPOLSKIE / 160604 / ",12428678,13744667.984999999,{"$f":"ISNUMBER(SEARCH(Wyszukiwarka!$A$1,'Porównanie dochodów JST'!J1300))","v":false},{"$f":"IF(M1300,COUNTIF($M$16:M1300,TRUE),\"\")","v":""},{"$f":"IFERROR(INDEX($J$16:$J$2822,MATCH(ROWS($J$16:J1300),$N$16:$N$2822,0)),\"\")","v":""}]
["16","06","05","2","160605","Gmina wiejska","OPOLSKIE","namysłowski","WILKÓW","WILKÓW - Gmina wiejska / Powiat namysłowski / Województwo  - OPOLSKIE / 160605 / ",15854906,17762034,{"$f":"ISNUMBER(SEARCH(Wyszukiwarka!$A$1,'Porównanie dochodów JST'!J1301))","v":false},{"$f":"IF(M1301,COUNTIF($M$16:M1301,TRUE),\"\")","v":""},{"$f":"IFERROR(INDEX($J$16:$J$2822,MATCH(ROWS($J$16:J1301),$N$16:$N$2822,0)),\"\")","v":""}]
["16","07","01","3","160701","Gmina miejsko-wiejska","OPOLSKIE","nyski","GŁUCHOŁAZY","GŁUCHOŁAZY - Gmina miejsko-wiejska / Powiat nyski / Województwo  - OPOLSKIE / 160701 / ",68326368,77966165.807677314,{"$f":"ISNUMBER(SEARCH(Wyszukiwarka!$A$1,'Porównanie dochodów JST'!J1302))","v":false},{"$f":"IF(M1302,COUNTIF($M$16:M1302,TRUE),\"\")","v":""},{"$f":"IFERROR(INDEX($J$16:$J$2822,MATCH(ROWS($J$16:J1302),$N$16:$N$2822,0)),\"\")","v":""}]
["16","07","02","2","160702","Gmina wiejska","OPOLSKIE","nyski","KAMIENNIK","KAMIENNIK - Gmina wiejska / Powiat nyski / Województwo  - OPOLSKIE / 160702 / ",11704381,13014040,{"$f":"ISNUMBER(SEARCH(Wyszukiwarka!$A$1,'Porównanie dochodów JST'!J1303))","v":false},{"$f":"IF(M1303,COUNTIF($M$16:M1303,TRUE),\"\")","v":""},{"$f":"IFERROR(INDEX($J$16:$J$2822,MATCH(ROWS($J$16:J1303),$N$16:$N$2822,0)),\"\")","v":""}]
["16","07","03","3","160703","Gmina miejsko-wiejska","OPOLSKIE","nyski","KORFANTÓW","KORFANTÓW - Gmina miejsko-wiejska / Powiat nyski / Województwo  - OPOLSKIE / 160703 / ",35454459,38769642,{"$f":"ISNUMBER(SEARCH(Wyszukiwarka!$A$1,'Porównanie dochodów JST'!J1304))","v":false},{"$f":"IF(M1304,COUNTIF($M$16:M1304,TRUE),\"\")","v":""},{"$f":"IFERROR(INDEX($J$16:$J$2822,MATCH(ROWS($J$16:J1304),$N$16:$N$2822,0)),\"\")","v":""}]
["16","07","04","2","160704","Gmina wiejska","OPOLSKIE","nyski","ŁAMBINOWICE","ŁAMBINOWICE - Gmina wiejska / Powiat nyski / Województwo  - OPOLSKIE / 160704 / ",28229146,30919505,{"$f":"ISNUMBER(SEARCH(Wyszukiwarka!$A$1,'Porównanie dochodów JST'!J1305))","v":false},{"$f":"IF(M1305,COUNTIF($M$16:M1305,TRUE),\"\")","v":""},{"$f":"IFERROR(INDEX($J$16:$J$2822,MATCH(ROWS($J$16:J1305),$N$16:$N$2822,0)),\"\")","v":""}]
["16","07","05","3","160705","Gmina miejsko-wiejska","OPOLSKIE","nyski","NYSA","NYSA - Gmina miejsko-wiejska / Powiat nyski / Województwo  - OPOLSKIE / 160705 / ",168658485,180889153.77985904,{"$f":"ISNUMBER(SEARCH(Wyszukiwarka!$A$1,'Porównanie dochodów JST'!J1306))","v":false},{"$f":"IF(M1306,COUNTIF($M$16:M1306,TRUE),\"\")","v":""},{"$f":"IFERROR(INDEX($J$16:$J$2822,MATCH(ROWS($J$16:J1306),$N$16:$N$2822,0)),\"\")","v":""}]
["16","07","06","3","160706","Gmina miejsko-wiejska","OPOLSKIE","nyski","OTMUCHÓW","OTMUCHÓW - Gmina miejsko-wiejska / Powiat nyski / Województwo  - OPOLSKIE / 160706 / ",43678701,50282199.519999996,{"$f":"ISNUMBER(SEARCH(Wyszukiwarka!$A$1,'Porównanie dochodów JST'!J1307))","v":false},{"$f":"IF(M1307,COUNTIF($M$16:M1307,TRUE),\"\")","v":""},{"$f":"IFERROR(INDEX($J$16:$J$2822,MATCH(ROWS($J$16:J1307),$N$16:$N$2822,0)),\"\")","v":""}]
["16","07","07","3","160707","Gmina miejsko-wiejska","OPOLSKIE","nyski","PACZKÓW","PACZKÓW - Gmina miejsko-wiejska / Powiat nyski / Województwo  - OPOLSKIE / 160707 / ",35026468,39038545.951998472,{"$f":"ISNUMBER(SEARCH(Wyszukiwarka!$A$1,'Porównanie dochodów JST'!J1308))","v":false},{"$f":"IF(M1308,COUNTIF($M$16:M1308,TRUE),\"\")","v":""},{"$f":"IFERROR(INDEX($J$16:$J$2822,MATCH(ROWS($J$16:J1308),$N$16:$N$2822,0)),\"\")","v":""}]
["16","07","08","2","160708","Gmina wiejska","OPOLSKIE","nyski","PAKOSŁAWICE","PAKOSŁAWICE - Gmina wiejska / Powiat nyski / Województwo  - OPOLSKIE / 160708 / ",13493970,14825139,{"$f":"ISNUMBER(SEARCH(Wyszukiwarka!$A$1,'Porównanie dochodów JST'!J1309))","v":false},{"$f":"IF(M1309,COUNTIF($M$16:M1309,TRUE),\"\")","v":""},{"$f":"IFERROR(INDEX($J$16:$J$2822,MATCH(ROWS($J$16:J1309),$N$16:$N$2822,0)),\"\")","v":""}]
["16","07","09","2","160709","Gmina wiejska","OPOLSKIE","nyski","SKOROSZYCE","SKOROSZYCE - Gmina wiejska / Powiat nyski / Województwo  - OPOLSKIE / 160709 / ",22017901,24102818.696315508,{"$f":"ISNUMBER(SEARCH(Wyszukiwarka!$A$1,'Porównanie dochodów JST'!J1310))","v":false},{"$f":"IF(M1310,COUNTIF($M$16:M1310,TRUE),\"\")","v":""},{"$f":"IFERROR(INDEX($J$16:$J$2822,MATCH(ROWS($J$16:J1310),$N$16:$N$2822,0)),\"\")","v":""}]
["16","08","01","3","160801","Gmina miejsko-wiejska","OPOLSKIE","oleski","DOBRODZIEŃ","DOBRODZIEŃ - Gmina miejsko-wiejska / Powiat oleski / Województwo  - OPOLSKIE / 160801 / ",38546040,41944782.617171556,{"$f":"ISNUMBER(SEARCH(Wyszukiwarka!$A$1,'Porównanie dochodów JST'!J1311))","v":false},{"$f":"IF(M1311,COUNTIF($M$16:M1311,TRUE),\"\")","v":""},{"$f":"IFERROR(INDEX($J$16:$J$2822,MATCH(ROWS($J$16:J1311),$N$16:$N$2822,0)),\"\")","v":""}]
["16","08","02","3","160802","Gmina miejsko-wiejska","OPOLSKIE","oleski","GORZÓW ŚLĄSKI","GORZÓW ŚLĄSKI - Gmina miejsko-wiejska / Powiat oleski / Województwo  - OPOLSKIE / 160802 / ",25979457,28662302.613279812,{"$f":"ISNUMBER(SEARCH(Wyszukiwarka!$A$1,'Porównanie dochodów JST'!J1312))","v":false},{"$f":"IF(M1312,COUNTIF($M$16:M1312,TRUE),\"\")","v":""},{"$f":"IFERROR(INDEX($J$16:$J$2822,MATCH(ROWS($J$16:J1312),$N$16:$N$2822,0)),\"\")","v":""}]
["16","08","03","3","160803","Gmina miejsko-wiejska","OPOLSKIE","oleski","OLESNO","OLESNO - Gmina miejsko-wiejska / Powiat oleski / Województwo  - OPOLSKIE / 160803 / ",58327222,63516662.783755444,{"$f":"ISNUMBER(SEARCH(Wyszukiwarka!$A$1,'Porównanie dochodów JST'!J1313))","v":false},{"$f":"IF(M1313,COUNTIF($M$16:M1313,TRUE),\"\")","v":""},{"$f":"IFERROR(INDEX($J$16:$J$2822,MATCH(ROWS($J$16:J1313),$N$16:$N$2822,0)),\"\")","v":""}]
["16","08","04","3","160804","Gmina miejsko-wiejska","OPOLSKIE","oleski","PRASZKA","PRASZKA - Gmina miejsko-wiejska / Powiat oleski / Województwo  - OPOLSKIE / 160804 / ",47130107,51331402.7522,{"$f":"ISNUMBER(SEARCH(Wyszukiwarka!$A$1,'Porównanie dochodów JST'!J1314))","v":false},{"$f":"IF(M1314,COUNTIF($M$16:M1314,TRUE),\"\")","v":""},{"$f":"IFERROR(INDEX($J$16:$J$2822,MATCH(ROWS($J$16:J1314),$N$16:$N$2822,0)),\"\")","v":""}]
["16","08","05","2","160805","Gmina wiejska","OPOLSKIE","oleski","RADŁÓW","RADŁÓW - Gmina wiejska / Powiat oleski / Województwo  - OPOLSKIE / 160805 / ",19650595,21573063.518936485,{"$f":"ISNUMBER(SEARCH(Wyszukiwarka!$A$1,'Porównanie dochodów JST'!J1315))","v":false},{"$f":"IF(M1315,COUNTIF($M$16:M1315,TRUE),\"\")","v":""},{"$f":"IFERROR(INDEX($J$16:$J$2822,MATCH(ROWS($J$16:J1315),$N$16:$N$2822,0)),\"\")","v":""}]
["16","08","06","2","160806","Gmina wiejska","OPOLSKIE","oleski","RUDNIKI","RUDNIKI - Gmina wiejska / Powiat oleski / Województwo  - OPOLSKIE / 160806 / ",31302668,34047678.948268875,{"$f":"ISNUMBER(SEARCH(Wyszukiwarka!$A$1,'Porównanie dochodów JST'!J1316))","v":false},{"$f":"IF(M1316,COUNTIF($M$16:M1316,TRUE),\"\")","v":""},{"$f":"IFERROR(INDEX($J$16:$J$2822,MATCH(ROWS($J$16:J1316),$N$16:$N$2822,0)),\"\")","v":""}]
["16","08","07","2","160807","Gmina wiejska","OPOLSKIE","oleski","ZĘBOWICE","ZĘBOWICE - Gmina wiejska / Powiat oleski / Województwo  - OPOLSKIE / 160807 / ",13722593,15073939,{"$f":"ISNUMBER(SEARCH(Wyszukiwarka!$A$1,'Porównanie dochodów JST'!J1317))","v":false},{"$f":"IF(M1317,COUNTIF($M$16:M1317,TRUE),\"\")","v":""},{"$f":"IFERROR(INDEX($J$16:$J$2822,MATCH(ROWS($J$16:J1317),$N$16:$N$2822,0)),\"\")","v":""}]
["16","09","01","2","160901","Gmina wiejska","OPOLSKIE","opolski","CHRZĄSTOWICE","CHRZĄSTOWICE - Gmina wiejska / Powiat opolski / Województwo  - OPOLSKIE / 160901 / ",30355664,33076789,{"$f":"ISNUMBER(SEARCH(Wyszukiwarka!$A$1,'Porównanie dochodów JST'!J1318))","v":false},{"$f":"IF(M1318,COUNTIF($M$16:M1318,TRUE),\"\")","v":""},{"$f":"IFERROR(INDEX($J$16:$J$2822,MATCH(ROWS($J$16:J1318),$N$16:$N$2822,0)),\"\")","v":""}]
["16","09","02","2","160902","Gmina wiejska","OPOLSKIE","opolski","DĄBROWA","DĄBROWA - Gmina wiejska / Powiat opolski / Województwo  - OPOLSKIE / 160902 / ",31155023,34485472,{"$f":"ISNUMBER(SEARCH(Wyszukiwarka!$A$1,'Porównanie dochodów JST'!J1319))","v":false},{"$f":"IF(M1319,COUNTIF($M$16:M1319,TRUE),\"\")","v":""},{"$f":"IFERROR(INDEX($J$16:$J$2822,MATCH(ROWS($J$16:J1319),$N$16:$N$2822,0)),\"\")","v":""}]
["16","09","03","2","160903","Gmina wiejska","OPOLSKIE","opolski","DOBRZEŃ WIELKI","DOBRZEŃ WIELKI - Gmina wiejska / Powiat opolski / Województwo  - OPOLSKIE / 160903 / ",42810374,46172134,{"$f":"ISNUMBER(SEARCH(Wyszukiwarka!$A$1,'Porównanie dochodów JST'!J1320))","v":false},{"$f":"IF(M1320,COUNTIF($M$16:M1320,TRUE),\"\")","v":""},{"$f":"IFERROR(INDEX($J$16:$J$2822,MATCH(ROWS($J$16:J1320),$N$16:$N$2822,0)),\"\")","v":""}]
["16","09","04","2","160904","Gmina wiejska","OPOLSKIE","opolski","KOMPRACHCICE","KOMPRACHCICE - Gmina wiejska / Powiat opolski / Województwo  - OPOLSKIE / 160904 / ",33217928,36564202.759993806,{"$f":"ISNUMBER(SEARCH(Wyszukiwarka!$A$1,'Porównanie dochodów JST'!J1321))","v":false},{"$f":"IF(M1321,COUNTIF($M$16:M1321,TRUE),\"\")","v":""},{"$f":"IFERROR(INDEX($J$16:$J$2822,MATCH(ROWS($J$16:J1321),$N$16:$N$2822,0)),\"\")","v":""}]
["16","09","05","2","160905","Gmina wiejska","OPOLSKIE","opolski","ŁUBNIANY","ŁUBNIANY - Gmina wiejska / Powiat opolski / Województwo  - OPOLSKIE / 160905 / ",38582565,42611390.723110445,{"$f":"ISNUMBER(SEARCH(Wyszukiwarka!$A$1,'Porównanie dochodów JST'!J1322))","v":false},{"$f":"IF(M1322,COUNTIF($M$16:M1322,TRUE),\"\")","v":""},{"$f":"IFERROR(INDEX($J$16:$J$2822,MATCH(ROWS($J$16:J1322),$N$16:$N$2822,0)),\"\")","v":""}]
["16","09","06","2","160906","Gmina wiejska","OPOLSKIE","opolski","MURÓW","MURÓW - Gmina wiejska / Powiat opolski / Województwo  - OPOLSKIE / 160906 / ",19048251,21070303.523181025,{"$f":"ISNUMBER(SEARCH(Wyszukiwarka!$A$1,'Porównanie dochodów JST'!J1323))","v":false},{"$f":"IF(M1323,COUNTIF($M$16:M1323,TRUE),\"\")","v":""},{"$f":"IFERROR(INDEX($J$16:$J$2822,MATCH(ROWS($J$16:J1323),$N$16:$N$2822,0)),\"\")","v":""}]
["16","09","07","3","160907","Gmina miejsko-wiejska","OPOLSKIE","opolski","NIEMODLIN","NIEMODLIN - Gmina miejsko-wiejska / Powiat opolski / Województwo  - OPOLSKIE / 160907 / ",38301286,42525793.749600008,{"$f":"ISNUMBER(SEARCH(Wyszukiwarka!$A$1,'Porównanie dochodów JST'!J1324))","v":false},{"$f":"IF(M1324,COUNTIF($M$16:M1324,TRUE),\"\")","v":""},{"$f":"IFERROR(INDEX($J$16:$J$2822,MATCH(ROWS($J$16:J1324),$N$16:$N$2822,0)),\"\")","v":""}]
["16","09","08","3","160908","Gmina miejsko-wiejska","OPOLSKIE","opolski","OZIMEK","OZIMEK - Gmina miejsko-wiejska / Powiat opolski / Województwo  - OPOLSKIE / 160908 / ",62376443,67561149.691015929,{"$f":"ISNUMBER(SEARCH(Wyszukiwarka!$A$1,'Porównanie dochodów JST'!J1325))","v":false},{"$f":"IF(M1325,COUNTIF($M$16:M1325,TRUE),\"\")","v":""},{"$f":"IFERROR(INDEX($J$16:$J$2822,MATCH(ROWS($J$16:J1325),$N$16:$N$2822,0)),\"\")","v":""}]
["16","09","09","2","160909","Gmina wiejska","OPOLSKIE","opolski","POPIELÓW","POPIELÓW - Gmina wiejska / Powiat opolski / Województwo  - OPOLSKIE / 160909 / ",30350986,33119801.955125056,{"$f":"ISNUMBER(SEARCH(Wyszukiwarka!$A$1,'Porównanie dochodów JST'!J1326))","v":false},{"$f":"IF(M1326,COUNTIF($M$16:M1326,TRUE),\"\")","v":""},{"$f":"IFERROR(INDEX($J$16:$J$2822,MATCH(ROWS($J$16:J1326),$N$16:$N$2822,0)),\"\")","v":""}]
["16","09","10","3","160910","Gmina miejsko-wiejska","OPOLSKIE","opolski","PRÓSZKÓW","PRÓSZKÓW - Gmina miejsko-wiejska / Powiat opolski / Województwo  - OPOLSKIE / 160910 / ",33155618,36403796.773481086,{"$f":"ISNUMBER(SEARCH(Wyszukiwarka!$A$1,'Porównanie dochodów JST'!J1327))","v":false},{"$f":"IF(M1327,COUNTIF($M$16:M1327,TRUE),\"\")","v":""},{"$f":"IFERROR(INDEX($J$16:$J$2822,MATCH(ROWS($J$16:J1327),$N$16:$N$2822,0)),\"\")","v":""}]
["16","09","11","2","160911","Gmina wiejska","OPOLSKIE","opolski","TARNÓW OPOLSKI","TARNÓW OPOLSKI - Gmina wiejska / Powiat opolski / Województwo  - OPOLSKIE / 160911 / ",33913657,37287206,{"$f":"ISNUMBER(SEARCH(Wyszukiwarka!$A$1,'Porównanie dochodów JST'!J1328))","v":false},{"$f":"IF(M1328,COUNTIF($M$16:M1328,TRUE),\"\")","v":""},{"$f":"IFERROR(INDEX($J$16:$J$2822,MATCH(ROWS($J$16:J1328),$N$16:$N$2822,0)),\"\")","v":""}]
["16","09","12","3","160912","Gmina miejsko-wiejska","OPOLSKIE","opolski","TUŁOWICE","TUŁOWICE - Gmina miejsko-wiejska / Powiat opolski / Województwo  - OPOLSKIE / 160912 / ",14962438,16947026.991900001,{"$f":"ISNUMBER(SEARCH(Wyszukiwarka!$A$1,'Porównanie dochodów JST'!J1329))","v":false},{"$f":"IF(M1329,COUNTIF($M$16:M1329,TRUE),\"\")","v":""},{"$f":"IFERROR(INDEX($J$16:$J$2822,MATCH(ROWS($J$16:J1329),$N$16:$N$2822,0)),\"\")","v":""}]
["16","09","13","2","160913","Gmina wiejska","OPOLSKIE","opolski","TURAWA","TURAWA - Gmina wiejska / Powiat opolski / Województwo  - OPOLSKIE / 160913 / ",37841790,41359774.654898077,{"$f":"ISNUMBER(SEARCH(Wyszukiwarka!$A$1,'Porównanie dochodów JST'!J1330))","v":false},{"$f":"IF(M1330,COUNTIF($M$16:M1330,TRUE),\"\")","v":""},{"$f":"IFERROR(INDEX($J$16:$J$2822,MATCH(ROWS($J$16:J1330),$N$16:$N$2822,0)),\"\")","v":""}]
["16","10","01","3","161001","Gmina miejsko-wiejska","OPOLSKIE","prudnicki","BIAŁA","BIAŁA - Gmina miejsko-wiejska / Powiat prudnicki / Województwo  - OPOLSKIE / 161001 / ",38822897,42269659.570358343,{"$f":"ISNUMBER(SEARCH(Wyszukiwarka!$A$1,'Porównanie dochodów JST'!J1331))","v":false},{"$f":"IF(M1331,COUNTIF($M$16:M1331,TRUE),\"\")","v":""},{"$f":"IFERROR(INDEX($J$16:$J$2822,MATCH(ROWS($J$16:J1331),$N$16:$N$2822,0)),\"\")","v":""}]
["16","10","02","3","161002","Gmina miejsko-wiejska","OPOLSKIE","prudnicki","GŁOGÓWEK","GŁOGÓWEK - Gmina miejsko-wiejska / Powiat prudnicki / Województwo  - OPOLSKIE / 161002 / ",45541429,49736084.627441064,{"$f":"ISNUMBER(SEARCH(Wyszukiwarka!$A$1,'Porównanie dochodów JST'!J1332))","v":false},{"$f":"IF(M1332,COUNTIF($M$16:M1332,TRUE),\"\")","v":""},{"$f":"IFERROR(INDEX($J$16:$J$2822,MATCH(ROWS($J$16:J1332),$N$16:$N$2822,0)),\"\")","v":""}]
["16","10","03","2","161003","Gmina wiejska","OPOLSKIE","prudnicki","LUBRZA","LUBRZA - Gmina wiejska / Powiat prudnicki / Województwo  - OPOLSKIE / 161003 / ",19311616,21220992.563600421,{"$f":"ISNUMBER(SEARCH(Wyszukiwarka!$A$1,'Porównanie dochodów JST'!J1333))","v":false},{"$f":"IF(M1333,COUNTIF($M$16:M1333,TRUE),\"\")","v":""},{"$f":"IFERROR(INDEX($J$16:$J$2822,MATCH(ROWS($J$16:J1333),$N$16:$N$2822,0)),\"\")","v":""}]
["16","10","04","3","161004","Gmina miejsko-wiejska","OPOLSKIE","prudnicki","PRUDNIK","PRUDNIK - Gmina miejsko-wiejska / Powiat prudnicki / Województwo  - OPOLSKIE / 161004 / ",81691982,87442068.671688095,{"$f":"ISNUMBER(SEARCH(Wyszukiwarka!$A$1,'Porównanie dochodów JST'!J1334))","v":false},{"$f":"IF(M1334,COUNTIF($M$16:M1334,TRUE),\"\")","v":""},{"$f":"IFERROR(INDEX($J$16:$J$2822,MATCH(ROWS($J$16:J1334),$N$16:$N$2822,0)),\"\")","v":""}]
["16","11","01","2","161101","Gmina wiejska","OPOLSKIE","strzelecki","IZBICKO","IZBICKO - Gmina wiejska / Powiat strzelecki / Województwo  - OPOLSKIE / 161101 / ",19738904,21756270.771941796,{"$f":"ISNUMBER(SEARCH(Wyszukiwarka!$A$1,'Porównanie dochodów JST'!J1335))","v":false},{"$f":"IF(M1335,COUNTIF($M$16:M1335,TRUE),\"\")","v":""},{"$f":"IFERROR(INDEX($J$16:$J$2822,MATCH(ROWS($J$16:J1335),$N$16:$N$2822,0)),\"\")","v":""}]
["16","11","02","2","161102","Gmina wiejska","OPOLSKIE","strzelecki","JEMIELNICA","JEMIELNICA - Gmina wiejska / Powiat strzelecki / Województwo  - OPOLSKIE / 161102 / ",29718128,32410601,{"$f":"ISNUMBER(SEARCH(Wyszukiwarka!$A$1,'Porównanie dochodów JST'!J1336))","v":false},{"$f":"IF(M1336,COUNTIF($M$16:M1336,TRUE),\"\")","v":""},{"$f":"IFERROR(INDEX($J$16:$J$2822,MATCH(ROWS($J$16:J1336),$N$16:$N$2822,0)),\"\")","v":""}]
["16","11","03","3","161103","Gmina miejsko-wiejska","OPOLSKIE","strzelecki","KOLONOWSKIE","KOLONOWSKIE - Gmina miejsko-wiejska / Powiat strzelecki / Województwo  - OPOLSKIE / 161103 / ",22909937,24973382,{"$f":"ISNUMBER(SEARCH(Wyszukiwarka!$A$1,'Porównanie dochodów JST'!J1337))","v":false},{"$f":"IF(M1337,COUNTIF($M$16:M1337,TRUE),\"\")","v":""},{"$f":"IFERROR(INDEX($J$16:$J$2822,MATCH(ROWS($J$16:J1337),$N$16:$N$2822,0)),\"\")","v":""}]
["16","11","04","3","161104","Gmina miejsko-wiejska","OPOLSKIE","strzelecki","LEŚNICA","LEŚNICA - Gmina miejsko-wiejska / Powiat strzelecki / Województwo  - OPOLSKIE / 161104 / ",29735988,32420418,{"$f":"ISNUMBER(SEARCH(Wyszukiwarka!$A$1,'Porównanie dochodów JST'!J1338))","v":false},{"$f":"IF(M1338,COUNTIF($M$16:M1338,TRUE),\"\")","v":""},{"$f":"IFERROR(INDEX($J$16:$J$2822,MATCH(ROWS($J$16:J1338),$N$16:$N$2822,0)),\"\")","v":""}]
["16","11","05","3","161105","Gmina miejsko-wiejska","OPOLSKIE","strzelecki","STRZELCE OPOLSKIE","STRZELCE OPOLSKIE - Gmina miejsko-wiejska / Powiat strzelecki / Województwo  - OPOLSKIE / 161105 / ",93521038,100944501.51060624,{"$f":"ISNUMBER(SEARCH(Wyszukiwarka!$A$1,'Porównanie dochodów JST'!J1339))","v":false},{"$f":"IF(M1339,COUNTIF($M$16:M1339,TRUE),\"\")","v":""},{"$f":"IFERROR(INDEX($J$16:$J$2822,MATCH(ROWS($J$16:J1339),$N$16:$N$2822,0)),\"\")","v":""}]
["16","11","06","3","161106","Gmina miejsko-wiejska","OPOLSKIE","strzelecki","UJAZD","UJAZD - Gmina miejsko-wiejska / Powiat strzelecki / Województwo  - OPOLSKIE / 161106 / ",23377801,25884439,{"$f":"ISNUMBER(SEARCH(Wyszukiwarka!$A$1,'Porównanie dochodów JST'!J1340))","v":false},{"$f":"IF(M1340,COUNTIF($M$16:M1340,TRUE),\"\")","v":""},{"$f":"IFERROR(INDEX($J$16:$J$2822,MATCH(ROWS($J$16:J1340),$N$16:$N$2822,0)),\"\")","v":""}]
["16","11","07","3","161107","Gmina miejsko-wiejska","OPOLSKIE","strzelecki","ZAWADZKIE","ZAWADZKIE - Gmina miejsko-wiejska / Powiat strzelecki / Województwo  - OPOLSKIE / 161107 / ",31499672,36402048.479999997,{"$f":"ISNUMBER(SEARCH(Wyszukiwarka!$A$1,'Porównanie dochodów JST'!J1341))","v":false},{"$f":"IF(M1341,COUNTIF($M$16:M1341,TRUE),\"\")","v":""},{"$f":"IFERROR(INDEX($J$16:$J$2822,MATCH(ROWS($J$16:J1341),$N$16:$N$2822,0)),\"\")","v":""}]
["18","01","03","2","180103","Gmina wiejska","PODKARPACKIE","bieszczadzki","CZARNA","CZARNA - Gmina wiejska / Powiat bieszczadzki / Województwo  - PODKARPACKIE / 180103 / ",9486195,10892203.84,{"$f":"ISNUMBER(SEARCH(Wyszukiwarka!$A$1,'Porównanie dochodów JST'!J1342))","v":false},{"$f":"IF(M1342,COUNTIF($M$16:M1342,TRUE),\"\")","v":""},{"$f":"IFERROR(INDEX($J$16:$J$2822,MATCH(ROWS($J$16:J1342),$N$16:$N$2822,0)),\"\")","v":""}]
["18","01","05","2","180105","Gmina wiejska","PODKARPACKIE","bieszczadzki","LUTOWISKA","LUTOWISKA - Gmina wiejska / Powiat bieszczadzki / Województwo  - PODKARPACKIE / 180105 / ",6478018,7424981.7599999998,{"$f":"ISNUMBER(SEARCH(Wyszukiwarka!$A$1,'Porównanie dochodów JST'!J1343))","v":false},{"$f":"IF(M1343,COUNTIF($M$16:M1343,TRUE),\"\")","v":""},{"$f":"IFERROR(INDEX($J$16:$J$2822,MATCH(ROWS($J$16:J1343),$N$16:$N$2822,0)),\"\")","v":""}]
["18","01","08","3","180108","Gmina miejsko-wiejska","PODKARPACKIE","bieszczadzki","USTRZYKI DOLNE","USTRZYKI DOLNE - Gmina miejsko-wiejska / Powiat bieszczadzki / Województwo  - PODKARPACKIE / 180108 / ",60407201,65559153.583415508,{"$f":"ISNUMBER(SEARCH(Wyszukiwarka!$A$1,'Porównanie dochodów JST'!J1344))","v":false},{"$f":"IF(M1344,COUNTIF($M$16:M1344,TRUE),\"\")","v":""},{"$f":"IFERROR(INDEX($J$16:$J$2822,MATCH(ROWS($J$16:J1344),$N$16:$N$2822,0)),\"\")","v":""}]
["18","02","01","3","180201","Gmina miejsko-wiejska","PODKARPACKIE","brzozowski","BRZOZÓW","BRZOZÓW - Gmina miejsko-wiejska / Powiat brzozowski / Województwo  - PODKARPACKIE / 180201 / ",104678593,111308344.13704589,{"$f":"ISNUMBER(SEARCH(Wyszukiwarka!$A$1,'Porównanie dochodów JST'!J1345))","v":false},{"$f":"IF(M1345,COUNTIF($M$16:M1345,TRUE),\"\")","v":""},{"$f":"IFERROR(INDEX($J$16:$J$2822,MATCH(ROWS($J$16:J1345),$N$16:$N$2822,0)),\"\")","v":""}]
["18","02","02","2","180202","Gmina wiejska","PODKARPACKIE","brzozowski","DOMARADZ","DOMARADZ - Gmina wiejska / Powiat brzozowski / Województwo  - PODKARPACKIE / 180202 / ",24959827,28574543.199999999,{"$f":"ISNUMBER(SEARCH(Wyszukiwarka!$A$1,'Porównanie dochodów JST'!J1346))","v":false},{"$f":"IF(M1346,COUNTIF($M$16:M1346,TRUE),\"\")","v":""},{"$f":"IFERROR(INDEX($J$16:$J$2822,MATCH(ROWS($J$16:J1346),$N$16:$N$2822,0)),\"\")","v":""}]
["18","02","03","2","180203","Gmina wiejska","PODKARPACKIE","brzozowski","DYDNIA","DYDNIA - Gmina wiejska / Powiat brzozowski / Województwo  - PODKARPACKIE / 180203 / ",35840663,38602840,{"$f":"ISNUMBER(SEARCH(Wyszukiwarka!$A$1,'Porównanie dochodów JST'!J1347))","v":false},{"$f":"IF(M1347,COUNTIF($M$16:M1347,TRUE),\"\")","v":""},{"$f":"IFERROR(INDEX($J$16:$J$2822,MATCH(ROWS($J$16:J1347),$N$16:$N$2822,0)),\"\")","v":""}]
["18","02","04","2","180204","Gmina wiejska","PODKARPACKIE","brzozowski","HACZÓW","HACZÓW - Gmina wiejska / Powiat brzozowski / Województwo  - PODKARPACKIE / 180204 / ",36772703,40063471.981784478,{"$f":"ISNUMBER(SEARCH(Wyszukiwarka!$A$1,'Porównanie dochodów JST'!J1348))","v":false},{"$f":"IF(M1348,COUNTIF($M$16:M1348,TRUE),\"\")","v":""},{"$f":"IFERROR(INDEX($J$16:$J$2822,MATCH(ROWS($J$16:J1348),$N$16:$N$2822,0)),\"\")","v":""}]
["18","02","05","2","180205","Gmina wiejska","PODKARPACKIE","brzozowski","JASIENICA ROSIELNA","JASIENICA ROSIELNA - Gmina wiejska / Powiat brzozowski / Województwo  - PODKARPACKIE / 180205 / ",31860618,36119992.180920437,{"$f":"ISNUMBER(SEARCH(Wyszukiwarka!$A$1,'Porównanie dochodów JST'!J1349))","v":false},{"$f":"IF(M1349,COUNTIF($M$16:M1349,TRUE),\"\")","v":""},{"$f":"IFERROR(INDEX($J$16:$J$2822,MATCH(ROWS($J$16:J1349),$N$16:$N$2822,0)),\"\")","v":""}]
["18","02","06","2","180206","Gmina wiejska","PODKARPACKIE","brzozowski","NOZDRZEC","NOZDRZEC - Gmina wiejska / Powiat brzozowski / Województwo  - PODKARPACKIE / 180206 / ",33755791,36517102,{"$f":"ISNUMBER(SEARCH(Wyszukiwarka!$A$1,'Porównanie dochodów JST'!J1350))","v":false},{"$f":"IF(M1350,COUNTIF($M$16:M1350,TRUE),\"\")","v":""},{"$f":"IFERROR(INDEX($J$16:$J$2822,MATCH(ROWS($J$16:J1350),$N$16:$N$2822,0)),\"\")","v":""}]
["18","03","01","1","180301","Gmina miejska","PODKARPACKIE","dębicki","DĘBICA","DĘBICA - Gmina miejska / Powiat dębicki / Województwo  - PODKARPACKIE / 180301 / ",158572654,171316399.34712645,{"$f":"ISNUMBER(SEARCH(Wyszukiwarka!$A$1,'Porównanie dochodów JST'!J1351))","v":false},{"$f":"IF(M1351,COUNTIF($M$16:M1351,TRUE),\"\")","v":""},{"$f":"IFERROR(INDEX($J$16:$J$2822,MATCH(ROWS($J$16:J1351),$N$16:$N$2822,0)),\"\")","v":""}]
["18","03","02","3","180302","Gmina miejsko-wiejska","PODKARPACKIE","dębicki","BRZOSTEK","BRZOSTEK - Gmina miejsko-wiejska / Powiat dębicki / Województwo  - PODKARPACKIE / 180302 / ",49735129,53925070,{"$f":"ISNUMBER(SEARCH(Wyszukiwarka!$A$1,'Porównanie dochodów JST'!J1352))","v":false},{"$f":"IF(M1352,COUNTIF($M$16:M1352,TRUE),\"\")","v":""},{"$f":"IFERROR(INDEX($J$16:$J$2822,MATCH(ROWS($J$16:J1352),$N$16:$N$2822,0)),\"\")","v":""}]
["18","03","03","2","180303","Gmina wiejska","PODKARPACKIE","dębicki","CZARNA","CZARNA - Gmina wiejska / Powiat dębicki / Województwo  - PODKARPACKIE / 180303 / ",51718735,55974105.839868657,{"$f":"ISNUMBER(SEARCH(Wyszukiwarka!$A$1,'Porównanie dochodów JST'!J1353))","v":false},{"$f":"IF(M1353,COUNTIF($M$16:M1353,TRUE),\"\")","v":""},{"$f":"IFERROR(INDEX($J$16:$J$2822,MATCH(ROWS($J$16:J1353),$N$16:$N$2822,0)),\"\")","v":""}]
["18","03","04","2","180304","Gmina wiejska","PODKARPACKIE","dębicki","DĘBICA","DĘBICA - Gmina wiejska / Powiat dębicki / Województwo  - PODKARPACKIE / 180304 / ",83765216,90155504,{"$f":"ISNUMBER(SEARCH(Wyszukiwarka!$A$1,'Porównanie dochodów JST'!J1354))","v":false},{"$f":"IF(M1354,COUNTIF($M$16:M1354,TRUE),\"\")","v":""},{"$f":"IFERROR(INDEX($J$16:$J$2822,MATCH(ROWS($J$16:J1354),$N$16:$N$2822,0)),\"\")","v":""}]
["18","03","05","2","180305","Gmina wiejska","PODKARPACKIE","dębicki","JODŁOWA","JODŁOWA - Gmina wiejska / Powiat dębicki / Województwo  - PODKARPACKIE / 180305 / ",24256479,27739787.039999999,{"$f":"ISNUMBER(SEARCH(Wyszukiwarka!$A$1,'Porównanie dochodów JST'!J1355))","v":false},{"$f":"IF(M1355,COUNTIF($M$16:M1355,TRUE),\"\")","v":""},{"$f":"IFERROR(INDEX($J$16:$J$2822,MATCH(ROWS($J$16:J1355),$N$16:$N$2822,0)),\"\")","v":""}]
["18","03","06","3","180306","Gmina miejsko-wiejska","PODKARPACKIE","dębicki","PILZNO","PILZNO - Gmina miejsko-wiejska / Powiat dębicki / Województwo  - PODKARPACKIE / 180306 / ",66703457,71864566.514413252,{"$f":"ISNUMBER(SEARCH(Wyszukiwarka!$A$1,'Porównanie dochodów JST'!J1356))","v":false},{"$f":"IF(M1356,COUNTIF($M$16:M1356,TRUE),\"\")","v":""},{"$f":"IFERROR(INDEX($J$16:$J$2822,MATCH(ROWS($J$16:J1356),$N$16:$N$2822,0)),\"\")","v":""}]
["18","03","07","2","180307","Gmina wiejska","PODKARPACKIE","dębicki","ŻYRAKÓW","ŻYRAKÓW - Gmina wiejska / Powiat dębicki / Województwo  - PODKARPACKIE / 180307 / ",50560345,54870811.959729992,{"$f":"ISNUMBER(SEARCH(Wyszukiwarka!$A$1,'Porównanie dochodów JST'!J1357))","v":false},{"$f":"IF(M1357,COUNTIF($M$16:M1357,TRUE),\"\")","v":""},{"$f":"IFERROR(INDEX($J$16:$J$2822,MATCH(ROWS($J$16:J1357),$N$16:$N$2822,0)),\"\")","v":""}]
["18","04","01","1","180401","Gmina miejska","PODKARPACKIE","jarosławski","JAROSŁAW","JAROSŁAW - Gmina miejska / Powiat jarosławski / Województwo  - PODKARPACKIE / 180401 / ",123208550,135687405.89859486,{"$f":"ISNUMBER(SEARCH(Wyszukiwarka!$A$1,'Porównanie dochodów JST'!J1358))","v":false},{"$f":"IF(M1358,COUNTIF($M$16:M1358,TRUE),\"\")","v":""},{"$f":"IFERROR(INDEX($J$16:$J$2822,MATCH(ROWS($J$16:J1358),$N$16:$N$2822,0)),\"\")","v":""}]
["18","04","02","1","180402","Gmina miejska","PODKARPACKIE","jarosławski","RADYMNO","RADYMNO - Gmina miejska / Powiat jarosławski / Województwo  - PODKARPACKIE / 180402 / ",16449682,18388221.515002765,{"$f":"ISNUMBER(SEARCH(Wyszukiwarka!$A$1,'Porównanie dochodów JST'!J1359))","v":false},{"$f":"IF(M1359,COUNTIF($M$16:M1359,TRUE),\"\")","v":""},{"$f":"IFERROR(INDEX($J$16:$J$2822,MATCH(ROWS($J$16:J1359),$N$16:$N$2822,0)),\"\")","v":""}]
["18","04","03","2","180403","Gmina wiejska","PODKARPACKIE","jarosławski","CHŁOPICE","CHŁOPICE - Gmina wiejska / Powiat jarosławski / Województwo  - PODKARPACKIE / 180403 / ",21261379,23243487.507630836,{"$f":"ISNUMBER(SEARCH(Wyszukiwarka!$A$1,'Porównanie dochodów JST'!J1360))","v":false},{"$f":"IF(M1360,COUNTIF($M$16:M1360,TRUE),\"\")","v":""},{"$f":"IFERROR(INDEX($J$16:$J$2822,MATCH(ROWS($J$16:J1360),$N$16:$N$2822,0)),\"\")","v":""}]
["18","04","04","2","180404","Gmina wiejska","PODKARPACKIE","jarosławski","JAROSŁAW",{"$f":"I1361&$H$12&F1361&$G$12&$H$14&H1361&$G$12&$G$14&$H$12&G1361&$G$12&E1361&$G$12","v":"JAROSŁAW - Gmina wiejska / Powiat jarosławski / Województwo  - PODKARPACKIE / 180404 / "},46093466,50269747.719553985,{"$f":"ISNUMBER(SEARCH(Wyszukiwarka!$A$1,'Porównanie dochodów JST'!J1361))","v":false},{"$f":"IF(M1361,COUNTIF($M$16:M1361,TRUE),\"\")","v":""},{"$f":"IFERROR(INDEX($J$16:$J$2822,MATCH(ROWS($J$16:J1361),$N$16:$N$2822,0)),\"\")","v":""}]
["18","04","05","2","180405","Gmina wiejska","PODKARPACKIE","jarosławski","LASZKI","LASZKI - Gmina wiejska / Powiat jarosławski / Województwo  - PODKARPACKIE / 180405 / ",25954982,28609607,{"$f":"ISNUMBER(SEARCH(Wyszukiwarka!$A$1,'Porównanie dochodów JST'!J1362))","v":false},{"$f":"IF(M1362,COUNTIF($M$16:M1362,TRUE),\"\")","v":""},{"$f":"IFERROR(INDEX($J$16:$J$2822,MATCH(ROWS($J$16:J1362),$N$16:$N$2822,0)),\"\")","v":""}]
["18","04","06","2","180406","Gmina wiejska","PODKARPACKIE","jarosławski","PAWŁOSIÓW","PAWŁOSIÓW - Gmina wiejska / Powiat jarosławski / Województwo  - PODKARPACKIE / 180406 / ",26962476,30217455,{"$f":"ISNUMBER(SEARCH(Wyszukiwarka!$A$1,'Porównanie dochodów JST'!J1363))","v":false},{"$f":"IF(M1363,COUNTIF($M$16:M1363,TRUE),\"\")","v":""},{"$f":"IFERROR(INDEX($J$16:$J$2822,MATCH(ROWS($J$16:J1363),$N$16:$N$2822,0)),\"\")","v":""}]
["18","04","07","3","180407","Gmina miejsko-wiejska","PODKARPACKIE","jarosławski","PRUCHNIK","PRUCHNIK - Gmina miejsko-wiejska / Powiat jarosławski / Województwo  - PODKARPACKIE / 180407 / ",41326242,44698050.510155149,{"$f":"ISNUMBER(SEARCH(Wyszukiwarka!$A$1,'Porównanie dochodów JST'!J1364))","v":false},{"$f":"IF(M1364,COUNTIF($M$16:M1364,TRUE),\"\")","v":""},{"$f":"IFERROR(INDEX($J$16:$J$2822,MATCH(ROWS($J$16:J1364),$N$16:$N$2822,0)),\"\")","v":""}]
["18","04","08","2","180408","Gmina wiejska","PODKARPACKIE","jarosławski","RADYMNO","RADYMNO - Gmina wiejska / Powiat jarosławski / Województwo  - PODKARPACKIE / 180408 / ",41923947,45984774.935131684,{"$f":"ISNUMBER(SEARCH(Wyszukiwarka!$A$1,'Porównanie dochodów JST'!J1365))","v":false},{"$f":"IF(M1365,COUNTIF($M$16:M1365,TRUE),\"\")","v":""},{"$f":"IFERROR(INDEX($J$16:$J$2822,MATCH(ROWS($J$16:J1365),$N$16:$N$2822,0)),\"\")","v":""}]
["18","04","09","2","180409","Gmina wiejska","PODKARPACKIE","jarosławski","ROKIETNICA","ROKIETNICA - Gmina wiejska / Powiat jarosławski / Województwo  - PODKARPACKIE / 180409 / ",17073243,19412754.955278516,{"$f":"ISNUMBER(SEARCH(Wyszukiwarka!$A$1,'Porównanie dochodów JST'!J1366))","v":false},{"$f":"IF(M1366,COUNTIF($M$16:M1366,TRUE),\"\")","v":""},{"$f":"IFERROR(INDEX($J$16:$J$2822,MATCH(ROWS($J$16:J1366),$N$16:$N$2822,0)),\"\")","v":""}]
["18","04","10","2","180410","Gmina wiejska","PODKARPACKIE","jarosławski","ROŹWIENICA","ROŹWIENICA - Gmina wiejska / Powiat jarosławski / Województwo  - PODKARPACKIE / 180410 / ",26243915,29616094.731364265,{"$f":"ISNUMBER(SEARCH(Wyszukiwarka!$A$1,'Porównanie dochodów JST'!J1367))","v":false},{"$f":"IF(M1367,COUNTIF($M$16:M1367,TRUE),\"\")","v":""},{"$f":"IFERROR(INDEX($J$16:$J$2822,MATCH(ROWS($J$16:J1367),$N$16:$N$2822,0)),\"\")","v":""}]
["18","04","11","2","180411","Gmina wiejska","PODKARPACKIE","jarosławski","WIĄZOWNICA","WIĄZOWNICA - Gmina wiejska / Powiat jarosławski / Województwo  - PODKARPACKIE / 180411 / ",49421544,53612656.644536451,{"$f":"ISNUMBER(SEARCH(Wyszukiwarka!$A$1,'Porównanie dochodów JST'!J1368))","v":false},{"$f":"IF(M1368,COUNTIF($M$16:M1368,TRUE),\"\")","v":""},{"$f":"IFERROR(INDEX($J$16:$J$2822,MATCH(ROWS($J$16:J1368),$N$16:$N$2822,0)),\"\")","v":""}]
["18","05","01","1","180501","Gmina miejska","PODKARPACKIE","jasielski","JASŁO","JASŁO - Gmina miejska / Powiat jasielski / Województwo  - PODKARPACKIE / 180501 / ",105018924,117990462.31742786,{"$f":"ISNUMBER(SEARCH(Wyszukiwarka!$A$1,'Porównanie dochodów JST'!J1369))","v":false},{"$f":"IF(M1369,COUNTIF($M$16:M1369,TRUE),\"\")","v":""},{"$f":"IFERROR(INDEX($J$16:$J$2822,MATCH(ROWS($J$16:J1369),$N$16:$N$2822,0)),\"\")","v":""}]
["18","05","02","2","180502","Gmina wiejska","PODKARPACKIE","jasielski","BRZYSKA","BRZYSKA - Gmina wiejska / Powiat jasielski / Województwo  - PODKARPACKIE / 180502 / ",27295356,29886299,{"$f":"ISNUMBER(SEARCH(Wyszukiwarka!$A$1,'Porównanie dochodów JST'!J1370))","v":false},{"$f":"IF(M1370,COUNTIF($M$16:M1370,TRUE),\"\")","v":""},{"$f":"IFERROR(INDEX($J$16:$J$2822,MATCH(ROWS($J$16:J1370),$N$16:$N$2822,0)),\"\")","v":""}]
["18","05","03","2","180503","Gmina wiejska","PODKARPACKIE","jasielski","DĘBOWIEC","DĘBOWIEC - Gmina wiejska / Powiat jasielski / Województwo  - PODKARPACKIE / 180503 / ",36254576,39596064.623607218,{"$f":"ISNUMBER(SEARCH(Wyszukiwarka!$A$1,'Porównanie dochodów JST'!J1371))","v":false},{"$f":"IF(M1371,COUNTIF($M$16:M1371,TRUE),\"\")","v":""},{"$f":"IFERROR(INDEX($J$16:$J$2822,MATCH(ROWS($J$16:J1371),$N$16:$N$2822,0)),\"\")","v":""}]
["18","05","04","2","180504","Gmina wiejska","PODKARPACKIE","jasielski","JASŁO","JASŁO - Gmina wiejska / Powiat jasielski / Województwo  - PODKARPACKIE / 180504 / ",53983465,58903107.823699996,{"$f":"ISNUMBER(SEARCH(Wyszukiwarka!$A$1,'Porównanie dochodów JST'!J1372))","v":false},{"$f":"IF(M1372,COUNTIF($M$16:M1372,TRUE),\"\")","v":""},{"$f":"IFERROR(INDEX($J$16:$J$2822,MATCH(ROWS($J$16:J1372),$N$16:$N$2822,0)),\"\")","v":""}]
["18","05","05","3","180505","Gmina miejsko-wiejska","PODKARPACKIE","jasielski","KOŁACZYCE","KOŁACZYCE - Gmina miejsko-wiejska / Powiat jasielski / Województwo  - PODKARPACKIE / 180505 / ",33785591,37067472,{"$f":"ISNUMBER(SEARCH(Wyszukiwarka!$A$1,'Porównanie dochodów JST'!J1373))","v":false},{"$f":"IF(M1373,COUNTIF($M$16:M1373,TRUE),\"\")","v":""},{"$f":"IFERROR(INDEX($J$16:$J$2822,MATCH(ROWS($J$16:J1373),$N$16:$N$2822,0)),\"\")","v":""}]
["18","05","06","2","180506","Gmina wiejska","PODKARPACKIE","jasielski","KREMPNA","KREMPNA - Gmina wiejska / Powiat jasielski / Województwo  - PODKARPACKIE / 180506 / ",7666469,8778395.3599999994,{"$f":"ISNUMBER(SEARCH(Wyszukiwarka!$A$1,'Porównanie dochodów JST'!J1374))","v":false},{"$f":"IF(M1374,COUNTIF($M$16:M1374,TRUE),\"\")","v":""},{"$f":"IFERROR(INDEX($J$16:$J$2822,MATCH(ROWS($J$16:J1374),$N$16:$N$2822,0)),\"\")","v":""}]
["18","05","07","2","180507","Gmina wiejska","PODKARPACKIE","jasielski","NOWY ŻMIGRÓD","NOWY ŻMIGRÓD - Gmina wiejska / Powiat jasielski / Województwo  - PODKARPACKIE / 180507 / ",36696578,40045569.643166251,{"$f":"ISNUMBER(SEARCH(Wyszukiwarka!$A$1,'Porównanie dochodów JST'!J1375))","v":false},{"$f":"IF(M1375,COUNTIF($M$16:M1375,TRUE),\"\")","v":""},{"$f":"IFERROR(INDEX($J$16:$J$2822,MATCH(ROWS($J$16:J1375),$N$16:$N$2822,0)),\"\")","v":""}]
["18","05","08","2","180508","Gmina wiejska","PODKARPACKIE","jasielski","OSIEK JASIELSKI","OSIEK JASIELSKI - Gmina wiejska / Powiat jasielski / Województwo  - PODKARPACKIE / 180508 / ",23069307,26410648.32,{"$f":"ISNUMBER(SEARCH(Wyszukiwarka!$A$1,'Porównanie dochodów JST'!J1376))","v":false},{"$f":"IF(M1376,COUNTIF($M$16:M1376,TRUE),\"\")","v":""},{"$f":"IFERROR(INDEX($J$16:$J$2822,MATCH(ROWS($J$16:J1376),$N$16:$N$2822,0)),\"\")","v":""}]
["18","05","09","2","180509","Gmina wiejska","PODKARPACKIE","jasielski","SKOŁYSZYN","SKOŁYSZYN - Gmina wiejska / Powiat jasielski / Województwo  - PODKARPACKIE / 180509 / ",46427911,50512217.604588404,{"$f":"ISNUMBER(SEARCH(Wyszukiwarka!$A$1,'Porównanie dochodów JST'!J1377))","v":false},{"$f":"IF(M1377,COUNTIF($M$16:M1377,TRUE),\"\")","v":""},{"$f":"IFERROR(INDEX($J$16:$J$2822,MATCH(ROWS($J$16:J1377),$N$16:$N$2822,0)),\"\")","v":""}]
["18","05","11","2","180511","Gmina wiejska","PODKARPACKIE","jasielski","TARNOWIEC","TARNOWIEC - Gmina wiejska / Powiat jasielski / Województwo  - PODKARPACKIE / 180511 / ",39031831,43994265.052243799,{"$f":"ISNUMBER(SEARCH(Wyszukiwarka!$A$1,'Porównanie dochodów JST'!J1378))","v":false},{"$f":"IF(M1378,COUNTIF($M$16:M1378,TRUE),\"\")","v":""},{"$f":"IFERROR(INDEX($J$16:$J$2822,MATCH(ROWS($J$16:J1378),$N$16:$N$2822,0)),\"\")","v":""}]
["18","06","01","2","180601","Gmina wiejska","PODKARPACKIE","kolbuszowski","CMOLAS","CMOLAS - Gmina wiejska / Powiat kolbuszowski / Województwo  - PODKARPACKIE / 180601 / ",33541511,36349890.989536569,{"$f":"ISNUMBER(SEARCH(Wyszukiwarka!$A$1,'Porównanie dochodów JST'!J1379))","v":false},{"$f":"IF(M1379,COUNTIF($M$16:M1379,TRUE),\"\")","v":""},{"$f":"IFERROR(INDEX($J$16:$J$2822,MATCH(ROWS($J$16:J1379),$N$16:$N$2822,0)),\"\")","v":""}]
["18","06","02","3","180602","Gmina miejsko-wiejska","PODKARPACKIE","kolbuszowski","KOLBUSZOWA","KOLBUSZOWA - Gmina miejsko-wiejska / Powiat kolbuszowski / Województwo  - PODKARPACKIE / 180602 / ",84780378,90469678,{"$f":"ISNUMBER(SEARCH(Wyszukiwarka!$A$1,'Porównanie dochodów JST'!J1380))","v":false},{"$f":"IF(M1380,COUNTIF($M$16:M1380,TRUE),\"\")","v":""},{"$f":"IFERROR(INDEX($J$16:$J$2822,MATCH(ROWS($J$16:J1380),$N$16:$N$2822,0)),\"\")","v":""}]
["18","06","03","2","180603","Gmina wiejska","PODKARPACKIE","kolbuszowski","MAJDAN KRÓLEWSKI","MAJDAN KRÓLEWSKI - Gmina wiejska / Powiat kolbuszowski / Województwo  - PODKARPACKIE / 180603 / ",40768255,44261214,{"$f":"ISNUMBER(SEARCH(Wyszukiwarka!$A$1,'Porównanie dochodów JST'!J1381))","v":false},{"$f":"IF(M1381,COUNTIF($M$16:M1381,TRUE),\"\")","v":""},{"$f":"IFERROR(INDEX($J$16:$J$2822,MATCH(ROWS($J$16:J1381),$N$16:$N$2822,0)),\"\")","v":""}]
["18","06","04","2","180604","Gmina wiejska","PODKARPACKIE","kolbuszowski","NIWISKA","NIWISKA - Gmina wiejska / Powiat kolbuszowski / Województwo  - PODKARPACKIE / 180604 / ",29938393,33360302.267776437,{"$f":"ISNUMBER(SEARCH(Wyszukiwarka!$A$1,'Porównanie dochodów JST'!J1382))","v":false},{"$f":"IF(M1382,COUNTIF($M$16:M1382,TRUE),\"\")","v":""},{"$f":"IFERROR(INDEX($J$16:$J$2822,MATCH(ROWS($J$16:J1382),$N$16:$N$2822,0)),\"\")","v":""}]
["18","06","05","2","180605","Gmina wiejska","PODKARPACKIE","kolbuszowski","RANIŻÓW","RANIŻÓW - Gmina wiejska / Powiat kolbuszowski / Województwo  - PODKARPACKIE / 180605 / ",27760493,30909009.471283186,{"$f":"ISNUMBER(SEARCH(Wyszukiwarka!$A$1,'Porównanie dochodów JST'!J1383))","v":false},{"$f":"IF(M1383,COUNTIF($M$16:M1383,TRUE),\"\")","v":""},{"$f":"IFERROR(INDEX($J$16:$J$2822,MATCH(ROWS($J$16:J1383),$N$16:$N$2822,0)),\"\")","v":""}]
["18","06","06","2","180606","Gmina wiejska","PODKARPACKIE","kolbuszowski","DZIKOWIEC","DZIKOWIEC - Gmina wiejska / Powiat kolbuszowski / Województwo  - PODKARPACKIE / 180606 / ",29807286,34060874.226502955,{"$f":"ISNUMBER(SEARCH(Wyszukiwarka!$A$1,'Porównanie dochodów JST'!J1384))","v":false},{"$f":"IF(M1384,COUNTIF($M$16:M1384,TRUE),\"\")","v":""},{"$f":"IFERROR(INDEX($J$16:$J$2822,MATCH(ROWS($J$16:J1384),$N$16:$N$2822,0)),\"\")","v":""}]
["18","07","01","2","180701","Gmina wiejska","PODKARPACKIE","krośnieński","CHORKÓWKA","CHORKÓWKA - Gmina wiejska / Powiat krośnieński / Województwo  - PODKARPACKIE / 180701 / ",55216245,59447407,{"$f":"ISNUMBER(SEARCH(Wyszukiwarka!$A$1,'Porównanie dochodów JST'!J1385))","v":false},{"$f":"IF(M1385,COUNTIF($M$16:M1385,TRUE),\"\")","v":""},{"$f":"IFERROR(INDEX($J$16:$J$2822,MATCH(ROWS($J$16:J1385),$N$16:$N$2822,0)),\"\")","v":""}]
["18","07","02","3","180702","Gmina miejsko-wiejska","PODKARPACKIE","krośnieński","DUKLA","DUKLA - Gmina miejsko-wiejska / Powiat krośnieński / Województwo  - PODKARPACKIE / 180702 / ",58064310,62458032,{"$f":"ISNUMBER(SEARCH(Wyszukiwarka!$A$1,'Porównanie dochodów JST'!J1386))","v":false},{"$f":"IF(M1386,COUNTIF($M$16:M1386,TRUE),\"\")","v":""},{"$f":"IFERROR(INDEX($J$16:$J$2822,MATCH(ROWS($J$16:J1386),$N$16:$N$2822,0)),\"\")","v":""}]
["18","07","03","3","180703","Gmina miejsko-wiejska","PODKARPACKIE","krośnieński","IWONICZ-ZDRÓJ","IWONICZ-ZDRÓJ - Gmina miejsko-wiejska / Powiat krośnieński / Województwo  - PODKARPACKIE / 180703 / ",40506138,44442035.565088719,{"$f":"ISNUMBER(SEARCH(Wyszukiwarka!$A$1,'Porównanie dochodów JST'!J1387))","v":false},{"$f":"IF(M1387,COUNTIF($M$16:M1387,TRUE),\"\")","v":""},{"$f":"IFERROR(INDEX($J$16:$J$2822,MATCH(ROWS($J$16:J1387),$N$16:$N$2822,0)),\"\")","v":""}]
["18","07","04","3","180704","Gmina miejsko-wiejska","PODKARPACKIE","krośnieński","JEDLICZE","JEDLICZE - Gmina miejsko-wiejska / Powiat krośnieński / Województwo  - PODKARPACKIE / 180704 / ",47580751,51936683.935300015,{"$f":"ISNUMBER(SEARCH(Wyszukiwarka!$A$1,'Porównanie dochodów JST'!J1388))","v":false},{"$f":"IF(M1388,COUNTIF($M$16:M1388,TRUE),\"\")","v":""},{"$f":"IFERROR(INDEX($J$16:$J$2822,MATCH(ROWS($J$16:J1388),$N$16:$N$2822,0)),\"\")","v":""}]
["18","07","05","2","180705","Gmina wiejska","PODKARPACKIE","krośnieński","KORCZYNA","KORCZYNA - Gmina wiejska / Powiat krośnieński / Województwo  - PODKARPACKIE / 180705 / ",43654359,47647432,{"$f":"ISNUMBER(SEARCH(Wyszukiwarka!$A$1,'Porównanie dochodów JST'!J1389))","v":false},{"$f":"IF(M1389,COUNTIF($M$16:M1389,TRUE),\"\")","v":""},{"$f":"IFERROR(INDEX($J$16:$J$2822,MATCH(ROWS($J$16:J1389),$N$16:$N$2822,0)),\"\")","v":""}]
["18","07","06","2","180706","Gmina wiejska","PODKARPACKIE","krośnieński","KROŚCIENKO WYŻNE","KROŚCIENKO WYŻNE - Gmina wiejska / Powiat krośnieński / Województwo  - PODKARPACKIE / 180706 / ",19149440,21142851,{"$f":"ISNUMBER(SEARCH(Wyszukiwarka!$A$1,'Porównanie dochodów JST'!J1390))","v":false},{"$f":"IF(M1390,COUNTIF($M$16:M1390,TRUE),\"\")","v":""},{"$f":"IFERROR(INDEX($J$16:$J$2822,MATCH(ROWS($J$16:J1390),$N$16:$N$2822,0)),\"\")","v":""}]
["18","07","07","2","180707","Gmina wiejska","PODKARPACKIE","krośnieński","MIEJSCE PIASTOWE","MIEJSCE PIASTOWE - Gmina wiejska / Powiat krośnieński / Województwo  - PODKARPACKIE / 180707 / ",51137300,55330052.889604837,{"$f":"ISNUMBER(SEARCH(Wyszukiwarka!$A$1,'Porównanie dochodów JST'!J1391))","v":false},{"$f":"IF(M1391,COUNTIF($M$16:M1391,TRUE),\"\")","v":""},{"$f":"IFERROR(INDEX($J$16:$J$2822,MATCH(ROWS($J$16:J1391),$N$16:$N$2822,0)),\"\")","v":""}]
["18","07","08","3","180708","Gmina miejsko-wiejska","PODKARPACKIE","krośnieński","RYMANÓW","RYMANÓW - Gmina miejsko-wiejska / Powiat krośnieński / Województwo  - PODKARPACKIE / 180708 / ",78970079,83906682,{"$f":"ISNUMBER(SEARCH(Wyszukiwarka!$A$1,'Porównanie dochodów JST'!J1392))","v":false},{"$f":"IF(M1392,COUNTIF($M$16:M1392,TRUE),\"\")","v":""},{"$f":"IFERROR(INDEX($J$16:$J$2822,MATCH(ROWS($J$16:J1392),$N$16:$N$2822,0)),\"\")","v":""}]
["18","07","09","2","180709","Gmina wiejska","PODKARPACKIE","krośnieński","WOJASZÓWKA","WOJASZÓWKA - Gmina wiejska / Powiat krośnieński / Województwo  - PODKARPACKIE / 180709 / ",36356082,39682535,{"$f":"ISNUMBER(SEARCH(Wyszukiwarka!$A$1,'Porównanie dochodów JST'!J1393))","v":false},{"$f":"IF(M1393,COUNTIF($M$16:M1393,TRUE),\"\")","v":""},{"$f":"IFERROR(INDEX($J$16:$J$2822,MATCH(ROWS($J$16:J1393),$N$16:$N$2822,0)),\"\")","v":""}]
["18","07","10","2","180710","Gmina wiejska","PODKARPACKIE","krośnieński","JAŚLISKA","JAŚLISKA - Gmina wiejska / Powiat krośnieński / Województwo  - PODKARPACKIE / 180710 / ",9590933,10784013.9,{"$f":"ISNUMBER(SEARCH(Wyszukiwarka!$A$1,'Porównanie dochodów JST'!J1394))","v":false},{"$f":"IF(M1394,COUNTIF($M$16:M1394,TRUE),\"\")","v":""},{"$f":"IFERROR(INDEX($J$16:$J$2822,MATCH(ROWS($J$16:J1394),$N$16:$N$2822,0)),\"\")","v":""}]
["18","08","01","1","180801","Gmina miejska","PODKARPACKIE","leżajski","LEŻAJSK","LEŻAJSK - Gmina miejska / Powiat leżajski / Województwo  - PODKARPACKIE / 180801 / ",36070831,40993944.102600008,{"$f":"ISNUMBER(SEARCH(Wyszukiwarka!$A$1,'Porównanie dochodów JST'!J1395))","v":false},{"$f":"IF(M1395,COUNTIF($M$16:M1395,TRUE),\"\")","v":""},{"$f":"IFERROR(INDEX($J$16:$J$2822,MATCH(ROWS($J$16:J1395),$N$16:$N$2822,0)),\"\")","v":""}]
["18","08","02","2","180802","Gmina wiejska","PODKARPACKIE","leżajski","GRODZISKO DOLNE","GRODZISKO DOLNE - Gmina wiejska / Powiat leżajski / Województwo  - PODKARPACKIE / 180802 / ",30283024,32994456.725475773,{"$f":"ISNUMBER(SEARCH(Wyszukiwarka!$A$1,'Porównanie dochodów JST'!J1396))","v":false},{"$f":"IF(M1396,COUNTIF($M$16:M1396,TRUE),\"\")","v":""},{"$f":"IFERROR(INDEX($J$16:$J$2822,MATCH(ROWS($J$16:J1396),$N$16:$N$2822,0)),\"\")","v":""}]
["18","08","03","2","180803","Gmina wiejska","PODKARPACKIE","leżajski","KURYŁÓWKA","KURYŁÓWKA - Gmina wiejska / Powiat leżajski / Województwo  - PODKARPACKIE / 180803 / ",23805476,25888357.825047817,{"$f":"ISNUMBER(SEARCH(Wyszukiwarka!$A$1,'Porównanie dochodów JST'!J1397))","v":false},{"$f":"IF(M1397,COUNTIF($M$16:M1397,TRUE),\"\")","v":""},{"$f":"IFERROR(INDEX($J$16:$J$2822,MATCH(ROWS($J$16:J1397),$N$16:$N$2822,0)),\"\")","v":""}]
["18","08","04","2","180804","Gmina wiejska","PODKARPACKIE","leżajski","LEŻAJSK","LEŻAJSK - Gmina wiejska / Powiat leżajski / Województwo  - PODKARPACKIE / 180804 / ",73210755,78590049,{"$f":"ISNUMBER(SEARCH(Wyszukiwarka!$A$1,'Porównanie dochodów JST'!J1398))","v":false},{"$f":"IF(M1398,COUNTIF($M$16:M1398,TRUE),\"\")","v":""},{"$f":"IFERROR(INDEX($J$16:$J$2822,MATCH(ROWS($J$16:J1398),$N$16:$N$2822,0)),\"\")","v":""}]
["18","08","05","3","180805","Gmina miejsko-wiejska","PODKARPACKIE","leżajski","NOWA SARZYNA","NOWA SARZYNA - Gmina miejsko-wiejska / Powiat leżajski / Województwo  - PODKARPACKIE / 180805 / ",78118403,83597374,{"$f":"ISNUMBER(SEARCH(Wyszukiwarka!$A$1,'Porównanie dochodów JST'!J1399))","v":false},{"$f":"IF(M1399,COUNTIF($M$16:M1399,TRUE),\"\")","v":""},{"$f":"IFERROR(INDEX($J$16:$J$2822,MATCH(ROWS($J$16:J1399),$N$16:$N$2822,0)),\"\")","v":""}]
["18","09","01","1","180901","Gmina miejska","PODKARPACKIE","lubaczowski","LUBACZÓW","LUBACZÓW - Gmina miejska / Powiat lubaczowski / Województwo  - PODKARPACKIE / 180901 / ",39894650,43912387,{"$f":"ISNUMBER(SEARCH(Wyszukiwarka!$A$1,'Porównanie dochodów JST'!J1400))","v":false},{"$f":"IF(M1400,COUNTIF($M$16:M1400,TRUE),\"\")","v":""},{"$f":"IFERROR(INDEX($J$16:$J$2822,MATCH(ROWS($J$16:J1400),$N$16:$N$2822,0)),\"\")","v":""}]
["18","09","02","3","180902","Gmina miejsko-wiejska","PODKARPACKIE","lubaczowski","CIESZANÓW","CIESZANÓW - Gmina miejsko-wiejska / Powiat lubaczowski / Województwo  - PODKARPACKIE / 180902 / ",25066369,27743243.853069723,{"$f":"ISNUMBER(SEARCH(Wyszukiwarka!$A$1,'Porównanie dochodów JST'!J1401))","v":false},{"$f":"IF(M1401,COUNTIF($M$16:M1401,TRUE),\"\")","v":""},{"$f":"IFERROR(INDEX($J$16:$J$2822,MATCH(ROWS($J$16:J1401),$N$16:$N$2822,0)),\"\")","v":""}]
["18","09","03","2","180903","Gmina wiejska","PODKARPACKIE","lubaczowski","HORYNIEC-ZDRÓJ","HORYNIEC-ZDRÓJ - Gmina wiejska / Powiat lubaczowski / Województwo  - PODKARPACKIE / 180903 / ",16607391,18544336,{"$f":"ISNUMBER(SEARCH(Wyszukiwarka!$A$1,'Porównanie dochodów JST'!J1402))","v":false},{"$f":"IF(M1402,COUNTIF($M$16:M1402,TRUE),\"\")","v":""},{"$f":"IFERROR(INDEX($J$16:$J$2822,MATCH(ROWS($J$16:J1402),$N$16:$N$2822,0)),\"\")","v":""}]
["18","09","04","2","180904","Gmina wiejska","PODKARPACKIE","lubaczowski","LUBACZÓW","LUBACZÓW - Gmina wiejska / Powiat lubaczowski / Województwo  - PODKARPACKIE / 180904 / ",37480076,40879623.941520661,{"$f":"ISNUMBER(SEARCH(Wyszukiwarka!$A$1,'Porównanie dochodów JST'!J1403))","v":false},{"$f":"IF(M1403,COUNTIF($M$16:M1403,TRUE),\"\")","v":""},{"$f":"IFERROR(INDEX($J$16:$J$2822,MATCH(ROWS($J$16:J1403),$N$16:$N$2822,0)),\"\")","v":""}]
["18","09","05","3","180905","Gmina miejsko-wiejska","PODKARPACKIE","lubaczowski","NAROL","NAROL - Gmina miejsko-wiejska / Powiat lubaczowski / Województwo  - PODKARPACKIE / 180905 / ",31259439,34045798,{"$f":"ISNUMBER(SEARCH(Wyszukiwarka!$A$1,'Porównanie dochodów JST'!J1404))","v":false},{"$f":"IF(M1404,COUNTIF($M$16:M1404,TRUE),\"\")","v":""},{"$f":"IFERROR(INDEX($J$16:$J$2822,MATCH(ROWS($J$16:J1404),$N$16:$N$2822,0)),\"\")","v":""}]
["18","09","06","3","180906","Gmina miejsko-wiejska","PODKARPACKIE","lubaczowski","OLESZYCE","OLESZYCE - Gmina miejsko-wiejska / Powiat lubaczowski / Województwo  - PODKARPACKIE / 180906 / ",25532744,28146224,{"$f":"ISNUMBER(SEARCH(Wyszukiwarka!$A$1,'Porównanie dochodów JST'!J1405))","v":false},{"$f":"IF(M1405,COUNTIF($M$16:M1405,TRUE),\"\")","v":""},{"$f":"IFERROR(INDEX($J$16:$J$2822,MATCH(ROWS($J$16:J1405),$N$16:$N$2822,0)),\"\")","v":""}]
["18","09","07","2","180907","Gmina wiejska","PODKARPACKIE","lubaczowski","STARY DZIKÓW","STARY DZIKÓW - Gmina wiejska / Powiat lubaczowski / Województwo  - PODKARPACKIE / 180907 / ",15067126,16469419,{"$f":"ISNUMBER(SEARCH(Wyszukiwarka!$A$1,'Porównanie dochodów JST'!J1406))","v":false},{"$f":"IF(M1406,COUNTIF($M$16:M1406,TRUE),\"\")","v":""},{"$f":"IFERROR(INDEX($J$16:$J$2822,MATCH(ROWS($J$16:J1406),$N$16:$N$2822,0)),\"\")","v":""}]
["18","09","08","2","180908","Gmina wiejska","PODKARPACKIE","lubaczowski","WIELKIE OCZY","WIELKIE OCZY - Gmina wiejska / Powiat lubaczowski / Województwo  - PODKARPACKIE / 180908 / ",17235608,18608015,{"$f":"ISNUMBER(SEARCH(Wyszukiwarka!$A$1,'Porównanie dochodów JST'!J1407))","v":false},{"$f":"IF(M1407,COUNTIF($M$16:M1407,TRUE),\"\")","v":""},{"$f":"IFERROR(INDEX($J$16:$J$2822,MATCH(ROWS($J$16:J1407),$N$16:$N$2822,0)),\"\")","v":""}]
["18","10","01","1","181001","Gmina miejska","PODKARPACKIE","łańcucki","ŁAŃCUT","ŁAŃCUT - Gmina miejska / Powiat łańcucki / Województwo  - PODKARPACKIE / 181001 / ",66158562,73244538.657122254,{"$f":"ISNUMBER(SEARCH(Wyszukiwarka!$A$1,'Porównanie dochodów JST'!J1408))","v":false},{"$f":"IF(M1408,COUNTIF($M$16:M1408,TRUE),\"\")","v":""},{"$f":"IFERROR(INDEX($J$16:$J$2822,MATCH(ROWS($J$16:J1408),$N$16:$N$2822,0)),\"\")","v":""}]
["18","10","02","2","181002","Gmina wiejska","PODKARPACKIE","łańcucki","BIAŁOBRZEGI","BIAŁOBRZEGI - Gmina wiejska / Powiat łańcucki / Województwo  - PODKARPACKIE / 181002 / ",34464272,37749883.6477433,{"$f":"ISNUMBER(SEARCH(Wyszukiwarka!$A$1,'Porównanie dochodów JST'!J1409))","v":false},{"$f":"IF(M1409,COUNTIF($M$16:M1409,TRUE),\"\")","v":""},{"$f":"IFERROR(INDEX($J$16:$J$2822,MATCH(ROWS($J$16:J1409),$N$16:$N$2822,0)),\"\")","v":""}]
["18","10","03","2","181003","Gmina wiejska","PODKARPACKIE","łańcucki","CZARNA","CZARNA - Gmina wiejska / Powiat łańcucki / Województwo  - PODKARPACKIE / 181003 / ",46482082,52050136.469374284,{"$f":"ISNUMBER(SEARCH(Wyszukiwarka!$A$1,'Porównanie dochodów JST'!J1410))","v":false},{"$f":"IF(M1410,COUNTIF($M$16:M1410,TRUE),\"\")","v":""},{"$f":"IFERROR(INDEX($J$16:$J$2822,MATCH(ROWS($J$16:J1410),$N$16:$N$2822,0)),\"\")","v":""}]
["18","10","04","2","181004","Gmina wiejska","PODKARPACKIE","łańcucki","ŁAŃCUT","ŁAŃCUT - Gmina wiejska / Powiat łańcucki / Województwo  - PODKARPACKIE / 181004 / ",91936739,97624680.133533478,{"$f":"ISNUMBER(SEARCH(Wyszukiwarka!$A$1,'Porównanie dochodów JST'!J1411))","v":false},{"$f":"IF(M1411,COUNTIF($M$16:M1411,TRUE),\"\")","v":""},{"$f":"IFERROR(INDEX($J$16:$J$2822,MATCH(ROWS($J$16:J1411),$N$16:$N$2822,0)),\"\")","v":""}]
["18","10","05","2","181005","Gmina wiejska","PODKARPACKIE","łańcucki","MARKOWA","MARKOWA - Gmina wiejska / Powiat łańcucki / Województwo  - PODKARPACKIE / 181005 / ",26148574,28739347,{"$f":"ISNUMBER(SEARCH(Wyszukiwarka!$A$1,'Porównanie dochodów JST'!J1412))","v":false},{"$f":"IF(M1412,COUNTIF($M$16:M1412,TRUE),\"\")","v":""},{"$f":"IFERROR(INDEX($J$16:$J$2822,MATCH(ROWS($J$16:J1412),$N$16:$N$2822,0)),\"\")","v":""}]
["18","10","06","2","181006","Gmina wiejska","PODKARPACKIE","łańcucki","RAKSZAWA","RAKSZAWA - Gmina wiejska / Powiat łańcucki / Województwo  - PODKARPACKIE / 181006 / ",28762007,32978877.119999997,{"$f":"ISNUMBER(SEARCH(Wyszukiwarka!$A$1,'Porównanie dochodów JST'!J1413))","v":false},{"$f":"IF(M1413,COUNTIF($M$16:M1413,TRUE),\"\")","v":""},{"$f":"IFERROR(INDEX($J$16:$J$2822,MATCH(ROWS($J$16:J1413),$N$16:$N$2822,0)),\"\")","v":""}]
["18","10","07","2","181007","Gmina wiejska","PODKARPACKIE","łańcucki","ŻOŁYNIA","ŻOŁYNIA - Gmina wiejska / Powiat łańcucki / Województwo  - PODKARPACKIE / 181007 / ",28102663,30745927,{"$f":"ISNUMBER(SEARCH(Wyszukiwarka!$A$1,'Porównanie dochodów JST'!J1414))","v":false},{"$f":"IF(M1414,COUNTIF($M$16:M1414,TRUE),\"\")","v":""},{"$f":"IFERROR(INDEX($J$16:$J$2822,MATCH(ROWS($J$16:J1414),$N$16:$N$2822,0)),\"\")","v":""}]
["18","11","01","1","181101","Gmina miejska","PODKARPACKIE","mielecki","MIELEC","MIELEC - Gmina miejska / Powiat mielecki / Województwo  - PODKARPACKIE / 181101 / ",215201754,236283044.83545008,{"$f":"ISNUMBER(SEARCH(Wyszukiwarka!$A$1,'Porównanie dochodów JST'!J1415))","v":false},{"$f":"IF(M1415,COUNTIF($M$16:M1415,TRUE),\"\")","v":""},{"$f":"IFERROR(INDEX($J$16:$J$2822,MATCH(ROWS($J$16:J1415),$N$16:$N$2822,0)),\"\")","v":""}]
["18","11","02","2","181102","Gmina wiejska","PODKARPACKIE","mielecki","BOROWA","BOROWA - Gmina wiejska / Powiat mielecki / Województwo  - PODKARPACKIE / 181102 / ",21065379,23051428.50464515,{"$f":"ISNUMBER(SEARCH(Wyszukiwarka!$A$1,'Porównanie dochodów JST'!J1416))","v":false},{"$f":"IF(M1416,COUNTIF($M$16:M1416,TRUE),\"\")","v":""},{"$f":"IFERROR(INDEX($J$16:$J$2822,MATCH(ROWS($J$16:J1416),$N$16:$N$2822,0)),\"\")","v":""}]
["18","11","03","2","181103","Gmina wiejska","PODKARPACKIE","mielecki","CZERMIN","CZERMIN - Gmina wiejska / Powiat mielecki / Województwo  - PODKARPACKIE / 181103 / ",29694357,32358557.968065687,{"$f":"ISNUMBER(SEARCH(Wyszukiwarka!$A$1,'Porównanie dochodów JST'!J1417))","v":false},{"$f":"IF(M1417,COUNTIF($M$16:M1417,TRUE),\"\")","v":""},{"$f":"IFERROR(INDEX($J$16:$J$2822,MATCH(ROWS($J$16:J1417),$N$16:$N$2822,0)),\"\")","v":""}]
["18","11","04","2","181104","Gmina wiejska","PODKARPACKIE","mielecki","GAWŁUSZOWICE","GAWŁUSZOWICE - Gmina wiejska / Powiat mielecki / Województwo  - PODKARPACKIE / 181104 / ",10377987,11640041,{"$f":"ISNUMBER(SEARCH(Wyszukiwarka!$A$1,'Porównanie dochodów JST'!J1418))","v":false},{"$f":"IF(M1418,COUNTIF($M$16:M1418,TRUE),\"\")","v":""},{"$f":"IFERROR(INDEX($J$16:$J$2822,MATCH(ROWS($J$16:J1418),$N$16:$N$2822,0)),\"\")","v":""}]
["18","11","05","2","181105","Gmina wiejska","PODKARPACKIE","mielecki","MIELEC","MIELEC - Gmina wiejska / Powiat mielecki / Województwo  - PODKARPACKIE / 181105 / ",54142711,58425629,{"$f":"ISNUMBER(SEARCH(Wyszukiwarka!$A$1,'Porównanie dochodów JST'!J1419))","v":false},{"$f":"IF(M1419,COUNTIF($M$16:M1419,TRUE),\"\")","v":""},{"$f":"IFERROR(INDEX($J$16:$J$2822,MATCH(ROWS($J$16:J1419),$N$16:$N$2822,0)),\"\")","v":""}]
["18","11","06","2","181106","Gmina wiejska","PODKARPACKIE","mielecki","PADEW NARODOWA","PADEW NARODOWA - Gmina wiejska / Powiat mielecki / Województwo  - PODKARPACKIE / 181106 / ",20417578,22414760.942508738,{"$f":"ISNUMBER(SEARCH(Wyszukiwarka!$A$1,'Porównanie dochodów JST'!J1420))","v":false},{"$f":"IF(M1420,COUNTIF($M$16:M1420,TRUE),\"\")","v":""},{"$f":"IFERROR(INDEX($J$16:$J$2822,MATCH(ROWS($J$16:J1420),$N$16:$N$2822,0)),\"\")","v":""}]
["18","11","07","3","181107","Gmina miejsko-wiejska","PODKARPACKIE","mielecki","PRZECŁAW","PRZECŁAW - Gmina miejsko-wiejska / Powiat mielecki / Województwo  - PODKARPACKIE / 181107 / ",51133693,55278132.758862071,{"$f":"ISNUMBER(SEARCH(Wyszukiwarka!$A$1,'Porównanie dochodów JST'!J1421))","v":false},{"$f":"IF(M1421,COUNTIF($M$16:M1421,TRUE),\"\")","v":""},{"$f":"IFERROR(INDEX($J$16:$J$2822,MATCH(ROWS($J$16:J1421),$N$16:$N$2822,0)),\"\")","v":""}]
["18","11","08","3","181108","Gmina miejsko-wiejska","PODKARPACKIE","mielecki","RADOMYŚL WIELKI","RADOMYŚL WIELKI - Gmina miejsko-wiejska / Powiat mielecki / Województwo  - PODKARPACKIE / 181108 / ",66310281,75793472.159999996,{"$f":"ISNUMBER(SEARCH(Wyszukiwarka!$A$1,'Porównanie dochodów JST'!J1422))","v":false},{"$f":"IF(M1422,COUNTIF($M$16:M1422,TRUE),\"\")","v":""},{"$f":"IFERROR(INDEX($J$16:$J$2822,MATCH(ROWS($J$16:J1422),$N$16:$N$2822,0)),\"\")","v":""}]
["18","11","09","2","181109","Gmina wiejska","PODKARPACKIE","mielecki","TUSZÓW NARODOWY","TUSZÓW NARODOWY - Gmina wiejska / Powiat mielecki / Województwo  - PODKARPACKIE / 181109 / ",31484784,34761423.839037076,{"$f":"ISNUMBER(SEARCH(Wyszukiwarka!$A$1,'Porównanie dochodów JST'!J1423))","v":false},{"$f":"IF(M1423,COUNTIF($M$16:M1423,TRUE),\"\")","v":""},{"$f":"IFERROR(INDEX($J$16:$J$2822,MATCH(ROWS($J$16:J1423),$N$16:$N$2822,0)),\"\")","v":""}]
["18","11","10","2","181110","Gmina wiejska","PODKARPACKIE","mielecki","WADOWICE GÓRNE","WADOWICE GÓRNE - Gmina wiejska / Powiat mielecki / Województwo  - PODKARPACKIE / 181110 / ",30165880,32891833,{"$f":"ISNUMBER(SEARCH(Wyszukiwarka!$A$1,'Porównanie dochodów JST'!J1424))","v":false},{"$f":"IF(M1424,COUNTIF($M$16:M1424,TRUE),\"\")","v":""},{"$f":"IFERROR(INDEX($J$16:$J$2822,MATCH(ROWS($J$16:J1424),$N$16:$N$2822,0)),\"\")","v":""}]
["18","12","01","2","181201","Gmina wiejska","PODKARPACKIE","niżański","HARASIUKI",{"$f":"I1425&$H$12&F1425&$G$12&$H$14&H1425&$G$12&$G$14&$H$12&G1425&$G$12&E1425&$G$12","v":"HARASIUKI - Gmina wiejska / Powiat niżański / Województwo  - PODKARPACKIE / 181201 / "},26518189,28632357,{"$f":"ISNUMBER(SEARCH(Wyszukiwarka!$A$1,'Porównanie dochodów JST'!J1425))","v":false},{"$f":"IF(M1425,COUNTIF($M$16:M1425,TRUE),\"\")","v":""},{"$f":"IFERROR(INDEX($J$16:$J$2822,MATCH(ROWS($J$16:J1425),$N$16:$N$2822,0)),\"\")","v":""}]
["18","12","02","2","181202","Gmina wiejska","PODKARPACKIE","niżański","JAROCIN","JAROCIN - Gmina wiejska / Powiat niżański / Województwo  - PODKARPACKIE / 181202 / ",21259745,23286058.773958057,{"$f":"ISNUMBER(SEARCH(Wyszukiwarka!$A$1,'Porównanie dochodów JST'!J1426))","v":false},{"$f":"IF(M1426,COUNTIF($M$16:M1426,TRUE),\"\")","v":""},{"$f":"IFERROR(INDEX($J$16:$J$2822,MATCH(ROWS($J$16:J1426),$N$16:$N$2822,0)),\"\")","v":""}]
["18","12","03","2","181203","Gmina wiejska","PODKARPACKIE","niżański","JEŻOWE","JEŻOWE - Gmina wiejska / Powiat niżański / Województwo  - PODKARPACKIE / 181203 / ",49632601,55914226.966770515,{"$f":"ISNUMBER(SEARCH(Wyszukiwarka!$A$1,'Porównanie dochodów JST'!J1427))","v":false},{"$f":"IF(M1427,COUNTIF($M$16:M1427,TRUE),\"\")","v":""},{"$f":"IFERROR(INDEX($J$16:$J$2822,MATCH(ROWS($J$16:J1427),$N$16:$N$2822,0)),\"\")","v":""}]
["18","12","04","2","181204","Gmina wiejska","PODKARPACKIE","niżański","KRZESZÓW","KRZESZÓW - Gmina wiejska / Powiat niżański / Województwo  - PODKARPACKIE / 181204 / ",14347520,16229211.544024479,{"$f":"ISNUMBER(SEARCH(Wyszukiwarka!$A$1,'Porównanie dochodów JST'!J1428))","v":false},{"$f":"IF(M1428,COUNTIF($M$16:M1428,TRUE),\"\")","v":""},{"$f":"IFERROR(INDEX($J$16:$J$2822,MATCH(ROWS($J$16:J1428),$N$16:$N$2822,0)),\"\")","v":""}]
["18","12","05","3","181205","Gmina miejsko-wiejska","PODKARPACKIE","niżański","NISKO","NISKO - Gmina miejsko-wiejska / Powiat niżański / Województwo  - PODKARPACKIE / 181205 / ",68606376,74044407.667533785,{"$f":"ISNUMBER(SEARCH(Wyszukiwarka!$A$1,'Porównanie dochodów JST'!J1429))","v":false},{"$f":"IF(M1429,COUNTIF($M$16:M1429,TRUE),\"\")","v":""},{"$f":"IFERROR(INDEX($J$16:$J$2822,MATCH(ROWS($J$16:J1429),$N$16:$N$2822,0)),\"\")","v":""}]
["18","12","06","3","181206","Gmina miejsko-wiejska","PODKARPACKIE","niżański","RUDNIK NAD SANEM","RUDNIK NAD SANEM - Gmina miejsko-wiejska / Powiat niżański / Województwo  - PODKARPACKIE / 181206 / ",33854999,37249186,{"$f":"ISNUMBER(SEARCH(Wyszukiwarka!$A$1,'Porównanie dochodów JST'!J1430))","v":false},{"$f":"IF(M1430,COUNTIF($M$16:M1430,TRUE),\"\")","v":""},{"$f":"IFERROR(INDEX($J$16:$J$2822,MATCH(ROWS($J$16:J1430),$N$16:$N$2822,0)),\"\")","v":""}]
["18","12","07","3","181207","Gmina miejsko-wiejska","PODKARPACKIE","niżański","ULANÓW","ULANÓW - Gmina miejsko-wiejska / Powiat niżański / Województwo  - PODKARPACKIE / 181207 / ",31394899,34188732.668583557,{"$f":"ISNUMBER(SEARCH(Wyszukiwarka!$A$1,'Porównanie dochodów JST'!J1431))","v":false},{"$f":"IF(M1431,COUNTIF($M$16:M1431,TRUE),\"\")","v":""},{"$f":"IFERROR(INDEX($J$16:$J$2822,MATCH(ROWS($J$16:J1431),$N$16:$N$2822,0)),\"\")","v":""}]
["18","13","01","2","181301","Gmina wiejska","PODKARPACKIE","przemyski","BIRCZA","BIRCZA - Gmina wiejska / Powiat przemyski / Województwo  - PODKARPACKIE / 181301 / ",22461298,25826013.919999998,{"$f":"ISNUMBER(SEARCH(Wyszukiwarka!$A$1,'Porównanie dochodów JST'!J1432))","v":false},{"$f":"IF(M1432,COUNTIF($M$16:M1432,TRUE),\"\")","v":""},{"$f":"IFERROR(INDEX($J$16:$J$2822,MATCH(ROWS($J$16:J1432),$N$16:$N$2822,0)),\"\")","v":""}]
["18","13","02","2","181302","Gmina wiejska","PODKARPACKIE","przemyski","DUBIECKO","DUBIECKO - Gmina wiejska / Powiat przemyski / Województwo  - PODKARPACKIE / 181302 / ",39770958,45545160.640000001,{"$f":"ISNUMBER(SEARCH(Wyszukiwarka!$A$1,'Porównanie dochodów JST'!J1433))","v":false},{"$f":"IF(M1433,COUNTIF($M$16:M1433,TRUE),\"\")","v":""},{"$f":"IFERROR(INDEX($J$16:$J$2822,MATCH(ROWS($J$16:J1433),$N$16:$N$2822,0)),\"\")","v":""}]
["18","13","03","2","181303","Gmina wiejska","PODKARPACKIE","przemyski","FREDROPOL","FREDROPOL - Gmina wiejska / Powiat przemyski / Województwo  - PODKARPACKIE / 181303 / ",20419137,22434452,{"$f":"ISNUMBER(SEARCH(Wyszukiwarka!$A$1,'Porównanie dochodów JST'!J1434))","v":false},{"$f":"IF(M1434,COUNTIF($M$16:M1434,TRUE),\"\")","v":""},{"$f":"IFERROR(INDEX($J$16:$J$2822,MATCH(ROWS($J$16:J1434),$N$16:$N$2822,0)),\"\")","v":""}]
["18","13","04","2","181304","Gmina wiejska","PODKARPACKIE","przemyski","KRASICZYN","KRASICZYN - Gmina wiejska / Powiat przemyski / Województwo  - PODKARPACKIE / 181304 / ",18845611,20870220,{"$f":"ISNUMBER(SEARCH(Wyszukiwarka!$A$1,'Porównanie dochodów JST'!J1435))","v":false},{"$f":"IF(M1435,COUNTIF($M$16:M1435,TRUE),\"\")","v":""},{"$f":"IFERROR(INDEX($J$16:$J$2822,MATCH(ROWS($J$16:J1435),$N$16:$N$2822,0)),\"\")","v":""}]
["18","13","05","2","181305","Gmina wiejska","PODKARPACKIE","przemyski","KRZYWCZA","KRZYWCZA - Gmina wiejska / Powiat przemyski / Województwo  - PODKARPACKIE / 181305 / ",21627089,24741268.16,{"$f":"ISNUMBER(SEARCH(Wyszukiwarka!$A$1,'Porównanie dochodów JST'!J1436))","v":false},{"$f":"IF(M1436,COUNTIF($M$16:M1436,TRUE),\"\")","v":""},{"$f":"IFERROR(INDEX($J$16:$J$2822,MATCH(ROWS($J$16:J1436),$N$16:$N$2822,0)),\"\")","v":""}]
["18","13","06","2","181306","Gmina wiejska","PODKARPACKIE","przemyski","MEDYKA","MEDYKA - Gmina wiejska / Powiat przemyski / Województwo  - PODKARPACKIE / 181306 / ",21449456,24023042,{"$f":"ISNUMBER(SEARCH(Wyszukiwarka!$A$1,'Porównanie dochodów JST'!J1437))","v":false},{"$f":"IF(M1437,COUNTIF($M$16:M1437,TRUE),\"\")","v":""},{"$f":"IFERROR(INDEX($J$16:$J$2822,MATCH(ROWS($J$16:J1437),$N$16:$N$2822,0)),\"\")","v":""}]
["18","13","07","2","181307","Gmina wiejska","PODKARPACKIE","przemyski","ORŁY","ORŁY - Gmina wiejska / Powiat przemyski / Województwo  - PODKARPACKIE / 181307 / ",39529385,45107433.280000001,{"$f":"ISNUMBER(SEARCH(Wyszukiwarka!$A$1,'Porównanie dochodów JST'!J1438))","v":false},{"$f":"IF(M1438,COUNTIF($M$16:M1438,TRUE),\"\")","v":""},{"$f":"IFERROR(INDEX($J$16:$J$2822,MATCH(ROWS($J$16:J1438),$N$16:$N$2822,0)),\"\")","v":""}]
["18","13","08","2","181308","Gmina wiejska","PODKARPACKIE","przemyski","PRZEMYŚL","PRZEMYŚL - Gmina wiejska / Powiat przemyski / Województwo  - PODKARPACKIE / 181308 / ",39199110,43204887.967820376,{"$f":"ISNUMBER(SEARCH(Wyszukiwarka!$A$1,'Porównanie dochodów JST'!J1439))","v":false},{"$f":"IF(M1439,COUNTIF($M$16:M1439,TRUE),\"\")","v":""},{"$f":"IFERROR(INDEX($J$16:$J$2822,MATCH(ROWS($J$16:J1439),$N$16:$N$2822,0)),\"\")","v":""}]
["18","13","09","2","181309","Gmina wiejska","PODKARPACKIE","przemyski","STUBNO","STUBNO - Gmina wiejska / Powiat przemyski / Województwo  - PODKARPACKIE / 181309 / ",14679878,16050283.943711743,{"$f":"ISNUMBER(SEARCH(Wyszukiwarka!$A$1,'Porównanie dochodów JST'!J1440))","v":false},{"$f":"IF(M1440,COUNTIF($M$16:M1440,TRUE),\"\")","v":""},{"$f":"IFERROR(INDEX($J$16:$J$2822,MATCH(ROWS($J$16:J1440),$N$16:$N$2822,0)),\"\")","v":""}]
["18","13","10","2","181310","Gmina wiejska","PODKARPACKIE","przemyski","ŻURAWICA","ŻURAWICA - Gmina wiejska / Powiat przemyski / Województwo  - PODKARPACKIE / 181310 / ",46158207,50267251,{"$f":"ISNUMBER(SEARCH(Wyszukiwarka!$A$1,'Porównanie dochodów JST'!J1441))","v":false},{"$f":"IF(M1441,COUNTIF($M$16:M1441,TRUE),\"\")","v":""},{"$f":"IFERROR(INDEX($J$16:$J$2822,MATCH(ROWS($J$16:J1441),$N$16:$N$2822,0)),\"\")","v":""}]
["18","14","01","1","181401","Gmina miejska","PODKARPACKIE","przeworski","PRZEWORSK","PRZEWORSK - Gmina miejska / Powiat przeworski / Województwo  - PODKARPACKIE / 181401 / ",52999598,57364462.8936169,{"$f":"ISNUMBER(SEARCH(Wyszukiwarka!$A$1,'Porównanie dochodów JST'!J1442))","v":false},{"$f":"IF(M1442,COUNTIF($M$16:M1442,TRUE),\"\")","v":""},{"$f":"IFERROR(INDEX($J$16:$J$2822,MATCH(ROWS($J$16:J1442),$N$16:$N$2822,0)),\"\")","v":""}]
["18","14","02","2","181402","Gmina wiejska","PODKARPACKIE","przeworski","ADAMÓWKA","ADAMÓWKA - Gmina wiejska / Powiat przeworski / Województwo  - PODKARPACKIE / 181402 / ",15862951,17795029,{"$f":"ISNUMBER(SEARCH(Wyszukiwarka!$A$1,'Porównanie dochodów JST'!J1443))","v":false},{"$f":"IF(M1443,COUNTIF($M$16:M1443,TRUE),\"\")","v":""},{"$f":"IFERROR(INDEX($J$16:$J$2822,MATCH(ROWS($J$16:J1443),$N$16:$N$2822,0)),\"\")","v":""}]
["18","14","03","2","181403","Gmina wiejska","PODKARPACKIE","przeworski","GAĆ","GAĆ - Gmina wiejska / Powiat przeworski / Województwo  - PODKARPACKIE / 181403 / ",17875392,19774920,{"$f":"ISNUMBER(SEARCH(Wyszukiwarka!$A$1,'Porównanie dochodów JST'!J1444))","v":false},{"$f":"IF(M1444,COUNTIF($M$16:M1444,TRUE),\"\")","v":""},{"$f":"IFERROR(INDEX($J$16:$J$2822,MATCH(ROWS($J$16:J1444),$N$16:$N$2822,0)),\"\")","v":""}]
["18","14","04","2","181404","Gmina wiejska","PODKARPACKIE","przeworski","JAWORNIK POLSKI","JAWORNIK POLSKI - Gmina wiejska / Powiat przeworski / Województwo  - PODKARPACKIE / 181404 / ",18996097,21745414.879999999,{"$f":"ISNUMBER(SEARCH(Wyszukiwarka!$A$1,'Porównanie dochodów JST'!J1445))","v":false},{"$f":"IF(M1445,COUNTIF($M$16:M1445,TRUE),\"\")","v":""},{"$f":"IFERROR(INDEX($J$16:$J$2822,MATCH(ROWS($J$16:J1445),$N$16:$N$2822,0)),\"\")","v":""}]
["18","14","05","3","181405","Gmina miejsko-wiejska","PODKARPACKIE","przeworski","KAŃCZUGA","KAŃCZUGA - Gmina miejsko-wiejska / Powiat przeworski / Województwo  - PODKARPACKIE / 181405 / ",51017969,55081357,{"$f":"ISNUMBER(SEARCH(Wyszukiwarka!$A$1,'Porównanie dochodów JST'!J1446))","v":false},{"$f":"IF(M1446,COUNTIF($M$16:M1446,TRUE),\"\")","v":""},{"$f":"IFERROR(INDEX($J$16:$J$2822,MATCH(ROWS($J$16:J1446),$N$16:$N$2822,0)),\"\")","v":""}]
["18","14","06","2","181406","Gmina wiejska","PODKARPACKIE","przeworski","PRZEWORSK","PRZEWORSK - Gmina wiejska / Powiat przeworski / Województwo  - PODKARPACKIE / 181406 / ",56577741,60877093.825628012,{"$f":"ISNUMBER(SEARCH(Wyszukiwarka!$A$1,'Porównanie dochodów JST'!J1447))","v":false},{"$f":"IF(M1447,COUNTIF($M$16:M1447,TRUE),\"\")","v":""},{"$f":"IFERROR(INDEX($J$16:$J$2822,MATCH(ROWS($J$16:J1447),$N$16:$N$2822,0)),\"\")","v":""}]
["18","14","07","3","181407","Gmina miejsko-wiejska","PODKARPACKIE","przeworski","SIENIAWA","SIENIAWA - Gmina miejsko-wiejska / Powiat przeworski / Województwo  - PODKARPACKIE / 181407 / ",26792069,29475264,{"$f":"ISNUMBER(SEARCH(Wyszukiwarka!$A$1,'Porównanie dochodów JST'!J1448))","v":false},{"$f":"IF(M1448,COUNTIF($M$16:M1448,TRUE),\"\")","v":""},{"$f":"IFERROR(INDEX($J$16:$J$2822,MATCH(ROWS($J$16:J1448),$N$16:$N$2822,0)),\"\")","v":""}]
["18","14","08","2","181408","Gmina wiejska","PODKARPACKIE","przeworski","TRYŃCZA","TRYŃCZA - Gmina wiejska / Powiat przeworski / Województwo  - PODKARPACKIE / 181408 / ",31366748,34636104,{"$f":"ISNUMBER(SEARCH(Wyszukiwarka!$A$1,'Porównanie dochodów JST'!J1449))","v":false},{"$f":"IF(M1449,COUNTIF($M$16:M1449,TRUE),\"\")","v":""},{"$f":"IFERROR(INDEX($J$16:$J$2822,MATCH(ROWS($J$16:J1449),$N$16:$N$2822,0)),\"\")","v":""}]
["18","14","09","2","181409","Gmina wiejska","PODKARPACKIE","przeworski","ZARZECZE","ZARZECZE - Gmina wiejska / Powiat przeworski / Województwo  - PODKARPACKIE / 181409 / ",38477905,41117448,{"$f":"ISNUMBER(SEARCH(Wyszukiwarka!$A$1,'Porównanie dochodów JST'!J1450))","v":false},{"$f":"IF(M1450,COUNTIF($M$16:M1450,TRUE),\"\")","v":""},{"$f":"IFERROR(INDEX($J$16:$J$2822,MATCH(ROWS($J$16:J1450),$N$16:$N$2822,0)),\"\")","v":""}]
["18","15","01","2","181501","Gmina wiejska","PODKARPACKIE","ropczycko-sędziszowski","IWIERZYCE","IWIERZYCE - Gmina wiejska / Powiat ropczycko-sędziszowski / Województwo  - PODKARPACKIE / 181501 / ",31140492,33825283.537524194,{"$f":"ISNUMBER(SEARCH(Wyszukiwarka!$A$1,'Porównanie dochodów JST'!J1451))","v":false},{"$f":"IF(M1451,COUNTIF($M$16:M1451,TRUE),\"\")","v":""},{"$f":"IFERROR(INDEX($J$16:$J$2822,MATCH(ROWS($J$16:J1451),$N$16:$N$2822,0)),\"\")","v":""}]
["18","15","02","2","181502","Gmina wiejska","PODKARPACKIE","ropczycko-sędziszowski","OSTRÓW","OSTRÓW - Gmina wiejska / Powiat ropczycko-sędziszowski / Województwo  - PODKARPACKIE / 181502 / ",31257101,33991073.557511635,{"$f":"ISNUMBER(SEARCH(Wyszukiwarka!$A$1,'Porównanie dochodów JST'!J1452))","v":false},{"$f":"IF(M1452,COUNTIF($M$16:M1452,TRUE),\"\")","v":""},{"$f":"IFERROR(INDEX($J$16:$J$2822,MATCH(ROWS($J$16:J1452),$N$16:$N$2822,0)),\"\")","v":""}]
["18","15","03","3","181503","Gmina miejsko-wiejska","PODKARPACKIE","ropczycko-sędziszowski","ROPCZYCE","ROPCZYCE - Gmina miejsko-wiejska / Powiat ropczycko-sędziszowski / Województwo  - PODKARPACKIE / 181503 / ",96948113,103401396.85874151,{"$f":"ISNUMBER(SEARCH(Wyszukiwarka!$A$1,'Porównanie dochodów JST'!J1453))","v":false},{"$f":"IF(M1453,COUNTIF($M$16:M1453,TRUE),\"\")","v":""},{"$f":"IFERROR(INDEX($J$16:$J$2822,MATCH(ROWS($J$16:J1453),$N$16:$N$2822,0)),\"\")","v":""}]
["18","15","04","3","181504","Gmina miejsko-wiejska","PODKARPACKIE","ropczycko-sędziszowski","SĘDZISZÓW MAŁOPOLSKI","SĘDZISZÓW MAŁOPOLSKI - Gmina miejsko-wiejska / Powiat ropczycko-sędziszowski / Województwo  - PODKARPACKIE / 181504 / ",91911986,97827941.104723811,{"$f":"ISNUMBER(SEARCH(Wyszukiwarka!$A$1,'Porównanie dochodów JST'!J1454))","v":false},{"$f":"IF(M1454,COUNTIF($M$16:M1454,TRUE),\"\")","v":""},{"$f":"IFERROR(INDEX($J$16:$J$2822,MATCH(ROWS($J$16:J1454),$N$16:$N$2822,0)),\"\")","v":""}]
["18","15","05","2","181505","Gmina wiejska","PODKARPACKIE","ropczycko-sędziszowski","WIELOPOLE SKRZYŃSKIE","WIELOPOLE SKRZYŃSKIE - Gmina wiejska / Powiat ropczycko-sędziszowski / Województwo  - PODKARPACKIE / 181505 / ",32320564,35088137.667119585,{"$f":"ISNUMBER(SEARCH(Wyszukiwarka!$A$1,'Porównanie dochodów JST'!J1455))","v":false},{"$f":"IF(M1455,COUNTIF($M$16:M1455,TRUE),\"\")","v":""},{"$f":"IFERROR(INDEX($J$16:$J$2822,MATCH(ROWS($J$16:J1455),$N$16:$N$2822,0)),\"\")","v":""}]
["18","16","01","1","181601","Gmina miejska","PODKARPACKIE","rzeszowski","DYNÓW","DYNÓW - Gmina miejska / Powiat rzeszowski / Województwo  - PODKARPACKIE / 181601 / ",22459861,24481518.840447441,{"$f":"ISNUMBER(SEARCH(Wyszukiwarka!$A$1,'Porównanie dochodów JST'!J1456))","v":false},{"$f":"IF(M1456,COUNTIF($M$16:M1456,TRUE),\"\")","v":""},{"$f":"IFERROR(INDEX($J$16:$J$2822,MATCH(ROWS($J$16:J1456),$N$16:$N$2822,0)),\"\")","v":""}]
["18","16","02","3","181602","Gmina miejsko-wiejska","PODKARPACKIE","rzeszowski","BŁAŻOWA","BŁAŻOWA - Gmina miejsko-wiejska / Powiat rzeszowski / Województwo  - PODKARPACKIE / 181602 / ",49327519,53347520.648119457,{"$f":"ISNUMBER(SEARCH(Wyszukiwarka!$A$1,'Porównanie dochodów JST'!J1457))","v":false},{"$f":"IF(M1457,COUNTIF($M$16:M1457,TRUE),\"\")","v":""},{"$f":"IFERROR(INDEX($J$16:$J$2822,MATCH(ROWS($J$16:J1457),$N$16:$N$2822,0)),\"\")","v":""}]
["18","16","03","3","181603","Gmina miejsko-wiejska","PODKARPACKIE","rzeszowski","BOGUCHWAŁA","BOGUCHWAŁA - Gmina miejsko-wiejska / Powiat rzeszowski / Województwo  - PODKARPACKIE / 181603 / ",88039158,93654706.278088972,{"$f":"ISNUMBER(SEARCH(Wyszukiwarka!$A$1,'Porównanie dochodów JST'!J1458))","v":false},{"$f":"IF(M1458,COUNTIF($M$16:M1458,TRUE),\"\")","v":""},{"$f":"IFERROR(INDEX($J$16:$J$2822,MATCH(ROWS($J$16:J1458),$N$16:$N$2822,0)),\"\")","v":""}]
["18","16","04","2","181604","Gmina wiejska","PODKARPACKIE","rzeszowski","CHMIELNIK","CHMIELNIK - Gmina wiejska / Powiat rzeszowski / Województwo  - PODKARPACKIE / 181604 / ",31156787,33814458,{"$f":"ISNUMBER(SEARCH(Wyszukiwarka!$A$1,'Porównanie dochodów JST'!J1459))","v":false},{"$f":"IF(M1459,COUNTIF($M$16:M1459,TRUE),\"\")","v":""},{"$f":"IFERROR(INDEX($J$16:$J$2822,MATCH(ROWS($J$16:J1459),$N$16:$N$2822,0)),\"\")","v":""}]
["18","16","05","2","181605","Gmina wiejska","PODKARPACKIE","rzeszowski","DYNÓW","DYNÓW - Gmina wiejska / Powiat rzeszowski / Województwo  - PODKARPACKIE / 181605 / ",29865087,33755029.00462538,{"$f":"ISNUMBER(SEARCH(Wyszukiwarka!$A$1,'Porównanie dochodów JST'!J1460))","v":false},{"$f":"IF(M1460,COUNTIF($M$16:M1460,TRUE),\"\")","v":""},{"$f":"IFERROR(INDEX($J$16:$J$2822,MATCH(ROWS($J$16:J1460),$N$16:$N$2822,0)),\"\")","v":""}]
["18","16","06","3","181606","Gmina miejsko-wiejska","PODKARPACKIE","rzeszowski","GŁOGÓW MAŁOPOLSKI","GŁOGÓW MAŁOPOLSKI - Gmina miejsko-wiejska / Powiat rzeszowski / Województwo  - PODKARPACKIE / 181606 / ",69754142,76971732.088349894,{"$f":"ISNUMBER(SEARCH(Wyszukiwarka!$A$1,'Porównanie dochodów JST'!J1461))","v":false},{"$f":"IF(M1461,COUNTIF($M$16:M1461,TRUE),\"\")","v":""},{"$f":"IFERROR(INDEX($J$16:$J$2822,MATCH(ROWS($J$16:J1461),$N$16:$N$2822,0)),\"\")","v":""}]
["18","16","07","2","181607","Gmina wiejska","PODKARPACKIE","rzeszowski","HYŻNE","HYŻNE - Gmina wiejska / Powiat rzeszowski / Województwo  - PODKARPACKIE / 181607 / ",30477215,33124203.445681047,{"$f":"ISNUMBER(SEARCH(Wyszukiwarka!$A$1,'Porównanie dochodów JST'!J1462))","v":false},{"$f":"IF(M1462,COUNTIF($M$16:M1462,TRUE),\"\")","v":""},{"$f":"IFERROR(INDEX($J$16:$J$2822,MATCH(ROWS($J$16:J1462),$N$16:$N$2822,0)),\"\")","v":""}]
["18","16","08","2","181608","Gmina wiejska","PODKARPACKIE","rzeszowski","KAMIEŃ","KAMIEŃ - Gmina wiejska / Powiat rzeszowski / Województwo  - PODKARPACKIE / 181608 / ",34739754,39630020.640000001,{"$f":"ISNUMBER(SEARCH(Wyszukiwarka!$A$1,'Porównanie dochodów JST'!J1463))","v":false},{"$f":"IF(M1463,COUNTIF($M$16:M1463,TRUE),\"\")","v":""},{"$f":"IFERROR(INDEX($J$16:$J$2822,MATCH(ROWS($J$16:J1463),$N$16:$N$2822,0)),\"\")","v":""}]
["18","16","09","2","181609","Gmina wiejska","PODKARPACKIE","rzeszowski","KRASNE","KRASNE - Gmina wiejska / Powiat rzeszowski / Województwo  - PODKARPACKIE / 181609 / ",49825552,54047589.989077978,{"$f":"ISNUMBER(SEARCH(Wyszukiwarka!$A$1,'Porównanie dochodów JST'!J1464))","v":false},{"$f":"IF(M1464,COUNTIF($M$16:M1464,TRUE),\"\")","v":""},{"$f":"IFERROR(INDEX($J$16:$J$2822,MATCH(ROWS($J$16:J1464),$N$16:$N$2822,0)),\"\")","v":""}]
["18","16","10","2","181610","Gmina wiejska","PODKARPACKIE","rzeszowski","LUBENIA","LUBENIA - Gmina wiejska / Powiat rzeszowski / Województwo  - PODKARPACKIE / 181610 / ",27254805,29843679,{"$f":"ISNUMBER(SEARCH(Wyszukiwarka!$A$1,'Porównanie dochodów JST'!J1465))","v":false},{"$f":"IF(M1465,COUNTIF($M$16:M1465,TRUE),\"\")","v":""},{"$f":"IFERROR(INDEX($J$16:$J$2822,MATCH(ROWS($J$16:J1465),$N$16:$N$2822,0)),\"\")","v":""}]
["18","16","11","3","181611","Gmina miejsko-wiejska","PODKARPACKIE","rzeszowski","SOKOŁÓW MAŁOPOLSKI","SOKOŁÓW MAŁOPOLSKI - Gmina miejsko-wiejska / Powiat rzeszowski / Województwo  - PODKARPACKIE / 181611 / ",75872858,86755201.120000005,{"$f":"ISNUMBER(SEARCH(Wyszukiwarka!$A$1,'Porównanie dochodów JST'!J1466))","v":false},{"$f":"IF(M1466,COUNTIF($M$16:M1466,TRUE),\"\")","v":""},{"$f":"IFERROR(INDEX($J$16:$J$2822,MATCH(ROWS($J$16:J1466),$N$16:$N$2822,0)),\"\")","v":""}]
["18","16","12","2","181612","Gmina wiejska","PODKARPACKIE","rzeszowski","ŚWILCZA","ŚWILCZA - Gmina wiejska / Powiat rzeszowski / Województwo  - PODKARPACKIE / 181612 / ",62915545,67921637.554203004,{"$f":"ISNUMBER(SEARCH(Wyszukiwarka!$A$1,'Porównanie dochodów JST'!J1467))","v":false},{"$f":"IF(M1467,COUNTIF($M$16:M1467,TRUE),\"\")","v":""},{"$f":"IFERROR(INDEX($J$16:$J$2822,MATCH(ROWS($J$16:J1467),$N$16:$N$2822,0)),\"\")","v":""}]
["18","16","13","2","181613","Gmina wiejska","PODKARPACKIE","rzeszowski","TRZEBOWNISKO","TRZEBOWNISKO - Gmina wiejska / Powiat rzeszowski / Województwo  - PODKARPACKIE / 181613 / ",91650792,104518679.52717504,{"$f":"ISNUMBER(SEARCH(Wyszukiwarka!$A$1,'Porównanie dochodów JST'!J1468))","v":false},{"$f":"IF(M1468,COUNTIF($M$16:M1468,TRUE),\"\")","v":""},{"$f":"IFERROR(INDEX($J$16:$J$2822,MATCH(ROWS($J$16:J1468),$N$16:$N$2822,0)),\"\")","v":""}]
["18","16","14","3","181614","Gmina miejsko-wiejska","PODKARPACKIE","rzeszowski","TYCZYN","TYCZYN - Gmina miejsko-wiejska / Powiat rzeszowski / Województwo  - PODKARPACKIE / 181614 / ",44553620,48599713,{"$f":"ISNUMBER(SEARCH(Wyszukiwarka!$A$1,'Porównanie dochodów JST'!J1469))","v":false},{"$f":"IF(M1469,COUNTIF($M$16:M1469,TRUE),\"\")","v":""},{"$f":"IFERROR(INDEX($J$16:$J$2822,MATCH(ROWS($J$16:J1469),$N$16:$N$2822,0)),\"\")","v":""}]
["18","17","01","1","181701","Gmina miejska","PODKARPACKIE","sanocki","SANOK","SANOK - Gmina miejska / Powiat sanocki / Województwo  - PODKARPACKIE / 181701 / ",121731233,129915753.19631076,{"$f":"ISNUMBER(SEARCH(Wyszukiwarka!$A$1,'Porównanie dochodów JST'!J1470))","v":false},{"$f":"IF(M1470,COUNTIF($M$16:M1470,TRUE),\"\")","v":""},{"$f":"IFERROR(INDEX($J$16:$J$2822,MATCH(ROWS($J$16:J1470),$N$16:$N$2822,0)),\"\")","v":""}]
["18","17","02","2","181702","Gmina wiejska","PODKARPACKIE","sanocki","BESKO","BESKO - Gmina wiejska / Powiat sanocki / Województwo  - PODKARPACKIE / 181702 / ",19766134,21671486,{"$f":"ISNUMBER(SEARCH(Wyszukiwarka!$A$1,'Porównanie dochodów JST'!J1471))","v":false},{"$f":"IF(M1471,COUNTIF($M$16:M1471,TRUE),\"\")","v":""},{"$f":"IFERROR(INDEX($J$16:$J$2822,MATCH(ROWS($J$16:J1471),$N$16:$N$2822,0)),\"\")","v":""}]
["18","17","03","2","181703","Gmina wiejska","PODKARPACKIE","sanocki","BUKOWSKO","BUKOWSKO - Gmina wiejska / Powiat sanocki / Województwo  - PODKARPACKIE / 181703 / ",21178637,23223260,{"$f":"ISNUMBER(SEARCH(Wyszukiwarka!$A$1,'Porównanie dochodów JST'!J1472))","v":false},{"$f":"IF(M1472,COUNTIF($M$16:M1472,TRUE),\"\")","v":""},{"$f":"IFERROR(INDEX($J$16:$J$2822,MATCH(ROWS($J$16:J1472),$N$16:$N$2822,0)),\"\")","v":""}]
["18","17","04","2","181704","Gmina wiejska","PODKARPACKIE","sanocki","KOMAŃCZA","KOMAŃCZA - Gmina wiejska / Powiat sanocki / Województwo  - PODKARPACKIE / 181704 / ",12558414,14049106.5,{"$f":"ISNUMBER(SEARCH(Wyszukiwarka!$A$1,'Porównanie dochodów JST'!J1473))","v":false},{"$f":"IF(M1473,COUNTIF($M$16:M1473,TRUE),\"\")","v":""},{"$f":"IFERROR(INDEX($J$16:$J$2822,MATCH(ROWS($J$16:J1473),$N$16:$N$2822,0)),\"\")","v":""}]
["18","17","05","2","181705","Gmina wiejska","PODKARPACKIE","sanocki","SANOK","SANOK - Gmina wiejska / Powiat sanocki / Województwo  - PODKARPACKIE / 181705 / ",58602070,63833319.590774581,{"$f":"ISNUMBER(SEARCH(Wyszukiwarka!$A$1,'Porównanie dochodów JST'!J1474))","v":false},{"$f":"IF(M1474,COUNTIF($M$16:M1474,TRUE),\"\")","v":""},{"$f":"IFERROR(INDEX($J$16:$J$2822,MATCH(ROWS($J$16:J1474),$N$16:$N$2822,0)),\"\")","v":""}]
["18","17","06","2","181706","Gmina wiejska","PODKARPACKIE","sanocki","TYRAWA WOŁOSKA","TYRAWA WOŁOSKA - Gmina wiejska / Powiat sanocki / Województwo  - PODKARPACKIE / 181706 / ",8658729,9739852.0999999996,{"$f":"ISNUMBER(SEARCH(Wyszukiwarka!$A$1,'Porównanie dochodów JST'!J1475))","v":false},{"$f":"IF(M1475,COUNTIF($M$16:M1475,TRUE),\"\")","v":""},{"$f":"IFERROR(INDEX($J$16:$J$2822,MATCH(ROWS($J$16:J1475),$N$16:$N$2822,0)),\"\")","v":""}]
["18","17","07","3","181707","Gmina miejsko-wiejska","PODKARPACKIE","sanocki","ZAGÓRZ","ZAGÓRZ - Gmina miejsko-wiejska / Powiat sanocki / Województwo  - PODKARPACKIE / 181707 / ",50395668,54603876.576980814,{"$f":"ISNUMBER(SEARCH(Wyszukiwarka!$A$1,'Porównanie dochodów JST'!J1476))","v":false},{"$f":"IF(M1476,COUNTIF($M$16:M1476,TRUE),\"\")","v":""},{"$f":"IFERROR(INDEX($J$16:$J$2822,MATCH(ROWS($J$16:J1476),$N$16:$N$2822,0)),\"\")","v":""}]
["18","17","08","2","181708","Gmina wiejska","PODKARPACKIE","sanocki","ZARSZYN","ZARSZYN - Gmina wiejska / Powiat sanocki / Województwo  - PODKARPACKIE / 181708 / ",40233191,43578674.52770406,{"$f":"ISNUMBER(SEARCH(Wyszukiwarka!$A$1,'Porównanie dochodów JST'!J1477))","v":false},{"$f":"IF(M1477,COUNTIF($M$16:M1477,TRUE),\"\")","v":""},{"$f":"IFERROR(INDEX($J$16:$J$2822,MATCH(ROWS($J$16:J1477),$N$16:$N$2822,0)),\"\")","v":""}]
["18","18","01","1","181801","Gmina miejska","PODKARPACKIE","stalowowolski","STALOWA WOLA","STALOWA WOLA - Gmina miejska / Powiat stalowowolski / Województwo  - PODKARPACKIE / 181801 / ",189293213,206890608.53510532,{"$f":"ISNUMBER(SEARCH(Wyszukiwarka!$A$1,'Porównanie dochodów JST'!J1478))","v":false},{"$f":"IF(M1478,COUNTIF($M$16:M1478,TRUE),\"\")","v":""},{"$f":"IFERROR(INDEX($J$16:$J$2822,MATCH(ROWS($J$16:J1478),$N$16:$N$2822,0)),\"\")","v":""}]
["18","18","02","2","181802","Gmina wiejska","PODKARPACKIE","stalowowolski","BOJANÓW","BOJANÓW - Gmina wiejska / Powiat stalowowolski / Województwo  - PODKARPACKIE / 181802 / ",31574191,34367808,{"$f":"ISNUMBER(SEARCH(Wyszukiwarka!$A$1,'Porównanie dochodów JST'!J1479))","v":false},{"$f":"IF(M1479,COUNTIF($M$16:M1479,TRUE),\"\")","v":""},{"$f":"IFERROR(INDEX($J$16:$J$2822,MATCH(ROWS($J$16:J1479),$N$16:$N$2822,0)),\"\")","v":""}]
["18","18","03","2","181803","Gmina wiejska","PODKARPACKIE","stalowowolski","PYSZNICA","PYSZNICA - Gmina wiejska / Powiat stalowowolski / Województwo  - PODKARPACKIE / 181803 / ",45676541,49834272,{"$f":"ISNUMBER(SEARCH(Wyszukiwarka!$A$1,'Porównanie dochodów JST'!J1480))","v":false},{"$f":"IF(M1480,COUNTIF($M$16:M1480,TRUE),\"\")","v":""},{"$f":"IFERROR(INDEX($J$16:$J$2822,MATCH(ROWS($J$16:J1480),$N$16:$N$2822,0)),\"\")","v":""}]
["18","18","04","2","181804","Gmina wiejska","PODKARPACKIE","stalowowolski","RADOMYŚL NAD SANEM","RADOMYŚL NAD SANEM - Gmina wiejska / Powiat stalowowolski / Województwo  - PODKARPACKIE / 181804 / ",32182174,34899288.588098034,{"$f":"ISNUMBER(SEARCH(Wyszukiwarka!$A$1,'Porównanie dochodów JST'!J1481))","v":false},{"$f":"IF(M1481,COUNTIF($M$16:M1481,TRUE),\"\")","v":""},{"$f":"IFERROR(INDEX($J$16:$J$2822,MATCH(ROWS($J$16:J1481),$N$16:$N$2822,0)),\"\")","v":""}]
["18","18","05","3","181805","Gmina miejsko-wiejska","PODKARPACKIE","stalowowolski","ZAKLIKÓW","ZAKLIKÓW - Gmina miejsko-wiejska / Powiat stalowowolski / Województwo  - PODKARPACKIE / 181805 / ",31629597,34930772.930349797,{"$f":"ISNUMBER(SEARCH(Wyszukiwarka!$A$1,'Porównanie dochodów JST'!J1482))","v":false},{"$f":"IF(M1482,COUNTIF($M$16:M1482,TRUE),\"\")","v":""},{"$f":"IFERROR(INDEX($J$16:$J$2822,MATCH(ROWS($J$16:J1482),$N$16:$N$2822,0)),\"\")","v":""}]
["18","18","06","2","181806","Gmina wiejska","PODKARPACKIE","stalowowolski","ZALESZANY","ZALESZANY - Gmina wiejska / Powiat stalowowolski / Województwo  - PODKARPACKIE / 181806 / ",37645195,41633068.946191043,{"$f":"ISNUMBER(SEARCH(Wyszukiwarka!$A$1,'Porównanie dochodów JST'!J1483))","v":false},{"$f":"IF(M1483,COUNTIF($M$16:M1483,TRUE),\"\")","v":""},{"$f":"IFERROR(INDEX($J$16:$J$2822,MATCH(ROWS($J$16:J1483),$N$16:$N$2822,0)),\"\")","v":""}]
["18","19","01","2","181901","Gmina wiejska","PODKARPACKIE","strzyżowski","CZUDEC","CZUDEC - Gmina wiejska / Powiat strzyżowski / Województwo  - PODKARPACKIE / 181901 / ",53600343,57639788,{"$f":"ISNUMBER(SEARCH(Wyszukiwarka!$A$1,'Porównanie dochodów JST'!J1484))","v":false},{"$f":"IF(M1484,COUNTIF($M$16:M1484,TRUE),\"\")","v":""},{"$f":"IFERROR(INDEX($J$16:$J$2822,MATCH(ROWS($J$16:J1484),$N$16:$N$2822,0)),\"\")","v":""}]
["18","19","02","2","181902","Gmina wiejska","PODKARPACKIE","strzyżowski","FRYSZTAK","FRYSZTAK - Gmina wiejska / Powiat strzyżowski / Województwo  - PODKARPACKIE / 181902 / ",39789803,43715977,{"$f":"ISNUMBER(SEARCH(Wyszukiwarka!$A$1,'Porównanie dochodów JST'!J1485))","v":false},{"$f":"IF(M1485,COUNTIF($M$16:M1485,TRUE),\"\")","v":""},{"$f":"IFERROR(INDEX($J$16:$J$2822,MATCH(ROWS($J$16:J1485),$N$16:$N$2822,0)),\"\")","v":""}]
["18","19","03","2","181903","Gmina wiejska","PODKARPACKIE","strzyżowski","NIEBYLEC","NIEBYLEC - Gmina wiejska / Powiat strzyżowski / Województwo  - PODKARPACKIE / 181903 / ",45405266,49369573,{"$f":"ISNUMBER(SEARCH(Wyszukiwarka!$A$1,'Porównanie dochodów JST'!J1486))","v":false},{"$f":"IF(M1486,COUNTIF($M$16:M1486,TRUE),\"\")","v":""},{"$f":"IFERROR(INDEX($J$16:$J$2822,MATCH(ROWS($J$16:J1486),$N$16:$N$2822,0)),\"\")","v":""}]
["18","19","04","3","181904","Gmina miejsko-wiejska","PODKARPACKIE","strzyżowski","STRZYŻÓW","STRZYŻÓW - Gmina miejsko-wiejska / Powiat strzyżowski / Województwo  - PODKARPACKIE / 181904 / ",73062126,78340563,{"$f":"ISNUMBER(SEARCH(Wyszukiwarka!$A$1,'Porównanie dochodów JST'!J1487))","v":false},{"$f":"IF(M1487,COUNTIF($M$16:M1487,TRUE),\"\")","v":""},{"$f":"IFERROR(INDEX($J$16:$J$2822,MATCH(ROWS($J$16:J1487),$N$16:$N$2822,0)),\"\")","v":""}]
["18","19","05","2","181905","Gmina wiejska","PODKARPACKIE","strzyżowski","WIŚNIOWA","WIŚNIOWA - Gmina wiejska / Powiat strzyżowski / Województwo  - PODKARPACKIE / 181905 / ",31503259,34228276,{"$f":"ISNUMBER(SEARCH(Wyszukiwarka!$A$1,'Porównanie dochodów JST'!J1488))","v":false},{"$f":"IF(M1488,COUNTIF($M$16:M1488,TRUE),\"\")","v":""},{"$f":"IFERROR(INDEX($J$16:$J$2822,MATCH(ROWS($J$16:J1488),$N$16:$N$2822,0)),\"\")","v":""}]
["18","20","01","3","182001","Gmina miejsko-wiejska","PODKARPACKIE","tarnobrzeski","BARANÓW SANDOMIERSKI",{"$f":"I1489&$H$12&F1489&$G$12&$H$14&H1489&$G$12&$G$14&$H$12&G1489&$G$12&E1489&$G$12","v":"BARANÓW SANDOMIERSKI - Gmina miejsko-wiejska / Powiat tarnobrzeski / Województwo  - PODKARPACKIE / 182001 / "},43040216,47108863,{"$f":"ISNUMBER(SEARCH(Wyszukiwarka!$A$1,'Porównanie dochodów JST'!J1489))","v":false},{"$f":"IF(M1489,COUNTIF($M$16:M1489,TRUE),\"\")","v":""},{"$f":"IFERROR(INDEX($J$16:$J$2822,MATCH(ROWS($J$16:J1489),$N$16:$N$2822,0)),\"\")","v":""}]
["18","20","02","2","182002","Gmina wiejska","PODKARPACKIE","tarnobrzeski","GORZYCE","GORZYCE - Gmina wiejska / Powiat tarnobrzeski / Województwo  - PODKARPACKIE / 182002 / ",49102728,53255945,{"$f":"ISNUMBER(SEARCH(Wyszukiwarka!$A$1,'Porównanie dochodów JST'!J1490))","v":false},{"$f":"IF(M1490,COUNTIF($M$16:M1490,TRUE),\"\")","v":""},{"$f":"IFERROR(INDEX($J$16:$J$2822,MATCH(ROWS($J$16:J1490),$N$16:$N$2822,0)),\"\")","v":""}]
["18","20","03","2","182003","Gmina wiejska","PODKARPACKIE","tarnobrzeski","GRĘBÓW","GRĘBÓW - Gmina wiejska / Powiat tarnobrzeski / Województwo  - PODKARPACKIE / 182003 / ",40703297,44197412,{"$f":"ISNUMBER(SEARCH(Wyszukiwarka!$A$1,'Porównanie dochodów JST'!J1491))","v":false},{"$f":"IF(M1491,COUNTIF($M$16:M1491,TRUE),\"\")","v":""},{"$f":"IFERROR(INDEX($J$16:$J$2822,MATCH(ROWS($J$16:J1491),$N$16:$N$2822,0)),\"\")","v":""}]
["18","20","04","3","182004","Gmina miejsko-wiejska","PODKARPACKIE","tarnobrzeski","NOWA DĘBA","NOWA DĘBA - Gmina miejsko-wiejska / Powiat tarnobrzeski / Województwo  - PODKARPACKIE / 182004 / ",44718747,49748082,{"$f":"ISNUMBER(SEARCH(Wyszukiwarka!$A$1,'Porównanie dochodów JST'!J1492))","v":false},{"$f":"IF(M1492,COUNTIF($M$16:M1492,TRUE),\"\")","v":""},{"$f":"IFERROR(INDEX($J$16:$J$2822,MATCH(ROWS($J$16:J1492),$N$16:$N$2822,0)),\"\")","v":""}]
["18","21","01","2","182101","Gmina wiejska","PODKARPACKIE","leski","BALIGRÓD","BALIGRÓD - Gmina wiejska / Powiat leski / Województwo  - PODKARPACKIE / 182101 / ",13465057,14773544.76,{"$f":"ISNUMBER(SEARCH(Wyszukiwarka!$A$1,'Porównanie dochodów JST'!J1493))","v":false},{"$f":"IF(M1493,COUNTIF($M$16:M1493,TRUE),\"\")","v":""},{"$f":"IFERROR(INDEX($J$16:$J$2822,MATCH(ROWS($J$16:J1493),$N$16:$N$2822,0)),\"\")","v":""}]
["18","21","02","2","182102","Gmina wiejska","PODKARPACKIE","leski","CISNA","CISNA - Gmina wiejska / Powiat leski / Województwo  - PODKARPACKIE / 182102 / ",8227479,9207049.5,{"$f":"ISNUMBER(SEARCH(Wyszukiwarka!$A$1,'Porównanie dochodów JST'!J1494))","v":false},{"$f":"IF(M1494,COUNTIF($M$16:M1494,TRUE),\"\")","v":""},{"$f":"IFERROR(INDEX($J$16:$J$2822,MATCH(ROWS($J$16:J1494),$N$16:$N$2822,0)),\"\")","v":""}]
["18","21","03","3","182103","Gmina miejsko-wiejska","PODKARPACKIE","leski","LESKO","LESKO - Gmina miejsko-wiejska / Powiat leski / Województwo  - PODKARPACKIE / 182103 / ",36148965,40282315.867306232,{"$f":"ISNUMBER(SEARCH(Wyszukiwarka!$A$1,'Porównanie dochodów JST'!J1495))","v":false},{"$f":"IF(M1495,COUNTIF($M$16:M1495,TRUE),\"\")","v":""},{"$f":"IFERROR(INDEX($J$16:$J$2822,MATCH(ROWS($J$16:J1495),$N$16:$N$2822,0)),\"\")","v":""}]
["18","21","04","2","182104","Gmina wiejska","PODKARPACKIE","leski","OLSZANICA","OLSZANICA - Gmina wiejska / Powiat leski / Województwo  - PODKARPACKIE / 182104 / ",18786608,20753512,{"$f":"ISNUMBER(SEARCH(Wyszukiwarka!$A$1,'Porównanie dochodów JST'!J1496))","v":false},{"$f":"IF(M1496,COUNTIF($M$16:M1496,TRUE),\"\")","v":""},{"$f":"IFERROR(INDEX($J$16:$J$2822,MATCH(ROWS($J$16:J1496),$N$16:$N$2822,0)),\"\")","v":""}]
["18","21","05","2","182105","Gmina wiejska","PODKARPACKIE","leski","SOLINA","SOLINA - Gmina wiejska / Powiat leski / Województwo  - PODKARPACKIE / 182105 / ",18189486,20139317,{"$f":"ISNUMBER(SEARCH(Wyszukiwarka!$A$1,'Porównanie dochodów JST'!J1497))","v":false},{"$f":"IF(M1497,COUNTIF($M$16:M1497,TRUE),\"\")","v":""},{"$f":"IFERROR(INDEX($J$16:$J$2822,MATCH(ROWS($J$16:J1497),$N$16:$N$2822,0)),\"\")","v":""}]
["20","01","01","1","200101","Gmina miejska","PODLASKIE","augustowski","AUGUSTÓW","AUGUSTÓW - Gmina miejska / Powiat augustowski / Województwo  - PODLASKIE / 200101 / ",106437352,116025629.84965339,{"$f":"ISNUMBER(SEARCH(Wyszukiwarka!$A$1,'Porównanie dochodów JST'!J1498))","v":false},{"$f":"IF(M1498,COUNTIF($M$16:M1498,TRUE),\"\")","v":""},{"$f":"IFERROR(INDEX($J$16:$J$2822,MATCH(ROWS($J$16:J1498),$N$16:$N$2822,0)),\"\")","v":""}]
["20","01","02","2","200102","Gmina wiejska","PODLASKIE","augustowski","AUGUSTÓW","AUGUSTÓW - Gmina wiejska / Powiat augustowski / Województwo  - PODLASKIE / 200102 / ",28223210,32336551.52,{"$f":"ISNUMBER(SEARCH(Wyszukiwarka!$A$1,'Porównanie dochodów JST'!J1499))","v":false},{"$f":"IF(M1499,COUNTIF($M$16:M1499,TRUE),\"\")","v":""},{"$f":"IFERROR(INDEX($J$16:$J$2822,MATCH(ROWS($J$16:J1499),$N$16:$N$2822,0)),\"\")","v":""}]
["20","01","03","2","200103","Gmina wiejska","PODLASKIE","augustowski","BARGŁÓW KOŚCIELNY","BARGŁÓW KOŚCIELNY - Gmina wiejska / Powiat augustowski / Województwo  - PODLASKIE / 200103 / ",21980673,25204757.759999998,{"$f":"ISNUMBER(SEARCH(Wyszukiwarka!$A$1,'Porównanie dochodów JST'!J1500))","v":false},{"$f":"IF(M1500,COUNTIF($M$16:M1500,TRUE),\"\")","v":""},{"$f":"IFERROR(INDEX($J$16:$J$2822,MATCH(ROWS($J$16:J1500),$N$16:$N$2822,0)),\"\")","v":""}]
["20","01","04","3","200104","Gmina miejsko-wiejska","PODLASKIE","augustowski","LIPSK","LIPSK - Gmina miejsko-wiejska / Powiat augustowski / Województwo  - PODLASKIE / 200104 / ",16011389,17960409,{"$f":"ISNUMBER(SEARCH(Wyszukiwarka!$A$1,'Porównanie dochodów JST'!J1501))","v":false},{"$f":"IF(M1501,COUNTIF($M$16:M1501,TRUE),\"\")","v":""},{"$f":"IFERROR(INDEX($J$16:$J$2822,MATCH(ROWS($J$16:J1501),$N$16:$N$2822,0)),\"\")","v":""}]
["20","01","05","2","200105","Gmina wiejska","PODLASKIE","augustowski","NOWINKA","NOWINKA - Gmina wiejska / Powiat augustowski / Województwo  - PODLASKIE / 200105 / ",10147903,11700606.399999999,{"$f":"ISNUMBER(SEARCH(Wyszukiwarka!$A$1,'Porównanie dochodów JST'!J1502))","v":false},{"$f":"IF(M1502,COUNTIF($M$16:M1502,TRUE),\"\")","v":""},{"$f":"IFERROR(INDEX($J$16:$J$2822,MATCH(ROWS($J$16:J1502),$N$16:$N$2822,0)),\"\")","v":""}]
["20","01","06","2","200106","Gmina wiejska","PODLASKIE","augustowski","PŁASKA","PŁASKA - Gmina wiejska / Powiat augustowski / Województwo  - PODLASKIE / 200106 / ",8464558,9670670.2399999984,{"$f":"ISNUMBER(SEARCH(Wyszukiwarka!$A$1,'Porównanie dochodów JST'!J1503))","v":false},{"$f":"IF(M1503,COUNTIF($M$16:M1503,TRUE),\"\")","v":""},{"$f":"IFERROR(INDEX($J$16:$J$2822,MATCH(ROWS($J$16:J1503),$N$16:$N$2822,0)),\"\")","v":""}]
["20","01","07","2","200107","Gmina wiejska","PODLASKIE","augustowski","SZTABIN","SZTABIN - Gmina wiejska / Powiat augustowski / Województwo  - PODLASKIE / 200107 / ",16916744,19464928,{"$f":"ISNUMBER(SEARCH(Wyszukiwarka!$A$1,'Porównanie dochodów JST'!J1504))","v":false},{"$f":"IF(M1504,COUNTIF($M$16:M1504,TRUE),\"\")","v":""},{"$f":"IFERROR(INDEX($J$16:$J$2822,MATCH(ROWS($J$16:J1504),$N$16:$N$2822,0)),\"\")","v":""}]
["20","02","01","3","200201","Gmina miejsko-wiejska","PODLASKIE","białostocki","CHOROSZCZ","CHOROSZCZ - Gmina miejsko-wiejska / Powiat białostocki / Województwo  - PODLASKIE / 200201 / ",50847542,56284055.232811265,{"$f":"ISNUMBER(SEARCH(Wyszukiwarka!$A$1,'Porównanie dochodów JST'!J1505))","v":false},{"$f":"IF(M1505,COUNTIF($M$16:M1505,TRUE),\"\")","v":""},{"$f":"IFERROR(INDEX($J$16:$J$2822,MATCH(ROWS($J$16:J1505),$N$16:$N$2822,0)),\"\")","v":""}]
["20","02","02","3","200202","Gmina miejsko-wiejska","PODLASKIE","białostocki","CZARNA BIAŁOSTOCKA","CZARNA BIAŁOSTOCKA - Gmina miejsko-wiejska / Powiat białostocki / Województwo  - PODLASKIE / 200202 / ",34718071,38779656.528068602,{"$f":"ISNUMBER(SEARCH(Wyszukiwarka!$A$1,'Porównanie dochodów JST'!J1506))","v":false},{"$f":"IF(M1506,COUNTIF($M$16:M1506,TRUE),\"\")","v":""},{"$f":"IFERROR(INDEX($J$16:$J$2822,MATCH(ROWS($J$16:J1506),$N$16:$N$2822,0)),\"\")","v":""}]
["20","02","03","2","200203","Gmina wiejska","PODLASKIE","białostocki","DOBRZYNIEWO DUŻE","DOBRZYNIEWO DUŻE - Gmina wiejska / Powiat białostocki / Województwo  - PODLASKIE / 200203 / ",44856964,48906518,{"$f":"ISNUMBER(SEARCH(Wyszukiwarka!$A$1,'Porównanie dochodów JST'!J1507))","v":false},{"$f":"IF(M1507,COUNTIF($M$16:M1507,TRUE),\"\")","v":""},{"$f":"IFERROR(INDEX($J$16:$J$2822,MATCH(ROWS($J$16:J1507),$N$16:$N$2822,0)),\"\")","v":""}]
["20","02","04","2","200204","Gmina wiejska","PODLASKIE","białostocki","GRÓDEK","GRÓDEK - Gmina wiejska / Powiat białostocki / Województwo  - PODLASKIE / 200204 / ",16636355,19067248.981965285,{"$f":"ISNUMBER(SEARCH(Wyszukiwarka!$A$1,'Porównanie dochodów JST'!J1508))","v":false},{"$f":"IF(M1508,COUNTIF($M$16:M1508,TRUE),\"\")","v":""},{"$f":"IFERROR(INDEX($J$16:$J$2822,MATCH(ROWS($J$16:J1508),$N$16:$N$2822,0)),\"\")","v":""}]
["20","02","05","2","200205","Gmina wiejska","PODLASKIE","białostocki","JUCHNOWIEC KOŚCIELNY","JUCHNOWIEC KOŚCIELNY - Gmina wiejska / Powiat białostocki / Województwo  - PODLASKIE / 200205 / ",69857837,75469952.815456837,{"$f":"ISNUMBER(SEARCH(Wyszukiwarka!$A$1,'Porównanie dochodów JST'!J1509))","v":false},{"$f":"IF(M1509,COUNTIF($M$16:M1509,TRUE),\"\")","v":""},{"$f":"IFERROR(INDEX($J$16:$J$2822,MATCH(ROWS($J$16:J1509),$N$16:$N$2822,0)),\"\")","v":""}]
["20","02","06","3","200206","Gmina miejsko-wiejska","PODLASKIE","białostocki","ŁAPY","ŁAPY - Gmina miejsko-wiejska / Powiat białostocki / Województwo  - PODLASKIE / 200206 / ",71641154,82301255.679999992,{"$f":"ISNUMBER(SEARCH(Wyszukiwarka!$A$1,'Porównanie dochodów JST'!J1510))","v":false},{"$f":"IF(M1510,COUNTIF($M$16:M1510,TRUE),\"\")","v":""},{"$f":"IFERROR(INDEX($J$16:$J$2822,MATCH(ROWS($J$16:J1510),$N$16:$N$2822,0)),\"\")","v":""}]
["20","02","07","3","200207","Gmina miejsko-wiejska","PODLASKIE","białostocki","MICHAŁOWO","MICHAŁOWO - Gmina miejsko-wiejska / Powiat białostocki / Województwo  - PODLASKIE / 200207 / ",19685330,21608317,{"$f":"ISNUMBER(SEARCH(Wyszukiwarka!$A$1,'Porównanie dochodów JST'!J1511))","v":false},{"$f":"IF(M1511,COUNTIF($M$16:M1511,TRUE),\"\")","v":""},{"$f":"IFERROR(INDEX($J$16:$J$2822,MATCH(ROWS($J$16:J1511),$N$16:$N$2822,0)),\"\")","v":""}]
["20","02","08","2","200208","Gmina wiejska","PODLASKIE","białostocki","POŚWIĘTNE","POŚWIĘTNE - Gmina wiejska / Powiat białostocki / Województwo  - PODLASKIE / 200208 / ",10416248,11723849,{"$f":"ISNUMBER(SEARCH(Wyszukiwarka!$A$1,'Porównanie dochodów JST'!J1512))","v":false},{"$f":"IF(M1512,COUNTIF($M$16:M1512,TRUE),\"\")","v":""},{"$f":"IFERROR(INDEX($J$16:$J$2822,MATCH(ROWS($J$16:J1512),$N$16:$N$2822,0)),\"\")","v":""}]
["20","02","09","3","200209","Gmina miejsko-wiejska","PODLASKIE","białostocki","SUPRAŚL","SUPRAŚL - Gmina miejsko-wiejska / Powiat białostocki / Województwo  - PODLASKIE / 200209 / ",72726963,78632100,{"$f":"ISNUMBER(SEARCH(Wyszukiwarka!$A$1,'Porównanie dochodów JST'!J1513))","v":false},{"$f":"IF(M1513,COUNTIF($M$16:M1513,TRUE),\"\")","v":""},{"$f":"IFERROR(INDEX($J$16:$J$2822,MATCH(ROWS($J$16:J1513),$N$16:$N$2822,0)),\"\")","v":""}]
["20","02","10","3","200210","Gmina miejsko-wiejska","PODLASKIE","białostocki","SURAŻ","SURAŻ - Gmina miejsko-wiejska / Powiat białostocki / Województwo  - PODLASKIE / 200210 / ",5810461,6596482.2000000002,{"$f":"ISNUMBER(SEARCH(Wyszukiwarka!$A$1,'Porównanie dochodów JST'!J1514))","v":false},{"$f":"IF(M1514,COUNTIF($M$16:M1514,TRUE),\"\")","v":""},{"$f":"IFERROR(INDEX($J$16:$J$2822,MATCH(ROWS($J$16:J1514),$N$16:$N$2822,0)),\"\")","v":""}]
["20","02","11","2","200211","Gmina wiejska","PODLASKIE","białostocki","TUROŚŃ KOŚCIELNA","TUROŚŃ KOŚCIELNA - Gmina wiejska / Powiat białostocki / Województwo  - PODLASKIE / 200211 / ",28233720,30987735,{"$f":"ISNUMBER(SEARCH(Wyszukiwarka!$A$1,'Porównanie dochodów JST'!J1515))","v":false},{"$f":"IF(M1515,COUNTIF($M$16:M1515,TRUE),\"\")","v":""},{"$f":"IFERROR(INDEX($J$16:$J$2822,MATCH(ROWS($J$16:J1515),$N$16:$N$2822,0)),\"\")","v":""}]
["20","02","12","3","200212","Gmina miejsko-wiejska","PODLASKIE","białostocki","TYKOCIN","TYKOCIN - Gmina miejsko-wiejska / Powiat białostocki / Województwo  - PODLASKIE / 200212 / ",22164250,24631945.415822752,{"$f":"ISNUMBER(SEARCH(Wyszukiwarka!$A$1,'Porównanie dochodów JST'!J1516))","v":false},{"$f":"IF(M1516,COUNTIF($M$16:M1516,TRUE),\"\")","v":""},{"$f":"IFERROR(INDEX($J$16:$J$2822,MATCH(ROWS($J$16:J1516),$N$16:$N$2822,0)),\"\")","v":""}]
["20","02","13","3","200213","Gmina miejsko-wiejska","PODLASKIE","białostocki","WASILKÓW","WASILKÓW - Gmina miejsko-wiejska / Powiat białostocki / Województwo  - PODLASKIE / 200213 / ",69276408,74976502,{"$f":"ISNUMBER(SEARCH(Wyszukiwarka!$A$1,'Porównanie dochodów JST'!J1517))","v":false},{"$f":"IF(M1517,COUNTIF($M$16:M1517,TRUE),\"\")","v":""},{"$f":"IFERROR(INDEX($J$16:$J$2822,MATCH(ROWS($J$16:J1517),$N$16:$N$2822,0)),\"\")","v":""}]
["20","02","14","3","200214","Gmina miejsko-wiejska","PODLASKIE","białostocki","ZABŁUDÓW","ZABŁUDÓW - Gmina miejsko-wiejska / Powiat białostocki / Województwo  - PODLASKIE / 200214 / ",33315855,37336779,{"$f":"ISNUMBER(SEARCH(Wyszukiwarka!$A$1,'Porównanie dochodów JST'!J1518))","v":false},{"$f":"IF(M1518,COUNTIF($M$16:M1518,TRUE),\"\")","v":""},{"$f":"IFERROR(INDEX($J$16:$J$2822,MATCH(ROWS($J$16:J1518),$N$16:$N$2822,0)),\"\")","v":""}]
["20","02","15","2","200215","Gmina wiejska","PODLASKIE","białostocki","ZAWADY","ZAWADY - Gmina wiejska / Powiat białostocki / Województwo  - PODLASKIE / 200215 / ",11784117,13126599.955,{"$f":"ISNUMBER(SEARCH(Wyszukiwarka!$A$1,'Porównanie dochodów JST'!J1519))","v":false},{"$f":"IF(M1519,COUNTIF($M$16:M1519,TRUE),\"\")","v":""},{"$f":"IFERROR(INDEX($J$16:$J$2822,MATCH(ROWS($J$16:J1519),$N$16:$N$2822,0)),\"\")","v":""}]
["20","03","01","1","200301","Gmina miejska","PODLASKIE","bielski","BIELSK PODLASKI","BIELSK PODLASKI - Gmina miejska / Powiat bielski / Województwo  - PODLASKIE / 200301 / ",80347523,92574307.840000004,{"$f":"ISNUMBER(SEARCH(Wyszukiwarka!$A$1,'Porównanie dochodów JST'!J1520))","v":false},{"$f":"IF(M1520,COUNTIF($M$16:M1520,TRUE),\"\")","v":""},{"$f":"IFERROR(INDEX($J$16:$J$2822,MATCH(ROWS($J$16:J1520),$N$16:$N$2822,0)),\"\")","v":""}]
["20","03","02","1","200302","Gmina miejska","PODLASKIE","bielski","BRAŃSK","BRAŃSK - Gmina miejska / Powiat bielski / Województwo  - PODLASKIE / 200302 / ",14496722,15894968,{"$f":"ISNUMBER(SEARCH(Wyszukiwarka!$A$1,'Porównanie dochodów JST'!J1521))","v":false},{"$f":"IF(M1521,COUNTIF($M$16:M1521,TRUE),\"\")","v":""},{"$f":"IFERROR(INDEX($J$16:$J$2822,MATCH(ROWS($J$16:J1521),$N$16:$N$2822,0)),\"\")","v":""}]
["20","03","03","2","200303","Gmina wiejska","PODLASKIE","bielski","BIELSK PODLASKI","BIELSK PODLASKI - Gmina wiejska / Powiat bielski / Województwo  - PODLASKIE / 200303 / ",20249403,22911286.856466912,{"$f":"ISNUMBER(SEARCH(Wyszukiwarka!$A$1,'Porównanie dochodów JST'!J1522))","v":false},{"$f":"IF(M1522,COUNTIF($M$16:M1522,TRUE),\"\")","v":""},{"$f":"IFERROR(INDEX($J$16:$J$2822,MATCH(ROWS($J$16:J1522),$N$16:$N$2822,0)),\"\")","v":""}]
["20","03","04","2","200304","Gmina wiejska","PODLASKIE","bielski","BOĆKI","BOĆKI - Gmina wiejska / Powiat bielski / Województwo  - PODLASKIE / 200304 / ",14323248,16469229.279999999,{"$f":"ISNUMBER(SEARCH(Wyszukiwarka!$A$1,'Porównanie dochodów JST'!J1523))","v":false},{"$f":"IF(M1523,COUNTIF($M$16:M1523,TRUE),\"\")","v":""},{"$f":"IFERROR(INDEX($J$16:$J$2822,MATCH(ROWS($J$16:J1523),$N$16:$N$2822,0)),\"\")","v":""}]
["20","03","05","2","200305","Gmina wiejska","PODLASKIE","bielski","BRAŃSK","BRAŃSK - Gmina wiejska / Powiat bielski / Województwo  - PODLASKIE / 200305 / ",18690322,21523626.880000003,{"$f":"ISNUMBER(SEARCH(Wyszukiwarka!$A$1,'Porównanie dochodów JST'!J1524))","v":false},{"$f":"IF(M1524,COUNTIF($M$16:M1524,TRUE),\"\")","v":""},{"$f":"IFERROR(INDEX($J$16:$J$2822,MATCH(ROWS($J$16:J1524),$N$16:$N$2822,0)),\"\")","v":""}]
["20","03","06","2","200306","Gmina wiejska","PODLASKIE","bielski","ORLA","ORLA - Gmina wiejska / Powiat bielski / Województwo  - PODLASKIE / 200306 / ",7666239,8619537.0834963657,{"$f":"ISNUMBER(SEARCH(Wyszukiwarka!$A$1,'Porównanie dochodów JST'!J1525))","v":false},{"$f":"IF(M1525,COUNTIF($M$16:M1525,TRUE),\"\")","v":""},{"$f":"IFERROR(INDEX($J$16:$J$2822,MATCH(ROWS($J$16:J1525),$N$16:$N$2822,0)),\"\")","v":""}]
["20","03","07","2","200307","Gmina wiejska","PODLASKIE","bielski","RUDKA","RUDKA - Gmina wiejska / Powiat bielski / Województwo  - PODLASKIE / 200307 / ",7575098,8513815.9800000004,{"$f":"ISNUMBER(SEARCH(Wyszukiwarka!$A$1,'Porównanie dochodów JST'!J1526))","v":false},{"$f":"IF(M1526,COUNTIF($M$16:M1526,TRUE),\"\")","v":""},{"$f":"IFERROR(INDEX($J$16:$J$2822,MATCH(ROWS($J$16:J1526),$N$16:$N$2822,0)),\"\")","v":""}]
["20","03","08","2","200308","Gmina wiejska","PODLASKIE","bielski","WYSZKI","WYSZKI - Gmina wiejska / Powiat bielski / Województwo  - PODLASKIE / 200308 / ",20405275,23303127.68,{"$f":"ISNUMBER(SEARCH(Wyszukiwarka!$A$1,'Porównanie dochodów JST'!J1527))","v":false},{"$f":"IF(M1527,COUNTIF($M$16:M1527,TRUE),\"\")","v":""},{"$f":"IFERROR(INDEX($J$16:$J$2822,MATCH(ROWS($J$16:J1527),$N$16:$N$2822,0)),\"\")","v":""}]
["20","04","01","1","200401","Gmina miejska","PODLASKIE","grajewski","GRAJEWO","GRAJEWO - Gmina miejska / Powiat grajewski / Województwo  - PODLASKIE / 200401 / ",62930853,69971651.817114383,{"$f":"ISNUMBER(SEARCH(Wyszukiwarka!$A$1,'Porównanie dochodów JST'!J1528))","v":false},{"$f":"IF(M1528,COUNTIF($M$16:M1528,TRUE),\"\")","v":""},{"$f":"IFERROR(INDEX($J$16:$J$2822,MATCH(ROWS($J$16:J1528),$N$16:$N$2822,0)),\"\")","v":""}]
["20","04","02","2","200402","Gmina wiejska","PODLASKIE","grajewski","GRAJEWO","GRAJEWO - Gmina wiejska / Powiat grajewski / Województwo  - PODLASKIE / 200402 / ",18234859,20515659.234324679,{"$f":"ISNUMBER(SEARCH(Wyszukiwarka!$A$1,'Porównanie dochodów JST'!J1529))","v":false},{"$f":"IF(M1529,COUNTIF($M$16:M1529,TRUE),\"\")","v":""},{"$f":"IFERROR(INDEX($J$16:$J$2822,MATCH(ROWS($J$16:J1529),$N$16:$N$2822,0)),\"\")","v":""}]
["20","04","03","2","200403","Gmina wiejska","PODLASKIE","grajewski","RADZIŁÓW","RADZIŁÓW - Gmina wiejska / Powiat grajewski / Województwo  - PODLASKIE / 200403 / ",21734698,24872912.960000001,{"$f":"ISNUMBER(SEARCH(Wyszukiwarka!$A$1,'Porównanie dochodów JST'!J1530))","v":false},{"$f":"IF(M1530,COUNTIF($M$16:M1530,TRUE),\"\")","v":""},{"$f":"IFERROR(INDEX($J$16:$J$2822,MATCH(ROWS($J$16:J1530),$N$16:$N$2822,0)),\"\")","v":""}]
["20","04","04","3","200404","Gmina miejsko-wiejska","PODLASKIE","grajewski","RAJGRÓD","RAJGRÓD - Gmina miejsko-wiejska / Powiat grajewski / Województwo  - PODLASKIE / 200404 / ",14083998,16293129.439999999,{"$f":"ISNUMBER(SEARCH(Wyszukiwarka!$A$1,'Porównanie dochodów JST'!J1531))","v":false},{"$f":"IF(M1531,COUNTIF($M$16:M1531,TRUE),\"\")","v":""},{"$f":"IFERROR(INDEX($J$16:$J$2822,MATCH(ROWS($J$16:J1531),$N$16:$N$2822,0)),\"\")","v":""}]
["20","04","05","3","200405","Gmina miejsko-wiejska","PODLASKIE","grajewski","SZCZUCZYN","SZCZUCZYN - Gmina miejsko-wiejska / Powiat grajewski / Województwo  - PODLASKIE / 200405 / ",20157585,22241996,{"$f":"ISNUMBER(SEARCH(Wyszukiwarka!$A$1,'Porównanie dochodów JST'!J1532))","v":false},{"$f":"IF(M1532,COUNTIF($M$16:M1532,TRUE),\"\")","v":""},{"$f":"IFERROR(INDEX($J$16:$J$2822,MATCH(ROWS($J$16:J1532),$N$16:$N$2822,0)),\"\")","v":""}]
["20","04","06","2","200406","Gmina wiejska","PODLASKIE","grajewski","WĄSOSZ","WĄSOSZ - Gmina wiejska / Powiat grajewski / Województwo  - PODLASKIE / 200406 / ",13167145,15135708,{"$f":"ISNUMBER(SEARCH(Wyszukiwarka!$A$1,'Porównanie dochodów JST'!J1533))","v":false},{"$f":"IF(M1533,COUNTIF($M$16:M1533,TRUE),\"\")","v":""},{"$f":"IFERROR(INDEX($J$16:$J$2822,MATCH(ROWS($J$16:J1533),$N$16:$N$2822,0)),\"\")","v":""}]
["20","05","01","1","200501","Gmina miejska","PODLASKIE","hajnowski","HAJNÓWKA","HAJNÓWKA - Gmina miejska / Powiat hajnowski / Województwo  - PODLASKIE / 200501 / ",64876103,74559216.186893657,{"$f":"ISNUMBER(SEARCH(Wyszukiwarka!$A$1,'Porównanie dochodów JST'!J1534))","v":false},{"$f":"IF(M1534,COUNTIF($M$16:M1534,TRUE),\"\")","v":""},{"$f":"IFERROR(INDEX($J$16:$J$2822,MATCH(ROWS($J$16:J1534),$N$16:$N$2822,0)),\"\")","v":""}]
["20","05","02","2","200502","Gmina wiejska","PODLASKIE","hajnowski","BIAŁOWIEŻA","BIAŁOWIEŻA - Gmina wiejska / Powiat hajnowski / Województwo  - PODLASKIE / 200502 / ",6863186,7847562.2400000002,{"$f":"ISNUMBER(SEARCH(Wyszukiwarka!$A$1,'Porównanie dochodów JST'!J1535))","v":false},{"$f":"IF(M1535,COUNTIF($M$16:M1535,TRUE),\"\")","v":""},{"$f":"IFERROR(INDEX($J$16:$J$2822,MATCH(ROWS($J$16:J1535),$N$16:$N$2822,0)),\"\")","v":""}]
["20","05","03","2","200503","Gmina wiejska","PODLASKIE","hajnowski","CZEREMCHA","CZEREMCHA - Gmina wiejska / Powiat hajnowski / Województwo  - PODLASKIE / 200503 / ",10226817,11499975.639999999,{"$f":"ISNUMBER(SEARCH(Wyszukiwarka!$A$1,'Porównanie dochodów JST'!J1536))","v":false},{"$f":"IF(M1536,COUNTIF($M$16:M1536,TRUE),\"\")","v":""},{"$f":"IFERROR(INDEX($J$16:$J$2822,MATCH(ROWS($J$16:J1536),$N$16:$N$2822,0)),\"\")","v":""}]
["20","05","04","2","200504","Gmina wiejska","PODLASKIE","hajnowski","CZYŻE","CZYŻE - Gmina wiejska / Powiat hajnowski / Województwo  - PODLASKIE / 200504 / ",6667271,7531682.3999999994,{"$f":"ISNUMBER(SEARCH(Wyszukiwarka!$A$1,'Porównanie dochodów JST'!J1537))","v":false},{"$f":"IF(M1537,COUNTIF($M$16:M1537,TRUE),\"\")","v":""},{"$f":"IFERROR(INDEX($J$16:$J$2822,MATCH(ROWS($J$16:J1537),$N$16:$N$2822,0)),\"\")","v":""}]
["20","05","05","2","200505","Gmina wiejska","PODLASKIE","hajnowski","DUBICZE CERKIEWNE","DUBICZE CERKIEWNE - Gmina wiejska / Powiat hajnowski / Województwo  - PODLASKIE / 200505 / ",5383640,6071750.0099999998,{"$f":"ISNUMBER(SEARCH(Wyszukiwarka!$A$1,'Porównanie dochodów JST'!J1538))","v":false},{"$f":"IF(M1538,COUNTIF($M$16:M1538,TRUE),\"\")","v":""},{"$f":"IFERROR(INDEX($J$16:$J$2822,MATCH(ROWS($J$16:J1538),$N$16:$N$2822,0)),\"\")","v":""}]
["20","05","06","2","200506","Gmina wiejska","PODLASKIE","hajnowski","HAJNÓWKA","HAJNÓWKA - Gmina wiejska / Powiat hajnowski / Województwo  - PODLASKIE / 200506 / ",12028166,13345745.428607158,{"$f":"ISNUMBER(SEARCH(Wyszukiwarka!$A$1,'Porównanie dochodów JST'!J1539))","v":false},{"$f":"IF(M1539,COUNTIF($M$16:M1539,TRUE),\"\")","v":""},{"$f":"IFERROR(INDEX($J$16:$J$2822,MATCH(ROWS($J$16:J1539),$N$16:$N$2822,0)),\"\")","v":""}]
["20","05","07","3","200507","Gmina miejsko-wiejska","PODLASKIE","hajnowski","KLESZCZELE","KLESZCZELE - Gmina miejsko-wiejska / Powiat hajnowski / Województwo  - PODLASKIE / 200507 / ",7367404,8337255.1550000012,{"$f":"ISNUMBER(SEARCH(Wyszukiwarka!$A$1,'Porównanie dochodów JST'!J1540))","v":false},{"$f":"IF(M1540,COUNTIF($M$16:M1540,TRUE),\"\")","v":""},{"$f":"IFERROR(INDEX($J$16:$J$2822,MATCH(ROWS($J$16:J1540),$N$16:$N$2822,0)),\"\")","v":""}]
["20","05","08","2","200508","Gmina wiejska","PODLASKIE","hajnowski","NAREW","NAREW - Gmina wiejska / Powiat hajnowski / Województwo  - PODLASKIE / 200508 / ",12176914,13555145,{"$f":"ISNUMBER(SEARCH(Wyszukiwarka!$A$1,'Porównanie dochodów JST'!J1541))","v":false},{"$f":"IF(M1541,COUNTIF($M$16:M1541,TRUE),\"\")","v":""},{"$f":"IFERROR(INDEX($J$16:$J$2822,MATCH(ROWS($J$16:J1541),$N$16:$N$2822,0)),\"\")","v":""}]
["20","05","09","2","200509","Gmina wiejska","PODLASKIE","hajnowski","NAREWKA","NAREWKA - Gmina wiejska / Powiat hajnowski / Województwo  - PODLASKIE / 200509 / ",11037763,12306758,{"$f":"ISNUMBER(SEARCH(Wyszukiwarka!$A$1,'Porównanie dochodów JST'!J1542))","v":false},{"$f":"IF(M1542,COUNTIF($M$16:M1542,TRUE),\"\")","v":""},{"$f":"IFERROR(INDEX($J$16:$J$2822,MATCH(ROWS($J$16:J1542),$N$16:$N$2822,0)),\"\")","v":""}]
["20","06","01","1","200601","Gmina miejska","PODLASKIE","kolneński","KOLNO","KOLNO - Gmina miejska / Powiat kolneński / Województwo  - PODLASKIE / 200601 / ",33169117,36573126,{"$f":"ISNUMBER(SEARCH(Wyszukiwarka!$A$1,'Porównanie dochodów JST'!J1543))","v":false},{"$f":"IF(M1543,COUNTIF($M$16:M1543,TRUE),\"\")","v":""},{"$f":"IFERROR(INDEX($J$16:$J$2822,MATCH(ROWS($J$16:J1543),$N$16:$N$2822,0)),\"\")","v":""}]
["20","06","02","2","200602","Gmina wiejska","PODLASKIE","kolneński","GRABOWO","GRABOWO - Gmina wiejska / Powiat kolneński / Województwo  - PODLASKIE / 200602 / ",12360210,13811601,{"$f":"ISNUMBER(SEARCH(Wyszukiwarka!$A$1,'Porównanie dochodów JST'!J1544))","v":false},{"$f":"IF(M1544,COUNTIF($M$16:M1544,TRUE),\"\")","v":""},{"$f":"IFERROR(INDEX($J$16:$J$2822,MATCH(ROWS($J$16:J1544),$N$16:$N$2822,0)),\"\")","v":""}]
["20","06","03","2","200603","Gmina wiejska","PODLASKIE","kolneński","KOLNO","KOLNO - Gmina wiejska / Powiat kolneński / Województwo  - PODLASKIE / 200603 / ",33289576,36265013.760826647,{"$f":"ISNUMBER(SEARCH(Wyszukiwarka!$A$1,'Porównanie dochodów JST'!J1545))","v":false},{"$f":"IF(M1545,COUNTIF($M$16:M1545,TRUE),\"\")","v":""},{"$f":"IFERROR(INDEX($J$16:$J$2822,MATCH(ROWS($J$16:J1545),$N$16:$N$2822,0)),\"\")","v":""}]
["20","06","04","2","200604","Gmina wiejska","PODLASKIE","kolneński","MAŁY PŁOCK","MAŁY PŁOCK - Gmina wiejska / Powiat kolneński / Województwo  - PODLASKIE / 200604 / ",17790893,20442052.960000001,{"$f":"ISNUMBER(SEARCH(Wyszukiwarka!$A$1,'Porównanie dochodów JST'!J1546))","v":false},{"$f":"IF(M1546,COUNTIF($M$16:M1546,TRUE),\"\")","v":""},{"$f":"IFERROR(INDEX($J$16:$J$2822,MATCH(ROWS($J$16:J1546),$N$16:$N$2822,0)),\"\")","v":""}]
["20","06","05","3","200605","Gmina miejsko-wiejska","PODLASKIE","kolneński","STAWISKI","STAWISKI - Gmina miejsko-wiejska / Powiat kolneński / Województwo  - PODLASKIE / 200605 / ",20627055,22704219,{"$f":"ISNUMBER(SEARCH(Wyszukiwarka!$A$1,'Porównanie dochodów JST'!J1547))","v":false},{"$f":"IF(M1547,COUNTIF($M$16:M1547,TRUE),\"\")","v":""},{"$f":"IFERROR(INDEX($J$16:$J$2822,MATCH(ROWS($J$16:J1547),$N$16:$N$2822,0)),\"\")","v":""}]
["20","06","06","2","200606","Gmina wiejska","PODLASKIE","kolneński","TUROŚL","TUROŚL - Gmina wiejska / Powiat kolneński / Województwo  - PODLASKIE / 200606 / ",23797160,27246711.519999996,{"$f":"ISNUMBER(SEARCH(Wyszukiwarka!$A$1,'Porównanie dochodów JST'!J1548))","v":false},{"$f":"IF(M1548,COUNTIF($M$16:M1548,TRUE),\"\")","v":""},{"$f":"IFERROR(INDEX($J$16:$J$2822,MATCH(ROWS($J$16:J1548),$N$16:$N$2822,0)),\"\")","v":""}]
["20","07","01","3","200701","Gmina miejsko-wiejska","PODLASKIE","łomżyński","JEDWABNE","JEDWABNE - Gmina miejsko-wiejska / Powiat łomżyński / Województwo  - PODLASKIE / 200701 / ",19271666,21280645,{"$f":"ISNUMBER(SEARCH(Wyszukiwarka!$A$1,'Porównanie dochodów JST'!J1549))","v":false},{"$f":"IF(M1549,COUNTIF($M$16:M1549,TRUE),\"\")","v":""},{"$f":"IFERROR(INDEX($J$16:$J$2822,MATCH(ROWS($J$16:J1549),$N$16:$N$2822,0)),\"\")","v":""}]
["20","07","02","2","200702","Gmina wiejska","PODLASKIE","łomżyński","ŁOMŻA","ŁOMŻA - Gmina wiejska / Powiat łomżyński / Województwo  - PODLASKIE / 200702 / ",44522952,48766143.854336984,{"$f":"ISNUMBER(SEARCH(Wyszukiwarka!$A$1,'Porównanie dochodów JST'!J1550))","v":false},{"$f":"IF(M1550,COUNTIF($M$16:M1550,TRUE),\"\")","v":""},{"$f":"IFERROR(INDEX($J$16:$J$2822,MATCH(ROWS($J$16:J1550),$N$16:$N$2822,0)),\"\")","v":""}]
["20","07","03","2","200703","Gmina wiejska","PODLASKIE","łomżyński","MIASTKOWO","MIASTKOWO - Gmina wiejska / Powiat łomżyński / Województwo  - PODLASKIE / 200703 / ",15378561,16793195,{"$f":"ISNUMBER(SEARCH(Wyszukiwarka!$A$1,'Porównanie dochodów JST'!J1551))","v":false},{"$f":"IF(M1551,COUNTIF($M$16:M1551,TRUE),\"\")","v":""},{"$f":"IFERROR(INDEX($J$16:$J$2822,MATCH(ROWS($J$16:J1551),$N$16:$N$2822,0)),\"\")","v":""}]
["20","07","04","3","200704","Gmina miejsko-wiejska","PODLASKIE","łomżyński","NOWOGRÓD","NOWOGRÓD - Gmina miejsko-wiejska / Powiat łomżyński / Województwo  - PODLASKIE / 200704 / ",12704616,14088392,{"$f":"ISNUMBER(SEARCH(Wyszukiwarka!$A$1,'Porównanie dochodów JST'!J1552))","v":false},{"$f":"IF(M1552,COUNTIF($M$16:M1552,TRUE),\"\")","v":""},{"$f":"IFERROR(INDEX($J$16:$J$2822,MATCH(ROWS($J$16:J1552),$N$16:$N$2822,0)),\"\")","v":""}]
["20","07","05","2","200705","Gmina wiejska","PODLASKIE","łomżyński","PIĄTNICA",{"$f":"I1553&$H$12&F1553&$G$12&$H$14&H1553&$G$12&$G$14&$H$12&G1553&$G$12&E1553&$G$12","v":"PIĄTNICA - Gmina wiejska / Powiat łomżyński / Województwo  - PODLASKIE / 200705 / "},40173583,44220193,{"$f":"ISNUMBER(SEARCH(Wyszukiwarka!$A$1,'Porównanie dochodów JST'!J1553))","v":false},{"$f":"IF(M1553,COUNTIF($M$16:M1553,TRUE),\"\")","v":""},{"$f":"IFERROR(INDEX($J$16:$J$2822,MATCH(ROWS($J$16:J1553),$N$16:$N$2822,0)),\"\")","v":""}]
["20","07","06","2","200706","Gmina wiejska","PODLASKIE","łomżyński","PRZYTUŁY","PRZYTUŁY - Gmina wiejska / Powiat łomżyński / Województwo  - PODLASKIE / 200706 / ",9173145,10507603.68,{"$f":"ISNUMBER(SEARCH(Wyszukiwarka!$A$1,'Porównanie dochodów JST'!J1554))","v":false},{"$f":"IF(M1554,COUNTIF($M$16:M1554,TRUE),\"\")","v":""},{"$f":"IFERROR(INDEX($J$16:$J$2822,MATCH(ROWS($J$16:J1554),$N$16:$N$2822,0)),\"\")","v":""}]
["20","07","07","2","200707","Gmina wiejska","PODLASKIE","łomżyński","ŚNIADOWO","ŚNIADOWO - Gmina wiejska / Powiat łomżyński / Województwo  - PODLASKIE / 200707 / ",19845419,21872344.594506305,{"$f":"ISNUMBER(SEARCH(Wyszukiwarka!$A$1,'Porównanie dochodów JST'!J1555))","v":false},{"$f":"IF(M1555,COUNTIF($M$16:M1555,TRUE),\"\")","v":""},{"$f":"IFERROR(INDEX($J$16:$J$2822,MATCH(ROWS($J$16:J1555),$N$16:$N$2822,0)),\"\")","v":""}]
["20","07","08","2","200708","Gmina wiejska","PODLASKIE","łomżyński","WIZNA","WIZNA - Gmina wiejska / Powiat łomżyński / Województwo  - PODLASKIE / 200708 / ",15258728,16649530.633307137,{"$f":"ISNUMBER(SEARCH(Wyszukiwarka!$A$1,'Porównanie dochodów JST'!J1556))","v":false},{"$f":"IF(M1556,COUNTIF($M$16:M1556,TRUE),\"\")","v":""},{"$f":"IFERROR(INDEX($J$16:$J$2822,MATCH(ROWS($J$16:J1556),$N$16:$N$2822,0)),\"\")","v":""}]
["20","07","09","2","200709","Gmina wiejska","PODLASKIE","łomżyński","ZBÓJNA","ZBÓJNA - Gmina wiejska / Powiat łomżyński / Województwo  - PODLASKIE / 200709 / ",17227646,19771553.760000002,{"$f":"ISNUMBER(SEARCH(Wyszukiwarka!$A$1,'Porównanie dochodów JST'!J1557))","v":false},{"$f":"IF(M1557,COUNTIF($M$16:M1557,TRUE),\"\")","v":""},{"$f":"IFERROR(INDEX($J$16:$J$2822,MATCH(ROWS($J$16:J1557),$N$16:$N$2822,0)),\"\")","v":""}]
["20","08","01","3","200801","Gmina miejsko-wiejska","PODLASKIE","moniecki","GONIĄDZ","GONIĄDZ - Gmina miejsko-wiejska / Powiat moniecki / Województwo  - PODLASKIE / 200801 / ",16097303,18566807.840000004,{"$f":"ISNUMBER(SEARCH(Wyszukiwarka!$A$1,'Porównanie dochodów JST'!J1558))","v":false},{"$f":"IF(M1558,COUNTIF($M$16:M1558,TRUE),\"\")","v":""},{"$f":"IFERROR(INDEX($J$16:$J$2822,MATCH(ROWS($J$16:J1558),$N$16:$N$2822,0)),\"\")","v":""}]
["20","08","02","2","200802","Gmina wiejska","PODLASKIE","moniecki","JASIONÓWKA","JASIONÓWKA - Gmina wiejska / Powiat moniecki / Województwo  - PODLASKIE / 200802 / ",11314038,12569286.689999999,{"$f":"ISNUMBER(SEARCH(Wyszukiwarka!$A$1,'Porównanie dochodów JST'!J1559))","v":false},{"$f":"IF(M1559,COUNTIF($M$16:M1559,TRUE),\"\")","v":""},{"$f":"IFERROR(INDEX($J$16:$J$2822,MATCH(ROWS($J$16:J1559),$N$16:$N$2822,0)),\"\")","v":""}]
["20","08","03","2","200803","Gmina wiejska","PODLASKIE","moniecki","JAŚWIŁY","JAŚWIŁY - Gmina wiejska / Powiat moniecki / Województwo  - PODLASKIE / 200803 / ",16480943,18418041,{"$f":"ISNUMBER(SEARCH(Wyszukiwarka!$A$1,'Porównanie dochodów JST'!J1560))","v":false},{"$f":"IF(M1560,COUNTIF($M$16:M1560,TRUE),\"\")","v":""},{"$f":"IFERROR(INDEX($J$16:$J$2822,MATCH(ROWS($J$16:J1560),$N$16:$N$2822,0)),\"\")","v":""}]
["20","08","04","3","200804","Gmina miejsko-wiejska","PODLASKIE","moniecki","KNYSZYN","KNYSZYN - Gmina miejsko-wiejska / Powiat moniecki / Województwo  - PODLASKIE / 200804 / ",18850460,21103844.680274479,{"$f":"ISNUMBER(SEARCH(Wyszukiwarka!$A$1,'Porównanie dochodów JST'!J1561))","v":false},{"$f":"IF(M1561,COUNTIF($M$16:M1561,TRUE),\"\")","v":""},{"$f":"IFERROR(INDEX($J$16:$J$2822,MATCH(ROWS($J$16:J1561),$N$16:$N$2822,0)),\"\")","v":""}]
["20","08","05","2","200805","Gmina wiejska","PODLASKIE","moniecki","KRYPNO","KRYPNO - Gmina wiejska / Powiat moniecki / Województwo  - PODLASKIE / 200805 / ",15714867,17110131.558482025,{"$f":"ISNUMBER(SEARCH(Wyszukiwarka!$A$1,'Porównanie dochodów JST'!J1562))","v":false},{"$f":"IF(M1562,COUNTIF($M$16:M1562,TRUE),\"\")","v":""},{"$f":"IFERROR(INDEX($J$16:$J$2822,MATCH(ROWS($J$16:J1562),$N$16:$N$2822,0)),\"\")","v":""}]
["20","08","06","3","200806","Gmina miejsko-wiejska","PODLASKIE","moniecki","MOŃKI","MOŃKI - Gmina miejsko-wiejska / Powiat moniecki / Województwo  - PODLASKIE / 200806 / ",48905067,53248351.833870769,{"$f":"ISNUMBER(SEARCH(Wyszukiwarka!$A$1,'Porównanie dochodów JST'!J1563))","v":false},{"$f":"IF(M1563,COUNTIF($M$16:M1563,TRUE),\"\")","v":""},{"$f":"IFERROR(INDEX($J$16:$J$2822,MATCH(ROWS($J$16:J1563),$N$16:$N$2822,0)),\"\")","v":""}]
["20","08","07","2","200807","Gmina wiejska","PODLASKIE","moniecki","TRZCIANNE","TRZCIANNE - Gmina wiejska / Powiat moniecki / Województwo  - PODLASKIE / 200807 / ",15351476,17673364.800000001,{"$f":"ISNUMBER(SEARCH(Wyszukiwarka!$A$1,'Porównanie dochodów JST'!J1564))","v":false},{"$f":"IF(M1564,COUNTIF($M$16:M1564,TRUE),\"\")","v":""},{"$f":"IFERROR(INDEX($J$16:$J$2822,MATCH(ROWS($J$16:J1564),$N$16:$N$2822,0)),\"\")","v":""}]
["20","09","01","1","200901","Gmina miejska","PODLASKIE","sejneński","SEJNY","SEJNY - Gmina miejska / Powiat sejneński / Województwo  - PODLASKIE / 200901 / ",20919450,23925382.879999999,{"$f":"ISNUMBER(SEARCH(Wyszukiwarka!$A$1,'Porównanie dochodów JST'!J1565))","v":false},{"$f":"IF(M1565,COUNTIF($M$16:M1565,TRUE),\"\")","v":""},{"$f":"IFERROR(INDEX($J$16:$J$2822,MATCH(ROWS($J$16:J1565),$N$16:$N$2822,0)),\"\")","v":""}]
["20","09","02","2","200902","Gmina wiejska","PODLASKIE","sejneński","GIBY","GIBY - Gmina wiejska / Powiat sejneński / Województwo  - PODLASKIE / 200902 / ",7609631,8811335.6799999997,{"$f":"ISNUMBER(SEARCH(Wyszukiwarka!$A$1,'Porównanie dochodów JST'!J1566))","v":false},{"$f":"IF(M1566,COUNTIF($M$16:M1566,TRUE),\"\")","v":""},{"$f":"IFERROR(INDEX($J$16:$J$2822,MATCH(ROWS($J$16:J1566),$N$16:$N$2822,0)),\"\")","v":""}]
["20","09","03","2","200903","Gmina wiejska","PODLASKIE","sejneński","KRASNOPOL","KRASNOPOL - Gmina wiejska / Powiat sejneński / Województwo  - PODLASKIE / 200903 / ",13286409,14650596.534999998,{"$f":"ISNUMBER(SEARCH(Wyszukiwarka!$A$1,'Porównanie dochodów JST'!J1567))","v":false},{"$f":"IF(M1567,COUNTIF($M$16:M1567,TRUE),\"\")","v":""},{"$f":"IFERROR(INDEX($J$16:$J$2822,MATCH(ROWS($J$16:J1567),$N$16:$N$2822,0)),\"\")","v":""}]
["20","09","04","2","200904","Gmina wiejska","PODLASKIE","sejneński","PUŃSK","PUŃSK - Gmina wiejska / Powiat sejneński / Województwo  - PODLASKIE / 200904 / ",15522734,16936564.911924265,{"$f":"ISNUMBER(SEARCH(Wyszukiwarka!$A$1,'Porównanie dochodów JST'!J1568))","v":false},{"$f":"IF(M1568,COUNTIF($M$16:M1568,TRUE),\"\")","v":""},{"$f":"IFERROR(INDEX($J$16:$J$2822,MATCH(ROWS($J$16:J1568),$N$16:$N$2822,0)),\"\")","v":""}]
["20","09","05","2","200905","Gmina wiejska","PODLASKIE","sejneński","SEJNY","SEJNY - Gmina wiejska / Powiat sejneński / Województwo  - PODLASKIE / 200905 / ",12211513,13604957,{"$f":"ISNUMBER(SEARCH(Wyszukiwarka!$A$1,'Porównanie dochodów JST'!J1569))","v":false},{"$f":"IF(M1569,COUNTIF($M$16:M1569,TRUE),\"\")","v":""},{"$f":"IFERROR(INDEX($J$16:$J$2822,MATCH(ROWS($J$16:J1569),$N$16:$N$2822,0)),\"\")","v":""}]
["20","10","01","1","201001","Gmina miejska","PODLASKIE","siemiatycki","SIEMIATYCZE","SIEMIATYCZE - Gmina miejska / Powiat siemiatycki / Województwo  - PODLASKIE / 201001 / ",43029449,49594639.359999999,{"$f":"ISNUMBER(SEARCH(Wyszukiwarka!$A$1,'Porównanie dochodów JST'!J1570))","v":false},{"$f":"IF(M1570,COUNTIF($M$16:M1570,TRUE),\"\")","v":""},{"$f":"IFERROR(INDEX($J$16:$J$2822,MATCH(ROWS($J$16:J1570),$N$16:$N$2822,0)),\"\")","v":""}]
["20","10","02","3","201002","Gmina miejsko-wiejska","PODLASKIE","siemiatycki","DROHICZYN","DROHICZYN - Gmina miejsko-wiejska / Powiat siemiatycki / Województwo  - PODLASKIE / 201002 / ",20563086,23655608.48,{"$f":"ISNUMBER(SEARCH(Wyszukiwarka!$A$1,'Porównanie dochodów JST'!J1571))","v":false},{"$f":"IF(M1571,COUNTIF($M$16:M1571,TRUE),\"\")","v":""},{"$f":"IFERROR(INDEX($J$16:$J$2822,MATCH(ROWS($J$16:J1571),$N$16:$N$2822,0)),\"\")","v":""}]
["20","10","03","2","201003","Gmina wiejska","PODLASKIE","siemiatycki","DZIADKOWICE","DZIADKOWICE - Gmina wiejska / Powiat siemiatycki / Województwo  - PODLASKIE / 201003 / ",9036941,10424207.359999999,{"$f":"ISNUMBER(SEARCH(Wyszukiwarka!$A$1,'Porównanie dochodów JST'!J1572))","v":false},{"$f":"IF(M1572,COUNTIF($M$16:M1572,TRUE),\"\")","v":""},{"$f":"IFERROR(INDEX($J$16:$J$2822,MATCH(ROWS($J$16:J1572),$N$16:$N$2822,0)),\"\")","v":""}]
["20","10","04","2","201004","Gmina wiejska","PODLASKIE","siemiatycki","GRODZISK","GRODZISK - Gmina wiejska / Powiat siemiatycki / Województwo  - PODLASKIE / 201004 / ",10737062,12112970.907226231,{"$f":"ISNUMBER(SEARCH(Wyszukiwarka!$A$1,'Porównanie dochodów JST'!J1573))","v":false},{"$f":"IF(M1573,COUNTIF($M$16:M1573,TRUE),\"\")","v":""},{"$f":"IFERROR(INDEX($J$16:$J$2822,MATCH(ROWS($J$16:J1573),$N$16:$N$2822,0)),\"\")","v":""}]
["20","10","05","2","201005","Gmina wiejska","PODLASKIE","siemiatycki","MIELNIK","MIELNIK - Gmina wiejska / Powiat siemiatycki / Województwo  - PODLASKIE / 201005 / ",5000953,5722894.9744830253,{"$f":"ISNUMBER(SEARCH(Wyszukiwarka!$A$1,'Porównanie dochodów JST'!J1574))","v":false},{"$f":"IF(M1574,COUNTIF($M$16:M1574,TRUE),\"\")","v":""},{"$f":"IFERROR(INDEX($J$16:$J$2822,MATCH(ROWS($J$16:J1574),$N$16:$N$2822,0)),\"\")","v":""}]
["20","10","06","2","201006","Gmina wiejska","PODLASKIE","siemiatycki","MILEJCZYCE","MILEJCZYCE - Gmina wiejska / Powiat siemiatycki / Województwo  - PODLASKIE / 201006 / ",5746448,6499274.75,{"$f":"ISNUMBER(SEARCH(Wyszukiwarka!$A$1,'Porównanie dochodów JST'!J1575))","v":false},{"$f":"IF(M1575,COUNTIF($M$16:M1575,TRUE),\"\")","v":""},{"$f":"IFERROR(INDEX($J$16:$J$2822,MATCH(ROWS($J$16:J1575),$N$16:$N$2822,0)),\"\")","v":""}]
["20","10","07","2","201007","Gmina wiejska","PODLASKIE","siemiatycki","NURZEC-STACJA","NURZEC-STACJA - Gmina wiejska / Powiat siemiatycki / Województwo  - PODLASKIE / 201007 / ",11696469,13049001,{"$f":"ISNUMBER(SEARCH(Wyszukiwarka!$A$1,'Porównanie dochodów JST'!J1576))","v":false},{"$f":"IF(M1576,COUNTIF($M$16:M1576,TRUE),\"\")","v":""},{"$f":"IFERROR(INDEX($J$16:$J$2822,MATCH(ROWS($J$16:J1576),$N$16:$N$2822,0)),\"\")","v":""}]
["20","10","08","2","201008","Gmina wiejska","PODLASKIE","siemiatycki","PERLEJEWO","PERLEJEWO - Gmina wiejska / Powiat siemiatycki / Województwo  - PODLASKIE / 201008 / ",10324092,11573721.799999999,{"$f":"ISNUMBER(SEARCH(Wyszukiwarka!$A$1,'Porównanie dochodów JST'!J1577))","v":false},{"$f":"IF(M1577,COUNTIF($M$16:M1577,TRUE),\"\")","v":""},{"$f":"IFERROR(INDEX($J$16:$J$2822,MATCH(ROWS($J$16:J1577),$N$16:$N$2822,0)),\"\")","v":""}]
["20","10","09","2","201009","Gmina wiejska","PODLASKIE","siemiatycki","SIEMIATYCZE","SIEMIATYCZE - Gmina wiejska / Powiat siemiatycki / Województwo  - PODLASKIE / 201009 / ",16656729,18739727.74638775,{"$f":"ISNUMBER(SEARCH(Wyszukiwarka!$A$1,'Porównanie dochodów JST'!J1578))","v":false},{"$f":"IF(M1578,COUNTIF($M$16:M1578,TRUE),\"\")","v":""},{"$f":"IFERROR(INDEX($J$16:$J$2822,MATCH(ROWS($J$16:J1578),$N$16:$N$2822,0)),\"\")","v":""}]
["20","11","01","3","201101","Gmina miejsko-wiejska","PODLASKIE","sokólski","DĄBROWA BIAŁOSTOCKA","DĄBROWA BIAŁOSTOCKA - Gmina miejsko-wiejska / Powiat sokólski / Województwo  - PODLASKIE / 201101 / ",37386288,41400429,{"$f":"ISNUMBER(SEARCH(Wyszukiwarka!$A$1,'Porównanie dochodów JST'!J1579))","v":false},{"$f":"IF(M1579,COUNTIF($M$16:M1579,TRUE),\"\")","v":""},{"$f":"IFERROR(INDEX($J$16:$J$2822,MATCH(ROWS($J$16:J1579),$N$16:$N$2822,0)),\"\")","v":""}]
["20","11","02","2","201102","Gmina wiejska","PODLASKIE","sokólski","JANÓW","JANÓW - Gmina wiejska / Powiat sokólski / Województwo  - PODLASKIE / 201102 / ",14192581,15934414.084471084,{"$f":"ISNUMBER(SEARCH(Wyszukiwarka!$A$1,'Porównanie dochodów JST'!J1580))","v":false},{"$f":"IF(M1580,COUNTIF($M$16:M1580,TRUE),\"\")","v":""},{"$f":"IFERROR(INDEX($J$16:$J$2822,MATCH(ROWS($J$16:J1580),$N$16:$N$2822,0)),\"\")","v":""}]
["20","11","03","2","201103","Gmina wiejska","PODLASKIE","sokólski","KORYCIN","KORYCIN - Gmina wiejska / Powiat sokólski / Województwo  - PODLASKIE / 201103 / ",12180579,13494792,{"$f":"ISNUMBER(SEARCH(Wyszukiwarka!$A$1,'Porównanie dochodów JST'!J1581))","v":false},{"$f":"IF(M1581,COUNTIF($M$16:M1581,TRUE),\"\")","v":""},{"$f":"IFERROR(INDEX($J$16:$J$2822,MATCH(ROWS($J$16:J1581),$N$16:$N$2822,0)),\"\")","v":""}]
["20","11","04","3","201104","Gmina miejsko-wiejska","PODLASKIE","sokólski","KRYNKI","KRYNKI - Gmina miejsko-wiejska / Powiat sokólski / Województwo  - PODLASKIE / 201104 / ",9110607,10322288.9,{"$f":"ISNUMBER(SEARCH(Wyszukiwarka!$A$1,'Porównanie dochodów JST'!J1582))","v":false},{"$f":"IF(M1582,COUNTIF($M$16:M1582,TRUE),\"\")","v":""},{"$f":"IFERROR(INDEX($J$16:$J$2822,MATCH(ROWS($J$16:J1582),$N$16:$N$2822,0)),\"\")","v":""}]
["20","11","05","2","201105","Gmina wiejska","PODLASKIE","sokólski","KUŹNICA","KUŹNICA - Gmina wiejska / Powiat sokólski / Województwo  - PODLASKIE / 201105 / ",14510260,15887326.639773203,{"$f":"ISNUMBER(SEARCH(Wyszukiwarka!$A$1,'Porównanie dochodów JST'!J1583))","v":false},{"$f":"IF(M1583,COUNTIF($M$16:M1583,TRUE),\"\")","v":""},{"$f":"IFERROR(INDEX($J$16:$J$2822,MATCH(ROWS($J$16:J1583),$N$16:$N$2822,0)),\"\")","v":""}]
["20","11","06","2","201106","Gmina wiejska","PODLASKIE","sokólski","NOWY DWÓR","NOWY DWÓR - Gmina wiejska / Powiat sokólski / Województwo  - PODLASKIE / 201106 / ",10375424,11605689,{"$f":"ISNUMBER(SEARCH(Wyszukiwarka!$A$1,'Porównanie dochodów JST'!J1584))","v":false},{"$f":"IF(M1584,COUNTIF($M$16:M1584,TRUE),\"\")","v":""},{"$f":"IFERROR(INDEX($J$16:$J$2822,MATCH(ROWS($J$16:J1584),$N$16:$N$2822,0)),\"\")","v":""}]
["20","11","07","2","201107","Gmina wiejska","PODLASKIE","sokólski","SIDRA","SIDRA - Gmina wiejska / Powiat sokólski / Województwo  - PODLASKIE / 201107 / ",11836947,13145658,{"$f":"ISNUMBER(SEARCH(Wyszukiwarka!$A$1,'Porównanie dochodów JST'!J1585))","v":false},{"$f":"IF(M1585,COUNTIF($M$16:M1585,TRUE),\"\")","v":""},{"$f":"IFERROR(INDEX($J$16:$J$2822,MATCH(ROWS($J$16:J1585),$N$16:$N$2822,0)),\"\")","v":""}]
["20","11","08","3","201108","Gmina miejsko-wiejska","PODLASKIE","sokólski","SOKÓŁKA","SOKÓŁKA - Gmina miejsko-wiejska / Powiat sokólski / Województwo  - PODLASKIE / 201108 / ",81103512,89569889.827797487,{"$f":"ISNUMBER(SEARCH(Wyszukiwarka!$A$1,'Porównanie dochodów JST'!J1586))","v":false},{"$f":"IF(M1586,COUNTIF($M$16:M1586,TRUE),\"\")","v":""},{"$f":"IFERROR(INDEX($J$16:$J$2822,MATCH(ROWS($J$16:J1586),$N$16:$N$2822,0)),\"\")","v":""}]
["20","11","09","3","201109","Gmina miejsko-wiejska","PODLASKIE","sokólski","SUCHOWOLA","SUCHOWOLA - Gmina miejsko-wiejska / Powiat sokólski / Województwo  - PODLASKIE / 201109 / ",26227451,30128369.600000001,{"$f":"ISNUMBER(SEARCH(Wyszukiwarka!$A$1,'Porównanie dochodów JST'!J1587))","v":false},{"$f":"IF(M1587,COUNTIF($M$16:M1587,TRUE),\"\")","v":""},{"$f":"IFERROR(INDEX($J$16:$J$2822,MATCH(ROWS($J$16:J1587),$N$16:$N$2822,0)),\"\")","v":""}]
["20","11","10","2","201110","Gmina wiejska","PODLASKIE","sokólski","SZUDZIAŁOWO","SZUDZIAŁOWO - Gmina wiejska / Powiat sokólski / Województwo  - PODLASKIE / 201110 / ",9514112,10770686.300000001,{"$f":"ISNUMBER(SEARCH(Wyszukiwarka!$A$1,'Porównanie dochodów JST'!J1588))","v":false},{"$f":"IF(M1588,COUNTIF($M$16:M1588,TRUE),\"\")","v":""},{"$f":"IFERROR(INDEX($J$16:$J$2822,MATCH(ROWS($J$16:J1588),$N$16:$N$2822,0)),\"\")","v":""}]
["20","12","01","2","201201","Gmina wiejska","PODLASKIE","suwalski","BAKAŁARZEWO","BAKAŁARZEWO - Gmina wiejska / Powiat suwalski / Województwo  - PODLASKIE / 201201 / ",9627411,10914622.400000002,{"$f":"ISNUMBER(SEARCH(Wyszukiwarka!$A$1,'Porównanie dochodów JST'!J1589))","v":false},{"$f":"IF(M1589,COUNTIF($M$16:M1589,TRUE),\"\")","v":""},{"$f":"IFERROR(INDEX($J$16:$J$2822,MATCH(ROWS($J$16:J1589),$N$16:$N$2822,0)),\"\")","v":""}]
["20","12","02","2","201202","Gmina wiejska","PODLASKIE","suwalski","FILIPÓW","FILIPÓW - Gmina wiejska / Powiat suwalski / Województwo  - PODLASKIE / 201202 / ",16004045,17920445,{"$f":"ISNUMBER(SEARCH(Wyszukiwarka!$A$1,'Porównanie dochodów JST'!J1590))","v":false},{"$f":"IF(M1590,COUNTIF($M$16:M1590,TRUE),\"\")","v":""},{"$f":"IFERROR(INDEX($J$16:$J$2822,MATCH(ROWS($J$16:J1590),$N$16:$N$2822,0)),\"\")","v":""}]
["20","12","03","2","201203","Gmina wiejska","PODLASKIE","suwalski","JELENIEWO","JELENIEWO - Gmina wiejska / Powiat suwalski / Województwo  - PODLASKIE / 201203 / ",10913889,12235689.715,{"$f":"ISNUMBER(SEARCH(Wyszukiwarka!$A$1,'Porównanie dochodów JST'!J1591))","v":false},{"$f":"IF(M1591,COUNTIF($M$16:M1591,TRUE),\"\")","v":""},{"$f":"IFERROR(INDEX($J$16:$J$2822,MATCH(ROWS($J$16:J1591),$N$16:$N$2822,0)),\"\")","v":""}]
["20","12","04","2","201204","Gmina wiejska","PODLASKIE","suwalski","PRZEROŚL","PRZEROŚL - Gmina wiejska / Powiat suwalski / Województwo  - PODLASKIE / 201204 / ",11710452,13098541.16,{"$f":"ISNUMBER(SEARCH(Wyszukiwarka!$A$1,'Porównanie dochodów JST'!J1592))","v":false},{"$f":"IF(M1592,COUNTIF($M$16:M1592,TRUE),\"\")","v":""},{"$f":"IFERROR(INDEX($J$16:$J$2822,MATCH(ROWS($J$16:J1592),$N$16:$N$2822,0)),\"\")","v":""}]
["20","12","05","2","201205","Gmina wiejska","PODLASKIE","suwalski","RACZKI","RACZKI - Gmina wiejska / Powiat suwalski / Województwo  - PODLASKIE / 201205 / ",20610195,22686539,{"$f":"ISNUMBER(SEARCH(Wyszukiwarka!$A$1,'Porównanie dochodów JST'!J1593))","v":false},{"$f":"IF(M1593,COUNTIF($M$16:M1593,TRUE),\"\")","v":""},{"$f":"IFERROR(INDEX($J$16:$J$2822,MATCH(ROWS($J$16:J1593),$N$16:$N$2822,0)),\"\")","v":""}]
["20","12","06","2","201206","Gmina wiejska","PODLASKIE","suwalski","RUTKA-TARTAK","RUTKA-TARTAK - Gmina wiejska / Powiat suwalski / Województwo  - PODLASKIE / 201206 / ",9548135,10755268.504999999,{"$f":"ISNUMBER(SEARCH(Wyszukiwarka!$A$1,'Porównanie dochodów JST'!J1594))","v":false},{"$f":"IF(M1594,COUNTIF($M$16:M1594,TRUE),\"\")","v":""},{"$f":"IFERROR(INDEX($J$16:$J$2822,MATCH(ROWS($J$16:J1594),$N$16:$N$2822,0)),\"\")","v":""}]
["20","12","07","2","201207","Gmina wiejska","PODLASKIE","suwalski","SUWAŁKI","SUWAŁKI - Gmina wiejska / Powiat suwalski / Województwo  - PODLASKIE / 201207 / ",25261704,31785343.819249723,{"$f":"ISNUMBER(SEARCH(Wyszukiwarka!$A$1,'Porównanie dochodów JST'!J1595))","v":false},{"$f":"IF(M1595,COUNTIF($M$16:M1595,TRUE),\"\")","v":""},{"$f":"IFERROR(INDEX($J$16:$J$2822,MATCH(ROWS($J$16:J1595),$N$16:$N$2822,0)),\"\")","v":""}]
["20","12","08","2","201208","Gmina wiejska","PODLASKIE","suwalski","SZYPLISZKI","SZYPLISZKI - Gmina wiejska / Powiat suwalski / Województwo  - PODLASKIE / 201208 / ",11899600,13284017.58576032,{"$f":"ISNUMBER(SEARCH(Wyszukiwarka!$A$1,'Porównanie dochodów JST'!J1596))","v":false},{"$f":"IF(M1596,COUNTIF($M$16:M1596,TRUE),\"\")","v":""},{"$f":"IFERROR(INDEX($J$16:$J$2822,MATCH(ROWS($J$16:J1596),$N$16:$N$2822,0)),\"\")","v":""}]
["20","12","09","2","201209","Gmina wiejska","PODLASKIE","suwalski","WIŻAJNY","WIŻAJNY - Gmina wiejska / Powiat suwalski / Województwo  - PODLASKIE / 201209 / ",9060745,10375163.68,{"$f":"ISNUMBER(SEARCH(Wyszukiwarka!$A$1,'Porównanie dochodów JST'!J1597))","v":false},{"$f":"IF(M1597,COUNTIF($M$16:M1597,TRUE),\"\")","v":""},{"$f":"IFERROR(INDEX($J$16:$J$2822,MATCH(ROWS($J$16:J1597),$N$16:$N$2822,0)),\"\")","v":""}]
["20","13","01","1","201301","Gmina miejska","PODLASKIE","wysokomazowiecki","WYSOKIE MAZOWIECKIE","WYSOKIE MAZOWIECKIE - Gmina miejska / Powiat wysokomazowiecki / Województwo  - PODLASKIE / 201301 / ",43091219,46815803.522207603,{"$f":"ISNUMBER(SEARCH(Wyszukiwarka!$A$1,'Porównanie dochodów JST'!J1598))","v":false},{"$f":"IF(M1598,COUNTIF($M$16:M1598,TRUE),\"\")","v":""},{"$f":"IFERROR(INDEX($J$16:$J$2822,MATCH(ROWS($J$16:J1598),$N$16:$N$2822,0)),\"\")","v":""}]
["20","13","02","3","201302","Gmina miejsko-wiejska","PODLASKIE","wysokomazowiecki","CIECHANOWIEC","CIECHANOWIEC - Gmina miejsko-wiejska / Powiat wysokomazowiecki / Województwo  - PODLASKIE / 201302 / ",28737737,31542525.577911265,{"$f":"ISNUMBER(SEARCH(Wyszukiwarka!$A$1,'Porównanie dochodów JST'!J1599))","v":false},{"$f":"IF(M1599,COUNTIF($M$16:M1599,TRUE),\"\")","v":""},{"$f":"IFERROR(INDEX($J$16:$J$2822,MATCH(ROWS($J$16:J1599),$N$16:$N$2822,0)),\"\")","v":""}]
["20","13","03","3","201303","Gmina miejsko-wiejska","PODLASKIE","wysokomazowiecki","CZYŻEW","CZYŻEW - Gmina miejsko-wiejska / Powiat wysokomazowiecki / Województwo  - PODLASKIE / 201303 / ",23824282,25944462,{"$f":"ISNUMBER(SEARCH(Wyszukiwarka!$A$1,'Porównanie dochodów JST'!J1600))","v":false},{"$f":"IF(M1600,COUNTIF($M$16:M1600,TRUE),\"\")","v":""},{"$f":"IFERROR(INDEX($J$16:$J$2822,MATCH(ROWS($J$16:J1600),$N$16:$N$2822,0)),\"\")","v":""}]
["20","13","04","2","201304","Gmina wiejska","PODLASKIE","wysokomazowiecki","KLUKOWO","KLUKOWO - Gmina wiejska / Powiat wysokomazowiecki / Województwo  - PODLASKIE / 201304 / ",15937509,18297613.600000001,{"$f":"ISNUMBER(SEARCH(Wyszukiwarka!$A$1,'Porównanie dochodów JST'!J1601))","v":false},{"$f":"IF(M1601,COUNTIF($M$16:M1601,TRUE),\"\")","v":""},{"$f":"IFERROR(INDEX($J$16:$J$2822,MATCH(ROWS($J$16:J1601),$N$16:$N$2822,0)),\"\")","v":""}]
["20","13","05","2","201305","Gmina wiejska","PODLASKIE","wysokomazowiecki","KOBYLIN-BORZYMY","KOBYLIN-BORZYMY - Gmina wiejska / Powiat wysokomazowiecki / Województwo  - PODLASKIE / 201305 / ",11154437,12445969.759999998,{"$f":"ISNUMBER(SEARCH(Wyszukiwarka!$A$1,'Porównanie dochodów JST'!J1602))","v":false},{"$f":"IF(M1602,COUNTIF($M$16:M1602,TRUE),\"\")","v":""},{"$f":"IFERROR(INDEX($J$16:$J$2822,MATCH(ROWS($J$16:J1602),$N$16:$N$2822,0)),\"\")","v":""}]
["20","13","06","2","201306","Gmina wiejska","PODLASKIE","wysokomazowiecki","KULESZE KOŚCIELNE","KULESZE KOŚCIELNE - Gmina wiejska / Powiat wysokomazowiecki / Województwo  - PODLASKIE / 201306 / ",11333019,12631486.52,{"$f":"ISNUMBER(SEARCH(Wyszukiwarka!$A$1,'Porównanie dochodów JST'!J1603))","v":false},{"$f":"IF(M1603,COUNTIF($M$16:M1603,TRUE),\"\")","v":""},{"$f":"IFERROR(INDEX($J$16:$J$2822,MATCH(ROWS($J$16:J1603),$N$16:$N$2822,0)),\"\")","v":""}]
["20","13","07","2","201307","Gmina wiejska","PODLASKIE","wysokomazowiecki","NOWE PIEKUTY","NOWE PIEKUTY - Gmina wiejska / Powiat wysokomazowiecki / Województwo  - PODLASKIE / 201307 / ",16413970,18629908,{"$f":"ISNUMBER(SEARCH(Wyszukiwarka!$A$1,'Porównanie dochodów JST'!J1604))","v":false},{"$f":"IF(M1604,COUNTIF($M$16:M1604,TRUE),\"\")","v":""},{"$f":"IFERROR(INDEX($J$16:$J$2822,MATCH(ROWS($J$16:J1604),$N$16:$N$2822,0)),\"\")","v":""}]
["20","13","08","2","201308","Gmina wiejska","PODLASKIE","wysokomazowiecki","SOKOŁY","SOKOŁY - Gmina wiejska / Powiat wysokomazowiecki / Województwo  - PODLASKIE / 201308 / ",18920012,20948453,{"$f":"ISNUMBER(SEARCH(Wyszukiwarka!$A$1,'Porównanie dochodów JST'!J1605))","v":false},{"$f":"IF(M1605,COUNTIF($M$16:M1605,TRUE),\"\")","v":""},{"$f":"IFERROR(INDEX($J$16:$J$2822,MATCH(ROWS($J$16:J1605),$N$16:$N$2822,0)),\"\")","v":""}]
["20","13","09","3","201309","Gmina miejsko-wiejska","PODLASKIE","wysokomazowiecki","SZEPIETOWO","SZEPIETOWO - Gmina miejsko-wiejska / Powiat wysokomazowiecki / Województwo  - PODLASKIE / 201309 / ",22270660,24914973.688127317,{"$f":"ISNUMBER(SEARCH(Wyszukiwarka!$A$1,'Porównanie dochodów JST'!J1606))","v":false},{"$f":"IF(M1606,COUNTIF($M$16:M1606,TRUE),\"\")","v":""},{"$f":"IFERROR(INDEX($J$16:$J$2822,MATCH(ROWS($J$16:J1606),$N$16:$N$2822,0)),\"\")","v":""}]
["20","13","10","2","201310","Gmina wiejska","PODLASKIE","wysokomazowiecki","WYSOKIE MAZOWIECKIE","WYSOKIE MAZOWIECKIE - Gmina wiejska / Powiat wysokomazowiecki / Województwo  - PODLASKIE / 201310 / ",14584019,16635345,{"$f":"ISNUMBER(SEARCH(Wyszukiwarka!$A$1,'Porównanie dochodów JST'!J1607))","v":false},{"$f":"IF(M1607,COUNTIF($M$16:M1607,TRUE),\"\")","v":""},{"$f":"IFERROR(INDEX($J$16:$J$2822,MATCH(ROWS($J$16:J1607),$N$16:$N$2822,0)),\"\")","v":""}]
["20","14","01","1","201401","Gmina miejska","PODLASKIE","zambrowski","ZAMBRÓW","ZAMBRÓW - Gmina miejska / Powiat zambrowski / Województwo  - PODLASKIE / 201401 / ",70015515,77407741.843529746,{"$f":"ISNUMBER(SEARCH(Wyszukiwarka!$A$1,'Porównanie dochodów JST'!J1608))","v":false},{"$f":"IF(M1608,COUNTIF($M$16:M1608,TRUE),\"\")","v":""},{"$f":"IFERROR(INDEX($J$16:$J$2822,MATCH(ROWS($J$16:J1608),$N$16:$N$2822,0)),\"\")","v":""}]
["20","14","02","2","201402","Gmina wiejska","PODLASKIE","zambrowski","KOŁAKI KOŚCIELNE","KOŁAKI KOŚCIELNE - Gmina wiejska / Powiat zambrowski / Województwo  - PODLASKIE / 201402 / ",9228816,10391455.679999998,{"$f":"ISNUMBER(SEARCH(Wyszukiwarka!$A$1,'Porównanie dochodów JST'!J1609))","v":false},{"$f":"IF(M1609,COUNTIF($M$16:M1609,TRUE),\"\")","v":""},{"$f":"IFERROR(INDEX($J$16:$J$2822,MATCH(ROWS($J$16:J1609),$N$16:$N$2822,0)),\"\")","v":""}]
["20","14","03","2","201403","Gmina wiejska","PODLASKIE","zambrowski","RUTKI","RUTKI - Gmina wiejska / Powiat zambrowski / Województwo  - PODLASKIE / 201403 / ",19340177,21359445,{"$f":"ISNUMBER(SEARCH(Wyszukiwarka!$A$1,'Porównanie dochodów JST'!J1610))","v":false},{"$f":"IF(M1610,COUNTIF($M$16:M1610,TRUE),\"\")","v":""},{"$f":"IFERROR(INDEX($J$16:$J$2822,MATCH(ROWS($J$16:J1610),$N$16:$N$2822,0)),\"\")","v":""}]
["20","14","04","2","201404","Gmina wiejska","PODLASKIE","zambrowski","SZUMOWO","SZUMOWO - Gmina wiejska / Powiat zambrowski / Województwo  - PODLASKIE / 201404 / ",20245095,22343537.588354647,{"$f":"ISNUMBER(SEARCH(Wyszukiwarka!$A$1,'Porównanie dochodów JST'!J1611))","v":false},{"$f":"IF(M1611,COUNTIF($M$16:M1611,TRUE),\"\")","v":""},{"$f":"IFERROR(INDEX($J$16:$J$2822,MATCH(ROWS($J$16:J1611),$N$16:$N$2822,0)),\"\")","v":""}]
["20","14","05","2","201405","Gmina wiejska","PODLASKIE","zambrowski","ZAMBRÓW","ZAMBRÓW - Gmina wiejska / Powiat zambrowski / Województwo  - PODLASKIE / 201405 / ",26973675,30313895,{"$f":"ISNUMBER(SEARCH(Wyszukiwarka!$A$1,'Porównanie dochodów JST'!J1612))","v":false},{"$f":"IF(M1612,COUNTIF($M$16:M1612,TRUE),\"\")","v":""},{"$f":"IFERROR(INDEX($J$16:$J$2822,MATCH(ROWS($J$16:J1612),$N$16:$N$2822,0)),\"\")","v":""}]
["22","01","01","2","220101","Gmina wiejska","POMORSKIE","bytowski","BORZYTUCHOM","BORZYTUCHOM - Gmina wiejska / Powiat bytowski / Województwo  - POMORSKIE / 220101 / ",16042040,17403184,{"$f":"ISNUMBER(SEARCH(Wyszukiwarka!$A$1,'Porównanie dochodów JST'!J1613))","v":false},{"$f":"IF(M1613,COUNTIF($M$16:M1613,TRUE),\"\")","v":""},{"$f":"IFERROR(INDEX($J$16:$J$2822,MATCH(ROWS($J$16:J1613),$N$16:$N$2822,0)),\"\")","v":""}]
["22","01","02","3","220102","Gmina miejsko-wiejska","POMORSKIE","bytowski","BYTÓW","BYTÓW - Gmina miejsko-wiejska / Powiat bytowski / Województwo  - POMORSKIE / 220102 / ",92503200,102019334.16970722,{"$f":"ISNUMBER(SEARCH(Wyszukiwarka!$A$1,'Porównanie dochodów JST'!J1614))","v":false},{"$f":"IF(M1614,COUNTIF($M$16:M1614,TRUE),\"\")","v":""},{"$f":"IFERROR(INDEX($J$16:$J$2822,MATCH(ROWS($J$16:J1614),$N$16:$N$2822,0)),\"\")","v":""}]
["22","01","03","2","220103","Gmina wiejska","POMORSKIE","bytowski","CZARNA DĄBRÓWKA","CZARNA DĄBRÓWKA - Gmina wiejska / Powiat bytowski / Województwo  - POMORSKIE / 220103 / ",27883024,31876793.759999998,{"$f":"ISNUMBER(SEARCH(Wyszukiwarka!$A$1,'Porównanie dochodów JST'!J1615))","v":false},{"$f":"IF(M1615,COUNTIF($M$16:M1615,TRUE),\"\")","v":""},{"$f":"IFERROR(INDEX($J$16:$J$2822,MATCH(ROWS($J$16:J1615),$N$16:$N$2822,0)),\"\")","v":""}]
["22","01","04","2","220104","Gmina wiejska","POMORSKIE","bytowski","KOŁCZYGŁOWY","KOŁCZYGŁOWY - Gmina wiejska / Powiat bytowski / Województwo  - POMORSKIE / 220104 / ",16374236,18287308.859202564,{"$f":"ISNUMBER(SEARCH(Wyszukiwarka!$A$1,'Porównanie dochodów JST'!J1616))","v":false},{"$f":"IF(M1616,COUNTIF($M$16:M1616,TRUE),\"\")","v":""},{"$f":"IFERROR(INDEX($J$16:$J$2822,MATCH(ROWS($J$16:J1616),$N$16:$N$2822,0)),\"\")","v":""}]
["22","01","05","2","220105","Gmina wiejska","POMORSKIE","bytowski","LIPNICA",{"$f":"I1617&$H$12&F1617&$G$12&$H$14&H1617&$G$12&$G$14&$H$12&G1617&$G$12&E1617&$G$12","v":"LIPNICA - Gmina wiejska / Powiat bytowski / Województwo  - POMORSKIE / 220105 / "},22571529,24608402.62146689,{"$f":"ISNUMBER(SEARCH(Wyszukiwarka!$A$1,'Porównanie dochodów JST'!J1617))","v":false},{"$f":"IF(M1617,COUNTIF($M$16:M1617,TRUE),\"\")","v":""},{"$f":"IFERROR(INDEX($J$16:$J$2822,MATCH(ROWS($J$16:J1617),$N$16:$N$2822,0)),\"\")","v":""}]
["22","01","06","3","220106","Gmina miejsko-wiejska","POMORSKIE","bytowski","MIASTKO","MIASTKO - Gmina miejsko-wiejska / Powiat bytowski / Województwo  - POMORSKIE / 220106 / ",67804057,73922714.738075271,{"$f":"ISNUMBER(SEARCH(Wyszukiwarka!$A$1,'Porównanie dochodów JST'!J1618))","v":false},{"$f":"IF(M1618,COUNTIF($M$16:M1618,TRUE),\"\")","v":""},{"$f":"IFERROR(INDEX($J$16:$J$2822,MATCH(ROWS($J$16:J1618),$N$16:$N$2822,0)),\"\")","v":""}]
["22","01","07","2","220107","Gmina wiejska","POMORSKIE","bytowski","PARCHOWO","PARCHOWO - Gmina wiejska / Powiat bytowski / Województwo  - POMORSKIE / 220107 / ",19022168,20445567.200299904,{"$f":"ISNUMBER(SEARCH(Wyszukiwarka!$A$1,'Porównanie dochodów JST'!J1619))","v":false},{"$f":"IF(M1619,COUNTIF($M$16:M1619,TRUE),\"\")","v":""},{"$f":"IFERROR(INDEX($J$16:$J$2822,MATCH(ROWS($J$16:J1619),$N$16:$N$2822,0)),\"\")","v":""}]
["22","01","08","2","220108","Gmina wiejska","POMORSKIE","bytowski","STUDZIENICE","STUDZIENICE - Gmina wiejska / Powiat bytowski / Województwo  - POMORSKIE / 220108 / ",19766596,21652187.339438081,{"$f":"ISNUMBER(SEARCH(Wyszukiwarka!$A$1,'Porównanie dochodów JST'!J1620))","v":false},{"$f":"IF(M1620,COUNTIF($M$16:M1620,TRUE),\"\")","v":""},{"$f":"IFERROR(INDEX($J$16:$J$2822,MATCH(ROWS($J$16:J1620),$N$16:$N$2822,0)),\"\")","v":""}]
["22","01","09","2","220109","Gmina wiejska","POMORSKIE","bytowski","TRZEBIELINO","TRZEBIELINO - Gmina wiejska / Powiat bytowski / Województwo  - POMORSKIE / 220109 / ",20762454,22125737.59,{"$f":"ISNUMBER(SEARCH(Wyszukiwarka!$A$1,'Porównanie dochodów JST'!J1621))","v":false},{"$f":"IF(M1621,COUNTIF($M$16:M1621,TRUE),\"\")","v":""},{"$f":"IFERROR(INDEX($J$16:$J$2822,MATCH(ROWS($J$16:J1621),$N$16:$N$2822,0)),\"\")","v":""}]
["22","01","10","2","220110","Gmina wiejska","POMORSKIE","bytowski","TUCHOMIE","TUCHOMIE - Gmina wiejska / Powiat bytowski / Województwo  - POMORSKIE / 220110 / ",20864162,22788169,{"$f":"ISNUMBER(SEARCH(Wyszukiwarka!$A$1,'Porównanie dochodów JST'!J1622))","v":false},{"$f":"IF(M1622,COUNTIF($M$16:M1622,TRUE),\"\")","v":""},{"$f":"IFERROR(INDEX($J$16:$J$2822,MATCH(ROWS($J$16:J1622),$N$16:$N$2822,0)),\"\")","v":""}]
["22","02","01","1","220201","Gmina miejska","POMORSKIE","chojnicki","CHOJNICE","CHOJNICE - Gmina miejska / Powiat chojnicki / Województwo  - POMORSKIE / 220201 / ",138831094,157038100.43920058,{"$f":"ISNUMBER(SEARCH(Wyszukiwarka!$A$1,'Porównanie dochodów JST'!J1623))","v":false},{"$f":"IF(M1623,COUNTIF($M$16:M1623,TRUE),\"\")","v":""},{"$f":"IFERROR(INDEX($J$16:$J$2822,MATCH(ROWS($J$16:J1623),$N$16:$N$2822,0)),\"\")","v":""}]
["22","02","02","3","220202","Gmina miejsko-wiejska","POMORSKIE","chojnicki","BRUSY","BRUSY - Gmina miejsko-wiejska / Powiat chojnicki / Województwo  - POMORSKIE / 220202 / ",65881354,70478295.619203284,{"$f":"ISNUMBER(SEARCH(Wyszukiwarka!$A$1,'Porównanie dochodów JST'!J1624))","v":false},{"$f":"IF(M1624,COUNTIF($M$16:M1624,TRUE),\"\")","v":""},{"$f":"IFERROR(INDEX($J$16:$J$2822,MATCH(ROWS($J$16:J1624),$N$16:$N$2822,0)),\"\")","v":""}]
["22","02","03","2","220203","Gmina wiejska","POMORSKIE","chojnicki","CHOJNICE","CHOJNICE - Gmina wiejska / Powiat chojnicki / Województwo  - POMORSKIE / 220203 / ",73167693,81101816.609695613,{"$f":"ISNUMBER(SEARCH(Wyszukiwarka!$A$1,'Porównanie dochodów JST'!J1625))","v":false},{"$f":"IF(M1625,COUNTIF($M$16:M1625,TRUE),\"\")","v":""},{"$f":"IFERROR(INDEX($J$16:$J$2822,MATCH(ROWS($J$16:J1625),$N$16:$N$2822,0)),\"\")","v":""}]
["22","02","04","3","220204","Gmina miejsko-wiejska","POMORSKIE","chojnicki","CZERSK","CZERSK - Gmina miejsko-wiejska / Powiat chojnicki / Województwo  - POMORSKIE / 220204 / ",80309855,85927838,{"$f":"ISNUMBER(SEARCH(Wyszukiwarka!$A$1,'Porównanie dochodów JST'!J1626))","v":false},{"$f":"IF(M1626,COUNTIF($M$16:M1626,TRUE),\"\")","v":""},{"$f":"IFERROR(INDEX($J$16:$J$2822,MATCH(ROWS($J$16:J1626),$N$16:$N$2822,0)),\"\")","v":""}]
["22","02","05","2","220205","Gmina wiejska","POMORSKIE","chojnicki","KONARZYNY","KONARZYNY - Gmina wiejska / Powiat chojnicki / Województwo  - POMORSKIE / 220205 / ",10962680,12201880.719999999,{"$f":"ISNUMBER(SEARCH(Wyszukiwarka!$A$1,'Porównanie dochodów JST'!J1627))","v":false},{"$f":"IF(M1627,COUNTIF($M$16:M1627,TRUE),\"\")","v":""},{"$f":"IFERROR(INDEX($J$16:$J$2822,MATCH(ROWS($J$16:J1627),$N$16:$N$2822,0)),\"\")","v":""}]
["22","03","01","1","220301","Gmina miejska","POMORSKIE","człuchowski","CZŁUCHÓW","CZŁUCHÓW - Gmina miejska / Powiat człuchowski / Województwo  - POMORSKIE / 220301 / ",38317635,44277792.159999996,{"$f":"ISNUMBER(SEARCH(Wyszukiwarka!$A$1,'Porównanie dochodów JST'!J1628))","v":false},{"$f":"IF(M1628,COUNTIF($M$16:M1628,TRUE),\"\")","v":""},{"$f":"IFERROR(INDEX($J$16:$J$2822,MATCH(ROWS($J$16:J1628),$N$16:$N$2822,0)),\"\")","v":""}]
["22","03","02","3","220302","Gmina miejsko-wiejska","POMORSKIE","człuchowski","CZARNE","CZARNE - Gmina miejsko-wiejska / Powiat człuchowski / Województwo  - POMORSKIE / 220302 / ",30102881,33469392,{"$f":"ISNUMBER(SEARCH(Wyszukiwarka!$A$1,'Porównanie dochodów JST'!J1629))","v":false},{"$f":"IF(M1629,COUNTIF($M$16:M1629,TRUE),\"\")","v":""},{"$f":"IFERROR(INDEX($J$16:$J$2822,MATCH(ROWS($J$16:J1629),$N$16:$N$2822,0)),\"\")","v":""}]
["22","03","03","2","220303","Gmina wiejska","POMORSKIE","człuchowski","CZŁUCHÓW","CZŁUCHÓW - Gmina wiejska / Powiat człuchowski / Województwo  - POMORSKIE / 220303 / ",41812832,45907865.569302857,{"$f":"ISNUMBER(SEARCH(Wyszukiwarka!$A$1,'Porównanie dochodów JST'!J1630))","v":false},{"$f":"IF(M1630,COUNTIF($M$16:M1630,TRUE),\"\")","v":""},{"$f":"IFERROR(INDEX($J$16:$J$2822,MATCH(ROWS($J$16:J1630),$N$16:$N$2822,0)),\"\")","v":""}]
["22","03","04","3","220304","Gmina miejsko-wiejska","POMORSKIE","człuchowski","DEBRZNO","DEBRZNO - Gmina miejsko-wiejska / Powiat człuchowski / Województwo  - POMORSKIE / 220304 / ",34926096,38269743,{"$f":"ISNUMBER(SEARCH(Wyszukiwarka!$A$1,'Porównanie dochodów JST'!J1631))","v":false},{"$f":"IF(M1631,COUNTIF($M$16:M1631,TRUE),\"\")","v":""},{"$f":"IFERROR(INDEX($J$16:$J$2822,MATCH(ROWS($J$16:J1631),$N$16:$N$2822,0)),\"\")","v":""}]
["22","03","05","2","220305","Gmina wiejska","POMORSKIE","człuchowski","KOCZAŁA","KOCZAŁA - Gmina wiejska / Powiat człuchowski / Województwo  - POMORSKIE / 220305 / ",10691694,12018278,{"$f":"ISNUMBER(SEARCH(Wyszukiwarka!$A$1,'Porównanie dochodów JST'!J1632))","v":false},{"$f":"IF(M1632,COUNTIF($M$16:M1632,TRUE),\"\")","v":""},{"$f":"IFERROR(INDEX($J$16:$J$2822,MATCH(ROWS($J$16:J1632),$N$16:$N$2822,0)),\"\")","v":""}]
["22","03","06","2","220306","Gmina wiejska","POMORSKIE","człuchowski","PRZECHLEWO","PRZECHLEWO - Gmina wiejska / Powiat człuchowski / Województwo  - POMORSKIE / 220306 / ",23065959,25167665.742851719,{"$f":"ISNUMBER(SEARCH(Wyszukiwarka!$A$1,'Porównanie dochodów JST'!J1633))","v":false},{"$f":"IF(M1633,COUNTIF($M$16:M1633,TRUE),\"\")","v":""},{"$f":"IFERROR(INDEX($J$16:$J$2822,MATCH(ROWS($J$16:J1633),$N$16:$N$2822,0)),\"\")","v":""}]
["22","03","07","2","220307","Gmina wiejska","POMORSKIE","człuchowski","RZECZENICA","RZECZENICA - Gmina wiejska / Powiat człuchowski / Województwo  - POMORSKIE / 220307 / ",12089053,13438851,{"$f":"ISNUMBER(SEARCH(Wyszukiwarka!$A$1,'Porównanie dochodów JST'!J1634))","v":false},{"$f":"IF(M1634,COUNTIF($M$16:M1634,TRUE),\"\")","v":""},{"$f":"IFERROR(INDEX($J$16:$J$2822,MATCH(ROWS($J$16:J1634),$N$16:$N$2822,0)),\"\")","v":""}]
["22","04","01","1","220401","Gmina miejska","POMORSKIE","gdański","PRUSZCZ GDAŃSKI","PRUSZCZ GDAŃSKI - Gmina miejska / Powiat gdański / Województwo  - POMORSKIE / 220401 / ",167237176,180178907.50399077,{"$f":"ISNUMBER(SEARCH(Wyszukiwarka!$A$1,'Porównanie dochodów JST'!J1635))","v":false},{"$f":"IF(M1635,COUNTIF($M$16:M1635,TRUE),\"\")","v":""},{"$f":"IFERROR(INDEX($J$16:$J$2822,MATCH(ROWS($J$16:J1635),$N$16:$N$2822,0)),\"\")","v":""}]
["22","04","02","2","220402","Gmina wiejska","POMORSKIE","gdański","CEDRY WIELKIE","CEDRY WIELKIE - Gmina wiejska / Powiat gdański / Województwo  - POMORSKIE / 220402 / ",21643096,24171529.999999996,{"$f":"ISNUMBER(SEARCH(Wyszukiwarka!$A$1,'Porównanie dochodów JST'!J1636))","v":false},{"$f":"IF(M1636,COUNTIF($M$16:M1636,TRUE),\"\")","v":""},{"$f":"IFERROR(INDEX($J$16:$J$2822,MATCH(ROWS($J$16:J1636),$N$16:$N$2822,0)),\"\")","v":""}]
["22","04","03","2","220403","Gmina wiejska","POMORSKIE","gdański","KOLBUDY","KOLBUDY - Gmina wiejska / Powiat gdański / Województwo  - POMORSKIE / 220403 / ",132626173,141134260.77599418,{"$f":"ISNUMBER(SEARCH(Wyszukiwarka!$A$1,'Porównanie dochodów JST'!J1637))","v":false},{"$f":"IF(M1637,COUNTIF($M$16:M1637,TRUE),\"\")","v":""},{"$f":"IFERROR(INDEX($J$16:$J$2822,MATCH(ROWS($J$16:J1637),$N$16:$N$2822,0)),\"\")","v":""}]
["22","04","04","2","220404","Gmina wiejska","POMORSKIE","gdański","PRUSZCZ GDAŃSKI","PRUSZCZ GDAŃSKI - Gmina wiejska / Powiat gdański / Województwo  - POMORSKIE / 220404 / ",175994080,196425730.51062465,{"$f":"ISNUMBER(SEARCH(Wyszukiwarka!$A$1,'Porównanie dochodów JST'!J1638))","v":false},{"$f":"IF(M1638,COUNTIF($M$16:M1638,TRUE),\"\")","v":""},{"$f":"IFERROR(INDEX($J$16:$J$2822,MATCH(ROWS($J$16:J1638),$N$16:$N$2822,0)),\"\")","v":""}]
["22","04","05","2","220405","Gmina wiejska","POMORSKIE","gdański","PRZYWIDZ","PRZYWIDZ - Gmina wiejska / Powiat gdański / Województwo  - POMORSKIE / 220405 / ",25911770,28532164.83968617,{"$f":"ISNUMBER(SEARCH(Wyszukiwarka!$A$1,'Porównanie dochodów JST'!J1639))","v":false},{"$f":"IF(M1639,COUNTIF($M$16:M1639,TRUE),\"\")","v":""},{"$f":"IFERROR(INDEX($J$16:$J$2822,MATCH(ROWS($J$16:J1639),$N$16:$N$2822,0)),\"\")","v":""}]
["22","04","06","2","220406","Gmina wiejska","POMORSKIE","gdański","PSZCZÓŁKI","PSZCZÓŁKI - Gmina wiejska / Powiat gdański / Województwo  - POMORSKIE / 220406 / ",41193785,45222586,{"$f":"ISNUMBER(SEARCH(Wyszukiwarka!$A$1,'Porównanie dochodów JST'!J1640))","v":false},{"$f":"IF(M1640,COUNTIF($M$16:M1640,TRUE),\"\")","v":""},{"$f":"IFERROR(INDEX($J$16:$J$2822,MATCH(ROWS($J$16:J1640),$N$16:$N$2822,0)),\"\")","v":""}]
["22","04","07","2","220407","Gmina wiejska","POMORSKIE","gdański","SUCHY DĄB","SUCHY DĄB - Gmina wiejska / Powiat gdański / Województwo  - POMORSKIE / 220407 / ",16271579,18185178,{"$f":"ISNUMBER(SEARCH(Wyszukiwarka!$A$1,'Porównanie dochodów JST'!J1641))","v":false},{"$f":"IF(M1641,COUNTIF($M$16:M1641,TRUE),\"\")","v":""},{"$f":"IFERROR(INDEX($J$16:$J$2822,MATCH(ROWS($J$16:J1641),$N$16:$N$2822,0)),\"\")","v":""}]
["22","04","08","2","220408","Gmina wiejska","POMORSKIE","gdański","TRĄBKI WIELKIE","TRĄBKI WIELKIE - Gmina wiejska / Powiat gdański / Województwo  - POMORSKIE / 220408 / ",47600687,51775253.651599512,{"$f":"ISNUMBER(SEARCH(Wyszukiwarka!$A$1,'Porównanie dochodów JST'!J1642))","v":false},{"$f":"IF(M1642,COUNTIF($M$16:M1642,TRUE),\"\")","v":""},{"$f":"IFERROR(INDEX($J$16:$J$2822,MATCH(ROWS($J$16:J1642),$N$16:$N$2822,0)),\"\")","v":""}]
["22","05","01","2","220501","Gmina wiejska","POMORSKIE","kartuski","CHMIELNO","CHMIELNO - Gmina wiejska / Powiat kartuski / Województwo  - POMORSKIE / 220501 / ",35783117,40447218.959998921,{"$f":"ISNUMBER(SEARCH(Wyszukiwarka!$A$1,'Porównanie dochodów JST'!J1643))","v":false},{"$f":"IF(M1643,COUNTIF($M$16:M1643,TRUE),\"\")","v":""},{"$f":"IFERROR(INDEX($J$16:$J$2822,MATCH(ROWS($J$16:J1643),$N$16:$N$2822,0)),\"\")","v":""}]
["22","05","02","3","220502","Gmina miejsko-wiejska","POMORSKIE","kartuski","KARTUZY","KARTUZY - Gmina miejsko-wiejska / Powiat kartuski / Województwo  - POMORSKIE / 220502 / ",155361408,177568021.12,{"$f":"ISNUMBER(SEARCH(Wyszukiwarka!$A$1,'Porównanie dochodów JST'!J1644))","v":false},{"$f":"IF(M1644,COUNTIF($M$16:M1644,TRUE),\"\")","v":""},{"$f":"IFERROR(INDEX($J$16:$J$2822,MATCH(ROWS($J$16:J1644),$N$16:$N$2822,0)),\"\")","v":""}]
["22","05","03","2","220503","Gmina wiejska","POMORSKIE","kartuski","PRZODKOWO","PRZODKOWO - Gmina wiejska / Powiat kartuski / Województwo  - POMORSKIE / 220503 / ",47455820,51696314.622935742,{"$f":"ISNUMBER(SEARCH(Wyszukiwarka!$A$1,'Porównanie dochodów JST'!J1645))","v":false},{"$f":"IF(M1645,COUNTIF($M$16:M1645,TRUE),\"\")","v":""},{"$f":"IFERROR(INDEX($J$16:$J$2822,MATCH(ROWS($J$16:J1645),$N$16:$N$2822,0)),\"\")","v":""}]
["22","05","04","2","220504","Gmina wiejska","POMORSKIE","kartuski","SIERAKOWICE","SIERAKOWICE - Gmina wiejska / Powiat kartuski / Województwo  - POMORSKIE / 220504 / ",117064207,133286482.56,{"$f":"ISNUMBER(SEARCH(Wyszukiwarka!$A$1,'Porównanie dochodów JST'!J1646))","v":false},{"$f":"IF(M1646,COUNTIF($M$16:M1646,TRUE),\"\")","v":""},{"$f":"IFERROR(INDEX($J$16:$J$2822,MATCH(ROWS($J$16:J1646),$N$16:$N$2822,0)),\"\")","v":""}]
["22","05","05","2","220505","Gmina wiejska","POMORSKIE","kartuski","SOMONINO","SOMONINO - Gmina wiejska / Powiat kartuski / Województwo  - POMORSKIE / 220505 / ",48283544,54000876.667158708,{"$f":"ISNUMBER(SEARCH(Wyszukiwarka!$A$1,'Porównanie dochodów JST'!J1647))","v":false},{"$f":"IF(M1647,COUNTIF($M$16:M1647,TRUE),\"\")","v":""},{"$f":"IFERROR(INDEX($J$16:$J$2822,MATCH(ROWS($J$16:J1647),$N$16:$N$2822,0)),\"\")","v":""}]
["22","05","06","2","220506","Gmina wiejska","POMORSKIE","kartuski","STĘŻYCA","STĘŻYCA - Gmina wiejska / Powiat kartuski / Województwo  - POMORSKIE / 220506 / ",61431710,70052185.280000001,{"$f":"ISNUMBER(SEARCH(Wyszukiwarka!$A$1,'Porównanie dochodów JST'!J1648))","v":false},{"$f":"IF(M1648,COUNTIF($M$16:M1648,TRUE),\"\")","v":""},{"$f":"IFERROR(INDEX($J$16:$J$2822,MATCH(ROWS($J$16:J1648),$N$16:$N$2822,0)),\"\")","v":""}]
["22","05","07","2","220507","Gmina wiejska","POMORSKIE","kartuski","SULĘCZYNO","SULĘCZYNO - Gmina wiejska / Powiat kartuski / Województwo  - POMORSKIE / 220507 / ",30223115,34519296,{"$f":"ISNUMBER(SEARCH(Wyszukiwarka!$A$1,'Porównanie dochodów JST'!J1649))","v":false},{"$f":"IF(M1649,COUNTIF($M$16:M1649,TRUE),\"\")","v":""},{"$f":"IFERROR(INDEX($J$16:$J$2822,MATCH(ROWS($J$16:J1649),$N$16:$N$2822,0)),\"\")","v":""}]
["22","05","08","3","220508","Gmina miejsko-wiejska","POMORSKIE","kartuski","ŻUKOWO","ŻUKOWO - Gmina miejsko-wiejska / Powiat kartuski / Województwo  - POMORSKIE / 220508 / ",231134937,254184222.16381925,{"$f":"ISNUMBER(SEARCH(Wyszukiwarka!$A$1,'Porównanie dochodów JST'!J1650))","v":false},{"$f":"IF(M1650,COUNTIF($M$16:M1650,TRUE),\"\")","v":""},{"$f":"IFERROR(INDEX($J$16:$J$2822,MATCH(ROWS($J$16:J1650),$N$16:$N$2822,0)),\"\")","v":""}]
["22","06","01","1","220601","Gmina miejska","POMORSKIE","kościerski","KOŚCIERZYNA","KOŚCIERZYNA - Gmina miejska / Powiat kościerski / Województwo  - POMORSKIE / 220601 / ",93273630,106916657.12,{"$f":"ISNUMBER(SEARCH(Wyszukiwarka!$A$1,'Porównanie dochodów JST'!J1651))","v":false},{"$f":"IF(M1651,COUNTIF($M$16:M1651,TRUE),\"\")","v":""},{"$f":"IFERROR(INDEX($J$16:$J$2822,MATCH(ROWS($J$16:J1651),$N$16:$N$2822,0)),\"\")","v":""}]
["22","06","02","2","220602","Gmina wiejska","POMORSKIE","kościerski","DZIEMIANY","DZIEMIANY - Gmina wiejska / Powiat kościerski / Województwo  - POMORSKIE / 220602 / ",21213554,24282291.039999999,{"$f":"ISNUMBER(SEARCH(Wyszukiwarka!$A$1,'Porównanie dochodów JST'!J1652))","v":false},{"$f":"IF(M1652,COUNTIF($M$16:M1652,TRUE),\"\")","v":""},{"$f":"IFERROR(INDEX($J$16:$J$2822,MATCH(ROWS($J$16:J1652),$N$16:$N$2822,0)),\"\")","v":""}]
["22","06","03","2","220603","Gmina wiejska","POMORSKIE","kościerski","KARSIN","KARSIN - Gmina wiejska / Powiat kościerski / Województwo  - POMORSKIE / 220603 / ",26300014,30156785.119999997,{"$f":"ISNUMBER(SEARCH(Wyszukiwarka!$A$1,'Porównanie dochodów JST'!J1653))","v":false},{"$f":"IF(M1653,COUNTIF($M$16:M1653,TRUE),\"\")","v":""},{"$f":"IFERROR(INDEX($J$16:$J$2822,MATCH(ROWS($J$16:J1653),$N$16:$N$2822,0)),\"\")","v":""}]
["22","06","04","2","220604","Gmina wiejska","POMORSKIE","kościerski","KOŚCIERZYNA","KOŚCIERZYNA - Gmina wiejska / Powiat kościerski / Województwo  - POMORSKIE / 220604 / ",57849979,62971056,{"$f":"ISNUMBER(SEARCH(Wyszukiwarka!$A$1,'Porównanie dochodów JST'!J1654))","v":false},{"$f":"IF(M1654,COUNTIF($M$16:M1654,TRUE),\"\")","v":""},{"$f":"IFERROR(INDEX($J$16:$J$2822,MATCH(ROWS($J$16:J1654),$N$16:$N$2822,0)),\"\")","v":""}]
["22","06","05","2","220605","Gmina wiejska","POMORSKIE","kościerski","LINIEWO","LINIEWO - Gmina wiejska / Powiat kościerski / Województwo  - POMORSKIE / 220605 / ",21156398,23108784,{"$f":"ISNUMBER(SEARCH(Wyszukiwarka!$A$1,'Porównanie dochodów JST'!J1655))","v":false},{"$f":"IF(M1655,COUNTIF($M$16:M1655,TRUE),\"\")","v":""},{"$f":"IFERROR(INDEX($J$16:$J$2822,MATCH(ROWS($J$16:J1655),$N$16:$N$2822,0)),\"\")","v":""}]
["22","06","06","2","220606","Gmina wiejska","POMORSKIE","kościerski","LIPUSZ","LIPUSZ - Gmina wiejska / Powiat kościerski / Województwo  - POMORSKIE / 220606 / ",17466035,19994484.16,{"$f":"ISNUMBER(SEARCH(Wyszukiwarka!$A$1,'Porównanie dochodów JST'!J1656))","v":false},{"$f":"IF(M1656,COUNTIF($M$16:M1656,TRUE),\"\")","v":""},{"$f":"IFERROR(INDEX($J$16:$J$2822,MATCH(ROWS($J$16:J1656),$N$16:$N$2822,0)),\"\")","v":""}]
["22","06","07","2","220607","Gmina wiejska","POMORSKIE","kościerski","NOWA KARCZMA","NOWA KARCZMA - Gmina wiejska / Powiat kościerski / Województwo  - POMORSKIE / 220607 / ",33905769,36640474.763592392,{"$f":"ISNUMBER(SEARCH(Wyszukiwarka!$A$1,'Porównanie dochodów JST'!J1657))","v":false},{"$f":"IF(M1657,COUNTIF($M$16:M1657,TRUE),\"\")","v":""},{"$f":"IFERROR(INDEX($J$16:$J$2822,MATCH(ROWS($J$16:J1657),$N$16:$N$2822,0)),\"\")","v":""}]
["22","06","08","2","220608","Gmina wiejska","POMORSKIE","kościerski","STARA KISZEWA","STARA KISZEWA - Gmina wiejska / Powiat kościerski / Województwo  - POMORSKIE / 220608 / ",29962712,32819389.441231236,{"$f":"ISNUMBER(SEARCH(Wyszukiwarka!$A$1,'Porównanie dochodów JST'!J1658))","v":false},{"$f":"IF(M1658,COUNTIF($M$16:M1658,TRUE),\"\")","v":""},{"$f":"IFERROR(INDEX($J$16:$J$2822,MATCH(ROWS($J$16:J1658),$N$16:$N$2822,0)),\"\")","v":""}]
["22","07","01","1","220701","Gmina miejska","POMORSKIE","kwidzyński","KWIDZYN","KWIDZYN - Gmina miejska / Powiat kwidzyński / Województwo  - POMORSKIE / 220701 / ",133085871,145717493.07750002,{"$f":"ISNUMBER(SEARCH(Wyszukiwarka!$A$1,'Porównanie dochodów JST'!J1659))","v":false},{"$f":"IF(M1659,COUNTIF($M$16:M1659,TRUE),\"\")","v":""},{"$f":"IFERROR(INDEX($J$16:$J$2822,MATCH(ROWS($J$16:J1659),$N$16:$N$2822,0)),\"\")","v":""}]
["22","07","02","2","220702","Gmina wiejska","POMORSKIE","kwidzyński","GARDEJA","GARDEJA - Gmina wiejska / Powiat kwidzyński / Województwo  - POMORSKIE / 220702 / ",32720780,36893863.018740088,{"$f":"ISNUMBER(SEARCH(Wyszukiwarka!$A$1,'Porównanie dochodów JST'!J1660))","v":false},{"$f":"IF(M1660,COUNTIF($M$16:M1660,TRUE),\"\")","v":""},{"$f":"IFERROR(INDEX($J$16:$J$2822,MATCH(ROWS($J$16:J1660),$N$16:$N$2822,0)),\"\")","v":""}]
["22","07","03","2","220703","Gmina wiejska","POMORSKIE","kwidzyński","KWIDZYN","KWIDZYN - Gmina wiejska / Powiat kwidzyński / Województwo  - POMORSKIE / 220703 / ",38377523,42304239.71950604,{"$f":"ISNUMBER(SEARCH(Wyszukiwarka!$A$1,'Porównanie dochodów JST'!J1661))","v":false},{"$f":"IF(M1661,COUNTIF($M$16:M1661,TRUE),\"\")","v":""},{"$f":"IFERROR(INDEX($J$16:$J$2822,MATCH(ROWS($J$16:J1661),$N$16:$N$2822,0)),\"\")","v":""}]
["22","07","04","3","220704","Gmina miejsko-wiejska","POMORSKIE","kwidzyński","PRABUTY","PRABUTY - Gmina miejsko-wiejska / Powiat kwidzyński / Województwo  - POMORSKIE / 220704 / ",45332318,52111732.960000001,{"$f":"ISNUMBER(SEARCH(Wyszukiwarka!$A$1,'Porównanie dochodów JST'!J1662))","v":false},{"$f":"IF(M1662,COUNTIF($M$16:M1662,TRUE),\"\")","v":""},{"$f":"IFERROR(INDEX($J$16:$J$2822,MATCH(ROWS($J$16:J1662),$N$16:$N$2822,0)),\"\")","v":""}]
["22","07","05","2","220705","Gmina wiejska","POMORSKIE","kwidzyński","RYJEWO","RYJEWO - Gmina wiejska / Powiat kwidzyński / Województwo  - POMORSKIE / 220705 / ",22392650,25694774.560000002,{"$f":"ISNUMBER(SEARCH(Wyszukiwarka!$A$1,'Porównanie dochodów JST'!J1663))","v":false},{"$f":"IF(M1663,COUNTIF($M$16:M1663,TRUE),\"\")","v":""},{"$f":"IFERROR(INDEX($J$16:$J$2822,MATCH(ROWS($J$16:J1663),$N$16:$N$2822,0)),\"\")","v":""}]
["22","07","06","2","220706","Gmina wiejska","POMORSKIE","kwidzyński","SADLINKI","SADLINKI - Gmina wiejska / Powiat kwidzyński / Województwo  - POMORSKIE / 220706 / ",24551256,26639256,{"$f":"ISNUMBER(SEARCH(Wyszukiwarka!$A$1,'Porównanie dochodów JST'!J1664))","v":false},{"$f":"IF(M1664,COUNTIF($M$16:M1664,TRUE),\"\")","v":""},{"$f":"IFERROR(INDEX($J$16:$J$2822,MATCH(ROWS($J$16:J1664),$N$16:$N$2822,0)),\"\")","v":""}]
["22","08","01","1","220801","Gmina miejska","POMORSKIE","lęborski","LĘBORK","LĘBORK - Gmina miejska / Powiat lęborski / Województwo  - POMORSKIE / 220801 / ",120463493,138523273.28,{"$f":"ISNUMBER(SEARCH(Wyszukiwarka!$A$1,'Porównanie dochodów JST'!J1665))","v":false},{"$f":"IF(M1665,COUNTIF($M$16:M1665,TRUE),\"\")","v":""},{"$f":"IFERROR(INDEX($J$16:$J$2822,MATCH(ROWS($J$16:J1665),$N$16:$N$2822,0)),\"\")","v":""}]
["22","08","02","1","220802","Gmina miejska","POMORSKIE","lęborski","ŁEBA","ŁEBA - Gmina miejska / Powiat lęborski / Województwo  - POMORSKIE / 220802 / ",11952912,13288881,{"$f":"ISNUMBER(SEARCH(Wyszukiwarka!$A$1,'Porównanie dochodów JST'!J1666))","v":false},{"$f":"IF(M1666,COUNTIF($M$16:M1666,TRUE),\"\")","v":""},{"$f":"IFERROR(INDEX($J$16:$J$2822,MATCH(ROWS($J$16:J1666),$N$16:$N$2822,0)),\"\")","v":""}]
["22","08","03","2","220803","Gmina wiejska","POMORSKIE","lęborski","CEWICE","CEWICE - Gmina wiejska / Powiat lęborski / Województwo  - POMORSKIE / 220803 / ",41082046,46868545.920000002,{"$f":"ISNUMBER(SEARCH(Wyszukiwarka!$A$1,'Porównanie dochodów JST'!J1667))","v":false},{"$f":"IF(M1667,COUNTIF($M$16:M1667,TRUE),\"\")","v":""},{"$f":"IFERROR(INDEX($J$16:$J$2822,MATCH(ROWS($J$16:J1667),$N$16:$N$2822,0)),\"\")","v":""}]
["22","08","04","2","220804","Gmina wiejska","POMORSKIE","lęborski","NOWA WIEŚ LĘBORSKA","NOWA WIEŚ LĘBORSKA - Gmina wiejska / Powiat lęborski / Województwo  - POMORSKIE / 220804 / ",55873488,60242393,{"$f":"ISNUMBER(SEARCH(Wyszukiwarka!$A$1,'Porównanie dochodów JST'!J1668))","v":false},{"$f":"IF(M1668,COUNTIF($M$16:M1668,TRUE),\"\")","v":""},{"$f":"IFERROR(INDEX($J$16:$J$2822,MATCH(ROWS($J$16:J1668),$N$16:$N$2822,0)),\"\")","v":""}]
["22","08","05","2","220805","Gmina wiejska","POMORSKIE","lęborski","WICKO","WICKO - Gmina wiejska / Powiat lęborski / Województwo  - POMORSKIE / 220805 / ",18649296,20493028,{"$f":"ISNUMBER(SEARCH(Wyszukiwarka!$A$1,'Porównanie dochodów JST'!J1669))","v":false},{"$f":"IF(M1669,COUNTIF($M$16:M1669,TRUE),\"\")","v":""},{"$f":"IFERROR(INDEX($J$16:$J$2822,MATCH(ROWS($J$16:J1669),$N$16:$N$2822,0)),\"\")","v":""}]
["22","09","01","1","220901","Gmina miejska","POMORSKIE","malborski","MALBORK","MALBORK - Gmina miejska / Powiat malborski / Województwo  - POMORSKIE / 220901 / ",123776799,132238951.1441412,{"$f":"ISNUMBER(SEARCH(Wyszukiwarka!$A$1,'Porównanie dochodów JST'!J1670))","v":false},{"$f":"IF(M1670,COUNTIF($M$16:M1670,TRUE),\"\")","v":""},{"$f":"IFERROR(INDEX($J$16:$J$2822,MATCH(ROWS($J$16:J1670),$N$16:$N$2822,0)),\"\")","v":""}]
["22","09","03","2","220903","Gmina wiejska","POMORSKIE","malborski","LICHNOWY","LICHNOWY - Gmina wiejska / Powiat malborski / Województwo  - POMORSKIE / 220903 / ",15753688,17665069,{"$f":"ISNUMBER(SEARCH(Wyszukiwarka!$A$1,'Porównanie dochodów JST'!J1671))","v":false},{"$f":"IF(M1671,COUNTIF($M$16:M1671,TRUE),\"\")","v":""},{"$f":"IFERROR(INDEX($J$16:$J$2822,MATCH(ROWS($J$16:J1671),$N$16:$N$2822,0)),\"\")","v":""}]
["22","09","04","2","220904","Gmina wiejska","POMORSKIE","malborski","MALBORK","MALBORK - Gmina wiejska / Powiat malborski / Województwo  - POMORSKIE / 220904 / ",16607250,18537790,{"$f":"ISNUMBER(SEARCH(Wyszukiwarka!$A$1,'Porównanie dochodów JST'!J1672))","v":false},{"$f":"IF(M1672,COUNTIF($M$16:M1672,TRUE),\"\")","v":""},{"$f":"IFERROR(INDEX($J$16:$J$2822,MATCH(ROWS($J$16:J1672),$N$16:$N$2822,0)),\"\")","v":""}]
["22","09","06","2","220906","Gmina wiejska","POMORSKIE","malborski","MIŁORADZ","MIŁORADZ - Gmina wiejska / Powiat malborski / Województwo  - POMORSKIE / 220906 / ",12054169,13374349,{"$f":"ISNUMBER(SEARCH(Wyszukiwarka!$A$1,'Porównanie dochodów JST'!J1673))","v":false},{"$f":"IF(M1673,COUNTIF($M$16:M1673,TRUE),\"\")","v":""},{"$f":"IFERROR(INDEX($J$16:$J$2822,MATCH(ROWS($J$16:J1673),$N$16:$N$2822,0)),\"\")","v":""}]
["22","09","07","3","220907","Gmina miejsko-wiejska","POMORSKIE","malborski","NOWY STAW","NOWY STAW - Gmina miejsko-wiejska / Powiat malborski / Województwo  - POMORSKIE / 220907 / ",19880554,22558185.9633823,{"$f":"ISNUMBER(SEARCH(Wyszukiwarka!$A$1,'Porównanie dochodów JST'!J1674))","v":false},{"$f":"IF(M1674,COUNTIF($M$16:M1674,TRUE),\"\")","v":""},{"$f":"IFERROR(INDEX($J$16:$J$2822,MATCH(ROWS($J$16:J1674),$N$16:$N$2822,0)),\"\")","v":""}]
["22","09","08","2","220908","Gmina wiejska","POMORSKIE","malborski","STARE POLE","STARE POLE - Gmina wiejska / Powiat malborski / Województwo  - POMORSKIE / 220908 / ",13318106,14963099.415629391,{"$f":"ISNUMBER(SEARCH(Wyszukiwarka!$A$1,'Porównanie dochodów JST'!J1675))","v":false},{"$f":"IF(M1675,COUNTIF($M$16:M1675,TRUE),\"\")","v":""},{"$f":"IFERROR(INDEX($J$16:$J$2822,MATCH(ROWS($J$16:J1675),$N$16:$N$2822,0)),\"\")","v":""}]
["22","10","01","1","221001","Gmina miejska","POMORSKIE","nowodworski","KRYNICA MORSKA","KRYNICA MORSKA - Gmina miejska / Powiat nowodworski / Województwo  - POMORSKIE / 221001 / ",5810283,6583399.9000000004,{"$f":"ISNUMBER(SEARCH(Wyszukiwarka!$A$1,'Porównanie dochodów JST'!J1676))","v":false},{"$f":"IF(M1676,COUNTIF($M$16:M1676,TRUE),\"\")","v":""},{"$f":"IFERROR(INDEX($J$16:$J$2822,MATCH(ROWS($J$16:J1676),$N$16:$N$2822,0)),\"\")","v":""}]
["22","10","02","3","221002","Gmina miejsko-wiejska","POMORSKIE","nowodworski","NOWY DWÓR GDAŃSKI","NOWY DWÓR GDAŃSKI - Gmina miejsko-wiejska / Powiat nowodworski / Województwo  - POMORSKIE / 221002 / ",53592889,58691644,{"$f":"ISNUMBER(SEARCH(Wyszukiwarka!$A$1,'Porównanie dochodów JST'!J1677))","v":false},{"$f":"IF(M1677,COUNTIF($M$16:M1677,TRUE),\"\")","v":""},{"$f":"IFERROR(INDEX($J$16:$J$2822,MATCH(ROWS($J$16:J1677),$N$16:$N$2822,0)),\"\")","v":""}]
["22","10","03","2","221003","Gmina wiejska","POMORSKIE","nowodworski","OSTASZEWO","OSTASZEWO - Gmina wiejska / Powiat nowodworski / Województwo  - POMORSKIE / 221003 / ",10567815,11857507,{"$f":"ISNUMBER(SEARCH(Wyszukiwarka!$A$1,'Porównanie dochodów JST'!J1678))","v":false},{"$f":"IF(M1678,COUNTIF($M$16:M1678,TRUE),\"\")","v":""},{"$f":"IFERROR(INDEX($J$16:$J$2822,MATCH(ROWS($J$16:J1678),$N$16:$N$2822,0)),\"\")","v":""}]
["22","10","04","2","221004","Gmina wiejska","POMORSKIE","nowodworski","STEGNA","STEGNA - Gmina wiejska / Powiat nowodworski / Województwo  - POMORSKIE / 221004 / ",29991709,33210790,{"$f":"ISNUMBER(SEARCH(Wyszukiwarka!$A$1,'Porównanie dochodów JST'!J1679))","v":false},{"$f":"IF(M1679,COUNTIF($M$16:M1679,TRUE),\"\")","v":""},{"$f":"IFERROR(INDEX($J$16:$J$2822,MATCH(ROWS($J$16:J1679),$N$16:$N$2822,0)),\"\")","v":""}]
["22","10","05","2","221005","Gmina wiejska","POMORSKIE","nowodworski","SZTUTOWO","SZTUTOWO - Gmina wiejska / Powiat nowodworski / Województwo  - POMORSKIE / 221005 / ",11911628,13185613.689999999,{"$f":"ISNUMBER(SEARCH(Wyszukiwarka!$A$1,'Porównanie dochodów JST'!J1680))","v":false},{"$f":"IF(M1680,COUNTIF($M$16:M1680,TRUE),\"\")","v":""},{"$f":"IFERROR(INDEX($J$16:$J$2822,MATCH(ROWS($J$16:J1680),$N$16:$N$2822,0)),\"\")","v":""}]
["22","11","01","1","221101","Gmina miejska","POMORSKIE","pucki","HEL",{"$f":"I1681&$H$12&F1681&$G$12&$H$14&H1681&$G$12&$G$14&$H$12&G1681&$G$12&E1681&$G$12","v":"HEL - Gmina miejska / Powiat pucki / Województwo  - POMORSKIE / 221101 / "},10936237,12182406.754808981,{"$f":"ISNUMBER(SEARCH(Wyszukiwarka!$A$1,'Porównanie dochodów JST'!J1681))","v":false},{"$f":"IF(M1681,COUNTIF($M$16:M1681,TRUE),\"\")","v":""},{"$f":"IFERROR(INDEX($J$16:$J$2822,MATCH(ROWS($J$16:J1681),$N$16:$N$2822,0)),\"\")","v":""}]
["22","11","02","3","221102","Gmina miejsko-wiejska","POMORSKIE","pucki","JASTARNIA","JASTARNIA - Gmina miejsko-wiejska / Powiat pucki / Województwo  - POMORSKIE / 221102 / ",12151164,13391369,{"$f":"ISNUMBER(SEARCH(Wyszukiwarka!$A$1,'Porównanie dochodów JST'!J1682))","v":false},{"$f":"IF(M1682,COUNTIF($M$16:M1682,TRUE),\"\")","v":""},{"$f":"IFERROR(INDEX($J$16:$J$2822,MATCH(ROWS($J$16:J1682),$N$16:$N$2822,0)),\"\")","v":""}]
["22","11","03","1","221103","Gmina miejska","POMORSKIE","pucki","PUCK","PUCK - Gmina miejska / Powiat pucki / Województwo  - POMORSKIE / 221103 / ",40810870,46786107.200000003,{"$f":"ISNUMBER(SEARCH(Wyszukiwarka!$A$1,'Porównanie dochodów JST'!J1683))","v":false},{"$f":"IF(M1683,COUNTIF($M$16:M1683,TRUE),\"\")","v":""},{"$f":"IFERROR(INDEX($J$16:$J$2822,MATCH(ROWS($J$16:J1683),$N$16:$N$2822,0)),\"\")","v":""}]
["22","11","04","3","221104","Gmina miejsko-wiejska","POMORSKIE","pucki","WŁADYSŁAWOWO","WŁADYSŁAWOWO - Gmina miejsko-wiejska / Powiat pucki / Województwo  - POMORSKIE / 221104 / ",51553570,55865819.503476955,{"$f":"ISNUMBER(SEARCH(Wyszukiwarka!$A$1,'Porównanie dochodów JST'!J1684))","v":false},{"$f":"IF(M1684,COUNTIF($M$16:M1684,TRUE),\"\")","v":""},{"$f":"IFERROR(INDEX($J$16:$J$2822,MATCH(ROWS($J$16:J1684),$N$16:$N$2822,0)),\"\")","v":""}]
["22","11","05","2","221105","Gmina wiejska","POMORSKIE","pucki","KOSAKOWO","KOSAKOWO - Gmina wiejska / Powiat pucki / Województwo  - POMORSKIE / 221105 / ",94725398,103584905.42715593,{"$f":"ISNUMBER(SEARCH(Wyszukiwarka!$A$1,'Porównanie dochodów JST'!J1685))","v":false},{"$f":"IF(M1685,COUNTIF($M$16:M1685,TRUE),\"\")","v":""},{"$f":"IFERROR(INDEX($J$16:$J$2822,MATCH(ROWS($J$16:J1685),$N$16:$N$2822,0)),\"\")","v":""}]
["22","11","06","2","221106","Gmina wiejska","POMORSKIE","pucki","KROKOWA","KROKOWA - Gmina wiejska / Powiat pucki / Województwo  - POMORSKIE / 221106 / ",38311857,42173643.72446613,{"$f":"ISNUMBER(SEARCH(Wyszukiwarka!$A$1,'Porównanie dochodów JST'!J1686))","v":false},{"$f":"IF(M1686,COUNTIF($M$16:M1686,TRUE),\"\")","v":""},{"$f":"IFERROR(INDEX($J$16:$J$2822,MATCH(ROWS($J$16:J1686),$N$16:$N$2822,0)),\"\")","v":""}]
["22","11","07","2","221107","Gmina wiejska","POMORSKIE","pucki","PUCK","PUCK - Gmina wiejska / Powiat pucki / Województwo  - POMORSKIE / 221107 / ",122446619,130101468.15746611,{"$f":"ISNUMBER(SEARCH(Wyszukiwarka!$A$1,'Porównanie dochodów JST'!J1687))","v":false},{"$f":"IF(M1687,COUNTIF($M$16:M1687,TRUE),\"\")","v":""},{"$f":"IFERROR(INDEX($J$16:$J$2822,MATCH(ROWS($J$16:J1687),$N$16:$N$2822,0)),\"\")","v":""}]
["22","12","01","1","221201","Gmina miejska","POMORSKIE","słupski","USTKA","USTKA - Gmina miejska / Powiat słupski / Województwo  - POMORSKIE / 221201 / ",45600358,52539747.68,{"$f":"ISNUMBER(SEARCH(Wyszukiwarka!$A$1,'Porównanie dochodów JST'!J1688))","v":false},{"$f":"IF(M1688,COUNTIF($M$16:M1688,TRUE),\"\")","v":""},{"$f":"IFERROR(INDEX($J$16:$J$2822,MATCH(ROWS($J$16:J1688),$N$16:$N$2822,0)),\"\")","v":""}]
["22","12","02","2","221202","Gmina wiejska","POMORSKIE","słupski","DAMNICA","DAMNICA - Gmina wiejska / Powiat słupski / Województwo  - POMORSKIE / 221202 / ",21620634,23672007.793898523,{"$f":"ISNUMBER(SEARCH(Wyszukiwarka!$A$1,'Porównanie dochodów JST'!J1689))","v":false},{"$f":"IF(M1689,COUNTIF($M$16:M1689,TRUE),\"\")","v":""},{"$f":"IFERROR(INDEX($J$16:$J$2822,MATCH(ROWS($J$16:J1689),$N$16:$N$2822,0)),\"\")","v":""}]
["22","12","03","2","221203","Gmina wiejska","POMORSKIE","słupski","DĘBNICA KASZUBSKA","DĘBNICA KASZUBSKA - Gmina wiejska / Powiat słupski / Województwo  - POMORSKIE / 221203 / ",40972126,46097369.741430573,{"$f":"ISNUMBER(SEARCH(Wyszukiwarka!$A$1,'Porównanie dochodów JST'!J1690))","v":false},{"$f":"IF(M1690,COUNTIF($M$16:M1690,TRUE),\"\")","v":""},{"$f":"IFERROR(INDEX($J$16:$J$2822,MATCH(ROWS($J$16:J1690),$N$16:$N$2822,0)),\"\")","v":""}]
["22","12","04","2","221204","Gmina wiejska","POMORSKIE","słupski","GŁÓWCZYCE","GŁÓWCZYCE - Gmina wiejska / Powiat słupski / Województwo  - POMORSKIE / 221204 / ",34184980,37508747,{"$f":"ISNUMBER(SEARCH(Wyszukiwarka!$A$1,'Porównanie dochodów JST'!J1691))","v":false},{"$f":"IF(M1691,COUNTIF($M$16:M1691,TRUE),\"\")","v":""},{"$f":"IFERROR(INDEX($J$16:$J$2822,MATCH(ROWS($J$16:J1691),$N$16:$N$2822,0)),\"\")","v":""}]
["22","12","05","3","221205","Gmina miejsko-wiejska","POMORSKIE","słupski","KĘPICE","KĘPICE - Gmina miejsko-wiejska / Powiat słupski / Województwo  - POMORSKIE / 221205 / ",37778328,41103112,{"$f":"ISNUMBER(SEARCH(Wyszukiwarka!$A$1,'Porównanie dochodów JST'!J1692))","v":false},{"$f":"IF(M1692,COUNTIF($M$16:M1692,TRUE),\"\")","v":""},{"$f":"IFERROR(INDEX($J$16:$J$2822,MATCH(ROWS($J$16:J1692),$N$16:$N$2822,0)),\"\")","v":""}]
["22","12","06","2","221206","Gmina wiejska","POMORSKIE","słupski","KOBYLNICA","KOBYLNICA - Gmina wiejska / Powiat słupski / Województwo  - POMORSKIE / 221206 / ",64098327,68732228.67200312,{"$f":"ISNUMBER(SEARCH(Wyszukiwarka!$A$1,'Porównanie dochodów JST'!J1693))","v":false},{"$f":"IF(M1693,COUNTIF($M$16:M1693,TRUE),\"\")","v":""},{"$f":"IFERROR(INDEX($J$16:$J$2822,MATCH(ROWS($J$16:J1693),$N$16:$N$2822,0)),\"\")","v":""}]
["22","12","07","2","221207","Gmina wiejska","POMORSKIE","słupski","POTĘGOWO","POTĘGOWO - Gmina wiejska / Powiat słupski / Województwo  - POMORSKIE / 221207 / ",25188254,27839535.635317616,{"$f":"ISNUMBER(SEARCH(Wyszukiwarka!$A$1,'Porównanie dochodów JST'!J1694))","v":false},{"$f":"IF(M1694,COUNTIF($M$16:M1694,TRUE),\"\")","v":""},{"$f":"IFERROR(INDEX($J$16:$J$2822,MATCH(ROWS($J$16:J1694),$N$16:$N$2822,0)),\"\")","v":""}]
["22","12","08","2","221208","Gmina wiejska","POMORSKIE","słupski","SŁUPSK","SŁUPSK - Gmina wiejska / Powiat słupski / Województwo  - POMORSKIE / 221208 / ",88836498,94502407.099504411,{"$f":"ISNUMBER(SEARCH(Wyszukiwarka!$A$1,'Porównanie dochodów JST'!J1695))","v":false},{"$f":"IF(M1695,COUNTIF($M$16:M1695,TRUE),\"\")","v":""},{"$f":"IFERROR(INDEX($J$16:$J$2822,MATCH(ROWS($J$16:J1695),$N$16:$N$2822,0)),\"\")","v":""}]
["22","12","09","2","221209","Gmina wiejska","POMORSKIE","słupski","SMOŁDZINO","SMOŁDZINO - Gmina wiejska / Powiat słupski / Województwo  - POMORSKIE / 221209 / ",12983838,14901988.640000001,{"$f":"ISNUMBER(SEARCH(Wyszukiwarka!$A$1,'Porównanie dochodów JST'!J1696))","v":false},{"$f":"IF(M1696,COUNTIF($M$16:M1696,TRUE),\"\")","v":""},{"$f":"IFERROR(INDEX($J$16:$J$2822,MATCH(ROWS($J$16:J1696),$N$16:$N$2822,0)),\"\")","v":""}]
["22","12","10","2","221210","Gmina wiejska","POMORSKIE","słupski","USTKA","USTKA - Gmina wiejska / Powiat słupski / Województwo  - POMORSKIE / 221210 / ",24024158,27470322.768525828,{"$f":"ISNUMBER(SEARCH(Wyszukiwarka!$A$1,'Porównanie dochodów JST'!J1697))","v":false},{"$f":"IF(M1697,COUNTIF($M$16:M1697,TRUE),\"\")","v":""},{"$f":"IFERROR(INDEX($J$16:$J$2822,MATCH(ROWS($J$16:J1697),$N$16:$N$2822,0)),\"\")","v":""}]
["22","13","01","3","221301","Gmina miejsko-wiejska","POMORSKIE","starogardzki","CZARNA WODA","CZARNA WODA - Gmina miejsko-wiejska / Powiat starogardzki / Województwo  - POMORSKIE / 221301 / ",9666171,10828179.825000001,{"$f":"ISNUMBER(SEARCH(Wyszukiwarka!$A$1,'Porównanie dochodów JST'!J1698))","v":false},{"$f":"IF(M1698,COUNTIF($M$16:M1698,TRUE),\"\")","v":""},{"$f":"IFERROR(INDEX($J$16:$J$2822,MATCH(ROWS($J$16:J1698),$N$16:$N$2822,0)),\"\")","v":""}]
["22","13","02","1","221302","Gmina miejska","POMORSKIE","starogardzki","SKÓRCZ","SKÓRCZ - Gmina miejska / Powiat starogardzki / Województwo  - POMORSKIE / 221302 / ",15222840,16539808.614999998,{"$f":"ISNUMBER(SEARCH(Wyszukiwarka!$A$1,'Porównanie dochodów JST'!J1699))","v":false},{"$f":"IF(M1699,COUNTIF($M$16:M1699,TRUE),\"\")","v":""},{"$f":"IFERROR(INDEX($J$16:$J$2822,MATCH(ROWS($J$16:J1699),$N$16:$N$2822,0)),\"\")","v":""}]
["22","13","03","1","221303","Gmina miejska","POMORSKIE","starogardzki","STAROGARD GDAŃSKI","STAROGARD GDAŃSKI - Gmina miejska / Powiat starogardzki / Województwo  - POMORSKIE / 221303 / ",154625132,166228857.03820851,{"$f":"ISNUMBER(SEARCH(Wyszukiwarka!$A$1,'Porównanie dochodów JST'!J1700))","v":false},{"$f":"IF(M1700,COUNTIF($M$16:M1700,TRUE),\"\")","v":""},{"$f":"IFERROR(INDEX($J$16:$J$2822,MATCH(ROWS($J$16:J1700),$N$16:$N$2822,0)),\"\")","v":""}]
["22","13","04","2","221304","Gmina wiejska","POMORSKIE","starogardzki","BOBOWO","BOBOWO - Gmina wiejska / Powiat starogardzki / Województwo  - POMORSKIE / 221304 / ",13235894,14554251.92,{"$f":"ISNUMBER(SEARCH(Wyszukiwarka!$A$1,'Porównanie dochodów JST'!J1701))","v":false},{"$f":"IF(M1701,COUNTIF($M$16:M1701,TRUE),\"\")","v":""},{"$f":"IFERROR(INDEX($J$16:$J$2822,MATCH(ROWS($J$16:J1701),$N$16:$N$2822,0)),\"\")","v":""}]
["22","13","05","2","221305","Gmina wiejska","POMORSKIE","starogardzki","KALISKA","KALISKA - Gmina wiejska / Powiat starogardzki / Województwo  - POMORSKIE / 221305 / ",20727963,22767318,{"$f":"ISNUMBER(SEARCH(Wyszukiwarka!$A$1,'Porównanie dochodów JST'!J1702))","v":false},{"$f":"IF(M1702,COUNTIF($M$16:M1702,TRUE),\"\")","v":""},{"$f":"IFERROR(INDEX($J$16:$J$2822,MATCH(ROWS($J$16:J1702),$N$16:$N$2822,0)),\"\")","v":""}]
["22","13","06","2","221306","Gmina wiejska","POMORSKIE","starogardzki","LUBICHOWO","LUBICHOWO - Gmina wiejska / Powiat starogardzki / Województwo  - POMORSKIE / 221306 / ",27655253,31571729.601495214,{"$f":"ISNUMBER(SEARCH(Wyszukiwarka!$A$1,'Porównanie dochodów JST'!J1703))","v":false},{"$f":"IF(M1703,COUNTIF($M$16:M1703,TRUE),\"\")","v":""},{"$f":"IFERROR(INDEX($J$16:$J$2822,MATCH(ROWS($J$16:J1703),$N$16:$N$2822,0)),\"\")","v":""}]
["22","13","07","2","221307","Gmina wiejska","POMORSKIE","starogardzki","OSIECZNA","OSIECZNA - Gmina wiejska / Powiat starogardzki / Województwo  - POMORSKIE / 221307 / ",10517911,12087031.039999999,{"$f":"ISNUMBER(SEARCH(Wyszukiwarka!$A$1,'Porównanie dochodów JST'!J1704))","v":false},{"$f":"IF(M1704,COUNTIF($M$16:M1704,TRUE),\"\")","v":""},{"$f":"IFERROR(INDEX($J$16:$J$2822,MATCH(ROWS($J$16:J1704),$N$16:$N$2822,0)),\"\")","v":""}]
["22","13","08","2","221308","Gmina wiejska","POMORSKIE","starogardzki","OSIEK","OSIEK - Gmina wiejska / Powiat starogardzki / Województwo  - POMORSKIE / 221308 / ",7914658,8961756.1000000015,{"$f":"ISNUMBER(SEARCH(Wyszukiwarka!$A$1,'Porównanie dochodów JST'!J1705))","v":false},{"$f":"IF(M1705,COUNTIF($M$16:M1705,TRUE),\"\")","v":""},{"$f":"IFERROR(INDEX($J$16:$J$2822,MATCH(ROWS($J$16:J1705),$N$16:$N$2822,0)),\"\")","v":""}]
["22","13","09","3","221309","Gmina miejsko-wiejska","POMORSKIE","starogardzki","SKARSZEWY","SKARSZEWY - Gmina miejsko-wiejska / Powiat starogardzki / Województwo  - POMORSKIE / 221309 / ",52886996,59146706.431514591,{"$f":"ISNUMBER(SEARCH(Wyszukiwarka!$A$1,'Porównanie dochodów JST'!J1706))","v":false},{"$f":"IF(M1706,COUNTIF($M$16:M1706,TRUE),\"\")","v":""},{"$f":"IFERROR(INDEX($J$16:$J$2822,MATCH(ROWS($J$16:J1706),$N$16:$N$2822,0)),\"\")","v":""}]
["22","13","10","2","221310","Gmina wiejska","POMORSKIE","starogardzki","SKÓRCZ","SKÓRCZ - Gmina wiejska / Powiat starogardzki / Województwo  - POMORSKIE / 221310 / ",17252924,19190475.511688594,{"$f":"ISNUMBER(SEARCH(Wyszukiwarka!$A$1,'Porównanie dochodów JST'!J1707))","v":false},{"$f":"IF(M1707,COUNTIF($M$16:M1707,TRUE),\"\")","v":""},{"$f":"IFERROR(INDEX($J$16:$J$2822,MATCH(ROWS($J$16:J1707),$N$16:$N$2822,0)),\"\")","v":""}]
["22","13","11","2","221311","Gmina wiejska","POMORSKIE","starogardzki","SMĘTOWO GRANICZNE","SMĘTOWO GRANICZNE - Gmina wiejska / Powiat starogardzki / Województwo  - POMORSKIE / 221311 / ",17092046,19065761,{"$f":"ISNUMBER(SEARCH(Wyszukiwarka!$A$1,'Porównanie dochodów JST'!J1708))","v":false},{"$f":"IF(M1708,COUNTIF($M$16:M1708,TRUE),\"\")","v":""},{"$f":"IFERROR(INDEX($J$16:$J$2822,MATCH(ROWS($J$16:J1708),$N$16:$N$2822,0)),\"\")","v":""}]
["22","13","12","2","221312","Gmina wiejska","POMORSKIE","starogardzki","STAROGARD GDAŃSKI","STAROGARD GDAŃSKI - Gmina wiejska / Powiat starogardzki / Województwo  - POMORSKIE / 221312 / ",60029752,65159436.797518164,{"$f":"ISNUMBER(SEARCH(Wyszukiwarka!$A$1,'Porównanie dochodów JST'!J1709))","v":false},{"$f":"IF(M1709,COUNTIF($M$16:M1709,TRUE),\"\")","v":""},{"$f":"IFERROR(INDEX($J$16:$J$2822,MATCH(ROWS($J$16:J1709),$N$16:$N$2822,0)),\"\")","v":""}]
["22","13","13","2","221313","Gmina wiejska","POMORSKIE","starogardzki","ZBLEWO","ZBLEWO - Gmina wiejska / Powiat starogardzki / Województwo  - POMORSKIE / 221313 / ",50398622,57093751.546527281,{"$f":"ISNUMBER(SEARCH(Wyszukiwarka!$A$1,'Porównanie dochodów JST'!J1710))","v":false},{"$f":"IF(M1710,COUNTIF($M$16:M1710,TRUE),\"\")","v":""},{"$f":"IFERROR(INDEX($J$16:$J$2822,MATCH(ROWS($J$16:J1710),$N$16:$N$2822,0)),\"\")","v":""}]
["22","14","01","1","221401","Gmina miejska","POMORSKIE","tczewski","TCZEW","TCZEW - Gmina miejska / Powiat tczewski / Województwo  - POMORSKIE / 221401 / ",206818466,228832768.1458402,{"$f":"ISNUMBER(SEARCH(Wyszukiwarka!$A$1,'Porównanie dochodów JST'!J1711))","v":false},{"$f":"IF(M1711,COUNTIF($M$16:M1711,TRUE),\"\")","v":""},{"$f":"IFERROR(INDEX($J$16:$J$2822,MATCH(ROWS($J$16:J1711),$N$16:$N$2822,0)),\"\")","v":""}]
["22","14","02","3","221402","Gmina miejsko-wiejska","POMORSKIE","tczewski","GNIEW","GNIEW - Gmina miejsko-wiejska / Powiat tczewski / Województwo  - POMORSKIE / 221402 / ",49672098,54033978.655773602,{"$f":"ISNUMBER(SEARCH(Wyszukiwarka!$A$1,'Porównanie dochodów JST'!J1712))","v":false},{"$f":"IF(M1712,COUNTIF($M$16:M1712,TRUE),\"\")","v":""},{"$f":"IFERROR(INDEX($J$16:$J$2822,MATCH(ROWS($J$16:J1712),$N$16:$N$2822,0)),\"\")","v":""}]
["22","14","03","2","221403","Gmina wiejska","POMORSKIE","tczewski","MORZESZCZYN","MORZESZCZYN - Gmina wiejska / Powiat tczewski / Województwo  - POMORSKIE / 221403 / ",12231487,13564217,{"$f":"ISNUMBER(SEARCH(Wyszukiwarka!$A$1,'Porównanie dochodów JST'!J1713))","v":false},{"$f":"IF(M1713,COUNTIF($M$16:M1713,TRUE),\"\")","v":""},{"$f":"IFERROR(INDEX($J$16:$J$2822,MATCH(ROWS($J$16:J1713),$N$16:$N$2822,0)),\"\")","v":""}]
["22","14","04","3","221404","Gmina miejsko-wiejska","POMORSKIE","tczewski","PELPLIN","PELPLIN - Gmina miejsko-wiejska / Powiat tczewski / Województwo  - POMORSKIE / 221404 / ",48281082,55614581.119999997,{"$f":"ISNUMBER(SEARCH(Wyszukiwarka!$A$1,'Porównanie dochodów JST'!J1714))","v":false},{"$f":"IF(M1714,COUNTIF($M$16:M1714,TRUE),\"\")","v":""},{"$f":"IFERROR(INDEX($J$16:$J$2822,MATCH(ROWS($J$16:J1714),$N$16:$N$2822,0)),\"\")","v":""}]
["22","14","05","2","221405","Gmina wiejska","POMORSKIE","tczewski","SUBKOWY","SUBKOWY - Gmina wiejska / Powiat tczewski / Województwo  - POMORSKIE / 221405 / ",19322749,21340153,{"$f":"ISNUMBER(SEARCH(Wyszukiwarka!$A$1,'Porównanie dochodów JST'!J1715))","v":false},{"$f":"IF(M1715,COUNTIF($M$16:M1715,TRUE),\"\")","v":""},{"$f":"IFERROR(INDEX($J$16:$J$2822,MATCH(ROWS($J$16:J1715),$N$16:$N$2822,0)),\"\")","v":""}]
["22","14","06","2","221406","Gmina wiejska","POMORSKIE","tczewski","TCZEW","TCZEW - Gmina wiejska / Powiat tczewski / Województwo  - POMORSKIE / 221406 / ",50051964,55074985,{"$f":"ISNUMBER(SEARCH(Wyszukiwarka!$A$1,'Porównanie dochodów JST'!J1716))","v":false},{"$f":"IF(M1716,COUNTIF($M$16:M1716,TRUE),\"\")","v":""},{"$f":"IFERROR(INDEX($J$16:$J$2822,MATCH(ROWS($J$16:J1716),$N$16:$N$2822,0)),\"\")","v":""}]
["22","15","01","1","221501","Gmina miejska","POMORSKIE","wejherowski","REDA","REDA - Gmina miejska / Powiat wejherowski / Województwo  - POMORSKIE / 221501 / ",114935970,122350593.65978046,{"$f":"ISNUMBER(SEARCH(Wyszukiwarka!$A$1,'Porównanie dochodów JST'!J1717))","v":false},{"$f":"IF(M1717,COUNTIF($M$16:M1717,TRUE),\"\")","v":""},{"$f":"IFERROR(INDEX($J$16:$J$2822,MATCH(ROWS($J$16:J1717),$N$16:$N$2822,0)),\"\")","v":""}]
["22","15","02","1","221502","Gmina miejska","POMORSKIE","wejherowski","RUMIA","RUMIA - Gmina miejska / Powiat wejherowski / Województwo  - POMORSKIE / 221502 / ",205837688,220084644.50390005,{"$f":"ISNUMBER(SEARCH(Wyszukiwarka!$A$1,'Porównanie dochodów JST'!J1718))","v":false},{"$f":"IF(M1718,COUNTIF($M$16:M1718,TRUE),\"\")","v":""},{"$f":"IFERROR(INDEX($J$16:$J$2822,MATCH(ROWS($J$16:J1718),$N$16:$N$2822,0)),\"\")","v":""}]
["22","15","03","1","221503","Gmina miejska","POMORSKIE","wejherowski","WEJHEROWO","WEJHEROWO - Gmina miejska / Powiat wejherowski / Województwo  - POMORSKIE / 221503 / ",173920709,190284974.7774207,{"$f":"ISNUMBER(SEARCH(Wyszukiwarka!$A$1,'Porównanie dochodów JST'!J1719))","v":false},{"$f":"IF(M1719,COUNTIF($M$16:M1719,TRUE),\"\")","v":""},{"$f":"IFERROR(INDEX($J$16:$J$2822,MATCH(ROWS($J$16:J1719),$N$16:$N$2822,0)),\"\")","v":""}]
["22","15","04","2","221504","Gmina wiejska","POMORSKIE","wejherowski","CHOCZEWO","CHOCZEWO - Gmina wiejska / Powiat wejherowski / Województwo  - POMORSKIE / 221504 / ",18341548,20174834.870815989,{"$f":"ISNUMBER(SEARCH(Wyszukiwarka!$A$1,'Porównanie dochodów JST'!J1720))","v":false},{"$f":"IF(M1720,COUNTIF($M$16:M1720,TRUE),\"\")","v":""},{"$f":"IFERROR(INDEX($J$16:$J$2822,MATCH(ROWS($J$16:J1720),$N$16:$N$2822,0)),\"\")","v":""}]
["22","15","05","2","221505","Gmina wiejska","POMORSKIE","wejherowski","GNIEWINO","GNIEWINO - Gmina wiejska / Powiat wejherowski / Województwo  - POMORSKIE / 221505 / ",30661567,33272362.506493464,{"$f":"ISNUMBER(SEARCH(Wyszukiwarka!$A$1,'Porównanie dochodów JST'!J1721))","v":false},{"$f":"IF(M1721,COUNTIF($M$16:M1721,TRUE),\"\")","v":""},{"$f":"IFERROR(INDEX($J$16:$J$2822,MATCH(ROWS($J$16:J1721),$N$16:$N$2822,0)),\"\")","v":""}]
["22","15","06","2","221506","Gmina wiejska","POMORSKIE","wejherowski","LINIA","LINIA - Gmina wiejska / Powiat wejherowski / Województwo  - POMORSKIE / 221506 / ",34790994,38969298.886891127,{"$f":"ISNUMBER(SEARCH(Wyszukiwarka!$A$1,'Porównanie dochodów JST'!J1722))","v":false},{"$f":"IF(M1722,COUNTIF($M$16:M1722,TRUE),\"\")","v":""},{"$f":"IFERROR(INDEX($J$16:$J$2822,MATCH(ROWS($J$16:J1722),$N$16:$N$2822,0)),\"\")","v":""}]
["22","15","07","2","221507","Gmina wiejska","POMORSKIE","wejherowski","LUZINO","LUZINO - Gmina wiejska / Powiat wejherowski / Województwo  - POMORSKIE / 221507 / ",80984099,90549196.396535859,{"$f":"ISNUMBER(SEARCH(Wyszukiwarka!$A$1,'Porównanie dochodów JST'!J1723))","v":false},{"$f":"IF(M1723,COUNTIF($M$16:M1723,TRUE),\"\")","v":""},{"$f":"IFERROR(INDEX($J$16:$J$2822,MATCH(ROWS($J$16:J1723),$N$16:$N$2822,0)),\"\")","v":""}]
["22","15","08","2","221508","Gmina wiejska","POMORSKIE","wejherowski","ŁĘCZYCE","ŁĘCZYCE - Gmina wiejska / Powiat wejherowski / Województwo  - POMORSKIE / 221508 / ",50888102,55723294.219552204,{"$f":"ISNUMBER(SEARCH(Wyszukiwarka!$A$1,'Porównanie dochodów JST'!J1724))","v":false},{"$f":"IF(M1724,COUNTIF($M$16:M1724,TRUE),\"\")","v":""},{"$f":"IFERROR(INDEX($J$16:$J$2822,MATCH(ROWS($J$16:J1724),$N$16:$N$2822,0)),\"\")","v":""}]
["22","15","09","2","221509","Gmina wiejska","POMORSKIE","wejherowski","SZEMUD","SZEMUD - Gmina wiejska / Powiat wejherowski / Województwo  - POMORSKIE / 221509 / ",99049755,113240859.2,{"$f":"ISNUMBER(SEARCH(Wyszukiwarka!$A$1,'Porównanie dochodów JST'!J1725))","v":false},{"$f":"IF(M1725,COUNTIF($M$16:M1725,TRUE),\"\")","v":""},{"$f":"IFERROR(INDEX($J$16:$J$2822,MATCH(ROWS($J$16:J1725),$N$16:$N$2822,0)),\"\")","v":""}]
["22","15","10","2","221510","Gmina wiejska","POMORSKIE","wejherowski","WEJHEROWO","WEJHEROWO - Gmina wiejska / Powiat wejherowski / Województwo  - POMORSKIE / 221510 / ",126236615,134238182.45762926,{"$f":"ISNUMBER(SEARCH(Wyszukiwarka!$A$1,'Porównanie dochodów JST'!J1726))","v":false},{"$f":"IF(M1726,COUNTIF($M$16:M1726,TRUE),\"\")","v":""},{"$f":"IFERROR(INDEX($J$16:$J$2822,MATCH(ROWS($J$16:J1726),$N$16:$N$2822,0)),\"\")","v":""}]
["22","16","01","3","221601","Gmina miejsko-wiejska","POMORSKIE","sztumski","DZIERZGOŃ","DZIERZGOŃ - Gmina miejsko-wiejska / Powiat sztumski / Województwo  - POMORSKIE / 221601 / ",30281962,33605387,{"$f":"ISNUMBER(SEARCH(Wyszukiwarka!$A$1,'Porównanie dochodów JST'!J1727))","v":false},{"$f":"IF(M1727,COUNTIF($M$16:M1727,TRUE),\"\")","v":""},{"$f":"IFERROR(INDEX($J$16:$J$2822,MATCH(ROWS($J$16:J1727),$N$16:$N$2822,0)),\"\")","v":""}]
["22","16","02","2","221602","Gmina wiejska","POMORSKIE","sztumski","MIKOŁAJKI POMORSKIE","MIKOŁAJKI POMORSKIE - Gmina wiejska / Powiat sztumski / Województwo  - POMORSKIE / 221602 / ",12189787,14014356.16,{"$f":"ISNUMBER(SEARCH(Wyszukiwarka!$A$1,'Porównanie dochodów JST'!J1728))","v":false},{"$f":"IF(M1728,COUNTIF($M$16:M1728,TRUE),\"\")","v":""},{"$f":"IFERROR(INDEX($J$16:$J$2822,MATCH(ROWS($J$16:J1728),$N$16:$N$2822,0)),\"\")","v":""}]
["22","16","03","2","221603","Gmina wiejska","POMORSKIE","malborski","STARY DZIERZGOŃ","STARY DZIERZGOŃ - Gmina wiejska / Powiat malborski / Województwo  - POMORSKIE / 221603 / ",11288065,12947963.324999999,{"$f":"ISNUMBER(SEARCH(Wyszukiwarka!$A$1,'Porównanie dochodów JST'!J1729))","v":false},{"$f":"IF(M1729,COUNTIF($M$16:M1729,TRUE),\"\")","v":""},{"$f":"IFERROR(INDEX($J$16:$J$2822,MATCH(ROWS($J$16:J1729),$N$16:$N$2822,0)),\"\")","v":""}]
["22","16","04","2","221604","Gmina wiejska","POMORSKIE","sztumski","STARY TARG","STARY TARG - Gmina wiejska / Powiat sztumski / Województwo  - POMORSKIE / 221604 / ",20402050,22468179.737939715,{"$f":"ISNUMBER(SEARCH(Wyszukiwarka!$A$1,'Porównanie dochodów JST'!J1730))","v":false},{"$f":"IF(M1730,COUNTIF($M$16:M1730,TRUE),\"\")","v":""},{"$f":"IFERROR(INDEX($J$16:$J$2822,MATCH(ROWS($J$16:J1730),$N$16:$N$2822,0)),\"\")","v":""}]
["22","16","05","3","221605","Gmina miejsko-wiejska","POMORSKIE","sztumski","SZTUM","SZTUM - Gmina miejsko-wiejska / Powiat sztumski / Województwo  - POMORSKIE / 221605 / ",54370277,59465829,{"$f":"ISNUMBER(SEARCH(Wyszukiwarka!$A$1,'Porównanie dochodów JST'!J1731))","v":false},{"$f":"IF(M1731,COUNTIF($M$16:M1731,TRUE),\"\")","v":""},{"$f":"IFERROR(INDEX($J$16:$J$2822,MATCH(ROWS($J$16:J1731),$N$16:$N$2822,0)),\"\")","v":""}]
["24","01","01","1","240101","Gmina miejska","ŚLĄSKIE","będziński","BĘDZIN","BĘDZIN - Gmina miejska / Powiat będziński / Województwo  - ŚLĄSKIE / 240101 / ",170857438,197528458.40000001,{"$f":"ISNUMBER(SEARCH(Wyszukiwarka!$A$1,'Porównanie dochodów JST'!J1732))","v":false},{"$f":"IF(M1732,COUNTIF($M$16:M1732,TRUE),\"\")","v":""},{"$f":"IFERROR(INDEX($J$16:$J$2822,MATCH(ROWS($J$16:J1732),$N$16:$N$2822,0)),\"\")","v":""}]
["24","01","02","1","240102","Gmina miejska","ŚLĄSKIE","będziński","CZELADŹ","CZELADŹ - Gmina miejska / Powiat będziński / Województwo  - ŚLĄSKIE / 240102 / ",89376416,103331541.59999999,{"$f":"ISNUMBER(SEARCH(Wyszukiwarka!$A$1,'Porównanie dochodów JST'!J1733))","v":false},{"$f":"IF(M1733,COUNTIF($M$16:M1733,TRUE),\"\")","v":""},{"$f":"IFERROR(INDEX($J$16:$J$2822,MATCH(ROWS($J$16:J1733),$N$16:$N$2822,0)),\"\")","v":""}]
["24","01","03","1","240103","Gmina miejska","ŚLĄSKIE","będziński","WOJKOWICE","WOJKOWICE - Gmina miejska / Powiat będziński / Województwo  - ŚLĄSKIE / 240103 / ",26659514,30763484.640000004,{"$f":"ISNUMBER(SEARCH(Wyszukiwarka!$A$1,'Porównanie dochodów JST'!J1734))","v":false},{"$f":"IF(M1734,COUNTIF($M$16:M1734,TRUE),\"\")","v":""},{"$f":"IFERROR(INDEX($J$16:$J$2822,MATCH(ROWS($J$16:J1734),$N$16:$N$2822,0)),\"\")","v":""}]
["24","01","04","2","240104","Gmina wiejska","ŚLĄSKIE","będziński","BOBROWNIKI","BOBROWNIKI - Gmina wiejska / Powiat będziński / Województwo  - ŚLĄSKIE / 240104 / ",57337212,62275639.740341023,{"$f":"ISNUMBER(SEARCH(Wyszukiwarka!$A$1,'Porównanie dochodów JST'!J1735))","v":false},{"$f":"IF(M1735,COUNTIF($M$16:M1735,TRUE),\"\")","v":""},{"$f":"IFERROR(INDEX($J$16:$J$2822,MATCH(ROWS($J$16:J1735),$N$16:$N$2822,0)),\"\")","v":""}]
["24","01","05","2","240105","Gmina wiejska","ŚLĄSKIE","będziński","MIERZĘCICE","MIERZĘCICE - Gmina wiejska / Powiat będziński / Województwo  - ŚLĄSKIE / 240105 / ",28957723,31713197,{"$f":"ISNUMBER(SEARCH(Wyszukiwarka!$A$1,'Porównanie dochodów JST'!J1736))","v":false},{"$f":"IF(M1736,COUNTIF($M$16:M1736,TRUE),\"\")","v":""},{"$f":"IFERROR(INDEX($J$16:$J$2822,MATCH(ROWS($J$16:J1736),$N$16:$N$2822,0)),\"\")","v":""}]
["24","01","06","2","240106","Gmina wiejska","ŚLĄSKIE","będziński","PSARY","PSARY - Gmina wiejska / Powiat będziński / Województwo  - ŚLĄSKIE / 240106 / ",53951733,58660536.686716318,{"$f":"ISNUMBER(SEARCH(Wyszukiwarka!$A$1,'Porównanie dochodów JST'!J1737))","v":false},{"$f":"IF(M1737,COUNTIF($M$16:M1737,TRUE),\"\")","v":""},{"$f":"IFERROR(INDEX($J$16:$J$2822,MATCH(ROWS($J$16:J1737),$N$16:$N$2822,0)),\"\")","v":""}]
["24","01","07","3","240107","Gmina miejsko-wiejska","ŚLĄSKIE","będziński","SIEWIERZ","SIEWIERZ - Gmina miejsko-wiejska / Powiat będziński / Województwo  - ŚLĄSKIE / 240107 / ",52368403,56786038,{"$f":"ISNUMBER(SEARCH(Wyszukiwarka!$A$1,'Porównanie dochodów JST'!J1738))","v":false},{"$f":"IF(M1738,COUNTIF($M$16:M1738,TRUE),\"\")","v":""},{"$f":"IFERROR(INDEX($J$16:$J$2822,MATCH(ROWS($J$16:J1738),$N$16:$N$2822,0)),\"\")","v":""}]
["24","01","08","1","240108","Gmina miejska","ŚLĄSKIE","będziński","SŁAWKÓW","SŁAWKÓW - Gmina miejska / Powiat będziński / Województwo  - ŚLĄSKIE / 240108 / ",22176481,24847846.999999996,{"$f":"ISNUMBER(SEARCH(Wyszukiwarka!$A$1,'Porównanie dochodów JST'!J1739))","v":false},{"$f":"IF(M1739,COUNTIF($M$16:M1739,TRUE),\"\")","v":""},{"$f":"IFERROR(INDEX($J$16:$J$2822,MATCH(ROWS($J$16:J1739),$N$16:$N$2822,0)),\"\")","v":""}]
["24","02","01","1","240201","Gmina miejska","ŚLĄSKIE","bielski","SZCZYRK","SZCZYRK - Gmina miejska / Powiat bielski / Województwo  - ŚLĄSKIE / 240201 / ",15474712,17439139,{"$f":"ISNUMBER(SEARCH(Wyszukiwarka!$A$1,'Porównanie dochodów JST'!J1740))","v":false},{"$f":"IF(M1740,COUNTIF($M$16:M1740,TRUE),\"\")","v":""},{"$f":"IFERROR(INDEX($J$16:$J$2822,MATCH(ROWS($J$16:J1740),$N$16:$N$2822,0)),\"\")","v":""}]
["24","02","02","2","240202","Gmina wiejska","ŚLĄSKIE","bielski","BESTWINA","BESTWINA - Gmina wiejska / Powiat bielski / Województwo  - ŚLĄSKIE / 240202 / ",49399915,53714858,{"$f":"ISNUMBER(SEARCH(Wyszukiwarka!$A$1,'Porównanie dochodów JST'!J1741))","v":false},{"$f":"IF(M1741,COUNTIF($M$16:M1741,TRUE),\"\")","v":""},{"$f":"IFERROR(INDEX($J$16:$J$2822,MATCH(ROWS($J$16:J1741),$N$16:$N$2822,0)),\"\")","v":""}]
["24","02","03","2","240203","Gmina wiejska","ŚLĄSKIE","bielski","BUCZKOWICE","BUCZKOWICE - Gmina wiejska / Powiat bielski / Województwo  - ŚLĄSKIE / 240203 / ",44086094,48159227,{"$f":"ISNUMBER(SEARCH(Wyszukiwarka!$A$1,'Porównanie dochodów JST'!J1742))","v":false},{"$f":"IF(M1742,COUNTIF($M$16:M1742,TRUE),\"\")","v":""},{"$f":"IFERROR(INDEX($J$16:$J$2822,MATCH(ROWS($J$16:J1742),$N$16:$N$2822,0)),\"\")","v":""}]
["24","02","04","3","240204","Gmina miejsko-wiejska","ŚLĄSKIE","bielski","CZECHOWICE-DZIEDZICE","CZECHOWICE-DZIEDZICE - Gmina miejsko-wiejska / Powiat bielski / Województwo  - ŚLĄSKIE / 240204 / ",170553507,190404149.63710004,{"$f":"ISNUMBER(SEARCH(Wyszukiwarka!$A$1,'Porównanie dochodów JST'!J1743))","v":false},{"$f":"IF(M1743,COUNTIF($M$16:M1743,TRUE),\"\")","v":""},{"$f":"IFERROR(INDEX($J$16:$J$2822,MATCH(ROWS($J$16:J1743),$N$16:$N$2822,0)),\"\")","v":""}]
["24","02","05","2","240205","Gmina wiejska","ŚLĄSKIE","bielski","JASIENICA","JASIENICA - Gmina wiejska / Powiat bielski / Województwo  - ŚLĄSKIE / 240205 / ",100866716,108143534.05774377,{"$f":"ISNUMBER(SEARCH(Wyszukiwarka!$A$1,'Porównanie dochodów JST'!J1744))","v":false},{"$f":"IF(M1744,COUNTIF($M$16:M1744,TRUE),\"\")","v":""},{"$f":"IFERROR(INDEX($J$16:$J$2822,MATCH(ROWS($J$16:J1744),$N$16:$N$2822,0)),\"\")","v":""}]
["24","02","06","2","240206","Gmina wiejska","ŚLĄSKIE","bielski","JAWORZE",{"$f":"I1745&$H$12&F1745&$G$12&$H$14&H1745&$G$12&$G$14&$H$12&G1745&$G$12&E1745&$G$12","v":"JAWORZE - Gmina wiejska / Powiat bielski / Województwo  - ŚLĄSKIE / 240206 / "},37427094,40649005.999999993,{"$f":"ISNUMBER(SEARCH(Wyszukiwarka!$A$1,'Porównanie dochodów JST'!J1745))","v":false},{"$f":"IF(M1745,COUNTIF($M$16:M1745,TRUE),\"\")","v":""},{"$f":"IFERROR(INDEX($J$16:$J$2822,MATCH(ROWS($J$16:J1745),$N$16:$N$2822,0)),\"\")","v":""}]
["24","02","07","2","240207","Gmina wiejska","ŚLĄSKIE","bielski","KOZY","KOZY - Gmina wiejska / Powiat bielski / Województwo  - ŚLĄSKIE / 240207 / ",69739591,74388406,{"$f":"ISNUMBER(SEARCH(Wyszukiwarka!$A$1,'Porównanie dochodów JST'!J1746))","v":false},{"$f":"IF(M1746,COUNTIF($M$16:M1746,TRUE),\"\")","v":""},{"$f":"IFERROR(INDEX($J$16:$J$2822,MATCH(ROWS($J$16:J1746),$N$16:$N$2822,0)),\"\")","v":""}]
["24","02","08","2","240208","Gmina wiejska","ŚLĄSKIE","bielski","PORĄBKA","PORĄBKA - Gmina wiejska / Powiat bielski / Województwo  - ŚLĄSKIE / 240208 / ",59317713,64270437,{"$f":"ISNUMBER(SEARCH(Wyszukiwarka!$A$1,'Porównanie dochodów JST'!J1747))","v":false},{"$f":"IF(M1747,COUNTIF($M$16:M1747,TRUE),\"\")","v":""},{"$f":"IFERROR(INDEX($J$16:$J$2822,MATCH(ROWS($J$16:J1747),$N$16:$N$2822,0)),\"\")","v":""}]
["24","02","09","3","240209","Gmina miejsko-wiejska","ŚLĄSKIE","bielski","WILAMOWICE","WILAMOWICE - Gmina miejsko-wiejska / Powiat bielski / Województwo  - ŚLĄSKIE / 240209 / ",74105761,79353448,{"$f":"ISNUMBER(SEARCH(Wyszukiwarka!$A$1,'Porównanie dochodów JST'!J1748))","v":false},{"$f":"IF(M1748,COUNTIF($M$16:M1748,TRUE),\"\")","v":""},{"$f":"IFERROR(INDEX($J$16:$J$2822,MATCH(ROWS($J$16:J1748),$N$16:$N$2822,0)),\"\")","v":""}]
["24","02","10","2","240210","Gmina wiejska","ŚLĄSKIE","bielski","WILKOWICE","WILKOWICE - Gmina wiejska / Powiat bielski / Województwo  - ŚLĄSKIE / 240210 / ",55096583,60344087.515984006,{"$f":"ISNUMBER(SEARCH(Wyszukiwarka!$A$1,'Porównanie dochodów JST'!J1749))","v":false},{"$f":"IF(M1749,COUNTIF($M$16:M1749,TRUE),\"\")","v":""},{"$f":"IFERROR(INDEX($J$16:$J$2822,MATCH(ROWS($J$16:J1749),$N$16:$N$2822,0)),\"\")","v":""}]
["24","03","01","1","240301","Gmina miejska","ŚLĄSKIE","cieszyński","CIESZYN","CIESZYN - Gmina miejska / Powiat cieszyński / Województwo  - ŚLĄSKIE / 240301 / ",133548224,144366910.87906784,{"$f":"ISNUMBER(SEARCH(Wyszukiwarka!$A$1,'Porównanie dochodów JST'!J1750))","v":false},{"$f":"IF(M1750,COUNTIF($M$16:M1750,TRUE),\"\")","v":""},{"$f":"IFERROR(INDEX($J$16:$J$2822,MATCH(ROWS($J$16:J1750),$N$16:$N$2822,0)),\"\")","v":""}]
["24","03","02","1","240302","Gmina miejska","ŚLĄSKIE","cieszyński","USTROŃ","USTROŃ - Gmina miejska / Powiat cieszyński / Województwo  - ŚLĄSKIE / 240302 / ",61352368,66846571,{"$f":"ISNUMBER(SEARCH(Wyszukiwarka!$A$1,'Porównanie dochodów JST'!J1751))","v":false},{"$f":"IF(M1751,COUNTIF($M$16:M1751,TRUE),\"\")","v":""},{"$f":"IFERROR(INDEX($J$16:$J$2822,MATCH(ROWS($J$16:J1751),$N$16:$N$2822,0)),\"\")","v":""}]
["24","03","03","1","240303","Gmina miejska","ŚLĄSKIE","cieszyński","WISŁA","WISŁA - Gmina miejska / Powiat cieszyński / Województwo  - ŚLĄSKIE / 240303 / ",34310592,38214298.809587128,{"$f":"ISNUMBER(SEARCH(Wyszukiwarka!$A$1,'Porównanie dochodów JST'!J1752))","v":false},{"$f":"IF(M1752,COUNTIF($M$16:M1752,TRUE),\"\")","v":""},{"$f":"IFERROR(INDEX($J$16:$J$2822,MATCH(ROWS($J$16:J1752),$N$16:$N$2822,0)),\"\")","v":""}]
["24","03","04","2","240304","Gmina wiejska","ŚLĄSKIE","cieszyński","BRENNA","BRENNA - Gmina wiejska / Powiat cieszyński / Województwo  - ŚLĄSKIE / 240304 / ",41494594,45590926.628423207,{"$f":"ISNUMBER(SEARCH(Wyszukiwarka!$A$1,'Porównanie dochodów JST'!J1753))","v":false},{"$f":"IF(M1753,COUNTIF($M$16:M1753,TRUE),\"\")","v":""},{"$f":"IFERROR(INDEX($J$16:$J$2822,MATCH(ROWS($J$16:J1753),$N$16:$N$2822,0)),\"\")","v":""}]
["24","03","05","2","240305","Gmina wiejska","ŚLĄSKIE","cieszyński","CHYBIE","CHYBIE - Gmina wiejska / Powiat cieszyński / Województwo  - ŚLĄSKIE / 240305 / ",42190256,45573835.516899839,{"$f":"ISNUMBER(SEARCH(Wyszukiwarka!$A$1,'Porównanie dochodów JST'!J1754))","v":false},{"$f":"IF(M1754,COUNTIF($M$16:M1754,TRUE),\"\")","v":""},{"$f":"IFERROR(INDEX($J$16:$J$2822,MATCH(ROWS($J$16:J1754),$N$16:$N$2822,0)),\"\")","v":""}]
["24","03","06","2","240306","Gmina wiejska","ŚLĄSKIE","cieszyński","DĘBOWIEC","DĘBOWIEC - Gmina wiejska / Powiat cieszyński / Województwo  - ŚLĄSKIE / 240306 / ",24519541,26559887.647958063,{"$f":"ISNUMBER(SEARCH(Wyszukiwarka!$A$1,'Porównanie dochodów JST'!J1755))","v":false},{"$f":"IF(M1755,COUNTIF($M$16:M1755,TRUE),\"\")","v":""},{"$f":"IFERROR(INDEX($J$16:$J$2822,MATCH(ROWS($J$16:J1755),$N$16:$N$2822,0)),\"\")","v":""}]
["24","03","07","2","240307","Gmina wiejska","ŚLĄSKIE","cieszyński","GOLESZÓW","GOLESZÓW - Gmina wiejska / Powiat cieszyński / Województwo  - ŚLĄSKIE / 240307 / ",45301182,49565789.730878167,{"$f":"ISNUMBER(SEARCH(Wyszukiwarka!$A$1,'Porównanie dochodów JST'!J1756))","v":false},{"$f":"IF(M1756,COUNTIF($M$16:M1756,TRUE),\"\")","v":""},{"$f":"IFERROR(INDEX($J$16:$J$2822,MATCH(ROWS($J$16:J1756),$N$16:$N$2822,0)),\"\")","v":""}]
["24","03","08","2","240308","Gmina wiejska","ŚLĄSKIE","cieszyński","HAŻLACH","HAŻLACH - Gmina wiejska / Powiat cieszyński / Województwo  - ŚLĄSKIE / 240308 / ",41963419,45946082,{"$f":"ISNUMBER(SEARCH(Wyszukiwarka!$A$1,'Porównanie dochodów JST'!J1757))","v":false},{"$f":"IF(M1757,COUNTIF($M$16:M1757,TRUE),\"\")","v":""},{"$f":"IFERROR(INDEX($J$16:$J$2822,MATCH(ROWS($J$16:J1757),$N$16:$N$2822,0)),\"\")","v":""}]
["24","03","09","2","240309","Gmina wiejska","ŚLĄSKIE","cieszyński","ISTEBNA","ISTEBNA - Gmina wiejska / Powiat cieszyński / Województwo  - ŚLĄSKIE / 240309 / ",53342434,61001208.869885385,{"$f":"ISNUMBER(SEARCH(Wyszukiwarka!$A$1,'Porównanie dochodów JST'!J1758))","v":false},{"$f":"IF(M1758,COUNTIF($M$16:M1758,TRUE),\"\")","v":""},{"$f":"IFERROR(INDEX($J$16:$J$2822,MATCH(ROWS($J$16:J1758),$N$16:$N$2822,0)),\"\")","v":""}]
["24","03","10","3","240310","Gmina miejsko-wiejska","ŚLĄSKIE","cieszyński","SKOCZÓW","SKOCZÓW - Gmina miejsko-wiejska / Powiat cieszyński / Województwo  - ŚLĄSKIE / 240310 / ",89635935,96082896,{"$f":"ISNUMBER(SEARCH(Wyszukiwarka!$A$1,'Porównanie dochodów JST'!J1759))","v":false},{"$f":"IF(M1759,COUNTIF($M$16:M1759,TRUE),\"\")","v":""},{"$f":"IFERROR(INDEX($J$16:$J$2822,MATCH(ROWS($J$16:J1759),$N$16:$N$2822,0)),\"\")","v":""}]
["24","03","11","3","240311","Gmina miejsko-wiejska","ŚLĄSKIE","cieszyński","STRUMIEŃ","STRUMIEŃ - Gmina miejsko-wiejska / Powiat cieszyński / Województwo  - ŚLĄSKIE / 240311 / ",54461006,58711460.897378333,{"$f":"ISNUMBER(SEARCH(Wyszukiwarka!$A$1,'Porównanie dochodów JST'!J1760))","v":false},{"$f":"IF(M1760,COUNTIF($M$16:M1760,TRUE),\"\")","v":""},{"$f":"IFERROR(INDEX($J$16:$J$2822,MATCH(ROWS($J$16:J1760),$N$16:$N$2822,0)),\"\")","v":""}]
["24","03","12","2","240312","Gmina wiejska","ŚLĄSKIE","cieszyński","ZEBRZYDOWICE","ZEBRZYDOWICE - Gmina wiejska / Powiat cieszyński / Województwo  - ŚLĄSKIE / 240312 / ",48840500,53020604,{"$f":"ISNUMBER(SEARCH(Wyszukiwarka!$A$1,'Porównanie dochodów JST'!J1761))","v":false},{"$f":"IF(M1761,COUNTIF($M$16:M1761,TRUE),\"\")","v":""},{"$f":"IFERROR(INDEX($J$16:$J$2822,MATCH(ROWS($J$16:J1761),$N$16:$N$2822,0)),\"\")","v":""}]
["24","04","01","3","240401","Gmina miejsko-wiejska","ŚLĄSKIE","częstochowski","BLACHOWNIA","BLACHOWNIA - Gmina miejsko-wiejska / Powiat częstochowski / Województwo  - ŚLĄSKIE / 240401 / ",39361774,44295822.563100003,{"$f":"ISNUMBER(SEARCH(Wyszukiwarka!$A$1,'Porównanie dochodów JST'!J1762))","v":false},{"$f":"IF(M1762,COUNTIF($M$16:M1762,TRUE),\"\")","v":""},{"$f":"IFERROR(INDEX($J$16:$J$2822,MATCH(ROWS($J$16:J1762),$N$16:$N$2822,0)),\"\")","v":""}]
["24","04","02","2","240402","Gmina wiejska","ŚLĄSKIE","częstochowski","DĄBROWA ZIELONA","DĄBROWA ZIELONA - Gmina wiejska / Powiat częstochowski / Województwo  - ŚLĄSKIE / 240402 / ",15847177,17208234,{"$f":"ISNUMBER(SEARCH(Wyszukiwarka!$A$1,'Porównanie dochodów JST'!J1763))","v":false},{"$f":"IF(M1763,COUNTIF($M$16:M1763,TRUE),\"\")","v":""},{"$f":"IFERROR(INDEX($J$16:$J$2822,MATCH(ROWS($J$16:J1763),$N$16:$N$2822,0)),\"\")","v":""}]
["24","04","03","2","240403","Gmina wiejska","ŚLĄSKIE","częstochowski","JANÓW","JANÓW - Gmina wiejska / Powiat częstochowski / Województwo  - ŚLĄSKIE / 240403 / ",24845848,26931697,{"$f":"ISNUMBER(SEARCH(Wyszukiwarka!$A$1,'Porównanie dochodów JST'!J1764))","v":false},{"$f":"IF(M1764,COUNTIF($M$16:M1764,TRUE),\"\")","v":""},{"$f":"IFERROR(INDEX($J$16:$J$2822,MATCH(ROWS($J$16:J1764),$N$16:$N$2822,0)),\"\")","v":""}]
["24","04","04","2","240404","Gmina wiejska","ŚLĄSKIE","częstochowski","KAMIENICA POLSKA","KAMIENICA POLSKA - Gmina wiejska / Powiat częstochowski / Województwo  - ŚLĄSKIE / 240404 / ",16639690,19193820.800000001,{"$f":"ISNUMBER(SEARCH(Wyszukiwarka!$A$1,'Porównanie dochodów JST'!J1765))","v":false},{"$f":"IF(M1765,COUNTIF($M$16:M1765,TRUE),\"\")","v":""},{"$f":"IFERROR(INDEX($J$16:$J$2822,MATCH(ROWS($J$16:J1765),$N$16:$N$2822,0)),\"\")","v":""}]
["24","04","05","2","240405","Gmina wiejska","ŚLĄSKIE","częstochowski","KŁOMNICE","KŁOMNICE - Gmina wiejska / Powiat częstochowski / Województwo  - ŚLĄSKIE / 240405 / ",49868060,54098317.872595496,{"$f":"ISNUMBER(SEARCH(Wyszukiwarka!$A$1,'Porównanie dochodów JST'!J1766))","v":false},{"$f":"IF(M1766,COUNTIF($M$16:M1766,TRUE),\"\")","v":""},{"$f":"IFERROR(INDEX($J$16:$J$2822,MATCH(ROWS($J$16:J1766),$N$16:$N$2822,0)),\"\")","v":""}]
["24","04","06","3","240406","Gmina miejsko-wiejska","ŚLĄSKIE","częstochowski","KONIECPOL","KONIECPOL - Gmina miejsko-wiejska / Powiat częstochowski / Województwo  - ŚLĄSKIE / 240406 / ",28662208,32054018,{"$f":"ISNUMBER(SEARCH(Wyszukiwarka!$A$1,'Porównanie dochodów JST'!J1767))","v":false},{"$f":"IF(M1767,COUNTIF($M$16:M1767,TRUE),\"\")","v":""},{"$f":"IFERROR(INDEX($J$16:$J$2822,MATCH(ROWS($J$16:J1767),$N$16:$N$2822,0)),\"\")","v":""}]
["24","04","07","2","240407","Gmina wiejska","ŚLĄSKIE","częstochowski","KONOPISKA","KONOPISKA - Gmina wiejska / Powiat częstochowski / Województwo  - ŚLĄSKIE / 240407 / ",40786508,44833725,{"$f":"ISNUMBER(SEARCH(Wyszukiwarka!$A$1,'Porównanie dochodów JST'!J1768))","v":false},{"$f":"IF(M1768,COUNTIF($M$16:M1768,TRUE),\"\")","v":""},{"$f":"IFERROR(INDEX($J$16:$J$2822,MATCH(ROWS($J$16:J1768),$N$16:$N$2822,0)),\"\")","v":""}]
["24","04","08","2","240408","Gmina wiejska","ŚLĄSKIE","częstochowski","KRUSZYNA","KRUSZYNA - Gmina wiejska / Powiat częstochowski / Województwo  - ŚLĄSKIE / 240408 / ",21430642,23388798,{"$f":"ISNUMBER(SEARCH(Wyszukiwarka!$A$1,'Porównanie dochodów JST'!J1769))","v":false},{"$f":"IF(M1769,COUNTIF($M$16:M1769,TRUE),\"\")","v":""},{"$f":"IFERROR(INDEX($J$16:$J$2822,MATCH(ROWS($J$16:J1769),$N$16:$N$2822,0)),\"\")","v":""}]
["24","04","09","2","240409","Gmina wiejska","ŚLĄSKIE","częstochowski","LELÓW","LELÓW - Gmina wiejska / Powiat częstochowski / Województwo  - ŚLĄSKIE / 240409 / ",17376644,19323934,{"$f":"ISNUMBER(SEARCH(Wyszukiwarka!$A$1,'Porównanie dochodów JST'!J1770))","v":false},{"$f":"IF(M1770,COUNTIF($M$16:M1770,TRUE),\"\")","v":""},{"$f":"IFERROR(INDEX($J$16:$J$2822,MATCH(ROWS($J$16:J1770),$N$16:$N$2822,0)),\"\")","v":""}]
["24","04","10","2","240410","Gmina wiejska","ŚLĄSKIE","częstochowski","MSTÓW","MSTÓW - Gmina wiejska / Powiat częstochowski / Województwo  - ŚLĄSKIE / 240410 / ",40125346,44190934.895416111,{"$f":"ISNUMBER(SEARCH(Wyszukiwarka!$A$1,'Porównanie dochodów JST'!J1771))","v":false},{"$f":"IF(M1771,COUNTIF($M$16:M1771,TRUE),\"\")","v":""},{"$f":"IFERROR(INDEX($J$16:$J$2822,MATCH(ROWS($J$16:J1771),$N$16:$N$2822,0)),\"\")","v":""}]
["24","04","11","2","240411","Gmina wiejska","ŚLĄSKIE","częstochowski","MYKANÓW","MYKANÓW - Gmina wiejska / Powiat częstochowski / Województwo  - ŚLĄSKIE / 240411 / ",65208896,70162737.787773296,{"$f":"ISNUMBER(SEARCH(Wyszukiwarka!$A$1,'Porównanie dochodów JST'!J1772))","v":false},{"$f":"IF(M1772,COUNTIF($M$16:M1772,TRUE),\"\")","v":""},{"$f":"IFERROR(INDEX($J$16:$J$2822,MATCH(ROWS($J$16:J1772),$N$16:$N$2822,0)),\"\")","v":""}]
["24","04","12","2","240412","Gmina wiejska","ŚLĄSKIE","częstochowski","OLSZTYN","OLSZTYN - Gmina wiejska / Powiat częstochowski / Województwo  - ŚLĄSKIE / 240412 / ",30723684,34123720.743277736,{"$f":"ISNUMBER(SEARCH(Wyszukiwarka!$A$1,'Porównanie dochodów JST'!J1773))","v":false},{"$f":"IF(M1773,COUNTIF($M$16:M1773,TRUE),\"\")","v":""},{"$f":"IFERROR(INDEX($J$16:$J$2822,MATCH(ROWS($J$16:J1773),$N$16:$N$2822,0)),\"\")","v":""}]
["24","04","13","2","240413","Gmina wiejska","ŚLĄSKIE","częstochowski","POCZESNA","POCZESNA - Gmina wiejska / Powiat częstochowski / Województwo  - ŚLĄSKIE / 240413 / ",41803517,47820600.445166603,{"$f":"ISNUMBER(SEARCH(Wyszukiwarka!$A$1,'Porównanie dochodów JST'!J1774))","v":false},{"$f":"IF(M1774,COUNTIF($M$16:M1774,TRUE),\"\")","v":""},{"$f":"IFERROR(INDEX($J$16:$J$2822,MATCH(ROWS($J$16:J1774),$N$16:$N$2822,0)),\"\")","v":""}]
["24","04","14","2","240414","Gmina wiejska","ŚLĄSKIE","częstochowski","PRZYRÓW","PRZYRÓW - Gmina wiejska / Powiat częstochowski / Województwo  - ŚLĄSKIE / 240414 / ",14869304,16224902.989999998,{"$f":"ISNUMBER(SEARCH(Wyszukiwarka!$A$1,'Porównanie dochodów JST'!J1775))","v":false},{"$f":"IF(M1775,COUNTIF($M$16:M1775,TRUE),\"\")","v":""},{"$f":"IFERROR(INDEX($J$16:$J$2822,MATCH(ROWS($J$16:J1775),$N$16:$N$2822,0)),\"\")","v":""}]
["24","04","15","2","240415","Gmina wiejska","ŚLĄSKIE","częstochowski","RĘDZINY","RĘDZINY - Gmina wiejska / Powiat częstochowski / Województwo  - ŚLĄSKIE / 240415 / ",32197523,35574897,{"$f":"ISNUMBER(SEARCH(Wyszukiwarka!$A$1,'Porównanie dochodów JST'!J1776))","v":false},{"$f":"IF(M1776,COUNTIF($M$16:M1776,TRUE),\"\")","v":""},{"$f":"IFERROR(INDEX($J$16:$J$2822,MATCH(ROWS($J$16:J1776),$N$16:$N$2822,0)),\"\")","v":""}]
["24","04","16","2","240416","Gmina wiejska","ŚLĄSKIE","częstochowski","STARCZA","STARCZA - Gmina wiejska / Powiat częstochowski / Województwo  - ŚLĄSKIE / 240416 / ",12071042,13339935,{"$f":"ISNUMBER(SEARCH(Wyszukiwarka!$A$1,'Porównanie dochodów JST'!J1777))","v":false},{"$f":"IF(M1777,COUNTIF($M$16:M1777,TRUE),\"\")","v":""},{"$f":"IFERROR(INDEX($J$16:$J$2822,MATCH(ROWS($J$16:J1777),$N$16:$N$2822,0)),\"\")","v":""}]
["24","05","01","1","240501","Gmina miejska","ŚLĄSKIE","gliwicki","KNURÓW","KNURÓW - Gmina miejska / Powiat gliwicki / Województwo  - ŚLĄSKIE / 240501 / ",130544736,150259055.89934865,{"$f":"ISNUMBER(SEARCH(Wyszukiwarka!$A$1,'Porównanie dochodów JST'!J1778))","v":false},{"$f":"IF(M1778,COUNTIF($M$16:M1778,TRUE),\"\")","v":""},{"$f":"IFERROR(INDEX($J$16:$J$2822,MATCH(ROWS($J$16:J1778),$N$16:$N$2822,0)),\"\")","v":""}]
["24","05","02","1","240502","Gmina miejska","ŚLĄSKIE","gliwicki","PYSKOWICE","PYSKOWICE - Gmina miejska / Powiat gliwicki / Województwo  - ŚLĄSKIE / 240502 / ",59531729,66010368.776800007,{"$f":"ISNUMBER(SEARCH(Wyszukiwarka!$A$1,'Porównanie dochodów JST'!J1779))","v":false},{"$f":"IF(M1779,COUNTIF($M$16:M1779,TRUE),\"\")","v":""},{"$f":"IFERROR(INDEX($J$16:$J$2822,MATCH(ROWS($J$16:J1779),$N$16:$N$2822,0)),\"\")","v":""}]
["24","05","03","2","240503","Gmina wiejska","ŚLĄSKIE","gliwicki","GIERAŁTOWICE","GIERAŁTOWICE - Gmina wiejska / Powiat gliwicki / Województwo  - ŚLĄSKIE / 240503 / ",59760314,64224529.648503922,{"$f":"ISNUMBER(SEARCH(Wyszukiwarka!$A$1,'Porównanie dochodów JST'!J1780))","v":false},{"$f":"IF(M1780,COUNTIF($M$16:M1780,TRUE),\"\")","v":""},{"$f":"IFERROR(INDEX($J$16:$J$2822,MATCH(ROWS($J$16:J1780),$N$16:$N$2822,0)),\"\")","v":""}]
["24","05","04","2","240504","Gmina wiejska","ŚLĄSKIE","gliwicki","PILCHOWICE","PILCHOWICE - Gmina wiejska / Powiat gliwicki / Województwo  - ŚLĄSKIE / 240504 / ",57794357,62371412.331043541,{"$f":"ISNUMBER(SEARCH(Wyszukiwarka!$A$1,'Porównanie dochodów JST'!J1781))","v":false},{"$f":"IF(M1781,COUNTIF($M$16:M1781,TRUE),\"\")","v":""},{"$f":"IFERROR(INDEX($J$16:$J$2822,MATCH(ROWS($J$16:J1781),$N$16:$N$2822,0)),\"\")","v":""}]
["24","05","05","2","240505","Gmina wiejska","ŚLĄSKIE","gliwicki","RUDZINIEC","RUDZINIEC - Gmina wiejska / Powiat gliwicki / Województwo  - ŚLĄSKIE / 240505 / ",40292195,44298792.788613826,{"$f":"ISNUMBER(SEARCH(Wyszukiwarka!$A$1,'Porównanie dochodów JST'!J1782))","v":false},{"$f":"IF(M1782,COUNTIF($M$16:M1782,TRUE),\"\")","v":""},{"$f":"IFERROR(INDEX($J$16:$J$2822,MATCH(ROWS($J$16:J1782),$N$16:$N$2822,0)),\"\")","v":""}]
["24","05","06","3","240506","Gmina miejsko-wiejska","ŚLĄSKIE","gliwicki","SOŚNICOWICE","SOŚNICOWICE - Gmina miejsko-wiejska / Powiat gliwicki / Województwo  - ŚLĄSKIE / 240506 / ",39380537,42996360.641332172,{"$f":"ISNUMBER(SEARCH(Wyszukiwarka!$A$1,'Porównanie dochodów JST'!J1783))","v":false},{"$f":"IF(M1783,COUNTIF($M$16:M1783,TRUE),\"\")","v":""},{"$f":"IFERROR(INDEX($J$16:$J$2822,MATCH(ROWS($J$16:J1783),$N$16:$N$2822,0)),\"\")","v":""}]
["24","05","07","3","240507","Gmina miejsko-wiejska","ŚLĄSKIE","gliwicki","TOSZEK","TOSZEK - Gmina miejsko-wiejska / Powiat gliwicki / Województwo  - ŚLĄSKIE / 240507 / ",37464906,40825636,{"$f":"ISNUMBER(SEARCH(Wyszukiwarka!$A$1,'Porównanie dochodów JST'!J1784))","v":false},{"$f":"IF(M1784,COUNTIF($M$16:M1784,TRUE),\"\")","v":""},{"$f":"IFERROR(INDEX($J$16:$J$2822,MATCH(ROWS($J$16:J1784),$N$16:$N$2822,0)),\"\")","v":""}]
["24","05","08","2","240508","Gmina wiejska","ŚLĄSKIE","gliwicki","WIELOWIEŚ","WIELOWIEŚ - Gmina wiejska / Powiat gliwicki / Województwo  - ŚLĄSKIE / 240508 / ",21863974,23927248.821421854,{"$f":"ISNUMBER(SEARCH(Wyszukiwarka!$A$1,'Porównanie dochodów JST'!J1785))","v":false},{"$f":"IF(M1785,COUNTIF($M$16:M1785,TRUE),\"\")","v":""},{"$f":"IFERROR(INDEX($J$16:$J$2822,MATCH(ROWS($J$16:J1785),$N$16:$N$2822,0)),\"\")","v":""}]
["24","06","01","3","240601","Gmina miejsko-wiejska","ŚLĄSKIE","kłobucki","KŁOBUCK","KŁOBUCK - Gmina miejsko-wiejska / Powiat kłobucki / Województwo  - ŚLĄSKIE / 240601 / ",67102540,72355136.813199997,{"$f":"ISNUMBER(SEARCH(Wyszukiwarka!$A$1,'Porównanie dochodów JST'!J1786))","v":false},{"$f":"IF(M1786,COUNTIF($M$16:M1786,TRUE),\"\")","v":""},{"$f":"IFERROR(INDEX($J$16:$J$2822,MATCH(ROWS($J$16:J1786),$N$16:$N$2822,0)),\"\")","v":""}]
["24","06","02","3","240602","Gmina miejsko-wiejska","ŚLĄSKIE","kłobucki","KRZEPICE","KRZEPICE - Gmina miejsko-wiejska / Powiat kłobucki / Województwo  - ŚLĄSKIE / 240602 / ",32618855,35940560,{"$f":"ISNUMBER(SEARCH(Wyszukiwarka!$A$1,'Porównanie dochodów JST'!J1787))","v":false},{"$f":"IF(M1787,COUNTIF($M$16:M1787,TRUE),\"\")","v":""},{"$f":"IFERROR(INDEX($J$16:$J$2822,MATCH(ROWS($J$16:J1787),$N$16:$N$2822,0)),\"\")","v":""}]
["24","06","03","2","240603","Gmina wiejska","ŚLĄSKIE","kłobucki","LIPIE","LIPIE - Gmina wiejska / Powiat kłobucki / Województwo  - ŚLĄSKIE / 240603 / ",28233354,30713221.969812006,{"$f":"ISNUMBER(SEARCH(Wyszukiwarka!$A$1,'Porównanie dochodów JST'!J1788))","v":false},{"$f":"IF(M1788,COUNTIF($M$16:M1788,TRUE),\"\")","v":""},{"$f":"IFERROR(INDEX($J$16:$J$2822,MATCH(ROWS($J$16:J1788),$N$16:$N$2822,0)),\"\")","v":""}]
["24","06","04","2","240604","Gmina wiejska","ŚLĄSKIE","kłobucki","MIEDŹNO","MIEDŹNO - Gmina wiejska / Powiat kłobucki / Województwo  - ŚLĄSKIE / 240604 / ",29296960,32032322,{"$f":"ISNUMBER(SEARCH(Wyszukiwarka!$A$1,'Porównanie dochodów JST'!J1789))","v":false},{"$f":"IF(M1789,COUNTIF($M$16:M1789,TRUE),\"\")","v":""},{"$f":"IFERROR(INDEX($J$16:$J$2822,MATCH(ROWS($J$16:J1789),$N$16:$N$2822,0)),\"\")","v":""}]
["24","06","05","2","240605","Gmina wiejska","ŚLĄSKIE","kłobucki","OPATÓW","OPATÓW - Gmina wiejska / Powiat kłobucki / Województwo  - ŚLĄSKIE / 240605 / ",30263482,32881570,{"$f":"ISNUMBER(SEARCH(Wyszukiwarka!$A$1,'Porównanie dochodów JST'!J1790))","v":false},{"$f":"IF(M1790,COUNTIF($M$16:M1790,TRUE),\"\")","v":""},{"$f":"IFERROR(INDEX($J$16:$J$2822,MATCH(ROWS($J$16:J1790),$N$16:$N$2822,0)),\"\")","v":""}]
["24","06","06","2","240606","Gmina wiejska","ŚLĄSKIE","kłobucki","PANKI","PANKI - Gmina wiejska / Powiat kłobucki / Województwo  - ŚLĄSKIE / 240606 / ",18277342,20261084.760852031,{"$f":"ISNUMBER(SEARCH(Wyszukiwarka!$A$1,'Porównanie dochodów JST'!J1791))","v":false},{"$f":"IF(M1791,COUNTIF($M$16:M1791,TRUE),\"\")","v":""},{"$f":"IFERROR(INDEX($J$16:$J$2822,MATCH(ROWS($J$16:J1791),$N$16:$N$2822,0)),\"\")","v":""}]
["24","06","07","2","240607","Gmina wiejska","ŚLĄSKIE","kłobucki","POPÓW","POPÓW - Gmina wiejska / Powiat kłobucki / Województwo  - ŚLĄSKIE / 240607 / ",24493206,26587088,{"$f":"ISNUMBER(SEARCH(Wyszukiwarka!$A$1,'Porównanie dochodów JST'!J1792))","v":false},{"$f":"IF(M1792,COUNTIF($M$16:M1792,TRUE),\"\")","v":""},{"$f":"IFERROR(INDEX($J$16:$J$2822,MATCH(ROWS($J$16:J1792),$N$16:$N$2822,0)),\"\")","v":""}]
["24","06","08","2","240608","Gmina wiejska","ŚLĄSKIE","kłobucki","PRZYSTAJŃ","PRZYSTAJŃ - Gmina wiejska / Powiat kłobucki / Województwo  - ŚLĄSKIE / 240608 / ",20734573,22816322,{"$f":"ISNUMBER(SEARCH(Wyszukiwarka!$A$1,'Porównanie dochodów JST'!J1793))","v":false},{"$f":"IF(M1793,COUNTIF($M$16:M1793,TRUE),\"\")","v":""},{"$f":"IFERROR(INDEX($J$16:$J$2822,MATCH(ROWS($J$16:J1793),$N$16:$N$2822,0)),\"\")","v":""}]
["24","06","09","2","240609","Gmina wiejska","ŚLĄSKIE","kłobucki","WRĘCZYCA WIELKA","WRĘCZYCA WIELKA - Gmina wiejska / Powiat kłobucki / Województwo  - ŚLĄSKIE / 240609 / ",64311995,69451375,{"$f":"ISNUMBER(SEARCH(Wyszukiwarka!$A$1,'Porównanie dochodów JST'!J1794))","v":false},{"$f":"IF(M1794,COUNTIF($M$16:M1794,TRUE),\"\")","v":""},{"$f":"IFERROR(INDEX($J$16:$J$2822,MATCH(ROWS($J$16:J1794),$N$16:$N$2822,0)),\"\")","v":""}]
["24","07","01","1","240701","Gmina miejska","ŚLĄSKIE","lubliniecki","LUBLINIEC","LUBLINIEC - Gmina miejska / Powiat lubliniecki / Województwo  - ŚLĄSKIE / 240701 / ",87617210,95854008.919306487,{"$f":"ISNUMBER(SEARCH(Wyszukiwarka!$A$1,'Porównanie dochodów JST'!J1795))","v":false},{"$f":"IF(M1795,COUNTIF($M$16:M1795,TRUE),\"\")","v":""},{"$f":"IFERROR(INDEX($J$16:$J$2822,MATCH(ROWS($J$16:J1795),$N$16:$N$2822,0)),\"\")","v":""}]
["24","07","02","2","240702","Gmina wiejska","ŚLĄSKIE","lubliniecki","BORONÓW","BORONÓW - Gmina wiejska / Powiat lubliniecki / Województwo  - ŚLĄSKIE / 240702 / ",16288001,17656275.780000001,{"$f":"ISNUMBER(SEARCH(Wyszukiwarka!$A$1,'Porównanie dochodów JST'!J1796))","v":false},{"$f":"IF(M1796,COUNTIF($M$16:M1796,TRUE),\"\")","v":""},{"$f":"IFERROR(INDEX($J$16:$J$2822,MATCH(ROWS($J$16:J1796),$N$16:$N$2822,0)),\"\")","v":""}]
["24","07","03","2","240703","Gmina wiejska","ŚLĄSKIE","lubliniecki","CIASNA","CIASNA - Gmina wiejska / Powiat lubliniecki / Województwo  - ŚLĄSKIE / 240703 / ",25653999,28380541.899653848,{"$f":"ISNUMBER(SEARCH(Wyszukiwarka!$A$1,'Porównanie dochodów JST'!J1797))","v":false},{"$f":"IF(M1797,COUNTIF($M$16:M1797,TRUE),\"\")","v":""},{"$f":"IFERROR(INDEX($J$16:$J$2822,MATCH(ROWS($J$16:J1797),$N$16:$N$2822,0)),\"\")","v":""}]
["24","07","04","2","240704","Gmina wiejska","ŚLĄSKIE","lubliniecki","HERBY","HERBY - Gmina wiejska / Powiat lubliniecki / Województwo  - ŚLĄSKIE / 240704 / ",23567788,26210865.74146691,{"$f":"ISNUMBER(SEARCH(Wyszukiwarka!$A$1,'Porównanie dochodów JST'!J1798))","v":false},{"$f":"IF(M1798,COUNTIF($M$16:M1798,TRUE),\"\")","v":""},{"$f":"IFERROR(INDEX($J$16:$J$2822,MATCH(ROWS($J$16:J1798),$N$16:$N$2822,0)),\"\")","v":""}]
["24","07","05","2","240705","Gmina wiejska","ŚLĄSKIE","lubliniecki","KOCHANOWICE","KOCHANOWICE - Gmina wiejska / Powiat lubliniecki / Województwo  - ŚLĄSKIE / 240705 / ",31155187,33804258.544921711,{"$f":"ISNUMBER(SEARCH(Wyszukiwarka!$A$1,'Porównanie dochodów JST'!J1799))","v":false},{"$f":"IF(M1799,COUNTIF($M$16:M1799,TRUE),\"\")","v":""},{"$f":"IFERROR(INDEX($J$16:$J$2822,MATCH(ROWS($J$16:J1799),$N$16:$N$2822,0)),\"\")","v":""}]
["24","07","06","2","240706","Gmina wiejska","ŚLĄSKIE","lubliniecki","KOSZĘCIN","KOSZĘCIN - Gmina wiejska / Powiat lubliniecki / Województwo  - ŚLĄSKIE / 240706 / ",50807213,54937088,{"$f":"ISNUMBER(SEARCH(Wyszukiwarka!$A$1,'Porównanie dochodów JST'!J1800))","v":false},{"$f":"IF(M1800,COUNTIF($M$16:M1800,TRUE),\"\")","v":""},{"$f":"IFERROR(INDEX($J$16:$J$2822,MATCH(ROWS($J$16:J1800),$N$16:$N$2822,0)),\"\")","v":""}]
["24","07","07","2","240707","Gmina wiejska","ŚLĄSKIE","lubliniecki","PAWONKÓW","PAWONKÓW - Gmina wiejska / Powiat lubliniecki / Województwo  - ŚLĄSKIE / 240707 / ",26517929,29164145.875828572,{"$f":"ISNUMBER(SEARCH(Wyszukiwarka!$A$1,'Porównanie dochodów JST'!J1801))","v":false},{"$f":"IF(M1801,COUNTIF($M$16:M1801,TRUE),\"\")","v":""},{"$f":"IFERROR(INDEX($J$16:$J$2822,MATCH(ROWS($J$16:J1801),$N$16:$N$2822,0)),\"\")","v":""}]
["24","07","08","3","240708","Gmina miejsko-wiejska","ŚLĄSKIE","lubliniecki","WOŹNIKI","WOŹNIKI - Gmina miejsko-wiejska / Powiat lubliniecki / Województwo  - ŚLĄSKIE / 240708 / ",41989928,45425098.884146638,{"$f":"ISNUMBER(SEARCH(Wyszukiwarka!$A$1,'Porównanie dochodów JST'!J1802))","v":false},{"$f":"IF(M1802,COUNTIF($M$16:M1802,TRUE),\"\")","v":""},{"$f":"IFERROR(INDEX($J$16:$J$2822,MATCH(ROWS($J$16:J1802),$N$16:$N$2822,0)),\"\")","v":""}]
["24","08","01","1","240801","Gmina miejska","ŚLĄSKIE","mikołowski","ŁAZISKA GÓRNE","ŁAZISKA GÓRNE - Gmina miejska / Powiat mikołowski / Województwo  - ŚLĄSKIE / 240801 / ",71409719,81373826.223148465,{"$f":"ISNUMBER(SEARCH(Wyszukiwarka!$A$1,'Porównanie dochodów JST'!J1803))","v":false},{"$f":"IF(M1803,COUNTIF($M$16:M1803,TRUE),\"\")","v":""},{"$f":"IFERROR(INDEX($J$16:$J$2822,MATCH(ROWS($J$16:J1803),$N$16:$N$2822,0)),\"\")","v":""}]
["24","08","02","1","240802","Gmina miejska","ŚLĄSKIE","mikołowski","MIKOŁÓW","MIKOŁÓW - Gmina miejska / Powiat mikołowski / Województwo  - ŚLĄSKIE / 240802 / ",181446489,195168884.9589034,{"$f":"ISNUMBER(SEARCH(Wyszukiwarka!$A$1,'Porównanie dochodów JST'!J1804))","v":false},{"$f":"IF(M1804,COUNTIF($M$16:M1804,TRUE),\"\")","v":""},{"$f":"IFERROR(INDEX($J$16:$J$2822,MATCH(ROWS($J$16:J1804),$N$16:$N$2822,0)),\"\")","v":""}]
["24","08","03","1","240803","Gmina miejska","ŚLĄSKIE","mikołowski","ORZESZE","ORZESZE - Gmina miejska / Powiat mikołowski / Województwo  - ŚLĄSKIE / 240803 / ",84324228,91464735.92900002,{"$f":"ISNUMBER(SEARCH(Wyszukiwarka!$A$1,'Porównanie dochodów JST'!J1805))","v":false},{"$f":"IF(M1805,COUNTIF($M$16:M1805,TRUE),\"\")","v":""},{"$f":"IFERROR(INDEX($J$16:$J$2822,MATCH(ROWS($J$16:J1805),$N$16:$N$2822,0)),\"\")","v":""}]
["24","08","04","2","240804","Gmina wiejska","ŚLĄSKIE","mikołowski","ORNONTOWICE","ORNONTOWICE - Gmina wiejska / Powiat mikołowski / Województwo  - ŚLĄSKIE / 240804 / ",33936521,37244503,{"$f":"ISNUMBER(SEARCH(Wyszukiwarka!$A$1,'Porównanie dochodów JST'!J1806))","v":false},{"$f":"IF(M1806,COUNTIF($M$16:M1806,TRUE),\"\")","v":""},{"$f":"IFERROR(INDEX($J$16:$J$2822,MATCH(ROWS($J$16:J1806),$N$16:$N$2822,0)),\"\")","v":""}]
["24","08","05","2","240805","Gmina wiejska","ŚLĄSKIE","mikołowski","WYRY","WYRY - Gmina wiejska / Powiat mikołowski / Województwo  - ŚLĄSKIE / 240805 / ",46852727,51016848.665281273,{"$f":"ISNUMBER(SEARCH(Wyszukiwarka!$A$1,'Porównanie dochodów JST'!J1807))","v":false},{"$f":"IF(M1807,COUNTIF($M$16:M1807,TRUE),\"\")","v":""},{"$f":"IFERROR(INDEX($J$16:$J$2822,MATCH(ROWS($J$16:J1807),$N$16:$N$2822,0)),\"\")","v":""}]
["24","09","01","1","240901","Gmina miejska","ŚLĄSKIE","myszkowski","MYSZKÓW","MYSZKÓW - Gmina miejska / Powiat myszkowski / Województwo  - ŚLĄSKIE / 240901 / ",101501684,111050893.16130002,{"$f":"ISNUMBER(SEARCH(Wyszukiwarka!$A$1,'Porównanie dochodów JST'!J1808))","v":false},{"$f":"IF(M1808,COUNTIF($M$16:M1808,TRUE),\"\")","v":""},{"$f":"IFERROR(INDEX($J$16:$J$2822,MATCH(ROWS($J$16:J1808),$N$16:$N$2822,0)),\"\")","v":""}]
["24","09","02","3","240902","Gmina miejsko-wiejska","ŚLĄSKIE","myszkowski","KOZIEGŁOWY",{"$f":"I1809&$H$12&F1809&$G$12&$H$14&H1809&$G$12&$G$14&$H$12&G1809&$G$12&E1809&$G$12","v":"KOZIEGŁOWY - Gmina miejsko-wiejska / Powiat myszkowski / Województwo  - ŚLĄSKIE / 240902 / "},58139056,62535490.677615136,{"$f":"ISNUMBER(SEARCH(Wyszukiwarka!$A$1,'Porównanie dochodów JST'!J1809))","v":false},{"$f":"IF(M1809,COUNTIF($M$16:M1809,TRUE),\"\")","v":""},{"$f":"IFERROR(INDEX($J$16:$J$2822,MATCH(ROWS($J$16:J1809),$N$16:$N$2822,0)),\"\")","v":""}]
["24","09","03","2","240903","Gmina wiejska","ŚLĄSKIE","myszkowski","NIEGOWA","NIEGOWA - Gmina wiejska / Powiat myszkowski / Województwo  - ŚLĄSKIE / 240903 / ",26908899,28933498,{"$f":"ISNUMBER(SEARCH(Wyszukiwarka!$A$1,'Porównanie dochodów JST'!J1810))","v":false},{"$f":"IF(M1810,COUNTIF($M$16:M1810,TRUE),\"\")","v":""},{"$f":"IFERROR(INDEX($J$16:$J$2822,MATCH(ROWS($J$16:J1810),$N$16:$N$2822,0)),\"\")","v":""}]
["24","09","04","2","240904","Gmina wiejska","ŚLĄSKIE","myszkowski","PORAJ","PORAJ - Gmina wiejska / Powiat myszkowski / Województwo  - ŚLĄSKIE / 240904 / ",41511890,47966242.239999995,{"$f":"ISNUMBER(SEARCH(Wyszukiwarka!$A$1,'Porównanie dochodów JST'!J1811))","v":false},{"$f":"IF(M1811,COUNTIF($M$16:M1811,TRUE),\"\")","v":""},{"$f":"IFERROR(INDEX($J$16:$J$2822,MATCH(ROWS($J$16:J1811),$N$16:$N$2822,0)),\"\")","v":""}]
["24","09","05","3","240905","Gmina miejsko-wiejska","ŚLĄSKIE","myszkowski","ŻARKI","ŻARKI - Gmina miejsko-wiejska / Powiat myszkowski / Województwo  - ŚLĄSKIE / 240905 / ",32222929,35504603,{"$f":"ISNUMBER(SEARCH(Wyszukiwarka!$A$1,'Porównanie dochodów JST'!J1812))","v":false},{"$f":"IF(M1812,COUNTIF($M$16:M1812,TRUE),\"\")","v":""},{"$f":"IFERROR(INDEX($J$16:$J$2822,MATCH(ROWS($J$16:J1812),$N$16:$N$2822,0)),\"\")","v":""}]
["24","10","01","2","241001","Gmina wiejska","ŚLĄSKIE","pszczyński","GOCZAŁKOWICE-ZDRÓJ","GOCZAŁKOWICE-ZDRÓJ - Gmina wiejska / Powiat pszczyński / Województwo  - ŚLĄSKIE / 241001 / ",32729524,35815425.851427674,{"$f":"ISNUMBER(SEARCH(Wyszukiwarka!$A$1,'Porównanie dochodów JST'!J1813))","v":false},{"$f":"IF(M1813,COUNTIF($M$16:M1813,TRUE),\"\")","v":""},{"$f":"IFERROR(INDEX($J$16:$J$2822,MATCH(ROWS($J$16:J1813),$N$16:$N$2822,0)),\"\")","v":""}]
["24","10","02","2","241002","Gmina wiejska","ŚLĄSKIE","pszczyński","KOBIÓR","KOBIÓR - Gmina wiejska / Powiat pszczyński / Województwo  - ŚLĄSKIE / 241002 / ",19935429,21967500,{"$f":"ISNUMBER(SEARCH(Wyszukiwarka!$A$1,'Porównanie dochodów JST'!J1814))","v":false},{"$f":"IF(M1814,COUNTIF($M$16:M1814,TRUE),\"\")","v":""},{"$f":"IFERROR(INDEX($J$16:$J$2822,MATCH(ROWS($J$16:J1814),$N$16:$N$2822,0)),\"\")","v":""}]
["24","10","03","2","241003","Gmina wiejska","ŚLĄSKIE","pszczyński","MIEDŹNA","MIEDŹNA - Gmina wiejska / Powiat pszczyński / Województwo  - ŚLĄSKIE / 241003 / ",69520374,74503679,{"$f":"ISNUMBER(SEARCH(Wyszukiwarka!$A$1,'Porównanie dochodów JST'!J1815))","v":false},{"$f":"IF(M1815,COUNTIF($M$16:M1815,TRUE),\"\")","v":""},{"$f":"IFERROR(INDEX($J$16:$J$2822,MATCH(ROWS($J$16:J1815),$N$16:$N$2822,0)),\"\")","v":""}]
["24","10","04","2","241004","Gmina wiejska","ŚLĄSKIE","pszczyński","PAWŁOWICE","PAWŁOWICE - Gmina wiejska / Powiat pszczyński / Województwo  - ŚLĄSKIE / 241004 / ",94556948,101338053.03044674,{"$f":"ISNUMBER(SEARCH(Wyszukiwarka!$A$1,'Porównanie dochodów JST'!J1816))","v":false},{"$f":"IF(M1816,COUNTIF($M$16:M1816,TRUE),\"\")","v":""},{"$f":"IFERROR(INDEX($J$16:$J$2822,MATCH(ROWS($J$16:J1816),$N$16:$N$2822,0)),\"\")","v":""}]
["24","10","05","3","241005","Gmina miejsko-wiejska","ŚLĄSKIE","pszczyński","PSZCZYNA","PSZCZYNA - Gmina miejsko-wiejska / Powiat pszczyński / Województwo  - ŚLĄSKIE / 241005 / ",223309948,237600243.62420231,{"$f":"ISNUMBER(SEARCH(Wyszukiwarka!$A$1,'Porównanie dochodów JST'!J1817))","v":false},{"$f":"IF(M1817,COUNTIF($M$16:M1817,TRUE),\"\")","v":""},{"$f":"IFERROR(INDEX($J$16:$J$2822,MATCH(ROWS($J$16:J1817),$N$16:$N$2822,0)),\"\")","v":""}]
["24","10","06","2","241006","Gmina wiejska","ŚLĄSKIE","pszczyński","SUSZEC","SUSZEC - Gmina wiejska / Powiat pszczyński / Województwo  - ŚLĄSKIE / 241006 / ",50466253,54688543,{"$f":"ISNUMBER(SEARCH(Wyszukiwarka!$A$1,'Porównanie dochodów JST'!J1818))","v":false},{"$f":"IF(M1818,COUNTIF($M$16:M1818,TRUE),\"\")","v":""},{"$f":"IFERROR(INDEX($J$16:$J$2822,MATCH(ROWS($J$16:J1818),$N$16:$N$2822,0)),\"\")","v":""}]
["24","11","01","1","241101","Gmina miejska","ŚLĄSKIE","raciborski","RACIBÓRZ","RACIBÓRZ - Gmina miejska / Powiat raciborski / Województwo  - ŚLĄSKIE / 241101 / ",157261562,181464097.91999999,{"$f":"ISNUMBER(SEARCH(Wyszukiwarka!$A$1,'Porównanie dochodów JST'!J1819))","v":false},{"$f":"IF(M1819,COUNTIF($M$16:M1819,TRUE),\"\")","v":""},{"$f":"IFERROR(INDEX($J$16:$J$2822,MATCH(ROWS($J$16:J1819),$N$16:$N$2822,0)),\"\")","v":""}]
["24","11","02","2","241102","Gmina wiejska","ŚLĄSKIE","raciborski","KORNOWAC","KORNOWAC - Gmina wiejska / Powiat raciborski / Województwo  - ŚLĄSKIE / 241102 / ",24047243,26016894.808655936,{"$f":"ISNUMBER(SEARCH(Wyszukiwarka!$A$1,'Porównanie dochodów JST'!J1820))","v":false},{"$f":"IF(M1820,COUNTIF($M$16:M1820,TRUE),\"\")","v":""},{"$f":"IFERROR(INDEX($J$16:$J$2822,MATCH(ROWS($J$16:J1820),$N$16:$N$2822,0)),\"\")","v":""}]
["24","11","03","3","241103","Gmina miejsko-wiejska","ŚLĄSKIE","raciborski","KRZANOWICE","KRZANOWICE - Gmina miejsko-wiejska / Powiat raciborski / Województwo  - ŚLĄSKIE / 241103 / ",20000891,21969056.653283671,{"$f":"ISNUMBER(SEARCH(Wyszukiwarka!$A$1,'Porównanie dochodów JST'!J1821))","v":false},{"$f":"IF(M1821,COUNTIF($M$16:M1821,TRUE),\"\")","v":""},{"$f":"IFERROR(INDEX($J$16:$J$2822,MATCH(ROWS($J$16:J1821),$N$16:$N$2822,0)),\"\")","v":""}]
["24","11","04","2","241104","Gmina wiejska","ŚLĄSKIE","raciborski","KRZYŻANOWICE","KRZYŻANOWICE - Gmina wiejska / Powiat raciborski / Województwo  - ŚLĄSKIE / 241104 / ",42451054,46410869.619816996,{"$f":"ISNUMBER(SEARCH(Wyszukiwarka!$A$1,'Porównanie dochodów JST'!J1822))","v":false},{"$f":"IF(M1822,COUNTIF($M$16:M1822,TRUE),\"\")","v":""},{"$f":"IFERROR(INDEX($J$16:$J$2822,MATCH(ROWS($J$16:J1822),$N$16:$N$2822,0)),\"\")","v":""}]
["24","11","05","3","241105","Gmina miejsko-wiejska","ŚLĄSKIE","raciborski","KUŹNIA RACIBORSKA","KUŹNIA RACIBORSKA - Gmina miejsko-wiejska / Powiat raciborski / Województwo  - ŚLĄSKIE / 241105 / ",41365199,45372274,{"$f":"ISNUMBER(SEARCH(Wyszukiwarka!$A$1,'Porównanie dochodów JST'!J1823))","v":false},{"$f":"IF(M1823,COUNTIF($M$16:M1823,TRUE),\"\")","v":""},{"$f":"IFERROR(INDEX($J$16:$J$2822,MATCH(ROWS($J$16:J1823),$N$16:$N$2822,0)),\"\")","v":""}]
["24","11","06","2","241106","Gmina wiejska","ŚLĄSKIE","raciborski","NĘDZA","NĘDZA - Gmina wiejska / Powiat raciborski / Województwo  - ŚLĄSKIE / 241106 / ",25148979,27760050,{"$f":"ISNUMBER(SEARCH(Wyszukiwarka!$A$1,'Porównanie dochodów JST'!J1824))","v":false},{"$f":"IF(M1824,COUNTIF($M$16:M1824,TRUE),\"\")","v":""},{"$f":"IFERROR(INDEX($J$16:$J$2822,MATCH(ROWS($J$16:J1824),$N$16:$N$2822,0)),\"\")","v":""}]
["24","11","07","2","241107","Gmina wiejska","ŚLĄSKIE","raciborski","PIETROWICE WIELKIE","PIETROWICE WIELKIE - Gmina wiejska / Powiat raciborski / Województwo  - ŚLĄSKIE / 241107 / ",23645658,26617292.721783295,{"$f":"ISNUMBER(SEARCH(Wyszukiwarka!$A$1,'Porównanie dochodów JST'!J1825))","v":false},{"$f":"IF(M1825,COUNTIF($M$16:M1825,TRUE),\"\")","v":""},{"$f":"IFERROR(INDEX($J$16:$J$2822,MATCH(ROWS($J$16:J1825),$N$16:$N$2822,0)),\"\")","v":""}]
["24","11","08","2","241108","Gmina wiejska","ŚLĄSKIE","raciborski","RUDNIK","RUDNIK - Gmina wiejska / Powiat raciborski / Województwo  - ŚLĄSKIE / 241108 / ",22127747,24098192.560869724,{"$f":"ISNUMBER(SEARCH(Wyszukiwarka!$A$1,'Porównanie dochodów JST'!J1826))","v":false},{"$f":"IF(M1826,COUNTIF($M$16:M1826,TRUE),\"\")","v":""},{"$f":"IFERROR(INDEX($J$16:$J$2822,MATCH(ROWS($J$16:J1826),$N$16:$N$2822,0)),\"\")","v":""}]
["24","12","01","3","241201","Gmina miejsko-wiejska","ŚLĄSKIE","rybnicki","CZERWIONKA-LESZCZYNY","CZERWIONKA-LESZCZYNY - Gmina miejsko-wiejska / Powiat rybnicki / Województwo  - ŚLĄSKIE / 241201 / ",154487443,165954599.27500001,{"$f":"ISNUMBER(SEARCH(Wyszukiwarka!$A$1,'Porównanie dochodów JST'!J1827))","v":false},{"$f":"IF(M1827,COUNTIF($M$16:M1827,TRUE),\"\")","v":""},{"$f":"IFERROR(INDEX($J$16:$J$2822,MATCH(ROWS($J$16:J1827),$N$16:$N$2822,0)),\"\")","v":""}]
["24","12","02","2","241202","Gmina wiejska","ŚLĄSKIE","rybnicki","GASZOWICE","GASZOWICE - Gmina wiejska / Powiat rybnicki / Województwo  - ŚLĄSKIE / 241202 / ",43360157,46785762.832248613,{"$f":"ISNUMBER(SEARCH(Wyszukiwarka!$A$1,'Porównanie dochodów JST'!J1828))","v":false},{"$f":"IF(M1828,COUNTIF($M$16:M1828,TRUE),\"\")","v":""},{"$f":"IFERROR(INDEX($J$16:$J$2822,MATCH(ROWS($J$16:J1828),$N$16:$N$2822,0)),\"\")","v":""}]
["24","12","03","2","241203","Gmina wiejska","ŚLĄSKIE","rybnicki","JEJKOWICE","JEJKOWICE - Gmina wiejska / Powiat rybnicki / Województwo  - ŚLĄSKIE / 241203 / ",17624198,19530200,{"$f":"ISNUMBER(SEARCH(Wyszukiwarka!$A$1,'Porównanie dochodów JST'!J1829))","v":false},{"$f":"IF(M1829,COUNTIF($M$16:M1829,TRUE),\"\")","v":""},{"$f":"IFERROR(INDEX($J$16:$J$2822,MATCH(ROWS($J$16:J1829),$N$16:$N$2822,0)),\"\")","v":""}]
["24","12","04","2","241204","Gmina wiejska","ŚLĄSKIE","rybnicki","LYSKI","LYSKI - Gmina wiejska / Powiat rybnicki / Województwo  - ŚLĄSKIE / 241204 / ",41122907,44535828.600801237,{"$f":"ISNUMBER(SEARCH(Wyszukiwarka!$A$1,'Porównanie dochodów JST'!J1830))","v":false},{"$f":"IF(M1830,COUNTIF($M$16:M1830,TRUE),\"\")","v":""},{"$f":"IFERROR(INDEX($J$16:$J$2822,MATCH(ROWS($J$16:J1830),$N$16:$N$2822,0)),\"\")","v":""}]
["24","12","05","2","241205","Gmina wiejska","ŚLĄSKIE","rybnicki","ŚWIERKLANY","ŚWIERKLANY - Gmina wiejska / Powiat rybnicki / Województwo  - ŚLĄSKIE / 241205 / ",53812671,58334335.919331342,{"$f":"ISNUMBER(SEARCH(Wyszukiwarka!$A$1,'Porównanie dochodów JST'!J1831))","v":false},{"$f":"IF(M1831,COUNTIF($M$16:M1831,TRUE),\"\")","v":""},{"$f":"IFERROR(INDEX($J$16:$J$2822,MATCH(ROWS($J$16:J1831),$N$16:$N$2822,0)),\"\")","v":""}]
["24","13","01","1","241301","Gmina miejska","ŚLĄSKIE","tarnogórski","KALETY","KALETY - Gmina miejska / Powiat tarnogórski / Województwo  - ŚLĄSKIE / 241301 / ",31061181,34338787.699251205,{"$f":"ISNUMBER(SEARCH(Wyszukiwarka!$A$1,'Porównanie dochodów JST'!J1832))","v":false},{"$f":"IF(M1832,COUNTIF($M$16:M1832,TRUE),\"\")","v":""},{"$f":"IFERROR(INDEX($J$16:$J$2822,MATCH(ROWS($J$16:J1832),$N$16:$N$2822,0)),\"\")","v":""}]
["24","13","02","1","241302","Gmina miejska","ŚLĄSKIE","tarnogórski","MIASTECZKO ŚLĄSKIE","MIASTECZKO ŚLĄSKIE - Gmina miejska / Powiat tarnogórski / Województwo  - ŚLĄSKIE / 241302 / ",20879335,23458015.949939549,{"$f":"ISNUMBER(SEARCH(Wyszukiwarka!$A$1,'Porównanie dochodów JST'!J1833))","v":false},{"$f":"IF(M1833,COUNTIF($M$16:M1833,TRUE),\"\")","v":""},{"$f":"IFERROR(INDEX($J$16:$J$2822,MATCH(ROWS($J$16:J1833),$N$16:$N$2822,0)),\"\")","v":""}]
["24","13","03","1","241303","Gmina miejska","ŚLĄSKIE","tarnogórski","RADZIONKÓW","RADZIONKÓW - Gmina miejska / Powiat tarnogórski / Województwo  - ŚLĄSKIE / 241303 / ",56554718,63069304.697000004,{"$f":"ISNUMBER(SEARCH(Wyszukiwarka!$A$1,'Porównanie dochodów JST'!J1834))","v":false},{"$f":"IF(M1834,COUNTIF($M$16:M1834,TRUE),\"\")","v":""},{"$f":"IFERROR(INDEX($J$16:$J$2822,MATCH(ROWS($J$16:J1834),$N$16:$N$2822,0)),\"\")","v":""}]
["24","13","04","1","241304","Gmina miejska","ŚLĄSKIE","tarnogórski","TARNOWSKIE GÓRY","TARNOWSKIE GÓRY - Gmina miejska / Powiat tarnogórski / Województwo  - ŚLĄSKIE / 241304 / ",239236014,258629300.4501,{"$f":"ISNUMBER(SEARCH(Wyszukiwarka!$A$1,'Porównanie dochodów JST'!J1835))","v":false},{"$f":"IF(M1835,COUNTIF($M$16:M1835,TRUE),\"\")","v":""},{"$f":"IFERROR(INDEX($J$16:$J$2822,MATCH(ROWS($J$16:J1835),$N$16:$N$2822,0)),\"\")","v":""}]
["24","13","05","2","241305","Gmina wiejska","ŚLĄSKIE","tarnogórski","KRUPSKI MŁYN","KRUPSKI MŁYN - Gmina wiejska / Powiat tarnogórski / Województwo  - ŚLĄSKIE / 241305 / ",13153007,14431611,{"$f":"ISNUMBER(SEARCH(Wyszukiwarka!$A$1,'Porównanie dochodów JST'!J1836))","v":false},{"$f":"IF(M1836,COUNTIF($M$16:M1836,TRUE),\"\")","v":""},{"$f":"IFERROR(INDEX($J$16:$J$2822,MATCH(ROWS($J$16:J1836),$N$16:$N$2822,0)),\"\")","v":""}]
["24","13","06","2","241306","Gmina wiejska","ŚLĄSKIE","tarnogórski","OŻAROWICE","OŻAROWICE - Gmina wiejska / Powiat tarnogórski / Województwo  - ŚLĄSKIE / 241306 / ",29588096,31822372,{"$f":"ISNUMBER(SEARCH(Wyszukiwarka!$A$1,'Porównanie dochodów JST'!J1837))","v":false},{"$f":"IF(M1837,COUNTIF($M$16:M1837,TRUE),\"\")","v":""},{"$f":"IFERROR(INDEX($J$16:$J$2822,MATCH(ROWS($J$16:J1837),$N$16:$N$2822,0)),\"\")","v":""}]
["24","13","07","2","241307","Gmina wiejska","ŚLĄSKIE","tarnogórski","ŚWIERKLANIEC","ŚWIERKLANIEC - Gmina wiejska / Powiat tarnogórski / Województwo  - ŚLĄSKIE / 241307 / ",60479204,65138729,{"$f":"ISNUMBER(SEARCH(Wyszukiwarka!$A$1,'Porównanie dochodów JST'!J1838))","v":false},{"$f":"IF(M1838,COUNTIF($M$16:M1838,TRUE),\"\")","v":""},{"$f":"IFERROR(INDEX($J$16:$J$2822,MATCH(ROWS($J$16:J1838),$N$16:$N$2822,0)),\"\")","v":""}]
["24","13","08","2","241308","Gmina wiejska","ŚLĄSKIE","tarnogórski","TWORÓG","TWORÓG - Gmina wiejska / Powiat tarnogórski / Województwo  - ŚLĄSKIE / 241308 / ",29972576,33289677,{"$f":"ISNUMBER(SEARCH(Wyszukiwarka!$A$1,'Porównanie dochodów JST'!J1839))","v":false},{"$f":"IF(M1839,COUNTIF($M$16:M1839,TRUE),\"\")","v":""},{"$f":"IFERROR(INDEX($J$16:$J$2822,MATCH(ROWS($J$16:J1839),$N$16:$N$2822,0)),\"\")","v":""}]
["24","13","09","2","241309","Gmina wiejska","ŚLĄSKIE","tarnogórski","ZBROSŁAWICE","ZBROSŁAWICE - Gmina wiejska / Powiat tarnogórski / Województwo  - ŚLĄSKIE / 241309 / ",73314767,78777448,{"$f":"ISNUMBER(SEARCH(Wyszukiwarka!$A$1,'Porównanie dochodów JST'!J1840))","v":false},{"$f":"IF(M1840,COUNTIF($M$16:M1840,TRUE),\"\")","v":""},{"$f":"IFERROR(INDEX($J$16:$J$2822,MATCH(ROWS($J$16:J1840),$N$16:$N$2822,0)),\"\")","v":""}]
["24","14","01","1","241401","Gmina miejska","ŚLĄSKIE","bieruńsko-lędziński","BIERUŃ","BIERUŃ - Gmina miejska / Powiat bieruńsko-lędziński / Województwo  - ŚLĄSKIE / 241401 / ",65221890,72688212.134936109,{"$f":"ISNUMBER(SEARCH(Wyszukiwarka!$A$1,'Porównanie dochodów JST'!J1841))","v":false},{"$f":"IF(M1841,COUNTIF($M$16:M1841,TRUE),\"\")","v":""},{"$f":"IFERROR(INDEX($J$16:$J$2822,MATCH(ROWS($J$16:J1841),$N$16:$N$2822,0)),\"\")","v":""}]
["24","14","02","1","241402","Gmina miejska","ŚLĄSKIE","bieruńsko-lędziński","IMIELIN","IMIELIN - Gmina miejska / Powiat bieruńsko-lędziński / Województwo  - ŚLĄSKIE / 241402 / ",35376311,39055414,{"$f":"ISNUMBER(SEARCH(Wyszukiwarka!$A$1,'Porównanie dochodów JST'!J1842))","v":false},{"$f":"IF(M1842,COUNTIF($M$16:M1842,TRUE),\"\")","v":""},{"$f":"IFERROR(INDEX($J$16:$J$2822,MATCH(ROWS($J$16:J1842),$N$16:$N$2822,0)),\"\")","v":""}]
["24","14","03","1","241403","Gmina miejska","ŚLĄSKIE","bieruńsko-lędziński","LĘDZINY","LĘDZINY - Gmina miejska / Powiat bieruńsko-lędziński / Województwo  - ŚLĄSKIE / 241403 / ",57446871,66137312.640000001,{"$f":"ISNUMBER(SEARCH(Wyszukiwarka!$A$1,'Porównanie dochodów JST'!J1843))","v":false},{"$f":"IF(M1843,COUNTIF($M$16:M1843,TRUE),\"\")","v":""},{"$f":"IFERROR(INDEX($J$16:$J$2822,MATCH(ROWS($J$16:J1843),$N$16:$N$2822,0)),\"\")","v":""}]
["24","14","04","2","241404","Gmina wiejska","ŚLĄSKIE","bieruńsko-lędziński","BOJSZOWY","BOJSZOWY - Gmina wiejska / Powiat bieruńsko-lędziński / Województwo  - ŚLĄSKIE / 241404 / ",38112836,41452824.753592573,{"$f":"ISNUMBER(SEARCH(Wyszukiwarka!$A$1,'Porównanie dochodów JST'!J1844))","v":false},{"$f":"IF(M1844,COUNTIF($M$16:M1844,TRUE),\"\")","v":""},{"$f":"IFERROR(INDEX($J$16:$J$2822,MATCH(ROWS($J$16:J1844),$N$16:$N$2822,0)),\"\")","v":""}]
["24","14","05","2","241405","Gmina wiejska","ŚLĄSKIE","bieruńsko-lędziński","CHEŁM ŚLĄSKI","CHEŁM ŚLĄSKI - Gmina wiejska / Powiat bieruńsko-lędziński / Województwo  - ŚLĄSKIE / 241405 / ",23942037,26578391.806887344,{"$f":"ISNUMBER(SEARCH(Wyszukiwarka!$A$1,'Porównanie dochodów JST'!J1845))","v":false},{"$f":"IF(M1845,COUNTIF($M$16:M1845,TRUE),\"\")","v":""},{"$f":"IFERROR(INDEX($J$16:$J$2822,MATCH(ROWS($J$16:J1845),$N$16:$N$2822,0)),\"\")","v":""}]
["24","15","01","1","241501","Gmina miejska","ŚLĄSKIE","wodzisławski","PSZÓW","PSZÓW - Gmina miejska / Powiat wodzisławski / Województwo  - ŚLĄSKIE / 241501 / ",44727514,49560009.747999996,{"$f":"ISNUMBER(SEARCH(Wyszukiwarka!$A$1,'Porównanie dochodów JST'!J1846))","v":false},{"$f":"IF(M1846,COUNTIF($M$16:M1846,TRUE),\"\")","v":""},{"$f":"IFERROR(INDEX($J$16:$J$2822,MATCH(ROWS($J$16:J1846),$N$16:$N$2822,0)),\"\")","v":""}]
["24","15","02","1","241502","Gmina miejska","ŚLĄSKIE","wodzisławski","RADLIN","RADLIN - Gmina miejska / Powiat wodzisławski / Województwo  - ŚLĄSKIE / 241502 / ",59167164,66388573.9903,{"$f":"ISNUMBER(SEARCH(Wyszukiwarka!$A$1,'Porównanie dochodów JST'!J1847))","v":false},{"$f":"IF(M1847,COUNTIF($M$16:M1847,TRUE),\"\")","v":""},{"$f":"IFERROR(INDEX($J$16:$J$2822,MATCH(ROWS($J$16:J1847),$N$16:$N$2822,0)),\"\")","v":""}]
["24","15","03","1","241503","Gmina miejska","ŚLĄSKIE","wodzisławski","RYDUŁTOWY","RYDUŁTOWY - Gmina miejska / Powiat wodzisławski / Województwo  - ŚLĄSKIE / 241503 / ",61638143,71120794.079999998,{"$f":"ISNUMBER(SEARCH(Wyszukiwarka!$A$1,'Porównanie dochodów JST'!J1848))","v":false},{"$f":"IF(M1848,COUNTIF($M$16:M1848,TRUE),\"\")","v":""},{"$f":"IFERROR(INDEX($J$16:$J$2822,MATCH(ROWS($J$16:J1848),$N$16:$N$2822,0)),\"\")","v":""}]
["24","15","04","1","241504","Gmina miejska","ŚLĄSKIE","wodzisławski","WODZISŁAW ŚLĄSKI","WODZISŁAW ŚLĄSKI - Gmina miejska / Powiat wodzisławski / Województwo  - ŚLĄSKIE / 241504 / ",149108105,171790890.88,{"$f":"ISNUMBER(SEARCH(Wyszukiwarka!$A$1,'Porównanie dochodów JST'!J1849))","v":false},{"$f":"IF(M1849,COUNTIF($M$16:M1849,TRUE),\"\")","v":""},{"$f":"IFERROR(INDEX($J$16:$J$2822,MATCH(ROWS($J$16:J1849),$N$16:$N$2822,0)),\"\")","v":""}]
["24","15","05","2","241505","Gmina wiejska","ŚLĄSKIE","wodzisławski","GODÓW","GODÓW - Gmina wiejska / Powiat wodzisławski / Województwo  - ŚLĄSKIE / 241505 / ",53494540,59499197.298900008,{"$f":"ISNUMBER(SEARCH(Wyszukiwarka!$A$1,'Porównanie dochodów JST'!J1850))","v":false},{"$f":"IF(M1850,COUNTIF($M$16:M1850,TRUE),\"\")","v":""},{"$f":"IFERROR(INDEX($J$16:$J$2822,MATCH(ROWS($J$16:J1850),$N$16:$N$2822,0)),\"\")","v":""}]
["24","15","06","2","241506","Gmina wiejska","ŚLĄSKIE","wodzisławski","GORZYCE","GORZYCE - Gmina wiejska / Powiat wodzisławski / Województwo  - ŚLĄSKIE / 241506 / ",78467289,83947462.981900007,{"$f":"ISNUMBER(SEARCH(Wyszukiwarka!$A$1,'Porównanie dochodów JST'!J1851))","v":false},{"$f":"IF(M1851,COUNTIF($M$16:M1851,TRUE),\"\")","v":""},{"$f":"IFERROR(INDEX($J$16:$J$2822,MATCH(ROWS($J$16:J1851),$N$16:$N$2822,0)),\"\")","v":""}]
["24","15","07","2","241507","Gmina wiejska","ŚLĄSKIE","wodzisławski","LUBOMIA","LUBOMIA - Gmina wiejska / Powiat wodzisławski / Województwo  - ŚLĄSKIE / 241507 / ",28310818,31006946,{"$f":"ISNUMBER(SEARCH(Wyszukiwarka!$A$1,'Porównanie dochodów JST'!J1852))","v":false},{"$f":"IF(M1852,COUNTIF($M$16:M1852,TRUE),\"\")","v":""},{"$f":"IFERROR(INDEX($J$16:$J$2822,MATCH(ROWS($J$16:J1852),$N$16:$N$2822,0)),\"\")","v":""}]
["24","15","08","2","241508","Gmina wiejska","ŚLĄSKIE","wodzisławski","MARKLOWICE","MARKLOWICE - Gmina wiejska / Powiat wodzisławski / Województwo  - ŚLĄSKIE / 241508 / ",19193075,21156133,{"$f":"ISNUMBER(SEARCH(Wyszukiwarka!$A$1,'Porównanie dochodów JST'!J1853))","v":false},{"$f":"IF(M1853,COUNTIF($M$16:M1853,TRUE),\"\")","v":""},{"$f":"IFERROR(INDEX($J$16:$J$2822,MATCH(ROWS($J$16:J1853),$N$16:$N$2822,0)),\"\")","v":""}]
["24","15","09","2","241509","Gmina wiejska","ŚLĄSKIE","wodzisławski","MSZANA","MSZANA - Gmina wiejska / Powiat wodzisławski / Województwo  - ŚLĄSKIE / 241509 / ",29092182,31751804,{"$f":"ISNUMBER(SEARCH(Wyszukiwarka!$A$1,'Porównanie dochodów JST'!J1854))","v":false},{"$f":"IF(M1854,COUNTIF($M$16:M1854,TRUE),\"\")","v":""},{"$f":"IFERROR(INDEX($J$16:$J$2822,MATCH(ROWS($J$16:J1854),$N$16:$N$2822,0)),\"\")","v":""}]
["24","16","01","1","241601","Gmina miejska","ŚLĄSKIE","zawierciański","PORĘBA","PORĘBA - Gmina miejska / Powiat zawierciański / Województwo  - ŚLĄSKIE / 241601 / ",23159028,26779819.359999999,{"$f":"ISNUMBER(SEARCH(Wyszukiwarka!$A$1,'Porównanie dochodów JST'!J1855))","v":false},{"$f":"IF(M1855,COUNTIF($M$16:M1855,TRUE),\"\")","v":""},{"$f":"IFERROR(INDEX($J$16:$J$2822,MATCH(ROWS($J$16:J1855),$N$16:$N$2822,0)),\"\")","v":""}]
["24","16","02","1","241602","Gmina miejska","ŚLĄSKIE","zawierciański","ZAWIERCIE","ZAWIERCIE - Gmina miejska / Powiat zawierciański / Województwo  - ŚLĄSKIE / 241602 / ",164934909,191236979.35999998,{"$f":"ISNUMBER(SEARCH(Wyszukiwarka!$A$1,'Porównanie dochodów JST'!J1856))","v":false},{"$f":"IF(M1856,COUNTIF($M$16:M1856,TRUE),\"\")","v":""},{"$f":"IFERROR(INDEX($J$16:$J$2822,MATCH(ROWS($J$16:J1856),$N$16:$N$2822,0)),\"\")","v":""}]
["24","16","03","2","241603","Gmina wiejska","ŚLĄSKIE","zawierciański","IRZĄDZE","IRZĄDZE - Gmina wiejska / Powiat zawierciański / Województwo  - ŚLĄSKIE / 241603 / ",9746639,10993343.9,{"$f":"ISNUMBER(SEARCH(Wyszukiwarka!$A$1,'Porównanie dochodów JST'!J1857))","v":false},{"$f":"IF(M1857,COUNTIF($M$16:M1857,TRUE),\"\")","v":""},{"$f":"IFERROR(INDEX($J$16:$J$2822,MATCH(ROWS($J$16:J1857),$N$16:$N$2822,0)),\"\")","v":""}]
["24","16","04","2","241604","Gmina wiejska","ŚLĄSKIE","zawierciański","KROCZYCE","KROCZYCE - Gmina wiejska / Powiat zawierciański / Województwo  - ŚLĄSKIE / 241604 / ",25903879,28503000.918875039,{"$f":"ISNUMBER(SEARCH(Wyszukiwarka!$A$1,'Porównanie dochodów JST'!J1858))","v":false},{"$f":"IF(M1858,COUNTIF($M$16:M1858,TRUE),\"\")","v":""},{"$f":"IFERROR(INDEX($J$16:$J$2822,MATCH(ROWS($J$16:J1858),$N$16:$N$2822,0)),\"\")","v":""}]
["24","16","05","3","241605","Gmina miejsko-wiejska","ŚLĄSKIE","zawierciański","ŁAZY","ŁAZY - Gmina miejsko-wiejska / Powiat zawierciański / Województwo  - ŚLĄSKIE / 241605 / ",49460341,57058349.600000001,{"$f":"ISNUMBER(SEARCH(Wyszukiwarka!$A$1,'Porównanie dochodów JST'!J1859))","v":false},{"$f":"IF(M1859,COUNTIF($M$16:M1859,TRUE),\"\")","v":""},{"$f":"IFERROR(INDEX($J$16:$J$2822,MATCH(ROWS($J$16:J1859),$N$16:$N$2822,0)),\"\")","v":""}]
["24","16","06","3","241606","Gmina miejsko-wiejska","ŚLĄSKIE","zawierciański","OGRODZIENIEC","OGRODZIENIEC - Gmina miejsko-wiejska / Powiat zawierciański / Województwo  - ŚLĄSKIE / 241606 / ",31164429,34530012,{"$f":"ISNUMBER(SEARCH(Wyszukiwarka!$A$1,'Porównanie dochodów JST'!J1860))","v":false},{"$f":"IF(M1860,COUNTIF($M$16:M1860,TRUE),\"\")","v":""},{"$f":"IFERROR(INDEX($J$16:$J$2822,MATCH(ROWS($J$16:J1860),$N$16:$N$2822,0)),\"\")","v":""}]
["24","16","07","3","241607","Gmina miejsko-wiejska","ŚLĄSKIE","zawierciański","PILICA","PILICA - Gmina miejsko-wiejska / Powiat zawierciański / Województwo  - ŚLĄSKIE / 241607 / ",31037389,34369504,{"$f":"ISNUMBER(SEARCH(Wyszukiwarka!$A$1,'Porównanie dochodów JST'!J1861))","v":false},{"$f":"IF(M1861,COUNTIF($M$16:M1861,TRUE),\"\")","v":""},{"$f":"IFERROR(INDEX($J$16:$J$2822,MATCH(ROWS($J$16:J1861),$N$16:$N$2822,0)),\"\")","v":""}]
["24","16","08","3","241608","Gmina miejsko-wiejska","ŚLĄSKIE","zawierciański","SZCZEKOCINY","SZCZEKOCINY - Gmina miejsko-wiejska / Powiat zawierciański / Województwo  - ŚLĄSKIE / 241608 / ",28955499,31655639.906353332,{"$f":"ISNUMBER(SEARCH(Wyszukiwarka!$A$1,'Porównanie dochodów JST'!J1862))","v":false},{"$f":"IF(M1862,COUNTIF($M$16:M1862,TRUE),\"\")","v":""},{"$f":"IFERROR(INDEX($J$16:$J$2822,MATCH(ROWS($J$16:J1862),$N$16:$N$2822,0)),\"\")","v":""}]
["24","16","09","2","241609","Gmina wiejska","ŚLĄSKIE","zawierciański","WŁODOWICE","WŁODOWICE - Gmina wiejska / Powiat zawierciański / Województwo  - ŚLĄSKIE / 241609 / ",19574541,21604213.518900003,{"$f":"ISNUMBER(SEARCH(Wyszukiwarka!$A$1,'Porównanie dochodów JST'!J1863))","v":false},{"$f":"IF(M1863,COUNTIF($M$16:M1863,TRUE),\"\")","v":""},{"$f":"IFERROR(INDEX($J$16:$J$2822,MATCH(ROWS($J$16:J1863),$N$16:$N$2822,0)),\"\")","v":""}]
["24","16","10","2","241610","Gmina wiejska","ŚLĄSKIE","zawierciański","ŻARNOWIEC","ŻARNOWIEC - Gmina wiejska / Powiat zawierciański / Województwo  - ŚLĄSKIE / 241610 / ",18774616,20714806,{"$f":"ISNUMBER(SEARCH(Wyszukiwarka!$A$1,'Porównanie dochodów JST'!J1864))","v":false},{"$f":"IF(M1864,COUNTIF($M$16:M1864,TRUE),\"\")","v":""},{"$f":"IFERROR(INDEX($J$16:$J$2822,MATCH(ROWS($J$16:J1864),$N$16:$N$2822,0)),\"\")","v":""}]
["24","17","01","1","241701","Gmina miejska","ŚLĄSKIE","żywiecki","ŻYWIEC","ŻYWIEC - Gmina miejska / Powiat żywiecki / Województwo  - ŚLĄSKIE / 241701 / ",116518222,125258847.7591119,{"$f":"ISNUMBER(SEARCH(Wyszukiwarka!$A$1,'Porównanie dochodów JST'!J1865))","v":false},{"$f":"IF(M1865,COUNTIF($M$16:M1865,TRUE),\"\")","v":""},{"$f":"IFERROR(INDEX($J$16:$J$2822,MATCH(ROWS($J$16:J1865),$N$16:$N$2822,0)),\"\")","v":""}]
["24","17","02","2","241702","Gmina wiejska","ŚLĄSKIE","żywiecki","CZERNICHÓW","CZERNICHÓW - Gmina wiejska / Powiat żywiecki / Województwo  - ŚLĄSKIE / 241702 / ",23049254,25667282,{"$f":"ISNUMBER(SEARCH(Wyszukiwarka!$A$1,'Porównanie dochodów JST'!J1866))","v":false},{"$f":"IF(M1866,COUNTIF($M$16:M1866,TRUE),\"\")","v":""},{"$f":"IFERROR(INDEX($J$16:$J$2822,MATCH(ROWS($J$16:J1866),$N$16:$N$2822,0)),\"\")","v":""}]
["24","17","03","2","241703","Gmina wiejska","ŚLĄSKIE","żywiecki","GILOWICE","GILOWICE - Gmina wiejska / Powiat żywiecki / Województwo  - ŚLĄSKIE / 241703 / ",25416063,27977871.717528209,{"$f":"ISNUMBER(SEARCH(Wyszukiwarka!$A$1,'Porównanie dochodów JST'!J1867))","v":false},{"$f":"IF(M1867,COUNTIF($M$16:M1867,TRUE),\"\")","v":""},{"$f":"IFERROR(INDEX($J$16:$J$2822,MATCH(ROWS($J$16:J1867),$N$16:$N$2822,0)),\"\")","v":""}]
["24","17","04","2","241704","Gmina wiejska","ŚLĄSKIE","żywiecki","JELEŚNIA","JELEŚNIA - Gmina wiejska / Powiat żywiecki / Województwo  - ŚLĄSKIE / 241704 / ",49756995,53972492.700762972,{"$f":"ISNUMBER(SEARCH(Wyszukiwarka!$A$1,'Porównanie dochodów JST'!J1868))","v":false},{"$f":"IF(M1868,COUNTIF($M$16:M1868,TRUE),\"\")","v":""},{"$f":"IFERROR(INDEX($J$16:$J$2822,MATCH(ROWS($J$16:J1868),$N$16:$N$2822,0)),\"\")","v":""}]
["24","17","05","2","241705","Gmina wiejska","ŚLĄSKIE","żywiecki","KOSZARAWA","KOSZARAWA - Gmina wiejska / Powiat żywiecki / Województwo  - ŚLĄSKIE / 241705 / ",13716317,15020460,{"$f":"ISNUMBER(SEARCH(Wyszukiwarka!$A$1,'Porównanie dochodów JST'!J1869))","v":false},{"$f":"IF(M1869,COUNTIF($M$16:M1869,TRUE),\"\")","v":""},{"$f":"IFERROR(INDEX($J$16:$J$2822,MATCH(ROWS($J$16:J1869),$N$16:$N$2822,0)),\"\")","v":""}]
["24","17","06","2","241706","Gmina wiejska","ŚLĄSKIE","żywiecki","LIPOWA","LIPOWA - Gmina wiejska / Powiat żywiecki / Województwo  - ŚLĄSKIE / 241706 / ",45398855,49389500.795077786,{"$f":"ISNUMBER(SEARCH(Wyszukiwarka!$A$1,'Porównanie dochodów JST'!J1870))","v":false},{"$f":"IF(M1870,COUNTIF($M$16:M1870,TRUE),\"\")","v":""},{"$f":"IFERROR(INDEX($J$16:$J$2822,MATCH(ROWS($J$16:J1870),$N$16:$N$2822,0)),\"\")","v":""}]
["24","17","07","2","241707","Gmina wiejska","ŚLĄSKIE","żywiecki","ŁĘKAWICA","ŁĘKAWICA - Gmina wiejska / Powiat żywiecki / Województwo  - ŚLĄSKIE / 241707 / ",18402534,20319815.915325172,{"$f":"ISNUMBER(SEARCH(Wyszukiwarka!$A$1,'Porównanie dochodów JST'!J1871))","v":false},{"$f":"IF(M1871,COUNTIF($M$16:M1871,TRUE),\"\")","v":""},{"$f":"IFERROR(INDEX($J$16:$J$2822,MATCH(ROWS($J$16:J1871),$N$16:$N$2822,0)),\"\")","v":""}]
["24","17","08","2","241708","Gmina wiejska","ŚLĄSKIE","żywiecki","ŁODYGOWICE","ŁODYGOWICE - Gmina wiejska / Powiat żywiecki / Województwo  - ŚLĄSKIE / 241708 / ",61587033,66504615.970919207,{"$f":"ISNUMBER(SEARCH(Wyszukiwarka!$A$1,'Porównanie dochodów JST'!J1872))","v":false},{"$f":"IF(M1872,COUNTIF($M$16:M1872,TRUE),\"\")","v":""},{"$f":"IFERROR(INDEX($J$16:$J$2822,MATCH(ROWS($J$16:J1872),$N$16:$N$2822,0)),\"\")","v":""}]
["24","17","09","2","241709","Gmina wiejska","ŚLĄSKIE","żywiecki","MILÓWKA",{"$f":"I1873&$H$12&F1873&$G$12&$H$14&H1873&$G$12&$G$14&$H$12&G1873&$G$12&E1873&$G$12","v":"MILÓWKA - Gmina wiejska / Powiat żywiecki / Województwo  - ŚLĄSKIE / 241709 / "},43912767,47335780.757426545,{"$f":"ISNUMBER(SEARCH(Wyszukiwarka!$A$1,'Porównanie dochodów JST'!J1873))","v":false},{"$f":"IF(M1873,COUNTIF($M$16:M1873,TRUE),\"\")","v":""},{"$f":"IFERROR(INDEX($J$16:$J$2822,MATCH(ROWS($J$16:J1873),$N$16:$N$2822,0)),\"\")","v":""}]
["24","17","10","2","241710","Gmina wiejska","ŚLĄSKIE","żywiecki","RADZIECHOWY-WIEPRZ","RADZIECHOWY-WIEPRZ - Gmina wiejska / Powiat żywiecki / Województwo  - ŚLĄSKIE / 241710 / ",56802014,60965464,{"$f":"ISNUMBER(SEARCH(Wyszukiwarka!$A$1,'Porównanie dochodów JST'!J1874))","v":false},{"$f":"IF(M1874,COUNTIF($M$16:M1874,TRUE),\"\")","v":""},{"$f":"IFERROR(INDEX($J$16:$J$2822,MATCH(ROWS($J$16:J1874),$N$16:$N$2822,0)),\"\")","v":""}]
["24","17","11","2","241711","Gmina wiejska","ŚLĄSKIE","żywiecki","RAJCZA","RAJCZA - Gmina wiejska / Powiat żywiecki / Województwo  - ŚLĄSKIE / 241711 / ",41935163,45259256.823029503,{"$f":"ISNUMBER(SEARCH(Wyszukiwarka!$A$1,'Porównanie dochodów JST'!J1875))","v":false},{"$f":"IF(M1875,COUNTIF($M$16:M1875,TRUE),\"\")","v":""},{"$f":"IFERROR(INDEX($J$16:$J$2822,MATCH(ROWS($J$16:J1875),$N$16:$N$2822,0)),\"\")","v":""}]
["24","17","12","2","241712","Gmina wiejska","ŚLĄSKIE","żywiecki","ŚLEMIEŃ","ŚLEMIEŃ - Gmina wiejska / Powiat żywiecki / Województwo  - ŚLĄSKIE / 241712 / ",14446874,15781502.864999998,{"$f":"ISNUMBER(SEARCH(Wyszukiwarka!$A$1,'Porównanie dochodów JST'!J1876))","v":false},{"$f":"IF(M1876,COUNTIF($M$16:M1876,TRUE),\"\")","v":""},{"$f":"IFERROR(INDEX($J$16:$J$2822,MATCH(ROWS($J$16:J1876),$N$16:$N$2822,0)),\"\")","v":""}]
["24","17","13","2","241713","Gmina wiejska","ŚLĄSKIE","żywiecki","ŚWINNA","ŚWINNA - Gmina wiejska / Powiat żywiecki / Województwo  - ŚLĄSKIE / 241713 / ",43619177,46330544,{"$f":"ISNUMBER(SEARCH(Wyszukiwarka!$A$1,'Porównanie dochodów JST'!J1877))","v":false},{"$f":"IF(M1877,COUNTIF($M$16:M1877,TRUE),\"\")","v":""},{"$f":"IFERROR(INDEX($J$16:$J$2822,MATCH(ROWS($J$16:J1877),$N$16:$N$2822,0)),\"\")","v":""}]
["24","17","14","2","241714","Gmina wiejska","ŚLĄSKIE","żywiecki","UJSOŁY","UJSOŁY - Gmina wiejska / Powiat żywiecki / Województwo  - ŚLĄSKIE / 241714 / ",15539541,17468566,{"$f":"ISNUMBER(SEARCH(Wyszukiwarka!$A$1,'Porównanie dochodów JST'!J1878))","v":false},{"$f":"IF(M1878,COUNTIF($M$16:M1878,TRUE),\"\")","v":""},{"$f":"IFERROR(INDEX($J$16:$J$2822,MATCH(ROWS($J$16:J1878),$N$16:$N$2822,0)),\"\")","v":""}]
["24","17","15","2","241715","Gmina wiejska","ŚLĄSKIE","żywiecki","WĘGIERSKA GÓRKA","WĘGIERSKA GÓRKA - Gmina wiejska / Powiat żywiecki / Województwo  - ŚLĄSKIE / 241715 / ",62158097,66497192.931938648,{"$f":"ISNUMBER(SEARCH(Wyszukiwarka!$A$1,'Porównanie dochodów JST'!J1879))","v":false},{"$f":"IF(M1879,COUNTIF($M$16:M1879,TRUE),\"\")","v":""},{"$f":"IFERROR(INDEX($J$16:$J$2822,MATCH(ROWS($J$16:J1879),$N$16:$N$2822,0)),\"\")","v":""}]
["26","01","01","3","260101","Gmina miejsko-wiejska","ŚWIĘTOKRZYSKIE","buski","BUSKO-ZDRÓJ","BUSKO-ZDRÓJ - Gmina miejsko-wiejska / Powiat buski / Województwo  - ŚWIĘTOKRZYSKIE / 260101 / ",103584190,110719503.80982536,{"$f":"ISNUMBER(SEARCH(Wyszukiwarka!$A$1,'Porównanie dochodów JST'!J1880))","v":false},{"$f":"IF(M1880,COUNTIF($M$16:M1880,TRUE),\"\")","v":""},{"$f":"IFERROR(INDEX($J$16:$J$2822,MATCH(ROWS($J$16:J1880),$N$16:$N$2822,0)),\"\")","v":""}]
["26","01","02","2","260102","Gmina wiejska","ŚWIĘTOKRZYSKIE","buski","GNOJNO","GNOJNO - Gmina wiejska / Powiat buski / Województwo  - ŚWIĘTOKRZYSKIE / 260102 / ",18872773,21616328.16,{"$f":"ISNUMBER(SEARCH(Wyszukiwarka!$A$1,'Porównanie dochodów JST'!J1881))","v":false},{"$f":"IF(M1881,COUNTIF($M$16:M1881,TRUE),\"\")","v":""},{"$f":"IFERROR(INDEX($J$16:$J$2822,MATCH(ROWS($J$16:J1881),$N$16:$N$2822,0)),\"\")","v":""}]
["26","01","03","3","260103","Gmina miejsko-wiejska","ŚWIĘTOKRZYSKIE","buski","NOWY KORCZYN","NOWY KORCZYN - Gmina miejsko-wiejska / Powiat buski / Województwo  - ŚWIĘTOKRZYSKIE / 260103 / ",19610285,21634140,{"$f":"ISNUMBER(SEARCH(Wyszukiwarka!$A$1,'Porównanie dochodów JST'!J1882))","v":false},{"$f":"IF(M1882,COUNTIF($M$16:M1882,TRUE),\"\")","v":""},{"$f":"IFERROR(INDEX($J$16:$J$2822,MATCH(ROWS($J$16:J1882),$N$16:$N$2822,0)),\"\")","v":""}]
["26","01","04","3","260104","Gmina miejsko-wiejska","ŚWIĘTOKRZYSKIE","buski","PACANÓW","PACANÓW - Gmina miejsko-wiejska / Powiat buski / Województwo  - ŚWIĘTOKRZYSKIE / 260104 / ",27262448,29927486,{"$f":"ISNUMBER(SEARCH(Wyszukiwarka!$A$1,'Porównanie dochodów JST'!J1883))","v":false},{"$f":"IF(M1883,COUNTIF($M$16:M1883,TRUE),\"\")","v":""},{"$f":"IFERROR(INDEX($J$16:$J$2822,MATCH(ROWS($J$16:J1883),$N$16:$N$2822,0)),\"\")","v":""}]
["26","01","05","2","260105","Gmina wiejska","ŚWIĘTOKRZYSKIE","buski","SOLEC-ZDRÓJ","SOLEC-ZDRÓJ - Gmina wiejska / Powiat buski / Województwo  - ŚWIĘTOKRZYSKIE / 260105 / ",18327024,20306312,{"$f":"ISNUMBER(SEARCH(Wyszukiwarka!$A$1,'Porównanie dochodów JST'!J1884))","v":false},{"$f":"IF(M1884,COUNTIF($M$16:M1884,TRUE),\"\")","v":""},{"$f":"IFERROR(INDEX($J$16:$J$2822,MATCH(ROWS($J$16:J1884),$N$16:$N$2822,0)),\"\")","v":""}]
["26","01","06","3","260106","Gmina miejsko-wiejska","ŚWIĘTOKRZYSKIE","buski","STOPNICA","STOPNICA - Gmina miejsko-wiejska / Powiat buski / Województwo  - ŚWIĘTOKRZYSKIE / 260106 / ",25646430,28331140.659195531,{"$f":"ISNUMBER(SEARCH(Wyszukiwarka!$A$1,'Porównanie dochodów JST'!J1885))","v":false},{"$f":"IF(M1885,COUNTIF($M$16:M1885,TRUE),\"\")","v":""},{"$f":"IFERROR(INDEX($J$16:$J$2822,MATCH(ROWS($J$16:J1885),$N$16:$N$2822,0)),\"\")","v":""}]
["26","01","07","2","260107","Gmina wiejska","ŚWIĘTOKRZYSKIE","buski","TUCZĘPY","TUCZĘPY - Gmina wiejska / Powiat buski / Województwo  - ŚWIĘTOKRZYSKIE / 260107 / ",10022832,11368173,{"$f":"ISNUMBER(SEARCH(Wyszukiwarka!$A$1,'Porównanie dochodów JST'!J1886))","v":false},{"$f":"IF(M1886,COUNTIF($M$16:M1886,TRUE),\"\")","v":""},{"$f":"IFERROR(INDEX($J$16:$J$2822,MATCH(ROWS($J$16:J1886),$N$16:$N$2822,0)),\"\")","v":""}]
["26","01","08","3","260108","Gmina miejsko-wiejska","ŚWIĘTOKRZYSKIE","buski","WIŚLICA","WIŚLICA - Gmina miejsko-wiejska / Powiat buski / Województwo  - ŚWIĘTOKRZYSKIE / 260108 / ",17421439,19426956,{"$f":"ISNUMBER(SEARCH(Wyszukiwarka!$A$1,'Porównanie dochodów JST'!J1887))","v":false},{"$f":"IF(M1887,COUNTIF($M$16:M1887,TRUE),\"\")","v":""},{"$f":"IFERROR(INDEX($J$16:$J$2822,MATCH(ROWS($J$16:J1887),$N$16:$N$2822,0)),\"\")","v":""}]
["26","02","01","2","260201","Gmina wiejska","ŚWIĘTOKRZYSKIE","jędrzejowski","IMIELNO","IMIELNO - Gmina wiejska / Powiat jędrzejowski / Województwo  - ŚWIĘTOKRZYSKIE / 260201 / ",18195264,20127133,{"$f":"ISNUMBER(SEARCH(Wyszukiwarka!$A$1,'Porównanie dochodów JST'!J1888))","v":false},{"$f":"IF(M1888,COUNTIF($M$16:M1888,TRUE),\"\")","v":""},{"$f":"IFERROR(INDEX($J$16:$J$2822,MATCH(ROWS($J$16:J1888),$N$16:$N$2822,0)),\"\")","v":""}]
["26","02","02","3","260202","Gmina miejsko-wiejska","ŚWIĘTOKRZYSKIE","jędrzejowski","JĘDRZEJÓW","JĘDRZEJÓW - Gmina miejsko-wiejska / Powiat jędrzejowski / Województwo  - ŚWIĘTOKRZYSKIE / 260202 / ",89064809,95475464,{"$f":"ISNUMBER(SEARCH(Wyszukiwarka!$A$1,'Porównanie dochodów JST'!J1889))","v":false},{"$f":"IF(M1889,COUNTIF($M$16:M1889,TRUE),\"\")","v":""},{"$f":"IFERROR(INDEX($J$16:$J$2822,MATCH(ROWS($J$16:J1889),$N$16:$N$2822,0)),\"\")","v":""}]
["26","02","03","3","260203","Gmina miejsko-wiejska","ŚWIĘTOKRZYSKIE","jędrzejowski","MAŁOGOSZCZ","MAŁOGOSZCZ - Gmina miejsko-wiejska / Powiat jędrzejowski / Województwo  - ŚWIĘTOKRZYSKIE / 260203 / ",37378535,41288904.616756037,{"$f":"ISNUMBER(SEARCH(Wyszukiwarka!$A$1,'Porównanie dochodów JST'!J1890))","v":false},{"$f":"IF(M1890,COUNTIF($M$16:M1890,TRUE),\"\")","v":""},{"$f":"IFERROR(INDEX($J$16:$J$2822,MATCH(ROWS($J$16:J1890),$N$16:$N$2822,0)),\"\")","v":""}]
["26","02","04","2","260204","Gmina wiejska","ŚWIĘTOKRZYSKIE","jędrzejowski","NAGŁOWICE","NAGŁOWICE - Gmina wiejska / Powiat jędrzejowski / Województwo  - ŚWIĘTOKRZYSKIE / 260204 / ",17308125,19272702,{"$f":"ISNUMBER(SEARCH(Wyszukiwarka!$A$1,'Porównanie dochodów JST'!J1891))","v":false},{"$f":"IF(M1891,COUNTIF($M$16:M1891,TRUE),\"\")","v":""},{"$f":"IFERROR(INDEX($J$16:$J$2822,MATCH(ROWS($J$16:J1891),$N$16:$N$2822,0)),\"\")","v":""}]
["26","02","05","2","260205","Gmina wiejska","ŚWIĘTOKRZYSKIE","jędrzejowski","OKSA","OKSA - Gmina wiejska / Powiat jędrzejowski / Województwo  - ŚWIĘTOKRZYSKIE / 260205 / ",18559394,20506600.972254694,{"$f":"ISNUMBER(SEARCH(Wyszukiwarka!$A$1,'Porównanie dochodów JST'!J1892))","v":false},{"$f":"IF(M1892,COUNTIF($M$16:M1892,TRUE),\"\")","v":""},{"$f":"IFERROR(INDEX($J$16:$J$2822,MATCH(ROWS($J$16:J1892),$N$16:$N$2822,0)),\"\")","v":""}]
["26","02","06","3","260206","Gmina miejsko-wiejska","ŚWIĘTOKRZYSKIE","jędrzejowski","SĘDZISZÓW","SĘDZISZÓW - Gmina miejsko-wiejska / Powiat jędrzejowski / Województwo  - ŚWIĘTOKRZYSKIE / 260206 / ",40386142,44516277,{"$f":"ISNUMBER(SEARCH(Wyszukiwarka!$A$1,'Porównanie dochodów JST'!J1893))","v":false},{"$f":"IF(M1893,COUNTIF($M$16:M1893,TRUE),\"\")","v":""},{"$f":"IFERROR(INDEX($J$16:$J$2822,MATCH(ROWS($J$16:J1893),$N$16:$N$2822,0)),\"\")","v":""}]
["26","02","07","2","260207","Gmina wiejska","ŚWIĘTOKRZYSKIE","jędrzejowski","SŁUPIA JĘDRZEJOWSKA","SŁUPIA JĘDRZEJOWSKA - Gmina wiejska / Powiat jędrzejowski / Województwo  - ŚWIĘTOKRZYSKIE / 260207 / ",15396413,16782948.842172492,{"$f":"ISNUMBER(SEARCH(Wyszukiwarka!$A$1,'Porównanie dochodów JST'!J1894))","v":false},{"$f":"IF(M1894,COUNTIF($M$16:M1894,TRUE),\"\")","v":""},{"$f":"IFERROR(INDEX($J$16:$J$2822,MATCH(ROWS($J$16:J1894),$N$16:$N$2822,0)),\"\")","v":""}]
["26","02","08","2","260208","Gmina wiejska","ŚWIĘTOKRZYSKIE","jędrzejowski","SOBKÓW","SOBKÓW - Gmina wiejska / Powiat jędrzejowski / Województwo  - ŚWIĘTOKRZYSKIE / 260208 / ",35781346,39104211,{"$f":"ISNUMBER(SEARCH(Wyszukiwarka!$A$1,'Porównanie dochodów JST'!J1895))","v":false},{"$f":"IF(M1895,COUNTIF($M$16:M1895,TRUE),\"\")","v":""},{"$f":"IFERROR(INDEX($J$16:$J$2822,MATCH(ROWS($J$16:J1895),$N$16:$N$2822,0)),\"\")","v":""}]
["26","02","09","2","260209","Gmina wiejska","ŚWIĘTOKRZYSKIE","jędrzejowski","WODZISŁAW","WODZISŁAW - Gmina wiejska / Powiat jędrzejowski / Województwo  - ŚWIĘTOKRZYSKIE / 260209 / ",26480438,29108363,{"$f":"ISNUMBER(SEARCH(Wyszukiwarka!$A$1,'Porównanie dochodów JST'!J1896))","v":false},{"$f":"IF(M1896,COUNTIF($M$16:M1896,TRUE),\"\")","v":""},{"$f":"IFERROR(INDEX($J$16:$J$2822,MATCH(ROWS($J$16:J1896),$N$16:$N$2822,0)),\"\")","v":""}]
["26","03","01","2","260301","Gmina wiejska","ŚWIĘTOKRZYSKIE","kazimierski","BEJSCE","BEJSCE - Gmina wiejska / Powiat kazimierski / Województwo  - ŚWIĘTOKRZYSKIE / 260301 / ",13278567,14640414,{"$f":"ISNUMBER(SEARCH(Wyszukiwarka!$A$1,'Porównanie dochodów JST'!J1897))","v":false},{"$f":"IF(M1897,COUNTIF($M$16:M1897,TRUE),\"\")","v":""},{"$f":"IFERROR(INDEX($J$16:$J$2822,MATCH(ROWS($J$16:J1897),$N$16:$N$2822,0)),\"\")","v":""}]
["26","03","02","2","260302","Gmina wiejska","ŚWIĘTOKRZYSKIE","kazimierski","CZARNOCIN","CZARNOCIN - Gmina wiejska / Powiat kazimierski / Województwo  - ŚWIĘTOKRZYSKIE / 260302 / ",14773171,16114050.785,{"$f":"ISNUMBER(SEARCH(Wyszukiwarka!$A$1,'Porównanie dochodów JST'!J1898))","v":false},{"$f":"IF(M1898,COUNTIF($M$16:M1898,TRUE),\"\")","v":""},{"$f":"IFERROR(INDEX($J$16:$J$2822,MATCH(ROWS($J$16:J1898),$N$16:$N$2822,0)),\"\")","v":""}]
["26","03","03","3","260303","Gmina miejsko-wiejska","ŚWIĘTOKRZYSKIE","kazimierski","KAZIMIERZA WIELKA","KAZIMIERZA WIELKA - Gmina miejsko-wiejska / Powiat kazimierski / Województwo  - ŚWIĘTOKRZYSKIE / 260303 / ",47723422,52579519,{"$f":"ISNUMBER(SEARCH(Wyszukiwarka!$A$1,'Porównanie dochodów JST'!J1899))","v":false},{"$f":"IF(M1899,COUNTIF($M$16:M1899,TRUE),\"\")","v":""},{"$f":"IFERROR(INDEX($J$16:$J$2822,MATCH(ROWS($J$16:J1899),$N$16:$N$2822,0)),\"\")","v":""}]
["26","03","04","3","260304","Gmina miejsko-wiejska","ŚWIĘTOKRZYSKIE","kazimierski","OPATOWIEC","OPATOWIEC - Gmina miejsko-wiejska / Powiat kazimierski / Województwo  - ŚWIĘTOKRZYSKIE / 260304 / ",11322933,12606624,{"$f":"ISNUMBER(SEARCH(Wyszukiwarka!$A$1,'Porównanie dochodów JST'!J1900))","v":false},{"$f":"IF(M1900,COUNTIF($M$16:M1900,TRUE),\"\")","v":""},{"$f":"IFERROR(INDEX($J$16:$J$2822,MATCH(ROWS($J$16:J1900),$N$16:$N$2822,0)),\"\")","v":""}]
["26","03","05","3","260305","Gmina miejsko-wiejska","ŚWIĘTOKRZYSKIE","kazimierski","SKALBMIERZ","SKALBMIERZ - Gmina miejsko-wiejska / Powiat kazimierski / Województwo  - ŚWIĘTOKRZYSKIE / 260305 / ",21336621,23905006,{"$f":"ISNUMBER(SEARCH(Wyszukiwarka!$A$1,'Porównanie dochodów JST'!J1901))","v":false},{"$f":"IF(M1901,COUNTIF($M$16:M1901,TRUE),\"\")","v":""},{"$f":"IFERROR(INDEX($J$16:$J$2822,MATCH(ROWS($J$16:J1901),$N$16:$N$2822,0)),\"\")","v":""}]
["26","04","01","2","260401","Gmina wiejska","ŚWIĘTOKRZYSKIE","kielecki","BIELINY","BIELINY - Gmina wiejska / Powiat kielecki / Województwo  - ŚWIĘTOKRZYSKIE / 260401 / ",43757019,47180770,{"$f":"ISNUMBER(SEARCH(Wyszukiwarka!$A$1,'Porównanie dochodów JST'!J1902))","v":false},{"$f":"IF(M1902,COUNTIF($M$16:M1902,TRUE),\"\")","v":""},{"$f":"IFERROR(INDEX($J$16:$J$2822,MATCH(ROWS($J$16:J1902),$N$16:$N$2822,0)),\"\")","v":""}]
["26","04","02","3","260402","Gmina miejsko-wiejska","ŚWIĘTOKRZYSKIE","kielecki","BODZENTYN","BODZENTYN - Gmina miejsko-wiejska / Powiat kielecki / Województwo  - ŚWIĘTOKRZYSKIE / 260402 / ",39885417,45793118.192216292,{"$f":"ISNUMBER(SEARCH(Wyszukiwarka!$A$1,'Porównanie dochodów JST'!J1903))","v":false},{"$f":"IF(M1903,COUNTIF($M$16:M1903,TRUE),\"\")","v":""},{"$f":"IFERROR(INDEX($J$16:$J$2822,MATCH(ROWS($J$16:J1903),$N$16:$N$2822,0)),\"\")","v":""}]
["26","04","03","3","260403","Gmina miejsko-wiejska","ŚWIĘTOKRZYSKIE","kielecki","CHĘCINY","CHĘCINY - Gmina miejsko-wiejska / Powiat kielecki / Województwo  - ŚWIĘTOKRZYSKIE / 260403 / ",51678020,56029373,{"$f":"ISNUMBER(SEARCH(Wyszukiwarka!$A$1,'Porównanie dochodów JST'!J1904))","v":false},{"$f":"IF(M1904,COUNTIF($M$16:M1904,TRUE),\"\")","v":""},{"$f":"IFERROR(INDEX($J$16:$J$2822,MATCH(ROWS($J$16:J1904),$N$16:$N$2822,0)),\"\")","v":""}]
["26","04","04","3","260404","Gmina miejsko-wiejska","ŚWIĘTOKRZYSKIE","kielecki","CHMIELNIK","CHMIELNIK - Gmina miejsko-wiejska / Powiat kielecki / Województwo  - ŚWIĘTOKRZYSKIE / 260404 / ",41069406,45109353.520452149,{"$f":"ISNUMBER(SEARCH(Wyszukiwarka!$A$1,'Porównanie dochodów JST'!J1905))","v":false},{"$f":"IF(M1905,COUNTIF($M$16:M1905,TRUE),\"\")","v":""},{"$f":"IFERROR(INDEX($J$16:$J$2822,MATCH(ROWS($J$16:J1905),$N$16:$N$2822,0)),\"\")","v":""}]
["26","04","05","3","260405","Gmina miejsko-wiejska","ŚWIĘTOKRZYSKIE","kielecki","DALESZYCE","DALESZYCE - Gmina miejsko-wiejska / Powiat kielecki / Województwo  - ŚWIĘTOKRZYSKIE / 260405 / ",56764391,61837255.878927559,{"$f":"ISNUMBER(SEARCH(Wyszukiwarka!$A$1,'Porównanie dochodów JST'!J1906))","v":false},{"$f":"IF(M1906,COUNTIF($M$16:M1906,TRUE),\"\")","v":""},{"$f":"IFERROR(INDEX($J$16:$J$2822,MATCH(ROWS($J$16:J1906),$N$16:$N$2822,0)),\"\")","v":""}]
["26","04","06","2","260406","Gmina wiejska","ŚWIĘTOKRZYSKIE","kielecki","GÓRNO","GÓRNO - Gmina wiejska / Powiat kielecki / Województwo  - ŚWIĘTOKRZYSKIE / 260406 / ",65406383,70301466.68387188,{"$f":"ISNUMBER(SEARCH(Wyszukiwarka!$A$1,'Porównanie dochodów JST'!J1907))","v":false},{"$f":"IF(M1907,COUNTIF($M$16:M1907,TRUE),\"\")","v":""},{"$f":"IFERROR(INDEX($J$16:$J$2822,MATCH(ROWS($J$16:J1907),$N$16:$N$2822,0)),\"\")","v":""}]
["26","04","07","3","260407","Gmina miejsko-wiejska","ŚWIĘTOKRZYSKIE","kielecki","ŁAGÓW","ŁAGÓW - Gmina miejsko-wiejska / Powiat kielecki / Województwo  - ŚWIĘTOKRZYSKIE / 260407 / ",26068954,29614013.788690217,{"$f":"ISNUMBER(SEARCH(Wyszukiwarka!$A$1,'Porównanie dochodów JST'!J1908))","v":false},{"$f":"IF(M1908,COUNTIF($M$16:M1908,TRUE),\"\")","v":""},{"$f":"IFERROR(INDEX($J$16:$J$2822,MATCH(ROWS($J$16:J1908),$N$16:$N$2822,0)),\"\")","v":""}]
["26","04","08","2","260408","Gmina wiejska","ŚWIĘTOKRZYSKIE","kielecki","ŁOPUSZNO","ŁOPUSZNO - Gmina wiejska / Powiat kielecki / Województwo  - ŚWIĘTOKRZYSKIE / 260408 / ",36132176,39515104.508889392,{"$f":"ISNUMBER(SEARCH(Wyszukiwarka!$A$1,'Porównanie dochodów JST'!J1909))","v":false},{"$f":"IF(M1909,COUNTIF($M$16:M1909,TRUE),\"\")","v":""},{"$f":"IFERROR(INDEX($J$16:$J$2822,MATCH(ROWS($J$16:J1909),$N$16:$N$2822,0)),\"\")","v":""}]
["26","04","09","2","260409","Gmina wiejska","ŚWIĘTOKRZYSKIE","kielecki","MASŁÓW","MASŁÓW - Gmina wiejska / Powiat kielecki / Województwo  - ŚWIĘTOKRZYSKIE / 260409 / ",38751255,42893360,{"$f":"ISNUMBER(SEARCH(Wyszukiwarka!$A$1,'Porównanie dochodów JST'!J1910))","v":false},{"$f":"IF(M1910,COUNTIF($M$16:M1910,TRUE),\"\")","v":""},{"$f":"IFERROR(INDEX($J$16:$J$2822,MATCH(ROWS($J$16:J1910),$N$16:$N$2822,0)),\"\")","v":""}]
["26","04","10","2","260410","Gmina wiejska","ŚWIĘTOKRZYSKIE","kielecki","MIEDZIANA GÓRA","MIEDZIANA GÓRA - Gmina wiejska / Powiat kielecki / Województwo  - ŚWIĘTOKRZYSKIE / 260410 / ",45085475,49263516.919455379,{"$f":"ISNUMBER(SEARCH(Wyszukiwarka!$A$1,'Porównanie dochodów JST'!J1911))","v":false},{"$f":"IF(M1911,COUNTIF($M$16:M1911,TRUE),\"\")","v":""},{"$f":"IFERROR(INDEX($J$16:$J$2822,MATCH(ROWS($J$16:J1911),$N$16:$N$2822,0)),\"\")","v":""}]
["26","04","11","2","260411","Gmina wiejska","ŚWIĘTOKRZYSKIE","kielecki","MNIÓW","MNIÓW - Gmina wiejska / Powiat kielecki / Województwo  - ŚWIĘTOKRZYSKIE / 260411 / ",39499264,42893444.874504246,{"$f":"ISNUMBER(SEARCH(Wyszukiwarka!$A$1,'Porównanie dochodów JST'!J1912))","v":false},{"$f":"IF(M1912,COUNTIF($M$16:M1912,TRUE),\"\")","v":""},{"$f":"IFERROR(INDEX($J$16:$J$2822,MATCH(ROWS($J$16:J1912),$N$16:$N$2822,0)),\"\")","v":""}]
["26","04","12","3","260412","Gmina miejsko-wiejska","ŚWIĘTOKRZYSKIE","kielecki","MORAWICA","MORAWICA - Gmina miejsko-wiejska / Powiat kielecki / Województwo  - ŚWIĘTOKRZYSKIE / 260412 / ",69925608,76786043.158109382,{"$f":"ISNUMBER(SEARCH(Wyszukiwarka!$A$1,'Porównanie dochodów JST'!J1913))","v":false},{"$f":"IF(M1913,COUNTIF($M$16:M1913,TRUE),\"\")","v":""},{"$f":"IFERROR(INDEX($J$16:$J$2822,MATCH(ROWS($J$16:J1913),$N$16:$N$2822,0)),\"\")","v":""}]
["26","04","13","3","260413","Gmina miejsko-wiejska","ŚWIĘTOKRZYSKIE","kielecki","NOWA SŁUPIA","NOWA SŁUPIA - Gmina miejsko-wiejska / Powiat kielecki / Województwo  - ŚWIĘTOKRZYSKIE / 260413 / ",38877404,44445022.719999999,{"$f":"ISNUMBER(SEARCH(Wyszukiwarka!$A$1,'Porównanie dochodów JST'!J1914))","v":false},{"$f":"IF(M1914,COUNTIF($M$16:M1914,TRUE),\"\")","v":""},{"$f":"IFERROR(INDEX($J$16:$J$2822,MATCH(ROWS($J$16:J1914),$N$16:$N$2822,0)),\"\")","v":""}]
["26","04","14","2","260414","Gmina wiejska","ŚWIĘTOKRZYSKIE","kielecki","PIEKOSZÓW","PIEKOSZÓW - Gmina wiejska / Powiat kielecki / Województwo  - ŚWIĘTOKRZYSKIE / 260414 / ",62688271,67712290.697505444,{"$f":"ISNUMBER(SEARCH(Wyszukiwarka!$A$1,'Porównanie dochodów JST'!J1915))","v":false},{"$f":"IF(M1915,COUNTIF($M$16:M1915,TRUE),\"\")","v":""},{"$f":"IFERROR(INDEX($J$16:$J$2822,MATCH(ROWS($J$16:J1915),$N$16:$N$2822,0)),\"\")","v":""}]
["26","04","15","3","260415","Gmina miejsko-wiejska","ŚWIĘTOKRZYSKIE","kielecki","PIERZCHNICA","PIERZCHNICA - Gmina miejsko-wiejska / Powiat kielecki / Województwo  - ŚWIĘTOKRZYSKIE / 260415 / ",18833275,20810987.84470468,{"$f":"ISNUMBER(SEARCH(Wyszukiwarka!$A$1,'Porównanie dochodów JST'!J1916))","v":false},{"$f":"IF(M1916,COUNTIF($M$16:M1916,TRUE),\"\")","v":""},{"$f":"IFERROR(INDEX($J$16:$J$2822,MATCH(ROWS($J$16:J1916),$N$16:$N$2822,0)),\"\")","v":""}]
["26","04","16","2","260416","Gmina wiejska","ŚWIĘTOKRZYSKIE","kielecki","RAKÓW","RAKÓW - Gmina wiejska / Powiat kielecki / Województwo  - ŚWIĘTOKRZYSKIE / 260416 / ",21645732,24833286.240000002,{"$f":"ISNUMBER(SEARCH(Wyszukiwarka!$A$1,'Porównanie dochodów JST'!J1917))","v":false},{"$f":"IF(M1917,COUNTIF($M$16:M1917,TRUE),\"\")","v":""},{"$f":"IFERROR(INDEX($J$16:$J$2822,MATCH(ROWS($J$16:J1917),$N$16:$N$2822,0)),\"\")","v":""}]
["26","04","17","2","260417","Gmina wiejska","ŚWIĘTOKRZYSKIE","kielecki","SITKÓWKA-NOWINY","SITKÓWKA-NOWINY - Gmina wiejska / Powiat kielecki / Województwo  - ŚWIĘTOKRZYSKIE / 260417 / ",37099362,40641228,{"$f":"ISNUMBER(SEARCH(Wyszukiwarka!$A$1,'Porównanie dochodów JST'!J1918))","v":false},{"$f":"IF(M1918,COUNTIF($M$16:M1918,TRUE),\"\")","v":""},{"$f":"IFERROR(INDEX($J$16:$J$2822,MATCH(ROWS($J$16:J1918),$N$16:$N$2822,0)),\"\")","v":""}]
["26","04","18","2","260418","Gmina wiejska","ŚWIĘTOKRZYSKIE","kielecki","STRAWCZYN","STRAWCZYN - Gmina wiejska / Powiat kielecki / Województwo  - ŚWIĘTOKRZYSKIE / 260418 / ",42898292,46924405,{"$f":"ISNUMBER(SEARCH(Wyszukiwarka!$A$1,'Porównanie dochodów JST'!J1919))","v":false},{"$f":"IF(M1919,COUNTIF($M$16:M1919,TRUE),\"\")","v":""},{"$f":"IFERROR(INDEX($J$16:$J$2822,MATCH(ROWS($J$16:J1919),$N$16:$N$2822,0)),\"\")","v":""}]
["26","04","19","2","260419","Gmina wiejska","ŚWIĘTOKRZYSKIE","kielecki","ZAGNAŃSK","ZAGNAŃSK - Gmina wiejska / Powiat kielecki / Województwo  - ŚWIĘTOKRZYSKIE / 260419 / ",48172864,52324978,{"$f":"ISNUMBER(SEARCH(Wyszukiwarka!$A$1,'Porównanie dochodów JST'!J1920))","v":false},{"$f":"IF(M1920,COUNTIF($M$16:M1920,TRUE),\"\")","v":""},{"$f":"IFERROR(INDEX($J$16:$J$2822,MATCH(ROWS($J$16:J1920),$N$16:$N$2822,0)),\"\")","v":""}]
["26","05","01","2","260501","Gmina wiejska","ŚWIĘTOKRZYSKIE","konecki","FAŁKÓW","FAŁKÓW - Gmina wiejska / Powiat konecki / Województwo  - ŚWIĘTOKRZYSKIE / 260501 / ",15765576,17173076.857771441,{"$f":"ISNUMBER(SEARCH(Wyszukiwarka!$A$1,'Porównanie dochodów JST'!J1921))","v":false},{"$f":"IF(M1921,COUNTIF($M$16:M1921,TRUE),\"\")","v":""},{"$f":"IFERROR(INDEX($J$16:$J$2822,MATCH(ROWS($J$16:J1921),$N$16:$N$2822,0)),\"\")","v":""}]
["26","05","02","2","260502","Gmina wiejska","ŚWIĘTOKRZYSKIE","konecki","GOWARCZÓW","GOWARCZÓW - Gmina wiejska / Powiat konecki / Województwo  - ŚWIĘTOKRZYSKIE / 260502 / ",15455564,17395068.738189861,{"$f":"ISNUMBER(SEARCH(Wyszukiwarka!$A$1,'Porównanie dochodów JST'!J1922))","v":false},{"$f":"IF(M1922,COUNTIF($M$16:M1922,TRUE),\"\")","v":""},{"$f":"IFERROR(INDEX($J$16:$J$2822,MATCH(ROWS($J$16:J1922),$N$16:$N$2822,0)),\"\")","v":""}]
["26","05","03","3","260503","Gmina miejsko-wiejska","ŚWIĘTOKRZYSKIE","konecki","KOŃSKIE","KOŃSKIE - Gmina miejsko-wiejska / Powiat konecki / Województwo  - ŚWIĘTOKRZYSKIE / 260503 / ",97380694,105844213.72860003,{"$f":"ISNUMBER(SEARCH(Wyszukiwarka!$A$1,'Porównanie dochodów JST'!J1923))","v":false},{"$f":"IF(M1923,COUNTIF($M$16:M1923,TRUE),\"\")","v":""},{"$f":"IFERROR(INDEX($J$16:$J$2822,MATCH(ROWS($J$16:J1923),$N$16:$N$2822,0)),\"\")","v":""}]
["26","05","04","3","260504","Gmina miejsko-wiejska","ŚWIĘTOKRZYSKIE","konecki","RADOSZYCE","RADOSZYCE - Gmina miejsko-wiejska / Powiat konecki / Województwo  - ŚWIĘTOKRZYSKIE / 260504 / ",33657544,38469802.135153368,{"$f":"ISNUMBER(SEARCH(Wyszukiwarka!$A$1,'Porównanie dochodów JST'!J1924))","v":false},{"$f":"IF(M1924,COUNTIF($M$16:M1924,TRUE),\"\")","v":""},{"$f":"IFERROR(INDEX($J$16:$J$2822,MATCH(ROWS($J$16:J1924),$N$16:$N$2822,0)),\"\")","v":""}]
["26","05","05","2","260505","Gmina wiejska","ŚWIĘTOKRZYSKIE","konecki","RUDA MALENIECKA","RUDA MALENIECKA - Gmina wiejska / Powiat konecki / Województwo  - ŚWIĘTOKRZYSKIE / 260505 / ",10503018,11793435,{"$f":"ISNUMBER(SEARCH(Wyszukiwarka!$A$1,'Porównanie dochodów JST'!J1925))","v":false},{"$f":"IF(M1925,COUNTIF($M$16:M1925,TRUE),\"\")","v":""},{"$f":"IFERROR(INDEX($J$16:$J$2822,MATCH(ROWS($J$16:J1925),$N$16:$N$2822,0)),\"\")","v":""}]
["26","05","06","2","260506","Gmina wiejska","ŚWIĘTOKRZYSKIE","konecki","SŁUPIA KONECKA","SŁUPIA KONECKA - Gmina wiejska / Powiat konecki / Województwo  - ŚWIĘTOKRZYSKIE / 260506 / ",12507414,14350581.279999999,{"$f":"ISNUMBER(SEARCH(Wyszukiwarka!$A$1,'Porównanie dochodów JST'!J1926))","v":false},{"$f":"IF(M1926,COUNTIF($M$16:M1926,TRUE),\"\")","v":""},{"$f":"IFERROR(INDEX($J$16:$J$2822,MATCH(ROWS($J$16:J1926),$N$16:$N$2822,0)),\"\")","v":""}]
["26","05","07","2","260507","Gmina wiejska","ŚWIĘTOKRZYSKIE","konecki","SMYKÓW","SMYKÓW - Gmina wiejska / Powiat konecki / Województwo  - ŚWIĘTOKRZYSKIE / 260507 / ",15730981,17107278.533358928,{"$f":"ISNUMBER(SEARCH(Wyszukiwarka!$A$1,'Porównanie dochodów JST'!J1927))","v":false},{"$f":"IF(M1927,COUNTIF($M$16:M1927,TRUE),\"\")","v":""},{"$f":"IFERROR(INDEX($J$16:$J$2822,MATCH(ROWS($J$16:J1927),$N$16:$N$2822,0)),\"\")","v":""}]
["26","05","08","3","260508","Gmina miejsko-wiejska","ŚWIĘTOKRZYSKIE","konecki","STĄPORKÓW","STĄPORKÓW - Gmina miejsko-wiejska / Powiat konecki / Województwo  - ŚWIĘTOKRZYSKIE / 260508 / ",48681586,53695041.845318168,{"$f":"ISNUMBER(SEARCH(Wyszukiwarka!$A$1,'Porównanie dochodów JST'!J1928))","v":false},{"$f":"IF(M1928,COUNTIF($M$16:M1928,TRUE),\"\")","v":""},{"$f":"IFERROR(INDEX($J$16:$J$2822,MATCH(ROWS($J$16:J1928),$N$16:$N$2822,0)),\"\")","v":""}]
["26","06","01","2","260601","Gmina wiejska","ŚWIĘTOKRZYSKIE","opatowski","BAĆKOWICE","BAĆKOWICE - Gmina wiejska / Powiat opatowski / Województwo  - ŚWIĘTOKRZYSKIE / 260601 / ",15300522,17231933,{"$f":"ISNUMBER(SEARCH(Wyszukiwarka!$A$1,'Porównanie dochodów JST'!J1929))","v":false},{"$f":"IF(M1929,COUNTIF($M$16:M1929,TRUE),\"\")","v":""},{"$f":"IFERROR(INDEX($J$16:$J$2822,MATCH(ROWS($J$16:J1929),$N$16:$N$2822,0)),\"\")","v":""}]
["26","06","02","2","260602","Gmina wiejska","ŚWIĘTOKRZYSKIE","opatowski","IWANISKA","IWANISKA - Gmina wiejska / Powiat opatowski / Województwo  - ŚWIĘTOKRZYSKIE / 260602 / ",24286886,26884979.892725743,{"$f":"ISNUMBER(SEARCH(Wyszukiwarka!$A$1,'Porównanie dochodów JST'!J1930))","v":false},{"$f":"IF(M1930,COUNTIF($M$16:M1930,TRUE),\"\")","v":""},{"$f":"IFERROR(INDEX($J$16:$J$2822,MATCH(ROWS($J$16:J1930),$N$16:$N$2822,0)),\"\")","v":""}]
["26","06","03","2","260603","Gmina wiejska","ŚWIĘTOKRZYSKIE","opatowski","LIPNIK","LIPNIK - Gmina wiejska / Powiat opatowski / Województwo  - ŚWIĘTOKRZYSKIE / 260603 / ",17352964,19299409,{"$f":"ISNUMBER(SEARCH(Wyszukiwarka!$A$1,'Porównanie dochodów JST'!J1931))","v":false},{"$f":"IF(M1931,COUNTIF($M$16:M1931,TRUE),\"\")","v":""},{"$f":"IFERROR(INDEX($J$16:$J$2822,MATCH(ROWS($J$16:J1931),$N$16:$N$2822,0)),\"\")","v":""}]
["26","06","04","3","260604","Gmina miejsko-wiejska","ŚWIĘTOKRZYSKIE","opatowski","OPATÓW","OPATÓW - Gmina miejsko-wiejska / Powiat opatowski / Województwo  - ŚWIĘTOKRZYSKIE / 260604 / ",32960751,36967879.898400001,{"$f":"ISNUMBER(SEARCH(Wyszukiwarka!$A$1,'Porównanie dochodów JST'!J1932))","v":false},{"$f":"IF(M1932,COUNTIF($M$16:M1932,TRUE),\"\")","v":""},{"$f":"IFERROR(INDEX($J$16:$J$2822,MATCH(ROWS($J$16:J1932),$N$16:$N$2822,0)),\"\")","v":""}]
["26","06","05","3","260605","Gmina miejsko-wiejska","ŚWIĘTOKRZYSKIE","opatowski","OŻARÓW","OŻARÓW - Gmina miejsko-wiejska / Powiat opatowski / Województwo  - ŚWIĘTOKRZYSKIE / 260605 / ",38819906,43081230.000000007,{"$f":"ISNUMBER(SEARCH(Wyszukiwarka!$A$1,'Porównanie dochodów JST'!J1933))","v":false},{"$f":"IF(M1933,COUNTIF($M$16:M1933,TRUE),\"\")","v":""},{"$f":"IFERROR(INDEX($J$16:$J$2822,MATCH(ROWS($J$16:J1933),$N$16:$N$2822,0)),\"\")","v":""}]
["26","06","06","2","260606","Gmina wiejska","ŚWIĘTOKRZYSKIE","opatowski","SADOWIE","SADOWIE - Gmina wiejska / Powiat opatowski / Województwo  - ŚWIĘTOKRZYSKIE / 260606 / ",12182498,13552896.531573391,{"$f":"ISNUMBER(SEARCH(Wyszukiwarka!$A$1,'Porównanie dochodów JST'!J1934))","v":false},{"$f":"IF(M1934,COUNTIF($M$16:M1934,TRUE),\"\")","v":""},{"$f":"IFERROR(INDEX($J$16:$J$2822,MATCH(ROWS($J$16:J1934),$N$16:$N$2822,0)),\"\")","v":""}]
["26","06","07","2","260607","Gmina wiejska","ŚWIĘTOKRZYSKIE","opatowski","TARŁÓW","TARŁÓW - Gmina wiejska / Powiat opatowski / Województwo  - ŚWIĘTOKRZYSKIE / 260607 / ",16009735,17965355,{"$f":"ISNUMBER(SEARCH(Wyszukiwarka!$A$1,'Porównanie dochodów JST'!J1935))","v":false},{"$f":"IF(M1935,COUNTIF($M$16:M1935,TRUE),\"\")","v":""},{"$f":"IFERROR(INDEX($J$16:$J$2822,MATCH(ROWS($J$16:J1935),$N$16:$N$2822,0)),\"\")","v":""}]
["26","06","08","2","260608","Gmina wiejska","ŚWIĘTOKRZYSKIE","opatowski","WOJCIECHOWICE","WOJCIECHOWICE - Gmina wiejska / Powiat opatowski / Województwo  - ŚWIĘTOKRZYSKIE / 260608 / ",13544660,14912697,{"$f":"ISNUMBER(SEARCH(Wyszukiwarka!$A$1,'Porównanie dochodów JST'!J1936))","v":false},{"$f":"IF(M1936,COUNTIF($M$16:M1936,TRUE),\"\")","v":""},{"$f":"IFERROR(INDEX($J$16:$J$2822,MATCH(ROWS($J$16:J1936),$N$16:$N$2822,0)),\"\")","v":""}]
["26","07","01","1","260701","Gmina miejska","ŚWIĘTOKRZYSKIE","ostrowiecki","OSTROWIEC ŚWIĘTOKRZYSKI",{"$f":"I1937&$H$12&F1937&$G$12&$H$14&H1937&$G$12&$G$14&$H$12&G1937&$G$12&E1937&$G$12","v":"OSTROWIEC ŚWIĘTOKRZYSKI - Gmina miejska / Powiat ostrowiecki / Województwo  - ŚWIĘTOKRZYSKIE / 260701 / "},174267138,198828854.04720005,{"$f":"ISNUMBER(SEARCH(Wyszukiwarka!$A$1,'Porównanie dochodów JST'!J1937))","v":false},{"$f":"IF(M1937,COUNTIF($M$16:M1937,TRUE),\"\")","v":""},{"$f":"IFERROR(INDEX($J$16:$J$2822,MATCH(ROWS($J$16:J1937),$N$16:$N$2822,0)),\"\")","v":""}]
["26","07","02","2","260702","Gmina wiejska","ŚWIĘTOKRZYSKIE","ostrowiecki","BAŁTÓW","BAŁTÓW - Gmina wiejska / Powiat ostrowiecki / Województwo  - ŚWIĘTOKRZYSKIE / 260702 / ",12093026,13405890,{"$f":"ISNUMBER(SEARCH(Wyszukiwarka!$A$1,'Porównanie dochodów JST'!J1938))","v":false},{"$f":"IF(M1938,COUNTIF($M$16:M1938,TRUE),\"\")","v":""},{"$f":"IFERROR(INDEX($J$16:$J$2822,MATCH(ROWS($J$16:J1938),$N$16:$N$2822,0)),\"\")","v":""}]
["26","07","03","2","260703","Gmina wiejska","ŚWIĘTOKRZYSKIE","ostrowiecki","BODZECHÓW","BODZECHÓW - Gmina wiejska / Powiat ostrowiecki / Województwo  - ŚWIĘTOKRZYSKIE / 260703 / ",42154612,46307268.506400004,{"$f":"ISNUMBER(SEARCH(Wyszukiwarka!$A$1,'Porównanie dochodów JST'!J1939))","v":false},{"$f":"IF(M1939,COUNTIF($M$16:M1939,TRUE),\"\")","v":""},{"$f":"IFERROR(INDEX($J$16:$J$2822,MATCH(ROWS($J$16:J1939),$N$16:$N$2822,0)),\"\")","v":""}]
["26","07","04","3","260704","Gmina miejsko-wiejska","ŚWIĘTOKRZYSKIE","ostrowiecki","ĆMIELÓW","ĆMIELÓW - Gmina miejsko-wiejska / Powiat ostrowiecki / Województwo  - ŚWIĘTOKRZYSKIE / 260704 / ",23671847,26319918.781603657,{"$f":"ISNUMBER(SEARCH(Wyszukiwarka!$A$1,'Porównanie dochodów JST'!J1940))","v":false},{"$f":"IF(M1940,COUNTIF($M$16:M1940,TRUE),\"\")","v":""},{"$f":"IFERROR(INDEX($J$16:$J$2822,MATCH(ROWS($J$16:J1940),$N$16:$N$2822,0)),\"\")","v":""}]
["26","07","05","3","260705","Gmina miejsko-wiejska","ŚWIĘTOKRZYSKIE","ostrowiecki","KUNÓW","KUNÓW - Gmina miejsko-wiejska / Powiat ostrowiecki / Województwo  - ŚWIĘTOKRZYSKIE / 260705 / ",29949045,33309133.840015359,{"$f":"ISNUMBER(SEARCH(Wyszukiwarka!$A$1,'Porównanie dochodów JST'!J1941))","v":false},{"$f":"IF(M1941,COUNTIF($M$16:M1941,TRUE),\"\")","v":""},{"$f":"IFERROR(INDEX($J$16:$J$2822,MATCH(ROWS($J$16:J1941),$N$16:$N$2822,0)),\"\")","v":""}]
["26","07","06","2","260706","Gmina wiejska","ŚWIĘTOKRZYSKIE","ostrowiecki","WAŚNIÓW","WAŚNIÓW - Gmina wiejska / Powiat ostrowiecki / Województwo  - ŚWIĘTOKRZYSKIE / 260706 / ",25404042,28009533,{"$f":"ISNUMBER(SEARCH(Wyszukiwarka!$A$1,'Porównanie dochodów JST'!J1942))","v":false},{"$f":"IF(M1942,COUNTIF($M$16:M1942,TRUE),\"\")","v":""},{"$f":"IFERROR(INDEX($J$16:$J$2822,MATCH(ROWS($J$16:J1942),$N$16:$N$2822,0)),\"\")","v":""}]
["26","08","01","3","260801","Gmina miejsko-wiejska","ŚWIĘTOKRZYSKIE","pińczowski","DZIAŁOSZYCE","DZIAŁOSZYCE - Gmina miejsko-wiejska / Powiat pińczowski / Województwo  - ŚWIĘTOKRZYSKIE / 260801 / ",16008674,17947635.530413166,{"$f":"ISNUMBER(SEARCH(Wyszukiwarka!$A$1,'Porównanie dochodów JST'!J1943))","v":false},{"$f":"IF(M1943,COUNTIF($M$16:M1943,TRUE),\"\")","v":""},{"$f":"IFERROR(INDEX($J$16:$J$2822,MATCH(ROWS($J$16:J1943),$N$16:$N$2822,0)),\"\")","v":""}]
["26","08","02","2","260802","Gmina wiejska","ŚWIĘTOKRZYSKIE","pińczowski","KIJE","KIJE - Gmina wiejska / Powiat pińczowski / Województwo  - ŚWIĘTOKRZYSKIE / 260802 / ",15311889,17245037,{"$f":"ISNUMBER(SEARCH(Wyszukiwarka!$A$1,'Porównanie dochodów JST'!J1944))","v":false},{"$f":"IF(M1944,COUNTIF($M$16:M1944,TRUE),\"\")","v":""},{"$f":"IFERROR(INDEX($J$16:$J$2822,MATCH(ROWS($J$16:J1944),$N$16:$N$2822,0)),\"\")","v":""}]
["26","08","03","2","260803","Gmina wiejska","ŚWIĘTOKRZYSKIE","pińczowski","MICHAŁÓW","MICHAŁÓW - Gmina wiejska / Powiat pińczowski / Województwo  - ŚWIĘTOKRZYSKIE / 260803 / ",16918100,18848582.810186487,{"$f":"ISNUMBER(SEARCH(Wyszukiwarka!$A$1,'Porównanie dochodów JST'!J1945))","v":false},{"$f":"IF(M1945,COUNTIF($M$16:M1945,TRUE),\"\")","v":""},{"$f":"IFERROR(INDEX($J$16:$J$2822,MATCH(ROWS($J$16:J1945),$N$16:$N$2822,0)),\"\")","v":""}]
["26","08","04","3","260804","Gmina miejsko-wiejska","ŚWIĘTOKRZYSKIE","pińczowski","PIŃCZÓW","PIŃCZÓW - Gmina miejsko-wiejska / Powiat pińczowski / Województwo  - ŚWIĘTOKRZYSKIE / 260804 / ",61962134,67336580.967296332,{"$f":"ISNUMBER(SEARCH(Wyszukiwarka!$A$1,'Porównanie dochodów JST'!J1946))","v":false},{"$f":"IF(M1946,COUNTIF($M$16:M1946,TRUE),\"\")","v":""},{"$f":"IFERROR(INDEX($J$16:$J$2822,MATCH(ROWS($J$16:J1946),$N$16:$N$2822,0)),\"\")","v":""}]
["26","08","05","2","260805","Gmina wiejska","ŚWIĘTOKRZYSKIE","pińczowski","ZŁOTA","ZŁOTA - Gmina wiejska / Powiat pińczowski / Województwo  - ŚWIĘTOKRZYSKIE / 260805 / ",13370015,15156311.5,{"$f":"ISNUMBER(SEARCH(Wyszukiwarka!$A$1,'Porównanie dochodów JST'!J1947))","v":false},{"$f":"IF(M1947,COUNTIF($M$16:M1947,TRUE),\"\")","v":""},{"$f":"IFERROR(INDEX($J$16:$J$2822,MATCH(ROWS($J$16:J1947),$N$16:$N$2822,0)),\"\")","v":""}]
["26","09","01","1","260901","Gmina miejska","ŚWIĘTOKRZYSKIE","sandomierski","SANDOMIERZ","SANDOMIERZ - Gmina miejska / Powiat sandomierski / Województwo  - ŚWIĘTOKRZYSKIE / 260901 / ",71006195,81935943.040000007,{"$f":"ISNUMBER(SEARCH(Wyszukiwarka!$A$1,'Porównanie dochodów JST'!J1948))","v":false},{"$f":"IF(M1948,COUNTIF($M$16:M1948,TRUE),\"\")","v":""},{"$f":"IFERROR(INDEX($J$16:$J$2822,MATCH(ROWS($J$16:J1948),$N$16:$N$2822,0)),\"\")","v":""}]
["26","09","02","2","260902","Gmina wiejska","ŚWIĘTOKRZYSKIE","sandomierski","DWIKOZY","DWIKOZY - Gmina wiejska / Powiat sandomierski / Województwo  - ŚWIĘTOKRZYSKIE / 260902 / ",34569803,39092321.011265516,{"$f":"ISNUMBER(SEARCH(Wyszukiwarka!$A$1,'Porównanie dochodów JST'!J1949))","v":false},{"$f":"IF(M1949,COUNTIF($M$16:M1949,TRUE),\"\")","v":""},{"$f":"IFERROR(INDEX($J$16:$J$2822,MATCH(ROWS($J$16:J1949),$N$16:$N$2822,0)),\"\")","v":""}]
["26","09","03","3","260903","Gmina miejsko-wiejska","ŚWIĘTOKRZYSKIE","sandomierski","KLIMONTÓW","KLIMONTÓW - Gmina miejsko-wiejska / Powiat sandomierski / Województwo  - ŚWIĘTOKRZYSKIE / 260903 / ",32290674,36971941.439999998,{"$f":"ISNUMBER(SEARCH(Wyszukiwarka!$A$1,'Porównanie dochodów JST'!J1950))","v":false},{"$f":"IF(M1950,COUNTIF($M$16:M1950,TRUE),\"\")","v":""},{"$f":"IFERROR(INDEX($J$16:$J$2822,MATCH(ROWS($J$16:J1950),$N$16:$N$2822,0)),\"\")","v":""}]
["26","09","04","3","260904","Gmina miejsko-wiejska","ŚWIĘTOKRZYSKIE","sandomierski","KOPRZYWNICA","KOPRZYWNICA - Gmina miejsko-wiejska / Powiat sandomierski / Województwo  - ŚWIĘTOKRZYSKIE / 260904 / ",22857629,25421410,{"$f":"ISNUMBER(SEARCH(Wyszukiwarka!$A$1,'Porównanie dochodów JST'!J1951))","v":false},{"$f":"IF(M1951,COUNTIF($M$16:M1951,TRUE),\"\")","v":""},{"$f":"IFERROR(INDEX($J$16:$J$2822,MATCH(ROWS($J$16:J1951),$N$16:$N$2822,0)),\"\")","v":""}]
["26","09","05","2","260905","Gmina wiejska","ŚWIĘTOKRZYSKIE","sandomierski","ŁONIÓW","ŁONIÓW - Gmina wiejska / Powiat sandomierski / Województwo  - ŚWIĘTOKRZYSKIE / 260905 / ",27726447,31050374.459247325,{"$f":"ISNUMBER(SEARCH(Wyszukiwarka!$A$1,'Porównanie dochodów JST'!J1952))","v":false},{"$f":"IF(M1952,COUNTIF($M$16:M1952,TRUE),\"\")","v":""},{"$f":"IFERROR(INDEX($J$16:$J$2822,MATCH(ROWS($J$16:J1952),$N$16:$N$2822,0)),\"\")","v":""}]
["26","09","06","2","260906","Gmina wiejska","ŚWIĘTOKRZYSKIE","sandomierski","OBRAZÓW","OBRAZÓW - Gmina wiejska / Powiat sandomierski / Województwo  - ŚWIĘTOKRZYSKIE / 260906 / ",23410202,25969797.646134384,{"$f":"ISNUMBER(SEARCH(Wyszukiwarka!$A$1,'Porównanie dochodów JST'!J1953))","v":false},{"$f":"IF(M1953,COUNTIF($M$16:M1953,TRUE),\"\")","v":""},{"$f":"IFERROR(INDEX($J$16:$J$2822,MATCH(ROWS($J$16:J1953),$N$16:$N$2822,0)),\"\")","v":""}]
["26","09","07","2","260907","Gmina wiejska","ŚWIĘTOKRZYSKIE","sandomierski","SAMBORZEC","SAMBORZEC - Gmina wiejska / Powiat sandomierski / Województwo  - ŚWIĘTOKRZYSKIE / 260907 / ",34324783,39273289.439999998,{"$f":"ISNUMBER(SEARCH(Wyszukiwarka!$A$1,'Porównanie dochodów JST'!J1954))","v":false},{"$f":"IF(M1954,COUNTIF($M$16:M1954,TRUE),\"\")","v":""},{"$f":"IFERROR(INDEX($J$16:$J$2822,MATCH(ROWS($J$16:J1954),$N$16:$N$2822,0)),\"\")","v":""}]
["26","09","08","2","260908","Gmina wiejska","ŚWIĘTOKRZYSKIE","sandomierski","WILCZYCE","WILCZYCE - Gmina wiejska / Powiat sandomierski / Województwo  - ŚWIĘTOKRZYSKIE / 260908 / ",14419186,15748851.919999998,{"$f":"ISNUMBER(SEARCH(Wyszukiwarka!$A$1,'Porównanie dochodów JST'!J1955))","v":false},{"$f":"IF(M1955,COUNTIF($M$16:M1955,TRUE),\"\")","v":""},{"$f":"IFERROR(INDEX($J$16:$J$2822,MATCH(ROWS($J$16:J1955),$N$16:$N$2822,0)),\"\")","v":""}]
["26","09","09","3","260909","Gmina miejsko-wiejska","ŚWIĘTOKRZYSKIE","sandomierski","ZAWICHOST","ZAWICHOST - Gmina miejsko-wiejska / Powiat sandomierski / Województwo  - ŚWIĘTOKRZYSKIE / 260909 / ",14983020,16868521.613001317,{"$f":"ISNUMBER(SEARCH(Wyszukiwarka!$A$1,'Porównanie dochodów JST'!J1956))","v":false},{"$f":"IF(M1956,COUNTIF($M$16:M1956,TRUE),\"\")","v":""},{"$f":"IFERROR(INDEX($J$16:$J$2822,MATCH(ROWS($J$16:J1956),$N$16:$N$2822,0)),\"\")","v":""}]
["26","10","01","1","261001","Gmina miejska","ŚWIĘTOKRZYSKIE","skarżyski","SKARŻYSKO-KAMIENNA","SKARŻYSKO-KAMIENNA - Gmina miejska / Powiat skarżyski / Województwo  - ŚWIĘTOKRZYSKIE / 261001 / ",120752717,136506240.67340001,{"$f":"ISNUMBER(SEARCH(Wyszukiwarka!$A$1,'Porównanie dochodów JST'!J1957))","v":false},{"$f":"IF(M1957,COUNTIF($M$16:M1957,TRUE),\"\")","v":""},{"$f":"IFERROR(INDEX($J$16:$J$2822,MATCH(ROWS($J$16:J1957),$N$16:$N$2822,0)),\"\")","v":""}]
["26","10","02","2","261002","Gmina wiejska","ŚWIĘTOKRZYSKIE","skarżyski","BLIŻYN","BLIŻYN - Gmina wiejska / Powiat skarżyski / Województwo  - ŚWIĘTOKRZYSKIE / 261002 / ",26380897,29114482.747759867,{"$f":"ISNUMBER(SEARCH(Wyszukiwarka!$A$1,'Porównanie dochodów JST'!J1958))","v":false},{"$f":"IF(M1958,COUNTIF($M$16:M1958,TRUE),\"\")","v":""},{"$f":"IFERROR(INDEX($J$16:$J$2822,MATCH(ROWS($J$16:J1958),$N$16:$N$2822,0)),\"\")","v":""}]
["26","10","03","2","261003","Gmina wiejska","ŚWIĘTOKRZYSKIE","skarżyski","ŁĄCZNA","ŁĄCZNA - Gmina wiejska / Powiat skarżyski / Województwo  - ŚWIĘTOKRZYSKIE / 261003 / ",15837031,17795777,{"$f":"ISNUMBER(SEARCH(Wyszukiwarka!$A$1,'Porównanie dochodów JST'!J1959))","v":false},{"$f":"IF(M1959,COUNTIF($M$16:M1959,TRUE),\"\")","v":""},{"$f":"IFERROR(INDEX($J$16:$J$2822,MATCH(ROWS($J$16:J1959),$N$16:$N$2822,0)),\"\")","v":""}]
["26","10","04","2","261004","Gmina wiejska","ŚWIĘTOKRZYSKIE","skarżyski","SKARŻYSKO-KOŚCIELNE","SKARŻYSKO-KOŚCIELNE - Gmina wiejska / Powiat skarżyski / Województwo  - ŚWIĘTOKRZYSKIE / 261004 / ",21604048,24764093.759999998,{"$f":"ISNUMBER(SEARCH(Wyszukiwarka!$A$1,'Porównanie dochodów JST'!J1960))","v":false},{"$f":"IF(M1960,COUNTIF($M$16:M1960,TRUE),\"\")","v":""},{"$f":"IFERROR(INDEX($J$16:$J$2822,MATCH(ROWS($J$16:J1960),$N$16:$N$2822,0)),\"\")","v":""}]
["26","10","05","3","261005","Gmina miejsko-wiejska","ŚWIĘTOKRZYSKIE","skarżyski","SUCHEDNIÓW","SUCHEDNIÓW - Gmina miejsko-wiejska / Powiat skarżyski / Województwo  - ŚWIĘTOKRZYSKIE / 261005 / ",29063734,32398722.779800002,{"$f":"ISNUMBER(SEARCH(Wyszukiwarka!$A$1,'Porównanie dochodów JST'!J1961))","v":false},{"$f":"IF(M1961,COUNTIF($M$16:M1961,TRUE),\"\")","v":""},{"$f":"IFERROR(INDEX($J$16:$J$2822,MATCH(ROWS($J$16:J1961),$N$16:$N$2822,0)),\"\")","v":""}]
["26","11","01","1","261101","Gmina miejska","ŚWIĘTOKRZYSKIE","starachowicki","STARACHOWICE","STARACHOWICE - Gmina miejska / Powiat starachowicki / Województwo  - ŚWIĘTOKRZYSKIE / 261101 / ",136153313,149212630.4348,{"$f":"ISNUMBER(SEARCH(Wyszukiwarka!$A$1,'Porównanie dochodów JST'!J1962))","v":false},{"$f":"IF(M1962,COUNTIF($M$16:M1962,TRUE),\"\")","v":""},{"$f":"IFERROR(INDEX($J$16:$J$2822,MATCH(ROWS($J$16:J1962),$N$16:$N$2822,0)),\"\")","v":""}]
["26","11","02","2","261102","Gmina wiejska","ŚWIĘTOKRZYSKIE","starachowicki","BRODY","BRODY - Gmina wiejska / Powiat starachowicki / Województwo  - ŚWIĘTOKRZYSKIE / 261102 / ",42072741,46062038.778252333,{"$f":"ISNUMBER(SEARCH(Wyszukiwarka!$A$1,'Porównanie dochodów JST'!J1963))","v":false},{"$f":"IF(M1963,COUNTIF($M$16:M1963,TRUE),\"\")","v":""},{"$f":"IFERROR(INDEX($J$16:$J$2822,MATCH(ROWS($J$16:J1963),$N$16:$N$2822,0)),\"\")","v":""}]
["26","11","03","2","261103","Gmina wiejska","ŚWIĘTOKRZYSKIE","starachowicki","MIRZEC","MIRZEC - Gmina wiejska / Powiat starachowicki / Województwo  - ŚWIĘTOKRZYSKIE / 261103 / ",36574884,39332488,{"$f":"ISNUMBER(SEARCH(Wyszukiwarka!$A$1,'Porównanie dochodów JST'!J1964))","v":false},{"$f":"IF(M1964,COUNTIF($M$16:M1964,TRUE),\"\")","v":""},{"$f":"IFERROR(INDEX($J$16:$J$2822,MATCH(ROWS($J$16:J1964),$N$16:$N$2822,0)),\"\")","v":""}]
["26","11","04","2","261104","Gmina wiejska","ŚWIĘTOKRZYSKIE","starachowicki","PAWŁÓW","PAWŁÓW - Gmina wiejska / Powiat starachowicki / Województwo  - ŚWIĘTOKRZYSKIE / 261104 / ",61734070,67991876.369070262,{"$f":"ISNUMBER(SEARCH(Wyszukiwarka!$A$1,'Porównanie dochodów JST'!J1965))","v":false},{"$f":"IF(M1965,COUNTIF($M$16:M1965,TRUE),\"\")","v":""},{"$f":"IFERROR(INDEX($J$16:$J$2822,MATCH(ROWS($J$16:J1965),$N$16:$N$2822,0)),\"\")","v":""}]
["26","11","05","3","261105","Gmina miejsko-wiejska","ŚWIĘTOKRZYSKIE","starachowicki","WĄCHOCK","WĄCHOCK - Gmina miejsko-wiejska / Powiat starachowicki / Województwo  - ŚWIĘTOKRZYSKIE / 261105 / ",22023359,24637835.993699998,{"$f":"ISNUMBER(SEARCH(Wyszukiwarka!$A$1,'Porównanie dochodów JST'!J1966))","v":false},{"$f":"IF(M1966,COUNTIF($M$16:M1966,TRUE),\"\")","v":""},{"$f":"IFERROR(INDEX($J$16:$J$2822,MATCH(ROWS($J$16:J1966),$N$16:$N$2822,0)),\"\")","v":""}]
["26","12","01","2","261201","Gmina wiejska","ŚWIĘTOKRZYSKIE","staszowski","BOGORIA","BOGORIA - Gmina wiejska / Powiat staszowski / Województwo  - ŚWIĘTOKRZYSKIE / 261201 / ",32902989,37666954.079999998,{"$f":"ISNUMBER(SEARCH(Wyszukiwarka!$A$1,'Porównanie dochodów JST'!J1967))","v":false},{"$f":"IF(M1967,COUNTIF($M$16:M1967,TRUE),\"\")","v":""},{"$f":"IFERROR(INDEX($J$16:$J$2822,MATCH(ROWS($J$16:J1967),$N$16:$N$2822,0)),\"\")","v":""}]
["26","12","02","2","261202","Gmina wiejska","ŚWIĘTOKRZYSKIE","staszowski","ŁUBNICE","ŁUBNICE - Gmina wiejska / Powiat staszowski / Województwo  - ŚWIĘTOKRZYSKIE / 261202 / ",15460367,16849613.967472516,{"$f":"ISNUMBER(SEARCH(Wyszukiwarka!$A$1,'Porównanie dochodów JST'!J1968))","v":false},{"$f":"IF(M1968,COUNTIF($M$16:M1968,TRUE),\"\")","v":""},{"$f":"IFERROR(INDEX($J$16:$J$2822,MATCH(ROWS($J$16:J1968),$N$16:$N$2822,0)),\"\")","v":""}]
["26","12","03","3","261203","Gmina miejsko-wiejska","ŚWIĘTOKRZYSKIE","staszowski","OLEŚNICA","OLEŚNICA - Gmina miejsko-wiejska / Powiat staszowski / Województwo  - ŚWIĘTOKRZYSKIE / 261203 / ",14540002,16036271.374912988,{"$f":"ISNUMBER(SEARCH(Wyszukiwarka!$A$1,'Porównanie dochodów JST'!J1969))","v":false},{"$f":"IF(M1969,COUNTIF($M$16:M1969,TRUE),\"\")","v":""},{"$f":"IFERROR(INDEX($J$16:$J$2822,MATCH(ROWS($J$16:J1969),$N$16:$N$2822,0)),\"\")","v":""}]
["26","12","04","3","261204","Gmina miejsko-wiejska","ŚWIĘTOKRZYSKIE","staszowski","OSIEK","OSIEK - Gmina miejsko-wiejska / Powiat staszowski / Województwo  - ŚWIĘTOKRZYSKIE / 261204 / ",26345421,29076035,{"$f":"ISNUMBER(SEARCH(Wyszukiwarka!$A$1,'Porównanie dochodów JST'!J1970))","v":false},{"$f":"IF(M1970,COUNTIF($M$16:M1970,TRUE),\"\")","v":""},{"$f":"IFERROR(INDEX($J$16:$J$2822,MATCH(ROWS($J$16:J1970),$N$16:$N$2822,0)),\"\")","v":""}]
["26","12","05","3","261205","Gmina miejsko-wiejska","ŚWIĘTOKRZYSKIE","staszowski","POŁANIEC","POŁANIEC - Gmina miejsko-wiejska / Powiat staszowski / Województwo  - ŚWIĘTOKRZYSKIE / 261205 / ",31818287,35836530.226991214,{"$f":"ISNUMBER(SEARCH(Wyszukiwarka!$A$1,'Porównanie dochodów JST'!J1971))","v":false},{"$f":"IF(M1971,COUNTIF($M$16:M1971,TRUE),\"\")","v":""},{"$f":"IFERROR(INDEX($J$16:$J$2822,MATCH(ROWS($J$16:J1971),$N$16:$N$2822,0)),\"\")","v":""}]
["26","12","06","2","261206","Gmina wiejska","ŚWIĘTOKRZYSKIE","staszowski","RYTWIANY","RYTWIANY - Gmina wiejska / Powiat staszowski / Województwo  - ŚWIĘTOKRZYSKIE / 261206 / ",25299144,27910814,{"$f":"ISNUMBER(SEARCH(Wyszukiwarka!$A$1,'Porównanie dochodów JST'!J1972))","v":false},{"$f":"IF(M1972,COUNTIF($M$16:M1972,TRUE),\"\")","v":""},{"$f":"IFERROR(INDEX($J$16:$J$2822,MATCH(ROWS($J$16:J1972),$N$16:$N$2822,0)),\"\")","v":""}]
["26","12","07","3","261207","Gmina miejsko-wiejska","ŚWIĘTOKRZYSKIE","staszowski","STASZÓW","STASZÓW - Gmina miejsko-wiejska / Powiat staszowski / Województwo  - ŚWIĘTOKRZYSKIE / 261207 / ",88696065,94620324.128725916,{"$f":"ISNUMBER(SEARCH(Wyszukiwarka!$A$1,'Porównanie dochodów JST'!J1973))","v":false},{"$f":"IF(M1973,COUNTIF($M$16:M1973,TRUE),\"\")","v":""},{"$f":"IFERROR(INDEX($J$16:$J$2822,MATCH(ROWS($J$16:J1973),$N$16:$N$2822,0)),\"\")","v":""}]
["26","12","08","3","261208","Gmina miejsko-wiejska","ŚWIĘTOKRZYSKIE","staszowski","SZYDŁÓW","SZYDŁÓW - Gmina miejsko-wiejska / Powiat staszowski / Województwo  - ŚWIĘTOKRZYSKIE / 261208 / ",16503487,18445463,{"$f":"ISNUMBER(SEARCH(Wyszukiwarka!$A$1,'Porównanie dochodów JST'!J1974))","v":false},{"$f":"IF(M1974,COUNTIF($M$16:M1974,TRUE),\"\")","v":""},{"$f":"IFERROR(INDEX($J$16:$J$2822,MATCH(ROWS($J$16:J1974),$N$16:$N$2822,0)),\"\")","v":""}]
["26","13","01","2","261301","Gmina wiejska","ŚWIĘTOKRZYSKIE","włoszczowski","KLUCZEWSKO","KLUCZEWSKO - Gmina wiejska / Powiat włoszczowski / Województwo  - ŚWIĘTOKRZYSKIE / 261301 / ",22163406,24168547.716717057,{"$f":"ISNUMBER(SEARCH(Wyszukiwarka!$A$1,'Porównanie dochodów JST'!J1975))","v":false},{"$f":"IF(M1975,COUNTIF($M$16:M1975,TRUE),\"\")","v":""},{"$f":"IFERROR(INDEX($J$16:$J$2822,MATCH(ROWS($J$16:J1975),$N$16:$N$2822,0)),\"\")","v":""}]
["26","13","02","2","261302","Gmina wiejska","ŚWIĘTOKRZYSKIE","włoszczowski","KRASOCIN","KRASOCIN - Gmina wiejska / Powiat włoszczowski / Województwo  - ŚWIĘTOKRZYSKIE / 261302 / ",40170671,44212146.905124761,{"$f":"ISNUMBER(SEARCH(Wyszukiwarka!$A$1,'Porównanie dochodów JST'!J1976))","v":false},{"$f":"IF(M1976,COUNTIF($M$16:M1976,TRUE),\"\")","v":""},{"$f":"IFERROR(INDEX($J$16:$J$2822,MATCH(ROWS($J$16:J1976),$N$16:$N$2822,0)),\"\")","v":""}]
["26","13","03","2","261303","Gmina wiejska","ŚWIĘTOKRZYSKIE","włoszczowski","MOSKORZEW","MOSKORZEW - Gmina wiejska / Powiat włoszczowski / Województwo  - ŚWIĘTOKRZYSKIE / 261303 / ",9541588,10776075.199999999,{"$f":"ISNUMBER(SEARCH(Wyszukiwarka!$A$1,'Porównanie dochodów JST'!J1977))","v":false},{"$f":"IF(M1977,COUNTIF($M$16:M1977,TRUE),\"\")","v":""},{"$f":"IFERROR(INDEX($J$16:$J$2822,MATCH(ROWS($J$16:J1977),$N$16:$N$2822,0)),\"\")","v":""}]
["26","13","04","2","261304","Gmina wiejska","ŚWIĘTOKRZYSKIE","włoszczowski","RADKÓW","RADKÓW - Gmina wiejska / Powiat włoszczowski / Województwo  - ŚWIĘTOKRZYSKIE / 261304 / ",10456304,11685590.965,{"$f":"ISNUMBER(SEARCH(Wyszukiwarka!$A$1,'Porównanie dochodów JST'!J1978))","v":false},{"$f":"IF(M1978,COUNTIF($M$16:M1978,TRUE),\"\")","v":""},{"$f":"IFERROR(INDEX($J$16:$J$2822,MATCH(ROWS($J$16:J1978),$N$16:$N$2822,0)),\"\")","v":""}]
["26","13","05","2","261305","Gmina wiejska","ŚWIĘTOKRZYSKIE","włoszczowski","SECEMIN","SECEMIN - Gmina wiejska / Powiat włoszczowski / Województwo  - ŚWIĘTOKRZYSKIE / 261305 / ",17270521,19232551,{"$f":"ISNUMBER(SEARCH(Wyszukiwarka!$A$1,'Porównanie dochodów JST'!J1979))","v":false},{"$f":"IF(M1979,COUNTIF($M$16:M1979,TRUE),\"\")","v":""},{"$f":"IFERROR(INDEX($J$16:$J$2822,MATCH(ROWS($J$16:J1979),$N$16:$N$2822,0)),\"\")","v":""}]
["26","13","06","3","261306","Gmina miejsko-wiejska","ŚWIĘTOKRZYSKIE","włoszczowski","WŁOSZCZOWA","WŁOSZCZOWA - Gmina miejsko-wiejska / Powiat włoszczowski / Województwo  - ŚWIĘTOKRZYSKIE / 261306 / ",64421061,69803442,{"$f":"ISNUMBER(SEARCH(Wyszukiwarka!$A$1,'Porównanie dochodów JST'!J1980))","v":false},{"$f":"IF(M1980,COUNTIF($M$16:M1980,TRUE),\"\")","v":""},{"$f":"IFERROR(INDEX($J$16:$J$2822,MATCH(ROWS($J$16:J1980),$N$16:$N$2822,0)),\"\")","v":""}]
["28","01","01","1","280101","Gmina miejska","WARMIŃSKO-MAZURSKIE","bartoszycki","BARTOSZYCE","BARTOSZYCE - Gmina miejska / Powiat bartoszycki / Województwo  - WARMIŃSKO-MAZURSKIE / 280101 / ",74501483,85632179.359999999,{"$f":"ISNUMBER(SEARCH(Wyszukiwarka!$A$1,'Porównanie dochodów JST'!J1981))","v":false},{"$f":"IF(M1981,COUNTIF($M$16:M1981,TRUE),\"\")","v":""},{"$f":"IFERROR(INDEX($J$16:$J$2822,MATCH(ROWS($J$16:J1981),$N$16:$N$2822,0)),\"\")","v":""}]
["28","01","02","1","280102","Gmina miejska","WARMIŃSKO-MAZURSKIE","bartoszycki","GÓROWO IŁAWECKIE","GÓROWO IŁAWECKIE - Gmina miejska / Powiat bartoszycki / Województwo  - WARMIŃSKO-MAZURSKIE / 280102 / ",14561646,16671603.199999999,{"$f":"ISNUMBER(SEARCH(Wyszukiwarka!$A$1,'Porównanie dochodów JST'!J1982))","v":false},{"$f":"IF(M1982,COUNTIF($M$16:M1982,TRUE),\"\")","v":""},{"$f":"IFERROR(INDEX($J$16:$J$2822,MATCH(ROWS($J$16:J1982),$N$16:$N$2822,0)),\"\")","v":""}]
["28","01","03","2","280103","Gmina wiejska","WARMIŃSKO-MAZURSKIE","bartoszycki","BARTOSZYCE","BARTOSZYCE - Gmina wiejska / Powiat bartoszycki / Województwo  - WARMIŃSKO-MAZURSKIE / 280103 / ",35883697,39915372,{"$f":"ISNUMBER(SEARCH(Wyszukiwarka!$A$1,'Porównanie dochodów JST'!J1983))","v":false},{"$f":"IF(M1983,COUNTIF($M$16:M1983,TRUE),\"\")","v":""},{"$f":"IFERROR(INDEX($J$16:$J$2822,MATCH(ROWS($J$16:J1983),$N$16:$N$2822,0)),\"\")","v":""}]
["28","01","04","3","280104","Gmina miejsko-wiejska","WARMIŃSKO-MAZURSKIE","bartoszycki","BISZTYNEK","BISZTYNEK - Gmina miejsko-wiejska / Powiat bartoszycki / Województwo  - WARMIŃSKO-MAZURSKIE / 280104 / ",18976516,21033752,{"$f":"ISNUMBER(SEARCH(Wyszukiwarka!$A$1,'Porównanie dochodów JST'!J1984))","v":false},{"$f":"IF(M1984,COUNTIF($M$16:M1984,TRUE),\"\")","v":""},{"$f":"IFERROR(INDEX($J$16:$J$2822,MATCH(ROWS($J$16:J1984),$N$16:$N$2822,0)),\"\")","v":""}]
["28","01","05","2","280105","Gmina wiejska","WARMIŃSKO-MAZURSKIE","bartoszycki","GÓROWO IŁAWECKIE","GÓROWO IŁAWECKIE - Gmina wiejska / Powiat bartoszycki / Województwo  - WARMIŃSKO-MAZURSKIE / 280105 / ",20183065,23308670.560000002,{"$f":"ISNUMBER(SEARCH(Wyszukiwarka!$A$1,'Porównanie dochodów JST'!J1985))","v":false},{"$f":"IF(M1985,COUNTIF($M$16:M1985,TRUE),\"\")","v":""},{"$f":"IFERROR(INDEX($J$16:$J$2822,MATCH(ROWS($J$16:J1985),$N$16:$N$2822,0)),\"\")","v":""}]
["28","01","06","3","280106","Gmina miejsko-wiejska","WARMIŃSKO-MAZURSKIE","bartoszycki","SĘPOPOL","SĘPOPOL - Gmina miejsko-wiejska / Powiat bartoszycki / Województwo  - WARMIŃSKO-MAZURSKIE / 280106 / ",20504938,23596183.52,{"$f":"ISNUMBER(SEARCH(Wyszukiwarka!$A$1,'Porównanie dochodów JST'!J1986))","v":false},{"$f":"IF(M1986,COUNTIF($M$16:M1986,TRUE),\"\")","v":""},{"$f":"IFERROR(INDEX($J$16:$J$2822,MATCH(ROWS($J$16:J1986),$N$16:$N$2822,0)),\"\")","v":""}]
["28","02","01","1","280201","Gmina miejska","WARMIŃSKO-MAZURSKIE","braniewski","BRANIEWO","BRANIEWO - Gmina miejska / Powiat braniewski / Województwo  - WARMIŃSKO-MAZURSKIE / 280201 / ",54273269,61294410.507870957,{"$f":"ISNUMBER(SEARCH(Wyszukiwarka!$A$1,'Porównanie dochodów JST'!J1987))","v":false},{"$f":"IF(M1987,COUNTIF($M$16:M1987,TRUE),\"\")","v":""},{"$f":"IFERROR(INDEX($J$16:$J$2822,MATCH(ROWS($J$16:J1987),$N$16:$N$2822,0)),\"\")","v":""}]
["28","02","02","2","280202","Gmina wiejska","WARMIŃSKO-MAZURSKIE","braniewski","BRANIEWO","BRANIEWO - Gmina wiejska / Powiat braniewski / Województwo  - WARMIŃSKO-MAZURSKIE / 280202 / ",12153304,13962681.699999999,{"$f":"ISNUMBER(SEARCH(Wyszukiwarka!$A$1,'Porównanie dochodów JST'!J1988))","v":false},{"$f":"IF(M1988,COUNTIF($M$16:M1988,TRUE),\"\")","v":""},{"$f":"IFERROR(INDEX($J$16:$J$2822,MATCH(ROWS($J$16:J1988),$N$16:$N$2822,0)),\"\")","v":""}]
["28","02","03","3","280203","Gmina miejsko-wiejska","WARMIŃSKO-MAZURSKIE","braniewski","FROMBORK","FROMBORK - Gmina miejsko-wiejska / Powiat braniewski / Województwo  - WARMIŃSKO-MAZURSKIE / 280203 / ",10174620,11489015,{"$f":"ISNUMBER(SEARCH(Wyszukiwarka!$A$1,'Porównanie dochodów JST'!J1989))","v":false},{"$f":"IF(M1989,COUNTIF($M$16:M1989,TRUE),\"\")","v":""},{"$f":"IFERROR(INDEX($J$16:$J$2822,MATCH(ROWS($J$16:J1989),$N$16:$N$2822,0)),\"\")","v":""}]
["28","02","04","2","280204","Gmina wiejska","WARMIŃSKO-MAZURSKIE","braniewski","LELKOWO","LELKOWO - Gmina wiejska / Powiat braniewski / Województwo  - WARMIŃSKO-MAZURSKIE / 280204 / ",7485911,8647279.2000000011,{"$f":"ISNUMBER(SEARCH(Wyszukiwarka!$A$1,'Porównanie dochodów JST'!J1990))","v":false},{"$f":"IF(M1990,COUNTIF($M$16:M1990,TRUE),\"\")","v":""},{"$f":"IFERROR(INDEX($J$16:$J$2822,MATCH(ROWS($J$16:J1990),$N$16:$N$2822,0)),\"\")","v":""}]
["28","02","05","3","280205","Gmina miejsko-wiejska","WARMIŃSKO-MAZURSKIE","braniewski","PIENIĘŻNO","PIENIĘŻNO - Gmina miejsko-wiejska / Powiat braniewski / Województwo  - WARMIŃSKO-MAZURSKIE / 280205 / ",18446230,21277921.280000001,{"$f":"ISNUMBER(SEARCH(Wyszukiwarka!$A$1,'Porównanie dochodów JST'!J1991))","v":false},{"$f":"IF(M1991,COUNTIF($M$16:M1991,TRUE),\"\")","v":""},{"$f":"IFERROR(INDEX($J$16:$J$2822,MATCH(ROWS($J$16:J1991),$N$16:$N$2822,0)),\"\")","v":""}]
["28","02","06","2","280206","Gmina wiejska","WARMIŃSKO-MAZURSKIE","braniewski","PŁOSKINIA","PŁOSKINIA - Gmina wiejska / Powiat braniewski / Województwo  - WARMIŃSKO-MAZURSKIE / 280206 / ",8561225,9799659.5199999996,{"$f":"ISNUMBER(SEARCH(Wyszukiwarka!$A$1,'Porównanie dochodów JST'!J1992))","v":false},{"$f":"IF(M1992,COUNTIF($M$16:M1992,TRUE),\"\")","v":""},{"$f":"IFERROR(INDEX($J$16:$J$2822,MATCH(ROWS($J$16:J1992),$N$16:$N$2822,0)),\"\")","v":""}]
["28","02","07","2","280207","Gmina wiejska","WARMIŃSKO-MAZURSKIE","braniewski","WILCZĘTA","WILCZĘTA - Gmina wiejska / Powiat braniewski / Województwo  - WARMIŃSKO-MAZURSKIE / 280207 / ",9002419,10357964.960000001,{"$f":"ISNUMBER(SEARCH(Wyszukiwarka!$A$1,'Porównanie dochodów JST'!J1993))","v":false},{"$f":"IF(M1993,COUNTIF($M$16:M1993,TRUE),\"\")","v":""},{"$f":"IFERROR(INDEX($J$16:$J$2822,MATCH(ROWS($J$16:J1993),$N$16:$N$2822,0)),\"\")","v":""}]
["28","03","01","1","280301","Gmina miejska","WARMIŃSKO-MAZURSKIE","działdowski","DZIAŁDOWO","DZIAŁDOWO - Gmina miejska / Powiat działdowski / Województwo  - WARMIŃSKO-MAZURSKIE / 280301 / ",66211535,72500480.232299998,{"$f":"ISNUMBER(SEARCH(Wyszukiwarka!$A$1,'Porównanie dochodów JST'!J1994))","v":false},{"$f":"IF(M1994,COUNTIF($M$16:M1994,TRUE),\"\")","v":""},{"$f":"IFERROR(INDEX($J$16:$J$2822,MATCH(ROWS($J$16:J1994),$N$16:$N$2822,0)),\"\")","v":""}]
["28","03","02","2","280302","Gmina wiejska","WARMIŃSKO-MAZURSKIE","działdowski","DZIAŁDOWO","DZIAŁDOWO - Gmina wiejska / Powiat działdowski / Województwo  - WARMIŃSKO-MAZURSKIE / 280302 / ",36485281,39949654,{"$f":"ISNUMBER(SEARCH(Wyszukiwarka!$A$1,'Porównanie dochodów JST'!J1995))","v":false},{"$f":"IF(M1995,COUNTIF($M$16:M1995,TRUE),\"\")","v":""},{"$f":"IFERROR(INDEX($J$16:$J$2822,MATCH(ROWS($J$16:J1995),$N$16:$N$2822,0)),\"\")","v":""}]
["28","03","03","2","280303","Gmina wiejska","WARMIŃSKO-MAZURSKIE","działdowski","IŁOWO-OSADA","IŁOWO-OSADA - Gmina wiejska / Powiat działdowski / Województwo  - WARMIŃSKO-MAZURSKIE / 280303 / ",27228437,29890440,{"$f":"ISNUMBER(SEARCH(Wyszukiwarka!$A$1,'Porównanie dochodów JST'!J1996))","v":false},{"$f":"IF(M1996,COUNTIF($M$16:M1996,TRUE),\"\")","v":""},{"$f":"IFERROR(INDEX($J$16:$J$2822,MATCH(ROWS($J$16:J1996),$N$16:$N$2822,0)),\"\")","v":""}]
["28","03","04","3","280304","Gmina miejsko-wiejska","WARMIŃSKO-MAZURSKIE","działdowski","LIDZBARK","LIDZBARK - Gmina miejsko-wiejska / Powiat działdowski / Województwo  - WARMIŃSKO-MAZURSKIE / 280304 / ",49548423,53855603.958316691,{"$f":"ISNUMBER(SEARCH(Wyszukiwarka!$A$1,'Porównanie dochodów JST'!J1997))","v":false},{"$f":"IF(M1997,COUNTIF($M$16:M1997,TRUE),\"\")","v":""},{"$f":"IFERROR(INDEX($J$16:$J$2822,MATCH(ROWS($J$16:J1997),$N$16:$N$2822,0)),\"\")","v":""}]
["28","03","05","2","280305","Gmina wiejska","WARMIŃSKO-MAZURSKIE","działdowski","PŁOŚNICA","PŁOŚNICA - Gmina wiejska / Powiat działdowski / Województwo  - WARMIŃSKO-MAZURSKIE / 280305 / ",21177513,23181460,{"$f":"ISNUMBER(SEARCH(Wyszukiwarka!$A$1,'Porównanie dochodów JST'!J1998))","v":false},{"$f":"IF(M1998,COUNTIF($M$16:M1998,TRUE),\"\")","v":""},{"$f":"IFERROR(INDEX($J$16:$J$2822,MATCH(ROWS($J$16:J1998),$N$16:$N$2822,0)),\"\")","v":""}]
["28","03","06","2","280306","Gmina wiejska","WARMIŃSKO-MAZURSKIE","działdowski","RYBNO","RYBNO - Gmina wiejska / Powiat działdowski / Województwo  - WARMIŃSKO-MAZURSKIE / 280306 / ",31006676,33688359,{"$f":"ISNUMBER(SEARCH(Wyszukiwarka!$A$1,'Porównanie dochodów JST'!J1999))","v":false},{"$f":"IF(M1999,COUNTIF($M$16:M1999,TRUE),\"\")","v":""},{"$f":"IFERROR(INDEX($J$16:$J$2822,MATCH(ROWS($J$16:J1999),$N$16:$N$2822,0)),\"\")","v":""}]
["28","04","01","2","280401","Gmina wiejska","WARMIŃSKO-MAZURSKIE","elbląski","ELBLĄG","ELBLĄG - Gmina wiejska / Powiat elbląski / Województwo  - WARMIŃSKO-MAZURSKIE / 280401 / ",23905510,26699383,{"$f":"ISNUMBER(SEARCH(Wyszukiwarka!$A$1,'Porównanie dochodów JST'!J2000))","v":false},{"$f":"IF(M2000,COUNTIF($M$16:M2000,TRUE),\"\")","v":""},{"$f":"IFERROR(INDEX($J$16:$J$2822,MATCH(ROWS($J$16:J2000),$N$16:$N$2822,0)),\"\")","v":""}]
["28","04","02","2","280402","Gmina wiejska","WARMIŃSKO-MAZURSKIE","elbląski","GODKOWO",{"$f":"I2001&$H$12&F2001&$G$12&$H$14&H2001&$G$12&$G$14&$H$12&G2001&$G$12&E2001&$G$12","v":"GODKOWO - Gmina wiejska / Powiat elbląski / Województwo  - WARMIŃSKO-MAZURSKIE / 280402 / "},10718800,12314105.439999999,{"$f":"ISNUMBER(SEARCH(Wyszukiwarka!$A$1,'Porównanie dochodów JST'!J2001))","v":false},{"$f":"IF(M2001,COUNTIF($M$16:M2001,TRUE),\"\")","v":""},{"$f":"IFERROR(INDEX($J$16:$J$2822,MATCH(ROWS($J$16:J2001),$N$16:$N$2822,0)),\"\")","v":""}]
["28","04","03","2","280403","Gmina wiejska","WARMIŃSKO-MAZURSKIE","elbląski","GRONOWO ELBLĄSKIE","GRONOWO ELBLĄSKIE - Gmina wiejska / Powiat elbląski / Województwo  - WARMIŃSKO-MAZURSKIE / 280403 / ",16007199,17968447,{"$f":"ISNUMBER(SEARCH(Wyszukiwarka!$A$1,'Porównanie dochodów JST'!J2002))","v":false},{"$f":"IF(M2002,COUNTIF($M$16:M2002,TRUE),\"\")","v":""},{"$f":"IFERROR(INDEX($J$16:$J$2822,MATCH(ROWS($J$16:J2002),$N$16:$N$2822,0)),\"\")","v":""}]
["28","04","04","2","280404","Gmina wiejska","WARMIŃSKO-MAZURSKIE","elbląski","MARKUSY","MARKUSY - Gmina wiejska / Powiat elbląski / Województwo  - WARMIŃSKO-MAZURSKIE / 280404 / ",14307080,15841961.599062618,{"$f":"ISNUMBER(SEARCH(Wyszukiwarka!$A$1,'Porównanie dochodów JST'!J2003))","v":false},{"$f":"IF(M2003,COUNTIF($M$16:M2003,TRUE),\"\")","v":""},{"$f":"IFERROR(INDEX($J$16:$J$2822,MATCH(ROWS($J$16:J2003),$N$16:$N$2822,0)),\"\")","v":""}]
["28","04","05","2","280405","Gmina wiejska","WARMIŃSKO-MAZURSKIE","elbląski","MILEJEWO","MILEJEWO - Gmina wiejska / Powiat elbląski / Województwo  - WARMIŃSKO-MAZURSKIE / 280405 / ",10479253,11794897.9793,{"$f":"ISNUMBER(SEARCH(Wyszukiwarka!$A$1,'Porównanie dochodów JST'!J2004))","v":false},{"$f":"IF(M2004,COUNTIF($M$16:M2004,TRUE),\"\")","v":""},{"$f":"IFERROR(INDEX($J$16:$J$2822,MATCH(ROWS($J$16:J2004),$N$16:$N$2822,0)),\"\")","v":""}]
["28","04","06","3","280406","Gmina miejsko-wiejska","WARMIŃSKO-MAZURSKIE","elbląski","MŁYNARY","MŁYNARY - Gmina miejsko-wiejska / Powiat elbląski / Województwo  - WARMIŃSKO-MAZURSKIE / 280406 / ",15090055,17375173.759999998,{"$f":"ISNUMBER(SEARCH(Wyszukiwarka!$A$1,'Porównanie dochodów JST'!J2005))","v":false},{"$f":"IF(M2005,COUNTIF($M$16:M2005,TRUE),\"\")","v":""},{"$f":"IFERROR(INDEX($J$16:$J$2822,MATCH(ROWS($J$16:J2005),$N$16:$N$2822,0)),\"\")","v":""}]
["28","04","07","3","280407","Gmina miejsko-wiejska","WARMIŃSKO-MAZURSKIE","elbląski","PASŁĘK","PASŁĘK - Gmina miejsko-wiejska / Powiat elbląski / Województwo  - WARMIŃSKO-MAZURSKIE / 280407 / ",57556954,62816275,{"$f":"ISNUMBER(SEARCH(Wyszukiwarka!$A$1,'Porównanie dochodów JST'!J2006))","v":false},{"$f":"IF(M2006,COUNTIF($M$16:M2006,TRUE),\"\")","v":""},{"$f":"IFERROR(INDEX($J$16:$J$2822,MATCH(ROWS($J$16:J2006),$N$16:$N$2822,0)),\"\")","v":""}]
["28","04","08","2","280408","Gmina wiejska","WARMIŃSKO-MAZURSKIE","elbląski","RYCHLIKI","RYCHLIKI - Gmina wiejska / Powiat elbląski / Województwo  - WARMIŃSKO-MAZURSKIE / 280408 / ",11431263,12777592.609999999,{"$f":"ISNUMBER(SEARCH(Wyszukiwarka!$A$1,'Porównanie dochodów JST'!J2007))","v":false},{"$f":"IF(M2007,COUNTIF($M$16:M2007,TRUE),\"\")","v":""},{"$f":"IFERROR(INDEX($J$16:$J$2822,MATCH(ROWS($J$16:J2007),$N$16:$N$2822,0)),\"\")","v":""}]
["28","04","09","3","280409","Gmina miejsko-wiejska","WARMIŃSKO-MAZURSKIE","elbląski","TOLKMICKO","TOLKMICKO - Gmina miejsko-wiejska / Powiat elbląski / Województwo  - WARMIŃSKO-MAZURSKIE / 280409 / ",23432539,26921260.800000001,{"$f":"ISNUMBER(SEARCH(Wyszukiwarka!$A$1,'Porównanie dochodów JST'!J2008))","v":false},{"$f":"IF(M2008,COUNTIF($M$16:M2008,TRUE),\"\")","v":""},{"$f":"IFERROR(INDEX($J$16:$J$2822,MATCH(ROWS($J$16:J2008),$N$16:$N$2822,0)),\"\")","v":""}]
["28","05","01","1","280501","Gmina miejska","WARMIŃSKO-MAZURSKIE","ełcki","EŁK","EŁK - Gmina miejska / Powiat ełcki / Województwo  - WARMIŃSKO-MAZURSKIE / 280501 / ",203431439,220468253.71726689,{"$f":"ISNUMBER(SEARCH(Wyszukiwarka!$A$1,'Porównanie dochodów JST'!J2009))","v":false},{"$f":"IF(M2009,COUNTIF($M$16:M2009,TRUE),\"\")","v":""},{"$f":"IFERROR(INDEX($J$16:$J$2822,MATCH(ROWS($J$16:J2009),$N$16:$N$2822,0)),\"\")","v":""}]
["28","05","02","2","280502","Gmina wiejska","WARMIŃSKO-MAZURSKIE","ełcki","EŁK","EŁK - Gmina wiejska / Powiat ełcki / Województwo  - WARMIŃSKO-MAZURSKIE / 280502 / ",44992022,49186728.538697489,{"$f":"ISNUMBER(SEARCH(Wyszukiwarka!$A$1,'Porównanie dochodów JST'!J2010))","v":false},{"$f":"IF(M2010,COUNTIF($M$16:M2010,TRUE),\"\")","v":""},{"$f":"IFERROR(INDEX($J$16:$J$2822,MATCH(ROWS($J$16:J2010),$N$16:$N$2822,0)),\"\")","v":""}]
["28","05","03","2","280503","Gmina wiejska","WARMIŃSKO-MAZURSKIE","ełcki","KALINOWO","KALINOWO - Gmina wiejska / Powiat ełcki / Województwo  - WARMIŃSKO-MAZURSKIE / 280503 / ",22488815,25865357.280000001,{"$f":"ISNUMBER(SEARCH(Wyszukiwarka!$A$1,'Porównanie dochodów JST'!J2011))","v":false},{"$f":"IF(M2011,COUNTIF($M$16:M2011,TRUE),\"\")","v":""},{"$f":"IFERROR(INDEX($J$16:$J$2822,MATCH(ROWS($J$16:J2011),$N$16:$N$2822,0)),\"\")","v":""}]
["28","05","04","2","280504","Gmina wiejska","WARMIŃSKO-MAZURSKIE","ełcki","PROSTKI","PROSTKI - Gmina wiejska / Powiat ełcki / Województwo  - WARMIŃSKO-MAZURSKIE / 280504 / ",22343364,25020602,{"$f":"ISNUMBER(SEARCH(Wyszukiwarka!$A$1,'Porównanie dochodów JST'!J2012))","v":false},{"$f":"IF(M2012,COUNTIF($M$16:M2012,TRUE),\"\")","v":""},{"$f":"IFERROR(INDEX($J$16:$J$2822,MATCH(ROWS($J$16:J2012),$N$16:$N$2822,0)),\"\")","v":""}]
["28","05","05","2","280505","Gmina wiejska","WARMIŃSKO-MAZURSKIE","ełcki","STARE JUCHY","STARE JUCHY - Gmina wiejska / Powiat ełcki / Województwo  - WARMIŃSKO-MAZURSKIE / 280505 / ",9972346,11300622.640000001,{"$f":"ISNUMBER(SEARCH(Wyszukiwarka!$A$1,'Porównanie dochodów JST'!J2013))","v":false},{"$f":"IF(M2013,COUNTIF($M$16:M2013,TRUE),\"\")","v":""},{"$f":"IFERROR(INDEX($J$16:$J$2822,MATCH(ROWS($J$16:J2013),$N$16:$N$2822,0)),\"\")","v":""}]
["28","06","01","1","280601","Gmina miejska","WARMIŃSKO-MAZURSKIE","giżycki","GIŻYCKO","GIŻYCKO - Gmina miejska / Powiat giżycki / Województwo  - WARMIŃSKO-MAZURSKIE / 280601 / ",93751724,102689492.1638802,{"$f":"ISNUMBER(SEARCH(Wyszukiwarka!$A$1,'Porównanie dochodów JST'!J2014))","v":false},{"$f":"IF(M2014,COUNTIF($M$16:M2014,TRUE),\"\")","v":""},{"$f":"IFERROR(INDEX($J$16:$J$2822,MATCH(ROWS($J$16:J2014),$N$16:$N$2822,0)),\"\")","v":""}]
["28","06","04","2","280604","Gmina wiejska","WARMIŃSKO-MAZURSKIE","giżycki","GIŻYCKO","GIŻYCKO - Gmina wiejska / Powiat giżycki / Województwo  - WARMIŃSKO-MAZURSKIE / 280604 / ",30387195,33718757,{"$f":"ISNUMBER(SEARCH(Wyszukiwarka!$A$1,'Porównanie dochodów JST'!J2015))","v":false},{"$f":"IF(M2015,COUNTIF($M$16:M2015,TRUE),\"\")","v":""},{"$f":"IFERROR(INDEX($J$16:$J$2822,MATCH(ROWS($J$16:J2015),$N$16:$N$2822,0)),\"\")","v":""}]
["28","06","05","2","280605","Gmina wiejska","WARMIŃSKO-MAZURSKIE","giżycki","KRUKLANKI","KRUKLANKI - Gmina wiejska / Powiat giżycki / Województwo  - WARMIŃSKO-MAZURSKIE / 280605 / ",9767307,11072098,{"$f":"ISNUMBER(SEARCH(Wyszukiwarka!$A$1,'Porównanie dochodów JST'!J2016))","v":false},{"$f":"IF(M2016,COUNTIF($M$16:M2016,TRUE),\"\")","v":""},{"$f":"IFERROR(INDEX($J$16:$J$2822,MATCH(ROWS($J$16:J2016),$N$16:$N$2822,0)),\"\")","v":""}]
["28","06","06","2","280606","Gmina wiejska","WARMIŃSKO-MAZURSKIE","giżycki","MIŁKI","MIŁKI - Gmina wiejska / Powiat giżycki / Województwo  - WARMIŃSKO-MAZURSKIE / 280606 / ",11425830,12968064.23,{"$f":"ISNUMBER(SEARCH(Wyszukiwarka!$A$1,'Porównanie dochodów JST'!J2017))","v":false},{"$f":"IF(M2017,COUNTIF($M$16:M2017,TRUE),\"\")","v":""},{"$f":"IFERROR(INDEX($J$16:$J$2822,MATCH(ROWS($J$16:J2017),$N$16:$N$2822,0)),\"\")","v":""}]
["28","06","08","3","280608","Gmina miejsko-wiejska","WARMIŃSKO-MAZURSKIE","giżycki","RYN","RYN - Gmina miejsko-wiejska / Powiat giżycki / Województwo  - WARMIŃSKO-MAZURSKIE / 280608 / ",17785781,19824742,{"$f":"ISNUMBER(SEARCH(Wyszukiwarka!$A$1,'Porównanie dochodów JST'!J2018))","v":false},{"$f":"IF(M2018,COUNTIF($M$16:M2018,TRUE),\"\")","v":""},{"$f":"IFERROR(INDEX($J$16:$J$2822,MATCH(ROWS($J$16:J2018),$N$16:$N$2822,0)),\"\")","v":""}]
["28","06","10","2","280610","Gmina wiejska","WARMIŃSKO-MAZURSKIE","giżycki","WYDMINY","WYDMINY - Gmina wiejska / Powiat giżycki / Województwo  - WARMIŃSKO-MAZURSKIE / 280610 / ",22313772,24395616,{"$f":"ISNUMBER(SEARCH(Wyszukiwarka!$A$1,'Porównanie dochodów JST'!J2019))","v":false},{"$f":"IF(M2019,COUNTIF($M$16:M2019,TRUE),\"\")","v":""},{"$f":"IFERROR(INDEX($J$16:$J$2822,MATCH(ROWS($J$16:J2019),$N$16:$N$2822,0)),\"\")","v":""}]
["28","07","01","1","280701","Gmina miejska","WARMIŃSKO-MAZURSKIE","iławski","IŁAWA","IŁAWA - Gmina miejska / Powiat iławski / Województwo  - WARMIŃSKO-MAZURSKIE / 280701 / ",113231103,130224338.72,{"$f":"ISNUMBER(SEARCH(Wyszukiwarka!$A$1,'Porównanie dochodów JST'!J2020))","v":false},{"$f":"IF(M2020,COUNTIF($M$16:M2020,TRUE),\"\")","v":""},{"$f":"IFERROR(INDEX($J$16:$J$2822,MATCH(ROWS($J$16:J2020),$N$16:$N$2822,0)),\"\")","v":""}]
["28","07","02","1","280702","Gmina miejska","WARMIŃSKO-MAZURSKIE","iławski","LUBAWA","LUBAWA - Gmina miejska / Powiat iławski / Województwo  - WARMIŃSKO-MAZURSKIE / 280702 / ",30628638,35337032.640000001,{"$f":"ISNUMBER(SEARCH(Wyszukiwarka!$A$1,'Porównanie dochodów JST'!J2021))","v":false},{"$f":"IF(M2021,COUNTIF($M$16:M2021,TRUE),\"\")","v":""},{"$f":"IFERROR(INDEX($J$16:$J$2822,MATCH(ROWS($J$16:J2021),$N$16:$N$2822,0)),\"\")","v":""}]
["28","07","03","2","280703","Gmina wiejska","WARMIŃSKO-MAZURSKIE","iławski","IŁAWA","IŁAWA - Gmina wiejska / Powiat iławski / Województwo  - WARMIŃSKO-MAZURSKIE / 280703 / ",42991032,47363189.799235612,{"$f":"ISNUMBER(SEARCH(Wyszukiwarka!$A$1,'Porównanie dochodów JST'!J2022))","v":false},{"$f":"IF(M2022,COUNTIF($M$16:M2022,TRUE),\"\")","v":""},{"$f":"IFERROR(INDEX($J$16:$J$2822,MATCH(ROWS($J$16:J2022),$N$16:$N$2822,0)),\"\")","v":""}]
["28","07","04","3","280704","Gmina miejsko-wiejska","WARMIŃSKO-MAZURSKIE","iławski","KISIELICE","KISIELICE - Gmina miejsko-wiejska / Powiat iławski / Województwo  - WARMIŃSKO-MAZURSKIE / 280704 / ",18512414,21347795.84,{"$f":"ISNUMBER(SEARCH(Wyszukiwarka!$A$1,'Porównanie dochodów JST'!J2023))","v":false},{"$f":"IF(M2023,COUNTIF($M$16:M2023,TRUE),\"\")","v":""},{"$f":"IFERROR(INDEX($J$16:$J$2822,MATCH(ROWS($J$16:J2023),$N$16:$N$2822,0)),\"\")","v":""}]
["28","07","05","2","280705","Gmina wiejska","WARMIŃSKO-MAZURSKIE","iławski","LUBAWA","LUBAWA - Gmina wiejska / Powiat iławski / Województwo  - WARMIŃSKO-MAZURSKIE / 280705 / ",49001040,56037298.239999995,{"$f":"ISNUMBER(SEARCH(Wyszukiwarka!$A$1,'Porównanie dochodów JST'!J2024))","v":false},{"$f":"IF(M2024,COUNTIF($M$16:M2024,TRUE),\"\")","v":""},{"$f":"IFERROR(INDEX($J$16:$J$2822,MATCH(ROWS($J$16:J2024),$N$16:$N$2822,0)),\"\")","v":""}]
["28","07","06","3","280706","Gmina miejsko-wiejska","WARMIŃSKO-MAZURSKIE","iławski","SUSZ","SUSZ - Gmina miejsko-wiejska / Powiat iławski / Województwo  - WARMIŃSKO-MAZURSKIE / 280706 / ",40787289,46970971.264394566,{"$f":"ISNUMBER(SEARCH(Wyszukiwarka!$A$1,'Porównanie dochodów JST'!J2025))","v":false},{"$f":"IF(M2025,COUNTIF($M$16:M2025,TRUE),\"\")","v":""},{"$f":"IFERROR(INDEX($J$16:$J$2822,MATCH(ROWS($J$16:J2025),$N$16:$N$2822,0)),\"\")","v":""}]
["28","07","07","3","280707","Gmina miejsko-wiejska","WARMIŃSKO-MAZURSKIE","iławski","ZALEWO","ZALEWO - Gmina miejsko-wiejska / Powiat iławski / Województwo  - WARMIŃSKO-MAZURSKIE / 280707 / ",19913436,22526313,{"$f":"ISNUMBER(SEARCH(Wyszukiwarka!$A$1,'Porównanie dochodów JST'!J2026))","v":false},{"$f":"IF(M2026,COUNTIF($M$16:M2026,TRUE),\"\")","v":""},{"$f":"IFERROR(INDEX($J$16:$J$2822,MATCH(ROWS($J$16:J2026),$N$16:$N$2822,0)),\"\")","v":""}]
["28","08","01","1","280801","Gmina miejska","WARMIŃSKO-MAZURSKIE","kętrzyński","KĘTRZYN","KĘTRZYN - Gmina miejska / Powiat kętrzyński / Województwo  - WARMIŃSKO-MAZURSKIE / 280801 / ",84572246,93234221.940608457,{"$f":"ISNUMBER(SEARCH(Wyszukiwarka!$A$1,'Porównanie dochodów JST'!J2027))","v":false},{"$f":"IF(M2027,COUNTIF($M$16:M2027,TRUE),\"\")","v":""},{"$f":"IFERROR(INDEX($J$16:$J$2822,MATCH(ROWS($J$16:J2027),$N$16:$N$2822,0)),\"\")","v":""}]
["28","08","02","2","280802","Gmina wiejska","WARMIŃSKO-MAZURSKIE","kętrzyński","BARCIANY","BARCIANY - Gmina wiejska / Powiat kętrzyński / Województwo  - WARMIŃSKO-MAZURSKIE / 280802 / ",18877440,21771237.600000001,{"$f":"ISNUMBER(SEARCH(Wyszukiwarka!$A$1,'Porównanie dochodów JST'!J2028))","v":false},{"$f":"IF(M2028,COUNTIF($M$16:M2028,TRUE),\"\")","v":""},{"$f":"IFERROR(INDEX($J$16:$J$2822,MATCH(ROWS($J$16:J2028),$N$16:$N$2822,0)),\"\")","v":""}]
["28","08","03","2","280803","Gmina wiejska","WARMIŃSKO-MAZURSKIE","kętrzyński","KĘTRZYN","KĘTRZYN - Gmina wiejska / Powiat kętrzyński / Województwo  - WARMIŃSKO-MAZURSKIE / 280803 / ",24381093,28159510.400000002,{"$f":"ISNUMBER(SEARCH(Wyszukiwarka!$A$1,'Porównanie dochodów JST'!J2029))","v":false},{"$f":"IF(M2029,COUNTIF($M$16:M2029,TRUE),\"\")","v":""},{"$f":"IFERROR(INDEX($J$16:$J$2822,MATCH(ROWS($J$16:J2029),$N$16:$N$2822,0)),\"\")","v":""}]
["28","08","04","3","280804","Gmina miejsko-wiejska","WARMIŃSKO-MAZURSKIE","kętrzyński","KORSZE","KORSZE - Gmina miejsko-wiejska / Powiat kętrzyński / Województwo  - WARMIŃSKO-MAZURSKIE / 280804 / ",27451435,31707368,{"$f":"ISNUMBER(SEARCH(Wyszukiwarka!$A$1,'Porównanie dochodów JST'!J2030))","v":false},{"$f":"IF(M2030,COUNTIF($M$16:M2030,TRUE),\"\")","v":""},{"$f":"IFERROR(INDEX($J$16:$J$2822,MATCH(ROWS($J$16:J2030),$N$16:$N$2822,0)),\"\")","v":""}]
["28","08","05","3","280805","Gmina miejsko-wiejska","WARMIŃSKO-MAZURSKIE","kętrzyński","RESZEL","RESZEL - Gmina miejsko-wiejska / Powiat kętrzyński / Województwo  - WARMIŃSKO-MAZURSKIE / 280805 / ",20933188,23592513,{"$f":"ISNUMBER(SEARCH(Wyszukiwarka!$A$1,'Porównanie dochodów JST'!J2031))","v":false},{"$f":"IF(M2031,COUNTIF($M$16:M2031,TRUE),\"\")","v":""},{"$f":"IFERROR(INDEX($J$16:$J$2822,MATCH(ROWS($J$16:J2031),$N$16:$N$2822,0)),\"\")","v":""}]
["28","08","06","2","280806","Gmina wiejska","WARMIŃSKO-MAZURSKIE","kętrzyński","SROKOWO","SROKOWO - Gmina wiejska / Powiat kętrzyński / Województwo  - WARMIŃSKO-MAZURSKIE / 280806 / ",11973890,13316572,{"$f":"ISNUMBER(SEARCH(Wyszukiwarka!$A$1,'Porównanie dochodów JST'!J2032))","v":false},{"$f":"IF(M2032,COUNTIF($M$16:M2032,TRUE),\"\")","v":""},{"$f":"IFERROR(INDEX($J$16:$J$2822,MATCH(ROWS($J$16:J2032),$N$16:$N$2822,0)),\"\")","v":""}]
["28","09","01","1","280901","Gmina miejska","WARMIŃSKO-MAZURSKIE","lidzbarski","LIDZBARK WARMIŃSKI","LIDZBARK WARMIŃSKI - Gmina miejska / Powiat lidzbarski / Województwo  - WARMIŃSKO-MAZURSKIE / 280901 / ",47662338,54887607.039999999,{"$f":"ISNUMBER(SEARCH(Wyszukiwarka!$A$1,'Porównanie dochodów JST'!J2033))","v":false},{"$f":"IF(M2033,COUNTIF($M$16:M2033,TRUE),\"\")","v":""},{"$f":"IFERROR(INDEX($J$16:$J$2822,MATCH(ROWS($J$16:J2033),$N$16:$N$2822,0)),\"\")","v":""}]
["28","09","02","2","280902","Gmina wiejska","WARMIŃSKO-MAZURSKIE","lidzbarski","KIWITY","KIWITY - Gmina wiejska / Powiat lidzbarski / Województwo  - WARMIŃSKO-MAZURSKIE / 280902 / ",13684332,14992039.51,{"$f":"ISNUMBER(SEARCH(Wyszukiwarka!$A$1,'Porównanie dochodów JST'!J2034))","v":false},{"$f":"IF(M2034,COUNTIF($M$16:M2034,TRUE),\"\")","v":""},{"$f":"IFERROR(INDEX($J$16:$J$2822,MATCH(ROWS($J$16:J2034),$N$16:$N$2822,0)),\"\")","v":""}]
["28","09","03","2","280903","Gmina wiejska","WARMIŃSKO-MAZURSKIE","lidzbarski","LIDZBARK WARMIŃSKI","LIDZBARK WARMIŃSKI - Gmina wiejska / Powiat lidzbarski / Województwo  - WARMIŃSKO-MAZURSKIE / 280903 / ",18995526,21608198.394788817,{"$f":"ISNUMBER(SEARCH(Wyszukiwarka!$A$1,'Porównanie dochodów JST'!J2035))","v":false},{"$f":"IF(M2035,COUNTIF($M$16:M2035,TRUE),\"\")","v":""},{"$f":"IFERROR(INDEX($J$16:$J$2822,MATCH(ROWS($J$16:J2035),$N$16:$N$2822,0)),\"\")","v":""}]
["28","09","04","2","280904","Gmina wiejska","WARMIŃSKO-MAZURSKIE","lidzbarski","LUBOMINO","LUBOMINO - Gmina wiejska / Powiat lidzbarski / Województwo  - WARMIŃSKO-MAZURSKIE / 280904 / ",13849609,15878502.08,{"$f":"ISNUMBER(SEARCH(Wyszukiwarka!$A$1,'Porównanie dochodów JST'!J2036))","v":false},{"$f":"IF(M2036,COUNTIF($M$16:M2036,TRUE),\"\")","v":""},{"$f":"IFERROR(INDEX($J$16:$J$2822,MATCH(ROWS($J$16:J2036),$N$16:$N$2822,0)),\"\")","v":""}]
["28","09","05","3","280905","Gmina miejsko-wiejska","WARMIŃSKO-MAZURSKIE","lidzbarski","ORNETA","ORNETA - Gmina miejsko-wiejska / Powiat lidzbarski / Województwo  - WARMIŃSKO-MAZURSKIE / 280905 / ",37849776,41935822,{"$f":"ISNUMBER(SEARCH(Wyszukiwarka!$A$1,'Porównanie dochodów JST'!J2037))","v":false},{"$f":"IF(M2037,COUNTIF($M$16:M2037,TRUE),\"\")","v":""},{"$f":"IFERROR(INDEX($J$16:$J$2822,MATCH(ROWS($J$16:J2037),$N$16:$N$2822,0)),\"\")","v":""}]
["28","10","01","1","281001","Gmina miejska","WARMIŃSKO-MAZURSKIE","mrągowski","MRĄGOWO","MRĄGOWO - Gmina miejska / Powiat mrągowski / Województwo  - WARMIŃSKO-MAZURSKIE / 281001 / ",68953311,75436054.367366642,{"$f":"ISNUMBER(SEARCH(Wyszukiwarka!$A$1,'Porównanie dochodów JST'!J2038))","v":false},{"$f":"IF(M2038,COUNTIF($M$16:M2038,TRUE),\"\")","v":""},{"$f":"IFERROR(INDEX($J$16:$J$2822,MATCH(ROWS($J$16:J2038),$N$16:$N$2822,0)),\"\")","v":""}]
["28","10","02","3","281002","Gmina miejsko-wiejska","WARMIŃSKO-MAZURSKIE","mrągowski","MIKOŁAJKI","MIKOŁAJKI - Gmina miejsko-wiejska / Powiat mrągowski / Województwo  - WARMIŃSKO-MAZURSKIE / 281002 / ",26329526,30053588.32,{"$f":"ISNUMBER(SEARCH(Wyszukiwarka!$A$1,'Porównanie dochodów JST'!J2039))","v":false},{"$f":"IF(M2039,COUNTIF($M$16:M2039,TRUE),\"\")","v":""},{"$f":"IFERROR(INDEX($J$16:$J$2822,MATCH(ROWS($J$16:J2039),$N$16:$N$2822,0)),\"\")","v":""}]
["28","10","03","2","281003","Gmina wiejska","WARMIŃSKO-MAZURSKIE","mrągowski","MRĄGOWO","MRĄGOWO - Gmina wiejska / Powiat mrągowski / Województwo  - WARMIŃSKO-MAZURSKIE / 281003 / ",23725280,27000028,{"$f":"ISNUMBER(SEARCH(Wyszukiwarka!$A$1,'Porównanie dochodów JST'!J2040))","v":false},{"$f":"IF(M2040,COUNTIF($M$16:M2040,TRUE),\"\")","v":""},{"$f":"IFERROR(INDEX($J$16:$J$2822,MATCH(ROWS($J$16:J2040),$N$16:$N$2822,0)),\"\")","v":""}]
["28","10","04","2","281004","Gmina wiejska","WARMIŃSKO-MAZURSKIE","mrągowski","PIECKI","PIECKI - Gmina wiejska / Powiat mrągowski / Województwo  - WARMIŃSKO-MAZURSKIE / 281004 / ",24389438,27112043,{"$f":"ISNUMBER(SEARCH(Wyszukiwarka!$A$1,'Porównanie dochodów JST'!J2041))","v":false},{"$f":"IF(M2041,COUNTIF($M$16:M2041,TRUE),\"\")","v":""},{"$f":"IFERROR(INDEX($J$16:$J$2822,MATCH(ROWS($J$16:J2041),$N$16:$N$2822,0)),\"\")","v":""}]
["28","10","05","2","281005","Gmina wiejska","WARMIŃSKO-MAZURSKIE","mrągowski","SORKWITY","SORKWITY - Gmina wiejska / Powiat mrągowski / Województwo  - WARMIŃSKO-MAZURSKIE / 281005 / ",20050725,22951109.439999998,{"$f":"ISNUMBER(SEARCH(Wyszukiwarka!$A$1,'Porównanie dochodów JST'!J2042))","v":false},{"$f":"IF(M2042,COUNTIF($M$16:M2042,TRUE),\"\")","v":""},{"$f":"IFERROR(INDEX($J$16:$J$2822,MATCH(ROWS($J$16:J2042),$N$16:$N$2822,0)),\"\")","v":""}]
["28","11","01","2","281101","Gmina wiejska","WARMIŃSKO-MAZURSKIE","nidzicki","JANOWIEC KOŚCIELNY","JANOWIEC KOŚCIELNY - Gmina wiejska / Powiat nidzicki / Województwo  - WARMIŃSKO-MAZURSKIE / 281101 / ",12795843,14102501,{"$f":"ISNUMBER(SEARCH(Wyszukiwarka!$A$1,'Porównanie dochodów JST'!J2043))","v":false},{"$f":"IF(M2043,COUNTIF($M$16:M2043,TRUE),\"\")","v":""},{"$f":"IFERROR(INDEX($J$16:$J$2822,MATCH(ROWS($J$16:J2043),$N$16:$N$2822,0)),\"\")","v":""}]
["28","11","02","2","281102","Gmina wiejska","WARMIŃSKO-MAZURSKIE","nidzicki","JANOWO","JANOWO - Gmina wiejska / Powiat nidzicki / Województwo  - WARMIŃSKO-MAZURSKIE / 281102 / ",9948469,11425499.68,{"$f":"ISNUMBER(SEARCH(Wyszukiwarka!$A$1,'Porównanie dochodów JST'!J2044))","v":false},{"$f":"IF(M2044,COUNTIF($M$16:M2044,TRUE),\"\")","v":""},{"$f":"IFERROR(INDEX($J$16:$J$2822,MATCH(ROWS($J$16:J2044),$N$16:$N$2822,0)),\"\")","v":""}]
["28","11","03","2","281103","Gmina wiejska","WARMIŃSKO-MAZURSKIE","nidzicki","KOZŁOWO","KOZŁOWO - Gmina wiejska / Powiat nidzicki / Województwo  - WARMIŃSKO-MAZURSKIE / 281103 / ",21683894,23710708,{"$f":"ISNUMBER(SEARCH(Wyszukiwarka!$A$1,'Porównanie dochodów JST'!J2045))","v":false},{"$f":"IF(M2045,COUNTIF($M$16:M2045,TRUE),\"\")","v":""},{"$f":"IFERROR(INDEX($J$16:$J$2822,MATCH(ROWS($J$16:J2045),$N$16:$N$2822,0)),\"\")","v":""}]
["28","11","04","3","281104","Gmina miejsko-wiejska","WARMIŃSKO-MAZURSKIE","nidzicki","NIDZICA","NIDZICA - Gmina miejsko-wiejska / Powiat nidzicki / Województwo  - WARMIŃSKO-MAZURSKIE / 281104 / ",68896872,74353768.747659743,{"$f":"ISNUMBER(SEARCH(Wyszukiwarka!$A$1,'Porównanie dochodów JST'!J2046))","v":false},{"$f":"IF(M2046,COUNTIF($M$16:M2046,TRUE),\"\")","v":""},{"$f":"IFERROR(INDEX($J$16:$J$2822,MATCH(ROWS($J$16:J2046),$N$16:$N$2822,0)),\"\")","v":""}]
["28","12","01","1","281201","Gmina miejska","WARMIŃSKO-MAZURSKIE","nowomiejski","NOWE MIASTO LUBAWSKIE","NOWE MIASTO LUBAWSKIE - Gmina miejska / Powiat nowomiejski / Województwo  - WARMIŃSKO-MAZURSKIE / 281201 / ",35179664,39121017,{"$f":"ISNUMBER(SEARCH(Wyszukiwarka!$A$1,'Porównanie dochodów JST'!J2047))","v":false},{"$f":"IF(M2047,COUNTIF($M$16:M2047,TRUE),\"\")","v":""},{"$f":"IFERROR(INDEX($J$16:$J$2822,MATCH(ROWS($J$16:J2047),$N$16:$N$2822,0)),\"\")","v":""}]
["28","12","02","2","281202","Gmina wiejska","WARMIŃSKO-MAZURSKIE","nowomiejski","BISKUPIEC","BISKUPIEC - Gmina wiejska / Powiat nowomiejski / Województwo  - WARMIŃSKO-MAZURSKIE / 281202 / ",37757018,41118019,{"$f":"ISNUMBER(SEARCH(Wyszukiwarka!$A$1,'Porównanie dochodów JST'!J2048))","v":false},{"$f":"IF(M2048,COUNTIF($M$16:M2048,TRUE),\"\")","v":""},{"$f":"IFERROR(INDEX($J$16:$J$2822,MATCH(ROWS($J$16:J2048),$N$16:$N$2822,0)),\"\")","v":""}]
["28","12","03","2","281203","Gmina wiejska","WARMIŃSKO-MAZURSKIE","nowomiejski","GRODZICZNO","GRODZICZNO - Gmina wiejska / Powiat nowomiejski / Województwo  - WARMIŃSKO-MAZURSKIE / 281203 / ",25966083,28266828.075484589,{"$f":"ISNUMBER(SEARCH(Wyszukiwarka!$A$1,'Porównanie dochodów JST'!J2049))","v":false},{"$f":"IF(M2049,COUNTIF($M$16:M2049,TRUE),\"\")","v":""},{"$f":"IFERROR(INDEX($J$16:$J$2822,MATCH(ROWS($J$16:J2049),$N$16:$N$2822,0)),\"\")","v":""}]
["28","12","04","2","281204","Gmina wiejska","WARMIŃSKO-MAZURSKIE","nowomiejski","KURZĘTNIK","KURZĘTNIK - Gmina wiejska / Powiat nowomiejski / Województwo  - WARMIŃSKO-MAZURSKIE / 281204 / ",36695127,40084400,{"$f":"ISNUMBER(SEARCH(Wyszukiwarka!$A$1,'Porównanie dochodów JST'!J2050))","v":false},{"$f":"IF(M2050,COUNTIF($M$16:M2050,TRUE),\"\")","v":""},{"$f":"IFERROR(INDEX($J$16:$J$2822,MATCH(ROWS($J$16:J2050),$N$16:$N$2822,0)),\"\")","v":""}]
["28","12","05","2","281205","Gmina wiejska","WARMIŃSKO-MAZURSKIE","nowomiejski","NOWE MIASTO LUBAWSKIE","NOWE MIASTO LUBAWSKIE - Gmina wiejska / Powiat nowomiejski / Województwo  - WARMIŃSKO-MAZURSKIE / 281205 / ",34661977,37981893.76484821,{"$f":"ISNUMBER(SEARCH(Wyszukiwarka!$A$1,'Porównanie dochodów JST'!J2051))","v":false},{"$f":"IF(M2051,COUNTIF($M$16:M2051,TRUE),\"\")","v":""},{"$f":"IFERROR(INDEX($J$16:$J$2822,MATCH(ROWS($J$16:J2051),$N$16:$N$2822,0)),\"\")","v":""}]
["28","13","03","2","281303","Gmina wiejska","WARMIŃSKO-MAZURSKIE","olecki","KOWALE OLECKIE","KOWALE OLECKIE - Gmina wiejska / Powiat olecki / Województwo  - WARMIŃSKO-MAZURSKIE / 281303 / ",16707437,18662676,{"$f":"ISNUMBER(SEARCH(Wyszukiwarka!$A$1,'Porównanie dochodów JST'!J2052))","v":false},{"$f":"IF(M2052,COUNTIF($M$16:M2052,TRUE),\"\")","v":""},{"$f":"IFERROR(INDEX($J$16:$J$2822,MATCH(ROWS($J$16:J2052),$N$16:$N$2822,0)),\"\")","v":""}]
["28","13","04","3","281304","Gmina miejsko-wiejska","WARMIŃSKO-MAZURSKIE","olecki","OLECKO","OLECKO - Gmina miejsko-wiejska / Powiat olecki / Województwo  - WARMIŃSKO-MAZURSKIE / 281304 / ",72343686,81151435.126354098,{"$f":"ISNUMBER(SEARCH(Wyszukiwarka!$A$1,'Porównanie dochodów JST'!J2053))","v":false},{"$f":"IF(M2053,COUNTIF($M$16:M2053,TRUE),\"\")","v":""},{"$f":"IFERROR(INDEX($J$16:$J$2822,MATCH(ROWS($J$16:J2053),$N$16:$N$2822,0)),\"\")","v":""}]
["28","13","05","2","281305","Gmina wiejska","WARMIŃSKO-MAZURSKIE","olecki","ŚWIĘTAJNO","ŚWIĘTAJNO - Gmina wiejska / Powiat olecki / Województwo  - WARMIŃSKO-MAZURSKIE / 281305 / ",12325024,14178264.800000001,{"$f":"ISNUMBER(SEARCH(Wyszukiwarka!$A$1,'Porównanie dochodów JST'!J2054))","v":false},{"$f":"IF(M2054,COUNTIF($M$16:M2054,TRUE),\"\")","v":""},{"$f":"IFERROR(INDEX($J$16:$J$2822,MATCH(ROWS($J$16:J2054),$N$16:$N$2822,0)),\"\")","v":""}]
["28","13","06","2","281306","Gmina wiejska","WARMIŃSKO-MAZURSKIE","olecki","WIELICZKI","WIELICZKI - Gmina wiejska / Powiat olecki / Województwo  - WARMIŃSKO-MAZURSKIE / 281306 / ",10933832,12250228,{"$f":"ISNUMBER(SEARCH(Wyszukiwarka!$A$1,'Porównanie dochodów JST'!J2055))","v":false},{"$f":"IF(M2055,COUNTIF($M$16:M2055,TRUE),\"\")","v":""},{"$f":"IFERROR(INDEX($J$16:$J$2822,MATCH(ROWS($J$16:J2055),$N$16:$N$2822,0)),\"\")","v":""}]
["28","14","01","3","281401","Gmina miejsko-wiejska","WARMIŃSKO-MAZURSKIE","olsztyński","BARCZEWO","BARCZEWO - Gmina miejsko-wiejska / Powiat olsztyński / Województwo  - WARMIŃSKO-MAZURSKIE / 281401 / ",62188555,67533193,{"$f":"ISNUMBER(SEARCH(Wyszukiwarka!$A$1,'Porównanie dochodów JST'!J2056))","v":false},{"$f":"IF(M2056,COUNTIF($M$16:M2056,TRUE),\"\")","v":""},{"$f":"IFERROR(INDEX($J$16:$J$2822,MATCH(ROWS($J$16:J2056),$N$16:$N$2822,0)),\"\")","v":""}]
["28","14","02","3","281402","Gmina miejsko-wiejska","WARMIŃSKO-MAZURSKIE","olsztyński","BISKUPIEC","BISKUPIEC - Gmina miejsko-wiejska / Powiat olsztyński / Województwo  - WARMIŃSKO-MAZURSKIE / 281402 / ",56464321,61937653.755744182,{"$f":"ISNUMBER(SEARCH(Wyszukiwarka!$A$1,'Porównanie dochodów JST'!J2057))","v":false},{"$f":"IF(M2057,COUNTIF($M$16:M2057,TRUE),\"\")","v":""},{"$f":"IFERROR(INDEX($J$16:$J$2822,MATCH(ROWS($J$16:J2057),$N$16:$N$2822,0)),\"\")","v":""}]
["28","14","03","3","281403","Gmina miejsko-wiejska","WARMIŃSKO-MAZURSKIE","olsztyński","DOBRE MIASTO","DOBRE MIASTO - Gmina miejsko-wiejska / Powiat olsztyński / Województwo  - WARMIŃSKO-MAZURSKIE / 281403 / ",53749119,58783044.812019899,{"$f":"ISNUMBER(SEARCH(Wyszukiwarka!$A$1,'Porównanie dochodów JST'!J2058))","v":false},{"$f":"IF(M2058,COUNTIF($M$16:M2058,TRUE),\"\")","v":""},{"$f":"IFERROR(INDEX($J$16:$J$2822,MATCH(ROWS($J$16:J2058),$N$16:$N$2822,0)),\"\")","v":""}]
["28","14","04","2","281404","Gmina wiejska","WARMIŃSKO-MAZURSKIE","olsztyński","DYWITY","DYWITY - Gmina wiejska / Powiat olsztyński / Województwo  - WARMIŃSKO-MAZURSKIE / 281404 / ",61240828,66045964,{"$f":"ISNUMBER(SEARCH(Wyszukiwarka!$A$1,'Porównanie dochodów JST'!J2059))","v":false},{"$f":"IF(M2059,COUNTIF($M$16:M2059,TRUE),\"\")","v":""},{"$f":"IFERROR(INDEX($J$16:$J$2822,MATCH(ROWS($J$16:J2059),$N$16:$N$2822,0)),\"\")","v":""}]
["28","14","05","2","281405","Gmina wiejska","WARMIŃSKO-MAZURSKIE","olsztyński","GIETRZWAŁD","GIETRZWAŁD - Gmina wiejska / Powiat olsztyński / Województwo  - WARMIŃSKO-MAZURSKIE / 281405 / ",24762014,27524471,{"$f":"ISNUMBER(SEARCH(Wyszukiwarka!$A$1,'Porównanie dochodów JST'!J2060))","v":false},{"$f":"IF(M2060,COUNTIF($M$16:M2060,TRUE),\"\")","v":""},{"$f":"IFERROR(INDEX($J$16:$J$2822,MATCH(ROWS($J$16:J2060),$N$16:$N$2822,0)),\"\")","v":""}]
["28","14","06","3","281406","Gmina miejsko-wiejska","WARMIŃSKO-MAZURSKIE","olsztyński","JEZIORANY","JEZIORANY - Gmina miejsko-wiejska / Powiat olsztyński / Województwo  - WARMIŃSKO-MAZURSKIE / 281406 / ",29665184,32356628,{"$f":"ISNUMBER(SEARCH(Wyszukiwarka!$A$1,'Porównanie dochodów JST'!J2061))","v":false},{"$f":"IF(M2061,COUNTIF($M$16:M2061,TRUE),\"\")","v":""},{"$f":"IFERROR(INDEX($J$16:$J$2822,MATCH(ROWS($J$16:J2061),$N$16:$N$2822,0)),\"\")","v":""}]
["28","14","07","2","281407","Gmina wiejska","WARMIŃSKO-MAZURSKIE","olsztyński","JONKOWO","JONKOWO - Gmina wiejska / Powiat olsztyński / Województwo  - WARMIŃSKO-MAZURSKIE / 281407 / ",29508732,32454364,{"$f":"ISNUMBER(SEARCH(Wyszukiwarka!$A$1,'Porównanie dochodów JST'!J2062))","v":false},{"$f":"IF(M2062,COUNTIF($M$16:M2062,TRUE),\"\")","v":""},{"$f":"IFERROR(INDEX($J$16:$J$2822,MATCH(ROWS($J$16:J2062),$N$16:$N$2822,0)),\"\")","v":""}]
["28","14","08","2","281408","Gmina wiejska","WARMIŃSKO-MAZURSKIE","olsztyński","KOLNO","KOLNO - Gmina wiejska / Powiat olsztyński / Województwo  - WARMIŃSKO-MAZURSKIE / 281408 / ",9944142,11446640.800000001,{"$f":"ISNUMBER(SEARCH(Wyszukiwarka!$A$1,'Porównanie dochodów JST'!J2063))","v":false},{"$f":"IF(M2063,COUNTIF($M$16:M2063,TRUE),\"\")","v":""},{"$f":"IFERROR(INDEX($J$16:$J$2822,MATCH(ROWS($J$16:J2063),$N$16:$N$2822,0)),\"\")","v":""}]
["28","14","09","3","281409","Gmina miejsko-wiejska","WARMIŃSKO-MAZURSKIE","olsztyński","OLSZTYNEK","OLSZTYNEK - Gmina miejsko-wiejska / Powiat olsztyński / Województwo  - WARMIŃSKO-MAZURSKIE / 281409 / ",37888850,41994494.962100007,{"$f":"ISNUMBER(SEARCH(Wyszukiwarka!$A$1,'Porównanie dochodów JST'!J2064))","v":false},{"$f":"IF(M2064,COUNTIF($M$16:M2064,TRUE),\"\")","v":""},{"$f":"IFERROR(INDEX($J$16:$J$2822,MATCH(ROWS($J$16:J2064),$N$16:$N$2822,0)),\"\")","v":""}]
["28","14","10","2","281410","Gmina wiejska","WARMIŃSKO-MAZURSKIE","olsztyński","PURDA",{"$f":"I2065&$H$12&F2065&$G$12&$H$14&H2065&$G$12&$G$14&$H$12&G2065&$G$12&E2065&$G$12","v":"PURDA - Gmina wiejska / Powiat olsztyński / Województwo  - WARMIŃSKO-MAZURSKIE / 281410 / "},36896440,40377305.864116237,{"$f":"ISNUMBER(SEARCH(Wyszukiwarka!$A$1,'Porównanie dochodów JST'!J2065))","v":false},{"$f":"IF(M2065,COUNTIF($M$16:M2065,TRUE),\"\")","v":""},{"$f":"IFERROR(INDEX($J$16:$J$2822,MATCH(ROWS($J$16:J2065),$N$16:$N$2822,0)),\"\")","v":""}]
["28","14","11","2","281411","Gmina wiejska","WARMIŃSKO-MAZURSKIE","olsztyński","STAWIGUDA","STAWIGUDA - Gmina wiejska / Powiat olsztyński / Województwo  - WARMIŃSKO-MAZURSKIE / 281411 / ",71243168,76405238.837091118,{"$f":"ISNUMBER(SEARCH(Wyszukiwarka!$A$1,'Porównanie dochodów JST'!J2066))","v":false},{"$f":"IF(M2066,COUNTIF($M$16:M2066,TRUE),\"\")","v":""},{"$f":"IFERROR(INDEX($J$16:$J$2822,MATCH(ROWS($J$16:J2066),$N$16:$N$2822,0)),\"\")","v":""}]
["28","14","12","2","281412","Gmina wiejska","WARMIŃSKO-MAZURSKIE","olsztyński","ŚWIĄTKI","ŚWIĄTKI - Gmina wiejska / Powiat olsztyński / Województwo  - WARMIŃSKO-MAZURSKIE / 281412 / ",14007503,15380254,{"$f":"ISNUMBER(SEARCH(Wyszukiwarka!$A$1,'Porównanie dochodów JST'!J2067))","v":false},{"$f":"IF(M2067,COUNTIF($M$16:M2067,TRUE),\"\")","v":""},{"$f":"IFERROR(INDEX($J$16:$J$2822,MATCH(ROWS($J$16:J2067),$N$16:$N$2822,0)),\"\")","v":""}]
["28","15","01","1","281501","Gmina miejska","WARMIŃSKO-MAZURSKIE","ostródzki","OSTRÓDA","OSTRÓDA - Gmina miejska / Powiat ostródzki / Województwo  - WARMIŃSKO-MAZURSKIE / 281501 / ",105561322,113956423.7033,{"$f":"ISNUMBER(SEARCH(Wyszukiwarka!$A$1,'Porównanie dochodów JST'!J2068))","v":false},{"$f":"IF(M2068,COUNTIF($M$16:M2068,TRUE),\"\")","v":""},{"$f":"IFERROR(INDEX($J$16:$J$2822,MATCH(ROWS($J$16:J2068),$N$16:$N$2822,0)),\"\")","v":""}]
["28","15","02","2","281502","Gmina wiejska","WARMIŃSKO-MAZURSKIE","ostródzki","DĄBRÓWNO","DĄBRÓWNO - Gmina wiejska / Powiat ostródzki / Województwo  - WARMIŃSKO-MAZURSKIE / 281502 / ",12705107,14096457.976059243,{"$f":"ISNUMBER(SEARCH(Wyszukiwarka!$A$1,'Porównanie dochodów JST'!J2069))","v":false},{"$f":"IF(M2069,COUNTIF($M$16:M2069,TRUE),\"\")","v":""},{"$f":"IFERROR(INDEX($J$16:$J$2822,MATCH(ROWS($J$16:J2069),$N$16:$N$2822,0)),\"\")","v":""}]
["28","15","03","2","281503","Gmina wiejska","WARMIŃSKO-MAZURSKIE","ostródzki","GRUNWALD","GRUNWALD - Gmina wiejska / Powiat ostródzki / Województwo  - WARMIŃSKO-MAZURSKIE / 281503 / ",22661081,25950915.199999996,{"$f":"ISNUMBER(SEARCH(Wyszukiwarka!$A$1,'Porównanie dochodów JST'!J2070))","v":false},{"$f":"IF(M2070,COUNTIF($M$16:M2070,TRUE),\"\")","v":""},{"$f":"IFERROR(INDEX($J$16:$J$2822,MATCH(ROWS($J$16:J2070),$N$16:$N$2822,0)),\"\")","v":""}]
["28","15","04","2","281504","Gmina wiejska","WARMIŃSKO-MAZURSKIE","ostródzki","ŁUKTA","ŁUKTA - Gmina wiejska / Powiat ostródzki / Województwo  - WARMIŃSKO-MAZURSKIE / 281504 / ",14718256,16982848.960000001,{"$f":"ISNUMBER(SEARCH(Wyszukiwarka!$A$1,'Porównanie dochodów JST'!J2071))","v":false},{"$f":"IF(M2071,COUNTIF($M$16:M2071,TRUE),\"\")","v":""},{"$f":"IFERROR(INDEX($J$16:$J$2822,MATCH(ROWS($J$16:J2071),$N$16:$N$2822,0)),\"\")","v":""}]
["28","15","05","2","281505","Gmina wiejska","WARMIŃSKO-MAZURSKIE","ostródzki","MAŁDYTY","MAŁDYTY - Gmina wiejska / Powiat ostródzki / Województwo  - WARMIŃSKO-MAZURSKIE / 281505 / ",20806214,23102804.215486687,{"$f":"ISNUMBER(SEARCH(Wyszukiwarka!$A$1,'Porównanie dochodów JST'!J2072))","v":false},{"$f":"IF(M2072,COUNTIF($M$16:M2072,TRUE),\"\")","v":""},{"$f":"IFERROR(INDEX($J$16:$J$2822,MATCH(ROWS($J$16:J2072),$N$16:$N$2822,0)),\"\")","v":""}]
["28","15","06","3","281506","Gmina miejsko-wiejska","WARMIŃSKO-MAZURSKIE","ostródzki","MIŁAKOWO","MIŁAKOWO - Gmina miejsko-wiejska / Powiat ostródzki / Województwo  - WARMIŃSKO-MAZURSKIE / 281506 / ",17834115,19828412,{"$f":"ISNUMBER(SEARCH(Wyszukiwarka!$A$1,'Porównanie dochodów JST'!J2073))","v":false},{"$f":"IF(M2073,COUNTIF($M$16:M2073,TRUE),\"\")","v":""},{"$f":"IFERROR(INDEX($J$16:$J$2822,MATCH(ROWS($J$16:J2073),$N$16:$N$2822,0)),\"\")","v":""}]
["28","15","07","3","281507","Gmina miejsko-wiejska","WARMIŃSKO-MAZURSKIE","ostródzki","MIŁOMŁYN","MIŁOMŁYN - Gmina miejsko-wiejska / Powiat ostródzki / Województwo  - WARMIŃSKO-MAZURSKIE / 281507 / ",15920782,17900832.849139836,{"$f":"ISNUMBER(SEARCH(Wyszukiwarka!$A$1,'Porównanie dochodów JST'!J2074))","v":false},{"$f":"IF(M2074,COUNTIF($M$16:M2074,TRUE),\"\")","v":""},{"$f":"IFERROR(INDEX($J$16:$J$2822,MATCH(ROWS($J$16:J2074),$N$16:$N$2822,0)),\"\")","v":""}]
["28","15","08","3","281508","Gmina miejsko-wiejska","WARMIŃSKO-MAZURSKIE","ostródzki","MORĄG","MORĄG - Gmina miejsko-wiejska / Powiat ostródzki / Województwo  - WARMIŃSKO-MAZURSKIE / 281508 / ",82123116,94483194.400000006,{"$f":"ISNUMBER(SEARCH(Wyszukiwarka!$A$1,'Porównanie dochodów JST'!J2075))","v":false},{"$f":"IF(M2075,COUNTIF($M$16:M2075,TRUE),\"\")","v":""},{"$f":"IFERROR(INDEX($J$16:$J$2822,MATCH(ROWS($J$16:J2075),$N$16:$N$2822,0)),\"\")","v":""}]
["28","15","09","2","281509","Gmina wiejska","WARMIŃSKO-MAZURSKIE","ostródzki","OSTRÓDA","OSTRÓDA - Gmina wiejska / Powiat ostródzki / Województwo  - WARMIŃSKO-MAZURSKIE / 281509 / ",51308335,56453400,{"$f":"ISNUMBER(SEARCH(Wyszukiwarka!$A$1,'Porównanie dochodów JST'!J2076))","v":false},{"$f":"IF(M2076,COUNTIF($M$16:M2076,TRUE),\"\")","v":""},{"$f":"IFERROR(INDEX($J$16:$J$2822,MATCH(ROWS($J$16:J2076),$N$16:$N$2822,0)),\"\")","v":""}]
["28","16","01","3","281601","Gmina miejsko-wiejska","WARMIŃSKO-MAZURSKIE","piski","BIAŁA PISKA","BIAŁA PISKA - Gmina miejsko-wiejska / Powiat piski / Województwo  - WARMIŃSKO-MAZURSKIE / 281601 / ",42036365,48266451.519999996,{"$f":"ISNUMBER(SEARCH(Wyszukiwarka!$A$1,'Porównanie dochodów JST'!J2077))","v":false},{"$f":"IF(M2077,COUNTIF($M$16:M2077,TRUE),\"\")","v":""},{"$f":"IFERROR(INDEX($J$16:$J$2822,MATCH(ROWS($J$16:J2077),$N$16:$N$2822,0)),\"\")","v":""}]
["28","16","02","3","281602","Gmina miejsko-wiejska","WARMIŃSKO-MAZURSKIE","piski","ORZYSZ","ORZYSZ - Gmina miejsko-wiejska / Powiat piski / Województwo  - WARMIŃSKO-MAZURSKIE / 281602 / ",24444341,27774224,{"$f":"ISNUMBER(SEARCH(Wyszukiwarka!$A$1,'Porównanie dochodów JST'!J2078))","v":false},{"$f":"IF(M2078,COUNTIF($M$16:M2078,TRUE),\"\")","v":""},{"$f":"IFERROR(INDEX($J$16:$J$2822,MATCH(ROWS($J$16:J2078),$N$16:$N$2822,0)),\"\")","v":""}]
["28","16","03","3","281603","Gmina miejsko-wiejska","WARMIŃSKO-MAZURSKIE","piski","PISZ","PISZ - Gmina miejsko-wiejska / Powiat piski / Województwo  - WARMIŃSKO-MAZURSKIE / 281603 / ",85565046,94622692.496426344,{"$f":"ISNUMBER(SEARCH(Wyszukiwarka!$A$1,'Porównanie dochodów JST'!J2079))","v":false},{"$f":"IF(M2079,COUNTIF($M$16:M2079,TRUE),\"\")","v":""},{"$f":"IFERROR(INDEX($J$16:$J$2822,MATCH(ROWS($J$16:J2079),$N$16:$N$2822,0)),\"\")","v":""}]
["28","16","04","3","281604","Gmina miejsko-wiejska","WARMIŃSKO-MAZURSKIE","piski","RUCIANE-NIDA","RUCIANE-NIDA - Gmina miejsko-wiejska / Powiat piski / Województwo  - WARMIŃSKO-MAZURSKIE / 281604 / ",22607636,25349284,{"$f":"ISNUMBER(SEARCH(Wyszukiwarka!$A$1,'Porównanie dochodów JST'!J2080))","v":false},{"$f":"IF(M2080,COUNTIF($M$16:M2080,TRUE),\"\")","v":""},{"$f":"IFERROR(INDEX($J$16:$J$2822,MATCH(ROWS($J$16:J2080),$N$16:$N$2822,0)),\"\")","v":""}]
["28","17","01","1","281701","Gmina miejska","WARMIŃSKO-MAZURSKIE","szczycieński","SZCZYTNO","SZCZYTNO - Gmina miejska / Powiat szczycieński / Województwo  - WARMIŃSKO-MAZURSKIE / 281701 / ",76799879,84348683.22135891,{"$f":"ISNUMBER(SEARCH(Wyszukiwarka!$A$1,'Porównanie dochodów JST'!J2081))","v":false},{"$f":"IF(M2081,COUNTIF($M$16:M2081,TRUE),\"\")","v":""},{"$f":"IFERROR(INDEX($J$16:$J$2822,MATCH(ROWS($J$16:J2081),$N$16:$N$2822,0)),\"\")","v":""}]
["28","17","02","2","281702","Gmina wiejska","WARMIŃSKO-MAZURSKIE","szczycieński","DŹWIERZUTY","DŹWIERZUTY - Gmina wiejska / Powiat szczycieński / Województwo  - WARMIŃSKO-MAZURSKIE / 281702 / ",19158196,21236606,{"$f":"ISNUMBER(SEARCH(Wyszukiwarka!$A$1,'Porównanie dochodów JST'!J2082))","v":false},{"$f":"IF(M2082,COUNTIF($M$16:M2082,TRUE),\"\")","v":""},{"$f":"IFERROR(INDEX($J$16:$J$2822,MATCH(ROWS($J$16:J2082),$N$16:$N$2822,0)),\"\")","v":""}]
["28","17","03","2","281703","Gmina wiejska","WARMIŃSKO-MAZURSKIE","szczycieński","JEDWABNO","JEDWABNO - Gmina wiejska / Powiat szczycieński / Województwo  - WARMIŃSKO-MAZURSKIE / 281703 / ",11578359,12862014.999999998,{"$f":"ISNUMBER(SEARCH(Wyszukiwarka!$A$1,'Porównanie dochodów JST'!J2083))","v":false},{"$f":"IF(M2083,COUNTIF($M$16:M2083,TRUE),\"\")","v":""},{"$f":"IFERROR(INDEX($J$16:$J$2822,MATCH(ROWS($J$16:J2083),$N$16:$N$2822,0)),\"\")","v":""}]
["28","17","04","3","281704","Gmina miejsko-wiejska","WARMIŃSKO-MAZURSKIE","szczycieński","PASYM","PASYM - Gmina miejsko-wiejska / Powiat szczycieński / Województwo  - WARMIŃSKO-MAZURSKIE / 281704 / ",18859049,21307215.160972372,{"$f":"ISNUMBER(SEARCH(Wyszukiwarka!$A$1,'Porównanie dochodów JST'!J2084))","v":false},{"$f":"IF(M2084,COUNTIF($M$16:M2084,TRUE),\"\")","v":""},{"$f":"IFERROR(INDEX($J$16:$J$2822,MATCH(ROWS($J$16:J2084),$N$16:$N$2822,0)),\"\")","v":""}]
["28","17","05","2","281705","Gmina wiejska","WARMIŃSKO-MAZURSKIE","szczycieński","ROZOGI","ROZOGI - Gmina wiejska / Powiat szczycieński / Województwo  - WARMIŃSKO-MAZURSKIE / 281705 / ",21450736,24652876.640000001,{"$f":"ISNUMBER(SEARCH(Wyszukiwarka!$A$1,'Porównanie dochodów JST'!J2085))","v":false},{"$f":"IF(M2085,COUNTIF($M$16:M2085,TRUE),\"\")","v":""},{"$f":"IFERROR(INDEX($J$16:$J$2822,MATCH(ROWS($J$16:J2085),$N$16:$N$2822,0)),\"\")","v":""}]
["28","17","06","2","281706","Gmina wiejska","WARMIŃSKO-MAZURSKIE","szczycieński","SZCZYTNO","SZCZYTNO - Gmina wiejska / Powiat szczycieński / Województwo  - WARMIŃSKO-MAZURSKIE / 281706 / ",42377387,46753065,{"$f":"ISNUMBER(SEARCH(Wyszukiwarka!$A$1,'Porównanie dochodów JST'!J2086))","v":false},{"$f":"IF(M2086,COUNTIF($M$16:M2086,TRUE),\"\")","v":""},{"$f":"IFERROR(INDEX($J$16:$J$2822,MATCH(ROWS($J$16:J2086),$N$16:$N$2822,0)),\"\")","v":""}]
["28","17","07","2","281707","Gmina wiejska","WARMIŃSKO-MAZURSKIE","szczycieński","ŚWIĘTAJNO","ŚWIĘTAJNO - Gmina wiejska / Powiat szczycieński / Województwo  - WARMIŃSKO-MAZURSKIE / 281707 / ",17596717,20314599.199999999,{"$f":"ISNUMBER(SEARCH(Wyszukiwarka!$A$1,'Porównanie dochodów JST'!J2087))","v":false},{"$f":"IF(M2087,COUNTIF($M$16:M2087,TRUE),\"\")","v":""},{"$f":"IFERROR(INDEX($J$16:$J$2822,MATCH(ROWS($J$16:J2087),$N$16:$N$2822,0)),\"\")","v":""}]
["28","17","08","3","281708","Gmina miejsko-wiejska","WARMIŃSKO-MAZURSKIE","szczycieński","WIELBARK","WIELBARK - Gmina miejsko-wiejska / Powiat szczycieński / Województwo  - WARMIŃSKO-MAZURSKIE / 281708 / ",19594155,22388049.600000001,{"$f":"ISNUMBER(SEARCH(Wyszukiwarka!$A$1,'Porównanie dochodów JST'!J2088))","v":false},{"$f":"IF(M2088,COUNTIF($M$16:M2088,TRUE),\"\")","v":""},{"$f":"IFERROR(INDEX($J$16:$J$2822,MATCH(ROWS($J$16:J2088),$N$16:$N$2822,0)),\"\")","v":""}]
["28","18","01","2","281801","Gmina wiejska","WARMIŃSKO-MAZURSKIE","gołdapski","BANIE MAZURSKIE","BANIE MAZURSKIE - Gmina wiejska / Powiat gołdapski / Województwo  - WARMIŃSKO-MAZURSKIE / 281801 / ",11817193,13594119.84,{"$f":"ISNUMBER(SEARCH(Wyszukiwarka!$A$1,'Porównanie dochodów JST'!J2089))","v":false},{"$f":"IF(M2089,COUNTIF($M$16:M2089,TRUE),\"\")","v":""},{"$f":"IFERROR(INDEX($J$16:$J$2822,MATCH(ROWS($J$16:J2089),$N$16:$N$2822,0)),\"\")","v":""}]
["28","18","02","2","281802","Gmina wiejska","WARMIŃSKO-MAZURSKIE","gołdapski","DUBENINKI","DUBENINKI - Gmina wiejska / Powiat gołdapski / Województwo  - WARMIŃSKO-MAZURSKIE / 281802 / ",9526227,10965634.4,{"$f":"ISNUMBER(SEARCH(Wyszukiwarka!$A$1,'Porównanie dochodów JST'!J2090))","v":false},{"$f":"IF(M2090,COUNTIF($M$16:M2090,TRUE),\"\")","v":""},{"$f":"IFERROR(INDEX($J$16:$J$2822,MATCH(ROWS($J$16:J2090),$N$16:$N$2822,0)),\"\")","v":""}]
["28","18","03","3","281803","Gmina miejsko-wiejska","WARMIŃSKO-MAZURSKIE","gołdapski","GOŁDAP","GOŁDAP - Gmina miejsko-wiejska / Powiat gołdapski / Województwo  - WARMIŃSKO-MAZURSKIE / 281803 / ",69263102,74703671.371292606,{"$f":"ISNUMBER(SEARCH(Wyszukiwarka!$A$1,'Porównanie dochodów JST'!J2091))","v":false},{"$f":"IF(M2091,COUNTIF($M$16:M2091,TRUE),\"\")","v":""},{"$f":"IFERROR(INDEX($J$16:$J$2822,MATCH(ROWS($J$16:J2091),$N$16:$N$2822,0)),\"\")","v":""}]
["28","19","01","2","281901","Gmina wiejska","WARMIŃSKO-MAZURSKIE","węgorzewski","BUDRY","BUDRY - Gmina wiejska / Powiat węgorzewski / Województwo  - WARMIŃSKO-MAZURSKIE / 281901 / ",10310201,11564196,{"$f":"ISNUMBER(SEARCH(Wyszukiwarka!$A$1,'Porównanie dochodów JST'!J2092))","v":false},{"$f":"IF(M2092,COUNTIF($M$16:M2092,TRUE),\"\")","v":""},{"$f":"IFERROR(INDEX($J$16:$J$2822,MATCH(ROWS($J$16:J2092),$N$16:$N$2822,0)),\"\")","v":""}]
["28","19","02","2","281902","Gmina wiejska","WARMIŃSKO-MAZURSKIE","węgorzewski","POZEZDRZE","POZEZDRZE - Gmina wiejska / Powiat węgorzewski / Województwo  - WARMIŃSKO-MAZURSKIE / 281902 / ",10479357,11777418,{"$f":"ISNUMBER(SEARCH(Wyszukiwarka!$A$1,'Porównanie dochodów JST'!J2093))","v":false},{"$f":"IF(M2093,COUNTIF($M$16:M2093,TRUE),\"\")","v":""},{"$f":"IFERROR(INDEX($J$16:$J$2822,MATCH(ROWS($J$16:J2093),$N$16:$N$2822,0)),\"\")","v":""}]
["28","19","03","3","281903","Gmina miejsko-wiejska","WARMIŃSKO-MAZURSKIE","węgorzewski","WĘGORZEWO","WĘGORZEWO - Gmina miejsko-wiejska / Powiat węgorzewski / Województwo  - WARMIŃSKO-MAZURSKIE / 281903 / ",51129632,56174996,{"$f":"ISNUMBER(SEARCH(Wyszukiwarka!$A$1,'Porównanie dochodów JST'!J2094))","v":false},{"$f":"IF(M2094,COUNTIF($M$16:M2094,TRUE),\"\")","v":""},{"$f":"IFERROR(INDEX($J$16:$J$2822,MATCH(ROWS($J$16:J2094),$N$16:$N$2822,0)),\"\")","v":""}]
["30","01","01","1","300101","Gmina miejska","WIELKOPOLSKIE","chodzieski","CHODZIEŻ","CHODZIEŻ - Gmina miejska / Powiat chodzieski / Województwo  - WIELKOPOLSKIE / 300101 / ",56871461,64118284.431200005,{"$f":"ISNUMBER(SEARCH(Wyszukiwarka!$A$1,'Porównanie dochodów JST'!J2095))","v":false},{"$f":"IF(M2095,COUNTIF($M$16:M2095,TRUE),\"\")","v":""},{"$f":"IFERROR(INDEX($J$16:$J$2822,MATCH(ROWS($J$16:J2095),$N$16:$N$2822,0)),\"\")","v":""}]
["30","01","02","2","300102","Gmina wiejska","WIELKOPOLSKIE","chodzieski","BUDZYŃ","BUDZYŃ - Gmina wiejska / Powiat chodzieski / Województwo  - WIELKOPOLSKIE / 300102 / ",34336164,37886416.766946308,{"$f":"ISNUMBER(SEARCH(Wyszukiwarka!$A$1,'Porównanie dochodów JST'!J2096))","v":false},{"$f":"IF(M2096,COUNTIF($M$16:M2096,TRUE),\"\")","v":""},{"$f":"IFERROR(INDEX($J$16:$J$2822,MATCH(ROWS($J$16:J2096),$N$16:$N$2822,0)),\"\")","v":""}]
["30","01","03","2","300103","Gmina wiejska","WIELKOPOLSKIE","chodzieski","CHODZIEŻ","CHODZIEŻ - Gmina wiejska / Powiat chodzieski / Województwo  - WIELKOPOLSKIE / 300103 / ",26125534,28768541,{"$f":"ISNUMBER(SEARCH(Wyszukiwarka!$A$1,'Porównanie dochodów JST'!J2097))","v":false},{"$f":"IF(M2097,COUNTIF($M$16:M2097,TRUE),\"\")","v":""},{"$f":"IFERROR(INDEX($J$16:$J$2822,MATCH(ROWS($J$16:J2097),$N$16:$N$2822,0)),\"\")","v":""}]
["30","01","04","3","300104","Gmina miejsko-wiejska","WIELKOPOLSKIE","chodzieski","MARGONIN","MARGONIN - Gmina miejsko-wiejska / Powiat chodzieski / Województwo  - WIELKOPOLSKIE / 300104 / ",20583551,22996999,{"$f":"ISNUMBER(SEARCH(Wyszukiwarka!$A$1,'Porównanie dochodów JST'!J2098))","v":false},{"$f":"IF(M2098,COUNTIF($M$16:M2098,TRUE),\"\")","v":""},{"$f":"IFERROR(INDEX($J$16:$J$2822,MATCH(ROWS($J$16:J2098),$N$16:$N$2822,0)),\"\")","v":""}]
["30","01","05","3","300105","Gmina miejsko-wiejska","WIELKOPOLSKIE","chodzieski","SZAMOCIN","SZAMOCIN - Gmina miejsko-wiejska / Powiat chodzieski / Województwo  - WIELKOPOLSKIE / 300105 / ",27677882,30391664,{"$f":"ISNUMBER(SEARCH(Wyszukiwarka!$A$1,'Porównanie dochodów JST'!J2099))","v":false},{"$f":"IF(M2099,COUNTIF($M$16:M2099,TRUE),\"\")","v":""},{"$f":"IFERROR(INDEX($J$16:$J$2822,MATCH(ROWS($J$16:J2099),$N$16:$N$2822,0)),\"\")","v":""}]
["30","02","01","1","300201","Gmina miejska","WIELKOPOLSKIE","czarnkowsko-trzcianecki","CZARNKÓW","CZARNKÓW - Gmina miejska / Powiat czarnkowsko-trzcianecki / Województwo  - WIELKOPOLSKIE / 300201 / ",33049005,38066702.240000002,{"$f":"ISNUMBER(SEARCH(Wyszukiwarka!$A$1,'Porównanie dochodów JST'!J2100))","v":false},{"$f":"IF(M2100,COUNTIF($M$16:M2100,TRUE),\"\")","v":""},{"$f":"IFERROR(INDEX($J$16:$J$2822,MATCH(ROWS($J$16:J2100),$N$16:$N$2822,0)),\"\")","v":""}]
["30","02","02","2","300202","Gmina wiejska","WIELKOPOLSKIE","czarnkowsko-trzcianecki","CZARNKÓW","CZARNKÓW - Gmina wiejska / Powiat czarnkowsko-trzcianecki / Województwo  - WIELKOPOLSKIE / 300202 / ",42345235,46488161.903520025,{"$f":"ISNUMBER(SEARCH(Wyszukiwarka!$A$1,'Porównanie dochodów JST'!J2101))","v":false},{"$f":"IF(M2101,COUNTIF($M$16:M2101,TRUE),\"\")","v":""},{"$f":"IFERROR(INDEX($J$16:$J$2822,MATCH(ROWS($J$16:J2101),$N$16:$N$2822,0)),\"\")","v":""}]
["30","02","03","2","300203","Gmina wiejska","WIELKOPOLSKIE","czarnkowsko-trzcianecki","DRAWSKO","DRAWSKO - Gmina wiejska / Powiat czarnkowsko-trzcianecki / Województwo  - WIELKOPOLSKIE / 300203 / ",23901686,25971769.752307169,{"$f":"ISNUMBER(SEARCH(Wyszukiwarka!$A$1,'Porównanie dochodów JST'!J2102))","v":false},{"$f":"IF(M2102,COUNTIF($M$16:M2102,TRUE),\"\")","v":""},{"$f":"IFERROR(INDEX($J$16:$J$2822,MATCH(ROWS($J$16:J2102),$N$16:$N$2822,0)),\"\")","v":""}]
["30","02","04","3","300204","Gmina miejsko-wiejska","WIELKOPOLSKIE","czarnkowsko-trzcianecki","KRZYŻ WIELKOPOLSKI","KRZYŻ WIELKOPOLSKI - Gmina miejsko-wiejska / Powiat czarnkowsko-trzcianecki / Województwo  - WIELKOPOLSKIE / 300204 / ",28510500,31849195,{"$f":"ISNUMBER(SEARCH(Wyszukiwarka!$A$1,'Porównanie dochodów JST'!J2103))","v":false},{"$f":"IF(M2103,COUNTIF($M$16:M2103,TRUE),\"\")","v":""},{"$f":"IFERROR(INDEX($J$16:$J$2822,MATCH(ROWS($J$16:J2103),$N$16:$N$2822,0)),\"\")","v":""}]
["30","02","05","2","300205","Gmina wiejska","WIELKOPOLSKIE","czarnkowsko-trzcianecki","LUBASZ","LUBASZ - Gmina wiejska / Powiat czarnkowsko-trzcianecki / Województwo  - WIELKOPOLSKIE / 300205 / ",31283558,34050833.544808283,{"$f":"ISNUMBER(SEARCH(Wyszukiwarka!$A$1,'Porównanie dochodów JST'!J2104))","v":false},{"$f":"IF(M2104,COUNTIF($M$16:M2104,TRUE),\"\")","v":""},{"$f":"IFERROR(INDEX($J$16:$J$2822,MATCH(ROWS($J$16:J2104),$N$16:$N$2822,0)),\"\")","v":""}]
["30","02","06","2","300206","Gmina wiejska","WIELKOPOLSKIE","czarnkowsko-trzcianecki","POŁAJEWO","POŁAJEWO - Gmina wiejska / Powiat czarnkowsko-trzcianecki / Województwo  - WIELKOPOLSKIE / 300206 / ",25753720,27850336,{"$f":"ISNUMBER(SEARCH(Wyszukiwarka!$A$1,'Porównanie dochodów JST'!J2105))","v":false},{"$f":"IF(M2105,COUNTIF($M$16:M2105,TRUE),\"\")","v":""},{"$f":"IFERROR(INDEX($J$16:$J$2822,MATCH(ROWS($J$16:J2105),$N$16:$N$2822,0)),\"\")","v":""}]
["30","02","07","3","300207","Gmina miejsko-wiejska","WIELKOPOLSKIE","czarnkowsko-trzcianecki","TRZCIANKA","TRZCIANKA - Gmina miejsko-wiejska / Powiat czarnkowsko-trzcianecki / Województwo  - WIELKOPOLSKIE / 300207 / ",83735653,89567330,{"$f":"ISNUMBER(SEARCH(Wyszukiwarka!$A$1,'Porównanie dochodów JST'!J2106))","v":false},{"$f":"IF(M2106,COUNTIF($M$16:M2106,TRUE),\"\")","v":""},{"$f":"IFERROR(INDEX($J$16:$J$2822,MATCH(ROWS($J$16:J2106),$N$16:$N$2822,0)),\"\")","v":""}]
["30","02","08","3","300208","Gmina miejsko-wiejska","WIELKOPOLSKIE","czarnkowsko-trzcianecki","WIELEŃ","WIELEŃ - Gmina miejsko-wiejska / Powiat czarnkowsko-trzcianecki / Województwo  - WIELKOPOLSKIE / 300208 / ",44410230,48608195.806570217,{"$f":"ISNUMBER(SEARCH(Wyszukiwarka!$A$1,'Porównanie dochodów JST'!J2107))","v":false},{"$f":"IF(M2107,COUNTIF($M$16:M2107,TRUE),\"\")","v":""},{"$f":"IFERROR(INDEX($J$16:$J$2822,MATCH(ROWS($J$16:J2107),$N$16:$N$2822,0)),\"\")","v":""}]
["30","03","01","1","300301","Gmina miejska","WIELKOPOLSKIE","gnieźnieński","GNIEZNO","GNIEZNO - Gmina miejska / Powiat gnieźnieński / Województwo  - WIELKOPOLSKIE / 300301 / ",212801493,227522195.89530003,{"$f":"ISNUMBER(SEARCH(Wyszukiwarka!$A$1,'Porównanie dochodów JST'!J2108))","v":false},{"$f":"IF(M2108,COUNTIF($M$16:M2108,TRUE),\"\")","v":""},{"$f":"IFERROR(INDEX($J$16:$J$2822,MATCH(ROWS($J$16:J2108),$N$16:$N$2822,0)),\"\")","v":""}]
["30","03","02","3","300302","Gmina miejsko-wiejska","WIELKOPOLSKIE","gnieźnieński","CZERNIEJEWO","CZERNIEJEWO - Gmina miejsko-wiejska / Powiat gnieźnieński / Województwo  - WIELKOPOLSKIE / 300302 / ",27596707,30314345,{"$f":"ISNUMBER(SEARCH(Wyszukiwarka!$A$1,'Porównanie dochodów JST'!J2109))","v":false},{"$f":"IF(M2109,COUNTIF($M$16:M2109,TRUE),\"\")","v":""},{"$f":"IFERROR(INDEX($J$16:$J$2822,MATCH(ROWS($J$16:J2109),$N$16:$N$2822,0)),\"\")","v":""}]
["30","03","03","2","300303","Gmina wiejska","WIELKOPOLSKIE","gnieźnieński","GNIEZNO","GNIEZNO - Gmina wiejska / Powiat gnieźnieński / Województwo  - WIELKOPOLSKIE / 300303 / ",48950953,53417744,{"$f":"ISNUMBER(SEARCH(Wyszukiwarka!$A$1,'Porównanie dochodów JST'!J2110))","v":false},{"$f":"IF(M2110,COUNTIF($M$16:M2110,TRUE),\"\")","v":""},{"$f":"IFERROR(INDEX($J$16:$J$2822,MATCH(ROWS($J$16:J2110),$N$16:$N$2822,0)),\"\")","v":""}]
["30","03","04","2","300304","Gmina wiejska","WIELKOPOLSKIE","gnieźnieński","KISZKOWO","KISZKOWO - Gmina wiejska / Powiat gnieźnieński / Województwo  - WIELKOPOLSKIE / 300304 / ",17377599,19401185.504170239,{"$f":"ISNUMBER(SEARCH(Wyszukiwarka!$A$1,'Porównanie dochodów JST'!J2111))","v":false},{"$f":"IF(M2111,COUNTIF($M$16:M2111,TRUE),\"\")","v":""},{"$f":"IFERROR(INDEX($J$16:$J$2822,MATCH(ROWS($J$16:J2111),$N$16:$N$2822,0)),\"\")","v":""}]
["30","03","05","3","300305","Gmina miejsko-wiejska","WIELKOPOLSKIE","gnieźnieński","KŁECKO","KŁECKO - Gmina miejsko-wiejska / Powiat gnieźnieński / Województwo  - WIELKOPOLSKIE / 300305 / ",24771232,28516125.120000001,{"$f":"ISNUMBER(SEARCH(Wyszukiwarka!$A$1,'Porównanie dochodów JST'!J2112))","v":false},{"$f":"IF(M2112,COUNTIF($M$16:M2112,TRUE),\"\")","v":""},{"$f":"IFERROR(INDEX($J$16:$J$2822,MATCH(ROWS($J$16:J2112),$N$16:$N$2822,0)),\"\")","v":""}]
["30","03","06","2","300306","Gmina wiejska","WIELKOPOLSKIE","gnieźnieński","ŁUBOWO","ŁUBOWO - Gmina wiejska / Powiat gnieźnieński / Województwo  - WIELKOPOLSKIE / 300306 / ",28467438,31200568,{"$f":"ISNUMBER(SEARCH(Wyszukiwarka!$A$1,'Porównanie dochodów JST'!J2113))","v":false},{"$f":"IF(M2113,COUNTIF($M$16:M2113,TRUE),\"\")","v":""},{"$f":"IFERROR(INDEX($J$16:$J$2822,MATCH(ROWS($J$16:J2113),$N$16:$N$2822,0)),\"\")","v":""}]
["30","03","07","2","300307","Gmina wiejska","WIELKOPOLSKIE","gnieźnieński","MIELESZYN","MIELESZYN - Gmina wiejska / Powiat gnieźnieński / Województwo  - WIELKOPOLSKIE / 300307 / ",15178289,16551386.986875512,{"$f":"ISNUMBER(SEARCH(Wyszukiwarka!$A$1,'Porównanie dochodów JST'!J2114))","v":false},{"$f":"IF(M2114,COUNTIF($M$16:M2114,TRUE),\"\")","v":""},{"$f":"IFERROR(INDEX($J$16:$J$2822,MATCH(ROWS($J$16:J2114),$N$16:$N$2822,0)),\"\")","v":""}]
["30","03","08","2","300308","Gmina wiejska","WIELKOPOLSKIE","gnieźnieński","NIECHANOWO","NIECHANOWO - Gmina wiejska / Powiat gnieźnieński / Województwo  - WIELKOPOLSKIE / 300308 / ",20902935,22996561,{"$f":"ISNUMBER(SEARCH(Wyszukiwarka!$A$1,'Porównanie dochodów JST'!J2115))","v":false},{"$f":"IF(M2115,COUNTIF($M$16:M2115,TRUE),\"\")","v":""},{"$f":"IFERROR(INDEX($J$16:$J$2822,MATCH(ROWS($J$16:J2115),$N$16:$N$2822,0)),\"\")","v":""}]
["30","03","09","3","300309","Gmina miejsko-wiejska","WIELKOPOLSKIE","gnieźnieński","TRZEMESZNO","TRZEMESZNO - Gmina miejsko-wiejska / Powiat gnieźnieński / Województwo  - WIELKOPOLSKIE / 300309 / ",45303239,49649468.744299993,{"$f":"ISNUMBER(SEARCH(Wyszukiwarka!$A$1,'Porównanie dochodów JST'!J2116))","v":false},{"$f":"IF(M2116,COUNTIF($M$16:M2116,TRUE),\"\")","v":""},{"$f":"IFERROR(INDEX($J$16:$J$2822,MATCH(ROWS($J$16:J2116),$N$16:$N$2822,0)),\"\")","v":""}]
["30","03","10","3","300310","Gmina miejsko-wiejska","WIELKOPOLSKIE","gnieźnieński","WITKOWO","WITKOWO - Gmina miejsko-wiejska / Powiat gnieźnieński / Województwo  - WIELKOPOLSKIE / 300310 / ",43188000,47446674.617205545,{"$f":"ISNUMBER(SEARCH(Wyszukiwarka!$A$1,'Porównanie dochodów JST'!J2117))","v":false},{"$f":"IF(M2117,COUNTIF($M$16:M2117,TRUE),\"\")","v":""},{"$f":"IFERROR(INDEX($J$16:$J$2822,MATCH(ROWS($J$16:J2117),$N$16:$N$2822,0)),\"\")","v":""}]
["30","04","01","3","300401","Gmina miejsko-wiejska","WIELKOPOLSKIE","gostyński","BOREK WIELKOPOLSKI","BOREK WIELKOPOLSKI - Gmina miejsko-wiejska / Powiat gostyński / Województwo  - WIELKOPOLSKIE / 300401 / ",26186768,28879153.981421877,{"$f":"ISNUMBER(SEARCH(Wyszukiwarka!$A$1,'Porównanie dochodów JST'!J2118))","v":false},{"$f":"IF(M2118,COUNTIF($M$16:M2118,TRUE),\"\")","v":""},{"$f":"IFERROR(INDEX($J$16:$J$2822,MATCH(ROWS($J$16:J2118),$N$16:$N$2822,0)),\"\")","v":""}]
["30","04","02","3","300402","Gmina miejsko-wiejska","WIELKOPOLSKIE","gostyński","GOSTYŃ","GOSTYŃ - Gmina miejsko-wiejska / Powiat gostyński / Województwo  - WIELKOPOLSKIE / 300402 / ",111333460,120402179.80263713,{"$f":"ISNUMBER(SEARCH(Wyszukiwarka!$A$1,'Porównanie dochodów JST'!J2119))","v":false},{"$f":"IF(M2119,COUNTIF($M$16:M2119,TRUE),\"\")","v":""},{"$f":"IFERROR(INDEX($J$16:$J$2822,MATCH(ROWS($J$16:J2119),$N$16:$N$2822,0)),\"\")","v":""}]
["30","04","03","3","300403","Gmina miejsko-wiejska","WIELKOPOLSKIE","gostyński","KROBIA","KROBIA - Gmina miejsko-wiejska / Powiat gostyński / Województwo  - WIELKOPOLSKIE / 300403 / ",44804470,48982713.978890531,{"$f":"ISNUMBER(SEARCH(Wyszukiwarka!$A$1,'Porównanie dochodów JST'!J2120))","v":false},{"$f":"IF(M2120,COUNTIF($M$16:M2120,TRUE),\"\")","v":""},{"$f":"IFERROR(INDEX($J$16:$J$2822,MATCH(ROWS($J$16:J2120),$N$16:$N$2822,0)),\"\")","v":""}]
["30","04","04","2","300404","Gmina wiejska","WIELKOPOLSKIE","gostyński","PĘPOWO","PĘPOWO - Gmina wiejska / Powiat gostyński / Województwo  - WIELKOPOLSKIE / 300404 / ",21205353,23283875.898702092,{"$f":"ISNUMBER(SEARCH(Wyszukiwarka!$A$1,'Porównanie dochodów JST'!J2121))","v":false},{"$f":"IF(M2121,COUNTIF($M$16:M2121,TRUE),\"\")","v":""},{"$f":"IFERROR(INDEX($J$16:$J$2822,MATCH(ROWS($J$16:J2121),$N$16:$N$2822,0)),\"\")","v":""}]
["30","04","05","2","300405","Gmina wiejska","WIELKOPOLSKIE","gostyński","PIASKI","PIASKI - Gmina wiejska / Powiat gostyński / Województwo  - WIELKOPOLSKIE / 300405 / ",30701789,34005868.74463921,{"$f":"ISNUMBER(SEARCH(Wyszukiwarka!$A$1,'Porównanie dochodów JST'!J2122))","v":false},{"$f":"IF(M2122,COUNTIF($M$16:M2122,TRUE),\"\")","v":""},{"$f":"IFERROR(INDEX($J$16:$J$2822,MATCH(ROWS($J$16:J2122),$N$16:$N$2822,0)),\"\")","v":""}]
["30","04","06","3","300406","Gmina miejsko-wiejska","WIELKOPOLSKIE","gostyński","POGORZELA","POGORZELA - Gmina miejsko-wiejska / Powiat gostyński / Województwo  - WIELKOPOLSKIE / 300406 / ",21818242,23778745.690767236,{"$f":"ISNUMBER(SEARCH(Wyszukiwarka!$A$1,'Porównanie dochodów JST'!J2123))","v":false},{"$f":"IF(M2123,COUNTIF($M$16:M2123,TRUE),\"\")","v":""},{"$f":"IFERROR(INDEX($J$16:$J$2822,MATCH(ROWS($J$16:J2123),$N$16:$N$2822,0)),\"\")","v":""}]
["30","04","07","3","300407","Gmina miejsko-wiejska","WIELKOPOLSKIE","gostyński","PONIEC","PONIEC - Gmina miejsko-wiejska / Powiat gostyński / Województwo  - WIELKOPOLSKIE / 300407 / ",24767779,27504436.586045571,{"$f":"ISNUMBER(SEARCH(Wyszukiwarka!$A$1,'Porównanie dochodów JST'!J2124))","v":false},{"$f":"IF(M2124,COUNTIF($M$16:M2124,TRUE),\"\")","v":""},{"$f":"IFERROR(INDEX($J$16:$J$2822,MATCH(ROWS($J$16:J2124),$N$16:$N$2822,0)),\"\")","v":""}]
["30","05","01","2","300501","Gmina wiejska","WIELKOPOLSKIE","grodziski","GRANOWO","GRANOWO - Gmina wiejska / Powiat grodziski / Województwo  - WIELKOPOLSKIE / 300501 / ",20004699,21994911,{"$f":"ISNUMBER(SEARCH(Wyszukiwarka!$A$1,'Porównanie dochodów JST'!J2125))","v":false},{"$f":"IF(M2125,COUNTIF($M$16:M2125,TRUE),\"\")","v":""},{"$f":"IFERROR(INDEX($J$16:$J$2822,MATCH(ROWS($J$16:J2125),$N$16:$N$2822,0)),\"\")","v":""}]
["30","05","02","3","300502","Gmina miejsko-wiejska","WIELKOPOLSKIE","grodziski","GRODZISK WIELKOPOLSKI","GRODZISK WIELKOPOLSKI - Gmina miejsko-wiejska / Powiat grodziski / Województwo  - WIELKOPOLSKIE / 300502 / ",67302540,74316929.273000002,{"$f":"ISNUMBER(SEARCH(Wyszukiwarka!$A$1,'Porównanie dochodów JST'!J2126))","v":false},{"$f":"IF(M2126,COUNTIF($M$16:M2126,TRUE),\"\")","v":""},{"$f":"IFERROR(INDEX($J$16:$J$2822,MATCH(ROWS($J$16:J2126),$N$16:$N$2822,0)),\"\")","v":""}]
["30","05","03","2","300503","Gmina wiejska","WIELKOPOLSKIE","grodziski","KAMIENIEC","KAMIENIEC - Gmina wiejska / Powiat grodziski / Województwo  - WIELKOPOLSKIE / 300503 / ",21867199,24329897.550090775,{"$f":"ISNUMBER(SEARCH(Wyszukiwarka!$A$1,'Porównanie dochodów JST'!J2127))","v":false},{"$f":"IF(M2127,COUNTIF($M$16:M2127,TRUE),\"\")","v":""},{"$f":"IFERROR(INDEX($J$16:$J$2822,MATCH(ROWS($J$16:J2127),$N$16:$N$2822,0)),\"\")","v":""}]
["30","05","04","3","300504","Gmina miejsko-wiejska","WIELKOPOLSKIE","grodziski","RAKONIEWICE","RAKONIEWICE - Gmina miejsko-wiejska / Powiat grodziski / Województwo  - WIELKOPOLSKIE / 300504 / ",48120285,52452430.904834554,{"$f":"ISNUMBER(SEARCH(Wyszukiwarka!$A$1,'Porównanie dochodów JST'!J2128))","v":false},{"$f":"IF(M2128,COUNTIF($M$16:M2128,TRUE),\"\")","v":""},{"$f":"IFERROR(INDEX($J$16:$J$2822,MATCH(ROWS($J$16:J2128),$N$16:$N$2822,0)),\"\")","v":""}]
["30","05","05","3","300505","Gmina miejsko-wiejska","WIELKOPOLSKIE","grodziski","WIELICHOWO",{"$f":"I2129&$H$12&F2129&$G$12&$H$14&H2129&$G$12&$G$14&$H$12&G2129&$G$12&E2129&$G$12","v":"WIELICHOWO - Gmina miejsko-wiejska / Powiat grodziski / Województwo  - WIELKOPOLSKIE / 300505 / "},23965072,26608327,{"$f":"ISNUMBER(SEARCH(Wyszukiwarka!$A$1,'Porównanie dochodów JST'!J2129))","v":false},{"$f":"IF(M2129,COUNTIF($M$16:M2129,TRUE),\"\")","v":""},{"$f":"IFERROR(INDEX($J$16:$J$2822,MATCH(ROWS($J$16:J2129),$N$16:$N$2822,0)),\"\")","v":""}]
["30","06","01","3","300601","Gmina miejsko-wiejska","WIELKOPOLSKIE","jarociński","JARACZEWO","JARACZEWO - Gmina miejsko-wiejska / Powiat jarociński / Województwo  - WIELKOPOLSKIE / 300601 / ",29991947,32730941.577844664,{"$f":"ISNUMBER(SEARCH(Wyszukiwarka!$A$1,'Porównanie dochodów JST'!J2130))","v":false},{"$f":"IF(M2130,COUNTIF($M$16:M2130,TRUE),\"\")","v":""},{"$f":"IFERROR(INDEX($J$16:$J$2822,MATCH(ROWS($J$16:J2130),$N$16:$N$2822,0)),\"\")","v":""}]
["30","06","02","3","300602","Gmina miejsko-wiejska","WIELKOPOLSKIE","jarociński","JAROCIN","JAROCIN - Gmina miejsko-wiejska / Powiat jarociński / Województwo  - WIELKOPOLSKIE / 300602 / ",154263264,167689747.7369352,{"$f":"ISNUMBER(SEARCH(Wyszukiwarka!$A$1,'Porównanie dochodów JST'!J2131))","v":false},{"$f":"IF(M2131,COUNTIF($M$16:M2131,TRUE),\"\")","v":""},{"$f":"IFERROR(INDEX($J$16:$J$2822,MATCH(ROWS($J$16:J2131),$N$16:$N$2822,0)),\"\")","v":""}]
["30","06","03","2","300603","Gmina wiejska","WIELKOPOLSKIE","jarociński","KOTLIN","KOTLIN - Gmina wiejska / Powiat jarociński / Województwo  - WIELKOPOLSKIE / 300603 / ",26053490,28740733,{"$f":"ISNUMBER(SEARCH(Wyszukiwarka!$A$1,'Porównanie dochodów JST'!J2132))","v":false},{"$f":"IF(M2132,COUNTIF($M$16:M2132,TRUE),\"\")","v":""},{"$f":"IFERROR(INDEX($J$16:$J$2822,MATCH(ROWS($J$16:J2132),$N$16:$N$2822,0)),\"\")","v":""}]
["30","06","04","3","300604","Gmina miejsko-wiejska","WIELKOPOLSKIE","jarociński","ŻERKÓW","ŻERKÓW - Gmina miejsko-wiejska / Powiat jarociński / Województwo  - WIELKOPOLSKIE / 300604 / ",35091786,38540782.880024217,{"$f":"ISNUMBER(SEARCH(Wyszukiwarka!$A$1,'Porównanie dochodów JST'!J2133))","v":false},{"$f":"IF(M2133,COUNTIF($M$16:M2133,TRUE),\"\")","v":""},{"$f":"IFERROR(INDEX($J$16:$J$2822,MATCH(ROWS($J$16:J2133),$N$16:$N$2822,0)),\"\")","v":""}]
["30","07","01","2","300701","Gmina wiejska","WIELKOPOLSKIE","kaliski","BLIZANÓW","BLIZANÓW - Gmina wiejska / Powiat kaliski / Województwo  - WIELKOPOLSKIE / 300701 / ",37594153,41610083.870302849,{"$f":"ISNUMBER(SEARCH(Wyszukiwarka!$A$1,'Porównanie dochodów JST'!J2134))","v":false},{"$f":"IF(M2134,COUNTIF($M$16:M2134,TRUE),\"\")","v":""},{"$f":"IFERROR(INDEX($J$16:$J$2822,MATCH(ROWS($J$16:J2134),$N$16:$N$2822,0)),\"\")","v":""}]
["30","07","02","2","300702","Gmina wiejska","WIELKOPOLSKIE","kaliski","BRZEZINY","BRZEZINY - Gmina wiejska / Powiat kaliski / Województwo  - WIELKOPOLSKIE / 300702 / ",23798738,25902979,{"$f":"ISNUMBER(SEARCH(Wyszukiwarka!$A$1,'Porównanie dochodów JST'!J2135))","v":false},{"$f":"IF(M2135,COUNTIF($M$16:M2135,TRUE),\"\")","v":""},{"$f":"IFERROR(INDEX($J$16:$J$2822,MATCH(ROWS($J$16:J2135),$N$16:$N$2822,0)),\"\")","v":""}]
["30","07","03","2","300703","Gmina wiejska","WIELKOPOLSKIE","kaliski","CEKÓW-KOLONIA","CEKÓW-KOLONIA - Gmina wiejska / Powiat kaliski / Województwo  - WIELKOPOLSKIE / 300703 / ",20089683,22060721,{"$f":"ISNUMBER(SEARCH(Wyszukiwarka!$A$1,'Porównanie dochodów JST'!J2136))","v":false},{"$f":"IF(M2136,COUNTIF($M$16:M2136,TRUE),\"\")","v":""},{"$f":"IFERROR(INDEX($J$16:$J$2822,MATCH(ROWS($J$16:J2136),$N$16:$N$2822,0)),\"\")","v":""}]
["30","07","04","2","300704","Gmina wiejska","WIELKOPOLSKIE","kaliski","GODZIESZE WIELKIE","GODZIESZE WIELKIE - Gmina wiejska / Powiat kaliski / Województwo  - WIELKOPOLSKIE / 300704 / ",40251352,44219687.665000722,{"$f":"ISNUMBER(SEARCH(Wyszukiwarka!$A$1,'Porównanie dochodów JST'!J2137))","v":false},{"$f":"IF(M2137,COUNTIF($M$16:M2137,TRUE),\"\")","v":""},{"$f":"IFERROR(INDEX($J$16:$J$2822,MATCH(ROWS($J$16:J2137),$N$16:$N$2822,0)),\"\")","v":""}]
["30","07","05","2","300705","Gmina wiejska","WIELKOPOLSKIE","kaliski","KOŹMINEK","KOŹMINEK - Gmina wiejska / Powiat kaliski / Województwo  - WIELKOPOLSKIE / 300705 / ",27481347,30187307,{"$f":"ISNUMBER(SEARCH(Wyszukiwarka!$A$1,'Porównanie dochodów JST'!J2138))","v":false},{"$f":"IF(M2138,COUNTIF($M$16:M2138,TRUE),\"\")","v":""},{"$f":"IFERROR(INDEX($J$16:$J$2822,MATCH(ROWS($J$16:J2138),$N$16:$N$2822,0)),\"\")","v":""}]
["30","07","06","2","300706","Gmina wiejska","WIELKOPOLSKIE","kaliski","LISKÓW","LISKÓW - Gmina wiejska / Powiat kaliski / Województwo  - WIELKOPOLSKIE / 300706 / ",21359911,23378109,{"$f":"ISNUMBER(SEARCH(Wyszukiwarka!$A$1,'Porównanie dochodów JST'!J2139))","v":false},{"$f":"IF(M2139,COUNTIF($M$16:M2139,TRUE),\"\")","v":""},{"$f":"IFERROR(INDEX($J$16:$J$2822,MATCH(ROWS($J$16:J2139),$N$16:$N$2822,0)),\"\")","v":""}]
["30","07","07","2","300707","Gmina wiejska","WIELKOPOLSKIE","kaliski","MYCIELIN","MYCIELIN - Gmina wiejska / Powiat kaliski / Województwo  - WIELKOPOLSKIE / 300707 / ",21554331,23525112.788981542,{"$f":"ISNUMBER(SEARCH(Wyszukiwarka!$A$1,'Porównanie dochodów JST'!J2140))","v":false},{"$f":"IF(M2140,COUNTIF($M$16:M2140,TRUE),\"\")","v":""},{"$f":"IFERROR(INDEX($J$16:$J$2822,MATCH(ROWS($J$16:J2140),$N$16:$N$2822,0)),\"\")","v":""}]
["30","07","08","3","300708","Gmina miejsko-wiejska","WIELKOPOLSKIE","kaliski","OPATÓWEK","OPATÓWEK - Gmina miejsko-wiejska / Powiat kaliski / Województwo  - WIELKOPOLSKIE / 300708 / ",42592466,46825383.613104813,{"$f":"ISNUMBER(SEARCH(Wyszukiwarka!$A$1,'Porównanie dochodów JST'!J2141))","v":false},{"$f":"IF(M2141,COUNTIF($M$16:M2141,TRUE),\"\")","v":""},{"$f":"IFERROR(INDEX($J$16:$J$2822,MATCH(ROWS($J$16:J2141),$N$16:$N$2822,0)),\"\")","v":""}]
["30","07","09","3","300709","Gmina miejsko-wiejska","WIELKOPOLSKIE","kaliski","STAWISZYN","STAWISZYN - Gmina miejsko-wiejska / Powiat kaliski / Województwo  - WIELKOPOLSKIE / 300709 / ",25414919,28077263.745756328,{"$f":"ISNUMBER(SEARCH(Wyszukiwarka!$A$1,'Porównanie dochodów JST'!J2142))","v":false},{"$f":"IF(M2142,COUNTIF($M$16:M2142,TRUE),\"\")","v":""},{"$f":"IFERROR(INDEX($J$16:$J$2822,MATCH(ROWS($J$16:J2142),$N$16:$N$2822,0)),\"\")","v":""}]
["30","07","10","2","300710","Gmina wiejska","WIELKOPOLSKIE","kaliski","SZCZYTNIKI","SZCZYTNIKI - Gmina wiejska / Powiat kaliski / Województwo  - WIELKOPOLSKIE / 300710 / ",32318011,35230587.477757767,{"$f":"ISNUMBER(SEARCH(Wyszukiwarka!$A$1,'Porównanie dochodów JST'!J2143))","v":false},{"$f":"IF(M2143,COUNTIF($M$16:M2143,TRUE),\"\")","v":""},{"$f":"IFERROR(INDEX($J$16:$J$2822,MATCH(ROWS($J$16:J2143),$N$16:$N$2822,0)),\"\")","v":""}]
["30","07","11","2","300711","Gmina wiejska","WIELKOPOLSKIE","kaliski","ŻELAZKÓW","ŻELAZKÓW - Gmina wiejska / Powiat kaliski / Województwo  - WIELKOPOLSKIE / 300711 / ",45678864,49781825.592745535,{"$f":"ISNUMBER(SEARCH(Wyszukiwarka!$A$1,'Porównanie dochodów JST'!J2144))","v":false},{"$f":"IF(M2144,COUNTIF($M$16:M2144,TRUE),\"\")","v":""},{"$f":"IFERROR(INDEX($J$16:$J$2822,MATCH(ROWS($J$16:J2144),$N$16:$N$2822,0)),\"\")","v":""}]
["30","08","01","2","300801","Gmina wiejska","WIELKOPOLSKIE","kępiński","BARANÓW","BARANÓW - Gmina wiejska / Powiat kępiński / Województwo  - WIELKOPOLSKIE / 300801 / ",45017523,49310543.717286691,{"$f":"ISNUMBER(SEARCH(Wyszukiwarka!$A$1,'Porównanie dochodów JST'!J2145))","v":false},{"$f":"IF(M2145,COUNTIF($M$16:M2145,TRUE),\"\")","v":""},{"$f":"IFERROR(INDEX($J$16:$J$2822,MATCH(ROWS($J$16:J2145),$N$16:$N$2822,0)),\"\")","v":""}]
["30","08","02","2","300802","Gmina wiejska","WIELKOPOLSKIE","kępiński","BRALIN","BRALIN - Gmina wiejska / Powiat kępiński / Województwo  - WIELKOPOLSKIE / 300802 / ",21633089,24180876,{"$f":"ISNUMBER(SEARCH(Wyszukiwarka!$A$1,'Porównanie dochodów JST'!J2146))","v":false},{"$f":"IF(M2146,COUNTIF($M$16:M2146,TRUE),\"\")","v":""},{"$f":"IFERROR(INDEX($J$16:$J$2822,MATCH(ROWS($J$16:J2146),$N$16:$N$2822,0)),\"\")","v":""}]
["30","08","03","3","300803","Gmina miejsko-wiejska","WIELKOPOLSKIE","kępiński","KĘPNO","KĘPNO - Gmina miejsko-wiejska / Powiat kępiński / Województwo  - WIELKOPOLSKIE / 300803 / ",90521290,97410632.900214463,{"$f":"ISNUMBER(SEARCH(Wyszukiwarka!$A$1,'Porównanie dochodów JST'!J2147))","v":false},{"$f":"IF(M2147,COUNTIF($M$16:M2147,TRUE),\"\")","v":""},{"$f":"IFERROR(INDEX($J$16:$J$2822,MATCH(ROWS($J$16:J2147),$N$16:$N$2822,0)),\"\")","v":""}]
["30","08","04","2","300804","Gmina wiejska","WIELKOPOLSKIE","kępiński","ŁĘKA OPATOWSKA","ŁĘKA OPATOWSKA - Gmina wiejska / Powiat kępiński / Województwo  - WIELKOPOLSKIE / 300804 / ",23953045,26255923.541434228,{"$f":"ISNUMBER(SEARCH(Wyszukiwarka!$A$1,'Porównanie dochodów JST'!J2148))","v":false},{"$f":"IF(M2148,COUNTIF($M$16:M2148,TRUE),\"\")","v":""},{"$f":"IFERROR(INDEX($J$16:$J$2822,MATCH(ROWS($J$16:J2148),$N$16:$N$2822,0)),\"\")","v":""}]
["30","08","05","2","300805","Gmina wiejska","WIELKOPOLSKIE","kępiński","PERZÓW","PERZÓW - Gmina wiejska / Powiat kępiński / Województwo  - WIELKOPOLSKIE / 300805 / ",22929747,24787632,{"$f":"ISNUMBER(SEARCH(Wyszukiwarka!$A$1,'Porównanie dochodów JST'!J2149))","v":false},{"$f":"IF(M2149,COUNTIF($M$16:M2149,TRUE),\"\")","v":""},{"$f":"IFERROR(INDEX($J$16:$J$2822,MATCH(ROWS($J$16:J2149),$N$16:$N$2822,0)),\"\")","v":""}]
["30","08","06","2","300806","Gmina wiejska","WIELKOPOLSKIE","kępiński","RYCHTAL","RYCHTAL - Gmina wiejska / Powiat kępiński / Województwo  - WIELKOPOLSKIE / 300806 / ",14094958,15458653,{"$f":"ISNUMBER(SEARCH(Wyszukiwarka!$A$1,'Porównanie dochodów JST'!J2150))","v":false},{"$f":"IF(M2150,COUNTIF($M$16:M2150,TRUE),\"\")","v":""},{"$f":"IFERROR(INDEX($J$16:$J$2822,MATCH(ROWS($J$16:J2150),$N$16:$N$2822,0)),\"\")","v":""}]
["30","08","07","2","300807","Gmina wiejska","WIELKOPOLSKIE","kępiński","TRZCINICA","TRZCINICA - Gmina wiejska / Powiat kępiński / Województwo  - WIELKOPOLSKIE / 300807 / ",18101650,20083624.699844625,{"$f":"ISNUMBER(SEARCH(Wyszukiwarka!$A$1,'Porównanie dochodów JST'!J2151))","v":false},{"$f":"IF(M2151,COUNTIF($M$16:M2151,TRUE),\"\")","v":""},{"$f":"IFERROR(INDEX($J$16:$J$2822,MATCH(ROWS($J$16:J2151),$N$16:$N$2822,0)),\"\")","v":""}]
["30","09","01","1","300901","Gmina miejska","WIELKOPOLSKIE","kolski","KOŁO","KOŁO - Gmina miejska / Powiat kolski / Województwo  - WIELKOPOLSKIE / 300901 / ",71283848,76834472.645508692,{"$f":"ISNUMBER(SEARCH(Wyszukiwarka!$A$1,'Porównanie dochodów JST'!J2152))","v":false},{"$f":"IF(M2152,COUNTIF($M$16:M2152,TRUE),\"\")","v":""},{"$f":"IFERROR(INDEX($J$16:$J$2822,MATCH(ROWS($J$16:J2152),$N$16:$N$2822,0)),\"\")","v":""}]
["30","09","02","2","300902","Gmina wiejska","WIELKOPOLSKIE","kolski","BABIAK","BABIAK - Gmina wiejska / Powiat kolski / Województwo  - WIELKOPOLSKIE / 300902 / ",28700093,31433585.54357294,{"$f":"ISNUMBER(SEARCH(Wyszukiwarka!$A$1,'Porównanie dochodów JST'!J2153))","v":false},{"$f":"IF(M2153,COUNTIF($M$16:M2153,TRUE),\"\")","v":""},{"$f":"IFERROR(INDEX($J$16:$J$2822,MATCH(ROWS($J$16:J2153),$N$16:$N$2822,0)),\"\")","v":""}]
["30","09","03","2","300903","Gmina wiejska","WIELKOPOLSKIE","kolski","CHODÓW","CHODÓW - Gmina wiejska / Powiat kolski / Województwo  - WIELKOPOLSKIE / 300903 / ",10779754,12052641,{"$f":"ISNUMBER(SEARCH(Wyszukiwarka!$A$1,'Porównanie dochodów JST'!J2154))","v":false},{"$f":"IF(M2154,COUNTIF($M$16:M2154,TRUE),\"\")","v":""},{"$f":"IFERROR(INDEX($J$16:$J$2822,MATCH(ROWS($J$16:J2154),$N$16:$N$2822,0)),\"\")","v":""}]
["30","09","04","3","300904","Gmina miejsko-wiejska","WIELKOPOLSKIE","kolski","DĄBIE","DĄBIE - Gmina miejsko-wiejska / Powiat kolski / Województwo  - WIELKOPOLSKIE / 300904 / ",23188815,25262077,{"$f":"ISNUMBER(SEARCH(Wyszukiwarka!$A$1,'Porównanie dochodów JST'!J2155))","v":false},{"$f":"IF(M2155,COUNTIF($M$16:M2155,TRUE),\"\")","v":""},{"$f":"IFERROR(INDEX($J$16:$J$2822,MATCH(ROWS($J$16:J2155),$N$16:$N$2822,0)),\"\")","v":""}]
["30","09","05","2","300905","Gmina wiejska","WIELKOPOLSKIE","kolski","GRZEGORZEW","GRZEGORZEW - Gmina wiejska / Powiat kolski / Województwo  - WIELKOPOLSKIE / 300905 / ",20952536,22966656,{"$f":"ISNUMBER(SEARCH(Wyszukiwarka!$A$1,'Porównanie dochodów JST'!J2156))","v":false},{"$f":"IF(M2156,COUNTIF($M$16:M2156,TRUE),\"\")","v":""},{"$f":"IFERROR(INDEX($J$16:$J$2822,MATCH(ROWS($J$16:J2156),$N$16:$N$2822,0)),\"\")","v":""}]
["30","09","06","3","300906","Gmina miejsko-wiejska","WIELKOPOLSKIE","kolski","KŁODAWA","KŁODAWA - Gmina miejsko-wiejska / Powiat kolski / Województwo  - WIELKOPOLSKIE / 300906 / ",43420641,47510954.758335367,{"$f":"ISNUMBER(SEARCH(Wyszukiwarka!$A$1,'Porównanie dochodów JST'!J2157))","v":false},{"$f":"IF(M2157,COUNTIF($M$16:M2157,TRUE),\"\")","v":""},{"$f":"IFERROR(INDEX($J$16:$J$2822,MATCH(ROWS($J$16:J2157),$N$16:$N$2822,0)),\"\")","v":""}]
["30","09","07","2","300907","Gmina wiejska","WIELKOPOLSKIE","kolski","KOŁO","KOŁO - Gmina wiejska / Powiat kolski / Województwo  - WIELKOPOLSKIE / 300907 / ",32816508,35621911,{"$f":"ISNUMBER(SEARCH(Wyszukiwarka!$A$1,'Porównanie dochodów JST'!J2158))","v":false},{"$f":"IF(M2158,COUNTIF($M$16:M2158,TRUE),\"\")","v":""},{"$f":"IFERROR(INDEX($J$16:$J$2822,MATCH(ROWS($J$16:J2158),$N$16:$N$2822,0)),\"\")","v":""}]
["30","09","08","2","300908","Gmina wiejska","WIELKOPOLSKIE","kolski","KOŚCIELEC","KOŚCIELEC - Gmina wiejska / Powiat kolski / Województwo  - WIELKOPOLSKIE / 300908 / ",25845101,28521012.64234449,{"$f":"ISNUMBER(SEARCH(Wyszukiwarka!$A$1,'Porównanie dochodów JST'!J2159))","v":false},{"$f":"IF(M2159,COUNTIF($M$16:M2159,TRUE),\"\")","v":""},{"$f":"IFERROR(INDEX($J$16:$J$2822,MATCH(ROWS($J$16:J2159),$N$16:$N$2822,0)),\"\")","v":""}]
["30","09","09","2","300909","Gmina wiejska","WIELKOPOLSKIE","kolski","OLSZÓWKA","OLSZÓWKA - Gmina wiejska / Powiat kolski / Województwo  - WIELKOPOLSKIE / 300909 / ",16758929,18662493.994483795,{"$f":"ISNUMBER(SEARCH(Wyszukiwarka!$A$1,'Porównanie dochodów JST'!J2160))","v":false},{"$f":"IF(M2160,COUNTIF($M$16:M2160,TRUE),\"\")","v":""},{"$f":"IFERROR(INDEX($J$16:$J$2822,MATCH(ROWS($J$16:J2160),$N$16:$N$2822,0)),\"\")","v":""}]
["30","09","10","2","300910","Gmina wiejska","WIELKOPOLSKIE","kolski","OSIEK MAŁY","OSIEK MAŁY - Gmina wiejska / Powiat kolski / Województwo  - WIELKOPOLSKIE / 300910 / ",21787549,24384622,{"$f":"ISNUMBER(SEARCH(Wyszukiwarka!$A$1,'Porównanie dochodów JST'!J2161))","v":false},{"$f":"IF(M2161,COUNTIF($M$16:M2161,TRUE),\"\")","v":""},{"$f":"IFERROR(INDEX($J$16:$J$2822,MATCH(ROWS($J$16:J2161),$N$16:$N$2822,0)),\"\")","v":""}]
["30","09","11","3","300911","Gmina miejsko-wiejska","WIELKOPOLSKIE","kolski","PRZEDECZ","PRZEDECZ - Gmina miejsko-wiejska / Powiat kolski / Województwo  - WIELKOPOLSKIE / 300911 / ",15776602,17165582.735158179,{"$f":"ISNUMBER(SEARCH(Wyszukiwarka!$A$1,'Porównanie dochodów JST'!J2162))","v":false},{"$f":"IF(M2162,COUNTIF($M$16:M2162,TRUE),\"\")","v":""},{"$f":"IFERROR(INDEX($J$16:$J$2822,MATCH(ROWS($J$16:J2162),$N$16:$N$2822,0)),\"\")","v":""}]
["30","10","01","3","301001","Gmina miejsko-wiejska","WIELKOPOLSKIE","koniński","GOLINA","GOLINA - Gmina miejsko-wiejska / Powiat koniński / Województwo  - WIELKOPOLSKIE / 301001 / ",41293556,45410589,{"$f":"ISNUMBER(SEARCH(Wyszukiwarka!$A$1,'Porównanie dochodów JST'!J2163))","v":false},{"$f":"IF(M2163,COUNTIF($M$16:M2163,TRUE),\"\")","v":""},{"$f":"IFERROR(INDEX($J$16:$J$2822,MATCH(ROWS($J$16:J2163),$N$16:$N$2822,0)),\"\")","v":""}]
["30","10","02","2","301002","Gmina wiejska","WIELKOPOLSKIE","koniński","GRODZIEC","GRODZIEC - Gmina wiejska / Powiat koniński / Województwo  - WIELKOPOLSKIE / 301002 / ",24063614,26074940.835815992,{"$f":"ISNUMBER(SEARCH(Wyszukiwarka!$A$1,'Porównanie dochodów JST'!J2164))","v":false},{"$f":"IF(M2164,COUNTIF($M$16:M2164,TRUE),\"\")","v":""},{"$f":"IFERROR(INDEX($J$16:$J$2822,MATCH(ROWS($J$16:J2164),$N$16:$N$2822,0)),\"\")","v":""}]
["30","10","03","2","301003","Gmina wiejska","WIELKOPOLSKIE","koniński","KAZIMIERZ BISKUPI","KAZIMIERZ BISKUPI - Gmina wiejska / Powiat koniński / Województwo  - WIELKOPOLSKIE / 301003 / ",34256766,38734707.721997492,{"$f":"ISNUMBER(SEARCH(Wyszukiwarka!$A$1,'Porównanie dochodów JST'!J2165))","v":false},{"$f":"IF(M2165,COUNTIF($M$16:M2165,TRUE),\"\")","v":""},{"$f":"IFERROR(INDEX($J$16:$J$2822,MATCH(ROWS($J$16:J2165),$N$16:$N$2822,0)),\"\")","v":""}]
["30","10","04","3","301004","Gmina miejsko-wiejska","WIELKOPOLSKIE","koniński","KLECZEW","KLECZEW - Gmina miejsko-wiejska / Powiat koniński / Województwo  - WIELKOPOLSKIE / 301004 / ",27274618,30684123,{"$f":"ISNUMBER(SEARCH(Wyszukiwarka!$A$1,'Porównanie dochodów JST'!J2166))","v":false},{"$f":"IF(M2166,COUNTIF($M$16:M2166,TRUE),\"\")","v":""},{"$f":"IFERROR(INDEX($J$16:$J$2822,MATCH(ROWS($J$16:J2166),$N$16:$N$2822,0)),\"\")","v":""}]
["30","10","05","2","301005","Gmina wiejska","WIELKOPOLSKIE","koniński","KRAMSK","KRAMSK - Gmina wiejska / Powiat koniński / Województwo  - WIELKOPOLSKIE / 301005 / ",44877493,48993529.996959232,{"$f":"ISNUMBER(SEARCH(Wyszukiwarka!$A$1,'Porównanie dochodów JST'!J2167))","v":false},{"$f":"IF(M2167,COUNTIF($M$16:M2167,TRUE),\"\")","v":""},{"$f":"IFERROR(INDEX($J$16:$J$2822,MATCH(ROWS($J$16:J2167),$N$16:$N$2822,0)),\"\")","v":""}]
["30","10","06","2","301006","Gmina wiejska","WIELKOPOLSKIE","koniński","KRZYMÓW","KRZYMÓW - Gmina wiejska / Powiat koniński / Województwo  - WIELKOPOLSKIE / 301006 / ",33543288,36848751.976015195,{"$f":"ISNUMBER(SEARCH(Wyszukiwarka!$A$1,'Porównanie dochodów JST'!J2168))","v":false},{"$f":"IF(M2168,COUNTIF($M$16:M2168,TRUE),\"\")","v":""},{"$f":"IFERROR(INDEX($J$16:$J$2822,MATCH(ROWS($J$16:J2168),$N$16:$N$2822,0)),\"\")","v":""}]
["30","10","07","3","301007","Gmina miejsko-wiejska","WIELKOPOLSKIE","koniński","RYCHWAŁ","RYCHWAŁ - Gmina miejsko-wiejska / Powiat koniński / Województwo  - WIELKOPOLSKIE / 301007 / ",29721499,33982547.329058468,{"$f":"ISNUMBER(SEARCH(Wyszukiwarka!$A$1,'Porównanie dochodów JST'!J2169))","v":false},{"$f":"IF(M2169,COUNTIF($M$16:M2169,TRUE),\"\")","v":""},{"$f":"IFERROR(INDEX($J$16:$J$2822,MATCH(ROWS($J$16:J2169),$N$16:$N$2822,0)),\"\")","v":""}]
["30","10","08","2","301008","Gmina wiejska","WIELKOPOLSKIE","koniński","RZGÓW","RZGÓW - Gmina wiejska / Powiat koniński / Województwo  - WIELKOPOLSKIE / 301008 / ",29248786,31956294.900945026,{"$f":"ISNUMBER(SEARCH(Wyszukiwarka!$A$1,'Porównanie dochodów JST'!J2170))","v":false},{"$f":"IF(M2170,COUNTIF($M$16:M2170,TRUE),\"\")","v":""},{"$f":"IFERROR(INDEX($J$16:$J$2822,MATCH(ROWS($J$16:J2170),$N$16:$N$2822,0)),\"\")","v":""}]
["30","10","09","2","301009","Gmina wiejska","WIELKOPOLSKIE","koniński","SKULSK","SKULSK - Gmina wiejska / Powiat koniński / Województwo  - WIELKOPOLSKIE / 301009 / ",23667548,25734616.715398692,{"$f":"ISNUMBER(SEARCH(Wyszukiwarka!$A$1,'Porównanie dochodów JST'!J2171))","v":false},{"$f":"IF(M2171,COUNTIF($M$16:M2171,TRUE),\"\")","v":""},{"$f":"IFERROR(INDEX($J$16:$J$2822,MATCH(ROWS($J$16:J2171),$N$16:$N$2822,0)),\"\")","v":""}]
["30","10","10","3","301010","Gmina miejsko-wiejska","WIELKOPOLSKIE","koniński","SOMPOLNO","SOMPOLNO - Gmina miejsko-wiejska / Powiat koniński / Województwo  - WIELKOPOLSKIE / 301010 / ",35185034,39170913,{"$f":"ISNUMBER(SEARCH(Wyszukiwarka!$A$1,'Porównanie dochodów JST'!J2172))","v":false},{"$f":"IF(M2172,COUNTIF($M$16:M2172,TRUE),\"\")","v":""},{"$f":"IFERROR(INDEX($J$16:$J$2822,MATCH(ROWS($J$16:J2172),$N$16:$N$2822,0)),\"\")","v":""}]
["30","10","11","2","301011","Gmina wiejska","WIELKOPOLSKIE","koniński","STARE MIASTO","STARE MIASTO - Gmina wiejska / Powiat koniński / Województwo  - WIELKOPOLSKIE / 301011 / ",48692595,53031201,{"$f":"ISNUMBER(SEARCH(Wyszukiwarka!$A$1,'Porównanie dochodów JST'!J2173))","v":false},{"$f":"IF(M2173,COUNTIF($M$16:M2173,TRUE),\"\")","v":""},{"$f":"IFERROR(INDEX($J$16:$J$2822,MATCH(ROWS($J$16:J2173),$N$16:$N$2822,0)),\"\")","v":""}]
["30","10","12","3","301012","Gmina miejsko-wiejska","WIELKOPOLSKIE","koniński","ŚLESIN","ŚLESIN - Gmina miejsko-wiejska / Powiat koniński / Województwo  - WIELKOPOLSKIE / 301012 / ",43562225,47585548.513235621,{"$f":"ISNUMBER(SEARCH(Wyszukiwarka!$A$1,'Porównanie dochodów JST'!J2174))","v":false},{"$f":"IF(M2174,COUNTIF($M$16:M2174,TRUE),\"\")","v":""},{"$f":"IFERROR(INDEX($J$16:$J$2822,MATCH(ROWS($J$16:J2174),$N$16:$N$2822,0)),\"\")","v":""}]
["30","10","13","2","301013","Gmina wiejska","WIELKOPOLSKIE","koniński","WIERZBINEK","WIERZBINEK - Gmina wiejska / Powiat koniński / Województwo  - WIELKOPOLSKIE / 301013 / ",20617750,23297228.546283185,{"$f":"ISNUMBER(SEARCH(Wyszukiwarka!$A$1,'Porównanie dochodów JST'!J2175))","v":false},{"$f":"IF(M2175,COUNTIF($M$16:M2175,TRUE),\"\")","v":""},{"$f":"IFERROR(INDEX($J$16:$J$2822,MATCH(ROWS($J$16:J2175),$N$16:$N$2822,0)),\"\")","v":""}]
["30","10","14","2","301014","Gmina wiejska","WIELKOPOLSKIE","koniński","WILCZYN","WILCZYN - Gmina wiejska / Powiat koniński / Województwo  - WIELKOPOLSKIE / 301014 / ",18088136,20146991,{"$f":"ISNUMBER(SEARCH(Wyszukiwarka!$A$1,'Porównanie dochodów JST'!J2176))","v":false},{"$f":"IF(M2176,COUNTIF($M$16:M2176,TRUE),\"\")","v":""},{"$f":"IFERROR(INDEX($J$16:$J$2822,MATCH(ROWS($J$16:J2176),$N$16:$N$2822,0)),\"\")","v":""}]
["30","11","01","1","301101","Gmina miejska","WIELKOPOLSKIE","kościański","KOŚCIAN","KOŚCIAN - Gmina miejska / Powiat kościański / Województwo  - WIELKOPOLSKIE / 301101 / ",89359156,95803304.1065,{"$f":"ISNUMBER(SEARCH(Wyszukiwarka!$A$1,'Porównanie dochodów JST'!J2177))","v":false},{"$f":"IF(M2177,COUNTIF($M$16:M2177,TRUE),\"\")","v":""},{"$f":"IFERROR(INDEX($J$16:$J$2822,MATCH(ROWS($J$16:J2177),$N$16:$N$2822,0)),\"\")","v":""}]
["30","11","02","3","301102","Gmina miejsko-wiejska","WIELKOPOLSKIE","kościański","CZEMPIŃ","CZEMPIŃ - Gmina miejsko-wiejska / Powiat kościański / Województwo  - WIELKOPOLSKIE / 301102 / ",39226041,43321939.899630241,{"$f":"ISNUMBER(SEARCH(Wyszukiwarka!$A$1,'Porównanie dochodów JST'!J2178))","v":false},{"$f":"IF(M2178,COUNTIF($M$16:M2178,TRUE),\"\")","v":""},{"$f":"IFERROR(INDEX($J$16:$J$2822,MATCH(ROWS($J$16:J2178),$N$16:$N$2822,0)),\"\")","v":""}]
["30","11","03","2","301103","Gmina wiejska","WIELKOPOLSKIE","kościański","KOŚCIAN","KOŚCIAN - Gmina wiejska / Powiat kościański / Województwo  - WIELKOPOLSKIE / 301103 / ",52606063,57653371,{"$f":"ISNUMBER(SEARCH(Wyszukiwarka!$A$1,'Porównanie dochodów JST'!J2179))","v":false},{"$f":"IF(M2179,COUNTIF($M$16:M2179,TRUE),\"\")","v":""},{"$f":"IFERROR(INDEX($J$16:$J$2822,MATCH(ROWS($J$16:J2179),$N$16:$N$2822,0)),\"\")","v":""}]
["30","11","04","3","301104","Gmina miejsko-wiejska","WIELKOPOLSKIE","kościański","KRZYWIŃ","KRZYWIŃ - Gmina miejsko-wiejska / Powiat kościański / Województwo  - WIELKOPOLSKIE / 301104 / ",35192192,38638868,{"$f":"ISNUMBER(SEARCH(Wyszukiwarka!$A$1,'Porównanie dochodów JST'!J2180))","v":false},{"$f":"IF(M2180,COUNTIF($M$16:M2180,TRUE),\"\")","v":""},{"$f":"IFERROR(INDEX($J$16:$J$2822,MATCH(ROWS($J$16:J2180),$N$16:$N$2822,0)),\"\")","v":""}]
["30","11","05","3","301105","Gmina miejsko-wiejska","WIELKOPOLSKIE","kościański","ŚMIGIEL","ŚMIGIEL - Gmina miejsko-wiejska / Powiat kościański / Województwo  - WIELKOPOLSKIE / 301105 / ",54876408,59993282,{"$f":"ISNUMBER(SEARCH(Wyszukiwarka!$A$1,'Porównanie dochodów JST'!J2181))","v":false},{"$f":"IF(M2181,COUNTIF($M$16:M2181,TRUE),\"\")","v":""},{"$f":"IFERROR(INDEX($J$16:$J$2822,MATCH(ROWS($J$16:J2181),$N$16:$N$2822,0)),\"\")","v":""}]
["30","12","01","1","301201","Gmina miejska","WIELKOPOLSKIE","krotoszyński","SULMIERZYCE","SULMIERZYCE - Gmina miejska / Powiat krotoszyński / Województwo  - WIELKOPOLSKIE / 301201 / ",9438307,10651091,{"$f":"ISNUMBER(SEARCH(Wyszukiwarka!$A$1,'Porównanie dochodów JST'!J2182))","v":false},{"$f":"IF(M2182,COUNTIF($M$16:M2182,TRUE),\"\")","v":""},{"$f":"IFERROR(INDEX($J$16:$J$2822,MATCH(ROWS($J$16:J2182),$N$16:$N$2822,0)),\"\")","v":""}]
["30","12","02","3","301202","Gmina miejsko-wiejska","WIELKOPOLSKIE","krotoszyński","KOBYLIN","KOBYLIN - Gmina miejsko-wiejska / Powiat krotoszyński / Województwo  - WIELKOPOLSKIE / 301202 / ",30572379,33311444.749382131,{"$f":"ISNUMBER(SEARCH(Wyszukiwarka!$A$1,'Porównanie dochodów JST'!J2183))","v":false},{"$f":"IF(M2183,COUNTIF($M$16:M2183,TRUE),\"\")","v":""},{"$f":"IFERROR(INDEX($J$16:$J$2822,MATCH(ROWS($J$16:J2183),$N$16:$N$2822,0)),\"\")","v":""}]
["30","12","03","3","301203","Gmina miejsko-wiejska","WIELKOPOLSKIE","krotoszyński","KOŹMIN WIELKOPOLSKI","KOŹMIN WIELKOPOLSKI - Gmina miejsko-wiejska / Powiat krotoszyński / Województwo  - WIELKOPOLSKIE / 301203 / ",42943795,47151670.607300006,{"$f":"ISNUMBER(SEARCH(Wyszukiwarka!$A$1,'Porównanie dochodów JST'!J2184))","v":false},{"$f":"IF(M2184,COUNTIF($M$16:M2184,TRUE),\"\")","v":""},{"$f":"IFERROR(INDEX($J$16:$J$2822,MATCH(ROWS($J$16:J2184),$N$16:$N$2822,0)),\"\")","v":""}]
["30","12","04","3","301204","Gmina miejsko-wiejska","WIELKOPOLSKIE","krotoszyński","KROTOSZYN","KROTOSZYN - Gmina miejsko-wiejska / Powiat krotoszyński / Województwo  - WIELKOPOLSKIE / 301204 / ",133565165,143459466.21820003,{"$f":"ISNUMBER(SEARCH(Wyszukiwarka!$A$1,'Porównanie dochodów JST'!J2185))","v":false},{"$f":"IF(M2185,COUNTIF($M$16:M2185,TRUE),\"\")","v":""},{"$f":"IFERROR(INDEX($J$16:$J$2822,MATCH(ROWS($J$16:J2185),$N$16:$N$2822,0)),\"\")","v":""}]
["30","12","05","2","301205","Gmina wiejska","WIELKOPOLSKIE","krotoszyński","ROZDRAŻEW","ROZDRAŻEW - Gmina wiejska / Powiat krotoszyński / Województwo  - WIELKOPOLSKIE / 301205 / ",19866853,21837759.819666542,{"$f":"ISNUMBER(SEARCH(Wyszukiwarka!$A$1,'Porównanie dochodów JST'!J2186))","v":false},{"$f":"IF(M2186,COUNTIF($M$16:M2186,TRUE),\"\")","v":""},{"$f":"IFERROR(INDEX($J$16:$J$2822,MATCH(ROWS($J$16:J2186),$N$16:$N$2822,0)),\"\")","v":""}]
["30","12","06","3","301206","Gmina miejsko-wiejska","WIELKOPOLSKIE","krotoszyński","ZDUNY","ZDUNY - Gmina miejsko-wiejska / Powiat krotoszyński / Województwo  - WIELKOPOLSKIE / 301206 / ",28766253,31486499,{"$f":"ISNUMBER(SEARCH(Wyszukiwarka!$A$1,'Porównanie dochodów JST'!J2187))","v":false},{"$f":"IF(M2187,COUNTIF($M$16:M2187,TRUE),\"\")","v":""},{"$f":"IFERROR(INDEX($J$16:$J$2822,MATCH(ROWS($J$16:J2187),$N$16:$N$2822,0)),\"\")","v":""}]
["30","13","01","2","301301","Gmina wiejska","WIELKOPOLSKIE","leszczyński","KRZEMIENIEWO","KRZEMIENIEWO - Gmina wiejska / Powiat leszczyński / Województwo  - WIELKOPOLSKIE / 301301 / ",28961104,31702978,{"$f":"ISNUMBER(SEARCH(Wyszukiwarka!$A$1,'Porównanie dochodów JST'!J2188))","v":false},{"$f":"IF(M2188,COUNTIF($M$16:M2188,TRUE),\"\")","v":""},{"$f":"IFERROR(INDEX($J$16:$J$2822,MATCH(ROWS($J$16:J2188),$N$16:$N$2822,0)),\"\")","v":""}]
["30","13","02","2","301302","Gmina wiejska","WIELKOPOLSKIE","leszczyński","LIPNO","LIPNO - Gmina wiejska / Powiat leszczyński / Województwo  - WIELKOPOLSKIE / 301302 / ",37346887,40747307,{"$f":"ISNUMBER(SEARCH(Wyszukiwarka!$A$1,'Porównanie dochodów JST'!J2189))","v":false},{"$f":"IF(M2189,COUNTIF($M$16:M2189,TRUE),\"\")","v":""},{"$f":"IFERROR(INDEX($J$16:$J$2822,MATCH(ROWS($J$16:J2189),$N$16:$N$2822,0)),\"\")","v":""}]
["30","13","03","3","301303","Gmina miejsko-wiejska","WIELKOPOLSKIE","leszczyński","OSIECZNA","OSIECZNA - Gmina miejsko-wiejska / Powiat leszczyński / Województwo  - WIELKOPOLSKIE / 301303 / ",30694205,34114675,{"$f":"ISNUMBER(SEARCH(Wyszukiwarka!$A$1,'Porównanie dochodów JST'!J2190))","v":false},{"$f":"IF(M2190,COUNTIF($M$16:M2190,TRUE),\"\")","v":""},{"$f":"IFERROR(INDEX($J$16:$J$2822,MATCH(ROWS($J$16:J2190),$N$16:$N$2822,0)),\"\")","v":""}]
["30","13","04","3","301304","Gmina miejsko-wiejska","WIELKOPOLSKIE","leszczyński","RYDZYNA","RYDZYNA - Gmina miejsko-wiejska / Powiat leszczyński / Województwo  - WIELKOPOLSKIE / 301304 / ",39922990,44038411,{"$f":"ISNUMBER(SEARCH(Wyszukiwarka!$A$1,'Porównanie dochodów JST'!J2191))","v":false},{"$f":"IF(M2191,COUNTIF($M$16:M2191,TRUE),\"\")","v":""},{"$f":"IFERROR(INDEX($J$16:$J$2822,MATCH(ROWS($J$16:J2191),$N$16:$N$2822,0)),\"\")","v":""}]
["30","13","05","2","301305","Gmina wiejska","WIELKOPOLSKIE","leszczyński","ŚWIĘCIECHOWA","ŚWIĘCIECHOWA - Gmina wiejska / Powiat leszczyński / Województwo  - WIELKOPOLSKIE / 301305 / ",28344507,31739283,{"$f":"ISNUMBER(SEARCH(Wyszukiwarka!$A$1,'Porównanie dochodów JST'!J2192))","v":false},{"$f":"IF(M2192,COUNTIF($M$16:M2192,TRUE),\"\")","v":""},{"$f":"IFERROR(INDEX($J$16:$J$2822,MATCH(ROWS($J$16:J2192),$N$16:$N$2822,0)),\"\")","v":""}]
["30","13","06","2","301306","Gmina wiejska","WIELKOPOLSKIE","leszczyński","WIJEWO",{"$f":"I2193&$H$12&F2193&$G$12&$H$14&H2193&$G$12&$G$14&$H$12&G2193&$G$12&E2193&$G$12","v":"WIJEWO - Gmina wiejska / Powiat leszczyński / Województwo  - WIELKOPOLSKIE / 301306 / "},15025975,16699159.51678542,{"$f":"ISNUMBER(SEARCH(Wyszukiwarka!$A$1,'Porównanie dochodów JST'!J2193))","v":false},{"$f":"IF(M2193,COUNTIF($M$16:M2193,TRUE),\"\")","v":""},{"$f":"IFERROR(INDEX($J$16:$J$2822,MATCH(ROWS($J$16:J2193),$N$16:$N$2822,0)),\"\")","v":""}]
["30","13","07","2","301307","Gmina wiejska","WIELKOPOLSKIE","leszczyński","WŁOSZAKOWICE","WŁOSZAKOWICE - Gmina wiejska / Powiat leszczyński / Województwo  - WIELKOPOLSKIE / 301307 / ",46299059,50044805,{"$f":"ISNUMBER(SEARCH(Wyszukiwarka!$A$1,'Porównanie dochodów JST'!J2194))","v":false},{"$f":"IF(M2194,COUNTIF($M$16:M2194,TRUE),\"\")","v":""},{"$f":"IFERROR(INDEX($J$16:$J$2822,MATCH(ROWS($J$16:J2194),$N$16:$N$2822,0)),\"\")","v":""}]
["30","14","01","2","301401","Gmina wiejska","WIELKOPOLSKIE","międzychodzki","CHRZYPSKO WIELKIE","CHRZYPSKO WIELKIE - Gmina wiejska / Powiat międzychodzki / Województwo  - WIELKOPOLSKIE / 301401 / ",12076190,13410120,{"$f":"ISNUMBER(SEARCH(Wyszukiwarka!$A$1,'Porównanie dochodów JST'!J2195))","v":false},{"$f":"IF(M2195,COUNTIF($M$16:M2195,TRUE),\"\")","v":""},{"$f":"IFERROR(INDEX($J$16:$J$2822,MATCH(ROWS($J$16:J2195),$N$16:$N$2822,0)),\"\")","v":""}]
["30","14","02","2","301402","Gmina wiejska","WIELKOPOLSKIE","międzychodzki","KWILCZ","KWILCZ - Gmina wiejska / Powiat międzychodzki / Województwo  - WIELKOPOLSKIE / 301402 / ",21021497,23621838,{"$f":"ISNUMBER(SEARCH(Wyszukiwarka!$A$1,'Porównanie dochodów JST'!J2196))","v":false},{"$f":"IF(M2196,COUNTIF($M$16:M2196,TRUE),\"\")","v":""},{"$f":"IFERROR(INDEX($J$16:$J$2822,MATCH(ROWS($J$16:J2196),$N$16:$N$2822,0)),\"\")","v":""}]
["30","14","03","3","301403","Gmina miejsko-wiejska","WIELKOPOLSKIE","międzychodzki","MIĘDZYCHÓD","MIĘDZYCHÓD - Gmina miejsko-wiejska / Powiat międzychodzki / Województwo  - WIELKOPOLSKIE / 301403 / ",51018022,56186371.613800004,{"$f":"ISNUMBER(SEARCH(Wyszukiwarka!$A$1,'Porównanie dochodów JST'!J2197))","v":false},{"$f":"IF(M2197,COUNTIF($M$16:M2197,TRUE),\"\")","v":""},{"$f":"IFERROR(INDEX($J$16:$J$2822,MATCH(ROWS($J$16:J2197),$N$16:$N$2822,0)),\"\")","v":""}]
["30","14","04","3","301404","Gmina miejsko-wiejska","WIELKOPOLSKIE","międzychodzki","SIERAKÓW","SIERAKÓW - Gmina miejsko-wiejska / Powiat międzychodzki / Województwo  - WIELKOPOLSKIE / 301404 / ",29540708,32914144,{"$f":"ISNUMBER(SEARCH(Wyszukiwarka!$A$1,'Porównanie dochodów JST'!J2198))","v":false},{"$f":"IF(M2198,COUNTIF($M$16:M2198,TRUE),\"\")","v":""},{"$f":"IFERROR(INDEX($J$16:$J$2822,MATCH(ROWS($J$16:J2198),$N$16:$N$2822,0)),\"\")","v":""}]
["30","15","01","2","301501","Gmina wiejska","WIELKOPOLSKIE","nowotomyski","KUŚLIN","KUŚLIN - Gmina wiejska / Powiat nowotomyski / Województwo  - WIELKOPOLSKIE / 301501 / ",18497659,20431499.645317435,{"$f":"ISNUMBER(SEARCH(Wyszukiwarka!$A$1,'Porównanie dochodów JST'!J2199))","v":false},{"$f":"IF(M2199,COUNTIF($M$16:M2199,TRUE),\"\")","v":""},{"$f":"IFERROR(INDEX($J$16:$J$2822,MATCH(ROWS($J$16:J2199),$N$16:$N$2822,0)),\"\")","v":""}]
["30","15","02","3","301502","Gmina miejsko-wiejska","WIELKOPOLSKIE","nowotomyski","LWÓWEK","LWÓWEK - Gmina miejsko-wiejska / Powiat nowotomyski / Województwo  - WIELKOPOLSKIE / 301502 / ",32179525,35537126,{"$f":"ISNUMBER(SEARCH(Wyszukiwarka!$A$1,'Porównanie dochodów JST'!J2200))","v":false},{"$f":"IF(M2200,COUNTIF($M$16:M2200,TRUE),\"\")","v":""},{"$f":"IFERROR(INDEX($J$16:$J$2822,MATCH(ROWS($J$16:J2200),$N$16:$N$2822,0)),\"\")","v":""}]
["30","15","03","2","301503","Gmina wiejska","WIELKOPOLSKIE","nowotomyski","MIEDZICHOWO","MIEDZICHOWO - Gmina wiejska / Powiat nowotomyski / Województwo  - WIELKOPOLSKIE / 301503 / ",9540372,10851408.33780944,{"$f":"ISNUMBER(SEARCH(Wyszukiwarka!$A$1,'Porównanie dochodów JST'!J2201))","v":false},{"$f":"IF(M2201,COUNTIF($M$16:M2201,TRUE),\"\")","v":""},{"$f":"IFERROR(INDEX($J$16:$J$2822,MATCH(ROWS($J$16:J2201),$N$16:$N$2822,0)),\"\")","v":""}]
["30","15","04","3","301504","Gmina miejsko-wiejska","WIELKOPOLSKIE","nowotomyski","NOWY TOMYŚL","NOWY TOMYŚL - Gmina miejsko-wiejska / Powiat nowotomyski / Województwo  - WIELKOPOLSKIE / 301504 / ",105932122,116107053.33610001,{"$f":"ISNUMBER(SEARCH(Wyszukiwarka!$A$1,'Porównanie dochodów JST'!J2202))","v":false},{"$f":"IF(M2202,COUNTIF($M$16:M2202,TRUE),\"\")","v":""},{"$f":"IFERROR(INDEX($J$16:$J$2822,MATCH(ROWS($J$16:J2202),$N$16:$N$2822,0)),\"\")","v":""}]
["30","15","05","3","301505","Gmina miejsko-wiejska","WIELKOPOLSKIE","nowotomyski","OPALENICA","OPALENICA - Gmina miejsko-wiejska / Powiat nowotomyski / Województwo  - WIELKOPOLSKIE / 301505 / ",59690369,64626901,{"$f":"ISNUMBER(SEARCH(Wyszukiwarka!$A$1,'Porównanie dochodów JST'!J2203))","v":false},{"$f":"IF(M2203,COUNTIF($M$16:M2203,TRUE),\"\")","v":""},{"$f":"IFERROR(INDEX($J$16:$J$2822,MATCH(ROWS($J$16:J2203),$N$16:$N$2822,0)),\"\")","v":""}]
["30","15","06","3","301506","Gmina miejsko-wiejska","WIELKOPOLSKIE","nowotomyski","ZBĄSZYŃ","ZBĄSZYŃ - Gmina miejsko-wiejska / Powiat nowotomyski / Województwo  - WIELKOPOLSKIE / 301506 / ",48042339,52414584,{"$f":"ISNUMBER(SEARCH(Wyszukiwarka!$A$1,'Porównanie dochodów JST'!J2204))","v":false},{"$f":"IF(M2204,COUNTIF($M$16:M2204,TRUE),\"\")","v":""},{"$f":"IFERROR(INDEX($J$16:$J$2822,MATCH(ROWS($J$16:J2204),$N$16:$N$2822,0)),\"\")","v":""}]
["30","16","01","3","301601","Gmina miejsko-wiejska","WIELKOPOLSKIE","obornicki","OBORNIKI","OBORNIKI - Gmina miejsko-wiejska / Powiat obornicki / Województwo  - WIELKOPOLSKIE / 301601 / ",121967801,130338157.53237416,{"$f":"ISNUMBER(SEARCH(Wyszukiwarka!$A$1,'Porównanie dochodów JST'!J2205))","v":false},{"$f":"IF(M2205,COUNTIF($M$16:M2205,TRUE),\"\")","v":""},{"$f":"IFERROR(INDEX($J$16:$J$2822,MATCH(ROWS($J$16:J2205),$N$16:$N$2822,0)),\"\")","v":""}]
["30","16","02","3","301602","Gmina miejsko-wiejska","WIELKOPOLSKIE","obornicki","ROGOŹNO","ROGOŹNO - Gmina miejsko-wiejska / Powiat obornicki / Województwo  - WIELKOPOLSKIE / 301602 / ",60301653,65531607,{"$f":"ISNUMBER(SEARCH(Wyszukiwarka!$A$1,'Porównanie dochodów JST'!J2206))","v":false},{"$f":"IF(M2206,COUNTIF($M$16:M2206,TRUE),\"\")","v":""},{"$f":"IFERROR(INDEX($J$16:$J$2822,MATCH(ROWS($J$16:J2206),$N$16:$N$2822,0)),\"\")","v":""}]
["30","16","03","2","301603","Gmina wiejska","WIELKOPOLSKIE","obornicki","RYCZYWÓŁ","RYCZYWÓŁ - Gmina wiejska / Powiat obornicki / Województwo  - WIELKOPOLSKIE / 301603 / ",26813153,29488616,{"$f":"ISNUMBER(SEARCH(Wyszukiwarka!$A$1,'Porównanie dochodów JST'!J2207))","v":false},{"$f":"IF(M2207,COUNTIF($M$16:M2207,TRUE),\"\")","v":""},{"$f":"IFERROR(INDEX($J$16:$J$2822,MATCH(ROWS($J$16:J2207),$N$16:$N$2822,0)),\"\")","v":""}]
["30","17","01","1","301701","Gmina miejska","WIELKOPOLSKIE","ostrowski","OSTRÓW WIELKOPOLSKI","OSTRÓW WIELKOPOLSKI - Gmina miejska / Powiat ostrowski / Województwo  - WIELKOPOLSKIE / 301701 / ",229711948,265176152.63999999,{"$f":"ISNUMBER(SEARCH(Wyszukiwarka!$A$1,'Porównanie dochodów JST'!J2208))","v":false},{"$f":"IF(M2208,COUNTIF($M$16:M2208,TRUE),\"\")","v":""},{"$f":"IFERROR(INDEX($J$16:$J$2822,MATCH(ROWS($J$16:J2208),$N$16:$N$2822,0)),\"\")","v":""}]
["30","17","02","3","301702","Gmina miejsko-wiejska","WIELKOPOLSKIE","ostrowski","NOWE SKALMIERZYCE","NOWE SKALMIERZYCE - Gmina miejsko-wiejska / Powiat ostrowski / Województwo  - WIELKOPOLSKIE / 301702 / ",60696543,66050533,{"$f":"ISNUMBER(SEARCH(Wyszukiwarka!$A$1,'Porównanie dochodów JST'!J2209))","v":false},{"$f":"IF(M2209,COUNTIF($M$16:M2209,TRUE),\"\")","v":""},{"$f":"IFERROR(INDEX($J$16:$J$2822,MATCH(ROWS($J$16:J2209),$N$16:$N$2822,0)),\"\")","v":""}]
["30","17","03","3","301703","Gmina miejsko-wiejska","WIELKOPOLSKIE","ostrowski","ODOLANÓW","ODOLANÓW - Gmina miejsko-wiejska / Powiat ostrowski / Województwo  - WIELKOPOLSKIE / 301703 / ",53818912,57922991,{"$f":"ISNUMBER(SEARCH(Wyszukiwarka!$A$1,'Porównanie dochodów JST'!J2210))","v":false},{"$f":"IF(M2210,COUNTIF($M$16:M2210,TRUE),\"\")","v":""},{"$f":"IFERROR(INDEX($J$16:$J$2822,MATCH(ROWS($J$16:J2210),$N$16:$N$2822,0)),\"\")","v":""}]
["30","17","04","2","301704","Gmina wiejska","WIELKOPOLSKIE","ostrowski","OSTRÓW WIELKOPOLSKI","OSTRÓW WIELKOPOLSKI - Gmina wiejska / Powiat ostrowski / Województwo  - WIELKOPOLSKIE / 301704 / ",78936736,84284013,{"$f":"ISNUMBER(SEARCH(Wyszukiwarka!$A$1,'Porównanie dochodów JST'!J2211))","v":false},{"$f":"IF(M2211,COUNTIF($M$16:M2211,TRUE),\"\")","v":""},{"$f":"IFERROR(INDEX($J$16:$J$2822,MATCH(ROWS($J$16:J2211),$N$16:$N$2822,0)),\"\")","v":""}]
["30","17","05","2","301705","Gmina wiejska","WIELKOPOLSKIE","ostrowski","PRZYGODZICE","PRZYGODZICE - Gmina wiejska / Powiat ostrowski / Województwo  - WIELKOPOLSKIE / 301705 / ",46474126,50676531.629192501,{"$f":"ISNUMBER(SEARCH(Wyszukiwarka!$A$1,'Porównanie dochodów JST'!J2212))","v":false},{"$f":"IF(M2212,COUNTIF($M$16:M2212,TRUE),\"\")","v":""},{"$f":"IFERROR(INDEX($J$16:$J$2822,MATCH(ROWS($J$16:J2212),$N$16:$N$2822,0)),\"\")","v":""}]
["30","17","06","3","301706","Gmina miejsko-wiejska","WIELKOPOLSKIE","ostrowski","RASZKÓW","RASZKÓW - Gmina miejsko-wiejska / Powiat ostrowski / Województwo  - WIELKOPOLSKIE / 301706 / ",41444416,45558034,{"$f":"ISNUMBER(SEARCH(Wyszukiwarka!$A$1,'Porównanie dochodów JST'!J2213))","v":false},{"$f":"IF(M2213,COUNTIF($M$16:M2213,TRUE),\"\")","v":""},{"$f":"IFERROR(INDEX($J$16:$J$2822,MATCH(ROWS($J$16:J2213),$N$16:$N$2822,0)),\"\")","v":""}]
["30","17","07","2","301707","Gmina wiejska","WIELKOPOLSKIE","ostrowski","SIEROSZEWICE","SIEROSZEWICE - Gmina wiejska / Powiat ostrowski / Województwo  - WIELKOPOLSKIE / 301707 / ",37744704,41166548.627256356,{"$f":"ISNUMBER(SEARCH(Wyszukiwarka!$A$1,'Porównanie dochodów JST'!J2214))","v":false},{"$f":"IF(M2214,COUNTIF($M$16:M2214,TRUE),\"\")","v":""},{"$f":"IFERROR(INDEX($J$16:$J$2822,MATCH(ROWS($J$16:J2214),$N$16:$N$2822,0)),\"\")","v":""}]
["30","17","08","2","301708","Gmina wiejska","WIELKOPOLSKIE","ostrowski","SOŚNIE","SOŚNIE - Gmina wiejska / Powiat ostrowski / Województwo  - WIELKOPOLSKIE / 301708 / ",25976192,28624322,{"$f":"ISNUMBER(SEARCH(Wyszukiwarka!$A$1,'Porównanie dochodów JST'!J2215))","v":false},{"$f":"IF(M2215,COUNTIF($M$16:M2215,TRUE),\"\")","v":""},{"$f":"IFERROR(INDEX($J$16:$J$2822,MATCH(ROWS($J$16:J2215),$N$16:$N$2822,0)),\"\")","v":""}]
["30","18","01","2","301801","Gmina wiejska","WIELKOPOLSKIE","ostrzeszowski","CZAJKÓW","CZAJKÓW - Gmina wiejska / Powiat ostrzeszowski / Województwo  - WIELKOPOLSKIE / 301801 / ",15376059,16901791,{"$f":"ISNUMBER(SEARCH(Wyszukiwarka!$A$1,'Porównanie dochodów JST'!J2216))","v":false},{"$f":"IF(M2216,COUNTIF($M$16:M2216,TRUE),\"\")","v":""},{"$f":"IFERROR(INDEX($J$16:$J$2822,MATCH(ROWS($J$16:J2216),$N$16:$N$2822,0)),\"\")","v":""}]
["30","18","02","2","301802","Gmina wiejska","WIELKOPOLSKIE","ostrzeszowski","DORUCHÓW","DORUCHÓW - Gmina wiejska / Powiat ostrzeszowski / Województwo  - WIELKOPOLSKIE / 301802 / ",24206042,26219153.736644816,{"$f":"ISNUMBER(SEARCH(Wyszukiwarka!$A$1,'Porównanie dochodów JST'!J2217))","v":false},{"$f":"IF(M2217,COUNTIF($M$16:M2217,TRUE),\"\")","v":""},{"$f":"IFERROR(INDEX($J$16:$J$2822,MATCH(ROWS($J$16:J2217),$N$16:$N$2822,0)),\"\")","v":""}]
["30","18","03","3","301803","Gmina miejsko-wiejska","WIELKOPOLSKIE","ostrzeszowski","GRABÓW NAD PROSNĄ","GRABÓW NAD PROSNĄ - Gmina miejsko-wiejska / Powiat ostrzeszowski / Województwo  - WIELKOPOLSKIE / 301803 / ",31281108,34077206.54282631,{"$f":"ISNUMBER(SEARCH(Wyszukiwarka!$A$1,'Porównanie dochodów JST'!J2218))","v":false},{"$f":"IF(M2218,COUNTIF($M$16:M2218,TRUE),\"\")","v":""},{"$f":"IFERROR(INDEX($J$16:$J$2822,MATCH(ROWS($J$16:J2218),$N$16:$N$2822,0)),\"\")","v":""}]
["30","18","04","2","301804","Gmina wiejska","WIELKOPOLSKIE","ostrzeszowski","KOBYLA GÓRA","KOBYLA GÓRA - Gmina wiejska / Powiat ostrzeszowski / Województwo  - WIELKOPOLSKIE / 301804 / ",24817062,27450720,{"$f":"ISNUMBER(SEARCH(Wyszukiwarka!$A$1,'Porównanie dochodów JST'!J2219))","v":false},{"$f":"IF(M2219,COUNTIF($M$16:M2219,TRUE),\"\")","v":""},{"$f":"IFERROR(INDEX($J$16:$J$2822,MATCH(ROWS($J$16:J2219),$N$16:$N$2822,0)),\"\")","v":""}]
["30","18","05","2","301805","Gmina wiejska","WIELKOPOLSKIE","ostrzeszowski","KRASZEWICE","KRASZEWICE - Gmina wiejska / Powiat ostrzeszowski / Województwo  - WIELKOPOLSKIE / 301805 / ",22014769,23792202,{"$f":"ISNUMBER(SEARCH(Wyszukiwarka!$A$1,'Porównanie dochodów JST'!J2220))","v":false},{"$f":"IF(M2220,COUNTIF($M$16:M2220,TRUE),\"\")","v":""},{"$f":"IFERROR(INDEX($J$16:$J$2822,MATCH(ROWS($J$16:J2220),$N$16:$N$2822,0)),\"\")","v":""}]
["30","18","06","3","301806","Gmina miejsko-wiejska","WIELKOPOLSKIE","ostrzeszowski","MIKSTAT","MIKSTAT - Gmina miejsko-wiejska / Powiat ostrzeszowski / Województwo  - WIELKOPOLSKIE / 301806 / ",23308715,25390676,{"$f":"ISNUMBER(SEARCH(Wyszukiwarka!$A$1,'Porównanie dochodów JST'!J2221))","v":false},{"$f":"IF(M2221,COUNTIF($M$16:M2221,TRUE),\"\")","v":""},{"$f":"IFERROR(INDEX($J$16:$J$2822,MATCH(ROWS($J$16:J2221),$N$16:$N$2822,0)),\"\")","v":""}]
["30","18","07","3","301807","Gmina miejsko-wiejska","WIELKOPOLSKIE","ostrzeszowski","OSTRZESZÓW","OSTRZESZÓW - Gmina miejsko-wiejska / Powiat ostrzeszowski / Województwo  - WIELKOPOLSKIE / 301807 / ",80089294,85839381,{"$f":"ISNUMBER(SEARCH(Wyszukiwarka!$A$1,'Porównanie dochodów JST'!J2222))","v":false},{"$f":"IF(M2222,COUNTIF($M$16:M2222,TRUE),\"\")","v":""},{"$f":"IFERROR(INDEX($J$16:$J$2822,MATCH(ROWS($J$16:J2222),$N$16:$N$2822,0)),\"\")","v":""}]
["30","19","01","1","301901","Gmina miejska","WIELKOPOLSKIE","pilski","PIŁA","PIŁA - Gmina miejska / Powiat pilski / Województwo  - WIELKOPOLSKIE / 301901 / ",245654083,277602494.08569998,{"$f":"ISNUMBER(SEARCH(Wyszukiwarka!$A$1,'Porównanie dochodów JST'!J2223))","v":false},{"$f":"IF(M2223,COUNTIF($M$16:M2223,TRUE),\"\")","v":""},{"$f":"IFERROR(INDEX($J$16:$J$2822,MATCH(ROWS($J$16:J2223),$N$16:$N$2822,0)),\"\")","v":""}]
["30","19","02","2","301902","Gmina wiejska","WIELKOPOLSKIE","pilski","BIAŁOŚLIWIE","BIAŁOŚLIWIE - Gmina wiejska / Powiat pilski / Województwo  - WIELKOPOLSKIE / 301902 / ",16346128,18285644,{"$f":"ISNUMBER(SEARCH(Wyszukiwarka!$A$1,'Porównanie dochodów JST'!J2224))","v":false},{"$f":"IF(M2224,COUNTIF($M$16:M2224,TRUE),\"\")","v":""},{"$f":"IFERROR(INDEX($J$16:$J$2822,MATCH(ROWS($J$16:J2224),$N$16:$N$2822,0)),\"\")","v":""}]
["30","19","03","2","301903","Gmina wiejska","WIELKOPOLSKIE","pilski","KACZORY","KACZORY - Gmina wiejska / Powiat pilski / Województwo  - WIELKOPOLSKIE / 301903 / ",28845682,31574695,{"$f":"ISNUMBER(SEARCH(Wyszukiwarka!$A$1,'Porównanie dochodów JST'!J2225))","v":false},{"$f":"IF(M2225,COUNTIF($M$16:M2225,TRUE),\"\")","v":""},{"$f":"IFERROR(INDEX($J$16:$J$2822,MATCH(ROWS($J$16:J2225),$N$16:$N$2822,0)),\"\")","v":""}]
["30","19","04","3","301904","Gmina miejsko-wiejska","WIELKOPOLSKIE","pilski","ŁOBŻENICA","ŁOBŻENICA - Gmina miejsko-wiejska / Powiat pilski / Województwo  - WIELKOPOLSKIE / 301904 / ",36251405,39727154.679894358,{"$f":"ISNUMBER(SEARCH(Wyszukiwarka!$A$1,'Porównanie dochodów JST'!J2226))","v":false},{"$f":"IF(M2226,COUNTIF($M$16:M2226,TRUE),\"\")","v":""},{"$f":"IFERROR(INDEX($J$16:$J$2822,MATCH(ROWS($J$16:J2226),$N$16:$N$2822,0)),\"\")","v":""}]
["30","19","05","2","301905","Gmina wiejska","WIELKOPOLSKIE","pilski","MIASTECZKO KRAJEŃSKIE","MIASTECZKO KRAJEŃSKIE - Gmina wiejska / Powiat pilski / Województwo  - WIELKOPOLSKIE / 301905 / ",11459747,12765922.66,{"$f":"ISNUMBER(SEARCH(Wyszukiwarka!$A$1,'Porównanie dochodów JST'!J2227))","v":false},{"$f":"IF(M2227,COUNTIF($M$16:M2227,TRUE),\"\")","v":""},{"$f":"IFERROR(INDEX($J$16:$J$2822,MATCH(ROWS($J$16:J2227),$N$16:$N$2822,0)),\"\")","v":""}]
["30","19","06","2","301906","Gmina wiejska","WIELKOPOLSKIE","pilski","SZYDŁOWO","SZYDŁOWO - Gmina wiejska / Powiat pilski / Województwo  - WIELKOPOLSKIE / 301906 / ",36974992,40612502,{"$f":"ISNUMBER(SEARCH(Wyszukiwarka!$A$1,'Porównanie dochodów JST'!J2228))","v":false},{"$f":"IF(M2228,COUNTIF($M$16:M2228,TRUE),\"\")","v":""},{"$f":"IFERROR(INDEX($J$16:$J$2822,MATCH(ROWS($J$16:J2228),$N$16:$N$2822,0)),\"\")","v":""}]
["30","19","07","3","301907","Gmina miejsko-wiejska","WIELKOPOLSKIE","pilski","UJŚCIE","UJŚCIE - Gmina miejsko-wiejska / Powiat pilski / Województwo  - WIELKOPOLSKIE / 301907 / ",26064473,28818952,{"$f":"ISNUMBER(SEARCH(Wyszukiwarka!$A$1,'Porównanie dochodów JST'!J2229))","v":false},{"$f":"IF(M2229,COUNTIF($M$16:M2229,TRUE),\"\")","v":""},{"$f":"IFERROR(INDEX($J$16:$J$2822,MATCH(ROWS($J$16:J2229),$N$16:$N$2822,0)),\"\")","v":""}]
["30","19","08","3","301908","Gmina miejsko-wiejska","WIELKOPOLSKIE","pilski","WYRZYSK","WYRZYSK - Gmina miejsko-wiejska / Powiat pilski / Województwo  - WIELKOPOLSKIE / 301908 / ",47382379,51634338.756833121,{"$f":"ISNUMBER(SEARCH(Wyszukiwarka!$A$1,'Porównanie dochodów JST'!J2230))","v":false},{"$f":"IF(M2230,COUNTIF($M$16:M2230,TRUE),\"\")","v":""},{"$f":"IFERROR(INDEX($J$16:$J$2822,MATCH(ROWS($J$16:J2230),$N$16:$N$2822,0)),\"\")","v":""}]
["30","19","09","3","301909","Gmina miejsko-wiejska","WIELKOPOLSKIE","pilski","WYSOKA","WYSOKA - Gmina miejsko-wiejska / Powiat pilski / Województwo  - WIELKOPOLSKIE / 301909 / ",21195975,23789846.66682452,{"$f":"ISNUMBER(SEARCH(Wyszukiwarka!$A$1,'Porównanie dochodów JST'!J2231))","v":false},{"$f":"IF(M2231,COUNTIF($M$16:M2231,TRUE),\"\")","v":""},{"$f":"IFERROR(INDEX($J$16:$J$2822,MATCH(ROWS($J$16:J2231),$N$16:$N$2822,0)),\"\")","v":""}]
["30","20","01","3","302001","Gmina miejsko-wiejska","WIELKOPOLSKIE","pleszewski","CHOCZ","CHOCZ - Gmina miejsko-wiejska / Powiat pleszewski / Województwo  - WIELKOPOLSKIE / 302001 / ",19000773,20939474,{"$f":"ISNUMBER(SEARCH(Wyszukiwarka!$A$1,'Porównanie dochodów JST'!J2232))","v":false},{"$f":"IF(M2232,COUNTIF($M$16:M2232,TRUE),\"\")","v":""},{"$f":"IFERROR(INDEX($J$16:$J$2822,MATCH(ROWS($J$16:J2232),$N$16:$N$2822,0)),\"\")","v":""}]
["30","20","02","2","302002","Gmina wiejska","WIELKOPOLSKIE","pleszewski","CZERMIN","CZERMIN - Gmina wiejska / Powiat pleszewski / Województwo  - WIELKOPOLSKIE / 302002 / ",20320132,22305320,{"$f":"ISNUMBER(SEARCH(Wyszukiwarka!$A$1,'Porównanie dochodów JST'!J2233))","v":false},{"$f":"IF(M2233,COUNTIF($M$16:M2233,TRUE),\"\")","v":""},{"$f":"IFERROR(INDEX($J$16:$J$2822,MATCH(ROWS($J$16:J2233),$N$16:$N$2822,0)),\"\")","v":""}]
["30","20","03","3","302003","Gmina miejsko-wiejska","WIELKOPOLSKIE","pleszewski","DOBRZYCA","DOBRZYCA - Gmina miejsko-wiejska / Powiat pleszewski / Województwo  - WIELKOPOLSKIE / 302003 / ",25581826,28216117.982968856,{"$f":"ISNUMBER(SEARCH(Wyszukiwarka!$A$1,'Porównanie dochodów JST'!J2234))","v":false},{"$f":"IF(M2234,COUNTIF($M$16:M2234,TRUE),\"\")","v":""},{"$f":"IFERROR(INDEX($J$16:$J$2822,MATCH(ROWS($J$16:J2234),$N$16:$N$2822,0)),\"\")","v":""}]
["30","20","04","2","302004","Gmina wiejska","WIELKOPOLSKIE","pleszewski","GIZAŁKI","GIZAŁKI - Gmina wiejska / Powiat pleszewski / Województwo  - WIELKOPOLSKIE / 302004 / ",19614842,21568414,{"$f":"ISNUMBER(SEARCH(Wyszukiwarka!$A$1,'Porównanie dochodów JST'!J2235))","v":false},{"$f":"IF(M2235,COUNTIF($M$16:M2235,TRUE),\"\")","v":""},{"$f":"IFERROR(INDEX($J$16:$J$2822,MATCH(ROWS($J$16:J2235),$N$16:$N$2822,0)),\"\")","v":""}]
["30","20","05","2","302005","Gmina wiejska","WIELKOPOLSKIE","pleszewski","GOŁUCHÓW","GOŁUCHÓW - Gmina wiejska / Powiat pleszewski / Województwo  - WIELKOPOLSKIE / 302005 / ",36792092,40751727.894795612,{"$f":"ISNUMBER(SEARCH(Wyszukiwarka!$A$1,'Porównanie dochodów JST'!J2236))","v":false},{"$f":"IF(M2236,COUNTIF($M$16:M2236,TRUE),\"\")","v":""},{"$f":"IFERROR(INDEX($J$16:$J$2822,MATCH(ROWS($J$16:J2236),$N$16:$N$2822,0)),\"\")","v":""}]
["30","20","06","3","302006","Gmina miejsko-wiejska","WIELKOPOLSKIE","pleszewski","PLESZEW","PLESZEW - Gmina miejsko-wiejska / Powiat pleszewski / Województwo  - WIELKOPOLSKIE / 302006 / ",94246323,102002191.64148962,{"$f":"ISNUMBER(SEARCH(Wyszukiwarka!$A$1,'Porównanie dochodów JST'!J2237))","v":false},{"$f":"IF(M2237,COUNTIF($M$16:M2237,TRUE),\"\")","v":""},{"$f":"IFERROR(INDEX($J$16:$J$2822,MATCH(ROWS($J$16:J2237),$N$16:$N$2822,0)),\"\")","v":""}]
["30","21","01","1","302101","Gmina miejska","WIELKOPOLSKIE","poznański","LUBOŃ","LUBOŃ - Gmina miejska / Powiat poznański / Województwo  - WIELKOPOLSKIE / 302101 / ",120586589,139379453.91999999,{"$f":"ISNUMBER(SEARCH(Wyszukiwarka!$A$1,'Porównanie dochodów JST'!J2238))","v":false},{"$f":"IF(M2238,COUNTIF($M$16:M2238,TRUE),\"\")","v":""},{"$f":"IFERROR(INDEX($J$16:$J$2822,MATCH(ROWS($J$16:J2238),$N$16:$N$2822,0)),\"\")","v":""}]
["30","21","02","1","302102","Gmina miejska","WIELKOPOLSKIE","poznański","PUSZCZYKOWO","PUSZCZYKOWO - Gmina miejska / Powiat poznański / Województwo  - WIELKOPOLSKIE / 302102 / ",46174224,50417745.813368864,{"$f":"ISNUMBER(SEARCH(Wyszukiwarka!$A$1,'Porównanie dochodów JST'!J2239))","v":false},{"$f":"IF(M2239,COUNTIF($M$16:M2239,TRUE),\"\")","v":""},{"$f":"IFERROR(INDEX($J$16:$J$2822,MATCH(ROWS($J$16:J2239),$N$16:$N$2822,0)),\"\")","v":""}]
["30","21","03","3","302103","Gmina miejsko-wiejska","WIELKOPOLSKIE","poznański","BUK","BUK - Gmina miejsko-wiejska / Powiat poznański / Województwo  - WIELKOPOLSKIE / 302103 / ",48197738,53965404.349400006,{"$f":"ISNUMBER(SEARCH(Wyszukiwarka!$A$1,'Porównanie dochodów JST'!J2240))","v":false},{"$f":"IF(M2240,COUNTIF($M$16:M2240,TRUE),\"\")","v":""},{"$f":"IFERROR(INDEX($J$16:$J$2822,MATCH(ROWS($J$16:J2240),$N$16:$N$2822,0)),\"\")","v":""}]
["30","21","04","2","302104","Gmina wiejska","WIELKOPOLSKIE","poznański","CZERWONAK","CZERWONAK - Gmina wiejska / Powiat poznański / Województwo  - WIELKOPOLSKIE / 302104 / ",109683101,124849537.297088,{"$f":"ISNUMBER(SEARCH(Wyszukiwarka!$A$1,'Porównanie dochodów JST'!J2241))","v":false},{"$f":"IF(M2241,COUNTIF($M$16:M2241,TRUE),\"\")","v":""},{"$f":"IFERROR(INDEX($J$16:$J$2822,MATCH(ROWS($J$16:J2241),$N$16:$N$2822,0)),\"\")","v":""}]
["30","21","05","2","302105","Gmina wiejska","WIELKOPOLSKIE","poznański","DOPIEWO","DOPIEWO - Gmina wiejska / Powiat poznański / Województwo  - WIELKOPOLSKIE / 302105 / ",192472798,206779319.01289988,{"$f":"ISNUMBER(SEARCH(Wyszukiwarka!$A$1,'Porównanie dochodów JST'!J2242))","v":false},{"$f":"IF(M2242,COUNTIF($M$16:M2242,TRUE),\"\")","v":""},{"$f":"IFERROR(INDEX($J$16:$J$2822,MATCH(ROWS($J$16:J2242),$N$16:$N$2822,0)),\"\")","v":""}]
["30","21","06","2","302106","Gmina wiejska","WIELKOPOLSKIE","poznański","KLESZCZEWO","KLESZCZEWO - Gmina wiejska / Powiat poznański / Województwo  - WIELKOPOLSKIE / 302106 / ",55860988,61502136.237631679,{"$f":"ISNUMBER(SEARCH(Wyszukiwarka!$A$1,'Porównanie dochodów JST'!J2243))","v":false},{"$f":"IF(M2243,COUNTIF($M$16:M2243,TRUE),\"\")","v":""},{"$f":"IFERROR(INDEX($J$16:$J$2822,MATCH(ROWS($J$16:J2243),$N$16:$N$2822,0)),\"\")","v":""}]
["30","21","07","2","302107","Gmina wiejska","WIELKOPOLSKIE","poznański","KOMORNIKI","KOMORNIKI - Gmina wiejska / Powiat poznański / Województwo  - WIELKOPOLSKIE / 302107 / ",196568126,211483815.77800351,{"$f":"ISNUMBER(SEARCH(Wyszukiwarka!$A$1,'Porównanie dochodów JST'!J2244))","v":false},{"$f":"IF(M2244,COUNTIF($M$16:M2244,TRUE),\"\")","v":""},{"$f":"IFERROR(INDEX($J$16:$J$2822,MATCH(ROWS($J$16:J2244),$N$16:$N$2822,0)),\"\")","v":""}]
["30","21","08","3","302108","Gmina miejsko-wiejska","WIELKOPOLSKIE","poznański","KOSTRZYN","KOSTRZYN - Gmina miejsko-wiejska / Powiat poznański / Województwo  - WIELKOPOLSKIE / 302108 / ",97602839,113954047.19999999,{"$f":"ISNUMBER(SEARCH(Wyszukiwarka!$A$1,'Porównanie dochodów JST'!J2245))","v":false},{"$f":"IF(M2245,COUNTIF($M$16:M2245,TRUE),\"\")","v":""},{"$f":"IFERROR(INDEX($J$16:$J$2822,MATCH(ROWS($J$16:J2245),$N$16:$N$2822,0)),\"\")","v":""}]
["30","21","09","3","302109","Gmina miejsko-wiejska","WIELKOPOLSKIE","poznański","KÓRNIK","KÓRNIK - Gmina miejsko-wiejska / Powiat poznański / Województwo  - WIELKOPOLSKIE / 302109 / ",151910597,163780711.2960265,{"$f":"ISNUMBER(SEARCH(Wyszukiwarka!$A$1,'Porównanie dochodów JST'!J2246))","v":false},{"$f":"IF(M2246,COUNTIF($M$16:M2246,TRUE),\"\")","v":""},{"$f":"IFERROR(INDEX($J$16:$J$2822,MATCH(ROWS($J$16:J2246),$N$16:$N$2822,0)),\"\")","v":""}]
["30","21","10","3","302110","Gmina miejsko-wiejska","WIELKOPOLSKIE","poznański","MOSINA","MOSINA - Gmina miejsko-wiejska / Powiat poznański / Województwo  - WIELKOPOLSKIE / 302110 / ",135912699,149057681.04746008,{"$f":"ISNUMBER(SEARCH(Wyszukiwarka!$A$1,'Porównanie dochodów JST'!J2247))","v":false},{"$f":"IF(M2247,COUNTIF($M$16:M2247,TRUE),\"\")","v":""},{"$f":"IFERROR(INDEX($J$16:$J$2822,MATCH(ROWS($J$16:J2247),$N$16:$N$2822,0)),\"\")","v":""}]
["30","21","11","3","302111","Gmina miejsko-wiejska","WIELKOPOLSKIE","poznański","MUROWANA GOŚLINA","MUROWANA GOŚLINA - Gmina miejsko-wiejska / Powiat poznański / Województwo  - WIELKOPOLSKIE / 302111 / ",55314624,63908199.039999999,{"$f":"ISNUMBER(SEARCH(Wyszukiwarka!$A$1,'Porównanie dochodów JST'!J2248))","v":false},{"$f":"IF(M2248,COUNTIF($M$16:M2248,TRUE),\"\")","v":""},{"$f":"IFERROR(INDEX($J$16:$J$2822,MATCH(ROWS($J$16:J2248),$N$16:$N$2822,0)),\"\")","v":""}]
["30","21","12","3","302112","Gmina miejsko-wiejska","WIELKOPOLSKIE","poznański","POBIEDZISKA","POBIEDZISKA - Gmina miejsko-wiejska / Powiat poznański / Województwo  - WIELKOPOLSKIE / 302112 / ",80734165,88187151.688520759,{"$f":"ISNUMBER(SEARCH(Wyszukiwarka!$A$1,'Porównanie dochodów JST'!J2249))","v":false},{"$f":"IF(M2249,COUNTIF($M$16:M2249,TRUE),\"\")","v":""},{"$f":"IFERROR(INDEX($J$16:$J$2822,MATCH(ROWS($J$16:J2249),$N$16:$N$2822,0)),\"\")","v":""}]
["30","21","13","2","302113","Gmina wiejska","WIELKOPOLSKIE","poznański","ROKIETNICA","ROKIETNICA - Gmina wiejska / Powiat poznański / Województwo  - WIELKOPOLSKIE / 302113 / ",98696452,109214670.46901338,{"$f":"ISNUMBER(SEARCH(Wyszukiwarka!$A$1,'Porównanie dochodów JST'!J2250))","v":false},{"$f":"IF(M2250,COUNTIF($M$16:M2250,TRUE),\"\")","v":""},{"$f":"IFERROR(INDEX($J$16:$J$2822,MATCH(ROWS($J$16:J2250),$N$16:$N$2822,0)),\"\")","v":""}]
["30","21","14","3","302114","Gmina miejsko-wiejska","WIELKOPOLSKIE","poznański","STĘSZEW","STĘSZEW - Gmina miejsko-wiejska / Powiat poznański / Województwo  - WIELKOPOLSKIE / 302114 / ",59959426,65376087,{"$f":"ISNUMBER(SEARCH(Wyszukiwarka!$A$1,'Porównanie dochodów JST'!J2251))","v":false},{"$f":"IF(M2251,COUNTIF($M$16:M2251,TRUE),\"\")","v":""},{"$f":"IFERROR(INDEX($J$16:$J$2822,MATCH(ROWS($J$16:J2251),$N$16:$N$2822,0)),\"\")","v":""}]
["30","21","15","2","302115","Gmina wiejska","WIELKOPOLSKIE","poznański","SUCHY LAS","SUCHY LAS - Gmina wiejska / Powiat poznański / Województwo  - WIELKOPOLSKIE / 302115 / ",110692684,119744425.12326109,{"$f":"ISNUMBER(SEARCH(Wyszukiwarka!$A$1,'Porównanie dochodów JST'!J2252))","v":false},{"$f":"IF(M2252,COUNTIF($M$16:M2252,TRUE),\"\")","v":""},{"$f":"IFERROR(INDEX($J$16:$J$2822,MATCH(ROWS($J$16:J2252),$N$16:$N$2822,0)),\"\")","v":""}]
["30","21","16","3","302116","Gmina miejsko-wiejska","WIELKOPOLSKIE","poznański","SWARZĘDZ","SWARZĘDZ - Gmina miejsko-wiejska / Powiat poznański / Województwo  - WIELKOPOLSKIE / 302116 / ",260934713,280584176.97362703,{"$f":"ISNUMBER(SEARCH(Wyszukiwarka!$A$1,'Porównanie dochodów JST'!J2253))","v":false},{"$f":"IF(M2253,COUNTIF($M$16:M2253,TRUE),\"\")","v":""},{"$f":"IFERROR(INDEX($J$16:$J$2822,MATCH(ROWS($J$16:J2253),$N$16:$N$2822,0)),\"\")","v":""}]
["30","21","17","2","302117","Gmina wiejska","WIELKOPOLSKIE","poznański","TARNOWO PODGÓRNE","TARNOWO PODGÓRNE - Gmina wiejska / Powiat poznański / Województwo  - WIELKOPOLSKIE / 302117 / ",208880603,225682508.47186616,{"$f":"ISNUMBER(SEARCH(Wyszukiwarka!$A$1,'Porównanie dochodów JST'!J2254))","v":false},{"$f":"IF(M2254,COUNTIF($M$16:M2254,TRUE),\"\")","v":""},{"$f":"IFERROR(INDEX($J$16:$J$2822,MATCH(ROWS($J$16:J2254),$N$16:$N$2822,0)),\"\")","v":""}]
["30","22","01","3","302201","Gmina miejsko-wiejska","WIELKOPOLSKIE","rawicki","BOJANOWO","BOJANOWO - Gmina miejsko-wiejska / Powiat rawicki / Województwo  - WIELKOPOLSKIE / 302201 / ",31442457,34741290.794215001,{"$f":"ISNUMBER(SEARCH(Wyszukiwarka!$A$1,'Porównanie dochodów JST'!J2255))","v":false},{"$f":"IF(M2255,COUNTIF($M$16:M2255,TRUE),\"\")","v":""},{"$f":"IFERROR(INDEX($J$16:$J$2822,MATCH(ROWS($J$16:J2255),$N$16:$N$2822,0)),\"\")","v":""}]
["30","22","02","3","302202","Gmina miejsko-wiejska","WIELKOPOLSKIE","rawicki","JUTROSIN","JUTROSIN - Gmina miejsko-wiejska / Powiat rawicki / Województwo  - WIELKOPOLSKIE / 302202 / ",33746849,36433832.649852224,{"$f":"ISNUMBER(SEARCH(Wyszukiwarka!$A$1,'Porównanie dochodów JST'!J2256))","v":false},{"$f":"IF(M2256,COUNTIF($M$16:M2256,TRUE),\"\")","v":""},{"$f":"IFERROR(INDEX($J$16:$J$2822,MATCH(ROWS($J$16:J2256),$N$16:$N$2822,0)),\"\")","v":""}]
["30","22","03","3","302203","Gmina miejsko-wiejska","WIELKOPOLSKIE","rawicki","MIEJSKA GÓRKA",{"$f":"I2257&$H$12&F2257&$G$12&$H$14&H2257&$G$12&$G$14&$H$12&G2257&$G$12&E2257&$G$12","v":"MIEJSKA GÓRKA - Gmina miejsko-wiejska / Powiat rawicki / Województwo  - WIELKOPOLSKIE / 302203 / "},39870590,43214355.545867667,{"$f":"ISNUMBER(SEARCH(Wyszukiwarka!$A$1,'Porównanie dochodów JST'!J2257))","v":false},{"$f":"IF(M2257,COUNTIF($M$16:M2257,TRUE),\"\")","v":""},{"$f":"IFERROR(INDEX($J$16:$J$2822,MATCH(ROWS($J$16:J2257),$N$16:$N$2822,0)),\"\")","v":""}]
["30","22","04","2","302204","Gmina wiejska","WIELKOPOLSKIE","rawicki","PAKOSŁAW","PAKOSŁAW - Gmina wiejska / Powiat rawicki / Województwo  - WIELKOPOLSKIE / 302204 / ",20294661,22270421,{"$f":"ISNUMBER(SEARCH(Wyszukiwarka!$A$1,'Porównanie dochodów JST'!J2258))","v":false},{"$f":"IF(M2258,COUNTIF($M$16:M2258,TRUE),\"\")","v":""},{"$f":"IFERROR(INDEX($J$16:$J$2822,MATCH(ROWS($J$16:J2258),$N$16:$N$2822,0)),\"\")","v":""}]
["30","22","05","3","302205","Gmina miejsko-wiejska","WIELKOPOLSKIE","rawicki","RAWICZ","RAWICZ - Gmina miejsko-wiejska / Powiat rawicki / Województwo  - WIELKOPOLSKIE / 302205 / ",101876695,113667264.05690001,{"$f":"ISNUMBER(SEARCH(Wyszukiwarka!$A$1,'Porównanie dochodów JST'!J2259))","v":false},{"$f":"IF(M2259,COUNTIF($M$16:M2259,TRUE),\"\")","v":""},{"$f":"IFERROR(INDEX($J$16:$J$2822,MATCH(ROWS($J$16:J2259),$N$16:$N$2822,0)),\"\")","v":""}]
["30","23","01","1","302301","Gmina miejska","WIELKOPOLSKIE","słupecki","SŁUPCA","SŁUPCA - Gmina miejska / Powiat słupecki / Województwo  - WIELKOPOLSKIE / 302301 / ",42570260,49067086.880000003,{"$f":"ISNUMBER(SEARCH(Wyszukiwarka!$A$1,'Porównanie dochodów JST'!J2260))","v":false},{"$f":"IF(M2260,COUNTIF($M$16:M2260,TRUE),\"\")","v":""},{"$f":"IFERROR(INDEX($J$16:$J$2822,MATCH(ROWS($J$16:J2260),$N$16:$N$2822,0)),\"\")","v":""}]
["30","23","02","2","302302","Gmina wiejska","WIELKOPOLSKIE","słupecki","LĄDEK","LĄDEK - Gmina wiejska / Powiat słupecki / Województwo  - WIELKOPOLSKIE / 302302 / ",22391896,24426678.841497138,{"$f":"ISNUMBER(SEARCH(Wyszukiwarka!$A$1,'Porównanie dochodów JST'!J2261))","v":false},{"$f":"IF(M2261,COUNTIF($M$16:M2261,TRUE),\"\")","v":""},{"$f":"IFERROR(INDEX($J$16:$J$2822,MATCH(ROWS($J$16:J2261),$N$16:$N$2822,0)),\"\")","v":""}]
["30","23","03","2","302303","Gmina wiejska","WIELKOPOLSKIE","słupecki","ORCHOWO","ORCHOWO - Gmina wiejska / Powiat słupecki / Województwo  - WIELKOPOLSKIE / 302303 / ",16629586,19024055.68,{"$f":"ISNUMBER(SEARCH(Wyszukiwarka!$A$1,'Porównanie dochodów JST'!J2262))","v":false},{"$f":"IF(M2262,COUNTIF($M$16:M2262,TRUE),\"\")","v":""},{"$f":"IFERROR(INDEX($J$16:$J$2822,MATCH(ROWS($J$16:J2262),$N$16:$N$2822,0)),\"\")","v":""}]
["30","23","04","2","302304","Gmina wiejska","WIELKOPOLSKIE","słupecki","OSTROWITE","OSTROWITE - Gmina wiejska / Powiat słupecki / Województwo  - WIELKOPOLSKIE / 302304 / ",17753696,19727386.991454177,{"$f":"ISNUMBER(SEARCH(Wyszukiwarka!$A$1,'Porównanie dochodów JST'!J2263))","v":false},{"$f":"IF(M2263,COUNTIF($M$16:M2263,TRUE),\"\")","v":""},{"$f":"IFERROR(INDEX($J$16:$J$2822,MATCH(ROWS($J$16:J2263),$N$16:$N$2822,0)),\"\")","v":""}]
["30","23","05","2","302305","Gmina wiejska","WIELKOPOLSKIE","słupecki","POWIDZ","POWIDZ - Gmina wiejska / Powiat słupecki / Województwo  - WIELKOPOLSKIE / 302305 / ",8727230,9790348.5502092727,{"$f":"ISNUMBER(SEARCH(Wyszukiwarka!$A$1,'Porównanie dochodów JST'!J2264))","v":false},{"$f":"IF(M2264,COUNTIF($M$16:M2264,TRUE),\"\")","v":""},{"$f":"IFERROR(INDEX($J$16:$J$2822,MATCH(ROWS($J$16:J2264),$N$16:$N$2822,0)),\"\")","v":""}]
["30","23","06","2","302306","Gmina wiejska","WIELKOPOLSKIE","słupecki","SŁUPCA","SŁUPCA - Gmina wiejska / Powiat słupecki / Województwo  - WIELKOPOLSKIE / 302306 / ",39199801,42683839,{"$f":"ISNUMBER(SEARCH(Wyszukiwarka!$A$1,'Porównanie dochodów JST'!J2265))","v":false},{"$f":"IF(M2265,COUNTIF($M$16:M2265,TRUE),\"\")","v":""},{"$f":"IFERROR(INDEX($J$16:$J$2822,MATCH(ROWS($J$16:J2265),$N$16:$N$2822,0)),\"\")","v":""}]
["30","23","07","2","302307","Gmina wiejska","WIELKOPOLSKIE","słupecki","STRZAŁKOWO","STRZAŁKOWO - Gmina wiejska / Powiat słupecki / Województwo  - WIELKOPOLSKIE / 302307 / ",33489759,36994435.560200006,{"$f":"ISNUMBER(SEARCH(Wyszukiwarka!$A$1,'Porównanie dochodów JST'!J2266))","v":false},{"$f":"IF(M2266,COUNTIF($M$16:M2266,TRUE),\"\")","v":""},{"$f":"IFERROR(INDEX($J$16:$J$2822,MATCH(ROWS($J$16:J2266),$N$16:$N$2822,0)),\"\")","v":""}]
["30","23","08","3","302308","Gmina miejsko-wiejska","WIELKOPOLSKIE","słupecki","ZAGÓRÓW","ZAGÓRÓW - Gmina miejsko-wiejska / Powiat słupecki / Województwo  - WIELKOPOLSKIE / 302308 / ",35706824,39064499.651738487,{"$f":"ISNUMBER(SEARCH(Wyszukiwarka!$A$1,'Porównanie dochodów JST'!J2267))","v":false},{"$f":"IF(M2267,COUNTIF($M$16:M2267,TRUE),\"\")","v":""},{"$f":"IFERROR(INDEX($J$16:$J$2822,MATCH(ROWS($J$16:J2267),$N$16:$N$2822,0)),\"\")","v":""}]
["30","24","01","1","302401","Gmina miejska","WIELKOPOLSKIE","szamotulski","OBRZYCKO","OBRZYCKO - Gmina miejska / Powiat szamotulski / Województwo  - WIELKOPOLSKIE / 302401 / ",11422849,12800092.879999999,{"$f":"ISNUMBER(SEARCH(Wyszukiwarka!$A$1,'Porównanie dochodów JST'!J2268))","v":false},{"$f":"IF(M2268,COUNTIF($M$16:M2268,TRUE),\"\")","v":""},{"$f":"IFERROR(INDEX($J$16:$J$2822,MATCH(ROWS($J$16:J2268),$N$16:$N$2822,0)),\"\")","v":""}]
["30","24","02","2","302402","Gmina wiejska","WIELKOPOLSKIE","szamotulski","DUSZNIKI","DUSZNIKI - Gmina wiejska / Powiat szamotulski / Województwo  - WIELKOPOLSKIE / 302402 / ",32107320,35554728.729072295,{"$f":"ISNUMBER(SEARCH(Wyszukiwarka!$A$1,'Porównanie dochodów JST'!J2269))","v":false},{"$f":"IF(M2269,COUNTIF($M$16:M2269,TRUE),\"\")","v":""},{"$f":"IFERROR(INDEX($J$16:$J$2822,MATCH(ROWS($J$16:J2269),$N$16:$N$2822,0)),\"\")","v":""}]
["30","24","03","2","302403","Gmina wiejska","WIELKOPOLSKIE","szamotulski","KAŹMIERZ","KAŹMIERZ - Gmina wiejska / Powiat szamotulski / Województwo  - WIELKOPOLSKIE / 302403 / ",38966712,42423413,{"$f":"ISNUMBER(SEARCH(Wyszukiwarka!$A$1,'Porównanie dochodów JST'!J2270))","v":false},{"$f":"IF(M2270,COUNTIF($M$16:M2270,TRUE),\"\")","v":""},{"$f":"IFERROR(INDEX($J$16:$J$2822,MATCH(ROWS($J$16:J2270),$N$16:$N$2822,0)),\"\")","v":""}]
["30","24","04","2","302404","Gmina wiejska","WIELKOPOLSKIE","szamotulski","OBRZYCKO","OBRZYCKO - Gmina wiejska / Powiat szamotulski / Województwo  - WIELKOPOLSKIE / 302404 / ",14625853,16566408,{"$f":"ISNUMBER(SEARCH(Wyszukiwarka!$A$1,'Porównanie dochodów JST'!J2271))","v":false},{"$f":"IF(M2271,COUNTIF($M$16:M2271,TRUE),\"\")","v":""},{"$f":"IFERROR(INDEX($J$16:$J$2822,MATCH(ROWS($J$16:J2271),$N$16:$N$2822,0)),\"\")","v":""}]
["30","24","05","3","302405","Gmina miejsko-wiejska","WIELKOPOLSKIE","szamotulski","OSTRORÓG","OSTRORÓG - Gmina miejsko-wiejska / Powiat szamotulski / Województwo  - WIELKOPOLSKIE / 302405 / ",18498776,20461859.720340922,{"$f":"ISNUMBER(SEARCH(Wyszukiwarka!$A$1,'Porównanie dochodów JST'!J2272))","v":false},{"$f":"IF(M2272,COUNTIF($M$16:M2272,TRUE),\"\")","v":""},{"$f":"IFERROR(INDEX($J$16:$J$2822,MATCH(ROWS($J$16:J2272),$N$16:$N$2822,0)),\"\")","v":""}]
["30","24","06","3","302406","Gmina miejsko-wiejska","WIELKOPOLSKIE","szamotulski","PNIEWY","PNIEWY - Gmina miejsko-wiejska / Powiat szamotulski / Województwo  - WIELKOPOLSKIE / 302406 / ",53611188,57886057.781437352,{"$f":"ISNUMBER(SEARCH(Wyszukiwarka!$A$1,'Porównanie dochodów JST'!J2273))","v":false},{"$f":"IF(M2273,COUNTIF($M$16:M2273,TRUE),\"\")","v":""},{"$f":"IFERROR(INDEX($J$16:$J$2822,MATCH(ROWS($J$16:J2273),$N$16:$N$2822,0)),\"\")","v":""}]
["30","24","07","3","302407","Gmina miejsko-wiejska","WIELKOPOLSKIE","szamotulski","SZAMOTUŁY","SZAMOTUŁY - Gmina miejsko-wiejska / Powiat szamotulski / Województwo  - WIELKOPOLSKIE / 302407 / ",102272040,117869321.92,{"$f":"ISNUMBER(SEARCH(Wyszukiwarka!$A$1,'Porównanie dochodów JST'!J2274))","v":false},{"$f":"IF(M2274,COUNTIF($M$16:M2274,TRUE),\"\")","v":""},{"$f":"IFERROR(INDEX($J$16:$J$2822,MATCH(ROWS($J$16:J2274),$N$16:$N$2822,0)),\"\")","v":""}]
["30","24","08","3","302408","Gmina miejsko-wiejska","WIELKOPOLSKIE","szamotulski","WRONKI","WRONKI - Gmina miejsko-wiejska / Powiat szamotulski / Województwo  - WIELKOPOLSKIE / 302408 / ",71193563,82362676.480000004,{"$f":"ISNUMBER(SEARCH(Wyszukiwarka!$A$1,'Porównanie dochodów JST'!J2275))","v":false},{"$f":"IF(M2275,COUNTIF($M$16:M2275,TRUE),\"\")","v":""},{"$f":"IFERROR(INDEX($J$16:$J$2822,MATCH(ROWS($J$16:J2275),$N$16:$N$2822,0)),\"\")","v":""}]
["30","25","01","2","302501","Gmina wiejska","WIELKOPOLSKIE","średzki","DOMINOWO","DOMINOWO - Gmina wiejska / Powiat średzki / Województwo  - WIELKOPOLSKIE / 302501 / ",12762863,14113466,{"$f":"ISNUMBER(SEARCH(Wyszukiwarka!$A$1,'Porównanie dochodów JST'!J2276))","v":false},{"$f":"IF(M2276,COUNTIF($M$16:M2276,TRUE),\"\")","v":""},{"$f":"IFERROR(INDEX($J$16:$J$2822,MATCH(ROWS($J$16:J2276),$N$16:$N$2822,0)),\"\")","v":""}]
["30","25","02","2","302502","Gmina wiejska","WIELKOPOLSKIE","średzki","KRZYKOSY","KRZYKOSY - Gmina wiejska / Powiat średzki / Województwo  - WIELKOPOLSKIE / 302502 / ",29550981,32277651,{"$f":"ISNUMBER(SEARCH(Wyszukiwarka!$A$1,'Porównanie dochodów JST'!J2277))","v":false},{"$f":"IF(M2277,COUNTIF($M$16:M2277,TRUE),\"\")","v":""},{"$f":"IFERROR(INDEX($J$16:$J$2822,MATCH(ROWS($J$16:J2277),$N$16:$N$2822,0)),\"\")","v":""}]
["30","25","03","2","302503","Gmina wiejska","WIELKOPOLSKIE","średzki","NOWE MIASTO n. WARTĄ","NOWE MIASTO n. WARTĄ - Gmina wiejska / Powiat średzki / Województwo  - WIELKOPOLSKIE / 302503 / ",33831164,37168248,{"$f":"ISNUMBER(SEARCH(Wyszukiwarka!$A$1,'Porównanie dochodów JST'!J2278))","v":false},{"$f":"IF(M2278,COUNTIF($M$16:M2278,TRUE),\"\")","v":""},{"$f":"IFERROR(INDEX($J$16:$J$2822,MATCH(ROWS($J$16:J2278),$N$16:$N$2822,0)),\"\")","v":""}]
["30","25","04","3","302504","Gmina miejsko-wiejska","WIELKOPOLSKIE","średzki","ŚRODA WIELKOPOLSKA","ŚRODA WIELKOPOLSKA - Gmina miejsko-wiejska / Powiat średzki / Województwo  - WIELKOPOLSKIE / 302504 / ",118479173,135550179.27610001,{"$f":"ISNUMBER(SEARCH(Wyszukiwarka!$A$1,'Porównanie dochodów JST'!J2279))","v":false},{"$f":"IF(M2279,COUNTIF($M$16:M2279,TRUE),\"\")","v":""},{"$f":"IFERROR(INDEX($J$16:$J$2822,MATCH(ROWS($J$16:J2279),$N$16:$N$2822,0)),\"\")","v":""}]
["30","25","05","2","302505","Gmina wiejska","WIELKOPOLSKIE","średzki","ZANIEMYŚL","ZANIEMYŚL - Gmina wiejska / Powiat średzki / Województwo  - WIELKOPOLSKIE / 302505 / ",29647368,32408653,{"$f":"ISNUMBER(SEARCH(Wyszukiwarka!$A$1,'Porównanie dochodów JST'!J2280))","v":false},{"$f":"IF(M2280,COUNTIF($M$16:M2280,TRUE),\"\")","v":""},{"$f":"IFERROR(INDEX($J$16:$J$2822,MATCH(ROWS($J$16:J2280),$N$16:$N$2822,0)),\"\")","v":""}]
["30","26","01","2","302601","Gmina wiejska","WIELKOPOLSKIE","śremski","BRODNICA","BRODNICA - Gmina wiejska / Powiat śremski / Województwo  - WIELKOPOLSKIE / 302601 / ",20061056,22035237,{"$f":"ISNUMBER(SEARCH(Wyszukiwarka!$A$1,'Porównanie dochodów JST'!J2281))","v":false},{"$f":"IF(M2281,COUNTIF($M$16:M2281,TRUE),\"\")","v":""},{"$f":"IFERROR(INDEX($J$16:$J$2822,MATCH(ROWS($J$16:J2281),$N$16:$N$2822,0)),\"\")","v":""}]
["30","26","02","3","302602","Gmina miejsko-wiejska","WIELKOPOLSKIE","śremski","DOLSK","DOLSK - Gmina miejsko-wiejska / Powiat śremski / Województwo  - WIELKOPOLSKIE / 302602 / ",19572782,21649827.529796552,{"$f":"ISNUMBER(SEARCH(Wyszukiwarka!$A$1,'Porównanie dochodów JST'!J2282))","v":false},{"$f":"IF(M2282,COUNTIF($M$16:M2282,TRUE),\"\")","v":""},{"$f":"IFERROR(INDEX($J$16:$J$2822,MATCH(ROWS($J$16:J2282),$N$16:$N$2822,0)),\"\")","v":""}]
["30","26","03","3","302603","Gmina miejsko-wiejska","WIELKOPOLSKIE","śremski","KSIĄŻ WIELKOPOLSKI","KSIĄŻ WIELKOPOLSKI - Gmina miejsko-wiejska / Powiat śremski / Województwo  - WIELKOPOLSKIE / 302603 / ",33180603,36489728.989623457,{"$f":"ISNUMBER(SEARCH(Wyszukiwarka!$A$1,'Porównanie dochodów JST'!J2283))","v":false},{"$f":"IF(M2283,COUNTIF($M$16:M2283,TRUE),\"\")","v":""},{"$f":"IFERROR(INDEX($J$16:$J$2822,MATCH(ROWS($J$16:J2283),$N$16:$N$2822,0)),\"\")","v":""}]
["30","26","04","3","302604","Gmina miejsko-wiejska","WIELKOPOLSKIE","śremski","ŚREM","ŚREM - Gmina miejsko-wiejska / Powiat śremski / Województwo  - WIELKOPOLSKIE / 302604 / ",155527029,165982528.86812451,{"$f":"ISNUMBER(SEARCH(Wyszukiwarka!$A$1,'Porównanie dochodów JST'!J2284))","v":false},{"$f":"IF(M2284,COUNTIF($M$16:M2284,TRUE),\"\")","v":""},{"$f":"IFERROR(INDEX($J$16:$J$2822,MATCH(ROWS($J$16:J2284),$N$16:$N$2822,0)),\"\")","v":""}]
["30","27","01","1","302701","Gmina miejska","WIELKOPOLSKIE","turecki","TUREK","TUREK - Gmina miejska / Powiat turecki / Województwo  - WIELKOPOLSKIE / 302701 / ",74680408,86236329.760000005,{"$f":"ISNUMBER(SEARCH(Wyszukiwarka!$A$1,'Porównanie dochodów JST'!J2285))","v":false},{"$f":"IF(M2285,COUNTIF($M$16:M2285,TRUE),\"\")","v":""},{"$f":"IFERROR(INDEX($J$16:$J$2822,MATCH(ROWS($J$16:J2285),$N$16:$N$2822,0)),\"\")","v":""}]
["30","27","02","2","302702","Gmina wiejska","WIELKOPOLSKIE","turecki","BRUDZEW","BRUDZEW - Gmina wiejska / Powiat turecki / Województwo  - WIELKOPOLSKIE / 302702 / ",19050058,20946871,{"$f":"ISNUMBER(SEARCH(Wyszukiwarka!$A$1,'Porównanie dochodów JST'!J2286))","v":false},{"$f":"IF(M2286,COUNTIF($M$16:M2286,TRUE),\"\")","v":""},{"$f":"IFERROR(INDEX($J$16:$J$2822,MATCH(ROWS($J$16:J2286),$N$16:$N$2822,0)),\"\")","v":""}]
["30","27","03","3","302703","Gmina miejsko-wiejska","WIELKOPOLSKIE","turecki","DOBRA","DOBRA - Gmina miejsko-wiejska / Powiat turecki / Województwo  - WIELKOPOLSKIE / 302703 / ",21690381,23781074,{"$f":"ISNUMBER(SEARCH(Wyszukiwarka!$A$1,'Porównanie dochodów JST'!J2287))","v":false},{"$f":"IF(M2287,COUNTIF($M$16:M2287,TRUE),\"\")","v":""},{"$f":"IFERROR(INDEX($J$16:$J$2822,MATCH(ROWS($J$16:J2287),$N$16:$N$2822,0)),\"\")","v":""}]
["30","27","04","2","302704","Gmina wiejska","WIELKOPOLSKIE","turecki","KAWĘCZYN","KAWĘCZYN - Gmina wiejska / Powiat turecki / Województwo  - WIELKOPOLSKIE / 302704 / ",23189651,25173513.829702739,{"$f":"ISNUMBER(SEARCH(Wyszukiwarka!$A$1,'Porównanie dochodów JST'!J2288))","v":false},{"$f":"IF(M2288,COUNTIF($M$16:M2288,TRUE),\"\")","v":""},{"$f":"IFERROR(INDEX($J$16:$J$2822,MATCH(ROWS($J$16:J2288),$N$16:$N$2822,0)),\"\")","v":""}]
["30","27","05","2","302705","Gmina wiejska","WIELKOPOLSKIE","turecki","MALANÓW","MALANÓW - Gmina wiejska / Powiat turecki / Województwo  - WIELKOPOLSKIE / 302705 / ",22404927,25017413.831554901,{"$f":"ISNUMBER(SEARCH(Wyszukiwarka!$A$1,'Porównanie dochodów JST'!J2289))","v":false},{"$f":"IF(M2289,COUNTIF($M$16:M2289,TRUE),\"\")","v":""},{"$f":"IFERROR(INDEX($J$16:$J$2822,MATCH(ROWS($J$16:J2289),$N$16:$N$2822,0)),\"\")","v":""}]
["30","27","06","2","302706","Gmina wiejska","WIELKOPOLSKIE","turecki","PRZYKONA","PRZYKONA - Gmina wiejska / Powiat turecki / Województwo  - WIELKOPOLSKIE / 302706 / ",14236849,16055238.099999998,{"$f":"ISNUMBER(SEARCH(Wyszukiwarka!$A$1,'Porównanie dochodów JST'!J2290))","v":false},{"$f":"IF(M2290,COUNTIF($M$16:M2290,TRUE),\"\")","v":""},{"$f":"IFERROR(INDEX($J$16:$J$2822,MATCH(ROWS($J$16:J2290),$N$16:$N$2822,0)),\"\")","v":""}]
["30","27","07","3","302707","Gmina miejsko-wiejska","WIELKOPOLSKIE","turecki","TULISZKÓW","TULISZKÓW - Gmina miejsko-wiejska / Powiat turecki / Województwo  - WIELKOPOLSKIE / 302707 / ",40799779,44804484.683198437,{"$f":"ISNUMBER(SEARCH(Wyszukiwarka!$A$1,'Porównanie dochodów JST'!J2291))","v":false},{"$f":"IF(M2291,COUNTIF($M$16:M2291,TRUE),\"\")","v":""},{"$f":"IFERROR(INDEX($J$16:$J$2822,MATCH(ROWS($J$16:J2291),$N$16:$N$2822,0)),\"\")","v":""}]
["30","27","08","2","302708","Gmina wiejska","WIELKOPOLSKIE","turecki","TUREK","TUREK - Gmina wiejska / Powiat turecki / Województwo  - WIELKOPOLSKIE / 302708 / ",39803553,43815860,{"$f":"ISNUMBER(SEARCH(Wyszukiwarka!$A$1,'Porównanie dochodów JST'!J2292))","v":false},{"$f":"IF(M2292,COUNTIF($M$16:M2292,TRUE),\"\")","v":""},{"$f":"IFERROR(INDEX($J$16:$J$2822,MATCH(ROWS($J$16:J2292),$N$16:$N$2822,0)),\"\")","v":""}]
["30","27","09","2","302709","Gmina wiejska","WIELKOPOLSKIE","turecki","WŁADYSŁAWÓW","WŁADYSŁAWÓW - Gmina wiejska / Powiat turecki / Województwo  - WIELKOPOLSKIE / 302709 / ",33423493,36176390.624696806,{"$f":"ISNUMBER(SEARCH(Wyszukiwarka!$A$1,'Porównanie dochodów JST'!J2293))","v":false},{"$f":"IF(M2293,COUNTIF($M$16:M2293,TRUE),\"\")","v":""},{"$f":"IFERROR(INDEX($J$16:$J$2822,MATCH(ROWS($J$16:J2293),$N$16:$N$2822,0)),\"\")","v":""}]
["30","28","01","1","302801","Gmina miejska","WIELKOPOLSKIE","wągrowiecki","WĄGROWIEC","WĄGROWIEC - Gmina miejska / Powiat wągrowiecki / Województwo  - WIELKOPOLSKIE / 302801 / ",86172248,92514942,{"$f":"ISNUMBER(SEARCH(Wyszukiwarka!$A$1,'Porównanie dochodów JST'!J2294))","v":false},{"$f":"IF(M2294,COUNTIF($M$16:M2294,TRUE),\"\")","v":""},{"$f":"IFERROR(INDEX($J$16:$J$2822,MATCH(ROWS($J$16:J2294),$N$16:$N$2822,0)),\"\")","v":""}]
["30","28","02","2","302802","Gmina wiejska","WIELKOPOLSKIE","wągrowiecki","DAMASŁAWEK","DAMASŁAWEK - Gmina wiejska / Powiat wągrowiecki / Województwo  - WIELKOPOLSKIE / 302802 / ",19736356,21728259,{"$f":"ISNUMBER(SEARCH(Wyszukiwarka!$A$1,'Porównanie dochodów JST'!J2295))","v":false},{"$f":"IF(M2295,COUNTIF($M$16:M2295,TRUE),\"\")","v":""},{"$f":"IFERROR(INDEX($J$16:$J$2822,MATCH(ROWS($J$16:J2295),$N$16:$N$2822,0)),\"\")","v":""}]
["30","28","03","3","302803","Gmina miejsko-wiejska","WIELKOPOLSKIE","wągrowiecki","GOŁAŃCZ","GOŁAŃCZ - Gmina miejsko-wiejska / Powiat wągrowiecki / Województwo  - WIELKOPOLSKIE / 302803 / ",27958664,30720598,{"$f":"ISNUMBER(SEARCH(Wyszukiwarka!$A$1,'Porównanie dochodów JST'!J2296))","v":false},{"$f":"IF(M2296,COUNTIF($M$16:M2296,TRUE),\"\")","v":""},{"$f":"IFERROR(INDEX($J$16:$J$2822,MATCH(ROWS($J$16:J2296),$N$16:$N$2822,0)),\"\")","v":""}]
["30","28","04","2","302804","Gmina wiejska","WIELKOPOLSKIE","wągrowiecki","MIEŚCISKO","MIEŚCISKO - Gmina wiejska / Powiat wągrowiecki / Województwo  - WIELKOPOLSKIE / 302804 / ",20944515,23005788,{"$f":"ISNUMBER(SEARCH(Wyszukiwarka!$A$1,'Porównanie dochodów JST'!J2297))","v":false},{"$f":"IF(M2297,COUNTIF($M$16:M2297,TRUE),\"\")","v":""},{"$f":"IFERROR(INDEX($J$16:$J$2822,MATCH(ROWS($J$16:J2297),$N$16:$N$2822,0)),\"\")","v":""}]
["30","28","05","3","302805","Gmina miejsko-wiejska","WIELKOPOLSKIE","wągrowiecki","SKOKI","SKOKI - Gmina miejsko-wiejska / Powiat wągrowiecki / Województwo  - WIELKOPOLSKIE / 302805 / ",35075177,39875524.201662228,{"$f":"ISNUMBER(SEARCH(Wyszukiwarka!$A$1,'Porównanie dochodów JST'!J2298))","v":false},{"$f":"IF(M2298,COUNTIF($M$16:M2298,TRUE),\"\")","v":""},{"$f":"IFERROR(INDEX($J$16:$J$2822,MATCH(ROWS($J$16:J2298),$N$16:$N$2822,0)),\"\")","v":""}]
["30","28","06","2","302806","Gmina wiejska","WIELKOPOLSKIE","wągrowiecki","WAPNO","WAPNO - Gmina wiejska / Powiat wągrowiecki / Województwo  - WIELKOPOLSKIE / 302806 / ",11030856,12284622,{"$f":"ISNUMBER(SEARCH(Wyszukiwarka!$A$1,'Porównanie dochodów JST'!J2299))","v":false},{"$f":"IF(M2299,COUNTIF($M$16:M2299,TRUE),\"\")","v":""},{"$f":"IFERROR(INDEX($J$16:$J$2822,MATCH(ROWS($J$16:J2299),$N$16:$N$2822,0)),\"\")","v":""}]
["30","28","07","2","302807","Gmina wiejska","WIELKOPOLSKIE","wągrowiecki","WĄGROWIEC","WĄGROWIEC - Gmina wiejska / Powiat wągrowiecki / Województwo  - WIELKOPOLSKIE / 302807 / ",46832382,51079666.808699891,{"$f":"ISNUMBER(SEARCH(Wyszukiwarka!$A$1,'Porównanie dochodów JST'!J2300))","v":false},{"$f":"IF(M2300,COUNTIF($M$16:M2300,TRUE),\"\")","v":""},{"$f":"IFERROR(INDEX($J$16:$J$2822,MATCH(ROWS($J$16:J2300),$N$16:$N$2822,0)),\"\")","v":""}]
["30","29","01","2","302901","Gmina wiejska","WIELKOPOLSKIE","wolsztyński","PRZEMĘT","PRZEMĘT - Gmina wiejska / Powiat wolsztyński / Województwo  - WIELKOPOLSKIE / 302901 / ",59521558,63909318.933464393,{"$f":"ISNUMBER(SEARCH(Wyszukiwarka!$A$1,'Porównanie dochodów JST'!J2301))","v":false},{"$f":"IF(M2301,COUNTIF($M$16:M2301,TRUE),\"\")","v":""},{"$f":"IFERROR(INDEX($J$16:$J$2822,MATCH(ROWS($J$16:J2301),$N$16:$N$2822,0)),\"\")","v":""}]
["30","29","02","2","302902","Gmina wiejska","WIELKOPOLSKIE","wolsztyński","SIEDLEC","SIEDLEC - Gmina wiejska / Powiat wolsztyński / Województwo  - WIELKOPOLSKIE / 302902 / ",47004690,51272624,{"$f":"ISNUMBER(SEARCH(Wyszukiwarka!$A$1,'Porównanie dochodów JST'!J2302))","v":false},{"$f":"IF(M2302,COUNTIF($M$16:M2302,TRUE),\"\")","v":""},{"$f":"IFERROR(INDEX($J$16:$J$2822,MATCH(ROWS($J$16:J2302),$N$16:$N$2822,0)),\"\")","v":""}]
["30","29","03","3","302903","Gmina miejsko-wiejska","WIELKOPOLSKIE","wolsztyński","WOLSZTYN","WOLSZTYN - Gmina miejsko-wiejska / Powiat wolsztyński / Województwo  - WIELKOPOLSKIE / 302903 / ",99576609,111377851.31999999,{"$f":"ISNUMBER(SEARCH(Wyszukiwarka!$A$1,'Porównanie dochodów JST'!J2303))","v":false},{"$f":"IF(M2303,COUNTIF($M$16:M2303,TRUE),\"\")","v":""},{"$f":"IFERROR(INDEX($J$16:$J$2822,MATCH(ROWS($J$16:J2303),$N$16:$N$2822,0)),\"\")","v":""}]
["30","30","01","2","303001","Gmina wiejska","WIELKOPOLSKIE","wrzesiński","KOŁACZKOWO","KOŁACZKOWO - Gmina wiejska / Powiat wrzesiński / Województwo  - WIELKOPOLSKIE / 303001 / ",21361807,23406793,{"$f":"ISNUMBER(SEARCH(Wyszukiwarka!$A$1,'Porównanie dochodów JST'!J2304))","v":false},{"$f":"IF(M2304,COUNTIF($M$16:M2304,TRUE),\"\")","v":""},{"$f":"IFERROR(INDEX($J$16:$J$2822,MATCH(ROWS($J$16:J2304),$N$16:$N$2822,0)),\"\")","v":""}]
["30","30","02","3","303002","Gmina miejsko-wiejska","WIELKOPOLSKIE","wrzesiński","MIŁOSŁAW","MIŁOSŁAW - Gmina miejsko-wiejska / Powiat wrzesiński / Województwo  - WIELKOPOLSKIE / 303002 / ",35265115,38710975,{"$f":"ISNUMBER(SEARCH(Wyszukiwarka!$A$1,'Porównanie dochodów JST'!J2305))","v":false},{"$f":"IF(M2305,COUNTIF($M$16:M2305,TRUE),\"\")","v":""},{"$f":"IFERROR(INDEX($J$16:$J$2822,MATCH(ROWS($J$16:J2305),$N$16:$N$2822,0)),\"\")","v":""}]
["30","30","03","3","303003","Gmina miejsko-wiejska","WIELKOPOLSKIE","wrzesiński","NEKLA","NEKLA - Gmina miejsko-wiejska / Powiat wrzesiński / Województwo  - WIELKOPOLSKIE / 303003 / ",30420848,33247826,{"$f":"ISNUMBER(SEARCH(Wyszukiwarka!$A$1,'Porównanie dochodów JST'!J2306))","v":false},{"$f":"IF(M2306,COUNTIF($M$16:M2306,TRUE),\"\")","v":""},{"$f":"IFERROR(INDEX($J$16:$J$2822,MATCH(ROWS($J$16:J2306),$N$16:$N$2822,0)),\"\")","v":""}]
["30","30","04","3","303004","Gmina miejsko-wiejska","WIELKOPOLSKIE","wrzesiński","PYZDRY","PYZDRY - Gmina miejsko-wiejska / Powiat wrzesiński / Województwo  - WIELKOPOLSKIE / 303004 / ",26479907,29122458.515139535,{"$f":"ISNUMBER(SEARCH(Wyszukiwarka!$A$1,'Porównanie dochodów JST'!J2307))","v":false},{"$f":"IF(M2307,COUNTIF($M$16:M2307,TRUE),\"\")","v":""},{"$f":"IFERROR(INDEX($J$16:$J$2822,MATCH(ROWS($J$16:J2307),$N$16:$N$2822,0)),\"\")","v":""}]
["30","30","05","3","303005","Gmina miejsko-wiejska","WIELKOPOLSKIE","wrzesiński","WRZEŚNIA","WRZEŚNIA - Gmina miejsko-wiejska / Powiat wrzesiński / Województwo  - WIELKOPOLSKIE / 303005 / ",171200612,187081212.81768844,{"$f":"ISNUMBER(SEARCH(Wyszukiwarka!$A$1,'Porównanie dochodów JST'!J2308))","v":false},{"$f":"IF(M2308,COUNTIF($M$16:M2308,TRUE),\"\")","v":""},{"$f":"IFERROR(INDEX($J$16:$J$2822,MATCH(ROWS($J$16:J2308),$N$16:$N$2822,0)),\"\")","v":""}]
["30","31","01","1","303101","Gmina miejska","WIELKOPOLSKIE","złotowski","ZŁOTÓW","ZŁOTÓW - Gmina miejska / Powiat złotowski / Województwo  - WIELKOPOLSKIE / 303101 / ",64801167,74975826.24000001,{"$f":"ISNUMBER(SEARCH(Wyszukiwarka!$A$1,'Porównanie dochodów JST'!J2309))","v":false},{"$f":"IF(M2309,COUNTIF($M$16:M2309,TRUE),\"\")","v":""},{"$f":"IFERROR(INDEX($J$16:$J$2822,MATCH(ROWS($J$16:J2309),$N$16:$N$2822,0)),\"\")","v":""}]
["30","31","02","3","303102","Gmina miejsko-wiejska","WIELKOPOLSKIE","złotowski","JASTROWIE","JASTROWIE - Gmina miejsko-wiejska / Powiat złotowski / Województwo  - WIELKOPOLSKIE / 303102 / ",38574875,43938655.047642455,{"$f":"ISNUMBER(SEARCH(Wyszukiwarka!$A$1,'Porównanie dochodów JST'!J2310))","v":false},{"$f":"IF(M2310,COUNTIF($M$16:M2310,TRUE),\"\")","v":""},{"$f":"IFERROR(INDEX($J$16:$J$2822,MATCH(ROWS($J$16:J2310),$N$16:$N$2822,0)),\"\")","v":""}]
["30","31","03","3","303103","Gmina miejsko-wiejska","WIELKOPOLSKIE","złotowski","KRAJENKA","KRAJENKA - Gmina miejsko-wiejska / Powiat złotowski / Województwo  - WIELKOPOLSKIE / 303103 / ",30551554,33298745.512547679,{"$f":"ISNUMBER(SEARCH(Wyszukiwarka!$A$1,'Porównanie dochodów JST'!J2311))","v":false},{"$f":"IF(M2311,COUNTIF($M$16:M2311,TRUE),\"\")","v":""},{"$f":"IFERROR(INDEX($J$16:$J$2822,MATCH(ROWS($J$16:J2311),$N$16:$N$2822,0)),\"\")","v":""}]
["30","31","04","2","303104","Gmina wiejska","WIELKOPOLSKIE","złotowski","LIPKA","LIPKA - Gmina wiejska / Powiat złotowski / Województwo  - WIELKOPOLSKIE / 303104 / ",19380548,21409748,{"$f":"ISNUMBER(SEARCH(Wyszukiwarka!$A$1,'Porównanie dochodów JST'!J2312))","v":false},{"$f":"IF(M2312,COUNTIF($M$16:M2312,TRUE),\"\")","v":""},{"$f":"IFERROR(INDEX($J$16:$J$2822,MATCH(ROWS($J$16:J2312),$N$16:$N$2822,0)),\"\")","v":""}]
["30","31","05","3","303105","Gmina miejsko-wiejska","WIELKOPOLSKIE","złotowski","OKONEK","OKONEK - Gmina miejsko-wiejska / Powiat złotowski / Województwo  - WIELKOPOLSKIE / 303105 / ",29322835,32134845.525173817,{"$f":"ISNUMBER(SEARCH(Wyszukiwarka!$A$1,'Porównanie dochodów JST'!J2313))","v":false},{"$f":"IF(M2313,COUNTIF($M$16:M2313,TRUE),\"\")","v":""},{"$f":"IFERROR(INDEX($J$16:$J$2822,MATCH(ROWS($J$16:J2313),$N$16:$N$2822,0)),\"\")","v":""}]
["30","31","06","2","303106","Gmina wiejska","WIELKOPOLSKIE","złotowski","TARNÓWKA","TARNÓWKA - Gmina wiejska / Powiat złotowski / Województwo  - WIELKOPOLSKIE / 303106 / ",10426259,11725313,{"$f":"ISNUMBER(SEARCH(Wyszukiwarka!$A$1,'Porównanie dochodów JST'!J2314))","v":false},{"$f":"IF(M2314,COUNTIF($M$16:M2314,TRUE),\"\")","v":""},{"$f":"IFERROR(INDEX($J$16:$J$2822,MATCH(ROWS($J$16:J2314),$N$16:$N$2822,0)),\"\")","v":""}]
["30","31","07","2","303107","Gmina wiejska","WIELKOPOLSKIE","złotowski","ZAKRZEWO","ZAKRZEWO - Gmina wiejska / Powiat złotowski / Województwo  - WIELKOPOLSKIE / 303107 / ",18401829,20397646,{"$f":"ISNUMBER(SEARCH(Wyszukiwarka!$A$1,'Porównanie dochodów JST'!J2315))","v":false},{"$f":"IF(M2315,COUNTIF($M$16:M2315,TRUE),\"\")","v":""},{"$f":"IFERROR(INDEX($J$16:$J$2822,MATCH(ROWS($J$16:J2315),$N$16:$N$2822,0)),\"\")","v":""}]
["30","31","08","2","303108","Gmina wiejska","WIELKOPOLSKIE","złotowski","ZŁOTÓW","ZŁOTÓW - Gmina wiejska / Powiat złotowski / Województwo  - WIELKOPOLSKIE / 303108 / ",37977200,41488432,{"$f":"ISNUMBER(SEARCH(Wyszukiwarka!$A$1,'Porównanie dochodów JST'!J2316))","v":false},{"$f":"IF(M2316,COUNTIF($M$16:M2316,TRUE),\"\")","v":""},{"$f":"IFERROR(INDEX($J$16:$J$2822,MATCH(ROWS($J$16:J2316),$N$16:$N$2822,0)),\"\")","v":""}]
["32","01","01","1","320101","Gmina miejska","ZACHODNIOPOMORSKIE","białogardzki","BIAŁOGARD","BIAŁOGARD - Gmina miejska / Powiat białogardzki / Województwo  - ZACHODNIOPOMORSKIE / 320101 / ",72253256,83221830.719999999,{"$f":"ISNUMBER(SEARCH(Wyszukiwarka!$A$1,'Porównanie dochodów JST'!J2317))","v":false},{"$f":"IF(M2317,COUNTIF($M$16:M2317,TRUE),\"\")","v":""},{"$f":"IFERROR(INDEX($J$16:$J$2822,MATCH(ROWS($J$16:J2317),$N$16:$N$2822,0)),\"\")","v":""}]
["32","01","02","2","320102","Gmina wiejska","ZACHODNIOPOMORSKIE","białogardzki","BIAŁOGARD","BIAŁOGARD - Gmina wiejska / Powiat białogardzki / Województwo  - ZACHODNIOPOMORSKIE / 320102 / ",18672283,21352864.468600001,{"$f":"ISNUMBER(SEARCH(Wyszukiwarka!$A$1,'Porównanie dochodów JST'!J2318))","v":false},{"$f":"IF(M2318,COUNTIF($M$16:M2318,TRUE),\"\")","v":""},{"$f":"IFERROR(INDEX($J$16:$J$2822,MATCH(ROWS($J$16:J2318),$N$16:$N$2822,0)),\"\")","v":""}]
["32","01","03","3","320103","Gmina miejsko-wiejska","ZACHODNIOPOMORSKIE","białogardzki","KARLINO","KARLINO - Gmina miejsko-wiejska / Powiat białogardzki / Województwo  - ZACHODNIOPOMORSKIE / 320103 / ",28761213,31818345.8770562,{"$f":"ISNUMBER(SEARCH(Wyszukiwarka!$A$1,'Porównanie dochodów JST'!J2319))","v":false},{"$f":"IF(M2319,COUNTIF($M$16:M2319,TRUE),\"\")","v":""},{"$f":"IFERROR(INDEX($J$16:$J$2822,MATCH(ROWS($J$16:J2319),$N$16:$N$2822,0)),\"\")","v":""}]
["32","01","04","3","320104","Gmina miejsko-wiejska","ZACHODNIOPOMORSKIE","białogardzki","TYCHOWO","TYCHOWO - Gmina miejsko-wiejska / Powiat białogardzki / Województwo  - ZACHODNIOPOMORSKIE / 320104 / ",19787833,22418942,{"$f":"ISNUMBER(SEARCH(Wyszukiwarka!$A$1,'Porównanie dochodów JST'!J2320))","v":false},{"$f":"IF(M2320,COUNTIF($M$16:M2320,TRUE),\"\")","v":""},{"$f":"IFERROR(INDEX($J$16:$J$2822,MATCH(ROWS($J$16:J2320),$N$16:$N$2822,0)),\"\")","v":""}]
["32","02","01","2","320201","Gmina wiejska","ZACHODNIOPOMORSKIE","choszczeński","BIERZWNIK",{"$f":"I2321&$H$12&F2321&$G$12&$H$14&H2321&$G$12&$G$14&$H$12&G2321&$G$12&E2321&$G$12","v":"BIERZWNIK - Gmina wiejska / Powiat choszczeński / Województwo  - ZACHODNIOPOMORSKIE / 320201 / "},16177120,18126596,{"$f":"ISNUMBER(SEARCH(Wyszukiwarka!$A$1,'Porównanie dochodów JST'!J2321))","v":false},{"$f":"IF(M2321,COUNTIF($M$16:M2321,TRUE),\"\")","v":""},{"$f":"IFERROR(INDEX($J$16:$J$2822,MATCH(ROWS($J$16:J2321),$N$16:$N$2822,0)),\"\")","v":""}]
["32","02","02","3","320202","Gmina miejsko-wiejska","ZACHODNIOPOMORSKIE","choszczeński","CHOSZCZNO","CHOSZCZNO - Gmina miejsko-wiejska / Powiat choszczeński / Województwo  - ZACHODNIOPOMORSKIE / 320202 / ",69840652,75285585.708715409,{"$f":"ISNUMBER(SEARCH(Wyszukiwarka!$A$1,'Porównanie dochodów JST'!J2322))","v":false},{"$f":"IF(M2322,COUNTIF($M$16:M2322,TRUE),\"\")","v":""},{"$f":"IFERROR(INDEX($J$16:$J$2822,MATCH(ROWS($J$16:J2322),$N$16:$N$2822,0)),\"\")","v":""}]
["32","02","03","3","320203","Gmina miejsko-wiejska","ZACHODNIOPOMORSKIE","choszczeński","DRAWNO","DRAWNO - Gmina miejsko-wiejska / Powiat choszczeński / Województwo  - ZACHODNIOPOMORSKIE / 320203 / ",16057144,18036037,{"$f":"ISNUMBER(SEARCH(Wyszukiwarka!$A$1,'Porównanie dochodów JST'!J2323))","v":false},{"$f":"IF(M2323,COUNTIF($M$16:M2323,TRUE),\"\")","v":""},{"$f":"IFERROR(INDEX($J$16:$J$2822,MATCH(ROWS($J$16:J2323),$N$16:$N$2822,0)),\"\")","v":""}]
["32","02","04","2","320204","Gmina wiejska","ZACHODNIOPOMORSKIE","choszczeński","KRZĘCIN","KRZĘCIN - Gmina wiejska / Powiat choszczeński / Województwo  - ZACHODNIOPOMORSKIE / 320204 / ",8741207,9967179.1999999993,{"$f":"ISNUMBER(SEARCH(Wyszukiwarka!$A$1,'Porównanie dochodów JST'!J2324))","v":false},{"$f":"IF(M2324,COUNTIF($M$16:M2324,TRUE),\"\")","v":""},{"$f":"IFERROR(INDEX($J$16:$J$2822,MATCH(ROWS($J$16:J2324),$N$16:$N$2822,0)),\"\")","v":""}]
["32","02","05","3","320205","Gmina miejsko-wiejska","ZACHODNIOPOMORSKIE","choszczeński","PEŁCZYCE","PEŁCZYCE - Gmina miejsko-wiejska / Powiat choszczeński / Województwo  - ZACHODNIOPOMORSKIE / 320205 / ",25920087,28622345,{"$f":"ISNUMBER(SEARCH(Wyszukiwarka!$A$1,'Porównanie dochodów JST'!J2325))","v":false},{"$f":"IF(M2325,COUNTIF($M$16:M2325,TRUE),\"\")","v":""},{"$f":"IFERROR(INDEX($J$16:$J$2822,MATCH(ROWS($J$16:J2325),$N$16:$N$2822,0)),\"\")","v":""}]
["32","02","06","3","320206","Gmina miejsko-wiejska","ZACHODNIOPOMORSKIE","choszczeński","RECZ","RECZ - Gmina miejsko-wiejska / Powiat choszczeński / Województwo  - ZACHODNIOPOMORSKIE / 320206 / ",17062353,19056886,{"$f":"ISNUMBER(SEARCH(Wyszukiwarka!$A$1,'Porównanie dochodów JST'!J2326))","v":false},{"$f":"IF(M2326,COUNTIF($M$16:M2326,TRUE),\"\")","v":""},{"$f":"IFERROR(INDEX($J$16:$J$2822,MATCH(ROWS($J$16:J2326),$N$16:$N$2822,0)),\"\")","v":""}]
["32","03","01","3","320301","Gmina miejsko-wiejska","ZACHODNIOPOMORSKIE","drawski","CZAPLINEK","CZAPLINEK - Gmina miejsko-wiejska / Powiat drawski / Województwo  - ZACHODNIOPOMORSKIE / 320301 / ",32225705,36343136,{"$f":"ISNUMBER(SEARCH(Wyszukiwarka!$A$1,'Porównanie dochodów JST'!J2327))","v":false},{"$f":"IF(M2327,COUNTIF($M$16:M2327,TRUE),\"\")","v":""},{"$f":"IFERROR(INDEX($J$16:$J$2822,MATCH(ROWS($J$16:J2327),$N$16:$N$2822,0)),\"\")","v":""}]
["32","03","02","3","320302","Gmina miejsko-wiejska","ZACHODNIOPOMORSKIE","drawski","DRAWSKO POMORSKIE","DRAWSKO POMORSKIE - Gmina miejsko-wiejska / Powiat drawski / Województwo  - ZACHODNIOPOMORSKIE / 320302 / ",49992997,54838449,{"$f":"ISNUMBER(SEARCH(Wyszukiwarka!$A$1,'Porównanie dochodów JST'!J2328))","v":false},{"$f":"IF(M2328,COUNTIF($M$16:M2328,TRUE),\"\")","v":""},{"$f":"IFERROR(INDEX($J$16:$J$2822,MATCH(ROWS($J$16:J2328),$N$16:$N$2822,0)),\"\")","v":""}]
["32","03","03","3","320303","Gmina miejsko-wiejska","ZACHODNIOPOMORSKIE","drawski","KALISZ POMORSKI","KALISZ POMORSKI - Gmina miejsko-wiejska / Powiat drawski / Województwo  - ZACHODNIOPOMORSKIE / 320303 / ",16933609,19190451.450682934,{"$f":"ISNUMBER(SEARCH(Wyszukiwarka!$A$1,'Porównanie dochodów JST'!J2329))","v":false},{"$f":"IF(M2329,COUNTIF($M$16:M2329,TRUE),\"\")","v":""},{"$f":"IFERROR(INDEX($J$16:$J$2822,MATCH(ROWS($J$16:J2329),$N$16:$N$2822,0)),\"\")","v":""}]
["32","03","05","2","320305","Gmina wiejska","ZACHODNIOPOMORSKIE","drawski","WIERZCHOWO","WIERZCHOWO - Gmina wiejska / Powiat drawski / Województwo  - ZACHODNIOPOMORSKIE / 320305 / ",13280558,15062859.9,{"$f":"ISNUMBER(SEARCH(Wyszukiwarka!$A$1,'Porównanie dochodów JST'!J2330))","v":false},{"$f":"IF(M2330,COUNTIF($M$16:M2330,TRUE),\"\")","v":""},{"$f":"IFERROR(INDEX($J$16:$J$2822,MATCH(ROWS($J$16:J2330),$N$16:$N$2822,0)),\"\")","v":""}]
["32","03","06","3","320306","Gmina miejsko-wiejska","ZACHODNIOPOMORSKIE","drawski","ZŁOCIENIEC","ZŁOCIENIEC - Gmina miejsko-wiejska / Powiat drawski / Województwo  - ZACHODNIOPOMORSKIE / 320306 / ",48989524,54003373,{"$f":"ISNUMBER(SEARCH(Wyszukiwarka!$A$1,'Porównanie dochodów JST'!J2331))","v":false},{"$f":"IF(M2331,COUNTIF($M$16:M2331,TRUE),\"\")","v":""},{"$f":"IFERROR(INDEX($J$16:$J$2822,MATCH(ROWS($J$16:J2331),$N$16:$N$2822,0)),\"\")","v":""}]
["32","04","02","3","320402","Gmina miejsko-wiejska","ZACHODNIOPOMORSKIE","goleniowski","GOLENIÓW","GOLENIÓW - Gmina miejsko-wiejska / Powiat goleniowski / Województwo  - ZACHODNIOPOMORSKIE / 320402 / ",146313441,157001528.44160208,{"$f":"ISNUMBER(SEARCH(Wyszukiwarka!$A$1,'Porównanie dochodów JST'!J2332))","v":false},{"$f":"IF(M2332,COUNTIF($M$16:M2332,TRUE),\"\")","v":""},{"$f":"IFERROR(INDEX($J$16:$J$2822,MATCH(ROWS($J$16:J2332),$N$16:$N$2822,0)),\"\")","v":""}]
["32","04","03","3","320403","Gmina miejsko-wiejska","ZACHODNIOPOMORSKIE","goleniowski","MASZEWO","MASZEWO - Gmina miejsko-wiejska / Powiat goleniowski / Województwo  - ZACHODNIOPOMORSKIE / 320403 / ",30985030,34339184,{"$f":"ISNUMBER(SEARCH(Wyszukiwarka!$A$1,'Porównanie dochodów JST'!J2333))","v":false},{"$f":"IF(M2333,COUNTIF($M$16:M2333,TRUE),\"\")","v":""},{"$f":"IFERROR(INDEX($J$16:$J$2822,MATCH(ROWS($J$16:J2333),$N$16:$N$2822,0)),\"\")","v":""}]
["32","04","04","3","320404","Gmina miejsko-wiejska","ZACHODNIOPOMORSKIE","goleniowski","NOWOGARD","NOWOGARD - Gmina miejsko-wiejska / Powiat goleniowski / Województwo  - ZACHODNIOPOMORSKIE / 320404 / ",79913922,85715488,{"$f":"ISNUMBER(SEARCH(Wyszukiwarka!$A$1,'Porównanie dochodów JST'!J2334))","v":false},{"$f":"IF(M2334,COUNTIF($M$16:M2334,TRUE),\"\")","v":""},{"$f":"IFERROR(INDEX($J$16:$J$2822,MATCH(ROWS($J$16:J2334),$N$16:$N$2822,0)),\"\")","v":""}]
["32","04","05","2","320405","Gmina wiejska","ZACHODNIOPOMORSKIE","goleniowski","OSINA","OSINA - Gmina wiejska / Powiat goleniowski / Województwo  - ZACHODNIOPOMORSKIE / 320405 / ",8929926,10149972.662300002,{"$f":"ISNUMBER(SEARCH(Wyszukiwarka!$A$1,'Porównanie dochodów JST'!J2335))","v":false},{"$f":"IF(M2335,COUNTIF($M$16:M2335,TRUE),\"\")","v":""},{"$f":"IFERROR(INDEX($J$16:$J$2822,MATCH(ROWS($J$16:J2335),$N$16:$N$2822,0)),\"\")","v":""}]
["32","04","06","2","320406","Gmina wiejska","ZACHODNIOPOMORSKIE","goleniowski","PRZYBIERNÓW","PRZYBIERNÓW - Gmina wiejska / Powiat goleniowski / Województwo  - ZACHODNIOPOMORSKIE / 320406 / ",15554216,17545888,{"$f":"ISNUMBER(SEARCH(Wyszukiwarka!$A$1,'Porównanie dochodów JST'!J2336))","v":false},{"$f":"IF(M2336,COUNTIF($M$16:M2336,TRUE),\"\")","v":""},{"$f":"IFERROR(INDEX($J$16:$J$2822,MATCH(ROWS($J$16:J2336),$N$16:$N$2822,0)),\"\")","v":""}]
["32","04","07","3","320407","Gmina miejsko-wiejska","ZACHODNIOPOMORSKIE","goleniowski","STEPNICA","STEPNICA - Gmina miejsko-wiejska / Powiat goleniowski / Województwo  - ZACHODNIOPOMORSKIE / 320407 / ",15062730,17044835,{"$f":"ISNUMBER(SEARCH(Wyszukiwarka!$A$1,'Porównanie dochodów JST'!J2337))","v":false},{"$f":"IF(M2337,COUNTIF($M$16:M2337,TRUE),\"\")","v":""},{"$f":"IFERROR(INDEX($J$16:$J$2822,MATCH(ROWS($J$16:J2337),$N$16:$N$2822,0)),\"\")","v":""}]
["32","05","01","2","320501","Gmina wiejska","ZACHODNIOPOMORSKIE","gryficki","BROJCE","BROJCE - Gmina wiejska / Powiat gryficki / Województwo  - ZACHODNIOPOMORSKIE / 320501 / ",13103268,14610623.789999999,{"$f":"ISNUMBER(SEARCH(Wyszukiwarka!$A$1,'Porównanie dochodów JST'!J2338))","v":false},{"$f":"IF(M2338,COUNTIF($M$16:M2338,TRUE),\"\")","v":""},{"$f":"IFERROR(INDEX($J$16:$J$2822,MATCH(ROWS($J$16:J2338),$N$16:$N$2822,0)),\"\")","v":""}]
["32","05","02","3","320502","Gmina miejsko-wiejska","ZACHODNIOPOMORSKIE","gryficki","GRYFICE","GRYFICE - Gmina miejsko-wiejska / Powiat gryficki / Województwo  - ZACHODNIOPOMORSKIE / 320502 / ",82777396,88472842,{"$f":"ISNUMBER(SEARCH(Wyszukiwarka!$A$1,'Porównanie dochodów JST'!J2339))","v":false},{"$f":"IF(M2339,COUNTIF($M$16:M2339,TRUE),\"\")","v":""},{"$f":"IFERROR(INDEX($J$16:$J$2822,MATCH(ROWS($J$16:J2339),$N$16:$N$2822,0)),\"\")","v":""}]
["32","05","03","2","320503","Gmina wiejska","ZACHODNIOPOMORSKIE","gryficki","KARNICE","KARNICE - Gmina wiejska / Powiat gryficki / Województwo  - ZACHODNIOPOMORSKIE / 320503 / ",9059689,10195418.199999999,{"$f":"ISNUMBER(SEARCH(Wyszukiwarka!$A$1,'Porównanie dochodów JST'!J2340))","v":false},{"$f":"IF(M2340,COUNTIF($M$16:M2340,TRUE),\"\")","v":""},{"$f":"IFERROR(INDEX($J$16:$J$2822,MATCH(ROWS($J$16:J2340),$N$16:$N$2822,0)),\"\")","v":""}]
["32","05","04","3","320504","Gmina miejsko-wiejska","ZACHODNIOPOMORSKIE","gryficki","PŁOTY","PŁOTY - Gmina miejsko-wiejska / Powiat gryficki / Województwo  - ZACHODNIOPOMORSKIE / 320504 / ",25742821,29052614,{"$f":"ISNUMBER(SEARCH(Wyszukiwarka!$A$1,'Porównanie dochodów JST'!J2341))","v":false},{"$f":"IF(M2341,COUNTIF($M$16:M2341,TRUE),\"\")","v":""},{"$f":"IFERROR(INDEX($J$16:$J$2822,MATCH(ROWS($J$16:J2341),$N$16:$N$2822,0)),\"\")","v":""}]
["32","05","07","2","320507","Gmina wiejska","ZACHODNIOPOMORSKIE","gryficki","REWAL","REWAL - Gmina wiejska / Powiat gryficki / Województwo  - ZACHODNIOPOMORSKIE / 320507 / ",15850552,17532816.998510487,{"$f":"ISNUMBER(SEARCH(Wyszukiwarka!$A$1,'Porównanie dochodów JST'!J2342))","v":false},{"$f":"IF(M2342,COUNTIF($M$16:M2342,TRUE),\"\")","v":""},{"$f":"IFERROR(INDEX($J$16:$J$2822,MATCH(ROWS($J$16:J2342),$N$16:$N$2822,0)),\"\")","v":""}]
["32","05","08","3","320508","Gmina miejsko-wiejska","ZACHODNIOPOMORSKIE","gryficki","TRZEBIATÓW","TRZEBIATÓW - Gmina miejsko-wiejska / Powiat gryficki / Województwo  - ZACHODNIOPOMORSKIE / 320508 / ",42438899,46857322,{"$f":"ISNUMBER(SEARCH(Wyszukiwarka!$A$1,'Porównanie dochodów JST'!J2343))","v":false},{"$f":"IF(M2343,COUNTIF($M$16:M2343,TRUE),\"\")","v":""},{"$f":"IFERROR(INDEX($J$16:$J$2822,MATCH(ROWS($J$16:J2343),$N$16:$N$2822,0)),\"\")","v":""}]
["32","06","01","2","320601","Gmina wiejska","ZACHODNIOPOMORSKIE","gryfiński","BANIE","BANIE - Gmina wiejska / Powiat gryfiński / Województwo  - ZACHODNIOPOMORSKIE / 320601 / ",18793209,20871677,{"$f":"ISNUMBER(SEARCH(Wyszukiwarka!$A$1,'Porównanie dochodów JST'!J2344))","v":false},{"$f":"IF(M2344,COUNTIF($M$16:M2344,TRUE),\"\")","v":""},{"$f":"IFERROR(INDEX($J$16:$J$2822,MATCH(ROWS($J$16:J2344),$N$16:$N$2822,0)),\"\")","v":""}]
["32","06","02","3","320602","Gmina miejsko-wiejska","ZACHODNIOPOMORSKIE","gryfiński","CEDYNIA","CEDYNIA - Gmina miejsko-wiejska / Powiat gryfiński / Województwo  - ZACHODNIOPOMORSKIE / 320602 / ",11986177,13861748.319999998,{"$f":"ISNUMBER(SEARCH(Wyszukiwarka!$A$1,'Porównanie dochodów JST'!J2345))","v":false},{"$f":"IF(M2345,COUNTIF($M$16:M2345,TRUE),\"\")","v":""},{"$f":"IFERROR(INDEX($J$16:$J$2822,MATCH(ROWS($J$16:J2345),$N$16:$N$2822,0)),\"\")","v":""}]
["32","06","03","3","320603","Gmina miejsko-wiejska","ZACHODNIOPOMORSKIE","gryfiński","CHOJNA","CHOJNA - Gmina miejsko-wiejska / Powiat gryfiński / Województwo  - ZACHODNIOPOMORSKIE / 320603 / ",41517541,45835794,{"$f":"ISNUMBER(SEARCH(Wyszukiwarka!$A$1,'Porównanie dochodów JST'!J2346))","v":false},{"$f":"IF(M2346,COUNTIF($M$16:M2346,TRUE),\"\")","v":""},{"$f":"IFERROR(INDEX($J$16:$J$2822,MATCH(ROWS($J$16:J2346),$N$16:$N$2822,0)),\"\")","v":""}]
["32","06","04","3","320604","Gmina miejsko-wiejska","ZACHODNIOPOMORSKIE","gryfiński","GRYFINO","GRYFINO - Gmina miejsko-wiejska / Powiat gryfiński / Województwo  - ZACHODNIOPOMORSKIE / 320604 / ",95936372,110765300.8,{"$f":"ISNUMBER(SEARCH(Wyszukiwarka!$A$1,'Porównanie dochodów JST'!J2347))","v":false},{"$f":"IF(M2347,COUNTIF($M$16:M2347,TRUE),\"\")","v":""},{"$f":"IFERROR(INDEX($J$16:$J$2822,MATCH(ROWS($J$16:J2347),$N$16:$N$2822,0)),\"\")","v":""}]
["32","06","05","3","320605","Gmina miejsko-wiejska","ZACHODNIOPOMORSKIE","gryfiński","MIESZKOWICE","MIESZKOWICE - Gmina miejsko-wiejska / Powiat gryfiński / Województwo  - ZACHODNIOPOMORSKIE / 320605 / ",24265099,26915083,{"$f":"ISNUMBER(SEARCH(Wyszukiwarka!$A$1,'Porównanie dochodów JST'!J2348))","v":false},{"$f":"IF(M2348,COUNTIF($M$16:M2348,TRUE),\"\")","v":""},{"$f":"IFERROR(INDEX($J$16:$J$2822,MATCH(ROWS($J$16:J2348),$N$16:$N$2822,0)),\"\")","v":""}]
["32","06","06","3","320606","Gmina miejsko-wiejska","ZACHODNIOPOMORSKIE","gryfiński","MORYŃ","MORYŃ - Gmina miejsko-wiejska / Powiat gryfiński / Województwo  - ZACHODNIOPOMORSKIE / 320606 / ",13831495,15665252.618334344,{"$f":"ISNUMBER(SEARCH(Wyszukiwarka!$A$1,'Porównanie dochodów JST'!J2349))","v":false},{"$f":"IF(M2349,COUNTIF($M$16:M2349,TRUE),\"\")","v":""},{"$f":"IFERROR(INDEX($J$16:$J$2822,MATCH(ROWS($J$16:J2349),$N$16:$N$2822,0)),\"\")","v":""}]
["32","06","07","2","320607","Gmina wiejska","ZACHODNIOPOMORSKIE","gryfiński","STARE CZARNOWO","STARE CZARNOWO - Gmina wiejska / Powiat gryfiński / Województwo  - ZACHODNIOPOMORSKIE / 320607 / ",11561700,12911264,{"$f":"ISNUMBER(SEARCH(Wyszukiwarka!$A$1,'Porównanie dochodów JST'!J2350))","v":false},{"$f":"IF(M2350,COUNTIF($M$16:M2350,TRUE),\"\")","v":""},{"$f":"IFERROR(INDEX($J$16:$J$2822,MATCH(ROWS($J$16:J2350),$N$16:$N$2822,0)),\"\")","v":""}]
["32","06","08","3","320608","Gmina miejsko-wiejska","ZACHODNIOPOMORSKIE","gryfiński","TRZCIŃSKO-ZDRÓJ","TRZCIŃSKO-ZDRÓJ - Gmina miejsko-wiejska / Powiat gryfiński / Województwo  - ZACHODNIOPOMORSKIE / 320608 / ",19341866,21324841,{"$f":"ISNUMBER(SEARCH(Wyszukiwarka!$A$1,'Porównanie dochodów JST'!J2351))","v":false},{"$f":"IF(M2351,COUNTIF($M$16:M2351,TRUE),\"\")","v":""},{"$f":"IFERROR(INDEX($J$16:$J$2822,MATCH(ROWS($J$16:J2351),$N$16:$N$2822,0)),\"\")","v":""}]
["32","06","09","2","320609","Gmina wiejska","ZACHODNIOPOMORSKIE","gryfiński","WIDUCHOWA","WIDUCHOWA - Gmina wiejska / Powiat gryfiński / Województwo  - ZACHODNIOPOMORSKIE / 320609 / ",17325340,19324226,{"$f":"ISNUMBER(SEARCH(Wyszukiwarka!$A$1,'Porównanie dochodów JST'!J2352))","v":false},{"$f":"IF(M2352,COUNTIF($M$16:M2352,TRUE),\"\")","v":""},{"$f":"IFERROR(INDEX($J$16:$J$2822,MATCH(ROWS($J$16:J2352),$N$16:$N$2822,0)),\"\")","v":""}]
["32","07","01","3","320701","Gmina miejsko-wiejska","ZACHODNIOPOMORSKIE","kamieński","DZIWNÓW","DZIWNÓW - Gmina miejsko-wiejska / Powiat kamieński / Województwo  - ZACHODNIOPOMORSKIE / 320701 / ",11728163,13103534.695449999,{"$f":"ISNUMBER(SEARCH(Wyszukiwarka!$A$1,'Porównanie dochodów JST'!J2353))","v":false},{"$f":"IF(M2353,COUNTIF($M$16:M2353,TRUE),\"\")","v":""},{"$f":"IFERROR(INDEX($J$16:$J$2822,MATCH(ROWS($J$16:J2353),$N$16:$N$2822,0)),\"\")","v":""}]
["32","07","02","3","320702","Gmina miejsko-wiejska","ZACHODNIOPOMORSKIE","kamieński","GOLCZEWO","GOLCZEWO - Gmina miejsko-wiejska / Powiat kamieński / Województwo  - ZACHODNIOPOMORSKIE / 320702 / ",19432144,21499261.978200004,{"$f":"ISNUMBER(SEARCH(Wyszukiwarka!$A$1,'Porównanie dochodów JST'!J2354))","v":false},{"$f":"IF(M2354,COUNTIF($M$16:M2354,TRUE),\"\")","v":""},{"$f":"IFERROR(INDEX($J$16:$J$2822,MATCH(ROWS($J$16:J2354),$N$16:$N$2822,0)),\"\")","v":""}]
["32","07","03","3","320703","Gmina miejsko-wiejska","ZACHODNIOPOMORSKIE","kamieński","KAMIEŃ POMORSKI","KAMIEŃ POMORSKI - Gmina miejsko-wiejska / Powiat kamieński / Województwo  - ZACHODNIOPOMORSKIE / 320703 / ",39604919,43916693,{"$f":"ISNUMBER(SEARCH(Wyszukiwarka!$A$1,'Porównanie dochodów JST'!J2355))","v":false},{"$f":"IF(M2355,COUNTIF($M$16:M2355,TRUE),\"\")","v":""},{"$f":"IFERROR(INDEX($J$16:$J$2822,MATCH(ROWS($J$16:J2355),$N$16:$N$2822,0)),\"\")","v":""}]
["32","07","04","3","320704","Gmina miejsko-wiejska","ZACHODNIOPOMORSKIE","kamieński","MIĘDZYZDROJE","MIĘDZYZDROJE - Gmina miejsko-wiejska / Powiat kamieński / Województwo  - ZACHODNIOPOMORSKIE / 320704 / ",22266094,25006935,{"$f":"ISNUMBER(SEARCH(Wyszukiwarka!$A$1,'Porównanie dochodów JST'!J2356))","v":false},{"$f":"IF(M2356,COUNTIF($M$16:M2356,TRUE),\"\")","v":""},{"$f":"IFERROR(INDEX($J$16:$J$2822,MATCH(ROWS($J$16:J2356),$N$16:$N$2822,0)),\"\")","v":""}]
["32","07","05","2","320705","Gmina wiejska","ZACHODNIOPOMORSKIE","kamieński","ŚWIERZNO","ŚWIERZNO - Gmina wiejska / Powiat kamieński / Województwo  - ZACHODNIOPOMORSKIE / 320705 / ",11674806,13061354.650227662,{"$f":"ISNUMBER(SEARCH(Wyszukiwarka!$A$1,'Porównanie dochodów JST'!J2357))","v":false},{"$f":"IF(M2357,COUNTIF($M$16:M2357,TRUE),\"\")","v":""},{"$f":"IFERROR(INDEX($J$16:$J$2822,MATCH(ROWS($J$16:J2357),$N$16:$N$2822,0)),\"\")","v":""}]
["32","07","06","3","320706","Gmina miejsko-wiejska","ZACHODNIOPOMORSKIE","kamieński","WOLIN","WOLIN - Gmina miejsko-wiejska / Powiat kamieński / Województwo  - ZACHODNIOPOMORSKIE / 320706 / ",36721591,40882032,{"$f":"ISNUMBER(SEARCH(Wyszukiwarka!$A$1,'Porównanie dochodów JST'!J2358))","v":false},{"$f":"IF(M2358,COUNTIF($M$16:M2358,TRUE),\"\")","v":""},{"$f":"IFERROR(INDEX($J$16:$J$2822,MATCH(ROWS($J$16:J2358),$N$16:$N$2822,0)),\"\")","v":""}]
["32","08","01","1","320801","Gmina miejska","ZACHODNIOPOMORSKIE","kołobrzeski","KOŁOBRZEG","KOŁOBRZEG - Gmina miejska / Powiat kołobrzeski / Województwo  - ZACHODNIOPOMORSKIE / 320801 / ",141171359,158018909.81209999,{"$f":"ISNUMBER(SEARCH(Wyszukiwarka!$A$1,'Porównanie dochodów JST'!J2359))","v":false},{"$f":"IF(M2359,COUNTIF($M$16:M2359,TRUE),\"\")","v":""},{"$f":"IFERROR(INDEX($J$16:$J$2822,MATCH(ROWS($J$16:J2359),$N$16:$N$2822,0)),\"\")","v":""}]
["32","08","02","2","320802","Gmina wiejska","ZACHODNIOPOMORSKIE","kołobrzeski","DYGOWO","DYGOWO - Gmina wiejska / Powiat kołobrzeski / Województwo  - ZACHODNIOPOMORSKIE / 320802 / ",16763034,18789625.89434303,{"$f":"ISNUMBER(SEARCH(Wyszukiwarka!$A$1,'Porównanie dochodów JST'!J2360))","v":false},{"$f":"IF(M2360,COUNTIF($M$16:M2360,TRUE),\"\")","v":""},{"$f":"IFERROR(INDEX($J$16:$J$2822,MATCH(ROWS($J$16:J2360),$N$16:$N$2822,0)),\"\")","v":""}]
["32","08","03","3","320803","Gmina miejsko-wiejska","ZACHODNIOPOMORSKIE","kołobrzeski","GOŚCINO","GOŚCINO - Gmina miejsko-wiejska / Powiat kołobrzeski / Województwo  - ZACHODNIOPOMORSKIE / 320803 / ",16898534,18784685,{"$f":"ISNUMBER(SEARCH(Wyszukiwarka!$A$1,'Porównanie dochodów JST'!J2361))","v":false},{"$f":"IF(M2361,COUNTIF($M$16:M2361,TRUE),\"\")","v":""},{"$f":"IFERROR(INDEX($J$16:$J$2822,MATCH(ROWS($J$16:J2361),$N$16:$N$2822,0)),\"\")","v":""}]
["32","08","04","2","320804","Gmina wiejska","ZACHODNIOPOMORSKIE","kołobrzeski","KOŁOBRZEG","KOŁOBRZEG - Gmina wiejska / Powiat kołobrzeski / Województwo  - ZACHODNIOPOMORSKIE / 320804 / ",34855418,39240999,{"$f":"ISNUMBER(SEARCH(Wyszukiwarka!$A$1,'Porównanie dochodów JST'!J2362))","v":false},{"$f":"IF(M2362,COUNTIF($M$16:M2362,TRUE),\"\")","v":""},{"$f":"IFERROR(INDEX($J$16:$J$2822,MATCH(ROWS($J$16:J2362),$N$16:$N$2822,0)),\"\")","v":""}]
["32","08","05","2","320805","Gmina wiejska","ZACHODNIOPOMORSKIE","kołobrzeski","RYMAŃ","RYMAŃ - Gmina wiejska / Powiat kołobrzeski / Województwo  - ZACHODNIOPOMORSKIE / 320805 / ",10529594,11784293.793747945,{"$f":"ISNUMBER(SEARCH(Wyszukiwarka!$A$1,'Porównanie dochodów JST'!J2363))","v":false},{"$f":"IF(M2363,COUNTIF($M$16:M2363,TRUE),\"\")","v":""},{"$f":"IFERROR(INDEX($J$16:$J$2822,MATCH(ROWS($J$16:J2363),$N$16:$N$2822,0)),\"\")","v":""}]
["32","08","06","2","320806","Gmina wiejska","ZACHODNIOPOMORSKIE","kołobrzeski","SIEMYŚL","SIEMYŚL - Gmina wiejska / Powiat kołobrzeski / Województwo  - ZACHODNIOPOMORSKIE / 320806 / ",13178052,14575596,{"$f":"ISNUMBER(SEARCH(Wyszukiwarka!$A$1,'Porównanie dochodów JST'!J2364))","v":false},{"$f":"IF(M2364,COUNTIF($M$16:M2364,TRUE),\"\")","v":""},{"$f":"IFERROR(INDEX($J$16:$J$2822,MATCH(ROWS($J$16:J2364),$N$16:$N$2822,0)),\"\")","v":""}]
["32","08","07","2","320807","Gmina wiejska","ZACHODNIOPOMORSKIE","kołobrzeski","USTRONIE MORSKIE","USTRONIE MORSKIE - Gmina wiejska / Powiat kołobrzeski / Województwo  - ZACHODNIOPOMORSKIE / 320807 / ",11801300,13171145,{"$f":"ISNUMBER(SEARCH(Wyszukiwarka!$A$1,'Porównanie dochodów JST'!J2365))","v":false},{"$f":"IF(M2365,COUNTIF($M$16:M2365,TRUE),\"\")","v":""},{"$f":"IFERROR(INDEX($J$16:$J$2822,MATCH(ROWS($J$16:J2365),$N$16:$N$2822,0)),\"\")","v":""}]
["32","09","01","2","320901","Gmina wiejska","ZACHODNIOPOMORSKIE","koszaliński","BĘDZINO","BĘDZINO - Gmina wiejska / Powiat koszaliński / Województwo  - ZACHODNIOPOMORSKIE / 320901 / ",29888808,33134757.802637454,{"$f":"ISNUMBER(SEARCH(Wyszukiwarka!$A$1,'Porównanie dochodów JST'!J2366))","v":false},{"$f":"IF(M2366,COUNTIF($M$16:M2366,TRUE),\"\")","v":""},{"$f":"IFERROR(INDEX($J$16:$J$2822,MATCH(ROWS($J$16:J2366),$N$16:$N$2822,0)),\"\")","v":""}]
["32","09","02","2","320902","Gmina wiejska","ZACHODNIOPOMORSKIE","koszaliński","BIESIEKIERZ","BIESIEKIERZ - Gmina wiejska / Powiat koszaliński / Województwo  - ZACHODNIOPOMORSKIE / 320902 / ",32854775,35824171,{"$f":"ISNUMBER(SEARCH(Wyszukiwarka!$A$1,'Porównanie dochodów JST'!J2367))","v":false},{"$f":"IF(M2367,COUNTIF($M$16:M2367,TRUE),\"\")","v":""},{"$f":"IFERROR(INDEX($J$16:$J$2822,MATCH(ROWS($J$16:J2367),$N$16:$N$2822,0)),\"\")","v":""}]
["32","09","03","3","320903","Gmina miejsko-wiejska","ZACHODNIOPOMORSKIE","koszaliński","BOBOLICE","BOBOLICE - Gmina miejsko-wiejska / Powiat koszaliński / Województwo  - ZACHODNIOPOMORSKIE / 320903 / ",30090089,33447373,{"$f":"ISNUMBER(SEARCH(Wyszukiwarka!$A$1,'Porównanie dochodów JST'!J2368))","v":false},{"$f":"IF(M2368,COUNTIF($M$16:M2368,TRUE),\"\")","v":""},{"$f":"IFERROR(INDEX($J$16:$J$2822,MATCH(ROWS($J$16:J2368),$N$16:$N$2822,0)),\"\")","v":""}]
["32","09","04","2","320904","Gmina wiejska","ZACHODNIOPOMORSKIE","koszaliński","MANOWO","MANOWO - Gmina wiejska / Powiat koszaliński / Województwo  - ZACHODNIOPOMORSKIE / 320904 / ",24679198,26872610.960362494,{"$f":"ISNUMBER(SEARCH(Wyszukiwarka!$A$1,'Porównanie dochodów JST'!J2369))","v":false},{"$f":"IF(M2369,COUNTIF($M$16:M2369,TRUE),\"\")","v":""},{"$f":"IFERROR(INDEX($J$16:$J$2822,MATCH(ROWS($J$16:J2369),$N$16:$N$2822,0)),\"\")","v":""}]
["32","09","05","3","320905","Gmina miejsko-wiejska","ZACHODNIOPOMORSKIE","koszaliński","MIELNO","MIELNO - Gmina miejsko-wiejska / Powiat koszaliński / Województwo  - ZACHODNIOPOMORSKIE / 320905 / ",12291632,14112635.9,{"$f":"ISNUMBER(SEARCH(Wyszukiwarka!$A$1,'Porównanie dochodów JST'!J2370))","v":false},{"$f":"IF(M2370,COUNTIF($M$16:M2370,TRUE),\"\")","v":""},{"$f":"IFERROR(INDEX($J$16:$J$2822,MATCH(ROWS($J$16:J2370),$N$16:$N$2822,0)),\"\")","v":""}]
["32","09","06","3","320906","Gmina miejsko-wiejska","ZACHODNIOPOMORSKIE","koszaliński","POLANÓW","POLANÓW - Gmina miejsko-wiejska / Powiat koszaliński / Województwo  - ZACHODNIOPOMORSKIE / 320906 / ",26019117,29315966,{"$f":"ISNUMBER(SEARCH(Wyszukiwarka!$A$1,'Porównanie dochodów JST'!J2371))","v":false},{"$f":"IF(M2371,COUNTIF($M$16:M2371,TRUE),\"\")","v":""},{"$f":"IFERROR(INDEX($J$16:$J$2822,MATCH(ROWS($J$16:J2371),$N$16:$N$2822,0)),\"\")","v":""}]
["32","09","07","3","320907","Gmina miejsko-wiejska","ZACHODNIOPOMORSKIE","koszaliński","SIANÓW","SIANÓW - Gmina miejsko-wiejska / Powiat koszaliński / Województwo  - ZACHODNIOPOMORSKIE / 320907 / ",42996272,47386393.757700011,{"$f":"ISNUMBER(SEARCH(Wyszukiwarka!$A$1,'Porównanie dochodów JST'!J2372))","v":false},{"$f":"IF(M2372,COUNTIF($M$16:M2372,TRUE),\"\")","v":""},{"$f":"IFERROR(INDEX($J$16:$J$2822,MATCH(ROWS($J$16:J2372),$N$16:$N$2822,0)),\"\")","v":""}]
["32","09","08","2","320908","Gmina wiejska","ZACHODNIOPOMORSKIE","koszaliński","ŚWIESZYNO","ŚWIESZYNO - Gmina wiejska / Powiat koszaliński / Województwo  - ZACHODNIOPOMORSKIE / 320908 / ",30821380,34211773,{"$f":"ISNUMBER(SEARCH(Wyszukiwarka!$A$1,'Porównanie dochodów JST'!J2373))","v":false},{"$f":"IF(M2373,COUNTIF($M$16:M2373,TRUE),\"\")","v":""},{"$f":"IFERROR(INDEX($J$16:$J$2822,MATCH(ROWS($J$16:J2373),$N$16:$N$2822,0)),\"\")","v":""}]
["32","10","01","3","321001","Gmina miejsko-wiejska","ZACHODNIOPOMORSKIE","myśliborski","BARLINEK","BARLINEK - Gmina miejsko-wiejska / Powiat myśliborski / Województwo  - ZACHODNIOPOMORSKIE / 321001 / ",67784479,73101338,{"$f":"ISNUMBER(SEARCH(Wyszukiwarka!$A$1,'Porównanie dochodów JST'!J2374))","v":false},{"$f":"IF(M2374,COUNTIF($M$16:M2374,TRUE),\"\")","v":""},{"$f":"IFERROR(INDEX($J$16:$J$2822,MATCH(ROWS($J$16:J2374),$N$16:$N$2822,0)),\"\")","v":""}]
["32","10","02","2","321002","Gmina wiejska","ZACHODNIOPOMORSKIE","myśliborski","BOLESZKOWICE","BOLESZKOWICE - Gmina wiejska / Powiat myśliborski / Województwo  - ZACHODNIOPOMORSKIE / 321002 / ",8964830,10097848.975000001,{"$f":"ISNUMBER(SEARCH(Wyszukiwarka!$A$1,'Porównanie dochodów JST'!J2375))","v":false},{"$f":"IF(M2375,COUNTIF($M$16:M2375,TRUE),\"\")","v":""},{"$f":"IFERROR(INDEX($J$16:$J$2822,MATCH(ROWS($J$16:J2375),$N$16:$N$2822,0)),\"\")","v":""}]
["32","10","03","3","321003","Gmina miejsko-wiejska","ZACHODNIOPOMORSKIE","myśliborski","DĘBNO","DĘBNO - Gmina miejsko-wiejska / Powiat myśliborski / Województwo  - ZACHODNIOPOMORSKIE / 321003 / ",61757013,66821223.72280743,{"$f":"ISNUMBER(SEARCH(Wyszukiwarka!$A$1,'Porównanie dochodów JST'!J2376))","v":false},{"$f":"IF(M2376,COUNTIF($M$16:M2376,TRUE),\"\")","v":""},{"$f":"IFERROR(INDEX($J$16:$J$2822,MATCH(ROWS($J$16:J2376),$N$16:$N$2822,0)),\"\")","v":""}]
["32","10","04","3","321004","Gmina miejsko-wiejska","ZACHODNIOPOMORSKIE","myśliborski","MYŚLIBÓRZ","MYŚLIBÓRZ - Gmina miejsko-wiejska / Powiat myśliborski / Województwo  - ZACHODNIOPOMORSKIE / 321004 / ",60675388,66010540.536776356,{"$f":"ISNUMBER(SEARCH(Wyszukiwarka!$A$1,'Porównanie dochodów JST'!J2377))","v":false},{"$f":"IF(M2377,COUNTIF($M$16:M2377,TRUE),\"\")","v":""},{"$f":"IFERROR(INDEX($J$16:$J$2822,MATCH(ROWS($J$16:J2377),$N$16:$N$2822,0)),\"\")","v":""}]
["32","10","05","2","321005","Gmina wiejska","ZACHODNIOPOMORSKIE","myśliborski","NOWOGRÓDEK POMORSKI","NOWOGRÓDEK POMORSKI - Gmina wiejska / Powiat myśliborski / Województwo  - ZACHODNIOPOMORSKIE / 321005 / ",12998790,14337895.594999999,{"$f":"ISNUMBER(SEARCH(Wyszukiwarka!$A$1,'Porównanie dochodów JST'!J2378))","v":false},{"$f":"IF(M2378,COUNTIF($M$16:M2378,TRUE),\"\")","v":""},{"$f":"IFERROR(INDEX($J$16:$J$2822,MATCH(ROWS($J$16:J2378),$N$16:$N$2822,0)),\"\")","v":""}]
["32","11","01","2","321101","Gmina wiejska","ZACHODNIOPOMORSKIE","policki","DOBRA SZCZECIŃSKA","DOBRA SZCZECIŃSKA - Gmina wiejska / Powiat policki / Województwo  - ZACHODNIOPOMORSKIE / 321101 / ",146359908,157708373.8742497,{"$f":"ISNUMBER(SEARCH(Wyszukiwarka!$A$1,'Porównanie dochodów JST'!J2379))","v":false},{"$f":"IF(M2379,COUNTIF($M$16:M2379,TRUE),\"\")","v":""},{"$f":"IFERROR(INDEX($J$16:$J$2822,MATCH(ROWS($J$16:J2379),$N$16:$N$2822,0)),\"\")","v":""}]
["32","11","02","2","321102","Gmina wiejska","ZACHODNIOPOMORSKIE","policki","KOŁBASKOWO","KOŁBASKOWO - Gmina wiejska / Powiat policki / Województwo  - ZACHODNIOPOMORSKIE / 321102 / ",65337400,70832262.94681938,{"$f":"ISNUMBER(SEARCH(Wyszukiwarka!$A$1,'Porównanie dochodów JST'!J2380))","v":false},{"$f":"IF(M2380,COUNTIF($M$16:M2380,TRUE),\"\")","v":""},{"$f":"IFERROR(INDEX($J$16:$J$2822,MATCH(ROWS($J$16:J2380),$N$16:$N$2822,0)),\"\")","v":""}]
["32","11","03","3","321103","Gmina miejsko-wiejska","ZACHODNIOPOMORSKIE","policki","NOWE WARPNO","NOWE WARPNO - Gmina miejsko-wiejska / Powiat policki / Województwo  - ZACHODNIOPOMORSKIE / 321103 / ",3953938,4498546.8,{"$f":"ISNUMBER(SEARCH(Wyszukiwarka!$A$1,'Porównanie dochodów JST'!J2381))","v":false},{"$f":"IF(M2381,COUNTIF($M$16:M2381,TRUE),\"\")","v":""},{"$f":"IFERROR(INDEX($J$16:$J$2822,MATCH(ROWS($J$16:J2381),$N$16:$N$2822,0)),\"\")","v":""}]
["32","11","04","3","321104","Gmina miejsko-wiejska","ZACHODNIOPOMORSKIE","policki","POLICE","POLICE - Gmina miejsko-wiejska / Powiat policki / Województwo  - ZACHODNIOPOMORSKIE / 321104 / ",121264907,140267288,{"$f":"ISNUMBER(SEARCH(Wyszukiwarka!$A$1,'Porównanie dochodów JST'!J2382))","v":false},{"$f":"IF(M2382,COUNTIF($M$16:M2382,TRUE),\"\")","v":""},{"$f":"IFERROR(INDEX($J$16:$J$2822,MATCH(ROWS($J$16:J2382),$N$16:$N$2822,0)),\"\")","v":""}]
["32","12","01","2","321201","Gmina wiejska","ZACHODNIOPOMORSKIE","pyrzycki","BIELICE","BIELICE - Gmina wiejska / Powiat pyrzycki / Województwo  - ZACHODNIOPOMORSKIE / 321201 / ",10121017,11412090.92,{"$f":"ISNUMBER(SEARCH(Wyszukiwarka!$A$1,'Porównanie dochodów JST'!J2383))","v":false},{"$f":"IF(M2383,COUNTIF($M$16:M2383,TRUE),\"\")","v":""},{"$f":"IFERROR(INDEX($J$16:$J$2822,MATCH(ROWS($J$16:J2383),$N$16:$N$2822,0)),\"\")","v":""}]
["32","12","02","2","321202","Gmina wiejska","ZACHODNIOPOMORSKIE","pyrzycki","KOZIELICE","KOZIELICE - Gmina wiejska / Powiat pyrzycki / Województwo  - ZACHODNIOPOMORSKIE / 321202 / ",7597724,8526200.1000000015,{"$f":"ISNUMBER(SEARCH(Wyszukiwarka!$A$1,'Porównanie dochodów JST'!J2384))","v":false},{"$f":"IF(M2384,COUNTIF($M$16:M2384,TRUE),\"\")","v":""},{"$f":"IFERROR(INDEX($J$16:$J$2822,MATCH(ROWS($J$16:J2384),$N$16:$N$2822,0)),\"\")","v":""}]
["32","12","03","3","321203","Gmina miejsko-wiejska","ZACHODNIOPOMORSKIE","pyrzycki","LIPIANY",{"$f":"I2385&$H$12&F2385&$G$12&$H$14&H2385&$G$12&$G$14&$H$12&G2385&$G$12&E2385&$G$12","v":"LIPIANY - Gmina miejsko-wiejska / Powiat pyrzycki / Województwo  - ZACHODNIOPOMORSKIE / 321203 / "},19675666,21701863,{"$f":"ISNUMBER(SEARCH(Wyszukiwarka!$A$1,'Porównanie dochodów JST'!J2385))","v":false},{"$f":"IF(M2385,COUNTIF($M$16:M2385,TRUE),\"\")","v":""},{"$f":"IFERROR(INDEX($J$16:$J$2822,MATCH(ROWS($J$16:J2385),$N$16:$N$2822,0)),\"\")","v":""}]
["32","12","04","2","321204","Gmina wiejska","ZACHODNIOPOMORSKIE","pyrzycki","PRZELEWICE","PRZELEWICE - Gmina wiejska / Powiat pyrzycki / Województwo  - ZACHODNIOPOMORSKIE / 321204 / ",14686166,16624545,{"$f":"ISNUMBER(SEARCH(Wyszukiwarka!$A$1,'Porównanie dochodów JST'!J2386))","v":false},{"$f":"IF(M2386,COUNTIF($M$16:M2386,TRUE),\"\")","v":""},{"$f":"IFERROR(INDEX($J$16:$J$2822,MATCH(ROWS($J$16:J2386),$N$16:$N$2822,0)),\"\")","v":""}]
["32","12","05","3","321205","Gmina miejsko-wiejska","ZACHODNIOPOMORSKIE","pyrzycki","PYRZYCE","PYRZYCE - Gmina miejsko-wiejska / Powiat pyrzycki / Województwo  - ZACHODNIOPOMORSKIE / 321205 / ",67773114,72998461,{"$f":"ISNUMBER(SEARCH(Wyszukiwarka!$A$1,'Porównanie dochodów JST'!J2387))","v":false},{"$f":"IF(M2387,COUNTIF($M$16:M2387,TRUE),\"\")","v":""},{"$f":"IFERROR(INDEX($J$16:$J$2822,MATCH(ROWS($J$16:J2387),$N$16:$N$2822,0)),\"\")","v":""}]
["32","12","06","2","321206","Gmina wiejska","ZACHODNIOPOMORSKIE","pyrzycki","WARNICE","WARNICE - Gmina wiejska / Powiat pyrzycki / Województwo  - ZACHODNIOPOMORSKIE / 321206 / ",11015221,12315958,{"$f":"ISNUMBER(SEARCH(Wyszukiwarka!$A$1,'Porównanie dochodów JST'!J2388))","v":false},{"$f":"IF(M2388,COUNTIF($M$16:M2388,TRUE),\"\")","v":""},{"$f":"IFERROR(INDEX($J$16:$J$2822,MATCH(ROWS($J$16:J2388),$N$16:$N$2822,0)),\"\")","v":""}]
["32","13","01","1","321301","Gmina miejska","ZACHODNIOPOMORSKIE","sławieński","DARŁOWO","DARŁOWO - Gmina miejska / Powiat sławieński / Województwo  - ZACHODNIOPOMORSKIE / 321301 / ",37251233,41388307,{"$f":"ISNUMBER(SEARCH(Wyszukiwarka!$A$1,'Porównanie dochodów JST'!J2389))","v":false},{"$f":"IF(M2389,COUNTIF($M$16:M2389,TRUE),\"\")","v":""},{"$f":"IFERROR(INDEX($J$16:$J$2822,MATCH(ROWS($J$16:J2389),$N$16:$N$2822,0)),\"\")","v":""}]
["32","13","02","1","321302","Gmina miejska","ZACHODNIOPOMORSKIE","sławieński","SŁAWNO","SŁAWNO - Gmina miejska / Powiat sławieński / Województwo  - ZACHODNIOPOMORSKIE / 321302 / ",36082963,40140191,{"$f":"ISNUMBER(SEARCH(Wyszukiwarka!$A$1,'Porównanie dochodów JST'!J2390))","v":false},{"$f":"IF(M2390,COUNTIF($M$16:M2390,TRUE),\"\")","v":""},{"$f":"IFERROR(INDEX($J$16:$J$2822,MATCH(ROWS($J$16:J2390),$N$16:$N$2822,0)),\"\")","v":""}]
["32","13","03","2","321303","Gmina wiejska","ZACHODNIOPOMORSKIE","sławieński","DARŁOWO","DARŁOWO - Gmina wiejska / Powiat sławieński / Województwo  - ZACHODNIOPOMORSKIE / 321303 / ",26051977,28533982.705755159,{"$f":"ISNUMBER(SEARCH(Wyszukiwarka!$A$1,'Porównanie dochodów JST'!J2391))","v":false},{"$f":"IF(M2391,COUNTIF($M$16:M2391,TRUE),\"\")","v":""},{"$f":"IFERROR(INDEX($J$16:$J$2822,MATCH(ROWS($J$16:J2391),$N$16:$N$2822,0)),\"\")","v":""}]
["32","13","04","2","321304","Gmina wiejska","ZACHODNIOPOMORSKIE","sławieński","MALECHOWO","MALECHOWO - Gmina wiejska / Powiat sławieński / Województwo  - ZACHODNIOPOMORSKIE / 321304 / ",17062165,18903209.771702424,{"$f":"ISNUMBER(SEARCH(Wyszukiwarka!$A$1,'Porównanie dochodów JST'!J2392))","v":false},{"$f":"IF(M2392,COUNTIF($M$16:M2392,TRUE),\"\")","v":""},{"$f":"IFERROR(INDEX($J$16:$J$2822,MATCH(ROWS($J$16:J2392),$N$16:$N$2822,0)),\"\")","v":""}]
["32","13","05","2","321305","Gmina wiejska","ZACHODNIOPOMORSKIE","sławieński","POSTOMINO","POSTOMINO - Gmina wiejska / Powiat sławieński / Województwo  - ZACHODNIOPOMORSKIE / 321305 / ",22246325,24716344.745123312,{"$f":"ISNUMBER(SEARCH(Wyszukiwarka!$A$1,'Porównanie dochodów JST'!J2393))","v":false},{"$f":"IF(M2393,COUNTIF($M$16:M2393,TRUE),\"\")","v":""},{"$f":"IFERROR(INDEX($J$16:$J$2822,MATCH(ROWS($J$16:J2393),$N$16:$N$2822,0)),\"\")","v":""}]
["32","13","06","2","321306","Gmina wiejska","ZACHODNIOPOMORSKIE","sławieński","SŁAWNO","SŁAWNO - Gmina wiejska / Powiat sławieński / Województwo  - ZACHODNIOPOMORSKIE / 321306 / ",31733939,35060355,{"$f":"ISNUMBER(SEARCH(Wyszukiwarka!$A$1,'Porównanie dochodów JST'!J2394))","v":false},{"$f":"IF(M2394,COUNTIF($M$16:M2394,TRUE),\"\")","v":""},{"$f":"IFERROR(INDEX($J$16:$J$2822,MATCH(ROWS($J$16:J2394),$N$16:$N$2822,0)),\"\")","v":""}]
["32","14","01","1","321401","Gmina miejska","ZACHODNIOPOMORSKIE","stargardzki","STARGARD SZCZECIŃSKI","STARGARD SZCZECIŃSKI - Gmina miejska / Powiat stargardzki / Województwo  - ZACHODNIOPOMORSKIE / 321401 / ",220245830,241045010.80760002,{"$f":"ISNUMBER(SEARCH(Wyszukiwarka!$A$1,'Porównanie dochodów JST'!J2395))","v":false},{"$f":"IF(M2395,COUNTIF($M$16:M2395,TRUE),\"\")","v":""},{"$f":"IFERROR(INDEX($J$16:$J$2822,MATCH(ROWS($J$16:J2395),$N$16:$N$2822,0)),\"\")","v":""}]
["32","14","02","3","321402","Gmina miejsko-wiejska","ZACHODNIOPOMORSKIE","stargardzki","CHOCIWEL","CHOCIWEL - Gmina miejsko-wiejska / Powiat stargardzki / Województwo  - ZACHODNIOPOMORSKIE / 321402 / ",20715340,22783545,{"$f":"ISNUMBER(SEARCH(Wyszukiwarka!$A$1,'Porównanie dochodów JST'!J2396))","v":false},{"$f":"IF(M2396,COUNTIF($M$16:M2396,TRUE),\"\")","v":""},{"$f":"IFERROR(INDEX($J$16:$J$2822,MATCH(ROWS($J$16:J2396),$N$16:$N$2822,0)),\"\")","v":""}]
["32","14","03","3","321403","Gmina miejsko-wiejska","ZACHODNIOPOMORSKIE","stargardzki","DOBRZANY","DOBRZANY - Gmina miejsko-wiejska / Powiat stargardzki / Województwo  - ZACHODNIOPOMORSKIE / 321403 / ",16134879,18084898,{"$f":"ISNUMBER(SEARCH(Wyszukiwarka!$A$1,'Porównanie dochodów JST'!J2397))","v":false},{"$f":"IF(M2397,COUNTIF($M$16:M2397,TRUE),\"\")","v":""},{"$f":"IFERROR(INDEX($J$16:$J$2822,MATCH(ROWS($J$16:J2397),$N$16:$N$2822,0)),\"\")","v":""}]
["32","14","04","2","321404","Gmina wiejska","ZACHODNIOPOMORSKIE","stargardzki","DOLICE","DOLICE - Gmina wiejska / Powiat stargardzki / Województwo  - ZACHODNIOPOMORSKIE / 321404 / ",21109529,23811720,{"$f":"ISNUMBER(SEARCH(Wyszukiwarka!$A$1,'Porównanie dochodów JST'!J2398))","v":false},{"$f":"IF(M2398,COUNTIF($M$16:M2398,TRUE),\"\")","v":""},{"$f":"IFERROR(INDEX($J$16:$J$2822,MATCH(ROWS($J$16:J2398),$N$16:$N$2822,0)),\"\")","v":""}]
["32","14","05","3","321405","Gmina miejsko-wiejska","ZACHODNIOPOMORSKIE","stargardzki","IŃSKO","IŃSKO - Gmina miejsko-wiejska / Powiat stargardzki / Województwo  - ZACHODNIOPOMORSKIE / 321405 / ",10476739,11795933,{"$f":"ISNUMBER(SEARCH(Wyszukiwarka!$A$1,'Porównanie dochodów JST'!J2399))","v":false},{"$f":"IF(M2399,COUNTIF($M$16:M2399,TRUE),\"\")","v":""},{"$f":"IFERROR(INDEX($J$16:$J$2822,MATCH(ROWS($J$16:J2399),$N$16:$N$2822,0)),\"\")","v":""}]
["32","14","06","2","321406","Gmina wiejska","ZACHODNIOPOMORSKIE","stargardzki","KOBYLANKA","KOBYLANKA - Gmina wiejska / Powiat stargardzki / Województwo  - ZACHODNIOPOMORSKIE / 321406 / ",30847729,33808131.580150418,{"$f":"ISNUMBER(SEARCH(Wyszukiwarka!$A$1,'Porównanie dochodów JST'!J2400))","v":false},{"$f":"IF(M2400,COUNTIF($M$16:M2400,TRUE),\"\")","v":""},{"$f":"IFERROR(INDEX($J$16:$J$2822,MATCH(ROWS($J$16:J2400),$N$16:$N$2822,0)),\"\")","v":""}]
["32","14","08","2","321408","Gmina wiejska","ZACHODNIOPOMORSKIE","stargardzki","MARIANOWO","MARIANOWO - Gmina wiejska / Powiat stargardzki / Województwo  - ZACHODNIOPOMORSKIE / 321408 / ",12382070,13675809,{"$f":"ISNUMBER(SEARCH(Wyszukiwarka!$A$1,'Porównanie dochodów JST'!J2401))","v":false},{"$f":"IF(M2401,COUNTIF($M$16:M2401,TRUE),\"\")","v":""},{"$f":"IFERROR(INDEX($J$16:$J$2822,MATCH(ROWS($J$16:J2401),$N$16:$N$2822,0)),\"\")","v":""}]
["32","14","09","2","321409","Gmina wiejska","ZACHODNIOPOMORSKIE","stargardzki","STARA DĄBROWA","STARA DĄBROWA - Gmina wiejska / Powiat stargardzki / Województwo  - ZACHODNIOPOMORSKIE / 321409 / ",12319680,13672288,{"$f":"ISNUMBER(SEARCH(Wyszukiwarka!$A$1,'Porównanie dochodów JST'!J2402))","v":false},{"$f":"IF(M2402,COUNTIF($M$16:M2402,TRUE),\"\")","v":""},{"$f":"IFERROR(INDEX($J$16:$J$2822,MATCH(ROWS($J$16:J2402),$N$16:$N$2822,0)),\"\")","v":""}]
["32","14","10","2","321410","Gmina wiejska","ZACHODNIOPOMORSKIE","stargardzki","STARGARD SZCZECIŃSKI","STARGARD SZCZECIŃSKI - Gmina wiejska / Powiat stargardzki / Województwo  - ZACHODNIOPOMORSKIE / 321410 / ",46118831,51154435.803199999,{"$f":"ISNUMBER(SEARCH(Wyszukiwarka!$A$1,'Porównanie dochodów JST'!J2403))","v":false},{"$f":"IF(M2403,COUNTIF($M$16:M2403,TRUE),\"\")","v":""},{"$f":"IFERROR(INDEX($J$16:$J$2822,MATCH(ROWS($J$16:J2403),$N$16:$N$2822,0)),\"\")","v":""}]
["32","14","11","3","321411","Gmina miejsko-wiejska","ZACHODNIOPOMORSKIE","stargardzki","SUCHAŃ","SUCHAŃ - Gmina miejsko-wiejska / Powiat stargardzki / Województwo  - ZACHODNIOPOMORSKIE / 321411 / ",13732034,15831212.319999998,{"$f":"ISNUMBER(SEARCH(Wyszukiwarka!$A$1,'Porównanie dochodów JST'!J2404))","v":false},{"$f":"IF(M2404,COUNTIF($M$16:M2404,TRUE),\"\")","v":""},{"$f":"IFERROR(INDEX($J$16:$J$2822,MATCH(ROWS($J$16:J2404),$N$16:$N$2822,0)),\"\")","v":""}]
["32","15","01","1","321501","Gmina miejska","ZACHODNIOPOMORSKIE","szczecinecki","SZCZECINEK","SZCZECINEK - Gmina miejska / Powiat szczecinecki / Województwo  - ZACHODNIOPOMORSKIE / 321501 / ",120673205,130133862.0668,{"$f":"ISNUMBER(SEARCH(Wyszukiwarka!$A$1,'Porównanie dochodów JST'!J2405))","v":false},{"$f":"IF(M2405,COUNTIF($M$16:M2405,TRUE),\"\")","v":""},{"$f":"IFERROR(INDEX($J$16:$J$2822,MATCH(ROWS($J$16:J2405),$N$16:$N$2822,0)),\"\")","v":""}]
["32","15","02","3","321502","Gmina miejsko-wiejska","ZACHODNIOPOMORSKIE","szczecinecki","BARWICE","BARWICE - Gmina miejsko-wiejska / Powiat szczecinecki / Województwo  - ZACHODNIOPOMORSKIE / 321502 / ",26418234,29211157,{"$f":"ISNUMBER(SEARCH(Wyszukiwarka!$A$1,'Porównanie dochodów JST'!J2406))","v":false},{"$f":"IF(M2406,COUNTIF($M$16:M2406,TRUE),\"\")","v":""},{"$f":"IFERROR(INDEX($J$16:$J$2822,MATCH(ROWS($J$16:J2406),$N$16:$N$2822,0)),\"\")","v":""}]
["32","15","03","3","321503","Gmina miejsko-wiejska","ZACHODNIOPOMORSKIE","szczecinecki","BIAŁY BÓR","BIAŁY BÓR - Gmina miejsko-wiejska / Powiat szczecinecki / Województwo  - ZACHODNIOPOMORSKIE / 321503 / ",16644898,18488558,{"$f":"ISNUMBER(SEARCH(Wyszukiwarka!$A$1,'Porównanie dochodów JST'!J2407))","v":false},{"$f":"IF(M2407,COUNTIF($M$16:M2407,TRUE),\"\")","v":""},{"$f":"IFERROR(INDEX($J$16:$J$2822,MATCH(ROWS($J$16:J2407),$N$16:$N$2822,0)),\"\")","v":""}]
["32","15","04","3","321504","Gmina miejsko-wiejska","ZACHODNIOPOMORSKIE","szczecinecki","BORNE SULINOWO","BORNE SULINOWO - Gmina miejsko-wiejska / Powiat szczecinecki / Województwo  - ZACHODNIOPOMORSKIE / 321504 / ",31745391,35197780,{"$f":"ISNUMBER(SEARCH(Wyszukiwarka!$A$1,'Porównanie dochodów JST'!J2408))","v":false},{"$f":"IF(M2408,COUNTIF($M$16:M2408,TRUE),\"\")","v":""},{"$f":"IFERROR(INDEX($J$16:$J$2822,MATCH(ROWS($J$16:J2408),$N$16:$N$2822,0)),\"\")","v":""}]
["32","15","05","2","321505","Gmina wiejska","ZACHODNIOPOMORSKIE","szczecinecki","GRZMIĄCA","GRZMIĄCA - Gmina wiejska / Powiat szczecinecki / Województwo  - ZACHODNIOPOMORSKIE / 321505 / ",14821537,16755246.83870291,{"$f":"ISNUMBER(SEARCH(Wyszukiwarka!$A$1,'Porównanie dochodów JST'!J2409))","v":false},{"$f":"IF(M2409,COUNTIF($M$16:M2409,TRUE),\"\")","v":""},{"$f":"IFERROR(INDEX($J$16:$J$2822,MATCH(ROWS($J$16:J2409),$N$16:$N$2822,0)),\"\")","v":""}]
["32","15","06","2","321506","Gmina wiejska","ZACHODNIOPOMORSKIE","szczecinecki","SZCZECINEK","SZCZECINEK - Gmina wiejska / Powiat szczecinecki / Województwo  - ZACHODNIOPOMORSKIE / 321506 / ",27679387,31088884.563305099,{"$f":"ISNUMBER(SEARCH(Wyszukiwarka!$A$1,'Porównanie dochodów JST'!J2410))","v":false},{"$f":"IF(M2410,COUNTIF($M$16:M2410,TRUE),\"\")","v":""},{"$f":"IFERROR(INDEX($J$16:$J$2822,MATCH(ROWS($J$16:J2410),$N$16:$N$2822,0)),\"\")","v":""}]
["32","16","01","1","321601","Gmina miejska","ZACHODNIOPOMORSKIE","świdwiński","ŚWIDWIN","ŚWIDWIN - Gmina miejska / Powiat świdwiński / Województwo  - ZACHODNIOPOMORSKIE / 321601 / ",44162860,48510265,{"$f":"ISNUMBER(SEARCH(Wyszukiwarka!$A$1,'Porównanie dochodów JST'!J2411))","v":false},{"$f":"IF(M2411,COUNTIF($M$16:M2411,TRUE),\"\")","v":""},{"$f":"IFERROR(INDEX($J$16:$J$2822,MATCH(ROWS($J$16:J2411),$N$16:$N$2822,0)),\"\")","v":""}]
["32","16","02","2","321602","Gmina wiejska","ZACHODNIOPOMORSKIE","świdwiński","BRZEŻNO","BRZEŻNO - Gmina wiejska / Powiat świdwiński / Województwo  - ZACHODNIOPOMORSKIE / 321602 / ",8733305,9888235.5,{"$f":"ISNUMBER(SEARCH(Wyszukiwarka!$A$1,'Porównanie dochodów JST'!J2412))","v":false},{"$f":"IF(M2412,COUNTIF($M$16:M2412,TRUE),\"\")","v":""},{"$f":"IFERROR(INDEX($J$16:$J$2822,MATCH(ROWS($J$16:J2412),$N$16:$N$2822,0)),\"\")","v":""}]
["32","16","03","3","321603","Gmina miejsko-wiejska","ZACHODNIOPOMORSKIE","świdwiński","POŁCZYN-ZDRÓJ","POŁCZYN-ZDRÓJ - Gmina miejsko-wiejska / Powiat świdwiński / Województwo  - ZACHODNIOPOMORSKIE / 321603 / ",44537972,48939871.723237559,{"$f":"ISNUMBER(SEARCH(Wyszukiwarka!$A$1,'Porównanie dochodów JST'!J2413))","v":false},{"$f":"IF(M2413,COUNTIF($M$16:M2413,TRUE),\"\")","v":""},{"$f":"IFERROR(INDEX($J$16:$J$2822,MATCH(ROWS($J$16:J2413),$N$16:$N$2822,0)),\"\")","v":""}]
["32","16","04","2","321604","Gmina wiejska","ZACHODNIOPOMORSKIE","świdwiński","RĄBINO","RĄBINO - Gmina wiejska / Powiat świdwiński / Województwo  - ZACHODNIOPOMORSKIE / 321604 / ",11106251,12431751,{"$f":"ISNUMBER(SEARCH(Wyszukiwarka!$A$1,'Porównanie dochodów JST'!J2414))","v":false},{"$f":"IF(M2414,COUNTIF($M$16:M2414,TRUE),\"\")","v":""},{"$f":"IFERROR(INDEX($J$16:$J$2822,MATCH(ROWS($J$16:J2414),$N$16:$N$2822,0)),\"\")","v":""}]
["32","16","05","2","321605","Gmina wiejska","ZACHODNIOPOMORSKIE","świdwiński","SŁAWOBORZE","SŁAWOBORZE - Gmina wiejska / Powiat świdwiński / Województwo  - ZACHODNIOPOMORSKIE / 321605 / ",11497546,12878888,{"$f":"ISNUMBER(SEARCH(Wyszukiwarka!$A$1,'Porównanie dochodów JST'!J2415))","v":false},{"$f":"IF(M2415,COUNTIF($M$16:M2415,TRUE),\"\")","v":""},{"$f":"IFERROR(INDEX($J$16:$J$2822,MATCH(ROWS($J$16:J2415),$N$16:$N$2822,0)),\"\")","v":""}]
["32","16","06","2","321606","Gmina wiejska","ZACHODNIOPOMORSKIE","świdwiński","ŚWIDWIN","ŚWIDWIN - Gmina wiejska / Powiat świdwiński / Województwo  - ZACHODNIOPOMORSKIE / 321606 / ",16803739,18853350,{"$f":"ISNUMBER(SEARCH(Wyszukiwarka!$A$1,'Porównanie dochodów JST'!J2416))","v":false},{"$f":"IF(M2416,COUNTIF($M$16:M2416,TRUE),\"\")","v":""},{"$f":"IFERROR(INDEX($J$16:$J$2822,MATCH(ROWS($J$16:J2416),$N$16:$N$2822,0)),\"\")","v":""}]
["32","17","01","1","321701","Gmina miejska","ZACHODNIOPOMORSKIE","wałecki","WAŁCZ","WAŁCZ - Gmina miejska / Powiat wałecki / Województwo  - ZACHODNIOPOMORSKIE / 321701 / ",71179574,80939834.427900001,{"$f":"ISNUMBER(SEARCH(Wyszukiwarka!$A$1,'Porównanie dochodów JST'!J2417))","v":false},{"$f":"IF(M2417,COUNTIF($M$16:M2417,TRUE),\"\")","v":""},{"$f":"IFERROR(INDEX($J$16:$J$2822,MATCH(ROWS($J$16:J2417),$N$16:$N$2822,0)),\"\")","v":""}]
["32","17","02","3","321702","Gmina miejsko-wiejska","ZACHODNIOPOMORSKIE","wałecki","CZŁOPA","CZŁOPA - Gmina miejsko-wiejska / Powiat wałecki / Województwo  - ZACHODNIOPOMORSKIE / 321702 / ",16418298,18924796.800000001,{"$f":"ISNUMBER(SEARCH(Wyszukiwarka!$A$1,'Porównanie dochodów JST'!J2418))","v":false},{"$f":"IF(M2418,COUNTIF($M$16:M2418,TRUE),\"\")","v":""},{"$f":"IFERROR(INDEX($J$16:$J$2822,MATCH(ROWS($J$16:J2418),$N$16:$N$2822,0)),\"\")","v":""}]
["32","17","03","3","321703","Gmina miejsko-wiejska","ZACHODNIOPOMORSKIE","wałecki","MIROSŁAWIEC","MIROSŁAWIEC - Gmina miejsko-wiejska / Powiat wałecki / Województwo  - ZACHODNIOPOMORSKIE / 321703 / ",18426843,20374953.920686003,{"$f":"ISNUMBER(SEARCH(Wyszukiwarka!$A$1,'Porównanie dochodów JST'!J2419))","v":false},{"$f":"IF(M2419,COUNTIF($M$16:M2419,TRUE),\"\")","v":""},{"$f":"IFERROR(INDEX($J$16:$J$2822,MATCH(ROWS($J$16:J2419),$N$16:$N$2822,0)),\"\")","v":""}]
["32","17","04","3","321704","Gmina miejsko-wiejska","ZACHODNIOPOMORSKIE","wałecki","TUCZNO","TUCZNO - Gmina miejsko-wiejska / Powiat wałecki / Województwo  - ZACHODNIOPOMORSKIE / 321704 / ",16121384,18077371,{"$f":"ISNUMBER(SEARCH(Wyszukiwarka!$A$1,'Porównanie dochodów JST'!J2420))","v":false},{"$f":"IF(M2420,COUNTIF($M$16:M2420,TRUE),\"\")","v":""},{"$f":"IFERROR(INDEX($J$16:$J$2822,MATCH(ROWS($J$16:J2420),$N$16:$N$2822,0)),\"\")","v":""}]
["32","17","05","2","321705","Gmina wiejska","ZACHODNIOPOMORSKIE","wałecki","WAŁCZ","WAŁCZ - Gmina wiejska / Powiat wałecki / Województwo  - ZACHODNIOPOMORSKIE / 321705 / ",42999934,47244286.700063311,{"$f":"ISNUMBER(SEARCH(Wyszukiwarka!$A$1,'Porównanie dochodów JST'!J2421))","v":false},{"$f":"IF(M2421,COUNTIF($M$16:M2421,TRUE),\"\")","v":""},{"$f":"IFERROR(INDEX($J$16:$J$2822,MATCH(ROWS($J$16:J2421),$N$16:$N$2822,0)),\"\")","v":""}]
["32","18","01","3","321801","Gmina miejsko-wiejska","ZACHODNIOPOMORSKIE","łobeski","DOBRA","DOBRA - Gmina miejsko-wiejska / Powiat łobeski / Województwo  - ZACHODNIOPOMORSKIE / 321801 / ",14817035,16199365,{"$f":"ISNUMBER(SEARCH(Wyszukiwarka!$A$1,'Porównanie dochodów JST'!J2422))","v":false},{"$f":"IF(M2422,COUNTIF($M$16:M2422,TRUE),\"\")","v":""},{"$f":"IFERROR(INDEX($J$16:$J$2822,MATCH(ROWS($J$16:J2422),$N$16:$N$2822,0)),\"\")","v":""}]
["32","18","02","3","321802","Gmina miejsko-wiejska","ZACHODNIOPOMORSKIE","łobeski","ŁOBEZ","ŁOBEZ - Gmina miejsko-wiejska / Powiat łobeski / Województwo  - ZACHODNIOPOMORSKIE / 321802 / ",36511512,40773224.857800007,{"$f":"ISNUMBER(SEARCH(Wyszukiwarka!$A$1,'Porównanie dochodów JST'!J2423))","v":false},{"$f":"IF(M2423,COUNTIF($M$16:M2423,TRUE),\"\")","v":""},{"$f":"IFERROR(INDEX($J$16:$J$2822,MATCH(ROWS($J$16:J2423),$N$16:$N$2822,0)),\"\")","v":""}]
["32","18","03","2","321803","Gmina wiejska","ZACHODNIOPOMORSKIE","łobeski","RADOWO MAŁE","RADOWO MAŁE - Gmina wiejska / Powiat łobeski / Województwo  - ZACHODNIOPOMORSKIE / 321803 / ",10226644,11811394.559999999,{"$f":"ISNUMBER(SEARCH(Wyszukiwarka!$A$1,'Porównanie dochodów JST'!J2424))","v":false},{"$f":"IF(M2424,COUNTIF($M$16:M2424,TRUE),\"\")","v":""},{"$f":"IFERROR(INDEX($J$16:$J$2822,MATCH(ROWS($J$16:J2424),$N$16:$N$2822,0)),\"\")","v":""}]
["32","18","04","3","321804","Gmina miejsko-wiejska","ZACHODNIOPOMORSKIE","łobeski","RESKO","RESKO - Gmina miejsko-wiejska / Powiat łobeski / Województwo  - ZACHODNIOPOMORSKIE / 321804 / ",26466140,29143147,{"$f":"ISNUMBER(SEARCH(Wyszukiwarka!$A$1,'Porównanie dochodów JST'!J2425))","v":false},{"$f":"IF(M2425,COUNTIF($M$16:M2425,TRUE),\"\")","v":""},{"$f":"IFERROR(INDEX($J$16:$J$2822,MATCH(ROWS($J$16:J2425),$N$16:$N$2822,0)),\"\")","v":""}]
["32","18","05","3","321805","Gmina miejsko-wiejska","ZACHODNIOPOMORSKIE","łobeski","WĘGORZYNO","WĘGORZYNO - Gmina miejsko-wiejska / Powiat łobeski / Województwo  - ZACHODNIOPOMORSKIE / 321805 / ",19268663,21902495.603587568,{"$f":"ISNUMBER(SEARCH(Wyszukiwarka!$A$1,'Porównanie dochodów JST'!J2426))","v":false},{"$f":"IF(M2426,COUNTIF($M$16:M2426,TRUE),\"\")","v":""},{"$f":"IFERROR(INDEX($J$16:$J$2822,MATCH(ROWS($J$16:J2426),$N$16:$N$2822,0)),\"\")","v":""}]
["02","61","01","0","026101","Mnpp","DOLNOŚLĄSKIE","m. Jelenia Góra","Jelenia Góra",{"$f":"I2427&$H$12&F2427&$G$12&$G$14&$H$12&G2427&$G$12&E2427&$G$12","v":"Jelenia Góra - Mnpp / Województwo  - DOLNOŚLĄSKIE / 026101 / "},399702093,425950317.36452258,{"$f":"ISNUMBER(SEARCH(Wyszukiwarka!$A$1,'Porównanie dochodów JST'!J2427))","v":false},{"$f":"IF(M2427,COUNTIF($M$16:M2427,TRUE),\"\")","v":""},{"$f":"IFERROR(INDEX($J$16:$J$2822,MATCH(ROWS($J$16:J2427),$N$16:$N$2822,0)),\"\")","v":""}]
["02","62","01","0","026201","Mnpp","DOLNOŚLĄSKIE","m. Legnica","Legnica",{"$f":"I2428&$H$12&F2428&$G$12&$G$14&$H$12&G2428&$G$12&E2428&$G$12","v":"Legnica - Mnpp / Województwo  - DOLNOŚLĄSKIE / 026201 / "},494970316,526454310.30646467,{"$f":"ISNUMBER(SEARCH(Wyszukiwarka!$A$1,'Porównanie dochodów JST'!J2428))","v":false},{"$f":"IF(M2428,COUNTIF($M$16:M2428,TRUE),\"\")","v":""},{"$f":"IFERROR(INDEX($J$16:$J$2822,MATCH(ROWS($J$16:J2428),$N$16:$N$2822,0)),\"\")","v":""}]
["02","64","01","0","026401","Mnpp","DOLNOŚLĄSKIE","m. Wrocław","Wrocław","Wrocław - Mnpp / Województwo  - DOLNOŚLĄSKIE / 026401 / ",4057864477,4511128703.2695799,{"$f":"ISNUMBER(SEARCH(Wyszukiwarka!$A$1,'Porównanie dochodów JST'!J2429))","v":false},{"$f":"IF(M2429,COUNTIF($M$16:M2429,TRUE),\"\")","v":""},{"$f":"IFERROR(INDEX($J$16:$J$2822,MATCH(ROWS($J$16:J2429),$N$16:$N$2822,0)),\"\")","v":""}]
["02","65","01","0","026501","Mnpp","DOLNOŚLĄSKIE","wałbrzyski","Wałbrzych","Wałbrzych - Mnpp / Województwo  - DOLNOŚLĄSKIE / 026501 / ",473934064,506055727.68914902,{"$f":"ISNUMBER(SEARCH(Wyszukiwarka!$A$1,'Porównanie dochodów JST'!J2430))","v":false},{"$f":"IF(M2430,COUNTIF($M$16:M2430,TRUE),\"\")","v":""},{"$f":"IFERROR(INDEX($J$16:$J$2822,MATCH(ROWS($J$16:J2430),$N$16:$N$2822,0)),\"\")","v":""}]
["04","61","01","0","046101","Mnpp","KUJAWSKO-POMORSKIE","m. Bydgoszcz","Bydgoszcz","Bydgoszcz - Mnpp / Województwo  - KUJAWSKO-POMORSKIE / 046101 / ",1709988629,1829195624.5113611,{"$f":"ISNUMBER(SEARCH(Wyszukiwarka!$A$1,'Porównanie dochodów JST'!J2431))","v":false},{"$f":"IF(M2431,COUNTIF($M$16:M2431,TRUE),\"\")","v":""},{"$f":"IFERROR(INDEX($J$16:$J$2822,MATCH(ROWS($J$16:J2431),$N$16:$N$2822,0)),\"\")","v":""}]
["04","62","01","0","046201","Mnpp","KUJAWSKO-POMORSKIE","m. Grudziądz","Grudziądz","Grudziądz - Mnpp / Województwo  - KUJAWSKO-POMORSKIE / 046201 / ",518825175,595218387.67999995,{"$f":"ISNUMBER(SEARCH(Wyszukiwarka!$A$1,'Porównanie dochodów JST'!J2432))","v":false},{"$f":"IF(M2432,COUNTIF($M$16:M2432,TRUE),\"\")","v":""},{"$f":"IFERROR(INDEX($J$16:$J$2822,MATCH(ROWS($J$16:J2432),$N$16:$N$2822,0)),\"\")","v":""}]
["04","63","01","0","046301","Mnpp","KUJAWSKO-POMORSKIE","m. Toruń","Toruń","Toruń - Mnpp / Województwo  - KUJAWSKO-POMORSKIE / 046301 / ",1059679623,1138893024.883775,{"$f":"ISNUMBER(SEARCH(Wyszukiwarka!$A$1,'Porównanie dochodów JST'!J2433))","v":false},{"$f":"IF(M2433,COUNTIF($M$16:M2433,TRUE),\"\")","v":""},{"$f":"IFERROR(INDEX($J$16:$J$2822,MATCH(ROWS($J$16:J2433),$N$16:$N$2822,0)),\"\")","v":""}]
["04","64","01","0","046401","Mnpp","KUJAWSKO-POMORSKIE","m. Włocławek","Włocławek","Włocławek - Mnpp / Województwo  - KUJAWSKO-POMORSKIE / 046401 / ",527998564,601926610.88,{"$f":"ISNUMBER(SEARCH(Wyszukiwarka!$A$1,'Porównanie dochodów JST'!J2434))","v":false},{"$f":"IF(M2434,COUNTIF($M$16:M2434,TRUE),\"\")","v":""},{"$f":"IFERROR(INDEX($J$16:$J$2822,MATCH(ROWS($J$16:J2434),$N$16:$N$2822,0)),\"\")","v":""}]
["06","61","01","0","066101","Mnpp","LUBELSKIE","m. Biała Podlaska","Biała Podlaska","Biała Podlaska - Mnpp / Województwo  - LUBELSKIE / 066101 / ",328482352,349048038.87469655,{"$f":"ISNUMBER(SEARCH(Wyszukiwarka!$A$1,'Porównanie dochodów JST'!J2435))","v":false},{"$f":"IF(M2435,COUNTIF($M$16:M2435,TRUE),\"\")","v":""},{"$f":"IFERROR(INDEX($J$16:$J$2822,MATCH(ROWS($J$16:J2435),$N$16:$N$2822,0)),\"\")","v":""}]
["06","62","01","0","066201","Mnpp","LUBELSKIE","m. Chełm","Chełm","Chełm - Mnpp / Województwo  - LUBELSKIE / 066201 / ",339697430,362285110.46366805,{"$f":"ISNUMBER(SEARCH(Wyszukiwarka!$A$1,'Porównanie dochodów JST'!J2436))","v":false},{"$f":"IF(M2436,COUNTIF($M$16:M2436,TRUE),\"\")","v":""},{"$f":"IFERROR(INDEX($J$16:$J$2822,MATCH(ROWS($J$16:J2436),$N$16:$N$2822,0)),\"\")","v":""}]
["06","63","01","0","066301","Mnpp","LUBELSKIE","m. Lublin","Lublin","Lublin - Mnpp / Województwo  - LUBELSKIE / 066301 / ",1856293645,1987381797.1854975,{"$f":"ISNUMBER(SEARCH(Wyszukiwarka!$A$1,'Porównanie dochodów JST'!J2437))","v":false},{"$f":"IF(M2437,COUNTIF($M$16:M2437,TRUE),\"\")","v":""},{"$f":"IFERROR(INDEX($J$16:$J$2822,MATCH(ROWS($J$16:J2437),$N$16:$N$2822,0)),\"\")","v":""}]
["06","64","01","0","066401","Mnpp","LUBELSKIE","m. Zamość","Zamość","Zamość - Mnpp / Województwo  - LUBELSKIE / 066401 / ",392229302,447443623.19999999,{"$f":"ISNUMBER(SEARCH(Wyszukiwarka!$A$1,'Porównanie dochodów JST'!J2438))","v":false},{"$f":"IF(M2438,COUNTIF($M$16:M2438,TRUE),\"\")","v":""},{"$f":"IFERROR(INDEX($J$16:$J$2822,MATCH(ROWS($J$16:J2438),$N$16:$N$2822,0)),\"\")","v":""}]
["08","61","01","0","086101","Mnpp","LUBUSKIE","m. Gorzów Wielkopolski","Gorzów Wielkopolski","Gorzów Wielkopolski - Mnpp / Województwo  - LUBUSKIE / 086101 / ",635110036,675233612.45638418,{"$f":"ISNUMBER(SEARCH(Wyszukiwarka!$A$1,'Porównanie dochodów JST'!J2439))","v":false},{"$f":"IF(M2439,COUNTIF($M$16:M2439,TRUE),\"\")","v":""},{"$f":"IFERROR(INDEX($J$16:$J$2822,MATCH(ROWS($J$16:J2439),$N$16:$N$2822,0)),\"\")","v":""}]
["08","62","01","0","086201","Mnpp","LUBUSKIE","m. Zielona Góra","Zielona Góra","Zielona Góra - Mnpp / Województwo  - LUBUSKIE / 086201 / ",801326547,859916197.85566032,{"$f":"ISNUMBER(SEARCH(Wyszukiwarka!$A$1,'Porównanie dochodów JST'!J2440))","v":false},{"$f":"IF(M2440,COUNTIF($M$16:M2440,TRUE),\"\")","v":""},{"$f":"IFERROR(INDEX($J$16:$J$2822,MATCH(ROWS($J$16:J2440),$N$16:$N$2822,0)),\"\")","v":""}]
["10","61","01","0","106101","Mnpp","ŁÓDZKIE","m. Łódź","Łódź","Łódź - Mnpp / Województwo  - ŁÓDZKIE / 106101 / ",3324745348,3608399752.5536795,{"$f":"ISNUMBER(SEARCH(Wyszukiwarka!$A$1,'Porównanie dochodów JST'!J2441))","v":false},{"$f":"IF(M2441,COUNTIF($M$16:M2441,TRUE),\"\")","v":""},{"$f":"IFERROR(INDEX($J$16:$J$2822,MATCH(ROWS($J$16:J2441),$N$16:$N$2822,0)),\"\")","v":""}]
["10","62","01","0","106201","Mnpp","ŁÓDZKIE","m. Piotrków Trybunalski","Piotrków Trybunalski","Piotrków Trybunalski - Mnpp / Województwo  - ŁÓDZKIE / 106201 / ",416770679,440522635.84397149,{"$f":"ISNUMBER(SEARCH(Wyszukiwarka!$A$1,'Porównanie dochodów JST'!J2442))","v":false},{"$f":"IF(M2442,COUNTIF($M$16:M2442,TRUE),\"\")","v":""},{"$f":"IFERROR(INDEX($J$16:$J$2822,MATCH(ROWS($J$16:J2442),$N$16:$N$2822,0)),\"\")","v":""}]
["10","63","01","0","106301","Mnpp","ŁÓDZKIE","m. Skierniewice","Skierniewice","Skierniewice - Mnpp / Województwo  - ŁÓDZKIE / 106301 / ",287601161,307542088.85500002,{"$f":"ISNUMBER(SEARCH(Wyszukiwarka!$A$1,'Porównanie dochodów JST'!J2443))","v":false},{"$f":"IF(M2443,COUNTIF($M$16:M2443,TRUE),\"\")","v":""},{"$f":"IFERROR(INDEX($J$16:$J$2822,MATCH(ROWS($J$16:J2443),$N$16:$N$2822,0)),\"\")","v":""}]
["12","61","01","0","126101","Mnpp","MAŁOPOLSKIE","m. Kraków","Kraków","Kraków - Mnpp / Województwo  - MAŁOPOLSKIE / 126101 / ",5040856110,5608797905.9974813,{"$f":"ISNUMBER(SEARCH(Wyszukiwarka!$A$1,'Porównanie dochodów JST'!J2444))","v":false},{"$f":"IF(M2444,COUNTIF($M$16:M2444,TRUE),\"\")","v":""},{"$f":"IFERROR(INDEX($J$16:$J$2822,MATCH(ROWS($J$16:J2444),$N$16:$N$2822,0)),\"\")","v":""}]
["12","62","01","0","126201","Mnpp","MAŁOPOLSKIE","m. Nowy Sącz","Nowy Sącz","Nowy Sącz - Mnpp / Województwo  - MAŁOPOLSKIE / 126201 / ",518017121,552944621.95312941,{"$f":"ISNUMBER(SEARCH(Wyszukiwarka!$A$1,'Porównanie dochodów JST'!J2445))","v":false},{"$f":"IF(M2445,COUNTIF($M$16:M2445,TRUE),\"\")","v":""},{"$f":"IFERROR(INDEX($J$16:$J$2822,MATCH(ROWS($J$16:J2445),$N$16:$N$2822,0)),\"\")","v":""}]
["12","63","01","0","126301","Mnpp","MAŁOPOLSKIE","m. Tarnów","Tarnów","Tarnów - Mnpp / Województwo  - MAŁOPOLSKIE / 126301 / ",607991075,676721054.99610138,{"$f":"ISNUMBER(SEARCH(Wyszukiwarka!$A$1,'Porównanie dochodów JST'!J2446))","v":false},{"$f":"IF(M2446,COUNTIF($M$16:M2446,TRUE),\"\")","v":""},{"$f":"IFERROR(INDEX($J$16:$J$2822,MATCH(ROWS($J$16:J2446),$N$16:$N$2822,0)),\"\")","v":""}]
["14","61","01","0","146101","Mnpp","MAZOWIECKIE","m. Ostrołęka","Ostrołęka","Ostrołęka - Mnpp / Województwo  - MAZOWIECKIE / 146101 / ",319252457,362504768.09500003,{"$f":"ISNUMBER(SEARCH(Wyszukiwarka!$A$1,'Porównanie dochodów JST'!J2447))","v":false},{"$f":"IF(M2447,COUNTIF($M$16:M2447,TRUE),\"\")","v":""},{"$f":"IFERROR(INDEX($J$16:$J$2822,MATCH(ROWS($J$16:J2447),$N$16:$N$2822,0)),\"\")","v":""}]
["14","62","01","0","146201","Mnpp","MAZOWIECKIE","m. Płock","Płock","Płock - Mnpp / Województwo  - MAZOWIECKIE / 146201 / ",750144033,843762839.19512022,{"$f":"ISNUMBER(SEARCH(Wyszukiwarka!$A$1,'Porównanie dochodów JST'!J2448))","v":false},{"$f":"IF(M2448,COUNTIF($M$16:M2448,TRUE),\"\")","v":""},{"$f":"IFERROR(INDEX($J$16:$J$2822,MATCH(ROWS($J$16:J2448),$N$16:$N$2822,0)),\"\")","v":""}]
["14","63","01","0","146301","Mnpp","MAZOWIECKIE","m. Radom","Radom","Radom - Mnpp / Województwo  - MAZOWIECKIE / 146301 / ",1155282295,1276131050.1534526,{"$f":"ISNUMBER(SEARCH(Wyszukiwarka!$A$1,'Porównanie dochodów JST'!J2449))","v":false},{"$f":"IF(M2449,COUNTIF($M$16:M2449,TRUE),\"\")","v":""},{"$f":"IFERROR(INDEX($J$16:$J$2822,MATCH(ROWS($J$16:J2449),$N$16:$N$2822,0)),\"\")","v":""}]
["14","64","01","0","146401","Mnpp","MAZOWIECKIE","m. Siedlce","Siedlce","Siedlce - Mnpp / Województwo  - MAZOWIECKIE / 146401 / ",502466723,533491855.89358526,{"$f":"ISNUMBER(SEARCH(Wyszukiwarka!$A$1,'Porównanie dochodów JST'!J2450))","v":false},{"$f":"IF(M2450,COUNTIF($M$16:M2450,TRUE),\"\")","v":""},{"$f":"IFERROR(INDEX($J$16:$J$2822,MATCH(ROWS($J$16:J2450),$N$16:$N$2822,0)),\"\")","v":""}]
["14","65","01","0","146501","Mnpp","MAZOWIECKIE","m. st. Warszawa","m. st. Warszawa","m. st. Warszawa - Mnpp / Województwo  - MAZOWIECKIE / 146501 / ",15074015573,17006716873.376755,{"$f":"ISNUMBER(SEARCH(Wyszukiwarka!$A$1,'Porównanie dochodów JST'!J2451))","v":false},{"$f":"IF(M2451,COUNTIF($M$16:M2451,TRUE),\"\")","v":""},{"$f":"IFERROR(INDEX($J$16:$J$2822,MATCH(ROWS($J$16:J2451),$N$16:$N$2822,0)),\"\")","v":""}]
["16","61","01","0","166101","Mnpp","OPOLSKIE","m. Opole","Opole","Opole - Mnpp / Województwo  - OPOLSKIE / 166101 / ",806911444,863951867.72176516,{"$f":"ISNUMBER(SEARCH(Wyszukiwarka!$A$1,'Porównanie dochodów JST'!J2452))","v":false},{"$f":"IF(M2452,COUNTIF($M$16:M2452,TRUE),\"\")","v":""},{"$f":"IFERROR(INDEX($J$16:$J$2822,MATCH(ROWS($J$16:J2452),$N$16:$N$2822,0)),\"\")","v":""}]
["18","61","01","0","186101","Mnpp","PODKARPACKIE","m. Krosno","Krosno","Krosno - Mnpp / Województwo  - PODKARPACKIE / 186101 / ",285023571,322609468.245,{"$f":"ISNUMBER(SEARCH(Wyszukiwarka!$A$1,'Porównanie dochodów JST'!J2453))","v":false},{"$f":"IF(M2453,COUNTIF($M$16:M2453,TRUE),\"\")","v":""},{"$f":"IFERROR(INDEX($J$16:$J$2822,MATCH(ROWS($J$16:J2453),$N$16:$N$2822,0)),\"\")","v":""}]
["18","62","01","0","186201","Mnpp","PODKARPACKIE","m. Przemyśl","Przemyśl","Przemyśl - Mnpp / Województwo  - PODKARPACKIE / 186201 / ",347980568,396468676.80000001,{"$f":"ISNUMBER(SEARCH(Wyszukiwarka!$A$1,'Porównanie dochodów JST'!J2454))","v":false},{"$f":"IF(M2454,COUNTIF($M$16:M2454,TRUE),\"\")","v":""},{"$f":"IFERROR(INDEX($J$16:$J$2822,MATCH(ROWS($J$16:J2454),$N$16:$N$2822,0)),\"\")","v":""}]
["18","63","01","0","186301","Mnpp","PODKARPACKIE","m. Rzeszów","Rzeszów","Rzeszów - Mnpp / Województwo  - PODKARPACKIE / 186301 / ",1258272162,1338850283.2095997,{"$f":"ISNUMBER(SEARCH(Wyszukiwarka!$A$1,'Porównanie dochodów JST'!J2455))","v":false},{"$f":"IF(M2455,COUNTIF($M$16:M2455,TRUE),\"\")","v":""},{"$f":"IFERROR(INDEX($J$16:$J$2822,MATCH(ROWS($J$16:J2455),$N$16:$N$2822,0)),\"\")","v":""}]
["18","64","01","0","186401","Mnpp","PODKARPACKIE","m. Tarnobrzeg","Tarnobrzeg","Tarnobrzeg - Mnpp / Województwo  - PODKARPACKIE / 186401 / ",263816715,279819050.32999998,{"$f":"ISNUMBER(SEARCH(Wyszukiwarka!$A$1,'Porównanie dochodów JST'!J2456))","v":false},{"$f":"IF(M2456,COUNTIF($M$16:M2456,TRUE),\"\")","v":""},{"$f":"IFERROR(INDEX($J$16:$J$2822,MATCH(ROWS($J$16:J2456),$N$16:$N$2822,0)),\"\")","v":""}]
["20","61","01","0","206101","Mnpp","PODLASKIE","m. Białystok","Białystok","Białystok - Mnpp / Województwo  - PODLASKIE / 206101 / ",1757416653,2012190421.9200001,{"$f":"ISNUMBER(SEARCH(Wyszukiwarka!$A$1,'Porównanie dochodów JST'!J2457))","v":false},{"$f":"IF(M2457,COUNTIF($M$16:M2457,TRUE),\"\")","v":""},{"$f":"IFERROR(INDEX($J$16:$J$2822,MATCH(ROWS($J$16:J2457),$N$16:$N$2822,0)),\"\")","v":""}]
["20","62","01","0","206201","Mnpp","PODLASKIE","m. Łomża","Łomża","Łomża - Mnpp / Województwo  - PODLASKIE / 206201 / ",353194217,374899165.28949273,{"$f":"ISNUMBER(SEARCH(Wyszukiwarka!$A$1,'Porównanie dochodów JST'!J2458))","v":false},{"$f":"IF(M2458,COUNTIF($M$16:M2458,TRUE),\"\")","v":""},{"$f":"IFERROR(INDEX($J$16:$J$2822,MATCH(ROWS($J$16:J2458),$N$16:$N$2822,0)),\"\")","v":""}]
["20","63","01","0","206301","Mnpp","PODLASKIE","m. Suwałki","Suwałki","Suwałki - Mnpp / Województwo  - PODLASKIE / 206301 / ",375120534,408459100.34854442,{"$f":"ISNUMBER(SEARCH(Wyszukiwarka!$A$1,'Porównanie dochodów JST'!J2459))","v":false},{"$f":"IF(M2459,COUNTIF($M$16:M2459,TRUE),\"\")","v":""},{"$f":"IFERROR(INDEX($J$16:$J$2822,MATCH(ROWS($J$16:J2459),$N$16:$N$2822,0)),\"\")","v":""}]
["22","61","01","0","226101","Mnpp","POMORSKIE","m. Gdańsk","Gdańsk","Gdańsk - Mnpp / Województwo  - POMORSKIE / 226101 / ",2894954270,3167478740.2212057,{"$f":"ISNUMBER(SEARCH(Wyszukiwarka!$A$1,'Porównanie dochodów JST'!J2460))","v":false},{"$f":"IF(M2460,COUNTIF($M$16:M2460,TRUE),\"\")","v":""},{"$f":"IFERROR(INDEX($J$16:$J$2822,MATCH(ROWS($J$16:J2460),$N$16:$N$2822,0)),\"\")","v":""}]
["22","62","01","0","226201","Mnpp","POMORSKIE","m. Gdynia","Gdynia","Gdynia - Mnpp / Województwo  - POMORSKIE / 226201 / ",1340149666,1451388004.3448584,{"$f":"ISNUMBER(SEARCH(Wyszukiwarka!$A$1,'Porównanie dochodów JST'!J2461))","v":false},{"$f":"IF(M2461,COUNTIF($M$16:M2461,TRUE),\"\")","v":""},{"$f":"IFERROR(INDEX($J$16:$J$2822,MATCH(ROWS($J$16:J2461),$N$16:$N$2822,0)),\"\")","v":""}]
["22","63","01","0","226301","Mnpp","POMORSKIE","m. Słupsk","Słupsk","Słupsk - Mnpp / Województwo  - POMORSKIE / 226301 / ",484136686,514411540.4593696,{"$f":"ISNUMBER(SEARCH(Wyszukiwarka!$A$1,'Porównanie dochodów JST'!J2462))","v":false},{"$f":"IF(M2462,COUNTIF($M$16:M2462,TRUE),\"\")","v":""},{"$f":"IFERROR(INDEX($J$16:$J$2822,MATCH(ROWS($J$16:J2462),$N$16:$N$2822,0)),\"\")","v":""}]
["22","64","01","0","226401","Mnpp","POMORSKIE","m. Sopot","Sopot","Sopot - Mnpp / Województwo  - POMORSKIE / 226401 / ",220000479,249740461.28620401,{"$f":"ISNUMBER(SEARCH(Wyszukiwarka!$A$1,'Porównanie dochodów JST'!J2463))","v":false},{"$f":"IF(M2463,COUNTIF($M$16:M2463,TRUE),\"\")","v":""},{"$f":"IFERROR(INDEX($J$16:$J$2822,MATCH(ROWS($J$16:J2463),$N$16:$N$2822,0)),\"\")","v":""}]
["24","61","01","0","246101","Mnpp","ŚLĄSKIE","m. Bielsko-Biała","Bielsko-Biała","Bielsko-Biała - Mnpp / Województwo  - ŚLĄSKIE / 246101 / ",1068747834,1146520234.1522844,{"$f":"ISNUMBER(SEARCH(Wyszukiwarka!$A$1,'Porównanie dochodów JST'!J2464))","v":false},{"$f":"IF(M2464,COUNTIF($M$16:M2464,TRUE),\"\")","v":""},{"$f":"IFERROR(INDEX($J$16:$J$2822,MATCH(ROWS($J$16:J2464),$N$16:$N$2822,0)),\"\")","v":""}]
["24","62","01","0","246201","Mnpp","ŚLĄSKIE","m. Bytom","Bytom","Bytom - Mnpp / Województwo  - ŚLĄSKIE / 246201 / ",718033972,765359420.15976095,{"$f":"ISNUMBER(SEARCH(Wyszukiwarka!$A$1,'Porównanie dochodów JST'!J2465))","v":false},{"$f":"IF(M2465,COUNTIF($M$16:M2465,TRUE),\"\")","v":""},{"$f":"IFERROR(INDEX($J$16:$J$2822,MATCH(ROWS($J$16:J2465),$N$16:$N$2822,0)),\"\")","v":""}]
["24","63","01","0","246301","Mnpp","ŚLĄSKIE","m. Chorzów","Chorzów","Chorzów - Mnpp / Województwo  - ŚLĄSKIE / 246301 / ",548484602,583007828.14720035,{"$f":"ISNUMBER(SEARCH(Wyszukiwarka!$A$1,'Porównanie dochodów JST'!J2466))","v":false},{"$f":"IF(M2466,COUNTIF($M$16:M2466,TRUE),\"\")","v":""},{"$f":"IFERROR(INDEX($J$16:$J$2822,MATCH(ROWS($J$16:J2466),$N$16:$N$2822,0)),\"\")","v":""}]
["24","64","01","0","246401","Mnpp","ŚLĄSKIE","m. Częstochowa","Częstochowa","Częstochowa - Mnpp / Województwo  - ŚLĄSKIE / 246401 / ",1152896671,1230208107.1303654,{"$f":"ISNUMBER(SEARCH(Wyszukiwarka!$A$1,'Porównanie dochodów JST'!J2467))","v":false},{"$f":"IF(M2467,COUNTIF($M$16:M2467,TRUE),\"\")","v":""},{"$f":"IFERROR(INDEX($J$16:$J$2822,MATCH(ROWS($J$16:J2467),$N$16:$N$2822,0)),\"\")","v":""}]
["24","65","01","0","246501","Mnpp","ŚLĄSKIE","m. Dąbrowa Górnicza","Dąbrowa Górnicza","Dąbrowa Górnicza - Mnpp / Województwo  - ŚLĄSKIE / 246501 / ",630438421,674118556.68126488,{"$f":"ISNUMBER(SEARCH(Wyszukiwarka!$A$1,'Porównanie dochodów JST'!J2468))","v":false},{"$f":"IF(M2468,COUNTIF($M$16:M2468,TRUE),\"\")","v":""},{"$f":"IFERROR(INDEX($J$16:$J$2822,MATCH(ROWS($J$16:J2468),$N$16:$N$2822,0)),\"\")","v":""}]
["24","66","01","0","246601","Mnpp","ŚLĄSKIE","m. Gliwice","Gliwice","Gliwice - Mnpp / Województwo  - ŚLĄSKIE / 246601 / ",1003604344,1073019912.9999372,{"$f":"ISNUMBER(SEARCH(Wyszukiwarka!$A$1,'Porównanie dochodów JST'!J2469))","v":false},{"$f":"IF(M2469,COUNTIF($M$16:M2469,TRUE),\"\")","v":""},{"$f":"IFERROR(INDEX($J$16:$J$2822,MATCH(ROWS($J$16:J2469),$N$16:$N$2822,0)),\"\")","v":""}]
["24","67","01","0","246701","Mnpp","ŚLĄSKIE","m. Jastrzębie-Zdrój","Jastrzębie-Zdrój","Jastrzębie-Zdrój - Mnpp / Województwo  - ŚLĄSKIE / 246701 / ",448337054,492436232.96000004,{"$f":"ISNUMBER(SEARCH(Wyszukiwarka!$A$1,'Porównanie dochodów JST'!J2470))","v":false},{"$f":"IF(M2470,COUNTIF($M$16:M2470,TRUE),\"\")","v":""},{"$f":"IFERROR(INDEX($J$16:$J$2822,MATCH(ROWS($J$16:J2470),$N$16:$N$2822,0)),\"\")","v":""}]
["24","68","01","0","246801","Mnpp","ŚLĄSKIE","m. Jaworzno","Jaworzno","Jaworzno - Mnpp / Województwo  - ŚLĄSKIE / 246801 / ",417726070,458198243.03140002,{"$f":"ISNUMBER(SEARCH(Wyszukiwarka!$A$1,'Porównanie dochodów JST'!J2471))","v":false},{"$f":"IF(M2471,COUNTIF($M$16:M2471,TRUE),\"\")","v":""},{"$f":"IFERROR(INDEX($J$16:$J$2822,MATCH(ROWS($J$16:J2471),$N$16:$N$2822,0)),\"\")","v":""}]
["24","69","01","0","246901","Mnpp","ŚLĄSKIE","m. Katowice","Katowice","Katowice - Mnpp / Województwo  - ŚLĄSKIE / 246901 / ",1745425064,1923734939.5621905,{"$f":"ISNUMBER(SEARCH(Wyszukiwarka!$A$1,'Porównanie dochodów JST'!J2472))","v":false},{"$f":"IF(M2472,COUNTIF($M$16:M2472,TRUE),\"\")","v":""},{"$f":"IFERROR(INDEX($J$16:$J$2822,MATCH(ROWS($J$16:J2472),$N$16:$N$2822,0)),\"\")","v":""}]
["24","70","01","0","247001","Mnpp","ŚLĄSKIE","m. Mysłowice","Mysłowice","Mysłowice - Mnpp / Województwo  - ŚLĄSKIE / 247001 / ",348446568,393638809.21289998,{"$f":"ISNUMBER(SEARCH(Wyszukiwarka!$A$1,'Porównanie dochodów JST'!J2473))","v":false},{"$f":"IF(M2473,COUNTIF($M$16:M2473,TRUE),\"\")","v":""},{"$f":"IFERROR(INDEX($J$16:$J$2822,MATCH(ROWS($J$16:J2473),$N$16:$N$2822,0)),\"\")","v":""}]
["24","71","01","0","247101","Mnpp","ŚLĄSKIE","m. Piekary Śląskie","Piekary Śląskie","Piekary Śląskie - Mnpp / Województwo  - ŚLĄSKIE / 247101 / ",262607707,278292010.61261207,{"$f":"ISNUMBER(SEARCH(Wyszukiwarka!$A$1,'Porównanie dochodów JST'!J2474))","v":false},{"$f":"IF(M2474,COUNTIF($M$16:M2474,TRUE),\"\")","v":""},{"$f":"IFERROR(INDEX($J$16:$J$2822,MATCH(ROWS($J$16:J2474),$N$16:$N$2822,0)),\"\")","v":""}]
["24","72","01","0","247201","Mnpp","ŚLĄSKIE","m. Ruda Śląska","Ruda Śląska","Ruda Śląska - Mnpp / Województwo  - ŚLĄSKIE / 247201 / ",605804506,659335898.36274004,{"$f":"ISNUMBER(SEARCH(Wyszukiwarka!$A$1,'Porównanie dochodów JST'!J2475))","v":false},{"$f":"IF(M2475,COUNTIF($M$16:M2475,TRUE),\"\")","v":""},{"$f":"IFERROR(INDEX($J$16:$J$2822,MATCH(ROWS($J$16:J2475),$N$16:$N$2822,0)),\"\")","v":""}]
["24","73","01","0","247301","Mnpp","ŚLĄSKIE","m. Rybnik","Rybnik","Rybnik - Mnpp / Województwo  - ŚLĄSKIE / 247301 / ",714519462,759676472.63044012,{"$f":"ISNUMBER(SEARCH(Wyszukiwarka!$A$1,'Porównanie dochodów JST'!J2476))","v":false},{"$f":"IF(M2476,COUNTIF($M$16:M2476,TRUE),\"\")","v":""},{"$f":"IFERROR(INDEX($J$16:$J$2822,MATCH(ROWS($J$16:J2476),$N$16:$N$2822,0)),\"\")","v":""}]
["24","74","01","0","247401","Mnpp","ŚLĄSKIE","m. Siemianowice Śląskie","Siemianowice Śląskie","Siemianowice Śląskie - Mnpp / Województwo  - ŚLĄSKIE / 247401 / ",293571674,313949559.31218004,{"$f":"ISNUMBER(SEARCH(Wyszukiwarka!$A$1,'Porównanie dochodów JST'!J2477))","v":false},{"$f":"IF(M2477,COUNTIF($M$16:M2477,TRUE),\"\")","v":""},{"$f":"IFERROR(INDEX($J$16:$J$2822,MATCH(ROWS($J$16:J2477),$N$16:$N$2822,0)),\"\")","v":""}]
["24","75","01","0","247501","Mnpp","ŚLĄSKIE","m. Sosnowiec","Sosnowiec","Sosnowiec - Mnpp / Województwo  - ŚLĄSKIE / 247501 / ",859703043,962231971.37665987,{"$f":"ISNUMBER(SEARCH(Wyszukiwarka!$A$1,'Porównanie dochodów JST'!J2478))","v":false},{"$f":"IF(M2478,COUNTIF($M$16:M2478,TRUE),\"\")","v":""},{"$f":"IFERROR(INDEX($J$16:$J$2822,MATCH(ROWS($J$16:J2478),$N$16:$N$2822,0)),\"\")","v":""}]
["24","76","01","0","247601","Mnpp","ŚLĄSKIE","m. Świętochłowice","Świętochłowice","Świętochłowice - Mnpp / Województwo  - ŚLĄSKIE / 247601 / ",209338294,224988721,{"$f":"ISNUMBER(SEARCH(Wyszukiwarka!$A$1,'Porównanie dochodów JST'!J2479))","v":false},{"$f":"IF(M2479,COUNTIF($M$16:M2479,TRUE),\"\")","v":""},{"$f":"IFERROR(INDEX($J$16:$J$2822,MATCH(ROWS($J$16:J2479),$N$16:$N$2822,0)),\"\")","v":""}]
["24","77","01","0","247701","Mnpp","ŚLĄSKIE","m. Tychy","Tychy","Tychy - Mnpp / Województwo  - ŚLĄSKIE / 247701 / ",718758003,771748421.32379866,{"$f":"ISNUMBER(SEARCH(Wyszukiwarka!$A$1,'Porównanie dochodów JST'!J2480))","v":false},{"$f":"IF(M2480,COUNTIF($M$16:M2480,TRUE),\"\")","v":""},{"$f":"IFERROR(INDEX($J$16:$J$2822,MATCH(ROWS($J$16:J2480),$N$16:$N$2822,0)),\"\")","v":""}]
["24","78","01","0","247801","Mnpp","ŚLĄSKIE","m. Zabrze","Zabrze","Zabrze - Mnpp / Województwo  - ŚLĄSKIE / 247801 / ",746968300,797394061.64282143,{"$f":"ISNUMBER(SEARCH(Wyszukiwarka!$A$1,'Porównanie dochodów JST'!J2481))","v":false},{"$f":"IF(M2481,COUNTIF($M$16:M2481,TRUE),\"\")","v":""},{"$f":"IFERROR(INDEX($J$16:$J$2822,MATCH(ROWS($J$16:J2481),$N$16:$N$2822,0)),\"\")","v":""}]
["24","79","01","0","247901","Mnpp","ŚLĄSKIE","m. Żory","Żory","Żory - Mnpp / Województwo  - ŚLĄSKIE / 247901 / ",357495823,379632323.39897507,{"$f":"ISNUMBER(SEARCH(Wyszukiwarka!$A$1,'Porównanie dochodów JST'!J2482))","v":false},{"$f":"IF(M2482,COUNTIF($M$16:M2482,TRUE),\"\")","v":""},{"$f":"IFERROR(INDEX($J$16:$J$2822,MATCH(ROWS($J$16:J2482),$N$16:$N$2822,0)),\"\")","v":""}]
["26","61","01","0","266101","Mnpp","ŚWIĘTOKRZYSKIE","m. Kielce","Kielce","Kielce - Mnpp / Województwo  - ŚWIĘTOKRZYSKIE / 266101 / ",1130011203,1226439445.1093471,{"$f":"ISNUMBER(SEARCH(Wyszukiwarka!$A$1,'Porównanie dochodów JST'!J2483))","v":false},{"$f":"IF(M2483,COUNTIF($M$16:M2483,TRUE),\"\")","v":""},{"$f":"IFERROR(INDEX($J$16:$J$2822,MATCH(ROWS($J$16:J2483),$N$16:$N$2822,0)),\"\")","v":""}]
["28","61","01","0","286101","Mnpp","WARMIŃSKO-MAZURSKIE","m. Elbląg","Elbląg","Elbląg - Mnpp / Województwo  - WARMIŃSKO-MAZURSKIE / 286101 / ",561382545,626961340.66481876,{"$f":"ISNUMBER(SEARCH(Wyszukiwarka!$A$1,'Porównanie dochodów JST'!J2484))","v":false},{"$f":"IF(M2484,COUNTIF($M$16:M2484,TRUE),\"\")","v":""},{"$f":"IFERROR(INDEX($J$16:$J$2822,MATCH(ROWS($J$16:J2484),$N$16:$N$2822,0)),\"\")","v":""}]
["28","62","01","0","286201","Mnpp","WARMIŃSKO-MAZURSKIE","m. Olsztyn","Olsztyn","Olsztyn - Mnpp / Województwo  - WARMIŃSKO-MAZURSKIE / 286201 / ",1023500308,1096247862.4608366,{"$f":"ISNUMBER(SEARCH(Wyszukiwarka!$A$1,'Porównanie dochodów JST'!J2485))","v":false},{"$f":"IF(M2485,COUNTIF($M$16:M2485,TRUE),\"\")","v":""},{"$f":"IFERROR(INDEX($J$16:$J$2822,MATCH(ROWS($J$16:J2485),$N$16:$N$2822,0)),\"\")","v":""}]
["30","61","01","0","306101","Mnpp","WIELKOPOLSKIE","m. Kalisz","Kalisz","Kalisz - Mnpp / Województwo  - WIELKOPOLSKIE / 306101 / ",574366757,611189116.01482749,{"$f":"ISNUMBER(SEARCH(Wyszukiwarka!$A$1,'Porównanie dochodów JST'!J2486))","v":false},{"$f":"IF(M2486,COUNTIF($M$16:M2486,TRUE),\"\")","v":""},{"$f":"IFERROR(INDEX($J$16:$J$2822,MATCH(ROWS($J$16:J2486),$N$16:$N$2822,0)),\"\")","v":""}]
["30","62","01","0","306201","Mnpp","WIELKOPOLSKIE","m. Konin","Konin","Konin - Mnpp / Województwo  - WIELKOPOLSKIE / 306201 / ",411557638,465146336.48000002,{"$f":"ISNUMBER(SEARCH(Wyszukiwarka!$A$1,'Porównanie dochodów JST'!J2487))","v":false},{"$f":"IF(M2487,COUNTIF($M$16:M2487,TRUE),\"\")","v":""},{"$f":"IFERROR(INDEX($J$16:$J$2822,MATCH(ROWS($J$16:J2487),$N$16:$N$2822,0)),\"\")","v":""}]
["30","63","01","0","306301","Mnpp","WIELKOPOLSKIE","m. Leszno","Leszno","Leszno - Mnpp / Województwo  - WIELKOPOLSKIE / 306301 / ",389257758,439983401.64568698,{"$f":"ISNUMBER(SEARCH(Wyszukiwarka!$A$1,'Porównanie dochodów JST'!J2488))","v":false},{"$f":"IF(M2488,COUNTIF($M$16:M2488,TRUE),\"\")","v":""},{"$f":"IFERROR(INDEX($J$16:$J$2822,MATCH(ROWS($J$16:J2488),$N$16:$N$2822,0)),\"\")","v":""}]
["30","64","01","0","306401","Mnpp","WIELKOPOLSKIE","m. Poznań","Poznań","Poznań - Mnpp / Województwo  - WIELKOPOLSKIE / 306401 / ",3472642932,3818601690.2074275,{"$f":"ISNUMBER(SEARCH(Wyszukiwarka!$A$1,'Porównanie dochodów JST'!J2489))","v":false},{"$f":"IF(M2489,COUNTIF($M$16:M2489,TRUE),\"\")","v":""},{"$f":"IFERROR(INDEX($J$16:$J$2822,MATCH(ROWS($J$16:J2489),$N$16:$N$2822,0)),\"\")","v":""}]
["32","61","01","0","326101","Mnpp","ZACHODNIOPOMORSKIE","m. Koszalin","Koszalin","Koszalin - Mnpp / Województwo  - ZACHODNIOPOMORSKIE / 326101 / ",577509168,612075121.41792536,{"$f":"ISNUMBER(SEARCH(Wyszukiwarka!$A$1,'Porównanie dochodów JST'!J2490))","v":false},{"$f":"IF(M2490,COUNTIF($M$16:M2490,TRUE),\"\")","v":""},{"$f":"IFERROR(INDEX($J$16:$J$2822,MATCH(ROWS($J$16:J2490),$N$16:$N$2822,0)),\"\")","v":""}]
["32","62","01","0","326201","Mnpp","ZACHODNIOPOMORSKIE","m. Szczecin","Szczecin","Szczecin - Mnpp / Województwo  - ZACHODNIOPOMORSKIE / 326201 / ",2016515598,2162647537.1916103,{"$f":"ISNUMBER(SEARCH(Wyszukiwarka!$A$1,'Porównanie dochodów JST'!J2491))","v":false},{"$f":"IF(M2491,COUNTIF($M$16:M2491,TRUE),\"\")","v":""},{"$f":"IFERROR(INDEX($J$16:$J$2822,MATCH(ROWS($J$16:J2491),$N$16:$N$2822,0)),\"\")","v":""}]
["32","63","01","0","326301","Mnpp","ZACHODNIOPOMORSKIE","m. Świnoujście","Świnoujście",{"$f":"I2492&$H$12&F2492&$G$12&$G$14&$H$12&G2492&$G$12&E2492&$G$12","v":"Świnoujście - Mnpp / Województwo  - ZACHODNIOPOMORSKIE / 326301 / "},164549037,181239481.79499999,{"$f":"ISNUMBER(SEARCH(Wyszukiwarka!$A$1,'Porównanie dochodów JST'!J2492))","v":false},{"$f":"IF(M2492,COUNTIF($M$16:M2492,TRUE),\"\")","v":""},{"$f":"IFERROR(INDEX($J$16:$J$2822,MATCH(ROWS($J$16:J2492),$N$16:$N$2822,0)),\"\")","v":""}]
["02","01","00","0","020101","Powiat","dolnośląskie","bolesławiecki","bolesławiecki","bolesławiecki - Powiat / Województwo  - dolnośląskie / 020101 / ",117255948,124965922,{"$f":"ISNUMBER(SEARCH(Wyszukiwarka!$A$1,'Porównanie dochodów JST'!J2493))","v":false},{"$f":"IF(M2493,COUNTIF($M$16:M2493,TRUE),\"\")","v":""},{"$f":"IFERROR(INDEX($J$16:$J$2822,MATCH(ROWS($J$16:J2493),$N$16:$N$2822,0)),\"\")","v":""}]
["02","02","00","0","020201","Powiat","dolnośląskie","dzierżoniowski","dzierżoniowski","dzierżoniowski - Powiat / Województwo  - dolnośląskie / 020201 / ",120847306,128479761,{"$f":"ISNUMBER(SEARCH(Wyszukiwarka!$A$1,'Porównanie dochodów JST'!J2494))","v":false},{"$f":"IF(M2494,COUNTIF($M$16:M2494,TRUE),\"\")","v":""},{"$f":"IFERROR(INDEX($J$16:$J$2822,MATCH(ROWS($J$16:J2494),$N$16:$N$2822,0)),\"\")","v":""}]
["02","03","00","0","020301","Powiat","dolnośląskie","głogowski","głogowski","głogowski - Powiat / Województwo  - dolnośląskie / 020301 / ",160273164,168908330.18171746,{"$f":"ISNUMBER(SEARCH(Wyszukiwarka!$A$1,'Porównanie dochodów JST'!J2495))","v":false},{"$f":"IF(M2495,COUNTIF($M$16:M2495,TRUE),\"\")","v":""},{"$f":"IFERROR(INDEX($J$16:$J$2822,MATCH(ROWS($J$16:J2495),$N$16:$N$2822,0)),\"\")","v":""}]
["02","04","00","0","020401","Powiat","dolnośląskie","górowski","górowski","górowski - Powiat / Województwo  - dolnośląskie / 020401 / ",50780508,58150496,{"$f":"ISNUMBER(SEARCH(Wyszukiwarka!$A$1,'Porównanie dochodów JST'!J2496))","v":false},{"$f":"IF(M2496,COUNTIF($M$16:M2496,TRUE),\"\")","v":""},{"$f":"IFERROR(INDEX($J$16:$J$2822,MATCH(ROWS($J$16:J2496),$N$16:$N$2822,0)),\"\")","v":""}]
["02","05","00","0","020501","Powiat","dolnośląskie","jaworski","jaworski","jaworski - Powiat / Województwo  - dolnośląskie / 020501 / ",63713668,70536257.878797933,{"$f":"ISNUMBER(SEARCH(Wyszukiwarka!$A$1,'Porównanie dochodów JST'!J2497))","v":false},{"$f":"IF(M2497,COUNTIF($M$16:M2497,TRUE),\"\")","v":""},{"$f":"IFERROR(INDEX($J$16:$J$2822,MATCH(ROWS($J$16:J2497),$N$16:$N$2822,0)),\"\")","v":""}]
["02","06","00","0","020601","Powiat","dolnośląskie","jeleniogórski","karkonoski","karkonoski - Powiat / Województwo  - dolnośląskie / 020601 / ",55748985,64952052.479999997,{"$f":"ISNUMBER(SEARCH(Wyszukiwarka!$A$1,'Porównanie dochodów JST'!J2498))","v":false},{"$f":"IF(M2498,COUNTIF($M$16:M2498,TRUE),\"\")","v":""},{"$f":"IFERROR(INDEX($J$16:$J$2822,MATCH(ROWS($J$16:J2498),$N$16:$N$2822,0)),\"\")","v":""}]
["02","07","00","0","020701","Powiat","dolnośląskie","kamiennogórski","kamiennogórski","kamiennogórski - Powiat / Województwo  - dolnośląskie / 020701 / ",47814154,53087982,{"$f":"ISNUMBER(SEARCH(Wyszukiwarka!$A$1,'Porównanie dochodów JST'!J2499))","v":false},{"$f":"IF(M2499,COUNTIF($M$16:M2499,TRUE),\"\")","v":""},{"$f":"IFERROR(INDEX($J$16:$J$2822,MATCH(ROWS($J$16:J2499),$N$16:$N$2822,0)),\"\")","v":""}]
["02","08","00","0","020801","Powiat","dolnośląskie","kłodzki","kłodzki","kłodzki - Powiat / Województwo  - dolnośląskie / 020801 / ",227669164,243158652.1553292,{"$f":"ISNUMBER(SEARCH(Wyszukiwarka!$A$1,'Porównanie dochodów JST'!J2500))","v":false},{"$f":"IF(M2500,COUNTIF($M$16:M2500,TRUE),\"\")","v":""},{"$f":"IFERROR(INDEX($J$16:$J$2822,MATCH(ROWS($J$16:J2500),$N$16:$N$2822,0)),\"\")","v":""}]
["02","09","00","0","020901","Powiat","dolnośląskie","legnicki","legnicki","legnicki - Powiat / Województwo  - dolnośląskie / 020901 / ",51774663,59409621.774937727,{"$f":"ISNUMBER(SEARCH(Wyszukiwarka!$A$1,'Porównanie dochodów JST'!J2501))","v":false},{"$f":"IF(M2501,COUNTIF($M$16:M2501,TRUE),\"\")","v":""},{"$f":"IFERROR(INDEX($J$16:$J$2822,MATCH(ROWS($J$16:J2501),$N$16:$N$2822,0)),\"\")","v":""}]
["02","10","00","0","021001","Powiat","dolnośląskie","lubański","lubański","lubański - Powiat / Województwo  - dolnośląskie / 021001 / ",65107149,71830272,{"$f":"ISNUMBER(SEARCH(Wyszukiwarka!$A$1,'Porównanie dochodów JST'!J2502))","v":false},{"$f":"IF(M2502,COUNTIF($M$16:M2502,TRUE),\"\")","v":""},{"$f":"IFERROR(INDEX($J$16:$J$2822,MATCH(ROWS($J$16:J2502),$N$16:$N$2822,0)),\"\")","v":""}]
["02","11","00","0","021101","Powiat","dolnośląskie","lubiński","lubiński","lubiński - Powiat / Województwo  - dolnośląskie / 021101 / ",170598855,199380839.83999997,{"$f":"ISNUMBER(SEARCH(Wyszukiwarka!$A$1,'Porównanie dochodów JST'!J2503))","v":false},{"$f":"IF(M2503,COUNTIF($M$16:M2503,TRUE),\"\")","v":""},{"$f":"IFERROR(INDEX($J$16:$J$2822,MATCH(ROWS($J$16:J2503),$N$16:$N$2822,0)),\"\")","v":""}]
["02","12","00","0","021201","Powiat","dolnośląskie","lwówecki","lwówecki","lwówecki - Powiat / Województwo  - dolnośląskie / 021201 / ",71093327,77017027.566613108,{"$f":"ISNUMBER(SEARCH(Wyszukiwarka!$A$1,'Porównanie dochodów JST'!J2504))","v":false},{"$f":"IF(M2504,COUNTIF($M$16:M2504,TRUE),\"\")","v":""},{"$f":"IFERROR(INDEX($J$16:$J$2822,MATCH(ROWS($J$16:J2504),$N$16:$N$2822,0)),\"\")","v":""}]
["02","13","00","0","021301","Powiat","dolnośląskie","milicki","milicki","milicki - Powiat / Województwo  - dolnośląskie / 021301 / ",55094318,60281447,{"$f":"ISNUMBER(SEARCH(Wyszukiwarka!$A$1,'Porównanie dochodów JST'!J2505))","v":false},{"$f":"IF(M2505,COUNTIF($M$16:M2505,TRUE),\"\")","v":""},{"$f":"IFERROR(INDEX($J$16:$J$2822,MATCH(ROWS($J$16:J2505),$N$16:$N$2822,0)),\"\")","v":""}]
["02","14","00","0","021401","Powiat","dolnośląskie","oleśnicki","oleśnicki","oleśnicki - Powiat / Województwo  - dolnośląskie / 021401 / ",131883749,141161362.55661827,{"$f":"ISNUMBER(SEARCH(Wyszukiwarka!$A$1,'Porównanie dochodów JST'!J2506))","v":false},{"$f":"IF(M2506,COUNTIF($M$16:M2506,TRUE),\"\")","v":""},{"$f":"IFERROR(INDEX($J$16:$J$2822,MATCH(ROWS($J$16:J2506),$N$16:$N$2822,0)),\"\")","v":""}]
["02","15","00","0","021501","Powiat","dolnośląskie","oławski","oławski","oławski - Powiat / Województwo  - dolnośląskie / 021501 / ",100209783,108012480,{"$f":"ISNUMBER(SEARCH(Wyszukiwarka!$A$1,'Porównanie dochodów JST'!J2507))","v":false},{"$f":"IF(M2507,COUNTIF($M$16:M2507,TRUE),\"\")","v":""},{"$f":"IFERROR(INDEX($J$16:$J$2822,MATCH(ROWS($J$16:J2507),$N$16:$N$2822,0)),\"\")","v":""}]
["02","16","00","0","021601","Powiat","dolnośląskie","polkowicki","polkowicki","polkowicki - Powiat / Województwo  - dolnośląskie / 021601 / ",57930818,66853768.799999997,{"$f":"ISNUMBER(SEARCH(Wyszukiwarka!$A$1,'Porównanie dochodów JST'!J2508))","v":false},{"$f":"IF(M2508,COUNTIF($M$16:M2508,TRUE),\"\")","v":""},{"$f":"IFERROR(INDEX($J$16:$J$2822,MATCH(ROWS($J$16:J2508),$N$16:$N$2822,0)),\"\")","v":""}]
["02","17","00","0","021701","Powiat","dolnośląskie","strzeliński","strzeliński","strzeliński - Powiat / Województwo  - dolnośląskie / 021701 / ",67399753,73863963,{"$f":"ISNUMBER(SEARCH(Wyszukiwarka!$A$1,'Porównanie dochodów JST'!J2509))","v":false},{"$f":"IF(M2509,COUNTIF($M$16:M2509,TRUE),\"\")","v":""},{"$f":"IFERROR(INDEX($J$16:$J$2822,MATCH(ROWS($J$16:J2509),$N$16:$N$2822,0)),\"\")","v":""}]
["02","18","00","0","021801","Powiat","dolnośląskie","średzki","średzki","średzki - Powiat / Województwo  - dolnośląskie / 021801 / ",55021790,63913206.559999995,{"$f":"ISNUMBER(SEARCH(Wyszukiwarka!$A$1,'Porównanie dochodów JST'!J2510))","v":false},{"$f":"IF(M2510,COUNTIF($M$16:M2510,TRUE),\"\")","v":""},{"$f":"IFERROR(INDEX($J$16:$J$2822,MATCH(ROWS($J$16:J2510),$N$16:$N$2822,0)),\"\")","v":""}]
["02","19","00","0","021901","Powiat","dolnośląskie","świdnicki","świdnicki","świdnicki - Powiat / Województwo  - dolnośląskie / 021901 / ",213138394,225782884.70599329,{"$f":"ISNUMBER(SEARCH(Wyszukiwarka!$A$1,'Porównanie dochodów JST'!J2511))","v":false},{"$f":"IF(M2511,COUNTIF($M$16:M2511,TRUE),\"\")","v":""},{"$f":"IFERROR(INDEX($J$16:$J$2822,MATCH(ROWS($J$16:J2511),$N$16:$N$2822,0)),\"\")","v":""}]
["02","20","00","0","022001","Powiat","dolnośląskie","trzebnicki","trzebnicki","trzebnicki - Powiat / Województwo  - dolnośląskie / 022001 / ",92300032,99984453,{"$f":"ISNUMBER(SEARCH(Wyszukiwarka!$A$1,'Porównanie dochodów JST'!J2512))","v":false},{"$f":"IF(M2512,COUNTIF($M$16:M2512,TRUE),\"\")","v":""},{"$f":"IFERROR(INDEX($J$16:$J$2822,MATCH(ROWS($J$16:J2512),$N$16:$N$2822,0)),\"\")","v":""}]
["02","21","00","0","022101","Powiat","dolnośląskie","wałbrzyski","wałbrzyski","wałbrzyski - Powiat / Województwo  - dolnośląskie / 022101 / ",59306129,67969485.963,{"$f":"ISNUMBER(SEARCH(Wyszukiwarka!$A$1,'Porównanie dochodów JST'!J2513))","v":false},{"$f":"IF(M2513,COUNTIF($M$16:M2513,TRUE),\"\")","v":""},{"$f":"IFERROR(INDEX($J$16:$J$2822,MATCH(ROWS($J$16:J2513),$N$16:$N$2822,0)),\"\")","v":""}]
["02","22","00","0","022201","Powiat","dolnośląskie","wołowski","wołowski","wołowski - Powiat / Województwo  - dolnośląskie / 022201 / ",75389187,81888738.661108017,{"$f":"ISNUMBER(SEARCH(Wyszukiwarka!$A$1,'Porównanie dochodów JST'!J2514))","v":false},{"$f":"IF(M2514,COUNTIF($M$16:M2514,TRUE),\"\")","v":""},{"$f":"IFERROR(INDEX($J$16:$J$2822,MATCH(ROWS($J$16:J2514),$N$16:$N$2822,0)),\"\")","v":""}]
["02","23","00","0","022301","Powiat","dolnośląskie","wrocławski","wrocławski","wrocławski - Powiat / Województwo  - dolnośląskie / 022301 / ",168959887,193943849.11999995,{"$f":"ISNUMBER(SEARCH(Wyszukiwarka!$A$1,'Porównanie dochodów JST'!J2515))","v":false},{"$f":"IF(M2515,COUNTIF($M$16:M2515,TRUE),\"\")","v":""},{"$f":"IFERROR(INDEX($J$16:$J$2822,MATCH(ROWS($J$16:J2515),$N$16:$N$2822,0)),\"\")","v":""}]
["02","24","00","0","022401","Powiat","dolnośląskie","ząbkowicki","ząbkowicki","ząbkowicki - Powiat / Województwo  - dolnośląskie / 022401 / ",87327896,94284914,{"$f":"ISNUMBER(SEARCH(Wyszukiwarka!$A$1,'Porównanie dochodów JST'!J2516))","v":false},{"$f":"IF(M2516,COUNTIF($M$16:M2516,TRUE),\"\")","v":""},{"$f":"IFERROR(INDEX($J$16:$J$2822,MATCH(ROWS($J$16:J2516),$N$16:$N$2822,0)),\"\")","v":""}]
["02","25","00","0","022501","Powiat","dolnośląskie","zgorzelecki","zgorzelecki","zgorzelecki - Powiat / Województwo  - dolnośląskie / 022501 / ",101673136,116398493.12,{"$f":"ISNUMBER(SEARCH(Wyszukiwarka!$A$1,'Porównanie dochodów JST'!J2517))","v":false},{"$f":"IF(M2517,COUNTIF($M$16:M2517,TRUE),\"\")","v":""},{"$f":"IFERROR(INDEX($J$16:$J$2822,MATCH(ROWS($J$16:J2517),$N$16:$N$2822,0)),\"\")","v":""}]
["02","26","00","0","022601","Powiat","dolnośląskie","złotoryjski","złotoryjski","złotoryjski - Powiat / Województwo  - dolnośląskie / 022601 / ",56098801,63128308,{"$f":"ISNUMBER(SEARCH(Wyszukiwarka!$A$1,'Porównanie dochodów JST'!J2518))","v":false},{"$f":"IF(M2518,COUNTIF($M$16:M2518,TRUE),\"\")","v":""},{"$f":"IFERROR(INDEX($J$16:$J$2822,MATCH(ROWS($J$16:J2518),$N$16:$N$2822,0)),\"\")","v":""}]
["04","01","00","0","040101","Powiat","kujawsko-pomorskie","aleksandrowski","aleksandrowski","aleksandrowski - Powiat / Województwo  - kujawsko-pomorskie / 040101 / ",67690289,76500538,{"$f":"ISNUMBER(SEARCH(Wyszukiwarka!$A$1,'Porównanie dochodów JST'!J2519))","v":false},{"$f":"IF(M2519,COUNTIF($M$16:M2519,TRUE),\"\")","v":""},{"$f":"IFERROR(INDEX($J$16:$J$2822,MATCH(ROWS($J$16:J2519),$N$16:$N$2822,0)),\"\")","v":""}]
["04","02","00","0","040201","Powiat","kujawsko-pomorskie","brodnicki","brodnicki","brodnicki - Powiat / Województwo  - kujawsko-pomorskie / 040201 / ",103355861,112166443.07520108,{"$f":"ISNUMBER(SEARCH(Wyszukiwarka!$A$1,'Porównanie dochodów JST'!J2520))","v":false},{"$f":"IF(M2520,COUNTIF($M$16:M2520,TRUE),\"\")","v":""},{"$f":"IFERROR(INDEX($J$16:$J$2822,MATCH(ROWS($J$16:J2520),$N$16:$N$2822,0)),\"\")","v":""}]
["04","03","00","0","040301","Powiat","kujawsko-pomorskie","bydgoski","bydgoski","bydgoski - Powiat / Województwo  - kujawsko-pomorskie / 040301 / ",100855987,117052302.07999998,{"$f":"ISNUMBER(SEARCH(Wyszukiwarka!$A$1,'Porównanie dochodów JST'!J2521))","v":false},{"$f":"IF(M2521,COUNTIF($M$16:M2521,TRUE),\"\")","v":""},{"$f":"IFERROR(INDEX($J$16:$J$2822,MATCH(ROWS($J$16:J2521),$N$16:$N$2822,0)),\"\")","v":""}]
["04","04","00","0","040401","Powiat","kujawsko-pomorskie","chełmiński","chełmiński","chełmiński - Powiat / Województwo  - kujawsko-pomorskie / 040401 / ",76204724,83889430,{"$f":"ISNUMBER(SEARCH(Wyszukiwarka!$A$1,'Porównanie dochodów JST'!J2522))","v":false},{"$f":"IF(M2522,COUNTIF($M$16:M2522,TRUE),\"\")","v":""},{"$f":"IFERROR(INDEX($J$16:$J$2822,MATCH(ROWS($J$16:J2522),$N$16:$N$2822,0)),\"\")","v":""}]
["04","05","00","0","040501","Powiat","kujawsko-pomorskie","golubsko-dobrzyński","golubsko-dobrzyński","golubsko-dobrzyński - Powiat / Województwo  - kujawsko-pomorskie / 040501 / ",60353002,67258030,{"$f":"ISNUMBER(SEARCH(Wyszukiwarka!$A$1,'Porównanie dochodów JST'!J2523))","v":false},{"$f":"IF(M2523,COUNTIF($M$16:M2523,TRUE),\"\")","v":""},{"$f":"IFERROR(INDEX($J$16:$J$2822,MATCH(ROWS($J$16:J2523),$N$16:$N$2822,0)),\"\")","v":""}]
["04","06","00","0","040601","Powiat","kujawsko-pomorskie","grudziądzki","grudziądzki","grudziądzki - Powiat / Województwo  - kujawsko-pomorskie / 040601 / ",39096274,46742014.791999996,{"$f":"ISNUMBER(SEARCH(Wyszukiwarka!$A$1,'Porównanie dochodów JST'!J2524))","v":false},{"$f":"IF(M2524,COUNTIF($M$16:M2524,TRUE),\"\")","v":""},{"$f":"IFERROR(INDEX($J$16:$J$2822,MATCH(ROWS($J$16:J2524),$N$16:$N$2822,0)),\"\")","v":""}]
["04","07","00","0","040701","Powiat","kujawsko-pomorskie","inowrocławski","inowrocławski","inowrocławski - Powiat / Województwo  - kujawsko-pomorskie / 040701 / ",215125779,236125256.20241171,{"$f":"ISNUMBER(SEARCH(Wyszukiwarka!$A$1,'Porównanie dochodów JST'!J2525))","v":false},{"$f":"IF(M2525,COUNTIF($M$16:M2525,TRUE),\"\")","v":""},{"$f":"IFERROR(INDEX($J$16:$J$2822,MATCH(ROWS($J$16:J2525),$N$16:$N$2822,0)),\"\")","v":""}]
["04","08","00","0","040801","Powiat","kujawsko-pomorskie","lipnowski","lipnowski","lipnowski - Powiat / Województwo  - kujawsko-pomorskie / 040801 / ",87623282,97406651,{"$f":"ISNUMBER(SEARCH(Wyszukiwarka!$A$1,'Porównanie dochodów JST'!J2526))","v":false},{"$f":"IF(M2526,COUNTIF($M$16:M2526,TRUE),\"\")","v":""},{"$f":"IFERROR(INDEX($J$16:$J$2822,MATCH(ROWS($J$16:J2526),$N$16:$N$2822,0)),\"\")","v":""}]
["04","09","00","0","040901","Powiat","kujawsko-pomorskie","mogileński","mogileński","mogileński - Powiat / Województwo  - kujawsko-pomorskie / 040901 / ",89713893,96057470,{"$f":"ISNUMBER(SEARCH(Wyszukiwarka!$A$1,'Porównanie dochodów JST'!J2527))","v":false},{"$f":"IF(M2527,COUNTIF($M$16:M2527,TRUE),\"\")","v":""},{"$f":"IFERROR(INDEX($J$16:$J$2822,MATCH(ROWS($J$16:J2527),$N$16:$N$2822,0)),\"\")","v":""}]
["04","10","00","0","041001","Powiat","kujawsko-pomorskie","nakielski","nakielski","nakielski - Powiat / Województwo  - kujawsko-pomorskie / 041001 / ",114462487,125127498.88865955,{"$f":"ISNUMBER(SEARCH(Wyszukiwarka!$A$1,'Porównanie dochodów JST'!J2528))","v":false},{"$f":"IF(M2528,COUNTIF($M$16:M2528,TRUE),\"\")","v":""},{"$f":"IFERROR(INDEX($J$16:$J$2822,MATCH(ROWS($J$16:J2528),$N$16:$N$2822,0)),\"\")","v":""}]
["04","11","00","0","041101","Powiat","kujawsko-pomorskie","radziejowski","radziejowski","radziejowski - Powiat / Województwo  - kujawsko-pomorskie / 041101 / ",73006212,80897567,{"$f":"ISNUMBER(SEARCH(Wyszukiwarka!$A$1,'Porównanie dochodów JST'!J2529))","v":false},{"$f":"IF(M2529,COUNTIF($M$16:M2529,TRUE),\"\")","v":""},{"$f":"IFERROR(INDEX($J$16:$J$2822,MATCH(ROWS($J$16:J2529),$N$16:$N$2822,0)),\"\")","v":""}]
["04","12","00","0","041201","Powiat","kujawsko-pomorskie","rypiński","rypiński","rypiński - Powiat / Województwo  - kujawsko-pomorskie / 041201 / ",68327574,74487748.762817115,{"$f":"ISNUMBER(SEARCH(Wyszukiwarka!$A$1,'Porównanie dochodów JST'!J2530))","v":false},{"$f":"IF(M2530,COUNTIF($M$16:M2530,TRUE),\"\")","v":""},{"$f":"IFERROR(INDEX($J$16:$J$2822,MATCH(ROWS($J$16:J2530),$N$16:$N$2822,0)),\"\")","v":""}]
["04","13","00","0","041301","Powiat","kujawsko-pomorskie","sępoleński","sępoleński","sępoleński - Powiat / Województwo  - kujawsko-pomorskie / 041301 / ",55435927,60628127.855509296,{"$f":"ISNUMBER(SEARCH(Wyszukiwarka!$A$1,'Porównanie dochodów JST'!J2531))","v":false},{"$f":"IF(M2531,COUNTIF($M$16:M2531,TRUE),\"\")","v":""},{"$f":"IFERROR(INDEX($J$16:$J$2822,MATCH(ROWS($J$16:J2531),$N$16:$N$2822,0)),\"\")","v":""}]
["04","14","00","0","041401","Powiat","kujawsko-pomorskie","świecki","świecki","świecki - Powiat / Województwo  - kujawsko-pomorskie / 041401 / ",119831310,128158206,{"$f":"ISNUMBER(SEARCH(Wyszukiwarka!$A$1,'Porównanie dochodów JST'!J2532))","v":false},{"$f":"IF(M2532,COUNTIF($M$16:M2532,TRUE),\"\")","v":""},{"$f":"IFERROR(INDEX($J$16:$J$2822,MATCH(ROWS($J$16:J2532),$N$16:$N$2822,0)),\"\")","v":""}]
["04","15","00","0","041501","Powiat","kujawsko-pomorskie","toruński","toruński","toruński - Powiat / Województwo  - kujawsko-pomorskie / 041501 / ",105637278,117708265,{"$f":"ISNUMBER(SEARCH(Wyszukiwarka!$A$1,'Porównanie dochodów JST'!J2533))","v":false},{"$f":"IF(M2533,COUNTIF($M$16:M2533,TRUE),\"\")","v":""},{"$f":"IFERROR(INDEX($J$16:$J$2822,MATCH(ROWS($J$16:J2533),$N$16:$N$2822,0)),\"\")","v":""}]
["04","16","00","0","041601","Powiat","kujawsko-pomorskie","tucholski","tucholski","tucholski - Powiat / Województwo  - kujawsko-pomorskie / 041601 / ",73273146,78036048,{"$f":"ISNUMBER(SEARCH(Wyszukiwarka!$A$1,'Porównanie dochodów JST'!J2534))","v":false},{"$f":"IF(M2534,COUNTIF($M$16:M2534,TRUE),\"\")","v":""},{"$f":"IFERROR(INDEX($J$16:$J$2822,MATCH(ROWS($J$16:J2534),$N$16:$N$2822,0)),\"\")","v":""}]
["04","17","00","0","041701","Powiat","kujawsko-pomorskie","wąbrzeski","wąbrzeski","wąbrzeski - Powiat / Województwo  - kujawsko-pomorskie / 041701 / ",43988454,48446189,{"$f":"ISNUMBER(SEARCH(Wyszukiwarka!$A$1,'Porównanie dochodów JST'!J2535))","v":false},{"$f":"IF(M2535,COUNTIF($M$16:M2535,TRUE),\"\")","v":""},{"$f":"IFERROR(INDEX($J$16:$J$2822,MATCH(ROWS($J$16:J2535),$N$16:$N$2822,0)),\"\")","v":""}]
["04","18","00","0","041801","Powiat","kujawsko-pomorskie","włocławski","włocławski","włocławski - Powiat / Województwo  - kujawsko-pomorskie / 041801 / ",88852781,101266855,{"$f":"ISNUMBER(SEARCH(Wyszukiwarka!$A$1,'Porównanie dochodów JST'!J2536))","v":false},{"$f":"IF(M2536,COUNTIF($M$16:M2536,TRUE),\"\")","v":""},{"$f":"IFERROR(INDEX($J$16:$J$2822,MATCH(ROWS($J$16:J2536),$N$16:$N$2822,0)),\"\")","v":""}]
["04","19","00","0","041901","Powiat","kujawsko-pomorskie","żniński","żniński","żniński - Powiat / Województwo  - kujawsko-pomorskie / 041901 / ",89414631,96278279,{"$f":"ISNUMBER(SEARCH(Wyszukiwarka!$A$1,'Porównanie dochodów JST'!J2537))","v":false},{"$f":"IF(M2537,COUNTIF($M$16:M2537,TRUE),\"\")","v":""},{"$f":"IFERROR(INDEX($J$16:$J$2822,MATCH(ROWS($J$16:J2537),$N$16:$N$2822,0)),\"\")","v":""}]
["06","01","00","0","060101","Powiat","lubelskie","bialski","bialski","bialski - Powiat / Województwo  - lubelskie / 060101 / ",114447772,128772676.86611322,{"$f":"ISNUMBER(SEARCH(Wyszukiwarka!$A$1,'Porównanie dochodów JST'!J2538))","v":false},{"$f":"IF(M2538,COUNTIF($M$16:M2538,TRUE),\"\")","v":""},{"$f":"IFERROR(INDEX($J$16:$J$2822,MATCH(ROWS($J$16:J2538),$N$16:$N$2822,0)),\"\")","v":""}]
["06","02","00","0","060201","Powiat","lubelskie","biłgorajski","biłgorajski","biłgorajski - Powiat / Województwo  - lubelskie / 060201 / ",117674702,129199286.06504312,{"$f":"ISNUMBER(SEARCH(Wyszukiwarka!$A$1,'Porównanie dochodów JST'!J2539))","v":false},{"$f":"IF(M2539,COUNTIF($M$16:M2539,TRUE),\"\")","v":""},{"$f":"IFERROR(INDEX($J$16:$J$2822,MATCH(ROWS($J$16:J2539),$N$16:$N$2822,0)),\"\")","v":""}]
["06","03","00","0","060301","Powiat","lubelskie","chełmski","chełmski","chełmski - Powiat / Województwo  - lubelskie / 060301 / ",82873718,96598385,{"$f":"ISNUMBER(SEARCH(Wyszukiwarka!$A$1,'Porównanie dochodów JST'!J2540))","v":false},{"$f":"IF(M2540,COUNTIF($M$16:M2540,TRUE),\"\")","v":""},{"$f":"IFERROR(INDEX($J$16:$J$2822,MATCH(ROWS($J$16:J2540),$N$16:$N$2822,0)),\"\")","v":""}]
["06","04","00","0","060401","Powiat","lubelskie","hrubieszowski","hrubieszowski","hrubieszowski - Powiat / Województwo  - lubelskie / 060401 / ",92283633,103580932.82079989,{"$f":"ISNUMBER(SEARCH(Wyszukiwarka!$A$1,'Porównanie dochodów JST'!J2541))","v":false},{"$f":"IF(M2541,COUNTIF($M$16:M2541,TRUE),\"\")","v":""},{"$f":"IFERROR(INDEX($J$16:$J$2822,MATCH(ROWS($J$16:J2541),$N$16:$N$2822,0)),\"\")","v":""}]
["06","05","00","0","060501","Powiat","lubelskie","janowski","janowski","janowski - Powiat / Województwo  - lubelskie / 060501 / ",61598308,68812191.632725656,{"$f":"ISNUMBER(SEARCH(Wyszukiwarka!$A$1,'Porównanie dochodów JST'!J2542))","v":false},{"$f":"IF(M2542,COUNTIF($M$16:M2542,TRUE),\"\")","v":""},{"$f":"IFERROR(INDEX($J$16:$J$2822,MATCH(ROWS($J$16:J2542),$N$16:$N$2822,0)),\"\")","v":""}]
["06","06","00","0","060601","Powiat","lubelskie","krasnostawski","krasnostawski","krasnostawski - Powiat / Województwo  - lubelskie / 060601 / ",84451488,94832666.582685307,{"$f":"ISNUMBER(SEARCH(Wyszukiwarka!$A$1,'Porównanie dochodów JST'!J2543))","v":false},{"$f":"IF(M2543,COUNTIF($M$16:M2543,TRUE),\"\")","v":""},{"$f":"IFERROR(INDEX($J$16:$J$2822,MATCH(ROWS($J$16:J2543),$N$16:$N$2822,0)),\"\")","v":""}]
["06","07","00","0","060701","Powiat","lubelskie","kraśnicki","kraśnicki","kraśnicki - Powiat / Województwo  - lubelskie / 060701 / ",123307079,132270108.51971442,{"$f":"ISNUMBER(SEARCH(Wyszukiwarka!$A$1,'Porównanie dochodów JST'!J2544))","v":false},{"$f":"IF(M2544,COUNTIF($M$16:M2544,TRUE),\"\")","v":""},{"$f":"IFERROR(INDEX($J$16:$J$2822,MATCH(ROWS($J$16:J2544),$N$16:$N$2822,0)),\"\")","v":""}]
["06","08","00","0","060801","Powiat","lubelskie","lubartowski","lubartowski","lubartowski - Powiat / Województwo  - lubelskie / 060801 / ",101109737,111860035.98536544,{"$f":"ISNUMBER(SEARCH(Wyszukiwarka!$A$1,'Porównanie dochodów JST'!J2545))","v":false},{"$f":"IF(M2545,COUNTIF($M$16:M2545,TRUE),\"\")","v":""},{"$f":"IFERROR(INDEX($J$16:$J$2822,MATCH(ROWS($J$16:J2545),$N$16:$N$2822,0)),\"\")","v":""}]
["06","09","00","0","060901","Powiat","lubelskie","lubelski","lubelski","lubelski - Powiat / Województwo  - lubelskie / 060901 / ",140983842,151724499,{"$f":"ISNUMBER(SEARCH(Wyszukiwarka!$A$1,'Porównanie dochodów JST'!J2546))","v":false},{"$f":"IF(M2546,COUNTIF($M$16:M2546,TRUE),\"\")","v":""},{"$f":"IFERROR(INDEX($J$16:$J$2822,MATCH(ROWS($J$16:J2546),$N$16:$N$2822,0)),\"\")","v":""}]
["06","10","00","0","061001","Powiat","lubelskie","łęczyński","łęczyński","łęczyński - Powiat / Województwo  - lubelskie / 061001 / ",67576493,75465571.83456102,{"$f":"ISNUMBER(SEARCH(Wyszukiwarka!$A$1,'Porównanie dochodów JST'!J2547))","v":false},{"$f":"IF(M2547,COUNTIF($M$16:M2547,TRUE),\"\")","v":""},{"$f":"IFERROR(INDEX($J$16:$J$2822,MATCH(ROWS($J$16:J2547),$N$16:$N$2822,0)),\"\")","v":""}]
["06","11","00","0","061101","Powiat","lubelskie","łukowski","łukowski","łukowski - Powiat / Województwo  - lubelskie / 061101 / ",144806228,153745659,{"$f":"ISNUMBER(SEARCH(Wyszukiwarka!$A$1,'Porównanie dochodów JST'!J2548))","v":false},{"$f":"IF(M2548,COUNTIF($M$16:M2548,TRUE),\"\")","v":""},{"$f":"IFERROR(INDEX($J$16:$J$2822,MATCH(ROWS($J$16:J2548),$N$16:$N$2822,0)),\"\")","v":""}]
["06","12","00","0","061201","Powiat","lubelskie","opolski","opolski","opolski - Powiat / Województwo  - lubelskie / 061201 / ",61258989,66684866,{"$f":"ISNUMBER(SEARCH(Wyszukiwarka!$A$1,'Porównanie dochodów JST'!J2549))","v":false},{"$f":"IF(M2549,COUNTIF($M$16:M2549,TRUE),\"\")","v":""},{"$f":"IFERROR(INDEX($J$16:$J$2822,MATCH(ROWS($J$16:J2549),$N$16:$N$2822,0)),\"\")","v":""}]
["06","13","00","0","061301","Powiat","lubelskie","parczewski","parczewski","parczewski - Powiat / Województwo  - lubelskie / 061301 / ",34760868,40471846.701378077,{"$f":"ISNUMBER(SEARCH(Wyszukiwarka!$A$1,'Porównanie dochodów JST'!J2550))","v":false},{"$f":"IF(M2550,COUNTIF($M$16:M2550,TRUE),\"\")","v":""},{"$f":"IFERROR(INDEX($J$16:$J$2822,MATCH(ROWS($J$16:J2550),$N$16:$N$2822,0)),\"\")","v":""}]
["06","14","00","0","061401","Powiat","lubelskie","puławski","puławski","puławski - Powiat / Województwo  - lubelskie / 061401 / ",172592593,182551247.09758496,{"$f":"ISNUMBER(SEARCH(Wyszukiwarka!$A$1,'Porównanie dochodów JST'!J2551))","v":false},{"$f":"IF(M2551,COUNTIF($M$16:M2551,TRUE),\"\")","v":""},{"$f":"IFERROR(INDEX($J$16:$J$2822,MATCH(ROWS($J$16:J2551),$N$16:$N$2822,0)),\"\")","v":""}]
["06","15","00","0","061501","Powiat","lubelskie","radzyński","radzyński","radzyński - Powiat / Województwo  - lubelskie / 061501 / ",76400949,84505505.877172649,{"$f":"ISNUMBER(SEARCH(Wyszukiwarka!$A$1,'Porównanie dochodów JST'!J2552))","v":false},{"$f":"IF(M2552,COUNTIF($M$16:M2552,TRUE),\"\")","v":""},{"$f":"IFERROR(INDEX($J$16:$J$2822,MATCH(ROWS($J$16:J2552),$N$16:$N$2822,0)),\"\")","v":""}]
["06","16","00","0","061601","Powiat","lubelskie","rycki","rycki","rycki - Powiat / Województwo  - lubelskie / 061601 / ",68181169,74776916,{"$f":"ISNUMBER(SEARCH(Wyszukiwarka!$A$1,'Porównanie dochodów JST'!J2553))","v":false},{"$f":"IF(M2553,COUNTIF($M$16:M2553,TRUE),\"\")","v":""},{"$f":"IFERROR(INDEX($J$16:$J$2822,MATCH(ROWS($J$16:J2553),$N$16:$N$2822,0)),\"\")","v":""}]
["06","17","00","0","061701","Powiat","lubelskie","świdnicki","świdnicki","świdnicki - Powiat / Województwo  - lubelskie / 061701 / ",73988281,82402640,{"$f":"ISNUMBER(SEARCH(Wyszukiwarka!$A$1,'Porównanie dochodów JST'!J2554))","v":false},{"$f":"IF(M2554,COUNTIF($M$16:M2554,TRUE),\"\")","v":""},{"$f":"IFERROR(INDEX($J$16:$J$2822,MATCH(ROWS($J$16:J2554),$N$16:$N$2822,0)),\"\")","v":""}]
["06","18","00","0","061801","Powiat","lubelskie","tomaszowski","tomaszowski","tomaszowski - Powiat / Województwo  - lubelskie / 061801 / ",103409518,111853203,{"$f":"ISNUMBER(SEARCH(Wyszukiwarka!$A$1,'Porównanie dochodów JST'!J2555))","v":false},{"$f":"IF(M2555,COUNTIF($M$16:M2555,TRUE),\"\")","v":""},{"$f":"IFERROR(INDEX($J$16:$J$2822,MATCH(ROWS($J$16:J2555),$N$16:$N$2822,0)),\"\")","v":""}]
["06","19","00","0","061901","Powiat","lubelskie","włodawski","włodawski",{"$f":"I2556&$H$12&F2556&$G$12&$G$14&$H$12&G2556&$G$12&E2556&$G$12","v":"włodawski - Powiat / Województwo  - lubelskie / 061901 / "},61819190,68019932.614726588,{"$f":"ISNUMBER(SEARCH(Wyszukiwarka!$A$1,'Porównanie dochodów JST'!J2556))","v":false},{"$f":"IF(M2556,COUNTIF($M$16:M2556,TRUE),\"\")","v":""},{"$f":"IFERROR(INDEX($J$16:$J$2822,MATCH(ROWS($J$16:J2556),$N$16:$N$2822,0)),\"\")","v":""}]
["06","20","00","0","062001","Powiat","lubelskie","zamojski","zamojski","zamojski - Powiat / Województwo  - lubelskie / 062001 / ",85089765,98317464,{"$f":"ISNUMBER(SEARCH(Wyszukiwarka!$A$1,'Porównanie dochodów JST'!J2557))","v":false},{"$f":"IF(M2557,COUNTIF($M$16:M2557,TRUE),\"\")","v":""},{"$f":"IFERROR(INDEX($J$16:$J$2822,MATCH(ROWS($J$16:J2557),$N$16:$N$2822,0)),\"\")","v":""}]
["08","01","00","0","080101","Powiat","lubuskie","gorzowski","gorzowski","gorzowski - Powiat / Województwo  - lubuskie / 080101 / ",58674798,67819419.359999985,{"$f":"ISNUMBER(SEARCH(Wyszukiwarka!$A$1,'Porównanie dochodów JST'!J2558))","v":false},{"$f":"IF(M2558,COUNTIF($M$16:M2558,TRUE),\"\")","v":""},{"$f":"IFERROR(INDEX($J$16:$J$2822,MATCH(ROWS($J$16:J2558),$N$16:$N$2822,0)),\"\")","v":""}]
["08","02","00","0","080201","Powiat","lubuskie","krośnieński","krośnieński","krośnieński - Powiat / Województwo  - lubuskie / 080201 / ",59727745,66457493.538690194,{"$f":"ISNUMBER(SEARCH(Wyszukiwarka!$A$1,'Porównanie dochodów JST'!J2559))","v":false},{"$f":"IF(M2559,COUNTIF($M$16:M2559,TRUE),\"\")","v":""},{"$f":"IFERROR(INDEX($J$16:$J$2822,MATCH(ROWS($J$16:J2559),$N$16:$N$2822,0)),\"\")","v":""}]
["08","03","00","0","080301","Powiat","lubuskie","międzyrzecki","międzyrzecki","międzyrzecki - Powiat / Województwo  - lubuskie / 080301 / ",67243878,74283162,{"$f":"ISNUMBER(SEARCH(Wyszukiwarka!$A$1,'Porównanie dochodów JST'!J2560))","v":false},{"$f":"IF(M2560,COUNTIF($M$16:M2560,TRUE),\"\")","v":""},{"$f":"IFERROR(INDEX($J$16:$J$2822,MATCH(ROWS($J$16:J2560),$N$16:$N$2822,0)),\"\")","v":""}]
["08","04","00","0","080401","Powiat","lubuskie","nowosolski","nowosolski","nowosolski - Powiat / Województwo  - lubuskie / 080401 / ",98756523,106088541,{"$f":"ISNUMBER(SEARCH(Wyszukiwarka!$A$1,'Porównanie dochodów JST'!J2561))","v":false},{"$f":"IF(M2561,COUNTIF($M$16:M2561,TRUE),\"\")","v":""},{"$f":"IFERROR(INDEX($J$16:$J$2822,MATCH(ROWS($J$16:J2561),$N$16:$N$2822,0)),\"\")","v":""}]
["08","05","00","0","080501","Powiat","lubuskie","słubicki","słubicki","słubicki - Powiat / Województwo  - lubuskie / 080501 / ",52806090,58129143,{"$f":"ISNUMBER(SEARCH(Wyszukiwarka!$A$1,'Porównanie dochodów JST'!J2562))","v":false},{"$f":"IF(M2562,COUNTIF($M$16:M2562,TRUE),\"\")","v":""},{"$f":"IFERROR(INDEX($J$16:$J$2822,MATCH(ROWS($J$16:J2562),$N$16:$N$2822,0)),\"\")","v":""}]
["08","06","00","0","080601","Powiat","lubuskie","strzelecko-drezdenecki","strzelecko-drezdenecki","strzelecko-drezdenecki - Powiat / Województwo  - lubuskie / 080601 / ",58003122,64195088.67776379,{"$f":"ISNUMBER(SEARCH(Wyszukiwarka!$A$1,'Porównanie dochodów JST'!J2563))","v":false},{"$f":"IF(M2563,COUNTIF($M$16:M2563,TRUE),\"\")","v":""},{"$f":"IFERROR(INDEX($J$16:$J$2822,MATCH(ROWS($J$16:J2563),$N$16:$N$2822,0)),\"\")","v":""}]
["08","07","00","0","080701","Powiat","lubuskie","sulęciński","sulęciński","sulęciński - Powiat / Województwo  - lubuskie / 080701 / ",44002121,49091408,{"$f":"ISNUMBER(SEARCH(Wyszukiwarka!$A$1,'Porównanie dochodów JST'!J2564))","v":false},{"$f":"IF(M2564,COUNTIF($M$16:M2564,TRUE),\"\")","v":""},{"$f":"IFERROR(INDEX($J$16:$J$2822,MATCH(ROWS($J$16:J2564),$N$16:$N$2822,0)),\"\")","v":""}]
["08","08","00","0","080801","Powiat","lubuskie","świebodziński","świebodziński","świebodziński - Powiat / Województwo  - lubuskie / 080801 / ",68231759,74811560.57140629,{"$f":"ISNUMBER(SEARCH(Wyszukiwarka!$A$1,'Porównanie dochodów JST'!J2565))","v":false},{"$f":"IF(M2565,COUNTIF($M$16:M2565,TRUE),\"\")","v":""},{"$f":"IFERROR(INDEX($J$16:$J$2822,MATCH(ROWS($J$16:J2565),$N$16:$N$2822,0)),\"\")","v":""}]
["08","09","00","0","080901","Powiat","lubuskie","zielonogórski","zielonogórski","zielonogórski - Powiat / Województwo  - lubuskie / 080901 / ",81651568,90572449.523000002,{"$f":"ISNUMBER(SEARCH(Wyszukiwarka!$A$1,'Porównanie dochodów JST'!J2566))","v":false},{"$f":"IF(M2566,COUNTIF($M$16:M2566,TRUE),\"\")","v":""},{"$f":"IFERROR(INDEX($J$16:$J$2822,MATCH(ROWS($J$16:J2566),$N$16:$N$2822,0)),\"\")","v":""}]
["08","10","00","0","081001","Powiat","lubuskie","żagański","żagański","żagański - Powiat / Województwo  - lubuskie / 081001 / ",84663995,92246002.855552673,{"$f":"ISNUMBER(SEARCH(Wyszukiwarka!$A$1,'Porównanie dochodów JST'!J2567))","v":false},{"$f":"IF(M2567,COUNTIF($M$16:M2567,TRUE),\"\")","v":""},{"$f":"IFERROR(INDEX($J$16:$J$2822,MATCH(ROWS($J$16:J2567),$N$16:$N$2822,0)),\"\")","v":""}]
["08","11","00","0","081101","Powiat","lubuskie","żarski","żarski","żarski - Powiat / Województwo  - lubuskie / 081101 / ",133011071,142688765.18194497,{"$f":"ISNUMBER(SEARCH(Wyszukiwarka!$A$1,'Porównanie dochodów JST'!J2568))","v":false},{"$f":"IF(M2568,COUNTIF($M$16:M2568,TRUE),\"\")","v":""},{"$f":"IFERROR(INDEX($J$16:$J$2822,MATCH(ROWS($J$16:J2568),$N$16:$N$2822,0)),\"\")","v":""}]
["08","12","00","0","081201","Powiat","lubuskie","wschowski","wschowski","wschowski - Powiat / Województwo  - lubuskie / 081201 / ",54254993,59515318,{"$f":"ISNUMBER(SEARCH(Wyszukiwarka!$A$1,'Porównanie dochodów JST'!J2569))","v":false},{"$f":"IF(M2569,COUNTIF($M$16:M2569,TRUE),\"\")","v":""},{"$f":"IFERROR(INDEX($J$16:$J$2822,MATCH(ROWS($J$16:J2569),$N$16:$N$2822,0)),\"\")","v":""}]
["10","01","00","0","100101","Powiat","łódzkie","bełchatowski","bełchatowski","bełchatowski - Powiat / Województwo  - łódzkie / 100101 / ",130525925,149463382.88,{"$f":"ISNUMBER(SEARCH(Wyszukiwarka!$A$1,'Porównanie dochodów JST'!J2570))","v":false},{"$f":"IF(M2570,COUNTIF($M$16:M2570,TRUE),\"\")","v":""},{"$f":"IFERROR(INDEX($J$16:$J$2822,MATCH(ROWS($J$16:J2570),$N$16:$N$2822,0)),\"\")","v":""}]
["10","02","00","0","100201","Powiat","łódzkie","kutnowski","kutnowski","kutnowski - Powiat / Województwo  - łódzkie / 100201 / ",139735527,158540205.59999999,{"$f":"ISNUMBER(SEARCH(Wyszukiwarka!$A$1,'Porównanie dochodów JST'!J2571))","v":false},{"$f":"IF(M2571,COUNTIF($M$16:M2571,TRUE),\"\")","v":""},{"$f":"IFERROR(INDEX($J$16:$J$2822,MATCH(ROWS($J$16:J2571),$N$16:$N$2822,0)),\"\")","v":""}]
["10","03","00","0","100301","Powiat","łódzkie","łaski","łaski","łaski - Powiat / Województwo  - łódzkie / 100301 / ",53453590,59118425,{"$f":"ISNUMBER(SEARCH(Wyszukiwarka!$A$1,'Porównanie dochodów JST'!J2572))","v":false},{"$f":"IF(M2572,COUNTIF($M$16:M2572,TRUE),\"\")","v":""},{"$f":"IFERROR(INDEX($J$16:$J$2822,MATCH(ROWS($J$16:J2572),$N$16:$N$2822,0)),\"\")","v":""}]
["10","04","00","0","100401","Powiat","łódzkie","łęczycki","łęczycki","łęczycki - Powiat / Województwo  - łódzkie / 100401 / ",73532757,79312281.883413672,{"$f":"ISNUMBER(SEARCH(Wyszukiwarka!$A$1,'Porównanie dochodów JST'!J2573))","v":false},{"$f":"IF(M2573,COUNTIF($M$16:M2573,TRUE),\"\")","v":""},{"$f":"IFERROR(INDEX($J$16:$J$2822,MATCH(ROWS($J$16:J2573),$N$16:$N$2822,0)),\"\")","v":""}]
["10","05","00","0","100501","Powiat","łódzkie","łowicki","łowicki","łowicki - Powiat / Województwo  - łódzkie / 100501 / ",101959764,109331364,{"$f":"ISNUMBER(SEARCH(Wyszukiwarka!$A$1,'Porównanie dochodów JST'!J2574))","v":false},{"$f":"IF(M2574,COUNTIF($M$16:M2574,TRUE),\"\")","v":""},{"$f":"IFERROR(INDEX($J$16:$J$2822,MATCH(ROWS($J$16:J2574),$N$16:$N$2822,0)),\"\")","v":""}]
["10","06","00","0","100601","Powiat","łódzkie","łódzki wschodni","łódzki wschodni","łódzki wschodni - Powiat / Województwo  - łódzkie / 100601 / ",66209034,76655006.400000006,{"$f":"ISNUMBER(SEARCH(Wyszukiwarka!$A$1,'Porównanie dochodów JST'!J2575))","v":false},{"$f":"IF(M2575,COUNTIF($M$16:M2575,TRUE),\"\")","v":""},{"$f":"IFERROR(INDEX($J$16:$J$2822,MATCH(ROWS($J$16:J2575),$N$16:$N$2822,0)),\"\")","v":""}]
["10","07","00","0","100701","Powiat","łódzkie","opoczyński","opoczyński","opoczyński - Powiat / Województwo  - łódzkie / 100701 / ",91581408,97872640,{"$f":"ISNUMBER(SEARCH(Wyszukiwarka!$A$1,'Porównanie dochodów JST'!J2576))","v":false},{"$f":"IF(M2576,COUNTIF($M$16:M2576,TRUE),\"\")","v":""},{"$f":"IFERROR(INDEX($J$16:$J$2822,MATCH(ROWS($J$16:J2576),$N$16:$N$2822,0)),\"\")","v":""}]
["10","08","00","0","100801","Powiat","łódzkie","pabianicki","pabianicki","pabianicki - Powiat / Województwo  - łódzkie / 100801 / ",116033033,133809357.92,{"$f":"ISNUMBER(SEARCH(Wyszukiwarka!$A$1,'Porównanie dochodów JST'!J2577))","v":false},{"$f":"IF(M2577,COUNTIF($M$16:M2577,TRUE),\"\")","v":""},{"$f":"IFERROR(INDEX($J$16:$J$2822,MATCH(ROWS($J$16:J2577),$N$16:$N$2822,0)),\"\")","v":""}]
["10","09","00","0","100901","Powiat","łódzkie","pajęczański","pajęczański","pajęczański - Powiat / Województwo  - łódzkie / 100901 / ",52795395,58906385.675199993,{"$f":"ISNUMBER(SEARCH(Wyszukiwarka!$A$1,'Porównanie dochodów JST'!J2578))","v":false},{"$f":"IF(M2578,COUNTIF($M$16:M2578,TRUE),\"\")","v":""},{"$f":"IFERROR(INDEX($J$16:$J$2822,MATCH(ROWS($J$16:J2578),$N$16:$N$2822,0)),\"\")","v":""}]
["10","10","00","0","101001","Powiat","łódzkie","piotrkowski","piotrkowski","piotrkowski - Powiat / Województwo  - łódzkie / 101001 / ",72128820,79980150.788600013,{"$f":"ISNUMBER(SEARCH(Wyszukiwarka!$A$1,'Porównanie dochodów JST'!J2579))","v":false},{"$f":"IF(M2579,COUNTIF($M$16:M2579,TRUE),\"\")","v":""},{"$f":"IFERROR(INDEX($J$16:$J$2822,MATCH(ROWS($J$16:J2579),$N$16:$N$2822,0)),\"\")","v":""}]
["10","11","00","0","101101","Powiat","łódzkie","poddębicki","poddębicki","poddębicki - Powiat / Województwo  - łódzkie / 101101 / ",45994418,51250359,{"$f":"ISNUMBER(SEARCH(Wyszukiwarka!$A$1,'Porównanie dochodów JST'!J2580))","v":false},{"$f":"IF(M2580,COUNTIF($M$16:M2580,TRUE),\"\")","v":""},{"$f":"IFERROR(INDEX($J$16:$J$2822,MATCH(ROWS($J$16:J2580),$N$16:$N$2822,0)),\"\")","v":""}]
["10","12","00","0","101201","Powiat","łódzkie","radomszczański","radomszczański","radomszczański - Powiat / Województwo  - łódzkie / 101201 / ",136898633,146062194,{"$f":"ISNUMBER(SEARCH(Wyszukiwarka!$A$1,'Porównanie dochodów JST'!J2581))","v":false},{"$f":"IF(M2581,COUNTIF($M$16:M2581,TRUE),\"\")","v":""},{"$f":"IFERROR(INDEX($J$16:$J$2822,MATCH(ROWS($J$16:J2581),$N$16:$N$2822,0)),\"\")","v":""}]
["10","13","00","0","101301","Powiat","łódzkie","rawski","rawski","rawski - Powiat / Województwo  - łódzkie / 101301 / ",74999416,80432586.795912042,{"$f":"ISNUMBER(SEARCH(Wyszukiwarka!$A$1,'Porównanie dochodów JST'!J2582))","v":false},{"$f":"IF(M2582,COUNTIF($M$16:M2582,TRUE),\"\")","v":""},{"$f":"IFERROR(INDEX($J$16:$J$2822,MATCH(ROWS($J$16:J2582),$N$16:$N$2822,0)),\"\")","v":""}]
["10","14","00","0","101401","Powiat","łódzkie","sieradzki","sieradzki","sieradzki - Powiat / Województwo  - łódzkie / 101401 / ",140548031,161286058.07999998,{"$f":"ISNUMBER(SEARCH(Wyszukiwarka!$A$1,'Porównanie dochodów JST'!J2583))","v":false},{"$f":"IF(M2583,COUNTIF($M$16:M2583,TRUE),\"\")","v":""},{"$f":"IFERROR(INDEX($J$16:$J$2822,MATCH(ROWS($J$16:J2583),$N$16:$N$2822,0)),\"\")","v":""}]
["10","15","00","0","101501","Powiat","łódzkie","skierniewicki","skierniewicki","skierniewicki - Powiat / Województwo  - łódzkie / 101501 / ",29920708,34042204.899999991,{"$f":"ISNUMBER(SEARCH(Wyszukiwarka!$A$1,'Porównanie dochodów JST'!J2584))","v":false},{"$f":"IF(M2584,COUNTIF($M$16:M2584,TRUE),\"\")","v":""},{"$f":"IFERROR(INDEX($J$16:$J$2822,MATCH(ROWS($J$16:J2584),$N$16:$N$2822,0)),\"\")","v":""}]
["10","16","00","0","101601","Powiat","łódzkie","tomaszowski","tomaszowski","tomaszowski - Powiat / Województwo  - łódzkie / 101601 / ",145366616,159305452.73243254,{"$f":"ISNUMBER(SEARCH(Wyszukiwarka!$A$1,'Porównanie dochodów JST'!J2585))","v":false},{"$f":"IF(M2585,COUNTIF($M$16:M2585,TRUE),\"\")","v":""},{"$f":"IFERROR(INDEX($J$16:$J$2822,MATCH(ROWS($J$16:J2585),$N$16:$N$2822,0)),\"\")","v":""}]
["10","17","00","0","101701","Powiat","łódzkie","wieluński","wieluński","wieluński - Powiat / Województwo  - łódzkie / 101701 / ",117823597,124813109.73749696,{"$f":"ISNUMBER(SEARCH(Wyszukiwarka!$A$1,'Porównanie dochodów JST'!J2586))","v":false},{"$f":"IF(M2586,COUNTIF($M$16:M2586,TRUE),\"\")","v":""},{"$f":"IFERROR(INDEX($J$16:$J$2822,MATCH(ROWS($J$16:J2586),$N$16:$N$2822,0)),\"\")","v":""}]
["10","18","00","0","101801","Powiat","łódzkie","wieruszowski","wieruszowski","wieruszowski - Powiat / Województwo  - łódzkie / 101801 / ",41209355,46526946,{"$f":"ISNUMBER(SEARCH(Wyszukiwarka!$A$1,'Porównanie dochodów JST'!J2587))","v":false},{"$f":"IF(M2587,COUNTIF($M$16:M2587,TRUE),\"\")","v":""},{"$f":"IFERROR(INDEX($J$16:$J$2822,MATCH(ROWS($J$16:J2587),$N$16:$N$2822,0)),\"\")","v":""}]
["10","19","00","0","101901","Powiat","łódzkie","zduńskowolski","zduńskowolski","zduńskowolski - Powiat / Województwo  - łódzkie / 101901 / ",108787395,123298352.8,{"$f":"ISNUMBER(SEARCH(Wyszukiwarka!$A$1,'Porównanie dochodów JST'!J2588))","v":false},{"$f":"IF(M2588,COUNTIF($M$16:M2588,TRUE),\"\")","v":""},{"$f":"IFERROR(INDEX($J$16:$J$2822,MATCH(ROWS($J$16:J2588),$N$16:$N$2822,0)),\"\")","v":""}]
["10","20","00","0","102001","Powiat","łódzkie","zgierski","zgierski","zgierski - Powiat / Województwo  - łódzkie / 102001 / ",182969754,195357201.51940006,{"$f":"ISNUMBER(SEARCH(Wyszukiwarka!$A$1,'Porównanie dochodów JST'!J2589))","v":false},{"$f":"IF(M2589,COUNTIF($M$16:M2589,TRUE),\"\")","v":""},{"$f":"IFERROR(INDEX($J$16:$J$2822,MATCH(ROWS($J$16:J2589),$N$16:$N$2822,0)),\"\")","v":""}]
["10","21","00","0","102101","Powiat","łódzkie","brzeziński","brzeziński","brzeziński - Powiat / Województwo  - łódzkie / 102101 / ",30944435,35493130.805377625,{"$f":"ISNUMBER(SEARCH(Wyszukiwarka!$A$1,'Porównanie dochodów JST'!J2590))","v":false},{"$f":"IF(M2590,COUNTIF($M$16:M2590,TRUE),\"\")","v":""},{"$f":"IFERROR(INDEX($J$16:$J$2822,MATCH(ROWS($J$16:J2590),$N$16:$N$2822,0)),\"\")","v":""}]
["12","01","00","0","120101","Powiat","małopolskie","bocheński","bocheński","bocheński - Powiat / Województwo  - małopolskie / 120101 / ",143147308,152077473.75034463,{"$f":"ISNUMBER(SEARCH(Wyszukiwarka!$A$1,'Porównanie dochodów JST'!J2591))","v":false},{"$f":"IF(M2591,COUNTIF($M$16:M2591,TRUE),\"\")","v":""},{"$f":"IFERROR(INDEX($J$16:$J$2822,MATCH(ROWS($J$16:J2591),$N$16:$N$2822,0)),\"\")","v":""}]
["12","02","00","0","120201","Powiat","małopolskie","brzeski","brzeski","brzeski - Powiat / Województwo  - małopolskie / 120201 / ",103074380,110458848,{"$f":"ISNUMBER(SEARCH(Wyszukiwarka!$A$1,'Porównanie dochodów JST'!J2592))","v":false},{"$f":"IF(M2592,COUNTIF($M$16:M2592,TRUE),\"\")","v":""},{"$f":"IFERROR(INDEX($J$16:$J$2822,MATCH(ROWS($J$16:J2592),$N$16:$N$2822,0)),\"\")","v":""}]
["12","03","00","0","120301","Powiat","małopolskie","chrzanowski","chrzanowski","chrzanowski - Powiat / Województwo  - małopolskie / 120301 / ",143665578,152898033,{"$f":"ISNUMBER(SEARCH(Wyszukiwarka!$A$1,'Porównanie dochodów JST'!J2593))","v":false},{"$f":"IF(M2593,COUNTIF($M$16:M2593,TRUE),\"\")","v":""},{"$f":"IFERROR(INDEX($J$16:$J$2822,MATCH(ROWS($J$16:J2593),$N$16:$N$2822,0)),\"\")","v":""}]
["12","04","00","0","120401","Powiat","małopolskie","dąbrowski","dąbrowski","dąbrowski - Powiat / Województwo  - małopolskie / 120401 / ",68384783,75796816.953544289,{"$f":"ISNUMBER(SEARCH(Wyszukiwarka!$A$1,'Porównanie dochodów JST'!J2594))","v":false},{"$f":"IF(M2594,COUNTIF($M$16:M2594,TRUE),\"\")","v":""},{"$f":"IFERROR(INDEX($J$16:$J$2822,MATCH(ROWS($J$16:J2594),$N$16:$N$2822,0)),\"\")","v":""}]
["12","05","00","0","120501","Powiat","małopolskie","gorlicki","gorlicki","gorlicki - Powiat / Województwo  - małopolskie / 120501 / ",133383532,142421623,{"$f":"ISNUMBER(SEARCH(Wyszukiwarka!$A$1,'Porównanie dochodów JST'!J2595))","v":false},{"$f":"IF(M2595,COUNTIF($M$16:M2595,TRUE),\"\")","v":""},{"$f":"IFERROR(INDEX($J$16:$J$2822,MATCH(ROWS($J$16:J2595),$N$16:$N$2822,0)),\"\")","v":""}]
["12","06","00","0","120601","Powiat","małopolskie","krakowski","krakowski","krakowski - Powiat / Województwo  - małopolskie / 120601 / ",246868770,287098969.92000002,{"$f":"ISNUMBER(SEARCH(Wyszukiwarka!$A$1,'Porównanie dochodów JST'!J2596))","v":false},{"$f":"IF(M2596,COUNTIF($M$16:M2596,TRUE),\"\")","v":""},{"$f":"IFERROR(INDEX($J$16:$J$2822,MATCH(ROWS($J$16:J2596),$N$16:$N$2822,0)),\"\")","v":""}]
["12","07","00","0","120701","Powiat","małopolskie","limanowski","limanowski","limanowski - Powiat / Województwo  - małopolskie / 120701 / ",170641259,184405876.03130573,{"$f":"ISNUMBER(SEARCH(Wyszukiwarka!$A$1,'Porównanie dochodów JST'!J2597))","v":false},{"$f":"IF(M2597,COUNTIF($M$16:M2597,TRUE),\"\")","v":""},{"$f":"IFERROR(INDEX($J$16:$J$2822,MATCH(ROWS($J$16:J2597),$N$16:$N$2822,0)),\"\")","v":""}]
["12","08","00","0","120801","Powiat","małopolskie","miechowski","miechowski","miechowski - Powiat / Województwo  - małopolskie / 120801 / ",70161138,75942052.5101206,{"$f":"ISNUMBER(SEARCH(Wyszukiwarka!$A$1,'Porównanie dochodów JST'!J2598))","v":false},{"$f":"IF(M2598,COUNTIF($M$16:M2598,TRUE),\"\")","v":""},{"$f":"IFERROR(INDEX($J$16:$J$2822,MATCH(ROWS($J$16:J2598),$N$16:$N$2822,0)),\"\")","v":""}]
["12","09","00","0","120901","Powiat","małopolskie","myślenicki","myślenicki","myślenicki - Powiat / Województwo  - małopolskie / 120901 / ",151619109,161235044.17108911,{"$f":"ISNUMBER(SEARCH(Wyszukiwarka!$A$1,'Porównanie dochodów JST'!J2599))","v":false},{"$f":"IF(M2599,COUNTIF($M$16:M2599,TRUE),\"\")","v":""},{"$f":"IFERROR(INDEX($J$16:$J$2822,MATCH(ROWS($J$16:J2599),$N$16:$N$2822,0)),\"\")","v":""}]
["12","10","00","0","121001","Powiat","małopolskie","nowosądecki","nowosądecki","nowosądecki - Powiat / Województwo  - małopolskie / 121001 / ",191956990,213497872.50634024,{"$f":"ISNUMBER(SEARCH(Wyszukiwarka!$A$1,'Porównanie dochodów JST'!J2600))","v":false},{"$f":"IF(M2600,COUNTIF($M$16:M2600,TRUE),\"\")","v":""},{"$f":"IFERROR(INDEX($J$16:$J$2822,MATCH(ROWS($J$16:J2600),$N$16:$N$2822,0)),\"\")","v":""}]
["12","11","00","0","121101","Powiat","małopolskie","nowotarski","nowotarski","nowotarski - Powiat / Województwo  - małopolskie / 121101 / ",243887614,258912885.62472594,{"$f":"ISNUMBER(SEARCH(Wyszukiwarka!$A$1,'Porównanie dochodów JST'!J2601))","v":false},{"$f":"IF(M2601,COUNTIF($M$16:M2601,TRUE),\"\")","v":""},{"$f":"IFERROR(INDEX($J$16:$J$2822,MATCH(ROWS($J$16:J2601),$N$16:$N$2822,0)),\"\")","v":""}]
["12","12","00","0","121201","Powiat","małopolskie","olkuski","olkuski","olkuski - Powiat / Województwo  - małopolskie / 121201 / ",147125058,156325139.32246414,{"$f":"ISNUMBER(SEARCH(Wyszukiwarka!$A$1,'Porównanie dochodów JST'!J2602))","v":false},{"$f":"IF(M2602,COUNTIF($M$16:M2602,TRUE),\"\")","v":""},{"$f":"IFERROR(INDEX($J$16:$J$2822,MATCH(ROWS($J$16:J2602),$N$16:$N$2822,0)),\"\")","v":""}]
["12","13","00","0","121301","Powiat","małopolskie","oświęcimski","oświęcimski","oświęcimski - Powiat / Województwo  - małopolskie / 121301 / ",208508124,221049663.9637627,{"$f":"ISNUMBER(SEARCH(Wyszukiwarka!$A$1,'Porównanie dochodów JST'!J2603))","v":false},{"$f":"IF(M2603,COUNTIF($M$16:M2603,TRUE),\"\")","v":""},{"$f":"IFERROR(INDEX($J$16:$J$2822,MATCH(ROWS($J$16:J2603),$N$16:$N$2822,0)),\"\")","v":""}]
["12","14","00","0","121401","Powiat","małopolskie","proszowicki","proszowicki","proszowicki - Powiat / Województwo  - małopolskie / 121401 / ",38818951,44077290.63603726,{"$f":"ISNUMBER(SEARCH(Wyszukiwarka!$A$1,'Porównanie dochodów JST'!J2604))","v":false},{"$f":"IF(M2604,COUNTIF($M$16:M2604,TRUE),\"\")","v":""},{"$f":"IFERROR(INDEX($J$16:$J$2822,MATCH(ROWS($J$16:J2604),$N$16:$N$2822,0)),\"\")","v":""}]
["12","15","00","0","121501","Powiat","małopolskie","suski","suski","suski - Powiat / Województwo  - małopolskie / 121501 / ",110023135,125301248.20806733,{"$f":"ISNUMBER(SEARCH(Wyszukiwarka!$A$1,'Porównanie dochodów JST'!J2605))","v":false},{"$f":"IF(M2605,COUNTIF($M$16:M2605,TRUE),\"\")","v":""},{"$f":"IFERROR(INDEX($J$16:$J$2822,MATCH(ROWS($J$16:J2605),$N$16:$N$2822,0)),\"\")","v":""}]
["12","16","00","0","121601","Powiat","małopolskie","tarnowski","tarnowski","tarnowski - Powiat / Województwo  - małopolskie / 121601 / ",171339300,190182362.70736253,{"$f":"ISNUMBER(SEARCH(Wyszukiwarka!$A$1,'Porównanie dochodów JST'!J2606))","v":false},{"$f":"IF(M2606,COUNTIF($M$16:M2606,TRUE),\"\")","v":""},{"$f":"IFERROR(INDEX($J$16:$J$2822,MATCH(ROWS($J$16:J2606),$N$16:$N$2822,0)),\"\")","v":""}]
["12","17","00","0","121701","Powiat","małopolskie","tatrzański","tatrzański","tatrzański - Powiat / Województwo  - małopolskie / 121701 / ",71276206,82249798.400000006,{"$f":"ISNUMBER(SEARCH(Wyszukiwarka!$A$1,'Porównanie dochodów JST'!J2607))","v":false},{"$f":"IF(M2607,COUNTIF($M$16:M2607,TRUE),\"\")","v":""},{"$f":"IFERROR(INDEX($J$16:$J$2822,MATCH(ROWS($J$16:J2607),$N$16:$N$2822,0)),\"\")","v":""}]
["12","18","00","0","121801","Powiat","małopolskie","wadowicki","wadowicki","wadowicki - Powiat / Województwo  - małopolskie / 121801 / ",193437675,205723821.50503087,{"$f":"ISNUMBER(SEARCH(Wyszukiwarka!$A$1,'Porównanie dochodów JST'!J2608))","v":false},{"$f":"IF(M2608,COUNTIF($M$16:M2608,TRUE),\"\")","v":""},{"$f":"IFERROR(INDEX($J$16:$J$2822,MATCH(ROWS($J$16:J2608),$N$16:$N$2822,0)),\"\")","v":""}]
["12","19","00","0","121901","Powiat","małopolskie","wielicki","wielicki","wielicki - Powiat / Województwo  - małopolskie / 121901 / ",127163590,146705078.24000001,{"$f":"ISNUMBER(SEARCH(Wyszukiwarka!$A$1,'Porównanie dochodów JST'!J2609))","v":false},{"$f":"IF(M2609,COUNTIF($M$16:M2609,TRUE),\"\")","v":""},{"$f":"IFERROR(INDEX($J$16:$J$2822,MATCH(ROWS($J$16:J2609),$N$16:$N$2822,0)),\"\")","v":""}]
["14","01","00","0","140101","Powiat","mazowieckie","białobrzeski","białobrzeski","białobrzeski - Powiat / Województwo  - mazowieckie / 140101 / ",40683251,46380846.728157967,{"$f":"ISNUMBER(SEARCH(Wyszukiwarka!$A$1,'Porównanie dochodów JST'!J2610))","v":false},{"$f":"IF(M2610,COUNTIF($M$16:M2610,TRUE),\"\")","v":""},{"$f":"IFERROR(INDEX($J$16:$J$2822,MATCH(ROWS($J$16:J2610),$N$16:$N$2822,0)),\"\")","v":""}]
["14","02","00","0","140201","Powiat","mazowieckie","ciechanowski","ciechanowski","ciechanowski - Powiat / Województwo  - mazowieckie / 140201 / ",123048082,142145469.75999999,{"$f":"ISNUMBER(SEARCH(Wyszukiwarka!$A$1,'Porównanie dochodów JST'!J2611))","v":false},{"$f":"IF(M2611,COUNTIF($M$16:M2611,TRUE),\"\")","v":""},{"$f":"IFERROR(INDEX($J$16:$J$2822,MATCH(ROWS($J$16:J2611),$N$16:$N$2822,0)),\"\")","v":""}]
["14","03","00","0","140301","Powiat","mazowieckie","garwoliński","garwoliński","garwoliński - Powiat / Województwo  - mazowieckie / 140301 / ",177905137,191706229.10797036,{"$f":"ISNUMBER(SEARCH(Wyszukiwarka!$A$1,'Porównanie dochodów JST'!J2612))","v":false},{"$f":"IF(M2612,COUNTIF($M$16:M2612,TRUE),\"\")","v":""},{"$f":"IFERROR(INDEX($J$16:$J$2822,MATCH(ROWS($J$16:J2612),$N$16:$N$2822,0)),\"\")","v":""}]
["14","04","00","0","140401","Powiat","mazowieckie","gostyniński","gostyniński","gostyniński - Powiat / Województwo  - mazowieckie / 140401 / ",66530846,71944172.784576327,{"$f":"ISNUMBER(SEARCH(Wyszukiwarka!$A$1,'Porównanie dochodów JST'!J2613))","v":false},{"$f":"IF(M2613,COUNTIF($M$16:M2613,TRUE),\"\")","v":""},{"$f":"IFERROR(INDEX($J$16:$J$2822,MATCH(ROWS($J$16:J2613),$N$16:$N$2822,0)),\"\")","v":""}]
["14","05","00","0","140501","Powiat","mazowieckie","grodziski","grodziski","grodziski - Powiat / Województwo  - mazowieckie / 140501 / ",135437788,154277787.23206133,{"$f":"ISNUMBER(SEARCH(Wyszukiwarka!$A$1,'Porównanie dochodów JST'!J2614))","v":false},{"$f":"IF(M2614,COUNTIF($M$16:M2614,TRUE),\"\")","v":""},{"$f":"IFERROR(INDEX($J$16:$J$2822,MATCH(ROWS($J$16:J2614),$N$16:$N$2822,0)),\"\")","v":""}]
["14","06","00","0","140601","Powiat","mazowieckie","grójecki","grójecki","grójecki - Powiat / Województwo  - mazowieckie / 140601 / ",134179181,148078296.65326646,{"$f":"ISNUMBER(SEARCH(Wyszukiwarka!$A$1,'Porównanie dochodów JST'!J2615))","v":false},{"$f":"IF(M2615,COUNTIF($M$16:M2615,TRUE),\"\")","v":""},{"$f":"IFERROR(INDEX($J$16:$J$2822,MATCH(ROWS($J$16:J2615),$N$16:$N$2822,0)),\"\")","v":""}]
["14","07","00","0","140701","Powiat","mazowieckie","kozienicki","kozienicki","kozienicki - Powiat / Województwo  - mazowieckie / 140701 / ",69825516,77798904.848113179,{"$f":"ISNUMBER(SEARCH(Wyszukiwarka!$A$1,'Porównanie dochodów JST'!J2616))","v":false},{"$f":"IF(M2616,COUNTIF($M$16:M2616,TRUE),\"\")","v":""},{"$f":"IFERROR(INDEX($J$16:$J$2822,MATCH(ROWS($J$16:J2616),$N$16:$N$2822,0)),\"\")","v":""}]
["14","08","00","0","140801","Powiat","mazowieckie","legionowski","legionowski","legionowski - Powiat / Województwo  - mazowieckie / 140801 / ",137255775,158711940.80000001,{"$f":"ISNUMBER(SEARCH(Wyszukiwarka!$A$1,'Porównanie dochodów JST'!J2617))","v":false},{"$f":"IF(M2617,COUNTIF($M$16:M2617,TRUE),\"\")","v":""},{"$f":"IFERROR(INDEX($J$16:$J$2822,MATCH(ROWS($J$16:J2617),$N$16:$N$2822,0)),\"\")","v":""}]
["14","09","00","0","140901","Powiat","mazowieckie","lipski","lipski","lipski - Powiat / Województwo  - mazowieckie / 140901 / ",65768035,70939561,{"$f":"ISNUMBER(SEARCH(Wyszukiwarka!$A$1,'Porównanie dochodów JST'!J2618))","v":false},{"$f":"IF(M2618,COUNTIF($M$16:M2618,TRUE),\"\")","v":""},{"$f":"IFERROR(INDEX($J$16:$J$2822,MATCH(ROWS($J$16:J2618),$N$16:$N$2822,0)),\"\")","v":""}]
["14","10","00","0","141001","Powiat","mazowieckie","łosicki","łosicki","łosicki - Powiat / Województwo  - mazowieckie / 141001 / ",47571512,52664425,{"$f":"ISNUMBER(SEARCH(Wyszukiwarka!$A$1,'Porównanie dochodów JST'!J2619))","v":false},{"$f":"IF(M2619,COUNTIF($M$16:M2619,TRUE),\"\")","v":""},{"$f":"IFERROR(INDEX($J$16:$J$2822,MATCH(ROWS($J$16:J2619),$N$16:$N$2822,0)),\"\")","v":""}]
["14","11","00","0","141101","Powiat","mazowieckie","makowski","makowski",{"$f":"I2620&$H$12&F2620&$G$12&$G$14&$H$12&G2620&$G$12&E2620&$G$12","v":"makowski - Powiat / Województwo  - mazowieckie / 141101 / "},73581208,81101773,{"$f":"ISNUMBER(SEARCH(Wyszukiwarka!$A$1,'Porównanie dochodów JST'!J2620))","v":false},{"$f":"IF(M2620,COUNTIF($M$16:M2620,TRUE),\"\")","v":""},{"$f":"IFERROR(INDEX($J$16:$J$2822,MATCH(ROWS($J$16:J2620),$N$16:$N$2822,0)),\"\")","v":""}]
["14","12","00","0","141201","Powiat","mazowieckie","miński","miński","miński - Powiat / Województwo  - mazowieckie / 141201 / ",208294757,221147852.53072646,{"$f":"ISNUMBER(SEARCH(Wyszukiwarka!$A$1,'Porównanie dochodów JST'!J2621))","v":false},{"$f":"IF(M2621,COUNTIF($M$16:M2621,TRUE),\"\")","v":""},{"$f":"IFERROR(INDEX($J$16:$J$2822,MATCH(ROWS($J$16:J2621),$N$16:$N$2822,0)),\"\")","v":""}]
["14","13","00","0","141301","Powiat","mazowieckie","mławski","mławski","mławski - Powiat / Województwo  - mazowieckie / 141301 / ",102257411,109075463,{"$f":"ISNUMBER(SEARCH(Wyszukiwarka!$A$1,'Porównanie dochodów JST'!J2622))","v":false},{"$f":"IF(M2622,COUNTIF($M$16:M2622,TRUE),\"\")","v":""},{"$f":"IFERROR(INDEX($J$16:$J$2822,MATCH(ROWS($J$16:J2622),$N$16:$N$2822,0)),\"\")","v":""}]
["14","14","00","0","141401","Powiat","mazowieckie","nowodworski","nowodworski","nowodworski - Powiat / Województwo  - mazowieckie / 141401 / ",76825274,89848591.840000004,{"$f":"ISNUMBER(SEARCH(Wyszukiwarka!$A$1,'Porównanie dochodów JST'!J2623))","v":false},{"$f":"IF(M2623,COUNTIF($M$16:M2623,TRUE),\"\")","v":""},{"$f":"IFERROR(INDEX($J$16:$J$2822,MATCH(ROWS($J$16:J2623),$N$16:$N$2822,0)),\"\")","v":""}]
["14","15","00","0","141501","Powiat","mazowieckie","ostrołęcki","ostrołęcki","ostrołęcki - Powiat / Województwo  - mazowieckie / 141501 / ",96453629,107976129.99709088,{"$f":"ISNUMBER(SEARCH(Wyszukiwarka!$A$1,'Porównanie dochodów JST'!J2624))","v":false},{"$f":"IF(M2624,COUNTIF($M$16:M2624,TRUE),\"\")","v":""},{"$f":"IFERROR(INDEX($J$16:$J$2822,MATCH(ROWS($J$16:J2624),$N$16:$N$2822,0)),\"\")","v":""}]
["14","16","00","0","141601","Powiat","mazowieckie","ostrowski","ostrowski","ostrowski - Powiat / Województwo  - mazowieckie / 141601 / ",92415343,101641207,{"$f":"ISNUMBER(SEARCH(Wyszukiwarka!$A$1,'Porównanie dochodów JST'!J2625))","v":false},{"$f":"IF(M2625,COUNTIF($M$16:M2625,TRUE),\"\")","v":""},{"$f":"IFERROR(INDEX($J$16:$J$2822,MATCH(ROWS($J$16:J2625),$N$16:$N$2822,0)),\"\")","v":""}]
["14","17","00","0","141701","Powiat","mazowieckie","otwocki","otwocki","otwocki - Powiat / Województwo  - mazowieckie / 141701 / ",186621562,203380056.40874097,{"$f":"ISNUMBER(SEARCH(Wyszukiwarka!$A$1,'Porównanie dochodów JST'!J2626))","v":false},{"$f":"IF(M2626,COUNTIF($M$16:M2626,TRUE),\"\")","v":""},{"$f":"IFERROR(INDEX($J$16:$J$2822,MATCH(ROWS($J$16:J2626),$N$16:$N$2822,0)),\"\")","v":""}]
["14","18","00","0","141801","Powiat","mazowieckie","piaseczyński","piaseczyński","piaseczyński - Powiat / Województwo  - mazowieckie / 141801 / ",293541110,339211493.60000002,{"$f":"ISNUMBER(SEARCH(Wyszukiwarka!$A$1,'Porównanie dochodów JST'!J2627))","v":false},{"$f":"IF(M2627,COUNTIF($M$16:M2627,TRUE),\"\")","v":""},{"$f":"IFERROR(INDEX($J$16:$J$2822,MATCH(ROWS($J$16:J2627),$N$16:$N$2822,0)),\"\")","v":""}]
["14","19","00","0","141901","Powiat","mazowieckie","płocki","płocki","płocki - Powiat / Województwo  - mazowieckie / 141901 / ",110059123,123919551,{"$f":"ISNUMBER(SEARCH(Wyszukiwarka!$A$1,'Porównanie dochodów JST'!J2628))","v":false},{"$f":"IF(M2628,COUNTIF($M$16:M2628,TRUE),\"\")","v":""},{"$f":"IFERROR(INDEX($J$16:$J$2822,MATCH(ROWS($J$16:J2628),$N$16:$N$2822,0)),\"\")","v":""}]
["14","20","00","0","142001","Powiat","mazowieckie","płoński","płoński","płoński - Powiat / Województwo  - mazowieckie / 142001 / ",153495261,160317408.07318813,{"$f":"ISNUMBER(SEARCH(Wyszukiwarka!$A$1,'Porównanie dochodów JST'!J2629))","v":false},{"$f":"IF(M2629,COUNTIF($M$16:M2629,TRUE),\"\")","v":""},{"$f":"IFERROR(INDEX($J$16:$J$2822,MATCH(ROWS($J$16:J2629),$N$16:$N$2822,0)),\"\")","v":""}]
["14","21","00","0","142101","Powiat","mazowieckie","pruszkowski","pruszkowski","pruszkowski - Powiat / Województwo  - mazowieckie / 142101 / ",192105721,224383695.19999999,{"$f":"ISNUMBER(SEARCH(Wyszukiwarka!$A$1,'Porównanie dochodów JST'!J2630))","v":false},{"$f":"IF(M2630,COUNTIF($M$16:M2630,TRUE),\"\")","v":""},{"$f":"IFERROR(INDEX($J$16:$J$2822,MATCH(ROWS($J$16:J2630),$N$16:$N$2822,0)),\"\")","v":""}]
["14","22","00","0","142201","Powiat","mazowieckie","przasnyski","przasnyski","przasnyski - Powiat / Województwo  - mazowieckie / 142201 / ",93659178,99331255.902252138,{"$f":"ISNUMBER(SEARCH(Wyszukiwarka!$A$1,'Porównanie dochodów JST'!J2631))","v":false},{"$f":"IF(M2631,COUNTIF($M$16:M2631,TRUE),\"\")","v":""},{"$f":"IFERROR(INDEX($J$16:$J$2822,MATCH(ROWS($J$16:J2631),$N$16:$N$2822,0)),\"\")","v":""}]
["14","23","00","0","142301","Powiat","mazowieckie","przysuski","przysuski","przysuski - Powiat / Województwo  - mazowieckie / 142301 / ",105538264,111103331.75967215,{"$f":"ISNUMBER(SEARCH(Wyszukiwarka!$A$1,'Porównanie dochodów JST'!J2632))","v":false},{"$f":"IF(M2632,COUNTIF($M$16:M2632,TRUE),\"\")","v":""},{"$f":"IFERROR(INDEX($J$16:$J$2822,MATCH(ROWS($J$16:J2632),$N$16:$N$2822,0)),\"\")","v":""}]
["14","24","00","0","142401","Powiat","mazowieckie","pułtuski","pułtuski","pułtuski - Powiat / Województwo  - mazowieckie / 142401 / ",78416758,87906150.561083987,{"$f":"ISNUMBER(SEARCH(Wyszukiwarka!$A$1,'Porównanie dochodów JST'!J2633))","v":false},{"$f":"IF(M2633,COUNTIF($M$16:M2633,TRUE),\"\")","v":""},{"$f":"IFERROR(INDEX($J$16:$J$2822,MATCH(ROWS($J$16:J2633),$N$16:$N$2822,0)),\"\")","v":""}]
["14","25","00","0","142501","Powiat","mazowieckie","radomski","radomski","radomski - Powiat / Województwo  - mazowieckie / 142501 / ",187628148,205448849.38751292,{"$f":"ISNUMBER(SEARCH(Wyszukiwarka!$A$1,'Porównanie dochodów JST'!J2634))","v":false},{"$f":"IF(M2634,COUNTIF($M$16:M2634,TRUE),\"\")","v":""},{"$f":"IFERROR(INDEX($J$16:$J$2822,MATCH(ROWS($J$16:J2634),$N$16:$N$2822,0)),\"\")","v":""}]
["14","26","00","0","142601","Powiat","mazowieckie","siedlecki","siedlecki","siedlecki - Powiat / Województwo  - mazowieckie / 142601 / ",74254750,81636391.610999987,{"$f":"ISNUMBER(SEARCH(Wyszukiwarka!$A$1,'Porównanie dochodów JST'!J2635))","v":false},{"$f":"IF(M2635,COUNTIF($M$16:M2635,TRUE),\"\")","v":""},{"$f":"IFERROR(INDEX($J$16:$J$2822,MATCH(ROWS($J$16:J2635),$N$16:$N$2822,0)),\"\")","v":""}]
["14","27","00","0","142701","Powiat","mazowieckie","sierpecki","sierpecki","sierpecki - Powiat / Województwo  - mazowieckie / 142701 / ",75526787,83626888.726678431,{"$f":"ISNUMBER(SEARCH(Wyszukiwarka!$A$1,'Porównanie dochodów JST'!J2636))","v":false},{"$f":"IF(M2636,COUNTIF($M$16:M2636,TRUE),\"\")","v":""},{"$f":"IFERROR(INDEX($J$16:$J$2822,MATCH(ROWS($J$16:J2636),$N$16:$N$2822,0)),\"\")","v":""}]
["14","28","00","0","142801","Powiat","mazowieckie","sochaczewski","sochaczewski","sochaczewski - Powiat / Województwo  - mazowieckie / 142801 / ",115359935,122127716.580496,{"$f":"ISNUMBER(SEARCH(Wyszukiwarka!$A$1,'Porównanie dochodów JST'!J2637))","v":false},{"$f":"IF(M2637,COUNTIF($M$16:M2637,TRUE),\"\")","v":""},{"$f":"IFERROR(INDEX($J$16:$J$2822,MATCH(ROWS($J$16:J2637),$N$16:$N$2822,0)),\"\")","v":""}]
["14","29","00","0","142901","Powiat","mazowieckie","sokołowski","sokołowski","sokołowski - Powiat / Województwo  - mazowieckie / 142901 / ",59491899,66298595.6294,{"$f":"ISNUMBER(SEARCH(Wyszukiwarka!$A$1,'Porównanie dochodów JST'!J2638))","v":false},{"$f":"IF(M2638,COUNTIF($M$16:M2638,TRUE),\"\")","v":""},{"$f":"IFERROR(INDEX($J$16:$J$2822,MATCH(ROWS($J$16:J2638),$N$16:$N$2822,0)),\"\")","v":""}]
["14","30","00","0","143001","Powiat","mazowieckie","szydłowiecki","szydłowiecki","szydłowiecki - Powiat / Województwo  - mazowieckie / 143001 / ",62593676,69740185.992844403,{"$f":"ISNUMBER(SEARCH(Wyszukiwarka!$A$1,'Porównanie dochodów JST'!J2639))","v":false},{"$f":"IF(M2639,COUNTIF($M$16:M2639,TRUE),\"\")","v":""},{"$f":"IFERROR(INDEX($J$16:$J$2822,MATCH(ROWS($J$16:J2639),$N$16:$N$2822,0)),\"\")","v":""}]
["14","32","00","0","143201","Powiat","mazowieckie","warszawski zachodni","warszawski zachodni","warszawski zachodni - Powiat / Województwo  - mazowieckie / 143201 / ",170624733,197817942.56,{"$f":"ISNUMBER(SEARCH(Wyszukiwarka!$A$1,'Porównanie dochodów JST'!J2640))","v":false},{"$f":"IF(M2640,COUNTIF($M$16:M2640,TRUE),\"\")","v":""},{"$f":"IFERROR(INDEX($J$16:$J$2822,MATCH(ROWS($J$16:J2640),$N$16:$N$2822,0)),\"\")","v":""}]
["14","33","00","0","143301","Powiat","mazowieckie","węgrowski","węgrowski","węgrowski - Powiat / Województwo  - mazowieckie / 143301 / ",98386017,105632284,{"$f":"ISNUMBER(SEARCH(Wyszukiwarka!$A$1,'Porównanie dochodów JST'!J2641))","v":false},{"$f":"IF(M2641,COUNTIF($M$16:M2641,TRUE),\"\")","v":""},{"$f":"IFERROR(INDEX($J$16:$J$2822,MATCH(ROWS($J$16:J2641),$N$16:$N$2822,0)),\"\")","v":""}]
["14","34","00","0","143401","Powiat","mazowieckie","wołomiński","wołomiński","wołomiński - Powiat / Województwo  - mazowieckie / 143401 / ",295959050,342145079.78847414,{"$f":"ISNUMBER(SEARCH(Wyszukiwarka!$A$1,'Porównanie dochodów JST'!J2642))","v":false},{"$f":"IF(M2642,COUNTIF($M$16:M2642,TRUE),\"\")","v":""},{"$f":"IFERROR(INDEX($J$16:$J$2822,MATCH(ROWS($J$16:J2642),$N$16:$N$2822,0)),\"\")","v":""}]
["14","35","00","0","143501","Powiat","mazowieckie","wyszkowski","wyszkowski","wyszkowski - Powiat / Województwo  - mazowieckie / 143501 / ",120395886,134391515.23742619,{"$f":"ISNUMBER(SEARCH(Wyszukiwarka!$A$1,'Porównanie dochodów JST'!J2643))","v":false},{"$f":"IF(M2643,COUNTIF($M$16:M2643,TRUE),\"\")","v":""},{"$f":"IFERROR(INDEX($J$16:$J$2822,MATCH(ROWS($J$16:J2643),$N$16:$N$2822,0)),\"\")","v":""}]
["14","36","00","0","143601","Powiat","mazowieckie","zwoleński","zwoleński","zwoleński - Powiat / Województwo  - mazowieckie / 143601 / ",42924707,49922898.859021232,{"$f":"ISNUMBER(SEARCH(Wyszukiwarka!$A$1,'Porównanie dochodów JST'!J2644))","v":false},{"$f":"IF(M2644,COUNTIF($M$16:M2644,TRUE),\"\")","v":""},{"$f":"IFERROR(INDEX($J$16:$J$2822,MATCH(ROWS($J$16:J2644),$N$16:$N$2822,0)),\"\")","v":""}]
["14","37","00","0","143701","Powiat","mazowieckie","żuromiński","żuromiński","żuromiński - Powiat / Województwo  - mazowieckie / 143701 / ",58602926,66462859,{"$f":"ISNUMBER(SEARCH(Wyszukiwarka!$A$1,'Porównanie dochodów JST'!J2645))","v":false},{"$f":"IF(M2645,COUNTIF($M$16:M2645,TRUE),\"\")","v":""},{"$f":"IFERROR(INDEX($J$16:$J$2822,MATCH(ROWS($J$16:J2645),$N$16:$N$2822,0)),\"\")","v":""}]
["14","38","00","0","143801","Powiat","mazowieckie","żyrardowski","żyrardowski","żyrardowski - Powiat / Województwo  - mazowieckie / 143801 / ",101616441,114428989.54275715,{"$f":"ISNUMBER(SEARCH(Wyszukiwarka!$A$1,'Porównanie dochodów JST'!J2646))","v":false},{"$f":"IF(M2646,COUNTIF($M$16:M2646,TRUE),\"\")","v":""},{"$f":"IFERROR(INDEX($J$16:$J$2822,MATCH(ROWS($J$16:J2646),$N$16:$N$2822,0)),\"\")","v":""}]
["16","01","00","0","160101","Powiat","opolskie","brzeski","brzeski","brzeski - Powiat / Województwo  - opolskie / 160101 / ",110538956,117501932.03401664,{"$f":"ISNUMBER(SEARCH(Wyszukiwarka!$A$1,'Porównanie dochodów JST'!J2647))","v":false},{"$f":"IF(M2647,COUNTIF($M$16:M2647,TRUE),\"\")","v":""},{"$f":"IFERROR(INDEX($J$16:$J$2822,MATCH(ROWS($J$16:J2647),$N$16:$N$2822,0)),\"\")","v":""}]
["16","02","00","0","160201","Powiat","opolskie","głubczycki","głubczycki","głubczycki - Powiat / Województwo  - opolskie / 160201 / ",48962780,54040977,{"$f":"ISNUMBER(SEARCH(Wyszukiwarka!$A$1,'Porównanie dochodów JST'!J2648))","v":false},{"$f":"IF(M2648,COUNTIF($M$16:M2648,TRUE),\"\")","v":""},{"$f":"IFERROR(INDEX($J$16:$J$2822,MATCH(ROWS($J$16:J2648),$N$16:$N$2822,0)),\"\")","v":""}]
["16","03","00","0","160301","Powiat","opolskie","kędzierzyńsko-kozielski","kędzierzyńsko-kozielski","kędzierzyńsko-kozielski - Powiat / Województwo  - opolskie / 160301 / ",120472770,128207022,{"$f":"ISNUMBER(SEARCH(Wyszukiwarka!$A$1,'Porównanie dochodów JST'!J2649))","v":false},{"$f":"IF(M2649,COUNTIF($M$16:M2649,TRUE),\"\")","v":""},{"$f":"IFERROR(INDEX($J$16:$J$2822,MATCH(ROWS($J$16:J2649),$N$16:$N$2822,0)),\"\")","v":""}]
["16","04","00","0","160401","Powiat","opolskie","kluczborski","kluczborski","kluczborski - Powiat / Województwo  - opolskie / 160401 / ",81079690,88621868.785223961,{"$f":"ISNUMBER(SEARCH(Wyszukiwarka!$A$1,'Porównanie dochodów JST'!J2650))","v":false},{"$f":"IF(M2650,COUNTIF($M$16:M2650,TRUE),\"\")","v":""},{"$f":"IFERROR(INDEX($J$16:$J$2822,MATCH(ROWS($J$16:J2650),$N$16:$N$2822,0)),\"\")","v":""}]
["16","05","00","0","160501","Powiat","opolskie","krapkowicki","krapkowicki","krapkowicki - Powiat / Województwo  - opolskie / 160501 / ",51530246,59732330.560000002,{"$f":"ISNUMBER(SEARCH(Wyszukiwarka!$A$1,'Porównanie dochodów JST'!J2651))","v":false},{"$f":"IF(M2651,COUNTIF($M$16:M2651,TRUE),\"\")","v":""},{"$f":"IFERROR(INDEX($J$16:$J$2822,MATCH(ROWS($J$16:J2651),$N$16:$N$2822,0)),\"\")","v":""}]
["16","06","00","0","160601","Powiat","opolskie","namysłowski","namysłowski","namysłowski - Powiat / Województwo  - opolskie / 160601 / ",64766845,70387401.633803412,{"$f":"ISNUMBER(SEARCH(Wyszukiwarka!$A$1,'Porównanie dochodów JST'!J2652))","v":false},{"$f":"IF(M2652,COUNTIF($M$16:M2652,TRUE),\"\")","v":""},{"$f":"IFERROR(INDEX($J$16:$J$2822,MATCH(ROWS($J$16:J2652),$N$16:$N$2822,0)),\"\")","v":""}]
["16","07","00","0","160701","Powiat","opolskie","nyski","nyski","nyski - Powiat / Województwo  - opolskie / 160701 / ",171657737,185096121.4185701,{"$f":"ISNUMBER(SEARCH(Wyszukiwarka!$A$1,'Porównanie dochodów JST'!J2653))","v":false},{"$f":"IF(M2653,COUNTIF($M$16:M2653,TRUE),\"\")","v":""},{"$f":"IFERROR(INDEX($J$16:$J$2822,MATCH(ROWS($J$16:J2653),$N$16:$N$2822,0)),\"\")","v":""}]
["16","08","00","0","160801","Powiat","opolskie","oleski","oleski","oleski - Powiat / Województwo  - opolskie / 160801 / ",76821166,83609561.560049832,{"$f":"ISNUMBER(SEARCH(Wyszukiwarka!$A$1,'Porównanie dochodów JST'!J2654))","v":false},{"$f":"IF(M2654,COUNTIF($M$16:M2654,TRUE),\"\")","v":""},{"$f":"IFERROR(INDEX($J$16:$J$2822,MATCH(ROWS($J$16:J2654),$N$16:$N$2822,0)),\"\")","v":""}]
["16","09","00","0","160901","Powiat","opolskie","opolski","opolski","opolski - Powiat / Województwo  - opolskie / 160901 / ",98659812,115379450.24291517,{"$f":"ISNUMBER(SEARCH(Wyszukiwarka!$A$1,'Porównanie dochodów JST'!J2655))","v":false},{"$f":"IF(M2655,COUNTIF($M$16:M2655,TRUE),\"\")","v":""},{"$f":"IFERROR(INDEX($J$16:$J$2822,MATCH(ROWS($J$16:J2655),$N$16:$N$2822,0)),\"\")","v":""}]
["16","10","00","0","161001","Powiat","opolskie","prudnicki","prudnicki","prudnicki - Powiat / Województwo  - opolskie / 161001 / ",65380132,72112754,{"$f":"ISNUMBER(SEARCH(Wyszukiwarka!$A$1,'Porównanie dochodów JST'!J2656))","v":false},{"$f":"IF(M2656,COUNTIF($M$16:M2656,TRUE),\"\")","v":""},{"$f":"IFERROR(INDEX($J$16:$J$2822,MATCH(ROWS($J$16:J2656),$N$16:$N$2822,0)),\"\")","v":""}]
["16","11","00","0","161101","Powiat","opolskie","strzelecki","strzelecki","strzelecki - Powiat / Województwo  - opolskie / 161101 / ",88187365,95247302,{"$f":"ISNUMBER(SEARCH(Wyszukiwarka!$A$1,'Porównanie dochodów JST'!J2657))","v":false},{"$f":"IF(M2657,COUNTIF($M$16:M2657,TRUE),\"\")","v":""},{"$f":"IFERROR(INDEX($J$16:$J$2822,MATCH(ROWS($J$16:J2657),$N$16:$N$2822,0)),\"\")","v":""}]
["18","01","00","0","180101","Powiat","podkarpackie","bieszczadzki","bieszczadzki","bieszczadzki - Powiat / Województwo  - podkarpackie / 180101 / ",35865551,41225749.178750001,{"$f":"ISNUMBER(SEARCH(Wyszukiwarka!$A$1,'Porównanie dochodów JST'!J2658))","v":false},{"$f":"IF(M2658,COUNTIF($M$16:M2658,TRUE),\"\")","v":""},{"$f":"IFERROR(INDEX($J$16:$J$2822,MATCH(ROWS($J$16:J2658),$N$16:$N$2822,0)),\"\")","v":""}]
["18","02","00","0","180201","Powiat","podkarpackie","brzozowski","brzozowski","brzozowski - Powiat / Województwo  - podkarpackie / 180201 / ",101716580,110181915,{"$f":"ISNUMBER(SEARCH(Wyszukiwarka!$A$1,'Porównanie dochodów JST'!J2659))","v":false},{"$f":"IF(M2659,COUNTIF($M$16:M2659,TRUE),\"\")","v":""},{"$f":"IFERROR(INDEX($J$16:$J$2822,MATCH(ROWS($J$16:J2659),$N$16:$N$2822,0)),\"\")","v":""}]
["18","03","00","0","180301","Powiat","podkarpackie","dębicki","dębicki","dębicki - Powiat / Województwo  - podkarpackie / 180301 / ",163119961,177414162.90712222,{"$f":"ISNUMBER(SEARCH(Wyszukiwarka!$A$1,'Porównanie dochodów JST'!J2660))","v":false},{"$f":"IF(M2660,COUNTIF($M$16:M2660,TRUE),\"\")","v":""},{"$f":"IFERROR(INDEX($J$16:$J$2822,MATCH(ROWS($J$16:J2660),$N$16:$N$2822,0)),\"\")","v":""}]
["18","04","00","0","180401","Powiat","podkarpackie","jarosławski","jarosławski","jarosławski - Powiat / Województwo  - podkarpackie / 180401 / ",190833547,206582484.41448897,{"$f":"ISNUMBER(SEARCH(Wyszukiwarka!$A$1,'Porównanie dochodów JST'!J2661))","v":false},{"$f":"IF(M2661,COUNTIF($M$16:M2661,TRUE),\"\")","v":""},{"$f":"IFERROR(INDEX($J$16:$J$2822,MATCH(ROWS($J$16:J2661),$N$16:$N$2822,0)),\"\")","v":""}]
["18","05","00","0","180501","Powiat","podkarpackie","jasielski","jasielski","jasielski - Powiat / Województwo  - podkarpackie / 180501 / ",170357910,179430828.64332956,{"$f":"ISNUMBER(SEARCH(Wyszukiwarka!$A$1,'Porównanie dochodów JST'!J2662))","v":false},{"$f":"IF(M2662,COUNTIF($M$16:M2662,TRUE),\"\")","v":""},{"$f":"IFERROR(INDEX($J$16:$J$2822,MATCH(ROWS($J$16:J2662),$N$16:$N$2822,0)),\"\")","v":""}]
["18","06","00","0","180601","Powiat","podkarpackie","kolbuszowski","kolbuszowski","kolbuszowski - Powiat / Województwo  - podkarpackie / 180601 / ",58625335,67346928.618000001,{"$f":"ISNUMBER(SEARCH(Wyszukiwarka!$A$1,'Porównanie dochodów JST'!J2663))","v":false},{"$f":"IF(M2663,COUNTIF($M$16:M2663,TRUE),\"\")","v":""},{"$f":"IFERROR(INDEX($J$16:$J$2822,MATCH(ROWS($J$16:J2663),$N$16:$N$2822,0)),\"\")","v":""}]
["18","07","00","0","180701","Powiat","podkarpackie","krośnieński","krośnieński","krośnieński - Powiat / Województwo  - podkarpackie / 180701 / ",104693797,111209188,{"$f":"ISNUMBER(SEARCH(Wyszukiwarka!$A$1,'Porównanie dochodów JST'!J2664))","v":false},{"$f":"IF(M2664,COUNTIF($M$16:M2664,TRUE),\"\")","v":""},{"$f":"IFERROR(INDEX($J$16:$J$2822,MATCH(ROWS($J$16:J2664),$N$16:$N$2822,0)),\"\")","v":""}]
["18","08","00","0","180801","Powiat","podkarpackie","leżajski","leżajski","leżajski - Powiat / Województwo  - podkarpackie / 180801 / ",125235993,135009557.03240556,{"$f":"ISNUMBER(SEARCH(Wyszukiwarka!$A$1,'Porównanie dochodów JST'!J2665))","v":false},{"$f":"IF(M2665,COUNTIF($M$16:M2665,TRUE),\"\")","v":""},{"$f":"IFERROR(INDEX($J$16:$J$2822,MATCH(ROWS($J$16:J2665),$N$16:$N$2822,0)),\"\")","v":""}]
["18","09","00","0","180901","Powiat","podkarpackie","lubaczowski","lubaczowski","lubaczowski - Powiat / Województwo  - podkarpackie / 180901 / ",81450100,89184249,{"$f":"ISNUMBER(SEARCH(Wyszukiwarka!$A$1,'Porównanie dochodów JST'!J2666))","v":false},{"$f":"IF(M2666,COUNTIF($M$16:M2666,TRUE),\"\")","v":""},{"$f":"IFERROR(INDEX($J$16:$J$2822,MATCH(ROWS($J$16:J2666),$N$16:$N$2822,0)),\"\")","v":""}]
["18","10","00","0","181001","Powiat","podkarpackie","łańcucki","łańcucki","łańcucki - Powiat / Województwo  - podkarpackie / 181001 / ",101857992,110288353.87766127,{"$f":"ISNUMBER(SEARCH(Wyszukiwarka!$A$1,'Porównanie dochodów JST'!J2667))","v":false},{"$f":"IF(M2667,COUNTIF($M$16:M2667,TRUE),\"\")","v":""},{"$f":"IFERROR(INDEX($J$16:$J$2822,MATCH(ROWS($J$16:J2667),$N$16:$N$2822,0)),\"\")","v":""}]
["18","11","00","0","181101","Powiat","podkarpackie","mielecki","mielecki","mielecki - Powiat / Województwo  - podkarpackie / 181101 / ",187567763,202158980.40608585,{"$f":"ISNUMBER(SEARCH(Wyszukiwarka!$A$1,'Porównanie dochodów JST'!J2668))","v":false},{"$f":"IF(M2668,COUNTIF($M$16:M2668,TRUE),\"\")","v":""},{"$f":"IFERROR(INDEX($J$16:$J$2822,MATCH(ROWS($J$16:J2668),$N$16:$N$2822,0)),\"\")","v":""}]
["18","12","00","0","181201","Powiat","podkarpackie","niżański","niżański","niżański - Powiat / Województwo  - podkarpackie / 181201 / ",98581522,108682976,{"$f":"ISNUMBER(SEARCH(Wyszukiwarka!$A$1,'Porównanie dochodów JST'!J2669))","v":false},{"$f":"IF(M2669,COUNTIF($M$16:M2669,TRUE),\"\")","v":""},{"$f":"IFERROR(INDEX($J$16:$J$2822,MATCH(ROWS($J$16:J2669),$N$16:$N$2822,0)),\"\")","v":""}]
["18","13","00","0","181301","Powiat","podkarpackie","przemyski","przemyski","przemyski - Powiat / Województwo  - podkarpackie / 181301 / ",72856835,85692687.746400014,{"$f":"ISNUMBER(SEARCH(Wyszukiwarka!$A$1,'Porównanie dochodów JST'!J2670))","v":false},{"$f":"IF(M2670,COUNTIF($M$16:M2670,TRUE),\"\")","v":""},{"$f":"IFERROR(INDEX($J$16:$J$2822,MATCH(ROWS($J$16:J2670),$N$16:$N$2822,0)),\"\")","v":""}]
["18","14","00","0","181401","Powiat","podkarpackie","przeworski","przeworski","przeworski - Powiat / Województwo  - podkarpackie / 181401 / ",84332321,95901403.696799994,{"$f":"ISNUMBER(SEARCH(Wyszukiwarka!$A$1,'Porównanie dochodów JST'!J2671))","v":false},{"$f":"IF(M2671,COUNTIF($M$16:M2671,TRUE),\"\")","v":""},{"$f":"IFERROR(INDEX($J$16:$J$2822,MATCH(ROWS($J$16:J2671),$N$16:$N$2822,0)),\"\")","v":""}]
["18","15","00","0","181501","Powiat","podkarpackie","ropczycko-sędziszowski","ropczycko-sędziszowski","ropczycko-sędziszowski - Powiat / Województwo  - podkarpackie / 181501 / ",106553122,116771922.61834167,{"$f":"ISNUMBER(SEARCH(Wyszukiwarka!$A$1,'Porównanie dochodów JST'!J2672))","v":false},{"$f":"IF(M2672,COUNTIF($M$16:M2672,TRUE),\"\")","v":""},{"$f":"IFERROR(INDEX($J$16:$J$2822,MATCH(ROWS($J$16:J2672),$N$16:$N$2822,0)),\"\")","v":""}]
["18","16","00","0","181601","Powiat","podkarpackie","rzeszowski","rzeszowski","rzeszowski - Powiat / Województwo  - podkarpackie / 181601 / ",148858617,177338045.34979999,{"$f":"ISNUMBER(SEARCH(Wyszukiwarka!$A$1,'Porównanie dochodów JST'!J2673))","v":false},{"$f":"IF(M2673,COUNTIF($M$16:M2673,TRUE),\"\")","v":""},{"$f":"IFERROR(INDEX($J$16:$J$2822,MATCH(ROWS($J$16:J2673),$N$16:$N$2822,0)),\"\")","v":""}]
["18","17","00","0","181701","Powiat","podkarpackie","sanocki","sanocki","sanocki - Powiat / Województwo  - podkarpackie / 181701 / ",120163792,125899762,{"$f":"ISNUMBER(SEARCH(Wyszukiwarka!$A$1,'Porównanie dochodów JST'!J2674))","v":false},{"$f":"IF(M2674,COUNTIF($M$16:M2674,TRUE),\"\")","v":""},{"$f":"IFERROR(INDEX($J$16:$J$2822,MATCH(ROWS($J$16:J2674),$N$16:$N$2822,0)),\"\")","v":""}]
["18","18","00","0","181801","Powiat","podkarpackie","stalowowolski","stalowowolski","stalowowolski - Powiat / Województwo  - podkarpackie / 181801 / ",134198730,142842758.64830458,{"$f":"ISNUMBER(SEARCH(Wyszukiwarka!$A$1,'Porównanie dochodów JST'!J2675))","v":false},{"$f":"IF(M2675,COUNTIF($M$16:M2675,TRUE),\"\")","v":""},{"$f":"IFERROR(INDEX($J$16:$J$2822,MATCH(ROWS($J$16:J2675),$N$16:$N$2822,0)),\"\")","v":""}]
["18","19","00","0","181901","Powiat","podkarpackie","strzyżowski","strzyżowski","strzyżowski - Powiat / Województwo  - podkarpackie / 181901 / ",107312263,116551158.97075523,{"$f":"ISNUMBER(SEARCH(Wyszukiwarka!$A$1,'Porównanie dochodów JST'!J2676))","v":false},{"$f":"IF(M2676,COUNTIF($M$16:M2676,TRUE),\"\")","v":""},{"$f":"IFERROR(INDEX($J$16:$J$2822,MATCH(ROWS($J$16:J2676),$N$16:$N$2822,0)),\"\")","v":""}]
["18","20","00","0","182001","Powiat","podkarpackie","tarnobrzeski","tarnobrzeski","tarnobrzeski - Powiat / Województwo  - podkarpackie / 182001 / ",52651248,58605449,{"$f":"ISNUMBER(SEARCH(Wyszukiwarka!$A$1,'Porównanie dochodów JST'!J2677))","v":false},{"$f":"IF(M2677,COUNTIF($M$16:M2677,TRUE),\"\")","v":""},{"$f":"IFERROR(INDEX($J$16:$J$2822,MATCH(ROWS($J$16:J2677),$N$16:$N$2822,0)),\"\")","v":""}]
["18","21","00","0","182101","Powiat","podkarpackie","leski","leski","leski - Powiat / Województwo  - podkarpackie / 182101 / ",41159664,46842552,{"$f":"ISNUMBER(SEARCH(Wyszukiwarka!$A$1,'Porównanie dochodów JST'!J2678))","v":false},{"$f":"IF(M2678,COUNTIF($M$16:M2678,TRUE),\"\")","v":""},{"$f":"IFERROR(INDEX($J$16:$J$2822,MATCH(ROWS($J$16:J2678),$N$16:$N$2822,0)),\"\")","v":""}]
["20","01","00","0","200101","Powiat","podlaskie","augustowski","augustowski","augustowski - Powiat / Województwo  - podlaskie / 200101 / ",87194810,94153268.934078783,{"$f":"ISNUMBER(SEARCH(Wyszukiwarka!$A$1,'Porównanie dochodów JST'!J2679))","v":false},{"$f":"IF(M2679,COUNTIF($M$16:M2679,TRUE),\"\")","v":""},{"$f":"IFERROR(INDEX($J$16:$J$2822,MATCH(ROWS($J$16:J2679),$N$16:$N$2822,0)),\"\")","v":""}]
["20","02","00","0","200201","Powiat","podlaskie","białostocki","białostocki","białostocki - Powiat / Województwo  - podlaskie / 200201 / ",112928665,134531733.28000003,{"$f":"ISNUMBER(SEARCH(Wyszukiwarka!$A$1,'Porównanie dochodów JST'!J2680))","v":false},{"$f":"IF(M2680,COUNTIF($M$16:M2680,TRUE),\"\")","v":""},{"$f":"IFERROR(INDEX($J$16:$J$2822,MATCH(ROWS($J$16:J2680),$N$16:$N$2822,0)),\"\")","v":""}]
["20","03","00","0","200301","Powiat","podlaskie","bielski","bielski","bielski - Powiat / Województwo  - podlaskie / 200301 / ",60619719,67543924.508456111,{"$f":"ISNUMBER(SEARCH(Wyszukiwarka!$A$1,'Porównanie dochodów JST'!J2681))","v":false},{"$f":"IF(M2681,COUNTIF($M$16:M2681,TRUE),\"\")","v":""},{"$f":"IFERROR(INDEX($J$16:$J$2822,MATCH(ROWS($J$16:J2681),$N$16:$N$2822,0)),\"\")","v":""}]
["20","04","00","0","200401","Powiat","podlaskie","grajewski","grajewski","grajewski - Powiat / Województwo  - podlaskie / 200401 / ",68239744,75846391.559041813,{"$f":"ISNUMBER(SEARCH(Wyszukiwarka!$A$1,'Porównanie dochodów JST'!J2682))","v":false},{"$f":"IF(M2682,COUNTIF($M$16:M2682,TRUE),\"\")","v":""},{"$f":"IFERROR(INDEX($J$16:$J$2822,MATCH(ROWS($J$16:J2682),$N$16:$N$2822,0)),\"\")","v":""}]
["20","05","00","0","200501","Powiat","podlaskie","hajnowski","hajnowski","hajnowski - Powiat / Województwo  - podlaskie / 200501 / ",49921876,54853058,{"$f":"ISNUMBER(SEARCH(Wyszukiwarka!$A$1,'Porównanie dochodów JST'!J2683))","v":false},{"$f":"IF(M2683,COUNTIF($M$16:M2683,TRUE),\"\")","v":""},{"$f":"IFERROR(INDEX($J$16:$J$2822,MATCH(ROWS($J$16:J2683),$N$16:$N$2822,0)),\"\")","v":""}]
["20","06","00","0","200601","Powiat","podlaskie","kolneński","kolneński",{"$f":"I2684&$H$12&F2684&$G$12&$G$14&$H$12&G2684&$G$12&E2684&$G$12","v":"kolneński - Powiat / Województwo  - podlaskie / 200601 / "},46304760,54694481,{"$f":"ISNUMBER(SEARCH(Wyszukiwarka!$A$1,'Porównanie dochodów JST'!J2684))","v":false},{"$f":"IF(M2684,COUNTIF($M$16:M2684,TRUE),\"\")","v":""},{"$f":"IFERROR(INDEX($J$16:$J$2822,MATCH(ROWS($J$16:J2684),$N$16:$N$2822,0)),\"\")","v":""}]
["20","07","00","0","200701","Powiat","podlaskie","łomżyński","łomżyński","łomżyński - Powiat / Województwo  - podlaskie / 200701 / ",33183586,38530269.667600006,{"$f":"ISNUMBER(SEARCH(Wyszukiwarka!$A$1,'Porównanie dochodów JST'!J2685))","v":false},{"$f":"IF(M2685,COUNTIF($M$16:M2685,TRUE),\"\")","v":""},{"$f":"IFERROR(INDEX($J$16:$J$2822,MATCH(ROWS($J$16:J2685),$N$16:$N$2822,0)),\"\")","v":""}]
["20","08","00","0","200801","Powiat","podlaskie","moniecki","moniecki","moniecki - Powiat / Województwo  - podlaskie / 200801 / ",50648657,57266588,{"$f":"ISNUMBER(SEARCH(Wyszukiwarka!$A$1,'Porównanie dochodów JST'!J2686))","v":false},{"$f":"IF(M2686,COUNTIF($M$16:M2686,TRUE),\"\")","v":""},{"$f":"IFERROR(INDEX($J$16:$J$2822,MATCH(ROWS($J$16:J2686),$N$16:$N$2822,0)),\"\")","v":""}]
["20","09","00","0","200901","Powiat","podlaskie","sejneński","sejneński","sejneński - Powiat / Województwo  - podlaskie / 200901 / ",25219114,29403638,{"$f":"ISNUMBER(SEARCH(Wyszukiwarka!$A$1,'Porównanie dochodów JST'!J2687))","v":false},{"$f":"IF(M2687,COUNTIF($M$16:M2687,TRUE),\"\")","v":""},{"$f":"IFERROR(INDEX($J$16:$J$2822,MATCH(ROWS($J$16:J2687),$N$16:$N$2822,0)),\"\")","v":""}]
["20","10","00","0","201001","Powiat","podlaskie","siemiatycki","siemiatycki","siemiatycki - Powiat / Województwo  - podlaskie / 201001 / ",53389523,59092177.604018986,{"$f":"ISNUMBER(SEARCH(Wyszukiwarka!$A$1,'Porównanie dochodów JST'!J2688))","v":false},{"$f":"IF(M2688,COUNTIF($M$16:M2688,TRUE),\"\")","v":""},{"$f":"IFERROR(INDEX($J$16:$J$2822,MATCH(ROWS($J$16:J2688),$N$16:$N$2822,0)),\"\")","v":""}]
["20","11","00","0","201101","Powiat","podlaskie","sokólski","sokólski","sokólski - Powiat / Województwo  - podlaskie / 201101 / ",102528042,110544102,{"$f":"ISNUMBER(SEARCH(Wyszukiwarka!$A$1,'Porównanie dochodów JST'!J2689))","v":false},{"$f":"IF(M2689,COUNTIF($M$16:M2689,TRUE),\"\")","v":""},{"$f":"IFERROR(INDEX($J$16:$J$2822,MATCH(ROWS($J$16:J2689),$N$16:$N$2822,0)),\"\")","v":""}]
["20","12","00","0","201201","Powiat","podlaskie","suwalski","suwalski","suwalski - Powiat / Województwo  - podlaskie / 201201 / ",33247526,38253759.304097399,{"$f":"ISNUMBER(SEARCH(Wyszukiwarka!$A$1,'Porównanie dochodów JST'!J2690))","v":false},{"$f":"IF(M2690,COUNTIF($M$16:M2690,TRUE),\"\")","v":""},{"$f":"IFERROR(INDEX($J$16:$J$2822,MATCH(ROWS($J$16:J2690),$N$16:$N$2822,0)),\"\")","v":""}]
["20","13","00","0","201301","Powiat","podlaskie","wysokomazowiecki","wysokomazowiecki","wysokomazowiecki - Powiat / Województwo  - podlaskie / 201301 / ",84401266,92156179,{"$f":"ISNUMBER(SEARCH(Wyszukiwarka!$A$1,'Porównanie dochodów JST'!J2691))","v":false},{"$f":"IF(M2691,COUNTIF($M$16:M2691,TRUE),\"\")","v":""},{"$f":"IFERROR(INDEX($J$16:$J$2822,MATCH(ROWS($J$16:J2691),$N$16:$N$2822,0)),\"\")","v":""}]
["20","14","00","0","201401","Powiat","podlaskie","zambrowski","zambrowski","zambrowski - Powiat / Województwo  - podlaskie / 201401 / ",59037090,64857739.823532403,{"$f":"ISNUMBER(SEARCH(Wyszukiwarka!$A$1,'Porównanie dochodów JST'!J2692))","v":false},{"$f":"IF(M2692,COUNTIF($M$16:M2692,TRUE),\"\")","v":""},{"$f":"IFERROR(INDEX($J$16:$J$2822,MATCH(ROWS($J$16:J2692),$N$16:$N$2822,0)),\"\")","v":""}]
["22","01","00","0","220101","Powiat","pomorskie","bytowski","bytowski","bytowski - Powiat / Województwo  - pomorskie / 220101 / ",120663532,128758851,{"$f":"ISNUMBER(SEARCH(Wyszukiwarka!$A$1,'Porównanie dochodów JST'!J2693))","v":false},{"$f":"IF(M2693,COUNTIF($M$16:M2693,TRUE),\"\")","v":""},{"$f":"IFERROR(INDEX($J$16:$J$2822,MATCH(ROWS($J$16:J2693),$N$16:$N$2822,0)),\"\")","v":""}]
["22","02","00","0","220201","Powiat","pomorskie","chojnicki","chojnicki","chojnicki - Powiat / Województwo  - pomorskie / 220201 / ",168526474,178051212.32132548,{"$f":"ISNUMBER(SEARCH(Wyszukiwarka!$A$1,'Porównanie dochodów JST'!J2694))","v":false},{"$f":"IF(M2694,COUNTIF($M$16:M2694,TRUE),\"\")","v":""},{"$f":"IFERROR(INDEX($J$16:$J$2822,MATCH(ROWS($J$16:J2694),$N$16:$N$2822,0)),\"\")","v":""}]
["22","03","00","0","220301","Powiat","pomorskie","człuchowski","człuchowski","człuchowski - Powiat / Województwo  - pomorskie / 220301 / ",108305035,115668040,{"$f":"ISNUMBER(SEARCH(Wyszukiwarka!$A$1,'Porównanie dochodów JST'!J2695))","v":false},{"$f":"IF(M2695,COUNTIF($M$16:M2695,TRUE),\"\")","v":""},{"$f":"IFERROR(INDEX($J$16:$J$2822,MATCH(ROWS($J$16:J2695),$N$16:$N$2822,0)),\"\")","v":""}]
["22","04","00","0","220401","Powiat","pomorskie","gdański","gdański","gdański - Powiat / Województwo  - pomorskie / 220401 / ",135273410,154292442.07999998,{"$f":"ISNUMBER(SEARCH(Wyszukiwarka!$A$1,'Porównanie dochodów JST'!J2696))","v":false},{"$f":"IF(M2696,COUNTIF($M$16:M2696,TRUE),\"\")","v":""},{"$f":"IFERROR(INDEX($J$16:$J$2822,MATCH(ROWS($J$16:J2696),$N$16:$N$2822,0)),\"\")","v":""}]
["22","05","00","0","220501","Powiat","pomorskie","kartuski","kartuski","kartuski - Powiat / Województwo  - pomorskie / 220501 / ",192296798,204303408.60570908,{"$f":"ISNUMBER(SEARCH(Wyszukiwarka!$A$1,'Porównanie dochodów JST'!J2697))","v":false},{"$f":"IF(M2697,COUNTIF($M$16:M2697,TRUE),\"\")","v":""},{"$f":"IFERROR(INDEX($J$16:$J$2822,MATCH(ROWS($J$16:J2697),$N$16:$N$2822,0)),\"\")","v":""}]
["22","06","00","0","220601","Powiat","pomorskie","kościerski","kościerski","kościerski - Powiat / Województwo  - pomorskie / 220601 / ",111190641,118695050.90523918,{"$f":"ISNUMBER(SEARCH(Wyszukiwarka!$A$1,'Porównanie dochodów JST'!J2698))","v":false},{"$f":"IF(M2698,COUNTIF($M$16:M2698,TRUE),\"\")","v":""},{"$f":"IFERROR(INDEX($J$16:$J$2822,MATCH(ROWS($J$16:J2698),$N$16:$N$2822,0)),\"\")","v":""}]
["22","07","00","0","220701","Powiat","pomorskie","kwidzyński","kwidzyński","kwidzyński - Powiat / Województwo  - pomorskie / 220701 / ",116273313,130053750.61862253,{"$f":"ISNUMBER(SEARCH(Wyszukiwarka!$A$1,'Porównanie dochodów JST'!J2699))","v":false},{"$f":"IF(M2699,COUNTIF($M$16:M2699,TRUE),\"\")","v":""},{"$f":"IFERROR(INDEX($J$16:$J$2822,MATCH(ROWS($J$16:J2699),$N$16:$N$2822,0)),\"\")","v":""}]
["22","08","00","0","220801","Powiat","pomorskie","lęborski","lęborski","lęborski - Powiat / Województwo  - pomorskie / 220801 / ",109519528,116317092.81947502,{"$f":"ISNUMBER(SEARCH(Wyszukiwarka!$A$1,'Porównanie dochodów JST'!J2700))","v":false},{"$f":"IF(M2700,COUNTIF($M$16:M2700,TRUE),\"\")","v":""},{"$f":"IFERROR(INDEX($J$16:$J$2822,MATCH(ROWS($J$16:J2700),$N$16:$N$2822,0)),\"\")","v":""}]
["22","09","00","0","220901","Powiat","pomorskie","malborski","malborski","malborski - Powiat / Województwo  - pomorskie / 220901 / ",107778009,115700018,{"$f":"ISNUMBER(SEARCH(Wyszukiwarka!$A$1,'Porównanie dochodów JST'!J2701))","v":false},{"$f":"IF(M2701,COUNTIF($M$16:M2701,TRUE),\"\")","v":""},{"$f":"IFERROR(INDEX($J$16:$J$2822,MATCH(ROWS($J$16:J2701),$N$16:$N$2822,0)),\"\")","v":""}]
["22","10","00","0","221001","Powiat","pomorskie","nowodworski","nowodworski","nowodworski - Powiat / Województwo  - pomorskie / 221001 / ",49074279,55959812,{"$f":"ISNUMBER(SEARCH(Wyszukiwarka!$A$1,'Porównanie dochodów JST'!J2702))","v":false},{"$f":"IF(M2702,COUNTIF($M$16:M2702,TRUE),\"\")","v":""},{"$f":"IFERROR(INDEX($J$16:$J$2822,MATCH(ROWS($J$16:J2702),$N$16:$N$2822,0)),\"\")","v":""}]
["22","11","00","0","221101","Powiat","pomorskie","pucki","pucki","pucki - Powiat / Województwo  - pomorskie / 221101 / ",100728594,108606481.89461532,{"$f":"ISNUMBER(SEARCH(Wyszukiwarka!$A$1,'Porównanie dochodów JST'!J2703))","v":false},{"$f":"IF(M2703,COUNTIF($M$16:M2703,TRUE),\"\")","v":""},{"$f":"IFERROR(INDEX($J$16:$J$2822,MATCH(ROWS($J$16:J2703),$N$16:$N$2822,0)),\"\")","v":""}]
["22","12","00","0","221201","Powiat","pomorskie","słupski","słupski","słupski - Powiat / Województwo  - pomorskie / 221201 / ",92159922,101863962,{"$f":"ISNUMBER(SEARCH(Wyszukiwarka!$A$1,'Porównanie dochodów JST'!J2704))","v":false},{"$f":"IF(M2704,COUNTIF($M$16:M2704,TRUE),\"\")","v":""},{"$f":"IFERROR(INDEX($J$16:$J$2822,MATCH(ROWS($J$16:J2704),$N$16:$N$2822,0)),\"\")","v":""}]
["22","13","00","0","221301","Powiat","pomorskie","starogardzki","starogardzki","starogardzki - Powiat / Województwo  - pomorskie / 221301 / ",189553426,206838453.56147349,{"$f":"ISNUMBER(SEARCH(Wyszukiwarka!$A$1,'Porównanie dochodów JST'!J2705))","v":false},{"$f":"IF(M2705,COUNTIF($M$16:M2705,TRUE),\"\")","v":""},{"$f":"IFERROR(INDEX($J$16:$J$2822,MATCH(ROWS($J$16:J2705),$N$16:$N$2822,0)),\"\")","v":""}]
["22","14","00","0","221401","Powiat","pomorskie","tczewski","tczewski","tczewski - Powiat / Województwo  - pomorskie / 221401 / ",172354352,189279937.08540779,{"$f":"ISNUMBER(SEARCH(Wyszukiwarka!$A$1,'Porównanie dochodów JST'!J2706))","v":false},{"$f":"IF(M2706,COUNTIF($M$16:M2706,TRUE),\"\")","v":""},{"$f":"IFERROR(INDEX($J$16:$J$2822,MATCH(ROWS($J$16:J2706),$N$16:$N$2822,0)),\"\")","v":""}]
["22","15","00","0","221501","Powiat","pomorskie","wejherowski","wejherowski","wejherowski - Powiat / Województwo  - pomorskie / 221501 / ",275151563,292872887.77555311,{"$f":"ISNUMBER(SEARCH(Wyszukiwarka!$A$1,'Porównanie dochodów JST'!J2707))","v":false},{"$f":"IF(M2707,COUNTIF($M$16:M2707,TRUE),\"\")","v":""},{"$f":"IFERROR(INDEX($J$16:$J$2822,MATCH(ROWS($J$16:J2707),$N$16:$N$2822,0)),\"\")","v":""}]
["22","16","00","0","221601","Powiat","pomorskie","sztumski","sztumski","sztumski - Powiat / Województwo  - pomorskie / 221601 / ",55594789,61081545,{"$f":"ISNUMBER(SEARCH(Wyszukiwarka!$A$1,'Porównanie dochodów JST'!J2708))","v":false},{"$f":"IF(M2708,COUNTIF($M$16:M2708,TRUE),\"\")","v":""},{"$f":"IFERROR(INDEX($J$16:$J$2822,MATCH(ROWS($J$16:J2708),$N$16:$N$2822,0)),\"\")","v":""}]
["24","01","00","0","240101","Powiat","śląskie","będziński","będziński","będziński - Powiat / Województwo  - śląskie / 240101 / ",146494593,169262079.84,{"$f":"ISNUMBER(SEARCH(Wyszukiwarka!$A$1,'Porównanie dochodów JST'!J2709))","v":false},{"$f":"IF(M2709,COUNTIF($M$16:M2709,TRUE),\"\")","v":""},{"$f":"IFERROR(INDEX($J$16:$J$2822,MATCH(ROWS($J$16:J2709),$N$16:$N$2822,0)),\"\")","v":""}]
["24","02","00","0","240201","Powiat","śląskie","bielski","bielski","bielski - Powiat / Województwo  - śląskie / 240201 / ",136705955,158730421.92000002,{"$f":"ISNUMBER(SEARCH(Wyszukiwarka!$A$1,'Porównanie dochodów JST'!J2710))","v":false},{"$f":"IF(M2710,COUNTIF($M$16:M2710,TRUE),\"\")","v":""},{"$f":"IFERROR(INDEX($J$16:$J$2822,MATCH(ROWS($J$16:J2710),$N$16:$N$2822,0)),\"\")","v":""}]
["24","03","00","0","240301","Powiat","śląskie","cieszyński","cieszyński","cieszyński - Powiat / Województwo  - śląskie / 240301 / ",230398696,244754311.52905104,{"$f":"ISNUMBER(SEARCH(Wyszukiwarka!$A$1,'Porównanie dochodów JST'!J2711))","v":false},{"$f":"IF(M2711,COUNTIF($M$16:M2711,TRUE),\"\")","v":""},{"$f":"IFERROR(INDEX($J$16:$J$2822,MATCH(ROWS($J$16:J2711),$N$16:$N$2822,0)),\"\")","v":""}]
["24","04","00","0","240401","Powiat","śląskie","częstochowski","częstochowski","częstochowski - Powiat / Województwo  - śląskie / 240401 / ",92564654,108455655.84,{"$f":"ISNUMBER(SEARCH(Wyszukiwarka!$A$1,'Porównanie dochodów JST'!J2712))","v":false},{"$f":"IF(M2712,COUNTIF($M$16:M2712,TRUE),\"\")","v":""},{"$f":"IFERROR(INDEX($J$16:$J$2822,MATCH(ROWS($J$16:J2712),$N$16:$N$2822,0)),\"\")","v":""}]
["24","05","00","0","240501","Powiat","śląskie","gliwicki","gliwicki","gliwicki - Powiat / Województwo  - śląskie / 240501 / ",112047868,126205205.27999999,{"$f":"ISNUMBER(SEARCH(Wyszukiwarka!$A$1,'Porównanie dochodów JST'!J2713))","v":false},{"$f":"IF(M2713,COUNTIF($M$16:M2713,TRUE),\"\")","v":""},{"$f":"IFERROR(INDEX($J$16:$J$2822,MATCH(ROWS($J$16:J2713),$N$16:$N$2822,0)),\"\")","v":""}]
["24","06","00","0","240601","Powiat","śląskie","kłobucki","kłobucki","kłobucki - Powiat / Województwo  - śląskie / 240601 / ",80328070,87866370,{"$f":"ISNUMBER(SEARCH(Wyszukiwarka!$A$1,'Porównanie dochodów JST'!J2714))","v":false},{"$f":"IF(M2714,COUNTIF($M$16:M2714,TRUE),\"\")","v":""},{"$f":"IFERROR(INDEX($J$16:$J$2822,MATCH(ROWS($J$16:J2714),$N$16:$N$2822,0)),\"\")","v":""}]
["24","07","00","0","240701","Powiat","śląskie","lubliniecki","lubliniecki","lubliniecki - Powiat / Województwo  - śląskie / 240701 / ",93820712,107394604.79999998,{"$f":"ISNUMBER(SEARCH(Wyszukiwarka!$A$1,'Porównanie dochodów JST'!J2715))","v":false},{"$f":"IF(M2715,COUNTIF($M$16:M2715,TRUE),\"\")","v":""},{"$f":"IFERROR(INDEX($J$16:$J$2822,MATCH(ROWS($J$16:J2715),$N$16:$N$2822,0)),\"\")","v":""}]
["24","08","00","0","240801","Powiat","śląskie","mikołowski","mikołowski","mikołowski - Powiat / Województwo  - śląskie / 240801 / ",134669280,143302453.35820001,{"$f":"ISNUMBER(SEARCH(Wyszukiwarka!$A$1,'Porównanie dochodów JST'!J2716))","v":false},{"$f":"IF(M2716,COUNTIF($M$16:M2716,TRUE),\"\")","v":""},{"$f":"IFERROR(INDEX($J$16:$J$2822,MATCH(ROWS($J$16:J2716),$N$16:$N$2822,0)),\"\")","v":""}]
["24","09","00","0","240901","Powiat","śląskie","myszkowski","myszkowski","myszkowski - Powiat / Województwo  - śląskie / 240901 / ",72994592,84109404.960000008,{"$f":"ISNUMBER(SEARCH(Wyszukiwarka!$A$1,'Porównanie dochodów JST'!J2717))","v":false},{"$f":"IF(M2717,COUNTIF($M$16:M2717,TRUE),\"\")","v":""},{"$f":"IFERROR(INDEX($J$16:$J$2822,MATCH(ROWS($J$16:J2717),$N$16:$N$2822,0)),\"\")","v":""}]
["24","10","00","0","241001","Powiat","śląskie","pszczyński","pszczyński","pszczyński - Powiat / Województwo  - śląskie / 241001 / ",130883181,138002570.301,{"$f":"ISNUMBER(SEARCH(Wyszukiwarka!$A$1,'Porównanie dochodów JST'!J2718))","v":false},{"$f":"IF(M2718,COUNTIF($M$16:M2718,TRUE),\"\")","v":""},{"$f":"IFERROR(INDEX($J$16:$J$2822,MATCH(ROWS($J$16:J2718),$N$16:$N$2822,0)),\"\")","v":""}]
["24","11","00","0","241101","Powiat","śląskie","raciborski","raciborski","raciborski - Powiat / Województwo  - śląskie / 241101 / ",131143589,142577889.06004199,{"$f":"ISNUMBER(SEARCH(Wyszukiwarka!$A$1,'Porównanie dochodów JST'!J2719))","v":false},{"$f":"IF(M2719,COUNTIF($M$16:M2719,TRUE),\"\")","v":""},{"$f":"IFERROR(INDEX($J$16:$J$2822,MATCH(ROWS($J$16:J2719),$N$16:$N$2822,0)),\"\")","v":""}]
["24","12","00","0","241201","Powiat","śląskie","rybnicki","rybnicki","rybnicki - Powiat / Województwo  - śląskie / 241201 / ",65420855,75476051.840000004,{"$f":"ISNUMBER(SEARCH(Wyszukiwarka!$A$1,'Porównanie dochodów JST'!J2720))","v":false},{"$f":"IF(M2720,COUNTIF($M$16:M2720,TRUE),\"\")","v":""},{"$f":"IFERROR(INDEX($J$16:$J$2822,MATCH(ROWS($J$16:J2720),$N$16:$N$2822,0)),\"\")","v":""}]
["24","13","00","0","241301","Powiat","śląskie","tarnogórski","tarnogórski","tarnogórski - Powiat / Województwo  - śląskie / 241301 / ",227181643,240584560.99230728,{"$f":"ISNUMBER(SEARCH(Wyszukiwarka!$A$1,'Porównanie dochodów JST'!J2721))","v":false},{"$f":"IF(M2721,COUNTIF($M$16:M2721,TRUE),\"\")","v":""},{"$f":"IFERROR(INDEX($J$16:$J$2822,MATCH(ROWS($J$16:J2721),$N$16:$N$2822,0)),\"\")","v":""}]
["24","14","00","0","241401","Powiat","śląskie","bieruńsko-lędziński","bieruńsko-lędziński","bieruńsko-lędziński - Powiat / Województwo  - śląskie / 241401 / ",61068937,69454217.280000001,{"$f":"ISNUMBER(SEARCH(Wyszukiwarka!$A$1,'Porównanie dochodów JST'!J2722))","v":false},{"$f":"IF(M2722,COUNTIF($M$16:M2722,TRUE),\"\")","v":""},{"$f":"IFERROR(INDEX($J$16:$J$2822,MATCH(ROWS($J$16:J2722),$N$16:$N$2822,0)),\"\")","v":""}]
["24","15","00","0","241501","Powiat","śląskie","wodzisławski","wodzisławski","wodzisławski - Powiat / Województwo  - śląskie / 241501 / ",193584449,204945826.19839692,{"$f":"ISNUMBER(SEARCH(Wyszukiwarka!$A$1,'Porównanie dochodów JST'!J2723))","v":false},{"$f":"IF(M2723,COUNTIF($M$16:M2723,TRUE),\"\")","v":""},{"$f":"IFERROR(INDEX($J$16:$J$2822,MATCH(ROWS($J$16:J2723),$N$16:$N$2822,0)),\"\")","v":""}]
["24","16","00","0","241601","Powiat","śląskie","zawierciański","zawierciański","zawierciański - Powiat / Województwo  - śląskie / 241601 / ",136327316,155382599.68000001,{"$f":"ISNUMBER(SEARCH(Wyszukiwarka!$A$1,'Porównanie dochodów JST'!J2724))","v":false},{"$f":"IF(M2724,COUNTIF($M$16:M2724,TRUE),\"\")","v":""},{"$f":"IFERROR(INDEX($J$16:$J$2822,MATCH(ROWS($J$16:J2724),$N$16:$N$2822,0)),\"\")","v":""}]
["24","17","00","0","241701","Powiat","śląskie","żywiecki","żywiecki","żywiecki - Powiat / Województwo  - śląskie / 241701 / ",213565249,226346962.16720051,{"$f":"ISNUMBER(SEARCH(Wyszukiwarka!$A$1,'Porównanie dochodów JST'!J2725))","v":false},{"$f":"IF(M2725,COUNTIF($M$16:M2725,TRUE),\"\")","v":""},{"$f":"IFERROR(INDEX($J$16:$J$2822,MATCH(ROWS($J$16:J2725),$N$16:$N$2822,0)),\"\")","v":""}]
["26","01","00","0","260101","Powiat","świętokrzyskie","buski","buski","buski - Powiat / Województwo  - świętokrzyskie / 260101 / ",108273566,115604254.57081944,{"$f":"ISNUMBER(SEARCH(Wyszukiwarka!$A$1,'Porównanie dochodów JST'!J2726))","v":false},{"$f":"IF(M2726,COUNTIF($M$16:M2726,TRUE),\"\")","v":""},{"$f":"IFERROR(INDEX($J$16:$J$2822,MATCH(ROWS($J$16:J2726),$N$16:$N$2822,0)),\"\")","v":""}]
["26","02","00","0","260201","Powiat","świętokrzyskie","jędrzejowski","jędrzejowski","jędrzejowski - Powiat / Województwo  - świętokrzyskie / 260201 / ",107061033,114126638.78614269,{"$f":"ISNUMBER(SEARCH(Wyszukiwarka!$A$1,'Porównanie dochodów JST'!J2727))","v":false},{"$f":"IF(M2727,COUNTIF($M$16:M2727,TRUE),\"\")","v":""},{"$f":"IFERROR(INDEX($J$16:$J$2822,MATCH(ROWS($J$16:J2727),$N$16:$N$2822,0)),\"\")","v":""}]
["26","03","00","0","260301","Powiat","świętokrzyskie","kazimierski","kazimierski","kazimierski - Powiat / Województwo  - świętokrzyskie / 260301 / ",62867594,68068340,{"$f":"ISNUMBER(SEARCH(Wyszukiwarka!$A$1,'Porównanie dochodów JST'!J2728))","v":false},{"$f":"IF(M2728,COUNTIF($M$16:M2728,TRUE),\"\")","v":""},{"$f":"IFERROR(INDEX($J$16:$J$2822,MATCH(ROWS($J$16:J2728),$N$16:$N$2822,0)),\"\")","v":""}]
["26","04","00","0","260401","Powiat","świętokrzyskie","kielecki","kielecki","kielecki - Powiat / Województwo  - świętokrzyskie / 260401 / ",153584810,183714951.84,{"$f":"ISNUMBER(SEARCH(Wyszukiwarka!$A$1,'Porównanie dochodów JST'!J2729))","v":false},{"$f":"IF(M2729,COUNTIF($M$16:M2729,TRUE),\"\")","v":""},{"$f":"IFERROR(INDEX($J$16:$J$2822,MATCH(ROWS($J$16:J2729),$N$16:$N$2822,0)),\"\")","v":""}]
["26","05","00","0","260501","Powiat","świętokrzyskie","konecki","konecki","konecki - Powiat / Województwo  - świętokrzyskie / 260501 / ",112919797,122378879.77138551,{"$f":"ISNUMBER(SEARCH(Wyszukiwarka!$A$1,'Porównanie dochodów JST'!J2730))","v":false},{"$f":"IF(M2730,COUNTIF($M$16:M2730,TRUE),\"\")","v":""},{"$f":"IFERROR(INDEX($J$16:$J$2822,MATCH(ROWS($J$16:J2730),$N$16:$N$2822,0)),\"\")","v":""}]
["26","06","00","0","260601","Powiat","świętokrzyskie","opatowski","opatowski","opatowski - Powiat / Województwo  - świętokrzyskie / 260601 / ",96438674,104010117.04203875,{"$f":"ISNUMBER(SEARCH(Wyszukiwarka!$A$1,'Porównanie dochodów JST'!J2731))","v":false},{"$f":"IF(M2731,COUNTIF($M$16:M2731,TRUE),\"\")","v":""},{"$f":"IFERROR(INDEX($J$16:$J$2822,MATCH(ROWS($J$16:J2731),$N$16:$N$2822,0)),\"\")","v":""}]
["26","07","00","0","260701","Powiat","świętokrzyskie","ostrowiecki","ostrowiecki","ostrowiecki - Powiat / Województwo  - świętokrzyskie / 260701 / ",175073555,182116810.07890552,{"$f":"ISNUMBER(SEARCH(Wyszukiwarka!$A$1,'Porównanie dochodów JST'!J2732))","v":false},{"$f":"IF(M2732,COUNTIF($M$16:M2732,TRUE),\"\")","v":""},{"$f":"IFERROR(INDEX($J$16:$J$2822,MATCH(ROWS($J$16:J2732),$N$16:$N$2822,0)),\"\")","v":""}]
["26","08","00","0","260801","Powiat","świętokrzyskie","pińczowski","pińczowski","pińczowski - Powiat / Województwo  - świętokrzyskie / 260801 / ",56373916,62519398,{"$f":"ISNUMBER(SEARCH(Wyszukiwarka!$A$1,'Porównanie dochodów JST'!J2733))","v":false},{"$f":"IF(M2733,COUNTIF($M$16:M2733,TRUE),\"\")","v":""},{"$f":"IFERROR(INDEX($J$16:$J$2822,MATCH(ROWS($J$16:J2733),$N$16:$N$2822,0)),\"\")","v":""}]
["26","09","00","0","260901","Powiat","świętokrzyskie","sandomierski","sandomierski","sandomierski - Powiat / Województwo  - świętokrzyskie / 260901 / ",99420682,105717340.51528165,{"$f":"ISNUMBER(SEARCH(Wyszukiwarka!$A$1,'Porównanie dochodów JST'!J2734))","v":false},{"$f":"IF(M2734,COUNTIF($M$16:M2734,TRUE),\"\")","v":""},{"$f":"IFERROR(INDEX($J$16:$J$2822,MATCH(ROWS($J$16:J2734),$N$16:$N$2822,0)),\"\")","v":""}]
["26","10","00","0","261001","Powiat","świętokrzyskie","skarżyski","skarżyski","skarżyski - Powiat / Województwo  - świętokrzyskie / 261001 / ",136008126,143891474.03489849,{"$f":"ISNUMBER(SEARCH(Wyszukiwarka!$A$1,'Porównanie dochodów JST'!J2735))","v":false},{"$f":"IF(M2735,COUNTIF($M$16:M2735,TRUE),\"\")","v":""},{"$f":"IFERROR(INDEX($J$16:$J$2822,MATCH(ROWS($J$16:J2735),$N$16:$N$2822,0)),\"\")","v":""}]
["26","11","00","0","261101","Powiat","świętokrzyskie","starachowicki","starachowicki","starachowicki - Powiat / Województwo  - świętokrzyskie / 261101 / ",117248940,122985677.92752525,{"$f":"ISNUMBER(SEARCH(Wyszukiwarka!$A$1,'Porównanie dochodów JST'!J2736))","v":false},{"$f":"IF(M2736,COUNTIF($M$16:M2736,TRUE),\"\")","v":""},{"$f":"IFERROR(INDEX($J$16:$J$2822,MATCH(ROWS($J$16:J2736),$N$16:$N$2822,0)),\"\")","v":""}]
["26","12","00","0","261201","Powiat","świętokrzyskie","staszowski","staszowski","staszowski - Powiat / Województwo  - świętokrzyskie / 261201 / ",81089653,87254961,{"$f":"ISNUMBER(SEARCH(Wyszukiwarka!$A$1,'Porównanie dochodów JST'!J2737))","v":false},{"$f":"IF(M2737,COUNTIF($M$16:M2737,TRUE),\"\")","v":""},{"$f":"IFERROR(INDEX($J$16:$J$2822,MATCH(ROWS($J$16:J2737),$N$16:$N$2822,0)),\"\")","v":""}]
["26","13","00","0","261301","Powiat","świętokrzyskie","włoszczowski","włoszczowski","włoszczowski - Powiat / Województwo  - świętokrzyskie / 261301 / ",64593206,70495391.686851561,{"$f":"ISNUMBER(SEARCH(Wyszukiwarka!$A$1,'Porównanie dochodów JST'!J2738))","v":false},{"$f":"IF(M2738,COUNTIF($M$16:M2738,TRUE),\"\")","v":""},{"$f":"IFERROR(INDEX($J$16:$J$2822,MATCH(ROWS($J$16:J2738),$N$16:$N$2822,0)),\"\")","v":""}]
["28","01","00","0","280101","Powiat","warmińsko-mazurskie","bartoszycki","bartoszycki","bartoszycki - Powiat / Województwo  - warmińsko-mazurskie / 280101 / ",92411701,103124002.65433684,{"$f":"ISNUMBER(SEARCH(Wyszukiwarka!$A$1,'Porównanie dochodów JST'!J2739))","v":false},{"$f":"IF(M2739,COUNTIF($M$16:M2739,TRUE),\"\")","v":""},{"$f":"IFERROR(INDEX($J$16:$J$2822,MATCH(ROWS($J$16:J2739),$N$16:$N$2822,0)),\"\")","v":""}]
["28","02","00","0","280201","Powiat","warmińsko-mazurskie","braniewski","braniewski","braniewski - Powiat / Województwo  - warmińsko-mazurskie / 280201 / ",62845352,71098957.000000015,{"$f":"ISNUMBER(SEARCH(Wyszukiwarka!$A$1,'Porównanie dochodów JST'!J2740))","v":false},{"$f":"IF(M2740,COUNTIF($M$16:M2740,TRUE),\"\")","v":""},{"$f":"IFERROR(INDEX($J$16:$J$2822,MATCH(ROWS($J$16:J2740),$N$16:$N$2822,0)),\"\")","v":""}]
["28","03","00","0","280301","Powiat","warmińsko-mazurskie","działdowski","działdowski","działdowski - Powiat / Województwo  - warmińsko-mazurskie / 280301 / ",97860471,106152001.94541018,{"$f":"ISNUMBER(SEARCH(Wyszukiwarka!$A$1,'Porównanie dochodów JST'!J2741))","v":false},{"$f":"IF(M2741,COUNTIF($M$16:M2741,TRUE),\"\")","v":""},{"$f":"IFERROR(INDEX($J$16:$J$2822,MATCH(ROWS($J$16:J2741),$N$16:$N$2822,0)),\"\")","v":""}]
["28","04","00","0","280401","Powiat","warmińsko-mazurskie","elbląski","elbląski","elbląski - Powiat / Województwo  - warmińsko-mazurskie / 280401 / ",67288675,76358110,{"$f":"ISNUMBER(SEARCH(Wyszukiwarka!$A$1,'Porównanie dochodów JST'!J2742))","v":false},{"$f":"IF(M2742,COUNTIF($M$16:M2742,TRUE),\"\")","v":""},{"$f":"IFERROR(INDEX($J$16:$J$2822,MATCH(ROWS($J$16:J2742),$N$16:$N$2822,0)),\"\")","v":""}]
["28","05","00","0","280501","Powiat","warmińsko-mazurskie","ełcki","ełcki","ełcki - Powiat / Województwo  - warmińsko-mazurskie / 280501 / ",154068865,165904651.8297841,{"$f":"ISNUMBER(SEARCH(Wyszukiwarka!$A$1,'Porównanie dochodów JST'!J2743))","v":false},{"$f":"IF(M2743,COUNTIF($M$16:M2743,TRUE),\"\")","v":""},{"$f":"IFERROR(INDEX($J$16:$J$2822,MATCH(ROWS($J$16:J2743),$N$16:$N$2822,0)),\"\")","v":""}]
["28","06","00","0","280601","Powiat","warmińsko-mazurskie","giżycki","giżycki","giżycki - Powiat / Województwo  - warmińsko-mazurskie / 280601 / ",99635467,106290261,{"$f":"ISNUMBER(SEARCH(Wyszukiwarka!$A$1,'Porównanie dochodów JST'!J2744))","v":false},{"$f":"IF(M2744,COUNTIF($M$16:M2744,TRUE),\"\")","v":""},{"$f":"IFERROR(INDEX($J$16:$J$2822,MATCH(ROWS($J$16:J2744),$N$16:$N$2822,0)),\"\")","v":""}]
["28","07","00","0","280701","Powiat","warmińsko-mazurskie","iławski","iławski","iławski - Powiat / Województwo  - warmińsko-mazurskie / 280701 / ",139460785,152821471.74939978,{"$f":"ISNUMBER(SEARCH(Wyszukiwarka!$A$1,'Porównanie dochodów JST'!J2745))","v":false},{"$f":"IF(M2745,COUNTIF($M$16:M2745,TRUE),\"\")","v":""},{"$f":"IFERROR(INDEX($J$16:$J$2822,MATCH(ROWS($J$16:J2745),$N$16:$N$2822,0)),\"\")","v":""}]
["28","08","00","0","280801","Powiat","warmińsko-mazurskie","kętrzyński","kętrzyński","kętrzyński - Powiat / Województwo  - warmińsko-mazurskie / 280801 / ",104366568,116532402.71381205,{"$f":"ISNUMBER(SEARCH(Wyszukiwarka!$A$1,'Porównanie dochodów JST'!J2746))","v":false},{"$f":"IF(M2746,COUNTIF($M$16:M2746,TRUE),\"\")","v":""},{"$f":"IFERROR(INDEX($J$16:$J$2822,MATCH(ROWS($J$16:J2746),$N$16:$N$2822,0)),\"\")","v":""}]
["28","09","00","0","280901","Powiat","warmińsko-mazurskie","lidzbarski","lidzbarski","lidzbarski - Powiat / Województwo  - warmińsko-mazurskie / 280901 / ",64095494,70942538.999999985,{"$f":"ISNUMBER(SEARCH(Wyszukiwarka!$A$1,'Porównanie dochodów JST'!J2747))","v":false},{"$f":"IF(M2747,COUNTIF($M$16:M2747,TRUE),\"\")","v":""},{"$f":"IFERROR(INDEX($J$16:$J$2822,MATCH(ROWS($J$16:J2747),$N$16:$N$2822,0)),\"\")","v":""}]
["28","10","00","0","281001","Powiat","warmińsko-mazurskie","mrągowski","mrągowski",{"$f":"I2748&$H$12&F2748&$G$12&$G$14&$H$12&G2748&$G$12&E2748&$G$12","v":"mrągowski - Powiat / Województwo  - warmińsko-mazurskie / 281001 / "},65723470,72561008.881753534,{"$f":"ISNUMBER(SEARCH(Wyszukiwarka!$A$1,'Porównanie dochodów JST'!J2748))","v":false},{"$f":"IF(M2748,COUNTIF($M$16:M2748,TRUE),\"\")","v":""},{"$f":"IFERROR(INDEX($J$16:$J$2822,MATCH(ROWS($J$16:J2748),$N$16:$N$2822,0)),\"\")","v":""}]
["28","11","00","0","281101","Powiat","warmińsko-mazurskie","nidzicki","nidzicki","nidzicki - Powiat / Województwo  - warmińsko-mazurskie / 281101 / ",55437110,60334738,{"$f":"ISNUMBER(SEARCH(Wyszukiwarka!$A$1,'Porównanie dochodów JST'!J2749))","v":false},{"$f":"IF(M2749,COUNTIF($M$16:M2749,TRUE),\"\")","v":""},{"$f":"IFERROR(INDEX($J$16:$J$2822,MATCH(ROWS($J$16:J2749),$N$16:$N$2822,0)),\"\")","v":""}]
["28","12","00","0","281201","Powiat","warmińsko-mazurskie","nowomiejski","nowomiejski","nowomiejski - Powiat / Województwo  - warmińsko-mazurskie / 281201 / ",55522865,62253349.565033525,{"$f":"ISNUMBER(SEARCH(Wyszukiwarka!$A$1,'Porównanie dochodów JST'!J2750))","v":false},{"$f":"IF(M2750,COUNTIF($M$16:M2750,TRUE),\"\")","v":""},{"$f":"IFERROR(INDEX($J$16:$J$2822,MATCH(ROWS($J$16:J2750),$N$16:$N$2822,0)),\"\")","v":""}]
["28","13","00","0","281301","Powiat","warmińsko-mazurskie","olecki","olecki","olecki - Powiat / Województwo  - warmińsko-mazurskie / 281301 / ",62691013,65032585.940010771,{"$f":"ISNUMBER(SEARCH(Wyszukiwarka!$A$1,'Porównanie dochodów JST'!J2751))","v":false},{"$f":"IF(M2751,COUNTIF($M$16:M2751,TRUE),\"\")","v":""},{"$f":"IFERROR(INDEX($J$16:$J$2822,MATCH(ROWS($J$16:J2751),$N$16:$N$2822,0)),\"\")","v":""}]
["28","14","00","0","281401","Powiat","warmińsko-mazurskie","olsztyński","olsztyński","olsztyński - Powiat / Województwo  - warmińsko-mazurskie / 281401 / ",130663528,146914341.03320864,{"$f":"ISNUMBER(SEARCH(Wyszukiwarka!$A$1,'Porównanie dochodów JST'!J2752))","v":false},{"$f":"IF(M2752,COUNTIF($M$16:M2752,TRUE),\"\")","v":""},{"$f":"IFERROR(INDEX($J$16:$J$2822,MATCH(ROWS($J$16:J2752),$N$16:$N$2822,0)),\"\")","v":""}]
["28","15","00","0","281501","Powiat","warmińsko-mazurskie","ostródzki","ostródzki","ostródzki - Powiat / Województwo  - warmińsko-mazurskie / 281501 / ",169802401,182328984.9153229,{"$f":"ISNUMBER(SEARCH(Wyszukiwarka!$A$1,'Porównanie dochodów JST'!J2753))","v":false},{"$f":"IF(M2753,COUNTIF($M$16:M2753,TRUE),\"\")","v":""},{"$f":"IFERROR(INDEX($J$16:$J$2822,MATCH(ROWS($J$16:J2753),$N$16:$N$2822,0)),\"\")","v":""}]
["28","16","00","0","281601","Powiat","warmińsko-mazurskie","piski","piski","piski - Powiat / Województwo  - warmińsko-mazurskie / 281601 / ",87150183,96484376,{"$f":"ISNUMBER(SEARCH(Wyszukiwarka!$A$1,'Porównanie dochodów JST'!J2754))","v":false},{"$f":"IF(M2754,COUNTIF($M$16:M2754,TRUE),\"\")","v":""},{"$f":"IFERROR(INDEX($J$16:$J$2822,MATCH(ROWS($J$16:J2754),$N$16:$N$2822,0)),\"\")","v":""}]
["28","17","00","0","281701","Powiat","warmińsko-mazurskie","szczycieński","szczycieński","szczycieński - Powiat / Województwo  - warmińsko-mazurskie / 281701 / ",92398046,98717985.634279072,{"$f":"ISNUMBER(SEARCH(Wyszukiwarka!$A$1,'Porównanie dochodów JST'!J2755))","v":false},{"$f":"IF(M2755,COUNTIF($M$16:M2755,TRUE),\"\")","v":""},{"$f":"IFERROR(INDEX($J$16:$J$2822,MATCH(ROWS($J$16:J2755),$N$16:$N$2822,0)),\"\")","v":""}]
["28","18","00","0","281801","Powiat","warmińsko-mazurskie","gołdapski","gołdapski","gołdapski - Powiat / Województwo  - warmińsko-mazurskie / 281801 / ",39029003,45128913,{"$f":"ISNUMBER(SEARCH(Wyszukiwarka!$A$1,'Porównanie dochodów JST'!J2756))","v":false},{"$f":"IF(M2756,COUNTIF($M$16:M2756,TRUE),\"\")","v":""},{"$f":"IFERROR(INDEX($J$16:$J$2822,MATCH(ROWS($J$16:J2756),$N$16:$N$2822,0)),\"\")","v":""}]
["28","19","00","0","281901","Powiat","warmińsko-mazurskie","węgorzewski","węgorzewski","węgorzewski - Powiat / Województwo  - warmińsko-mazurskie / 281901 / ",34586355,40230634.399999999,{"$f":"ISNUMBER(SEARCH(Wyszukiwarka!$A$1,'Porównanie dochodów JST'!J2757))","v":false},{"$f":"IF(M2757,COUNTIF($M$16:M2757,TRUE),\"\")","v":""},{"$f":"IFERROR(INDEX($J$16:$J$2822,MATCH(ROWS($J$16:J2757),$N$16:$N$2822,0)),\"\")","v":""}]
["30","01","00","0","300101","Powiat","wielkopolskie","chodzieski","chodzieski","chodzieski - Powiat / Województwo  - wielkopolskie / 300101 / ",64774346,73037777.120000005,{"$f":"ISNUMBER(SEARCH(Wyszukiwarka!$A$1,'Porównanie dochodów JST'!J2758))","v":false},{"$f":"IF(M2758,COUNTIF($M$16:M2758,TRUE),\"\")","v":""},{"$f":"IFERROR(INDEX($J$16:$J$2822,MATCH(ROWS($J$16:J2758),$N$16:$N$2822,0)),\"\")","v":""}]
["30","02","00","0","300201","Powiat","wielkopolskie","czarnkowsko-trzcianecki","czarnkowsko-trzcianecki","czarnkowsko-trzcianecki - Powiat / Województwo  - wielkopolskie / 300201 / ",116845012,131642155.49286705,{"$f":"ISNUMBER(SEARCH(Wyszukiwarka!$A$1,'Porównanie dochodów JST'!J2759))","v":false},{"$f":"IF(M2759,COUNTIF($M$16:M2759,TRUE),\"\")","v":""},{"$f":"IFERROR(INDEX($J$16:$J$2822,MATCH(ROWS($J$16:J2759),$N$16:$N$2822,0)),\"\")","v":""}]
["30","03","00","0","300301","Powiat","wielkopolskie","gnieźnieński","gnieźnieński","gnieźnieński - Powiat / Województwo  - wielkopolskie / 300301 / ",222469216,235602328.3660771,{"$f":"ISNUMBER(SEARCH(Wyszukiwarka!$A$1,'Porównanie dochodów JST'!J2760))","v":false},{"$f":"IF(M2760,COUNTIF($M$16:M2760,TRUE),\"\")","v":""},{"$f":"IFERROR(INDEX($J$16:$J$2822,MATCH(ROWS($J$16:J2760),$N$16:$N$2822,0)),\"\")","v":""}]
["30","04","00","0","300401","Powiat","wielkopolskie","gostyński","gostyński","gostyński - Powiat / Województwo  - wielkopolskie / 300401 / ",90074394,103392731.68000001,{"$f":"ISNUMBER(SEARCH(Wyszukiwarka!$A$1,'Porównanie dochodów JST'!J2761))","v":false},{"$f":"IF(M2761,COUNTIF($M$16:M2761,TRUE),\"\")","v":""},{"$f":"IFERROR(INDEX($J$16:$J$2822,MATCH(ROWS($J$16:J2761),$N$16:$N$2822,0)),\"\")","v":""}]
["30","05","00","0","300501","Powiat","wielkopolskie","grodziski","grodziski","grodziski - Powiat / Województwo  - wielkopolskie / 300501 / ",62028216,68600064.652799994,{"$f":"ISNUMBER(SEARCH(Wyszukiwarka!$A$1,'Porównanie dochodów JST'!J2762))","v":false},{"$f":"IF(M2762,COUNTIF($M$16:M2762,TRUE),\"\")","v":""},{"$f":"IFERROR(INDEX($J$16:$J$2822,MATCH(ROWS($J$16:J2762),$N$16:$N$2822,0)),\"\")","v":""}]
["30","06","00","0","300601","Powiat","wielkopolskie","jarociński","jarociński","jarociński - Powiat / Województwo  - wielkopolskie / 300601 / ",106520493,113658615.93151611,{"$f":"ISNUMBER(SEARCH(Wyszukiwarka!$A$1,'Porównanie dochodów JST'!J2763))","v":false},{"$f":"IF(M2763,COUNTIF($M$16:M2763,TRUE),\"\")","v":""},{"$f":"IFERROR(INDEX($J$16:$J$2822,MATCH(ROWS($J$16:J2763),$N$16:$N$2822,0)),\"\")","v":""}]
["30","07","00","0","300701","Powiat","wielkopolskie","kaliski","kaliski","kaliski - Powiat / Województwo  - wielkopolskie / 300701 / ",66816462,77381580.640000001,{"$f":"ISNUMBER(SEARCH(Wyszukiwarka!$A$1,'Porównanie dochodów JST'!J2764))","v":false},{"$f":"IF(M2764,COUNTIF($M$16:M2764,TRUE),\"\")","v":""},{"$f":"IFERROR(INDEX($J$16:$J$2822,MATCH(ROWS($J$16:J2764),$N$16:$N$2822,0)),\"\")","v":""}]
["30","08","00","0","300801","Powiat","wielkopolskie","kępiński","kępiński","kępiński - Powiat / Województwo  - wielkopolskie / 300801 / ",75771283,82431341.568223134,{"$f":"ISNUMBER(SEARCH(Wyszukiwarka!$A$1,'Porównanie dochodów JST'!J2765))","v":false},{"$f":"IF(M2765,COUNTIF($M$16:M2765,TRUE),\"\")","v":""},{"$f":"IFERROR(INDEX($J$16:$J$2822,MATCH(ROWS($J$16:J2765),$N$16:$N$2822,0)),\"\")","v":""}]
["30","09","00","0","300901","Powiat","wielkopolskie","kolski","kolski","kolski - Powiat / Województwo  - wielkopolskie / 300901 / ",102951579,112363028.63388053,{"$f":"ISNUMBER(SEARCH(Wyszukiwarka!$A$1,'Porównanie dochodów JST'!J2766))","v":false},{"$f":"IF(M2766,COUNTIF($M$16:M2766,TRUE),\"\")","v":""},{"$f":"IFERROR(INDEX($J$16:$J$2822,MATCH(ROWS($J$16:J2766),$N$16:$N$2822,0)),\"\")","v":""}]
["30","10","00","0","301001","Powiat","wielkopolskie","koniński","koniński","koniński - Powiat / Województwo  - wielkopolskie / 301001 / ",122128040,135851110.73744118,{"$f":"ISNUMBER(SEARCH(Wyszukiwarka!$A$1,'Porównanie dochodów JST'!J2767))","v":false},{"$f":"IF(M2767,COUNTIF($M$16:M2767,TRUE),\"\")","v":""},{"$f":"IFERROR(INDEX($J$16:$J$2822,MATCH(ROWS($J$16:J2767),$N$16:$N$2822,0)),\"\")","v":""}]
["30","11","00","0","301101","Powiat","wielkopolskie","kościański","kościański","kościański - Powiat / Województwo  - wielkopolskie / 301101 / ",83082052,90554516.666799992,{"$f":"ISNUMBER(SEARCH(Wyszukiwarka!$A$1,'Porównanie dochodów JST'!J2768))","v":false},{"$f":"IF(M2768,COUNTIF($M$16:M2768,TRUE),\"\")","v":""},{"$f":"IFERROR(INDEX($J$16:$J$2822,MATCH(ROWS($J$16:J2768),$N$16:$N$2822,0)),\"\")","v":""}]
["30","12","00","0","301201","Powiat","wielkopolskie","krotoszyński","krotoszyński","krotoszyński - Powiat / Województwo  - wielkopolskie / 301201 / ",118533346,125873396,{"$f":"ISNUMBER(SEARCH(Wyszukiwarka!$A$1,'Porównanie dochodów JST'!J2769))","v":false},{"$f":"IF(M2769,COUNTIF($M$16:M2769,TRUE),\"\")","v":""},{"$f":"IFERROR(INDEX($J$16:$J$2822,MATCH(ROWS($J$16:J2769),$N$16:$N$2822,0)),\"\")","v":""}]
["30","13","00","0","301301","Powiat","wielkopolskie","leszczyński","leszczyński","leszczyński - Powiat / Województwo  - wielkopolskie / 301301 / ",61585007,68215203,{"$f":"ISNUMBER(SEARCH(Wyszukiwarka!$A$1,'Porównanie dochodów JST'!J2770))","v":false},{"$f":"IF(M2770,COUNTIF($M$16:M2770,TRUE),\"\")","v":""},{"$f":"IFERROR(INDEX($J$16:$J$2822,MATCH(ROWS($J$16:J2770),$N$16:$N$2822,0)),\"\")","v":""}]
["30","14","00","0","301401","Powiat","wielkopolskie","międzychodzki","międzychodzki","międzychodzki - Powiat / Województwo  - wielkopolskie / 301401 / ",42551133,47692140,{"$f":"ISNUMBER(SEARCH(Wyszukiwarka!$A$1,'Porównanie dochodów JST'!J2771))","v":false},{"$f":"IF(M2771,COUNTIF($M$16:M2771,TRUE),\"\")","v":""},{"$f":"IFERROR(INDEX($J$16:$J$2822,MATCH(ROWS($J$16:J2771),$N$16:$N$2822,0)),\"\")","v":""}]
["30","15","00","0","301501","Powiat","wielkopolskie","nowotomyski","nowotomyski","nowotomyski - Powiat / Województwo  - wielkopolskie / 301501 / ",96145042,103565511,{"$f":"ISNUMBER(SEARCH(Wyszukiwarka!$A$1,'Porównanie dochodów JST'!J2772))","v":false},{"$f":"IF(M2772,COUNTIF($M$16:M2772,TRUE),\"\")","v":""},{"$f":"IFERROR(INDEX($J$16:$J$2822,MATCH(ROWS($J$16:J2772),$N$16:$N$2822,0)),\"\")","v":""}]
["30","16","00","0","301601","Powiat","wielkopolskie","obornicki","obornicki","obornicki - Powiat / Województwo  - wielkopolskie / 301601 / ",69071885,75884318,{"$f":"ISNUMBER(SEARCH(Wyszukiwarka!$A$1,'Porównanie dochodów JST'!J2773))","v":false},{"$f":"IF(M2773,COUNTIF($M$16:M2773,TRUE),\"\")","v":""},{"$f":"IFERROR(INDEX($J$16:$J$2822,MATCH(ROWS($J$16:J2773),$N$16:$N$2822,0)),\"\")","v":""}]
["30","17","00","0","301701","Powiat","wielkopolskie","ostrowski","ostrowski","ostrowski - Powiat / Województwo  - wielkopolskie / 301701 / ",219292513,232630006.68461615,{"$f":"ISNUMBER(SEARCH(Wyszukiwarka!$A$1,'Porównanie dochodów JST'!J2774))","v":false},{"$f":"IF(M2774,COUNTIF($M$16:M2774,TRUE),\"\")","v":""},{"$f":"IFERROR(INDEX($J$16:$J$2822,MATCH(ROWS($J$16:J2774),$N$16:$N$2822,0)),\"\")","v":""}]
["30","18","00","0","301801","Powiat","wielkopolskie","ostrzeszowski","ostrzeszowski","ostrzeszowski - Powiat / Województwo  - wielkopolskie / 301801 / ",70938863,80804159.519999996,{"$f":"ISNUMBER(SEARCH(Wyszukiwarka!$A$1,'Porównanie dochodów JST'!J2775))","v":false},{"$f":"IF(M2775,COUNTIF($M$16:M2775,TRUE),\"\")","v":""},{"$f":"IFERROR(INDEX($J$16:$J$2822,MATCH(ROWS($J$16:J2775),$N$16:$N$2822,0)),\"\")","v":""}]
["30","19","00","0","301901","Powiat","wielkopolskie","pilski","pilski","pilski - Powiat / Województwo  - wielkopolskie / 301901 / ",203394492,231860705.44,{"$f":"ISNUMBER(SEARCH(Wyszukiwarka!$A$1,'Porównanie dochodów JST'!J2776))","v":false},{"$f":"IF(M2776,COUNTIF($M$16:M2776,TRUE),\"\")","v":""},{"$f":"IFERROR(INDEX($J$16:$J$2822,MATCH(ROWS($J$16:J2776),$N$16:$N$2822,0)),\"\")","v":""}]
["30","20","00","0","302001","Powiat","wielkopolskie","pleszewski","pleszewski","pleszewski - Powiat / Województwo  - wielkopolskie / 302001 / ",72608383,82523464.111811176,{"$f":"ISNUMBER(SEARCH(Wyszukiwarka!$A$1,'Porównanie dochodów JST'!J2777))","v":false},{"$f":"IF(M2777,COUNTIF($M$16:M2777,TRUE),\"\")","v":""},{"$f":"IFERROR(INDEX($J$16:$J$2822,MATCH(ROWS($J$16:J2777),$N$16:$N$2822,0)),\"\")","v":""}]
["30","21","00","0","302101","Powiat","wielkopolskie","poznański","poznański","poznański - Powiat / Województwo  - wielkopolskie / 302101 / ",381658474,448280532.00000006,{"$f":"ISNUMBER(SEARCH(Wyszukiwarka!$A$1,'Porównanie dochodów JST'!J2778))","v":false},{"$f":"IF(M2778,COUNTIF($M$16:M2778,TRUE),\"\")","v":""},{"$f":"IFERROR(INDEX($J$16:$J$2822,MATCH(ROWS($J$16:J2778),$N$16:$N$2822,0)),\"\")","v":""}]
["30","22","00","0","302201","Powiat","wielkopolskie","rawicki","rawicki","rawicki - Powiat / Województwo  - wielkopolskie / 302201 / ",66613102,75852465.699959472,{"$f":"ISNUMBER(SEARCH(Wyszukiwarka!$A$1,'Porównanie dochodów JST'!J2779))","v":false},{"$f":"IF(M2779,COUNTIF($M$16:M2779,TRUE),\"\")","v":""},{"$f":"IFERROR(INDEX($J$16:$J$2822,MATCH(ROWS($J$16:J2779),$N$16:$N$2822,0)),\"\")","v":""}]
["30","23","00","0","302301","Powiat","wielkopolskie","słupecki","słupecki","słupecki - Powiat / Województwo  - wielkopolskie / 302301 / ",80050197,88912796.144529492,{"$f":"ISNUMBER(SEARCH(Wyszukiwarka!$A$1,'Porównanie dochodów JST'!J2780))","v":false},{"$f":"IF(M2780,COUNTIF($M$16:M2780,TRUE),\"\")","v":""},{"$f":"IFERROR(INDEX($J$16:$J$2822,MATCH(ROWS($J$16:J2780),$N$16:$N$2822,0)),\"\")","v":""}]
["30","24","00","0","302401","Powiat","wielkopolskie","szamotulski","szamotulski","szamotulski - Powiat / Województwo  - wielkopolskie / 302401 / ",106804752,115404621.92000002,{"$f":"ISNUMBER(SEARCH(Wyszukiwarka!$A$1,'Porównanie dochodów JST'!J2781))","v":false},{"$f":"IF(M2781,COUNTIF($M$16:M2781,TRUE),\"\")","v":""},{"$f":"IFERROR(INDEX($J$16:$J$2822,MATCH(ROWS($J$16:J2781),$N$16:$N$2822,0)),\"\")","v":""}]
["30","25","00","0","302501","Powiat","wielkopolskie","średzki","średzki","średzki - Powiat / Województwo  - wielkopolskie / 302501 / ",74905780,81737837,{"$f":"ISNUMBER(SEARCH(Wyszukiwarka!$A$1,'Porównanie dochodów JST'!J2782))","v":false},{"$f":"IF(M2782,COUNTIF($M$16:M2782,TRUE),\"\")","v":""},{"$f":"IFERROR(INDEX($J$16:$J$2822,MATCH(ROWS($J$16:J2782),$N$16:$N$2822,0)),\"\")","v":""}]
["30","26","00","0","302601","Powiat","wielkopolskie","śremski","śremski","śremski - Powiat / Województwo  - wielkopolskie / 302601 / ",91853700,100298573.5576244,{"$f":"ISNUMBER(SEARCH(Wyszukiwarka!$A$1,'Porównanie dochodów JST'!J2783))","v":false},{"$f":"IF(M2783,COUNTIF($M$16:M2783,TRUE),\"\")","v":""},{"$f":"IFERROR(INDEX($J$16:$J$2822,MATCH(ROWS($J$16:J2783),$N$16:$N$2822,0)),\"\")","v":""}]
["30","27","00","0","302701","Powiat","wielkopolskie","turecki","turecki","turecki - Powiat / Województwo  - wielkopolskie / 302701 / ",105521241,112941546,{"$f":"ISNUMBER(SEARCH(Wyszukiwarka!$A$1,'Porównanie dochodów JST'!J2784))","v":false},{"$f":"IF(M2784,COUNTIF($M$16:M2784,TRUE),\"\")","v":""},{"$f":"IFERROR(INDEX($J$16:$J$2822,MATCH(ROWS($J$16:J2784),$N$16:$N$2822,0)),\"\")","v":""}]
["30","28","00","0","302801","Powiat","wielkopolskie","wągrowiecki","wągrowiecki","wągrowiecki - Powiat / Województwo  - wielkopolskie / 302801 / ",108909748,116138967,{"$f":"ISNUMBER(SEARCH(Wyszukiwarka!$A$1,'Porównanie dochodów JST'!J2785))","v":false},{"$f":"IF(M2785,COUNTIF($M$16:M2785,TRUE),\"\")","v":""},{"$f":"IFERROR(INDEX($J$16:$J$2822,MATCH(ROWS($J$16:J2785),$N$16:$N$2822,0)),\"\")","v":""}]
["30","29","00","0","302901","Powiat","wielkopolskie","wolsztyński","wolsztyński","wolsztyński - Powiat / Województwo  - wielkopolskie / 302901 / ",83339059,89984978.954319358,{"$f":"ISNUMBER(SEARCH(Wyszukiwarka!$A$1,'Porównanie dochodów JST'!J2786))","v":false},{"$f":"IF(M2786,COUNTIF($M$16:M2786,TRUE),\"\")","v":""},{"$f":"IFERROR(INDEX($J$16:$J$2822,MATCH(ROWS($J$16:J2786),$N$16:$N$2822,0)),\"\")","v":""}]
["30","30","00","0","303001","Powiat","wielkopolskie","wrzesiński","wrzesiński","wrzesiński - Powiat / Województwo  - wielkopolskie / 303001 / ",110330047,117659657,{"$f":"ISNUMBER(SEARCH(Wyszukiwarka!$A$1,'Porównanie dochodów JST'!J2787))","v":false},{"$f":"IF(M2787,COUNTIF($M$16:M2787,TRUE),\"\")","v":""},{"$f":"IFERROR(INDEX($J$16:$J$2822,MATCH(ROWS($J$16:J2787),$N$16:$N$2822,0)),\"\")","v":""}]
["30","31","00","0","303101","Powiat","wielkopolskie","złotowski","złotowski","złotowski - Powiat / Województwo  - wielkopolskie / 303101 / ",94954011,102124756,{"$f":"ISNUMBER(SEARCH(Wyszukiwarka!$A$1,'Porównanie dochodów JST'!J2788))","v":false},{"$f":"IF(M2788,COUNTIF($M$16:M2788,TRUE),\"\")","v":""},{"$f":"IFERROR(INDEX($J$16:$J$2822,MATCH(ROWS($J$16:J2788),$N$16:$N$2822,0)),\"\")","v":""}]
["32","01","00","0","320101","Powiat","zachodniopomorskie","białogardzki","białogardzki","białogardzki - Powiat / Województwo  - zachodniopomorskie / 320101 / ",84028041,90437012.73769629,{"$f":"ISNUMBER(SEARCH(Wyszukiwarka!$A$1,'Porównanie dochodów JST'!J2789))","v":false},{"$f":"IF(M2789,COUNTIF($M$16:M2789,TRUE),\"\")","v":""},{"$f":"IFERROR(INDEX($J$16:$J$2822,MATCH(ROWS($J$16:J2789),$N$16:$N$2822,0)),\"\")","v":""}]
["32","02","00","0","320201","Powiat","zachodniopomorskie","choszczeński","choszczeński","choszczeński - Powiat / Województwo  - zachodniopomorskie / 320201 / ",72573063,79762834.594285652,{"$f":"ISNUMBER(SEARCH(Wyszukiwarka!$A$1,'Porównanie dochodów JST'!J2790))","v":false},{"$f":"IF(M2790,COUNTIF($M$16:M2790,TRUE),\"\")","v":""},{"$f":"IFERROR(INDEX($J$16:$J$2822,MATCH(ROWS($J$16:J2790),$N$16:$N$2822,0)),\"\")","v":""}]
["32","03","00","0","320301","Powiat","zachodniopomorskie","drawski","drawski","drawski - Powiat / Województwo  - zachodniopomorskie / 320301 / ",121547297,129970985,{"$f":"ISNUMBER(SEARCH(Wyszukiwarka!$A$1,'Porównanie dochodów JST'!J2791))","v":false},{"$f":"IF(M2791,COUNTIF($M$16:M2791,TRUE),\"\")","v":""},{"$f":"IFERROR(INDEX($J$16:$J$2822,MATCH(ROWS($J$16:J2791),$N$16:$N$2822,0)),\"\")","v":""}]
["32","04","00","0","320401","Powiat","zachodniopomorskie","goleniowski","goleniowski","goleniowski - Powiat / Województwo  - zachodniopomorskie / 320401 / ",105575536,113383050,{"$f":"ISNUMBER(SEARCH(Wyszukiwarka!$A$1,'Porównanie dochodów JST'!J2792))","v":false},{"$f":"IF(M2792,COUNTIF($M$16:M2792,TRUE),\"\")","v":""},{"$f":"IFERROR(INDEX($J$16:$J$2822,MATCH(ROWS($J$16:J2792),$N$16:$N$2822,0)),\"\")","v":""}]
["32","05","00","0","320501","Powiat","zachodniopomorskie","gryficki","gryficki","gryficki - Powiat / Województwo  - zachodniopomorskie / 320501 / ",72168831,80202418.24000001,{"$f":"ISNUMBER(SEARCH(Wyszukiwarka!$A$1,'Porównanie dochodów JST'!J2793))","v":false},{"$f":"IF(M2793,COUNTIF($M$16:M2793,TRUE),\"\")","v":""},{"$f":"IFERROR(INDEX($J$16:$J$2822,MATCH(ROWS($J$16:J2793),$N$16:$N$2822,0)),\"\")","v":""}]
["32","06","00","0","320601","Powiat","zachodniopomorskie","gryfiński","gryfiński","gryfiński - Powiat / Województwo  - zachodniopomorskie / 320601 / ",82791229,91397788.737444699,{"$f":"ISNUMBER(SEARCH(Wyszukiwarka!$A$1,'Porównanie dochodów JST'!J2794))","v":false},{"$f":"IF(M2794,COUNTIF($M$16:M2794,TRUE),\"\")","v":""},{"$f":"IFERROR(INDEX($J$16:$J$2822,MATCH(ROWS($J$16:J2794),$N$16:$N$2822,0)),\"\")","v":""}]
["32","07","00","0","320701","Powiat","zachodniopomorskie","kamieński","kamieński","kamieński - Powiat / Województwo  - zachodniopomorskie / 320701 / ",64819375,71168497.581977785,{"$f":"ISNUMBER(SEARCH(Wyszukiwarka!$A$1,'Porównanie dochodów JST'!J2795))","v":false},{"$f":"IF(M2795,COUNTIF($M$16:M2795,TRUE),\"\")","v":""},{"$f":"IFERROR(INDEX($J$16:$J$2822,MATCH(ROWS($J$16:J2795),$N$16:$N$2822,0)),\"\")","v":""}]
["32","08","00","0","320801","Powiat","zachodniopomorskie","kołobrzeski","kołobrzeski","kołobrzeski - Powiat / Województwo  - zachodniopomorskie / 320801 / ",119795806,126904493.55337656,{"$f":"ISNUMBER(SEARCH(Wyszukiwarka!$A$1,'Porównanie dochodów JST'!J2796))","v":false},{"$f":"IF(M2796,COUNTIF($M$16:M2796,TRUE),\"\")","v":""},{"$f":"IFERROR(INDEX($J$16:$J$2822,MATCH(ROWS($J$16:J2796),$N$16:$N$2822,0)),\"\")","v":""}]
["32","09","00","0","320901","Powiat","zachodniopomorskie","koszaliński","koszaliński","koszaliński - Powiat / Województwo  - zachodniopomorskie / 320901 / ",70538883,80008360.824600011,{"$f":"ISNUMBER(SEARCH(Wyszukiwarka!$A$1,'Porównanie dochodów JST'!J2797))","v":false},{"$f":"IF(M2797,COUNTIF($M$16:M2797,TRUE),\"\")","v":""},{"$f":"IFERROR(INDEX($J$16:$J$2822,MATCH(ROWS($J$16:J2797),$N$16:$N$2822,0)),\"\")","v":""}]
["32","10","00","0","321001","Powiat","zachodniopomorskie","myśliborski","myśliborski","myśliborski - Powiat / Województwo  - zachodniopomorskie / 321001 / ",92375180,100267507.00709964,{"$f":"ISNUMBER(SEARCH(Wyszukiwarka!$A$1,'Porównanie dochodów JST'!J2798))","v":false},{"$f":"IF(M2798,COUNTIF($M$16:M2798,TRUE),\"\")","v":""},{"$f":"IFERROR(INDEX($J$16:$J$2822,MATCH(ROWS($J$16:J2798),$N$16:$N$2822,0)),\"\")","v":""}]
["32","11","00","0","321101","Powiat","zachodniopomorskie","policki","policki","policki - Powiat / Województwo  - zachodniopomorskie / 321101 / ",103043237,114355557.09132345,{"$f":"ISNUMBER(SEARCH(Wyszukiwarka!$A$1,'Porównanie dochodów JST'!J2799))","v":false},{"$f":"IF(M2799,COUNTIF($M$16:M2799,TRUE),\"\")","v":""},{"$f":"IFERROR(INDEX($J$16:$J$2822,MATCH(ROWS($J$16:J2799),$N$16:$N$2822,0)),\"\")","v":""}]
["32","12","00","0","321201","Powiat","zachodniopomorskie","pyrzycki","pyrzycki","pyrzycki - Powiat / Województwo  - zachodniopomorskie / 321201 / ",56414757,63638159,{"$f":"ISNUMBER(SEARCH(Wyszukiwarka!$A$1,'Porównanie dochodów JST'!J2800))","v":false},{"$f":"IF(M2800,COUNTIF($M$16:M2800,TRUE),\"\")","v":""},{"$f":"IFERROR(INDEX($J$16:$J$2822,MATCH(ROWS($J$16:J2800),$N$16:$N$2822,0)),\"\")","v":""}]
["32","13","00","0","321301","Powiat","zachodniopomorskie","sławieński","sławieński","sławieński - Powiat / Województwo  - zachodniopomorskie / 321301 / ",85908215,94257919.95905377,{"$f":"ISNUMBER(SEARCH(Wyszukiwarka!$A$1,'Porównanie dochodów JST'!J2801))","v":false},{"$f":"IF(M2801,COUNTIF($M$16:M2801,TRUE),\"\")","v":""},{"$f":"IFERROR(INDEX($J$16:$J$2822,MATCH(ROWS($J$16:J2801),$N$16:$N$2822,0)),\"\")","v":""}]
["32","14","00","0","321401","Powiat","zachodniopomorskie","stargardzki","stargardzki","stargardzki - Powiat / Województwo  - zachodniopomorskie / 321401 / ",185224208,197657469.38449109,{"$f":"ISNUMBER(SEARCH(Wyszukiwarka!$A$1,'Porównanie dochodów JST'!J2802))","v":false},{"$f":"IF(M2802,COUNTIF($M$16:M2802,TRUE),\"\")","v":""},{"$f":"IFERROR(INDEX($J$16:$J$2822,MATCH(ROWS($J$16:J2802),$N$16:$N$2822,0)),\"\")","v":""}]
["32","15","00","0","321501","Powiat","zachodniopomorskie","szczecinecki","szczecinecki","szczecinecki - Powiat / Województwo  - zachodniopomorskie / 321501 / ",143089802,154162578.95403516,{"$f":"ISNUMBER(SEARCH(Wyszukiwarka!$A$1,'Porównanie dochodów JST'!J2803))","v":false},{"$f":"IF(M2803,COUNTIF($M$16:M2803,TRUE),\"\")","v":""},{"$f":"IFERROR(INDEX($J$16:$J$2822,MATCH(ROWS($J$16:J2803),$N$16:$N$2822,0)),\"\")","v":""}]
["32","16","00","0","321601","Powiat","zachodniopomorskie","świdwiński","świdwiński","świdwiński - Powiat / Województwo  - zachodniopomorskie / 321601 / ",87392011,93072869,{"$f":"ISNUMBER(SEARCH(Wyszukiwarka!$A$1,'Porównanie dochodów JST'!J2804))","v":false},{"$f":"IF(M2804,COUNTIF($M$16:M2804,TRUE),\"\")","v":""},{"$f":"IFERROR(INDEX($J$16:$J$2822,MATCH(ROWS($J$16:J2804),$N$16:$N$2822,0)),\"\")","v":""}]
["32","17","00","0","321701","Powiat","zachodniopomorskie","wałecki","wałecki","wałecki - Powiat / Województwo  - zachodniopomorskie / 321701 / ",63028070,69632106,{"$f":"ISNUMBER(SEARCH(Wyszukiwarka!$A$1,'Porównanie dochodów JST'!J2805))","v":false},{"$f":"IF(M2805,COUNTIF($M$16:M2805,TRUE),\"\")","v":""},{"$f":"IFERROR(INDEX($J$16:$J$2822,MATCH(ROWS($J$16:J2805),$N$16:$N$2822,0)),\"\")","v":""}]
["32","18","00","0","321801","Powiat","zachodniopomorskie","łobeski","łobeski","łobeski - Powiat / Województwo  - zachodniopomorskie / 321801 / ",58028356,63564353,{"$f":"ISNUMBER(SEARCH(Wyszukiwarka!$A$1,'Porównanie dochodów JST'!J2806))","v":false},{"$f":"IF(M2806,COUNTIF($M$16:M2806,TRUE),\"\")","v":""},{"$f":"IFERROR(INDEX($J$16:$J$2822,MATCH(ROWS($J$16:J2806),$N$16:$N$2822,0)),\"\")","v":""}]
["02","00","00","0","020000","Województwo","DOLNOŚLĄSKIE",null,"dolnośląskie",{"$f":"I2807&$H$12&F2807&$G$12&E2807&$G$12","v":"dolnośląskie - Województwo / 020000 / "},1650031172,1917942422.8714647,{"$f":"ISNUMBER(SEARCH(Wyszukiwarka!$A$1,'Porównanie dochodów JST'!J2807))","v":false},{"$f":"IF(M2807,COUNTIF($M$16:M2807,TRUE),\"\")","v":""},{"$f":"IFERROR(INDEX($J$16:$J$2822,MATCH(ROWS($J$16:J2807),$N$16:$N$2822,0)),\"\")","v":""}]
["04","00","00","0","040000","Województwo","KUJAWSKO-POMORSKIE",null,"kujawsko-pomorskie",{"$f":"I2808&$H$12&F2808&$G$12&E2808&$G$12","v":"kujawsko-pomorskie - Województwo / 040000 / "},1242846262,1396995780.6429775,{"$f":"ISNUMBER(SEARCH(Wyszukiwarka!$A$1,'Porównanie dochodów JST'!J2808))","v":false},{"$f":"IF(M2808,COUNTIF($M$16:M2808,TRUE),\"\")","v":""},{"$f":"IFERROR(INDEX($J$16:$J$2822,MATCH(ROWS($J$16:J2808),$N$16:$N$2822,0)),\"\")","v":""}]
["06","00","00","0","060000","Województwo","LUBELSKIE",null,"lubelskie","lubelskie - Województwo / 060000 / ",1065052927,1246229757.6887581,{"$f":"ISNUMBER(SEARCH(Wyszukiwarka!$A$1,'Porównanie dochodów JST'!J2809))","v":false},{"$f":"IF(M2809,COUNTIF($M$16:M2809,TRUE),\"\")","v":""},{"$f":"IFERROR(INDEX($J$16:$J$2822,MATCH(ROWS($J$16:J2809),$N$16:$N$2822,0)),\"\")","v":""}]
["08","00","00","0","080000","Województwo","LUBUSKIE",null,"lubuskie","lubuskie - Województwo / 080000 / ",572070238,684120491.04000008,{"$f":"ISNUMBER(SEARCH(Wyszukiwarka!$A$1,'Porównanie dochodów JST'!J2810))","v":false},{"$f":"IF(M2810,COUNTIF($M$16:M2810,TRUE),\"\")","v":""},{"$f":"IFERROR(INDEX($J$16:$J$2822,MATCH(ROWS($J$16:J2810),$N$16:$N$2822,0)),\"\")","v":""}]
["10","00","00","0","100000","Województwo","ŁÓDZKIE",null,"łódzkie","łódzkie - Województwo / 100000 / ",1178448299,1369954687.1269858,{"$f":"ISNUMBER(SEARCH(Wyszukiwarka!$A$1,'Porównanie dochodów JST'!J2811))","v":false},{"$f":"IF(M2811,COUNTIF($M$16:M2811,TRUE),\"\")","v":""},{"$f":"IFERROR(INDEX($J$16:$J$2822,MATCH(ROWS($J$16:J2811),$N$16:$N$2822,0)),\"\")","v":""}]
["12","00","00","0","120000","Województwo","MAŁOPOLSKIE",null,"małopolskie","małopolskie - Województwo / 120000 / ",1628210365,1910686578.2727861,{"$f":"ISNUMBER(SEARCH(Wyszukiwarka!$A$1,'Porównanie dochodów JST'!J2812))","v":false},{"$f":"IF(M2812,COUNTIF($M$16:M2812,TRUE),\"\")","v":""},{"$f":"IFERROR(INDEX($J$16:$J$2822,MATCH(ROWS($J$16:J2812),$N$16:$N$2822,0)),\"\")","v":""}]
["14","00","00","0","140000","Województwo","MAZOWIECKIE",null,"mazowieckie","mazowieckie - Województwo / 140000 / ",4027649686,4866322244,{"$f":"ISNUMBER(SEARCH(Wyszukiwarka!$A$1,'Porównanie dochodów JST'!J2813))","v":false},{"$f":"IF(M2813,COUNTIF($M$16:M2813,TRUE),\"\")","v":""},{"$f":"IFERROR(INDEX($J$16:$J$2822,MATCH(ROWS($J$16:J2813),$N$16:$N$2822,0)),\"\")","v":""}]
["16","00","00","0","160000","Województwo","OPOLSKIE",null,"opolskie","opolskie - Województwo / 160000 / ",529822408,612948504,{"$f":"ISNUMBER(SEARCH(Wyszukiwarka!$A$1,'Porównanie dochodów JST'!J2814))","v":false},{"$f":"IF(M2814,COUNTIF($M$16:M2814,TRUE),\"\")","v":""},{"$f":"IFERROR(INDEX($J$16:$J$2822,MATCH(ROWS($J$16:J2814),$N$16:$N$2822,0)),\"\")","v":""}]
["18","00","00","0","180000","Województwo","PODKARPACKIE",null,"podkarpackie","podkarpackie - Województwo / 180000 / ",1116111946,1295399140.2886102,{"$f":"ISNUMBER(SEARCH(Wyszukiwarka!$A$1,'Porównanie dochodów JST'!J2815))","v":false},{"$f":"IF(M2815,COUNTIF($M$16:M2815,TRUE),\"\")","v":""},{"$f":"IFERROR(INDEX($J$16:$J$2822,MATCH(ROWS($J$16:J2815),$N$16:$N$2822,0)),\"\")","v":""}]
["20","00","00","0","200000","Województwo","PODLASKIE",null,"podlaskie","podlaskie - Województwo / 200000 / ",646922731,739575968,{"$f":"ISNUMBER(SEARCH(Wyszukiwarka!$A$1,'Porównanie dochodów JST'!J2816))","v":false},{"$f":"IF(M2816,COUNTIF($M$16:M2816,TRUE),\"\")","v":""},{"$f":"IFERROR(INDEX($J$16:$J$2822,MATCH(ROWS($J$16:J2816),$N$16:$N$2822,0)),\"\")","v":""}]
["22","00","00","0","220000","Województwo","POMORSKIE",null,"pomorskie","pomorskie - Województwo / 220000 / ",1275014533,1435086422.4619401,{"$f":"ISNUMBER(SEARCH(Wyszukiwarka!$A$1,'Porównanie dochodów JST'!J2817))","v":false},{"$f":"IF(M2817,COUNTIF($M$16:M2817,TRUE),\"\")","v":""},{"$f":"IFERROR(INDEX($J$16:$J$2822,MATCH(ROWS($J$16:J2817),$N$16:$N$2822,0)),\"\")","v":""}]
["24","00","00","0","240000","Województwo","ŚLĄSKIE",null,"śląskie","śląskie - Województwo / 240000 / ",2106472454,2443233812.5844202,{"$f":"ISNUMBER(SEARCH(Wyszukiwarka!$A$1,'Porównanie dochodów JST'!J2818))","v":false},{"$f":"IF(M2818,COUNTIF($M$16:M2818,TRUE),\"\")","v":""},{"$f":"IFERROR(INDEX($J$16:$J$2822,MATCH(ROWS($J$16:J2818),$N$16:$N$2822,0)),\"\")","v":""}]
["26","00","00","0","260000","Województwo","ŚWIĘTOKRZYSKIE",null,"świętokrzyskie","świętokrzyskie - Województwo / 260000 / ",643401558,742501166.79250002,{"$f":"ISNUMBER(SEARCH(Wyszukiwarka!$A$1,'Porównanie dochodów JST'!J2819))","v":false},{"$f":"IF(M2819,COUNTIF($M$16:M2819,TRUE),\"\")","v":""},{"$f":"IFERROR(INDEX($J$16:$J$2822,MATCH(ROWS($J$16:J2819),$N$16:$N$2822,0)),\"\")","v":""}]
["28","00","00","0","280000","Województwo","WARMIŃSKO-MAZURSKIE",null,"warmińsko-mazurskie","warmińsko-mazurskie - Województwo / 280000 / ",713474800,856464490.55999994,{"$f":"ISNUMBER(SEARCH(Wyszukiwarka!$A$1,'Porównanie dochodów JST'!J2820))","v":false},{"$f":"IF(M2820,COUNTIF($M$16:M2820,TRUE),\"\")","v":""},{"$f":"IFERROR(INDEX($J$16:$J$2822,MATCH(ROWS($J$16:J2820),$N$16:$N$2822,0)),\"\")","v":""}]
["30","00","00","0","300000","Województwo","WIELKOPOLSKIE",null,"wielkopolskie","wielkopolskie - Województwo / 300000 / ",1792185467,2162082705.4400001,{"$f":"ISNUMBER(SEARCH(Wyszukiwarka!$A$1,'Porównanie dochodów JST'!J2821))","v":false},{"$f":"IF(M2821,COUNTIF($M$16:M2821,TRUE),\"\")","v":""},{"$f":"IFERROR(INDEX($J$16:$J$2822,MATCH(ROWS($J$16:J2821),$N$16:$N$2822,0)),\"\")","v":""}]
["32","00","00","0","320000","Województwo","ZACHODNIOPOMORSKIE",null,"zachodniopomorskie","zachodniopomorskie - Województwo / 320000 / ",897933735,1053768945.3930073,{"$f":"ISNUMBER(SEARCH(Wyszukiwarka!$A$1,'Porównanie dochodów JST'!J2822))","v":false},{"$f":"IF(M2822,COUNTIF($M$16:M2822,TRUE),\"\")","v":""},{"$f":"IFERROR(INDEX($J$16:$J$2822,MATCH(ROWS($J$16:J2822),$N$16:$N$2822,0)),\"\")","v":""}]
[]
[null,null,null,null,null,null,"*/ na podstawie prognozy wpływów z podatku PIT i CIT z 10 sierpnia 2024 r.;"]
[null,null,null,null,null,null,"**/ kwoty uwzględniają korektę z tytułu zamożności i ponadprzeciętnych zysków w 2025 r. oraz środki z rezerwy;"]

{"sheet":"Wyszukiwarka","index":1,"n_rows":11,"n_cols":4,"rows_kept":11,"cut":false,"hidden":false,"merged":[[4,1,5,1],[4,2,5,2],[4,3,5,3],[1,1,1,3]]}
["BOLESŁAWIEC - Gmina miejska / Powiat bolesławiecki / Województwo  - DOLNOŚLĄSKIE / 020101 / "]
[null,"W nowym systemie każdy samorząd otrzyma wyższe dochody niż obecnie  "]
[]
[null,"Dochody ogółem JST w 2025 r. wg obowiązującej ustawy i 2025 r. wg projektu ustawy"]
[null,"Nazwa JST*","2025 wg obowiązującej ustawy**","2025 wg projektu***"]
[]
[null,{"$f":"A1","v":"BOLESŁAWIEC - Gmina miejska / Powiat bolesławiecki / Województwo  - DOLNOŚLĄSKIE / 020101 / "},{"$f":"VLOOKUP($A$1,'Porównanie dochodów JST'!$J$14:$L$2822,2,0)","v":120876243},{"$f":"VLOOKUP($A$1,'Porównanie dochodów JST'!$J$14:$L$2822,3,0)","v":139397806.24000001}]
[]
[null,"*/ wpisz nazwę wyszukiwanej jednostki;"]
[null,"**/ na podstawie prognozy wpływów z podatku PIT i CIT z 10 sierpnia 2024 r.;"]
[null,"***/ kwoty uwzględniają korektę z tytułu zamożności i ponadprzeciętnych zysków w 2025 r. oraz środki z rezerwy;"]