Workbook

Sheet TERC - "nazwa woj"
A1: Lista zadań rekomendowanych do dofinansowania w ramach Rządowego Funduszu Rozwoju Dróg | G1: Lista zmieniona nr 5
F2: ZATWIERDZAM
A4: Dofinansowanie przyznane w naborze: na rok 2021
A6: Województwo: Opolskie
F7: ………………………………………………………………………………….
A9: Podsumowanie naboru:
A10: Kategoria drogi - rodzaj listy | B10: Liczba zadań | C10: Wartość zadań ogółem | D10: Deklarowana kwota środków własnych | E10: Kwota dofinasowania ogółem | F10: Kwota dofinansowania w podziale na lata
F11: 2019 | G11: 2020 | H11: 2021 | I11: 2022 | J11: 2023 | K11: 2024 | L11: 2025 | M11: 2026 | N11: 2027 | O11: 2028
A12: powiatowe - lista podstawowa, z tego: | B12: =COUNTA('pow podst'!C3:C20) -> 16 | C12: =SUM('pow podst'!J3:J20) -> 36335678 | D12: =SUM('pow podst'!L3:L20) -> 18651689 | E12: =SUM('pow podst'!K3:K20) -> 17683989 | F12: =SUM('pow podst'!N3:N20) -> 0 | G12: =SUM('pow podst'!O3:O20) -> 1850466.6 | H12: =SUM('pow podst'!P3:P20) -> 15331103 | I12: =SUM('pow podst'!Q3:Q20) -> 502418.86 | J12: =SUM('pow podst'!R3:R20) -> 0 | K12: =SUM('pow podst'!S3:S20) -> 0 | L12: =SUM('pow podst'!T3:T20) -> 0 | M12: =SUM('pow podst'!U3:U20) -> 0 | ... O12: =SUM('pow podst'!W3:W20) -> 0 | P12: =C12=(D12+E12) -> TRUE | Q12: =E12=SUM(F12:O12) -> TRUE
A13: kontynuowane zadania wieloletnie | B13: =COUNTIF('pow podst'!C3:C20,"K") -> 1 | C13: =SUMIF('pow podst'!C3:C20,"K",'pow podst'!J3:J20) -> 7120893.7 | D13: =SUMIF('pow podst'!C3:C20,"K",'pow podst'!L3:L20) -> 3560446.8 | E13: =SUMIF('pow podst'!C3:C20,"K",'pow podst'!K3:K20) -> 3560446.8 | F13: =SUMIF('pow podst'!C3:C20,"K",'pow podst'!N3:N20) -> 0 | G13: =SUMIF('pow podst'!C3:C20,"K",'pow podst'!O3:O20) -> 1850466.6 | H13: =SUMIF('pow podst'!C3:C20,"K",'pow podst'!P3:P20) -> 1709980.3 | I13: =SUMIF('pow podst'!C3:C20,"K",'pow podst'!Q3:Q20) -> 0 | J13: =SUMIF('pow podst'!C3:C20,"K",'pow podst'!R3:R20) -> 0 | K13: =SUMIF('pow podst'!C3:C20,"K",'pow podst'!S3:S20) -> 0 | L13: =SUMIF('pow podst'!C3:C20,"K",'pow podst'!T3:T20) -> 0 | M13: =SUMIF('pow podst'!C3:C20,"K",'pow podst'!U3:U20) -> 0 | N13: =SUMIF('pow podst'!C3:C20,"K",'pow podst'!V3:V20) -> 0 | O13: =SUMIF('pow podst'!C3:I20,"K",'pow podst'!W3:W20) -> 0 | P13: =C13=(D13+E13) -> TRUE | Q13: =E13=SUM(F13:O13) -> TRUE
A14: nowe zadania jednoroczne | B14: =COUNTIF('pow podst'!C3:C20,"N") -> 14 | C14: =SUMIF('pow podst'!C3:C20,"N",'pow podst'!J3:J20) -> 25879946 | D14: =SUMIF('pow podst'!C3:C20,"N",'pow podst'!L3:L20) -> 13423823 | E14: =SUMIF('pow podst'!C3:C20,"N",'pow podst'!K3:K20) -> 12456123 | F14: =SUMIF('pow podst'!C3:C20,"N",'pow podst'!N3:N20) -> 0 | G14: =SUMIF('pow podst'!C3:C20,"N",'pow podst'!O3:O20) -> 0 | H14: =SUMIF('pow podst'!C3:C20,"N",'pow podst'!P3:P20) -> 12456123 | I14: =SUMIF('pow podst'!C3:C20,"N",'pow podst'!Q3:Q20) -> 0 | J14: =SUMIF('pow podst'!C3:C20,"N",'pow podst'!R3:R20) -> 0 | K14: =SUMIF('pow podst'!C3:C20,"N",'pow podst'!S3:S20) -> 0 | L14: =SUMIF('pow podst'!C3:C20,"N",'pow podst'!T3:T20) -> 0 | M14: =SUMIF('pow podst'!C3:C20,"N",'pow podst'!U3:U20) -> 0 | N14: =SUMIF('pow podst'!C3:C20,"N",'pow podst'!V3:V20) -> 0 | O14: =SUMIF('pow podst'!C3:I20,"N",'pow podst'!W3:W20) -> 0 | P14: =C14=(D14+E14) -> TRUE | Q14: =E14=SUM(F14:O14) -> TRUE
A15: nowe zadania wieloletnie | B15: =COUNTIF('pow podst'!C3:C20,"W") -> 1 | C15: =SUMIF('pow podst'!C3:C20,"W",'pow podst'!J3:J20) -> 3334837.7 | D15: =SUMIF('pow podst'!C3:C20,"W",'pow podst'!L3:L20) -> 1667418.8 | E15: =SUMIF('pow podst'!C3:C20,"W",'pow podst'!K3:K20) -> 1667418.9 | F15: =SUMIF('pow podst'!C3:C20,"W",'pow podst'!N3:N20) -> 0 | G15: =SUMIF('pow podst'!C3:C20,"W",'pow podst'!O3:O20) -> 0 | H15: =SUMIF('pow podst'!C3:C20,"W",'pow podst'!P3:P20) -> 1165000 | I15: =SUMIF('pow podst'!C3:C20,"W",'pow podst'!Q3:Q20) -> 502418.86 | J15: =SUMIF('pow podst'!C3:C20,"W",'pow podst'!R3:R20) -> 0 | K15: =SUMIF('pow podst'!C3:C20,"W",'pow podst'!S3:S20) -> 0 | L15: =SUMIF('pow podst'!C3:C20,"W",'pow podst'!T3:T20) -> 0 | M15: =SUMIF('pow podst'!C3:C20,"W",'pow podst'!U3:U20) -> 0 | N15: =SUMIF('pow podst'!C3:C20,"W",'pow podst'!V3:V20) -> 0 | O15: =SUMIF('pow podst'!C3:I20,"W",'pow podst'!W3:W20) -> 0 | P15: =C15=(D15+E15) -> TRUE | Q15: =E15=SUM(F15:O15) -> TRUE
A16: gminne - lista podstawowa, z tego: | B16: =COUNTA('gm podst'!L3:L72) -> 70 | C16: =SUM('gm podst'!K3:K72) -> 99176092 | D16: =SUM('gm podst'!M3:M72) -> 34160177 | E16: =SUM('gm podst'!L3:L72) -> 65015916 | F16: =SUM('gm podst'!O3:O72) -> 5851981.7 | G16: =SUM('gm podst'!P3:P72) -> 10956536 | H16: =SUM('gm podst'!Q3:Q72) -> 42696026 | I16: =SUM('gm podst'!R3:R72) -> 5511372.1 | J16: =SUM('gm podst'!S3:S72) -> 0 | K16: =SUM('gm podst'!T3:T72) -> 0 | L16: =SUM('gm podst'!U3:U72) -> 0 | M16: =SUM('gm podst'!V3:V72) -> 0 | ... O16: =SUM('gm podst'!X3:X72) -> 0 | P16: =C16=(D16+E16) -> TRUE | Q16: =E16=SUM(F16:O16) -> TRUE
A17: kontynuowane zadania wieloletnie | B17: =COUNTIF('gm podst'!C3:C72,"K") -> 3 | C17: =SUMIF('gm podst'!C3:C72,"K",'gm podst'!K3:K72) -> 26567514 | D17: =SUMIF('gm podst'!C3:C72,"K",'gm podst'!M3:M72) -> 8654514.5 | E17: =SUMIF('gm podst'!C3:C72,"K",'gm podst'!L3:L72) -> 17912999 | F17: =SUMIF('gm podst'!C3:C72,"K",'gm podst'!O3:O72) -> 5851981.7 | G17: =SUMIF('gm podst'!C3:C72,"K",'gm podst'!P3:P72) -> 10956536 | H17: =SUMIF('gm podst'!$C$3:$C$72,"K",'gm podst'!Q3:Q72) -> 1104481.4 | I17: =SUMIF('gm podst'!$C$3:$C$72,"K",'gm podst'!R3:R72) -> 0 | J17: =SUMIF('gm podst'!$C$3:$C$72,"K",'gm podst'!S3:S72) -> 0 | K17: =SUMIF('gm podst'!$C$3:$C$72,"K",'gm podst'!T3:T72) -> 0 | L17: =SUMIF('gm podst'!$C$3:$C$72,"K",'gm podst'!U3:U72) -> 0 | M17: =SUMIF('gm podst'!$C$3:$C$72,"K",'gm podst'!V3:V72) -> 0 | N17: =SUMIF('gm podst'!$C$3:$C$72,"K",'gm podst'!W3:W72) -> 0 | O17: =SUMIF('gm podst'!$C$3:$C$72,"K",'gm podst'!X3:X72) -> 0 | P17: =C17=(D17+E17) -> TRUE | Q17: =E17=SUM(F17:O17) -> TRUE
A18: nowe zadania jednoroczne | B18: =COUNTIF('gm podst'!C3:C72,"N") -> 63 | C18: =SUMIF('gm podst'!C3:C72,"N",'gm podst'!K3:K72) -> 50164956 | D18: =SUMIF('gm podst'!C3:C72,"N",'gm podst'!M3:M72) -> 18042899 | E18: =SUMIF('gm podst'!C3:C72,"N",'gm podst'!L3:L72) -> 32122057 | F18: =SUMIF('gm podst'!$C$3:$C$72,"N",'gm podst'!O3:O72) -> 0 | G18: =SUMIF('gm podst'!$C$3:$C$72,"N",'gm podst'!P3:P72) -> 0 | H18: =SUMIF('gm podst'!$C$3:$C$72,"N",'gm podst'!Q3:Q72) -> 32122057 | I18: =SUMIF('gm podst'!$C$3:$C$72,"N",'gm podst'!R3:R72) -> 0 | J18: =SUMIF('gm podst'!$C$3:$C$72,"N",'gm podst'!S3:S72) -> 0 | K18: =SUMIF('gm podst'!$C$3:$C$72,"N",'gm podst'!T3:T72) -> 0 | L18: =SUMIF('gm podst'!$C$3:$C$72,"N",'gm podst'!U3:U72) -> 0 | M18: =SUMIF('gm podst'!$C$3:$C$72,"N",'gm podst'!V3:V72) -> 0 | ... O18: =SUMIF('gm podst'!$C$3:$C$72,"N",'gm podst'!X3:X72) -> 0 | P18: =C18=(D18+E18) -> TRUE | Q18: =E18=SUM(F18:O18) -> TRUE
A19: nowe zadania wieloletnie | B19: =COUNTIF('gm podst'!C3:C72,"W") -> 4 | C19: =SUMIF('gm podst'!C3:C72,"W",'gm podst'!K3:K72) -> 22443623 | D19: =SUMIF('gm podst'!C3:C72,"W",'gm podst'!M3:M72) -> 7462763.5 | E19: =SUMIF('gm podst'!C3:C72,"W",'gm podst'!L3:L72) -> 14980859 | F19: =SUMIF('gm podst'!$C$3:$C$72,"W",'gm podst'!O3:O72) -> 0 | G19: =SUMIF('gm podst'!$C$3:$C$72,"W",'gm podst'!P3:P72) -> 0 | H19: =SUMIF('gm podst'!$C$3:$C$72,"W",'gm podst'!Q3:Q72) -> 9469487.2 | I19: =SUMIF('gm podst'!$C$3:$C$72,"W",'gm podst'!R3:R72) -> 5511372.1 | J19: =SUMIF('gm podst'!$C$3:$C$72,"W",'gm podst'!S3:S72) -> 0 | K19: =SUMIF('gm podst'!$C$3:$C$72,"W",'gm podst'!T3:T72) -> 0 | L19: =SUMIF('gm podst'!$C$3:$C$72,"W",'gm podst'!U3:U72) -> 0 | M19: =SUMIF('gm podst'!$C$3:$C$72,"W",'gm podst'!V3:V72) -> 0 | ... O19: =SUMIF('gm podst'!$C$3:$C$72,"W",'gm podst'!X3:X72) -> 0 | P19: =C19=(D19+E19) -> TRUE | Q19: =E19=SUM(F19:O19) -> TRUE
A20: RAZEM listy podstawowe, z tego: | B20: =B12+B16 -> 86 | C20: =C12+C16 -> 135511770 | D20: =D12+D16 -> 52811865 | E20: =E12+E16 -> 82699905 | F20: =F12+F16 -> 5851981.7 | G20: =G12+G16 -> 12807003 | H20: =H12+H16 -> 58027129 | I20: =I12+I16 -> 6013791 | ... O20: =O12+O16 -> 0 | P20: =C20=(D20+E20) -> TRUE | Q20: =E20=SUM(F20:O20) -> TRUE
A21: kontynuowane zadania wieloletnie | B21: =B13+B17 -> 4 | C21: =C13+C17 -> 33688407 | D21: =D13+D17 -> 12214961 | E21: =E13+E17 -> 21473446 | F21: =F13+F17 -> 5851981.7 | G21: =G13+G17 -> 12807003 | H21: =H13+H17 -> 2814461.6 | I21: =I13+I17 -> 0 | ... O21: =O13+O17 -> 0 | P21: =C21=(D21+E21) -> TRUE | Q21: =E21=SUM(F21:O21) -> TRUE
A22: nowe zadania jednoroczne | B22: =B14+B18 -> 77 | C22: =C14+C18 -> 76044902 | D22: =D14+D18 -> 31466722 | E22: =E14+E18 -> 44578180 | F22: =F14+F18 -> 0 | G22: =G14+G18 -> 0 | H22: =H14+H18 -> 44578180 | I22: =I14+I18 -> 0 | ... O22: =O14+O18 -> 0 | P22: =C22=(D22+E22) -> TRUE | Q22: =E22=SUM(F22:O22) -> TRUE
A23: nowe zadania wieloletnie | B23: =B15+B19 -> 5 | C23: =C15+C19 -> 25778461 | D23: =D15+D19 -> 9130182.3 | E23: =E15+E19 -> 16648278 | F23: =F15+F19 -> 0 | G23: =G15+G19 -> 0 | H23: =H15+H19 -> 10634487 | I23: =I15+I19 -> 6013791 | ... O23: =O15+O19 -> 0 | P23: =C23=(D23+E23) -> TRUE | Q23: =E23=SUM(F23:O23) -> TRUE
A24: powiatowe - lista rezerwowa | B24: =COUNTA('pow rez'!H3:H6) -> 0 | C24: =SUM('pow rez'!J3:J6) -> 0 | D24: =SUM('pow rez'!L3:L6) -> 0 | E24: =SUM('pow rez'!K3:K6) -> 0 | F24: =SUM('pow rez'!N3:N6) -> 0 | G24: =SUM('pow rez'!O3:O6) -> 0 | H24: =SUM('pow rez'!P3:P6) -> 0 | I24: =SUM('pow rez'!Q3:Q6) -> 0 | J24: =SUM('pow rez'!R3:R6) -> 0 | K24: =SUM('pow rez'!S3:S6) -> 0 | L24: =SUM('pow rez'!T3:T6) -> 0 | M24: =SUM('pow rez'!U3:U6) -> 0 | ... O24: =SUM('pow rez'!W3:W6) -> 0 | P24: =C24=(D24+E24) -> TRUE | Q24: =E24=SUM(F24:O24) -> TRUE
A25: nowe zadania jednoroczne | B25: =COUNTIF('pow rez'!C3:C6,"N") -> 0 | C25: =SUMIF('pow rez'!C3:C6,"N",'pow rez'!J3:J6) -> 0 | D25: =SUMIF('pow rez'!C3:C6,"N",'pow rez'!L3:L6) -> 0 | E25: =SUMIF('pow rez'!C3:C6,"N",'pow rez'!K3:K6) -> 0 | F25: =SUMIF('pow rez'!C3:C5,"N",'pow rez'!N3:N5) -> 0 | G25: =SUMIF('pow rez'!C3:C5,"N",'pow rez'!O3:O5) -> 0 | H25: =SUMIF('pow rez'!C3:C6,"N",'pow rez'!P3:P6) -> 0 | I25: =SUMIF('pow rez'!C3:C6,"N",'pow rez'!Q3:Q6) -> 0 | J25: =SUMIF('pow rez'!C3:C6,"N",'pow rez'!R3:R6) -> 0 | K25: =SUMIF('pow rez'!C3:C6,"N",'pow rez'!S3:S6) -> 0 | L25: =SUMIF('pow rez'!C3:C6,"N",'pow rez'!T3:T6) -> 0 | M25: =SUMIF('pow rez'!C3:C6,"N",'pow rez'!U3:U6) -> 0 | N25: =SUMIF('pow rez'!C3:C6,"N",'pow rez'!V3:V6) -> 0 | O25: =SUMIF('pow rez'!C3:C6,"N",'pow rez'!W3:W6) -> 0 | P25: =C25=(D25+E25) -> TRUE | Q25: =E25=SUM(F25:O25) -> TRUE
A26: nowe zadania wieloletnie | B26: =COUNTIF('pow rez'!C3:C6,"W") -> 0 | C26: =SUMIF('pow rez'!C3:C6,"W",'pow rez'!J3:J6) -> 0 | D26: =SUMIF('pow rez'!C3:C6,"W",'pow rez'!L3:L6) -> 0 | E26: =SUMIF('pow rez'!C3:C6,"W",'pow rez'!K3:K6) -> 0 | F26: =SUMIF('pow rez'!C3:C6,"W",'pow rez'!N3:N6) -> 0 | G26: =SUMIF('pow rez'!C3:C6,"W",'pow rez'!O3:O6) -> 0 | H26: =SUMIF('pow rez'!C3:C6,"W",'pow rez'!P3:P6) -> 0 | I26: =SUMIF('pow rez'!C3:C6,"W",'pow rez'!Q3:Q6) -> 0 | J26: =SUMIF('pow rez'!C3:C6,"W",'pow rez'!R3:R6) -> 0 | K26: =SUMIF('pow rez'!C3:C6,"W",'pow rez'!S3:S6) -> 0 | L26: =SUMIF('pow rez'!C3:C6,"W",'pow rez'!T3:T6) -> 0 | M26: =SUMIF('pow rez'!C3:C6,"W",'pow rez'!U3:U6) -> 0 | N26: =SUMIF('pow rez'!C3:C6,"W",'pow rez'!V3:V6) -> 0 | O26: =SUMIF('pow rez'!C3:C6,"W",'pow rez'!W3:W6) -> 0 | P26: =C26=(D26+E26) -> TRUE | Q26: =E26=SUM(F26:O26) -> TRUE
A27: gminne - lista rezerwowa | B27: =COUNTA('gm rez'!I3:I22) -> 2 | C27: =SUM('gm rez'!K3:K22) -> 3418337.6 | D27: =SUM('gm rez'!M3:M22) -> 1025501.3 | E27: =SUM('gm rez'!L3:L22) -> 2392836.4 | F27: =SUM('gm rez'!O3:O22) -> 0 | G27: =SUM('gm rez'!P3:P22) -> 0 | H27: =SUM('gm rez'!Q3:Q22) -> 2392836.4 | I27: =SUM('gm rez'!R3:R22) -> 0 | J27: =SUM('gm rez'!S3:S22) -> 0 | K27: =SUM('gm rez'!T3:T22) -> 0 | L27: =SUM('gm rez'!U3:U22) -> 0 | M27: =SUM('gm rez'!V3:V22) -> 0 | ... O27: =SUM('gm rez'!X3:X22) -> 0 | P27: =C27=(D27+E27) -> TRUE | Q27: =E27=SUM(F27:O27) -> TRUE
A28: nowe zadania jednoroczne | B28: =COUNTIF('gm rez'!C3:C22,"N") -> 2 | C28: =SUMIF('gm rez'!C3:C22,"N",'gm rez'!K3:K22) -> 3418337.6 | D28: =SUMIF('gm rez'!C3:C22,"N",'gm rez'!M3:M22) -> 1025501.3 | E28: =SUMIF('gm rez'!C3:C22,"N",'gm rez'!L3:L22) -> 2392836.4 | F28: =SUMIF('gm rez'!C3:C22,"N",'gm rez'!O3:O22) -> 0 | G28: =SUMIF('gm rez'!C3:C22,"N",'gm rez'!P3:P22) -> 0 | H28: =SUMIF('gm rez'!C3:C22,"N",'gm rez'!Q3:Q22) -> 2392836.4 | I28: =SUMIF('gm rez'!C3:C22,"N",'gm rez'!R3:R22) -> 0 | J28: =SUMIF('gm rez'!C3:C22,"N",'gm rez'!S3:S22) -> 0 | K28: =SUMIF('gm rez'!C3:C22,"N",'gm rez'!T3:T22) -> 0 | L28: =SUMIF('gm rez'!C3:C22,"N",'gm rez'!U3:U22) -> 0 | M28: =SUMIF('gm rez'!C3:C22,"N",'gm rez'!V3:V22) -> 0 | N28: =SUMIF('gm rez'!C3:C22,"N",'gm rez'!W3:W22) -> 0 | O28: =SUMIF('gm rez'!C3:C22,"N",'gm rez'!X3:X22) -> 0 | P28: =C28=(D28+E28) -> TRUE | Q28: =E28=SUM(F28:O28) -> TRUE
A29: nowe zadania wieloletnie | B29: =COUNTIF('gm rez'!C3:C22,"W") -> 0 | C29: =SUMIF('gm rez'!C3:C22,"W",'gm rez'!K3:K22) -> 0 | D29: =SUMIF('gm rez'!C3:C22,"W",'gm rez'!M3:M22) -> 0 | E29: =SUMIF('gm rez'!C3:C22,"W",'gm rez'!L3:L22) -> 0 | F29: =SUMIF('gm rez'!C3:C22,"W",'gm rez'!O3:O22) -> 0 | G29: =SUMIF('gm rez'!C3:C22,"W",'gm rez'!P3:P22) -> 0 | H29: =SUMIF('gm rez'!C3:C22,"W",'gm rez'!Q3:Q22) -> 0 | I29: =SUMIF('gm rez'!C3:C22,"W",'gm rez'!R3:R22) -> 0 | J29: =SUMIF('gm rez'!C3:C22,"W",'gm rez'!S3:S22) -> 0 | K29: =SUMIF('gm rez'!C3:C22,"W",'gm rez'!T3:T22) -> 0 | L29: =SUMIF('gm rez'!C3:C22,"W",'gm rez'!U3:U22) -> 0 | M29: =SUMIF('gm rez'!C3:C22,"W",'gm rez'!V3:V22) -> 0 | N29: =SUMIF('gm rez'!C3:C22,"W",'gm rez'!W3:W22) -> 0 | O29: =SUMIF('gm rez'!C3:C22,"W",'gm rez'!X3:X22) -> 0 | P29: =C29=(D29+E29) -> TRUE | Q29: =E29=SUM(F29:O29) -> TRUE
A30: RAZEM listy rezerwowe | B30: =B24+B27 -> 2 | C30: =C24+C27 -> 3418337.6 | D30: =D24+D27 -> 1025501.3 | E30: =E24+E27 -> 2392836.4 | F30: =F24+F27 -> 0 | G30: =G24+G27 -> 0 | H30: =H24+H27 -> 2392836.4 | I30: =I24+I27 -> 0 | ... O30: =O24+O27 -> 0 | P30: =C30=(D30+E30) -> TRUE | Q30: =E30=SUM(F30:O30) -> TRUE
A31: nowe zadania jednoroczne | B31: =B25+B28 -> 2 | C31: =C25+C28 -> 3418337.6 | D31: =D25+D28 -> 1025501.3 | E31: =E25+E28 -> 2392836.4 | F31: =F25+F28 -> 0 | G31: =G25+G28 -> 0 | H31: =H25+H28 -> 2392836.4 | I31: =I25+I28 -> 0 | ... O31: =O25+O28 -> 0 | P31: =C31=(D31+E31) -> TRUE | Q31: =E31=SUM(F31:O31) -> TRUE
A32: nowe zadania wieloletnie | B32: =B26+B29 -> 0 | C32: =C26+C29 -> 0 | D32: =D26+D29 -> 0 | E32: =E26+E29 -> 0 | F32: =F26+F29 -> 0 | G32: =G26+G29 -> 0 | H32: =H26+H29 -> 0 | I32: =I26+I29 -> 0 | ... O32: =O26+O29 -> 0 | P32: =C32=(D32+E32) -> TRUE | Q32: =E32=SUM(F32:O32) -> TRUE
A33: RAZEM listy | B33: =B20+B30 -> 88 | C33: =C20+C30 -> 1.3893011e+08 | D33: =D20+D30 -> 53837367 | E33: =E20+E30 -> 85092741 | F33: =F20+F30 -> 5851981.7 | G33: =G20+G30 -> 12807003 | H33: =H20+H30 -> 60419966 | I33: =I20+I30 -> 6013791 | ... O33: =O20+O30 -> 0 | P33: =C33=(D33+E33) -> TRUE | Q33: =E33=SUM(F33:O33) -> TRUE
A34: nowe zadania jednoroczne | B34: =B22+B31 -> 79 | C34: =C22+C31 -> 79463240 | D34: =D22+D31 -> 32492223 | E34: =E22+E31 -> 46971017 | F34: =F22+F31 -> 0 | G34: =G22+G31 -> 0 | H34: =H22+H31 -> 46971017 | I34: =I22+I31 -> 0 | ... O34: =O22+O31 -> 0 | P34: =C34=(D34+E34) -> TRUE | Q34: =E34=SUM(F34:O34) -> TRUE
A35: nowe zadania wieloletnie | B35: =B23+B32 -> 5 | C35: =C23+C32 -> 25778461 | D35: =D23+D32 -> 9130182.3 | E35: =E23+E32 -> 16648278 | F35: =F23+F32 -> 0 | G35: =G23+G32 -> 0 | H35: =H23+H32 -> 10634487 | I35: =I23+I32 -> 6013791 | ... O35: =O23+O32 -> 0 | P35: =C35=(D35+E35) -> TRUE | Q35: =E35=SUM(F35:O35) -> TRUE

Sheet pow podst
A1: L.p. | B1: Nr ewid. | C1: Zadanie nowe/kontynuowane/wieloletnie [N/K/W] | D1: Jednostka Samorządu Terytorialnego | E1: TERC | F1: Nazwa zadania | G1: Rodzaj zadania | H1: Długość odcinka (w km) | I1: Okres realizacji zadania | J1: Ogółem wartość projektu (w zł) | K1: Wnioskowana kwota dofinansowania (w zł) | L1: Deklarowana kwota środków własnych (w zł) | M1: % dofinansowania | N1: Kwota dofinansowania w podziale na lata
N2: 2019 | O2: 2020 | P2: 2021 | Q2: 2022 | R2: 2023 | S2: 2024 | T2: 2025 | U2: 2026 | V2: 2027 | W2: 2028 | X2: spr-lata | Y2: spr-procent | Z2: spr-dof | AA2: spr-montaż
A3: 1 | B3: FDS/P/17/2019 | C3: K | D3: Powiat Brzeski | E3: 1601 | F3: Przebudowa mostu nad zalewem rz. Nysa Kłodzka w ciągu drogi powiatowej nr 1508 O w km 12+270 w Lewinie Brzeskim | G3: P | H3: 0.498 | I3: marzec 2020 - grudzień 2021 | J3: 7120893.7 | K3: =ROUND(J3*M3,2) -> 3560446.8 | L3: =J3-K3 -> 3560446.8 | M3: 0.5 | N3: 0 | O3: 1850466.6 | P3: 1709980.3 | Q3: 0 | R3: 0 | S3: 0 | T3: 0 | U3: 0 | V3: 0 | W3: 0 | X3: =K3=SUM(O3:W3) -> TRUE | Y3: =ROUND(K3/J3,4) -> 0.5 | Z3: =Y3=M3 -> TRUE | AA3: =J3=K3+L3 -> TRUE
A4: 2 | B4: FDS/2020/P/10 | C4: N | D4: Powiat Oleski | E4: 1608 | F4: Przebudowa drogi powiatowej nr 1905 O (Goła - Przytoczna - do DW487) na długości 995 m w miejscowości Goła | G4: P | H4: 0.995 | I4: maj 2021- sierpień 2021 | J4: 439164.77 | K4: =ROUND(J4*M4,2) -> 219582.39 | L4: =J4-K4 -> 219582.38 | M4: 0.5 | N4: 0 | O4: 0 | P4: =K4 -> 219582.39 | Q4: 0 | R4: 0 | S4: 0 | T4: 0 | U4: 0 | V4: 0 | W4: 0 | X4: =K4=SUM(O4:W4) -> TRUE | Y4: =ROUND(K4/J4,4) -> 0.5 | Z4: =Y4=M4 -> TRUE | AA4: =J4=K4+L4 -> TRUE
A5: 3 | B5: FDS/2020/P/12 | C5: N | D5: Powiat Głubczycki | E5: 1602 | F5: Przebudowa drogi powiatowej nr 1220 O na odcinku Lewice - Michałkowice oraz drogi powiatowej nr 1241 O w miejscowości Lewice | G5: P | H5: 3.856 | I5: czerwiec 2021 - listopad 2021 | J5: 2676750 | K5: =ROUND(J5*M5,2) -> 1338375 | L5: =J5-K5 -> 1338375 | M5: 0.5 | N5: 0 | O5: 0 | P5: =K5 -> 1338375 | Q5: 0 | R5: 0 | S5: 0 | T5: 0 | U5: 0 | V5: 0 | W5: 0 | X5: =K5=SUM(O5:W5) -> TRUE | Y5: =ROUND(K5/J5,4) -> 0.5 | Z5: =Y5=M5 -> TRUE | AA5: =J5=K5+L5 -> TRUE
A6: 4 | B6: FDS/2020/P/13 | C6: N | D6: Powiat Głubczycki | E6: 1602 | F6: Przebudowa drogi powiatowej nr 1213 O relacji Klisino - Pomorzowiczki | G6: P | H6: 3.71 | I6: lipiec 2021 - grudzień 2021 | J6: 1882940 | K6: =ROUND(J6*M6,2) -> 941470 | L6: =J6-K6 -> 941470 | M6: 0.5 | N6: 0 | O6: 0 | P6: =K6 -> 941470 | Q6: 0 | R6: 0 | S6: 0 | T6: 0 | U6: 0 | V6: 0 | W6: 0 | X6: =K6=SUM(O6:W6) -> TRUE | Y6: =ROUND(K6/J6,4) -> 0.5 | Z6: =Y6=M6 -> TRUE | AA6: =J6=K6+L6 -> TRUE
A7: 5 | B7: FDS/2020/P/4 | C7: N | D7: Powiat Nyski | E7: 1607 | F7: ROZBUDOWA DROGI POWIATOWEJ NR 2189 O - ALEJA WOJSKA POLSKIEGO W NYSIE | G7: B | H7: 1.533 | I7: lipiec 2021 - lipiec 2022 | J7: 7430719.9 | K7: 3235000 | L7: =J7-K7 -> 4195719.9 | M7: =ROUND(K7/J7,4) -> 0.4354 | N7: 0 | O7: 0 | P7: =K7 -> 3235000 | Q7: 0 | R7: 0 | S7: 0 | T7: 0 | U7: 0 | V7: 0 | W7: 0 | X7: =K7=SUM(O7:W7) -> TRUE | Y7: =ROUND(K7/J7,4) -> 0.4354 | Z7: =Y7=M7 -> TRUE | AA7: =J7=K7+L7 -> TRUE
A8: 6 | B8: FDS/2020/P/15 | C8: N | D8: Powiat Kędzierzyńsko - Kozielski | E8: 1603 | F8: Przebudowa drogi powiatowej nr 1477 O ul. Mostowa w Kędzierzynie - Koźlu | G8: P | H8: 0.775 | I8: lipiec 2021 - październik 2021 | J8: 1373943.4 | K8: =ROUND(J8*M8,2) -> 686971.71 | L8: =J8-K8 -> 686971.71 | M8: 0.5 | N8: 0 | O8: 0 | P8: =K8 -> 686971.71 | Q8: 0 | R8: 0 | S8: 0 | T8: 0 | U8: 0 | V8: 0 | W8: 0 | X8: =K8=SUM(O8:W8) -> TRUE | Y8: =ROUND(K8/J8,4) -> 0.5 | Z8: =Y8=M8 -> TRUE | AA8: =J8=K8+L8 -> TRUE
A9: 7 | B9: FDS/2020/P/3 | C9: N | D9: Powiat Nyski | E9: 1607 | F9: PRZEBUDOWA ODCINKA DROGI POWIATOWEJ NR 1654 O | G9: P | H9: 3.254 | I9: czerwiec 2021 - grudzień 2021 | J9: 3045000 | K9: =ROUND(J9*M9,2) -> 1522500 | L9: =J9-K9 -> 1522500 | M9: 0.5 | N9: 0 | O9: 0 | P9: =K9 -> 1522500 | Q9: 0 | R9: 0 | S9: 0 | T9: 0 | U9: 0 | V9: 0 | W9: 0 | X9: =K9=SUM(O9:W9) -> TRUE | Y9: =ROUND(K9/J9,4) -> 0.5 | Z9: =Y9=M9 -> TRUE | AA9: =J9=K9+L9 -> TRUE
A10: 8 | B10: FDS/2020/P/9 | C10: N | D10: Powiat Strzelecki | E10: 1611 | F10: Przebudowa mostu JNI 30004471 w ciągu drogi powiatowej 1401 O Zdzieszowice - Leśnica - Zalesie Śląskie w m. Leśnica ul. Zdzieszowicka | G10: P | H10: 0.063 | I10: lipiec 2021 - grudzień 2021 | J10: 1623024.4 | K10: =ROUND(J10*M10,2) -> 811512.22 | L10: =J10-K10 -> 811512.21 | M10: 0.5 | N10: 0 | O10: 0 | P10: =K10 -> 811512.22 | Q10: 0 | R10: 0 | S10: 0 | T10: 0 | U10: 0 | V10: 0 | W10: 0 | X10: =K10=SUM(O10:W10) -> TRUE | Y10: =ROUND(K10/J10,4) -> 0.5 | Z10: =Y10=M10 -> TRUE | AA10: =J10=K10+L10 -> TRUE
A11: 9 | B11: FDS/2020/P/2 | C11: W | D11: Powiat Nyski | E11: 1607 | F11: PRZEBUDOWA ODCINKA DROGI POWIATOWEJ NR 1531 O W MIEJSCOWOŚCI WŁODARY | G11: P | H11: 1.118 | I11: czerwiec 2021 - czerwiec 2022 | J11: 3334837.7 | K11: =ROUND(J11*M11,2) -> 1667418.9 | L11: =J11-K11 -> 1667418.8 | M11: 0.5 | N11: 0 | O11: 0 | P11: =ROUND(M11*2330000,2) -> 1165000 | Q11: =ROUND(M11*1004837.71,2) -> 502418.86 | R11: 0 | S11: 0 | T11: 0 | U11: 0 | V11: 0 | W11: 0 | X11: =K11=SUM(O11:W11) -> TRUE | Y11: =ROUND(K11/J11,4) -> 0.5 | Z11: =Y11=M11 -> TRUE | AA11: =J11=K11+L11 -> TRUE
A12: 10 | B12: FDS/2020/P/11 | C12: N | D12: Powiat Oleski | E12: 1608 | F12: Przebudowa drogi powiatowej nr 1916 O (Praszka - Szyszków - Gorzów Śląski) na długości 995 m w miejscowości Praszka | G12: P | H12: 0.995 | I12: maj 2021- sierpień 2021 | J12: 467770.96 | K12: =ROUND(J12*M12,2) -> 233885.48 | L12: =J12-K12 -> 233885.48 | M12: 0.5 | N12: 0 | O12: 0 | P12: =K12 -> 233885.48 | Q12: 0 | R12: 0 | S12: 0 | T12: 0 | U12: 0 | V12: 0 | W12: 0 | X12: =K12=SUM(O12:W12) -> TRUE | Y12: =ROUND(K12/J12,4) -> 0.5 | Z12: =Y12=M12 -> TRUE | AA12: =J12=K12+L12 -> TRUE
A13: 11 | B13: FDS/2020/P/14 | C13: N | D13: Powiat Kędzierzyńsko - Kozielski | E13: 1603 | F13: Przebudowa drogi powiatowej nr 1211 O na odcinku Gościęcin - Karchów | G13: P | H13: 0.917 | I13: lipiec 2021 - październik 2021 | J13: 846881.16 | K13: =ROUND(J13*M13,2) -> 423440.58 | L13: =J13-K13 -> 423440.58 | M13: 0.5 | N13: 0 | O13: 0 | P13: =K13 -> 423440.58 | Q13: 0 | R13: 0 | S13: 0 | T13: 0 | U13: 0 | V13: 0 | W13: 0 | X13: =K13=SUM(O13:W13) -> TRUE | Y13: =ROUND(K13/J13,4) -> 0.5 | Z13: =Y13=M13 -> TRUE | AA13: =J13=K13+L13 -> TRUE
A14: 12 | B14: FDS/2020/P/5 | C14: N | D14: Powiat Brzeski | E14: 1601 | F14: Remont DP nr 1165 O odc. od mostu do m. Prędocin | G14: R | H14: 1.93 | I14: kwiecień 2021 - listopad 2021 | J14: 1490914.9 | K14: =ROUND(J14*M14,2) -> 745457.45 | L14: =J14-K14 -> 745457.44 | M14: 0.5 | N14: 0 | O14: 0 | P14: =K14 -> 745457.45 | Q14: 0 | R14: 0 | S14: 0 | T14: 0 | U14: 0 | V14: 0 | W14: 0 | X14: =K14=SUM(O14:W14) -> TRUE | Y14: =ROUND(K14/J14,4) -> 0.5 | Z14: =Y14=M14 -> TRUE | AA14: =J14=K14+L14 -> TRUE
A15: 13 | B15: FDS/2020/P/20 | C15: N | D15: Powiat Opolski | E15: 1609 | F15: Przebudowa drogi polegająca na budowie chodnika w ciągu DP nr 1716 O na odc. od DW 415 do m. Zimnice Małe wraz z przebudową kolidującej sieci teletechnicznej | G15: P | H15: 0.503 | I15: kwiecień 2021 - wrzesień 2021 | J15: 590343.98 | K15: =ROUND(J15*M15,2) -> 295171.99 | L15: =J15-K15 -> 295171.99 | M15: 0.5 | N15: 0 | O15: 0 | P15: =K15 -> 295171.99 | Q15: 0 | R15: 0 | S15: 0 | T15: 0 | U15: 0 | V15: 0 | W15: 0 | X15: =K15=SUM(O15:W15) -> TRUE | Y15: =ROUND(K15/J15,4) -> 0.5 | Z15: =Y15=M15 -> TRUE | AA15: =J15=K15+L15 -> TRUE
A16: 14 | B16: FDS/2020/P/21 | C16: N | D16: Powiat Opolski | E16: 1609 | F16: Przebudowa drogi powiatowej Nr 1522 O w zakresie budowy chodnika w miejscowości Goszczowice | G16: P | H16: 0.346 | I16: kwiecień 2021 - sierpień 2021 | J16: 531925.84 | K16: 262472.9 | L16: =J16-K16 -> 269452.94 | M16: 0.4934 | N16: 0 | O16: 0 | P16: =K16 -> 262472.9 | Q16: 0 | R16: 0 | S16: 0 | T16: 0 | U16: 0 | V16: 0 | W16: 0 | X16: =K16=SUM(O16:W16) -> TRUE | Y16: =ROUND(K16/J16,4) -> 0.4934 | Z16: =Y16=M16 -> TRUE | AA16: =J16=K16+L16 -> TRUE
A17: 15 | B17: FDS/2020/P/19 | D17: Powiat Prudnicki | E17: 1610 | F17: Przebudowa drogi powiatowej nr 1209 O relacji Mochów - Racławice Śląskie - etap II | G17: P | H17: 0 | I17: REZYGNACJA | J17: 0 | K17: =ROUND(J17*M17,2) -> 0 | L17: =J17-K17 -> 0 | M17: 0.5 | N17: 0 | O17: 0 | P17: =K17 -> 0 | Q17: 0 | R17: 0 | S17: 0 | T17: 0 | U17: 0 | V17: 0 | W17: 0 | X17: =K17=SUM(O17:W17) -> TRUE | Y17: =ROUND(K17/J17,4) -> #DIV/0! | Z17: =Y17=M17 -> #DIV/0! | AA17: =J17=K17+L17 -> TRUE
A18: 16 | B18: FDS/2020/P/22zadanie przeniesione z listy rezerwowej | D18: Powiat Krapkowicki | E18: 1605 | F18: Przebudowa drogi powiatowej nr 1811 O w zakresie budowy ścieżki pieszo-rowerowej na odcinku Komorniki-Kórnica | G18: P | H18: 0 | I18: REZYGNACJA | J18: 0 | K18: =ROUND(J18*M18,2) -> 0 | L18: =J18-K18 -> 0 | M18: 0.5 | N18: 0 | O18: 0 | P18: =K18 -> 0 | Q18: 0 | R18: 0 | S18: 0 | T18: 0 | U18: 0 | V18: 0 | W18: 0 | X18: =K18=SUM(O18:W18) -> TRUE | Y18: =ROUND(K18/J18,4) -> #DIV/0! | Z18: =Y18=M18 -> #DIV/0! | AA18: =J18=K18+L18 -> TRUE
A19: 17 | B19: FDS/2020/P/16 zadanie przeniesione z listy rezerwowej | C19: N | D19: Powiat Kluczborski | E19: 1604 | F19: Remont drogi powiatowej nr 2093 O (ulica Drzymały w Kluczborku) na odcinku o długości 483m (w km od 0+007,5 do 490,5) | G19: R | H19: 0.483 | I19: marzec 2021 - listopad 2021 | J19: 2346085.9 | K19: =ROUND(J19*M19,2) -> 1173042.9 | L19: =J19-K19 -> 1173042.9 | M19: 0.5 | N19: 0 | O19: 0 | P19: =K19 -> 1173042.9 | Q19: 0 | R19: 0 | S19: 0 | T19: 0 | U19: 0 | V19: 0 | W19: 0 | X19: =K19=SUM(O19:W19) -> TRUE | Y19: =ROUND(K19/J19,4) -> 0.5 | Z19: =Y19=M19 -> TRUE | AA19: =J19=K19+L19 -> TRUE
A20: 18 | B20: FDS/2020/P/17 zadanie przeniesione z listy rezerwowej | C20: N | D20: Powiat Prudnicki | E20: 1610 | F20: Remont drogi powiatowej nr 1208 O relacji Biała - Mochów (do DK40) na odcinku od miejscowości Rostkowice do miejscowości Mionów na odcinku 2845m | G20: R | H20: 2.845 | I20: kwiecień 2021 - maj 2021 | J20: 1134481 | K20: =ROUND(J20*M20,2) -> 567240.5 | L20: =J20-K20 -> 567240.5 | M20: 0.5 | N20: 0 | O20: 0 | P20: =K20 -> 567240.5 | Q20: 0 | R20: 0 | S20: 0 | T20: 0 | U20: 0 | V20: 0 | W20: 0
A22: RAZEM, z tego: | H22: =SUM(H3:H20) -> 23.821 | I22: x | J22: =SUM(J3:J20) -> 36335678 | K22: =SUM(K3:K20) -> 17683989 | L22: =SUM(L3:L20) -> 18651689 | M22: x | N22: 0 | O22: =SUM(O3:O20) -> 1850466.6 | P22: =SUM(P3:P20) -> 15331103 | Q22: =SUM(Q3:Q20) -> 502418.86 | R22: =SUM(R3:R20) -> 0 | S22: =SUM(S3:S20) -> 0 | T22: =SUM(T3:T20) -> 0 | U22: =SUM(U3:U20) -> 0 | V22: =SUM(V3:V20) -> 0 | W22: =SUM(W3:W20) -> 0 | X22: =K22=SUM(O22:W22) -> TRUE | Y22: =ROUND(K22/J22,4) -> 0.4867 | Z22: x | AA22: =J22=K22+L22 -> TRUE
A23: kontynuowane zadania wieloletnie | H23: =SUMIF($C$3:$C$20,"K",H3:H20) -> 0.498 | I23: x | J23: =SUMIF($C$3:$C$20,"K",J3:J20) -> 7120893.7 | K23: =SUMIF($C$3:$C$20,"K",K3:K20) -> 3560446.8 | L23: =SUMIF($C$3:$C$20,"K",L3:L20) -> 3560446.8 | M23: x | N23: 0 | O23: =SUMIF($C$3:$C$20,"K",O3:O20) -> 1850466.6 | P23: =SUMIF($C$3:$C$20,"K",P3:P20) -> 1709980.3 | Q23: =SUMIF($C$3:$C$20,"K",Q3:Q20) -> 0 | R23: =SUMIF($C$3:$C$20,"K",R3:R20) -> 0 | S23: =SUMIF($C$3:$C$20,"K",S3:S20) -> 0 | T23: =SUMIF($C$3:$C$20,"K",T3:T20) -> 0 | U23: =SUMIF($C$3:$C$20,"K",U3:U20) -> 0 | V23: =SUMIF($C$3:$C$20,"K",V3:V20) -> 0 | W23: =SUMIF($C$3:$C$20,"K",W3:W20) -> 0 | X23: =K23=SUM(O23:W23) -> TRUE | Y23: =ROUND(K23/J23,4) -> 0.5 | Z23: x | AA23: =J23=K23+L23 -> TRUE
A24: nowe zadania jednoroczne | H24: =SUMIF($C$3:$C$20,"N",H3:H20) -> 22.205 | I24: x | J24: =SUMIF($C$3:$C$20,"N",J3:J20) -> 25879946 | K24: =SUMIF($C$3:$C$20,"N",K3:K20) -> 12456123 | L24: =SUMIF($C$3:$C$20,"N",L3:L20) -> 13423823 | M24: x | N24: 0 | O24: =SUMIF($C$3:$C$20,"N",O3:O20) -> 0 | P24: =SUMIF($C$3:$C$20,"N",P3:P20) -> 12456123 | Q24: =SUMIF($C$3:$C$20,"N",Q3:Q20) -> 0 | R24: =SUMIF($C$3:$C$20,"N",R3:R20) -> 0 | S24: =SUMIF($C$3:$C$20,"N",S3:S20) -> 0 | T24: =SUMIF($C$3:$C$20,"N",T3:T20) -> 0 | U24: =SUMIF($C$3:$C$20,"N",U3:U20) -> 0 | V24: =SUMIF($C$3:$C$20,"N",V3:V20) -> 0 | W24: =SUMIF($C$3:$C$20,"N",W3:W20) -> 0 | X24: =K24=SUM(O24:W24) -> TRUE | Y24: =ROUND(K24/J24,4) -> 0.4813 | Z24: x | AA24: =J24=K24+L24 -> TRUE
A25: nowe zadania wieloletnie | H25: =SUMIF($C$3:$C$20,"W",H3:H20) -> 1.118 | I25: x | J25: =SUMIF($C$3:$C$20,"W",J3:J20) -> 3334837.7 | K25: =SUMIF($C$3:$C$20,"W",K3:K20) -> 1667418.9 | L25: =SUMIF($C$3:$C$20,"W",L3:L20) -> 1667418.8 | M25: x | N25: 0 | O25: =SUMIF($C$3:$C$20,"W",O3:O20) -> 0 | P25: =SUMIF($C$3:$C$20,"W",P3:P20) -> 1165000 | Q25: =SUMIF($C$3:$C$20,"W",Q3:Q20) -> 502418.86 | R25: =SUMIF($C$3:$C$20,"W",R3:R20) -> 0 | S25: =SUMIF($C$3:$C$20,"W",S3:S20) -> 0 | T25: =SUMIF($C$3:$C$20,"W",T3:T20) -> 0 | U25: =SUMIF($C$3:$C$20,"W",U3:U20) -> 0 | V25: =SUMIF($C$3:$C$20,"W",V3:V20) -> 0 | W25: =SUMIF($C$3:$C$20,"W",W3:W20) -> 0 | X25: =K25=SUM(O25:W25) -> TRUE | Y25: =ROUND(K25/J25,4) -> 0.5 | Z25: x | AA25: =J25=K25+L25 -> TRUE
A27: B - budowa (rozbudowa), P - przebudowa, R - remont
A28: kolorem czerwonym oznaczono zadania wieloletnie
A29: N - nowe zadanie jednoroczne, K - kontynuowane zadanie wieloletnie z wcześniejszego naboru, W - nowe zadanie wieloletnie
A30: * Kwota dofinansowania zmniejszona do limitu dostępnych środków Rządowego Funduszu Rozwoju Dróg; zwiększenie dofinansowania możliwe w przypadku wystąpienia oszczędności. W przypadku braku oszczędności w Funduszu, realizacja zadania będzie wymagała zabezpieczenia wkładu własnego wnioskodawcy w większej wysokości.

Sheet gm podst
A1: L.p. | B1: Nr ewid. | C1: Zadanie nowe/kontynuowane/wieloletnie [N/K/W] | D1: Jednostka Samorządu Terytorialnego | G1: Nazwa zadania | H1: Rodzaj zadania | I1: Długość odcinka (w km) | J1: Okres realizacji zadania | K1: Ogółem wartość projektu (w zł) | L1: Wnioskowana kwota dofinansowania (w zł) | M1: Deklarowana kwota środków własnych (w zł) | N1: % dofinansowania | O1: Kwota dofinansowania w podziale na lata
E2: TERC | F2: Powiat | O2: 2019 | P2: 2020 | Q2: 2021 | R2: 2022 | S2: 2023 | T2: 2024 | U2: 2025 | V2: 2026 | W2: 2027 | X2: 2028 | Y2: spr-lata | Z2: spr-procent | AA2: spr-dof | AB2: spr-montaż
A3: 1 | B3: FDS/G/44/2019 | C3: K | D3: Gmina Nysa | E3: 16070503 | F3: Powiat Nyski | G3: Budowa dróg i uzbrojenia podziemnego Regionalnego Parku Przemysłowego WSSE Invest - Park na terenie Gminy Nysa, w obrębach wsi Radzikowice i Goświnowice - etap II | H3: B | I3: 2.566 | J3: maj 2019 marzec 2021 | K3: 24554418 | L3: 16503832 | M3: =K3-L3 -> 8050585.7 | N3: 0.7 | O3: 5851981.7 | P3: 10651850 | Q3: 0 | R3: 0 | S3: 0 | T3: 0 | U3: 0 | V3: 0 | W3: 0 | X3: 0 | Y3: =L3=SUM(P3:X3) -> FALSE | Z3: =ROUND(L3/K3,4) -> 0.6721 | AA3: =Z3=N3 -> FALSE | AB3: =K3=L3+M3 -> TRUE
A4: 2 | B4: FDS/G/2/2019 | C4: K | D4: Gmina Chrząstowice | E4: 1609012 | F4: Powiat Opolski | G4: Przebudowa drogi gminnej ul. Szkolnej w Lędzinach | H4: P | I4: 0.35 | J4: lipiec 2020 - wrzesień 2021 | K4: 689582.9 | L4: =ROUND(K4*N4,2) -> 482708.03 | M4: =K4-L4 -> 206874.87 | N4: 0.7 | O4: 0 | P4: 1050 | Q4: 481658.03 | R4: 0 | S4: 0 | T4: 0 | U4: 0 | V4: 0 | W4: 0 | X4: 0 | Y4: =L4=SUM(P4:X4) -> TRUE | Z4: =ROUND(L4/K4,4) -> 0.7 | AA4: =Z4=N4 -> TRUE | AB4: =K4=L4+M4 -> TRUE
A5: 3 | B5: FDS/G/57/2019 | C5: K | D5: Gmina Grodków | E5: 1601033 | F5: Powiat Brzeski | G5: Przebudowa ulic Kochanowskiego i Dąbrowskiej w Grodkowie | H5: P | I5: 0.655 | J5: kwiecień 2020 - grudzień 2021 | K5: 1323513.2 | L5: 926459.21 | M5: =K5-L5 -> 397053.96 | N5: 0.7 | O5: 0 | P5: 303635.86 | Q5: 622823.35 | R5: 0 | S5: 0 | T5: 0 | U5: 0 | V5: 0 | W5: 0 | X5: 0 | Y5: =L5=SUM(P5:X5) -> TRUE | Z5: =ROUND(L5/K5,4) -> 0.7 | AA5: =Z5=N5 -> TRUE | AB5: =K5=L5+M5 -> TRUE
A6: 4 | B6: FDS/2020/G/7 | C6: W | D6: Gmina Brzeg | E6: 1601011 | F6: Powiat Brzeski | G6: Przebudowa ulicy Jana Pawła II w Brzegu | H6: P | I6: 0.48 | J6: czerwiec 2021 - grudzień 2022 | K6: 3393515.1 | L6: =ROUND(K6*N6,2) -> 2375460.6 | M6: =K6-L6 -> 1018054.5 | N6: 0.7 | O6: 0 | P6: 0 | Q6: =ROUND(N6*1501949.12,2) -> 1051364.4 | R6: =L6-Q6 -> 1324096.2 | S6: 0 | T6: 0 | U6: 0 | V6: 0 | W6: 0 | X6: 0 | Y6: =L6=SUM(P6:X6) -> TRUE | Z6: =ROUND(L6/K6,4) -> 0.7 | AA6: =Z6=N6 -> TRUE | AB6: =K6=L6+M6 -> TRUE
A7: 5 | B7: FDS/2020/G/4 | C7: N | D7: Gmina Niemodlin | E7: 1609074 | F7: Powiat Opolski | G7: Przebudowa i rozbudowa ul. Słonecznej w Niemodlinie od km 0+021,15 do km 1 + 160,55 | H7: B | I7: 1.139 | J7: 26 lutego 2021 - 22 grudnia 2021 | K7: 3680875.2 | L7: =ROUND(K7*N7,2) -> 2208525.1 | M7: =K7-L7 -> 1472350.1 | N7: 0.6 | O7: 0 | P7: 0 | Q7: =L7 -> 2208525.1 | R7: 0 | S7: 0 | T7: 0 | U7: 0 | V7: 0 | W7: 0 | X7: 0 | Y7: =L7=SUM(P7:X7) -> TRUE | Z7: =ROUND(L7/K7,4) -> 0.6 | AA7: =Z7=N7 -> TRUE | AB7: =K7=L7+M7 -> TRUE
A8: 6 | B8: FDS/2020/G/22 | C8: N | D8: Gmina Wołczyn | E8: 1604043 | F8: Powiat Kluczborski | G8: Przebudowa ul. Kasztanowej w Szymonkowie | H8: P | I8: 0.9 | J8: czerwiec 2021 - październik 2021 | K8: 965330.72 | L8: =ROUND(K8*N8,2) -> 579198.43 | M8: =K8-L8 -> 386132.29 | N8: 0.6 | O8: 0 | P8: 0 | Q8: =L8 -> 579198.43 | R8: 0 | S8: 0 | T8: 0 | U8: 0 | V8: 0 | W8: 0 | X8: 0 | Y8: =L8=SUM(P8:X8) -> TRUE | Z8: =ROUND(L8/K8,4) -> 0.6 | AA8: =Z8=N8 -> TRUE | AB8: =K8=L8+M8 -> TRUE
A9: 7 | B9: FDS/2020/G/40 | C9: N | D9: Gmina Prudnik | E9: 1610044 | F9: Powiat Prudnicki | G9: Przebudowa ulicy Grottgera w Prudniku | H9: P | I9: 0.193 | J9: lipiec 2021 - listopad 2021 | K9: 490000 | L9: =ROUND(K9*N9,2) -> 392000 | M9: =K9-L9 -> 98000 | N9: 0.8 | O9: 0 | P9: 0 | Q9: =L9 -> 392000 | R9: 0 | S9: 0 | T9: 0 | U9: 0 | V9: 0 | W9: 0 | X9: 0 | Y9: =L9=SUM(P9:X9) -> TRUE | Z9: =ROUND(L9/K9,4) -> 0.8 | AA9: =Z9=N9 -> TRUE | AB9: =K9=L9+M9 -> TRUE
A10: 8 | B10: FDS/2020/G/66 | C10: N | D10: Gmina Dąbrowa | E10: 1609022 | F10: Powiat Opolski | G10: Przebudowa ul. Wiejskiej w Karczowie | H10: P | I10: 0.52 | J10: maj 2021 - listopad 2021 | K10: 884159.66 | L10: =ROUND(K10*N10,2) -> 530495.8 | M10: =K10-L10 -> 353663.86 | N10: 0.6 | O10: 0 | P10: 0 | Q10: =L10 -> 530495.8 | R10: 0 | S10: 0 | T10: 0 | U10: 0 | V10: 0 | W10: 0 | X10: 0 | Y10: =L10=SUM(P10:X10) -> TRUE | Z10: =ROUND(L10/K10,4) -> 0.6 | AA10: =Z10=N10 -> TRUE | AB10: =K10=L10+M10 -> TRUE
A11: 9 | B11: FDS/2020/G/27 | C11: N | D11: Gmina Grodków | E11: 1601033 | F11: Powiat Brzeski | G11: Budowa dróg publicznych w rejonie Wałbrzyskiej Strefy Ekonomicznej w Grodkowie | H11: B | I11: 0.491 | J11: czerwiec 2021 - listopad 2021 | K11: 799005.31 | L11: =ROUND(K11*N11,2) -> 479403.19 | M11: =K11-L11 -> 319602.12 | N11: 0.6 | O11: 0 | P11: 0 | Q11: =L11 -> 479403.19 | R11: 0 | S11: 0 | T11: 0 | U11: 0 | V11: 0 | W11: 0 | X11: 0 | Y11: =L11=SUM(P11:X11) -> TRUE | Z11: =ROUND(L11/K11,4) -> 0.6 | AA11: =Z11=N11 -> TRUE | AB11: =K11=L11+M11 -> TRUE
A12: 10 | B12: FDS/2020/G/52 | C12: W | D12: Gmina Nysa | E12: 1607053 | F12: Powiat Nyski | G12: Przebudowa drogi w Rynku w Nysie | H12: P | I12: 0.257 | J12: czerwiec 2021 - wrzesień 2022 | K12: 4184092.9 | L12: =ROUND(K12*N12,2) -> 3347274.3 | M12: =K12-L12 -> 836818.58 | N12: 0.8 | O12: 0 | P12: 0 | Q12: =2269759.24 -> 2269759.2 | R12: =L12-Q12 -> 1077515.1 | S12: 0 | T12: 0 | U12: 0 | V12: 0 | W12: 0 | X12: 0 | Y12: =L12=SUM(P12:X12) -> TRUE | Z12: =ROUND(L12/K12,4) -> 0.8 | AA12: =Z12=N12 -> TRUE | AB12: =K12=L12+M12 -> TRUE
A13: 11 | B13: FDS/2020/G/1 | C13: N | D13: Gmina Gogolin | E13: 1605013 | F13: Powiat Krapkowicki | G13: Przebudowa ulicy Wyzwolenia w Gogolinie, droga gminna nr 106141 O | H13: P | I13: 0.967 | J13: luty 2021 - wrzesień 2021 | K13: 1792950.9 | L13: =ROUND(K13*N13,2) -> 896475.45 | M13: =K13-L13 -> 896475.45 | N13: 0.5 | O13: 0 | P13: 0 | Q13: =L13 -> 896475.45 | R13: 0 | S13: 0 | T13: 0 | U13: 0 | V13: 0 | W13: 0 | X13: 0 | Y13: =L13=SUM(P13:X13) -> TRUE | Z13: =ROUND(L13/K13,4) -> 0.5 | AA13: =Z13=N13 -> TRUE | AB13: =K13=L13+M13 -> TRUE
A14: 12 | B14: FDS/2020/G/69 | C14: N | D14: Gmina Tułowice | E14: 1609123 | F14: Powiat Opolski | G14: Przebudowa drogi gminnej, ul. Pocztowej w m. Tułowice wraz z przebudową skrzyżowania z drogą wojewódzką nr 405 | H14: P | I14: 0.146 | J14: marzec 2021 - październik 2021 | K14: 609539.56 | L14: =ROUND(K14*N14,2) -> 426677.69 | M14: =K14-L14 -> 182861.87 | N14: 0.7 | O14: 0 | P14: 0 | Q14: =L14 -> 426677.69 | R14: 0 | S14: 0 | T14: 0 | U14: 0 | V14: 0 | W14: 0 | X14: 0 | Y14: =L14=SUM(P14:X14) -> TRUE | Z14: =ROUND(L14/K14,4) -> 0.7 | AA14: =Z14=N14 -> TRUE | AB14: =K14=L14+M14 -> TRUE
A15: 13 | B15: FDS/2020/G/13 | C15: W | D15: Gmina Krapkowice | E15: 1605023 | F15: Powiat Krapkowice | G15: Budowa dróg w rejonie ulic Azalii i Prudnickiej w Krapkowicach | H15: B | I15: 3.541 | J15: czerwiec 2021 - październik 2023 | K15: 11292507 | L15: =ROUND(K15*N15,2) -> 6775504.2 | M15: =K15-L15 -> 4517002.8 | N15: 0.6 | O15: 0 | P15: 0 | Q15: =ROUND(N15*6874101.38,2) -> 4124460.8 | R15: =L15-Q15 -> 2651043.4 | S15: 0 | T15: 0 | U15: 0 | V15: 0 | W15: 0 | X15: 0 | Y15: =L15=SUM(P15:X15) -> TRUE | Z15: =ROUND(L15/K15,4) -> 0.6 | AA15: =Z15=N15 -> TRUE | AB15: =K15=L15+M15 -> TRUE
A16: 14 | B16: FDS/2020/G/20 | C16: N | D16: Gmina Głogówek | E16: 1610023 | F16: Powiat P:rudnicki | G16: Przebudowa ulicy Korfantego w Głogówku | H16: P | I16: 0.186 | J16: czerwiec 2021 - listopad 2021 | K16: 900000 | L16: =ROUND(K16*N16,2) -> 630000 | M16: =K16-L16 -> 270000 | N16: 0.7 | O16: 0 | P16: 0 | Q16: =L16 -> 630000 | R16: 0 | S16: 0 | T16: 0 | U16: 0 | V16: 0 | W16: 0 | X16: 0 | Y16: =L16=SUM(P16:X16) -> TRUE | Z16: =ROUND(L16/K16,4) -> 0.7 | AA16: =Z16=N16 -> TRUE | AB16: =K16=L16+M16 -> TRUE
A17: 15 | B17: FDS/2020/G/24 | C17: N | D17: Gmina Wołczyn | E17: 1604043 | F17: Powiat Kluczborski | G17: Przebudowa drogi z poprawą bezpieczeństwa w rejonie osiedla mieszkaniowego w Brzezinkach | H17: P | I17: 0.998 | J17: czerwiec 2021 - październik 2021 | K17: 907072.77 | L17: =ROUND(K17*N17,2) -> 544243.66 | M17: =K17-L17 -> 362829.11 | N17: 0.6 | O17: 0 | P17: 0 | Q17: =L17 -> 544243.66 | R17: 0 | S17: 0 | T17: 0 | U17: 0 | V17: 0 | W17: 0 | X17: 0 | Y17: =L17=SUM(P17:X17) -> TRUE | Z17: =ROUND(L17/K17,4) -> 0.6 | AA17: =Z17=N17 -> TRUE | AB17: =K17=L17+M17 -> TRUE
A18: 16 | B18: FDS/2020/G/26 | C18: N | D18: Gmina Olesno | E18: 1608033 | F18: Powiat Oleski | G18: Budowa ul. Brzozowej w Oleśnie | H18: B | I18: 0.18 | J18: kwiecień 2021 - lipiec 2021 | K18: 465056.92 | L18: =ROUND(K18*N18,2) -> 325539.84 | M18: =K18-L18 -> 139517.08 | N18: 0.7 | O18: 0 | P18: 0 | Q18: =L18 -> 325539.84 | R18: 0 | S18: 0 | T18: 0 | U18: 0 | V18: 0 | W18: 0 | X18: 0 | Y18: =L18=SUM(P18:X18) -> TRUE | Z18: =ROUND(L18/K18,4) -> 0.7 | AA18: =Z18=N18 -> TRUE | AB18: =K18=L18+M18 -> TRUE
A19: 17 | B19: FDS/2020/G/64 | C19: N | D19: Gmina Chrząstowice | E19: 1609012 | F19: Powiat Opolski | G19: Przebudowa drogi gminnej ul. Wrzosowej w Suchym Borze | H19: P | I19: 0.245 | J19: maj 2021 - listopad 2021 | K19: 320266.5 | L19: =ROUND(K19*N19,2) -> 160133.25 | M19: =K19-L19 -> 160133.25 | N19: 0.5 | O19: 0 | P19: 0 | Q19: =L19 -> 160133.25 | R19: 0 | S19: 0 | T19: 0 | U19: 0 | V19: 0 | W19: 0 | X19: 0 | Y19: =L19=SUM(P19:X19) -> TRUE | Z19: =ROUND(L19/K19,4) -> 0.5 | AA19: =Z19=N19 -> TRUE | AB19: =K19=L19+M19 -> TRUE
A20: 18 | B20: FDS/2020/G/23 | C20: N | D20: Gmina Wołczyn | E20: 1604043 | F20: Powiat Kluczborski | G20: Remont drogi dojazdowej do terenów inwestycyjnych ul. Fabrycznej w Wołczynie etap II | H20: R | I20: 0.522 | J20: lipiec 2021 - grudzień 2021 | K20: 755611.88 | L20: =ROUND(K20*N20,2) -> 453367.13 | M20: =K20-L20 -> 302244.75 | N20: 0.6 | O20: 0 | P20: 0 | Q20: =L20 -> 453367.13 | R20: 0 | S20: 0 | T20: 0 | U20: 0 | V20: 0 | W20: 0 | X20: 0 | Y20: =L20=SUM(P20:X20) -> TRUE | Z20: =ROUND(L20/K20,4) -> 0.6 | AA20: =Z20=N20 -> TRUE | AB20: =K20=L20+M20 -> TRUE
A21: 19 | B21: FDS/2020/G/16 | C21: N | D21: Gmina Reńska Wieś | E21: 1603062 | F21: Powiat Kędzierzyńsko - Kozielski | G21: Remont dróg lokalnych na terenie sołectwa Pokrzywnica | H21: R | I21: 3.52 | J21: lipiec 2021 - październik 2021 | K21: 1061750.4 | L21: =ROUND(K21*N21,2) -> 743225.31 | M21: =K21-L21 -> 318525.13 | N21: 0.7 | O21: 0 | P21: 0 | Q21: =L21 -> 743225.31 | R21: 0 | S21: 0 | T21: 0 | U21: 0 | V21: 0 | W21: 0 | X21: 0 | Y21: =L21=SUM(P21:X21) -> TRUE | Z21: =ROUND(L21/K21,4) -> 0.7 | AA21: =Z21=N21 -> TRUE | AB21: =K21=L21+M21 -> TRUE
A22: 20 | B22: FDS/2020/G/25 | C22: N | D22: Gmina Olesno | E22: 1608033 | F22: Powiat Oleski | G22: Przebudowa ul. Cyprysowej oraz ul. Lipowej w Oleśnie | H22: P | I22: 0.394 | J22: kwiecień 2021 - lipiec 2021 | K22: 597788.36 | L22: =ROUND(K22*N22,2) -> 418451.85 | M22: =K22-L22 -> 179336.51 | N22: 0.7 | O22: 0 | P22: 0 | Q22: =L22 -> 418451.85 | R22: 0 | S22: 0 | T22: 0 | U22: 0 | V22: 0 | W22: 0 | X22: 0 | Y22: =L22=SUM(P22:X22) -> TRUE | Z22: =ROUND(L22/K22,4) -> 0.7 | AA22: =Z22=N22 -> TRUE | AB22: =K22=L22+M22 -> TRUE
A23: 21 | B23: FDS/2020/G/14 | C23: N | D23: Gmina Reńska Wieś | E23: 1603062 | F23: Powiat Kędzierzyńsko - Kozielski | G23: Remont dróg gminnych ul. Kwiatowej i ul. Stromej w Reńskiej Wsi | H23: R | I23: 0.747 | J23: lipiec2021 - październik 2021 | K23: 210279.14 | L23: =ROUND(K23*N23,2) -> 147195.4 | M23: =K23-L23 -> 63083.74 | N23: 0.7 | O23: 0 | P23: 0 | Q23: =L23 -> 147195.4 | R23: 0 | S23: 0 | T23: 0 | U23: 0 | V23: 0 | W23: 0 | X23: 0 | Y23: =L23=SUM(P23:X23) -> TRUE | Z23: =ROUND(L23/K23,4) -> 0.7 | AA23: =Z23=N23 -> TRUE | AB23: =K23=L23+M23 -> TRUE
A24: 22 | B24: FDS/2020/G/73 | C24: N | D24: Gmina Byczyna | E24: 1604013 | F24: Powiat Kluczborski | G24: Remont ulicy Klonowej w Byczynie | H24: R | I24: 0.588 | J24: czerwiec 2021 - listopad 2021 | K24: 1103368.8 | L24: =ROUND(K24*N24,2) -> 662021.27 | M24: =K24-L24 -> 441347.51 | N24: 0.6 | O24: 0 | P24: 0 | Q24: =L24 -> 662021.27 | R24: 0 | S24: 0 | T24: 0 | U24: 0 | V24: 0 | W24: 0 | X24: 0 | Y24: =L24=SUM(P24:X24) -> TRUE | Z24: =ROUND(L24/K24,4) -> 0.6 | AA24: =Z24=N24 -> TRUE | AB24: =K24=L24+M24 -> TRUE
A25: 23 | B25: FDS/2020/G/43 | C25: N | D25: Gmina Paczków | E25: 1607073 | F25: Powiat Nyski | G25: Remont drogi w Trzeboszowicach położonej na działce 850 | H25: R | I25: 0.573 | J25: czerwiec 2021 - październik 2021 | K25: 155154.81 | L25: =ROUND(K25*N25,2) -> 124123.85 | M25: =K25-L25 -> 31030.96 | N25: 0.8 | O25: 0 | P25: 0 | Q25: =L25 -> 124123.85 | R25: 0 | S25: 0 | T25: 0 | U25: 0 | V25: 0 | W25: 0 | X25: 0 | Y25: =L25=SUM(P25:X25) -> TRUE | Z25: =ROUND(L25/K25,4) -> 0.8 | AA25: =Z25=N25 -> TRUE | AB25: =K25=L25+M25 -> TRUE
A26: 24 | B26: FDS/2020/G/62 | C26: N | D26: Gmina Baborów | E26: 1602013 | F26: Powiat Głubczycki | G26: Przebudowa drogi gminnej ul. Strażaków nr 108717 O w Baborowie | H26: P | I26: 0.251 | J26: lipiec 2021 - listopad 2021 | K26: 541367.23 | L26: =ROUND(K26*N26,2) -> 433093.78 | M26: =K26-L26 -> 108273.45 | N26: 0.8 | O26: 0 | P26: 0 | Q26: =L26 -> 433093.78 | R26: 0 | S26: 0 | T26: 0 | U26: 0 | V26: 0 | W26: 0 | X26: 0 | Y26: =L26=SUM(P26:X26) -> TRUE | Z26: =ROUND(L26/K26,4) -> 0.8 | AA26: =Z26=N26 -> TRUE | AB26: =K26=L26+M26 -> TRUE
A27: 25 | B27: FDS/2020/G/79 | C27: N | D27: Gmina Korfantów | E27: 1607033 | F27: Powiat Nyski | G27: Przebudowa drogi wewnętrznej w miejscowości Niesiebędowice | H27: P | I27: 0.345 | J27: lipiec 2021 - grudzień 2021 | K27: 545064.83 | L27: =ROUND(K27*N27,2) -> 381545.38 | M27: =K27-L27 -> 163519.45 | N27: 0.7 | O27: 0 | P27: 0 | Q27: =L27 -> 381545.38 | R27: 0 | S27: 0 | T27: 0 | U27: 0 | V27: 0 | W27: 0 | X27: 0 | Y27: =L27=SUM(P27:X27) -> TRUE | Z27: =ROUND(L27/K27,4) -> 0.7 | AA27: =Z27=N27 -> TRUE | AB27: =K27=L27+M27 -> TRUE
... A34: 32 | B34: FDS/2020/G/2 | C34: N | D34: Gmina Namysłów | E34: 1606023 | F34: Powiat Namysłowski | G34: Budowa drogi w Kowalowicach | H34: B | I34: 0.337 | J34: lipiec 2021 - grudzień 2021 | K34: 484766.91 | L34: =ROUND(K34*N34,2) -> 290860.15 | M34: =K34-L34 -> 193906.76 | N34: 0.6 | O34: 0 | P34: 0 | Q34: =L34 -> 290860.15 | R34: 0 | S34: 0 | T34: 0 | U34: 0 | V34: 0 | W34: 0 | X34: 0 | Y34: =L34=SUM(P34:X34) -> TRUE | Z34: =ROUND(L34/K34,4) -> 0.6 | AA34: =Z34=N34 -> TRUE | AB34: =K34=L34+M34 -> TRUE
A35: 33 | B35: FDS/2020/G/51 | C35: N | D35: Gmina Biała | E35: 1610013 | F35: Powiat Prudnicki | G35: Przebudowa drogi gminnej w miejscowości Krobusz | H35: P | I35: 1.083 | J35: marzec 2021 - listopad 2021 | K35: 1716613.7 | L35: 1201413.1 | M35: =K35-L35 -> 515200.65 | N35: =L35/K35 -> 0.69987386 | O35: 0 | P35: 0 | Q35: =L35 -> 1201413.1 | R35: 0 | S35: 0 | T35: 0 | U35: 0 | V35: 0 | W35: 0 | X35: 0 | Y35: =L35=SUM(P35:X35) -> TRUE | Z35: =ROUND(L35/K35,4) -> 0.6999 | AA35: =Z35=N35 -> FALSE | AB35: =K35=L35+M35 -> TRUE
A36: 34 | B36: FDS/2020/G/81 | C36: N | D36: Gmina Turawa | E36: 1609132 | F36: Powiat Opolski | G36: Przebudowa ulicy Pływackiej w miejscowości Rzędów (etap II) | H36: P | I36: 0.528 | J36: maj 2021 - lipiec 2021 | K36: 341517.41 | L36: =ROUND(K36*N36,2) -> 204910.45 | M36: =K36-L36 -> 136606.96 | N36: 0.6 | O36: 0 | P36: 0 | Q36: =L36 -> 204910.45 | R36: 0 | S36: 0 | T36: 0 | U36: 0 | V36: 0 | W36: 0 | X36: 0 | Y36: =L36=SUM(P36:X36) -> TRUE | Z36: =ROUND(L36/K36,4) -> 0.6 | AA36: =Z36=N36 -> TRUE | AB36: =K36=L36+M36 -> TRUE
A37: 35 | B37: FDS/2020/G/53 | C37: N | D37: Gmina Paczków | E37: 1607073 | F37: Powiat Nyski | G37: Remont drogi położonej w Paczkowie przy ul. Dworcowej na działkach nr 65, 51/2 | H37: R | I37: 0.365 | J37: czerwiec 2021 - październik 2021 | K37: 104305.67 | L37: =ROUND(K37*N37,2) -> 83444.54 | M37: =K37-L37 -> 20861.13 | N37: 0.8 | O37: 0 | P37: 0 | Q37: =L37 -> 83444.54 | R37: 0 | S37: 0 | T37: 0 | U37: 0 | V37: 0 | W37: 0 | X37: 0 | Y37: =L37=SUM(P37:X37) -> TRUE | Z37: =ROUND(L37/K37,4) -> 0.8 | AA37: =Z37=N37 -> TRUE | AB37: =K37=L37+M37 -> TRUE
A38: 36 | B38: FDS/2020/G/35 | C38: N | D38: Gmina Ozimek | E38: 1609083 | F38: Powiat Opolski | G38: Budowa dróg gminnych ulicy Dębowej w Ozimku i Krasiejowie, Sosnowej i Modrzewiowej w Ozimku wraz z oświetleniem i odwodnieniem oraz budową skrzyżowania drogi gminnej ulicy Dębowej z drogą wojewódzką nr 463 ul. Wyzwolenia w miejscowości Ozimek | H38: B | I38: 0.865 | J38: lipiec 2021 - listopad 2021 | K38: 1922256.6 | L38: =ROUND(K38*N38,2) -> 1345579.6 | M38: =K38-L38 -> 576676.99 | N38: 0.7 | O38: 0 | P38: 0 | Q38: =L38 -> 1345579.6 | R38: 0 | S38: 0 | T38: 0 | U38: 0 | V38: 0 | W38: 0 | X38: 0 | Y38: =L38=SUM(P38:X38) -> TRUE | Z38: =ROUND(L38/K38,4) -> 0.7 | AA38: =Z38=N38 -> TRUE | AB38: =K38=L38+M38 -> TRUE
A39: 37 | B39: FDS/2020/G/17 | C39: N | D39: Gmina Reńska Wieś | E39: 1603062 | F39: Powiat Kędzierzyńsko - Kozielski | G39: Budowa drogi gminnej - ul. Zielona w Radziejowie | H39: B | I39: 0.401 | J39: czerwiec 2021 - październik 2021 | K39: 219186 | L39: =ROUND(K39*N39,2) -> 153430.2 | M39: =K39-L39 -> 65755.8 | N39: 0.7 | O39: 0 | P39: 0 | Q39: =L39 -> 153430.2 | R39: 0 | S39: 0 | T39: 0 | U39: 0 | V39: 0 | W39: 0 | X39: 0 | Y39: =L39=SUM(P39:X39) -> TRUE | Z39: =ROUND(L39/K39,4) -> 0.7 | AA39: =Z39=N39 -> TRUE | AB39: =K39=L39+M39 -> TRUE
A40: 38 | B40: FDS/2020/G/8 | C40: N | D40: Gmina Krapkowice | E40: 1605023 | F40: Powiat Krapkowicki | G40: Przebudowa ulicy Kopernika w miejscowości Krapkowice | H40: P | I40: 0.216 | J40: lipiec 2021 - grudzień 2021 | K40: 508247.25 | L40: =ROUND(K40*N40,2) -> 304948.35 | M40: =K40-L40 -> 203298.9 | N40: 0.6 | O40: 0 | P40: 0 | Q40: =L40 -> 304948.35 | R40: 0 | S40: 0 | T40: 0 | U40: 0 | V40: 0 | W40: 0 | X40: 0 | Y40: =L40=SUM(P40:X40) -> TRUE | Z40: =ROUND(L40/K40,4) -> 0.6 | AA40: =Z40=N40 -> TRUE | AB40: =K40=L40+M40 -> TRUE
A41: 39 | B41: FDS/2020/G/63 | C41: N | D41: Gmina Baborów | E41: 1602013 | F41: Powiat Głubczycki | G41: Przebudowa drogi gminnej ul. Piaskowa nr 108732 O w Baborowie | H41: P | I41: 0.137 | J41: lipiec 2021 - grudzień 2021 | K41: 198864.05 | L41: =ROUND(K41*N41,2) -> 159091.24 | M41: =K41-L41 -> 39772.81 | N41: 0.8 | O41: 0 | P41: 0 | Q41: =L41 -> 159091.24 | R41: 0 | S41: 0 | T41: 0 | U41: 0 | V41: 0 | W41: 0 | X41: 0 | Y41: =L41=SUM(P41:X41) -> TRUE | Z41: =ROUND(L41/K41,4) -> 0.8 | AA41: =Z41=N41 -> TRUE | AB41: =K41=L41+M41 -> TRUE
A42: 40 | B42: FDS/2020/G/48 | C42: N | D42: Gmina Dąbrowa | E42: 1609022 | F42: Powiat Opolski | G42: Przebudowa ul. Kolejowej w Dąbrowie | H42: P | I42: 0.525 | J42: maj 2021 - grudzień 2021 | K42: 1340605.7 | L42: =ROUND(K42*N42,2) -> 804363.43 | M42: =K42-L42 -> 536242.29 | N42: 0.6 | O42: 0 | P42: 0 | Q42: =L42 -> 804363.43 | R42: 0 | S42: 0 | T42: 0 | U42: 0 | V42: 0 | W42: 0 | X42: 0 | Y42: =L42=SUM(P42:X42) -> TRUE | Z42: =ROUND(L42/K42,4) -> 0.6 | AA42: =Z42=N42 -> TRUE | AB42: =K42=L42+M42 -> TRUE
A43: 41 | B43: FDS/2020/G/18 | C43: N | D43: Gmina Reńska Wieś | E43: 1603062 | F43: Powiat Kędzierzyńsko - Kozielski | G43: Przebudowa drogi gminnej - ul. Sportowej w Radziejowie | H43: P | I43: 0.327 | J43: czerwiec 2021 - październik 2021 | K43: 332186.46 | L43: =ROUND(K43*N43,2) -> 215324.3 | M43: =K43-L43 -> 116862.16 | N43: 0.64820313 | O43: 0 | P43: 0 | Q43: =L43 -> 215324.3 | R43: 0 | S43: 0 | T43: 0 | U43: 0 | V43: 0 | W43: 0 | X43: 0 | Y43: =L43=SUM(P43:X43) -> TRUE | Z43: =ROUND(L43/K43,4) -> 0.6482 | AA43: =Z43=N43 -> FALSE | AB43: =K43=L43+M43 -> TRUE
A44: 42 | B44: FDS/2020/G/28 | C44: N | D44: Gmina Dobrzeń Wielki | E44: 1609032 | F44: Powiat Opolski | G44: Rozbudowa drogi gminnej ul. Kościuszki w m. Dobrzeń Wielki - Etap I | H44: B | I44: 0.407 | J44: luty 2021 - grudzień 2021 | K44: 602442.82 | L44: =ROUND(K44*N44,2) -> 361465.69 | M44: =K44-L44 -> 240977.13 | N44: 0.6 | O44: 0 | P44: 0 | Q44: =L44 -> 361465.69 | R44: 0 | S44: 0 | T44: 0 | U44: 0 | V44: 0 | W44: 0 | X44: 0 | Y44: =L44=SUM(P44:X44) -> TRUE | Z44: =ROUND(L44/K44,4) -> 0.6 | AA44: =Z44=N44 -> TRUE | AB44: =K44=L44+M44 -> TRUE
A45: 43 | B45: FDS/2020/G/10 | C45: N | D45: Gmina Łubniany | E45: 1609052 | F45: Powiat Opolski | G45: Przebudowa ul. Nowa-Droga Gminna nr 102612 O, M.Kępa, Gmina Łubniany | H45: P | I45: 0.304 | J45: sierpień 2021 - grudzień 2021 | K45: 727212.48 | L45: =ROUND(K45*N45,2) -> 436327.49 | M45: =K45-L45 -> 290884.99 | N45: 0.6 | O45: 0 | P45: 0 | Q45: =L45 -> 436327.49 | R45: 0 | S45: 0 | T45: 0 | U45: 0 | V45: 0 | W45: 0 | X45: 0 | Y45: =L45=SUM(P45:X45) -> TRUE | Z45: =ROUND(L45/K45,4) -> 0.6 | AA45: =Z45=N45 -> TRUE | AB45: =K45=L45+M45 -> TRUE
A46: 44 | B46: FDS/2020/G/9 | C46: N | D46: Gmina Brzeg | E46: 1601011 | F46: Powiat Brzeski | G46: Remont ul. Powstańców Śląskich w Brzegu | H46: R | I46: 0.261 | J46: maj 2021 - grudzień 2021 | K46: 788639.28 | L46: =ROUND(K46*N46,2) -> 552047.5 | M46: =K46-L46 -> 236591.78 | N46: 0.7 | O46: 0 | P46: 0 | Q46: =L46 -> 552047.5 | R46: 0 | S46: 0 | T46: 0 | U46: 0 | V46: 0 | W46: 0 | X46: 0 | Y46: =L46=SUM(P46:X46) -> TRUE | Z46: =ROUND(L46/K46,4) -> 0.7 | AA46: =Z46=N46 -> TRUE | AB46: =K46=L46+M46 -> TRUE
...

Sheet pow rez
A1: L.p. | B1: Nr ewid. | C1: Zadanie wieloletnie [N/W] | D1: Jednostka Samorządu Terytorialnego | E1: TERC | F1: Nazwa zadania | G1: Rodzaj zadania | H1: Długość odcinka (w km) | I1: Okres realizacji zadania | J1: Ogółem wartość projektu (w zł) | K1: Wnioskowana kwota dofinansowania (w zł) | L1: Deklarowana kwota środków własnych (w zł) | M1: % dofinansowania | N1: Kwota dofinansowania w podziale na lata
N2: 2019 | O2: 2020 | P2: 2021 | Q2: 2022 | R2: 2023 | S2: 2024 | T2: 2025 | U2: 2026 | V2: 2027 | W2: 2028 | X2: spr-lata | Y2: spr-procent | Z2: spr-dof | AA2: spr-montaż
A3: 1 | B3: FDS/2020/P/22 zadanie przeniesione na listę podstawową | D3: Powiat Krapkowicki | E3: 1605 | F3: Przebudowa drogi powiatowej nr 1811 O w zakresie budowy ścieżki pieszo-rowerowej na odcinku Komorniki-Kórnica | G3: P | I3: kwiecień 2021 - sierpień 2021 | J3: 0 | K3: =ROUND(J3*M3,2) -> 0 | L3: =J3-K3 -> 0 | M3: 0.5 | N3: 0 | O3: 0 | P3: =K3 -> 0 | Q3: 0 | R3: 0 | S3: 0 | T3: 0 | U3: 0 | V3: 0 | W3: 0 | X3: =K3=SUM(O3:W3) -> TRUE | Y3: =ROUND(K3/J3,4) -> #DIV/0! | Z3: x | AA3: =J3=K3+L3 -> TRUE
A4: 2 | B4: FDS/2020/P/16 zadanie przeniesione na listę podstawową | D4: Powiat Kluczborski | E4: 1604 | F4: Remont drogi powiatowej nr 2093 O (ulica Drzymały w Kluczborku) na odcinku o długości 483m (w km od 0+007,5 do 490,5) | G4: R | I4: marzec 2021 - listopad 2021 | J4: 0 | K4: =ROUND(J4*M4,2) -> 0 | L4: =J4-K4 -> 0 | M4: 0.5 | N4: 0 | O4: 0 | P4: =K4 -> 0 | Q4: 0 | R4: 0 | S4: 0 | T4: 0 | U4: 0 | V4: 0 | W4: 0 | X4: =K4=SUM(O4:W4) -> TRUE | Y4: =ROUND(K4/J4,4) -> #DIV/0! | Z4: x | AA4: =J4=K4+L4 -> TRUE
A5: 3 | B5: FDS/2020/P/17 zadanie przeniesione na listę podstawową | D5: Powiat Prudnicki | E5: 1610 | F5: Remont drogi powiatowej nr 1208 O relacji Biała - Mochów (do DK40) na odcinku od miejscowości Rostkowice do miejscowości Mionów na odcinku 2845m | G5: R | I5: kwiecień 2021 - maj 2021 | J5: 0 | K5: =ROUND(J5*M5,2) -> 0 | L5: =J5-K5 -> 0 | M5: 0.5 | N5: 0 | O5: 0 | P5: =K5 -> 0 | Q5: 0 | R5: 0 | S5: 0 | T5: 0 | U5: 0 | V5: 0 | W5: 0 | X5: =K5=SUM(O5:W5) -> TRUE | Y5: =ROUND(K5/J5,4) -> #DIV/0! | Z5: x | AA5: =J5=K5+L5 -> TRUE
A6: 4 | B6: FDS/2020/P/18 | D6: Powiat Prudnicki | E6: 1610 | F6: Remont drogi powiatowej nr 1614 O relacji Prudnik - Biała na odcinku od miejscowości Prudnik do miejscowości Prężynka na odcinku 2883m | G6: R | I6: REZYGNACJA | J6: 0 | K6: =ROUND(J6*M6,2) -> 0 | L6: =J6-K6 -> 0 | M6: 0.5 | N6: 0 | O6: 0 | P6: =K6 -> 0 | Q6: 0 | R6: 0 | S6: 0 | T6: 0 | U6: 0 | V6: 0 | W6: 0 | X6: =K6=SUM(O6:W6) -> TRUE | Y6: =ROUND(K6/J6,4) -> #DIV/0! | Z6: x | AA6: =J6=K6+L6 -> TRUE
A7: RAZEM, z tego: | H7: =SUM(H3:H6) -> 0 | I7: x | J7: =SUM(J3:J6) -> 0 | K7: =SUM(K3:K6) -> 0 | L7: =SUM(L3:L6) -> 0 | M7: x | N7: =SUM(N3:N6) -> 0 | O7: =SUM(O3:O6) -> 0 | P7: =SUM(P3:P6) -> 0 | Q7: =SUM(Q3:Q6) -> 0 | R7: =SUM(R3:R6) -> 0 | S7: =SUM(S3:S6) -> 0 | T7: =SUM(T3:T6) -> 0 | U7: =SUM(U3:U6) -> 0 | ... W7: =SUM(W3:W6) -> 0 | X7: =K7=SUM(O7:W7) -> TRUE | Y7: =ROUND(K7/J7,4) -> #DIV/0! | Z7: x | AA7: =J7=K7+L7 -> TRUE
A8: nowe zadania jednoroczne | H8: =SUMIF($C$3:$C$6,"N",H3:H6) -> 0 | I8: x | J8: =SUMIF($C$3:$C$6,"N",J3:J6) -> 0 | K8: =SUMIF($C$3:$C$6,"N",K3:K6) -> 0 | L8: =SUMIF($C$3:$C$6,"N",L3:L6) -> 0 | M8: x | N8: =SUMIF($C$3:$C$6,"N",N3:N6) -> 0 | O8: =SUMIF($C$3:$C$6,"N",O3:O6) -> 0 | P8: =SUMIF($C$3:$C$6,"N",P3:P6) -> 0 | Q8: =SUMIF($C$3:$C$6,"N",Q3:Q6) -> 0 | R8: =SUMIF($C$3:$C$6,"N",R3:R6) -> 0 | S8: =SUMIF($C$3:$C$6,"N",S3:S6) -> 0 | T8: =SUMIF($C$3:$C$6,"N",T3:T6) -> 0 | U8: =SUMIF($C$3:$C$6,"N",U3:U6) -> 0 | ... W8: =SUMIF($C$3:$C$6,"N",W3:W6) -> 0 | X8: =K8=SUM(O8:W8) -> TRUE | Y8: =ROUND(K8/J8,4) -> #DIV/0! | Z8: x | AA8: =J8=K8+L8 -> TRUE
A9: nowe zadania wieloletnie | H9: =SUMIF($C$3:$C$6,"W",H3:H6) -> 0 | I9: x | J9: =SUMIF($C$3:$C$6,"W",J3:J6) -> 0 | K9: =SUMIF($C$3:$C$6,"W",K3:K6) -> 0 | L9: =SUMIF($C$3:$C$6,"W",L3:L6) -> 0 | M9: x | N9: =SUMIF($C$3:$C$6,"W",N3:N6) -> 0 | O9: =SUMIF($C$3:$C$6,"W",O3:O6) -> 0 | P9: =SUMIF($C$3:$C$6,"W",P3:P6) -> 0 | Q9: =SUMIF($C$3:$C$6,"W",Q3:Q6) -> 0 | R9: =SUMIF($C$3:$C$6,"W",R3:R6) -> 0 | S9: =SUMIF($C$3:$C$6,"W",S3:S6) -> 0 | T9: =SUMIF($C$3:$C$6,"W",T3:T6) -> 0 | U9: =SUMIF($C$3:$C$6,"W",U3:U6) -> 0 | ... W9: =SUMIF($C$3:$C$6,"W",W3:W6) -> 0 | X9: =K9=SUM(O9:W9) -> TRUE | Y9: =ROUND(K9/J9,4) -> #DIV/0! | Z9: x | AA9: =J9=K9+L9 -> TRUE
A10: nowe zadania wieloletnie | H10: =SUMIF($C$3:$C$6,"W",H3:H6) -> 0 | I10: x | J10: =SUMIF($C$3:$C$6,"W",J3:J6) -> 0 | K10: =SUMIF($C$3:$C$6,"W",K3:K6) -> 0 | L10: =SUMIF($C$3:$C$6,"W",L3:L6) -> 0 | M10: x | N10: =SUMIF($C$3:$C$6,"W",N3:N6) -> 0 | O10: =SUMIF($C$3:$C$6,"W",O3:O6) -> 0 | P10: =SUMIF($C$3:$C$6,"W",P3:P6) -> 0 | Q10: =SUMIF($C$3:$C$6,"W",Q3:Q6) -> 0 | R10: =SUMIF($C$3:$C$6,"W",R3:R6) -> 0 | S10: =SUMIF($C$3:$C$6,"W",S3:S6) -> 0 | T10: =SUMIF($C$3:$C$6,"W",T3:T6) -> 0 | U10: =SUMIF($C$3:$C$6,"W",U3:U6) -> 0 | ... W10: =SUMIF($C$3:$C$6,"W",W3:W6) -> 0 | X10: =K10=SUM(O10:W10) -> TRUE | Y10: =ROUND(K10/J10,4) -> #DIV/0! | Z10: x | AA10: =J10=K10+L10 -> TRUE
A12: B - budowa (rozbudowa), P - przebudowa, R - remont
A13: kolorem czerwonym oznaczono zadania wieloletnie
A14: N - zadanie nowe, W - nowe zadanie wieloletnie

Sheet gm rez
A1: L.p. | B1: Nr ewid. | C1: Zadanie wieloletnie [N/W] | D1: Jednostka Samorządu Terytorialnego | H1: Rodzaj zadania | I1: Długość odcinka (w km) | J1: okres realizacji zadania | K1: Ogółem wartość projektu (w zł) | L1: Wnioskowana kwota dofinansowania (w zł) | M1: Deklarowana kwota środków własnych (w zł) | N1: % dofinansowania | O1: Kwota dofinansowania w podziale na lata
E2: TERC | F2: Powiat | G2: Nazwa zadania | O2: 2019 | P2: 2020 | Q2: 2021 | R2: 2022 | S2: 2023 | T2: 2024 | U2: 2025 | V2: 2026 | W2: 2027 | X2: 2028 | Y2: spr-lata | Z2: spr-procent | AA2: spr-dof | AB2: spr-montaż
A3: 1 | B3: FDS/2020/G/54 zadanie przeniesione na listę podstawową | D3: Gmina Radłów | E3: 1608052 | F3: Powiat Oleski | G3: Przebudowa drogi gminnej nr 101226 O Boroszów - Radłów od km 4+300 do km 5+240 | H3: P | J3: maj 2021 - wrzesień 2021 | K3: 0 | L3: 0 | M3: 0 | N3: 0.7 | O3: 0 | P3: 0 | Q3: =L3 -> 0 | R3: 0 | S3: 0 | T3: 0 | U3: 0 | V3: 0 | W3: 0 | X3: 0 | Y3: =L3=SUM(O3:X3) -> TRUE | Z3: =ROUND(L3/K3,4) -> #DIV/0! | AA3: =Z3=N3 -> #DIV/0! | AB3: =K3=L3+M3 -> TRUE
A4: 2 | B4: FDS/2020/G/38 zadanie przeniesione na listę podstawową | D4: Gmina Kolonowskie | E4: 1611033 | F4: Powiat Strzelecki | G4: Przebudowa drogi gminnej - ul. Długiej w Kolonowskiem | H4: P | J4: kwiecień 2021 - listopad 2021 | K4: 0 | L4: 0 | M4: 0 | N4: 0.7 | O4: 0 | P4: 0 | Q4: =L4 -> 0 | R4: 0 | S4: 0 | T4: 0 | U4: 0 | V4: 0 | W4: 0 | X4: 0 | Y4: =L4=SUM(O4:X4) -> TRUE | Z4: =ROUND(L4/K4,4) -> #DIV/0! | AA4: =Z4=N4 -> #DIV/0! | AB4: =K4=L4+M4 -> TRUE
A5: 3 | B5: FDS/2020/G/11 zadanie przeniesione na listę podstawową | D5: Gmina Strzelce Opolskie | E5: 1611053 | F5: Powiat Strzelecki | G5: Przebudowa i rozbudowa ul. Zamkowej w Kadłubie | H5: B | J5: marzec 2021 - październik 2021 | K5: 0 | L5: 0 | M5: 0 | N5: 0.6 | O5: 0 | P5: 0 | Q5: =L5 -> 0 | R5: 0 | S5: 0 | T5: 0 | U5: 0 | V5: 0 | W5: 0 | X5: 0 | Y5: =L5=SUM(O5:X5) -> TRUE | Z5: =ROUND(L5/K5,4) -> #DIV/0! | AA5: =Z5=N5 -> #DIV/0! | AB5: =K5=L5+M5 -> TRUE
A6: 4 | B6: FDS/2020/G/41 zadanie przeniesione na listę podstawową | D6: Gmina Skoroszyce | E6: 1607092 | F6: Powiat Nyski | G6: Przebudowa dróg w Chróścinie - ul. Słoneczna, Krótka, Boczna | H6: P | J6: marzec 2021 - październik 2021 | K6: 0 | L6: 0 | M6: 0 | N6: 0.7 | O6: 0 | P6: 0 | Q6: =L6 -> 0 | R6: 0 | S6: 0 | T6: 0 | U6: 0 | V6: 0 | W6: 0 | X6: 0 | Y6: =L6=SUM(O6:X6) -> TRUE | Z6: =ROUND(L6/K6,4) -> #DIV/0! | AA6: =Z6=N6 -> #DIV/0! | AB6: =K6=L6+M6 -> TRUE
A7: 5 | B7: FDS/2020/G/36 zadanie przeniesione na listę podstawową | D7: Gmina Głubczyce | E7: 1602033 | F7: Powiat Głubczycki | G7: Przebudowa ulicy Karola Miarki w Głubczycach | H7: P | J7: kwiecień 2021 - październik 2021 | K7: 0 | L7: 0 | M7: 0 | N7: 0.7 | O7: 0 | P7: 0 | Q7: =L7 -> 0 | R7: 0 | S7: 0 | T7: 0 | U7: 0 | V7: 0 | W7: 0 | X7: 0 | Y7: =L7=SUM(O7:X7) -> TRUE | Z7: =ROUND(L7/K7,4) -> #DIV/0! | AA7: =Z7=N7 -> #DIV/0! | AB7: =K7=L7+M7 -> TRUE
A8: 6 | B8: FDS/2020/G/65 zadanie przeniesione na listę podstawową | D8: Gmina Kietrz | E8: 1602043 | F8: Powiat Głubczycki | G8: Remont odcinka drogi w ciągu ul. Długiej w Kietrzu, będącej drogą publiczną gminną nr 108809 O | H8: R | J8: marzec 2021 - wrzesień 2021 | K8: 0 | L8: =ROUND(K8*N8,2) -> 0 | M8: =K8-L8 -> 0 | N8: 0.7 | O8: 0 | P8: 0 | Q8: =L8 -> 0 | R8: 0 | S8: 0 | T8: 0 | U8: 0 | V8: 0 | W8: 0 | X8: 0 | Y8: =L8=SUM(O8:X8) -> TRUE | Z8: =ROUND(L8/K8,4) -> #DIV/0! | AA8: =Z8=N8 -> #DIV/0! | AB8: =K8=L8+M8 -> TRUE
A9: 7 | B9: FDS/2020/G/45 zadanie przeniesione na listę podstawową | D9: Gmina Popielów | E9: 1609092 | F9: Powiat Opolski | G9: Przebudowa drogi gminnej - ul. Polna w miejscowości Nowe Siołkowice | H9: P | J9: kwiecień 2021 - październik 2021 | K9: 0 | L9: =ROUND(K9*N9,2) -> 0 | M9: =K9-L9 -> 0 | N9: 0.7 | O9: 0 | P9: 0 | Q9: =L9 -> 0 | R9: 0 | S9: 0 | T9: 0 | U9: 0 | V9: 0 | W9: 0 | X9: 0 | Y9: =L9=SUM(O9:X9) -> TRUE | Z9: =ROUND(L9/K9,4) -> #DIV/0! | AA9: =Z9=N9 -> #DIV/0! | AB9: =K9=L9+M9 -> TRUE
