{"text_format":"1","workbook":"xlsx","n_sheets":12,"sheets":["Rozliczenie kwartalne","Załącznik nr 1 do rozliczenia","Załącznik nr 2 do rozliczenia","Dane JST","Dane zbiorcze","Weryfikacja 1","Weryfikacja 2","Weryfikacja 3","Miesiące","Dane - linie 1","Dane - linie 2","Dane - linie 3"],"not_rendered":{"charts":0,"images":3,"macros":1,"external_links":0,"defined_names":413,"comments":0,"pivot_tables":0},"unopened":[],"bounds":{"document_bytes":16777216,"sheet_cells":100000,"rows_first":2000,"rows_last":500,"rows_between":2000,"halvings":0,"cell_chars":16384,"cell_head_chars":4096},"cells_cut":0,"cells_raw":0,"read":"whole","date_system":"1900"}

{"sheet":"Rozliczenie kwartalne","index":0,"n_rows":396,"n_cols":12,"rows_kept":396,"cut":false,"hidden":false,"merged":[[0,8,0,10],[15,2,15,3],[16,2,16,3],[5,2,5,3],[6,2,6,3],[7,2,7,3],[8,2,8,3],[9,2,9,3],[10,2,10,3],[11,2,11,3],[13,2,13,3],[14,2,14,3],[32,4,32,5],[32,6,32,11],[32,0,32,3],[145,6,145,7],[19,6,20,11],[26,1,26,6],[24,1,24,6],[24,7,24,11],[27,1,27,6],[27,7,27,11],[383,0,383,11],[396,0,396,11],[389,4,389,10],[387,4,388,10],[391,4,392,10],[390,4,390,10],[394,1,394,2],[385,0,385,5],[385,6,385,8],[382,0,382,11],[12,1,12,3],[31,0,31,11],[23,0,23,11],[1,7,1,11],[2,6,2,8],[145,0,145,1],[28,0,28,11],[4,1,4,3],[25,7,25,11],[25,1,25,6],[21,0,21,11],[19,0,20,4],[26,7,26,11],[380,4,381,8],[379,0,379,11],[147,0,147,11],[148,0,148,3],[148,4,148,5],[148,6,148,11],[261,0,261,1],[261,6,261,7],[263,0,263,11],[264,0,264,3],[264,4,264,5],[264,6,264,11],[377,0,377,1],[377,6,377,7]]}
[{"$f":"IF(C6=\"\",\"\",H26&\"#\"&ROUND(G386,2)&\"#\"&C6&\"#\")","v":""},null,null,null,null,null,null,{"$f":"IF('Załącznik nr 1 do rozliczenia'!F1:H1=\"\",\"\",'Załącznik nr 1 do rozliczenia'!F1:H1)","v":""},{"$f":"IF('Załącznik nr 1 do rozliczenia'!F1=\"\",\"\",'Załącznik nr 1 do rozliczenia'!F1)","v":""},null,null,{"$f":"IF('Załącznik nr 1 do rozliczenia'!I1=\"\",\"\",'Załącznik nr 1 do rozliczenia'!I1)","v":""}]
[null,null,null,null,null,null,null,"          (miejscowość, data)"]
[]
[]
[null,"A1. ORGANIZATOR PUBLICZNEGO TRANSPORTU ZBIOROWEGO\n(dane wypełnią się automatycznie po wpisaniu poprawnego numeru umowy w części A.3)"]
[null,"Nazwa organizatora publicznego transportu zbiorowego",{"$f":"IFERROR(VLOOKUP($H$26,'Dane JST'!$B$2:$E$156,4,0),\"\")","v":""}]
[null,"NIP",{"$f":"IFERROR(VLOOKUP($H$26,'Dane JST'!$B$2:$E$156,2,0),\"\")","v":""}]
[null,"REGON",{"$f":"IFERROR(VLOOKUP($H$26,'Dane JST'!$B$2:$E$156,3,0),\"\")","v":""}]
[null,"Adres",{"$f":"IFERROR(VLOOKUP($H$26,'Dane JST'!B2:F156,5,0),\"\")","v":""}]
[null,"Powiat",{"$f":"IFERROR(VLOOKUP($H$26,'Dane JST'!B2:H156,7,0),\"\")","v":""}]
[null,"Województwo",{"$f":"'Załącznik nr 1 do rozliczenia'!C11","v":"mazowieckie"}]
[null,"Numer dysponenta",{"$f":"IFERROR(VLOOKUP($H$26,'Dane JST'!B2:I156,8,0),\"\")","v":""}]
[null,"A2. Dane osoby do kontaktu w sprawie wniosku"]
[null,"Imię"]
[null,"Nazwisko"]
[null,"Telefon "]
[null,"Adres e-mail"]
[]
[null,null,null,null,null,"Wojewoda Mazowiecki\nWydział Infrastruktury i Rolnictwa\npl. Bankowy 3/5\n00-950 Warszawa"]
["ROZLICZENIE KWARTALNE DOPŁAT ZA OKRES ROZLICZENIOWY",null,null,null,null,null," 2025 ROKU DO REALIZACJI ZADAŃ WŁASNYCH  ORGANIZATORA"]
[null,null,null,null,null,{"$f":"IF('Załącznik nr 1 do rozliczenia'!E22=\"\",\"\",'Załącznik nr 1 do rozliczenia'!E22)","v":"I KWARTAŁ"}]
[" W ZAKRESIE PRZEWOZÓW AUTOBUSOWYCH O CHARAKTERZE UŻYTECZNOŚCI  PUBLICZNEJ PRZEZ DOPŁATĘ DO CENY USŁUGI"]
[]
["A.3  Informacje dotyczące organizatora publicznego transportu zbiorowego"]
["1.","Rodzaj wniosku (w przypadku korekty w polu \"uwagi\" opisać zakres korygowanych wartości)"]
["2.","Numer umowy o dopłatę "]
["3.","Data zawarcia umowy o dopłatę",null,null,null,null,null,{"$f":"IFERROR(VLOOKUP(H26,'Dane JST'!B2:K156,10,0),\"\")","v":""}]
["4.","Liczba linii komunikacyjnych podlegających rozliczeniu"]
["*niepotrzebne skreślić"]
[]
[]
["B.1 Dane dotyczące linii komunikacyjnych "]
["MIESIĄC",null,null,null,{"$f":"'Załącznik nr 1 do rozliczenia'!D29","v":"STYCZEŃ"},null,"2025 r."]
["Lp.","Nazwa linii komunikacyjnej","Liczba przewiezionych osób","Wielkość pracy eksploatacyjnej w okresie rozliczeniowym [wzkm]","Cena usługi [zł]","Deficyt w okresie rozliczeniowym [zł]","Część ceny usługi sfinansowana ze środków własnych organizatora  [zł / wzkm]","Procentowa wartość części ceny usługi sfinansowanej ze środków własnych organizatora [%]","Kwota środków własnych organizatora [zł]","Pobrana dopłata w okresie rozliczeniowym [zł]","Należna kwota dopłaty w okresie rozliczeniowym [zł]","Niewykorzystana kwota dopłaty w okresie rozliczeniowym [zł]"]
[null,1,"2","3","4","5","6","7","8","9","10","11"]
[{"$f":"'Załącznik nr 1 do rozliczenia'!A32","v":"1"},{"$f":"IF('Załącznik nr 1 do rozliczenia'!B32:C32=\"\",\"\",'Załącznik nr 1 do rozliczenia'!B32:C32)","v":""},null,{"$f":"'Załącznik nr 2 do rozliczenia'!H29","v":0},{"$f":"IFERROR(F36/D36,0)","v":0},{"$f":"IF('Załącznik nr 1 do rozliczenia'!H32<0,ABS('Załącznik nr 1 do rozliczenia'!H32),0)","v":0},{"$f":"IFERROR(I36/D36,0)","v":0},{"$f":"IFERROR(G36/E36,0)","v":0},null,null,{"$f":"'Weryfikacja 1'!U3","v":0},{"$f":"IF(J36-K36<0,0,J36-K36)","v":0}]
[{"$f":"'Załącznik nr 1 do rozliczenia'!A33","v":"2"},{"$f":"IF('Załącznik nr 1 do rozliczenia'!B33:C33=\"\",\"\",'Załącznik nr 1 do rozliczenia'!B33:C33)","v":""},null,{"$f":"'Załącznik nr 2 do rozliczenia'!H30","v":0},0,{"$f":"IF('Załącznik nr 1 do rozliczenia'!H33<0,ABS('Załącznik nr 1 do rozliczenia'!H33),0)","v":0},{"$f":"IFERROR(I37/D37,0)","v":0},{"$f":"IFERROR(G37/E37,0)","v":0},null,null,{"$f":"'Weryfikacja 1'!U4","v":0},{"$f":"IF(J37-K37<0,0,J37-K37)","v":0}]
[{"$f":"'Załącznik nr 1 do rozliczenia'!A34","v":"3"},{"$f":"IF('Załącznik nr 1 do rozliczenia'!B34:C34=\"\",\"\",'Załącznik nr 1 do rozliczenia'!B34:C34)","v":""},null,{"$f":"'Załącznik nr 2 do rozliczenia'!H31","v":0},0,{"$f":"IF('Załącznik nr 1 do rozliczenia'!H34<0,ABS('Załącznik nr 1 do rozliczenia'!H34),0)","v":0},0,0,null,null,{"$f":"'Weryfikacja 1'!U5","v":0},{"$f":"IF(J38-K38<0,0,J38-K38)","v":0}]
[{"$f":"'Załącznik nr 1 do rozliczenia'!A35","v":"4"},{"$f":"IF('Załącznik nr 1 do rozliczenia'!B35:C35=\"\",\"\",'Załącznik nr 1 do rozliczenia'!B35:C35)","v":""},null,{"$f":"'Załącznik nr 2 do rozliczenia'!H32","v":0},0,{"$f":"IF('Załącznik nr 1 do rozliczenia'!H35<0,ABS('Załącznik nr 1 do rozliczenia'!H35),0)","v":0},0,0,null,null,{"$f":"'Weryfikacja 1'!U6","v":0},0]
[{"$f":"'Załącznik nr 1 do rozliczenia'!A36","v":"5"},{"$f":"IF('Załącznik nr 1 do rozliczenia'!B36:C36=\"\",\"\",'Załącznik nr 1 do rozliczenia'!B36:C36)","v":""},null,{"$f":"'Załącznik nr 2 do rozliczenia'!H33","v":0},0,{"$f":"IF('Załącznik nr 1 do rozliczenia'!H36<0,ABS('Załącznik nr 1 do rozliczenia'!H36),0)","v":0},0,0,null,null,{"$f":"'Weryfikacja 1'!U7","v":0},0]
[{"$f":"'Załącznik nr 1 do rozliczenia'!A37","v":"6"},{"$f":"IF('Załącznik nr 1 do rozliczenia'!B37:C37=\"\",\"\",'Załącznik nr 1 do rozliczenia'!B37:C37)","v":""},null,{"$f":"'Załącznik nr 2 do rozliczenia'!H34","v":0},0,{"$f":"IF('Załącznik nr 1 do rozliczenia'!H37<0,ABS('Załącznik nr 1 do rozliczenia'!H37),0)","v":0},0,0,null,null,{"$f":"'Weryfikacja 1'!U8","v":0},0]
[{"$f":"'Załącznik nr 1 do rozliczenia'!A38","v":"7"},{"$f":"IF('Załącznik nr 1 do rozliczenia'!B38:C38=\"\",\"\",'Załącznik nr 1 do rozliczenia'!B38:C38)","v":""},null,{"$f":"'Załącznik nr 2 do rozliczenia'!H35","v":0},0,{"$f":"IF('Załącznik nr 1 do rozliczenia'!H38<0,ABS('Załącznik nr 1 do rozliczenia'!H38),0)","v":0},0,0,null,null,{"$f":"'Weryfikacja 1'!U9","v":0},0]
[{"$f":"'Załącznik nr 1 do rozliczenia'!A39","v":"8"},{"$f":"IF('Załącznik nr 1 do rozliczenia'!B39:C39=\"\",\"\",'Załącznik nr 1 do rozliczenia'!B39:C39)","v":""},null,{"$f":"'Załącznik nr 2 do rozliczenia'!H36","v":0},0,{"$f":"IF('Załącznik nr 1 do rozliczenia'!H39<0,ABS('Załącznik nr 1 do rozliczenia'!H39),0)","v":0},0,0,null,null,{"$f":"'Weryfikacja 1'!U10","v":0},0]
[{"$f":"'Załącznik nr 1 do rozliczenia'!A40","v":"9"},{"$f":"IF('Załącznik nr 1 do rozliczenia'!B40:C40=\"\",\"\",'Załącznik nr 1 do rozliczenia'!B40:C40)","v":""},null,{"$f":"'Załącznik nr 2 do rozliczenia'!H37","v":0},0,{"$f":"IF('Załącznik nr 1 do rozliczenia'!H40<0,ABS('Załącznik nr 1 do rozliczenia'!H40),0)","v":0},0,0,null,null,{"$f":"'Weryfikacja 1'!U11","v":0},0]
[{"$f":"'Załącznik nr 1 do rozliczenia'!A41","v":"10"},{"$f":"IF('Załącznik nr 1 do rozliczenia'!B41:C41=\"\",\"\",'Załącznik nr 1 do rozliczenia'!B41:C41)","v":""},null,{"$f":"'Załącznik nr 2 do rozliczenia'!H38","v":0},0,{"$f":"IF('Załącznik nr 1 do rozliczenia'!H41<0,ABS('Załącznik nr 1 do rozliczenia'!H41),0)","v":0},0,0,null,null,{"$f":"'Weryfikacja 1'!U12","v":0},0]
[{"$f":"'Załącznik nr 1 do rozliczenia'!A42","v":"11"},{"$f":"IF('Załącznik nr 1 do rozliczenia'!B42:C42=\"\",\"\",'Załącznik nr 1 do rozliczenia'!B42:C42)","v":""},null,{"$f":"'Załącznik nr 2 do rozliczenia'!H39","v":0},0,{"$f":"IF('Załącznik nr 1 do rozliczenia'!H42<0,ABS('Załącznik nr 1 do rozliczenia'!H42),0)","v":0},0,0,null,null,{"$f":"'Weryfikacja 1'!U13","v":0},0]
[{"$f":"'Załącznik nr 1 do rozliczenia'!A43","v":"12"},{"$f":"IF('Załącznik nr 1 do rozliczenia'!B43:C43=\"\",\"\",'Załącznik nr 1 do rozliczenia'!B43:C43)","v":""},null,{"$f":"'Załącznik nr 2 do rozliczenia'!H40","v":0},0,{"$f":"IF('Załącznik nr 1 do rozliczenia'!H43<0,ABS('Załącznik nr 1 do rozliczenia'!H43),0)","v":0},0,0,null,null,{"$f":"'Weryfikacja 1'!U14","v":0},0]
[{"$f":"'Załącznik nr 1 do rozliczenia'!A44","v":"13"},{"$f":"IF('Załącznik nr 1 do rozliczenia'!B44:C44=\"\",\"\",'Załącznik nr 1 do rozliczenia'!B44:C44)","v":""},null,{"$f":"'Załącznik nr 2 do rozliczenia'!H41","v":0},0,{"$f":"IF('Załącznik nr 1 do rozliczenia'!H44<0,ABS('Załącznik nr 1 do rozliczenia'!H44),0)","v":0},0,0,null,null,{"$f":"'Weryfikacja 1'!U15","v":0},0]
[{"$f":"'Załącznik nr 1 do rozliczenia'!A45","v":"14"},{"$f":"IF('Załącznik nr 1 do rozliczenia'!B45:C45=\"\",\"\",'Załącznik nr 1 do rozliczenia'!B45:C45)","v":""},null,{"$f":"'Załącznik nr 2 do rozliczenia'!H42","v":0},0,{"$f":"IF('Załącznik nr 1 do rozliczenia'!H45<0,ABS('Załącznik nr 1 do rozliczenia'!H45),0)","v":0},0,0,null,null,{"$f":"'Weryfikacja 1'!U16","v":0},0]
[{"$f":"'Załącznik nr 1 do rozliczenia'!A46","v":"15"},{"$f":"IF('Załącznik nr 1 do rozliczenia'!B46:C46=\"\",\"\",'Załącznik nr 1 do rozliczenia'!B46:C46)","v":""},null,{"$f":"'Załącznik nr 2 do rozliczenia'!H43","v":0},0,{"$f":"IF('Załącznik nr 1 do rozliczenia'!H46<0,ABS('Załącznik nr 1 do rozliczenia'!H46),0)","v":0},0,0,null,null,{"$f":"'Weryfikacja 1'!U17","v":0},0]
[{"$f":"'Załącznik nr 1 do rozliczenia'!A47","v":"16"},{"$f":"IF('Załącznik nr 1 do rozliczenia'!B47:C47=\"\",\"\",'Załącznik nr 1 do rozliczenia'!B47:C47)","v":""},null,{"$f":"'Załącznik nr 2 do rozliczenia'!H44","v":0},0,{"$f":"IF('Załącznik nr 1 do rozliczenia'!H47<0,ABS('Załącznik nr 1 do rozliczenia'!H47),0)","v":0},0,0,null,null,{"$f":"'Weryfikacja 1'!U18","v":0},0]
[{"$f":"'Załącznik nr 1 do rozliczenia'!A48","v":"17"},{"$f":"IF('Załącznik nr 1 do rozliczenia'!B48:C48=\"\",\"\",'Załącznik nr 1 do rozliczenia'!B48:C48)","v":""},null,{"$f":"'Załącznik nr 2 do rozliczenia'!H45","v":0},0,{"$f":"IF('Załącznik nr 1 do rozliczenia'!H48<0,ABS('Załącznik nr 1 do rozliczenia'!H48),0)","v":0},0,0,null,null,{"$f":"'Weryfikacja 1'!U19","v":0},0]
[{"$f":"'Załącznik nr 1 do rozliczenia'!A49","v":"18"},{"$f":"IF('Załącznik nr 1 do rozliczenia'!B49:C49=\"\",\"\",'Załącznik nr 1 do rozliczenia'!B49:C49)","v":""},null,{"$f":"'Załącznik nr 2 do rozliczenia'!H46","v":0},0,{"$f":"IF('Załącznik nr 1 do rozliczenia'!H49<0,ABS('Załącznik nr 1 do rozliczenia'!H49),0)","v":0},0,0,null,null,{"$f":"'Weryfikacja 1'!U20","v":0},0]
[{"$f":"'Załącznik nr 1 do rozliczenia'!A50","v":"19"},{"$f":"IF('Załącznik nr 1 do rozliczenia'!B50:C50=\"\",\"\",'Załącznik nr 1 do rozliczenia'!B50:C50)","v":""},null,{"$f":"'Załącznik nr 2 do rozliczenia'!H47","v":0},0,{"$f":"IF('Załącznik nr 1 do rozliczenia'!H50<0,ABS('Załącznik nr 1 do rozliczenia'!H50),0)","v":0},0,0,null,null,{"$f":"'Weryfikacja 1'!U21","v":0},0]
[{"$f":"'Załącznik nr 1 do rozliczenia'!A51","v":"20"},{"$f":"IF('Załącznik nr 1 do rozliczenia'!B51:C51=\"\",\"\",'Załącznik nr 1 do rozliczenia'!B51:C51)","v":""},null,{"$f":"'Załącznik nr 2 do rozliczenia'!H48","v":0},0,{"$f":"IF('Załącznik nr 1 do rozliczenia'!H51<0,ABS('Załącznik nr 1 do rozliczenia'!H51),0)","v":0},0,0,null,null,{"$f":"'Weryfikacja 1'!U22","v":0},0]
[{"$f":"'Załącznik nr 1 do rozliczenia'!A52","v":"21"},{"$f":"IF('Załącznik nr 1 do rozliczenia'!B52:C52=\"\",\"\",'Załącznik nr 1 do rozliczenia'!B52:C52)","v":""},null,{"$f":"'Załącznik nr 2 do rozliczenia'!H49","v":0},0,{"$f":"IF('Załącznik nr 1 do rozliczenia'!H52<0,ABS('Załącznik nr 1 do rozliczenia'!H52),0)","v":0},0,0,null,null,{"$f":"'Weryfikacja 1'!U23","v":0},0]
[{"$f":"'Załącznik nr 1 do rozliczenia'!A53","v":"22"},{"$f":"IF('Załącznik nr 1 do rozliczenia'!B53:C53=\"\",\"\",'Załącznik nr 1 do rozliczenia'!B53:C53)","v":""},null,{"$f":"'Załącznik nr 2 do rozliczenia'!H50","v":0},0,{"$f":"IF('Załącznik nr 1 do rozliczenia'!H53<0,ABS('Załącznik nr 1 do rozliczenia'!H53),0)","v":0},0,0,null,null,{"$f":"'Weryfikacja 1'!U24","v":0},0]
[{"$f":"'Załącznik nr 1 do rozliczenia'!A54","v":"23"},{"$f":"IF('Załącznik nr 1 do rozliczenia'!B54:C54=\"\",\"\",'Załącznik nr 1 do rozliczenia'!B54:C54)","v":""},null,{"$f":"'Załącznik nr 2 do rozliczenia'!H51","v":0},0,{"$f":"IF('Załącznik nr 1 do rozliczenia'!H54<0,ABS('Załącznik nr 1 do rozliczenia'!H54),0)","v":0},0,0,null,null,{"$f":"'Weryfikacja 1'!U25","v":0},0]
[{"$f":"'Załącznik nr 1 do rozliczenia'!A55","v":"24"},{"$f":"IF('Załącznik nr 1 do rozliczenia'!B55:C55=\"\",\"\",'Załącznik nr 1 do rozliczenia'!B55:C55)","v":""},null,{"$f":"'Załącznik nr 2 do rozliczenia'!H52","v":0},0,{"$f":"IF('Załącznik nr 1 do rozliczenia'!H55<0,ABS('Załącznik nr 1 do rozliczenia'!H55),0)","v":0},0,0,null,null,{"$f":"'Weryfikacja 1'!U26","v":0},0]
[{"$f":"'Załącznik nr 1 do rozliczenia'!A56","v":"25"},{"$f":"IF('Załącznik nr 1 do rozliczenia'!B56:C56=\"\",\"\",'Załącznik nr 1 do rozliczenia'!B56:C56)","v":""},null,{"$f":"'Załącznik nr 2 do rozliczenia'!H53","v":0},0,{"$f":"IF('Załącznik nr 1 do rozliczenia'!H56<0,ABS('Załącznik nr 1 do rozliczenia'!H56),0)","v":0},0,0,null,null,{"$f":"'Weryfikacja 1'!U27","v":0},0]
[{"$f":"'Załącznik nr 1 do rozliczenia'!A57","v":"26"},{"$f":"IF('Załącznik nr 1 do rozliczenia'!B57:C57=\"\",\"\",'Załącznik nr 1 do rozliczenia'!B57:C57)","v":""},null,{"$f":"'Załącznik nr 2 do rozliczenia'!H54","v":0},0,{"$f":"IF('Załącznik nr 1 do rozliczenia'!H57<0,ABS('Załącznik nr 1 do rozliczenia'!H57),0)","v":0},0,0,null,null,{"$f":"'Weryfikacja 1'!U28","v":0},0]
[{"$f":"'Załącznik nr 1 do rozliczenia'!A58","v":"27"},{"$f":"IF('Załącznik nr 1 do rozliczenia'!B58:C58=\"\",\"\",'Załącznik nr 1 do rozliczenia'!B58:C58)","v":""},null,{"$f":"'Załącznik nr 2 do rozliczenia'!H55","v":0},0,{"$f":"IF('Załącznik nr 1 do rozliczenia'!H58<0,ABS('Załącznik nr 1 do rozliczenia'!H58),0)","v":0},0,0,null,null,{"$f":"'Weryfikacja 1'!U29","v":0},0]
[{"$f":"'Załącznik nr 1 do rozliczenia'!A59","v":"28"},{"$f":"IF('Załącznik nr 1 do rozliczenia'!B59:C59=\"\",\"\",'Załącznik nr 1 do rozliczenia'!B59:C59)","v":""},null,{"$f":"'Załącznik nr 2 do rozliczenia'!H56","v":0},0,{"$f":"IF('Załącznik nr 1 do rozliczenia'!H59<0,ABS('Załącznik nr 1 do rozliczenia'!H59),0)","v":0},0,0,null,null,{"$f":"'Weryfikacja 1'!U30","v":0},0]
[{"$f":"'Załącznik nr 1 do rozliczenia'!A60","v":"29"},{"$f":"IF('Załącznik nr 1 do rozliczenia'!B60:C60=\"\",\"\",'Załącznik nr 1 do rozliczenia'!B60:C60)","v":""},null,{"$f":"'Załącznik nr 2 do rozliczenia'!H57","v":0},0,{"$f":"IF('Załącznik nr 1 do rozliczenia'!H60<0,ABS('Załącznik nr 1 do rozliczenia'!H60),0)","v":0},0,0,null,null,{"$f":"'Weryfikacja 1'!U31","v":0},0]
[{"$f":"'Załącznik nr 1 do rozliczenia'!A61","v":"30"},{"$f":"IF('Załącznik nr 1 do rozliczenia'!B61:C61=\"\",\"\",'Załącznik nr 1 do rozliczenia'!B61:C61)","v":""},null,{"$f":"'Załącznik nr 2 do rozliczenia'!H58","v":0},0,{"$f":"IF('Załącznik nr 1 do rozliczenia'!H61<0,ABS('Załącznik nr 1 do rozliczenia'!H61),0)","v":0},0,0,null,null,{"$f":"'Weryfikacja 1'!U32","v":0},0]
[{"$f":"'Załącznik nr 1 do rozliczenia'!A62","v":"31"},{"$f":"IF('Załącznik nr 1 do rozliczenia'!B62:C62=\"\",\"\",'Załącznik nr 1 do rozliczenia'!B62:C62)","v":""},null,{"$f":"'Załącznik nr 2 do rozliczenia'!H59","v":0},0,{"$f":"IF('Załącznik nr 1 do rozliczenia'!H62<0,ABS('Załącznik nr 1 do rozliczenia'!H62),0)","v":0},0,0,null,null,{"$f":"'Weryfikacja 1'!U33","v":0},0]
[{"$f":"'Załącznik nr 1 do rozliczenia'!A63","v":"32"},{"$f":"IF('Załącznik nr 1 do rozliczenia'!B63:C63=\"\",\"\",'Załącznik nr 1 do rozliczenia'!B63:C63)","v":""},null,{"$f":"'Załącznik nr 2 do rozliczenia'!H60","v":0},0,{"$f":"IF('Załącznik nr 1 do rozliczenia'!H63<0,ABS('Załącznik nr 1 do rozliczenia'!H63),0)","v":0},0,0,null,null,{"$f":"'Weryfikacja 1'!U34","v":0},0]
[{"$f":"'Załącznik nr 1 do rozliczenia'!A64","v":"33"},{"$f":"IF('Załącznik nr 1 do rozliczenia'!B64:C64=\"\",\"\",'Załącznik nr 1 do rozliczenia'!B64:C64)","v":""},null,{"$f":"'Załącznik nr 2 do rozliczenia'!H61","v":0},{"$f":"IFERROR(F68/D68,0)","v":0},{"$f":"IF('Załącznik nr 1 do rozliczenia'!H64<0,ABS('Załącznik nr 1 do rozliczenia'!H64),0)","v":0},{"$f":"IFERROR(I68/D68,0)","v":0},0,null,null,{"$f":"'Weryfikacja 1'!U35","v":0},0]
[{"$f":"'Załącznik nr 1 do rozliczenia'!A65","v":"34"},{"$f":"IF('Załącznik nr 1 do rozliczenia'!B65:C65=\"\",\"\",'Załącznik nr 1 do rozliczenia'!B65:C65)","v":""},null,{"$f":"'Załącznik nr 2 do rozliczenia'!H62","v":0},0,{"$f":"IF('Załącznik nr 1 do rozliczenia'!H65<0,ABS('Załącznik nr 1 do rozliczenia'!H65),0)","v":0},0,0,null,null,{"$f":"'Weryfikacja 1'!U36","v":0},0]
[{"$f":"'Załącznik nr 1 do rozliczenia'!A66","v":"35"},{"$f":"IF('Załącznik nr 1 do rozliczenia'!B66:C66=\"\",\"\",'Załącznik nr 1 do rozliczenia'!B66:C66)","v":""},null,{"$f":"'Załącznik nr 2 do rozliczenia'!H63","v":0},0,{"$f":"IF('Załącznik nr 1 do rozliczenia'!H66<0,ABS('Załącznik nr 1 do rozliczenia'!H66),0)","v":0},0,0,null,null,{"$f":"'Weryfikacja 1'!U37","v":0},0]
[{"$f":"'Załącznik nr 1 do rozliczenia'!A67","v":"36"},{"$f":"IF('Załącznik nr 1 do rozliczenia'!B67:C67=\"\",\"\",'Załącznik nr 1 do rozliczenia'!B67:C67)","v":""},null,{"$f":"'Załącznik nr 2 do rozliczenia'!H64","v":0},0,{"$f":"IF('Załącznik nr 1 do rozliczenia'!H67<0,ABS('Załącznik nr 1 do rozliczenia'!H67),0)","v":0},0,0,null,null,{"$f":"'Weryfikacja 1'!U38","v":0},0]
[{"$f":"'Załącznik nr 1 do rozliczenia'!A68","v":"37"},{"$f":"IF('Załącznik nr 1 do rozliczenia'!B68:C68=\"\",\"\",'Załącznik nr 1 do rozliczenia'!B68:C68)","v":""},null,{"$f":"'Załącznik nr 2 do rozliczenia'!H65","v":0},0,{"$f":"IF('Załącznik nr 1 do rozliczenia'!H68<0,ABS('Załącznik nr 1 do rozliczenia'!H68),0)","v":0},0,0,null,null,{"$f":"'Weryfikacja 1'!U39","v":0},0]
[{"$f":"'Załącznik nr 1 do rozliczenia'!A69","v":"38"},{"$f":"IF('Załącznik nr 1 do rozliczenia'!B69:C69=\"\",\"\",'Załącznik nr 1 do rozliczenia'!B69:C69)","v":""},null,{"$f":"'Załącznik nr 2 do rozliczenia'!H66","v":0},0,{"$f":"IF('Załącznik nr 1 do rozliczenia'!H69<0,ABS('Załącznik nr 1 do rozliczenia'!H69),0)","v":0},0,0,null,null,{"$f":"'Weryfikacja 1'!U40","v":0},0]
[{"$f":"'Załącznik nr 1 do rozliczenia'!A70","v":"39"},{"$f":"IF('Załącznik nr 1 do rozliczenia'!B70:C70=\"\",\"\",'Załącznik nr 1 do rozliczenia'!B70:C70)","v":""},null,{"$f":"'Załącznik nr 2 do rozliczenia'!H67","v":0},0,{"$f":"IF('Załącznik nr 1 do rozliczenia'!H70<0,ABS('Załącznik nr 1 do rozliczenia'!H70),0)","v":0},0,0,null,null,{"$f":"'Weryfikacja 1'!U41","v":0},0]
[{"$f":"'Załącznik nr 1 do rozliczenia'!A71","v":"40"},{"$f":"IF('Załącznik nr 1 do rozliczenia'!B71:C71=\"\",\"\",'Załącznik nr 1 do rozliczenia'!B71:C71)","v":""},null,{"$f":"'Załącznik nr 2 do rozliczenia'!H68","v":0},0,{"$f":"IF('Załącznik nr 1 do rozliczenia'!H71<0,ABS('Załącznik nr 1 do rozliczenia'!H71),0)","v":0},0,0,null,null,{"$f":"'Weryfikacja 1'!U42","v":0},0]
[{"$f":"'Załącznik nr 1 do rozliczenia'!A72","v":"41"},{"$f":"IF('Załącznik nr 1 do rozliczenia'!B72:C72=\"\",\"\",'Załącznik nr 1 do rozliczenia'!B72:C72)","v":""},null,{"$f":"'Załącznik nr 2 do rozliczenia'!H69","v":0},0,{"$f":"IF('Załącznik nr 1 do rozliczenia'!H72<0,ABS('Załącznik nr 1 do rozliczenia'!H72),0)","v":0},0,0,null,null,{"$f":"'Weryfikacja 1'!U43","v":0},0]
[{"$f":"'Załącznik nr 1 do rozliczenia'!A73","v":"42"},{"$f":"IF('Załącznik nr 1 do rozliczenia'!B73:C73=\"\",\"\",'Załącznik nr 1 do rozliczenia'!B73:C73)","v":""},null,{"$f":"'Załącznik nr 2 do rozliczenia'!H70","v":0},0,{"$f":"IF('Załącznik nr 1 do rozliczenia'!H73<0,ABS('Załącznik nr 1 do rozliczenia'!H73),0)","v":0},0,0,null,null,{"$f":"'Weryfikacja 1'!U44","v":0},0]
[{"$f":"'Załącznik nr 1 do rozliczenia'!A74","v":"43"},{"$f":"IF('Załącznik nr 1 do rozliczenia'!B74:C74=\"\",\"\",'Załącznik nr 1 do rozliczenia'!B74:C74)","v":""},null,{"$f":"'Załącznik nr 2 do rozliczenia'!H71","v":0},0,{"$f":"IF('Załącznik nr 1 do rozliczenia'!H74<0,ABS('Załącznik nr 1 do rozliczenia'!H74),0)","v":0},0,0,null,null,{"$f":"'Weryfikacja 1'!U45","v":0},0]
[{"$f":"'Załącznik nr 1 do rozliczenia'!A75","v":"44"},{"$f":"IF('Załącznik nr 1 do rozliczenia'!B75:C75=\"\",\"\",'Załącznik nr 1 do rozliczenia'!B75:C75)","v":""},null,{"$f":"'Załącznik nr 2 do rozliczenia'!H72","v":0},0,{"$f":"IF('Załącznik nr 1 do rozliczenia'!H75<0,ABS('Załącznik nr 1 do rozliczenia'!H75),0)","v":0},0,0,null,null,{"$f":"'Weryfikacja 1'!U46","v":0},0]
[{"$f":"'Załącznik nr 1 do rozliczenia'!A76","v":"45"},{"$f":"IF('Załącznik nr 1 do rozliczenia'!B76:C76=\"\",\"\",'Załącznik nr 1 do rozliczenia'!B76:C76)","v":""},null,{"$f":"'Załącznik nr 2 do rozliczenia'!H73","v":0},0,{"$f":"IF('Załącznik nr 1 do rozliczenia'!H76<0,ABS('Załącznik nr 1 do rozliczenia'!H76),0)","v":0},0,0,null,null,{"$f":"'Weryfikacja 1'!U47","v":0},0]
[{"$f":"'Załącznik nr 1 do rozliczenia'!A77","v":"46"},{"$f":"IF('Załącznik nr 1 do rozliczenia'!B77:C77=\"\",\"\",'Załącznik nr 1 do rozliczenia'!B77:C77)","v":""},null,{"$f":"'Załącznik nr 2 do rozliczenia'!H74","v":0},0,{"$f":"IF('Załącznik nr 1 do rozliczenia'!H77<0,ABS('Załącznik nr 1 do rozliczenia'!H77),0)","v":0},0,0,null,null,{"$f":"'Weryfikacja 1'!U48","v":0},0]
[{"$f":"'Załącznik nr 1 do rozliczenia'!A78","v":"47"},{"$f":"IF('Załącznik nr 1 do rozliczenia'!B78:C78=\"\",\"\",'Załącznik nr 1 do rozliczenia'!B78:C78)","v":""},null,{"$f":"'Załącznik nr 2 do rozliczenia'!H75","v":0},0,{"$f":"IF('Załącznik nr 1 do rozliczenia'!H78<0,ABS('Załącznik nr 1 do rozliczenia'!H78),0)","v":0},0,0,null,null,{"$f":"'Weryfikacja 1'!U49","v":0},0]
[{"$f":"'Załącznik nr 1 do rozliczenia'!A79","v":"48"},{"$f":"IF('Załącznik nr 1 do rozliczenia'!B79:C79=\"\",\"\",'Załącznik nr 1 do rozliczenia'!B79:C79)","v":""},null,{"$f":"'Załącznik nr 2 do rozliczenia'!H76","v":0},0,{"$f":"IF('Załącznik nr 1 do rozliczenia'!H79<0,ABS('Załącznik nr 1 do rozliczenia'!H79),0)","v":0},0,0,null,null,{"$f":"'Weryfikacja 1'!U50","v":0},0]
[{"$f":"'Załącznik nr 1 do rozliczenia'!A80","v":"49"},{"$f":"IF('Załącznik nr 1 do rozliczenia'!B80:C80=\"\",\"\",'Załącznik nr 1 do rozliczenia'!B80:C80)","v":""},null,{"$f":"'Załącznik nr 2 do rozliczenia'!H77","v":0},0,{"$f":"IF('Załącznik nr 1 do rozliczenia'!H80<0,ABS('Załącznik nr 1 do rozliczenia'!H80),0)","v":0},0,0,null,null,{"$f":"'Weryfikacja 1'!U51","v":0},0]
[{"$f":"'Załącznik nr 1 do rozliczenia'!A81","v":"50"},{"$f":"IF('Załącznik nr 1 do rozliczenia'!B81:C81=\"\",\"\",'Załącznik nr 1 do rozliczenia'!B81:C81)","v":""},null,{"$f":"'Załącznik nr 2 do rozliczenia'!H78","v":0},0,{"$f":"IF('Załącznik nr 1 do rozliczenia'!H81<0,ABS('Załącznik nr 1 do rozliczenia'!H81),0)","v":0},0,0,null,null,{"$f":"'Weryfikacja 1'!U52","v":0},0]
[{"$f":"'Załącznik nr 1 do rozliczenia'!A82","v":"51"},{"$f":"IF('Załącznik nr 1 do rozliczenia'!B82:C82=\"\",\"\",'Załącznik nr 1 do rozliczenia'!B82:C82)","v":""},null,{"$f":"'Załącznik nr 2 do rozliczenia'!H79","v":0},0,{"$f":"IF('Załącznik nr 1 do rozliczenia'!H82<0,ABS('Załącznik nr 1 do rozliczenia'!H82),0)","v":0},0,0,null,null,{"$f":"'Weryfikacja 1'!U53","v":0},0]
[{"$f":"'Załącznik nr 1 do rozliczenia'!A83","v":"52"},{"$f":"IF('Załącznik nr 1 do rozliczenia'!B83:C83=\"\",\"\",'Załącznik nr 1 do rozliczenia'!B83:C83)","v":""},null,{"$f":"'Załącznik nr 2 do rozliczenia'!H80","v":0},0,{"$f":"IF('Załącznik nr 1 do rozliczenia'!H83<0,ABS('Załącznik nr 1 do rozliczenia'!H83),0)","v":0},0,0,null,null,{"$f":"'Weryfikacja 1'!U54","v":0},0]
[{"$f":"'Załącznik nr 1 do rozliczenia'!A84","v":"53"},{"$f":"IF('Załącznik nr 1 do rozliczenia'!B84:C84=\"\",\"\",'Załącznik nr 1 do rozliczenia'!B84:C84)","v":""},null,{"$f":"'Załącznik nr 2 do rozliczenia'!H81","v":0},0,{"$f":"IF('Załącznik nr 1 do rozliczenia'!H84<0,ABS('Załącznik nr 1 do rozliczenia'!H84),0)","v":0},0,0,null,null,{"$f":"'Weryfikacja 1'!U55","v":0},0]
[{"$f":"'Załącznik nr 1 do rozliczenia'!A85","v":"54"},{"$f":"IF('Załącznik nr 1 do rozliczenia'!B85:C85=\"\",\"\",'Załącznik nr 1 do rozliczenia'!B85:C85)","v":""},null,{"$f":"'Załącznik nr 2 do rozliczenia'!H82","v":0},0,{"$f":"IF('Załącznik nr 1 do rozliczenia'!H85<0,ABS('Załącznik nr 1 do rozliczenia'!H85),0)","v":0},0,0,null,null,{"$f":"'Weryfikacja 1'!U56","v":0},0]
[{"$f":"'Załącznik nr 1 do rozliczenia'!A86","v":"55"},{"$f":"IF('Załącznik nr 1 do rozliczenia'!B86:C86=\"\",\"\",'Załącznik nr 1 do rozliczenia'!B86:C86)","v":""},null,{"$f":"'Załącznik nr 2 do rozliczenia'!H83","v":0},0,{"$f":"IF('Załącznik nr 1 do rozliczenia'!H86<0,ABS('Załącznik nr 1 do rozliczenia'!H86),0)","v":0},0,0,null,null,{"$f":"'Weryfikacja 1'!U57","v":0},0]
[{"$f":"'Załącznik nr 1 do rozliczenia'!A87","v":"56"},{"$f":"IF('Załącznik nr 1 do rozliczenia'!B87:C87=\"\",\"\",'Załącznik nr 1 do rozliczenia'!B87:C87)","v":""},null,{"$f":"'Załącznik nr 2 do rozliczenia'!H84","v":0},0,{"$f":"IF('Załącznik nr 1 do rozliczenia'!H87<0,ABS('Załącznik nr 1 do rozliczenia'!H87),0)","v":0},0,0,null,null,{"$f":"'Weryfikacja 1'!U58","v":0},0]
[{"$f":"'Załącznik nr 1 do rozliczenia'!A88","v":"57"},{"$f":"IF('Załącznik nr 1 do rozliczenia'!B88:C88=\"\",\"\",'Załącznik nr 1 do rozliczenia'!B88:C88)","v":""},null,{"$f":"'Załącznik nr 2 do rozliczenia'!H85","v":0},0,{"$f":"IF('Załącznik nr 1 do rozliczenia'!H88<0,ABS('Załącznik nr 1 do rozliczenia'!H88),0)","v":0},0,0,null,null,{"$f":"'Weryfikacja 1'!U59","v":0},0]
[{"$f":"'Załącznik nr 1 do rozliczenia'!A89","v":"58"},{"$f":"IF('Załącznik nr 1 do rozliczenia'!B89:C89=\"\",\"\",'Załącznik nr 1 do rozliczenia'!B89:C89)","v":""},null,{"$f":"'Załącznik nr 2 do rozliczenia'!H86","v":0},0,{"$f":"IF('Załącznik nr 1 do rozliczenia'!H89<0,ABS('Załącznik nr 1 do rozliczenia'!H89),0)","v":0},0,0,null,null,{"$f":"'Weryfikacja 1'!U60","v":0},0]
[{"$f":"'Załącznik nr 1 do rozliczenia'!A90","v":"59"},{"$f":"IF('Załącznik nr 1 do rozliczenia'!B90:C90=\"\",\"\",'Załącznik nr 1 do rozliczenia'!B90:C90)","v":""},null,{"$f":"'Załącznik nr 2 do rozliczenia'!H87","v":0},0,{"$f":"IF('Załącznik nr 1 do rozliczenia'!H90<0,ABS('Załącznik nr 1 do rozliczenia'!H90),0)","v":0},0,0,null,null,{"$f":"'Weryfikacja 1'!U61","v":0},0]
[{"$f":"'Załącznik nr 1 do rozliczenia'!A91","v":"60"},{"$f":"IF('Załącznik nr 1 do rozliczenia'!B91:C91=\"\",\"\",'Załącznik nr 1 do rozliczenia'!B91:C91)","v":""},null,{"$f":"'Załącznik nr 2 do rozliczenia'!H88","v":0},0,{"$f":"IF('Załącznik nr 1 do rozliczenia'!H91<0,ABS('Załącznik nr 1 do rozliczenia'!H91),0)","v":0},0,0,null,null,{"$f":"'Weryfikacja 1'!U62","v":0},0]
[{"$f":"'Załącznik nr 1 do rozliczenia'!A92","v":"61"},{"$f":"IF('Załącznik nr 1 do rozliczenia'!B92:C92=\"\",\"\",'Załącznik nr 1 do rozliczenia'!B92:C92)","v":""},null,{"$f":"'Załącznik nr 2 do rozliczenia'!H89","v":0},0,{"$f":"IF('Załącznik nr 1 do rozliczenia'!H92<0,ABS('Załącznik nr 1 do rozliczenia'!H92),0)","v":0},0,0,null,null,{"$f":"'Weryfikacja 1'!U63","v":0},0]
[{"$f":"'Załącznik nr 1 do rozliczenia'!A93","v":"62"},{"$f":"IF('Załącznik nr 1 do rozliczenia'!B93:C93=\"\",\"\",'Załącznik nr 1 do rozliczenia'!B93:C93)","v":""},null,{"$f":"'Załącznik nr 2 do rozliczenia'!H90","v":0},0,{"$f":"IF('Załącznik nr 1 do rozliczenia'!H93<0,ABS('Załącznik nr 1 do rozliczenia'!H93),0)","v":0},0,0,null,null,{"$f":"'Weryfikacja 1'!U64","v":0},0]
[{"$f":"'Załącznik nr 1 do rozliczenia'!A94","v":"63"},{"$f":"IF('Załącznik nr 1 do rozliczenia'!B94:C94=\"\",\"\",'Załącznik nr 1 do rozliczenia'!B94:C94)","v":""},null,{"$f":"'Załącznik nr 2 do rozliczenia'!H91","v":0},0,{"$f":"IF('Załącznik nr 1 do rozliczenia'!H94<0,ABS('Załącznik nr 1 do rozliczenia'!H94),0)","v":0},0,0,null,null,{"$f":"'Weryfikacja 1'!U65","v":0},0]
[{"$f":"'Załącznik nr 1 do rozliczenia'!A95","v":"64"},{"$f":"IF('Załącznik nr 1 do rozliczenia'!B95:C95=\"\",\"\",'Załącznik nr 1 do rozliczenia'!B95:C95)","v":""},null,{"$f":"'Załącznik nr 2 do rozliczenia'!H92","v":0},0,{"$f":"IF('Załącznik nr 1 do rozliczenia'!H95<0,ABS('Załącznik nr 1 do rozliczenia'!H95),0)","v":0},0,0,null,null,{"$f":"'Weryfikacja 1'!U66","v":0},0]
[{"$f":"'Załącznik nr 1 do rozliczenia'!A96","v":"65"},{"$f":"IF('Załącznik nr 1 do rozliczenia'!B96:C96=\"\",\"\",'Załącznik nr 1 do rozliczenia'!B96:C96)","v":""},null,{"$f":"'Załącznik nr 2 do rozliczenia'!H93","v":0},{"$f":"IFERROR(F100/D100,0)","v":0},{"$f":"IF('Załącznik nr 1 do rozliczenia'!H96<0,ABS('Załącznik nr 1 do rozliczenia'!H96),0)","v":0},{"$f":"IFERROR(I100/D100,0)","v":0},0,null,null,{"$f":"'Weryfikacja 1'!U67","v":0},0]
[{"$f":"'Załącznik nr 1 do rozliczenia'!A97","v":"66"},{"$f":"IF('Załącznik nr 1 do rozliczenia'!B97:C97=\"\",\"\",'Załącznik nr 1 do rozliczenia'!B97:C97)","v":""},null,{"$f":"'Załącznik nr 2 do rozliczenia'!H94","v":0},0,{"$f":"IF('Załącznik nr 1 do rozliczenia'!H97<0,ABS('Załącznik nr 1 do rozliczenia'!H97),0)","v":0},0,{"$f":"IFERROR(G101/E101,0)","v":0},null,null,{"$f":"'Weryfikacja 1'!U68","v":0},0]
[{"$f":"'Załącznik nr 1 do rozliczenia'!A98","v":"67"},{"$f":"IF('Załącznik nr 1 do rozliczenia'!B98:C98=\"\",\"\",'Załącznik nr 1 do rozliczenia'!B98:C98)","v":""},null,{"$f":"'Załącznik nr 2 do rozliczenia'!H95","v":0},0,{"$f":"IF('Załącznik nr 1 do rozliczenia'!H98<0,ABS('Załącznik nr 1 do rozliczenia'!H98),0)","v":0},0,0,null,null,{"$f":"'Weryfikacja 1'!U69","v":0},{"$f":"IF(J102-K102<0,0,J102-K102)","v":0}]
[{"$f":"'Załącznik nr 1 do rozliczenia'!A99","v":"68"},{"$f":"IF('Załącznik nr 1 do rozliczenia'!B99:C99=\"\",\"\",'Załącznik nr 1 do rozliczenia'!B99:C99)","v":""},null,{"$f":"'Załącznik nr 2 do rozliczenia'!H96","v":0},0,{"$f":"IF('Załącznik nr 1 do rozliczenia'!H99<0,ABS('Załącznik nr 1 do rozliczenia'!H99),0)","v":0},0,0,null,null,{"$f":"'Weryfikacja 1'!U70","v":0},0]
[{"$f":"'Załącznik nr 1 do rozliczenia'!A100","v":"69"},{"$f":"IF('Załącznik nr 1 do rozliczenia'!B100:C100=\"\",\"\",'Załącznik nr 1 do rozliczenia'!B100:C100)","v":""},null,{"$f":"'Załącznik nr 2 do rozliczenia'!H97","v":0},0,{"$f":"IF('Załącznik nr 1 do rozliczenia'!H100<0,ABS('Załącznik nr 1 do rozliczenia'!H100),0)","v":0},0,0,null,null,{"$f":"'Weryfikacja 1'!U71","v":0},0]
[{"$f":"'Załącznik nr 1 do rozliczenia'!A101","v":"70"},{"$f":"IF('Załącznik nr 1 do rozliczenia'!B101:C101=\"\",\"\",'Załącznik nr 1 do rozliczenia'!B101:C101)","v":""},null,{"$f":"'Załącznik nr 2 do rozliczenia'!H98","v":0},0,{"$f":"IF('Załącznik nr 1 do rozliczenia'!H101<0,ABS('Załącznik nr 1 do rozliczenia'!H101),0)","v":0},0,0,null,null,{"$f":"'Weryfikacja 1'!U72","v":0},0]
[{"$f":"'Załącznik nr 1 do rozliczenia'!A102","v":"71"},{"$f":"IF('Załącznik nr 1 do rozliczenia'!B102:C102=\"\",\"\",'Załącznik nr 1 do rozliczenia'!B102:C102)","v":""},null,{"$f":"'Załącznik nr 2 do rozliczenia'!H99","v":0},0,{"$f":"IF('Załącznik nr 1 do rozliczenia'!H102<0,ABS('Załącznik nr 1 do rozliczenia'!H102),0)","v":0},0,0,null,null,{"$f":"'Weryfikacja 1'!U73","v":0},0]
[{"$f":"'Załącznik nr 1 do rozliczenia'!A103","v":"72"},{"$f":"IF('Załącznik nr 1 do rozliczenia'!B103:C103=\"\",\"\",'Załącznik nr 1 do rozliczenia'!B103:C103)","v":""},null,{"$f":"'Załącznik nr 2 do rozliczenia'!H100","v":0},0,{"$f":"IF('Załącznik nr 1 do rozliczenia'!H103<0,ABS('Załącznik nr 1 do rozliczenia'!H103),0)","v":0},0,0,null,null,{"$f":"'Weryfikacja 1'!U74","v":0},0]
[{"$f":"'Załącznik nr 1 do rozliczenia'!A104","v":"73"},{"$f":"IF('Załącznik nr 1 do rozliczenia'!B104:C104=\"\",\"\",'Załącznik nr 1 do rozliczenia'!B104:C104)","v":""},null,{"$f":"'Załącznik nr 2 do rozliczenia'!H101","v":0},0,{"$f":"IF('Załącznik nr 1 do rozliczenia'!H104<0,ABS('Załącznik nr 1 do rozliczenia'!H104),0)","v":0},0,0,null,null,{"$f":"'Weryfikacja 1'!U75","v":0},0]
[{"$f":"'Załącznik nr 1 do rozliczenia'!A105","v":"74"},{"$f":"IF('Załącznik nr 1 do rozliczenia'!B105:C105=\"\",\"\",'Załącznik nr 1 do rozliczenia'!B105:C105)","v":""},null,{"$f":"'Załącznik nr 2 do rozliczenia'!H102","v":0},0,{"$f":"IF('Załącznik nr 1 do rozliczenia'!H105<0,ABS('Załącznik nr 1 do rozliczenia'!H105),0)","v":0},0,0,null,null,{"$f":"'Weryfikacja 1'!U76","v":0},0]
[{"$f":"'Załącznik nr 1 do rozliczenia'!A106","v":"75"},{"$f":"IF('Załącznik nr 1 do rozliczenia'!B106:C106=\"\",\"\",'Załącznik nr 1 do rozliczenia'!B106:C106)","v":""},null,{"$f":"'Załącznik nr 2 do rozliczenia'!H103","v":0},0,{"$f":"IF('Załącznik nr 1 do rozliczenia'!H106<0,ABS('Załącznik nr 1 do rozliczenia'!H106),0)","v":0},0,0,null,null,{"$f":"'Weryfikacja 1'!U77","v":0},0]
[{"$f":"'Załącznik nr 1 do rozliczenia'!A107","v":"76"},{"$f":"IF('Załącznik nr 1 do rozliczenia'!B107:C107=\"\",\"\",'Załącznik nr 1 do rozliczenia'!B107:C107)","v":""},null,{"$f":"'Załącznik nr 2 do rozliczenia'!H104","v":0},0,{"$f":"IF('Załącznik nr 1 do rozliczenia'!H107<0,ABS('Załącznik nr 1 do rozliczenia'!H107),0)","v":0},0,0,null,null,{"$f":"'Weryfikacja 1'!U78","v":0},0]
[{"$f":"'Załącznik nr 1 do rozliczenia'!A108","v":"77"},{"$f":"IF('Załącznik nr 1 do rozliczenia'!B108:C108=\"\",\"\",'Załącznik nr 1 do rozliczenia'!B108:C108)","v":""},null,{"$f":"'Załącznik nr 2 do rozliczenia'!H105","v":0},0,{"$f":"IF('Załącznik nr 1 do rozliczenia'!H108<0,ABS('Załącznik nr 1 do rozliczenia'!H108),0)","v":0},0,0,null,null,{"$f":"'Weryfikacja 1'!U79","v":0},0]
[{"$f":"'Załącznik nr 1 do rozliczenia'!A109","v":"78"},{"$f":"IF('Załącznik nr 1 do rozliczenia'!B109:C109=\"\",\"\",'Załącznik nr 1 do rozliczenia'!B109:C109)","v":""},null,{"$f":"'Załącznik nr 2 do rozliczenia'!H106","v":0},0,{"$f":"IF('Załącznik nr 1 do rozliczenia'!H109<0,ABS('Załącznik nr 1 do rozliczenia'!H109),0)","v":0},0,0,null,null,{"$f":"'Weryfikacja 1'!U80","v":0},0]
[{"$f":"'Załącznik nr 1 do rozliczenia'!A110","v":"79"},{"$f":"IF('Załącznik nr 1 do rozliczenia'!B110:C110=\"\",\"\",'Załącznik nr 1 do rozliczenia'!B110:C110)","v":""},null,{"$f":"'Załącznik nr 2 do rozliczenia'!H107","v":0},0,{"$f":"IF('Załącznik nr 1 do rozliczenia'!H110<0,ABS('Załącznik nr 1 do rozliczenia'!H110),0)","v":0},0,0,null,null,{"$f":"'Weryfikacja 1'!U81","v":0},0]
[{"$f":"'Załącznik nr 1 do rozliczenia'!A111","v":"80"},{"$f":"IF('Załącznik nr 1 do rozliczenia'!B111:C111=\"\",\"\",'Załącznik nr 1 do rozliczenia'!B111:C111)","v":""},null,{"$f":"'Załącznik nr 2 do rozliczenia'!H108","v":0},0,{"$f":"IF('Załącznik nr 1 do rozliczenia'!H111<0,ABS('Załącznik nr 1 do rozliczenia'!H111),0)","v":0},0,0,null,null,{"$f":"'Weryfikacja 1'!U82","v":0},0]
[{"$f":"'Załącznik nr 1 do rozliczenia'!A112","v":"81"},{"$f":"IF('Załącznik nr 1 do rozliczenia'!B112:C112=\"\",\"\",'Załącznik nr 1 do rozliczenia'!B112:C112)","v":""},null,{"$f":"'Załącznik nr 2 do rozliczenia'!H109","v":0},0,{"$f":"IF('Załącznik nr 1 do rozliczenia'!H112<0,ABS('Załącznik nr 1 do rozliczenia'!H112),0)","v":0},0,0,null,null,{"$f":"'Weryfikacja 1'!U83","v":0},0]
[{"$f":"'Załącznik nr 1 do rozliczenia'!A113","v":"82"},{"$f":"IF('Załącznik nr 1 do rozliczenia'!B113:C113=\"\",\"\",'Załącznik nr 1 do rozliczenia'!B113:C113)","v":""},null,{"$f":"'Załącznik nr 2 do rozliczenia'!H110","v":0},0,{"$f":"IF('Załącznik nr 1 do rozliczenia'!H113<0,ABS('Załącznik nr 1 do rozliczenia'!H113),0)","v":0},0,0,null,null,{"$f":"'Weryfikacja 1'!U84","v":0},0]
[{"$f":"'Załącznik nr 1 do rozliczenia'!A114","v":"83"},{"$f":"IF('Załącznik nr 1 do rozliczenia'!B114:C114=\"\",\"\",'Załącznik nr 1 do rozliczenia'!B114:C114)","v":""},null,{"$f":"'Załącznik nr 2 do rozliczenia'!H111","v":0},0,{"$f":"IF('Załącznik nr 1 do rozliczenia'!H114<0,ABS('Załącznik nr 1 do rozliczenia'!H114),0)","v":0},0,0,null,null,{"$f":"'Weryfikacja 1'!U85","v":0},0]
[{"$f":"'Załącznik nr 1 do rozliczenia'!A115","v":"84"},{"$f":"IF('Załącznik nr 1 do rozliczenia'!B115:C115=\"\",\"\",'Załącznik nr 1 do rozliczenia'!B115:C115)","v":""},null,{"$f":"'Załącznik nr 2 do rozliczenia'!H112","v":0},0,{"$f":"IF('Załącznik nr 1 do rozliczenia'!H115<0,ABS('Załącznik nr 1 do rozliczenia'!H115),0)","v":0},0,0,null,null,{"$f":"'Weryfikacja 1'!U86","v":0},0]
[{"$f":"'Załącznik nr 1 do rozliczenia'!A116","v":"85"},{"$f":"IF('Załącznik nr 1 do rozliczenia'!B116:C116=\"\",\"\",'Załącznik nr 1 do rozliczenia'!B116:C116)","v":""},null,{"$f":"'Załącznik nr 2 do rozliczenia'!H113","v":0},0,{"$f":"IF('Załącznik nr 1 do rozliczenia'!H116<0,ABS('Załącznik nr 1 do rozliczenia'!H116),0)","v":0},0,0,null,null,{"$f":"'Weryfikacja 1'!U87","v":0},0]
[{"$f":"'Załącznik nr 1 do rozliczenia'!A117","v":"86"},{"$f":"IF('Załącznik nr 1 do rozliczenia'!B117:C117=\"\",\"\",'Załącznik nr 1 do rozliczenia'!B117:C117)","v":""},null,{"$f":"'Załącznik nr 2 do rozliczenia'!H114","v":0},0,{"$f":"IF('Załącznik nr 1 do rozliczenia'!H117<0,ABS('Załącznik nr 1 do rozliczenia'!H117),0)","v":0},0,0,null,null,{"$f":"'Weryfikacja 1'!U88","v":0},0]
[{"$f":"'Załącznik nr 1 do rozliczenia'!A118","v":"87"},{"$f":"IF('Załącznik nr 1 do rozliczenia'!B118:C118=\"\",\"\",'Załącznik nr 1 do rozliczenia'!B118:C118)","v":""},null,{"$f":"'Załącznik nr 2 do rozliczenia'!H115","v":0},0,{"$f":"IF('Załącznik nr 1 do rozliczenia'!H118<0,ABS('Załącznik nr 1 do rozliczenia'!H118),0)","v":0},0,0,null,null,{"$f":"'Weryfikacja 1'!U89","v":0},0]
[{"$f":"'Załącznik nr 1 do rozliczenia'!A119","v":"88"},{"$f":"IF('Załącznik nr 1 do rozliczenia'!B119:C119=\"\",\"\",'Załącznik nr 1 do rozliczenia'!B119:C119)","v":""},null,{"$f":"'Załącznik nr 2 do rozliczenia'!H116","v":0},0,{"$f":"IF('Załącznik nr 1 do rozliczenia'!H119<0,ABS('Załącznik nr 1 do rozliczenia'!H119),0)","v":0},0,0,null,null,{"$f":"'Weryfikacja 1'!U90","v":0},0]
[{"$f":"'Załącznik nr 1 do rozliczenia'!A120","v":"89"},{"$f":"IF('Załącznik nr 1 do rozliczenia'!B120:C120=\"\",\"\",'Załącznik nr 1 do rozliczenia'!B120:C120)","v":""},null,{"$f":"'Załącznik nr 2 do rozliczenia'!H117","v":0},0,{"$f":"IF('Załącznik nr 1 do rozliczenia'!H120<0,ABS('Załącznik nr 1 do rozliczenia'!H120),0)","v":0},0,0,null,null,{"$f":"'Weryfikacja 1'!U91","v":0},0]
[{"$f":"'Załącznik nr 1 do rozliczenia'!A121","v":"90"},{"$f":"IF('Załącznik nr 1 do rozliczenia'!B121:C121=\"\",\"\",'Załącznik nr 1 do rozliczenia'!B121:C121)","v":""},null,{"$f":"'Załącznik nr 2 do rozliczenia'!H118","v":0},0,{"$f":"IF('Załącznik nr 1 do rozliczenia'!H121<0,ABS('Załącznik nr 1 do rozliczenia'!H121),0)","v":0},0,0,null,null,{"$f":"'Weryfikacja 1'!U92","v":0},0]
[{"$f":"'Załącznik nr 1 do rozliczenia'!A122","v":"91"},{"$f":"IF('Załącznik nr 1 do rozliczenia'!B122:C122=\"\",\"\",'Załącznik nr 1 do rozliczenia'!B122:C122)","v":""},null,{"$f":"'Załącznik nr 2 do rozliczenia'!H119","v":0},0,{"$f":"IF('Załącznik nr 1 do rozliczenia'!H122<0,ABS('Załącznik nr 1 do rozliczenia'!H122),0)","v":0},0,0,null,null,{"$f":"'Weryfikacja 1'!U93","v":0},0]
[{"$f":"'Załącznik nr 1 do rozliczenia'!A123","v":"92"},{"$f":"IF('Załącznik nr 1 do rozliczenia'!B123:C123=\"\",\"\",'Załącznik nr 1 do rozliczenia'!B123:C123)","v":""},null,{"$f":"'Załącznik nr 2 do rozliczenia'!H120","v":0},0,{"$f":"IF('Załącznik nr 1 do rozliczenia'!H123<0,ABS('Załącznik nr 1 do rozliczenia'!H123),0)","v":0},0,0,null,null,{"$f":"'Weryfikacja 1'!U94","v":0},0]
[{"$f":"'Załącznik nr 1 do rozliczenia'!A124","v":"93"},{"$f":"IF('Załącznik nr 1 do rozliczenia'!B124:C124=\"\",\"\",'Załącznik nr 1 do rozliczenia'!B124:C124)","v":""},null,{"$f":"'Załącznik nr 2 do rozliczenia'!H121","v":0},0,{"$f":"IF('Załącznik nr 1 do rozliczenia'!H124<0,ABS('Załącznik nr 1 do rozliczenia'!H124),0)","v":0},0,0,null,null,{"$f":"'Weryfikacja 1'!U95","v":0},0]
[{"$f":"'Załącznik nr 1 do rozliczenia'!A125","v":"94"},{"$f":"IF('Załącznik nr 1 do rozliczenia'!B125:C125=\"\",\"\",'Załącznik nr 1 do rozliczenia'!B125:C125)","v":""},null,{"$f":"'Załącznik nr 2 do rozliczenia'!H122","v":0},0,{"$f":"IF('Załącznik nr 1 do rozliczenia'!H125<0,ABS('Załącznik nr 1 do rozliczenia'!H125),0)","v":0},0,0,null,null,{"$f":"'Weryfikacja 1'!U96","v":0},0]
[{"$f":"'Załącznik nr 1 do rozliczenia'!A126","v":"95"},{"$f":"IF('Załącznik nr 1 do rozliczenia'!B126:C126=\"\",\"\",'Załącznik nr 1 do rozliczenia'!B126:C126)","v":""},null,{"$f":"'Załącznik nr 2 do rozliczenia'!H123","v":0},0,{"$f":"IF('Załącznik nr 1 do rozliczenia'!H126<0,ABS('Załącznik nr 1 do rozliczenia'!H126),0)","v":0},0,0,null,null,{"$f":"'Weryfikacja 1'!U97","v":0},0]
[{"$f":"'Załącznik nr 1 do rozliczenia'!A127","v":"96"},{"$f":"IF('Załącznik nr 1 do rozliczenia'!B127:C127=\"\",\"\",'Załącznik nr 1 do rozliczenia'!B127:C127)","v":""},null,{"$f":"'Załącznik nr 2 do rozliczenia'!H124","v":0},0,{"$f":"IF('Załącznik nr 1 do rozliczenia'!H127<0,ABS('Załącznik nr 1 do rozliczenia'!H127),0)","v":0},0,0,null,null,{"$f":"'Weryfikacja 1'!U98","v":0},0]
[{"$f":"'Załącznik nr 1 do rozliczenia'!A128","v":"97"},{"$f":"IF('Załącznik nr 1 do rozliczenia'!B128:C128=\"\",\"\",'Załącznik nr 1 do rozliczenia'!B128:C128)","v":""},null,{"$f":"'Załącznik nr 2 do rozliczenia'!H125","v":0},{"$f":"IFERROR(F132/D132,0)","v":0},{"$f":"IF('Załącznik nr 1 do rozliczenia'!H128<0,ABS('Załącznik nr 1 do rozliczenia'!H128),0)","v":0},{"$f":"IFERROR(I132/D132,0)","v":0},0,null,null,{"$f":"'Weryfikacja 1'!U99","v":0},0]
[{"$f":"'Załącznik nr 1 do rozliczenia'!A129","v":"98"},{"$f":"IF('Załącznik nr 1 do rozliczenia'!B129:C129=\"\",\"\",'Załącznik nr 1 do rozliczenia'!B129:C129)","v":""},null,{"$f":"'Załącznik nr 2 do rozliczenia'!H126","v":0},0,{"$f":"IF('Załącznik nr 1 do rozliczenia'!H129<0,ABS('Załącznik nr 1 do rozliczenia'!H129),0)","v":0},0,0,null,null,{"$f":"'Weryfikacja 1'!U100","v":0},0]
[{"$f":"'Załącznik nr 1 do rozliczenia'!A130","v":"99"},{"$f":"IF('Załącznik nr 1 do rozliczenia'!B130:C130=\"\",\"\",'Załącznik nr 1 do rozliczenia'!B130:C130)","v":""},null,{"$f":"'Załącznik nr 2 do rozliczenia'!H127","v":0},0,{"$f":"IF('Załącznik nr 1 do rozliczenia'!H130<0,ABS('Załącznik nr 1 do rozliczenia'!H130),0)","v":0},0,0,null,null,{"$f":"'Weryfikacja 1'!U101","v":0},0]
[{"$f":"'Załącznik nr 1 do rozliczenia'!A131","v":"100"},{"$f":"IF('Załącznik nr 1 do rozliczenia'!B131:C131=\"\",\"\",'Załącznik nr 1 do rozliczenia'!B131:C131)","v":""},null,{"$f":"'Załącznik nr 2 do rozliczenia'!H128","v":0},0,{"$f":"IF('Załącznik nr 1 do rozliczenia'!H131<0,ABS('Załącznik nr 1 do rozliczenia'!H131),0)","v":0},0,0,null,null,{"$f":"'Weryfikacja 1'!U102","v":0},0]
[{"$f":"'Załącznik nr 1 do rozliczenia'!A132","v":"101"},{"$f":"IF('Załącznik nr 1 do rozliczenia'!B132:C132=\"\",\"\",'Załącznik nr 1 do rozliczenia'!B132:C132)","v":""},null,{"$f":"'Załącznik nr 2 do rozliczenia'!H129","v":0},0,{"$f":"IF('Załącznik nr 1 do rozliczenia'!H132<0,ABS('Załącznik nr 1 do rozliczenia'!H132),0)","v":0},0,0,null,null,{"$f":"'Weryfikacja 1'!U103","v":0},0]
[{"$f":"'Załącznik nr 1 do rozliczenia'!A133","v":"102"},{"$f":"IF('Załącznik nr 1 do rozliczenia'!B133:C133=\"\",\"\",'Załącznik nr 1 do rozliczenia'!B133:C133)","v":""},null,{"$f":"'Załącznik nr 2 do rozliczenia'!H130","v":0},0,{"$f":"IF('Załącznik nr 1 do rozliczenia'!H133<0,ABS('Załącznik nr 1 do rozliczenia'!H133),0)","v":0},0,0,null,null,{"$f":"'Weryfikacja 1'!U104","v":0},0]
[{"$f":"'Załącznik nr 1 do rozliczenia'!A134","v":"103"},{"$f":"IF('Załącznik nr 1 do rozliczenia'!B134:C134=\"\",\"\",'Załącznik nr 1 do rozliczenia'!B134:C134)","v":""},null,{"$f":"'Załącznik nr 2 do rozliczenia'!H131","v":0},0,{"$f":"IF('Załącznik nr 1 do rozliczenia'!H134<0,ABS('Załącznik nr 1 do rozliczenia'!H134),0)","v":0},0,0,null,null,{"$f":"'Weryfikacja 1'!U105","v":0},0]
[{"$f":"'Załącznik nr 1 do rozliczenia'!A135","v":"104"},{"$f":"IF('Załącznik nr 1 do rozliczenia'!B135:C135=\"\",\"\",'Załącznik nr 1 do rozliczenia'!B135:C135)","v":""},null,{"$f":"'Załącznik nr 2 do rozliczenia'!H132","v":0},0,{"$f":"IF('Załącznik nr 1 do rozliczenia'!H135<0,ABS('Załącznik nr 1 do rozliczenia'!H135),0)","v":0},0,0,null,null,{"$f":"'Weryfikacja 1'!U106","v":0},0]
[{"$f":"'Załącznik nr 1 do rozliczenia'!A136","v":"105"},{"$f":"IF('Załącznik nr 1 do rozliczenia'!B136:C136=\"\",\"\",'Załącznik nr 1 do rozliczenia'!B136:C136)","v":""},null,{"$f":"'Załącznik nr 2 do rozliczenia'!H133","v":0},0,{"$f":"IF('Załącznik nr 1 do rozliczenia'!H136<0,ABS('Załącznik nr 1 do rozliczenia'!H136),0)","v":0},0,0,null,null,{"$f":"'Weryfikacja 1'!U107","v":0},0]
[{"$f":"'Załącznik nr 1 do rozliczenia'!A137","v":"106"},{"$f":"IF('Załącznik nr 1 do rozliczenia'!B137:C137=\"\",\"\",'Załącznik nr 1 do rozliczenia'!B137:C137)","v":""},null,{"$f":"'Załącznik nr 2 do rozliczenia'!H134","v":0},0,{"$f":"IF('Załącznik nr 1 do rozliczenia'!H137<0,ABS('Załącznik nr 1 do rozliczenia'!H137),0)","v":0},0,0,null,null,{"$f":"'Weryfikacja 1'!U108","v":0},0]
[{"$f":"'Załącznik nr 1 do rozliczenia'!A138","v":"107"},{"$f":"IF('Załącznik nr 1 do rozliczenia'!B138:C138=\"\",\"\",'Załącznik nr 1 do rozliczenia'!B138:C138)","v":""},null,{"$f":"'Załącznik nr 2 do rozliczenia'!H135","v":0},0,{"$f":"IF('Załącznik nr 1 do rozliczenia'!H138<0,ABS('Załącznik nr 1 do rozliczenia'!H138),0)","v":0},0,0,null,null,{"$f":"'Weryfikacja 1'!U109","v":0},0]
[{"$f":"'Załącznik nr 1 do rozliczenia'!A139","v":"108"},{"$f":"IF('Załącznik nr 1 do rozliczenia'!B139:C139=\"\",\"\",'Załącznik nr 1 do rozliczenia'!B139:C139)","v":""},null,{"$f":"'Załącznik nr 2 do rozliczenia'!H136","v":0},0,{"$f":"IF('Załącznik nr 1 do rozliczenia'!H139<0,ABS('Załącznik nr 1 do rozliczenia'!H139),0)","v":0},0,0,null,null,{"$f":"'Weryfikacja 1'!U110","v":0},0]
[{"$f":"'Załącznik nr 1 do rozliczenia'!A140","v":"109"},{"$f":"IF('Załącznik nr 1 do rozliczenia'!B140:C140=\"\",\"\",'Załącznik nr 1 do rozliczenia'!B140:C140)","v":""},null,{"$f":"'Załącznik nr 2 do rozliczenia'!H137","v":0},0,{"$f":"IF('Załącznik nr 1 do rozliczenia'!H140<0,ABS('Załącznik nr 1 do rozliczenia'!H140),0)","v":0},0,0,null,null,{"$f":"'Weryfikacja 1'!U111","v":0},0]
[{"$f":"'Załącznik nr 1 do rozliczenia'!A141","v":"110"},{"$f":"IF('Załącznik nr 1 do rozliczenia'!B141:C141=\"\",\"\",'Załącznik nr 1 do rozliczenia'!B141:C141)","v":""},null,{"$f":"'Załącznik nr 2 do rozliczenia'!H138","v":0},0,{"$f":"IF('Załącznik nr 1 do rozliczenia'!H141<0,ABS('Załącznik nr 1 do rozliczenia'!H141),0)","v":0},0,0,null,null,{"$f":"'Weryfikacja 1'!U112","v":0},0]
["Ogółem:",null,{"$f":"SUM(C36:C145)","v":0},{"$f":"SUM(D36:D145)","v":0},null,{"$f":"SUM(F36:F145)","v":0},null,null,{"$f":"SUM(I36:I145)","v":0},{"$f":"SUM(J36:J145)","v":0},0,{"$f":"SUMIF(L36:L145,\">0\")","v":0}]
[]
["B.2 Dane dotyczące linii komunikacyjnych "]
["MIESIĄC",null,null,null,{"$f":"'Załącznik nr 1 do rozliczenia'!D146","v":"LUTY"},null,"2025 r."]
["Lp.","Nazwa linii komunikacyjnej","Liczba przewiezionych osób","Wielkość pracy eksploatacyjnej w okresie rozliczeniowym [wzkm]","Cena usługi [zł]","Deficyt w okresie rozliczeniowym [zł]","Część ceny usługi sfinansowana ze środków własnych organizatora  [zł / wzkm]","Procentowa wartość części ceny usługi sfinansowanej ze środków własnych organizatora [%]","Kwota środków własnych organizatora [zł]","Pobrana dopłata w okresie rozliczeniowym [zł]","Należna kwota dopłaty w okresie rozliczeniowym [zł]","Niewykorzystana kwota dopłaty w okresie rozliczeniowym [zł]"]
[null,"1","2","3","4","5","6","7","8","9","10","11"]
[{"$f":"'Załącznik nr 1 do rozliczenia'!A149","v":"1"},{"$f":"IF('Załącznik nr 1 do rozliczenia'!B149:C149=\"\",\"\",'Załącznik nr 1 do rozliczenia'!B149:C149)","v":""},null,{"$f":"'Załącznik nr 2 do rozliczenia'!H145","v":0},{"$f":"IFERROR(F152/D152,0)","v":0},{"$f":"IF('Załącznik nr 1 do rozliczenia'!H149<0,ABS('Załącznik nr 1 do rozliczenia'!H149),0)","v":0},{"$f":"IFERROR(I152/D152,0)","v":0},{"$f":"IFERROR(G152/E152,0)","v":0},null,null,{"$f":"'Weryfikacja 2'!U3","v":0},{"$f":"IF(J152-K152<0,0,J152-K152)","v":0}]
[{"$f":"'Załącznik nr 1 do rozliczenia'!A150","v":"2"},{"$f":"IF('Załącznik nr 1 do rozliczenia'!B150:C150=\"\",\"\",'Załącznik nr 1 do rozliczenia'!B150:C150)","v":""},null,{"$f":"'Załącznik nr 2 do rozliczenia'!H146","v":0},0,{"$f":"IF('Załącznik nr 1 do rozliczenia'!H150<0,ABS('Załącznik nr 1 do rozliczenia'!H150),0)","v":0},0,{"$f":"IFERROR(G153/E153,0)","v":0},null,null,{"$f":"'Weryfikacja 2'!U4","v":0},{"$f":"IF(J153-K153<0,0,J153-K153)","v":0}]
[{"$f":"'Załącznik nr 1 do rozliczenia'!A151","v":"3"},{"$f":"IF('Załącznik nr 1 do rozliczenia'!B151:C151=\"\",\"\",'Załącznik nr 1 do rozliczenia'!B151:C151)","v":""},null,{"$f":"'Załącznik nr 2 do rozliczenia'!H147","v":0},0,{"$f":"IF('Załącznik nr 1 do rozliczenia'!H151<0,ABS('Załącznik nr 1 do rozliczenia'!H151),0)","v":0},0,0,null,null,{"$f":"'Weryfikacja 2'!U5","v":0},0]
[{"$f":"'Załącznik nr 1 do rozliczenia'!A152","v":"4"},{"$f":"IF('Załącznik nr 1 do rozliczenia'!B152:C152=\"\",\"\",'Załącznik nr 1 do rozliczenia'!B152:C152)","v":""},null,{"$f":"'Załącznik nr 2 do rozliczenia'!H148","v":0},0,{"$f":"IF('Załącznik nr 1 do rozliczenia'!H152<0,ABS('Załącznik nr 1 do rozliczenia'!H152),0)","v":0},0,0,null,null,{"$f":"'Weryfikacja 2'!U6","v":0},0]
[{"$f":"'Załącznik nr 1 do rozliczenia'!A153","v":"5"},{"$f":"IF('Załącznik nr 1 do rozliczenia'!B153:C153=\"\",\"\",'Załącznik nr 1 do rozliczenia'!B153:C153)","v":""},null,{"$f":"'Załącznik nr 2 do rozliczenia'!H149","v":0},0,{"$f":"IF('Załącznik nr 1 do rozliczenia'!H153<0,ABS('Załącznik nr 1 do rozliczenia'!H153),0)","v":0},0,0,null,null,{"$f":"'Weryfikacja 2'!U7","v":0},0]
[{"$f":"'Załącznik nr 1 do rozliczenia'!A154","v":"6"},{"$f":"IF('Załącznik nr 1 do rozliczenia'!B154:C154=\"\",\"\",'Załącznik nr 1 do rozliczenia'!B154:C154)","v":""},null,{"$f":"'Załącznik nr 2 do rozliczenia'!H150","v":0},0,{"$f":"IF('Załącznik nr 1 do rozliczenia'!H154<0,ABS('Załącznik nr 1 do rozliczenia'!H154),0)","v":0},0,0,null,null,{"$f":"'Weryfikacja 2'!U8","v":0},0]
[{"$f":"'Załącznik nr 1 do rozliczenia'!A155","v":"7"},{"$f":"IF('Załącznik nr 1 do rozliczenia'!B155:C155=\"\",\"\",'Załącznik nr 1 do rozliczenia'!B155:C155)","v":""},null,{"$f":"'Załącznik nr 2 do rozliczenia'!H151","v":0},0,{"$f":"IF('Załącznik nr 1 do rozliczenia'!H155<0,ABS('Załącznik nr 1 do rozliczenia'!H155),0)","v":0},0,0,null,null,{"$f":"'Weryfikacja 2'!U9","v":0},0]
[{"$f":"'Załącznik nr 1 do rozliczenia'!A156","v":"8"},{"$f":"IF('Załącznik nr 1 do rozliczenia'!B156:C156=\"\",\"\",'Załącznik nr 1 do rozliczenia'!B156:C156)","v":""},null,{"$f":"'Załącznik nr 2 do rozliczenia'!H152","v":0},0,{"$f":"IF('Załącznik nr 1 do rozliczenia'!H156<0,ABS('Załącznik nr 1 do rozliczenia'!H156),0)","v":0},0,0,null,null,{"$f":"'Weryfikacja 2'!U10","v":0},0]
[{"$f":"'Załącznik nr 1 do rozliczenia'!A157","v":"9"},{"$f":"IF('Załącznik nr 1 do rozliczenia'!B157:C157=\"\",\"\",'Załącznik nr 1 do rozliczenia'!B157:C157)","v":""},null,{"$f":"'Załącznik nr 2 do rozliczenia'!H153","v":0},0,{"$f":"IF('Załącznik nr 1 do rozliczenia'!H157<0,ABS('Załącznik nr 1 do rozliczenia'!H157),0)","v":0},0,0,null,null,{"$f":"'Weryfikacja 2'!U11","v":0},0]
[{"$f":"'Załącznik nr 1 do rozliczenia'!A158","v":"10"},{"$f":"IF('Załącznik nr 1 do rozliczenia'!B158:C158=\"\",\"\",'Załącznik nr 1 do rozliczenia'!B158:C158)","v":""},null,{"$f":"'Załącznik nr 2 do rozliczenia'!H154","v":0},0,{"$f":"IF('Załącznik nr 1 do rozliczenia'!H158<0,ABS('Załącznik nr 1 do rozliczenia'!H158),0)","v":0},0,0,null,null,{"$f":"'Weryfikacja 2'!U12","v":0},0]
[{"$f":"'Załącznik nr 1 do rozliczenia'!A159","v":"11"},{"$f":"IF('Załącznik nr 1 do rozliczenia'!B159:C159=\"\",\"\",'Załącznik nr 1 do rozliczenia'!B159:C159)","v":""},null,{"$f":"'Załącznik nr 2 do rozliczenia'!H155","v":0},0,{"$f":"IF('Załącznik nr 1 do rozliczenia'!H159<0,ABS('Załącznik nr 1 do rozliczenia'!H159),0)","v":0},0,0,null,null,{"$f":"'Weryfikacja 2'!U13","v":0},0]
[{"$f":"'Załącznik nr 1 do rozliczenia'!A160","v":"12"},{"$f":"IF('Załącznik nr 1 do rozliczenia'!B160:C160=\"\",\"\",'Załącznik nr 1 do rozliczenia'!B160:C160)","v":""},null,{"$f":"'Załącznik nr 2 do rozliczenia'!H156","v":0},0,{"$f":"IF('Załącznik nr 1 do rozliczenia'!H160<0,ABS('Załącznik nr 1 do rozliczenia'!H160),0)","v":0},0,0,null,null,{"$f":"'Weryfikacja 2'!U14","v":0},0]
[{"$f":"'Załącznik nr 1 do rozliczenia'!A161","v":"13"},{"$f":"IF('Załącznik nr 1 do rozliczenia'!B161:C161=\"\",\"\",'Załącznik nr 1 do rozliczenia'!B161:C161)","v":""},null,{"$f":"'Załącznik nr 2 do rozliczenia'!H157","v":0},0,{"$f":"IF('Załącznik nr 1 do rozliczenia'!H161<0,ABS('Załącznik nr 1 do rozliczenia'!H161),0)","v":0},0,0,null,null,{"$f":"'Weryfikacja 2'!U15","v":0},0]
[{"$f":"'Załącznik nr 1 do rozliczenia'!A162","v":"14"},{"$f":"IF('Załącznik nr 1 do rozliczenia'!B162:C162=\"\",\"\",'Załącznik nr 1 do rozliczenia'!B162:C162)","v":""},null,{"$f":"'Załącznik nr 2 do rozliczenia'!H158","v":0},0,{"$f":"IF('Załącznik nr 1 do rozliczenia'!H162<0,ABS('Załącznik nr 1 do rozliczenia'!H162),0)","v":0},0,0,null,null,{"$f":"'Weryfikacja 2'!U16","v":0},0]
[{"$f":"'Załącznik nr 1 do rozliczenia'!A163","v":"15"},{"$f":"IF('Załącznik nr 1 do rozliczenia'!B163:C163=\"\",\"\",'Załącznik nr 1 do rozliczenia'!B163:C163)","v":""},null,{"$f":"'Załącznik nr 2 do rozliczenia'!H159","v":0},0,{"$f":"IF('Załącznik nr 1 do rozliczenia'!H163<0,ABS('Załącznik nr 1 do rozliczenia'!H163),0)","v":0},0,0,null,null,{"$f":"'Weryfikacja 2'!U17","v":0},0]
[{"$f":"'Załącznik nr 1 do rozliczenia'!A164","v":"16"},{"$f":"IF('Załącznik nr 1 do rozliczenia'!B164:C164=\"\",\"\",'Załącznik nr 1 do rozliczenia'!B164:C164)","v":""},null,{"$f":"'Załącznik nr 2 do rozliczenia'!H160","v":0},0,{"$f":"IF('Załącznik nr 1 do rozliczenia'!H164<0,ABS('Załącznik nr 1 do rozliczenia'!H164),0)","v":0},0,0,null,null,{"$f":"'Weryfikacja 2'!U18","v":0},0]
[{"$f":"'Załącznik nr 1 do rozliczenia'!A165","v":"17"},{"$f":"IF('Załącznik nr 1 do rozliczenia'!B165:C165=\"\",\"\",'Załącznik nr 1 do rozliczenia'!B165:C165)","v":""},null,{"$f":"'Załącznik nr 2 do rozliczenia'!H161","v":0},0,{"$f":"IF('Załącznik nr 1 do rozliczenia'!H165<0,ABS('Załącznik nr 1 do rozliczenia'!H165),0)","v":0},0,0,null,null,{"$f":"'Weryfikacja 2'!U19","v":0},0]
[{"$f":"'Załącznik nr 1 do rozliczenia'!A166","v":"18"},{"$f":"IF('Załącznik nr 1 do rozliczenia'!B166:C166=\"\",\"\",'Załącznik nr 1 do rozliczenia'!B166:C166)","v":""},null,{"$f":"'Załącznik nr 2 do rozliczenia'!H162","v":0},0,{"$f":"IF('Załącznik nr 1 do rozliczenia'!H166<0,ABS('Załącznik nr 1 do rozliczenia'!H166),0)","v":0},0,0,null,null,{"$f":"'Weryfikacja 2'!U20","v":0},0]
[{"$f":"'Załącznik nr 1 do rozliczenia'!A167","v":"19"},{"$f":"IF('Załącznik nr 1 do rozliczenia'!B167:C167=\"\",\"\",'Załącznik nr 1 do rozliczenia'!B167:C167)","v":""},null,{"$f":"'Załącznik nr 2 do rozliczenia'!H163","v":0},0,{"$f":"IF('Załącznik nr 1 do rozliczenia'!H167<0,ABS('Załącznik nr 1 do rozliczenia'!H167),0)","v":0},0,0,null,null,{"$f":"'Weryfikacja 2'!U21","v":0},0]
[{"$f":"'Załącznik nr 1 do rozliczenia'!A168","v":"20"},{"$f":"IF('Załącznik nr 1 do rozliczenia'!B168:C168=\"\",\"\",'Załącznik nr 1 do rozliczenia'!B168:C168)","v":""},null,{"$f":"'Załącznik nr 2 do rozliczenia'!H164","v":0},0,{"$f":"IF('Załącznik nr 1 do rozliczenia'!H168<0,ABS('Załącznik nr 1 do rozliczenia'!H168),0)","v":0},0,0,null,null,{"$f":"'Weryfikacja 2'!U22","v":0},0]
[{"$f":"'Załącznik nr 1 do rozliczenia'!A169","v":"21"},{"$f":"IF('Załącznik nr 1 do rozliczenia'!B169:C169=\"\",\"\",'Załącznik nr 1 do rozliczenia'!B169:C169)","v":""},null,{"$f":"'Załącznik nr 2 do rozliczenia'!H165","v":0},0,{"$f":"IF('Załącznik nr 1 do rozliczenia'!H169<0,ABS('Załącznik nr 1 do rozliczenia'!H169),0)","v":0},0,0,null,null,{"$f":"'Weryfikacja 2'!U23","v":0},0]
[{"$f":"'Załącznik nr 1 do rozliczenia'!A170","v":"22"},{"$f":"IF('Załącznik nr 1 do rozliczenia'!B170:C170=\"\",\"\",'Załącznik nr 1 do rozliczenia'!B170:C170)","v":""},null,{"$f":"'Załącznik nr 2 do rozliczenia'!H166","v":0},0,{"$f":"IF('Załącznik nr 1 do rozliczenia'!H170<0,ABS('Załącznik nr 1 do rozliczenia'!H170),0)","v":0},0,0,null,null,{"$f":"'Weryfikacja 2'!U24","v":0},0]
[{"$f":"'Załącznik nr 1 do rozliczenia'!A171","v":"23"},{"$f":"IF('Załącznik nr 1 do rozliczenia'!B171:C171=\"\",\"\",'Załącznik nr 1 do rozliczenia'!B171:C171)","v":""},null,{"$f":"'Załącznik nr 2 do rozliczenia'!H167","v":0},0,{"$f":"IF('Załącznik nr 1 do rozliczenia'!H171<0,ABS('Załącznik nr 1 do rozliczenia'!H171),0)","v":0},0,0,null,null,{"$f":"'Weryfikacja 2'!U25","v":0},0]
[{"$f":"'Załącznik nr 1 do rozliczenia'!A172","v":"24"},{"$f":"IF('Załącznik nr 1 do rozliczenia'!B172:C172=\"\",\"\",'Załącznik nr 1 do rozliczenia'!B172:C172)","v":""},null,{"$f":"'Załącznik nr 2 do rozliczenia'!H168","v":0},0,{"$f":"IF('Załącznik nr 1 do rozliczenia'!H172<0,ABS('Załącznik nr 1 do rozliczenia'!H172),0)","v":0},0,0,null,null,{"$f":"'Weryfikacja 2'!U26","v":0},0]
[{"$f":"'Załącznik nr 1 do rozliczenia'!A173","v":"25"},{"$f":"IF('Załącznik nr 1 do rozliczenia'!B173:C173=\"\",\"\",'Załącznik nr 1 do rozliczenia'!B173:C173)","v":""},null,{"$f":"'Załącznik nr 2 do rozliczenia'!H169","v":0},0,{"$f":"IF('Załącznik nr 1 do rozliczenia'!H173<0,ABS('Załącznik nr 1 do rozliczenia'!H173),0)","v":0},0,0,null,null,{"$f":"'Weryfikacja 2'!U27","v":0},0]
[{"$f":"'Załącznik nr 1 do rozliczenia'!A174","v":"26"},{"$f":"IF('Załącznik nr 1 do rozliczenia'!B174:C174=\"\",\"\",'Załącznik nr 1 do rozliczenia'!B174:C174)","v":""},null,{"$f":"'Załącznik nr 2 do rozliczenia'!H170","v":0},0,{"$f":"IF('Załącznik nr 1 do rozliczenia'!H174<0,ABS('Załącznik nr 1 do rozliczenia'!H174),0)","v":0},0,0,null,null,{"$f":"'Weryfikacja 2'!U28","v":0},0]
[{"$f":"'Załącznik nr 1 do rozliczenia'!A175","v":"27"},{"$f":"IF('Załącznik nr 1 do rozliczenia'!B175:C175=\"\",\"\",'Załącznik nr 1 do rozliczenia'!B175:C175)","v":""},null,{"$f":"'Załącznik nr 2 do rozliczenia'!H171","v":0},0,{"$f":"IF('Załącznik nr 1 do rozliczenia'!H175<0,ABS('Załącznik nr 1 do rozliczenia'!H175),0)","v":0},0,0,null,null,{"$f":"'Weryfikacja 2'!U29","v":0},0]
[{"$f":"'Załącznik nr 1 do rozliczenia'!A176","v":"28"},{"$f":"IF('Załącznik nr 1 do rozliczenia'!B176:C176=\"\",\"\",'Załącznik nr 1 do rozliczenia'!B176:C176)","v":""},null,{"$f":"'Załącznik nr 2 do rozliczenia'!H172","v":0},0,{"$f":"IF('Załącznik nr 1 do rozliczenia'!H176<0,ABS('Załącznik nr 1 do rozliczenia'!H176),0)","v":0},0,0,null,null,{"$f":"'Weryfikacja 2'!U30","v":0},0]
[{"$f":"'Załącznik nr 1 do rozliczenia'!A177","v":"29"},{"$f":"IF('Załącznik nr 1 do rozliczenia'!B177:C177=\"\",\"\",'Załącznik nr 1 do rozliczenia'!B177:C177)","v":""},null,{"$f":"'Załącznik nr 2 do rozliczenia'!H173","v":0},0,{"$f":"IF('Załącznik nr 1 do rozliczenia'!H177<0,ABS('Załącznik nr 1 do rozliczenia'!H177),0)","v":0},0,0,null,null,{"$f":"'Weryfikacja 2'!U31","v":0},0]
[{"$f":"'Załącznik nr 1 do rozliczenia'!A178","v":"30"},{"$f":"IF('Załącznik nr 1 do rozliczenia'!B178:C178=\"\",\"\",'Załącznik nr 1 do rozliczenia'!B178:C178)","v":""},null,{"$f":"'Załącznik nr 2 do rozliczenia'!H174","v":0},0,{"$f":"IF('Załącznik nr 1 do rozliczenia'!H178<0,ABS('Załącznik nr 1 do rozliczenia'!H178),0)","v":0},0,0,null,null,{"$f":"'Weryfikacja 2'!U32","v":0},0]
[{"$f":"'Załącznik nr 1 do rozliczenia'!A179","v":"31"},{"$f":"IF('Załącznik nr 1 do rozliczenia'!B179:C179=\"\",\"\",'Załącznik nr 1 do rozliczenia'!B179:C179)","v":""},null,{"$f":"'Załącznik nr 2 do rozliczenia'!H175","v":0},0,{"$f":"IF('Załącznik nr 1 do rozliczenia'!H179<0,ABS('Załącznik nr 1 do rozliczenia'!H179),0)","v":0},0,0,null,null,{"$f":"'Weryfikacja 2'!U33","v":0},0]
[{"$f":"'Załącznik nr 1 do rozliczenia'!A180","v":"32"},{"$f":"IF('Załącznik nr 1 do rozliczenia'!B180:C180=\"\",\"\",'Załącznik nr 1 do rozliczenia'!B180:C180)","v":""},null,{"$f":"'Załącznik nr 2 do rozliczenia'!H176","v":0},0,{"$f":"IF('Załącznik nr 1 do rozliczenia'!H180<0,ABS('Załącznik nr 1 do rozliczenia'!H180),0)","v":0},0,0,null,null,{"$f":"'Weryfikacja 2'!U34","v":0},0]
[{"$f":"'Załącznik nr 1 do rozliczenia'!A181","v":"33"},{"$f":"IF('Załącznik nr 1 do rozliczenia'!B181:C181=\"\",\"\",'Załącznik nr 1 do rozliczenia'!B181:C181)","v":""},null,{"$f":"'Załącznik nr 2 do rozliczenia'!H177","v":0},0,{"$f":"IF('Załącznik nr 1 do rozliczenia'!H181<0,ABS('Załącznik nr 1 do rozliczenia'!H181),0)","v":0},0,0,null,null,{"$f":"'Weryfikacja 2'!U35","v":0},0]
[{"$f":"'Załącznik nr 1 do rozliczenia'!A182","v":"34"},{"$f":"IF('Załącznik nr 1 do rozliczenia'!B182:C182=\"\",\"\",'Załącznik nr 1 do rozliczenia'!B182:C182)","v":""},null,{"$f":"'Załącznik nr 2 do rozliczenia'!H178","v":0},0,{"$f":"IF('Załącznik nr 1 do rozliczenia'!H182<0,ABS('Załącznik nr 1 do rozliczenia'!H182),0)","v":0},0,0,null,null,{"$f":"'Weryfikacja 2'!U36","v":0},0]
[{"$f":"'Załącznik nr 1 do rozliczenia'!A183","v":"35"},{"$f":"IF('Załącznik nr 1 do rozliczenia'!B183:C183=\"\",\"\",'Załącznik nr 1 do rozliczenia'!B183:C183)","v":""},null,{"$f":"'Załącznik nr 2 do rozliczenia'!H179","v":0},0,{"$f":"IF('Załącznik nr 1 do rozliczenia'!H183<0,ABS('Załącznik nr 1 do rozliczenia'!H183),0)","v":0},0,0,null,null,{"$f":"'Weryfikacja 2'!U37","v":0},0]
[{"$f":"'Załącznik nr 1 do rozliczenia'!A184","v":"36"},{"$f":"IF('Załącznik nr 1 do rozliczenia'!B184:C184=\"\",\"\",'Załącznik nr 1 do rozliczenia'!B184:C184)","v":""},null,{"$f":"'Załącznik nr 2 do rozliczenia'!H180","v":0},0,{"$f":"IF('Załącznik nr 1 do rozliczenia'!H184<0,ABS('Załącznik nr 1 do rozliczenia'!H184),0)","v":0},0,0,null,null,{"$f":"'Weryfikacja 2'!U38","v":0},0]
[{"$f":"'Załącznik nr 1 do rozliczenia'!A185","v":"37"},{"$f":"IF('Załącznik nr 1 do rozliczenia'!B185:C185=\"\",\"\",'Załącznik nr 1 do rozliczenia'!B185:C185)","v":""},null,{"$f":"'Załącznik nr 2 do rozliczenia'!H181","v":0},0,{"$f":"IF('Załącznik nr 1 do rozliczenia'!H185<0,ABS('Załącznik nr 1 do rozliczenia'!H185),0)","v":0},0,0,null,null,{"$f":"'Weryfikacja 2'!U39","v":0},0]
[{"$f":"'Załącznik nr 1 do rozliczenia'!A186","v":"38"},{"$f":"IF('Załącznik nr 1 do rozliczenia'!B186:C186=\"\",\"\",'Załącznik nr 1 do rozliczenia'!B186:C186)","v":""},null,{"$f":"'Załącznik nr 2 do rozliczenia'!H182","v":0},0,{"$f":"IF('Załącznik nr 1 do rozliczenia'!H186<0,ABS('Załącznik nr 1 do rozliczenia'!H186),0)","v":0},0,0,null,null,{"$f":"'Weryfikacja 2'!U40","v":0},0]
[{"$f":"'Załącznik nr 1 do rozliczenia'!A187","v":"39"},{"$f":"IF('Załącznik nr 1 do rozliczenia'!B187:C187=\"\",\"\",'Załącznik nr 1 do rozliczenia'!B187:C187)","v":""},null,{"$f":"'Załącznik nr 2 do rozliczenia'!H183","v":0},0,{"$f":"IF('Załącznik nr 1 do rozliczenia'!H187<0,ABS('Załącznik nr 1 do rozliczenia'!H187),0)","v":0},0,0,null,null,{"$f":"'Weryfikacja 2'!U41","v":0},0]
[{"$f":"'Załącznik nr 1 do rozliczenia'!A188","v":"40"},{"$f":"IF('Załącznik nr 1 do rozliczenia'!B188:C188=\"\",\"\",'Załącznik nr 1 do rozliczenia'!B188:C188)","v":""},null,{"$f":"'Załącznik nr 2 do rozliczenia'!H184","v":0},0,{"$f":"IF('Załącznik nr 1 do rozliczenia'!H188<0,ABS('Załącznik nr 1 do rozliczenia'!H188),0)","v":0},0,0,null,null,{"$f":"'Weryfikacja 2'!U42","v":0},0]
[{"$f":"'Załącznik nr 1 do rozliczenia'!A189","v":"41"},{"$f":"IF('Załącznik nr 1 do rozliczenia'!B189:C189=\"\",\"\",'Załącznik nr 1 do rozliczenia'!B189:C189)","v":""},null,{"$f":"'Załącznik nr 2 do rozliczenia'!H185","v":0},0,{"$f":"IF('Załącznik nr 1 do rozliczenia'!H189<0,ABS('Załącznik nr 1 do rozliczenia'!H189),0)","v":0},0,0,null,null,{"$f":"'Weryfikacja 2'!U43","v":0},0]
[{"$f":"'Załącznik nr 1 do rozliczenia'!A190","v":"42"},{"$f":"IF('Załącznik nr 1 do rozliczenia'!B190:C190=\"\",\"\",'Załącznik nr 1 do rozliczenia'!B190:C190)","v":""},null,{"$f":"'Załącznik nr 2 do rozliczenia'!H186","v":0},0,{"$f":"IF('Załącznik nr 1 do rozliczenia'!H190<0,ABS('Załącznik nr 1 do rozliczenia'!H190),0)","v":0},0,0,null,null,{"$f":"'Weryfikacja 2'!U44","v":0},0]
[{"$f":"'Załącznik nr 1 do rozliczenia'!A191","v":"43"},{"$f":"IF('Załącznik nr 1 do rozliczenia'!B191:C191=\"\",\"\",'Załącznik nr 1 do rozliczenia'!B191:C191)","v":""},null,{"$f":"'Załącznik nr 2 do rozliczenia'!H187","v":0},0,{"$f":"IF('Załącznik nr 1 do rozliczenia'!H191<0,ABS('Załącznik nr 1 do rozliczenia'!H191),0)","v":0},0,0,null,null,{"$f":"'Weryfikacja 2'!U45","v":0},0]
[{"$f":"'Załącznik nr 1 do rozliczenia'!A192","v":"44"},{"$f":"IF('Załącznik nr 1 do rozliczenia'!B192:C192=\"\",\"\",'Załącznik nr 1 do rozliczenia'!B192:C192)","v":""},null,{"$f":"'Załącznik nr 2 do rozliczenia'!H188","v":0},0,{"$f":"IF('Załącznik nr 1 do rozliczenia'!H192<0,ABS('Załącznik nr 1 do rozliczenia'!H192),0)","v":0},0,0,null,null,{"$f":"'Weryfikacja 2'!U46","v":0},0]
[{"$f":"'Załącznik nr 1 do rozliczenia'!A193","v":"45"},{"$f":"IF('Załącznik nr 1 do rozliczenia'!B193:C193=\"\",\"\",'Załącznik nr 1 do rozliczenia'!B193:C193)","v":""},null,{"$f":"'Załącznik nr 2 do rozliczenia'!H189","v":0},0,{"$f":"IF('Załącznik nr 1 do rozliczenia'!H193<0,ABS('Załącznik nr 1 do rozliczenia'!H193),0)","v":0},0,0,null,null,{"$f":"'Weryfikacja 2'!U47","v":0},0]
[{"$f":"'Załącznik nr 1 do rozliczenia'!A194","v":"46"},{"$f":"IF('Załącznik nr 1 do rozliczenia'!B194:C194=\"\",\"\",'Załącznik nr 1 do rozliczenia'!B194:C194)","v":""},null,{"$f":"'Załącznik nr 2 do rozliczenia'!H190","v":0},0,{"$f":"IF('Załącznik nr 1 do rozliczenia'!H194<0,ABS('Załącznik nr 1 do rozliczenia'!H194),0)","v":0},0,0,null,null,{"$f":"'Weryfikacja 2'!U48","v":0},0]
[{"$f":"'Załącznik nr 1 do rozliczenia'!A195","v":"47"},{"$f":"IF('Załącznik nr 1 do rozliczenia'!B195:C195=\"\",\"\",'Załącznik nr 1 do rozliczenia'!B195:C195)","v":""},null,{"$f":"'Załącznik nr 2 do rozliczenia'!H191","v":0},0,{"$f":"IF('Załącznik nr 1 do rozliczenia'!H195<0,ABS('Załącznik nr 1 do rozliczenia'!H195),0)","v":0},0,0,null,null,{"$f":"'Weryfikacja 2'!U49","v":0},0]
[{"$f":"'Załącznik nr 1 do rozliczenia'!A196","v":"48"},{"$f":"IF('Załącznik nr 1 do rozliczenia'!B196:C196=\"\",\"\",'Załącznik nr 1 do rozliczenia'!B196:C196)","v":""},null,{"$f":"'Załącznik nr 2 do rozliczenia'!H192","v":0},0,{"$f":"IF('Załącznik nr 1 do rozliczenia'!H196<0,ABS('Załącznik nr 1 do rozliczenia'!H196),0)","v":0},0,0,null,null,{"$f":"'Weryfikacja 2'!U50","v":0},0]
[{"$f":"'Załącznik nr 1 do rozliczenia'!A197","v":"49"},{"$f":"IF('Załącznik nr 1 do rozliczenia'!B197:C197=\"\",\"\",'Załącznik nr 1 do rozliczenia'!B197:C197)","v":""},null,{"$f":"'Załącznik nr 2 do rozliczenia'!H193","v":0},0,{"$f":"IF('Załącznik nr 1 do rozliczenia'!H197<0,ABS('Załącznik nr 1 do rozliczenia'!H197),0)","v":0},0,0,null,null,{"$f":"'Weryfikacja 2'!U51","v":0},0]
[{"$f":"'Załącznik nr 1 do rozliczenia'!A198","v":"50"},{"$f":"IF('Załącznik nr 1 do rozliczenia'!B198:C198=\"\",\"\",'Załącznik nr 1 do rozliczenia'!B198:C198)","v":""},null,{"$f":"'Załącznik nr 2 do rozliczenia'!H194","v":0},0,{"$f":"IF('Załącznik nr 1 do rozliczenia'!H198<0,ABS('Załącznik nr 1 do rozliczenia'!H198),0)","v":0},0,0,null,null,{"$f":"'Weryfikacja 2'!U52","v":0},0]
[{"$f":"'Załącznik nr 1 do rozliczenia'!A199","v":"51"},{"$f":"IF('Załącznik nr 1 do rozliczenia'!B199:C199=\"\",\"\",'Załącznik nr 1 do rozliczenia'!B199:C199)","v":""},null,{"$f":"'Załącznik nr 2 do rozliczenia'!H195","v":0},0,{"$f":"IF('Załącznik nr 1 do rozliczenia'!H199<0,ABS('Załącznik nr 1 do rozliczenia'!H199),0)","v":0},0,0,null,null,{"$f":"'Weryfikacja 2'!U53","v":0},0]
[{"$f":"'Załącznik nr 1 do rozliczenia'!A200","v":"52"},{"$f":"IF('Załącznik nr 1 do rozliczenia'!B200:C200=\"\",\"\",'Załącznik nr 1 do rozliczenia'!B200:C200)","v":""},null,{"$f":"'Załącznik nr 2 do rozliczenia'!H196","v":0},0,{"$f":"IF('Załącznik nr 1 do rozliczenia'!H200<0,ABS('Załącznik nr 1 do rozliczenia'!H200),0)","v":0},0,0,null,null,{"$f":"'Weryfikacja 2'!U54","v":0},0]
[{"$f":"'Załącznik nr 1 do rozliczenia'!A201","v":"53"},{"$f":"IF('Załącznik nr 1 do rozliczenia'!B201:C201=\"\",\"\",'Załącznik nr 1 do rozliczenia'!B201:C201)","v":""},null,{"$f":"'Załącznik nr 2 do rozliczenia'!H197","v":0},0,{"$f":"IF('Załącznik nr 1 do rozliczenia'!H201<0,ABS('Załącznik nr 1 do rozliczenia'!H201),0)","v":0},0,0,null,null,{"$f":"'Weryfikacja 2'!U55","v":0},0]
[{"$f":"'Załącznik nr 1 do rozliczenia'!A202","v":"54"},{"$f":"IF('Załącznik nr 1 do rozliczenia'!B202:C202=\"\",\"\",'Załącznik nr 1 do rozliczenia'!B202:C202)","v":""},null,{"$f":"'Załącznik nr 2 do rozliczenia'!H198","v":0},0,{"$f":"IF('Załącznik nr 1 do rozliczenia'!H202<0,ABS('Załącznik nr 1 do rozliczenia'!H202),0)","v":0},0,0,null,null,{"$f":"'Weryfikacja 2'!U56","v":0},0]
[{"$f":"'Załącznik nr 1 do rozliczenia'!A203","v":"55"},{"$f":"IF('Załącznik nr 1 do rozliczenia'!B203:C203=\"\",\"\",'Załącznik nr 1 do rozliczenia'!B203:C203)","v":""},null,{"$f":"'Załącznik nr 2 do rozliczenia'!H199","v":0},0,{"$f":"IF('Załącznik nr 1 do rozliczenia'!H203<0,ABS('Załącznik nr 1 do rozliczenia'!H203),0)","v":0},0,0,null,null,{"$f":"'Weryfikacja 2'!U57","v":0},0]
[{"$f":"'Załącznik nr 1 do rozliczenia'!A204","v":"56"},{"$f":"IF('Załącznik nr 1 do rozliczenia'!B204:C204=\"\",\"\",'Załącznik nr 1 do rozliczenia'!B204:C204)","v":""},null,{"$f":"'Załącznik nr 2 do rozliczenia'!H200","v":0},0,{"$f":"IF('Załącznik nr 1 do rozliczenia'!H204<0,ABS('Załącznik nr 1 do rozliczenia'!H204),0)","v":0},0,0,null,null,{"$f":"'Weryfikacja 2'!U58","v":0},0]
[{"$f":"'Załącznik nr 1 do rozliczenia'!A205","v":"57"},{"$f":"IF('Załącznik nr 1 do rozliczenia'!B205:C205=\"\",\"\",'Załącznik nr 1 do rozliczenia'!B205:C205)","v":""},null,{"$f":"'Załącznik nr 2 do rozliczenia'!H201","v":0},0,{"$f":"IF('Załącznik nr 1 do rozliczenia'!H205<0,ABS('Załącznik nr 1 do rozliczenia'!H205),0)","v":0},0,0,null,null,{"$f":"'Weryfikacja 2'!U59","v":0},0]
[{"$f":"'Załącznik nr 1 do rozliczenia'!A206","v":"58"},{"$f":"IF('Załącznik nr 1 do rozliczenia'!B206:C206=\"\",\"\",'Załącznik nr 1 do rozliczenia'!B206:C206)","v":""},null,{"$f":"'Załącznik nr 2 do rozliczenia'!H202","v":0},0,{"$f":"IF('Załącznik nr 1 do rozliczenia'!H206<0,ABS('Załącznik nr 1 do rozliczenia'!H206),0)","v":0},0,0,null,null,{"$f":"'Weryfikacja 2'!U60","v":0},0]
[{"$f":"'Załącznik nr 1 do rozliczenia'!A207","v":"59"},{"$f":"IF('Załącznik nr 1 do rozliczenia'!B207:C207=\"\",\"\",'Załącznik nr 1 do rozliczenia'!B207:C207)","v":""},null,{"$f":"'Załącznik nr 2 do rozliczenia'!H203","v":0},0,{"$f":"IF('Załącznik nr 1 do rozliczenia'!H207<0,ABS('Załącznik nr 1 do rozliczenia'!H207),0)","v":0},0,0,null,null,{"$f":"'Weryfikacja 2'!U61","v":0},0]
[{"$f":"'Załącznik nr 1 do rozliczenia'!A208","v":"60"},{"$f":"IF('Załącznik nr 1 do rozliczenia'!B208:C208=\"\",\"\",'Załącznik nr 1 do rozliczenia'!B208:C208)","v":""},null,{"$f":"'Załącznik nr 2 do rozliczenia'!H204","v":0},0,{"$f":"IF('Załącznik nr 1 do rozliczenia'!H208<0,ABS('Załącznik nr 1 do rozliczenia'!H208),0)","v":0},0,0,null,null,{"$f":"'Weryfikacja 2'!U62","v":0},0]
[{"$f":"'Załącznik nr 1 do rozliczenia'!A209","v":"61"},{"$f":"IF('Załącznik nr 1 do rozliczenia'!B209:C209=\"\",\"\",'Załącznik nr 1 do rozliczenia'!B209:C209)","v":""},null,{"$f":"'Załącznik nr 2 do rozliczenia'!H205","v":0},0,{"$f":"IF('Załącznik nr 1 do rozliczenia'!H209<0,ABS('Załącznik nr 1 do rozliczenia'!H209),0)","v":0},0,0,null,null,{"$f":"'Weryfikacja 2'!U63","v":0},0]
[{"$f":"'Załącznik nr 1 do rozliczenia'!A210","v":"62"},{"$f":"IF('Załącznik nr 1 do rozliczenia'!B210:C210=\"\",\"\",'Załącznik nr 1 do rozliczenia'!B210:C210)","v":""},null,{"$f":"'Załącznik nr 2 do rozliczenia'!H206","v":0},0,{"$f":"IF('Załącznik nr 1 do rozliczenia'!H210<0,ABS('Załącznik nr 1 do rozliczenia'!H210),0)","v":0},0,0,null,null,{"$f":"'Weryfikacja 2'!U64","v":0},0]
[{"$f":"'Załącznik nr 1 do rozliczenia'!A211","v":"63"},{"$f":"IF('Załącznik nr 1 do rozliczenia'!B211:C211=\"\",\"\",'Załącznik nr 1 do rozliczenia'!B211:C211)","v":""},null,{"$f":"'Załącznik nr 2 do rozliczenia'!H207","v":0},0,{"$f":"IF('Załącznik nr 1 do rozliczenia'!H211<0,ABS('Załącznik nr 1 do rozliczenia'!H211),0)","v":0},0,0,null,null,{"$f":"'Weryfikacja 2'!U65","v":0},0]
[{"$f":"'Załącznik nr 1 do rozliczenia'!A212","v":"64"},{"$f":"IF('Załącznik nr 1 do rozliczenia'!B212:C212=\"\",\"\",'Załącznik nr 1 do rozliczenia'!B212:C212)","v":""},null,{"$f":"'Załącznik nr 2 do rozliczenia'!H208","v":0},0,{"$f":"IF('Załącznik nr 1 do rozliczenia'!H212<0,ABS('Załącznik nr 1 do rozliczenia'!H212),0)","v":0},0,0,null,null,{"$f":"'Weryfikacja 2'!U66","v":0},0]
[{"$f":"'Załącznik nr 1 do rozliczenia'!A213","v":"65"},{"$f":"IF('Załącznik nr 1 do rozliczenia'!B213:C213=\"\",\"\",'Załącznik nr 1 do rozliczenia'!B213:C213)","v":""},null,{"$f":"'Załącznik nr 2 do rozliczenia'!H209","v":0},{"$f":"IFERROR(F216/D216,0)","v":0},{"$f":"IF('Załącznik nr 1 do rozliczenia'!H213<0,ABS('Załącznik nr 1 do rozliczenia'!H213),0)","v":0},{"$f":"IFERROR(I216/D216,0)","v":0},0,null,null,{"$f":"'Weryfikacja 2'!U67","v":0},0]
[{"$f":"'Załącznik nr 1 do rozliczenia'!A214","v":"66"},{"$f":"IF('Załącznik nr 1 do rozliczenia'!B214:C214=\"\",\"\",'Załącznik nr 1 do rozliczenia'!B214:C214)","v":""},null,{"$f":"'Załącznik nr 2 do rozliczenia'!H210","v":0},0,{"$f":"IF('Załącznik nr 1 do rozliczenia'!H214<0,ABS('Załącznik nr 1 do rozliczenia'!H214),0)","v":0},0,{"$f":"IFERROR(G217/E217,0)","v":0},null,null,{"$f":"'Weryfikacja 2'!U68","v":0},{"$f":"IF(J217-K217<0,0,J217-K217)","v":0}]
[{"$f":"'Załącznik nr 1 do rozliczenia'!A215","v":"67"},{"$f":"IF('Załącznik nr 1 do rozliczenia'!B215:C215=\"\",\"\",'Załącznik nr 1 do rozliczenia'!B215:C215)","v":""},null,{"$f":"'Załącznik nr 2 do rozliczenia'!H211","v":0},0,{"$f":"IF('Załącznik nr 1 do rozliczenia'!H215<0,ABS('Załącznik nr 1 do rozliczenia'!H215),0)","v":0},0,0,null,null,{"$f":"'Weryfikacja 2'!U69","v":0},0]
[{"$f":"'Załącznik nr 1 do rozliczenia'!A216","v":"68"},{"$f":"IF('Załącznik nr 1 do rozliczenia'!B216:C216=\"\",\"\",'Załącznik nr 1 do rozliczenia'!B216:C216)","v":""},null,{"$f":"'Załącznik nr 2 do rozliczenia'!H212","v":0},0,{"$f":"IF('Załącznik nr 1 do rozliczenia'!H216<0,ABS('Załącznik nr 1 do rozliczenia'!H216),0)","v":0},0,0,null,null,{"$f":"'Weryfikacja 2'!U70","v":0},0]
[{"$f":"'Załącznik nr 1 do rozliczenia'!A217","v":"69"},{"$f":"IF('Załącznik nr 1 do rozliczenia'!B217:C217=\"\",\"\",'Załącznik nr 1 do rozliczenia'!B217:C217)","v":""},null,{"$f":"'Załącznik nr 2 do rozliczenia'!H213","v":0},0,{"$f":"IF('Załącznik nr 1 do rozliczenia'!H217<0,ABS('Załącznik nr 1 do rozliczenia'!H217),0)","v":0},0,0,null,null,{"$f":"'Weryfikacja 2'!U71","v":0},0]
[{"$f":"'Załącznik nr 1 do rozliczenia'!A218","v":"70"},{"$f":"IF('Załącznik nr 1 do rozliczenia'!B218:C218=\"\",\"\",'Załącznik nr 1 do rozliczenia'!B218:C218)","v":""},null,{"$f":"'Załącznik nr 2 do rozliczenia'!H214","v":0},0,{"$f":"IF('Załącznik nr 1 do rozliczenia'!H218<0,ABS('Załącznik nr 1 do rozliczenia'!H218),0)","v":0},0,0,null,null,{"$f":"'Weryfikacja 2'!U72","v":0},0]
[{"$f":"'Załącznik nr 1 do rozliczenia'!A219","v":"71"},{"$f":"IF('Załącznik nr 1 do rozliczenia'!B219:C219=\"\",\"\",'Załącznik nr 1 do rozliczenia'!B219:C219)","v":""},null,{"$f":"'Załącznik nr 2 do rozliczenia'!H215","v":0},0,{"$f":"IF('Załącznik nr 1 do rozliczenia'!H219<0,ABS('Załącznik nr 1 do rozliczenia'!H219),0)","v":0},0,0,null,null,{"$f":"'Weryfikacja 2'!U73","v":0},0]
[{"$f":"'Załącznik nr 1 do rozliczenia'!A220","v":"72"},{"$f":"IF('Załącznik nr 1 do rozliczenia'!B220:C220=\"\",\"\",'Załącznik nr 1 do rozliczenia'!B220:C220)","v":""},null,{"$f":"'Załącznik nr 2 do rozliczenia'!H216","v":0},0,{"$f":"IF('Załącznik nr 1 do rozliczenia'!H220<0,ABS('Załącznik nr 1 do rozliczenia'!H220),0)","v":0},0,0,null,null,{"$f":"'Weryfikacja 2'!U74","v":0},0]
[{"$f":"'Załącznik nr 1 do rozliczenia'!A221","v":"73"},{"$f":"IF('Załącznik nr 1 do rozliczenia'!B221:C221=\"\",\"\",'Załącznik nr 1 do rozliczenia'!B221:C221)","v":""},null,{"$f":"'Załącznik nr 2 do rozliczenia'!H217","v":0},0,{"$f":"IF('Załącznik nr 1 do rozliczenia'!H221<0,ABS('Załącznik nr 1 do rozliczenia'!H221),0)","v":0},0,0,null,null,{"$f":"'Weryfikacja 2'!U75","v":0},0]
[{"$f":"'Załącznik nr 1 do rozliczenia'!A222","v":"74"},{"$f":"IF('Załącznik nr 1 do rozliczenia'!B222:C222=\"\",\"\",'Załącznik nr 1 do rozliczenia'!B222:C222)","v":""},null,{"$f":"'Załącznik nr 2 do rozliczenia'!H218","v":0},0,{"$f":"IF('Załącznik nr 1 do rozliczenia'!H222<0,ABS('Załącznik nr 1 do rozliczenia'!H222),0)","v":0},0,0,null,null,{"$f":"'Weryfikacja 2'!U76","v":0},0]
[{"$f":"'Załącznik nr 1 do rozliczenia'!A223","v":"75"},{"$f":"IF('Załącznik nr 1 do rozliczenia'!B223:C223=\"\",\"\",'Załącznik nr 1 do rozliczenia'!B223:C223)","v":""},null,{"$f":"'Załącznik nr 2 do rozliczenia'!H219","v":0},0,{"$f":"IF('Załącznik nr 1 do rozliczenia'!H223<0,ABS('Załącznik nr 1 do rozliczenia'!H223),0)","v":0},0,0,null,null,{"$f":"'Weryfikacja 2'!U77","v":0},0]
[{"$f":"'Załącznik nr 1 do rozliczenia'!A224","v":"76"},{"$f":"IF('Załącznik nr 1 do rozliczenia'!B224:C224=\"\",\"\",'Załącznik nr 1 do rozliczenia'!B224:C224)","v":""},null,{"$f":"'Załącznik nr 2 do rozliczenia'!H220","v":0},0,{"$f":"IF('Załącznik nr 1 do rozliczenia'!H224<0,ABS('Załącznik nr 1 do rozliczenia'!H224),0)","v":0},0,0,null,null,{"$f":"'Weryfikacja 2'!U78","v":0},0]
[{"$f":"'Załącznik nr 1 do rozliczenia'!A225","v":"77"},{"$f":"IF('Załącznik nr 1 do rozliczenia'!B225:C225=\"\",\"\",'Załącznik nr 1 do rozliczenia'!B225:C225)","v":""},null,{"$f":"'Załącznik nr 2 do rozliczenia'!H221","v":0},0,{"$f":"IF('Załącznik nr 1 do rozliczenia'!H225<0,ABS('Załącznik nr 1 do rozliczenia'!H225),0)","v":0},0,0,null,null,{"$f":"'Weryfikacja 2'!U79","v":0},0]
[{"$f":"'Załącznik nr 1 do rozliczenia'!A226","v":"78"},{"$f":"IF('Załącznik nr 1 do rozliczenia'!B226:C226=\"\",\"\",'Załącznik nr 1 do rozliczenia'!B226:C226)","v":""},null,{"$f":"'Załącznik nr 2 do rozliczenia'!H222","v":0},0,{"$f":"IF('Załącznik nr 1 do rozliczenia'!H226<0,ABS('Załącznik nr 1 do rozliczenia'!H226),0)","v":0},0,0,null,null,{"$f":"'Weryfikacja 2'!U80","v":0},0]
[{"$f":"'Załącznik nr 1 do rozliczenia'!A227","v":"79"},{"$f":"IF('Załącznik nr 1 do rozliczenia'!B227:C227=\"\",\"\",'Załącznik nr 1 do rozliczenia'!B227:C227)","v":""},null,{"$f":"'Załącznik nr 2 do rozliczenia'!H223","v":0},0,{"$f":"IF('Załącznik nr 1 do rozliczenia'!H227<0,ABS('Załącznik nr 1 do rozliczenia'!H227),0)","v":0},0,0,null,null,{"$f":"'Weryfikacja 2'!U81","v":0},0]
[{"$f":"'Załącznik nr 1 do rozliczenia'!A228","v":"80"},{"$f":"IF('Załącznik nr 1 do rozliczenia'!B228:C228=\"\",\"\",'Załącznik nr 1 do rozliczenia'!B228:C228)","v":""},null,{"$f":"'Załącznik nr 2 do rozliczenia'!H224","v":0},0,{"$f":"IF('Załącznik nr 1 do rozliczenia'!H228<0,ABS('Załącznik nr 1 do rozliczenia'!H228),0)","v":0},0,0,null,null,{"$f":"'Weryfikacja 2'!U82","v":0},0]
[{"$f":"'Załącznik nr 1 do rozliczenia'!A229","v":"81"},{"$f":"IF('Załącznik nr 1 do rozliczenia'!B229:C229=\"\",\"\",'Załącznik nr 1 do rozliczenia'!B229:C229)","v":""},null,{"$f":"'Załącznik nr 2 do rozliczenia'!H225","v":0},0,{"$f":"IF('Załącznik nr 1 do rozliczenia'!H229<0,ABS('Załącznik nr 1 do rozliczenia'!H229),0)","v":0},0,0,null,null,{"$f":"'Weryfikacja 2'!U83","v":0},0]
[{"$f":"'Załącznik nr 1 do rozliczenia'!A230","v":"82"},{"$f":"IF('Załącznik nr 1 do rozliczenia'!B230:C230=\"\",\"\",'Załącznik nr 1 do rozliczenia'!B230:C230)","v":""},null,{"$f":"'Załącznik nr 2 do rozliczenia'!H226","v":0},0,{"$f":"IF('Załącznik nr 1 do rozliczenia'!H230<0,ABS('Załącznik nr 1 do rozliczenia'!H230),0)","v":0},0,0,null,null,{"$f":"'Weryfikacja 2'!U84","v":0},0]
[{"$f":"'Załącznik nr 1 do rozliczenia'!A231","v":"83"},{"$f":"IF('Załącznik nr 1 do rozliczenia'!B231:C231=\"\",\"\",'Załącznik nr 1 do rozliczenia'!B231:C231)","v":""},null,{"$f":"'Załącznik nr 2 do rozliczenia'!H227","v":0},0,{"$f":"IF('Załącznik nr 1 do rozliczenia'!H231<0,ABS('Załącznik nr 1 do rozliczenia'!H231),0)","v":0},0,0,null,null,{"$f":"'Weryfikacja 2'!U85","v":0},0]
[{"$f":"'Załącznik nr 1 do rozliczenia'!A232","v":"84"},{"$f":"IF('Załącznik nr 1 do rozliczenia'!B232:C232=\"\",\"\",'Załącznik nr 1 do rozliczenia'!B232:C232)","v":""},null,{"$f":"'Załącznik nr 2 do rozliczenia'!H228","v":0},0,{"$f":"IF('Załącznik nr 1 do rozliczenia'!H232<0,ABS('Załącznik nr 1 do rozliczenia'!H232),0)","v":0},0,0,null,null,{"$f":"'Weryfikacja 2'!U86","v":0},0]
[{"$f":"'Załącznik nr 1 do rozliczenia'!A233","v":"85"},{"$f":"IF('Załącznik nr 1 do rozliczenia'!B233:C233=\"\",\"\",'Załącznik nr 1 do rozliczenia'!B233:C233)","v":""},null,{"$f":"'Załącznik nr 2 do rozliczenia'!H229","v":0},0,{"$f":"IF('Załącznik nr 1 do rozliczenia'!H233<0,ABS('Załącznik nr 1 do rozliczenia'!H233),0)","v":0},0,0,null,null,{"$f":"'Weryfikacja 2'!U87","v":0},0]
[{"$f":"'Załącznik nr 1 do rozliczenia'!A234","v":"86"},{"$f":"IF('Załącznik nr 1 do rozliczenia'!B234:C234=\"\",\"\",'Załącznik nr 1 do rozliczenia'!B234:C234)","v":""},null,{"$f":"'Załącznik nr 2 do rozliczenia'!H230","v":0},0,{"$f":"IF('Załącznik nr 1 do rozliczenia'!H234<0,ABS('Załącznik nr 1 do rozliczenia'!H234),0)","v":0},0,0,null,null,{"$f":"'Weryfikacja 2'!U88","v":0},0]
[{"$f":"'Załącznik nr 1 do rozliczenia'!A235","v":"87"},{"$f":"IF('Załącznik nr 1 do rozliczenia'!B235:C235=\"\",\"\",'Załącznik nr 1 do rozliczenia'!B235:C235)","v":""},null,{"$f":"'Załącznik nr 2 do rozliczenia'!H231","v":0},0,{"$f":"IF('Załącznik nr 1 do rozliczenia'!H235<0,ABS('Załącznik nr 1 do rozliczenia'!H235),0)","v":0},0,0,null,null,{"$f":"'Weryfikacja 2'!U89","v":0},0]
[{"$f":"'Załącznik nr 1 do rozliczenia'!A236","v":"88"},{"$f":"IF('Załącznik nr 1 do rozliczenia'!B236:C236=\"\",\"\",'Załącznik nr 1 do rozliczenia'!B236:C236)","v":""},null,{"$f":"'Załącznik nr 2 do rozliczenia'!H232","v":0},0,{"$f":"IF('Załącznik nr 1 do rozliczenia'!H236<0,ABS('Załącznik nr 1 do rozliczenia'!H236),0)","v":0},0,0,null,null,{"$f":"'Weryfikacja 2'!U90","v":0},0]
[{"$f":"'Załącznik nr 1 do rozliczenia'!A237","v":"89"},{"$f":"IF('Załącznik nr 1 do rozliczenia'!B237:C237=\"\",\"\",'Załącznik nr 1 do rozliczenia'!B237:C237)","v":""},null,{"$f":"'Załącznik nr 2 do rozliczenia'!H233","v":0},0,{"$f":"IF('Załącznik nr 1 do rozliczenia'!H237<0,ABS('Załącznik nr 1 do rozliczenia'!H237),0)","v":0},0,0,null,null,{"$f":"'Weryfikacja 2'!U91","v":0},0]
[{"$f":"'Załącznik nr 1 do rozliczenia'!A238","v":"90"},{"$f":"IF('Załącznik nr 1 do rozliczenia'!B238:C238=\"\",\"\",'Załącznik nr 1 do rozliczenia'!B238:C238)","v":""},null,{"$f":"'Załącznik nr 2 do rozliczenia'!H234","v":0},0,{"$f":"IF('Załącznik nr 1 do rozliczenia'!H238<0,ABS('Załącznik nr 1 do rozliczenia'!H238),0)","v":0},0,0,null,null,{"$f":"'Weryfikacja 2'!U92","v":0},0]
[{"$f":"'Załącznik nr 1 do rozliczenia'!A239","v":"91"},{"$f":"IF('Załącznik nr 1 do rozliczenia'!B239:C239=\"\",\"\",'Załącznik nr 1 do rozliczenia'!B239:C239)","v":""},null,{"$f":"'Załącznik nr 2 do rozliczenia'!H235","v":0},0,{"$f":"IF('Załącznik nr 1 do rozliczenia'!H239<0,ABS('Załącznik nr 1 do rozliczenia'!H239),0)","v":0},0,0,null,null,{"$f":"'Weryfikacja 2'!U93","v":0},0]
[{"$f":"'Załącznik nr 1 do rozliczenia'!A240","v":"92"},{"$f":"IF('Załącznik nr 1 do rozliczenia'!B240:C240=\"\",\"\",'Załącznik nr 1 do rozliczenia'!B240:C240)","v":""},null,{"$f":"'Załącznik nr 2 do rozliczenia'!H236","v":0},0,{"$f":"IF('Załącznik nr 1 do rozliczenia'!H240<0,ABS('Załącznik nr 1 do rozliczenia'!H240),0)","v":0},0,0,null,null,{"$f":"'Weryfikacja 2'!U94","v":0},0]
[{"$f":"'Załącznik nr 1 do rozliczenia'!A241","v":"93"},{"$f":"IF('Załącznik nr 1 do rozliczenia'!B241:C241=\"\",\"\",'Załącznik nr 1 do rozliczenia'!B241:C241)","v":""},null,{"$f":"'Załącznik nr 2 do rozliczenia'!H237","v":0},0,{"$f":"IF('Załącznik nr 1 do rozliczenia'!H241<0,ABS('Załącznik nr 1 do rozliczenia'!H241),0)","v":0},0,0,null,null,{"$f":"'Weryfikacja 2'!U95","v":0},0]
[{"$f":"'Załącznik nr 1 do rozliczenia'!A242","v":"94"},{"$f":"IF('Załącznik nr 1 do rozliczenia'!B242:C242=\"\",\"\",'Załącznik nr 1 do rozliczenia'!B242:C242)","v":""},null,{"$f":"'Załącznik nr 2 do rozliczenia'!H238","v":0},0,{"$f":"IF('Załącznik nr 1 do rozliczenia'!H242<0,ABS('Załącznik nr 1 do rozliczenia'!H242),0)","v":0},0,0,null,null,{"$f":"'Weryfikacja 2'!U96","v":0},0]
[{"$f":"'Załącznik nr 1 do rozliczenia'!A243","v":"95"},{"$f":"IF('Załącznik nr 1 do rozliczenia'!B243:C243=\"\",\"\",'Załącznik nr 1 do rozliczenia'!B243:C243)","v":""},null,{"$f":"'Załącznik nr 2 do rozliczenia'!H239","v":0},0,{"$f":"IF('Załącznik nr 1 do rozliczenia'!H243<0,ABS('Załącznik nr 1 do rozliczenia'!H243),0)","v":0},0,0,null,null,{"$f":"'Weryfikacja 2'!U97","v":0},0]
[{"$f":"'Załącznik nr 1 do rozliczenia'!A244","v":"96"},{"$f":"IF('Załącznik nr 1 do rozliczenia'!B244:C244=\"\",\"\",'Załącznik nr 1 do rozliczenia'!B244:C244)","v":""},null,{"$f":"'Załącznik nr 2 do rozliczenia'!H240","v":0},0,{"$f":"IF('Załącznik nr 1 do rozliczenia'!H244<0,ABS('Załącznik nr 1 do rozliczenia'!H244),0)","v":0},0,0,null,null,{"$f":"'Weryfikacja 2'!U98","v":0},0]
[{"$f":"'Załącznik nr 1 do rozliczenia'!A245","v":"97"},{"$f":"IF('Załącznik nr 1 do rozliczenia'!B245:C245=\"\",\"\",'Załącznik nr 1 do rozliczenia'!B245:C245)","v":""},null,{"$f":"'Załącznik nr 2 do rozliczenia'!H241","v":0},0,{"$f":"IF('Załącznik nr 1 do rozliczenia'!H245<0,ABS('Załącznik nr 1 do rozliczenia'!H245),0)","v":0},0,0,null,null,{"$f":"'Weryfikacja 2'!U99","v":0},0]
[{"$f":"'Załącznik nr 1 do rozliczenia'!A246","v":"98"},{"$f":"IF('Załącznik nr 1 do rozliczenia'!B246:C246=\"\",\"\",'Załącznik nr 1 do rozliczenia'!B246:C246)","v":""},null,{"$f":"'Załącznik nr 2 do rozliczenia'!H242","v":0},0,{"$f":"IF('Załącznik nr 1 do rozliczenia'!H246<0,ABS('Załącznik nr 1 do rozliczenia'!H246),0)","v":0},0,0,null,null,{"$f":"'Weryfikacja 2'!U100","v":0},0]
[{"$f":"'Załącznik nr 1 do rozliczenia'!A247","v":"99"},{"$f":"IF('Załącznik nr 1 do rozliczenia'!B247:C247=\"\",\"\",'Załącznik nr 1 do rozliczenia'!B247:C247)","v":""},null,{"$f":"'Załącznik nr 2 do rozliczenia'!H243","v":0},0,{"$f":"IF('Załącznik nr 1 do rozliczenia'!H247<0,ABS('Załącznik nr 1 do rozliczenia'!H247),0)","v":0},0,0,null,null,{"$f":"'Weryfikacja 2'!U101","v":0},0]
[{"$f":"'Załącznik nr 1 do rozliczenia'!A248","v":"100"},{"$f":"IF('Załącznik nr 1 do rozliczenia'!B248:C248=\"\",\"\",'Załącznik nr 1 do rozliczenia'!B248:C248)","v":""},null,{"$f":"'Załącznik nr 2 do rozliczenia'!H244","v":0},0,{"$f":"IF('Załącznik nr 1 do rozliczenia'!H248<0,ABS('Załącznik nr 1 do rozliczenia'!H248),0)","v":0},0,0,null,null,{"$f":"'Weryfikacja 2'!U102","v":0},0]
[{"$f":"'Załącznik nr 1 do rozliczenia'!A249","v":"101"},{"$f":"IF('Załącznik nr 1 do rozliczenia'!B249:C249=\"\",\"\",'Załącznik nr 1 do rozliczenia'!B249:C249)","v":""},null,{"$f":"'Załącznik nr 2 do rozliczenia'!H245","v":0},0,{"$f":"IF('Załącznik nr 1 do rozliczenia'!H249<0,ABS('Załącznik nr 1 do rozliczenia'!H249),0)","v":0},0,0,null,null,{"$f":"'Weryfikacja 2'!U103","v":0},0]
[{"$f":"'Załącznik nr 1 do rozliczenia'!A250","v":"102"},{"$f":"IF('Załącznik nr 1 do rozliczenia'!B250:C250=\"\",\"\",'Załącznik nr 1 do rozliczenia'!B250:C250)","v":""},null,{"$f":"'Załącznik nr 2 do rozliczenia'!H246","v":0},0,{"$f":"IF('Załącznik nr 1 do rozliczenia'!H250<0,ABS('Załącznik nr 1 do rozliczenia'!H250),0)","v":0},0,0,null,null,{"$f":"'Weryfikacja 2'!U104","v":0},0]
[{"$f":"'Załącznik nr 1 do rozliczenia'!A251","v":"103"},{"$f":"IF('Załącznik nr 1 do rozliczenia'!B251:C251=\"\",\"\",'Załącznik nr 1 do rozliczenia'!B251:C251)","v":""},null,{"$f":"'Załącznik nr 2 do rozliczenia'!H247","v":0},0,{"$f":"IF('Załącznik nr 1 do rozliczenia'!H251<0,ABS('Załącznik nr 1 do rozliczenia'!H251),0)","v":0},0,0,null,null,{"$f":"'Weryfikacja 2'!U105","v":0},0]
[{"$f":"'Załącznik nr 1 do rozliczenia'!A252","v":"104"},{"$f":"IF('Załącznik nr 1 do rozliczenia'!B252:C252=\"\",\"\",'Załącznik nr 1 do rozliczenia'!B252:C252)","v":""},null,{"$f":"'Załącznik nr 2 do rozliczenia'!H248","v":0},0,{"$f":"IF('Załącznik nr 1 do rozliczenia'!H252<0,ABS('Załącznik nr 1 do rozliczenia'!H252),0)","v":0},0,0,null,null,{"$f":"'Weryfikacja 2'!U106","v":0},0]
[{"$f":"'Załącznik nr 1 do rozliczenia'!A253","v":"105"},{"$f":"IF('Załącznik nr 1 do rozliczenia'!B253:C253=\"\",\"\",'Załącznik nr 1 do rozliczenia'!B253:C253)","v":""},null,{"$f":"'Załącznik nr 2 do rozliczenia'!H249","v":0},0,{"$f":"IF('Załącznik nr 1 do rozliczenia'!H253<0,ABS('Załącznik nr 1 do rozliczenia'!H253),0)","v":0},0,0,null,null,{"$f":"'Weryfikacja 2'!U107","v":0},0]
[{"$f":"'Załącznik nr 1 do rozliczenia'!A254","v":"106"},{"$f":"IF('Załącznik nr 1 do rozliczenia'!B254:C254=\"\",\"\",'Załącznik nr 1 do rozliczenia'!B254:C254)","v":""},null,{"$f":"'Załącznik nr 2 do rozliczenia'!H250","v":0},0,{"$f":"IF('Załącznik nr 1 do rozliczenia'!H254<0,ABS('Załącznik nr 1 do rozliczenia'!H254),0)","v":0},0,0,null,null,{"$f":"'Weryfikacja 2'!U108","v":0},0]
[{"$f":"'Załącznik nr 1 do rozliczenia'!A255","v":"107"},{"$f":"IF('Załącznik nr 1 do rozliczenia'!B255:C255=\"\",\"\",'Załącznik nr 1 do rozliczenia'!B255:C255)","v":""},null,{"$f":"'Załącznik nr 2 do rozliczenia'!H251","v":0},0,{"$f":"IF('Załącznik nr 1 do rozliczenia'!H255<0,ABS('Załącznik nr 1 do rozliczenia'!H255),0)","v":0},0,0,null,null,{"$f":"'Weryfikacja 2'!U109","v":0},0]
[{"$f":"'Załącznik nr 1 do rozliczenia'!A256","v":"108"},{"$f":"IF('Załącznik nr 1 do rozliczenia'!B256:C256=\"\",\"\",'Załącznik nr 1 do rozliczenia'!B256:C256)","v":""},null,{"$f":"'Załącznik nr 2 do rozliczenia'!H252","v":0},0,{"$f":"IF('Załącznik nr 1 do rozliczenia'!H256<0,ABS('Załącznik nr 1 do rozliczenia'!H256),0)","v":0},0,0,null,null,{"$f":"'Weryfikacja 2'!U110","v":0},0]
[{"$f":"'Załącznik nr 1 do rozliczenia'!A257","v":"109"},{"$f":"IF('Załącznik nr 1 do rozliczenia'!B257:C257=\"\",\"\",'Załącznik nr 1 do rozliczenia'!B257:C257)","v":""},null,{"$f":"'Załącznik nr 2 do rozliczenia'!H253","v":0},0,{"$f":"IF('Załącznik nr 1 do rozliczenia'!H257<0,ABS('Załącznik nr 1 do rozliczenia'!H257),0)","v":0},0,0,null,null,{"$f":"'Weryfikacja 2'!U111","v":0},0]
[{"$f":"'Załącznik nr 1 do rozliczenia'!A258","v":"110"},{"$f":"IF('Załącznik nr 1 do rozliczenia'!B258:C258=\"\",\"\",'Załącznik nr 1 do rozliczenia'!B258:C258)","v":""},null,{"$f":"'Załącznik nr 2 do rozliczenia'!H254","v":0},0,{"$f":"IF('Załącznik nr 1 do rozliczenia'!H258<0,ABS('Załącznik nr 1 do rozliczenia'!H258),0)","v":0},0,0,null,null,{"$f":"'Weryfikacja 2'!U112","v":0},0]
["Ogółem:",null,{"$f":"SUM(C152:C261)","v":0},{"$f":"SUM(D152:D261)","v":0},null,{"$f":"SUM(F152:F261)","v":0},null,null,{"$f":"SUM(I152:I261)","v":0},{"$f":"SUM(J152:J261)","v":0},0,{"$f":"SUMIF(L152:L261,\">0\")","v":0}]
[]
["B.3 Dane dotyczące linii komunikacyjnych "]
["MIESIĄC",null,null,null,{"$f":"'Załącznik nr 1 do rozliczenia'!D263","v":"MARZEC"},null,"2025 r."]
["Lp.","Nazwa linii komunikacyjnej","Liczba przewiezionych osób","Wielkość pracy eksploatacyjnej w okresie rozliczeniowym [wzkm]","Cena usługi [zł]","Deficyt w okresie rozliczeniowym [zł]","Część ceny usługi sfinansowana ze środków własnych organizatora  [zł / wzkm]","Procentowa wartość części ceny usługi sfinansowanej ze środków własnych organizatora [%]","Kwota środków własnych organizatora [zł]","Pobrana dopłata w okresie rozliczeniowym [zł]","Należna kwota dopłaty w okresie rozliczeniowym [zł]","Niewykorzystana kwota dopłaty w okresie rozliczeniowym [zł]"]
[null,1,"2","3","4","5","6","7","8","9","10","11"]
[{"$f":"'Załącznik nr 1 do rozliczenia'!A266","v":"1"},{"$f":"IF('Załącznik nr 1 do rozliczenia'!B266:C266=\"\",\"\",'Załącznik nr 1 do rozliczenia'!B266:C266)","v":""},null,{"$f":"'Załącznik nr 2 do rozliczenia'!H261","v":0},{"$f":"IFERROR(F268/D268,0)","v":0},{"$f":"IF('Załącznik nr 1 do rozliczenia'!H266<0,ABS('Załącznik nr 1 do rozliczenia'!H266),0)","v":0},{"$f":"IFERROR(I268/D268,0)","v":0},{"$f":"IFERROR(G268/E268,0)","v":0},null,null,{"$f":"'Weryfikacja 3'!U3","v":0},{"$f":"IF(J268-K268<0,0,J268-K268)","v":0}]
[{"$f":"'Załącznik nr 1 do rozliczenia'!A267","v":"2"},{"$f":"IF('Załącznik nr 1 do rozliczenia'!B267:C267=\"\",\"\",'Załącznik nr 1 do rozliczenia'!B267:C267)","v":""},null,{"$f":"'Załącznik nr 2 do rozliczenia'!H262","v":0},{"$f":"IFERROR(F269/D269,0)","v":0},{"$f":"IF('Załącznik nr 1 do rozliczenia'!H267<0,ABS('Załącznik nr 1 do rozliczenia'!H267),0)","v":0},{"$f":"IFERROR(I269/D269,0)","v":0},{"$f":"IFERROR(G269/E269,0)","v":0},null,null,{"$f":"'Weryfikacja 3'!U4","v":0},{"$f":"IF(J269-K269<0,0,J269-K269)","v":0}]
[{"$f":"'Załącznik nr 1 do rozliczenia'!A268","v":"3"},{"$f":"IF('Załącznik nr 1 do rozliczenia'!B268:C268=\"\",\"\",'Załącznik nr 1 do rozliczenia'!B268:C268)","v":""},null,{"$f":"'Załącznik nr 2 do rozliczenia'!H263","v":0},0,{"$f":"IF('Załącznik nr 1 do rozliczenia'!H268<0,ABS('Załącznik nr 1 do rozliczenia'!H268),0)","v":0},0,0,null,null,{"$f":"'Weryfikacja 3'!U5","v":0},0]
[{"$f":"'Załącznik nr 1 do rozliczenia'!A269","v":"4"},{"$f":"IF('Załącznik nr 1 do rozliczenia'!B269:C269=\"\",\"\",'Załącznik nr 1 do rozliczenia'!B269:C269)","v":""},null,{"$f":"'Załącznik nr 2 do rozliczenia'!H264","v":0},0,{"$f":"IF('Załącznik nr 1 do rozliczenia'!H269<0,ABS('Załącznik nr 1 do rozliczenia'!H269),0)","v":0},0,0,null,null,{"$f":"'Weryfikacja 3'!U6","v":0},0]
[{"$f":"'Załącznik nr 1 do rozliczenia'!A270","v":"5"},{"$f":"IF('Załącznik nr 1 do rozliczenia'!B270:C270=\"\",\"\",'Załącznik nr 1 do rozliczenia'!B270:C270)","v":""},null,{"$f":"'Załącznik nr 2 do rozliczenia'!H265","v":0},0,{"$f":"IF('Załącznik nr 1 do rozliczenia'!H270<0,ABS('Załącznik nr 1 do rozliczenia'!H270),0)","v":0},0,0,null,null,{"$f":"'Weryfikacja 3'!U7","v":0},0]
[{"$f":"'Załącznik nr 1 do rozliczenia'!A271","v":"6"},{"$f":"IF('Załącznik nr 1 do rozliczenia'!B271:C271=\"\",\"\",'Załącznik nr 1 do rozliczenia'!B271:C271)","v":""},null,{"$f":"'Załącznik nr 2 do rozliczenia'!H266","v":0},0,{"$f":"IF('Załącznik nr 1 do rozliczenia'!H271<0,ABS('Załącznik nr 1 do rozliczenia'!H271),0)","v":0},0,0,null,null,{"$f":"'Weryfikacja 3'!U8","v":0},0]
[{"$f":"'Załącznik nr 1 do rozliczenia'!A272","v":"7"},{"$f":"IF('Załącznik nr 1 do rozliczenia'!B272:C272=\"\",\"\",'Załącznik nr 1 do rozliczenia'!B272:C272)","v":""},null,{"$f":"'Załącznik nr 2 do rozliczenia'!H267","v":0},0,{"$f":"IF('Załącznik nr 1 do rozliczenia'!H272<0,ABS('Załącznik nr 1 do rozliczenia'!H272),0)","v":0},0,0,null,null,{"$f":"'Weryfikacja 3'!U9","v":0},0]
[{"$f":"'Załącznik nr 1 do rozliczenia'!A273","v":"8"},{"$f":"IF('Załącznik nr 1 do rozliczenia'!B273:C273=\"\",\"\",'Załącznik nr 1 do rozliczenia'!B273:C273)","v":""},null,{"$f":"'Załącznik nr 2 do rozliczenia'!H268","v":0},0,{"$f":"IF('Załącznik nr 1 do rozliczenia'!H273<0,ABS('Załącznik nr 1 do rozliczenia'!H273),0)","v":0},0,0,null,null,{"$f":"'Weryfikacja 3'!U10","v":0},0]
[{"$f":"'Załącznik nr 1 do rozliczenia'!A274","v":"9"},{"$f":"IF('Załącznik nr 1 do rozliczenia'!B274:C274=\"\",\"\",'Załącznik nr 1 do rozliczenia'!B274:C274)","v":""},null,{"$f":"'Załącznik nr 2 do rozliczenia'!H269","v":0},0,{"$f":"IF('Załącznik nr 1 do rozliczenia'!H274<0,ABS('Załącznik nr 1 do rozliczenia'!H274),0)","v":0},0,0,null,null,{"$f":"'Weryfikacja 3'!U11","v":0},0]
[{"$f":"'Załącznik nr 1 do rozliczenia'!A275","v":"10"},{"$f":"IF('Załącznik nr 1 do rozliczenia'!B275:C275=\"\",\"\",'Załącznik nr 1 do rozliczenia'!B275:C275)","v":""},null,{"$f":"'Załącznik nr 2 do rozliczenia'!H270","v":0},0,{"$f":"IF('Załącznik nr 1 do rozliczenia'!H275<0,ABS('Załącznik nr 1 do rozliczenia'!H275),0)","v":0},0,0,null,null,{"$f":"'Weryfikacja 3'!U12","v":0},0]
[{"$f":"'Załącznik nr 1 do rozliczenia'!A276","v":"11"},{"$f":"IF('Załącznik nr 1 do rozliczenia'!B276:C276=\"\",\"\",'Załącznik nr 1 do rozliczenia'!B276:C276)","v":""},null,{"$f":"'Załącznik nr 2 do rozliczenia'!H271","v":0},0,{"$f":"IF('Załącznik nr 1 do rozliczenia'!H276<0,ABS('Załącznik nr 1 do rozliczenia'!H276),0)","v":0},0,0,null,null,{"$f":"'Weryfikacja 3'!U13","v":0},0]
[{"$f":"'Załącznik nr 1 do rozliczenia'!A277","v":"12"},{"$f":"IF('Załącznik nr 1 do rozliczenia'!B277:C277=\"\",\"\",'Załącznik nr 1 do rozliczenia'!B277:C277)","v":""},null,{"$f":"'Załącznik nr 2 do rozliczenia'!H272","v":0},0,{"$f":"IF('Załącznik nr 1 do rozliczenia'!H277<0,ABS('Załącznik nr 1 do rozliczenia'!H277),0)","v":0},0,0,null,null,{"$f":"'Weryfikacja 3'!U14","v":0},0]
[{"$f":"'Załącznik nr 1 do rozliczenia'!A278","v":"13"},{"$f":"IF('Załącznik nr 1 do rozliczenia'!B278:C278=\"\",\"\",'Załącznik nr 1 do rozliczenia'!B278:C278)","v":""},null,{"$f":"'Załącznik nr 2 do rozliczenia'!H273","v":0},0,{"$f":"IF('Załącznik nr 1 do rozliczenia'!H278<0,ABS('Załącznik nr 1 do rozliczenia'!H278),0)","v":0},0,0,null,null,{"$f":"'Weryfikacja 3'!U15","v":0},0]
[{"$f":"'Załącznik nr 1 do rozliczenia'!A279","v":"14"},{"$f":"IF('Załącznik nr 1 do rozliczenia'!B279:C279=\"\",\"\",'Załącznik nr 1 do rozliczenia'!B279:C279)","v":""},null,{"$f":"'Załącznik nr 2 do rozliczenia'!H274","v":0},0,{"$f":"IF('Załącznik nr 1 do rozliczenia'!H279<0,ABS('Załącznik nr 1 do rozliczenia'!H279),0)","v":0},0,0,null,null,{"$f":"'Weryfikacja 3'!U16","v":0},0]
[{"$f":"'Załącznik nr 1 do rozliczenia'!A280","v":"15"},{"$f":"IF('Załącznik nr 1 do rozliczenia'!B280:C280=\"\",\"\",'Załącznik nr 1 do rozliczenia'!B280:C280)","v":""},null,{"$f":"'Załącznik nr 2 do rozliczenia'!H275","v":0},0,{"$f":"IF('Załącznik nr 1 do rozliczenia'!H280<0,ABS('Załącznik nr 1 do rozliczenia'!H280),0)","v":0},0,0,null,null,{"$f":"'Weryfikacja 3'!U17","v":0},0]
[{"$f":"'Załącznik nr 1 do rozliczenia'!A281","v":"16"},{"$f":"IF('Załącznik nr 1 do rozliczenia'!B281:C281=\"\",\"\",'Załącznik nr 1 do rozliczenia'!B281:C281)","v":""},null,{"$f":"'Załącznik nr 2 do rozliczenia'!H276","v":0},0,{"$f":"IF('Załącznik nr 1 do rozliczenia'!H281<0,ABS('Załącznik nr 1 do rozliczenia'!H281),0)","v":0},0,0,null,null,{"$f":"'Weryfikacja 3'!U18","v":0},0]
[{"$f":"'Załącznik nr 1 do rozliczenia'!A282","v":"17"},{"$f":"IF('Załącznik nr 1 do rozliczenia'!B282:C282=\"\",\"\",'Załącznik nr 1 do rozliczenia'!B282:C282)","v":""},null,{"$f":"'Załącznik nr 2 do rozliczenia'!H277","v":0},0,{"$f":"IF('Załącznik nr 1 do rozliczenia'!H282<0,ABS('Załącznik nr 1 do rozliczenia'!H282),0)","v":0},0,0,null,null,{"$f":"'Weryfikacja 3'!U19","v":0},0]
[{"$f":"'Załącznik nr 1 do rozliczenia'!A283","v":"18"},{"$f":"IF('Załącznik nr 1 do rozliczenia'!B283:C283=\"\",\"\",'Załącznik nr 1 do rozliczenia'!B283:C283)","v":""},null,{"$f":"'Załącznik nr 2 do rozliczenia'!H278","v":0},0,{"$f":"IF('Załącznik nr 1 do rozliczenia'!H283<0,ABS('Załącznik nr 1 do rozliczenia'!H283),0)","v":0},0,0,null,null,{"$f":"'Weryfikacja 3'!U20","v":0},0]
[{"$f":"'Załącznik nr 1 do rozliczenia'!A284","v":"19"},{"$f":"IF('Załącznik nr 1 do rozliczenia'!B284:C284=\"\",\"\",'Załącznik nr 1 do rozliczenia'!B284:C284)","v":""},null,{"$f":"'Załącznik nr 2 do rozliczenia'!H279","v":0},0,{"$f":"IF('Załącznik nr 1 do rozliczenia'!H284<0,ABS('Załącznik nr 1 do rozliczenia'!H284),0)","v":0},0,0,null,null,{"$f":"'Weryfikacja 3'!U21","v":0},0]
[{"$f":"'Załącznik nr 1 do rozliczenia'!A285","v":"20"},{"$f":"IF('Załącznik nr 1 do rozliczenia'!B285:C285=\"\",\"\",'Załącznik nr 1 do rozliczenia'!B285:C285)","v":""},null,{"$f":"'Załącznik nr 2 do rozliczenia'!H280","v":0},0,{"$f":"IF('Załącznik nr 1 do rozliczenia'!H285<0,ABS('Załącznik nr 1 do rozliczenia'!H285),0)","v":0},0,0,null,null,{"$f":"'Weryfikacja 3'!U22","v":0},0]
[{"$f":"'Załącznik nr 1 do rozliczenia'!A286","v":"21"},{"$f":"IF('Załącznik nr 1 do rozliczenia'!B286:C286=\"\",\"\",'Załącznik nr 1 do rozliczenia'!B286:C286)","v":""},null,{"$f":"'Załącznik nr 2 do rozliczenia'!H281","v":0},0,{"$f":"IF('Załącznik nr 1 do rozliczenia'!H286<0,ABS('Załącznik nr 1 do rozliczenia'!H286),0)","v":0},0,0,null,null,{"$f":"'Weryfikacja 3'!U23","v":0},0]
[{"$f":"'Załącznik nr 1 do rozliczenia'!A287","v":"22"},{"$f":"IF('Załącznik nr 1 do rozliczenia'!B287:C287=\"\",\"\",'Załącznik nr 1 do rozliczenia'!B287:C287)","v":""},null,{"$f":"'Załącznik nr 2 do rozliczenia'!H282","v":0},0,{"$f":"IF('Załącznik nr 1 do rozliczenia'!H287<0,ABS('Załącznik nr 1 do rozliczenia'!H287),0)","v":0},0,0,null,null,{"$f":"'Weryfikacja 3'!U24","v":0},0]
[{"$f":"'Załącznik nr 1 do rozliczenia'!A288","v":"23"},{"$f":"IF('Załącznik nr 1 do rozliczenia'!B288:C288=\"\",\"\",'Załącznik nr 1 do rozliczenia'!B288:C288)","v":""},null,{"$f":"'Załącznik nr 2 do rozliczenia'!H283","v":0},0,{"$f":"IF('Załącznik nr 1 do rozliczenia'!H288<0,ABS('Załącznik nr 1 do rozliczenia'!H288),0)","v":0},0,0,null,null,{"$f":"'Weryfikacja 3'!U25","v":0},0]
[{"$f":"'Załącznik nr 1 do rozliczenia'!A289","v":"24"},{"$f":"IF('Załącznik nr 1 do rozliczenia'!B289:C289=\"\",\"\",'Załącznik nr 1 do rozliczenia'!B289:C289)","v":""},null,{"$f":"'Załącznik nr 2 do rozliczenia'!H284","v":0},0,{"$f":"IF('Załącznik nr 1 do rozliczenia'!H289<0,ABS('Załącznik nr 1 do rozliczenia'!H289),0)","v":0},0,0,null,null,{"$f":"'Weryfikacja 3'!U26","v":0},0]
[{"$f":"'Załącznik nr 1 do rozliczenia'!A290","v":"25"},{"$f":"IF('Załącznik nr 1 do rozliczenia'!B290:C290=\"\",\"\",'Załącznik nr 1 do rozliczenia'!B290:C290)","v":""},null,{"$f":"'Załącznik nr 2 do rozliczenia'!H285","v":0},0,{"$f":"IF('Załącznik nr 1 do rozliczenia'!H290<0,ABS('Załącznik nr 1 do rozliczenia'!H290),0)","v":0},0,0,null,null,{"$f":"'Weryfikacja 3'!U27","v":0},0]
[{"$f":"'Załącznik nr 1 do rozliczenia'!A291","v":"26"},{"$f":"IF('Załącznik nr 1 do rozliczenia'!B291:C291=\"\",\"\",'Załącznik nr 1 do rozliczenia'!B291:C291)","v":""},null,{"$f":"'Załącznik nr 2 do rozliczenia'!H286","v":0},0,{"$f":"IF('Załącznik nr 1 do rozliczenia'!H291<0,ABS('Załącznik nr 1 do rozliczenia'!H291),0)","v":0},0,0,null,null,{"$f":"'Weryfikacja 3'!U28","v":0},0]
[{"$f":"'Załącznik nr 1 do rozliczenia'!A292","v":"27"},{"$f":"IF('Załącznik nr 1 do rozliczenia'!B292:C292=\"\",\"\",'Załącznik nr 1 do rozliczenia'!B292:C292)","v":""},null,{"$f":"'Załącznik nr 2 do rozliczenia'!H287","v":0},0,{"$f":"IF('Załącznik nr 1 do rozliczenia'!H292<0,ABS('Załącznik nr 1 do rozliczenia'!H292),0)","v":0},0,0,null,null,{"$f":"'Weryfikacja 3'!U29","v":0},0]
[{"$f":"'Załącznik nr 1 do rozliczenia'!A293","v":"28"},{"$f":"IF('Załącznik nr 1 do rozliczenia'!B293:C293=\"\",\"\",'Załącznik nr 1 do rozliczenia'!B293:C293)","v":""},null,{"$f":"'Załącznik nr 2 do rozliczenia'!H288","v":0},0,{"$f":"IF('Załącznik nr 1 do rozliczenia'!H293<0,ABS('Załącznik nr 1 do rozliczenia'!H293),0)","v":0},0,0,null,null,{"$f":"'Weryfikacja 3'!U30","v":0},0]
[{"$f":"'Załącznik nr 1 do rozliczenia'!A294","v":"29"},{"$f":"IF('Załącznik nr 1 do rozliczenia'!B294:C294=\"\",\"\",'Załącznik nr 1 do rozliczenia'!B294:C294)","v":""},null,{"$f":"'Załącznik nr 2 do rozliczenia'!H289","v":0},0,{"$f":"IF('Załącznik nr 1 do rozliczenia'!H294<0,ABS('Załącznik nr 1 do rozliczenia'!H294),0)","v":0},0,0,null,null,{"$f":"'Weryfikacja 3'!U31","v":0},0]
[{"$f":"'Załącznik nr 1 do rozliczenia'!A295","v":"30"},{"$f":"IF('Załącznik nr 1 do rozliczenia'!B295:C295=\"\",\"\",'Załącznik nr 1 do rozliczenia'!B295:C295)","v":""},null,{"$f":"'Załącznik nr 2 do rozliczenia'!H290","v":0},0,{"$f":"IF('Załącznik nr 1 do rozliczenia'!H295<0,ABS('Załącznik nr 1 do rozliczenia'!H295),0)","v":0},0,0,null,null,{"$f":"'Weryfikacja 3'!U32","v":0},0]
[{"$f":"'Załącznik nr 1 do rozliczenia'!A296","v":"31"},{"$f":"IF('Załącznik nr 1 do rozliczenia'!B296:C296=\"\",\"\",'Załącznik nr 1 do rozliczenia'!B296:C296)","v":""},null,{"$f":"'Załącznik nr 2 do rozliczenia'!H291","v":0},0,{"$f":"IF('Załącznik nr 1 do rozliczenia'!H296<0,ABS('Załącznik nr 1 do rozliczenia'!H296),0)","v":0},0,0,null,null,{"$f":"'Weryfikacja 3'!U33","v":0},0]
[{"$f":"'Załącznik nr 1 do rozliczenia'!A297","v":"32"},{"$f":"IF('Załącznik nr 1 do rozliczenia'!B297:C297=\"\",\"\",'Załącznik nr 1 do rozliczenia'!B297:C297)","v":""},null,{"$f":"'Załącznik nr 2 do rozliczenia'!H292","v":0},0,{"$f":"IF('Załącznik nr 1 do rozliczenia'!H297<0,ABS('Załącznik nr 1 do rozliczenia'!H297),0)","v":0},0,0,null,null,{"$f":"'Weryfikacja 3'!U34","v":0},0]
[{"$f":"'Załącznik nr 1 do rozliczenia'!A298","v":"33"},{"$f":"IF('Załącznik nr 1 do rozliczenia'!B298:C298=\"\",\"\",'Załącznik nr 1 do rozliczenia'!B298:C298)","v":""},null,{"$f":"'Załącznik nr 2 do rozliczenia'!H293","v":0},0,{"$f":"IF('Załącznik nr 1 do rozliczenia'!H298<0,ABS('Załącznik nr 1 do rozliczenia'!H298),0)","v":0},0,0,null,null,{"$f":"'Weryfikacja 3'!U35","v":0},0]
[{"$f":"'Załącznik nr 1 do rozliczenia'!A299","v":"34"},{"$f":"IF('Załącznik nr 1 do rozliczenia'!B299:C299=\"\",\"\",'Załącznik nr 1 do rozliczenia'!B299:C299)","v":""},null,{"$f":"'Załącznik nr 2 do rozliczenia'!H294","v":0},0,{"$f":"IF('Załącznik nr 1 do rozliczenia'!H299<0,ABS('Załącznik nr 1 do rozliczenia'!H299),0)","v":0},0,0,null,null,{"$f":"'Weryfikacja 3'!U36","v":0},0]
[{"$f":"'Załącznik nr 1 do rozliczenia'!A300","v":"35"},{"$f":"IF('Załącznik nr 1 do rozliczenia'!B300:C300=\"\",\"\",'Załącznik nr 1 do rozliczenia'!B300:C300)","v":""},null,{"$f":"'Załącznik nr 2 do rozliczenia'!H295","v":0},0,{"$f":"IF('Załącznik nr 1 do rozliczenia'!H300<0,ABS('Załącznik nr 1 do rozliczenia'!H300),0)","v":0},0,0,null,null,{"$f":"'Weryfikacja 3'!U37","v":0},0]
[{"$f":"'Załącznik nr 1 do rozliczenia'!A301","v":"36"},{"$f":"IF('Załącznik nr 1 do rozliczenia'!B301:C301=\"\",\"\",'Załącznik nr 1 do rozliczenia'!B301:C301)","v":""},null,{"$f":"'Załącznik nr 2 do rozliczenia'!H296","v":0},0,{"$f":"IF('Załącznik nr 1 do rozliczenia'!H301<0,ABS('Załącznik nr 1 do rozliczenia'!H301),0)","v":0},0,0,null,null,{"$f":"'Weryfikacja 3'!U38","v":0},0]
[{"$f":"'Załącznik nr 1 do rozliczenia'!A302","v":"37"},{"$f":"IF('Załącznik nr 1 do rozliczenia'!B302:C302=\"\",\"\",'Załącznik nr 1 do rozliczenia'!B302:C302)","v":""},null,{"$f":"'Załącznik nr 2 do rozliczenia'!H297","v":0},0,{"$f":"IF('Załącznik nr 1 do rozliczenia'!H302<0,ABS('Załącznik nr 1 do rozliczenia'!H302),0)","v":0},0,0,null,null,{"$f":"'Weryfikacja 3'!U39","v":0},0]
[{"$f":"'Załącznik nr 1 do rozliczenia'!A303","v":"38"},{"$f":"IF('Załącznik nr 1 do rozliczenia'!B303:C303=\"\",\"\",'Załącznik nr 1 do rozliczenia'!B303:C303)","v":""},null,{"$f":"'Załącznik nr 2 do rozliczenia'!H298","v":0},0,{"$f":"IF('Załącznik nr 1 do rozliczenia'!H303<0,ABS('Załącznik nr 1 do rozliczenia'!H303),0)","v":0},0,0,null,null,{"$f":"'Weryfikacja 3'!U40","v":0},0]
[{"$f":"'Załącznik nr 1 do rozliczenia'!A304","v":"39"},{"$f":"IF('Załącznik nr 1 do rozliczenia'!B304:C304=\"\",\"\",'Załącznik nr 1 do rozliczenia'!B304:C304)","v":""},null,{"$f":"'Załącznik nr 2 do rozliczenia'!H299","v":0},0,{"$f":"IF('Załącznik nr 1 do rozliczenia'!H304<0,ABS('Załącznik nr 1 do rozliczenia'!H304),0)","v":0},0,0,null,null,{"$f":"'Weryfikacja 3'!U41","v":0},0]
[{"$f":"'Załącznik nr 1 do rozliczenia'!A305","v":"40"},{"$f":"IF('Załącznik nr 1 do rozliczenia'!B305:C305=\"\",\"\",'Załącznik nr 1 do rozliczenia'!B305:C305)","v":""},null,{"$f":"'Załącznik nr 2 do rozliczenia'!H300","v":0},0,{"$f":"IF('Załącznik nr 1 do rozliczenia'!H305<0,ABS('Załącznik nr 1 do rozliczenia'!H305),0)","v":0},0,0,null,null,{"$f":"'Weryfikacja 3'!U42","v":0},0]
[{"$f":"'Załącznik nr 1 do rozliczenia'!A306","v":"41"},{"$f":"IF('Załącznik nr 1 do rozliczenia'!B306:C306=\"\",\"\",'Załącznik nr 1 do rozliczenia'!B306:C306)","v":""},null,{"$f":"'Załącznik nr 2 do rozliczenia'!H301","v":0},0,{"$f":"IF('Załącznik nr 1 do rozliczenia'!H306<0,ABS('Załącznik nr 1 do rozliczenia'!H306),0)","v":0},0,0,null,null,{"$f":"'Weryfikacja 3'!U43","v":0},0]
[{"$f":"'Załącznik nr 1 do rozliczenia'!A307","v":"42"},{"$f":"IF('Załącznik nr 1 do rozliczenia'!B307:C307=\"\",\"\",'Załącznik nr 1 do rozliczenia'!B307:C307)","v":""},null,{"$f":"'Załącznik nr 2 do rozliczenia'!H302","v":0},0,{"$f":"IF('Załącznik nr 1 do rozliczenia'!H307<0,ABS('Załącznik nr 1 do rozliczenia'!H307),0)","v":0},0,0,null,null,{"$f":"'Weryfikacja 3'!U44","v":0},0]
[{"$f":"'Załącznik nr 1 do rozliczenia'!A308","v":"43"},{"$f":"IF('Załącznik nr 1 do rozliczenia'!B308:C308=\"\",\"\",'Załącznik nr 1 do rozliczenia'!B308:C308)","v":""},null,{"$f":"'Załącznik nr 2 do rozliczenia'!H303","v":0},0,{"$f":"IF('Załącznik nr 1 do rozliczenia'!H308<0,ABS('Załącznik nr 1 do rozliczenia'!H308),0)","v":0},0,0,null,null,{"$f":"'Weryfikacja 3'!U45","v":0},0]
[{"$f":"'Załącznik nr 1 do rozliczenia'!A309","v":"44"},{"$f":"IF('Załącznik nr 1 do rozliczenia'!B309:C309=\"\",\"\",'Załącznik nr 1 do rozliczenia'!B309:C309)","v":""},null,{"$f":"'Załącznik nr 2 do rozliczenia'!H304","v":0},0,{"$f":"IF('Załącznik nr 1 do rozliczenia'!H309<0,ABS('Załącznik nr 1 do rozliczenia'!H309),0)","v":0},0,0,null,null,{"$f":"'Weryfikacja 3'!U46","v":0},0]
[{"$f":"'Załącznik nr 1 do rozliczenia'!A310","v":"45"},{"$f":"IF('Załącznik nr 1 do rozliczenia'!B310:C310=\"\",\"\",'Załącznik nr 1 do rozliczenia'!B310:C310)","v":""},null,{"$f":"'Załącznik nr 2 do rozliczenia'!H305","v":0},0,{"$f":"IF('Załącznik nr 1 do rozliczenia'!H310<0,ABS('Załącznik nr 1 do rozliczenia'!H310),0)","v":0},0,0,null,null,{"$f":"'Weryfikacja 3'!U47","v":0},0]
[{"$f":"'Załącznik nr 1 do rozliczenia'!A311","v":"46"},{"$f":"IF('Załącznik nr 1 do rozliczenia'!B311:C311=\"\",\"\",'Załącznik nr 1 do rozliczenia'!B311:C311)","v":""},null,{"$f":"'Załącznik nr 2 do rozliczenia'!H306","v":0},0,{"$f":"IF('Załącznik nr 1 do rozliczenia'!H311<0,ABS('Załącznik nr 1 do rozliczenia'!H311),0)","v":0},0,0,null,null,{"$f":"'Weryfikacja 3'!U48","v":0},0]
[{"$f":"'Załącznik nr 1 do rozliczenia'!A312","v":"47"},{"$f":"IF('Załącznik nr 1 do rozliczenia'!B312:C312=\"\",\"\",'Załącznik nr 1 do rozliczenia'!B312:C312)","v":""},null,{"$f":"'Załącznik nr 2 do rozliczenia'!H307","v":0},0,{"$f":"IF('Załącznik nr 1 do rozliczenia'!H312<0,ABS('Załącznik nr 1 do rozliczenia'!H312),0)","v":0},0,0,null,null,{"$f":"'Weryfikacja 3'!U49","v":0},0]
[{"$f":"'Załącznik nr 1 do rozliczenia'!A313","v":"48"},{"$f":"IF('Załącznik nr 1 do rozliczenia'!B313:C313=\"\",\"\",'Załącznik nr 1 do rozliczenia'!B313:C313)","v":""},null,{"$f":"'Załącznik nr 2 do rozliczenia'!H308","v":0},0,{"$f":"IF('Załącznik nr 1 do rozliczenia'!H313<0,ABS('Załącznik nr 1 do rozliczenia'!H313),0)","v":0},0,0,null,null,{"$f":"'Weryfikacja 3'!U50","v":0},0]
[{"$f":"'Załącznik nr 1 do rozliczenia'!A314","v":"49"},{"$f":"IF('Załącznik nr 1 do rozliczenia'!B314:C314=\"\",\"\",'Załącznik nr 1 do rozliczenia'!B314:C314)","v":""},null,{"$f":"'Załącznik nr 2 do rozliczenia'!H309","v":0},0,{"$f":"IF('Załącznik nr 1 do rozliczenia'!H314<0,ABS('Załącznik nr 1 do rozliczenia'!H314),0)","v":0},0,0,null,null,{"$f":"'Weryfikacja 3'!U51","v":0},0]
[{"$f":"'Załącznik nr 1 do rozliczenia'!A315","v":"50"},{"$f":"IF('Załącznik nr 1 do rozliczenia'!B315:C315=\"\",\"\",'Załącznik nr 1 do rozliczenia'!B315:C315)","v":""},null,{"$f":"'Załącznik nr 2 do rozliczenia'!H310","v":0},0,{"$f":"IF('Załącznik nr 1 do rozliczenia'!H315<0,ABS('Załącznik nr 1 do rozliczenia'!H315),0)","v":0},0,0,null,null,{"$f":"'Weryfikacja 3'!U52","v":0},0]
[{"$f":"'Załącznik nr 1 do rozliczenia'!A316","v":"51"},{"$f":"IF('Załącznik nr 1 do rozliczenia'!B316:C316=\"\",\"\",'Załącznik nr 1 do rozliczenia'!B316:C316)","v":""},null,{"$f":"'Załącznik nr 2 do rozliczenia'!H311","v":0},0,{"$f":"IF('Załącznik nr 1 do rozliczenia'!H316<0,ABS('Załącznik nr 1 do rozliczenia'!H316),0)","v":0},0,0,null,null,{"$f":"'Weryfikacja 3'!U53","v":0},0]
[{"$f":"'Załącznik nr 1 do rozliczenia'!A317","v":"52"},{"$f":"IF('Załącznik nr 1 do rozliczenia'!B317:C317=\"\",\"\",'Załącznik nr 1 do rozliczenia'!B317:C317)","v":""},null,{"$f":"'Załącznik nr 2 do rozliczenia'!H312","v":0},0,{"$f":"IF('Załącznik nr 1 do rozliczenia'!H317<0,ABS('Załącznik nr 1 do rozliczenia'!H317),0)","v":0},0,0,null,null,{"$f":"'Weryfikacja 3'!U54","v":0},0]
[{"$f":"'Załącznik nr 1 do rozliczenia'!A318","v":"53"},{"$f":"IF('Załącznik nr 1 do rozliczenia'!B318:C318=\"\",\"\",'Załącznik nr 1 do rozliczenia'!B318:C318)","v":""},null,{"$f":"'Załącznik nr 2 do rozliczenia'!H313","v":0},0,{"$f":"IF('Załącznik nr 1 do rozliczenia'!H318<0,ABS('Załącznik nr 1 do rozliczenia'!H318),0)","v":0},0,0,null,null,{"$f":"'Weryfikacja 3'!U55","v":0},0]
[{"$f":"'Załącznik nr 1 do rozliczenia'!A319","v":"54"},{"$f":"IF('Załącznik nr 1 do rozliczenia'!B319:C319=\"\",\"\",'Załącznik nr 1 do rozliczenia'!B319:C319)","v":""},null,{"$f":"'Załącznik nr 2 do rozliczenia'!H314","v":0},0,{"$f":"IF('Załącznik nr 1 do rozliczenia'!H319<0,ABS('Załącznik nr 1 do rozliczenia'!H319),0)","v":0},0,0,null,null,{"$f":"'Weryfikacja 3'!U56","v":0},0]
[{"$f":"'Załącznik nr 1 do rozliczenia'!A320","v":"55"},{"$f":"IF('Załącznik nr 1 do rozliczenia'!B320:C320=\"\",\"\",'Załącznik nr 1 do rozliczenia'!B320:C320)","v":""},null,{"$f":"'Załącznik nr 2 do rozliczenia'!H315","v":0},0,{"$f":"IF('Załącznik nr 1 do rozliczenia'!H320<0,ABS('Załącznik nr 1 do rozliczenia'!H320),0)","v":0},0,0,null,null,{"$f":"'Weryfikacja 3'!U57","v":0},0]
[{"$f":"'Załącznik nr 1 do rozliczenia'!A321","v":"56"},{"$f":"IF('Załącznik nr 1 do rozliczenia'!B321:C321=\"\",\"\",'Załącznik nr 1 do rozliczenia'!B321:C321)","v":""},null,{"$f":"'Załącznik nr 2 do rozliczenia'!H316","v":0},0,{"$f":"IF('Załącznik nr 1 do rozliczenia'!H321<0,ABS('Załącznik nr 1 do rozliczenia'!H321),0)","v":0},0,0,null,null,{"$f":"'Weryfikacja 3'!U58","v":0},0]
[{"$f":"'Załącznik nr 1 do rozliczenia'!A322","v":"57"},{"$f":"IF('Załącznik nr 1 do rozliczenia'!B322:C322=\"\",\"\",'Załącznik nr 1 do rozliczenia'!B322:C322)","v":""},null,{"$f":"'Załącznik nr 2 do rozliczenia'!H317","v":0},0,{"$f":"IF('Załącznik nr 1 do rozliczenia'!H322<0,ABS('Załącznik nr 1 do rozliczenia'!H322),0)","v":0},0,0,null,null,{"$f":"'Weryfikacja 3'!U59","v":0},0]
[{"$f":"'Załącznik nr 1 do rozliczenia'!A323","v":"58"},{"$f":"IF('Załącznik nr 1 do rozliczenia'!B323:C323=\"\",\"\",'Załącznik nr 1 do rozliczenia'!B323:C323)","v":""},null,{"$f":"'Załącznik nr 2 do rozliczenia'!H318","v":0},0,{"$f":"IF('Załącznik nr 1 do rozliczenia'!H323<0,ABS('Załącznik nr 1 do rozliczenia'!H323),0)","v":0},0,0,null,null,{"$f":"'Weryfikacja 3'!U60","v":0},0]
[{"$f":"'Załącznik nr 1 do rozliczenia'!A324","v":"59"},{"$f":"IF('Załącznik nr 1 do rozliczenia'!B324:C324=\"\",\"\",'Załącznik nr 1 do rozliczenia'!B324:C324)","v":""},null,{"$f":"'Załącznik nr 2 do rozliczenia'!H319","v":0},0,{"$f":"IF('Załącznik nr 1 do rozliczenia'!H324<0,ABS('Załącznik nr 1 do rozliczenia'!H324),0)","v":0},0,0,null,null,{"$f":"'Weryfikacja 3'!U61","v":0},0]
[{"$f":"'Załącznik nr 1 do rozliczenia'!A325","v":"60"},{"$f":"IF('Załącznik nr 1 do rozliczenia'!B325:C325=\"\",\"\",'Załącznik nr 1 do rozliczenia'!B325:C325)","v":""},null,{"$f":"'Załącznik nr 2 do rozliczenia'!H320","v":0},0,{"$f":"IF('Załącznik nr 1 do rozliczenia'!H325<0,ABS('Załącznik nr 1 do rozliczenia'!H325),0)","v":0},0,0,null,null,{"$f":"'Weryfikacja 3'!U62","v":0},0]
[{"$f":"'Załącznik nr 1 do rozliczenia'!A326","v":"61"},{"$f":"IF('Załącznik nr 1 do rozliczenia'!B326:C326=\"\",\"\",'Załącznik nr 1 do rozliczenia'!B326:C326)","v":""},null,{"$f":"'Załącznik nr 2 do rozliczenia'!H321","v":0},0,{"$f":"IF('Załącznik nr 1 do rozliczenia'!H326<0,ABS('Załącznik nr 1 do rozliczenia'!H326),0)","v":0},0,0,null,null,{"$f":"'Weryfikacja 3'!U63","v":0},0]
[{"$f":"'Załącznik nr 1 do rozliczenia'!A327","v":"62"},{"$f":"IF('Załącznik nr 1 do rozliczenia'!B327:C327=\"\",\"\",'Załącznik nr 1 do rozliczenia'!B327:C327)","v":""},null,{"$f":"'Załącznik nr 2 do rozliczenia'!H322","v":0},0,{"$f":"IF('Załącznik nr 1 do rozliczenia'!H327<0,ABS('Załącznik nr 1 do rozliczenia'!H327),0)","v":0},0,0,null,null,{"$f":"'Weryfikacja 3'!U64","v":0},0]
[{"$f":"'Załącznik nr 1 do rozliczenia'!A328","v":"63"},{"$f":"IF('Załącznik nr 1 do rozliczenia'!B328:C328=\"\",\"\",'Załącznik nr 1 do rozliczenia'!B328:C328)","v":""},null,{"$f":"'Załącznik nr 2 do rozliczenia'!H323","v":0},0,{"$f":"IF('Załącznik nr 1 do rozliczenia'!H328<0,ABS('Załącznik nr 1 do rozliczenia'!H328),0)","v":0},0,0,null,null,{"$f":"'Weryfikacja 3'!U65","v":0},0]
[{"$f":"'Załącznik nr 1 do rozliczenia'!A329","v":"64"},{"$f":"IF('Załącznik nr 1 do rozliczenia'!B329:C329=\"\",\"\",'Załącznik nr 1 do rozliczenia'!B329:C329)","v":""},null,{"$f":"'Załącznik nr 2 do rozliczenia'!H324","v":0},0,{"$f":"IF('Załącznik nr 1 do rozliczenia'!H329<0,ABS('Załącznik nr 1 do rozliczenia'!H329),0)","v":0},0,0,null,null,{"$f":"'Weryfikacja 3'!U66","v":0},0]
[{"$f":"'Załącznik nr 1 do rozliczenia'!A330","v":"65"},{"$f":"IF('Załącznik nr 1 do rozliczenia'!B330:C330=\"\",\"\",'Załącznik nr 1 do rozliczenia'!B330:C330)","v":""},null,{"$f":"'Załącznik nr 2 do rozliczenia'!H325","v":0},0,{"$f":"IF('Załącznik nr 1 do rozliczenia'!H330<0,ABS('Załącznik nr 1 do rozliczenia'!H330),0)","v":0},0,0,null,null,{"$f":"'Weryfikacja 3'!U67","v":0},0]
[{"$f":"'Załącznik nr 1 do rozliczenia'!A331","v":"66"},{"$f":"IF('Załącznik nr 1 do rozliczenia'!B331:C331=\"\",\"\",'Załącznik nr 1 do rozliczenia'!B331:C331)","v":""},null,{"$f":"'Załącznik nr 2 do rozliczenia'!H326","v":0},{"$f":"IFERROR(F333/D333,0)","v":0},{"$f":"IF('Załącznik nr 1 do rozliczenia'!H331<0,ABS('Załącznik nr 1 do rozliczenia'!H331),0)","v":0},{"$f":"IFERROR(I333/D333,0)","v":0},{"$f":"IFERROR(G333/E333,0)","v":0},null,null,{"$f":"'Weryfikacja 3'!U68","v":0},{"$f":"IF(J333-K333<0,0,J333-K333)","v":0}]
[{"$f":"'Załącznik nr 1 do rozliczenia'!A332","v":"67"},{"$f":"IF('Załącznik nr 1 do rozliczenia'!B332:C332=\"\",\"\",'Załącznik nr 1 do rozliczenia'!B332:C332)","v":""},null,{"$f":"'Załącznik nr 2 do rozliczenia'!H327","v":0},0,{"$f":"IF('Załącznik nr 1 do rozliczenia'!H332<0,ABS('Załącznik nr 1 do rozliczenia'!H332),0)","v":0},0,0,null,null,{"$f":"'Weryfikacja 3'!U69","v":0},0]
[{"$f":"'Załącznik nr 1 do rozliczenia'!A333","v":"68"},{"$f":"IF('Załącznik nr 1 do rozliczenia'!B333:C333=\"\",\"\",'Załącznik nr 1 do rozliczenia'!B333:C333)","v":""},null,{"$f":"'Załącznik nr 2 do rozliczenia'!H328","v":0},0,{"$f":"IF('Załącznik nr 1 do rozliczenia'!H333<0,ABS('Załącznik nr 1 do rozliczenia'!H333),0)","v":0},0,0,null,null,{"$f":"'Weryfikacja 3'!U70","v":0},0]
[{"$f":"'Załącznik nr 1 do rozliczenia'!A334","v":"69"},{"$f":"IF('Załącznik nr 1 do rozliczenia'!B334:C334=\"\",\"\",'Załącznik nr 1 do rozliczenia'!B334:C334)","v":""},null,{"$f":"'Załącznik nr 2 do rozliczenia'!H329","v":0},0,{"$f":"IF('Załącznik nr 1 do rozliczenia'!H334<0,ABS('Załącznik nr 1 do rozliczenia'!H334),0)","v":0},0,0,null,null,{"$f":"'Weryfikacja 3'!U71","v":0},0]
[{"$f":"'Załącznik nr 1 do rozliczenia'!A335","v":"70"},{"$f":"IF('Załącznik nr 1 do rozliczenia'!B335:C335=\"\",\"\",'Załącznik nr 1 do rozliczenia'!B335:C335)","v":""},null,{"$f":"'Załącznik nr 2 do rozliczenia'!H330","v":0},0,{"$f":"IF('Załącznik nr 1 do rozliczenia'!H335<0,ABS('Załącznik nr 1 do rozliczenia'!H335),0)","v":0},0,0,null,null,{"$f":"'Weryfikacja 3'!U72","v":0},0]
[{"$f":"'Załącznik nr 1 do rozliczenia'!A336","v":"71"},{"$f":"IF('Załącznik nr 1 do rozliczenia'!B336:C336=\"\",\"\",'Załącznik nr 1 do rozliczenia'!B336:C336)","v":""},null,{"$f":"'Załącznik nr 2 do rozliczenia'!H331","v":0},0,{"$f":"IF('Załącznik nr 1 do rozliczenia'!H336<0,ABS('Załącznik nr 1 do rozliczenia'!H336),0)","v":0},0,0,null,null,{"$f":"'Weryfikacja 3'!U73","v":0},0]
[{"$f":"'Załącznik nr 1 do rozliczenia'!A337","v":"72"},{"$f":"IF('Załącznik nr 1 do rozliczenia'!B337:C337=\"\",\"\",'Załącznik nr 1 do rozliczenia'!B337:C337)","v":""},null,{"$f":"'Załącznik nr 2 do rozliczenia'!H332","v":0},0,{"$f":"IF('Załącznik nr 1 do rozliczenia'!H337<0,ABS('Załącznik nr 1 do rozliczenia'!H337),0)","v":0},0,0,null,null,{"$f":"'Weryfikacja 3'!U74","v":0},0]
[{"$f":"'Załącznik nr 1 do rozliczenia'!A338","v":"73"},{"$f":"IF('Załącznik nr 1 do rozliczenia'!B338:C338=\"\",\"\",'Załącznik nr 1 do rozliczenia'!B338:C338)","v":""},null,{"$f":"'Załącznik nr 2 do rozliczenia'!H333","v":0},0,{"$f":"IF('Załącznik nr 1 do rozliczenia'!H338<0,ABS('Załącznik nr 1 do rozliczenia'!H338),0)","v":0},0,0,null,null,{"$f":"'Weryfikacja 3'!U75","v":0},0]
[{"$f":"'Załącznik nr 1 do rozliczenia'!A339","v":"74"},{"$f":"IF('Załącznik nr 1 do rozliczenia'!B339:C339=\"\",\"\",'Załącznik nr 1 do rozliczenia'!B339:C339)","v":""},null,{"$f":"'Załącznik nr 2 do rozliczenia'!H334","v":0},0,{"$f":"IF('Załącznik nr 1 do rozliczenia'!H339<0,ABS('Załącznik nr 1 do rozliczenia'!H339),0)","v":0},0,0,null,null,{"$f":"'Weryfikacja 3'!U76","v":0},0]
[{"$f":"'Załącznik nr 1 do rozliczenia'!A340","v":"75"},{"$f":"IF('Załącznik nr 1 do rozliczenia'!B340:C340=\"\",\"\",'Załącznik nr 1 do rozliczenia'!B340:C340)","v":""},null,{"$f":"'Załącznik nr 2 do rozliczenia'!H335","v":0},0,{"$f":"IF('Załącznik nr 1 do rozliczenia'!H340<0,ABS('Załącznik nr 1 do rozliczenia'!H340),0)","v":0},0,0,null,null,{"$f":"'Weryfikacja 3'!U77","v":0},0]
[{"$f":"'Załącznik nr 1 do rozliczenia'!A341","v":"76"},{"$f":"IF('Załącznik nr 1 do rozliczenia'!B341:C341=\"\",\"\",'Załącznik nr 1 do rozliczenia'!B341:C341)","v":""},null,{"$f":"'Załącznik nr 2 do rozliczenia'!H336","v":0},0,{"$f":"IF('Załącznik nr 1 do rozliczenia'!H341<0,ABS('Załącznik nr 1 do rozliczenia'!H341),0)","v":0},0,0,null,null,{"$f":"'Weryfikacja 3'!U78","v":0},0]
[{"$f":"'Załącznik nr 1 do rozliczenia'!A342","v":"77"},{"$f":"IF('Załącznik nr 1 do rozliczenia'!B342:C342=\"\",\"\",'Załącznik nr 1 do rozliczenia'!B342:C342)","v":""},null,{"$f":"'Załącznik nr 2 do rozliczenia'!H337","v":0},0,{"$f":"IF('Załącznik nr 1 do rozliczenia'!H342<0,ABS('Załącznik nr 1 do rozliczenia'!H342),0)","v":0},0,0,null,null,{"$f":"'Weryfikacja 3'!U79","v":0},0]
[{"$f":"'Załącznik nr 1 do rozliczenia'!A343","v":"78"},{"$f":"IF('Załącznik nr 1 do rozliczenia'!B343:C343=\"\",\"\",'Załącznik nr 1 do rozliczenia'!B343:C343)","v":""},null,{"$f":"'Załącznik nr 2 do rozliczenia'!H338","v":0},0,{"$f":"IF('Załącznik nr 1 do rozliczenia'!H343<0,ABS('Załącznik nr 1 do rozliczenia'!H343),0)","v":0},0,0,null,null,{"$f":"'Weryfikacja 3'!U80","v":0},0]
[{"$f":"'Załącznik nr 1 do rozliczenia'!A344","v":"79"},{"$f":"IF('Załącznik nr 1 do rozliczenia'!B344:C344=\"\",\"\",'Załącznik nr 1 do rozliczenia'!B344:C344)","v":""},null,{"$f":"'Załącznik nr 2 do rozliczenia'!H339","v":0},0,{"$f":"IF('Załącznik nr 1 do rozliczenia'!H344<0,ABS('Załącznik nr 1 do rozliczenia'!H344),0)","v":0},0,0,null,null,{"$f":"'Weryfikacja 3'!U81","v":0},0]
[{"$f":"'Załącznik nr 1 do rozliczenia'!A345","v":"80"},{"$f":"IF('Załącznik nr 1 do rozliczenia'!B345:C345=\"\",\"\",'Załącznik nr 1 do rozliczenia'!B345:C345)","v":""},null,{"$f":"'Załącznik nr 2 do rozliczenia'!H340","v":0},0,{"$f":"IF('Załącznik nr 1 do rozliczenia'!H345<0,ABS('Załącznik nr 1 do rozliczenia'!H345),0)","v":0},0,0,null,null,{"$f":"'Weryfikacja 3'!U82","v":0},0]
[{"$f":"'Załącznik nr 1 do rozliczenia'!A346","v":"81"},{"$f":"IF('Załącznik nr 1 do rozliczenia'!B346:C346=\"\",\"\",'Załącznik nr 1 do rozliczenia'!B346:C346)","v":""},null,{"$f":"'Załącznik nr 2 do rozliczenia'!H341","v":0},0,{"$f":"IF('Załącznik nr 1 do rozliczenia'!H346<0,ABS('Załącznik nr 1 do rozliczenia'!H346),0)","v":0},0,0,null,null,{"$f":"'Weryfikacja 3'!U83","v":0},0]
[{"$f":"'Załącznik nr 1 do rozliczenia'!A347","v":"82"},{"$f":"IF('Załącznik nr 1 do rozliczenia'!B347:C347=\"\",\"\",'Załącznik nr 1 do rozliczenia'!B347:C347)","v":""},null,{"$f":"'Załącznik nr 2 do rozliczenia'!H342","v":0},0,{"$f":"IF('Załącznik nr 1 do rozliczenia'!H347<0,ABS('Załącznik nr 1 do rozliczenia'!H347),0)","v":0},0,0,null,null,{"$f":"'Weryfikacja 3'!U84","v":0},0]
[{"$f":"'Załącznik nr 1 do rozliczenia'!A348","v":"83"},{"$f":"IF('Załącznik nr 1 do rozliczenia'!B348:C348=\"\",\"\",'Załącznik nr 1 do rozliczenia'!B348:C348)","v":""},null,{"$f":"'Załącznik nr 2 do rozliczenia'!H343","v":0},0,{"$f":"IF('Załącznik nr 1 do rozliczenia'!H348<0,ABS('Załącznik nr 1 do rozliczenia'!H348),0)","v":0},0,0,null,null,{"$f":"'Weryfikacja 3'!U85","v":0},0]
[{"$f":"'Załącznik nr 1 do rozliczenia'!A349","v":"84"},{"$f":"IF('Załącznik nr 1 do rozliczenia'!B349:C349=\"\",\"\",'Załącznik nr 1 do rozliczenia'!B349:C349)","v":""},null,{"$f":"'Załącznik nr 2 do rozliczenia'!H344","v":0},0,{"$f":"IF('Załącznik nr 1 do rozliczenia'!H349<0,ABS('Załącznik nr 1 do rozliczenia'!H349),0)","v":0},0,0,null,null,{"$f":"'Weryfikacja 3'!U86","v":0},0]
[{"$f":"'Załącznik nr 1 do rozliczenia'!A350","v":"85"},{"$f":"IF('Załącznik nr 1 do rozliczenia'!B350:C350=\"\",\"\",'Załącznik nr 1 do rozliczenia'!B350:C350)","v":""},null,{"$f":"'Załącznik nr 2 do rozliczenia'!H345","v":0},0,{"$f":"IF('Załącznik nr 1 do rozliczenia'!H350<0,ABS('Załącznik nr 1 do rozliczenia'!H350),0)","v":0},0,0,null,null,{"$f":"'Weryfikacja 3'!U87","v":0},0]
[{"$f":"'Załącznik nr 1 do rozliczenia'!A351","v":"86"},{"$f":"IF('Załącznik nr 1 do rozliczenia'!B351:C351=\"\",\"\",'Załącznik nr 1 do rozliczenia'!B351:C351)","v":""},null,{"$f":"'Załącznik nr 2 do rozliczenia'!H346","v":0},0,{"$f":"IF('Załącznik nr 1 do rozliczenia'!H351<0,ABS('Załącznik nr 1 do rozliczenia'!H351),0)","v":0},0,0,null,null,{"$f":"'Weryfikacja 3'!U88","v":0},0]
[{"$f":"'Załącznik nr 1 do rozliczenia'!A352","v":"87"},{"$f":"IF('Załącznik nr 1 do rozliczenia'!B352:C352=\"\",\"\",'Załącznik nr 1 do rozliczenia'!B352:C352)","v":""},null,{"$f":"'Załącznik nr 2 do rozliczenia'!H347","v":0},0,{"$f":"IF('Załącznik nr 1 do rozliczenia'!H352<0,ABS('Załącznik nr 1 do rozliczenia'!H352),0)","v":0},0,0,null,null,{"$f":"'Weryfikacja 3'!U89","v":0},0]
[{"$f":"'Załącznik nr 1 do rozliczenia'!A353","v":"88"},{"$f":"IF('Załącznik nr 1 do rozliczenia'!B353:C353=\"\",\"\",'Załącznik nr 1 do rozliczenia'!B353:C353)","v":""},null,{"$f":"'Załącznik nr 2 do rozliczenia'!H348","v":0},0,{"$f":"IF('Załącznik nr 1 do rozliczenia'!H353<0,ABS('Załącznik nr 1 do rozliczenia'!H353),0)","v":0},0,0,null,null,{"$f":"'Weryfikacja 3'!U90","v":0},0]
[{"$f":"'Załącznik nr 1 do rozliczenia'!A354","v":"89"},{"$f":"IF('Załącznik nr 1 do rozliczenia'!B354:C354=\"\",\"\",'Załącznik nr 1 do rozliczenia'!B354:C354)","v":""},null,{"$f":"'Załącznik nr 2 do rozliczenia'!H349","v":0},0,{"$f":"IF('Załącznik nr 1 do rozliczenia'!H354<0,ABS('Załącznik nr 1 do rozliczenia'!H354),0)","v":0},0,0,null,null,{"$f":"'Weryfikacja 3'!U91","v":0},0]
[{"$f":"'Załącznik nr 1 do rozliczenia'!A355","v":"90"},{"$f":"IF('Załącznik nr 1 do rozliczenia'!B355:C355=\"\",\"\",'Załącznik nr 1 do rozliczenia'!B355:C355)","v":""},null,{"$f":"'Załącznik nr 2 do rozliczenia'!H350","v":0},0,{"$f":"IF('Załącznik nr 1 do rozliczenia'!H355<0,ABS('Załącznik nr 1 do rozliczenia'!H355),0)","v":0},0,0,null,null,{"$f":"'Weryfikacja 3'!U92","v":0},0]
[{"$f":"'Załącznik nr 1 do rozliczenia'!A356","v":"91"},{"$f":"IF('Załącznik nr 1 do rozliczenia'!B356:C356=\"\",\"\",'Załącznik nr 1 do rozliczenia'!B356:C356)","v":""},null,{"$f":"'Załącznik nr 2 do rozliczenia'!H351","v":0},0,{"$f":"IF('Załącznik nr 1 do rozliczenia'!H356<0,ABS('Załącznik nr 1 do rozliczenia'!H356),0)","v":0},0,0,null,null,{"$f":"'Weryfikacja 3'!U93","v":0},0]
[{"$f":"'Załącznik nr 1 do rozliczenia'!A357","v":"92"},{"$f":"IF('Załącznik nr 1 do rozliczenia'!B357:C357=\"\",\"\",'Załącznik nr 1 do rozliczenia'!B357:C357)","v":""},null,{"$f":"'Załącznik nr 2 do rozliczenia'!H352","v":0},0,{"$f":"IF('Załącznik nr 1 do rozliczenia'!H357<0,ABS('Załącznik nr 1 do rozliczenia'!H357),0)","v":0},0,0,null,null,{"$f":"'Weryfikacja 3'!U94","v":0},0]
[{"$f":"'Załącznik nr 1 do rozliczenia'!A358","v":"93"},{"$f":"IF('Załącznik nr 1 do rozliczenia'!B358:C358=\"\",\"\",'Załącznik nr 1 do rozliczenia'!B358:C358)","v":""},null,{"$f":"'Załącznik nr 2 do rozliczenia'!H353","v":0},0,{"$f":"IF('Załącznik nr 1 do rozliczenia'!H358<0,ABS('Załącznik nr 1 do rozliczenia'!H358),0)","v":0},0,0,null,null,{"$f":"'Weryfikacja 3'!U95","v":0},0]
[{"$f":"'Załącznik nr 1 do rozliczenia'!A359","v":"94"},{"$f":"IF('Załącznik nr 1 do rozliczenia'!B359:C359=\"\",\"\",'Załącznik nr 1 do rozliczenia'!B359:C359)","v":""},null,{"$f":"'Załącznik nr 2 do rozliczenia'!H354","v":0},0,{"$f":"IF('Załącznik nr 1 do rozliczenia'!H359<0,ABS('Załącznik nr 1 do rozliczenia'!H359),0)","v":0},0,0,null,null,{"$f":"'Weryfikacja 3'!U96","v":0},0]
[{"$f":"'Załącznik nr 1 do rozliczenia'!A360","v":"95"},{"$f":"IF('Załącznik nr 1 do rozliczenia'!B360:C360=\"\",\"\",'Załącznik nr 1 do rozliczenia'!B360:C360)","v":""},null,{"$f":"'Załącznik nr 2 do rozliczenia'!H355","v":0},0,{"$f":"IF('Załącznik nr 1 do rozliczenia'!H360<0,ABS('Załącznik nr 1 do rozliczenia'!H360),0)","v":0},0,0,null,null,{"$f":"'Weryfikacja 3'!U97","v":0},0]
[{"$f":"'Załącznik nr 1 do rozliczenia'!A361","v":"96"},{"$f":"IF('Załącznik nr 1 do rozliczenia'!B361:C361=\"\",\"\",'Załącznik nr 1 do rozliczenia'!B361:C361)","v":""},null,{"$f":"'Załącznik nr 2 do rozliczenia'!H356","v":0},0,{"$f":"IF('Załącznik nr 1 do rozliczenia'!H361<0,ABS('Załącznik nr 1 do rozliczenia'!H361),0)","v":0},0,0,null,null,{"$f":"'Weryfikacja 3'!U98","v":0},0]
[{"$f":"'Załącznik nr 1 do rozliczenia'!A362","v":"97"},{"$f":"IF('Załącznik nr 1 do rozliczenia'!B362:C362=\"\",\"\",'Załącznik nr 1 do rozliczenia'!B362:C362)","v":""},null,{"$f":"'Załącznik nr 2 do rozliczenia'!H357","v":0},0,{"$f":"IF('Załącznik nr 1 do rozliczenia'!H362<0,ABS('Załącznik nr 1 do rozliczenia'!H362),0)","v":0},0,0,null,null,{"$f":"'Weryfikacja 3'!U99","v":0},0]
[{"$f":"'Załącznik nr 1 do rozliczenia'!A363","v":"98"},{"$f":"IF('Załącznik nr 1 do rozliczenia'!B363:C363=\"\",\"\",'Załącznik nr 1 do rozliczenia'!B363:C363)","v":""},null,{"$f":"'Załącznik nr 2 do rozliczenia'!H358","v":0},0,{"$f":"IF('Załącznik nr 1 do rozliczenia'!H363<0,ABS('Załącznik nr 1 do rozliczenia'!H363),0)","v":0},0,0,null,null,{"$f":"'Weryfikacja 3'!U100","v":0},0]
[{"$f":"'Załącznik nr 1 do rozliczenia'!A364","v":"99"},{"$f":"IF('Załącznik nr 1 do rozliczenia'!B364:C364=\"\",\"\",'Załącznik nr 1 do rozliczenia'!B364:C364)","v":""},null,{"$f":"'Załącznik nr 2 do rozliczenia'!H359","v":0},0,{"$f":"IF('Załącznik nr 1 do rozliczenia'!H364<0,ABS('Załącznik nr 1 do rozliczenia'!H364),0)","v":0},0,0,null,null,{"$f":"'Weryfikacja 3'!U101","v":0},0]
[{"$f":"'Załącznik nr 1 do rozliczenia'!A365","v":"100"},{"$f":"IF('Załącznik nr 1 do rozliczenia'!B365:C365=\"\",\"\",'Załącznik nr 1 do rozliczenia'!B365:C365)","v":""},null,{"$f":"'Załącznik nr 2 do rozliczenia'!H360","v":0},0,{"$f":"IF('Załącznik nr 1 do rozliczenia'!H365<0,ABS('Załącznik nr 1 do rozliczenia'!H365),0)","v":0},0,0,null,null,{"$f":"'Weryfikacja 3'!U102","v":0},0]
[{"$f":"'Załącznik nr 1 do rozliczenia'!A366","v":"101"},{"$f":"IF('Załącznik nr 1 do rozliczenia'!B366:C366=\"\",\"\",'Załącznik nr 1 do rozliczenia'!B366:C366)","v":""},null,{"$f":"'Załącznik nr 2 do rozliczenia'!H361","v":0},0,{"$f":"IF('Załącznik nr 1 do rozliczenia'!H366<0,ABS('Załącznik nr 1 do rozliczenia'!H366),0)","v":0},0,0,null,null,{"$f":"'Weryfikacja 3'!U103","v":0},0]
[{"$f":"'Załącznik nr 1 do rozliczenia'!A367","v":"102"},{"$f":"IF('Załącznik nr 1 do rozliczenia'!B367:C367=\"\",\"\",'Załącznik nr 1 do rozliczenia'!B367:C367)","v":""},null,{"$f":"'Załącznik nr 2 do rozliczenia'!H362","v":0},0,{"$f":"IF('Załącznik nr 1 do rozliczenia'!H367<0,ABS('Załącznik nr 1 do rozliczenia'!H367),0)","v":0},0,0,null,null,{"$f":"'Weryfikacja 3'!U104","v":0},0]
[{"$f":"'Załącznik nr 1 do rozliczenia'!A368","v":"103"},{"$f":"IF('Załącznik nr 1 do rozliczenia'!B368:C368=\"\",\"\",'Załącznik nr 1 do rozliczenia'!B368:C368)","v":""},null,{"$f":"'Załącznik nr 2 do rozliczenia'!H363","v":0},0,{"$f":"IF('Załącznik nr 1 do rozliczenia'!H368<0,ABS('Załącznik nr 1 do rozliczenia'!H368),0)","v":0},0,0,null,null,{"$f":"'Weryfikacja 3'!U105","v":0},0]
[{"$f":"'Załącznik nr 1 do rozliczenia'!A369","v":"104"},{"$f":"IF('Załącznik nr 1 do rozliczenia'!B369:C369=\"\",\"\",'Załącznik nr 1 do rozliczenia'!B369:C369)","v":""},null,{"$f":"'Załącznik nr 2 do rozliczenia'!H364","v":0},0,{"$f":"IF('Załącznik nr 1 do rozliczenia'!H369<0,ABS('Załącznik nr 1 do rozliczenia'!H369),0)","v":0},0,0,null,null,{"$f":"'Weryfikacja 3'!U106","v":0},0]
[{"$f":"'Załącznik nr 1 do rozliczenia'!A370","v":"105"},{"$f":"IF('Załącznik nr 1 do rozliczenia'!B370:C370=\"\",\"\",'Załącznik nr 1 do rozliczenia'!B370:C370)","v":""},null,{"$f":"'Załącznik nr 2 do rozliczenia'!H365","v":0},0,{"$f":"IF('Załącznik nr 1 do rozliczenia'!H370<0,ABS('Załącznik nr 1 do rozliczenia'!H370),0)","v":0},0,0,null,null,{"$f":"'Weryfikacja 3'!U107","v":0},0]
[{"$f":"'Załącznik nr 1 do rozliczenia'!A371","v":"106"},{"$f":"IF('Załącznik nr 1 do rozliczenia'!B371:C371=\"\",\"\",'Załącznik nr 1 do rozliczenia'!B371:C371)","v":""},null,{"$f":"'Załącznik nr 2 do rozliczenia'!H366","v":0},0,{"$f":"IF('Załącznik nr 1 do rozliczenia'!H371<0,ABS('Załącznik nr 1 do rozliczenia'!H371),0)","v":0},0,0,null,null,{"$f":"'Weryfikacja 3'!U108","v":0},0]
[{"$f":"'Załącznik nr 1 do rozliczenia'!A372","v":"107"},{"$f":"IF('Załącznik nr 1 do rozliczenia'!B372:C372=\"\",\"\",'Załącznik nr 1 do rozliczenia'!B372:C372)","v":""},null,{"$f":"'Załącznik nr 2 do rozliczenia'!H367","v":0},0,{"$f":"IF('Załącznik nr 1 do rozliczenia'!H372<0,ABS('Załącznik nr 1 do rozliczenia'!H372),0)","v":0},0,0,null,null,{"$f":"'Weryfikacja 3'!U109","v":0},0]
[{"$f":"'Załącznik nr 1 do rozliczenia'!A373","v":"108"},{"$f":"IF('Załącznik nr 1 do rozliczenia'!B373:C373=\"\",\"\",'Załącznik nr 1 do rozliczenia'!B373:C373)","v":""},null,{"$f":"'Załącznik nr 2 do rozliczenia'!H368","v":0},0,{"$f":"IF('Załącznik nr 1 do rozliczenia'!H373<0,ABS('Załącznik nr 1 do rozliczenia'!H373),0)","v":0},0,0,null,null,{"$f":"'Weryfikacja 3'!U110","v":0},0]
[{"$f":"'Załącznik nr 1 do rozliczenia'!A374","v":"109"},{"$f":"IF('Załącznik nr 1 do rozliczenia'!B374:C374=\"\",\"\",'Załącznik nr 1 do rozliczenia'!B374:C374)","v":""},null,{"$f":"'Załącznik nr 2 do rozliczenia'!H369","v":0},0,{"$f":"IF('Załącznik nr 1 do rozliczenia'!H374<0,ABS('Załącznik nr 1 do rozliczenia'!H374),0)","v":0},0,0,null,null,{"$f":"'Weryfikacja 3'!U111","v":0},0]
[{"$f":"'Załącznik nr 1 do rozliczenia'!A375","v":"110"},{"$f":"IF('Załącznik nr 1 do rozliczenia'!B375:C375=\"\",\"\",'Załącznik nr 1 do rozliczenia'!B375:C375)","v":""},null,{"$f":"'Załącznik nr 2 do rozliczenia'!H370","v":0},0,{"$f":"IF('Załącznik nr 1 do rozliczenia'!H375<0,ABS('Załącznik nr 1 do rozliczenia'!H375),0)","v":0},0,0,null,null,{"$f":"'Weryfikacja 3'!U112","v":0},0]
["Ogółem:",null,{"$f":"SUM(C268:C377)","v":0},{"$f":"SUM(D268:D377)","v":0},null,{"$f":"SUM(F268:F377)","v":0},null,null,{"$f":"SUM(I268:I377)","v":0},{"$f":"SUM(J268:J377)","v":0},{"$f":"SUM(K268:K377)","v":0},{"$f":"SUMIF(L268:L377,\">0\")","v":0}]
[]
["Tabele B.1/B.2/B.3 proszę wypełnić zgodnie z wytycznymi podanymi poniżej:\nKolumna nr 1\nOznaczenie, które pozwala wyodrębnić daną linię komunikacyjną np. nazwa lub numer. Proszę wskazać wyłącznie linie komunikacyjne na które organizator zawarł umowę o dopłatę o której mowa w tabeli A.3 pkt. 2. Kolumna wypełni się automatycznie po uzupełnieniu załącznika nr 1\nKolumna nr 2\nProszę wskazać liczbę przewiezionych osób w danym okresie rozliczeniowym.\nKolumna nr 3\nProszę wskazać zrealizowaną pracę ekspoloatacyjną  w okresie rozliczeniowym na danej linii komunikacyjnej. Pracę eksploatacyjną należy wyrazić w wozokilometrach (1 wozokilometr to przejazd 1 autobusu na odległość 1 kilometra) Kolumna wypełni się automatycznie po uzupełnieniu załącznika nr 2\nKolumna nr 4\nCena usługi - kwota deficytu pojedyńczej linii komunikacyjnej w przewozach autobusowych o charakterze użyteczności publicznej wyrażona w złotych w odniesieniu do 1 wozokilometra (zgodnie z art 2 ust.1 ustawy o Funduszu). Wartość obliczy się automatycznie po wypełnieniu kolumny 3 i 5.\nKolumna 5\nProszę wskazać deficyt danej linii komunikacyjnej w okresie rozliczeniowym. Kwota deficytu pojedynczej linii komunikacyjnej w przewozach autobusowych o charakterze użyteczności publicznej - ujemny wynik finansowy netto wyliczony dla tej linii nieuwzględniający rozsądnego zysku, o których mowa w rozporządzeniu (WE) 1370/2007 Parlamentu Europejskiego i Rady z dnia 23 października 2007 r. dotyczącym usług publicznych w zakresie kolejowego i drogowego transportu pasażerskiego oraz uchylającym rozporządzenie Rady (EWG) nr 1191/69 i (EWG) nr 1107/70 (Dz. Urz. UE L 315 z 03.12.2007, str. 1, z późn. zm.). Kolumna wypełni się automatycznie po uzupełnieniu załącznika nr 1;\nKolumna 6\nCzęść ceny usługi (wskazanej w kol.4) finansowana przez organizatora publicznego transportu zbiorowego (nie mniej niż 10%).Wartość obliczy się automatycznie po wypełnieniu kolumny 3, 5 i 7.\nKolumna 7\nProcentową wartość części ceny usługi sfinansowanej ze środków własnych organizatora publicznego transportu zbiorowego (nie mniej niż 10 %). Kolumna wypełni się automatycznie po wskazaniu pozostałych danych. Kolor różowy  z czerwonymi cyframi oznacza wprowadzenie zbyt niskiej wartości w kol nr 7 (brak min.10 % )\nKolumna 8\nProszę wskazać kwotę środków własnych organizatora na danej linii komunikacyjnej w okresie rozliczeniowym. Kolor żółty oznacza, że kwota dopłaty oraz środków własnych nie pokrywa deficytu wskazanego w kol. nr 5\nKolumna 9\nProszę wskazać kwote dopłaty pobraną na podstawie prognozy - wniosku zaliczkowego.\nKolumna 10\nKwota dopłaty do danej linii komunikacyjnej w okresie rozliczeniowym. Wyliczając kwotę dopłaty proszę mieć na uwadze:  pracę eksploatacyjną (kol. 3), deficyt w okresie rozliczeniowym (kol.5),część ceny usługi sfinansowanej ze środków własnych organizatora (kol.6 i kol.7) oraz maksymalną kwotę dopłaty do 1 wzkm. W roku budżetowym 2025 maksymalna kwota dopłaty do 1 wozokliometra  wynosi nie więcej niż 3 zł. Arkusz wskazuje  maksymalną kwotę dopłaty na podstawie wprowadzonych danych.\nKolumna 11 \nRóznica pomiędzy kwotą pobranej dopłaty na podstawie prognozy - wniosku zaliczkowego a kwotą dopłaty wyliczoną na podstawie rzeczywistych danych.Kwota ta podlega rozliczeniu w kolejnym okresie rozliczeniowym, za wyjątkiem rozliczenia IV kwartału w którym należy zrócić różnicę na konto Mazowieckiego Urzędu Wojewódzkiego zgodnie z umową o dopłatę."]
[null,null,null,null,null,null,null,null,null,null,null,"ver. 1.5"]
[null,null,null,null,null,null,null,null,null,null,{"$f":"A1","v":""}]
["C.1 Oświadczenie"]
["Oświadczam, że dane zawarte w załączniku są kompletne i zgodne ze stanem faktycznym."]
[]
["Dopłata z Funduszu rozwoju przewozów autobusowych niewykorzystana w okresie rozliczeniowym wynosi:",null,null,null,null,null,{"$f":"ROUND(L146+L262+L378,2)","v":0}]
[]
[]
[]
[null,null,null,null,"dane osób działających w imieniu organizatora publicznego transportu zbiorowego składających kwalifikowany podpis elektroniczny pod wnioskiem "]
[]
[null,null,null,null,"kontrasygnata Skarbnika/Głównego księgowego budżetu  - dane osoby składającej kwalifikowany podpis elektroniczny"]
[]
[]
[null,"Termin składania rozliczenia za ",null,{"$f":"F21","v":"I KWARTAŁ"},"upływa",{"$f":"IF(F21=Miesiące!A2,Miesiące!I2,IF('Rozliczenie kwartalne'!F21=Miesiące!A3,Miesiące!I3,IF('Rozliczenie kwartalne'!F21=Miesiące!A4,Miesiące!I4,IF('Rozliczenie kwartalne'!F21=Miesiące!A5,Miesiące!I5,\"\"))))","v":"30.04.2025 r."}]
["Uwagi - wypełnić w przypadku korekty rozliczenia:"]

{"sheet":"Załącznik nr 1 do rozliczenia","index":1,"n_rows":386,"n_cols":8,"rows_kept":386,"cut":false,"hidden":false,"merged":[[381,5,381,6],[375,0,375,2],[375,3,375,4],[375,5,375,6],[375,7,375,8],[373,1,373,2],[373,3,373,4],[373,5,373,6],[373,7,373,8],[374,1,374,2],[374,3,374,4],[374,5,374,6],[374,7,374,8],[370,1,370,2],[370,3,370,4],[370,5,370,6],[370,7,370,8],[371,1,371,2],[371,3,371,4],[371,5,371,6],[371,7,371,8],[372,1,372,2],[372,3,372,4],[372,5,372,6],[372,7,372,8],[367,7,367,8],[368,1,368,2],[368,3,368,4],[368,5,368,6],[368,7,368,8],[369,1,369,2],[369,3,369,4],[369,5,369,6],[369,7,369,8],[364,1,364,2],[364,3,364,4],[364,5,364,6],[364,7,364,8],[365,1,365,2],[365,3,365,4],[365,5,365,6],[365,7,365,8],[366,1,366,2],[366,3,366,4],[366,5,366,6],[366,7,366,8],[367,1,367,2],[367,3,367,4],[367,5,367,6],[361,1,361,2],[361,3,361,4],[361,5,361,6],[361,7,361,8],[362,1,362,2],[362,3,362,4],[362,5,362,6],[362,7,362,8],[363,1,363,2],[363,3,363,4],[363,5,363,6],[363,7,363,8],[358,1,358,2],[358,3,358,4],[358,5,358,6],[358,7,358,8],[359,1,359,2],[359,3,359,4],[359,5,359,6],[359,7,359,8],[360,1,360,2],[360,3,360,4],[360,5,360,6],[360,7,360,8],[355,1,355,2],[355,3,355,4],[355,5,355,6],[355,7,355,8],[356,1,356,2],[356,3,356,4],[356,5,356,6],[356,7,356,8],[357,1,357,2],[357,3,357,4],[357,5,357,6],[357,7,357,8],[352,1,352,2],[352,3,352,4],[352,5,352,6],[352,7,352,8],[353,1,353,2],[353,3,353,4],[353,5,353,6],[353,7,353,8],[354,1,354,2],[354,3,354,4],[354,5,354,6],[354,7,354,8],[349,1,349,2],[349,3,349,4],[349,5,349,6],[349,7,349,8],[350,1,350,2],[350,3,350,4],[350,5,350,6],[350,7,350,8],[351,1,351,2],[351,3,351,4],[351,5,351,6],[351,7,351,8],[346,1,346,2],[346,3,346,4],[346,5,346,6],[346,7,346,8],[347,1,347,2],[347,3,347,4],[347,5,347,6],[347,7,347,8],[348,1,348,2],[348,3,348,4],[348,5,348,6],[348,7,348,8],[343,1,343,2],[343,3,343,4],[343,5,343,6],[343,7,343,8],[344,1,344,2],[344,3,344,4],[344,5,344,6],[344,7,344,8],[345,1,345,2],[345,3,345,4],[345,5,345,6],[345,7,345,8],[340,1,340,2],[340,3,340,4],[340,5,340,6],[340,7,340,8],[341,1,341,2],[341,3,341,4],[341,5,341,6],[341,7,341,8],[342,1,342,2],[342,3,342,4],[342,5,342,6],[342,7,342,8],[337,1,337,2],[337,3,337,4],[337,5,337,6],[337,7,337,8],[338,1,338,2],[338,3,338,4],[338,5,338,6],[338,7,338,8],[339,1,339,2],[339,3,339,4],[339,5,339,6],[339,7,339,8],[334,1,334,2],[334,3,334,4],[334,5,334,6],[334,7,334,8],[335,1,335,2],[335,3,335,4],[335,5,335,6],[335,7,335,8],[336,1,336,2],[336,3,336,4],[336,5,336,6],[336,7,336,8],[331,1,331,2],[331,3,331,4],[331,5,331,6],[331,7,331,8],[332,1,332,2],[332,3,332,4],[332,5,332,6],[332,7,332,8],[333,1,333,2],[333,3,333,4],[333,5,333,6],[333,7,333,8],[328,1,328,2],[328,3,328,4],[328,5,328,6],[328,7,328,8],[329,1,329,2],[329,3,329,4],[329,5,329,6],[329,7,329,8],[330,1,330,2],[330,3,330,4],[330,5,330,6],[330,7,330,8],[325,1,325,2],[325,3,325,4],[325,5,325,6],[325,7,325,8],[326,1,326,2],[326,3,326,4],[326,5,326,6],[326,7,326,8],[327,1,327,2],[327,3,327,4],[327,5,327,6],[327,7,327,8],[322,1,322,2],[322,3,322,4],[322,5,322,6],[322,7,322,8],[323,1,323,2],[323,3,323,4],[323,5,323,6],[323,7,323,8],[324,1,324,2],[324,3,324,4],[324,5,324,6],[324,7,324,8],[319,1,319,2],[319,3,319,4],[319,5,319,6],[319,7,319,8],[320,1,320,2],[320,3,320,4],[320,5,320,6],[320,7,320,8],[321,1,321,2],[321,3,321,4],[321,5,321,6],[321,7,321,8],[316,1,316,2],[316,3,316,4],[316,5,316,6],[316,7,316,8],[317,1,317,2],[317,3,317,4],[317,5,317,6],[317,7,317,8],[318,1,318,2],[318,3,318,4],[318,5,318,6],[318,7,318,8],[313,1,313,2],[313,3,313,4],[313,5,313,6],[313,7,313,8],[314,1,314,2],[314,3,314,4],[314,5,314,6],[314,7,314,8],[315,1,315,2],[315,3,315,4],[315,5,315,6],[315,7,315,8],[310,1,310,2],[310,3,310,4],[310,5,310,6],[310,7,310,8],[311,1,311,2],[311,3,311,4],[311,5,311,6],[311,7,311,8],[312,1,312,2],[312,3,312,4],[312,5,312,6],[312,7,312,8],[307,1,307,2],[307,3,307,4],[307,5,307,6],[307,7,307,8],[308,1,308,2],[308,3,308,4],[308,5,308,6],[308,7,308,8],[309,1,309,2],[309,3,309,4],[309,5,309,6],[309,7,309,8],[304,1,304,2],[304,3,304,4],[304,5,304,6],[304,7,304,8],[305,1,305,2],[305,3,305,4],[305,5,305,6],[305,7,305,8],[306,1,306,2],[306,3,306,4],[306,5,306,6],[306,7,306,8],[301,1,301,2],[301,3,301,4],[301,5,301,6],[301,7,301,8],[302,1,302,2],[302,3,302,4],[302,5,302,6],[302,7,302,8],[303,1,303,2],[303,3,303,4],[303,5,303,6],[303,7,303,8],[298,1,298,2],[298,3,298,4],[298,5,298,6],[298,7,298,8],[299,1,299,2],[299,3,299,4],[299,5,299,6],[299,7,299,8],[300,1,300,2],[300,3,300,4],[300,5,300,6],[300,7,300,8],[295,1,295,2],[295,3,295,4],[295,5,295,6],[295,7,295,8],[296,1,296,2],[296,3,296,4],[296,5,296,6],[296,7,296,8],[297,1,297,2],[297,3,297,4],[297,5,297,6],[297,7,297,8],[292,1,292,2],[292,3,292,4],[292,5,292,6],[292,7,292,8],[293,1,293,2],[293,3,293,4],[293,5,293,6],[293,7,293,8],[294,1,294,2],[294,3,294,4],[294,5,294,6],[294,7,294,8],[289,1,289,2],[289,3,289,4],[289,5,289,6],[289,7,289,8],[290,1,290,2],[290,3,290,4],[290,5,290,6],[290,7,290,8],[291,1,291,2],[291,3,291,4],[291,5,291,6],[291,7,291,8],[286,1,286,2],[286,3,286,4],[286,5,286,6],[286,7,286,8],[287,1,287,2],[287,3,287,4],[287,5,287,6],[287,7,287,8],[288,1,288,2],[288,3,288,4],[288,5,288,6],[288,7,288,8],[284,1,284,2],[284,3,284,4],[284,5,284,6],[284,7,284,8],[285,1,285,2],[285,3,285,4],[285,5,285,6],[285,7,285,8],[280,1,280,2],[280,3,280,4],[280,5,280,6],[280,7,280,8],[281,1,281,2],[281,3,281,4],[281,5,281,6],[281,7,281,8],[282,1,282,2],[282,3,282,4],[282,5,282,6],[282,7,282,8],[279,1,279,2],[279,3,279,4],[279,5,279,6],[279,7,279,8],[274,5,274,6],[274,7,274,8],[275,1,275,2],[275,3,275,4],[275,5,275,6],[275,7,275,8],[276,1,276,2],[276,3,276,4],[276,5,276,6],[276,7,276,8],[283,1,283,2],[283,3,283,4],[283,5,283,6],[283,7,283,8],[274,1,274,2],[274,3,274,4],[271,1,271,2],[271,3,271,4],[271,5,271,6],[271,7,271,8],[272,1,272,2],[272,3,272,4],[272,5,272,6],[272,7,272,8],[277,1,277,2],[277,3,277,4],[277,5,277,6],[277,7,277,8],[278,1,278,2],[278,3,278,4],[278,5,278,6],[278,7,278,8],[273,5,273,6],[273,7,273,8],[273,1,273,2],[273,3,273,4],[270,1,270,2],[270,3,270,4],[270,5,270,6],[270,7,270,8],[268,1,268,2],[268,3,268,4],[268,5,268,6],[268,7,268,8],[269,1,269,2],[269,3,269,4],[269,5,269,6],[269,7,269,8],[265,1,265,2],[265,3,265,4],[265,5,265,6],[265,7,265,8],[266,1,266,2],[255,3,255,4],[255,5,255,6],[255,7,255,8],[256,1,256,2],[256,3,256,4],[256,5,256,6],[256,7,256,8],[257,1,257,2],[257,3,257,4],[257,5,257,6],[257,7,257,8],[266,7,266,8],[267,1,267,2],[267,3,267,4],[267,5,267,6],[267,7,267,8],[262,3,262,4],[262,5,262,8],[263,1,263,2],[263,3,263,4],[263,5,263,6],[263,7,263,8],[264,1,264,2],[264,3,264,4],[264,5,264,6],[264,7,264,8],[266,3,266,4],[266,5,266,6],[258,0,258,2],[258,3,258,4],[258,5,258,6],[258,7,258,8],[253,5,253,6],[253,7,253,8],[254,1,254,2],[254,3,254,4],[254,5,254,6],[254,7,254,8],[249,1,249,2],[249,3,249,4],[249,5,249,6],[249,7,249,8],[250,1,250,2],[250,3,250,4],[250,5,250,6],[250,7,250,8],[251,1,251,2],[251,3,251,4],[251,5,251,6],[251,7,251,8],[261,0,261,8],[255,1,255,2],[246,1,246,2],[246,3,246,4],[246,5,246,6],[246,7,246,8],[247,1,247,2],[247,3,247,4],[247,5,247,6],[247,7,247,8],[248,1,248,2],[248,3,248,4],[248,5,248,6],[248,7,248,8],[243,1,243,2],[243,3,243,4],[243,5,243,6],[243,7,243,8],[244,1,244,2],[244,3,244,4],[244,5,244,6],[244,7,244,8],[245,1,245,2],[245,3,245,4],[245,5,245,6],[245,7,245,8],[252,1,252,2],[252,3,252,4],[252,5,252,6],[252,7,252,8],[253,1,253,2],[253,3,253,4],[240,1,240,2],[240,3,240,4],[240,5,240,6],[240,7,240,8],[241,1,241,2],[241,3,241,4],[241,5,241,6],[241,7,241,8],[242,1,242,2],[242,3,242,4],[242,5,242,6],[242,7,242,8],[237,1,237,2],[237,3,237,4],[237,5,237,6],[237,7,237,8],[238,1,238,2],[238,3,238,4],[238,5,238,6],[238,7,238,8],[239,1,239,2],[239,3,239,4],[239,5,239,6],[239,7,239,8],[234,1,234,2],[234,3,234,4],[234,5,234,6],[234,7,234,8],[235,1,235,2],[235,3,235,4],[235,5,235,6],[235,7,235,8],[236,1,236,2],[236,3,236,4],[236,5,236,6],[236,7,236,8],[231,1,231,2],[231,3,231,4],[231,5,231,6],[231,7,231,8],[232,1,232,2],[232,3,232,4],[232,5,232,6],[232,7,232,8],[233,1,233,2],[233,3,233,4],[233,5,233,6],[233,7,233,8],[228,1,228,2],[228,3,228,4],[228,5,228,6],[228,7,228,8],[229,1,229,2],[229,3,229,4],[229,5,229,6],[229,7,229,8],[230,1,230,2],[230,3,230,4],[230,5,230,6],[230,7,230,8],[225,1,225,2],[225,3,225,4],[225,5,225,6],[225,7,225,8],[226,1,226,2],[226,3,226,4],[226,5,226,6],[226,7,226,8],[227,1,227,2],[227,3,227,4],[227,5,227,6],[227,7,227,8],[222,1,222,2],[222,3,222,4],[222,5,222,6],[222,7,222,8],[223,1,223,2],[223,3,223,4],[223,5,223,6],[223,7,223,8],[224,1,224,2],[224,3,224,4],[224,5,224,6],[224,7,224,8],[219,1,219,2],[219,3,219,4],[219,5,219,6],[219,7,219,8],[220,1,220,2],[220,3,220,4],[220,5,220,6],[220,7,220,8],[221,1,221,2],[221,3,221,4],[221,5,221,6],[221,7,221,8],[216,1,216,2],[216,3,216,4],[216,5,216,6],[216,7,216,8],[217,1,217,2],[217,3,217,4],[217,5,217,6],[217,7,217,8],[218,1,218,2],[218,3,218,4],[218,5,218,6],[218,7,218,8],[213,1,213,2],[213,3,213,4],[213,5,213,6],[213,7,213,8],[214,1,214,2],[214,3,214,4],[214,5,214,6],[214,7,214,8],[215,1,215,2],[215,3,215,4],[215,5,215,6],[215,7,215,8],[210,1,210,2],[210,3,210,4],[210,5,210,6],[210,7,210,8],[211,1,211,2],[211,3,211,4],[211,5,211,6],[211,7,211,8],[212,1,212,2],[212,3,212,4],[212,5,212,6],[212,7,212,8],[207,1,207,2],[207,3,207,4],[207,5,207,6],[207,7,207,8],[208,1,208,2],[208,3,208,4],[208,5,208,6],[208,7,208,8],[209,1,209,2],[209,3,209,4],[209,5,209,6],[209,7,209,8],[204,1,204,2],[204,3,204,4],[204,5,204,6],[204,7,204,8],[205,1,205,2],[205,3,205,4],[205,5,205,6],[205,7,205,8],[206,1,206,2],[206,3,206,4],[206,5,206,6],[206,7,206,8],[201,1,201,2],[201,3,201,4],[201,5,201,6],[201,7,201,8],[202,1,202,2],[202,3,202,4],[202,5,202,6],[202,7,202,8],[203,1,203,2],[203,3,203,4],[203,5,203,6],[203,7,203,8],[198,1,198,2],[198,3,198,4],[198,5,198,6],[198,7,198,8],[199,1,199,2],[199,3,199,4],[199,5,199,6],[199,7,199,8],[200,1,200,2],[200,3,200,4],[200,5,200,6],[200,7,200,8],[195,1,195,2],[195,3,195,4],[195,5,195,6],[195,7,195,8],[196,1,196,2],[196,3,196,4],[196,5,196,6],[196,7,196,8],[197,1,197,2],[197,3,197,4],[197,5,197,6],[197,7,197,8],[192,1,192,2],[192,3,192,4],[192,5,192,6],[192,7,192,8],[193,1,193,2],[193,3,193,4],[193,5,193,6],[193,7,193,8],[194,1,194,2],[194,3,194,4],[194,5,194,6],[194,7,194,8],[189,1,189,2],[189,3,189,4],[189,5,189,6],[189,7,189,8],[190,1,190,2],[190,3,190,4],[190,5,190,6],[190,7,190,8],[191,1,191,2],[191,3,191,4],[191,5,191,6],[191,7,191,8],[186,1,186,2],[186,3,186,4],[186,5,186,6],[186,7,186,8],[187,1,187,2],[187,3,187,4],[187,5,187,6],[187,7,187,8],[188,1,188,2],[188,3,188,4],[188,5,188,6],[188,7,188,8],[183,1,183,2],[183,3,183,4],[183,5,183,6],[183,7,183,8],[184,1,184,2],[184,3,184,4],[184,5,184,6],[184,7,184,8],[185,1,185,2],[185,3,185,4],[185,5,185,6],[185,7,185,8],[180,1,180,2],[180,3,180,4],[180,5,180,6],[180,7,180,8],[181,1,181,2],[181,3,181,4],[181,5,181,6],[181,7,181,8],[182,1,182,2],[182,3,182,4],[182,5,182,6],[182,7,182,8],[177,1,177,2],[177,3,177,4],[177,5,177,6],[177,7,177,8],[178,1,178,2],[178,3,178,4],[178,5,178,6],[178,7,178,8],[179,1,179,2],[179,3,179,4],[179,5,179,6],[179,7,179,8],[174,1,174,2],[174,3,174,4],[174,5,174,6],[174,7,174,8],[175,1,175,2],[175,3,175,4],[175,5,175,6],[175,7,175,8],[176,1,176,2],[176,3,176,4],[176,5,176,6],[176,7,176,8],[171,1,171,2],[171,3,171,4],[171,5,171,6],[171,7,171,8],[172,1,172,2],[172,3,172,4],[172,5,172,6],[172,7,172,8],[173,1,173,2],[173,3,173,4],[173,5,173,6],[173,7,173,8],[168,1,168,2],[168,3,168,4],[168,5,168,6],[168,7,168,8],[169,1,169,2],[169,3,169,4],[169,5,169,6],[169,7,169,8],[170,1,170,2],[170,3,170,4],[170,5,170,6],[170,7,170,8],[165,1,165,2],[165,3,165,4],[165,5,165,6],[165,7,165,8],[166,1,166,2],[166,3,166,4],[166,5,166,6],[166,7,166,8],[167,1,167,2],[167,3,167,4],[167,5,167,6],[167,7,167,8],[162,1,162,2],[162,3,162,4],[162,5,162,6],[162,7,162,8],[163,1,163,2],[163,3,163,4],[163,5,163,6],[163,7,163,8],[164,1,164,2],[164,3,164,4],[164,5,164,6],[164,7,164,8],[159,1,159,2],[159,3,159,4],[159,5,159,6],[159,7,159,8],[160,1,160,2],[160,3,160,4],[160,5,160,6],[160,7,160,8],[161,1,161,2],[161,3,161,4],[161,5,161,6],[161,7,161,8],[156,1,156,2],[156,3,156,4],[156,5,156,6],[156,7,156,8],[157,1,157,2],[157,3,157,4],[157,5,157,6],[157,7,157,8],[158,1,158,2],[158,3,158,4],[158,5,158,6],[158,7,158,8],[153,1,153,2],[153,3,153,4],[153,5,153,6],[153,7,153,8],[154,1,154,2],[154,3,154,4],[154,5,154,6],[154,7,154,8],[155,1,155,2],[155,3,155,4],[155,5,155,6],[155,7,155,8],[150,1,150,2],[150,3,150,4],[150,5,150,6],[150,7,150,8],[151,1,151,2],[151,3,151,4],[151,5,151,6],[151,7,151,8],[152,1,152,2],[152,3,152,4],[152,5,152,6],[152,7,152,8],[130,7,130,8],[377,0,377,7],[144,0,144,8],[145,3,145,4],[145,5,145,8],[146,1,146,2],[146,3,146,4],[146,5,146,6],[146,7,146,8],[147,1,147,2],[147,3,147,4],[147,5,147,6],[147,7,147,8],[148,1,148,2],[148,3,148,4],[148,5,148,6],[148,7,148,8],[149,1,149,2],[149,3,149,4],[149,5,149,6],[149,7,149,8],[138,7,138,8],[122,7,122,8],[123,7,123,8],[124,7,124,8],[125,7,125,8],[126,7,126,8],[127,7,127,8],[128,7,128,8],[129,7,129,8],[112,7,112,8],[113,7,113,8],[114,7,114,8],[115,7,115,8],[116,7,116,8],[117,7,117,8],[118,7,118,8],[119,7,119,8],[120,7,120,8],[136,7,136,8],[137,7,137,8],[108,7,108,8],[109,7,109,8],[110,7,110,8],[111,7,111,8],[129,5,129,6],[130,5,130,6],[81,7,81,8],[82,7,82,8],[83,7,83,8],[84,7,84,8],[85,7,85,8],[86,7,86,8],[87,7,87,8],[88,7,88,8],[89,7,89,8],[90,7,90,8],[91,7,91,8],[92,7,92,8],[93,7,93,8],[94,7,94,8],[95,7,95,8],[96,7,96,8],[97,7,97,8],[98,7,98,8],[99,7,99,8],[100,7,100,8],[101,7,101,8],[102,7,102,8],[120,5,120,6],[121,5,121,6],[122,5,122,6],[123,5,123,6],[125,5,125,6],[126,5,126,6],[127,5,127,6],[128,5,128,6],[111,5,111,6],[112,5,112,6],[113,5,113,6],[114,5,114,6],[115,5,115,6],[116,5,116,6],[117,5,117,6],[118,5,118,6],[119,5,119,6],[102,5,102,6],[103,5,103,6],[104,5,104,6],[105,5,105,6],[106,5,106,6],[107,5,107,6],[108,5,108,6],[109,5,109,6],[110,5,110,6],[104,7,104,8],[105,7,105,8],[121,7,121,8],[130,1,130,2],[81,3,81,4],[82,3,82,4],[83,3,83,4],[84,3,84,4],[85,3,85,4],[86,3,86,4],[87,3,87,4],[88,3,88,4],[89,3,89,4]],"merged_total":1381,"flags":["merged_cut"]}
[]
[null,null,null,null,null,null,"          (miejscowość, data)"]
[]
[]
[null,"A1. ORGANIZATOR PUBLICZNEGO TRANSPORTU ZBIOROWEGO\n(dane wypełnią się automatycznie po wpisaniu poprawnego numeru umowy w części A.3)"]
[null,"Nazwa organizatora publicznego transportu zbiorowego",{"$f":"'Rozliczenie kwartalne'!C6","v":""}]
[null,"NIP",{"$f":"'Rozliczenie kwartalne'!C7","v":""}]
[null,"REGON",{"$f":"'Rozliczenie kwartalne'!C8","v":""}]
[null,"Adres",{"$f":"'Rozliczenie kwartalne'!C9","v":""}]
[null,"Powiat",{"$f":"'Rozliczenie kwartalne'!C10","v":""}]
[null,"Województwo","mazowieckie"]
[null,"Numer dysponenta",{"$f":"'Rozliczenie kwartalne'!C12","v":""}]
[null,"A2. Dane osoby do kontaktu w sprawie wniosku"]
[null,"Imię",{"$f":"IF('Rozliczenie kwartalne'!C14=\"\",\"\",'Rozliczenie kwartalne'!C14)","v":""}]
[null,"Nazwisko",{"$f":"IF('Rozliczenie kwartalne'!C15=\"\",\"\",'Rozliczenie kwartalne'!C15)","v":""}]
[null,"Telefon ",{"$f":"IF('Rozliczenie kwartalne'!C16=\"\",\"\",'Rozliczenie kwartalne'!C16)","v":""}]
[null,"Adres e-mail",{"$f":"IF('Rozliczenie kwartalne'!C17=\"\",\"\",'Rozliczenie kwartalne'!C17)","v":""}]
[]
[null,null,null,null,"Wojewoda Mazowiecki\nWydział Infrastruktury i Rolnictwa\npl. Bankowy 3/5\n00-950 Warszawa"]
[]
["              ZAŁĄCZNIK NUMER 1 DO ROZLICZENIA DOPŁAT ZA ",null,null,null,null," 2025 ROKU - KALKULACJA "]
[null,null,null,null,"I KWARTAŁ"]
[" DEFICYTU NA LINIACH KOMUNIKACYJNYCH "]
[]
[]
[]
[]
["B.1  Dane dotyczące linii komunikacyjnych "]
[null,null,"MIESIĄC",{"$f":"IF(E22=Miesiące!A2,Miesiące!B2,IF(E22=Miesiące!A3,Miesiące!B5,IF(E22=Miesiące!A4,Miesiące!B8,IF(E22=Miesiące!A5,Miesiące!B11,\"\"))))","v":"STYCZEŃ"},null,"2025 r."]
["Lp.","Nazwa linii komunikacyjnej",null,"Suma kosztów osiągniętych na linii komunikacyjnej [zł]",null,"Suma przychodów osiągniętych na linii komunikacyjnych [zł]",null,"Wynik finansowy linii komunikacyjnej - deficyt [zł] "]
[1,"2",null,"3",null,"4",null,"5"]
["1",null,null,null,null,null,null,{"$f":"F32-D32","v":0}]
["2",null,null,null,null,null,null,{"$f":"F33-D33","v":0}]
["3",null,null,null,null,null,null,0]
["4",null,null,null,null,null,null,0]
["5",null,null,null,null,null,null,0]
["6",null,null,null,null,null,null,0]
["7",null,null,null,null,null,null,0]
["8",null,null,null,null,null,null,0]
["9",null,null,null,null,null,null,0]
["10",null,null,null,null,null,null,0]
["11",null,null,null,null,null,null,0]
["12",null,null,null,null,null,null,0]
["13",null,null,null,null,null,null,0]
["14",null,null,null,null,null,null,0]
["15",null,null,null,null,null,null,0]
["16",null,null,null,null,null,null,0]
["17",null,null,null,null,null,null,0]
["18",null,null,null,null,null,null,0]
["19",null,null,null,null,null,null,0]
["20",null,null,null,null,null,null,0]
["21",null,null,null,null,null,null,0]
["22",null,null,null,null,null,null,0]
["23",null,null,null,null,null,null,0]
["24",null,null,null,null,null,null,0]
["25",null,null,null,null,null,null,0]
["26",null,null,null,null,null,null,0]
["27",null,null,null,null,null,null,0]
["28",null,null,null,null,null,null,0]
["29",null,null,null,null,null,null,0]
["30",null,null,null,null,null,null,0]
["31",null,null,null,null,null,null,0]
["32",null,null,null,null,null,null,0]
["33",null,null,null,null,null,null,0]
["34",null,null,null,null,null,null,0]
["35",null,null,null,null,null,null,0]
["36",null,null,null,null,null,null,0]
["37",null,null,null,null,null,null,0]
["38",null,null,null,null,null,null,0]
["39",null,null,null,null,null,null,0]
["40",null,null,null,null,null,null,0]
["41",null,null,null,null,null,null,0]
["42",null,null,null,null,null,null,0]
["43",null,null,null,null,null,null,0]
["44",null,null,null,null,null,null,0]
["45",null,null,null,null,null,null,0]
["46",null,null,null,null,null,null,0]
["47",null,null,null,null,null,null,0]
["48",null,null,null,null,null,null,0]
["49",null,null,null,null,null,null,0]
["50",null,null,null,null,null,null,0]
["51",null,null,null,null,null,null,{"$f":"F82-D82","v":0}]
["52",null,null,null,null,null,null,0]
["53",null,null,null,null,null,null,0]
["54",null,null,null,null,null,null,0]
["55",null,null,null,null,null,null,0]
["56",null,null,null,null,null,null,0]
["57",null,null,null,null,null,null,0]
["58",null,null,null,null,null,null,0]
["59",null,null,null,null,null,null,0]
["60",null,null,null,null,null,null,0]
["61",null,null,null,null,null,null,0]
["62",null,null,null,null,null,null,0]
["63",null,null,null,null,null,null,0]
["64",null,null,null,null,null,null,0]
["65",null,null,null,null,null,null,0]
["66",null,null,null,null,null,null,0]
["67",null,null,null,null,null,null,0]
["68",null,null,null,null,null,null,0]
["69",null,null,null,null,null,null,0]
["70",null,null,null,null,null,null,0]
["71",null,null,null,null,null,null,0]
["72",null,null,null,null,null,null,0]
["73",null,null,null,null,null,null,0]
["74",null,null,null,null,null,null,0]
["75",null,null,null,null,null,null,0]
["76",null,null,null,null,null,null,0]
["77",null,null,null,null,null,null,0]
["78",null,null,null,null,null,null,0]
["79",null,null,null,null,null,null,0]
["80",null,null,null,null,null,null,0]
["81",null,null,null,null,null,null,0]
["82",null,null,null,null,null,null,0]
["83",null,null,null,null,null,null,0]
["84",null,null,null,null,null,null,0]
["85",null,null,null,null,null,null,0]
["86",null,null,null,null,null,null,0]
["87",null,null,null,null,null,null,0]
["88",null,null,null,null,null,null,0]
["89",null,null,null,null,null,null,0]
["90",null,null,null,null,null,null,0]
["91",null,null,null,null,null,null,0]
["92",null,null,null,null,null,null,0]
["93",null,null,null,null,null,null,0]
["94",null,null,null,null,null,null,0]
["95",null,null,null,null,null,null,0]
["96",null,null,null,null,null,null,0]
["97",null,null,null,null,null,null,0]
["98",null,null,null,null,null,null,0]
["99",null,null,null,null,null,null,0]
["100",null,null,null,null,null,null,0]
["101",null,null,null,null,null,null,0]
["102",null,null,null,null,null,null,0]
["103",null,null,null,null,null,null,0]
["104",null,null,null,null,null,null,0]
["105",null,null,null,null,null,null,0]
["106",null,null,null,null,null,null,0]
["107",null,null,null,null,null,null,0]
["108",null,null,null,null,null,null,0]
["109",null,null,null,null,null,null,0]
["110",null,null,null,null,null,null,0]
["Ogółem:",null,null,{"$f":"SUM(D32:D141)","v":0},null,{"$f":"SUM(F32:F141)","v":0},null,{"$f":"SUMIF(H32:H141,\"<0\")","v":0}]
[]
[]
["B.2  Dane dotyczące linii komunikacyjnych "]
[null,null,"MIESIĄC",{"$f":"IF(E22=Miesiące!A2,Miesiące!B3,IF(E22=Miesiące!A3,Miesiące!B6,IF(E22=Miesiące!A4,Miesiące!B9,IF(E22=Miesiące!A5,Miesiące!B12,\"\"))))","v":"LUTY"},null,"2025 r."]
["Lp.","Nazwa linii komunikacyjnej",null,"Suma kosztów osiągniętych na linii komunikacyjnej [zł]",null,"Suma przychodów osiągniętych na linii komunikacyjnych [zł]",null,"Wynik finansowy linii komunikacyjnej - deficyt [zł] "]
[1,"2",null,"3",null,"4",null,"5"]
["1",{"$f":"IF(B32=\"\",\"\",B32)","v":""},null,null,null,null,null,{"$f":"F149-D149","v":0}]
["2",{"$f":"IF(B33=\"\",\"\",B33)","v":""},null,null,null,null,null,{"$f":"F150-D150","v":0}]
["3","",null,null,null,null,null,0]
["4","",null,null,null,null,null,0]
["5","",null,null,null,null,null,0]
["6","",null,null,null,null,null,0]
["7","",null,null,null,null,null,0]
["8","",null,null,null,null,null,0]
["9","",null,null,null,null,null,0]
["10","",null,null,null,null,null,0]
["11","",null,null,null,null,null,0]
["12","",null,null,null,null,null,0]
["13","",null,null,null,null,null,0]
["14","",null,null,null,null,null,0]
["15","",null,null,null,null,null,0]
["16","",null,null,null,null,null,0]
["17","",null,null,null,null,null,0]
["18","",null,null,null,null,null,0]
["19","",null,null,null,null,null,0]
["20","",null,null,null,null,null,0]
["21","",null,null,null,null,null,0]
["22","",null,null,null,null,null,0]
["23","",null,null,null,null,null,0]
["24","",null,null,null,null,null,0]
["25","",null,null,null,null,null,0]
["26","",null,null,null,null,null,0]
["27","",null,null,null,null,null,0]
["28","",null,null,null,null,null,0]
["29","",null,null,null,null,null,0]
["30","",null,null,null,null,null,0]
["31","",null,null,null,null,null,0]
["32","",null,null,null,null,null,0]
["33","",null,null,null,null,null,0]
["34","",null,null,null,null,null,0]
["35","",null,null,null,null,null,0]
["36","",null,null,null,null,null,0]
["37","",null,null,null,null,null,0]
["38","",null,null,null,null,null,0]
["39","",null,null,null,null,null,0]
["40","",null,null,null,null,null,0]
["41","",null,null,null,null,null,0]
["42","",null,null,null,null,null,0]
["43","",null,null,null,null,null,0]
["44","",null,null,null,null,null,0]
["45","",null,null,null,null,null,0]
["46","",null,null,null,null,null,0]
["47","",null,null,null,null,null,0]
["48","",null,null,null,null,null,0]
["49","",null,null,null,null,null,0]
["50","",null,null,null,null,null,0]
["51","",null,null,null,null,null,0]
["52","",null,null,null,null,null,0]
["53","",null,null,null,null,null,0]
["54","",null,null,null,null,null,0]
["55","",null,null,null,null,null,0]
["56","",null,null,null,null,null,0]
["57","",null,null,null,null,null,0]
["58","",null,null,null,null,null,0]
["59","",null,null,null,null,null,0]
["60","",null,null,null,null,null,0]
["61","",null,null,null,null,null,0]
["62","",null,null,null,null,null,0]
["63","",null,null,null,null,null,0]
["64","",null,null,null,null,null,0]
["65","",null,null,null,null,null,0]
["66",{"$f":"IF(B97=\"\",\"\",B97)","v":""},null,null,null,null,null,0]
["67","",null,null,null,null,null,0]
["68","",null,null,null,null,null,0]
["69","",null,null,null,null,null,0]
["70","",null,null,null,null,null,0]
["71","",null,null,null,null,null,0]
["72","",null,null,null,null,null,0]
["73","",null,null,null,null,null,0]
["74","",null,null,null,null,null,0]
["75","",null,null,null,null,null,0]
["76","",null,null,null,null,null,0]
["77","",null,null,null,null,null,0]
["78","",null,null,null,null,null,0]
["79","",null,null,null,null,null,0]
["80","",null,null,null,null,null,0]
["81","",null,null,null,null,null,0]
["82","",null,null,null,null,null,0]
["83","",null,null,null,null,null,0]
["84","",null,null,null,null,null,0]
["85","",null,null,null,null,null,0]
["86","",null,null,null,null,null,0]
["87","",null,null,null,null,null,0]
["88","",null,null,null,null,null,0]
["89","",null,null,null,null,null,0]
["90","",null,null,null,null,null,0]
["91","",null,null,null,null,null,0]
["92","",null,null,null,null,null,0]
["93","",null,null,null,null,null,0]
["94","",null,null,null,null,null,0]
["95","",null,null,null,null,null,0]
["96","",null,null,null,null,null,0]
["97","",null,null,null,null,null,0]
["98","",null,null,null,null,null,0]
["99","",null,null,null,null,null,0]
["100","",null,null,null,null,null,0]
["101","",null,null,null,null,null,0]
["102","",null,null,null,null,null,0]
["103","",null,null,null,null,null,0]
["104","",null,null,null,null,null,0]
["105","",null,null,null,null,null,0]
["106","",null,null,null,null,null,0]
["107","",null,null,null,null,null,0]
["108","",null,null,null,null,null,0]
["109","",null,null,null,null,null,0]
["110","",null,null,null,null,null,0]
["Ogółem:",null,null,{"$f":"SUM(D149:D258)","v":0},null,{"$f":"SUM(F149:F258)","v":0},null,{"$f":"SUMIF(H149:H258,\"<0\")","v":0}]
[]
[]
["B.3  Dane dotyczące linii komunikacyjnych "]
[null,null,"MIESIĄC",{"$f":"IF(E22=Miesiące!A2,Miesiące!B4,IF(E22=Miesiące!A3,Miesiące!B7,IF(E22=Miesiące!A4,Miesiące!B10,IF(E22=Miesiące!A5,Miesiące!B13,\"\"))))","v":"MARZEC"},null,"2025 r."]
["Lp.","Nazwa linii komunikacyjnej",null,"Suma kosztów osiągniętych na linii komunikacyjnej [zł]",null,"Suma przychodów osiągniętych na linii komunikacyjnych [zł]",null,"Wynik finansowy linii komunikacyjnej - deficyt [zł] "]
[1,"2",null,"3",null,"4",null,"5"]
["1",{"$f":"IF(B32=\"\",\"\",B32)","v":""},null,null,null,null,null,{"$f":"F266-D266","v":0}]
["2",{"$f":"IF(B33=\"\",\"\",B33)","v":""},null,null,null,null,null,{"$f":"F267-D267","v":0}]
["3","",null,null,null,null,null,0]
["4","",null,null,null,null,null,0]
["5","",null,null,null,null,null,0]
["6","",null,null,null,null,null,0]
["7","",null,null,null,null,null,0]
["8","",null,null,null,null,null,0]
["9","",null,null,null,null,null,0]
["10","",null,null,null,null,null,0]
["11","",null,null,null,null,null,0]
["12","",null,null,null,null,null,0]
["13","",null,null,null,null,null,0]
["14","",null,null,null,null,null,0]
["15","",null,null,null,null,null,0]
["16","",null,null,null,null,null,0]
["17","",null,null,null,null,null,0]
["18","",null,null,null,null,null,0]
["19","",null,null,null,null,null,0]
["20","",null,null,null,null,null,0]
["21","",null,null,null,null,null,0]
["22","",null,null,null,null,null,0]
["23","",null,null,null,null,null,0]
["24","",null,null,null,null,null,0]
["25","",null,null,null,null,null,0]
["26","",null,null,null,null,null,0]
["27","",null,null,null,null,null,0]
["28","",null,null,null,null,null,0]
["29","",null,null,null,null,null,0]
["30","",null,null,null,null,null,0]
["31","",null,null,null,null,null,0]
["32","",null,null,null,null,null,0]
["33","",null,null,null,null,null,0]
["34","",null,null,null,null,null,0]
["35","",null,null,null,null,null,0]
["36","",null,null,null,null,null,0]
["37","",null,null,null,null,null,0]
["38","",null,null,null,null,null,0]
["39","",null,null,null,null,null,0]
["40","",null,null,null,null,null,0]
["41","",null,null,null,null,null,0]
["42","",null,null,null,null,null,0]
["43","",null,null,null,null,null,0]
["44","",null,null,null,null,null,0]
["45","",null,null,null,null,null,0]
["46","",null,null,null,null,null,0]
["47","",null,null,null,null,null,0]
["48","",null,null,null,null,null,0]
["49","",null,null,null,null,null,0]
["50","",null,null,null,null,null,0]
["51","",null,null,null,null,null,0]
["52","",null,null,null,null,null,0]
["53","",null,null,null,null,null,0]
["54","",null,null,null,null,null,0]
["55","",null,null,null,null,null,0]
["56","",null,null,null,null,null,0]
["57","",null,null,null,null,null,0]
["58","",null,null,null,null,null,0]
["59","",null,null,null,null,null,0]
["60","",null,null,null,null,null,0]
["61","",null,null,null,null,null,0]
["62","",null,null,null,null,null,0]
["63","",null,null,null,null,null,0]
["64","",null,null,null,null,null,0]
["65","",null,null,null,null,null,0]
["66",{"$f":"IF(B97=\"\",\"\",B97)","v":""},null,null,null,null,null,0]
["67","",null,null,null,null,null,0]
["68","",null,null,null,null,null,0]
["69","",null,null,null,null,null,0]
["70","",null,null,null,null,null,0]
["71","",null,null,null,null,null,0]
["72","",null,null,null,null,null,0]
["73","",null,null,null,null,null,0]
["74","",null,null,null,null,null,0]
["75","",null,null,null,null,null,0]
["76","",null,null,null,null,null,0]
["77","",null,null,null,null,null,0]
["78","",null,null,null,null,null,0]
["79","",null,null,null,null,null,0]
["80","",null,null,null,null,null,0]
["81","",null,null,null,null,null,0]
["82","",null,null,null,null,null,0]
["83","",null,null,null,null,null,0]
["84","",null,null,null,null,null,0]
["85","",null,null,null,null,null,0]
["86","",null,null,null,null,null,0]
["87","",null,null,null,null,null,0]
["88","",null,null,null,null,null,0]
["89","",null,null,null,null,null,0]
["90","",null,null,null,null,null,0]
["91","",null,null,null,null,null,0]
["92","",null,null,null,null,null,0]
["93","",null,null,null,null,null,0]
["94","",null,null,null,null,null,0]
["95","",null,null,null,null,null,0]
["96","",null,null,null,null,null,0]
["97","",null,null,null,null,null,0]
["98","",null,null,null,null,null,0]
["99","",null,null,null,null,null,0]
["100","",null,null,null,null,null,0]
["101","",null,null,null,null,null,0]
["102","",null,null,null,null,null,0]
["103","",null,null,null,null,null,0]
["104","",null,null,null,null,null,0]
["105","",null,null,null,null,null,0]
["106","",null,null,null,null,null,0]
["107","",null,null,null,null,null,0]
["108","",null,null,null,null,null,0]
["109","",null,null,null,null,null,0]
["110","",null,null,null,null,null,0]
["Ogółem:",null,null,{"$f":"SUM(D266:D375)","v":0},null,{"$f":"SUM(F266:F375)","v":0},null,{"$f":"SUMIF(H266:H375,\"<0\")","v":0}]
[]
["Tabele B.1 - B.3 proszę wypełnić zgodnie z wytycznymi podanymi poniżej:\nKolumna nr 2\nProszę wskazać nazwę linii komunikacyjnych zgodnie z umową o dopłatę (§2 ust. 2). \nKolumna nr 3\nProszę wskazać osiągniętą sumę kosztów funkcjonowania linii komunikacyjnej w okresie rozliczeniowym.\nKolumna nr 4\nProszę wskazać osiągniętą sumę przychodów wygenerowanych w związku z funkcjonowaniem linii komunikacyjnej. \nUwaga, należy uwzględnić również przychody z dotacji na wyrównanie straty z tytułu utraconych przychodów w związku ze stosowaniem ustawowych uprawnień do ulgowych przejazdów w publicznym transporcie zbiorowym.\nKolumna 5\nWynik finansowy linii komunikacyjnej (kol 4 - kol 3)"]
["C.1 Oświadczenie"]
["Oświadczam, że dane zawarte w załączniku są kompletne i zgodne ze stanem faktycznym."]
[]
["Łączny  deficyt nieuwzględniający rozsądnego zysku na liniach komunikacyjnych wyniósł:",null,null,null,null,{"$f":"H142+H259+H376","v":0}]
[]
[]
[]
[null,null,null,"dane osób działających w imieniu organizatora publicznego transportu zbiorowego składających kwalifikowany podpis elektroniczny pod wnioskiem "]

{"sheet":"Załącznik nr 2 do rozliczenia","index":2,"n_rows":393,"n_cols":9,"rows_kept":393,"cut":false,"hidden":false,"merged":[[364,7,364,8],[365,7,365,8],[366,7,366,8],[367,7,367,8],[368,7,368,8],[369,7,369,8],[352,7,352,8],[353,7,353,8],[354,7,354,8],[355,7,355,8],[356,7,356,8],[357,7,357,8],[358,7,358,8],[359,7,359,8],[360,7,360,8],[347,7,347,8],[348,7,348,8],[349,7,349,8],[350,7,350,8],[351,7,351,8],[334,7,334,8],[335,7,335,8],[336,7,336,8],[337,7,337,8],[338,7,338,8],[339,7,339,8],[340,7,340,8],[341,7,341,8],[342,7,342,8],[361,7,361,8],[362,7,362,8],[363,7,363,8],[330,7,330,8],[331,7,331,8],[332,7,332,8],[333,7,333,8],[316,7,316,8],[317,7,317,8],[318,7,318,8],[319,7,319,8],[320,7,320,8],[321,7,321,8],[322,7,322,8],[323,7,323,8],[324,7,324,8],[343,7,343,8],[344,7,344,8],[345,7,345,8],[346,7,346,8],[313,7,313,8],[314,7,314,8],[315,7,315,8],[298,7,298,8],[299,7,299,8],[300,7,300,8],[301,7,301,8],[302,7,302,8],[303,7,303,8],[304,7,304,8],[305,7,305,8],[306,7,306,8],[325,7,325,8],[326,7,326,8],[327,7,327,8],[328,7,328,8],[329,7,329,8],[295,7,295,8],[296,7,296,8],[297,7,297,8],[361,5,361,6],[362,5,362,6],[363,5,363,6],[364,5,364,6],[365,5,365,6],[366,5,366,6],[367,5,367,6],[368,5,368,6],[334,5,334,6],[335,5,335,6],[336,5,336,6],[337,5,337,6],[338,5,338,6],[339,5,339,6],[340,5,340,6],[341,5,341,6],[342,5,342,6],[325,5,325,6],[326,5,326,6],[327,5,327,6],[328,5,328,6],[329,5,329,6],[330,5,330,6],[307,7,307,8],[308,7,308,8],[309,7,309,8],[310,7,310,8],[311,7,311,8],[312,7,312,8],[369,5,369,6],[352,5,352,6],[353,5,353,6],[354,5,354,6],[355,5,355,6],[356,5,356,6],[357,5,357,6],[358,5,358,6],[359,5,359,6],[360,5,360,6],[343,5,343,6],[344,5,344,6],[345,5,345,6],[346,5,346,6],[347,5,347,6],[348,5,348,6],[349,5,349,6],[350,5,350,6],[351,5,351,6],[331,5,331,6],[332,5,332,6],[333,5,333,6],[316,5,316,6],[317,5,317,6],[318,5,318,6],[319,5,319,6],[320,5,320,6],[321,5,321,6],[322,5,322,6],[323,5,323,6],[324,5,324,6],[307,5,307,6],[308,5,308,6],[309,5,309,6],[310,5,310,6],[311,5,311,6],[312,5,312,6],[313,5,313,6],[314,5,314,6],[315,5,315,6],[364,1,364,2],[365,1,365,2],[366,1,366,2],[367,1,367,2],[368,1,368,2],[369,1,369,2],[289,5,289,6],[290,5,290,6],[291,5,291,6],[292,5,292,6],[293,5,293,6],[294,5,294,6],[295,5,295,6],[296,5,296,6],[297,5,297,6],[298,5,298,6],[299,5,299,6],[300,5,300,6],[301,5,301,6],[302,5,302,6],[303,5,303,6],[304,5,304,6],[305,5,305,6],[306,5,306,6],[355,1,355,2],[356,1,356,2],[357,1,357,2],[358,1,358,2],[359,1,359,2],[360,1,360,2],[361,1,361,2],[362,1,362,2],[363,1,363,2],[346,1,346,2],[347,1,347,2],[348,1,348,2],[349,1,349,2],[350,1,350,2],[351,1,351,2],[352,1,352,2],[353,1,353,2],[354,1,354,2],[337,1,337,2],[338,1,338,2],[339,1,339,2],[340,1,340,2],[341,1,341,2],[342,1,342,2],[343,1,343,2],[344,1,344,2],[345,1,345,2],[328,1,328,2],[329,1,329,2],[330,1,330,2],[331,1,331,2],[332,1,332,2],[333,1,333,2],[334,1,334,2],[335,1,335,2],[336,1,336,2],[319,1,319,2],[320,1,320,2],[321,1,321,2],[322,1,322,2],[323,1,323,2],[324,1,324,2],[325,1,325,2],[326,1,326,2],[327,1,327,2],[282,7,282,8],[277,1,277,2],[277,5,277,6],[277,7,277,8],[278,1,278,2],[278,5,278,6],[278,7,278,8],[279,1,279,2],[310,1,310,2],[311,1,311,2],[312,1,312,2],[313,1,313,2],[314,1,314,2],[315,1,315,2],[316,1,316,2],[317,1,317,2],[318,1,318,2],[301,1,301,2],[302,1,302,2],[303,1,303,2],[304,1,304,2],[305,1,305,2],[306,1,306,2],[307,1,307,2],[308,1,308,2],[309,1,309,2],[289,7,289,8],[290,7,290,8],[291,7,291,8],[292,7,292,8],[293,7,293,8],[294,7,294,8],[280,1,280,2],[280,5,280,6],[280,7,280,8],[281,1,281,2],[281,5,281,6],[281,7,281,8],[282,1,282,2],[282,5,282,6],[260,1,260,2],[260,5,260,6],[260,7,260,8],[370,5,370,6],[370,7,370,8],[370,0,370,2],[258,1,258,2],[258,5,258,6],[258,7,258,8],[259,1,259,2],[259,5,259,6],[259,7,259,8],[289,1,289,2],[290,1,290,2],[291,1,291,2],[292,1,292,2],[293,1,293,2],[294,1,294,2],[295,1,295,2],[296,1,296,2],[297,1,297,2],[298,1,298,2],[299,1,299,2],[300,1,300,2],[286,1,286,2],[286,5,286,6],[286,7,286,8],[287,1,287,2],[287,5,287,6],[287,7,287,8],[288,1,288,2],[288,5,288,6],[288,7,288,8],[283,1,283,2],[283,5,283,6],[283,7,283,8],[284,1,284,2],[284,5,284,6],[284,7,284,8],[285,1,285,2],[285,5,285,6],[285,7,285,8],[279,5,279,6],[279,7,279,8],[274,1,274,2],[274,5,274,6],[274,7,274,8],[275,1,275,2],[275,5,275,6],[275,7,275,8],[276,1,276,2],[276,5,276,6],[276,7,276,8],[271,1,271,2],[271,5,271,6],[271,7,271,8],[272,1,272,2],[272,5,272,6],[272,7,272,8],[273,1,273,2],[273,5,273,6],[273,7,273,8],[268,1,268,2],[268,5,268,6],[268,7,268,8],[269,1,269,2],[269,5,269,6],[269,7,269,8],[270,1,270,2],[270,5,270,6],[270,7,270,8],[265,1,265,2],[265,5,265,6],[265,7,265,8],[266,1,266,2],[266,5,266,6],[266,7,266,8],[267,1,267,2],[267,5,267,6],[267,7,267,8],[262,1,262,2],[262,5,262,6],[262,7,262,8],[263,1,263,2],[263,5,263,6],[263,7,263,8],[264,1,264,2],[264,5,264,6],[264,7,264,8],[261,1,261,2],[261,5,261,6],[261,7,261,8],[253,1,253,2],[253,5,253,6],[253,7,253,8],[250,1,250,2],[250,5,250,6],[250,7,250,8],[251,1,251,2],[251,5,251,6],[251,7,251,8],[252,1,252,2],[252,5,252,6],[252,7,252,8],[256,0,256,8],[257,3,257,4],[257,5,257,8],[254,0,254,2],[254,5,254,6],[254,7,254,8],[247,1,247,2],[247,5,247,6],[247,7,247,8],[248,1,248,2],[248,5,248,6],[248,7,248,8],[249,1,249,2],[249,5,249,6],[249,7,249,8],[244,1,244,2],[244,5,244,6],[244,7,244,8],[245,1,245,2],[245,5,245,6],[245,7,245,8],[246,1,246,2],[246,5,246,6],[246,7,246,8],[241,1,241,2],[241,5,241,6],[241,7,241,8],[242,1,242,2],[242,5,242,6],[242,7,242,8],[243,1,243,2],[243,5,243,6],[243,7,243,8],[238,1,238,2],[238,5,238,6],[238,7,238,8],[239,1,239,2],[239,5,239,6],[239,7,239,8],[240,1,240,2],[240,5,240,6],[240,7,240,8],[235,1,235,2],[235,5,235,6],[235,7,235,8],[236,1,236,2],[236,5,236,6],[236,7,236,8],[237,1,237,2],[237,5,237,6],[237,7,237,8],[232,1,232,2],[232,5,232,6],[232,7,232,8],[233,1,233,2],[233,5,233,6],[233,7,233,8],[234,1,234,2],[234,5,234,6],[234,7,234,8],[229,1,229,2],[229,5,229,6],[229,7,229,8],[230,1,230,2],[230,5,230,6],[230,7,230,8],[231,1,231,2],[231,5,231,6],[231,7,231,8],[226,1,226,2],[226,5,226,6],[226,7,226,8],[227,1,227,2],[227,5,227,6],[227,7,227,8],[228,1,228,2],[228,5,228,6],[228,7,228,8],[223,1,223,2],[223,5,223,6],[223,7,223,8],[224,1,224,2],[224,5,224,6],[224,7,224,8],[225,1,225,2],[225,5,225,6],[225,7,225,8],[220,1,220,2],[220,5,220,6],[220,7,220,8],[221,1,221,2],[221,5,221,6],[221,7,221,8],[222,1,222,2],[222,5,222,6],[222,7,222,8],[217,1,217,2],[217,5,217,6],[217,7,217,8],[218,1,218,2],[218,5,218,6],[218,7,218,8],[219,1,219,2],[219,5,219,6],[219,7,219,8],[214,1,214,2],[214,5,214,6],[214,7,214,8],[215,1,215,2],[215,5,215,6],[215,7,215,8],[216,1,216,2],[216,5,216,6],[216,7,216,8],[211,1,211,2],[211,5,211,6],[211,7,211,8],[212,1,212,2],[212,5,212,6],[212,7,212,8],[213,1,213,2],[213,5,213,6],[213,7,213,8],[208,1,208,2],[208,5,208,6],[208,7,208,8],[209,1,209,2],[209,5,209,6],[209,7,209,8],[210,1,210,2],[210,5,210,6],[210,7,210,8],[205,1,205,2],[205,5,205,6],[205,7,205,8],[206,1,206,2],[206,5,206,6],[206,7,206,8],[207,1,207,2],[207,5,207,6],[207,7,207,8],[202,1,202,2],[202,5,202,6],[202,7,202,8],[203,1,203,2],[203,5,203,6],[203,7,203,8],[204,1,204,2],[204,5,204,6],[204,7,204,8],[199,1,199,2],[199,5,199,6],[199,7,199,8],[200,1,200,2],[200,5,200,6],[200,7,200,8],[201,1,201,2],[201,5,201,6],[201,7,201,8],[196,1,196,2],[196,5,196,6],[196,7,196,8],[197,1,197,2],[197,5,197,6],[197,7,197,8],[198,1,198,2],[198,5,198,6],[198,7,198,8],[193,1,193,2],[193,5,193,6],[193,7,193,8],[194,1,194,2],[194,5,194,6],[194,7,194,8],[195,1,195,2],[195,5,195,6],[195,7,195,8],[190,1,190,2],[190,5,190,6],[190,7,190,8],[191,1,191,2],[191,5,191,6],[191,7,191,8],[192,1,192,2],[192,5,192,6],[192,7,192,8],[187,1,187,2],[187,5,187,6],[187,7,187,8],[188,1,188,2],[188,5,188,6],[188,7,188,8],[189,1,189,2],[189,5,189,6],[189,7,189,8],[184,1,184,2],[184,5,184,6],[184,7,184,8],[185,1,185,2],[185,5,185,6],[185,7,185,8],[186,1,186,2],[186,5,186,6],[186,7,186,8],[181,1,181,2],[181,5,181,6],[181,7,181,8],[182,1,182,2],[182,5,182,6],[182,7,182,8],[183,1,183,2],[183,5,183,6],[183,7,183,8],[178,1,178,2],[178,5,178,6],[178,7,178,8],[179,1,179,2],[179,5,179,6],[179,7,179,8],[180,1,180,2],[180,5,180,6],[180,7,180,8],[175,1,175,2],[175,5,175,6],[175,7,175,8],[176,1,176,2],[176,5,176,6],[176,7,176,8],[177,1,177,2],[177,5,177,6],[177,7,177,8],[172,1,172,2],[172,5,172,6],[172,7,172,8],[173,1,173,2],[173,5,173,6],[173,7,173,8],[174,1,174,2],[174,5,174,6],[174,7,174,8],[169,1,169,2],[169,5,169,6],[169,7,169,8],[170,1,170,2],[170,5,170,6],[170,7,170,8],[171,1,171,2],[171,5,171,6],[171,7,171,8],[166,1,166,2],[166,5,166,6],[166,7,166,8],[167,1,167,2],[167,5,167,6],[167,7,167,8],[168,1,168,2],[168,5,168,6],[168,7,168,8],[163,1,163,2],[163,5,163,6],[163,7,163,8],[164,1,164,2],[164,5,164,6],[164,7,164,8],[165,1,165,2],[165,5,165,6],[165,7,165,8],[160,1,160,2],[160,5,160,6],[160,7,160,8],[161,1,161,2],[161,5,161,6],[161,7,161,8],[162,1,162,2],[162,5,162,6],[162,7,162,8],[157,1,157,2],[157,5,157,6],[157,7,157,8],[158,1,158,2],[158,5,158,6],[158,7,158,8],[159,1,159,2],[159,5,159,6],[159,7,159,8],[154,1,154,2],[154,5,154,6],[154,7,154,8],[155,1,155,2],[155,5,155,6],[155,7,155,8],[156,1,156,2],[156,5,156,6],[156,7,156,8],[129,1,129,2],[129,5,129,6],[129,7,129,8],[151,1,151,2],[151,5,151,6],[151,7,151,8],[152,1,152,2],[152,5,152,6],[152,7,152,8],[153,1,153,2],[153,5,153,6],[153,7,153,8],[148,1,148,2],[148,5,148,6],[148,7,148,8],[149,1,149,2],[149,5,149,6],[149,7,149,8],[150,1,150,2],[150,5,150,6],[150,7,150,8],[111,7,111,8],[112,7,112,8],[113,7,113,8],[114,7,114,8],[115,7,115,8],[144,5,144,6],[144,7,144,8],[145,1,145,2],[145,5,145,6],[145,7,145,8],[146,1,146,2],[146,5,146,6],[146,7,146,8],[147,1,147,2],[147,5,147,6],[147,7,147,8],[125,7,125,8],[126,7,126,8],[127,7,127,8],[140,0,140,8],[142,1,142,2],[142,5,142,6],[142,7,142,8],[143,1,143,2],[143,5,143,6],[143,7,143,8],[141,3,141,4],[141,5,141,8],[131,1,131,2],[131,5,131,6],[131,7,131,8],[132,1,132,2],[124,5,124,6],[125,5,125,6],[126,5,126,6],[127,5,127,6],[78,7,78,8],[79,7,79,8],[80,7,80,8],[81,7,81,8],[82,7,82,8],[83,7,83,8],[84,7,84,8],[85,7,85,8],[86,7,86,8],[87,7,87,8],[88,7,88,8],[89,7,89,8],[90,7,90,8],[91,7,91,8],[92,7,92,8],[93,7,93,8],[94,7,94,8],[95,7,95,8],[96,7,96,8],[116,7,116,8],[117,7,117,8],[118,7,118,8],[119,7,119,8],[120,7,120,8],[121,7,121,8],[122,7,122,8],[123,7,123,8],[124,7,124,8],[122,5,122,6],[123,5,123,6],[106,5,106,6],[107,5,107,6],[108,5,108,6],[109,5,109,6],[110,5,110,6],[111,5,111,6],[112,5,112,6],[113,5,113,6],[114,5,114,6],[97,5,97,6],[98,5,98,6],[99,5,99,6],[100,5,100,6],[101,5,101,6],[102,5,102,6],[103,5,103,6],[104,5,104,6],[105,5,105,6],[94,5,94,6],[95,5,95,6],[96,5,96,6],[114,1,114,2],[115,1,115,2],[116,1,116,2],[117,1,117,2],[118,1,118,2],[119,1,119,2],[120,1,120,2],[121,1,121,2],[97,7,97,8],[115,5,115,6],[116,5,116,6],[117,5,117,6],[118,5,118,6],[119,5,119,6],[120,5,120,6],[121,5,121,6],[98,7,98,8],[99,7,99,8],[100,7,100,8],[101,7,101,8],[102,7,102,8],[103,7,103,8],[104,7,104,8],[105,7,105,8],[106,7,106,8],[107,7,107,8],[108,7,108,8],[109,7,109,8],[110,7,110,8],[112,1,112,2],[113,1,113,2],[96,1,96,2],[97,1,97,2],[98,1,98,2],[99,1,99,2],[100,1,100,2],[101,1,101,2],[102,1,102,2],[103,1,103,2],[104,1,104,2],[123,1,123,2],[124,1,124,2],[125,1,125,2],[126,1,126,2],[127,1,127,2],[78,5,78,6],[79,5,79,6],[80,5,80,6],[81,5,81,6],[82,5,82,6],[83,5,83,6],[84,5,84,6],[85,5,85,6],[86,5,86,6],[87,5,87,6],[88,5,88,6],[89,5,89,6],[90,5,90,6],[91,5,91,6],[92,5,92,6],[93,5,93,6],[19,0,20,3],[19,5,20,8],[0,5,0,7],[1,6,1,8],[2,5,2,7],[4,1,4,2],[12,1,12,2],[27,1,27,2],[27,5,27,6],[27,7,27,8],[25,3,25,4],[25,5,25,8],[28,1,28,2],[28,5,28,6],[28,7,28,8],[21,0,21,8],[24,0,24,8],[26,1,26,2],[26,5,26,6],[26,7,26,8],[31,1,31,2],[31,5,31,6],[31,7,31,8],[32,1,32,2],[32,5,32,6],[32,7,32,8],[29,1,29,2],[29,5,29,6],[29,7,29,8],[30,1,30,2],[30,5,30,6],[30,7,30,8],[35,1,35,2],[35,5,35,6],[35,7,35,8],[36,1,36,2],[36,5,36,6],[36,7,36,8],[33,1,33,2],[33,5,33,6],[33,7,33,8],[34,1,34,2],[34,5,34,6],[34,7,34,8],[39,1,39,2],[39,5,39,6],[39,7,39,8],[40,1,40,2],[40,5,40,6],[40,7,40,8],[37,1,37,2],[37,5,37,6],[37,7,37,8],[38,1,38,2],[38,5,38,6],[38,7,38,8],[43,1,43,2],[43,5,43,6],[43,7,43,8],[44,1,44,2],[44,5,44,6],[44,7,44,8],[41,1,41,2],[41,5,41,6],[41,7,41,8],[42,1,42,2],[42,5,42,6],[42,7,42,8],[47,1,47,2],[47,5,47,6],[47,7,47,8],[48,1,48,2],[48,5,48,6],[48,7,48,8],[45,1,45,2],[45,5,45,6],[45,7,45,8],[46,1,46,2],[46,5,46,6],[46,7,46,8],[51,1,51,2],[51,5,51,6],[51,7,51,8],[52,1,52,2],[52,5,52,6],[52,7,52,8],[49,1,49,2],[49,5,49,6],[49,7,49,8],[50,1,50,2],[50,5,50,6],[50,7,50,8],[55,1,55,2],[55,5,55,6],[55,7,55,8],[56,1,56,2],[56,5,56,6],[56,7,56,8],[53,1,53,2],[53,5,53,6],[53,7,53,8],[54,1,54,2],[54,5,54,6],[54,7,54,8],[59,1,59,2],[59,5,59,6],[59,7,59,8],[60,1,60,2],[60,5,60,6],[60,7,60,8],[57,1,57,2],[57,5,57,6],[57,7,57,8],[58,1,58,2],[58,5,58,6],[58,7,58,8],[63,1,63,2],[63,5,63,6],[63,7,63,8],[64,1,64,2],[64,5,64,6],[64,7,64,8],[61,1,61,2],[61,5,61,6],[61,7,61,8],[62,1,62,2],[62,5,62,6],[62,7,62,8],[67,1,67,2],[67,5,67,6],[67,7,67,8],[68,1,68,2],[68,5,68,6],[68,7,68,8],[65,1,65,2],[65,5,65,6],[65,7,65,8],[66,1,66,2],[66,5,66,6],[66,7,66,8],[71,1,71,2],[71,5,71,6],[71,7,71,8],[72,1,72,2],[72,5,72,6],[72,7,72,8],[69,1,69,2],[69,5,69,6],[69,7,69,8],[70,1,70,2],[70,5,70,6],[70,7,70,8],[75,1,75,2],[75,5,75,6],[75,7,75,8],[76,1,76,2],[76,5,76,6],[76,7,76,8],[73,1,73,2],[73,5,73,6],[73,7,73,8],[74,1,74,2],[74,5,74,6],[74,7,74,8],[77,1,77,2],[77,5,77,6],[77,7,77,8],[128,1,128,2],[128,5,128,6],[128,7,128,8],[78,1,78,2],[79,1,79,2],[80,1,80,2],[81,1,81,2],[82,1,82,2],[83,1,83,2],[84,1,84,2],[85,1,85,2],[86,1,86,2],[87,1,87,2],[88,1,88,2],[89,1,89,2],[90,1,90,2],[91,1,91,2],[92,1,92,2],[93,1,93,2]],"merged_total":1042,"flags":["merged_cut"]}
[null,null,null,null,null,{"$f":"IF('Załącznik nr 1 do rozliczenia'!F1=\"\",\"\",'Załącznik nr 1 do rozliczenia'!F1:H1)","v":""},null,null,{"$f":"IF('Załącznik nr 1 do rozliczenia'!I1=\"\",\"\",'Załącznik nr 1 do rozliczenia'!I1)","v":""}]
[null,null,null,null,null,null,"          (miejscowość, data)"]
[]
[]
[null,"A1. ORGANIZATOR PUBLICZNEGO TRANSPORTU ZBIOROWEGO\n(dane wypełnią się automatycznie po wpisaniu poprawnego numeru umowy w części A.3)"]
[null,"Nazwa organizatora publicznego transportu zbiorowego",{"$f":"'Załącznik nr 1 do rozliczenia'!C6","v":""}]
[null,"NIP",{"$f":"'Załącznik nr 1 do rozliczenia'!C7","v":""}]
[null,"REGON",{"$f":"'Załącznik nr 1 do rozliczenia'!C8","v":""}]
[null,"Adres",{"$f":"'Załącznik nr 1 do rozliczenia'!C9","v":""}]
[null,"Powiat",{"$f":"'Załącznik nr 1 do rozliczenia'!C10","v":""}]
[null,"Województwo",{"$f":"'Załącznik nr 1 do rozliczenia'!C11","v":"mazowieckie"}]
[null,"Numer dysponenta",{"$f":"'Załącznik nr 1 do rozliczenia'!C12","v":""}]
[null,"A2. Dane osoby do kontaktu w sprawie wniosku"]
[null,"Imię",{"$f":"IF(C6=\"\",\"\",'Załącznik nr 1 do rozliczenia'!C14)","v":""}]
[null,"Nazwisko",{"$f":"IF(C7=\"\",\"\",'Załącznik nr 1 do rozliczenia'!C15)","v":""}]
[null,"Telefon ",{"$f":"IF(C8=\"\",\"\",'Załącznik nr 1 do rozliczenia'!C16)","v":""}]
[null,"Adres e-mail",{"$f":"IF(C9=\"\",\"\",'Załącznik nr 1 do rozliczenia'!C17)","v":""}]
[]
[null,null,null,null,"Wojewoda Mazowiecki\nWydział Infrastruktury i Rolnictwa\npl. Bankowy 3/5\n00-950 Warszawa"]
["              ZAŁĄCZNIK NUMER 2 DO ROZLICZENIA DOPŁAT ZA                                                                                                                             ",null,null,null,null,"2025 ROKU - ZESTAWIENIE"]
[null,null,null,null,{"$f":"IF('Załącznik nr 1 do rozliczenia'!E22=\"\",\"\",'Załącznik nr 1 do rozliczenia'!E22)","v":"I KWARTAŁ"}]
["WIELKOŚCI PRACY EKSPLOATACYJNEJ NA LINIACH KOMUNIKACYJNYCH."]
[]
[]
["B.1  Dane dotyczące linii komunikacyjnych "]
[null,null,"MIESIĄC",{"$f":"'Załącznik nr 1 do rozliczenia'!D29:E29","v":"STYCZEŃ"},null,"2025 r."]
["Lp.","Nazwa linii komunikacyjnej",null,"Długość linii [km]","Ilość wykonanych kursów w okresie rozliczeniowym","Dni kursowania",null,"Zrealizowana praca eksploatacyjna [wzkm]"]
[1,"2",null,"3","4","5",null,"6"]
[{"$f":"'Załącznik nr 1 do rozliczenia'!A32","v":"1"},{"$f":"IF('Załącznik nr 1 do rozliczenia'!B32:C32=\"\",\"\",'Załącznik nr 1 do rozliczenia'!B32:C32)","v":""},null,null,null,null,null,{"$f":"D29*E29","v":0}]
[{"$f":"'Załącznik nr 1 do rozliczenia'!A33","v":"2"},{"$f":"IF('Załącznik nr 1 do rozliczenia'!B33:C33=\"\",\"\",'Załącznik nr 1 do rozliczenia'!B33:C33)","v":""},null,null,null,null,null,{"$f":"D30*E30","v":0}]
[{"$f":"'Załącznik nr 1 do rozliczenia'!A34","v":"3"},{"$f":"IF('Załącznik nr 1 do rozliczenia'!B34:C34=\"\",\"\",'Załącznik nr 1 do rozliczenia'!B34:C34)","v":""},null,null,null,null,null,0]
[{"$f":"'Załącznik nr 1 do rozliczenia'!A35","v":"4"},{"$f":"IF('Załącznik nr 1 do rozliczenia'!B35:C35=\"\",\"\",'Załącznik nr 1 do rozliczenia'!B35:C35)","v":""},null,null,null,null,null,0]
[{"$f":"'Załącznik nr 1 do rozliczenia'!A36","v":"5"},{"$f":"IF('Załącznik nr 1 do rozliczenia'!B36:C36=\"\",\"\",'Załącznik nr 1 do rozliczenia'!B36:C36)","v":""},null,null,null,null,null,0]
[{"$f":"'Załącznik nr 1 do rozliczenia'!A37","v":"6"},{"$f":"IF('Załącznik nr 1 do rozliczenia'!B37:C37=\"\",\"\",'Załącznik nr 1 do rozliczenia'!B37:C37)","v":""},null,null,null,null,null,0]
[{"$f":"'Załącznik nr 1 do rozliczenia'!A38","v":"7"},{"$f":"IF('Załącznik nr 1 do rozliczenia'!B38:C38=\"\",\"\",'Załącznik nr 1 do rozliczenia'!B38:C38)","v":""},null,null,null,null,null,0]
[{"$f":"'Załącznik nr 1 do rozliczenia'!A39","v":"8"},{"$f":"IF('Załącznik nr 1 do rozliczenia'!B39:C39=\"\",\"\",'Załącznik nr 1 do rozliczenia'!B39:C39)","v":""},null,null,null,null,null,0]
[{"$f":"'Załącznik nr 1 do rozliczenia'!A40","v":"9"},{"$f":"IF('Załącznik nr 1 do rozliczenia'!B40:C40=\"\",\"\",'Załącznik nr 1 do rozliczenia'!B40:C40)","v":""},null,null,null,null,null,0]
[{"$f":"'Załącznik nr 1 do rozliczenia'!A41","v":"10"},{"$f":"IF('Załącznik nr 1 do rozliczenia'!B41:C41=\"\",\"\",'Załącznik nr 1 do rozliczenia'!B41:C41)","v":""},null,null,null,null,null,0]
[{"$f":"'Załącznik nr 1 do rozliczenia'!A42","v":"11"},{"$f":"IF('Załącznik nr 1 do rozliczenia'!B42:C42=\"\",\"\",'Załącznik nr 1 do rozliczenia'!B42:C42)","v":""},null,null,null,null,null,0]
[{"$f":"'Załącznik nr 1 do rozliczenia'!A43","v":"12"},{"$f":"IF('Załącznik nr 1 do rozliczenia'!B43:C43=\"\",\"\",'Załącznik nr 1 do rozliczenia'!B43:C43)","v":""},null,null,null,null,null,0]
[{"$f":"'Załącznik nr 1 do rozliczenia'!A44","v":"13"},{"$f":"IF('Załącznik nr 1 do rozliczenia'!B44:C44=\"\",\"\",'Załącznik nr 1 do rozliczenia'!B44:C44)","v":""},null,null,null,null,null,0]
[{"$f":"'Załącznik nr 1 do rozliczenia'!A45","v":"14"},{"$f":"IF('Załącznik nr 1 do rozliczenia'!B45:C45=\"\",\"\",'Załącznik nr 1 do rozliczenia'!B45:C45)","v":""},null,null,null,null,null,0]
[{"$f":"'Załącznik nr 1 do rozliczenia'!A46","v":"15"},{"$f":"IF('Załącznik nr 1 do rozliczenia'!B46:C46=\"\",\"\",'Załącznik nr 1 do rozliczenia'!B46:C46)","v":""},null,null,null,null,null,0]
[{"$f":"'Załącznik nr 1 do rozliczenia'!A47","v":"16"},{"$f":"IF('Załącznik nr 1 do rozliczenia'!B47:C47=\"\",\"\",'Załącznik nr 1 do rozliczenia'!B47:C47)","v":""},null,null,null,null,null,0]
[{"$f":"'Załącznik nr 1 do rozliczenia'!A48","v":"17"},{"$f":"IF('Załącznik nr 1 do rozliczenia'!B48:C48=\"\",\"\",'Załącznik nr 1 do rozliczenia'!B48:C48)","v":""},null,null,null,null,null,0]
[{"$f":"'Załącznik nr 1 do rozliczenia'!A49","v":"18"},{"$f":"IF('Załącznik nr 1 do rozliczenia'!B49:C49=\"\",\"\",'Załącznik nr 1 do rozliczenia'!B49:C49)","v":""},null,null,null,null,null,0]
[{"$f":"'Załącznik nr 1 do rozliczenia'!A50","v":"19"},{"$f":"IF('Załącznik nr 1 do rozliczenia'!B50:C50=\"\",\"\",'Załącznik nr 1 do rozliczenia'!B50:C50)","v":""},null,null,null,null,null,0]
[{"$f":"'Załącznik nr 1 do rozliczenia'!A51","v":"20"},{"$f":"IF('Załącznik nr 1 do rozliczenia'!B51:C51=\"\",\"\",'Załącznik nr 1 do rozliczenia'!B51:C51)","v":""},null,null,null,null,null,0]
[{"$f":"'Załącznik nr 1 do rozliczenia'!A52","v":"21"},{"$f":"IF('Załącznik nr 1 do rozliczenia'!B52:C52=\"\",\"\",'Załącznik nr 1 do rozliczenia'!B52:C52)","v":""},null,null,null,null,null,0]
[{"$f":"'Załącznik nr 1 do rozliczenia'!A53","v":"22"},{"$f":"IF('Załącznik nr 1 do rozliczenia'!B53:C53=\"\",\"\",'Załącznik nr 1 do rozliczenia'!B53:C53)","v":""},null,null,null,null,null,0]
[{"$f":"'Załącznik nr 1 do rozliczenia'!A54","v":"23"},{"$f":"IF('Załącznik nr 1 do rozliczenia'!B54:C54=\"\",\"\",'Załącznik nr 1 do rozliczenia'!B54:C54)","v":""},null,null,null,null,null,0]
[{"$f":"'Załącznik nr 1 do rozliczenia'!A55","v":"24"},{"$f":"IF('Załącznik nr 1 do rozliczenia'!B55:C55=\"\",\"\",'Załącznik nr 1 do rozliczenia'!B55:C55)","v":""},null,null,null,null,null,0]
[{"$f":"'Załącznik nr 1 do rozliczenia'!A56","v":"25"},{"$f":"IF('Załącznik nr 1 do rozliczenia'!B56:C56=\"\",\"\",'Załącznik nr 1 do rozliczenia'!B56:C56)","v":""},null,null,null,null,null,0]
[{"$f":"'Załącznik nr 1 do rozliczenia'!A57","v":"26"},{"$f":"IF('Załącznik nr 1 do rozliczenia'!B57:C57=\"\",\"\",'Załącznik nr 1 do rozliczenia'!B57:C57)","v":""},null,null,null,null,null,0]
[{"$f":"'Załącznik nr 1 do rozliczenia'!A58","v":"27"},{"$f":"IF('Załącznik nr 1 do rozliczenia'!B58:C58=\"\",\"\",'Załącznik nr 1 do rozliczenia'!B58:C58)","v":""},null,null,null,null,null,0]
[{"$f":"'Załącznik nr 1 do rozliczenia'!A59","v":"28"},{"$f":"IF('Załącznik nr 1 do rozliczenia'!B59:C59=\"\",\"\",'Załącznik nr 1 do rozliczenia'!B59:C59)","v":""},null,null,null,null,null,0]
[{"$f":"'Załącznik nr 1 do rozliczenia'!A60","v":"29"},{"$f":"IF('Załącznik nr 1 do rozliczenia'!B60:C60=\"\",\"\",'Załącznik nr 1 do rozliczenia'!B60:C60)","v":""},null,null,null,null,null,0]
[{"$f":"'Załącznik nr 1 do rozliczenia'!A61","v":"30"},{"$f":"IF('Załącznik nr 1 do rozliczenia'!B61:C61=\"\",\"\",'Załącznik nr 1 do rozliczenia'!B61:C61)","v":""},null,null,null,null,null,0]
[{"$f":"'Załącznik nr 1 do rozliczenia'!A62","v":"31"},{"$f":"IF('Załącznik nr 1 do rozliczenia'!B62:C62=\"\",\"\",'Załącznik nr 1 do rozliczenia'!B62:C62)","v":""},null,null,null,null,null,0]
[{"$f":"'Załącznik nr 1 do rozliczenia'!A63","v":"32"},{"$f":"IF('Załącznik nr 1 do rozliczenia'!B63:C63=\"\",\"\",'Załącznik nr 1 do rozliczenia'!B63:C63)","v":""},null,null,null,null,null,0]
[{"$f":"'Załącznik nr 1 do rozliczenia'!A64","v":"33"},{"$f":"IF('Załącznik nr 1 do rozliczenia'!B64:C64=\"\",\"\",'Załącznik nr 1 do rozliczenia'!B64:C64)","v":""},null,null,null,null,null,0]
[{"$f":"'Załącznik nr 1 do rozliczenia'!A65","v":"34"},{"$f":"IF('Załącznik nr 1 do rozliczenia'!B65:C65=\"\",\"\",'Załącznik nr 1 do rozliczenia'!B65:C65)","v":""},null,null,null,null,null,0]
[{"$f":"'Załącznik nr 1 do rozliczenia'!A66","v":"35"},{"$f":"IF('Załącznik nr 1 do rozliczenia'!B66:C66=\"\",\"\",'Załącznik nr 1 do rozliczenia'!B66:C66)","v":""},null,null,null,null,null,0]
[{"$f":"'Załącznik nr 1 do rozliczenia'!A67","v":"36"},{"$f":"IF('Załącznik nr 1 do rozliczenia'!B67:C67=\"\",\"\",'Załącznik nr 1 do rozliczenia'!B67:C67)","v":""},null,null,null,null,null,0]
[{"$f":"'Załącznik nr 1 do rozliczenia'!A68","v":"37"},{"$f":"IF('Załącznik nr 1 do rozliczenia'!B68:C68=\"\",\"\",'Załącznik nr 1 do rozliczenia'!B68:C68)","v":""},null,null,null,null,null,0]
[{"$f":"'Załącznik nr 1 do rozliczenia'!A69","v":"38"},{"$f":"IF('Załącznik nr 1 do rozliczenia'!B69:C69=\"\",\"\",'Załącznik nr 1 do rozliczenia'!B69:C69)","v":""},null,null,null,null,null,0]
[{"$f":"'Załącznik nr 1 do rozliczenia'!A70","v":"39"},{"$f":"IF('Załącznik nr 1 do rozliczenia'!B70:C70=\"\",\"\",'Załącznik nr 1 do rozliczenia'!B70:C70)","v":""},null,null,null,null,null,0]
[{"$f":"'Załącznik nr 1 do rozliczenia'!A71","v":"40"},{"$f":"IF('Załącznik nr 1 do rozliczenia'!B71:C71=\"\",\"\",'Załącznik nr 1 do rozliczenia'!B71:C71)","v":""},null,null,null,null,null,0]
[{"$f":"'Załącznik nr 1 do rozliczenia'!A72","v":"41"},{"$f":"IF('Załącznik nr 1 do rozliczenia'!B72:C72=\"\",\"\",'Załącznik nr 1 do rozliczenia'!B72:C72)","v":""},null,null,null,null,null,0]
[{"$f":"'Załącznik nr 1 do rozliczenia'!A73","v":"42"},{"$f":"IF('Załącznik nr 1 do rozliczenia'!B73:C73=\"\",\"\",'Załącznik nr 1 do rozliczenia'!B73:C73)","v":""},null,null,null,null,null,0]
[{"$f":"'Załącznik nr 1 do rozliczenia'!A74","v":"43"},{"$f":"IF('Załącznik nr 1 do rozliczenia'!B74:C74=\"\",\"\",'Załącznik nr 1 do rozliczenia'!B74:C74)","v":""},null,null,null,null,null,0]
[{"$f":"'Załącznik nr 1 do rozliczenia'!A75","v":"44"},{"$f":"IF('Załącznik nr 1 do rozliczenia'!B75:C75=\"\",\"\",'Załącznik nr 1 do rozliczenia'!B75:C75)","v":""},null,null,null,null,null,0]
[{"$f":"'Załącznik nr 1 do rozliczenia'!A76","v":"45"},{"$f":"IF('Załącznik nr 1 do rozliczenia'!B76:C76=\"\",\"\",'Załącznik nr 1 do rozliczenia'!B76:C76)","v":""},null,null,null,null,null,0]
[{"$f":"'Załącznik nr 1 do rozliczenia'!A77","v":"46"},{"$f":"IF('Załącznik nr 1 do rozliczenia'!B77:C77=\"\",\"\",'Załącznik nr 1 do rozliczenia'!B77:C77)","v":""},null,null,null,null,null,0]
[{"$f":"'Załącznik nr 1 do rozliczenia'!A78","v":"47"},{"$f":"IF('Załącznik nr 1 do rozliczenia'!B78:C78=\"\",\"\",'Załącznik nr 1 do rozliczenia'!B78:C78)","v":""},null,null,null,null,null,0]
[{"$f":"'Załącznik nr 1 do rozliczenia'!A79","v":"48"},{"$f":"IF('Załącznik nr 1 do rozliczenia'!B79:C79=\"\",\"\",'Załącznik nr 1 do rozliczenia'!B79:C79)","v":""},null,null,null,null,null,0]
[{"$f":"'Załącznik nr 1 do rozliczenia'!A80","v":"49"},{"$f":"IF('Załącznik nr 1 do rozliczenia'!B80:C80=\"\",\"\",'Załącznik nr 1 do rozliczenia'!B80:C80)","v":""},null,null,null,null,null,0]
[{"$f":"'Załącznik nr 1 do rozliczenia'!A81","v":"50"},{"$f":"IF('Załącznik nr 1 do rozliczenia'!B81:C81=\"\",\"\",'Załącznik nr 1 do rozliczenia'!B81:C81)","v":""},null,null,null,null,null,0]
[{"$f":"'Załącznik nr 1 do rozliczenia'!A82","v":"51"},{"$f":"IF('Załącznik nr 1 do rozliczenia'!B82:C82=\"\",\"\",'Załącznik nr 1 do rozliczenia'!B82:C82)","v":""},null,null,null,null,null,{"$f":"D79*E79","v":0}]
[{"$f":"'Załącznik nr 1 do rozliczenia'!A83","v":"52"},{"$f":"IF('Załącznik nr 1 do rozliczenia'!B83:C83=\"\",\"\",'Załącznik nr 1 do rozliczenia'!B83:C83)","v":""},null,null,null,null,null,0]
[{"$f":"'Załącznik nr 1 do rozliczenia'!A84","v":"53"},{"$f":"IF('Załącznik nr 1 do rozliczenia'!B84:C84=\"\",\"\",'Załącznik nr 1 do rozliczenia'!B84:C84)","v":""},null,null,null,null,null,0]
[{"$f":"'Załącznik nr 1 do rozliczenia'!A85","v":"54"},{"$f":"IF('Załącznik nr 1 do rozliczenia'!B85:C85=\"\",\"\",'Załącznik nr 1 do rozliczenia'!B85:C85)","v":""},null,null,null,null,null,0]
[{"$f":"'Załącznik nr 1 do rozliczenia'!A86","v":"55"},{"$f":"IF('Załącznik nr 1 do rozliczenia'!B86:C86=\"\",\"\",'Załącznik nr 1 do rozliczenia'!B86:C86)","v":""},null,null,null,null,null,0]
[{"$f":"'Załącznik nr 1 do rozliczenia'!A87","v":"56"},{"$f":"IF('Załącznik nr 1 do rozliczenia'!B87:C87=\"\",\"\",'Załącznik nr 1 do rozliczenia'!B87:C87)","v":""},null,null,null,null,null,0]
[{"$f":"'Załącznik nr 1 do rozliczenia'!A88","v":"57"},{"$f":"IF('Załącznik nr 1 do rozliczenia'!B88:C88=\"\",\"\",'Załącznik nr 1 do rozliczenia'!B88:C88)","v":""},null,null,null,null,null,0]
[{"$f":"'Załącznik nr 1 do rozliczenia'!A89","v":"58"},{"$f":"IF('Załącznik nr 1 do rozliczenia'!B89:C89=\"\",\"\",'Załącznik nr 1 do rozliczenia'!B89:C89)","v":""},null,null,null,null,null,0]
[{"$f":"'Załącznik nr 1 do rozliczenia'!A90","v":"59"},{"$f":"IF('Załącznik nr 1 do rozliczenia'!B90:C90=\"\",\"\",'Załącznik nr 1 do rozliczenia'!B90:C90)","v":""},null,null,null,null,null,0]
[{"$f":"'Załącznik nr 1 do rozliczenia'!A91","v":"60"},{"$f":"IF('Załącznik nr 1 do rozliczenia'!B91:C91=\"\",\"\",'Załącznik nr 1 do rozliczenia'!B91:C91)","v":""},null,null,null,null,null,0]
[{"$f":"'Załącznik nr 1 do rozliczenia'!A92","v":"61"},{"$f":"IF('Załącznik nr 1 do rozliczenia'!B92:C92=\"\",\"\",'Załącznik nr 1 do rozliczenia'!B92:C92)","v":""},null,null,null,null,null,0]
[{"$f":"'Załącznik nr 1 do rozliczenia'!A93","v":"62"},{"$f":"IF('Załącznik nr 1 do rozliczenia'!B93:C93=\"\",\"\",'Załącznik nr 1 do rozliczenia'!B93:C93)","v":""},null,null,null,null,null,0]
[{"$f":"'Załącznik nr 1 do rozliczenia'!A94","v":"63"},{"$f":"IF('Załącznik nr 1 do rozliczenia'!B94:C94=\"\",\"\",'Załącznik nr 1 do rozliczenia'!B94:C94)","v":""},null,null,null,null,null,0]
[{"$f":"'Załącznik nr 1 do rozliczenia'!A95","v":"64"},{"$f":"IF('Załącznik nr 1 do rozliczenia'!B95:C95=\"\",\"\",'Załącznik nr 1 do rozliczenia'!B95:C95)","v":""},null,null,null,null,null,0]
[{"$f":"'Załącznik nr 1 do rozliczenia'!A96","v":"65"},{"$f":"IF('Załącznik nr 1 do rozliczenia'!B96:C96=\"\",\"\",'Załącznik nr 1 do rozliczenia'!B96:C96)","v":""},null,null,null,null,null,0]
[{"$f":"'Załącznik nr 1 do rozliczenia'!A97","v":"66"},{"$f":"IF('Załącznik nr 1 do rozliczenia'!B97:C97=\"\",\"\",'Załącznik nr 1 do rozliczenia'!B97:C97)","v":""},null,null,null,null,null,0]
[{"$f":"'Załącznik nr 1 do rozliczenia'!A98","v":"67"},{"$f":"IF('Załącznik nr 1 do rozliczenia'!B98:C98=\"\",\"\",'Załącznik nr 1 do rozliczenia'!B98:C98)","v":""},null,null,null,null,null,0]
[{"$f":"'Załącznik nr 1 do rozliczenia'!A99","v":"68"},{"$f":"IF('Załącznik nr 1 do rozliczenia'!B99:C99=\"\",\"\",'Załącznik nr 1 do rozliczenia'!B99:C99)","v":""},null,null,null,null,null,0]
[{"$f":"'Załącznik nr 1 do rozliczenia'!A100","v":"69"},{"$f":"IF('Załącznik nr 1 do rozliczenia'!B100:C100=\"\",\"\",'Załącznik nr 1 do rozliczenia'!B100:C100)","v":""},null,null,null,null,null,0]
[{"$f":"'Załącznik nr 1 do rozliczenia'!A101","v":"70"},{"$f":"IF('Załącznik nr 1 do rozliczenia'!B101:C101=\"\",\"\",'Załącznik nr 1 do rozliczenia'!B101:C101)","v":""},null,null,null,null,null,0]
[{"$f":"'Załącznik nr 1 do rozliczenia'!A102","v":"71"},{"$f":"IF('Załącznik nr 1 do rozliczenia'!B102:C102=\"\",\"\",'Załącznik nr 1 do rozliczenia'!B102:C102)","v":""},null,null,null,null,null,0]
[{"$f":"'Załącznik nr 1 do rozliczenia'!A103","v":"72"},{"$f":"IF('Załącznik nr 1 do rozliczenia'!B103:C103=\"\",\"\",'Załącznik nr 1 do rozliczenia'!B103:C103)","v":""},null,null,null,null,null,0]
[{"$f":"'Załącznik nr 1 do rozliczenia'!A104","v":"73"},{"$f":"IF('Załącznik nr 1 do rozliczenia'!B104:C104=\"\",\"\",'Załącznik nr 1 do rozliczenia'!B104:C104)","v":""},null,null,null,null,null,0]
[{"$f":"'Załącznik nr 1 do rozliczenia'!A105","v":"74"},{"$f":"IF('Załącznik nr 1 do rozliczenia'!B105:C105=\"\",\"\",'Załącznik nr 1 do rozliczenia'!B105:C105)","v":""},null,null,null,null,null,0]
[{"$f":"'Załącznik nr 1 do rozliczenia'!A106","v":"75"},{"$f":"IF('Załącznik nr 1 do rozliczenia'!B106:C106=\"\",\"\",'Załącznik nr 1 do rozliczenia'!B106:C106)","v":""},null,null,null,null,null,0]
[{"$f":"'Załącznik nr 1 do rozliczenia'!A107","v":"76"},{"$f":"IF('Załącznik nr 1 do rozliczenia'!B107:C107=\"\",\"\",'Załącznik nr 1 do rozliczenia'!B107:C107)","v":""},null,null,null,null,null,0]
[{"$f":"'Załącznik nr 1 do rozliczenia'!A108","v":"77"},{"$f":"IF('Załącznik nr 1 do rozliczenia'!B108:C108=\"\",\"\",'Załącznik nr 1 do rozliczenia'!B108:C108)","v":""},null,null,null,null,null,0]
[{"$f":"'Załącznik nr 1 do rozliczenia'!A109","v":"78"},{"$f":"IF('Załącznik nr 1 do rozliczenia'!B109:C109=\"\",\"\",'Załącznik nr 1 do rozliczenia'!B109:C109)","v":""},null,null,null,null,null,0]
[{"$f":"'Załącznik nr 1 do rozliczenia'!A110","v":"79"},{"$f":"IF('Załącznik nr 1 do rozliczenia'!B110:C110=\"\",\"\",'Załącznik nr 1 do rozliczenia'!B110:C110)","v":""},null,null,null,null,null,0]
[{"$f":"'Załącznik nr 1 do rozliczenia'!A111","v":"80"},{"$f":"IF('Załącznik nr 1 do rozliczenia'!B111:C111=\"\",\"\",'Załącznik nr 1 do rozliczenia'!B111:C111)","v":""},null,null,null,null,null,0]
[{"$f":"'Załącznik nr 1 do rozliczenia'!A112","v":"81"},{"$f":"IF('Załącznik nr 1 do rozliczenia'!B112:C112=\"\",\"\",'Załącznik nr 1 do rozliczenia'!B112:C112)","v":""},null,null,null,null,null,0]
[{"$f":"'Załącznik nr 1 do rozliczenia'!A113","v":"82"},{"$f":"IF('Załącznik nr 1 do rozliczenia'!B113:C113=\"\",\"\",'Załącznik nr 1 do rozliczenia'!B113:C113)","v":""},null,null,null,null,null,0]
[{"$f":"'Załącznik nr 1 do rozliczenia'!A114","v":"83"},{"$f":"IF('Załącznik nr 1 do rozliczenia'!B114:C114=\"\",\"\",'Załącznik nr 1 do rozliczenia'!B114:C114)","v":""},null,null,null,null,null,0]
[{"$f":"'Załącznik nr 1 do rozliczenia'!A115","v":"84"},{"$f":"IF('Załącznik nr 1 do rozliczenia'!B115:C115=\"\",\"\",'Załącznik nr 1 do rozliczenia'!B115:C115)","v":""},null,null,null,null,null,0]
[{"$f":"'Załącznik nr 1 do rozliczenia'!A116","v":"85"},{"$f":"IF('Załącznik nr 1 do rozliczenia'!B116:C116=\"\",\"\",'Załącznik nr 1 do rozliczenia'!B116:C116)","v":""},null,null,null,null,null,0]
[{"$f":"'Załącznik nr 1 do rozliczenia'!A117","v":"86"},{"$f":"IF('Załącznik nr 1 do rozliczenia'!B117:C117=\"\",\"\",'Załącznik nr 1 do rozliczenia'!B117:C117)","v":""},null,null,null,null,null,0]
[{"$f":"'Załącznik nr 1 do rozliczenia'!A118","v":"87"},{"$f":"IF('Załącznik nr 1 do rozliczenia'!B118:C118=\"\",\"\",'Załącznik nr 1 do rozliczenia'!B118:C118)","v":""},null,null,null,null,null,0]
[{"$f":"'Załącznik nr 1 do rozliczenia'!A119","v":"88"},{"$f":"IF('Załącznik nr 1 do rozliczenia'!B119:C119=\"\",\"\",'Załącznik nr 1 do rozliczenia'!B119:C119)","v":""},null,null,null,null,null,0]
[{"$f":"'Załącznik nr 1 do rozliczenia'!A120","v":"89"},{"$f":"IF('Załącznik nr 1 do rozliczenia'!B120:C120=\"\",\"\",'Załącznik nr 1 do rozliczenia'!B120:C120)","v":""},null,null,null,null,null,0]
[{"$f":"'Załącznik nr 1 do rozliczenia'!A121","v":"90"},{"$f":"IF('Załącznik nr 1 do rozliczenia'!B121:C121=\"\",\"\",'Załącznik nr 1 do rozliczenia'!B121:C121)","v":""},null,null,null,null,null,0]
[{"$f":"'Załącznik nr 1 do rozliczenia'!A122","v":"91"},{"$f":"IF('Załącznik nr 1 do rozliczenia'!B122:C122=\"\",\"\",'Załącznik nr 1 do rozliczenia'!B122:C122)","v":""},null,null,null,null,null,0]
[{"$f":"'Załącznik nr 1 do rozliczenia'!A123","v":"92"},{"$f":"IF('Załącznik nr 1 do rozliczenia'!B123:C123=\"\",\"\",'Załącznik nr 1 do rozliczenia'!B123:C123)","v":""},null,null,null,null,null,0]
[{"$f":"'Załącznik nr 1 do rozliczenia'!A124","v":"93"},{"$f":"IF('Załącznik nr 1 do rozliczenia'!B124:C124=\"\",\"\",'Załącznik nr 1 do rozliczenia'!B124:C124)","v":""},null,null,null,null,null,0]
[{"$f":"'Załącznik nr 1 do rozliczenia'!A125","v":"94"},{"$f":"IF('Załącznik nr 1 do rozliczenia'!B125:C125=\"\",\"\",'Załącznik nr 1 do rozliczenia'!B125:C125)","v":""},null,null,null,null,null,0]
[{"$f":"'Załącznik nr 1 do rozliczenia'!A126","v":"95"},{"$f":"IF('Załącznik nr 1 do rozliczenia'!B126:C126=\"\",\"\",'Załącznik nr 1 do rozliczenia'!B126:C126)","v":""},null,null,null,null,null,0]
[{"$f":"'Załącznik nr 1 do rozliczenia'!A127","v":"96"},{"$f":"IF('Załącznik nr 1 do rozliczenia'!B127:C127=\"\",\"\",'Załącznik nr 1 do rozliczenia'!B127:C127)","v":""},null,null,null,null,null,0]
[{"$f":"'Załącznik nr 1 do rozliczenia'!A128","v":"97"},{"$f":"IF('Załącznik nr 1 do rozliczenia'!B128:C128=\"\",\"\",'Załącznik nr 1 do rozliczenia'!B128:C128)","v":""},null,null,null,null,null,0]
[{"$f":"'Załącznik nr 1 do rozliczenia'!A129","v":"98"},{"$f":"IF('Załącznik nr 1 do rozliczenia'!B129:C129=\"\",\"\",'Załącznik nr 1 do rozliczenia'!B129:C129)","v":""},null,null,null,null,null,0]
[{"$f":"'Załącznik nr 1 do rozliczenia'!A130","v":"99"},{"$f":"IF('Załącznik nr 1 do rozliczenia'!B130:C130=\"\",\"\",'Załącznik nr 1 do rozliczenia'!B130:C130)","v":""},null,null,null,null,null,0]
[{"$f":"'Załącznik nr 1 do rozliczenia'!A131","v":"100"},{"$f":"IF('Załącznik nr 1 do rozliczenia'!B131:C131=\"\",\"\",'Załącznik nr 1 do rozliczenia'!B131:C131)","v":""},null,null,null,null,null,0]
[{"$f":"'Załącznik nr 1 do rozliczenia'!A132","v":"101"},{"$f":"IF('Załącznik nr 1 do rozliczenia'!B132:C132=\"\",\"\",'Załącznik nr 1 do rozliczenia'!B132:C132)","v":""},null,null,null,null,null,0]
[{"$f":"'Załącznik nr 1 do rozliczenia'!A133","v":"102"},{"$f":"IF('Załącznik nr 1 do rozliczenia'!B133:C133=\"\",\"\",'Załącznik nr 1 do rozliczenia'!B133:C133)","v":""},null,null,null,null,null,0]
[{"$f":"'Załącznik nr 1 do rozliczenia'!A134","v":"103"},{"$f":"IF('Załącznik nr 1 do rozliczenia'!B134:C134=\"\",\"\",'Załącznik nr 1 do rozliczenia'!B134:C134)","v":""},null,null,null,null,null,0]
[{"$f":"'Załącznik nr 1 do rozliczenia'!A135","v":"104"},{"$f":"IF('Załącznik nr 1 do rozliczenia'!B135:C135=\"\",\"\",'Załącznik nr 1 do rozliczenia'!B135:C135)","v":""},null,null,null,null,null,0]
[{"$f":"'Załącznik nr 1 do rozliczenia'!A136","v":"105"},{"$f":"IF('Załącznik nr 1 do rozliczenia'!B136:C136=\"\",\"\",'Załącznik nr 1 do rozliczenia'!B136:C136)","v":""},null,null,null,null,null,0]
[{"$f":"'Załącznik nr 1 do rozliczenia'!A137","v":"106"},{"$f":"IF('Załącznik nr 1 do rozliczenia'!B137:C137=\"\",\"\",'Załącznik nr 1 do rozliczenia'!B137:C137)","v":""},null,null,null,null,null,0]
[{"$f":"'Załącznik nr 1 do rozliczenia'!A138","v":"107"},{"$f":"IF('Załącznik nr 1 do rozliczenia'!B138:C138=\"\",\"\",'Załącznik nr 1 do rozliczenia'!B138:C138)","v":""},null,null,null,null,null,0]
[{"$f":"'Załącznik nr 1 do rozliczenia'!A139","v":"108"},{"$f":"IF('Załącznik nr 1 do rozliczenia'!B139:C139=\"\",\"\",'Załącznik nr 1 do rozliczenia'!B139:C139)","v":""},null,null,null,null,null,0]
[{"$f":"'Załącznik nr 1 do rozliczenia'!A140","v":"109"},{"$f":"IF('Załącznik nr 1 do rozliczenia'!B140:C140=\"\",\"\",'Załącznik nr 1 do rozliczenia'!B140:C140)","v":""},null,null,null,null,null,0]
[{"$f":"'Załącznik nr 1 do rozliczenia'!A141","v":"110"},{"$f":"IF('Załącznik nr 1 do rozliczenia'!B141:C141=\"\",\"\",'Załącznik nr 1 do rozliczenia'!B141:C141)","v":""},null,null,null,null,null,0]
["Ogółem:",null,null,{"$f":"SUM(D29:D138)","v":0},{"$f":"SUM(E29:E138)","v":0},null,null,{"$f":"SUM(H29:H138)","v":0}]
[]
["B.2  Dane dotyczące linii komunikacyjnych "]
[null,null,"MIESIĄC",{"$f":"'Załącznik nr 1 do rozliczenia'!D146:E146","v":"LUTY"},null,"2025 r."]
["Lp.","Nazwa linii komunikacyjnej",null,"Długość linii [km]","Ilość wykonanych kursów w okresie rozliczeniowym","Dni kursowania",null,"Zrealizowana praca eksploatacyjna [wzkm]"]
[1,"2",null,"3","4","5",null,"6"]
[{"$f":"'Załącznik nr 1 do rozliczenia'!A149","v":"1"},{"$f":"IF('Załącznik nr 1 do rozliczenia'!B149:C149=\"\",\"\",'Załącznik nr 1 do rozliczenia'!B149:C149)","v":""},null,null,null,null,null,{"$f":"D145*E145","v":0}]
[{"$f":"'Załącznik nr 1 do rozliczenia'!A150","v":"2"},{"$f":"IF('Załącznik nr 1 do rozliczenia'!B150:C150=\"\",\"\",'Załącznik nr 1 do rozliczenia'!B150:C150)","v":""},null,null,null,null,null,0]
[{"$f":"'Załącznik nr 1 do rozliczenia'!A151","v":"3"},{"$f":"IF('Załącznik nr 1 do rozliczenia'!B151:C151=\"\",\"\",'Załącznik nr 1 do rozliczenia'!B151:C151)","v":""},null,null,null,null,null,0]
[{"$f":"'Załącznik nr 1 do rozliczenia'!A152","v":"4"},{"$f":"IF('Załącznik nr 1 do rozliczenia'!B152:C152=\"\",\"\",'Załącznik nr 1 do rozliczenia'!B152:C152)","v":""},null,null,null,null,null,0]
[{"$f":"'Załącznik nr 1 do rozliczenia'!A153","v":"5"},{"$f":"IF('Załącznik nr 1 do rozliczenia'!B153:C153=\"\",\"\",'Załącznik nr 1 do rozliczenia'!B153:C153)","v":""},null,null,null,null,null,0]
[{"$f":"'Załącznik nr 1 do rozliczenia'!A154","v":"6"},{"$f":"IF('Załącznik nr 1 do rozliczenia'!B154:C154=\"\",\"\",'Załącznik nr 1 do rozliczenia'!B154:C154)","v":""},null,null,null,null,null,0]
[{"$f":"'Załącznik nr 1 do rozliczenia'!A155","v":"7"},{"$f":"IF('Załącznik nr 1 do rozliczenia'!B155:C155=\"\",\"\",'Załącznik nr 1 do rozliczenia'!B155:C155)","v":""},null,null,null,null,null,0]
[{"$f":"'Załącznik nr 1 do rozliczenia'!A156","v":"8"},{"$f":"IF('Załącznik nr 1 do rozliczenia'!B156:C156=\"\",\"\",'Załącznik nr 1 do rozliczenia'!B156:C156)","v":""},null,null,null,null,null,0]
[{"$f":"'Załącznik nr 1 do rozliczenia'!A157","v":"9"},{"$f":"IF('Załącznik nr 1 do rozliczenia'!B157:C157=\"\",\"\",'Załącznik nr 1 do rozliczenia'!B157:C157)","v":""},null,null,null,null,null,0]
[{"$f":"'Załącznik nr 1 do rozliczenia'!A158","v":"10"},{"$f":"IF('Załącznik nr 1 do rozliczenia'!B158:C158=\"\",\"\",'Załącznik nr 1 do rozliczenia'!B158:C158)","v":""},null,null,null,null,null,0]
[{"$f":"'Załącznik nr 1 do rozliczenia'!A159","v":"11"},{"$f":"IF('Załącznik nr 1 do rozliczenia'!B159:C159=\"\",\"\",'Załącznik nr 1 do rozliczenia'!B159:C159)","v":""},null,null,null,null,null,0]
[{"$f":"'Załącznik nr 1 do rozliczenia'!A160","v":"12"},{"$f":"IF('Załącznik nr 1 do rozliczenia'!B160:C160=\"\",\"\",'Załącznik nr 1 do rozliczenia'!B160:C160)","v":""},null,null,null,null,null,0]
[{"$f":"'Załącznik nr 1 do rozliczenia'!A161","v":"13"},{"$f":"IF('Załącznik nr 1 do rozliczenia'!B161:C161=\"\",\"\",'Załącznik nr 1 do rozliczenia'!B161:C161)","v":""},null,null,null,null,null,0]
[{"$f":"'Załącznik nr 1 do rozliczenia'!A162","v":"14"},{"$f":"IF('Załącznik nr 1 do rozliczenia'!B162:C162=\"\",\"\",'Załącznik nr 1 do rozliczenia'!B162:C162)","v":""},null,null,null,null,null,0]
[{"$f":"'Załącznik nr 1 do rozliczenia'!A163","v":"15"},{"$f":"IF('Załącznik nr 1 do rozliczenia'!B163:C163=\"\",\"\",'Załącznik nr 1 do rozliczenia'!B163:C163)","v":""},null,null,null,null,null,0]
[{"$f":"'Załącznik nr 1 do rozliczenia'!A164","v":"16"},{"$f":"IF('Załącznik nr 1 do rozliczenia'!B164:C164=\"\",\"\",'Załącznik nr 1 do rozliczenia'!B164:C164)","v":""},null,null,null,null,null,0]
[{"$f":"'Załącznik nr 1 do rozliczenia'!A165","v":"17"},{"$f":"IF('Załącznik nr 1 do rozliczenia'!B165:C165=\"\",\"\",'Załącznik nr 1 do rozliczenia'!B165:C165)","v":""},null,null,null,null,null,0]
[{"$f":"'Załącznik nr 1 do rozliczenia'!A166","v":"18"},{"$f":"IF('Załącznik nr 1 do rozliczenia'!B166:C166=\"\",\"\",'Załącznik nr 1 do rozliczenia'!B166:C166)","v":""},null,null,null,null,null,0]
[{"$f":"'Załącznik nr 1 do rozliczenia'!A167","v":"19"},{"$f":"IF('Załącznik nr 1 do rozliczenia'!B167:C167=\"\",\"\",'Załącznik nr 1 do rozliczenia'!B167:C167)","v":""},null,null,null,null,null,0]
[{"$f":"'Załącznik nr 1 do rozliczenia'!A168","v":"20"},{"$f":"IF('Załącznik nr 1 do rozliczenia'!B168:C168=\"\",\"\",'Załącznik nr 1 do rozliczenia'!B168:C168)","v":""},null,null,null,null,null,0]
[{"$f":"'Załącznik nr 1 do rozliczenia'!A169","v":"21"},{"$f":"IF('Załącznik nr 1 do rozliczenia'!B169:C169=\"\",\"\",'Załącznik nr 1 do rozliczenia'!B169:C169)","v":""},null,null,null,null,null,0]
[{"$f":"'Załącznik nr 1 do rozliczenia'!A170","v":"22"},{"$f":"IF('Załącznik nr 1 do rozliczenia'!B170:C170=\"\",\"\",'Załącznik nr 1 do rozliczenia'!B170:C170)","v":""},null,null,null,null,null,0]
[{"$f":"'Załącznik nr 1 do rozliczenia'!A171","v":"23"},{"$f":"IF('Załącznik nr 1 do rozliczenia'!B171:C171=\"\",\"\",'Załącznik nr 1 do rozliczenia'!B171:C171)","v":""},null,null,null,null,null,0]
[{"$f":"'Załącznik nr 1 do rozliczenia'!A172","v":"24"},{"$f":"IF('Załącznik nr 1 do rozliczenia'!B172:C172=\"\",\"\",'Załącznik nr 1 do rozliczenia'!B172:C172)","v":""},null,null,null,null,null,0]
[{"$f":"'Załącznik nr 1 do rozliczenia'!A173","v":"25"},{"$f":"IF('Załącznik nr 1 do rozliczenia'!B173:C173=\"\",\"\",'Załącznik nr 1 do rozliczenia'!B173:C173)","v":""},null,null,null,null,null,0]
[{"$f":"'Załącznik nr 1 do rozliczenia'!A174","v":"26"},{"$f":"IF('Załącznik nr 1 do rozliczenia'!B174:C174=\"\",\"\",'Załącznik nr 1 do rozliczenia'!B174:C174)","v":""},null,null,null,null,null,0]
[{"$f":"'Załącznik nr 1 do rozliczenia'!A175","v":"27"},{"$f":"IF('Załącznik nr 1 do rozliczenia'!B175:C175=\"\",\"\",'Załącznik nr 1 do rozliczenia'!B175:C175)","v":""},null,null,null,null,null,0]
[{"$f":"'Załącznik nr 1 do rozliczenia'!A176","v":"28"},{"$f":"IF('Załącznik nr 1 do rozliczenia'!B176:C176=\"\",\"\",'Załącznik nr 1 do rozliczenia'!B176:C176)","v":""},null,null,null,null,null,0]
[{"$f":"'Załącznik nr 1 do rozliczenia'!A177","v":"29"},{"$f":"IF('Załącznik nr 1 do rozliczenia'!B177:C177=\"\",\"\",'Załącznik nr 1 do rozliczenia'!B177:C177)","v":""},null,null,null,null,null,0]
[{"$f":"'Załącznik nr 1 do rozliczenia'!A178","v":"30"},{"$f":"IF('Załącznik nr 1 do rozliczenia'!B178:C178=\"\",\"\",'Załącznik nr 1 do rozliczenia'!B178:C178)","v":""},null,null,null,null,null,0]
[{"$f":"'Załącznik nr 1 do rozliczenia'!A179","v":"31"},{"$f":"IF('Załącznik nr 1 do rozliczenia'!B179:C179=\"\",\"\",'Załącznik nr 1 do rozliczenia'!B179:C179)","v":""},null,null,null,null,null,0]
[{"$f":"'Załącznik nr 1 do rozliczenia'!A180","v":"32"},{"$f":"IF('Załącznik nr 1 do rozliczenia'!B180:C180=\"\",\"\",'Załącznik nr 1 do rozliczenia'!B180:C180)","v":""},null,null,null,null,null,0]
[{"$f":"'Załącznik nr 1 do rozliczenia'!A181","v":"33"},{"$f":"IF('Załącznik nr 1 do rozliczenia'!B181:C181=\"\",\"\",'Załącznik nr 1 do rozliczenia'!B181:C181)","v":""},null,null,null,null,null,0]
[{"$f":"'Załącznik nr 1 do rozliczenia'!A182","v":"34"},{"$f":"IF('Załącznik nr 1 do rozliczenia'!B182:C182=\"\",\"\",'Załącznik nr 1 do rozliczenia'!B182:C182)","v":""},null,null,null,null,null,0]
[{"$f":"'Załącznik nr 1 do rozliczenia'!A183","v":"35"},{"$f":"IF('Załącznik nr 1 do rozliczenia'!B183:C183=\"\",\"\",'Załącznik nr 1 do rozliczenia'!B183:C183)","v":""},null,null,null,null,null,0]
[{"$f":"'Załącznik nr 1 do rozliczenia'!A184","v":"36"},{"$f":"IF('Załącznik nr 1 do rozliczenia'!B184:C184=\"\",\"\",'Załącznik nr 1 do rozliczenia'!B184:C184)","v":""},null,null,null,null,null,0]
[{"$f":"'Załącznik nr 1 do rozliczenia'!A185","v":"37"},{"$f":"IF('Załącznik nr 1 do rozliczenia'!B185:C185=\"\",\"\",'Załącznik nr 1 do rozliczenia'!B185:C185)","v":""},null,null,null,null,null,0]
[{"$f":"'Załącznik nr 1 do rozliczenia'!A186","v":"38"},{"$f":"IF('Załącznik nr 1 do rozliczenia'!B186:C186=\"\",\"\",'Załącznik nr 1 do rozliczenia'!B186:C186)","v":""},null,null,null,null,null,0]
[{"$f":"'Załącznik nr 1 do rozliczenia'!A187","v":"39"},{"$f":"IF('Załącznik nr 1 do rozliczenia'!B187:C187=\"\",\"\",'Załącznik nr 1 do rozliczenia'!B187:C187)","v":""},null,null,null,null,null,0]
[{"$f":"'Załącznik nr 1 do rozliczenia'!A188","v":"40"},{"$f":"IF('Załącznik nr 1 do rozliczenia'!B188:C188=\"\",\"\",'Załącznik nr 1 do rozliczenia'!B188:C188)","v":""},null,null,null,null,null,0]
[{"$f":"'Załącznik nr 1 do rozliczenia'!A189","v":"41"},{"$f":"IF('Załącznik nr 1 do rozliczenia'!B189:C189=\"\",\"\",'Załącznik nr 1 do rozliczenia'!B189:C189)","v":""},null,null,null,null,null,0]
[{"$f":"'Załącznik nr 1 do rozliczenia'!A190","v":"42"},{"$f":"IF('Załącznik nr 1 do rozliczenia'!B190:C190=\"\",\"\",'Załącznik nr 1 do rozliczenia'!B190:C190)","v":""},null,null,null,null,null,0]
[{"$f":"'Załącznik nr 1 do rozliczenia'!A191","v":"43"},{"$f":"IF('Załącznik nr 1 do rozliczenia'!B191:C191=\"\",\"\",'Załącznik nr 1 do rozliczenia'!B191:C191)","v":""},null,null,null,null,null,0]
[{"$f":"'Załącznik nr 1 do rozliczenia'!A192","v":"44"},{"$f":"IF('Załącznik nr 1 do rozliczenia'!B192:C192=\"\",\"\",'Załącznik nr 1 do rozliczenia'!B192:C192)","v":""},null,null,null,null,null,0]
[{"$f":"'Załącznik nr 1 do rozliczenia'!A193","v":"45"},{"$f":"IF('Załącznik nr 1 do rozliczenia'!B193:C193=\"\",\"\",'Załącznik nr 1 do rozliczenia'!B193:C193)","v":""},null,null,null,null,null,0]
[{"$f":"'Załącznik nr 1 do rozliczenia'!A194","v":"46"},{"$f":"IF('Załącznik nr 1 do rozliczenia'!B194:C194=\"\",\"\",'Załącznik nr 1 do rozliczenia'!B194:C194)","v":""},null,null,null,null,null,0]
[{"$f":"'Załącznik nr 1 do rozliczenia'!A195","v":"47"},{"$f":"IF('Załącznik nr 1 do rozliczenia'!B195:C195=\"\",\"\",'Załącznik nr 1 do rozliczenia'!B195:C195)","v":""},null,null,null,null,null,0]
[{"$f":"'Załącznik nr 1 do rozliczenia'!A196","v":"48"},{"$f":"IF('Załącznik nr 1 do rozliczenia'!B196:C196=\"\",\"\",'Załącznik nr 1 do rozliczenia'!B196:C196)","v":""},null,null,null,null,null,0]
[{"$f":"'Załącznik nr 1 do rozliczenia'!A197","v":"49"},{"$f":"IF('Załącznik nr 1 do rozliczenia'!B197:C197=\"\",\"\",'Załącznik nr 1 do rozliczenia'!B197:C197)","v":""},null,null,null,null,null,0]
[{"$f":"'Załącznik nr 1 do rozliczenia'!A198","v":"50"},{"$f":"IF('Załącznik nr 1 do rozliczenia'!B198:C198=\"\",\"\",'Załącznik nr 1 do rozliczenia'!B198:C198)","v":""},null,null,null,null,null,0]
[{"$f":"'Załącznik nr 1 do rozliczenia'!A199","v":"51"},{"$f":"IF('Załącznik nr 1 do rozliczenia'!B199:C199=\"\",\"\",'Załącznik nr 1 do rozliczenia'!B199:C199)","v":""},null,null,null,null,null,0]
[{"$f":"'Załącznik nr 1 do rozliczenia'!A200","v":"52"},{"$f":"IF('Załącznik nr 1 do rozliczenia'!B200:C200=\"\",\"\",'Załącznik nr 1 do rozliczenia'!B200:C200)","v":""},null,null,null,null,null,0]
[{"$f":"'Załącznik nr 1 do rozliczenia'!A201","v":"53"},{"$f":"IF('Załącznik nr 1 do rozliczenia'!B201:C201=\"\",\"\",'Załącznik nr 1 do rozliczenia'!B201:C201)","v":""},null,null,null,null,null,0]
[{"$f":"'Załącznik nr 1 do rozliczenia'!A202","v":"54"},{"$f":"IF('Załącznik nr 1 do rozliczenia'!B202:C202=\"\",\"\",'Załącznik nr 1 do rozliczenia'!B202:C202)","v":""},null,null,null,null,null,0]
[{"$f":"'Załącznik nr 1 do rozliczenia'!A203","v":"55"},{"$f":"IF('Załącznik nr 1 do rozliczenia'!B203:C203=\"\",\"\",'Załącznik nr 1 do rozliczenia'!B203:C203)","v":""},null,null,null,null,null,0]
[{"$f":"'Załącznik nr 1 do rozliczenia'!A204","v":"56"},{"$f":"IF('Załącznik nr 1 do rozliczenia'!B204:C204=\"\",\"\",'Załącznik nr 1 do rozliczenia'!B204:C204)","v":""},null,null,null,null,null,0]
[{"$f":"'Załącznik nr 1 do rozliczenia'!A205","v":"57"},{"$f":"IF('Załącznik nr 1 do rozliczenia'!B205:C205=\"\",\"\",'Załącznik nr 1 do rozliczenia'!B205:C205)","v":""},null,null,null,null,null,0]
[{"$f":"'Załącznik nr 1 do rozliczenia'!A206","v":"58"},{"$f":"IF('Załącznik nr 1 do rozliczenia'!B206:C206=\"\",\"\",'Załącznik nr 1 do rozliczenia'!B206:C206)","v":""},null,null,null,null,null,0]
[{"$f":"'Załącznik nr 1 do rozliczenia'!A207","v":"59"},{"$f":"IF('Załącznik nr 1 do rozliczenia'!B207:C207=\"\",\"\",'Załącznik nr 1 do rozliczenia'!B207:C207)","v":""},null,null,null,null,null,0]
[{"$f":"'Załącznik nr 1 do rozliczenia'!A208","v":"60"},{"$f":"IF('Załącznik nr 1 do rozliczenia'!B208:C208=\"\",\"\",'Załącznik nr 1 do rozliczenia'!B208:C208)","v":""},null,null,null,null,null,0]
[{"$f":"'Załącznik nr 1 do rozliczenia'!A209","v":"61"},{"$f":"IF('Załącznik nr 1 do rozliczenia'!B209:C209=\"\",\"\",'Załącznik nr 1 do rozliczenia'!B209:C209)","v":""},null,null,null,null,null,0]
[{"$f":"'Załącznik nr 1 do rozliczenia'!A210","v":"62"},{"$f":"IF('Załącznik nr 1 do rozliczenia'!B210:C210=\"\",\"\",'Załącznik nr 1 do rozliczenia'!B210:C210)","v":""},null,null,null,null,null,0]
[{"$f":"'Załącznik nr 1 do rozliczenia'!A211","v":"63"},{"$f":"IF('Załącznik nr 1 do rozliczenia'!B211:C211=\"\",\"\",'Załącznik nr 1 do rozliczenia'!B211:C211)","v":""},null,null,null,null,null,0]
[{"$f":"'Załącznik nr 1 do rozliczenia'!A212","v":"64"},{"$f":"IF('Załącznik nr 1 do rozliczenia'!B212:C212=\"\",\"\",'Załącznik nr 1 do rozliczenia'!B212:C212)","v":""},null,null,null,null,null,0]
[{"$f":"'Załącznik nr 1 do rozliczenia'!A213","v":"65"},{"$f":"IF('Załącznik nr 1 do rozliczenia'!B213:C213=\"\",\"\",'Załącznik nr 1 do rozliczenia'!B213:C213)","v":""},null,null,null,null,null,0]
[{"$f":"'Załącznik nr 1 do rozliczenia'!A214","v":"66"},{"$f":"IF('Załącznik nr 1 do rozliczenia'!B214:C214=\"\",\"\",'Załącznik nr 1 do rozliczenia'!B214:C214)","v":""},null,null,null,null,null,0]
[{"$f":"'Załącznik nr 1 do rozliczenia'!A215","v":"67"},{"$f":"IF('Załącznik nr 1 do rozliczenia'!B215:C215=\"\",\"\",'Załącznik nr 1 do rozliczenia'!B215:C215)","v":""},null,null,null,null,null,0]
[{"$f":"'Załącznik nr 1 do rozliczenia'!A216","v":"68"},{"$f":"IF('Załącznik nr 1 do rozliczenia'!B216:C216=\"\",\"\",'Załącznik nr 1 do rozliczenia'!B216:C216)","v":""},null,null,null,null,null,0]
[{"$f":"'Załącznik nr 1 do rozliczenia'!A217","v":"69"},{"$f":"IF('Załącznik nr 1 do rozliczenia'!B217:C217=\"\",\"\",'Załącznik nr 1 do rozliczenia'!B217:C217)","v":""},null,null,null,null,null,0]
[{"$f":"'Załącznik nr 1 do rozliczenia'!A218","v":"70"},{"$f":"IF('Załącznik nr 1 do rozliczenia'!B218:C218=\"\",\"\",'Załącznik nr 1 do rozliczenia'!B218:C218)","v":""},null,null,null,null,null,0]
[{"$f":"'Załącznik nr 1 do rozliczenia'!A219","v":"71"},{"$f":"IF('Załącznik nr 1 do rozliczenia'!B219:C219=\"\",\"\",'Załącznik nr 1 do rozliczenia'!B219:C219)","v":""},null,null,null,null,null,0]
[{"$f":"'Załącznik nr 1 do rozliczenia'!A220","v":"72"},{"$f":"IF('Załącznik nr 1 do rozliczenia'!B220:C220=\"\",\"\",'Załącznik nr 1 do rozliczenia'!B220:C220)","v":""},null,null,null,null,null,0]
[{"$f":"'Załącznik nr 1 do rozliczenia'!A221","v":"73"},{"$f":"IF('Załącznik nr 1 do rozliczenia'!B221:C221=\"\",\"\",'Załącznik nr 1 do rozliczenia'!B221:C221)","v":""},null,null,null,null,null,0]
[{"$f":"'Załącznik nr 1 do rozliczenia'!A222","v":"74"},{"$f":"IF('Załącznik nr 1 do rozliczenia'!B222:C222=\"\",\"\",'Załącznik nr 1 do rozliczenia'!B222:C222)","v":""},null,null,null,null,null,0]
[{"$f":"'Załącznik nr 1 do rozliczenia'!A223","v":"75"},{"$f":"IF('Załącznik nr 1 do rozliczenia'!B223:C223=\"\",\"\",'Załącznik nr 1 do rozliczenia'!B223:C223)","v":""},null,null,null,null,null,0]
[{"$f":"'Załącznik nr 1 do rozliczenia'!A224","v":"76"},{"$f":"IF('Załącznik nr 1 do rozliczenia'!B224:C224=\"\",\"\",'Załącznik nr 1 do rozliczenia'!B224:C224)","v":""},null,null,null,null,null,0]
[{"$f":"'Załącznik nr 1 do rozliczenia'!A225","v":"77"},{"$f":"IF('Załącznik nr 1 do rozliczenia'!B225:C225=\"\",\"\",'Załącznik nr 1 do rozliczenia'!B225:C225)","v":""},null,null,null,null,null,0]
[{"$f":"'Załącznik nr 1 do rozliczenia'!A226","v":"78"},{"$f":"IF('Załącznik nr 1 do rozliczenia'!B226:C226=\"\",\"\",'Załącznik nr 1 do rozliczenia'!B226:C226)","v":""},null,null,null,null,null,0]
[{"$f":"'Załącznik nr 1 do rozliczenia'!A227","v":"79"},{"$f":"IF('Załącznik nr 1 do rozliczenia'!B227:C227=\"\",\"\",'Załącznik nr 1 do rozliczenia'!B227:C227)","v":""},null,null,null,null,null,0]
[{"$f":"'Załącznik nr 1 do rozliczenia'!A228","v":"80"},{"$f":"IF('Załącznik nr 1 do rozliczenia'!B228:C228=\"\",\"\",'Załącznik nr 1 do rozliczenia'!B228:C228)","v":""},null,null,null,null,null,0]
[{"$f":"'Załącznik nr 1 do rozliczenia'!A229","v":"81"},{"$f":"IF('Załącznik nr 1 do rozliczenia'!B229:C229=\"\",\"\",'Załącznik nr 1 do rozliczenia'!B229:C229)","v":""},null,null,null,null,null,0]
[{"$f":"'Załącznik nr 1 do rozliczenia'!A230","v":"82"},{"$f":"IF('Załącznik nr 1 do rozliczenia'!B230:C230=\"\",\"\",'Załącznik nr 1 do rozliczenia'!B230:C230)","v":""},null,null,null,null,null,0]
[{"$f":"'Załącznik nr 1 do rozliczenia'!A231","v":"83"},{"$f":"IF('Załącznik nr 1 do rozliczenia'!B231:C231=\"\",\"\",'Załącznik nr 1 do rozliczenia'!B231:C231)","v":""},null,null,null,null,null,0]
[{"$f":"'Załącznik nr 1 do rozliczenia'!A232","v":"84"},{"$f":"IF('Załącznik nr 1 do rozliczenia'!B232:C232=\"\",\"\",'Załącznik nr 1 do rozliczenia'!B232:C232)","v":""},null,null,null,null,null,0]
[{"$f":"'Załącznik nr 1 do rozliczenia'!A233","v":"85"},{"$f":"IF('Załącznik nr 1 do rozliczenia'!B233:C233=\"\",\"\",'Załącznik nr 1 do rozliczenia'!B233:C233)","v":""},null,null,null,null,null,0]
[{"$f":"'Załącznik nr 1 do rozliczenia'!A234","v":"86"},{"$f":"IF('Załącznik nr 1 do rozliczenia'!B234:C234=\"\",\"\",'Załącznik nr 1 do rozliczenia'!B234:C234)","v":""},null,null,null,null,null,0]
[{"$f":"'Załącznik nr 1 do rozliczenia'!A235","v":"87"},{"$f":"IF('Załącznik nr 1 do rozliczenia'!B235:C235=\"\",\"\",'Załącznik nr 1 do rozliczenia'!B235:C235)","v":""},null,null,null,null,null,0]
[{"$f":"'Załącznik nr 1 do rozliczenia'!A236","v":"88"},{"$f":"IF('Załącznik nr 1 do rozliczenia'!B236:C236=\"\",\"\",'Załącznik nr 1 do rozliczenia'!B236:C236)","v":""},null,null,null,null,null,0]
[{"$f":"'Załącznik nr 1 do rozliczenia'!A237","v":"89"},{"$f":"IF('Załącznik nr 1 do rozliczenia'!B237:C237=\"\",\"\",'Załącznik nr 1 do rozliczenia'!B237:C237)","v":""},null,null,null,null,null,0]
[{"$f":"'Załącznik nr 1 do rozliczenia'!A238","v":"90"},{"$f":"IF('Załącznik nr 1 do rozliczenia'!B238:C238=\"\",\"\",'Załącznik nr 1 do rozliczenia'!B238:C238)","v":""},null,null,null,null,null,0]
[{"$f":"'Załącznik nr 1 do rozliczenia'!A239","v":"91"},{"$f":"IF('Załącznik nr 1 do rozliczenia'!B239:C239=\"\",\"\",'Załącznik nr 1 do rozliczenia'!B239:C239)","v":""},null,null,null,null,null,0]
[{"$f":"'Załącznik nr 1 do rozliczenia'!A240","v":"92"},{"$f":"IF('Załącznik nr 1 do rozliczenia'!B240:C240=\"\",\"\",'Załącznik nr 1 do rozliczenia'!B240:C240)","v":""},null,null,null,null,null,0]
[{"$f":"'Załącznik nr 1 do rozliczenia'!A241","v":"93"},{"$f":"IF('Załącznik nr 1 do rozliczenia'!B241:C241=\"\",\"\",'Załącznik nr 1 do rozliczenia'!B241:C241)","v":""},null,null,null,null,null,0]
[{"$f":"'Załącznik nr 1 do rozliczenia'!A242","v":"94"},{"$f":"IF('Załącznik nr 1 do rozliczenia'!B242:C242=\"\",\"\",'Załącznik nr 1 do rozliczenia'!B242:C242)","v":""},null,null,null,null,null,0]
[{"$f":"'Załącznik nr 1 do rozliczenia'!A243","v":"95"},{"$f":"IF('Załącznik nr 1 do rozliczenia'!B243:C243=\"\",\"\",'Załącznik nr 1 do rozliczenia'!B243:C243)","v":""},null,null,null,null,null,0]
[{"$f":"'Załącznik nr 1 do rozliczenia'!A244","v":"96"},{"$f":"IF('Załącznik nr 1 do rozliczenia'!B244:C244=\"\",\"\",'Załącznik nr 1 do rozliczenia'!B244:C244)","v":""},null,null,null,null,null,0]
[{"$f":"'Załącznik nr 1 do rozliczenia'!A245","v":"97"},{"$f":"IF('Załącznik nr 1 do rozliczenia'!B245:C245=\"\",\"\",'Załącznik nr 1 do rozliczenia'!B245:C245)","v":""},null,null,null,null,null,0]
[{"$f":"'Załącznik nr 1 do rozliczenia'!A246","v":"98"},{"$f":"IF('Załącznik nr 1 do rozliczenia'!B246:C246=\"\",\"\",'Załącznik nr 1 do rozliczenia'!B246:C246)","v":""},null,null,null,null,null,0]
[{"$f":"'Załącznik nr 1 do rozliczenia'!A247","v":"99"},{"$f":"IF('Załącznik nr 1 do rozliczenia'!B247:C247=\"\",\"\",'Załącznik nr 1 do rozliczenia'!B247:C247)","v":""},null,null,null,null,null,0]
[{"$f":"'Załącznik nr 1 do rozliczenia'!A248","v":"100"},{"$f":"IF('Załącznik nr 1 do rozliczenia'!B248:C248=\"\",\"\",'Załącznik nr 1 do rozliczenia'!B248:C248)","v":""},null,null,null,null,null,0]
[{"$f":"'Załącznik nr 1 do rozliczenia'!A249","v":"101"},{"$f":"IF('Załącznik nr 1 do rozliczenia'!B249:C249=\"\",\"\",'Załącznik nr 1 do rozliczenia'!B249:C249)","v":""},null,null,null,null,null,0]
[{"$f":"'Załącznik nr 1 do rozliczenia'!A250","v":"102"},{"$f":"IF('Załącznik nr 1 do rozliczenia'!B250:C250=\"\",\"\",'Załącznik nr 1 do rozliczenia'!B250:C250)","v":""},null,null,null,null,null,0]
[{"$f":"'Załącznik nr 1 do rozliczenia'!A251","v":"103"},{"$f":"IF('Załącznik nr 1 do rozliczenia'!B251:C251=\"\",\"\",'Załącznik nr 1 do rozliczenia'!B251:C251)","v":""},null,null,null,null,null,0]
[{"$f":"'Załącznik nr 1 do rozliczenia'!A252","v":"104"},{"$f":"IF('Załącznik nr 1 do rozliczenia'!B252:C252=\"\",\"\",'Załącznik nr 1 do rozliczenia'!B252:C252)","v":""},null,null,null,null,null,0]
[{"$f":"'Załącznik nr 1 do rozliczenia'!A253","v":"105"},{"$f":"IF('Załącznik nr 1 do rozliczenia'!B253:C253=\"\",\"\",'Załącznik nr 1 do rozliczenia'!B253:C253)","v":""},null,null,null,null,null,0]
[{"$f":"'Załącznik nr 1 do rozliczenia'!A254","v":"106"},{"$f":"IF('Załącznik nr 1 do rozliczenia'!B254:C254=\"\",\"\",'Załącznik nr 1 do rozliczenia'!B254:C254)","v":""},null,null,null,null,null,0]
[{"$f":"'Załącznik nr 1 do rozliczenia'!A255","v":"107"},{"$f":"IF('Załącznik nr 1 do rozliczenia'!B255:C255=\"\",\"\",'Załącznik nr 1 do rozliczenia'!B255:C255)","v":""},null,null,null,null,null,0]
[{"$f":"'Załącznik nr 1 do rozliczenia'!A256","v":"108"},{"$f":"IF('Załącznik nr 1 do rozliczenia'!B256:C256=\"\",\"\",'Załącznik nr 1 do rozliczenia'!B256:C256)","v":""},null,null,null,null,null,0]
[{"$f":"'Załącznik nr 1 do rozliczenia'!A257","v":"109"},{"$f":"IF('Załącznik nr 1 do rozliczenia'!B257:C257=\"\",\"\",'Załącznik nr 1 do rozliczenia'!B257:C257)","v":""},null,null,null,null,null,0]
[{"$f":"'Załącznik nr 1 do rozliczenia'!A258","v":"110"},{"$f":"IF('Załącznik nr 1 do rozliczenia'!B258:C258=\"\",\"\",'Załącznik nr 1 do rozliczenia'!B258:C258)","v":""},null,null,null,null,null,0]
["Ogółem:",null,null,{"$f":"SUM(D145:D254)","v":0},{"$f":"SUM(E145:E254)","v":0},null,null,{"$f":"SUM(H145:H254)","v":0}]
[]
["B.3  Dane dotyczące linii komunikacyjnych "]
[null,null,"MIESIĄC",{"$f":"'Załącznik nr 1 do rozliczenia'!D263:E263","v":"MARZEC"},null,"2025 r."]
["Lp.","Nazwa linii komunikacyjnej",null,"Długość linii [km]","Ilość wykonanych kursów w okresie rozliczeniowym","Dni kursowania",null,"Zrealizowana praca eksploatacyjna [wzkm]"]
[1,"2",null,"3","4","5",null,"6"]
[{"$f":"'Załącznik nr 1 do rozliczenia'!A266","v":"1"},{"$f":"IF('Załącznik nr 1 do rozliczenia'!B266:C266=\"\",\"\",'Załącznik nr 1 do rozliczenia'!B266:C266)","v":""},null,null,null,null,null,{"$f":"D261*E261","v":0}]
[{"$f":"'Załącznik nr 1 do rozliczenia'!A267","v":"2"},{"$f":"IF('Załącznik nr 1 do rozliczenia'!B267:C267=\"\",\"\",'Załącznik nr 1 do rozliczenia'!B267:C267)","v":""},null,null,null,null,null,{"$f":"D262*E262","v":0}]
[{"$f":"'Załącznik nr 1 do rozliczenia'!A268","v":"3"},{"$f":"IF('Załącznik nr 1 do rozliczenia'!B268:C268=\"\",\"\",'Załącznik nr 1 do rozliczenia'!B268:C268)","v":""},null,null,null,null,null,0]
[{"$f":"'Załącznik nr 1 do rozliczenia'!A269","v":"4"},{"$f":"IF('Załącznik nr 1 do rozliczenia'!B269:C269=\"\",\"\",'Załącznik nr 1 do rozliczenia'!B269:C269)","v":""},null,null,null,null,null,0]
[{"$f":"'Załącznik nr 1 do rozliczenia'!A270","v":"5"},{"$f":"IF('Załącznik nr 1 do rozliczenia'!B270:C270=\"\",\"\",'Załącznik nr 1 do rozliczenia'!B270:C270)","v":""},null,null,null,null,null,0]
[{"$f":"'Załącznik nr 1 do rozliczenia'!A271","v":"6"},{"$f":"IF('Załącznik nr 1 do rozliczenia'!B271:C271=\"\",\"\",'Załącznik nr 1 do rozliczenia'!B271:C271)","v":""},null,null,null,null,null,0]
[{"$f":"'Załącznik nr 1 do rozliczenia'!A272","v":"7"},{"$f":"IF('Załącznik nr 1 do rozliczenia'!B272:C272=\"\",\"\",'Załącznik nr 1 do rozliczenia'!B272:C272)","v":""},null,null,null,null,null,0]
[{"$f":"'Załącznik nr 1 do rozliczenia'!A273","v":"8"},{"$f":"IF('Załącznik nr 1 do rozliczenia'!B273:C273=\"\",\"\",'Załącznik nr 1 do rozliczenia'!B273:C273)","v":""},null,null,null,null,null,0]
[{"$f":"'Załącznik nr 1 do rozliczenia'!A274","v":"9"},{"$f":"IF('Załącznik nr 1 do rozliczenia'!B274:C274=\"\",\"\",'Załącznik nr 1 do rozliczenia'!B274:C274)","v":""},null,null,null,null,null,0]
[{"$f":"'Załącznik nr 1 do rozliczenia'!A275","v":"10"},{"$f":"IF('Załącznik nr 1 do rozliczenia'!B275:C275=\"\",\"\",'Załącznik nr 1 do rozliczenia'!B275:C275)","v":""},null,null,null,null,null,0]
[{"$f":"'Załącznik nr 1 do rozliczenia'!A276","v":"11"},{"$f":"IF('Załącznik nr 1 do rozliczenia'!B276:C276=\"\",\"\",'Załącznik nr 1 do rozliczenia'!B276:C276)","v":""},null,null,null,null,null,0]
[{"$f":"'Załącznik nr 1 do rozliczenia'!A277","v":"12"},{"$f":"IF('Załącznik nr 1 do rozliczenia'!B277:C277=\"\",\"\",'Załącznik nr 1 do rozliczenia'!B277:C277)","v":""},null,null,null,null,null,0]
[{"$f":"'Załącznik nr 1 do rozliczenia'!A278","v":"13"},{"$f":"IF('Załącznik nr 1 do rozliczenia'!B278:C278=\"\",\"\",'Załącznik nr 1 do rozliczenia'!B278:C278)","v":""},null,null,null,null,null,0]
[{"$f":"'Załącznik nr 1 do rozliczenia'!A279","v":"14"},{"$f":"IF('Załącznik nr 1 do rozliczenia'!B279:C279=\"\",\"\",'Załącznik nr 1 do rozliczenia'!B279:C279)","v":""},null,null,null,null,null,0]
[{"$f":"'Załącznik nr 1 do rozliczenia'!A280","v":"15"},{"$f":"IF('Załącznik nr 1 do rozliczenia'!B280:C280=\"\",\"\",'Załącznik nr 1 do rozliczenia'!B280:C280)","v":""},null,null,null,null,null,0]
[{"$f":"'Załącznik nr 1 do rozliczenia'!A281","v":"16"},{"$f":"IF('Załącznik nr 1 do rozliczenia'!B281:C281=\"\",\"\",'Załącznik nr 1 do rozliczenia'!B281:C281)","v":""},null,null,null,null,null,0]
[{"$f":"'Załącznik nr 1 do rozliczenia'!A282","v":"17"},{"$f":"IF('Załącznik nr 1 do rozliczenia'!B282:C282=\"\",\"\",'Załącznik nr 1 do rozliczenia'!B282:C282)","v":""},null,null,null,null,null,0]
[{"$f":"'Załącznik nr 1 do rozliczenia'!A283","v":"18"},{"$f":"IF('Załącznik nr 1 do rozliczenia'!B283:C283=\"\",\"\",'Załącznik nr 1 do rozliczenia'!B283:C283)","v":""},null,null,null,null,null,0]
[{"$f":"'Załącznik nr 1 do rozliczenia'!A284","v":"19"},{"$f":"IF('Załącznik nr 1 do rozliczenia'!B284:C284=\"\",\"\",'Załącznik nr 1 do rozliczenia'!B284:C284)","v":""},null,null,null,null,null,0]
[{"$f":"'Załącznik nr 1 do rozliczenia'!A285","v":"20"},{"$f":"IF('Załącznik nr 1 do rozliczenia'!B285:C285=\"\",\"\",'Załącznik nr 1 do rozliczenia'!B285:C285)","v":""},null,null,null,null,null,0]
[{"$f":"'Załącznik nr 1 do rozliczenia'!A286","v":"21"},{"$f":"IF('Załącznik nr 1 do rozliczenia'!B286:C286=\"\",\"\",'Załącznik nr 1 do rozliczenia'!B286:C286)","v":""},null,null,null,null,null,0]
[{"$f":"'Załącznik nr 1 do rozliczenia'!A287","v":"22"},{"$f":"IF('Załącznik nr 1 do rozliczenia'!B287:C287=\"\",\"\",'Załącznik nr 1 do rozliczenia'!B287:C287)","v":""},null,null,null,null,null,0]
[{"$f":"'Załącznik nr 1 do rozliczenia'!A288","v":"23"},{"$f":"IF('Załącznik nr 1 do rozliczenia'!B288:C288=\"\",\"\",'Załącznik nr 1 do rozliczenia'!B288:C288)","v":""},null,null,null,null,null,0]
[{"$f":"'Załącznik nr 1 do rozliczenia'!A289","v":"24"},{"$f":"IF('Załącznik nr 1 do rozliczenia'!B289:C289=\"\",\"\",'Załącznik nr 1 do rozliczenia'!B289:C289)","v":""},null,null,null,null,null,0]
[{"$f":"'Załącznik nr 1 do rozliczenia'!A290","v":"25"},{"$f":"IF('Załącznik nr 1 do rozliczenia'!B290:C290=\"\",\"\",'Załącznik nr 1 do rozliczenia'!B290:C290)","v":""},null,null,null,null,null,0]
[{"$f":"'Załącznik nr 1 do rozliczenia'!A291","v":"26"},{"$f":"IF('Załącznik nr 1 do rozliczenia'!B291:C291=\"\",\"\",'Załącznik nr 1 do rozliczenia'!B291:C291)","v":""},null,null,null,null,null,0]
[{"$f":"'Załącznik nr 1 do rozliczenia'!A292","v":"27"},{"$f":"IF('Załącznik nr 1 do rozliczenia'!B292:C292=\"\",\"\",'Załącznik nr 1 do rozliczenia'!B292:C292)","v":""},null,null,null,null,null,0]
[{"$f":"'Załącznik nr 1 do rozliczenia'!A293","v":"28"},{"$f":"IF('Załącznik nr 1 do rozliczenia'!B293:C293=\"\",\"\",'Załącznik nr 1 do rozliczenia'!B293:C293)","v":""},null,null,null,null,null,0]
[{"$f":"'Załącznik nr 1 do rozliczenia'!A294","v":"29"},{"$f":"IF('Załącznik nr 1 do rozliczenia'!B294:C294=\"\",\"\",'Załącznik nr 1 do rozliczenia'!B294:C294)","v":""},null,null,null,null,null,0]
[{"$f":"'Załącznik nr 1 do rozliczenia'!A295","v":"30"},{"$f":"IF('Załącznik nr 1 do rozliczenia'!B295:C295=\"\",\"\",'Załącznik nr 1 do rozliczenia'!B295:C295)","v":""},null,null,null,null,null,0]
[{"$f":"'Załącznik nr 1 do rozliczenia'!A296","v":"31"},{"$f":"IF('Załącznik nr 1 do rozliczenia'!B296:C296=\"\",\"\",'Załącznik nr 1 do rozliczenia'!B296:C296)","v":""},null,null,null,null,null,0]
[{"$f":"'Załącznik nr 1 do rozliczenia'!A297","v":"32"},{"$f":"IF('Załącznik nr 1 do rozliczenia'!B297:C297=\"\",\"\",'Załącznik nr 1 do rozliczenia'!B297:C297)","v":""},null,null,null,null,null,0]
[{"$f":"'Załącznik nr 1 do rozliczenia'!A298","v":"33"},{"$f":"IF('Załącznik nr 1 do rozliczenia'!B298:C298=\"\",\"\",'Załącznik nr 1 do rozliczenia'!B298:C298)","v":""},null,null,null,null,null,0]
[{"$f":"'Załącznik nr 1 do rozliczenia'!A299","v":"34"},{"$f":"IF('Załącznik nr 1 do rozliczenia'!B299:C299=\"\",\"\",'Załącznik nr 1 do rozliczenia'!B299:C299)","v":""},null,null,null,null,null,0]
[{"$f":"'Załącznik nr 1 do rozliczenia'!A300","v":"35"},{"$f":"IF('Załącznik nr 1 do rozliczenia'!B300:C300=\"\",\"\",'Załącznik nr 1 do rozliczenia'!B300:C300)","v":""},null,null,null,null,null,0]
[{"$f":"'Załącznik nr 1 do rozliczenia'!A301","v":"36"},{"$f":"IF('Załącznik nr 1 do rozliczenia'!B301:C301=\"\",\"\",'Załącznik nr 1 do rozliczenia'!B301:C301)","v":""},null,null,null,null,null,0]
[{"$f":"'Załącznik nr 1 do rozliczenia'!A302","v":"37"},{"$f":"IF('Załącznik nr 1 do rozliczenia'!B302:C302=\"\",\"\",'Załącznik nr 1 do rozliczenia'!B302:C302)","v":""},null,null,null,null,null,0]
[{"$f":"'Załącznik nr 1 do rozliczenia'!A303","v":"38"},{"$f":"IF('Załącznik nr 1 do rozliczenia'!B303:C303=\"\",\"\",'Załącznik nr 1 do rozliczenia'!B303:C303)","v":""},null,null,null,null,null,0]
[{"$f":"'Załącznik nr 1 do rozliczenia'!A304","v":"39"},{"$f":"IF('Załącznik nr 1 do rozliczenia'!B304:C304=\"\",\"\",'Załącznik nr 1 do rozliczenia'!B304:C304)","v":""},null,null,null,null,null,0]
[{"$f":"'Załącznik nr 1 do rozliczenia'!A305","v":"40"},{"$f":"IF('Załącznik nr 1 do rozliczenia'!B305:C305=\"\",\"\",'Załącznik nr 1 do rozliczenia'!B305:C305)","v":""},null,null,null,null,null,0]
[{"$f":"'Załącznik nr 1 do rozliczenia'!A306","v":"41"},{"$f":"IF('Załącznik nr 1 do rozliczenia'!B306:C306=\"\",\"\",'Załącznik nr 1 do rozliczenia'!B306:C306)","v":""},null,null,null,null,null,0]
[{"$f":"'Załącznik nr 1 do rozliczenia'!A307","v":"42"},{"$f":"IF('Załącznik nr 1 do rozliczenia'!B307:C307=\"\",\"\",'Załącznik nr 1 do rozliczenia'!B307:C307)","v":""},null,null,null,null,null,0]
[{"$f":"'Załącznik nr 1 do rozliczenia'!A308","v":"43"},{"$f":"IF('Załącznik nr 1 do rozliczenia'!B308:C308=\"\",\"\",'Załącznik nr 1 do rozliczenia'!B308:C308)","v":""},null,null,null,null,null,0]
[{"$f":"'Załącznik nr 1 do rozliczenia'!A309","v":"44"},{"$f":"IF('Załącznik nr 1 do rozliczenia'!B309:C309=\"\",\"\",'Załącznik nr 1 do rozliczenia'!B309:C309)","v":""},null,null,null,null,null,0]
[{"$f":"'Załącznik nr 1 do rozliczenia'!A310","v":"45"},{"$f":"IF('Załącznik nr 1 do rozliczenia'!B310:C310=\"\",\"\",'Załącznik nr 1 do rozliczenia'!B310:C310)","v":""},null,null,null,null,null,0]
[{"$f":"'Załącznik nr 1 do rozliczenia'!A311","v":"46"},{"$f":"IF('Załącznik nr 1 do rozliczenia'!B311:C311=\"\",\"\",'Załącznik nr 1 do rozliczenia'!B311:C311)","v":""},null,null,null,null,null,0]
[{"$f":"'Załącznik nr 1 do rozliczenia'!A312","v":"47"},{"$f":"IF('Załącznik nr 1 do rozliczenia'!B312:C312=\"\",\"\",'Załącznik nr 1 do rozliczenia'!B312:C312)","v":""},null,null,null,null,null,0]
[{"$f":"'Załącznik nr 1 do rozliczenia'!A313","v":"48"},{"$f":"IF('Załącznik nr 1 do rozliczenia'!B313:C313=\"\",\"\",'Załącznik nr 1 do rozliczenia'!B313:C313)","v":""},null,null,null,null,null,0]
[{"$f":"'Załącznik nr 1 do rozliczenia'!A314","v":"49"},{"$f":"IF('Załącznik nr 1 do rozliczenia'!B314:C314=\"\",\"\",'Załącznik nr 1 do rozliczenia'!B314:C314)","v":""},null,null,null,null,null,0]
[{"$f":"'Załącznik nr 1 do rozliczenia'!A315","v":"50"},{"$f":"IF('Załącznik nr 1 do rozliczenia'!B315:C315=\"\",\"\",'Załącznik nr 1 do rozliczenia'!B315:C315)","v":""},null,null,null,null,null,0]
[{"$f":"'Załącznik nr 1 do rozliczenia'!A316","v":"51"},{"$f":"IF('Załącznik nr 1 do rozliczenia'!B316:C316=\"\",\"\",'Załącznik nr 1 do rozliczenia'!B316:C316)","v":""},null,null,null,null,null,0]
[{"$f":"'Załącznik nr 1 do rozliczenia'!A317","v":"52"},{"$f":"IF('Załącznik nr 1 do rozliczenia'!B317:C317=\"\",\"\",'Załącznik nr 1 do rozliczenia'!B317:C317)","v":""},null,null,null,null,null,0]
[{"$f":"'Załącznik nr 1 do rozliczenia'!A318","v":"53"},{"$f":"IF('Załącznik nr 1 do rozliczenia'!B318:C318=\"\",\"\",'Załącznik nr 1 do rozliczenia'!B318:C318)","v":""},null,null,null,null,null,0]
[{"$f":"'Załącznik nr 1 do rozliczenia'!A319","v":"54"},{"$f":"IF('Załącznik nr 1 do rozliczenia'!B319:C319=\"\",\"\",'Załącznik nr 1 do rozliczenia'!B319:C319)","v":""},null,null,null,null,null,0]
[{"$f":"'Załącznik nr 1 do rozliczenia'!A320","v":"55"},{"$f":"IF('Załącznik nr 1 do rozliczenia'!B320:C320=\"\",\"\",'Załącznik nr 1 do rozliczenia'!B320:C320)","v":""},null,null,null,null,null,0]
[{"$f":"'Załącznik nr 1 do rozliczenia'!A321","v":"56"},{"$f":"IF('Załącznik nr 1 do rozliczenia'!B321:C321=\"\",\"\",'Załącznik nr 1 do rozliczenia'!B321:C321)","v":""},null,null,null,null,null,0]
[{"$f":"'Załącznik nr 1 do rozliczenia'!A322","v":"57"},{"$f":"IF('Załącznik nr 1 do rozliczenia'!B322:C322=\"\",\"\",'Załącznik nr 1 do rozliczenia'!B322:C322)","v":""},null,null,null,null,null,0]
[{"$f":"'Załącznik nr 1 do rozliczenia'!A323","v":"58"},{"$f":"IF('Załącznik nr 1 do rozliczenia'!B323:C323=\"\",\"\",'Załącznik nr 1 do rozliczenia'!B323:C323)","v":""},null,null,null,null,null,0]
[{"$f":"'Załącznik nr 1 do rozliczenia'!A324","v":"59"},{"$f":"IF('Załącznik nr 1 do rozliczenia'!B324:C324=\"\",\"\",'Załącznik nr 1 do rozliczenia'!B324:C324)","v":""},null,null,null,null,null,0]
[{"$f":"'Załącznik nr 1 do rozliczenia'!A325","v":"60"},{"$f":"IF('Załącznik nr 1 do rozliczenia'!B325:C325=\"\",\"\",'Załącznik nr 1 do rozliczenia'!B325:C325)","v":""},null,null,null,null,null,0]
[{"$f":"'Załącznik nr 1 do rozliczenia'!A326","v":"61"},{"$f":"IF('Załącznik nr 1 do rozliczenia'!B326:C326=\"\",\"\",'Załącznik nr 1 do rozliczenia'!B326:C326)","v":""},null,null,null,null,null,0]
[{"$f":"'Załącznik nr 1 do rozliczenia'!A327","v":"62"},{"$f":"IF('Załącznik nr 1 do rozliczenia'!B327:C327=\"\",\"\",'Załącznik nr 1 do rozliczenia'!B327:C327)","v":""},null,null,null,null,null,0]
[{"$f":"'Załącznik nr 1 do rozliczenia'!A328","v":"63"},{"$f":"IF('Załącznik nr 1 do rozliczenia'!B328:C328=\"\",\"\",'Załącznik nr 1 do rozliczenia'!B328:C328)","v":""},null,null,null,null,null,0]
[{"$f":"'Załącznik nr 1 do rozliczenia'!A329","v":"64"},{"$f":"IF('Załącznik nr 1 do rozliczenia'!B329:C329=\"\",\"\",'Załącznik nr 1 do rozliczenia'!B329:C329)","v":""},null,null,null,null,null,0]
[{"$f":"'Załącznik nr 1 do rozliczenia'!A330","v":"65"},{"$f":"IF('Załącznik nr 1 do rozliczenia'!B330:C330=\"\",\"\",'Załącznik nr 1 do rozliczenia'!B330:C330)","v":""},null,null,null,null,null,0]
[{"$f":"'Załącznik nr 1 do rozliczenia'!A331","v":"66"},{"$f":"IF('Załącznik nr 1 do rozliczenia'!B331:C331=\"\",\"\",'Załącznik nr 1 do rozliczenia'!B331:C331)","v":""},null,null,null,null,null,{"$f":"D326*E326","v":0}]
[{"$f":"'Załącznik nr 1 do rozliczenia'!A332","v":"67"},{"$f":"IF('Załącznik nr 1 do rozliczenia'!B332:C332=\"\",\"\",'Załącznik nr 1 do rozliczenia'!B332:C332)","v":""},null,null,null,null,null,0]
[{"$f":"'Załącznik nr 1 do rozliczenia'!A333","v":"68"},{"$f":"IF('Załącznik nr 1 do rozliczenia'!B333:C333=\"\",\"\",'Załącznik nr 1 do rozliczenia'!B333:C333)","v":""},null,null,null,null,null,0]
[{"$f":"'Załącznik nr 1 do rozliczenia'!A334","v":"69"},{"$f":"IF('Załącznik nr 1 do rozliczenia'!B334:C334=\"\",\"\",'Załącznik nr 1 do rozliczenia'!B334:C334)","v":""},null,null,null,null,null,0]
[{"$f":"'Załącznik nr 1 do rozliczenia'!A335","v":"70"},{"$f":"IF('Załącznik nr 1 do rozliczenia'!B335:C335=\"\",\"\",'Załącznik nr 1 do rozliczenia'!B335:C335)","v":""},null,null,null,null,null,0]
[{"$f":"'Załącznik nr 1 do rozliczenia'!A336","v":"71"},{"$f":"IF('Załącznik nr 1 do rozliczenia'!B336:C336=\"\",\"\",'Załącznik nr 1 do rozliczenia'!B336:C336)","v":""},null,null,null,null,null,0]
[{"$f":"'Załącznik nr 1 do rozliczenia'!A337","v":"72"},{"$f":"IF('Załącznik nr 1 do rozliczenia'!B337:C337=\"\",\"\",'Załącznik nr 1 do rozliczenia'!B337:C337)","v":""},null,null,null,null,null,0]
[{"$f":"'Załącznik nr 1 do rozliczenia'!A338","v":"73"},{"$f":"IF('Załącznik nr 1 do rozliczenia'!B338:C338=\"\",\"\",'Załącznik nr 1 do rozliczenia'!B338:C338)","v":""},null,null,null,null,null,0]
[{"$f":"'Załącznik nr 1 do rozliczenia'!A339","v":"74"},{"$f":"IF('Załącznik nr 1 do rozliczenia'!B339:C339=\"\",\"\",'Załącznik nr 1 do rozliczenia'!B339:C339)","v":""},null,null,null,null,null,0]
[{"$f":"'Załącznik nr 1 do rozliczenia'!A340","v":"75"},{"$f":"IF('Załącznik nr 1 do rozliczenia'!B340:C340=\"\",\"\",'Załącznik nr 1 do rozliczenia'!B340:C340)","v":""},null,null,null,null,null,0]
[{"$f":"'Załącznik nr 1 do rozliczenia'!A341","v":"76"},{"$f":"IF('Załącznik nr 1 do rozliczenia'!B341:C341=\"\",\"\",'Załącznik nr 1 do rozliczenia'!B341:C341)","v":""},null,null,null,null,null,0]
[{"$f":"'Załącznik nr 1 do rozliczenia'!A342","v":"77"},{"$f":"IF('Załącznik nr 1 do rozliczenia'!B342:C342=\"\",\"\",'Załącznik nr 1 do rozliczenia'!B342:C342)","v":""},null,null,null,null,null,0]
[{"$f":"'Załącznik nr 1 do rozliczenia'!A343","v":"78"},{"$f":"IF('Załącznik nr 1 do rozliczenia'!B343:C343=\"\",\"\",'Załącznik nr 1 do rozliczenia'!B343:C343)","v":""},null,null,null,null,null,0]
[{"$f":"'Załącznik nr 1 do rozliczenia'!A344","v":"79"},{"$f":"IF('Załącznik nr 1 do rozliczenia'!B344:C344=\"\",\"\",'Załącznik nr 1 do rozliczenia'!B344:C344)","v":""},null,null,null,null,null,0]
[{"$f":"'Załącznik nr 1 do rozliczenia'!A345","v":"80"},{"$f":"IF('Załącznik nr 1 do rozliczenia'!B345:C345=\"\",\"\",'Załącznik nr 1 do rozliczenia'!B345:C345)","v":""},null,null,null,null,null,0]
[{"$f":"'Załącznik nr 1 do rozliczenia'!A346","v":"81"},{"$f":"IF('Załącznik nr 1 do rozliczenia'!B346:C346=\"\",\"\",'Załącznik nr 1 do rozliczenia'!B346:C346)","v":""},null,null,null,null,null,0]
[{"$f":"'Załącznik nr 1 do rozliczenia'!A347","v":"82"},{"$f":"IF('Załącznik nr 1 do rozliczenia'!B347:C347=\"\",\"\",'Załącznik nr 1 do rozliczenia'!B347:C347)","v":""},null,null,null,null,null,0]
[{"$f":"'Załącznik nr 1 do rozliczenia'!A348","v":"83"},{"$f":"IF('Załącznik nr 1 do rozliczenia'!B348:C348=\"\",\"\",'Załącznik nr 1 do rozliczenia'!B348:C348)","v":""},null,null,null,null,null,0]
[{"$f":"'Załącznik nr 1 do rozliczenia'!A349","v":"84"},{"$f":"IF('Załącznik nr 1 do rozliczenia'!B349:C349=\"\",\"\",'Załącznik nr 1 do rozliczenia'!B349:C349)","v":""},null,null,null,null,null,0]
[{"$f":"'Załącznik nr 1 do rozliczenia'!A350","v":"85"},{"$f":"IF('Załącznik nr 1 do rozliczenia'!B350:C350=\"\",\"\",'Załącznik nr 1 do rozliczenia'!B350:C350)","v":""},null,null,null,null,null,0]
[{"$f":"'Załącznik nr 1 do rozliczenia'!A351","v":"86"},{"$f":"IF('Załącznik nr 1 do rozliczenia'!B351:C351=\"\",\"\",'Załącznik nr 1 do rozliczenia'!B351:C351)","v":""},null,null,null,null,null,0]
[{"$f":"'Załącznik nr 1 do rozliczenia'!A352","v":"87"},{"$f":"IF('Załącznik nr 1 do rozliczenia'!B352:C352=\"\",\"\",'Załącznik nr 1 do rozliczenia'!B352:C352)","v":""},null,null,null,null,null,0]
[{"$f":"'Załącznik nr 1 do rozliczenia'!A353","v":"88"},{"$f":"IF('Załącznik nr 1 do rozliczenia'!B353:C353=\"\",\"\",'Załącznik nr 1 do rozliczenia'!B353:C353)","v":""},null,null,null,null,null,0]
[{"$f":"'Załącznik nr 1 do rozliczenia'!A354","v":"89"},{"$f":"IF('Załącznik nr 1 do rozliczenia'!B354:C354=\"\",\"\",'Załącznik nr 1 do rozliczenia'!B354:C354)","v":""},null,null,null,null,null,0]
[{"$f":"'Załącznik nr 1 do rozliczenia'!A355","v":"90"},{"$f":"IF('Załącznik nr 1 do rozliczenia'!B355:C355=\"\",\"\",'Załącznik nr 1 do rozliczenia'!B355:C355)","v":""},null,null,null,null,null,0]
[{"$f":"'Załącznik nr 1 do rozliczenia'!A356","v":"91"},{"$f":"IF('Załącznik nr 1 do rozliczenia'!B356:C356=\"\",\"\",'Załącznik nr 1 do rozliczenia'!B356:C356)","v":""},null,null,null,null,null,0]
[{"$f":"'Załącznik nr 1 do rozliczenia'!A357","v":"92"},{"$f":"IF('Załącznik nr 1 do rozliczenia'!B357:C357=\"\",\"\",'Załącznik nr 1 do rozliczenia'!B357:C357)","v":""},null,null,null,null,null,0]
[{"$f":"'Załącznik nr 1 do rozliczenia'!A358","v":"93"},{"$f":"IF('Załącznik nr 1 do rozliczenia'!B358:C358=\"\",\"\",'Załącznik nr 1 do rozliczenia'!B358:C358)","v":""},null,null,null,null,null,0]
[{"$f":"'Załącznik nr 1 do rozliczenia'!A359","v":"94"},{"$f":"IF('Załącznik nr 1 do rozliczenia'!B359:C359=\"\",\"\",'Załącznik nr 1 do rozliczenia'!B359:C359)","v":""},null,null,null,null,null,0]
[{"$f":"'Załącznik nr 1 do rozliczenia'!A360","v":"95"},{"$f":"IF('Załącznik nr 1 do rozliczenia'!B360:C360=\"\",\"\",'Załącznik nr 1 do rozliczenia'!B360:C360)","v":""},null,null,null,null,null,0]
[{"$f":"'Załącznik nr 1 do rozliczenia'!A361","v":"96"},{"$f":"IF('Załącznik nr 1 do rozliczenia'!B361:C361=\"\",\"\",'Załącznik nr 1 do rozliczenia'!B361:C361)","v":""},null,null,null,null,null,0]
[{"$f":"'Załącznik nr 1 do rozliczenia'!A362","v":"97"},{"$f":"IF('Załącznik nr 1 do rozliczenia'!B362:C362=\"\",\"\",'Załącznik nr 1 do rozliczenia'!B362:C362)","v":""},null,null,null,null,null,0]
[{"$f":"'Załącznik nr 1 do rozliczenia'!A363","v":"98"},{"$f":"IF('Załącznik nr 1 do rozliczenia'!B363:C363=\"\",\"\",'Załącznik nr 1 do rozliczenia'!B363:C363)","v":""},null,null,null,null,null,0]
[{"$f":"'Załącznik nr 1 do rozliczenia'!A364","v":"99"},{"$f":"IF('Załącznik nr 1 do rozliczenia'!B364:C364=\"\",\"\",'Załącznik nr 1 do rozliczenia'!B364:C364)","v":""},null,null,null,null,null,0]
[{"$f":"'Załącznik nr 1 do rozliczenia'!A365","v":"100"},{"$f":"IF('Załącznik nr 1 do rozliczenia'!B365:C365=\"\",\"\",'Załącznik nr 1 do rozliczenia'!B365:C365)","v":""},null,null,null,null,null,0]
[{"$f":"'Załącznik nr 1 do rozliczenia'!A366","v":"101"},{"$f":"IF('Załącznik nr 1 do rozliczenia'!B366:C366=\"\",\"\",'Załącznik nr 1 do rozliczenia'!B366:C366)","v":""},null,null,null,null,null,0]
[{"$f":"'Załącznik nr 1 do rozliczenia'!A367","v":"102"},{"$f":"IF('Załącznik nr 1 do rozliczenia'!B367:C367=\"\",\"\",'Załącznik nr 1 do rozliczenia'!B367:C367)","v":""},null,null,null,null,null,0]
[{"$f":"'Załącznik nr 1 do rozliczenia'!A368","v":"103"},{"$f":"IF('Załącznik nr 1 do rozliczenia'!B368:C368=\"\",\"\",'Załącznik nr 1 do rozliczenia'!B368:C368)","v":""},null,null,null,null,null,0]
[{"$f":"'Załącznik nr 1 do rozliczenia'!A369","v":"104"},{"$f":"IF('Załącznik nr 1 do rozliczenia'!B369:C369=\"\",\"\",'Załącznik nr 1 do rozliczenia'!B369:C369)","v":""},null,null,null,null,null,0]
[{"$f":"'Załącznik nr 1 do rozliczenia'!A370","v":"105"},{"$f":"IF('Załącznik nr 1 do rozliczenia'!B370:C370=\"\",\"\",'Załącznik nr 1 do rozliczenia'!B370:C370)","v":""},null,null,null,null,null,0]
[{"$f":"'Załącznik nr 1 do rozliczenia'!A371","v":"106"},{"$f":"IF('Załącznik nr 1 do rozliczenia'!B371:C371=\"\",\"\",'Załącznik nr 1 do rozliczenia'!B371:C371)","v":""},null,null,null,null,null,0]
[{"$f":"'Załącznik nr 1 do rozliczenia'!A372","v":"107"},{"$f":"IF('Załącznik nr 1 do rozliczenia'!B372:C372=\"\",\"\",'Załącznik nr 1 do rozliczenia'!B372:C372)","v":""},null,null,null,null,null,0]
[{"$f":"'Załącznik nr 1 do rozliczenia'!A373","v":"108"},{"$f":"IF('Załącznik nr 1 do rozliczenia'!B373:C373=\"\",\"\",'Załącznik nr 1 do rozliczenia'!B373:C373)","v":""},null,null,null,null,null,0]
[{"$f":"'Załącznik nr 1 do rozliczenia'!A374","v":"109"},{"$f":"IF('Załącznik nr 1 do rozliczenia'!B374:C374=\"\",\"\",'Załącznik nr 1 do rozliczenia'!B374:C374)","v":""},null,null,null,null,null,0]
[{"$f":"'Załącznik nr 1 do rozliczenia'!A375","v":"110"},{"$f":"IF('Załącznik nr 1 do rozliczenia'!B375:C375=\"\",\"\",'Załącznik nr 1 do rozliczenia'!B375:C375)","v":""},null,null,null,null,null,0]
["Ogółem:",null,null,{"$f":"SUM(D261:D370)","v":0},{"$f":"SUM(E261:E370)","v":0},null,null,{"$f":"SUM(H261:I370)","v":0}]
[]
["Tabele B.1 - B.3 proszę wypełnić zgodnie z wytycznymi podanymi poniżej:\nKolumna nr 2\nNazwa linii komunikacyjnej zgodna z umową o dopłatę. Kolumna wypełni się automatycznie po uzupełnieniu załącznika nr 1.\nKolumna nr 3\nProszę wskazać długość linii komunikacyjnej.\nKolumna nr 4\nProszę wskazać ilość wykonanych kursów w okresie rozliczeniowym.\nKolumna 5\nProszę wskazać dni w które kursuje linia komunikacyjna (zgodnie z objaśnieniami określonymi w załączniku do rozporządzenia Ministra Transportu, Budownictwa i Gospodarki Morskiej z dnia 10 kwietnia 2012 r. w sprawie rozkładów jazdy (t.j. Dz. U. z 2018 r. poz. 202).\nKolumna nr 6 \nProszę wskazać wykonaną  w okresie rozliczeniowym pracę eksploatacyjną w wozokilometrach."]
[]
[]
[]
[]
[]
[]
[]
[]
[]
[]
[]
[]
["C.1 Oświadczenie"]
["Oświadczam, że dane zawarte w załączniku są kompletne i zgodne ze stanem faktycznym."]
[]
["Łączna wielkość pracy eksploatacyjnej w okresie rozliczeniowym wynosi:",null,null,null,null,{"$f":"H371+H255+H139","v":0},null,"wozokilometrów."]
[]
[]
[]
[null,null,null,"dane osób działających w imieniu organizatora publicznego transportu zbiorowego składających kwalifikowany podpis elektroniczny pod wnioskiem "]

{"sheet":"Dane JST","index":3,"n_rows":165,"n_cols":11,"rows_kept":165,"cut":false,"hidden":true,"merged":[]}
["Kod powiatu","Nr umowy","nip","regon","nazwa","Adres","Kod TERYT","Powiat","Dysponent","Kolumna1","data umowy"]
["06","805.3.1.2024",7971904280,"670223669","Gmina Goszczyn","ul. Bądkowska 1B, 05-610 Goszczyn",1406042,"grójecki",244,"2","2025-01-07"]
["01","805.3.10.2024",7981458304,"670223304","Gmina Białobrzegi","Plac Zygmunta Starego 9, 26-800 Białobrzegi",1401014,"białobrzeski",201,"4","2024-12-31"]
["06","805.3.11.2024",7971945741,"670223729","Gmina Jasieniec","ul. Warecka 42, 05-604 Jasieniec",1406062,"grójecki",246,"2","2024-12-31"]
["25","805.3.12.2024",7962867409,"670223385","Gmina Skaryszew","ul. Juliusza Słowackiego 6, 26-640 Skaryszew",1425104,"radomski",417,"4","2024-12-31"]
["35","805.3.14.2024",7621918666,"550668114","Gmina Długosiodło","ul. Tadeusza Kościuszki 2, 07-210 Długosiodło",1435022,"wyszkowski",494,"2","2024-12-31"]
["06","805.3.15.2024",7972016015,"670223400","Gmina Warka","pl. Plac Stefana Czarnieckiego 1, 05-660 Warka",1406114,"grójecki",250,null,"2024-12-31"]
["19","805.3.16.2024",7743188737,"611015678","Gmina Brudzeń Duży","ul. Toruńska 2, 09-414 Brudzeń Duży",1419032,"płocki",354,"2","2024-12-31"]
["18","805.3.19.2024",1231233414,"015891250","Gmina Tarczyn","ul. Juliana Stępkowskiego 17, 05-555 Tarczyn",1418064,"piaseczyński",350,"4","2024-12-31"]
["06","805.3.2.2024",7972011265,"670223310","Gmina Grójec","ul. Józefa Piłsudskiego 47, 05-600 Grójec",1406054,"grójecki",245,"4","2024-12-31"]
["18","805.3.20.2024",1231050091,"013271170","Gmina Prażmów","ul. Piotra Czołchańskiego 1, 05-505 Prażmów",1418052,"piaseczyński",349,"2","2025-01-07"]
["21","805.3.3.2024",5342488243,"013269232","Gmina Raszyn","ul. Szkolna 2A, 05-090 Raszyn",1421062,"pruszkowski",384,"2","2024-12-31"]
["16","805.3.30.2024",7591624953,"450670108","Gmina Nur","ul. Drohiczyńska 2, 07-322 Nur",1416062,"ostrowski",331,"2","2025-01-07"]
["20","805.3.31.2024",5671786697,"130378284","Gmina Nowe Miasto","ul. Apteczna 8, 09-120 Nowe Miasto",1420084,"płoński",374,"4","2024-12-31"]
["14","805.3.32.2024",5311666399,"013270471","Gmina Leoncin","ul. Partyzantów 3, 05-155 Leoncin",1414032,"nowodworski",310,"2","2024-12-31"]
["11","805.3.33.2024",7571449122,"130378143","Gmina Karniewo","ul. Pułtuska 3, 06-425 Karniewo",1411032,"makowski",277,"2","2024-12-31"]
["12","805.3.34.2024",8222147162,"711582782","Gmina Siennica","ul. Mińska 33, 05-332 Siennica",1412132,"miński",296,"2","2024-12-31"]
["25","805.3.42.2024",7962908568,"670223787","Gmina Jedlnia-Letnisko","ul. Radomska 43, 26-630 Jedlnia-Letnisko",1425064,"radomski",413,"4","2024-12-31"]
["25","805.3.43.2024",7962942660,"670223758","Gmina Jastrzębia","Jastrzębia 110, 26-631 Jastrzębia",1425042,"radomski",411,"2","2024-12-31"]
["32","805.3.44.2024",1181766202,"013271269","Gmina Ożarów Mazowiecki","ul. Kolejowa 2, 05-850 Ożarów Mazowiecki",1432064,"warszawski zachodni",470,"4","2024-12-31"]
["22","805.3.46.2024",7611504561,"550667882","Gmina Chorzele","ul. Stanisława Komosińskiego 1, 06-330 Chorzele",1422024,"przasnyski",386,null,"2024-12-31"]
["06","805.3.47.2024",7971881633,"670223362","Gmina Nowe Miasto Nad Pilicą","pl. Ojca Honorata Koźmińskiego 1/2, 26-420 Nowe Miasto nad Pilicą",1406084,"grójecki",248,"4","2024-12-31"]
["38","805.3.49.2024",8361514865,"750148390","Gmina Puszcza Mariańska","ul. Stanisława Papczyńskiego 1, 96-330 Puszcza Mariańska",1438032,"żyrardowski",512,null,"2024-12-31"]
["09","805.3.5.2024",5090066518,"670223563","Gmina Chotcza","Chotcza-Józefów 60, 27-312 Chotcza-Józefów",1409012,"lipski",263,"2","2024-12-31"]
["06","805.3.51.2024",7972056581,"670223876","Gmina Pniewy","Pniewy 2, 05-652 Pniewy",1406092,"grójecki",249,"2","2024-12-31"]
["25","805.3.52.2024",9482380424,"670223936","Gmina Przytyk","ul. Zachęta 57, 26-650 Przytyk",1425092,"radomski",416,"2","2024-12-31"]
["36","805.3.53.2024",8111714505,"670224031","Gmina Tczów","Tczów 124, 26-706 Tczów",1436042,"zwoleński",502,"2","2025-01-07"]
["19","805.3.55.2024",7742935675,"611015738","Gmina Łąck","ul. Gostynińska 2, 09-520 Łąck",1419072,"płocki",358,"2","2024-12-31"]
["09","805.3.56.2024",5090066613,"670224002","Gmina Solec Nad Wisłą","ul. Rynek 1, 27-320 Solec nad Wisłą",1409064,"lipski",268,"4","2024-12-31"]
["04","805.3.57.2024",9710662755,"611016070","Gmina Szczawin Kościelny","ul. Jana Pawła II 10, 09-550 Szczawin Kościelny",1404052,"gostyniński",234,"2","2024-12-31"]
["19","805.3.58.2024",7743211258,"611015425","Gmina Gąbin","ul. Stary Rynek 16, 09-530 Gąbin",1419064,"płocki",357,"4","2025-01-07"]
["24","805.3.59.2024",5681540236,"130377907","Gmina Pułtusk","ul. Rynek 41, 06-100 Pułtusk",1424044,"pułtuski",403,null,"2024-12-31"]
["25","805.3.6.2024",7962929257,"670223698","Gmina Gózd","ul. Radomska 7, 26-634 Gózd",1425022,"radomski",409,"2","2024-12-31"]
["15","805.3.60.2024",7582349619,"550668210","Gmina Czerwin","pl. plac Tysiąclecia 1, 07-407 Czerwin",1415032,"ostrołęcki",317,null,"2024-12-31"]
["19","805.3.61.2024",7743211258,"611015425","Gmina Gąbin","ul. Stary Rynek 16, 09-530 Gąbin",1419064,"płocki",357,"4","2025-01-07"]
["17","805.3.62.2024",5320000234,"013268994","Gmina Wiązowna","ul. Lubelska 59, 05-462 Wiązowna",1417082,"otwocki",344,"2","2024-12-31"]
["01","805.3.64.2024",7981457693,"670223422","Gmina Wyśmierzyce","ul. Adama Mickiewicza 75, 26-811 Wyśmierzyce",1401064,"białobrzeski",206,"4","2024-12-31"]
["12","805.3.65.2024",8222158817,"711582612","Gmina Kałuszyn","ul. Pocztowa 1, 05-310 Kałuszyn",1412094,"miński",292,"4","2024-12-31"]
["18","805.3.66.2024",1231216723,"013271134","Gmina Góra Kalwaria","ul. 3 Maja 10, 05-530 Góra Kalwaria",1418014,"piaseczyński",345,null,"2024-12-31"]
["19","805.3.67.2024",7743210626,"611015968","Gmina Słubice","ul. Płocka 32, 09-533 Słubice",1419112,"płocki",362,"2","2024-12-31"]
["30","805.3.68.2024",7991958971,"670223847","Gmina Mirów","Mirów Stary 27, 26-503 Mirów Stary",1430032,"szydłowiecki",461,"2","2024-12-31"]
["36","805.3.69.2024",8111757928,"670223920","Gmina Przyłęk","Przyłęk, 26-704 Przyłęk",1436032,"zwoleński",501,null,"2025-01-07"]
["04","805.3.7.2024",9710659463,"611015916","Gmina Sanniki","ul. Warszawska 169, 09-540 Sanniki",1404044,"gostyniński",233,"4","2024-12-31"]
["15","805.3.70.2024",7582165888,"550667942","Gmina Troszyn","ul. Juliusza Słowackiego 13, 07-405 Troszyn",1415112,"ostrołęcki",325,"2","2024-12-31"]
["29","805.3.71.2024",8231597203,"711582842","Gmina Ceranów","Ceranów 140, 08-322 Ceranów",1429032,"sokołowski",452,"2","2025-01-07"]
["34","805.3.72.2024",1251333745,"013269700","Gmina Radzymin","pl. Tadeusza Kościuszki 2, 05-250 Radzymin",1434094,"wołomiński",489,null,"2024-12-31"]
["12","805.3.74.2024",8222148747,"711582730","Gmina Latowicz","ul. Rynek 6, 05-334 Latowicz",1412104,"miński",293,"4","2024-12-31"]
["09","805.3.76.2024",5090066174,"670223340","Gmina Lipsko","ul. 1 Maja 2, 27-300 Lipsko",1409034,"lipski",265,"4","2024-12-31"]
["17","805.3.79.2024",8221020459,"711582687","Gmina Kołbiel","ul. Szkolna 1, 05-340 Kołbiel",1417052,"otwocki",341,null,"2024-12-31"]
["21","805.3.8.2024",5342254841,"013269195","Gmina Nadarzyn","ul. Mszczonowska 24, 05-830 Nadarzyn",1421052,"pruszkowski",383,"2","2024-12-31"]
["14","805.3.80.2024",5311688219,"013270531","Gmina Pomiechówek","ul. Szkolna 1A, 05-180 Pomiechówek",1414052,"nowodworski",312,null,"2024-12-31"]
["07","805.3.81.2024",8121828216,"670223333","Gmina Kozienice","ul. Parkowa 5, 26-900 Kozienice",1407054,"kozienicki",255,"4","2024-12-31"]
["12","805.3.82.2024",8222158823,"711582635","Gmina Cegłów","ul. Tadeusza Kościuszki 4, 05-319 Cegłów",1412044,"miński",287,"4","2024-12-31"]
["14","805.3.83.2024",5311607468,"130377899","Gmina Nasielsk","ul. Elektronowa 3, 05-190 Nasielsk",1414044,"nowodworski",311,"4","2024-12-31"]
["25","805.3.84.2024",9482391296,"670224060","Gmina Wolanów","ul. Radomska 20, 26-625 Wolanów",1425122,"radomski",419,"2","2024-12-31"]
["06","805.3.85.2024",7971903240,"670223528","Gmina Błędów","ul. Sadurkowska 13, 05-620 Błędów",1406022,"grójecki",242,"2","2024-12-31"]
["23","805.3.86.2024",6010085828,"670223379","Gmina Przysucha","pl. Plac Kolberga 11, 26-400 Przysucha",1423064,"przysuski",397,"4","2025-01-07"]
["19","805.3.88.2024",7742945231,"611016028","Gmina Stara Biała","ul. Jana Kazimierza 1, 09-411 Biała",1419132,"płocki",364,"2","2025-01-07"]
["27","805.3.89.2024",7761615061,"611015951","Gmina Gozdowo","ul. Krystyna Gozdawy 19, 09-213 Gozdowo",1427022,"sierpecki",436,"2","2024-12-31"]
["16","805.3.9.2024",7591630959,"550667899","Gmina Wąsewo","ul. Zastawska 13, 07-311 Wąsewo",1416102,"ostrowski",335,"2","2024-12-31"]
["25","805.3.90.2024",7962963277,"670223327","Gmina Iłża","ul. Rynek 11, 27-100 Iłża",1425034,"radomski",410,"4","2024-12-31"]
["19","805.3.91.2024",7743128020,"611016057","Gmina Radzanowo","ul. Płocka 32, 09-451 Radzanowo",1419102,"płocki",361,"2","2025-01-07"]
["14","805.3.92.2024",5311664696,"013270399","Gmina Zakroczym","ul. Warszawska 7, 05-170 Zakroczym",1414064,"nowodworski",313,"4","2024-12-31"]
["08","805.3.93.2024",5361739574,"015570119","Gmina Serock","ul. Rynek 21, 05-140 Serock",1408044,"legionowski",261,"4","2024-12-31"]
["14","805.3.95.2024",5311664650,"013270413","Gmina Czosnów","ul. Gminna 6, 05-152 Czosnów",1414022,"nowodworski",309,"2","2024-12-31"]
["12","805.3.96.2024",8222147156,"711582434","Gmina Stanisławów","ul. Rynek 32, 05-304 Stanisławów",1412142,"miński",297,"2","2024-12-31"]
["01","805.3.23.2024",7981464078,"670223132","Powiat Białobrzeski","Plac Zygmunta Starego 9, 26-800 Białobrzegi",1401000,"białobrzeski",101,"0","2025-01-28"]
["01","805.3.24.2024",7981464078,"670223132","Powiat Białobrzeski","Plac Zygmunta Starego 9, 26-800 Białobrzegi",1401000,"białobrzeski",101,"0","2025-01-28"]
["02","805.3.48.2024",5661889579,"130377706","Powiat Ciechanowski","ul. 17 Stycznia 7, 06-400 Ciechanów",1402000,"ciechanowski",102,"0","2025-01-28"]
["04","805.3.26.2024",9710658050,"611016100","Powiat Gostyniński","ul. Romana Dmowskiego 13, 09-500 Gostynin",1404000,"gostyniński",104,"0","2025-01-28"]
["06","805.3.35.2024",7972052212,"670223149","Powiat Grójecki","ul. Józefa Piłsudskiego 59, 05-600 Grójec",1406000,"grójecki",106,"0","2025-01-28"]
["06","805.3.36.2024",7972052212,"670223149","Powiat Grójecki","ul. Józefa Piłsudskiego 59, 05-600 Grójec",1406000,"grójecki",106,"0","2025-01-28"]
["06","805.3.37.2024",7972052212,"670223149","Powiat Grójecki","ul. Józefa Piłsudskiego 59, 05-600 Grójec",1406000,"grójecki",106,"0","2025-01-28"]
["06","805.3.38.2024",7972052212,"670223149","Powiat Grójecki","ul. Józefa Piłsudskiego 59, 05-600 Grójec",1406000,"grójecki",106,"0","2025-01-28"]
["06","805.3.39.2024",7972052212,"670223149","Powiat Grójecki","ul. Józefa Piłsudskiego 59, 05-600 Grójec",1406000,"grójecki",106,"0","2025-01-28"]
["08","805.3.40.2024",5361597016,"013269858","Powiat Legionowski","ul. gen. Władysława Sikorskiego 11, 05-119 Legionowo",1408000,"legionowski",108,"0","2025-01-28"]
["09","805.3.27.2024",5090054952,"670223161","Powiat Lipski","ul. Rynek 1, 27-300 Lipsko",1409000,"lipski",109,"0","2025-01-28"]
["09","805.3.28.2024",5090054952,"670223161","Powiat Lipski","ul. Rynek 1, 27-300 Lipsko",1409000,"lipski",109,"0","2025-01-28"]
["61","805.3.25.2024",7582359776,"550668835","Powiat Ostrołęcki","pl. Plac Generała Józefa Bema 5, 07-410 Ostrołęka",1415000,"Ostrołęka",115,null,"2025-01-28"]
["61","805.3.97.2024",7582359776,"550668835","Powiat Ostrołęcki","pl. Plac Generała Józefa Bema 5, 07-410 Ostrołęka",1415000,"Ostrołęka",115,null,"2025-01-28"]
["16","805.3.75.2024",7591613174,"550668806","Powiat Ostrowski","ul. 3-go Maja 68, 07-300 Ostrów Mazowiecka",1416000,"ostrowski",117,"0","2025-01-28"]
["18","805.3.4.2024",1231268996,"013270979","Powiat Piaseczyński","ul. Chyliczkowska 14, 05-500 Piaseczno",1418000,"piaseczyński",119,"0","2025-01-28"]
["62","805.3.45.2024",7743227414,"611016034","Powiat Płocki","ul. Bielska 59, 09-400 Płock",1419000,"Płock",120,"0","2025-01-28"]
["22","805.3.13.2024",7611527332,"550668812","Powiat Przasnyski","ul. św. Stanisława Kostki 5, 06-300 Przasnysz",1422000,"przasnyski",124,null,"2025-01-28"]
["23","805.3.50.2024",6010078283,"670223190","Powiat Przysuski","ul. Aleja Jana Pawła II 10, 26-400 Przysucha",1423000,"przysuski",125,"0","2025-01-28"]
["27","805.3.87.2024",7761676252,"611016169","Powiat Sierpecki","ul. Świętokrzyska 2A, 09-200 Sierpc",1427000,"sierpecki",131,null,"2025-01-28"]
["29","805.3.73.2024",8231627536,"711581771","Powiat Sokołowski","ul. Wolności 23, 08-300 Sokołów Podlaski",1429000,"sokołowski",133,null,"2025-01-28"]
["30","805.3.22.2024",7991963340,"670223215","Powiat Szydłowiecki","pl. Marii Konopnickiej 7, 26-500 Szydłowiec",1430000,"szydłowiecki",134,null,"2025-01-28"]
["33","805.3.63.2024",8241765263,"711581831","Powiat Węgrowski","ul. Przemysłowa 5, 07-100 Węgrów",1433000,"węgrowski",138,null,"2025-01-28"]
["34","805.3.18.2024",1250940609,"013269344","Powiat Wołomiński","ul. Prądzyńskiego 3, 05-200 Wołomin",1434000,"wołomiński",138,null,"2025-01-28"]
["36","805.3.41.2024",8111766100,"670223221","Powiat Zwoleński","ul. Władysława Jagiełły 4, 26-700 Zwoleń",1436000,"zwoleński",140,null,"2025-01-28"]
["12","805.3.94.2024",8222393748,522184154,"Powiatowo-gminny związek transportu publicznego Powiatu Mińskiego","ul. Budowlana 4; 05-300 Mińsk Mazowiecki",1412,"miński",94476,null,"2025-01-28"]
["38","805.4.1.2024",8381426466,"750148549","Gmina Wiskitki","ul. Kościuszki 1, 96-315 Wiskitki",1438054,"żyrardowski",514,null,45678]
["19","805.4.10.2024",7743138099,"611015709","Gmina Bulkowo","ul. Szkolna 1, 09-454 Bulkowo",1419042,"płocki",355,"2",45678]
["27","805.4.11.2024",7761615078,"611015773","Gmina Mochowo","ul. Sierpecka 2, 09-214 Mochowo",1427032,"sierpecki",437,"2",45678]
["28","805.4.12.2024",8371692019,"750148354","Gmina Młodzieszyn","ul. Wyszogrodzka 25, 96-512 Młodzieszyn",1428042,"sochaczewski",445,"2",45678]
["28","805.4.13.2024",8371692261,"750148466","Gmina Rybno","ul. Długa 20, 96-514 Rybno",1428062,"sochaczewski",447,"2",45678]
["16","805.4.14.2024",7591743066,"450670114","Gmina Szulborze Wielkie","ul. Romantyczna 2, 07-324 Szulborze Wielkie",1416092,"ostrowski",334,null,45678]
["03","805.4.15.2024",8262037296,"711582322","Gmina Miastków Kościelny","ul. Rynek 6, 08-420 Miastków Kościelny",1403082,"garwoliński",223,"2",45678]
["26","805.4.16.2024",8212529494,"711582492","Gmina Mokobody","ul. Plac Chreptowicza 25, 08-124 Mokobody",1426042,"siedlecki",425,"2",45678]
["28","805.4.17.2024",8371692427,"611015661","Gmina Iłów","ul. Płocka 2, 96-520 Iłów",1428032,"sochaczewski",444,"2",45678]
["19","805.4.18.2024",7743211324,"611015796","Gmina Nowy Duninów","ul. Osiedlowa 1, 09-505 Nowy Duninów",1419092,"płocki",360,"2",45678]
["26","805.4.19.2024",8212389633,"711582569","Gmina Przesmyki","ul. 11 Listopada 13, 08-109 Przesmyki",1426072,"siedlecki",428,"2",45678]
["10","805.4.2.2024",4960248273,"030237629","Gmina Olszanka","Olszanka 37, 08-207 Olszanka",1410032,"łosicki",271,"2",45678]
["19","805.4.20.2024",7743188737,"611015678","Gmina Brudzeń Duży","ul. Toruńska 2, 09-414 Brudzeń Duży",1419032,"płocki",354,"2",45678]
["19","805.4.21.2024",7743211407,"611015508","Gmina Wyszogród","ul. Rębowska 37, 09-450 Wyszogród",1419154,"płocki",366,"4",45678]
["06","805.4.22.2024",7972052212,"670223149","Powiat Grójecki","ul. Józefa Piłsudskiego 59, 05-600 Grójec",1406000,"grójecki",106,"0",45685]
["10","805.4.23.2024",4960249189,"030237405","Gmina Łosice","ul. Marszałka Józefa Piłsudskiego 6, 08-200 Łosice",1410024,"łosicki",270,"4",45678]
["26","805.4.24.2024",8212392351,"711582486","Gmina Korczew","ul. ks. Stanisława Brzóski 20A, 08-108 Korczew",1426022,"siedlecki",423,"2",45678]
["10","805.4.25.2024",4960213725,"030237724","Gmina Stara Kornica","Stara Kornica 191, 08-205 Stara Kornica",1410062,"łosicki",274,"2",45678]
["29","805.4.26.2024",8231559680,"711582055","Gmina Repki","ul. Parkowa 7, 08-307 Repki",1429062,"sokołowski",455,null,45678]
["17","805.4.27.2024",5321057650,"013268965","Gmina Celestynów","ul. Regucka 3, 05-430 Celestynów",1417032,"otwocki",339,"2",45678]
["25","805.4.28.2024",7962959318,"670224077","Gmina Zakrzew","Zakrzew 51, 26-652 Zakrzew",1425132,"radomski",420,"2",45678]
["17","805.4.29.2024",8261170716,"711582285","Gmina Osieck","ul. Rynek 1, 08-445 Osieck",1417062,"otwocki",342,"2",45678]
["34","805.4.3.2024",1251627895,"711582693","Gmina Poświętne","ul. Krótka 1, 05-326 Poświętne",1434082,"wołomiński",488,"2",45678]
["28","805.4.30.2024",8371692723,"015891220","Gmina Brochów","Brochów 125, 05-088 Brochów",1428022,"sochaczewski",443,"2",45678]
["19","805.4.32.2024",7743211258,"611015425","Gmina Gąbin","ul. Stary Rynek 16, 09-530 Gąbin",1419064,"płocki",357,"4",45678]
["25","805.4.33.2024",9482382481,"670224054","Gmina Wierzbica","ul. Kościuszki 73, 26-680 Wierzbica",1425112,"radomski",418,"2",45678]
["26","805.4.34.2024",8212392687,"711582670","Gmina Zbuczyn","ul. Jana Pawła II 1, 08-106 Zbuczyn",1426132,"siedlecki",434,"2",45678]
["28","805.4.35.2024",8371695437,"750148532","Gmina Teresin","ul. Zielona 20, 96-515 Teresin",1428082,"sochaczewski",449,"2",45678]
["04","805.4.36.2024",9710662755,"611016070","Gmina Szczawin Kościelny","ul. Jana Pawła II 10, 09-550 Szczawin Kościelny",1404052,"gostyniński",234,"2",45678]
["24","805.4.37.2024",5681618062,"130377729","Powiat Pułtuski","ul. Marii Skłodowskiej-Curie 11, 06-100 Pułtusk",1424000,"pułtuski",126,"0",45685]
["04","805.4.38.2024",9710664197,"611015810","Gmina Pacyna","ul. Wyzwolenia 7, 09-541 Pacyna",1404032,"gostyniński",232,"2",45678]
["10","805.4.39.2024",4960249456,"030237351","Powiat Łosicki","ul. Narutowicza 6, 08-200 Łosice",1410000,"łosicki",110,null,45685]
["10","805.4.4.2024",4960206961,"030237687","Gmina Sarnaki","ul. Berka Joselewicza 3, 08-220 Sarnaki",1410052,"łosicki",273,"2",45678]
["26","805.4.40.2024",8212394019,"711582463","Gmina Kotuń","ul. Siedlecka 56C, 08-130 Kotuń",1426032,"siedlecki",424,null,45678]
["03","805.4.41.2024",8262221226,526980652,"Związek Powiatowo - Gminny  \"Garwolińskie Przewozy Gminno - Powiatowe\"","Ul. Mazowiecka 26, 08-400 Garwolin",1403,"garwoliński",94475,null,45678]
["17","805.4.42.2024",8261144044,"711582300","Gmina Sobienie-Jeziory","ul. Garwolińska 16, 08-443 Sobienie-Jeziory",1417072,"otwocki",343,"2",45678]
["17","805.4.43.2024",5322102832,"524171813","Związek Powiatowo-Gminny \"Otwockie Przewozy Gminno-Powiatowe\"","ul. Komunardów 10, 05-402 Otwock",1417,"otwocki",93665,null,45685]
[38,"805.4.45.2024",8381888184,540340545,"Związek Powiatowo Gminny \"Żyrardowskie Przewozy Autobusowe\"","ul. Limanowskiego 45, 96-300 Żyrardów",1438,"żyrardowski",95216,null,45685]
["03","805.4.46.2024",8262037244,"711582345","Gmina Pilawa","al. Wyzwolenia 158, 08-440 Pilawa",1403104,"garwoliński",225,"4",45678]
["04","805.4.47.2024",9710659440,"611015922","Gmina Gostynin","ul. Rynek 26, 09-500 Gostynin",1404011,"gostyniński",231,"1",45678]
["04","805.4.48.2024",9710659440,"611015922","Gmina Gostynin","ul. Rynek 26, 09-500 Gostynin",1404011,"gostyniński",231,"1",45678]
["10","805.4.49.2024",4960249522,"030237641","Gmina Platerów","ul. 3 Maja 5, 08-210 Platerów",1410042,"łosicki",272,"2",45678]
["11","805.4.50.2024",7571452124,"550668841","Powiat Makowski","ul. Rynek 1, 06-200 Maków Mazowiecki",1411000,"makowski",111,"0",45685]
["11","805.4.51.2024",7571452124,"550668841","Powiat Makowski","ul. Rynek 1, 06-200 Maków Mazowiecki",1411000,"makowski",111,"0",45685]
["17","805.4.52.2024",8221020459,"711582687","Gmina Kołbiel","ul. Szkolna 1, 05-340 Kołbiel",1417052,"otwocki",341,null,45678]
["01","805.4.53.2024",7981464078,"670223132","Powiat Białobrzeski","Plac Zygmunta Starego 9, 26-800 Białobrzegi",1401000,"białobrzeski",101,"0",45685]
["19","805.4.54.2024",7743186342,"611016040","Gmina Staroźreby","ul. Płocka 18, 09-440 Staroźreby",1419142,"płocki",365,"2",45678]
["38","805.4.55.2024",8381426420,"750148609","Gmina Mszczonów","pl. Józefa Piłsudskiego 1, 96-320 Mszczonów",1438024,"żyrardowski",511,"4",45678]
["29","805.4.56.2024",8231561524,"711582820","Gmina Bielany","ul. Słoneczna 2, 08-311 Bielany-Żyłaki",1429022,"sokołowski",451,"2",45678]
["38","805.4.57.2024",8381426414,"750148414","Gmina Radziejowice","ul. Kubickiego 10, 96-325 Radziejowice",1438042,"żyrardowski",513,"2",45678]
["03","805.4.58.2024",8262037238,"711582204","Gmina Żelechów","ul. Rynek 1, 08-430 Żelechów",1403144,"garwoliński",229,"4",45678]
["10","805.4.59.2024",4960241880,"030237523","Gmina Huszlew","Huszlew 77, 08-206 Huszlew",1410012,"łosicki",269,"2",45678]
["15","805.4.6.2024",7582157593,"550668226","Gmina Czarnia","Czarnia 41, 07-431 Czarnia",1415022,"ostrołęcki",316,"2",45678]
["25","805.4.60.2024",9482371307,"670223818","Gmina Kowala","ul. Marii Walewskiej 7, 26-624 Kowala-Stępocina",1425072,"radomski",414,"2",45678]
["35","805.4.61.2024",7621886920,"550668829","Powiat Wyszkowski","al. Aleja Róż 2, 07-200 Wyszków",1435000,"wyszkowski",139,null,45685]
["19","805.4.62.2024",7743211034,"611015626","Gmina Bodzanów","ul. Bankowa 7, 09-470 Bodzanów",1419025,"płocki",353,"5",45678]
["05","805.4.63.2024",5291836443,"389450569","Związek Powiatowo-Gminny \"Grodziskie Przewozy Autobusowe\"","ul. Kościuszki 32a, 05-825 Grodzisk Mazowiecki",1405,"grodziski",25938,null,45685]
["05","805.4.64.2024",5291836443,"389450569","Związek Powiatowo-Gminny \"Grodziskie Przewozy Autobusowe\"","ul. Kościuszki 32a, 05-825 Grodzisk Mazowiecki",1405,"grodziski",25938,null,45685]
["05","805.4.65.2024",5291836443,"389450569","Związek Powiatowo-Gminny \"Grodziskie Przewozy Autobusowe\"","ul. Kościuszki 32a, 05-825 Grodzisk Mazowiecki",1405,"grodziski",25938,null,45685]
["26","805.4.66.2024",8212433653,"711582523","Gmina Paprotnia","ul. 3 Maja 2, 08-107 Paprotnia",1426062,"siedlecki",427,"2",45678]
["26","805.4.7.2024",8212364231,"711582457","Gmina Mordy","ul. Kilińskiego 9, 08-140 Mordy",1426054,"siedlecki",426,"4",45678]
["19","805.4.8.2024",7743213464,"611015997","Gmina Słupno","ul. Miszewska 8A, 09-472 Słupno",1419122,"płocki",363,"2",45678]
["26","805.4.9.2024",8212551571,"711582121","Gmina Domanice","Domanice 52, 08-113 Domanice",1426012,"siedlecki",422,"2",45678]
["17","805.4.44.2024",5322102832,"524171813","Związek Powiatowo-Gminny \"Otwockie Przewozy Gminno-Powiatowe\"","ul. Komunardów 10, 05-402 Otwock",1417,"otwocki",93665,null,45685]
[]
[]
[]
[]
[]
[]
[]
["TAK"]
["NIE"]

{"sheet":"Dane zbiorcze","index":4,"n_rows":2,"n_cols":37,"rows_kept":2,"cut":false,"hidden":true,"merged":[]}
["Nazwa organizatora publicznego transportu zbiorowego","NIP","REGON","Adres","Powiat","Województwo","Imię","Nazwisko","Telefon ","Adres e-mail","Okres",{"$f":"'Rozliczenie kwartalne'!B25","v":"Rodzaj wniosku (w przypadku korekty w polu \"uwagi\" opisać zakres korygowanych wartości)"},"Numer umowy o dopłatę ","Data zawarcia umowy","Liczba przewiezionych osób 1 mies","Wielkość pracy eksploatacyjnej 1 mies","Deficyt 1 mies","Kwota śr własnych 1 mies","Pobrana dopłata 1 mies","Należna kwota dopłaty 1 mies","Kwota niewykorzystanych środków 1 mies","Liczba przewiezionych osób 2 mies","Wielkość pracy eksploatacyjnej 2 mies","Deficyt 2 mies","Kwota śr własnych 2 mies","Pobrana dopłata 2 mies","Należna kwota dopłaty 2 mies","Kwota niewykorzystanych środków 2 mies","Liczba przewiezionych osób 3 mies","Wielkość pracy eksploatacyjnej 3 mies","Deficyt 3 mies","Kwota śr własnych 3 mies","Pobrana dopłata 3 mies","Należna kwota dopłaty 3 mies","Kwota niewykorzystanych środków 3 mies","Data","wersja"]
[{"$f":"'Rozliczenie kwartalne'!C6","v":""},{"$f":"'Rozliczenie kwartalne'!C7","v":""},{"$f":"'Rozliczenie kwartalne'!C8","v":""},{"$f":"'Rozliczenie kwartalne'!C9","v":""},{"$f":"'Rozliczenie kwartalne'!C10","v":""},{"$f":"'Rozliczenie kwartalne'!C11","v":"mazowieckie"},{"$f":"'Rozliczenie kwartalne'!C14","v":0},{"$f":"'Rozliczenie kwartalne'!C15","v":0},{"$f":"'Rozliczenie kwartalne'!C16","v":0},{"$f":"'Rozliczenie kwartalne'!C17","v":0},{"$f":"'Rozliczenie kwartalne'!F21","v":"I KWARTAŁ"},{"$f":"'Rozliczenie kwartalne'!H25","v":0},{"$f":"'Rozliczenie kwartalne'!H26","v":0},{"$f":"'Rozliczenie kwartalne'!H27","v":""},{"$f":"'Rozliczenie kwartalne'!C146","v":0},{"$f":"'Rozliczenie kwartalne'!D146","v":0},{"$f":"'Rozliczenie kwartalne'!F146","v":0},{"$f":"'Rozliczenie kwartalne'!I146","v":0},{"$f":"'Rozliczenie kwartalne'!J146","v":0},{"$f":"'Rozliczenie kwartalne'!K146","v":0},{"$f":"'Dane zbiorcze'!L146","v":0},{"$f":"'Rozliczenie kwartalne'!C262","v":0},{"$f":"'Rozliczenie kwartalne'!D262","v":0},{"$f":"'Rozliczenie kwartalne'!F262","v":0},{"$f":"'Rozliczenie kwartalne'!I262","v":0},{"$f":"'Rozliczenie kwartalne'!J262","v":0},{"$f":"'Rozliczenie kwartalne'!K262","v":0},{"$f":"'Rozliczenie kwartalne'!L262","v":0},{"$f":"'Rozliczenie kwartalne'!C378","v":0},{"$f":"'Rozliczenie kwartalne'!D378","v":0},{"$f":"'Rozliczenie kwartalne'!F378","v":0},{"$f":"'Rozliczenie kwartalne'!I378","v":0},{"$f":"'Rozliczenie kwartalne'!J378","v":0},{"$f":"'Rozliczenie kwartalne'!K378","v":0},{"$f":"'Rozliczenie kwartalne'!L378","v":0},{"$f":"'Rozliczenie kwartalne'!L1","v":""},{"$f":"'Rozliczenie kwartalne'!L381","v":"ver. 1.5"}]

{"sheet":"Weryfikacja 1","index":5,"n_rows":115,"n_cols":31,"rows_kept":115,"cut":false,"hidden":true,"merged":[[0,1,0,11]]}
[null,"Dane z wniosku",null,null,null,null,null,null,null,null,null,null,"ok","Wer.",null,null,null,null,null,null,null,null,null,null,null,null,null,null,null,null,"Zgodność danych z załącznikiem nr 1"]
["l.p","NAZWA LINII","WOZOKILOMETRY","DEFICYT","CENA USŁUGI","WKŁAD WŁASNY/KM [ZŁ]","WKŁAD WŁASNY [%]","WKŁAD WŁASNY [ZŁ]","POBRANA KWOTA DOPŁATY","NALEŻNA KWOTA DOPŁATY","NIEWYKORZYSTANA KWOTA DOPŁATY","STAWKA MAX Z UMOWY","X",{"$f":"A2","v":"l.p"},"Cena usługi","Wkład własny/km [zł]","Wkład własny [%]","Wkład własny [zł]","Def z ceny usł","Kwota dopłaty","Max kwota dopł na podst wk. wł.","Max kwota dopł na podst wk wł/wzkm ","Kwota dopłaty/wozokm","10% z deficytu ","10 % z ceny usługi","warunek 10%","max 1 (3) zł/wzkm","Różnica w finansowaniu","Różnica def z zaokrągleń",null,{"$f":"IF(Miesiące!P11='Rozliczenie kwartalne'!T81,'Weryfikacja 1'!$M$1,'Weryfikacja 1'!$M$2)","v":"ok"}]
[{"$f":"'Rozliczenie kwartalne'!A36","v":"1"},{"$f":"'Rozliczenie kwartalne'!B36","v":""},{"$f":"'Załącznik nr 2 do rozliczenia'!H29","v":0},{"$f":"IF('Załącznik nr 1 do rozliczenia'!H32<0,ABS('Załącznik nr 1 do rozliczenia'!H32),0)","v":0},{"$f":"'Rozliczenie kwartalne'!E36","v":0},{"$f":"'Rozliczenie kwartalne'!G36","v":0},{"$f":"'Rozliczenie kwartalne'!H36","v":0},{"$f":"'Rozliczenie kwartalne'!I36","v":0},{"$f":"'Rozliczenie kwartalne'!J36","v":0},{"$f":"'Rozliczenie kwartalne'!K36","v":0},{"$f":"'Rozliczenie kwartalne'!L36","v":0},3,null,"1",{"$f":"IFERROR(D3/C3,0)","v":0},{"$f":"F3","v":0},{"$f":"IFERROR(P3/O3,0)","v":0},{"$f":"P3*C3","v":0},{"$f":"E3*C3","v":0},{"$f":"IFERROR(V3*C3,0)","v":0},{"$f":"V3*C3","v":0},{"$f":"IFERROR(IF((D3-H3)/C3>=$L$3,$L$3,(D3-H3)/C3),0)","v":0},{"$f":"IFERROR(ROUND(J3/C3,2),0)","v":0},{"$f":"D3*0.1","v":0},{"$f":"O3*0.1","v":0},{"$f":"IF(P3>=Y3,$M$1,$M$2)","v":"ok"},{"$f":"IF(W3<=$L$3,$M$1,$M$2)","v":"ok"},{"$f":"(T3+R3)-D3","v":0},{"$f":"D3-S3","v":0}]
[{"$f":"'Rozliczenie kwartalne'!A37","v":"2"},{"$f":"'Rozliczenie kwartalne'!B37","v":""},{"$f":"'Załącznik nr 2 do rozliczenia'!H30","v":0},{"$f":"IF('Załącznik nr 1 do rozliczenia'!H33<0,ABS('Załącznik nr 1 do rozliczenia'!H33),0)","v":0},{"$f":"'Rozliczenie kwartalne'!E37","v":0},{"$f":"'Rozliczenie kwartalne'!G37","v":0},{"$f":"'Rozliczenie kwartalne'!H37","v":0},{"$f":"'Rozliczenie kwartalne'!I37","v":0},{"$f":"'Rozliczenie kwartalne'!J37","v":0},{"$f":"'Rozliczenie kwartalne'!K37","v":0},{"$f":"'Rozliczenie kwartalne'!L37","v":0},null,null,"2",0,{"$f":"F4","v":0},{"$f":"IFERROR(P4/O4,0)","v":0},0,0,0,0,{"$f":"IFERROR(IF((D4-H4)/C4>=$L$3,$L$3,(D4-H4)/C4),0)","v":0},{"$f":"IFERROR(ROUND(J4/C4,2),0)","v":0},0,{"$f":"O4*0.1","v":0},{"$f":"IF(P4>=Y4,$M$1,$M$2)","v":"ok"},{"$f":"IF(W4<=$L$3,$M$1,$M$2)","v":"ok"},0,0]
[{"$f":"'Rozliczenie kwartalne'!A38","v":"3"},{"$f":"'Rozliczenie kwartalne'!B38","v":""},{"$f":"'Załącznik nr 2 do rozliczenia'!H31","v":0},{"$f":"IF('Załącznik nr 1 do rozliczenia'!H34<0,ABS('Załącznik nr 1 do rozliczenia'!H34),0)","v":0},{"$f":"'Rozliczenie kwartalne'!E38","v":0},{"$f":"'Rozliczenie kwartalne'!G38","v":0},{"$f":"'Rozliczenie kwartalne'!H38","v":0},{"$f":"'Rozliczenie kwartalne'!I38","v":0},{"$f":"'Rozliczenie kwartalne'!J38","v":0},{"$f":"'Rozliczenie kwartalne'!K38","v":0},{"$f":"'Rozliczenie kwartalne'!L38","v":0},null,null,"3",0,0,0,0,0,0,0,0,0,0,0,"ok","ok",0,0]
[{"$f":"'Rozliczenie kwartalne'!A39","v":"4"},{"$f":"'Rozliczenie kwartalne'!B39","v":""},{"$f":"'Załącznik nr 2 do rozliczenia'!H32","v":0},{"$f":"IF('Załącznik nr 1 do rozliczenia'!H35<0,ABS('Załącznik nr 1 do rozliczenia'!H35),0)","v":0},{"$f":"'Rozliczenie kwartalne'!E39","v":0},{"$f":"'Rozliczenie kwartalne'!G39","v":0},{"$f":"'Rozliczenie kwartalne'!H39","v":0},{"$f":"'Rozliczenie kwartalne'!I39","v":0},{"$f":"'Rozliczenie kwartalne'!J39","v":0},{"$f":"'Rozliczenie kwartalne'!K39","v":0},{"$f":"'Rozliczenie kwartalne'!L39","v":0},null,null,"4",0,0,0,0,0,0,0,0,0,0,0,"ok","ok",0,0]
[{"$f":"'Rozliczenie kwartalne'!A40","v":"5"},{"$f":"'Rozliczenie kwartalne'!B40","v":""},{"$f":"'Załącznik nr 2 do rozliczenia'!H33","v":0},{"$f":"IF('Załącznik nr 1 do rozliczenia'!H36<0,ABS('Załącznik nr 1 do rozliczenia'!H36),0)","v":0},{"$f":"'Rozliczenie kwartalne'!E40","v":0},{"$f":"'Rozliczenie kwartalne'!G40","v":0},{"$f":"'Rozliczenie kwartalne'!H40","v":0},{"$f":"'Rozliczenie kwartalne'!I40","v":0},{"$f":"'Rozliczenie kwartalne'!J40","v":0},{"$f":"'Rozliczenie kwartalne'!K40","v":0},{"$f":"'Rozliczenie kwartalne'!L40","v":0},null,null,"5",0,0,0,0,0,0,0,0,0,0,0,"ok","ok",0,0]
[{"$f":"'Rozliczenie kwartalne'!A41","v":"6"},{"$f":"'Rozliczenie kwartalne'!B41","v":""},{"$f":"'Załącznik nr 2 do rozliczenia'!H34","v":0},{"$f":"IF('Załącznik nr 1 do rozliczenia'!H37<0,ABS('Załącznik nr 1 do rozliczenia'!H37),0)","v":0},{"$f":"'Rozliczenie kwartalne'!E41","v":0},{"$f":"'Rozliczenie kwartalne'!G41","v":0},{"$f":"'Rozliczenie kwartalne'!H41","v":0},{"$f":"'Rozliczenie kwartalne'!I41","v":0},{"$f":"'Rozliczenie kwartalne'!J41","v":0},{"$f":"'Rozliczenie kwartalne'!K41","v":0},{"$f":"'Rozliczenie kwartalne'!L41","v":0},null,null,"6",0,0,0,0,0,0,0,0,0,0,0,"ok","ok",0,0]
[{"$f":"'Rozliczenie kwartalne'!A42","v":"7"},{"$f":"'Rozliczenie kwartalne'!B42","v":""},{"$f":"'Załącznik nr 2 do rozliczenia'!H35","v":0},{"$f":"IF('Załącznik nr 1 do rozliczenia'!H38<0,ABS('Załącznik nr 1 do rozliczenia'!H38),0)","v":0},{"$f":"'Rozliczenie kwartalne'!E42","v":0},{"$f":"'Rozliczenie kwartalne'!G42","v":0},{"$f":"'Rozliczenie kwartalne'!H42","v":0},{"$f":"'Rozliczenie kwartalne'!I42","v":0},{"$f":"'Rozliczenie kwartalne'!J42","v":0},{"$f":"'Rozliczenie kwartalne'!K42","v":0},{"$f":"'Rozliczenie kwartalne'!L42","v":0},null,null,"7",0,0,0,0,0,0,0,0,0,0,0,"ok","ok",0,0]
[{"$f":"'Rozliczenie kwartalne'!A43","v":"8"},{"$f":"'Rozliczenie kwartalne'!B43","v":""},{"$f":"'Załącznik nr 2 do rozliczenia'!H36","v":0},{"$f":"IF('Załącznik nr 1 do rozliczenia'!H39<0,ABS('Załącznik nr 1 do rozliczenia'!H39),0)","v":0},{"$f":"'Rozliczenie kwartalne'!E43","v":0},{"$f":"'Rozliczenie kwartalne'!G43","v":0},{"$f":"'Rozliczenie kwartalne'!H43","v":0},{"$f":"'Rozliczenie kwartalne'!I43","v":0},{"$f":"'Rozliczenie kwartalne'!J43","v":0},{"$f":"'Rozliczenie kwartalne'!K43","v":0},{"$f":"'Rozliczenie kwartalne'!L43","v":0},null,null,"8",0,0,0,0,0,0,0,0,0,0,0,"ok","ok",0,0]
[{"$f":"'Rozliczenie kwartalne'!A44","v":"9"},{"$f":"'Rozliczenie kwartalne'!B44","v":""},{"$f":"'Załącznik nr 2 do rozliczenia'!H37","v":0},{"$f":"IF('Załącznik nr 1 do rozliczenia'!H40<0,ABS('Załącznik nr 1 do rozliczenia'!H40),0)","v":0},{"$f":"'Rozliczenie kwartalne'!E44","v":0},{"$f":"'Rozliczenie kwartalne'!G44","v":0},{"$f":"'Rozliczenie kwartalne'!H44","v":0},{"$f":"'Rozliczenie kwartalne'!I44","v":0},{"$f":"'Rozliczenie kwartalne'!J44","v":0},{"$f":"'Rozliczenie kwartalne'!K44","v":0},{"$f":"'Rozliczenie kwartalne'!L44","v":0},null,null,"9",0,0,0,0,0,0,0,0,0,0,0,"ok","ok",0,0]
[{"$f":"'Rozliczenie kwartalne'!A45","v":"10"},{"$f":"'Rozliczenie kwartalne'!B45","v":""},{"$f":"'Załącznik nr 2 do rozliczenia'!H38","v":0},{"$f":"IF('Załącznik nr 1 do rozliczenia'!H41<0,ABS('Załącznik nr 1 do rozliczenia'!H41),0)","v":0},{"$f":"'Rozliczenie kwartalne'!E45","v":0},{"$f":"'Rozliczenie kwartalne'!G45","v":0},{"$f":"'Rozliczenie kwartalne'!H45","v":0},{"$f":"'Rozliczenie kwartalne'!I45","v":0},{"$f":"'Rozliczenie kwartalne'!J45","v":0},{"$f":"'Rozliczenie kwartalne'!K45","v":0},{"$f":"'Rozliczenie kwartalne'!L45","v":0},null,null,"10",0,0,0,0,0,0,0,0,0,0,0,"ok","ok",0,0]
[{"$f":"'Rozliczenie kwartalne'!A46","v":"11"},{"$f":"'Rozliczenie kwartalne'!B46","v":""},{"$f":"'Załącznik nr 2 do rozliczenia'!H39","v":0},{"$f":"IF('Załącznik nr 1 do rozliczenia'!H42<0,ABS('Załącznik nr 1 do rozliczenia'!H42),0)","v":0},{"$f":"'Rozliczenie kwartalne'!E46","v":0},{"$f":"'Rozliczenie kwartalne'!G46","v":0},{"$f":"'Rozliczenie kwartalne'!H46","v":0},{"$f":"'Rozliczenie kwartalne'!I46","v":0},{"$f":"'Rozliczenie kwartalne'!J46","v":0},{"$f":"'Rozliczenie kwartalne'!K46","v":0},{"$f":"'Rozliczenie kwartalne'!L46","v":0},null,null,"11",0,0,0,0,0,0,0,0,0,0,0,"ok","ok",0,0]
[{"$f":"'Rozliczenie kwartalne'!A47","v":"12"},{"$f":"'Rozliczenie kwartalne'!B47","v":""},{"$f":"'Załącznik nr 2 do rozliczenia'!H40","v":0},{"$f":"IF('Załącznik nr 1 do rozliczenia'!H43<0,ABS('Załącznik nr 1 do rozliczenia'!H43),0)","v":0},{"$f":"'Rozliczenie kwartalne'!E47","v":0},{"$f":"'Rozliczenie kwartalne'!G47","v":0},{"$f":"'Rozliczenie kwartalne'!H47","v":0},{"$f":"'Rozliczenie kwartalne'!I47","v":0},{"$f":"'Rozliczenie kwartalne'!J47","v":0},{"$f":"'Rozliczenie kwartalne'!K47","v":0},{"$f":"'Rozliczenie kwartalne'!L47","v":0},null,null,"12",0,0,0,0,0,0,0,0,0,0,0,"ok","ok",0,0]
[{"$f":"'Rozliczenie kwartalne'!A48","v":"13"},{"$f":"'Rozliczenie kwartalne'!B48","v":""},{"$f":"'Załącznik nr 2 do rozliczenia'!H41","v":0},{"$f":"IF('Załącznik nr 1 do rozliczenia'!H44<0,ABS('Załącznik nr 1 do rozliczenia'!H44),0)","v":0},{"$f":"'Rozliczenie kwartalne'!E48","v":0},{"$f":"'Rozliczenie kwartalne'!G48","v":0},{"$f":"'Rozliczenie kwartalne'!H48","v":0},{"$f":"'Rozliczenie kwartalne'!I48","v":0},{"$f":"'Rozliczenie kwartalne'!J48","v":0},{"$f":"'Rozliczenie kwartalne'!K48","v":0},{"$f":"'Rozliczenie kwartalne'!L48","v":0},null,null,"13",0,0,0,0,0,0,0,0,0,0,0,"ok","ok",0,0]
[{"$f":"'Rozliczenie kwartalne'!A49","v":"14"},{"$f":"'Rozliczenie kwartalne'!B49","v":""},{"$f":"'Załącznik nr 2 do rozliczenia'!H42","v":0},{"$f":"IF('Załącznik nr 1 do rozliczenia'!H45<0,ABS('Załącznik nr 1 do rozliczenia'!H45),0)","v":0},{"$f":"'Rozliczenie kwartalne'!E49","v":0},{"$f":"'Rozliczenie kwartalne'!G49","v":0},{"$f":"'Rozliczenie kwartalne'!H49","v":0},{"$f":"'Rozliczenie kwartalne'!I49","v":0},{"$f":"'Rozliczenie kwartalne'!J49","v":0},{"$f":"'Rozliczenie kwartalne'!K49","v":0},{"$f":"'Rozliczenie kwartalne'!L49","v":0},null,null,"14",0,0,0,0,0,0,0,0,0,0,0,"ok","ok",0,0]
[{"$f":"'Rozliczenie kwartalne'!A50","v":"15"},{"$f":"'Rozliczenie kwartalne'!B50","v":""},{"$f":"'Załącznik nr 2 do rozliczenia'!H43","v":0},{"$f":"IF('Załącznik nr 1 do rozliczenia'!H46<0,ABS('Załącznik nr 1 do rozliczenia'!H46),0)","v":0},{"$f":"'Rozliczenie kwartalne'!E50","v":0},{"$f":"'Rozliczenie kwartalne'!G50","v":0},{"$f":"'Rozliczenie kwartalne'!H50","v":0},{"$f":"'Rozliczenie kwartalne'!I50","v":0},{"$f":"'Rozliczenie kwartalne'!J50","v":0},{"$f":"'Rozliczenie kwartalne'!K50","v":0},{"$f":"'Rozliczenie kwartalne'!L50","v":0},null,null,"15",0,0,0,0,0,0,0,0,0,0,0,"ok","ok",0,0]
[{"$f":"'Rozliczenie kwartalne'!A51","v":"16"},{"$f":"'Rozliczenie kwartalne'!B51","v":""},{"$f":"'Załącznik nr 2 do rozliczenia'!H44","v":0},{"$f":"IF('Załącznik nr 1 do rozliczenia'!H47<0,ABS('Załącznik nr 1 do rozliczenia'!H47),0)","v":0},{"$f":"'Rozliczenie kwartalne'!E51","v":0},{"$f":"'Rozliczenie kwartalne'!G51","v":0},{"$f":"'Rozliczenie kwartalne'!H51","v":0},{"$f":"'Rozliczenie kwartalne'!I51","v":0},{"$f":"'Rozliczenie kwartalne'!J51","v":0},{"$f":"'Rozliczenie kwartalne'!K51","v":0},{"$f":"'Rozliczenie kwartalne'!L51","v":0},null,null,"16",0,0,0,0,0,0,0,0,0,0,0,"ok","ok",0,0]
[{"$f":"'Rozliczenie kwartalne'!A52","v":"17"},{"$f":"'Rozliczenie kwartalne'!B52","v":""},{"$f":"'Załącznik nr 2 do rozliczenia'!H45","v":0},{"$f":"IF('Załącznik nr 1 do rozliczenia'!H48<0,ABS('Załącznik nr 1 do rozliczenia'!H48),0)","v":0},{"$f":"'Rozliczenie kwartalne'!E52","v":0},{"$f":"'Rozliczenie kwartalne'!G52","v":0},{"$f":"'Rozliczenie kwartalne'!H52","v":0},{"$f":"'Rozliczenie kwartalne'!I52","v":0},{"$f":"'Rozliczenie kwartalne'!J52","v":0},{"$f":"'Rozliczenie kwartalne'!K52","v":0},{"$f":"'Rozliczenie kwartalne'!L52","v":0},null,null,"17",0,0,0,0,0,0,0,0,0,0,0,"ok","ok",0,0]
[{"$f":"'Rozliczenie kwartalne'!A53","v":"18"},{"$f":"'Rozliczenie kwartalne'!B53","v":""},{"$f":"'Załącznik nr 2 do rozliczenia'!H46","v":0},{"$f":"IF('Załącznik nr 1 do rozliczenia'!H49<0,ABS('Załącznik nr 1 do rozliczenia'!H49),0)","v":0},{"$f":"'Rozliczenie kwartalne'!E53","v":0},{"$f":"'Rozliczenie kwartalne'!G53","v":0},{"$f":"'Rozliczenie kwartalne'!H53","v":0},{"$f":"'Rozliczenie kwartalne'!I53","v":0},{"$f":"'Rozliczenie kwartalne'!J53","v":0},{"$f":"'Rozliczenie kwartalne'!K53","v":0},{"$f":"'Rozliczenie kwartalne'!L53","v":0},null,null,"18",0,0,0,0,0,0,0,0,0,0,0,"ok","ok",0,0]
[{"$f":"'Rozliczenie kwartalne'!A54","v":"19"},{"$f":"'Rozliczenie kwartalne'!B54","v":""},{"$f":"'Załącznik nr 2 do rozliczenia'!H47","v":0},{"$f":"IF('Załącznik nr 1 do rozliczenia'!H50<0,ABS('Załącznik nr 1 do rozliczenia'!H50),0)","v":0},{"$f":"'Rozliczenie kwartalne'!E54","v":0},{"$f":"'Rozliczenie kwartalne'!G54","v":0},{"$f":"'Rozliczenie kwartalne'!H54","v":0},{"$f":"'Rozliczenie kwartalne'!I54","v":0},{"$f":"'Rozliczenie kwartalne'!J54","v":0},{"$f":"'Rozliczenie kwartalne'!K54","v":0},{"$f":"'Rozliczenie kwartalne'!L54","v":0},null,null,"19",0,0,0,0,0,0,0,0,0,0,0,"ok","ok",0,0]
[{"$f":"'Rozliczenie kwartalne'!A55","v":"20"},{"$f":"'Rozliczenie kwartalne'!B55","v":""},{"$f":"'Załącznik nr 2 do rozliczenia'!H48","v":0},{"$f":"IF('Załącznik nr 1 do rozliczenia'!H51<0,ABS('Załącznik nr 1 do rozliczenia'!H51),0)","v":0},{"$f":"'Rozliczenie kwartalne'!E55","v":0},{"$f":"'Rozliczenie kwartalne'!G55","v":0},{"$f":"'Rozliczenie kwartalne'!H55","v":0},{"$f":"'Rozliczenie kwartalne'!I55","v":0},{"$f":"'Rozliczenie kwartalne'!J55","v":0},{"$f":"'Rozliczenie kwartalne'!K55","v":0},{"$f":"'Rozliczenie kwartalne'!L55","v":0},null,null,"20",0,0,0,0,0,0,0,0,0,0,0,"ok","ok",0,0]
[{"$f":"'Rozliczenie kwartalne'!A56","v":"21"},{"$f":"'Rozliczenie kwartalne'!B56","v":""},{"$f":"'Załącznik nr 2 do rozliczenia'!H49","v":0},{"$f":"IF('Załącznik nr 1 do rozliczenia'!H52<0,ABS('Załącznik nr 1 do rozliczenia'!H52),0)","v":0},{"$f":"'Rozliczenie kwartalne'!E56","v":0},{"$f":"'Rozliczenie kwartalne'!G56","v":0},{"$f":"'Rozliczenie kwartalne'!H56","v":0},{"$f":"'Rozliczenie kwartalne'!I56","v":0},{"$f":"'Rozliczenie kwartalne'!J56","v":0},{"$f":"'Rozliczenie kwartalne'!K56","v":0},{"$f":"'Rozliczenie kwartalne'!L56","v":0},null,null,"21",0,0,0,0,0,0,0,0,0,0,0,"ok","ok",0,0]
[{"$f":"'Rozliczenie kwartalne'!A57","v":"22"},{"$f":"'Rozliczenie kwartalne'!B57","v":""},{"$f":"'Załącznik nr 2 do rozliczenia'!H50","v":0},{"$f":"IF('Załącznik nr 1 do rozliczenia'!H53<0,ABS('Załącznik nr 1 do rozliczenia'!H53),0)","v":0},{"$f":"'Rozliczenie kwartalne'!E57","v":0},{"$f":"'Rozliczenie kwartalne'!G57","v":0},{"$f":"'Rozliczenie kwartalne'!H57","v":0},{"$f":"'Rozliczenie kwartalne'!I57","v":0},{"$f":"'Rozliczenie kwartalne'!J57","v":0},{"$f":"'Rozliczenie kwartalne'!K57","v":0},{"$f":"'Rozliczenie kwartalne'!L57","v":0},null,null,"22",0,0,0,0,0,0,0,0,0,0,0,"ok","ok",0,0]
[{"$f":"'Rozliczenie kwartalne'!A58","v":"23"},{"$f":"'Rozliczenie kwartalne'!B58","v":""},{"$f":"'Załącznik nr 2 do rozliczenia'!H51","v":0},{"$f":"IF('Załącznik nr 1 do rozliczenia'!H54<0,ABS('Załącznik nr 1 do rozliczenia'!H54),0)","v":0},{"$f":"'Rozliczenie kwartalne'!E58","v":0},{"$f":"'Rozliczenie kwartalne'!G58","v":0},{"$f":"'Rozliczenie kwartalne'!H58","v":0},{"$f":"'Rozliczenie kwartalne'!I58","v":0},{"$f":"'Rozliczenie kwartalne'!J58","v":0},{"$f":"'Rozliczenie kwartalne'!K58","v":0},{"$f":"'Rozliczenie kwartalne'!L58","v":0},null,null,"23",0,0,0,0,0,0,0,0,0,0,0,"ok","ok",0,0]
[{"$f":"'Rozliczenie kwartalne'!A59","v":"24"},{"$f":"'Rozliczenie kwartalne'!B59","v":""},{"$f":"'Załącznik nr 2 do rozliczenia'!H52","v":0},{"$f":"IF('Załącznik nr 1 do rozliczenia'!H55<0,ABS('Załącznik nr 1 do rozliczenia'!H55),0)","v":0},{"$f":"'Rozliczenie kwartalne'!E59","v":0},{"$f":"'Rozliczenie kwartalne'!G59","v":0},{"$f":"'Rozliczenie kwartalne'!H59","v":0},{"$f":"'Rozliczenie kwartalne'!I59","v":0},{"$f":"'Rozliczenie kwartalne'!J59","v":0},{"$f":"'Rozliczenie kwartalne'!K59","v":0},{"$f":"'Rozliczenie kwartalne'!L59","v":0},null,null,"24",0,0,0,0,0,0,0,0,0,0,0,"ok","ok",0,0]
[{"$f":"'Rozliczenie kwartalne'!A60","v":"25"},{"$f":"'Rozliczenie kwartalne'!B60","v":""},{"$f":"'Załącznik nr 2 do rozliczenia'!H53","v":0},{"$f":"IF('Załącznik nr 1 do rozliczenia'!H56<0,ABS('Załącznik nr 1 do rozliczenia'!H56),0)","v":0},{"$f":"'Rozliczenie kwartalne'!E60","v":0},{"$f":"'Rozliczenie kwartalne'!G60","v":0},{"$f":"'Rozliczenie kwartalne'!H60","v":0},{"$f":"'Rozliczenie kwartalne'!I60","v":0},{"$f":"'Rozliczenie kwartalne'!J60","v":0},{"$f":"'Rozliczenie kwartalne'!K60","v":0},{"$f":"'Rozliczenie kwartalne'!L60","v":0},null,null,"25",0,0,0,0,0,0,0,0,0,0,0,"ok","ok",0,0]
[{"$f":"'Rozliczenie kwartalne'!A61","v":"26"},{"$f":"'Rozliczenie kwartalne'!B61","v":""},{"$f":"'Załącznik nr 2 do rozliczenia'!H54","v":0},{"$f":"IF('Załącznik nr 1 do rozliczenia'!H57<0,ABS('Załącznik nr 1 do rozliczenia'!H57),0)","v":0},{"$f":"'Rozliczenie kwartalne'!E61","v":0},{"$f":"'Rozliczenie kwartalne'!G61","v":0},{"$f":"'Rozliczenie kwartalne'!H61","v":0},{"$f":"'Rozliczenie kwartalne'!I61","v":0},{"$f":"'Rozliczenie kwartalne'!J61","v":0},{"$f":"'Rozliczenie kwartalne'!K61","v":0},{"$f":"'Rozliczenie kwartalne'!L61","v":0},null,null,"26",0,0,0,0,0,0,0,0,0,0,0,"ok","ok",0,0]
[{"$f":"'Rozliczenie kwartalne'!A62","v":"27"},{"$f":"'Rozliczenie kwartalne'!B62","v":""},{"$f":"'Załącznik nr 2 do rozliczenia'!H55","v":0},{"$f":"IF('Załącznik nr 1 do rozliczenia'!H58<0,ABS('Załącznik nr 1 do rozliczenia'!H58),0)","v":0},{"$f":"'Rozliczenie kwartalne'!E62","v":0},{"$f":"'Rozliczenie kwartalne'!G62","v":0},{"$f":"'Rozliczenie kwartalne'!H62","v":0},{"$f":"'Rozliczenie kwartalne'!I62","v":0},{"$f":"'Rozliczenie kwartalne'!J62","v":0},{"$f":"'Rozliczenie kwartalne'!K62","v":0},{"$f":"'Rozliczenie kwartalne'!L62","v":0},null,null,"27",0,0,0,0,0,0,0,0,0,0,0,"ok","ok",0,0]
[{"$f":"'Rozliczenie kwartalne'!A63","v":"28"},{"$f":"'Rozliczenie kwartalne'!B63","v":""},{"$f":"'Załącznik nr 2 do rozliczenia'!H56","v":0},{"$f":"IF('Załącznik nr 1 do rozliczenia'!H59<0,ABS('Załącznik nr 1 do rozliczenia'!H59),0)","v":0},{"$f":"'Rozliczenie kwartalne'!E63","v":0},{"$f":"'Rozliczenie kwartalne'!G63","v":0},{"$f":"'Rozliczenie kwartalne'!H63","v":0},{"$f":"'Rozliczenie kwartalne'!I63","v":0},{"$f":"'Rozliczenie kwartalne'!J63","v":0},{"$f":"'Rozliczenie kwartalne'!K63","v":0},{"$f":"'Rozliczenie kwartalne'!L63","v":0},null,null,"28",0,0,0,0,0,0,0,0,0,0,0,"ok","ok",0,0]
[{"$f":"'Rozliczenie kwartalne'!A64","v":"29"},{"$f":"'Rozliczenie kwartalne'!B64","v":""},{"$f":"'Załącznik nr 2 do rozliczenia'!H57","v":0},{"$f":"IF('Załącznik nr 1 do rozliczenia'!H60<0,ABS('Załącznik nr 1 do rozliczenia'!H60),0)","v":0},{"$f":"'Rozliczenie kwartalne'!E64","v":0},{"$f":"'Rozliczenie kwartalne'!G64","v":0},{"$f":"'Rozliczenie kwartalne'!H64","v":0},{"$f":"'Rozliczenie kwartalne'!I64","v":0},{"$f":"'Rozliczenie kwartalne'!J64","v":0},{"$f":"'Rozliczenie kwartalne'!K64","v":0},{"$f":"'Rozliczenie kwartalne'!L64","v":0},null,null,"29",0,0,0,0,0,0,0,0,0,0,0,"ok","ok",0,0]
[{"$f":"'Rozliczenie kwartalne'!A65","v":"30"},{"$f":"'Rozliczenie kwartalne'!B65","v":""},{"$f":"'Załącznik nr 2 do rozliczenia'!H58","v":0},{"$f":"IF('Załącznik nr 1 do rozliczenia'!H61<0,ABS('Załącznik nr 1 do rozliczenia'!H61),0)","v":0},{"$f":"'Rozliczenie kwartalne'!E65","v":0},{"$f":"'Rozliczenie kwartalne'!G65","v":0},{"$f":"'Rozliczenie kwartalne'!H65","v":0},{"$f":"'Rozliczenie kwartalne'!I65","v":0},{"$f":"'Rozliczenie kwartalne'!J65","v":0},{"$f":"'Rozliczenie kwartalne'!K65","v":0},{"$f":"'Rozliczenie kwartalne'!L65","v":0},null,null,"30",0,0,0,0,0,0,0,0,0,0,0,"ok","ok",0,0]
[{"$f":"'Rozliczenie kwartalne'!A66","v":"31"},{"$f":"'Rozliczenie kwartalne'!B66","v":""},{"$f":"'Załącznik nr 2 do rozliczenia'!H59","v":0},{"$f":"IF('Załącznik nr 1 do rozliczenia'!H62<0,ABS('Załącznik nr 1 do rozliczenia'!H62),0)","v":0},{"$f":"'Rozliczenie kwartalne'!E66","v":0},{"$f":"'Rozliczenie kwartalne'!G66","v":0},{"$f":"'Rozliczenie kwartalne'!H66","v":0},{"$f":"'Rozliczenie kwartalne'!I66","v":0},{"$f":"'Rozliczenie kwartalne'!J66","v":0},{"$f":"'Rozliczenie kwartalne'!K66","v":0},{"$f":"'Rozliczenie kwartalne'!L66","v":0},null,null,"31",0,0,0,0,0,0,0,0,0,0,0,"ok","ok",0,0]
[{"$f":"'Rozliczenie kwartalne'!A67","v":"32"},{"$f":"'Rozliczenie kwartalne'!B67","v":""},{"$f":"'Załącznik nr 2 do rozliczenia'!H60","v":0},{"$f":"IF('Załącznik nr 1 do rozliczenia'!H63<0,ABS('Załącznik nr 1 do rozliczenia'!H63),0)","v":0},{"$f":"'Rozliczenie kwartalne'!E67","v":0},{"$f":"'Rozliczenie kwartalne'!G67","v":0},{"$f":"'Rozliczenie kwartalne'!H67","v":0},{"$f":"'Rozliczenie kwartalne'!I67","v":0},{"$f":"'Rozliczenie kwartalne'!J67","v":0},{"$f":"'Rozliczenie kwartalne'!K67","v":0},{"$f":"'Rozliczenie kwartalne'!L67","v":0},null,null,{"$f":"A34","v":"32"},0,0,0,0,0,0,0,0,0,0,0,"ok","ok",0,0]
[{"$f":"'Rozliczenie kwartalne'!A68","v":"33"},{"$f":"'Rozliczenie kwartalne'!B68","v":""},{"$f":"'Załącznik nr 2 do rozliczenia'!H61","v":0},{"$f":"IF('Załącznik nr 1 do rozliczenia'!H64<0,ABS('Załącznik nr 1 do rozliczenia'!H64),0)","v":0},{"$f":"'Rozliczenie kwartalne'!E68","v":0},{"$f":"'Rozliczenie kwartalne'!G68","v":0},{"$f":"'Rozliczenie kwartalne'!H68","v":0},{"$f":"'Rozliczenie kwartalne'!I68","v":0},{"$f":"'Rozliczenie kwartalne'!J68","v":0},{"$f":"'Rozliczenie kwartalne'!K68","v":0},{"$f":"'Rozliczenie kwartalne'!L68","v":0},null,null,"33",{"$f":"IFERROR(D35/C35,0)","v":0},0,0,{"$f":"P35*C35","v":0},{"$f":"E35*C35","v":0},{"$f":"IFERROR(V35*C35,0)","v":0},{"$f":"V35*C35","v":0},{"$f":"IFERROR(IF((D35-H35)/C35>=$L$3,$L$3,(D35-H35)/C35),0)","v":0},0,{"$f":"D35*0.1","v":0},0,"ok","ok",{"$f":"(T35+R35)-D35","v":0},{"$f":"D35-S35","v":0}]
[{"$f":"'Rozliczenie kwartalne'!A69","v":"34"},{"$f":"'Rozliczenie kwartalne'!B69","v":""},{"$f":"'Załącznik nr 2 do rozliczenia'!H62","v":0},{"$f":"IF('Załącznik nr 1 do rozliczenia'!H65<0,ABS('Załącznik nr 1 do rozliczenia'!H65),0)","v":0},{"$f":"'Rozliczenie kwartalne'!E69","v":0},{"$f":"'Rozliczenie kwartalne'!G69","v":0},{"$f":"'Rozliczenie kwartalne'!H69","v":0},{"$f":"'Rozliczenie kwartalne'!I69","v":0},{"$f":"'Rozliczenie kwartalne'!J69","v":0},{"$f":"'Rozliczenie kwartalne'!K69","v":0},{"$f":"'Rozliczenie kwartalne'!L69","v":0},null,null,"34",0,0,0,0,0,0,0,0,0,0,0,"ok","ok",0,0]
[{"$f":"'Rozliczenie kwartalne'!A70","v":"35"},{"$f":"'Rozliczenie kwartalne'!B70","v":""},{"$f":"'Załącznik nr 2 do rozliczenia'!H63","v":0},{"$f":"IF('Załącznik nr 1 do rozliczenia'!H66<0,ABS('Załącznik nr 1 do rozliczenia'!H66),0)","v":0},{"$f":"'Rozliczenie kwartalne'!E70","v":0},{"$f":"'Rozliczenie kwartalne'!G70","v":0},{"$f":"'Rozliczenie kwartalne'!H70","v":0},{"$f":"'Rozliczenie kwartalne'!I70","v":0},{"$f":"'Rozliczenie kwartalne'!J70","v":0},{"$f":"'Rozliczenie kwartalne'!K70","v":0},{"$f":"'Rozliczenie kwartalne'!L70","v":0},null,null,"35",0,0,0,0,0,0,0,0,0,0,0,"ok","ok",0,0]
[{"$f":"'Rozliczenie kwartalne'!A71","v":"36"},{"$f":"'Rozliczenie kwartalne'!B71","v":""},{"$f":"'Załącznik nr 2 do rozliczenia'!H64","v":0},{"$f":"IF('Załącznik nr 1 do rozliczenia'!H67<0,ABS('Załącznik nr 1 do rozliczenia'!H67),0)","v":0},{"$f":"'Rozliczenie kwartalne'!E71","v":0},{"$f":"'Rozliczenie kwartalne'!G71","v":0},{"$f":"'Rozliczenie kwartalne'!H71","v":0},{"$f":"'Rozliczenie kwartalne'!I71","v":0},{"$f":"'Rozliczenie kwartalne'!J71","v":0},{"$f":"'Rozliczenie kwartalne'!K71","v":0},{"$f":"'Rozliczenie kwartalne'!L71","v":0},null,null,"36",0,0,0,0,0,0,0,0,0,0,0,"ok","ok",0,0]
[{"$f":"'Rozliczenie kwartalne'!A72","v":"37"},{"$f":"'Rozliczenie kwartalne'!B72","v":""},{"$f":"'Załącznik nr 2 do rozliczenia'!H65","v":0},{"$f":"IF('Załącznik nr 1 do rozliczenia'!H68<0,ABS('Załącznik nr 1 do rozliczenia'!H68),0)","v":0},{"$f":"'Rozliczenie kwartalne'!E72","v":0},{"$f":"'Rozliczenie kwartalne'!G72","v":0},{"$f":"'Rozliczenie kwartalne'!H72","v":0},{"$f":"'Rozliczenie kwartalne'!I72","v":0},{"$f":"'Rozliczenie kwartalne'!J72","v":0},{"$f":"'Rozliczenie kwartalne'!K72","v":0},{"$f":"'Rozliczenie kwartalne'!L72","v":0},null,null,"37",0,0,0,0,0,0,0,0,0,0,0,"ok","ok",0,0]
[{"$f":"'Rozliczenie kwartalne'!A73","v":"38"},{"$f":"'Rozliczenie kwartalne'!B73","v":""},{"$f":"'Załącznik nr 2 do rozliczenia'!H66","v":0},{"$f":"IF('Załącznik nr 1 do rozliczenia'!H69<0,ABS('Załącznik nr 1 do rozliczenia'!H69),0)","v":0},{"$f":"'Rozliczenie kwartalne'!E73","v":0},{"$f":"'Rozliczenie kwartalne'!G73","v":0},{"$f":"'Rozliczenie kwartalne'!H73","v":0},{"$f":"'Rozliczenie kwartalne'!I73","v":0},{"$f":"'Rozliczenie kwartalne'!J73","v":0},{"$f":"'Rozliczenie kwartalne'!K73","v":0},{"$f":"'Rozliczenie kwartalne'!L73","v":0},null,null,"38",0,0,0,0,0,0,0,0,0,0,0,"ok","ok",0,0]
[{"$f":"'Rozliczenie kwartalne'!A74","v":"39"},{"$f":"'Rozliczenie kwartalne'!B74","v":""},{"$f":"'Załącznik nr 2 do rozliczenia'!H67","v":0},{"$f":"IF('Załącznik nr 1 do rozliczenia'!H70<0,ABS('Załącznik nr 1 do rozliczenia'!H70),0)","v":0},{"$f":"'Rozliczenie kwartalne'!E74","v":0},{"$f":"'Rozliczenie kwartalne'!G74","v":0},{"$f":"'Rozliczenie kwartalne'!H74","v":0},{"$f":"'Rozliczenie kwartalne'!I74","v":0},{"$f":"'Rozliczenie kwartalne'!J74","v":0},{"$f":"'Rozliczenie kwartalne'!K74","v":0},{"$f":"'Rozliczenie kwartalne'!L74","v":0},null,null,"39",0,0,0,0,0,0,0,0,0,0,0,"ok","ok",0,0]
[{"$f":"'Rozliczenie kwartalne'!A75","v":"40"},{"$f":"'Rozliczenie kwartalne'!B75","v":""},{"$f":"'Załącznik nr 2 do rozliczenia'!H68","v":0},{"$f":"IF('Załącznik nr 1 do rozliczenia'!H71<0,ABS('Załącznik nr 1 do rozliczenia'!H71),0)","v":0},{"$f":"'Rozliczenie kwartalne'!E75","v":0},{"$f":"'Rozliczenie kwartalne'!G75","v":0},{"$f":"'Rozliczenie kwartalne'!H75","v":0},{"$f":"'Rozliczenie kwartalne'!I75","v":0},{"$f":"'Rozliczenie kwartalne'!J75","v":0},{"$f":"'Rozliczenie kwartalne'!K75","v":0},{"$f":"'Rozliczenie kwartalne'!L75","v":0},null,null,"40",0,0,0,0,0,0,0,0,0,0,0,"ok","ok",0,0]
[{"$f":"'Rozliczenie kwartalne'!A76","v":"41"},{"$f":"'Rozliczenie kwartalne'!B76","v":""},{"$f":"'Załącznik nr 2 do rozliczenia'!H69","v":0},{"$f":"IF('Załącznik nr 1 do rozliczenia'!H72<0,ABS('Załącznik nr 1 do rozliczenia'!H72),0)","v":0},{"$f":"'Rozliczenie kwartalne'!E76","v":0},{"$f":"'Rozliczenie kwartalne'!G76","v":0},{"$f":"'Rozliczenie kwartalne'!H76","v":0},{"$f":"'Rozliczenie kwartalne'!I76","v":0},{"$f":"'Rozliczenie kwartalne'!J76","v":0},{"$f":"'Rozliczenie kwartalne'!K76","v":0},{"$f":"'Rozliczenie kwartalne'!L76","v":0},null,null,"41",0,0,0,0,0,0,0,0,0,0,0,"ok","ok",0,0]
[{"$f":"'Rozliczenie kwartalne'!A77","v":"42"},{"$f":"'Rozliczenie kwartalne'!B77","v":""},{"$f":"'Załącznik nr 2 do rozliczenia'!H70","v":0},{"$f":"IF('Załącznik nr 1 do rozliczenia'!H73<0,ABS('Załącznik nr 1 do rozliczenia'!H73),0)","v":0},{"$f":"'Rozliczenie kwartalne'!E77","v":0},{"$f":"'Rozliczenie kwartalne'!G77","v":0},{"$f":"'Rozliczenie kwartalne'!H77","v":0},{"$f":"'Rozliczenie kwartalne'!I77","v":0},{"$f":"'Rozliczenie kwartalne'!J77","v":0},{"$f":"'Rozliczenie kwartalne'!K77","v":0},{"$f":"'Rozliczenie kwartalne'!L77","v":0},null,null,"42",0,0,0,0,0,0,0,0,0,0,0,"ok","ok",0,0]
[{"$f":"'Rozliczenie kwartalne'!A78","v":"43"},{"$f":"'Rozliczenie kwartalne'!B78","v":""},{"$f":"'Załącznik nr 2 do rozliczenia'!H71","v":0},{"$f":"IF('Załącznik nr 1 do rozliczenia'!H74<0,ABS('Załącznik nr 1 do rozliczenia'!H74),0)","v":0},{"$f":"'Rozliczenie kwartalne'!E78","v":0},{"$f":"'Rozliczenie kwartalne'!G78","v":0},{"$f":"'Rozliczenie kwartalne'!H78","v":0},{"$f":"'Rozliczenie kwartalne'!I78","v":0},{"$f":"'Rozliczenie kwartalne'!J78","v":0},{"$f":"'Rozliczenie kwartalne'!K78","v":0},{"$f":"'Rozliczenie kwartalne'!L78","v":0},null,null,"43",0,0,0,0,0,0,0,0,0,0,0,"ok","ok",0,0]
[{"$f":"'Rozliczenie kwartalne'!A79","v":"44"},{"$f":"'Rozliczenie kwartalne'!B79","v":""},{"$f":"'Załącznik nr 2 do rozliczenia'!H72","v":0},{"$f":"IF('Załącznik nr 1 do rozliczenia'!H75<0,ABS('Załącznik nr 1 do rozliczenia'!H75),0)","v":0},{"$f":"'Rozliczenie kwartalne'!E79","v":0},{"$f":"'Rozliczenie kwartalne'!G79","v":0},{"$f":"'Rozliczenie kwartalne'!H79","v":0},{"$f":"'Rozliczenie kwartalne'!I79","v":0},{"$f":"'Rozliczenie kwartalne'!J79","v":0},{"$f":"'Rozliczenie kwartalne'!K79","v":0},{"$f":"'Rozliczenie kwartalne'!L79","v":0},null,null,"44",0,0,0,0,0,0,0,0,0,0,0,"ok","ok",0,0]
[{"$f":"'Rozliczenie kwartalne'!A80","v":"45"},{"$f":"'Rozliczenie kwartalne'!B80","v":""},{"$f":"'Załącznik nr 2 do rozliczenia'!H73","v":0},{"$f":"IF('Załącznik nr 1 do rozliczenia'!H76<0,ABS('Załącznik nr 1 do rozliczenia'!H76),0)","v":0},{"$f":"'Rozliczenie kwartalne'!E80","v":0},{"$f":"'Rozliczenie kwartalne'!G80","v":0},{"$f":"'Rozliczenie kwartalne'!H80","v":0},{"$f":"'Rozliczenie kwartalne'!I80","v":0},{"$f":"'Rozliczenie kwartalne'!J80","v":0},{"$f":"'Rozliczenie kwartalne'!K80","v":0},{"$f":"'Rozliczenie kwartalne'!L80","v":0},null,null,"45",0,0,0,0,0,0,0,0,0,0,0,"ok","ok",0,0]
[{"$f":"'Rozliczenie kwartalne'!A81","v":"46"},{"$f":"'Rozliczenie kwartalne'!B81","v":""},{"$f":"'Załącznik nr 2 do rozliczenia'!H74","v":0},{"$f":"IF('Załącznik nr 1 do rozliczenia'!H77<0,ABS('Załącznik nr 1 do rozliczenia'!H77),0)","v":0},{"$f":"'Rozliczenie kwartalne'!E81","v":0},{"$f":"'Rozliczenie kwartalne'!G81","v":0},{"$f":"'Rozliczenie kwartalne'!H81","v":0},{"$f":"'Rozliczenie kwartalne'!I81","v":0},{"$f":"'Rozliczenie kwartalne'!J81","v":0},{"$f":"'Rozliczenie kwartalne'!K81","v":0},{"$f":"'Rozliczenie kwartalne'!L81","v":0},null,null,"46",0,0,0,0,0,0,0,0,0,0,0,"ok","ok",0,0]
[{"$f":"'Rozliczenie kwartalne'!A82","v":"47"},{"$f":"'Rozliczenie kwartalne'!B82","v":""},{"$f":"'Załącznik nr 2 do rozliczenia'!H75","v":0},{"$f":"IF('Załącznik nr 1 do rozliczenia'!H78<0,ABS('Załącznik nr 1 do rozliczenia'!H78),0)","v":0},{"$f":"'Rozliczenie kwartalne'!E82","v":0},{"$f":"'Rozliczenie kwartalne'!G82","v":0},{"$f":"'Rozliczenie kwartalne'!H82","v":0},{"$f":"'Rozliczenie kwartalne'!I82","v":0},{"$f":"'Rozliczenie kwartalne'!J82","v":0},{"$f":"'Rozliczenie kwartalne'!K82","v":0},{"$f":"'Rozliczenie kwartalne'!L82","v":0},null,null,"47",0,0,0,0,0,0,0,0,0,0,0,"ok","ok",0,0]
[{"$f":"'Rozliczenie kwartalne'!A83","v":"48"},{"$f":"'Rozliczenie kwartalne'!B83","v":""},{"$f":"'Załącznik nr 2 do rozliczenia'!H76","v":0},{"$f":"IF('Załącznik nr 1 do rozliczenia'!H79<0,ABS('Załącznik nr 1 do rozliczenia'!H79),0)","v":0},{"$f":"'Rozliczenie kwartalne'!E83","v":0},{"$f":"'Rozliczenie kwartalne'!G83","v":0},{"$f":"'Rozliczenie kwartalne'!H83","v":0},{"$f":"'Rozliczenie kwartalne'!I83","v":0},{"$f":"'Rozliczenie kwartalne'!J83","v":0},{"$f":"'Rozliczenie kwartalne'!K83","v":0},{"$f":"'Rozliczenie kwartalne'!L83","v":0},null,null,"48",0,0,0,0,0,0,0,0,0,0,0,"ok","ok",0,0]
[{"$f":"'Rozliczenie kwartalne'!A84","v":"49"},{"$f":"'Rozliczenie kwartalne'!B84","v":""},{"$f":"'Załącznik nr 2 do rozliczenia'!H77","v":0},{"$f":"IF('Załącznik nr 1 do rozliczenia'!H80<0,ABS('Załącznik nr 1 do rozliczenia'!H80),0)","v":0},{"$f":"'Rozliczenie kwartalne'!E84","v":0},{"$f":"'Rozliczenie kwartalne'!G84","v":0},{"$f":"'Rozliczenie kwartalne'!H84","v":0},{"$f":"'Rozliczenie kwartalne'!I84","v":0},{"$f":"'Rozliczenie kwartalne'!J84","v":0},{"$f":"'Rozliczenie kwartalne'!K84","v":0},{"$f":"'Rozliczenie kwartalne'!L84","v":0},null,null,"49",0,0,0,0,0,0,0,0,0,0,0,"ok","ok",0,0]
[{"$f":"'Rozliczenie kwartalne'!A85","v":"50"},{"$f":"'Rozliczenie kwartalne'!B85","v":""},{"$f":"'Załącznik nr 2 do rozliczenia'!H78","v":0},{"$f":"IF('Załącznik nr 1 do rozliczenia'!H81<0,ABS('Załącznik nr 1 do rozliczenia'!H81),0)","v":0},{"$f":"'Rozliczenie kwartalne'!E85","v":0},{"$f":"'Rozliczenie kwartalne'!G85","v":0},{"$f":"'Rozliczenie kwartalne'!H85","v":0},{"$f":"'Rozliczenie kwartalne'!I85","v":0},{"$f":"'Rozliczenie kwartalne'!J85","v":0},{"$f":"'Rozliczenie kwartalne'!K85","v":0},{"$f":"'Rozliczenie kwartalne'!L85","v":0},null,null,"50",0,0,0,0,0,0,0,0,0,0,0,"ok","ok",0,0]
[{"$f":"'Rozliczenie kwartalne'!A86","v":"51"},{"$f":"'Rozliczenie kwartalne'!B86","v":""},{"$f":"'Załącznik nr 2 do rozliczenia'!H79","v":0},{"$f":"IF('Załącznik nr 1 do rozliczenia'!H82<0,ABS('Załącznik nr 1 do rozliczenia'!H82),0)","v":0},{"$f":"'Rozliczenie kwartalne'!E86","v":0},{"$f":"'Rozliczenie kwartalne'!G86","v":0},{"$f":"'Rozliczenie kwartalne'!H86","v":0},{"$f":"'Rozliczenie kwartalne'!I86","v":0},{"$f":"'Rozliczenie kwartalne'!J86","v":0},{"$f":"'Rozliczenie kwartalne'!K86","v":0},{"$f":"'Rozliczenie kwartalne'!L86","v":0},null,null,"51",0,0,0,0,0,0,0,0,0,0,0,"ok","ok",0,0]
[{"$f":"'Rozliczenie kwartalne'!A87","v":"52"},{"$f":"'Rozliczenie kwartalne'!B87","v":""},{"$f":"'Załącznik nr 2 do rozliczenia'!H80","v":0},{"$f":"IF('Załącznik nr 1 do rozliczenia'!H83<0,ABS('Załącznik nr 1 do rozliczenia'!H83),0)","v":0},{"$f":"'Rozliczenie kwartalne'!E87","v":0},{"$f":"'Rozliczenie kwartalne'!G87","v":0},{"$f":"'Rozliczenie kwartalne'!H87","v":0},{"$f":"'Rozliczenie kwartalne'!I87","v":0},{"$f":"'Rozliczenie kwartalne'!J87","v":0},{"$f":"'Rozliczenie kwartalne'!K87","v":0},{"$f":"'Rozliczenie kwartalne'!L87","v":0},null,null,"52",0,0,0,0,0,0,0,0,0,0,0,"ok","ok",0,0]
[{"$f":"'Rozliczenie kwartalne'!A88","v":"53"},{"$f":"'Rozliczenie kwartalne'!B88","v":""},{"$f":"'Załącznik nr 2 do rozliczenia'!H81","v":0},{"$f":"IF('Załącznik nr 1 do rozliczenia'!H84<0,ABS('Załącznik nr 1 do rozliczenia'!H84),0)","v":0},{"$f":"'Rozliczenie kwartalne'!E88","v":0},{"$f":"'Rozliczenie kwartalne'!G88","v":0},{"$f":"'Rozliczenie kwartalne'!H88","v":0},{"$f":"'Rozliczenie kwartalne'!I88","v":0},{"$f":"'Rozliczenie kwartalne'!J88","v":0},{"$f":"'Rozliczenie kwartalne'!K88","v":0},{"$f":"'Rozliczenie kwartalne'!L88","v":0},null,null,"53",0,0,0,0,0,0,0,0,0,0,0,"ok","ok",0,0]
[{"$f":"'Rozliczenie kwartalne'!A89","v":"54"},{"$f":"'Rozliczenie kwartalne'!B89","v":""},{"$f":"'Załącznik nr 2 do rozliczenia'!H82","v":0},{"$f":"IF('Załącznik nr 1 do rozliczenia'!H85<0,ABS('Załącznik nr 1 do rozliczenia'!H85),0)","v":0},{"$f":"'Rozliczenie kwartalne'!E89","v":0},{"$f":"'Rozliczenie kwartalne'!G89","v":0},{"$f":"'Rozliczenie kwartalne'!H89","v":0},{"$f":"'Rozliczenie kwartalne'!I89","v":0},{"$f":"'Rozliczenie kwartalne'!J89","v":0},{"$f":"'Rozliczenie kwartalne'!K89","v":0},{"$f":"'Rozliczenie kwartalne'!L89","v":0},null,null,"54",0,0,0,0,0,0,0,0,0,0,0,"ok","ok",0,0]
[{"$f":"'Rozliczenie kwartalne'!A90","v":"55"},{"$f":"'Rozliczenie kwartalne'!B90","v":""},{"$f":"'Załącznik nr 2 do rozliczenia'!H83","v":0},{"$f":"IF('Załącznik nr 1 do rozliczenia'!H86<0,ABS('Załącznik nr 1 do rozliczenia'!H86),0)","v":0},{"$f":"'Rozliczenie kwartalne'!E90","v":0},{"$f":"'Rozliczenie kwartalne'!G90","v":0},{"$f":"'Rozliczenie kwartalne'!H90","v":0},{"$f":"'Rozliczenie kwartalne'!I90","v":0},{"$f":"'Rozliczenie kwartalne'!J90","v":0},{"$f":"'Rozliczenie kwartalne'!K90","v":0},{"$f":"'Rozliczenie kwartalne'!L90","v":0},null,null,"55",0,0,0,0,0,0,0,0,0,0,0,"ok","ok",0,0]
[{"$f":"'Rozliczenie kwartalne'!A91","v":"56"},{"$f":"'Rozliczenie kwartalne'!B91","v":""},{"$f":"'Załącznik nr 2 do rozliczenia'!H84","v":0},{"$f":"IF('Załącznik nr 1 do rozliczenia'!H87<0,ABS('Załącznik nr 1 do rozliczenia'!H87),0)","v":0},{"$f":"'Rozliczenie kwartalne'!E91","v":0},{"$f":"'Rozliczenie kwartalne'!G91","v":0},{"$f":"'Rozliczenie kwartalne'!H91","v":0},{"$f":"'Rozliczenie kwartalne'!I91","v":0},{"$f":"'Rozliczenie kwartalne'!J91","v":0},{"$f":"'Rozliczenie kwartalne'!K91","v":0},{"$f":"'Rozliczenie kwartalne'!L91","v":0},null,null,"56",0,0,0,0,0,0,0,0,0,0,0,"ok","ok",0,0]
[{"$f":"'Rozliczenie kwartalne'!A92","v":"57"},{"$f":"'Rozliczenie kwartalne'!B92","v":""},{"$f":"'Załącznik nr 2 do rozliczenia'!H85","v":0},{"$f":"IF('Załącznik nr 1 do rozliczenia'!H88<0,ABS('Załącznik nr 1 do rozliczenia'!H88),0)","v":0},{"$f":"'Rozliczenie kwartalne'!E92","v":0},{"$f":"'Rozliczenie kwartalne'!G92","v":0},{"$f":"'Rozliczenie kwartalne'!H92","v":0},{"$f":"'Rozliczenie kwartalne'!I92","v":0},{"$f":"'Rozliczenie kwartalne'!J92","v":0},{"$f":"'Rozliczenie kwartalne'!K92","v":0},{"$f":"'Rozliczenie kwartalne'!L92","v":0},null,null,"57",0,0,0,0,0,0,0,0,0,0,0,"ok","ok",0,0]
[{"$f":"'Rozliczenie kwartalne'!A93","v":"58"},{"$f":"'Rozliczenie kwartalne'!B93","v":""},{"$f":"'Załącznik nr 2 do rozliczenia'!H86","v":0},{"$f":"IF('Załącznik nr 1 do rozliczenia'!H89<0,ABS('Załącznik nr 1 do rozliczenia'!H89),0)","v":0},{"$f":"'Rozliczenie kwartalne'!E93","v":0},{"$f":"'Rozliczenie kwartalne'!G93","v":0},{"$f":"'Rozliczenie kwartalne'!H93","v":0},{"$f":"'Rozliczenie kwartalne'!I93","v":0},{"$f":"'Rozliczenie kwartalne'!J93","v":0},{"$f":"'Rozliczenie kwartalne'!K93","v":0},{"$f":"'Rozliczenie kwartalne'!L93","v":0},null,null,"58",0,0,0,0,0,0,0,0,0,0,0,"ok","ok",0,0]
[{"$f":"'Rozliczenie kwartalne'!A94","v":"59"},{"$f":"'Rozliczenie kwartalne'!B94","v":""},{"$f":"'Załącznik nr 2 do rozliczenia'!H87","v":0},{"$f":"IF('Załącznik nr 1 do rozliczenia'!H90<0,ABS('Załącznik nr 1 do rozliczenia'!H90),0)","v":0},{"$f":"'Rozliczenie kwartalne'!E94","v":0},{"$f":"'Rozliczenie kwartalne'!G94","v":0},{"$f":"'Rozliczenie kwartalne'!H94","v":0},{"$f":"'Rozliczenie kwartalne'!I94","v":0},{"$f":"'Rozliczenie kwartalne'!J94","v":0},{"$f":"'Rozliczenie kwartalne'!K94","v":0},{"$f":"'Rozliczenie kwartalne'!L94","v":0},null,null,"59",0,0,0,0,0,0,0,0,0,0,0,"ok","ok",0,0]
[{"$f":"'Rozliczenie kwartalne'!A95","v":"60"},{"$f":"'Rozliczenie kwartalne'!B95","v":""},{"$f":"'Załącznik nr 2 do rozliczenia'!H88","v":0},{"$f":"IF('Załącznik nr 1 do rozliczenia'!H91<0,ABS('Załącznik nr 1 do rozliczenia'!H91),0)","v":0},{"$f":"'Rozliczenie kwartalne'!E95","v":0},{"$f":"'Rozliczenie kwartalne'!G95","v":0},{"$f":"'Rozliczenie kwartalne'!H95","v":0},{"$f":"'Rozliczenie kwartalne'!I95","v":0},{"$f":"'Rozliczenie kwartalne'!J95","v":0},{"$f":"'Rozliczenie kwartalne'!K95","v":0},{"$f":"'Rozliczenie kwartalne'!L95","v":0},null,null,"60",0,0,0,0,0,0,0,0,0,0,0,"ok","ok",0,0]
[{"$f":"'Rozliczenie kwartalne'!A96","v":"61"},{"$f":"'Rozliczenie kwartalne'!B96","v":""},{"$f":"'Załącznik nr 2 do rozliczenia'!H89","v":0},{"$f":"IF('Załącznik nr 1 do rozliczenia'!H92<0,ABS('Załącznik nr 1 do rozliczenia'!H92),0)","v":0},{"$f":"'Rozliczenie kwartalne'!E96","v":0},{"$f":"'Rozliczenie kwartalne'!G96","v":0},{"$f":"'Rozliczenie kwartalne'!H96","v":0},{"$f":"'Rozliczenie kwartalne'!I96","v":0},{"$f":"'Rozliczenie kwartalne'!J96","v":0},{"$f":"'Rozliczenie kwartalne'!K96","v":0},{"$f":"'Rozliczenie kwartalne'!L96","v":0},null,null,"61",0,{"$f":"F63","v":0},{"$f":"IFERROR(P63/O63,0)","v":0},0,0,0,0,0,0,0,0,"ok","ok",0,0]
[{"$f":"'Rozliczenie kwartalne'!A97","v":"62"},{"$f":"'Rozliczenie kwartalne'!B97","v":""},{"$f":"'Załącznik nr 2 do rozliczenia'!H90","v":0},{"$f":"IF('Załącznik nr 1 do rozliczenia'!H93<0,ABS('Załącznik nr 1 do rozliczenia'!H93),0)","v":0},{"$f":"'Rozliczenie kwartalne'!E97","v":0},{"$f":"'Rozliczenie kwartalne'!G97","v":0},{"$f":"'Rozliczenie kwartalne'!H97","v":0},{"$f":"'Rozliczenie kwartalne'!I97","v":0},{"$f":"'Rozliczenie kwartalne'!J97","v":0},{"$f":"'Rozliczenie kwartalne'!K97","v":0},{"$f":"'Rozliczenie kwartalne'!L97","v":0},null,null,"62",0,{"$f":"F64","v":0},{"$f":"IFERROR(P64/O64,0)","v":0},0,0,0,0,0,0,0,{"$f":"O64*0.1","v":0},{"$f":"IF(P64>=Y64,$M$1,$M$2)","v":"ok"},{"$f":"IF(W64<=$L$3,$M$1,$M$2)","v":"ok"},0,0]
[{"$f":"'Rozliczenie kwartalne'!A98","v":"63"},{"$f":"'Rozliczenie kwartalne'!B98","v":""},{"$f":"'Załącznik nr 2 do rozliczenia'!H91","v":0},{"$f":"IF('Załącznik nr 1 do rozliczenia'!H94<0,ABS('Załącznik nr 1 do rozliczenia'!H94),0)","v":0},{"$f":"'Rozliczenie kwartalne'!E98","v":0},{"$f":"'Rozliczenie kwartalne'!G98","v":0},{"$f":"'Rozliczenie kwartalne'!H98","v":0},{"$f":"'Rozliczenie kwartalne'!I98","v":0},{"$f":"'Rozliczenie kwartalne'!J98","v":0},{"$f":"'Rozliczenie kwartalne'!K98","v":0},{"$f":"'Rozliczenie kwartalne'!L98","v":0},null,null,"63",0,0,0,0,0,0,0,0,0,0,0,"ok","ok",0,0]
[{"$f":"'Rozliczenie kwartalne'!A99","v":"64"},{"$f":"'Rozliczenie kwartalne'!B99","v":""},{"$f":"'Załącznik nr 2 do rozliczenia'!H92","v":0},{"$f":"IF('Załącznik nr 1 do rozliczenia'!H95<0,ABS('Załącznik nr 1 do rozliczenia'!H95),0)","v":0},{"$f":"'Rozliczenie kwartalne'!E99","v":0},{"$f":"'Rozliczenie kwartalne'!G99","v":0},{"$f":"'Rozliczenie kwartalne'!H99","v":0},{"$f":"'Rozliczenie kwartalne'!I99","v":0},{"$f":"'Rozliczenie kwartalne'!J99","v":0},{"$f":"'Rozliczenie kwartalne'!K99","v":0},{"$f":"'Rozliczenie kwartalne'!L99","v":0},null,null,{"$f":"A66","v":"64"},0,0,0,0,0,0,0,0,0,0,0,"ok","ok",0,0]
[{"$f":"'Rozliczenie kwartalne'!A100","v":"65"},{"$f":"'Rozliczenie kwartalne'!B100","v":""},{"$f":"'Załącznik nr 2 do rozliczenia'!H93","v":0},{"$f":"IF('Załącznik nr 1 do rozliczenia'!H96<0,ABS('Załącznik nr 1 do rozliczenia'!H96),0)","v":0},{"$f":"'Rozliczenie kwartalne'!E100","v":0},{"$f":"'Rozliczenie kwartalne'!G100","v":0},{"$f":"'Rozliczenie kwartalne'!H100","v":0},{"$f":"'Rozliczenie kwartalne'!I100","v":0},{"$f":"'Rozliczenie kwartalne'!J100","v":0},{"$f":"'Rozliczenie kwartalne'!K100","v":0},{"$f":"'Rozliczenie kwartalne'!L100","v":0},null,null,"65",{"$f":"IFERROR(D67/C67,0)","v":0},0,0,{"$f":"P67*C67","v":0},{"$f":"E67*C67","v":0},{"$f":"IFERROR(V67*C67,0)","v":0},{"$f":"V67*C67","v":0},{"$f":"IFERROR(IF((D67-H67)/C67>=$L$3,$L$3,(D67-H67)/C67),0)","v":0},0,{"$f":"D67*0.1","v":0},0,"ok","ok",{"$f":"(T67+R67)-D67","v":0},{"$f":"D67-S67","v":0}]
[{"$f":"'Rozliczenie kwartalne'!A101","v":"66"},{"$f":"'Rozliczenie kwartalne'!B101","v":""},{"$f":"'Załącznik nr 2 do rozliczenia'!H94","v":0},{"$f":"IF('Załącznik nr 1 do rozliczenia'!H97<0,ABS('Załącznik nr 1 do rozliczenia'!H97),0)","v":0},{"$f":"'Rozliczenie kwartalne'!E101","v":0},{"$f":"'Rozliczenie kwartalne'!G101","v":0},{"$f":"'Rozliczenie kwartalne'!H101","v":0},{"$f":"'Rozliczenie kwartalne'!I101","v":0},{"$f":"'Rozliczenie kwartalne'!J101","v":0},{"$f":"'Rozliczenie kwartalne'!K101","v":0},{"$f":"'Rozliczenie kwartalne'!L101","v":0},null,null,"66",0,0,0,0,0,0,0,0,{"$f":"IFERROR(ROUND(J68/C68,2),0)","v":0},0,0,"ok","ok",0,0]
[{"$f":"'Rozliczenie kwartalne'!A102","v":"67"},{"$f":"'Rozliczenie kwartalne'!B102","v":""},{"$f":"'Załącznik nr 2 do rozliczenia'!H95","v":0},{"$f":"IF('Załącznik nr 1 do rozliczenia'!H98<0,ABS('Załącznik nr 1 do rozliczenia'!H98),0)","v":0},{"$f":"'Rozliczenie kwartalne'!E102","v":0},{"$f":"'Rozliczenie kwartalne'!G102","v":0},{"$f":"'Rozliczenie kwartalne'!H102","v":0},{"$f":"'Rozliczenie kwartalne'!I102","v":0},{"$f":"'Rozliczenie kwartalne'!J102","v":0},{"$f":"'Rozliczenie kwartalne'!K102","v":0},{"$f":"'Rozliczenie kwartalne'!L102","v":0},null,null,"67",0,0,0,0,0,0,0,0,0,0,0,"ok","ok",0,0]
[{"$f":"'Rozliczenie kwartalne'!A103","v":"68"},{"$f":"'Rozliczenie kwartalne'!B103","v":""},{"$f":"'Załącznik nr 2 do rozliczenia'!H96","v":0},{"$f":"IF('Załącznik nr 1 do rozliczenia'!H99<0,ABS('Załącznik nr 1 do rozliczenia'!H99),0)","v":0},{"$f":"'Rozliczenie kwartalne'!E103","v":0},{"$f":"'Rozliczenie kwartalne'!G103","v":0},{"$f":"'Rozliczenie kwartalne'!H103","v":0},{"$f":"'Rozliczenie kwartalne'!I103","v":0},{"$f":"'Rozliczenie kwartalne'!J103","v":0},{"$f":"'Rozliczenie kwartalne'!K103","v":0},{"$f":"'Rozliczenie kwartalne'!L103","v":0},null,null,"68",0,0,0,0,0,0,0,0,0,0,0,"ok","ok",0,0]
[{"$f":"'Rozliczenie kwartalne'!A104","v":"69"},{"$f":"'Rozliczenie kwartalne'!B104","v":""},{"$f":"'Załącznik nr 2 do rozliczenia'!H97","v":0},{"$f":"IF('Załącznik nr 1 do rozliczenia'!H100<0,ABS('Załącznik nr 1 do rozliczenia'!H100),0)","v":0},{"$f":"'Rozliczenie kwartalne'!E104","v":0},{"$f":"'Rozliczenie kwartalne'!G104","v":0},{"$f":"'Rozliczenie kwartalne'!H104","v":0},{"$f":"'Rozliczenie kwartalne'!I104","v":0},{"$f":"'Rozliczenie kwartalne'!J104","v":0},{"$f":"'Rozliczenie kwartalne'!K104","v":0},{"$f":"'Rozliczenie kwartalne'!L104","v":0},null,null,"69",0,0,0,0,0,0,0,0,0,0,0,"ok","ok",0,0]
[{"$f":"'Rozliczenie kwartalne'!A105","v":"70"},{"$f":"'Rozliczenie kwartalne'!B105","v":""},{"$f":"'Załącznik nr 2 do rozliczenia'!H98","v":0},{"$f":"IF('Załącznik nr 1 do rozliczenia'!H101<0,ABS('Załącznik nr 1 do rozliczenia'!H101),0)","v":0},{"$f":"'Rozliczenie kwartalne'!E105","v":0},{"$f":"'Rozliczenie kwartalne'!G105","v":0},{"$f":"'Rozliczenie kwartalne'!H105","v":0},{"$f":"'Rozliczenie kwartalne'!I105","v":0},{"$f":"'Rozliczenie kwartalne'!J105","v":0},{"$f":"'Rozliczenie kwartalne'!K105","v":0},{"$f":"'Rozliczenie kwartalne'!L105","v":0},null,null,"70",0,0,0,0,0,0,0,0,0,0,0,"ok","ok",0,0]
[{"$f":"'Rozliczenie kwartalne'!A106","v":"71"},{"$f":"'Rozliczenie kwartalne'!B106","v":""},{"$f":"'Załącznik nr 2 do rozliczenia'!H99","v":0},{"$f":"IF('Załącznik nr 1 do rozliczenia'!H102<0,ABS('Załącznik nr 1 do rozliczenia'!H102),0)","v":0},{"$f":"'Rozliczenie kwartalne'!E106","v":0},{"$f":"'Rozliczenie kwartalne'!G106","v":0},{"$f":"'Rozliczenie kwartalne'!H106","v":0},{"$f":"'Rozliczenie kwartalne'!I106","v":0},{"$f":"'Rozliczenie kwartalne'!J106","v":0},{"$f":"'Rozliczenie kwartalne'!K106","v":0},{"$f":"'Rozliczenie kwartalne'!L106","v":0},null,null,"71",0,{"$f":"F73","v":0},{"$f":"IFERROR(P73/O73,0)","v":0},0,0,0,0,0,0,0,0,"ok","ok",0,0]
[{"$f":"'Rozliczenie kwartalne'!A107","v":"72"},{"$f":"'Rozliczenie kwartalne'!B107","v":""},{"$f":"'Załącznik nr 2 do rozliczenia'!H100","v":0},{"$f":"IF('Załącznik nr 1 do rozliczenia'!H103<0,ABS('Załącznik nr 1 do rozliczenia'!H103),0)","v":0},{"$f":"'Rozliczenie kwartalne'!E107","v":0},{"$f":"'Rozliczenie kwartalne'!G107","v":0},{"$f":"'Rozliczenie kwartalne'!H107","v":0},{"$f":"'Rozliczenie kwartalne'!I107","v":0},{"$f":"'Rozliczenie kwartalne'!J107","v":0},{"$f":"'Rozliczenie kwartalne'!K107","v":0},{"$f":"'Rozliczenie kwartalne'!L107","v":0},null,null,"72",0,{"$f":"F74","v":0},{"$f":"IFERROR(P74/O74,0)","v":0},0,0,0,0,0,0,0,0,"ok","ok",0,0]
[{"$f":"'Rozliczenie kwartalne'!A108","v":"73"},{"$f":"'Rozliczenie kwartalne'!B108","v":""},{"$f":"'Załącznik nr 2 do rozliczenia'!H101","v":0},{"$f":"IF('Załącznik nr 1 do rozliczenia'!H104<0,ABS('Załącznik nr 1 do rozliczenia'!H104),0)","v":0},{"$f":"'Rozliczenie kwartalne'!E108","v":0},{"$f":"'Rozliczenie kwartalne'!G108","v":0},{"$f":"'Rozliczenie kwartalne'!H108","v":0},{"$f":"'Rozliczenie kwartalne'!I108","v":0},{"$f":"'Rozliczenie kwartalne'!J108","v":0},{"$f":"'Rozliczenie kwartalne'!K108","v":0},{"$f":"'Rozliczenie kwartalne'!L108","v":0},null,null,"73",0,0,0,0,0,0,0,0,0,0,0,"ok","ok",0,0]
[{"$f":"'Rozliczenie kwartalne'!A109","v":"74"},{"$f":"'Rozliczenie kwartalne'!B109","v":""},{"$f":"'Załącznik nr 2 do rozliczenia'!H102","v":0},{"$f":"IF('Załącznik nr 1 do rozliczenia'!H105<0,ABS('Załącznik nr 1 do rozliczenia'!H105),0)","v":0},{"$f":"'Rozliczenie kwartalne'!E109","v":0},{"$f":"'Rozliczenie kwartalne'!G109","v":0},{"$f":"'Rozliczenie kwartalne'!H109","v":0},{"$f":"'Rozliczenie kwartalne'!I109","v":0},{"$f":"'Rozliczenie kwartalne'!J109","v":0},{"$f":"'Rozliczenie kwartalne'!K109","v":0},{"$f":"'Rozliczenie kwartalne'!L109","v":0},null,null,{"$f":"A76","v":"74"},0,0,0,0,0,0,0,0,0,0,0,"ok","ok",0,0]
[{"$f":"'Rozliczenie kwartalne'!A110","v":"75"},{"$f":"'Rozliczenie kwartalne'!B110","v":""},{"$f":"'Załącznik nr 2 do rozliczenia'!H103","v":0},{"$f":"IF('Załącznik nr 1 do rozliczenia'!H106<0,ABS('Załącznik nr 1 do rozliczenia'!H106),0)","v":0},{"$f":"'Rozliczenie kwartalne'!E110","v":0},{"$f":"'Rozliczenie kwartalne'!G110","v":0},{"$f":"'Rozliczenie kwartalne'!H110","v":0},{"$f":"'Rozliczenie kwartalne'!I110","v":0},{"$f":"'Rozliczenie kwartalne'!J110","v":0},{"$f":"'Rozliczenie kwartalne'!K110","v":0},{"$f":"'Rozliczenie kwartalne'!L110","v":0},null,null,"75",0,0,0,0,0,0,0,0,0,0,0,"ok","ok",0,0]
[{"$f":"'Rozliczenie kwartalne'!A111","v":"76"},{"$f":"'Rozliczenie kwartalne'!B111","v":""},{"$f":"'Załącznik nr 2 do rozliczenia'!H104","v":0},{"$f":"IF('Załącznik nr 1 do rozliczenia'!H107<0,ABS('Załącznik nr 1 do rozliczenia'!H107),0)","v":0},{"$f":"'Rozliczenie kwartalne'!E111","v":0},{"$f":"'Rozliczenie kwartalne'!G111","v":0},{"$f":"'Rozliczenie kwartalne'!H111","v":0},{"$f":"'Rozliczenie kwartalne'!I111","v":0},{"$f":"'Rozliczenie kwartalne'!J111","v":0},{"$f":"'Rozliczenie kwartalne'!K111","v":0},{"$f":"'Rozliczenie kwartalne'!L111","v":0},null,null,"76",0,0,0,0,0,0,0,0,0,0,0,"ok","ok",0,0]
[{"$f":"'Rozliczenie kwartalne'!A112","v":"77"},{"$f":"'Rozliczenie kwartalne'!B112","v":""},{"$f":"'Załącznik nr 2 do rozliczenia'!H105","v":0},{"$f":"IF('Załącznik nr 1 do rozliczenia'!H108<0,ABS('Załącznik nr 1 do rozliczenia'!H108),0)","v":0},{"$f":"'Rozliczenie kwartalne'!E112","v":0},{"$f":"'Rozliczenie kwartalne'!G112","v":0},{"$f":"'Rozliczenie kwartalne'!H112","v":0},{"$f":"'Rozliczenie kwartalne'!I112","v":0},{"$f":"'Rozliczenie kwartalne'!J112","v":0},{"$f":"'Rozliczenie kwartalne'!K112","v":0},{"$f":"'Rozliczenie kwartalne'!L112","v":0},null,null,"77",0,0,0,0,0,0,0,0,0,0,0,"ok","ok",0,0]
[{"$f":"'Rozliczenie kwartalne'!A113","v":"78"},{"$f":"'Rozliczenie kwartalne'!B113","v":""},{"$f":"'Załącznik nr 2 do rozliczenia'!H106","v":0},{"$f":"IF('Załącznik nr 1 do rozliczenia'!H109<0,ABS('Załącznik nr 1 do rozliczenia'!H109),0)","v":0},{"$f":"'Rozliczenie kwartalne'!E113","v":0},{"$f":"'Rozliczenie kwartalne'!G113","v":0},{"$f":"'Rozliczenie kwartalne'!H113","v":0},{"$f":"'Rozliczenie kwartalne'!I113","v":0},{"$f":"'Rozliczenie kwartalne'!J113","v":0},{"$f":"'Rozliczenie kwartalne'!K113","v":0},{"$f":"'Rozliczenie kwartalne'!L113","v":0},null,null,"78",0,0,0,0,0,0,0,0,0,0,0,"ok","ok",0,0]
[{"$f":"'Rozliczenie kwartalne'!A114","v":"79"},{"$f":"'Rozliczenie kwartalne'!B114","v":""},{"$f":"'Załącznik nr 2 do rozliczenia'!H107","v":0},{"$f":"IF('Załącznik nr 1 do rozliczenia'!H110<0,ABS('Załącznik nr 1 do rozliczenia'!H110),0)","v":0},{"$f":"'Rozliczenie kwartalne'!E114","v":0},{"$f":"'Rozliczenie kwartalne'!G114","v":0},{"$f":"'Rozliczenie kwartalne'!H114","v":0},{"$f":"'Rozliczenie kwartalne'!I114","v":0},{"$f":"'Rozliczenie kwartalne'!J114","v":0},{"$f":"'Rozliczenie kwartalne'!K114","v":0},{"$f":"'Rozliczenie kwartalne'!L114","v":0},null,null,"79",0,0,0,0,0,0,0,0,0,0,0,"ok","ok",0,0]
[{"$f":"'Rozliczenie kwartalne'!A115","v":"80"},{"$f":"'Rozliczenie kwartalne'!B115","v":""},{"$f":"'Załącznik nr 2 do rozliczenia'!H108","v":0},{"$f":"IF('Załącznik nr 1 do rozliczenia'!H111<0,ABS('Załącznik nr 1 do rozliczenia'!H111),0)","v":0},{"$f":"'Rozliczenie kwartalne'!E115","v":0},{"$f":"'Rozliczenie kwartalne'!G115","v":0},{"$f":"'Rozliczenie kwartalne'!H115","v":0},{"$f":"'Rozliczenie kwartalne'!I115","v":0},{"$f":"'Rozliczenie kwartalne'!J115","v":0},{"$f":"'Rozliczenie kwartalne'!K115","v":0},{"$f":"'Rozliczenie kwartalne'!L115","v":0},null,null,"80",0,0,0,0,0,0,0,0,0,0,0,"ok","ok",0,0]
[{"$f":"'Rozliczenie kwartalne'!A116","v":"81"},{"$f":"'Rozliczenie kwartalne'!B116","v":""},{"$f":"'Załącznik nr 2 do rozliczenia'!H109","v":0},{"$f":"IF('Załącznik nr 1 do rozliczenia'!H112<0,ABS('Załącznik nr 1 do rozliczenia'!H112),0)","v":0},{"$f":"'Rozliczenie kwartalne'!E116","v":0},{"$f":"'Rozliczenie kwartalne'!G116","v":0},{"$f":"'Rozliczenie kwartalne'!H116","v":0},{"$f":"'Rozliczenie kwartalne'!I116","v":0},{"$f":"'Rozliczenie kwartalne'!J116","v":0},{"$f":"'Rozliczenie kwartalne'!K116","v":0},{"$f":"'Rozliczenie kwartalne'!L116","v":0},null,null,"81",0,0,0,0,0,0,0,0,0,0,0,"ok","ok",0,0]
[{"$f":"'Rozliczenie kwartalne'!A117","v":"82"},{"$f":"'Rozliczenie kwartalne'!B117","v":""},{"$f":"'Załącznik nr 2 do rozliczenia'!H110","v":0},{"$f":"IF('Załącznik nr 1 do rozliczenia'!H113<0,ABS('Załącznik nr 1 do rozliczenia'!H113),0)","v":0},{"$f":"'Rozliczenie kwartalne'!E117","v":0},{"$f":"'Rozliczenie kwartalne'!G117","v":0},{"$f":"'Rozliczenie kwartalne'!H117","v":0},{"$f":"'Rozliczenie kwartalne'!I117","v":0},{"$f":"'Rozliczenie kwartalne'!J117","v":0},{"$f":"'Rozliczenie kwartalne'!K117","v":0},{"$f":"'Rozliczenie kwartalne'!L117","v":0},null,null,"82",0,0,0,0,0,0,0,0,0,0,0,"ok","ok",0,0]
[{"$f":"'Rozliczenie kwartalne'!A118","v":"83"},{"$f":"'Rozliczenie kwartalne'!B118","v":""},{"$f":"'Załącznik nr 2 do rozliczenia'!H111","v":0},{"$f":"IF('Załącznik nr 1 do rozliczenia'!H114<0,ABS('Załącznik nr 1 do rozliczenia'!H114),0)","v":0},{"$f":"'Rozliczenie kwartalne'!E118","v":0},{"$f":"'Rozliczenie kwartalne'!G118","v":0},{"$f":"'Rozliczenie kwartalne'!H118","v":0},{"$f":"'Rozliczenie kwartalne'!I118","v":0},{"$f":"'Rozliczenie kwartalne'!J118","v":0},{"$f":"'Rozliczenie kwartalne'!K118","v":0},{"$f":"'Rozliczenie kwartalne'!L118","v":0},null,null,"83",0,0,0,0,0,0,0,0,0,0,0,"ok","ok",0,0]
[{"$f":"'Rozliczenie kwartalne'!A119","v":"84"},{"$f":"'Rozliczenie kwartalne'!B119","v":""},{"$f":"'Załącznik nr 2 do rozliczenia'!H112","v":0},{"$f":"IF('Załącznik nr 1 do rozliczenia'!H115<0,ABS('Załącznik nr 1 do rozliczenia'!H115),0)","v":0},{"$f":"'Rozliczenie kwartalne'!E119","v":0},{"$f":"'Rozliczenie kwartalne'!G119","v":0},{"$f":"'Rozliczenie kwartalne'!H119","v":0},{"$f":"'Rozliczenie kwartalne'!I119","v":0},{"$f":"'Rozliczenie kwartalne'!J119","v":0},{"$f":"'Rozliczenie kwartalne'!K119","v":0},{"$f":"'Rozliczenie kwartalne'!L119","v":0},null,null,"84",0,0,0,0,0,0,0,0,0,0,0,"ok","ok",0,0]
[{"$f":"'Rozliczenie kwartalne'!A120","v":"85"},{"$f":"'Rozliczenie kwartalne'!B120","v":""},{"$f":"'Załącznik nr 2 do rozliczenia'!H113","v":0},{"$f":"IF('Załącznik nr 1 do rozliczenia'!H116<0,ABS('Załącznik nr 1 do rozliczenia'!H116),0)","v":0},{"$f":"'Rozliczenie kwartalne'!E120","v":0},{"$f":"'Rozliczenie kwartalne'!G120","v":0},{"$f":"'Rozliczenie kwartalne'!H120","v":0},{"$f":"'Rozliczenie kwartalne'!I120","v":0},{"$f":"'Rozliczenie kwartalne'!J120","v":0},{"$f":"'Rozliczenie kwartalne'!K120","v":0},{"$f":"'Rozliczenie kwartalne'!L120","v":0},null,null,"85",0,0,0,0,0,0,0,0,0,0,0,"ok","ok",0,0]
[{"$f":"'Rozliczenie kwartalne'!A121","v":"86"},{"$f":"'Rozliczenie kwartalne'!B121","v":""},{"$f":"'Załącznik nr 2 do rozliczenia'!H114","v":0},{"$f":"IF('Załącznik nr 1 do rozliczenia'!H117<0,ABS('Załącznik nr 1 do rozliczenia'!H117),0)","v":0},{"$f":"'Rozliczenie kwartalne'!E121","v":0},{"$f":"'Rozliczenie kwartalne'!G121","v":0},{"$f":"'Rozliczenie kwartalne'!H121","v":0},{"$f":"'Rozliczenie kwartalne'!I121","v":0},{"$f":"'Rozliczenie kwartalne'!J121","v":0},{"$f":"'Rozliczenie kwartalne'!K121","v":0},{"$f":"'Rozliczenie kwartalne'!L121","v":0},null,null,"86",0,0,0,0,0,0,0,0,0,0,0,"ok","ok",0,0]
[{"$f":"'Rozliczenie kwartalne'!A122","v":"87"},{"$f":"'Rozliczenie kwartalne'!B122","v":""},{"$f":"'Załącznik nr 2 do rozliczenia'!H115","v":0},{"$f":"IF('Załącznik nr 1 do rozliczenia'!H118<0,ABS('Załącznik nr 1 do rozliczenia'!H118),0)","v":0},{"$f":"'Rozliczenie kwartalne'!E122","v":0},{"$f":"'Rozliczenie kwartalne'!G122","v":0},{"$f":"'Rozliczenie kwartalne'!H122","v":0},{"$f":"'Rozliczenie kwartalne'!I122","v":0},{"$f":"'Rozliczenie kwartalne'!J122","v":0},{"$f":"'Rozliczenie kwartalne'!K122","v":0},{"$f":"'Rozliczenie kwartalne'!L122","v":0},null,null,"87",0,0,0,0,0,0,0,0,0,0,0,"ok","ok",0,0]
[{"$f":"'Rozliczenie kwartalne'!A123","v":"88"},{"$f":"'Rozliczenie kwartalne'!B123","v":""},{"$f":"'Załącznik nr 2 do rozliczenia'!H116","v":0},{"$f":"IF('Załącznik nr 1 do rozliczenia'!H119<0,ABS('Załącznik nr 1 do rozliczenia'!H119),0)","v":0},{"$f":"'Rozliczenie kwartalne'!E123","v":0},{"$f":"'Rozliczenie kwartalne'!G123","v":0},{"$f":"'Rozliczenie kwartalne'!H123","v":0},{"$f":"'Rozliczenie kwartalne'!I123","v":0},{"$f":"'Rozliczenie kwartalne'!J123","v":0},{"$f":"'Rozliczenie kwartalne'!K123","v":0},{"$f":"'Rozliczenie kwartalne'!L123","v":0},null,null,"88",0,0,0,0,0,0,0,0,0,0,0,"ok","ok",0,0]
[{"$f":"'Rozliczenie kwartalne'!A124","v":"89"},{"$f":"'Rozliczenie kwartalne'!B124","v":""},{"$f":"'Załącznik nr 2 do rozliczenia'!H117","v":0},{"$f":"IF('Załącznik nr 1 do rozliczenia'!H120<0,ABS('Załącznik nr 1 do rozliczenia'!H120),0)","v":0},{"$f":"'Rozliczenie kwartalne'!E124","v":0},{"$f":"'Rozliczenie kwartalne'!G124","v":0},{"$f":"'Rozliczenie kwartalne'!H124","v":0},{"$f":"'Rozliczenie kwartalne'!I124","v":0},{"$f":"'Rozliczenie kwartalne'!J124","v":0},{"$f":"'Rozliczenie kwartalne'!K124","v":0},{"$f":"'Rozliczenie kwartalne'!L124","v":0},null,null,"89",0,0,0,0,0,0,0,0,0,0,0,"ok","ok",0,0]
[{"$f":"'Rozliczenie kwartalne'!A125","v":"90"},{"$f":"'Rozliczenie kwartalne'!B125","v":""},{"$f":"'Załącznik nr 2 do rozliczenia'!H118","v":0},{"$f":"IF('Załącznik nr 1 do rozliczenia'!H121<0,ABS('Załącznik nr 1 do rozliczenia'!H121),0)","v":0},{"$f":"'Rozliczenie kwartalne'!E125","v":0},{"$f":"'Rozliczenie kwartalne'!G125","v":0},{"$f":"'Rozliczenie kwartalne'!H125","v":0},{"$f":"'Rozliczenie kwartalne'!I125","v":0},{"$f":"'Rozliczenie kwartalne'!J125","v":0},{"$f":"'Rozliczenie kwartalne'!K125","v":0},{"$f":"'Rozliczenie kwartalne'!L125","v":0},null,null,"90",0,0,0,0,0,0,0,0,0,0,0,"ok","ok",0,0]
[{"$f":"'Rozliczenie kwartalne'!A126","v":"91"},{"$f":"'Rozliczenie kwartalne'!B126","v":""},{"$f":"'Załącznik nr 2 do rozliczenia'!H119","v":0},{"$f":"IF('Załącznik nr 1 do rozliczenia'!H122<0,ABS('Załącznik nr 1 do rozliczenia'!H122),0)","v":0},{"$f":"'Rozliczenie kwartalne'!E126","v":0},{"$f":"'Rozliczenie kwartalne'!G126","v":0},{"$f":"'Rozliczenie kwartalne'!H126","v":0},{"$f":"'Rozliczenie kwartalne'!I126","v":0},{"$f":"'Rozliczenie kwartalne'!J126","v":0},{"$f":"'Rozliczenie kwartalne'!K126","v":0},{"$f":"'Rozliczenie kwartalne'!L126","v":0},null,null,"91",0,0,0,0,0,0,0,0,0,0,0,"ok","ok",0,0]
[{"$f":"'Rozliczenie kwartalne'!A127","v":"92"},{"$f":"'Rozliczenie kwartalne'!B127","v":""},{"$f":"'Załącznik nr 2 do rozliczenia'!H120","v":0},{"$f":"IF('Załącznik nr 1 do rozliczenia'!H123<0,ABS('Załącznik nr 1 do rozliczenia'!H123),0)","v":0},{"$f":"'Rozliczenie kwartalne'!E127","v":0},{"$f":"'Rozliczenie kwartalne'!G127","v":0},{"$f":"'Rozliczenie kwartalne'!H127","v":0},{"$f":"'Rozliczenie kwartalne'!I127","v":0},{"$f":"'Rozliczenie kwartalne'!J127","v":0},{"$f":"'Rozliczenie kwartalne'!K127","v":0},{"$f":"'Rozliczenie kwartalne'!L127","v":0},null,null,"92",0,0,0,0,0,0,0,0,0,0,0,"ok","ok",0,0]
[{"$f":"'Rozliczenie kwartalne'!A128","v":"93"},{"$f":"'Rozliczenie kwartalne'!B128","v":""},{"$f":"'Załącznik nr 2 do rozliczenia'!H121","v":0},{"$f":"IF('Załącznik nr 1 do rozliczenia'!H124<0,ABS('Załącznik nr 1 do rozliczenia'!H124),0)","v":0},{"$f":"'Rozliczenie kwartalne'!E128","v":0},{"$f":"'Rozliczenie kwartalne'!G128","v":0},{"$f":"'Rozliczenie kwartalne'!H128","v":0},{"$f":"'Rozliczenie kwartalne'!I128","v":0},{"$f":"'Rozliczenie kwartalne'!J128","v":0},{"$f":"'Rozliczenie kwartalne'!K128","v":0},{"$f":"'Rozliczenie kwartalne'!L128","v":0},null,null,"93",0,0,0,0,0,0,0,0,0,0,0,"ok","ok",0,0]
[{"$f":"'Rozliczenie kwartalne'!A129","v":"94"},{"$f":"'Rozliczenie kwartalne'!B129","v":""},{"$f":"'Załącznik nr 2 do rozliczenia'!H122","v":0},{"$f":"IF('Załącznik nr 1 do rozliczenia'!H125<0,ABS('Załącznik nr 1 do rozliczenia'!H125),0)","v":0},{"$f":"'Rozliczenie kwartalne'!E129","v":0},{"$f":"'Rozliczenie kwartalne'!G129","v":0},{"$f":"'Rozliczenie kwartalne'!H129","v":0},{"$f":"'Rozliczenie kwartalne'!I129","v":0},{"$f":"'Rozliczenie kwartalne'!J129","v":0},{"$f":"'Rozliczenie kwartalne'!K129","v":0},{"$f":"'Rozliczenie kwartalne'!L129","v":0},null,null,"94",0,0,0,0,0,0,0,0,0,0,0,"ok","ok",0,0]
[{"$f":"'Rozliczenie kwartalne'!A130","v":"95"},{"$f":"'Rozliczenie kwartalne'!B130","v":""},{"$f":"'Załącznik nr 2 do rozliczenia'!H123","v":0},{"$f":"IF('Załącznik nr 1 do rozliczenia'!H126<0,ABS('Załącznik nr 1 do rozliczenia'!H126),0)","v":0},{"$f":"'Rozliczenie kwartalne'!E130","v":0},{"$f":"'Rozliczenie kwartalne'!G130","v":0},{"$f":"'Rozliczenie kwartalne'!H130","v":0},{"$f":"'Rozliczenie kwartalne'!I130","v":0},{"$f":"'Rozliczenie kwartalne'!J130","v":0},{"$f":"'Rozliczenie kwartalne'!K130","v":0},{"$f":"'Rozliczenie kwartalne'!L130","v":0},null,null,"95",0,0,0,0,0,0,0,0,0,0,0,"ok","ok",0,0]
[{"$f":"'Rozliczenie kwartalne'!A131","v":"96"},{"$f":"'Rozliczenie kwartalne'!B131","v":""},{"$f":"'Załącznik nr 2 do rozliczenia'!H124","v":0},{"$f":"IF('Załącznik nr 1 do rozliczenia'!H127<0,ABS('Załącznik nr 1 do rozliczenia'!H127),0)","v":0},{"$f":"'Rozliczenie kwartalne'!E131","v":0},{"$f":"'Rozliczenie kwartalne'!G131","v":0},{"$f":"'Rozliczenie kwartalne'!H131","v":0},{"$f":"'Rozliczenie kwartalne'!I131","v":0},{"$f":"'Rozliczenie kwartalne'!J131","v":0},{"$f":"'Rozliczenie kwartalne'!K131","v":0},{"$f":"'Rozliczenie kwartalne'!L131","v":0},null,null,"96",0,0,0,0,0,0,0,0,0,0,0,"ok","ok",0,0]
[{"$f":"'Rozliczenie kwartalne'!A132","v":"97"},{"$f":"'Rozliczenie kwartalne'!B132","v":""},{"$f":"'Załącznik nr 2 do rozliczenia'!H125","v":0},{"$f":"IF('Załącznik nr 1 do rozliczenia'!H128<0,ABS('Załącznik nr 1 do rozliczenia'!H128),0)","v":0},{"$f":"'Rozliczenie kwartalne'!E132","v":0},{"$f":"'Rozliczenie kwartalne'!G132","v":0},{"$f":"'Rozliczenie kwartalne'!H132","v":0},{"$f":"'Rozliczenie kwartalne'!I132","v":0},{"$f":"'Rozliczenie kwartalne'!J132","v":0},{"$f":"'Rozliczenie kwartalne'!K132","v":0},{"$f":"'Rozliczenie kwartalne'!L132","v":0},null,null,"97",{"$f":"IFERROR(D99/C99,0)","v":0},0,0,{"$f":"P99*C99","v":0},{"$f":"E99*C99","v":0},{"$f":"IFERROR(V99*C99,0)","v":0},{"$f":"V99*C99","v":0},{"$f":"IFERROR(IF((D99-H99)/C99>=$L$3,$L$3,(D99-H99)/C99),0)","v":0},0,{"$f":"D99*0.1","v":0},0,"ok","ok",{"$f":"(T99+R99)-D99","v":0},{"$f":"D99-S99","v":0}]
[{"$f":"'Rozliczenie kwartalne'!A133","v":"98"},{"$f":"'Rozliczenie kwartalne'!B133","v":""},{"$f":"'Załącznik nr 2 do rozliczenia'!H126","v":0},{"$f":"IF('Załącznik nr 1 do rozliczenia'!H129<0,ABS('Załącznik nr 1 do rozliczenia'!H129),0)","v":0},{"$f":"'Rozliczenie kwartalne'!E133","v":0},{"$f":"'Rozliczenie kwartalne'!G133","v":0},{"$f":"'Rozliczenie kwartalne'!H133","v":0},{"$f":"'Rozliczenie kwartalne'!I133","v":0},{"$f":"'Rozliczenie kwartalne'!J133","v":0},{"$f":"'Rozliczenie kwartalne'!K133","v":0},{"$f":"'Rozliczenie kwartalne'!L133","v":0},null,null,"98",0,0,0,0,0,0,0,0,0,0,0,"ok","ok",0,0]
[{"$f":"'Rozliczenie kwartalne'!A134","v":"99"},{"$f":"'Rozliczenie kwartalne'!B134","v":""},{"$f":"'Załącznik nr 2 do rozliczenia'!H127","v":0},{"$f":"IF('Załącznik nr 1 do rozliczenia'!H130<0,ABS('Załącznik nr 1 do rozliczenia'!H130),0)","v":0},{"$f":"'Rozliczenie kwartalne'!E134","v":0},{"$f":"'Rozliczenie kwartalne'!G134","v":0},{"$f":"'Rozliczenie kwartalne'!H134","v":0},{"$f":"'Rozliczenie kwartalne'!I134","v":0},{"$f":"'Rozliczenie kwartalne'!J134","v":0},{"$f":"'Rozliczenie kwartalne'!K134","v":0},{"$f":"'Rozliczenie kwartalne'!L134","v":0},null,null,"99",0,0,0,0,0,0,0,0,0,0,0,"ok","ok",0,0]
[{"$f":"'Rozliczenie kwartalne'!A135","v":"100"},{"$f":"'Rozliczenie kwartalne'!B135","v":""},{"$f":"'Załącznik nr 2 do rozliczenia'!H128","v":0},{"$f":"IF('Załącznik nr 1 do rozliczenia'!H131<0,ABS('Załącznik nr 1 do rozliczenia'!H131),0)","v":0},{"$f":"'Rozliczenie kwartalne'!E135","v":0},{"$f":"'Rozliczenie kwartalne'!G135","v":0},{"$f":"'Rozliczenie kwartalne'!H135","v":0},{"$f":"'Rozliczenie kwartalne'!I135","v":0},{"$f":"'Rozliczenie kwartalne'!J135","v":0},{"$f":"'Rozliczenie kwartalne'!K135","v":0},{"$f":"'Rozliczenie kwartalne'!L135","v":0},null,null,"100",0,0,0,0,0,0,0,0,0,0,0,"ok","ok",0,0]
[{"$f":"'Rozliczenie kwartalne'!A136","v":"101"},{"$f":"'Rozliczenie kwartalne'!B136","v":""},{"$f":"'Załącznik nr 2 do rozliczenia'!H129","v":0},{"$f":"IF('Załącznik nr 1 do rozliczenia'!H132<0,ABS('Załącznik nr 1 do rozliczenia'!H132),0)","v":0},{"$f":"'Rozliczenie kwartalne'!E136","v":0},{"$f":"'Rozliczenie kwartalne'!G136","v":0},{"$f":"'Rozliczenie kwartalne'!H136","v":0},{"$f":"'Rozliczenie kwartalne'!I136","v":0},{"$f":"'Rozliczenie kwartalne'!J136","v":0},{"$f":"'Rozliczenie kwartalne'!K136","v":0},{"$f":"'Rozliczenie kwartalne'!L136","v":0},null,null,"101",0,0,0,0,0,0,0,0,0,0,0,"ok","ok",0,0]
[{"$f":"'Rozliczenie kwartalne'!A137","v":"102"},{"$f":"'Rozliczenie kwartalne'!B137","v":""},{"$f":"'Załącznik nr 2 do rozliczenia'!H130","v":0},{"$f":"IF('Załącznik nr 1 do rozliczenia'!H133<0,ABS('Załącznik nr 1 do rozliczenia'!H133),0)","v":0},{"$f":"'Rozliczenie kwartalne'!E137","v":0},{"$f":"'Rozliczenie kwartalne'!G137","v":0},{"$f":"'Rozliczenie kwartalne'!H137","v":0},{"$f":"'Rozliczenie kwartalne'!I137","v":0},{"$f":"'Rozliczenie kwartalne'!J137","v":0},{"$f":"'Rozliczenie kwartalne'!K137","v":0},{"$f":"'Rozliczenie kwartalne'!L137","v":0},null,null,"102",0,0,0,0,0,0,0,0,0,0,0,"ok","ok",0,0]
[{"$f":"'Rozliczenie kwartalne'!A138","v":"103"},{"$f":"'Rozliczenie kwartalne'!B138","v":""},{"$f":"'Załącznik nr 2 do rozliczenia'!H131","v":0},{"$f":"IF('Załącznik nr 1 do rozliczenia'!H134<0,ABS('Załącznik nr 1 do rozliczenia'!H134),0)","v":0},{"$f":"'Rozliczenie kwartalne'!E138","v":0},{"$f":"'Rozliczenie kwartalne'!G138","v":0},{"$f":"'Rozliczenie kwartalne'!H138","v":0},{"$f":"'Rozliczenie kwartalne'!I138","v":0},{"$f":"'Rozliczenie kwartalne'!J138","v":0},{"$f":"'Rozliczenie kwartalne'!K138","v":0},{"$f":"'Rozliczenie kwartalne'!L138","v":0},null,null,"103",0,0,0,0,0,0,0,0,0,0,0,"ok","ok",0,0]
[{"$f":"'Rozliczenie kwartalne'!A139","v":"104"},{"$f":"'Rozliczenie kwartalne'!B139","v":""},{"$f":"'Załącznik nr 2 do rozliczenia'!H132","v":0},{"$f":"IF('Załącznik nr 1 do rozliczenia'!H135<0,ABS('Załącznik nr 1 do rozliczenia'!H135),0)","v":0},{"$f":"'Rozliczenie kwartalne'!E139","v":0},{"$f":"'Rozliczenie kwartalne'!G139","v":0},{"$f":"'Rozliczenie kwartalne'!H139","v":0},{"$f":"'Rozliczenie kwartalne'!I139","v":0},{"$f":"'Rozliczenie kwartalne'!J139","v":0},{"$f":"'Rozliczenie kwartalne'!K139","v":0},{"$f":"'Rozliczenie kwartalne'!L139","v":0},null,null,"104",0,0,0,0,0,0,0,0,0,0,0,"ok","ok",0,0]
[{"$f":"'Rozliczenie kwartalne'!A140","v":"105"},{"$f":"'Rozliczenie kwartalne'!B140","v":""},{"$f":"'Załącznik nr 2 do rozliczenia'!H133","v":0},{"$f":"IF('Załącznik nr 1 do rozliczenia'!H136<0,ABS('Załącznik nr 1 do rozliczenia'!H136),0)","v":0},{"$f":"'Rozliczenie kwartalne'!E140","v":0},{"$f":"'Rozliczenie kwartalne'!G140","v":0},{"$f":"'Rozliczenie kwartalne'!H140","v":0},{"$f":"'Rozliczenie kwartalne'!I140","v":0},{"$f":"'Rozliczenie kwartalne'!J140","v":0},{"$f":"'Rozliczenie kwartalne'!K140","v":0},{"$f":"'Rozliczenie kwartalne'!L140","v":0},null,null,"105",0,0,0,0,0,0,0,0,0,0,0,"ok","ok",0,0]
[{"$f":"'Rozliczenie kwartalne'!A141","v":"106"},{"$f":"'Rozliczenie kwartalne'!B141","v":""},{"$f":"'Załącznik nr 2 do rozliczenia'!H134","v":0},{"$f":"IF('Załącznik nr 1 do rozliczenia'!H137<0,ABS('Załącznik nr 1 do rozliczenia'!H137),0)","v":0},{"$f":"'Rozliczenie kwartalne'!E141","v":0},{"$f":"'Rozliczenie kwartalne'!G141","v":0},{"$f":"'Rozliczenie kwartalne'!H141","v":0},{"$f":"'Rozliczenie kwartalne'!I141","v":0},{"$f":"'Rozliczenie kwartalne'!J141","v":0},{"$f":"'Rozliczenie kwartalne'!K141","v":0},{"$f":"'Rozliczenie kwartalne'!L141","v":0},null,null,"106",0,0,0,0,0,0,0,0,0,0,0,"ok","ok",0,0]
[{"$f":"'Rozliczenie kwartalne'!A142","v":"107"},{"$f":"'Rozliczenie kwartalne'!B142","v":""},{"$f":"'Załącznik nr 2 do rozliczenia'!H135","v":0},{"$f":"IF('Załącznik nr 1 do rozliczenia'!H138<0,ABS('Załącznik nr 1 do rozliczenia'!H138),0)","v":0},{"$f":"'Rozliczenie kwartalne'!E142","v":0},{"$f":"'Rozliczenie kwartalne'!G142","v":0},{"$f":"'Rozliczenie kwartalne'!H142","v":0},{"$f":"'Rozliczenie kwartalne'!I142","v":0},{"$f":"'Rozliczenie kwartalne'!J142","v":0},{"$f":"'Rozliczenie kwartalne'!K142","v":0},{"$f":"'Rozliczenie kwartalne'!L142","v":0},null,null,"107",0,0,0,0,0,0,0,0,0,0,0,"ok","ok",0,0]
[{"$f":"'Rozliczenie kwartalne'!A143","v":"108"},{"$f":"'Rozliczenie kwartalne'!B143","v":""},{"$f":"'Załącznik nr 2 do rozliczenia'!H136","v":0},{"$f":"IF('Załącznik nr 1 do rozliczenia'!H139<0,ABS('Załącznik nr 1 do rozliczenia'!H139),0)","v":0},{"$f":"'Rozliczenie kwartalne'!E143","v":0},{"$f":"'Rozliczenie kwartalne'!G143","v":0},{"$f":"'Rozliczenie kwartalne'!H143","v":0},{"$f":"'Rozliczenie kwartalne'!I143","v":0},{"$f":"'Rozliczenie kwartalne'!J143","v":0},{"$f":"'Rozliczenie kwartalne'!K143","v":0},{"$f":"'Rozliczenie kwartalne'!L143","v":0},null,null,"108",0,0,0,0,0,0,0,0,0,0,0,"ok","ok",0,0]
[{"$f":"'Rozliczenie kwartalne'!A144","v":"109"},{"$f":"'Rozliczenie kwartalne'!B144","v":""},{"$f":"'Załącznik nr 2 do rozliczenia'!H137","v":0},{"$f":"IF('Załącznik nr 1 do rozliczenia'!H140<0,ABS('Załącznik nr 1 do rozliczenia'!H140),0)","v":0},{"$f":"'Rozliczenie kwartalne'!E144","v":0},{"$f":"'Rozliczenie kwartalne'!G144","v":0},{"$f":"'Rozliczenie kwartalne'!H144","v":0},{"$f":"'Rozliczenie kwartalne'!I144","v":0},{"$f":"'Rozliczenie kwartalne'!J144","v":0},{"$f":"'Rozliczenie kwartalne'!K144","v":0},{"$f":"'Rozliczenie kwartalne'!L144","v":0},null,null,"109",0,0,0,0,0,0,0,0,0,0,0,"ok","ok",0,0]
[{"$f":"'Rozliczenie kwartalne'!A145","v":"110"},{"$f":"'Rozliczenie kwartalne'!B145","v":""},{"$f":"'Załącznik nr 2 do rozliczenia'!H138","v":0},{"$f":"IF('Załącznik nr 1 do rozliczenia'!H141<0,ABS('Załącznik nr 1 do rozliczenia'!H141),0)","v":0},{"$f":"'Rozliczenie kwartalne'!E145","v":0},{"$f":"'Rozliczenie kwartalne'!G145","v":0},{"$f":"'Rozliczenie kwartalne'!H145","v":0},{"$f":"'Rozliczenie kwartalne'!I145","v":0},{"$f":"'Rozliczenie kwartalne'!J145","v":0},{"$f":"'Rozliczenie kwartalne'!K145","v":0},{"$f":"'Rozliczenie kwartalne'!L145","v":0},null,null,"110",0,0,0,0,0,0,0,0,0,0,0,"ok","ok",0,0]
["Suma",null,{"$f":"SUM(C3:C112)","v":0},{"$f":"SUM(D3:D112)","v":0},null,null,null,{"$f":"SUM(H3:H112)","v":0},{"$f":"SUM(I3:I112)","v":0},{"$f":"SUM(J3:J112)","v":0},0,null,null,null,null,null,null,{"$f":"SUM(R3:R112)","v":0},{"$f":"SUM(S3:S112)","v":0},{"$f":"SUM(T3:T112)","v":0},{"$f":"SUM(U3:U112)","v":0},null,null,0]
[null,null,null,null,null,null,null,null,null,{"$f":"'Rozliczenie kwartalne'!K147","v":0},{"$f":"'Rozliczenie kwartalne'!L147","v":0}]
[null,null,null,null,null,null,null,null,null,{"$f":"'Rozliczenie kwartalne'!K148","v":0},{"$f":"'Rozliczenie kwartalne'!L148","v":0}]

{"sheet":"Weryfikacja 2","index":6,"n_rows":115,"n_cols":31,"rows_kept":115,"cut":false,"hidden":true,"merged":[[0,1,0,11]]}
[null,"Dane z wniosku",null,null,null,null,null,null,null,null,null,null,"ok","Wer.",null,null,null,null,null,null,null,null,null,null,null,null,null,null,null,null,"Zgodność danych z załącznikiem nr 1"]
["l.p","NAZWA LINII","WOZOKILOMETRY","DEFICYT","CENA USŁUGI","WKŁAD WŁASNY/KM [ZŁ]","WKŁAD WŁASNY [%]","WKŁAD WŁASNY [ZŁ]","POBRANA KWOTA DOPŁATY","NALEŻNA KWOTA DOPŁATY","NIEWYKORZYSTANA KWOTA DOPŁATY","STAWKA MAX Z UMOWY","X",{"$f":"A2","v":"l.p"},"Cena usługi","Wkład własny/km [zł]","Wkład własny [%]","Wkład własny [zł]","Def z ceny usł","Kwota dopłaty","Max kwota dopł na podst wk. wł.","Max kwota dopł na podst wk wł/wzkm ","Kwota dopłaty/wozokm","10% z deficytu ","10 % z ceny usługi","warunek 10%","max 1 (3) zł/wzkm","Różnica w finansowaniu","Różnica def z zaokrągleń",null,{"$f":"IF(Miesiące!P11='Rozliczenie kwartalne'!T81,'Weryfikacja 2'!$M$1,'Weryfikacja 2'!$M$2)","v":"ok"}]
[{"$f":"'Rozliczenie kwartalne'!A36","v":"1"},{"$f":"'Rozliczenie kwartalne'!B36","v":""},{"$f":"'Załącznik nr 2 do rozliczenia'!H145","v":0},{"$f":"IF('Załącznik nr 1 do rozliczenia'!H149<0,ABS('Załącznik nr 1 do rozliczenia'!H149),0)","v":0},{"$f":"'Rozliczenie kwartalne'!E152","v":0},{"$f":"'Rozliczenie kwartalne'!G152","v":0},{"$f":"'Rozliczenie kwartalne'!H152","v":0},{"$f":"'Rozliczenie kwartalne'!I152","v":0},{"$f":"'Rozliczenie kwartalne'!J152","v":0},{"$f":"'Rozliczenie kwartalne'!K152","v":0},{"$f":"'Rozliczenie kwartalne'!L152","v":0},3,null,"1",{"$f":"IFERROR(D3/C3,0)","v":0},{"$f":"F3","v":0},{"$f":"IFERROR(P3/O3,0)","v":0},{"$f":"P3*C3","v":0},{"$f":"E3*C3","v":0},{"$f":"IFERROR(V3*C3,0)","v":0},{"$f":"V3*C3","v":0},{"$f":"IFERROR(IF((D3-H3)/C3>=$L$3,$L$3,(D3-H3)/C3),0)","v":0},{"$f":"IFERROR(ROUND(J3/C3,2),0)","v":0},{"$f":"D3*0.1","v":0},{"$f":"O3*0.1","v":0},{"$f":"IF(P3>=Y3,$M$1,$M$2)","v":"ok"},{"$f":"IF(W3<=$L$3,$M$1,$M$2)","v":"ok"},{"$f":"(T3+R3)-D3","v":0},{"$f":"D3-S3","v":0}]
[{"$f":"'Rozliczenie kwartalne'!A37","v":"2"},{"$f":"'Rozliczenie kwartalne'!B37","v":""},{"$f":"'Załącznik nr 2 do rozliczenia'!H146","v":0},{"$f":"IF('Załącznik nr 1 do rozliczenia'!H150<0,ABS('Załącznik nr 1 do rozliczenia'!H150),0)","v":0},{"$f":"'Rozliczenie kwartalne'!E153","v":0},{"$f":"'Rozliczenie kwartalne'!G153","v":0},{"$f":"'Rozliczenie kwartalne'!H153","v":0},{"$f":"'Rozliczenie kwartalne'!I153","v":0},{"$f":"'Rozliczenie kwartalne'!J153","v":0},{"$f":"'Rozliczenie kwartalne'!K153","v":0},{"$f":"'Rozliczenie kwartalne'!L153","v":0},null,null,"2",{"$f":"IFERROR(D4/C4,0)","v":0},{"$f":"F4","v":0},{"$f":"IFERROR(P4/O4,0)","v":0},{"$f":"P4*C4","v":0},{"$f":"E4*C4","v":0},{"$f":"IFERROR(V4*C4,0)","v":0},{"$f":"V4*C4","v":0},{"$f":"IFERROR(IF((D4-H4)/C4>=$L$3,$L$3,(D4-H4)/C4),0)","v":0},{"$f":"IFERROR(ROUND(J4/C4,2),0)","v":0},{"$f":"D4*0.1","v":0},{"$f":"O4*0.1","v":0},{"$f":"IF(P4>=Y4,$M$1,$M$2)","v":"ok"},{"$f":"IF(W4<=$L$3,$M$1,$M$2)","v":"ok"},{"$f":"(T4+R4)-D4","v":0},{"$f":"D4-S4","v":0}]
[{"$f":"'Rozliczenie kwartalne'!A38","v":"3"},{"$f":"'Rozliczenie kwartalne'!B38","v":""},{"$f":"'Załącznik nr 2 do rozliczenia'!H147","v":0},{"$f":"IF('Załącznik nr 1 do rozliczenia'!H151<0,ABS('Załącznik nr 1 do rozliczenia'!H151),0)","v":0},{"$f":"'Rozliczenie kwartalne'!E154","v":0},{"$f":"'Rozliczenie kwartalne'!G154","v":0},{"$f":"'Rozliczenie kwartalne'!H154","v":0},{"$f":"'Rozliczenie kwartalne'!I154","v":0},{"$f":"'Rozliczenie kwartalne'!J154","v":0},{"$f":"'Rozliczenie kwartalne'!K154","v":0},{"$f":"'Rozliczenie kwartalne'!L154","v":0},null,null,"3",0,0,0,0,0,0,0,0,0,0,0,"ok","ok",0,0]
[{"$f":"'Rozliczenie kwartalne'!A39","v":"4"},{"$f":"'Rozliczenie kwartalne'!B39","v":""},{"$f":"'Załącznik nr 2 do rozliczenia'!H148","v":0},{"$f":"IF('Załącznik nr 1 do rozliczenia'!H152<0,ABS('Załącznik nr 1 do rozliczenia'!H152),0)","v":0},{"$f":"'Rozliczenie kwartalne'!E155","v":0},{"$f":"'Rozliczenie kwartalne'!G155","v":0},{"$f":"'Rozliczenie kwartalne'!H155","v":0},{"$f":"'Rozliczenie kwartalne'!I155","v":0},{"$f":"'Rozliczenie kwartalne'!J155","v":0},{"$f":"'Rozliczenie kwartalne'!K155","v":0},{"$f":"'Rozliczenie kwartalne'!L155","v":0},null,null,"4",0,0,0,0,0,0,0,0,0,0,0,"ok","ok",0,0]
[{"$f":"'Rozliczenie kwartalne'!A40","v":"5"},{"$f":"'Rozliczenie kwartalne'!B40","v":""},{"$f":"'Załącznik nr 2 do rozliczenia'!H149","v":0},{"$f":"IF('Załącznik nr 1 do rozliczenia'!H153<0,ABS('Załącznik nr 1 do rozliczenia'!H153),0)","v":0},{"$f":"'Rozliczenie kwartalne'!E156","v":0},{"$f":"'Rozliczenie kwartalne'!G156","v":0},{"$f":"'Rozliczenie kwartalne'!H156","v":0},{"$f":"'Rozliczenie kwartalne'!I156","v":0},{"$f":"'Rozliczenie kwartalne'!J156","v":0},{"$f":"'Rozliczenie kwartalne'!K156","v":0},{"$f":"'Rozliczenie kwartalne'!L156","v":0},null,null,"5",0,0,0,0,0,0,0,0,0,0,0,"ok","ok",0,0]
[{"$f":"'Rozliczenie kwartalne'!A41","v":"6"},{"$f":"'Rozliczenie kwartalne'!B41","v":""},{"$f":"'Załącznik nr 2 do rozliczenia'!H150","v":0},{"$f":"IF('Załącznik nr 1 do rozliczenia'!H154<0,ABS('Załącznik nr 1 do rozliczenia'!H154),0)","v":0},{"$f":"'Rozliczenie kwartalne'!E157","v":0},{"$f":"'Rozliczenie kwartalne'!G157","v":0},{"$f":"'Rozliczenie kwartalne'!H157","v":0},{"$f":"'Rozliczenie kwartalne'!I157","v":0},{"$f":"'Rozliczenie kwartalne'!J157","v":0},{"$f":"'Rozliczenie kwartalne'!K157","v":0},{"$f":"'Rozliczenie kwartalne'!L157","v":0},null,null,"6",0,0,0,0,0,0,0,0,0,0,0,"ok","ok",0,0]
[{"$f":"'Rozliczenie kwartalne'!A42","v":"7"},{"$f":"'Rozliczenie kwartalne'!B42","v":""},{"$f":"'Załącznik nr 2 do rozliczenia'!H151","v":0},{"$f":"IF('Załącznik nr 1 do rozliczenia'!H155<0,ABS('Załącznik nr 1 do rozliczenia'!H155),0)","v":0},{"$f":"'Rozliczenie kwartalne'!E158","v":0},{"$f":"'Rozliczenie kwartalne'!G158","v":0},{"$f":"'Rozliczenie kwartalne'!H158","v":0},{"$f":"'Rozliczenie kwartalne'!I158","v":0},{"$f":"'Rozliczenie kwartalne'!J158","v":0},{"$f":"'Rozliczenie kwartalne'!K158","v":0},{"$f":"'Rozliczenie kwartalne'!L158","v":0},null,null,"7",0,0,0,0,0,0,0,0,0,0,0,"ok","ok",0,0]
[{"$f":"'Rozliczenie kwartalne'!A43","v":"8"},{"$f":"'Rozliczenie kwartalne'!B43","v":""},{"$f":"'Załącznik nr 2 do rozliczenia'!H152","v":0},{"$f":"IF('Załącznik nr 1 do rozliczenia'!H156<0,ABS('Załącznik nr 1 do rozliczenia'!H156),0)","v":0},{"$f":"'Rozliczenie kwartalne'!E159","v":0},{"$f":"'Rozliczenie kwartalne'!G159","v":0},{"$f":"'Rozliczenie kwartalne'!H159","v":0},{"$f":"'Rozliczenie kwartalne'!I159","v":0},{"$f":"'Rozliczenie kwartalne'!J159","v":0},{"$f":"'Rozliczenie kwartalne'!K159","v":0},{"$f":"'Rozliczenie kwartalne'!L159","v":0},null,null,"8",0,0,0,0,0,0,0,0,0,0,0,"ok","ok",0,0]
[{"$f":"'Rozliczenie kwartalne'!A44","v":"9"},{"$f":"'Rozliczenie kwartalne'!B44","v":""},{"$f":"'Załącznik nr 2 do rozliczenia'!H153","v":0},{"$f":"IF('Załącznik nr 1 do rozliczenia'!H157<0,ABS('Załącznik nr 1 do rozliczenia'!H157),0)","v":0},{"$f":"'Rozliczenie kwartalne'!E160","v":0},{"$f":"'Rozliczenie kwartalne'!G160","v":0},{"$f":"'Rozliczenie kwartalne'!H160","v":0},{"$f":"'Rozliczenie kwartalne'!I160","v":0},{"$f":"'Rozliczenie kwartalne'!J160","v":0},{"$f":"'Rozliczenie kwartalne'!K160","v":0},{"$f":"'Rozliczenie kwartalne'!L160","v":0},null,null,"9",0,0,0,0,0,0,0,0,0,0,0,"ok","ok",0,0]
[{"$f":"'Rozliczenie kwartalne'!A45","v":"10"},{"$f":"'Rozliczenie kwartalne'!B45","v":""},{"$f":"'Załącznik nr 2 do rozliczenia'!H154","v":0},{"$f":"IF('Załącznik nr 1 do rozliczenia'!H158<0,ABS('Załącznik nr 1 do rozliczenia'!H158),0)","v":0},{"$f":"'Rozliczenie kwartalne'!E161","v":0},{"$f":"'Rozliczenie kwartalne'!G161","v":0},{"$f":"'Rozliczenie kwartalne'!H161","v":0},{"$f":"'Rozliczenie kwartalne'!I161","v":0},{"$f":"'Rozliczenie kwartalne'!J161","v":0},{"$f":"'Rozliczenie kwartalne'!K161","v":0},{"$f":"'Rozliczenie kwartalne'!L161","v":0},null,null,"10",0,0,0,0,0,0,0,0,0,0,0,"ok","ok",0,0]
[{"$f":"'Rozliczenie kwartalne'!A46","v":"11"},{"$f":"'Rozliczenie kwartalne'!B46","v":""},{"$f":"'Załącznik nr 2 do rozliczenia'!H155","v":0},{"$f":"IF('Załącznik nr 1 do rozliczenia'!H159<0,ABS('Załącznik nr 1 do rozliczenia'!H159),0)","v":0},{"$f":"'Rozliczenie kwartalne'!E162","v":0},{"$f":"'Rozliczenie kwartalne'!G162","v":0},{"$f":"'Rozliczenie kwartalne'!H162","v":0},{"$f":"'Rozliczenie kwartalne'!I162","v":0},{"$f":"'Rozliczenie kwartalne'!J162","v":0},{"$f":"'Rozliczenie kwartalne'!K162","v":0},{"$f":"'Rozliczenie kwartalne'!L162","v":0},null,null,"11",0,0,0,0,0,0,0,0,0,0,0,"ok","ok",0,0]
[{"$f":"'Rozliczenie kwartalne'!A47","v":"12"},{"$f":"'Rozliczenie kwartalne'!B47","v":""},{"$f":"'Załącznik nr 2 do rozliczenia'!H156","v":0},{"$f":"IF('Załącznik nr 1 do rozliczenia'!H160<0,ABS('Załącznik nr 1 do rozliczenia'!H160),0)","v":0},{"$f":"'Rozliczenie kwartalne'!E163","v":0},{"$f":"'Rozliczenie kwartalne'!G163","v":0},{"$f":"'Rozliczenie kwartalne'!H163","v":0},{"$f":"'Rozliczenie kwartalne'!I163","v":0},{"$f":"'Rozliczenie kwartalne'!J163","v":0},{"$f":"'Rozliczenie kwartalne'!K163","v":0},{"$f":"'Rozliczenie kwartalne'!L163","v":0},null,null,"12",0,0,0,0,0,0,0,0,0,0,0,"ok","ok",0,0]
[{"$f":"'Rozliczenie kwartalne'!A48","v":"13"},{"$f":"'Rozliczenie kwartalne'!B48","v":""},{"$f":"'Załącznik nr 2 do rozliczenia'!H157","v":0},{"$f":"IF('Załącznik nr 1 do rozliczenia'!H161<0,ABS('Załącznik nr 1 do rozliczenia'!H161),0)","v":0},{"$f":"'Rozliczenie kwartalne'!E164","v":0},{"$f":"'Rozliczenie kwartalne'!G164","v":0},{"$f":"'Rozliczenie kwartalne'!H164","v":0},{"$f":"'Rozliczenie kwartalne'!I164","v":0},{"$f":"'Rozliczenie kwartalne'!J164","v":0},{"$f":"'Rozliczenie kwartalne'!K164","v":0},{"$f":"'Rozliczenie kwartalne'!L164","v":0},null,null,"13",0,0,0,0,0,0,0,0,0,0,0,"ok","ok",0,0]
[{"$f":"'Rozliczenie kwartalne'!A49","v":"14"},{"$f":"'Rozliczenie kwartalne'!B49","v":""},{"$f":"'Załącznik nr 2 do rozliczenia'!H158","v":0},{"$f":"IF('Załącznik nr 1 do rozliczenia'!H162<0,ABS('Załącznik nr 1 do rozliczenia'!H162),0)","v":0},{"$f":"'Rozliczenie kwartalne'!E165","v":0},{"$f":"'Rozliczenie kwartalne'!G165","v":0},{"$f":"'Rozliczenie kwartalne'!H165","v":0},{"$f":"'Rozliczenie kwartalne'!I165","v":0},{"$f":"'Rozliczenie kwartalne'!J165","v":0},{"$f":"'Rozliczenie kwartalne'!K165","v":0},{"$f":"'Rozliczenie kwartalne'!L165","v":0},null,null,"14",0,0,0,0,0,0,0,0,0,0,0,"ok","ok",0,0]
[{"$f":"'Rozliczenie kwartalne'!A50","v":"15"},{"$f":"'Rozliczenie kwartalne'!B50","v":""},{"$f":"'Załącznik nr 2 do rozliczenia'!H159","v":0},{"$f":"IF('Załącznik nr 1 do rozliczenia'!H163<0,ABS('Załącznik nr 1 do rozliczenia'!H163),0)","v":0},{"$f":"'Rozliczenie kwartalne'!E166","v":0},{"$f":"'Rozliczenie kwartalne'!G166","v":0},{"$f":"'Rozliczenie kwartalne'!H166","v":0},{"$f":"'Rozliczenie kwartalne'!I166","v":0},{"$f":"'Rozliczenie kwartalne'!J166","v":0},{"$f":"'Rozliczenie kwartalne'!K166","v":0},{"$f":"'Rozliczenie kwartalne'!L166","v":0},null,null,"15",0,0,0,0,0,0,0,0,0,0,0,"ok","ok",0,0]
[{"$f":"'Rozliczenie kwartalne'!A51","v":"16"},{"$f":"'Rozliczenie kwartalne'!B51","v":""},{"$f":"'Załącznik nr 2 do rozliczenia'!H160","v":0},{"$f":"IF('Załącznik nr 1 do rozliczenia'!H164<0,ABS('Załącznik nr 1 do rozliczenia'!H164),0)","v":0},{"$f":"'Rozliczenie kwartalne'!E167","v":0},{"$f":"'Rozliczenie kwartalne'!G167","v":0},{"$f":"'Rozliczenie kwartalne'!H167","v":0},{"$f":"'Rozliczenie kwartalne'!I167","v":0},{"$f":"'Rozliczenie kwartalne'!J167","v":0},{"$f":"'Rozliczenie kwartalne'!K167","v":0},{"$f":"'Rozliczenie kwartalne'!L167","v":0},null,null,"16",0,0,0,0,0,0,0,0,0,0,0,"ok","ok",0,0]
[{"$f":"'Rozliczenie kwartalne'!A52","v":"17"},{"$f":"'Rozliczenie kwartalne'!B52","v":""},{"$f":"'Załącznik nr 2 do rozliczenia'!H161","v":0},{"$f":"IF('Załącznik nr 1 do rozliczenia'!H165<0,ABS('Załącznik nr 1 do rozliczenia'!H165),0)","v":0},{"$f":"'Rozliczenie kwartalne'!E168","v":0},{"$f":"'Rozliczenie kwartalne'!G168","v":0},{"$f":"'Rozliczenie kwartalne'!H168","v":0},{"$f":"'Rozliczenie kwartalne'!I168","v":0},{"$f":"'Rozliczenie kwartalne'!J168","v":0},{"$f":"'Rozliczenie kwartalne'!K168","v":0},{"$f":"'Rozliczenie kwartalne'!L168","v":0},null,null,"17",0,0,0,0,0,0,0,0,0,0,0,"ok","ok",0,0]
[{"$f":"'Rozliczenie kwartalne'!A53","v":"18"},{"$f":"'Rozliczenie kwartalne'!B53","v":""},{"$f":"'Załącznik nr 2 do rozliczenia'!H162","v":0},{"$f":"IF('Załącznik nr 1 do rozliczenia'!H166<0,ABS('Załącznik nr 1 do rozliczenia'!H166),0)","v":0},{"$f":"'Rozliczenie kwartalne'!E169","v":0},{"$f":"'Rozliczenie kwartalne'!G169","v":0},{"$f":"'Rozliczenie kwartalne'!H169","v":0},{"$f":"'Rozliczenie kwartalne'!I169","v":0},{"$f":"'Rozliczenie kwartalne'!J169","v":0},{"$f":"'Rozliczenie kwartalne'!K169","v":0},{"$f":"'Rozliczenie kwartalne'!L169","v":0},null,null,"18",0,0,0,0,0,0,0,0,0,0,0,"ok","ok",0,0]
[{"$f":"'Rozliczenie kwartalne'!A54","v":"19"},{"$f":"'Rozliczenie kwartalne'!B54","v":""},{"$f":"'Załącznik nr 2 do rozliczenia'!H163","v":0},{"$f":"IF('Załącznik nr 1 do rozliczenia'!H167<0,ABS('Załącznik nr 1 do rozliczenia'!H167),0)","v":0},{"$f":"'Rozliczenie kwartalne'!E170","v":0},{"$f":"'Rozliczenie kwartalne'!G170","v":0},{"$f":"'Rozliczenie kwartalne'!H170","v":0},{"$f":"'Rozliczenie kwartalne'!I170","v":0},{"$f":"'Rozliczenie kwartalne'!J170","v":0},{"$f":"'Rozliczenie kwartalne'!K170","v":0},{"$f":"'Rozliczenie kwartalne'!L170","v":0},null,null,"19",0,0,0,0,0,0,0,0,0,0,0,"ok","ok",0,0]
[{"$f":"'Rozliczenie kwartalne'!A55","v":"20"},{"$f":"'Rozliczenie kwartalne'!B55","v":""},{"$f":"'Załącznik nr 2 do rozliczenia'!H164","v":0},{"$f":"IF('Załącznik nr 1 do rozliczenia'!H168<0,ABS('Załącznik nr 1 do rozliczenia'!H168),0)","v":0},{"$f":"'Rozliczenie kwartalne'!E171","v":0},{"$f":"'Rozliczenie kwartalne'!G171","v":0},{"$f":"'Rozliczenie kwartalne'!H171","v":0},{"$f":"'Rozliczenie kwartalne'!I171","v":0},{"$f":"'Rozliczenie kwartalne'!J171","v":0},{"$f":"'Rozliczenie kwartalne'!K171","v":0},{"$f":"'Rozliczenie kwartalne'!L171","v":0},null,null,"20",0,0,0,0,0,0,0,0,0,0,0,"ok","ok",0,0]
[{"$f":"'Rozliczenie kwartalne'!A56","v":"21"},{"$f":"'Rozliczenie kwartalne'!B56","v":""},{"$f":"'Załącznik nr 2 do rozliczenia'!H165","v":0},{"$f":"IF('Załącznik nr 1 do rozliczenia'!H169<0,ABS('Załącznik nr 1 do rozliczenia'!H169),0)","v":0},{"$f":"'Rozliczenie kwartalne'!E172","v":0},{"$f":"'Rozliczenie kwartalne'!G172","v":0},{"$f":"'Rozliczenie kwartalne'!H172","v":0},{"$f":"'Rozliczenie kwartalne'!I172","v":0},{"$f":"'Rozliczenie kwartalne'!J172","v":0},{"$f":"'Rozliczenie kwartalne'!K172","v":0},{"$f":"'Rozliczenie kwartalne'!L172","v":0},null,null,"21",0,0,0,0,0,0,0,0,0,0,0,"ok","ok",0,0]
[{"$f":"'Rozliczenie kwartalne'!A57","v":"22"},{"$f":"'Rozliczenie kwartalne'!B57","v":""},{"$f":"'Załącznik nr 2 do rozliczenia'!H166","v":0},{"$f":"IF('Załącznik nr 1 do rozliczenia'!H170<0,ABS('Załącznik nr 1 do rozliczenia'!H170),0)","v":0},{"$f":"'Rozliczenie kwartalne'!E173","v":0},{"$f":"'Rozliczenie kwartalne'!G173","v":0},{"$f":"'Rozliczenie kwartalne'!H173","v":0},{"$f":"'Rozliczenie kwartalne'!I173","v":0},{"$f":"'Rozliczenie kwartalne'!J173","v":0},{"$f":"'Rozliczenie kwartalne'!K173","v":0},{"$f":"'Rozliczenie kwartalne'!L173","v":0},null,null,"22",0,0,0,0,0,0,0,0,0,0,0,"ok","ok",0,0]
[{"$f":"'Rozliczenie kwartalne'!A58","v":"23"},{"$f":"'Rozliczenie kwartalne'!B58","v":""},{"$f":"'Załącznik nr 2 do rozliczenia'!H167","v":0},{"$f":"IF('Załącznik nr 1 do rozliczenia'!H171<0,ABS('Załącznik nr 1 do rozliczenia'!H171),0)","v":0},{"$f":"'Rozliczenie kwartalne'!E174","v":0},{"$f":"'Rozliczenie kwartalne'!G174","v":0},{"$f":"'Rozliczenie kwartalne'!H174","v":0},{"$f":"'Rozliczenie kwartalne'!I174","v":0},{"$f":"'Rozliczenie kwartalne'!J174","v":0},{"$f":"'Rozliczenie kwartalne'!K174","v":0},{"$f":"'Rozliczenie kwartalne'!L174","v":0},null,null,"23",0,0,0,0,0,0,0,0,0,0,0,"ok","ok",0,0]
[{"$f":"'Rozliczenie kwartalne'!A59","v":"24"},{"$f":"'Rozliczenie kwartalne'!B59","v":""},{"$f":"'Załącznik nr 2 do rozliczenia'!H168","v":0},{"$f":"IF('Załącznik nr 1 do rozliczenia'!H172<0,ABS('Załącznik nr 1 do rozliczenia'!H172),0)","v":0},{"$f":"'Rozliczenie kwartalne'!E175","v":0},{"$f":"'Rozliczenie kwartalne'!G175","v":0},{"$f":"'Rozliczenie kwartalne'!H175","v":0},{"$f":"'Rozliczenie kwartalne'!I175","v":0},{"$f":"'Rozliczenie kwartalne'!J175","v":0},{"$f":"'Rozliczenie kwartalne'!K175","v":0},{"$f":"'Rozliczenie kwartalne'!L175","v":0},null,null,"24",0,0,0,0,0,0,0,0,0,0,0,"ok","ok",0,0]
[{"$f":"'Rozliczenie kwartalne'!A60","v":"25"},{"$f":"'Rozliczenie kwartalne'!B60","v":""},{"$f":"'Załącznik nr 2 do rozliczenia'!H169","v":0},{"$f":"IF('Załącznik nr 1 do rozliczenia'!H173<0,ABS('Załącznik nr 1 do rozliczenia'!H173),0)","v":0},{"$f":"'Rozliczenie kwartalne'!E176","v":0},{"$f":"'Rozliczenie kwartalne'!G176","v":0},{"$f":"'Rozliczenie kwartalne'!H176","v":0},{"$f":"'Rozliczenie kwartalne'!I176","v":0},{"$f":"'Rozliczenie kwartalne'!J176","v":0},{"$f":"'Rozliczenie kwartalne'!K176","v":0},{"$f":"'Rozliczenie kwartalne'!L176","v":0},null,null,"25",0,0,0,0,0,0,0,0,0,0,0,"ok","ok",0,0]
[{"$f":"'Rozliczenie kwartalne'!A61","v":"26"},{"$f":"'Rozliczenie kwartalne'!B61","v":""},{"$f":"'Załącznik nr 2 do rozliczenia'!H170","v":0},{"$f":"IF('Załącznik nr 1 do rozliczenia'!H174<0,ABS('Załącznik nr 1 do rozliczenia'!H174),0)","v":0},{"$f":"'Rozliczenie kwartalne'!E177","v":0},{"$f":"'Rozliczenie kwartalne'!G177","v":0},{"$f":"'Rozliczenie kwartalne'!H177","v":0},{"$f":"'Rozliczenie kwartalne'!I177","v":0},{"$f":"'Rozliczenie kwartalne'!J177","v":0},{"$f":"'Rozliczenie kwartalne'!K177","v":0},{"$f":"'Rozliczenie kwartalne'!L177","v":0},null,null,"26",0,0,0,0,0,0,0,0,0,0,0,"ok","ok",0,0]
[{"$f":"'Rozliczenie kwartalne'!A62","v":"27"},{"$f":"'Rozliczenie kwartalne'!B62","v":""},{"$f":"'Załącznik nr 2 do rozliczenia'!H171","v":0},{"$f":"IF('Załącznik nr 1 do rozliczenia'!H175<0,ABS('Załącznik nr 1 do rozliczenia'!H175),0)","v":0},{"$f":"'Rozliczenie kwartalne'!E178","v":0},{"$f":"'Rozliczenie kwartalne'!G178","v":0},{"$f":"'Rozliczenie kwartalne'!H178","v":0},{"$f":"'Rozliczenie kwartalne'!I178","v":0},{"$f":"'Rozliczenie kwartalne'!J178","v":0},{"$f":"'Rozliczenie kwartalne'!K178","v":0},{"$f":"'Rozliczenie kwartalne'!L178","v":0},null,null,"27",0,0,0,0,0,0,0,0,0,0,0,"ok","ok",0,0]
[{"$f":"'Rozliczenie kwartalne'!A63","v":"28"},{"$f":"'Rozliczenie kwartalne'!B63","v":""},{"$f":"'Załącznik nr 2 do rozliczenia'!H172","v":0},{"$f":"IF('Załącznik nr 1 do rozliczenia'!H176<0,ABS('Załącznik nr 1 do rozliczenia'!H176),0)","v":0},{"$f":"'Rozliczenie kwartalne'!E179","v":0},{"$f":"'Rozliczenie kwartalne'!G179","v":0},{"$f":"'Rozliczenie kwartalne'!H179","v":0},{"$f":"'Rozliczenie kwartalne'!I179","v":0},{"$f":"'Rozliczenie kwartalne'!J179","v":0},{"$f":"'Rozliczenie kwartalne'!K179","v":0},{"$f":"'Rozliczenie kwartalne'!L179","v":0},null,null,"28",0,0,0,0,0,0,0,0,0,0,0,"ok","ok",0,0]
[{"$f":"'Rozliczenie kwartalne'!A64","v":"29"},{"$f":"'Rozliczenie kwartalne'!B64","v":""},{"$f":"'Załącznik nr 2 do rozliczenia'!H173","v":0},{"$f":"IF('Załącznik nr 1 do rozliczenia'!H177<0,ABS('Załącznik nr 1 do rozliczenia'!H177),0)","v":0},{"$f":"'Rozliczenie kwartalne'!E180","v":0},{"$f":"'Rozliczenie kwartalne'!G180","v":0},{"$f":"'Rozliczenie kwartalne'!H180","v":0},{"$f":"'Rozliczenie kwartalne'!I180","v":0},{"$f":"'Rozliczenie kwartalne'!J180","v":0},{"$f":"'Rozliczenie kwartalne'!K180","v":0},{"$f":"'Rozliczenie kwartalne'!L180","v":0},null,null,"29",0,0,0,0,0,0,0,0,0,0,0,"ok","ok",0,0]
[{"$f":"'Rozliczenie kwartalne'!A65","v":"30"},{"$f":"'Rozliczenie kwartalne'!B65","v":""},{"$f":"'Załącznik nr 2 do rozliczenia'!H174","v":0},{"$f":"IF('Załącznik nr 1 do rozliczenia'!H178<0,ABS('Załącznik nr 1 do rozliczenia'!H178),0)","v":0},{"$f":"'Rozliczenie kwartalne'!E181","v":0},{"$f":"'Rozliczenie kwartalne'!G181","v":0},{"$f":"'Rozliczenie kwartalne'!H181","v":0},{"$f":"'Rozliczenie kwartalne'!I181","v":0},{"$f":"'Rozliczenie kwartalne'!J181","v":0},{"$f":"'Rozliczenie kwartalne'!K181","v":0},{"$f":"'Rozliczenie kwartalne'!L181","v":0},null,null,"30",0,0,0,0,0,0,0,0,0,0,0,"ok","ok",0,0]
[{"$f":"'Rozliczenie kwartalne'!A66","v":"31"},{"$f":"'Rozliczenie kwartalne'!B66","v":""},{"$f":"'Załącznik nr 2 do rozliczenia'!H175","v":0},{"$f":"IF('Załącznik nr 1 do rozliczenia'!H179<0,ABS('Załącznik nr 1 do rozliczenia'!H179),0)","v":0},{"$f":"'Rozliczenie kwartalne'!E182","v":0},{"$f":"'Rozliczenie kwartalne'!G182","v":0},{"$f":"'Rozliczenie kwartalne'!H182","v":0},{"$f":"'Rozliczenie kwartalne'!I182","v":0},{"$f":"'Rozliczenie kwartalne'!J182","v":0},{"$f":"'Rozliczenie kwartalne'!K182","v":0},{"$f":"'Rozliczenie kwartalne'!L182","v":0},null,null,"31",0,0,0,0,0,0,0,0,0,0,0,"ok","ok",0,0]
[{"$f":"'Rozliczenie kwartalne'!A67","v":"32"},{"$f":"'Rozliczenie kwartalne'!B67","v":""},{"$f":"'Załącznik nr 2 do rozliczenia'!H176","v":0},{"$f":"IF('Załącznik nr 1 do rozliczenia'!H180<0,ABS('Załącznik nr 1 do rozliczenia'!H180),0)","v":0},{"$f":"'Rozliczenie kwartalne'!E183","v":0},{"$f":"'Rozliczenie kwartalne'!G183","v":0},{"$f":"'Rozliczenie kwartalne'!H183","v":0},{"$f":"'Rozliczenie kwartalne'!I183","v":0},{"$f":"'Rozliczenie kwartalne'!J183","v":0},{"$f":"'Rozliczenie kwartalne'!K183","v":0},{"$f":"'Rozliczenie kwartalne'!L183","v":0},null,null,"32",0,0,0,0,0,0,0,0,0,0,0,"ok","ok",0,0]
[{"$f":"'Rozliczenie kwartalne'!A68","v":"33"},{"$f":"'Rozliczenie kwartalne'!B68","v":""},{"$f":"'Załącznik nr 2 do rozliczenia'!H177","v":0},{"$f":"IF('Załącznik nr 1 do rozliczenia'!H181<0,ABS('Załącznik nr 1 do rozliczenia'!H181),0)","v":0},{"$f":"'Rozliczenie kwartalne'!E184","v":0},{"$f":"'Rozliczenie kwartalne'!G184","v":0},{"$f":"'Rozliczenie kwartalne'!H184","v":0},{"$f":"'Rozliczenie kwartalne'!I184","v":0},{"$f":"'Rozliczenie kwartalne'!J184","v":0},{"$f":"'Rozliczenie kwartalne'!K184","v":0},{"$f":"'Rozliczenie kwartalne'!L184","v":0},null,null,"33",0,0,0,0,0,0,0,0,0,0,0,"ok","ok",0,0]
[{"$f":"'Rozliczenie kwartalne'!A69","v":"34"},{"$f":"'Rozliczenie kwartalne'!B69","v":""},{"$f":"'Załącznik nr 2 do rozliczenia'!H178","v":0},{"$f":"IF('Załącznik nr 1 do rozliczenia'!H182<0,ABS('Załącznik nr 1 do rozliczenia'!H182),0)","v":0},{"$f":"'Rozliczenie kwartalne'!E185","v":0},{"$f":"'Rozliczenie kwartalne'!G185","v":0},{"$f":"'Rozliczenie kwartalne'!H185","v":0},{"$f":"'Rozliczenie kwartalne'!I185","v":0},{"$f":"'Rozliczenie kwartalne'!J185","v":0},{"$f":"'Rozliczenie kwartalne'!K185","v":0},{"$f":"'Rozliczenie kwartalne'!L185","v":0},null,null,"34",0,0,0,0,0,0,0,0,0,0,0,"ok","ok",0,0]
[{"$f":"'Rozliczenie kwartalne'!A70","v":"35"},{"$f":"'Rozliczenie kwartalne'!B70","v":""},{"$f":"'Załącznik nr 2 do rozliczenia'!H179","v":0},{"$f":"IF('Załącznik nr 1 do rozliczenia'!H183<0,ABS('Załącznik nr 1 do rozliczenia'!H183),0)","v":0},{"$f":"'Rozliczenie kwartalne'!E186","v":0},{"$f":"'Rozliczenie kwartalne'!G186","v":0},{"$f":"'Rozliczenie kwartalne'!H186","v":0},{"$f":"'Rozliczenie kwartalne'!I186","v":0},{"$f":"'Rozliczenie kwartalne'!J186","v":0},{"$f":"'Rozliczenie kwartalne'!K186","v":0},{"$f":"'Rozliczenie kwartalne'!L186","v":0},null,null,"35",0,0,0,0,0,0,0,0,0,0,0,"ok","ok",0,0]
[{"$f":"'Rozliczenie kwartalne'!A71","v":"36"},{"$f":"'Rozliczenie kwartalne'!B71","v":""},{"$f":"'Załącznik nr 2 do rozliczenia'!H180","v":0},{"$f":"IF('Załącznik nr 1 do rozliczenia'!H184<0,ABS('Załącznik nr 1 do rozliczenia'!H184),0)","v":0},{"$f":"'Rozliczenie kwartalne'!E187","v":0},{"$f":"'Rozliczenie kwartalne'!G187","v":0},{"$f":"'Rozliczenie kwartalne'!H187","v":0},{"$f":"'Rozliczenie kwartalne'!I187","v":0},{"$f":"'Rozliczenie kwartalne'!J187","v":0},{"$f":"'Rozliczenie kwartalne'!K187","v":0},{"$f":"'Rozliczenie kwartalne'!L187","v":0},null,null,"36",0,0,0,0,0,0,0,0,0,0,0,"ok","ok",0,0]
[{"$f":"'Rozliczenie kwartalne'!A72","v":"37"},{"$f":"'Rozliczenie kwartalne'!B72","v":""},{"$f":"'Załącznik nr 2 do rozliczenia'!H181","v":0},{"$f":"IF('Załącznik nr 1 do rozliczenia'!H185<0,ABS('Załącznik nr 1 do rozliczenia'!H185),0)","v":0},{"$f":"'Rozliczenie kwartalne'!E188","v":0},{"$f":"'Rozliczenie kwartalne'!G188","v":0},{"$f":"'Rozliczenie kwartalne'!H188","v":0},{"$f":"'Rozliczenie kwartalne'!I188","v":0},{"$f":"'Rozliczenie kwartalne'!J188","v":0},{"$f":"'Rozliczenie kwartalne'!K188","v":0},{"$f":"'Rozliczenie kwartalne'!L188","v":0},null,null,"37",0,0,0,0,0,0,0,0,0,0,0,"ok","ok",0,0]
[{"$f":"'Rozliczenie kwartalne'!A73","v":"38"},{"$f":"'Rozliczenie kwartalne'!B73","v":""},{"$f":"'Załącznik nr 2 do rozliczenia'!H182","v":0},{"$f":"IF('Załącznik nr 1 do rozliczenia'!H186<0,ABS('Załącznik nr 1 do rozliczenia'!H186),0)","v":0},{"$f":"'Rozliczenie kwartalne'!E189","v":0},{"$f":"'Rozliczenie kwartalne'!G189","v":0},{"$f":"'Rozliczenie kwartalne'!H189","v":0},{"$f":"'Rozliczenie kwartalne'!I189","v":0},{"$f":"'Rozliczenie kwartalne'!J189","v":0},{"$f":"'Rozliczenie kwartalne'!K189","v":0},{"$f":"'Rozliczenie kwartalne'!L189","v":0},null,null,"38",0,0,0,0,0,0,0,0,0,0,0,"ok","ok",0,0]
[{"$f":"'Rozliczenie kwartalne'!A74","v":"39"},{"$f":"'Rozliczenie kwartalne'!B74","v":""},{"$f":"'Załącznik nr 2 do rozliczenia'!H183","v":0},{"$f":"IF('Załącznik nr 1 do rozliczenia'!H187<0,ABS('Załącznik nr 1 do rozliczenia'!H187),0)","v":0},{"$f":"'Rozliczenie kwartalne'!E190","v":0},{"$f":"'Rozliczenie kwartalne'!G190","v":0},{"$f":"'Rozliczenie kwartalne'!H190","v":0},{"$f":"'Rozliczenie kwartalne'!I190","v":0},{"$f":"'Rozliczenie kwartalne'!J190","v":0},{"$f":"'Rozliczenie kwartalne'!K190","v":0},{"$f":"'Rozliczenie kwartalne'!L190","v":0},null,null,"39",0,0,0,0,0,0,0,0,0,0,0,"ok","ok",0,0]
[{"$f":"'Rozliczenie kwartalne'!A75","v":"40"},{"$f":"'Rozliczenie kwartalne'!B75","v":""},{"$f":"'Załącznik nr 2 do rozliczenia'!H184","v":0},{"$f":"IF('Załącznik nr 1 do rozliczenia'!H188<0,ABS('Załącznik nr 1 do rozliczenia'!H188),0)","v":0},{"$f":"'Rozliczenie kwartalne'!E191","v":0},{"$f":"'Rozliczenie kwartalne'!G191","v":0},{"$f":"'Rozliczenie kwartalne'!H191","v":0},{"$f":"'Rozliczenie kwartalne'!I191","v":0},{"$f":"'Rozliczenie kwartalne'!J191","v":0},{"$f":"'Rozliczenie kwartalne'!K191","v":0},{"$f":"'Rozliczenie kwartalne'!L191","v":0},null,null,"40",0,0,0,0,0,0,0,0,0,0,0,"ok","ok",0,0]
[{"$f":"'Rozliczenie kwartalne'!A76","v":"41"},{"$f":"'Rozliczenie kwartalne'!B76","v":""},{"$f":"'Załącznik nr 2 do rozliczenia'!H185","v":0},{"$f":"IF('Załącznik nr 1 do rozliczenia'!H189<0,ABS('Załącznik nr 1 do rozliczenia'!H189),0)","v":0},{"$f":"'Rozliczenie kwartalne'!E192","v":0},{"$f":"'Rozliczenie kwartalne'!G192","v":0},{"$f":"'Rozliczenie kwartalne'!H192","v":0},{"$f":"'Rozliczenie kwartalne'!I192","v":0},{"$f":"'Rozliczenie kwartalne'!J192","v":0},{"$f":"'Rozliczenie kwartalne'!K192","v":0},{"$f":"'Rozliczenie kwartalne'!L192","v":0},null,null,"41",0,0,0,0,0,0,0,0,0,0,0,"ok","ok",0,0]
[{"$f":"'Rozliczenie kwartalne'!A77","v":"42"},{"$f":"'Rozliczenie kwartalne'!B77","v":""},{"$f":"'Załącznik nr 2 do rozliczenia'!H186","v":0},{"$f":"IF('Załącznik nr 1 do rozliczenia'!H190<0,ABS('Załącznik nr 1 do rozliczenia'!H190),0)","v":0},{"$f":"'Rozliczenie kwartalne'!E193","v":0},{"$f":"'Rozliczenie kwartalne'!G193","v":0},{"$f":"'Rozliczenie kwartalne'!H193","v":0},{"$f":"'Rozliczenie kwartalne'!I193","v":0},{"$f":"'Rozliczenie kwartalne'!J193","v":0},{"$f":"'Rozliczenie kwartalne'!K193","v":0},{"$f":"'Rozliczenie kwartalne'!L193","v":0},null,null,"42",0,0,0,0,0,0,0,0,0,0,0,"ok","ok",0,0]
[{"$f":"'Rozliczenie kwartalne'!A78","v":"43"},{"$f":"'Rozliczenie kwartalne'!B78","v":""},{"$f":"'Załącznik nr 2 do rozliczenia'!H187","v":0},{"$f":"IF('Załącznik nr 1 do rozliczenia'!H191<0,ABS('Załącznik nr 1 do rozliczenia'!H191),0)","v":0},{"$f":"'Rozliczenie kwartalne'!E194","v":0},{"$f":"'Rozliczenie kwartalne'!G194","v":0},{"$f":"'Rozliczenie kwartalne'!H194","v":0},{"$f":"'Rozliczenie kwartalne'!I194","v":0},{"$f":"'Rozliczenie kwartalne'!J194","v":0},{"$f":"'Rozliczenie kwartalne'!K194","v":0},{"$f":"'Rozliczenie kwartalne'!L194","v":0},null,null,"43",0,0,0,0,0,0,0,0,0,0,0,"ok","ok",0,0]
[{"$f":"'Rozliczenie kwartalne'!A79","v":"44"},{"$f":"'Rozliczenie kwartalne'!B79","v":""},{"$f":"'Załącznik nr 2 do rozliczenia'!H188","v":0},{"$f":"IF('Załącznik nr 1 do rozliczenia'!H192<0,ABS('Załącznik nr 1 do rozliczenia'!H192),0)","v":0},{"$f":"'Rozliczenie kwartalne'!E195","v":0},{"$f":"'Rozliczenie kwartalne'!G195","v":0},{"$f":"'Rozliczenie kwartalne'!H195","v":0},{"$f":"'Rozliczenie kwartalne'!I195","v":0},{"$f":"'Rozliczenie kwartalne'!J195","v":0},{"$f":"'Rozliczenie kwartalne'!K195","v":0},{"$f":"'Rozliczenie kwartalne'!L195","v":0},null,null,"44",0,0,0,0,0,0,0,0,0,0,0,"ok","ok",0,0]
[{"$f":"'Rozliczenie kwartalne'!A80","v":"45"},{"$f":"'Rozliczenie kwartalne'!B80","v":""},{"$f":"'Załącznik nr 2 do rozliczenia'!H189","v":0},{"$f":"IF('Załącznik nr 1 do rozliczenia'!H193<0,ABS('Załącznik nr 1 do rozliczenia'!H193),0)","v":0},{"$f":"'Rozliczenie kwartalne'!E196","v":0},{"$f":"'Rozliczenie kwartalne'!G196","v":0},{"$f":"'Rozliczenie kwartalne'!H196","v":0},{"$f":"'Rozliczenie kwartalne'!I196","v":0},{"$f":"'Rozliczenie kwartalne'!J196","v":0},{"$f":"'Rozliczenie kwartalne'!K196","v":0},{"$f":"'Rozliczenie kwartalne'!L196","v":0},null,null,"45",0,0,0,0,0,0,0,0,0,0,0,"ok","ok",0,0]
[{"$f":"'Rozliczenie kwartalne'!A81","v":"46"},{"$f":"'Rozliczenie kwartalne'!B81","v":""},{"$f":"'Załącznik nr 2 do rozliczenia'!H190","v":0},{"$f":"IF('Załącznik nr 1 do rozliczenia'!H194<0,ABS('Załącznik nr 1 do rozliczenia'!H194),0)","v":0},{"$f":"'Rozliczenie kwartalne'!E197","v":0},{"$f":"'Rozliczenie kwartalne'!G197","v":0},{"$f":"'Rozliczenie kwartalne'!H197","v":0},{"$f":"'Rozliczenie kwartalne'!I197","v":0},{"$f":"'Rozliczenie kwartalne'!J197","v":0},{"$f":"'Rozliczenie kwartalne'!K197","v":0},{"$f":"'Rozliczenie kwartalne'!L197","v":0},null,null,"46",0,0,0,0,0,0,0,0,0,0,0,"ok","ok",0,0]
[{"$f":"'Rozliczenie kwartalne'!A82","v":"47"},{"$f":"'Rozliczenie kwartalne'!B82","v":""},{"$f":"'Załącznik nr 2 do rozliczenia'!H191","v":0},{"$f":"IF('Załącznik nr 1 do rozliczenia'!H195<0,ABS('Załącznik nr 1 do rozliczenia'!H195),0)","v":0},{"$f":"'Rozliczenie kwartalne'!E198","v":0},{"$f":"'Rozliczenie kwartalne'!G198","v":0},{"$f":"'Rozliczenie kwartalne'!H198","v":0},{"$f":"'Rozliczenie kwartalne'!I198","v":0},{"$f":"'Rozliczenie kwartalne'!J198","v":0},{"$f":"'Rozliczenie kwartalne'!K198","v":0},{"$f":"'Rozliczenie kwartalne'!L198","v":0},null,null,"47",0,0,0,0,0,0,0,0,0,0,0,"ok","ok",0,0]
[{"$f":"'Rozliczenie kwartalne'!A83","v":"48"},{"$f":"'Rozliczenie kwartalne'!B83","v":""},{"$f":"'Załącznik nr 2 do rozliczenia'!H192","v":0},{"$f":"IF('Załącznik nr 1 do rozliczenia'!H196<0,ABS('Załącznik nr 1 do rozliczenia'!H196),0)","v":0},{"$f":"'Rozliczenie kwartalne'!E199","v":0},{"$f":"'Rozliczenie kwartalne'!G199","v":0},{"$f":"'Rozliczenie kwartalne'!H199","v":0},{"$f":"'Rozliczenie kwartalne'!I199","v":0},{"$f":"'Rozliczenie kwartalne'!J199","v":0},{"$f":"'Rozliczenie kwartalne'!K199","v":0},{"$f":"'Rozliczenie kwartalne'!L199","v":0},null,null,"48",0,0,0,0,0,0,0,0,0,0,0,"ok","ok",0,0]
[{"$f":"'Rozliczenie kwartalne'!A84","v":"49"},{"$f":"'Rozliczenie kwartalne'!B84","v":""},{"$f":"'Załącznik nr 2 do rozliczenia'!H193","v":0},{"$f":"IF('Załącznik nr 1 do rozliczenia'!H197<0,ABS('Załącznik nr 1 do rozliczenia'!H197),0)","v":0},{"$f":"'Rozliczenie kwartalne'!E200","v":0},{"$f":"'Rozliczenie kwartalne'!G200","v":0},{"$f":"'Rozliczenie kwartalne'!H200","v":0},{"$f":"'Rozliczenie kwartalne'!I200","v":0},{"$f":"'Rozliczenie kwartalne'!J200","v":0},{"$f":"'Rozliczenie kwartalne'!K200","v":0},{"$f":"'Rozliczenie kwartalne'!L200","v":0},null,null,"49",0,0,0,0,0,0,0,0,0,0,0,"ok","ok",0,0]
[{"$f":"'Rozliczenie kwartalne'!A85","v":"50"},{"$f":"'Rozliczenie kwartalne'!B85","v":""},{"$f":"'Załącznik nr 2 do rozliczenia'!H194","v":0},{"$f":"IF('Załącznik nr 1 do rozliczenia'!H198<0,ABS('Załącznik nr 1 do rozliczenia'!H198),0)","v":0},{"$f":"'Rozliczenie kwartalne'!E201","v":0},{"$f":"'Rozliczenie kwartalne'!G201","v":0},{"$f":"'Rozliczenie kwartalne'!H201","v":0},{"$f":"'Rozliczenie kwartalne'!I201","v":0},{"$f":"'Rozliczenie kwartalne'!J201","v":0},{"$f":"'Rozliczenie kwartalne'!K201","v":0},{"$f":"'Rozliczenie kwartalne'!L201","v":0},null,null,"50",0,0,0,0,0,0,0,0,0,0,0,"ok","ok",0,0]
[{"$f":"'Rozliczenie kwartalne'!A86","v":"51"},{"$f":"'Rozliczenie kwartalne'!B86","v":""},{"$f":"'Załącznik nr 2 do rozliczenia'!H195","v":0},{"$f":"IF('Załącznik nr 1 do rozliczenia'!H199<0,ABS('Załącznik nr 1 do rozliczenia'!H199),0)","v":0},{"$f":"'Rozliczenie kwartalne'!E202","v":0},{"$f":"'Rozliczenie kwartalne'!G202","v":0},{"$f":"'Rozliczenie kwartalne'!H202","v":0},{"$f":"'Rozliczenie kwartalne'!I202","v":0},{"$f":"'Rozliczenie kwartalne'!J202","v":0},{"$f":"'Rozliczenie kwartalne'!K202","v":0},{"$f":"'Rozliczenie kwartalne'!L202","v":0},null,null,"51",{"$f":"IFERROR(D53/C53,0)","v":0},{"$f":"F53","v":0},{"$f":"IFERROR(P53/O53,0)","v":0},0,{"$f":"E53*C53","v":0},{"$f":"IFERROR(V53*C53,0)","v":0},{"$f":"V53*C53","v":0},{"$f":"IFERROR(IF((D53-H53)/C53>=$L$3,$L$3,(D53-H53)/C53),0)","v":0},0,{"$f":"D53*0.1","v":0},0,"ok","ok",{"$f":"(T53+R53)-D53","v":0},{"$f":"D53-S53","v":0}]
[{"$f":"'Rozliczenie kwartalne'!A87","v":"52"},{"$f":"'Rozliczenie kwartalne'!B87","v":""},{"$f":"'Załącznik nr 2 do rozliczenia'!H196","v":0},{"$f":"IF('Załącznik nr 1 do rozliczenia'!H200<0,ABS('Załącznik nr 1 do rozliczenia'!H200),0)","v":0},{"$f":"'Rozliczenie kwartalne'!E203","v":0},{"$f":"'Rozliczenie kwartalne'!G203","v":0},{"$f":"'Rozliczenie kwartalne'!H203","v":0},{"$f":"'Rozliczenie kwartalne'!I203","v":0},{"$f":"'Rozliczenie kwartalne'!J203","v":0},{"$f":"'Rozliczenie kwartalne'!K203","v":0},{"$f":"'Rozliczenie kwartalne'!L203","v":0},null,null,"52",{"$f":"IFERROR(D54/C54,0)","v":0},{"$f":"F54","v":0},{"$f":"IFERROR(P54/O54,0)","v":0},{"$f":"P54*C54","v":0},{"$f":"E54*C54","v":0},{"$f":"IFERROR(V54*C54,0)","v":0},{"$f":"V54*C54","v":0},{"$f":"IFERROR(IF((D54-H54)/C54>=$L$3,$L$3,(D54-H54)/C54),0)","v":0},0,{"$f":"D54*0.1","v":0},{"$f":"O54*0.1","v":0},{"$f":"IF(P54>=Y54,$M$1,$M$2)","v":"ok"},{"$f":"IF(W54<=$L$3,$M$1,$M$2)","v":"ok"},{"$f":"(T54+R54)-D54","v":0},{"$f":"D54-S54","v":0}]
[{"$f":"'Rozliczenie kwartalne'!A88","v":"53"},{"$f":"'Rozliczenie kwartalne'!B88","v":""},{"$f":"'Załącznik nr 2 do rozliczenia'!H197","v":0},{"$f":"IF('Załącznik nr 1 do rozliczenia'!H201<0,ABS('Załącznik nr 1 do rozliczenia'!H201),0)","v":0},{"$f":"'Rozliczenie kwartalne'!E204","v":0},{"$f":"'Rozliczenie kwartalne'!G204","v":0},{"$f":"'Rozliczenie kwartalne'!H204","v":0},{"$f":"'Rozliczenie kwartalne'!I204","v":0},{"$f":"'Rozliczenie kwartalne'!J204","v":0},{"$f":"'Rozliczenie kwartalne'!K204","v":0},{"$f":"'Rozliczenie kwartalne'!L204","v":0},null,null,"53",0,0,0,0,0,0,0,0,0,0,0,"ok","ok",0,0]
[{"$f":"'Rozliczenie kwartalne'!A89","v":"54"},{"$f":"'Rozliczenie kwartalne'!B89","v":""},{"$f":"'Załącznik nr 2 do rozliczenia'!H198","v":0},{"$f":"IF('Załącznik nr 1 do rozliczenia'!H202<0,ABS('Załącznik nr 1 do rozliczenia'!H202),0)","v":0},{"$f":"'Rozliczenie kwartalne'!E205","v":0},{"$f":"'Rozliczenie kwartalne'!G205","v":0},{"$f":"'Rozliczenie kwartalne'!H205","v":0},{"$f":"'Rozliczenie kwartalne'!I205","v":0},{"$f":"'Rozliczenie kwartalne'!J205","v":0},{"$f":"'Rozliczenie kwartalne'!K205","v":0},{"$f":"'Rozliczenie kwartalne'!L205","v":0},null,null,"54",0,0,0,0,0,0,0,0,0,0,0,"ok","ok",0,0]
[{"$f":"'Rozliczenie kwartalne'!A90","v":"55"},{"$f":"'Rozliczenie kwartalne'!B90","v":""},{"$f":"'Załącznik nr 2 do rozliczenia'!H199","v":0},{"$f":"IF('Załącznik nr 1 do rozliczenia'!H203<0,ABS('Załącznik nr 1 do rozliczenia'!H203),0)","v":0},{"$f":"'Rozliczenie kwartalne'!E206","v":0},{"$f":"'Rozliczenie kwartalne'!G206","v":0},{"$f":"'Rozliczenie kwartalne'!H206","v":0},{"$f":"'Rozliczenie kwartalne'!I206","v":0},{"$f":"'Rozliczenie kwartalne'!J206","v":0},{"$f":"'Rozliczenie kwartalne'!K206","v":0},{"$f":"'Rozliczenie kwartalne'!L206","v":0},null,null,"55",0,0,0,0,0,0,0,0,0,0,0,"ok","ok",0,0]
[{"$f":"'Rozliczenie kwartalne'!A91","v":"56"},{"$f":"'Rozliczenie kwartalne'!B91","v":""},{"$f":"'Załącznik nr 2 do rozliczenia'!H200","v":0},{"$f":"IF('Załącznik nr 1 do rozliczenia'!H204<0,ABS('Załącznik nr 1 do rozliczenia'!H204),0)","v":0},{"$f":"'Rozliczenie kwartalne'!E207","v":0},{"$f":"'Rozliczenie kwartalne'!G207","v":0},{"$f":"'Rozliczenie kwartalne'!H207","v":0},{"$f":"'Rozliczenie kwartalne'!I207","v":0},{"$f":"'Rozliczenie kwartalne'!J207","v":0},{"$f":"'Rozliczenie kwartalne'!K207","v":0},{"$f":"'Rozliczenie kwartalne'!L207","v":0},null,null,"56",0,0,0,0,0,0,0,0,0,0,0,"ok","ok",0,0]
[{"$f":"'Rozliczenie kwartalne'!A92","v":"57"},{"$f":"'Rozliczenie kwartalne'!B92","v":""},{"$f":"'Załącznik nr 2 do rozliczenia'!H201","v":0},{"$f":"IF('Załącznik nr 1 do rozliczenia'!H205<0,ABS('Załącznik nr 1 do rozliczenia'!H205),0)","v":0},{"$f":"'Rozliczenie kwartalne'!E208","v":0},{"$f":"'Rozliczenie kwartalne'!G208","v":0},{"$f":"'Rozliczenie kwartalne'!H208","v":0},{"$f":"'Rozliczenie kwartalne'!I208","v":0},{"$f":"'Rozliczenie kwartalne'!J208","v":0},{"$f":"'Rozliczenie kwartalne'!K208","v":0},{"$f":"'Rozliczenie kwartalne'!L208","v":0},null,null,"57",0,0,0,0,0,0,0,0,0,0,0,"ok","ok",0,0]
[{"$f":"'Rozliczenie kwartalne'!A93","v":"58"},{"$f":"'Rozliczenie kwartalne'!B93","v":""},{"$f":"'Załącznik nr 2 do rozliczenia'!H202","v":0},{"$f":"IF('Załącznik nr 1 do rozliczenia'!H206<0,ABS('Załącznik nr 1 do rozliczenia'!H206),0)","v":0},{"$f":"'Rozliczenie kwartalne'!E209","v":0},{"$f":"'Rozliczenie kwartalne'!G209","v":0},{"$f":"'Rozliczenie kwartalne'!H209","v":0},{"$f":"'Rozliczenie kwartalne'!I209","v":0},{"$f":"'Rozliczenie kwartalne'!J209","v":0},{"$f":"'Rozliczenie kwartalne'!K209","v":0},{"$f":"'Rozliczenie kwartalne'!L209","v":0},null,null,"58",0,0,0,0,0,0,0,0,0,0,0,"ok","ok",0,0]
[{"$f":"'Rozliczenie kwartalne'!A94","v":"59"},{"$f":"'Rozliczenie kwartalne'!B94","v":""},{"$f":"'Załącznik nr 2 do rozliczenia'!H203","v":0},{"$f":"IF('Załącznik nr 1 do rozliczenia'!H207<0,ABS('Załącznik nr 1 do rozliczenia'!H207),0)","v":0},{"$f":"'Rozliczenie kwartalne'!E210","v":0},{"$f":"'Rozliczenie kwartalne'!G210","v":0},{"$f":"'Rozliczenie kwartalne'!H210","v":0},{"$f":"'Rozliczenie kwartalne'!I210","v":0},{"$f":"'Rozliczenie kwartalne'!J210","v":0},{"$f":"'Rozliczenie kwartalne'!K210","v":0},{"$f":"'Rozliczenie kwartalne'!L210","v":0},null,null,"59",0,0,0,0,0,0,0,0,0,0,0,"ok","ok",0,0]
[{"$f":"'Rozliczenie kwartalne'!A95","v":"60"},{"$f":"'Rozliczenie kwartalne'!B95","v":""},{"$f":"'Załącznik nr 2 do rozliczenia'!H204","v":0},{"$f":"IF('Załącznik nr 1 do rozliczenia'!H208<0,ABS('Załącznik nr 1 do rozliczenia'!H208),0)","v":0},{"$f":"'Rozliczenie kwartalne'!E211","v":0},{"$f":"'Rozliczenie kwartalne'!G211","v":0},{"$f":"'Rozliczenie kwartalne'!H211","v":0},{"$f":"'Rozliczenie kwartalne'!I211","v":0},{"$f":"'Rozliczenie kwartalne'!J211","v":0},{"$f":"'Rozliczenie kwartalne'!K211","v":0},{"$f":"'Rozliczenie kwartalne'!L211","v":0},null,null,"60",0,0,0,0,0,0,0,0,0,0,0,"ok","ok",0,0]
[{"$f":"'Rozliczenie kwartalne'!A96","v":"61"},{"$f":"'Rozliczenie kwartalne'!B96","v":""},{"$f":"'Załącznik nr 2 do rozliczenia'!H205","v":0},{"$f":"IF('Załącznik nr 1 do rozliczenia'!H209<0,ABS('Załącznik nr 1 do rozliczenia'!H209),0)","v":0},{"$f":"'Rozliczenie kwartalne'!E212","v":0},{"$f":"'Rozliczenie kwartalne'!G212","v":0},{"$f":"'Rozliczenie kwartalne'!H212","v":0},{"$f":"'Rozliczenie kwartalne'!I212","v":0},{"$f":"'Rozliczenie kwartalne'!J212","v":0},{"$f":"'Rozliczenie kwartalne'!K212","v":0},{"$f":"'Rozliczenie kwartalne'!L212","v":0},null,null,"61",{"$f":"IFERROR(D63/C63,0)","v":0},{"$f":"F63","v":0},{"$f":"IFERROR(P63/O63,0)","v":0},0,{"$f":"E63*C63","v":0},{"$f":"IFERROR(V63*C63,0)","v":0},{"$f":"V63*C63","v":0},{"$f":"IFERROR(IF((D63-H63)/C63>=$L$3,$L$3,(D63-H63)/C63),0)","v":0},0,{"$f":"D63*0.1","v":0},0,"ok","ok",{"$f":"(T63+R63)-D63","v":0},{"$f":"D63-S63","v":0}]
[{"$f":"'Rozliczenie kwartalne'!A97","v":"62"},{"$f":"'Rozliczenie kwartalne'!B97","v":""},{"$f":"'Załącznik nr 2 do rozliczenia'!H206","v":0},{"$f":"IF('Załącznik nr 1 do rozliczenia'!H210<0,ABS('Załącznik nr 1 do rozliczenia'!H210),0)","v":0},{"$f":"'Rozliczenie kwartalne'!E213","v":0},{"$f":"'Rozliczenie kwartalne'!G213","v":0},{"$f":"'Rozliczenie kwartalne'!H213","v":0},{"$f":"'Rozliczenie kwartalne'!I213","v":0},{"$f":"'Rozliczenie kwartalne'!J213","v":0},{"$f":"'Rozliczenie kwartalne'!K213","v":0},{"$f":"'Rozliczenie kwartalne'!L213","v":0},null,null,"62",{"$f":"IFERROR(D64/C64,0)","v":0},{"$f":"F64","v":0},{"$f":"IFERROR(P64/O64,0)","v":0},0,{"$f":"E64*C64","v":0},{"$f":"IFERROR(V64*C64,0)","v":0},{"$f":"V64*C64","v":0},{"$f":"IFERROR(IF((D64-H64)/C64>=$L$3,$L$3,(D64-H64)/C64),0)","v":0},0,{"$f":"D64*0.1","v":0},0,"ok","ok",{"$f":"(T64+R64)-D64","v":0},{"$f":"D64-S64","v":0}]
[{"$f":"'Rozliczenie kwartalne'!A98","v":"63"},{"$f":"'Rozliczenie kwartalne'!B98","v":""},{"$f":"'Załącznik nr 2 do rozliczenia'!H207","v":0},{"$f":"IF('Załącznik nr 1 do rozliczenia'!H211<0,ABS('Załącznik nr 1 do rozliczenia'!H211),0)","v":0},{"$f":"'Rozliczenie kwartalne'!E214","v":0},{"$f":"'Rozliczenie kwartalne'!G214","v":0},{"$f":"'Rozliczenie kwartalne'!H214","v":0},{"$f":"'Rozliczenie kwartalne'!I214","v":0},{"$f":"'Rozliczenie kwartalne'!J214","v":0},{"$f":"'Rozliczenie kwartalne'!K214","v":0},{"$f":"'Rozliczenie kwartalne'!L214","v":0},null,null,"63",0,0,0,0,0,0,0,0,0,0,0,"ok","ok",0,0]
[{"$f":"'Rozliczenie kwartalne'!A99","v":"64"},{"$f":"'Rozliczenie kwartalne'!B99","v":""},{"$f":"'Załącznik nr 2 do rozliczenia'!H208","v":0},{"$f":"IF('Załącznik nr 1 do rozliczenia'!H212<0,ABS('Załącznik nr 1 do rozliczenia'!H212),0)","v":0},{"$f":"'Rozliczenie kwartalne'!E215","v":0},{"$f":"'Rozliczenie kwartalne'!G215","v":0},{"$f":"'Rozliczenie kwartalne'!H215","v":0},{"$f":"'Rozliczenie kwartalne'!I215","v":0},{"$f":"'Rozliczenie kwartalne'!J215","v":0},{"$f":"'Rozliczenie kwartalne'!K215","v":0},{"$f":"'Rozliczenie kwartalne'!L215","v":0},null,null,"64",0,0,0,0,0,0,0,0,0,0,0,"ok","ok",0,0]
[{"$f":"'Rozliczenie kwartalne'!A100","v":"65"},{"$f":"'Rozliczenie kwartalne'!B100","v":""},{"$f":"'Załącznik nr 2 do rozliczenia'!H209","v":0},{"$f":"IF('Załącznik nr 1 do rozliczenia'!H213<0,ABS('Załącznik nr 1 do rozliczenia'!H213),0)","v":0},{"$f":"'Rozliczenie kwartalne'!E216","v":0},{"$f":"'Rozliczenie kwartalne'!G216","v":0},{"$f":"'Rozliczenie kwartalne'!H216","v":0},{"$f":"'Rozliczenie kwartalne'!I216","v":0},{"$f":"'Rozliczenie kwartalne'!J216","v":0},{"$f":"'Rozliczenie kwartalne'!K216","v":0},{"$f":"'Rozliczenie kwartalne'!L216","v":0},null,null,"65",0,0,0,0,0,0,0,0,0,0,0,"ok","ok",0,0]
[{"$f":"'Rozliczenie kwartalne'!A101","v":"66"},{"$f":"'Rozliczenie kwartalne'!B101","v":""},{"$f":"'Załącznik nr 2 do rozliczenia'!H210","v":0},{"$f":"IF('Załącznik nr 1 do rozliczenia'!H214<0,ABS('Załącznik nr 1 do rozliczenia'!H214),0)","v":0},{"$f":"'Rozliczenie kwartalne'!E217","v":0},{"$f":"'Rozliczenie kwartalne'!G217","v":0},{"$f":"'Rozliczenie kwartalne'!H217","v":0},{"$f":"'Rozliczenie kwartalne'!I217","v":0},{"$f":"'Rozliczenie kwartalne'!J217","v":0},{"$f":"'Rozliczenie kwartalne'!K217","v":0},{"$f":"'Rozliczenie kwartalne'!L217","v":0},null,null,"66",0,0,0,0,0,0,0,0,{"$f":"IFERROR(ROUND(J68/C68,2),0)","v":0},0,0,"ok","ok",0,0]
[{"$f":"'Rozliczenie kwartalne'!A102","v":"67"},{"$f":"'Rozliczenie kwartalne'!B102","v":""},{"$f":"'Załącznik nr 2 do rozliczenia'!H211","v":0},{"$f":"IF('Załącznik nr 1 do rozliczenia'!H215<0,ABS('Załącznik nr 1 do rozliczenia'!H215),0)","v":0},{"$f":"'Rozliczenie kwartalne'!E218","v":0},{"$f":"'Rozliczenie kwartalne'!G218","v":0},{"$f":"'Rozliczenie kwartalne'!H218","v":0},{"$f":"'Rozliczenie kwartalne'!I218","v":0},{"$f":"'Rozliczenie kwartalne'!J218","v":0},{"$f":"'Rozliczenie kwartalne'!K218","v":0},{"$f":"'Rozliczenie kwartalne'!L218","v":0},null,null,"67",0,0,0,0,0,0,0,0,0,0,0,"ok","ok",0,0]
[{"$f":"'Rozliczenie kwartalne'!A103","v":"68"},{"$f":"'Rozliczenie kwartalne'!B103","v":""},{"$f":"'Załącznik nr 2 do rozliczenia'!H212","v":0},{"$f":"IF('Załącznik nr 1 do rozliczenia'!H216<0,ABS('Załącznik nr 1 do rozliczenia'!H216),0)","v":0},{"$f":"'Rozliczenie kwartalne'!E219","v":0},{"$f":"'Rozliczenie kwartalne'!G219","v":0},{"$f":"'Rozliczenie kwartalne'!H219","v":0},{"$f":"'Rozliczenie kwartalne'!I219","v":0},{"$f":"'Rozliczenie kwartalne'!J219","v":0},{"$f":"'Rozliczenie kwartalne'!K219","v":0},{"$f":"'Rozliczenie kwartalne'!L219","v":0},null,null,"68",0,0,0,0,0,0,0,0,0,0,0,"ok","ok",0,0]
[{"$f":"'Rozliczenie kwartalne'!A104","v":"69"},{"$f":"'Rozliczenie kwartalne'!B104","v":""},{"$f":"'Załącznik nr 2 do rozliczenia'!H213","v":0},{"$f":"IF('Załącznik nr 1 do rozliczenia'!H217<0,ABS('Załącznik nr 1 do rozliczenia'!H217),0)","v":0},{"$f":"'Rozliczenie kwartalne'!E220","v":0},{"$f":"'Rozliczenie kwartalne'!G220","v":0},{"$f":"'Rozliczenie kwartalne'!H220","v":0},{"$f":"'Rozliczenie kwartalne'!I220","v":0},{"$f":"'Rozliczenie kwartalne'!J220","v":0},{"$f":"'Rozliczenie kwartalne'!K220","v":0},{"$f":"'Rozliczenie kwartalne'!L220","v":0},null,null,"69",0,0,0,0,0,0,0,0,0,0,0,"ok","ok",0,0]
[{"$f":"'Rozliczenie kwartalne'!A105","v":"70"},{"$f":"'Rozliczenie kwartalne'!B105","v":""},{"$f":"'Załącznik nr 2 do rozliczenia'!H214","v":0},{"$f":"IF('Załącznik nr 1 do rozliczenia'!H218<0,ABS('Załącznik nr 1 do rozliczenia'!H218),0)","v":0},{"$f":"'Rozliczenie kwartalne'!E221","v":0},{"$f":"'Rozliczenie kwartalne'!G221","v":0},{"$f":"'Rozliczenie kwartalne'!H221","v":0},{"$f":"'Rozliczenie kwartalne'!I221","v":0},{"$f":"'Rozliczenie kwartalne'!J221","v":0},{"$f":"'Rozliczenie kwartalne'!K221","v":0},{"$f":"'Rozliczenie kwartalne'!L221","v":0},null,null,"70",0,0,0,0,0,0,0,0,0,0,0,"ok","ok",0,0]
[{"$f":"'Rozliczenie kwartalne'!A106","v":"71"},{"$f":"'Rozliczenie kwartalne'!B106","v":""},{"$f":"'Załącznik nr 2 do rozliczenia'!H215","v":0},{"$f":"IF('Załącznik nr 1 do rozliczenia'!H219<0,ABS('Załącznik nr 1 do rozliczenia'!H219),0)","v":0},{"$f":"'Rozliczenie kwartalne'!E222","v":0},{"$f":"'Rozliczenie kwartalne'!G222","v":0},{"$f":"'Rozliczenie kwartalne'!H222","v":0},{"$f":"'Rozliczenie kwartalne'!I222","v":0},{"$f":"'Rozliczenie kwartalne'!J222","v":0},{"$f":"'Rozliczenie kwartalne'!K222","v":0},{"$f":"'Rozliczenie kwartalne'!L222","v":0},null,null,"71",0,0,0,0,0,0,0,0,0,0,0,"ok","ok",0,0]
[{"$f":"'Rozliczenie kwartalne'!A107","v":"72"},{"$f":"'Rozliczenie kwartalne'!B107","v":""},{"$f":"'Załącznik nr 2 do rozliczenia'!H216","v":0},{"$f":"IF('Załącznik nr 1 do rozliczenia'!H220<0,ABS('Załącznik nr 1 do rozliczenia'!H220),0)","v":0},{"$f":"'Rozliczenie kwartalne'!E223","v":0},{"$f":"'Rozliczenie kwartalne'!G223","v":0},{"$f":"'Rozliczenie kwartalne'!H223","v":0},{"$f":"'Rozliczenie kwartalne'!I223","v":0},{"$f":"'Rozliczenie kwartalne'!J223","v":0},{"$f":"'Rozliczenie kwartalne'!K223","v":0},{"$f":"'Rozliczenie kwartalne'!L223","v":0},null,null,"72",0,0,0,0,0,0,0,0,0,0,0,"ok","ok",0,0]
[{"$f":"'Rozliczenie kwartalne'!A108","v":"73"},{"$f":"'Rozliczenie kwartalne'!B108","v":""},{"$f":"'Załącznik nr 2 do rozliczenia'!H217","v":0},{"$f":"IF('Załącznik nr 1 do rozliczenia'!H221<0,ABS('Załącznik nr 1 do rozliczenia'!H221),0)","v":0},{"$f":"'Rozliczenie kwartalne'!E224","v":0},{"$f":"'Rozliczenie kwartalne'!G224","v":0},{"$f":"'Rozliczenie kwartalne'!H224","v":0},{"$f":"'Rozliczenie kwartalne'!I224","v":0},{"$f":"'Rozliczenie kwartalne'!J224","v":0},{"$f":"'Rozliczenie kwartalne'!K224","v":0},{"$f":"'Rozliczenie kwartalne'!L224","v":0},null,null,"73",0,0,0,0,0,0,0,0,0,0,0,"ok","ok",0,0]
[{"$f":"'Rozliczenie kwartalne'!A109","v":"74"},{"$f":"'Rozliczenie kwartalne'!B109","v":""},{"$f":"'Załącznik nr 2 do rozliczenia'!H218","v":0},{"$f":"IF('Załącznik nr 1 do rozliczenia'!H222<0,ABS('Załącznik nr 1 do rozliczenia'!H222),0)","v":0},{"$f":"'Rozliczenie kwartalne'!E225","v":0},{"$f":"'Rozliczenie kwartalne'!G225","v":0},{"$f":"'Rozliczenie kwartalne'!H225","v":0},{"$f":"'Rozliczenie kwartalne'!I225","v":0},{"$f":"'Rozliczenie kwartalne'!J225","v":0},{"$f":"'Rozliczenie kwartalne'!K225","v":0},{"$f":"'Rozliczenie kwartalne'!L225","v":0},null,null,{"$f":"A76","v":"74"},0,0,0,0,0,0,0,0,0,0,0,"ok","ok",0,0]
[{"$f":"'Rozliczenie kwartalne'!A110","v":"75"},{"$f":"'Rozliczenie kwartalne'!B110","v":""},{"$f":"'Załącznik nr 2 do rozliczenia'!H219","v":0},{"$f":"IF('Załącznik nr 1 do rozliczenia'!H223<0,ABS('Załącznik nr 1 do rozliczenia'!H223),0)","v":0},{"$f":"'Rozliczenie kwartalne'!E226","v":0},{"$f":"'Rozliczenie kwartalne'!G226","v":0},{"$f":"'Rozliczenie kwartalne'!H226","v":0},{"$f":"'Rozliczenie kwartalne'!I226","v":0},{"$f":"'Rozliczenie kwartalne'!J226","v":0},{"$f":"'Rozliczenie kwartalne'!K226","v":0},{"$f":"'Rozliczenie kwartalne'!L226","v":0},null,null,"75",0,0,0,0,0,0,0,0,0,0,0,"ok","ok",0,0]
[{"$f":"'Rozliczenie kwartalne'!A111","v":"76"},{"$f":"'Rozliczenie kwartalne'!B111","v":""},{"$f":"'Załącznik nr 2 do rozliczenia'!H220","v":0},{"$f":"IF('Załącznik nr 1 do rozliczenia'!H224<0,ABS('Załącznik nr 1 do rozliczenia'!H224),0)","v":0},{"$f":"'Rozliczenie kwartalne'!E227","v":0},{"$f":"'Rozliczenie kwartalne'!G227","v":0},{"$f":"'Rozliczenie kwartalne'!H227","v":0},{"$f":"'Rozliczenie kwartalne'!I227","v":0},{"$f":"'Rozliczenie kwartalne'!J227","v":0},{"$f":"'Rozliczenie kwartalne'!K227","v":0},{"$f":"'Rozliczenie kwartalne'!L227","v":0},null,null,"76",0,0,0,0,0,0,0,0,0,0,0,"ok","ok",0,0]
[{"$f":"'Rozliczenie kwartalne'!A112","v":"77"},{"$f":"'Rozliczenie kwartalne'!B112","v":""},{"$f":"'Załącznik nr 2 do rozliczenia'!H221","v":0},{"$f":"IF('Załącznik nr 1 do rozliczenia'!H225<0,ABS('Załącznik nr 1 do rozliczenia'!H225),0)","v":0},{"$f":"'Rozliczenie kwartalne'!E228","v":0},{"$f":"'Rozliczenie kwartalne'!G228","v":0},{"$f":"'Rozliczenie kwartalne'!H228","v":0},{"$f":"'Rozliczenie kwartalne'!I228","v":0},{"$f":"'Rozliczenie kwartalne'!J228","v":0},{"$f":"'Rozliczenie kwartalne'!K228","v":0},{"$f":"'Rozliczenie kwartalne'!L228","v":0},null,null,"77",0,0,0,0,0,0,0,0,0,0,0,"ok","ok",0,0]
[{"$f":"'Rozliczenie kwartalne'!A113","v":"78"},{"$f":"'Rozliczenie kwartalne'!B113","v":""},{"$f":"'Załącznik nr 2 do rozliczenia'!H222","v":0},{"$f":"IF('Załącznik nr 1 do rozliczenia'!H226<0,ABS('Załącznik nr 1 do rozliczenia'!H226),0)","v":0},{"$f":"'Rozliczenie kwartalne'!E229","v":0},{"$f":"'Rozliczenie kwartalne'!G229","v":0},{"$f":"'Rozliczenie kwartalne'!H229","v":0},{"$f":"'Rozliczenie kwartalne'!I229","v":0},{"$f":"'Rozliczenie kwartalne'!J229","v":0},{"$f":"'Rozliczenie kwartalne'!K229","v":0},{"$f":"'Rozliczenie kwartalne'!L229","v":0},null,null,"78",0,0,0,0,0,0,0,0,0,0,0,"ok","ok",0,0]
[{"$f":"'Rozliczenie kwartalne'!A114","v":"79"},{"$f":"'Rozliczenie kwartalne'!B114","v":""},{"$f":"'Załącznik nr 2 do rozliczenia'!H223","v":0},{"$f":"IF('Załącznik nr 1 do rozliczenia'!H227<0,ABS('Załącznik nr 1 do rozliczenia'!H227),0)","v":0},{"$f":"'Rozliczenie kwartalne'!E230","v":0},{"$f":"'Rozliczenie kwartalne'!G230","v":0},{"$f":"'Rozliczenie kwartalne'!H230","v":0},{"$f":"'Rozliczenie kwartalne'!I230","v":0},{"$f":"'Rozliczenie kwartalne'!J230","v":0},{"$f":"'Rozliczenie kwartalne'!K230","v":0},{"$f":"'Rozliczenie kwartalne'!L230","v":0},null,null,"79",0,0,0,0,0,0,0,0,0,0,0,"ok","ok",0,0]
[{"$f":"'Rozliczenie kwartalne'!A115","v":"80"},{"$f":"'Rozliczenie kwartalne'!B115","v":""},{"$f":"'Załącznik nr 2 do rozliczenia'!H224","v":0},{"$f":"IF('Załącznik nr 1 do rozliczenia'!H228<0,ABS('Załącznik nr 1 do rozliczenia'!H228),0)","v":0},{"$f":"'Rozliczenie kwartalne'!E231","v":0},{"$f":"'Rozliczenie kwartalne'!G231","v":0},{"$f":"'Rozliczenie kwartalne'!H231","v":0},{"$f":"'Rozliczenie kwartalne'!I231","v":0},{"$f":"'Rozliczenie kwartalne'!J231","v":0},{"$f":"'Rozliczenie kwartalne'!K231","v":0},{"$f":"'Rozliczenie kwartalne'!L231","v":0},null,null,"80",0,0,0,0,0,0,0,0,0,0,0,"ok","ok",0,0]
[{"$f":"'Rozliczenie kwartalne'!A116","v":"81"},{"$f":"'Rozliczenie kwartalne'!B116","v":""},{"$f":"'Załącznik nr 2 do rozliczenia'!H225","v":0},{"$f":"IF('Załącznik nr 1 do rozliczenia'!H229<0,ABS('Załącznik nr 1 do rozliczenia'!H229),0)","v":0},{"$f":"'Rozliczenie kwartalne'!E232","v":0},{"$f":"'Rozliczenie kwartalne'!G232","v":0},{"$f":"'Rozliczenie kwartalne'!H232","v":0},{"$f":"'Rozliczenie kwartalne'!I232","v":0},{"$f":"'Rozliczenie kwartalne'!J232","v":0},{"$f":"'Rozliczenie kwartalne'!K232","v":0},{"$f":"'Rozliczenie kwartalne'!L232","v":0},null,null,"81",0,0,0,0,0,0,0,0,0,0,0,"ok","ok",0,0]
[{"$f":"'Rozliczenie kwartalne'!A117","v":"82"},{"$f":"'Rozliczenie kwartalne'!B117","v":""},{"$f":"'Załącznik nr 2 do rozliczenia'!H226","v":0},{"$f":"IF('Załącznik nr 1 do rozliczenia'!H230<0,ABS('Załącznik nr 1 do rozliczenia'!H230),0)","v":0},{"$f":"'Rozliczenie kwartalne'!E233","v":0},{"$f":"'Rozliczenie kwartalne'!G233","v":0},{"$f":"'Rozliczenie kwartalne'!H233","v":0},{"$f":"'Rozliczenie kwartalne'!I233","v":0},{"$f":"'Rozliczenie kwartalne'!J233","v":0},{"$f":"'Rozliczenie kwartalne'!K233","v":0},{"$f":"'Rozliczenie kwartalne'!L233","v":0},null,null,"82",0,0,0,0,0,0,0,0,0,0,0,"ok","ok",0,0]
[{"$f":"'Rozliczenie kwartalne'!A118","v":"83"},{"$f":"'Rozliczenie kwartalne'!B118","v":""},{"$f":"'Załącznik nr 2 do rozliczenia'!H227","v":0},{"$f":"IF('Załącznik nr 1 do rozliczenia'!H231<0,ABS('Załącznik nr 1 do rozliczenia'!H231),0)","v":0},{"$f":"'Rozliczenie kwartalne'!E234","v":0},{"$f":"'Rozliczenie kwartalne'!G234","v":0},{"$f":"'Rozliczenie kwartalne'!H234","v":0},{"$f":"'Rozliczenie kwartalne'!I234","v":0},{"$f":"'Rozliczenie kwartalne'!J234","v":0},{"$f":"'Rozliczenie kwartalne'!K234","v":0},{"$f":"'Rozliczenie kwartalne'!L234","v":0},null,null,"83",0,0,0,0,0,0,0,0,0,0,0,"ok","ok",0,0]
[{"$f":"'Rozliczenie kwartalne'!A119","v":"84"},{"$f":"'Rozliczenie kwartalne'!B119","v":""},{"$f":"'Załącznik nr 2 do rozliczenia'!H228","v":0},{"$f":"IF('Załącznik nr 1 do rozliczenia'!H232<0,ABS('Załącznik nr 1 do rozliczenia'!H232),0)","v":0},{"$f":"'Rozliczenie kwartalne'!E235","v":0},{"$f":"'Rozliczenie kwartalne'!G235","v":0},{"$f":"'Rozliczenie kwartalne'!H235","v":0},{"$f":"'Rozliczenie kwartalne'!I235","v":0},{"$f":"'Rozliczenie kwartalne'!J235","v":0},{"$f":"'Rozliczenie kwartalne'!K235","v":0},{"$f":"'Rozliczenie kwartalne'!L235","v":0},null,null,"84",0,0,0,0,0,0,0,0,0,0,0,"ok","ok",0,0]
[{"$f":"'Rozliczenie kwartalne'!A120","v":"85"},{"$f":"'Rozliczenie kwartalne'!B120","v":""},{"$f":"'Załącznik nr 2 do rozliczenia'!H229","v":0},{"$f":"IF('Załącznik nr 1 do rozliczenia'!H233<0,ABS('Załącznik nr 1 do rozliczenia'!H233),0)","v":0},{"$f":"'Rozliczenie kwartalne'!E236","v":0},{"$f":"'Rozliczenie kwartalne'!G236","v":0},{"$f":"'Rozliczenie kwartalne'!H236","v":0},{"$f":"'Rozliczenie kwartalne'!I236","v":0},{"$f":"'Rozliczenie kwartalne'!J236","v":0},{"$f":"'Rozliczenie kwartalne'!K236","v":0},{"$f":"'Rozliczenie kwartalne'!L236","v":0},null,null,"85",0,0,0,0,0,0,0,0,0,0,0,"ok","ok",0,0]
[{"$f":"'Rozliczenie kwartalne'!A121","v":"86"},{"$f":"'Rozliczenie kwartalne'!B121","v":""},{"$f":"'Załącznik nr 2 do rozliczenia'!H230","v":0},{"$f":"IF('Załącznik nr 1 do rozliczenia'!H234<0,ABS('Załącznik nr 1 do rozliczenia'!H234),0)","v":0},{"$f":"'Rozliczenie kwartalne'!E237","v":0},{"$f":"'Rozliczenie kwartalne'!G237","v":0},{"$f":"'Rozliczenie kwartalne'!H237","v":0},{"$f":"'Rozliczenie kwartalne'!I237","v":0},{"$f":"'Rozliczenie kwartalne'!J237","v":0},{"$f":"'Rozliczenie kwartalne'!K237","v":0},{"$f":"'Rozliczenie kwartalne'!L237","v":0},null,null,"86",0,0,0,0,0,0,0,0,0,0,0,"ok","ok",0,0]
[{"$f":"'Rozliczenie kwartalne'!A122","v":"87"},{"$f":"'Rozliczenie kwartalne'!B122","v":""},{"$f":"'Załącznik nr 2 do rozliczenia'!H231","v":0},{"$f":"IF('Załącznik nr 1 do rozliczenia'!H235<0,ABS('Załącznik nr 1 do rozliczenia'!H235),0)","v":0},{"$f":"'Rozliczenie kwartalne'!E238","v":0},{"$f":"'Rozliczenie kwartalne'!G238","v":0},{"$f":"'Rozliczenie kwartalne'!H238","v":0},{"$f":"'Rozliczenie kwartalne'!I238","v":0},{"$f":"'Rozliczenie kwartalne'!J238","v":0},{"$f":"'Rozliczenie kwartalne'!K238","v":0},{"$f":"'Rozliczenie kwartalne'!L238","v":0},null,null,"87",0,0,0,0,0,0,0,0,0,0,0,"ok","ok",0,0]
[{"$f":"'Rozliczenie kwartalne'!A123","v":"88"},{"$f":"'Rozliczenie kwartalne'!B123","v":""},{"$f":"'Załącznik nr 2 do rozliczenia'!H232","v":0},{"$f":"IF('Załącznik nr 1 do rozliczenia'!H236<0,ABS('Załącznik nr 1 do rozliczenia'!H236),0)","v":0},{"$f":"'Rozliczenie kwartalne'!E239","v":0},{"$f":"'Rozliczenie kwartalne'!G239","v":0},{"$f":"'Rozliczenie kwartalne'!H239","v":0},{"$f":"'Rozliczenie kwartalne'!I239","v":0},{"$f":"'Rozliczenie kwartalne'!J239","v":0},{"$f":"'Rozliczenie kwartalne'!K239","v":0},{"$f":"'Rozliczenie kwartalne'!L239","v":0},null,null,"88",0,0,0,0,0,0,0,0,0,0,0,"ok","ok",0,0]
[{"$f":"'Rozliczenie kwartalne'!A124","v":"89"},{"$f":"'Rozliczenie kwartalne'!B124","v":""},{"$f":"'Załącznik nr 2 do rozliczenia'!H233","v":0},{"$f":"IF('Załącznik nr 1 do rozliczenia'!H237<0,ABS('Załącznik nr 1 do rozliczenia'!H237),0)","v":0},{"$f":"'Rozliczenie kwartalne'!E240","v":0},{"$f":"'Rozliczenie kwartalne'!G240","v":0},{"$f":"'Rozliczenie kwartalne'!H240","v":0},{"$f":"'Rozliczenie kwartalne'!I240","v":0},{"$f":"'Rozliczenie kwartalne'!J240","v":0},{"$f":"'Rozliczenie kwartalne'!K240","v":0},{"$f":"'Rozliczenie kwartalne'!L240","v":0},null,null,"89",0,0,0,0,0,0,0,0,0,0,0,"ok","ok",0,0]
[{"$f":"'Rozliczenie kwartalne'!A125","v":"90"},{"$f":"'Rozliczenie kwartalne'!B125","v":""},{"$f":"'Załącznik nr 2 do rozliczenia'!H234","v":0},{"$f":"IF('Załącznik nr 1 do rozliczenia'!H238<0,ABS('Załącznik nr 1 do rozliczenia'!H238),0)","v":0},{"$f":"'Rozliczenie kwartalne'!E241","v":0},{"$f":"'Rozliczenie kwartalne'!G241","v":0},{"$f":"'Rozliczenie kwartalne'!H241","v":0},{"$f":"'Rozliczenie kwartalne'!I241","v":0},{"$f":"'Rozliczenie kwartalne'!J241","v":0},{"$f":"'Rozliczenie kwartalne'!K241","v":0},{"$f":"'Rozliczenie kwartalne'!L241","v":0},null,null,"90",0,0,0,0,0,0,0,0,0,0,0,"ok","ok",0,0]
[{"$f":"'Rozliczenie kwartalne'!A126","v":"91"},{"$f":"'Rozliczenie kwartalne'!B126","v":""},{"$f":"'Załącznik nr 2 do rozliczenia'!H235","v":0},{"$f":"IF('Załącznik nr 1 do rozliczenia'!H239<0,ABS('Załącznik nr 1 do rozliczenia'!H239),0)","v":0},{"$f":"'Rozliczenie kwartalne'!E242","v":0},{"$f":"'Rozliczenie kwartalne'!G242","v":0},{"$f":"'Rozliczenie kwartalne'!H242","v":0},{"$f":"'Rozliczenie kwartalne'!I242","v":0},{"$f":"'Rozliczenie kwartalne'!J242","v":0},{"$f":"'Rozliczenie kwartalne'!K242","v":0},{"$f":"'Rozliczenie kwartalne'!L242","v":0},null,null,"91",0,0,0,0,0,0,0,0,0,0,0,"ok","ok",0,0]
[{"$f":"'Rozliczenie kwartalne'!A127","v":"92"},{"$f":"'Rozliczenie kwartalne'!B127","v":""},{"$f":"'Załącznik nr 2 do rozliczenia'!H236","v":0},{"$f":"IF('Załącznik nr 1 do rozliczenia'!H240<0,ABS('Załącznik nr 1 do rozliczenia'!H240),0)","v":0},{"$f":"'Rozliczenie kwartalne'!E243","v":0},{"$f":"'Rozliczenie kwartalne'!G243","v":0},{"$f":"'Rozliczenie kwartalne'!H243","v":0},{"$f":"'Rozliczenie kwartalne'!I243","v":0},{"$f":"'Rozliczenie kwartalne'!J243","v":0},{"$f":"'Rozliczenie kwartalne'!K243","v":0},{"$f":"'Rozliczenie kwartalne'!L243","v":0},null,null,"92",0,0,0,0,0,0,0,0,0,0,0,"ok","ok",0,0]
[{"$f":"'Rozliczenie kwartalne'!A128","v":"93"},{"$f":"'Rozliczenie kwartalne'!B128","v":""},{"$f":"'Załącznik nr 2 do rozliczenia'!H237","v":0},{"$f":"IF('Załącznik nr 1 do rozliczenia'!H241<0,ABS('Załącznik nr 1 do rozliczenia'!H241),0)","v":0},{"$f":"'Rozliczenie kwartalne'!E244","v":0},{"$f":"'Rozliczenie kwartalne'!G244","v":0},{"$f":"'Rozliczenie kwartalne'!H244","v":0},{"$f":"'Rozliczenie kwartalne'!I244","v":0},{"$f":"'Rozliczenie kwartalne'!J244","v":0},{"$f":"'Rozliczenie kwartalne'!K244","v":0},{"$f":"'Rozliczenie kwartalne'!L244","v":0},null,null,"93",0,0,0,0,0,0,0,0,0,0,0,"ok","ok",0,0]
[{"$f":"'Rozliczenie kwartalne'!A129","v":"94"},{"$f":"'Rozliczenie kwartalne'!B129","v":""},{"$f":"'Załącznik nr 2 do rozliczenia'!H238","v":0},{"$f":"IF('Załącznik nr 1 do rozliczenia'!H242<0,ABS('Załącznik nr 1 do rozliczenia'!H242),0)","v":0},{"$f":"'Rozliczenie kwartalne'!E245","v":0},{"$f":"'Rozliczenie kwartalne'!G245","v":0},{"$f":"'Rozliczenie kwartalne'!H245","v":0},{"$f":"'Rozliczenie kwartalne'!I245","v":0},{"$f":"'Rozliczenie kwartalne'!J245","v":0},{"$f":"'Rozliczenie kwartalne'!K245","v":0},{"$f":"'Rozliczenie kwartalne'!L245","v":0},null,null,"94",0,0,0,0,0,0,0,0,0,0,0,"ok","ok",0,0]
[{"$f":"'Rozliczenie kwartalne'!A130","v":"95"},{"$f":"'Rozliczenie kwartalne'!B130","v":""},{"$f":"'Załącznik nr 2 do rozliczenia'!H239","v":0},{"$f":"IF('Załącznik nr 1 do rozliczenia'!H243<0,ABS('Załącznik nr 1 do rozliczenia'!H243),0)","v":0},{"$f":"'Rozliczenie kwartalne'!E246","v":0},{"$f":"'Rozliczenie kwartalne'!G246","v":0},{"$f":"'Rozliczenie kwartalne'!H246","v":0},{"$f":"'Rozliczenie kwartalne'!I246","v":0},{"$f":"'Rozliczenie kwartalne'!J246","v":0},{"$f":"'Rozliczenie kwartalne'!K246","v":0},{"$f":"'Rozliczenie kwartalne'!L246","v":0},null,null,"95",0,0,0,0,0,0,0,0,0,0,0,"ok","ok",0,0]
[{"$f":"'Rozliczenie kwartalne'!A131","v":"96"},{"$f":"'Rozliczenie kwartalne'!B131","v":""},{"$f":"'Załącznik nr 2 do rozliczenia'!H240","v":0},{"$f":"IF('Załącznik nr 1 do rozliczenia'!H244<0,ABS('Załącznik nr 1 do rozliczenia'!H244),0)","v":0},{"$f":"'Rozliczenie kwartalne'!E247","v":0},{"$f":"'Rozliczenie kwartalne'!G247","v":0},{"$f":"'Rozliczenie kwartalne'!H247","v":0},{"$f":"'Rozliczenie kwartalne'!I247","v":0},{"$f":"'Rozliczenie kwartalne'!J247","v":0},{"$f":"'Rozliczenie kwartalne'!K247","v":0},{"$f":"'Rozliczenie kwartalne'!L247","v":0},null,null,"96",0,0,0,0,0,0,0,0,0,0,0,"ok","ok",0,0]
[{"$f":"'Rozliczenie kwartalne'!A132","v":"97"},{"$f":"'Rozliczenie kwartalne'!B132","v":""},{"$f":"'Załącznik nr 2 do rozliczenia'!H241","v":0},{"$f":"IF('Załącznik nr 1 do rozliczenia'!H245<0,ABS('Załącznik nr 1 do rozliczenia'!H245),0)","v":0},{"$f":"'Rozliczenie kwartalne'!E248","v":0},{"$f":"'Rozliczenie kwartalne'!G248","v":0},{"$f":"'Rozliczenie kwartalne'!H248","v":0},{"$f":"'Rozliczenie kwartalne'!I248","v":0},{"$f":"'Rozliczenie kwartalne'!J248","v":0},{"$f":"'Rozliczenie kwartalne'!K248","v":0},{"$f":"'Rozliczenie kwartalne'!L248","v":0},null,null,"97",0,0,0,0,0,0,0,0,0,0,0,"ok","ok",0,0]
[{"$f":"'Rozliczenie kwartalne'!A133","v":"98"},{"$f":"'Rozliczenie kwartalne'!B133","v":""},{"$f":"'Załącznik nr 2 do rozliczenia'!H242","v":0},{"$f":"IF('Załącznik nr 1 do rozliczenia'!H246<0,ABS('Załącznik nr 1 do rozliczenia'!H246),0)","v":0},{"$f":"'Rozliczenie kwartalne'!E249","v":0},{"$f":"'Rozliczenie kwartalne'!G249","v":0},{"$f":"'Rozliczenie kwartalne'!H249","v":0},{"$f":"'Rozliczenie kwartalne'!I249","v":0},{"$f":"'Rozliczenie kwartalne'!J249","v":0},{"$f":"'Rozliczenie kwartalne'!K249","v":0},{"$f":"'Rozliczenie kwartalne'!L249","v":0},null,null,"98",0,0,0,0,0,0,0,0,0,0,0,"ok","ok",0,0]
[{"$f":"'Rozliczenie kwartalne'!A134","v":"99"},{"$f":"'Rozliczenie kwartalne'!B134","v":""},{"$f":"'Załącznik nr 2 do rozliczenia'!H243","v":0},{"$f":"IF('Załącznik nr 1 do rozliczenia'!H247<0,ABS('Załącznik nr 1 do rozliczenia'!H247),0)","v":0},{"$f":"'Rozliczenie kwartalne'!E250","v":0},{"$f":"'Rozliczenie kwartalne'!G250","v":0},{"$f":"'Rozliczenie kwartalne'!H250","v":0},{"$f":"'Rozliczenie kwartalne'!I250","v":0},{"$f":"'Rozliczenie kwartalne'!J250","v":0},{"$f":"'Rozliczenie kwartalne'!K250","v":0},{"$f":"'Rozliczenie kwartalne'!L250","v":0},null,null,"99",0,0,0,0,0,0,0,0,0,0,0,"ok","ok",0,0]
[{"$f":"'Rozliczenie kwartalne'!A135","v":"100"},{"$f":"'Rozliczenie kwartalne'!B135","v":""},{"$f":"'Załącznik nr 2 do rozliczenia'!H244","v":0},{"$f":"IF('Załącznik nr 1 do rozliczenia'!H248<0,ABS('Załącznik nr 1 do rozliczenia'!H248),0)","v":0},{"$f":"'Rozliczenie kwartalne'!E251","v":0},{"$f":"'Rozliczenie kwartalne'!G251","v":0},{"$f":"'Rozliczenie kwartalne'!H251","v":0},{"$f":"'Rozliczenie kwartalne'!I251","v":0},{"$f":"'Rozliczenie kwartalne'!J251","v":0},{"$f":"'Rozliczenie kwartalne'!K251","v":0},{"$f":"'Rozliczenie kwartalne'!L251","v":0},null,null,"100",0,0,0,0,0,0,0,0,0,0,0,"ok","ok",0,0]
[{"$f":"'Rozliczenie kwartalne'!A136","v":"101"},{"$f":"'Rozliczenie kwartalne'!B136","v":""},{"$f":"'Załącznik nr 2 do rozliczenia'!H245","v":0},{"$f":"IF('Załącznik nr 1 do rozliczenia'!H249<0,ABS('Załącznik nr 1 do rozliczenia'!H249),0)","v":0},{"$f":"'Rozliczenie kwartalne'!E252","v":0},{"$f":"'Rozliczenie kwartalne'!G252","v":0},{"$f":"'Rozliczenie kwartalne'!H252","v":0},{"$f":"'Rozliczenie kwartalne'!I252","v":0},{"$f":"'Rozliczenie kwartalne'!J252","v":0},{"$f":"'Rozliczenie kwartalne'!K252","v":0},{"$f":"'Rozliczenie kwartalne'!L252","v":0},null,null,"101",0,0,0,0,0,0,0,0,0,0,0,"ok","ok",0,0]
[{"$f":"'Rozliczenie kwartalne'!A137","v":"102"},{"$f":"'Rozliczenie kwartalne'!B137","v":""},{"$f":"'Załącznik nr 2 do rozliczenia'!H246","v":0},{"$f":"IF('Załącznik nr 1 do rozliczenia'!H250<0,ABS('Załącznik nr 1 do rozliczenia'!H250),0)","v":0},{"$f":"'Rozliczenie kwartalne'!E253","v":0},{"$f":"'Rozliczenie kwartalne'!G253","v":0},{"$f":"'Rozliczenie kwartalne'!H253","v":0},{"$f":"'Rozliczenie kwartalne'!I253","v":0},{"$f":"'Rozliczenie kwartalne'!J253","v":0},{"$f":"'Rozliczenie kwartalne'!K253","v":0},{"$f":"'Rozliczenie kwartalne'!L253","v":0},null,null,"102",0,0,0,0,0,0,0,0,0,0,0,"ok","ok",0,0]
[{"$f":"'Rozliczenie kwartalne'!A138","v":"103"},{"$f":"'Rozliczenie kwartalne'!B138","v":""},{"$f":"'Załącznik nr 2 do rozliczenia'!H247","v":0},{"$f":"IF('Załącznik nr 1 do rozliczenia'!H251<0,ABS('Załącznik nr 1 do rozliczenia'!H251),0)","v":0},{"$f":"'Rozliczenie kwartalne'!E254","v":0},{"$f":"'Rozliczenie kwartalne'!G254","v":0},{"$f":"'Rozliczenie kwartalne'!H254","v":0},{"$f":"'Rozliczenie kwartalne'!I254","v":0},{"$f":"'Rozliczenie kwartalne'!J254","v":0},{"$f":"'Rozliczenie kwartalne'!K254","v":0},{"$f":"'Rozliczenie kwartalne'!L254","v":0},null,null,"103",0,0,0,0,0,0,0,0,0,0,0,"ok","ok",0,0]
[{"$f":"'Rozliczenie kwartalne'!A139","v":"104"},{"$f":"'Rozliczenie kwartalne'!B139","v":""},{"$f":"'Załącznik nr 2 do rozliczenia'!H248","v":0},{"$f":"IF('Załącznik nr 1 do rozliczenia'!H252<0,ABS('Załącznik nr 1 do rozliczenia'!H252),0)","v":0},{"$f":"'Rozliczenie kwartalne'!E255","v":0},{"$f":"'Rozliczenie kwartalne'!G255","v":0},{"$f":"'Rozliczenie kwartalne'!H255","v":0},{"$f":"'Rozliczenie kwartalne'!I255","v":0},{"$f":"'Rozliczenie kwartalne'!J255","v":0},{"$f":"'Rozliczenie kwartalne'!K255","v":0},{"$f":"'Rozliczenie kwartalne'!L255","v":0},null,null,"104",0,0,0,0,0,0,0,0,0,0,0,"ok","ok",0,0]
[{"$f":"'Rozliczenie kwartalne'!A140","v":"105"},{"$f":"'Rozliczenie kwartalne'!B140","v":""},{"$f":"'Załącznik nr 2 do rozliczenia'!H249","v":0},{"$f":"IF('Załącznik nr 1 do rozliczenia'!H253<0,ABS('Załącznik nr 1 do rozliczenia'!H253),0)","v":0},{"$f":"'Rozliczenie kwartalne'!E256","v":0},{"$f":"'Rozliczenie kwartalne'!G256","v":0},{"$f":"'Rozliczenie kwartalne'!H256","v":0},{"$f":"'Rozliczenie kwartalne'!I256","v":0},{"$f":"'Rozliczenie kwartalne'!J256","v":0},{"$f":"'Rozliczenie kwartalne'!K256","v":0},{"$f":"'Rozliczenie kwartalne'!L256","v":0},null,null,"105",0,0,0,0,0,0,0,0,0,0,0,"ok","ok",0,0]
[{"$f":"'Rozliczenie kwartalne'!A141","v":"106"},{"$f":"'Rozliczenie kwartalne'!B141","v":""},{"$f":"'Załącznik nr 2 do rozliczenia'!H250","v":0},{"$f":"IF('Załącznik nr 1 do rozliczenia'!H254<0,ABS('Załącznik nr 1 do rozliczenia'!H254),0)","v":0},{"$f":"'Rozliczenie kwartalne'!E257","v":0},{"$f":"'Rozliczenie kwartalne'!G257","v":0},{"$f":"'Rozliczenie kwartalne'!H257","v":0},{"$f":"'Rozliczenie kwartalne'!I257","v":0},{"$f":"'Rozliczenie kwartalne'!J257","v":0},{"$f":"'Rozliczenie kwartalne'!K257","v":0},{"$f":"'Rozliczenie kwartalne'!L257","v":0},null,null,"106",0,0,0,0,0,0,0,0,0,0,0,"ok","ok",0,0]
[{"$f":"'Rozliczenie kwartalne'!A142","v":"107"},{"$f":"'Rozliczenie kwartalne'!B142","v":""},{"$f":"'Załącznik nr 2 do rozliczenia'!H251","v":0},{"$f":"IF('Załącznik nr 1 do rozliczenia'!H255<0,ABS('Załącznik nr 1 do rozliczenia'!H255),0)","v":0},{"$f":"'Rozliczenie kwartalne'!E258","v":0},{"$f":"'Rozliczenie kwartalne'!G258","v":0},{"$f":"'Rozliczenie kwartalne'!H258","v":0},{"$f":"'Rozliczenie kwartalne'!I258","v":0},{"$f":"'Rozliczenie kwartalne'!J258","v":0},{"$f":"'Rozliczenie kwartalne'!K258","v":0},{"$f":"'Rozliczenie kwartalne'!L258","v":0},null,null,"107",0,0,0,0,0,0,0,0,0,0,0,"ok","ok",0,0]
[{"$f":"'Rozliczenie kwartalne'!A143","v":"108"},{"$f":"'Rozliczenie kwartalne'!B143","v":""},{"$f":"'Załącznik nr 2 do rozliczenia'!H252","v":0},{"$f":"IF('Załącznik nr 1 do rozliczenia'!H256<0,ABS('Załącznik nr 1 do rozliczenia'!H256),0)","v":0},{"$f":"'Rozliczenie kwartalne'!E259","v":0},{"$f":"'Rozliczenie kwartalne'!G259","v":0},{"$f":"'Rozliczenie kwartalne'!H259","v":0},{"$f":"'Rozliczenie kwartalne'!I259","v":0},{"$f":"'Rozliczenie kwartalne'!J259","v":0},{"$f":"'Rozliczenie kwartalne'!K259","v":0},{"$f":"'Rozliczenie kwartalne'!L259","v":0},null,null,"108",0,0,0,0,0,0,0,0,0,0,0,"ok","ok",0,0]
[{"$f":"'Rozliczenie kwartalne'!A144","v":"109"},{"$f":"'Rozliczenie kwartalne'!B144","v":""},{"$f":"'Załącznik nr 2 do rozliczenia'!H253","v":0},{"$f":"IF('Załącznik nr 1 do rozliczenia'!H257<0,ABS('Załącznik nr 1 do rozliczenia'!H257),0)","v":0},{"$f":"'Rozliczenie kwartalne'!E260","v":0},{"$f":"'Rozliczenie kwartalne'!G260","v":0},{"$f":"'Rozliczenie kwartalne'!H260","v":0},{"$f":"'Rozliczenie kwartalne'!I260","v":0},{"$f":"'Rozliczenie kwartalne'!J260","v":0},{"$f":"'Rozliczenie kwartalne'!K260","v":0},{"$f":"'Rozliczenie kwartalne'!L260","v":0},null,null,"109",0,0,0,0,0,0,0,0,0,0,0,"ok","ok",0,0]
[{"$f":"'Rozliczenie kwartalne'!A145","v":"110"},{"$f":"'Rozliczenie kwartalne'!B145","v":""},{"$f":"'Załącznik nr 2 do rozliczenia'!H254","v":0},{"$f":"IF('Załącznik nr 1 do rozliczenia'!H258<0,ABS('Załącznik nr 1 do rozliczenia'!H258),0)","v":0},{"$f":"'Rozliczenie kwartalne'!E261","v":0},{"$f":"'Rozliczenie kwartalne'!G261","v":0},{"$f":"'Rozliczenie kwartalne'!H261","v":0},{"$f":"'Rozliczenie kwartalne'!I261","v":0},{"$f":"'Rozliczenie kwartalne'!J261","v":0},{"$f":"'Rozliczenie kwartalne'!K261","v":0},{"$f":"'Rozliczenie kwartalne'!L261","v":0},null,null,"110",0,0,0,0,0,0,0,0,0,0,0,"ok","ok",0,0]
[{"$f":"'Rozliczenie kwartalne'!A146","v":"Ogółem:"},null,{"$f":"'Załącznik nr 2 do rozliczenia'!H255","v":0},{"$f":"IF('Załącznik nr 1 do rozliczenia'!H259<0,ABS('Załącznik nr 1 do rozliczenia'!H259),0)","v":0},null,null,null,{"$f":"'Rozliczenie kwartalne'!I262","v":0},{"$f":"SUMIF(I3:I112,\">0\")","v":0},{"$f":"'Rozliczenie kwartalne'!K262","v":0},{"$f":"'Rozliczenie kwartalne'!L262","v":0},null,null,null,null,null,null,{"$f":"SUM(R3:R112)","v":0},{"$f":"SUM(S3:S112)","v":0},{"$f":"SUM(T3:T112)","v":0},{"$f":"SUM(U3:U112)","v":0},null,null,{"$f":"D113*0.1","v":0}]
[null,null,null,null,null,null,null,null,null,{"$f":"'Rozliczenie kwartalne'!K263","v":0},{"$f":"'Rozliczenie kwartalne'!L263","v":0}]
[null,null,null,null,null,null,null,null,null,{"$f":"'Rozliczenie kwartalne'!K264","v":0},{"$f":"'Rozliczenie kwartalne'!L264","v":0}]

{"sheet":"Weryfikacja 3","index":7,"n_rows":115,"n_cols":31,"rows_kept":115,"cut":false,"hidden":true,"merged":[[0,1,0,11]]}
[null,"Dane z wniosku",null,null,null,null,null,null,null,null,null,null,"ok","Wer.",null,null,null,null,null,null,null,null,null,null,null,null,null,null,null,null,"Zgodność danych z załącznikiem nr 1"]
["l.p","NAZWA LINII","WOZOKILOMETRY","DEFICYT","CENA USŁUGI","WKŁAD WŁASNY/KM [ZŁ]","WKŁAD WŁASNY [%]","WKŁAD WŁASNY [ZŁ]","POBRANA KWOTA DOPŁATY","NALEŻNA KWOTA DOPŁATY","NIEWYKORZYSTANA KWOTA DOPŁATY","STAWKA MAX Z UMOWY","X",{"$f":"A2","v":"l.p"},"Cena usługi","Wkład własny/km [zł]","Wkład własny [%]","Wkład własny [zł]","Def z ceny usł","Kwota dopłaty","Max kwota dopł na podst wk. wł.","Max kwota dopł na podst wk wł/wzkm ","Kwota dopłaty/wozokm","10% z deficytu ","10 % z ceny usługi","warunek 10%","max 1 (3) zł/wzkm","Różnica w finansowaniu","Różnica def z zaokrągleń",null,{"$f":"IF(Miesiące!P11='Rozliczenie kwartalne'!T81,'Weryfikacja 3'!$M$1,'Weryfikacja 3'!$M$2)","v":"ok"}]
[{"$f":"'Rozliczenie kwartalne'!A36","v":"1"},{"$f":"'Rozliczenie kwartalne'!B36","v":""},{"$f":"'Załącznik nr 2 do rozliczenia'!H261","v":0},{"$f":"IF('Załącznik nr 1 do rozliczenia'!H266<0,ABS('Załącznik nr 1 do rozliczenia'!H266),0)","v":0},{"$f":"'Rozliczenie kwartalne'!E268","v":0},{"$f":"'Rozliczenie kwartalne'!G268","v":0},{"$f":"'Rozliczenie kwartalne'!H268","v":0},{"$f":"'Rozliczenie kwartalne'!I268","v":0},{"$f":"'Rozliczenie kwartalne'!J268","v":0},{"$f":"'Rozliczenie kwartalne'!K268","v":0},{"$f":"'Rozliczenie kwartalne'!L268","v":0},3,null,"1",{"$f":"IFERROR(D3/C3,0)","v":0},{"$f":"F3","v":0},{"$f":"IFERROR(P3/O3,0)","v":0},{"$f":"P3*C3","v":0},{"$f":"E3*C3","v":0},{"$f":"IFERROR(V3*C3,0)","v":0},{"$f":"V3*C3","v":0},{"$f":"IFERROR(IF((D3-H3)/C3>=$L$3,$L$3,(D3-H3)/C3),0)","v":0},{"$f":"IFERROR(ROUND(J3/C3,2),0)","v":0},{"$f":"D3*0.1","v":0},{"$f":"O3*0.1","v":0},{"$f":"IF(P3>=Y3,$M$1,$M$2)","v":"ok"},{"$f":"IF(W3<=$L$3,$M$1,$M$2)","v":"ok"},{"$f":"(T3+R3)-D3","v":0},{"$f":"D3-S3","v":0}]
[{"$f":"'Rozliczenie kwartalne'!A37","v":"2"},{"$f":"'Rozliczenie kwartalne'!B37","v":""},{"$f":"'Załącznik nr 2 do rozliczenia'!H262","v":0},{"$f":"IF('Załącznik nr 1 do rozliczenia'!H267<0,ABS('Załącznik nr 1 do rozliczenia'!H267),0)","v":0},{"$f":"'Rozliczenie kwartalne'!E269","v":0},{"$f":"'Rozliczenie kwartalne'!G269","v":0},{"$f":"'Rozliczenie kwartalne'!H269","v":0},{"$f":"'Rozliczenie kwartalne'!I269","v":0},{"$f":"'Rozliczenie kwartalne'!J269","v":0},{"$f":"'Rozliczenie kwartalne'!K269","v":0},{"$f":"'Rozliczenie kwartalne'!L269","v":0},null,null,{"$f":"A4","v":"2"},{"$f":"IFERROR(D4/C4,0)","v":0},{"$f":"F4","v":0},{"$f":"IFERROR(P4/O4,0)","v":0},{"$f":"P4*C4","v":0},{"$f":"E4*C4","v":0},{"$f":"IFERROR(V4*C4,0)","v":0},{"$f":"V4*C4","v":0},{"$f":"IFERROR(IF((D4-H4)/C4>=$L$3,$L$3,(D4-H4)/C4),0)","v":0},{"$f":"IFERROR(ROUND(J4/C4,2),0)","v":0},{"$f":"D4*0.1","v":0},{"$f":"O4*0.1","v":0},{"$f":"IF(P4>=Y4,$M$1,$M$2)","v":"ok"},{"$f":"IF(W4<=$L$3,$M$1,$M$2)","v":"ok"},{"$f":"(T4+R4)-D4","v":0},{"$f":"D4-S4","v":0}]
[{"$f":"'Rozliczenie kwartalne'!A38","v":"3"},{"$f":"'Rozliczenie kwartalne'!B38","v":""},{"$f":"'Załącznik nr 2 do rozliczenia'!H263","v":0},{"$f":"IF('Załącznik nr 1 do rozliczenia'!H268<0,ABS('Załącznik nr 1 do rozliczenia'!H268),0)","v":0},{"$f":"'Rozliczenie kwartalne'!E270","v":0},{"$f":"'Rozliczenie kwartalne'!G270","v":0},{"$f":"'Rozliczenie kwartalne'!H270","v":0},{"$f":"'Rozliczenie kwartalne'!I270","v":0},{"$f":"'Rozliczenie kwartalne'!J270","v":0},{"$f":"'Rozliczenie kwartalne'!K270","v":0},{"$f":"'Rozliczenie kwartalne'!L270","v":0},null,null,"3",0,0,0,0,0,0,0,0,0,0,0,"ok","ok",0,0]
[{"$f":"'Rozliczenie kwartalne'!A39","v":"4"},{"$f":"'Rozliczenie kwartalne'!B39","v":""},{"$f":"'Załącznik nr 2 do rozliczenia'!H264","v":0},{"$f":"IF('Załącznik nr 1 do rozliczenia'!H269<0,ABS('Załącznik nr 1 do rozliczenia'!H269),0)","v":0},{"$f":"'Rozliczenie kwartalne'!E271","v":0},{"$f":"'Rozliczenie kwartalne'!G271","v":0},{"$f":"'Rozliczenie kwartalne'!H271","v":0},{"$f":"'Rozliczenie kwartalne'!I271","v":0},{"$f":"'Rozliczenie kwartalne'!J271","v":0},{"$f":"'Rozliczenie kwartalne'!K271","v":0},{"$f":"'Rozliczenie kwartalne'!L271","v":0},null,null,"4",0,0,0,0,0,0,0,0,0,0,0,"ok","ok",0,0]
[{"$f":"'Rozliczenie kwartalne'!A40","v":"5"},{"$f":"'Rozliczenie kwartalne'!B40","v":""},{"$f":"'Załącznik nr 2 do rozliczenia'!H265","v":0},{"$f":"IF('Załącznik nr 1 do rozliczenia'!H270<0,ABS('Załącznik nr 1 do rozliczenia'!H270),0)","v":0},{"$f":"'Rozliczenie kwartalne'!E272","v":0},{"$f":"'Rozliczenie kwartalne'!G272","v":0},{"$f":"'Rozliczenie kwartalne'!H272","v":0},{"$f":"'Rozliczenie kwartalne'!I272","v":0},{"$f":"'Rozliczenie kwartalne'!J272","v":0},{"$f":"'Rozliczenie kwartalne'!K272","v":0},{"$f":"'Rozliczenie kwartalne'!L272","v":0},null,null,"5",0,0,0,0,0,0,0,0,0,0,0,"ok","ok",0,0]
[{"$f":"'Rozliczenie kwartalne'!A41","v":"6"},{"$f":"'Rozliczenie kwartalne'!B41","v":""},{"$f":"'Załącznik nr 2 do rozliczenia'!H266","v":0},{"$f":"IF('Załącznik nr 1 do rozliczenia'!H271<0,ABS('Załącznik nr 1 do rozliczenia'!H271),0)","v":0},{"$f":"'Rozliczenie kwartalne'!E273","v":0},{"$f":"'Rozliczenie kwartalne'!G273","v":0},{"$f":"'Rozliczenie kwartalne'!H273","v":0},{"$f":"'Rozliczenie kwartalne'!I273","v":0},{"$f":"'Rozliczenie kwartalne'!J273","v":0},{"$f":"'Rozliczenie kwartalne'!K273","v":0},{"$f":"'Rozliczenie kwartalne'!L273","v":0},null,null,"6",0,0,0,0,0,0,0,0,0,0,0,"ok","ok",0,0]
[{"$f":"'Rozliczenie kwartalne'!A42","v":"7"},{"$f":"'Rozliczenie kwartalne'!B42","v":""},{"$f":"'Załącznik nr 2 do rozliczenia'!H267","v":0},{"$f":"IF('Załącznik nr 1 do rozliczenia'!H272<0,ABS('Załącznik nr 1 do rozliczenia'!H272),0)","v":0},{"$f":"'Rozliczenie kwartalne'!E274","v":0},{"$f":"'Rozliczenie kwartalne'!G274","v":0},{"$f":"'Rozliczenie kwartalne'!H274","v":0},{"$f":"'Rozliczenie kwartalne'!I274","v":0},{"$f":"'Rozliczenie kwartalne'!J274","v":0},{"$f":"'Rozliczenie kwartalne'!K274","v":0},{"$f":"'Rozliczenie kwartalne'!L274","v":0},null,null,"7",0,0,0,0,0,0,0,0,0,0,0,"ok","ok",0,0]
[{"$f":"'Rozliczenie kwartalne'!A43","v":"8"},{"$f":"'Rozliczenie kwartalne'!B43","v":""},{"$f":"'Załącznik nr 2 do rozliczenia'!H268","v":0},{"$f":"IF('Załącznik nr 1 do rozliczenia'!H273<0,ABS('Załącznik nr 1 do rozliczenia'!H273),0)","v":0},{"$f":"'Rozliczenie kwartalne'!E275","v":0},{"$f":"'Rozliczenie kwartalne'!G275","v":0},{"$f":"'Rozliczenie kwartalne'!H275","v":0},{"$f":"'Rozliczenie kwartalne'!I275","v":0},{"$f":"'Rozliczenie kwartalne'!J275","v":0},{"$f":"'Rozliczenie kwartalne'!K275","v":0},{"$f":"'Rozliczenie kwartalne'!L275","v":0},null,null,"8",0,0,0,0,0,0,0,0,0,0,0,"ok","ok",0,0]
[{"$f":"'Rozliczenie kwartalne'!A44","v":"9"},{"$f":"'Rozliczenie kwartalne'!B44","v":""},{"$f":"'Załącznik nr 2 do rozliczenia'!H269","v":0},{"$f":"IF('Załącznik nr 1 do rozliczenia'!H274<0,ABS('Załącznik nr 1 do rozliczenia'!H274),0)","v":0},{"$f":"'Rozliczenie kwartalne'!E276","v":0},{"$f":"'Rozliczenie kwartalne'!G276","v":0},{"$f":"'Rozliczenie kwartalne'!H276","v":0},{"$f":"'Rozliczenie kwartalne'!I276","v":0},{"$f":"'Rozliczenie kwartalne'!J276","v":0},{"$f":"'Rozliczenie kwartalne'!K276","v":0},{"$f":"'Rozliczenie kwartalne'!L276","v":0},null,null,"9",0,0,0,0,0,0,0,0,0,0,0,"ok","ok",0,0]
[{"$f":"'Rozliczenie kwartalne'!A45","v":"10"},{"$f":"'Rozliczenie kwartalne'!B45","v":""},{"$f":"'Załącznik nr 2 do rozliczenia'!H270","v":0},{"$f":"IF('Załącznik nr 1 do rozliczenia'!H275<0,ABS('Załącznik nr 1 do rozliczenia'!H275),0)","v":0},{"$f":"'Rozliczenie kwartalne'!E277","v":0},{"$f":"'Rozliczenie kwartalne'!G277","v":0},{"$f":"'Rozliczenie kwartalne'!H277","v":0},{"$f":"'Rozliczenie kwartalne'!I277","v":0},{"$f":"'Rozliczenie kwartalne'!J277","v":0},{"$f":"'Rozliczenie kwartalne'!K277","v":0},{"$f":"'Rozliczenie kwartalne'!L277","v":0},null,null,"10",0,0,0,0,0,0,0,0,0,0,0,"ok","ok",0,0]
[{"$f":"'Rozliczenie kwartalne'!A46","v":"11"},{"$f":"'Rozliczenie kwartalne'!B46","v":""},{"$f":"'Załącznik nr 2 do rozliczenia'!H271","v":0},{"$f":"IF('Załącznik nr 1 do rozliczenia'!H276<0,ABS('Załącznik nr 1 do rozliczenia'!H276),0)","v":0},{"$f":"'Rozliczenie kwartalne'!E278","v":0},{"$f":"'Rozliczenie kwartalne'!G278","v":0},{"$f":"'Rozliczenie kwartalne'!H278","v":0},{"$f":"'Rozliczenie kwartalne'!I278","v":0},{"$f":"'Rozliczenie kwartalne'!J278","v":0},{"$f":"'Rozliczenie kwartalne'!K278","v":0},{"$f":"'Rozliczenie kwartalne'!L278","v":0},null,null,"11",0,0,0,0,0,0,0,0,0,0,0,"ok","ok",0,0]
[{"$f":"'Rozliczenie kwartalne'!A47","v":"12"},{"$f":"'Rozliczenie kwartalne'!B47","v":""},{"$f":"'Załącznik nr 2 do rozliczenia'!H272","v":0},{"$f":"IF('Załącznik nr 1 do rozliczenia'!H277<0,ABS('Załącznik nr 1 do rozliczenia'!H277),0)","v":0},{"$f":"'Rozliczenie kwartalne'!E279","v":0},{"$f":"'Rozliczenie kwartalne'!G279","v":0},{"$f":"'Rozliczenie kwartalne'!H279","v":0},{"$f":"'Rozliczenie kwartalne'!I279","v":0},{"$f":"'Rozliczenie kwartalne'!J279","v":0},{"$f":"'Rozliczenie kwartalne'!K279","v":0},{"$f":"'Rozliczenie kwartalne'!L279","v":0},null,null,"12",0,0,0,0,0,0,0,0,0,0,0,"ok","ok",0,0]
[{"$f":"'Rozliczenie kwartalne'!A48","v":"13"},{"$f":"'Rozliczenie kwartalne'!B48","v":""},{"$f":"'Załącznik nr 2 do rozliczenia'!H273","v":0},{"$f":"IF('Załącznik nr 1 do rozliczenia'!H278<0,ABS('Załącznik nr 1 do rozliczenia'!H278),0)","v":0},{"$f":"'Rozliczenie kwartalne'!E280","v":0},{"$f":"'Rozliczenie kwartalne'!G280","v":0},{"$f":"'Rozliczenie kwartalne'!H280","v":0},{"$f":"'Rozliczenie kwartalne'!I280","v":0},{"$f":"'Rozliczenie kwartalne'!J280","v":0},{"$f":"'Rozliczenie kwartalne'!K280","v":0},{"$f":"'Rozliczenie kwartalne'!L280","v":0},null,null,"13",0,0,0,0,0,0,0,0,0,0,0,"ok","ok",0,0]
[{"$f":"'Rozliczenie kwartalne'!A49","v":"14"},{"$f":"'Rozliczenie kwartalne'!B49","v":""},{"$f":"'Załącznik nr 2 do rozliczenia'!H274","v":0},{"$f":"IF('Załącznik nr 1 do rozliczenia'!H279<0,ABS('Załącznik nr 1 do rozliczenia'!H279),0)","v":0},{"$f":"'Rozliczenie kwartalne'!E281","v":0},{"$f":"'Rozliczenie kwartalne'!G281","v":0},{"$f":"'Rozliczenie kwartalne'!H281","v":0},{"$f":"'Rozliczenie kwartalne'!I281","v":0},{"$f":"'Rozliczenie kwartalne'!J281","v":0},{"$f":"'Rozliczenie kwartalne'!K281","v":0},{"$f":"'Rozliczenie kwartalne'!L281","v":0},null,null,"14",0,0,0,0,0,0,0,0,0,0,0,"ok","ok",0,0]
[{"$f":"'Rozliczenie kwartalne'!A50","v":"15"},{"$f":"'Rozliczenie kwartalne'!B50","v":""},{"$f":"'Załącznik nr 2 do rozliczenia'!H275","v":0},{"$f":"IF('Załącznik nr 1 do rozliczenia'!H280<0,ABS('Załącznik nr 1 do rozliczenia'!H280),0)","v":0},{"$f":"'Rozliczenie kwartalne'!E282","v":0},{"$f":"'Rozliczenie kwartalne'!G282","v":0},{"$f":"'Rozliczenie kwartalne'!H282","v":0},{"$f":"'Rozliczenie kwartalne'!I282","v":0},{"$f":"'Rozliczenie kwartalne'!J282","v":0},{"$f":"'Rozliczenie kwartalne'!K282","v":0},{"$f":"'Rozliczenie kwartalne'!L282","v":0},null,null,"15",0,0,0,0,0,0,0,0,0,0,0,"ok","ok",0,0]
[{"$f":"'Rozliczenie kwartalne'!A51","v":"16"},{"$f":"'Rozliczenie kwartalne'!B51","v":""},{"$f":"'Załącznik nr 2 do rozliczenia'!H276","v":0},{"$f":"IF('Załącznik nr 1 do rozliczenia'!H281<0,ABS('Załącznik nr 1 do rozliczenia'!H281),0)","v":0},{"$f":"'Rozliczenie kwartalne'!E283","v":0},{"$f":"'Rozliczenie kwartalne'!G283","v":0},{"$f":"'Rozliczenie kwartalne'!H283","v":0},{"$f":"'Rozliczenie kwartalne'!I283","v":0},{"$f":"'Rozliczenie kwartalne'!J283","v":0},{"$f":"'Rozliczenie kwartalne'!K283","v":0},{"$f":"'Rozliczenie kwartalne'!L283","v":0},null,null,"16",0,0,0,0,0,0,0,0,0,0,0,"ok","ok",0,0]
[{"$f":"'Rozliczenie kwartalne'!A52","v":"17"},{"$f":"'Rozliczenie kwartalne'!B52","v":""},{"$f":"'Załącznik nr 2 do rozliczenia'!H277","v":0},{"$f":"IF('Załącznik nr 1 do rozliczenia'!H282<0,ABS('Załącznik nr 1 do rozliczenia'!H282),0)","v":0},{"$f":"'Rozliczenie kwartalne'!E284","v":0},{"$f":"'Rozliczenie kwartalne'!G284","v":0},{"$f":"'Rozliczenie kwartalne'!H284","v":0},{"$f":"'Rozliczenie kwartalne'!I284","v":0},{"$f":"'Rozliczenie kwartalne'!J284","v":0},{"$f":"'Rozliczenie kwartalne'!K284","v":0},{"$f":"'Rozliczenie kwartalne'!L284","v":0},null,null,"17",0,0,0,0,0,0,0,0,0,0,0,"ok","ok",0,0]
[{"$f":"'Rozliczenie kwartalne'!A53","v":"18"},{"$f":"'Rozliczenie kwartalne'!B53","v":""},{"$f":"'Załącznik nr 2 do rozliczenia'!H278","v":0},{"$f":"IF('Załącznik nr 1 do rozliczenia'!H283<0,ABS('Załącznik nr 1 do rozliczenia'!H283),0)","v":0},{"$f":"'Rozliczenie kwartalne'!E285","v":0},{"$f":"'Rozliczenie kwartalne'!G285","v":0},{"$f":"'Rozliczenie kwartalne'!H285","v":0},{"$f":"'Rozliczenie kwartalne'!I285","v":0},{"$f":"'Rozliczenie kwartalne'!J285","v":0},{"$f":"'Rozliczenie kwartalne'!K285","v":0},{"$f":"'Rozliczenie kwartalne'!L285","v":0},null,null,"18",0,0,0,0,0,0,0,0,0,0,0,"ok","ok",0,0]
[{"$f":"'Rozliczenie kwartalne'!A54","v":"19"},{"$f":"'Rozliczenie kwartalne'!B54","v":""},{"$f":"'Załącznik nr 2 do rozliczenia'!H279","v":0},{"$f":"IF('Załącznik nr 1 do rozliczenia'!H284<0,ABS('Załącznik nr 1 do rozliczenia'!H284),0)","v":0},{"$f":"'Rozliczenie kwartalne'!E286","v":0},{"$f":"'Rozliczenie kwartalne'!G286","v":0},{"$f":"'Rozliczenie kwartalne'!H286","v":0},{"$f":"'Rozliczenie kwartalne'!I286","v":0},{"$f":"'Rozliczenie kwartalne'!J286","v":0},{"$f":"'Rozliczenie kwartalne'!K286","v":0},{"$f":"'Rozliczenie kwartalne'!L286","v":0},null,null,"19",0,0,0,0,0,0,0,0,0,0,0,"ok","ok",0,0]
[{"$f":"'Rozliczenie kwartalne'!A55","v":"20"},{"$f":"'Rozliczenie kwartalne'!B55","v":""},{"$f":"'Załącznik nr 2 do rozliczenia'!H280","v":0},{"$f":"IF('Załącznik nr 1 do rozliczenia'!H285<0,ABS('Załącznik nr 1 do rozliczenia'!H285),0)","v":0},{"$f":"'Rozliczenie kwartalne'!E287","v":0},{"$f":"'Rozliczenie kwartalne'!G287","v":0},{"$f":"'Rozliczenie kwartalne'!H287","v":0},{"$f":"'Rozliczenie kwartalne'!I287","v":0},{"$f":"'Rozliczenie kwartalne'!J287","v":0},{"$f":"'Rozliczenie kwartalne'!K287","v":0},{"$f":"'Rozliczenie kwartalne'!L287","v":0},null,null,"20",0,0,0,0,0,0,0,0,0,0,0,"ok","ok",0,0]
[{"$f":"'Rozliczenie kwartalne'!A56","v":"21"},{"$f":"'Rozliczenie kwartalne'!B56","v":""},{"$f":"'Załącznik nr 2 do rozliczenia'!H281","v":0},{"$f":"IF('Załącznik nr 1 do rozliczenia'!H286<0,ABS('Załącznik nr 1 do rozliczenia'!H286),0)","v":0},{"$f":"'Rozliczenie kwartalne'!E288","v":0},{"$f":"'Rozliczenie kwartalne'!G288","v":0},{"$f":"'Rozliczenie kwartalne'!H288","v":0},{"$f":"'Rozliczenie kwartalne'!I288","v":0},{"$f":"'Rozliczenie kwartalne'!J288","v":0},{"$f":"'Rozliczenie kwartalne'!K288","v":0},{"$f":"'Rozliczenie kwartalne'!L288","v":0},null,null,"21",0,0,0,0,0,0,0,0,0,0,0,"ok","ok",0,0]
[{"$f":"'Rozliczenie kwartalne'!A57","v":"22"},{"$f":"'Rozliczenie kwartalne'!B57","v":""},{"$f":"'Załącznik nr 2 do rozliczenia'!H282","v":0},{"$f":"IF('Załącznik nr 1 do rozliczenia'!H287<0,ABS('Załącznik nr 1 do rozliczenia'!H287),0)","v":0},{"$f":"'Rozliczenie kwartalne'!E289","v":0},{"$f":"'Rozliczenie kwartalne'!G289","v":0},{"$f":"'Rozliczenie kwartalne'!H289","v":0},{"$f":"'Rozliczenie kwartalne'!I289","v":0},{"$f":"'Rozliczenie kwartalne'!J289","v":0},{"$f":"'Rozliczenie kwartalne'!K289","v":0},{"$f":"'Rozliczenie kwartalne'!L289","v":0},null,null,"22",0,0,0,0,0,0,0,0,0,0,0,"ok","ok",0,0]
[{"$f":"'Rozliczenie kwartalne'!A58","v":"23"},{"$f":"'Rozliczenie kwartalne'!B58","v":""},{"$f":"'Załącznik nr 2 do rozliczenia'!H283","v":0},{"$f":"IF('Załącznik nr 1 do rozliczenia'!H288<0,ABS('Załącznik nr 1 do rozliczenia'!H288),0)","v":0},{"$f":"'Rozliczenie kwartalne'!E290","v":0},{"$f":"'Rozliczenie kwartalne'!G290","v":0},{"$f":"'Rozliczenie kwartalne'!H290","v":0},{"$f":"'Rozliczenie kwartalne'!I290","v":0},{"$f":"'Rozliczenie kwartalne'!J290","v":0},{"$f":"'Rozliczenie kwartalne'!K290","v":0},{"$f":"'Rozliczenie kwartalne'!L290","v":0},null,null,"23",0,0,0,0,0,0,0,0,0,0,0,"ok","ok",0,0]
[{"$f":"'Rozliczenie kwartalne'!A59","v":"24"},{"$f":"'Rozliczenie kwartalne'!B59","v":""},{"$f":"'Załącznik nr 2 do rozliczenia'!H284","v":0},{"$f":"IF('Załącznik nr 1 do rozliczenia'!H289<0,ABS('Załącznik nr 1 do rozliczenia'!H289),0)","v":0},{"$f":"'Rozliczenie kwartalne'!E291","v":0},{"$f":"'Rozliczenie kwartalne'!G291","v":0},{"$f":"'Rozliczenie kwartalne'!H291","v":0},{"$f":"'Rozliczenie kwartalne'!I291","v":0},{"$f":"'Rozliczenie kwartalne'!J291","v":0},{"$f":"'Rozliczenie kwartalne'!K291","v":0},{"$f":"'Rozliczenie kwartalne'!L291","v":0},null,null,"24",0,0,0,0,0,0,0,0,0,0,0,"ok","ok",0,0]
[{"$f":"'Rozliczenie kwartalne'!A60","v":"25"},{"$f":"'Rozliczenie kwartalne'!B60","v":""},{"$f":"'Załącznik nr 2 do rozliczenia'!H285","v":0},{"$f":"IF('Załącznik nr 1 do rozliczenia'!H290<0,ABS('Załącznik nr 1 do rozliczenia'!H290),0)","v":0},{"$f":"'Rozliczenie kwartalne'!E292","v":0},{"$f":"'Rozliczenie kwartalne'!G292","v":0},{"$f":"'Rozliczenie kwartalne'!H292","v":0},{"$f":"'Rozliczenie kwartalne'!I292","v":0},{"$f":"'Rozliczenie kwartalne'!J292","v":0},{"$f":"'Rozliczenie kwartalne'!K292","v":0},{"$f":"'Rozliczenie kwartalne'!L292","v":0},null,null,"25",0,0,0,0,0,0,0,0,0,0,0,"ok","ok",0,0]
[{"$f":"'Rozliczenie kwartalne'!A61","v":"26"},{"$f":"'Rozliczenie kwartalne'!B61","v":""},{"$f":"'Załącznik nr 2 do rozliczenia'!H286","v":0},{"$f":"IF('Załącznik nr 1 do rozliczenia'!H291<0,ABS('Załącznik nr 1 do rozliczenia'!H291),0)","v":0},{"$f":"'Rozliczenie kwartalne'!E293","v":0},{"$f":"'Rozliczenie kwartalne'!G293","v":0},{"$f":"'Rozliczenie kwartalne'!H293","v":0},{"$f":"'Rozliczenie kwartalne'!I293","v":0},{"$f":"'Rozliczenie kwartalne'!J293","v":0},{"$f":"'Rozliczenie kwartalne'!K293","v":0},{"$f":"'Rozliczenie kwartalne'!L293","v":0},null,null,"26",0,0,0,0,0,0,0,0,0,0,0,"ok","ok",0,0]
[{"$f":"'Rozliczenie kwartalne'!A62","v":"27"},{"$f":"'Rozliczenie kwartalne'!B62","v":""},{"$f":"'Załącznik nr 2 do rozliczenia'!H287","v":0},{"$f":"IF('Załącznik nr 1 do rozliczenia'!H292<0,ABS('Załącznik nr 1 do rozliczenia'!H292),0)","v":0},{"$f":"'Rozliczenie kwartalne'!E294","v":0},{"$f":"'Rozliczenie kwartalne'!G294","v":0},{"$f":"'Rozliczenie kwartalne'!H294","v":0},{"$f":"'Rozliczenie kwartalne'!I294","v":0},{"$f":"'Rozliczenie kwartalne'!J294","v":0},{"$f":"'Rozliczenie kwartalne'!K294","v":0},{"$f":"'Rozliczenie kwartalne'!L294","v":0},null,null,"27",0,0,0,0,0,0,0,0,0,0,0,"ok","ok",0,0]
[{"$f":"'Rozliczenie kwartalne'!A63","v":"28"},{"$f":"'Rozliczenie kwartalne'!B63","v":""},{"$f":"'Załącznik nr 2 do rozliczenia'!H288","v":0},{"$f":"IF('Załącznik nr 1 do rozliczenia'!H293<0,ABS('Załącznik nr 1 do rozliczenia'!H293),0)","v":0},{"$f":"'Rozliczenie kwartalne'!E295","v":0},{"$f":"'Rozliczenie kwartalne'!G295","v":0},{"$f":"'Rozliczenie kwartalne'!H295","v":0},{"$f":"'Rozliczenie kwartalne'!I295","v":0},{"$f":"'Rozliczenie kwartalne'!J295","v":0},{"$f":"'Rozliczenie kwartalne'!K295","v":0},{"$f":"'Rozliczenie kwartalne'!L295","v":0},null,null,"28",0,0,0,0,0,0,0,0,0,0,0,"ok","ok",0,0]
[{"$f":"'Rozliczenie kwartalne'!A64","v":"29"},{"$f":"'Rozliczenie kwartalne'!B64","v":""},{"$f":"'Załącznik nr 2 do rozliczenia'!H289","v":0},{"$f":"IF('Załącznik nr 1 do rozliczenia'!H294<0,ABS('Załącznik nr 1 do rozliczenia'!H294),0)","v":0},{"$f":"'Rozliczenie kwartalne'!E296","v":0},{"$f":"'Rozliczenie kwartalne'!G296","v":0},{"$f":"'Rozliczenie kwartalne'!H296","v":0},{"$f":"'Rozliczenie kwartalne'!I296","v":0},{"$f":"'Rozliczenie kwartalne'!J296","v":0},{"$f":"'Rozliczenie kwartalne'!K296","v":0},{"$f":"'Rozliczenie kwartalne'!L296","v":0},null,null,"29",0,0,0,0,0,0,0,0,0,0,0,"ok","ok",0,0]
[{"$f":"'Rozliczenie kwartalne'!A65","v":"30"},{"$f":"'Rozliczenie kwartalne'!B65","v":""},{"$f":"'Załącznik nr 2 do rozliczenia'!H290","v":0},{"$f":"IF('Załącznik nr 1 do rozliczenia'!H295<0,ABS('Załącznik nr 1 do rozliczenia'!H295),0)","v":0},{"$f":"'Rozliczenie kwartalne'!E297","v":0},{"$f":"'Rozliczenie kwartalne'!G297","v":0},{"$f":"'Rozliczenie kwartalne'!H297","v":0},{"$f":"'Rozliczenie kwartalne'!I297","v":0},{"$f":"'Rozliczenie kwartalne'!J297","v":0},{"$f":"'Rozliczenie kwartalne'!K297","v":0},{"$f":"'Rozliczenie kwartalne'!L297","v":0},null,null,"30",0,0,0,0,0,0,0,0,0,0,0,"ok","ok",0,0]
[{"$f":"'Rozliczenie kwartalne'!A66","v":"31"},{"$f":"'Rozliczenie kwartalne'!B66","v":""},{"$f":"'Załącznik nr 2 do rozliczenia'!H291","v":0},{"$f":"IF('Załącznik nr 1 do rozliczenia'!H296<0,ABS('Załącznik nr 1 do rozliczenia'!H296),0)","v":0},{"$f":"'Rozliczenie kwartalne'!E298","v":0},{"$f":"'Rozliczenie kwartalne'!G298","v":0},{"$f":"'Rozliczenie kwartalne'!H298","v":0},{"$f":"'Rozliczenie kwartalne'!I298","v":0},{"$f":"'Rozliczenie kwartalne'!J298","v":0},{"$f":"'Rozliczenie kwartalne'!K298","v":0},{"$f":"'Rozliczenie kwartalne'!L298","v":0},null,null,"31",0,0,0,0,0,0,0,0,0,0,0,"ok","ok",0,0]
[{"$f":"'Rozliczenie kwartalne'!A67","v":"32"},{"$f":"'Rozliczenie kwartalne'!B67","v":""},{"$f":"'Załącznik nr 2 do rozliczenia'!H292","v":0},{"$f":"IF('Załącznik nr 1 do rozliczenia'!H297<0,ABS('Załącznik nr 1 do rozliczenia'!H297),0)","v":0},{"$f":"'Rozliczenie kwartalne'!E299","v":0},{"$f":"'Rozliczenie kwartalne'!G299","v":0},{"$f":"'Rozliczenie kwartalne'!H299","v":0},{"$f":"'Rozliczenie kwartalne'!I299","v":0},{"$f":"'Rozliczenie kwartalne'!J299","v":0},{"$f":"'Rozliczenie kwartalne'!K299","v":0},{"$f":"'Rozliczenie kwartalne'!L299","v":0},null,null,"32",0,0,0,0,0,0,0,0,0,0,0,"ok","ok",0,0]
[{"$f":"'Rozliczenie kwartalne'!A68","v":"33"},{"$f":"'Rozliczenie kwartalne'!B68","v":""},{"$f":"'Załącznik nr 2 do rozliczenia'!H293","v":0},{"$f":"IF('Załącznik nr 1 do rozliczenia'!H298<0,ABS('Załącznik nr 1 do rozliczenia'!H298),0)","v":0},{"$f":"'Rozliczenie kwartalne'!E300","v":0},{"$f":"'Rozliczenie kwartalne'!G300","v":0},{"$f":"'Rozliczenie kwartalne'!H300","v":0},{"$f":"'Rozliczenie kwartalne'!I300","v":0},{"$f":"'Rozliczenie kwartalne'!J300","v":0},{"$f":"'Rozliczenie kwartalne'!K300","v":0},{"$f":"'Rozliczenie kwartalne'!L300","v":0},null,null,"33",0,0,0,0,0,0,0,0,0,0,0,"ok","ok",0,0]
[{"$f":"'Rozliczenie kwartalne'!A69","v":"34"},{"$f":"'Rozliczenie kwartalne'!B69","v":""},{"$f":"'Załącznik nr 2 do rozliczenia'!H294","v":0},{"$f":"IF('Załącznik nr 1 do rozliczenia'!H299<0,ABS('Załącznik nr 1 do rozliczenia'!H299),0)","v":0},{"$f":"'Rozliczenie kwartalne'!E301","v":0},{"$f":"'Rozliczenie kwartalne'!G301","v":0},{"$f":"'Rozliczenie kwartalne'!H301","v":0},{"$f":"'Rozliczenie kwartalne'!I301","v":0},{"$f":"'Rozliczenie kwartalne'!J301","v":0},{"$f":"'Rozliczenie kwartalne'!K301","v":0},{"$f":"'Rozliczenie kwartalne'!L301","v":0},null,null,"34",0,0,0,0,0,0,0,0,0,0,0,"ok","ok",0,0]
[{"$f":"'Rozliczenie kwartalne'!A70","v":"35"},{"$f":"'Rozliczenie kwartalne'!B70","v":""},{"$f":"'Załącznik nr 2 do rozliczenia'!H295","v":0},{"$f":"IF('Załącznik nr 1 do rozliczenia'!H300<0,ABS('Załącznik nr 1 do rozliczenia'!H300),0)","v":0},{"$f":"'Rozliczenie kwartalne'!E302","v":0},{"$f":"'Rozliczenie kwartalne'!G302","v":0},{"$f":"'Rozliczenie kwartalne'!H302","v":0},{"$f":"'Rozliczenie kwartalne'!I302","v":0},{"$f":"'Rozliczenie kwartalne'!J302","v":0},{"$f":"'Rozliczenie kwartalne'!K302","v":0},{"$f":"'Rozliczenie kwartalne'!L302","v":0},null,null,"35",0,0,0,0,0,0,0,0,0,0,0,"ok","ok",0,0]
[{"$f":"'Rozliczenie kwartalne'!A71","v":"36"},{"$f":"'Rozliczenie kwartalne'!B71","v":""},{"$f":"'Załącznik nr 2 do rozliczenia'!H296","v":0},{"$f":"IF('Załącznik nr 1 do rozliczenia'!H301<0,ABS('Załącznik nr 1 do rozliczenia'!H301),0)","v":0},{"$f":"'Rozliczenie kwartalne'!E303","v":0},{"$f":"'Rozliczenie kwartalne'!G303","v":0},{"$f":"'Rozliczenie kwartalne'!H303","v":0},{"$f":"'Rozliczenie kwartalne'!I303","v":0},{"$f":"'Rozliczenie kwartalne'!J303","v":0},{"$f":"'Rozliczenie kwartalne'!K303","v":0},{"$f":"'Rozliczenie kwartalne'!L303","v":0},null,null,"36",0,0,0,0,0,0,0,0,0,0,0,"ok","ok",0,0]
[{"$f":"'Rozliczenie kwartalne'!A72","v":"37"},{"$f":"'Rozliczenie kwartalne'!B72","v":""},{"$f":"'Załącznik nr 2 do rozliczenia'!H297","v":0},{"$f":"IF('Załącznik nr 1 do rozliczenia'!H302<0,ABS('Załącznik nr 1 do rozliczenia'!H302),0)","v":0},{"$f":"'Rozliczenie kwartalne'!E304","v":0},{"$f":"'Rozliczenie kwartalne'!G304","v":0},{"$f":"'Rozliczenie kwartalne'!H304","v":0},{"$f":"'Rozliczenie kwartalne'!I304","v":0},{"$f":"'Rozliczenie kwartalne'!J304","v":0},{"$f":"'Rozliczenie kwartalne'!K304","v":0},{"$f":"'Rozliczenie kwartalne'!L304","v":0},null,null,"37",0,0,0,0,0,0,0,0,0,0,0,"ok","ok",0,0]
[{"$f":"'Rozliczenie kwartalne'!A73","v":"38"},{"$f":"'Rozliczenie kwartalne'!B73","v":""},{"$f":"'Załącznik nr 2 do rozliczenia'!H298","v":0},{"$f":"IF('Załącznik nr 1 do rozliczenia'!H303<0,ABS('Załącznik nr 1 do rozliczenia'!H303),0)","v":0},{"$f":"'Rozliczenie kwartalne'!E305","v":0},{"$f":"'Rozliczenie kwartalne'!G305","v":0},{"$f":"'Rozliczenie kwartalne'!H305","v":0},{"$f":"'Rozliczenie kwartalne'!I305","v":0},{"$f":"'Rozliczenie kwartalne'!J305","v":0},{"$f":"'Rozliczenie kwartalne'!K305","v":0},{"$f":"'Rozliczenie kwartalne'!L305","v":0},null,null,"38",0,0,0,0,0,0,0,0,0,0,0,"ok","ok",0,0]
[{"$f":"'Rozliczenie kwartalne'!A74","v":"39"},{"$f":"'Rozliczenie kwartalne'!B74","v":""},{"$f":"'Załącznik nr 2 do rozliczenia'!H299","v":0},{"$f":"IF('Załącznik nr 1 do rozliczenia'!H304<0,ABS('Załącznik nr 1 do rozliczenia'!H304),0)","v":0},{"$f":"'Rozliczenie kwartalne'!E306","v":0},{"$f":"'Rozliczenie kwartalne'!G306","v":0},{"$f":"'Rozliczenie kwartalne'!H306","v":0},{"$f":"'Rozliczenie kwartalne'!I306","v":0},{"$f":"'Rozliczenie kwartalne'!J306","v":0},{"$f":"'Rozliczenie kwartalne'!K306","v":0},{"$f":"'Rozliczenie kwartalne'!L306","v":0},null,null,"39",0,0,0,0,0,0,0,0,0,0,0,"ok","ok",0,0]
[{"$f":"'Rozliczenie kwartalne'!A75","v":"40"},{"$f":"'Rozliczenie kwartalne'!B75","v":""},{"$f":"'Załącznik nr 2 do rozliczenia'!H300","v":0},{"$f":"IF('Załącznik nr 1 do rozliczenia'!H305<0,ABS('Załącznik nr 1 do rozliczenia'!H305),0)","v":0},{"$f":"'Rozliczenie kwartalne'!E307","v":0},{"$f":"'Rozliczenie kwartalne'!G307","v":0},{"$f":"'Rozliczenie kwartalne'!H307","v":0},{"$f":"'Rozliczenie kwartalne'!I307","v":0},{"$f":"'Rozliczenie kwartalne'!J307","v":0},{"$f":"'Rozliczenie kwartalne'!K307","v":0},{"$f":"'Rozliczenie kwartalne'!L307","v":0},null,null,"40",0,0,0,0,0,0,0,0,0,0,0,"ok","ok",0,0]
[{"$f":"'Rozliczenie kwartalne'!A76","v":"41"},{"$f":"'Rozliczenie kwartalne'!B76","v":""},{"$f":"'Załącznik nr 2 do rozliczenia'!H301","v":0},{"$f":"IF('Załącznik nr 1 do rozliczenia'!H306<0,ABS('Załącznik nr 1 do rozliczenia'!H306),0)","v":0},{"$f":"'Rozliczenie kwartalne'!E308","v":0},{"$f":"'Rozliczenie kwartalne'!G308","v":0},{"$f":"'Rozliczenie kwartalne'!H308","v":0},{"$f":"'Rozliczenie kwartalne'!I308","v":0},{"$f":"'Rozliczenie kwartalne'!J308","v":0},{"$f":"'Rozliczenie kwartalne'!K308","v":0},{"$f":"'Rozliczenie kwartalne'!L308","v":0},null,null,"41",0,0,0,0,0,0,0,0,0,0,0,"ok","ok",0,0]
[{"$f":"'Rozliczenie kwartalne'!A77","v":"42"},{"$f":"'Rozliczenie kwartalne'!B77","v":""},{"$f":"'Załącznik nr 2 do rozliczenia'!H302","v":0},{"$f":"IF('Załącznik nr 1 do rozliczenia'!H307<0,ABS('Załącznik nr 1 do rozliczenia'!H307),0)","v":0},{"$f":"'Rozliczenie kwartalne'!E309","v":0},{"$f":"'Rozliczenie kwartalne'!G309","v":0},{"$f":"'Rozliczenie kwartalne'!H309","v":0},{"$f":"'Rozliczenie kwartalne'!I309","v":0},{"$f":"'Rozliczenie kwartalne'!J309","v":0},{"$f":"'Rozliczenie kwartalne'!K309","v":0},{"$f":"'Rozliczenie kwartalne'!L309","v":0},null,null,"42",0,0,0,0,0,0,0,0,0,0,0,"ok","ok",0,0]
[{"$f":"'Rozliczenie kwartalne'!A78","v":"43"},{"$f":"'Rozliczenie kwartalne'!B78","v":""},{"$f":"'Załącznik nr 2 do rozliczenia'!H303","v":0},{"$f":"IF('Załącznik nr 1 do rozliczenia'!H308<0,ABS('Załącznik nr 1 do rozliczenia'!H308),0)","v":0},{"$f":"'Rozliczenie kwartalne'!E310","v":0},{"$f":"'Rozliczenie kwartalne'!G310","v":0},{"$f":"'Rozliczenie kwartalne'!H310","v":0},{"$f":"'Rozliczenie kwartalne'!I310","v":0},{"$f":"'Rozliczenie kwartalne'!J310","v":0},{"$f":"'Rozliczenie kwartalne'!K310","v":0},{"$f":"'Rozliczenie kwartalne'!L310","v":0},null,null,"43",0,0,0,0,0,0,0,0,0,0,0,"ok","ok",0,0]
[{"$f":"'Rozliczenie kwartalne'!A79","v":"44"},{"$f":"'Rozliczenie kwartalne'!B79","v":""},{"$f":"'Załącznik nr 2 do rozliczenia'!H304","v":0},{"$f":"IF('Załącznik nr 1 do rozliczenia'!H309<0,ABS('Załącznik nr 1 do rozliczenia'!H309),0)","v":0},{"$f":"'Rozliczenie kwartalne'!E311","v":0},{"$f":"'Rozliczenie kwartalne'!G311","v":0},{"$f":"'Rozliczenie kwartalne'!H311","v":0},{"$f":"'Rozliczenie kwartalne'!I311","v":0},{"$f":"'Rozliczenie kwartalne'!J311","v":0},{"$f":"'Rozliczenie kwartalne'!K311","v":0},{"$f":"'Rozliczenie kwartalne'!L311","v":0},null,null,"44",0,0,0,0,0,0,0,0,0,0,0,"ok","ok",0,0]
[{"$f":"'Rozliczenie kwartalne'!A80","v":"45"},{"$f":"'Rozliczenie kwartalne'!B80","v":""},{"$f":"'Załącznik nr 2 do rozliczenia'!H305","v":0},{"$f":"IF('Załącznik nr 1 do rozliczenia'!H310<0,ABS('Załącznik nr 1 do rozliczenia'!H310),0)","v":0},{"$f":"'Rozliczenie kwartalne'!E312","v":0},{"$f":"'Rozliczenie kwartalne'!G312","v":0},{"$f":"'Rozliczenie kwartalne'!H312","v":0},{"$f":"'Rozliczenie kwartalne'!I312","v":0},{"$f":"'Rozliczenie kwartalne'!J312","v":0},{"$f":"'Rozliczenie kwartalne'!K312","v":0},{"$f":"'Rozliczenie kwartalne'!L312","v":0},null,null,"45",0,0,0,0,0,0,0,0,0,0,0,"ok","ok",0,0]
[{"$f":"'Rozliczenie kwartalne'!A81","v":"46"},{"$f":"'Rozliczenie kwartalne'!B81","v":""},{"$f":"'Załącznik nr 2 do rozliczenia'!H306","v":0},{"$f":"IF('Załącznik nr 1 do rozliczenia'!H311<0,ABS('Załącznik nr 1 do rozliczenia'!H311),0)","v":0},{"$f":"'Rozliczenie kwartalne'!E313","v":0},{"$f":"'Rozliczenie kwartalne'!G313","v":0},{"$f":"'Rozliczenie kwartalne'!H313","v":0},{"$f":"'Rozliczenie kwartalne'!I313","v":0},{"$f":"'Rozliczenie kwartalne'!J313","v":0},{"$f":"'Rozliczenie kwartalne'!K313","v":0},{"$f":"'Rozliczenie kwartalne'!L313","v":0},null,null,"46",0,0,0,0,0,0,0,0,0,0,0,"ok","ok",0,0]
[{"$f":"'Rozliczenie kwartalne'!A82","v":"47"},{"$f":"'Rozliczenie kwartalne'!B82","v":""},{"$f":"'Załącznik nr 2 do rozliczenia'!H307","v":0},{"$f":"IF('Załącznik nr 1 do rozliczenia'!H312<0,ABS('Załącznik nr 1 do rozliczenia'!H312),0)","v":0},{"$f":"'Rozliczenie kwartalne'!E314","v":0},{"$f":"'Rozliczenie kwartalne'!G314","v":0},{"$f":"'Rozliczenie kwartalne'!H314","v":0},{"$f":"'Rozliczenie kwartalne'!I314","v":0},{"$f":"'Rozliczenie kwartalne'!J314","v":0},{"$f":"'Rozliczenie kwartalne'!K314","v":0},{"$f":"'Rozliczenie kwartalne'!L314","v":0},null,null,"47",0,0,0,0,0,0,0,0,0,0,0,"ok","ok",0,0]
[{"$f":"'Rozliczenie kwartalne'!A83","v":"48"},{"$f":"'Rozliczenie kwartalne'!B83","v":""},{"$f":"'Załącznik nr 2 do rozliczenia'!H308","v":0},{"$f":"IF('Załącznik nr 1 do rozliczenia'!H313<0,ABS('Załącznik nr 1 do rozliczenia'!H313),0)","v":0},{"$f":"'Rozliczenie kwartalne'!E315","v":0},{"$f":"'Rozliczenie kwartalne'!G315","v":0},{"$f":"'Rozliczenie kwartalne'!H315","v":0},{"$f":"'Rozliczenie kwartalne'!I315","v":0},{"$f":"'Rozliczenie kwartalne'!J315","v":0},{"$f":"'Rozliczenie kwartalne'!K315","v":0},{"$f":"'Rozliczenie kwartalne'!L315","v":0},null,null,"48",0,0,0,0,0,0,0,0,0,0,0,"ok","ok",0,0]
[{"$f":"'Rozliczenie kwartalne'!A84","v":"49"},{"$f":"'Rozliczenie kwartalne'!B84","v":""},{"$f":"'Załącznik nr 2 do rozliczenia'!H309","v":0},{"$f":"IF('Załącznik nr 1 do rozliczenia'!H314<0,ABS('Załącznik nr 1 do rozliczenia'!H314),0)","v":0},{"$f":"'Rozliczenie kwartalne'!E316","v":0},{"$f":"'Rozliczenie kwartalne'!G316","v":0},{"$f":"'Rozliczenie kwartalne'!H316","v":0},{"$f":"'Rozliczenie kwartalne'!I316","v":0},{"$f":"'Rozliczenie kwartalne'!J316","v":0},{"$f":"'Rozliczenie kwartalne'!K316","v":0},{"$f":"'Rozliczenie kwartalne'!L316","v":0},null,null,"49",0,0,0,0,0,0,0,0,0,0,0,"ok","ok",0,0]
[{"$f":"'Rozliczenie kwartalne'!A85","v":"50"},{"$f":"'Rozliczenie kwartalne'!B85","v":""},{"$f":"'Załącznik nr 2 do rozliczenia'!H310","v":0},{"$f":"IF('Załącznik nr 1 do rozliczenia'!H315<0,ABS('Załącznik nr 1 do rozliczenia'!H315),0)","v":0},{"$f":"'Rozliczenie kwartalne'!E317","v":0},{"$f":"'Rozliczenie kwartalne'!G317","v":0},{"$f":"'Rozliczenie kwartalne'!H317","v":0},{"$f":"'Rozliczenie kwartalne'!I317","v":0},{"$f":"'Rozliczenie kwartalne'!J317","v":0},{"$f":"'Rozliczenie kwartalne'!K317","v":0},{"$f":"'Rozliczenie kwartalne'!L317","v":0},null,null,"50",0,0,0,0,0,0,0,0,0,0,0,"ok","ok",0,0]
[{"$f":"'Rozliczenie kwartalne'!A86","v":"51"},{"$f":"'Rozliczenie kwartalne'!B86","v":""},{"$f":"'Załącznik nr 2 do rozliczenia'!H311","v":0},{"$f":"IF('Załącznik nr 1 do rozliczenia'!H316<0,ABS('Załącznik nr 1 do rozliczenia'!H316),0)","v":0},{"$f":"'Rozliczenie kwartalne'!E318","v":0},{"$f":"'Rozliczenie kwartalne'!G318","v":0},{"$f":"'Rozliczenie kwartalne'!H318","v":0},{"$f":"'Rozliczenie kwartalne'!I318","v":0},{"$f":"'Rozliczenie kwartalne'!J318","v":0},{"$f":"'Rozliczenie kwartalne'!K318","v":0},{"$f":"'Rozliczenie kwartalne'!L318","v":0},null,null,"51",0,0,0,0,0,0,0,0,0,0,0,"ok","ok",0,0]
[{"$f":"'Rozliczenie kwartalne'!A87","v":"52"},{"$f":"'Rozliczenie kwartalne'!B87","v":""},{"$f":"'Załącznik nr 2 do rozliczenia'!H312","v":0},{"$f":"IF('Załącznik nr 1 do rozliczenia'!H317<0,ABS('Załącznik nr 1 do rozliczenia'!H317),0)","v":0},{"$f":"'Rozliczenie kwartalne'!E319","v":0},{"$f":"'Rozliczenie kwartalne'!G319","v":0},{"$f":"'Rozliczenie kwartalne'!H319","v":0},{"$f":"'Rozliczenie kwartalne'!I319","v":0},{"$f":"'Rozliczenie kwartalne'!J319","v":0},{"$f":"'Rozliczenie kwartalne'!K319","v":0},{"$f":"'Rozliczenie kwartalne'!L319","v":0},null,null,"52",0,0,0,0,0,0,0,0,0,0,0,"ok","ok",0,0]
[{"$f":"'Rozliczenie kwartalne'!A88","v":"53"},{"$f":"'Rozliczenie kwartalne'!B88","v":""},{"$f":"'Załącznik nr 2 do rozliczenia'!H313","v":0},{"$f":"IF('Załącznik nr 1 do rozliczenia'!H318<0,ABS('Załącznik nr 1 do rozliczenia'!H318),0)","v":0},{"$f":"'Rozliczenie kwartalne'!E320","v":0},{"$f":"'Rozliczenie kwartalne'!G320","v":0},{"$f":"'Rozliczenie kwartalne'!H320","v":0},{"$f":"'Rozliczenie kwartalne'!I320","v":0},{"$f":"'Rozliczenie kwartalne'!J320","v":0},{"$f":"'Rozliczenie kwartalne'!K320","v":0},{"$f":"'Rozliczenie kwartalne'!L320","v":0},null,null,"53",0,0,0,0,0,0,0,0,0,0,0,"ok","ok",0,0]
[{"$f":"'Rozliczenie kwartalne'!A89","v":"54"},{"$f":"'Rozliczenie kwartalne'!B89","v":""},{"$f":"'Załącznik nr 2 do rozliczenia'!H314","v":0},{"$f":"IF('Załącznik nr 1 do rozliczenia'!H319<0,ABS('Załącznik nr 1 do rozliczenia'!H319),0)","v":0},{"$f":"'Rozliczenie kwartalne'!E321","v":0},{"$f":"'Rozliczenie kwartalne'!G321","v":0},{"$f":"'Rozliczenie kwartalne'!H321","v":0},{"$f":"'Rozliczenie kwartalne'!I321","v":0},{"$f":"'Rozliczenie kwartalne'!J321","v":0},{"$f":"'Rozliczenie kwartalne'!K321","v":0},{"$f":"'Rozliczenie kwartalne'!L321","v":0},null,null,"54",0,0,0,0,0,0,0,0,0,0,0,"ok","ok",0,0]
[{"$f":"'Rozliczenie kwartalne'!A90","v":"55"},{"$f":"'Rozliczenie kwartalne'!B90","v":""},{"$f":"'Załącznik nr 2 do rozliczenia'!H315","v":0},{"$f":"IF('Załącznik nr 1 do rozliczenia'!H320<0,ABS('Załącznik nr 1 do rozliczenia'!H320),0)","v":0},{"$f":"'Rozliczenie kwartalne'!E322","v":0},{"$f":"'Rozliczenie kwartalne'!G322","v":0},{"$f":"'Rozliczenie kwartalne'!H322","v":0},{"$f":"'Rozliczenie kwartalne'!I322","v":0},{"$f":"'Rozliczenie kwartalne'!J322","v":0},{"$f":"'Rozliczenie kwartalne'!K322","v":0},{"$f":"'Rozliczenie kwartalne'!L322","v":0},null,null,"55",0,0,0,0,0,0,0,0,0,0,0,"ok","ok",0,0]
[{"$f":"'Rozliczenie kwartalne'!A91","v":"56"},{"$f":"'Rozliczenie kwartalne'!B91","v":""},{"$f":"'Załącznik nr 2 do rozliczenia'!H316","v":0},{"$f":"IF('Załącznik nr 1 do rozliczenia'!H321<0,ABS('Załącznik nr 1 do rozliczenia'!H321),0)","v":0},{"$f":"'Rozliczenie kwartalne'!E323","v":0},{"$f":"'Rozliczenie kwartalne'!G323","v":0},{"$f":"'Rozliczenie kwartalne'!H323","v":0},{"$f":"'Rozliczenie kwartalne'!I323","v":0},{"$f":"'Rozliczenie kwartalne'!J323","v":0},{"$f":"'Rozliczenie kwartalne'!K323","v":0},{"$f":"'Rozliczenie kwartalne'!L323","v":0},null,null,"56",0,0,0,0,0,0,0,0,0,0,0,"ok","ok",0,0]
[{"$f":"'Rozliczenie kwartalne'!A92","v":"57"},{"$f":"'Rozliczenie kwartalne'!B92","v":""},{"$f":"'Załącznik nr 2 do rozliczenia'!H317","v":0},{"$f":"IF('Załącznik nr 1 do rozliczenia'!H322<0,ABS('Załącznik nr 1 do rozliczenia'!H322),0)","v":0},{"$f":"'Rozliczenie kwartalne'!E324","v":0},{"$f":"'Rozliczenie kwartalne'!G324","v":0},{"$f":"'Rozliczenie kwartalne'!H324","v":0},{"$f":"'Rozliczenie kwartalne'!I324","v":0},{"$f":"'Rozliczenie kwartalne'!J324","v":0},{"$f":"'Rozliczenie kwartalne'!K324","v":0},{"$f":"'Rozliczenie kwartalne'!L324","v":0},null,null,"57",0,0,0,0,0,0,0,0,0,0,0,"ok","ok",0,0]
[{"$f":"'Rozliczenie kwartalne'!A93","v":"58"},{"$f":"'Rozliczenie kwartalne'!B93","v":""},{"$f":"'Załącznik nr 2 do rozliczenia'!H318","v":0},{"$f":"IF('Załącznik nr 1 do rozliczenia'!H323<0,ABS('Załącznik nr 1 do rozliczenia'!H323),0)","v":0},{"$f":"'Rozliczenie kwartalne'!E325","v":0},{"$f":"'Rozliczenie kwartalne'!G325","v":0},{"$f":"'Rozliczenie kwartalne'!H325","v":0},{"$f":"'Rozliczenie kwartalne'!I325","v":0},{"$f":"'Rozliczenie kwartalne'!J325","v":0},{"$f":"'Rozliczenie kwartalne'!K325","v":0},{"$f":"'Rozliczenie kwartalne'!L325","v":0},null,null,"58",0,0,0,0,0,0,0,0,0,0,0,"ok","ok",0,0]
[{"$f":"'Rozliczenie kwartalne'!A94","v":"59"},{"$f":"'Rozliczenie kwartalne'!B94","v":""},{"$f":"'Załącznik nr 2 do rozliczenia'!H319","v":0},{"$f":"IF('Załącznik nr 1 do rozliczenia'!H324<0,ABS('Załącznik nr 1 do rozliczenia'!H324),0)","v":0},{"$f":"'Rozliczenie kwartalne'!E326","v":0},{"$f":"'Rozliczenie kwartalne'!G326","v":0},{"$f":"'Rozliczenie kwartalne'!H326","v":0},{"$f":"'Rozliczenie kwartalne'!I326","v":0},{"$f":"'Rozliczenie kwartalne'!J326","v":0},{"$f":"'Rozliczenie kwartalne'!K326","v":0},{"$f":"'Rozliczenie kwartalne'!L326","v":0},null,null,"59",0,0,0,0,0,0,0,0,0,0,0,"ok","ok",0,0]
[{"$f":"'Rozliczenie kwartalne'!A95","v":"60"},{"$f":"'Rozliczenie kwartalne'!B95","v":""},{"$f":"'Załącznik nr 2 do rozliczenia'!H320","v":0},{"$f":"IF('Załącznik nr 1 do rozliczenia'!H325<0,ABS('Załącznik nr 1 do rozliczenia'!H325),0)","v":0},{"$f":"'Rozliczenie kwartalne'!E327","v":0},{"$f":"'Rozliczenie kwartalne'!G327","v":0},{"$f":"'Rozliczenie kwartalne'!H327","v":0},{"$f":"'Rozliczenie kwartalne'!I327","v":0},{"$f":"'Rozliczenie kwartalne'!J327","v":0},{"$f":"'Rozliczenie kwartalne'!K327","v":0},{"$f":"'Rozliczenie kwartalne'!L327","v":0},null,null,"60",0,0,0,0,0,0,0,0,0,0,0,"ok","ok",0,0]
[{"$f":"'Rozliczenie kwartalne'!A96","v":"61"},{"$f":"'Rozliczenie kwartalne'!B96","v":""},{"$f":"'Załącznik nr 2 do rozliczenia'!H321","v":0},{"$f":"IF('Załącznik nr 1 do rozliczenia'!H326<0,ABS('Załącznik nr 1 do rozliczenia'!H326),0)","v":0},{"$f":"'Rozliczenie kwartalne'!E328","v":0},{"$f":"'Rozliczenie kwartalne'!G328","v":0},{"$f":"'Rozliczenie kwartalne'!H328","v":0},{"$f":"'Rozliczenie kwartalne'!I328","v":0},{"$f":"'Rozliczenie kwartalne'!J328","v":0},{"$f":"'Rozliczenie kwartalne'!K328","v":0},{"$f":"'Rozliczenie kwartalne'!L328","v":0},null,null,"61",0,0,0,0,0,0,0,0,0,0,0,"ok","ok",0,0]
[{"$f":"'Rozliczenie kwartalne'!A97","v":"62"},{"$f":"'Rozliczenie kwartalne'!B97","v":""},{"$f":"'Załącznik nr 2 do rozliczenia'!H322","v":0},{"$f":"IF('Załącznik nr 1 do rozliczenia'!H327<0,ABS('Załącznik nr 1 do rozliczenia'!H327),0)","v":0},{"$f":"'Rozliczenie kwartalne'!E329","v":0},{"$f":"'Rozliczenie kwartalne'!G329","v":0},{"$f":"'Rozliczenie kwartalne'!H329","v":0},{"$f":"'Rozliczenie kwartalne'!I329","v":0},{"$f":"'Rozliczenie kwartalne'!J329","v":0},{"$f":"'Rozliczenie kwartalne'!K329","v":0},{"$f":"'Rozliczenie kwartalne'!L329","v":0},null,null,"62",0,0,0,0,0,0,0,0,0,0,0,"ok","ok",0,0]
[{"$f":"'Rozliczenie kwartalne'!A98","v":"63"},{"$f":"'Rozliczenie kwartalne'!B98","v":""},{"$f":"'Załącznik nr 2 do rozliczenia'!H323","v":0},{"$f":"IF('Załącznik nr 1 do rozliczenia'!H328<0,ABS('Załącznik nr 1 do rozliczenia'!H328),0)","v":0},{"$f":"'Rozliczenie kwartalne'!E330","v":0},{"$f":"'Rozliczenie kwartalne'!G330","v":0},{"$f":"'Rozliczenie kwartalne'!H330","v":0},{"$f":"'Rozliczenie kwartalne'!I330","v":0},{"$f":"'Rozliczenie kwartalne'!J330","v":0},{"$f":"'Rozliczenie kwartalne'!K330","v":0},{"$f":"'Rozliczenie kwartalne'!L330","v":0},null,null,"63",0,0,0,0,0,0,0,0,0,0,0,"ok","ok",0,0]
[{"$f":"'Rozliczenie kwartalne'!A99","v":"64"},{"$f":"'Rozliczenie kwartalne'!B99","v":""},{"$f":"'Załącznik nr 2 do rozliczenia'!H324","v":0},{"$f":"IF('Załącznik nr 1 do rozliczenia'!H329<0,ABS('Załącznik nr 1 do rozliczenia'!H329),0)","v":0},{"$f":"'Rozliczenie kwartalne'!E331","v":0},{"$f":"'Rozliczenie kwartalne'!G331","v":0},{"$f":"'Rozliczenie kwartalne'!H331","v":0},{"$f":"'Rozliczenie kwartalne'!I331","v":0},{"$f":"'Rozliczenie kwartalne'!J331","v":0},{"$f":"'Rozliczenie kwartalne'!K331","v":0},{"$f":"'Rozliczenie kwartalne'!L331","v":0},null,null,"64",0,0,0,0,0,0,0,0,0,0,0,"ok","ok",0,0]
[{"$f":"'Rozliczenie kwartalne'!A100","v":"65"},{"$f":"'Rozliczenie kwartalne'!B100","v":""},{"$f":"'Załącznik nr 2 do rozliczenia'!H325","v":0},{"$f":"IF('Załącznik nr 1 do rozliczenia'!H330<0,ABS('Załącznik nr 1 do rozliczenia'!H330),0)","v":0},{"$f":"'Rozliczenie kwartalne'!E332","v":0},{"$f":"'Rozliczenie kwartalne'!G332","v":0},{"$f":"'Rozliczenie kwartalne'!H332","v":0},{"$f":"'Rozliczenie kwartalne'!I332","v":0},{"$f":"'Rozliczenie kwartalne'!J332","v":0},{"$f":"'Rozliczenie kwartalne'!K332","v":0},{"$f":"'Rozliczenie kwartalne'!L332","v":0},null,null,"65",0,0,0,0,0,0,0,0,0,0,0,"ok","ok",0,0]
[{"$f":"'Rozliczenie kwartalne'!A101","v":"66"},{"$f":"'Rozliczenie kwartalne'!B101","v":""},{"$f":"'Załącznik nr 2 do rozliczenia'!H326","v":0},{"$f":"IF('Załącznik nr 1 do rozliczenia'!H331<0,ABS('Załącznik nr 1 do rozliczenia'!H331),0)","v":0},{"$f":"'Rozliczenie kwartalne'!E333","v":0},{"$f":"'Rozliczenie kwartalne'!G333","v":0},{"$f":"'Rozliczenie kwartalne'!H333","v":0},{"$f":"'Rozliczenie kwartalne'!I333","v":0},{"$f":"'Rozliczenie kwartalne'!J333","v":0},{"$f":"'Rozliczenie kwartalne'!K333","v":0},{"$f":"'Rozliczenie kwartalne'!L333","v":0},null,null,{"$f":"A68","v":"66"},{"$f":"IFERROR(D68/C68,0)","v":0},{"$f":"F68","v":0},{"$f":"IFERROR(P68/O68,0)","v":0},{"$f":"P68*C68","v":0},{"$f":"E68*C68","v":0},{"$f":"IFERROR(V68*C68,0)","v":0},{"$f":"V68*C68","v":0},{"$f":"IFERROR(IF((D68-H68)/C68>=$L$3,$L$3,(D68-H68)/C68),0)","v":0},{"$f":"IFERROR(ROUND(J68/C68,2),0)","v":0},{"$f":"D68*0.1","v":0},{"$f":"O68*0.1","v":0},{"$f":"IF(P68>=Y68,$M$1,$M$2)","v":"ok"},{"$f":"IF(W68<=$L$3,$M$1,$M$2)","v":"ok"},{"$f":"(T68+R68)-D68","v":0},{"$f":"D68-S68","v":0}]
[{"$f":"'Rozliczenie kwartalne'!A102","v":"67"},{"$f":"'Rozliczenie kwartalne'!B102","v":""},{"$f":"'Załącznik nr 2 do rozliczenia'!H327","v":0},{"$f":"IF('Załącznik nr 1 do rozliczenia'!H332<0,ABS('Załącznik nr 1 do rozliczenia'!H332),0)","v":0},{"$f":"'Rozliczenie kwartalne'!E334","v":0},{"$f":"'Rozliczenie kwartalne'!G334","v":0},{"$f":"'Rozliczenie kwartalne'!H334","v":0},{"$f":"'Rozliczenie kwartalne'!I334","v":0},{"$f":"'Rozliczenie kwartalne'!J334","v":0},{"$f":"'Rozliczenie kwartalne'!K334","v":0},{"$f":"'Rozliczenie kwartalne'!L334","v":0},null,null,"67",0,0,0,0,0,0,0,0,0,0,0,"ok","ok",0,0]
[{"$f":"'Rozliczenie kwartalne'!A103","v":"68"},{"$f":"'Rozliczenie kwartalne'!B103","v":""},{"$f":"'Załącznik nr 2 do rozliczenia'!H328","v":0},{"$f":"IF('Załącznik nr 1 do rozliczenia'!H333<0,ABS('Załącznik nr 1 do rozliczenia'!H333),0)","v":0},{"$f":"'Rozliczenie kwartalne'!E335","v":0},{"$f":"'Rozliczenie kwartalne'!G335","v":0},{"$f":"'Rozliczenie kwartalne'!H335","v":0},{"$f":"'Rozliczenie kwartalne'!I335","v":0},{"$f":"'Rozliczenie kwartalne'!J335","v":0},{"$f":"'Rozliczenie kwartalne'!K335","v":0},{"$f":"'Rozliczenie kwartalne'!L335","v":0},null,null,"68",0,0,0,0,0,0,0,0,0,0,0,"ok","ok",0,0]
[{"$f":"'Rozliczenie kwartalne'!A104","v":"69"},{"$f":"'Rozliczenie kwartalne'!B104","v":""},{"$f":"'Załącznik nr 2 do rozliczenia'!H329","v":0},{"$f":"IF('Załącznik nr 1 do rozliczenia'!H334<0,ABS('Załącznik nr 1 do rozliczenia'!H334),0)","v":0},{"$f":"'Rozliczenie kwartalne'!E336","v":0},{"$f":"'Rozliczenie kwartalne'!G336","v":0},{"$f":"'Rozliczenie kwartalne'!H336","v":0},{"$f":"'Rozliczenie kwartalne'!I336","v":0},{"$f":"'Rozliczenie kwartalne'!J336","v":0},{"$f":"'Rozliczenie kwartalne'!K336","v":0},{"$f":"'Rozliczenie kwartalne'!L336","v":0},null,null,"69",0,0,0,0,0,0,0,0,0,0,0,"ok","ok",0,0]
[{"$f":"'Rozliczenie kwartalne'!A105","v":"70"},{"$f":"'Rozliczenie kwartalne'!B105","v":""},{"$f":"'Załącznik nr 2 do rozliczenia'!H330","v":0},{"$f":"IF('Załącznik nr 1 do rozliczenia'!H335<0,ABS('Załącznik nr 1 do rozliczenia'!H335),0)","v":0},{"$f":"'Rozliczenie kwartalne'!E337","v":0},{"$f":"'Rozliczenie kwartalne'!G337","v":0},{"$f":"'Rozliczenie kwartalne'!H337","v":0},{"$f":"'Rozliczenie kwartalne'!I337","v":0},{"$f":"'Rozliczenie kwartalne'!J337","v":0},{"$f":"'Rozliczenie kwartalne'!K337","v":0},{"$f":"'Rozliczenie kwartalne'!L337","v":0},null,null,"70",0,0,0,0,0,0,0,0,0,0,0,"ok","ok",0,0]
[{"$f":"'Rozliczenie kwartalne'!A106","v":"71"},{"$f":"'Rozliczenie kwartalne'!B106","v":""},{"$f":"'Załącznik nr 2 do rozliczenia'!H331","v":0},{"$f":"IF('Załącznik nr 1 do rozliczenia'!H336<0,ABS('Załącznik nr 1 do rozliczenia'!H336),0)","v":0},{"$f":"'Rozliczenie kwartalne'!E338","v":0},{"$f":"'Rozliczenie kwartalne'!G338","v":0},{"$f":"'Rozliczenie kwartalne'!H338","v":0},{"$f":"'Rozliczenie kwartalne'!I338","v":0},{"$f":"'Rozliczenie kwartalne'!J338","v":0},{"$f":"'Rozliczenie kwartalne'!K338","v":0},{"$f":"'Rozliczenie kwartalne'!L338","v":0},null,null,"71",0,0,0,0,0,0,0,0,0,0,0,"ok","ok",0,0]
[{"$f":"'Rozliczenie kwartalne'!A107","v":"72"},{"$f":"'Rozliczenie kwartalne'!B107","v":""},{"$f":"'Załącznik nr 2 do rozliczenia'!H332","v":0},{"$f":"IF('Załącznik nr 1 do rozliczenia'!H337<0,ABS('Załącznik nr 1 do rozliczenia'!H337),0)","v":0},{"$f":"'Rozliczenie kwartalne'!E339","v":0},{"$f":"'Rozliczenie kwartalne'!G339","v":0},{"$f":"'Rozliczenie kwartalne'!H339","v":0},{"$f":"'Rozliczenie kwartalne'!I339","v":0},{"$f":"'Rozliczenie kwartalne'!J339","v":0},{"$f":"'Rozliczenie kwartalne'!K339","v":0},{"$f":"'Rozliczenie kwartalne'!L339","v":0},null,null,"72",0,0,0,0,0,0,0,0,0,0,0,"ok","ok",0,0]
[{"$f":"'Rozliczenie kwartalne'!A108","v":"73"},{"$f":"'Rozliczenie kwartalne'!B108","v":""},{"$f":"'Załącznik nr 2 do rozliczenia'!H333","v":0},{"$f":"IF('Załącznik nr 1 do rozliczenia'!H338<0,ABS('Załącznik nr 1 do rozliczenia'!H338),0)","v":0},{"$f":"'Rozliczenie kwartalne'!E340","v":0},{"$f":"'Rozliczenie kwartalne'!G340","v":0},{"$f":"'Rozliczenie kwartalne'!H340","v":0},{"$f":"'Rozliczenie kwartalne'!I340","v":0},{"$f":"'Rozliczenie kwartalne'!J340","v":0},{"$f":"'Rozliczenie kwartalne'!K340","v":0},{"$f":"'Rozliczenie kwartalne'!L340","v":0},null,null,"73",0,0,0,0,0,0,0,0,0,0,0,"ok","ok",0,0]
[{"$f":"'Rozliczenie kwartalne'!A109","v":"74"},{"$f":"'Rozliczenie kwartalne'!B109","v":""},{"$f":"'Załącznik nr 2 do rozliczenia'!H334","v":0},{"$f":"IF('Załącznik nr 1 do rozliczenia'!H339<0,ABS('Załącznik nr 1 do rozliczenia'!H339),0)","v":0},{"$f":"'Rozliczenie kwartalne'!E341","v":0},{"$f":"'Rozliczenie kwartalne'!G341","v":0},{"$f":"'Rozliczenie kwartalne'!H341","v":0},{"$f":"'Rozliczenie kwartalne'!I341","v":0},{"$f":"'Rozliczenie kwartalne'!J341","v":0},{"$f":"'Rozliczenie kwartalne'!K341","v":0},{"$f":"'Rozliczenie kwartalne'!L341","v":0},null,null,"74",0,0,0,0,0,0,0,0,0,0,0,"ok","ok",0,0]
[{"$f":"'Rozliczenie kwartalne'!A110","v":"75"},{"$f":"'Rozliczenie kwartalne'!B110","v":""},{"$f":"'Załącznik nr 2 do rozliczenia'!H335","v":0},{"$f":"IF('Załącznik nr 1 do rozliczenia'!H340<0,ABS('Załącznik nr 1 do rozliczenia'!H340),0)","v":0},{"$f":"'Rozliczenie kwartalne'!E342","v":0},{"$f":"'Rozliczenie kwartalne'!G342","v":0},{"$f":"'Rozliczenie kwartalne'!H342","v":0},{"$f":"'Rozliczenie kwartalne'!I342","v":0},{"$f":"'Rozliczenie kwartalne'!J342","v":0},{"$f":"'Rozliczenie kwartalne'!K342","v":0},{"$f":"'Rozliczenie kwartalne'!L342","v":0},null,null,"75",0,0,0,0,0,0,0,0,0,0,0,"ok","ok",0,0]
[{"$f":"'Rozliczenie kwartalne'!A111","v":"76"},{"$f":"'Rozliczenie kwartalne'!B111","v":""},{"$f":"'Załącznik nr 2 do rozliczenia'!H336","v":0},{"$f":"IF('Załącznik nr 1 do rozliczenia'!H341<0,ABS('Załącznik nr 1 do rozliczenia'!H341),0)","v":0},{"$f":"'Rozliczenie kwartalne'!E343","v":0},{"$f":"'Rozliczenie kwartalne'!G343","v":0},{"$f":"'Rozliczenie kwartalne'!H343","v":0},{"$f":"'Rozliczenie kwartalne'!I343","v":0},{"$f":"'Rozliczenie kwartalne'!J343","v":0},{"$f":"'Rozliczenie kwartalne'!K343","v":0},{"$f":"'Rozliczenie kwartalne'!L343","v":0},null,null,"76",0,0,0,0,0,0,0,0,0,0,0,"ok","ok",0,0]
[{"$f":"'Rozliczenie kwartalne'!A112","v":"77"},{"$f":"'Rozliczenie kwartalne'!B112","v":""},{"$f":"'Załącznik nr 2 do rozliczenia'!H337","v":0},{"$f":"IF('Załącznik nr 1 do rozliczenia'!H342<0,ABS('Załącznik nr 1 do rozliczenia'!H342),0)","v":0},{"$f":"'Rozliczenie kwartalne'!E344","v":0},{"$f":"'Rozliczenie kwartalne'!G344","v":0},{"$f":"'Rozliczenie kwartalne'!H344","v":0},{"$f":"'Rozliczenie kwartalne'!I344","v":0},{"$f":"'Rozliczenie kwartalne'!J344","v":0},{"$f":"'Rozliczenie kwartalne'!K344","v":0},{"$f":"'Rozliczenie kwartalne'!L344","v":0},null,null,"77",0,0,0,0,0,0,0,0,0,0,0,"ok","ok",0,0]
[{"$f":"'Rozliczenie kwartalne'!A113","v":"78"},{"$f":"'Rozliczenie kwartalne'!B113","v":""},{"$f":"'Załącznik nr 2 do rozliczenia'!H338","v":0},{"$f":"IF('Załącznik nr 1 do rozliczenia'!H343<0,ABS('Załącznik nr 1 do rozliczenia'!H343),0)","v":0},{"$f":"'Rozliczenie kwartalne'!E345","v":0},{"$f":"'Rozliczenie kwartalne'!G345","v":0},{"$f":"'Rozliczenie kwartalne'!H345","v":0},{"$f":"'Rozliczenie kwartalne'!I345","v":0},{"$f":"'Rozliczenie kwartalne'!J345","v":0},{"$f":"'Rozliczenie kwartalne'!K345","v":0},{"$f":"'Rozliczenie kwartalne'!L345","v":0},null,null,"78",0,0,0,0,0,0,0,0,0,0,0,"ok","ok",0,0]
[{"$f":"'Rozliczenie kwartalne'!A114","v":"79"},{"$f":"'Rozliczenie kwartalne'!B114","v":""},{"$f":"'Załącznik nr 2 do rozliczenia'!H339","v":0},{"$f":"IF('Załącznik nr 1 do rozliczenia'!H344<0,ABS('Załącznik nr 1 do rozliczenia'!H344),0)","v":0},{"$f":"'Rozliczenie kwartalne'!E346","v":0},{"$f":"'Rozliczenie kwartalne'!G346","v":0},{"$f":"'Rozliczenie kwartalne'!H346","v":0},{"$f":"'Rozliczenie kwartalne'!I346","v":0},{"$f":"'Rozliczenie kwartalne'!J346","v":0},{"$f":"'Rozliczenie kwartalne'!K346","v":0},{"$f":"'Rozliczenie kwartalne'!L346","v":0},null,null,"79",0,0,0,0,0,0,0,0,0,0,0,"ok","ok",0,0]
[{"$f":"'Rozliczenie kwartalne'!A115","v":"80"},{"$f":"'Rozliczenie kwartalne'!B115","v":""},{"$f":"'Załącznik nr 2 do rozliczenia'!H340","v":0},{"$f":"IF('Załącznik nr 1 do rozliczenia'!H345<0,ABS('Załącznik nr 1 do rozliczenia'!H345),0)","v":0},{"$f":"'Rozliczenie kwartalne'!E347","v":0},{"$f":"'Rozliczenie kwartalne'!G347","v":0},{"$f":"'Rozliczenie kwartalne'!H347","v":0},{"$f":"'Rozliczenie kwartalne'!I347","v":0},{"$f":"'Rozliczenie kwartalne'!J347","v":0},{"$f":"'Rozliczenie kwartalne'!K347","v":0},{"$f":"'Rozliczenie kwartalne'!L347","v":0},null,null,"80",0,0,0,0,0,0,0,0,0,0,0,"ok","ok",0,0]
[{"$f":"'Rozliczenie kwartalne'!A116","v":"81"},{"$f":"'Rozliczenie kwartalne'!B116","v":""},{"$f":"'Załącznik nr 2 do rozliczenia'!H341","v":0},{"$f":"IF('Załącznik nr 1 do rozliczenia'!H346<0,ABS('Załącznik nr 1 do rozliczenia'!H346),0)","v":0},{"$f":"'Rozliczenie kwartalne'!E348","v":0},{"$f":"'Rozliczenie kwartalne'!G348","v":0},{"$f":"'Rozliczenie kwartalne'!H348","v":0},{"$f":"'Rozliczenie kwartalne'!I348","v":0},{"$f":"'Rozliczenie kwartalne'!J348","v":0},{"$f":"'Rozliczenie kwartalne'!K348","v":0},{"$f":"'Rozliczenie kwartalne'!L348","v":0},null,null,"81",0,0,0,0,0,0,0,0,0,0,0,"ok","ok",0,0]
[{"$f":"'Rozliczenie kwartalne'!A117","v":"82"},{"$f":"'Rozliczenie kwartalne'!B117","v":""},{"$f":"'Załącznik nr 2 do rozliczenia'!H342","v":0},{"$f":"IF('Załącznik nr 1 do rozliczenia'!H347<0,ABS('Załącznik nr 1 do rozliczenia'!H347),0)","v":0},{"$f":"'Rozliczenie kwartalne'!E349","v":0},{"$f":"'Rozliczenie kwartalne'!G349","v":0},{"$f":"'Rozliczenie kwartalne'!H349","v":0},{"$f":"'Rozliczenie kwartalne'!I349","v":0},{"$f":"'Rozliczenie kwartalne'!J349","v":0},{"$f":"'Rozliczenie kwartalne'!K349","v":0},{"$f":"'Rozliczenie kwartalne'!L349","v":0},null,null,"82",0,0,0,0,0,0,0,0,0,0,0,"ok","ok",0,0]
[{"$f":"'Rozliczenie kwartalne'!A118","v":"83"},{"$f":"'Rozliczenie kwartalne'!B118","v":""},{"$f":"'Załącznik nr 2 do rozliczenia'!H343","v":0},{"$f":"IF('Załącznik nr 1 do rozliczenia'!H348<0,ABS('Załącznik nr 1 do rozliczenia'!H348),0)","v":0},{"$f":"'Rozliczenie kwartalne'!E350","v":0},{"$f":"'Rozliczenie kwartalne'!G350","v":0},{"$f":"'Rozliczenie kwartalne'!H350","v":0},{"$f":"'Rozliczenie kwartalne'!I350","v":0},{"$f":"'Rozliczenie kwartalne'!J350","v":0},{"$f":"'Rozliczenie kwartalne'!K350","v":0},{"$f":"'Rozliczenie kwartalne'!L350","v":0},null,null,"83",0,0,0,0,0,0,0,0,0,0,0,"ok","ok",0,0]
[{"$f":"'Rozliczenie kwartalne'!A119","v":"84"},{"$f":"'Rozliczenie kwartalne'!B119","v":""},{"$f":"'Załącznik nr 2 do rozliczenia'!H344","v":0},{"$f":"IF('Załącznik nr 1 do rozliczenia'!H349<0,ABS('Załącznik nr 1 do rozliczenia'!H349),0)","v":0},{"$f":"'Rozliczenie kwartalne'!E351","v":0},{"$f":"'Rozliczenie kwartalne'!G351","v":0},{"$f":"'Rozliczenie kwartalne'!H351","v":0},{"$f":"'Rozliczenie kwartalne'!I351","v":0},{"$f":"'Rozliczenie kwartalne'!J351","v":0},{"$f":"'Rozliczenie kwartalne'!K351","v":0},{"$f":"'Rozliczenie kwartalne'!L351","v":0},null,null,"84",0,0,0,0,0,0,0,0,0,0,0,"ok","ok",0,0]
[{"$f":"'Rozliczenie kwartalne'!A120","v":"85"},{"$f":"'Rozliczenie kwartalne'!B120","v":""},{"$f":"'Załącznik nr 2 do rozliczenia'!H345","v":0},{"$f":"IF('Załącznik nr 1 do rozliczenia'!H350<0,ABS('Załącznik nr 1 do rozliczenia'!H350),0)","v":0},{"$f":"'Rozliczenie kwartalne'!E352","v":0},{"$f":"'Rozliczenie kwartalne'!G352","v":0},{"$f":"'Rozliczenie kwartalne'!H352","v":0},{"$f":"'Rozliczenie kwartalne'!I352","v":0},{"$f":"'Rozliczenie kwartalne'!J352","v":0},{"$f":"'Rozliczenie kwartalne'!K352","v":0},{"$f":"'Rozliczenie kwartalne'!L352","v":0},null,null,"85",0,0,0,0,0,0,0,0,0,0,0,"ok","ok",0,0]
[{"$f":"'Rozliczenie kwartalne'!A121","v":"86"},{"$f":"'Rozliczenie kwartalne'!B121","v":""},{"$f":"'Załącznik nr 2 do rozliczenia'!H346","v":0},{"$f":"IF('Załącznik nr 1 do rozliczenia'!H351<0,ABS('Załącznik nr 1 do rozliczenia'!H351),0)","v":0},{"$f":"'Rozliczenie kwartalne'!E353","v":0},{"$f":"'Rozliczenie kwartalne'!G353","v":0},{"$f":"'Rozliczenie kwartalne'!H353","v":0},{"$f":"'Rozliczenie kwartalne'!I353","v":0},{"$f":"'Rozliczenie kwartalne'!J353","v":0},{"$f":"'Rozliczenie kwartalne'!K353","v":0},{"$f":"'Rozliczenie kwartalne'!L353","v":0},null,null,"86",0,0,0,0,0,0,0,0,0,0,0,"ok","ok",0,0]
[{"$f":"'Rozliczenie kwartalne'!A122","v":"87"},{"$f":"'Rozliczenie kwartalne'!B122","v":""},{"$f":"'Załącznik nr 2 do rozliczenia'!H347","v":0},{"$f":"IF('Załącznik nr 1 do rozliczenia'!H352<0,ABS('Załącznik nr 1 do rozliczenia'!H352),0)","v":0},{"$f":"'Rozliczenie kwartalne'!E354","v":0},{"$f":"'Rozliczenie kwartalne'!G354","v":0},{"$f":"'Rozliczenie kwartalne'!H354","v":0},{"$f":"'Rozliczenie kwartalne'!I354","v":0},{"$f":"'Rozliczenie kwartalne'!J354","v":0},{"$f":"'Rozliczenie kwartalne'!K354","v":0},{"$f":"'Rozliczenie kwartalne'!L354","v":0},null,null,"87",0,0,0,0,0,0,0,0,0,0,0,"ok","ok",0,0]
[{"$f":"'Rozliczenie kwartalne'!A123","v":"88"},{"$f":"'Rozliczenie kwartalne'!B123","v":""},{"$f":"'Załącznik nr 2 do rozliczenia'!H348","v":0},{"$f":"IF('Załącznik nr 1 do rozliczenia'!H353<0,ABS('Załącznik nr 1 do rozliczenia'!H353),0)","v":0},{"$f":"'Rozliczenie kwartalne'!E355","v":0},{"$f":"'Rozliczenie kwartalne'!G355","v":0},{"$f":"'Rozliczenie kwartalne'!H355","v":0},{"$f":"'Rozliczenie kwartalne'!I355","v":0},{"$f":"'Rozliczenie kwartalne'!J355","v":0},{"$f":"'Rozliczenie kwartalne'!K355","v":0},{"$f":"'Rozliczenie kwartalne'!L355","v":0},null,null,"88",0,0,0,0,0,0,0,0,0,0,0,"ok","ok",0,0]
[{"$f":"'Rozliczenie kwartalne'!A124","v":"89"},{"$f":"'Rozliczenie kwartalne'!B124","v":""},{"$f":"'Załącznik nr 2 do rozliczenia'!H349","v":0},{"$f":"IF('Załącznik nr 1 do rozliczenia'!H354<0,ABS('Załącznik nr 1 do rozliczenia'!H354),0)","v":0},{"$f":"'Rozliczenie kwartalne'!E356","v":0},{"$f":"'Rozliczenie kwartalne'!G356","v":0},{"$f":"'Rozliczenie kwartalne'!H356","v":0},{"$f":"'Rozliczenie kwartalne'!I356","v":0},{"$f":"'Rozliczenie kwartalne'!J356","v":0},{"$f":"'Rozliczenie kwartalne'!K356","v":0},{"$f":"'Rozliczenie kwartalne'!L356","v":0},null,null,"89",0,0,0,0,0,0,0,0,0,0,0,"ok","ok",0,0]
[{"$f":"'Rozliczenie kwartalne'!A125","v":"90"},{"$f":"'Rozliczenie kwartalne'!B125","v":""},{"$f":"'Załącznik nr 2 do rozliczenia'!H350","v":0},{"$f":"IF('Załącznik nr 1 do rozliczenia'!H355<0,ABS('Załącznik nr 1 do rozliczenia'!H355),0)","v":0},{"$f":"'Rozliczenie kwartalne'!E357","v":0},{"$f":"'Rozliczenie kwartalne'!G357","v":0},{"$f":"'Rozliczenie kwartalne'!H357","v":0},{"$f":"'Rozliczenie kwartalne'!I357","v":0},{"$f":"'Rozliczenie kwartalne'!J357","v":0},{"$f":"'Rozliczenie kwartalne'!K357","v":0},{"$f":"'Rozliczenie kwartalne'!L357","v":0},null,null,"90",{"$f":"IFERROR(D92/C92,0)","v":0},{"$f":"F92","v":0},{"$f":"IFERROR(P92/O92,0)","v":0},0,{"$f":"E92*C92","v":0},{"$f":"IFERROR(V92*C92,0)","v":0},{"$f":"V92*C92","v":0},{"$f":"IFERROR(IF((D92-H92)/C92>=$L$3,$L$3,(D92-H92)/C92),0)","v":0},0,{"$f":"D92*0.1","v":0},0,"ok","ok",{"$f":"(T92+R92)-D92","v":0},{"$f":"D92-S92","v":0}]
[{"$f":"'Rozliczenie kwartalne'!A126","v":"91"},{"$f":"'Rozliczenie kwartalne'!B126","v":""},{"$f":"'Załącznik nr 2 do rozliczenia'!H351","v":0},{"$f":"IF('Załącznik nr 1 do rozliczenia'!H356<0,ABS('Załącznik nr 1 do rozliczenia'!H356),0)","v":0},{"$f":"'Rozliczenie kwartalne'!E358","v":0},{"$f":"'Rozliczenie kwartalne'!G358","v":0},{"$f":"'Rozliczenie kwartalne'!H358","v":0},{"$f":"'Rozliczenie kwartalne'!I358","v":0},{"$f":"'Rozliczenie kwartalne'!J358","v":0},{"$f":"'Rozliczenie kwartalne'!K358","v":0},{"$f":"'Rozliczenie kwartalne'!L358","v":0},null,null,"91",{"$f":"IFERROR(D93/C93,0)","v":0},{"$f":"F93","v":0},{"$f":"IFERROR(P93/O93,0)","v":0},0,{"$f":"E93*C93","v":0},{"$f":"IFERROR(V93*C93,0)","v":0},{"$f":"V93*C93","v":0},{"$f":"IFERROR(IF((D93-H93)/C93>=$L$3,$L$3,(D93-H93)/C93),0)","v":0},0,{"$f":"D93*0.1","v":0},0,"ok","ok",{"$f":"(T93+R93)-D93","v":0},{"$f":"D93-S93","v":0}]
[{"$f":"'Rozliczenie kwartalne'!A127","v":"92"},{"$f":"'Rozliczenie kwartalne'!B127","v":""},{"$f":"'Załącznik nr 2 do rozliczenia'!H352","v":0},{"$f":"IF('Załącznik nr 1 do rozliczenia'!H357<0,ABS('Załącznik nr 1 do rozliczenia'!H357),0)","v":0},{"$f":"'Rozliczenie kwartalne'!E359","v":0},{"$f":"'Rozliczenie kwartalne'!G359","v":0},{"$f":"'Rozliczenie kwartalne'!H359","v":0},{"$f":"'Rozliczenie kwartalne'!I359","v":0},{"$f":"'Rozliczenie kwartalne'!J359","v":0},{"$f":"'Rozliczenie kwartalne'!K359","v":0},{"$f":"'Rozliczenie kwartalne'!L359","v":0},null,null,"92",0,0,0,0,0,0,0,0,0,0,0,"ok","ok",0,0]
[{"$f":"'Rozliczenie kwartalne'!A128","v":"93"},{"$f":"'Rozliczenie kwartalne'!B128","v":""},{"$f":"'Załącznik nr 2 do rozliczenia'!H353","v":0},{"$f":"IF('Załącznik nr 1 do rozliczenia'!H358<0,ABS('Załącznik nr 1 do rozliczenia'!H358),0)","v":0},{"$f":"'Rozliczenie kwartalne'!E360","v":0},{"$f":"'Rozliczenie kwartalne'!G360","v":0},{"$f":"'Rozliczenie kwartalne'!H360","v":0},{"$f":"'Rozliczenie kwartalne'!I360","v":0},{"$f":"'Rozliczenie kwartalne'!J360","v":0},{"$f":"'Rozliczenie kwartalne'!K360","v":0},{"$f":"'Rozliczenie kwartalne'!L360","v":0},null,null,"93",0,0,0,0,0,0,0,0,0,0,0,"ok","ok",0,0]
[{"$f":"'Rozliczenie kwartalne'!A129","v":"94"},{"$f":"'Rozliczenie kwartalne'!B129","v":""},{"$f":"'Załącznik nr 2 do rozliczenia'!H354","v":0},{"$f":"IF('Załącznik nr 1 do rozliczenia'!H359<0,ABS('Załącznik nr 1 do rozliczenia'!H359),0)","v":0},{"$f":"'Rozliczenie kwartalne'!E361","v":0},{"$f":"'Rozliczenie kwartalne'!G361","v":0},{"$f":"'Rozliczenie kwartalne'!H361","v":0},{"$f":"'Rozliczenie kwartalne'!I361","v":0},{"$f":"'Rozliczenie kwartalne'!J361","v":0},{"$f":"'Rozliczenie kwartalne'!K361","v":0},{"$f":"'Rozliczenie kwartalne'!L361","v":0},null,null,"94",0,0,0,0,0,0,0,0,0,0,0,"ok","ok",0,0]
[{"$f":"'Rozliczenie kwartalne'!A130","v":"95"},{"$f":"'Rozliczenie kwartalne'!B130","v":""},{"$f":"'Załącznik nr 2 do rozliczenia'!H355","v":0},{"$f":"IF('Załącznik nr 1 do rozliczenia'!H360<0,ABS('Załącznik nr 1 do rozliczenia'!H360),0)","v":0},{"$f":"'Rozliczenie kwartalne'!E362","v":0},{"$f":"'Rozliczenie kwartalne'!G362","v":0},{"$f":"'Rozliczenie kwartalne'!H362","v":0},{"$f":"'Rozliczenie kwartalne'!I362","v":0},{"$f":"'Rozliczenie kwartalne'!J362","v":0},{"$f":"'Rozliczenie kwartalne'!K362","v":0},{"$f":"'Rozliczenie kwartalne'!L362","v":0},null,null,"95",0,0,0,0,0,0,0,0,0,0,0,"ok","ok",0,0]
[{"$f":"'Rozliczenie kwartalne'!A131","v":"96"},{"$f":"'Rozliczenie kwartalne'!B131","v":""},{"$f":"'Załącznik nr 2 do rozliczenia'!H356","v":0},{"$f":"IF('Załącznik nr 1 do rozliczenia'!H361<0,ABS('Załącznik nr 1 do rozliczenia'!H361),0)","v":0},{"$f":"'Rozliczenie kwartalne'!E363","v":0},{"$f":"'Rozliczenie kwartalne'!G363","v":0},{"$f":"'Rozliczenie kwartalne'!H363","v":0},{"$f":"'Rozliczenie kwartalne'!I363","v":0},{"$f":"'Rozliczenie kwartalne'!J363","v":0},{"$f":"'Rozliczenie kwartalne'!K363","v":0},{"$f":"'Rozliczenie kwartalne'!L363","v":0},null,null,"96",0,0,0,0,0,0,0,0,0,0,0,"ok","ok",0,0]
[{"$f":"'Rozliczenie kwartalne'!A132","v":"97"},{"$f":"'Rozliczenie kwartalne'!B132","v":""},{"$f":"'Załącznik nr 2 do rozliczenia'!H357","v":0},{"$f":"IF('Załącznik nr 1 do rozliczenia'!H362<0,ABS('Załącznik nr 1 do rozliczenia'!H362),0)","v":0},{"$f":"'Rozliczenie kwartalne'!E364","v":0},{"$f":"'Rozliczenie kwartalne'!G364","v":0},{"$f":"'Rozliczenie kwartalne'!H364","v":0},{"$f":"'Rozliczenie kwartalne'!I364","v":0},{"$f":"'Rozliczenie kwartalne'!J364","v":0},{"$f":"'Rozliczenie kwartalne'!K364","v":0},{"$f":"'Rozliczenie kwartalne'!L364","v":0},null,null,"97",0,0,0,0,0,0,0,0,0,0,0,"ok","ok",0,0]
[{"$f":"'Rozliczenie kwartalne'!A133","v":"98"},{"$f":"'Rozliczenie kwartalne'!B133","v":""},{"$f":"'Załącznik nr 2 do rozliczenia'!H358","v":0},{"$f":"IF('Załącznik nr 1 do rozliczenia'!H363<0,ABS('Załącznik nr 1 do rozliczenia'!H363),0)","v":0},{"$f":"'Rozliczenie kwartalne'!E365","v":0},{"$f":"'Rozliczenie kwartalne'!G365","v":0},{"$f":"'Rozliczenie kwartalne'!H365","v":0},{"$f":"'Rozliczenie kwartalne'!I365","v":0},{"$f":"'Rozliczenie kwartalne'!J365","v":0},{"$f":"'Rozliczenie kwartalne'!K365","v":0},{"$f":"'Rozliczenie kwartalne'!L365","v":0},null,null,"98",0,0,0,0,0,0,0,0,0,0,0,"ok","ok",0,0]
[{"$f":"'Rozliczenie kwartalne'!A134","v":"99"},{"$f":"'Rozliczenie kwartalne'!B134","v":""},{"$f":"'Załącznik nr 2 do rozliczenia'!H359","v":0},{"$f":"IF('Załącznik nr 1 do rozliczenia'!H364<0,ABS('Załącznik nr 1 do rozliczenia'!H364),0)","v":0},{"$f":"'Rozliczenie kwartalne'!E366","v":0},{"$f":"'Rozliczenie kwartalne'!G366","v":0},{"$f":"'Rozliczenie kwartalne'!H366","v":0},{"$f":"'Rozliczenie kwartalne'!I366","v":0},{"$f":"'Rozliczenie kwartalne'!J366","v":0},{"$f":"'Rozliczenie kwartalne'!K366","v":0},{"$f":"'Rozliczenie kwartalne'!L366","v":0},null,null,"99",0,0,0,0,0,0,0,0,0,0,0,"ok","ok",0,0]
[{"$f":"'Rozliczenie kwartalne'!A135","v":"100"},{"$f":"'Rozliczenie kwartalne'!B135","v":""},{"$f":"'Załącznik nr 2 do rozliczenia'!H360","v":0},{"$f":"IF('Załącznik nr 1 do rozliczenia'!H365<0,ABS('Załącznik nr 1 do rozliczenia'!H365),0)","v":0},{"$f":"'Rozliczenie kwartalne'!E367","v":0},{"$f":"'Rozliczenie kwartalne'!G367","v":0},{"$f":"'Rozliczenie kwartalne'!H367","v":0},{"$f":"'Rozliczenie kwartalne'!I367","v":0},{"$f":"'Rozliczenie kwartalne'!J367","v":0},{"$f":"'Rozliczenie kwartalne'!K367","v":0},{"$f":"'Rozliczenie kwartalne'!L367","v":0},null,null,"100",0,0,0,0,0,0,0,0,0,0,0,"ok","ok",0,0]
[{"$f":"'Rozliczenie kwartalne'!A136","v":"101"},{"$f":"'Rozliczenie kwartalne'!B136","v":""},{"$f":"'Załącznik nr 2 do rozliczenia'!H361","v":0},{"$f":"IF('Załącznik nr 1 do rozliczenia'!H366<0,ABS('Załącznik nr 1 do rozliczenia'!H366),0)","v":0},{"$f":"'Rozliczenie kwartalne'!E368","v":0},{"$f":"'Rozliczenie kwartalne'!G368","v":0},{"$f":"'Rozliczenie kwartalne'!H368","v":0},{"$f":"'Rozliczenie kwartalne'!I368","v":0},{"$f":"'Rozliczenie kwartalne'!J368","v":0},{"$f":"'Rozliczenie kwartalne'!K368","v":0},{"$f":"'Rozliczenie kwartalne'!L368","v":0},null,null,"101",{"$f":"IFERROR(D103/C103,0)","v":0},{"$f":"F103","v":0},{"$f":"IFERROR(P103/O103,0)","v":0},0,{"$f":"E103*C103","v":0},{"$f":"IFERROR(V103*C103,0)","v":0},{"$f":"V103*C103","v":0},{"$f":"IFERROR(IF((D103-H103)/C103>=$L$3,$L$3,(D103-H103)/C103),0)","v":0},0,{"$f":"D103*0.1","v":0},0,"ok","ok",{"$f":"(T103+R103)-D103","v":0},{"$f":"D103-S103","v":0}]
[{"$f":"'Rozliczenie kwartalne'!A137","v":"102"},{"$f":"'Rozliczenie kwartalne'!B137","v":""},{"$f":"'Załącznik nr 2 do rozliczenia'!H362","v":0},{"$f":"IF('Załącznik nr 1 do rozliczenia'!H367<0,ABS('Załącznik nr 1 do rozliczenia'!H367),0)","v":0},{"$f":"'Rozliczenie kwartalne'!E369","v":0},{"$f":"'Rozliczenie kwartalne'!G369","v":0},{"$f":"'Rozliczenie kwartalne'!H369","v":0},{"$f":"'Rozliczenie kwartalne'!I369","v":0},{"$f":"'Rozliczenie kwartalne'!J369","v":0},{"$f":"'Rozliczenie kwartalne'!K369","v":0},{"$f":"'Rozliczenie kwartalne'!L369","v":0},null,null,"102",{"$f":"IFERROR(D104/C104,0)","v":0},{"$f":"F104","v":0},{"$f":"IFERROR(P104/O104,0)","v":0},0,{"$f":"E104*C104","v":0},{"$f":"IFERROR(V104*C104,0)","v":0},{"$f":"V104*C104","v":0},{"$f":"IFERROR(IF((D104-H104)/C104>=$L$3,$L$3,(D104-H104)/C104),0)","v":0},0,{"$f":"D104*0.1","v":0},0,"ok","ok",{"$f":"(T104+R104)-D104","v":0},{"$f":"D104-S104","v":0}]
[{"$f":"'Rozliczenie kwartalne'!A138","v":"103"},{"$f":"'Rozliczenie kwartalne'!B138","v":""},{"$f":"'Załącznik nr 2 do rozliczenia'!H363","v":0},{"$f":"IF('Załącznik nr 1 do rozliczenia'!H368<0,ABS('Załącznik nr 1 do rozliczenia'!H368),0)","v":0},{"$f":"'Rozliczenie kwartalne'!E370","v":0},{"$f":"'Rozliczenie kwartalne'!G370","v":0},{"$f":"'Rozliczenie kwartalne'!H370","v":0},{"$f":"'Rozliczenie kwartalne'!I370","v":0},{"$f":"'Rozliczenie kwartalne'!J370","v":0},{"$f":"'Rozliczenie kwartalne'!K370","v":0},{"$f":"'Rozliczenie kwartalne'!L370","v":0},null,null,"103",0,0,0,0,0,0,0,0,0,0,0,"ok","ok",0,0]
[{"$f":"'Rozliczenie kwartalne'!A139","v":"104"},{"$f":"'Rozliczenie kwartalne'!B139","v":""},{"$f":"'Załącznik nr 2 do rozliczenia'!H364","v":0},{"$f":"IF('Załącznik nr 1 do rozliczenia'!H369<0,ABS('Załącznik nr 1 do rozliczenia'!H369),0)","v":0},{"$f":"'Rozliczenie kwartalne'!E371","v":0},{"$f":"'Rozliczenie kwartalne'!G371","v":0},{"$f":"'Rozliczenie kwartalne'!H371","v":0},{"$f":"'Rozliczenie kwartalne'!I371","v":0},{"$f":"'Rozliczenie kwartalne'!J371","v":0},{"$f":"'Rozliczenie kwartalne'!K371","v":0},{"$f":"'Rozliczenie kwartalne'!L371","v":0},null,null,"104",0,0,0,0,0,0,0,0,0,0,0,"ok","ok",0,0]
[{"$f":"'Rozliczenie kwartalne'!A140","v":"105"},{"$f":"'Rozliczenie kwartalne'!B140","v":""},{"$f":"'Załącznik nr 2 do rozliczenia'!H365","v":0},{"$f":"IF('Załącznik nr 1 do rozliczenia'!H370<0,ABS('Załącznik nr 1 do rozliczenia'!H370),0)","v":0},{"$f":"'Rozliczenie kwartalne'!E372","v":0},{"$f":"'Rozliczenie kwartalne'!G372","v":0},{"$f":"'Rozliczenie kwartalne'!H372","v":0},{"$f":"'Rozliczenie kwartalne'!I372","v":0},{"$f":"'Rozliczenie kwartalne'!J372","v":0},{"$f":"'Rozliczenie kwartalne'!K372","v":0},{"$f":"'Rozliczenie kwartalne'!L372","v":0},null,null,"105",0,0,0,0,0,0,0,0,0,0,0,"ok","ok",0,0]
[{"$f":"'Rozliczenie kwartalne'!A141","v":"106"},{"$f":"'Rozliczenie kwartalne'!B141","v":""},{"$f":"'Załącznik nr 2 do rozliczenia'!H366","v":0},{"$f":"IF('Załącznik nr 1 do rozliczenia'!H371<0,ABS('Załącznik nr 1 do rozliczenia'!H371),0)","v":0},{"$f":"'Rozliczenie kwartalne'!E373","v":0},{"$f":"'Rozliczenie kwartalne'!G373","v":0},{"$f":"'Rozliczenie kwartalne'!H373","v":0},{"$f":"'Rozliczenie kwartalne'!I373","v":0},{"$f":"'Rozliczenie kwartalne'!J373","v":0},{"$f":"'Rozliczenie kwartalne'!K373","v":0},{"$f":"'Rozliczenie kwartalne'!L373","v":0},null,null,"106",0,0,0,0,0,0,0,0,0,0,0,"ok","ok",0,0]
[{"$f":"'Rozliczenie kwartalne'!A142","v":"107"},{"$f":"'Rozliczenie kwartalne'!B142","v":""},{"$f":"'Załącznik nr 2 do rozliczenia'!H367","v":0},{"$f":"IF('Załącznik nr 1 do rozliczenia'!H372<0,ABS('Załącznik nr 1 do rozliczenia'!H372),0)","v":0},{"$f":"'Rozliczenie kwartalne'!E374","v":0},{"$f":"'Rozliczenie kwartalne'!G374","v":0},{"$f":"'Rozliczenie kwartalne'!H374","v":0},{"$f":"'Rozliczenie kwartalne'!I374","v":0},{"$f":"'Rozliczenie kwartalne'!J374","v":0},{"$f":"'Rozliczenie kwartalne'!K374","v":0},{"$f":"'Rozliczenie kwartalne'!L374","v":0},null,null,"107",0,0,0,0,0,0,0,0,0,0,0,"ok","ok",0,0]
[{"$f":"'Rozliczenie kwartalne'!A143","v":"108"},{"$f":"'Rozliczenie kwartalne'!B143","v":""},{"$f":"'Załącznik nr 2 do rozliczenia'!H368","v":0},{"$f":"IF('Załącznik nr 1 do rozliczenia'!H373<0,ABS('Załącznik nr 1 do rozliczenia'!H373),0)","v":0},{"$f":"'Rozliczenie kwartalne'!E375","v":0},{"$f":"'Rozliczenie kwartalne'!G375","v":0},{"$f":"'Rozliczenie kwartalne'!H375","v":0},{"$f":"'Rozliczenie kwartalne'!I375","v":0},{"$f":"'Rozliczenie kwartalne'!J375","v":0},{"$f":"'Rozliczenie kwartalne'!K375","v":0},{"$f":"'Rozliczenie kwartalne'!L375","v":0},null,null,"108",0,0,0,0,0,0,0,0,0,0,0,"ok","ok",0,0]
[{"$f":"'Rozliczenie kwartalne'!A144","v":"109"},{"$f":"'Rozliczenie kwartalne'!B144","v":""},{"$f":"'Załącznik nr 2 do rozliczenia'!H369","v":0},{"$f":"IF('Załącznik nr 1 do rozliczenia'!H374<0,ABS('Załącznik nr 1 do rozliczenia'!H374),0)","v":0},{"$f":"'Rozliczenie kwartalne'!E376","v":0},{"$f":"'Rozliczenie kwartalne'!G376","v":0},{"$f":"'Rozliczenie kwartalne'!H376","v":0},{"$f":"'Rozliczenie kwartalne'!I376","v":0},{"$f":"'Rozliczenie kwartalne'!J376","v":0},{"$f":"'Rozliczenie kwartalne'!K376","v":0},{"$f":"'Rozliczenie kwartalne'!L376","v":0},null,null,"109",0,0,0,0,0,0,0,0,0,0,0,"ok","ok",0,0]
[{"$f":"'Rozliczenie kwartalne'!A145","v":"110"},{"$f":"'Rozliczenie kwartalne'!B145","v":""},{"$f":"'Załącznik nr 2 do rozliczenia'!H370","v":0},{"$f":"IF('Załącznik nr 1 do rozliczenia'!H375<0,ABS('Załącznik nr 1 do rozliczenia'!H375),0)","v":0},{"$f":"'Rozliczenie kwartalne'!E377","v":0},{"$f":"'Rozliczenie kwartalne'!G377","v":0},{"$f":"'Rozliczenie kwartalne'!H377","v":0},{"$f":"'Rozliczenie kwartalne'!I377","v":0},{"$f":"'Rozliczenie kwartalne'!J377","v":0},{"$f":"'Rozliczenie kwartalne'!K377","v":0},{"$f":"'Rozliczenie kwartalne'!L377","v":0},null,null,"110",0,0,0,0,0,0,0,0,0,0,0,"ok","ok",0,0]
[null,null,{"$f":"'Załącznik nr 2 do rozliczenia'!H371","v":0},{"$f":"SUM(D3:D112)","v":0},null,null,null,{"$f":"'Rozliczenie kwartalne'!I378","v":0},{"$f":"'Rozliczenie kwartalne'!J378","v":0},{"$f":"'Rozliczenie kwartalne'!K378","v":0},{"$f":"'Rozliczenie kwartalne'!L378","v":0},null,null,null,null,null,null,{"$f":"P113*C113","v":0},{"$f":"E113*C113","v":0},{"$f":"IFERROR(V113*C113,0)","v":0},{"$f":"V113*C113","v":0},null,null,{"$f":"D113*0.1","v":0}]
[null,null,null,null,null,null,null,null,null,{"$f":"'Rozliczenie kwartalne'!K379","v":0},{"$f":"'Rozliczenie kwartalne'!L379","v":0}]
[null,null,null,null,null,null,null,null,null,{"$f":"'Rozliczenie kwartalne'!K380","v":0},{"$f":"'Rozliczenie kwartalne'!L380","v":0}]

{"sheet":"Miesiące","index":8,"n_rows":13,"n_cols":9,"rows_kept":13,"cut":false,"hidden":true,"merged":[[14,1,14,2],[14,3,14,4],[14,5,14,6]]}
[]
["I KWARTAŁ","STYCZEŃ",null,null,"ROZLICZENIE",null,null,null,"30.04.2025 r."]
["II KWARTAŁ","LUTY",null,null,"KOREKTA ROZLICZENIA",null,null,null,"30.07.2025 r."]
["III KWARTAŁ","MARZEC",null,null,null,null,null,null,"30.10.2025 r."]
["IV KWARTAŁ","KWIECIEŃ",null,null,null,null,null,null,"30.01.2026 r."]
[null,"MAJ"]
[null,"CZERWIEC"]
[null,"LIPIEC"]
[null,"SIERPIEŃ"]
[null,"WRZESIEŃ"]
[null,"PAŹDZIERNIK"]
[null,"LISTOPAD"]
[null,"GRUDZIEŃ"]

{"sheet":"Dane - linie 1","index":9,"n_rows":111,"n_cols":19,"rows_kept":111,"cut":false,"hidden":true,"merged":[]}
[{"$f":"'Rozliczenie kwartalne'!A34","v":"Lp."},{"$f":"'Rozliczenie kwartalne'!B34","v":"Nazwa linii komunikacyjnej"},{"$f":"'Rozliczenie kwartalne'!C34","v":"Liczba przewiezionych osób"},{"$f":"'Rozliczenie kwartalne'!D34","v":"Wielkość pracy eksploatacyjnej w okresie rozliczeniowym [wzkm]"},{"$f":"'Rozliczenie kwartalne'!E34","v":"Cena usługi [zł]"},{"$f":"'Rozliczenie kwartalne'!F34","v":"Deficyt w okresie rozliczeniowym [zł]"},{"$f":"'Rozliczenie kwartalne'!G34","v":"Część ceny usługi sfinansowana ze środków własnych organizatora  [zł / wzkm]"},{"$f":"'Rozliczenie kwartalne'!H34","v":"Procentowa wartość części ceny usługi sfinansowanej ze środków własnych organizatora [%]"},{"$f":"'Rozliczenie kwartalne'!I34","v":"Kwota środków własnych organizatora [zł]"},{"$f":"'Rozliczenie kwartalne'!J34","v":"Pobrana dopłata w okresie rozliczeniowym [zł]"},{"$f":"'Rozliczenie kwartalne'!K34","v":"Należna kwota dopłaty w okresie rozliczeniowym [zł]"},{"$f":"'Rozliczenie kwartalne'!L34","v":"Niewykorzystana kwota dopłaty w okresie rozliczeniowym [zł]"},{"$f":"'Załącznik nr 1 do rozliczenia'!D30","v":"Suma kosztów osiągniętych na linii komunikacyjnej [zł]"},{"$f":"'Załącznik nr 1 do rozliczenia'!F30","v":"Suma przychodów osiągniętych na linii komunikacyjnych [zł]"},{"$f":"'Załącznik nr 1 do rozliczenia'!H30","v":"Wynik finansowy linii komunikacyjnej - deficyt [zł] "},{"$f":"'Załącznik nr 2 do rozliczenia'!D27","v":"Długość linii [km]"},{"$f":"'Załącznik nr 2 do rozliczenia'!E27","v":"Ilość wykonanych kursów w okresie rozliczeniowym"},{"$f":"'Załącznik nr 2 do rozliczenia'!F27","v":"Dni kursowania"},{"$f":"'Załącznik nr 2 do rozliczenia'!H27","v":"Zrealizowana praca eksploatacyjna [wzkm]"}]
[{"$f":"'Rozliczenie kwartalne'!A36","v":"1"},{"$f":"'Rozliczenie kwartalne'!B36","v":""},{"$f":"'Rozliczenie kwartalne'!C36","v":0},{"$f":"'Rozliczenie kwartalne'!D36","v":0},{"$f":"'Rozliczenie kwartalne'!E36","v":0},{"$f":"'Rozliczenie kwartalne'!F36","v":0},{"$f":"'Rozliczenie kwartalne'!G36","v":0},{"$f":"'Rozliczenie kwartalne'!H36","v":0},{"$f":"'Rozliczenie kwartalne'!I36","v":0},{"$f":"'Rozliczenie kwartalne'!J36","v":0},{"$f":"'Rozliczenie kwartalne'!K36","v":0},{"$f":"'Rozliczenie kwartalne'!L36","v":0},{"$f":"'Załącznik nr 1 do rozliczenia'!D32","v":0},{"$f":"'Załącznik nr 1 do rozliczenia'!F32","v":0},{"$f":"'Załącznik nr 1 do rozliczenia'!H32","v":0},{"$f":"'Załącznik nr 2 do rozliczenia'!D29","v":0},{"$f":"'Załącznik nr 2 do rozliczenia'!E29","v":0},{"$f":"'Załącznik nr 2 do rozliczenia'!F29","v":0},{"$f":"'Załącznik nr 2 do rozliczenia'!H29","v":0}]
[{"$f":"'Rozliczenie kwartalne'!A37","v":"2"},{"$f":"'Rozliczenie kwartalne'!B37","v":""},{"$f":"'Rozliczenie kwartalne'!C37","v":0},{"$f":"'Rozliczenie kwartalne'!D37","v":0},{"$f":"'Rozliczenie kwartalne'!E37","v":0},{"$f":"'Rozliczenie kwartalne'!F37","v":0},{"$f":"'Rozliczenie kwartalne'!G37","v":0},{"$f":"'Rozliczenie kwartalne'!H37","v":0},{"$f":"'Rozliczenie kwartalne'!I37","v":0},{"$f":"'Rozliczenie kwartalne'!J37","v":0},{"$f":"'Rozliczenie kwartalne'!K37","v":0},{"$f":"'Rozliczenie kwartalne'!L37","v":0},{"$f":"'Załącznik nr 1 do rozliczenia'!D33","v":0},{"$f":"'Załącznik nr 1 do rozliczenia'!F33","v":0},{"$f":"'Załącznik nr 1 do rozliczenia'!H33","v":0},{"$f":"'Załącznik nr 2 do rozliczenia'!D30","v":0},{"$f":"'Załącznik nr 2 do rozliczenia'!E30","v":0},{"$f":"'Załącznik nr 2 do rozliczenia'!F30","v":0},{"$f":"'Załącznik nr 2 do rozliczenia'!H30","v":0}]
[{"$f":"'Rozliczenie kwartalne'!A38","v":"3"},{"$f":"'Rozliczenie kwartalne'!B38","v":""},{"$f":"'Rozliczenie kwartalne'!C38","v":0},{"$f":"'Rozliczenie kwartalne'!D38","v":0},{"$f":"'Rozliczenie kwartalne'!E38","v":0},{"$f":"'Rozliczenie kwartalne'!F38","v":0},{"$f":"'Rozliczenie kwartalne'!G38","v":0},{"$f":"'Rozliczenie kwartalne'!H38","v":0},{"$f":"'Rozliczenie kwartalne'!I38","v":0},{"$f":"'Rozliczenie kwartalne'!J38","v":0},{"$f":"'Rozliczenie kwartalne'!K38","v":0},{"$f":"'Rozliczenie kwartalne'!L38","v":0},{"$f":"'Załącznik nr 1 do rozliczenia'!D34","v":0},{"$f":"'Załącznik nr 1 do rozliczenia'!F34","v":0},{"$f":"'Załącznik nr 1 do rozliczenia'!H34","v":0},{"$f":"'Załącznik nr 2 do rozliczenia'!D31","v":0},{"$f":"'Załącznik nr 2 do rozliczenia'!E31","v":0},{"$f":"'Załącznik nr 2 do rozliczenia'!F31","v":0},{"$f":"'Załącznik nr 2 do rozliczenia'!H31","v":0}]
[{"$f":"'Rozliczenie kwartalne'!A39","v":"4"},{"$f":"'Rozliczenie kwartalne'!B39","v":""},{"$f":"'Rozliczenie kwartalne'!C39","v":0},{"$f":"'Rozliczenie kwartalne'!D39","v":0},{"$f":"'Rozliczenie kwartalne'!E39","v":0},{"$f":"'Rozliczenie kwartalne'!F39","v":0},{"$f":"'Rozliczenie kwartalne'!G39","v":0},{"$f":"'Rozliczenie kwartalne'!H39","v":0},{"$f":"'Rozliczenie kwartalne'!I39","v":0},{"$f":"'Rozliczenie kwartalne'!J39","v":0},{"$f":"'Rozliczenie kwartalne'!K39","v":0},{"$f":"'Rozliczenie kwartalne'!L39","v":0},{"$f":"'Załącznik nr 1 do rozliczenia'!D35","v":0},{"$f":"'Załącznik nr 1 do rozliczenia'!F35","v":0},{"$f":"'Załącznik nr 1 do rozliczenia'!H35","v":0},{"$f":"'Załącznik nr 2 do rozliczenia'!D32","v":0},{"$f":"'Załącznik nr 2 do rozliczenia'!E32","v":0},{"$f":"'Załącznik nr 2 do rozliczenia'!F32","v":0},{"$f":"'Załącznik nr 2 do rozliczenia'!H32","v":0}]
[{"$f":"'Rozliczenie kwartalne'!A40","v":"5"},{"$f":"'Rozliczenie kwartalne'!B40","v":""},{"$f":"'Rozliczenie kwartalne'!C40","v":0},{"$f":"'Rozliczenie kwartalne'!D40","v":0},{"$f":"'Rozliczenie kwartalne'!E40","v":0},{"$f":"'Rozliczenie kwartalne'!F40","v":0},{"$f":"'Rozliczenie kwartalne'!G40","v":0},{"$f":"'Rozliczenie kwartalne'!H40","v":0},{"$f":"'Rozliczenie kwartalne'!I40","v":0},{"$f":"'Rozliczenie kwartalne'!J40","v":0},{"$f":"'Rozliczenie kwartalne'!K40","v":0},{"$f":"'Rozliczenie kwartalne'!L40","v":0},{"$f":"'Załącznik nr 1 do rozliczenia'!D36","v":0},{"$f":"'Załącznik nr 1 do rozliczenia'!F36","v":0},{"$f":"'Załącznik nr 1 do rozliczenia'!H36","v":0},{"$f":"'Załącznik nr 2 do rozliczenia'!D33","v":0},{"$f":"'Załącznik nr 2 do rozliczenia'!E33","v":0},{"$f":"'Załącznik nr 2 do rozliczenia'!F33","v":0},{"$f":"'Załącznik nr 2 do rozliczenia'!H33","v":0}]
[{"$f":"'Rozliczenie kwartalne'!A41","v":"6"},{"$f":"'Rozliczenie kwartalne'!B41","v":""},{"$f":"'Rozliczenie kwartalne'!C41","v":0},{"$f":"'Rozliczenie kwartalne'!D41","v":0},{"$f":"'Rozliczenie kwartalne'!E41","v":0},{"$f":"'Rozliczenie kwartalne'!F41","v":0},{"$f":"'Rozliczenie kwartalne'!G41","v":0},{"$f":"'Rozliczenie kwartalne'!H41","v":0},{"$f":"'Rozliczenie kwartalne'!I41","v":0},{"$f":"'Rozliczenie kwartalne'!J41","v":0},{"$f":"'Rozliczenie kwartalne'!K41","v":0},{"$f":"'Rozliczenie kwartalne'!L41","v":0},{"$f":"'Załącznik nr 1 do rozliczenia'!D37","v":0},{"$f":"'Załącznik nr 1 do rozliczenia'!F37","v":0},{"$f":"'Załącznik nr 1 do rozliczenia'!H37","v":0},{"$f":"'Załącznik nr 2 do rozliczenia'!D34","v":0},{"$f":"'Załącznik nr 2 do rozliczenia'!E34","v":0},{"$f":"'Załącznik nr 2 do rozliczenia'!F34","v":0},{"$f":"'Załącznik nr 2 do rozliczenia'!H34","v":0}]
[{"$f":"'Rozliczenie kwartalne'!A42","v":"7"},{"$f":"'Rozliczenie kwartalne'!B42","v":""},{"$f":"'Rozliczenie kwartalne'!C42","v":0},{"$f":"'Rozliczenie kwartalne'!D42","v":0},{"$f":"'Rozliczenie kwartalne'!E42","v":0},{"$f":"'Rozliczenie kwartalne'!F42","v":0},{"$f":"'Rozliczenie kwartalne'!G42","v":0},{"$f":"'Rozliczenie kwartalne'!H42","v":0},{"$f":"'Rozliczenie kwartalne'!I42","v":0},{"$f":"'Rozliczenie kwartalne'!J42","v":0},{"$f":"'Rozliczenie kwartalne'!K42","v":0},{"$f":"'Rozliczenie kwartalne'!L42","v":0},{"$f":"'Załącznik nr 1 do rozliczenia'!D38","v":0},{"$f":"'Załącznik nr 1 do rozliczenia'!F38","v":0},{"$f":"'Załącznik nr 1 do rozliczenia'!H38","v":0},{"$f":"'Załącznik nr 2 do rozliczenia'!D35","v":0},{"$f":"'Załącznik nr 2 do rozliczenia'!E35","v":0},{"$f":"'Załącznik nr 2 do rozliczenia'!F35","v":0},{"$f":"'Załącznik nr 2 do rozliczenia'!H35","v":0}]
[{"$f":"'Rozliczenie kwartalne'!A43","v":"8"},{"$f":"'Rozliczenie kwartalne'!B43","v":""},{"$f":"'Rozliczenie kwartalne'!C43","v":0},{"$f":"'Rozliczenie kwartalne'!D43","v":0},{"$f":"'Rozliczenie kwartalne'!E43","v":0},{"$f":"'Rozliczenie kwartalne'!F43","v":0},{"$f":"'Rozliczenie kwartalne'!G43","v":0},{"$f":"'Rozliczenie kwartalne'!H43","v":0},{"$f":"'Rozliczenie kwartalne'!I43","v":0},{"$f":"'Rozliczenie kwartalne'!J43","v":0},{"$f":"'Rozliczenie kwartalne'!K43","v":0},{"$f":"'Rozliczenie kwartalne'!L43","v":0},{"$f":"'Załącznik nr 1 do rozliczenia'!D39","v":0},{"$f":"'Załącznik nr 1 do rozliczenia'!F39","v":0},{"$f":"'Załącznik nr 1 do rozliczenia'!H39","v":0},{"$f":"'Załącznik nr 2 do rozliczenia'!D36","v":0},{"$f":"'Załącznik nr 2 do rozliczenia'!E36","v":0},{"$f":"'Załącznik nr 2 do rozliczenia'!F36","v":0},{"$f":"'Załącznik nr 2 do rozliczenia'!H36","v":0}]
[{"$f":"'Rozliczenie kwartalne'!A44","v":"9"},{"$f":"'Rozliczenie kwartalne'!B44","v":""},{"$f":"'Rozliczenie kwartalne'!C44","v":0},{"$f":"'Rozliczenie kwartalne'!D44","v":0},{"$f":"'Rozliczenie kwartalne'!E44","v":0},{"$f":"'Rozliczenie kwartalne'!F44","v":0},{"$f":"'Rozliczenie kwartalne'!G44","v":0},{"$f":"'Rozliczenie kwartalne'!H44","v":0},{"$f":"'Rozliczenie kwartalne'!I44","v":0},{"$f":"'Rozliczenie kwartalne'!J44","v":0},{"$f":"'Rozliczenie kwartalne'!K44","v":0},{"$f":"'Rozliczenie kwartalne'!L44","v":0},{"$f":"'Załącznik nr 1 do rozliczenia'!D40","v":0},{"$f":"'Załącznik nr 1 do rozliczenia'!F40","v":0},{"$f":"'Załącznik nr 1 do rozliczenia'!H40","v":0},{"$f":"'Załącznik nr 2 do rozliczenia'!D37","v":0},{"$f":"'Załącznik nr 2 do rozliczenia'!E37","v":0},{"$f":"'Załącznik nr 2 do rozliczenia'!F37","v":0},{"$f":"'Załącznik nr 2 do rozliczenia'!H37","v":0}]
[{"$f":"'Rozliczenie kwartalne'!A45","v":"10"},{"$f":"'Rozliczenie kwartalne'!B45","v":""},{"$f":"'Rozliczenie kwartalne'!C45","v":0},{"$f":"'Rozliczenie kwartalne'!D45","v":0},{"$f":"'Rozliczenie kwartalne'!E45","v":0},{"$f":"'Rozliczenie kwartalne'!F45","v":0},{"$f":"'Rozliczenie kwartalne'!G45","v":0},{"$f":"'Rozliczenie kwartalne'!H45","v":0},{"$f":"'Rozliczenie kwartalne'!I45","v":0},{"$f":"'Rozliczenie kwartalne'!J45","v":0},{"$f":"'Rozliczenie kwartalne'!K45","v":0},{"$f":"'Rozliczenie kwartalne'!L45","v":0},{"$f":"'Załącznik nr 1 do rozliczenia'!D41","v":0},{"$f":"'Załącznik nr 1 do rozliczenia'!F41","v":0},{"$f":"'Załącznik nr 1 do rozliczenia'!H41","v":0},{"$f":"'Załącznik nr 2 do rozliczenia'!D38","v":0},{"$f":"'Załącznik nr 2 do rozliczenia'!E38","v":0},{"$f":"'Załącznik nr 2 do rozliczenia'!F38","v":0},{"$f":"'Załącznik nr 2 do rozliczenia'!H38","v":0}]
[{"$f":"'Rozliczenie kwartalne'!A46","v":"11"},{"$f":"'Rozliczenie kwartalne'!B46","v":""},{"$f":"'Rozliczenie kwartalne'!C46","v":0},{"$f":"'Rozliczenie kwartalne'!D46","v":0},{"$f":"'Rozliczenie kwartalne'!E46","v":0},{"$f":"'Rozliczenie kwartalne'!F46","v":0},{"$f":"'Rozliczenie kwartalne'!G46","v":0},{"$f":"'Rozliczenie kwartalne'!H46","v":0},{"$f":"'Rozliczenie kwartalne'!I46","v":0},{"$f":"'Rozliczenie kwartalne'!J46","v":0},{"$f":"'Rozliczenie kwartalne'!K46","v":0},{"$f":"'Rozliczenie kwartalne'!L46","v":0},{"$f":"'Załącznik nr 1 do rozliczenia'!D42","v":0},{"$f":"'Załącznik nr 1 do rozliczenia'!F42","v":0},{"$f":"'Załącznik nr 1 do rozliczenia'!H42","v":0},{"$f":"'Załącznik nr 2 do rozliczenia'!D39","v":0},{"$f":"'Załącznik nr 2 do rozliczenia'!E39","v":0},{"$f":"'Załącznik nr 2 do rozliczenia'!F39","v":0},{"$f":"'Załącznik nr 2 do rozliczenia'!H39","v":0}]
[{"$f":"'Rozliczenie kwartalne'!A47","v":"12"},{"$f":"'Rozliczenie kwartalne'!B47","v":""},{"$f":"'Rozliczenie kwartalne'!C47","v":0},{"$f":"'Rozliczenie kwartalne'!D47","v":0},{"$f":"'Rozliczenie kwartalne'!E47","v":0},{"$f":"'Rozliczenie kwartalne'!F47","v":0},{"$f":"'Rozliczenie kwartalne'!G47","v":0},{"$f":"'Rozliczenie kwartalne'!H47","v":0},{"$f":"'Rozliczenie kwartalne'!I47","v":0},{"$f":"'Rozliczenie kwartalne'!J47","v":0},{"$f":"'Rozliczenie kwartalne'!K47","v":0},{"$f":"'Rozliczenie kwartalne'!L47","v":0},{"$f":"'Załącznik nr 1 do rozliczenia'!D43","v":0},{"$f":"'Załącznik nr 1 do rozliczenia'!F43","v":0},{"$f":"'Załącznik nr 1 do rozliczenia'!H43","v":0},{"$f":"'Załącznik nr 2 do rozliczenia'!D40","v":0},{"$f":"'Załącznik nr 2 do rozliczenia'!E40","v":0},{"$f":"'Załącznik nr 2 do rozliczenia'!F40","v":0},{"$f":"'Załącznik nr 2 do rozliczenia'!H40","v":0}]
[{"$f":"'Rozliczenie kwartalne'!A48","v":"13"},{"$f":"'Rozliczenie kwartalne'!B48","v":""},{"$f":"'Rozliczenie kwartalne'!C48","v":0},{"$f":"'Rozliczenie kwartalne'!D48","v":0},{"$f":"'Rozliczenie kwartalne'!E48","v":0},{"$f":"'Rozliczenie kwartalne'!F48","v":0},{"$f":"'Rozliczenie kwartalne'!G48","v":0},{"$f":"'Rozliczenie kwartalne'!H48","v":0},{"$f":"'Rozliczenie kwartalne'!I48","v":0},{"$f":"'Rozliczenie kwartalne'!J48","v":0},{"$f":"'Rozliczenie kwartalne'!K48","v":0},{"$f":"'Rozliczenie kwartalne'!L48","v":0},{"$f":"'Załącznik nr 1 do rozliczenia'!D44","v":0},{"$f":"'Załącznik nr 1 do rozliczenia'!F44","v":0},{"$f":"'Załącznik nr 1 do rozliczenia'!H44","v":0},{"$f":"'Załącznik nr 2 do rozliczenia'!D41","v":0},{"$f":"'Załącznik nr 2 do rozliczenia'!E41","v":0},{"$f":"'Załącznik nr 2 do rozliczenia'!F41","v":0},{"$f":"'Załącznik nr 2 do rozliczenia'!H41","v":0}]
[{"$f":"'Rozliczenie kwartalne'!A49","v":"14"},{"$f":"'Rozliczenie kwartalne'!B49","v":""},{"$f":"'Rozliczenie kwartalne'!C49","v":0},{"$f":"'Rozliczenie kwartalne'!D49","v":0},{"$f":"'Rozliczenie kwartalne'!E49","v":0},{"$f":"'Rozliczenie kwartalne'!F49","v":0},{"$f":"'Rozliczenie kwartalne'!G49","v":0},{"$f":"'Rozliczenie kwartalne'!H49","v":0},{"$f":"'Rozliczenie kwartalne'!I49","v":0},{"$f":"'Rozliczenie kwartalne'!J49","v":0},{"$f":"'Rozliczenie kwartalne'!K49","v":0},{"$f":"'Rozliczenie kwartalne'!L49","v":0},{"$f":"'Załącznik nr 1 do rozliczenia'!D45","v":0},{"$f":"'Załącznik nr 1 do rozliczenia'!F45","v":0},{"$f":"'Załącznik nr 1 do rozliczenia'!H45","v":0},{"$f":"'Załącznik nr 2 do rozliczenia'!D42","v":0},{"$f":"'Załącznik nr 2 do rozliczenia'!E42","v":0},{"$f":"'Załącznik nr 2 do rozliczenia'!F42","v":0},{"$f":"'Załącznik nr 2 do rozliczenia'!H42","v":0}]
[{"$f":"'Rozliczenie kwartalne'!A50","v":"15"},{"$f":"'Rozliczenie kwartalne'!B50","v":""},{"$f":"'Rozliczenie kwartalne'!C50","v":0},{"$f":"'Rozliczenie kwartalne'!D50","v":0},{"$f":"'Rozliczenie kwartalne'!E50","v":0},{"$f":"'Rozliczenie kwartalne'!F50","v":0},{"$f":"'Rozliczenie kwartalne'!G50","v":0},{"$f":"'Rozliczenie kwartalne'!H50","v":0},{"$f":"'Rozliczenie kwartalne'!I50","v":0},{"$f":"'Rozliczenie kwartalne'!J50","v":0},{"$f":"'Rozliczenie kwartalne'!K50","v":0},{"$f":"'Rozliczenie kwartalne'!L50","v":0},{"$f":"'Załącznik nr 1 do rozliczenia'!D46","v":0},{"$f":"'Załącznik nr 1 do rozliczenia'!F46","v":0},{"$f":"'Załącznik nr 1 do rozliczenia'!H46","v":0},{"$f":"'Załącznik nr 2 do rozliczenia'!D43","v":0},{"$f":"'Załącznik nr 2 do rozliczenia'!E43","v":0},{"$f":"'Załącznik nr 2 do rozliczenia'!F43","v":0},{"$f":"'Załącznik nr 2 do rozliczenia'!H43","v":0}]
[{"$f":"'Rozliczenie kwartalne'!A51","v":"16"},{"$f":"'Rozliczenie kwartalne'!B51","v":""},{"$f":"'Rozliczenie kwartalne'!C51","v":0},{"$f":"'Rozliczenie kwartalne'!D51","v":0},{"$f":"'Rozliczenie kwartalne'!E51","v":0},{"$f":"'Rozliczenie kwartalne'!F51","v":0},{"$f":"'Rozliczenie kwartalne'!G51","v":0},{"$f":"'Rozliczenie kwartalne'!H51","v":0},{"$f":"'Rozliczenie kwartalne'!I51","v":0},{"$f":"'Rozliczenie kwartalne'!J51","v":0},{"$f":"'Rozliczenie kwartalne'!K51","v":0},{"$f":"'Rozliczenie kwartalne'!L51","v":0},{"$f":"'Załącznik nr 1 do rozliczenia'!D47","v":0},{"$f":"'Załącznik nr 1 do rozliczenia'!F47","v":0},{"$f":"'Załącznik nr 1 do rozliczenia'!H47","v":0},{"$f":"'Załącznik nr 2 do rozliczenia'!D44","v":0},{"$f":"'Załącznik nr 2 do rozliczenia'!E44","v":0},{"$f":"'Załącznik nr 2 do rozliczenia'!F44","v":0},{"$f":"'Załącznik nr 2 do rozliczenia'!H44","v":0}]
[{"$f":"'Rozliczenie kwartalne'!A52","v":"17"},{"$f":"'Rozliczenie kwartalne'!B52","v":""},{"$f":"'Rozliczenie kwartalne'!C52","v":0},{"$f":"'Rozliczenie kwartalne'!D52","v":0},{"$f":"'Rozliczenie kwartalne'!E52","v":0},{"$f":"'Rozliczenie kwartalne'!F52","v":0},{"$f":"'Rozliczenie kwartalne'!G52","v":0},{"$f":"'Rozliczenie kwartalne'!H52","v":0},{"$f":"'Rozliczenie kwartalne'!I52","v":0},{"$f":"'Rozliczenie kwartalne'!J52","v":0},{"$f":"'Rozliczenie kwartalne'!K52","v":0},{"$f":"'Rozliczenie kwartalne'!L52","v":0},{"$f":"'Załącznik nr 1 do rozliczenia'!D48","v":0},{"$f":"'Załącznik nr 1 do rozliczenia'!F48","v":0},{"$f":"'Załącznik nr 1 do rozliczenia'!H48","v":0},{"$f":"'Załącznik nr 2 do rozliczenia'!D45","v":0},{"$f":"'Załącznik nr 2 do rozliczenia'!E45","v":0},{"$f":"'Załącznik nr 2 do rozliczenia'!F45","v":0},{"$f":"'Załącznik nr 2 do rozliczenia'!H45","v":0}]
[{"$f":"'Rozliczenie kwartalne'!A53","v":"18"},{"$f":"'Rozliczenie kwartalne'!B53","v":""},{"$f":"'Rozliczenie kwartalne'!C53","v":0},{"$f":"'Rozliczenie kwartalne'!D53","v":0},{"$f":"'Rozliczenie kwartalne'!E53","v":0},{"$f":"'Rozliczenie kwartalne'!F53","v":0},{"$f":"'Rozliczenie kwartalne'!G53","v":0},{"$f":"'Rozliczenie kwartalne'!H53","v":0},{"$f":"'Rozliczenie kwartalne'!I53","v":0},{"$f":"'Rozliczenie kwartalne'!J53","v":0},{"$f":"'Rozliczenie kwartalne'!K53","v":0},{"$f":"'Rozliczenie kwartalne'!L53","v":0},{"$f":"'Załącznik nr 1 do rozliczenia'!D49","v":0},{"$f":"'Załącznik nr 1 do rozliczenia'!F49","v":0},{"$f":"'Załącznik nr 1 do rozliczenia'!H49","v":0},{"$f":"'Załącznik nr 2 do rozliczenia'!D46","v":0},{"$f":"'Załącznik nr 2 do rozliczenia'!E46","v":0},{"$f":"'Załącznik nr 2 do rozliczenia'!F46","v":0},{"$f":"'Załącznik nr 2 do rozliczenia'!H46","v":0}]
[{"$f":"'Rozliczenie kwartalne'!A54","v":"19"},{"$f":"'Rozliczenie kwartalne'!B54","v":""},{"$f":"'Rozliczenie kwartalne'!C54","v":0},{"$f":"'Rozliczenie kwartalne'!D54","v":0},{"$f":"'Rozliczenie kwartalne'!E54","v":0},{"$f":"'Rozliczenie kwartalne'!F54","v":0},{"$f":"'Rozliczenie kwartalne'!G54","v":0},{"$f":"'Rozliczenie kwartalne'!H54","v":0},{"$f":"'Rozliczenie kwartalne'!I54","v":0},{"$f":"'Rozliczenie kwartalne'!J54","v":0},{"$f":"'Rozliczenie kwartalne'!K54","v":0},{"$f":"'Rozliczenie kwartalne'!L54","v":0},{"$f":"'Załącznik nr 1 do rozliczenia'!D50","v":0},{"$f":"'Załącznik nr 1 do rozliczenia'!F50","v":0},{"$f":"'Załącznik nr 1 do rozliczenia'!H50","v":0},{"$f":"'Załącznik nr 2 do rozliczenia'!D47","v":0},{"$f":"'Załącznik nr 2 do rozliczenia'!E47","v":0},{"$f":"'Załącznik nr 2 do rozliczenia'!F47","v":0},{"$f":"'Załącznik nr 2 do rozliczenia'!H47","v":0}]
[{"$f":"'Rozliczenie kwartalne'!A55","v":"20"},{"$f":"'Rozliczenie kwartalne'!B55","v":""},{"$f":"'Rozliczenie kwartalne'!C55","v":0},{"$f":"'Rozliczenie kwartalne'!D55","v":0},{"$f":"'Rozliczenie kwartalne'!E55","v":0},{"$f":"'Rozliczenie kwartalne'!F55","v":0},{"$f":"'Rozliczenie kwartalne'!G55","v":0},{"$f":"'Rozliczenie kwartalne'!H55","v":0},{"$f":"'Rozliczenie kwartalne'!I55","v":0},{"$f":"'Rozliczenie kwartalne'!J55","v":0},{"$f":"'Rozliczenie kwartalne'!K55","v":0},{"$f":"'Rozliczenie kwartalne'!L55","v":0},{"$f":"'Załącznik nr 1 do rozliczenia'!D51","v":0},{"$f":"'Załącznik nr 1 do rozliczenia'!F51","v":0},{"$f":"'Załącznik nr 1 do rozliczenia'!H51","v":0},{"$f":"'Załącznik nr 2 do rozliczenia'!D48","v":0},{"$f":"'Załącznik nr 2 do rozliczenia'!E48","v":0},{"$f":"'Załącznik nr 2 do rozliczenia'!F48","v":0},{"$f":"'Załącznik nr 2 do rozliczenia'!H48","v":0}]
[{"$f":"'Rozliczenie kwartalne'!A56","v":"21"},{"$f":"'Rozliczenie kwartalne'!B56","v":""},{"$f":"'Rozliczenie kwartalne'!C56","v":0},{"$f":"'Rozliczenie kwartalne'!D56","v":0},{"$f":"'Rozliczenie kwartalne'!E56","v":0},{"$f":"'Rozliczenie kwartalne'!F56","v":0},{"$f":"'Rozliczenie kwartalne'!G56","v":0},{"$f":"'Rozliczenie kwartalne'!H56","v":0},{"$f":"'Rozliczenie kwartalne'!I56","v":0},{"$f":"'Rozliczenie kwartalne'!J56","v":0},{"$f":"'Rozliczenie kwartalne'!K56","v":0},{"$f":"'Rozliczenie kwartalne'!L56","v":0},{"$f":"'Załącznik nr 1 do rozliczenia'!D52","v":0},{"$f":"'Załącznik nr 1 do rozliczenia'!F52","v":0},{"$f":"'Załącznik nr 1 do rozliczenia'!H52","v":0},{"$f":"'Załącznik nr 2 do rozliczenia'!D49","v":0},{"$f":"'Załącznik nr 2 do rozliczenia'!E49","v":0},{"$f":"'Załącznik nr 2 do rozliczenia'!F49","v":0},{"$f":"'Załącznik nr 2 do rozliczenia'!H49","v":0}]
[{"$f":"'Rozliczenie kwartalne'!A57","v":"22"},{"$f":"'Rozliczenie kwartalne'!B57","v":""},{"$f":"'Rozliczenie kwartalne'!C57","v":0},{"$f":"'Rozliczenie kwartalne'!D57","v":0},{"$f":"'Rozliczenie kwartalne'!E57","v":0},{"$f":"'Rozliczenie kwartalne'!F57","v":0},{"$f":"'Rozliczenie kwartalne'!G57","v":0},{"$f":"'Rozliczenie kwartalne'!H57","v":0},{"$f":"'Rozliczenie kwartalne'!I57","v":0},{"$f":"'Rozliczenie kwartalne'!J57","v":0},{"$f":"'Rozliczenie kwartalne'!K57","v":0},{"$f":"'Rozliczenie kwartalne'!L57","v":0},{"$f":"'Załącznik nr 1 do rozliczenia'!D53","v":0},{"$f":"'Załącznik nr 1 do rozliczenia'!F53","v":0},{"$f":"'Załącznik nr 1 do rozliczenia'!H53","v":0},{"$f":"'Załącznik nr 2 do rozliczenia'!D50","v":0},{"$f":"'Załącznik nr 2 do rozliczenia'!E50","v":0},{"$f":"'Załącznik nr 2 do rozliczenia'!F50","v":0},{"$f":"'Załącznik nr 2 do rozliczenia'!H50","v":0}]
[{"$f":"'Rozliczenie kwartalne'!A58","v":"23"},{"$f":"'Rozliczenie kwartalne'!B58","v":""},{"$f":"'Rozliczenie kwartalne'!C58","v":0},{"$f":"'Rozliczenie kwartalne'!D58","v":0},{"$f":"'Rozliczenie kwartalne'!E58","v":0},{"$f":"'Rozliczenie kwartalne'!F58","v":0},{"$f":"'Rozliczenie kwartalne'!G58","v":0},{"$f":"'Rozliczenie kwartalne'!H58","v":0},{"$f":"'Rozliczenie kwartalne'!I58","v":0},{"$f":"'Rozliczenie kwartalne'!J58","v":0},{"$f":"'Rozliczenie kwartalne'!K58","v":0},{"$f":"'Rozliczenie kwartalne'!L58","v":0},{"$f":"'Załącznik nr 1 do rozliczenia'!D54","v":0},{"$f":"'Załącznik nr 1 do rozliczenia'!F54","v":0},{"$f":"'Załącznik nr 1 do rozliczenia'!H54","v":0},{"$f":"'Załącznik nr 2 do rozliczenia'!D51","v":0},{"$f":"'Załącznik nr 2 do rozliczenia'!E51","v":0},{"$f":"'Załącznik nr 2 do rozliczenia'!F51","v":0},{"$f":"'Załącznik nr 2 do rozliczenia'!H51","v":0}]
[{"$f":"'Rozliczenie kwartalne'!A59","v":"24"},{"$f":"'Rozliczenie kwartalne'!B59","v":""},{"$f":"'Rozliczenie kwartalne'!C59","v":0},{"$f":"'Rozliczenie kwartalne'!D59","v":0},{"$f":"'Rozliczenie kwartalne'!E59","v":0},{"$f":"'Rozliczenie kwartalne'!F59","v":0},{"$f":"'Rozliczenie kwartalne'!G59","v":0},{"$f":"'Rozliczenie kwartalne'!H59","v":0},{"$f":"'Rozliczenie kwartalne'!I59","v":0},{"$f":"'Rozliczenie kwartalne'!J59","v":0},{"$f":"'Rozliczenie kwartalne'!K59","v":0},{"$f":"'Rozliczenie kwartalne'!L59","v":0},{"$f":"'Załącznik nr 1 do rozliczenia'!D55","v":0},{"$f":"'Załącznik nr 1 do rozliczenia'!F55","v":0},{"$f":"'Załącznik nr 1 do rozliczenia'!H55","v":0},{"$f":"'Załącznik nr 2 do rozliczenia'!D52","v":0},{"$f":"'Załącznik nr 2 do rozliczenia'!E52","v":0},{"$f":"'Załącznik nr 2 do rozliczenia'!F52","v":0},{"$f":"'Załącznik nr 2 do rozliczenia'!H52","v":0}]
[{"$f":"'Rozliczenie kwartalne'!A60","v":"25"},{"$f":"'Rozliczenie kwartalne'!B60","v":""},{"$f":"'Rozliczenie kwartalne'!C60","v":0},{"$f":"'Rozliczenie kwartalne'!D60","v":0},{"$f":"'Rozliczenie kwartalne'!E60","v":0},{"$f":"'Rozliczenie kwartalne'!F60","v":0},{"$f":"'Rozliczenie kwartalne'!G60","v":0},{"$f":"'Rozliczenie kwartalne'!H60","v":0},{"$f":"'Rozliczenie kwartalne'!I60","v":0},{"$f":"'Rozliczenie kwartalne'!J60","v":0},{"$f":"'Rozliczenie kwartalne'!K60","v":0},{"$f":"'Rozliczenie kwartalne'!L60","v":0},{"$f":"'Załącznik nr 1 do rozliczenia'!D56","v":0},{"$f":"'Załącznik nr 1 do rozliczenia'!F56","v":0},{"$f":"'Załącznik nr 1 do rozliczenia'!H56","v":0},{"$f":"'Załącznik nr 2 do rozliczenia'!D53","v":0},{"$f":"'Załącznik nr 2 do rozliczenia'!E53","v":0},{"$f":"'Załącznik nr 2 do rozliczenia'!F53","v":0},{"$f":"'Załącznik nr 2 do rozliczenia'!H53","v":0}]
[{"$f":"'Rozliczenie kwartalne'!A61","v":"26"},{"$f":"'Rozliczenie kwartalne'!B61","v":""},{"$f":"'Rozliczenie kwartalne'!C61","v":0},{"$f":"'Rozliczenie kwartalne'!D61","v":0},{"$f":"'Rozliczenie kwartalne'!E61","v":0},{"$f":"'Rozliczenie kwartalne'!F61","v":0},{"$f":"'Rozliczenie kwartalne'!G61","v":0},{"$f":"'Rozliczenie kwartalne'!H61","v":0},{"$f":"'Rozliczenie kwartalne'!I61","v":0},{"$f":"'Rozliczenie kwartalne'!J61","v":0},{"$f":"'Rozliczenie kwartalne'!K61","v":0},{"$f":"'Rozliczenie kwartalne'!L61","v":0},{"$f":"'Załącznik nr 1 do rozliczenia'!D57","v":0},{"$f":"'Załącznik nr 1 do rozliczenia'!F57","v":0},{"$f":"'Załącznik nr 1 do rozliczenia'!H57","v":0},{"$f":"'Załącznik nr 2 do rozliczenia'!D54","v":0},{"$f":"'Załącznik nr 2 do rozliczenia'!E54","v":0},{"$f":"'Załącznik nr 2 do rozliczenia'!F54","v":0},{"$f":"'Załącznik nr 2 do rozliczenia'!H54","v":0}]
[{"$f":"'Rozliczenie kwartalne'!A62","v":"27"},{"$f":"'Rozliczenie kwartalne'!B62","v":""},{"$f":"'Rozliczenie kwartalne'!C62","v":0},{"$f":"'Rozliczenie kwartalne'!D62","v":0},{"$f":"'Rozliczenie kwartalne'!E62","v":0},{"$f":"'Rozliczenie kwartalne'!F62","v":0},{"$f":"'Rozliczenie kwartalne'!G62","v":0},{"$f":"'Rozliczenie kwartalne'!H62","v":0},{"$f":"'Rozliczenie kwartalne'!I62","v":0},{"$f":"'Rozliczenie kwartalne'!J62","v":0},{"$f":"'Rozliczenie kwartalne'!K62","v":0},{"$f":"'Rozliczenie kwartalne'!L62","v":0},{"$f":"'Załącznik nr 1 do rozliczenia'!D58","v":0},{"$f":"'Załącznik nr 1 do rozliczenia'!F58","v":0},{"$f":"'Załącznik nr 1 do rozliczenia'!H58","v":0},{"$f":"'Załącznik nr 2 do rozliczenia'!D55","v":0},{"$f":"'Załącznik nr 2 do rozliczenia'!E55","v":0},{"$f":"'Załącznik nr 2 do rozliczenia'!F55","v":0},{"$f":"'Załącznik nr 2 do rozliczenia'!H55","v":0}]
[{"$f":"'Rozliczenie kwartalne'!A63","v":"28"},{"$f":"'Rozliczenie kwartalne'!B63","v":""},{"$f":"'Rozliczenie kwartalne'!C63","v":0},{"$f":"'Rozliczenie kwartalne'!D63","v":0},{"$f":"'Rozliczenie kwartalne'!E63","v":0},{"$f":"'Rozliczenie kwartalne'!F63","v":0},{"$f":"'Rozliczenie kwartalne'!G63","v":0},{"$f":"'Rozliczenie kwartalne'!H63","v":0},{"$f":"'Rozliczenie kwartalne'!I63","v":0},{"$f":"'Rozliczenie kwartalne'!J63","v":0},{"$f":"'Rozliczenie kwartalne'!K63","v":0},{"$f":"'Rozliczenie kwartalne'!L63","v":0},{"$f":"'Załącznik nr 1 do rozliczenia'!D59","v":0},{"$f":"'Załącznik nr 1 do rozliczenia'!F59","v":0},{"$f":"'Załącznik nr 1 do rozliczenia'!H59","v":0},{"$f":"'Załącznik nr 2 do rozliczenia'!D56","v":0},{"$f":"'Załącznik nr 2 do rozliczenia'!E56","v":0},{"$f":"'Załącznik nr 2 do rozliczenia'!F56","v":0},{"$f":"'Załącznik nr 2 do rozliczenia'!H56","v":0}]
[{"$f":"'Rozliczenie kwartalne'!A64","v":"29"},{"$f":"'Rozliczenie kwartalne'!B64","v":""},{"$f":"'Rozliczenie kwartalne'!C64","v":0},{"$f":"'Rozliczenie kwartalne'!D64","v":0},{"$f":"'Rozliczenie kwartalne'!E64","v":0},{"$f":"'Rozliczenie kwartalne'!F64","v":0},{"$f":"'Rozliczenie kwartalne'!G64","v":0},{"$f":"'Rozliczenie kwartalne'!H64","v":0},{"$f":"'Rozliczenie kwartalne'!I64","v":0},{"$f":"'Rozliczenie kwartalne'!J64","v":0},{"$f":"'Rozliczenie kwartalne'!K64","v":0},{"$f":"'Rozliczenie kwartalne'!L64","v":0},{"$f":"'Załącznik nr 1 do rozliczenia'!D60","v":0},{"$f":"'Załącznik nr 1 do rozliczenia'!F60","v":0},{"$f":"'Załącznik nr 1 do rozliczenia'!H60","v":0},{"$f":"'Załącznik nr 2 do rozliczenia'!D57","v":0},{"$f":"'Załącznik nr 2 do rozliczenia'!E57","v":0},{"$f":"'Załącznik nr 2 do rozliczenia'!F57","v":0},{"$f":"'Załącznik nr 2 do rozliczenia'!H57","v":0}]
[{"$f":"'Rozliczenie kwartalne'!A65","v":"30"},{"$f":"'Rozliczenie kwartalne'!B65","v":""},{"$f":"'Rozliczenie kwartalne'!C65","v":0},{"$f":"'Rozliczenie kwartalne'!D65","v":0},{"$f":"'Rozliczenie kwartalne'!E65","v":0},{"$f":"'Rozliczenie kwartalne'!F65","v":0},{"$f":"'Rozliczenie kwartalne'!G65","v":0},{"$f":"'Rozliczenie kwartalne'!H65","v":0},{"$f":"'Rozliczenie kwartalne'!I65","v":0},{"$f":"'Rozliczenie kwartalne'!J65","v":0},{"$f":"'Rozliczenie kwartalne'!K65","v":0},{"$f":"'Rozliczenie kwartalne'!L65","v":0},{"$f":"'Załącznik nr 1 do rozliczenia'!D61","v":0},{"$f":"'Załącznik nr 1 do rozliczenia'!F61","v":0},{"$f":"'Załącznik nr 1 do rozliczenia'!H61","v":0},{"$f":"'Załącznik nr 2 do rozliczenia'!D58","v":0},{"$f":"'Załącznik nr 2 do rozliczenia'!E58","v":0},{"$f":"'Załącznik nr 2 do rozliczenia'!F58","v":0},{"$f":"'Załącznik nr 2 do rozliczenia'!H58","v":0}]
[{"$f":"'Rozliczenie kwartalne'!A66","v":"31"},{"$f":"'Rozliczenie kwartalne'!B66","v":""},{"$f":"'Rozliczenie kwartalne'!C66","v":0},{"$f":"'Rozliczenie kwartalne'!D66","v":0},{"$f":"'Rozliczenie kwartalne'!E66","v":0},{"$f":"'Rozliczenie kwartalne'!F66","v":0},{"$f":"'Rozliczenie kwartalne'!G66","v":0},{"$f":"'Rozliczenie kwartalne'!H66","v":0},{"$f":"'Rozliczenie kwartalne'!I66","v":0},{"$f":"'Rozliczenie kwartalne'!J66","v":0},{"$f":"'Rozliczenie kwartalne'!K66","v":0},{"$f":"'Rozliczenie kwartalne'!L66","v":0},{"$f":"'Załącznik nr 1 do rozliczenia'!D62","v":0},{"$f":"'Załącznik nr 1 do rozliczenia'!F62","v":0},{"$f":"'Załącznik nr 1 do rozliczenia'!H62","v":0},{"$f":"'Załącznik nr 2 do rozliczenia'!D59","v":0},{"$f":"'Załącznik nr 2 do rozliczenia'!E59","v":0},{"$f":"'Załącznik nr 2 do rozliczenia'!F59","v":0},{"$f":"'Załącznik nr 2 do rozliczenia'!H59","v":0}]
[{"$f":"'Rozliczenie kwartalne'!A67","v":"32"},{"$f":"'Rozliczenie kwartalne'!B67","v":""},{"$f":"'Rozliczenie kwartalne'!C67","v":0},{"$f":"'Rozliczenie kwartalne'!D67","v":0},{"$f":"'Rozliczenie kwartalne'!E67","v":0},{"$f":"'Rozliczenie kwartalne'!F67","v":0},{"$f":"'Rozliczenie kwartalne'!G67","v":0},{"$f":"'Rozliczenie kwartalne'!H67","v":0},{"$f":"'Rozliczenie kwartalne'!I67","v":0},{"$f":"'Rozliczenie kwartalne'!J67","v":0},{"$f":"'Rozliczenie kwartalne'!K67","v":0},{"$f":"'Rozliczenie kwartalne'!L67","v":0},{"$f":"'Załącznik nr 1 do rozliczenia'!D63","v":0},{"$f":"'Załącznik nr 1 do rozliczenia'!F63","v":0},{"$f":"'Załącznik nr 1 do rozliczenia'!H63","v":0},{"$f":"'Załącznik nr 2 do rozliczenia'!D60","v":0},{"$f":"'Załącznik nr 2 do rozliczenia'!E60","v":0},{"$f":"'Załącznik nr 2 do rozliczenia'!F60","v":0},{"$f":"'Załącznik nr 2 do rozliczenia'!H60","v":0}]
[{"$f":"'Rozliczenie kwartalne'!A68","v":"33"},{"$f":"'Rozliczenie kwartalne'!B68","v":""},{"$f":"'Rozliczenie kwartalne'!C68","v":0},{"$f":"'Rozliczenie kwartalne'!D68","v":0},{"$f":"'Rozliczenie kwartalne'!E68","v":0},{"$f":"'Rozliczenie kwartalne'!F68","v":0},{"$f":"'Rozliczenie kwartalne'!G68","v":0},{"$f":"'Rozliczenie kwartalne'!H68","v":0},{"$f":"'Rozliczenie kwartalne'!I68","v":0},{"$f":"'Rozliczenie kwartalne'!J68","v":0},{"$f":"'Rozliczenie kwartalne'!K68","v":0},{"$f":"'Rozliczenie kwartalne'!L68","v":0},{"$f":"'Załącznik nr 1 do rozliczenia'!D64","v":0},{"$f":"'Załącznik nr 1 do rozliczenia'!F64","v":0},{"$f":"'Załącznik nr 1 do rozliczenia'!H64","v":0},{"$f":"'Załącznik nr 2 do rozliczenia'!D61","v":0},{"$f":"'Załącznik nr 2 do rozliczenia'!E61","v":0},{"$f":"'Załącznik nr 2 do rozliczenia'!F61","v":0},{"$f":"'Załącznik nr 2 do rozliczenia'!H61","v":0}]
[{"$f":"'Rozliczenie kwartalne'!A69","v":"34"},{"$f":"'Rozliczenie kwartalne'!B69","v":""},{"$f":"'Rozliczenie kwartalne'!C69","v":0},{"$f":"'Rozliczenie kwartalne'!D69","v":0},{"$f":"'Rozliczenie kwartalne'!E69","v":0},{"$f":"'Rozliczenie kwartalne'!F69","v":0},{"$f":"'Rozliczenie kwartalne'!G69","v":0},{"$f":"'Rozliczenie kwartalne'!H69","v":0},{"$f":"'Rozliczenie kwartalne'!I69","v":0},{"$f":"'Rozliczenie kwartalne'!J69","v":0},{"$f":"'Rozliczenie kwartalne'!K69","v":0},{"$f":"'Rozliczenie kwartalne'!L69","v":0},{"$f":"'Załącznik nr 1 do rozliczenia'!D65","v":0},{"$f":"'Załącznik nr 1 do rozliczenia'!F65","v":0},{"$f":"'Załącznik nr 1 do rozliczenia'!H65","v":0},{"$f":"'Załącznik nr 2 do rozliczenia'!D62","v":0},{"$f":"'Załącznik nr 2 do rozliczenia'!E62","v":0},{"$f":"'Załącznik nr 2 do rozliczenia'!F62","v":0},{"$f":"'Załącznik nr 2 do rozliczenia'!H62","v":0}]
[{"$f":"'Rozliczenie kwartalne'!A70","v":"35"},{"$f":"'Rozliczenie kwartalne'!B70","v":""},{"$f":"'Rozliczenie kwartalne'!C70","v":0},{"$f":"'Rozliczenie kwartalne'!D70","v":0},{"$f":"'Rozliczenie kwartalne'!E70","v":0},{"$f":"'Rozliczenie kwartalne'!F70","v":0},{"$f":"'Rozliczenie kwartalne'!G70","v":0},{"$f":"'Rozliczenie kwartalne'!H70","v":0},{"$f":"'Rozliczenie kwartalne'!I70","v":0},{"$f":"'Rozliczenie kwartalne'!J70","v":0},{"$f":"'Rozliczenie kwartalne'!K70","v":0},{"$f":"'Rozliczenie kwartalne'!L70","v":0},{"$f":"'Załącznik nr 1 do rozliczenia'!D66","v":0},{"$f":"'Załącznik nr 1 do rozliczenia'!F66","v":0},{"$f":"'Załącznik nr 1 do rozliczenia'!H66","v":0},{"$f":"'Załącznik nr 2 do rozliczenia'!D63","v":0},{"$f":"'Załącznik nr 2 do rozliczenia'!E63","v":0},{"$f":"'Załącznik nr 2 do rozliczenia'!F63","v":0},{"$f":"'Załącznik nr 2 do rozliczenia'!H63","v":0}]
[{"$f":"'Rozliczenie kwartalne'!A71","v":"36"},{"$f":"'Rozliczenie kwartalne'!B71","v":""},{"$f":"'Rozliczenie kwartalne'!C71","v":0},{"$f":"'Rozliczenie kwartalne'!D71","v":0},{"$f":"'Rozliczenie kwartalne'!E71","v":0},{"$f":"'Rozliczenie kwartalne'!F71","v":0},{"$f":"'Rozliczenie kwartalne'!G71","v":0},{"$f":"'Rozliczenie kwartalne'!H71","v":0},{"$f":"'Rozliczenie kwartalne'!I71","v":0},{"$f":"'Rozliczenie kwartalne'!J71","v":0},{"$f":"'Rozliczenie kwartalne'!K71","v":0},{"$f":"'Rozliczenie kwartalne'!L71","v":0},{"$f":"'Załącznik nr 1 do rozliczenia'!D67","v":0},{"$f":"'Załącznik nr 1 do rozliczenia'!F67","v":0},{"$f":"'Załącznik nr 1 do rozliczenia'!H67","v":0},{"$f":"'Załącznik nr 2 do rozliczenia'!D64","v":0},{"$f":"'Załącznik nr 2 do rozliczenia'!E64","v":0},{"$f":"'Załącznik nr 2 do rozliczenia'!F64","v":0},{"$f":"'Załącznik nr 2 do rozliczenia'!H64","v":0}]
[{"$f":"'Rozliczenie kwartalne'!A72","v":"37"},{"$f":"'Rozliczenie kwartalne'!B72","v":""},{"$f":"'Rozliczenie kwartalne'!C72","v":0},{"$f":"'Rozliczenie kwartalne'!D72","v":0},{"$f":"'Rozliczenie kwartalne'!E72","v":0},{"$f":"'Rozliczenie kwartalne'!F72","v":0},{"$f":"'Rozliczenie kwartalne'!G72","v":0},{"$f":"'Rozliczenie kwartalne'!H72","v":0},{"$f":"'Rozliczenie kwartalne'!I72","v":0},{"$f":"'Rozliczenie kwartalne'!J72","v":0},{"$f":"'Rozliczenie kwartalne'!K72","v":0},{"$f":"'Rozliczenie kwartalne'!L72","v":0},{"$f":"'Załącznik nr 1 do rozliczenia'!D68","v":0},{"$f":"'Załącznik nr 1 do rozliczenia'!F68","v":0},{"$f":"'Załącznik nr 1 do rozliczenia'!H68","v":0},{"$f":"'Załącznik nr 2 do rozliczenia'!D65","v":0},{"$f":"'Załącznik nr 2 do rozliczenia'!E65","v":0},{"$f":"'Załącznik nr 2 do rozliczenia'!F65","v":0},{"$f":"'Załącznik nr 2 do rozliczenia'!H65","v":0}]
[{"$f":"'Rozliczenie kwartalne'!A73","v":"38"},{"$f":"'Rozliczenie kwartalne'!B73","v":""},{"$f":"'Rozliczenie kwartalne'!C73","v":0},{"$f":"'Rozliczenie kwartalne'!D73","v":0},{"$f":"'Rozliczenie kwartalne'!E73","v":0},{"$f":"'Rozliczenie kwartalne'!F73","v":0},{"$f":"'Rozliczenie kwartalne'!G73","v":0},{"$f":"'Rozliczenie kwartalne'!H73","v":0},{"$f":"'Rozliczenie kwartalne'!I73","v":0},{"$f":"'Rozliczenie kwartalne'!J73","v":0},{"$f":"'Rozliczenie kwartalne'!K73","v":0},{"$f":"'Rozliczenie kwartalne'!L73","v":0},{"$f":"'Załącznik nr 1 do rozliczenia'!D69","v":0},{"$f":"'Załącznik nr 1 do rozliczenia'!F69","v":0},{"$f":"'Załącznik nr 1 do rozliczenia'!H69","v":0},{"$f":"'Załącznik nr 2 do rozliczenia'!D66","v":0},{"$f":"'Załącznik nr 2 do rozliczenia'!E66","v":0},{"$f":"'Załącznik nr 2 do rozliczenia'!F66","v":0},{"$f":"'Załącznik nr 2 do rozliczenia'!H66","v":0}]
[{"$f":"'Rozliczenie kwartalne'!A74","v":"39"},{"$f":"'Rozliczenie kwartalne'!B74","v":""},{"$f":"'Rozliczenie kwartalne'!C74","v":0},{"$f":"'Rozliczenie kwartalne'!D74","v":0},{"$f":"'Rozliczenie kwartalne'!E74","v":0},{"$f":"'Rozliczenie kwartalne'!F74","v":0},{"$f":"'Rozliczenie kwartalne'!G74","v":0},{"$f":"'Rozliczenie kwartalne'!H74","v":0},{"$f":"'Rozliczenie kwartalne'!I74","v":0},{"$f":"'Rozliczenie kwartalne'!J74","v":0},{"$f":"'Rozliczenie kwartalne'!K74","v":0},{"$f":"'Rozliczenie kwartalne'!L74","v":0},{"$f":"'Załącznik nr 1 do rozliczenia'!D70","v":0},{"$f":"'Załącznik nr 1 do rozliczenia'!F70","v":0},{"$f":"'Załącznik nr 1 do rozliczenia'!H70","v":0},{"$f":"'Załącznik nr 2 do rozliczenia'!D67","v":0},{"$f":"'Załącznik nr 2 do rozliczenia'!E67","v":0},{"$f":"'Załącznik nr 2 do rozliczenia'!F67","v":0},{"$f":"'Załącznik nr 2 do rozliczenia'!H67","v":0}]
[{"$f":"'Rozliczenie kwartalne'!A75","v":"40"},{"$f":"'Rozliczenie kwartalne'!B75","v":""},{"$f":"'Rozliczenie kwartalne'!C75","v":0},{"$f":"'Rozliczenie kwartalne'!D75","v":0},{"$f":"'Rozliczenie kwartalne'!E75","v":0},{"$f":"'Rozliczenie kwartalne'!F75","v":0},{"$f":"'Rozliczenie kwartalne'!G75","v":0},{"$f":"'Rozliczenie kwartalne'!H75","v":0},{"$f":"'Rozliczenie kwartalne'!I75","v":0},{"$f":"'Rozliczenie kwartalne'!J75","v":0},{"$f":"'Rozliczenie kwartalne'!K75","v":0},{"$f":"'Rozliczenie kwartalne'!L75","v":0},{"$f":"'Załącznik nr 1 do rozliczenia'!D71","v":0},{"$f":"'Załącznik nr 1 do rozliczenia'!F71","v":0},{"$f":"'Załącznik nr 1 do rozliczenia'!H71","v":0},{"$f":"'Załącznik nr 2 do rozliczenia'!D68","v":0},{"$f":"'Załącznik nr 2 do rozliczenia'!E68","v":0},{"$f":"'Załącznik nr 2 do rozliczenia'!F68","v":0},{"$f":"'Załącznik nr 2 do rozliczenia'!H68","v":0}]
[{"$f":"'Rozliczenie kwartalne'!A76","v":"41"},{"$f":"'Rozliczenie kwartalne'!B76","v":""},{"$f":"'Rozliczenie kwartalne'!C76","v":0},{"$f":"'Rozliczenie kwartalne'!D76","v":0},{"$f":"'Rozliczenie kwartalne'!E76","v":0},{"$f":"'Rozliczenie kwartalne'!F76","v":0},{"$f":"'Rozliczenie kwartalne'!G76","v":0},{"$f":"'Rozliczenie kwartalne'!H76","v":0},{"$f":"'Rozliczenie kwartalne'!I76","v":0},{"$f":"'Rozliczenie kwartalne'!J76","v":0},{"$f":"'Rozliczenie kwartalne'!K76","v":0},{"$f":"'Rozliczenie kwartalne'!L76","v":0},{"$f":"'Załącznik nr 1 do rozliczenia'!D72","v":0},{"$f":"'Załącznik nr 1 do rozliczenia'!F72","v":0},{"$f":"'Załącznik nr 1 do rozliczenia'!H72","v":0},{"$f":"'Załącznik nr 2 do rozliczenia'!D69","v":0},{"$f":"'Załącznik nr 2 do rozliczenia'!E69","v":0},{"$f":"'Załącznik nr 2 do rozliczenia'!F69","v":0},{"$f":"'Załącznik nr 2 do rozliczenia'!H69","v":0}]
[{"$f":"'Rozliczenie kwartalne'!A77","v":"42"},{"$f":"'Rozliczenie kwartalne'!B77","v":""},{"$f":"'Rozliczenie kwartalne'!C77","v":0},{"$f":"'Rozliczenie kwartalne'!D77","v":0},{"$f":"'Rozliczenie kwartalne'!E77","v":0},{"$f":"'Rozliczenie kwartalne'!F77","v":0},{"$f":"'Rozliczenie kwartalne'!G77","v":0},{"$f":"'Rozliczenie kwartalne'!H77","v":0},{"$f":"'Rozliczenie kwartalne'!I77","v":0},{"$f":"'Rozliczenie kwartalne'!J77","v":0},{"$f":"'Rozliczenie kwartalne'!K77","v":0},{"$f":"'Rozliczenie kwartalne'!L77","v":0},{"$f":"'Załącznik nr 1 do rozliczenia'!D73","v":0},{"$f":"'Załącznik nr 1 do rozliczenia'!F73","v":0},{"$f":"'Załącznik nr 1 do rozliczenia'!H73","v":0},{"$f":"'Załącznik nr 2 do rozliczenia'!D70","v":0},{"$f":"'Załącznik nr 2 do rozliczenia'!E70","v":0},{"$f":"'Załącznik nr 2 do rozliczenia'!F70","v":0},{"$f":"'Załącznik nr 2 do rozliczenia'!H70","v":0}]
[{"$f":"'Rozliczenie kwartalne'!A78","v":"43"},{"$f":"'Rozliczenie kwartalne'!B78","v":""},{"$f":"'Rozliczenie kwartalne'!C78","v":0},{"$f":"'Rozliczenie kwartalne'!D78","v":0},{"$f":"'Rozliczenie kwartalne'!E78","v":0},{"$f":"'Rozliczenie kwartalne'!F78","v":0},{"$f":"'Rozliczenie kwartalne'!G78","v":0},{"$f":"'Rozliczenie kwartalne'!H78","v":0},{"$f":"'Rozliczenie kwartalne'!I78","v":0},{"$f":"'Rozliczenie kwartalne'!J78","v":0},{"$f":"'Rozliczenie kwartalne'!K78","v":0},{"$f":"'Rozliczenie kwartalne'!L78","v":0},{"$f":"'Załącznik nr 1 do rozliczenia'!D74","v":0},{"$f":"'Załącznik nr 1 do rozliczenia'!F74","v":0},{"$f":"'Załącznik nr 1 do rozliczenia'!H74","v":0},{"$f":"'Załącznik nr 2 do rozliczenia'!D71","v":0},{"$f":"'Załącznik nr 2 do rozliczenia'!E71","v":0},{"$f":"'Załącznik nr 2 do rozliczenia'!F71","v":0},{"$f":"'Załącznik nr 2 do rozliczenia'!H71","v":0}]
[{"$f":"'Rozliczenie kwartalne'!A79","v":"44"},{"$f":"'Rozliczenie kwartalne'!B79","v":""},{"$f":"'Rozliczenie kwartalne'!C79","v":0},{"$f":"'Rozliczenie kwartalne'!D79","v":0},{"$f":"'Rozliczenie kwartalne'!E79","v":0},{"$f":"'Rozliczenie kwartalne'!F79","v":0},{"$f":"'Rozliczenie kwartalne'!G79","v":0},{"$f":"'Rozliczenie kwartalne'!H79","v":0},{"$f":"'Rozliczenie kwartalne'!I79","v":0},{"$f":"'Rozliczenie kwartalne'!J79","v":0},{"$f":"'Rozliczenie kwartalne'!K79","v":0},{"$f":"'Rozliczenie kwartalne'!L79","v":0},{"$f":"'Załącznik nr 1 do rozliczenia'!D75","v":0},{"$f":"'Załącznik nr 1 do rozliczenia'!F75","v":0},{"$f":"'Załącznik nr 1 do rozliczenia'!H75","v":0},{"$f":"'Załącznik nr 2 do rozliczenia'!D72","v":0},{"$f":"'Załącznik nr 2 do rozliczenia'!E72","v":0},{"$f":"'Załącznik nr 2 do rozliczenia'!F72","v":0},{"$f":"'Załącznik nr 2 do rozliczenia'!H72","v":0}]
[{"$f":"'Rozliczenie kwartalne'!A80","v":"45"},{"$f":"'Rozliczenie kwartalne'!B80","v":""},{"$f":"'Rozliczenie kwartalne'!C80","v":0},{"$f":"'Rozliczenie kwartalne'!D80","v":0},{"$f":"'Rozliczenie kwartalne'!E80","v":0},{"$f":"'Rozliczenie kwartalne'!F80","v":0},{"$f":"'Rozliczenie kwartalne'!G80","v":0},{"$f":"'Rozliczenie kwartalne'!H80","v":0},{"$f":"'Rozliczenie kwartalne'!I80","v":0},{"$f":"'Rozliczenie kwartalne'!J80","v":0},{"$f":"'Rozliczenie kwartalne'!K80","v":0},{"$f":"'Rozliczenie kwartalne'!L80","v":0},{"$f":"'Załącznik nr 1 do rozliczenia'!D76","v":0},{"$f":"'Załącznik nr 1 do rozliczenia'!F76","v":0},{"$f":"'Załącznik nr 1 do rozliczenia'!H76","v":0},{"$f":"'Załącznik nr 2 do rozliczenia'!D73","v":0},{"$f":"'Załącznik nr 2 do rozliczenia'!E73","v":0},{"$f":"'Załącznik nr 2 do rozliczenia'!F73","v":0},{"$f":"'Załącznik nr 2 do rozliczenia'!H73","v":0}]
[{"$f":"'Rozliczenie kwartalne'!A81","v":"46"},{"$f":"'Rozliczenie kwartalne'!B81","v":""},{"$f":"'Rozliczenie kwartalne'!C81","v":0},{"$f":"'Rozliczenie kwartalne'!D81","v":0},{"$f":"'Rozliczenie kwartalne'!E81","v":0},{"$f":"'Rozliczenie kwartalne'!F81","v":0},{"$f":"'Rozliczenie kwartalne'!G81","v":0},{"$f":"'Rozliczenie kwartalne'!H81","v":0},{"$f":"'Rozliczenie kwartalne'!I81","v":0},{"$f":"'Rozliczenie kwartalne'!J81","v":0},{"$f":"'Rozliczenie kwartalne'!K81","v":0},{"$f":"'Rozliczenie kwartalne'!L81","v":0},{"$f":"'Załącznik nr 1 do rozliczenia'!D77","v":0},{"$f":"'Załącznik nr 1 do rozliczenia'!F77","v":0},{"$f":"'Załącznik nr 1 do rozliczenia'!H77","v":0},{"$f":"'Załącznik nr 2 do rozliczenia'!D74","v":0},{"$f":"'Załącznik nr 2 do rozliczenia'!E74","v":0},{"$f":"'Załącznik nr 2 do rozliczenia'!F74","v":0},{"$f":"'Załącznik nr 2 do rozliczenia'!H74","v":0}]
[{"$f":"'Rozliczenie kwartalne'!A82","v":"47"},{"$f":"'Rozliczenie kwartalne'!B82","v":""},{"$f":"'Rozliczenie kwartalne'!C82","v":0},{"$f":"'Rozliczenie kwartalne'!D82","v":0},{"$f":"'Rozliczenie kwartalne'!E82","v":0},{"$f":"'Rozliczenie kwartalne'!F82","v":0},{"$f":"'Rozliczenie kwartalne'!G82","v":0},{"$f":"'Rozliczenie kwartalne'!H82","v":0},{"$f":"'Rozliczenie kwartalne'!I82","v":0},{"$f":"'Rozliczenie kwartalne'!J82","v":0},{"$f":"'Rozliczenie kwartalne'!K82","v":0},{"$f":"'Rozliczenie kwartalne'!L82","v":0},{"$f":"'Załącznik nr 1 do rozliczenia'!D78","v":0},{"$f":"'Załącznik nr 1 do rozliczenia'!F78","v":0},{"$f":"'Załącznik nr 1 do rozliczenia'!H78","v":0},{"$f":"'Załącznik nr 2 do rozliczenia'!D75","v":0},{"$f":"'Załącznik nr 2 do rozliczenia'!E75","v":0},{"$f":"'Załącznik nr 2 do rozliczenia'!F75","v":0},{"$f":"'Załącznik nr 2 do rozliczenia'!H75","v":0}]
[{"$f":"'Rozliczenie kwartalne'!A83","v":"48"},{"$f":"'Rozliczenie kwartalne'!B83","v":""},{"$f":"'Rozliczenie kwartalne'!C83","v":0},{"$f":"'Rozliczenie kwartalne'!D83","v":0},{"$f":"'Rozliczenie kwartalne'!E83","v":0},{"$f":"'Rozliczenie kwartalne'!F83","v":0},{"$f":"'Rozliczenie kwartalne'!G83","v":0},{"$f":"'Rozliczenie kwartalne'!H83","v":0},{"$f":"'Rozliczenie kwartalne'!I83","v":0},{"$f":"'Rozliczenie kwartalne'!J83","v":0},{"$f":"'Rozliczenie kwartalne'!K83","v":0},{"$f":"'Rozliczenie kwartalne'!L83","v":0},{"$f":"'Załącznik nr 1 do rozliczenia'!D79","v":0},{"$f":"'Załącznik nr 1 do rozliczenia'!F79","v":0},{"$f":"'Załącznik nr 1 do rozliczenia'!H79","v":0},{"$f":"'Załącznik nr 2 do rozliczenia'!D76","v":0},{"$f":"'Załącznik nr 2 do rozliczenia'!E76","v":0},{"$f":"'Załącznik nr 2 do rozliczenia'!F76","v":0},{"$f":"'Załącznik nr 2 do rozliczenia'!H76","v":0}]
[{"$f":"'Rozliczenie kwartalne'!A84","v":"49"},{"$f":"'Rozliczenie kwartalne'!B84","v":""},{"$f":"'Rozliczenie kwartalne'!C84","v":0},{"$f":"'Rozliczenie kwartalne'!D84","v":0},{"$f":"'Rozliczenie kwartalne'!E84","v":0},{"$f":"'Rozliczenie kwartalne'!F84","v":0},{"$f":"'Rozliczenie kwartalne'!G84","v":0},{"$f":"'Rozliczenie kwartalne'!H84","v":0},{"$f":"'Rozliczenie kwartalne'!I84","v":0},{"$f":"'Rozliczenie kwartalne'!J84","v":0},{"$f":"'Rozliczenie kwartalne'!K84","v":0},{"$f":"'Rozliczenie kwartalne'!L84","v":0},{"$f":"'Załącznik nr 1 do rozliczenia'!D80","v":0},{"$f":"'Załącznik nr 1 do rozliczenia'!F80","v":0},{"$f":"'Załącznik nr 1 do rozliczenia'!H80","v":0},{"$f":"'Załącznik nr 2 do rozliczenia'!D77","v":0},{"$f":"'Załącznik nr 2 do rozliczenia'!E77","v":0},{"$f":"'Załącznik nr 2 do rozliczenia'!F77","v":0},{"$f":"'Załącznik nr 2 do rozliczenia'!H77","v":0}]
[{"$f":"'Rozliczenie kwartalne'!A85","v":"50"},{"$f":"'Rozliczenie kwartalne'!B85","v":""},{"$f":"'Rozliczenie kwartalne'!C85","v":0},{"$f":"'Rozliczenie kwartalne'!D85","v":0},{"$f":"'Rozliczenie kwartalne'!E85","v":0},{"$f":"'Rozliczenie kwartalne'!F85","v":0},{"$f":"'Rozliczenie kwartalne'!G85","v":0},{"$f":"'Rozliczenie kwartalne'!H85","v":0},{"$f":"'Rozliczenie kwartalne'!I85","v":0},{"$f":"'Rozliczenie kwartalne'!J85","v":0},{"$f":"'Rozliczenie kwartalne'!K85","v":0},{"$f":"'Rozliczenie kwartalne'!L85","v":0},{"$f":"'Załącznik nr 1 do rozliczenia'!D81","v":0},{"$f":"'Załącznik nr 1 do rozliczenia'!F81","v":0},{"$f":"'Załącznik nr 1 do rozliczenia'!H81","v":0},{"$f":"'Załącznik nr 2 do rozliczenia'!D78","v":0},{"$f":"'Załącznik nr 2 do rozliczenia'!E78","v":0},{"$f":"'Załącznik nr 2 do rozliczenia'!F78","v":0},{"$f":"'Załącznik nr 2 do rozliczenia'!H78","v":0}]
[{"$f":"'Rozliczenie kwartalne'!A86","v":"51"},{"$f":"'Rozliczenie kwartalne'!B86","v":""},{"$f":"'Rozliczenie kwartalne'!C86","v":0},{"$f":"'Rozliczenie kwartalne'!D86","v":0},{"$f":"'Rozliczenie kwartalne'!E86","v":0},{"$f":"'Rozliczenie kwartalne'!F86","v":0},{"$f":"'Rozliczenie kwartalne'!G86","v":0},{"$f":"'Rozliczenie kwartalne'!H86","v":0},{"$f":"'Rozliczenie kwartalne'!I86","v":0},{"$f":"'Rozliczenie kwartalne'!J86","v":0},{"$f":"'Rozliczenie kwartalne'!K86","v":0},{"$f":"'Rozliczenie kwartalne'!L86","v":0},{"$f":"'Załącznik nr 1 do rozliczenia'!D82","v":0},{"$f":"'Załącznik nr 1 do rozliczenia'!F82","v":0},{"$f":"'Załącznik nr 1 do rozliczenia'!H82","v":0},{"$f":"'Załącznik nr 2 do rozliczenia'!D79","v":0},{"$f":"'Załącznik nr 2 do rozliczenia'!E79","v":0},{"$f":"'Załącznik nr 2 do rozliczenia'!F79","v":0},{"$f":"'Załącznik nr 2 do rozliczenia'!H79","v":0}]
[{"$f":"'Rozliczenie kwartalne'!A87","v":"52"},{"$f":"'Rozliczenie kwartalne'!B87","v":""},{"$f":"'Rozliczenie kwartalne'!C87","v":0},{"$f":"'Rozliczenie kwartalne'!D87","v":0},{"$f":"'Rozliczenie kwartalne'!E87","v":0},{"$f":"'Rozliczenie kwartalne'!F87","v":0},{"$f":"'Rozliczenie kwartalne'!G87","v":0},{"$f":"'Rozliczenie kwartalne'!H87","v":0},{"$f":"'Rozliczenie kwartalne'!I87","v":0},{"$f":"'Rozliczenie kwartalne'!J87","v":0},{"$f":"'Rozliczenie kwartalne'!K87","v":0},{"$f":"'Rozliczenie kwartalne'!L87","v":0},{"$f":"'Załącznik nr 1 do rozliczenia'!D83","v":0},{"$f":"'Załącznik nr 1 do rozliczenia'!F83","v":0},{"$f":"'Załącznik nr 1 do rozliczenia'!H83","v":0},{"$f":"'Załącznik nr 2 do rozliczenia'!D80","v":0},{"$f":"'Załącznik nr 2 do rozliczenia'!E80","v":0},{"$f":"'Załącznik nr 2 do rozliczenia'!F80","v":0},{"$f":"'Załącznik nr 2 do rozliczenia'!H80","v":0}]
[{"$f":"'Rozliczenie kwartalne'!A88","v":"53"},{"$f":"'Rozliczenie kwartalne'!B88","v":""},{"$f":"'Rozliczenie kwartalne'!C88","v":0},{"$f":"'Rozliczenie kwartalne'!D88","v":0},{"$f":"'Rozliczenie kwartalne'!E88","v":0},{"$f":"'Rozliczenie kwartalne'!F88","v":0},{"$f":"'Rozliczenie kwartalne'!G88","v":0},{"$f":"'Rozliczenie kwartalne'!H88","v":0},{"$f":"'Rozliczenie kwartalne'!I88","v":0},{"$f":"'Rozliczenie kwartalne'!J88","v":0},{"$f":"'Rozliczenie kwartalne'!K88","v":0},{"$f":"'Rozliczenie kwartalne'!L88","v":0},{"$f":"'Załącznik nr 1 do rozliczenia'!D84","v":0},{"$f":"'Załącznik nr 1 do rozliczenia'!F84","v":0},{"$f":"'Załącznik nr 1 do rozliczenia'!H84","v":0},{"$f":"'Załącznik nr 2 do rozliczenia'!D81","v":0},{"$f":"'Załącznik nr 2 do rozliczenia'!E81","v":0},{"$f":"'Załącznik nr 2 do rozliczenia'!F81","v":0},{"$f":"'Załącznik nr 2 do rozliczenia'!H81","v":0}]
[{"$f":"'Rozliczenie kwartalne'!A89","v":"54"},{"$f":"'Rozliczenie kwartalne'!B89","v":""},{"$f":"'Rozliczenie kwartalne'!C89","v":0},{"$f":"'Rozliczenie kwartalne'!D89","v":0},{"$f":"'Rozliczenie kwartalne'!E89","v":0},{"$f":"'Rozliczenie kwartalne'!F89","v":0},{"$f":"'Rozliczenie kwartalne'!G89","v":0},{"$f":"'Rozliczenie kwartalne'!H89","v":0},{"$f":"'Rozliczenie kwartalne'!I89","v":0},{"$f":"'Rozliczenie kwartalne'!J89","v":0},{"$f":"'Rozliczenie kwartalne'!K89","v":0},{"$f":"'Rozliczenie kwartalne'!L89","v":0},{"$f":"'Załącznik nr 1 do rozliczenia'!D85","v":0},{"$f":"'Załącznik nr 1 do rozliczenia'!F85","v":0},{"$f":"'Załącznik nr 1 do rozliczenia'!H85","v":0},{"$f":"'Załącznik nr 2 do rozliczenia'!D82","v":0},{"$f":"'Załącznik nr 2 do rozliczenia'!E82","v":0},{"$f":"'Załącznik nr 2 do rozliczenia'!F82","v":0},{"$f":"'Załącznik nr 2 do rozliczenia'!H82","v":0}]
[{"$f":"'Rozliczenie kwartalne'!A90","v":"55"},{"$f":"'Rozliczenie kwartalne'!B90","v":""},{"$f":"'Rozliczenie kwartalne'!C90","v":0},{"$f":"'Rozliczenie kwartalne'!D90","v":0},{"$f":"'Rozliczenie kwartalne'!E90","v":0},{"$f":"'Rozliczenie kwartalne'!F90","v":0},{"$f":"'Rozliczenie kwartalne'!G90","v":0},{"$f":"'Rozliczenie kwartalne'!H90","v":0},{"$f":"'Rozliczenie kwartalne'!I90","v":0},{"$f":"'Rozliczenie kwartalne'!J90","v":0},{"$f":"'Rozliczenie kwartalne'!K90","v":0},{"$f":"'Rozliczenie kwartalne'!L90","v":0},{"$f":"'Załącznik nr 1 do rozliczenia'!D86","v":0},{"$f":"'Załącznik nr 1 do rozliczenia'!F86","v":0},{"$f":"'Załącznik nr 1 do rozliczenia'!H86","v":0},{"$f":"'Załącznik nr 2 do rozliczenia'!D83","v":0},{"$f":"'Załącznik nr 2 do rozliczenia'!E83","v":0},{"$f":"'Załącznik nr 2 do rozliczenia'!F83","v":0},{"$f":"'Załącznik nr 2 do rozliczenia'!H83","v":0}]
[{"$f":"'Rozliczenie kwartalne'!A91","v":"56"},{"$f":"'Rozliczenie kwartalne'!B91","v":""},{"$f":"'Rozliczenie kwartalne'!C91","v":0},{"$f":"'Rozliczenie kwartalne'!D91","v":0},{"$f":"'Rozliczenie kwartalne'!E91","v":0},{"$f":"'Rozliczenie kwartalne'!F91","v":0},{"$f":"'Rozliczenie kwartalne'!G91","v":0},{"$f":"'Rozliczenie kwartalne'!H91","v":0},{"$f":"'Rozliczenie kwartalne'!I91","v":0},{"$f":"'Rozliczenie kwartalne'!J91","v":0},{"$f":"'Rozliczenie kwartalne'!K91","v":0},{"$f":"'Rozliczenie kwartalne'!L91","v":0},{"$f":"'Załącznik nr 1 do rozliczenia'!D87","v":0},{"$f":"'Załącznik nr 1 do rozliczenia'!F87","v":0},{"$f":"'Załącznik nr 1 do rozliczenia'!H87","v":0},{"$f":"'Załącznik nr 2 do rozliczenia'!D84","v":0},{"$f":"'Załącznik nr 2 do rozliczenia'!E84","v":0},{"$f":"'Załącznik nr 2 do rozliczenia'!F84","v":0},{"$f":"'Załącznik nr 2 do rozliczenia'!H84","v":0}]
[{"$f":"'Rozliczenie kwartalne'!A92","v":"57"},{"$f":"'Rozliczenie kwartalne'!B92","v":""},{"$f":"'Rozliczenie kwartalne'!C92","v":0},{"$f":"'Rozliczenie kwartalne'!D92","v":0},{"$f":"'Rozliczenie kwartalne'!E92","v":0},{"$f":"'Rozliczenie kwartalne'!F92","v":0},{"$f":"'Rozliczenie kwartalne'!G92","v":0},{"$f":"'Rozliczenie kwartalne'!H92","v":0},{"$f":"'Rozliczenie kwartalne'!I92","v":0},{"$f":"'Rozliczenie kwartalne'!J92","v":0},{"$f":"'Rozliczenie kwartalne'!K92","v":0},{"$f":"'Rozliczenie kwartalne'!L92","v":0},{"$f":"'Załącznik nr 1 do rozliczenia'!D88","v":0},{"$f":"'Załącznik nr 1 do rozliczenia'!F88","v":0},{"$f":"'Załącznik nr 1 do rozliczenia'!H88","v":0},{"$f":"'Załącznik nr 2 do rozliczenia'!D85","v":0},{"$f":"'Załącznik nr 2 do rozliczenia'!E85","v":0},{"$f":"'Załącznik nr 2 do rozliczenia'!F85","v":0},{"$f":"'Załącznik nr 2 do rozliczenia'!H85","v":0}]
[{"$f":"'Rozliczenie kwartalne'!A93","v":"58"},{"$f":"'Rozliczenie kwartalne'!B93","v":""},{"$f":"'Rozliczenie kwartalne'!C93","v":0},{"$f":"'Rozliczenie kwartalne'!D93","v":0},{"$f":"'Rozliczenie kwartalne'!E93","v":0},{"$f":"'Rozliczenie kwartalne'!F93","v":0},{"$f":"'Rozliczenie kwartalne'!G93","v":0},{"$f":"'Rozliczenie kwartalne'!H93","v":0},{"$f":"'Rozliczenie kwartalne'!I93","v":0},{"$f":"'Rozliczenie kwartalne'!J93","v":0},{"$f":"'Rozliczenie kwartalne'!K93","v":0},{"$f":"'Rozliczenie kwartalne'!L93","v":0},{"$f":"'Załącznik nr 1 do rozliczenia'!D89","v":0},{"$f":"'Załącznik nr 1 do rozliczenia'!F89","v":0},{"$f":"'Załącznik nr 1 do rozliczenia'!H89","v":0},{"$f":"'Załącznik nr 2 do rozliczenia'!D86","v":0},{"$f":"'Załącznik nr 2 do rozliczenia'!E86","v":0},{"$f":"'Załącznik nr 2 do rozliczenia'!F86","v":0},{"$f":"'Załącznik nr 2 do rozliczenia'!H86","v":0}]
[{"$f":"'Rozliczenie kwartalne'!A94","v":"59"},{"$f":"'Rozliczenie kwartalne'!B94","v":""},{"$f":"'Rozliczenie kwartalne'!C94","v":0},{"$f":"'Rozliczenie kwartalne'!D94","v":0},{"$f":"'Rozliczenie kwartalne'!E94","v":0},{"$f":"'Rozliczenie kwartalne'!F94","v":0},{"$f":"'Rozliczenie kwartalne'!G94","v":0},{"$f":"'Rozliczenie kwartalne'!H94","v":0},{"$f":"'Rozliczenie kwartalne'!I94","v":0},{"$f":"'Rozliczenie kwartalne'!J94","v":0},{"$f":"'Rozliczenie kwartalne'!K94","v":0},{"$f":"'Rozliczenie kwartalne'!L94","v":0},{"$f":"'Załącznik nr 1 do rozliczenia'!D90","v":0},{"$f":"'Załącznik nr 1 do rozliczenia'!F90","v":0},{"$f":"'Załącznik nr 1 do rozliczenia'!H90","v":0},{"$f":"'Załącznik nr 2 do rozliczenia'!D87","v":0},{"$f":"'Załącznik nr 2 do rozliczenia'!E87","v":0},{"$f":"'Załącznik nr 2 do rozliczenia'!F87","v":0},{"$f":"'Załącznik nr 2 do rozliczenia'!H87","v":0}]
[{"$f":"'Rozliczenie kwartalne'!A95","v":"60"},{"$f":"'Rozliczenie kwartalne'!B95","v":""},{"$f":"'Rozliczenie kwartalne'!C95","v":0},{"$f":"'Rozliczenie kwartalne'!D95","v":0},{"$f":"'Rozliczenie kwartalne'!E95","v":0},{"$f":"'Rozliczenie kwartalne'!F95","v":0},{"$f":"'Rozliczenie kwartalne'!G95","v":0},{"$f":"'Rozliczenie kwartalne'!H95","v":0},{"$f":"'Rozliczenie kwartalne'!I95","v":0},{"$f":"'Rozliczenie kwartalne'!J95","v":0},{"$f":"'Rozliczenie kwartalne'!K95","v":0},{"$f":"'Rozliczenie kwartalne'!L95","v":0},{"$f":"'Załącznik nr 1 do rozliczenia'!D91","v":0},{"$f":"'Załącznik nr 1 do rozliczenia'!F91","v":0},{"$f":"'Załącznik nr 1 do rozliczenia'!H91","v":0},{"$f":"'Załącznik nr 2 do rozliczenia'!D88","v":0},{"$f":"'Załącznik nr 2 do rozliczenia'!E88","v":0},{"$f":"'Załącznik nr 2 do rozliczenia'!F88","v":0},{"$f":"'Załącznik nr 2 do rozliczenia'!H88","v":0}]
[{"$f":"'Rozliczenie kwartalne'!A96","v":"61"},{"$f":"'Rozliczenie kwartalne'!B96","v":""},{"$f":"'Rozliczenie kwartalne'!C96","v":0},{"$f":"'Rozliczenie kwartalne'!D96","v":0},{"$f":"'Rozliczenie kwartalne'!E96","v":0},{"$f":"'Rozliczenie kwartalne'!F96","v":0},{"$f":"'Rozliczenie kwartalne'!G96","v":0},{"$f":"'Rozliczenie kwartalne'!H96","v":0},{"$f":"'Rozliczenie kwartalne'!I96","v":0},{"$f":"'Rozliczenie kwartalne'!J96","v":0},{"$f":"'Rozliczenie kwartalne'!K96","v":0},{"$f":"'Rozliczenie kwartalne'!L96","v":0},{"$f":"'Załącznik nr 1 do rozliczenia'!D92","v":0},{"$f":"'Załącznik nr 1 do rozliczenia'!F92","v":0},{"$f":"'Załącznik nr 1 do rozliczenia'!H92","v":0},{"$f":"'Załącznik nr 2 do rozliczenia'!D89","v":0},{"$f":"'Załącznik nr 2 do rozliczenia'!E89","v":0},{"$f":"'Załącznik nr 2 do rozliczenia'!F89","v":0},{"$f":"'Załącznik nr 2 do rozliczenia'!H89","v":0}]
[{"$f":"'Rozliczenie kwartalne'!A97","v":"62"},{"$f":"'Rozliczenie kwartalne'!B97","v":""},{"$f":"'Rozliczenie kwartalne'!C97","v":0},{"$f":"'Rozliczenie kwartalne'!D97","v":0},{"$f":"'Rozliczenie kwartalne'!E97","v":0},{"$f":"'Rozliczenie kwartalne'!F97","v":0},{"$f":"'Rozliczenie kwartalne'!G97","v":0},{"$f":"'Rozliczenie kwartalne'!H97","v":0},{"$f":"'Rozliczenie kwartalne'!I97","v":0},{"$f":"'Rozliczenie kwartalne'!J97","v":0},{"$f":"'Rozliczenie kwartalne'!K97","v":0},{"$f":"'Rozliczenie kwartalne'!L97","v":0},{"$f":"'Załącznik nr 1 do rozliczenia'!D93","v":0},{"$f":"'Załącznik nr 1 do rozliczenia'!F93","v":0},{"$f":"'Załącznik nr 1 do rozliczenia'!H93","v":0},{"$f":"'Załącznik nr 2 do rozliczenia'!D90","v":0},{"$f":"'Załącznik nr 2 do rozliczenia'!E90","v":0},{"$f":"'Załącznik nr 2 do rozliczenia'!F90","v":0},{"$f":"'Załącznik nr 2 do rozliczenia'!H90","v":0}]
[{"$f":"'Rozliczenie kwartalne'!A98","v":"63"},{"$f":"'Rozliczenie kwartalne'!B98","v":""},{"$f":"'Rozliczenie kwartalne'!C98","v":0},{"$f":"'Rozliczenie kwartalne'!D98","v":0},{"$f":"'Rozliczenie kwartalne'!E98","v":0},{"$f":"'Rozliczenie kwartalne'!F98","v":0},{"$f":"'Rozliczenie kwartalne'!G98","v":0},{"$f":"'Rozliczenie kwartalne'!H98","v":0},{"$f":"'Rozliczenie kwartalne'!I98","v":0},{"$f":"'Rozliczenie kwartalne'!J98","v":0},{"$f":"'Rozliczenie kwartalne'!K98","v":0},{"$f":"'Rozliczenie kwartalne'!L98","v":0},{"$f":"'Załącznik nr 1 do rozliczenia'!D94","v":0},{"$f":"'Załącznik nr 1 do rozliczenia'!F94","v":0},{"$f":"'Załącznik nr 1 do rozliczenia'!H94","v":0},{"$f":"'Załącznik nr 2 do rozliczenia'!D91","v":0},{"$f":"'Załącznik nr 2 do rozliczenia'!E91","v":0},{"$f":"'Załącznik nr 2 do rozliczenia'!F91","v":0},{"$f":"'Załącznik nr 2 do rozliczenia'!H91","v":0}]
[{"$f":"'Rozliczenie kwartalne'!A99","v":"64"},{"$f":"'Rozliczenie kwartalne'!B99","v":""},{"$f":"'Rozliczenie kwartalne'!C99","v":0},{"$f":"'Rozliczenie kwartalne'!D99","v":0},{"$f":"'Rozliczenie kwartalne'!E99","v":0},{"$f":"'Rozliczenie kwartalne'!F99","v":0},{"$f":"'Rozliczenie kwartalne'!G99","v":0},{"$f":"'Rozliczenie kwartalne'!H99","v":0},{"$f":"'Rozliczenie kwartalne'!I99","v":0},{"$f":"'Rozliczenie kwartalne'!J99","v":0},{"$f":"'Rozliczenie kwartalne'!K99","v":0},{"$f":"'Rozliczenie kwartalne'!L99","v":0},{"$f":"'Załącznik nr 1 do rozliczenia'!D95","v":0},{"$f":"'Załącznik nr 1 do rozliczenia'!F95","v":0},{"$f":"'Załącznik nr 1 do rozliczenia'!H95","v":0},{"$f":"'Załącznik nr 2 do rozliczenia'!D92","v":0},{"$f":"'Załącznik nr 2 do rozliczenia'!E92","v":0},{"$f":"'Załącznik nr 2 do rozliczenia'!F92","v":0},{"$f":"'Załącznik nr 2 do rozliczenia'!H92","v":0}]
[{"$f":"'Rozliczenie kwartalne'!A100","v":"65"},{"$f":"'Rozliczenie kwartalne'!B100","v":""},{"$f":"'Rozliczenie kwartalne'!C100","v":0},{"$f":"'Rozliczenie kwartalne'!D100","v":0},{"$f":"'Rozliczenie kwartalne'!E100","v":0},{"$f":"'Rozliczenie kwartalne'!F100","v":0},{"$f":"'Rozliczenie kwartalne'!G100","v":0},{"$f":"'Rozliczenie kwartalne'!H100","v":0},{"$f":"'Rozliczenie kwartalne'!I100","v":0},{"$f":"'Rozliczenie kwartalne'!J100","v":0},{"$f":"'Rozliczenie kwartalne'!K100","v":0},{"$f":"'Rozliczenie kwartalne'!L100","v":0},{"$f":"'Załącznik nr 1 do rozliczenia'!D96","v":0},{"$f":"'Załącznik nr 1 do rozliczenia'!F96","v":0},{"$f":"'Załącznik nr 1 do rozliczenia'!H96","v":0},{"$f":"'Załącznik nr 2 do rozliczenia'!D93","v":0},{"$f":"'Załącznik nr 2 do rozliczenia'!E93","v":0},{"$f":"'Załącznik nr 2 do rozliczenia'!F93","v":0},{"$f":"'Załącznik nr 2 do rozliczenia'!H93","v":0}]
[{"$f":"'Rozliczenie kwartalne'!A101","v":"66"},{"$f":"'Rozliczenie kwartalne'!B101","v":""},{"$f":"'Rozliczenie kwartalne'!C101","v":0},{"$f":"'Rozliczenie kwartalne'!D101","v":0},{"$f":"'Rozliczenie kwartalne'!E101","v":0},{"$f":"'Rozliczenie kwartalne'!F101","v":0},{"$f":"'Rozliczenie kwartalne'!G101","v":0},{"$f":"'Rozliczenie kwartalne'!H101","v":0},{"$f":"'Rozliczenie kwartalne'!I101","v":0},{"$f":"'Rozliczenie kwartalne'!J101","v":0},{"$f":"'Rozliczenie kwartalne'!K101","v":0},{"$f":"'Rozliczenie kwartalne'!L101","v":0},{"$f":"'Załącznik nr 1 do rozliczenia'!D97","v":0},{"$f":"'Załącznik nr 1 do rozliczenia'!F97","v":0},{"$f":"'Załącznik nr 1 do rozliczenia'!H97","v":0},{"$f":"'Załącznik nr 2 do rozliczenia'!D94","v":0},{"$f":"'Załącznik nr 2 do rozliczenia'!E94","v":0},{"$f":"'Załącznik nr 2 do rozliczenia'!F94","v":0},{"$f":"'Załącznik nr 2 do rozliczenia'!H94","v":0}]
[{"$f":"'Rozliczenie kwartalne'!A102","v":"67"},{"$f":"'Rozliczenie kwartalne'!B102","v":""},{"$f":"'Rozliczenie kwartalne'!C102","v":0},{"$f":"'Rozliczenie kwartalne'!D102","v":0},{"$f":"'Rozliczenie kwartalne'!E102","v":0},{"$f":"'Rozliczenie kwartalne'!F102","v":0},{"$f":"'Rozliczenie kwartalne'!G102","v":0},{"$f":"'Rozliczenie kwartalne'!H102","v":0},{"$f":"'Rozliczenie kwartalne'!I102","v":0},{"$f":"'Rozliczenie kwartalne'!J102","v":0},{"$f":"'Rozliczenie kwartalne'!K102","v":0},{"$f":"'Rozliczenie kwartalne'!L102","v":0},{"$f":"'Załącznik nr 1 do rozliczenia'!D98","v":0},{"$f":"'Załącznik nr 1 do rozliczenia'!F98","v":0},{"$f":"'Załącznik nr 1 do rozliczenia'!H98","v":0},{"$f":"'Załącznik nr 2 do rozliczenia'!D95","v":0},{"$f":"'Załącznik nr 2 do rozliczenia'!E95","v":0},{"$f":"'Załącznik nr 2 do rozliczenia'!F95","v":0},{"$f":"'Załącznik nr 2 do rozliczenia'!H95","v":0}]
[{"$f":"'Rozliczenie kwartalne'!A103","v":"68"},{"$f":"'Rozliczenie kwartalne'!B103","v":""},{"$f":"'Rozliczenie kwartalne'!C103","v":0},{"$f":"'Rozliczenie kwartalne'!D103","v":0},{"$f":"'Rozliczenie kwartalne'!E103","v":0},{"$f":"'Rozliczenie kwartalne'!F103","v":0},{"$f":"'Rozliczenie kwartalne'!G103","v":0},{"$f":"'Rozliczenie kwartalne'!H103","v":0},{"$f":"'Rozliczenie kwartalne'!I103","v":0},{"$f":"'Rozliczenie kwartalne'!J103","v":0},{"$f":"'Rozliczenie kwartalne'!K103","v":0},{"$f":"'Rozliczenie kwartalne'!L103","v":0},{"$f":"'Załącznik nr 1 do rozliczenia'!D99","v":0},{"$f":"'Załącznik nr 1 do rozliczenia'!F99","v":0},{"$f":"'Załącznik nr 1 do rozliczenia'!H99","v":0},{"$f":"'Załącznik nr 2 do rozliczenia'!D96","v":0},{"$f":"'Załącznik nr 2 do rozliczenia'!E96","v":0},{"$f":"'Załącznik nr 2 do rozliczenia'!F96","v":0},{"$f":"'Załącznik nr 2 do rozliczenia'!H96","v":0}]
[{"$f":"'Rozliczenie kwartalne'!A104","v":"69"},{"$f":"'Rozliczenie kwartalne'!B104","v":""},{"$f":"'Rozliczenie kwartalne'!C104","v":0},{"$f":"'Rozliczenie kwartalne'!D104","v":0},{"$f":"'Rozliczenie kwartalne'!E104","v":0},{"$f":"'Rozliczenie kwartalne'!F104","v":0},{"$f":"'Rozliczenie kwartalne'!G104","v":0},{"$f":"'Rozliczenie kwartalne'!H104","v":0},{"$f":"'Rozliczenie kwartalne'!I104","v":0},{"$f":"'Rozliczenie kwartalne'!J104","v":0},{"$f":"'Rozliczenie kwartalne'!K104","v":0},{"$f":"'Rozliczenie kwartalne'!L104","v":0},{"$f":"'Załącznik nr 1 do rozliczenia'!D100","v":0},{"$f":"'Załącznik nr 1 do rozliczenia'!F100","v":0},{"$f":"'Załącznik nr 1 do rozliczenia'!H100","v":0},{"$f":"'Załącznik nr 2 do rozliczenia'!D97","v":0},{"$f":"'Załącznik nr 2 do rozliczenia'!E97","v":0},{"$f":"'Załącznik nr 2 do rozliczenia'!F97","v":0},{"$f":"'Załącznik nr 2 do rozliczenia'!H97","v":0}]
[{"$f":"'Rozliczenie kwartalne'!A105","v":"70"},{"$f":"'Rozliczenie kwartalne'!B105","v":""},{"$f":"'Rozliczenie kwartalne'!C105","v":0},{"$f":"'Rozliczenie kwartalne'!D105","v":0},{"$f":"'Rozliczenie kwartalne'!E105","v":0},{"$f":"'Rozliczenie kwartalne'!F105","v":0},{"$f":"'Rozliczenie kwartalne'!G105","v":0},{"$f":"'Rozliczenie kwartalne'!H105","v":0},{"$f":"'Rozliczenie kwartalne'!I105","v":0},{"$f":"'Rozliczenie kwartalne'!J105","v":0},{"$f":"'Rozliczenie kwartalne'!K105","v":0},{"$f":"'Rozliczenie kwartalne'!L105","v":0},{"$f":"'Załącznik nr 1 do rozliczenia'!D101","v":0},{"$f":"'Załącznik nr 1 do rozliczenia'!F101","v":0},{"$f":"'Załącznik nr 1 do rozliczenia'!H101","v":0},{"$f":"'Załącznik nr 2 do rozliczenia'!D98","v":0},{"$f":"'Załącznik nr 2 do rozliczenia'!E98","v":0},{"$f":"'Załącznik nr 2 do rozliczenia'!F98","v":0},{"$f":"'Załącznik nr 2 do rozliczenia'!H98","v":0}]
[{"$f":"'Rozliczenie kwartalne'!A106","v":"71"},{"$f":"'Rozliczenie kwartalne'!B106","v":""},{"$f":"'Rozliczenie kwartalne'!C106","v":0},{"$f":"'Rozliczenie kwartalne'!D106","v":0},{"$f":"'Rozliczenie kwartalne'!E106","v":0},{"$f":"'Rozliczenie kwartalne'!F106","v":0},{"$f":"'Rozliczenie kwartalne'!G106","v":0},{"$f":"'Rozliczenie kwartalne'!H106","v":0},{"$f":"'Rozliczenie kwartalne'!I106","v":0},{"$f":"'Rozliczenie kwartalne'!J106","v":0},{"$f":"'Rozliczenie kwartalne'!K106","v":0},{"$f":"'Rozliczenie kwartalne'!L106","v":0},{"$f":"'Załącznik nr 1 do rozliczenia'!D102","v":0},{"$f":"'Załącznik nr 1 do rozliczenia'!F102","v":0},{"$f":"'Załącznik nr 1 do rozliczenia'!H102","v":0},{"$f":"'Załącznik nr 2 do rozliczenia'!D99","v":0},{"$f":"'Załącznik nr 2 do rozliczenia'!E99","v":0},{"$f":"'Załącznik nr 2 do rozliczenia'!F99","v":0},{"$f":"'Załącznik nr 2 do rozliczenia'!H99","v":0}]
[{"$f":"'Rozliczenie kwartalne'!A107","v":"72"},{"$f":"'Rozliczenie kwartalne'!B107","v":""},{"$f":"'Rozliczenie kwartalne'!C107","v":0},{"$f":"'Rozliczenie kwartalne'!D107","v":0},{"$f":"'Rozliczenie kwartalne'!E107","v":0},{"$f":"'Rozliczenie kwartalne'!F107","v":0},{"$f":"'Rozliczenie kwartalne'!G107","v":0},{"$f":"'Rozliczenie kwartalne'!H107","v":0},{"$f":"'Rozliczenie kwartalne'!I107","v":0},{"$f":"'Rozliczenie kwartalne'!J107","v":0},{"$f":"'Rozliczenie kwartalne'!K107","v":0},{"$f":"'Rozliczenie kwartalne'!L107","v":0},{"$f":"'Załącznik nr 1 do rozliczenia'!D103","v":0},{"$f":"'Załącznik nr 1 do rozliczenia'!F103","v":0},{"$f":"'Załącznik nr 1 do rozliczenia'!H103","v":0},{"$f":"'Załącznik nr 2 do rozliczenia'!D100","v":0},{"$f":"'Załącznik nr 2 do rozliczenia'!E100","v":0},{"$f":"'Załącznik nr 2 do rozliczenia'!F100","v":0},{"$f":"'Załącznik nr 2 do rozliczenia'!H100","v":0}]
[{"$f":"'Rozliczenie kwartalne'!A108","v":"73"},{"$f":"'Rozliczenie kwartalne'!B108","v":""},{"$f":"'Rozliczenie kwartalne'!C108","v":0},{"$f":"'Rozliczenie kwartalne'!D108","v":0},{"$f":"'Rozliczenie kwartalne'!E108","v":0},{"$f":"'Rozliczenie kwartalne'!F108","v":0},{"$f":"'Rozliczenie kwartalne'!G108","v":0},{"$f":"'Rozliczenie kwartalne'!H108","v":0},{"$f":"'Rozliczenie kwartalne'!I108","v":0},{"$f":"'Rozliczenie kwartalne'!J108","v":0},{"$f":"'Rozliczenie kwartalne'!K108","v":0},{"$f":"'Rozliczenie kwartalne'!L108","v":0},{"$f":"'Załącznik nr 1 do rozliczenia'!D104","v":0},{"$f":"'Załącznik nr 1 do rozliczenia'!F104","v":0},{"$f":"'Załącznik nr 1 do rozliczenia'!H104","v":0},{"$f":"'Załącznik nr 2 do rozliczenia'!D101","v":0},{"$f":"'Załącznik nr 2 do rozliczenia'!E101","v":0},{"$f":"'Załącznik nr 2 do rozliczenia'!F101","v":0},{"$f":"'Załącznik nr 2 do rozliczenia'!H101","v":0}]
[{"$f":"'Rozliczenie kwartalne'!A109","v":"74"},{"$f":"'Rozliczenie kwartalne'!B109","v":""},{"$f":"'Rozliczenie kwartalne'!C109","v":0},{"$f":"'Rozliczenie kwartalne'!D109","v":0},{"$f":"'Rozliczenie kwartalne'!E109","v":0},{"$f":"'Rozliczenie kwartalne'!F109","v":0},{"$f":"'Rozliczenie kwartalne'!G109","v":0},{"$f":"'Rozliczenie kwartalne'!H109","v":0},{"$f":"'Rozliczenie kwartalne'!I109","v":0},{"$f":"'Rozliczenie kwartalne'!J109","v":0},{"$f":"'Rozliczenie kwartalne'!K109","v":0},{"$f":"'Rozliczenie kwartalne'!L109","v":0},{"$f":"'Załącznik nr 1 do rozliczenia'!D105","v":0},{"$f":"'Załącznik nr 1 do rozliczenia'!F105","v":0},{"$f":"'Załącznik nr 1 do rozliczenia'!H105","v":0},{"$f":"'Załącznik nr 2 do rozliczenia'!D102","v":0},{"$f":"'Załącznik nr 2 do rozliczenia'!E102","v":0},{"$f":"'Załącznik nr 2 do rozliczenia'!F102","v":0},{"$f":"'Załącznik nr 2 do rozliczenia'!H102","v":0}]
[{"$f":"'Rozliczenie kwartalne'!A110","v":"75"},{"$f":"'Rozliczenie kwartalne'!B110","v":""},{"$f":"'Rozliczenie kwartalne'!C110","v":0},{"$f":"'Rozliczenie kwartalne'!D110","v":0},{"$f":"'Rozliczenie kwartalne'!E110","v":0},{"$f":"'Rozliczenie kwartalne'!F110","v":0},{"$f":"'Rozliczenie kwartalne'!G110","v":0},{"$f":"'Rozliczenie kwartalne'!H110","v":0},{"$f":"'Rozliczenie kwartalne'!I110","v":0},{"$f":"'Rozliczenie kwartalne'!J110","v":0},{"$f":"'Rozliczenie kwartalne'!K110","v":0},{"$f":"'Rozliczenie kwartalne'!L110","v":0},{"$f":"'Załącznik nr 1 do rozliczenia'!D106","v":0},{"$f":"'Załącznik nr 1 do rozliczenia'!F106","v":0},{"$f":"'Załącznik nr 1 do rozliczenia'!H106","v":0},{"$f":"'Załącznik nr 2 do rozliczenia'!D103","v":0},{"$f":"'Załącznik nr 2 do rozliczenia'!E103","v":0},{"$f":"'Załącznik nr 2 do rozliczenia'!F103","v":0},{"$f":"'Załącznik nr 2 do rozliczenia'!H103","v":0}]
[{"$f":"'Rozliczenie kwartalne'!A111","v":"76"},{"$f":"'Rozliczenie kwartalne'!B111","v":""},{"$f":"'Rozliczenie kwartalne'!C111","v":0},{"$f":"'Rozliczenie kwartalne'!D111","v":0},{"$f":"'Rozliczenie kwartalne'!E111","v":0},{"$f":"'Rozliczenie kwartalne'!F111","v":0},{"$f":"'Rozliczenie kwartalne'!G111","v":0},{"$f":"'Rozliczenie kwartalne'!H111","v":0},{"$f":"'Rozliczenie kwartalne'!I111","v":0},{"$f":"'Rozliczenie kwartalne'!J111","v":0},{"$f":"'Rozliczenie kwartalne'!K111","v":0},{"$f":"'Rozliczenie kwartalne'!L111","v":0},{"$f":"'Załącznik nr 1 do rozliczenia'!D107","v":0},{"$f":"'Załącznik nr 1 do rozliczenia'!F107","v":0},{"$f":"'Załącznik nr 1 do rozliczenia'!H107","v":0},{"$f":"'Załącznik nr 2 do rozliczenia'!D104","v":0},{"$f":"'Załącznik nr 2 do rozliczenia'!E104","v":0},{"$f":"'Załącznik nr 2 do rozliczenia'!F104","v":0},{"$f":"'Załącznik nr 2 do rozliczenia'!H104","v":0}]
[{"$f":"'Rozliczenie kwartalne'!A112","v":"77"},{"$f":"'Rozliczenie kwartalne'!B112","v":""},{"$f":"'Rozliczenie kwartalne'!C112","v":0},{"$f":"'Rozliczenie kwartalne'!D112","v":0},{"$f":"'Rozliczenie kwartalne'!E112","v":0},{"$f":"'Rozliczenie kwartalne'!F112","v":0},{"$f":"'Rozliczenie kwartalne'!G112","v":0},{"$f":"'Rozliczenie kwartalne'!H112","v":0},{"$f":"'Rozliczenie kwartalne'!I112","v":0},{"$f":"'Rozliczenie kwartalne'!J112","v":0},{"$f":"'Rozliczenie kwartalne'!K112","v":0},{"$f":"'Rozliczenie kwartalne'!L112","v":0},{"$f":"'Załącznik nr 1 do rozliczenia'!D108","v":0},{"$f":"'Załącznik nr 1 do rozliczenia'!F108","v":0},{"$f":"'Załącznik nr 1 do rozliczenia'!H108","v":0},{"$f":"'Załącznik nr 2 do rozliczenia'!D105","v":0},{"$f":"'Załącznik nr 2 do rozliczenia'!E105","v":0},{"$f":"'Załącznik nr 2 do rozliczenia'!F105","v":0},{"$f":"'Załącznik nr 2 do rozliczenia'!H105","v":0}]
[{"$f":"'Rozliczenie kwartalne'!A113","v":"78"},{"$f":"'Rozliczenie kwartalne'!B113","v":""},{"$f":"'Rozliczenie kwartalne'!C113","v":0},{"$f":"'Rozliczenie kwartalne'!D113","v":0},{"$f":"'Rozliczenie kwartalne'!E113","v":0},{"$f":"'Rozliczenie kwartalne'!F113","v":0},{"$f":"'Rozliczenie kwartalne'!G113","v":0},{"$f":"'Rozliczenie kwartalne'!H113","v":0},{"$f":"'Rozliczenie kwartalne'!I113","v":0},{"$f":"'Rozliczenie kwartalne'!J113","v":0},{"$f":"'Rozliczenie kwartalne'!K113","v":0},{"$f":"'Rozliczenie kwartalne'!L113","v":0},{"$f":"'Załącznik nr 1 do rozliczenia'!D109","v":0},{"$f":"'Załącznik nr 1 do rozliczenia'!F109","v":0},{"$f":"'Załącznik nr 1 do rozliczenia'!H109","v":0},{"$f":"'Załącznik nr 2 do rozliczenia'!D106","v":0},{"$f":"'Załącznik nr 2 do rozliczenia'!E106","v":0},{"$f":"'Załącznik nr 2 do rozliczenia'!F106","v":0},{"$f":"'Załącznik nr 2 do rozliczenia'!H106","v":0}]
[{"$f":"'Rozliczenie kwartalne'!A114","v":"79"},{"$f":"'Rozliczenie kwartalne'!B114","v":""},{"$f":"'Rozliczenie kwartalne'!C114","v":0},{"$f":"'Rozliczenie kwartalne'!D114","v":0},{"$f":"'Rozliczenie kwartalne'!E114","v":0},{"$f":"'Rozliczenie kwartalne'!F114","v":0},{"$f":"'Rozliczenie kwartalne'!G114","v":0},{"$f":"'Rozliczenie kwartalne'!H114","v":0},{"$f":"'Rozliczenie kwartalne'!I114","v":0},{"$f":"'Rozliczenie kwartalne'!J114","v":0},{"$f":"'Rozliczenie kwartalne'!K114","v":0},{"$f":"'Rozliczenie kwartalne'!L114","v":0},{"$f":"'Załącznik nr 1 do rozliczenia'!D110","v":0},{"$f":"'Załącznik nr 1 do rozliczenia'!F110","v":0},{"$f":"'Załącznik nr 1 do rozliczenia'!H110","v":0},{"$f":"'Załącznik nr 2 do rozliczenia'!D107","v":0},{"$f":"'Załącznik nr 2 do rozliczenia'!E107","v":0},{"$f":"'Załącznik nr 2 do rozliczenia'!F107","v":0},{"$f":"'Załącznik nr 2 do rozliczenia'!H107","v":0}]
[{"$f":"'Rozliczenie kwartalne'!A115","v":"80"},{"$f":"'Rozliczenie kwartalne'!B115","v":""},{"$f":"'Rozliczenie kwartalne'!C115","v":0},{"$f":"'Rozliczenie kwartalne'!D115","v":0},{"$f":"'Rozliczenie kwartalne'!E115","v":0},{"$f":"'Rozliczenie kwartalne'!F115","v":0},{"$f":"'Rozliczenie kwartalne'!G115","v":0},{"$f":"'Rozliczenie kwartalne'!H115","v":0},{"$f":"'Rozliczenie kwartalne'!I115","v":0},{"$f":"'Rozliczenie kwartalne'!J115","v":0},{"$f":"'Rozliczenie kwartalne'!K115","v":0},{"$f":"'Rozliczenie kwartalne'!L115","v":0},{"$f":"'Załącznik nr 1 do rozliczenia'!D111","v":0},{"$f":"'Załącznik nr 1 do rozliczenia'!F111","v":0},{"$f":"'Załącznik nr 1 do rozliczenia'!H111","v":0},{"$f":"'Załącznik nr 2 do rozliczenia'!D108","v":0},{"$f":"'Załącznik nr 2 do rozliczenia'!E108","v":0},{"$f":"'Załącznik nr 2 do rozliczenia'!F108","v":0},{"$f":"'Załącznik nr 2 do rozliczenia'!H108","v":0}]
[{"$f":"'Rozliczenie kwartalne'!A116","v":"81"},{"$f":"'Rozliczenie kwartalne'!B116","v":""},{"$f":"'Rozliczenie kwartalne'!C116","v":0},{"$f":"'Rozliczenie kwartalne'!D116","v":0},{"$f":"'Rozliczenie kwartalne'!E116","v":0},{"$f":"'Rozliczenie kwartalne'!F116","v":0},{"$f":"'Rozliczenie kwartalne'!G116","v":0},{"$f":"'Rozliczenie kwartalne'!H116","v":0},{"$f":"'Rozliczenie kwartalne'!I116","v":0},{"$f":"'Rozliczenie kwartalne'!J116","v":0},{"$f":"'Rozliczenie kwartalne'!K116","v":0},{"$f":"'Rozliczenie kwartalne'!L116","v":0},{"$f":"'Załącznik nr 1 do rozliczenia'!D112","v":0},{"$f":"'Załącznik nr 1 do rozliczenia'!F112","v":0},{"$f":"'Załącznik nr 1 do rozliczenia'!H112","v":0},{"$f":"'Załącznik nr 2 do rozliczenia'!D109","v":0},{"$f":"'Załącznik nr 2 do rozliczenia'!E109","v":0},{"$f":"'Załącznik nr 2 do rozliczenia'!F109","v":0},{"$f":"'Załącznik nr 2 do rozliczenia'!H109","v":0}]
[{"$f":"'Rozliczenie kwartalne'!A117","v":"82"},{"$f":"'Rozliczenie kwartalne'!B117","v":""},{"$f":"'Rozliczenie kwartalne'!C117","v":0},{"$f":"'Rozliczenie kwartalne'!D117","v":0},{"$f":"'Rozliczenie kwartalne'!E117","v":0},{"$f":"'Rozliczenie kwartalne'!F117","v":0},{"$f":"'Rozliczenie kwartalne'!G117","v":0},{"$f":"'Rozliczenie kwartalne'!H117","v":0},{"$f":"'Rozliczenie kwartalne'!I117","v":0},{"$f":"'Rozliczenie kwartalne'!J117","v":0},{"$f":"'Rozliczenie kwartalne'!K117","v":0},{"$f":"'Rozliczenie kwartalne'!L117","v":0},{"$f":"'Załącznik nr 1 do rozliczenia'!D113","v":0},{"$f":"'Załącznik nr 1 do rozliczenia'!F113","v":0},{"$f":"'Załącznik nr 1 do rozliczenia'!H113","v":0},{"$f":"'Załącznik nr 2 do rozliczenia'!D110","v":0},{"$f":"'Załącznik nr 2 do rozliczenia'!E110","v":0},{"$f":"'Załącznik nr 2 do rozliczenia'!F110","v":0},{"$f":"'Załącznik nr 2 do rozliczenia'!H110","v":0}]
[{"$f":"'Rozliczenie kwartalne'!A118","v":"83"},{"$f":"'Rozliczenie kwartalne'!B118","v":""},{"$f":"'Rozliczenie kwartalne'!C118","v":0},{"$f":"'Rozliczenie kwartalne'!D118","v":0},{"$f":"'Rozliczenie kwartalne'!E118","v":0},{"$f":"'Rozliczenie kwartalne'!F118","v":0},{"$f":"'Rozliczenie kwartalne'!G118","v":0},{"$f":"'Rozliczenie kwartalne'!H118","v":0},{"$f":"'Rozliczenie kwartalne'!I118","v":0},{"$f":"'Rozliczenie kwartalne'!J118","v":0},{"$f":"'Rozliczenie kwartalne'!K118","v":0},{"$f":"'Rozliczenie kwartalne'!L118","v":0},{"$f":"'Załącznik nr 1 do rozliczenia'!D114","v":0},{"$f":"'Załącznik nr 1 do rozliczenia'!F114","v":0},{"$f":"'Załącznik nr 1 do rozliczenia'!H114","v":0},{"$f":"'Załącznik nr 2 do rozliczenia'!D111","v":0},{"$f":"'Załącznik nr 2 do rozliczenia'!E111","v":0},{"$f":"'Załącznik nr 2 do rozliczenia'!F111","v":0},{"$f":"'Załącznik nr 2 do rozliczenia'!H111","v":0}]
[{"$f":"'Rozliczenie kwartalne'!A119","v":"84"},{"$f":"'Rozliczenie kwartalne'!B119","v":""},{"$f":"'Rozliczenie kwartalne'!C119","v":0},{"$f":"'Rozliczenie kwartalne'!D119","v":0},{"$f":"'Rozliczenie kwartalne'!E119","v":0},{"$f":"'Rozliczenie kwartalne'!F119","v":0},{"$f":"'Rozliczenie kwartalne'!G119","v":0},{"$f":"'Rozliczenie kwartalne'!H119","v":0},{"$f":"'Rozliczenie kwartalne'!I119","v":0},{"$f":"'Rozliczenie kwartalne'!J119","v":0},{"$f":"'Rozliczenie kwartalne'!K119","v":0},{"$f":"'Rozliczenie kwartalne'!L119","v":0},{"$f":"'Załącznik nr 1 do rozliczenia'!D115","v":0},{"$f":"'Załącznik nr 1 do rozliczenia'!F115","v":0},{"$f":"'Załącznik nr 1 do rozliczenia'!H115","v":0},{"$f":"'Załącznik nr 2 do rozliczenia'!D112","v":0},{"$f":"'Załącznik nr 2 do rozliczenia'!E112","v":0},{"$f":"'Załącznik nr 2 do rozliczenia'!F112","v":0},{"$f":"'Załącznik nr 2 do rozliczenia'!H112","v":0}]
[{"$f":"'Rozliczenie kwartalne'!A120","v":"85"},{"$f":"'Rozliczenie kwartalne'!B120","v":""},{"$f":"'Rozliczenie kwartalne'!C120","v":0},{"$f":"'Rozliczenie kwartalne'!D120","v":0},{"$f":"'Rozliczenie kwartalne'!E120","v":0},{"$f":"'Rozliczenie kwartalne'!F120","v":0},{"$f":"'Rozliczenie kwartalne'!G120","v":0},{"$f":"'Rozliczenie kwartalne'!H120","v":0},{"$f":"'Rozliczenie kwartalne'!I120","v":0},{"$f":"'Rozliczenie kwartalne'!J120","v":0},{"$f":"'Rozliczenie kwartalne'!K120","v":0},{"$f":"'Rozliczenie kwartalne'!L120","v":0},{"$f":"'Załącznik nr 1 do rozliczenia'!D116","v":0},{"$f":"'Załącznik nr 1 do rozliczenia'!F116","v":0},{"$f":"'Załącznik nr 1 do rozliczenia'!H116","v":0},{"$f":"'Załącznik nr 2 do rozliczenia'!D113","v":0},{"$f":"'Załącznik nr 2 do rozliczenia'!E113","v":0},{"$f":"'Załącznik nr 2 do rozliczenia'!F113","v":0},{"$f":"'Załącznik nr 2 do rozliczenia'!H113","v":0}]
[{"$f":"'Rozliczenie kwartalne'!A121","v":"86"},{"$f":"'Rozliczenie kwartalne'!B121","v":""},{"$f":"'Rozliczenie kwartalne'!C121","v":0},{"$f":"'Rozliczenie kwartalne'!D121","v":0},{"$f":"'Rozliczenie kwartalne'!E121","v":0},{"$f":"'Rozliczenie kwartalne'!F121","v":0},{"$f":"'Rozliczenie kwartalne'!G121","v":0},{"$f":"'Rozliczenie kwartalne'!H121","v":0},{"$f":"'Rozliczenie kwartalne'!I121","v":0},{"$f":"'Rozliczenie kwartalne'!J121","v":0},{"$f":"'Rozliczenie kwartalne'!K121","v":0},{"$f":"'Rozliczenie kwartalne'!L121","v":0},{"$f":"'Załącznik nr 1 do rozliczenia'!D117","v":0},{"$f":"'Załącznik nr 1 do rozliczenia'!F117","v":0},{"$f":"'Załącznik nr 1 do rozliczenia'!H117","v":0},{"$f":"'Załącznik nr 2 do rozliczenia'!D114","v":0},{"$f":"'Załącznik nr 2 do rozliczenia'!E114","v":0},{"$f":"'Załącznik nr 2 do rozliczenia'!F114","v":0},{"$f":"'Załącznik nr 2 do rozliczenia'!H114","v":0}]
[{"$f":"'Rozliczenie kwartalne'!A122","v":"87"},{"$f":"'Rozliczenie kwartalne'!B122","v":""},{"$f":"'Rozliczenie kwartalne'!C122","v":0},{"$f":"'Rozliczenie kwartalne'!D122","v":0},{"$f":"'Rozliczenie kwartalne'!E122","v":0},{"$f":"'Rozliczenie kwartalne'!F122","v":0},{"$f":"'Rozliczenie kwartalne'!G122","v":0},{"$f":"'Rozliczenie kwartalne'!H122","v":0},{"$f":"'Rozliczenie kwartalne'!I122","v":0},{"$f":"'Rozliczenie kwartalne'!J122","v":0},{"$f":"'Rozliczenie kwartalne'!K122","v":0},{"$f":"'Rozliczenie kwartalne'!L122","v":0},{"$f":"'Załącznik nr 1 do rozliczenia'!D118","v":0},{"$f":"'Załącznik nr 1 do rozliczenia'!F118","v":0},{"$f":"'Załącznik nr 1 do rozliczenia'!H118","v":0},{"$f":"'Załącznik nr 2 do rozliczenia'!D115","v":0},{"$f":"'Załącznik nr 2 do rozliczenia'!E115","v":0},{"$f":"'Załącznik nr 2 do rozliczenia'!F115","v":0},{"$f":"'Załącznik nr 2 do rozliczenia'!H115","v":0}]
[{"$f":"'Rozliczenie kwartalne'!A123","v":"88"},{"$f":"'Rozliczenie kwartalne'!B123","v":""},{"$f":"'Rozliczenie kwartalne'!C123","v":0},{"$f":"'Rozliczenie kwartalne'!D123","v":0},{"$f":"'Rozliczenie kwartalne'!E123","v":0},{"$f":"'Rozliczenie kwartalne'!F123","v":0},{"$f":"'Rozliczenie kwartalne'!G123","v":0},{"$f":"'Rozliczenie kwartalne'!H123","v":0},{"$f":"'Rozliczenie kwartalne'!I123","v":0},{"$f":"'Rozliczenie kwartalne'!J123","v":0},{"$f":"'Rozliczenie kwartalne'!K123","v":0},{"$f":"'Rozliczenie kwartalne'!L123","v":0},{"$f":"'Załącznik nr 1 do rozliczenia'!D119","v":0},{"$f":"'Załącznik nr 1 do rozliczenia'!F119","v":0},{"$f":"'Załącznik nr 1 do rozliczenia'!H119","v":0},{"$f":"'Załącznik nr 2 do rozliczenia'!D116","v":0},{"$f":"'Załącznik nr 2 do rozliczenia'!E116","v":0},{"$f":"'Załącznik nr 2 do rozliczenia'!F116","v":0},{"$f":"'Załącznik nr 2 do rozliczenia'!H116","v":0}]
[{"$f":"'Rozliczenie kwartalne'!A124","v":"89"},{"$f":"'Rozliczenie kwartalne'!B124","v":""},{"$f":"'Rozliczenie kwartalne'!C124","v":0},{"$f":"'Rozliczenie kwartalne'!D124","v":0},{"$f":"'Rozliczenie kwartalne'!E124","v":0},{"$f":"'Rozliczenie kwartalne'!F124","v":0},{"$f":"'Rozliczenie kwartalne'!G124","v":0},{"$f":"'Rozliczenie kwartalne'!H124","v":0},{"$f":"'Rozliczenie kwartalne'!I124","v":0},{"$f":"'Rozliczenie kwartalne'!J124","v":0},{"$f":"'Rozliczenie kwartalne'!K124","v":0},{"$f":"'Rozliczenie kwartalne'!L124","v":0},{"$f":"'Załącznik nr 1 do rozliczenia'!D120","v":0},{"$f":"'Załącznik nr 1 do rozliczenia'!F120","v":0},{"$f":"'Załącznik nr 1 do rozliczenia'!H120","v":0},{"$f":"'Załącznik nr 2 do rozliczenia'!D117","v":0},{"$f":"'Załącznik nr 2 do rozliczenia'!E117","v":0},{"$f":"'Załącznik nr 2 do rozliczenia'!F117","v":0},{"$f":"'Załącznik nr 2 do rozliczenia'!H117","v":0}]
[{"$f":"'Rozliczenie kwartalne'!A125","v":"90"},{"$f":"'Rozliczenie kwartalne'!B125","v":""},{"$f":"'Rozliczenie kwartalne'!C125","v":0},{"$f":"'Rozliczenie kwartalne'!D125","v":0},{"$f":"'Rozliczenie kwartalne'!E125","v":0},{"$f":"'Rozliczenie kwartalne'!F125","v":0},{"$f":"'Rozliczenie kwartalne'!G125","v":0},{"$f":"'Rozliczenie kwartalne'!H125","v":0},{"$f":"'Rozliczenie kwartalne'!I125","v":0},{"$f":"'Rozliczenie kwartalne'!J125","v":0},{"$f":"'Rozliczenie kwartalne'!K125","v":0},{"$f":"'Rozliczenie kwartalne'!L125","v":0},{"$f":"'Załącznik nr 1 do rozliczenia'!D121","v":0},{"$f":"'Załącznik nr 1 do rozliczenia'!F121","v":0},{"$f":"'Załącznik nr 1 do rozliczenia'!H121","v":0},{"$f":"'Załącznik nr 2 do rozliczenia'!D118","v":0},{"$f":"'Załącznik nr 2 do rozliczenia'!E118","v":0},{"$f":"'Załącznik nr 2 do rozliczenia'!F118","v":0},{"$f":"'Załącznik nr 2 do rozliczenia'!H118","v":0}]
[{"$f":"'Rozliczenie kwartalne'!A126","v":"91"},{"$f":"'Rozliczenie kwartalne'!B126","v":""},{"$f":"'Rozliczenie kwartalne'!C126","v":0},{"$f":"'Rozliczenie kwartalne'!D126","v":0},{"$f":"'Rozliczenie kwartalne'!E126","v":0},{"$f":"'Rozliczenie kwartalne'!F126","v":0},{"$f":"'Rozliczenie kwartalne'!G126","v":0},{"$f":"'Rozliczenie kwartalne'!H126","v":0},{"$f":"'Rozliczenie kwartalne'!I126","v":0},{"$f":"'Rozliczenie kwartalne'!J126","v":0},{"$f":"'Rozliczenie kwartalne'!K126","v":0},{"$f":"'Rozliczenie kwartalne'!L126","v":0},{"$f":"'Załącznik nr 1 do rozliczenia'!D122","v":0},{"$f":"'Załącznik nr 1 do rozliczenia'!F122","v":0},{"$f":"'Załącznik nr 1 do rozliczenia'!H122","v":0},{"$f":"'Załącznik nr 2 do rozliczenia'!D119","v":0},{"$f":"'Załącznik nr 2 do rozliczenia'!E119","v":0},{"$f":"'Załącznik nr 2 do rozliczenia'!F119","v":0},{"$f":"'Załącznik nr 2 do rozliczenia'!H119","v":0}]
[{"$f":"'Rozliczenie kwartalne'!A127","v":"92"},{"$f":"'Rozliczenie kwartalne'!B127","v":""},{"$f":"'Rozliczenie kwartalne'!C127","v":0},{"$f":"'Rozliczenie kwartalne'!D127","v":0},{"$f":"'Rozliczenie kwartalne'!E127","v":0},{"$f":"'Rozliczenie kwartalne'!F127","v":0},{"$f":"'Rozliczenie kwartalne'!G127","v":0},{"$f":"'Rozliczenie kwartalne'!H127","v":0},{"$f":"'Rozliczenie kwartalne'!I127","v":0},{"$f":"'Rozliczenie kwartalne'!J127","v":0},{"$f":"'Rozliczenie kwartalne'!K127","v":0},{"$f":"'Rozliczenie kwartalne'!L127","v":0},{"$f":"'Załącznik nr 1 do rozliczenia'!D123","v":0},{"$f":"'Załącznik nr 1 do rozliczenia'!F123","v":0},{"$f":"'Załącznik nr 1 do rozliczenia'!H123","v":0},{"$f":"'Załącznik nr 2 do rozliczenia'!D120","v":0},{"$f":"'Załącznik nr 2 do rozliczenia'!E120","v":0},{"$f":"'Załącznik nr 2 do rozliczenia'!F120","v":0},{"$f":"'Załącznik nr 2 do rozliczenia'!H120","v":0}]
[{"$f":"'Rozliczenie kwartalne'!A128","v":"93"},{"$f":"'Rozliczenie kwartalne'!B128","v":""},{"$f":"'Rozliczenie kwartalne'!C128","v":0},{"$f":"'Rozliczenie kwartalne'!D128","v":0},{"$f":"'Rozliczenie kwartalne'!E128","v":0},{"$f":"'Rozliczenie kwartalne'!F128","v":0},{"$f":"'Rozliczenie kwartalne'!G128","v":0},{"$f":"'Rozliczenie kwartalne'!H128","v":0},{"$f":"'Rozliczenie kwartalne'!I128","v":0},{"$f":"'Rozliczenie kwartalne'!J128","v":0},{"$f":"'Rozliczenie kwartalne'!K128","v":0},{"$f":"'Rozliczenie kwartalne'!L128","v":0},{"$f":"'Załącznik nr 1 do rozliczenia'!D124","v":0},{"$f":"'Załącznik nr 1 do rozliczenia'!F124","v":0},{"$f":"'Załącznik nr 1 do rozliczenia'!H124","v":0},{"$f":"'Załącznik nr 2 do rozliczenia'!D121","v":0},{"$f":"'Załącznik nr 2 do rozliczenia'!E121","v":0},{"$f":"'Załącznik nr 2 do rozliczenia'!F121","v":0},{"$f":"'Załącznik nr 2 do rozliczenia'!H121","v":0}]
[{"$f":"'Rozliczenie kwartalne'!A129","v":"94"},{"$f":"'Rozliczenie kwartalne'!B129","v":""},{"$f":"'Rozliczenie kwartalne'!C129","v":0},{"$f":"'Rozliczenie kwartalne'!D129","v":0},{"$f":"'Rozliczenie kwartalne'!E129","v":0},{"$f":"'Rozliczenie kwartalne'!F129","v":0},{"$f":"'Rozliczenie kwartalne'!G129","v":0},{"$f":"'Rozliczenie kwartalne'!H129","v":0},{"$f":"'Rozliczenie kwartalne'!I129","v":0},{"$f":"'Rozliczenie kwartalne'!J129","v":0},{"$f":"'Rozliczenie kwartalne'!K129","v":0},{"$f":"'Rozliczenie kwartalne'!L129","v":0},{"$f":"'Załącznik nr 1 do rozliczenia'!D125","v":0},{"$f":"'Załącznik nr 1 do rozliczenia'!F125","v":0},{"$f":"'Załącznik nr 1 do rozliczenia'!H125","v":0},{"$f":"'Załącznik nr 2 do rozliczenia'!D122","v":0},{"$f":"'Załącznik nr 2 do rozliczenia'!E122","v":0},{"$f":"'Załącznik nr 2 do rozliczenia'!F122","v":0},{"$f":"'Załącznik nr 2 do rozliczenia'!H122","v":0}]
[{"$f":"'Rozliczenie kwartalne'!A130","v":"95"},{"$f":"'Rozliczenie kwartalne'!B130","v":""},{"$f":"'Rozliczenie kwartalne'!C130","v":0},{"$f":"'Rozliczenie kwartalne'!D130","v":0},{"$f":"'Rozliczenie kwartalne'!E130","v":0},{"$f":"'Rozliczenie kwartalne'!F130","v":0},{"$f":"'Rozliczenie kwartalne'!G130","v":0},{"$f":"'Rozliczenie kwartalne'!H130","v":0},{"$f":"'Rozliczenie kwartalne'!I130","v":0},{"$f":"'Rozliczenie kwartalne'!J130","v":0},{"$f":"'Rozliczenie kwartalne'!K130","v":0},{"$f":"'Rozliczenie kwartalne'!L130","v":0},{"$f":"'Załącznik nr 1 do rozliczenia'!D126","v":0},{"$f":"'Załącznik nr 1 do rozliczenia'!F126","v":0},{"$f":"'Załącznik nr 1 do rozliczenia'!H126","v":0},{"$f":"'Załącznik nr 2 do rozliczenia'!D123","v":0},{"$f":"'Załącznik nr 2 do rozliczenia'!E123","v":0},{"$f":"'Załącznik nr 2 do rozliczenia'!F123","v":0},{"$f":"'Załącznik nr 2 do rozliczenia'!H123","v":0}]
[{"$f":"'Rozliczenie kwartalne'!A131","v":"96"},{"$f":"'Rozliczenie kwartalne'!B131","v":""},{"$f":"'Rozliczenie kwartalne'!C131","v":0},{"$f":"'Rozliczenie kwartalne'!D131","v":0},{"$f":"'Rozliczenie kwartalne'!E131","v":0},{"$f":"'Rozliczenie kwartalne'!F131","v":0},{"$f":"'Rozliczenie kwartalne'!G131","v":0},{"$f":"'Rozliczenie kwartalne'!H131","v":0},{"$f":"'Rozliczenie kwartalne'!I131","v":0},{"$f":"'Rozliczenie kwartalne'!J131","v":0},{"$f":"'Rozliczenie kwartalne'!K131","v":0},{"$f":"'Rozliczenie kwartalne'!L131","v":0},{"$f":"'Załącznik nr 1 do rozliczenia'!D127","v":0},{"$f":"'Załącznik nr 1 do rozliczenia'!F127","v":0},{"$f":"'Załącznik nr 1 do rozliczenia'!H127","v":0},{"$f":"'Załącznik nr 2 do rozliczenia'!D124","v":0},{"$f":"'Załącznik nr 2 do rozliczenia'!E124","v":0},{"$f":"'Załącznik nr 2 do rozliczenia'!F124","v":0},{"$f":"'Załącznik nr 2 do rozliczenia'!H124","v":0}]
[{"$f":"'Rozliczenie kwartalne'!A132","v":"97"},{"$f":"'Rozliczenie kwartalne'!B132","v":""},{"$f":"'Rozliczenie kwartalne'!C132","v":0},{"$f":"'Rozliczenie kwartalne'!D132","v":0},{"$f":"'Rozliczenie kwartalne'!E132","v":0},{"$f":"'Rozliczenie kwartalne'!F132","v":0},{"$f":"'Rozliczenie kwartalne'!G132","v":0},{"$f":"'Rozliczenie kwartalne'!H132","v":0},{"$f":"'Rozliczenie kwartalne'!I132","v":0},{"$f":"'Rozliczenie kwartalne'!J132","v":0},{"$f":"'Rozliczenie kwartalne'!K132","v":0},{"$f":"'Rozliczenie kwartalne'!L132","v":0},{"$f":"'Załącznik nr 1 do rozliczenia'!D128","v":0},{"$f":"'Załącznik nr 1 do rozliczenia'!F128","v":0},{"$f":"'Załącznik nr 1 do rozliczenia'!H128","v":0},{"$f":"'Załącznik nr 2 do rozliczenia'!D125","v":0},{"$f":"'Załącznik nr 2 do rozliczenia'!E125","v":0},{"$f":"'Załącznik nr 2 do rozliczenia'!F125","v":0},{"$f":"'Załącznik nr 2 do rozliczenia'!H125","v":0}]
[{"$f":"'Rozliczenie kwartalne'!A133","v":"98"},{"$f":"'Rozliczenie kwartalne'!B133","v":""},{"$f":"'Rozliczenie kwartalne'!C133","v":0},{"$f":"'Rozliczenie kwartalne'!D133","v":0},{"$f":"'Rozliczenie kwartalne'!E133","v":0},{"$f":"'Rozliczenie kwartalne'!F133","v":0},{"$f":"'Rozliczenie kwartalne'!G133","v":0},{"$f":"'Rozliczenie kwartalne'!H133","v":0},{"$f":"'Rozliczenie kwartalne'!I133","v":0},{"$f":"'Rozliczenie kwartalne'!J133","v":0},{"$f":"'Rozliczenie kwartalne'!K133","v":0},{"$f":"'Rozliczenie kwartalne'!L133","v":0},{"$f":"'Załącznik nr 1 do rozliczenia'!D129","v":0},{"$f":"'Załącznik nr 1 do rozliczenia'!F129","v":0},{"$f":"'Załącznik nr 1 do rozliczenia'!H129","v":0},{"$f":"'Załącznik nr 2 do rozliczenia'!D126","v":0},{"$f":"'Załącznik nr 2 do rozliczenia'!E126","v":0},{"$f":"'Załącznik nr 2 do rozliczenia'!F126","v":0},{"$f":"'Załącznik nr 2 do rozliczenia'!H126","v":0}]
[{"$f":"'Rozliczenie kwartalne'!A134","v":"99"},{"$f":"'Rozliczenie kwartalne'!B134","v":""},{"$f":"'Rozliczenie kwartalne'!C134","v":0},{"$f":"'Rozliczenie kwartalne'!D134","v":0},{"$f":"'Rozliczenie kwartalne'!E134","v":0},{"$f":"'Rozliczenie kwartalne'!F134","v":0},{"$f":"'Rozliczenie kwartalne'!G134","v":0},{"$f":"'Rozliczenie kwartalne'!H134","v":0},{"$f":"'Rozliczenie kwartalne'!I134","v":0},{"$f":"'Rozliczenie kwartalne'!J134","v":0},{"$f":"'Rozliczenie kwartalne'!K134","v":0},{"$f":"'Rozliczenie kwartalne'!L134","v":0},{"$f":"'Załącznik nr 1 do rozliczenia'!D130","v":0},{"$f":"'Załącznik nr 1 do rozliczenia'!F130","v":0},{"$f":"'Załącznik nr 1 do rozliczenia'!H130","v":0},{"$f":"'Załącznik nr 2 do rozliczenia'!D127","v":0},{"$f":"'Załącznik nr 2 do rozliczenia'!E127","v":0},{"$f":"'Załącznik nr 2 do rozliczenia'!F127","v":0},{"$f":"'Załącznik nr 2 do rozliczenia'!H127","v":0}]
[{"$f":"'Rozliczenie kwartalne'!A135","v":"100"},{"$f":"'Rozliczenie kwartalne'!B135","v":""},{"$f":"'Rozliczenie kwartalne'!C135","v":0},{"$f":"'Rozliczenie kwartalne'!D135","v":0},{"$f":"'Rozliczenie kwartalne'!E135","v":0},{"$f":"'Rozliczenie kwartalne'!F135","v":0},{"$f":"'Rozliczenie kwartalne'!G135","v":0},{"$f":"'Rozliczenie kwartalne'!H135","v":0},{"$f":"'Rozliczenie kwartalne'!I135","v":0},{"$f":"'Rozliczenie kwartalne'!J135","v":0},{"$f":"'Rozliczenie kwartalne'!K135","v":0},{"$f":"'Rozliczenie kwartalne'!L135","v":0},{"$f":"'Załącznik nr 1 do rozliczenia'!D131","v":0},{"$f":"'Załącznik nr 1 do rozliczenia'!F131","v":0},{"$f":"'Załącznik nr 1 do rozliczenia'!H131","v":0},{"$f":"'Załącznik nr 2 do rozliczenia'!D128","v":0},{"$f":"'Załącznik nr 2 do rozliczenia'!E128","v":0},{"$f":"'Załącznik nr 2 do rozliczenia'!F128","v":0},{"$f":"'Załącznik nr 2 do rozliczenia'!H128","v":0}]
[{"$f":"'Rozliczenie kwartalne'!A136","v":"101"},{"$f":"'Rozliczenie kwartalne'!B136","v":""},{"$f":"'Rozliczenie kwartalne'!C136","v":0},{"$f":"'Rozliczenie kwartalne'!D136","v":0},{"$f":"'Rozliczenie kwartalne'!E136","v":0},{"$f":"'Rozliczenie kwartalne'!F136","v":0},{"$f":"'Rozliczenie kwartalne'!G136","v":0},{"$f":"'Rozliczenie kwartalne'!H136","v":0},{"$f":"'Rozliczenie kwartalne'!I136","v":0},{"$f":"'Rozliczenie kwartalne'!J136","v":0},{"$f":"'Rozliczenie kwartalne'!K136","v":0},{"$f":"'Rozliczenie kwartalne'!L136","v":0},{"$f":"'Załącznik nr 1 do rozliczenia'!D132","v":0},{"$f":"'Załącznik nr 1 do rozliczenia'!F132","v":0},{"$f":"'Załącznik nr 1 do rozliczenia'!H132","v":0},{"$f":"'Załącznik nr 2 do rozliczenia'!D129","v":0},{"$f":"'Załącznik nr 2 do rozliczenia'!E129","v":0},{"$f":"'Załącznik nr 2 do rozliczenia'!F129","v":0},{"$f":"'Załącznik nr 2 do rozliczenia'!H129","v":0}]
[{"$f":"'Rozliczenie kwartalne'!A137","v":"102"},{"$f":"'Rozliczenie kwartalne'!B137","v":""},{"$f":"'Rozliczenie kwartalne'!C137","v":0},{"$f":"'Rozliczenie kwartalne'!D137","v":0},{"$f":"'Rozliczenie kwartalne'!E137","v":0},{"$f":"'Rozliczenie kwartalne'!F137","v":0},{"$f":"'Rozliczenie kwartalne'!G137","v":0},{"$f":"'Rozliczenie kwartalne'!H137","v":0},{"$f":"'Rozliczenie kwartalne'!I137","v":0},{"$f":"'Rozliczenie kwartalne'!J137","v":0},{"$f":"'Rozliczenie kwartalne'!K137","v":0},{"$f":"'Rozliczenie kwartalne'!L137","v":0},{"$f":"'Załącznik nr 1 do rozliczenia'!D133","v":0},{"$f":"'Załącznik nr 1 do rozliczenia'!F133","v":0},{"$f":"'Załącznik nr 1 do rozliczenia'!H133","v":0},{"$f":"'Załącznik nr 2 do rozliczenia'!D130","v":0},{"$f":"'Załącznik nr 2 do rozliczenia'!E130","v":0},{"$f":"'Załącznik nr 2 do rozliczenia'!F130","v":0},{"$f":"'Załącznik nr 2 do rozliczenia'!H130","v":0}]
[{"$f":"'Rozliczenie kwartalne'!A138","v":"103"},{"$f":"'Rozliczenie kwartalne'!B138","v":""},{"$f":"'Rozliczenie kwartalne'!C138","v":0},{"$f":"'Rozliczenie kwartalne'!D138","v":0},{"$f":"'Rozliczenie kwartalne'!E138","v":0},{"$f":"'Rozliczenie kwartalne'!F138","v":0},{"$f":"'Rozliczenie kwartalne'!G138","v":0},{"$f":"'Rozliczenie kwartalne'!H138","v":0},{"$f":"'Rozliczenie kwartalne'!I138","v":0},{"$f":"'Rozliczenie kwartalne'!J138","v":0},{"$f":"'Rozliczenie kwartalne'!K138","v":0},{"$f":"'Rozliczenie kwartalne'!L138","v":0},{"$f":"'Załącznik nr 1 do rozliczenia'!D134","v":0},{"$f":"'Załącznik nr 1 do rozliczenia'!F134","v":0},{"$f":"'Załącznik nr 1 do rozliczenia'!H134","v":0},{"$f":"'Załącznik nr 2 do rozliczenia'!D131","v":0},{"$f":"'Załącznik nr 2 do rozliczenia'!E131","v":0},{"$f":"'Załącznik nr 2 do rozliczenia'!F131","v":0},{"$f":"'Załącznik nr 2 do rozliczenia'!H131","v":0}]
[{"$f":"'Rozliczenie kwartalne'!A139","v":"104"},{"$f":"'Rozliczenie kwartalne'!B139","v":""},{"$f":"'Rozliczenie kwartalne'!C139","v":0},{"$f":"'Rozliczenie kwartalne'!D139","v":0},{"$f":"'Rozliczenie kwartalne'!E139","v":0},{"$f":"'Rozliczenie kwartalne'!F139","v":0},{"$f":"'Rozliczenie kwartalne'!G139","v":0},{"$f":"'Rozliczenie kwartalne'!H139","v":0},{"$f":"'Rozliczenie kwartalne'!I139","v":0},{"$f":"'Rozliczenie kwartalne'!J139","v":0},{"$f":"'Rozliczenie kwartalne'!K139","v":0},{"$f":"'Rozliczenie kwartalne'!L139","v":0},{"$f":"'Załącznik nr 1 do rozliczenia'!D135","v":0},{"$f":"'Załącznik nr 1 do rozliczenia'!F135","v":0},{"$f":"'Załącznik nr 1 do rozliczenia'!H135","v":0},{"$f":"'Załącznik nr 2 do rozliczenia'!D132","v":0},{"$f":"'Załącznik nr 2 do rozliczenia'!E132","v":0},{"$f":"'Załącznik nr 2 do rozliczenia'!F132","v":0},{"$f":"'Załącznik nr 2 do rozliczenia'!H132","v":0}]
[{"$f":"'Rozliczenie kwartalne'!A140","v":"105"},{"$f":"'Rozliczenie kwartalne'!B140","v":""},{"$f":"'Rozliczenie kwartalne'!C140","v":0},{"$f":"'Rozliczenie kwartalne'!D140","v":0},{"$f":"'Rozliczenie kwartalne'!E140","v":0},{"$f":"'Rozliczenie kwartalne'!F140","v":0},{"$f":"'Rozliczenie kwartalne'!G140","v":0},{"$f":"'Rozliczenie kwartalne'!H140","v":0},{"$f":"'Rozliczenie kwartalne'!I140","v":0},{"$f":"'Rozliczenie kwartalne'!J140","v":0},{"$f":"'Rozliczenie kwartalne'!K140","v":0},{"$f":"'Rozliczenie kwartalne'!L140","v":0},{"$f":"'Załącznik nr 1 do rozliczenia'!D136","v":0},{"$f":"'Załącznik nr 1 do rozliczenia'!F136","v":0},{"$f":"'Załącznik nr 1 do rozliczenia'!H136","v":0},{"$f":"'Załącznik nr 2 do rozliczenia'!D133","v":0},{"$f":"'Załącznik nr 2 do rozliczenia'!E133","v":0},{"$f":"'Załącznik nr 2 do rozliczenia'!F133","v":0},{"$f":"'Załącznik nr 2 do rozliczenia'!H133","v":0}]
[{"$f":"'Rozliczenie kwartalne'!A141","v":"106"},{"$f":"'Rozliczenie kwartalne'!B141","v":""},{"$f":"'Rozliczenie kwartalne'!C141","v":0},{"$f":"'Rozliczenie kwartalne'!D141","v":0},{"$f":"'Rozliczenie kwartalne'!E141","v":0},{"$f":"'Rozliczenie kwartalne'!F141","v":0},{"$f":"'Rozliczenie kwartalne'!G141","v":0},{"$f":"'Rozliczenie kwartalne'!H141","v":0},{"$f":"'Rozliczenie kwartalne'!I141","v":0},{"$f":"'Rozliczenie kwartalne'!J141","v":0},{"$f":"'Rozliczenie kwartalne'!K141","v":0},{"$f":"'Rozliczenie kwartalne'!L141","v":0},{"$f":"'Załącznik nr 1 do rozliczenia'!D137","v":0},{"$f":"'Załącznik nr 1 do rozliczenia'!F137","v":0},{"$f":"'Załącznik nr 1 do rozliczenia'!H137","v":0},{"$f":"'Załącznik nr 2 do rozliczenia'!D134","v":0},{"$f":"'Załącznik nr 2 do rozliczenia'!E134","v":0},{"$f":"'Załącznik nr 2 do rozliczenia'!F134","v":0},{"$f":"'Załącznik nr 2 do rozliczenia'!H134","v":0}]
[{"$f":"'Rozliczenie kwartalne'!A142","v":"107"},{"$f":"'Rozliczenie kwartalne'!B142","v":""},{"$f":"'Rozliczenie kwartalne'!C142","v":0},{"$f":"'Rozliczenie kwartalne'!D142","v":0},{"$f":"'Rozliczenie kwartalne'!E142","v":0},{"$f":"'Rozliczenie kwartalne'!F142","v":0},{"$f":"'Rozliczenie kwartalne'!G142","v":0},{"$f":"'Rozliczenie kwartalne'!H142","v":0},{"$f":"'Rozliczenie kwartalne'!I142","v":0},{"$f":"'Rozliczenie kwartalne'!J142","v":0},{"$f":"'Rozliczenie kwartalne'!K142","v":0},{"$f":"'Rozliczenie kwartalne'!L142","v":0},{"$f":"'Załącznik nr 1 do rozliczenia'!D138","v":0},{"$f":"'Załącznik nr 1 do rozliczenia'!F138","v":0},{"$f":"'Załącznik nr 1 do rozliczenia'!H138","v":0},{"$f":"'Załącznik nr 2 do rozliczenia'!D135","v":0},{"$f":"'Załącznik nr 2 do rozliczenia'!E135","v":0},{"$f":"'Załącznik nr 2 do rozliczenia'!F135","v":0},{"$f":"'Załącznik nr 2 do rozliczenia'!H135","v":0}]
[{"$f":"'Rozliczenie kwartalne'!A143","v":"108"},{"$f":"'Rozliczenie kwartalne'!B143","v":""},{"$f":"'Rozliczenie kwartalne'!C143","v":0},{"$f":"'Rozliczenie kwartalne'!D143","v":0},{"$f":"'Rozliczenie kwartalne'!E143","v":0},{"$f":"'Rozliczenie kwartalne'!F143","v":0},{"$f":"'Rozliczenie kwartalne'!G143","v":0},{"$f":"'Rozliczenie kwartalne'!H143","v":0},{"$f":"'Rozliczenie kwartalne'!I143","v":0},{"$f":"'Rozliczenie kwartalne'!J143","v":0},{"$f":"'Rozliczenie kwartalne'!K143","v":0},{"$f":"'Rozliczenie kwartalne'!L143","v":0},{"$f":"'Załącznik nr 1 do rozliczenia'!D139","v":0},{"$f":"'Załącznik nr 1 do rozliczenia'!F139","v":0},{"$f":"'Załącznik nr 1 do rozliczenia'!H139","v":0},{"$f":"'Załącznik nr 2 do rozliczenia'!D136","v":0},{"$f":"'Załącznik nr 2 do rozliczenia'!E136","v":0},{"$f":"'Załącznik nr 2 do rozliczenia'!F136","v":0},{"$f":"'Załącznik nr 2 do rozliczenia'!H136","v":0}]
[{"$f":"'Rozliczenie kwartalne'!A144","v":"109"},{"$f":"'Rozliczenie kwartalne'!B144","v":""},{"$f":"'Rozliczenie kwartalne'!C144","v":0},{"$f":"'Rozliczenie kwartalne'!D144","v":0},{"$f":"'Rozliczenie kwartalne'!E144","v":0},{"$f":"'Rozliczenie kwartalne'!F144","v":0},{"$f":"'Rozliczenie kwartalne'!G144","v":0},{"$f":"'Rozliczenie kwartalne'!H144","v":0},{"$f":"'Rozliczenie kwartalne'!I144","v":0},{"$f":"'Rozliczenie kwartalne'!J144","v":0},{"$f":"'Rozliczenie kwartalne'!K144","v":0},{"$f":"'Rozliczenie kwartalne'!L144","v":0},{"$f":"'Załącznik nr 1 do rozliczenia'!D140","v":0},{"$f":"'Załącznik nr 1 do rozliczenia'!F140","v":0},{"$f":"'Załącznik nr 1 do rozliczenia'!H140","v":0},{"$f":"'Załącznik nr 2 do rozliczenia'!D137","v":0},{"$f":"'Załącznik nr 2 do rozliczenia'!E137","v":0},{"$f":"'Załącznik nr 2 do rozliczenia'!F137","v":0},{"$f":"'Załącznik nr 2 do rozliczenia'!H137","v":0}]
[{"$f":"'Rozliczenie kwartalne'!A145","v":"110"},{"$f":"'Rozliczenie kwartalne'!B145","v":""},{"$f":"'Rozliczenie kwartalne'!C145","v":0},{"$f":"'Rozliczenie kwartalne'!D145","v":0},{"$f":"'Rozliczenie kwartalne'!E145","v":0},{"$f":"'Rozliczenie kwartalne'!F145","v":0},{"$f":"'Rozliczenie kwartalne'!G145","v":0},{"$f":"'Rozliczenie kwartalne'!H145","v":0},{"$f":"'Rozliczenie kwartalne'!I145","v":0},{"$f":"'Rozliczenie kwartalne'!J145","v":0},{"$f":"'Rozliczenie kwartalne'!K145","v":0},{"$f":"'Rozliczenie kwartalne'!L145","v":0},{"$f":"'Załącznik nr 1 do rozliczenia'!D141","v":0},{"$f":"'Załącznik nr 1 do rozliczenia'!F141","v":0},{"$f":"'Załącznik nr 1 do rozliczenia'!H141","v":0},{"$f":"'Załącznik nr 2 do rozliczenia'!D138","v":0},{"$f":"'Załącznik nr 2 do rozliczenia'!E138","v":0},{"$f":"'Załącznik nr 2 do rozliczenia'!F138","v":0},{"$f":"'Załącznik nr 2 do rozliczenia'!H138","v":0}]

{"sheet":"Dane - linie 2","index":10,"n_rows":111,"n_cols":19,"rows_kept":111,"cut":false,"hidden":true,"merged":[]}
[{"$f":"'Rozliczenie kwartalne'!A34","v":"Lp."},{"$f":"'Rozliczenie kwartalne'!B34","v":"Nazwa linii komunikacyjnej"},{"$f":"'Rozliczenie kwartalne'!C34","v":"Liczba przewiezionych osób"},{"$f":"'Rozliczenie kwartalne'!D34","v":"Wielkość pracy eksploatacyjnej w okresie rozliczeniowym [wzkm]"},{"$f":"'Rozliczenie kwartalne'!E34","v":"Cena usługi [zł]"},{"$f":"'Rozliczenie kwartalne'!F34","v":"Deficyt w okresie rozliczeniowym [zł]"},{"$f":"'Rozliczenie kwartalne'!G34","v":"Część ceny usługi sfinansowana ze środków własnych organizatora  [zł / wzkm]"},{"$f":"'Rozliczenie kwartalne'!H34","v":"Procentowa wartość części ceny usługi sfinansowanej ze środków własnych organizatora [%]"},{"$f":"'Rozliczenie kwartalne'!I34","v":"Kwota środków własnych organizatora [zł]"},{"$f":"'Rozliczenie kwartalne'!J34","v":"Pobrana dopłata w okresie rozliczeniowym [zł]"},{"$f":"'Rozliczenie kwartalne'!K34","v":"Należna kwota dopłaty w okresie rozliczeniowym [zł]"},{"$f":"'Rozliczenie kwartalne'!L34","v":"Niewykorzystana kwota dopłaty w okresie rozliczeniowym [zł]"},{"$f":"'Załącznik nr 1 do rozliczenia'!D30","v":"Suma kosztów osiągniętych na linii komunikacyjnej [zł]"},{"$f":"'Załącznik nr 1 do rozliczenia'!F30","v":"Suma przychodów osiągniętych na linii komunikacyjnych [zł]"},{"$f":"'Załącznik nr 1 do rozliczenia'!H30","v":"Wynik finansowy linii komunikacyjnej - deficyt [zł] "},{"$f":"'Załącznik nr 2 do rozliczenia'!D27","v":"Długość linii [km]"},{"$f":"'Załącznik nr 2 do rozliczenia'!E27","v":"Ilość wykonanych kursów w okresie rozliczeniowym"},{"$f":"'Załącznik nr 2 do rozliczenia'!F27","v":"Dni kursowania"},{"$f":"'Załącznik nr 2 do rozliczenia'!H27","v":"Zrealizowana praca eksploatacyjna [wzkm]"}]
[{"$f":"'Rozliczenie kwartalne'!A152","v":"1"},{"$f":"'Rozliczenie kwartalne'!B152","v":""},{"$f":"'Rozliczenie kwartalne'!C152","v":0},{"$f":"'Rozliczenie kwartalne'!D152","v":0},{"$f":"'Rozliczenie kwartalne'!E152","v":0},{"$f":"'Rozliczenie kwartalne'!F152","v":0},{"$f":"'Rozliczenie kwartalne'!G152","v":0},{"$f":"'Rozliczenie kwartalne'!H152","v":0},{"$f":"'Rozliczenie kwartalne'!I152","v":0},{"$f":"'Rozliczenie kwartalne'!J152","v":0},{"$f":"'Rozliczenie kwartalne'!K152","v":0},{"$f":"'Rozliczenie kwartalne'!L152","v":0},{"$f":"'Załącznik nr 1 do rozliczenia'!D149","v":0},{"$f":"'Załącznik nr 1 do rozliczenia'!F149","v":0},{"$f":"'Załącznik nr 1 do rozliczenia'!H149","v":0},{"$f":"'Załącznik nr 2 do rozliczenia'!D145","v":0},{"$f":"'Załącznik nr 2 do rozliczenia'!E145","v":0},{"$f":"'Załącznik nr 2 do rozliczenia'!F145","v":0},{"$f":"'Załącznik nr 2 do rozliczenia'!H145","v":0}]
[{"$f":"'Rozliczenie kwartalne'!A37","v":"2"},{"$f":"'Rozliczenie kwartalne'!B153","v":""},{"$f":"'Rozliczenie kwartalne'!C153","v":0},{"$f":"'Rozliczenie kwartalne'!D153","v":0},{"$f":"'Rozliczenie kwartalne'!E153","v":0},{"$f":"'Rozliczenie kwartalne'!F153","v":0},{"$f":"'Rozliczenie kwartalne'!G153","v":0},{"$f":"'Rozliczenie kwartalne'!H153","v":0},{"$f":"'Rozliczenie kwartalne'!I153","v":0},{"$f":"'Rozliczenie kwartalne'!J153","v":0},{"$f":"'Rozliczenie kwartalne'!K153","v":0},{"$f":"'Rozliczenie kwartalne'!L153","v":0},{"$f":"'Załącznik nr 1 do rozliczenia'!D150","v":0},{"$f":"'Załącznik nr 1 do rozliczenia'!F150","v":0},{"$f":"'Załącznik nr 1 do rozliczenia'!H150","v":0},{"$f":"'Załącznik nr 2 do rozliczenia'!D146","v":0},{"$f":"'Załącznik nr 2 do rozliczenia'!E146","v":0},{"$f":"'Załącznik nr 2 do rozliczenia'!F146","v":0},{"$f":"'Załącznik nr 2 do rozliczenia'!H146","v":0}]
[{"$f":"'Rozliczenie kwartalne'!A38","v":"3"},{"$f":"'Rozliczenie kwartalne'!B154","v":""},{"$f":"'Rozliczenie kwartalne'!C154","v":0},{"$f":"'Rozliczenie kwartalne'!D154","v":0},{"$f":"'Rozliczenie kwartalne'!E154","v":0},{"$f":"'Rozliczenie kwartalne'!F154","v":0},{"$f":"'Rozliczenie kwartalne'!G154","v":0},{"$f":"'Rozliczenie kwartalne'!H154","v":0},{"$f":"'Rozliczenie kwartalne'!I154","v":0},{"$f":"'Rozliczenie kwartalne'!J154","v":0},{"$f":"'Rozliczenie kwartalne'!K154","v":0},{"$f":"'Rozliczenie kwartalne'!L154","v":0},{"$f":"'Załącznik nr 1 do rozliczenia'!D151","v":0},{"$f":"'Załącznik nr 1 do rozliczenia'!F151","v":0},{"$f":"'Załącznik nr 1 do rozliczenia'!H151","v":0},{"$f":"'Załącznik nr 2 do rozliczenia'!D147","v":0},{"$f":"'Załącznik nr 2 do rozliczenia'!E147","v":0},{"$f":"'Załącznik nr 2 do rozliczenia'!F147","v":0},{"$f":"'Załącznik nr 2 do rozliczenia'!H147","v":0}]
[{"$f":"'Rozliczenie kwartalne'!A39","v":"4"},{"$f":"'Rozliczenie kwartalne'!B155","v":""},{"$f":"'Rozliczenie kwartalne'!C155","v":0},{"$f":"'Rozliczenie kwartalne'!D155","v":0},{"$f":"'Rozliczenie kwartalne'!E155","v":0},{"$f":"'Rozliczenie kwartalne'!F155","v":0},{"$f":"'Rozliczenie kwartalne'!G155","v":0},{"$f":"'Rozliczenie kwartalne'!H155","v":0},{"$f":"'Rozliczenie kwartalne'!I155","v":0},{"$f":"'Rozliczenie kwartalne'!J155","v":0},{"$f":"'Rozliczenie kwartalne'!K155","v":0},{"$f":"'Rozliczenie kwartalne'!L155","v":0},{"$f":"'Załącznik nr 1 do rozliczenia'!D152","v":0},{"$f":"'Załącznik nr 1 do rozliczenia'!F152","v":0},{"$f":"'Załącznik nr 1 do rozliczenia'!H152","v":0},{"$f":"'Załącznik nr 2 do rozliczenia'!D148","v":0},{"$f":"'Załącznik nr 2 do rozliczenia'!E148","v":0},{"$f":"'Załącznik nr 2 do rozliczenia'!F148","v":0},{"$f":"'Załącznik nr 2 do rozliczenia'!H148","v":0}]
[{"$f":"'Rozliczenie kwartalne'!A40","v":"5"},{"$f":"'Rozliczenie kwartalne'!B156","v":""},{"$f":"'Rozliczenie kwartalne'!C156","v":0},{"$f":"'Rozliczenie kwartalne'!D156","v":0},{"$f":"'Rozliczenie kwartalne'!E156","v":0},{"$f":"'Rozliczenie kwartalne'!F156","v":0},{"$f":"'Rozliczenie kwartalne'!G156","v":0},{"$f":"'Rozliczenie kwartalne'!H156","v":0},{"$f":"'Rozliczenie kwartalne'!I156","v":0},{"$f":"'Rozliczenie kwartalne'!J156","v":0},{"$f":"'Rozliczenie kwartalne'!K156","v":0},{"$f":"'Rozliczenie kwartalne'!L156","v":0},{"$f":"'Załącznik nr 1 do rozliczenia'!D153","v":0},{"$f":"'Załącznik nr 1 do rozliczenia'!F153","v":0},{"$f":"'Załącznik nr 1 do rozliczenia'!H153","v":0},{"$f":"'Załącznik nr 2 do rozliczenia'!D149","v":0},{"$f":"'Załącznik nr 2 do rozliczenia'!E149","v":0},{"$f":"'Załącznik nr 2 do rozliczenia'!F149","v":0},{"$f":"'Załącznik nr 2 do rozliczenia'!H149","v":0}]
[{"$f":"'Rozliczenie kwartalne'!A41","v":"6"},{"$f":"'Rozliczenie kwartalne'!B157","v":""},{"$f":"'Rozliczenie kwartalne'!C157","v":0},{"$f":"'Rozliczenie kwartalne'!D157","v":0},{"$f":"'Rozliczenie kwartalne'!E157","v":0},{"$f":"'Rozliczenie kwartalne'!F157","v":0},{"$f":"'Rozliczenie kwartalne'!G157","v":0},{"$f":"'Rozliczenie kwartalne'!H157","v":0},{"$f":"'Rozliczenie kwartalne'!I157","v":0},{"$f":"'Rozliczenie kwartalne'!J157","v":0},{"$f":"'Rozliczenie kwartalne'!K157","v":0},{"$f":"'Rozliczenie kwartalne'!L157","v":0},{"$f":"'Załącznik nr 1 do rozliczenia'!D154","v":0},{"$f":"'Załącznik nr 1 do rozliczenia'!F154","v":0},{"$f":"'Załącznik nr 1 do rozliczenia'!H154","v":0},{"$f":"'Załącznik nr 2 do rozliczenia'!D150","v":0},{"$f":"'Załącznik nr 2 do rozliczenia'!E150","v":0},{"$f":"'Załącznik nr 2 do rozliczenia'!F150","v":0},{"$f":"'Załącznik nr 2 do rozliczenia'!H150","v":0}]
[{"$f":"'Rozliczenie kwartalne'!A42","v":"7"},{"$f":"'Rozliczenie kwartalne'!B158","v":""},{"$f":"'Rozliczenie kwartalne'!C158","v":0},{"$f":"'Rozliczenie kwartalne'!D158","v":0},{"$f":"'Rozliczenie kwartalne'!E158","v":0},{"$f":"'Rozliczenie kwartalne'!F158","v":0},{"$f":"'Rozliczenie kwartalne'!G158","v":0},{"$f":"'Rozliczenie kwartalne'!H158","v":0},{"$f":"'Rozliczenie kwartalne'!I158","v":0},{"$f":"'Rozliczenie kwartalne'!J158","v":0},{"$f":"'Rozliczenie kwartalne'!K158","v":0},{"$f":"'Rozliczenie kwartalne'!L158","v":0},{"$f":"'Załącznik nr 1 do rozliczenia'!D155","v":0},{"$f":"'Załącznik nr 1 do rozliczenia'!F155","v":0},{"$f":"'Załącznik nr 1 do rozliczenia'!H155","v":0},{"$f":"'Załącznik nr 2 do rozliczenia'!D151","v":0},{"$f":"'Załącznik nr 2 do rozliczenia'!E151","v":0},{"$f":"'Załącznik nr 2 do rozliczenia'!F151","v":0},{"$f":"'Załącznik nr 2 do rozliczenia'!H151","v":0}]
[{"$f":"'Rozliczenie kwartalne'!A43","v":"8"},{"$f":"'Rozliczenie kwartalne'!B159","v":""},{"$f":"'Rozliczenie kwartalne'!C159","v":0},{"$f":"'Rozliczenie kwartalne'!D159","v":0},{"$f":"'Rozliczenie kwartalne'!E159","v":0},{"$f":"'Rozliczenie kwartalne'!F159","v":0},{"$f":"'Rozliczenie kwartalne'!G159","v":0},{"$f":"'Rozliczenie kwartalne'!H159","v":0},{"$f":"'Rozliczenie kwartalne'!I159","v":0},{"$f":"'Rozliczenie kwartalne'!J159","v":0},{"$f":"'Rozliczenie kwartalne'!K159","v":0},{"$f":"'Rozliczenie kwartalne'!L159","v":0},{"$f":"'Załącznik nr 1 do rozliczenia'!D156","v":0},{"$f":"'Załącznik nr 1 do rozliczenia'!F156","v":0},{"$f":"'Załącznik nr 1 do rozliczenia'!H156","v":0},{"$f":"'Załącznik nr 2 do rozliczenia'!D152","v":0},{"$f":"'Załącznik nr 2 do rozliczenia'!E152","v":0},{"$f":"'Załącznik nr 2 do rozliczenia'!F152","v":0},{"$f":"'Załącznik nr 2 do rozliczenia'!H152","v":0}]
[{"$f":"'Rozliczenie kwartalne'!A44","v":"9"},{"$f":"'Rozliczenie kwartalne'!B160","v":""},{"$f":"'Rozliczenie kwartalne'!C160","v":0},{"$f":"'Rozliczenie kwartalne'!D160","v":0},{"$f":"'Rozliczenie kwartalne'!E160","v":0},{"$f":"'Rozliczenie kwartalne'!F160","v":0},{"$f":"'Rozliczenie kwartalne'!G160","v":0},{"$f":"'Rozliczenie kwartalne'!H160","v":0},{"$f":"'Rozliczenie kwartalne'!I160","v":0},{"$f":"'Rozliczenie kwartalne'!J160","v":0},{"$f":"'Rozliczenie kwartalne'!K160","v":0},{"$f":"'Rozliczenie kwartalne'!L160","v":0},{"$f":"'Załącznik nr 1 do rozliczenia'!D157","v":0},{"$f":"'Załącznik nr 1 do rozliczenia'!F157","v":0},{"$f":"'Załącznik nr 1 do rozliczenia'!H157","v":0},{"$f":"'Załącznik nr 2 do rozliczenia'!D153","v":0},{"$f":"'Załącznik nr 2 do rozliczenia'!E153","v":0},{"$f":"'Załącznik nr 2 do rozliczenia'!F153","v":0},{"$f":"'Załącznik nr 2 do rozliczenia'!H153","v":0}]
[{"$f":"'Rozliczenie kwartalne'!A45","v":"10"},{"$f":"'Rozliczenie kwartalne'!B161","v":""},{"$f":"'Rozliczenie kwartalne'!C161","v":0},{"$f":"'Rozliczenie kwartalne'!D161","v":0},{"$f":"'Rozliczenie kwartalne'!E161","v":0},{"$f":"'Rozliczenie kwartalne'!F161","v":0},{"$f":"'Rozliczenie kwartalne'!G161","v":0},{"$f":"'Rozliczenie kwartalne'!H161","v":0},{"$f":"'Rozliczenie kwartalne'!I161","v":0},{"$f":"'Rozliczenie kwartalne'!J161","v":0},{"$f":"'Rozliczenie kwartalne'!K161","v":0},{"$f":"'Rozliczenie kwartalne'!L161","v":0},{"$f":"'Załącznik nr 1 do rozliczenia'!D158","v":0},{"$f":"'Załącznik nr 1 do rozliczenia'!F158","v":0},{"$f":"'Załącznik nr 1 do rozliczenia'!H158","v":0},{"$f":"'Załącznik nr 2 do rozliczenia'!D154","v":0},{"$f":"'Załącznik nr 2 do rozliczenia'!E154","v":0},{"$f":"'Załącznik nr 2 do rozliczenia'!F154","v":0},{"$f":"'Załącznik nr 2 do rozliczenia'!H154","v":0}]
[{"$f":"'Rozliczenie kwartalne'!A46","v":"11"},{"$f":"'Rozliczenie kwartalne'!B162","v":""},{"$f":"'Rozliczenie kwartalne'!C162","v":0},{"$f":"'Rozliczenie kwartalne'!D162","v":0},{"$f":"'Rozliczenie kwartalne'!E162","v":0},{"$f":"'Rozliczenie kwartalne'!F162","v":0},{"$f":"'Rozliczenie kwartalne'!G162","v":0},{"$f":"'Rozliczenie kwartalne'!H162","v":0},{"$f":"'Rozliczenie kwartalne'!I162","v":0},{"$f":"'Rozliczenie kwartalne'!J162","v":0},{"$f":"'Rozliczenie kwartalne'!K162","v":0},{"$f":"'Rozliczenie kwartalne'!L162","v":0},{"$f":"'Załącznik nr 1 do rozliczenia'!D159","v":0},{"$f":"'Załącznik nr 1 do rozliczenia'!F159","v":0},{"$f":"'Załącznik nr 1 do rozliczenia'!H159","v":0},{"$f":"'Załącznik nr 2 do rozliczenia'!D155","v":0},{"$f":"'Załącznik nr 2 do rozliczenia'!E155","v":0},{"$f":"'Załącznik nr 2 do rozliczenia'!F155","v":0},{"$f":"'Załącznik nr 2 do rozliczenia'!H155","v":0}]
[{"$f":"'Rozliczenie kwartalne'!A47","v":"12"},{"$f":"'Rozliczenie kwartalne'!B163","v":""},{"$f":"'Rozliczenie kwartalne'!C163","v":0},{"$f":"'Rozliczenie kwartalne'!D163","v":0},{"$f":"'Rozliczenie kwartalne'!E163","v":0},{"$f":"'Rozliczenie kwartalne'!F163","v":0},{"$f":"'Rozliczenie kwartalne'!G163","v":0},{"$f":"'Rozliczenie kwartalne'!H163","v":0},{"$f":"'Rozliczenie kwartalne'!I163","v":0},{"$f":"'Rozliczenie kwartalne'!J163","v":0},{"$f":"'Rozliczenie kwartalne'!K163","v":0},{"$f":"'Rozliczenie kwartalne'!L163","v":0},{"$f":"'Załącznik nr 1 do rozliczenia'!D160","v":0},{"$f":"'Załącznik nr 1 do rozliczenia'!F160","v":0},{"$f":"'Załącznik nr 1 do rozliczenia'!H160","v":0},{"$f":"'Załącznik nr 2 do rozliczenia'!D156","v":0},{"$f":"'Załącznik nr 2 do rozliczenia'!E156","v":0},{"$f":"'Załącznik nr 2 do rozliczenia'!F156","v":0},{"$f":"'Załącznik nr 2 do rozliczenia'!H156","v":0}]
[{"$f":"'Rozliczenie kwartalne'!A48","v":"13"},{"$f":"'Rozliczenie kwartalne'!B164","v":""},{"$f":"'Rozliczenie kwartalne'!C164","v":0},{"$f":"'Rozliczenie kwartalne'!D164","v":0},{"$f":"'Rozliczenie kwartalne'!E164","v":0},{"$f":"'Rozliczenie kwartalne'!F164","v":0},{"$f":"'Rozliczenie kwartalne'!G164","v":0},{"$f":"'Rozliczenie kwartalne'!H164","v":0},{"$f":"'Rozliczenie kwartalne'!I164","v":0},{"$f":"'Rozliczenie kwartalne'!J164","v":0},{"$f":"'Rozliczenie kwartalne'!K164","v":0},{"$f":"'Rozliczenie kwartalne'!L164","v":0},{"$f":"'Załącznik nr 1 do rozliczenia'!D161","v":0},{"$f":"'Załącznik nr 1 do rozliczenia'!F161","v":0},{"$f":"'Załącznik nr 1 do rozliczenia'!H161","v":0},{"$f":"'Załącznik nr 2 do rozliczenia'!D157","v":0},{"$f":"'Załącznik nr 2 do rozliczenia'!E157","v":0},{"$f":"'Załącznik nr 2 do rozliczenia'!F157","v":0},{"$f":"'Załącznik nr 2 do rozliczenia'!H157","v":0}]
[{"$f":"'Rozliczenie kwartalne'!A49","v":"14"},{"$f":"'Rozliczenie kwartalne'!B165","v":""},{"$f":"'Rozliczenie kwartalne'!C165","v":0},{"$f":"'Rozliczenie kwartalne'!D165","v":0},{"$f":"'Rozliczenie kwartalne'!E165","v":0},{"$f":"'Rozliczenie kwartalne'!F165","v":0},{"$f":"'Rozliczenie kwartalne'!G165","v":0},{"$f":"'Rozliczenie kwartalne'!H165","v":0},{"$f":"'Rozliczenie kwartalne'!I165","v":0},{"$f":"'Rozliczenie kwartalne'!J165","v":0},{"$f":"'Rozliczenie kwartalne'!K165","v":0},{"$f":"'Rozliczenie kwartalne'!L165","v":0},{"$f":"'Załącznik nr 1 do rozliczenia'!D162","v":0},{"$f":"'Załącznik nr 1 do rozliczenia'!F162","v":0},{"$f":"'Załącznik nr 1 do rozliczenia'!H162","v":0},{"$f":"'Załącznik nr 2 do rozliczenia'!D158","v":0},{"$f":"'Załącznik nr 2 do rozliczenia'!E158","v":0},{"$f":"'Załącznik nr 2 do rozliczenia'!F158","v":0},{"$f":"'Załącznik nr 2 do rozliczenia'!H158","v":0}]
[{"$f":"'Rozliczenie kwartalne'!A50","v":"15"},{"$f":"'Rozliczenie kwartalne'!B166","v":""},{"$f":"'Rozliczenie kwartalne'!C166","v":0},{"$f":"'Rozliczenie kwartalne'!D166","v":0},{"$f":"'Rozliczenie kwartalne'!E166","v":0},{"$f":"'Rozliczenie kwartalne'!F166","v":0},{"$f":"'Rozliczenie kwartalne'!G166","v":0},{"$f":"'Rozliczenie kwartalne'!H166","v":0},{"$f":"'Rozliczenie kwartalne'!I166","v":0},{"$f":"'Rozliczenie kwartalne'!J166","v":0},{"$f":"'Rozliczenie kwartalne'!K166","v":0},{"$f":"'Rozliczenie kwartalne'!L166","v":0},{"$f":"'Załącznik nr 1 do rozliczenia'!D163","v":0},{"$f":"'Załącznik nr 1 do rozliczenia'!F163","v":0},{"$f":"'Załącznik nr 1 do rozliczenia'!H163","v":0},{"$f":"'Załącznik nr 2 do rozliczenia'!D159","v":0},{"$f":"'Załącznik nr 2 do rozliczenia'!E159","v":0},{"$f":"'Załącznik nr 2 do rozliczenia'!F159","v":0},{"$f":"'Załącznik nr 2 do rozliczenia'!H159","v":0}]
[{"$f":"'Rozliczenie kwartalne'!A51","v":"16"},{"$f":"'Rozliczenie kwartalne'!B167","v":""},{"$f":"'Rozliczenie kwartalne'!C167","v":0},{"$f":"'Rozliczenie kwartalne'!D167","v":0},{"$f":"'Rozliczenie kwartalne'!E167","v":0},{"$f":"'Rozliczenie kwartalne'!F167","v":0},{"$f":"'Rozliczenie kwartalne'!G167","v":0},{"$f":"'Rozliczenie kwartalne'!H167","v":0},{"$f":"'Rozliczenie kwartalne'!I167","v":0},{"$f":"'Rozliczenie kwartalne'!J167","v":0},{"$f":"'Rozliczenie kwartalne'!K167","v":0},{"$f":"'Rozliczenie kwartalne'!L167","v":0},{"$f":"'Załącznik nr 1 do rozliczenia'!D164","v":0},{"$f":"'Załącznik nr 1 do rozliczenia'!F164","v":0},{"$f":"'Załącznik nr 1 do rozliczenia'!H164","v":0},{"$f":"'Załącznik nr 2 do rozliczenia'!D160","v":0},{"$f":"'Załącznik nr 2 do rozliczenia'!E160","v":0},{"$f":"'Załącznik nr 2 do rozliczenia'!F160","v":0},{"$f":"'Załącznik nr 2 do rozliczenia'!H160","v":0}]
[{"$f":"'Rozliczenie kwartalne'!A52","v":"17"},{"$f":"'Rozliczenie kwartalne'!B168","v":""},{"$f":"'Rozliczenie kwartalne'!C168","v":0},{"$f":"'Rozliczenie kwartalne'!D168","v":0},{"$f":"'Rozliczenie kwartalne'!E168","v":0},{"$f":"'Rozliczenie kwartalne'!F168","v":0},{"$f":"'Rozliczenie kwartalne'!G168","v":0},{"$f":"'Rozliczenie kwartalne'!H168","v":0},{"$f":"'Rozliczenie kwartalne'!I168","v":0},{"$f":"'Rozliczenie kwartalne'!J168","v":0},{"$f":"'Rozliczenie kwartalne'!K168","v":0},{"$f":"'Rozliczenie kwartalne'!L168","v":0},{"$f":"'Załącznik nr 1 do rozliczenia'!D165","v":0},{"$f":"'Załącznik nr 1 do rozliczenia'!F165","v":0},{"$f":"'Załącznik nr 1 do rozliczenia'!H165","v":0},{"$f":"'Załącznik nr 2 do rozliczenia'!D161","v":0},{"$f":"'Załącznik nr 2 do rozliczenia'!E161","v":0},{"$f":"'Załącznik nr 2 do rozliczenia'!F161","v":0},{"$f":"'Załącznik nr 2 do rozliczenia'!H161","v":0}]
[{"$f":"'Rozliczenie kwartalne'!A53","v":"18"},{"$f":"'Rozliczenie kwartalne'!B169","v":""},{"$f":"'Rozliczenie kwartalne'!C169","v":0},{"$f":"'Rozliczenie kwartalne'!D169","v":0},{"$f":"'Rozliczenie kwartalne'!E169","v":0},{"$f":"'Rozliczenie kwartalne'!F169","v":0},{"$f":"'Rozliczenie kwartalne'!G169","v":0},{"$f":"'Rozliczenie kwartalne'!H169","v":0},{"$f":"'Rozliczenie kwartalne'!I169","v":0},{"$f":"'Rozliczenie kwartalne'!J169","v":0},{"$f":"'Rozliczenie kwartalne'!K169","v":0},{"$f":"'Rozliczenie kwartalne'!L169","v":0},{"$f":"'Załącznik nr 1 do rozliczenia'!D166","v":0},{"$f":"'Załącznik nr 1 do rozliczenia'!F166","v":0},{"$f":"'Załącznik nr 1 do rozliczenia'!H166","v":0},{"$f":"'Załącznik nr 2 do rozliczenia'!D162","v":0},{"$f":"'Załącznik nr 2 do rozliczenia'!E162","v":0},{"$f":"'Załącznik nr 2 do rozliczenia'!F162","v":0},{"$f":"'Załącznik nr 2 do rozliczenia'!H162","v":0}]
[{"$f":"'Rozliczenie kwartalne'!A54","v":"19"},{"$f":"'Rozliczenie kwartalne'!B170","v":""},{"$f":"'Rozliczenie kwartalne'!C170","v":0},{"$f":"'Rozliczenie kwartalne'!D170","v":0},{"$f":"'Rozliczenie kwartalne'!E170","v":0},{"$f":"'Rozliczenie kwartalne'!F170","v":0},{"$f":"'Rozliczenie kwartalne'!G170","v":0},{"$f":"'Rozliczenie kwartalne'!H170","v":0},{"$f":"'Rozliczenie kwartalne'!I170","v":0},{"$f":"'Rozliczenie kwartalne'!J170","v":0},{"$f":"'Rozliczenie kwartalne'!K170","v":0},{"$f":"'Rozliczenie kwartalne'!L170","v":0},{"$f":"'Załącznik nr 1 do rozliczenia'!D167","v":0},{"$f":"'Załącznik nr 1 do rozliczenia'!F167","v":0},{"$f":"'Załącznik nr 1 do rozliczenia'!H167","v":0},{"$f":"'Załącznik nr 2 do rozliczenia'!D163","v":0},{"$f":"'Załącznik nr 2 do rozliczenia'!E163","v":0},{"$f":"'Załącznik nr 2 do rozliczenia'!F163","v":0},{"$f":"'Załącznik nr 2 do rozliczenia'!H163","v":0}]
[{"$f":"'Rozliczenie kwartalne'!A55","v":"20"},{"$f":"'Rozliczenie kwartalne'!B171","v":""},{"$f":"'Rozliczenie kwartalne'!C171","v":0},{"$f":"'Rozliczenie kwartalne'!D171","v":0},{"$f":"'Rozliczenie kwartalne'!E171","v":0},{"$f":"'Rozliczenie kwartalne'!F171","v":0},{"$f":"'Rozliczenie kwartalne'!G171","v":0},{"$f":"'Rozliczenie kwartalne'!H171","v":0},{"$f":"'Rozliczenie kwartalne'!I171","v":0},{"$f":"'Rozliczenie kwartalne'!J171","v":0},{"$f":"'Rozliczenie kwartalne'!K171","v":0},{"$f":"'Rozliczenie kwartalne'!L171","v":0},{"$f":"'Załącznik nr 1 do rozliczenia'!D168","v":0},{"$f":"'Załącznik nr 1 do rozliczenia'!F168","v":0},{"$f":"'Załącznik nr 1 do rozliczenia'!H168","v":0},{"$f":"'Załącznik nr 2 do rozliczenia'!D164","v":0},{"$f":"'Załącznik nr 2 do rozliczenia'!E164","v":0},{"$f":"'Załącznik nr 2 do rozliczenia'!F164","v":0},{"$f":"'Załącznik nr 2 do rozliczenia'!H164","v":0}]
[{"$f":"'Rozliczenie kwartalne'!A56","v":"21"},{"$f":"'Rozliczenie kwartalne'!B172","v":""},{"$f":"'Rozliczenie kwartalne'!C172","v":0},{"$f":"'Rozliczenie kwartalne'!D172","v":0},{"$f":"'Rozliczenie kwartalne'!E172","v":0},{"$f":"'Rozliczenie kwartalne'!F172","v":0},{"$f":"'Rozliczenie kwartalne'!G172","v":0},{"$f":"'Rozliczenie kwartalne'!H172","v":0},{"$f":"'Rozliczenie kwartalne'!I172","v":0},{"$f":"'Rozliczenie kwartalne'!J172","v":0},{"$f":"'Rozliczenie kwartalne'!K172","v":0},{"$f":"'Rozliczenie kwartalne'!L172","v":0},{"$f":"'Załącznik nr 1 do rozliczenia'!D169","v":0},{"$f":"'Załącznik nr 1 do rozliczenia'!F169","v":0},{"$f":"'Załącznik nr 1 do rozliczenia'!H169","v":0},{"$f":"'Załącznik nr 2 do rozliczenia'!D165","v":0},{"$f":"'Załącznik nr 2 do rozliczenia'!E165","v":0},{"$f":"'Załącznik nr 2 do rozliczenia'!F165","v":0},{"$f":"'Załącznik nr 2 do rozliczenia'!H165","v":0}]
[{"$f":"'Rozliczenie kwartalne'!A57","v":"22"},{"$f":"'Rozliczenie kwartalne'!B173","v":""},{"$f":"'Rozliczenie kwartalne'!C173","v":0},{"$f":"'Rozliczenie kwartalne'!D173","v":0},{"$f":"'Rozliczenie kwartalne'!E173","v":0},{"$f":"'Rozliczenie kwartalne'!F173","v":0},{"$f":"'Rozliczenie kwartalne'!G173","v":0},{"$f":"'Rozliczenie kwartalne'!H173","v":0},{"$f":"'Rozliczenie kwartalne'!I173","v":0},{"$f":"'Rozliczenie kwartalne'!J173","v":0},{"$f":"'Rozliczenie kwartalne'!K173","v":0},{"$f":"'Rozliczenie kwartalne'!L173","v":0},{"$f":"'Załącznik nr 1 do rozliczenia'!D170","v":0},{"$f":"'Załącznik nr 1 do rozliczenia'!F170","v":0},{"$f":"'Załącznik nr 1 do rozliczenia'!H170","v":0},{"$f":"'Załącznik nr 2 do rozliczenia'!D166","v":0},{"$f":"'Załącznik nr 2 do rozliczenia'!E166","v":0},{"$f":"'Załącznik nr 2 do rozliczenia'!F166","v":0},{"$f":"'Załącznik nr 2 do rozliczenia'!H166","v":0}]
[{"$f":"'Rozliczenie kwartalne'!A58","v":"23"},{"$f":"'Rozliczenie kwartalne'!B174","v":""},{"$f":"'Rozliczenie kwartalne'!C174","v":0},{"$f":"'Rozliczenie kwartalne'!D174","v":0},{"$f":"'Rozliczenie kwartalne'!E174","v":0},{"$f":"'Rozliczenie kwartalne'!F174","v":0},{"$f":"'Rozliczenie kwartalne'!G174","v":0},{"$f":"'Rozliczenie kwartalne'!H174","v":0},{"$f":"'Rozliczenie kwartalne'!I174","v":0},{"$f":"'Rozliczenie kwartalne'!J174","v":0},{"$f":"'Rozliczenie kwartalne'!K174","v":0},{"$f":"'Rozliczenie kwartalne'!L174","v":0},{"$f":"'Załącznik nr 1 do rozliczenia'!D171","v":0},{"$f":"'Załącznik nr 1 do rozliczenia'!F171","v":0},{"$f":"'Załącznik nr 1 do rozliczenia'!H171","v":0},{"$f":"'Załącznik nr 2 do rozliczenia'!D167","v":0},{"$f":"'Załącznik nr 2 do rozliczenia'!E167","v":0},{"$f":"'Załącznik nr 2 do rozliczenia'!F167","v":0},{"$f":"'Załącznik nr 2 do rozliczenia'!H167","v":0}]
[{"$f":"'Rozliczenie kwartalne'!A59","v":"24"},{"$f":"'Rozliczenie kwartalne'!B175","v":""},{"$f":"'Rozliczenie kwartalne'!C175","v":0},{"$f":"'Rozliczenie kwartalne'!D175","v":0},{"$f":"'Rozliczenie kwartalne'!E175","v":0},{"$f":"'Rozliczenie kwartalne'!F175","v":0},{"$f":"'Rozliczenie kwartalne'!G175","v":0},{"$f":"'Rozliczenie kwartalne'!H175","v":0},{"$f":"'Rozliczenie kwartalne'!I175","v":0},{"$f":"'Rozliczenie kwartalne'!J175","v":0},{"$f":"'Rozliczenie kwartalne'!K175","v":0},{"$f":"'Rozliczenie kwartalne'!L175","v":0},{"$f":"'Załącznik nr 1 do rozliczenia'!D172","v":0},{"$f":"'Załącznik nr 1 do rozliczenia'!F172","v":0},{"$f":"'Załącznik nr 1 do rozliczenia'!H172","v":0},{"$f":"'Załącznik nr 2 do rozliczenia'!D168","v":0},{"$f":"'Załącznik nr 2 do rozliczenia'!E168","v":0},{"$f":"'Załącznik nr 2 do rozliczenia'!F168","v":0},{"$f":"'Załącznik nr 2 do rozliczenia'!H168","v":0}]
[{"$f":"'Rozliczenie kwartalne'!A60","v":"25"},{"$f":"'Rozliczenie kwartalne'!B176","v":""},{"$f":"'Rozliczenie kwartalne'!C176","v":0},{"$f":"'Rozliczenie kwartalne'!D176","v":0},{"$f":"'Rozliczenie kwartalne'!E176","v":0},{"$f":"'Rozliczenie kwartalne'!F176","v":0},{"$f":"'Rozliczenie kwartalne'!G176","v":0},{"$f":"'Rozliczenie kwartalne'!H176","v":0},{"$f":"'Rozliczenie kwartalne'!I176","v":0},{"$f":"'Rozliczenie kwartalne'!J176","v":0},{"$f":"'Rozliczenie kwartalne'!K176","v":0},{"$f":"'Rozliczenie kwartalne'!L176","v":0},{"$f":"'Załącznik nr 1 do rozliczenia'!D173","v":0},{"$f":"'Załącznik nr 1 do rozliczenia'!F173","v":0},{"$f":"'Załącznik nr 1 do rozliczenia'!H173","v":0},{"$f":"'Załącznik nr 2 do rozliczenia'!D169","v":0},{"$f":"'Załącznik nr 2 do rozliczenia'!E169","v":0},{"$f":"'Załącznik nr 2 do rozliczenia'!F169","v":0},{"$f":"'Załącznik nr 2 do rozliczenia'!H169","v":0}]
[{"$f":"'Rozliczenie kwartalne'!A61","v":"26"},{"$f":"'Rozliczenie kwartalne'!B177","v":""},{"$f":"'Rozliczenie kwartalne'!C177","v":0},{"$f":"'Rozliczenie kwartalne'!D177","v":0},{"$f":"'Rozliczenie kwartalne'!E177","v":0},{"$f":"'Rozliczenie kwartalne'!F177","v":0},{"$f":"'Rozliczenie kwartalne'!G177","v":0},{"$f":"'Rozliczenie kwartalne'!H177","v":0},{"$f":"'Rozliczenie kwartalne'!I177","v":0},{"$f":"'Rozliczenie kwartalne'!J177","v":0},{"$f":"'Rozliczenie kwartalne'!K177","v":0},{"$f":"'Rozliczenie kwartalne'!L177","v":0},{"$f":"'Załącznik nr 1 do rozliczenia'!D174","v":0},{"$f":"'Załącznik nr 1 do rozliczenia'!F174","v":0},{"$f":"'Załącznik nr 1 do rozliczenia'!H174","v":0},{"$f":"'Załącznik nr 2 do rozliczenia'!D170","v":0},{"$f":"'Załącznik nr 2 do rozliczenia'!E170","v":0},{"$f":"'Załącznik nr 2 do rozliczenia'!F170","v":0},{"$f":"'Załącznik nr 2 do rozliczenia'!H170","v":0}]
[{"$f":"'Rozliczenie kwartalne'!A62","v":"27"},{"$f":"'Rozliczenie kwartalne'!B178","v":""},{"$f":"'Rozliczenie kwartalne'!C178","v":0},{"$f":"'Rozliczenie kwartalne'!D178","v":0},{"$f":"'Rozliczenie kwartalne'!E178","v":0},{"$f":"'Rozliczenie kwartalne'!F178","v":0},{"$f":"'Rozliczenie kwartalne'!G178","v":0},{"$f":"'Rozliczenie kwartalne'!H178","v":0},{"$f":"'Rozliczenie kwartalne'!I178","v":0},{"$f":"'Rozliczenie kwartalne'!J178","v":0},{"$f":"'Rozliczenie kwartalne'!K178","v":0},{"$f":"'Rozliczenie kwartalne'!L178","v":0},{"$f":"'Załącznik nr 1 do rozliczenia'!D175","v":0},{"$f":"'Załącznik nr 1 do rozliczenia'!F175","v":0},{"$f":"'Załącznik nr 1 do rozliczenia'!H175","v":0},{"$f":"'Załącznik nr 2 do rozliczenia'!D171","v":0},{"$f":"'Załącznik nr 2 do rozliczenia'!E171","v":0},{"$f":"'Załącznik nr 2 do rozliczenia'!F171","v":0},{"$f":"'Załącznik nr 2 do rozliczenia'!H171","v":0}]
[{"$f":"'Rozliczenie kwartalne'!A63","v":"28"},{"$f":"'Rozliczenie kwartalne'!B179","v":""},{"$f":"'Rozliczenie kwartalne'!C179","v":0},{"$f":"'Rozliczenie kwartalne'!D179","v":0},{"$f":"'Rozliczenie kwartalne'!E179","v":0},{"$f":"'Rozliczenie kwartalne'!F179","v":0},{"$f":"'Rozliczenie kwartalne'!G179","v":0},{"$f":"'Rozliczenie kwartalne'!H179","v":0},{"$f":"'Rozliczenie kwartalne'!I179","v":0},{"$f":"'Rozliczenie kwartalne'!J179","v":0},{"$f":"'Rozliczenie kwartalne'!K179","v":0},{"$f":"'Rozliczenie kwartalne'!L179","v":0},{"$f":"'Załącznik nr 1 do rozliczenia'!D176","v":0},{"$f":"'Załącznik nr 1 do rozliczenia'!F176","v":0},{"$f":"'Załącznik nr 1 do rozliczenia'!H176","v":0},{"$f":"'Załącznik nr 2 do rozliczenia'!D172","v":0},{"$f":"'Załącznik nr 2 do rozliczenia'!E172","v":0},{"$f":"'Załącznik nr 2 do rozliczenia'!F172","v":0},{"$f":"'Załącznik nr 2 do rozliczenia'!H172","v":0}]
[{"$f":"'Rozliczenie kwartalne'!A64","v":"29"},{"$f":"'Rozliczenie kwartalne'!B180","v":""},{"$f":"'Rozliczenie kwartalne'!C180","v":0},{"$f":"'Rozliczenie kwartalne'!D180","v":0},{"$f":"'Rozliczenie kwartalne'!E180","v":0},{"$f":"'Rozliczenie kwartalne'!F180","v":0},{"$f":"'Rozliczenie kwartalne'!G180","v":0},{"$f":"'Rozliczenie kwartalne'!H180","v":0},{"$f":"'Rozliczenie kwartalne'!I180","v":0},{"$f":"'Rozliczenie kwartalne'!J180","v":0},{"$f":"'Rozliczenie kwartalne'!K180","v":0},{"$f":"'Rozliczenie kwartalne'!L180","v":0},{"$f":"'Załącznik nr 1 do rozliczenia'!D177","v":0},{"$f":"'Załącznik nr 1 do rozliczenia'!F177","v":0},{"$f":"'Załącznik nr 1 do rozliczenia'!H177","v":0},{"$f":"'Załącznik nr 2 do rozliczenia'!D173","v":0},{"$f":"'Załącznik nr 2 do rozliczenia'!E173","v":0},{"$f":"'Załącznik nr 2 do rozliczenia'!F173","v":0},{"$f":"'Załącznik nr 2 do rozliczenia'!H173","v":0}]
[{"$f":"'Rozliczenie kwartalne'!A65","v":"30"},{"$f":"'Rozliczenie kwartalne'!B181","v":""},{"$f":"'Rozliczenie kwartalne'!C181","v":0},{"$f":"'Rozliczenie kwartalne'!D181","v":0},{"$f":"'Rozliczenie kwartalne'!E181","v":0},{"$f":"'Rozliczenie kwartalne'!F181","v":0},{"$f":"'Rozliczenie kwartalne'!G181","v":0},{"$f":"'Rozliczenie kwartalne'!H181","v":0},{"$f":"'Rozliczenie kwartalne'!I181","v":0},{"$f":"'Rozliczenie kwartalne'!J181","v":0},{"$f":"'Rozliczenie kwartalne'!K181","v":0},{"$f":"'Rozliczenie kwartalne'!L181","v":0},{"$f":"'Załącznik nr 1 do rozliczenia'!D178","v":0},{"$f":"'Załącznik nr 1 do rozliczenia'!F178","v":0},{"$f":"'Załącznik nr 1 do rozliczenia'!H178","v":0},{"$f":"'Załącznik nr 2 do rozliczenia'!D174","v":0},{"$f":"'Załącznik nr 2 do rozliczenia'!E174","v":0},{"$f":"'Załącznik nr 2 do rozliczenia'!F174","v":0},{"$f":"'Załącznik nr 2 do rozliczenia'!H174","v":0}]
[{"$f":"'Rozliczenie kwartalne'!A66","v":"31"},{"$f":"'Rozliczenie kwartalne'!B182","v":""},{"$f":"'Rozliczenie kwartalne'!C182","v":0},{"$f":"'Rozliczenie kwartalne'!D182","v":0},{"$f":"'Rozliczenie kwartalne'!E182","v":0},{"$f":"'Rozliczenie kwartalne'!F182","v":0},{"$f":"'Rozliczenie kwartalne'!G182","v":0},{"$f":"'Rozliczenie kwartalne'!H182","v":0},{"$f":"'Rozliczenie kwartalne'!I182","v":0},{"$f":"'Rozliczenie kwartalne'!J182","v":0},{"$f":"'Rozliczenie kwartalne'!K182","v":0},{"$f":"'Rozliczenie kwartalne'!L182","v":0},{"$f":"'Załącznik nr 1 do rozliczenia'!D179","v":0},{"$f":"'Załącznik nr 1 do rozliczenia'!F179","v":0},{"$f":"'Załącznik nr 1 do rozliczenia'!H179","v":0},{"$f":"'Załącznik nr 2 do rozliczenia'!D175","v":0},{"$f":"'Załącznik nr 2 do rozliczenia'!E175","v":0},{"$f":"'Załącznik nr 2 do rozliczenia'!F175","v":0},{"$f":"'Załącznik nr 2 do rozliczenia'!H175","v":0}]
[{"$f":"'Rozliczenie kwartalne'!A67","v":"32"},{"$f":"'Rozliczenie kwartalne'!B183","v":""},{"$f":"'Rozliczenie kwartalne'!C183","v":0},{"$f":"'Rozliczenie kwartalne'!D183","v":0},{"$f":"'Rozliczenie kwartalne'!E183","v":0},{"$f":"'Rozliczenie kwartalne'!F183","v":0},{"$f":"'Rozliczenie kwartalne'!G183","v":0},{"$f":"'Rozliczenie kwartalne'!H183","v":0},{"$f":"'Rozliczenie kwartalne'!I183","v":0},{"$f":"'Rozliczenie kwartalne'!J183","v":0},{"$f":"'Rozliczenie kwartalne'!K183","v":0},{"$f":"'Rozliczenie kwartalne'!L183","v":0},{"$f":"'Załącznik nr 1 do rozliczenia'!D180","v":0},{"$f":"'Załącznik nr 1 do rozliczenia'!F180","v":0},{"$f":"'Załącznik nr 1 do rozliczenia'!H180","v":0},{"$f":"'Załącznik nr 2 do rozliczenia'!D176","v":0},{"$f":"'Załącznik nr 2 do rozliczenia'!E176","v":0},{"$f":"'Załącznik nr 2 do rozliczenia'!F176","v":0},{"$f":"'Załącznik nr 2 do rozliczenia'!H176","v":0}]
[{"$f":"'Rozliczenie kwartalne'!A68","v":"33"},{"$f":"'Rozliczenie kwartalne'!B184","v":""},{"$f":"'Rozliczenie kwartalne'!C184","v":0},{"$f":"'Rozliczenie kwartalne'!D184","v":0},{"$f":"'Rozliczenie kwartalne'!E184","v":0},{"$f":"'Rozliczenie kwartalne'!F184","v":0},{"$f":"'Rozliczenie kwartalne'!G184","v":0},{"$f":"'Rozliczenie kwartalne'!H184","v":0},{"$f":"'Rozliczenie kwartalne'!I184","v":0},{"$f":"'Rozliczenie kwartalne'!J184","v":0},{"$f":"'Rozliczenie kwartalne'!K184","v":0},{"$f":"'Rozliczenie kwartalne'!L184","v":0},{"$f":"'Załącznik nr 1 do rozliczenia'!D181","v":0},{"$f":"'Załącznik nr 1 do rozliczenia'!F181","v":0},{"$f":"'Załącznik nr 1 do rozliczenia'!H181","v":0},{"$f":"'Załącznik nr 2 do rozliczenia'!D177","v":0},{"$f":"'Załącznik nr 2 do rozliczenia'!E177","v":0},{"$f":"'Załącznik nr 2 do rozliczenia'!F177","v":0},{"$f":"'Załącznik nr 2 do rozliczenia'!H177","v":0}]
[{"$f":"'Rozliczenie kwartalne'!A69","v":"34"},{"$f":"'Rozliczenie kwartalne'!B185","v":""},{"$f":"'Rozliczenie kwartalne'!C185","v":0},{"$f":"'Rozliczenie kwartalne'!D185","v":0},{"$f":"'Rozliczenie kwartalne'!E185","v":0},{"$f":"'Rozliczenie kwartalne'!F185","v":0},{"$f":"'Rozliczenie kwartalne'!G185","v":0},{"$f":"'Rozliczenie kwartalne'!H185","v":0},{"$f":"'Rozliczenie kwartalne'!I185","v":0},{"$f":"'Rozliczenie kwartalne'!J185","v":0},{"$f":"'Rozliczenie kwartalne'!K185","v":0},{"$f":"'Rozliczenie kwartalne'!L185","v":0},{"$f":"'Załącznik nr 1 do rozliczenia'!D182","v":0},{"$f":"'Załącznik nr 1 do rozliczenia'!F182","v":0},{"$f":"'Załącznik nr 1 do rozliczenia'!H182","v":0},{"$f":"'Załącznik nr 2 do rozliczenia'!D178","v":0},{"$f":"'Załącznik nr 2 do rozliczenia'!E178","v":0},{"$f":"'Załącznik nr 2 do rozliczenia'!F178","v":0},{"$f":"'Załącznik nr 2 do rozliczenia'!H178","v":0}]
[{"$f":"'Rozliczenie kwartalne'!A70","v":"35"},{"$f":"'Rozliczenie kwartalne'!B186","v":""},{"$f":"'Rozliczenie kwartalne'!C186","v":0},{"$f":"'Rozliczenie kwartalne'!D186","v":0},{"$f":"'Rozliczenie kwartalne'!E186","v":0},{"$f":"'Rozliczenie kwartalne'!F186","v":0},{"$f":"'Rozliczenie kwartalne'!G186","v":0},{"$f":"'Rozliczenie kwartalne'!H186","v":0},{"$f":"'Rozliczenie kwartalne'!I186","v":0},{"$f":"'Rozliczenie kwartalne'!J186","v":0},{"$f":"'Rozliczenie kwartalne'!K186","v":0},{"$f":"'Rozliczenie kwartalne'!L186","v":0},{"$f":"'Załącznik nr 1 do rozliczenia'!D183","v":0},{"$f":"'Załącznik nr 1 do rozliczenia'!F183","v":0},{"$f":"'Załącznik nr 1 do rozliczenia'!H183","v":0},{"$f":"'Załącznik nr 2 do rozliczenia'!D179","v":0},{"$f":"'Załącznik nr 2 do rozliczenia'!E179","v":0},{"$f":"'Załącznik nr 2 do rozliczenia'!F179","v":0},{"$f":"'Załącznik nr 2 do rozliczenia'!H179","v":0}]
[{"$f":"'Rozliczenie kwartalne'!A71","v":"36"},{"$f":"'Rozliczenie kwartalne'!B187","v":""},{"$f":"'Rozliczenie kwartalne'!C187","v":0},{"$f":"'Rozliczenie kwartalne'!D187","v":0},{"$f":"'Rozliczenie kwartalne'!E187","v":0},{"$f":"'Rozliczenie kwartalne'!F187","v":0},{"$f":"'Rozliczenie kwartalne'!G187","v":0},{"$f":"'Rozliczenie kwartalne'!H187","v":0},{"$f":"'Rozliczenie kwartalne'!I187","v":0},{"$f":"'Rozliczenie kwartalne'!J187","v":0},{"$f":"'Rozliczenie kwartalne'!K187","v":0},{"$f":"'Rozliczenie kwartalne'!L187","v":0},{"$f":"'Załącznik nr 1 do rozliczenia'!D184","v":0},{"$f":"'Załącznik nr 1 do rozliczenia'!F184","v":0},{"$f":"'Załącznik nr 1 do rozliczenia'!H184","v":0},{"$f":"'Załącznik nr 2 do rozliczenia'!D180","v":0},{"$f":"'Załącznik nr 2 do rozliczenia'!E180","v":0},{"$f":"'Załącznik nr 2 do rozliczenia'!F180","v":0},{"$f":"'Załącznik nr 2 do rozliczenia'!H180","v":0}]
[{"$f":"'Rozliczenie kwartalne'!A72","v":"37"},{"$f":"'Rozliczenie kwartalne'!B188","v":""},{"$f":"'Rozliczenie kwartalne'!C188","v":0},{"$f":"'Rozliczenie kwartalne'!D188","v":0},{"$f":"'Rozliczenie kwartalne'!E188","v":0},{"$f":"'Rozliczenie kwartalne'!F188","v":0},{"$f":"'Rozliczenie kwartalne'!G188","v":0},{"$f":"'Rozliczenie kwartalne'!H188","v":0},{"$f":"'Rozliczenie kwartalne'!I188","v":0},{"$f":"'Rozliczenie kwartalne'!J188","v":0},{"$f":"'Rozliczenie kwartalne'!K188","v":0},{"$f":"'Rozliczenie kwartalne'!L188","v":0},{"$f":"'Załącznik nr 1 do rozliczenia'!D185","v":0},{"$f":"'Załącznik nr 1 do rozliczenia'!F185","v":0},{"$f":"'Załącznik nr 1 do rozliczenia'!H185","v":0},{"$f":"'Załącznik nr 2 do rozliczenia'!D181","v":0},{"$f":"'Załącznik nr 2 do rozliczenia'!E181","v":0},{"$f":"'Załącznik nr 2 do rozliczenia'!F181","v":0},{"$f":"'Załącznik nr 2 do rozliczenia'!H181","v":0}]
[{"$f":"'Rozliczenie kwartalne'!A73","v":"38"},{"$f":"'Rozliczenie kwartalne'!B189","v":""},{"$f":"'Rozliczenie kwartalne'!C189","v":0},{"$f":"'Rozliczenie kwartalne'!D189","v":0},{"$f":"'Rozliczenie kwartalne'!E189","v":0},{"$f":"'Rozliczenie kwartalne'!F189","v":0},{"$f":"'Rozliczenie kwartalne'!G189","v":0},{"$f":"'Rozliczenie kwartalne'!H189","v":0},{"$f":"'Rozliczenie kwartalne'!I189","v":0},{"$f":"'Rozliczenie kwartalne'!J189","v":0},{"$f":"'Rozliczenie kwartalne'!K189","v":0},{"$f":"'Rozliczenie kwartalne'!L189","v":0},{"$f":"'Załącznik nr 1 do rozliczenia'!D186","v":0},{"$f":"'Załącznik nr 1 do rozliczenia'!F186","v":0},{"$f":"'Załącznik nr 1 do rozliczenia'!H186","v":0},{"$f":"'Załącznik nr 2 do rozliczenia'!D182","v":0},{"$f":"'Załącznik nr 2 do rozliczenia'!E182","v":0},{"$f":"'Załącznik nr 2 do rozliczenia'!F182","v":0},{"$f":"'Załącznik nr 2 do rozliczenia'!H182","v":0}]
[{"$f":"'Rozliczenie kwartalne'!A74","v":"39"},{"$f":"'Rozliczenie kwartalne'!B190","v":""},{"$f":"'Rozliczenie kwartalne'!C190","v":0},{"$f":"'Rozliczenie kwartalne'!D190","v":0},{"$f":"'Rozliczenie kwartalne'!E190","v":0},{"$f":"'Rozliczenie kwartalne'!F190","v":0},{"$f":"'Rozliczenie kwartalne'!G190","v":0},{"$f":"'Rozliczenie kwartalne'!H190","v":0},{"$f":"'Rozliczenie kwartalne'!I190","v":0},{"$f":"'Rozliczenie kwartalne'!J190","v":0},{"$f":"'Rozliczenie kwartalne'!K190","v":0},{"$f":"'Rozliczenie kwartalne'!L190","v":0},{"$f":"'Załącznik nr 1 do rozliczenia'!D187","v":0},{"$f":"'Załącznik nr 1 do rozliczenia'!F187","v":0},{"$f":"'Załącznik nr 1 do rozliczenia'!H187","v":0},{"$f":"'Załącznik nr 2 do rozliczenia'!D183","v":0},{"$f":"'Załącznik nr 2 do rozliczenia'!E183","v":0},{"$f":"'Załącznik nr 2 do rozliczenia'!F183","v":0},{"$f":"'Załącznik nr 2 do rozliczenia'!H183","v":0}]
[{"$f":"'Rozliczenie kwartalne'!A75","v":"40"},{"$f":"'Rozliczenie kwartalne'!B191","v":""},{"$f":"'Rozliczenie kwartalne'!C191","v":0},{"$f":"'Rozliczenie kwartalne'!D191","v":0},{"$f":"'Rozliczenie kwartalne'!E191","v":0},{"$f":"'Rozliczenie kwartalne'!F191","v":0},{"$f":"'Rozliczenie kwartalne'!G191","v":0},{"$f":"'Rozliczenie kwartalne'!H191","v":0},{"$f":"'Rozliczenie kwartalne'!I191","v":0},{"$f":"'Rozliczenie kwartalne'!J191","v":0},{"$f":"'Rozliczenie kwartalne'!K191","v":0},{"$f":"'Rozliczenie kwartalne'!L191","v":0},{"$f":"'Załącznik nr 1 do rozliczenia'!D188","v":0},{"$f":"'Załącznik nr 1 do rozliczenia'!F188","v":0},{"$f":"'Załącznik nr 1 do rozliczenia'!H188","v":0},{"$f":"'Załącznik nr 2 do rozliczenia'!D184","v":0},{"$f":"'Załącznik nr 2 do rozliczenia'!E184","v":0},{"$f":"'Załącznik nr 2 do rozliczenia'!F184","v":0},{"$f":"'Załącznik nr 2 do rozliczenia'!H184","v":0}]
[{"$f":"'Rozliczenie kwartalne'!A76","v":"41"},{"$f":"'Rozliczenie kwartalne'!B192","v":""},{"$f":"'Rozliczenie kwartalne'!C192","v":0},{"$f":"'Rozliczenie kwartalne'!D192","v":0},{"$f":"'Rozliczenie kwartalne'!E192","v":0},{"$f":"'Rozliczenie kwartalne'!F192","v":0},{"$f":"'Rozliczenie kwartalne'!G192","v":0},{"$f":"'Rozliczenie kwartalne'!H192","v":0},{"$f":"'Rozliczenie kwartalne'!I192","v":0},{"$f":"'Rozliczenie kwartalne'!J192","v":0},{"$f":"'Rozliczenie kwartalne'!K192","v":0},{"$f":"'Rozliczenie kwartalne'!L192","v":0},{"$f":"'Załącznik nr 1 do rozliczenia'!D189","v":0},{"$f":"'Załącznik nr 1 do rozliczenia'!F189","v":0},{"$f":"'Załącznik nr 1 do rozliczenia'!H189","v":0},{"$f":"'Załącznik nr 2 do rozliczenia'!D185","v":0},{"$f":"'Załącznik nr 2 do rozliczenia'!E185","v":0},{"$f":"'Załącznik nr 2 do rozliczenia'!F185","v":0},{"$f":"'Załącznik nr 2 do rozliczenia'!H185","v":0}]
[{"$f":"'Rozliczenie kwartalne'!A77","v":"42"},{"$f":"'Rozliczenie kwartalne'!B193","v":""},{"$f":"'Rozliczenie kwartalne'!C193","v":0},{"$f":"'Rozliczenie kwartalne'!D193","v":0},{"$f":"'Rozliczenie kwartalne'!E193","v":0},{"$f":"'Rozliczenie kwartalne'!F193","v":0},{"$f":"'Rozliczenie kwartalne'!G193","v":0},{"$f":"'Rozliczenie kwartalne'!H193","v":0},{"$f":"'Rozliczenie kwartalne'!I193","v":0},{"$f":"'Rozliczenie kwartalne'!J193","v":0},{"$f":"'Rozliczenie kwartalne'!K193","v":0},{"$f":"'Rozliczenie kwartalne'!L193","v":0},{"$f":"'Załącznik nr 1 do rozliczenia'!D190","v":0},{"$f":"'Załącznik nr 1 do rozliczenia'!F190","v":0},{"$f":"'Załącznik nr 1 do rozliczenia'!H190","v":0},{"$f":"'Załącznik nr 2 do rozliczenia'!D186","v":0},{"$f":"'Załącznik nr 2 do rozliczenia'!E186","v":0},{"$f":"'Załącznik nr 2 do rozliczenia'!F186","v":0},{"$f":"'Załącznik nr 2 do rozliczenia'!H186","v":0}]
[{"$f":"'Rozliczenie kwartalne'!A78","v":"43"},{"$f":"'Rozliczenie kwartalne'!B194","v":""},{"$f":"'Rozliczenie kwartalne'!C194","v":0},{"$f":"'Rozliczenie kwartalne'!D194","v":0},{"$f":"'Rozliczenie kwartalne'!E194","v":0},{"$f":"'Rozliczenie kwartalne'!F194","v":0},{"$f":"'Rozliczenie kwartalne'!G194","v":0},{"$f":"'Rozliczenie kwartalne'!H194","v":0},{"$f":"'Rozliczenie kwartalne'!I194","v":0},{"$f":"'Rozliczenie kwartalne'!J194","v":0},{"$f":"'Rozliczenie kwartalne'!K194","v":0},{"$f":"'Rozliczenie kwartalne'!L194","v":0},{"$f":"'Załącznik nr 1 do rozliczenia'!D191","v":0},{"$f":"'Załącznik nr 1 do rozliczenia'!F191","v":0},{"$f":"'Załącznik nr 1 do rozliczenia'!H191","v":0},{"$f":"'Załącznik nr 2 do rozliczenia'!D187","v":0},{"$f":"'Załącznik nr 2 do rozliczenia'!E187","v":0},{"$f":"'Załącznik nr 2 do rozliczenia'!F187","v":0},{"$f":"'Załącznik nr 2 do rozliczenia'!H187","v":0}]
[{"$f":"'Rozliczenie kwartalne'!A79","v":"44"},{"$f":"'Rozliczenie kwartalne'!B195","v":""},{"$f":"'Rozliczenie kwartalne'!C195","v":0},{"$f":"'Rozliczenie kwartalne'!D195","v":0},{"$f":"'Rozliczenie kwartalne'!E195","v":0},{"$f":"'Rozliczenie kwartalne'!F195","v":0},{"$f":"'Rozliczenie kwartalne'!G195","v":0},{"$f":"'Rozliczenie kwartalne'!H195","v":0},{"$f":"'Rozliczenie kwartalne'!I195","v":0},{"$f":"'Rozliczenie kwartalne'!J195","v":0},{"$f":"'Rozliczenie kwartalne'!K195","v":0},{"$f":"'Rozliczenie kwartalne'!L195","v":0},{"$f":"'Załącznik nr 1 do rozliczenia'!D192","v":0},{"$f":"'Załącznik nr 1 do rozliczenia'!F192","v":0},{"$f":"'Załącznik nr 1 do rozliczenia'!H192","v":0},{"$f":"'Załącznik nr 2 do rozliczenia'!D188","v":0},{"$f":"'Załącznik nr 2 do rozliczenia'!E188","v":0},{"$f":"'Załącznik nr 2 do rozliczenia'!F188","v":0},{"$f":"'Załącznik nr 2 do rozliczenia'!H188","v":0}]
[{"$f":"'Rozliczenie kwartalne'!A80","v":"45"},{"$f":"'Rozliczenie kwartalne'!B196","v":""},{"$f":"'Rozliczenie kwartalne'!C196","v":0},{"$f":"'Rozliczenie kwartalne'!D196","v":0},{"$f":"'Rozliczenie kwartalne'!E196","v":0},{"$f":"'Rozliczenie kwartalne'!F196","v":0},{"$f":"'Rozliczenie kwartalne'!G196","v":0},{"$f":"'Rozliczenie kwartalne'!H196","v":0},{"$f":"'Rozliczenie kwartalne'!I196","v":0},{"$f":"'Rozliczenie kwartalne'!J196","v":0},{"$f":"'Rozliczenie kwartalne'!K196","v":0},{"$f":"'Rozliczenie kwartalne'!L196","v":0},{"$f":"'Załącznik nr 1 do rozliczenia'!D193","v":0},{"$f":"'Załącznik nr 1 do rozliczenia'!F193","v":0},{"$f":"'Załącznik nr 1 do rozliczenia'!H193","v":0},{"$f":"'Załącznik nr 2 do rozliczenia'!D189","v":0},{"$f":"'Załącznik nr 2 do rozliczenia'!E189","v":0},{"$f":"'Załącznik nr 2 do rozliczenia'!F189","v":0},{"$f":"'Załącznik nr 2 do rozliczenia'!H189","v":0}]
[{"$f":"'Rozliczenie kwartalne'!A81","v":"46"},{"$f":"'Rozliczenie kwartalne'!B197","v":""},{"$f":"'Rozliczenie kwartalne'!C197","v":0},{"$f":"'Rozliczenie kwartalne'!D197","v":0},{"$f":"'Rozliczenie kwartalne'!E197","v":0},{"$f":"'Rozliczenie kwartalne'!F197","v":0},{"$f":"'Rozliczenie kwartalne'!G197","v":0},{"$f":"'Rozliczenie kwartalne'!H197","v":0},{"$f":"'Rozliczenie kwartalne'!I197","v":0},{"$f":"'Rozliczenie kwartalne'!J197","v":0},{"$f":"'Rozliczenie kwartalne'!K197","v":0},{"$f":"'Rozliczenie kwartalne'!L197","v":0},{"$f":"'Załącznik nr 1 do rozliczenia'!D194","v":0},{"$f":"'Załącznik nr 1 do rozliczenia'!F194","v":0},{"$f":"'Załącznik nr 1 do rozliczenia'!H194","v":0},{"$f":"'Załącznik nr 2 do rozliczenia'!D190","v":0},{"$f":"'Załącznik nr 2 do rozliczenia'!E190","v":0},{"$f":"'Załącznik nr 2 do rozliczenia'!F190","v":0},{"$f":"'Załącznik nr 2 do rozliczenia'!H190","v":0}]
[{"$f":"'Rozliczenie kwartalne'!A82","v":"47"},{"$f":"'Rozliczenie kwartalne'!B198","v":""},{"$f":"'Rozliczenie kwartalne'!C198","v":0},{"$f":"'Rozliczenie kwartalne'!D198","v":0},{"$f":"'Rozliczenie kwartalne'!E198","v":0},{"$f":"'Rozliczenie kwartalne'!F198","v":0},{"$f":"'Rozliczenie kwartalne'!G198","v":0},{"$f":"'Rozliczenie kwartalne'!H198","v":0},{"$f":"'Rozliczenie kwartalne'!I198","v":0},{"$f":"'Rozliczenie kwartalne'!J198","v":0},{"$f":"'Rozliczenie kwartalne'!K198","v":0},{"$f":"'Rozliczenie kwartalne'!L198","v":0},{"$f":"'Załącznik nr 1 do rozliczenia'!D195","v":0},{"$f":"'Załącznik nr 1 do rozliczenia'!F195","v":0},{"$f":"'Załącznik nr 1 do rozliczenia'!H195","v":0},{"$f":"'Załącznik nr 2 do rozliczenia'!D191","v":0},{"$f":"'Załącznik nr 2 do rozliczenia'!E191","v":0},{"$f":"'Załącznik nr 2 do rozliczenia'!F191","v":0},{"$f":"'Załącznik nr 2 do rozliczenia'!H191","v":0}]
[{"$f":"'Rozliczenie kwartalne'!A83","v":"48"},{"$f":"'Rozliczenie kwartalne'!B199","v":""},{"$f":"'Rozliczenie kwartalne'!C199","v":0},{"$f":"'Rozliczenie kwartalne'!D199","v":0},{"$f":"'Rozliczenie kwartalne'!E199","v":0},{"$f":"'Rozliczenie kwartalne'!F199","v":0},{"$f":"'Rozliczenie kwartalne'!G199","v":0},{"$f":"'Rozliczenie kwartalne'!H199","v":0},{"$f":"'Rozliczenie kwartalne'!I199","v":0},{"$f":"'Rozliczenie kwartalne'!J199","v":0},{"$f":"'Rozliczenie kwartalne'!K199","v":0},{"$f":"'Rozliczenie kwartalne'!L199","v":0},{"$f":"'Załącznik nr 1 do rozliczenia'!D196","v":0},{"$f":"'Załącznik nr 1 do rozliczenia'!F196","v":0},{"$f":"'Załącznik nr 1 do rozliczenia'!H196","v":0},{"$f":"'Załącznik nr 2 do rozliczenia'!D192","v":0},{"$f":"'Załącznik nr 2 do rozliczenia'!E192","v":0},{"$f":"'Załącznik nr 2 do rozliczenia'!F192","v":0},{"$f":"'Załącznik nr 2 do rozliczenia'!H192","v":0}]
[{"$f":"'Rozliczenie kwartalne'!A84","v":"49"},{"$f":"'Rozliczenie kwartalne'!B200","v":""},{"$f":"'Rozliczenie kwartalne'!C200","v":0},{"$f":"'Rozliczenie kwartalne'!D200","v":0},{"$f":"'Rozliczenie kwartalne'!E200","v":0},{"$f":"'Rozliczenie kwartalne'!F200","v":0},{"$f":"'Rozliczenie kwartalne'!G200","v":0},{"$f":"'Rozliczenie kwartalne'!H200","v":0},{"$f":"'Rozliczenie kwartalne'!I200","v":0},{"$f":"'Rozliczenie kwartalne'!J200","v":0},{"$f":"'Rozliczenie kwartalne'!K200","v":0},{"$f":"'Rozliczenie kwartalne'!L200","v":0},{"$f":"'Załącznik nr 1 do rozliczenia'!D197","v":0},{"$f":"'Załącznik nr 1 do rozliczenia'!F197","v":0},{"$f":"'Załącznik nr 1 do rozliczenia'!H197","v":0},{"$f":"'Załącznik nr 2 do rozliczenia'!D193","v":0},{"$f":"'Załącznik nr 2 do rozliczenia'!E193","v":0},{"$f":"'Załącznik nr 2 do rozliczenia'!F193","v":0},{"$f":"'Załącznik nr 2 do rozliczenia'!H193","v":0}]
[{"$f":"'Rozliczenie kwartalne'!A85","v":"50"},{"$f":"'Rozliczenie kwartalne'!B201","v":""},{"$f":"'Rozliczenie kwartalne'!C201","v":0},{"$f":"'Rozliczenie kwartalne'!D201","v":0},{"$f":"'Rozliczenie kwartalne'!E201","v":0},{"$f":"'Rozliczenie kwartalne'!F201","v":0},{"$f":"'Rozliczenie kwartalne'!G201","v":0},{"$f":"'Rozliczenie kwartalne'!H201","v":0},{"$f":"'Rozliczenie kwartalne'!I201","v":0},{"$f":"'Rozliczenie kwartalne'!J201","v":0},{"$f":"'Rozliczenie kwartalne'!K201","v":0},{"$f":"'Rozliczenie kwartalne'!L201","v":0},{"$f":"'Załącznik nr 1 do rozliczenia'!D198","v":0},{"$f":"'Załącznik nr 1 do rozliczenia'!F198","v":0},{"$f":"'Załącznik nr 1 do rozliczenia'!H198","v":0},{"$f":"'Załącznik nr 2 do rozliczenia'!D194","v":0},{"$f":"'Załącznik nr 2 do rozliczenia'!E194","v":0},{"$f":"'Załącznik nr 2 do rozliczenia'!F194","v":0},{"$f":"'Załącznik nr 2 do rozliczenia'!H194","v":0}]
[{"$f":"'Rozliczenie kwartalne'!A86","v":"51"},{"$f":"'Rozliczenie kwartalne'!B202","v":""},{"$f":"'Rozliczenie kwartalne'!C202","v":0},{"$f":"'Rozliczenie kwartalne'!D202","v":0},{"$f":"'Rozliczenie kwartalne'!E202","v":0},{"$f":"'Rozliczenie kwartalne'!F202","v":0},{"$f":"'Rozliczenie kwartalne'!G202","v":0},{"$f":"'Rozliczenie kwartalne'!H202","v":0},{"$f":"'Rozliczenie kwartalne'!I202","v":0},{"$f":"'Rozliczenie kwartalne'!J202","v":0},{"$f":"'Rozliczenie kwartalne'!K202","v":0},{"$f":"'Rozliczenie kwartalne'!L202","v":0},{"$f":"'Załącznik nr 1 do rozliczenia'!D199","v":0},{"$f":"'Załącznik nr 1 do rozliczenia'!F199","v":0},{"$f":"'Załącznik nr 1 do rozliczenia'!H199","v":0},{"$f":"'Załącznik nr 2 do rozliczenia'!D195","v":0},{"$f":"'Załącznik nr 2 do rozliczenia'!E195","v":0},{"$f":"'Załącznik nr 2 do rozliczenia'!F195","v":0},{"$f":"'Załącznik nr 2 do rozliczenia'!H195","v":0}]
[{"$f":"'Rozliczenie kwartalne'!A87","v":"52"},{"$f":"'Rozliczenie kwartalne'!B203","v":""},{"$f":"'Rozliczenie kwartalne'!C203","v":0},{"$f":"'Rozliczenie kwartalne'!D203","v":0},{"$f":"'Rozliczenie kwartalne'!E203","v":0},{"$f":"'Rozliczenie kwartalne'!F203","v":0},{"$f":"'Rozliczenie kwartalne'!G203","v":0},{"$f":"'Rozliczenie kwartalne'!H203","v":0},{"$f":"'Rozliczenie kwartalne'!I203","v":0},{"$f":"'Rozliczenie kwartalne'!J203","v":0},{"$f":"'Rozliczenie kwartalne'!K203","v":0},{"$f":"'Rozliczenie kwartalne'!L203","v":0},{"$f":"'Załącznik nr 1 do rozliczenia'!D200","v":0},{"$f":"'Załącznik nr 1 do rozliczenia'!F200","v":0},{"$f":"'Załącznik nr 1 do rozliczenia'!H200","v":0},{"$f":"'Załącznik nr 2 do rozliczenia'!D196","v":0},{"$f":"'Załącznik nr 2 do rozliczenia'!E196","v":0},{"$f":"'Załącznik nr 2 do rozliczenia'!F196","v":0},{"$f":"'Załącznik nr 2 do rozliczenia'!H196","v":0}]
[{"$f":"'Rozliczenie kwartalne'!A88","v":"53"},{"$f":"'Rozliczenie kwartalne'!B204","v":""},{"$f":"'Rozliczenie kwartalne'!C204","v":0},{"$f":"'Rozliczenie kwartalne'!D204","v":0},{"$f":"'Rozliczenie kwartalne'!E204","v":0},{"$f":"'Rozliczenie kwartalne'!F204","v":0},{"$f":"'Rozliczenie kwartalne'!G204","v":0},{"$f":"'Rozliczenie kwartalne'!H204","v":0},{"$f":"'Rozliczenie kwartalne'!I204","v":0},{"$f":"'Rozliczenie kwartalne'!J204","v":0},{"$f":"'Rozliczenie kwartalne'!K204","v":0},{"$f":"'Rozliczenie kwartalne'!L204","v":0},{"$f":"'Załącznik nr 1 do rozliczenia'!D201","v":0},{"$f":"'Załącznik nr 1 do rozliczenia'!F201","v":0},{"$f":"'Załącznik nr 1 do rozliczenia'!H201","v":0},{"$f":"'Załącznik nr 2 do rozliczenia'!D197","v":0},{"$f":"'Załącznik nr 2 do rozliczenia'!E197","v":0},{"$f":"'Załącznik nr 2 do rozliczenia'!F197","v":0},{"$f":"'Załącznik nr 2 do rozliczenia'!H197","v":0}]
[{"$f":"'Rozliczenie kwartalne'!A89","v":"54"},{"$f":"'Rozliczenie kwartalne'!B205","v":""},{"$f":"'Rozliczenie kwartalne'!C205","v":0},{"$f":"'Rozliczenie kwartalne'!D205","v":0},{"$f":"'Rozliczenie kwartalne'!E205","v":0},{"$f":"'Rozliczenie kwartalne'!F205","v":0},{"$f":"'Rozliczenie kwartalne'!G205","v":0},{"$f":"'Rozliczenie kwartalne'!H205","v":0},{"$f":"'Rozliczenie kwartalne'!I205","v":0},{"$f":"'Rozliczenie kwartalne'!J205","v":0},{"$f":"'Rozliczenie kwartalne'!K205","v":0},{"$f":"'Rozliczenie kwartalne'!L205","v":0},{"$f":"'Załącznik nr 1 do rozliczenia'!D202","v":0},{"$f":"'Załącznik nr 1 do rozliczenia'!F202","v":0},{"$f":"'Załącznik nr 1 do rozliczenia'!H202","v":0},{"$f":"'Załącznik nr 2 do rozliczenia'!D198","v":0},{"$f":"'Załącznik nr 2 do rozliczenia'!E198","v":0},{"$f":"'Załącznik nr 2 do rozliczenia'!F198","v":0},{"$f":"'Załącznik nr 2 do rozliczenia'!H198","v":0}]
[{"$f":"'Rozliczenie kwartalne'!A90","v":"55"},{"$f":"'Rozliczenie kwartalne'!B206","v":""},{"$f":"'Rozliczenie kwartalne'!C206","v":0},{"$f":"'Rozliczenie kwartalne'!D206","v":0},{"$f":"'Rozliczenie kwartalne'!E206","v":0},{"$f":"'Rozliczenie kwartalne'!F206","v":0},{"$f":"'Rozliczenie kwartalne'!G206","v":0},{"$f":"'Rozliczenie kwartalne'!H206","v":0},{"$f":"'Rozliczenie kwartalne'!I206","v":0},{"$f":"'Rozliczenie kwartalne'!J206","v":0},{"$f":"'Rozliczenie kwartalne'!K206","v":0},{"$f":"'Rozliczenie kwartalne'!L206","v":0},{"$f":"'Załącznik nr 1 do rozliczenia'!D203","v":0},{"$f":"'Załącznik nr 1 do rozliczenia'!F203","v":0},{"$f":"'Załącznik nr 1 do rozliczenia'!H203","v":0},{"$f":"'Załącznik nr 2 do rozliczenia'!D199","v":0},{"$f":"'Załącznik nr 2 do rozliczenia'!E199","v":0},{"$f":"'Załącznik nr 2 do rozliczenia'!F199","v":0},{"$f":"'Załącznik nr 2 do rozliczenia'!H199","v":0}]
[{"$f":"'Rozliczenie kwartalne'!A91","v":"56"},{"$f":"'Rozliczenie kwartalne'!B207","v":""},{"$f":"'Rozliczenie kwartalne'!C207","v":0},{"$f":"'Rozliczenie kwartalne'!D207","v":0},{"$f":"'Rozliczenie kwartalne'!E207","v":0},{"$f":"'Rozliczenie kwartalne'!F207","v":0},{"$f":"'Rozliczenie kwartalne'!G207","v":0},{"$f":"'Rozliczenie kwartalne'!H207","v":0},{"$f":"'Rozliczenie kwartalne'!I207","v":0},{"$f":"'Rozliczenie kwartalne'!J207","v":0},{"$f":"'Rozliczenie kwartalne'!K207","v":0},{"$f":"'Rozliczenie kwartalne'!L207","v":0},{"$f":"'Załącznik nr 1 do rozliczenia'!D204","v":0},{"$f":"'Załącznik nr 1 do rozliczenia'!F204","v":0},{"$f":"'Załącznik nr 1 do rozliczenia'!H204","v":0},{"$f":"'Załącznik nr 2 do rozliczenia'!D200","v":0},{"$f":"'Załącznik nr 2 do rozliczenia'!E200","v":0},{"$f":"'Załącznik nr 2 do rozliczenia'!F200","v":0},{"$f":"'Załącznik nr 2 do rozliczenia'!H200","v":0}]
[{"$f":"'Rozliczenie kwartalne'!A92","v":"57"},{"$f":"'Rozliczenie kwartalne'!B208","v":""},{"$f":"'Rozliczenie kwartalne'!C208","v":0},{"$f":"'Rozliczenie kwartalne'!D208","v":0},{"$f":"'Rozliczenie kwartalne'!E208","v":0},{"$f":"'Rozliczenie kwartalne'!F208","v":0},{"$f":"'Rozliczenie kwartalne'!G208","v":0},{"$f":"'Rozliczenie kwartalne'!H208","v":0},{"$f":"'Rozliczenie kwartalne'!I208","v":0},{"$f":"'Rozliczenie kwartalne'!J208","v":0},{"$f":"'Rozliczenie kwartalne'!K208","v":0},{"$f":"'Rozliczenie kwartalne'!L208","v":0},{"$f":"'Załącznik nr 1 do rozliczenia'!D205","v":0},{"$f":"'Załącznik nr 1 do rozliczenia'!F205","v":0},{"$f":"'Załącznik nr 1 do rozliczenia'!H205","v":0},{"$f":"'Załącznik nr 2 do rozliczenia'!D201","v":0},{"$f":"'Załącznik nr 2 do rozliczenia'!E201","v":0},{"$f":"'Załącznik nr 2 do rozliczenia'!F201","v":0},{"$f":"'Załącznik nr 2 do rozliczenia'!H201","v":0}]
[{"$f":"'Rozliczenie kwartalne'!A93","v":"58"},{"$f":"'Rozliczenie kwartalne'!B209","v":""},{"$f":"'Rozliczenie kwartalne'!C209","v":0},{"$f":"'Rozliczenie kwartalne'!D209","v":0},{"$f":"'Rozliczenie kwartalne'!E209","v":0},{"$f":"'Rozliczenie kwartalne'!F209","v":0},{"$f":"'Rozliczenie kwartalne'!G209","v":0},{"$f":"'Rozliczenie kwartalne'!H209","v":0},{"$f":"'Rozliczenie kwartalne'!I209","v":0},{"$f":"'Rozliczenie kwartalne'!J209","v":0},{"$f":"'Rozliczenie kwartalne'!K209","v":0},{"$f":"'Rozliczenie kwartalne'!L209","v":0},{"$f":"'Załącznik nr 1 do rozliczenia'!D206","v":0},{"$f":"'Załącznik nr 1 do rozliczenia'!F206","v":0},{"$f":"'Załącznik nr 1 do rozliczenia'!H206","v":0},{"$f":"'Załącznik nr 2 do rozliczenia'!D202","v":0},{"$f":"'Załącznik nr 2 do rozliczenia'!E202","v":0},{"$f":"'Załącznik nr 2 do rozliczenia'!F202","v":0},{"$f":"'Załącznik nr 2 do rozliczenia'!H202","v":0}]
[{"$f":"'Rozliczenie kwartalne'!A94","v":"59"},{"$f":"'Rozliczenie kwartalne'!B210","v":""},{"$f":"'Rozliczenie kwartalne'!C210","v":0},{"$f":"'Rozliczenie kwartalne'!D210","v":0},{"$f":"'Rozliczenie kwartalne'!E210","v":0},{"$f":"'Rozliczenie kwartalne'!F210","v":0},{"$f":"'Rozliczenie kwartalne'!G210","v":0},{"$f":"'Rozliczenie kwartalne'!H210","v":0},{"$f":"'Rozliczenie kwartalne'!I210","v":0},{"$f":"'Rozliczenie kwartalne'!J210","v":0},{"$f":"'Rozliczenie kwartalne'!K210","v":0},{"$f":"'Rozliczenie kwartalne'!L210","v":0},{"$f":"'Załącznik nr 1 do rozliczenia'!D207","v":0},{"$f":"'Załącznik nr 1 do rozliczenia'!F207","v":0},{"$f":"'Załącznik nr 1 do rozliczenia'!H207","v":0},{"$f":"'Załącznik nr 2 do rozliczenia'!D203","v":0},{"$f":"'Załącznik nr 2 do rozliczenia'!E203","v":0},{"$f":"'Załącznik nr 2 do rozliczenia'!F203","v":0},{"$f":"'Załącznik nr 2 do rozliczenia'!H203","v":0}]
[{"$f":"'Rozliczenie kwartalne'!A95","v":"60"},{"$f":"'Rozliczenie kwartalne'!B211","v":""},{"$f":"'Rozliczenie kwartalne'!C211","v":0},{"$f":"'Rozliczenie kwartalne'!D211","v":0},{"$f":"'Rozliczenie kwartalne'!E211","v":0},{"$f":"'Rozliczenie kwartalne'!F211","v":0},{"$f":"'Rozliczenie kwartalne'!G211","v":0},{"$f":"'Rozliczenie kwartalne'!H211","v":0},{"$f":"'Rozliczenie kwartalne'!I211","v":0},{"$f":"'Rozliczenie kwartalne'!J211","v":0},{"$f":"'Rozliczenie kwartalne'!K211","v":0},{"$f":"'Rozliczenie kwartalne'!L211","v":0},{"$f":"'Załącznik nr 1 do rozliczenia'!D208","v":0},{"$f":"'Załącznik nr 1 do rozliczenia'!F208","v":0},{"$f":"'Załącznik nr 1 do rozliczenia'!H208","v":0},{"$f":"'Załącznik nr 2 do rozliczenia'!D204","v":0},{"$f":"'Załącznik nr 2 do rozliczenia'!E204","v":0},{"$f":"'Załącznik nr 2 do rozliczenia'!F204","v":0},{"$f":"'Załącznik nr 2 do rozliczenia'!H204","v":0}]
[{"$f":"'Rozliczenie kwartalne'!A96","v":"61"},{"$f":"'Rozliczenie kwartalne'!B212","v":""},{"$f":"'Rozliczenie kwartalne'!C212","v":0},{"$f":"'Rozliczenie kwartalne'!D212","v":0},{"$f":"'Rozliczenie kwartalne'!E212","v":0},{"$f":"'Rozliczenie kwartalne'!F212","v":0},{"$f":"'Rozliczenie kwartalne'!G212","v":0},{"$f":"'Rozliczenie kwartalne'!H212","v":0},{"$f":"'Rozliczenie kwartalne'!I212","v":0},{"$f":"'Rozliczenie kwartalne'!J212","v":0},{"$f":"'Rozliczenie kwartalne'!K212","v":0},{"$f":"'Rozliczenie kwartalne'!L212","v":0},{"$f":"'Załącznik nr 1 do rozliczenia'!D209","v":0},{"$f":"'Załącznik nr 1 do rozliczenia'!F209","v":0},{"$f":"'Załącznik nr 1 do rozliczenia'!H209","v":0},{"$f":"'Załącznik nr 2 do rozliczenia'!D205","v":0},{"$f":"'Załącznik nr 2 do rozliczenia'!E205","v":0},{"$f":"'Załącznik nr 2 do rozliczenia'!F205","v":0},{"$f":"'Załącznik nr 2 do rozliczenia'!H205","v":0}]
[{"$f":"'Rozliczenie kwartalne'!A97","v":"62"},{"$f":"'Rozliczenie kwartalne'!B213","v":""},{"$f":"'Rozliczenie kwartalne'!C213","v":0},{"$f":"'Rozliczenie kwartalne'!D213","v":0},{"$f":"'Rozliczenie kwartalne'!E213","v":0},{"$f":"'Rozliczenie kwartalne'!F213","v":0},{"$f":"'Rozliczenie kwartalne'!G213","v":0},{"$f":"'Rozliczenie kwartalne'!H213","v":0},{"$f":"'Rozliczenie kwartalne'!I213","v":0},{"$f":"'Rozliczenie kwartalne'!J213","v":0},{"$f":"'Rozliczenie kwartalne'!K213","v":0},{"$f":"'Rozliczenie kwartalne'!L213","v":0},{"$f":"'Załącznik nr 1 do rozliczenia'!D210","v":0},{"$f":"'Załącznik nr 1 do rozliczenia'!F210","v":0},{"$f":"'Załącznik nr 1 do rozliczenia'!H210","v":0},{"$f":"'Załącznik nr 2 do rozliczenia'!D206","v":0},{"$f":"'Załącznik nr 2 do rozliczenia'!E206","v":0},{"$f":"'Załącznik nr 2 do rozliczenia'!F206","v":0},{"$f":"'Załącznik nr 2 do rozliczenia'!H206","v":0}]
[{"$f":"'Rozliczenie kwartalne'!A98","v":"63"},{"$f":"'Rozliczenie kwartalne'!B214","v":""},{"$f":"'Rozliczenie kwartalne'!C214","v":0},{"$f":"'Rozliczenie kwartalne'!D214","v":0},{"$f":"'Rozliczenie kwartalne'!E214","v":0},{"$f":"'Rozliczenie kwartalne'!F214","v":0},{"$f":"'Rozliczenie kwartalne'!G214","v":0},{"$f":"'Rozliczenie kwartalne'!H214","v":0},{"$f":"'Rozliczenie kwartalne'!I214","v":0},{"$f":"'Rozliczenie kwartalne'!J214","v":0},{"$f":"'Rozliczenie kwartalne'!K214","v":0},{"$f":"'Rozliczenie kwartalne'!L214","v":0},{"$f":"'Załącznik nr 1 do rozliczenia'!D211","v":0},{"$f":"'Załącznik nr 1 do rozliczenia'!F211","v":0},{"$f":"'Załącznik nr 1 do rozliczenia'!H211","v":0},{"$f":"'Załącznik nr 2 do rozliczenia'!D207","v":0},{"$f":"'Załącznik nr 2 do rozliczenia'!E207","v":0},{"$f":"'Załącznik nr 2 do rozliczenia'!F207","v":0},{"$f":"'Załącznik nr 2 do rozliczenia'!H207","v":0}]
[{"$f":"'Rozliczenie kwartalne'!A99","v":"64"},{"$f":"'Rozliczenie kwartalne'!B215","v":""},{"$f":"'Rozliczenie kwartalne'!C215","v":0},{"$f":"'Rozliczenie kwartalne'!D215","v":0},{"$f":"'Rozliczenie kwartalne'!E215","v":0},{"$f":"'Rozliczenie kwartalne'!F215","v":0},{"$f":"'Rozliczenie kwartalne'!G215","v":0},{"$f":"'Rozliczenie kwartalne'!H215","v":0},{"$f":"'Rozliczenie kwartalne'!I215","v":0},{"$f":"'Rozliczenie kwartalne'!J215","v":0},{"$f":"'Rozliczenie kwartalne'!K215","v":0},{"$f":"'Rozliczenie kwartalne'!L215","v":0},{"$f":"'Załącznik nr 1 do rozliczenia'!D212","v":0},{"$f":"'Załącznik nr 1 do rozliczenia'!F212","v":0},{"$f":"'Załącznik nr 1 do rozliczenia'!H212","v":0},{"$f":"'Załącznik nr 2 do rozliczenia'!D208","v":0},{"$f":"'Załącznik nr 2 do rozliczenia'!E208","v":0},{"$f":"'Załącznik nr 2 do rozliczenia'!F208","v":0},{"$f":"'Załącznik nr 2 do rozliczenia'!H208","v":0}]
[{"$f":"'Rozliczenie kwartalne'!A100","v":"65"},{"$f":"'Rozliczenie kwartalne'!B216","v":""},{"$f":"'Rozliczenie kwartalne'!C216","v":0},{"$f":"'Rozliczenie kwartalne'!D216","v":0},{"$f":"'Rozliczenie kwartalne'!E216","v":0},{"$f":"'Rozliczenie kwartalne'!F216","v":0},{"$f":"'Rozliczenie kwartalne'!G216","v":0},{"$f":"'Rozliczenie kwartalne'!H216","v":0},{"$f":"'Rozliczenie kwartalne'!I216","v":0},{"$f":"'Rozliczenie kwartalne'!J216","v":0},{"$f":"'Rozliczenie kwartalne'!K216","v":0},{"$f":"'Rozliczenie kwartalne'!L216","v":0},{"$f":"'Załącznik nr 1 do rozliczenia'!D213","v":0},{"$f":"'Załącznik nr 1 do rozliczenia'!F213","v":0},{"$f":"'Załącznik nr 1 do rozliczenia'!H213","v":0},{"$f":"'Załącznik nr 2 do rozliczenia'!D209","v":0},{"$f":"'Załącznik nr 2 do rozliczenia'!E209","v":0},{"$f":"'Załącznik nr 2 do rozliczenia'!F209","v":0},{"$f":"'Załącznik nr 2 do rozliczenia'!H209","v":0}]
[{"$f":"'Rozliczenie kwartalne'!A101","v":"66"},{"$f":"'Rozliczenie kwartalne'!B217","v":""},{"$f":"'Rozliczenie kwartalne'!C217","v":0},{"$f":"'Rozliczenie kwartalne'!D217","v":0},{"$f":"'Rozliczenie kwartalne'!E217","v":0},{"$f":"'Rozliczenie kwartalne'!F217","v":0},{"$f":"'Rozliczenie kwartalne'!G217","v":0},{"$f":"'Rozliczenie kwartalne'!H217","v":0},{"$f":"'Rozliczenie kwartalne'!I217","v":0},{"$f":"'Rozliczenie kwartalne'!J217","v":0},{"$f":"'Rozliczenie kwartalne'!K217","v":0},{"$f":"'Rozliczenie kwartalne'!L217","v":0},{"$f":"'Załącznik nr 1 do rozliczenia'!D214","v":0},{"$f":"'Załącznik nr 1 do rozliczenia'!F214","v":0},{"$f":"'Załącznik nr 1 do rozliczenia'!H214","v":0},{"$f":"'Załącznik nr 2 do rozliczenia'!D210","v":0},{"$f":"'Załącznik nr 2 do rozliczenia'!E210","v":0},{"$f":"'Załącznik nr 2 do rozliczenia'!F210","v":0},{"$f":"'Załącznik nr 2 do rozliczenia'!H210","v":0}]
[{"$f":"'Rozliczenie kwartalne'!A102","v":"67"},{"$f":"'Rozliczenie kwartalne'!B218","v":""},{"$f":"'Rozliczenie kwartalne'!C218","v":0},{"$f":"'Rozliczenie kwartalne'!D218","v":0},{"$f":"'Rozliczenie kwartalne'!E218","v":0},{"$f":"'Rozliczenie kwartalne'!F218","v":0},{"$f":"'Rozliczenie kwartalne'!G218","v":0},{"$f":"'Rozliczenie kwartalne'!H218","v":0},{"$f":"'Rozliczenie kwartalne'!I218","v":0},{"$f":"'Rozliczenie kwartalne'!J218","v":0},{"$f":"'Rozliczenie kwartalne'!K218","v":0},{"$f":"'Rozliczenie kwartalne'!L218","v":0},{"$f":"'Załącznik nr 1 do rozliczenia'!D215","v":0},{"$f":"'Załącznik nr 1 do rozliczenia'!F215","v":0},{"$f":"'Załącznik nr 1 do rozliczenia'!H215","v":0},{"$f":"'Załącznik nr 2 do rozliczenia'!D211","v":0},{"$f":"'Załącznik nr 2 do rozliczenia'!E211","v":0},{"$f":"'Załącznik nr 2 do rozliczenia'!F211","v":0},{"$f":"'Załącznik nr 2 do rozliczenia'!H211","v":0}]
[{"$f":"'Rozliczenie kwartalne'!A103","v":"68"},{"$f":"'Rozliczenie kwartalne'!B219","v":""},{"$f":"'Rozliczenie kwartalne'!C219","v":0},{"$f":"'Rozliczenie kwartalne'!D219","v":0},{"$f":"'Rozliczenie kwartalne'!E219","v":0},{"$f":"'Rozliczenie kwartalne'!F219","v":0},{"$f":"'Rozliczenie kwartalne'!G219","v":0},{"$f":"'Rozliczenie kwartalne'!H219","v":0},{"$f":"'Rozliczenie kwartalne'!I219","v":0},{"$f":"'Rozliczenie kwartalne'!J219","v":0},{"$f":"'Rozliczenie kwartalne'!K219","v":0},{"$f":"'Rozliczenie kwartalne'!L219","v":0},{"$f":"'Załącznik nr 1 do rozliczenia'!D216","v":0},{"$f":"'Załącznik nr 1 do rozliczenia'!F216","v":0},{"$f":"'Załącznik nr 1 do rozliczenia'!H216","v":0},{"$f":"'Załącznik nr 2 do rozliczenia'!D212","v":0},{"$f":"'Załącznik nr 2 do rozliczenia'!E212","v":0},{"$f":"'Załącznik nr 2 do rozliczenia'!F212","v":0},{"$f":"'Załącznik nr 2 do rozliczenia'!H212","v":0}]
[{"$f":"'Rozliczenie kwartalne'!A104","v":"69"},{"$f":"'Rozliczenie kwartalne'!B220","v":""},{"$f":"'Rozliczenie kwartalne'!C220","v":0},{"$f":"'Rozliczenie kwartalne'!D220","v":0},{"$f":"'Rozliczenie kwartalne'!E220","v":0},{"$f":"'Rozliczenie kwartalne'!F220","v":0},{"$f":"'Rozliczenie kwartalne'!G220","v":0},{"$f":"'Rozliczenie kwartalne'!H220","v":0},{"$f":"'Rozliczenie kwartalne'!I220","v":0},{"$f":"'Rozliczenie kwartalne'!J220","v":0},{"$f":"'Rozliczenie kwartalne'!K220","v":0},{"$f":"'Rozliczenie kwartalne'!L220","v":0},{"$f":"'Załącznik nr 1 do rozliczenia'!D217","v":0},{"$f":"'Załącznik nr 1 do rozliczenia'!F217","v":0},{"$f":"'Załącznik nr 1 do rozliczenia'!H217","v":0},{"$f":"'Załącznik nr 2 do rozliczenia'!D213","v":0},{"$f":"'Załącznik nr 2 do rozliczenia'!E213","v":0},{"$f":"'Załącznik nr 2 do rozliczenia'!F213","v":0},{"$f":"'Załącznik nr 2 do rozliczenia'!H213","v":0}]
[{"$f":"'Rozliczenie kwartalne'!A105","v":"70"},{"$f":"'Rozliczenie kwartalne'!B221","v":""},{"$f":"'Rozliczenie kwartalne'!C221","v":0},{"$f":"'Rozliczenie kwartalne'!D221","v":0},{"$f":"'Rozliczenie kwartalne'!E221","v":0},{"$f":"'Rozliczenie kwartalne'!F221","v":0},{"$f":"'Rozliczenie kwartalne'!G221","v":0},{"$f":"'Rozliczenie kwartalne'!H221","v":0},{"$f":"'Rozliczenie kwartalne'!I221","v":0},{"$f":"'Rozliczenie kwartalne'!J221","v":0},{"$f":"'Rozliczenie kwartalne'!K221","v":0},{"$f":"'Rozliczenie kwartalne'!L221","v":0},{"$f":"'Załącznik nr 1 do rozliczenia'!D218","v":0},{"$f":"'Załącznik nr 1 do rozliczenia'!F218","v":0},{"$f":"'Załącznik nr 1 do rozliczenia'!H218","v":0},{"$f":"'Załącznik nr 2 do rozliczenia'!D214","v":0},{"$f":"'Załącznik nr 2 do rozliczenia'!E214","v":0},{"$f":"'Załącznik nr 2 do rozliczenia'!F214","v":0},{"$f":"'Załącznik nr 2 do rozliczenia'!H214","v":0}]
[{"$f":"'Rozliczenie kwartalne'!A106","v":"71"},{"$f":"'Rozliczenie kwartalne'!B222","v":""},{"$f":"'Rozliczenie kwartalne'!C222","v":0},{"$f":"'Rozliczenie kwartalne'!D222","v":0},{"$f":"'Rozliczenie kwartalne'!E222","v":0},{"$f":"'Rozliczenie kwartalne'!F222","v":0},{"$f":"'Rozliczenie kwartalne'!G222","v":0},{"$f":"'Rozliczenie kwartalne'!H222","v":0},{"$f":"'Rozliczenie kwartalne'!I222","v":0},{"$f":"'Rozliczenie kwartalne'!J222","v":0},{"$f":"'Rozliczenie kwartalne'!K222","v":0},{"$f":"'Rozliczenie kwartalne'!L222","v":0},{"$f":"'Załącznik nr 1 do rozliczenia'!D219","v":0},{"$f":"'Załącznik nr 1 do rozliczenia'!F219","v":0},{"$f":"'Załącznik nr 1 do rozliczenia'!H219","v":0},{"$f":"'Załącznik nr 2 do rozliczenia'!D215","v":0},{"$f":"'Załącznik nr 2 do rozliczenia'!E215","v":0},{"$f":"'Załącznik nr 2 do rozliczenia'!F215","v":0},{"$f":"'Załącznik nr 2 do rozliczenia'!H215","v":0}]
[{"$f":"'Rozliczenie kwartalne'!A107","v":"72"},{"$f":"'Rozliczenie kwartalne'!B223","v":""},{"$f":"'Rozliczenie kwartalne'!C223","v":0},{"$f":"'Rozliczenie kwartalne'!D223","v":0},{"$f":"'Rozliczenie kwartalne'!E223","v":0},{"$f":"'Rozliczenie kwartalne'!F223","v":0},{"$f":"'Rozliczenie kwartalne'!G223","v":0},{"$f":"'Rozliczenie kwartalne'!H223","v":0},{"$f":"'Rozliczenie kwartalne'!I223","v":0},{"$f":"'Rozliczenie kwartalne'!J223","v":0},{"$f":"'Rozliczenie kwartalne'!K223","v":0},{"$f":"'Rozliczenie kwartalne'!L223","v":0},{"$f":"'Załącznik nr 1 do rozliczenia'!D220","v":0},{"$f":"'Załącznik nr 1 do rozliczenia'!F220","v":0},{"$f":"'Załącznik nr 1 do rozliczenia'!H220","v":0},{"$f":"'Załącznik nr 2 do rozliczenia'!D216","v":0},{"$f":"'Załącznik nr 2 do rozliczenia'!E216","v":0},{"$f":"'Załącznik nr 2 do rozliczenia'!F216","v":0},{"$f":"'Załącznik nr 2 do rozliczenia'!H216","v":0}]
[{"$f":"'Rozliczenie kwartalne'!A108","v":"73"},{"$f":"'Rozliczenie kwartalne'!B224","v":""},{"$f":"'Rozliczenie kwartalne'!C224","v":0},{"$f":"'Rozliczenie kwartalne'!D224","v":0},{"$f":"'Rozliczenie kwartalne'!E224","v":0},{"$f":"'Rozliczenie kwartalne'!F224","v":0},{"$f":"'Rozliczenie kwartalne'!G224","v":0},{"$f":"'Rozliczenie kwartalne'!H224","v":0},{"$f":"'Rozliczenie kwartalne'!I224","v":0},{"$f":"'Rozliczenie kwartalne'!J224","v":0},{"$f":"'Rozliczenie kwartalne'!K224","v":0},{"$f":"'Rozliczenie kwartalne'!L224","v":0},{"$f":"'Załącznik nr 1 do rozliczenia'!D221","v":0},{"$f":"'Załącznik nr 1 do rozliczenia'!F221","v":0},{"$f":"'Załącznik nr 1 do rozliczenia'!H221","v":0},{"$f":"'Załącznik nr 2 do rozliczenia'!D217","v":0},{"$f":"'Załącznik nr 2 do rozliczenia'!E217","v":0},{"$f":"'Załącznik nr 2 do rozliczenia'!F217","v":0},{"$f":"'Załącznik nr 2 do rozliczenia'!H217","v":0}]
[{"$f":"'Rozliczenie kwartalne'!A109","v":"74"},{"$f":"'Rozliczenie kwartalne'!B225","v":""},{"$f":"'Rozliczenie kwartalne'!C225","v":0},{"$f":"'Rozliczenie kwartalne'!D225","v":0},{"$f":"'Rozliczenie kwartalne'!E225","v":0},{"$f":"'Rozliczenie kwartalne'!F225","v":0},{"$f":"'Rozliczenie kwartalne'!G225","v":0},{"$f":"'Rozliczenie kwartalne'!H225","v":0},{"$f":"'Rozliczenie kwartalne'!I225","v":0},{"$f":"'Rozliczenie kwartalne'!J225","v":0},{"$f":"'Rozliczenie kwartalne'!K225","v":0},{"$f":"'Rozliczenie kwartalne'!L225","v":0},{"$f":"'Załącznik nr 1 do rozliczenia'!D222","v":0},{"$f":"'Załącznik nr 1 do rozliczenia'!F222","v":0},{"$f":"'Załącznik nr 1 do rozliczenia'!H222","v":0},{"$f":"'Załącznik nr 2 do rozliczenia'!D218","v":0},{"$f":"'Załącznik nr 2 do rozliczenia'!E218","v":0},{"$f":"'Załącznik nr 2 do rozliczenia'!F218","v":0},{"$f":"'Załącznik nr 2 do rozliczenia'!H218","v":0}]
[{"$f":"'Rozliczenie kwartalne'!A110","v":"75"},{"$f":"'Rozliczenie kwartalne'!B226","v":""},{"$f":"'Rozliczenie kwartalne'!C226","v":0},{"$f":"'Rozliczenie kwartalne'!D226","v":0},{"$f":"'Rozliczenie kwartalne'!E226","v":0},{"$f":"'Rozliczenie kwartalne'!F226","v":0},{"$f":"'Rozliczenie kwartalne'!G226","v":0},{"$f":"'Rozliczenie kwartalne'!H226","v":0},{"$f":"'Rozliczenie kwartalne'!I226","v":0},{"$f":"'Rozliczenie kwartalne'!J226","v":0},{"$f":"'Rozliczenie kwartalne'!K226","v":0},{"$f":"'Rozliczenie kwartalne'!L226","v":0},{"$f":"'Załącznik nr 1 do rozliczenia'!D223","v":0},{"$f":"'Załącznik nr 1 do rozliczenia'!F223","v":0},{"$f":"'Załącznik nr 1 do rozliczenia'!H223","v":0},{"$f":"'Załącznik nr 2 do rozliczenia'!D219","v":0},{"$f":"'Załącznik nr 2 do rozliczenia'!E219","v":0},{"$f":"'Załącznik nr 2 do rozliczenia'!F219","v":0},{"$f":"'Załącznik nr 2 do rozliczenia'!H219","v":0}]
[{"$f":"'Rozliczenie kwartalne'!A111","v":"76"},{"$f":"'Rozliczenie kwartalne'!B227","v":""},{"$f":"'Rozliczenie kwartalne'!C227","v":0},{"$f":"'Rozliczenie kwartalne'!D227","v":0},{"$f":"'Rozliczenie kwartalne'!E227","v":0},{"$f":"'Rozliczenie kwartalne'!F227","v":0},{"$f":"'Rozliczenie kwartalne'!G227","v":0},{"$f":"'Rozliczenie kwartalne'!H227","v":0},{"$f":"'Rozliczenie kwartalne'!I227","v":0},{"$f":"'Rozliczenie kwartalne'!J227","v":0},{"$f":"'Rozliczenie kwartalne'!K227","v":0},{"$f":"'Rozliczenie kwartalne'!L227","v":0},{"$f":"'Załącznik nr 1 do rozliczenia'!D224","v":0},{"$f":"'Załącznik nr 1 do rozliczenia'!F224","v":0},{"$f":"'Załącznik nr 1 do rozliczenia'!H224","v":0},{"$f":"'Załącznik nr 2 do rozliczenia'!D220","v":0},{"$f":"'Załącznik nr 2 do rozliczenia'!E220","v":0},{"$f":"'Załącznik nr 2 do rozliczenia'!F220","v":0},{"$f":"'Załącznik nr 2 do rozliczenia'!H220","v":0}]
[{"$f":"'Rozliczenie kwartalne'!A112","v":"77"},{"$f":"'Rozliczenie kwartalne'!B228","v":""},{"$f":"'Rozliczenie kwartalne'!C228","v":0},{"$f":"'Rozliczenie kwartalne'!D228","v":0},{"$f":"'Rozliczenie kwartalne'!E228","v":0},{"$f":"'Rozliczenie kwartalne'!F228","v":0},{"$f":"'Rozliczenie kwartalne'!G228","v":0},{"$f":"'Rozliczenie kwartalne'!H228","v":0},{"$f":"'Rozliczenie kwartalne'!I228","v":0},{"$f":"'Rozliczenie kwartalne'!J228","v":0},{"$f":"'Rozliczenie kwartalne'!K228","v":0},{"$f":"'Rozliczenie kwartalne'!L228","v":0},{"$f":"'Załącznik nr 1 do rozliczenia'!D225","v":0},{"$f":"'Załącznik nr 1 do rozliczenia'!F225","v":0},{"$f":"'Załącznik nr 1 do rozliczenia'!H225","v":0},{"$f":"'Załącznik nr 2 do rozliczenia'!D221","v":0},{"$f":"'Załącznik nr 2 do rozliczenia'!E221","v":0},{"$f":"'Załącznik nr 2 do rozliczenia'!F221","v":0},{"$f":"'Załącznik nr 2 do rozliczenia'!H221","v":0}]
[{"$f":"'Rozliczenie kwartalne'!A113","v":"78"},{"$f":"'Rozliczenie kwartalne'!B229","v":""},{"$f":"'Rozliczenie kwartalne'!C229","v":0},{"$f":"'Rozliczenie kwartalne'!D229","v":0},{"$f":"'Rozliczenie kwartalne'!E229","v":0},{"$f":"'Rozliczenie kwartalne'!F229","v":0},{"$f":"'Rozliczenie kwartalne'!G229","v":0},{"$f":"'Rozliczenie kwartalne'!H229","v":0},{"$f":"'Rozliczenie kwartalne'!I229","v":0},{"$f":"'Rozliczenie kwartalne'!J229","v":0},{"$f":"'Rozliczenie kwartalne'!K229","v":0},{"$f":"'Rozliczenie kwartalne'!L229","v":0},{"$f":"'Załącznik nr 1 do rozliczenia'!D226","v":0},{"$f":"'Załącznik nr 1 do rozliczenia'!F226","v":0},{"$f":"'Załącznik nr 1 do rozliczenia'!H226","v":0},{"$f":"'Załącznik nr 2 do rozliczenia'!D222","v":0},{"$f":"'Załącznik nr 2 do rozliczenia'!E222","v":0},{"$f":"'Załącznik nr 2 do rozliczenia'!F222","v":0},{"$f":"'Załącznik nr 2 do rozliczenia'!H222","v":0}]
[{"$f":"'Rozliczenie kwartalne'!A114","v":"79"},{"$f":"'Rozliczenie kwartalne'!B230","v":""},{"$f":"'Rozliczenie kwartalne'!C230","v":0},{"$f":"'Rozliczenie kwartalne'!D230","v":0},{"$f":"'Rozliczenie kwartalne'!E230","v":0},{"$f":"'Rozliczenie kwartalne'!F230","v":0},{"$f":"'Rozliczenie kwartalne'!G230","v":0},{"$f":"'Rozliczenie kwartalne'!H230","v":0},{"$f":"'Rozliczenie kwartalne'!I230","v":0},{"$f":"'Rozliczenie kwartalne'!J230","v":0},{"$f":"'Rozliczenie kwartalne'!K230","v":0},{"$f":"'Rozliczenie kwartalne'!L230","v":0},{"$f":"'Załącznik nr 1 do rozliczenia'!D227","v":0},{"$f":"'Załącznik nr 1 do rozliczenia'!F227","v":0},{"$f":"'Załącznik nr 1 do rozliczenia'!H227","v":0},{"$f":"'Załącznik nr 2 do rozliczenia'!D223","v":0},{"$f":"'Załącznik nr 2 do rozliczenia'!E223","v":0},{"$f":"'Załącznik nr 2 do rozliczenia'!F223","v":0},{"$f":"'Załącznik nr 2 do rozliczenia'!H223","v":0}]
[{"$f":"'Rozliczenie kwartalne'!A115","v":"80"},{"$f":"'Rozliczenie kwartalne'!B231","v":""},{"$f":"'Rozliczenie kwartalne'!C231","v":0},{"$f":"'Rozliczenie kwartalne'!D231","v":0},{"$f":"'Rozliczenie kwartalne'!E231","v":0},{"$f":"'Rozliczenie kwartalne'!F231","v":0},{"$f":"'Rozliczenie kwartalne'!G231","v":0},{"$f":"'Rozliczenie kwartalne'!H231","v":0},{"$f":"'Rozliczenie kwartalne'!I231","v":0},{"$f":"'Rozliczenie kwartalne'!J231","v":0},{"$f":"'Rozliczenie kwartalne'!K231","v":0},{"$f":"'Rozliczenie kwartalne'!L231","v":0},{"$f":"'Załącznik nr 1 do rozliczenia'!D228","v":0},{"$f":"'Załącznik nr 1 do rozliczenia'!F228","v":0},{"$f":"'Załącznik nr 1 do rozliczenia'!H228","v":0},{"$f":"'Załącznik nr 2 do rozliczenia'!D224","v":0},{"$f":"'Załącznik nr 2 do rozliczenia'!E224","v":0},{"$f":"'Załącznik nr 2 do rozliczenia'!F224","v":0},{"$f":"'Załącznik nr 2 do rozliczenia'!H224","v":0}]
[{"$f":"'Rozliczenie kwartalne'!A116","v":"81"},{"$f":"'Rozliczenie kwartalne'!B232","v":""},{"$f":"'Rozliczenie kwartalne'!C232","v":0},{"$f":"'Rozliczenie kwartalne'!D232","v":0},{"$f":"'Rozliczenie kwartalne'!E232","v":0},{"$f":"'Rozliczenie kwartalne'!F232","v":0},{"$f":"'Rozliczenie kwartalne'!G232","v":0},{"$f":"'Rozliczenie kwartalne'!H232","v":0},{"$f":"'Rozliczenie kwartalne'!I232","v":0},{"$f":"'Rozliczenie kwartalne'!J232","v":0},{"$f":"'Rozliczenie kwartalne'!K232","v":0},{"$f":"'Rozliczenie kwartalne'!L232","v":0},{"$f":"'Załącznik nr 1 do rozliczenia'!D229","v":0},{"$f":"'Załącznik nr 1 do rozliczenia'!F229","v":0},{"$f":"'Załącznik nr 1 do rozliczenia'!H229","v":0},{"$f":"'Załącznik nr 2 do rozliczenia'!D225","v":0},{"$f":"'Załącznik nr 2 do rozliczenia'!E225","v":0},{"$f":"'Załącznik nr 2 do rozliczenia'!F225","v":0},{"$f":"'Załącznik nr 2 do rozliczenia'!H225","v":0}]
[{"$f":"'Rozliczenie kwartalne'!A117","v":"82"},{"$f":"'Rozliczenie kwartalne'!B233","v":""},{"$f":"'Rozliczenie kwartalne'!C233","v":0},{"$f":"'Rozliczenie kwartalne'!D233","v":0},{"$f":"'Rozliczenie kwartalne'!E233","v":0},{"$f":"'Rozliczenie kwartalne'!F233","v":0},{"$f":"'Rozliczenie kwartalne'!G233","v":0},{"$f":"'Rozliczenie kwartalne'!H233","v":0},{"$f":"'Rozliczenie kwartalne'!I233","v":0},{"$f":"'Rozliczenie kwartalne'!J233","v":0},{"$f":"'Rozliczenie kwartalne'!K233","v":0},{"$f":"'Rozliczenie kwartalne'!L233","v":0},{"$f":"'Załącznik nr 1 do rozliczenia'!D230","v":0},{"$f":"'Załącznik nr 1 do rozliczenia'!F230","v":0},{"$f":"'Załącznik nr 1 do rozliczenia'!H230","v":0},{"$f":"'Załącznik nr 2 do rozliczenia'!D226","v":0},{"$f":"'Załącznik nr 2 do rozliczenia'!E226","v":0},{"$f":"'Załącznik nr 2 do rozliczenia'!F226","v":0},{"$f":"'Załącznik nr 2 do rozliczenia'!H226","v":0}]
[{"$f":"'Rozliczenie kwartalne'!A118","v":"83"},{"$f":"'Rozliczenie kwartalne'!B234","v":""},{"$f":"'Rozliczenie kwartalne'!C234","v":0},{"$f":"'Rozliczenie kwartalne'!D234","v":0},{"$f":"'Rozliczenie kwartalne'!E234","v":0},{"$f":"'Rozliczenie kwartalne'!F234","v":0},{"$f":"'Rozliczenie kwartalne'!G234","v":0},{"$f":"'Rozliczenie kwartalne'!H234","v":0},{"$f":"'Rozliczenie kwartalne'!I234","v":0},{"$f":"'Rozliczenie kwartalne'!J234","v":0},{"$f":"'Rozliczenie kwartalne'!K234","v":0},{"$f":"'Rozliczenie kwartalne'!L234","v":0},{"$f":"'Załącznik nr 1 do rozliczenia'!D231","v":0},{"$f":"'Załącznik nr 1 do rozliczenia'!F231","v":0},{"$f":"'Załącznik nr 1 do rozliczenia'!H231","v":0},{"$f":"'Załącznik nr 2 do rozliczenia'!D227","v":0},{"$f":"'Załącznik nr 2 do rozliczenia'!E227","v":0},{"$f":"'Załącznik nr 2 do rozliczenia'!F227","v":0},{"$f":"'Załącznik nr 2 do rozliczenia'!H227","v":0}]
[{"$f":"'Rozliczenie kwartalne'!A119","v":"84"},{"$f":"'Rozliczenie kwartalne'!B235","v":""},{"$f":"'Rozliczenie kwartalne'!C235","v":0},{"$f":"'Rozliczenie kwartalne'!D235","v":0},{"$f":"'Rozliczenie kwartalne'!E235","v":0},{"$f":"'Rozliczenie kwartalne'!F235","v":0},{"$f":"'Rozliczenie kwartalne'!G235","v":0},{"$f":"'Rozliczenie kwartalne'!H235","v":0},{"$f":"'Rozliczenie kwartalne'!I235","v":0},{"$f":"'Rozliczenie kwartalne'!J235","v":0},{"$f":"'Rozliczenie kwartalne'!K235","v":0},{"$f":"'Rozliczenie kwartalne'!L235","v":0},{"$f":"'Załącznik nr 1 do rozliczenia'!D232","v":0},{"$f":"'Załącznik nr 1 do rozliczenia'!F232","v":0},{"$f":"'Załącznik nr 1 do rozliczenia'!H232","v":0},{"$f":"'Załącznik nr 2 do rozliczenia'!D228","v":0},{"$f":"'Załącznik nr 2 do rozliczenia'!E228","v":0},{"$f":"'Załącznik nr 2 do rozliczenia'!F228","v":0},{"$f":"'Załącznik nr 2 do rozliczenia'!H228","v":0}]
[{"$f":"'Rozliczenie kwartalne'!A120","v":"85"},{"$f":"'Rozliczenie kwartalne'!B236","v":""},{"$f":"'Rozliczenie kwartalne'!C236","v":0},{"$f":"'Rozliczenie kwartalne'!D236","v":0},{"$f":"'Rozliczenie kwartalne'!E236","v":0},{"$f":"'Rozliczenie kwartalne'!F236","v":0},{"$f":"'Rozliczenie kwartalne'!G236","v":0},{"$f":"'Rozliczenie kwartalne'!H236","v":0},{"$f":"'Rozliczenie kwartalne'!I236","v":0},{"$f":"'Rozliczenie kwartalne'!J236","v":0},{"$f":"'Rozliczenie kwartalne'!K236","v":0},{"$f":"'Rozliczenie kwartalne'!L236","v":0},{"$f":"'Załącznik nr 1 do rozliczenia'!D233","v":0},{"$f":"'Załącznik nr 1 do rozliczenia'!F233","v":0},{"$f":"'Załącznik nr 1 do rozliczenia'!H233","v":0},{"$f":"'Załącznik nr 2 do rozliczenia'!D229","v":0},{"$f":"'Załącznik nr 2 do rozliczenia'!E229","v":0},{"$f":"'Załącznik nr 2 do rozliczenia'!F229","v":0},{"$f":"'Załącznik nr 2 do rozliczenia'!H229","v":0}]
[{"$f":"'Rozliczenie kwartalne'!A121","v":"86"},{"$f":"'Rozliczenie kwartalne'!B237","v":""},{"$f":"'Rozliczenie kwartalne'!C237","v":0},{"$f":"'Rozliczenie kwartalne'!D237","v":0},{"$f":"'Rozliczenie kwartalne'!E237","v":0},{"$f":"'Rozliczenie kwartalne'!F237","v":0},{"$f":"'Rozliczenie kwartalne'!G237","v":0},{"$f":"'Rozliczenie kwartalne'!H237","v":0},{"$f":"'Rozliczenie kwartalne'!I237","v":0},{"$f":"'Rozliczenie kwartalne'!J237","v":0},{"$f":"'Rozliczenie kwartalne'!K237","v":0},{"$f":"'Rozliczenie kwartalne'!L237","v":0},{"$f":"'Załącznik nr 1 do rozliczenia'!D234","v":0},{"$f":"'Załącznik nr 1 do rozliczenia'!F234","v":0},{"$f":"'Załącznik nr 1 do rozliczenia'!H234","v":0},{"$f":"'Załącznik nr 2 do rozliczenia'!D230","v":0},{"$f":"'Załącznik nr 2 do rozliczenia'!E230","v":0},{"$f":"'Załącznik nr 2 do rozliczenia'!F230","v":0},{"$f":"'Załącznik nr 2 do rozliczenia'!H230","v":0}]
[{"$f":"'Rozliczenie kwartalne'!A122","v":"87"},{"$f":"'Rozliczenie kwartalne'!B238","v":""},{"$f":"'Rozliczenie kwartalne'!C238","v":0},{"$f":"'Rozliczenie kwartalne'!D238","v":0},{"$f":"'Rozliczenie kwartalne'!E238","v":0},{"$f":"'Rozliczenie kwartalne'!F238","v":0},{"$f":"'Rozliczenie kwartalne'!G238","v":0},{"$f":"'Rozliczenie kwartalne'!H238","v":0},{"$f":"'Rozliczenie kwartalne'!I238","v":0},{"$f":"'Rozliczenie kwartalne'!J238","v":0},{"$f":"'Rozliczenie kwartalne'!K238","v":0},{"$f":"'Rozliczenie kwartalne'!L238","v":0},{"$f":"'Załącznik nr 1 do rozliczenia'!D235","v":0},{"$f":"'Załącznik nr 1 do rozliczenia'!F235","v":0},{"$f":"'Załącznik nr 1 do rozliczenia'!H235","v":0},{"$f":"'Załącznik nr 2 do rozliczenia'!D231","v":0},{"$f":"'Załącznik nr 2 do rozliczenia'!E231","v":0},{"$f":"'Załącznik nr 2 do rozliczenia'!F231","v":0},{"$f":"'Załącznik nr 2 do rozliczenia'!H231","v":0}]
[{"$f":"'Rozliczenie kwartalne'!A123","v":"88"},{"$f":"'Rozliczenie kwartalne'!B239","v":""},{"$f":"'Rozliczenie kwartalne'!C239","v":0},{"$f":"'Rozliczenie kwartalne'!D239","v":0},{"$f":"'Rozliczenie kwartalne'!E239","v":0},{"$f":"'Rozliczenie kwartalne'!F239","v":0},{"$f":"'Rozliczenie kwartalne'!G239","v":0},{"$f":"'Rozliczenie kwartalne'!H239","v":0},{"$f":"'Rozliczenie kwartalne'!I239","v":0},{"$f":"'Rozliczenie kwartalne'!J239","v":0},{"$f":"'Rozliczenie kwartalne'!K239","v":0},{"$f":"'Rozliczenie kwartalne'!L239","v":0},{"$f":"'Załącznik nr 1 do rozliczenia'!D236","v":0},{"$f":"'Załącznik nr 1 do rozliczenia'!F236","v":0},{"$f":"'Załącznik nr 1 do rozliczenia'!H236","v":0},{"$f":"'Załącznik nr 2 do rozliczenia'!D232","v":0},{"$f":"'Załącznik nr 2 do rozliczenia'!E232","v":0},{"$f":"'Załącznik nr 2 do rozliczenia'!F232","v":0},{"$f":"'Załącznik nr 2 do rozliczenia'!H232","v":0}]
[{"$f":"'Rozliczenie kwartalne'!A124","v":"89"},{"$f":"'Rozliczenie kwartalne'!B240","v":""},{"$f":"'Rozliczenie kwartalne'!C240","v":0},{"$f":"'Rozliczenie kwartalne'!D240","v":0},{"$f":"'Rozliczenie kwartalne'!E240","v":0},{"$f":"'Rozliczenie kwartalne'!F240","v":0},{"$f":"'Rozliczenie kwartalne'!G240","v":0},{"$f":"'Rozliczenie kwartalne'!H240","v":0},{"$f":"'Rozliczenie kwartalne'!I240","v":0},{"$f":"'Rozliczenie kwartalne'!J240","v":0},{"$f":"'Rozliczenie kwartalne'!K240","v":0},{"$f":"'Rozliczenie kwartalne'!L240","v":0},{"$f":"'Załącznik nr 1 do rozliczenia'!D237","v":0},{"$f":"'Załącznik nr 1 do rozliczenia'!F237","v":0},{"$f":"'Załącznik nr 1 do rozliczenia'!H237","v":0},{"$f":"'Załącznik nr 2 do rozliczenia'!D233","v":0},{"$f":"'Załącznik nr 2 do rozliczenia'!E233","v":0},{"$f":"'Załącznik nr 2 do rozliczenia'!F233","v":0},{"$f":"'Załącznik nr 2 do rozliczenia'!H233","v":0}]
[{"$f":"'Rozliczenie kwartalne'!A125","v":"90"},{"$f":"'Rozliczenie kwartalne'!B241","v":""},{"$f":"'Rozliczenie kwartalne'!C241","v":0},{"$f":"'Rozliczenie kwartalne'!D241","v":0},{"$f":"'Rozliczenie kwartalne'!E241","v":0},{"$f":"'Rozliczenie kwartalne'!F241","v":0},{"$f":"'Rozliczenie kwartalne'!G241","v":0},{"$f":"'Rozliczenie kwartalne'!H241","v":0},{"$f":"'Rozliczenie kwartalne'!I241","v":0},{"$f":"'Rozliczenie kwartalne'!J241","v":0},{"$f":"'Rozliczenie kwartalne'!K241","v":0},{"$f":"'Rozliczenie kwartalne'!L241","v":0},{"$f":"'Załącznik nr 1 do rozliczenia'!D238","v":0},{"$f":"'Załącznik nr 1 do rozliczenia'!F238","v":0},{"$f":"'Załącznik nr 1 do rozliczenia'!H238","v":0},{"$f":"'Załącznik nr 2 do rozliczenia'!D234","v":0},{"$f":"'Załącznik nr 2 do rozliczenia'!E234","v":0},{"$f":"'Załącznik nr 2 do rozliczenia'!F234","v":0},{"$f":"'Załącznik nr 2 do rozliczenia'!H234","v":0}]
[{"$f":"'Rozliczenie kwartalne'!A126","v":"91"},{"$f":"'Rozliczenie kwartalne'!B242","v":""},{"$f":"'Rozliczenie kwartalne'!C242","v":0},{"$f":"'Rozliczenie kwartalne'!D242","v":0},{"$f":"'Rozliczenie kwartalne'!E242","v":0},{"$f":"'Rozliczenie kwartalne'!F242","v":0},{"$f":"'Rozliczenie kwartalne'!G242","v":0},{"$f":"'Rozliczenie kwartalne'!H242","v":0},{"$f":"'Rozliczenie kwartalne'!I242","v":0},{"$f":"'Rozliczenie kwartalne'!J242","v":0},{"$f":"'Rozliczenie kwartalne'!K242","v":0},{"$f":"'Rozliczenie kwartalne'!L242","v":0},{"$f":"'Załącznik nr 1 do rozliczenia'!D239","v":0},{"$f":"'Załącznik nr 1 do rozliczenia'!F239","v":0},{"$f":"'Załącznik nr 1 do rozliczenia'!H239","v":0},{"$f":"'Załącznik nr 2 do rozliczenia'!D235","v":0},{"$f":"'Załącznik nr 2 do rozliczenia'!E235","v":0},{"$f":"'Załącznik nr 2 do rozliczenia'!F235","v":0},{"$f":"'Załącznik nr 2 do rozliczenia'!H235","v":0}]
[{"$f":"'Rozliczenie kwartalne'!A127","v":"92"},{"$f":"'Rozliczenie kwartalne'!B243","v":""},{"$f":"'Rozliczenie kwartalne'!C243","v":0},{"$f":"'Rozliczenie kwartalne'!D243","v":0},{"$f":"'Rozliczenie kwartalne'!E243","v":0},{"$f":"'Rozliczenie kwartalne'!F243","v":0},{"$f":"'Rozliczenie kwartalne'!G243","v":0},{"$f":"'Rozliczenie kwartalne'!H243","v":0},{"$f":"'Rozliczenie kwartalne'!I243","v":0},{"$f":"'Rozliczenie kwartalne'!J243","v":0},{"$f":"'Rozliczenie kwartalne'!K243","v":0},{"$f":"'Rozliczenie kwartalne'!L243","v":0},{"$f":"'Załącznik nr 1 do rozliczenia'!D240","v":0},{"$f":"'Załącznik nr 1 do rozliczenia'!F240","v":0},{"$f":"'Załącznik nr 1 do rozliczenia'!H240","v":0},{"$f":"'Załącznik nr 2 do rozliczenia'!D236","v":0},{"$f":"'Załącznik nr 2 do rozliczenia'!E236","v":0},{"$f":"'Załącznik nr 2 do rozliczenia'!F236","v":0},{"$f":"'Załącznik nr 2 do rozliczenia'!H236","v":0}]
[{"$f":"'Rozliczenie kwartalne'!A128","v":"93"},{"$f":"'Rozliczenie kwartalne'!B244","v":""},{"$f":"'Rozliczenie kwartalne'!C244","v":0},{"$f":"'Rozliczenie kwartalne'!D244","v":0},{"$f":"'Rozliczenie kwartalne'!E244","v":0},{"$f":"'Rozliczenie kwartalne'!F244","v":0},{"$f":"'Rozliczenie kwartalne'!G244","v":0},{"$f":"'Rozliczenie kwartalne'!H244","v":0},{"$f":"'Rozliczenie kwartalne'!I244","v":0},{"$f":"'Rozliczenie kwartalne'!J244","v":0},{"$f":"'Rozliczenie kwartalne'!K244","v":0},{"$f":"'Rozliczenie kwartalne'!L244","v":0},{"$f":"'Załącznik nr 1 do rozliczenia'!D241","v":0},{"$f":"'Załącznik nr 1 do rozliczenia'!F241","v":0},{"$f":"'Załącznik nr 1 do rozliczenia'!H241","v":0},{"$f":"'Załącznik nr 2 do rozliczenia'!D237","v":0},{"$f":"'Załącznik nr 2 do rozliczenia'!E237","v":0},{"$f":"'Załącznik nr 2 do rozliczenia'!F237","v":0},{"$f":"'Załącznik nr 2 do rozliczenia'!H237","v":0}]
[{"$f":"'Rozliczenie kwartalne'!A129","v":"94"},{"$f":"'Rozliczenie kwartalne'!B245","v":""},{"$f":"'Rozliczenie kwartalne'!C245","v":0},{"$f":"'Rozliczenie kwartalne'!D245","v":0},{"$f":"'Rozliczenie kwartalne'!E245","v":0},{"$f":"'Rozliczenie kwartalne'!F245","v":0},{"$f":"'Rozliczenie kwartalne'!G245","v":0},{"$f":"'Rozliczenie kwartalne'!H245","v":0},{"$f":"'Rozliczenie kwartalne'!I245","v":0},{"$f":"'Rozliczenie kwartalne'!J245","v":0},{"$f":"'Rozliczenie kwartalne'!K245","v":0},{"$f":"'Rozliczenie kwartalne'!L245","v":0},{"$f":"'Załącznik nr 1 do rozliczenia'!D242","v":0},{"$f":"'Załącznik nr 1 do rozliczenia'!F242","v":0},{"$f":"'Załącznik nr 1 do rozliczenia'!H242","v":0},{"$f":"'Załącznik nr 2 do rozliczenia'!D238","v":0},{"$f":"'Załącznik nr 2 do rozliczenia'!E238","v":0},{"$f":"'Załącznik nr 2 do rozliczenia'!F238","v":0},{"$f":"'Załącznik nr 2 do rozliczenia'!H238","v":0}]
[{"$f":"'Rozliczenie kwartalne'!A130","v":"95"},{"$f":"'Rozliczenie kwartalne'!B246","v":""},{"$f":"'Rozliczenie kwartalne'!C246","v":0},{"$f":"'Rozliczenie kwartalne'!D246","v":0},{"$f":"'Rozliczenie kwartalne'!E246","v":0},{"$f":"'Rozliczenie kwartalne'!F246","v":0},{"$f":"'Rozliczenie kwartalne'!G246","v":0},{"$f":"'Rozliczenie kwartalne'!H246","v":0},{"$f":"'Rozliczenie kwartalne'!I246","v":0},{"$f":"'Rozliczenie kwartalne'!J246","v":0},{"$f":"'Rozliczenie kwartalne'!K246","v":0},{"$f":"'Rozliczenie kwartalne'!L246","v":0},{"$f":"'Załącznik nr 1 do rozliczenia'!D243","v":0},{"$f":"'Załącznik nr 1 do rozliczenia'!F243","v":0},{"$f":"'Załącznik nr 1 do rozliczenia'!H243","v":0},{"$f":"'Załącznik nr 2 do rozliczenia'!D239","v":0},{"$f":"'Załącznik nr 2 do rozliczenia'!E239","v":0},{"$f":"'Załącznik nr 2 do rozliczenia'!F239","v":0},{"$f":"'Załącznik nr 2 do rozliczenia'!H239","v":0}]
[{"$f":"'Rozliczenie kwartalne'!A131","v":"96"},{"$f":"'Rozliczenie kwartalne'!B247","v":""},{"$f":"'Rozliczenie kwartalne'!C247","v":0},{"$f":"'Rozliczenie kwartalne'!D247","v":0},{"$f":"'Rozliczenie kwartalne'!E247","v":0},{"$f":"'Rozliczenie kwartalne'!F247","v":0},{"$f":"'Rozliczenie kwartalne'!G247","v":0},{"$f":"'Rozliczenie kwartalne'!H247","v":0},{"$f":"'Rozliczenie kwartalne'!I247","v":0},{"$f":"'Rozliczenie kwartalne'!J247","v":0},{"$f":"'Rozliczenie kwartalne'!K247","v":0},{"$f":"'Rozliczenie kwartalne'!L247","v":0},{"$f":"'Załącznik nr 1 do rozliczenia'!D244","v":0},{"$f":"'Załącznik nr 1 do rozliczenia'!F244","v":0},{"$f":"'Załącznik nr 1 do rozliczenia'!H244","v":0},{"$f":"'Załącznik nr 2 do rozliczenia'!D240","v":0},{"$f":"'Załącznik nr 2 do rozliczenia'!E240","v":0},{"$f":"'Załącznik nr 2 do rozliczenia'!F240","v":0},{"$f":"'Załącznik nr 2 do rozliczenia'!H240","v":0}]
[{"$f":"'Rozliczenie kwartalne'!A132","v":"97"},{"$f":"'Rozliczenie kwartalne'!B248","v":""},{"$f":"'Rozliczenie kwartalne'!C248","v":0},{"$f":"'Rozliczenie kwartalne'!D248","v":0},{"$f":"'Rozliczenie kwartalne'!E248","v":0},{"$f":"'Rozliczenie kwartalne'!F248","v":0},{"$f":"'Rozliczenie kwartalne'!G248","v":0},{"$f":"'Rozliczenie kwartalne'!H248","v":0},{"$f":"'Rozliczenie kwartalne'!I248","v":0},{"$f":"'Rozliczenie kwartalne'!J248","v":0},{"$f":"'Rozliczenie kwartalne'!K248","v":0},{"$f":"'Rozliczenie kwartalne'!L248","v":0},{"$f":"'Załącznik nr 1 do rozliczenia'!D245","v":0},{"$f":"'Załącznik nr 1 do rozliczenia'!F245","v":0},{"$f":"'Załącznik nr 1 do rozliczenia'!H245","v":0},{"$f":"'Załącznik nr 2 do rozliczenia'!D241","v":0},{"$f":"'Załącznik nr 2 do rozliczenia'!E241","v":0},{"$f":"'Załącznik nr 2 do rozliczenia'!F241","v":0},{"$f":"'Załącznik nr 2 do rozliczenia'!H241","v":0}]
[{"$f":"'Rozliczenie kwartalne'!A133","v":"98"},{"$f":"'Rozliczenie kwartalne'!B249","v":""},{"$f":"'Rozliczenie kwartalne'!C249","v":0},{"$f":"'Rozliczenie kwartalne'!D249","v":0},{"$f":"'Rozliczenie kwartalne'!E249","v":0},{"$f":"'Rozliczenie kwartalne'!F249","v":0},{"$f":"'Rozliczenie kwartalne'!G249","v":0},{"$f":"'Rozliczenie kwartalne'!H249","v":0},{"$f":"'Rozliczenie kwartalne'!I249","v":0},{"$f":"'Rozliczenie kwartalne'!J249","v":0},{"$f":"'Rozliczenie kwartalne'!K249","v":0},{"$f":"'Rozliczenie kwartalne'!L249","v":0},{"$f":"'Załącznik nr 1 do rozliczenia'!D246","v":0},{"$f":"'Załącznik nr 1 do rozliczenia'!F246","v":0},{"$f":"'Załącznik nr 1 do rozliczenia'!H246","v":0},{"$f":"'Załącznik nr 2 do rozliczenia'!D242","v":0},{"$f":"'Załącznik nr 2 do rozliczenia'!E242","v":0},{"$f":"'Załącznik nr 2 do rozliczenia'!F242","v":0},{"$f":"'Załącznik nr 2 do rozliczenia'!H242","v":0}]
[{"$f":"'Rozliczenie kwartalne'!A134","v":"99"},{"$f":"'Rozliczenie kwartalne'!B250","v":""},{"$f":"'Rozliczenie kwartalne'!C250","v":0},{"$f":"'Rozliczenie kwartalne'!D250","v":0},{"$f":"'Rozliczenie kwartalne'!E250","v":0},{"$f":"'Rozliczenie kwartalne'!F250","v":0},{"$f":"'Rozliczenie kwartalne'!G250","v":0},{"$f":"'Rozliczenie kwartalne'!H250","v":0},{"$f":"'Rozliczenie kwartalne'!I250","v":0},{"$f":"'Rozliczenie kwartalne'!J250","v":0},{"$f":"'Rozliczenie kwartalne'!K250","v":0},{"$f":"'Rozliczenie kwartalne'!L250","v":0},{"$f":"'Załącznik nr 1 do rozliczenia'!D247","v":0},{"$f":"'Załącznik nr 1 do rozliczenia'!F247","v":0},{"$f":"'Załącznik nr 1 do rozliczenia'!H247","v":0},{"$f":"'Załącznik nr 2 do rozliczenia'!D243","v":0},{"$f":"'Załącznik nr 2 do rozliczenia'!E243","v":0},{"$f":"'Załącznik nr 2 do rozliczenia'!F243","v":0},{"$f":"'Załącznik nr 2 do rozliczenia'!H243","v":0}]
[{"$f":"'Rozliczenie kwartalne'!A135","v":"100"},{"$f":"'Rozliczenie kwartalne'!B251","v":""},{"$f":"'Rozliczenie kwartalne'!C251","v":0},{"$f":"'Rozliczenie kwartalne'!D251","v":0},{"$f":"'Rozliczenie kwartalne'!E251","v":0},{"$f":"'Rozliczenie kwartalne'!F251","v":0},{"$f":"'Rozliczenie kwartalne'!G251","v":0},{"$f":"'Rozliczenie kwartalne'!H251","v":0},{"$f":"'Rozliczenie kwartalne'!I251","v":0},{"$f":"'Rozliczenie kwartalne'!J251","v":0},{"$f":"'Rozliczenie kwartalne'!K251","v":0},{"$f":"'Rozliczenie kwartalne'!L251","v":0},{"$f":"'Załącznik nr 1 do rozliczenia'!D248","v":0},{"$f":"'Załącznik nr 1 do rozliczenia'!F248","v":0},{"$f":"'Załącznik nr 1 do rozliczenia'!H248","v":0},{"$f":"'Załącznik nr 2 do rozliczenia'!D244","v":0},{"$f":"'Załącznik nr 2 do rozliczenia'!E244","v":0},{"$f":"'Załącznik nr 2 do rozliczenia'!F244","v":0},{"$f":"'Załącznik nr 2 do rozliczenia'!H244","v":0}]
[{"$f":"'Rozliczenie kwartalne'!A136","v":"101"},{"$f":"'Rozliczenie kwartalne'!B252","v":""},{"$f":"'Rozliczenie kwartalne'!C252","v":0},{"$f":"'Rozliczenie kwartalne'!D252","v":0},{"$f":"'Rozliczenie kwartalne'!E252","v":0},{"$f":"'Rozliczenie kwartalne'!F252","v":0},{"$f":"'Rozliczenie kwartalne'!G252","v":0},{"$f":"'Rozliczenie kwartalne'!H252","v":0},{"$f":"'Rozliczenie kwartalne'!I252","v":0},{"$f":"'Rozliczenie kwartalne'!J252","v":0},{"$f":"'Rozliczenie kwartalne'!K252","v":0},{"$f":"'Rozliczenie kwartalne'!L252","v":0},{"$f":"'Załącznik nr 1 do rozliczenia'!D249","v":0},{"$f":"'Załącznik nr 1 do rozliczenia'!F249","v":0},{"$f":"'Załącznik nr 1 do rozliczenia'!H249","v":0},{"$f":"'Załącznik nr 2 do rozliczenia'!D245","v":0},{"$f":"'Załącznik nr 2 do rozliczenia'!E245","v":0},{"$f":"'Załącznik nr 2 do rozliczenia'!F245","v":0},{"$f":"'Załącznik nr 2 do rozliczenia'!H245","v":0}]
[{"$f":"'Rozliczenie kwartalne'!A137","v":"102"},{"$f":"'Rozliczenie kwartalne'!B253","v":""},{"$f":"'Rozliczenie kwartalne'!C253","v":0},{"$f":"'Rozliczenie kwartalne'!D253","v":0},{"$f":"'Rozliczenie kwartalne'!E253","v":0},{"$f":"'Rozliczenie kwartalne'!F253","v":0},{"$f":"'Rozliczenie kwartalne'!G253","v":0},{"$f":"'Rozliczenie kwartalne'!H253","v":0},{"$f":"'Rozliczenie kwartalne'!I253","v":0},{"$f":"'Rozliczenie kwartalne'!J253","v":0},{"$f":"'Rozliczenie kwartalne'!K253","v":0},{"$f":"'Rozliczenie kwartalne'!L253","v":0},{"$f":"'Załącznik nr 1 do rozliczenia'!D250","v":0},{"$f":"'Załącznik nr 1 do rozliczenia'!F250","v":0},{"$f":"'Załącznik nr 1 do rozliczenia'!H250","v":0},{"$f":"'Załącznik nr 2 do rozliczenia'!D246","v":0},{"$f":"'Załącznik nr 2 do rozliczenia'!E246","v":0},{"$f":"'Załącznik nr 2 do rozliczenia'!F246","v":0},{"$f":"'Załącznik nr 2 do rozliczenia'!H246","v":0}]
[{"$f":"'Rozliczenie kwartalne'!A138","v":"103"},{"$f":"'Rozliczenie kwartalne'!B254","v":""},{"$f":"'Rozliczenie kwartalne'!C254","v":0},{"$f":"'Rozliczenie kwartalne'!D254","v":0},{"$f":"'Rozliczenie kwartalne'!E254","v":0},{"$f":"'Rozliczenie kwartalne'!F254","v":0},{"$f":"'Rozliczenie kwartalne'!G254","v":0},{"$f":"'Rozliczenie kwartalne'!H254","v":0},{"$f":"'Rozliczenie kwartalne'!I254","v":0},{"$f":"'Rozliczenie kwartalne'!J254","v":0},{"$f":"'Rozliczenie kwartalne'!K254","v":0},{"$f":"'Rozliczenie kwartalne'!L254","v":0},{"$f":"'Załącznik nr 1 do rozliczenia'!D251","v":0},{"$f":"'Załącznik nr 1 do rozliczenia'!F251","v":0},{"$f":"'Załącznik nr 1 do rozliczenia'!H251","v":0},{"$f":"'Załącznik nr 2 do rozliczenia'!D247","v":0},{"$f":"'Załącznik nr 2 do rozliczenia'!E247","v":0},{"$f":"'Załącznik nr 2 do rozliczenia'!F247","v":0},{"$f":"'Załącznik nr 2 do rozliczenia'!H247","v":0}]
[{"$f":"'Rozliczenie kwartalne'!A139","v":"104"},{"$f":"'Rozliczenie kwartalne'!B255","v":""},{"$f":"'Rozliczenie kwartalne'!C255","v":0},{"$f":"'Rozliczenie kwartalne'!D255","v":0},{"$f":"'Rozliczenie kwartalne'!E255","v":0},{"$f":"'Rozliczenie kwartalne'!F255","v":0},{"$f":"'Rozliczenie kwartalne'!G255","v":0},{"$f":"'Rozliczenie kwartalne'!H255","v":0},{"$f":"'Rozliczenie kwartalne'!I255","v":0},{"$f":"'Rozliczenie kwartalne'!J255","v":0},{"$f":"'Rozliczenie kwartalne'!K255","v":0},{"$f":"'Rozliczenie kwartalne'!L255","v":0},{"$f":"'Załącznik nr 1 do rozliczenia'!D252","v":0},{"$f":"'Załącznik nr 1 do rozliczenia'!F252","v":0},{"$f":"'Załącznik nr 1 do rozliczenia'!H252","v":0},{"$f":"'Załącznik nr 2 do rozliczenia'!D248","v":0},{"$f":"'Załącznik nr 2 do rozliczenia'!E248","v":0},{"$f":"'Załącznik nr 2 do rozliczenia'!F248","v":0},{"$f":"'Załącznik nr 2 do rozliczenia'!H248","v":0}]
[{"$f":"'Rozliczenie kwartalne'!A140","v":"105"},{"$f":"'Rozliczenie kwartalne'!B256","v":""},{"$f":"'Rozliczenie kwartalne'!C256","v":0},{"$f":"'Rozliczenie kwartalne'!D256","v":0},{"$f":"'Rozliczenie kwartalne'!E256","v":0},{"$f":"'Rozliczenie kwartalne'!F256","v":0},{"$f":"'Rozliczenie kwartalne'!G256","v":0},{"$f":"'Rozliczenie kwartalne'!H256","v":0},{"$f":"'Rozliczenie kwartalne'!I256","v":0},{"$f":"'Rozliczenie kwartalne'!J256","v":0},{"$f":"'Rozliczenie kwartalne'!K256","v":0},{"$f":"'Rozliczenie kwartalne'!L256","v":0},{"$f":"'Załącznik nr 1 do rozliczenia'!D253","v":0},{"$f":"'Załącznik nr 1 do rozliczenia'!F253","v":0},{"$f":"'Załącznik nr 1 do rozliczenia'!H253","v":0},{"$f":"'Załącznik nr 2 do rozliczenia'!D249","v":0},{"$f":"'Załącznik nr 2 do rozliczenia'!E249","v":0},{"$f":"'Załącznik nr 2 do rozliczenia'!F249","v":0},{"$f":"'Załącznik nr 2 do rozliczenia'!H249","v":0}]
[{"$f":"'Rozliczenie kwartalne'!A141","v":"106"},{"$f":"'Rozliczenie kwartalne'!B257","v":""},{"$f":"'Rozliczenie kwartalne'!C257","v":0},{"$f":"'Rozliczenie kwartalne'!D257","v":0},{"$f":"'Rozliczenie kwartalne'!E257","v":0},{"$f":"'Rozliczenie kwartalne'!F257","v":0},{"$f":"'Rozliczenie kwartalne'!G257","v":0},{"$f":"'Rozliczenie kwartalne'!H257","v":0},{"$f":"'Rozliczenie kwartalne'!I257","v":0},{"$f":"'Rozliczenie kwartalne'!J257","v":0},{"$f":"'Rozliczenie kwartalne'!K257","v":0},{"$f":"'Rozliczenie kwartalne'!L257","v":0},{"$f":"'Załącznik nr 1 do rozliczenia'!D254","v":0},{"$f":"'Załącznik nr 1 do rozliczenia'!F254","v":0},{"$f":"'Załącznik nr 1 do rozliczenia'!H254","v":0},{"$f":"'Załącznik nr 2 do rozliczenia'!D250","v":0},{"$f":"'Załącznik nr 2 do rozliczenia'!E250","v":0},{"$f":"'Załącznik nr 2 do rozliczenia'!F250","v":0},{"$f":"'Załącznik nr 2 do rozliczenia'!H250","v":0}]
[{"$f":"'Rozliczenie kwartalne'!A142","v":"107"},{"$f":"'Rozliczenie kwartalne'!B258","v":""},{"$f":"'Rozliczenie kwartalne'!C258","v":0},{"$f":"'Rozliczenie kwartalne'!D258","v":0},{"$f":"'Rozliczenie kwartalne'!E258","v":0},{"$f":"'Rozliczenie kwartalne'!F258","v":0},{"$f":"'Rozliczenie kwartalne'!G258","v":0},{"$f":"'Rozliczenie kwartalne'!H258","v":0},{"$f":"'Rozliczenie kwartalne'!I258","v":0},{"$f":"'Rozliczenie kwartalne'!J258","v":0},{"$f":"'Rozliczenie kwartalne'!K258","v":0},{"$f":"'Rozliczenie kwartalne'!L258","v":0},{"$f":"'Załącznik nr 1 do rozliczenia'!D255","v":0},{"$f":"'Załącznik nr 1 do rozliczenia'!F255","v":0},{"$f":"'Załącznik nr 1 do rozliczenia'!H255","v":0},{"$f":"'Załącznik nr 2 do rozliczenia'!D251","v":0},{"$f":"'Załącznik nr 2 do rozliczenia'!E251","v":0},{"$f":"'Załącznik nr 2 do rozliczenia'!F251","v":0},{"$f":"'Załącznik nr 2 do rozliczenia'!H251","v":0}]
[{"$f":"'Rozliczenie kwartalne'!A143","v":"108"},{"$f":"'Rozliczenie kwartalne'!B259","v":""},{"$f":"'Rozliczenie kwartalne'!C259","v":0},{"$f":"'Rozliczenie kwartalne'!D259","v":0},{"$f":"'Rozliczenie kwartalne'!E259","v":0},{"$f":"'Rozliczenie kwartalne'!F259","v":0},{"$f":"'Rozliczenie kwartalne'!G259","v":0},{"$f":"'Rozliczenie kwartalne'!H259","v":0},{"$f":"'Rozliczenie kwartalne'!I259","v":0},{"$f":"'Rozliczenie kwartalne'!J259","v":0},{"$f":"'Rozliczenie kwartalne'!K259","v":0},{"$f":"'Rozliczenie kwartalne'!L259","v":0},{"$f":"'Załącznik nr 1 do rozliczenia'!D256","v":0},{"$f":"'Załącznik nr 1 do rozliczenia'!F256","v":0},{"$f":"'Załącznik nr 1 do rozliczenia'!H256","v":0},{"$f":"'Załącznik nr 2 do rozliczenia'!D252","v":0},{"$f":"'Załącznik nr 2 do rozliczenia'!E252","v":0},{"$f":"'Załącznik nr 2 do rozliczenia'!F252","v":0},{"$f":"'Załącznik nr 2 do rozliczenia'!H252","v":0}]
[{"$f":"'Rozliczenie kwartalne'!A144","v":"109"},{"$f":"'Rozliczenie kwartalne'!B260","v":""},{"$f":"'Rozliczenie kwartalne'!C260","v":0},{"$f":"'Rozliczenie kwartalne'!D260","v":0},{"$f":"'Rozliczenie kwartalne'!E260","v":0},{"$f":"'Rozliczenie kwartalne'!F260","v":0},{"$f":"'Rozliczenie kwartalne'!G260","v":0},{"$f":"'Rozliczenie kwartalne'!H260","v":0},{"$f":"'Rozliczenie kwartalne'!I260","v":0},{"$f":"'Rozliczenie kwartalne'!J260","v":0},{"$f":"'Rozliczenie kwartalne'!K260","v":0},{"$f":"'Rozliczenie kwartalne'!L260","v":0},{"$f":"'Załącznik nr 1 do rozliczenia'!D257","v":0},{"$f":"'Załącznik nr 1 do rozliczenia'!F257","v":0},{"$f":"'Załącznik nr 1 do rozliczenia'!H257","v":0},{"$f":"'Załącznik nr 2 do rozliczenia'!D253","v":0},{"$f":"'Załącznik nr 2 do rozliczenia'!E253","v":0},{"$f":"'Załącznik nr 2 do rozliczenia'!F253","v":0},{"$f":"'Załącznik nr 2 do rozliczenia'!H253","v":0}]
[{"$f":"'Rozliczenie kwartalne'!A145","v":"110"},{"$f":"'Rozliczenie kwartalne'!B261","v":""},{"$f":"'Rozliczenie kwartalne'!C261","v":0},{"$f":"'Rozliczenie kwartalne'!D261","v":0},{"$f":"'Rozliczenie kwartalne'!E261","v":0},{"$f":"'Rozliczenie kwartalne'!F261","v":0},{"$f":"'Rozliczenie kwartalne'!G261","v":0},{"$f":"'Rozliczenie kwartalne'!H261","v":0},{"$f":"'Rozliczenie kwartalne'!I261","v":0},{"$f":"'Rozliczenie kwartalne'!J261","v":0},{"$f":"'Rozliczenie kwartalne'!K261","v":0},{"$f":"'Rozliczenie kwartalne'!L261","v":0},{"$f":"'Załącznik nr 1 do rozliczenia'!D258","v":0},{"$f":"'Załącznik nr 1 do rozliczenia'!F258","v":0},{"$f":"'Załącznik nr 1 do rozliczenia'!H258","v":0},{"$f":"'Załącznik nr 2 do rozliczenia'!D254","v":0},{"$f":"'Załącznik nr 2 do rozliczenia'!E254","v":0},{"$f":"'Załącznik nr 2 do rozliczenia'!F254","v":0},{"$f":"'Załącznik nr 2 do rozliczenia'!H254","v":0}]

{"sheet":"Dane - linie 3","index":11,"n_rows":111,"n_cols":19,"rows_kept":111,"cut":false,"hidden":true,"merged":[]}
[{"$f":"'Rozliczenie kwartalne'!A34","v":"Lp."},{"$f":"'Rozliczenie kwartalne'!B34","v":"Nazwa linii komunikacyjnej"},{"$f":"'Rozliczenie kwartalne'!C34","v":"Liczba przewiezionych osób"},{"$f":"'Rozliczenie kwartalne'!D34","v":"Wielkość pracy eksploatacyjnej w okresie rozliczeniowym [wzkm]"},{"$f":"'Rozliczenie kwartalne'!E34","v":"Cena usługi [zł]"},{"$f":"'Rozliczenie kwartalne'!F34","v":"Deficyt w okresie rozliczeniowym [zł]"},{"$f":"'Rozliczenie kwartalne'!G34","v":"Część ceny usługi sfinansowana ze środków własnych organizatora  [zł / wzkm]"},{"$f":"'Rozliczenie kwartalne'!H34","v":"Procentowa wartość części ceny usługi sfinansowanej ze środków własnych organizatora [%]"},{"$f":"'Rozliczenie kwartalne'!I34","v":"Kwota środków własnych organizatora [zł]"},{"$f":"'Rozliczenie kwartalne'!J34","v":"Pobrana dopłata w okresie rozliczeniowym [zł]"},{"$f":"'Rozliczenie kwartalne'!K34","v":"Należna kwota dopłaty w okresie rozliczeniowym [zł]"},{"$f":"'Rozliczenie kwartalne'!L34","v":"Niewykorzystana kwota dopłaty w okresie rozliczeniowym [zł]"},{"$f":"'Załącznik nr 1 do rozliczenia'!D30","v":"Suma kosztów osiągniętych na linii komunikacyjnej [zł]"},{"$f":"'Załącznik nr 1 do rozliczenia'!F30","v":"Suma przychodów osiągniętych na linii komunikacyjnych [zł]"},{"$f":"'Załącznik nr 1 do rozliczenia'!H30","v":"Wynik finansowy linii komunikacyjnej - deficyt [zł] "},{"$f":"'Załącznik nr 2 do rozliczenia'!D27","v":"Długość linii [km]"},{"$f":"'Załącznik nr 2 do rozliczenia'!E27","v":"Ilość wykonanych kursów w okresie rozliczeniowym"},{"$f":"'Załącznik nr 2 do rozliczenia'!F27","v":"Dni kursowania"},{"$f":"'Załącznik nr 2 do rozliczenia'!H27","v":"Zrealizowana praca eksploatacyjna [wzkm]"}]
[{"$f":"'Rozliczenie kwartalne'!A268","v":"1"},{"$f":"'Rozliczenie kwartalne'!B268","v":""},{"$f":"'Rozliczenie kwartalne'!C268","v":0},{"$f":"'Rozliczenie kwartalne'!D268","v":0},{"$f":"'Rozliczenie kwartalne'!E268","v":0},{"$f":"'Rozliczenie kwartalne'!F268","v":0},{"$f":"'Rozliczenie kwartalne'!G268","v":0},{"$f":"'Rozliczenie kwartalne'!H268","v":0},{"$f":"'Rozliczenie kwartalne'!I268","v":0},{"$f":"'Rozliczenie kwartalne'!J268","v":0},{"$f":"'Rozliczenie kwartalne'!K268","v":0},{"$f":"'Rozliczenie kwartalne'!L268","v":0},{"$f":"'Załącznik nr 1 do rozliczenia'!D266","v":0},{"$f":"'Załącznik nr 1 do rozliczenia'!F266","v":0},{"$f":"'Załącznik nr 1 do rozliczenia'!H266","v":0},{"$f":"'Załącznik nr 2 do rozliczenia'!D261","v":0},{"$f":"'Załącznik nr 2 do rozliczenia'!E261","v":0},{"$f":"'Załącznik nr 2 do rozliczenia'!F261","v":0},{"$f":"'Załącznik nr 2 do rozliczenia'!H261","v":0}]
[{"$f":"'Rozliczenie kwartalne'!A37","v":"2"},{"$f":"'Rozliczenie kwartalne'!B269","v":""},{"$f":"'Rozliczenie kwartalne'!C269","v":0},{"$f":"'Rozliczenie kwartalne'!D269","v":0},{"$f":"'Rozliczenie kwartalne'!E269","v":0},{"$f":"'Rozliczenie kwartalne'!F269","v":0},{"$f":"'Rozliczenie kwartalne'!G269","v":0},{"$f":"'Rozliczenie kwartalne'!H269","v":0},{"$f":"'Rozliczenie kwartalne'!I269","v":0},{"$f":"'Rozliczenie kwartalne'!J269","v":0},{"$f":"'Rozliczenie kwartalne'!K269","v":0},{"$f":"'Rozliczenie kwartalne'!L269","v":0},{"$f":"'Załącznik nr 1 do rozliczenia'!D267","v":0},{"$f":"'Załącznik nr 1 do rozliczenia'!F267","v":0},{"$f":"'Załącznik nr 2 do rozliczenia'!F146","v":0},{"$f":"'Załącznik nr 2 do rozliczenia'!D262","v":0},{"$f":"'Załącznik nr 2 do rozliczenia'!E262","v":0},{"$f":"'Załącznik nr 2 do rozliczenia'!F262","v":0},{"$f":"'Załącznik nr 2 do rozliczenia'!H262","v":0}]
[{"$f":"'Rozliczenie kwartalne'!A38","v":"3"},{"$f":"'Rozliczenie kwartalne'!B270","v":""},{"$f":"'Rozliczenie kwartalne'!C270","v":0},{"$f":"'Rozliczenie kwartalne'!D270","v":0},{"$f":"'Rozliczenie kwartalne'!E270","v":0},{"$f":"'Rozliczenie kwartalne'!F270","v":0},{"$f":"'Rozliczenie kwartalne'!G270","v":0},{"$f":"'Rozliczenie kwartalne'!H270","v":0},{"$f":"'Rozliczenie kwartalne'!I270","v":0},{"$f":"'Rozliczenie kwartalne'!J270","v":0},{"$f":"'Rozliczenie kwartalne'!K270","v":0},{"$f":"'Rozliczenie kwartalne'!L270","v":0},{"$f":"'Załącznik nr 1 do rozliczenia'!D268","v":0},{"$f":"'Załącznik nr 1 do rozliczenia'!F268","v":0},{"$f":"'Załącznik nr 2 do rozliczenia'!F147","v":0},{"$f":"'Załącznik nr 2 do rozliczenia'!D263","v":0},{"$f":"'Załącznik nr 2 do rozliczenia'!E263","v":0},{"$f":"'Załącznik nr 2 do rozliczenia'!F263","v":0},{"$f":"'Załącznik nr 2 do rozliczenia'!H263","v":0}]
[{"$f":"'Rozliczenie kwartalne'!A39","v":"4"},{"$f":"'Rozliczenie kwartalne'!B271","v":""},{"$f":"'Rozliczenie kwartalne'!C271","v":0},{"$f":"'Rozliczenie kwartalne'!D271","v":0},{"$f":"'Rozliczenie kwartalne'!E271","v":0},{"$f":"'Rozliczenie kwartalne'!F271","v":0},{"$f":"'Rozliczenie kwartalne'!G271","v":0},{"$f":"'Rozliczenie kwartalne'!H271","v":0},{"$f":"'Rozliczenie kwartalne'!I271","v":0},{"$f":"'Rozliczenie kwartalne'!J271","v":0},{"$f":"'Rozliczenie kwartalne'!K271","v":0},{"$f":"'Rozliczenie kwartalne'!L271","v":0},{"$f":"'Załącznik nr 1 do rozliczenia'!D269","v":0},{"$f":"'Załącznik nr 1 do rozliczenia'!F269","v":0},{"$f":"'Załącznik nr 2 do rozliczenia'!F148","v":0},{"$f":"'Załącznik nr 2 do rozliczenia'!D264","v":0},{"$f":"'Załącznik nr 2 do rozliczenia'!E264","v":0},{"$f":"'Załącznik nr 2 do rozliczenia'!F264","v":0},{"$f":"'Załącznik nr 2 do rozliczenia'!H264","v":0}]
[{"$f":"'Rozliczenie kwartalne'!A40","v":"5"},{"$f":"'Rozliczenie kwartalne'!B272","v":""},{"$f":"'Rozliczenie kwartalne'!C272","v":0},{"$f":"'Rozliczenie kwartalne'!D272","v":0},{"$f":"'Rozliczenie kwartalne'!E272","v":0},{"$f":"'Rozliczenie kwartalne'!F272","v":0},{"$f":"'Rozliczenie kwartalne'!G272","v":0},{"$f":"'Rozliczenie kwartalne'!H272","v":0},{"$f":"'Rozliczenie kwartalne'!I272","v":0},{"$f":"'Rozliczenie kwartalne'!J272","v":0},{"$f":"'Rozliczenie kwartalne'!K272","v":0},{"$f":"'Rozliczenie kwartalne'!L272","v":0},{"$f":"'Załącznik nr 1 do rozliczenia'!D270","v":0},{"$f":"'Załącznik nr 1 do rozliczenia'!F270","v":0},{"$f":"'Załącznik nr 2 do rozliczenia'!F149","v":0},{"$f":"'Załącznik nr 2 do rozliczenia'!D265","v":0},{"$f":"'Załącznik nr 2 do rozliczenia'!E265","v":0},{"$f":"'Załącznik nr 2 do rozliczenia'!F265","v":0},{"$f":"'Załącznik nr 2 do rozliczenia'!H265","v":0}]
[{"$f":"'Rozliczenie kwartalne'!A41","v":"6"},{"$f":"'Rozliczenie kwartalne'!B273","v":""},{"$f":"'Rozliczenie kwartalne'!C273","v":0},{"$f":"'Rozliczenie kwartalne'!D273","v":0},{"$f":"'Rozliczenie kwartalne'!E273","v":0},{"$f":"'Rozliczenie kwartalne'!F273","v":0},{"$f":"'Rozliczenie kwartalne'!G273","v":0},{"$f":"'Rozliczenie kwartalne'!H273","v":0},{"$f":"'Rozliczenie kwartalne'!I273","v":0},{"$f":"'Rozliczenie kwartalne'!J273","v":0},{"$f":"'Rozliczenie kwartalne'!K273","v":0},{"$f":"'Rozliczenie kwartalne'!L273","v":0},{"$f":"'Załącznik nr 1 do rozliczenia'!D271","v":0},{"$f":"'Załącznik nr 1 do rozliczenia'!F271","v":0},{"$f":"'Załącznik nr 2 do rozliczenia'!F150","v":0},{"$f":"'Załącznik nr 2 do rozliczenia'!D266","v":0},{"$f":"'Załącznik nr 2 do rozliczenia'!E266","v":0},{"$f":"'Załącznik nr 2 do rozliczenia'!F266","v":0},{"$f":"'Załącznik nr 2 do rozliczenia'!H266","v":0}]
[{"$f":"'Rozliczenie kwartalne'!A42","v":"7"},{"$f":"'Rozliczenie kwartalne'!B274","v":""},{"$f":"'Rozliczenie kwartalne'!C274","v":0},{"$f":"'Rozliczenie kwartalne'!D274","v":0},{"$f":"'Rozliczenie kwartalne'!E274","v":0},{"$f":"'Rozliczenie kwartalne'!F274","v":0},{"$f":"'Rozliczenie kwartalne'!G274","v":0},{"$f":"'Rozliczenie kwartalne'!H274","v":0},{"$f":"'Rozliczenie kwartalne'!I274","v":0},{"$f":"'Rozliczenie kwartalne'!J274","v":0},{"$f":"'Rozliczenie kwartalne'!K274","v":0},{"$f":"'Rozliczenie kwartalne'!L274","v":0},{"$f":"'Załącznik nr 1 do rozliczenia'!D272","v":0},{"$f":"'Załącznik nr 1 do rozliczenia'!F272","v":0},{"$f":"'Załącznik nr 2 do rozliczenia'!F151","v":0},{"$f":"'Załącznik nr 2 do rozliczenia'!D267","v":0},{"$f":"'Załącznik nr 2 do rozliczenia'!E267","v":0},{"$f":"'Załącznik nr 2 do rozliczenia'!F267","v":0},{"$f":"'Załącznik nr 2 do rozliczenia'!H267","v":0}]
[{"$f":"'Rozliczenie kwartalne'!A43","v":"8"},{"$f":"'Rozliczenie kwartalne'!B275","v":""},{"$f":"'Rozliczenie kwartalne'!C275","v":0},{"$f":"'Rozliczenie kwartalne'!D275","v":0},{"$f":"'Rozliczenie kwartalne'!E275","v":0},{"$f":"'Rozliczenie kwartalne'!F275","v":0},{"$f":"'Rozliczenie kwartalne'!G275","v":0},{"$f":"'Rozliczenie kwartalne'!H275","v":0},{"$f":"'Rozliczenie kwartalne'!I275","v":0},{"$f":"'Rozliczenie kwartalne'!J275","v":0},{"$f":"'Rozliczenie kwartalne'!K275","v":0},{"$f":"'Rozliczenie kwartalne'!L275","v":0},{"$f":"'Załącznik nr 1 do rozliczenia'!D273","v":0},{"$f":"'Załącznik nr 1 do rozliczenia'!F273","v":0},{"$f":"'Załącznik nr 2 do rozliczenia'!F152","v":0},{"$f":"'Załącznik nr 2 do rozliczenia'!D268","v":0},{"$f":"'Załącznik nr 2 do rozliczenia'!E268","v":0},{"$f":"'Załącznik nr 2 do rozliczenia'!F268","v":0},{"$f":"'Załącznik nr 2 do rozliczenia'!H268","v":0}]
[{"$f":"'Rozliczenie kwartalne'!A44","v":"9"},{"$f":"'Rozliczenie kwartalne'!B276","v":""},{"$f":"'Rozliczenie kwartalne'!C276","v":0},{"$f":"'Rozliczenie kwartalne'!D276","v":0},{"$f":"'Rozliczenie kwartalne'!E276","v":0},{"$f":"'Rozliczenie kwartalne'!F276","v":0},{"$f":"'Rozliczenie kwartalne'!G276","v":0},{"$f":"'Rozliczenie kwartalne'!H276","v":0},{"$f":"'Rozliczenie kwartalne'!I276","v":0},{"$f":"'Rozliczenie kwartalne'!J276","v":0},{"$f":"'Rozliczenie kwartalne'!K276","v":0},{"$f":"'Rozliczenie kwartalne'!L276","v":0},{"$f":"'Załącznik nr 1 do rozliczenia'!D274","v":0},{"$f":"'Załącznik nr 1 do rozliczenia'!F274","v":0},{"$f":"'Załącznik nr 2 do rozliczenia'!F153","v":0},{"$f":"'Załącznik nr 2 do rozliczenia'!D269","v":0},{"$f":"'Załącznik nr 2 do rozliczenia'!E269","v":0},{"$f":"'Załącznik nr 2 do rozliczenia'!F269","v":0},{"$f":"'Załącznik nr 2 do rozliczenia'!H269","v":0}]
[{"$f":"'Rozliczenie kwartalne'!A45","v":"10"},{"$f":"'Rozliczenie kwartalne'!B277","v":""},{"$f":"'Rozliczenie kwartalne'!C277","v":0},{"$f":"'Rozliczenie kwartalne'!D277","v":0},{"$f":"'Rozliczenie kwartalne'!E277","v":0},{"$f":"'Rozliczenie kwartalne'!F277","v":0},{"$f":"'Rozliczenie kwartalne'!G277","v":0},{"$f":"'Rozliczenie kwartalne'!H277","v":0},{"$f":"'Rozliczenie kwartalne'!I277","v":0},{"$f":"'Rozliczenie kwartalne'!J277","v":0},{"$f":"'Rozliczenie kwartalne'!K277","v":0},{"$f":"'Rozliczenie kwartalne'!L277","v":0},{"$f":"'Załącznik nr 1 do rozliczenia'!D275","v":0},{"$f":"'Załącznik nr 1 do rozliczenia'!F275","v":0},{"$f":"'Załącznik nr 2 do rozliczenia'!F154","v":0},{"$f":"'Załącznik nr 2 do rozliczenia'!D270","v":0},{"$f":"'Załącznik nr 2 do rozliczenia'!E270","v":0},{"$f":"'Załącznik nr 2 do rozliczenia'!F270","v":0},{"$f":"'Załącznik nr 2 do rozliczenia'!H270","v":0}]
[{"$f":"'Rozliczenie kwartalne'!A46","v":"11"},{"$f":"'Rozliczenie kwartalne'!B278","v":""},{"$f":"'Rozliczenie kwartalne'!C278","v":0},{"$f":"'Rozliczenie kwartalne'!D278","v":0},{"$f":"'Rozliczenie kwartalne'!E278","v":0},{"$f":"'Rozliczenie kwartalne'!F278","v":0},{"$f":"'Rozliczenie kwartalne'!G278","v":0},{"$f":"'Rozliczenie kwartalne'!H278","v":0},{"$f":"'Rozliczenie kwartalne'!I278","v":0},{"$f":"'Rozliczenie kwartalne'!J278","v":0},{"$f":"'Rozliczenie kwartalne'!K278","v":0},{"$f":"'Rozliczenie kwartalne'!L278","v":0},{"$f":"'Załącznik nr 1 do rozliczenia'!D276","v":0},{"$f":"'Załącznik nr 1 do rozliczenia'!F276","v":0},{"$f":"'Załącznik nr 2 do rozliczenia'!F155","v":0},{"$f":"'Załącznik nr 2 do rozliczenia'!D271","v":0},{"$f":"'Załącznik nr 2 do rozliczenia'!E271","v":0},{"$f":"'Załącznik nr 2 do rozliczenia'!F271","v":0},{"$f":"'Załącznik nr 2 do rozliczenia'!H271","v":0}]
[{"$f":"'Rozliczenie kwartalne'!A47","v":"12"},{"$f":"'Rozliczenie kwartalne'!B279","v":""},{"$f":"'Rozliczenie kwartalne'!C279","v":0},{"$f":"'Rozliczenie kwartalne'!D279","v":0},{"$f":"'Rozliczenie kwartalne'!E279","v":0},{"$f":"'Rozliczenie kwartalne'!F279","v":0},{"$f":"'Rozliczenie kwartalne'!G279","v":0},{"$f":"'Rozliczenie kwartalne'!H279","v":0},{"$f":"'Rozliczenie kwartalne'!I279","v":0},{"$f":"'Rozliczenie kwartalne'!J279","v":0},{"$f":"'Rozliczenie kwartalne'!K279","v":0},{"$f":"'Rozliczenie kwartalne'!L279","v":0},{"$f":"'Załącznik nr 1 do rozliczenia'!D277","v":0},{"$f":"'Załącznik nr 1 do rozliczenia'!F277","v":0},{"$f":"'Załącznik nr 2 do rozliczenia'!F156","v":0},{"$f":"'Załącznik nr 2 do rozliczenia'!D272","v":0},{"$f":"'Załącznik nr 2 do rozliczenia'!E272","v":0},{"$f":"'Załącznik nr 2 do rozliczenia'!F272","v":0},{"$f":"'Załącznik nr 2 do rozliczenia'!H272","v":0}]
[{"$f":"'Rozliczenie kwartalne'!A48","v":"13"},{"$f":"'Rozliczenie kwartalne'!B280","v":""},{"$f":"'Rozliczenie kwartalne'!C280","v":0},{"$f":"'Rozliczenie kwartalne'!D280","v":0},{"$f":"'Rozliczenie kwartalne'!E280","v":0},{"$f":"'Rozliczenie kwartalne'!F280","v":0},{"$f":"'Rozliczenie kwartalne'!G280","v":0},{"$f":"'Rozliczenie kwartalne'!H280","v":0},{"$f":"'Rozliczenie kwartalne'!I280","v":0},{"$f":"'Rozliczenie kwartalne'!J280","v":0},{"$f":"'Rozliczenie kwartalne'!K280","v":0},{"$f":"'Rozliczenie kwartalne'!L280","v":0},{"$f":"'Załącznik nr 1 do rozliczenia'!D278","v":0},{"$f":"'Załącznik nr 1 do rozliczenia'!F278","v":0},{"$f":"'Załącznik nr 2 do rozliczenia'!F157","v":0},{"$f":"'Załącznik nr 2 do rozliczenia'!D273","v":0},{"$f":"'Załącznik nr 2 do rozliczenia'!E273","v":0},{"$f":"'Załącznik nr 2 do rozliczenia'!F273","v":0},{"$f":"'Załącznik nr 2 do rozliczenia'!H273","v":0}]
[{"$f":"'Rozliczenie kwartalne'!A49","v":"14"},{"$f":"'Rozliczenie kwartalne'!B281","v":""},{"$f":"'Rozliczenie kwartalne'!C281","v":0},{"$f":"'Rozliczenie kwartalne'!D281","v":0},{"$f":"'Rozliczenie kwartalne'!E281","v":0},{"$f":"'Rozliczenie kwartalne'!F281","v":0},{"$f":"'Rozliczenie kwartalne'!G281","v":0},{"$f":"'Rozliczenie kwartalne'!H281","v":0},{"$f":"'Rozliczenie kwartalne'!I281","v":0},{"$f":"'Rozliczenie kwartalne'!J281","v":0},{"$f":"'Rozliczenie kwartalne'!K281","v":0},{"$f":"'Rozliczenie kwartalne'!L281","v":0},{"$f":"'Załącznik nr 1 do rozliczenia'!D279","v":0},{"$f":"'Załącznik nr 1 do rozliczenia'!F279","v":0},{"$f":"'Załącznik nr 2 do rozliczenia'!F158","v":0},{"$f":"'Załącznik nr 2 do rozliczenia'!D274","v":0},{"$f":"'Załącznik nr 2 do rozliczenia'!E274","v":0},{"$f":"'Załącznik nr 2 do rozliczenia'!F274","v":0},{"$f":"'Załącznik nr 2 do rozliczenia'!H274","v":0}]
[{"$f":"'Rozliczenie kwartalne'!A50","v":"15"},{"$f":"'Rozliczenie kwartalne'!B282","v":""},{"$f":"'Rozliczenie kwartalne'!C282","v":0},{"$f":"'Rozliczenie kwartalne'!D282","v":0},{"$f":"'Rozliczenie kwartalne'!E282","v":0},{"$f":"'Rozliczenie kwartalne'!F282","v":0},{"$f":"'Rozliczenie kwartalne'!G282","v":0},{"$f":"'Rozliczenie kwartalne'!H282","v":0},{"$f":"'Rozliczenie kwartalne'!I282","v":0},{"$f":"'Rozliczenie kwartalne'!J282","v":0},{"$f":"'Rozliczenie kwartalne'!K282","v":0},{"$f":"'Rozliczenie kwartalne'!L282","v":0},{"$f":"'Załącznik nr 1 do rozliczenia'!D280","v":0},{"$f":"'Załącznik nr 1 do rozliczenia'!F280","v":0},{"$f":"'Załącznik nr 2 do rozliczenia'!F159","v":0},{"$f":"'Załącznik nr 2 do rozliczenia'!D275","v":0},{"$f":"'Załącznik nr 2 do rozliczenia'!E275","v":0},{"$f":"'Załącznik nr 2 do rozliczenia'!F275","v":0},{"$f":"'Załącznik nr 2 do rozliczenia'!H275","v":0}]
[{"$f":"'Rozliczenie kwartalne'!A51","v":"16"},{"$f":"'Rozliczenie kwartalne'!B283","v":""},{"$f":"'Rozliczenie kwartalne'!C283","v":0},{"$f":"'Rozliczenie kwartalne'!D283","v":0},{"$f":"'Rozliczenie kwartalne'!E283","v":0},{"$f":"'Rozliczenie kwartalne'!F283","v":0},{"$f":"'Rozliczenie kwartalne'!G283","v":0},{"$f":"'Rozliczenie kwartalne'!H283","v":0},{"$f":"'Rozliczenie kwartalne'!I283","v":0},{"$f":"'Rozliczenie kwartalne'!J283","v":0},{"$f":"'Rozliczenie kwartalne'!K283","v":0},{"$f":"'Rozliczenie kwartalne'!L283","v":0},{"$f":"'Załącznik nr 1 do rozliczenia'!D281","v":0},{"$f":"'Załącznik nr 1 do rozliczenia'!F281","v":0},{"$f":"'Załącznik nr 2 do rozliczenia'!F160","v":0},{"$f":"'Załącznik nr 2 do rozliczenia'!D276","v":0},{"$f":"'Załącznik nr 2 do rozliczenia'!E276","v":0},{"$f":"'Załącznik nr 2 do rozliczenia'!F276","v":0},{"$f":"'Załącznik nr 2 do rozliczenia'!H276","v":0}]
[{"$f":"'Rozliczenie kwartalne'!A52","v":"17"},{"$f":"'Rozliczenie kwartalne'!B284","v":""},{"$f":"'Rozliczenie kwartalne'!C284","v":0},{"$f":"'Rozliczenie kwartalne'!D284","v":0},{"$f":"'Rozliczenie kwartalne'!E284","v":0},{"$f":"'Rozliczenie kwartalne'!F284","v":0},{"$f":"'Rozliczenie kwartalne'!G284","v":0},{"$f":"'Rozliczenie kwartalne'!H284","v":0},{"$f":"'Rozliczenie kwartalne'!I284","v":0},{"$f":"'Rozliczenie kwartalne'!J284","v":0},{"$f":"'Rozliczenie kwartalne'!K284","v":0},{"$f":"'Rozliczenie kwartalne'!L284","v":0},{"$f":"'Załącznik nr 1 do rozliczenia'!D282","v":0},{"$f":"'Załącznik nr 1 do rozliczenia'!F282","v":0},{"$f":"'Załącznik nr 2 do rozliczenia'!F161","v":0},{"$f":"'Załącznik nr 2 do rozliczenia'!D277","v":0},{"$f":"'Załącznik nr 2 do rozliczenia'!E277","v":0},{"$f":"'Załącznik nr 2 do rozliczenia'!F277","v":0},{"$f":"'Załącznik nr 2 do rozliczenia'!H277","v":0}]
[{"$f":"'Rozliczenie kwartalne'!A53","v":"18"},{"$f":"'Rozliczenie kwartalne'!B285","v":""},{"$f":"'Rozliczenie kwartalne'!C285","v":0},{"$f":"'Rozliczenie kwartalne'!D285","v":0},{"$f":"'Rozliczenie kwartalne'!E285","v":0},{"$f":"'Rozliczenie kwartalne'!F285","v":0},{"$f":"'Rozliczenie kwartalne'!G285","v":0},{"$f":"'Rozliczenie kwartalne'!H285","v":0},{"$f":"'Rozliczenie kwartalne'!I285","v":0},{"$f":"'Rozliczenie kwartalne'!J285","v":0},{"$f":"'Rozliczenie kwartalne'!K285","v":0},{"$f":"'Rozliczenie kwartalne'!L285","v":0},{"$f":"'Załącznik nr 1 do rozliczenia'!D283","v":0},{"$f":"'Załącznik nr 1 do rozliczenia'!F283","v":0},{"$f":"'Załącznik nr 2 do rozliczenia'!F162","v":0},{"$f":"'Załącznik nr 2 do rozliczenia'!D278","v":0},{"$f":"'Załącznik nr 2 do rozliczenia'!E278","v":0},{"$f":"'Załącznik nr 2 do rozliczenia'!F278","v":0},{"$f":"'Załącznik nr 2 do rozliczenia'!H278","v":0}]
[{"$f":"'Rozliczenie kwartalne'!A54","v":"19"},{"$f":"'Rozliczenie kwartalne'!B286","v":""},{"$f":"'Rozliczenie kwartalne'!C286","v":0},{"$f":"'Rozliczenie kwartalne'!D286","v":0},{"$f":"'Rozliczenie kwartalne'!E286","v":0},{"$f":"'Rozliczenie kwartalne'!F286","v":0},{"$f":"'Rozliczenie kwartalne'!G286","v":0},{"$f":"'Rozliczenie kwartalne'!H286","v":0},{"$f":"'Rozliczenie kwartalne'!I286","v":0},{"$f":"'Rozliczenie kwartalne'!J286","v":0},{"$f":"'Rozliczenie kwartalne'!K286","v":0},{"$f":"'Rozliczenie kwartalne'!L286","v":0},{"$f":"'Załącznik nr 1 do rozliczenia'!D284","v":0},{"$f":"'Załącznik nr 1 do rozliczenia'!F284","v":0},{"$f":"'Załącznik nr 2 do rozliczenia'!F163","v":0},{"$f":"'Załącznik nr 2 do rozliczenia'!D279","v":0},{"$f":"'Załącznik nr 2 do rozliczenia'!E279","v":0},{"$f":"'Załącznik nr 2 do rozliczenia'!F279","v":0},{"$f":"'Załącznik nr 2 do rozliczenia'!H279","v":0}]
[{"$f":"'Rozliczenie kwartalne'!A55","v":"20"},{"$f":"'Rozliczenie kwartalne'!B287","v":""},{"$f":"'Rozliczenie kwartalne'!C287","v":0},{"$f":"'Rozliczenie kwartalne'!D287","v":0},{"$f":"'Rozliczenie kwartalne'!E287","v":0},{"$f":"'Rozliczenie kwartalne'!F287","v":0},{"$f":"'Rozliczenie kwartalne'!G287","v":0},{"$f":"'Rozliczenie kwartalne'!H287","v":0},{"$f":"'Rozliczenie kwartalne'!I287","v":0},{"$f":"'Rozliczenie kwartalne'!J287","v":0},{"$f":"'Rozliczenie kwartalne'!K287","v":0},{"$f":"'Rozliczenie kwartalne'!L287","v":0},{"$f":"'Załącznik nr 1 do rozliczenia'!D285","v":0},{"$f":"'Załącznik nr 1 do rozliczenia'!F285","v":0},{"$f":"'Załącznik nr 2 do rozliczenia'!F164","v":0},{"$f":"'Załącznik nr 2 do rozliczenia'!D280","v":0},{"$f":"'Załącznik nr 2 do rozliczenia'!E280","v":0},{"$f":"'Załącznik nr 2 do rozliczenia'!F280","v":0},{"$f":"'Załącznik nr 2 do rozliczenia'!H280","v":0}]
[{"$f":"'Rozliczenie kwartalne'!A56","v":"21"},{"$f":"'Rozliczenie kwartalne'!B288","v":""},{"$f":"'Rozliczenie kwartalne'!C288","v":0},{"$f":"'Rozliczenie kwartalne'!D288","v":0},{"$f":"'Rozliczenie kwartalne'!E288","v":0},{"$f":"'Rozliczenie kwartalne'!F288","v":0},{"$f":"'Rozliczenie kwartalne'!G288","v":0},{"$f":"'Rozliczenie kwartalne'!H288","v":0},{"$f":"'Rozliczenie kwartalne'!I288","v":0},{"$f":"'Rozliczenie kwartalne'!J288","v":0},{"$f":"'Rozliczenie kwartalne'!K288","v":0},{"$f":"'Rozliczenie kwartalne'!L288","v":0},{"$f":"'Załącznik nr 1 do rozliczenia'!D286","v":0},{"$f":"'Załącznik nr 1 do rozliczenia'!F286","v":0},{"$f":"'Załącznik nr 2 do rozliczenia'!F165","v":0},{"$f":"'Załącznik nr 2 do rozliczenia'!D281","v":0},{"$f":"'Załącznik nr 2 do rozliczenia'!E281","v":0},{"$f":"'Załącznik nr 2 do rozliczenia'!F281","v":0},{"$f":"'Załącznik nr 2 do rozliczenia'!H281","v":0}]
[{"$f":"'Rozliczenie kwartalne'!A57","v":"22"},{"$f":"'Rozliczenie kwartalne'!B289","v":""},{"$f":"'Rozliczenie kwartalne'!C289","v":0},{"$f":"'Rozliczenie kwartalne'!D289","v":0},{"$f":"'Rozliczenie kwartalne'!E289","v":0},{"$f":"'Rozliczenie kwartalne'!F289","v":0},{"$f":"'Rozliczenie kwartalne'!G289","v":0},{"$f":"'Rozliczenie kwartalne'!H289","v":0},{"$f":"'Rozliczenie kwartalne'!I289","v":0},{"$f":"'Rozliczenie kwartalne'!J289","v":0},{"$f":"'Rozliczenie kwartalne'!K289","v":0},{"$f":"'Rozliczenie kwartalne'!L289","v":0},{"$f":"'Załącznik nr 1 do rozliczenia'!D287","v":0},{"$f":"'Załącznik nr 1 do rozliczenia'!F287","v":0},{"$f":"'Załącznik nr 2 do rozliczenia'!F166","v":0},{"$f":"'Załącznik nr 2 do rozliczenia'!D282","v":0},{"$f":"'Załącznik nr 2 do rozliczenia'!E282","v":0},{"$f":"'Załącznik nr 2 do rozliczenia'!F282","v":0},{"$f":"'Załącznik nr 2 do rozliczenia'!H282","v":0}]
[{"$f":"'Rozliczenie kwartalne'!A58","v":"23"},{"$f":"'Rozliczenie kwartalne'!B290","v":""},{"$f":"'Rozliczenie kwartalne'!C290","v":0},{"$f":"'Rozliczenie kwartalne'!D290","v":0},{"$f":"'Rozliczenie kwartalne'!E290","v":0},{"$f":"'Rozliczenie kwartalne'!F290","v":0},{"$f":"'Rozliczenie kwartalne'!G290","v":0},{"$f":"'Rozliczenie kwartalne'!H290","v":0},{"$f":"'Rozliczenie kwartalne'!I290","v":0},{"$f":"'Rozliczenie kwartalne'!J290","v":0},{"$f":"'Rozliczenie kwartalne'!K290","v":0},{"$f":"'Rozliczenie kwartalne'!L290","v":0},{"$f":"'Załącznik nr 1 do rozliczenia'!D288","v":0},{"$f":"'Załącznik nr 1 do rozliczenia'!F288","v":0},{"$f":"'Załącznik nr 2 do rozliczenia'!F167","v":0},{"$f":"'Załącznik nr 2 do rozliczenia'!D283","v":0},{"$f":"'Załącznik nr 2 do rozliczenia'!E283","v":0},{"$f":"'Załącznik nr 2 do rozliczenia'!F283","v":0},{"$f":"'Załącznik nr 2 do rozliczenia'!H283","v":0}]
[{"$f":"'Rozliczenie kwartalne'!A59","v":"24"},{"$f":"'Rozliczenie kwartalne'!B291","v":""},{"$f":"'Rozliczenie kwartalne'!C291","v":0},{"$f":"'Rozliczenie kwartalne'!D291","v":0},{"$f":"'Rozliczenie kwartalne'!E291","v":0},{"$f":"'Rozliczenie kwartalne'!F291","v":0},{"$f":"'Rozliczenie kwartalne'!G291","v":0},{"$f":"'Rozliczenie kwartalne'!H291","v":0},{"$f":"'Rozliczenie kwartalne'!I291","v":0},{"$f":"'Rozliczenie kwartalne'!J291","v":0},{"$f":"'Rozliczenie kwartalne'!K291","v":0},{"$f":"'Rozliczenie kwartalne'!L291","v":0},{"$f":"'Załącznik nr 1 do rozliczenia'!D289","v":0},{"$f":"'Załącznik nr 1 do rozliczenia'!F289","v":0},{"$f":"'Załącznik nr 2 do rozliczenia'!F168","v":0},{"$f":"'Załącznik nr 2 do rozliczenia'!D284","v":0},{"$f":"'Załącznik nr 2 do rozliczenia'!E284","v":0},{"$f":"'Załącznik nr 2 do rozliczenia'!F284","v":0},{"$f":"'Załącznik nr 2 do rozliczenia'!H284","v":0}]
[{"$f":"'Rozliczenie kwartalne'!A60","v":"25"},{"$f":"'Rozliczenie kwartalne'!B292","v":""},{"$f":"'Rozliczenie kwartalne'!C292","v":0},{"$f":"'Rozliczenie kwartalne'!D292","v":0},{"$f":"'Rozliczenie kwartalne'!E292","v":0},{"$f":"'Rozliczenie kwartalne'!F292","v":0},{"$f":"'Rozliczenie kwartalne'!G292","v":0},{"$f":"'Rozliczenie kwartalne'!H292","v":0},{"$f":"'Rozliczenie kwartalne'!I292","v":0},{"$f":"'Rozliczenie kwartalne'!J292","v":0},{"$f":"'Rozliczenie kwartalne'!K292","v":0},{"$f":"'Rozliczenie kwartalne'!L292","v":0},{"$f":"'Załącznik nr 1 do rozliczenia'!D290","v":0},{"$f":"'Załącznik nr 1 do rozliczenia'!F290","v":0},{"$f":"'Załącznik nr 2 do rozliczenia'!F169","v":0},{"$f":"'Załącznik nr 2 do rozliczenia'!D285","v":0},{"$f":"'Załącznik nr 2 do rozliczenia'!E285","v":0},{"$f":"'Załącznik nr 2 do rozliczenia'!F285","v":0},{"$f":"'Załącznik nr 2 do rozliczenia'!H285","v":0}]
[{"$f":"'Rozliczenie kwartalne'!A61","v":"26"},{"$f":"'Rozliczenie kwartalne'!B293","v":""},{"$f":"'Rozliczenie kwartalne'!C293","v":0},{"$f":"'Rozliczenie kwartalne'!D293","v":0},{"$f":"'Rozliczenie kwartalne'!E293","v":0},{"$f":"'Rozliczenie kwartalne'!F293","v":0},{"$f":"'Rozliczenie kwartalne'!G293","v":0},{"$f":"'Rozliczenie kwartalne'!H293","v":0},{"$f":"'Rozliczenie kwartalne'!I293","v":0},{"$f":"'Rozliczenie kwartalne'!J293","v":0},{"$f":"'Rozliczenie kwartalne'!K293","v":0},{"$f":"'Rozliczenie kwartalne'!L293","v":0},{"$f":"'Załącznik nr 1 do rozliczenia'!D291","v":0},{"$f":"'Załącznik nr 1 do rozliczenia'!F291","v":0},{"$f":"'Załącznik nr 2 do rozliczenia'!F170","v":0},{"$f":"'Załącznik nr 2 do rozliczenia'!D286","v":0},{"$f":"'Załącznik nr 2 do rozliczenia'!E286","v":0},{"$f":"'Załącznik nr 2 do rozliczenia'!F286","v":0},{"$f":"'Załącznik nr 2 do rozliczenia'!H286","v":0}]
[{"$f":"'Rozliczenie kwartalne'!A62","v":"27"},{"$f":"'Rozliczenie kwartalne'!B294","v":""},{"$f":"'Rozliczenie kwartalne'!C294","v":0},{"$f":"'Rozliczenie kwartalne'!D294","v":0},{"$f":"'Rozliczenie kwartalne'!E294","v":0},{"$f":"'Rozliczenie kwartalne'!F294","v":0},{"$f":"'Rozliczenie kwartalne'!G294","v":0},{"$f":"'Rozliczenie kwartalne'!H294","v":0},{"$f":"'Rozliczenie kwartalne'!I294","v":0},{"$f":"'Rozliczenie kwartalne'!J294","v":0},{"$f":"'Rozliczenie kwartalne'!K294","v":0},{"$f":"'Rozliczenie kwartalne'!L294","v":0},{"$f":"'Załącznik nr 1 do rozliczenia'!D292","v":0},{"$f":"'Załącznik nr 1 do rozliczenia'!F292","v":0},{"$f":"'Załącznik nr 2 do rozliczenia'!F171","v":0},{"$f":"'Załącznik nr 2 do rozliczenia'!D287","v":0},{"$f":"'Załącznik nr 2 do rozliczenia'!E287","v":0},{"$f":"'Załącznik nr 2 do rozliczenia'!F287","v":0},{"$f":"'Załącznik nr 2 do rozliczenia'!H287","v":0}]
[{"$f":"'Rozliczenie kwartalne'!A63","v":"28"},{"$f":"'Rozliczenie kwartalne'!B295","v":""},{"$f":"'Rozliczenie kwartalne'!C295","v":0},{"$f":"'Rozliczenie kwartalne'!D295","v":0},{"$f":"'Rozliczenie kwartalne'!E295","v":0},{"$f":"'Rozliczenie kwartalne'!F295","v":0},{"$f":"'Rozliczenie kwartalne'!G295","v":0},{"$f":"'Rozliczenie kwartalne'!H295","v":0},{"$f":"'Rozliczenie kwartalne'!I295","v":0},{"$f":"'Rozliczenie kwartalne'!J295","v":0},{"$f":"'Rozliczenie kwartalne'!K295","v":0},{"$f":"'Rozliczenie kwartalne'!L295","v":0},{"$f":"'Załącznik nr 1 do rozliczenia'!D293","v":0},{"$f":"'Załącznik nr 1 do rozliczenia'!F293","v":0},{"$f":"'Załącznik nr 2 do rozliczenia'!F172","v":0},{"$f":"'Załącznik nr 2 do rozliczenia'!D288","v":0},{"$f":"'Załącznik nr 2 do rozliczenia'!E288","v":0},{"$f":"'Załącznik nr 2 do rozliczenia'!F288","v":0},{"$f":"'Załącznik nr 2 do rozliczenia'!H288","v":0}]
[{"$f":"'Rozliczenie kwartalne'!A64","v":"29"},{"$f":"'Rozliczenie kwartalne'!B296","v":""},{"$f":"'Rozliczenie kwartalne'!C296","v":0},{"$f":"'Rozliczenie kwartalne'!D296","v":0},{"$f":"'Rozliczenie kwartalne'!E296","v":0},{"$f":"'Rozliczenie kwartalne'!F296","v":0},{"$f":"'Rozliczenie kwartalne'!G296","v":0},{"$f":"'Rozliczenie kwartalne'!H296","v":0},{"$f":"'Rozliczenie kwartalne'!I296","v":0},{"$f":"'Rozliczenie kwartalne'!J296","v":0},{"$f":"'Rozliczenie kwartalne'!K296","v":0},{"$f":"'Rozliczenie kwartalne'!L296","v":0},{"$f":"'Załącznik nr 1 do rozliczenia'!D294","v":0},{"$f":"'Załącznik nr 1 do rozliczenia'!F294","v":0},{"$f":"'Załącznik nr 2 do rozliczenia'!F173","v":0},{"$f":"'Załącznik nr 2 do rozliczenia'!D289","v":0},{"$f":"'Załącznik nr 2 do rozliczenia'!E289","v":0},{"$f":"'Załącznik nr 2 do rozliczenia'!F289","v":0},{"$f":"'Załącznik nr 2 do rozliczenia'!H289","v":0}]
[{"$f":"'Rozliczenie kwartalne'!A65","v":"30"},{"$f":"'Rozliczenie kwartalne'!B297","v":""},{"$f":"'Rozliczenie kwartalne'!C297","v":0},{"$f":"'Rozliczenie kwartalne'!D297","v":0},{"$f":"'Rozliczenie kwartalne'!E297","v":0},{"$f":"'Rozliczenie kwartalne'!F297","v":0},{"$f":"'Rozliczenie kwartalne'!G297","v":0},{"$f":"'Rozliczenie kwartalne'!H297","v":0},{"$f":"'Rozliczenie kwartalne'!I297","v":0},{"$f":"'Rozliczenie kwartalne'!J297","v":0},{"$f":"'Rozliczenie kwartalne'!K297","v":0},{"$f":"'Rozliczenie kwartalne'!L297","v":0},{"$f":"'Załącznik nr 1 do rozliczenia'!D295","v":0},{"$f":"'Załącznik nr 1 do rozliczenia'!F295","v":0},{"$f":"'Załącznik nr 2 do rozliczenia'!F174","v":0},{"$f":"'Załącznik nr 2 do rozliczenia'!D290","v":0},{"$f":"'Załącznik nr 2 do rozliczenia'!E290","v":0},{"$f":"'Załącznik nr 2 do rozliczenia'!F290","v":0},{"$f":"'Załącznik nr 2 do rozliczenia'!H290","v":0}]
[{"$f":"'Rozliczenie kwartalne'!A66","v":"31"},{"$f":"'Rozliczenie kwartalne'!B298","v":""},{"$f":"'Rozliczenie kwartalne'!C298","v":0},{"$f":"'Rozliczenie kwartalne'!D298","v":0},{"$f":"'Rozliczenie kwartalne'!E298","v":0},{"$f":"'Rozliczenie kwartalne'!F298","v":0},{"$f":"'Rozliczenie kwartalne'!G298","v":0},{"$f":"'Rozliczenie kwartalne'!H298","v":0},{"$f":"'Rozliczenie kwartalne'!I298","v":0},{"$f":"'Rozliczenie kwartalne'!J298","v":0},{"$f":"'Rozliczenie kwartalne'!K298","v":0},{"$f":"'Rozliczenie kwartalne'!L298","v":0},{"$f":"'Załącznik nr 1 do rozliczenia'!D296","v":0},{"$f":"'Załącznik nr 1 do rozliczenia'!F296","v":0},{"$f":"'Załącznik nr 2 do rozliczenia'!F175","v":0},{"$f":"'Załącznik nr 2 do rozliczenia'!D291","v":0},{"$f":"'Załącznik nr 2 do rozliczenia'!E291","v":0},{"$f":"'Załącznik nr 2 do rozliczenia'!F291","v":0},{"$f":"'Załącznik nr 2 do rozliczenia'!H291","v":0}]
[{"$f":"'Rozliczenie kwartalne'!A67","v":"32"},{"$f":"'Rozliczenie kwartalne'!B299","v":""},{"$f":"'Rozliczenie kwartalne'!C299","v":0},{"$f":"'Rozliczenie kwartalne'!D299","v":0},{"$f":"'Rozliczenie kwartalne'!E299","v":0},{"$f":"'Rozliczenie kwartalne'!F299","v":0},{"$f":"'Rozliczenie kwartalne'!G299","v":0},{"$f":"'Rozliczenie kwartalne'!H299","v":0},{"$f":"'Rozliczenie kwartalne'!I299","v":0},{"$f":"'Rozliczenie kwartalne'!J299","v":0},{"$f":"'Rozliczenie kwartalne'!K299","v":0},{"$f":"'Rozliczenie kwartalne'!L299","v":0},{"$f":"'Załącznik nr 1 do rozliczenia'!D297","v":0},{"$f":"'Załącznik nr 1 do rozliczenia'!F297","v":0},{"$f":"'Załącznik nr 2 do rozliczenia'!F176","v":0},{"$f":"'Załącznik nr 2 do rozliczenia'!D292","v":0},{"$f":"'Załącznik nr 2 do rozliczenia'!E292","v":0},{"$f":"'Załącznik nr 2 do rozliczenia'!F292","v":0},{"$f":"'Załącznik nr 2 do rozliczenia'!H292","v":0}]
[{"$f":"'Rozliczenie kwartalne'!A68","v":"33"},{"$f":"'Rozliczenie kwartalne'!B300","v":""},{"$f":"'Rozliczenie kwartalne'!C300","v":0},{"$f":"'Rozliczenie kwartalne'!D300","v":0},{"$f":"'Rozliczenie kwartalne'!E300","v":0},{"$f":"'Rozliczenie kwartalne'!F300","v":0},{"$f":"'Rozliczenie kwartalne'!G300","v":0},{"$f":"'Rozliczenie kwartalne'!H300","v":0},{"$f":"'Rozliczenie kwartalne'!I300","v":0},{"$f":"'Rozliczenie kwartalne'!J300","v":0},{"$f":"'Rozliczenie kwartalne'!K300","v":0},{"$f":"'Rozliczenie kwartalne'!L300","v":0},{"$f":"'Załącznik nr 1 do rozliczenia'!D298","v":0},{"$f":"'Załącznik nr 1 do rozliczenia'!F298","v":0},{"$f":"'Załącznik nr 2 do rozliczenia'!F177","v":0},{"$f":"'Załącznik nr 2 do rozliczenia'!D293","v":0},{"$f":"'Załącznik nr 2 do rozliczenia'!E293","v":0},{"$f":"'Załącznik nr 2 do rozliczenia'!F293","v":0},{"$f":"'Załącznik nr 2 do rozliczenia'!H293","v":0}]
[{"$f":"'Rozliczenie kwartalne'!A69","v":"34"},{"$f":"'Rozliczenie kwartalne'!B301","v":""},{"$f":"'Rozliczenie kwartalne'!C301","v":0},{"$f":"'Rozliczenie kwartalne'!D301","v":0},{"$f":"'Rozliczenie kwartalne'!E301","v":0},{"$f":"'Rozliczenie kwartalne'!F301","v":0},{"$f":"'Rozliczenie kwartalne'!G301","v":0},{"$f":"'Rozliczenie kwartalne'!H301","v":0},{"$f":"'Rozliczenie kwartalne'!I301","v":0},{"$f":"'Rozliczenie kwartalne'!J301","v":0},{"$f":"'Rozliczenie kwartalne'!K301","v":0},{"$f":"'Rozliczenie kwartalne'!L301","v":0},{"$f":"'Załącznik nr 1 do rozliczenia'!D299","v":0},{"$f":"'Załącznik nr 1 do rozliczenia'!F299","v":0},{"$f":"'Załącznik nr 2 do rozliczenia'!F178","v":0},{"$f":"'Załącznik nr 2 do rozliczenia'!D294","v":0},{"$f":"'Załącznik nr 2 do rozliczenia'!E294","v":0},{"$f":"'Załącznik nr 2 do rozliczenia'!F294","v":0},{"$f":"'Załącznik nr 2 do rozliczenia'!H294","v":0}]
[{"$f":"'Rozliczenie kwartalne'!A70","v":"35"},{"$f":"'Rozliczenie kwartalne'!B302","v":""},{"$f":"'Rozliczenie kwartalne'!C302","v":0},{"$f":"'Rozliczenie kwartalne'!D302","v":0},{"$f":"'Rozliczenie kwartalne'!E302","v":0},{"$f":"'Rozliczenie kwartalne'!F302","v":0},{"$f":"'Rozliczenie kwartalne'!G302","v":0},{"$f":"'Rozliczenie kwartalne'!H302","v":0},{"$f":"'Rozliczenie kwartalne'!I302","v":0},{"$f":"'Rozliczenie kwartalne'!J302","v":0},{"$f":"'Rozliczenie kwartalne'!K302","v":0},{"$f":"'Rozliczenie kwartalne'!L302","v":0},{"$f":"'Załącznik nr 1 do rozliczenia'!D300","v":0},{"$f":"'Załącznik nr 1 do rozliczenia'!F300","v":0},{"$f":"'Załącznik nr 2 do rozliczenia'!F179","v":0},{"$f":"'Załącznik nr 2 do rozliczenia'!D295","v":0},{"$f":"'Załącznik nr 2 do rozliczenia'!E295","v":0},{"$f":"'Załącznik nr 2 do rozliczenia'!F295","v":0},{"$f":"'Załącznik nr 2 do rozliczenia'!H295","v":0}]
[{"$f":"'Rozliczenie kwartalne'!A71","v":"36"},{"$f":"'Rozliczenie kwartalne'!B303","v":""},{"$f":"'Rozliczenie kwartalne'!C303","v":0},{"$f":"'Rozliczenie kwartalne'!D303","v":0},{"$f":"'Rozliczenie kwartalne'!E303","v":0},{"$f":"'Rozliczenie kwartalne'!F303","v":0},{"$f":"'Rozliczenie kwartalne'!G303","v":0},{"$f":"'Rozliczenie kwartalne'!H303","v":0},{"$f":"'Rozliczenie kwartalne'!I303","v":0},{"$f":"'Rozliczenie kwartalne'!J303","v":0},{"$f":"'Rozliczenie kwartalne'!K303","v":0},{"$f":"'Rozliczenie kwartalne'!L303","v":0},{"$f":"'Załącznik nr 1 do rozliczenia'!D301","v":0},{"$f":"'Załącznik nr 1 do rozliczenia'!F301","v":0},{"$f":"'Załącznik nr 2 do rozliczenia'!F180","v":0},{"$f":"'Załącznik nr 2 do rozliczenia'!D296","v":0},{"$f":"'Załącznik nr 2 do rozliczenia'!E296","v":0},{"$f":"'Załącznik nr 2 do rozliczenia'!F296","v":0},{"$f":"'Załącznik nr 2 do rozliczenia'!H296","v":0}]
[{"$f":"'Rozliczenie kwartalne'!A72","v":"37"},{"$f":"'Rozliczenie kwartalne'!B304","v":""},{"$f":"'Rozliczenie kwartalne'!C304","v":0},{"$f":"'Rozliczenie kwartalne'!D304","v":0},{"$f":"'Rozliczenie kwartalne'!E304","v":0},{"$f":"'Rozliczenie kwartalne'!F304","v":0},{"$f":"'Rozliczenie kwartalne'!G304","v":0},{"$f":"'Rozliczenie kwartalne'!H304","v":0},{"$f":"'Rozliczenie kwartalne'!I304","v":0},{"$f":"'Rozliczenie kwartalne'!J304","v":0},{"$f":"'Rozliczenie kwartalne'!K304","v":0},{"$f":"'Rozliczenie kwartalne'!L304","v":0},{"$f":"'Załącznik nr 1 do rozliczenia'!D302","v":0},{"$f":"'Załącznik nr 1 do rozliczenia'!F302","v":0},{"$f":"'Załącznik nr 2 do rozliczenia'!F181","v":0},{"$f":"'Załącznik nr 2 do rozliczenia'!D297","v":0},{"$f":"'Załącznik nr 2 do rozliczenia'!E297","v":0},{"$f":"'Załącznik nr 2 do rozliczenia'!F297","v":0},{"$f":"'Załącznik nr 2 do rozliczenia'!H297","v":0}]
[{"$f":"'Rozliczenie kwartalne'!A73","v":"38"},{"$f":"'Rozliczenie kwartalne'!B305","v":""},{"$f":"'Rozliczenie kwartalne'!C305","v":0},{"$f":"'Rozliczenie kwartalne'!D305","v":0},{"$f":"'Rozliczenie kwartalne'!E305","v":0},{"$f":"'Rozliczenie kwartalne'!F305","v":0},{"$f":"'Rozliczenie kwartalne'!G305","v":0},{"$f":"'Rozliczenie kwartalne'!H305","v":0},{"$f":"'Rozliczenie kwartalne'!I305","v":0},{"$f":"'Rozliczenie kwartalne'!J305","v":0},{"$f":"'Rozliczenie kwartalne'!K305","v":0},{"$f":"'Rozliczenie kwartalne'!L305","v":0},{"$f":"'Załącznik nr 1 do rozliczenia'!D303","v":0},{"$f":"'Załącznik nr 1 do rozliczenia'!F303","v":0},{"$f":"'Załącznik nr 2 do rozliczenia'!F182","v":0},{"$f":"'Załącznik nr 2 do rozliczenia'!D298","v":0},{"$f":"'Załącznik nr 2 do rozliczenia'!E298","v":0},{"$f":"'Załącznik nr 2 do rozliczenia'!F298","v":0},{"$f":"'Załącznik nr 2 do rozliczenia'!H298","v":0}]
[{"$f":"'Rozliczenie kwartalne'!A74","v":"39"},{"$f":"'Rozliczenie kwartalne'!B306","v":""},{"$f":"'Rozliczenie kwartalne'!C306","v":0},{"$f":"'Rozliczenie kwartalne'!D306","v":0},{"$f":"'Rozliczenie kwartalne'!E306","v":0},{"$f":"'Rozliczenie kwartalne'!F306","v":0},{"$f":"'Rozliczenie kwartalne'!G306","v":0},{"$f":"'Rozliczenie kwartalne'!H306","v":0},{"$f":"'Rozliczenie kwartalne'!I306","v":0},{"$f":"'Rozliczenie kwartalne'!J306","v":0},{"$f":"'Rozliczenie kwartalne'!K306","v":0},{"$f":"'Rozliczenie kwartalne'!L306","v":0},{"$f":"'Załącznik nr 1 do rozliczenia'!D304","v":0},{"$f":"'Załącznik nr 1 do rozliczenia'!F304","v":0},{"$f":"'Załącznik nr 2 do rozliczenia'!F183","v":0},{"$f":"'Załącznik nr 2 do rozliczenia'!D299","v":0},{"$f":"'Załącznik nr 2 do rozliczenia'!E299","v":0},{"$f":"'Załącznik nr 2 do rozliczenia'!F299","v":0},{"$f":"'Załącznik nr 2 do rozliczenia'!H299","v":0}]
[{"$f":"'Rozliczenie kwartalne'!A75","v":"40"},{"$f":"'Rozliczenie kwartalne'!B307","v":""},{"$f":"'Rozliczenie kwartalne'!C307","v":0},{"$f":"'Rozliczenie kwartalne'!D307","v":0},{"$f":"'Rozliczenie kwartalne'!E307","v":0},{"$f":"'Rozliczenie kwartalne'!F307","v":0},{"$f":"'Rozliczenie kwartalne'!G307","v":0},{"$f":"'Rozliczenie kwartalne'!H307","v":0},{"$f":"'Rozliczenie kwartalne'!I307","v":0},{"$f":"'Rozliczenie kwartalne'!J307","v":0},{"$f":"'Rozliczenie kwartalne'!K307","v":0},{"$f":"'Rozliczenie kwartalne'!L307","v":0},{"$f":"'Załącznik nr 1 do rozliczenia'!D305","v":0},{"$f":"'Załącznik nr 1 do rozliczenia'!F305","v":0},{"$f":"'Załącznik nr 2 do rozliczenia'!F184","v":0},{"$f":"'Załącznik nr 2 do rozliczenia'!D300","v":0},{"$f":"'Załącznik nr 2 do rozliczenia'!E300","v":0},{"$f":"'Załącznik nr 2 do rozliczenia'!F300","v":0},{"$f":"'Załącznik nr 2 do rozliczenia'!H300","v":0}]
[{"$f":"'Rozliczenie kwartalne'!A76","v":"41"},{"$f":"'Rozliczenie kwartalne'!B308","v":""},{"$f":"'Rozliczenie kwartalne'!C308","v":0},{"$f":"'Rozliczenie kwartalne'!D308","v":0},{"$f":"'Rozliczenie kwartalne'!E308","v":0},{"$f":"'Rozliczenie kwartalne'!F308","v":0},{"$f":"'Rozliczenie kwartalne'!G308","v":0},{"$f":"'Rozliczenie kwartalne'!H308","v":0},{"$f":"'Rozliczenie kwartalne'!I308","v":0},{"$f":"'Rozliczenie kwartalne'!J308","v":0},{"$f":"'Rozliczenie kwartalne'!K308","v":0},{"$f":"'Rozliczenie kwartalne'!L308","v":0},{"$f":"'Załącznik nr 1 do rozliczenia'!D306","v":0},{"$f":"'Załącznik nr 1 do rozliczenia'!F306","v":0},{"$f":"'Załącznik nr 2 do rozliczenia'!F185","v":0},{"$f":"'Załącznik nr 2 do rozliczenia'!D301","v":0},{"$f":"'Załącznik nr 2 do rozliczenia'!E301","v":0},{"$f":"'Załącznik nr 2 do rozliczenia'!F301","v":0},{"$f":"'Załącznik nr 2 do rozliczenia'!H301","v":0}]
[{"$f":"'Rozliczenie kwartalne'!A77","v":"42"},{"$f":"'Rozliczenie kwartalne'!B309","v":""},{"$f":"'Rozliczenie kwartalne'!C309","v":0},{"$f":"'Rozliczenie kwartalne'!D309","v":0},{"$f":"'Rozliczenie kwartalne'!E309","v":0},{"$f":"'Rozliczenie kwartalne'!F309","v":0},{"$f":"'Rozliczenie kwartalne'!G309","v":0},{"$f":"'Rozliczenie kwartalne'!H309","v":0},{"$f":"'Rozliczenie kwartalne'!I309","v":0},{"$f":"'Rozliczenie kwartalne'!J309","v":0},{"$f":"'Rozliczenie kwartalne'!K309","v":0},{"$f":"'Rozliczenie kwartalne'!L309","v":0},{"$f":"'Załącznik nr 1 do rozliczenia'!D307","v":0},{"$f":"'Załącznik nr 1 do rozliczenia'!F307","v":0},{"$f":"'Załącznik nr 2 do rozliczenia'!F186","v":0},{"$f":"'Załącznik nr 2 do rozliczenia'!D302","v":0},{"$f":"'Załącznik nr 2 do rozliczenia'!E302","v":0},{"$f":"'Załącznik nr 2 do rozliczenia'!F302","v":0},{"$f":"'Załącznik nr 2 do rozliczenia'!H302","v":0}]
[{"$f":"'Rozliczenie kwartalne'!A78","v":"43"},{"$f":"'Rozliczenie kwartalne'!B310","v":""},{"$f":"'Rozliczenie kwartalne'!C310","v":0},{"$f":"'Rozliczenie kwartalne'!D310","v":0},{"$f":"'Rozliczenie kwartalne'!E310","v":0},{"$f":"'Rozliczenie kwartalne'!F310","v":0},{"$f":"'Rozliczenie kwartalne'!G310","v":0},{"$f":"'Rozliczenie kwartalne'!H310","v":0},{"$f":"'Rozliczenie kwartalne'!I310","v":0},{"$f":"'Rozliczenie kwartalne'!J310","v":0},{"$f":"'Rozliczenie kwartalne'!K310","v":0},{"$f":"'Rozliczenie kwartalne'!L310","v":0},{"$f":"'Załącznik nr 1 do rozliczenia'!D308","v":0},{"$f":"'Załącznik nr 1 do rozliczenia'!F308","v":0},{"$f":"'Załącznik nr 2 do rozliczenia'!F187","v":0},{"$f":"'Załącznik nr 2 do rozliczenia'!D303","v":0},{"$f":"'Załącznik nr 2 do rozliczenia'!E303","v":0},{"$f":"'Załącznik nr 2 do rozliczenia'!F303","v":0},{"$f":"'Załącznik nr 2 do rozliczenia'!H303","v":0}]
[{"$f":"'Rozliczenie kwartalne'!A79","v":"44"},{"$f":"'Rozliczenie kwartalne'!B311","v":""},{"$f":"'Rozliczenie kwartalne'!C311","v":0},{"$f":"'Rozliczenie kwartalne'!D311","v":0},{"$f":"'Rozliczenie kwartalne'!E311","v":0},{"$f":"'Rozliczenie kwartalne'!F311","v":0},{"$f":"'Rozliczenie kwartalne'!G311","v":0},{"$f":"'Rozliczenie kwartalne'!H311","v":0},{"$f":"'Rozliczenie kwartalne'!I311","v":0},{"$f":"'Rozliczenie kwartalne'!J311","v":0},{"$f":"'Rozliczenie kwartalne'!K311","v":0},{"$f":"'Rozliczenie kwartalne'!L311","v":0},{"$f":"'Załącznik nr 1 do rozliczenia'!D309","v":0},{"$f":"'Załącznik nr 1 do rozliczenia'!F309","v":0},{"$f":"'Załącznik nr 2 do rozliczenia'!F188","v":0},{"$f":"'Załącznik nr 2 do rozliczenia'!D304","v":0},{"$f":"'Załącznik nr 2 do rozliczenia'!E304","v":0},{"$f":"'Załącznik nr 2 do rozliczenia'!F304","v":0},{"$f":"'Załącznik nr 2 do rozliczenia'!H304","v":0}]
[{"$f":"'Rozliczenie kwartalne'!A80","v":"45"},{"$f":"'Rozliczenie kwartalne'!B312","v":""},{"$f":"'Rozliczenie kwartalne'!C312","v":0},{"$f":"'Rozliczenie kwartalne'!D312","v":0},{"$f":"'Rozliczenie kwartalne'!E312","v":0},{"$f":"'Rozliczenie kwartalne'!F312","v":0},{"$f":"'Rozliczenie kwartalne'!G312","v":0},{"$f":"'Rozliczenie kwartalne'!H312","v":0},{"$f":"'Rozliczenie kwartalne'!I312","v":0},{"$f":"'Rozliczenie kwartalne'!J312","v":0},{"$f":"'Rozliczenie kwartalne'!K312","v":0},{"$f":"'Rozliczenie kwartalne'!L312","v":0},{"$f":"'Załącznik nr 1 do rozliczenia'!D310","v":0},{"$f":"'Załącznik nr 1 do rozliczenia'!F310","v":0},{"$f":"'Załącznik nr 2 do rozliczenia'!F189","v":0},{"$f":"'Załącznik nr 2 do rozliczenia'!D305","v":0},{"$f":"'Załącznik nr 2 do rozliczenia'!E305","v":0},{"$f":"'Załącznik nr 2 do rozliczenia'!F305","v":0},{"$f":"'Załącznik nr 2 do rozliczenia'!H305","v":0}]
[{"$f":"'Rozliczenie kwartalne'!A81","v":"46"},{"$f":"'Rozliczenie kwartalne'!B313","v":""},{"$f":"'Rozliczenie kwartalne'!C313","v":0},{"$f":"'Rozliczenie kwartalne'!D313","v":0},{"$f":"'Rozliczenie kwartalne'!E313","v":0},{"$f":"'Rozliczenie kwartalne'!F313","v":0},{"$f":"'Rozliczenie kwartalne'!G313","v":0},{"$f":"'Rozliczenie kwartalne'!H313","v":0},{"$f":"'Rozliczenie kwartalne'!I313","v":0},{"$f":"'Rozliczenie kwartalne'!J313","v":0},{"$f":"'Rozliczenie kwartalne'!K313","v":0},{"$f":"'Rozliczenie kwartalne'!L313","v":0},{"$f":"'Załącznik nr 1 do rozliczenia'!D311","v":0},{"$f":"'Załącznik nr 1 do rozliczenia'!F311","v":0},{"$f":"'Załącznik nr 2 do rozliczenia'!F190","v":0},{"$f":"'Załącznik nr 2 do rozliczenia'!D306","v":0},{"$f":"'Załącznik nr 2 do rozliczenia'!E306","v":0},{"$f":"'Załącznik nr 2 do rozliczenia'!F306","v":0},{"$f":"'Załącznik nr 2 do rozliczenia'!H306","v":0}]
[{"$f":"'Rozliczenie kwartalne'!A82","v":"47"},{"$f":"'Rozliczenie kwartalne'!B314","v":""},{"$f":"'Rozliczenie kwartalne'!C314","v":0},{"$f":"'Rozliczenie kwartalne'!D314","v":0},{"$f":"'Rozliczenie kwartalne'!E314","v":0},{"$f":"'Rozliczenie kwartalne'!F314","v":0},{"$f":"'Rozliczenie kwartalne'!G314","v":0},{"$f":"'Rozliczenie kwartalne'!H314","v":0},{"$f":"'Rozliczenie kwartalne'!I314","v":0},{"$f":"'Rozliczenie kwartalne'!J314","v":0},{"$f":"'Rozliczenie kwartalne'!K314","v":0},{"$f":"'Rozliczenie kwartalne'!L314","v":0},{"$f":"'Załącznik nr 1 do rozliczenia'!D312","v":0},{"$f":"'Załącznik nr 1 do rozliczenia'!F312","v":0},{"$f":"'Załącznik nr 2 do rozliczenia'!F191","v":0},{"$f":"'Załącznik nr 2 do rozliczenia'!D307","v":0},{"$f":"'Załącznik nr 2 do rozliczenia'!E307","v":0},{"$f":"'Załącznik nr 2 do rozliczenia'!F307","v":0},{"$f":"'Załącznik nr 2 do rozliczenia'!H307","v":0}]
[{"$f":"'Rozliczenie kwartalne'!A83","v":"48"},{"$f":"'Rozliczenie kwartalne'!B315","v":""},{"$f":"'Rozliczenie kwartalne'!C315","v":0},{"$f":"'Rozliczenie kwartalne'!D315","v":0},{"$f":"'Rozliczenie kwartalne'!E315","v":0},{"$f":"'Rozliczenie kwartalne'!F315","v":0},{"$f":"'Rozliczenie kwartalne'!G315","v":0},{"$f":"'Rozliczenie kwartalne'!H315","v":0},{"$f":"'Rozliczenie kwartalne'!I315","v":0},{"$f":"'Rozliczenie kwartalne'!J315","v":0},{"$f":"'Rozliczenie kwartalne'!K315","v":0},{"$f":"'Rozliczenie kwartalne'!L315","v":0},{"$f":"'Załącznik nr 1 do rozliczenia'!D313","v":0},{"$f":"'Załącznik nr 1 do rozliczenia'!F313","v":0},{"$f":"'Załącznik nr 2 do rozliczenia'!F192","v":0},{"$f":"'Załącznik nr 2 do rozliczenia'!D308","v":0},{"$f":"'Załącznik nr 2 do rozliczenia'!E308","v":0},{"$f":"'Załącznik nr 2 do rozliczenia'!F308","v":0},{"$f":"'Załącznik nr 2 do rozliczenia'!H308","v":0}]
[{"$f":"'Rozliczenie kwartalne'!A84","v":"49"},{"$f":"'Rozliczenie kwartalne'!B316","v":""},{"$f":"'Rozliczenie kwartalne'!C316","v":0},{"$f":"'Rozliczenie kwartalne'!D316","v":0},{"$f":"'Rozliczenie kwartalne'!E316","v":0},{"$f":"'Rozliczenie kwartalne'!F316","v":0},{"$f":"'Rozliczenie kwartalne'!G316","v":0},{"$f":"'Rozliczenie kwartalne'!H316","v":0},{"$f":"'Rozliczenie kwartalne'!I316","v":0},{"$f":"'Rozliczenie kwartalne'!J316","v":0},{"$f":"'Rozliczenie kwartalne'!K316","v":0},{"$f":"'Rozliczenie kwartalne'!L316","v":0},{"$f":"'Załącznik nr 1 do rozliczenia'!D314","v":0},{"$f":"'Załącznik nr 1 do rozliczenia'!F314","v":0},{"$f":"'Załącznik nr 2 do rozliczenia'!F193","v":0},{"$f":"'Załącznik nr 2 do rozliczenia'!D309","v":0},{"$f":"'Załącznik nr 2 do rozliczenia'!E309","v":0},{"$f":"'Załącznik nr 2 do rozliczenia'!F309","v":0},{"$f":"'Załącznik nr 2 do rozliczenia'!H309","v":0}]
[{"$f":"'Rozliczenie kwartalne'!A85","v":"50"},{"$f":"'Rozliczenie kwartalne'!B317","v":""},{"$f":"'Rozliczenie kwartalne'!C317","v":0},{"$f":"'Rozliczenie kwartalne'!D317","v":0},{"$f":"'Rozliczenie kwartalne'!E317","v":0},{"$f":"'Rozliczenie kwartalne'!F317","v":0},{"$f":"'Rozliczenie kwartalne'!G317","v":0},{"$f":"'Rozliczenie kwartalne'!H317","v":0},{"$f":"'Rozliczenie kwartalne'!I317","v":0},{"$f":"'Rozliczenie kwartalne'!J317","v":0},{"$f":"'Rozliczenie kwartalne'!K317","v":0},{"$f":"'Rozliczenie kwartalne'!L317","v":0},{"$f":"'Załącznik nr 1 do rozliczenia'!D315","v":0},{"$f":"'Załącznik nr 1 do rozliczenia'!F315","v":0},{"$f":"'Załącznik nr 2 do rozliczenia'!F194","v":0},{"$f":"'Załącznik nr 2 do rozliczenia'!D310","v":0},{"$f":"'Załącznik nr 2 do rozliczenia'!E310","v":0},{"$f":"'Załącznik nr 2 do rozliczenia'!F310","v":0},{"$f":"'Załącznik nr 2 do rozliczenia'!H310","v":0}]
[{"$f":"'Rozliczenie kwartalne'!A86","v":"51"},{"$f":"'Rozliczenie kwartalne'!B318","v":""},{"$f":"'Rozliczenie kwartalne'!C318","v":0},{"$f":"'Rozliczenie kwartalne'!D318","v":0},{"$f":"'Rozliczenie kwartalne'!E318","v":0},{"$f":"'Rozliczenie kwartalne'!F318","v":0},{"$f":"'Rozliczenie kwartalne'!G318","v":0},{"$f":"'Rozliczenie kwartalne'!H318","v":0},{"$f":"'Rozliczenie kwartalne'!I318","v":0},{"$f":"'Rozliczenie kwartalne'!J318","v":0},{"$f":"'Rozliczenie kwartalne'!K318","v":0},{"$f":"'Rozliczenie kwartalne'!L318","v":0},{"$f":"'Załącznik nr 1 do rozliczenia'!D316","v":0},{"$f":"'Załącznik nr 1 do rozliczenia'!F316","v":0},{"$f":"'Załącznik nr 2 do rozliczenia'!F195","v":0},{"$f":"'Załącznik nr 2 do rozliczenia'!D311","v":0},{"$f":"'Załącznik nr 2 do rozliczenia'!E311","v":0},{"$f":"'Załącznik nr 2 do rozliczenia'!F311","v":0},{"$f":"'Załącznik nr 2 do rozliczenia'!H311","v":0}]
[{"$f":"'Rozliczenie kwartalne'!A87","v":"52"},{"$f":"'Rozliczenie kwartalne'!B319","v":""},{"$f":"'Rozliczenie kwartalne'!C319","v":0},{"$f":"'Rozliczenie kwartalne'!D319","v":0},{"$f":"'Rozliczenie kwartalne'!E319","v":0},{"$f":"'Rozliczenie kwartalne'!F319","v":0},{"$f":"'Rozliczenie kwartalne'!G319","v":0},{"$f":"'Rozliczenie kwartalne'!H319","v":0},{"$f":"'Rozliczenie kwartalne'!I319","v":0},{"$f":"'Rozliczenie kwartalne'!J319","v":0},{"$f":"'Rozliczenie kwartalne'!K319","v":0},{"$f":"'Rozliczenie kwartalne'!L319","v":0},{"$f":"'Załącznik nr 1 do rozliczenia'!D317","v":0},{"$f":"'Załącznik nr 1 do rozliczenia'!F317","v":0},{"$f":"'Załącznik nr 2 do rozliczenia'!F196","v":0},{"$f":"'Załącznik nr 2 do rozliczenia'!D312","v":0},{"$f":"'Załącznik nr 2 do rozliczenia'!E312","v":0},{"$f":"'Załącznik nr 2 do rozliczenia'!F312","v":0},{"$f":"'Załącznik nr 2 do rozliczenia'!H312","v":0}]
[{"$f":"'Rozliczenie kwartalne'!A88","v":"53"},{"$f":"'Rozliczenie kwartalne'!B320","v":""},{"$f":"'Rozliczenie kwartalne'!C320","v":0},{"$f":"'Rozliczenie kwartalne'!D320","v":0},{"$f":"'Rozliczenie kwartalne'!E320","v":0},{"$f":"'Rozliczenie kwartalne'!F320","v":0},{"$f":"'Rozliczenie kwartalne'!G320","v":0},{"$f":"'Rozliczenie kwartalne'!H320","v":0},{"$f":"'Rozliczenie kwartalne'!I320","v":0},{"$f":"'Rozliczenie kwartalne'!J320","v":0},{"$f":"'Rozliczenie kwartalne'!K320","v":0},{"$f":"'Rozliczenie kwartalne'!L320","v":0},{"$f":"'Załącznik nr 1 do rozliczenia'!D318","v":0},{"$f":"'Załącznik nr 1 do rozliczenia'!F318","v":0},{"$f":"'Załącznik nr 2 do rozliczenia'!F197","v":0},{"$f":"'Załącznik nr 2 do rozliczenia'!D313","v":0},{"$f":"'Załącznik nr 2 do rozliczenia'!E313","v":0},{"$f":"'Załącznik nr 2 do rozliczenia'!F313","v":0},{"$f":"'Załącznik nr 2 do rozliczenia'!H313","v":0}]
[{"$f":"'Rozliczenie kwartalne'!A89","v":"54"},{"$f":"'Rozliczenie kwartalne'!B321","v":""},{"$f":"'Rozliczenie kwartalne'!C321","v":0},{"$f":"'Rozliczenie kwartalne'!D321","v":0},{"$f":"'Rozliczenie kwartalne'!E321","v":0},{"$f":"'Rozliczenie kwartalne'!F321","v":0},{"$f":"'Rozliczenie kwartalne'!G321","v":0},{"$f":"'Rozliczenie kwartalne'!H321","v":0},{"$f":"'Rozliczenie kwartalne'!I321","v":0},{"$f":"'Rozliczenie kwartalne'!J321","v":0},{"$f":"'Rozliczenie kwartalne'!K321","v":0},{"$f":"'Rozliczenie kwartalne'!L321","v":0},{"$f":"'Załącznik nr 1 do rozliczenia'!D319","v":0},{"$f":"'Załącznik nr 1 do rozliczenia'!F319","v":0},{"$f":"'Załącznik nr 2 do rozliczenia'!F198","v":0},{"$f":"'Załącznik nr 2 do rozliczenia'!D314","v":0},{"$f":"'Załącznik nr 2 do rozliczenia'!E314","v":0},{"$f":"'Załącznik nr 2 do rozliczenia'!F314","v":0},{"$f":"'Załącznik nr 2 do rozliczenia'!H314","v":0}]
[{"$f":"'Rozliczenie kwartalne'!A90","v":"55"},{"$f":"'Rozliczenie kwartalne'!B322","v":""},{"$f":"'Rozliczenie kwartalne'!C322","v":0},{"$f":"'Rozliczenie kwartalne'!D322","v":0},{"$f":"'Rozliczenie kwartalne'!E322","v":0},{"$f":"'Rozliczenie kwartalne'!F322","v":0},{"$f":"'Rozliczenie kwartalne'!G322","v":0},{"$f":"'Rozliczenie kwartalne'!H322","v":0},{"$f":"'Rozliczenie kwartalne'!I322","v":0},{"$f":"'Rozliczenie kwartalne'!J322","v":0},{"$f":"'Rozliczenie kwartalne'!K322","v":0},{"$f":"'Rozliczenie kwartalne'!L322","v":0},{"$f":"'Załącznik nr 1 do rozliczenia'!D320","v":0},{"$f":"'Załącznik nr 1 do rozliczenia'!F320","v":0},{"$f":"'Załącznik nr 2 do rozliczenia'!F199","v":0},{"$f":"'Załącznik nr 2 do rozliczenia'!D315","v":0},{"$f":"'Załącznik nr 2 do rozliczenia'!E315","v":0},{"$f":"'Załącznik nr 2 do rozliczenia'!F315","v":0},{"$f":"'Załącznik nr 2 do rozliczenia'!H315","v":0}]
[{"$f":"'Rozliczenie kwartalne'!A91","v":"56"},{"$f":"'Rozliczenie kwartalne'!B323","v":""},{"$f":"'Rozliczenie kwartalne'!C323","v":0},{"$f":"'Rozliczenie kwartalne'!D323","v":0},{"$f":"'Rozliczenie kwartalne'!E323","v":0},{"$f":"'Rozliczenie kwartalne'!F323","v":0},{"$f":"'Rozliczenie kwartalne'!G323","v":0},{"$f":"'Rozliczenie kwartalne'!H323","v":0},{"$f":"'Rozliczenie kwartalne'!I323","v":0},{"$f":"'Rozliczenie kwartalne'!J323","v":0},{"$f":"'Rozliczenie kwartalne'!K323","v":0},{"$f":"'Rozliczenie kwartalne'!L323","v":0},{"$f":"'Załącznik nr 1 do rozliczenia'!D321","v":0},{"$f":"'Załącznik nr 1 do rozliczenia'!F321","v":0},{"$f":"'Załącznik nr 2 do rozliczenia'!F200","v":0},{"$f":"'Załącznik nr 2 do rozliczenia'!D316","v":0},{"$f":"'Załącznik nr 2 do rozliczenia'!E316","v":0},{"$f":"'Załącznik nr 2 do rozliczenia'!F316","v":0},{"$f":"'Załącznik nr 2 do rozliczenia'!H316","v":0}]
[{"$f":"'Rozliczenie kwartalne'!A92","v":"57"},{"$f":"'Rozliczenie kwartalne'!B324","v":""},{"$f":"'Rozliczenie kwartalne'!C324","v":0},{"$f":"'Rozliczenie kwartalne'!D324","v":0},{"$f":"'Rozliczenie kwartalne'!E324","v":0},{"$f":"'Rozliczenie kwartalne'!F324","v":0},{"$f":"'Rozliczenie kwartalne'!G324","v":0},{"$f":"'Rozliczenie kwartalne'!H324","v":0},{"$f":"'Rozliczenie kwartalne'!I324","v":0},{"$f":"'Rozliczenie kwartalne'!J324","v":0},{"$f":"'Rozliczenie kwartalne'!K324","v":0},{"$f":"'Rozliczenie kwartalne'!L324","v":0},{"$f":"'Załącznik nr 1 do rozliczenia'!D322","v":0},{"$f":"'Załącznik nr 1 do rozliczenia'!F322","v":0},{"$f":"'Załącznik nr 2 do rozliczenia'!F201","v":0},{"$f":"'Załącznik nr 2 do rozliczenia'!D317","v":0},{"$f":"'Załącznik nr 2 do rozliczenia'!E317","v":0},{"$f":"'Załącznik nr 2 do rozliczenia'!F317","v":0},{"$f":"'Załącznik nr 2 do rozliczenia'!H317","v":0}]
[{"$f":"'Rozliczenie kwartalne'!A93","v":"58"},{"$f":"'Rozliczenie kwartalne'!B325","v":""},{"$f":"'Rozliczenie kwartalne'!C325","v":0},{"$f":"'Rozliczenie kwartalne'!D325","v":0},{"$f":"'Rozliczenie kwartalne'!E325","v":0},{"$f":"'Rozliczenie kwartalne'!F325","v":0},{"$f":"'Rozliczenie kwartalne'!G325","v":0},{"$f":"'Rozliczenie kwartalne'!H325","v":0},{"$f":"'Rozliczenie kwartalne'!I325","v":0},{"$f":"'Rozliczenie kwartalne'!J325","v":0},{"$f":"'Rozliczenie kwartalne'!K325","v":0},{"$f":"'Rozliczenie kwartalne'!L325","v":0},{"$f":"'Załącznik nr 1 do rozliczenia'!D323","v":0},{"$f":"'Załącznik nr 1 do rozliczenia'!F323","v":0},{"$f":"'Załącznik nr 2 do rozliczenia'!F202","v":0},{"$f":"'Załącznik nr 2 do rozliczenia'!D318","v":0},{"$f":"'Załącznik nr 2 do rozliczenia'!E318","v":0},{"$f":"'Załącznik nr 2 do rozliczenia'!F318","v":0},{"$f":"'Załącznik nr 2 do rozliczenia'!H318","v":0}]
[{"$f":"'Rozliczenie kwartalne'!A94","v":"59"},{"$f":"'Rozliczenie kwartalne'!B326","v":""},{"$f":"'Rozliczenie kwartalne'!C326","v":0},{"$f":"'Rozliczenie kwartalne'!D326","v":0},{"$f":"'Rozliczenie kwartalne'!E326","v":0},{"$f":"'Rozliczenie kwartalne'!F326","v":0},{"$f":"'Rozliczenie kwartalne'!G326","v":0},{"$f":"'Rozliczenie kwartalne'!H326","v":0},{"$f":"'Rozliczenie kwartalne'!I326","v":0},{"$f":"'Rozliczenie kwartalne'!J326","v":0},{"$f":"'Rozliczenie kwartalne'!K326","v":0},{"$f":"'Rozliczenie kwartalne'!L326","v":0},{"$f":"'Załącznik nr 1 do rozliczenia'!D324","v":0},{"$f":"'Załącznik nr 1 do rozliczenia'!F324","v":0},{"$f":"'Załącznik nr 2 do rozliczenia'!F203","v":0},{"$f":"'Załącznik nr 2 do rozliczenia'!D319","v":0},{"$f":"'Załącznik nr 2 do rozliczenia'!E319","v":0},{"$f":"'Załącznik nr 2 do rozliczenia'!F319","v":0},{"$f":"'Załącznik nr 2 do rozliczenia'!H319","v":0}]
[{"$f":"'Rozliczenie kwartalne'!A95","v":"60"},{"$f":"'Rozliczenie kwartalne'!B327","v":""},{"$f":"'Rozliczenie kwartalne'!C327","v":0},{"$f":"'Rozliczenie kwartalne'!D327","v":0},{"$f":"'Rozliczenie kwartalne'!E327","v":0},{"$f":"'Rozliczenie kwartalne'!F327","v":0},{"$f":"'Rozliczenie kwartalne'!G327","v":0},{"$f":"'Rozliczenie kwartalne'!H327","v":0},{"$f":"'Rozliczenie kwartalne'!I327","v":0},{"$f":"'Rozliczenie kwartalne'!J327","v":0},{"$f":"'Rozliczenie kwartalne'!K327","v":0},{"$f":"'Rozliczenie kwartalne'!L327","v":0},{"$f":"'Załącznik nr 1 do rozliczenia'!D325","v":0},{"$f":"'Załącznik nr 1 do rozliczenia'!F325","v":0},{"$f":"'Załącznik nr 2 do rozliczenia'!F204","v":0},{"$f":"'Załącznik nr 2 do rozliczenia'!D320","v":0},{"$f":"'Załącznik nr 2 do rozliczenia'!E320","v":0},{"$f":"'Załącznik nr 2 do rozliczenia'!F320","v":0},{"$f":"'Załącznik nr 2 do rozliczenia'!H320","v":0}]
[{"$f":"'Rozliczenie kwartalne'!A96","v":"61"},{"$f":"'Rozliczenie kwartalne'!B328","v":""},{"$f":"'Rozliczenie kwartalne'!C328","v":0},{"$f":"'Rozliczenie kwartalne'!D328","v":0},{"$f":"'Rozliczenie kwartalne'!E328","v":0},{"$f":"'Rozliczenie kwartalne'!F328","v":0},{"$f":"'Rozliczenie kwartalne'!G328","v":0},{"$f":"'Rozliczenie kwartalne'!H328","v":0},{"$f":"'Rozliczenie kwartalne'!I328","v":0},{"$f":"'Rozliczenie kwartalne'!J328","v":0},{"$f":"'Rozliczenie kwartalne'!K328","v":0},{"$f":"'Rozliczenie kwartalne'!L328","v":0},{"$f":"'Załącznik nr 1 do rozliczenia'!D326","v":0},{"$f":"'Załącznik nr 1 do rozliczenia'!F326","v":0},{"$f":"'Załącznik nr 2 do rozliczenia'!F205","v":0},{"$f":"'Załącznik nr 2 do rozliczenia'!D321","v":0},{"$f":"'Załącznik nr 2 do rozliczenia'!E321","v":0},{"$f":"'Załącznik nr 2 do rozliczenia'!F321","v":0},{"$f":"'Załącznik nr 2 do rozliczenia'!H321","v":0}]
[{"$f":"'Rozliczenie kwartalne'!A97","v":"62"},{"$f":"'Rozliczenie kwartalne'!B329","v":""},{"$f":"'Rozliczenie kwartalne'!C329","v":0},{"$f":"'Rozliczenie kwartalne'!D329","v":0},{"$f":"'Rozliczenie kwartalne'!E329","v":0},{"$f":"'Rozliczenie kwartalne'!F329","v":0},{"$f":"'Rozliczenie kwartalne'!G329","v":0},{"$f":"'Rozliczenie kwartalne'!H329","v":0},{"$f":"'Rozliczenie kwartalne'!I329","v":0},{"$f":"'Rozliczenie kwartalne'!J329","v":0},{"$f":"'Rozliczenie kwartalne'!K329","v":0},{"$f":"'Rozliczenie kwartalne'!L329","v":0},{"$f":"'Załącznik nr 1 do rozliczenia'!D327","v":0},{"$f":"'Załącznik nr 1 do rozliczenia'!F327","v":0},{"$f":"'Załącznik nr 2 do rozliczenia'!F206","v":0},{"$f":"'Załącznik nr 2 do rozliczenia'!D322","v":0},{"$f":"'Załącznik nr 2 do rozliczenia'!E322","v":0},{"$f":"'Załącznik nr 2 do rozliczenia'!F322","v":0},{"$f":"'Załącznik nr 2 do rozliczenia'!H322","v":0}]
[{"$f":"'Rozliczenie kwartalne'!A98","v":"63"},{"$f":"'Rozliczenie kwartalne'!B330","v":""},{"$f":"'Rozliczenie kwartalne'!C330","v":0},{"$f":"'Rozliczenie kwartalne'!D330","v":0},{"$f":"'Rozliczenie kwartalne'!E330","v":0},{"$f":"'Rozliczenie kwartalne'!F330","v":0},{"$f":"'Rozliczenie kwartalne'!G330","v":0},{"$f":"'Rozliczenie kwartalne'!H330","v":0},{"$f":"'Rozliczenie kwartalne'!I330","v":0},{"$f":"'Rozliczenie kwartalne'!J330","v":0},{"$f":"'Rozliczenie kwartalne'!K330","v":0},{"$f":"'Rozliczenie kwartalne'!L330","v":0},{"$f":"'Załącznik nr 1 do rozliczenia'!D328","v":0},{"$f":"'Załącznik nr 1 do rozliczenia'!F328","v":0},{"$f":"'Załącznik nr 2 do rozliczenia'!F207","v":0},{"$f":"'Załącznik nr 2 do rozliczenia'!D323","v":0},{"$f":"'Załącznik nr 2 do rozliczenia'!E323","v":0},{"$f":"'Załącznik nr 2 do rozliczenia'!F323","v":0},{"$f":"'Załącznik nr 2 do rozliczenia'!H323","v":0}]
[{"$f":"'Rozliczenie kwartalne'!A99","v":"64"},{"$f":"'Rozliczenie kwartalne'!B331","v":""},{"$f":"'Rozliczenie kwartalne'!C331","v":0},{"$f":"'Rozliczenie kwartalne'!D331","v":0},{"$f":"'Rozliczenie kwartalne'!E331","v":0},{"$f":"'Rozliczenie kwartalne'!F331","v":0},{"$f":"'Rozliczenie kwartalne'!G331","v":0},{"$f":"'Rozliczenie kwartalne'!H331","v":0},{"$f":"'Rozliczenie kwartalne'!I331","v":0},{"$f":"'Rozliczenie kwartalne'!J331","v":0},{"$f":"'Rozliczenie kwartalne'!K331","v":0},{"$f":"'Rozliczenie kwartalne'!L331","v":0},{"$f":"'Załącznik nr 1 do rozliczenia'!D329","v":0},{"$f":"'Załącznik nr 1 do rozliczenia'!F329","v":0},{"$f":"'Załącznik nr 2 do rozliczenia'!F208","v":0},{"$f":"'Załącznik nr 2 do rozliczenia'!D324","v":0},{"$f":"'Załącznik nr 2 do rozliczenia'!E324","v":0},{"$f":"'Załącznik nr 2 do rozliczenia'!F324","v":0},{"$f":"'Załącznik nr 2 do rozliczenia'!H324","v":0}]
[{"$f":"'Rozliczenie kwartalne'!A100","v":"65"},{"$f":"'Rozliczenie kwartalne'!B332","v":""},{"$f":"'Rozliczenie kwartalne'!C332","v":0},{"$f":"'Rozliczenie kwartalne'!D332","v":0},{"$f":"'Rozliczenie kwartalne'!E332","v":0},{"$f":"'Rozliczenie kwartalne'!F332","v":0},{"$f":"'Rozliczenie kwartalne'!G332","v":0},{"$f":"'Rozliczenie kwartalne'!H332","v":0},{"$f":"'Rozliczenie kwartalne'!I332","v":0},{"$f":"'Rozliczenie kwartalne'!J332","v":0},{"$f":"'Rozliczenie kwartalne'!K332","v":0},{"$f":"'Rozliczenie kwartalne'!L332","v":0},{"$f":"'Załącznik nr 1 do rozliczenia'!D330","v":0},{"$f":"'Załącznik nr 1 do rozliczenia'!F330","v":0},{"$f":"'Załącznik nr 2 do rozliczenia'!F209","v":0},{"$f":"'Załącznik nr 2 do rozliczenia'!D325","v":0},{"$f":"'Załącznik nr 2 do rozliczenia'!E325","v":0},{"$f":"'Załącznik nr 2 do rozliczenia'!F325","v":0},{"$f":"'Załącznik nr 2 do rozliczenia'!H325","v":0}]
[{"$f":"'Rozliczenie kwartalne'!A101","v":"66"},{"$f":"'Rozliczenie kwartalne'!B333","v":""},{"$f":"'Rozliczenie kwartalne'!C333","v":0},{"$f":"'Rozliczenie kwartalne'!D333","v":0},{"$f":"'Rozliczenie kwartalne'!E333","v":0},{"$f":"'Rozliczenie kwartalne'!F333","v":0},{"$f":"'Rozliczenie kwartalne'!G333","v":0},{"$f":"'Rozliczenie kwartalne'!H333","v":0},{"$f":"'Rozliczenie kwartalne'!I333","v":0},{"$f":"'Rozliczenie kwartalne'!J333","v":0},{"$f":"'Rozliczenie kwartalne'!K333","v":0},{"$f":"'Rozliczenie kwartalne'!L333","v":0},{"$f":"'Załącznik nr 1 do rozliczenia'!D331","v":0},{"$f":"'Załącznik nr 1 do rozliczenia'!F331","v":0},{"$f":"'Załącznik nr 2 do rozliczenia'!F210","v":0},{"$f":"'Załącznik nr 2 do rozliczenia'!D326","v":0},{"$f":"'Załącznik nr 2 do rozliczenia'!E326","v":0},{"$f":"'Załącznik nr 2 do rozliczenia'!F326","v":0},{"$f":"'Załącznik nr 2 do rozliczenia'!H326","v":0}]
[{"$f":"'Rozliczenie kwartalne'!A102","v":"67"},{"$f":"'Rozliczenie kwartalne'!B334","v":""},{"$f":"'Rozliczenie kwartalne'!C334","v":0},{"$f":"'Rozliczenie kwartalne'!D334","v":0},{"$f":"'Rozliczenie kwartalne'!E334","v":0},{"$f":"'Rozliczenie kwartalne'!F334","v":0},{"$f":"'Rozliczenie kwartalne'!G334","v":0},{"$f":"'Rozliczenie kwartalne'!H334","v":0},{"$f":"'Rozliczenie kwartalne'!I334","v":0},{"$f":"'Rozliczenie kwartalne'!J334","v":0},{"$f":"'Rozliczenie kwartalne'!K334","v":0},{"$f":"'Rozliczenie kwartalne'!L334","v":0},{"$f":"'Załącznik nr 1 do rozliczenia'!D332","v":0},{"$f":"'Załącznik nr 1 do rozliczenia'!F332","v":0},{"$f":"'Załącznik nr 2 do rozliczenia'!F211","v":0},{"$f":"'Załącznik nr 2 do rozliczenia'!D327","v":0},{"$f":"'Załącznik nr 2 do rozliczenia'!E327","v":0},{"$f":"'Załącznik nr 2 do rozliczenia'!F327","v":0},{"$f":"'Załącznik nr 2 do rozliczenia'!H327","v":0}]
[{"$f":"'Rozliczenie kwartalne'!A103","v":"68"},{"$f":"'Rozliczenie kwartalne'!B335","v":""},{"$f":"'Rozliczenie kwartalne'!C335","v":0},{"$f":"'Rozliczenie kwartalne'!D335","v":0},{"$f":"'Rozliczenie kwartalne'!E335","v":0},{"$f":"'Rozliczenie kwartalne'!F335","v":0},{"$f":"'Rozliczenie kwartalne'!G335","v":0},{"$f":"'Rozliczenie kwartalne'!H335","v":0},{"$f":"'Rozliczenie kwartalne'!I335","v":0},{"$f":"'Rozliczenie kwartalne'!J335","v":0},{"$f":"'Rozliczenie kwartalne'!K335","v":0},{"$f":"'Rozliczenie kwartalne'!L335","v":0},{"$f":"'Załącznik nr 1 do rozliczenia'!D333","v":0},{"$f":"'Załącznik nr 1 do rozliczenia'!F333","v":0},{"$f":"'Załącznik nr 2 do rozliczenia'!F212","v":0},{"$f":"'Załącznik nr 2 do rozliczenia'!D328","v":0},{"$f":"'Załącznik nr 2 do rozliczenia'!E328","v":0},{"$f":"'Załącznik nr 2 do rozliczenia'!F328","v":0},{"$f":"'Załącznik nr 2 do rozliczenia'!H328","v":0}]
[{"$f":"'Rozliczenie kwartalne'!A104","v":"69"},{"$f":"'Rozliczenie kwartalne'!B336","v":""},{"$f":"'Rozliczenie kwartalne'!C336","v":0},{"$f":"'Rozliczenie kwartalne'!D336","v":0},{"$f":"'Rozliczenie kwartalne'!E336","v":0},{"$f":"'Rozliczenie kwartalne'!F336","v":0},{"$f":"'Rozliczenie kwartalne'!G336","v":0},{"$f":"'Rozliczenie kwartalne'!H336","v":0},{"$f":"'Rozliczenie kwartalne'!I336","v":0},{"$f":"'Rozliczenie kwartalne'!J336","v":0},{"$f":"'Rozliczenie kwartalne'!K336","v":0},{"$f":"'Rozliczenie kwartalne'!L336","v":0},{"$f":"'Załącznik nr 1 do rozliczenia'!D334","v":0},{"$f":"'Załącznik nr 1 do rozliczenia'!F334","v":0},{"$f":"'Załącznik nr 2 do rozliczenia'!F213","v":0},{"$f":"'Załącznik nr 2 do rozliczenia'!D329","v":0},{"$f":"'Załącznik nr 2 do rozliczenia'!E329","v":0},{"$f":"'Załącznik nr 2 do rozliczenia'!F329","v":0},{"$f":"'Załącznik nr 2 do rozliczenia'!H329","v":0}]
[{"$f":"'Rozliczenie kwartalne'!A105","v":"70"},{"$f":"'Rozliczenie kwartalne'!B337","v":""},{"$f":"'Rozliczenie kwartalne'!C337","v":0},{"$f":"'Rozliczenie kwartalne'!D337","v":0},{"$f":"'Rozliczenie kwartalne'!E337","v":0},{"$f":"'Rozliczenie kwartalne'!F337","v":0},{"$f":"'Rozliczenie kwartalne'!G337","v":0},{"$f":"'Rozliczenie kwartalne'!H337","v":0},{"$f":"'Rozliczenie kwartalne'!I337","v":0},{"$f":"'Rozliczenie kwartalne'!J337","v":0},{"$f":"'Rozliczenie kwartalne'!K337","v":0},{"$f":"'Rozliczenie kwartalne'!L337","v":0},{"$f":"'Załącznik nr 1 do rozliczenia'!D335","v":0},{"$f":"'Załącznik nr 1 do rozliczenia'!F335","v":0},{"$f":"'Załącznik nr 2 do rozliczenia'!F214","v":0},{"$f":"'Załącznik nr 2 do rozliczenia'!D330","v":0},{"$f":"'Załącznik nr 2 do rozliczenia'!E330","v":0},{"$f":"'Załącznik nr 2 do rozliczenia'!F330","v":0},{"$f":"'Załącznik nr 2 do rozliczenia'!H330","v":0}]
[{"$f":"'Rozliczenie kwartalne'!A106","v":"71"},{"$f":"'Rozliczenie kwartalne'!B338","v":""},{"$f":"'Rozliczenie kwartalne'!C338","v":0},{"$f":"'Rozliczenie kwartalne'!D338","v":0},{"$f":"'Rozliczenie kwartalne'!E338","v":0},{"$f":"'Rozliczenie kwartalne'!F338","v":0},{"$f":"'Rozliczenie kwartalne'!G338","v":0},{"$f":"'Rozliczenie kwartalne'!H338","v":0},{"$f":"'Rozliczenie kwartalne'!I338","v":0},{"$f":"'Rozliczenie kwartalne'!J338","v":0},{"$f":"'Rozliczenie kwartalne'!K338","v":0},{"$f":"'Rozliczenie kwartalne'!L338","v":0},{"$f":"'Załącznik nr 1 do rozliczenia'!D336","v":0},{"$f":"'Załącznik nr 1 do rozliczenia'!F336","v":0},{"$f":"'Załącznik nr 2 do rozliczenia'!F215","v":0},{"$f":"'Załącznik nr 2 do rozliczenia'!D331","v":0},{"$f":"'Załącznik nr 2 do rozliczenia'!E331","v":0},{"$f":"'Załącznik nr 2 do rozliczenia'!F331","v":0},{"$f":"'Załącznik nr 2 do rozliczenia'!H331","v":0}]
[{"$f":"'Rozliczenie kwartalne'!A107","v":"72"},{"$f":"'Rozliczenie kwartalne'!B339","v":""},{"$f":"'Rozliczenie kwartalne'!C339","v":0},{"$f":"'Rozliczenie kwartalne'!D339","v":0},{"$f":"'Rozliczenie kwartalne'!E339","v":0},{"$f":"'Rozliczenie kwartalne'!F339","v":0},{"$f":"'Rozliczenie kwartalne'!G339","v":0},{"$f":"'Rozliczenie kwartalne'!H339","v":0},{"$f":"'Rozliczenie kwartalne'!I339","v":0},{"$f":"'Rozliczenie kwartalne'!J339","v":0},{"$f":"'Rozliczenie kwartalne'!K339","v":0},{"$f":"'Rozliczenie kwartalne'!L339","v":0},{"$f":"'Załącznik nr 1 do rozliczenia'!D337","v":0},{"$f":"'Załącznik nr 1 do rozliczenia'!F337","v":0},{"$f":"'Załącznik nr 2 do rozliczenia'!F216","v":0},{"$f":"'Załącznik nr 2 do rozliczenia'!D332","v":0},{"$f":"'Załącznik nr 2 do rozliczenia'!E332","v":0},{"$f":"'Załącznik nr 2 do rozliczenia'!F332","v":0},{"$f":"'Załącznik nr 2 do rozliczenia'!H332","v":0}]
[{"$f":"'Rozliczenie kwartalne'!A108","v":"73"},{"$f":"'Rozliczenie kwartalne'!B340","v":""},{"$f":"'Rozliczenie kwartalne'!C340","v":0},{"$f":"'Rozliczenie kwartalne'!D340","v":0},{"$f":"'Rozliczenie kwartalne'!E340","v":0},{"$f":"'Rozliczenie kwartalne'!F340","v":0},{"$f":"'Rozliczenie kwartalne'!G340","v":0},{"$f":"'Rozliczenie kwartalne'!H340","v":0},{"$f":"'Rozliczenie kwartalne'!I340","v":0},{"$f":"'Rozliczenie kwartalne'!J340","v":0},{"$f":"'Rozliczenie kwartalne'!K340","v":0},{"$f":"'Rozliczenie kwartalne'!L340","v":0},{"$f":"'Załącznik nr 1 do rozliczenia'!D338","v":0},{"$f":"'Załącznik nr 1 do rozliczenia'!F338","v":0},{"$f":"'Załącznik nr 2 do rozliczenia'!F217","v":0},{"$f":"'Załącznik nr 2 do rozliczenia'!D333","v":0},{"$f":"'Załącznik nr 2 do rozliczenia'!E333","v":0},{"$f":"'Załącznik nr 2 do rozliczenia'!F333","v":0},{"$f":"'Załącznik nr 2 do rozliczenia'!H333","v":0}]
[{"$f":"'Rozliczenie kwartalne'!A109","v":"74"},{"$f":"'Rozliczenie kwartalne'!B341","v":""},{"$f":"'Rozliczenie kwartalne'!C341","v":0},{"$f":"'Rozliczenie kwartalne'!D341","v":0},{"$f":"'Rozliczenie kwartalne'!E341","v":0},{"$f":"'Rozliczenie kwartalne'!F341","v":0},{"$f":"'Rozliczenie kwartalne'!G341","v":0},{"$f":"'Rozliczenie kwartalne'!H341","v":0},{"$f":"'Rozliczenie kwartalne'!I341","v":0},{"$f":"'Rozliczenie kwartalne'!J341","v":0},{"$f":"'Rozliczenie kwartalne'!K341","v":0},{"$f":"'Rozliczenie kwartalne'!L341","v":0},{"$f":"'Załącznik nr 1 do rozliczenia'!D339","v":0},{"$f":"'Załącznik nr 1 do rozliczenia'!F339","v":0},{"$f":"'Załącznik nr 2 do rozliczenia'!F218","v":0},{"$f":"'Załącznik nr 2 do rozliczenia'!D334","v":0},{"$f":"'Załącznik nr 2 do rozliczenia'!E334","v":0},{"$f":"'Załącznik nr 2 do rozliczenia'!F334","v":0},{"$f":"'Załącznik nr 2 do rozliczenia'!H334","v":0}]
[{"$f":"'Rozliczenie kwartalne'!A110","v":"75"},{"$f":"'Rozliczenie kwartalne'!B342","v":""},{"$f":"'Rozliczenie kwartalne'!C342","v":0},{"$f":"'Rozliczenie kwartalne'!D342","v":0},{"$f":"'Rozliczenie kwartalne'!E342","v":0},{"$f":"'Rozliczenie kwartalne'!F342","v":0},{"$f":"'Rozliczenie kwartalne'!G342","v":0},{"$f":"'Rozliczenie kwartalne'!H342","v":0},{"$f":"'Rozliczenie kwartalne'!I342","v":0},{"$f":"'Rozliczenie kwartalne'!J342","v":0},{"$f":"'Rozliczenie kwartalne'!K342","v":0},{"$f":"'Rozliczenie kwartalne'!L342","v":0},{"$f":"'Załącznik nr 1 do rozliczenia'!D340","v":0},{"$f":"'Załącznik nr 1 do rozliczenia'!F340","v":0},{"$f":"'Załącznik nr 2 do rozliczenia'!F219","v":0},{"$f":"'Załącznik nr 2 do rozliczenia'!D335","v":0},{"$f":"'Załącznik nr 2 do rozliczenia'!E335","v":0},{"$f":"'Załącznik nr 2 do rozliczenia'!F335","v":0},{"$f":"'Załącznik nr 2 do rozliczenia'!H335","v":0}]
[{"$f":"'Rozliczenie kwartalne'!A111","v":"76"},{"$f":"'Rozliczenie kwartalne'!B343","v":""},{"$f":"'Rozliczenie kwartalne'!C343","v":0},{"$f":"'Rozliczenie kwartalne'!D343","v":0},{"$f":"'Rozliczenie kwartalne'!E343","v":0},{"$f":"'Rozliczenie kwartalne'!F343","v":0},{"$f":"'Rozliczenie kwartalne'!G343","v":0},{"$f":"'Rozliczenie kwartalne'!H343","v":0},{"$f":"'Rozliczenie kwartalne'!I343","v":0},{"$f":"'Rozliczenie kwartalne'!J343","v":0},{"$f":"'Rozliczenie kwartalne'!K343","v":0},{"$f":"'Rozliczenie kwartalne'!L343","v":0},{"$f":"'Załącznik nr 1 do rozliczenia'!D341","v":0},{"$f":"'Załącznik nr 1 do rozliczenia'!F341","v":0},{"$f":"'Załącznik nr 2 do rozliczenia'!F220","v":0},{"$f":"'Załącznik nr 2 do rozliczenia'!D336","v":0},{"$f":"'Załącznik nr 2 do rozliczenia'!E336","v":0},{"$f":"'Załącznik nr 2 do rozliczenia'!F336","v":0},{"$f":"'Załącznik nr 2 do rozliczenia'!H336","v":0}]
[{"$f":"'Rozliczenie kwartalne'!A112","v":"77"},{"$f":"'Rozliczenie kwartalne'!B344","v":""},{"$f":"'Rozliczenie kwartalne'!C344","v":0},{"$f":"'Rozliczenie kwartalne'!D344","v":0},{"$f":"'Rozliczenie kwartalne'!E344","v":0},{"$f":"'Rozliczenie kwartalne'!F344","v":0},{"$f":"'Rozliczenie kwartalne'!G344","v":0},{"$f":"'Rozliczenie kwartalne'!H344","v":0},{"$f":"'Rozliczenie kwartalne'!I344","v":0},{"$f":"'Rozliczenie kwartalne'!J344","v":0},{"$f":"'Rozliczenie kwartalne'!K344","v":0},{"$f":"'Rozliczenie kwartalne'!L344","v":0},{"$f":"'Załącznik nr 1 do rozliczenia'!D342","v":0},{"$f":"'Załącznik nr 1 do rozliczenia'!F342","v":0},{"$f":"'Załącznik nr 2 do rozliczenia'!F221","v":0},{"$f":"'Załącznik nr 2 do rozliczenia'!D337","v":0},{"$f":"'Załącznik nr 2 do rozliczenia'!E337","v":0},{"$f":"'Załącznik nr 2 do rozliczenia'!F337","v":0},{"$f":"'Załącznik nr 2 do rozliczenia'!H337","v":0}]
[{"$f":"'Rozliczenie kwartalne'!A113","v":"78"},{"$f":"'Rozliczenie kwartalne'!B345","v":""},{"$f":"'Rozliczenie kwartalne'!C345","v":0},{"$f":"'Rozliczenie kwartalne'!D345","v":0},{"$f":"'Rozliczenie kwartalne'!E345","v":0},{"$f":"'Rozliczenie kwartalne'!F345","v":0},{"$f":"'Rozliczenie kwartalne'!G345","v":0},{"$f":"'Rozliczenie kwartalne'!H345","v":0},{"$f":"'Rozliczenie kwartalne'!I345","v":0},{"$f":"'Rozliczenie kwartalne'!J345","v":0},{"$f":"'Rozliczenie kwartalne'!K345","v":0},{"$f":"'Rozliczenie kwartalne'!L345","v":0},{"$f":"'Załącznik nr 1 do rozliczenia'!D343","v":0},{"$f":"'Załącznik nr 1 do rozliczenia'!F343","v":0},{"$f":"'Załącznik nr 2 do rozliczenia'!F222","v":0},{"$f":"'Załącznik nr 2 do rozliczenia'!D338","v":0},{"$f":"'Załącznik nr 2 do rozliczenia'!E338","v":0},{"$f":"'Załącznik nr 2 do rozliczenia'!F338","v":0},{"$f":"'Załącznik nr 2 do rozliczenia'!H338","v":0}]
[{"$f":"'Rozliczenie kwartalne'!A114","v":"79"},{"$f":"'Rozliczenie kwartalne'!B346","v":""},{"$f":"'Rozliczenie kwartalne'!C346","v":0},{"$f":"'Rozliczenie kwartalne'!D346","v":0},{"$f":"'Rozliczenie kwartalne'!E346","v":0},{"$f":"'Rozliczenie kwartalne'!F346","v":0},{"$f":"'Rozliczenie kwartalne'!G346","v":0},{"$f":"'Rozliczenie kwartalne'!H346","v":0},{"$f":"'Rozliczenie kwartalne'!I346","v":0},{"$f":"'Rozliczenie kwartalne'!J346","v":0},{"$f":"'Rozliczenie kwartalne'!K346","v":0},{"$f":"'Rozliczenie kwartalne'!L346","v":0},{"$f":"'Załącznik nr 1 do rozliczenia'!D344","v":0},{"$f":"'Załącznik nr 1 do rozliczenia'!F344","v":0},{"$f":"'Załącznik nr 2 do rozliczenia'!F223","v":0},{"$f":"'Załącznik nr 2 do rozliczenia'!D339","v":0},{"$f":"'Załącznik nr 2 do rozliczenia'!E339","v":0},{"$f":"'Załącznik nr 2 do rozliczenia'!F339","v":0},{"$f":"'Załącznik nr 2 do rozliczenia'!H339","v":0}]
[{"$f":"'Rozliczenie kwartalne'!A115","v":"80"},{"$f":"'Rozliczenie kwartalne'!B347","v":""},{"$f":"'Rozliczenie kwartalne'!C347","v":0},{"$f":"'Rozliczenie kwartalne'!D347","v":0},{"$f":"'Rozliczenie kwartalne'!E347","v":0},{"$f":"'Rozliczenie kwartalne'!F347","v":0},{"$f":"'Rozliczenie kwartalne'!G347","v":0},{"$f":"'Rozliczenie kwartalne'!H347","v":0},{"$f":"'Rozliczenie kwartalne'!I347","v":0},{"$f":"'Rozliczenie kwartalne'!J347","v":0},{"$f":"'Rozliczenie kwartalne'!K347","v":0},{"$f":"'Rozliczenie kwartalne'!L347","v":0},{"$f":"'Załącznik nr 1 do rozliczenia'!D345","v":0},{"$f":"'Załącznik nr 1 do rozliczenia'!F345","v":0},{"$f":"'Załącznik nr 2 do rozliczenia'!F224","v":0},{"$f":"'Załącznik nr 2 do rozliczenia'!D340","v":0},{"$f":"'Załącznik nr 2 do rozliczenia'!E340","v":0},{"$f":"'Załącznik nr 2 do rozliczenia'!F340","v":0},{"$f":"'Załącznik nr 2 do rozliczenia'!H340","v":0}]
[{"$f":"'Rozliczenie kwartalne'!A116","v":"81"},{"$f":"'Rozliczenie kwartalne'!B348","v":""},{"$f":"'Rozliczenie kwartalne'!C348","v":0},{"$f":"'Rozliczenie kwartalne'!D348","v":0},{"$f":"'Rozliczenie kwartalne'!E348","v":0},{"$f":"'Rozliczenie kwartalne'!F348","v":0},{"$f":"'Rozliczenie kwartalne'!G348","v":0},{"$f":"'Rozliczenie kwartalne'!H348","v":0},{"$f":"'Rozliczenie kwartalne'!I348","v":0},{"$f":"'Rozliczenie kwartalne'!J348","v":0},{"$f":"'Rozliczenie kwartalne'!K348","v":0},{"$f":"'Rozliczenie kwartalne'!L348","v":0},{"$f":"'Załącznik nr 1 do rozliczenia'!D346","v":0},{"$f":"'Załącznik nr 1 do rozliczenia'!F346","v":0},{"$f":"'Załącznik nr 2 do rozliczenia'!F225","v":0},{"$f":"'Załącznik nr 2 do rozliczenia'!D341","v":0},{"$f":"'Załącznik nr 2 do rozliczenia'!E341","v":0},{"$f":"'Załącznik nr 2 do rozliczenia'!F341","v":0},{"$f":"'Załącznik nr 2 do rozliczenia'!H341","v":0}]
[{"$f":"'Rozliczenie kwartalne'!A117","v":"82"},{"$f":"'Rozliczenie kwartalne'!B349","v":""},{"$f":"'Rozliczenie kwartalne'!C349","v":0},{"$f":"'Rozliczenie kwartalne'!D349","v":0},{"$f":"'Rozliczenie kwartalne'!E349","v":0},{"$f":"'Rozliczenie kwartalne'!F349","v":0},{"$f":"'Rozliczenie kwartalne'!G349","v":0},{"$f":"'Rozliczenie kwartalne'!H349","v":0},{"$f":"'Rozliczenie kwartalne'!I349","v":0},{"$f":"'Rozliczenie kwartalne'!J349","v":0},{"$f":"'Rozliczenie kwartalne'!K349","v":0},{"$f":"'Rozliczenie kwartalne'!L349","v":0},{"$f":"'Załącznik nr 1 do rozliczenia'!D347","v":0},{"$f":"'Załącznik nr 1 do rozliczenia'!F347","v":0},{"$f":"'Załącznik nr 2 do rozliczenia'!F226","v":0},{"$f":"'Załącznik nr 2 do rozliczenia'!D342","v":0},{"$f":"'Załącznik nr 2 do rozliczenia'!E342","v":0},{"$f":"'Załącznik nr 2 do rozliczenia'!F342","v":0},{"$f":"'Załącznik nr 2 do rozliczenia'!H342","v":0}]
[{"$f":"'Rozliczenie kwartalne'!A118","v":"83"},{"$f":"'Rozliczenie kwartalne'!B350","v":""},{"$f":"'Rozliczenie kwartalne'!C350","v":0},{"$f":"'Rozliczenie kwartalne'!D350","v":0},{"$f":"'Rozliczenie kwartalne'!E350","v":0},{"$f":"'Rozliczenie kwartalne'!F350","v":0},{"$f":"'Rozliczenie kwartalne'!G350","v":0},{"$f":"'Rozliczenie kwartalne'!H350","v":0},{"$f":"'Rozliczenie kwartalne'!I350","v":0},{"$f":"'Rozliczenie kwartalne'!J350","v":0},{"$f":"'Rozliczenie kwartalne'!K350","v":0},{"$f":"'Rozliczenie kwartalne'!L350","v":0},{"$f":"'Załącznik nr 1 do rozliczenia'!D348","v":0},{"$f":"'Załącznik nr 1 do rozliczenia'!F348","v":0},{"$f":"'Załącznik nr 2 do rozliczenia'!F227","v":0},{"$f":"'Załącznik nr 2 do rozliczenia'!D343","v":0},{"$f":"'Załącznik nr 2 do rozliczenia'!E343","v":0},{"$f":"'Załącznik nr 2 do rozliczenia'!F343","v":0},{"$f":"'Załącznik nr 2 do rozliczenia'!H343","v":0}]
[{"$f":"'Rozliczenie kwartalne'!A119","v":"84"},{"$f":"'Rozliczenie kwartalne'!B351","v":""},{"$f":"'Rozliczenie kwartalne'!C351","v":0},{"$f":"'Rozliczenie kwartalne'!D351","v":0},{"$f":"'Rozliczenie kwartalne'!E351","v":0},{"$f":"'Rozliczenie kwartalne'!F351","v":0},{"$f":"'Rozliczenie kwartalne'!G351","v":0},{"$f":"'Rozliczenie kwartalne'!H351","v":0},{"$f":"'Rozliczenie kwartalne'!I351","v":0},{"$f":"'Rozliczenie kwartalne'!J351","v":0},{"$f":"'Rozliczenie kwartalne'!K351","v":0},{"$f":"'Rozliczenie kwartalne'!L351","v":0},{"$f":"'Załącznik nr 1 do rozliczenia'!D349","v":0},{"$f":"'Załącznik nr 1 do rozliczenia'!F349","v":0},{"$f":"'Załącznik nr 2 do rozliczenia'!F228","v":0},{"$f":"'Załącznik nr 2 do rozliczenia'!D344","v":0},{"$f":"'Załącznik nr 2 do rozliczenia'!E344","v":0},{"$f":"'Załącznik nr 2 do rozliczenia'!F344","v":0},{"$f":"'Załącznik nr 2 do rozliczenia'!H344","v":0}]
[{"$f":"'Rozliczenie kwartalne'!A120","v":"85"},{"$f":"'Rozliczenie kwartalne'!B352","v":""},{"$f":"'Rozliczenie kwartalne'!C352","v":0},{"$f":"'Rozliczenie kwartalne'!D352","v":0},{"$f":"'Rozliczenie kwartalne'!E352","v":0},{"$f":"'Rozliczenie kwartalne'!F352","v":0},{"$f":"'Rozliczenie kwartalne'!G352","v":0},{"$f":"'Rozliczenie kwartalne'!H352","v":0},{"$f":"'Rozliczenie kwartalne'!I352","v":0},{"$f":"'Rozliczenie kwartalne'!J352","v":0},{"$f":"'Rozliczenie kwartalne'!K352","v":0},{"$f":"'Rozliczenie kwartalne'!L352","v":0},{"$f":"'Załącznik nr 1 do rozliczenia'!D350","v":0},{"$f":"'Załącznik nr 1 do rozliczenia'!F350","v":0},{"$f":"'Załącznik nr 2 do rozliczenia'!F229","v":0},{"$f":"'Załącznik nr 2 do rozliczenia'!D345","v":0},{"$f":"'Załącznik nr 2 do rozliczenia'!E345","v":0},{"$f":"'Załącznik nr 2 do rozliczenia'!F345","v":0},{"$f":"'Załącznik nr 2 do rozliczenia'!H345","v":0}]
[{"$f":"'Rozliczenie kwartalne'!A121","v":"86"},{"$f":"'Rozliczenie kwartalne'!B353","v":""},{"$f":"'Rozliczenie kwartalne'!C353","v":0},{"$f":"'Rozliczenie kwartalne'!D353","v":0},{"$f":"'Rozliczenie kwartalne'!E353","v":0},{"$f":"'Rozliczenie kwartalne'!F353","v":0},{"$f":"'Rozliczenie kwartalne'!G353","v":0},{"$f":"'Rozliczenie kwartalne'!H353","v":0},{"$f":"'Rozliczenie kwartalne'!I353","v":0},{"$f":"'Rozliczenie kwartalne'!J353","v":0},{"$f":"'Rozliczenie kwartalne'!K353","v":0},{"$f":"'Rozliczenie kwartalne'!L353","v":0},{"$f":"'Załącznik nr 1 do rozliczenia'!D351","v":0},{"$f":"'Załącznik nr 1 do rozliczenia'!F351","v":0},{"$f":"'Załącznik nr 2 do rozliczenia'!F230","v":0},{"$f":"'Załącznik nr 2 do rozliczenia'!D346","v":0},{"$f":"'Załącznik nr 2 do rozliczenia'!E346","v":0},{"$f":"'Załącznik nr 2 do rozliczenia'!F346","v":0},{"$f":"'Załącznik nr 2 do rozliczenia'!H346","v":0}]
[{"$f":"'Rozliczenie kwartalne'!A122","v":"87"},{"$f":"'Rozliczenie kwartalne'!B354","v":""},{"$f":"'Rozliczenie kwartalne'!C354","v":0},{"$f":"'Rozliczenie kwartalne'!D354","v":0},{"$f":"'Rozliczenie kwartalne'!E354","v":0},{"$f":"'Rozliczenie kwartalne'!F354","v":0},{"$f":"'Rozliczenie kwartalne'!G354","v":0},{"$f":"'Rozliczenie kwartalne'!H354","v":0},{"$f":"'Rozliczenie kwartalne'!I354","v":0},{"$f":"'Rozliczenie kwartalne'!J354","v":0},{"$f":"'Rozliczenie kwartalne'!K354","v":0},{"$f":"'Rozliczenie kwartalne'!L354","v":0},{"$f":"'Załącznik nr 1 do rozliczenia'!D352","v":0},{"$f":"'Załącznik nr 1 do rozliczenia'!F352","v":0},{"$f":"'Załącznik nr 2 do rozliczenia'!F231","v":0},{"$f":"'Załącznik nr 2 do rozliczenia'!D347","v":0},{"$f":"'Załącznik nr 2 do rozliczenia'!E347","v":0},{"$f":"'Załącznik nr 2 do rozliczenia'!F347","v":0},{"$f":"'Załącznik nr 2 do rozliczenia'!H347","v":0}]
[{"$f":"'Rozliczenie kwartalne'!A123","v":"88"},{"$f":"'Rozliczenie kwartalne'!B355","v":""},{"$f":"'Rozliczenie kwartalne'!C355","v":0},{"$f":"'Rozliczenie kwartalne'!D355","v":0},{"$f":"'Rozliczenie kwartalne'!E355","v":0},{"$f":"'Rozliczenie kwartalne'!F355","v":0},{"$f":"'Rozliczenie kwartalne'!G355","v":0},{"$f":"'Rozliczenie kwartalne'!H355","v":0},{"$f":"'Rozliczenie kwartalne'!I355","v":0},{"$f":"'Rozliczenie kwartalne'!J355","v":0},{"$f":"'Rozliczenie kwartalne'!K355","v":0},{"$f":"'Rozliczenie kwartalne'!L355","v":0},{"$f":"'Załącznik nr 1 do rozliczenia'!D353","v":0},{"$f":"'Załącznik nr 1 do rozliczenia'!F353","v":0},{"$f":"'Załącznik nr 2 do rozliczenia'!F232","v":0},{"$f":"'Załącznik nr 2 do rozliczenia'!D348","v":0},{"$f":"'Załącznik nr 2 do rozliczenia'!E348","v":0},{"$f":"'Załącznik nr 2 do rozliczenia'!F348","v":0},{"$f":"'Załącznik nr 2 do rozliczenia'!H348","v":0}]
[{"$f":"'Rozliczenie kwartalne'!A124","v":"89"},{"$f":"'Rozliczenie kwartalne'!B356","v":""},{"$f":"'Rozliczenie kwartalne'!C356","v":0},{"$f":"'Rozliczenie kwartalne'!D356","v":0},{"$f":"'Rozliczenie kwartalne'!E356","v":0},{"$f":"'Rozliczenie kwartalne'!F356","v":0},{"$f":"'Rozliczenie kwartalne'!G356","v":0},{"$f":"'Rozliczenie kwartalne'!H356","v":0},{"$f":"'Rozliczenie kwartalne'!I356","v":0},{"$f":"'Rozliczenie kwartalne'!J356","v":0},{"$f":"'Rozliczenie kwartalne'!K356","v":0},{"$f":"'Rozliczenie kwartalne'!L356","v":0},{"$f":"'Załącznik nr 1 do rozliczenia'!D354","v":0},{"$f":"'Załącznik nr 1 do rozliczenia'!F354","v":0},{"$f":"'Załącznik nr 2 do rozliczenia'!F233","v":0},{"$f":"'Załącznik nr 2 do rozliczenia'!D349","v":0},{"$f":"'Załącznik nr 2 do rozliczenia'!E349","v":0},{"$f":"'Załącznik nr 2 do rozliczenia'!F349","v":0},{"$f":"'Załącznik nr 2 do rozliczenia'!H349","v":0}]
[{"$f":"'Rozliczenie kwartalne'!A125","v":"90"},{"$f":"'Rozliczenie kwartalne'!B357","v":""},{"$f":"'Rozliczenie kwartalne'!C357","v":0},{"$f":"'Rozliczenie kwartalne'!D357","v":0},{"$f":"'Rozliczenie kwartalne'!E357","v":0},{"$f":"'Rozliczenie kwartalne'!F357","v":0},{"$f":"'Rozliczenie kwartalne'!G357","v":0},{"$f":"'Rozliczenie kwartalne'!H357","v":0},{"$f":"'Rozliczenie kwartalne'!I357","v":0},{"$f":"'Rozliczenie kwartalne'!J357","v":0},{"$f":"'Rozliczenie kwartalne'!K357","v":0},{"$f":"'Rozliczenie kwartalne'!L357","v":0},{"$f":"'Załącznik nr 1 do rozliczenia'!D355","v":0},{"$f":"'Załącznik nr 1 do rozliczenia'!F355","v":0},{"$f":"'Załącznik nr 2 do rozliczenia'!F234","v":0},{"$f":"'Załącznik nr 2 do rozliczenia'!D350","v":0},{"$f":"'Załącznik nr 2 do rozliczenia'!E350","v":0},{"$f":"'Załącznik nr 2 do rozliczenia'!F350","v":0},{"$f":"'Załącznik nr 2 do rozliczenia'!H350","v":0}]
[{"$f":"'Rozliczenie kwartalne'!A126","v":"91"},{"$f":"'Rozliczenie kwartalne'!B358","v":""},{"$f":"'Rozliczenie kwartalne'!C358","v":0},{"$f":"'Rozliczenie kwartalne'!D358","v":0},{"$f":"'Rozliczenie kwartalne'!E358","v":0},{"$f":"'Rozliczenie kwartalne'!F358","v":0},{"$f":"'Rozliczenie kwartalne'!G358","v":0},{"$f":"'Rozliczenie kwartalne'!H358","v":0},{"$f":"'Rozliczenie kwartalne'!I358","v":0},{"$f":"'Rozliczenie kwartalne'!J358","v":0},{"$f":"'Rozliczenie kwartalne'!K358","v":0},{"$f":"'Rozliczenie kwartalne'!L358","v":0},{"$f":"'Załącznik nr 1 do rozliczenia'!D356","v":0},{"$f":"'Załącznik nr 1 do rozliczenia'!F356","v":0},{"$f":"'Załącznik nr 2 do rozliczenia'!F235","v":0},{"$f":"'Załącznik nr 2 do rozliczenia'!D351","v":0},{"$f":"'Załącznik nr 2 do rozliczenia'!E351","v":0},{"$f":"'Załącznik nr 2 do rozliczenia'!F351","v":0},{"$f":"'Załącznik nr 2 do rozliczenia'!H351","v":0}]
[{"$f":"'Rozliczenie kwartalne'!A127","v":"92"},{"$f":"'Rozliczenie kwartalne'!B359","v":""},{"$f":"'Rozliczenie kwartalne'!C359","v":0},{"$f":"'Rozliczenie kwartalne'!D359","v":0},{"$f":"'Rozliczenie kwartalne'!E359","v":0},{"$f":"'Rozliczenie kwartalne'!F359","v":0},{"$f":"'Rozliczenie kwartalne'!G359","v":0},{"$f":"'Rozliczenie kwartalne'!H359","v":0},{"$f":"'Rozliczenie kwartalne'!I359","v":0},{"$f":"'Rozliczenie kwartalne'!J359","v":0},{"$f":"'Rozliczenie kwartalne'!K359","v":0},{"$f":"'Rozliczenie kwartalne'!L359","v":0},{"$f":"'Załącznik nr 1 do rozliczenia'!D357","v":0},{"$f":"'Załącznik nr 1 do rozliczenia'!F357","v":0},{"$f":"'Załącznik nr 2 do rozliczenia'!F236","v":0},{"$f":"'Załącznik nr 2 do rozliczenia'!D352","v":0},{"$f":"'Załącznik nr 2 do rozliczenia'!E352","v":0},{"$f":"'Załącznik nr 2 do rozliczenia'!F352","v":0},{"$f":"'Załącznik nr 2 do rozliczenia'!H352","v":0}]
[{"$f":"'Rozliczenie kwartalne'!A128","v":"93"},{"$f":"'Rozliczenie kwartalne'!B360","v":""},{"$f":"'Rozliczenie kwartalne'!C360","v":0},{"$f":"'Rozliczenie kwartalne'!D360","v":0},{"$f":"'Rozliczenie kwartalne'!E360","v":0},{"$f":"'Rozliczenie kwartalne'!F360","v":0},{"$f":"'Rozliczenie kwartalne'!G360","v":0},{"$f":"'Rozliczenie kwartalne'!H360","v":0},{"$f":"'Rozliczenie kwartalne'!I360","v":0},{"$f":"'Rozliczenie kwartalne'!J360","v":0},{"$f":"'Rozliczenie kwartalne'!K360","v":0},{"$f":"'Rozliczenie kwartalne'!L360","v":0},{"$f":"'Załącznik nr 1 do rozliczenia'!D358","v":0},{"$f":"'Załącznik nr 1 do rozliczenia'!F358","v":0},{"$f":"'Załącznik nr 2 do rozliczenia'!F237","v":0},{"$f":"'Załącznik nr 2 do rozliczenia'!D353","v":0},{"$f":"'Załącznik nr 2 do rozliczenia'!E353","v":0},{"$f":"'Załącznik nr 2 do rozliczenia'!F353","v":0},{"$f":"'Załącznik nr 2 do rozliczenia'!H353","v":0}]
[{"$f":"'Rozliczenie kwartalne'!A129","v":"94"},{"$f":"'Rozliczenie kwartalne'!B361","v":""},{"$f":"'Rozliczenie kwartalne'!C361","v":0},{"$f":"'Rozliczenie kwartalne'!D361","v":0},{"$f":"'Rozliczenie kwartalne'!E361","v":0},{"$f":"'Rozliczenie kwartalne'!F361","v":0},{"$f":"'Rozliczenie kwartalne'!G361","v":0},{"$f":"'Rozliczenie kwartalne'!H361","v":0},{"$f":"'Rozliczenie kwartalne'!I361","v":0},{"$f":"'Rozliczenie kwartalne'!J361","v":0},{"$f":"'Rozliczenie kwartalne'!K361","v":0},{"$f":"'Rozliczenie kwartalne'!L361","v":0},{"$f":"'Załącznik nr 1 do rozliczenia'!D359","v":0},{"$f":"'Załącznik nr 1 do rozliczenia'!F359","v":0},{"$f":"'Załącznik nr 2 do rozliczenia'!F238","v":0},{"$f":"'Załącznik nr 2 do rozliczenia'!D354","v":0},{"$f":"'Załącznik nr 2 do rozliczenia'!E354","v":0},{"$f":"'Załącznik nr 2 do rozliczenia'!F354","v":0},{"$f":"'Załącznik nr 2 do rozliczenia'!H354","v":0}]
[{"$f":"'Rozliczenie kwartalne'!A130","v":"95"},{"$f":"'Rozliczenie kwartalne'!B362","v":""},{"$f":"'Rozliczenie kwartalne'!C362","v":0},{"$f":"'Rozliczenie kwartalne'!D362","v":0},{"$f":"'Rozliczenie kwartalne'!E362","v":0},{"$f":"'Rozliczenie kwartalne'!F362","v":0},{"$f":"'Rozliczenie kwartalne'!G362","v":0},{"$f":"'Rozliczenie kwartalne'!H362","v":0},{"$f":"'Rozliczenie kwartalne'!I362","v":0},{"$f":"'Rozliczenie kwartalne'!J362","v":0},{"$f":"'Rozliczenie kwartalne'!K362","v":0},{"$f":"'Rozliczenie kwartalne'!L362","v":0},{"$f":"'Załącznik nr 1 do rozliczenia'!D360","v":0},{"$f":"'Załącznik nr 1 do rozliczenia'!F360","v":0},{"$f":"'Załącznik nr 2 do rozliczenia'!F239","v":0},{"$f":"'Załącznik nr 2 do rozliczenia'!D355","v":0},{"$f":"'Załącznik nr 2 do rozliczenia'!E355","v":0},{"$f":"'Załącznik nr 2 do rozliczenia'!F355","v":0},{"$f":"'Załącznik nr 2 do rozliczenia'!H355","v":0}]
[{"$f":"'Rozliczenie kwartalne'!A131","v":"96"},{"$f":"'Rozliczenie kwartalne'!B363","v":""},{"$f":"'Rozliczenie kwartalne'!C363","v":0},{"$f":"'Rozliczenie kwartalne'!D363","v":0},{"$f":"'Rozliczenie kwartalne'!E363","v":0},{"$f":"'Rozliczenie kwartalne'!F363","v":0},{"$f":"'Rozliczenie kwartalne'!G363","v":0},{"$f":"'Rozliczenie kwartalne'!H363","v":0},{"$f":"'Rozliczenie kwartalne'!I363","v":0},{"$f":"'Rozliczenie kwartalne'!J363","v":0},{"$f":"'Rozliczenie kwartalne'!K363","v":0},{"$f":"'Rozliczenie kwartalne'!L363","v":0},{"$f":"'Załącznik nr 1 do rozliczenia'!D361","v":0},{"$f":"'Załącznik nr 1 do rozliczenia'!F361","v":0},{"$f":"'Załącznik nr 2 do rozliczenia'!F240","v":0},{"$f":"'Załącznik nr 2 do rozliczenia'!D356","v":0},{"$f":"'Załącznik nr 2 do rozliczenia'!E356","v":0},{"$f":"'Załącznik nr 2 do rozliczenia'!F356","v":0},{"$f":"'Załącznik nr 2 do rozliczenia'!H356","v":0}]
[{"$f":"'Rozliczenie kwartalne'!A132","v":"97"},{"$f":"'Rozliczenie kwartalne'!B364","v":""},{"$f":"'Rozliczenie kwartalne'!C364","v":0},{"$f":"'Rozliczenie kwartalne'!D364","v":0},{"$f":"'Rozliczenie kwartalne'!E364","v":0},{"$f":"'Rozliczenie kwartalne'!F364","v":0},{"$f":"'Rozliczenie kwartalne'!G364","v":0},{"$f":"'Rozliczenie kwartalne'!H364","v":0},{"$f":"'Rozliczenie kwartalne'!I364","v":0},{"$f":"'Rozliczenie kwartalne'!J364","v":0},{"$f":"'Rozliczenie kwartalne'!K364","v":0},{"$f":"'Rozliczenie kwartalne'!L364","v":0},{"$f":"'Załącznik nr 1 do rozliczenia'!D362","v":0},{"$f":"'Załącznik nr 1 do rozliczenia'!F362","v":0},{"$f":"'Załącznik nr 2 do rozliczenia'!F241","v":0},{"$f":"'Załącznik nr 2 do rozliczenia'!D357","v":0},{"$f":"'Załącznik nr 2 do rozliczenia'!E357","v":0},{"$f":"'Załącznik nr 2 do rozliczenia'!F357","v":0},{"$f":"'Załącznik nr 2 do rozliczenia'!H357","v":0}]
[{"$f":"'Rozliczenie kwartalne'!A133","v":"98"},{"$f":"'Rozliczenie kwartalne'!B365","v":""},{"$f":"'Rozliczenie kwartalne'!C365","v":0},{"$f":"'Rozliczenie kwartalne'!D365","v":0},{"$f":"'Rozliczenie kwartalne'!E365","v":0},{"$f":"'Rozliczenie kwartalne'!F365","v":0},{"$f":"'Rozliczenie kwartalne'!G365","v":0},{"$f":"'Rozliczenie kwartalne'!H365","v":0},{"$f":"'Rozliczenie kwartalne'!I365","v":0},{"$f":"'Rozliczenie kwartalne'!J365","v":0},{"$f":"'Rozliczenie kwartalne'!K365","v":0},{"$f":"'Rozliczenie kwartalne'!L365","v":0},{"$f":"'Załącznik nr 1 do rozliczenia'!D363","v":0},{"$f":"'Załącznik nr 1 do rozliczenia'!F363","v":0},{"$f":"'Załącznik nr 2 do rozliczenia'!F242","v":0},{"$f":"'Załącznik nr 2 do rozliczenia'!D358","v":0},{"$f":"'Załącznik nr 2 do rozliczenia'!E358","v":0},{"$f":"'Załącznik nr 2 do rozliczenia'!F358","v":0},{"$f":"'Załącznik nr 2 do rozliczenia'!H358","v":0}]
[{"$f":"'Rozliczenie kwartalne'!A134","v":"99"},{"$f":"'Rozliczenie kwartalne'!B366","v":""},{"$f":"'Rozliczenie kwartalne'!C366","v":0},{"$f":"'Rozliczenie kwartalne'!D366","v":0},{"$f":"'Rozliczenie kwartalne'!E366","v":0},{"$f":"'Rozliczenie kwartalne'!F366","v":0},{"$f":"'Rozliczenie kwartalne'!G366","v":0},{"$f":"'Rozliczenie kwartalne'!H366","v":0},{"$f":"'Rozliczenie kwartalne'!I366","v":0},{"$f":"'Rozliczenie kwartalne'!J366","v":0},{"$f":"'Rozliczenie kwartalne'!K366","v":0},{"$f":"'Rozliczenie kwartalne'!L366","v":0},{"$f":"'Załącznik nr 1 do rozliczenia'!D364","v":0},{"$f":"'Załącznik nr 1 do rozliczenia'!F364","v":0},{"$f":"'Załącznik nr 2 do rozliczenia'!F243","v":0},{"$f":"'Załącznik nr 2 do rozliczenia'!D359","v":0},{"$f":"'Załącznik nr 2 do rozliczenia'!E359","v":0},{"$f":"'Załącznik nr 2 do rozliczenia'!F359","v":0},{"$f":"'Załącznik nr 2 do rozliczenia'!H359","v":0}]
[{"$f":"'Rozliczenie kwartalne'!A135","v":"100"},{"$f":"'Rozliczenie kwartalne'!B367","v":""},{"$f":"'Rozliczenie kwartalne'!C367","v":0},{"$f":"'Rozliczenie kwartalne'!D367","v":0},{"$f":"'Rozliczenie kwartalne'!E367","v":0},{"$f":"'Rozliczenie kwartalne'!F367","v":0},{"$f":"'Rozliczenie kwartalne'!G367","v":0},{"$f":"'Rozliczenie kwartalne'!H367","v":0},{"$f":"'Rozliczenie kwartalne'!I367","v":0},{"$f":"'Rozliczenie kwartalne'!J367","v":0},{"$f":"'Rozliczenie kwartalne'!K367","v":0},{"$f":"'Rozliczenie kwartalne'!L367","v":0},{"$f":"'Załącznik nr 1 do rozliczenia'!D365","v":0},{"$f":"'Załącznik nr 1 do rozliczenia'!F365","v":0},{"$f":"'Załącznik nr 2 do rozliczenia'!F244","v":0},{"$f":"'Załącznik nr 2 do rozliczenia'!D360","v":0},{"$f":"'Załącznik nr 2 do rozliczenia'!E360","v":0},{"$f":"'Załącznik nr 2 do rozliczenia'!F360","v":0},{"$f":"'Załącznik nr 2 do rozliczenia'!H360","v":0}]
[{"$f":"'Rozliczenie kwartalne'!A136","v":"101"},{"$f":"'Rozliczenie kwartalne'!B368","v":""},{"$f":"'Rozliczenie kwartalne'!C368","v":0},{"$f":"'Rozliczenie kwartalne'!D368","v":0},{"$f":"'Rozliczenie kwartalne'!E368","v":0},{"$f":"'Rozliczenie kwartalne'!F368","v":0},{"$f":"'Rozliczenie kwartalne'!G368","v":0},{"$f":"'Rozliczenie kwartalne'!H368","v":0},{"$f":"'Rozliczenie kwartalne'!I368","v":0},{"$f":"'Rozliczenie kwartalne'!J368","v":0},{"$f":"'Rozliczenie kwartalne'!K368","v":0},{"$f":"'Rozliczenie kwartalne'!L368","v":0},{"$f":"'Załącznik nr 1 do rozliczenia'!D366","v":0},{"$f":"'Załącznik nr 1 do rozliczenia'!F366","v":0},{"$f":"'Załącznik nr 2 do rozliczenia'!F245","v":0},{"$f":"'Załącznik nr 2 do rozliczenia'!D361","v":0},{"$f":"'Załącznik nr 2 do rozliczenia'!E361","v":0},{"$f":"'Załącznik nr 2 do rozliczenia'!F361","v":0},{"$f":"'Załącznik nr 2 do rozliczenia'!H361","v":0}]
[{"$f":"'Rozliczenie kwartalne'!A137","v":"102"},{"$f":"'Rozliczenie kwartalne'!B369","v":""},{"$f":"'Rozliczenie kwartalne'!C369","v":0},{"$f":"'Rozliczenie kwartalne'!D369","v":0},{"$f":"'Rozliczenie kwartalne'!E369","v":0},{"$f":"'Rozliczenie kwartalne'!F369","v":0},{"$f":"'Rozliczenie kwartalne'!G369","v":0},{"$f":"'Rozliczenie kwartalne'!H369","v":0},{"$f":"'Rozliczenie kwartalne'!I369","v":0},{"$f":"'Rozliczenie kwartalne'!J369","v":0},{"$f":"'Rozliczenie kwartalne'!K369","v":0},{"$f":"'Rozliczenie kwartalne'!L369","v":0},{"$f":"'Załącznik nr 1 do rozliczenia'!D367","v":0},{"$f":"'Załącznik nr 1 do rozliczenia'!F367","v":0},{"$f":"'Załącznik nr 2 do rozliczenia'!F246","v":0},{"$f":"'Załącznik nr 2 do rozliczenia'!D362","v":0},{"$f":"'Załącznik nr 2 do rozliczenia'!E362","v":0},{"$f":"'Załącznik nr 2 do rozliczenia'!F362","v":0},{"$f":"'Załącznik nr 2 do rozliczenia'!H362","v":0}]
[{"$f":"'Rozliczenie kwartalne'!A138","v":"103"},{"$f":"'Rozliczenie kwartalne'!B370","v":""},{"$f":"'Rozliczenie kwartalne'!C370","v":0},{"$f":"'Rozliczenie kwartalne'!D370","v":0},{"$f":"'Rozliczenie kwartalne'!E370","v":0},{"$f":"'Rozliczenie kwartalne'!F370","v":0},{"$f":"'Rozliczenie kwartalne'!G370","v":0},{"$f":"'Rozliczenie kwartalne'!H370","v":0},{"$f":"'Rozliczenie kwartalne'!I370","v":0},{"$f":"'Rozliczenie kwartalne'!J370","v":0},{"$f":"'Rozliczenie kwartalne'!K370","v":0},{"$f":"'Rozliczenie kwartalne'!L370","v":0},{"$f":"'Załącznik nr 1 do rozliczenia'!D368","v":0},{"$f":"'Załącznik nr 1 do rozliczenia'!F368","v":0},{"$f":"'Załącznik nr 2 do rozliczenia'!F247","v":0},{"$f":"'Załącznik nr 2 do rozliczenia'!D363","v":0},{"$f":"'Załącznik nr 2 do rozliczenia'!E363","v":0},{"$f":"'Załącznik nr 2 do rozliczenia'!F363","v":0},{"$f":"'Załącznik nr 2 do rozliczenia'!H363","v":0}]
[{"$f":"'Rozliczenie kwartalne'!A139","v":"104"},{"$f":"'Rozliczenie kwartalne'!B371","v":""},{"$f":"'Rozliczenie kwartalne'!C371","v":0},{"$f":"'Rozliczenie kwartalne'!D371","v":0},{"$f":"'Rozliczenie kwartalne'!E371","v":0},{"$f":"'Rozliczenie kwartalne'!F371","v":0},{"$f":"'Rozliczenie kwartalne'!G371","v":0},{"$f":"'Rozliczenie kwartalne'!H371","v":0},{"$f":"'Rozliczenie kwartalne'!I371","v":0},{"$f":"'Rozliczenie kwartalne'!J371","v":0},{"$f":"'Rozliczenie kwartalne'!K371","v":0},{"$f":"'Rozliczenie kwartalne'!L371","v":0},{"$f":"'Załącznik nr 1 do rozliczenia'!D369","v":0},{"$f":"'Załącznik nr 1 do rozliczenia'!F369","v":0},{"$f":"'Załącznik nr 2 do rozliczenia'!F248","v":0},{"$f":"'Załącznik nr 2 do rozliczenia'!D364","v":0},{"$f":"'Załącznik nr 2 do rozliczenia'!E364","v":0},{"$f":"'Załącznik nr 2 do rozliczenia'!F364","v":0},{"$f":"'Załącznik nr 2 do rozliczenia'!H364","v":0}]
[{"$f":"'Rozliczenie kwartalne'!A140","v":"105"},{"$f":"'Rozliczenie kwartalne'!B372","v":""},{"$f":"'Rozliczenie kwartalne'!C372","v":0},{"$f":"'Rozliczenie kwartalne'!D372","v":0},{"$f":"'Rozliczenie kwartalne'!E372","v":0},{"$f":"'Rozliczenie kwartalne'!F372","v":0},{"$f":"'Rozliczenie kwartalne'!G372","v":0},{"$f":"'Rozliczenie kwartalne'!H372","v":0},{"$f":"'Rozliczenie kwartalne'!I372","v":0},{"$f":"'Rozliczenie kwartalne'!J372","v":0},{"$f":"'Rozliczenie kwartalne'!K372","v":0},{"$f":"'Rozliczenie kwartalne'!L372","v":0},{"$f":"'Załącznik nr 1 do rozliczenia'!D370","v":0},{"$f":"'Załącznik nr 1 do rozliczenia'!F370","v":0},{"$f":"'Załącznik nr 2 do rozliczenia'!F249","v":0},{"$f":"'Załącznik nr 2 do rozliczenia'!D365","v":0},{"$f":"'Załącznik nr 2 do rozliczenia'!E365","v":0},{"$f":"'Załącznik nr 2 do rozliczenia'!F365","v":0},{"$f":"'Załącznik nr 2 do rozliczenia'!H365","v":0}]
[{"$f":"'Rozliczenie kwartalne'!A141","v":"106"},{"$f":"'Rozliczenie kwartalne'!B373","v":""},{"$f":"'Rozliczenie kwartalne'!C373","v":0},{"$f":"'Rozliczenie kwartalne'!D373","v":0},{"$f":"'Rozliczenie kwartalne'!E373","v":0},{"$f":"'Rozliczenie kwartalne'!F373","v":0},{"$f":"'Rozliczenie kwartalne'!G373","v":0},{"$f":"'Rozliczenie kwartalne'!H373","v":0},{"$f":"'Rozliczenie kwartalne'!I373","v":0},{"$f":"'Rozliczenie kwartalne'!J373","v":0},{"$f":"'Rozliczenie kwartalne'!K373","v":0},{"$f":"'Rozliczenie kwartalne'!L373","v":0},{"$f":"'Załącznik nr 1 do rozliczenia'!D371","v":0},{"$f":"'Załącznik nr 1 do rozliczenia'!F371","v":0},{"$f":"'Załącznik nr 2 do rozliczenia'!F250","v":0},{"$f":"'Załącznik nr 2 do rozliczenia'!D366","v":0},{"$f":"'Załącznik nr 2 do rozliczenia'!E366","v":0},{"$f":"'Załącznik nr 2 do rozliczenia'!F366","v":0},{"$f":"'Załącznik nr 2 do rozliczenia'!H366","v":0}]
[{"$f":"'Rozliczenie kwartalne'!A142","v":"107"},{"$f":"'Rozliczenie kwartalne'!B374","v":""},{"$f":"'Rozliczenie kwartalne'!C374","v":0},{"$f":"'Rozliczenie kwartalne'!D374","v":0},{"$f":"'Rozliczenie kwartalne'!E374","v":0},{"$f":"'Rozliczenie kwartalne'!F374","v":0},{"$f":"'Rozliczenie kwartalne'!G374","v":0},{"$f":"'Rozliczenie kwartalne'!H374","v":0},{"$f":"'Rozliczenie kwartalne'!I374","v":0},{"$f":"'Rozliczenie kwartalne'!J374","v":0},{"$f":"'Rozliczenie kwartalne'!K374","v":0},{"$f":"'Rozliczenie kwartalne'!L374","v":0},{"$f":"'Załącznik nr 1 do rozliczenia'!D372","v":0},{"$f":"'Załącznik nr 1 do rozliczenia'!F372","v":0},{"$f":"'Załącznik nr 2 do rozliczenia'!F251","v":0},{"$f":"'Załącznik nr 2 do rozliczenia'!D367","v":0},{"$f":"'Załącznik nr 2 do rozliczenia'!E367","v":0},{"$f":"'Załącznik nr 2 do rozliczenia'!F367","v":0},{"$f":"'Załącznik nr 2 do rozliczenia'!H367","v":0}]
[{"$f":"'Rozliczenie kwartalne'!A143","v":"108"},{"$f":"'Rozliczenie kwartalne'!B375","v":""},{"$f":"'Rozliczenie kwartalne'!C375","v":0},{"$f":"'Rozliczenie kwartalne'!D375","v":0},{"$f":"'Rozliczenie kwartalne'!E375","v":0},{"$f":"'Rozliczenie kwartalne'!F375","v":0},{"$f":"'Rozliczenie kwartalne'!G375","v":0},{"$f":"'Rozliczenie kwartalne'!H375","v":0},{"$f":"'Rozliczenie kwartalne'!I375","v":0},{"$f":"'Rozliczenie kwartalne'!J375","v":0},{"$f":"'Rozliczenie kwartalne'!K375","v":0},{"$f":"'Rozliczenie kwartalne'!L375","v":0},{"$f":"'Załącznik nr 1 do rozliczenia'!D373","v":0},{"$f":"'Załącznik nr 1 do rozliczenia'!F373","v":0},{"$f":"'Załącznik nr 2 do rozliczenia'!F252","v":0},{"$f":"'Załącznik nr 2 do rozliczenia'!D368","v":0},{"$f":"'Załącznik nr 2 do rozliczenia'!E368","v":0},{"$f":"'Załącznik nr 2 do rozliczenia'!F368","v":0},{"$f":"'Załącznik nr 2 do rozliczenia'!H368","v":0}]
[{"$f":"'Rozliczenie kwartalne'!A144","v":"109"},{"$f":"'Rozliczenie kwartalne'!B376","v":""},{"$f":"'Rozliczenie kwartalne'!C376","v":0},{"$f":"'Rozliczenie kwartalne'!D376","v":0},{"$f":"'Rozliczenie kwartalne'!E376","v":0},{"$f":"'Rozliczenie kwartalne'!F376","v":0},{"$f":"'Rozliczenie kwartalne'!G376","v":0},{"$f":"'Rozliczenie kwartalne'!H376","v":0},{"$f":"'Rozliczenie kwartalne'!I376","v":0},{"$f":"'Rozliczenie kwartalne'!J376","v":0},{"$f":"'Rozliczenie kwartalne'!K376","v":0},{"$f":"'Rozliczenie kwartalne'!L376","v":0},{"$f":"'Załącznik nr 1 do rozliczenia'!D374","v":0},{"$f":"'Załącznik nr 1 do rozliczenia'!F374","v":0},{"$f":"'Załącznik nr 2 do rozliczenia'!F253","v":0},{"$f":"'Załącznik nr 2 do rozliczenia'!D369","v":0},{"$f":"'Załącznik nr 2 do rozliczenia'!E369","v":0},{"$f":"'Załącznik nr 2 do rozliczenia'!F369","v":0},{"$f":"'Załącznik nr 2 do rozliczenia'!H369","v":0}]
[{"$f":"'Rozliczenie kwartalne'!A145","v":"110"},{"$f":"'Rozliczenie kwartalne'!B377","v":""},{"$f":"'Rozliczenie kwartalne'!C377","v":0},{"$f":"'Rozliczenie kwartalne'!D377","v":0},{"$f":"'Rozliczenie kwartalne'!E377","v":0},{"$f":"'Rozliczenie kwartalne'!F377","v":0},{"$f":"'Rozliczenie kwartalne'!G377","v":0},{"$f":"'Rozliczenie kwartalne'!H377","v":0},{"$f":"'Rozliczenie kwartalne'!I377","v":0},{"$f":"'Rozliczenie kwartalne'!J377","v":0},{"$f":"'Rozliczenie kwartalne'!K377","v":0},{"$f":"'Rozliczenie kwartalne'!L377","v":0},{"$f":"'Załącznik nr 1 do rozliczenia'!D375","v":0},{"$f":"'Załącznik nr 1 do rozliczenia'!F375","v":0},{"$f":"'Załącznik nr 2 do rozliczenia'!F254","v":0},{"$f":"'Załącznik nr 2 do rozliczenia'!D370","v":0},{"$f":"'Załącznik nr 2 do rozliczenia'!E370","v":0},{"$f":"'Załącznik nr 2 do rozliczenia'!F370","v":0},{"$f":"'Załącznik nr 2 do rozliczenia'!H370","v":0}]