{"text_format":"1","workbook":"xlsx","n_sheets":10,"sheets":["Legenda","Obligacje skarbowe_podmiot","Bony skarbowe_podmiot","Razem_podmiot","Obligacje skarbowe_region","Bony skarbowe_region","Razem_region","Obligacje skarbowe_banki centr.","Bony skarbowe_banki centr.","Razem_banki centr."],"not_rendered":{"charts":0,"images":0,"macros":1,"external_links":0,"defined_names":9,"comments":0,"pivot_tables":0},"unopened":[],"bounds":{"document_bytes":16777216,"sheet_cells":100000,"rows_first":2000,"rows_last":500,"rows_between":2000,"halvings":0,"cell_chars":16384,"cell_head_chars":4096},"cells_cut":0,"cells_raw":0,"read":"whole","date_system":"1900"}

{"sheet":"Legenda","index":0,"n_rows":17,"n_cols":3,"rows_kept":17,"cut":false,"hidden":false,"merged":[]}
[]
[]
["Tabele"]
[null,"Struktura podmiotowa nierezydentów"]
[null,null,"Obligacje skarbowe"]
[null,null,"Bony skarbowe"]
[null,null,"SPW"]
[]
[null,"Struktura geograficzna nierezydentów"]
[null,null,"Obligacje skarbowe"]
[null,null,"Bony skarbowe"]
[null,null,"SPW"]
[]
[null,"Portfele banków centralnych po regionach"]
[null,null,"Obligacje skarbowe"]
[null,null,"Bony skarbowe"]
[null,null,"SPW"]

{"sheet":"Obligacje skarbowe_podmiot","index":1,"n_rows":136,"n_cols":16384,"rows_kept":136,"cut":false,"hidden":false,"merged":[[2,9,3,9],[2,10,3,10],[2,11,3,11],[2,12,3,12],[0,0,1,12],[2,0,3,0],[2,1,3,1],[2,2,3,2],[2,3,3,3],[2,4,3,4],[2,5,3,5],[2,6,3,6],[2,7,3,7],[2,8,3,8]]}
["Struktura podmiotowa nierezydentów w obligacjach skarbowych (mln zł)"]
[]
["Data","Banki","Banki centralne","Instytucje publiczne","Zakłady ubezpieczeniowe","Fundusze emerytalne","Fundusze inwestycyjne","Fundusze hedgingowe","Gospodarstwa domowe","Przedsiębiorstwa niefinansowe","Inne podmioty","Rachunki zbiorcze","Razem"]
[]
["2014-04-30",11859.357963590001,14430.963776190001,680.11,9105.3702250000006,11936.786626430001,79070.627955809992,93.29,22.290500000000002,12072.483238139999,17970.755849540001,30397.89447363,{"$f":"SUM(B5:L5)","v":187639.93060833}]
["2014-05-31",10461.622015860001,17316.546403460001,693.11,9369.4,12164.932128929999,80214.312076260016,91.19,20.4282,12552.153947789999,15910.563786969999,30859.053028040002,189653.31158731002]
["2014-06-30",12619.886563339998,18045.019758210001,719.53499999999997,9529.9159999999993,12296.85143837,83402.576656130012,91.63,20.408300000000001,14200.30861876,16528.533605549997,32366.672462250001,199821.33840261001]
["2014-07-31",10840.59403074,18136.763590059996,719.53499999999997,9809.0370000000003,12339.165401570001,79595.780659280004,92.88,20.891500000000001,11903.48760255,19605.84464123,33037.725373269997,196101.70479870003]
["2014-08-31",9968.7958705599995,18398.840051970001,717.10500000000002,10684.523999999999,12226.455344369999,79988.735195989997,84.67,20.8184,12300.272474739999,18630.295272679999,30106.787081029997,193127.29869133997]
["2014-09-30",12063.889639030001,19312.38062657,549.02499999999998,10939.148999999999,12719.462012739999,80785.264746930014,83.224999999999994,20.804400000000001,12221.721217979999,17675.760415029999,31143.437565419998,197514.11962370001]
["2014-10-31",14319.63882968,21142.344732680001,501.57499999999999,10399.404,12391.015906870001,77491.896896760009,389.42500000000001,20.8032,11436.92628252,14802.471966229999,32157.977722080002,195053.47953681997]
["2014-11-30",9895.5501391200014,15576.904418779999,8794.0550000000003,10524.984,12754.525984309999,78754.877056070007,600.98500000000001,19.370100000000001,12083.898069400002,14820.44708844,32783.31824773,196608.91510384998]
["2014-12-31",9936.517462859998,16412.56812227,8067.3249999999998,10721.279,12995.525370959998,78128.555095610005,755.70500000000004,19.100300000000001,11641.072350100001,14290.08441822,33018.230698220003,195985.96281823999]
["2015-01-31",13290.68867068,17401.360580249999,8129.83,10580.214,12692.8472604,81094.799982690005,743.63499999999999,16.5062,11633.007144360001,15761.438910360001,31179.275542349998,{"$f":"SUM(B14:L14)","v":202523.60329109}]
["2015-02-28",11135.923053350001,18525.07819298,8523.8430000000008,10167.744000000001,13310.733623040001,81582.286310449999,1131.585,16.564900000000002,8087.20181908,17344.130044730002,32314.109809530004,202139.19975315998]
["2015-03-31",9898.1387712900014,20336.784857070004,8815.7530000000006,11019.790999999999,13175.78635876,80150.455804040015,1088.4849999999999,15.9474,8218.0064256700007,17008.599942110002,34064.24987285,203791.99843179001]
["2015-04-30",12363.51147727,22212.040121359998,8966.6830000000009,9848.5220000000008,13063.470087239999,72320.884472940001,1086.77,16.055399999999999,7804.5216676299997,16880.633034850001,34027.016767460002,198590.10802875002]
["2015-05-31",12680.480871700001,23071.438335039998,9347.223,10605.7806994,12244.673258639999,70752.791269179987,592.47,16.2989,8528.5723312200007,16484.74964582,35570.306583359998,199894.78489436]
["2015-06-30",13960.734456600001,22621.189103199998,9429.6229999999996,11005.338454000001,12380.162872000001,71538.941906979991,40.520000000000003,15.9941,8409.5815201999994,18588.372902580002,35717.270934499997,{"$f":"SUM(B19:L19)","v":203707.72925006002}]
["2015-07-31",13318.340026700002,22874.117899360001,9530.6180000000004,11724.1040636,12889.6127474,70916.36171066,40.520000000000003,16.003299999999999,8103.2731298799999,18733.425517020001,36806.479828119998,204952.85622273997]
["2015-08-31",16045.90585662,21081.79589936,9520.509,11564.0581124,13085.2212244,69281.897273779992,40.68,15.7598,7965.3031298799997,18736.072834220002,38268.301175599998,205605.50430626]
["2015-09-30",13500.425382949999,28318.255200039999,9742.5010000000002,11597.361627600001,13017.9324302,64687.120638619992,40.18,15.9093,8729.9562081199983,19492.826585769999,39020.101768169996,208162.57014146997]
["2015-10-31",15550.164768960001,28597.657168740003,9657.8619999999992,10929.609441100001,12990.622376899999,58571.909620220002,40.18,15.565300000000001,9283.0325080700004,17983.399105349999,42331.307000929999,205951.30929026997]
["2015-11-30",11544.152771460002,29122.123696819999,10001.870999999999,11643.355481299999,13609.3943573,59072.633914560007,38.520000000000003,15.8246,9275.4091888100011,19059.964084800002,43182.245269380008,206565.49436443002]
["2015-12-31",12704.17779752,30122.743061759997,9378.4779999999992,12441.596856799999,14059.547562399999,54947.634544869994,40.840000000000003,16.997800000000002,9095.8838385799991,19013.592396060001,44938.05586439,206759.54772237997]
["2016-01-31",16684.285761409999,29314.372493759998,9442.2340000000004,12249.122776799999,13390.5589944,47737.17085717,40.840000000000003,17.206399999999999,6434.91576558,17816.052710760003,40571.803377340002,193698.56313721999]
["2016-02-29",14775.675489800002,29182.491811579999,9440.0849999999991,11408.5978968,13386.821243,41096.206988940001,40.840000000000003,17.236699999999999,6580.9563562200001,17734.486242179999,42884.723623059996,186548.12135158002]
["2016-03-31",19295.629876499999,27744.17252348,9479.6579999999994,11871.087356799999,13768.4277946,41749.743608980003,43.49,18.100999999999999,6711.1382029200004,17238.997737639998,42243.494168260004,190163.94026917999]
[{"$f":"EOMONTH(A28,1)","v":"2016-04-30"},12361.54732731,28245.14566591,8863.0139999999992,10808.812951600001,13733.185650399999,40687.984133960003,64.44,18.156099999999999,6227.1124517899998,16924.287583190002,50326.730086110001,188260.41595027002]
["2016-05-31",11556.568820449998,29479.63402895,8903.9680000000008,11300.799193999999,14441.44348695,42327.140582650005,77.97,18.636399999999998,6508.76629985,18083.979913250001,49838.616453949995,192537.52318004999]
["2016-06-30",12551.410795709999,29494.412596990001,8852.3077901599991,11755.169634799999,14483.56388869,42990.724163110004,79.97,19.3507,7053.33397487,17260.970877159998,51952.497951370002,{"$f":"SUM(B31:L31)","v":196493.71237285997}]
["2016-07-31",11348.0674509,28589.633727330001,9032.1077050000004,9769.5676115999995,14574.589701229999,41718.755379870003,79.67,20.97,6818.1041932899998,17374.878925800003,53495.17115509,192821.51585011001]
["2016-08-31",10941.552183799999,28460.880827060002,9391.6949999999997,9650.3018712000012,14518.891816860001,43300.606485739998,77.33,21.968599999999999,7054.43086778,18132.206038700002,54894.44775508,196444.31144622]
["2016-09-30",11856.32019491,28373.569288810002,9298.2022153999987,10120.851981200001,14551.28340611,44482.57972999,77.17,22.4602,7473.6744205300001,19669.37345495,54640.91553007,200566.40042197]
["2016-10-31",10082.34324661,28483.23535689,9355.4920000000002,9396.1117827999988,14390.29402119,36781.937340110002,76.7,21.703199999999999,7808.2915647700002,22420.66148183,59302.619424529999,198119.38941872999]
["2016-11-30",9330.6517179799994,29125.451014409999,9494.8559999999998,9340.4108993999998,14298.359011209999,32374.256921240001,318.35700000000003,20.470300000000002,7831.1315961299997,21350.31223888,54654.099118320002,188138.35581757]
["2016-12-31",9965.7889052800001,28697.224457140001,9887.6041050400017,9447.0674276000009,14173.447640120001,31932.186218139999,296.11700000000002,21.3855,8642.5061380200004,21251.715755820002,58240.70938462,192555.75253177999]
["2017-01-31",8781.1493531800006,28212.536519789999,10119.26114072,9684.9622336000011,14786.47100118,34384.226458509991,305.27199999999999,21.707999999999998,8788.437280529999,22245.906897479999,56453.559245330005,193783.49013032002]
["2017-02-28",9426.4415879999997,27315.138916779997,10559.283100000001,9854.6423154000004,15232.902026239999,36617.569367979995,327.05399999999997,22.645399999999999,8779.0558909399988,22555.638620439997,54379.242628779997,195069.61385455998]
["2017-03-31",8413.1845119400004,31761.051266529998,10649.0515,10038.8452241,15600.44747424,38546.555016929997,490.19900000000001,23.662800000000001,8821.9422976899987,23926.175404540001,56689.005536789999,204960.12003275999]
["2017-04-30",7345.6469603400001,31153.745535409998,10911.052,9971.2362777000017,16124.912257280001,39950.877384250001,532.28599999999994,39.933500000000002,8696.416022630001,26709.312889479999,58716.325768620001,210151.74459570998]
["2017-05-31",6087.3871023199999,30434.989819029997,12267.411,10075.2686491,16054.336394239999,39485.722358449995,541.61199999999997,47.333100000000002,8561.6412182900003,26017.958466839998,59948.239157660006,209521.89926593]
["2017-06-30",8598.0476326399985,27986.983838960001,11869.043,10094.057871200001,17241.350655680002,40076.822718000003,1273.252,48.4495,8648.0494752799987,25991.200720479999,59910.907861199994,{"$f":"SUM(B43:L43)","v":211738.16527343998}]
["2017-07-31",8072.2727643199996,27806.754641479998,11878.253000000001,9878.6872756000012,16580.845403840001,40290.745148599999,1224.2380000000001,50.190600000000003,8015.0647836400003,26734.579600639998,58595.351416199999,209126.98263432001]
["2017-08-31",10583.508917680001,27630.565694019999,11733.972,9634.0546593999989,17248.100980160001,39694.219692500003,1247.4179999999999,50.334600000000002,7652.8326428599994,26197.974573160001,56879.353112900004,208552.33487268002]
["2017-09-30",12832.62990632,26841.312046979998,11012.031000000001,9901.6291106000008,16402.82234784,39970.823932500003,1255.913,50.702500000000001,7344.3713201400005,25945.910024839999,53543.8043321,205101.94952132]
["2017-10-31",6008.3416323000001,34347.618820099997,10303.210999999999,8510.2957970000007,16252.918700799999,39473.6528951,1198.0239999999999,54.06035,6908.4937643000003,26370.675253400001,52484.063590400001,201911.35580340002]
["2017-11-30",5861.92504525,34910.615789449999,6741.7659999999996,9295.5307935000001,15810.37097025,38432.282601400002,1090.357,54.041525,7032.4074251499997,27212.489956199999,53582.290389850001,{"$f":"SUM(B48:L48)","v":200024.07749605001}]
["2017-12-31",5556.9758922499996,35660.412600050004,5947.5959999999995,9890.3389915000007,15641.73650725,39897.336704100002,1241.5650000000001,52.537424999999999,7056.7982413500004,27197.287138599997,54571.888236250001,202714.47273635]
["2018-01-31",6448.7013258000006,34001.422022630002,4949.62,9732.6599528999996,15372.44238135,40543.306318150004,1169.73146428,50.352155000000003,6719.4423155100003,27217.032425360001,53367.099826230005,199571.81018721001]
["2018-02-28",8217.8890988000003,33270.723668179999,3025.674,9826.9402093999997,15311.8193145,41336.128925879995,1235.5071600799999,50.340829999999997,6363.3190978599996,28508.187198560001,53318.943760779999,200465.47326403999]
["2018-03-31",7109.5204358999999,35872.82121039,1557.278,10843.573633700002,15311.13141475,40503.263051540001,1086.6111228400002,55.12605903,5936.2211600000001,29671.387539630003,54869.486351190004,202816.41997896996]
["2018-04-30",5568.2576561000005,35570.500990050001,399.685,10428.828691500001,15017.899976250001,38996.747691550001,1203.3945377999999,54.867338850000003,7140.4931999999999,29044.227028150002,54261.770323900004,197686.67243415001]
["2018-05-31",6944.9837034900002,35355.067395490005,445.86500000000001,10160.7385801,14751.08737675,37967.31669611,1242.3741913199999,56.700917189999998,7335.4416799999999,28486.64410261,53951.109884449994,196697.32952750998]
["2018-06-30",3900.9919067199999,35402.180862469999,387.685,11104.997980299999,15017.750830249999,36923.226097080005,1238.14274196,56.890585000000002,7986.88274757,26887.615071830001,53233.776883350001,192140.14070653002,{"$f":"N54-N53","v":0},0,0,0,0,0,0,0,0,0,0,0,0,0,0,0,0,0,0,0,0,0,0,0,0,0,0,0,0,0,0,0,0,0,0,0,0,0,0,0,0,0,0,0,0,0,0,0,0,0,0,0,0,{"$f":"BO54-BO53","v":0},0,0,0,0,0,0,0,0,0,0,0,0,0,0,0,0,0,0,0,0,0,0,0,0,0,0,0,0,0,0,0,0,0,0,0,0,0,0,0,0,0,0,0,0,0,0,0,0,0,0,0,0,0,0,0,0,0,0,0,0,0,0,0,{"$f":"EA54-EA53","v":0},0,0,0,0,0,0,0,0,0,0,0,0,0,0,0,0,0,0,0,0,0,0,0,0,0,0,0,0,0,0,0,0,0,0,0,0,0,0,0,0,0,0,0,0,0,0,0,0,0,0,0,0,0,0,0,0,0,0,0,0,0,0,0,{"$f":"GM54-GM53","v":0},0,0,0,0,0,0,0,0,0,0,0,0,0,0,0,0,0,0,0,0,0,0,0,0,0,0,0,0,0,0,0,0,0,0,0,0,0,0,0,0,0,0,0,0,0,0,0,0,0,0,0,0,0,0,0,0,0,0,0,0,0,0,0,{"$f":"IY54-IY53","v":0},0,0,0,0,0,0,0,0,0,0,0,0,0,0,0,0,0,0,0,0,0,0,0,0,0,0,0,0,0,0,0,0,0,0,0,0,0,0,0,0,0,0,0,0,0,0,0,0,0,0,0,0,0,0,0,0,0,0,0,0,0,0,0,{"$f":"LK54-LK53","v":0},0,0,0,0,0,0,0,0,0,0,0,0,0,0,0,0,0,0,0,0,0,0,0,0,0,0,0,0,0,0,0,0,0,0,0,0,0,0,0,0,0,0,0,0,0,0,0,0,0,0,0,0,0,0,0,0,0,0,0,0,0,0,0,{"$f":"NW54-NW53","v":0},0,0,0,0,0,0,0,0,0,0,0,0,0,0,0,0,0,0,0,0,0,0,0,0,0,0,0,0,0,0,0,0,0,0,0,0,0,0,0,0,0,0,0,0,0,0,0,0,0,0,0,0,0,0,0,0,0,0,0,0,0,0,0,{"$f":"QI54-QI53","v":0},0,0,0,0,0,0,0,0,0,0,0,0,0,0,0,0,0,0,0,0,0,0,0,0,0,0,0,0,0,0,0,0,0,0,0,0,0,0,0,0,0,0,0,0,0,0,0,0,0,0,0,0,0,0,0,0,0,0,0,0,0,0,0,{"$f":"SU54-SU53","v":0},0,0,0,0,0,0,0,0,0,0,0,0,0,0,0,0,0,0,0,0,0,0,0,0,0,0,0,0,0,0,0,0,0,0,0,0,0,0,0,0,0,0,0,0,0,0,0,0,0,0,0,0,0,0,0,0,0,0,0,0,0,0,0,{"$f":"VG54-VG53","v":0},0,0,0,0,0,0,0,0,0,0,0,0,0,0,0,0,0,0,0,0,0,0,0,0,0,0,0,0,0,0,0,0,0,0,0,0,0,0,0,0,0,0,0,0,0,0,0,0,0,0,0,0,0,0,0,0,0,0,0,0,0,0,0,{"$f":"XS54-XS53","v":0},0,0,0,0,0,0,0,0,0,0,0,0,0,0,0,0,0,0,0,0,0,0,0,0,0,0,0,0,0,0,0,0,0,0,0,0,0,0,0,0,0,0,0,0,0,0,0,0,0,0,0,0,0,0,0,0,0,0,0,0,0,0,0,{"$f":"AAE54-AAE53","v":0},0,0,0,0,0,0,0,0,0,0,0,0,0,0,0,0,0,0,0,0,0,0,0,0,0,0,0,0,0,0,0,0,0,0,0,0,0,0,0,0,0,0,0,0,0,0,0,0,0,0,0,0,0,0,0,0,0,0,0,0,0,0,0,{"$f":"ACQ54-ACQ53","v":0},0,0,0,0,0,0,0,0,0,0,0,0,0,0,0,0,0,0,0,0,0,0,0,0,0,0,0,0,0,0,0,0,0,0,0,0,0,0,0,0,0,0,0,0,0,0,0,0,0,0,0,0,0,0,0,0,0,0,0,0,0,0,0,{"$f":"AFC54-AFC53","v":0},0,0,0,0,0,0,0,0,0,0,0,0,0,0,0,0,0,0,0,0,0,0,0,0,0,0,0,0,0,0,0,0,0,0,0,0,0,0,0,0,0,0,0,0,0,0,0,0,0,0,0,0,0,0,0,0,0,0,0,0,0,0,0,{"$f":"AHO54-AHO53","v":0},0,0,0,0,0,0,0,0,0,0,0,0,0,0,0,0,0,0,0,0,0,0,0,0,0,0,0,0,0,0,0,0,0,0,0,0,0,0,0,0,0,0,0,0,0,0,0,0,0,0,0,0,0,0,0,0,0,0,0,0,0,0,0,{"$f":"AKA54-AKA53","v":0},0,0,0,0,0,0,0,0,0,0,0,0,0,0,0,0,0,0,0,0,0,0,0,0,0,0,0,0,0,0,0,0,0,0,0,0,0,0,0,0,0,0,0,0,0,0,0,0,0,0,0,0,0,0,0,0,0,0,0,0,0,0,0,{"$f":"AMM54-AMM53","v":0},0,0,0,0,0,0,0,0,0,0,0,0,0,0,0,0,0,0,0,0,0,0,0,0,0,0,0,0,0,0,0,0,0,0,0,0,0,0,0,0,0,0,0,0,0,0,0,0,0,0,0,0,0,0,0,0,0,0,0,0,0,0,0,{"$f":"AOY54-AOY53","v":0},0,0,0,0,0,0,0,0,0,0,0,0,0,0,0,0,0,0,0,0,0,0,0,0,0,0,0,0,0,0,0,0,0,0,0,0,0,0,0,0,0,0,0,0,0,0,0,0,0,0,0,0,0,0,0,0,0,0,0,0,0,0,0,{"$f":"ARK54-ARK53","v":0},0,0,0,0,0,0,0,0,0,0,0,0,0,0,0,0,0,0,0,0,0,0,0,0,0,0,0,0,0,0,0,0,0,0,0,0,0,0,0,0,0,0,0,0,0,0,0,0,0,0,0,0,0,0,0,0,0,0,0,0,0,0,0,{"$f":"ATW54-ATW53","v":0},0,0,0,0,0,0,0,0,0,0,0,0,0,0,0,0,0,0,0,0,0,0,0,0,0,0,0,0,0,0,0,0,0,0,0,0,0,0,0,0,0,0,0,0,0,0,0,0,0,0,0,0,0,0,0,0,0,0,0,0,0,0,0,{"$f":"AWI54-AWI53","v":0},0,0,0,0,0,0,0,0,0,0,0,0,0,0,0,0,0,0,0,0,0,0,0,0,0,0,0,0,0,0,0,0,0,0,0,0,0,0,0,0,0,0,0,0,0,0,0,0,0,0,0,0,0,0,0,0,0,0,0,0,0,0,0,{"$f":"AYU54-AYU53","v":0},0,0,0,0,0,0,0,0,0,0,0,0,0,0,0,0,0,0,0,0,0,0,0,0,0,0,0,0,0,0,0,0,0,0,0,0,0,0,0,0,0,0,0,0,0,0,0,0,0,0,0,0,0,0,0,0,0,0,0,0,0,0,0,{"$f":"BBG54-BBG53","v":0},0,0,0,0,0,0,0,0,0,0,0,0,0,0,0,0,0,0,0,0,0,0,0,0,0,0,0,0,0,0,0,0,0,0,0,0,0,0,0,0,0,0,0,0,0,0,0,0,0,0,0,0,0,0,0,0,0,0,0,0,0,0,0,{"$f":"BDS54-BDS53","v":0},0,0,0,0,0,0,0,0,0,0,0,0,0,0,0,0,0,0,0,0,0,0,0,0,0,0,0,0,0,0,0,0,0,0,0,0,0,0,0,0,0,0,0,0,0,0,0,0,0,0,0,0,0,0,0,0,0,0,0,0,0,0,0,{"$f":"BGE54-BGE53","v":0},0,0,0,0,0,0,0,0,0,0,0,0,0,0,0,0,0,0,0,0,0,0,0,0,0,0,0,0,0,0,0,0,0,0,0,0,0,0,0,0,0,0,0,0,0,0,0,0,0,0,0,0,0,0,0,0,0,0,0,0,0,0,0,{"$f":"BIQ54-BIQ53","v":0},0,0,0,0,0,0,0,0,0,0,0,0,0,0,0,0,0,0,0,0,0,0,0,0,0,0,0,0,0,0,0,0,0,0,0,0,0,0,0,0,0,0,0,0,0,0,0,0,0,0,0,0,0,0,0,0,0,0,0,0,0,0,0,{"$f":"BLC54-BLC53","v":0},0,0,0,0,0,0,0,0,0,0,0,0,0,0,0,0,0,0,0,0,0,0,0,0,0,0,0,0,0,0,0,0,0,0,0,0,0,0,0,0,0,0,0,0,0,0,0,0,0,0,0,0,0,0,0,0,0,0,0,0,0,0,0,{"$f":"BNO54-BNO53","v":0},0,0,0,0,0,0,0,0,0,0,0,0,0,0,0,0,0,0,0,0,0,0,0,0,0,0,0,0,0,0,0,0,0,0,0,0,0,0,0,0,0,0,0,0,0,0,0,0,0,0,0,0,0,0,0,0,0,0,0,0,0,0,0,{"$f":"BQA54-BQA53","v":0},0,0,0,0,0,0,0,0,0,0,0,0,0,0,0,0,0,0,0,0,0,0,0,0,0,0,0,0,0,0,0,0,0,0,0,0,0,0,0,0,0,0,0,0,0,0,0,0,0,0,0,0,0,0,0,0,0,0,0,0,0,0,0,{"$f":"BSM54-BSM53","v":0},0,0,0,0,0,0,0,0,0,0,0,0,0,0,0,0,0,0,0,0,0,0,0,0,0,0,0,0,0,0,0,0,0,0,0,0,0,0,0,0,0,0,0,0,0,0,0,0,0,0,0,0,0,0,0,0,0,0,0,0,0,0,0,{"$f":"BUY54-BUY53","v":0},0,0,0,0,0,0,0,0,0,0,0,0,0,0,0,0,0,0,0,0,0,0,0,0,0,0,0,0,0,0,0,0,0,0,0,0,0,0,0,0,0,0,0,0,0,0,0,0,0,0,0,0,0,0,0,0,0,0,0,0,0,0,0,{"$f":"BXK54-BXK53","v":0},0,0,0,0,0,0,0,0,0,0,0,0,0,0,0,0,0,0,0,0,0,0,0,0,0,0,0,0,0,0,0,0,0,0,0,0,0,0,0,0,0,0,0,0,0,0,0,0,0,0,0,0,0,0,0,0,0,0,0,0,0,0,0,{"$f":"BZW54-BZW53","v":0},0,0,0,0,0,0,0,0,0,0,0,0,0,0,0,0,0,0,0,0,0,0,0,0,0,0,0,0,0,0,0,0,0,0,0,0,0,0,0,0,0,0,0,0,0,0,0,0,0,0,0,0,0,0,0,0,0,0,0,0,0,0,0,{"$f":"CCI54-CCI53","v":0},0,0,0,0,0,0,0,0,0,0,0,0,0,0,0,0,0,0,0,0,0,0,0,0,0,0,0,0,0,0,0,0,0,0,0,0,0,0,0,0,0,0,0,0,0,0,0,0,0,0,0,0,0,0,0,0,0,0,0,0,0,0,0,{"$f":"CEU54-CEU53","v":0},0,0,0,0,0,0,0,0,0,0,0,0,0,0,0,0,0,0,0,0,0,0,0,0,0,0,0,0,0,0,0,0,0,0,0,0,0,0,0,0,0,0,0,0,0,0,0,0,0,0,0,0,0,0,0,0,0,0,0,0,0,0,0,{"$f":"CHG54-CHG53","v":0},0,0,0,0,0,0,0,0,0,0,0,0,0,0,0,0,0,0,0,0,0,0,0,0,0,0,0,0,0,0,0,0,0,0,0,0,0,0,0,0,0,0,0,0,0,0,0,0,0,0,0,0,0,0,0,0,0,0,0,0,0,0,0,{"$f":"CJS54-CJS53","v":0},0,0,0,0,0,0,0,0,0,0,0,0,0,0,0,0,0,0,0,0,0,0,0,0,0,0,0,0,0,0,0,0,0,0,0,0,0,0,0,0,0,0,0,0,0,0,0,0,0,0,0,0,0,0,0,0,0,0,0,0,0,0,0,{"$f":"CME54-CME53","v":0},0,0,0,0,0,0,0,0,0,0,0,0,0,0,0,0,0,0,0,0,0,0,0,0,0,0,0,0,0,0,0,0,0,0,0,0,0,0,0,0,0,0,0,0,0,0,0,0,0,0,0,0,0,0,0,0,0,0,0,0,0,0,0,{"$f":"COQ54-COQ53","v":0},0,0,0,0,0,0,0,0,0,0,0,0,0,0,0,0,0,0,0,0,0,0,0,0,0,0,0,0,0,0,0,0,0,0,0,0,0,0,0,0,0,0,0,0,0,0,0,0,0,0,0,0,0,0,0,0,0,0,0,0,0,0,0,{"$f":"CRC54-CRC53","v":0},0,0,0,0,0,0,0,0,0,0,0,0,0,0,0,0,0,0,0,0,0,0,0,0,0,0,0,0,0,0,0,0,0,0,0,0,0,0,0,0,0,0,0,0,0,0,0,0,0,0,0,0,0,0,0,0,0,0,0,0,0,0,0,{"$f":"CTO54-CTO53","v":0},0,0,0,0,0,0,0,0,0,0,0,0,0,0,0,0,0,0,0,0,0,0,0,0,0,0,0,0,0,0,0,0,0,0,0,0,0,0,0,0,0,0,0,0,0,0,0,0,0,0,0,0,0,0,0,0,0,0,0,0,0,0,0,{"$f":"CWA54-CWA53","v":0},0,0,0,0,0,0,0,0,0,0,0,0,0,0,0,0,0,0,0,0,0,0,0,0,0,0,0,0,0,0,0,0,0,0,0,0,0,0,0,0,0,0,0,0,0,0,0,0,0,0,0,0,0,0,0,0,0,0,0,0,0,0,0,{"$f":"CYM54-CYM53","v":0},0,0,0,0,0,0,0,0,0,0,0,0,0,0,0,0,0,0,0,0,0,0,0,0,0,0,0,0,0,0,0,0,0,0,0,0,0,0,0,0,0,0,0,0,0,0,0,0,0,0,0,0,0,0,0,0,0,0,0,0,0,0,0,{"$f":"DAY54-DAY53","v":0},0,0,0,0,0,0,0,0,0,0,0,0,0,0,0,0,0,0,0,0,0,0,0,0,0,0,0,0,0,0,0,0,0,0,0,0,0,0,0,0,0,0,0,0,0,0,0,0,0,0,0,0,0,0,0,0,0,0,0,0,0,0,0,{"$f":"DDK54-DDK53","v":0},0,0,0,0,0,0,0,0,0,0,0,0,0,0,0,0,0,0,0,0,0,0,0,0,0,0,0,0,0,0,0,0,0,0,0,0,0,0,0,0,0,0,0,0,0,0,0,0,0,0,0,0,0,0,0,0,0,0,0,0,0,0,0,{"$f":"DFW54-DFW53","v":0},0,0,0,0,0,0,0,0,0,0,0,0,0,0,0,0,0,0,0,0,0,0,0,0,0,0,0,0,0,0,0,0,0,0,0,0,0,0,0,0,0,0,0,0,0,0,0,0,0,0,0,0,0,0,0,0,0,0,0,0,0,0,0,{"$f":"DII54-DII53","v":0},0,0,0,0,0,0,0,0,0,0,0,0,0,0,0,0,0,0,0,0,0,0,0,0,0,0,0,0,0,0,0,0,0,0,0,0,0,0,0,0,0,0,0,0,0,0,0,0,0,0,0,0,0,0,0,0,0,0,0,0,0,0,0,{"$f":"DKU54-DKU53","v":0},0,0,0,0,0,0,0,0,0,0,0,0,0,0,0,0,0,0,0,0,0,0,0,0,0,0,0,0,0,0,0,0,0,0,0,0,0,0,0,0,0,0,0,0,0,0,0,0,0,0,0,0,0,0,0,0,0,0,0,0,0,0,0,{"$f":"DNG54-DNG53","v":0},0,0,0,0,0,0,0,0,0,0,0,0,0,0,0,0,0,0,0,0,0,0,0,0,0,0,0,0,0,0,0,0,0,0,0,0,0,0,0,0,0,0,0,0,0,0,0,0,0,0,0,0,0,0,0,0,0,0,0,0,0,0,0,{"$f":"DPS54-DPS53","v":0},0,0,0,0,0,0,0,0,0,0,0,0,0,0,0,0,0,0,0,0,0,0,0,0,0,0,0,0,0,0,0,0,0,0,0,0,0,0,0,0,0,0,0,0,0,0,0,0,0,0,0,0,0,0,0,0,0,0,0,0,0,0,0,{"$f":"DSE54-DSE53","v":0},0,0,0,0,0,0,0,0,0,0,0,0,0,0,0,0,0,0,0,0,0,0,0,0,0,0,0,0,0,0,0,0,0,0,0,0,0,0,0,0,0,0,0,0,0,0,0,0,0,0,0,0,0,0,0,0,0,0,0,0,0,0,0,{"$f":"DUQ54-DUQ53","v":0},0,0,0,0,0,0,0,0,0,0,0,0,0,0,0,0,0,0,0,0,0,0,0,0,0,0,0,0,0,0,0,0,0,0,0,0,0,0,0,0,0,0,0,0,0,0,0,0,0,0,0,0,0,0,0,0,0,0,0,0,0,0,0,{"$f":"DXC54-DXC53","v":0},0,0,0,0,0,0,0,0,0,0,0,0,0,0,0,0,0,0,0,0,0,0,0,0,0,0,0,0,0,0,0,0,0,0,0,0,0,0,0,0,0,0,0,0,0,0,0,0,0,0,0,0,0,0,0,0,0,0,0,0,0,0,0,{"$f":"DZO54-DZO53","v":0},0,0,0,0,0,0,0,0,0,0,0,0,0,0,0,0,0,0,0,0,0,0,0,0,0,0,0,0,0,0,0,0,0,0,0,0,0,0,0,0,0,0,0,0,0,0,0,0,0,0,0,0,0,0,0,0,0,0,0,0,0,0,0,{"$f":"ECA54-ECA53","v":0},0,0,0,0,0,0,0,0,0,0,0,0,0,0,0,0,0,0,0,0,0,0,0,0,0,0,0,0,0,0,0,0,0,0,0,0,0,0,0,0,0,0,0,0,0,0,0,0,0,0,0,0,0,0,0,0,0,0,0,0,0,0,0,{"$f":"EEM54-EEM53","v":0},0,0,0,0,0,0,0,0,0,0,0,0,0,0,0,0,0,0,0,0,0,0,0,0,0,0,0,0,0,0,0,0,0,0,0,0,0,0,0,0,0,0,0,0,0,0,0,0,0,0,0,0,0,0,0,0,0,0,0,0,0,0,0,{"$f":"EGY54-EGY53","v":0},0,0,0,0,0,0,0,0,0,0,0,0,0,0,0,0,0,0,0,0,0,0,0,0,0,0,0,0,0,0,0,0,0,0,0,0,0,0,0,0,0,0,0,0,0,0,0,0,0,0,0,0,0,0,0,0,0,0,0,0,0,0,0,{"$f":"EJK54-EJK53","v":0},0,0,0,0,0,0,0,0,0,0,0,0,0,0,0,0,0,0,0,0,0,0,0,0,0,0,0,0,0,0,0,0,0,0,0,0,0,0,0,0,0,0,0,0,0,0,0,0,0,0,0,0,0,0,0,0,0,0,0,0,0,0,0,{"$f":"ELW54-ELW53","v":0},0,0,0,0,0,0,0,0,0,0,0,0,0,0,0,0,0,0,0,0,0,0,0,0,0,0,0,0,0,0,0,0,0,0,0,0,0,0,0,0,0,0,0,0,0,0,0,0,0,0,0,0,0,0,0,0,0,0,0,0,0,0,0,{"$f":"EOI54-EOI53","v":0},0,0,0,0,0,0,0,0,0,0,0,0,0,0,0,0,0,0,0,0,0,0,0,0,0,0,0,0,0,0,0,0,0,0,0,0,0,0,0,0,0,0,0,0,0,0,0,0,0,0,0,0,0,0,0,0,0,0,0,0,0,0,0,{"$f":"EQU54-EQU53","v":0},0,0,0,0,0,0,0,0,0,0,0,0,0,0,0,0,0,0,0,0,0,0,0,0,0,0,0,0,0,0,0,0,0,0,0,0,0,0,0,0,0,0,0,0,0,0,0,0,0,0,0,0,0,0,0,0,0,0,0,0,0,0,0,{"$f":"ETG54-ETG53","v":0},0,0,0,0,0,0,0,0,0,0,0,0,0,0,0,0,0,0,0,0,0,0,0,0,0,0,0,0,0,0,0,0,0,0,0,0,0,0,0,0,0,0,0,0,0,0,0,0,0,0,0,0,0,0,0,0,0,0,0,0,0,0,0,{"$f":"EVS54-EVS53","v":0},0,0,0,0,0,0,0,0,0,0,0,0,0,0,0,0,0,0,0,0,0,0,0,0,0,0,0,0,0,0,0,0,0,0,0,0,0,0,0,0,0,0,0,0,0,0,0,0,0,0,0,0,0,0,0,0,0,0,0,0,0,0,0,{"$f":"EYE54-EYE53","v":0},0,0,0,0,0,0,0,0,0,0,0,0,0,0,0,0,0,0,0,0,0,0,0,0,0,0,0,0,0,0,0,0,0,0,0,0,0,0,0,0,0,0,0,0,0,0,0,0,0,0,0,0,0,0,0,0,0,0,0,0,0,0,0,{"$f":"FAQ54-FAQ53","v":0},0,0,0,0,0,0,0,0,0,0,0,0,0,0,0,0,0,0,0,0,0,0,0,0,0,0,0,0,0,0,0,0,0,0,0,0,0,0,0,0,0,0,0,0,0,0,0,0,0,0,0,0,0,0,0,0,0,0,0,0,0,0,0,{"$f":"FDC54-FDC53","v":0},0,0,0,0,0,0,0,0,0,0,0,0,0,0,0,0,0,0,0,0,0,0,0,0,0,0,0,0,0,0,0,0,0,0,0,0,0,0,0,0,0,0,0,0,0,0,0,0,0,0,0,0,0,0,0,0,0,0,0,0,0,0,0,{"$f":"FFO54-FFO53","v":0},0,0,0,0,0,0,0,0,0,0,0,0,0,0,0,0,0,0,0,0,0,0,0,0,0,0,0,0,0,0,0,0,0,0,0,0,0,0,0,0,0,0,0,0,0,0,0,0,0,0,0,0,0,0,0,0,0,0,0,0,0,0,0,{"$f":"FIA54-FIA53","v":0},0,0,0,0,0,0,0,0,0,0,0,0,0,0,0,0,0,0,0,0,0,0,0,0,0,0,0,0,0,0,0,0,0,0,0,0,0,0,0,0,0,0,0,0,0,0,0,0,0,0,0,0,0,0,0,0,0,0,0,0,0,0,0,{"$f":"FKM54-FKM53","v":0},0,0,0,0,0,0,0,0,0,0,0,0,0,0,0,0,0,0,0,0,0,0,0,0,0,0,0,0,0,0,0,0,0,0,0,0,0,0,0,0,0,0,0,0,0,0,0,0,0,0,0,0,0,0,0,0,0,0,0,0,0,0,0,{"$f":"FMY54-FMY53","v":0},0,0,0,0,0,0,0,0,0,0,0,0,0,0,0,0,0,0,0,0,0,0,0,0,0,0,0,0,0,0,0,0,0,0,0,0,0,0,0,0,0,0,0,0,0,0,0,0,0,0,0,0,0,0,0,0,0,0,0,0,0,0,0,{"$f":"FPK54-FPK53","v":0},0,0,0,0,0,0,0,0,0,0,0,0,0,0,0,0,0,0,0,0,0,0,0,0,0,0,0,0,0,0,0,0,0,0,0,0,0,0,0,0,0,0,0,0,0,0,0,0,0,0,0,0,0,0,0,0,0,0,0,0,0,0,0,{"$f":"FRW54-FRW53","v":0},0,0,0,0,0,0,0,0,0,0,0,0,0,0,0,0,0,0,0,0,0,0,0,0,0,0,0,0,0,0,0,0,0,0,0,0,0,0,0,0,0,0,0,0,0,0,0,0,0,0,0,0,0,0,0,0,0,0,0,0,0,0,0,{"$f":"FUI54-FUI53","v":0},0,0,0,0,0,0,0,0,0,0,0,0,0,0,0,0,0,0,0,0,0,0,0,0,0,0,0,0,0,0,0,0,0,0,0,0,0,0,0,0,0,0,0,0,0,0,0,0,0,0,0,0,0,0,0,0,0,0,0,0,0,0,0,{"$f":"FWU54-FWU53","v":0},0,0,0,0,0,0,0,0,0,0,0,0,0,0,0,0,0,0,0,0,0,0,0,0,0,0,0,0,0,0,0,0,0,0,0,0,0,0,0,0,0,0,0,0,0,0,0,0,0,0,0,0,0,0,0,0,0,0,0,0,0,0,0,{"$f":"FZG54-FZG53","v":0},0,0,0,0,0,0,0,0,0,0,0,0,0,0,0,0,0,0,0,0,0,0,0,0,0,0,0,0,0,0,0,0,0,0,0,0,0,0,0,0,0,0,0,0,0,0,0,0,0,0,0,0,0,0,0,0,0,0,0,0,0,0,0,{"$f":"GBS54-GBS53","v":0},0,0,0,0,0,0,0,0,0,0,0,0,0,0,0,0,0,0,0,0,0,0,0,0,0,0,0,0,0,0,0,0,0,0,0,0,0,0,0,0,0,0,0,0,0,0,0,0,0,0,0,0,0,0,0,0,0,0,0,0,0,0,0,{"$f":"GEE54-GEE53","v":0},0,0,0,0,0,0,0,0,0,0,0,0,0,0,0,0,0,0,0,0,0,0,0,0,0,0,0,0,0,0,0,0,0,0,0,0,0,0,0,0,0,0,0,0,0,0,0,0,0,0,0,0,0,0,0,0,0,0,0,0,0,0,0,{"$f":"GGQ54-GGQ53","v":0},0,0,0,0,0,0,0,0,0,0,0,0,0,0,0,0,0,0,0,0,0,0,0,0,0,0,0,0,0,0,0,0,0,0,0,0,0,0,0,0,0,0,0,0,0,0,0,0,0,0,0,0,0,0,0,0,0,0,0,0,0,0,0,{"$f":"GJC54-GJC53","v":0},0,0,0,0,0,0,0,0,0,0,0,0,0,0,0,0,0,0,0,0,0,0,0,0,0,0,0,0,0,0,0,0,0,0,0,0,0,0,0,0,0,0,0,0,0,0,0,0,0,0,0,0,0,0,0,0,0,0,0,0,0,0,0,{"$f":"GLO54-GLO53","v":0},0,0,0,0,0,0,0,0,0,0,0,0,0,0,0,0,0,0,0,0,0,0,0,0,0,0,0,0,0,0,0,0,0,0,0,0,0,0,0,0,0,0,0,0,0,0,0,0,0,0,0,0,0,0,0,0,0,0,0,0,0,0,0,{"$f":"GOA54-GOA53","v":0},0,0,0,0,0,0,0,0,0,0,0,0,0,0,0,0,0,0,0,0,0,0,0,0,0,0,0,0,0,0,0,0,0,0,0,0,0,0,0,0,0,0,0,0,0,0,0,0,0,0,0,0,0,0,0,0,0,0,0,0,0,0,0,{"$f":"GQM54-GQM53","v":0},0,0,0,0,0,0,0,0,0,0,0,0,0,0,0,0,0,0,0,0,0,0,0,0,0,0,0,0,0,0,0,0,0,0,0,0,0,0,0,0,0,0,0,0,0,0,0,0,0,0,0,0,0,0,0,0,0,0,0,0,0,0,0,{"$f":"GSY54-GSY53","v":0},0,0,0,0,0,0,0,0,0,0,0,0,0,0,0,0,0,0,0,0,0,0,0,0,0,0,0,0,0,0,0,0,0,0,0,0,0,0,0,0,0,0,0,0,0,0,0,0,0,0,0,0,0,0,0,0,0,0,0,0,0,0,0,{"$f":"GVK54-GVK53","v":0},0,0,0,0,0,0,0,0,0,0,0,0,0,0,0,0,0,0,0,0,0,0,0,0,0,0,0,0,0,0,0,0,0,0,0,0,0,0,0,0,0,0,0,0,0,0,0,0,0,0,0,0,0,0,0,0,0,0,0,0,0,0,0,{"$f":"GXW54-GXW53","v":0},0,0,0,0,0,0,0,0,0,0,0,0,0,0,0,0,0,0,0,0,0,0,0,0,0,0,0,0,0,0,0,0,0,0,0,0,0,0,0,0,0,0,0,0,0,0,0,0,0,0,0,0,0,0,0,0,0,0,0,0,0,0,0,{"$f":"HAI54-HAI53","v":0},0,0,0,0,0,0,0,0,0,0,0,0,0,0,0,0,0,0,0,0,0,0,0,0,0,0,0,0,0,0,0,0,0,0,0,0,0,0,0,0,0,0,0,0,0,0,0,0,0,0,0,0,0,0,0,0,0,0,0,0,0,0,0,{"$f":"HCU54-HCU53","v":0},0,0,0,0,0,0,0,0,0,0,0,0,0,0,0,0,0,0,0,0,0,0,0,0,0,0,0,0,0,0,0,0,0,0,0,0,0,0,0,0,0,0,0,0,0,0,0,0,0,0,0,0,0,0,0,0,0,0,0,0,0,0,0,{"$f":"HFG54-HFG53","v":0},0,0,0,0,0,0,0,0,0,0,0,0,0,0,0,0,0,0,0,0,0,0,0,0,0,0,0,0,0,0,0,0,0,0,0,0,0,0,0,0,0,0,0,0,0,0,0,0,0,0,0,0,0,0,0,0,0,0,0,0,0,0,0,{"$f":"HHS54-HHS53","v":0},0,0,0,0,0,0,0,0,0,0,0,0,0,0,0,0,0,0,0,0,0,0,0,0,0,0,0,0,0,0,0,0,0,0,0,0,0,0,0,0,0,0,0,0,0,0,0,0,0,0,0,0,0,0,0,0,0,0,0,0,0,0,0,{"$f":"HKE54-HKE53","v":0},0,0,0,0,0,0,0,0,0,0,0,0,0,0,0,0,0,0,0,0,0,0,0,0,0,0,0,0,0,0,0,0,0,0,0,0,0,0,0,0,0,0,0,0,0,0,0,0,0,0,0,0,0,0,0,0,0,0,0,0,0,0,0,{"$f":"HMQ54-HMQ53","v":0},0,0,0,0,0,0,0,0,0,0,0,0,0,0,0,0,0,0,0,0,0,0,0,0,0,0,0,0,0,0,0,0,0,0,0,0,0,0,0,0,0,0,0,0,0,0,0,0,0,0,0,0,0,0,0,0,0,0,0,0,0,0,0,{"$f":"HPC54-HPC53","v":0},0,0,0,0,0,0,0,0,0,0,0,0,0,0,0,0,0,0,0,0,0,0,0,0,0,0,0,0,0,0,0,0,0,0,0,0,0,0,0,0,0,0,0,0,0,0,0,0,0,0,0,0,0,0,0,0,0,0,0,0,0,0,0,{"$f":"HRO54-HRO53","v":0},0,0,0,0,0,0,0,0,0,0,0,0,0,0,0,0,0,0,0,0,0,0,0,0,0,0,0,0,0,0,0,0,0,0,0,0,0,0,0,0,0,0,0,0,0,0,0,0,0,0,0,0,0,0,0,0,0,0,0,0,0,0,0,{"$f":"HUA54-HUA53","v":0},0,0,0,0,0,0,0,0,0,0,0,0,0,0,0,0,0,0,0,0,0,0,0,0,0,0,0,0,0,0,0,0,0,0,0,0,0,0,0,0,0,0,0,0,0,0,0,0,0,0,0,0,0,0,0,0,0,0,0,0,0,0,0,{"$f":"HWM54-HWM53","v":0},0,0,0,0,0,0,0,0,0,0,0,0,0,0,0,0,0,0,0,0,0,0,0,0,0,0,0,0,0,0,0,0,0,0,0,0,0,0,0,0,0,0,0,0,0,0,0,0,0,0,0,0,0,0,0,0,0,0,0,0,0,0,0,{"$f":"HYY54-HYY53","v":0},0,0,0,0,0,0,0,0,0,0,0,0,0,0,0,0,0,0,0,0,0,0,0,0,0,0,0,0,0,0,0,0,0,0,0,0,0,0,0,0,0,0,0,0,0,0,0,0,0,0,0,0,0,0,0,0,0,0,0,0,0,0,0,{"$f":"IBK54-IBK53","v":0},0,0,0,0,0,0,0,0,0,0,0,0,0,0,0,0,0,0,0,0,0,0,0,0,0,0,0,0,0,0,0,0,0,0,0,0,0,0,0,0,0,0,0,0,0,0,0,0,0,0,0,0,0,0,0,0,0,0,0,0,0,0,0,{"$f":"IDW54-IDW53","v":0},0,0,0,0,0,0,0,0,0,0,0,0,0,0,0,0,0,0,0,0,0,0,0,0,0,0,0,0,0,0,0,0,0,0,0,0,0,0,0,0,0,0,0,0,0,0,0,0,0,0,0,0,0,0,0,0,0,0,0,0,0,0,0,{"$f":"IGI54-IGI53","v":0},0,0,0,0,0,0,0,0,0,0,0,0,0,0,0,0,0,0,0,0,0,0,0,0,0,0,0,0,0,0,0,0,0,0,0,0,0,0,0,0,0,0,0,0,0,0,0,0,0,0,0,0,0,0,0,0,0,0,0,0,0,0,0,{"$f":"IIU54-IIU53","v":0},0,0,0,0,0,0,0,0,0,0,0,0,0,0,0,0,0,0,0,0,0,0,0,0,0,0,0,0,0,0,0,0,0,0,0,0,0,0,0,0,0,0,0,0,0,0,0,0,0,0,0,0,0,0,0,0,0,0,0,0,0,0,0,{"$f":"ILG54-ILG53","v":0},0,0,0,0,0,0,0,0,0,0,0,0,0,0,0,0,0,0,0,0,0,0,0,0,0,0,0,0,0,0,0,0,0,0,0,0,0,0,0,0,0,0,0,0,0,0,0,0,0,0,0,0,0,0,0,0,0,0,0,0,0,0,0,{"$f":"INS54-INS53","v":0},0,0,0,0,0,0,0,0,0,0,0,0,0,0,0,0,0,0,0,0,0,0,0,0,0,0,0,0,0,0,0,0,0,0,0,0,0,0,0,0,0,0,0,0,0,0,0,0,0,0,0,0,0,0,0,0,0,0,0,0,0,0,0,{"$f":"IQE54-IQE53","v":0},0,0,0,0,0,0,0,0,0,0,0,0,0,0,0,0,0,0,0,0,0,0,0,0,0,0,0,0,0,0,0,0,0,0,0,0,0,0,0,0,0,0,0,0,0,0,0,0,0,0,0,0,0,0,0,0,0,0,0,0,0,0,0,{"$f":"ISQ54-ISQ53","v":0},0,0,0,0,0,0,0,0,0,0,0,0,0,0,0,0,0,0,0,0,0,0,0,0,0,0,0,0,0,0,0,0,0,0,0,0,0,0,0,0,0,0,0,0,0,0,0,0,0,0,0,0,0,0,0,0,0,0,0,0,0,0,0,{"$f":"IVC54-IVC53","v":0},0,0,0,0,0,0,0,0,0,0,0,0,0,0,0,0,0,0,0,0,0,0,0,0,0,0,0,0,0,0,0,0,0,0,0,0,0,0,0,0,0,0,0,0,0,0,0,0,0,0,0,0,0,0,0,0,0,0,0,0,0,0,0,{"$f":"IXO54-IXO53","v":0},0,0,0,0,0,0,0,0,0,0,0,0,0,0,0,0,0,0,0,0,0,0,0,0,0,0,0,0,0,0,0,0,0,0,0,0,0,0,0,0,0,0,0,0,0,0,0,0,0,0,0,0,0,0,0,0,0,0,0,0,0,0,0,{"$f":"JAA54-JAA53","v":0},0,0,0,0,0,0,0,0,0,0,0,0,0,0,0,0,0,0,0,0,0,0,0,0,0,0,0,0,0,0,0,0,0,0,0,0,0,0,0,0,0,0,0,0,0,0,0,0,0,0,0,0,0,0,0,0,0,0,0,0,0,0,0,{"$f":"JCM54-JCM53","v":0},0,0,0,0,0,0,0,0,0,0,0,0,0,0,0,0,0,0,0,0,0,0,0,0,0,0,0,0,0,0,0,0,0,0,0,0,0,0,0,0,0,0,0,0,0,0,0,0,0,0,0,0,0,0,0,0,0,0,0,0,0,0,0,{"$f":"JEY54-JEY53","v":0},0,0,0,0,0,0,0,0,0,0,0,0,0,0,0,0,0,0,0,0,0,0,0,0,0,0,0,0,0,0,0,0,0,0,0,0,0,0,0,0,0,0,0,0,0,0,0,0,0,0,0,0,0,0,0,0,0,0,0,0,0,0,0,{"$f":"JHK54-JHK53","v":0},0,0,0,0,0,0,0,0,0,0,0,0,0,0,0,0,0,0,0,0,0,0,0,0,0,0,0,0,0,0,0,0,0,0,0,0,0,0,0,0,0,0,0,0,0,0,0,0,0,0,0,0,0,0,0,0,0,0,0,0,0,0,0,{"$f":"JJW54-JJW53","v":0},0,0,0,0,0,0,0,0,0,0,0,0,0,0,0,0,0,0,0,0,0,0,0,0,0,0,0,0,0,0,0,0,0,0,0,0,0,0,0,0,0,0,0,0,0,0,0,0,0,0,0,0,0,0,0,0,0,0,0,0,0,0,0,{"$f":"JMI54-JMI53","v":0},0,0,0,0,0,0,0,0,0,0,0,0,0,0,0,0,0,0,0,0,0,0,0,0,0,0,0,0,0,0,0,0,0,0,0,0,0,0,0,0,0,0,0,0,0,0,0,0,0,0,0,0,0,0,0,0,0,0,0,0,0,0,0,{"$f":"JOU54-JOU53","v":0},0,0,0,0,0,0,0,0,0,0,0,0,0,0,0,0,0,0,0,0,0,0,0,0,0,0,0,0,0,0,0,0,0,0,0,0,0,0,0,0,0,0,0,0,0,0,0,0,0,0,0,0,0,0,0,0,0,0,0,0,0,0,0,{"$f":"JRG54-JRG53","v":0},0,0,0,0,0,0,0,0,0,0,0,0,0,0,0,0,0,0,0,0,0,0,0,0,0,0,0,0,0,0,0,0,0,0,0,0,0,0,0,0,0,0,0,0,0,0,0,0,0,0,0,0,0,0,0,0,0,0,0,0,0,0,0,{"$f":"JTS54-JTS53","v":0},0,0,0,0,0,0,0,0,0,0,0,0,0,0,0,0,0,0,0,0,0,0,0,0,0,0,0,0,0,0,0,0,0,0,0,0,0,0,0,0,0,0,0,0,0,0,0,0,0,0,0,0,0,0,0,0,0,0,0,0,0,0,0,{"$f":"JWE54-JWE53","v":0},0,0,0,0,0,0,0,0,0,0,0,0,0,0,0,0,0,0,0,0,0,0,0,0,0,0,0,0,0,0,0,0,0,0,0,0,0,0,0,0,0,0,0,0,0,0,0,0,0,0,0,0,0,0,0,0,0,0,0,0,0,0,0,{"$f":"JYQ54-JYQ53","v":0},0,0,0,0,0,0,0,0,0,0,0,0,0,0,0,0,0,0,0,0,0,0,0,0,0,0,0,0,0,0,0,0,0,0,0,0,0,0,0,0,0,0,0,0,0,0,0,0,0,0,0,0,0,0,0,0,0,0,0,0,0,0,0,{"$f":"KBC54-KBC53","v":0},0,0,0,0,0,0,0,0,0,0,0,0,0,0,0,0,0,0,0,0,0,0,0,0,0,0,0,0,0,0,0,0,0,0,0,0,0,0,0,0,0,0,0,0,0,0,0,0,0,0,0,0,0,0,0,0,0,0,0,0,0,0,0,{"$f":"KDO54-KDO53","v":0},0,0,0,0,0,0,0,0,0,0,0,0,0,0,0,0,0,0,0,0,0,0,0,0,0,0,0,0,0,0,0,0,0,0,0,0,0,0,0,0,0,0,0,0,0,0,0,0,0,0,0,0,0,0,0,0,0,0,0,0,0,0,0,{"$f":"KGA54-KGA53","v":0},0,0,0,0,0,0,0,0,0,0,0,0,0,0,0,0,0,0,0,0,0,0,0,0,0,0,0,0,0,0,0,0,0,0,0,0,0,0,0,0,0,0,0,0,0,0,0,0,0,0,0,0,0,0,0,0,0,0,0,0,0,0,0,{"$f":"KIM54-KIM53","v":0},0,0,0,0,0,0,0,0,0,0,0,0,0,0,0,0,0,0,0,0,0,0,0,0,0,0,0,0,0,0,0,0,0,0,0,0,0,0,0,0,0,0,0,0,0,0,0,0,0,0,0,0,0,0,0,0,0,0,0,0,0,0,0,{"$f":"KKY54-KKY53","v":0},0,0,0,0,0,0,0,0,0,0,0,0,0,0,0,0,0,0,0,0,0,0,0,0,0,0,0,0,0,0,0,0,0,0,0,0,0,0,0,0,0,0,0,0,0,0,0,0,0,0,0,0,0,0,0,0,0,0,0,0,0,0,0,{"$f":"KNK54-KNK53","v":0},0,0,0,0,0,0,0,0,0,0,0,0,0,0,0,0,0,0,0,0,0,0,0,0,0,0,0,0,0,0,0,0,0,0,0,0,0,0,0,0,0,0,0,0,0,0,0,0,0,0,0,0,0,0,0,0,0,0,0,0,0,0,0,{"$f":"KPW54-KPW53","v":0},0,0,0,0,0,0,0,0,0,0,0,0,0,0,0,0,0,0,0,0,0,0,0,0,0,0,0,0,0,0,0,0,0,0,0,0,0,0,0,0,0,0,0,0,0,0,0,0,0,0,0,0,0,0,0,0,0,0,0,0,0,0,0,{"$f":"KSI54-KSI53","v":0},0,0,0,0,0,0,0,0,0,0,0,0,0,0,0,0,0,0,0,0,0,0,0,0,0,0,0,0,0,0,0,0,0,0,0,0,0,0,0,0,0,0,0,0,0,0,0,0,0,0,0,0,0,0,0,0,0,0,0,0,0,0,0,{"$f":"KUU54-KUU53","v":0},0,0,0,0,0,0,0,0,0,0,0,0,0,0,0,0,0,0,0,0,0,0,0,0,0,0,0,0,0,0,0,0,0,0,0,0,0,0,0,0,0,0,0,0,0,0,0,0,0,0,0,0,0,0,0,0,0,0,0,0,0,0,0,{"$f":"KXG54-KXG53","v":0},0,0,0,0,0,0,0,0,0,0,0,0,0,0,0,0,0,0,0,0,0,0,0,0,0,0,0,0,0,0,0,0,0,0,0,0,0,0,0,0,0,0,0,0,0,0,0,0,0,0,0,0,0,0,0,0,0,0,0,0,0,0,0,{"$f":"KZS54-KZS53","v":0},0,0,0,0,0,0,0,0,0,0,0,0,0,0,0,0,0,0,0,0,0,0,0,0,0,0,0,0,0,0,0,0,0,0,0,0,0,0,0,0,0,0,0,0,0,0,0,0,0,0,0,0,0,0,0,0,0,0,0,0,0,0,0,{"$f":"LCE54-LCE53","v":0},0,0,0,0,0,0,0,0,0,0,0,0,0,0,0,0,0,0,0,0,0,0,0,0,0,0,0,0,0,0,0,0,0,0,0,0,0,0,0,0,0,0,0,0,0,0,0,0,0,0,0,0,0,0,0,0,0,0,0,0,0,0,0,{"$f":"LEQ54-LEQ53","v":0},0,0,0,0,0,0,0,0,0,0,0,0,0,0,0,0,0,0,0,0,0,0,0,0,0,0,0,0,0,0,0,0,0,0,0,0,0,0,0,0,0,0,0,0,0,0,0,0,0,0,0,0,0,0,0,0,0,0,0,0,0,0,0,{"$f":"LHC54-LHC53","v":0},0,0,0,0,0,0,0,0,0,0,0,0,0,0,0,0,0,0,0,0,0,0,0,0,0,0,0,0,0,0,0,0,0,0,0,0,0,0,0,0,0,0,0,0,0,0,0,0,0,0,0,0,0,0,0,0,0,0,0,0,0,0,0,{"$f":"LJO54-LJO53","v":0},0,0,0,0,0,0,0,0,0,0,0,0,0,0,0,0,0,0,0,0,0,0,0,0,0,0,0,0,0,0,0,0,0,0,0,0,0,0,0,0,0,0,0,0,0,0,0,0,0,0,0,0,0,0,0,0,0,0,0,0,0,0,0,{"$f":"LMA54-LMA53","v":0},0,0,0,0,0,0,0,0,0,0,0,0,0,0,0,0,0,0,0,0,0,0,0,0,0,0,0,0,0,0,0,0,0,0,0,0,0,0,0,0,0,0,0,0,0,0,0,0,0,0,0,0,0,0,0,0,0,0,0,0,0,0,0,{"$f":"LOM54-LOM53","v":0},0,0,0,0,0,0,0,0,0,0,0,0,0,0,0,0,0,0,0,0,0,0,0,0,0,0,0,0,0,0,0,0,0,0,0,0,0,0,0,0,0,0,0,0,0,0,0,0,0,0,0,0,0,0,0,0,0,0,0,0,0,0,0,{"$f":"LQY54-LQY53","v":0},0,0,0,0,0,0,0,0,0,0,0,0,0,0,0,0,0,0,0,0,0,0,0,0,0,0,0,0,0,0,0,0,0,0,0,0,0,0,0,0,0,0,0,0,0,0,0,0,0,0,0,0,0,0,0,0,0,0,0,0,0,0,0,{"$f":"LTK54-LTK53","v":0},0,0,0,0,0,0,0,0,0,0,0,0,0,0,0,0,0,0,0,0,0,0,0,0,0,0,0,0,0,0,0,0,0,0,0,0,0,0,0,0,0,0,0,0,0,0,0,0,0,0,0,0,0,0,0,0,0,0,0,0,0,0,0,{"$f":"LVW54-LVW53","v":0},0,0,0,0,0,0,0,0,0,0,0,0,0,0,0,0,0,0,0,0,0,0,0,0,0,0,0,0,0,0,0,0,0,0,0,0,0,0,0,0,0,0,0,0,0,0,0,0,0,0,0,0,0,0,0,0,0,0,0,0,0,0,0,{"$f":"LYI54-LYI53","v":0},0,0,0,0,0,0,0,0,0,0,0,0,0,0,0,0,0,0,0,0,0,0,0,0,0,0,0,0,0,0,0,0,0,0,0,0,0,0,0,0,0,0,0,0,0,0,0,0,0,0,0,0,0,0,0,0,0,0,0,0,0,0,0,{"$f":"MAU54-MAU53","v":0},0,0,0,0,0,0,0,0,0,0,0,0,0,0,0,0,0,0,0,0,0,0,0,0,0,0,0,0,0,0,0,0,0,0,0,0,0,0,0,0,0,0,0,0,0,0,0,0,0,0,0,0,0,0,0,0,0,0,0,0,0,0,0,{"$f":"MDG54-MDG53","v":0},0,0,0,0,0,0,0,0,0,0,0,0,0,0,0,0,0,0,0,0,0,0,0,0,0,0,0,0,0,0,0,0,0,0,0,0,0,0,0,0,0,0,0,0,0,0,0,0,0,0,0,0,0,0,0,0,0,0,0,0,0,0,0,{"$f":"MFS54-MFS53","v":0},0,0,0,0,0,0,0,0,0,0,0,0,0,0,0,0,0,0,0,0,0,0,0,0,0,0,0,0,0,0,0,0,0,0,0,0,0,0,0,0,0,0,0,0,0,0,0,0,0,0,0,0,0,0,0,0,0,0,0,0,0,0,0,{"$f":"MIE54-MIE53","v":0},0,0,0,0,0,0,0,0,0,0,0,0,0,0,0,0,0,0,0,0,0,0,0,0,0,0,0,0,0,0,0,0,0,0,0,0,0,0,0,0,0,0,0,0,0,0,0,0,0,0,0,0,0,0,0,0,0,0,0,0,0,0,0,{"$f":"MKQ54-MKQ53","v":0},0,0,0,0,0,0,0,0,0,0,0,0,0,0,0,0,0,0,0,0,0,0,0,0,0,0,0,0,0,0,0,0,0,0,0,0,0,0,0,0,0,0,0,0,0,0,0,0,0,0,0,0,0,0,0,0,0,0,0,0,0,0,0,{"$f":"MNC54-MNC53","v":0},0,0,0,0,0,0,0,0,0,0,0,0,0,0,0,0,0,0,0,0,0,0,0,0,0,0,0,0,0,0,0,0,0,0,0,0,0,0,0,0,0,0,0,0,0,0,0,0,0,0,0,0,0,0,0,0,0,0,0,0,0,0,0,{"$f":"MPO54-MPO53","v":0},0,0,0,0,0,0,0,0,0,0,0,0,0,0,0,0,0,0,0,0,0,0,0,0,0,0,0,0,0,0,0,0,0,0,0,0,0,0,0,0,0,0,0,0,0,0,0,0,0,0,0,0,0,0,0,0,0,0,0,0,0,0,0,{"$f":"MSA54-MSA53","v":0},0,0,0,0,0,0,0,0,0,0,0,0,0,0,0,0,0,0,0,0,0,0,0,0,0,0,0,0,0,0,0,0,0,0,0,0,0,0,0,0,0,0,0,0,0,0,0,0,0,0,0,0,0,0,0,0,0,0,0,0,0,0,0,{"$f":"MUM54-MUM53","v":0},0,0,0,0,0,0,0,0,0,0,0,0,0,0,0,0,0,0,0,0,0,0,0,0,0,0,0,0,0,0,0,0,0,0,0,0,0,0,0,0,0,0,0,0,0,0,0,0,0,0,0,0,0,0,0,0,0,0,0,0,0,0,0,{"$f":"MWY54-MWY53","v":0},0,0,0,0,0,0,0,0,0,0,0,0,0,0,0,0,0,0,0,0,0,0,0,0,0,0,0,0,0,0,0,0,0,0,0,0,0,0,0,0,0,0,0,0,0,0,0,0,0,0,0,0,0,0,0,0,0,0,0,0,0,0,0,{"$f":"MZK54-MZK53","v":0},0,0,0,0,0,0,0,0,0,0,0,0,0,0,0,0,0,0,0,0,0,0,0,0,0,0,0,0,0,0,0,0,0,0,0,0,0,0,0,0,0,0,0,0,0,0,0,0,0,0,0,0,0,0,0,0,0,0,0,0,0,0,0,{"$f":"NBW54-NBW53","v":0},0,0,0,0,0,0,0,0,0,0,0,0,0,0,0,0,0,0,0,0,0,0,0,0,0,0,0,0,0,0,0,0,0,0,0,0,0,0,0,0,0,0,0,0,0,0,0,0,0,0,0,0,0,0,0,0,0,0,0,0,0,0,0,{"$f":"NEI54-NEI53","v":0},0,0,0,0,0,0,0,0,0,0,0,0,0,0,0,0,0,0,0,0,0,0,0,0,0,0,0,0,0,0,0,0,0,0,0,0,0,0,0,0,0,0,0,0,0,0,0,0,0,0,0,0,0,0,0,0,0,0,0,0,0,0,0,{"$f":"NGU54-NGU53","v":0},0,0,0,0,0,0,0,0,0,0,0,0,0,0,0,0,0,0,0,0,0,0,0,0,0,0,0,0,0,0,0,0,0,0,0,0,0,0,0,0,0,0,0,0,0,0,0,0,0,0,0,0,0,0,0,0,0,0,0,0,0,0,0,{"$f":"NJG54-NJG53","v":0},0,0,0,0,0,0,0,0,0,0,0,0,0,0,0,0,0,0,0,0,0,0,0,0,0,0,0,0,0,0,0,0,0,0,0,0,0,0,0,0,0,0,0,0,0,0,0,0,0,0,0,0,0,0,0,0,0,0,0,0,0,0,0,{"$f":"NLS54-NLS53","v":0},0,0,0,0,0,0,0,0,0,0,0,0,0,0,0,0,0,0,0,0,0,0,0,0,0,0,0,0,0,0,0,0,0,0,0,0,0,0,0,0,0,0,0,0,0,0,0,0,0,0,0,0,0,0,0,0,0,0,0,0,0,0,0,{"$f":"NOE54-NOE53","v":0},0,0,0,0,0,0,0,0,0,0,0,0,0,0,0,0,0,0,0,0,0,0,0,0,0,0,0,0,0,0,0,0,0,0,0,0,0,0,0,0,0,0,0,0,0,0,0,0,0,0,0,0,0,0,0,0,0,0,0,0,0,0,0,{"$f":"NQQ54-NQQ53","v":0},0,0,0,0,0,0,0,0,0,0,0,0,0,0,0,0,0,0,0,0,0,0,0,0,0,0,0,0,0,0,0,0,0,0,0,0,0,0,0,0,0,0,0,0,0,0,0,0,0,0,0,0,0,0,0,0,0,0,0,0,0,0,0,{"$f":"NTC54-NTC53","v":0},0,0,0,0,0,0,0,0,0,0,0,0,0,0,0,0,0,0,0,0,0,0,0,0,0,0,0,0,0,0,0,0,0,0,0,0,0,0,0,0,0,0,0,0,0,0,0,0,0,0,0,0,0,0,0,0,0,0,0,0,0,0,0,{"$f":"NVO54-NVO53","v":0},0,0,0,0,0,0,0,0,0,0,0,0,0,0,0,0,0,0,0,0,0,0,0,0,0,0,0,0,0,0,0,0,0,0,0,0,0,0,0,0,0,0,0,0,0,0,0,0,0,0,0,0,0,0,0,0,0,0,0,0,0,0,0,{"$f":"NYA54-NYA53","v":0},0,0,0,0,0,0,0,0,0,0,0,0,0,0,0,0,0,0,0,0,0,0,0,0,0,0,0,0,0,0,0,0,0,0,0,0,0,0,0,0,0,0,0,0,0,0,0,0,0,0,0,0,0,0,0,0,0,0,0,0,0,0,0,{"$f":"OAM54-OAM53","v":0},0,0,0,0,0,0,0,0,0,0,0,0,0,0,0,0,0,0,0,0,0,0,0,0,0,0,0,0,0,0,0,0,0,0,0,0,0,0,0,0,0,0,0,0,0,0,0,0,0,0,0,0,0,0,0,0,0,0,0,0,0,0,0,{"$f":"OCY54-OCY53","v":0},0,0,0,0,0,0,0,0,0,0,0,0,0,0,0,0,0,0,0,0,0,0,0,0,0,0,0,0,0,0,0,0,0,0,0,0,0,0,0,0,0,0,0,0,0,0,0,0,0,0,0,0,0,0,0,0,0,0,0,0,0,0,0,{"$f":"OFK54-OFK53","v":0},0,0,0,0,0,0,0,0,0,0,0,0,0,0,0,0,0,0,0,0,0,0,0,0,0,0,0,0,0,0,0,0,0,0,0,0,0,0,0,0,0,0,0,0,0,0,0,0,0,0,0,0,0,0,0,0,0,0,0,0,0,0,0,{"$f":"OHW54-OHW53","v":0},0,0,0,0,0,0,0,0,0,0,0,0,0,0,0,0,0,0,0,0,0,0,0,0,0,0,0,0,0,0,0,0,0,0,0,0,0,0,0,0,0,0,0,0,0,0,0,0,0,0,0,0,0,0,0,0,0,0,0,0,0,0,0,{"$f":"OKI54-OKI53","v":0},0,0,0,0,0,0,0,0,0,0,0,0,0,0,0,0,0,0,0,0,0,0,0,0,0,0,0,0,0,0,0,0,0,0,0,0,0,0,0,0,0,0,0,0,0,0,0,0,0,0,0,0,0,0,0,0,0,0,0,0,0,0,0,{"$f":"OMU54-OMU53","v":0},0,0,0,0,0,0,0,0,0,0,0,0,0,0,0,0,0,0,0,0,0,0,0,0,0,0,0,0,0,0,0,0,0,0,0,0,0,0,0,0,0,0,0,0,0,0,0,0,0,0,0,0,0,0,0,0,0,0,0,0,0,0,0,{"$f":"OPG54-OPG53","v":0},0,0,0,0,0,0,0,0,0,0,0,0,0,0,0,0,0,0,0,0,0,0,0,0,0,0,0,0,0,0,0,0,0,0,0,0,0,0,0,0,0,0,0,0,0,0,0,0,0,0,0,0,0,0,0,0,0,0,0,0,0,0,0,{"$f":"ORS54-ORS53","v":0},0,0,0,0,0,0,0,0,0,0,0,0,0,0,0,0,0,0,0,0,0,0,0,0,0,0,0,0,0,0,0,0,0,0,0,0,0,0,0,0,0,0,0,0,0,0,0,0,0,0,0,0,0,0,0,0,0,0,0,0,0,0,0,{"$f":"OUE54-OUE53","v":0},0,0,0,0,0,0,0,0,0,0,0,0,0,0,0,0,0,0,0,0,0,0,0,0,0,0,0,0,0,0,0,0,0,0,0,0,0,0,0,0,0,0,0,0,0,0,0,0,0,0,0,0,0,0,0,0,0,0,0,0,0,0,0,{"$f":"OWQ54-OWQ53","v":0},0,0,0,0,0,0,0,0,0,0,0,0,0,0,0,0,0,0,0,0,0,0,0,0,0,0,0,0,0,0,0,0,0,0,0,0,0,0,0,0,0,0,0,0,0,0,0,0,0,0,0,0,0,0,0,0,0,0,0,0,0,0,0,{"$f":"OZC54-OZC53","v":0},0,0,0,0,0,0,0,0,0,0,0,0,0,0,0,0,0,0,0,0,0,0,0,0,0,0,0,0,0,0,0,0,0,0,0,0,0,0,0,0,0,0,0,0,0,0,0,0,0,0,0,0,0,0,0,0,0,0,0,0,0,0,0,{"$f":"PBO54-PBO53","v":0},0,0,0,0,0,0,0,0,0,0,0,0,0,0,0,0,0,0,0,0,0,0,0,0,0,0,0,0,0,0,0,0,0,0,0,0,0,0,0,0,0,0,0,0,0,0,0,0,0,0,0,0,0,0,0,0,0,0,0,0,0,0,0,{"$f":"PEA54-PEA53","v":0},0,0,0,0,0,0,0,0,0,0,0,0,0,0,0,0,0,0,0,0,0,0,0,0,0,0,0,0,0,0,0,0,0,0,0,0,0,0,0,0,0,0,0,0,0,0,0,0,0,0,0,0,0,0,0,0,0,0,0,0,0,0,0,{"$f":"PGM54-PGM53","v":0},0,0,0,0,0,0,0,0,0,0,0,0,0,0,0,0,0,0,0,0,0,0,0,0,0,0,0,0,0,0,0,0,0,0,0,0,0,0,0,0,0,0,0,0,0,0,0,0,0,0,0,0,0,0,0,0,0,0,0,0,0,0,0,{"$f":"PIY54-PIY53","v":0},0,0,0,0,0,0,0,0,0,0,0,0,0,0,0,0,0,0,0,0,0,0,0,0,0,0,0,0,0,0,0,0,0,0,0,0,0,0,0,0,0,0,0,0,0,0,0,0,0,0,0,0,0,0,0,0,0,0,0,0,0,0,0,{"$f":"PLK54-PLK53","v":0},0,0,0,0,0,0,0,0,0,0,0,0,0,0,0,0,0,0,0,0,0,0,0,0,0,0,0,0,0,0,0,0,0,0,0,0,0,0,0,0,0,0,0,0,0,0,0,0,0,0,0,0,0,0,0,0,0,0,0,0,0,0,0,{"$f":"PNW54-PNW53","v":0},0,0,0,0,0,0,0,0,0,0,0,0,0,0,0,0,0,0,0,0,0,0,0,0,0,0,0,0,0,0,0,0,0,0,0,0,0,0,0,0,0,0,0,0,0,0,0,0,0,0,0,0,0,0,0,0,0,0,0,0,0,0,0,{"$f":"PQI54-PQI53","v":0},0,0,0,0,0,0,0,0,0,0,0,0,0,0,0,0,0,0,0,0,0,0,0,0,0,0,0,0,0,0,0,0,0,0,0,0,0,0,0,0,0,0,0,0,0,0,0,0,0,0,0,0,0,0,0,0,0,0,0,0,0,0,0,{"$f":"PSU54-PSU53","v":0},0,0,0,0,0,0,0,0,0,0,0,0,0,0,0,0,0,0,0,0,0,0,0,0,0,0,0,0,0,0,0,0,0,0,0,0,0,0,0,0,0,0,0,0,0,0,0,0,0,0,0,0,0,0,0,0,0,0,0,0,0,0,0,{"$f":"PVG54-PVG53","v":0},0,0,0,0,0,0,0,0,0,0,0,0,0,0,0,0,0,0,0,0,0,0,0,0,0,0,0,0,0,0,0,0,0,0,0,0,0,0,0,0,0,0,0,0,0,0,0,0,0,0,0,0,0,0,0,0,0,0,0,0,0,0,0,{"$f":"PXS54-PXS53","v":0},0,0,0,0,0,0,0,0,0,0,0,0,0,0,0,0,0,0,0,0,0,0,0,0,0,0,0,0,0,0,0,0,0,0,0,0,0,0,0,0,0,0,0,0,0,0,0,0,0,0,0,0,0,0,0,0,0,0,0,0,0,0,0,{"$f":"QAE54-QAE53","v":0},0,0,0,0,0,0,0,0,0,0,0,0,0,0,0,0,0,0,0,0,0,0,0,0,0,0,0,0,0,0,0,0,0,0,0,0,0,0,0,0,0,0,0,0,0,0,0,0,0,0,0,0,0,0,0,0,0,0,0,0,0,0,0,{"$f":"QCQ54-QCQ53","v":0},0,0,0,0,0,0,0,0,0,0,0,0,0,0,0,0,0,0,0,0,0,0,0,0,0,0,0,0,0,0,0,0,0,0,0,0,0,0,0,0,0,0,0,0,0,0,0,0,0,0,0,0,0,0,0,0,0,0,0,0,0,0,0,{"$f":"QFC54-QFC53","v":0},0,0,0,0,0,0,0,0,0,0,0,0,0,0,0,0,0,0,0,0,0,0,0,0,0,0,0,0,0,0,0,0,0,0,0,0,0,0,0,0,0,0,0,0,0,0,0,0,0,0,0,0,0,0,0,0,0,0,0,0,0,0,0,{"$f":"QHO54-QHO53","v":0},0,0,0,0,0,0,0,0,0,0,0,0,0,0,0,0,0,0,0,0,0,0,0,0,0,0,0,0,0,0,0,0,0,0,0,0,0,0,0,0,0,0,0,0,0,0,0,0,0,0,0,0,0,0,0,0,0,0,0,0,0,0,0,{"$f":"QKA54-QKA53","v":0},0,0,0,0,0,0,0,0,0,0,0,0,0,0,0,0,0,0,0,0,0,0,0,0,0,0,0,0,0,0,0,0,0,0,0,0,0,0,0,0,0,0,0,0,0,0,0,0,0,0,0,0,0,0,0,0,0,0,0,0,0,0,0,{"$f":"QMM54-QMM53","v":0},0,0,0,0,0,0,0,0,0,0,0,0,0,0,0,0,0,0,0,0,0,0,0,0,0,0,0,0,0,0,0,0,0,0,0,0,0,0,0,0,0,0,0,0,0,0,0,0,0,0,0,0,0,0,0,0,0,0,0,0,0,0,0,{"$f":"QOY54-QOY53","v":0},0,0,0,0,0,0,0,0,0,0,0,0,0,0,0,0,0,0,0,0,0,0,0,0,0,0,0,0,0,0,0,0,0,0,0,0,0,0,0,0,0,0,0,0,0,0,0,0,0,0,0,0,0,0,0,0,0,0,0,0,0,0,0,{"$f":"QRK54-QRK53","v":0},0,0,0,0,0,0,0,0,0,0,0,0,0,0,0,0,0,0,0,0,0,0,0,0,0,0,0,0,0,0,0,0,0,0,0,0,0,0,0,0,0,0,0,0,0,0,0,0,0,0,0,0,0,0,0,0,0,0,0,0,0,0,0,{"$f":"QTW54-QTW53","v":0},0,0,0,0,0,0,0,0,0,0,0,0,0,0,0,0,0,0,0,0,0,0,0,0,0,0,0,0,0,0,0,0,0,0,0,0,0,0,0,0,0,0,0,0,0,0,0,0,0,0,0,0,0,0,0,0,0,0,0,0,0,0,0,{"$f":"QWI54-QWI53","v":0},0,0,0,0,0,0,0,0,0,0,0,0,0,0,0,0,0,0,0,0,0,0,0,0,0,0,0,0,0,0,0,0,0,0,0,0,0,0,0,0,0,0,0,0,0,0,0,0,0,0,0,0,0,0,0,0,0,0,0,0,0,0,0,{"$f":"QYU54-QYU53","v":0},0,0,0,0,0,0,0,0,0,0,0,0,0,0,0,0,0,0,0,0,0,0,0,0,0,0,0,0,0,0,0,0,0,0,0,0,0,0,0,0,0,0,0,0,0,0,0,0,0,0,0,0,0,0,0,0,0,0,0,0,0,0,0,{"$f":"RBG54-RBG53","v":0},0,0,0,0,0,0,0,0,0,0,0,0,0,0,0,0,0,0,0,0,0,0,0,0,0,0,0,0,0,0,0,0,0,0,0,0,0,0,0,0,0,0,0,0,0,0,0,0,0,0,0,0,0,0,0,0,0,0,0,0,0,0,0,{"$f":"RDS54-RDS53","v":0},0,0,0,0,0,0,0,0,0,0,0,0,0,0,0,0,0,0,0,0,0,0,0,0,0,0,0,0,0,0,0,0,0,0,0,0,0,0,0,0,0,0,0,0,0,0,0,0,0,0,0,0,0,0,0,0,0,0,0,0,0,0,0,{"$f":"RGE54-RGE53","v":0},0,0,0,0,0,0,0,0,0,0,0,0,0,0,0,0,0,0,0,0,0,0,0,0,0,0,0,0,0,0,0,0,0,0,0,0,0,0,0,0,0,0,0,0,0,0,0,0,0,0,0,0,0,0,0,0,0,0,0,0,0,0,0,{"$f":"RIQ54-RIQ53","v":0},0,0,0,0,0,0,0,0,0,0,0,0,0,0,0,0,0,0,0,0,0,0,0,0,0,0,0,0,0,0,0,0,0,0,0,0,0,0,0,0,0,0,0,0,0,0,0,0,0,0,0,0,0,0,0,0,0,0,0,0,0,0,0,{"$f":"RLC54-RLC53","v":0},0,0,0,0,0,0,0,0,0,0,0,0,0,0,0,0,0,0,0,0,0,0,0,0,0,0,0,0,0,0,0,0,0,0,0,0,0,0,0,0,0,0,0,0,0,0,0,0,0,0,0,0,0,0,0,0,0,0,0,0,0,0,0,{"$f":"RNO54-RNO53","v":0},0,0,0,0,0,0,0,0,0,0,0,0,0,0,0,0,0,0,0,0,0,0,0,0,0,0,0,0,0,0,0,0,0,0,0,0,0,0,0,0,0,0,0,0,0,0,0,0,0,0,0,0,0,0,0,0,0,0,0,0,0,0,0,{"$f":"RQA54-RQA53","v":0},0,0,0,0,0,0,0,0,0,0,0,0,0,0,0,0,0,0,0,0,0,0,0,0,0,0,0,0,0,0,0,0,0,0,0,0,0,0,0,0,0,0,0,0,0,0,0,0,0,0,0,0,0,0,0,0,0,0,0,0,0,0,0,{"$f":"RSM54-RSM53","v":0},0,0,0,0,0,0,0,0,0,0,0,0,0,0,0,0,0,0,0,0,0,0,0,0,0,0,0,0,0,0,0,0,0,0,0,0,0,0,0,0,0,0,0,0,0,0,0,0,0,0,0,0,0,0,0,0,0,0,0,0,0,0,0,{"$f":"RUY54-RUY53","v":0},0,0,0,0,0,0,0,0,0,0,0,0,0,0,0,0,0,0,0,0,0,0,0,0,0,0,0,0,0,0,0,0,0,0,0,0,0,0,0,0,0,0,0,0,0,0,0,0,0,0,0,0,0,0,0,0,0,0,0,0,0,0,0,{"$f":"RXK54-RXK53","v":0},0,0,0,0,0,0,0,0,0,0,0,0,0,0,0,0,0,0,0,0,0,0,0,0,0,0,0,0,0,0,0,0,0,0,0,0,0,0,0,0,0,0,0,0,0,0,0,0,0,0,0,0,0,0,0,0,0,0,0,0,0,0,0,{"$f":"RZW54-RZW53","v":0},0,0,0,0,0,0,0,0,0,0,0,0,0,0,0,0,0,0,0,0,0,0,0,0,0,0,0,0,0,0,0,0,0,0,0,0,0,0,0,0,0,0,0,0,0,0,0,0,0,0,0,0,0,0,0,0,0,0,0,0,0,0,0,{"$f":"SCI54-SCI53","v":0},0,0,0,0,0,0,0,0,0,0,0,0,0,0,0,0,0,0,0,0,0,0,0,0,0,0,0,0,0,0,0,0,0,0,0,0,0,0,0,0,0,0,0,0,0,0,0,0,0,0,0,0,0,0,0,0,0,0,0,0,0,0,0,{"$f":"SEU54-SEU53","v":0},0,0,0,0,0,0,0,0,0,0,0,0,0,0,0,0,0,0,0,0,0,0,0,0,0,0,0,0,0,0,0,0,0,0,0,0,0,0,0,0,0,0,0,0,0,0,0,0,0,0,0,0,0,0,0,0,0,0,0,0,0,0,0,{"$f":"SHG54-SHG53","v":0},0,0,0,0,0,0,0,0,0,0,0,0,0,0,0,0,0,0,0,0,0,0,0,0,0,0,0,0,0,0,0,0,0,0,0,0,0,0,0,0,0,0,0,0,0,0,0,0,0,0,0,0,0,0,0,0,0,0,0,0,0,0,0,{"$f":"SJS54-SJS53","v":0},0,0,0,0,0,0,0,0,0,0,0,0,0,0,0,0,0,0,0,0,0,0,0,0,0,0,0,0,0,0,0,0,0,0,0,0,0,0,0,0,0,0,0,0,0,0,0,0,0,0,0,0,0,0,0,0,0,0,0,0,0,0,0,{"$f":"SME54-SME53","v":0},0,0,0,0,0,0,0,0,0,0,0,0,0,0,0,0,0,0,0,0,0,0,0,0,0,0,0,0,0,0,0,0,0,0,0,0,0,0,0,0,0,0,0,0,0,0,0,0,0,0,0,0,0,0,0,0,0,0,0,0,0,0,0,{"$f":"SOQ54-SOQ53","v":0},0,0,0,0,0,0,0,0,0,0,0,0,0,0,0,0,0,0,0,0,0,0,0,0,0,0,0,0,0,0,0,0,0,0,0,0,0,0,0,0,0,0,0,0,0,0,0,0,0,0,0,0,0,0,0,0,0,0,0,0,0,0,0,{"$f":"SRC54-SRC53","v":0},0,0,0,0,0,0,0,0,0,0,0,0,0,0,0,0,0,0,0,0,0,0,0,0,0,0,0,0,0,0,0,0,0,0,0,0,0,0,0,0,0,0,0,0,0,0,0,0,0,0,0,0,0,0,0,0,0,0,0,0,0,0,0,{"$f":"STO54-STO53","v":0},0,0,0,0,0,0,0,0,0,0,0,0,0,0,0,0,0,0,0,0,0,0,0,0,0,0,0,0,0,0,0,0,0,0,0,0,0,0,0,0,0,0,0,0,0,0,0,0,0,0,0,0,0,0,0,0,0,0,0,0,0,0,0,{"$f":"SWA54-SWA53","v":0},0,0,0,0,0,0,0,0,0,0,0,0,0,0,0,0,0,0,0,0,0,0,0,0,0,0,0,0,0,0,0,0,0,0,0,0,0,0,0,0,0,0,0,0,0,0,0,0,0,0,0,0,0,0,0,0,0,0,0,0,0,0,0,{"$f":"SYM54-SYM53","v":0},0,0,0,0,0,0,0,0,0,0,0,0,0,0,0,0,0,0,0,0,0,0,0,0,0,0,0,0,0,0,0,0,0,0,0,0,0,0,0,0,0,0,0,0,0,0,0,0,0,0,0,0,0,0,0,0,0,0,0,0,0,0,0,{"$f":"TAY54-TAY53","v":0},0,0,0,0,0,0,0,0,0,0,0,0,0,0,0,0,0,0,0,0,0,0,0,0,0,0,0,0,0,0,0,0,0,0,0,0,0,0,0,0,0,0,0,0,0,0,0,0,0,0,0,0,0,0,0,0,0,0,0,0,0,0,0,{"$f":"TDK54-TDK53","v":0},0,0,0,0,0,0,0,0,0,0,0,0,0,0,0,0,0,0,0,0,0,0,0,0,0,0,0,0,0,0,0,0,0,0,0,0,0,0,0,0,0,0,0,0,0,0,0,0,0,0,0,0,0,0,0,0,0,0,0,0,0,0,0,{"$f":"TFW54-TFW53","v":0},0,0,0,0,0,0,0,0,0,0,0,0,0,0,0,0,0,0,0,0,0,0,0,0,0,0,0,0,0,0,0,0,0,0,0,0,0,0,0,0,0,0,0,0,0,0,0,0,0,0,0,0,0,0,0,0,0,0,0,0,0,0,0,{"$f":"TII54-TII53","v":0},0,0,0,0,0,0,0,0,0,0,0,0,0,0,0,0,0,0,0,0,0,0,0,0,0,0,0,0,0,0,0,0,0,0,0,0,0,0,0,0,0,0,0,0,0,0,0,0,0,0,0,0,0,0,0,0,0,0,0,0,0,0,0,{"$f":"TKU54-TKU53","v":0},0,0,0,0,0,0,0,0,0,0,0,0,0,0,0,0,0,0,0,0,0,0,0,0,0,0,0,0,0,0,0,0,0,0,0,0,0,0,0,0,0,0,0,0,0,0,0,0,0,0,0,0,0,0,0,0,0,0,0,0,0,0,0,{"$f":"TNG54-TNG53","v":0},0,0,0,0,0,0,0,0,0,0,0,0,0,0,0,0,0,0,0,0,0,0,0,0,0,0,0,0,0,0,0,0,0,0,0,0,0,0,0,0,0,0,0,0,0,0,0,0,0,0,0,0,0,0,0,0,0,0,0,0,0,0,0,{"$f":"TPS54-TPS53","v":0},0,0,0,0,0,0,0,0,0,0,0,0,0,0,0,0,0,0,0,0,0,0,0,0,0,0,0,0,0,0,0,0,0,0,0,0,0,0,0,0,0,0,0,0,0,0,0,0,0,0,0,0,0,0,0,0,0,0,0,0,0,0,0,{"$f":"TSE54-TSE53","v":0},0,0,0,0,0,0,0,0,0,0,0,0,0,0,0,0,0,0,0,0,0,0,0,0,0,0,0,0,0,0,0,0,0,0,0,0,0,0,0,0,0,0,0,0,0,0,0,0,0,0,0,0,0,0,0,0,0,0,0,0,0,0,0,{"$f":"TUQ54-TUQ53","v":0},0,0,0,0,0,0,0,0,0,0,0,0,0,0,0,0,0,0,0,0,0,0,0,0,0,0,0,0,0,0,0,0,0,0,0,0,0,0,0,0,0,0,0,0,0,0,0,0,0,0,0,0,0,0,0,0,0,0,0,0,0,0,0,{"$f":"TXC54-TXC53","v":0},0,0,0,0,0,0,0,0,0,0,0,0,0,0,0,0,0,0,0,0,0,0,0,0,0,0,0,0,0,0,0,0,0,0,0,0,0,0,0,0,0,0,0,0,0,0,0,0,0,0,0,0,0,0,0,0,0,0,0,0,0,0,0,{"$f":"TZO54-TZO53","v":0},0,0,0,0,0,0,0,0,0,0,0,0,0,0,0,0,0,0,0,0,0,0,0,0,0,0,0,0,0,0,0,0,0,0,0,0,0,0,0,0,0,0,0,0,0,0,0,0,0,0,0,0,0,0,0,0,0,0,0,0,0,0,0,{"$f":"UCA54-UCA53","v":0},0,0,0,0,0,0,0,0,0,0,0,0,0,0,0,0,0,0,0,0,0,0,0,0,0,0,0,0,0,0,0,0,0,0,0,0,0,0,0,0,0,0,0,0,0,0,0,0,0,0,0,0,0,0,0,0,0,0,0,0,0,0,0,{"$f":"UEM54-UEM53","v":0},0,0,0,0,0,0,0,0,0,0,0,0,0,0,0,0,0,0,0,0,0,0,0,0,0,0,0,0,0,0,0,0,0,0,0,0,0,0,0,0,0,0,0,0,0,0,0,0,0,0,0,0,0,0,0,0,0,0,0,0,0,0,0,{"$f":"UGY54-UGY53","v":0},0,0,0,0,0,0,0,0,0,0,0,0,0,0,0,0,0,0,0,0,0,0,0,0,0,0,0,0,0,0,0,0,0,0,0,0,0,0,0,0,0,0,0,0,0,0,0,0,0,0,0,0,0,0,0,0,0,0,0,0,0,0,0,{"$f":"UJK54-UJK53","v":0},0,0,0,0,0,0,0,0,0,0,0,0,0,0,0,0,0,0,0,0,0,0,0,0,0,0,0,0,0,0,0,0,0,0,0,0,0,0,0,0,0,0,0,0,0,0,0,0,0,0,0,0,0,0,0,0,0,0,0,0,0,0,0,{"$f":"ULW54-ULW53","v":0},0,0,0,0,0,0,0,0,0,0,0,0,0,0,0,0,0,0,0,0,0,0,0,0,0,0,0,0,0,0,0,0,0,0,0,0,0,0,0,0,0,0,0,0,0,0,0,0,0,0,0,0,0,0,0,0,0,0,0,0,0,0,0,{"$f":"UOI54-UOI53","v":0},0,0,0,0,0,0,0,0,0,0,0,0,0,0,0,0,0,0,0,0,0,0,0,0,0,0,0,0,0,0,0,0,0,0,0,0,0,0,0,0,0,0,0,0,0,0,0,0,0,0,0,0,0,0,0,0,0,0,0,0,0,0,0,{"$f":"UQU54-UQU53","v":0},0,0,0,0,0,0,0,0,0,0,0,0,0,0,0,0,0,0,0,0,0,0,0,0,0,0,0,0,0,0,0,0,0,0,0,0,0,0,0,0,0,0,0,0,0,0,0,0,0,0,0,0,0,0,0,0,0,0,0,0,0,0,0,{"$f":"UTG54-UTG53","v":0},0,0,0,0,0,0,0,0,0,0,0,0,0,0,0,0,0,0,0,0,0,0,0,0,0,0,0,0,0,0,0,0,0,0,0,0,0,0,0,0,0,0,0,0,0,0,0,0,0,0,0,0,0,0,0,0,0,0,0,0,0,0,0,{"$f":"UVS54-UVS53","v":0},0,0,0,0,0,0,0,0,0,0,0,0,0,0,0,0,0,0,0,0,0,0,0,0,0,0,0,0,0,0,0,0,0,0,0,0,0,0,0,0,0,0,0,0,0,0,0,0,0,0,0,0,0,0,0,0,0,0,0,0,0,0,0,{"$f":"UYE54-UYE53","v":0},0,0,0,0,0,0,0,0,0,0,0,0,0,0,0,0,0,0,0,0,0,0,0,0,0,0,0,0,0,0,0,0,0,0,0,0,0,0,0,0,0,0,0,0,0,0,0,0,0,0,0,0,0,0,0,0,0,0,0,0,0,0,0,{"$f":"VAQ54-VAQ53","v":0},0,0,0,0,0,0,0,0,0,0,0,0,0,0,0,0,0,0,0,0,0,0,0,0,0,0,0,0,0,0,0,0,0,0,0,0,0,0,0,0,0,0,0,0,0,0,0,0,0,0,0,0,0,0,0,0,0,0,0,0,0,0,0,{"$f":"VDC54-VDC53","v":0},0,0,0,0,0,0,0,0,0,0,0,0,0,0,0,0,0,0,0,0,0,0,0,0,0,0,0,0,0,0,0,0,0,0,0,0,0,0,0,0,0,0,0,0,0,0,0,0,0,0,0,0,0,0,0,0,0,0,0,0,0,0,0,{"$f":"VFO54-VFO53","v":0},0,0,0,0,0,0,0,0,0,0,0,0,0,0,0,0,0,0,0,0,0,0,0,0,0,0,0,0,0,0,0,0,0,0,0,0,0,0,0,0,0,0,0,0,0,0,0,0,0,0,0,0,0,0,0,0,0,0,0,0,0,0,0,{"$f":"VIA54-VIA53","v":0},0,0,0,0,0,0,0,0,0,0,0,0,0,0,0,0,0,0,0,0,0,0,0,0,0,0,0,0,0,0,0,0,0,0,0,0,0,0,0,0,0,0,0,0,0,0,0,0,0,0,0,0,0,0,0,0,0,0,0,0,0,0,0,{"$f":"VKM54-VKM53","v":0},0,0,0,0,0,0,0,0,0,0,0,0,0,0,0,0,0,0,0,0,0,0,0,0,0,0,0,0,0,0,0,0,0,0,0,0,0,0,0,0,0,0,0,0,0,0,0,0,0,0,0,0,0,0,0,0,0,0,0,0,0,0,0,{"$f":"VMY54-VMY53","v":0},0,0,0,0,0,0,0,0,0,0,0,0,0,0,0,0,0,0,0,0,0,0,0,0,0,0,0,0,0,0,0,0,0,0,0,0,0,0,0,0,0,0,0,0,0,0,0,0,0,0,0,0,0,0,0,0,0,0,0,0,0,0,0,{"$f":"VPK54-VPK53","v":0},0,0,0,0,0,0,0,0,0,0,0,0,0,0,0,0,0,0,0,0,0,0,0,0,0,0,0,0,0,0,0,0,0,0,0,0,0,0,0,0,0,0,0,0,0,0,0,0,0,0,0,0,0,0,0,0,0,0,0,0,0,0,0,{"$f":"VRW54-VRW53","v":0},0,0,0,0,0,0,0,0,0,0,0,0,0,0,0,0,0,0,0,0,0,0,0,0,0,0,0,0,0,0,0,0,0,0,0,0,0,0,0,0,0,0,0,0,0,0,0,0,0,0,0,0,0,0,0,0,0,0,0,0,0,0,0,{"$f":"VUI54-VUI53","v":0},0,0,0,0,0,0,0,0,0,0,0,0,0,0,0,0,0,0,0,0,0,0,0,0,0,0,0,0,0,0,0,0,0,0,0,0,0,0,0,0,0,0,0,0,0,0,0,0,0,0,0,0,0,0,0,0,0,0,0,0,0,0,0,{"$f":"VWU54-VWU53","v":0},0,0,0,0,0,0,0,0,0,0,0,0,0,0,0,0,0,0,0,0,0,0,0,0,0,0,0,0,0,0,0,0,0,0,0,0,0,0,0,0,0,0,0,0,0,0,0,0,0,0,0,0,0,0,0,0,0,0,0,0,0,0,0,{"$f":"VZG54-VZG53","v":0},0,0,0,0,0,0,0,0,0,0,0,0,0,0,0,0,0,0,0,0,0,0,0,0,0,0,0,0,0,0,0,0,0,0,0,0,0,0,0,0,0,0,0,0,0,0,0,0,0,0,0,0,0,0,0,0,0,0,0,0,0,0,0,{"$f":"WBS54-WBS53","v":0},0,0,0,0,0,0,0,0,0,0,0,0,0,0,0,0,0,0,0,0,0,0,0,0,0,0,0,0,0,0,0,0,0,0,0,0,0,0,0,0,0,0,0,0,0,0,0,0,0,0,0,0,0,0,0,0,0,0,0,0,0,0,0,{"$f":"WEE54-WEE53","v":0},0,0,0,0,0,0,0,0,0,0,0,0,0,0,0,0,0,0,0,0,0,0,0,0,0,0,0,0,0,0,0,0,0,0,0,0,0,0,0,0,0,0,0,0,0,0,0,0,0,0,0,0,0,0,0,0,0,0,0,0,0,0,0,{"$f":"WGQ54-WGQ53","v":0},0,0,0,0,0,0,0,0,0,0,0,0,0,0,0,0,0,0,0,0,0,0,0,0,0,0,0,0,0,0,0,0,0,0,0,0,0,0,0,0,0,0,0,0,0,0,0,0,0,0,0,0,0,0,0,0,0,0,0,0,0,0,0,{"$f":"WJC54-WJC53","v":0},0,0,0,0,0,0,0,0,0,0,0,0,0,0,0,0,0,0,0,0,0,0,0,0,0,0,0,0,0,0,0,0,0,0,0,0,0,0,0,0,0,0,0,0,0,0,0,0,0,0,0,0,0,0,0,0,0,0,0,0,0,0,0,{"$f":"WLO54-WLO53","v":0},0,0,0,0,0,0,0,0,0,0,0,0,0,0,0,0,0,0,0,0,0,0,0,0,0,0,0,0,0,0,0,0,0,0,0,0,0,0,0,0,0,0,0,0,0,0,0,0,0,0,0,0,0,0,0,0,0,0,0,0,0,0,0,{"$f":"WOA54-WOA53","v":0},0,0,0,0,0,0,0,0,0,0,0,0,0,0,0,0,0,0,0,0,0,0,0,0,0,0,0,0,0,0,0,0,0,0,0,0,0,0,0,0,0,0,0,0,0,0,0,0,0,0,0,0,0,0,0,0,0,0,0,0,0,0,0,{"$f":"WQM54-WQM53","v":0},0,0,0,0,0,0,0,0,0,0,0,0,0,0,0,0,0,0,0,0,0,0,0,0,0,0,0,0,0,0,0,0,0,0,0,0,0,0,0,0,0,0,0,0,0,0,0,0,0,0,0,0,0,0,0,0,0,0,0,0,0,0,0,{"$f":"WSY54-WSY53","v":0},0,0,0,0,0,0,0,0,0,0,0,0,0,0,0,0,0,0,0,0,0,0,0,0,0,0,0,0,0,0,0,0,0,0,0,0,0,0,0,0,0,0,0,0,0,0,0,0,0,0,0,0,0,0,0,0,0,0,0,0,0,0,0,{"$f":"WVK54-WVK53","v":0},0,0,0,0,0,0,0,0,0,0,0,0,0,0,0,0,0,0,0,0,0,0,0,0,0,0,0,0,0,0,0,0,0,0,0,0,0,0,0,0,0,0,0,0,0,0,0,0,0,0,0,0,0,0,0,0,0,0,0,0,0,0,0,{"$f":"WXW54-WXW53","v":0},0,0,0,0,0,0,0,0,0,0,0,0,0,0,0,0,0,0,0,0,0,0,0,0,0,0,0,0,0,0,0,0,0,0,0,0,0,0,0,0,0,0,0,0,0,0,0,0,0,0,0,0,0,0,0,0,0,0,0,0,0,0,0,{"$f":"XAI54-XAI53","v":0},0,0,0,0,0,0,0,0,0,0,0,0,0,0,0,0,0,0,0,0,0,0,0,0,0,0,0,0,0,0,0,0,0,0,0,0,0,0,0,0,0,0,0,0,0,0,0,0,0,0,0,0,0,0,0,0,0,0,0,0,0,0,0,{"$f":"XCU54-XCU53","v":0},0,0,0,0,0,0,0,0,0,0,0,0,0,0,0,0,0,0,0,0,0,0,0,0,0,0,0,0,0,0,0,0,0,0,0,0,0,0,0,0,0,0,0,0,0,0,0,0,0,0,0,0,0,0,0,0,0,0,0,0,0]
["2018-07-31",4741.4036366,38808.817148980001,953.68499999999995,10737.9020119,14939.024983249999,35819.232906839999,1156.0835030799999,54.309702610000002,9098.9259199999997,25724.022719970002,48596.67452706,190630.08206028998]
["2018-08-31",4051.26087005,39215.839810860001,443.685,9801.5591232999996,14394.208952749999,31645.51523628,2580.4238495599998,54.40469427,9186.4445400000004,28177.22236788,48314.201613780002,187864.76605872999]
["2018-09-30",3790.3683757800004,39276.412917460002,1242.558,9688.1350462999999,13519.35672525,31683.109298080002,2641.4732531599998,56.90574797,9292.8499499999998,29126.897007979998,49640.662526650005,189958.72884863001]
["2018-10-31",3195.1074063999999,38627.486891040004,2538.7759999999998,9791.3662712000005,13796.431625200001,30776.13597472,2428.2321878400003,57.693155279999999,9096.6407999999992,28916.059818560003,53042.901447120006,192266.83157735999]
["2018-11-30",5706.5879269999996,38636.039936699999,3725.5839999999998,10043.316988500001,13481.051939749999,30995.046742300001,2415.2958381999997,58.439178149999996,8587.8662499999991,28207.617758799999,50339.459533900001,192196.30609329997]
["2018-12-31",3872.84246592,38195.482994879996,2859.152,10951.7067264,13680.2520496,32325.2568192,2440.59416448,62.186060159999997,8054.5685999999996,27547.407334080002,51469.563090240001,191459.01230496002]
["2019-01-31",5979.2340250699999,28194.168272980001,2181.29,9546.3422319000001,12926.89643035,32807.528860819999,2538.36820708,58.664320609999997,7794.76235,25025.109049930001,54498.858714039998,181551.22246277999]
["2019-02-28",7314.6593498699995,21130.19927298,1400.19,9562.872231899999,12700.97216159,31124.624473960001,2505.68920708,58.734020610000002,8097.2113499999996,25043.998760750001,53397.792371039999,172336.94319978001]
["2019-03-31",10215.255151950001,19940.474875299999,515.49,10004.2688715,12587.85971115,30841.330800650001,2554.8535138000002,62.640855850000001,9695.872894600001,25415.728463750002,53992.940953999998,175826.71609254999]
["2019-04-30",6918.4826705699998,19826.088949839999,690.69,10126.1147779,12070.027372190001,29950.387958990003,2518.1088542799998,63.485858010000001,10469.55021876,26781.297059590001,54090.089887559996,173504.32360768999]
["2019-05-31",7349.4593903000005,19716.989485599999,714.6,10215.337011,12169.762997100001,29204.091809099998,2607.5658851999997,67.305720900000011,10917.293778400001,27050.661963099999,52845.254151400004,172858.32219209999]
["2019-06-30",8706.2982223999988,18768.248909599999,293.33999999999997,10546.195451,12211.336525999999,27928.535678299999,2630.9552931999997,68.516956900000011,10859.480914399999,28156.907487099998,53567.554718300002,173737.3701572]
["2019-07-31",5961.2826298500004,18856.21312344,276.58499999999998,10730.3478189,11794.583611399999,27358.472093369997,2688.7133354799998,76.029535909999993,10688.999276659999,24408.44905969,54894.67977943,167734.35526412999]
["2019-08-31",7930.3555372800001,18419.497285919999,285.51,10752.911580200001,11709.39513934,26693.288286419996,2866.3783266400001,76.452042379999995,10671.60347588,22342.996073139999,54237.22896352,165985.61671071997]
["2019-09-30",5792.3924696000004,18515.7903544,302.61,10772.523389,11765.8965009,26196.379576900003,2872.2103948000004,81.615639099999996,10528.098446600001,22144.141087299999,54229.3022318,163200.96009040001]
["2019-10-31",4244.9955379000003,18648.115354400001,294.41000000000003,9449.6993889999994,11796.424500899999,25726.350955900001,2856.7333948,81.1932391,11195.9264466,21047.4287344,53835.8692286,159177.14678160002]
["2019-11-30",4796.2402758999997,17868.2563544,513.61,9408.0953890000001,11413.843986700002,26315.161112000002,2874.5123948,83.774739099999991,5867.5870000000004,25299.387337900003,53468.340241800004,157908.80883160001]
["2019-12-31",2899.9634928,17869.273361120002,380.78500000000003,14498.428342200001,11373.59651974,26842.1421376,2851.74006504,92.010690180000012,811.71699999999998,25066.17246256,54634.905847440001,157320.73491868001]
["2020-01-31",4894.8238927600005,18220.954720639998,353.56,13671.834000000001,10300.18523628,26102.139507200001,2793.6454228800003,106.62519795999999,797.303,23216.24852832,54021.670419319998,154478.98992535999]
["2020-02-29",4801.7772582600001,18071.244831440003,289.45999999999998,13657.442999999999,10616.293201629998,27212.863277749999,2551.5510214800001,107.3706,815.303,23619.15964939,56105.344596699993,157847.81043664998]
["2020-03-31",4499.5438308000003,18406.3354793,302.98500000000001,14279.557000000001,10714.18578686,24457.85242028,2416.2852647600002,109.13160000000001,789.77800000000002,22327.601913229999,54118.856271320001,152422.11256655]
["2020-04-30",3469.0118856999998,18217.1592079,261.7,13770.522000000001,9744.6406741900009,22291.76148248,2328.0667582800002,112.9273,722.06799999999998,20621.205909209999,47623.950288660002,139163.01350641999]
["2020-05-31",5024.6166114999996,20037.3529514,234.2,14053.499,9887.4098995400018,20915.446054380001,2416.9104824800002,112.0638,730.62800000000004,20774.597500159998,47628.50369356,141815.22799302]
["2020-06-30",4419.1658777499997,19870.848072500001,331.34399999999999,14389.705,9546.0262922500006,19966.48663575,2336.8512070000002,111.7932,738.60799999999995,19823.559094,45786.442063750001,137320.829443]
["2020-07-31",6885.4945907800002,18964.614000000001,364.7,14172.89,9814.5830000000005,18987.454514599998,1959.1189999999999,125.62609999999999,738.80799999999999,18918.416679999998,46438.139885800003,137369.84577118]
["2020-08-31",5394.99856877,18529.661,350.7,14496.331,9882.9950000000008,18036.4856129,1914.788,119.15389999999999,731.726,19391.11214275,47470.274280750004,136318.22550517]
["2020-09-30",3364.4674209200002,19016.46,510.7,15025.630999999999,10453.084000000001,18325.646358900001,1876.0940000000001,120.3013,734.61400000000003,19250.495777749999,46803.255913400004,135480.74977097003]
["2020-10-31",2934.7248064999999,18869.722000000002,339.1,12610.305,11406.222,17462.157640699999,1747.0340000000001,119.5939,752.94600000000003,18352.83071871,46680.247724199995,131274.88379011001]
["2020-11-30",2685.6729852600001,18940.38,411.7,13048.02,12162.346,17316.924980200001,1748.106,125.4577,769.846,18048.694973060003,47071.35068494,132328.49932346001]
["2020-12-31",3979.4357035600001,19076.771000000001,411.7,13046.473,13237.43,17430.698721200002,1726.5740000000001,125.80549999999999,707.61199999999997,17429.233390360001,46586.261357639996,133757.99467275999]
["2021-01-31",7360.9695709399994,19152.661,411.7,12836.573,14026.475,17003.270393799998,1729.1389999999999,130.69399999999999,703.61199999999997,17723.775369139999,48206.453732859998,139285.32306674001]
["2021-02-28",6972.2368773299995,19242.842000000001,787.6,12722.130999999999,14680.615,16382.255106299999,1698.576,126.75539999999999,458.91199999999998,18242.64341275,47176.948032610002,138491.51482898998]
["2021-03-31",6129.6109871899998,16858.755000000001,1076.654,12471.482,15157.357,16670.7095309,1721.846,129.84630000000001,471.77699999999999,17706.90249325,46344.26201423,134739.20232557002]
["2021-04-30",4457.0147056099995,15737.269,634.20000000000005,12596.02,15630.905000000001,16194.6033271,245.91,130.91139999999999,458.72699999999998,17436.405571750001,47761.17158337,131283.13758783002]
["2021-05-31",3213.6311064199999,15562.871999999999,74.599999999999994,10044.864,13678.491,14908.9675262,194.89,135.06379999999999,501.92700000000002,16560.562499420001,45313.990925140002,120189.85985718001]
["2021-06-30",5188.3504217,16036.231,46.4,12065.329,13764.672,14070.909476999999,196.11,138.3416,475.42700000000002,16698.941925700001,44760.354461900002,123441.0668863]
["2021-07-31",4363.9304036700005,16135.324000000001,106.60299999999999,13190.39,14701.516,15135.0497627,223.2,141.22640000000001,489.36700000000002,17888.61273407,45926.828426690001,128302.04772713]
["2021-08-31",4800.2362371099998,16366.12,493.15899999999999,13830.841,14860.004999999999,13726.159629100001,1737.4760000000001,147.9134,475.86700000000002,17710.114110310002,44573.061642769993,128720.95301929]
["2021-09-30",4546.0826247499999,15735.763000000001,569.97900000000004,14317.861000000001,14750.08,13457.977547500001,1639.123,152.40690000000001,460.66699999999997,17490.618344750001,46171.931423249996,129292.48984025]
["2021-10-31",3400.7694195300001,15550.753000000001,552.47900000000004,14031.683999999999,13919.177,12643.007679299999,1532.865,154.82900000000001,472,16828.04597313,46562.15331971,125647.76339166999]
["2021-11-30",2867.1432745700004,15701.35,476.17899999999997,11191.772999999999,13783.9,13707.129991700001,1483.269,158.50838942999999,477.3,17047.47461297,48788.781052489998,125682.80832116]
["2021-12-31",2584.6162271599997,17563.241999999998,255.934,9287.5460000000003,13596.486999999999,14183.1802396,1450.9970000000001,170.26110996,547.29999999999995,15670.428418360001,49247.70627612,124557.6982712]
["2022-01-31",2931.4354856599998,17544.974999999999,140.63399999999999,9681.9680000000008,13420.34,13852.9599289,1476.5129999999999,170.17136216,558.5,16310.076357489999,51247.25165436,127334.82478857]
["2022-02-28",3557.83540442,17685.05,150.834,9721.0619999999999,13283.325999999999,14147.435894299999,1499.364,165.17455991999998,611.5,17089.185139630001,49210.491682699998,127121.25868097]
["2022-03-31",6505.5908559600002,17699.957999999999,462.23399999999998,6260.3220000000001,13741.601000000001,15753.813503399999,1559.058,172.54576496000001,613.23500000000001,19392.88873794,47969.319222599996,130130.56608485999]
["2022-04-30",4410.43129735,18593.791000000001,391.13400000000001,5622.9920000000002,14089.531999999999,18726.780753499999,1542.481,213.4435106,573.88499999999999,17518.84377435,53117.216657050005,134800.53099285002]
["2022-05-31",6249.6727653400003,19917.271000000001,390.23399999999998,5234.91,14121.856,19910.626936099998,1603.893,222.60814076,667.88499999999999,19478.069309009999,52591.568092900001,140388.59424410999]
["2022-06-30",4028.6182191599996,20313.330000000002,204.96799999999999,5830.1930000000002,15456.323,21042.249631400002,1658.184,240.31301069999998,738.85699999999997,18833.469342740002,58278.779794599999,146625.28499860002]
["2022-07-31",3631.5412365799998,19700.845000000001,218.041,4796.1530000000002,15076.313,21044.9400207,1679.8389999999999,264.08033284999999,745.65700000000004,19209.331161869999,56042.298042300004,142409.03879430002]
["2022-08-31",2196.04679764,21019.097000000002,164.53399999999999,3842.587,15777.267,20907.253740599997,1676.616,281.49798887999998,781.65700000000004,20274.05090246,57636.669513400004,144557.27694298001]
["2022-09-30",3165.6180859400001,20796.397000000001,850.03899999999999,3302.3130000000001,17871.990000000002,20845.239323400001,1551.175,292.10157831999999,2037.8119999999999,20300.212149939998,57643.788340620005,148656.68547822002]
["2022-10-31",1946.0472650499999,20914.651000000002,971.10500000000002,4090.5320000000002,17764.602999999999,20725.955180500001,1503.634,308.38411139999999,2012.8320000000001,21777.96487005,55893.860776150002,147909.56920314999]
["2022-11-30",3377.2319334899998,21976.669000000002,1059.3399999999999,5516.8789999999999,17424.637999999999,21192.829928900002,1585.7360000000001,303.97947972000003,2059.6770000000001,20141.690559490002,54880.890134269997,149519.56103586999]
["2022-12-31",2383.9728227099999,22215.392,1035.001,5245.7839999999997,17784.309000000001,19918.672353099999,1764.6890000000001,308.32215387999997,2113.4609999999998,20261.359076709999,53143.208578329999,146174.17098473001]
["2023-01-31",3096.5255754299997,21393.620999999999,1474.5129999999999,5087.2560000000003,17935.762999999999,19957.1945123,1766.056,299.41730604000003,2095.0970000000002,19824.55735743,53338.000382890001,146268.00113408998]
["2023-02-28",2144.0089907299998,20325.011999999999,1317.307,5527.3890000000001,17344.109,18230.468595300001,1745.8240000000001,304.96607444,1728.58,19831.425767730001,52369.557439789998,140868.64786798999]
["2023-03-31",4243.44492713,19290.673999999999,1349.68,5974.0370000000003,17870.838,18449.8397993,1734.2059999999999,313.40101363999997,1720.9860000000001,19941.048064130002,51231.393016989998,142119.54782119003]
["2023-04-30",3595.9353492,18987.679,1573.951,6170.866,17512.190999999999,18243.9705894,1736.7760000000001,307.60053726000001,1685.607,19812.14546254,50204.920741760005,139831.64268016]
["2023-05-31",3977.2545971499999,18867.444,1462.3510000000001,6178.36,17416.756000000001,17662.807767099999,1704.366,319.62537658999997,1449.4680000000001,18382.509134110001,48755.006980639999,136175.94885559002]
["2023-06-30",5254.3115788000005,20011.069,1142.402,5202.5219999999999,16125.843000000001,16410.096567200002,1598.578,330.35641319999996,1029.741,18463.69307352,49348.755548480003,134917.3681812]
["2023-07-31",4120.1348149000005,19550.951000000001,1175.2840000000001,4697.6000000000004,16250.321,16443.143789500002,1636.6379999999999,338.49923074999998,1094.126,19190.609673999999,51485.080396800004,135982.38790594999]
["2023-08-31",3949.9450000000002,19428.93,1191.143,4637.6229999999996,16815.423999999999,16087.48,1523.4469999999999,325.09249999999997,1185.0619999999999,18704.541000000001,50980.006999999998,134828.69449999998]
["2023-09-30",5024.2129999999997,18090.237000000001,1093.3579999999999,4321.5119999999997,16352.652,15165.48,1402.607,362.46859999999998,940.875,17371.921999999999,49552.464,129677.7886]
["2023-10-31",4349.2650000000003,17892.712,1179.9079999999999,3578.5549999999998,16645.261999999999,15022.31,1290.664,373.48259999999999,916.7,19085.675999999999,49739.913999999997,130074.44859999997]
["2023-11-30",5048.6139999999996,18380.491999999998,1155.9359999999999,2688.4479999999999,16479.968000000001,15350.584999999999,1195.2739999999999,374.76310000000001,944.91200000000003,17313.116000000002,50522.582000000002,129454.69009999998]
["2023-12-31",7921.0680000000002,18672.163,1164.866,2786.203,16765.52,15687.191999999999,1256.4590000000001,383.86599999999999,947.72699999999998,16999.317999999999,49589.716,132174.098]
["2024-01-31",5176.598,18823.942999999999,1143.856,2119.6410000000001,16567.86,16060.896000000001,1200.077,383.06819999999999,804.46100000000001,16168.558999999999,53713.182999999997,132162.1422]
["2024-02-29",4732.9679999999998,19620.245999999999,1143.508,1896.0989999999999,16638.059000000001,15411.793,1239.5250000000001,414.85829999999999,770.12199999999996,16209.954,55357.957000000002,133435.08930000002]
["2024-03-31",4575.3329999999996,18326.856,1213.441,2599.3389999999999,17459.213,15942.98,1403.9970000000001,415.23,776.10199999999998,16062.922,53392.29,132167.70300000001]
["2024-04-30",4470.47,20487.036,1202.8309999999999,1835.47,17741.556,16808.521000000001,1401.31,424.14080000000001,815.64099999999996,15838.671,50067.351999999999,131092.9988]
["2024-05-31",4833.6850000000004,20221.744999999999,1241.5930000000001,2005.248,17271.985000000001,17348.077000000001,1403.51,429.77679999999998,836.19200000000001,15833.236000000001,51086.536999999997,132511.58480000001]
["2024-06-30",6500.00756,21414.413,1259.683,2043.403,17613.245999999999,17912.670999999998,1451.4949999999999,448.88,886.19200000000001,16681.625,51320.168080000003,137531.78363999998]
["2024-07-31",5656.9363636499993,21573.572,1184.6104620399999,2132.261,18846.731520199999,19660.24102225,1366.693,442.13371903999996,830.91704290999996,16485.170723669999,57619.629506810001,145798.89636056998]
["2024-08-31",6046.6904989599998,22306.355,944.29208087999996,2177.2220000000002,18112.073201799998,17757.922822839999,1364.5715719000002,445.04263487999998,871.33030292000012,16204.831766339999,57573.786782119998,143804.11866263999]
["2024-09-30",6276.5600738500007,22344.27997,1210.4431584000001,2327.0770000000002,18905.084156500001,17720.166767799998,1305.9364357500001,482.56433225000001,873.67175810000003,16977.446876950002,61160.5867019,149583.8172315]
["2024-10-31",6821.09212088,22426.754991999998,2673.8894151199997,2088.1480000000001,19047.629020880002,18196.096604080001,1156.1157412,491.14020360000001,868.01471215999993,17172.845627520001,57489.804868079998,148431.53130552001]
["2024-11-30",5741.5894161000006,22977.837469999999,2989.11788875,2199.5680000000002,18865.863309550001,19405.1751525,1164.4639999999999,498.23751974999999,850.16,18154.234961800001,57512.960475,150359.20819345]
["2024-12-31",5147.49983625,23233.70765,2933.642151,2425.236832,19440.957715,19669.753951250001,1271.60842275,501.04257625000002,1095.14174725,17129.287087000001,55572.515872000004,148420.39384074998]
["2025-01-31",7849.3286344500002,21811.021497999998,2124.70309597,2406.77976704,19789.2744198,20108.229271889999,1213.0100820799998,513.89286964999997,1097.1493257699999,17453.952994080002,60954.664914300003,155322.00687303001]
["2025-02-28",10229.65745656,21555.038024000001,2137.8368752800002,2607.2929955200002,19648.040087440004,20942.798224400001,1089.9425520799998,519.52668919999996,1100.8820035199999,17383.090806,64767.345559360001,161981.45127336]
["2025-03-31",8528.5423202799993,21643.290228000002,2139.50323084,2617.5446774400002,20206.167083380002,21162.203073779998,1172.0308295999998,521.62953346000006,1098.2217157999999,16545.446734360001,64748.175639979992,160382.75506691998]

{"sheet":"Bony skarbowe_podmiot","index":2,"n_rows":136,"n_cols":13,"rows_kept":136,"cut":false,"hidden":false,"merged":[[2,9,3,9],[2,10,3,10],[2,11,3,11],[2,12,3,12],[0,0,1,12],[2,0,3,0],[2,1,3,1],[2,2,3,2],[2,3,3,3],[2,4,3,4],[2,5,3,5],[2,6,3,6],[2,7,3,7],[2,8,3,8]]}
["Struktura podmiotowa nierezydentów w bonach skarbowych (mln zł)"]
[]
["Data","Banki","Banki centralne","Instytucje publiczne","Zakłady ubezpieczeniowe","Fundusze emerytalne","Fundusze inwestycyjne","Fundusze hedgingowe","Gospodarstwa domowe","Przedsiębiorstwa niefinansowe","Inne podmioty","Rachunki zbiorcze","Razem"]
[]
[{"$f":"'Obligacje skarbowe_podmiot'!A5","v":"2014-04-30"},0,0,0,0,0,0,0,0,0,0,0,{"$f":"SUM(B5:L5)","v":0}]
[{"$f":"'Obligacje skarbowe_podmiot'!A6","v":"2014-05-31"},0,0,0,0,0,0,0,0,0,0,0,0]
[{"$f":"'Obligacje skarbowe_podmiot'!A7","v":"2014-06-30"},0,0,0,0,0,0,0,0,0,0,0,0]
[{"$f":"'Obligacje skarbowe_podmiot'!A8","v":"2014-07-31"},0,0,0,0,0,0,0,0,0,0,0,0]
[{"$f":"'Obligacje skarbowe_podmiot'!A9","v":"2014-08-31"},0,0,0,0,0,0,0,0,0,0,0,0]
[{"$f":"'Obligacje skarbowe_podmiot'!A10","v":"2014-09-30"},0,0,0,0,0,0,0,0,0,0,0,0]
[{"$f":"'Obligacje skarbowe_podmiot'!A11","v":"2014-10-31"},0,0,0,0,0,0,0,0,0,0,0,{"$f":"SUM(B11:L11)","v":0}]
[{"$f":"'Obligacje skarbowe_podmiot'!A12","v":"2014-11-30"},0,0,0,0,0,0,0,0,0,0,0,{"$f":"SUM(B12:L12)","v":0}]
[{"$f":"'Obligacje skarbowe_podmiot'!A13","v":"2014-12-31"},0,0,0,0,0,0,0,0,0,0,0,0]
[{"$f":"'Obligacje skarbowe_podmiot'!A14","v":"2015-01-31"},0,0,0,0,0,0,0,0,0,0,0,0]
[{"$f":"'Obligacje skarbowe_podmiot'!A15","v":"2015-02-28"},0,0,0,0,0,0,0,0,0,0,0,0]
[{"$f":"'Obligacje skarbowe_podmiot'!A16","v":"2015-03-31"},0,0,0,0,0,0,0,0,0,0,0,0]
[{"$f":"'Obligacje skarbowe_podmiot'!A17","v":"2015-04-30"},0,0,0,0,0,0,0,0,0,0,0,0]
[{"$f":"'Obligacje skarbowe_podmiot'!A18","v":"2015-05-31"},0,0,0,0,0,0,0,0,0,0,0,0]
[{"$f":"'Obligacje skarbowe_podmiot'!A19","v":"2015-06-30"},0,0,0,0,0,0,0,0,0,0,0,0]
[{"$f":"'Obligacje skarbowe_podmiot'!A20","v":"2015-07-31"},0,0,0,0,0,0,0,0,0,0,0,0]
[{"$f":"'Obligacje skarbowe_podmiot'!A21","v":"2015-08-31"},0,0,0,0,0,0,0,0,0,0,0,0]
[{"$f":"'Obligacje skarbowe_podmiot'!A22","v":"2015-09-30"},0,0,0,0,0,0,0,0,0,0,0,0]
[{"$f":"'Obligacje skarbowe_podmiot'!A23","v":"2015-10-31"},0,0,0,0,0,0,0,0,0,0,0,0]
[{"$f":"'Obligacje skarbowe_podmiot'!A24","v":"2015-11-30"},0,0,0,0,0,0,0,0,0,0,0,0]
[{"$f":"'Obligacje skarbowe_podmiot'!A25","v":"2015-12-31"},0,0,0,0,0,0,0,0,0,0,0,0]
[{"$f":"'Obligacje skarbowe_podmiot'!A26","v":"2016-01-31"},0,0,0,0,0,0,0,0,0,0,0,0]
[{"$f":"'Obligacje skarbowe_podmiot'!A27","v":"2016-02-29"},50,0,0,0,0,0,0,0,0,0,0,50]
[{"$f":"'Obligacje skarbowe_podmiot'!A28","v":"2016-03-31"},50.65,0,0,0,0,0,0,0,0,0,0,50.65]
[{"$f":"'Obligacje skarbowe_podmiot'!A29","v":"2016-04-30"},61.15,0,0,0,0,0,0,0,0,0,0,61.15]
[{"$f":"'Obligacje skarbowe_podmiot'!A30","v":"2016-05-31"},38.15,0,0,0,0,0,0,0,0,0,0,38.15]
[{"$f":"'Obligacje skarbowe_podmiot'!A31","v":"2016-06-30"},41.15,0,0,0,0,0,0,0,0,0,0,{"$f":"SUM(B31:L31)","v":41.15}]
[{"$f":"'Obligacje skarbowe_podmiot'!A32","v":"2016-07-31"},16.149999999999999,0,0,0,0,0,0,0,0,0,0,16.149999999999999]
[{"$f":"'Obligacje skarbowe_podmiot'!A33","v":"2016-08-31"},0,0,0,0,0,0,0,0,0,0,0,0]
[{"$f":"'Obligacje skarbowe_podmiot'!A34","v":"2016-09-30"},0,0,0,0,0,0,0,0,0,0,0,{"$f":"SUM(B34:L34)","v":0}]
[{"$f":"'Obligacje skarbowe_podmiot'!A35","v":"2016-10-31"},0,0,0,0,0,0,0,0,0,0,0,{"$f":"SUM(B35:L35)","v":0}]
[{"$f":"'Obligacje skarbowe_podmiot'!A36","v":"2016-11-30"},0,0,0,0,0,0,0,0,0,0,0,{"$f":"SUM(B36:L36)","v":0}]
[{"$f":"'Obligacje skarbowe_podmiot'!A37","v":"2016-12-31"},0,0,0,0,0,0,0,0,0,0,0,{"$f":"SUM(B37:L37)","v":0}]
[{"$f":"'Obligacje skarbowe_podmiot'!A38","v":"2017-01-31"},20,0,0,0,0,0,0,0,0,0,0,20]
[{"$f":"'Obligacje skarbowe_podmiot'!A39","v":"2017-02-28"},49,0,0,0,0,0,0,0,0,0,0,49]
[{"$f":"'Obligacje skarbowe_podmiot'!A40","v":"2017-03-31"},69,0,0,0,0,0,0,0,0,0,0,{"$f":"SUM(B40:L40)","v":69}]
[{"$f":"'Obligacje skarbowe_podmiot'!A41","v":"2017-04-30"},69,0,0,0,0,0,0,0,0,0,0,69]
[{"$f":"'Obligacje skarbowe_podmiot'!A42","v":"2017-05-31"},79,0,0,0,0,0,0,0,0,0,0,{"$f":"SUM(B42:L42)","v":79}]
[{"$f":"'Obligacje skarbowe_podmiot'!A43","v":"2017-06-30"},79,0,0,0,0,0,0,0,0,0,0,{"$f":"SUM(B43:L43)","v":79}]
[{"$f":"'Obligacje skarbowe_podmiot'!A44","v":"2017-07-31"},79,0,0,0,0,0,0,0,0,0,0,79]
[{"$f":"'Obligacje skarbowe_podmiot'!A45","v":"2017-08-31"},0,0,0,0,0,0,0,0,0,0,0,0]
[{"$f":"'Obligacje skarbowe_podmiot'!A46","v":"2017-09-30"},0,0,0,0,0,0,0,0,0,0,0,{"$f":"SUM(B46:L46)","v":0}]
[{"$f":"'Obligacje skarbowe_podmiot'!A47","v":"2017-10-31"},0,0,0,0,0,0,0,0,0,0,0,{"$f":"SUM(B47:L47)","v":0}]
[{"$f":"'Obligacje skarbowe_podmiot'!A48","v":"2017-11-30"},0,0,0,0,0,0,0,0,0,0,0,{"$f":"SUM(B48:L48)","v":0}]
[{"$f":"'Obligacje skarbowe_podmiot'!A49","v":"2017-12-31"},0,0,0,0,0,0,0,0,0,0,0,{"$f":"SUM(B49:L49)","v":0}]
[{"$f":"'Obligacje skarbowe_podmiot'!A50","v":"2018-01-31"},0,0,0,0,0,0,0,0,0,0,0,{"$f":"SUM(B50:L50)","v":0}]
[{"$f":"'Obligacje skarbowe_podmiot'!A51","v":"2018-02-28"},0,0,0,0,0,0,0,0,0,0,0,{"$f":"SUM(B51:L51)","v":0}]
[{"$f":"'Obligacje skarbowe_podmiot'!A52","v":"2018-03-31"},0,0,0,0,0,0,0,0,0,0,0,{"$f":"SUM(B52:L52)","v":0}]
[{"$f":"'Obligacje skarbowe_podmiot'!A53","v":"2018-04-30"},0,0,0,0,0,0,0,0,0,0,0,{"$f":"SUM(B53:L53)","v":0}]
[{"$f":"'Obligacje skarbowe_podmiot'!A54","v":"2018-05-31"},0,0,0,0,0,0,0,0,0,0,0,{"$f":"SUM(B54:L54)","v":0}]
[{"$f":"'Obligacje skarbowe_podmiot'!A55","v":"2018-06-30"},0,0,0,0,0,0,0,0,0,0,0,{"$f":"SUM(B55:L55)","v":0}]
[{"$f":"'Obligacje skarbowe_podmiot'!A56","v":"2018-07-31"},0,0,0,0,0,0,0,0,0,0,0,{"$f":"SUM(B56:L56)","v":0}]
[{"$f":"'Obligacje skarbowe_podmiot'!A57","v":"2018-08-31"},0,0,0,0,0,0,0,0,0,0,0,{"$f":"SUM(B57:L57)","v":0}]
[{"$f":"'Obligacje skarbowe_podmiot'!A58","v":"2018-09-30"},0,0,0,0,0,0,0,0,0,0,0,{"$f":"SUM(B58:L58)","v":0}]
[{"$f":"'Obligacje skarbowe_podmiot'!A59","v":"2018-10-31"},0,0,0,0,0,0,0,0,0,0,0,{"$f":"SUM(B59:L59)","v":0}]
[{"$f":"'Obligacje skarbowe_podmiot'!A60","v":"2018-11-30"},0,0,0,0,0,0,0,0,0,0,0,{"$f":"SUM(B60:L60)","v":0}]
[{"$f":"'Obligacje skarbowe_podmiot'!A61","v":"2018-12-31"},0,0,0,0,0,0,0,0,0,0,0,{"$f":"SUM(B61:L61)","v":0}]
[{"$f":"'Obligacje skarbowe_podmiot'!A62","v":"2019-01-31"},0,0,0,0,0,0,0,0,0,0,0,{"$f":"SUM(B62:L62)","v":0}]
[{"$f":"'Obligacje skarbowe_podmiot'!A63","v":"2019-02-28"},0,0,0,0,0,0,0,0,0,0,0,{"$f":"SUM(B63:L63)","v":0}]
[{"$f":"'Obligacje skarbowe_podmiot'!A64","v":"2019-03-31"},0,0,0,0,0,0,0,0,0,0,0,{"$f":"SUM(B64:L64)","v":0}]
[{"$f":"'Obligacje skarbowe_podmiot'!A65","v":"2019-04-30"},0,0,0,0,0,0,0,0,0,0,0,{"$f":"SUM(B65:L65)","v":0}]
[{"$f":"'Obligacje skarbowe_podmiot'!A66","v":"2019-05-31"},0,0,0,0,0,0,0,0,0,0,0,{"$f":"SUM(B66:L66)","v":0}]
[{"$f":"'Obligacje skarbowe_podmiot'!A67","v":"2019-06-30"},0,0,0,0,0,0,0,0,0,0,0,{"$f":"SUM(B67:L67)","v":0}]
[{"$f":"'Obligacje skarbowe_podmiot'!A68","v":"2019-07-31"},0,0,0,0,0,0,0,0,0,0,0,{"$f":"SUM(B68:L68)","v":0}]
[{"$f":"'Obligacje skarbowe_podmiot'!A69","v":"2019-08-31"},0,0,0,0,0,0,0,0,0,0,0,{"$f":"SUM(B69:L69)","v":0}]
[{"$f":"'Obligacje skarbowe_podmiot'!A70","v":"2019-09-30"},0,0,0,0,0,0,0,0,0,0,0,{"$f":"SUM(B70:L70)","v":0}]
[{"$f":"'Obligacje skarbowe_podmiot'!A71","v":"2019-10-31"},0,0,0,0,0,0,0,0,0,0,0,{"$f":"SUM(B71:L71)","v":0}]
[{"$f":"'Obligacje skarbowe_podmiot'!A72","v":"2019-11-30"},0,0,0,0,0,0,0,0,0,0,0,{"$f":"SUM(B72:L72)","v":0}]
[{"$f":"'Obligacje skarbowe_podmiot'!A73","v":"2019-12-31"},0,0,0,0,0,0,0,0,0,0,0,{"$f":"SUM(B73:L73)","v":0}]
[{"$f":"'Obligacje skarbowe_podmiot'!A74","v":"2020-01-31"},0,0,0,0,0,0,0,0,0,0,0,{"$f":"SUM(B74:L74)","v":0}]
[{"$f":"'Obligacje skarbowe_podmiot'!A75","v":"2020-02-29"},0,0,0,0,0,0,0,0,0,0,0,{"$f":"SUM(B75:L75)","v":0}]
[{"$f":"'Obligacje skarbowe_podmiot'!A76","v":"2020-03-31"},0,0,0,0,0,0,0,0,0,0,0,{"$f":"SUM(B76:L76)","v":0}]
[{"$f":"'Obligacje skarbowe_podmiot'!A77","v":"2020-04-30"},400,0,0,0,0,0,0,0,0,0,0,400]
[{"$f":"'Obligacje skarbowe_podmiot'!A78","v":"2020-05-31"},200,0,0,0,0,0,0,0,0,0,0,200]
[{"$f":"'Obligacje skarbowe_podmiot'!A79","v":"2020-06-30"},307.8,0,0,0,0,0,0,0,0,0,0,307.8]
[{"$f":"'Obligacje skarbowe_podmiot'!A80","v":"2020-07-31"},307.8,0,0,0,0,0,0,0,0,0,0,307.8]
[{"$f":"'Obligacje skarbowe_podmiot'!A81","v":"2020-08-31"},245,0,0,0,0,0,0,0,0,0,0,{"$f":"SUM(B81:L81)","v":245}]
[{"$f":"'Obligacje skarbowe_podmiot'!A82","v":"2020-09-30"},245,0,0,0,0,0,0,0,0,0,0,{"$f":"SUM(B82:L82)","v":245}]
[{"$f":"'Obligacje skarbowe_podmiot'!A83","v":"2020-10-31"},0,0,0,0,0,0,0,0,0,0,0,0]
[{"$f":"'Obligacje skarbowe_podmiot'!A84","v":"2020-11-30"},0,0,0,0,0,0,0,0,0,0,0,0]
[{"$f":"'Obligacje skarbowe_podmiot'!A85","v":"2020-12-31"},0,0,0,0,0,0,0,0,0,0,0,0]
[{"$f":"'Obligacje skarbowe_podmiot'!A86","v":"2021-01-31"},0,0,0,0,0,0,0,0,0,0,0,0]
[{"$f":"'Obligacje skarbowe_podmiot'!A87","v":"2021-02-28"},200,0,0,0,0,0,0,0,0,750,0,950]
[{"$f":"'Obligacje skarbowe_podmiot'!A88","v":"2021-03-31"},0,0,0,0,0,0,0,0,0,0,0,0]
[{"$f":"'Obligacje skarbowe_podmiot'!A89","v":"2021-04-30"},0,0,0,0,0,0,0,0,0,0,0,0]
[{"$f":"'Obligacje skarbowe_podmiot'!A90","v":"2021-05-31"},0,0,0,0,0,0,0,0,0,0,0,0]
[{"$f":"'Obligacje skarbowe_podmiot'!A91","v":"2021-06-30"},0,0,0,0,0,0,0,0,0,0,0,0]
[{"$f":"'Obligacje skarbowe_podmiot'!A92","v":"2021-07-31"},0,0,0,0,0,0,0,0,0,0,0,0]
[{"$f":"'Obligacje skarbowe_podmiot'!A93","v":"2021-08-31"},0,0,0,0,0,0,0,0,0,0,0,0]
[{"$f":"'Obligacje skarbowe_podmiot'!A94","v":"2021-09-30"},0,0,0,0,0,0,0,0,0,0,0,0]
[{"$f":"'Obligacje skarbowe_podmiot'!A95","v":"2021-10-31"},0,0,0,0,0,0,0,0,0,0,0,0]
[{"$f":"'Obligacje skarbowe_podmiot'!A96","v":"2021-11-30"},0,0,0,0,0,0,0,0,0,0,0,0]
[{"$f":"'Obligacje skarbowe_podmiot'!A97","v":"2021-12-31"},0,0,0,0,0,0,0,0,0,0,0,0]
[{"$f":"'Obligacje skarbowe_podmiot'!A98","v":"2022-01-31"},0,0,0,0,0,0,0,0,0,0,0,0]
[{"$f":"'Obligacje skarbowe_podmiot'!A99","v":"2022-02-28"},0,0,0,0,0,0,0,0,0,0,0,0]
[{"$f":"'Obligacje skarbowe_podmiot'!A100","v":"2022-03-31"},0,0,0,0,0,0,0,0,0,0,0,0]
[{"$f":"'Obligacje skarbowe_podmiot'!A101","v":"2022-04-30"},0,0,0,0,0,0,0,0,0,0,0,0]
[{"$f":"'Obligacje skarbowe_podmiot'!A102","v":"2022-05-31"},0,0,0,0,0,0,0,0,0,0,0,0]
[{"$f":"'Obligacje skarbowe_podmiot'!A103","v":"2022-06-30"},0,0,0,0,0,0,0,0,0,0,0,0]
[{"$f":"'Obligacje skarbowe_podmiot'!A104","v":"2022-07-31"},0,0,0,0,0,0,0,0,0,0,0,0]
[{"$f":"'Obligacje skarbowe_podmiot'!A105","v":"2022-08-31"},0,0,0,0,0,0,0,0,0,0,0,0]
[{"$f":"'Obligacje skarbowe_podmiot'!A106","v":"2022-09-30"},0,0,0,0,0,0,0,0,0,0,0,0]
[{"$f":"'Obligacje skarbowe_podmiot'!A107","v":"2022-10-31"},0,0,0,0,0,0,0,0,0,0,0,0]
[{"$f":"'Obligacje skarbowe_podmiot'!A108","v":"2022-11-30"},0,0,0,0,0,0,0,0,0,0,0,0]
[{"$f":"'Obligacje skarbowe_podmiot'!A109","v":"2022-12-31"},0,0,0,0,0,0,0,0,0,0,0,0]
[{"$f":"'Obligacje skarbowe_podmiot'!A110","v":"2023-01-31"},0,0,0,0,0,0,0,0,0,0,0,0]
[{"$f":"'Obligacje skarbowe_podmiot'!A111","v":"2023-02-28"},0,0,0,0,0,0,0,0,0,0,0,0]
[{"$f":"'Obligacje skarbowe_podmiot'!A112","v":"2023-03-31"},0,0,0,0,0,0,0,0,0,0,0,0]
[{"$f":"'Obligacje skarbowe_podmiot'!A113","v":"2023-04-30"},0,0,0,0,0,0,0,0,0,0,0,0]
[{"$f":"'Obligacje skarbowe_podmiot'!A114","v":"2023-05-31"},0,0,0,0,0,0,0,0,0,0,0,0]
[{"$f":"'Obligacje skarbowe_podmiot'!A115","v":"2023-06-30"},0,0,0,0,0,0,0,0,0,0,0,0]
[{"$f":"'Obligacje skarbowe_podmiot'!A116","v":"2023-07-31"},0,0,0,0,0,0,0,0,0,0,0,0]
[{"$f":"'Obligacje skarbowe_podmiot'!A117","v":"2023-08-31"},0,0,0,0,0,0,0,0,0,0,0,0]
[{"$f":"'Obligacje skarbowe_podmiot'!A118","v":"2023-09-30"},0,0,0,0,0,0,0,0,0,0,0,0]
[{"$f":"'Obligacje skarbowe_podmiot'!A119","v":"2023-10-31"},0,0,0,0,0,0,0,0,0,0,0,0]
[{"$f":"'Obligacje skarbowe_podmiot'!A120","v":"2023-11-30"},0,0,0,0,0,0,0,0,0,0,0,0]
[{"$f":"'Obligacje skarbowe_podmiot'!A121","v":"2023-12-31"},0,0,0,0,0,0,0,0,0,0,0,0]
[{"$f":"'Obligacje skarbowe_podmiot'!A122","v":"2024-01-31"},0,0,0,0,0,0,0,0,0,0,0,0]
[{"$f":"'Obligacje skarbowe_podmiot'!A123","v":"2024-02-29"},0,0,0,0,0,0,0,0,0,0,0,0]
[{"$f":"'Obligacje skarbowe_podmiot'!A124","v":"2024-03-31"},0,0,0,0,0,0,0,0,0,0,0,0]
[{"$f":"'Obligacje skarbowe_podmiot'!A125","v":"2024-04-30"},0,0,0,0,0,0,0,0,0,0,0,0]
[{"$f":"'Obligacje skarbowe_podmiot'!A126","v":"2024-05-31"},0,0,0,0,0,0,0,0,0,0,0,0]
[{"$f":"'Obligacje skarbowe_podmiot'!A127","v":"2024-06-30"},0,0,0,0,0,0,0,0,0,0,0,0]
[{"$f":"'Obligacje skarbowe_podmiot'!A128","v":"2024-07-31"},0,0,0,0,0,0,0,0,0,0,0,0]
["2024-08-31",0,0,0,0,0,0,0,0,0,0,0,0]
["2024-09-30",0,0,0,0,0,0,0,0,0,0,0,0]
["2024-10-31",0,0,0,0,0,0,0,0,0,0,0,0]
["2024-11-30",0,0,0,0,0,0,0,0,0,0,0,0]
["2024-12-31",0,0,0,0,0,0,0,0,0,0,0,0]
["2025-01-31",82.9,0,0,0,0,15,0,0,0,50,0,147.9]
["2025-02-28",75.05,0,0,0,0,20,0,0,0,0,0,95.05]
["2025-03-31",137.04999999999998,0,0,0,0,35,0,0,0,0,0,172.04999999999998]

{"sheet":"Razem_podmiot","index":3,"n_rows":136,"n_cols":14,"rows_kept":136,"cut":false,"hidden":false,"merged":[[2,9,3,9],[2,10,3,10],[2,11,3,11],[2,12,3,12],[0,0,1,12],[2,0,3,0],[2,1,3,1],[2,2,3,2],[2,3,3,3],[2,4,3,4],[2,5,3,5],[2,6,3,6],[2,7,3,7],[2,8,3,8]]}
["Struktura podmiotowa nierezydentów w krajowych SPW (mln zł)"]
[]
["Data","Banki","Banki centralne","Instytucje publiczne","Zakłady ubezpieczeniowe","Fundusze emerytalne","Fundusze inwestycyjne","Fundusze hedgingowe","Gospodarstwa domowe","Przedsiębiorstwa niefinansowe","Inne podmioty","Rachunki zbiorcze","Razem"]
[]
[{"$f":"'Obligacje skarbowe_podmiot'!A5","v":"2014-04-30"},{"$f":"'Obligacje skarbowe_podmiot'!B5+'Bony skarbowe_podmiot'!B5","v":11859.357963590001},{"$f":"'Obligacje skarbowe_podmiot'!C5+'Bony skarbowe_podmiot'!C5","v":14430.963776190001},{"$f":"'Obligacje skarbowe_podmiot'!D5+'Bony skarbowe_podmiot'!D5","v":680.11},{"$f":"'Obligacje skarbowe_podmiot'!E5+'Bony skarbowe_podmiot'!E5","v":9105.3702250000006},{"$f":"'Obligacje skarbowe_podmiot'!F5+'Bony skarbowe_podmiot'!F5","v":11936.786626430001},{"$f":"'Obligacje skarbowe_podmiot'!G5+'Bony skarbowe_podmiot'!G5","v":79070.627955809992},{"$f":"'Obligacje skarbowe_podmiot'!H5+'Bony skarbowe_podmiot'!H5","v":93.29},{"$f":"'Obligacje skarbowe_podmiot'!I5+'Bony skarbowe_podmiot'!I5","v":22.290500000000002},{"$f":"'Obligacje skarbowe_podmiot'!J5+'Bony skarbowe_podmiot'!J5","v":12072.483238139999},{"$f":"'Obligacje skarbowe_podmiot'!K5+'Bony skarbowe_podmiot'!K5","v":17970.755849540001},{"$f":"'Obligacje skarbowe_podmiot'!L5+'Bony skarbowe_podmiot'!L5","v":30397.89447363},{"$f":"'Obligacje skarbowe_podmiot'!M5+'Bony skarbowe_podmiot'!M5","v":187639.93060833}]
[{"$f":"'Obligacje skarbowe_podmiot'!A6","v":"2014-05-31"},{"$f":"'Obligacje skarbowe_podmiot'!B6+'Bony skarbowe_podmiot'!B6","v":10461.622015860001},{"$f":"'Obligacje skarbowe_podmiot'!C6+'Bony skarbowe_podmiot'!C6","v":17316.546403460001},{"$f":"'Obligacje skarbowe_podmiot'!D6+'Bony skarbowe_podmiot'!D6","v":693.11},{"$f":"'Obligacje skarbowe_podmiot'!E6+'Bony skarbowe_podmiot'!E6","v":9369.4},{"$f":"'Obligacje skarbowe_podmiot'!F6+'Bony skarbowe_podmiot'!F6","v":12164.932128929999},{"$f":"'Obligacje skarbowe_podmiot'!G6+'Bony skarbowe_podmiot'!G6","v":80214.312076260016},{"$f":"'Obligacje skarbowe_podmiot'!H6+'Bony skarbowe_podmiot'!H6","v":91.19},{"$f":"'Obligacje skarbowe_podmiot'!I6+'Bony skarbowe_podmiot'!I6","v":20.4282},{"$f":"'Obligacje skarbowe_podmiot'!J6+'Bony skarbowe_podmiot'!J6","v":12552.153947789999},{"$f":"'Obligacje skarbowe_podmiot'!K6+'Bony skarbowe_podmiot'!K6","v":15910.563786969999},{"$f":"'Obligacje skarbowe_podmiot'!L6+'Bony skarbowe_podmiot'!L6","v":30859.053028040002},{"$f":"'Obligacje skarbowe_podmiot'!M6+'Bony skarbowe_podmiot'!M6","v":189653.31158731002}]
[{"$f":"'Obligacje skarbowe_podmiot'!A7","v":"2014-06-30"},{"$f":"'Obligacje skarbowe_podmiot'!B7+'Bony skarbowe_podmiot'!B7","v":12619.886563339998},{"$f":"'Obligacje skarbowe_podmiot'!C7+'Bony skarbowe_podmiot'!C7","v":18045.019758210001},{"$f":"'Obligacje skarbowe_podmiot'!D7+'Bony skarbowe_podmiot'!D7","v":719.53499999999997},{"$f":"'Obligacje skarbowe_podmiot'!E7+'Bony skarbowe_podmiot'!E7","v":9529.9159999999993},{"$f":"'Obligacje skarbowe_podmiot'!F7+'Bony skarbowe_podmiot'!F7","v":12296.85143837},{"$f":"'Obligacje skarbowe_podmiot'!G7+'Bony skarbowe_podmiot'!G7","v":83402.576656130012},{"$f":"'Obligacje skarbowe_podmiot'!H7+'Bony skarbowe_podmiot'!H7","v":91.63},{"$f":"'Obligacje skarbowe_podmiot'!I7+'Bony skarbowe_podmiot'!I7","v":20.408300000000001},{"$f":"'Obligacje skarbowe_podmiot'!J7+'Bony skarbowe_podmiot'!J7","v":14200.30861876},{"$f":"'Obligacje skarbowe_podmiot'!K7+'Bony skarbowe_podmiot'!K7","v":16528.533605549997},{"$f":"'Obligacje skarbowe_podmiot'!L7+'Bony skarbowe_podmiot'!L7","v":32366.672462250001},{"$f":"'Obligacje skarbowe_podmiot'!M7+'Bony skarbowe_podmiot'!M7","v":199821.33840261001}]
[{"$f":"'Obligacje skarbowe_podmiot'!A8","v":"2014-07-31"},{"$f":"'Obligacje skarbowe_podmiot'!B8+'Bony skarbowe_podmiot'!B8","v":10840.59403074},{"$f":"'Obligacje skarbowe_podmiot'!C8+'Bony skarbowe_podmiot'!C8","v":18136.763590059996},{"$f":"'Obligacje skarbowe_podmiot'!D8+'Bony skarbowe_podmiot'!D8","v":719.53499999999997},{"$f":"'Obligacje skarbowe_podmiot'!E8+'Bony skarbowe_podmiot'!E8","v":9809.0370000000003},{"$f":"'Obligacje skarbowe_podmiot'!F8+'Bony skarbowe_podmiot'!F8","v":12339.165401570001},{"$f":"'Obligacje skarbowe_podmiot'!G8+'Bony skarbowe_podmiot'!G8","v":79595.780659280004},{"$f":"'Obligacje skarbowe_podmiot'!H8+'Bony skarbowe_podmiot'!H8","v":92.88},{"$f":"'Obligacje skarbowe_podmiot'!I8+'Bony skarbowe_podmiot'!I8","v":20.891500000000001},{"$f":"'Obligacje skarbowe_podmiot'!J8+'Bony skarbowe_podmiot'!J8","v":11903.48760255},{"$f":"'Obligacje skarbowe_podmiot'!K8+'Bony skarbowe_podmiot'!K8","v":19605.84464123},{"$f":"'Obligacje skarbowe_podmiot'!L8+'Bony skarbowe_podmiot'!L8","v":33037.725373269997},{"$f":"'Obligacje skarbowe_podmiot'!M8+'Bony skarbowe_podmiot'!M8","v":196101.70479870003}]
[{"$f":"'Obligacje skarbowe_podmiot'!A9","v":"2014-08-31"},{"$f":"'Obligacje skarbowe_podmiot'!B9+'Bony skarbowe_podmiot'!B9","v":9968.7958705599995},{"$f":"'Obligacje skarbowe_podmiot'!C9+'Bony skarbowe_podmiot'!C9","v":18398.840051970001},{"$f":"'Obligacje skarbowe_podmiot'!D9+'Bony skarbowe_podmiot'!D9","v":717.10500000000002},{"$f":"'Obligacje skarbowe_podmiot'!E9+'Bony skarbowe_podmiot'!E9","v":10684.523999999999},{"$f":"'Obligacje skarbowe_podmiot'!F9+'Bony skarbowe_podmiot'!F9","v":12226.455344369999},{"$f":"'Obligacje skarbowe_podmiot'!G9+'Bony skarbowe_podmiot'!G9","v":79988.735195989997},{"$f":"'Obligacje skarbowe_podmiot'!H9+'Bony skarbowe_podmiot'!H9","v":84.67},{"$f":"'Obligacje skarbowe_podmiot'!I9+'Bony skarbowe_podmiot'!I9","v":20.8184},{"$f":"'Obligacje skarbowe_podmiot'!J9+'Bony skarbowe_podmiot'!J9","v":12300.272474739999},{"$f":"'Obligacje skarbowe_podmiot'!K9+'Bony skarbowe_podmiot'!K9","v":18630.295272679999},{"$f":"'Obligacje skarbowe_podmiot'!L9+'Bony skarbowe_podmiot'!L9","v":30106.787081029997},{"$f":"'Obligacje skarbowe_podmiot'!M9+'Bony skarbowe_podmiot'!M9","v":193127.29869133997}]
[{"$f":"'Obligacje skarbowe_podmiot'!A10","v":"2014-09-30"},{"$f":"'Obligacje skarbowe_podmiot'!B10+'Bony skarbowe_podmiot'!B10","v":12063.889639030001},{"$f":"'Obligacje skarbowe_podmiot'!C10+'Bony skarbowe_podmiot'!C10","v":19312.38062657},{"$f":"'Obligacje skarbowe_podmiot'!D10+'Bony skarbowe_podmiot'!D10","v":549.02499999999998},{"$f":"'Obligacje skarbowe_podmiot'!E10+'Bony skarbowe_podmiot'!E10","v":10939.148999999999},{"$f":"'Obligacje skarbowe_podmiot'!F10+'Bony skarbowe_podmiot'!F10","v":12719.462012739999},{"$f":"'Obligacje skarbowe_podmiot'!G10+'Bony skarbowe_podmiot'!G10","v":80785.264746930014},{"$f":"'Obligacje skarbowe_podmiot'!H10+'Bony skarbowe_podmiot'!H10","v":83.224999999999994},{"$f":"'Obligacje skarbowe_podmiot'!I10+'Bony skarbowe_podmiot'!I10","v":20.804400000000001},{"$f":"'Obligacje skarbowe_podmiot'!J10+'Bony skarbowe_podmiot'!J10","v":12221.721217979999},{"$f":"'Obligacje skarbowe_podmiot'!K10+'Bony skarbowe_podmiot'!K10","v":17675.760415029999},{"$f":"'Obligacje skarbowe_podmiot'!L10+'Bony skarbowe_podmiot'!L10","v":31143.437565419998},{"$f":"'Obligacje skarbowe_podmiot'!M10+'Bony skarbowe_podmiot'!M10","v":197514.11962370001}]
[{"$f":"'Obligacje skarbowe_podmiot'!A11","v":"2014-10-31"},{"$f":"'Obligacje skarbowe_podmiot'!B11+'Bony skarbowe_podmiot'!B11","v":14319.63882968},{"$f":"'Obligacje skarbowe_podmiot'!C11+'Bony skarbowe_podmiot'!C11","v":21142.344732680001},{"$f":"'Obligacje skarbowe_podmiot'!D11+'Bony skarbowe_podmiot'!D11","v":501.57499999999999},{"$f":"'Obligacje skarbowe_podmiot'!E11+'Bony skarbowe_podmiot'!E11","v":10399.404},{"$f":"'Obligacje skarbowe_podmiot'!F11+'Bony skarbowe_podmiot'!F11","v":12391.015906870001},{"$f":"'Obligacje skarbowe_podmiot'!G11+'Bony skarbowe_podmiot'!G11","v":77491.896896760009},{"$f":"'Obligacje skarbowe_podmiot'!H11+'Bony skarbowe_podmiot'!H11","v":389.42500000000001},{"$f":"'Obligacje skarbowe_podmiot'!I11+'Bony skarbowe_podmiot'!I11","v":20.8032},{"$f":"'Obligacje skarbowe_podmiot'!J11+'Bony skarbowe_podmiot'!J11","v":11436.92628252},{"$f":"'Obligacje skarbowe_podmiot'!K11+'Bony skarbowe_podmiot'!K11","v":14802.471966229999},{"$f":"'Obligacje skarbowe_podmiot'!L11+'Bony skarbowe_podmiot'!L11","v":32157.977722080002},{"$f":"'Obligacje skarbowe_podmiot'!M11+'Bony skarbowe_podmiot'!M11","v":195053.47953681997}]
[{"$f":"'Obligacje skarbowe_podmiot'!A12","v":"2014-11-30"},{"$f":"'Obligacje skarbowe_podmiot'!B12+'Bony skarbowe_podmiot'!B12","v":9895.5501391200014},{"$f":"'Obligacje skarbowe_podmiot'!C12+'Bony skarbowe_podmiot'!C12","v":15576.904418779999},{"$f":"'Obligacje skarbowe_podmiot'!D12+'Bony skarbowe_podmiot'!D12","v":8794.0550000000003},{"$f":"'Obligacje skarbowe_podmiot'!E12+'Bony skarbowe_podmiot'!E12","v":10524.984},{"$f":"'Obligacje skarbowe_podmiot'!F12+'Bony skarbowe_podmiot'!F12","v":12754.525984309999},{"$f":"'Obligacje skarbowe_podmiot'!G12+'Bony skarbowe_podmiot'!G12","v":78754.877056070007},{"$f":"'Obligacje skarbowe_podmiot'!H12+'Bony skarbowe_podmiot'!H12","v":600.98500000000001},{"$f":"'Obligacje skarbowe_podmiot'!I12+'Bony skarbowe_podmiot'!I12","v":19.370100000000001},{"$f":"'Obligacje skarbowe_podmiot'!J12+'Bony skarbowe_podmiot'!J12","v":12083.898069400002},{"$f":"'Obligacje skarbowe_podmiot'!K12+'Bony skarbowe_podmiot'!K12","v":14820.44708844},{"$f":"'Obligacje skarbowe_podmiot'!L12+'Bony skarbowe_podmiot'!L12","v":32783.31824773},{"$f":"'Obligacje skarbowe_podmiot'!M12+'Bony skarbowe_podmiot'!M12","v":196608.91510384998}]
[{"$f":"'Obligacje skarbowe_podmiot'!A13","v":"2014-12-31"},{"$f":"'Obligacje skarbowe_podmiot'!B13+'Bony skarbowe_podmiot'!B13","v":9936.517462859998},{"$f":"'Obligacje skarbowe_podmiot'!C13+'Bony skarbowe_podmiot'!C13","v":16412.56812227},{"$f":"'Obligacje skarbowe_podmiot'!D13+'Bony skarbowe_podmiot'!D13","v":8067.3249999999998},{"$f":"'Obligacje skarbowe_podmiot'!E13+'Bony skarbowe_podmiot'!E13","v":10721.279},{"$f":"'Obligacje skarbowe_podmiot'!F13+'Bony skarbowe_podmiot'!F13","v":12995.525370959998},{"$f":"'Obligacje skarbowe_podmiot'!G13+'Bony skarbowe_podmiot'!G13","v":78128.555095610005},{"$f":"'Obligacje skarbowe_podmiot'!H13+'Bony skarbowe_podmiot'!H13","v":755.70500000000004},{"$f":"'Obligacje skarbowe_podmiot'!I13+'Bony skarbowe_podmiot'!I13","v":19.100300000000001},{"$f":"'Obligacje skarbowe_podmiot'!J13+'Bony skarbowe_podmiot'!J13","v":11641.072350100001},{"$f":"'Obligacje skarbowe_podmiot'!K13+'Bony skarbowe_podmiot'!K13","v":14290.08441822},{"$f":"'Obligacje skarbowe_podmiot'!L13+'Bony skarbowe_podmiot'!L13","v":33018.230698220003},{"$f":"'Obligacje skarbowe_podmiot'!M13+'Bony skarbowe_podmiot'!M13","v":195985.96281823999}]
[{"$f":"'Obligacje skarbowe_podmiot'!A14","v":"2015-01-31"},{"$f":"'Obligacje skarbowe_podmiot'!B14+'Bony skarbowe_podmiot'!B14","v":13290.68867068},{"$f":"'Obligacje skarbowe_podmiot'!C14+'Bony skarbowe_podmiot'!C14","v":17401.360580249999},{"$f":"'Obligacje skarbowe_podmiot'!D14+'Bony skarbowe_podmiot'!D14","v":8129.83},{"$f":"'Obligacje skarbowe_podmiot'!E14+'Bony skarbowe_podmiot'!E14","v":10580.214},{"$f":"'Obligacje skarbowe_podmiot'!F14+'Bony skarbowe_podmiot'!F14","v":12692.8472604},{"$f":"'Obligacje skarbowe_podmiot'!G14+'Bony skarbowe_podmiot'!G14","v":81094.799982690005},{"$f":"'Obligacje skarbowe_podmiot'!H14+'Bony skarbowe_podmiot'!H14","v":743.63499999999999},{"$f":"'Obligacje skarbowe_podmiot'!I14+'Bony skarbowe_podmiot'!I14","v":16.5062},{"$f":"'Obligacje skarbowe_podmiot'!J14+'Bony skarbowe_podmiot'!J14","v":11633.007144360001},{"$f":"'Obligacje skarbowe_podmiot'!K14+'Bony skarbowe_podmiot'!K14","v":15761.438910360001},{"$f":"'Obligacje skarbowe_podmiot'!L14+'Bony skarbowe_podmiot'!L14","v":31179.275542349998},{"$f":"'Obligacje skarbowe_podmiot'!M14+'Bony skarbowe_podmiot'!M14","v":202523.60329109}]
[{"$f":"'Obligacje skarbowe_podmiot'!A15","v":"2015-02-28"},{"$f":"'Obligacje skarbowe_podmiot'!B15+'Bony skarbowe_podmiot'!B15","v":11135.923053350001},{"$f":"'Obligacje skarbowe_podmiot'!C15+'Bony skarbowe_podmiot'!C15","v":18525.07819298},{"$f":"'Obligacje skarbowe_podmiot'!D15+'Bony skarbowe_podmiot'!D15","v":8523.8430000000008},{"$f":"'Obligacje skarbowe_podmiot'!E15+'Bony skarbowe_podmiot'!E15","v":10167.744000000001},{"$f":"'Obligacje skarbowe_podmiot'!F15+'Bony skarbowe_podmiot'!F15","v":13310.733623040001},{"$f":"'Obligacje skarbowe_podmiot'!G15+'Bony skarbowe_podmiot'!G15","v":81582.286310449999},{"$f":"'Obligacje skarbowe_podmiot'!H15+'Bony skarbowe_podmiot'!H15","v":1131.585},{"$f":"'Obligacje skarbowe_podmiot'!I15+'Bony skarbowe_podmiot'!I15","v":16.564900000000002},{"$f":"'Obligacje skarbowe_podmiot'!J15+'Bony skarbowe_podmiot'!J15","v":8087.20181908},{"$f":"'Obligacje skarbowe_podmiot'!K15+'Bony skarbowe_podmiot'!K15","v":17344.130044730002},{"$f":"'Obligacje skarbowe_podmiot'!L15+'Bony skarbowe_podmiot'!L15","v":32314.109809530004},{"$f":"'Obligacje skarbowe_podmiot'!M15+'Bony skarbowe_podmiot'!M15","v":202139.19975315998}]
[{"$f":"'Obligacje skarbowe_podmiot'!A16","v":"2015-03-31"},{"$f":"'Obligacje skarbowe_podmiot'!B16+'Bony skarbowe_podmiot'!B16","v":9898.1387712900014},{"$f":"'Obligacje skarbowe_podmiot'!C16+'Bony skarbowe_podmiot'!C16","v":20336.784857070004},{"$f":"'Obligacje skarbowe_podmiot'!D16+'Bony skarbowe_podmiot'!D16","v":8815.7530000000006},{"$f":"'Obligacje skarbowe_podmiot'!E16+'Bony skarbowe_podmiot'!E16","v":11019.790999999999},{"$f":"'Obligacje skarbowe_podmiot'!F16+'Bony skarbowe_podmiot'!F16","v":13175.78635876},{"$f":"'Obligacje skarbowe_podmiot'!G16+'Bony skarbowe_podmiot'!G16","v":80150.455804040015},{"$f":"'Obligacje skarbowe_podmiot'!H16+'Bony skarbowe_podmiot'!H16","v":1088.4849999999999},{"$f":"'Obligacje skarbowe_podmiot'!I16+'Bony skarbowe_podmiot'!I16","v":15.9474},{"$f":"'Obligacje skarbowe_podmiot'!J16+'Bony skarbowe_podmiot'!J16","v":8218.0064256700007},{"$f":"'Obligacje skarbowe_podmiot'!K16+'Bony skarbowe_podmiot'!K16","v":17008.599942110002},{"$f":"'Obligacje skarbowe_podmiot'!L16+'Bony skarbowe_podmiot'!L16","v":34064.24987285},{"$f":"'Obligacje skarbowe_podmiot'!M16+'Bony skarbowe_podmiot'!M16","v":203791.99843179001}]
[{"$f":"'Obligacje skarbowe_podmiot'!A17","v":"2015-04-30"},{"$f":"'Obligacje skarbowe_podmiot'!B17+'Bony skarbowe_podmiot'!B17","v":12363.51147727},{"$f":"'Obligacje skarbowe_podmiot'!C17+'Bony skarbowe_podmiot'!C17","v":22212.040121359998},{"$f":"'Obligacje skarbowe_podmiot'!D17+'Bony skarbowe_podmiot'!D17","v":8966.6830000000009},{"$f":"'Obligacje skarbowe_podmiot'!E17+'Bony skarbowe_podmiot'!E17","v":9848.5220000000008},{"$f":"'Obligacje skarbowe_podmiot'!F17+'Bony skarbowe_podmiot'!F17","v":13063.470087239999},{"$f":"'Obligacje skarbowe_podmiot'!G17+'Bony skarbowe_podmiot'!G17","v":72320.884472940001},{"$f":"'Obligacje skarbowe_podmiot'!H17+'Bony skarbowe_podmiot'!H17","v":1086.77},{"$f":"'Obligacje skarbowe_podmiot'!I17+'Bony skarbowe_podmiot'!I17","v":16.055399999999999},{"$f":"'Obligacje skarbowe_podmiot'!J17+'Bony skarbowe_podmiot'!J17","v":7804.5216676299997},{"$f":"'Obligacje skarbowe_podmiot'!K17+'Bony skarbowe_podmiot'!K17","v":16880.633034850001},{"$f":"'Obligacje skarbowe_podmiot'!L17+'Bony skarbowe_podmiot'!L17","v":34027.016767460002},{"$f":"'Obligacje skarbowe_podmiot'!M17+'Bony skarbowe_podmiot'!M17","v":198590.10802875002}]
[{"$f":"'Obligacje skarbowe_podmiot'!A18","v":"2015-05-31"},{"$f":"'Obligacje skarbowe_podmiot'!B18+'Bony skarbowe_podmiot'!B18","v":12680.480871700001},{"$f":"'Obligacje skarbowe_podmiot'!C18+'Bony skarbowe_podmiot'!C18","v":23071.438335039998},{"$f":"'Obligacje skarbowe_podmiot'!D18+'Bony skarbowe_podmiot'!D18","v":9347.223},{"$f":"'Obligacje skarbowe_podmiot'!E18+'Bony skarbowe_podmiot'!E18","v":10605.7806994},{"$f":"'Obligacje skarbowe_podmiot'!F18+'Bony skarbowe_podmiot'!F18","v":12244.673258639999},{"$f":"'Obligacje skarbowe_podmiot'!G18+'Bony skarbowe_podmiot'!G18","v":70752.791269179987},{"$f":"'Obligacje skarbowe_podmiot'!H18+'Bony skarbowe_podmiot'!H18","v":592.47},{"$f":"'Obligacje skarbowe_podmiot'!I18+'Bony skarbowe_podmiot'!I18","v":16.2989},{"$f":"'Obligacje skarbowe_podmiot'!J18+'Bony skarbowe_podmiot'!J18","v":8528.5723312200007},{"$f":"'Obligacje skarbowe_podmiot'!K18+'Bony skarbowe_podmiot'!K18","v":16484.74964582},{"$f":"'Obligacje skarbowe_podmiot'!L18+'Bony skarbowe_podmiot'!L18","v":35570.306583359998},{"$f":"'Obligacje skarbowe_podmiot'!M18+'Bony skarbowe_podmiot'!M18","v":199894.78489436}]
[{"$f":"'Obligacje skarbowe_podmiot'!A19","v":"2015-06-30"},{"$f":"'Obligacje skarbowe_podmiot'!B19+'Bony skarbowe_podmiot'!B19","v":13960.734456600001},{"$f":"'Obligacje skarbowe_podmiot'!C19+'Bony skarbowe_podmiot'!C19","v":22621.189103199998},{"$f":"'Obligacje skarbowe_podmiot'!D19+'Bony skarbowe_podmiot'!D19","v":9429.6229999999996},{"$f":"'Obligacje skarbowe_podmiot'!E19+'Bony skarbowe_podmiot'!E19","v":11005.338454000001},{"$f":"'Obligacje skarbowe_podmiot'!F19+'Bony skarbowe_podmiot'!F19","v":12380.162872000001},{"$f":"'Obligacje skarbowe_podmiot'!G19+'Bony skarbowe_podmiot'!G19","v":71538.941906979991},{"$f":"'Obligacje skarbowe_podmiot'!H19+'Bony skarbowe_podmiot'!H19","v":40.520000000000003},{"$f":"'Obligacje skarbowe_podmiot'!I19+'Bony skarbowe_podmiot'!I19","v":15.9941},{"$f":"'Obligacje skarbowe_podmiot'!J19+'Bony skarbowe_podmiot'!J19","v":8409.5815201999994},{"$f":"'Obligacje skarbowe_podmiot'!K19+'Bony skarbowe_podmiot'!K19","v":18588.372902580002},{"$f":"'Obligacje skarbowe_podmiot'!L19+'Bony skarbowe_podmiot'!L19","v":35717.270934499997},{"$f":"'Obligacje skarbowe_podmiot'!M19+'Bony skarbowe_podmiot'!M19","v":203707.72925006002}]
[{"$f":"'Obligacje skarbowe_podmiot'!A20","v":"2015-07-31"},{"$f":"'Obligacje skarbowe_podmiot'!B20+'Bony skarbowe_podmiot'!B20","v":13318.340026700002},{"$f":"'Obligacje skarbowe_podmiot'!C20+'Bony skarbowe_podmiot'!C20","v":22874.117899360001},{"$f":"'Obligacje skarbowe_podmiot'!D20+'Bony skarbowe_podmiot'!D20","v":9530.6180000000004},{"$f":"'Obligacje skarbowe_podmiot'!E20+'Bony skarbowe_podmiot'!E20","v":11724.1040636},{"$f":"'Obligacje skarbowe_podmiot'!F20+'Bony skarbowe_podmiot'!F20","v":12889.6127474},{"$f":"'Obligacje skarbowe_podmiot'!G20+'Bony skarbowe_podmiot'!G20","v":70916.36171066},{"$f":"'Obligacje skarbowe_podmiot'!H20+'Bony skarbowe_podmiot'!H20","v":40.520000000000003},{"$f":"'Obligacje skarbowe_podmiot'!I20+'Bony skarbowe_podmiot'!I20","v":16.003299999999999},{"$f":"'Obligacje skarbowe_podmiot'!J20+'Bony skarbowe_podmiot'!J20","v":8103.2731298799999},{"$f":"'Obligacje skarbowe_podmiot'!K20+'Bony skarbowe_podmiot'!K20","v":18733.425517020001},{"$f":"'Obligacje skarbowe_podmiot'!L20+'Bony skarbowe_podmiot'!L20","v":36806.479828119998},{"$f":"'Obligacje skarbowe_podmiot'!M20+'Bony skarbowe_podmiot'!M20","v":204952.85622273997}]
[{"$f":"'Obligacje skarbowe_podmiot'!A21","v":"2015-08-31"},{"$f":"'Obligacje skarbowe_podmiot'!B21+'Bony skarbowe_podmiot'!B21","v":16045.90585662},{"$f":"'Obligacje skarbowe_podmiot'!C21+'Bony skarbowe_podmiot'!C21","v":21081.79589936},{"$f":"'Obligacje skarbowe_podmiot'!D21+'Bony skarbowe_podmiot'!D21","v":9520.509},{"$f":"'Obligacje skarbowe_podmiot'!E21+'Bony skarbowe_podmiot'!E21","v":11564.0581124},{"$f":"'Obligacje skarbowe_podmiot'!F21+'Bony skarbowe_podmiot'!F21","v":13085.2212244},{"$f":"'Obligacje skarbowe_podmiot'!G21+'Bony skarbowe_podmiot'!G21","v":69281.897273779992},{"$f":"'Obligacje skarbowe_podmiot'!H21+'Bony skarbowe_podmiot'!H21","v":40.68},{"$f":"'Obligacje skarbowe_podmiot'!I21+'Bony skarbowe_podmiot'!I21","v":15.7598},{"$f":"'Obligacje skarbowe_podmiot'!J21+'Bony skarbowe_podmiot'!J21","v":7965.3031298799997},{"$f":"'Obligacje skarbowe_podmiot'!K21+'Bony skarbowe_podmiot'!K21","v":18736.072834220002},{"$f":"'Obligacje skarbowe_podmiot'!L21+'Bony skarbowe_podmiot'!L21","v":38268.301175599998},{"$f":"'Obligacje skarbowe_podmiot'!M21+'Bony skarbowe_podmiot'!M21","v":205605.50430626}]
[{"$f":"'Obligacje skarbowe_podmiot'!A22","v":"2015-09-30"},{"$f":"'Obligacje skarbowe_podmiot'!B22+'Bony skarbowe_podmiot'!B22","v":13500.425382949999},{"$f":"'Obligacje skarbowe_podmiot'!C22+'Bony skarbowe_podmiot'!C22","v":28318.255200039999},{"$f":"'Obligacje skarbowe_podmiot'!D22+'Bony skarbowe_podmiot'!D22","v":9742.5010000000002},{"$f":"'Obligacje skarbowe_podmiot'!E22+'Bony skarbowe_podmiot'!E22","v":11597.361627600001},{"$f":"'Obligacje skarbowe_podmiot'!F22+'Bony skarbowe_podmiot'!F22","v":13017.9324302},{"$f":"'Obligacje skarbowe_podmiot'!G22+'Bony skarbowe_podmiot'!G22","v":64687.120638619992},{"$f":"'Obligacje skarbowe_podmiot'!H22+'Bony skarbowe_podmiot'!H22","v":40.18},{"$f":"'Obligacje skarbowe_podmiot'!I22+'Bony skarbowe_podmiot'!I22","v":15.9093},{"$f":"'Obligacje skarbowe_podmiot'!J22+'Bony skarbowe_podmiot'!J22","v":8729.9562081199983},{"$f":"'Obligacje skarbowe_podmiot'!K22+'Bony skarbowe_podmiot'!K22","v":19492.826585769999},{"$f":"'Obligacje skarbowe_podmiot'!L22+'Bony skarbowe_podmiot'!L22","v":39020.101768169996},{"$f":"'Obligacje skarbowe_podmiot'!M22+'Bony skarbowe_podmiot'!M22","v":208162.57014146997}]
[{"$f":"'Obligacje skarbowe_podmiot'!A23","v":"2015-10-31"},{"$f":"'Obligacje skarbowe_podmiot'!B23+'Bony skarbowe_podmiot'!B23","v":15550.164768960001},{"$f":"'Obligacje skarbowe_podmiot'!C23+'Bony skarbowe_podmiot'!C23","v":28597.657168740003},{"$f":"'Obligacje skarbowe_podmiot'!D23+'Bony skarbowe_podmiot'!D23","v":9657.8619999999992},{"$f":"'Obligacje skarbowe_podmiot'!E23+'Bony skarbowe_podmiot'!E23","v":10929.609441100001},{"$f":"'Obligacje skarbowe_podmiot'!F23+'Bony skarbowe_podmiot'!F23","v":12990.622376899999},{"$f":"'Obligacje skarbowe_podmiot'!G23+'Bony skarbowe_podmiot'!G23","v":58571.909620220002},{"$f":"'Obligacje skarbowe_podmiot'!H23+'Bony skarbowe_podmiot'!H23","v":40.18},{"$f":"'Obligacje skarbowe_podmiot'!I23+'Bony skarbowe_podmiot'!I23","v":15.565300000000001},{"$f":"'Obligacje skarbowe_podmiot'!J23+'Bony skarbowe_podmiot'!J23","v":9283.0325080700004},{"$f":"'Obligacje skarbowe_podmiot'!K23+'Bony skarbowe_podmiot'!K23","v":17983.399105349999},{"$f":"'Obligacje skarbowe_podmiot'!L23+'Bony skarbowe_podmiot'!L23","v":42331.307000929999},{"$f":"'Obligacje skarbowe_podmiot'!M23+'Bony skarbowe_podmiot'!M23","v":205951.30929026997}]
[{"$f":"'Obligacje skarbowe_podmiot'!A24","v":"2015-11-30"},{"$f":"'Obligacje skarbowe_podmiot'!B24+'Bony skarbowe_podmiot'!B24","v":11544.152771460002},{"$f":"'Obligacje skarbowe_podmiot'!C24+'Bony skarbowe_podmiot'!C24","v":29122.123696819999},{"$f":"'Obligacje skarbowe_podmiot'!D24+'Bony skarbowe_podmiot'!D24","v":10001.870999999999},{"$f":"'Obligacje skarbowe_podmiot'!E24+'Bony skarbowe_podmiot'!E24","v":11643.355481299999},{"$f":"'Obligacje skarbowe_podmiot'!F24+'Bony skarbowe_podmiot'!F24","v":13609.3943573},{"$f":"'Obligacje skarbowe_podmiot'!G24+'Bony skarbowe_podmiot'!G24","v":59072.633914560007},{"$f":"'Obligacje skarbowe_podmiot'!H24+'Bony skarbowe_podmiot'!H24","v":38.520000000000003},{"$f":"'Obligacje skarbowe_podmiot'!I24+'Bony skarbowe_podmiot'!I24","v":15.8246},{"$f":"'Obligacje skarbowe_podmiot'!J24+'Bony skarbowe_podmiot'!J24","v":9275.4091888100011},{"$f":"'Obligacje skarbowe_podmiot'!K24+'Bony skarbowe_podmiot'!K24","v":19059.964084800002},{"$f":"'Obligacje skarbowe_podmiot'!L24+'Bony skarbowe_podmiot'!L24","v":43182.245269380008},{"$f":"'Obligacje skarbowe_podmiot'!M24+'Bony skarbowe_podmiot'!M24","v":206565.49436443002}]
[{"$f":"'Obligacje skarbowe_podmiot'!A25","v":"2015-12-31"},{"$f":"'Obligacje skarbowe_podmiot'!B25+'Bony skarbowe_podmiot'!B25","v":12704.17779752},{"$f":"'Obligacje skarbowe_podmiot'!C25+'Bony skarbowe_podmiot'!C25","v":30122.743061759997},{"$f":"'Obligacje skarbowe_podmiot'!D25+'Bony skarbowe_podmiot'!D25","v":9378.4779999999992},{"$f":"'Obligacje skarbowe_podmiot'!E25+'Bony skarbowe_podmiot'!E25","v":12441.596856799999},{"$f":"'Obligacje skarbowe_podmiot'!F25+'Bony skarbowe_podmiot'!F25","v":14059.547562399999},{"$f":"'Obligacje skarbowe_podmiot'!G25+'Bony skarbowe_podmiot'!G25","v":54947.634544869994},{"$f":"'Obligacje skarbowe_podmiot'!H25+'Bony skarbowe_podmiot'!H25","v":40.840000000000003},{"$f":"'Obligacje skarbowe_podmiot'!I25+'Bony skarbowe_podmiot'!I25","v":16.997800000000002},{"$f":"'Obligacje skarbowe_podmiot'!J25+'Bony skarbowe_podmiot'!J25","v":9095.8838385799991},{"$f":"'Obligacje skarbowe_podmiot'!K25+'Bony skarbowe_podmiot'!K25","v":19013.592396060001},{"$f":"'Obligacje skarbowe_podmiot'!L25+'Bony skarbowe_podmiot'!L25","v":44938.05586439},{"$f":"'Obligacje skarbowe_podmiot'!M25+'Bony skarbowe_podmiot'!M25","v":206759.54772237997}]
[{"$f":"'Obligacje skarbowe_podmiot'!A26","v":"2016-01-31"},{"$f":"'Obligacje skarbowe_podmiot'!B26+'Bony skarbowe_podmiot'!B26","v":16684.285761409999},{"$f":"'Obligacje skarbowe_podmiot'!C26+'Bony skarbowe_podmiot'!C26","v":29314.372493759998},{"$f":"'Obligacje skarbowe_podmiot'!D26+'Bony skarbowe_podmiot'!D26","v":9442.2340000000004},{"$f":"'Obligacje skarbowe_podmiot'!E26+'Bony skarbowe_podmiot'!E26","v":12249.122776799999},{"$f":"'Obligacje skarbowe_podmiot'!F26+'Bony skarbowe_podmiot'!F26","v":13390.5589944},{"$f":"'Obligacje skarbowe_podmiot'!G26+'Bony skarbowe_podmiot'!G26","v":47737.17085717},{"$f":"'Obligacje skarbowe_podmiot'!H26+'Bony skarbowe_podmiot'!H26","v":40.840000000000003},{"$f":"'Obligacje skarbowe_podmiot'!I26+'Bony skarbowe_podmiot'!I26","v":17.206399999999999},{"$f":"'Obligacje skarbowe_podmiot'!J26+'Bony skarbowe_podmiot'!J26","v":6434.91576558},{"$f":"'Obligacje skarbowe_podmiot'!K26+'Bony skarbowe_podmiot'!K26","v":17816.052710760003},{"$f":"'Obligacje skarbowe_podmiot'!L26+'Bony skarbowe_podmiot'!L26","v":40571.803377340002},{"$f":"'Obligacje skarbowe_podmiot'!M26+'Bony skarbowe_podmiot'!M26","v":193698.56313721999}]
[{"$f":"'Obligacje skarbowe_podmiot'!A27","v":"2016-02-29"},{"$f":"'Obligacje skarbowe_podmiot'!B27+'Bony skarbowe_podmiot'!B27","v":14825.675489800002},{"$f":"'Obligacje skarbowe_podmiot'!C27+'Bony skarbowe_podmiot'!C27","v":29182.491811579999},{"$f":"'Obligacje skarbowe_podmiot'!D27+'Bony skarbowe_podmiot'!D27","v":9440.0849999999991},{"$f":"'Obligacje skarbowe_podmiot'!E27+'Bony skarbowe_podmiot'!E27","v":11408.5978968},{"$f":"'Obligacje skarbowe_podmiot'!F27+'Bony skarbowe_podmiot'!F27","v":13386.821243},{"$f":"'Obligacje skarbowe_podmiot'!G27+'Bony skarbowe_podmiot'!G27","v":41096.206988940001},{"$f":"'Obligacje skarbowe_podmiot'!H27+'Bony skarbowe_podmiot'!H27","v":40.840000000000003},{"$f":"'Obligacje skarbowe_podmiot'!I27+'Bony skarbowe_podmiot'!I27","v":17.236699999999999},{"$f":"'Obligacje skarbowe_podmiot'!J27+'Bony skarbowe_podmiot'!J27","v":6580.9563562200001},{"$f":"'Obligacje skarbowe_podmiot'!K27+'Bony skarbowe_podmiot'!K27","v":17734.486242179999},{"$f":"'Obligacje skarbowe_podmiot'!L27+'Bony skarbowe_podmiot'!L27","v":42884.723623059996},{"$f":"'Obligacje skarbowe_podmiot'!M27+'Bony skarbowe_podmiot'!M27","v":186598.12135158002}]
[{"$f":"'Obligacje skarbowe_podmiot'!A28","v":"2016-03-31"},{"$f":"'Obligacje skarbowe_podmiot'!B28+'Bony skarbowe_podmiot'!B28","v":19346.279876500001},{"$f":"'Obligacje skarbowe_podmiot'!C28+'Bony skarbowe_podmiot'!C28","v":27744.17252348},{"$f":"'Obligacje skarbowe_podmiot'!D28+'Bony skarbowe_podmiot'!D28","v":9479.6579999999994},{"$f":"'Obligacje skarbowe_podmiot'!E28+'Bony skarbowe_podmiot'!E28","v":11871.087356799999},{"$f":"'Obligacje skarbowe_podmiot'!F28+'Bony skarbowe_podmiot'!F28","v":13768.4277946},{"$f":"'Obligacje skarbowe_podmiot'!G28+'Bony skarbowe_podmiot'!G28","v":41749.743608980003},{"$f":"'Obligacje skarbowe_podmiot'!H28+'Bony skarbowe_podmiot'!H28","v":43.49},{"$f":"'Obligacje skarbowe_podmiot'!I28+'Bony skarbowe_podmiot'!I28","v":18.100999999999999},{"$f":"'Obligacje skarbowe_podmiot'!J28+'Bony skarbowe_podmiot'!J28","v":6711.1382029200004},{"$f":"'Obligacje skarbowe_podmiot'!K28+'Bony skarbowe_podmiot'!K28","v":17238.997737639998},{"$f":"'Obligacje skarbowe_podmiot'!L28+'Bony skarbowe_podmiot'!L28","v":42243.494168260004},{"$f":"'Obligacje skarbowe_podmiot'!M28+'Bony skarbowe_podmiot'!M28","v":190214.59026917999}]
[{"$f":"'Obligacje skarbowe_podmiot'!A29","v":"2016-04-30"},{"$f":"'Obligacje skarbowe_podmiot'!B29+'Bony skarbowe_podmiot'!B29","v":12422.697327309999},{"$f":"'Obligacje skarbowe_podmiot'!C29+'Bony skarbowe_podmiot'!C29","v":28245.14566591},{"$f":"'Obligacje skarbowe_podmiot'!D29+'Bony skarbowe_podmiot'!D29","v":8863.0139999999992},{"$f":"'Obligacje skarbowe_podmiot'!E29+'Bony skarbowe_podmiot'!E29","v":10808.812951600001},{"$f":"'Obligacje skarbowe_podmiot'!F29+'Bony skarbowe_podmiot'!F29","v":13733.185650399999},{"$f":"'Obligacje skarbowe_podmiot'!G29+'Bony skarbowe_podmiot'!G29","v":40687.984133960003},{"$f":"'Obligacje skarbowe_podmiot'!H29+'Bony skarbowe_podmiot'!H29","v":64.44},{"$f":"'Obligacje skarbowe_podmiot'!I29+'Bony skarbowe_podmiot'!I29","v":18.156099999999999},{"$f":"'Obligacje skarbowe_podmiot'!J29+'Bony skarbowe_podmiot'!J29","v":6227.1124517899998},{"$f":"'Obligacje skarbowe_podmiot'!K29+'Bony skarbowe_podmiot'!K29","v":16924.287583190002},{"$f":"'Obligacje skarbowe_podmiot'!L29+'Bony skarbowe_podmiot'!L29","v":50326.730086110001},{"$f":"'Obligacje skarbowe_podmiot'!M29+'Bony skarbowe_podmiot'!M29","v":188321.56595027001}]
[{"$f":"'Obligacje skarbowe_podmiot'!A30","v":"2016-05-31"},{"$f":"'Obligacje skarbowe_podmiot'!B30+'Bony skarbowe_podmiot'!B30","v":11594.718820449998},{"$f":"'Obligacje skarbowe_podmiot'!C30+'Bony skarbowe_podmiot'!C30","v":29479.63402895},{"$f":"'Obligacje skarbowe_podmiot'!D30+'Bony skarbowe_podmiot'!D30","v":8903.9680000000008},{"$f":"'Obligacje skarbowe_podmiot'!E30+'Bony skarbowe_podmiot'!E30","v":11300.799193999999},{"$f":"'Obligacje skarbowe_podmiot'!F30+'Bony skarbowe_podmiot'!F30","v":14441.44348695},{"$f":"'Obligacje skarbowe_podmiot'!G30+'Bony skarbowe_podmiot'!G30","v":42327.140582650005},{"$f":"'Obligacje skarbowe_podmiot'!H30+'Bony skarbowe_podmiot'!H30","v":77.97},{"$f":"'Obligacje skarbowe_podmiot'!I30+'Bony skarbowe_podmiot'!I30","v":18.636399999999998},{"$f":"'Obligacje skarbowe_podmiot'!J30+'Bony skarbowe_podmiot'!J30","v":6508.76629985},{"$f":"'Obligacje skarbowe_podmiot'!K30+'Bony skarbowe_podmiot'!K30","v":18083.979913250001},{"$f":"'Obligacje skarbowe_podmiot'!L30+'Bony skarbowe_podmiot'!L30","v":49838.616453949995},{"$f":"'Obligacje skarbowe_podmiot'!M30+'Bony skarbowe_podmiot'!M30","v":192575.67318004998}]
[{"$f":"'Obligacje skarbowe_podmiot'!A31","v":"2016-06-30"},{"$f":"'Obligacje skarbowe_podmiot'!B31+'Bony skarbowe_podmiot'!B31","v":12592.560795709998},{"$f":"'Obligacje skarbowe_podmiot'!C31+'Bony skarbowe_podmiot'!C31","v":29494.412596990001},{"$f":"'Obligacje skarbowe_podmiot'!D31+'Bony skarbowe_podmiot'!D31","v":8852.3077901599991},{"$f":"'Obligacje skarbowe_podmiot'!E31+'Bony skarbowe_podmiot'!E31","v":11755.169634799999},{"$f":"'Obligacje skarbowe_podmiot'!F31+'Bony skarbowe_podmiot'!F31","v":14483.56388869},{"$f":"'Obligacje skarbowe_podmiot'!G31+'Bony skarbowe_podmiot'!G31","v":42990.724163110004},{"$f":"'Obligacje skarbowe_podmiot'!H31+'Bony skarbowe_podmiot'!H31","v":79.97},{"$f":"'Obligacje skarbowe_podmiot'!I31+'Bony skarbowe_podmiot'!I31","v":19.3507},{"$f":"'Obligacje skarbowe_podmiot'!J31+'Bony skarbowe_podmiot'!J31","v":7053.33397487},{"$f":"'Obligacje skarbowe_podmiot'!K31+'Bony skarbowe_podmiot'!K31","v":17260.970877159998},{"$f":"'Obligacje skarbowe_podmiot'!L31+'Bony skarbowe_podmiot'!L31","v":51952.497951370002},{"$f":"'Obligacje skarbowe_podmiot'!M31+'Bony skarbowe_podmiot'!M31","v":196534.86237285996}]
[{"$f":"'Obligacje skarbowe_podmiot'!A32","v":"2016-07-31"},{"$f":"'Obligacje skarbowe_podmiot'!B32+'Bony skarbowe_podmiot'!B32","v":11364.2174509},{"$f":"'Obligacje skarbowe_podmiot'!C32+'Bony skarbowe_podmiot'!C32","v":28589.633727330001},{"$f":"'Obligacje skarbowe_podmiot'!D32+'Bony skarbowe_podmiot'!D32","v":9032.1077050000004},{"$f":"'Obligacje skarbowe_podmiot'!E32+'Bony skarbowe_podmiot'!E32","v":9769.5676115999995},{"$f":"'Obligacje skarbowe_podmiot'!F32+'Bony skarbowe_podmiot'!F32","v":14574.589701229999},{"$f":"'Obligacje skarbowe_podmiot'!G32+'Bony skarbowe_podmiot'!G32","v":41718.755379870003},{"$f":"'Obligacje skarbowe_podmiot'!H32+'Bony skarbowe_podmiot'!H32","v":79.67},{"$f":"'Obligacje skarbowe_podmiot'!I32+'Bony skarbowe_podmiot'!I32","v":20.97},{"$f":"'Obligacje skarbowe_podmiot'!J32+'Bony skarbowe_podmiot'!J32","v":6818.1041932899998},{"$f":"'Obligacje skarbowe_podmiot'!K32+'Bony skarbowe_podmiot'!K32","v":17374.878925800003},{"$f":"'Obligacje skarbowe_podmiot'!L32+'Bony skarbowe_podmiot'!L32","v":53495.17115509},{"$f":"'Obligacje skarbowe_podmiot'!M32+'Bony skarbowe_podmiot'!M32","v":192837.66585011}]
[{"$f":"'Obligacje skarbowe_podmiot'!A33","v":"2016-08-31"},{"$f":"'Obligacje skarbowe_podmiot'!B33+'Bony skarbowe_podmiot'!B33","v":10941.552183799999},{"$f":"'Obligacje skarbowe_podmiot'!C33+'Bony skarbowe_podmiot'!C33","v":28460.880827060002},{"$f":"'Obligacje skarbowe_podmiot'!D33+'Bony skarbowe_podmiot'!D33","v":9391.6949999999997},{"$f":"'Obligacje skarbowe_podmiot'!E33+'Bony skarbowe_podmiot'!E33","v":9650.3018712000012},{"$f":"'Obligacje skarbowe_podmiot'!F33+'Bony skarbowe_podmiot'!F33","v":14518.891816860001},{"$f":"'Obligacje skarbowe_podmiot'!G33+'Bony skarbowe_podmiot'!G33","v":43300.606485739998},{"$f":"'Obligacje skarbowe_podmiot'!H33+'Bony skarbowe_podmiot'!H33","v":77.33},{"$f":"'Obligacje skarbowe_podmiot'!I33+'Bony skarbowe_podmiot'!I33","v":21.968599999999999},{"$f":"'Obligacje skarbowe_podmiot'!J33+'Bony skarbowe_podmiot'!J33","v":7054.43086778},{"$f":"'Obligacje skarbowe_podmiot'!K33+'Bony skarbowe_podmiot'!K33","v":18132.206038700002},{"$f":"'Obligacje skarbowe_podmiot'!L33+'Bony skarbowe_podmiot'!L33","v":54894.44775508},{"$f":"'Obligacje skarbowe_podmiot'!M33+'Bony skarbowe_podmiot'!M33","v":196444.31144622}]
[{"$f":"'Obligacje skarbowe_podmiot'!A34","v":"2016-09-30"},{"$f":"'Obligacje skarbowe_podmiot'!B34+'Bony skarbowe_podmiot'!B34","v":11856.32019491},{"$f":"'Obligacje skarbowe_podmiot'!C34+'Bony skarbowe_podmiot'!C34","v":28373.569288810002},{"$f":"'Obligacje skarbowe_podmiot'!D34+'Bony skarbowe_podmiot'!D34","v":9298.2022153999987},{"$f":"'Obligacje skarbowe_podmiot'!E34+'Bony skarbowe_podmiot'!E34","v":10120.851981200001},{"$f":"'Obligacje skarbowe_podmiot'!F34+'Bony skarbowe_podmiot'!F34","v":14551.28340611},{"$f":"'Obligacje skarbowe_podmiot'!G34+'Bony skarbowe_podmiot'!G34","v":44482.57972999},{"$f":"'Obligacje skarbowe_podmiot'!H34+'Bony skarbowe_podmiot'!H34","v":77.17},{"$f":"'Obligacje skarbowe_podmiot'!I34+'Bony skarbowe_podmiot'!I34","v":22.4602},{"$f":"'Obligacje skarbowe_podmiot'!J34+'Bony skarbowe_podmiot'!J34","v":7473.6744205300001},{"$f":"'Obligacje skarbowe_podmiot'!K34+'Bony skarbowe_podmiot'!K34","v":19669.37345495},{"$f":"'Obligacje skarbowe_podmiot'!L34+'Bony skarbowe_podmiot'!L34","v":54640.91553007},{"$f":"'Obligacje skarbowe_podmiot'!M34+'Bony skarbowe_podmiot'!M34","v":200566.40042197}]
[{"$f":"'Obligacje skarbowe_podmiot'!A35","v":"2016-10-31"},{"$f":"'Obligacje skarbowe_podmiot'!B35+'Bony skarbowe_podmiot'!B35","v":10082.34324661},{"$f":"'Obligacje skarbowe_podmiot'!C35+'Bony skarbowe_podmiot'!C35","v":28483.23535689},{"$f":"'Obligacje skarbowe_podmiot'!D35+'Bony skarbowe_podmiot'!D35","v":9355.4920000000002},{"$f":"'Obligacje skarbowe_podmiot'!E35+'Bony skarbowe_podmiot'!E35","v":9396.1117827999988},{"$f":"'Obligacje skarbowe_podmiot'!F35+'Bony skarbowe_podmiot'!F35","v":14390.29402119},{"$f":"'Obligacje skarbowe_podmiot'!G35+'Bony skarbowe_podmiot'!G35","v":36781.937340110002},{"$f":"'Obligacje skarbowe_podmiot'!H35+'Bony skarbowe_podmiot'!H35","v":76.7},{"$f":"'Obligacje skarbowe_podmiot'!I35+'Bony skarbowe_podmiot'!I35","v":21.703199999999999},{"$f":"'Obligacje skarbowe_podmiot'!J35+'Bony skarbowe_podmiot'!J35","v":7808.2915647700002},{"$f":"'Obligacje skarbowe_podmiot'!K35+'Bony skarbowe_podmiot'!K35","v":22420.66148183},{"$f":"'Obligacje skarbowe_podmiot'!L35+'Bony skarbowe_podmiot'!L35","v":59302.619424529999},{"$f":"'Obligacje skarbowe_podmiot'!M35+'Bony skarbowe_podmiot'!M35","v":198119.38941872999}]
[{"$f":"'Obligacje skarbowe_podmiot'!A36","v":"2016-11-30"},{"$f":"'Obligacje skarbowe_podmiot'!B36+'Bony skarbowe_podmiot'!B36","v":9330.6517179799994},{"$f":"'Obligacje skarbowe_podmiot'!C36+'Bony skarbowe_podmiot'!C36","v":29125.451014409999},{"$f":"'Obligacje skarbowe_podmiot'!D36+'Bony skarbowe_podmiot'!D36","v":9494.8559999999998},{"$f":"'Obligacje skarbowe_podmiot'!E36+'Bony skarbowe_podmiot'!E36","v":9340.4108993999998},{"$f":"'Obligacje skarbowe_podmiot'!F36+'Bony skarbowe_podmiot'!F36","v":14298.359011209999},{"$f":"'Obligacje skarbowe_podmiot'!G36+'Bony skarbowe_podmiot'!G36","v":32374.256921240001},{"$f":"'Obligacje skarbowe_podmiot'!H36+'Bony skarbowe_podmiot'!H36","v":318.35700000000003},{"$f":"'Obligacje skarbowe_podmiot'!I36+'Bony skarbowe_podmiot'!I36","v":20.470300000000002},{"$f":"'Obligacje skarbowe_podmiot'!J36+'Bony skarbowe_podmiot'!J36","v":7831.1315961299997},{"$f":"'Obligacje skarbowe_podmiot'!K36+'Bony skarbowe_podmiot'!K36","v":21350.31223888},{"$f":"'Obligacje skarbowe_podmiot'!L36+'Bony skarbowe_podmiot'!L36","v":54654.099118320002},{"$f":"'Obligacje skarbowe_podmiot'!M36+'Bony skarbowe_podmiot'!M36","v":188138.35581757}]
[{"$f":"'Obligacje skarbowe_podmiot'!A37","v":"2016-12-31"},{"$f":"'Obligacje skarbowe_podmiot'!B37+'Bony skarbowe_podmiot'!B37","v":9965.7889052800001},{"$f":"'Obligacje skarbowe_podmiot'!C37+'Bony skarbowe_podmiot'!C37","v":28697.224457140001},{"$f":"'Obligacje skarbowe_podmiot'!D37+'Bony skarbowe_podmiot'!D37","v":9887.6041050400017},{"$f":"'Obligacje skarbowe_podmiot'!E37+'Bony skarbowe_podmiot'!E37","v":9447.0674276000009},{"$f":"'Obligacje skarbowe_podmiot'!F37+'Bony skarbowe_podmiot'!F37","v":14173.447640120001},{"$f":"'Obligacje skarbowe_podmiot'!G37+'Bony skarbowe_podmiot'!G37","v":31932.186218139999},{"$f":"'Obligacje skarbowe_podmiot'!H37+'Bony skarbowe_podmiot'!H37","v":296.11700000000002},{"$f":"'Obligacje skarbowe_podmiot'!I37+'Bony skarbowe_podmiot'!I37","v":21.3855},{"$f":"'Obligacje skarbowe_podmiot'!J37+'Bony skarbowe_podmiot'!J37","v":8642.5061380200004},{"$f":"'Obligacje skarbowe_podmiot'!K37+'Bony skarbowe_podmiot'!K37","v":21251.715755820002},{"$f":"'Obligacje skarbowe_podmiot'!L37+'Bony skarbowe_podmiot'!L37","v":58240.70938462},{"$f":"'Obligacje skarbowe_podmiot'!M37+'Bony skarbowe_podmiot'!M37","v":192555.75253177999}]
[{"$f":"'Obligacje skarbowe_podmiot'!A38","v":"2017-01-31"},{"$f":"'Obligacje skarbowe_podmiot'!B38+'Bony skarbowe_podmiot'!B38","v":8801.1493531800006},{"$f":"'Obligacje skarbowe_podmiot'!C38+'Bony skarbowe_podmiot'!C38","v":28212.536519789999},{"$f":"'Obligacje skarbowe_podmiot'!D38+'Bony skarbowe_podmiot'!D38","v":10119.26114072},{"$f":"'Obligacje skarbowe_podmiot'!E38+'Bony skarbowe_podmiot'!E38","v":9684.9622336000011},{"$f":"'Obligacje skarbowe_podmiot'!F38+'Bony skarbowe_podmiot'!F38","v":14786.47100118},{"$f":"'Obligacje skarbowe_podmiot'!G38+'Bony skarbowe_podmiot'!G38","v":34384.226458509991},{"$f":"'Obligacje skarbowe_podmiot'!H38+'Bony skarbowe_podmiot'!H38","v":305.27199999999999},{"$f":"'Obligacje skarbowe_podmiot'!I38+'Bony skarbowe_podmiot'!I38","v":21.707999999999998},{"$f":"'Obligacje skarbowe_podmiot'!J38+'Bony skarbowe_podmiot'!J38","v":8788.437280529999},{"$f":"'Obligacje skarbowe_podmiot'!K38+'Bony skarbowe_podmiot'!K38","v":22245.906897479999},{"$f":"'Obligacje skarbowe_podmiot'!L38+'Bony skarbowe_podmiot'!L38","v":56453.559245330005},{"$f":"'Obligacje skarbowe_podmiot'!M38+'Bony skarbowe_podmiot'!M38","v":193803.49013032002}]
[{"$f":"'Obligacje skarbowe_podmiot'!A39","v":"2017-02-28"},{"$f":"'Obligacje skarbowe_podmiot'!B39+'Bony skarbowe_podmiot'!B39","v":9475.4415879999997},{"$f":"'Obligacje skarbowe_podmiot'!C39+'Bony skarbowe_podmiot'!C39","v":27315.138916779997},{"$f":"'Obligacje skarbowe_podmiot'!D39+'Bony skarbowe_podmiot'!D39","v":10559.283100000001},{"$f":"'Obligacje skarbowe_podmiot'!E39+'Bony skarbowe_podmiot'!E39","v":9854.6423154000004},{"$f":"'Obligacje skarbowe_podmiot'!F39+'Bony skarbowe_podmiot'!F39","v":15232.902026239999},{"$f":"'Obligacje skarbowe_podmiot'!G39+'Bony skarbowe_podmiot'!G39","v":36617.569367979995},{"$f":"'Obligacje skarbowe_podmiot'!H39+'Bony skarbowe_podmiot'!H39","v":327.05399999999997},{"$f":"'Obligacje skarbowe_podmiot'!I39+'Bony skarbowe_podmiot'!I39","v":22.645399999999999},{"$f":"'Obligacje skarbowe_podmiot'!J39+'Bony skarbowe_podmiot'!J39","v":8779.0558909399988},{"$f":"'Obligacje skarbowe_podmiot'!K39+'Bony skarbowe_podmiot'!K39","v":22555.638620439997},{"$f":"'Obligacje skarbowe_podmiot'!L39+'Bony skarbowe_podmiot'!L39","v":54379.242628779997},{"$f":"'Obligacje skarbowe_podmiot'!M39+'Bony skarbowe_podmiot'!M39","v":195118.61385455998}]
[{"$f":"'Obligacje skarbowe_podmiot'!A40","v":"2017-03-31"},{"$f":"'Obligacje skarbowe_podmiot'!B40+'Bony skarbowe_podmiot'!B40","v":8482.1845119400004},{"$f":"'Obligacje skarbowe_podmiot'!C40+'Bony skarbowe_podmiot'!C40","v":31761.051266529998},{"$f":"'Obligacje skarbowe_podmiot'!D40+'Bony skarbowe_podmiot'!D40","v":10649.0515},{"$f":"'Obligacje skarbowe_podmiot'!E40+'Bony skarbowe_podmiot'!E40","v":10038.8452241},{"$f":"'Obligacje skarbowe_podmiot'!F40+'Bony skarbowe_podmiot'!F40","v":15600.44747424},{"$f":"'Obligacje skarbowe_podmiot'!G40+'Bony skarbowe_podmiot'!G40","v":38546.555016929997},{"$f":"'Obligacje skarbowe_podmiot'!H40+'Bony skarbowe_podmiot'!H40","v":490.19900000000001},{"$f":"'Obligacje skarbowe_podmiot'!I40+'Bony skarbowe_podmiot'!I40","v":23.662800000000001},{"$f":"'Obligacje skarbowe_podmiot'!J40+'Bony skarbowe_podmiot'!J40","v":8821.9422976899987},{"$f":"'Obligacje skarbowe_podmiot'!K40+'Bony skarbowe_podmiot'!K40","v":23926.175404540001},{"$f":"'Obligacje skarbowe_podmiot'!L40+'Bony skarbowe_podmiot'!L40","v":56689.005536789999},{"$f":"'Obligacje skarbowe_podmiot'!M40+'Bony skarbowe_podmiot'!M40","v":205029.12003275999}]
[{"$f":"'Obligacje skarbowe_podmiot'!A41","v":"2017-04-30"},{"$f":"'Obligacje skarbowe_podmiot'!B41+'Bony skarbowe_podmiot'!B41","v":7414.6469603400001},{"$f":"'Obligacje skarbowe_podmiot'!C41+'Bony skarbowe_podmiot'!C41","v":31153.745535409998},{"$f":"'Obligacje skarbowe_podmiot'!D41+'Bony skarbowe_podmiot'!D41","v":10911.052},{"$f":"'Obligacje skarbowe_podmiot'!E41+'Bony skarbowe_podmiot'!E41","v":9971.2362777000017},{"$f":"'Obligacje skarbowe_podmiot'!F41+'Bony skarbowe_podmiot'!F41","v":16124.912257280001},{"$f":"'Obligacje skarbowe_podmiot'!G41+'Bony skarbowe_podmiot'!G41","v":39950.877384250001},{"$f":"'Obligacje skarbowe_podmiot'!H41+'Bony skarbowe_podmiot'!H41","v":532.28599999999994},{"$f":"'Obligacje skarbowe_podmiot'!I41+'Bony skarbowe_podmiot'!I41","v":39.933500000000002},{"$f":"'Obligacje skarbowe_podmiot'!J41+'Bony skarbowe_podmiot'!J41","v":8696.416022630001},{"$f":"'Obligacje skarbowe_podmiot'!K41+'Bony skarbowe_podmiot'!K41","v":26709.312889479999},{"$f":"'Obligacje skarbowe_podmiot'!L41+'Bony skarbowe_podmiot'!L41","v":58716.325768620001},{"$f":"'Obligacje skarbowe_podmiot'!M41+'Bony skarbowe_podmiot'!M41","v":210220.74459570998}]
[{"$f":"'Obligacje skarbowe_podmiot'!A42","v":"2017-05-31"},{"$f":"'Obligacje skarbowe_podmiot'!B42+'Bony skarbowe_podmiot'!B42","v":6166.3871023199999},{"$f":"'Obligacje skarbowe_podmiot'!C42+'Bony skarbowe_podmiot'!C42","v":30434.989819029997},{"$f":"'Obligacje skarbowe_podmiot'!D42+'Bony skarbowe_podmiot'!D42","v":12267.411},{"$f":"'Obligacje skarbowe_podmiot'!E42+'Bony skarbowe_podmiot'!E42","v":10075.2686491},{"$f":"'Obligacje skarbowe_podmiot'!F42+'Bony skarbowe_podmiot'!F42","v":16054.336394239999},{"$f":"'Obligacje skarbowe_podmiot'!G42+'Bony skarbowe_podmiot'!G42","v":39485.722358449995},{"$f":"'Obligacje skarbowe_podmiot'!H42+'Bony skarbowe_podmiot'!H42","v":541.61199999999997},{"$f":"'Obligacje skarbowe_podmiot'!I42+'Bony skarbowe_podmiot'!I42","v":47.333100000000002},{"$f":"'Obligacje skarbowe_podmiot'!J42+'Bony skarbowe_podmiot'!J42","v":8561.6412182900003},{"$f":"'Obligacje skarbowe_podmiot'!K42+'Bony skarbowe_podmiot'!K42","v":26017.958466839998},{"$f":"'Obligacje skarbowe_podmiot'!L42+'Bony skarbowe_podmiot'!L42","v":59948.239157660006},{"$f":"'Obligacje skarbowe_podmiot'!M42+'Bony skarbowe_podmiot'!M42","v":209600.89926593}]
[{"$f":"'Obligacje skarbowe_podmiot'!A43","v":"2017-06-30"},{"$f":"'Obligacje skarbowe_podmiot'!B43+'Bony skarbowe_podmiot'!B43","v":8677.0476326399985},{"$f":"'Obligacje skarbowe_podmiot'!C43+'Bony skarbowe_podmiot'!C43","v":27986.983838960001},{"$f":"'Obligacje skarbowe_podmiot'!D43+'Bony skarbowe_podmiot'!D43","v":11869.043},{"$f":"'Obligacje skarbowe_podmiot'!E43+'Bony skarbowe_podmiot'!E43","v":10094.057871200001},{"$f":"'Obligacje skarbowe_podmiot'!F43+'Bony skarbowe_podmiot'!F43","v":17241.350655680002},{"$f":"'Obligacje skarbowe_podmiot'!G43+'Bony skarbowe_podmiot'!G43","v":40076.822718000003},{"$f":"'Obligacje skarbowe_podmiot'!H43+'Bony skarbowe_podmiot'!H43","v":1273.252},{"$f":"'Obligacje skarbowe_podmiot'!I43+'Bony skarbowe_podmiot'!I43","v":48.4495},{"$f":"'Obligacje skarbowe_podmiot'!J43+'Bony skarbowe_podmiot'!J43","v":8648.0494752799987},{"$f":"'Obligacje skarbowe_podmiot'!K43+'Bony skarbowe_podmiot'!K43","v":25991.200720479999},{"$f":"'Obligacje skarbowe_podmiot'!L43+'Bony skarbowe_podmiot'!L43","v":59910.907861199994},{"$f":"'Obligacje skarbowe_podmiot'!M43+'Bony skarbowe_podmiot'!M43","v":211817.16527343998}]
[{"$f":"'Obligacje skarbowe_podmiot'!A44","v":"2017-07-31"},{"$f":"'Obligacje skarbowe_podmiot'!B44+'Bony skarbowe_podmiot'!B44","v":8151.2727643199996},{"$f":"'Obligacje skarbowe_podmiot'!C44+'Bony skarbowe_podmiot'!C44","v":27806.754641479998},{"$f":"'Obligacje skarbowe_podmiot'!D44+'Bony skarbowe_podmiot'!D44","v":11878.253000000001},{"$f":"'Obligacje skarbowe_podmiot'!E44+'Bony skarbowe_podmiot'!E44","v":9878.6872756000012},{"$f":"'Obligacje skarbowe_podmiot'!F44+'Bony skarbowe_podmiot'!F44","v":16580.845403840001},{"$f":"'Obligacje skarbowe_podmiot'!G44+'Bony skarbowe_podmiot'!G44","v":40290.745148599999},{"$f":"'Obligacje skarbowe_podmiot'!H44+'Bony skarbowe_podmiot'!H44","v":1224.2380000000001},{"$f":"'Obligacje skarbowe_podmiot'!I44+'Bony skarbowe_podmiot'!I44","v":50.190600000000003},{"$f":"'Obligacje skarbowe_podmiot'!J44+'Bony skarbowe_podmiot'!J44","v":8015.0647836400003},{"$f":"'Obligacje skarbowe_podmiot'!K44+'Bony skarbowe_podmiot'!K44","v":26734.579600639998},{"$f":"'Obligacje skarbowe_podmiot'!L44+'Bony skarbowe_podmiot'!L44","v":58595.351416199999},{"$f":"'Obligacje skarbowe_podmiot'!M44+'Bony skarbowe_podmiot'!M44","v":209205.98263432001}]
[{"$f":"'Obligacje skarbowe_podmiot'!A45","v":"2017-08-31"},{"$f":"'Obligacje skarbowe_podmiot'!B45+'Bony skarbowe_podmiot'!B45","v":10583.508917680001},{"$f":"'Obligacje skarbowe_podmiot'!C45+'Bony skarbowe_podmiot'!C45","v":27630.565694019999},{"$f":"'Obligacje skarbowe_podmiot'!D45+'Bony skarbowe_podmiot'!D45","v":11733.972},{"$f":"'Obligacje skarbowe_podmiot'!E45+'Bony skarbowe_podmiot'!E45","v":9634.0546593999989},{"$f":"'Obligacje skarbowe_podmiot'!F45+'Bony skarbowe_podmiot'!F45","v":17248.100980160001},{"$f":"'Obligacje skarbowe_podmiot'!G45+'Bony skarbowe_podmiot'!G45","v":39694.219692500003},{"$f":"'Obligacje skarbowe_podmiot'!H45+'Bony skarbowe_podmiot'!H45","v":1247.4179999999999},{"$f":"'Obligacje skarbowe_podmiot'!I45+'Bony skarbowe_podmiot'!I45","v":50.334600000000002},{"$f":"'Obligacje skarbowe_podmiot'!J45+'Bony skarbowe_podmiot'!J45","v":7652.8326428599994},{"$f":"'Obligacje skarbowe_podmiot'!K45+'Bony skarbowe_podmiot'!K45","v":26197.974573160001},{"$f":"'Obligacje skarbowe_podmiot'!L45+'Bony skarbowe_podmiot'!L45","v":56879.353112900004},{"$f":"'Obligacje skarbowe_podmiot'!M45+'Bony skarbowe_podmiot'!M45","v":208552.33487268002}]
[{"$f":"'Obligacje skarbowe_podmiot'!A46","v":"2017-09-30"},{"$f":"'Obligacje skarbowe_podmiot'!B46+'Bony skarbowe_podmiot'!B46","v":12832.62990632},{"$f":"'Obligacje skarbowe_podmiot'!C46+'Bony skarbowe_podmiot'!C46","v":26841.312046979998},{"$f":"'Obligacje skarbowe_podmiot'!D46+'Bony skarbowe_podmiot'!D46","v":11012.031000000001},{"$f":"'Obligacje skarbowe_podmiot'!E46+'Bony skarbowe_podmiot'!E46","v":9901.6291106000008},{"$f":"'Obligacje skarbowe_podmiot'!F46+'Bony skarbowe_podmiot'!F46","v":16402.82234784},{"$f":"'Obligacje skarbowe_podmiot'!G46+'Bony skarbowe_podmiot'!G46","v":39970.823932500003},{"$f":"'Obligacje skarbowe_podmiot'!H46+'Bony skarbowe_podmiot'!H46","v":1255.913},{"$f":"'Obligacje skarbowe_podmiot'!I46+'Bony skarbowe_podmiot'!I46","v":50.702500000000001},{"$f":"'Obligacje skarbowe_podmiot'!J46+'Bony skarbowe_podmiot'!J46","v":7344.3713201400005},{"$f":"'Obligacje skarbowe_podmiot'!K46+'Bony skarbowe_podmiot'!K46","v":25945.910024839999},{"$f":"'Obligacje skarbowe_podmiot'!L46+'Bony skarbowe_podmiot'!L46","v":53543.8043321},{"$f":"'Obligacje skarbowe_podmiot'!M46+'Bony skarbowe_podmiot'!M46","v":205101.94952132}]
[{"$f":"'Obligacje skarbowe_podmiot'!A47","v":"2017-10-31"},{"$f":"'Obligacje skarbowe_podmiot'!B47+'Bony skarbowe_podmiot'!B47","v":6008.3416323000001},{"$f":"'Obligacje skarbowe_podmiot'!C47+'Bony skarbowe_podmiot'!C47","v":34347.618820099997},{"$f":"'Obligacje skarbowe_podmiot'!D47+'Bony skarbowe_podmiot'!D47","v":10303.210999999999},{"$f":"'Obligacje skarbowe_podmiot'!E47+'Bony skarbowe_podmiot'!E47","v":8510.2957970000007},{"$f":"'Obligacje skarbowe_podmiot'!F47+'Bony skarbowe_podmiot'!F47","v":16252.918700799999},{"$f":"'Obligacje skarbowe_podmiot'!G47+'Bony skarbowe_podmiot'!G47","v":39473.6528951},{"$f":"'Obligacje skarbowe_podmiot'!H47+'Bony skarbowe_podmiot'!H47","v":1198.0239999999999},{"$f":"'Obligacje skarbowe_podmiot'!I47+'Bony skarbowe_podmiot'!I47","v":54.06035},{"$f":"'Obligacje skarbowe_podmiot'!J47+'Bony skarbowe_podmiot'!J47","v":6908.4937643000003},{"$f":"'Obligacje skarbowe_podmiot'!K47+'Bony skarbowe_podmiot'!K47","v":26370.675253400001},{"$f":"'Obligacje skarbowe_podmiot'!L47+'Bony skarbowe_podmiot'!L47","v":52484.063590400001},{"$f":"'Obligacje skarbowe_podmiot'!M47+'Bony skarbowe_podmiot'!M47","v":201911.35580340002}]
[{"$f":"'Obligacje skarbowe_podmiot'!A48","v":"2017-11-30"},{"$f":"'Obligacje skarbowe_podmiot'!B48+'Bony skarbowe_podmiot'!B48","v":5861.92504525},{"$f":"'Obligacje skarbowe_podmiot'!C48+'Bony skarbowe_podmiot'!C48","v":34910.615789449999},{"$f":"'Obligacje skarbowe_podmiot'!D48+'Bony skarbowe_podmiot'!D48","v":6741.7659999999996},{"$f":"'Obligacje skarbowe_podmiot'!E48+'Bony skarbowe_podmiot'!E48","v":9295.5307935000001},{"$f":"'Obligacje skarbowe_podmiot'!F48+'Bony skarbowe_podmiot'!F48","v":15810.37097025},{"$f":"'Obligacje skarbowe_podmiot'!G48+'Bony skarbowe_podmiot'!G48","v":38432.282601400002},{"$f":"'Obligacje skarbowe_podmiot'!H48+'Bony skarbowe_podmiot'!H48","v":1090.357},{"$f":"'Obligacje skarbowe_podmiot'!I48+'Bony skarbowe_podmiot'!I48","v":54.041525},{"$f":"'Obligacje skarbowe_podmiot'!J48+'Bony skarbowe_podmiot'!J48","v":7032.4074251499997},{"$f":"'Obligacje skarbowe_podmiot'!K48+'Bony skarbowe_podmiot'!K48","v":27212.489956199999},{"$f":"'Obligacje skarbowe_podmiot'!L48+'Bony skarbowe_podmiot'!L48","v":53582.290389850001},{"$f":"'Obligacje skarbowe_podmiot'!M48+'Bony skarbowe_podmiot'!M48","v":200024.07749605001}]
[{"$f":"'Obligacje skarbowe_podmiot'!A49","v":"2017-12-31"},{"$f":"'Obligacje skarbowe_podmiot'!B49+'Bony skarbowe_podmiot'!B49","v":5556.9758922499996},{"$f":"'Obligacje skarbowe_podmiot'!C49+'Bony skarbowe_podmiot'!C49","v":35660.412600050004},{"$f":"'Obligacje skarbowe_podmiot'!D49+'Bony skarbowe_podmiot'!D49","v":5947.5959999999995},{"$f":"'Obligacje skarbowe_podmiot'!E49+'Bony skarbowe_podmiot'!E49","v":9890.3389915000007},{"$f":"'Obligacje skarbowe_podmiot'!F49+'Bony skarbowe_podmiot'!F49","v":15641.73650725},{"$f":"'Obligacje skarbowe_podmiot'!G49+'Bony skarbowe_podmiot'!G49","v":39897.336704100002},{"$f":"'Obligacje skarbowe_podmiot'!H49+'Bony skarbowe_podmiot'!H49","v":1241.5650000000001},{"$f":"'Obligacje skarbowe_podmiot'!I49+'Bony skarbowe_podmiot'!I49","v":52.537424999999999},{"$f":"'Obligacje skarbowe_podmiot'!J49+'Bony skarbowe_podmiot'!J49","v":7056.7982413500004},{"$f":"'Obligacje skarbowe_podmiot'!K49+'Bony skarbowe_podmiot'!K49","v":27197.287138599997},{"$f":"'Obligacje skarbowe_podmiot'!L49+'Bony skarbowe_podmiot'!L49","v":54571.888236250001},{"$f":"'Obligacje skarbowe_podmiot'!M49+'Bony skarbowe_podmiot'!M49","v":202714.47273635}]
[{"$f":"'Obligacje skarbowe_podmiot'!A50","v":"2018-01-31"},{"$f":"'Obligacje skarbowe_podmiot'!B50+'Bony skarbowe_podmiot'!B50","v":6448.7013258000006},{"$f":"'Obligacje skarbowe_podmiot'!C50+'Bony skarbowe_podmiot'!C50","v":34001.422022630002},{"$f":"'Obligacje skarbowe_podmiot'!D50+'Bony skarbowe_podmiot'!D50","v":4949.62},{"$f":"'Obligacje skarbowe_podmiot'!E50+'Bony skarbowe_podmiot'!E50","v":9732.6599528999996},{"$f":"'Obligacje skarbowe_podmiot'!F50+'Bony skarbowe_podmiot'!F50","v":15372.44238135},{"$f":"'Obligacje skarbowe_podmiot'!G50+'Bony skarbowe_podmiot'!G50","v":40543.306318150004},{"$f":"'Obligacje skarbowe_podmiot'!H50+'Bony skarbowe_podmiot'!H50","v":1169.73146428},{"$f":"'Obligacje skarbowe_podmiot'!I50+'Bony skarbowe_podmiot'!I50","v":50.352155000000003},{"$f":"'Obligacje skarbowe_podmiot'!J50+'Bony skarbowe_podmiot'!J50","v":6719.4423155100003},{"$f":"'Obligacje skarbowe_podmiot'!K50+'Bony skarbowe_podmiot'!K50","v":27217.032425360001},{"$f":"'Obligacje skarbowe_podmiot'!L50+'Bony skarbowe_podmiot'!L50","v":53367.099826230005},{"$f":"'Obligacje skarbowe_podmiot'!M50+'Bony skarbowe_podmiot'!M50","v":199571.81018721001}]
[{"$f":"'Obligacje skarbowe_podmiot'!A51","v":"2018-02-28"},{"$f":"'Obligacje skarbowe_podmiot'!B51+'Bony skarbowe_podmiot'!B51","v":8217.8890988000003},{"$f":"'Obligacje skarbowe_podmiot'!C51+'Bony skarbowe_podmiot'!C51","v":33270.723668179999},{"$f":"'Obligacje skarbowe_podmiot'!D51+'Bony skarbowe_podmiot'!D51","v":3025.674},{"$f":"'Obligacje skarbowe_podmiot'!E51+'Bony skarbowe_podmiot'!E51","v":9826.9402093999997},{"$f":"'Obligacje skarbowe_podmiot'!F51+'Bony skarbowe_podmiot'!F51","v":15311.8193145},{"$f":"'Obligacje skarbowe_podmiot'!G51+'Bony skarbowe_podmiot'!G51","v":41336.128925879995},{"$f":"'Obligacje skarbowe_podmiot'!H51+'Bony skarbowe_podmiot'!H51","v":1235.5071600799999},{"$f":"'Obligacje skarbowe_podmiot'!I51+'Bony skarbowe_podmiot'!I51","v":50.340829999999997},{"$f":"'Obligacje skarbowe_podmiot'!J51+'Bony skarbowe_podmiot'!J51","v":6363.3190978599996},{"$f":"'Obligacje skarbowe_podmiot'!K51+'Bony skarbowe_podmiot'!K51","v":28508.187198560001},{"$f":"'Obligacje skarbowe_podmiot'!L51+'Bony skarbowe_podmiot'!L51","v":53318.943760779999},{"$f":"'Obligacje skarbowe_podmiot'!M51+'Bony skarbowe_podmiot'!M51","v":200465.47326403999}]
[{"$f":"'Obligacje skarbowe_podmiot'!A52","v":"2018-03-31"},{"$f":"'Obligacje skarbowe_podmiot'!B52+'Bony skarbowe_podmiot'!B52","v":7109.5204358999999},{"$f":"'Obligacje skarbowe_podmiot'!C52+'Bony skarbowe_podmiot'!C52","v":35872.82121039},{"$f":"'Obligacje skarbowe_podmiot'!D52+'Bony skarbowe_podmiot'!D52","v":1557.278},{"$f":"'Obligacje skarbowe_podmiot'!E52+'Bony skarbowe_podmiot'!E52","v":10843.573633700002},{"$f":"'Obligacje skarbowe_podmiot'!F52+'Bony skarbowe_podmiot'!F52","v":15311.13141475},{"$f":"'Obligacje skarbowe_podmiot'!G52+'Bony skarbowe_podmiot'!G52","v":40503.263051540001},{"$f":"'Obligacje skarbowe_podmiot'!H52+'Bony skarbowe_podmiot'!H52","v":1086.6111228400002},{"$f":"'Obligacje skarbowe_podmiot'!I52+'Bony skarbowe_podmiot'!I52","v":55.12605903},{"$f":"'Obligacje skarbowe_podmiot'!J52+'Bony skarbowe_podmiot'!J52","v":5936.2211600000001},{"$f":"'Obligacje skarbowe_podmiot'!K52+'Bony skarbowe_podmiot'!K52","v":29671.387539630003},{"$f":"'Obligacje skarbowe_podmiot'!L52+'Bony skarbowe_podmiot'!L52","v":54869.486351190004},{"$f":"'Obligacje skarbowe_podmiot'!M52+'Bony skarbowe_podmiot'!M52","v":202816.41997896996}]
[{"$f":"'Obligacje skarbowe_podmiot'!A53","v":"2018-04-30"},{"$f":"'Obligacje skarbowe_podmiot'!B53+'Bony skarbowe_podmiot'!B53","v":5568.2576561000005},{"$f":"'Obligacje skarbowe_podmiot'!C53+'Bony skarbowe_podmiot'!C53","v":35570.500990050001},{"$f":"'Obligacje skarbowe_podmiot'!D53+'Bony skarbowe_podmiot'!D53","v":399.685},{"$f":"'Obligacje skarbowe_podmiot'!E53+'Bony skarbowe_podmiot'!E53","v":10428.828691500001},{"$f":"'Obligacje skarbowe_podmiot'!F53+'Bony skarbowe_podmiot'!F53","v":15017.899976250001},{"$f":"'Obligacje skarbowe_podmiot'!G53+'Bony skarbowe_podmiot'!G53","v":38996.747691550001},{"$f":"'Obligacje skarbowe_podmiot'!H53+'Bony skarbowe_podmiot'!H53","v":1203.3945377999999},{"$f":"'Obligacje skarbowe_podmiot'!I53+'Bony skarbowe_podmiot'!I53","v":54.867338850000003},{"$f":"'Obligacje skarbowe_podmiot'!J53+'Bony skarbowe_podmiot'!J53","v":7140.4931999999999},{"$f":"'Obligacje skarbowe_podmiot'!K53+'Bony skarbowe_podmiot'!K53","v":29044.227028150002},{"$f":"'Obligacje skarbowe_podmiot'!L53+'Bony skarbowe_podmiot'!L53","v":54261.770323900004},{"$f":"'Obligacje skarbowe_podmiot'!M53+'Bony skarbowe_podmiot'!M53","v":197686.67243415001}]
[{"$f":"'Obligacje skarbowe_podmiot'!A54","v":"2018-05-31"},{"$f":"'Obligacje skarbowe_podmiot'!B54+'Bony skarbowe_podmiot'!B54","v":6944.9837034900002},{"$f":"'Obligacje skarbowe_podmiot'!C54+'Bony skarbowe_podmiot'!C54","v":35355.067395490005},{"$f":"'Obligacje skarbowe_podmiot'!D54+'Bony skarbowe_podmiot'!D54","v":445.86500000000001},{"$f":"'Obligacje skarbowe_podmiot'!E54+'Bony skarbowe_podmiot'!E54","v":10160.7385801},{"$f":"'Obligacje skarbowe_podmiot'!F54+'Bony skarbowe_podmiot'!F54","v":14751.08737675},{"$f":"'Obligacje skarbowe_podmiot'!G54+'Bony skarbowe_podmiot'!G54","v":37967.31669611},{"$f":"'Obligacje skarbowe_podmiot'!H54+'Bony skarbowe_podmiot'!H54","v":1242.3741913199999},{"$f":"'Obligacje skarbowe_podmiot'!I54+'Bony skarbowe_podmiot'!I54","v":56.700917189999998},{"$f":"'Obligacje skarbowe_podmiot'!J54+'Bony skarbowe_podmiot'!J54","v":7335.4416799999999},{"$f":"'Obligacje skarbowe_podmiot'!K54+'Bony skarbowe_podmiot'!K54","v":28486.64410261},{"$f":"'Obligacje skarbowe_podmiot'!L54+'Bony skarbowe_podmiot'!L54","v":53951.109884449994},{"$f":"'Obligacje skarbowe_podmiot'!M54+'Bony skarbowe_podmiot'!M54","v":196697.32952750998}]
[{"$f":"'Obligacje skarbowe_podmiot'!A55","v":"2018-06-30"},{"$f":"'Obligacje skarbowe_podmiot'!B55+'Bony skarbowe_podmiot'!B55","v":3900.9919067199999},{"$f":"'Obligacje skarbowe_podmiot'!C55+'Bony skarbowe_podmiot'!C55","v":35402.180862469999},{"$f":"'Obligacje skarbowe_podmiot'!D55+'Bony skarbowe_podmiot'!D55","v":387.685},{"$f":"'Obligacje skarbowe_podmiot'!E55+'Bony skarbowe_podmiot'!E55","v":11104.997980299999},{"$f":"'Obligacje skarbowe_podmiot'!F55+'Bony skarbowe_podmiot'!F55","v":15017.750830249999},{"$f":"'Obligacje skarbowe_podmiot'!G55+'Bony skarbowe_podmiot'!G55","v":36923.226097080005},{"$f":"'Obligacje skarbowe_podmiot'!H55+'Bony skarbowe_podmiot'!H55","v":1238.14274196},{"$f":"'Obligacje skarbowe_podmiot'!I55+'Bony skarbowe_podmiot'!I55","v":56.890585000000002},{"$f":"'Obligacje skarbowe_podmiot'!J55+'Bony skarbowe_podmiot'!J55","v":7986.88274757},{"$f":"'Obligacje skarbowe_podmiot'!K55+'Bony skarbowe_podmiot'!K55","v":26887.615071830001},{"$f":"'Obligacje skarbowe_podmiot'!L55+'Bony skarbowe_podmiot'!L55","v":53233.776883350001},{"$f":"'Obligacje skarbowe_podmiot'!M55+'Bony skarbowe_podmiot'!M55","v":192140.14070653002}]
[{"$f":"'Obligacje skarbowe_podmiot'!A56","v":"2018-07-31"},{"$f":"'Obligacje skarbowe_podmiot'!B56+'Bony skarbowe_podmiot'!B56","v":4741.4036366},{"$f":"'Obligacje skarbowe_podmiot'!C56+'Bony skarbowe_podmiot'!C56","v":38808.817148980001},{"$f":"'Obligacje skarbowe_podmiot'!D56+'Bony skarbowe_podmiot'!D56","v":953.68499999999995},{"$f":"'Obligacje skarbowe_podmiot'!E56+'Bony skarbowe_podmiot'!E56","v":10737.9020119},{"$f":"'Obligacje skarbowe_podmiot'!F56+'Bony skarbowe_podmiot'!F56","v":14939.024983249999},{"$f":"'Obligacje skarbowe_podmiot'!G56+'Bony skarbowe_podmiot'!G56","v":35819.232906839999},{"$f":"'Obligacje skarbowe_podmiot'!H56+'Bony skarbowe_podmiot'!H56","v":1156.0835030799999},{"$f":"'Obligacje skarbowe_podmiot'!I56+'Bony skarbowe_podmiot'!I56","v":54.309702610000002},{"$f":"'Obligacje skarbowe_podmiot'!J56+'Bony skarbowe_podmiot'!J56","v":9098.9259199999997},{"$f":"'Obligacje skarbowe_podmiot'!K56+'Bony skarbowe_podmiot'!K56","v":25724.022719970002},{"$f":"'Obligacje skarbowe_podmiot'!L56+'Bony skarbowe_podmiot'!L56","v":48596.67452706},{"$f":"'Obligacje skarbowe_podmiot'!M56+'Bony skarbowe_podmiot'!M56","v":190630.08206028998}]
[{"$f":"'Obligacje skarbowe_podmiot'!A57","v":"2018-08-31"},{"$f":"'Obligacje skarbowe_podmiot'!B57+'Bony skarbowe_podmiot'!B57","v":4051.26087005},{"$f":"'Obligacje skarbowe_podmiot'!C57+'Bony skarbowe_podmiot'!C57","v":39215.839810860001},{"$f":"'Obligacje skarbowe_podmiot'!D57+'Bony skarbowe_podmiot'!D57","v":443.685},{"$f":"'Obligacje skarbowe_podmiot'!E57+'Bony skarbowe_podmiot'!E57","v":9801.5591232999996},{"$f":"'Obligacje skarbowe_podmiot'!F57+'Bony skarbowe_podmiot'!F57","v":14394.208952749999},{"$f":"'Obligacje skarbowe_podmiot'!G57+'Bony skarbowe_podmiot'!G57","v":31645.51523628},{"$f":"'Obligacje skarbowe_podmiot'!H57+'Bony skarbowe_podmiot'!H57","v":2580.4238495599998},{"$f":"'Obligacje skarbowe_podmiot'!I57+'Bony skarbowe_podmiot'!I57","v":54.40469427},{"$f":"'Obligacje skarbowe_podmiot'!J57+'Bony skarbowe_podmiot'!J57","v":9186.4445400000004},{"$f":"'Obligacje skarbowe_podmiot'!K57+'Bony skarbowe_podmiot'!K57","v":28177.22236788},{"$f":"'Obligacje skarbowe_podmiot'!L57+'Bony skarbowe_podmiot'!L57","v":48314.201613780002},{"$f":"'Obligacje skarbowe_podmiot'!M57+'Bony skarbowe_podmiot'!M57","v":187864.76605872999}]
[{"$f":"'Obligacje skarbowe_podmiot'!A58","v":"2018-09-30"},{"$f":"'Obligacje skarbowe_podmiot'!B58+'Bony skarbowe_podmiot'!B58","v":3790.3683757800004},{"$f":"'Obligacje skarbowe_podmiot'!C58+'Bony skarbowe_podmiot'!C58","v":39276.412917460002},{"$f":"'Obligacje skarbowe_podmiot'!D58+'Bony skarbowe_podmiot'!D58","v":1242.558},{"$f":"'Obligacje skarbowe_podmiot'!E58+'Bony skarbowe_podmiot'!E58","v":9688.1350462999999},{"$f":"'Obligacje skarbowe_podmiot'!F58+'Bony skarbowe_podmiot'!F58","v":13519.35672525},{"$f":"'Obligacje skarbowe_podmiot'!G58+'Bony skarbowe_podmiot'!G58","v":31683.109298080002},{"$f":"'Obligacje skarbowe_podmiot'!H58+'Bony skarbowe_podmiot'!H58","v":2641.4732531599998},{"$f":"'Obligacje skarbowe_podmiot'!I58+'Bony skarbowe_podmiot'!I58","v":56.90574797},{"$f":"'Obligacje skarbowe_podmiot'!J58+'Bony skarbowe_podmiot'!J58","v":9292.8499499999998},{"$f":"'Obligacje skarbowe_podmiot'!K58+'Bony skarbowe_podmiot'!K58","v":29126.897007979998},{"$f":"'Obligacje skarbowe_podmiot'!L58+'Bony skarbowe_podmiot'!L58","v":49640.662526650005},{"$f":"'Obligacje skarbowe_podmiot'!M58+'Bony skarbowe_podmiot'!M58","v":189958.72884863001}]
[{"$f":"'Obligacje skarbowe_podmiot'!A59","v":"2018-10-31"},{"$f":"'Obligacje skarbowe_podmiot'!B59+'Bony skarbowe_podmiot'!B59","v":3195.1074063999999},{"$f":"'Obligacje skarbowe_podmiot'!C59+'Bony skarbowe_podmiot'!C59","v":38627.486891040004},{"$f":"'Obligacje skarbowe_podmiot'!D59+'Bony skarbowe_podmiot'!D59","v":2538.7759999999998},{"$f":"'Obligacje skarbowe_podmiot'!E59+'Bony skarbowe_podmiot'!E59","v":9791.3662712000005},{"$f":"'Obligacje skarbowe_podmiot'!F59+'Bony skarbowe_podmiot'!F59","v":13796.431625200001},{"$f":"'Obligacje skarbowe_podmiot'!G59+'Bony skarbowe_podmiot'!G59","v":30776.13597472},{"$f":"'Obligacje skarbowe_podmiot'!H59+'Bony skarbowe_podmiot'!H59","v":2428.2321878400003},{"$f":"'Obligacje skarbowe_podmiot'!I59+'Bony skarbowe_podmiot'!I59","v":57.693155279999999},{"$f":"'Obligacje skarbowe_podmiot'!J59+'Bony skarbowe_podmiot'!J59","v":9096.6407999999992},{"$f":"'Obligacje skarbowe_podmiot'!K59+'Bony skarbowe_podmiot'!K59","v":28916.059818560003},{"$f":"'Obligacje skarbowe_podmiot'!L59+'Bony skarbowe_podmiot'!L59","v":53042.901447120006},{"$f":"'Obligacje skarbowe_podmiot'!M59+'Bony skarbowe_podmiot'!M59","v":192266.83157735999}]
[{"$f":"'Obligacje skarbowe_podmiot'!A60","v":"2018-11-30"},{"$f":"'Obligacje skarbowe_podmiot'!B60+'Bony skarbowe_podmiot'!B60","v":5706.5879269999996},{"$f":"'Obligacje skarbowe_podmiot'!C60+'Bony skarbowe_podmiot'!C60","v":38636.039936699999},{"$f":"'Obligacje skarbowe_podmiot'!D60+'Bony skarbowe_podmiot'!D60","v":3725.5839999999998},{"$f":"'Obligacje skarbowe_podmiot'!E60+'Bony skarbowe_podmiot'!E60","v":10043.316988500001},{"$f":"'Obligacje skarbowe_podmiot'!F60+'Bony skarbowe_podmiot'!F60","v":13481.051939749999},{"$f":"'Obligacje skarbowe_podmiot'!G60+'Bony skarbowe_podmiot'!G60","v":30995.046742300001},{"$f":"'Obligacje skarbowe_podmiot'!H60+'Bony skarbowe_podmiot'!H60","v":2415.2958381999997},{"$f":"'Obligacje skarbowe_podmiot'!I60+'Bony skarbowe_podmiot'!I60","v":58.439178149999996},{"$f":"'Obligacje skarbowe_podmiot'!J60+'Bony skarbowe_podmiot'!J60","v":8587.8662499999991},{"$f":"'Obligacje skarbowe_podmiot'!K60+'Bony skarbowe_podmiot'!K60","v":28207.617758799999},{"$f":"'Obligacje skarbowe_podmiot'!L60+'Bony skarbowe_podmiot'!L60","v":50339.459533900001},{"$f":"'Obligacje skarbowe_podmiot'!M60+'Bony skarbowe_podmiot'!M60","v":192196.30609329997}]
[{"$f":"'Obligacje skarbowe_podmiot'!A61","v":"2018-12-31"},{"$f":"'Obligacje skarbowe_podmiot'!B61+'Bony skarbowe_podmiot'!B61","v":3872.84246592},{"$f":"'Obligacje skarbowe_podmiot'!C61+'Bony skarbowe_podmiot'!C61","v":38195.482994879996},{"$f":"'Obligacje skarbowe_podmiot'!D61+'Bony skarbowe_podmiot'!D61","v":2859.152},{"$f":"'Obligacje skarbowe_podmiot'!E61+'Bony skarbowe_podmiot'!E61","v":10951.7067264},{"$f":"'Obligacje skarbowe_podmiot'!F61+'Bony skarbowe_podmiot'!F61","v":13680.2520496},{"$f":"'Obligacje skarbowe_podmiot'!G61+'Bony skarbowe_podmiot'!G61","v":32325.2568192},{"$f":"'Obligacje skarbowe_podmiot'!H61+'Bony skarbowe_podmiot'!H61","v":2440.59416448},{"$f":"'Obligacje skarbowe_podmiot'!I61+'Bony skarbowe_podmiot'!I61","v":62.186060159999997},{"$f":"'Obligacje skarbowe_podmiot'!J61+'Bony skarbowe_podmiot'!J61","v":8054.5685999999996},{"$f":"'Obligacje skarbowe_podmiot'!K61+'Bony skarbowe_podmiot'!K61","v":27547.407334080002},{"$f":"'Obligacje skarbowe_podmiot'!L61+'Bony skarbowe_podmiot'!L61","v":51469.563090240001},{"$f":"'Obligacje skarbowe_podmiot'!M61+'Bony skarbowe_podmiot'!M61","v":191459.01230496002}]
[{"$f":"'Obligacje skarbowe_podmiot'!A62","v":"2019-01-31"},{"$f":"'Obligacje skarbowe_podmiot'!B62+'Bony skarbowe_podmiot'!B62","v":5979.2340250699999},{"$f":"'Obligacje skarbowe_podmiot'!C62+'Bony skarbowe_podmiot'!C62","v":28194.168272980001},{"$f":"'Obligacje skarbowe_podmiot'!D62+'Bony skarbowe_podmiot'!D62","v":2181.29},{"$f":"'Obligacje skarbowe_podmiot'!E62+'Bony skarbowe_podmiot'!E62","v":9546.3422319000001},{"$f":"'Obligacje skarbowe_podmiot'!F62+'Bony skarbowe_podmiot'!F62","v":12926.89643035},{"$f":"'Obligacje skarbowe_podmiot'!G62+'Bony skarbowe_podmiot'!G62","v":32807.528860819999},{"$f":"'Obligacje skarbowe_podmiot'!H62+'Bony skarbowe_podmiot'!H62","v":2538.36820708},{"$f":"'Obligacje skarbowe_podmiot'!I62+'Bony skarbowe_podmiot'!I62","v":58.664320609999997},{"$f":"'Obligacje skarbowe_podmiot'!J62+'Bony skarbowe_podmiot'!J62","v":7794.76235},{"$f":"'Obligacje skarbowe_podmiot'!K62+'Bony skarbowe_podmiot'!K62","v":25025.109049930001},{"$f":"'Obligacje skarbowe_podmiot'!L62+'Bony skarbowe_podmiot'!L62","v":54498.858714039998},{"$f":"'Obligacje skarbowe_podmiot'!M62+'Bony skarbowe_podmiot'!M62","v":181551.22246277999}]
[{"$f":"'Obligacje skarbowe_podmiot'!A63","v":"2019-02-28"},{"$f":"'Obligacje skarbowe_podmiot'!B63+'Bony skarbowe_podmiot'!B63","v":7314.6593498699995},{"$f":"'Obligacje skarbowe_podmiot'!C63+'Bony skarbowe_podmiot'!C63","v":21130.19927298},{"$f":"'Obligacje skarbowe_podmiot'!D63+'Bony skarbowe_podmiot'!D63","v":1400.19},{"$f":"'Obligacje skarbowe_podmiot'!E63+'Bony skarbowe_podmiot'!E63","v":9562.872231899999},{"$f":"'Obligacje skarbowe_podmiot'!F63+'Bony skarbowe_podmiot'!F63","v":12700.97216159},{"$f":"'Obligacje skarbowe_podmiot'!G63+'Bony skarbowe_podmiot'!G63","v":31124.624473960001},{"$f":"'Obligacje skarbowe_podmiot'!H63+'Bony skarbowe_podmiot'!H63","v":2505.68920708},{"$f":"'Obligacje skarbowe_podmiot'!I63+'Bony skarbowe_podmiot'!I63","v":58.734020610000002},{"$f":"'Obligacje skarbowe_podmiot'!J63+'Bony skarbowe_podmiot'!J63","v":8097.2113499999996},{"$f":"'Obligacje skarbowe_podmiot'!K63+'Bony skarbowe_podmiot'!K63","v":25043.998760750001},{"$f":"'Obligacje skarbowe_podmiot'!L63+'Bony skarbowe_podmiot'!L63","v":53397.792371039999},{"$f":"'Obligacje skarbowe_podmiot'!M63+'Bony skarbowe_podmiot'!M63","v":172336.94319978001}]
[{"$f":"'Obligacje skarbowe_podmiot'!A64","v":"2019-03-31"},{"$f":"'Obligacje skarbowe_podmiot'!B64+'Bony skarbowe_podmiot'!B64","v":10215.255151950001},{"$f":"'Obligacje skarbowe_podmiot'!C64+'Bony skarbowe_podmiot'!C64","v":19940.474875299999},{"$f":"'Obligacje skarbowe_podmiot'!D64+'Bony skarbowe_podmiot'!D64","v":515.49},{"$f":"'Obligacje skarbowe_podmiot'!E64+'Bony skarbowe_podmiot'!E64","v":10004.2688715},{"$f":"'Obligacje skarbowe_podmiot'!F64+'Bony skarbowe_podmiot'!F64","v":12587.85971115},{"$f":"'Obligacje skarbowe_podmiot'!G64+'Bony skarbowe_podmiot'!G64","v":30841.330800650001},{"$f":"'Obligacje skarbowe_podmiot'!H64+'Bony skarbowe_podmiot'!H64","v":2554.8535138000002},{"$f":"'Obligacje skarbowe_podmiot'!I64+'Bony skarbowe_podmiot'!I64","v":62.640855850000001},{"$f":"'Obligacje skarbowe_podmiot'!J64+'Bony skarbowe_podmiot'!J64","v":9695.872894600001},{"$f":"'Obligacje skarbowe_podmiot'!K64+'Bony skarbowe_podmiot'!K64","v":25415.728463750002},{"$f":"'Obligacje skarbowe_podmiot'!L64+'Bony skarbowe_podmiot'!L64","v":53992.940953999998},{"$f":"'Obligacje skarbowe_podmiot'!M64+'Bony skarbowe_podmiot'!M64","v":175826.71609254999}]
[{"$f":"'Obligacje skarbowe_podmiot'!A65","v":"2019-04-30"},{"$f":"'Obligacje skarbowe_podmiot'!B65+'Bony skarbowe_podmiot'!B65","v":6918.4826705699998},{"$f":"'Obligacje skarbowe_podmiot'!C65+'Bony skarbowe_podmiot'!C65","v":19826.088949839999},{"$f":"'Obligacje skarbowe_podmiot'!D65+'Bony skarbowe_podmiot'!D65","v":690.69},{"$f":"'Obligacje skarbowe_podmiot'!E65+'Bony skarbowe_podmiot'!E65","v":10126.1147779},{"$f":"'Obligacje skarbowe_podmiot'!F65+'Bony skarbowe_podmiot'!F65","v":12070.027372190001},{"$f":"'Obligacje skarbowe_podmiot'!G65+'Bony skarbowe_podmiot'!G65","v":29950.387958990003},{"$f":"'Obligacje skarbowe_podmiot'!H65+'Bony skarbowe_podmiot'!H65","v":2518.1088542799998},{"$f":"'Obligacje skarbowe_podmiot'!I65+'Bony skarbowe_podmiot'!I65","v":63.485858010000001},{"$f":"'Obligacje skarbowe_podmiot'!J65+'Bony skarbowe_podmiot'!J65","v":10469.55021876},{"$f":"'Obligacje skarbowe_podmiot'!K65+'Bony skarbowe_podmiot'!K65","v":26781.297059590001},{"$f":"'Obligacje skarbowe_podmiot'!L65+'Bony skarbowe_podmiot'!L65","v":54090.089887559996},{"$f":"'Obligacje skarbowe_podmiot'!M65+'Bony skarbowe_podmiot'!M65","v":173504.32360768999}]
[{"$f":"'Obligacje skarbowe_podmiot'!A66","v":"2019-05-31"},{"$f":"'Obligacje skarbowe_podmiot'!B66+'Bony skarbowe_podmiot'!B66","v":7349.4593903000005},{"$f":"'Obligacje skarbowe_podmiot'!C66+'Bony skarbowe_podmiot'!C66","v":19716.989485599999},{"$f":"'Obligacje skarbowe_podmiot'!D66+'Bony skarbowe_podmiot'!D66","v":714.6},{"$f":"'Obligacje skarbowe_podmiot'!E66+'Bony skarbowe_podmiot'!E66","v":10215.337011},{"$f":"'Obligacje skarbowe_podmiot'!F66+'Bony skarbowe_podmiot'!F66","v":12169.762997100001},{"$f":"'Obligacje skarbowe_podmiot'!G66+'Bony skarbowe_podmiot'!G66","v":29204.091809099998},{"$f":"'Obligacje skarbowe_podmiot'!H66+'Bony skarbowe_podmiot'!H66","v":2607.5658851999997},{"$f":"'Obligacje skarbowe_podmiot'!I66+'Bony skarbowe_podmiot'!I66","v":67.305720900000011},{"$f":"'Obligacje skarbowe_podmiot'!J66+'Bony skarbowe_podmiot'!J66","v":10917.293778400001},{"$f":"'Obligacje skarbowe_podmiot'!K66+'Bony skarbowe_podmiot'!K66","v":27050.661963099999},{"$f":"'Obligacje skarbowe_podmiot'!L66+'Bony skarbowe_podmiot'!L66","v":52845.254151400004},{"$f":"'Obligacje skarbowe_podmiot'!M66+'Bony skarbowe_podmiot'!M66","v":172858.32219209999}]
[{"$f":"'Obligacje skarbowe_podmiot'!A67","v":"2019-06-30"},{"$f":"'Obligacje skarbowe_podmiot'!B67+'Bony skarbowe_podmiot'!B67","v":8706.2982223999988},{"$f":"'Obligacje skarbowe_podmiot'!C67+'Bony skarbowe_podmiot'!C67","v":18768.248909599999},{"$f":"'Obligacje skarbowe_podmiot'!D67+'Bony skarbowe_podmiot'!D67","v":293.33999999999997},{"$f":"'Obligacje skarbowe_podmiot'!E67+'Bony skarbowe_podmiot'!E67","v":10546.195451},{"$f":"'Obligacje skarbowe_podmiot'!F67+'Bony skarbowe_podmiot'!F67","v":12211.336525999999},{"$f":"'Obligacje skarbowe_podmiot'!G67+'Bony skarbowe_podmiot'!G67","v":27928.535678299999},{"$f":"'Obligacje skarbowe_podmiot'!H67+'Bony skarbowe_podmiot'!H67","v":2630.9552931999997},{"$f":"'Obligacje skarbowe_podmiot'!I67+'Bony skarbowe_podmiot'!I67","v":68.516956900000011},{"$f":"'Obligacje skarbowe_podmiot'!J67+'Bony skarbowe_podmiot'!J67","v":10859.480914399999},{"$f":"'Obligacje skarbowe_podmiot'!K67+'Bony skarbowe_podmiot'!K67","v":28156.907487099998},{"$f":"'Obligacje skarbowe_podmiot'!L67+'Bony skarbowe_podmiot'!L67","v":53567.554718300002},{"$f":"'Obligacje skarbowe_podmiot'!M67+'Bony skarbowe_podmiot'!M67","v":173737.3701572}]
[{"$f":"'Obligacje skarbowe_podmiot'!A68","v":"2019-07-31"},{"$f":"'Obligacje skarbowe_podmiot'!B68+'Bony skarbowe_podmiot'!B68","v":5961.2826298500004},{"$f":"'Obligacje skarbowe_podmiot'!C68+'Bony skarbowe_podmiot'!C68","v":18856.21312344},{"$f":"'Obligacje skarbowe_podmiot'!D68+'Bony skarbowe_podmiot'!D68","v":276.58499999999998},{"$f":"'Obligacje skarbowe_podmiot'!E68+'Bony skarbowe_podmiot'!E68","v":10730.3478189},{"$f":"'Obligacje skarbowe_podmiot'!F68+'Bony skarbowe_podmiot'!F68","v":11794.583611399999},{"$f":"'Obligacje skarbowe_podmiot'!G68+'Bony skarbowe_podmiot'!G68","v":27358.472093369997},{"$f":"'Obligacje skarbowe_podmiot'!H68+'Bony skarbowe_podmiot'!H68","v":2688.7133354799998},{"$f":"'Obligacje skarbowe_podmiot'!I68+'Bony skarbowe_podmiot'!I68","v":76.029535909999993},{"$f":"'Obligacje skarbowe_podmiot'!J68+'Bony skarbowe_podmiot'!J68","v":10688.999276659999},{"$f":"'Obligacje skarbowe_podmiot'!K68+'Bony skarbowe_podmiot'!K68","v":24408.44905969},{"$f":"'Obligacje skarbowe_podmiot'!L68+'Bony skarbowe_podmiot'!L68","v":54894.67977943},{"$f":"'Obligacje skarbowe_podmiot'!M68+'Bony skarbowe_podmiot'!M68","v":167734.35526412999}]
[{"$f":"'Obligacje skarbowe_podmiot'!A69","v":"2019-08-31"},{"$f":"'Obligacje skarbowe_podmiot'!B69+'Bony skarbowe_podmiot'!B69","v":7930.3555372800001},{"$f":"'Obligacje skarbowe_podmiot'!C69+'Bony skarbowe_podmiot'!C69","v":18419.497285919999},{"$f":"'Obligacje skarbowe_podmiot'!D69+'Bony skarbowe_podmiot'!D69","v":285.51},{"$f":"'Obligacje skarbowe_podmiot'!E69+'Bony skarbowe_podmiot'!E69","v":10752.911580200001},{"$f":"'Obligacje skarbowe_podmiot'!F69+'Bony skarbowe_podmiot'!F69","v":11709.39513934},{"$f":"'Obligacje skarbowe_podmiot'!G69+'Bony skarbowe_podmiot'!G69","v":26693.288286419996},{"$f":"'Obligacje skarbowe_podmiot'!H69+'Bony skarbowe_podmiot'!H69","v":2866.3783266400001},{"$f":"'Obligacje skarbowe_podmiot'!I69+'Bony skarbowe_podmiot'!I69","v":76.452042379999995},{"$f":"'Obligacje skarbowe_podmiot'!J69+'Bony skarbowe_podmiot'!J69","v":10671.60347588},{"$f":"'Obligacje skarbowe_podmiot'!K69+'Bony skarbowe_podmiot'!K69","v":22342.996073139999},{"$f":"'Obligacje skarbowe_podmiot'!L69+'Bony skarbowe_podmiot'!L69","v":54237.22896352},{"$f":"'Obligacje skarbowe_podmiot'!M69+'Bony skarbowe_podmiot'!M69","v":165985.61671071997}]
[{"$f":"'Obligacje skarbowe_podmiot'!A70","v":"2019-09-30"},{"$f":"'Obligacje skarbowe_podmiot'!B70+'Bony skarbowe_podmiot'!B70","v":5792.3924696000004},{"$f":"'Obligacje skarbowe_podmiot'!C70+'Bony skarbowe_podmiot'!C70","v":18515.7903544},{"$f":"'Obligacje skarbowe_podmiot'!D70+'Bony skarbowe_podmiot'!D70","v":302.61},{"$f":"'Obligacje skarbowe_podmiot'!E70+'Bony skarbowe_podmiot'!E70","v":10772.523389},{"$f":"'Obligacje skarbowe_podmiot'!F70+'Bony skarbowe_podmiot'!F70","v":11765.8965009},{"$f":"'Obligacje skarbowe_podmiot'!G70+'Bony skarbowe_podmiot'!G70","v":26196.379576900003},{"$f":"'Obligacje skarbowe_podmiot'!H70+'Bony skarbowe_podmiot'!H70","v":2872.2103948000004},{"$f":"'Obligacje skarbowe_podmiot'!I70+'Bony skarbowe_podmiot'!I70","v":81.615639099999996},{"$f":"'Obligacje skarbowe_podmiot'!J70+'Bony skarbowe_podmiot'!J70","v":10528.098446600001},{"$f":"'Obligacje skarbowe_podmiot'!K70+'Bony skarbowe_podmiot'!K70","v":22144.141087299999},{"$f":"'Obligacje skarbowe_podmiot'!L70+'Bony skarbowe_podmiot'!L70","v":54229.3022318},{"$f":"'Obligacje skarbowe_podmiot'!M70+'Bony skarbowe_podmiot'!M70","v":163200.96009040001}]
[{"$f":"'Obligacje skarbowe_podmiot'!A71","v":"2019-10-31"},{"$f":"'Obligacje skarbowe_podmiot'!B71+'Bony skarbowe_podmiot'!B71","v":4244.9955379000003},{"$f":"'Obligacje skarbowe_podmiot'!C71+'Bony skarbowe_podmiot'!C71","v":18648.115354400001},{"$f":"'Obligacje skarbowe_podmiot'!D71+'Bony skarbowe_podmiot'!D71","v":294.41000000000003},{"$f":"'Obligacje skarbowe_podmiot'!E71+'Bony skarbowe_podmiot'!E71","v":9449.6993889999994},{"$f":"'Obligacje skarbowe_podmiot'!F71+'Bony skarbowe_podmiot'!F71","v":11796.424500899999},{"$f":"'Obligacje skarbowe_podmiot'!G71+'Bony skarbowe_podmiot'!G71","v":25726.350955900001},{"$f":"'Obligacje skarbowe_podmiot'!H71+'Bony skarbowe_podmiot'!H71","v":2856.7333948},{"$f":"'Obligacje skarbowe_podmiot'!I71+'Bony skarbowe_podmiot'!I71","v":81.1932391},{"$f":"'Obligacje skarbowe_podmiot'!J71+'Bony skarbowe_podmiot'!J71","v":11195.9264466},{"$f":"'Obligacje skarbowe_podmiot'!K71+'Bony skarbowe_podmiot'!K71","v":21047.4287344},{"$f":"'Obligacje skarbowe_podmiot'!L71+'Bony skarbowe_podmiot'!L71","v":53835.8692286},{"$f":"'Obligacje skarbowe_podmiot'!M71+'Bony skarbowe_podmiot'!M71","v":159177.14678160002}]
[{"$f":"'Obligacje skarbowe_podmiot'!A72","v":"2019-11-30"},{"$f":"'Obligacje skarbowe_podmiot'!B72+'Bony skarbowe_podmiot'!B72","v":4796.2402758999997},{"$f":"'Obligacje skarbowe_podmiot'!C72+'Bony skarbowe_podmiot'!C72","v":17868.2563544},{"$f":"'Obligacje skarbowe_podmiot'!D72+'Bony skarbowe_podmiot'!D72","v":513.61},{"$f":"'Obligacje skarbowe_podmiot'!E72+'Bony skarbowe_podmiot'!E72","v":9408.0953890000001},{"$f":"'Obligacje skarbowe_podmiot'!F72+'Bony skarbowe_podmiot'!F72","v":11413.843986700002},{"$f":"'Obligacje skarbowe_podmiot'!G72+'Bony skarbowe_podmiot'!G72","v":26315.161112000002},{"$f":"'Obligacje skarbowe_podmiot'!H72+'Bony skarbowe_podmiot'!H72","v":2874.5123948},{"$f":"'Obligacje skarbowe_podmiot'!I72+'Bony skarbowe_podmiot'!I72","v":83.774739099999991},{"$f":"'Obligacje skarbowe_podmiot'!J72+'Bony skarbowe_podmiot'!J72","v":5867.5870000000004},{"$f":"'Obligacje skarbowe_podmiot'!K72+'Bony skarbowe_podmiot'!K72","v":25299.387337900003},{"$f":"'Obligacje skarbowe_podmiot'!L72+'Bony skarbowe_podmiot'!L72","v":53468.340241800004},{"$f":"'Obligacje skarbowe_podmiot'!M72+'Bony skarbowe_podmiot'!M72","v":157908.80883160001}]
[{"$f":"'Obligacje skarbowe_podmiot'!A73","v":"2019-12-31"},{"$f":"'Obligacje skarbowe_podmiot'!B73+'Bony skarbowe_podmiot'!B73","v":2899.9634928},{"$f":"'Obligacje skarbowe_podmiot'!C73+'Bony skarbowe_podmiot'!C73","v":17869.273361120002},{"$f":"'Obligacje skarbowe_podmiot'!D73+'Bony skarbowe_podmiot'!D73","v":380.78500000000003},{"$f":"'Obligacje skarbowe_podmiot'!E73+'Bony skarbowe_podmiot'!E73","v":14498.428342200001},{"$f":"'Obligacje skarbowe_podmiot'!F73+'Bony skarbowe_podmiot'!F73","v":11373.59651974},{"$f":"'Obligacje skarbowe_podmiot'!G73+'Bony skarbowe_podmiot'!G73","v":26842.1421376},{"$f":"'Obligacje skarbowe_podmiot'!H73+'Bony skarbowe_podmiot'!H73","v":2851.74006504},{"$f":"'Obligacje skarbowe_podmiot'!I73+'Bony skarbowe_podmiot'!I73","v":92.010690180000012},{"$f":"'Obligacje skarbowe_podmiot'!J73+'Bony skarbowe_podmiot'!J73","v":811.71699999999998},{"$f":"'Obligacje skarbowe_podmiot'!K73+'Bony skarbowe_podmiot'!K73","v":25066.17246256},{"$f":"'Obligacje skarbowe_podmiot'!L73+'Bony skarbowe_podmiot'!L73","v":54634.905847440001},{"$f":"'Obligacje skarbowe_podmiot'!M73+'Bony skarbowe_podmiot'!M73","v":157320.73491868001}]
[{"$f":"'Obligacje skarbowe_podmiot'!A74","v":"2020-01-31"},{"$f":"'Obligacje skarbowe_podmiot'!B74+'Bony skarbowe_podmiot'!B74","v":4894.8238927600005},{"$f":"'Obligacje skarbowe_podmiot'!C74+'Bony skarbowe_podmiot'!C74","v":18220.954720639998},{"$f":"'Obligacje skarbowe_podmiot'!D74+'Bony skarbowe_podmiot'!D74","v":353.56},{"$f":"'Obligacje skarbowe_podmiot'!E74+'Bony skarbowe_podmiot'!E74","v":13671.834000000001},{"$f":"'Obligacje skarbowe_podmiot'!F74+'Bony skarbowe_podmiot'!F74","v":10300.18523628},{"$f":"'Obligacje skarbowe_podmiot'!G74+'Bony skarbowe_podmiot'!G74","v":26102.139507200001},{"$f":"'Obligacje skarbowe_podmiot'!H74+'Bony skarbowe_podmiot'!H74","v":2793.6454228800003},{"$f":"'Obligacje skarbowe_podmiot'!I74+'Bony skarbowe_podmiot'!I74","v":106.62519795999999},{"$f":"'Obligacje skarbowe_podmiot'!J74+'Bony skarbowe_podmiot'!J74","v":797.303},{"$f":"'Obligacje skarbowe_podmiot'!K74+'Bony skarbowe_podmiot'!K74","v":23216.24852832},{"$f":"'Obligacje skarbowe_podmiot'!L74+'Bony skarbowe_podmiot'!L74","v":54021.670419319998},{"$f":"'Obligacje skarbowe_podmiot'!M74+'Bony skarbowe_podmiot'!M74","v":154478.98992535999}]
[{"$f":"'Obligacje skarbowe_podmiot'!A75","v":"2020-02-29"},{"$f":"'Obligacje skarbowe_podmiot'!B75+'Bony skarbowe_podmiot'!B75","v":4801.7772582600001},{"$f":"'Obligacje skarbowe_podmiot'!C75+'Bony skarbowe_podmiot'!C75","v":18071.244831440003},{"$f":"'Obligacje skarbowe_podmiot'!D75+'Bony skarbowe_podmiot'!D75","v":289.45999999999998},{"$f":"'Obligacje skarbowe_podmiot'!E75+'Bony skarbowe_podmiot'!E75","v":13657.442999999999},{"$f":"'Obligacje skarbowe_podmiot'!F75+'Bony skarbowe_podmiot'!F75","v":10616.293201629998},{"$f":"'Obligacje skarbowe_podmiot'!G75+'Bony skarbowe_podmiot'!G75","v":27212.863277749999},{"$f":"'Obligacje skarbowe_podmiot'!H75+'Bony skarbowe_podmiot'!H75","v":2551.5510214800001},{"$f":"'Obligacje skarbowe_podmiot'!I75+'Bony skarbowe_podmiot'!I75","v":107.3706},{"$f":"'Obligacje skarbowe_podmiot'!J75+'Bony skarbowe_podmiot'!J75","v":815.303},{"$f":"'Obligacje skarbowe_podmiot'!K75+'Bony skarbowe_podmiot'!K75","v":23619.15964939},{"$f":"'Obligacje skarbowe_podmiot'!L75+'Bony skarbowe_podmiot'!L75","v":56105.344596699993},{"$f":"'Obligacje skarbowe_podmiot'!M75+'Bony skarbowe_podmiot'!M75","v":157847.81043664998}]
[{"$f":"'Obligacje skarbowe_podmiot'!A76","v":"2020-03-31"},{"$f":"'Obligacje skarbowe_podmiot'!B76+'Bony skarbowe_podmiot'!B76","v":4499.5438308000003},{"$f":"'Obligacje skarbowe_podmiot'!C76+'Bony skarbowe_podmiot'!C76","v":18406.3354793},{"$f":"'Obligacje skarbowe_podmiot'!D76+'Bony skarbowe_podmiot'!D76","v":302.98500000000001},{"$f":"'Obligacje skarbowe_podmiot'!E76+'Bony skarbowe_podmiot'!E76","v":14279.557000000001},{"$f":"'Obligacje skarbowe_podmiot'!F76+'Bony skarbowe_podmiot'!F76","v":10714.18578686},{"$f":"'Obligacje skarbowe_podmiot'!G76+'Bony skarbowe_podmiot'!G76","v":24457.85242028},{"$f":"'Obligacje skarbowe_podmiot'!H76+'Bony skarbowe_podmiot'!H76","v":2416.2852647600002},{"$f":"'Obligacje skarbowe_podmiot'!I76+'Bony skarbowe_podmiot'!I76","v":109.13160000000001},{"$f":"'Obligacje skarbowe_podmiot'!J76+'Bony skarbowe_podmiot'!J76","v":789.77800000000002},{"$f":"'Obligacje skarbowe_podmiot'!K76+'Bony skarbowe_podmiot'!K76","v":22327.601913229999},{"$f":"'Obligacje skarbowe_podmiot'!L76+'Bony skarbowe_podmiot'!L76","v":54118.856271320001},{"$f":"'Obligacje skarbowe_podmiot'!M76+'Bony skarbowe_podmiot'!M76","v":152422.11256655}]
[{"$f":"'Obligacje skarbowe_podmiot'!A77","v":"2020-04-30"},{"$f":"'Obligacje skarbowe_podmiot'!B77+'Bony skarbowe_podmiot'!B77","v":3869.0118856999998},{"$f":"'Obligacje skarbowe_podmiot'!C77+'Bony skarbowe_podmiot'!C77","v":18217.1592079},{"$f":"'Obligacje skarbowe_podmiot'!D77+'Bony skarbowe_podmiot'!D77","v":261.7},{"$f":"'Obligacje skarbowe_podmiot'!E77+'Bony skarbowe_podmiot'!E77","v":13770.522000000001},{"$f":"'Obligacje skarbowe_podmiot'!F77+'Bony skarbowe_podmiot'!F77","v":9744.6406741900009},{"$f":"'Obligacje skarbowe_podmiot'!G77+'Bony skarbowe_podmiot'!G77","v":22291.76148248},{"$f":"'Obligacje skarbowe_podmiot'!H77+'Bony skarbowe_podmiot'!H77","v":2328.0667582800002},{"$f":"'Obligacje skarbowe_podmiot'!I77+'Bony skarbowe_podmiot'!I77","v":112.9273},{"$f":"'Obligacje skarbowe_podmiot'!J77+'Bony skarbowe_podmiot'!J77","v":722.06799999999998},{"$f":"'Obligacje skarbowe_podmiot'!K77+'Bony skarbowe_podmiot'!K77","v":20621.205909209999},{"$f":"'Obligacje skarbowe_podmiot'!L77+'Bony skarbowe_podmiot'!L77","v":47623.950288660002},{"$f":"'Obligacje skarbowe_podmiot'!M77+'Bony skarbowe_podmiot'!M77","v":139563.01350641999}]
[{"$f":"'Obligacje skarbowe_podmiot'!A78","v":"2020-05-31"},{"$f":"'Obligacje skarbowe_podmiot'!B78+'Bony skarbowe_podmiot'!B78","v":5224.6166114999996},{"$f":"'Obligacje skarbowe_podmiot'!C78+'Bony skarbowe_podmiot'!C78","v":20037.3529514},{"$f":"'Obligacje skarbowe_podmiot'!D78+'Bony skarbowe_podmiot'!D78","v":234.2},{"$f":"'Obligacje skarbowe_podmiot'!E78+'Bony skarbowe_podmiot'!E78","v":14053.499},{"$f":"'Obligacje skarbowe_podmiot'!F78+'Bony skarbowe_podmiot'!F78","v":9887.4098995400018},{"$f":"'Obligacje skarbowe_podmiot'!G78+'Bony skarbowe_podmiot'!G78","v":20915.446054380001},{"$f":"'Obligacje skarbowe_podmiot'!H78+'Bony skarbowe_podmiot'!H78","v":2416.9104824800002},{"$f":"'Obligacje skarbowe_podmiot'!I78+'Bony skarbowe_podmiot'!I78","v":112.0638},{"$f":"'Obligacje skarbowe_podmiot'!J78+'Bony skarbowe_podmiot'!J78","v":730.62800000000004},{"$f":"'Obligacje skarbowe_podmiot'!K78+'Bony skarbowe_podmiot'!K78","v":20774.597500159998},{"$f":"'Obligacje skarbowe_podmiot'!L78+'Bony skarbowe_podmiot'!L78","v":47628.50369356},{"$f":"'Obligacje skarbowe_podmiot'!M78+'Bony skarbowe_podmiot'!M78","v":142015.22799302}]
[{"$f":"'Obligacje skarbowe_podmiot'!A79","v":"2020-06-30"},{"$f":"'Obligacje skarbowe_podmiot'!B79+'Bony skarbowe_podmiot'!B79","v":4726.9658777499999},{"$f":"'Obligacje skarbowe_podmiot'!C79+'Bony skarbowe_podmiot'!C79","v":19870.848072500001},{"$f":"'Obligacje skarbowe_podmiot'!D79+'Bony skarbowe_podmiot'!D79","v":331.34399999999999},{"$f":"'Obligacje skarbowe_podmiot'!E79+'Bony skarbowe_podmiot'!E79","v":14389.705},{"$f":"'Obligacje skarbowe_podmiot'!F79+'Bony skarbowe_podmiot'!F79","v":9546.0262922500006},{"$f":"'Obligacje skarbowe_podmiot'!G79+'Bony skarbowe_podmiot'!G79","v":19966.48663575},{"$f":"'Obligacje skarbowe_podmiot'!H79+'Bony skarbowe_podmiot'!H79","v":2336.8512070000002},{"$f":"'Obligacje skarbowe_podmiot'!I79+'Bony skarbowe_podmiot'!I79","v":111.7932},{"$f":"'Obligacje skarbowe_podmiot'!J79+'Bony skarbowe_podmiot'!J79","v":738.60799999999995},{"$f":"'Obligacje skarbowe_podmiot'!K79+'Bony skarbowe_podmiot'!K79","v":19823.559094},{"$f":"'Obligacje skarbowe_podmiot'!L79+'Bony skarbowe_podmiot'!L79","v":45786.442063750001},{"$f":"'Obligacje skarbowe_podmiot'!M79+'Bony skarbowe_podmiot'!M79","v":137628.62944299998}]
[{"$f":"'Obligacje skarbowe_podmiot'!A80","v":"2020-07-31"},{"$f":"'Obligacje skarbowe_podmiot'!B80+'Bony skarbowe_podmiot'!B80","v":7193.2945907800004},{"$f":"'Obligacje skarbowe_podmiot'!C80+'Bony skarbowe_podmiot'!C80","v":18964.614000000001},{"$f":"'Obligacje skarbowe_podmiot'!D80+'Bony skarbowe_podmiot'!D80","v":364.7},{"$f":"'Obligacje skarbowe_podmiot'!E80+'Bony skarbowe_podmiot'!E80","v":14172.89},{"$f":"'Obligacje skarbowe_podmiot'!F80+'Bony skarbowe_podmiot'!F80","v":9814.5830000000005},{"$f":"'Obligacje skarbowe_podmiot'!G80+'Bony skarbowe_podmiot'!G80","v":18987.454514599998},{"$f":"'Obligacje skarbowe_podmiot'!H80+'Bony skarbowe_podmiot'!H80","v":1959.1189999999999},{"$f":"'Obligacje skarbowe_podmiot'!I80+'Bony skarbowe_podmiot'!I80","v":125.62609999999999},{"$f":"'Obligacje skarbowe_podmiot'!J80+'Bony skarbowe_podmiot'!J80","v":738.80799999999999},{"$f":"'Obligacje skarbowe_podmiot'!K80+'Bony skarbowe_podmiot'!K80","v":18918.416679999998},{"$f":"'Obligacje skarbowe_podmiot'!L80+'Bony skarbowe_podmiot'!L80","v":46438.139885800003},{"$f":"'Obligacje skarbowe_podmiot'!M80+'Bony skarbowe_podmiot'!M80","v":137677.64577117999}]
[{"$f":"'Obligacje skarbowe_podmiot'!A81","v":"2020-08-31"},{"$f":"'Obligacje skarbowe_podmiot'!B81+'Bony skarbowe_podmiot'!B81","v":5639.99856877},{"$f":"'Obligacje skarbowe_podmiot'!C81+'Bony skarbowe_podmiot'!C81","v":18529.661},{"$f":"'Obligacje skarbowe_podmiot'!D81+'Bony skarbowe_podmiot'!D81","v":350.7},{"$f":"'Obligacje skarbowe_podmiot'!E81+'Bony skarbowe_podmiot'!E81","v":14496.331},{"$f":"'Obligacje skarbowe_podmiot'!F81+'Bony skarbowe_podmiot'!F81","v":9882.9950000000008},{"$f":"'Obligacje skarbowe_podmiot'!G81+'Bony skarbowe_podmiot'!G81","v":18036.4856129},{"$f":"'Obligacje skarbowe_podmiot'!H81+'Bony skarbowe_podmiot'!H81","v":1914.788},{"$f":"'Obligacje skarbowe_podmiot'!I81+'Bony skarbowe_podmiot'!I81","v":119.15389999999999},{"$f":"'Obligacje skarbowe_podmiot'!J81+'Bony skarbowe_podmiot'!J81","v":731.726},{"$f":"'Obligacje skarbowe_podmiot'!K81+'Bony skarbowe_podmiot'!K81","v":19391.11214275},{"$f":"'Obligacje skarbowe_podmiot'!L81+'Bony skarbowe_podmiot'!L81","v":47470.274280750004},{"$f":"'Obligacje skarbowe_podmiot'!M81+'Bony skarbowe_podmiot'!M81","v":136563.22550517}]
[{"$f":"'Obligacje skarbowe_podmiot'!A82","v":"2020-09-30"},{"$f":"'Obligacje skarbowe_podmiot'!B82+'Bony skarbowe_podmiot'!B82","v":3609.4674209200002},{"$f":"'Obligacje skarbowe_podmiot'!C82+'Bony skarbowe_podmiot'!C82","v":19016.46},{"$f":"'Obligacje skarbowe_podmiot'!D82+'Bony skarbowe_podmiot'!D82","v":510.7},{"$f":"'Obligacje skarbowe_podmiot'!E82+'Bony skarbowe_podmiot'!E82","v":15025.630999999999},{"$f":"'Obligacje skarbowe_podmiot'!F82+'Bony skarbowe_podmiot'!F82","v":10453.084000000001},{"$f":"'Obligacje skarbowe_podmiot'!G82+'Bony skarbowe_podmiot'!G82","v":18325.646358900001},{"$f":"'Obligacje skarbowe_podmiot'!H82+'Bony skarbowe_podmiot'!H82","v":1876.0940000000001},{"$f":"'Obligacje skarbowe_podmiot'!I82+'Bony skarbowe_podmiot'!I82","v":120.3013},{"$f":"'Obligacje skarbowe_podmiot'!J82+'Bony skarbowe_podmiot'!J82","v":734.61400000000003},{"$f":"'Obligacje skarbowe_podmiot'!K82+'Bony skarbowe_podmiot'!K82","v":19250.495777749999},{"$f":"'Obligacje skarbowe_podmiot'!L82+'Bony skarbowe_podmiot'!L82","v":46803.255913400004},{"$f":"'Obligacje skarbowe_podmiot'!M82+'Bony skarbowe_podmiot'!M82","v":135725.74977097003}]
[{"$f":"'Obligacje skarbowe_podmiot'!A83","v":"2020-10-31"},2934.7248064999999,18869.722000000002,339.1,12610.305,11406.222,17462.157640699999,1747.0340000000001,119.5939,752.94600000000003,18352.83071871,46680.247724199995,131274.88379011001,131274.88379011001]
[{"$f":"'Obligacje skarbowe_podmiot'!A84","v":"2020-11-30"},2685.6729852600001,18940.38,411.7,13048.02,12162.346,17316.924980200001,1748.106,125.4577,769.846,18048.694973060003,47071.35068494,132328.49932346001]
[{"$f":"'Obligacje skarbowe_podmiot'!A85","v":"2020-12-31"},3979.4357035600001,19076.771000000001,411.7,13046.473,13237.43,17430.698721200002,1726.5740000000001,125.80549999999999,707.61199999999997,17429.233390360001,46586.261357639996,133757.99467275999]
[{"$f":"'Obligacje skarbowe_podmiot'!A86","v":"2021-01-31"},7360.9695709399994,19152.661,411.7,12836.573,14026.475,17003.270393799998,1729.1389999999999,130.69399999999999,703.61199999999997,17723.775369139999,48206.453732859998,139285.32306674001]
[{"$f":"'Obligacje skarbowe_podmiot'!A87","v":"2021-02-28"},7172.2368773299995,19242.842000000001,787.6,12722.130999999999,14680.615,16382.255106299999,1698.576,126.75539999999999,458.91199999999998,18992.64341275,47176.948032610002,139441.51482898998]
[{"$f":"'Obligacje skarbowe_podmiot'!A88","v":"2021-03-31"},6129.6109871899998,16858.755000000001,1076.654,12471.482,15157.357,16670.7095309,1721.846,129.84630000000001,471.77699999999999,17706.90249325,46344.26201423,134739.20232557002]
[{"$f":"'Obligacje skarbowe_podmiot'!A89","v":"2021-04-30"},4457.0147056099995,15737.269,634.20000000000005,12596.02,15630.905000000001,16194.6033271,245.91,130.91139999999999,458.72699999999998,17436.405571750001,47761.17158337,131283.13758783002]
[{"$f":"'Obligacje skarbowe_podmiot'!A90","v":"2021-05-31"},3213.6311064199999,15562.871999999999,74.599999999999994,10044.864,13678.491,14908.9675262,194.89,135.06379999999999,501.92700000000002,16560.562499420001,45313.990925140002,120189.85985718001,120189.85985718001]
[{"$f":"'Obligacje skarbowe_podmiot'!A91","v":"2021-06-30"},5188.3504217,16036.231,46.4,12065.329,13764.672,14070.909476999999,196.11,138.3416,475.42700000000002,16698.941925700001,44760.354461900002,123441.0668863]
[{"$f":"'Obligacje skarbowe_podmiot'!A92","v":"2021-07-31"},4363.9304036700005,16135.324000000001,106.60299999999999,13190.39,14701.516,15135.0497627,223.2,141.22640000000001,489.36700000000002,17888.61273407,45926.828426690001,128302.04772713]
[{"$f":"'Obligacje skarbowe_podmiot'!A93","v":"2021-08-31"},4800.2362371099998,16366.12,493.15899999999999,13830.841,14860.004999999999,13726.159629100001,1737.4760000000001,147.9134,475.86700000000002,17710.114110310002,44573.061642769993,128720.95301929]
[{"$f":"'Obligacje skarbowe_podmiot'!A94","v":"2021-09-30"},4546.0826247499999,15735.763000000001,569.97900000000004,14317.861000000001,14750.08,13457.977547500001,1639.123,152.40690000000001,460.66699999999997,17490.618344750001,46171.931423249996,129292.48984025]
[{"$f":"'Obligacje skarbowe_podmiot'!A95","v":"2021-10-31"},3400.7694195300001,15550.753000000001,552.47900000000004,14031.683999999999,13919.177,12643.007679299999,1532.865,154.82900000000001,472,16828.04597313,46562.15331971,125647.76339166999]
[{"$f":"'Obligacje skarbowe_podmiot'!A96","v":"2021-11-30"},2867.1432745700004,15701.35,476.17899999999997,11191.772999999999,13783.9,13707.129991700001,1483.269,158.50838942999999,477.3,17047.47461297,48788.781052489998,125682.80832116]
[{"$f":"'Obligacje skarbowe_podmiot'!A97","v":"2021-12-31"},2584.6162271599997,17563.241999999998,255.934,9287.5460000000003,13596.486999999999,14183.1802396,1450.9970000000001,170.26110996,547.29999999999995,15670.428418360001,49247.70627612,124557.6982712]
[{"$f":"'Obligacje skarbowe_podmiot'!A98","v":"2022-01-31"},2931.4354856599998,17544.974999999999,140.63399999999999,9681.9680000000008,13420.34,13852.9599289,1476.5129999999999,170.17136216,558.5,16310.076357489999,51247.25165436,127334.82478857]
[{"$f":"'Obligacje skarbowe_podmiot'!A99","v":"2022-02-28"},3557.83540442,17685.05,150.834,9721.0619999999999,13283.325999999999,14147.435894299999,1499.364,165.17455991999998,611.5,17089.185139630001,49210.491682699998,127121.25868097]
[{"$f":"'Obligacje skarbowe_podmiot'!A100","v":"2022-03-31"},6505.5908559600002,17699.957999999999,462.23399999999998,6260.3220000000001,13741.601000000001,15753.813503399999,1559.058,172.54576496000001,613.23500000000001,19392.88873794,47969.319222599996,130130.56608485999]
[{"$f":"'Obligacje skarbowe_podmiot'!A101","v":"2022-04-30"},4410.43129735,18593.791000000001,391.13400000000001,5622.9920000000002,14089.531999999999,18726.780753499999,1542.481,213.4435106,573.88499999999999,17518.84377435,53117.216657050005,134800.53099285002]
[{"$f":"'Obligacje skarbowe_podmiot'!A102","v":"2022-05-31"},6249.6727653400003,19917.271000000001,390.23399999999998,5234.91,14121.856,19910.626936099998,1603.893,222.60814076,667.88499999999999,19478.069309009999,52591.568092900001,140388.59424410999]
[{"$f":"'Obligacje skarbowe_podmiot'!A103","v":"2022-06-30"},4028.6182191599996,20313.330000000002,204.96799999999999,5830.1930000000002,15456.323,21042.249631400002,1658.184,240.31301069999998,738.85699999999997,18833.469342740002,58278.779794599999,146625.28499860002]
[{"$f":"'Obligacje skarbowe_podmiot'!A104","v":"2022-07-31"},3631.5412365799998,19700.845000000001,218.041,4796.1530000000002,15076.313,21044.9400207,1679.8389999999999,264.08033284999999,745.65700000000004,19209.331161869999,56042.298042300004,142409.03879430002]
[{"$f":"'Obligacje skarbowe_podmiot'!A105","v":"2022-08-31"},2196.04679764,21019.097000000002,164.53399999999999,3842.587,15777.267,20907.253740599997,1676.616,281.49798887999998,781.65700000000004,20274.05090246,57636.669513400004,144557.27694298001]
[{"$f":"'Obligacje skarbowe_podmiot'!A106","v":"2022-09-30"},3165.6180859400001,20796.397000000001,850.03899999999999,3302.3130000000001,17871.990000000002,20845.239323400001,1551.175,292.10157831999999,2037.8119999999999,20300.212149939998,57643.788340620005,148656.68547822002]
[{"$f":"'Obligacje skarbowe_podmiot'!A107","v":"2022-10-31"},1946.0472650499999,20914.651000000002,971.10500000000002,4090.5320000000002,17764.602999999999,20725.955180500001,1503.634,308.38411139999999,2012.8320000000001,21777.96487005,55893.860776150002,147909.56920314999]
[{"$f":"'Obligacje skarbowe_podmiot'!A108","v":"2022-11-30"},3377.2319334899998,21976.669000000002,1059.3399999999999,5516.8789999999999,17424.637999999999,21192.829928900002,1585.7360000000001,303.97947972000003,2059.6770000000001,20141.690559490002,54880.890134269997,149519.56103586999]
[{"$f":"'Obligacje skarbowe_podmiot'!A109","v":"2022-12-31"},2383.9728227099999,22215.392,1035.001,5245.7839999999997,17784.309000000001,19918.672353099999,1764.6890000000001,308.32215387999997,2113.4609999999998,20261.359076709999,53143.208578329999,146174.17098473001]
[{"$f":"'Obligacje skarbowe_podmiot'!A110","v":"2023-01-31"},3096.5255754299997,21393.620999999999,1474.5129999999999,5087.2560000000003,17935.762999999999,19957.1945123,1766.056,299.41730604000003,2095.0970000000002,19824.55735743,53338.000382890001,146268.00113408998]
[{"$f":"'Obligacje skarbowe_podmiot'!A111","v":"2023-02-28"},2144.0089907299998,20325.011999999999,1317.307,5527.3890000000001,17344.109,18230.468595300001,1745.8240000000001,304.96607444,1728.58,19831.425767730001,52369.557439789998,140868.64786798999]
[{"$f":"'Obligacje skarbowe_podmiot'!A112","v":"2023-03-31"},4243.44492713,19290.673999999999,1349.68,5974.0370000000003,17870.838,18449.8397993,1734.2059999999999,313.40101363999997,1720.9860000000001,19941.048064130002,51231.393016989998,142119.54782119003]
[{"$f":"'Obligacje skarbowe_podmiot'!A113","v":"2023-04-30"},3595.9353492,18987.679,1573.951,6170.866,17512.190999999999,18243.9705894,1736.7760000000001,307.60053726000001,1685.607,19812.14546254,50204.920741760005,139831.64268016]
[{"$f":"'Obligacje skarbowe_podmiot'!A114","v":"2023-05-31"},3977.2545971499999,18867.444,1462.3510000000001,6178.36,17416.756000000001,17662.807767099999,1704.366,319.62537658999997,1449.4680000000001,18382.509134110001,48755.006980639999,136175.94885559002]
[{"$f":"'Obligacje skarbowe_podmiot'!A115","v":"2023-06-30"},5254.3115788000005,20011.069,1142.402,5202.5219999999999,16125.843000000001,16410.096567200002,1598.578,330.35641319999996,1029.741,18463.69307352,49348.755548480003,134917.3681812]
[{"$f":"'Obligacje skarbowe_podmiot'!A116","v":"2023-07-31"},4120.1348149000005,19550.951000000001,1175.2840000000001,4697.6000000000004,16250.321,16443.143789500002,1636.6379999999999,338.49923074999998,1094.126,19190.609673999999,51485.080396800004,135982.38790594999]
[{"$f":"'Obligacje skarbowe_podmiot'!A117","v":"2023-08-31"},3949.9450000000002,19428.93,1191.143,4637.6229999999996,16815.423999999999,16087.48,1523.4469999999999,325.09249999999997,1185.0619999999999,18704.541000000001,50980.006999999998,134828.69449999998]
[{"$f":"'Obligacje skarbowe_podmiot'!A118","v":"2023-09-30"},5024.2129999999997,18090.237000000001,1093.3579999999999,4321.5119999999997,16352.652,15165.48,1402.607,362.46859999999998,940.875,17371.921999999999,49552.464,129677.7886]
[{"$f":"'Obligacje skarbowe_podmiot'!A119","v":"2023-10-31"},4349.2650000000003,17892.712,1179.9079999999999,3578.5549999999998,16645.261999999999,15022.31,1290.664,373.48259999999999,916.7,19085.675999999999,49739.913999999997,130074.44859999997]
[{"$f":"'Obligacje skarbowe_podmiot'!A120","v":"2023-11-30"},5048.6139999999996,18380.491999999998,1155.9359999999999,2688.4479999999999,16479.968000000001,15350.584999999999,1195.2739999999999,374.76310000000001,944.91200000000003,17313.116000000002,50522.582000000002,129454.69009999998]
[{"$f":"'Obligacje skarbowe_podmiot'!A121","v":"2023-12-31"},7921.0680000000002,18672.163,1164.866,2786.203,16765.52,15687.191999999999,1256.4590000000001,383.86599999999999,947.72699999999998,16999.317999999999,49589.716,132174.098]
[{"$f":"'Obligacje skarbowe_podmiot'!A122","v":"2024-01-31"},5176.598,18823.942999999999,1143.856,2119.6410000000001,16567.86,16060.896000000001,1200.077,383.06819999999999,804.46100000000001,16168.558999999999,53713.182999999997,132162.1422]
[{"$f":"'Obligacje skarbowe_podmiot'!A123","v":"2024-02-29"},4732.9679999999998,19620.245999999999,1143.508,1896.0989999999999,16638.059000000001,15411.793,1239.5250000000001,414.85829999999999,770.12199999999996,16209.954,55357.957000000002,133435.08930000002]
[{"$f":"'Obligacje skarbowe_podmiot'!A124","v":"2024-03-31"},4575.3329999999996,18326.856,1213.441,2599.3389999999999,17459.213,15942.98,1403.9970000000001,415.23,776.10199999999998,16062.922,53392.29,132167.70300000001]
[{"$f":"'Obligacje skarbowe_podmiot'!A125","v":"2024-04-30"},4470.47,20487.036,1202.8309999999999,1835.47,17741.556,16808.521000000001,1401.31,424.14080000000001,815.64099999999996,15838.671,50067.351999999999,131092.9988]
[{"$f":"'Obligacje skarbowe_podmiot'!A126","v":"2024-05-31"},4833.6850000000004,20221.744999999999,1241.5930000000001,2005.248,17271.985000000001,17348.077000000001,1403.51,429.77679999999998,836.19200000000001,15833.236000000001,51086.536999999997,132511.58480000001]
[{"$f":"'Obligacje skarbowe_podmiot'!A127","v":"2024-06-30"},6500.00756,21414.413,1259.683,2043.403,17613.245999999999,17912.670999999998,1451.4949999999999,448.88,886.19200000000001,16681.625,51320.168080000003,137531.78363999998]
[{"$f":"'Obligacje skarbowe_podmiot'!A128","v":"2024-07-31"},5656.9363636499993,21573.572,1184.6104620399999,2132.261,18846.731520199999,19660.24102225,1366.693,442.13371903999996,830.91704290999996,16485.170723669999,57619.629506810001,145798.89636056998]
["2024-08-31",6046.6904989599998,22306.355,944.29208087999996,2177.2220000000002,18112.073201799998,17757.922822839999,1364.5715719000002,445.04263487999998,871.33030292000012,16204.831766339999,57573.786782119998,143804.11866263999]
["2024-09-30",6276.5600738500007,22344.27997,1210.4431584000001,2327.0770000000002,18905.084156500001,17720.166767799998,1305.9364357500001,482.56433225000001,873.67175810000003,16977.446876950002,61160.5867019,149583.8172315]
["2024-10-31",6821.09212088,22426.754991999998,2673.8894151199997,2088.1480000000001,19047.629020880002,18196.096604080001,1156.1157412,491.14020360000001,868.01471215999993,17172.845627520001,57489.804868079998,148431.53130552001]
["2024-11-30",5741.5894161000006,22977.837469999999,2989.11788875,2199.5680000000002,18865.863309550001,19405.1751525,1164.4639999999999,498.23751974999999,850.16,18154.234961800001,57512.960475,150359.20819345]
["2024-12-31",5147.49983625,23233.70765,2933.642151,2425.236832,19440.957715,19669.753951250001,1271.60842275,501.04257625000002,1095.14174725,17129.287087000001,55572.515872000004,148420.39384074998]
["2025-01-31",7932.2286344499998,21811.021497999998,2124.70309597,2406.77976704,19789.2744198,20123.229271889999,1213.0100820799998,513.89286964999997,1097.1493257699999,17503.952994080002,60954.664914300003,155469.90687303001]
["2025-02-28",10304.70745656,21555.038024000001,2137.8368752800002,2607.2929955200002,19648.040087440004,20962.798224400001,1089.9425520799998,519.52668919999996,1100.8820035199999,17383.090806,64767.345559360001,162076.50127336002]
["2025-03-31",8665.5923202799986,21643.290228000002,2139.50323084,2617.5446774400002,20206.167083380002,21197.203073779998,1172.0308295999998,521.62953346000006,1098.2217157999999,16545.446734360001,64748.175639979992,160554.80506692]

{"sheet":"Obligacje skarbowe_region","index":4,"n_rows":136,"n_cols":16384,"rows_kept":136,"cut":false,"hidden":false,"merged":[[2,9,3,9],[2,10,3,10],[2,11,3,11],[0,0,1,11],[2,0,3,0],[2,1,3,1],[2,2,3,2],[2,3,3,3],[2,4,3,4],[2,5,3,5],[2,6,3,6],[2,7,3,7],[2,8,3,8]]}
["Struktura geograficzna nierezydentów w obligacjach skarbowych (mln zł)"]
[]
["Data","Europa - kraje strefy euro","Europa - kraje UE spoza strefy euro","Europa - kraje spoza UE","Afryka","Ameryka Południowa (w tym Karaiby)","Ameryka Północna","Australia i Oceania","Azja (bez Bliskiego Wschodu)","Bliski Wschód","Rachunki zbiorcze","Razem"]
[]
["2014-04-30",54853.987458060001,8810.6274987399993,9225.0801073999992,13.3225,1547.6443965999999,48960.041207969996,1595.9462375000001,26059.646287720003,6175.7404407100003,30397.89447363,{"$f":"SUM(B5:K5)","v":187639.93060833}]
[{"$f":"'Obligacje skarbowe_podmiot'!A6","v":"2014-05-31"},53952.492233680001,8682.1012772300001,9272.7041325600003,13.3225,1604.2802385,49659.677812499998,1596.7358002999999,27364.2249959,6648.7195685999995,30859.053028040002,189653.31158730999]
[{"$f":"'Obligacje skarbowe_podmiot'!A7","v":"2014-06-30"},57302.877883970003,10586.710828349998,9663.1166024800004,28.3325,1626.1842420999999,51588.742399170005,1642.1963179000002,28252.052133980003,6764.4530324099997,32366.672462250001,199821.33840261001]
[{"$f":"'Obligacje skarbowe_podmiot'!A8","v":"2014-07-31"},54295.27477453,10011.031321889999,9516.6342471400003,26.343699999999998,1702.2969934499999,50291.28975009,1686.0057950999999,28942.48777965,6592.6150635800004,33037.725373269997,196101.7047987]
[{"$f":"'Obligacje skarbowe_podmiot'!A9","v":"2014-08-31"},53572.628321499986,8914.014177770001,9473.0346456400002,26.354700000000001,1666.4449603,50971.173472009999,1690.2091363,30035.089223819999,6671.5629729700004,30106.787081029997,193127.29869133994]
[{"$f":"'Obligacje skarbowe_podmiot'!A10","v":"2014-09-30"},55605.631581979993,9138.5473384199995,9815.8724537800008,119.4449,1716.82247405,49629.859616799993,1426.001201,32354.780009720002,6563.7224825300009,31143.437565419998,197514.11962369998]
[{"$f":"'Obligacje skarbowe_podmiot'!A11","v":"2014-10-31"},54721.570000359992,8772.2183745599996,9780.4988913199995,119.4349,1517.5404242,46820.378885699996,1465.5888920999998,33580.203770580003,6118.0676759200005,32157.977722080002,195053.47953681997]
[{"$f":"'Obligacje skarbowe_podmiot'!A12","v":"2014-11-30"},53505.66482476001,7523.6246791099993,9945.0647234599983,119.4349,1530.1677721999999,46906.163042610002,1575.5037842000002,36468.024164480004,6251.9489653000001,32783.31824773,196608.91510385001]
[{"$f":"'Obligacje skarbowe_podmiot'!A13","v":"2014-12-31"},52704.777063460009,7088.6321707899997,9725.0134904999995,29.814900000000002,1554.7939777000001,45424.124112059995,1643.0837842000001,39290.051649599998,5507.4409717099998,33018.230698220003,195985.96281823999]
[{"$f":"'Obligacje skarbowe_podmiot'!A14","v":"2015-01-31"},53053.990181370005,10639.36007558,9721.3471835,29.814900000000002,1466.7728944999999,46861.402066260001,1662.5920987,42728.591258520006,5180.4570903100002,31179.275542349998,{"$f":"SUM(B14:K14)","v":202523.60329109}]
[{"$f":"'Obligacje skarbowe_podmiot'!A15","v":"2015-02-28"},52300.934083219996,9284.4714559200002,9812.5141270000004,48.374899999999997,1533.0168348,45862.322007910007,1645.1718693,43815.295827640002,5522.9888378400001,32314.109809530004,202139.19975316001]
[{"$f":"'Obligacje skarbowe_podmiot'!A16","v":"2015-03-31"},51064.347552860003,8556.6671867500008,9924.7415665000008,37.0809,1351.3835377,45215.352156379995,1599.5574254000001,46620.068631080001,5358.5496022699999,34064.24987285,203791.99843179001]
[{"$f":"'Obligacje skarbowe_podmiot'!A17","v":"2015-04-30"},48681.327050040003,10086.707936179999,9986.0680205000008,39.174900000000001,1342.7078814000001,40459.108620730003,1584.6012655,46966.164549759997,5417.2310371800004,34027.016767460002,198590.10802875002]
[{"$f":"'Obligacje skarbowe_podmiot'!A18","v":"2015-05-31"},48485.037195560006,9556.4469611999994,9955.2624629999991,31.444900000000001,1149.1389999999999,39402.217186300004,1367.7077902000001,48807.038880660002,5570.1839340799997,35570.306583359998,199894.78489436]
[{"$f":"'Obligacje skarbowe_podmiot'!A19","v":"2015-06-30"},50037.424131680003,9988.0845081000025,10021.448724,36.244900000000001,1043.1690000000001,41419.486501459993,1221.8930597999999,48190.010858679998,6032.69663184,35717.270934499997,{"$f":"SUM(B19:K19)","v":203707.72925005999}]
[{"$f":"'Obligacje skarbowe_podmiot'!A20","v":"2015-07-31"},48982.172242960005,9076.7084646799995,9894.2708600000005,34.554900000000004,1088.614,42511.294853139996,1175.2038494000001,49024.883514840003,6358.6737096000006,36806.479828119998,204952.85622274]
[{"$f":"'Obligacje skarbowe_podmiot'!A21","v":"2015-08-31"},50964.949309600008,8856.7523398799985,9978.8048600000002,30.264900000000001,1100.538,42190.641647340002,1201.7138494000001,47021.096514840006,5992.4417096000006,38268.301175599998,205605.50430626003]
[{"$f":"'Obligacje skarbowe_podmiot'!A22","v":"2015-09-30"},47817.664471240001,11090.105988839998,10145.577237,36.664900000000003,1110.6410000000001,44393.903609700006,1141.7381052000001,47025.071182400003,6381.1018789199989,39020.101768169996,208162.57014146997]
[{"$f":"'Obligacje skarbowe_podmiot'!A23","v":"2015-10-31"},48263.99103646,10765.665463130001,10025.8915793,33.614899999999999,1100.654,38883.479294160003,1020.6294874000001,46748.767007030001,6777.3095218599992,42331.307000929999,{"$f":"SUM(B23:K23)","v":205951.30929027003}]
[{"$f":"'Obligacje skarbowe_podmiot'!A24","v":"2015-11-30"},45541.156174660005,11318.116748239998,10376.382338899999,56.326799999999999,1044.6030000000001,38970.152868819998,1022.1558338,47945.031219730001,7109.324110900001,43182.245269380008,206565.49436443002]
[{"$f":"'Obligacje skarbowe_podmiot'!A25","v":"2015-12-31"},43845.963863559999,10565.919859489999,10439.315095200001,49.85,1033.511,37882.266555000002,997.8732248,49873.005881540004,7133.7863783999992,44938.05586439,206759.54772237997]
[{"$f":"'Obligacje skarbowe_podmiot'!A26","v":"2016-01-31"},43261.006017,9413.0410052400002,10685.694015200001,49.73,962.80700000000002,33741.806047500002,935.8451207999999,47060.926649340006,7015.9039047999995,40571.803377340002,193698.56313722002]
[{"$f":"'Obligacje skarbowe_podmiot'!A27","v":"2016-02-29"},37976.616570860002,10732.605865020001,10759.841289799999,49.73,812.67899999999997,29576.942663399997,839.6272894,45888.695741759999,7026.6593082800009,42884.723623059996,186548.12135158002]
[{"$f":"'Obligacje skarbowe_podmiot'!A28","v":"2016-03-31"},42100.27835886,10321.341836820002,10666.36461724,49.73,749.971,30512.34534,867.5105152000001,46345.695651999995,6307.2087807999997,42243.494168260004,190163.94026917999]
[{"$f":"'Obligacje skarbowe_podmiot'!A29","v":"2016-04-30"},34922.356630820002,11291.853920790001,10493.655122830001,49.73,663.77099999999996,27558.522683400002,1252.1779874000001,45829.417411299997,5872.2011076199997,50326.730086110001,188260.41595027002]
[{"$f":"'Obligacje skarbowe_podmiot'!A30","v":"2016-05-31"},35649.8100357,10138.991930350001,10553.023533450001,47.03,1367.694,29357.138803000005,1380.458259,48571.483464600002,5633.2767000000003,49838.616453949995,192537.52318005002,{"$f":"M29-M28","v":0},0,0,0,0,0,0,0,0,0,0,0,0,0,0,0,0,0,0,0,0,0,0,0,0,0,0,0,0,0,0,0,0,0,0,0,0,0,0,0,0,0,0,0,0,0,0,0,0,0,0,0,0,0,{"$f":"BO29-BO28","v":0},0,0,0,0,0,0,0,0,0,0,0,0,0,0,0,0,0,0,0,0,0,0,0,0,0,0,0,0,0,0,0,0,0,0,0,0,0,0,0,0,0,0,0,0,0,0,0,0,0,0,0,0,0,0,0,0,0,0,0,0,0,0,0,{"$f":"EA29-EA28","v":0},0,0,0,0,0,0,0,0,0,0,0,0,0,0,0,0,0,0,0,0,0,0,0,0,0,0,0,0,0,0,0,0,0,0,0,0,0,0,0,0,0,0,0,0,0,0,0,0,0,0,0,0,0,0,0,0,0,0,0,0,0,0,0,{"$f":"GM29-GM28","v":0},0,0,0,0,0,0,0,0,0,0,0,0,0,0,0,0,0,0,0,0,0,0,0,0,0,0,0,0,0,0,0,0,0,0,0,0,0,0,0,0,0,0,0,0,0,0,0,0,0,0,0,0,0,0,0,0,0,0,0,0,0,0,0,{"$f":"IY29-IY28","v":0},0,0,0,0,0,0,0,0,0,0,0,0,0,0,0,0,0,0,0,0,0,0,0,0,0,0,0,0,0,0,0,0,0,0,0,0,0,0,0,0,0,0,0,0,0,0,0,0,0,0,0,0,0,0,0,0,0,0,0,0,0,0,0,{"$f":"LK29-LK28","v":0},0,0,0,0,0,0,0,0,0,0,0,0,0,0,0,0,0,0,0,0,0,0,0,0,0,0,0,0,0,0,0,0,0,0,0,0,0,0,0,0,0,0,0,0,0,0,0,0,0,0,0,0,0,0,0,0,0,0,0,0,0,0,0,{"$f":"NW29-NW28","v":0},0,0,0,0,0,0,0,0,0,0,0,0,0,0,0,0,0,0,0,0,0,0,0,0,0,0,0,0,0,0,0,0,0,0,0,0,0,0,0,0,0,0,0,0,0,0,0,0,0,0,0,0,0,0,0,0,0,0,0,0,0,0,0,{"$f":"QI29-QI28","v":0},0,0,0,0,0,0,0,0,0,0,0,0,0,0,0,0,0,0,0,0,0,0,0,0,0,0,0,0,0,0,0,0,0,0,0,0,0,0,0,0,0,0,0,0,0,0,0,0,0,0,0,0,0,0,0,0,0,0,0,0,0,0,0,{"$f":"SU29-SU28","v":0},0,0,0,0,0,0,0,0,0,0,0,0,0,0,0,0,0,0,0,0,0,0,0,0,0,0,0,0,0,0,0,0,0,0,0,0,0,0,0,0,0,0,0,0,0,0,0,0,0,0,0,0,0,0,0,0,0,0,0,0,0,0,0,{"$f":"VG29-VG28","v":0},0,0,0,0,0,0,0,0,0,0,0,0,0,0,0,0,0,0,0,0,0,0,0,0,0,0,0,0,0,0,0,0,0,0,0,0,0,0,0,0,0,0,0,0,0,0,0,0,0,0,0,0,0,0,0,0,0,0,0,0,0,0,0,{"$f":"XS29-XS28","v":0},0,0,0,0,0,0,0,0,0,0,0,0,0,0,0,0,0,0,0,0,0,0,0,0,0,0,0,0,0,0,0,0,0,0,0,0,0,0,0,0,0,0,0,0,0,0,0,0,0,0,0,0,0,0,0,0,0,0,0,0,0,0,0,{"$f":"AAE29-AAE28","v":0},0,0,0,0,0,0,0,0,0,0,0,0,0,0,0,0,0,0,0,0,0,0,0,0,0,0,0,0,0,0,0,0,0,0,0,0,0,0,0,0,0,0,0,0,0,0,0,0,0,0,0,0,0,0,0,0,0,0,0,0,0,0,0,{"$f":"ACQ29-ACQ28","v":0},0,0,0,0,0,0,0,0,0,0,0,0,0,0,0,0,0,0,0,0,0,0,0,0,0,0,0,0,0,0,0,0,0,0,0,0,0,0,0,0,0,0,0,0,0,0,0,0,0,0,0,0,0,0,0,0,0,0,0,0,0,0,0,{"$f":"AFC29-AFC28","v":0},0,0,0,0,0,0,0,0,0,0,0,0,0,0,0,0,0,0,0,0,0,0,0,0,0,0,0,0,0,0,0,0,0,0,0,0,0,0,0,0,0,0,0,0,0,0,0,0,0,0,0,0,0,0,0,0,0,0,0,0,0,0,0,{"$f":"AHO29-AHO28","v":0},0,0,0,0,0,0,0,0,0,0,0,0,0,0,0,0,0,0,0,0,0,0,0,0,0,0,0,0,0,0,0,0,0,0,0,0,0,0,0,0,0,0,0,0,0,0,0,0,0,0,0,0,0,0,0,0,0,0,0,0,0,0,0,{"$f":"AKA29-AKA28","v":0},0,0,0,0,0,0,0,0,0,0,0,0,0,0,0,0,0,0,0,0,0,0,0,0,0,0,0,0,0,0,0,0,0,0,0,0,0,0,0,0,0,0,0,0,0,0,0,0,0,0,0,0,0,0,0,0,0,0,0,0,0,0,0,{"$f":"AMM29-AMM28","v":0},0,0,0,0,0,0,0,0,0,0,0,0,0,0,0,0,0,0,0,0,0,0,0,0,0,0,0,0,0,0,0,0,0,0,0,0,0,0,0,0,0,0,0,0,0,0,0,0,0,0,0,0,0,0,0,0,0,0,0,0,0,0,0,{"$f":"AOY29-AOY28","v":0},0,0,0,0,0,0,0,0,0,0,0,0,0,0,0,0,0,0,0,0,0,0,0,0,0,0,0,0,0,0,0,0,0,0,0,0,0,0,0,0,0,0,0,0,0,0,0,0,0,0,0,0,0,0,0,0,0,0,0,0,0,0,0,{"$f":"ARK29-ARK28","v":0},0,0,0,0,0,0,0,0,0,0,0,0,0,0,0,0,0,0,0,0,0,0,0,0,0,0,0,0,0,0,0,0,0,0,0,0,0,0,0,0,0,0,0,0,0,0,0,0,0,0,0,0,0,0,0,0,0,0,0,0,0,0,0,{"$f":"ATW29-ATW28","v":0},0,0,0,0,0,0,0,0,0,0,0,0,0,0,0,0,0,0,0,0,0,0,0,0,0,0,0,0,0,0,0,0,0,0,0,0,0,0,0,0,0,0,0,0,0,0,0,0,0,0,0,0,0,0,0,0,0,0,0,0,0,0,0,{"$f":"AWI29-AWI28","v":0},0,0,0,0,0,0,0,0,0,0,0,0,0,0,0,0,0,0,0,0,0,0,0,0,0,0,0,0,0,0,0,0,0,0,0,0,0,0,0,0,0,0,0,0,0,0,0,0,0,0,0,0,0,0,0,0,0,0,0,0,0,0,0,{"$f":"AYU29-AYU28","v":0},0,0,0,0,0,0,0,0,0,0,0,0,0,0,0,0,0,0,0,0,0,0,0,0,0,0,0,0,0,0,0,0,0,0,0,0,0,0,0,0,0,0,0,0,0,0,0,0,0,0,0,0,0,0,0,0,0,0,0,0,0,0,0,{"$f":"BBG29-BBG28","v":0},0,0,0,0,0,0,0,0,0,0,0,0,0,0,0,0,0,0,0,0,0,0,0,0,0,0,0,0,0,0,0,0,0,0,0,0,0,0,0,0,0,0,0,0,0,0,0,0,0,0,0,0,0,0,0,0,0,0,0,0,0,0,0,{"$f":"BDS29-BDS28","v":0},0,0,0,0,0,0,0,0,0,0,0,0,0,0,0,0,0,0,0,0,0,0,0,0,0,0,0,0,0,0,0,0,0,0,0,0,0,0,0,0,0,0,0,0,0,0,0,0,0,0,0,0,0,0,0,0,0,0,0,0,0,0,0,{"$f":"BGE29-BGE28","v":0},0,0,0,0,0,0,0,0,0,0,0,0,0,0,0,0,0,0,0,0,0,0,0,0,0,0,0,0,0,0,0,0,0,0,0,0,0,0,0,0,0,0,0,0,0,0,0,0,0,0,0,0,0,0,0,0,0,0,0,0,0,0,0,{"$f":"BIQ29-BIQ28","v":0},0,0,0,0,0,0,0,0,0,0,0,0,0,0,0,0,0,0,0,0,0,0,0,0,0,0,0,0,0,0,0,0,0,0,0,0,0,0,0,0,0,0,0,0,0,0,0,0,0,0,0,0,0,0,0,0,0,0,0,0,0,0,0,{"$f":"BLC29-BLC28","v":0},0,0,0,0,0,0,0,0,0,0,0,0,0,0,0,0,0,0,0,0,0,0,0,0,0,0,0,0,0,0,0,0,0,0,0,0,0,0,0,0,0,0,0,0,0,0,0,0,0,0,0,0,0,0,0,0,0,0,0,0,0,0,0,{"$f":"BNO29-BNO28","v":0},0,0,0,0,0,0,0,0,0,0,0,0,0,0,0,0,0,0,0,0,0,0,0,0,0,0,0,0,0,0,0,0,0,0,0,0,0,0,0,0,0,0,0,0,0,0,0,0,0,0,0,0,0,0,0,0,0,0,0,0,0,0,0,{"$f":"BQA29-BQA28","v":0},0,0,0,0,0,0,0,0,0,0,0,0,0,0,0,0,0,0,0,0,0,0,0,0,0,0,0,0,0,0,0,0,0,0,0,0,0,0,0,0,0,0,0,0,0,0,0,0,0,0,0,0,0,0,0,0,0,0,0,0,0,0,0,{"$f":"BSM29-BSM28","v":0},0,0,0,0,0,0,0,0,0,0,0,0,0,0,0,0,0,0,0,0,0,0,0,0,0,0,0,0,0,0,0,0,0,0,0,0,0,0,0,0,0,0,0,0,0,0,0,0,0,0,0,0,0,0,0,0,0,0,0,0,0,0,0,{"$f":"BUY29-BUY28","v":0},0,0,0,0,0,0,0,0,0,0,0,0,0,0,0,0,0,0,0,0,0,0,0,0,0,0,0,0,0,0,0,0,0,0,0,0,0,0,0,0,0,0,0,0,0,0,0,0,0,0,0,0,0,0,0,0,0,0,0,0,0,0,0,{"$f":"BXK29-BXK28","v":0},0,0,0,0,0,0,0,0,0,0,0,0,0,0,0,0,0,0,0,0,0,0,0,0,0,0,0,0,0,0,0,0,0,0,0,0,0,0,0,0,0,0,0,0,0,0,0,0,0,0,0,0,0,0,0,0,0,0,0,0,0,0,0,{"$f":"BZW29-BZW28","v":0},0,0,0,0,0,0,0,0,0,0,0,0,0,0,0,0,0,0,0,0,0,0,0,0,0,0,0,0,0,0,0,0,0,0,0,0,0,0,0,0,0,0,0,0,0,0,0,0,0,0,0,0,0,0,0,0,0,0,0,0,0,0,0,{"$f":"CCI29-CCI28","v":0},0,0,0,0,0,0,0,0,0,0,0,0,0,0,0,0,0,0,0,0,0,0,0,0,0,0,0,0,0,0,0,0,0,0,0,0,0,0,0,0,0,0,0,0,0,0,0,0,0,0,0,0,0,0,0,0,0,0,0,0,0,0,0,{"$f":"CEU29-CEU28","v":0},0,0,0,0,0,0,0,0,0,0,0,0,0,0,0,0,0,0,0,0,0,0,0,0,0,0,0,0,0,0,0,0,0,0,0,0,0,0,0,0,0,0,0,0,0,0,0,0,0,0,0,0,0,0,0,0,0,0,0,0,0,0,0,{"$f":"CHG29-CHG28","v":0},0,0,0,0,0,0,0,0,0,0,0,0,0,0,0,0,0,0,0,0,0,0,0,0,0,0,0,0,0,0,0,0,0,0,0,0,0,0,0,0,0,0,0,0,0,0,0,0,0,0,0,0,0,0,0,0,0,0,0,0,0,0,0,{"$f":"CJS29-CJS28","v":0},0,0,0,0,0,0,0,0,0,0,0,0,0,0,0,0,0,0,0,0,0,0,0,0,0,0,0,0,0,0,0,0,0,0,0,0,0,0,0,0,0,0,0,0,0,0,0,0,0,0,0,0,0,0,0,0,0,0,0,0,0,0,0,{"$f":"CME29-CME28","v":0},0,0,0,0,0,0,0,0,0,0,0,0,0,0,0,0,0,0,0,0,0,0,0,0,0,0,0,0,0,0,0,0,0,0,0,0,0,0,0,0,0,0,0,0,0,0,0,0,0,0,0,0,0,0,0,0,0,0,0,0,0,0,0,{"$f":"COQ29-COQ28","v":0},0,0,0,0,0,0,0,0,0,0,0,0,0,0,0,0,0,0,0,0,0,0,0,0,0,0,0,0,0,0,0,0,0,0,0,0,0,0,0,0,0,0,0,0,0,0,0,0,0,0,0,0,0,0,0,0,0,0,0,0,0,0,0,{"$f":"CRC29-CRC28","v":0},0,0,0,0,0,0,0,0,0,0,0,0,0,0,0,0,0,0,0,0,0,0,0,0,0,0,0,0,0,0,0,0,0,0,0,0,0,0,0,0,0,0,0,0,0,0,0,0,0,0,0,0,0,0,0,0,0,0,0,0,0,0,0,{"$f":"CTO29-CTO28","v":0},0,0,0,0,0,0,0,0,0,0,0,0,0,0,0,0,0,0,0,0,0,0,0,0,0,0,0,0,0,0,0,0,0,0,0,0,0,0,0,0,0,0,0,0,0,0,0,0,0,0,0,0,0,0,0,0,0,0,0,0,0,0,0,{"$f":"CWA29-CWA28","v":0},0,0,0,0,0,0,0,0,0,0,0,0,0,0,0,0,0,0,0,0,0,0,0,0,0,0,0,0,0,0,0,0,0,0,0,0,0,0,0,0,0,0,0,0,0,0,0,0,0,0,0,0,0,0,0,0,0,0,0,0,0,0,0,{"$f":"CYM29-CYM28","v":0},0,0,0,0,0,0,0,0,0,0,0,0,0,0,0,0,0,0,0,0,0,0,0,0,0,0,0,0,0,0,0,0,0,0,0,0,0,0,0,0,0,0,0,0,0,0,0,0,0,0,0,0,0,0,0,0,0,0,0,0,0,0,0,{"$f":"DAY29-DAY28","v":0},0,0,0,0,0,0,0,0,0,0,0,0,0,0,0,0,0,0,0,0,0,0,0,0,0,0,0,0,0,0,0,0,0,0,0,0,0,0,0,0,0,0,0,0,0,0,0,0,0,0,0,0,0,0,0,0,0,0,0,0,0,0,0,{"$f":"DDK29-DDK28","v":0},0,0,0,0,0,0,0,0,0,0,0,0,0,0,0,0,0,0,0,0,0,0,0,0,0,0,0,0,0,0,0,0,0,0,0,0,0,0,0,0,0,0,0,0,0,0,0,0,0,0,0,0,0,0,0,0,0,0,0,0,0,0,0,{"$f":"DFW29-DFW28","v":0},0,0,0,0,0,0,0,0,0,0,0,0,0,0,0,0,0,0,0,0,0,0,0,0,0,0,0,0,0,0,0,0,0,0,0,0,0,0,0,0,0,0,0,0,0,0,0,0,0,0,0,0,0,0,0,0,0,0,0,0,0,0,0,{"$f":"DII29-DII28","v":0},0,0,0,0,0,0,0,0,0,0,0,0,0,0,0,0,0,0,0,0,0,0,0,0,0,0,0,0,0,0,0,0,0,0,0,0,0,0,0,0,0,0,0,0,0,0,0,0,0,0,0,0,0,0,0,0,0,0,0,0,0,0,0,{"$f":"DKU29-DKU28","v":0},0,0,0,0,0,0,0,0,0,0,0,0,0,0,0,0,0,0,0,0,0,0,0,0,0,0,0,0,0,0,0,0,0,0,0,0,0,0,0,0,0,0,0,0,0,0,0,0,0,0,0,0,0,0,0,0,0,0,0,0,0,0,0,{"$f":"DNG29-DNG28","v":0},0,0,0,0,0,0,0,0,0,0,0,0,0,0,0,0,0,0,0,0,0,0,0,0,0,0,0,0,0,0,0,0,0,0,0,0,0,0,0,0,0,0,0,0,0,0,0,0,0,0,0,0,0,0,0,0,0,0,0,0,0,0,0,{"$f":"DPS29-DPS28","v":0},0,0,0,0,0,0,0,0,0,0,0,0,0,0,0,0,0,0,0,0,0,0,0,0,0,0,0,0,0,0,0,0,0,0,0,0,0,0,0,0,0,0,0,0,0,0,0,0,0,0,0,0,0,0,0,0,0,0,0,0,0,0,0,{"$f":"DSE29-DSE28","v":0},0,0,0,0,0,0,0,0,0,0,0,0,0,0,0,0,0,0,0,0,0,0,0,0,0,0,0,0,0,0,0,0,0,0,0,0,0,0,0,0,0,0,0,0,0,0,0,0,0,0,0,0,0,0,0,0,0,0,0,0,0,0,0,{"$f":"DUQ29-DUQ28","v":0},0,0,0,0,0,0,0,0,0,0,0,0,0,0,0,0,0,0,0,0,0,0,0,0,0,0,0,0,0,0,0,0,0,0,0,0,0,0,0,0,0,0,0,0,0,0,0,0,0,0,0,0,0,0,0,0,0,0,0,0,0,0,0,{"$f":"DXC29-DXC28","v":0},0,0,0,0,0,0,0,0,0,0,0,0,0,0,0,0,0,0,0,0,0,0,0,0,0,0,0,0,0,0,0,0,0,0,0,0,0,0,0,0,0,0,0,0,0,0,0,0,0,0,0,0,0,0,0,0,0,0,0,0,0,0,0,{"$f":"DZO29-DZO28","v":0},0,0,0,0,0,0,0,0,0,0,0,0,0,0,0,0,0,0,0,0,0,0,0,0,0,0,0,0,0,0,0,0,0,0,0,0,0,0,0,0,0,0,0,0,0,0,0,0,0,0,0,0,0,0,0,0,0,0,0,0,0,0,0,{"$f":"ECA29-ECA28","v":0},0,0,0,0,0,0,0,0,0,0,0,0,0,0,0,0,0,0,0,0,0,0,0,0,0,0,0,0,0,0,0,0,0,0,0,0,0,0,0,0,0,0,0,0,0,0,0,0,0,0,0,0,0,0,0,0,0,0,0,0,0,0,0,{"$f":"EEM29-EEM28","v":0},0,0,0,0,0,0,0,0,0,0,0,0,0,0,0,0,0,0,0,0,0,0,0,0,0,0,0,0,0,0,0,0,0,0,0,0,0,0,0,0,0,0,0,0,0,0,0,0,0,0,0,0,0,0,0,0,0,0,0,0,0,0,0,{"$f":"EGY29-EGY28","v":0},0,0,0,0,0,0,0,0,0,0,0,0,0,0,0,0,0,0,0,0,0,0,0,0,0,0,0,0,0,0,0,0,0,0,0,0,0,0,0,0,0,0,0,0,0,0,0,0,0,0,0,0,0,0,0,0,0,0,0,0,0,0,0,{"$f":"EJK29-EJK28","v":0},0,0,0,0,0,0,0,0,0,0,0,0,0,0,0,0,0,0,0,0,0,0,0,0,0,0,0,0,0,0,0,0,0,0,0,0,0,0,0,0,0,0,0,0,0,0,0,0,0,0,0,0,0,0,0,0,0,0,0,0,0,0,0,{"$f":"ELW29-ELW28","v":0},0,0,0,0,0,0,0,0,0,0,0,0,0,0,0,0,0,0,0,0,0,0,0,0,0,0,0,0,0,0,0,0,0,0,0,0,0,0,0,0,0,0,0,0,0,0,0,0,0,0,0,0,0,0,0,0,0,0,0,0,0,0,0,{"$f":"EOI29-EOI28","v":0},0,0,0,0,0,0,0,0,0,0,0,0,0,0,0,0,0,0,0,0,0,0,0,0,0,0,0,0,0,0,0,0,0,0,0,0,0,0,0,0,0,0,0,0,0,0,0,0,0,0,0,0,0,0,0,0,0,0,0,0,0,0,0,{"$f":"EQU29-EQU28","v":0},0,0,0,0,0,0,0,0,0,0,0,0,0,0,0,0,0,0,0,0,0,0,0,0,0,0,0,0,0,0,0,0,0,0,0,0,0,0,0,0,0,0,0,0,0,0,0,0,0,0,0,0,0,0,0,0,0,0,0,0,0,0,0,{"$f":"ETG29-ETG28","v":0},0,0,0,0,0,0,0,0,0,0,0,0,0,0,0,0,0,0,0,0,0,0,0,0,0,0,0,0,0,0,0,0,0,0,0,0,0,0,0,0,0,0,0,0,0,0,0,0,0,0,0,0,0,0,0,0,0,0,0,0,0,0,0,{"$f":"EVS29-EVS28","v":0},0,0,0,0,0,0,0,0,0,0,0,0,0,0,0,0,0,0,0,0,0,0,0,0,0,0,0,0,0,0,0,0,0,0,0,0,0,0,0,0,0,0,0,0,0,0,0,0,0,0,0,0,0,0,0,0,0,0,0,0,0,0,0,{"$f":"EYE29-EYE28","v":0},0,0,0,0,0,0,0,0,0,0,0,0,0,0,0,0,0,0,0,0,0,0,0,0,0,0,0,0,0,0,0,0,0,0,0,0,0,0,0,0,0,0,0,0,0,0,0,0,0,0,0,0,0,0,0,0,0,0,0,0,0,0,0,{"$f":"FAQ29-FAQ28","v":0},0,0,0,0,0,0,0,0,0,0,0,0,0,0,0,0,0,0,0,0,0,0,0,0,0,0,0,0,0,0,0,0,0,0,0,0,0,0,0,0,0,0,0,0,0,0,0,0,0,0,0,0,0,0,0,0,0,0,0,0,0,0,0,{"$f":"FDC29-FDC28","v":0},0,0,0,0,0,0,0,0,0,0,0,0,0,0,0,0,0,0,0,0,0,0,0,0,0,0,0,0,0,0,0,0,0,0,0,0,0,0,0,0,0,0,0,0,0,0,0,0,0,0,0,0,0,0,0,0,0,0,0,0,0,0,0,{"$f":"FFO29-FFO28","v":0},0,0,0,0,0,0,0,0,0,0,0,0,0,0,0,0,0,0,0,0,0,0,0,0,0,0,0,0,0,0,0,0,0,0,0,0,0,0,0,0,0,0,0,0,0,0,0,0,0,0,0,0,0,0,0,0,0,0,0,0,0,0,0,{"$f":"FIA29-FIA28","v":0},0,0,0,0,0,0,0,0,0,0,0,0,0,0,0,0,0,0,0,0,0,0,0,0,0,0,0,0,0,0,0,0,0,0,0,0,0,0,0,0,0,0,0,0,0,0,0,0,0,0,0,0,0,0,0,0,0,0,0,0,0,0,0,{"$f":"FKM29-FKM28","v":0},0,0,0,0,0,0,0,0,0,0,0,0,0,0,0,0,0,0,0,0,0,0,0,0,0,0,0,0,0,0,0,0,0,0,0,0,0,0,0,0,0,0,0,0,0,0,0,0,0,0,0,0,0,0,0,0,0,0,0,0,0,0,0,{"$f":"FMY29-FMY28","v":0},0,0,0,0,0,0,0,0,0,0,0,0,0,0,0,0,0,0,0,0,0,0,0,0,0,0,0,0,0,0,0,0,0,0,0,0,0,0,0,0,0,0,0,0,0,0,0,0,0,0,0,0,0,0,0,0,0,0,0,0,0,0,0,{"$f":"FPK29-FPK28","v":0},0,0,0,0,0,0,0,0,0,0,0,0,0,0,0,0,0,0,0,0,0,0,0,0,0,0,0,0,0,0,0,0,0,0,0,0,0,0,0,0,0,0,0,0,0,0,0,0,0,0,0,0,0,0,0,0,0,0,0,0,0,0,0,{"$f":"FRW29-FRW28","v":0},0,0,0,0,0,0,0,0,0,0,0,0,0,0,0,0,0,0,0,0,0,0,0,0,0,0,0,0,0,0,0,0,0,0,0,0,0,0,0,0,0,0,0,0,0,0,0,0,0,0,0,0,0,0,0,0,0,0,0,0,0,0,0,{"$f":"FUI29-FUI28","v":0},0,0,0,0,0,0,0,0,0,0,0,0,0,0,0,0,0,0,0,0,0,0,0,0,0,0,0,0,0,0,0,0,0,0,0,0,0,0,0,0,0,0,0,0,0,0,0,0,0,0,0,0,0,0,0,0,0,0,0,0,0,0,0,{"$f":"FWU29-FWU28","v":0},0,0,0,0,0,0,0,0,0,0,0,0,0,0,0,0,0,0,0,0,0,0,0,0,0,0,0,0,0,0,0,0,0,0,0,0,0,0,0,0,0,0,0,0,0,0,0,0,0,0,0,0,0,0,0,0,0,0,0,0,0,0,0,{"$f":"FZG29-FZG28","v":0},0,0,0,0,0,0,0,0,0,0,0,0,0,0,0,0,0,0,0,0,0,0,0,0,0,0,0,0,0,0,0,0,0,0,0,0,0,0,0,0,0,0,0,0,0,0,0,0,0,0,0,0,0,0,0,0,0,0,0,0,0,0,0,{"$f":"GBS29-GBS28","v":0},0,0,0,0,0,0,0,0,0,0,0,0,0,0,0,0,0,0,0,0,0,0,0,0,0,0,0,0,0,0,0,0,0,0,0,0,0,0,0,0,0,0,0,0,0,0,0,0,0,0,0,0,0,0,0,0,0,0,0,0,0,0,0,{"$f":"GEE29-GEE28","v":0},0,0,0,0,0,0,0,0,0,0,0,0,0,0,0,0,0,0,0,0,0,0,0,0,0,0,0,0,0,0,0,0,0,0,0,0,0,0,0,0,0,0,0,0,0,0,0,0,0,0,0,0,0,0,0,0,0,0,0,0,0,0,0,{"$f":"GGQ29-GGQ28","v":0},0,0,0,0,0,0,0,0,0,0,0,0,0,0,0,0,0,0,0,0,0,0,0,0,0,0,0,0,0,0,0,0,0,0,0,0,0,0,0,0,0,0,0,0,0,0,0,0,0,0,0,0,0,0,0,0,0,0,0,0,0,0,0,{"$f":"GJC29-GJC28","v":0},0,0,0,0,0,0,0,0,0,0,0,0,0,0,0,0,0,0,0,0,0,0,0,0,0,0,0,0,0,0,0,0,0,0,0,0,0,0,0,0,0,0,0,0,0,0,0,0,0,0,0,0,0,0,0,0,0,0,0,0,0,0,0,{"$f":"GLO29-GLO28","v":0},0,0,0,0,0,0,0,0,0,0,0,0,0,0,0,0,0,0,0,0,0,0,0,0,0,0,0,0,0,0,0,0,0,0,0,0,0,0,0,0,0,0,0,0,0,0,0,0,0,0,0,0,0,0,0,0,0,0,0,0,0,0,0,{"$f":"GOA29-GOA28","v":0},0,0,0,0,0,0,0,0,0,0,0,0,0,0,0,0,0,0,0,0,0,0,0,0,0,0,0,0,0,0,0,0,0,0,0,0,0,0,0,0,0,0,0,0,0,0,0,0,0,0,0,0,0,0,0,0,0,0,0,0,0,0,0,{"$f":"GQM29-GQM28","v":0},0,0,0,0,0,0,0,0,0,0,0,0,0,0,0,0,0,0,0,0,0,0,0,0,0,0,0,0,0,0,0,0,0,0,0,0,0,0,0,0,0,0,0,0,0,0,0,0,0,0,0,0,0,0,0,0,0,0,0,0,0,0,0,{"$f":"GSY29-GSY28","v":0},0,0,0,0,0,0,0,0,0,0,0,0,0,0,0,0,0,0,0,0,0,0,0,0,0,0,0,0,0,0,0,0,0,0,0,0,0,0,0,0,0,0,0,0,0,0,0,0,0,0,0,0,0,0,0,0,0,0,0,0,0,0,0,{"$f":"GVK29-GVK28","v":0},0,0,0,0,0,0,0,0,0,0,0,0,0,0,0,0,0,0,0,0,0,0,0,0,0,0,0,0,0,0,0,0,0,0,0,0,0,0,0,0,0,0,0,0,0,0,0,0,0,0,0,0,0,0,0,0,0,0,0,0,0,0,0,{"$f":"GXW29-GXW28","v":0},0,0,0,0,0,0,0,0,0,0,0,0,0,0,0,0,0,0,0,0,0,0,0,0,0,0,0,0,0,0,0,0,0,0,0,0,0,0,0,0,0,0,0,0,0,0,0,0,0,0,0,0,0,0,0,0,0,0,0,0,0,0,0,{"$f":"HAI29-HAI28","v":0},0,0,0,0,0,0,0,0,0,0,0,0,0,0,0,0,0,0,0,0,0,0,0,0,0,0,0,0,0,0,0,0,0,0,0,0,0,0,0,0,0,0,0,0,0,0,0,0,0,0,0,0,0,0,0,0,0,0,0,0,0,0,0,{"$f":"HCU29-HCU28","v":0},0,0,0,0,0,0,0,0,0,0,0,0,0,0,0,0,0,0,0,0,0,0,0,0,0,0,0,0,0,0,0,0,0,0,0,0,0,0,0,0,0,0,0,0,0,0,0,0,0,0,0,0,0,0,0,0,0,0,0,0,0,0,0,{"$f":"HFG29-HFG28","v":0},0,0,0,0,0,0,0,0,0,0,0,0,0,0,0,0,0,0,0,0,0,0,0,0,0,0,0,0,0,0,0,0,0,0,0,0,0,0,0,0,0,0,0,0,0,0,0,0,0,0,0,0,0,0,0,0,0,0,0,0,0,0,0,{"$f":"HHS29-HHS28","v":0},0,0,0,0,0,0,0,0,0,0,0,0,0,0,0,0,0,0,0,0,0,0,0,0,0,0,0,0,0,0,0,0,0,0,0,0,0,0,0,0,0,0,0,0,0,0,0,0,0,0,0,0,0,0,0,0,0,0,0,0,0,0,0,{"$f":"HKE29-HKE28","v":0},0,0,0,0,0,0,0,0,0,0,0,0,0,0,0,0,0,0,0,0,0,0,0,0,0,0,0,0,0,0,0,0,0,0,0,0,0,0,0,0,0,0,0,0,0,0,0,0,0,0,0,0,0,0,0,0,0,0,0,0,0,0,0,{"$f":"HMQ29-HMQ28","v":0},0,0,0,0,0,0,0,0,0,0,0,0,0,0,0,0,0,0,0,0,0,0,0,0,0,0,0,0,0,0,0,0,0,0,0,0,0,0,0,0,0,0,0,0,0,0,0,0,0,0,0,0,0,0,0,0,0,0,0,0,0,0,0,{"$f":"HPC29-HPC28","v":0},0,0,0,0,0,0,0,0,0,0,0,0,0,0,0,0,0,0,0,0,0,0,0,0,0,0,0,0,0,0,0,0,0,0,0,0,0,0,0,0,0,0,0,0,0,0,0,0,0,0,0,0,0,0,0,0,0,0,0,0,0,0,0,{"$f":"HRO29-HRO28","v":0},0,0,0,0,0,0,0,0,0,0,0,0,0,0,0,0,0,0,0,0,0,0,0,0,0,0,0,0,0,0,0,0,0,0,0,0,0,0,0,0,0,0,0,0,0,0,0,0,0,0,0,0,0,0,0,0,0,0,0,0,0,0,0,{"$f":"HUA29-HUA28","v":0},0,0,0,0,0,0,0,0,0,0,0,0,0,0,0,0,0,0,0,0,0,0,0,0,0,0,0,0,0,0,0,0,0,0,0,0,0,0,0,0,0,0,0,0,0,0,0,0,0,0,0,0,0,0,0,0,0,0,0,0,0,0,0,{"$f":"HWM29-HWM28","v":0},0,0,0,0,0,0,0,0,0,0,0,0,0,0,0,0,0,0,0,0,0,0,0,0,0,0,0,0,0,0,0,0,0,0,0,0,0,0,0,0,0,0,0,0,0,0,0,0,0,0,0,0,0,0,0,0,0,0,0,0,0,0,0,{"$f":"HYY29-HYY28","v":0},0,0,0,0,0,0,0,0,0,0,0,0,0,0,0,0,0,0,0,0,0,0,0,0,0,0,0,0,0,0,0,0,0,0,0,0,0,0,0,0,0,0,0,0,0,0,0,0,0,0,0,0,0,0,0,0,0,0,0,0,0,0,0,{"$f":"IBK29-IBK28","v":0},0,0,0,0,0,0,0,0,0,0,0,0,0,0,0,0,0,0,0,0,0,0,0,0,0,0,0,0,0,0,0,0,0,0,0,0,0,0,0,0,0,0,0,0,0,0,0,0,0,0,0,0,0,0,0,0,0,0,0,0,0,0,0,{"$f":"IDW29-IDW28","v":0},0,0,0,0,0,0,0,0,0,0,0,0,0,0,0,0,0,0,0,0,0,0,0,0,0,0,0,0,0,0,0,0,0,0,0,0,0,0,0,0,0,0,0,0,0,0,0,0,0,0,0,0,0,0,0,0,0,0,0,0,0,0,0,{"$f":"IGI29-IGI28","v":0},0,0,0,0,0,0,0,0,0,0,0,0,0,0,0,0,0,0,0,0,0,0,0,0,0,0,0,0,0,0,0,0,0,0,0,0,0,0,0,0,0,0,0,0,0,0,0,0,0,0,0,0,0,0,0,0,0,0,0,0,0,0,0,{"$f":"IIU29-IIU28","v":0},0,0,0,0,0,0,0,0,0,0,0,0,0,0,0,0,0,0,0,0,0,0,0,0,0,0,0,0,0,0,0,0,0,0,0,0,0,0,0,0,0,0,0,0,0,0,0,0,0,0,0,0,0,0,0,0,0,0,0,0,0,0,0,{"$f":"ILG29-ILG28","v":0},0,0,0,0,0,0,0,0,0,0,0,0,0,0,0,0,0,0,0,0,0,0,0,0,0,0,0,0,0,0,0,0,0,0,0,0,0,0,0,0,0,0,0,0,0,0,0,0,0,0,0,0,0,0,0,0,0,0,0,0,0,0,0,{"$f":"INS29-INS28","v":0},0,0,0,0,0,0,0,0,0,0,0,0,0,0,0,0,0,0,0,0,0,0,0,0,0,0,0,0,0,0,0,0,0,0,0,0,0,0,0,0,0,0,0,0,0,0,0,0,0,0,0,0,0,0,0,0,0,0,0,0,0,0,0,{"$f":"IQE29-IQE28","v":0},0,0,0,0,0,0,0,0,0,0,0,0,0,0,0,0,0,0,0,0,0,0,0,0,0,0,0,0,0,0,0,0,0,0,0,0,0,0,0,0,0,0,0,0,0,0,0,0,0,0,0,0,0,0,0,0,0,0,0,0,0,0,0,{"$f":"ISQ29-ISQ28","v":0},0,0,0,0,0,0,0,0,0,0,0,0,0,0,0,0,0,0,0,0,0,0,0,0,0,0,0,0,0,0,0,0,0,0,0,0,0,0,0,0,0,0,0,0,0,0,0,0,0,0,0,0,0,0,0,0,0,0,0,0,0,0,0,{"$f":"IVC29-IVC28","v":0},0,0,0,0,0,0,0,0,0,0,0,0,0,0,0,0,0,0,0,0,0,0,0,0,0,0,0,0,0,0,0,0,0,0,0,0,0,0,0,0,0,0,0,0,0,0,0,0,0,0,0,0,0,0,0,0,0,0,0,0,0,0,0,{"$f":"IXO29-IXO28","v":0},0,0,0,0,0,0,0,0,0,0,0,0,0,0,0,0,0,0,0,0,0,0,0,0,0,0,0,0,0,0,0,0,0,0,0,0,0,0,0,0,0,0,0,0,0,0,0,0,0,0,0,0,0,0,0,0,0,0,0,0,0,0,0,{"$f":"JAA29-JAA28","v":0},0,0,0,0,0,0,0,0,0,0,0,0,0,0,0,0,0,0,0,0,0,0,0,0,0,0,0,0,0,0,0,0,0,0,0,0,0,0,0,0,0,0,0,0,0,0,0,0,0,0,0,0,0,0,0,0,0,0,0,0,0,0,0,{"$f":"JCM29-JCM28","v":0},0,0,0,0,0,0,0,0,0,0,0,0,0,0,0,0,0,0,0,0,0,0,0,0,0,0,0,0,0,0,0,0,0,0,0,0,0,0,0,0,0,0,0,0,0,0,0,0,0,0,0,0,0,0,0,0,0,0,0,0,0,0,0,{"$f":"JEY29-JEY28","v":0},0,0,0,0,0,0,0,0,0,0,0,0,0,0,0,0,0,0,0,0,0,0,0,0,0,0,0,0,0,0,0,0,0,0,0,0,0,0,0,0,0,0,0,0,0,0,0,0,0,0,0,0,0,0,0,0,0,0,0,0,0,0,0,{"$f":"JHK29-JHK28","v":0},0,0,0,0,0,0,0,0,0,0,0,0,0,0,0,0,0,0,0,0,0,0,0,0,0,0,0,0,0,0,0,0,0,0,0,0,0,0,0,0,0,0,0,0,0,0,0,0,0,0,0,0,0,0,0,0,0,0,0,0,0,0,0,{"$f":"JJW29-JJW28","v":0},0,0,0,0,0,0,0,0,0,0,0,0,0,0,0,0,0,0,0,0,0,0,0,0,0,0,0,0,0,0,0,0,0,0,0,0,0,0,0,0,0,0,0,0,0,0,0,0,0,0,0,0,0,0,0,0,0,0,0,0,0,0,0,{"$f":"JMI29-JMI28","v":0},0,0,0,0,0,0,0,0,0,0,0,0,0,0,0,0,0,0,0,0,0,0,0,0,0,0,0,0,0,0,0,0,0,0,0,0,0,0,0,0,0,0,0,0,0,0,0,0,0,0,0,0,0,0,0,0,0,0,0,0,0,0,0,{"$f":"JOU29-JOU28","v":0},0,0,0,0,0,0,0,0,0,0,0,0,0,0,0,0,0,0,0,0,0,0,0,0,0,0,0,0,0,0,0,0,0,0,0,0,0,0,0,0,0,0,0,0,0,0,0,0,0,0,0,0,0,0,0,0,0,0,0,0,0,0,0,{"$f":"JRG29-JRG28","v":0},0,0,0,0,0,0,0,0,0,0,0,0,0,0,0,0,0,0,0,0,0,0,0,0,0,0,0,0,0,0,0,0,0,0,0,0,0,0,0,0,0,0,0,0,0,0,0,0,0,0,0,0,0,0,0,0,0,0,0,0,0,0,0,{"$f":"JTS29-JTS28","v":0},0,0,0,0,0,0,0,0,0,0,0,0,0,0,0,0,0,0,0,0,0,0,0,0,0,0,0,0,0,0,0,0,0,0,0,0,0,0,0,0,0,0,0,0,0,0,0,0,0,0,0,0,0,0,0,0,0,0,0,0,0,0,0,{"$f":"JWE29-JWE28","v":0},0,0,0,0,0,0,0,0,0,0,0,0,0,0,0,0,0,0,0,0,0,0,0,0,0,0,0,0,0,0,0,0,0,0,0,0,0,0,0,0,0,0,0,0,0,0,0,0,0,0,0,0,0,0,0,0,0,0,0,0,0,0,0,{"$f":"JYQ29-JYQ28","v":0},0,0,0,0,0,0,0,0,0,0,0,0,0,0,0,0,0,0,0,0,0,0,0,0,0,0,0,0,0,0,0,0,0,0,0,0,0,0,0,0,0,0,0,0,0,0,0,0,0,0,0,0,0,0,0,0,0,0,0,0,0,0,0,{"$f":"KBC29-KBC28","v":0},0,0,0,0,0,0,0,0,0,0,0,0,0,0,0,0,0,0,0,0,0,0,0,0,0,0,0,0,0,0,0,0,0,0,0,0,0,0,0,0,0,0,0,0,0,0,0,0,0,0,0,0,0,0,0,0,0,0,0,0,0,0,0,{"$f":"KDO29-KDO28","v":0},0,0,0,0,0,0,0,0,0,0,0,0,0,0,0,0,0,0,0,0,0,0,0,0,0,0,0,0,0,0,0,0,0,0,0,0,0,0,0,0,0,0,0,0,0,0,0,0,0,0,0,0,0,0,0,0,0,0,0,0,0,0,0,{"$f":"KGA29-KGA28","v":0},0,0,0,0,0,0,0,0,0,0,0,0,0,0,0,0,0,0,0,0,0,0,0,0,0,0,0,0,0,0,0,0,0,0,0,0,0,0,0,0,0,0,0,0,0,0,0,0,0,0,0,0,0,0,0,0,0,0,0,0,0,0,0,{"$f":"KIM29-KIM28","v":0},0,0,0,0,0,0,0,0,0,0,0,0,0,0,0,0,0,0,0,0,0,0,0,0,0,0,0,0,0,0,0,0,0,0,0,0,0,0,0,0,0,0,0,0,0,0,0,0,0,0,0,0,0,0,0,0,0,0,0,0,0,0,0,{"$f":"KKY29-KKY28","v":0},0,0,0,0,0,0,0,0,0,0,0,0,0,0,0,0,0,0,0,0,0,0,0,0,0,0,0,0,0,0,0,0,0,0,0,0,0,0,0,0,0,0,0,0,0,0,0,0,0,0,0,0,0,0,0,0,0,0,0,0,0,0,0,{"$f":"KNK29-KNK28","v":0},0,0,0,0,0,0,0,0,0,0,0,0,0,0,0,0,0,0,0,0,0,0,0,0,0,0,0,0,0,0,0,0,0,0,0,0,0,0,0,0,0,0,0,0,0,0,0,0,0,0,0,0,0,0,0,0,0,0,0,0,0,0,0,{"$f":"KPW29-KPW28","v":0},0,0,0,0,0,0,0,0,0,0,0,0,0,0,0,0,0,0,0,0,0,0,0,0,0,0,0,0,0,0,0,0,0,0,0,0,0,0,0,0,0,0,0,0,0,0,0,0,0,0,0,0,0,0,0,0,0,0,0,0,0,0,0,{"$f":"KSI29-KSI28","v":0},0,0,0,0,0,0,0,0,0,0,0,0,0,0,0,0,0,0,0,0,0,0,0,0,0,0,0,0,0,0,0,0,0,0,0,0,0,0,0,0,0,0,0,0,0,0,0,0,0,0,0,0,0,0,0,0,0,0,0,0,0,0,0,{"$f":"KUU29-KUU28","v":0},0,0,0,0,0,0,0,0,0,0,0,0,0,0,0,0,0,0,0,0,0,0,0,0,0,0,0,0,0,0,0,0,0,0,0,0,0,0,0,0,0,0,0,0,0,0,0,0,0,0,0,0,0,0,0,0,0,0,0,0,0,0,0,{"$f":"KXG29-KXG28","v":0},0,0,0,0,0,0,0,0,0,0,0,0,0,0,0,0,0,0,0,0,0,0,0,0,0,0,0,0,0,0,0,0,0,0,0,0,0,0,0,0,0,0,0,0,0,0,0,0,0,0,0,0,0,0,0,0,0,0,0,0,0,0,0,{"$f":"KZS29-KZS28","v":0},0,0,0,0,0,0,0,0,0,0,0,0,0,0,0,0,0,0,0,0,0,0,0,0,0,0,0,0,0,0,0,0,0,0,0,0,0,0,0,0,0,0,0,0,0,0,0,0,0,0,0,0,0,0,0,0,0,0,0,0,0,0,0,{"$f":"LCE29-LCE28","v":0},0,0,0,0,0,0,0,0,0,0,0,0,0,0,0,0,0,0,0,0,0,0,0,0,0,0,0,0,0,0,0,0,0,0,0,0,0,0,0,0,0,0,0,0,0,0,0,0,0,0,0,0,0,0,0,0,0,0,0,0,0,0,0,{"$f":"LEQ29-LEQ28","v":0},0,0,0,0,0,0,0,0,0,0,0,0,0,0,0,0,0,0,0,0,0,0,0,0,0,0,0,0,0,0,0,0,0,0,0,0,0,0,0,0,0,0,0,0,0,0,0,0,0,0,0,0,0,0,0,0,0,0,0,0,0,0,0,{"$f":"LHC29-LHC28","v":0},0,0,0,0,0,0,0,0,0,0,0,0,0,0,0,0,0,0,0,0,0,0,0,0,0,0,0,0,0,0,0,0,0,0,0,0,0,0,0,0,0,0,0,0,0,0,0,0,0,0,0,0,0,0,0,0,0,0,0,0,0,0,0,{"$f":"LJO29-LJO28","v":0},0,0,0,0,0,0,0,0,0,0,0,0,0,0,0,0,0,0,0,0,0,0,0,0,0,0,0,0,0,0,0,0,0,0,0,0,0,0,0,0,0,0,0,0,0,0,0,0,0,0,0,0,0,0,0,0,0,0,0,0,0,0,0,{"$f":"LMA29-LMA28","v":0},0,0,0,0,0,0,0,0,0,0,0,0,0,0,0,0,0,0,0,0,0,0,0,0,0,0,0,0,0,0,0,0,0,0,0,0,0,0,0,0,0,0,0,0,0,0,0,0,0,0,0,0,0,0,0,0,0,0,0,0,0,0,0,{"$f":"LOM29-LOM28","v":0},0,0,0,0,0,0,0,0,0,0,0,0,0,0,0,0,0,0,0,0,0,0,0,0,0,0,0,0,0,0,0,0,0,0,0,0,0,0,0,0,0,0,0,0,0,0,0,0,0,0,0,0,0,0,0,0,0,0,0,0,0,0,0,{"$f":"LQY29-LQY28","v":0},0,0,0,0,0,0,0,0,0,0,0,0,0,0,0,0,0,0,0,0,0,0,0,0,0,0,0,0,0,0,0,0,0,0,0,0,0,0,0,0,0,0,0,0,0,0,0,0,0,0,0,0,0,0,0,0,0,0,0,0,0,0,0,{"$f":"LTK29-LTK28","v":0},0,0,0,0,0,0,0,0,0,0,0,0,0,0,0,0,0,0,0,0,0,0,0,0,0,0,0,0,0,0,0,0,0,0,0,0,0,0,0,0,0,0,0,0,0,0,0,0,0,0,0,0,0,0,0,0,0,0,0,0,0,0,0,{"$f":"LVW29-LVW28","v":0},0,0,0,0,0,0,0,0,0,0,0,0,0,0,0,0,0,0,0,0,0,0,0,0,0,0,0,0,0,0,0,0,0,0,0,0,0,0,0,0,0,0,0,0,0,0,0,0,0,0,0,0,0,0,0,0,0,0,0,0,0,0,0,{"$f":"LYI29-LYI28","v":0},0,0,0,0,0,0,0,0,0,0,0,0,0,0,0,0,0,0,0,0,0,0,0,0,0,0,0,0,0,0,0,0,0,0,0,0,0,0,0,0,0,0,0,0,0,0,0,0,0,0,0,0,0,0,0,0,0,0,0,0,0,0,0,{"$f":"MAU29-MAU28","v":0},0,0,0,0,0,0,0,0,0,0,0,0,0,0,0,0,0,0,0,0,0,0,0,0,0,0,0,0,0,0,0,0,0,0,0,0,0,0,0,0,0,0,0,0,0,0,0,0,0,0,0,0,0,0,0,0,0,0,0,0,0,0,0,{"$f":"MDG29-MDG28","v":0},0,0,0,0,0,0,0,0,0,0,0,0,0,0,0,0,0,0,0,0,0,0,0,0,0,0,0,0,0,0,0,0,0,0,0,0,0,0,0,0,0,0,0,0,0,0,0,0,0,0,0,0,0,0,0,0,0,0,0,0,0,0,0,{"$f":"MFS29-MFS28","v":0},0,0,0,0,0,0,0,0,0,0,0,0,0,0,0,0,0,0,0,0,0,0,0,0,0,0,0,0,0,0,0,0,0,0,0,0,0,0,0,0,0,0,0,0,0,0,0,0,0,0,0,0,0,0,0,0,0,0,0,0,0,0,0,{"$f":"MIE29-MIE28","v":0},0,0,0,0,0,0,0,0,0,0,0,0,0,0,0,0,0,0,0,0,0,0,0,0,0,0,0,0,0,0,0,0,0,0,0,0,0,0,0,0,0,0,0,0,0,0,0,0,0,0,0,0,0,0,0,0,0,0,0,0,0,0,0,{"$f":"MKQ29-MKQ28","v":0},0,0,0,0,0,0,0,0,0,0,0,0,0,0,0,0,0,0,0,0,0,0,0,0,0,0,0,0,0,0,0,0,0,0,0,0,0,0,0,0,0,0,0,0,0,0,0,0,0,0,0,0,0,0,0,0,0,0,0,0,0,0,0,{"$f":"MNC29-MNC28","v":0},0,0,0,0,0,0,0,0,0,0,0,0,0,0,0,0,0,0,0,0,0,0,0,0,0,0,0,0,0,0,0,0,0,0,0,0,0,0,0,0,0,0,0,0,0,0,0,0,0,0,0,0,0,0,0,0,0,0,0,0,0,0,0,{"$f":"MPO29-MPO28","v":0},0,0,0,0,0,0,0,0,0,0,0,0,0,0,0,0,0,0,0,0,0,0,0,0,0,0,0,0,0,0,0,0,0,0,0,0,0,0,0,0,0,0,0,0,0,0,0,0,0,0,0,0,0,0,0,0,0,0,0,0,0,0,0,{"$f":"MSA29-MSA28","v":0},0,0,0,0,0,0,0,0,0,0,0,0,0,0,0,0,0,0,0,0,0,0,0,0,0,0,0,0,0,0,0,0,0,0,0,0,0,0,0,0,0,0,0,0,0,0,0,0,0,0,0,0,0,0,0,0,0,0,0,0,0,0,0,{"$f":"MUM29-MUM28","v":0},0,0,0,0,0,0,0,0,0,0,0,0,0,0,0,0,0,0,0,0,0,0,0,0,0,0,0,0,0,0,0,0,0,0,0,0,0,0,0,0,0,0,0,0,0,0,0,0,0,0,0,0,0,0,0,0,0,0,0,0,0,0,0,{"$f":"MWY29-MWY28","v":0},0,0,0,0,0,0,0,0,0,0,0,0,0,0,0,0,0,0,0,0,0,0,0,0,0,0,0,0,0,0,0,0,0,0,0,0,0,0,0,0,0,0,0,0,0,0,0,0,0,0,0,0,0,0,0,0,0,0,0,0,0,0,0,{"$f":"MZK29-MZK28","v":0},0,0,0,0,0,0,0,0,0,0,0,0,0,0,0,0,0,0,0,0,0,0,0,0,0,0,0,0,0,0,0,0,0,0,0,0,0,0,0,0,0,0,0,0,0,0,0,0,0,0,0,0,0,0,0,0,0,0,0,0,0,0,0,{"$f":"NBW29-NBW28","v":0},0,0,0,0,0,0,0,0,0,0,0,0,0,0,0,0,0,0,0,0,0,0,0,0,0,0,0,0,0,0,0,0,0,0,0,0,0,0,0,0,0,0,0,0,0,0,0,0,0,0,0,0,0,0,0,0,0,0,0,0,0,0,0,{"$f":"NEI29-NEI28","v":0},0,0,0,0,0,0,0,0,0,0,0,0,0,0,0,0,0,0,0,0,0,0,0,0,0,0,0,0,0,0,0,0,0,0,0,0,0,0,0,0,0,0,0,0,0,0,0,0,0,0,0,0,0,0,0,0,0,0,0,0,0,0,0,{"$f":"NGU29-NGU28","v":0},0,0,0,0,0,0,0,0,0,0,0,0,0,0,0,0,0,0,0,0,0,0,0,0,0,0,0,0,0,0,0,0,0,0,0,0,0,0,0,0,0,0,0,0,0,0,0,0,0,0,0,0,0,0,0,0,0,0,0,0,0,0,0,{"$f":"NJG29-NJG28","v":0},0,0,0,0,0,0,0,0,0,0,0,0,0,0,0,0,0,0,0,0,0,0,0,0,0,0,0,0,0,0,0,0,0,0,0,0,0,0,0,0,0,0,0,0,0,0,0,0,0,0,0,0,0,0,0,0,0,0,0,0,0,0,0,{"$f":"NLS29-NLS28","v":0},0,0,0,0,0,0,0,0,0,0,0,0,0,0,0,0,0,0,0,0,0,0,0,0,0,0,0,0,0,0,0,0,0,0,0,0,0,0,0,0,0,0,0,0,0,0,0,0,0,0,0,0,0,0,0,0,0,0,0,0,0,0,0,{"$f":"NOE29-NOE28","v":0},0,0,0,0,0,0,0,0,0,0,0,0,0,0,0,0,0,0,0,0,0,0,0,0,0,0,0,0,0,0,0,0,0,0,0,0,0,0,0,0,0,0,0,0,0,0,0,0,0,0,0,0,0,0,0,0,0,0,0,0,0,0,0,{"$f":"NQQ29-NQQ28","v":0},0,0,0,0,0,0,0,0,0,0,0,0,0,0,0,0,0,0,0,0,0,0,0,0,0,0,0,0,0,0,0,0,0,0,0,0,0,0,0,0,0,0,0,0,0,0,0,0,0,0,0,0,0,0,0,0,0,0,0,0,0,0,0,{"$f":"NTC29-NTC28","v":0},0,0,0,0,0,0,0,0,0,0,0,0,0,0,0,0,0,0,0,0,0,0,0,0,0,0,0,0,0,0,0,0,0,0,0,0,0,0,0,0,0,0,0,0,0,0,0,0,0,0,0,0,0,0,0,0,0,0,0,0,0,0,0,{"$f":"NVO29-NVO28","v":0},0,0,0,0,0,0,0,0,0,0,0,0,0,0,0,0,0,0,0,0,0,0,0,0,0,0,0,0,0,0,0,0,0,0,0,0,0,0,0,0,0,0,0,0,0,0,0,0,0,0,0,0,0,0,0,0,0,0,0,0,0,0,0,{"$f":"NYA29-NYA28","v":0},0,0,0,0,0,0,0,0,0,0,0,0,0,0,0,0,0,0,0,0,0,0,0,0,0,0,0,0,0,0,0,0,0,0,0,0,0,0,0,0,0,0,0,0,0,0,0,0,0,0,0,0,0,0,0,0,0,0,0,0,0,0,0,{"$f":"OAM29-OAM28","v":0},0,0,0,0,0,0,0,0,0,0,0,0,0,0,0,0,0,0,0,0,0,0,0,0,0,0,0,0,0,0,0,0,0,0,0,0,0,0,0,0,0,0,0,0,0,0,0,0,0,0,0,0,0,0,0,0,0,0,0,0,0,0,0,{"$f":"OCY29-OCY28","v":0},0,0,0,0,0,0,0,0,0,0,0,0,0,0,0,0,0,0,0,0,0,0,0,0,0,0,0,0,0,0,0,0,0,0,0,0,0,0,0,0,0,0,0,0,0,0,0,0,0,0,0,0,0,0,0,0,0,0,0,0,0,0,0,{"$f":"OFK29-OFK28","v":0},0,0,0,0,0,0,0,0,0,0,0,0,0,0,0,0,0,0,0,0,0,0,0,0,0,0,0,0,0,0,0,0,0,0,0,0,0,0,0,0,0,0,0,0,0,0,0,0,0,0,0,0,0,0,0,0,0,0,0,0,0,0,0,{"$f":"OHW29-OHW28","v":0},0,0,0,0,0,0,0,0,0,0,0,0,0,0,0,0,0,0,0,0,0,0,0,0,0,0,0,0,0,0,0,0,0,0,0,0,0,0,0,0,0,0,0,0,0,0,0,0,0,0,0,0,0,0,0,0,0,0,0,0,0,0,0,{"$f":"OKI29-OKI28","v":0},0,0,0,0,0,0,0,0,0,0,0,0,0,0,0,0,0,0,0,0,0,0,0,0,0,0,0,0,0,0,0,0,0,0,0,0,0,0,0,0,0,0,0,0,0,0,0,0,0,0,0,0,0,0,0,0,0,0,0,0,0,0,0,{"$f":"OMU29-OMU28","v":0},0,0,0,0,0,0,0,0,0,0,0,0,0,0,0,0,0,0,0,0,0,0,0,0,0,0,0,0,0,0,0,0,0,0,0,0,0,0,0,0,0,0,0,0,0,0,0,0,0,0,0,0,0,0,0,0,0,0,0,0,0,0,0,{"$f":"OPG29-OPG28","v":0},0,0,0,0,0,0,0,0,0,0,0,0,0,0,0,0,0,0,0,0,0,0,0,0,0,0,0,0,0,0,0,0,0,0,0,0,0,0,0,0,0,0,0,0,0,0,0,0,0,0,0,0,0,0,0,0,0,0,0,0,0,0,0,{"$f":"ORS29-ORS28","v":0},0,0,0,0,0,0,0,0,0,0,0,0,0,0,0,0,0,0,0,0,0,0,0,0,0,0,0,0,0,0,0,0,0,0,0,0,0,0,0,0,0,0,0,0,0,0,0,0,0,0,0,0,0,0,0,0,0,0,0,0,0,0,0,{"$f":"OUE29-OUE28","v":0},0,0,0,0,0,0,0,0,0,0,0,0,0,0,0,0,0,0,0,0,0,0,0,0,0,0,0,0,0,0,0,0,0,0,0,0,0,0,0,0,0,0,0,0,0,0,0,0,0,0,0,0,0,0,0,0,0,0,0,0,0,0,0,{"$f":"OWQ29-OWQ28","v":0},0,0,0,0,0,0,0,0,0,0,0,0,0,0,0,0,0,0,0,0,0,0,0,0,0,0,0,0,0,0,0,0,0,0,0,0,0,0,0,0,0,0,0,0,0,0,0,0,0,0,0,0,0,0,0,0,0,0,0,0,0,0,0,{"$f":"OZC29-OZC28","v":0},0,0,0,0,0,0,0,0,0,0,0,0,0,0,0,0,0,0,0,0,0,0,0,0,0,0,0,0,0,0,0,0,0,0,0,0,0,0,0,0,0,0,0,0,0,0,0,0,0,0,0,0,0,0,0,0,0,0,0,0,0,0,0,{"$f":"PBO29-PBO28","v":0},0,0,0,0,0,0,0,0,0,0,0,0,0,0,0,0,0,0,0,0,0,0,0,0,0,0,0,0,0,0,0,0,0,0,0,0,0,0,0,0,0,0,0,0,0,0,0,0,0,0,0,0,0,0,0,0,0,0,0,0,0,0,0,{"$f":"PEA29-PEA28","v":0},0,0,0,0,0,0,0,0,0,0,0,0,0,0,0,0,0,0,0,0,0,0,0,0,0,0,0,0,0,0,0,0,0,0,0,0,0,0,0,0,0,0,0,0,0,0,0,0,0,0,0,0,0,0,0,0,0,0,0,0,0,0,0,{"$f":"PGM29-PGM28","v":0},0,0,0,0,0,0,0,0,0,0,0,0,0,0,0,0,0,0,0,0,0,0,0,0,0,0,0,0,0,0,0,0,0,0,0,0,0,0,0,0,0,0,0,0,0,0,0,0,0,0,0,0,0,0,0,0,0,0,0,0,0,0,0,{"$f":"PIY29-PIY28","v":0},0,0,0,0,0,0,0,0,0,0,0,0,0,0,0,0,0,0,0,0,0,0,0,0,0,0,0,0,0,0,0,0,0,0,0,0,0,0,0,0,0,0,0,0,0,0,0,0,0,0,0,0,0,0,0,0,0,0,0,0,0,0,0,{"$f":"PLK29-PLK28","v":0},0,0,0,0,0,0,0,0,0,0,0,0,0,0,0,0,0,0,0,0,0,0,0,0,0,0,0,0,0,0,0,0,0,0,0,0,0,0,0,0,0,0,0,0,0,0,0,0,0,0,0,0,0,0,0,0,0,0,0,0,0,0,0,{"$f":"PNW29-PNW28","v":0},0,0,0,0,0,0,0,0,0,0,0,0,0,0,0,0,0,0,0,0,0,0,0,0,0,0,0,0,0,0,0,0,0,0,0,0,0,0,0,0,0,0,0,0,0,0,0,0,0,0,0,0,0,0,0,0,0,0,0,0,0,0,0,{"$f":"PQI29-PQI28","v":0},0,0,0,0,0,0,0,0,0,0,0,0,0,0,0,0,0,0,0,0,0,0,0,0,0,0,0,0,0,0,0,0,0,0,0,0,0,0,0,0,0,0,0,0,0,0,0,0,0,0,0,0,0,0,0,0,0,0,0,0,0,0,0,{"$f":"PSU29-PSU28","v":0},0,0,0,0,0,0,0,0,0,0,0,0,0,0,0,0,0,0,0,0,0,0,0,0,0,0,0,0,0,0,0,0,0,0,0,0,0,0,0,0,0,0,0,0,0,0,0,0,0,0,0,0,0,0,0,0,0,0,0,0,0,0,0,{"$f":"PVG29-PVG28","v":0},0,0,0,0,0,0,0,0,0,0,0,0,0,0,0,0,0,0,0,0,0,0,0,0,0,0,0,0,0,0,0,0,0,0,0,0,0,0,0,0,0,0,0,0,0,0,0,0,0,0,0,0,0,0,0,0,0,0,0,0,0,0,0,{"$f":"PXS29-PXS28","v":0},0,0,0,0,0,0,0,0,0,0,0,0,0,0,0,0,0,0,0,0,0,0,0,0,0,0,0,0,0,0,0,0,0,0,0,0,0,0,0,0,0,0,0,0,0,0,0,0,0,0,0,0,0,0,0,0,0,0,0,0,0,0,0,{"$f":"QAE29-QAE28","v":0},0,0,0,0,0,0,0,0,0,0,0,0,0,0,0,0,0,0,0,0,0,0,0,0,0,0,0,0,0,0,0,0,0,0,0,0,0,0,0,0,0,0,0,0,0,0,0,0,0,0,0,0,0,0,0,0,0,0,0,0,0,0,0,{"$f":"QCQ29-QCQ28","v":0},0,0,0,0,0,0,0,0,0,0,0,0,0,0,0,0,0,0,0,0,0,0,0,0,0,0,0,0,0,0,0,0,0,0,0,0,0,0,0,0,0,0,0,0,0,0,0,0,0,0,0,0,0,0,0,0,0,0,0,0,0,0,0,{"$f":"QFC29-QFC28","v":0},0,0,0,0,0,0,0,0,0,0,0,0,0,0,0,0,0,0,0,0,0,0,0,0,0,0,0,0,0,0,0,0,0,0,0,0,0,0,0,0,0,0,0,0,0,0,0,0,0,0,0,0,0,0,0,0,0,0,0,0,0,0,0,{"$f":"QHO29-QHO28","v":0},0,0,0,0,0,0,0,0,0,0,0,0,0,0,0,0,0,0,0,0,0,0,0,0,0,0,0,0,0,0,0,0,0,0,0,0,0,0,0,0,0,0,0,0,0,0,0,0,0,0,0,0,0,0,0,0,0,0,0,0,0,0,0,{"$f":"QKA29-QKA28","v":0},0,0,0,0,0,0,0,0,0,0,0,0,0,0,0,0,0,0,0,0,0,0,0,0,0,0,0,0,0,0,0,0,0,0,0,0,0,0,0,0,0,0,0,0,0,0,0,0,0,0,0,0,0,0,0,0,0,0,0,0,0,0,0,{"$f":"QMM29-QMM28","v":0},0,0,0,0,0,0,0,0,0,0,0,0,0,0,0,0,0,0,0,0,0,0,0,0,0,0,0,0,0,0,0,0,0,0,0,0,0,0,0,0,0,0,0,0,0,0,0,0,0,0,0,0,0,0,0,0,0,0,0,0,0,0,0,{"$f":"QOY29-QOY28","v":0},0,0,0,0,0,0,0,0,0,0,0,0,0,0,0,0,0,0,0,0,0,0,0,0,0,0,0,0,0,0,0,0,0,0,0,0,0,0,0,0,0,0,0,0,0,0,0,0,0,0,0,0,0,0,0,0,0,0,0,0,0,0,0,{"$f":"QRK29-QRK28","v":0},0,0,0,0,0,0,0,0,0,0,0,0,0,0,0,0,0,0,0,0,0,0,0,0,0,0,0,0,0,0,0,0,0,0,0,0,0,0,0,0,0,0,0,0,0,0,0,0,0,0,0,0,0,0,0,0,0,0,0,0,0,0,0,{"$f":"QTW29-QTW28","v":0},0,0,0,0,0,0,0,0,0,0,0,0,0,0,0,0,0,0,0,0,0,0,0,0,0,0,0,0,0,0,0,0,0,0,0,0,0,0,0,0,0,0,0,0,0,0,0,0,0,0,0,0,0,0,0,0,0,0,0,0,0,0,0,{"$f":"QWI29-QWI28","v":0},0,0,0,0,0,0,0,0,0,0,0,0,0,0,0,0,0,0,0,0,0,0,0,0,0,0,0,0,0,0,0,0,0,0,0,0,0,0,0,0,0,0,0,0,0,0,0,0,0,0,0,0,0,0,0,0,0,0,0,0,0,0,0,{"$f":"QYU29-QYU28","v":0},0,0,0,0,0,0,0,0,0,0,0,0,0,0,0,0,0,0,0,0,0,0,0,0,0,0,0,0,0,0,0,0,0,0,0,0,0,0,0,0,0,0,0,0,0,0,0,0,0,0,0,0,0,0,0,0,0,0,0,0,0,0,0,{"$f":"RBG29-RBG28","v":0},0,0,0,0,0,0,0,0,0,0,0,0,0,0,0,0,0,0,0,0,0,0,0,0,0,0,0,0,0,0,0,0,0,0,0,0,0,0,0,0,0,0,0,0,0,0,0,0,0,0,0,0,0,0,0,0,0,0,0,0,0,0,0,{"$f":"RDS29-RDS28","v":0},0,0,0,0,0,0,0,0,0,0,0,0,0,0,0,0,0,0,0,0,0,0,0,0,0,0,0,0,0,0,0,0,0,0,0,0,0,0,0,0,0,0,0,0,0,0,0,0,0,0,0,0,0,0,0,0,0,0,0,0,0,0,0,{"$f":"RGE29-RGE28","v":0},0,0,0,0,0,0,0,0,0,0,0,0,0,0,0,0,0,0,0,0,0,0,0,0,0,0,0,0,0,0,0,0,0,0,0,0,0,0,0,0,0,0,0,0,0,0,0,0,0,0,0,0,0,0,0,0,0,0,0,0,0,0,0,{"$f":"RIQ29-RIQ28","v":0},0,0,0,0,0,0,0,0,0,0,0,0,0,0,0,0,0,0,0,0,0,0,0,0,0,0,0,0,0,0,0,0,0,0,0,0,0,0,0,0,0,0,0,0,0,0,0,0,0,0,0,0,0,0,0,0,0,0,0,0,0,0,0,{"$f":"RLC29-RLC28","v":0},0,0,0,0,0,0,0,0,0,0,0,0,0,0,0,0,0,0,0,0,0,0,0,0,0,0,0,0,0,0,0,0,0,0,0,0,0,0,0,0,0,0,0,0,0,0,0,0,0,0,0,0,0,0,0,0,0,0,0,0,0,0,0,{"$f":"RNO29-RNO28","v":0},0,0,0,0,0,0,0,0,0,0,0,0,0,0,0,0,0,0,0,0,0,0,0,0,0,0,0,0,0,0,0,0,0,0,0,0,0,0,0,0,0,0,0,0,0,0,0,0,0,0,0,0,0,0,0,0,0,0,0,0,0,0,0,{"$f":"RQA29-RQA28","v":0},0,0,0,0,0,0,0,0,0,0,0,0,0,0,0,0,0,0,0,0,0,0,0,0,0,0,0,0,0,0,0,0,0,0,0,0,0,0,0,0,0,0,0,0,0,0,0,0,0,0,0,0,0,0,0,0,0,0,0,0,0,0,0,{"$f":"RSM29-RSM28","v":0},0,0,0,0,0,0,0,0,0,0,0,0,0,0,0,0,0,0,0,0,0,0,0,0,0,0,0,0,0,0,0,0,0,0,0,0,0,0,0,0,0,0,0,0,0,0,0,0,0,0,0,0,0,0,0,0,0,0,0,0,0,0,0,{"$f":"RUY29-RUY28","v":0},0,0,0,0,0,0,0,0,0,0,0,0,0,0,0,0,0,0,0,0,0,0,0,0,0,0,0,0,0,0,0,0,0,0,0,0,0,0,0,0,0,0,0,0,0,0,0,0,0,0,0,0,0,0,0,0,0,0,0,0,0,0,0,{"$f":"RXK29-RXK28","v":0},0,0,0,0,0,0,0,0,0,0,0,0,0,0,0,0,0,0,0,0,0,0,0,0,0,0,0,0,0,0,0,0,0,0,0,0,0,0,0,0,0,0,0,0,0,0,0,0,0,0,0,0,0,0,0,0,0,0,0,0,0,0,0,{"$f":"RZW29-RZW28","v":0},0,0,0,0,0,0,0,0,0,0,0,0,0,0,0,0,0,0,0,0,0,0,0,0,0,0,0,0,0,0,0,0,0,0,0,0,0,0,0,0,0,0,0,0,0,0,0,0,0,0,0,0,0,0,0,0,0,0,0,0,0,0,0,{"$f":"SCI29-SCI28","v":0},0,0,0,0,0,0,0,0,0,0,0,0,0,0,0,0,0,0,0,0,0,0,0,0,0,0,0,0,0,0,0,0,0,0,0,0,0,0,0,0,0,0,0,0,0,0,0,0,0,0,0,0,0,0,0,0,0,0,0,0,0,0,0,{"$f":"SEU29-SEU28","v":0},0,0,0,0,0,0,0,0,0,0,0,0,0,0,0,0,0,0,0,0,0,0,0,0,0,0,0,0,0,0,0,0,0,0,0,0,0,0,0,0,0,0,0,0,0,0,0,0,0,0,0,0,0,0,0,0,0,0,0,0,0,0,0,{"$f":"SHG29-SHG28","v":0},0,0,0,0,0,0,0,0,0,0,0,0,0,0,0,0,0,0,0,0,0,0,0,0,0,0,0,0,0,0,0,0,0,0,0,0,0,0,0,0,0,0,0,0,0,0,0,0,0,0,0,0,0,0,0,0,0,0,0,0,0,0,0,{"$f":"SJS29-SJS28","v":0},0,0,0,0,0,0,0,0,0,0,0,0,0,0,0,0,0,0,0,0,0,0,0,0,0,0,0,0,0,0,0,0,0,0,0,0,0,0,0,0,0,0,0,0,0,0,0,0,0,0,0,0,0,0,0,0,0,0,0,0,0,0,0,{"$f":"SME29-SME28","v":0},0,0,0,0,0,0,0,0,0,0,0,0,0,0,0,0,0,0,0,0,0,0,0,0,0,0,0,0,0,0,0,0,0,0,0,0,0,0,0,0,0,0,0,0,0,0,0,0,0,0,0,0,0,0,0,0,0,0,0,0,0,0,0,{"$f":"SOQ29-SOQ28","v":0},0,0,0,0,0,0,0,0,0,0,0,0,0,0,0,0,0,0,0,0,0,0,0,0,0,0,0,0,0,0,0,0,0,0,0,0,0,0,0,0,0,0,0,0,0,0,0,0,0,0,0,0,0,0,0,0,0,0,0,0,0,0,0,{"$f":"SRC29-SRC28","v":0},0,0,0,0,0,0,0,0,0,0,0,0,0,0,0,0,0,0,0,0,0,0,0,0,0,0,0,0,0,0,0,0,0,0,0,0,0,0,0,0,0,0,0,0,0,0,0,0,0,0,0,0,0,0,0,0,0,0,0,0,0,0,0,{"$f":"STO29-STO28","v":0},0,0,0,0,0,0,0,0,0,0,0,0,0,0,0,0,0,0,0,0,0,0,0,0,0,0,0,0,0,0,0,0,0,0,0,0,0,0,0,0,0,0,0,0,0,0,0,0,0,0,0,0,0,0,0,0,0,0,0,0,0,0,0,{"$f":"SWA29-SWA28","v":0},0,0,0,0,0,0,0,0,0,0,0,0,0,0,0,0,0,0,0,0,0,0,0,0,0,0,0,0,0,0,0,0,0,0,0,0,0,0,0,0,0,0,0,0,0,0,0,0,0,0,0,0,0,0,0,0,0,0,0,0,0,0,0,{"$f":"SYM29-SYM28","v":0},0,0,0,0,0,0,0,0,0,0,0,0,0,0,0,0,0,0,0,0,0,0,0,0,0,0,0,0,0,0,0,0,0,0,0,0,0,0,0,0,0,0,0,0,0,0,0,0,0,0,0,0,0,0,0,0,0,0,0,0,0,0,0,{"$f":"TAY29-TAY28","v":0},0,0,0,0,0,0,0,0,0,0,0,0,0,0,0,0,0,0,0,0,0,0,0,0,0,0,0,0,0,0,0,0,0,0,0,0,0,0,0,0,0,0,0,0,0,0,0,0,0,0,0,0,0,0,0,0,0,0,0,0,0,0,0,{"$f":"TDK29-TDK28","v":0},0,0,0,0,0,0,0,0,0,0,0,0,0,0,0,0,0,0,0,0,0,0,0,0,0,0,0,0,0,0,0,0,0,0,0,0,0,0,0,0,0,0,0,0,0,0,0,0,0,0,0,0,0,0,0,0,0,0,0,0,0,0,0,{"$f":"TFW29-TFW28","v":0},0,0,0,0,0,0,0,0,0,0,0,0,0,0,0,0,0,0,0,0,0,0,0,0,0,0,0,0,0,0,0,0,0,0,0,0,0,0,0,0,0,0,0,0,0,0,0,0,0,0,0,0,0,0,0,0,0,0,0,0,0,0,0,{"$f":"TII29-TII28","v":0},0,0,0,0,0,0,0,0,0,0,0,0,0,0,0,0,0,0,0,0,0,0,0,0,0,0,0,0,0,0,0,0,0,0,0,0,0,0,0,0,0,0,0,0,0,0,0,0,0,0,0,0,0,0,0,0,0,0,0,0,0,0,0,{"$f":"TKU29-TKU28","v":0},0,0,0,0,0,0,0,0,0,0,0,0,0,0,0,0,0,0,0,0,0,0,0,0,0,0,0,0,0,0,0,0,0,0,0,0,0,0,0,0,0,0,0,0,0,0,0,0,0,0,0,0,0,0,0,0,0,0,0,0,0,0,0,{"$f":"TNG29-TNG28","v":0},0,0,0,0,0,0,0,0,0,0,0,0,0,0,0,0,0,0,0,0,0,0,0,0,0,0,0,0,0,0,0,0,0,0,0,0,0,0,0,0,0,0,0,0,0,0,0,0,0,0,0,0,0,0,0,0,0,0,0,0,0,0,0,{"$f":"TPS29-TPS28","v":0},0,0,0,0,0,0,0,0,0,0,0,0,0,0,0,0,0,0,0,0,0,0,0,0,0,0,0,0,0,0,0,0,0,0,0,0,0,0,0,0,0,0,0,0,0,0,0,0,0,0,0,0,0,0,0,0,0,0,0,0,0,0,0,{"$f":"TSE29-TSE28","v":0},0,0,0,0,0,0,0,0,0,0,0,0,0,0,0,0,0,0,0,0,0,0,0,0,0,0,0,0,0,0,0,0,0,0,0,0,0,0,0,0,0,0,0,0,0,0,0,0,0,0,0,0,0,0,0,0,0,0,0,0,0,0,0,{"$f":"TUQ29-TUQ28","v":0},0,0,0,0,0,0,0,0,0,0,0,0,0,0,0,0,0,0,0,0,0,0,0,0,0,0,0,0,0,0,0,0,0,0,0,0,0,0,0,0,0,0,0,0,0,0,0,0,0,0,0,0,0,0,0,0,0,0,0,0,0,0,0,{"$f":"TXC29-TXC28","v":0},0,0,0,0,0,0,0,0,0,0,0,0,0,0,0,0,0,0,0,0,0,0,0,0,0,0,0,0,0,0,0,0,0,0,0,0,0,0,0,0,0,0,0,0,0,0,0,0,0,0,0,0,0,0,0,0,0,0,0,0,0,0,0,{"$f":"TZO29-TZO28","v":0},0,0,0,0,0,0,0,0,0,0,0,0,0,0,0,0,0,0,0,0,0,0,0,0,0,0,0,0,0,0,0,0,0,0,0,0,0,0,0,0,0,0,0,0,0,0,0,0,0,0,0,0,0,0,0,0,0,0,0,0,0,0,0,{"$f":"UCA29-UCA28","v":0},0,0,0,0,0,0,0,0,0,0,0,0,0,0,0,0,0,0,0,0,0,0,0,0,0,0,0,0,0,0,0,0,0,0,0,0,0,0,0,0,0,0,0,0,0,0,0,0,0,0,0,0,0,0,0,0,0,0,0,0,0,0,0,{"$f":"UEM29-UEM28","v":0},0,0,0,0,0,0,0,0,0,0,0,0,0,0,0,0,0,0,0,0,0,0,0,0,0,0,0,0,0,0,0,0,0,0,0,0,0,0,0,0,0,0,0,0,0,0,0,0,0,0,0,0,0,0,0,0,0,0,0,0,0,0,0,{"$f":"UGY29-UGY28","v":0},0,0,0,0,0,0,0,0,0,0,0,0,0,0,0,0,0,0,0,0,0,0,0,0,0,0,0,0,0,0,0,0,0,0,0,0,0,0,0,0,0,0,0,0,0,0,0,0,0,0,0,0,0,0,0,0,0,0,0,0,0,0,0,{"$f":"UJK29-UJK28","v":0},0,0,0,0,0,0,0,0,0,0,0,0,0,0,0,0,0,0,0,0,0,0,0,0,0,0,0,0,0,0,0,0,0,0,0,0,0,0,0,0,0,0,0,0,0,0,0,0,0,0,0,0,0,0,0,0,0,0,0,0,0,0,0,{"$f":"ULW29-ULW28","v":0},0,0,0,0,0,0,0,0,0,0,0,0,0,0,0,0,0,0,0,0,0,0,0,0,0,0,0,0,0,0,0,0,0,0,0,0,0,0,0,0,0,0,0,0,0,0,0,0,0,0,0,0,0,0,0,0,0,0,0,0,0,0,0,{"$f":"UOI29-UOI28","v":0},0,0,0,0,0,0,0,0,0,0,0,0,0,0,0,0,0,0,0,0,0,0,0,0,0,0,0,0,0,0,0,0,0,0,0,0,0,0,0,0,0,0,0,0,0,0,0,0,0,0,0,0,0,0,0,0,0,0,0,0,0,0,0,{"$f":"UQU29-UQU28","v":0},0,0,0,0,0,0,0,0,0,0,0,0,0,0,0,0,0,0,0,0,0,0,0,0,0,0,0,0,0,0,0,0,0,0,0,0,0,0,0,0,0,0,0,0,0,0,0,0,0,0,0,0,0,0,0,0,0,0,0,0,0,0,0,{"$f":"UTG29-UTG28","v":0},0,0,0,0,0,0,0,0,0,0,0,0,0,0,0,0,0,0,0,0,0,0,0,0,0,0,0,0,0,0,0,0,0,0,0,0,0,0,0,0,0,0,0,0,0,0,0,0,0,0,0,0,0,0,0,0,0,0,0,0,0,0,0,{"$f":"UVS29-UVS28","v":0},0,0,0,0,0,0,0,0,0,0,0,0,0,0,0,0,0,0,0,0,0,0,0,0,0,0,0,0,0,0,0,0,0,0,0,0,0,0,0,0,0,0,0,0,0,0,0,0,0,0,0,0,0,0,0,0,0,0,0,0,0,0,0,{"$f":"UYE29-UYE28","v":0},0,0,0,0,0,0,0,0,0,0,0,0,0,0,0,0,0,0,0,0,0,0,0,0,0,0,0,0,0,0,0,0,0,0,0,0,0,0,0,0,0,0,0,0,0,0,0,0,0,0,0,0,0,0,0,0,0,0,0,0,0,0,0,{"$f":"VAQ29-VAQ28","v":0},0,0,0,0,0,0,0,0,0,0,0,0,0,0,0,0,0,0,0,0,0,0,0,0,0,0,0,0,0,0,0,0,0,0,0,0,0,0,0,0,0,0,0,0,0,0,0,0,0,0,0,0,0,0,0,0,0,0,0,0,0,0,0,{"$f":"VDC29-VDC28","v":0},0,0,0,0,0,0,0,0,0,0,0,0,0,0,0,0,0,0,0,0,0,0,0,0,0,0,0,0,0,0,0,0,0,0,0,0,0,0,0,0,0,0,0,0,0,0,0,0,0,0,0,0,0,0,0,0,0,0,0,0,0,0,0,{"$f":"VFO29-VFO28","v":0},0,0,0,0,0,0,0,0,0,0,0,0,0,0,0,0,0,0,0,0,0,0,0,0,0,0,0,0,0,0,0,0,0,0,0,0,0,0,0,0,0,0,0,0,0,0,0,0,0,0,0,0,0,0,0,0,0,0,0,0,0,0,0,{"$f":"VIA29-VIA28","v":0},0,0,0,0,0,0,0,0,0,0,0,0,0,0,0,0,0,0,0,0,0,0,0,0,0,0,0,0,0,0,0,0,0,0,0,0,0,0,0,0,0,0,0,0,0,0,0,0,0,0,0,0,0,0,0,0,0,0,0,0,0,0,0,{"$f":"VKM29-VKM28","v":0},0,0,0,0,0,0,0,0,0,0,0,0,0,0,0,0,0,0,0,0,0,0,0,0,0,0,0,0,0,0,0,0,0,0,0,0,0,0,0,0,0,0,0,0,0,0,0,0,0,0,0,0,0,0,0,0,0,0,0,0,0,0,0,{"$f":"VMY29-VMY28","v":0},0,0,0,0,0,0,0,0,0,0,0,0,0,0,0,0,0,0,0,0,0,0,0,0,0,0,0,0,0,0,0,0,0,0,0,0,0,0,0,0,0,0,0,0,0,0,0,0,0,0,0,0,0,0,0,0,0,0,0,0,0,0,0,{"$f":"VPK29-VPK28","v":0},0,0,0,0,0,0,0,0,0,0,0,0,0,0,0,0,0,0,0,0,0,0,0,0,0,0,0,0,0,0,0,0,0,0,0,0,0,0,0,0,0,0,0,0,0,0,0,0,0,0,0,0,0,0,0,0,0,0,0,0,0,0,0,{"$f":"VRW29-VRW28","v":0},0,0,0,0,0,0,0,0,0,0,0,0,0,0,0,0,0,0,0,0,0,0,0,0,0,0,0,0,0,0,0,0,0,0,0,0,0,0,0,0,0,0,0,0,0,0,0,0,0,0,0,0,0,0,0,0,0,0,0,0,0,0,0,{"$f":"VUI29-VUI28","v":0},0,0,0,0,0,0,0,0,0,0,0,0,0,0,0,0,0,0,0,0,0,0,0,0,0,0,0,0,0,0,0,0,0,0,0,0,0,0,0,0,0,0,0,0,0,0,0,0,0,0,0,0,0,0,0,0,0,0,0,0,0,0,0,{"$f":"VWU29-VWU28","v":0},0,0,0,0,0,0,0,0,0,0,0,0,0,0,0,0,0,0,0,0,0,0,0,0,0,0,0,0,0,0,0,0,0,0,0,0,0,0,0,0,0,0,0,0,0,0,0,0,0,0,0,0,0,0,0,0,0,0,0,0,0,0,0,{"$f":"VZG29-VZG28","v":0},0,0,0,0,0,0,0,0,0,0,0,0,0,0,0,0,0,0,0,0,0,0,0,0,0,0,0,0,0,0,0,0,0,0,0,0,0,0,0,0,0,0,0,0,0,0,0,0,0,0,0,0,0,0,0,0,0,0,0,0,0,0,0,{"$f":"WBS29-WBS28","v":0},0,0,0,0,0,0,0,0,0,0,0,0,0,0,0,0,0,0,0,0,0,0,0,0,0,0,0,0,0,0,0,0,0,0,0,0,0,0,0,0,0,0,0,0,0,0,0,0,0,0,0,0,0,0,0,0,0,0,0,0,0,0,0,{"$f":"WEE29-WEE28","v":0},0,0,0,0,0,0,0,0,0,0,0,0,0,0,0,0,0,0,0,0,0,0,0,0,0,0,0,0,0,0,0,0,0,0,0,0,0,0,0,0,0,0,0,0,0,0,0,0,0,0,0,0,0,0,0,0,0,0,0,0,0,0,0,{"$f":"WGQ29-WGQ28","v":0},0,0,0,0,0,0,0,0,0,0,0,0,0,0,0,0,0,0,0,0,0,0,0,0,0,0,0,0,0,0,0,0,0,0,0,0,0,0,0,0,0,0,0,0,0,0,0,0,0,0,0,0,0,0,0,0,0,0,0,0,0,0,0,{"$f":"WJC29-WJC28","v":0},0,0,0,0,0,0,0,0,0,0,0,0,0,0,0,0,0,0,0,0,0,0,0,0,0,0,0,0,0,0,0,0,0,0,0,0,0,0,0,0,0,0,0,0,0,0,0,0,0,0,0,0,0,0,0,0,0,0,0,0,0,0,0,{"$f":"WLO29-WLO28","v":0},0,0,0,0,0,0,0,0,0,0,0,0,0,0,0,0,0,0,0,0,0,0,0,0,0,0,0,0,0,0,0,0,0,0,0,0,0,0,0,0,0,0,0,0,0,0,0,0,0,0,0,0,0,0,0,0,0,0,0,0,0,0,0,{"$f":"WOA29-WOA28","v":0},0,0,0,0,0,0,0,0,0,0,0,0,0,0,0,0,0,0,0,0,0,0,0,0,0,0,0,0,0,0,0,0,0,0,0,0,0,0,0,0,0,0,0,0,0,0,0,0,0,0,0,0,0,0,0,0,0,0,0,0,0,0,0,{"$f":"WQM29-WQM28","v":0},0,0,0,0,0,0,0,0,0,0,0,0,0,0,0,0,0,0,0,0,0,0,0,0,0,0,0,0,0,0,0,0,0,0,0,0,0,0,0,0,0,0,0,0,0,0,0,0,0,0,0,0,0,0,0,0,0,0,0,0,0,0,0,{"$f":"WSY29-WSY28","v":0},0,0,0,0,0,0,0,0,0,0,0,0,0,0,0,0,0,0,0,0,0,0,0,0,0,0,0,0,0,0,0,0,0,0,0,0,0,0,0,0,0,0,0,0,0,0,0,0,0,0,0,0,0,0,0,0,0,0,0,0,0,0,0,{"$f":"WVK29-WVK28","v":0},0,0,0,0,0,0,0,0,0,0,0,0,0,0,0,0,0,0,0,0,0,0,0,0,0,0,0,0,0,0,0,0,0,0,0,0,0,0,0,0,0,0,0,0,0,0,0,0,0,0,0,0,0,0,0,0,0,0,0,0,0,0,0,{"$f":"WXW29-WXW28","v":0},0,0,0,0,0,0,0,0,0,0,0,0,0,0,0,0,0,0,0,0,0,0,0,0,0,0,0,0,0,0,0,0,0,0,0,0,0,0,0,0,0,0,0,0,0,0,0,0,0,0,0,0,0,0,0,0,0,0,0,0,0,0,0,{"$f":"XAI29-XAI28","v":0},0,0,0,0,0,0,0,0,0,0,0,0,0,0,0,0,0,0,0,0,0,0,0,0,0,0,0,0,0,0,0,0,0,0,0,0,0,0,0,0,0,0,0,0,0,0,0,0,0,0,0,0,0,0,0,0,0,0,0,0,0,0,0,{"$f":"XCU29-XCU28","v":0},0,0,0,0,0,0,0,0,0,0,0,0,0,0,0,0,0,0,0,0,0,0,0,0,0,0,0,0,0,0,0,0,0,0,0,0,0,0,0,0,0,0,0,0,0,0,0,0,0,0,0,0,0,0,0,0,0,0,0,0,0]
[{"$f":"'Obligacje skarbowe_podmiot'!A31","v":"2016-06-30"},36745.389478559999,10085.87534233,10483.29195415,33.729999999999997,1676.489,29321.170618669999,1385.5754178,49110.293366119993,5699.3992438599998,51952.497951370002,{"$f":"SUM(B31:K31)","v":196493.71237286}]
[{"$f":"'Obligacje skarbowe_podmiot'!A32","v":"2016-07-31"},36847.610600090004,9235.9488232599997,10561.097737330001,60.94,1016.6660000000001,28266.581549350001,1230.6921725999998,46586.808667769998,5519.9991446200002,53495.17115509,192821.51585011001]
[{"$f":"'Obligacje skarbowe_podmiot'!A33","v":"2016-08-31"},37994.136651779998,9407.4870373199992,10972.813397059999,60.9407,789.24099999999999,29348.347177800002,1248.8153732000001,46190.470491139997,5537.61186284,54894.44775508,196444.31144622003]
[{"$f":"'Obligacje skarbowe_podmiot'!A34","v":"2016-09-30"},39995.741154180003,11423.835104780001,10853.470049209998,62.241500000000002,816.17600000000004,29567.967228400001,1151.4168760999999,46655.654701890002,5398.9822773400001,54640.91553007,{"$f":"SUM(B34:K34)","v":200566.40042197}]
[{"$f":"'Obligacje skarbowe_podmiot'!A35","v":"2016-10-31"},40452.565900419999,11111.022310639999,10791.405661889999,62.241500000000002,737.48900000000003,22362.162006480001,1122.1423409000001,46933.347531410007,5244.3937424599999,59302.619424529999,198119.38941872999]
[{"$f":"'Obligacje skarbowe_podmiot'!A36","v":"2016-11-30"},37637.336367829994,11677.860020359998,10972.40875941,62.243099999999998,678.91227379999998,18983.138181719998,1135.1550120999998,47048.845708289991,5288.3572757399997,54654.099118320002,188138.35581757]
[{"$f":"'Obligacje skarbowe_podmiot'!A37","v":"2016-12-31"},36972.549304619992,13128.7805584,11251.50511944,38.843899999999998,736.21100520000005,18957.073321479998,1217.1605434000001,46610.252398660006,5402.6669959600003,58240.70938462,192555.75253177999]
[{"$f":"'Obligacje skarbowe_podmiot'!A38","v":"2017-01-31"},38921.571050029997,12295.30978161,11476.178032320002,30.7439,816.00916110000003,18927.632571220001,1307.8623737,47950.374673489998,5604.2493415200006,56453.559245330005,193783.49013032002]
[{"$f":"'Obligacje skarbowe_podmiot'!A39","v":"2017-02-28"},40680.131478740004,12316.269385540001,11733.585056800001,47.244599999999998,834.55150120000008,19994.372566560003,1390.4915626,48420.952269019996,5272.7728053199999,54379.242628779997,195069.61385456001]
[{"$f":"'Obligacje skarbowe_podmiot'!A40","v":"2017-03-31"},42549.705988690002,11833.04935893,11799.584066800002,10.936199999999999,874.88093429999992,20147.089378559998,1728.9671450999999,53354.586891770006,5972.3145318199995,56689.005536789999,204960.12003276005]
[{"$f":"'Obligacje skarbowe_podmiot'!A41","v":"2017-04-30"},42431.536106369997,13140.248124369999,11873.9902996,38.261200000000002,762.50004710000007,21046.628100720001,1930.1448147000001,54610.648239690003,5601.4618945399998,58716.325768620001,210151.74459571001]
[{"$f":"'Obligacje skarbowe_podmiot'!A42","v":"2017-05-31"},40482.85684221,11824.578531810001,13275.5742668,38.262799999999999,791.70570929999997,21123.282756959998,1962.4511200999998,54986.833114270004,5088.1149668199996,59948.239157660006,209521.89926593]
[{"$f":"'Obligacje skarbowe_podmiot'!A43","v":"2017-06-30"},44726.462558319989,12698.356266320001,12926.1424376,49.953499999999998,757.23799759999997,21008.01332432,1884.5689432000001,52756.592226640001,5019.9301582399994,59910.907861199994,{"$f":"SUM(B43:K43)","v":211738.16527343998}]
[{"$f":"'Obligacje skarbowe_podmiot'!A44","v":"2017-07-31"},45796.242192759993,10779.490707159999,12963.819988800002,49.953499999999998,724.1328188,21342.616290560003,1875.8267116,52007.648861319998,4991.9001471199999,58595.351416199999,209126.98263432001]
[{"$f":"'Obligacje skarbowe_podmiot'!A45","v":"2017-08-31"},47489.043895740004,10617.593031140001,12633.8161912,35.795099999999998,750.2086862000001,20980.932015439997,1895.772242,52096.247908179997,5173.5726898800003,56879.353112900004,208552.33487268002]
[{"$f":"'Obligacje skarbowe_podmiot'!A46","v":"2017-09-30"},43774.315191259993,9869.5238858599987,11838.267368800001,35.809600000000003,770.65102379999996,20513.02463656,1909.8748579999999,57495.518060820003,5351.1605641199994,53543.8043321,205101.94952131997]
[{"$f":"'Obligacje skarbowe_podmiot'!A47","v":"2017-10-31"},42611.593461300006,10705.271311,11126.984156,35.809600000000003,757.617931,20232.255277,2070.3802099999998,56738.119290900002,5149.2609757999999,52484.063590400001,201911.35580340002]
[{"$f":"'Obligacje skarbowe_podmiot'!A48","v":"2017-11-30"},43337.958823499997,10120.7642701,7503.7071379999998,35.810400000000001,703.22455049999996,19876.7252835,2001.197455,57607.845018800006,5254.5541668000005,53582.290389850001,200024.07749605001]
[{"$f":"'Obligacje skarbowe_podmiot'!A49","v":"2017-12-31"},44949.489012999999,9471.3602008999987,6679.7364420000004,35.811199999999999,725.95661729999995,19225.495301499999,1984.312895,59407.687449199999,5662.7353812000001,54571.888236250001,202714.47273635]
[{"$f":"'Obligacje skarbowe_podmiot'!A50","v":"2018-01-31"},45565.488398280002,10557.672286090001,5609.1419292,35.811900000000001,710.20962998000005,18866.7967589,1974.5302594899999,57057.949107920002,5827.1100911200001,53367.099826230005,199571.81018721001]
[{"$f":"'Obligacje skarbowe_podmiot'!A51","v":"2018-02-28"},45220.467042660006,12344.275409740001,3798.7453912000001,35.811900000000001,713.67499027999997,18974.864925400001,1997.6460221399998,57817.908057519999,6243.1357643199999,53318.943760779999,200465.47326404002]
[{"$f":"'Obligacje skarbowe_podmiot'!A52","v":"2018-03-31"},44658.911572930003,12400.227215770001,2423.2230876000003,35.813499999999998,709.26314849000005,17912.325151699999,2004.03030597,61909.212951960006,5893.9266933599993,54869.486351190004,202816.41997897002]
[{"$f":"'Obligacje skarbowe_podmiot'!A53","v":"2018-04-30"},42632.258126599998,11598.633465450001,1554.2960419999999,35.813499999999998,705.63026915,16344.3241015,2029.43073615,62621.002128199994,5903.5137412000004,54261.770323900004,197686.67243415001]
[{"$f":"'Obligacje skarbowe_podmiot'!A54","v":"2018-05-31"},42795.910441079999,13146.426843880001,1671.8987548,45.815100000000001,702.30837800999996,15432.7245941,1990.4175278099999,61851.38965908,5109.3283443,53951.109884449994,196697.32952751004]
[{"$f":"'Obligacje skarbowe_podmiot'!A55","v":"2018-06-30"},41235.203224479999,9963.6754436399988,1659.3885844000001,45.815800000000003,678.36585803000003,14368.3342223,1812.47876819,63335.213569239997,5807.8883528999995,53233.776883350001,192140.14070653002]
[{"$f":"'Obligacje skarbowe_podmiot'!A56","v":"2018-07-31"},39658.130635350004,10086.28809281,2167.0111611999996,40.816600000000001,688.37088119000009,14235.501277899999,1851.2325628699998,68038.538498189999,5267.5178237199989,48596.67452706,190630.08206029001]
[{"$f":"'Obligacje skarbowe_podmiot'!A57","v":"2018-08-31"},39310.993692939999,9474.8103345199997,1566.6666484,48.367400000000004,709.60877232999997,13807.4191553,1816.9474320899999,67383.910691330006,5431.8403180400001,48314.201613780002,187864.76605872999]
[{"$f":"'Obligacje skarbowe_podmiot'!A58","v":"2018-09-30"},39642.053675970004,10105.190469950001,2444.4252523999994,48.367400000000004,759.34966463000001,13131.599229970001,1857.7346899900001,67429.18647362999,4900.1594654399996,49640.662526650005,189958.72884863001]
[{"$f":"'Obligacje skarbowe_podmiot'!A59","v":"2018-10-31"},38954.028498319989,9863.9575696800002,3770.6470375999997,48.369,718.71776711999996,12852.27274808,1912.1029277600001,66240.341683120001,4863.4928985600009,53042.901447120006,192266.83157735999]
[{"$f":"'Obligacje skarbowe_podmiot'!A60","v":"2018-11-30"},39772.078076849997,9726.2195701500004,4912.1910980000002,48.369700000000002,1051.15439885,12786.342148149999,1904.88262975,66304.316553850003,5351.2923838000006,50339.459533900001,192196.30609329999]
[{"$f":"'Obligacje skarbowe_podmiot'!A61","v":"2018-12-31"},38499.738964479999,9165.8564796800001,4123.9960072000003,45.570500000000003,1065.3597526400001,12913.08349936,1918.0749504,66369.147604640006,5888.6214563200001,51469.563090240001,191459.01230495999]
[{"$f":"'Obligacje skarbowe_podmiot'!A62","v":"2019-01-31"},39992.230257199997,9928.3158962800007,3414.2366212000002,35.571300000000001,509.83490318999998,11837.89226131,1622.7424296500001,53806.541120189991,5904.9989597199992,54498.858714039998,181551.22246277999]
[{"$f":"'Obligacje skarbowe_podmiot'!A63","v":"2019-02-28"},40212.68944781,10168.65763892,2625.5129211999997,83.931299999999993,521.05754389999993,11795.914125460002,1597.9648715399999,46262.69112019,5670.7318597199992,53397.792371039999,172336.94319978001]
[{"$f":"'Obligacje skarbowe_podmiot'!A64","v":"2019-03-31"},42401.061387499991,11773.138116200002,1792.6219819999999,92.172799999999995,558.23719149999999,11137.3418081,1560.0799369000001,47650.94983215,4868.1720841999995,53992.940953999998,175826.71609254999]
[{"$f":"'Obligacje skarbowe_podmiot'!A65","v":"2019-04-30"},39141.324115700001,11727.01281342,1976.3843472999999,92.173599999999993,535.93116989999999,10592.846255699998,1613.6958151399999,49051.769054789998,4683.0965481800004,54090.089887559996,173504.32360768999]
[{"$f":"'Obligacje skarbowe_podmiot'!A66","v":"2019-05-31"},40950.325003000005,11251.542846799999,2017.816157,92.174400000000006,533.75429099999997,10009.433413000001,1518.6791625999999,48959.074531099999,4680.2682361999996,52845.254151400004,172858.32219210002]
[{"$f":"'Obligacje skarbowe_podmiot'!A67","v":"2019-06-30"},40907.207728200003,12579.6029389,1623.1166810999998,92.174400000000006,545.20693100000005,9685.1914337999988,1492.0596665999999,49020.967775099998,4224.2878842,53567.554718300002,173737.37015720003]
[{"$f":"'Obligacje skarbowe_podmiot'!A68","v":"2019-07-31"},38512.821908979997,9212.4542777000006,1624.1904622899999,88.275899999999993,629.71189089999996,9010.23876982,1315.1766757400001,47655.008388889997,4791.7972103800003,54894.67977943,167734.35526412999]
[{"$f":"'Obligacje skarbowe_podmiot'!A69","v":"2019-08-31"},41146.27644963999,8181.1268783199994,1625.9442452200001,85.341700000000003,595.66807620000009,8546.1458916400006,1289.3825073200001,45632.772384020005,4645.7296148400001,54237.22896352,165985.61671072]
[{"$f":"'Obligacje skarbowe_podmiot'!A70","v":"2019-09-30"},38757.272429799996,7999.0635723999994,1629.3686429000002,85.341700000000003,651.07610899999997,8154.4980744000004,1283.9350774000002,45860.879208899998,4550.2230438000006,54229.3022318,163200.96009039998]
[{"$f":"'Obligacje skarbowe_podmiot'!A71","v":"2019-10-31"},38019.343547999997,6737.2692526000001,1631.3056429000001,94.253299999999996,778.91410900000005,7824.5433704000006,1249.4950774000001,44394.260208899999,4611.8930437999998,53835.8692286,159177.14678159999]
[{"$f":"'Obligacje skarbowe_podmiot'!A72","v":"2019-11-30"},38307.234004099999,6862.7626906000005,1775.9002429000002,97.680099999999996,776.21310900000003,7717.5230130999998,1277.4920774000002,42897.055208900005,4728.6081438000001,53468.340241800004,157908.80883160001]
[{"$f":"'Obligacje skarbowe_podmiot'!A73","v":"2019-12-31"},38165.040617179999,6079.3278358600001,1618.6034534200001,61.162799999999997,796.85159820000001,7470.4669345999991,1211.80851652,42665.84432022,4616.7229952399994,54634.905847440001,157320.73491867998]
[{"$f":"'Obligacje skarbowe_podmiot'!A74","v":"2020-01-31"},39039.49520356,5938.0972420799999,1621.48744124,31.1906,822.40302039999995,6755.7343412000009,666.80875944000002,41436.076650839997,4146.0262472800005,54021.670419319998,154478.98992536002]
[{"$f":"'Obligacje skarbowe_podmiot'!A75","v":"2020-02-29"},38885.51127486,2379.2575999999999,6069.3591647600006,35.590800000000002,729.41384404999997,6783.9874042499996,694.55261873999996,41990.99299939,4173.8001339000002,56105.344596699993,157847.81043665]
[{"$f":"'Obligacje skarbowe_podmiot'!A76","v":"2020-03-31"},35479.725904580002,2167.8096999999998,5510.6875989999999,35.622500000000002,795.67961735000006,6743.5585855899999,554.27190940999992,43253.167000000001,3762.7334793,54118.856271320001,152422.11256655]
[{"$f":"'Obligacje skarbowe_podmiot'!A77","v":"2020-04-30"},33504.808606370003,2037.1867,4954.59804394,24.618500000000001,735.88199999999995,4914.46335955,317.3648,41530.800999999999,3519.3402079000002,47623.950288660002,139163.01350641999]
[{"$f":"'Obligacje skarbowe_podmiot'!A78","v":"2020-05-31"},33380.843854719998,2101.4292999999998,4704.6940933400001,24.619499999999999,697.125,5498.5237999999999,312.15879999999999,43692.423000000003,3774.9069514000003,47628.50369356,141815.22799302]
[{"$f":"'Obligacje skarbowe_podmiot'!A79","v":"2020-06-30"},30778.63190425,2036.3759,5165.1894025000001,24.6205,667.86400000000003,5278.4048000000003,265.09780000000001,43680.476000000002,3637.7270724999998,45786.442063750001,137320.82944300002]
[{"$f":"'Obligacje skarbowe_podmiot'!A80","v":"2020-07-31"},31923.947048000002,2027.9105,5491.9031373799999,24.621500000000001,641.02800000000002,4640.5358999999999,266.26979999999998,42701.392999999996,3214.0970000000002,46438.139885800003,137369.84577118,137369.84577118]
[{"$f":"'Obligacje skarbowe_podmiot'!A81","v":"2020-08-31"},30533.1937383,2005.8136999999999,5089.1280508700002,24.622399999999999,587.75800000000004,4626.4116999999997,263.34780000000001,42534.208135250003,3183.4677000000001,47470.274280750004,136318.22550517]
[{"$f":"'Obligacje skarbowe_podmiot'!A82","v":"2020-09-30"},29770.666080299998,1790.2967000000001,4600.2158570200008,30.2134,561.71900000000005,4506.7750999999998,253.5308,44263.313220249998,2900.7637,46803.255913400004,135480.74977097]
[{"$f":"'Obligacje skarbowe_podmiot'!A83","v":"2020-10-31"},28393.398468900003,1962.6747,4371.3549462600004,30.214400000000001,489.71499999999997,4242.9490999999998,169.63079999999999,42217.296550749998,2717.4020999999998,46680.247724199995,131274.88379010998]
[{"$f":"'Obligacje skarbowe_podmiot'!A84","v":"2020-11-30"},28026.4548354,2131.6927000000001,4306.7909386199999,30.215299999999999,423.404,4430.8553000000002,169.9058,43027.030664500002,2710.7991000000002,47071.35068494,132328.49932346001]
[{"$f":"'Obligacje skarbowe_podmiot'!A85","v":"2020-12-31"},28532.260492400001,2067.1122,4457.1722357200006,33.286200000000001,257.92759999999998,4443.6153000000004,186.66679999999999,44414.557387000001,2779.1351,46586.261357639996,{"$f":"SUM(B85:K85)","v":133757.99467275999}]
[{"$f":"'Obligacje skarbowe_podmiot'!A86","v":"2021-01-31"},31258.690862599997,2028.1871000000001,4971.2796207800002,33.286999999999999,260.22559999999999,4636.3932999999997,166.62379999999999,44835.644950499998,2888.5371,48206.453732859998,139285.32306673998]
[{"$f":"'Obligacje skarbowe_podmiot'!A87","v":"2021-02-28"},31114.326917739996,1704.6470999999999,4934.7974718899995,33.287100000000002,317.12939999999998,4782.2952999999998,176.37780000000001,45675.978606750003,2575.7271000000001,47176.948032610002,138491.51482898998]
[{"$f":"'Obligacje skarbowe_podmiot'!A88","v":"2021-03-31"},28605.696941819999,1861.7012,6580.3256792700004,33.288699999999999,392.9554,4972.0393000000004,208.53380000000001,43017.137190250003,2723.2620999999999,46344.26201423,134739.20232556999]
[{"$f":"'Obligacje skarbowe_podmiot'!A89","v":"2021-04-30"},26472.36231158,1863.8112000000001,5072.4702781300002,33.2896,380.17540000000002,4374.2663000000002,197.74279999999999,42363.290014749997,2764.5581000000002,47761.17158337,131283.13758782999]
[{"$f":"'Obligacje skarbowe_podmiot'!A90","v":"2021-05-31"},23568.258658760002,1835.0933,3930.61145786,23.590499999999999,242.4204,4182.7254000000003,204.83080000000001,38668.538315419995,2219.8000999999999,45313.990925140002,120189.85985718001]
[{"$f":"'Obligacje skarbowe_podmiot'!A91","v":"2021-06-30"},24453.318495599997,1826.2197000000001,4778.7260431000004,23.5914,218.6054,4202.8671999999997,204.30680000000001,41176.277285699995,1796.8000999999999,44760.354461900002,123441.06688629999]
[{"$f":"'Obligacje skarbowe_podmiot'!A92","v":"2021-07-31"},26587.38270156,1955.7877000000001,3825.0866288100001,23.592300000000002,220.98339999999999,4468.2838000000002,230.9588,42588.329870069996,2474.8141000000001,45926.828426690001,128302.04772713]
[{"$f":"'Obligacje skarbowe_podmiot'!A93","v":"2021-08-31"},27418.44578948,1676.0501999999999,3326.00018873,23.5931,231.85740000000001,4848.0582999999997,224.9008,43864.578398309997,2534.4072000000001,44573.061642769993,128720.95301929]
[{"$f":"'Obligacje skarbowe_podmiot'!A94","v":"2021-09-30"},26061.883933000001,1625.0391999999999,3651.15726425,23.594000000000001,230.17840000000001,4853.1216000000004,224.47880000000001,44033.59901975,2417.5061999999998,46171.931423249996,129292.48984025]
[{"$f":"'Obligacje skarbowe_podmiot'!A95","v":"2021-10-31"},23694.15344604,1587.4341999999999,3573.2592037899999,23.594899999999999,277.99340000000001,4826.8013000000001,280.1078,42435.508622130001,2386.7572,46562.15331971,125647.76339166999]
[{"$f":"'Obligacje skarbowe_podmiot'!A96","v":"2021-11-30"},23368.050062760001,1527.1095,3542.9364869400001,23.596,1122.1733999999999,4737.0541000000003,271.1508,39493.258518970004,2808.6984000000002,48788.781052489998,125682.80832116]
[{"$f":"'Obligacje skarbowe_podmiot'!A97","v":"2021-12-31"},23289.567766880002,1469.5389,3073.0100818400001,26.9971,1229.4634000000001,4501.6130000000003,275.27080000000001,38702.523146359999,2742.0077999999999,49247.70627612,124557.6982712]
[{"$f":"'Obligacje skarbowe_podmiot'!A98","v":"2022-01-31"},23848.128383889998,1531.8201577699999,3549.6902830600006,26.998100000000001,1194.4834000000001,4723.3626000000004,281.50979999999998,38871.364209489999,2060.2161999999998,51247.25165436,127334.82478857]
[{"$f":"'Obligacje skarbowe_podmiot'!A99","v":"2022-02-28"},24080.571416430001,2111.71246999,4925.9776582199993,33.558300000000003,1249.8910000000001,4696.4684999999999,279.88979999999998,38487.743653629994,2044.9541999999999,49210.491682699998,127121.25868096999]
[{"$f":"'Obligacje skarbowe_podmiot'!A100","v":"2022-03-31"},29512.888676340001,2140.5524956199997,4454.3086203599996,35.5199,1363.37,5482.9292999999998,360.33980000000003,36568.341869939999,2242.9962,47969.319222599996,130130.56608485998]
[{"$f":"'Obligacje skarbowe_podmiot'!A101","v":"2022-04-30"},28995.826394799999,2401.7646925500003,4278.9678440999996,39.730899999999998,633.51499999999999,6460.9026000000003,358.42579999999998,34855.114704349995,3659.0664000000002,53117.216657050005,134800.53099284999]
[{"$f":"'Obligacje skarbowe_podmiot'!A102","v":"2022-05-31"},33912.70774261,2505.9619367300002,4841.0338848600004,44.011899999999997,751.55899999999997,6754.3200999999999,366.31709999999998,34650.856087010005,3970.2584000000002,52591.568092900001,140388.59424411002]
[{"$f":"'Obligacje skarbowe_podmiot'!A103","v":"2022-06-30"},31649.626907599999,2967.0715660199999,4816.8167156399995,44.344900000000003,830.63300000000004,6684.3293999999996,884.98159999999996,36493.622614740001,3975.0785000000001,58278.779794599999,146625.28499859999]
[{"$f":"'Obligacje skarbowe_podmiot'!A104","v":"2022-07-31"},30600.441123799999,3007.0699895100001,6109.4536908199998,31.6159,882.39009999999996,6890.25,907.61440000000005,34413.995047870005,3523.9105,56042.298042300004,142409.0387943]
[{"$f":"'Obligacje skarbowe_podmiot'!A105","v":"2022-08-31"},31322.702040400003,3002.7761271599998,4871.4033715599999,31.616800000000001,962.48209999999995,6922.0555999999997,931.17089999999996,35136.958590460003,3739.4418999999998,57636.669513400004,144557.27694298001]
[{"$f":"'Obligacje skarbowe_podmiot'!A106","v":"2022-09-30"},30096.883827579997,3050.6625432399996,4933.0474348400003,22.9678,1075.0700999999999,9913.7541000000001,1661.9922999999999,36190.253831940005,4068.2651999999998,57643.788340620005,148656.68547822]
[{"$f":"'Obligacje skarbowe_podmiot'!A107","v":"2022-10-31"},29627.775650350002,3004.7147673000004,6026.1871243000005,22.968800000000002,953.58609999999999,9582.1236000000008,1395.9503,36885.422585050001,4516.9795000000004,55893.860776150002,147909.56920314999]
[{"$f":"'Obligacje skarbowe_podmiot'!A108","v":"2022-11-30"},31051.18226243,3313.26651554,4518.5678141399994,22.969799999999999,894.88710000000003,9098.7075999999997,1535.4663,39229.741309489997,4973.8822,54880.890134269997,149519.56103586999]
[{"$f":"'Obligacje skarbowe_podmiot'!A109","v":"2022-12-31"},29874.539870970002,3177.1134696599997,4262.6746390600001,19.9008,838.30709999999999,8970.4824000000008,1487.7433000000001,39832.925726709997,4567.2750999999998,53143.208578329999,146174.17098473001]
[{"$f":"'Obligacje skarbowe_podmiot'!A110","v":"2023-01-31"},29707.658724010002,3148.9766947799999,5441.2814249799994,19.901700000000002,860.58309999999994,9025.1064999999999,1397.5273,38507.928407430001,4821.0369000000001,53338.000382890001,146268.00113409001]
[{"$f":"'Obligacje skarbowe_podmiot'!A111","v":"2023-02-28"},27701.333141109997,2912.4517985799998,4507.1924707800008,15.6219,869.29309999999998,8628.9125000000004,1244.1143,38207.305317730003,4412.8658999999998,52369.557439789998,140868.64786798999]
[{"$f":"'Obligacje skarbowe_podmiot'!A112","v":"2023-03-31"},29589.638375909999,2886.9483729799999,4505.0399411799999,15.623699999999999,910.76210000000003,8463.2019,1275.5073,38790.539014129994,4450.8941000000004,51231.393016989998,142119.54782118998]
[{"$f":"'Obligacje skarbowe_podmiot'!A113","v":"2023-04-30"},29249.590378579996,2816.02701084,4899.9390864400002,15.623699999999999,917.84709999999995,8130.5537000000004,1327.1853000000001,37751.189862539999,4518.7658000000001,50204.920741760005,139831.64268015997]
[{"$f":"'Obligacje skarbowe_podmiot'!A114","v":"2023-05-31"},29978.094747390001,2651.3771500600001,4851.1373933899995,15.625400000000001,815.70609999999999,7612.6036000000004,1263.1387,37004.82718411,3228.4315999999999,48755.006980639999,136175.94885559002]
[{"$f":"'Obligacje skarbowe_podmiot'!A115","v":"2023-06-30"},31016.812478800002,2434.4560739200001,6277.4669064799991,15.626099999999999,607.83309999999994,4679.1733000000004,643.02670000000001,35936.03467352,3958.1833000000001,49348.755548480003,134917.3681812]
[{"$f":"'Obligacje skarbowe_podmiot'!A116","v":"2023-07-31"},29786.75630175,2490.9373747,6593.8289407499997,20.096900000000002,586.99109999999996,4788.8041000000003,702.03869999999995,35695.35009195,3832.5039999999999,51485.080396800004,135982.38790594999]
[{"$f":"'Obligacje skarbowe_podmiot'!A117","v":"2023-08-31"},29551.5995,2634.6662000000001,6136.0942999999997,20.1127,625.36699999999996,4618.1859000000004,661.06569999999999,35618.157500000001,3983.4387000000002,50980.006999999998,134828.69449999998]
[{"$f":"'Obligacje skarbowe_podmiot'!A118","v":"2023-09-30"},27881.4673,2542.1626000000001,6089.1706999999997,20.113499999999998,672.47799999999995,4665.4844000000003,639.22170000000006,33608.681499999999,4006.5448999999999,49552.464,129677.7886]
[{"$f":"'Obligacje skarbowe_podmiot'!A119","v":"2023-10-31"},28727.135999999999,2544.7035000000001,6776.6940000000004,14.7113,701.77300000000002,4710.5814,518.09540000000004,32859.781499999997,3481.0585000000001,49739.913999999997,130074.4486]
[{"$f":"'Obligacje skarbowe_podmiot'!A120","v":"2023-11-30"},28361.666099999999,2644.9686999999999,6410.1521000000002,14.712,633.11199999999997,4921.6635999999999,504.37639999999999,31495.551500000001,3945.9056999999998,50522.582000000002,129454.69010000001]
[{"$f":"'Obligacje skarbowe_podmiot'!A121","v":"2023-12-31"},29902.347900000001,2720.8607000000002,7242.1221999999998,14.712999999999999,560.04,5094.3639000000003,593.67840000000001,32295.577399999998,4160.6785,49589.716,132174.098]
[{"$f":"'Obligacje skarbowe_podmiot'!A122","v":"2024-01-31"},27630.572100000001,2587.0547999999999,6552.3536999999997,10.597,598.24,4414.8118999999997,191.4864,32022.4316,4441.4116999999997,53713.182999999997,132162.1422]
[{"$f":"'Obligacje skarbowe_podmiot'!A123","v":"2024-02-29"},28527.8282,2644.4513999999999,5223.6220000000003,10.597099999999999,574.85,4722.9148999999998,174.10640000000001,33086.611599999997,3112.1507000000001,55357.957000000002,133435.08929999999]
[{"$f":"'Obligacje skarbowe_podmiot'!A124","v":"2024-03-31"},29870.026999999998,2689.5708,4823.6759000000002,5.0239000000000003,538.27,4564.2736999999997,177.6754,33006.434600000001,3100.4616999999998,53392.29,132167.70299999998]
[{"$f":"'Obligacje skarbowe_podmiot'!A125","v":"2024-04-30"},28241.800999999999,2729.2645000000002,5675.7977000000001,5.0248999999999997,626.976,6056.9463999999998,233.18940000000001,34356.146399999998,3100.5005000000001,50067.351999999999,131092.9988]
[{"$f":"'Obligacje skarbowe_podmiot'!A126","v":"2024-05-31"},28487.071899999999,2659.4598000000001,5587.0387000000001,29.985900000000001,623.02599999999995,6331.3771999999999,424.32940000000002,34230.701399999998,3052.0574999999999,51086.536999999997,132511.58480000001]
[{"$f":"'Obligacje skarbowe_podmiot'!A127","v":"2024-06-30"},29896.075099999998,2590.0466999999999,6550.8397599999998,29.9861,589.85599999999999,6537.1957000000002,559.99239999999998,36474.5363,2983.0875000000001,51320.168080000003,137531.78364000001]
[{"$f":"'Obligacje skarbowe_podmiot'!A128","v":"2024-07-31"},30849.39770111,2588.3791999999999,6309.8053049800001,30.015799999999999,657.69328890999998,7716.27349985,458.67558931999997,36755.833607550005,2813.1928620399999,57619.629506810001,145798.89636057001,145798.89636057001]
["2024-08-31",30063.193788200006,2566.7784999999999,5945.0405220600005,46.596800000000002,648.71200967999994,5809.7970342000008,416.87796810000003,37902.747377400003,2830.5878808800003,57573.786782119998,143804.11866264002]
["2024-09-30",30096.4035869,2585.0814999999998,6144.7604985499993,46.620800000000003,754.51535139999999,6606.0457623500006,536.54432174999999,39057.032395249997,2596.2263134,61160.5867019,149583.8172315]
["2024-10-31",32485.93796128,2543.7004000000002,6597.3049593599999,46.932899999999997,801.62765655999999,6492.9791067200003,478.70191079999995,38341.681852480004,3152.85969024,57489.804868079998,148431.53130551998]
["2024-11-30",31827.8302129,2501.8431,7550.7093758999999,46.933599999999998,881.79101960000003,7617.9032655999999,518.87493425000002,38616.684206800004,3283.6780034000003,57512.960475,150359.20819345]
["2024-12-31",31508.519699749999,2508.2734717500002,6458.8878894999998,36.334400000000002,903.77599075000001,7320.5669189999999,954.84518800000001,39881.891344249998,3274.7830657499999,55572.515872000004,148420.39384074998]
["2025-01-31",34158.841676470001,2566.61146491,6212.8869519000009,37.861199999999997,833.15749827000002,7703.0079851499995,1050.06609015,38374.239029290002,3430.6700625900003,60954.664914300003,155322.00687303001]
["2025-02-28",36142.755272640003,2615.77919608,6941.2767850399996,53.796199999999999,773.54929063999998,7803.7513683999996,1180.0943812,38549.902496080002,3153.2007239200002,64767.345559360001,161981.45127336]
["2025-03-31",34054.458491680001,2647.3579202600004,7874.8731609000006,52.4908,816.93568221999999,7486.5876750799998,1190.9080008799999,38718.280711179992,2792.6869847399998,64748.175639979992,160382.75506691998]

{"sheet":"Bony skarbowe_region","index":5,"n_rows":136,"n_cols":12,"rows_kept":136,"cut":false,"hidden":false,"merged":[[2,9,3,9],[2,10,3,10],[2,11,3,11],[0,0,1,11],[2,0,3,0],[2,1,3,1],[2,2,3,2],[2,3,3,3],[2,4,3,4],[2,5,3,5],[2,6,3,6],[2,7,3,7],[2,8,3,8]]}
["Struktura geograficzna nierezydentów w bonach skarbowych (mln zł)"]
[]
["Data","Europa - kraje strefy euro","Europa - kraje UE spoza strefy euro","Europa - kraje spoza UE","Afryka","Ameryka Południowa (w tym Karaiby)","Ameryka Północna","Australia i Oceania","Azja (bez Bliskiego Wschodu)","Bliski Wschód","Rachunki zbiorcze","Razem"]
[]
[{"$f":"'Obligacje skarbowe_region'!A5","v":"2014-04-30"},0,0,0,0,0,0,0,0,0,0,{"$f":"SUM(B5:K5)","v":0}]
[{"$f":"'Obligacje skarbowe_region'!A6","v":"2014-05-31"},0,0,0,0,0,0,0,0,0,0,0]
[{"$f":"'Obligacje skarbowe_region'!A7","v":"2014-06-30"},0,0,0,0,0,0,0,0,0,0,0]
[{"$f":"'Obligacje skarbowe_region'!A8","v":"2014-07-31"},0,0,0,0,0,0,0,0,0,0,0]
[{"$f":"'Obligacje skarbowe_region'!A9","v":"2014-08-31"},0,0,0,0,0,0,0,0,0,0,0]
[{"$f":"'Obligacje skarbowe_region'!A10","v":"2014-09-30"},0,0,0,0,0,0,0,0,0,0,0]
[{"$f":"'Obligacje skarbowe_region'!A11","v":"2014-10-31"},0,0,0,0,0,0,0,0,0,0,{"$f":"SUM(B11:K11)","v":0}]
[{"$f":"'Obligacje skarbowe_region'!A12","v":"2014-11-30"},0,0,0,0,0,0,0,0,0,0,{"$f":"SUM(B12:K12)","v":0}]
[{"$f":"'Obligacje skarbowe_region'!A13","v":"2014-12-31"},0,0,0,0,0,0,0,0,0,0,{"$f":"SUM(B13:K13)","v":0}]
[{"$f":"'Obligacje skarbowe_region'!A14","v":"2015-01-31"},0,0,0,0,0,0,0,0,0,0,{"$f":"SUM(B14:K14)","v":0}]
[{"$f":"'Obligacje skarbowe_region'!A15","v":"2015-02-28"},0,0,0,0,0,0,0,0,0,0,{"$f":"SUM(B15:K15)","v":0}]
[{"$f":"'Obligacje skarbowe_region'!A16","v":"2015-03-31"},0,0,0,0,0,0,0,0,0,0,{"$f":"SUM(B16:K16)","v":0}]
[{"$f":"'Obligacje skarbowe_region'!A17","v":"2015-04-30"},0,0,0,0,0,0,0,0,0,0,{"$f":"SUM(B17:K17)","v":0}]
[{"$f":"'Obligacje skarbowe_region'!A18","v":"2015-05-31"},0,0,0,0,0,0,0,0,0,0,{"$f":"SUM(B18:K18)","v":0}]
[{"$f":"'Obligacje skarbowe_region'!A19","v":"2015-06-30"},0,0,0,0,0,0,0,0,0,0,{"$f":"SUM(B19:K19)","v":0}]
[{"$f":"'Obligacje skarbowe_region'!A20","v":"2015-07-31"},0,0,0,0,0,0,0,0,0,0,0]
[{"$f":"'Obligacje skarbowe_region'!A21","v":"2015-08-31"},0,0,0,0,0,0,0,0,0,0,{"$f":"SUM(B21:K21)","v":0}]
[{"$f":"'Obligacje skarbowe_region'!A22","v":"2015-09-30"},0,0,0,0,0,0,0,0,0,0,{"$f":"SUM(B22:K22)","v":0}]
[{"$f":"'Obligacje skarbowe_region'!A23","v":"2015-10-31"},0,0,0,0,0,0,0,0,0,0,{"$f":"SUM(B23:K23)","v":0}]
[{"$f":"'Obligacje skarbowe_region'!A24","v":"2015-11-30"},0,0,0,0,0,0,0,0,0,0,{"$f":"SUM(B24:K24)","v":0}]
[{"$f":"'Obligacje skarbowe_region'!A25","v":"2015-12-31"},0,0,0,0,0,0,0,0,0,0,{"$f":"SUM(B25:K25)","v":0}]
[{"$f":"'Obligacje skarbowe_region'!A26","v":"2016-01-31"},0,0,0,0,0,0,0,0,0,0,{"$f":"SUM(B26:K26)","v":0}]
[{"$f":"'Obligacje skarbowe_region'!A27","v":"2016-02-29"},0,50,0,0,0,0,0,0,0,0,50]
[{"$f":"'Obligacje skarbowe_region'!A28","v":"2016-03-31"},0.65,50,0,0,0,0,0,0,0,0,50.65]
[{"$f":"'Obligacje skarbowe_region'!A29","v":"2016-04-30"},10.65,50.5,0,0,0,0,0,0,0,0,61.15]
[{"$f":"'Obligacje skarbowe_region'!A30","v":"2016-05-31"},10.65,27.5,0,0,0,0,0,0,0,0,38.15]
[{"$f":"'Obligacje skarbowe_region'!A31","v":"2016-06-30"},10.65,30.5,0,0,0,0,0,0,0,0,{"$f":"SUM(B31:K31)","v":41.15}]
[{"$f":"'Obligacje skarbowe_region'!A32","v":"2016-07-31"},10.65,5.5,0,0,0,0,0,0,0,0,16.149999999999999]
[{"$f":"'Obligacje skarbowe_region'!A33","v":"2016-08-31"},0,0,0,0,0,0,0,0,0,0,0]
[{"$f":"'Obligacje skarbowe_region'!A34","v":"2016-09-30"},0,0,0,0,0,0,0,0,0,0,{"$f":"SUM(B34:K34)","v":0}]
[{"$f":"'Obligacje skarbowe_region'!A35","v":"2016-10-31"},0,0,0,0,0,0,0,0,0,0,{"$f":"SUM(B35:K35)","v":0}]
[{"$f":"'Obligacje skarbowe_region'!A36","v":"2016-11-30"},0,0,0,0,0,0,0,0,0,0,{"$f":"SUM(B36:K36)","v":0}]
[{"$f":"'Obligacje skarbowe_region'!A37","v":"2016-12-31"},0,0,0,0,0,0,0,0,0,0,{"$f":"SUM(B37:K37)","v":0}]
[{"$f":"'Obligacje skarbowe_region'!A38","v":"2017-01-31"},0,0,0,0,0,0,0,20,0,0,20]
[{"$f":"'Obligacje skarbowe_region'!A39","v":"2017-02-28"},0,0,0,0,0,0,0,49,0,0,49]
[{"$f":"'Obligacje skarbowe_region'!A40","v":"2017-03-31"},0,0,0,0,0,0,0,69,0,0,69]
[{"$f":"'Obligacje skarbowe_region'!A41","v":"2017-04-30"},0,0,0,0,0,0,0,69,0,0,69]
[{"$f":"'Obligacje skarbowe_region'!A42","v":"2017-05-31"},0,0,0,0,0,0,0,79,0,0,79]
[{"$f":"'Obligacje skarbowe_region'!A43","v":"2017-06-30"},0,0,0,0,0,0,0,79,0,0,{"$f":"SUM(B43:K43)","v":79}]
[{"$f":"'Obligacje skarbowe_region'!A44","v":"2017-07-31"},0,0,0,0,0,0,0,79,0,0,{"$f":"SUM(B44:K44)","v":79}]
[{"$f":"'Obligacje skarbowe_region'!A45","v":"2017-08-31"},0,0,0,0,0,0,0,0,0,0,{"$f":"SUM(B45:K45)","v":0}]
[{"$f":"'Obligacje skarbowe_region'!A46","v":"2017-09-30"},0,0,0,0,0,0,0,0,0,0,{"$f":"SUM(B46:K46)","v":0}]
[{"$f":"'Obligacje skarbowe_region'!A47","v":"2017-10-31"},0,0,0,0,0,0,0,0,0,0,{"$f":"SUM(B47:K47)","v":0}]
[{"$f":"'Obligacje skarbowe_region'!A48","v":"2017-11-30"},0,0,0,0,0,0,0,0,0,0,{"$f":"SUM(B48:K48)","v":0}]
[{"$f":"'Obligacje skarbowe_region'!A49","v":"2017-12-31"},0,0,0,0,0,0,0,0,0,0,{"$f":"SUM(B49:K49)","v":0}]
[{"$f":"'Obligacje skarbowe_region'!A50","v":"2018-01-31"},0,0,0,0,0,0,0,0,0,0,{"$f":"SUM(B50:K50)","v":0}]
[{"$f":"'Obligacje skarbowe_region'!A51","v":"2018-02-28"},0,0,0,0,0,0,0,0,0,0,{"$f":"SUM(B51:K51)","v":0}]
[{"$f":"'Obligacje skarbowe_region'!A52","v":"2018-03-31"},0,0,0,0,0,0,0,0,0,0,{"$f":"SUM(B52:K52)","v":0}]
[{"$f":"'Obligacje skarbowe_region'!A53","v":"2018-04-30"},0,0,0,0,0,0,0,0,0,0,{"$f":"SUM(B53:K53)","v":0}]
[{"$f":"'Obligacje skarbowe_region'!A54","v":"2018-05-31"},0,0,0,0,0,0,0,0,0,0,{"$f":"SUM(B54:K54)","v":0}]
[{"$f":"'Obligacje skarbowe_region'!A55","v":"2018-06-30"},0,0,0,0,0,0,0,0,0,0,{"$f":"SUM(B55:K55)","v":0}]
[{"$f":"'Obligacje skarbowe_region'!A56","v":"2018-07-31"},0,0,0,0,0,0,0,0,0,0,{"$f":"SUM(B56:K56)","v":0}]
[{"$f":"'Obligacje skarbowe_region'!A57","v":"2018-08-31"},0,0,0,0,0,0,0,0,0,0,{"$f":"SUM(B57:K57)","v":0}]
[{"$f":"'Obligacje skarbowe_region'!A58","v":"2018-09-30"},0,0,0,0,0,0,0,0,0,0,{"$f":"SUM(B58:K58)","v":0}]
[{"$f":"'Obligacje skarbowe_region'!A59","v":"2018-10-31"},0,0,0,0,0,0,0,0,0,0,{"$f":"SUM(B59:K59)","v":0}]
[{"$f":"'Obligacje skarbowe_region'!A60","v":"2018-11-30"},0,0,0,0,0,0,0,0,0,0,{"$f":"SUM(B60:K60)","v":0}]
[{"$f":"'Obligacje skarbowe_region'!A61","v":"2018-12-31"},0,0,0,0,0,0,0,0,0,0,{"$f":"SUM(B61:K61)","v":0}]
[{"$f":"'Obligacje skarbowe_region'!A62","v":"2019-01-31"},0,0,0,0,0,0,0,0,0,0,{"$f":"SUM(B62:K62)","v":0}]
[{"$f":"'Obligacje skarbowe_region'!A63","v":"2019-02-28"},0,0,0,0,0,0,0,0,0,0,{"$f":"SUM(B63:K63)","v":0}]
[{"$f":"'Obligacje skarbowe_region'!A64","v":"2019-03-31"},0,0,0,0,0,0,0,0,0,0,{"$f":"SUM(B64:K64)","v":0}]
[{"$f":"'Obligacje skarbowe_region'!A65","v":"2019-04-30"},0,0,0,0,0,0,0,0,0,0,{"$f":"SUM(B65:K65)","v":0}]
[{"$f":"'Obligacje skarbowe_region'!A66","v":"2019-05-31"},0,0,0,0,0,0,0,0,0,0,{"$f":"SUM(B66:K66)","v":0}]
[{"$f":"'Obligacje skarbowe_region'!A67","v":"2019-06-30"},0,0,0,0,0,0,0,0,0,0,{"$f":"SUM(B67:K67)","v":0}]
[{"$f":"'Obligacje skarbowe_region'!A68","v":"2019-07-31"},0,0,0,0,0,0,0,0,0,0,{"$f":"SUM(B68:K68)","v":0}]
[{"$f":"'Obligacje skarbowe_region'!A69","v":"2019-08-31"},0,0,0,0,0,0,0,0,0,0,{"$f":"SUM(B69:K69)","v":0}]
[{"$f":"'Obligacje skarbowe_region'!A70","v":"2019-09-30"},0,0,0,0,0,0,0,0,0,0,{"$f":"SUM(B70:K70)","v":0}]
[{"$f":"'Obligacje skarbowe_region'!A71","v":"2019-10-31"},0,0,0,0,0,0,0,0,0,0,{"$f":"SUM(B71:K71)","v":0}]
[{"$f":"'Obligacje skarbowe_region'!A72","v":"2019-11-30"},0,0,0,0,0,0,0,0,0,0,{"$f":"SUM(B72:K72)","v":0}]
[{"$f":"'Obligacje skarbowe_region'!A73","v":"2019-12-31"},0,0,0,0,0,0,0,0,0,0,{"$f":"SUM(B73:K73)","v":0}]
[{"$f":"'Obligacje skarbowe_region'!A74","v":"2020-01-31"},0,0,0,0,0,0,0,0,0,0,{"$f":"SUM(B74:K74)","v":0}]
[{"$f":"'Obligacje skarbowe_region'!A75","v":"2020-02-29"},0,0,0,0,0,0,0,0,0,0,{"$f":"SUM(B75:K75)","v":0}]
[{"$f":"'Obligacje skarbowe_region'!A76","v":"2020-03-31"},0,0,0,0,0,0,0,0,0,0,{"$f":"SUM(B76:K76)","v":0}]
[{"$f":"'Obligacje skarbowe_region'!A77","v":"2020-04-30"},200,0,200,0,0,0,0,0,0,0,400]
[{"$f":"'Obligacje skarbowe_region'!A78","v":"2020-05-31"},200,0,0,0,0,0,0,0,0,0,200]
[{"$f":"'Obligacje skarbowe_region'!A79","v":"2020-06-30"},307.8,0,0,0,0,0,0,0,0,0,307.8]
[{"$f":"'Obligacje skarbowe_region'!A80","v":"2020-07-31"},307.8,0,0,0,0,0,0,0,0,0,307.8]
[{"$f":"'Obligacje skarbowe_region'!A81","v":"2020-08-31"},245,0,0,0,0,0,0,0,0,0,245]
[{"$f":"'Obligacje skarbowe_region'!A82","v":"2020-09-30"},245,0,0,0,0,0,0,0,0,0,245]
[{"$f":"'Obligacje skarbowe_region'!A83","v":"2020-10-31"},0,0,0,0,0,0,0,0,0,0,0]
[{"$f":"'Obligacje skarbowe_region'!A84","v":"2020-11-30"},0,0,0,0,0,0,0,0,0,0,0]
[{"$f":"'Obligacje skarbowe_region'!A85","v":"2020-12-31"},0,0,0,0,0,0,0,0,0,0,0]
[{"$f":"'Obligacje skarbowe_region'!A86","v":"2021-01-31"},0,0,0,0,0,0,0,0,0,0,0]
[{"$f":"'Obligacje skarbowe_region'!A87","v":"2021-02-28"},950,0,0,0,0,0,0,0,0,0,950]
[{"$f":"'Obligacje skarbowe_region'!A88","v":"2021-03-31"},0,0,0,0,0,0,0,0,0,0,0]
[{"$f":"'Obligacje skarbowe_region'!A89","v":"2021-04-30"},0,0,0,0,0,0,0,0,0,0,0]
[{"$f":"'Obligacje skarbowe_region'!A90","v":"2021-05-31"},0,0,0,0,0,0,0,0,0,0,0]
[{"$f":"'Obligacje skarbowe_region'!A91","v":"2021-06-30"},0,0,0,0,0,0,0,0,0,0,0]
[{"$f":"'Obligacje skarbowe_region'!A92","v":"2021-07-31"},0,0,0,0,0,0,0,0,0,0,0]
[{"$f":"'Obligacje skarbowe_region'!A93","v":"2021-08-31"},0,0,0,0,0,0,0,0,0,0,0]
[{"$f":"'Obligacje skarbowe_region'!A94","v":"2021-09-30"},0,0,0,0,0,0,0,0,0,0,0]
[{"$f":"'Obligacje skarbowe_region'!A95","v":"2021-10-31"},0,0,0,0,0,0,0,0,0,0,0]
[{"$f":"'Obligacje skarbowe_region'!A96","v":"2021-11-30"},0,0,0,0,0,0,0,0,0,0,0]
[{"$f":"'Obligacje skarbowe_region'!A97","v":"2021-12-31"},0,0,0,0,0,0,0,0,0,0,0]
[{"$f":"'Obligacje skarbowe_region'!A98","v":"2022-01-31"},0,0,0,0,0,0,0,0,0,0,0]
[{"$f":"'Obligacje skarbowe_region'!A99","v":"2022-02-28"},0,0,0,0,0,0,0,0,0,0,0]
[{"$f":"'Obligacje skarbowe_region'!A100","v":"2022-03-31"},0,0,0,0,0,0,0,0,0,0,0]
[{"$f":"'Obligacje skarbowe_region'!A101","v":"2022-04-30"},0,0,0,0,0,0,0,0,0,0,0]
[{"$f":"'Obligacje skarbowe_region'!A102","v":"2022-05-31"},0,0,0,0,0,0,0,0,0,0,0]
[{"$f":"'Obligacje skarbowe_region'!A103","v":"2022-06-30"},0,0,0,0,0,0,0,0,0,0,0]
[{"$f":"'Obligacje skarbowe_region'!A104","v":"2022-07-31"},0,0,0,0,0,0,0,0,0,0,0]
[{"$f":"'Obligacje skarbowe_region'!A105","v":"2022-08-31"},0,0,0,0,0,0,0,0,0,0,0]
[{"$f":"'Obligacje skarbowe_region'!A106","v":"2022-09-30"},0,0,0,0,0,0,0,0,0,0,0]
[{"$f":"'Obligacje skarbowe_region'!A107","v":"2022-10-31"},0,0,0,0,0,0,0,0,0,0,0]
[{"$f":"'Obligacje skarbowe_region'!A108","v":"2022-11-30"},0,0,0,0,0,0,0,0,0,0,0]
[{"$f":"'Obligacje skarbowe_region'!A109","v":"2022-12-31"},0,0,0,0,0,0,0,0,0,0,0]
[{"$f":"'Obligacje skarbowe_region'!A110","v":"2023-01-31"},0,0,0,0,0,0,0,0,0,0,0]
[{"$f":"'Obligacje skarbowe_region'!A111","v":"2023-02-28"},0,0,0,0,0,0,0,0,0,0,0]
[{"$f":"'Obligacje skarbowe_region'!A112","v":"2023-03-31"},0,0,0,0,0,0,0,0,0,0,0]
[{"$f":"'Obligacje skarbowe_region'!A113","v":"2023-04-30"},0,0,0,0,0,0,0,0,0,0,0]
[{"$f":"'Obligacje skarbowe_region'!A114","v":"2023-05-31"},0,0,0,0,0,0,0,0,0,0,0]
[{"$f":"'Obligacje skarbowe_region'!A115","v":"2023-06-30"},0,0,0,0,0,0,0,0,0,0,0]
[{"$f":"'Obligacje skarbowe_region'!A116","v":"2023-07-31"},0,0,0,0,0,0,0,0,0,0,0]
[{"$f":"'Obligacje skarbowe_region'!A117","v":"2023-08-31"},0,0,0,0,0,0,0,0,0,0,0]
[{"$f":"'Obligacje skarbowe_region'!A118","v":"2023-09-30"},0,0,0,0,0,0,0,0,0,0,0]
[{"$f":"'Obligacje skarbowe_region'!A119","v":"2023-10-31"},0,0,0,0,0,0,0,0,0,0,0]
[{"$f":"'Obligacje skarbowe_region'!A120","v":"2023-11-30"},0,0,0,0,0,0,0,0,0,0,0]
[{"$f":"'Obligacje skarbowe_region'!A121","v":"2023-12-31"},0,0,0,0,0,0,0,0,0,0,0]
[{"$f":"'Obligacje skarbowe_region'!A122","v":"2024-01-31"},0,0,0,0,0,0,0,0,0,0,0]
[{"$f":"'Obligacje skarbowe_region'!A123","v":"2024-02-29"},0,0,0,0,0,0,0,0,0,0,0]
[{"$f":"'Obligacje skarbowe_region'!A124","v":"2024-03-31"},0,0,0,0,0,0,0,0,0,0,0]
[{"$f":"'Obligacje skarbowe_region'!A125","v":"2024-04-30"},0,0,0,0,0,0,0,0,0,0,0]
[{"$f":"'Obligacje skarbowe_region'!A126","v":"2024-05-31"},0,0,0,0,0,0,0,0,0,0,0]
[{"$f":"'Obligacje skarbowe_region'!A127","v":"2024-06-30"},0,0,0,0,0,0,0,0,0,0,0]
[{"$f":"'Obligacje skarbowe_region'!A128","v":"2024-07-31"},0,0,0,0,0,0,0,0,0,0,0]
["2024-08-31",0,0,0,0,0,0,0,0,0,0,0]
["2024-09-30",0,0,0,0,0,0,0,0,0,0,0]
["2024-10-31",0,0,0,0,0,0,0,0,0,0,0]
["2024-11-30",0,0,0,0,0,0,0,0,0,0,0]
["2024-12-31",0,0,0,0,0,0,0,0,0,0,0]
["2025-01-31",132.9,15,0,0,0,0,0,0,0,0,147.9]
["2025-02-28",56.85,20,18.2,0,0,0,0,0,0,0,95.05]
["2025-03-31",68.849999999999994,85,18.2,0,0,0,0,0,0,0,172.04999999999998]

{"sheet":"Razem_region","index":6,"n_rows":136,"n_cols":12,"rows_kept":136,"cut":false,"hidden":false,"merged":[[2,9,3,9],[2,10,3,10],[2,11,3,11],[0,0,1,11],[2,0,3,0],[2,1,3,1],[2,2,3,2],[2,3,3,3],[2,4,3,4],[2,5,3,5],[2,6,3,6],[2,7,3,7],[2,8,3,8]]}
["Struktura geograficzna nierezydentów w krajowych SPW (mln zł)"]
[]
["Data","Europa - kraje strefy euro","Europa - kraje UE spoza strefy euro","Europa - kraje spoza UE","Afryka","Ameryka Południowa (w tym Karaiby)","Ameryka Północna","Australia i Oceania","Azja (bez Bliskiego Wschodu)","Bliski Wschód","Rachunki zbiorcze","Razem"]
[]
[{"$f":"'Obligacje skarbowe_region'!A5","v":"2014-04-30"},{"$f":"'Obligacje skarbowe_region'!B5+'Bony skarbowe_region'!B5","v":54853.987458060001},{"$f":"'Obligacje skarbowe_region'!C5+'Bony skarbowe_region'!C5","v":8810.6274987399993},{"$f":"'Obligacje skarbowe_region'!D5+'Bony skarbowe_region'!D5","v":9225.0801073999992},{"$f":"'Obligacje skarbowe_region'!E5+'Bony skarbowe_region'!E5","v":13.3225},{"$f":"'Obligacje skarbowe_region'!F5+'Bony skarbowe_region'!F5","v":1547.6443965999999},{"$f":"'Obligacje skarbowe_region'!G5+'Bony skarbowe_region'!G5","v":48960.041207969996},{"$f":"'Obligacje skarbowe_region'!H5+'Bony skarbowe_region'!H5","v":1595.9462375000001},{"$f":"'Obligacje skarbowe_region'!I5+'Bony skarbowe_region'!I5","v":26059.646287720003},{"$f":"'Obligacje skarbowe_region'!J5+'Bony skarbowe_region'!J5","v":6175.7404407100003},{"$f":"'Obligacje skarbowe_region'!K5+'Bony skarbowe_region'!K5","v":30397.89447363},{"$f":"'Obligacje skarbowe_region'!L5+'Bony skarbowe_region'!L5","v":187639.93060833}]
[{"$f":"'Obligacje skarbowe_region'!A6","v":"2014-05-31"},{"$f":"'Obligacje skarbowe_region'!B6+'Bony skarbowe_region'!B6","v":53952.492233680001},{"$f":"'Obligacje skarbowe_region'!C6+'Bony skarbowe_region'!C6","v":8682.1012772300001},{"$f":"'Obligacje skarbowe_region'!D6+'Bony skarbowe_region'!D6","v":9272.7041325600003},{"$f":"'Obligacje skarbowe_region'!E6+'Bony skarbowe_region'!E6","v":13.3225},{"$f":"'Obligacje skarbowe_region'!F6+'Bony skarbowe_region'!F6","v":1604.2802385},{"$f":"'Obligacje skarbowe_region'!G6+'Bony skarbowe_region'!G6","v":49659.677812499998},{"$f":"'Obligacje skarbowe_region'!H6+'Bony skarbowe_region'!H6","v":1596.7358002999999},{"$f":"'Obligacje skarbowe_region'!I6+'Bony skarbowe_region'!I6","v":27364.2249959},{"$f":"'Obligacje skarbowe_region'!J6+'Bony skarbowe_region'!J6","v":6648.7195685999995},{"$f":"'Obligacje skarbowe_region'!K6+'Bony skarbowe_region'!K6","v":30859.053028040002},{"$f":"'Obligacje skarbowe_region'!L6+'Bony skarbowe_region'!L6","v":189653.31158730999}]
[{"$f":"'Obligacje skarbowe_region'!A7","v":"2014-06-30"},{"$f":"'Obligacje skarbowe_region'!B7+'Bony skarbowe_region'!B7","v":57302.877883970003},{"$f":"'Obligacje skarbowe_region'!C7+'Bony skarbowe_region'!C7","v":10586.710828349998},{"$f":"'Obligacje skarbowe_region'!D7+'Bony skarbowe_region'!D7","v":9663.1166024800004},{"$f":"'Obligacje skarbowe_region'!E7+'Bony skarbowe_region'!E7","v":28.3325},{"$f":"'Obligacje skarbowe_region'!F7+'Bony skarbowe_region'!F7","v":1626.1842420999999},{"$f":"'Obligacje skarbowe_region'!G7+'Bony skarbowe_region'!G7","v":51588.742399170005},{"$f":"'Obligacje skarbowe_region'!H7+'Bony skarbowe_region'!H7","v":1642.1963179000002},{"$f":"'Obligacje skarbowe_region'!I7+'Bony skarbowe_region'!I7","v":28252.052133980003},{"$f":"'Obligacje skarbowe_region'!J7+'Bony skarbowe_region'!J7","v":6764.4530324099997},{"$f":"'Obligacje skarbowe_region'!K7+'Bony skarbowe_region'!K7","v":32366.672462250001},{"$f":"'Obligacje skarbowe_region'!L7+'Bony skarbowe_region'!L7","v":199821.33840261001}]
[{"$f":"'Obligacje skarbowe_region'!A8","v":"2014-07-31"},{"$f":"'Obligacje skarbowe_region'!B8+'Bony skarbowe_region'!B8","v":54295.27477453},{"$f":"'Obligacje skarbowe_region'!C8+'Bony skarbowe_region'!C8","v":10011.031321889999},{"$f":"'Obligacje skarbowe_region'!D8+'Bony skarbowe_region'!D8","v":9516.6342471400003},{"$f":"'Obligacje skarbowe_region'!E8+'Bony skarbowe_region'!E8","v":26.343699999999998},{"$f":"'Obligacje skarbowe_region'!F8+'Bony skarbowe_region'!F8","v":1702.2969934499999},{"$f":"'Obligacje skarbowe_region'!G8+'Bony skarbowe_region'!G8","v":50291.28975009},{"$f":"'Obligacje skarbowe_region'!H8+'Bony skarbowe_region'!H8","v":1686.0057950999999},{"$f":"'Obligacje skarbowe_region'!I8+'Bony skarbowe_region'!I8","v":28942.48777965},{"$f":"'Obligacje skarbowe_region'!J8+'Bony skarbowe_region'!J8","v":6592.6150635800004},{"$f":"'Obligacje skarbowe_region'!K8+'Bony skarbowe_region'!K8","v":33037.725373269997},{"$f":"'Obligacje skarbowe_region'!L8+'Bony skarbowe_region'!L8","v":196101.7047987}]
[{"$f":"'Obligacje skarbowe_region'!A9","v":"2014-08-31"},{"$f":"'Obligacje skarbowe_region'!B9+'Bony skarbowe_region'!B9","v":53572.628321499986},{"$f":"'Obligacje skarbowe_region'!C9+'Bony skarbowe_region'!C9","v":8914.014177770001},{"$f":"'Obligacje skarbowe_region'!D9+'Bony skarbowe_region'!D9","v":9473.0346456400002},{"$f":"'Obligacje skarbowe_region'!E9+'Bony skarbowe_region'!E9","v":26.354700000000001},{"$f":"'Obligacje skarbowe_region'!F9+'Bony skarbowe_region'!F9","v":1666.4449603},{"$f":"'Obligacje skarbowe_region'!G9+'Bony skarbowe_region'!G9","v":50971.173472009999},{"$f":"'Obligacje skarbowe_region'!H9+'Bony skarbowe_region'!H9","v":1690.2091363},{"$f":"'Obligacje skarbowe_region'!I9+'Bony skarbowe_region'!I9","v":30035.089223819999},{"$f":"'Obligacje skarbowe_region'!J9+'Bony skarbowe_region'!J9","v":6671.5629729700004},{"$f":"'Obligacje skarbowe_region'!K9+'Bony skarbowe_region'!K9","v":30106.787081029997},{"$f":"'Obligacje skarbowe_region'!L9+'Bony skarbowe_region'!L9","v":193127.29869133994}]
[{"$f":"'Obligacje skarbowe_region'!A10","v":"2014-09-30"},{"$f":"'Obligacje skarbowe_region'!B10+'Bony skarbowe_region'!B10","v":55605.631581979993},{"$f":"'Obligacje skarbowe_region'!C10+'Bony skarbowe_region'!C10","v":9138.5473384199995},{"$f":"'Obligacje skarbowe_region'!D10+'Bony skarbowe_region'!D10","v":9815.8724537800008},{"$f":"'Obligacje skarbowe_region'!E10+'Bony skarbowe_region'!E10","v":119.4449},{"$f":"'Obligacje skarbowe_region'!F10+'Bony skarbowe_region'!F10","v":1716.82247405},{"$f":"'Obligacje skarbowe_region'!G10+'Bony skarbowe_region'!G10","v":49629.859616799993},{"$f":"'Obligacje skarbowe_region'!H10+'Bony skarbowe_region'!H10","v":1426.001201},{"$f":"'Obligacje skarbowe_region'!I10+'Bony skarbowe_region'!I10","v":32354.780009720002},{"$f":"'Obligacje skarbowe_region'!J10+'Bony skarbowe_region'!J10","v":6563.7224825300009},{"$f":"'Obligacje skarbowe_region'!K10+'Bony skarbowe_region'!K10","v":31143.437565419998},{"$f":"'Obligacje skarbowe_region'!L10+'Bony skarbowe_region'!L10","v":197514.11962369998}]
[{"$f":"'Obligacje skarbowe_region'!A11","v":"2014-10-31"},{"$f":"'Obligacje skarbowe_region'!B11+'Bony skarbowe_region'!B11","v":54721.570000359992},{"$f":"'Obligacje skarbowe_region'!C11+'Bony skarbowe_region'!C11","v":8772.2183745599996},{"$f":"'Obligacje skarbowe_region'!D11+'Bony skarbowe_region'!D11","v":9780.4988913199995},{"$f":"'Obligacje skarbowe_region'!E11+'Bony skarbowe_region'!E11","v":119.4349},{"$f":"'Obligacje skarbowe_region'!F11+'Bony skarbowe_region'!F11","v":1517.5404242},{"$f":"'Obligacje skarbowe_region'!G11+'Bony skarbowe_region'!G11","v":46820.378885699996},{"$f":"'Obligacje skarbowe_region'!H11+'Bony skarbowe_region'!H11","v":1465.5888920999998},{"$f":"'Obligacje skarbowe_region'!I11+'Bony skarbowe_region'!I11","v":33580.203770580003},{"$f":"'Obligacje skarbowe_region'!J11+'Bony skarbowe_region'!J11","v":6118.0676759200005},{"$f":"'Obligacje skarbowe_region'!K11+'Bony skarbowe_region'!K11","v":32157.977722080002},{"$f":"'Obligacje skarbowe_region'!L11+'Bony skarbowe_region'!L11","v":195053.47953681997}]
[{"$f":"'Obligacje skarbowe_region'!A12","v":"2014-11-30"},{"$f":"'Obligacje skarbowe_region'!B12+'Bony skarbowe_region'!B12","v":53505.66482476001},{"$f":"'Obligacje skarbowe_region'!C12+'Bony skarbowe_region'!C12","v":7523.6246791099993},{"$f":"'Obligacje skarbowe_region'!D12+'Bony skarbowe_region'!D12","v":9945.0647234599983},{"$f":"'Obligacje skarbowe_region'!E12+'Bony skarbowe_region'!E12","v":119.4349},{"$f":"'Obligacje skarbowe_region'!F12+'Bony skarbowe_region'!F12","v":1530.1677721999999},{"$f":"'Obligacje skarbowe_region'!G12+'Bony skarbowe_region'!G12","v":46906.163042610002},{"$f":"'Obligacje skarbowe_region'!H12+'Bony skarbowe_region'!H12","v":1575.5037842000002},{"$f":"'Obligacje skarbowe_region'!I12+'Bony skarbowe_region'!I12","v":36468.024164480004},{"$f":"'Obligacje skarbowe_region'!J12+'Bony skarbowe_region'!J12","v":6251.9489653000001},{"$f":"'Obligacje skarbowe_region'!K12+'Bony skarbowe_region'!K12","v":32783.31824773},{"$f":"'Obligacje skarbowe_region'!L12+'Bony skarbowe_region'!L12","v":196608.91510385001}]
[{"$f":"'Obligacje skarbowe_region'!A13","v":"2014-12-31"},{"$f":"'Obligacje skarbowe_region'!B13+'Bony skarbowe_region'!B13","v":52704.777063460009},{"$f":"'Obligacje skarbowe_region'!C13+'Bony skarbowe_region'!C13","v":7088.6321707899997},{"$f":"'Obligacje skarbowe_region'!D13+'Bony skarbowe_region'!D13","v":9725.0134904999995},{"$f":"'Obligacje skarbowe_region'!E13+'Bony skarbowe_region'!E13","v":29.814900000000002},{"$f":"'Obligacje skarbowe_region'!F13+'Bony skarbowe_region'!F13","v":1554.7939777000001},{"$f":"'Obligacje skarbowe_region'!G13+'Bony skarbowe_region'!G13","v":45424.124112059995},{"$f":"'Obligacje skarbowe_region'!H13+'Bony skarbowe_region'!H13","v":1643.0837842000001},{"$f":"'Obligacje skarbowe_region'!I13+'Bony skarbowe_region'!I13","v":39290.051649599998},{"$f":"'Obligacje skarbowe_region'!J13+'Bony skarbowe_region'!J13","v":5507.4409717099998},{"$f":"'Obligacje skarbowe_region'!K13+'Bony skarbowe_region'!K13","v":33018.230698220003},{"$f":"'Obligacje skarbowe_region'!L13+'Bony skarbowe_region'!L13","v":195985.96281823999}]
[{"$f":"'Obligacje skarbowe_region'!A14","v":"2015-01-31"},{"$f":"'Obligacje skarbowe_region'!B14+'Bony skarbowe_region'!B14","v":53053.990181370005},{"$f":"'Obligacje skarbowe_region'!C14+'Bony skarbowe_region'!C14","v":10639.36007558},{"$f":"'Obligacje skarbowe_region'!D14+'Bony skarbowe_region'!D14","v":9721.3471835},{"$f":"'Obligacje skarbowe_region'!E14+'Bony skarbowe_region'!E14","v":29.814900000000002},{"$f":"'Obligacje skarbowe_region'!F14+'Bony skarbowe_region'!F14","v":1466.7728944999999},{"$f":"'Obligacje skarbowe_region'!G14+'Bony skarbowe_region'!G14","v":46861.402066260001},{"$f":"'Obligacje skarbowe_region'!H14+'Bony skarbowe_region'!H14","v":1662.5920987},{"$f":"'Obligacje skarbowe_region'!I14+'Bony skarbowe_region'!I14","v":42728.591258520006},{"$f":"'Obligacje skarbowe_region'!J14+'Bony skarbowe_region'!J14","v":5180.4570903100002},{"$f":"'Obligacje skarbowe_region'!K14+'Bony skarbowe_region'!K14","v":31179.275542349998},{"$f":"'Obligacje skarbowe_region'!L14+'Bony skarbowe_region'!L14","v":202523.60329109}]
[{"$f":"'Obligacje skarbowe_region'!A15","v":"2015-02-28"},{"$f":"'Obligacje skarbowe_region'!B15+'Bony skarbowe_region'!B15","v":52300.934083219996},{"$f":"'Obligacje skarbowe_region'!C15+'Bony skarbowe_region'!C15","v":9284.4714559200002},{"$f":"'Obligacje skarbowe_region'!D15+'Bony skarbowe_region'!D15","v":9812.5141270000004},{"$f":"'Obligacje skarbowe_region'!E15+'Bony skarbowe_region'!E15","v":48.374899999999997},{"$f":"'Obligacje skarbowe_region'!F15+'Bony skarbowe_region'!F15","v":1533.0168348},{"$f":"'Obligacje skarbowe_region'!G15+'Bony skarbowe_region'!G15","v":45862.322007910007},{"$f":"'Obligacje skarbowe_region'!H15+'Bony skarbowe_region'!H15","v":1645.1718693},{"$f":"'Obligacje skarbowe_region'!I15+'Bony skarbowe_region'!I15","v":43815.295827640002},{"$f":"'Obligacje skarbowe_region'!J15+'Bony skarbowe_region'!J15","v":5522.9888378400001},{"$f":"'Obligacje skarbowe_region'!K15+'Bony skarbowe_region'!K15","v":32314.109809530004},{"$f":"'Obligacje skarbowe_region'!L15+'Bony skarbowe_region'!L15","v":202139.19975316001}]
[{"$f":"'Obligacje skarbowe_region'!A16","v":"2015-03-31"},{"$f":"'Obligacje skarbowe_region'!B16+'Bony skarbowe_region'!B16","v":51064.347552860003},{"$f":"'Obligacje skarbowe_region'!C16+'Bony skarbowe_region'!C16","v":8556.6671867500008},{"$f":"'Obligacje skarbowe_region'!D16+'Bony skarbowe_region'!D16","v":9924.7415665000008},{"$f":"'Obligacje skarbowe_region'!E16+'Bony skarbowe_region'!E16","v":37.0809},{"$f":"'Obligacje skarbowe_region'!F16+'Bony skarbowe_region'!F16","v":1351.3835377},{"$f":"'Obligacje skarbowe_region'!G16+'Bony skarbowe_region'!G16","v":45215.352156379995},{"$f":"'Obligacje skarbowe_region'!H16+'Bony skarbowe_region'!H16","v":1599.5574254000001},{"$f":"'Obligacje skarbowe_region'!I16+'Bony skarbowe_region'!I16","v":46620.068631080001},{"$f":"'Obligacje skarbowe_region'!J16+'Bony skarbowe_region'!J16","v":5358.5496022699999},{"$f":"'Obligacje skarbowe_region'!K16+'Bony skarbowe_region'!K16","v":34064.24987285},{"$f":"'Obligacje skarbowe_region'!L16+'Bony skarbowe_region'!L16","v":203791.99843179001}]
[{"$f":"'Obligacje skarbowe_region'!A17","v":"2015-04-30"},{"$f":"'Obligacje skarbowe_region'!B17+'Bony skarbowe_region'!B17","v":48681.327050040003},{"$f":"'Obligacje skarbowe_region'!C17+'Bony skarbowe_region'!C17","v":10086.707936179999},{"$f":"'Obligacje skarbowe_region'!D17+'Bony skarbowe_region'!D17","v":9986.0680205000008},{"$f":"'Obligacje skarbowe_region'!E17+'Bony skarbowe_region'!E17","v":39.174900000000001},{"$f":"'Obligacje skarbowe_region'!F17+'Bony skarbowe_region'!F17","v":1342.7078814000001},{"$f":"'Obligacje skarbowe_region'!G17+'Bony skarbowe_region'!G17","v":40459.108620730003},{"$f":"'Obligacje skarbowe_region'!H17+'Bony skarbowe_region'!H17","v":1584.6012655},{"$f":"'Obligacje skarbowe_region'!I17+'Bony skarbowe_region'!I17","v":46966.164549759997},{"$f":"'Obligacje skarbowe_region'!J17+'Bony skarbowe_region'!J17","v":5417.2310371800004},{"$f":"'Obligacje skarbowe_region'!K17+'Bony skarbowe_region'!K17","v":34027.016767460002},{"$f":"'Obligacje skarbowe_region'!L17+'Bony skarbowe_region'!L17","v":198590.10802875002}]
[{"$f":"'Obligacje skarbowe_region'!A18","v":"2015-05-31"},{"$f":"'Obligacje skarbowe_region'!B18+'Bony skarbowe_region'!B18","v":48485.037195560006},{"$f":"'Obligacje skarbowe_region'!C18+'Bony skarbowe_region'!C18","v":9556.4469611999994},{"$f":"'Obligacje skarbowe_region'!D18+'Bony skarbowe_region'!D18","v":9955.2624629999991},{"$f":"'Obligacje skarbowe_region'!E18+'Bony skarbowe_region'!E18","v":31.444900000000001},{"$f":"'Obligacje skarbowe_region'!F18+'Bony skarbowe_region'!F18","v":1149.1389999999999},{"$f":"'Obligacje skarbowe_region'!G18+'Bony skarbowe_region'!G18","v":39402.217186300004},{"$f":"'Obligacje skarbowe_region'!H18+'Bony skarbowe_region'!H18","v":1367.7077902000001},{"$f":"'Obligacje skarbowe_region'!I18+'Bony skarbowe_region'!I18","v":48807.038880660002},{"$f":"'Obligacje skarbowe_region'!J18+'Bony skarbowe_region'!J18","v":5570.1839340799997},{"$f":"'Obligacje skarbowe_region'!K18+'Bony skarbowe_region'!K18","v":35570.306583359998},{"$f":"'Obligacje skarbowe_region'!L18+'Bony skarbowe_region'!L18","v":199894.78489436}]
[{"$f":"'Obligacje skarbowe_region'!A19","v":"2015-06-30"},{"$f":"'Obligacje skarbowe_region'!B19+'Bony skarbowe_region'!B19","v":50037.424131680003},{"$f":"'Obligacje skarbowe_region'!C19+'Bony skarbowe_region'!C19","v":9988.0845081000025},{"$f":"'Obligacje skarbowe_region'!D19+'Bony skarbowe_region'!D19","v":10021.448724},{"$f":"'Obligacje skarbowe_region'!E19+'Bony skarbowe_region'!E19","v":36.244900000000001},{"$f":"'Obligacje skarbowe_region'!F19+'Bony skarbowe_region'!F19","v":1043.1690000000001},{"$f":"'Obligacje skarbowe_region'!G19+'Bony skarbowe_region'!G19","v":41419.486501459993},{"$f":"'Obligacje skarbowe_region'!H19+'Bony skarbowe_region'!H19","v":1221.8930597999999},{"$f":"'Obligacje skarbowe_region'!I19+'Bony skarbowe_region'!I19","v":48190.010858679998},{"$f":"'Obligacje skarbowe_region'!J19+'Bony skarbowe_region'!J19","v":6032.69663184},{"$f":"'Obligacje skarbowe_region'!K19+'Bony skarbowe_region'!K19","v":35717.270934499997},{"$f":"'Obligacje skarbowe_region'!L19+'Bony skarbowe_region'!L19","v":203707.72925005999}]
[{"$f":"'Obligacje skarbowe_region'!A20","v":"2015-07-31"},{"$f":"'Obligacje skarbowe_region'!B20+'Bony skarbowe_region'!B20","v":48982.172242960005},{"$f":"'Obligacje skarbowe_region'!C20+'Bony skarbowe_region'!C20","v":9076.7084646799995},{"$f":"'Obligacje skarbowe_region'!D20+'Bony skarbowe_region'!D20","v":9894.2708600000005},{"$f":"'Obligacje skarbowe_region'!E20+'Bony skarbowe_region'!E20","v":34.554900000000004},{"$f":"'Obligacje skarbowe_region'!F20+'Bony skarbowe_region'!F20","v":1088.614},{"$f":"'Obligacje skarbowe_region'!G20+'Bony skarbowe_region'!G20","v":42511.294853139996},{"$f":"'Obligacje skarbowe_region'!H20+'Bony skarbowe_region'!H20","v":1175.2038494000001},{"$f":"'Obligacje skarbowe_region'!I20+'Bony skarbowe_region'!I20","v":49024.883514840003},{"$f":"'Obligacje skarbowe_region'!J20+'Bony skarbowe_region'!J20","v":6358.6737096000006},{"$f":"'Obligacje skarbowe_region'!K20+'Bony skarbowe_region'!K20","v":36806.479828119998},{"$f":"'Obligacje skarbowe_region'!L20+'Bony skarbowe_region'!L20","v":204952.85622274}]
[{"$f":"'Obligacje skarbowe_region'!A21","v":"2015-08-31"},{"$f":"'Obligacje skarbowe_region'!B21+'Bony skarbowe_region'!B21","v":50964.949309600008},{"$f":"'Obligacje skarbowe_region'!C21+'Bony skarbowe_region'!C21","v":8856.7523398799985},{"$f":"'Obligacje skarbowe_region'!D21+'Bony skarbowe_region'!D21","v":9978.8048600000002},{"$f":"'Obligacje skarbowe_region'!E21+'Bony skarbowe_region'!E21","v":30.264900000000001},{"$f":"'Obligacje skarbowe_region'!F21+'Bony skarbowe_region'!F21","v":1100.538},{"$f":"'Obligacje skarbowe_region'!G21+'Bony skarbowe_region'!G21","v":42190.641647340002},{"$f":"'Obligacje skarbowe_region'!H21+'Bony skarbowe_region'!H21","v":1201.7138494000001},{"$f":"'Obligacje skarbowe_region'!I21+'Bony skarbowe_region'!I21","v":47021.096514840006},{"$f":"'Obligacje skarbowe_region'!J21+'Bony skarbowe_region'!J21","v":5992.4417096000006},{"$f":"'Obligacje skarbowe_region'!K21+'Bony skarbowe_region'!K21","v":38268.301175599998},{"$f":"'Obligacje skarbowe_region'!L21+'Bony skarbowe_region'!L21","v":205605.50430626003}]
[{"$f":"'Obligacje skarbowe_region'!A22","v":"2015-09-30"},{"$f":"'Obligacje skarbowe_region'!B22+'Bony skarbowe_region'!B22","v":47817.664471240001},{"$f":"'Obligacje skarbowe_region'!C22+'Bony skarbowe_region'!C22","v":11090.105988839998},{"$f":"'Obligacje skarbowe_region'!D22+'Bony skarbowe_region'!D22","v":10145.577237},{"$f":"'Obligacje skarbowe_region'!E22+'Bony skarbowe_region'!E22","v":36.664900000000003},{"$f":"'Obligacje skarbowe_region'!F22+'Bony skarbowe_region'!F22","v":1110.6410000000001},{"$f":"'Obligacje skarbowe_region'!G22+'Bony skarbowe_region'!G22","v":44393.903609700006},{"$f":"'Obligacje skarbowe_region'!H22+'Bony skarbowe_region'!H22","v":1141.7381052000001},{"$f":"'Obligacje skarbowe_region'!I22+'Bony skarbowe_region'!I22","v":47025.071182400003},{"$f":"'Obligacje skarbowe_region'!J22+'Bony skarbowe_region'!J22","v":6381.1018789199989},{"$f":"'Obligacje skarbowe_region'!K22+'Bony skarbowe_region'!K22","v":39020.101768169996},{"$f":"'Obligacje skarbowe_region'!L22+'Bony skarbowe_region'!L22","v":208162.57014146997}]
[{"$f":"'Obligacje skarbowe_region'!A23","v":"2015-10-31"},{"$f":"'Obligacje skarbowe_region'!B23+'Bony skarbowe_region'!B23","v":48263.99103646},{"$f":"'Obligacje skarbowe_region'!C23+'Bony skarbowe_region'!C23","v":10765.665463130001},{"$f":"'Obligacje skarbowe_region'!D23+'Bony skarbowe_region'!D23","v":10025.8915793},{"$f":"'Obligacje skarbowe_region'!E23+'Bony skarbowe_region'!E23","v":33.614899999999999},{"$f":"'Obligacje skarbowe_region'!F23+'Bony skarbowe_region'!F23","v":1100.654},{"$f":"'Obligacje skarbowe_region'!G23+'Bony skarbowe_region'!G23","v":38883.479294160003},{"$f":"'Obligacje skarbowe_region'!H23+'Bony skarbowe_region'!H23","v":1020.6294874000001},{"$f":"'Obligacje skarbowe_region'!I23+'Bony skarbowe_region'!I23","v":46748.767007030001},{"$f":"'Obligacje skarbowe_region'!J23+'Bony skarbowe_region'!J23","v":6777.3095218599992},{"$f":"'Obligacje skarbowe_region'!K23+'Bony skarbowe_region'!K23","v":42331.307000929999},{"$f":"'Obligacje skarbowe_region'!L23+'Bony skarbowe_region'!L23","v":205951.30929027003}]
[{"$f":"'Obligacje skarbowe_region'!A24","v":"2015-11-30"},{"$f":"'Obligacje skarbowe_region'!B24+'Bony skarbowe_region'!B24","v":45541.156174660005},{"$f":"'Obligacje skarbowe_region'!C24+'Bony skarbowe_region'!C24","v":11318.116748239998},{"$f":"'Obligacje skarbowe_region'!D24+'Bony skarbowe_region'!D24","v":10376.382338899999},{"$f":"'Obligacje skarbowe_region'!E24+'Bony skarbowe_region'!E24","v":56.326799999999999},{"$f":"'Obligacje skarbowe_region'!F24+'Bony skarbowe_region'!F24","v":1044.6030000000001},{"$f":"'Obligacje skarbowe_region'!G24+'Bony skarbowe_region'!G24","v":38970.152868819998},{"$f":"'Obligacje skarbowe_region'!H24+'Bony skarbowe_region'!H24","v":1022.1558338},{"$f":"'Obligacje skarbowe_region'!I24+'Bony skarbowe_region'!I24","v":47945.031219730001},{"$f":"'Obligacje skarbowe_region'!J24+'Bony skarbowe_region'!J24","v":7109.324110900001},{"$f":"'Obligacje skarbowe_region'!K24+'Bony skarbowe_region'!K24","v":43182.245269380008},{"$f":"'Obligacje skarbowe_region'!L24+'Bony skarbowe_region'!L24","v":206565.49436443002}]
[{"$f":"'Obligacje skarbowe_region'!A25","v":"2015-12-31"},{"$f":"'Obligacje skarbowe_region'!B25+'Bony skarbowe_region'!B25","v":43845.963863559999},{"$f":"'Obligacje skarbowe_region'!C25+'Bony skarbowe_region'!C25","v":10565.919859489999},{"$f":"'Obligacje skarbowe_region'!D25+'Bony skarbowe_region'!D25","v":10439.315095200001},{"$f":"'Obligacje skarbowe_region'!E25+'Bony skarbowe_region'!E25","v":49.85},{"$f":"'Obligacje skarbowe_region'!F25+'Bony skarbowe_region'!F25","v":1033.511},{"$f":"'Obligacje skarbowe_region'!G25+'Bony skarbowe_region'!G25","v":37882.266555000002},{"$f":"'Obligacje skarbowe_region'!H25+'Bony skarbowe_region'!H25","v":997.8732248},{"$f":"'Obligacje skarbowe_region'!I25+'Bony skarbowe_region'!I25","v":49873.005881540004},{"$f":"'Obligacje skarbowe_region'!J25+'Bony skarbowe_region'!J25","v":7133.7863783999992},{"$f":"'Obligacje skarbowe_region'!K25+'Bony skarbowe_region'!K25","v":44938.05586439},{"$f":"'Obligacje skarbowe_region'!L25+'Bony skarbowe_region'!L25","v":206759.54772237997}]
[{"$f":"'Obligacje skarbowe_region'!A26","v":"2016-01-31"},{"$f":"'Obligacje skarbowe_region'!B26+'Bony skarbowe_region'!B26","v":43261.006017},{"$f":"'Obligacje skarbowe_region'!C26+'Bony skarbowe_region'!C26","v":9413.0410052400002},{"$f":"'Obligacje skarbowe_region'!D26+'Bony skarbowe_region'!D26","v":10685.694015200001},{"$f":"'Obligacje skarbowe_region'!E26+'Bony skarbowe_region'!E26","v":49.73},{"$f":"'Obligacje skarbowe_region'!F26+'Bony skarbowe_region'!F26","v":962.80700000000002},{"$f":"'Obligacje skarbowe_region'!G26+'Bony skarbowe_region'!G26","v":33741.806047500002},{"$f":"'Obligacje skarbowe_region'!H26+'Bony skarbowe_region'!H26","v":935.8451207999999},{"$f":"'Obligacje skarbowe_region'!I26+'Bony skarbowe_region'!I26","v":47060.926649340006},{"$f":"'Obligacje skarbowe_region'!J26+'Bony skarbowe_region'!J26","v":7015.9039047999995},{"$f":"'Obligacje skarbowe_region'!K26+'Bony skarbowe_region'!K26","v":40571.803377340002},{"$f":"'Obligacje skarbowe_region'!L26+'Bony skarbowe_region'!L26","v":193698.56313722002}]
[{"$f":"'Obligacje skarbowe_region'!A27","v":"2016-02-29"},{"$f":"'Obligacje skarbowe_region'!B27+'Bony skarbowe_region'!B27","v":37976.616570860002},{"$f":"'Obligacje skarbowe_region'!C27+'Bony skarbowe_region'!C27","v":10782.605865020001},{"$f":"'Obligacje skarbowe_region'!D27+'Bony skarbowe_region'!D27","v":10759.841289799999},{"$f":"'Obligacje skarbowe_region'!E27+'Bony skarbowe_region'!E27","v":49.73},{"$f":"'Obligacje skarbowe_region'!F27+'Bony skarbowe_region'!F27","v":812.67899999999997},{"$f":"'Obligacje skarbowe_region'!G27+'Bony skarbowe_region'!G27","v":29576.942663399997},{"$f":"'Obligacje skarbowe_region'!H27+'Bony skarbowe_region'!H27","v":839.6272894},{"$f":"'Obligacje skarbowe_region'!I27+'Bony skarbowe_region'!I27","v":45888.695741759999},{"$f":"'Obligacje skarbowe_region'!J27+'Bony skarbowe_region'!J27","v":7026.6593082800009},{"$f":"'Obligacje skarbowe_region'!K27+'Bony skarbowe_region'!K27","v":42884.723623059996},{"$f":"'Obligacje skarbowe_region'!L27+'Bony skarbowe_region'!L27","v":186598.12135158002}]
[{"$f":"'Obligacje skarbowe_region'!A28","v":"2016-03-31"},{"$f":"'Obligacje skarbowe_region'!B28+'Bony skarbowe_region'!B28","v":42100.928358860001},{"$f":"'Obligacje skarbowe_region'!C28+'Bony skarbowe_region'!C28","v":10371.341836820002},{"$f":"'Obligacje skarbowe_region'!D28+'Bony skarbowe_region'!D28","v":10666.36461724},{"$f":"'Obligacje skarbowe_region'!E28+'Bony skarbowe_region'!E28","v":49.73},{"$f":"'Obligacje skarbowe_region'!F28+'Bony skarbowe_region'!F28","v":749.971},{"$f":"'Obligacje skarbowe_region'!G28+'Bony skarbowe_region'!G28","v":30512.34534},{"$f":"'Obligacje skarbowe_region'!H28+'Bony skarbowe_region'!H28","v":867.5105152000001},{"$f":"'Obligacje skarbowe_region'!I28+'Bony skarbowe_region'!I28","v":46345.695651999995},{"$f":"'Obligacje skarbowe_region'!J28+'Bony skarbowe_region'!J28","v":6307.2087807999997},{"$f":"'Obligacje skarbowe_region'!K28+'Bony skarbowe_region'!K28","v":42243.494168260004},{"$f":"'Obligacje skarbowe_region'!L28+'Bony skarbowe_region'!L28","v":190214.59026917999}]
[{"$f":"'Obligacje skarbowe_region'!A29","v":"2016-04-30"},{"$f":"'Obligacje skarbowe_region'!B29+'Bony skarbowe_region'!B29","v":34933.006630820004},{"$f":"'Obligacje skarbowe_region'!C29+'Bony skarbowe_region'!C29","v":11342.353920790001},{"$f":"'Obligacje skarbowe_region'!D29+'Bony skarbowe_region'!D29","v":10493.655122830001},{"$f":"'Obligacje skarbowe_region'!E29+'Bony skarbowe_region'!E29","v":49.73},{"$f":"'Obligacje skarbowe_region'!F29+'Bony skarbowe_region'!F29","v":663.77099999999996},{"$f":"'Obligacje skarbowe_region'!G29+'Bony skarbowe_region'!G29","v":27558.522683400002},{"$f":"'Obligacje skarbowe_region'!H29+'Bony skarbowe_region'!H29","v":1252.1779874000001},{"$f":"'Obligacje skarbowe_region'!I29+'Bony skarbowe_region'!I29","v":45829.417411299997},{"$f":"'Obligacje skarbowe_region'!J29+'Bony skarbowe_region'!J29","v":5872.2011076199997},{"$f":"'Obligacje skarbowe_region'!K29+'Bony skarbowe_region'!K29","v":50326.730086110001},{"$f":"'Obligacje skarbowe_region'!L29+'Bony skarbowe_region'!L29","v":188321.56595027001}]
[{"$f":"'Obligacje skarbowe_region'!A30","v":"2016-05-31"},{"$f":"'Obligacje skarbowe_region'!B30+'Bony skarbowe_region'!B30","v":35660.460035700002},{"$f":"'Obligacje skarbowe_region'!C30+'Bony skarbowe_region'!C30","v":10166.491930350001},{"$f":"'Obligacje skarbowe_region'!D30+'Bony skarbowe_region'!D30","v":10553.023533450001},{"$f":"'Obligacje skarbowe_region'!E30+'Bony skarbowe_region'!E30","v":47.03},{"$f":"'Obligacje skarbowe_region'!F30+'Bony skarbowe_region'!F30","v":1367.694},{"$f":"'Obligacje skarbowe_region'!G30+'Bony skarbowe_region'!G30","v":29357.138803000005},{"$f":"'Obligacje skarbowe_region'!H30+'Bony skarbowe_region'!H30","v":1380.458259},{"$f":"'Obligacje skarbowe_region'!I30+'Bony skarbowe_region'!I30","v":48571.483464600002},{"$f":"'Obligacje skarbowe_region'!J30+'Bony skarbowe_region'!J30","v":5633.2767000000003},{"$f":"'Obligacje skarbowe_region'!K30+'Bony skarbowe_region'!K30","v":49838.616453949995},{"$f":"'Obligacje skarbowe_region'!L30+'Bony skarbowe_region'!L30","v":192575.67318005001}]
[{"$f":"'Obligacje skarbowe_region'!A31","v":"2016-06-30"},{"$f":"'Obligacje skarbowe_region'!B31+'Bony skarbowe_region'!B31","v":36756.03947856},{"$f":"'Obligacje skarbowe_region'!C31+'Bony skarbowe_region'!C31","v":10116.37534233},{"$f":"'Obligacje skarbowe_region'!D31+'Bony skarbowe_region'!D31","v":10483.29195415},{"$f":"'Obligacje skarbowe_region'!E31+'Bony skarbowe_region'!E31","v":33.729999999999997},{"$f":"'Obligacje skarbowe_region'!F31+'Bony skarbowe_region'!F31","v":1676.489},{"$f":"'Obligacje skarbowe_region'!G31+'Bony skarbowe_region'!G31","v":29321.170618669999},{"$f":"'Obligacje skarbowe_region'!H31+'Bony skarbowe_region'!H31","v":1385.5754178},{"$f":"'Obligacje skarbowe_region'!I31+'Bony skarbowe_region'!I31","v":49110.293366119993},{"$f":"'Obligacje skarbowe_region'!J31+'Bony skarbowe_region'!J31","v":5699.3992438599998},{"$f":"'Obligacje skarbowe_region'!K31+'Bony skarbowe_region'!K31","v":51952.497951370002},{"$f":"'Obligacje skarbowe_region'!L31+'Bony skarbowe_region'!L31","v":196534.86237285999}]
[{"$f":"'Obligacje skarbowe_region'!A32","v":"2016-07-31"},{"$f":"'Obligacje skarbowe_region'!B32+'Bony skarbowe_region'!B32","v":36858.260600090005},{"$f":"'Obligacje skarbowe_region'!C32+'Bony skarbowe_region'!C32","v":9241.4488232599997},{"$f":"'Obligacje skarbowe_region'!D32+'Bony skarbowe_region'!D32","v":10561.097737330001},{"$f":"'Obligacje skarbowe_region'!E32+'Bony skarbowe_region'!E32","v":60.94},{"$f":"'Obligacje skarbowe_region'!F32+'Bony skarbowe_region'!F32","v":1016.6660000000001},{"$f":"'Obligacje skarbowe_region'!G32+'Bony skarbowe_region'!G32","v":28266.581549350001},{"$f":"'Obligacje skarbowe_region'!H32+'Bony skarbowe_region'!H32","v":1230.6921725999998},{"$f":"'Obligacje skarbowe_region'!I32+'Bony skarbowe_region'!I32","v":46586.808667769998},{"$f":"'Obligacje skarbowe_region'!J32+'Bony skarbowe_region'!J32","v":5519.9991446200002},{"$f":"'Obligacje skarbowe_region'!K32+'Bony skarbowe_region'!K32","v":53495.17115509},{"$f":"'Obligacje skarbowe_region'!L32+'Bony skarbowe_region'!L32","v":192837.66585011}]
[{"$f":"'Obligacje skarbowe_region'!A33","v":"2016-08-31"},{"$f":"'Obligacje skarbowe_region'!B33+'Bony skarbowe_region'!B33","v":37994.136651779998},{"$f":"'Obligacje skarbowe_region'!C33+'Bony skarbowe_region'!C33","v":9407.4870373199992},{"$f":"'Obligacje skarbowe_region'!D33+'Bony skarbowe_region'!D33","v":10972.813397059999},{"$f":"'Obligacje skarbowe_region'!E33+'Bony skarbowe_region'!E33","v":60.9407},{"$f":"'Obligacje skarbowe_region'!F33+'Bony skarbowe_region'!F33","v":789.24099999999999},{"$f":"'Obligacje skarbowe_region'!G33+'Bony skarbowe_region'!G33","v":29348.347177800002},{"$f":"'Obligacje skarbowe_region'!H33+'Bony skarbowe_region'!H33","v":1248.8153732000001},{"$f":"'Obligacje skarbowe_region'!I33+'Bony skarbowe_region'!I33","v":46190.470491139997},{"$f":"'Obligacje skarbowe_region'!J33+'Bony skarbowe_region'!J33","v":5537.61186284},{"$f":"'Obligacje skarbowe_region'!K33+'Bony skarbowe_region'!K33","v":54894.44775508},{"$f":"'Obligacje skarbowe_region'!L33+'Bony skarbowe_region'!L33","v":196444.31144622003}]
[{"$f":"'Obligacje skarbowe_region'!A34","v":"2016-09-30"},{"$f":"'Obligacje skarbowe_region'!B34+'Bony skarbowe_region'!B34","v":39995.741154180003},{"$f":"'Obligacje skarbowe_region'!C34+'Bony skarbowe_region'!C34","v":11423.835104780001},{"$f":"'Obligacje skarbowe_region'!D34+'Bony skarbowe_region'!D34","v":10853.470049209998},{"$f":"'Obligacje skarbowe_region'!E34+'Bony skarbowe_region'!E34","v":62.241500000000002},{"$f":"'Obligacje skarbowe_region'!F34+'Bony skarbowe_region'!F34","v":816.17600000000004},{"$f":"'Obligacje skarbowe_region'!G34+'Bony skarbowe_region'!G34","v":29567.967228400001},{"$f":"'Obligacje skarbowe_region'!H34+'Bony skarbowe_region'!H34","v":1151.4168760999999},{"$f":"'Obligacje skarbowe_region'!I34+'Bony skarbowe_region'!I34","v":46655.654701890002},{"$f":"'Obligacje skarbowe_region'!J34+'Bony skarbowe_region'!J34","v":5398.9822773400001},{"$f":"'Obligacje skarbowe_region'!K34+'Bony skarbowe_region'!K34","v":54640.91553007},{"$f":"'Obligacje skarbowe_region'!L34+'Bony skarbowe_region'!L34","v":200566.40042197}]
[{"$f":"'Obligacje skarbowe_region'!A35","v":"2016-10-31"},{"$f":"'Obligacje skarbowe_region'!B35+'Bony skarbowe_region'!B35","v":40452.565900419999},{"$f":"'Obligacje skarbowe_region'!C35+'Bony skarbowe_region'!C35","v":11111.022310639999},{"$f":"'Obligacje skarbowe_region'!D35+'Bony skarbowe_region'!D35","v":10791.405661889999},{"$f":"'Obligacje skarbowe_region'!E35+'Bony skarbowe_region'!E35","v":62.241500000000002},{"$f":"'Obligacje skarbowe_region'!F35+'Bony skarbowe_region'!F35","v":737.48900000000003},{"$f":"'Obligacje skarbowe_region'!G35+'Bony skarbowe_region'!G35","v":22362.162006480001},{"$f":"'Obligacje skarbowe_region'!H35+'Bony skarbowe_region'!H35","v":1122.1423409000001},{"$f":"'Obligacje skarbowe_region'!I35+'Bony skarbowe_region'!I35","v":46933.347531410007},{"$f":"'Obligacje skarbowe_region'!J35+'Bony skarbowe_region'!J35","v":5244.3937424599999},{"$f":"'Obligacje skarbowe_region'!K35+'Bony skarbowe_region'!K35","v":59302.619424529999},{"$f":"'Obligacje skarbowe_region'!L35+'Bony skarbowe_region'!L35","v":198119.38941872999}]
[{"$f":"'Obligacje skarbowe_region'!A36","v":"2016-11-30"},{"$f":"'Obligacje skarbowe_region'!B36+'Bony skarbowe_region'!B36","v":37637.336367829994},{"$f":"'Obligacje skarbowe_region'!C36+'Bony skarbowe_region'!C36","v":11677.860020359998},{"$f":"'Obligacje skarbowe_region'!D36+'Bony skarbowe_region'!D36","v":10972.40875941},{"$f":"'Obligacje skarbowe_region'!E36+'Bony skarbowe_region'!E36","v":62.243099999999998},{"$f":"'Obligacje skarbowe_region'!F36+'Bony skarbowe_region'!F36","v":678.91227379999998},{"$f":"'Obligacje skarbowe_region'!G36+'Bony skarbowe_region'!G36","v":18983.138181719998},{"$f":"'Obligacje skarbowe_region'!H36+'Bony skarbowe_region'!H36","v":1135.1550120999998},{"$f":"'Obligacje skarbowe_region'!I36+'Bony skarbowe_region'!I36","v":47048.845708289991},{"$f":"'Obligacje skarbowe_region'!J36+'Bony skarbowe_region'!J36","v":5288.3572757399997},{"$f":"'Obligacje skarbowe_region'!K36+'Bony skarbowe_region'!K36","v":54654.099118320002},{"$f":"'Obligacje skarbowe_region'!L36+'Bony skarbowe_region'!L36","v":188138.35581757}]
[{"$f":"'Obligacje skarbowe_region'!A37","v":"2016-12-31"},{"$f":"'Obligacje skarbowe_region'!B37+'Bony skarbowe_region'!B37","v":36972.549304619992},{"$f":"'Obligacje skarbowe_region'!C37+'Bony skarbowe_region'!C37","v":13128.7805584},{"$f":"'Obligacje skarbowe_region'!D37+'Bony skarbowe_region'!D37","v":11251.50511944},{"$f":"'Obligacje skarbowe_region'!E37+'Bony skarbowe_region'!E37","v":38.843899999999998},{"$f":"'Obligacje skarbowe_region'!F37+'Bony skarbowe_region'!F37","v":736.21100520000005},{"$f":"'Obligacje skarbowe_region'!G37+'Bony skarbowe_region'!G37","v":18957.073321479998},{"$f":"'Obligacje skarbowe_region'!H37+'Bony skarbowe_region'!H37","v":1217.1605434000001},{"$f":"'Obligacje skarbowe_region'!I37+'Bony skarbowe_region'!I37","v":46610.252398660006},{"$f":"'Obligacje skarbowe_region'!J37+'Bony skarbowe_region'!J37","v":5402.6669959600003},{"$f":"'Obligacje skarbowe_region'!K37+'Bony skarbowe_region'!K37","v":58240.70938462},{"$f":"'Obligacje skarbowe_region'!L37+'Bony skarbowe_region'!L37","v":192555.75253177999}]
[{"$f":"'Obligacje skarbowe_region'!A38","v":"2017-01-31"},{"$f":"'Obligacje skarbowe_region'!B38+'Bony skarbowe_region'!B38","v":38921.571050029997},{"$f":"'Obligacje skarbowe_region'!C38+'Bony skarbowe_region'!C38","v":12295.30978161},{"$f":"'Obligacje skarbowe_region'!D38+'Bony skarbowe_region'!D38","v":11476.178032320002},{"$f":"'Obligacje skarbowe_region'!E38+'Bony skarbowe_region'!E38","v":30.7439},{"$f":"'Obligacje skarbowe_region'!F38+'Bony skarbowe_region'!F38","v":816.00916110000003},{"$f":"'Obligacje skarbowe_region'!G38+'Bony skarbowe_region'!G38","v":18927.632571220001},{"$f":"'Obligacje skarbowe_region'!H38+'Bony skarbowe_region'!H38","v":1307.8623737},{"$f":"'Obligacje skarbowe_region'!I38+'Bony skarbowe_region'!I38","v":47970.374673489998},{"$f":"'Obligacje skarbowe_region'!J38+'Bony skarbowe_region'!J38","v":5604.2493415200006},{"$f":"'Obligacje skarbowe_region'!K38+'Bony skarbowe_region'!K38","v":56453.559245330005},{"$f":"'Obligacje skarbowe_region'!L38+'Bony skarbowe_region'!L38","v":193803.49013032002}]
[{"$f":"'Obligacje skarbowe_region'!A39","v":"2017-02-28"},{"$f":"'Obligacje skarbowe_region'!B39+'Bony skarbowe_region'!B39","v":40680.131478740004},{"$f":"'Obligacje skarbowe_region'!C39+'Bony skarbowe_region'!C39","v":12316.269385540001},{"$f":"'Obligacje skarbowe_region'!D39+'Bony skarbowe_region'!D39","v":11733.585056800001},{"$f":"'Obligacje skarbowe_region'!E39+'Bony skarbowe_region'!E39","v":47.244599999999998},{"$f":"'Obligacje skarbowe_region'!F39+'Bony skarbowe_region'!F39","v":834.55150120000008},{"$f":"'Obligacje skarbowe_region'!G39+'Bony skarbowe_region'!G39","v":19994.372566560003},{"$f":"'Obligacje skarbowe_region'!H39+'Bony skarbowe_region'!H39","v":1390.4915626},{"$f":"'Obligacje skarbowe_region'!I39+'Bony skarbowe_region'!I39","v":48469.952269019996},{"$f":"'Obligacje skarbowe_region'!J39+'Bony skarbowe_region'!J39","v":5272.7728053199999},{"$f":"'Obligacje skarbowe_region'!K39+'Bony skarbowe_region'!K39","v":54379.242628779997},{"$f":"'Obligacje skarbowe_region'!L39+'Bony skarbowe_region'!L39","v":195118.61385456001}]
[{"$f":"'Obligacje skarbowe_region'!A40","v":"2017-03-31"},{"$f":"'Obligacje skarbowe_region'!B40+'Bony skarbowe_region'!B40","v":42549.705988690002},{"$f":"'Obligacje skarbowe_region'!C40+'Bony skarbowe_region'!C40","v":11833.04935893},{"$f":"'Obligacje skarbowe_region'!D40+'Bony skarbowe_region'!D40","v":11799.584066800002},{"$f":"'Obligacje skarbowe_region'!E40+'Bony skarbowe_region'!E40","v":10.936199999999999},{"$f":"'Obligacje skarbowe_region'!F40+'Bony skarbowe_region'!F40","v":874.88093429999992},{"$f":"'Obligacje skarbowe_region'!G40+'Bony skarbowe_region'!G40","v":20147.089378559998},{"$f":"'Obligacje skarbowe_region'!H40+'Bony skarbowe_region'!H40","v":1728.9671450999999},{"$f":"'Obligacje skarbowe_region'!I40+'Bony skarbowe_region'!I40","v":53423.586891770006},{"$f":"'Obligacje skarbowe_region'!J40+'Bony skarbowe_region'!J40","v":5972.3145318199995},{"$f":"'Obligacje skarbowe_region'!K40+'Bony skarbowe_region'!K40","v":56689.005536789999},{"$f":"'Obligacje skarbowe_region'!L40+'Bony skarbowe_region'!L40","v":205029.12003276005}]
[{"$f":"'Obligacje skarbowe_region'!A41","v":"2017-04-30"},{"$f":"'Obligacje skarbowe_region'!B41+'Bony skarbowe_region'!B41","v":42431.536106369997},{"$f":"'Obligacje skarbowe_region'!C41+'Bony skarbowe_region'!C41","v":13140.248124369999},{"$f":"'Obligacje skarbowe_region'!D41+'Bony skarbowe_region'!D41","v":11873.9902996},{"$f":"'Obligacje skarbowe_region'!E41+'Bony skarbowe_region'!E41","v":38.261200000000002},{"$f":"'Obligacje skarbowe_region'!F41+'Bony skarbowe_region'!F41","v":762.50004710000007},{"$f":"'Obligacje skarbowe_region'!G41+'Bony skarbowe_region'!G41","v":21046.628100720001},{"$f":"'Obligacje skarbowe_region'!H41+'Bony skarbowe_region'!H41","v":1930.1448147000001},{"$f":"'Obligacje skarbowe_region'!I41+'Bony skarbowe_region'!I41","v":54679.648239690003},{"$f":"'Obligacje skarbowe_region'!J41+'Bony skarbowe_region'!J41","v":5601.4618945399998},{"$f":"'Obligacje skarbowe_region'!K41+'Bony skarbowe_region'!K41","v":58716.325768620001},{"$f":"'Obligacje skarbowe_region'!L41+'Bony skarbowe_region'!L41","v":210220.74459571001}]
[{"$f":"'Obligacje skarbowe_region'!A42","v":"2017-05-31"},{"$f":"'Obligacje skarbowe_region'!B42+'Bony skarbowe_region'!B42","v":40482.85684221},{"$f":"'Obligacje skarbowe_region'!C42+'Bony skarbowe_region'!C42","v":11824.578531810001},{"$f":"'Obligacje skarbowe_region'!D42+'Bony skarbowe_region'!D42","v":13275.5742668},{"$f":"'Obligacje skarbowe_region'!E42+'Bony skarbowe_region'!E42","v":38.262799999999999},{"$f":"'Obligacje skarbowe_region'!F42+'Bony skarbowe_region'!F42","v":791.70570929999997},{"$f":"'Obligacje skarbowe_region'!G42+'Bony skarbowe_region'!G42","v":21123.282756959998},{"$f":"'Obligacje skarbowe_region'!H42+'Bony skarbowe_region'!H42","v":1962.4511200999998},{"$f":"'Obligacje skarbowe_region'!I42+'Bony skarbowe_region'!I42","v":55065.833114270004},{"$f":"'Obligacje skarbowe_region'!J42+'Bony skarbowe_region'!J42","v":5088.1149668199996},{"$f":"'Obligacje skarbowe_region'!K42+'Bony skarbowe_region'!K42","v":59948.239157660006},{"$f":"'Obligacje skarbowe_region'!L42+'Bony skarbowe_region'!L42","v":209600.89926593}]
[{"$f":"'Obligacje skarbowe_region'!A43","v":"2017-06-30"},{"$f":"'Obligacje skarbowe_region'!B43+'Bony skarbowe_region'!B43","v":44726.462558319989},{"$f":"'Obligacje skarbowe_region'!C43+'Bony skarbowe_region'!C43","v":12698.356266320001},{"$f":"'Obligacje skarbowe_region'!D43+'Bony skarbowe_region'!D43","v":12926.1424376},{"$f":"'Obligacje skarbowe_region'!E43+'Bony skarbowe_region'!E43","v":49.953499999999998},{"$f":"'Obligacje skarbowe_region'!F43+'Bony skarbowe_region'!F43","v":757.23799759999997},{"$f":"'Obligacje skarbowe_region'!G43+'Bony skarbowe_region'!G43","v":21008.01332432},{"$f":"'Obligacje skarbowe_region'!H43+'Bony skarbowe_region'!H43","v":1884.5689432000001},{"$f":"'Obligacje skarbowe_region'!I43+'Bony skarbowe_region'!I43","v":52835.592226640001},{"$f":"'Obligacje skarbowe_region'!J43+'Bony skarbowe_region'!J43","v":5019.9301582399994},{"$f":"'Obligacje skarbowe_region'!K43+'Bony skarbowe_region'!K43","v":59910.907861199994},{"$f":"'Obligacje skarbowe_region'!L43+'Bony skarbowe_region'!L43","v":211817.16527343998}]
[{"$f":"'Obligacje skarbowe_region'!A44","v":"2017-07-31"},{"$f":"'Obligacje skarbowe_region'!B44+'Bony skarbowe_region'!B44","v":45796.242192759993},{"$f":"'Obligacje skarbowe_region'!C44+'Bony skarbowe_region'!C44","v":10779.490707159999},{"$f":"'Obligacje skarbowe_region'!D44+'Bony skarbowe_region'!D44","v":12963.819988800002},{"$f":"'Obligacje skarbowe_region'!E44+'Bony skarbowe_region'!E44","v":49.953499999999998},{"$f":"'Obligacje skarbowe_region'!F44+'Bony skarbowe_region'!F44","v":724.1328188},{"$f":"'Obligacje skarbowe_region'!G44+'Bony skarbowe_region'!G44","v":21342.616290560003},{"$f":"'Obligacje skarbowe_region'!H44+'Bony skarbowe_region'!H44","v":1875.8267116},{"$f":"'Obligacje skarbowe_region'!I44+'Bony skarbowe_region'!I44","v":52086.648861319998},{"$f":"'Obligacje skarbowe_region'!J44+'Bony skarbowe_region'!J44","v":4991.9001471199999},{"$f":"'Obligacje skarbowe_region'!K44+'Bony skarbowe_region'!K44","v":58595.351416199999},{"$f":"'Obligacje skarbowe_region'!L44+'Bony skarbowe_region'!L44","v":209205.98263432001}]
[{"$f":"'Obligacje skarbowe_region'!A45","v":"2017-08-31"},{"$f":"'Obligacje skarbowe_region'!B45+'Bony skarbowe_region'!B45","v":47489.043895740004},{"$f":"'Obligacje skarbowe_region'!C45+'Bony skarbowe_region'!C45","v":10617.593031140001},{"$f":"'Obligacje skarbowe_region'!D45+'Bony skarbowe_region'!D45","v":12633.8161912},{"$f":"'Obligacje skarbowe_region'!E45+'Bony skarbowe_region'!E45","v":35.795099999999998},{"$f":"'Obligacje skarbowe_region'!F45+'Bony skarbowe_region'!F45","v":750.2086862000001},{"$f":"'Obligacje skarbowe_region'!G45+'Bony skarbowe_region'!G45","v":20980.932015439997},{"$f":"'Obligacje skarbowe_region'!H45+'Bony skarbowe_region'!H45","v":1895.772242},{"$f":"'Obligacje skarbowe_region'!I45+'Bony skarbowe_region'!I45","v":52096.247908179997},{"$f":"'Obligacje skarbowe_region'!J45+'Bony skarbowe_region'!J45","v":5173.5726898800003},{"$f":"'Obligacje skarbowe_region'!K45+'Bony skarbowe_region'!K45","v":56879.353112900004},{"$f":"'Obligacje skarbowe_region'!L45+'Bony skarbowe_region'!L45","v":208552.33487268002}]
[{"$f":"'Obligacje skarbowe_region'!A46","v":"2017-09-30"},{"$f":"'Obligacje skarbowe_region'!B46+'Bony skarbowe_region'!B46","v":43774.315191259993},{"$f":"'Obligacje skarbowe_region'!C46+'Bony skarbowe_region'!C46","v":9869.5238858599987},{"$f":"'Obligacje skarbowe_region'!D46+'Bony skarbowe_region'!D46","v":11838.267368800001},{"$f":"'Obligacje skarbowe_region'!E46+'Bony skarbowe_region'!E46","v":35.809600000000003},{"$f":"'Obligacje skarbowe_region'!F46+'Bony skarbowe_region'!F46","v":770.65102379999996},{"$f":"'Obligacje skarbowe_region'!G46+'Bony skarbowe_region'!G46","v":20513.02463656},{"$f":"'Obligacje skarbowe_region'!H46+'Bony skarbowe_region'!H46","v":1909.8748579999999},{"$f":"'Obligacje skarbowe_region'!I46+'Bony skarbowe_region'!I46","v":57495.518060820003},{"$f":"'Obligacje skarbowe_region'!J46+'Bony skarbowe_region'!J46","v":5351.1605641199994},{"$f":"'Obligacje skarbowe_region'!K46+'Bony skarbowe_region'!K46","v":53543.8043321},{"$f":"'Obligacje skarbowe_region'!L46+'Bony skarbowe_region'!L46","v":205101.94952131997}]
[{"$f":"'Obligacje skarbowe_region'!A47","v":"2017-10-31"},{"$f":"'Obligacje skarbowe_region'!B47+'Bony skarbowe_region'!B47","v":42611.593461300006},{"$f":"'Obligacje skarbowe_region'!C47+'Bony skarbowe_region'!C47","v":10705.271311},{"$f":"'Obligacje skarbowe_region'!D47+'Bony skarbowe_region'!D47","v":11126.984156},{"$f":"'Obligacje skarbowe_region'!E47+'Bony skarbowe_region'!E47","v":35.809600000000003},{"$f":"'Obligacje skarbowe_region'!F47+'Bony skarbowe_region'!F47","v":757.617931},{"$f":"'Obligacje skarbowe_region'!G47+'Bony skarbowe_region'!G47","v":20232.255277},{"$f":"'Obligacje skarbowe_region'!H47+'Bony skarbowe_region'!H47","v":2070.3802099999998},{"$f":"'Obligacje skarbowe_region'!I47+'Bony skarbowe_region'!I47","v":56738.119290900002},{"$f":"'Obligacje skarbowe_region'!J47+'Bony skarbowe_region'!J47","v":5149.2609757999999},{"$f":"'Obligacje skarbowe_region'!K47+'Bony skarbowe_region'!K47","v":52484.063590400001},{"$f":"'Obligacje skarbowe_region'!L47+'Bony skarbowe_region'!L47","v":201911.35580340002}]
[{"$f":"'Obligacje skarbowe_region'!A48","v":"2017-11-30"},{"$f":"'Obligacje skarbowe_region'!B48+'Bony skarbowe_region'!B48","v":43337.958823499997},{"$f":"'Obligacje skarbowe_region'!C48+'Bony skarbowe_region'!C48","v":10120.7642701},{"$f":"'Obligacje skarbowe_region'!D48+'Bony skarbowe_region'!D48","v":7503.7071379999998},{"$f":"'Obligacje skarbowe_region'!E48+'Bony skarbowe_region'!E48","v":35.810400000000001},{"$f":"'Obligacje skarbowe_region'!F48+'Bony skarbowe_region'!F48","v":703.22455049999996},{"$f":"'Obligacje skarbowe_region'!G48+'Bony skarbowe_region'!G48","v":19876.7252835},{"$f":"'Obligacje skarbowe_region'!H48+'Bony skarbowe_region'!H48","v":2001.197455},{"$f":"'Obligacje skarbowe_region'!I48+'Bony skarbowe_region'!I48","v":57607.845018800006},{"$f":"'Obligacje skarbowe_region'!J48+'Bony skarbowe_region'!J48","v":5254.5541668000005},{"$f":"'Obligacje skarbowe_region'!K48+'Bony skarbowe_region'!K48","v":53582.290389850001},{"$f":"'Obligacje skarbowe_region'!L48+'Bony skarbowe_region'!L48","v":200024.07749605001}]
[{"$f":"'Obligacje skarbowe_region'!A49","v":"2017-12-31"},{"$f":"'Obligacje skarbowe_region'!B49+'Bony skarbowe_region'!B49","v":44949.489012999999},{"$f":"'Obligacje skarbowe_region'!C49+'Bony skarbowe_region'!C49","v":9471.3602008999987},{"$f":"'Obligacje skarbowe_region'!D49+'Bony skarbowe_region'!D49","v":6679.7364420000004},{"$f":"'Obligacje skarbowe_region'!E49+'Bony skarbowe_region'!E49","v":35.811199999999999},{"$f":"'Obligacje skarbowe_region'!F49+'Bony skarbowe_region'!F49","v":725.95661729999995},{"$f":"'Obligacje skarbowe_region'!G49+'Bony skarbowe_region'!G49","v":19225.495301499999},{"$f":"'Obligacje skarbowe_region'!H49+'Bony skarbowe_region'!H49","v":1984.312895},{"$f":"'Obligacje skarbowe_region'!I49+'Bony skarbowe_region'!I49","v":59407.687449199999},{"$f":"'Obligacje skarbowe_region'!J49+'Bony skarbowe_region'!J49","v":5662.7353812000001},{"$f":"'Obligacje skarbowe_region'!K49+'Bony skarbowe_region'!K49","v":54571.888236250001},{"$f":"'Obligacje skarbowe_region'!L49+'Bony skarbowe_region'!L49","v":202714.47273635}]
[{"$f":"'Obligacje skarbowe_region'!A50","v":"2018-01-31"},{"$f":"'Obligacje skarbowe_region'!B50+'Bony skarbowe_region'!B50","v":45565.488398280002},{"$f":"'Obligacje skarbowe_region'!C50+'Bony skarbowe_region'!C50","v":10557.672286090001},{"$f":"'Obligacje skarbowe_region'!D50+'Bony skarbowe_region'!D50","v":5609.1419292},{"$f":"'Obligacje skarbowe_region'!E50+'Bony skarbowe_region'!E50","v":35.811900000000001},{"$f":"'Obligacje skarbowe_region'!F50+'Bony skarbowe_region'!F50","v":710.20962998000005},{"$f":"'Obligacje skarbowe_region'!G50+'Bony skarbowe_region'!G50","v":18866.7967589},{"$f":"'Obligacje skarbowe_region'!H50+'Bony skarbowe_region'!H50","v":1974.5302594899999},{"$f":"'Obligacje skarbowe_region'!I50+'Bony skarbowe_region'!I50","v":57057.949107920002},{"$f":"'Obligacje skarbowe_region'!J50+'Bony skarbowe_region'!J50","v":5827.1100911200001},{"$f":"'Obligacje skarbowe_region'!K50+'Bony skarbowe_region'!K50","v":53367.099826230005},{"$f":"'Obligacje skarbowe_region'!L50+'Bony skarbowe_region'!L50","v":199571.81018721001}]
[{"$f":"'Obligacje skarbowe_region'!A51","v":"2018-02-28"},{"$f":"'Obligacje skarbowe_region'!B51+'Bony skarbowe_region'!B51","v":45220.467042660006},{"$f":"'Obligacje skarbowe_region'!C51+'Bony skarbowe_region'!C51","v":12344.275409740001},{"$f":"'Obligacje skarbowe_region'!D51+'Bony skarbowe_region'!D51","v":3798.7453912000001},{"$f":"'Obligacje skarbowe_region'!E51+'Bony skarbowe_region'!E51","v":35.811900000000001},{"$f":"'Obligacje skarbowe_region'!F51+'Bony skarbowe_region'!F51","v":713.67499027999997},{"$f":"'Obligacje skarbowe_region'!G51+'Bony skarbowe_region'!G51","v":18974.864925400001},{"$f":"'Obligacje skarbowe_region'!H51+'Bony skarbowe_region'!H51","v":1997.6460221399998},{"$f":"'Obligacje skarbowe_region'!I51+'Bony skarbowe_region'!I51","v":57817.908057519999},{"$f":"'Obligacje skarbowe_region'!J51+'Bony skarbowe_region'!J51","v":6243.1357643199999},{"$f":"'Obligacje skarbowe_region'!K51+'Bony skarbowe_region'!K51","v":53318.943760779999},{"$f":"'Obligacje skarbowe_region'!L51+'Bony skarbowe_region'!L51","v":200465.47326404002}]
[{"$f":"'Obligacje skarbowe_region'!A52","v":"2018-03-31"},{"$f":"'Obligacje skarbowe_region'!B52+'Bony skarbowe_region'!B52","v":44658.911572930003},{"$f":"'Obligacje skarbowe_region'!C52+'Bony skarbowe_region'!C52","v":12400.227215770001},{"$f":"'Obligacje skarbowe_region'!D52+'Bony skarbowe_region'!D52","v":2423.2230876000003},{"$f":"'Obligacje skarbowe_region'!E52+'Bony skarbowe_region'!E52","v":35.813499999999998},{"$f":"'Obligacje skarbowe_region'!F52+'Bony skarbowe_region'!F52","v":709.26314849000005},{"$f":"'Obligacje skarbowe_region'!G52+'Bony skarbowe_region'!G52","v":17912.325151699999},{"$f":"'Obligacje skarbowe_region'!H52+'Bony skarbowe_region'!H52","v":2004.03030597},{"$f":"'Obligacje skarbowe_region'!I52+'Bony skarbowe_region'!I52","v":61909.212951960006},{"$f":"'Obligacje skarbowe_region'!J52+'Bony skarbowe_region'!J52","v":5893.9266933599993},{"$f":"'Obligacje skarbowe_region'!K52+'Bony skarbowe_region'!K52","v":54869.486351190004},{"$f":"'Obligacje skarbowe_region'!L52+'Bony skarbowe_region'!L52","v":202816.41997897002}]
[{"$f":"'Obligacje skarbowe_region'!A53","v":"2018-04-30"},{"$f":"'Obligacje skarbowe_region'!B53+'Bony skarbowe_region'!B53","v":42632.258126599998},{"$f":"'Obligacje skarbowe_region'!C53+'Bony skarbowe_region'!C53","v":11598.633465450001},{"$f":"'Obligacje skarbowe_region'!D53+'Bony skarbowe_region'!D53","v":1554.2960419999999},{"$f":"'Obligacje skarbowe_region'!E53+'Bony skarbowe_region'!E53","v":35.813499999999998},{"$f":"'Obligacje skarbowe_region'!F53+'Bony skarbowe_region'!F53","v":705.63026915},{"$f":"'Obligacje skarbowe_region'!G53+'Bony skarbowe_region'!G53","v":16344.3241015},{"$f":"'Obligacje skarbowe_region'!H53+'Bony skarbowe_region'!H53","v":2029.43073615},{"$f":"'Obligacje skarbowe_region'!I53+'Bony skarbowe_region'!I53","v":62621.002128199994},{"$f":"'Obligacje skarbowe_region'!J53+'Bony skarbowe_region'!J53","v":5903.5137412000004},{"$f":"'Obligacje skarbowe_region'!K53+'Bony skarbowe_region'!K53","v":54261.770323900004},{"$f":"'Obligacje skarbowe_region'!L53+'Bony skarbowe_region'!L53","v":197686.67243415001}]
[{"$f":"'Obligacje skarbowe_region'!A54","v":"2018-05-31"},{"$f":"'Obligacje skarbowe_region'!B54+'Bony skarbowe_region'!B54","v":42795.910441079999},{"$f":"'Obligacje skarbowe_region'!C54+'Bony skarbowe_region'!C54","v":13146.426843880001},{"$f":"'Obligacje skarbowe_region'!D54+'Bony skarbowe_region'!D54","v":1671.8987548},{"$f":"'Obligacje skarbowe_region'!E54+'Bony skarbowe_region'!E54","v":45.815100000000001},{"$f":"'Obligacje skarbowe_region'!F54+'Bony skarbowe_region'!F54","v":702.30837800999996},{"$f":"'Obligacje skarbowe_region'!G54+'Bony skarbowe_region'!G54","v":15432.7245941},{"$f":"'Obligacje skarbowe_region'!H54+'Bony skarbowe_region'!H54","v":1990.4175278099999},{"$f":"'Obligacje skarbowe_region'!I54+'Bony skarbowe_region'!I54","v":61851.38965908},{"$f":"'Obligacje skarbowe_region'!J54+'Bony skarbowe_region'!J54","v":5109.3283443},{"$f":"'Obligacje skarbowe_region'!K54+'Bony skarbowe_region'!K54","v":53951.109884449994},{"$f":"'Obligacje skarbowe_region'!L54+'Bony skarbowe_region'!L54","v":196697.32952751004}]
[{"$f":"'Obligacje skarbowe_region'!A55","v":"2018-06-30"},{"$f":"'Obligacje skarbowe_region'!B55+'Bony skarbowe_region'!B55","v":41235.203224479999},{"$f":"'Obligacje skarbowe_region'!C55+'Bony skarbowe_region'!C55","v":9963.6754436399988},{"$f":"'Obligacje skarbowe_region'!D55+'Bony skarbowe_region'!D55","v":1659.3885844000001},{"$f":"'Obligacje skarbowe_region'!E55+'Bony skarbowe_region'!E55","v":45.815800000000003},{"$f":"'Obligacje skarbowe_region'!F55+'Bony skarbowe_region'!F55","v":678.36585803000003},{"$f":"'Obligacje skarbowe_region'!G55+'Bony skarbowe_region'!G55","v":14368.3342223},{"$f":"'Obligacje skarbowe_region'!H55+'Bony skarbowe_region'!H55","v":1812.47876819},{"$f":"'Obligacje skarbowe_region'!I55+'Bony skarbowe_region'!I55","v":63335.213569239997},{"$f":"'Obligacje skarbowe_region'!J55+'Bony skarbowe_region'!J55","v":5807.8883528999995},{"$f":"'Obligacje skarbowe_region'!K55+'Bony skarbowe_region'!K55","v":53233.776883350001},{"$f":"'Obligacje skarbowe_region'!L55+'Bony skarbowe_region'!L55","v":192140.14070653002}]
[{"$f":"'Obligacje skarbowe_region'!A56","v":"2018-07-31"},{"$f":"'Obligacje skarbowe_region'!B56+'Bony skarbowe_region'!B56","v":39658.130635350004},{"$f":"'Obligacje skarbowe_region'!C56+'Bony skarbowe_region'!C56","v":10086.28809281},{"$f":"'Obligacje skarbowe_region'!D56+'Bony skarbowe_region'!D56","v":2167.0111611999996},{"$f":"'Obligacje skarbowe_region'!E56+'Bony skarbowe_region'!E56","v":40.816600000000001},{"$f":"'Obligacje skarbowe_region'!F56+'Bony skarbowe_region'!F56","v":688.37088119000009},{"$f":"'Obligacje skarbowe_region'!G56+'Bony skarbowe_region'!G56","v":14235.501277899999},{"$f":"'Obligacje skarbowe_region'!H56+'Bony skarbowe_region'!H56","v":1851.2325628699998},{"$f":"'Obligacje skarbowe_region'!I56+'Bony skarbowe_region'!I56","v":68038.538498189999},{"$f":"'Obligacje skarbowe_region'!J56+'Bony skarbowe_region'!J56","v":5267.5178237199989},{"$f":"'Obligacje skarbowe_region'!K56+'Bony skarbowe_region'!K56","v":48596.67452706},{"$f":"'Obligacje skarbowe_region'!L56+'Bony skarbowe_region'!L56","v":190630.08206029001}]
[{"$f":"'Obligacje skarbowe_region'!A57","v":"2018-08-31"},{"$f":"'Obligacje skarbowe_region'!B57+'Bony skarbowe_region'!B57","v":39310.993692939999},{"$f":"'Obligacje skarbowe_region'!C57+'Bony skarbowe_region'!C57","v":9474.8103345199997},{"$f":"'Obligacje skarbowe_region'!D57+'Bony skarbowe_region'!D57","v":1566.6666484},{"$f":"'Obligacje skarbowe_region'!E57+'Bony skarbowe_region'!E57","v":48.367400000000004},{"$f":"'Obligacje skarbowe_region'!F57+'Bony skarbowe_region'!F57","v":709.60877232999997},{"$f":"'Obligacje skarbowe_region'!G57+'Bony skarbowe_region'!G57","v":13807.4191553},{"$f":"'Obligacje skarbowe_region'!H57+'Bony skarbowe_region'!H57","v":1816.9474320899999},{"$f":"'Obligacje skarbowe_region'!I57+'Bony skarbowe_region'!I57","v":67383.910691330006},{"$f":"'Obligacje skarbowe_region'!J57+'Bony skarbowe_region'!J57","v":5431.8403180400001},{"$f":"'Obligacje skarbowe_region'!K57+'Bony skarbowe_region'!K57","v":48314.201613780002},{"$f":"'Obligacje skarbowe_region'!L57+'Bony skarbowe_region'!L57","v":187864.76605872999}]
[{"$f":"'Obligacje skarbowe_region'!A58","v":"2018-09-30"},{"$f":"'Obligacje skarbowe_region'!B58+'Bony skarbowe_region'!B58","v":39642.053675970004},{"$f":"'Obligacje skarbowe_region'!C58+'Bony skarbowe_region'!C58","v":10105.190469950001},{"$f":"'Obligacje skarbowe_region'!D58+'Bony skarbowe_region'!D58","v":2444.4252523999994},{"$f":"'Obligacje skarbowe_region'!E58+'Bony skarbowe_region'!E58","v":48.367400000000004},{"$f":"'Obligacje skarbowe_region'!F58+'Bony skarbowe_region'!F58","v":759.34966463000001},{"$f":"'Obligacje skarbowe_region'!G58+'Bony skarbowe_region'!G58","v":13131.599229970001},{"$f":"'Obligacje skarbowe_region'!H58+'Bony skarbowe_region'!H58","v":1857.7346899900001},{"$f":"'Obligacje skarbowe_region'!I58+'Bony skarbowe_region'!I58","v":67429.18647362999},{"$f":"'Obligacje skarbowe_region'!J58+'Bony skarbowe_region'!J58","v":4900.1594654399996},{"$f":"'Obligacje skarbowe_region'!K58+'Bony skarbowe_region'!K58","v":49640.662526650005},{"$f":"'Obligacje skarbowe_region'!L58+'Bony skarbowe_region'!L58","v":189958.72884863001}]
[{"$f":"'Obligacje skarbowe_region'!A59","v":"2018-10-31"},{"$f":"'Obligacje skarbowe_region'!B59+'Bony skarbowe_region'!B59","v":38954.028498319989},{"$f":"'Obligacje skarbowe_region'!C59+'Bony skarbowe_region'!C59","v":9863.9575696800002},{"$f":"'Obligacje skarbowe_region'!D59+'Bony skarbowe_region'!D59","v":3770.6470375999997},{"$f":"'Obligacje skarbowe_region'!E59+'Bony skarbowe_region'!E59","v":48.369},{"$f":"'Obligacje skarbowe_region'!F59+'Bony skarbowe_region'!F59","v":718.71776711999996},{"$f":"'Obligacje skarbowe_region'!G59+'Bony skarbowe_region'!G59","v":12852.27274808},{"$f":"'Obligacje skarbowe_region'!H59+'Bony skarbowe_region'!H59","v":1912.1029277600001},{"$f":"'Obligacje skarbowe_region'!I59+'Bony skarbowe_region'!I59","v":66240.341683120001},{"$f":"'Obligacje skarbowe_region'!J59+'Bony skarbowe_region'!J59","v":4863.4928985600009},{"$f":"'Obligacje skarbowe_region'!K59+'Bony skarbowe_region'!K59","v":53042.901447120006},{"$f":"'Obligacje skarbowe_region'!L59+'Bony skarbowe_region'!L59","v":192266.83157735999}]
[{"$f":"'Obligacje skarbowe_region'!A60","v":"2018-11-30"},{"$f":"'Obligacje skarbowe_region'!B60+'Bony skarbowe_region'!B60","v":39772.078076849997},{"$f":"'Obligacje skarbowe_region'!C60+'Bony skarbowe_region'!C60","v":9726.2195701500004},{"$f":"'Obligacje skarbowe_region'!D60+'Bony skarbowe_region'!D60","v":4912.1910980000002},{"$f":"'Obligacje skarbowe_region'!E60+'Bony skarbowe_region'!E60","v":48.369700000000002},{"$f":"'Obligacje skarbowe_region'!F60+'Bony skarbowe_region'!F60","v":1051.15439885},{"$f":"'Obligacje skarbowe_region'!G60+'Bony skarbowe_region'!G60","v":12786.342148149999},{"$f":"'Obligacje skarbowe_region'!H60+'Bony skarbowe_region'!H60","v":1904.88262975},{"$f":"'Obligacje skarbowe_region'!I60+'Bony skarbowe_region'!I60","v":66304.316553850003},{"$f":"'Obligacje skarbowe_region'!J60+'Bony skarbowe_region'!J60","v":5351.2923838000006},{"$f":"'Obligacje skarbowe_region'!K60+'Bony skarbowe_region'!K60","v":50339.459533900001},{"$f":"'Obligacje skarbowe_region'!L60+'Bony skarbowe_region'!L60","v":192196.30609329999}]
[{"$f":"'Obligacje skarbowe_region'!A61","v":"2018-12-31"},{"$f":"'Obligacje skarbowe_region'!B61+'Bony skarbowe_region'!B61","v":38499.738964479999},{"$f":"'Obligacje skarbowe_region'!C61+'Bony skarbowe_region'!C61","v":9165.8564796800001},{"$f":"'Obligacje skarbowe_region'!D61+'Bony skarbowe_region'!D61","v":4123.9960072000003},{"$f":"'Obligacje skarbowe_region'!E61+'Bony skarbowe_region'!E61","v":45.570500000000003},{"$f":"'Obligacje skarbowe_region'!F61+'Bony skarbowe_region'!F61","v":1065.3597526400001},{"$f":"'Obligacje skarbowe_region'!G61+'Bony skarbowe_region'!G61","v":12913.08349936},{"$f":"'Obligacje skarbowe_region'!H61+'Bony skarbowe_region'!H61","v":1918.0749504},{"$f":"'Obligacje skarbowe_region'!I61+'Bony skarbowe_region'!I61","v":66369.147604640006},{"$f":"'Obligacje skarbowe_region'!J61+'Bony skarbowe_region'!J61","v":5888.6214563200001},{"$f":"'Obligacje skarbowe_region'!K61+'Bony skarbowe_region'!K61","v":51469.563090240001},{"$f":"'Obligacje skarbowe_region'!L61+'Bony skarbowe_region'!L61","v":191459.01230495999}]
[{"$f":"'Obligacje skarbowe_region'!A62","v":"2019-01-31"},{"$f":"'Obligacje skarbowe_region'!B62+'Bony skarbowe_region'!B62","v":39992.230257199997},{"$f":"'Obligacje skarbowe_region'!C62+'Bony skarbowe_region'!C62","v":9928.3158962800007},{"$f":"'Obligacje skarbowe_region'!D62+'Bony skarbowe_region'!D62","v":3414.2366212000002},{"$f":"'Obligacje skarbowe_region'!E62+'Bony skarbowe_region'!E62","v":35.571300000000001},{"$f":"'Obligacje skarbowe_region'!F62+'Bony skarbowe_region'!F62","v":509.83490318999998},{"$f":"'Obligacje skarbowe_region'!G62+'Bony skarbowe_region'!G62","v":11837.89226131},{"$f":"'Obligacje skarbowe_region'!H62+'Bony skarbowe_region'!H62","v":1622.7424296500001},{"$f":"'Obligacje skarbowe_region'!I62+'Bony skarbowe_region'!I62","v":53806.541120189991},{"$f":"'Obligacje skarbowe_region'!J62+'Bony skarbowe_region'!J62","v":5904.9989597199992},{"$f":"'Obligacje skarbowe_region'!K62+'Bony skarbowe_region'!K62","v":54498.858714039998},{"$f":"'Obligacje skarbowe_region'!L62+'Bony skarbowe_region'!L62","v":181551.22246277999}]
[{"$f":"'Obligacje skarbowe_region'!A63","v":"2019-02-28"},{"$f":"'Obligacje skarbowe_region'!B63+'Bony skarbowe_region'!B63","v":40212.68944781},{"$f":"'Obligacje skarbowe_region'!C63+'Bony skarbowe_region'!C63","v":10168.65763892},{"$f":"'Obligacje skarbowe_region'!D63+'Bony skarbowe_region'!D63","v":2625.5129211999997},{"$f":"'Obligacje skarbowe_region'!E63+'Bony skarbowe_region'!E63","v":83.931299999999993},{"$f":"'Obligacje skarbowe_region'!F63+'Bony skarbowe_region'!F63","v":521.05754389999993},{"$f":"'Obligacje skarbowe_region'!G63+'Bony skarbowe_region'!G63","v":11795.914125460002},{"$f":"'Obligacje skarbowe_region'!H63+'Bony skarbowe_region'!H63","v":1597.9648715399999},{"$f":"'Obligacje skarbowe_region'!I63+'Bony skarbowe_region'!I63","v":46262.69112019},{"$f":"'Obligacje skarbowe_region'!J63+'Bony skarbowe_region'!J63","v":5670.7318597199992},{"$f":"'Obligacje skarbowe_region'!K63+'Bony skarbowe_region'!K63","v":53397.792371039999},{"$f":"'Obligacje skarbowe_region'!L63+'Bony skarbowe_region'!L63","v":172336.94319978001}]
[{"$f":"'Obligacje skarbowe_region'!A64","v":"2019-03-31"},{"$f":"'Obligacje skarbowe_region'!B64+'Bony skarbowe_region'!B64","v":42401.061387499991},{"$f":"'Obligacje skarbowe_region'!C64+'Bony skarbowe_region'!C64","v":11773.138116200002},{"$f":"'Obligacje skarbowe_region'!D64+'Bony skarbowe_region'!D64","v":1792.6219819999999},{"$f":"'Obligacje skarbowe_region'!E64+'Bony skarbowe_region'!E64","v":92.172799999999995},{"$f":"'Obligacje skarbowe_region'!F64+'Bony skarbowe_region'!F64","v":558.23719149999999},{"$f":"'Obligacje skarbowe_region'!G64+'Bony skarbowe_region'!G64","v":11137.3418081},{"$f":"'Obligacje skarbowe_region'!H64+'Bony skarbowe_region'!H64","v":1560.0799369000001},{"$f":"'Obligacje skarbowe_region'!I64+'Bony skarbowe_region'!I64","v":47650.94983215},{"$f":"'Obligacje skarbowe_region'!J64+'Bony skarbowe_region'!J64","v":4868.1720841999995},{"$f":"'Obligacje skarbowe_region'!K64+'Bony skarbowe_region'!K64","v":53992.940953999998},{"$f":"'Obligacje skarbowe_region'!L64+'Bony skarbowe_region'!L64","v":175826.71609254999}]
[{"$f":"'Obligacje skarbowe_region'!A65","v":"2019-04-30"},{"$f":"'Obligacje skarbowe_region'!B65+'Bony skarbowe_region'!B65","v":39141.324115700001},{"$f":"'Obligacje skarbowe_region'!C65+'Bony skarbowe_region'!C65","v":11727.01281342},{"$f":"'Obligacje skarbowe_region'!D65+'Bony skarbowe_region'!D65","v":1976.3843472999999},{"$f":"'Obligacje skarbowe_region'!E65+'Bony skarbowe_region'!E65","v":92.173599999999993},{"$f":"'Obligacje skarbowe_region'!F65+'Bony skarbowe_region'!F65","v":535.93116989999999},{"$f":"'Obligacje skarbowe_region'!G65+'Bony skarbowe_region'!G65","v":10592.846255699998},{"$f":"'Obligacje skarbowe_region'!H65+'Bony skarbowe_region'!H65","v":1613.6958151399999},{"$f":"'Obligacje skarbowe_region'!I65+'Bony skarbowe_region'!I65","v":49051.769054789998},{"$f":"'Obligacje skarbowe_region'!J65+'Bony skarbowe_region'!J65","v":4683.0965481800004},{"$f":"'Obligacje skarbowe_region'!K65+'Bony skarbowe_region'!K65","v":54090.089887559996},{"$f":"'Obligacje skarbowe_region'!L65+'Bony skarbowe_region'!L65","v":173504.32360768999}]
[{"$f":"'Obligacje skarbowe_region'!A66","v":"2019-05-31"},{"$f":"'Obligacje skarbowe_region'!B66+'Bony skarbowe_region'!B66","v":40950.325003000005},{"$f":"'Obligacje skarbowe_region'!C66+'Bony skarbowe_region'!C66","v":11251.542846799999},{"$f":"'Obligacje skarbowe_region'!D66+'Bony skarbowe_region'!D66","v":2017.816157},{"$f":"'Obligacje skarbowe_region'!E66+'Bony skarbowe_region'!E66","v":92.174400000000006},{"$f":"'Obligacje skarbowe_region'!F66+'Bony skarbowe_region'!F66","v":533.75429099999997},{"$f":"'Obligacje skarbowe_region'!G66+'Bony skarbowe_region'!G66","v":10009.433413000001},{"$f":"'Obligacje skarbowe_region'!H66+'Bony skarbowe_region'!H66","v":1518.6791625999999},{"$f":"'Obligacje skarbowe_region'!I66+'Bony skarbowe_region'!I66","v":48959.074531099999},{"$f":"'Obligacje skarbowe_region'!J66+'Bony skarbowe_region'!J66","v":4680.2682361999996},{"$f":"'Obligacje skarbowe_region'!K66+'Bony skarbowe_region'!K66","v":52845.254151400004},{"$f":"'Obligacje skarbowe_region'!L66+'Bony skarbowe_region'!L66","v":172858.32219210002}]
[{"$f":"'Obligacje skarbowe_region'!A67","v":"2019-06-30"},{"$f":"'Obligacje skarbowe_region'!B67+'Bony skarbowe_region'!B67","v":40907.207728200003},{"$f":"'Obligacje skarbowe_region'!C67+'Bony skarbowe_region'!C67","v":12579.6029389},{"$f":"'Obligacje skarbowe_region'!D67+'Bony skarbowe_region'!D67","v":1623.1166810999998},{"$f":"'Obligacje skarbowe_region'!E67+'Bony skarbowe_region'!E67","v":92.174400000000006},{"$f":"'Obligacje skarbowe_region'!F67+'Bony skarbowe_region'!F67","v":545.20693100000005},{"$f":"'Obligacje skarbowe_region'!G67+'Bony skarbowe_region'!G67","v":9685.1914337999988},{"$f":"'Obligacje skarbowe_region'!H67+'Bony skarbowe_region'!H67","v":1492.0596665999999},{"$f":"'Obligacje skarbowe_region'!I67+'Bony skarbowe_region'!I67","v":49020.967775099998},{"$f":"'Obligacje skarbowe_region'!J67+'Bony skarbowe_region'!J67","v":4224.2878842},{"$f":"'Obligacje skarbowe_region'!K67+'Bony skarbowe_region'!K67","v":53567.554718300002},{"$f":"'Obligacje skarbowe_region'!L67+'Bony skarbowe_region'!L67","v":173737.37015720003}]
[{"$f":"'Obligacje skarbowe_region'!A68","v":"2019-07-31"},{"$f":"'Obligacje skarbowe_region'!B68+'Bony skarbowe_region'!B68","v":38512.821908979997},{"$f":"'Obligacje skarbowe_region'!C68+'Bony skarbowe_region'!C68","v":9212.4542777000006},{"$f":"'Obligacje skarbowe_region'!D68+'Bony skarbowe_region'!D68","v":1624.1904622899999},{"$f":"'Obligacje skarbowe_region'!E68+'Bony skarbowe_region'!E68","v":88.275899999999993},{"$f":"'Obligacje skarbowe_region'!F68+'Bony skarbowe_region'!F68","v":629.71189089999996},{"$f":"'Obligacje skarbowe_region'!G68+'Bony skarbowe_region'!G68","v":9010.23876982},{"$f":"'Obligacje skarbowe_region'!H68+'Bony skarbowe_region'!H68","v":1315.1766757400001},{"$f":"'Obligacje skarbowe_region'!I68+'Bony skarbowe_region'!I68","v":47655.008388889997},{"$f":"'Obligacje skarbowe_region'!J68+'Bony skarbowe_region'!J68","v":4791.7972103800003},{"$f":"'Obligacje skarbowe_region'!K68+'Bony skarbowe_region'!K68","v":54894.67977943},{"$f":"'Obligacje skarbowe_region'!L68+'Bony skarbowe_region'!L68","v":167734.35526412999}]
[{"$f":"'Obligacje skarbowe_region'!A69","v":"2019-08-31"},{"$f":"'Obligacje skarbowe_region'!B69+'Bony skarbowe_region'!B69","v":41146.27644963999},{"$f":"'Obligacje skarbowe_region'!C69+'Bony skarbowe_region'!C69","v":8181.1268783199994},{"$f":"'Obligacje skarbowe_region'!D69+'Bony skarbowe_region'!D69","v":1625.9442452200001},{"$f":"'Obligacje skarbowe_region'!E69+'Bony skarbowe_region'!E69","v":85.341700000000003},{"$f":"'Obligacje skarbowe_region'!F69+'Bony skarbowe_region'!F69","v":595.66807620000009},{"$f":"'Obligacje skarbowe_region'!G69+'Bony skarbowe_region'!G69","v":8546.1458916400006},{"$f":"'Obligacje skarbowe_region'!H69+'Bony skarbowe_region'!H69","v":1289.3825073200001},{"$f":"'Obligacje skarbowe_region'!I69+'Bony skarbowe_region'!I69","v":45632.772384020005},{"$f":"'Obligacje skarbowe_region'!J69+'Bony skarbowe_region'!J69","v":4645.7296148400001},{"$f":"'Obligacje skarbowe_region'!K69+'Bony skarbowe_region'!K69","v":54237.22896352},{"$f":"'Obligacje skarbowe_region'!L69+'Bony skarbowe_region'!L69","v":165985.61671072}]
[{"$f":"'Obligacje skarbowe_region'!A70","v":"2019-09-30"},{"$f":"'Obligacje skarbowe_region'!B70+'Bony skarbowe_region'!B70","v":38757.272429799996},{"$f":"'Obligacje skarbowe_region'!C70+'Bony skarbowe_region'!C70","v":7999.0635723999994},{"$f":"'Obligacje skarbowe_region'!D70+'Bony skarbowe_region'!D70","v":1629.3686429000002},{"$f":"'Obligacje skarbowe_region'!E70+'Bony skarbowe_region'!E70","v":85.341700000000003},{"$f":"'Obligacje skarbowe_region'!F70+'Bony skarbowe_region'!F70","v":651.07610899999997},{"$f":"'Obligacje skarbowe_region'!G70+'Bony skarbowe_region'!G70","v":8154.4980744000004},{"$f":"'Obligacje skarbowe_region'!H70+'Bony skarbowe_region'!H70","v":1283.9350774000002},{"$f":"'Obligacje skarbowe_region'!I70+'Bony skarbowe_region'!I70","v":45860.879208899998},{"$f":"'Obligacje skarbowe_region'!J70+'Bony skarbowe_region'!J70","v":4550.2230438000006},{"$f":"'Obligacje skarbowe_region'!K70+'Bony skarbowe_region'!K70","v":54229.3022318},{"$f":"'Obligacje skarbowe_region'!L70+'Bony skarbowe_region'!L70","v":163200.96009039998}]
[{"$f":"'Obligacje skarbowe_region'!A71","v":"2019-10-31"},{"$f":"'Obligacje skarbowe_region'!B71+'Bony skarbowe_region'!B71","v":38019.343547999997},{"$f":"'Obligacje skarbowe_region'!C71+'Bony skarbowe_region'!C71","v":6737.2692526000001},{"$f":"'Obligacje skarbowe_region'!D71+'Bony skarbowe_region'!D71","v":1631.3056429000001},{"$f":"'Obligacje skarbowe_region'!E71+'Bony skarbowe_region'!E71","v":94.253299999999996},{"$f":"'Obligacje skarbowe_region'!F71+'Bony skarbowe_region'!F71","v":778.91410900000005},{"$f":"'Obligacje skarbowe_region'!G71+'Bony skarbowe_region'!G71","v":7824.5433704000006},{"$f":"'Obligacje skarbowe_region'!H71+'Bony skarbowe_region'!H71","v":1249.4950774000001},{"$f":"'Obligacje skarbowe_region'!I71+'Bony skarbowe_region'!I71","v":44394.260208899999},{"$f":"'Obligacje skarbowe_region'!J71+'Bony skarbowe_region'!J71","v":4611.8930437999998},{"$f":"'Obligacje skarbowe_region'!K71+'Bony skarbowe_region'!K71","v":53835.8692286},{"$f":"'Obligacje skarbowe_region'!L71+'Bony skarbowe_region'!L71","v":159177.14678159999}]
[{"$f":"'Obligacje skarbowe_region'!A72","v":"2019-11-30"},{"$f":"'Obligacje skarbowe_region'!B72+'Bony skarbowe_region'!B72","v":38307.234004099999},{"$f":"'Obligacje skarbowe_region'!C72+'Bony skarbowe_region'!C72","v":6862.7626906000005},{"$f":"'Obligacje skarbowe_region'!D72+'Bony skarbowe_region'!D72","v":1775.9002429000002},{"$f":"'Obligacje skarbowe_region'!E72+'Bony skarbowe_region'!E72","v":97.680099999999996},{"$f":"'Obligacje skarbowe_region'!F72+'Bony skarbowe_region'!F72","v":776.21310900000003},{"$f":"'Obligacje skarbowe_region'!G72+'Bony skarbowe_region'!G72","v":7717.5230130999998},{"$f":"'Obligacje skarbowe_region'!H72+'Bony skarbowe_region'!H72","v":1277.4920774000002},{"$f":"'Obligacje skarbowe_region'!I72+'Bony skarbowe_region'!I72","v":42897.055208900005},{"$f":"'Obligacje skarbowe_region'!J72+'Bony skarbowe_region'!J72","v":4728.6081438000001},{"$f":"'Obligacje skarbowe_region'!K72+'Bony skarbowe_region'!K72","v":53468.340241800004},{"$f":"'Obligacje skarbowe_region'!L72+'Bony skarbowe_region'!L72","v":157908.80883160001}]
[{"$f":"'Obligacje skarbowe_region'!A73","v":"2019-12-31"},{"$f":"'Obligacje skarbowe_region'!B73+'Bony skarbowe_region'!B73","v":38165.040617179999},{"$f":"'Obligacje skarbowe_region'!C73+'Bony skarbowe_region'!C73","v":6079.3278358600001},{"$f":"'Obligacje skarbowe_region'!D73+'Bony skarbowe_region'!D73","v":1618.6034534200001},{"$f":"'Obligacje skarbowe_region'!E73+'Bony skarbowe_region'!E73","v":61.162799999999997},{"$f":"'Obligacje skarbowe_region'!F73+'Bony skarbowe_region'!F73","v":796.85159820000001},{"$f":"'Obligacje skarbowe_region'!G73+'Bony skarbowe_region'!G73","v":7470.4669345999991},{"$f":"'Obligacje skarbowe_region'!H73+'Bony skarbowe_region'!H73","v":1211.80851652},{"$f":"'Obligacje skarbowe_region'!I73+'Bony skarbowe_region'!I73","v":42665.84432022},{"$f":"'Obligacje skarbowe_region'!J73+'Bony skarbowe_region'!J73","v":4616.7229952399994},{"$f":"'Obligacje skarbowe_region'!K73+'Bony skarbowe_region'!K73","v":54634.905847440001},{"$f":"'Obligacje skarbowe_region'!L73+'Bony skarbowe_region'!L73","v":157320.73491867998}]
[{"$f":"'Obligacje skarbowe_region'!A74","v":"2020-01-31"},{"$f":"'Obligacje skarbowe_region'!B74+'Bony skarbowe_region'!B74","v":39039.49520356},{"$f":"'Obligacje skarbowe_region'!C74+'Bony skarbowe_region'!C74","v":5938.0972420799999},{"$f":"'Obligacje skarbowe_region'!D74+'Bony skarbowe_region'!D74","v":1621.48744124},{"$f":"'Obligacje skarbowe_region'!E74+'Bony skarbowe_region'!E74","v":31.1906},{"$f":"'Obligacje skarbowe_region'!F74+'Bony skarbowe_region'!F74","v":822.40302039999995},{"$f":"'Obligacje skarbowe_region'!G74+'Bony skarbowe_region'!G74","v":6755.7343412000009},{"$f":"'Obligacje skarbowe_region'!H74+'Bony skarbowe_region'!H74","v":666.80875944000002},{"$f":"'Obligacje skarbowe_region'!I74+'Bony skarbowe_region'!I74","v":41436.076650839997},{"$f":"'Obligacje skarbowe_region'!J74+'Bony skarbowe_region'!J74","v":4146.0262472800005},{"$f":"'Obligacje skarbowe_region'!K74+'Bony skarbowe_region'!K74","v":54021.670419319998},{"$f":"'Obligacje skarbowe_region'!L74+'Bony skarbowe_region'!L74","v":154478.98992536002}]
[{"$f":"'Obligacje skarbowe_region'!A75","v":"2020-02-29"},{"$f":"'Obligacje skarbowe_region'!B75+'Bony skarbowe_region'!B75","v":38885.51127486},{"$f":"'Obligacje skarbowe_region'!C75+'Bony skarbowe_region'!C75","v":2379.2575999999999},{"$f":"'Obligacje skarbowe_region'!D75+'Bony skarbowe_region'!D75","v":6069.3591647600006},{"$f":"'Obligacje skarbowe_region'!E75+'Bony skarbowe_region'!E75","v":35.590800000000002},{"$f":"'Obligacje skarbowe_region'!F75+'Bony skarbowe_region'!F75","v":729.41384404999997},{"$f":"'Obligacje skarbowe_region'!G75+'Bony skarbowe_region'!G75","v":6783.9874042499996},{"$f":"'Obligacje skarbowe_region'!H75+'Bony skarbowe_region'!H75","v":694.55261873999996},{"$f":"'Obligacje skarbowe_region'!I75+'Bony skarbowe_region'!I75","v":41990.99299939},{"$f":"'Obligacje skarbowe_region'!J75+'Bony skarbowe_region'!J75","v":4173.8001339000002},{"$f":"'Obligacje skarbowe_region'!K75+'Bony skarbowe_region'!K75","v":56105.344596699993},{"$f":"'Obligacje skarbowe_region'!L75+'Bony skarbowe_region'!L75","v":157847.81043665}]
[{"$f":"'Obligacje skarbowe_region'!A76","v":"2020-03-31"},{"$f":"'Obligacje skarbowe_region'!B76+'Bony skarbowe_region'!B76","v":35479.725904580002},{"$f":"'Obligacje skarbowe_region'!C76+'Bony skarbowe_region'!C76","v":2167.8096999999998},{"$f":"'Obligacje skarbowe_region'!D76+'Bony skarbowe_region'!D76","v":5510.6875989999999},{"$f":"'Obligacje skarbowe_region'!E76+'Bony skarbowe_region'!E76","v":35.622500000000002},{"$f":"'Obligacje skarbowe_region'!F76+'Bony skarbowe_region'!F76","v":795.67961735000006},{"$f":"'Obligacje skarbowe_region'!G76+'Bony skarbowe_region'!G76","v":6743.5585855899999},{"$f":"'Obligacje skarbowe_region'!H76+'Bony skarbowe_region'!H76","v":554.27190940999992},{"$f":"'Obligacje skarbowe_region'!I76+'Bony skarbowe_region'!I76","v":43253.167000000001},{"$f":"'Obligacje skarbowe_region'!J76+'Bony skarbowe_region'!J76","v":3762.7334793},{"$f":"'Obligacje skarbowe_region'!K76+'Bony skarbowe_region'!K76","v":54118.856271320001},{"$f":"'Obligacje skarbowe_region'!L76+'Bony skarbowe_region'!L76","v":152422.11256655}]
[{"$f":"'Obligacje skarbowe_region'!A77","v":"2020-04-30"},{"$f":"'Obligacje skarbowe_region'!B77+'Bony skarbowe_region'!B77","v":33704.808606370003},{"$f":"'Obligacje skarbowe_region'!C77+'Bony skarbowe_region'!C77","v":2037.1867},{"$f":"'Obligacje skarbowe_region'!D77+'Bony skarbowe_region'!D77","v":5154.59804394},{"$f":"'Obligacje skarbowe_region'!E77+'Bony skarbowe_region'!E77","v":24.618500000000001},{"$f":"'Obligacje skarbowe_region'!F77+'Bony skarbowe_region'!F77","v":735.88199999999995},{"$f":"'Obligacje skarbowe_region'!G77+'Bony skarbowe_region'!G77","v":4914.46335955},{"$f":"'Obligacje skarbowe_region'!H77+'Bony skarbowe_region'!H77","v":317.3648},{"$f":"'Obligacje skarbowe_region'!I77+'Bony skarbowe_region'!I77","v":41530.800999999999},{"$f":"'Obligacje skarbowe_region'!J77+'Bony skarbowe_region'!J77","v":3519.3402079000002},{"$f":"'Obligacje skarbowe_region'!K77+'Bony skarbowe_region'!K77","v":47623.950288660002},{"$f":"'Obligacje skarbowe_region'!L77+'Bony skarbowe_region'!L77","v":139563.01350641999}]
[{"$f":"'Obligacje skarbowe_region'!A78","v":"2020-05-31"},{"$f":"'Obligacje skarbowe_region'!B78+'Bony skarbowe_region'!B78","v":33580.843854719998},{"$f":"'Obligacje skarbowe_region'!C78+'Bony skarbowe_region'!C78","v":2101.4292999999998},{"$f":"'Obligacje skarbowe_region'!D78+'Bony skarbowe_region'!D78","v":4704.6940933400001},{"$f":"'Obligacje skarbowe_region'!E78+'Bony skarbowe_region'!E78","v":24.619499999999999},{"$f":"'Obligacje skarbowe_region'!F78+'Bony skarbowe_region'!F78","v":697.125},{"$f":"'Obligacje skarbowe_region'!G78+'Bony skarbowe_region'!G78","v":5498.5237999999999},{"$f":"'Obligacje skarbowe_region'!H78+'Bony skarbowe_region'!H78","v":312.15879999999999},{"$f":"'Obligacje skarbowe_region'!I78+'Bony skarbowe_region'!I78","v":43692.423000000003},{"$f":"'Obligacje skarbowe_region'!J78+'Bony skarbowe_region'!J78","v":3774.9069514000003},{"$f":"'Obligacje skarbowe_region'!K78+'Bony skarbowe_region'!K78","v":47628.50369356},{"$f":"'Obligacje skarbowe_region'!L78+'Bony skarbowe_region'!L78","v":142015.22799302}]
[{"$f":"'Obligacje skarbowe_region'!A79","v":"2020-06-30"},{"$f":"'Obligacje skarbowe_region'!B79+'Bony skarbowe_region'!B79","v":31086.431904249999},{"$f":"'Obligacje skarbowe_region'!C79+'Bony skarbowe_region'!C79","v":2036.3759},{"$f":"'Obligacje skarbowe_region'!D79+'Bony skarbowe_region'!D79","v":5165.1894025000001},{"$f":"'Obligacje skarbowe_region'!E79+'Bony skarbowe_region'!E79","v":24.6205},{"$f":"'Obligacje skarbowe_region'!F79+'Bony skarbowe_region'!F79","v":667.86400000000003},{"$f":"'Obligacje skarbowe_region'!G79+'Bony skarbowe_region'!G79","v":5278.4048000000003},{"$f":"'Obligacje skarbowe_region'!H79+'Bony skarbowe_region'!H79","v":265.09780000000001},{"$f":"'Obligacje skarbowe_region'!I79+'Bony skarbowe_region'!I79","v":43680.476000000002},{"$f":"'Obligacje skarbowe_region'!J79+'Bony skarbowe_region'!J79","v":3637.7270724999998},{"$f":"'Obligacje skarbowe_region'!K79+'Bony skarbowe_region'!K79","v":45786.442063750001},{"$f":"'Obligacje skarbowe_region'!L79+'Bony skarbowe_region'!L79","v":137628.62944300001}]
[{"$f":"'Obligacje skarbowe_region'!A80","v":"2020-07-31"},{"$f":"'Obligacje skarbowe_region'!B80+'Bony skarbowe_region'!B80","v":32231.747048000001},{"$f":"'Obligacje skarbowe_region'!C80+'Bony skarbowe_region'!C80","v":2027.9105},{"$f":"'Obligacje skarbowe_region'!D80+'Bony skarbowe_region'!D80","v":5491.9031373799999},{"$f":"'Obligacje skarbowe_region'!E80+'Bony skarbowe_region'!E80","v":24.621500000000001},{"$f":"'Obligacje skarbowe_region'!F80+'Bony skarbowe_region'!F80","v":641.02800000000002},{"$f":"'Obligacje skarbowe_region'!G80+'Bony skarbowe_region'!G80","v":4640.5358999999999},{"$f":"'Obligacje skarbowe_region'!H80+'Bony skarbowe_region'!H80","v":266.26979999999998},{"$f":"'Obligacje skarbowe_region'!I80+'Bony skarbowe_region'!I80","v":42701.392999999996},{"$f":"'Obligacje skarbowe_region'!J80+'Bony skarbowe_region'!J80","v":3214.0970000000002},{"$f":"'Obligacje skarbowe_region'!K80+'Bony skarbowe_region'!K80","v":46438.139885800003},{"$f":"'Obligacje skarbowe_region'!L80+'Bony skarbowe_region'!L80","v":137677.64577117999}]
[{"$f":"'Obligacje skarbowe_region'!A81","v":"2020-08-31"},{"$f":"'Obligacje skarbowe_region'!B81+'Bony skarbowe_region'!B81","v":30778.1937383},{"$f":"'Obligacje skarbowe_region'!C81+'Bony skarbowe_region'!C81","v":2005.8136999999999},{"$f":"'Obligacje skarbowe_region'!D81+'Bony skarbowe_region'!D81","v":5089.1280508700002},{"$f":"'Obligacje skarbowe_region'!E81+'Bony skarbowe_region'!E81","v":24.622399999999999},{"$f":"'Obligacje skarbowe_region'!F81+'Bony skarbowe_region'!F81","v":587.75800000000004},{"$f":"'Obligacje skarbowe_region'!G81+'Bony skarbowe_region'!G81","v":4626.4116999999997},{"$f":"'Obligacje skarbowe_region'!H81+'Bony skarbowe_region'!H81","v":263.34780000000001},{"$f":"'Obligacje skarbowe_region'!I81+'Bony skarbowe_region'!I81","v":42534.208135250003},{"$f":"'Obligacje skarbowe_region'!J81+'Bony skarbowe_region'!J81","v":3183.4677000000001},{"$f":"'Obligacje skarbowe_region'!K81+'Bony skarbowe_region'!K81","v":47470.274280750004},{"$f":"'Obligacje skarbowe_region'!L81+'Bony skarbowe_region'!L81","v":136563.22550517}]
[{"$f":"'Obligacje skarbowe_region'!A82","v":"2020-09-30"},{"$f":"'Obligacje skarbowe_region'!B82+'Bony skarbowe_region'!B82","v":30015.666080299998},{"$f":"'Obligacje skarbowe_region'!C82+'Bony skarbowe_region'!C82","v":1790.2967000000001},{"$f":"'Obligacje skarbowe_region'!D82+'Bony skarbowe_region'!D82","v":4600.2158570200008},{"$f":"'Obligacje skarbowe_region'!E82+'Bony skarbowe_region'!E82","v":30.2134},{"$f":"'Obligacje skarbowe_region'!F82+'Bony skarbowe_region'!F82","v":561.71900000000005},{"$f":"'Obligacje skarbowe_region'!G82+'Bony skarbowe_region'!G82","v":4506.7750999999998},{"$f":"'Obligacje skarbowe_region'!H82+'Bony skarbowe_region'!H82","v":253.5308},{"$f":"'Obligacje skarbowe_region'!I82+'Bony skarbowe_region'!I82","v":44263.313220249998},{"$f":"'Obligacje skarbowe_region'!J82+'Bony skarbowe_region'!J82","v":2900.7637},{"$f":"'Obligacje skarbowe_region'!K82+'Bony skarbowe_region'!K82","v":46803.255913400004},{"$f":"'Obligacje skarbowe_region'!L82+'Bony skarbowe_region'!L82","v":135725.74977097}]
[{"$f":"'Obligacje skarbowe_region'!A83","v":"2020-10-31"},28393.398468900003,1962.6747,4371.3549462600004,30.214400000000001,489.71499999999997,4242.9490999999998,169.63079999999999,42217.296550749998,2717.4020999999998,46680.247724199995,131274.88379010998]
[{"$f":"'Obligacje skarbowe_region'!A84","v":"2020-11-30"},28026.4548354,2131.6927000000001,4306.7909386199999,30.215299999999999,423.404,4430.8553000000002,169.9058,43027.030664500002,2710.7991000000002,47071.35068494,132328.49932346001]
[{"$f":"'Obligacje skarbowe_region'!A85","v":"2020-12-31"},28532.260492400001,2067.1122,4457.1722357200006,33.286200000000001,257.92759999999998,4443.6153000000004,186.66679999999999,44414.557387000001,2779.1351,46586.261357639996,133757.99467275999]
[{"$f":"'Obligacje skarbowe_region'!A86","v":"2021-01-31"},31258.690862599997,2028.1871000000001,4971.2796207800002,33.286999999999999,260.22559999999999,4636.3932999999997,166.62379999999999,44835.644950499998,2888.5371,48206.453732859998,139285.32306673998]
[{"$f":"'Obligacje skarbowe_region'!A87","v":"2021-02-28"},32064.326917739996,1704.6470999999999,4934.7974718899995,33.287100000000002,317.12939999999998,4782.2952999999998,176.37780000000001,45675.978606750003,2575.7271000000001,47176.948032610002,139441.51482898998]
[{"$f":"'Obligacje skarbowe_region'!A88","v":"2021-03-31"},28605.696941819999,1861.7012,6580.3256792700004,33.288699999999999,392.9554,4972.0393000000004,208.53380000000001,43017.137190250003,2723.2620999999999,46344.26201423,134739.20232556999]
[{"$f":"'Obligacje skarbowe_region'!A89","v":"2021-04-30"},26472.36231158,1863.8112000000001,5072.4702781300002,33.2896,380.17540000000002,4374.2663000000002,197.74279999999999,42363.290014749997,2764.5581000000002,47761.17158337,131283.13758782999]
[{"$f":"'Obligacje skarbowe_region'!A90","v":"2021-05-31"},23568.258658760002,1835.0933,3930.61145786,23.590499999999999,242.4204,4182.7254000000003,204.83080000000001,38668.538315419995,2219.8000999999999,45313.990925140002,120189.85985718001]
[{"$f":"'Obligacje skarbowe_region'!A91","v":"2021-06-30"},24453.318495599997,1826.2197000000001,4778.7260431000004,23.5914,218.6054,4202.8671999999997,204.30680000000001,41176.277285699995,1796.8000999999999,44760.354461900002,123441.06688629999]
[{"$f":"'Obligacje skarbowe_region'!A92","v":"2021-07-31"},26587.38270156,1955.7877000000001,3825.0866288100001,23.592300000000002,220.98339999999999,4468.2838000000002,230.9588,42588.329870069996,2474.8141000000001,45926.828426690001,128302.04772713]
[{"$f":"'Obligacje skarbowe_region'!A93","v":"2021-08-31"},27418.44578948,1676.0501999999999,3326.00018873,23.5931,231.85740000000001,4848.0582999999997,224.9008,43864.578398309997,2534.4072000000001,44573.061642769993,128720.95301929]
[{"$f":"'Obligacje skarbowe_region'!A94","v":"2021-09-30"},26061.883933000001,1625.0391999999999,3651.15726425,23.594000000000001,230.17840000000001,4853.1216000000004,224.47880000000001,44033.59901975,2417.5061999999998,46171.931423249996,129292.48984025]
[{"$f":"'Obligacje skarbowe_region'!A95","v":"2021-10-31"},23694.15344604,1587.4341999999999,3573.2592037899999,23.594899999999999,277.99340000000001,4826.8013000000001,280.1078,42435.508622130001,2386.7572,46562.15331971,125647.76339166999]
[{"$f":"'Obligacje skarbowe_region'!A96","v":"2021-11-30"},23368.050062760001,1527.1095,3542.9364869400001,23.596,1122.1733999999999,4737.0541000000003,271.1508,39493.258518970004,2808.6984000000002,48788.781052489998,125682.80832116]
[{"$f":"'Obligacje skarbowe_region'!A97","v":"2021-12-31"},23289.567766880002,1469.5389,3073.0100818400001,26.9971,1229.4634000000001,4501.6130000000003,275.27080000000001,38702.523146359999,2742.0077999999999,49247.70627612,124557.6982712]
[{"$f":"'Obligacje skarbowe_region'!A98","v":"2022-01-31"},23848.128383889998,1531.8201577699999,3549.6902830600006,26.998100000000001,1194.4834000000001,4723.3626000000004,281.50979999999998,38871.364209489999,2060.2161999999998,51247.25165436,127334.82478857]
[{"$f":"'Obligacje skarbowe_region'!A99","v":"2022-02-28"},24080.571416430001,2111.71246999,4925.9776582199993,33.558300000000003,1249.8910000000001,4696.4684999999999,279.88979999999998,38487.743653629994,2044.9541999999999,49210.491682699998,127121.25868096999]
[{"$f":"'Obligacje skarbowe_region'!A100","v":"2022-03-31"},29512.888676340001,2140.5524956199997,4454.3086203599996,35.5199,1363.37,5482.9292999999998,360.33980000000003,36568.341869939999,2242.9962,47969.319222599996,130130.56608485998]
[{"$f":"'Obligacje skarbowe_region'!A101","v":"2022-04-30"},28995.826394799999,2401.7646925500003,4278.9678440999996,39.730899999999998,633.51499999999999,6460.9026000000003,358.42579999999998,34855.114704349995,3659.0664000000002,53117.216657050005,134800.53099284999]
[{"$f":"'Obligacje skarbowe_region'!A102","v":"2022-05-31"},33912.70774261,2505.9619367300002,4841.0338848600004,44.011899999999997,751.55899999999997,6754.3200999999999,366.31709999999998,34650.856087010005,3970.2584000000002,52591.568092900001,140388.59424411002]
[{"$f":"'Obligacje skarbowe_region'!A103","v":"2022-06-30"},31649.626907599999,2967.0715660199999,4816.8167156399995,44.344900000000003,830.63300000000004,6684.3293999999996,884.98159999999996,36493.622614740001,3975.0785000000001,58278.779794599999,146625.28499859999]
[{"$f":"'Obligacje skarbowe_region'!A104","v":"2022-07-31"},30600.441123799999,3007.0699895100001,6109.4536908199998,31.6159,882.39009999999996,6890.25,907.61440000000005,34413.995047870005,3523.9105,56042.298042300004,142409.0387943]
[{"$f":"'Obligacje skarbowe_region'!A105","v":"2022-08-31"},31322.702040400003,3002.7761271599998,4871.4033715599999,31.616800000000001,962.48209999999995,6922.0555999999997,931.17089999999996,35136.958590460003,3739.4418999999998,57636.669513400004,144557.27694298001]
[{"$f":"'Obligacje skarbowe_region'!A106","v":"2022-09-30"},30096.883827579997,3050.6625432399996,4933.0474348400003,22.9678,1075.0700999999999,9913.7541000000001,1661.9922999999999,36190.253831940005,4068.2651999999998,57643.788340620005,148656.68547822]
[{"$f":"'Obligacje skarbowe_region'!A107","v":"2022-10-31"},29627.775650350002,3004.7147673000004,6026.1871243000005,22.968800000000002,953.58609999999999,9582.1236000000008,1395.9503,36885.422585050001,4516.9795000000004,55893.860776150002,147909.56920314999]
[{"$f":"'Obligacje skarbowe_region'!A108","v":"2022-11-30"},31051.18226243,3313.26651554,4518.5678141399994,22.969799999999999,894.88710000000003,9098.7075999999997,1535.4663,39229.741309489997,4973.8822,54880.890134269997,149519.56103586999]
[{"$f":"'Obligacje skarbowe_region'!A109","v":"2022-12-31"},29874.539870970002,3177.1134696599997,4262.6746390600001,19.9008,838.30709999999999,8970.4824000000008,1487.7433000000001,39832.925726709997,4567.2750999999998,53143.208578329999,146174.17098473001]
[{"$f":"'Obligacje skarbowe_region'!A110","v":"2023-01-31"},29707.658724010002,3148.9766947799999,5441.2814249799994,19.901700000000002,860.58309999999994,9025.1064999999999,1397.5273,38507.928407430001,4821.0369000000001,53338.000382890001,146268.00113409001]
[{"$f":"'Obligacje skarbowe_region'!A111","v":"2023-02-28"},27701.333141109997,2912.4517985799998,4507.1924707800008,15.6219,869.29309999999998,8628.9125000000004,1244.1143,38207.305317730003,4412.8658999999998,52369.557439789998,140868.64786798999]
[{"$f":"'Obligacje skarbowe_region'!A112","v":"2023-03-31"},29589.638375909999,2886.9483729799999,4505.0399411799999,15.623699999999999,910.76210000000003,8463.2019,1275.5073,38790.539014129994,4450.8941000000004,51231.393016989998,142119.54782118998]
[{"$f":"'Obligacje skarbowe_region'!A113","v":"2023-04-30"},29249.590378579996,2816.02701084,4899.9390864400002,15.623699999999999,917.84709999999995,8130.5537000000004,1327.1853000000001,37751.189862539999,4518.7658000000001,50204.920741760005,139831.64268015997]
[{"$f":"'Obligacje skarbowe_region'!A114","v":"2023-05-31"},29978.094747390001,2651.3771500600001,4851.1373933899995,15.625400000000001,815.70609999999999,7612.6036000000004,1263.1387,37004.82718411,3228.4315999999999,48755.006980639999,136175.94885559002]
[{"$f":"'Obligacje skarbowe_region'!A115","v":"2023-06-30"},31016.812478800002,2434.4560739200001,6277.4669064799991,15.626099999999999,607.83309999999994,4679.1733000000004,643.02670000000001,35936.03467352,3958.1833000000001,49348.755548480003,134917.3681812]
[{"$f":"'Obligacje skarbowe_region'!A116","v":"2023-07-31"},29786.75630175,2490.9373747,6593.8289407499997,20.096900000000002,586.99109999999996,4788.8041000000003,702.03869999999995,35695.35009195,3832.5039999999999,51485.080396800004,135982.38790594999]
[{"$f":"'Obligacje skarbowe_region'!A117","v":"2023-08-31"},29551.5995,2634.6662000000001,6136.0942999999997,20.1127,625.36699999999996,4618.1859000000004,661.06569999999999,35618.157500000001,3983.4387000000002,50980.006999999998,134828.69449999998]
[{"$f":"'Obligacje skarbowe_region'!A118","v":"2023-09-30"},27881.4673,2542.1626000000001,6089.1706999999997,20.113499999999998,672.47799999999995,4665.4844000000003,639.22170000000006,33608.681499999999,4006.5448999999999,49552.464,129677.7886]
[{"$f":"'Obligacje skarbowe_region'!A119","v":"2023-10-31"},28727.135999999999,2544.7035000000001,6776.6940000000004,14.7113,701.77300000000002,4710.5814,518.09540000000004,32859.781499999997,3481.0585000000001,49739.913999999997,130074.4486]
[{"$f":"'Obligacje skarbowe_region'!A120","v":"2023-11-30"},28361.666099999999,2644.9686999999999,6410.1521000000002,14.712,633.11199999999997,4921.6635999999999,504.37639999999999,31495.551500000001,3945.9056999999998,50522.582000000002,129454.69010000001]
[{"$f":"'Obligacje skarbowe_region'!A121","v":"2023-12-31"},29902.347900000001,2720.8607000000002,7242.1221999999998,14.712999999999999,560.04,5094.3639000000003,593.67840000000001,32295.577399999998,4160.6785,49589.716,132174.098]
[{"$f":"'Obligacje skarbowe_region'!A122","v":"2024-01-31"},27630.572100000001,2587.0547999999999,6552.3536999999997,10.597,598.24,4414.8118999999997,191.4864,32022.4316,4441.4116999999997,53713.182999999997,132162.1422]
[{"$f":"'Obligacje skarbowe_region'!A123","v":"2024-02-29"},28527.8282,2644.4513999999999,5223.6220000000003,10.597099999999999,574.85,4722.9148999999998,174.10640000000001,33086.611599999997,3112.1507000000001,55357.957000000002,133435.08929999999]
[{"$f":"'Obligacje skarbowe_region'!A124","v":"2024-03-31"},29870.026999999998,2689.5708,4823.6759000000002,5.0239000000000003,538.27,4564.2736999999997,177.6754,33006.434600000001,3100.4616999999998,53392.29,132167.70299999998]
[{"$f":"'Obligacje skarbowe_region'!A125","v":"2024-04-30"},28241.800999999999,2729.2645000000002,5675.7977000000001,5.0248999999999997,626.976,6056.9463999999998,233.18940000000001,34356.146399999998,3100.5005000000001,50067.351999999999,131092.9988]
[{"$f":"'Obligacje skarbowe_region'!A126","v":"2024-05-31"},28487.071899999999,2659.4598000000001,5587.0387000000001,29.985900000000001,623.02599999999995,6331.3771999999999,424.32940000000002,34230.701399999998,3052.0574999999999,51086.536999999997,132511.58480000001]
[{"$f":"'Obligacje skarbowe_region'!A127","v":"2024-06-30"},29896.075099999998,2590.0466999999999,6550.8397599999998,29.9861,589.85599999999999,6537.1957000000002,559.99239999999998,36474.5363,2983.0875000000001,51320.168080000003,137531.78364000001]
[{"$f":"'Obligacje skarbowe_region'!A128","v":"2024-07-31"},30849.39770111,2588.3791999999999,6309.8053049800001,30.015799999999999,657.69328890999998,7716.27349985,458.67558931999997,36755.833607550005,2813.1928620399999,57619.629506810001,145798.89636057001]
["2024-08-31",30063.193788200006,2566.7784999999999,5945.0405220600005,46.596800000000002,648.71200967999994,5809.7970342000008,416.87796810000003,37902.747377400003,2830.5878808800003,57573.786782119998,143804.11866264002]
["2024-09-30",30096.4035869,2585.0814999999998,6144.7604985499993,46.620800000000003,754.51535139999999,6606.0457623500006,536.54432174999999,39057.032395249997,2596.2263134,61160.5867019,149583.8172315]
["2024-10-31",32485.93796128,2543.7004000000002,6597.3049593599999,46.932899999999997,801.62765655999999,6492.9791067200003,478.70191079999995,38341.681852480004,3152.85969024,57489.804868079998,148431.53130551998]
["2024-11-30",31827.8302129,2501.8431,7550.7093758999999,46.933599999999998,881.79101960000003,7617.9032655999999,518.87493425000002,38616.684206800004,3283.6780034000003,57512.960475,150359.20819345]
["2024-12-31",31508.519699749999,2508.2734717500002,6458.8878894999998,36.334400000000002,903.77599075000001,7320.5669189999999,954.84518800000001,39881.891344249998,3274.7830657499999,55572.515872000004,148420.39384074998]
["2025-01-31",34291.741676470003,2581.61146491,6212.8869519000009,37.861199999999997,833.15749827000002,7703.0079851499995,1050.06609015,38374.239029290002,3430.6700625900003,60954.664914300003,155469.90687303001]
["2025-02-28",36199.605272640001,2635.77919608,6959.4767850399994,53.796199999999999,773.54929063999998,7803.7513683999996,1180.0943812,38549.902496080002,3153.2007239200002,64767.345559360001,162076.50127336002]
["2025-03-31",34123.30849168,2732.3579202600004,7893.0731609000004,52.4908,816.93568221999999,7486.5876750799998,1190.9080008799999,38718.280711179992,2792.6869847399998,64748.175639979992,160554.80506692]

{"sheet":"Obligacje skarbowe_banki centr.","index":7,"n_rows":136,"n_cols":11,"rows_kept":136,"cut":false,"hidden":false,"merged":[[2,9,3,9],[2,10,3,10],[0,0,1,10],[2,0,3,0],[2,1,3,1],[2,2,3,2],[2,3,3,3],[2,4,3,4],[2,5,3,5],[2,6,3,6],[2,7,3,7],[2,8,3,8]]}
["Portfele obligacji skarbowych w bankach centralnych po regionach (mln zł)"]
[]
["Data","Europa - kraje strefy euro","Europa - kraje UE spoza strefy euro","Europa - kraje spoza UE","Afryka","Ameryka Południowa (w tym Karaiby)","Ameryka Północna","Australia i Oceania","Azja (bez Bliskiego Wschodu)","Bliski Wschód","Razem"]
[]
["2014-04-30",0,0.27100000000000002,7635.3,13.15,0,0,0,4969.3988564400006,1812.8439197499999,{"$f":"SUM(B5:J5)","v":14430.963776189999}]
[{"$f":"'Obligacje skarbowe_podmiot'!A6","v":"2014-05-31"},0,0,7635.3,13.15,0,0,0,5806.2656303999993,3861.83077306,17316.546403459997]
[{"$f":"'Obligacje skarbowe_podmiot'!A7","v":"2014-06-30"},0,0,7879.3,13.15,0,0,0,6347.95827138,3804.6114868300001,18045.019758210001]
[{"$f":"'Obligacje skarbowe_podmiot'!A8","v":"2014-07-31"},68.734138000000002,0,7710.3,13.15,0,0,0,6620.2613706800003,3724.31808138,18136.76359006]
[{"$f":"'Obligacje skarbowe_podmiot'!A9","v":"2014-08-31"},64.75,0,7710.3,13.15,0,0,0,7058.7891156200003,3551.8509363499998,18398.840051970001]
[{"$f":"'Obligacje skarbowe_podmiot'!A10","v":"2014-09-30"},72.349999999999994,0,7973.3,103.15,0,0,0,7419.0371740200007,3744.54345255,19312.38062657]
[{"$f":"'Obligacje skarbowe_podmiot'!A11","v":"2014-10-31"},77.320971999999998,0,7973.3,103.15,0,0,0,9560.2397957799985,3428.3339649,21142.344732679998]
[{"$f":"'Obligacje skarbowe_podmiot'!A12","v":"2014-11-30"},77.420327,0,0,103.15,0,0,0,11870.97464918,3525.3594426000004,15576.904418779999]
[{"$f":"'Obligacje skarbowe_podmiot'!A13","v":"2014-12-31"},72.45,0,0,13.53,0,0,0,13297.7121343,3028.8759879700001,16412.56812227]
[{"$f":"'Obligacje skarbowe_podmiot'!A14","v":"2015-01-31"},72.75,0,0,13.53,0,0,0,14597.180417399999,2717.9001628500005,17401.360580249999]
[{"$f":"'Obligacje skarbowe_podmiot'!A15","v":"2015-02-28"},72.75,0,0,13.53,0,0,0,15563.7996527,2874.9985402799998,18525.07819298]
[{"$f":"'Obligacje skarbowe_podmiot'!A16","v":"2015-03-31"},70.55,0,0,13.53,0,0,0,17656.498822699999,2596.20603437,20336.784857070001]
[{"$f":"'Obligacje skarbowe_podmiot'!A17","v":"2015-04-30"},59.05,0,0,13.53,0,0,0,19433.906159599999,2705.5539617600002,22212.040121360002]
[{"$f":"'Obligacje skarbowe_podmiot'!A18","v":"2015-05-31"},59.05,0,0,13.53,0,0,0,20416.638894800002,2582.2194402399996,23071.438335040002]
[{"$f":"'Obligacje skarbowe_podmiot'!A19","v":"2015-06-30"},65.150000000000006,0,0,13.53,0,0,0,19668.792232599997,2873.7168706000002,22621.189103199998]
[{"$f":"'Obligacje skarbowe_podmiot'!A20","v":"2015-07-31"},53.45,0,0,13.53,0,0,0,19827.736965400003,2979.4009339600002,22874.117899360004]
[{"$f":"'Obligacje skarbowe_podmiot'!A21","v":"2015-08-31"},53.45,0,0,13.53,0,0,0,18143.360965400003,2871.4549339599998,21081.795899360004]
[{"$f":"'Obligacje skarbowe_podmiot'!A22","v":"2015-09-30"},55.35,0,0,13.53,0,0,0,25131.387616900003,3117.98758314,28318.255200040003]
[{"$f":"'Obligacje skarbowe_podmiot'!A23","v":"2015-10-31"},57.15,0,0,12.53,0,0,0,25096.212778500001,3431.7643902399996,28597.657168739999]
[{"$f":"'Obligacje skarbowe_podmiot'!A24","v":"2015-11-30"},60.15,0,0,10.33,0,0,0,25645.2514228,3406.3922740200001,29122.123696819999]
[{"$f":"'Obligacje skarbowe_podmiot'!A25","v":"2015-12-31"},64.05,0,0,10.33,0,0,0,25986.293175900002,4062.0698858599994,30122.743061760004]
[{"$f":"'Obligacje skarbowe_podmiot'!A26","v":"2016-01-31"},61.35,0,0,10.33,0,0,0,25152.957396900001,4089.7350968599994,29314.372493760002]
[{"$f":"'Obligacje skarbowe_podmiot'!A27","v":"2016-02-29"},61.35,0,0,10.33,0,0,0,24974.631740940004,4136.1800706399999,29182.491811580003]
[{"$f":"'Obligacje skarbowe_podmiot'!A28","v":"2016-03-31"},56.35,0,0,10.33,0,0,0,24243.728796239997,3433.7637272399998,27744.172523479996]
[{"$f":"'Obligacje skarbowe_podmiot'!A29","v":"2016-04-30"},55.85,0,0,10.33,0,0,0,24725.354526930001,3453.6111389799999,28245.14566591]
[{"$f":"'Obligacje skarbowe_podmiot'!A30","v":"2016-05-31"},55.85,0,0,10.33,0,0,0,26499.56614345,2913.8878854999998,29479.63402895]
[{"$f":"'Obligacje skarbowe_podmiot'!A31","v":"2016-06-30"},60.55,0,0,10.33,0,0,0,26446.470799390001,2977.0617975999999,29494.412596990001]
[{"$f":"'Obligacje skarbowe_podmiot'!A32","v":"2016-07-31"},52.55,0,0,10.33,0,0,0,25761.154328129996,2765.5993991999999,28589.633727329998]
[{"$f":"'Obligacje skarbowe_podmiot'!A33","v":"2016-08-31"},52.55,0,0,10.33,0,0,0,25597.125452659999,2800.8753744000001,28460.880827059998]
[{"$f":"'Obligacje skarbowe_podmiot'!A34","v":"2016-09-30"},56.85,0,0,10.33,0,0,0,25509.209094409998,2797.1801943999999,28373.569288809998]
[{"$f":"'Obligacje skarbowe_podmiot'!A35","v":"2016-10-31"},55.55,0,0,10.33,50,0,0,25759.112983290001,2608.2423736000001,28483.23535689]
[{"$f":"'Obligacje skarbowe_podmiot'!A36","v":"2016-11-30"},55.55,0,0,10.33,50,0,0,26398.329876009997,2611.2411384000002,29125.451014409999]
[{"$f":"'Obligacje skarbowe_podmiot'!A37","v":"2016-12-31"},54.35,0,0,10.33,50,0,0,25987.03602354,2595.5084336,28697.224457140001]
[{"$f":"'Obligacje skarbowe_podmiot'!A38","v":"2017-01-31"},54.35,0,0,10.33,50,0,0,25374.74299481,2723.11352498,28212.536519789999]
[{"$f":"'Obligacje skarbowe_podmiot'!A39","v":"2017-02-28"},54.35,0,0,10.72,50,0,0,24789.321414379996,2410.7475024,27315.138916779997]
[{"$f":"'Obligacje skarbowe_podmiot'!A40","v":"2017-03-31"},54.35,0,0,10.72,50,0,0,28921.691784130002,2724.2894824,31761.051266530001]
[{"$f":"'Obligacje skarbowe_podmiot'!A41","v":"2017-04-30"},55.95,0,0,13.52,50,0,0,28753.31318261,2280.9623528000002,31153.745535410002]
[{"$f":"'Obligacje skarbowe_podmiot'!A42","v":"2017-05-31"},61.55,0,0,13.52,50,0,0,28311.70313663,1998.2166824000001,30434.989819030001]
[{"$f":"'Obligacje skarbowe_podmiot'!A43","v":"2017-06-30"},64.55,0,0,25.21,50,0,0,25825.38160216,2021.8422367999999,27986.983838959997]
[{"$f":"'Obligacje skarbowe_podmiot'!A44","v":"2017-07-31"},66.55,0,0,25.21,50,0,0,25627.250763080003,2037.7438784000001,27806.754641480002]
[{"$f":"'Obligacje skarbowe_podmiot'!A45","v":"2017-08-31"},66.55,0,0,25.21,50,0,0,25373.012732419997,2115.7929616000001,27630.565694019995]
[{"$f":"'Obligacje skarbowe_podmiot'!A46","v":"2017-09-30"},67.3,0,0,25.21,50,0,0,24412.539728580003,2286.2623183999999,26841.312046980001]
[{"$f":"'Obligacje skarbowe_podmiot'!A47","v":"2017-10-31"},60.7,0,0,25.21,50,0,0,31917.2440121,2294.4648080000002,34347.618820099997]
[{"$f":"'Obligacje skarbowe_podmiot'!A48","v":"2017-11-30"},37.700000000000003,0,0,25.21,50,0,0,32350.33597955,2447.3698099000003,34910.615789449999]
[{"$f":"'Obligacje skarbowe_podmiot'!A49","v":"2017-12-31"},34.009,0,0,25.21,50,0,0,33157.174220950001,2394.0193790999997,35660.412600049996]
[{"$f":"'Obligacje skarbowe_podmiot'!A50","v":"2018-01-31"},34.009,0,0,25.21,50,0,0,31479.093561969999,2413.10946066,34001.422022630002]
[{"$f":"'Obligacje skarbowe_podmiot'!A51","v":"2018-02-28"},34.009,0,0,25.21,50,0,0,31129.094847419998,2032.40982076,33270.723668179999]
[{"$f":"'Obligacje skarbowe_podmiot'!A52","v":"2018-03-31"},26.829000000000001,0,0,25.21,50,0,0,33891.056393409999,1879.72581698,35872.821210389993]
[{"$f":"'Obligacje skarbowe_podmiot'!A53","v":"2018-04-30"},16.134,0,0,25.21,50,0,0,33590.842630949999,1888.3143590999998,35570.500990049994]
[{"$f":"'Obligacje skarbowe_podmiot'!A54","v":"2018-05-31"},16.134,0,0,25.21,50,0,0,33456.766994930003,1806.95640056,35355.067395489998]
[{"$f":"'Obligacje skarbowe_podmiot'!A55","v":"2018-06-30"},16.134,0,0,25.21,25,0,0,33471.295316789998,1864.5415456799999,35402.180862469992]
[{"$f":"'Obligacje skarbowe_podmiot'!A56","v":"2018-07-31"},27.074000000000002,0,0,20.21,25,0,0,36853.070594339995,1883.4625546399998,38808.817148979993]
[{"$f":"'Obligacje skarbowe_podmiot'!A57","v":"2018-08-31"},27.074000000000002,0,0,27.76,25,0,0,37219.404304380005,1916.6015064800001,39215.839810860009]
[{"$f":"'Obligacje skarbowe_podmiot'!A58","v":"2018-09-30"},27.074000000000002,0,0,27.76,50,0,0,37308.067082180001,1863.51183528,39276.412917460002]
[{"$f":"'Obligacje skarbowe_podmiot'!A59","v":"2018-10-31"},18.704000000000001,0,0,27.76,50,0,0,36532.091948319998,1998.9309427200001,38627.486891039996]
[{"$f":"'Obligacje skarbowe_podmiot'!A60","v":"2018-11-30"},18.704000000000001,0,0,27.76,50,0,0,36533.421281099996,2006.1546555999998,38636.039936699999]
[{"$f":"'Obligacje skarbowe_podmiot'!A61","v":"2018-12-31"},11.849,0,0,24.96,50,0,0,36053.978999040002,2054.69499584,38195.482994880003]
[{"$f":"'Obligacje skarbowe_podmiot'!A62","v":"2019-01-31"},0,0,0,24.96,50,0,0,26397.36608634,1721.8421866399999,28194.168272979998]
[{"$f":"'Obligacje skarbowe_podmiot'!A63","v":"2019-02-28"},0,0,0,73.319999999999993,50,0,0,19443.444086340001,1563.4351866399998,21130.19927298]
[{"$f":"'Obligacje skarbowe_podmiot'!A64","v":"2019-03-31"},0,0,0,81.56,50,0,0,18693.846714900003,1115.0681604000001,19940.474875300002]
[{"$f":"'Obligacje skarbowe_podmiot'!A65","v":"2019-04-30"},0,0,0,81.56,50,0,0,18754.575461940003,939.95348790000003,19826.088949840003]
[{"$f":"'Obligacje skarbowe_podmiot'!A66","v":"2019-05-31"},0,0,0,81.56,50,0,0,18645.4165746,940.01291100000003,19716.989485600003]
[{"$f":"'Obligacje skarbowe_podmiot'!A67","v":"2019-06-30"},0,0,0,81.56,50,0,0,17699.333558599999,937.35535100000004,18768.248909599999]
[{"$f":"'Obligacje skarbowe_podmiot'!A68","v":"2019-07-31"},0,0,0,77.66,50,0,6,17414.587694540001,1307.9654289,18856.21312344]
[{"$f":"'Obligacje skarbowe_podmiot'!A69","v":"2019-08-31"},0,0,0,74.724999999999994,50,0,6,17055.074725720002,1233.6975602,18419.497285919999]
[{"$f":"'Obligacje skarbowe_podmiot'!A70","v":"2019-09-30"},0,0,0,74.724999999999994,50,0,6,17127.968865399998,1257.096489,18515.790354399996]
[{"$f":"'Obligacje skarbowe_podmiot'!A71","v":"2019-10-31"},0,0,0,83.635000000000005,0,0,6,17248.533865400001,1309.9464889999999,18648.115354399997]
[{"$f":"'Obligacje skarbowe_podmiot'!A72","v":"2019-11-30"},0,0,0,87.061000000000007,0,0,6,16465.248865400001,1309.9464889999999,17868.2563544]
[{"$f":"'Obligacje skarbowe_podmiot'!A73","v":"2019-12-31"},0,0,0,50.542999999999999,0,0,6,16502.745238920001,1309.9851222,17869.273361120002]
[{"$f":"'Obligacje skarbowe_podmiot'!A74","v":"2020-01-31"},0,0,0,20.57,0,0,6,16884.37897224,1310.0057484000001,18220.954720639998]
[{"$f":"'Obligacje skarbowe_podmiot'!A75","v":"2020-02-29"},0,0,0,24.97,0,0,6,16637.869297540001,1402.4055339000001,18071.244831440003]
[{"$f":"'Obligacje skarbowe_podmiot'!A76","v":"2020-03-31"},0,0,0,24.97,0,0,6,17129.817999999999,1245.5474792999998,18406.3354793]
[{"$f":"'Obligacje skarbowe_podmiot'!A77","v":"2020-04-30"},0,0,0,14.97,0,0,6,17044.555,1151.6342079000001,18217.1592079]
[{"$f":"'Obligacje skarbowe_podmiot'!A78","v":"2020-05-31"},0,0,0,14.97,0,0,6,18800.72,1215.6629514000001,20037.352951400004]
[{"$f":"'Obligacje skarbowe_podmiot'!A79","v":"2020-06-30"},0,0,0,14.97,0,0,6,18781.518,1068.3600724999999,19870.848072500001]
[{"$f":"'Obligacje skarbowe_podmiot'!A80","v":"2020-07-31"},0,0,0,14.97,0,0,6,18075.169999999998,868.47400000000005,18964.613999999998]
[{"$f":"'Obligacje skarbowe_podmiot'!A81","v":"2020-08-31"},0,0,0,14.97,0,0,6,17640.217000000001,868.47400000000005,18529.661]
[{"$f":"'Obligacje skarbowe_podmiot'!A82","v":"2020-09-30"},0,0,0,20.56,0,0,6,18112.725999999999,877.17399999999998,19016.46]
[{"$f":"'Obligacje skarbowe_podmiot'!A83","v":"2020-10-31"},0,0,0,20.56,0,0,6,18031.996999999999,811.16499999999996,18869.722000000002]
[{"$f":"'Obligacje skarbowe_podmiot'!A84","v":"2020-11-30"},0,0,0,20.56,0,0,6,18073.528999999999,840.29100000000005,18940.38]
[{"$f":"'Obligacje skarbowe_podmiot'!A85","v":"2020-12-31"},0,0,0,23.63,0,0,6,18328.454000000002,718.68700000000001,19076.771000000004]
[{"$f":"'Obligacje skarbowe_podmiot'!A86","v":"2021-01-31"},0,0,0,23.63,0,0,6,18341.545999999998,781.48500000000001,19152.661]
[{"$f":"'Obligacje skarbowe_podmiot'!A87","v":"2021-02-28"},0,0,0,23.63,0,0,6,18590.046999999999,623.16499999999996,19242.842000000001]
[{"$f":"'Obligacje skarbowe_podmiot'!A88","v":"2021-03-31"},0,0,0,23.63,0,0,6,16078.485000000001,750.64,16858.755000000001]
[{"$f":"'Obligacje skarbowe_podmiot'!A89","v":"2021-04-30"},0,0,0,23.63,0,0,6,14931.853999999999,775.78499999999997,15737.268999999998]
[{"$f":"'Obligacje skarbowe_podmiot'!A90","v":"2021-05-31"},0,0,0,13.93,0,0,6,14937.272999999999,605.66899999999998,15562.871999999999]
[{"$f":"'Obligacje skarbowe_podmiot'!A91","v":"2021-06-30"},0,0,0,13.93,0,0,6,15398.947,617.35400000000004,16036.231]
[{"$f":"'Obligacje skarbowe_podmiot'!A92","v":"2021-07-31"},0,0,0,13.93,0,0,6,15319.377,796.01700000000005,16135.324000000001]
[{"$f":"'Obligacje skarbowe_podmiot'!A93","v":"2021-08-31"},0,0,0,13.93,0,0,6,15703.601000000001,642.58900000000006,16366.12]
[{"$f":"'Obligacje skarbowe_podmiot'!A94","v":"2021-09-30"},0,0,0,13.93,0,0,6,15225.826999999999,490.00599999999997,15735.762999999999]
[{"$f":"'Obligacje skarbowe_podmiot'!A95","v":"2021-10-31"},0,0,0,13.93,0,0,6,15050.027,480.79599999999999,15550.753000000001]
[{"$f":"'Obligacje skarbowe_podmiot'!A96","v":"2021-11-30"},0,0,0,13.93,0,0,6,15213.337,468.08300000000003,15701.35]
[{"$f":"'Obligacje skarbowe_podmiot'!A97","v":"2021-12-31"},0,0,0,17.329999999999998,0,0,12,16979.202000000001,554.71,17563.242000000002]
[{"$f":"'Obligacje skarbowe_podmiot'!A98","v":"2022-01-31"},0,0,0,17.329999999999998,0,0,12,16970.577000000001,545.06799999999998,17544.975000000002]
[{"$f":"'Obligacje skarbowe_podmiot'!A99","v":"2022-02-28"},0,0,0,23.89,0,0,12,17106.491999999998,542.66800000000001,17685.05]
[{"$f":"'Obligacje skarbowe_podmiot'!A100","v":"2022-03-31"},0,0,0,25.85,0,0,12,16735.400000000001,926.70799999999997,17699.957999999999]
[{"$f":"'Obligacje skarbowe_podmiot'!A101","v":"2022-04-30"},0,0,0,30.06,0,0,6,17104.489000000001,1453.242,18593.791000000001]
[{"$f":"'Obligacje skarbowe_podmiot'!A102","v":"2022-05-31"},0,0,0,34.340000000000003,0,0,6,17681.044000000002,2195.8870000000002,19917.271000000001]
[{"$f":"'Obligacje skarbowe_podmiot'!A103","v":"2022-06-30"},0,0,0,34.340000000000003,0,0,6,17879.506000000001,2393.4839999999999,20313.330000000002]
[{"$f":"'Obligacje skarbowe_podmiot'!A104","v":"2022-07-31"},0,0,0,21.61,0,0,6,17403.707999999999,2269.527,19700.845000000001]
[{"$f":"'Obligacje skarbowe_podmiot'!A105","v":"2022-08-31"},0,0,0,21.61,0,0,6,18504.920999999998,2486.5659999999998,21019.096999999998]
[{"$f":"'Obligacje skarbowe_podmiot'!A106","v":"2022-09-30"},0,0,0,7.35,1.35,0,6,18489.778999999999,2291.9180000000001,20796.397000000001]
[{"$f":"'Obligacje skarbowe_podmiot'!A107","v":"2022-10-31"},0,0,0,7.35,1.35,0,6,18409.143,2490.808,20914.651000000002]
[{"$f":"'Obligacje skarbowe_podmiot'!A108","v":"2022-11-30"},0,0,0,7.35,1.35,0,6,19311.757000000001,2650.212,21976.669000000002]
[{"$f":"'Obligacje skarbowe_podmiot'!A109","v":"2022-12-31"},0,0,0,4.28,1.35,0,6,19520.853999999999,2682.9079999999999,22215.392]
[{"$f":"'Obligacje skarbowe_podmiot'!A110","v":"2023-01-31"},0,0,0,4.28,1.99,0,3,18325.41,3058.9409999999998,21393.620999999999]
[{"$f":"'Obligacje skarbowe_podmiot'!A111","v":"2023-02-28"},0,0,0,0,1.35,0,3,17328.358,2992.3040000000001,20325.011999999999]
[{"$f":"'Obligacje skarbowe_podmiot'!A112","v":"2023-03-31"},0,0,0,0,1.35,0,3,16286.605,2999.7190000000001,19290.673999999999]
[{"$f":"'Obligacje skarbowe_podmiot'!A113","v":"2023-04-30"},0,0,0,0,1.35,0,3,15939.735000000001,3043.5940000000001,18987.679]
[{"$f":"'Obligacje skarbowe_podmiot'!A114","v":"2023-05-31"},0,0,0,0,1.35,0,3,16114.764999999999,2748.3290000000002,18867.444]
[{"$f":"'Obligacje skarbowe_podmiot'!A115","v":"2023-06-30"},0,0,0,0,1.35,0,6,17160.721000000001,2842.998,20011.069]
[{"$f":"'Obligacje skarbowe_podmiot'!A116","v":"2023-07-31"},0,0,0,0,1.35,0,6,16800.716,2742.8850000000002,19550.951000000001]
[{"$f":"'Obligacje skarbowe_podmiot'!A117","v":"2023-08-31"},0,0,0,0,1.35,0,6,16606.686000000002,2814.8939999999998,19428.93]
[{"$f":"'Obligacje skarbowe_podmiot'!A118","v":"2023-09-30"},0,0,0,0,1.35,0,6,15322.724,2760.163,18090.237000000001]
[{"$f":"'Obligacje skarbowe_podmiot'!A119","v":"2023-10-31"},0,0,0,0,1.35,0,6,15235.709000000001,2649.6529999999998,17892.712]
[{"$f":"'Obligacje skarbowe_podmiot'!A120","v":"2023-11-30"},0,0,0,0,1.35,0,6,15566.38,2806.7620000000002,18380.491999999998]
[{"$f":"'Obligacje skarbowe_podmiot'!A121","v":"2023-12-31"},0,0,0,0,1.35,0,6,15819.965,2844.848,18672.163]
[{"$f":"'Obligacje skarbowe_podmiot'!A122","v":"2024-01-31"},0,0,0,0,1.35,0,6,15983.698,2832.895,18823.942999999999]
[{"$f":"'Obligacje skarbowe_podmiot'!A123","v":"2024-02-29"},0,0,0,0,1.35,0,6,16940.63,2672.2660000000001,19620.245999999999]
[{"$f":"'Obligacje skarbowe_podmiot'!A124","v":"2024-03-31"},0,0,0,0,1.35,0,6,15623.18,2696.326,18326.856]
[{"$f":"'Obligacje skarbowe_podmiot'!A125","v":"2024-04-30"},0,0,0,0,1.35,0,6,17783.36,2696.326,20487.036]
[{"$f":"'Obligacje skarbowe_podmiot'!A126","v":"2024-05-31"},0,0,0,24.96,1.35,0,6,17683.401999999998,2506.0329999999999,20221.744999999999]
[{"$f":"'Obligacje skarbowe_podmiot'!A127","v":"2024-06-30"},0,0,0,24.96,1.35,0,6,18970.244999999999,2411.8580000000002,21414.413]
[{"$f":"'Obligacje skarbowe_podmiot'!A128","v":"2024-07-31"},0,0,0,24.96,1.35,0,6,19156.303,2384.9589999999998,21573.572]
["2024-08-31",0,0,0,35.56,1.35,0,6,20268.942999999999,1994.502,22306.355]
["2024-09-30",0,0,0,35.56,2.2000000000000002,0,6,20495.31897,1805.201,22344.27997]
["2024-10-31",0,0,0,35.56,2.2000000000000002,0,3,19988.126992000001,2397.8679999999999,22426.754991999998]
["2024-11-30",0,0,0,24.96,2.2000000000000002,0,6,20353.207470000001,2591.4699999999998,22977.837470000002]
["2024-12-31",0,0,0,24.96,2.2000000000000002,0,6,20694.578649999999,2505.9690000000001,23233.70765]
["2025-01-31",0,0,0,24.96,2.2000000000000002,0,6,19143.503497999998,2634.3580000000002,21811.021497999998]
["2025-02-28",0,0,0,27.59,2.2000000000000002,0,6,19146.602024,2372.6460000000002,21555.038024000001]
["2025-03-31",0,0,0,27.59,2.2000000000000002,0,6,19439.256227999998,2168.2440000000001,21643.290227999998]

{"sheet":"Bony skarbowe_banki centr.","index":8,"n_rows":136,"n_cols":11,"rows_kept":136,"cut":false,"hidden":false,"merged":[[2,9,3,9],[2,10,3,10],[0,0,1,10],[2,0,3,0],[2,1,3,1],[2,2,3,2],[2,3,3,3],[2,4,3,4],[2,5,3,5],[2,6,3,6],[2,7,3,7],[2,8,3,8]]}
["Portfele bonów skarbowych w bankach centralnych po regionach (mln zł)"]
[]
["Data","Europa - kraje strefy euro","Europa - kraje UE spoza strefy euro","Europa - kraje spoza UE","Afryka","Ameryka Południowa (w tym Karaiby)","Ameryka Północna","Australia i Oceania","Azja (bez Bliskiego Wschodu)","Bliski Wschód","Razem"]
[]
["2014-04-30",0,0,0,0,0,0,0,0,0,{"$f":"SUM(B5:J5)","v":0}]
[{"$f":"'Obligacje skarbowe_banki centr.'!A6","v":"2014-05-31"},0,0,0,0,0,0,0,0,0,0]
[{"$f":"'Obligacje skarbowe_banki centr.'!A7","v":"2014-06-30"},0,0,0,0,0,0,0,0,0,0]
[{"$f":"'Obligacje skarbowe_banki centr.'!A8","v":"2014-07-31"},0,0,0,0,0,0,0,0,0,0]
[{"$f":"'Obligacje skarbowe_banki centr.'!A9","v":"2014-08-31"},0,0,0,0,0,0,0,0,0,0]
[{"$f":"'Obligacje skarbowe_banki centr.'!A10","v":"2014-09-30"},0,0,0,0,0,0,0,0,0,0]
[{"$f":"'Obligacje skarbowe_banki centr.'!A11","v":"2014-10-31"},0,0,0,0,0,0,0,0,0,{"$f":"SUM(B11:J11)","v":0}]
[{"$f":"'Obligacje skarbowe_banki centr.'!A12","v":"2014-11-30"},0,0,0,0,0,0,0,0,0,{"$f":"SUM(B12:J12)","v":0}]
[{"$f":"'Obligacje skarbowe_banki centr.'!A13","v":"2014-12-31"},0,0,0,0,0,0,0,0,0,{"$f":"SUM(B13:J13)","v":0}]
[{"$f":"'Obligacje skarbowe_banki centr.'!A14","v":"2015-01-31"},0,0,0,0,0,0,0,0,0,{"$f":"SUM(B14:J14)","v":0}]
[{"$f":"'Obligacje skarbowe_banki centr.'!A15","v":"2015-02-28"},0,0,0,0,0,0,0,0,0,{"$f":"SUM(B15:J15)","v":0}]
[{"$f":"'Obligacje skarbowe_banki centr.'!A16","v":"2015-03-31"},0,0,0,0,0,0,0,0,0,{"$f":"SUM(B16:J16)","v":0}]
[{"$f":"'Obligacje skarbowe_banki centr.'!A17","v":"2015-04-30"},0,0,0,0,0,0,0,0,0,{"$f":"SUM(B17:J17)","v":0}]
[{"$f":"'Obligacje skarbowe_banki centr.'!A18","v":"2015-05-31"},0,0,0,0,0,0,0,0,0,{"$f":"SUM(B18:J18)","v":0}]
[{"$f":"'Obligacje skarbowe_banki centr.'!A19","v":"2015-06-30"},0,0,0,0,0,0,0,0,0,{"$f":"SUM(B19:J19)","v":0}]
[{"$f":"'Obligacje skarbowe_banki centr.'!A20","v":"2015-07-31"},0,0,0,0,0,0,0,0,0,0]
[{"$f":"'Obligacje skarbowe_banki centr.'!A21","v":"2015-08-31"},0,0,0,0,0,0,0,0,0,{"$f":"SUM(B21:J21)","v":0}]
[{"$f":"'Obligacje skarbowe_banki centr.'!A22","v":"2015-09-30"},0,0,0,0,0,0,0,0,0,{"$f":"SUM(B22:J22)","v":0}]
[{"$f":"'Obligacje skarbowe_banki centr.'!A23","v":"2015-10-31"},0,0,0,0,0,0,0,0,0,{"$f":"SUM(B23:J23)","v":0}]
[{"$f":"'Obligacje skarbowe_banki centr.'!A24","v":"2015-11-30"},0,0,0,0,0,0,0,0,0,{"$f":"SUM(B24:J24)","v":0}]
[{"$f":"'Obligacje skarbowe_banki centr.'!A25","v":"2015-12-31"},0,0,0,0,0,0,0,0,0,{"$f":"SUM(B25:J25)","v":0}]
[{"$f":"'Obligacje skarbowe_banki centr.'!A26","v":"2016-01-31"},0,0,0,0,0,0,0,0,0,{"$f":"SUM(B26:J26)","v":0}]
[{"$f":"'Obligacje skarbowe_banki centr.'!A27","v":"2016-02-29"},0,0,0,0,0,0,0,0,0,{"$f":"SUM(B27:J27)","v":0}]
[{"$f":"'Obligacje skarbowe_banki centr.'!A28","v":"2016-03-31"},0,0,0,0,0,0,0,0,0,{"$f":"SUM(B28:J28)","v":0}]
[{"$f":"'Obligacje skarbowe_banki centr.'!A29","v":"2016-04-30"},0,0,0,0,0,0,0,0,0,{"$f":"SUM(B29:J29)","v":0}]
[{"$f":"'Obligacje skarbowe_banki centr.'!A30","v":"2016-05-31"},0,0,0,0,0,0,0,0,0,{"$f":"SUM(B30:J30)","v":0}]
[{"$f":"'Obligacje skarbowe_banki centr.'!A31","v":"2016-06-30"},0,0,0,0,0,0,0,0,0,{"$f":"SUM(B31:J31)","v":0}]
[{"$f":"'Obligacje skarbowe_banki centr.'!A32","v":"2016-07-31"},0,0,0,0,0,0,0,0,0,0]
[{"$f":"'Obligacje skarbowe_banki centr.'!A33","v":"2016-08-31"},0,0,0,0,0,0,0,0,0,{"$f":"SUM(B33:J33)","v":0}]
[{"$f":"'Obligacje skarbowe_banki centr.'!A34","v":"2016-09-30"},0,0,0,0,0,0,0,0,0,{"$f":"SUM(B34:J34)","v":0}]
[{"$f":"'Obligacje skarbowe_banki centr.'!A35","v":"2016-10-31"},0,0,0,0,0,0,0,0,0,{"$f":"SUM(B35:J35)","v":0}]
[{"$f":"'Obligacje skarbowe_banki centr.'!A36","v":"2016-11-30"},0,0,0,0,0,0,0,0,0,{"$f":"SUM(B36:J36)","v":0}]
[{"$f":"'Obligacje skarbowe_banki centr.'!A37","v":"2016-12-31"},0,0,0,0,0,0,0,0,0,{"$f":"SUM(B37:J37)","v":0}]
[{"$f":"'Obligacje skarbowe_banki centr.'!A38","v":"2017-01-31"},0,0,0,0,0,0,0,0,0,{"$f":"SUM(B38:J38)","v":0}]
[{"$f":"'Obligacje skarbowe_banki centr.'!A39","v":"2017-02-28"},0,0,0,0,0,0,0,0,0,{"$f":"SUM(B39:J39)","v":0}]
[{"$f":"'Obligacje skarbowe_banki centr.'!A40","v":"2017-03-31"},0,0,0,0,0,0,0,0,0,{"$f":"SUM(B40:J40)","v":0}]
[{"$f":"'Obligacje skarbowe_banki centr.'!A41","v":"2017-04-30"},0,0,0,0,0,0,0,0,0,{"$f":"SUM(B41:J41)","v":0}]
[{"$f":"'Obligacje skarbowe_banki centr.'!A42","v":"2017-05-31"},0,0,0,0,0,0,0,0,0,{"$f":"SUM(B42:J42)","v":0}]
[{"$f":"'Obligacje skarbowe_banki centr.'!A43","v":"2017-06-30"},0,0,0,0,0,0,0,0,0,{"$f":"SUM(B43:J43)","v":0}]
[{"$f":"'Obligacje skarbowe_banki centr.'!A44","v":"2017-07-31"},0,0,0,0,0,0,0,0,0,{"$f":"SUM(B44:J44)","v":0}]
[{"$f":"'Obligacje skarbowe_banki centr.'!A45","v":"2017-08-31"},0,0,0,0,0,0,0,0,0,{"$f":"SUM(B45:J45)","v":0}]
[{"$f":"'Obligacje skarbowe_banki centr.'!A46","v":"2017-09-30"},0,0,0,0,0,0,0,0,0,{"$f":"SUM(B46:J46)","v":0}]
[{"$f":"'Obligacje skarbowe_banki centr.'!A47","v":"2017-10-31"},0,0,0,0,0,0,0,0,0,{"$f":"SUM(B47:J47)","v":0}]
[{"$f":"'Obligacje skarbowe_banki centr.'!A48","v":"2017-11-30"},0,0,0,0,0,0,0,0,0,{"$f":"SUM(B48:J48)","v":0}]
[{"$f":"'Obligacje skarbowe_banki centr.'!A49","v":"2017-12-31"},0,0,0,0,0,0,0,0,0,{"$f":"SUM(B49:J49)","v":0}]
[{"$f":"'Obligacje skarbowe_banki centr.'!A50","v":"2018-01-31"},0,0,0,0,0,0,0,0,0,{"$f":"SUM(B50:J50)","v":0}]
[{"$f":"'Obligacje skarbowe_banki centr.'!A51","v":"2018-02-28"},0,0,0,0,0,0,0,0,0,{"$f":"SUM(B51:J51)","v":0}]
[{"$f":"'Obligacje skarbowe_banki centr.'!A52","v":"2018-03-31"},0,0,0,0,0,0,0,0,0,{"$f":"SUM(B52:J52)","v":0}]
[{"$f":"'Obligacje skarbowe_banki centr.'!A53","v":"2018-04-30"},0,0,0,0,0,0,0,0,0,{"$f":"SUM(B53:J53)","v":0}]
[{"$f":"'Obligacje skarbowe_banki centr.'!A54","v":"2018-05-31"},0,0,0,0,0,0,0,0,0,{"$f":"SUM(B54:J54)","v":0}]
[{"$f":"'Obligacje skarbowe_banki centr.'!A55","v":"2018-06-30"},0,0,0,0,0,0,0,0,0,{"$f":"SUM(B55:J55)","v":0}]
[{"$f":"'Obligacje skarbowe_banki centr.'!A56","v":"2018-07-31"},0,0,0,0,0,0,0,0,0,{"$f":"SUM(B56:J56)","v":0}]
[{"$f":"'Obligacje skarbowe_banki centr.'!A57","v":"2018-08-31"},0,0,0,0,0,0,0,0,0,{"$f":"SUM(B57:J57)","v":0}]
[{"$f":"'Obligacje skarbowe_banki centr.'!A58","v":"2018-09-30"},0,0,0,0,0,0,0,0,0,{"$f":"SUM(B58:J58)","v":0}]
[{"$f":"'Obligacje skarbowe_banki centr.'!A59","v":"2018-10-31"},0,0,0,0,0,0,0,0,0,{"$f":"SUM(B59:J59)","v":0}]
[{"$f":"'Obligacje skarbowe_banki centr.'!A60","v":"2018-11-30"},0,0,0,0,0,0,0,0,0,{"$f":"SUM(B60:J60)","v":0}]
[{"$f":"'Obligacje skarbowe_banki centr.'!A61","v":"2018-12-31"},0,0,0,0,0,0,0,0,0,{"$f":"SUM(B61:J61)","v":0}]
[{"$f":"'Obligacje skarbowe_banki centr.'!A62","v":"2019-01-31"},0,0,0,0,0,0,0,0,0,{"$f":"SUM(B62:J62)","v":0}]
[{"$f":"'Obligacje skarbowe_banki centr.'!A63","v":"2019-02-28"},0,0,0,0,0,0,0,0,0,{"$f":"SUM(B63:J63)","v":0}]
[{"$f":"'Obligacje skarbowe_banki centr.'!A64","v":"2019-03-31"},0,0,0,0,0,0,0,0,0,{"$f":"SUM(B64:J64)","v":0}]
[{"$f":"'Obligacje skarbowe_banki centr.'!A65","v":"2019-04-30"},0,0,0,0,0,0,0,0,0,0]
[{"$f":"'Obligacje skarbowe_banki centr.'!A66","v":"2019-05-31"},0,0,0,0,0,0,0,0,0,0]
[{"$f":"'Obligacje skarbowe_banki centr.'!A67","v":"2019-06-30"},0,0,0,0,0,0,0,0,0,0]
[{"$f":"'Obligacje skarbowe_banki centr.'!A68","v":"2019-07-31"},0,0,0,0,0,0,0,0,0,0]
[{"$f":"'Obligacje skarbowe_banki centr.'!A69","v":"2019-08-31"},0,0,0,0,0,0,0,0,0,0]
[{"$f":"'Obligacje skarbowe_banki centr.'!A70","v":"2019-09-30"},0,0,0,0,0,0,0,0,0,0]
[{"$f":"'Obligacje skarbowe_banki centr.'!A71","v":"2019-10-31"},0,0,0,0,0,0,0,0,0,0]
[{"$f":"'Obligacje skarbowe_banki centr.'!A72","v":"2019-11-30"},0,0,0,0,0,0,0,0,0,0]
[{"$f":"'Obligacje skarbowe_banki centr.'!A73","v":"2019-12-31"},0,0,0,0,0,0,0,0,0,0]
[{"$f":"'Obligacje skarbowe_banki centr.'!A74","v":"2020-01-31"},0,0,0,0,0,0,0,0,0,0]
[{"$f":"'Obligacje skarbowe_banki centr.'!A75","v":"2020-02-29"},0,0,0,0,0,0,0,0,0,0]
[{"$f":"'Obligacje skarbowe_banki centr.'!A76","v":"2020-03-31"},0,0,0,0,0,0,0,0,0,0]
[{"$f":"'Obligacje skarbowe_banki centr.'!A77","v":"2020-04-30"},0,0,0,0,0,0,0,0,0,0]
[{"$f":"'Obligacje skarbowe_banki centr.'!A78","v":"2020-05-31"},0,0,0,0,0,0,0,0,0,0]
[{"$f":"'Obligacje skarbowe_banki centr.'!A79","v":"2020-06-30"},0,0,0,0,0,0,0,0,0,0]
[{"$f":"'Obligacje skarbowe_banki centr.'!A80","v":"2020-07-31"},0,0,0,0,0,0,0,0,0,0]
[{"$f":"'Obligacje skarbowe_banki centr.'!A81","v":"2020-08-31"},0,0,0,0,0,0,0,0,0,0]
[{"$f":"'Obligacje skarbowe_banki centr.'!A82","v":"2020-09-30"},0,0,0,0,0,0,0,0,0,0]
[{"$f":"'Obligacje skarbowe_banki centr.'!A83","v":"2020-10-31"},0,0,0,0,0,0,0,0,0,0]
[{"$f":"'Obligacje skarbowe_banki centr.'!A84","v":"2020-11-30"},0,0,0,0,0,0,0,0,0,0]
[{"$f":"'Obligacje skarbowe_banki centr.'!A85","v":"2020-12-31"},0,0,0,0,0,0,0,0,0,0]
[{"$f":"'Obligacje skarbowe_banki centr.'!A86","v":"2021-01-31"},0,0,0,0,0,0,0,0,0,0]
[{"$f":"'Obligacje skarbowe_banki centr.'!A87","v":"2021-02-28"},0,0,0,0,0,0,0,0,0,0]
[{"$f":"'Obligacje skarbowe_banki centr.'!A88","v":"2021-03-31"},0,0,0,0,0,0,0,0,0,0]
[{"$f":"'Obligacje skarbowe_banki centr.'!A89","v":"2021-04-30"},0,0,0,0,0,0,0,0,0,0]
[{"$f":"'Obligacje skarbowe_banki centr.'!A90","v":"2021-05-31"},0,0,0,0,0,0,0,0,0,0]
[{"$f":"'Obligacje skarbowe_banki centr.'!A91","v":"2021-06-30"},0,0,0,0,0,0,0,0,0,0]
[{"$f":"'Obligacje skarbowe_banki centr.'!A92","v":"2021-07-31"},0,0,0,0,0,0,0,0,0,0]
[{"$f":"'Obligacje skarbowe_banki centr.'!A93","v":"2021-08-31"},0,0,0,0,0,0,0,0,0,0]
[{"$f":"'Obligacje skarbowe_banki centr.'!A94","v":"2021-09-30"},0,0,0,0,0,0,0,0,0,0]
[{"$f":"'Obligacje skarbowe_banki centr.'!A95","v":"2021-10-31"},0,0,0,0,0,0,0,0,0,0]
[{"$f":"'Obligacje skarbowe_banki centr.'!A96","v":"2021-11-30"},0,0,0,0,0,0,0,0,0,0]
[{"$f":"'Obligacje skarbowe_banki centr.'!A97","v":"2021-12-31"},0,0,0,0,0,0,0,0,0,0]
[{"$f":"'Obligacje skarbowe_banki centr.'!A98","v":"2022-01-31"},0,0,0,0,0,0,0,0,0,0]
[{"$f":"'Obligacje skarbowe_banki centr.'!A99","v":"2022-02-28"},0,0,0,0,0,0,0,0,0,0]
[{"$f":"'Obligacje skarbowe_banki centr.'!A100","v":"2022-03-31"},0,0,0,0,0,0,0,0,0,0]
[{"$f":"'Obligacje skarbowe_banki centr.'!A101","v":"2022-04-30"},0,0,0,0,0,0,0,0,0,0]
[{"$f":"'Obligacje skarbowe_banki centr.'!A102","v":"2022-05-31"},0,0,0,0,0,0,0,0,0,0]
[{"$f":"'Obligacje skarbowe_banki centr.'!A103","v":"2022-06-30"},0,0,0,0,0,0,0,0,0,0]
[{"$f":"'Obligacje skarbowe_banki centr.'!A104","v":"2022-07-31"},0,0,0,0,0,0,0,0,0,0]
[{"$f":"'Obligacje skarbowe_banki centr.'!A105","v":"2022-08-31"},0,0,0,0,0,0,0,0,0,0]
[{"$f":"'Obligacje skarbowe_banki centr.'!A106","v":"2022-09-30"},0,0,0,0,0,0,0,0,0,0]
[{"$f":"'Obligacje skarbowe_banki centr.'!A107","v":"2022-10-31"},0,0,0,0,0,0,0,0,0,0]
[{"$f":"'Obligacje skarbowe_banki centr.'!A108","v":"2022-11-30"},0,0,0,0,0,0,0,0,0,0]
[{"$f":"'Obligacje skarbowe_banki centr.'!A109","v":"2022-12-31"},0,0,0,0,0,0,0,0,0,0]
[{"$f":"'Obligacje skarbowe_banki centr.'!A110","v":"2023-01-31"},0,0,0,0,0,0,0,0,0,0]
[{"$f":"'Obligacje skarbowe_banki centr.'!A111","v":"2023-02-28"},0,0,0,0,0,0,0,0,0,0]
[{"$f":"'Obligacje skarbowe_banki centr.'!A112","v":"2023-03-31"},0,0,0,0,0,0,0,0,0,0]
[{"$f":"'Obligacje skarbowe_banki centr.'!A113","v":"2023-04-30"},0,0,0,0,0,0,0,0,0,0]
[{"$f":"'Obligacje skarbowe_banki centr.'!A114","v":"2023-05-31"},0,0,0,0,0,0,0,0,0,0]
[{"$f":"'Obligacje skarbowe_banki centr.'!A115","v":"2023-06-30"},0,0,0,0,0,0,0,0,0,0]
[{"$f":"'Obligacje skarbowe_banki centr.'!A116","v":"2023-07-31"},0,0,0,0,0,0,0,0,0,0]
[{"$f":"'Obligacje skarbowe_banki centr.'!A117","v":"2023-08-31"},0,0,0,0,0,0,0,0,0,0]
[{"$f":"'Obligacje skarbowe_banki centr.'!A118","v":"2023-09-30"},0,0,0,0,0,0,0,0,0,0]
[{"$f":"'Obligacje skarbowe_banki centr.'!A119","v":"2023-10-31"},0,0,0,0,0,0,0,0,0,0]
[{"$f":"'Obligacje skarbowe_banki centr.'!A120","v":"2023-11-30"},0,0,0,0,0,0,0,0,0,0]
[{"$f":"'Obligacje skarbowe_banki centr.'!A121","v":"2023-12-31"},0,0,0,0,0,0,0,0,0,0]
[{"$f":"'Obligacje skarbowe_banki centr.'!A122","v":"2024-01-31"},0,0,0,0,0,0,0,0,0,0]
[{"$f":"'Obligacje skarbowe_banki centr.'!A123","v":"2024-02-29"},0,0,0,0,0,0,0,0,0,0]
[{"$f":"'Obligacje skarbowe_banki centr.'!A124","v":"2024-03-31"},0,0,0,0,0,0,0,0,0,0]
[{"$f":"'Obligacje skarbowe_banki centr.'!A125","v":"2024-04-30"},0,0,0,0,0,0,0,0,0,0]
[{"$f":"'Obligacje skarbowe_banki centr.'!A126","v":"2024-05-31"},0,0,0,0,0,0,0,0,0,0]
[{"$f":"'Obligacje skarbowe_banki centr.'!A127","v":"2024-06-30"},0,0,0,0,0,0,0,0,0,0]
[{"$f":"'Obligacje skarbowe_banki centr.'!A128","v":"2024-07-31"},0,0,0,0,0,0,0,0,0,0]
["2024-08-31",0,0,0,0,0,0,0,0,0,0]
["2024-09-30",0,0,0,0,0,0,0,0,0,0]
["2024-10-31",0,0,0,0,0,0,0,0,0,0]
["2024-11-30",0,0,0,0,0,0,0,0,0,0]
["2024-12-31",0,0,0,0,0,0,0,0,0,0]
["2025-01-31",0,0,0,0,0,0,0,0,0,0]
["2025-02-28",0,0,0,0,0,0,0,0,0,0]
["2025-03-31",0,0,0,0,0,0,0,0,0,0]

{"sheet":"Razem_banki centr.","index":9,"n_rows":136,"n_cols":11,"rows_kept":136,"cut":false,"hidden":false,"merged":[[2,9,3,9],[2,10,3,10],[0,0,1,10],[2,0,3,0],[2,1,3,1],[2,2,3,2],[2,3,3,3],[2,4,3,4],[2,5,3,5],[2,6,3,6],[2,7,3,7],[2,8,3,8]]}
["Portfele SPW w bankach centralnych po regionach (mln zł)"]
[]
["Data","Europa - kraje strefy euro","Europa - kraje UE spoza strefy euro","Europa - kraje spoza UE","Afryka","Ameryka Południowa (w tym Karaiby)","Ameryka Północna","Australia i Oceania","Azja (bez Bliskiego Wschodu)","Bliski Wschód","Razem"]
[]
["2014-04-30",{"$f":"'Obligacje skarbowe_banki centr.'!B5+'Bony skarbowe_banki centr.'!B5","v":0},{"$f":"'Obligacje skarbowe_banki centr.'!C5+'Bony skarbowe_banki centr.'!C5","v":0.27100000000000002},{"$f":"'Obligacje skarbowe_banki centr.'!D5+'Bony skarbowe_banki centr.'!D5","v":7635.3},{"$f":"'Obligacje skarbowe_banki centr.'!E5+'Bony skarbowe_banki centr.'!E5","v":13.15},{"$f":"'Obligacje skarbowe_banki centr.'!F5+'Bony skarbowe_banki centr.'!F5","v":0},{"$f":"'Obligacje skarbowe_banki centr.'!G5+'Bony skarbowe_banki centr.'!G5","v":0},{"$f":"'Obligacje skarbowe_banki centr.'!H5+'Bony skarbowe_banki centr.'!H5","v":0},{"$f":"'Obligacje skarbowe_banki centr.'!I5+'Bony skarbowe_banki centr.'!I5","v":4969.3988564400006},{"$f":"'Obligacje skarbowe_banki centr.'!J5+'Bony skarbowe_banki centr.'!J5","v":1812.8439197499999},{"$f":"'Obligacje skarbowe_banki centr.'!K5+'Bony skarbowe_banki centr.'!K5","v":14430.963776189999}]
[{"$f":"'Obligacje skarbowe_banki centr.'!A6","v":"2014-05-31"},{"$f":"'Obligacje skarbowe_banki centr.'!B6+'Bony skarbowe_banki centr.'!B6","v":0},{"$f":"'Obligacje skarbowe_banki centr.'!C6+'Bony skarbowe_banki centr.'!C6","v":0},{"$f":"'Obligacje skarbowe_banki centr.'!D6+'Bony skarbowe_banki centr.'!D6","v":7635.3},{"$f":"'Obligacje skarbowe_banki centr.'!E6+'Bony skarbowe_banki centr.'!E6","v":13.15},{"$f":"'Obligacje skarbowe_banki centr.'!F6+'Bony skarbowe_banki centr.'!F6","v":0},{"$f":"'Obligacje skarbowe_banki centr.'!G6+'Bony skarbowe_banki centr.'!G6","v":0},{"$f":"'Obligacje skarbowe_banki centr.'!H6+'Bony skarbowe_banki centr.'!H6","v":0},{"$f":"'Obligacje skarbowe_banki centr.'!I6+'Bony skarbowe_banki centr.'!I6","v":5806.2656303999993},{"$f":"'Obligacje skarbowe_banki centr.'!J6+'Bony skarbowe_banki centr.'!J6","v":3861.83077306},{"$f":"'Obligacje skarbowe_banki centr.'!K6+'Bony skarbowe_banki centr.'!K6","v":17316.546403459997}]
[{"$f":"'Obligacje skarbowe_banki centr.'!A7","v":"2014-06-30"},{"$f":"'Obligacje skarbowe_banki centr.'!B7+'Bony skarbowe_banki centr.'!B7","v":0},{"$f":"'Obligacje skarbowe_banki centr.'!C7+'Bony skarbowe_banki centr.'!C7","v":0},{"$f":"'Obligacje skarbowe_banki centr.'!D7+'Bony skarbowe_banki centr.'!D7","v":7879.3},{"$f":"'Obligacje skarbowe_banki centr.'!E7+'Bony skarbowe_banki centr.'!E7","v":13.15},{"$f":"'Obligacje skarbowe_banki centr.'!F7+'Bony skarbowe_banki centr.'!F7","v":0},{"$f":"'Obligacje skarbowe_banki centr.'!G7+'Bony skarbowe_banki centr.'!G7","v":0},{"$f":"'Obligacje skarbowe_banki centr.'!H7+'Bony skarbowe_banki centr.'!H7","v":0},{"$f":"'Obligacje skarbowe_banki centr.'!I7+'Bony skarbowe_banki centr.'!I7","v":6347.95827138},{"$f":"'Obligacje skarbowe_banki centr.'!J7+'Bony skarbowe_banki centr.'!J7","v":3804.6114868300001},{"$f":"'Obligacje skarbowe_banki centr.'!K7+'Bony skarbowe_banki centr.'!K7","v":18045.019758210001}]
[{"$f":"'Obligacje skarbowe_banki centr.'!A8","v":"2014-07-31"},{"$f":"'Obligacje skarbowe_banki centr.'!B8+'Bony skarbowe_banki centr.'!B8","v":68.734138000000002},{"$f":"'Obligacje skarbowe_banki centr.'!C8+'Bony skarbowe_banki centr.'!C8","v":0},{"$f":"'Obligacje skarbowe_banki centr.'!D8+'Bony skarbowe_banki centr.'!D8","v":7710.3},{"$f":"'Obligacje skarbowe_banki centr.'!E8+'Bony skarbowe_banki centr.'!E8","v":13.15},{"$f":"'Obligacje skarbowe_banki centr.'!F8+'Bony skarbowe_banki centr.'!F8","v":0},{"$f":"'Obligacje skarbowe_banki centr.'!G8+'Bony skarbowe_banki centr.'!G8","v":0},{"$f":"'Obligacje skarbowe_banki centr.'!H8+'Bony skarbowe_banki centr.'!H8","v":0},{"$f":"'Obligacje skarbowe_banki centr.'!I8+'Bony skarbowe_banki centr.'!I8","v":6620.2613706800003},{"$f":"'Obligacje skarbowe_banki centr.'!J8+'Bony skarbowe_banki centr.'!J8","v":3724.31808138},{"$f":"'Obligacje skarbowe_banki centr.'!K8+'Bony skarbowe_banki centr.'!K8","v":18136.76359006}]
[{"$f":"'Obligacje skarbowe_banki centr.'!A9","v":"2014-08-31"},{"$f":"'Obligacje skarbowe_banki centr.'!B9+'Bony skarbowe_banki centr.'!B9","v":64.75},{"$f":"'Obligacje skarbowe_banki centr.'!C9+'Bony skarbowe_banki centr.'!C9","v":0},{"$f":"'Obligacje skarbowe_banki centr.'!D9+'Bony skarbowe_banki centr.'!D9","v":7710.3},{"$f":"'Obligacje skarbowe_banki centr.'!E9+'Bony skarbowe_banki centr.'!E9","v":13.15},{"$f":"'Obligacje skarbowe_banki centr.'!F9+'Bony skarbowe_banki centr.'!F9","v":0},{"$f":"'Obligacje skarbowe_banki centr.'!G9+'Bony skarbowe_banki centr.'!G9","v":0},{"$f":"'Obligacje skarbowe_banki centr.'!H9+'Bony skarbowe_banki centr.'!H9","v":0},{"$f":"'Obligacje skarbowe_banki centr.'!I9+'Bony skarbowe_banki centr.'!I9","v":7058.7891156200003},{"$f":"'Obligacje skarbowe_banki centr.'!J9+'Bony skarbowe_banki centr.'!J9","v":3551.8509363499998},{"$f":"'Obligacje skarbowe_banki centr.'!K9+'Bony skarbowe_banki centr.'!K9","v":18398.840051970001}]
[{"$f":"'Obligacje skarbowe_banki centr.'!A10","v":"2014-09-30"},{"$f":"'Obligacje skarbowe_banki centr.'!B10+'Bony skarbowe_banki centr.'!B10","v":72.349999999999994},{"$f":"'Obligacje skarbowe_banki centr.'!C10+'Bony skarbowe_banki centr.'!C10","v":0},{"$f":"'Obligacje skarbowe_banki centr.'!D10+'Bony skarbowe_banki centr.'!D10","v":7973.3},{"$f":"'Obligacje skarbowe_banki centr.'!E10+'Bony skarbowe_banki centr.'!E10","v":103.15},{"$f":"'Obligacje skarbowe_banki centr.'!F10+'Bony skarbowe_banki centr.'!F10","v":0},{"$f":"'Obligacje skarbowe_banki centr.'!G10+'Bony skarbowe_banki centr.'!G10","v":0},{"$f":"'Obligacje skarbowe_banki centr.'!H10+'Bony skarbowe_banki centr.'!H10","v":0},{"$f":"'Obligacje skarbowe_banki centr.'!I10+'Bony skarbowe_banki centr.'!I10","v":7419.0371740200007},{"$f":"'Obligacje skarbowe_banki centr.'!J10+'Bony skarbowe_banki centr.'!J10","v":3744.54345255},{"$f":"'Obligacje skarbowe_banki centr.'!K10+'Bony skarbowe_banki centr.'!K10","v":19312.38062657}]
[{"$f":"'Obligacje skarbowe_banki centr.'!A11","v":"2014-10-31"},{"$f":"'Obligacje skarbowe_banki centr.'!B11+'Bony skarbowe_banki centr.'!B11","v":77.320971999999998},{"$f":"'Obligacje skarbowe_banki centr.'!C11+'Bony skarbowe_banki centr.'!C11","v":0},{"$f":"'Obligacje skarbowe_banki centr.'!D11+'Bony skarbowe_banki centr.'!D11","v":7973.3},{"$f":"'Obligacje skarbowe_banki centr.'!E11+'Bony skarbowe_banki centr.'!E11","v":103.15},{"$f":"'Obligacje skarbowe_banki centr.'!F11+'Bony skarbowe_banki centr.'!F11","v":0},{"$f":"'Obligacje skarbowe_banki centr.'!G11+'Bony skarbowe_banki centr.'!G11","v":0},{"$f":"'Obligacje skarbowe_banki centr.'!H11+'Bony skarbowe_banki centr.'!H11","v":0},{"$f":"'Obligacje skarbowe_banki centr.'!I11+'Bony skarbowe_banki centr.'!I11","v":9560.2397957799985},{"$f":"'Obligacje skarbowe_banki centr.'!J11+'Bony skarbowe_banki centr.'!J11","v":3428.3339649},{"$f":"'Obligacje skarbowe_banki centr.'!K11+'Bony skarbowe_banki centr.'!K11","v":21142.344732679998}]
[{"$f":"'Obligacje skarbowe_banki centr.'!A12","v":"2014-11-30"},{"$f":"'Obligacje skarbowe_banki centr.'!B12+'Bony skarbowe_banki centr.'!B12","v":77.420327},{"$f":"'Obligacje skarbowe_banki centr.'!C12+'Bony skarbowe_banki centr.'!C12","v":0},{"$f":"'Obligacje skarbowe_banki centr.'!D12+'Bony skarbowe_banki centr.'!D12","v":0},{"$f":"'Obligacje skarbowe_banki centr.'!E12+'Bony skarbowe_banki centr.'!E12","v":103.15},{"$f":"'Obligacje skarbowe_banki centr.'!F12+'Bony skarbowe_banki centr.'!F12","v":0},{"$f":"'Obligacje skarbowe_banki centr.'!G12+'Bony skarbowe_banki centr.'!G12","v":0},{"$f":"'Obligacje skarbowe_banki centr.'!H12+'Bony skarbowe_banki centr.'!H12","v":0},{"$f":"'Obligacje skarbowe_banki centr.'!I12+'Bony skarbowe_banki centr.'!I12","v":11870.97464918},{"$f":"'Obligacje skarbowe_banki centr.'!J12+'Bony skarbowe_banki centr.'!J12","v":3525.3594426000004},{"$f":"'Obligacje skarbowe_banki centr.'!K12+'Bony skarbowe_banki centr.'!K12","v":15576.904418779999}]
[{"$f":"'Obligacje skarbowe_banki centr.'!A13","v":"2014-12-31"},{"$f":"'Obligacje skarbowe_banki centr.'!B13+'Bony skarbowe_banki centr.'!B13","v":72.45},{"$f":"'Obligacje skarbowe_banki centr.'!C13+'Bony skarbowe_banki centr.'!C13","v":0},{"$f":"'Obligacje skarbowe_banki centr.'!D13+'Bony skarbowe_banki centr.'!D13","v":0},{"$f":"'Obligacje skarbowe_banki centr.'!E13+'Bony skarbowe_banki centr.'!E13","v":13.53},{"$f":"'Obligacje skarbowe_banki centr.'!F13+'Bony skarbowe_banki centr.'!F13","v":0},{"$f":"'Obligacje skarbowe_banki centr.'!G13+'Bony skarbowe_banki centr.'!G13","v":0},{"$f":"'Obligacje skarbowe_banki centr.'!H13+'Bony skarbowe_banki centr.'!H13","v":0},{"$f":"'Obligacje skarbowe_banki centr.'!I13+'Bony skarbowe_banki centr.'!I13","v":13297.7121343},{"$f":"'Obligacje skarbowe_banki centr.'!J13+'Bony skarbowe_banki centr.'!J13","v":3028.8759879700001},{"$f":"'Obligacje skarbowe_banki centr.'!K13+'Bony skarbowe_banki centr.'!K13","v":16412.56812227}]
[{"$f":"'Obligacje skarbowe_banki centr.'!A14","v":"2015-01-31"},{"$f":"'Obligacje skarbowe_banki centr.'!B14+'Bony skarbowe_banki centr.'!B14","v":72.75},{"$f":"'Obligacje skarbowe_banki centr.'!C14+'Bony skarbowe_banki centr.'!C14","v":0},{"$f":"'Obligacje skarbowe_banki centr.'!D14+'Bony skarbowe_banki centr.'!D14","v":0},{"$f":"'Obligacje skarbowe_banki centr.'!E14+'Bony skarbowe_banki centr.'!E14","v":13.53},{"$f":"'Obligacje skarbowe_banki centr.'!F14+'Bony skarbowe_banki centr.'!F14","v":0},{"$f":"'Obligacje skarbowe_banki centr.'!G14+'Bony skarbowe_banki centr.'!G14","v":0},{"$f":"'Obligacje skarbowe_banki centr.'!H14+'Bony skarbowe_banki centr.'!H14","v":0},{"$f":"'Obligacje skarbowe_banki centr.'!I14+'Bony skarbowe_banki centr.'!I14","v":14597.180417399999},{"$f":"'Obligacje skarbowe_banki centr.'!J14+'Bony skarbowe_banki centr.'!J14","v":2717.9001628500005},{"$f":"'Obligacje skarbowe_banki centr.'!K14+'Bony skarbowe_banki centr.'!K14","v":17401.360580249999}]
[{"$f":"'Obligacje skarbowe_banki centr.'!A15","v":"2015-02-28"},{"$f":"'Obligacje skarbowe_banki centr.'!B15+'Bony skarbowe_banki centr.'!B15","v":72.75},{"$f":"'Obligacje skarbowe_banki centr.'!C15+'Bony skarbowe_banki centr.'!C15","v":0},{"$f":"'Obligacje skarbowe_banki centr.'!D15+'Bony skarbowe_banki centr.'!D15","v":0},{"$f":"'Obligacje skarbowe_banki centr.'!E15+'Bony skarbowe_banki centr.'!E15","v":13.53},{"$f":"'Obligacje skarbowe_banki centr.'!F15+'Bony skarbowe_banki centr.'!F15","v":0},{"$f":"'Obligacje skarbowe_banki centr.'!G15+'Bony skarbowe_banki centr.'!G15","v":0},{"$f":"'Obligacje skarbowe_banki centr.'!H15+'Bony skarbowe_banki centr.'!H15","v":0},{"$f":"'Obligacje skarbowe_banki centr.'!I15+'Bony skarbowe_banki centr.'!I15","v":15563.7996527},{"$f":"'Obligacje skarbowe_banki centr.'!J15+'Bony skarbowe_banki centr.'!J15","v":2874.9985402799998},{"$f":"'Obligacje skarbowe_banki centr.'!K15+'Bony skarbowe_banki centr.'!K15","v":18525.07819298}]
[{"$f":"'Obligacje skarbowe_banki centr.'!A16","v":"2015-03-31"},{"$f":"'Obligacje skarbowe_banki centr.'!B16+'Bony skarbowe_banki centr.'!B16","v":70.55},{"$f":"'Obligacje skarbowe_banki centr.'!C16+'Bony skarbowe_banki centr.'!C16","v":0},{"$f":"'Obligacje skarbowe_banki centr.'!D16+'Bony skarbowe_banki centr.'!D16","v":0},{"$f":"'Obligacje skarbowe_banki centr.'!E16+'Bony skarbowe_banki centr.'!E16","v":13.53},{"$f":"'Obligacje skarbowe_banki centr.'!F16+'Bony skarbowe_banki centr.'!F16","v":0},{"$f":"'Obligacje skarbowe_banki centr.'!G16+'Bony skarbowe_banki centr.'!G16","v":0},{"$f":"'Obligacje skarbowe_banki centr.'!H16+'Bony skarbowe_banki centr.'!H16","v":0},{"$f":"'Obligacje skarbowe_banki centr.'!I16+'Bony skarbowe_banki centr.'!I16","v":17656.498822699999},{"$f":"'Obligacje skarbowe_banki centr.'!J16+'Bony skarbowe_banki centr.'!J16","v":2596.20603437},{"$f":"'Obligacje skarbowe_banki centr.'!K16+'Bony skarbowe_banki centr.'!K16","v":20336.784857070001}]
[{"$f":"'Obligacje skarbowe_banki centr.'!A17","v":"2015-04-30"},{"$f":"'Obligacje skarbowe_banki centr.'!B17+'Bony skarbowe_banki centr.'!B17","v":59.05},{"$f":"'Obligacje skarbowe_banki centr.'!C17+'Bony skarbowe_banki centr.'!C17","v":0},{"$f":"'Obligacje skarbowe_banki centr.'!D17+'Bony skarbowe_banki centr.'!D17","v":0},{"$f":"'Obligacje skarbowe_banki centr.'!E17+'Bony skarbowe_banki centr.'!E17","v":13.53},{"$f":"'Obligacje skarbowe_banki centr.'!F17+'Bony skarbowe_banki centr.'!F17","v":0},{"$f":"'Obligacje skarbowe_banki centr.'!G17+'Bony skarbowe_banki centr.'!G17","v":0},{"$f":"'Obligacje skarbowe_banki centr.'!H17+'Bony skarbowe_banki centr.'!H17","v":0},{"$f":"'Obligacje skarbowe_banki centr.'!I17+'Bony skarbowe_banki centr.'!I17","v":19433.906159599999},{"$f":"'Obligacje skarbowe_banki centr.'!J17+'Bony skarbowe_banki centr.'!J17","v":2705.5539617600002},{"$f":"'Obligacje skarbowe_banki centr.'!K17+'Bony skarbowe_banki centr.'!K17","v":22212.040121360002}]
[{"$f":"'Obligacje skarbowe_banki centr.'!A18","v":"2015-05-31"},{"$f":"'Obligacje skarbowe_banki centr.'!B18+'Bony skarbowe_banki centr.'!B18","v":59.05},{"$f":"'Obligacje skarbowe_banki centr.'!C18+'Bony skarbowe_banki centr.'!C18","v":0},{"$f":"'Obligacje skarbowe_banki centr.'!D18+'Bony skarbowe_banki centr.'!D18","v":0},{"$f":"'Obligacje skarbowe_banki centr.'!E18+'Bony skarbowe_banki centr.'!E18","v":13.53},{"$f":"'Obligacje skarbowe_banki centr.'!F18+'Bony skarbowe_banki centr.'!F18","v":0},{"$f":"'Obligacje skarbowe_banki centr.'!G18+'Bony skarbowe_banki centr.'!G18","v":0},{"$f":"'Obligacje skarbowe_banki centr.'!H18+'Bony skarbowe_banki centr.'!H18","v":0},{"$f":"'Obligacje skarbowe_banki centr.'!I18+'Bony skarbowe_banki centr.'!I18","v":20416.638894800002},{"$f":"'Obligacje skarbowe_banki centr.'!J18+'Bony skarbowe_banki centr.'!J18","v":2582.2194402399996},{"$f":"'Obligacje skarbowe_banki centr.'!K18+'Bony skarbowe_banki centr.'!K18","v":23071.438335040002}]
[{"$f":"'Obligacje skarbowe_banki centr.'!A19","v":"2015-06-30"},{"$f":"'Obligacje skarbowe_banki centr.'!B19+'Bony skarbowe_banki centr.'!B19","v":65.150000000000006},{"$f":"'Obligacje skarbowe_banki centr.'!C19+'Bony skarbowe_banki centr.'!C19","v":0},{"$f":"'Obligacje skarbowe_banki centr.'!D19+'Bony skarbowe_banki centr.'!D19","v":0},{"$f":"'Obligacje skarbowe_banki centr.'!E19+'Bony skarbowe_banki centr.'!E19","v":13.53},{"$f":"'Obligacje skarbowe_banki centr.'!F19+'Bony skarbowe_banki centr.'!F19","v":0},{"$f":"'Obligacje skarbowe_banki centr.'!G19+'Bony skarbowe_banki centr.'!G19","v":0},{"$f":"'Obligacje skarbowe_banki centr.'!H19+'Bony skarbowe_banki centr.'!H19","v":0},{"$f":"'Obligacje skarbowe_banki centr.'!I19+'Bony skarbowe_banki centr.'!I19","v":19668.792232599997},{"$f":"'Obligacje skarbowe_banki centr.'!J19+'Bony skarbowe_banki centr.'!J19","v":2873.7168706000002},{"$f":"'Obligacje skarbowe_banki centr.'!K19+'Bony skarbowe_banki centr.'!K19","v":22621.189103199998}]
[{"$f":"'Obligacje skarbowe_banki centr.'!A20","v":"2015-07-31"},{"$f":"'Obligacje skarbowe_banki centr.'!B20+'Bony skarbowe_banki centr.'!B20","v":53.45},{"$f":"'Obligacje skarbowe_banki centr.'!C20+'Bony skarbowe_banki centr.'!C20","v":0},{"$f":"'Obligacje skarbowe_banki centr.'!D20+'Bony skarbowe_banki centr.'!D20","v":0},{"$f":"'Obligacje skarbowe_banki centr.'!E20+'Bony skarbowe_banki centr.'!E20","v":13.53},{"$f":"'Obligacje skarbowe_banki centr.'!F20+'Bony skarbowe_banki centr.'!F20","v":0},{"$f":"'Obligacje skarbowe_banki centr.'!G20+'Bony skarbowe_banki centr.'!G20","v":0},{"$f":"'Obligacje skarbowe_banki centr.'!H20+'Bony skarbowe_banki centr.'!H20","v":0},{"$f":"'Obligacje skarbowe_banki centr.'!I20+'Bony skarbowe_banki centr.'!I20","v":19827.736965400003},{"$f":"'Obligacje skarbowe_banki centr.'!J20+'Bony skarbowe_banki centr.'!J20","v":2979.4009339600002},{"$f":"'Obligacje skarbowe_banki centr.'!K20+'Bony skarbowe_banki centr.'!K20","v":22874.117899360004}]
[{"$f":"'Obligacje skarbowe_banki centr.'!A21","v":"2015-08-31"},{"$f":"'Obligacje skarbowe_banki centr.'!B21+'Bony skarbowe_banki centr.'!B21","v":53.45},{"$f":"'Obligacje skarbowe_banki centr.'!C21+'Bony skarbowe_banki centr.'!C21","v":0},{"$f":"'Obligacje skarbowe_banki centr.'!D21+'Bony skarbowe_banki centr.'!D21","v":0},{"$f":"'Obligacje skarbowe_banki centr.'!E21+'Bony skarbowe_banki centr.'!E21","v":13.53},{"$f":"'Obligacje skarbowe_banki centr.'!F21+'Bony skarbowe_banki centr.'!F21","v":0},{"$f":"'Obligacje skarbowe_banki centr.'!G21+'Bony skarbowe_banki centr.'!G21","v":0},{"$f":"'Obligacje skarbowe_banki centr.'!H21+'Bony skarbowe_banki centr.'!H21","v":0},{"$f":"'Obligacje skarbowe_banki centr.'!I21+'Bony skarbowe_banki centr.'!I21","v":18143.360965400003},{"$f":"'Obligacje skarbowe_banki centr.'!J21+'Bony skarbowe_banki centr.'!J21","v":2871.4549339599998},{"$f":"'Obligacje skarbowe_banki centr.'!K21+'Bony skarbowe_banki centr.'!K21","v":21081.795899360004}]
[{"$f":"'Obligacje skarbowe_banki centr.'!A22","v":"2015-09-30"},{"$f":"'Obligacje skarbowe_banki centr.'!B22+'Bony skarbowe_banki centr.'!B22","v":55.35},{"$f":"'Obligacje skarbowe_banki centr.'!C22+'Bony skarbowe_banki centr.'!C22","v":0},{"$f":"'Obligacje skarbowe_banki centr.'!D22+'Bony skarbowe_banki centr.'!D22","v":0},{"$f":"'Obligacje skarbowe_banki centr.'!E22+'Bony skarbowe_banki centr.'!E22","v":13.53},{"$f":"'Obligacje skarbowe_banki centr.'!F22+'Bony skarbowe_banki centr.'!F22","v":0},{"$f":"'Obligacje skarbowe_banki centr.'!G22+'Bony skarbowe_banki centr.'!G22","v":0},{"$f":"'Obligacje skarbowe_banki centr.'!H22+'Bony skarbowe_banki centr.'!H22","v":0},{"$f":"'Obligacje skarbowe_banki centr.'!I22+'Bony skarbowe_banki centr.'!I22","v":25131.387616900003},{"$f":"'Obligacje skarbowe_banki centr.'!J22+'Bony skarbowe_banki centr.'!J22","v":3117.98758314},{"$f":"'Obligacje skarbowe_banki centr.'!K22+'Bony skarbowe_banki centr.'!K22","v":28318.255200040003}]
[{"$f":"'Obligacje skarbowe_banki centr.'!A23","v":"2015-10-31"},{"$f":"'Obligacje skarbowe_banki centr.'!B23+'Bony skarbowe_banki centr.'!B23","v":57.15},{"$f":"'Obligacje skarbowe_banki centr.'!C23+'Bony skarbowe_banki centr.'!C23","v":0},{"$f":"'Obligacje skarbowe_banki centr.'!D23+'Bony skarbowe_banki centr.'!D23","v":0},{"$f":"'Obligacje skarbowe_banki centr.'!E23+'Bony skarbowe_banki centr.'!E23","v":12.53},{"$f":"'Obligacje skarbowe_banki centr.'!F23+'Bony skarbowe_banki centr.'!F23","v":0},{"$f":"'Obligacje skarbowe_banki centr.'!G23+'Bony skarbowe_banki centr.'!G23","v":0},{"$f":"'Obligacje skarbowe_banki centr.'!H23+'Bony skarbowe_banki centr.'!H23","v":0},{"$f":"'Obligacje skarbowe_banki centr.'!I23+'Bony skarbowe_banki centr.'!I23","v":25096.212778500001},{"$f":"'Obligacje skarbowe_banki centr.'!J23+'Bony skarbowe_banki centr.'!J23","v":3431.7643902399996},{"$f":"'Obligacje skarbowe_banki centr.'!K23+'Bony skarbowe_banki centr.'!K23","v":28597.657168739999}]
[{"$f":"'Obligacje skarbowe_banki centr.'!A24","v":"2015-11-30"},{"$f":"'Obligacje skarbowe_banki centr.'!B24+'Bony skarbowe_banki centr.'!B24","v":60.15},{"$f":"'Obligacje skarbowe_banki centr.'!C24+'Bony skarbowe_banki centr.'!C24","v":0},{"$f":"'Obligacje skarbowe_banki centr.'!D24+'Bony skarbowe_banki centr.'!D24","v":0},{"$f":"'Obligacje skarbowe_banki centr.'!E24+'Bony skarbowe_banki centr.'!E24","v":10.33},{"$f":"'Obligacje skarbowe_banki centr.'!F24+'Bony skarbowe_banki centr.'!F24","v":0},{"$f":"'Obligacje skarbowe_banki centr.'!G24+'Bony skarbowe_banki centr.'!G24","v":0},{"$f":"'Obligacje skarbowe_banki centr.'!H24+'Bony skarbowe_banki centr.'!H24","v":0},{"$f":"'Obligacje skarbowe_banki centr.'!I24+'Bony skarbowe_banki centr.'!I24","v":25645.2514228},{"$f":"'Obligacje skarbowe_banki centr.'!J24+'Bony skarbowe_banki centr.'!J24","v":3406.3922740200001},{"$f":"'Obligacje skarbowe_banki centr.'!K24+'Bony skarbowe_banki centr.'!K24","v":29122.123696819999}]
[{"$f":"'Obligacje skarbowe_banki centr.'!A25","v":"2015-12-31"},{"$f":"'Obligacje skarbowe_banki centr.'!B25+'Bony skarbowe_banki centr.'!B25","v":64.05},{"$f":"'Obligacje skarbowe_banki centr.'!C25+'Bony skarbowe_banki centr.'!C25","v":0},{"$f":"'Obligacje skarbowe_banki centr.'!D25+'Bony skarbowe_banki centr.'!D25","v":0},{"$f":"'Obligacje skarbowe_banki centr.'!E25+'Bony skarbowe_banki centr.'!E25","v":10.33},{"$f":"'Obligacje skarbowe_banki centr.'!F25+'Bony skarbowe_banki centr.'!F25","v":0},{"$f":"'Obligacje skarbowe_banki centr.'!G25+'Bony skarbowe_banki centr.'!G25","v":0},{"$f":"'Obligacje skarbowe_banki centr.'!H25+'Bony skarbowe_banki centr.'!H25","v":0},{"$f":"'Obligacje skarbowe_banki centr.'!I25+'Bony skarbowe_banki centr.'!I25","v":25986.293175900002},{"$f":"'Obligacje skarbowe_banki centr.'!J25+'Bony skarbowe_banki centr.'!J25","v":4062.0698858599994},{"$f":"'Obligacje skarbowe_banki centr.'!K25+'Bony skarbowe_banki centr.'!K25","v":30122.743061760004}]
[{"$f":"'Obligacje skarbowe_banki centr.'!A26","v":"2016-01-31"},{"$f":"'Obligacje skarbowe_banki centr.'!B26+'Bony skarbowe_banki centr.'!B26","v":61.35},{"$f":"'Obligacje skarbowe_banki centr.'!C26+'Bony skarbowe_banki centr.'!C26","v":0},{"$f":"'Obligacje skarbowe_banki centr.'!D26+'Bony skarbowe_banki centr.'!D26","v":0},{"$f":"'Obligacje skarbowe_banki centr.'!E26+'Bony skarbowe_banki centr.'!E26","v":10.33},{"$f":"'Obligacje skarbowe_banki centr.'!F26+'Bony skarbowe_banki centr.'!F26","v":0},{"$f":"'Obligacje skarbowe_banki centr.'!G26+'Bony skarbowe_banki centr.'!G26","v":0},{"$f":"'Obligacje skarbowe_banki centr.'!H26+'Bony skarbowe_banki centr.'!H26","v":0},{"$f":"'Obligacje skarbowe_banki centr.'!I26+'Bony skarbowe_banki centr.'!I26","v":25152.957396900001},{"$f":"'Obligacje skarbowe_banki centr.'!J26+'Bony skarbowe_banki centr.'!J26","v":4089.7350968599994},{"$f":"'Obligacje skarbowe_banki centr.'!K26+'Bony skarbowe_banki centr.'!K26","v":29314.372493760002}]
[{"$f":"'Obligacje skarbowe_banki centr.'!A27","v":"2016-02-29"},{"$f":"'Obligacje skarbowe_banki centr.'!B27+'Bony skarbowe_banki centr.'!B27","v":61.35},{"$f":"'Obligacje skarbowe_banki centr.'!C27+'Bony skarbowe_banki centr.'!C27","v":0},{"$f":"'Obligacje skarbowe_banki centr.'!D27+'Bony skarbowe_banki centr.'!D27","v":0},{"$f":"'Obligacje skarbowe_banki centr.'!E27+'Bony skarbowe_banki centr.'!E27","v":10.33},{"$f":"'Obligacje skarbowe_banki centr.'!F27+'Bony skarbowe_banki centr.'!F27","v":0},{"$f":"'Obligacje skarbowe_banki centr.'!G27+'Bony skarbowe_banki centr.'!G27","v":0},{"$f":"'Obligacje skarbowe_banki centr.'!H27+'Bony skarbowe_banki centr.'!H27","v":0},{"$f":"'Obligacje skarbowe_banki centr.'!I27+'Bony skarbowe_banki centr.'!I27","v":24974.631740940004},{"$f":"'Obligacje skarbowe_banki centr.'!J27+'Bony skarbowe_banki centr.'!J27","v":4136.1800706399999},{"$f":"'Obligacje skarbowe_banki centr.'!K27+'Bony skarbowe_banki centr.'!K27","v":29182.491811580003}]
[{"$f":"'Obligacje skarbowe_banki centr.'!A28","v":"2016-03-31"},{"$f":"'Obligacje skarbowe_banki centr.'!B28+'Bony skarbowe_banki centr.'!B28","v":56.35},{"$f":"'Obligacje skarbowe_banki centr.'!C28+'Bony skarbowe_banki centr.'!C28","v":0},{"$f":"'Obligacje skarbowe_banki centr.'!D28+'Bony skarbowe_banki centr.'!D28","v":0},{"$f":"'Obligacje skarbowe_banki centr.'!E28+'Bony skarbowe_banki centr.'!E28","v":10.33},{"$f":"'Obligacje skarbowe_banki centr.'!F28+'Bony skarbowe_banki centr.'!F28","v":0},{"$f":"'Obligacje skarbowe_banki centr.'!G28+'Bony skarbowe_banki centr.'!G28","v":0},{"$f":"'Obligacje skarbowe_banki centr.'!H28+'Bony skarbowe_banki centr.'!H28","v":0},{"$f":"'Obligacje skarbowe_banki centr.'!I28+'Bony skarbowe_banki centr.'!I28","v":24243.728796239997},{"$f":"'Obligacje skarbowe_banki centr.'!J28+'Bony skarbowe_banki centr.'!J28","v":3433.7637272399998},{"$f":"'Obligacje skarbowe_banki centr.'!K28+'Bony skarbowe_banki centr.'!K28","v":27744.172523479996}]
[{"$f":"'Obligacje skarbowe_banki centr.'!A29","v":"2016-04-30"},{"$f":"'Obligacje skarbowe_banki centr.'!B29+'Bony skarbowe_banki centr.'!B29","v":55.85},{"$f":"'Obligacje skarbowe_banki centr.'!C29+'Bony skarbowe_banki centr.'!C29","v":0},{"$f":"'Obligacje skarbowe_banki centr.'!D29+'Bony skarbowe_banki centr.'!D29","v":0},{"$f":"'Obligacje skarbowe_banki centr.'!E29+'Bony skarbowe_banki centr.'!E29","v":10.33},{"$f":"'Obligacje skarbowe_banki centr.'!F29+'Bony skarbowe_banki centr.'!F29","v":0},{"$f":"'Obligacje skarbowe_banki centr.'!G29+'Bony skarbowe_banki centr.'!G29","v":0},{"$f":"'Obligacje skarbowe_banki centr.'!H29+'Bony skarbowe_banki centr.'!H29","v":0},{"$f":"'Obligacje skarbowe_banki centr.'!I29+'Bony skarbowe_banki centr.'!I29","v":24725.354526930001},{"$f":"'Obligacje skarbowe_banki centr.'!J29+'Bony skarbowe_banki centr.'!J29","v":3453.6111389799999},{"$f":"'Obligacje skarbowe_banki centr.'!K29+'Bony skarbowe_banki centr.'!K29","v":28245.14566591}]
[{"$f":"'Obligacje skarbowe_banki centr.'!A30","v":"2016-05-31"},{"$f":"'Obligacje skarbowe_banki centr.'!B30+'Bony skarbowe_banki centr.'!B30","v":55.85},{"$f":"'Obligacje skarbowe_banki centr.'!C30+'Bony skarbowe_banki centr.'!C30","v":0},{"$f":"'Obligacje skarbowe_banki centr.'!D30+'Bony skarbowe_banki centr.'!D30","v":0},{"$f":"'Obligacje skarbowe_banki centr.'!E30+'Bony skarbowe_banki centr.'!E30","v":10.33},{"$f":"'Obligacje skarbowe_banki centr.'!F30+'Bony skarbowe_banki centr.'!F30","v":0},{"$f":"'Obligacje skarbowe_banki centr.'!G30+'Bony skarbowe_banki centr.'!G30","v":0},{"$f":"'Obligacje skarbowe_banki centr.'!H30+'Bony skarbowe_banki centr.'!H30","v":0},{"$f":"'Obligacje skarbowe_banki centr.'!I30+'Bony skarbowe_banki centr.'!I30","v":26499.56614345},{"$f":"'Obligacje skarbowe_banki centr.'!J30+'Bony skarbowe_banki centr.'!J30","v":2913.8878854999998},{"$f":"'Obligacje skarbowe_banki centr.'!K30+'Bony skarbowe_banki centr.'!K30","v":29479.63402895}]
[{"$f":"'Obligacje skarbowe_banki centr.'!A31","v":"2016-06-30"},{"$f":"'Obligacje skarbowe_banki centr.'!B31+'Bony skarbowe_banki centr.'!B31","v":60.55},{"$f":"'Obligacje skarbowe_banki centr.'!C31+'Bony skarbowe_banki centr.'!C31","v":0},{"$f":"'Obligacje skarbowe_banki centr.'!D31+'Bony skarbowe_banki centr.'!D31","v":0},{"$f":"'Obligacje skarbowe_banki centr.'!E31+'Bony skarbowe_banki centr.'!E31","v":10.33},{"$f":"'Obligacje skarbowe_banki centr.'!F31+'Bony skarbowe_banki centr.'!F31","v":0},{"$f":"'Obligacje skarbowe_banki centr.'!G31+'Bony skarbowe_banki centr.'!G31","v":0},{"$f":"'Obligacje skarbowe_banki centr.'!H31+'Bony skarbowe_banki centr.'!H31","v":0},{"$f":"'Obligacje skarbowe_banki centr.'!I31+'Bony skarbowe_banki centr.'!I31","v":26446.470799390001},{"$f":"'Obligacje skarbowe_banki centr.'!J31+'Bony skarbowe_banki centr.'!J31","v":2977.0617975999999},{"$f":"'Obligacje skarbowe_banki centr.'!K31+'Bony skarbowe_banki centr.'!K31","v":29494.412596990001}]
[{"$f":"'Obligacje skarbowe_banki centr.'!A32","v":"2016-07-31"},{"$f":"'Obligacje skarbowe_banki centr.'!B32+'Bony skarbowe_banki centr.'!B32","v":52.55},{"$f":"'Obligacje skarbowe_banki centr.'!C32+'Bony skarbowe_banki centr.'!C32","v":0},{"$f":"'Obligacje skarbowe_banki centr.'!D32+'Bony skarbowe_banki centr.'!D32","v":0},{"$f":"'Obligacje skarbowe_banki centr.'!E32+'Bony skarbowe_banki centr.'!E32","v":10.33},{"$f":"'Obligacje skarbowe_banki centr.'!F32+'Bony skarbowe_banki centr.'!F32","v":0},{"$f":"'Obligacje skarbowe_banki centr.'!G32+'Bony skarbowe_banki centr.'!G32","v":0},{"$f":"'Obligacje skarbowe_banki centr.'!H32+'Bony skarbowe_banki centr.'!H32","v":0},{"$f":"'Obligacje skarbowe_banki centr.'!I32+'Bony skarbowe_banki centr.'!I32","v":25761.154328129996},{"$f":"'Obligacje skarbowe_banki centr.'!J32+'Bony skarbowe_banki centr.'!J32","v":2765.5993991999999},{"$f":"'Obligacje skarbowe_banki centr.'!K32+'Bony skarbowe_banki centr.'!K32","v":28589.633727329998}]
[{"$f":"'Obligacje skarbowe_banki centr.'!A33","v":"2016-08-31"},{"$f":"'Obligacje skarbowe_banki centr.'!B33+'Bony skarbowe_banki centr.'!B33","v":52.55},{"$f":"'Obligacje skarbowe_banki centr.'!C33+'Bony skarbowe_banki centr.'!C33","v":0},{"$f":"'Obligacje skarbowe_banki centr.'!D33+'Bony skarbowe_banki centr.'!D33","v":0},{"$f":"'Obligacje skarbowe_banki centr.'!E33+'Bony skarbowe_banki centr.'!E33","v":10.33},{"$f":"'Obligacje skarbowe_banki centr.'!F33+'Bony skarbowe_banki centr.'!F33","v":0},{"$f":"'Obligacje skarbowe_banki centr.'!G33+'Bony skarbowe_banki centr.'!G33","v":0},{"$f":"'Obligacje skarbowe_banki centr.'!H33+'Bony skarbowe_banki centr.'!H33","v":0},{"$f":"'Obligacje skarbowe_banki centr.'!I33+'Bony skarbowe_banki centr.'!I33","v":25597.125452659999},{"$f":"'Obligacje skarbowe_banki centr.'!J33+'Bony skarbowe_banki centr.'!J33","v":2800.8753744000001},{"$f":"'Obligacje skarbowe_banki centr.'!K33+'Bony skarbowe_banki centr.'!K33","v":28460.880827059998}]
[{"$f":"'Obligacje skarbowe_banki centr.'!A34","v":"2016-09-30"},{"$f":"'Obligacje skarbowe_banki centr.'!B34+'Bony skarbowe_banki centr.'!B34","v":56.85},{"$f":"'Obligacje skarbowe_banki centr.'!C34+'Bony skarbowe_banki centr.'!C34","v":0},{"$f":"'Obligacje skarbowe_banki centr.'!D34+'Bony skarbowe_banki centr.'!D34","v":0},{"$f":"'Obligacje skarbowe_banki centr.'!E34+'Bony skarbowe_banki centr.'!E34","v":10.33},{"$f":"'Obligacje skarbowe_banki centr.'!F34+'Bony skarbowe_banki centr.'!F34","v":0},{"$f":"'Obligacje skarbowe_banki centr.'!G34+'Bony skarbowe_banki centr.'!G34","v":0},{"$f":"'Obligacje skarbowe_banki centr.'!H34+'Bony skarbowe_banki centr.'!H34","v":0},{"$f":"'Obligacje skarbowe_banki centr.'!I34+'Bony skarbowe_banki centr.'!I34","v":25509.209094409998},{"$f":"'Obligacje skarbowe_banki centr.'!J34+'Bony skarbowe_banki centr.'!J34","v":2797.1801943999999},{"$f":"'Obligacje skarbowe_banki centr.'!K34+'Bony skarbowe_banki centr.'!K34","v":28373.569288809998}]
[{"$f":"'Obligacje skarbowe_banki centr.'!A35","v":"2016-10-31"},{"$f":"'Obligacje skarbowe_banki centr.'!B35+'Bony skarbowe_banki centr.'!B35","v":55.55},{"$f":"'Obligacje skarbowe_banki centr.'!C35+'Bony skarbowe_banki centr.'!C35","v":0},{"$f":"'Obligacje skarbowe_banki centr.'!D35+'Bony skarbowe_banki centr.'!D35","v":0},{"$f":"'Obligacje skarbowe_banki centr.'!E35+'Bony skarbowe_banki centr.'!E35","v":10.33},{"$f":"'Obligacje skarbowe_banki centr.'!F35+'Bony skarbowe_banki centr.'!F35","v":50},{"$f":"'Obligacje skarbowe_banki centr.'!G35+'Bony skarbowe_banki centr.'!G35","v":0},{"$f":"'Obligacje skarbowe_banki centr.'!H35+'Bony skarbowe_banki centr.'!H35","v":0},{"$f":"'Obligacje skarbowe_banki centr.'!I35+'Bony skarbowe_banki centr.'!I35","v":25759.112983290001},{"$f":"'Obligacje skarbowe_banki centr.'!J35+'Bony skarbowe_banki centr.'!J35","v":2608.2423736000001},{"$f":"'Obligacje skarbowe_banki centr.'!K35+'Bony skarbowe_banki centr.'!K35","v":28483.23535689}]
[{"$f":"'Obligacje skarbowe_banki centr.'!A36","v":"2016-11-30"},{"$f":"'Obligacje skarbowe_banki centr.'!B36+'Bony skarbowe_banki centr.'!B36","v":55.55},{"$f":"'Obligacje skarbowe_banki centr.'!C36+'Bony skarbowe_banki centr.'!C36","v":0},{"$f":"'Obligacje skarbowe_banki centr.'!D36+'Bony skarbowe_banki centr.'!D36","v":0},{"$f":"'Obligacje skarbowe_banki centr.'!E36+'Bony skarbowe_banki centr.'!E36","v":10.33},{"$f":"'Obligacje skarbowe_banki centr.'!F36+'Bony skarbowe_banki centr.'!F36","v":50},{"$f":"'Obligacje skarbowe_banki centr.'!G36+'Bony skarbowe_banki centr.'!G36","v":0},{"$f":"'Obligacje skarbowe_banki centr.'!H36+'Bony skarbowe_banki centr.'!H36","v":0},{"$f":"'Obligacje skarbowe_banki centr.'!I36+'Bony skarbowe_banki centr.'!I36","v":26398.329876009997},{"$f":"'Obligacje skarbowe_banki centr.'!J36+'Bony skarbowe_banki centr.'!J36","v":2611.2411384000002},{"$f":"'Obligacje skarbowe_banki centr.'!K36+'Bony skarbowe_banki centr.'!K36","v":29125.451014409999}]
[{"$f":"'Obligacje skarbowe_banki centr.'!A37","v":"2016-12-31"},{"$f":"'Obligacje skarbowe_banki centr.'!B37+'Bony skarbowe_banki centr.'!B37","v":54.35},{"$f":"'Obligacje skarbowe_banki centr.'!C37+'Bony skarbowe_banki centr.'!C37","v":0},{"$f":"'Obligacje skarbowe_banki centr.'!D37+'Bony skarbowe_banki centr.'!D37","v":0},{"$f":"'Obligacje skarbowe_banki centr.'!E37+'Bony skarbowe_banki centr.'!E37","v":10.33},{"$f":"'Obligacje skarbowe_banki centr.'!F37+'Bony skarbowe_banki centr.'!F37","v":50},{"$f":"'Obligacje skarbowe_banki centr.'!G37+'Bony skarbowe_banki centr.'!G37","v":0},{"$f":"'Obligacje skarbowe_banki centr.'!H37+'Bony skarbowe_banki centr.'!H37","v":0},{"$f":"'Obligacje skarbowe_banki centr.'!I37+'Bony skarbowe_banki centr.'!I37","v":25987.03602354},{"$f":"'Obligacje skarbowe_banki centr.'!J37+'Bony skarbowe_banki centr.'!J37","v":2595.5084336},{"$f":"'Obligacje skarbowe_banki centr.'!K37+'Bony skarbowe_banki centr.'!K37","v":28697.224457140001}]
[{"$f":"'Obligacje skarbowe_banki centr.'!A38","v":"2017-01-31"},{"$f":"'Obligacje skarbowe_banki centr.'!B38+'Bony skarbowe_banki centr.'!B38","v":54.35},{"$f":"'Obligacje skarbowe_banki centr.'!C38+'Bony skarbowe_banki centr.'!C38","v":0},{"$f":"'Obligacje skarbowe_banki centr.'!D38+'Bony skarbowe_banki centr.'!D38","v":0},{"$f":"'Obligacje skarbowe_banki centr.'!E38+'Bony skarbowe_banki centr.'!E38","v":10.33},{"$f":"'Obligacje skarbowe_banki centr.'!F38+'Bony skarbowe_banki centr.'!F38","v":50},{"$f":"'Obligacje skarbowe_banki centr.'!G38+'Bony skarbowe_banki centr.'!G38","v":0},{"$f":"'Obligacje skarbowe_banki centr.'!H38+'Bony skarbowe_banki centr.'!H38","v":0},{"$f":"'Obligacje skarbowe_banki centr.'!I38+'Bony skarbowe_banki centr.'!I38","v":25374.74299481},{"$f":"'Obligacje skarbowe_banki centr.'!J38+'Bony skarbowe_banki centr.'!J38","v":2723.11352498},{"$f":"'Obligacje skarbowe_banki centr.'!K38+'Bony skarbowe_banki centr.'!K38","v":28212.536519789999}]
[{"$f":"'Obligacje skarbowe_banki centr.'!A39","v":"2017-02-28"},{"$f":"'Obligacje skarbowe_banki centr.'!B39+'Bony skarbowe_banki centr.'!B39","v":54.35},{"$f":"'Obligacje skarbowe_banki centr.'!C39+'Bony skarbowe_banki centr.'!C39","v":0},{"$f":"'Obligacje skarbowe_banki centr.'!D39+'Bony skarbowe_banki centr.'!D39","v":0},{"$f":"'Obligacje skarbowe_banki centr.'!E39+'Bony skarbowe_banki centr.'!E39","v":10.72},{"$f":"'Obligacje skarbowe_banki centr.'!F39+'Bony skarbowe_banki centr.'!F39","v":50},{"$f":"'Obligacje skarbowe_banki centr.'!G39+'Bony skarbowe_banki centr.'!G39","v":0},{"$f":"'Obligacje skarbowe_banki centr.'!H39+'Bony skarbowe_banki centr.'!H39","v":0},{"$f":"'Obligacje skarbowe_banki centr.'!I39+'Bony skarbowe_banki centr.'!I39","v":24789.321414379996},{"$f":"'Obligacje skarbowe_banki centr.'!J39+'Bony skarbowe_banki centr.'!J39","v":2410.7475024},{"$f":"'Obligacje skarbowe_banki centr.'!K39+'Bony skarbowe_banki centr.'!K39","v":27315.138916779997}]
[{"$f":"'Obligacje skarbowe_banki centr.'!A40","v":"2017-03-31"},{"$f":"'Obligacje skarbowe_banki centr.'!B40+'Bony skarbowe_banki centr.'!B40","v":54.35},{"$f":"'Obligacje skarbowe_banki centr.'!C40+'Bony skarbowe_banki centr.'!C40","v":0},{"$f":"'Obligacje skarbowe_banki centr.'!D40+'Bony skarbowe_banki centr.'!D40","v":0},{"$f":"'Obligacje skarbowe_banki centr.'!E40+'Bony skarbowe_banki centr.'!E40","v":10.72},{"$f":"'Obligacje skarbowe_banki centr.'!F40+'Bony skarbowe_banki centr.'!F40","v":50},{"$f":"'Obligacje skarbowe_banki centr.'!G40+'Bony skarbowe_banki centr.'!G40","v":0},{"$f":"'Obligacje skarbowe_banki centr.'!H40+'Bony skarbowe_banki centr.'!H40","v":0},{"$f":"'Obligacje skarbowe_banki centr.'!I40+'Bony skarbowe_banki centr.'!I40","v":28921.691784130002},{"$f":"'Obligacje skarbowe_banki centr.'!J40+'Bony skarbowe_banki centr.'!J40","v":2724.2894824},{"$f":"'Obligacje skarbowe_banki centr.'!K40+'Bony skarbowe_banki centr.'!K40","v":31761.051266530001}]
[{"$f":"'Obligacje skarbowe_banki centr.'!A41","v":"2017-04-30"},{"$f":"'Obligacje skarbowe_banki centr.'!B41+'Bony skarbowe_banki centr.'!B41","v":55.95},{"$f":"'Obligacje skarbowe_banki centr.'!C41+'Bony skarbowe_banki centr.'!C41","v":0},{"$f":"'Obligacje skarbowe_banki centr.'!D41+'Bony skarbowe_banki centr.'!D41","v":0},{"$f":"'Obligacje skarbowe_banki centr.'!E41+'Bony skarbowe_banki centr.'!E41","v":13.52},{"$f":"'Obligacje skarbowe_banki centr.'!F41+'Bony skarbowe_banki centr.'!F41","v":50},{"$f":"'Obligacje skarbowe_banki centr.'!G41+'Bony skarbowe_banki centr.'!G41","v":0},{"$f":"'Obligacje skarbowe_banki centr.'!H41+'Bony skarbowe_banki centr.'!H41","v":0},{"$f":"'Obligacje skarbowe_banki centr.'!I41+'Bony skarbowe_banki centr.'!I41","v":28753.31318261},{"$f":"'Obligacje skarbowe_banki centr.'!J41+'Bony skarbowe_banki centr.'!J41","v":2280.9623528000002},{"$f":"'Obligacje skarbowe_banki centr.'!K41+'Bony skarbowe_banki centr.'!K41","v":31153.745535410002}]
[{"$f":"'Obligacje skarbowe_banki centr.'!A42","v":"2017-05-31"},{"$f":"'Obligacje skarbowe_banki centr.'!B42+'Bony skarbowe_banki centr.'!B42","v":61.55},{"$f":"'Obligacje skarbowe_banki centr.'!C42+'Bony skarbowe_banki centr.'!C42","v":0},{"$f":"'Obligacje skarbowe_banki centr.'!D42+'Bony skarbowe_banki centr.'!D42","v":0},{"$f":"'Obligacje skarbowe_banki centr.'!E42+'Bony skarbowe_banki centr.'!E42","v":13.52},{"$f":"'Obligacje skarbowe_banki centr.'!F42+'Bony skarbowe_banki centr.'!F42","v":50},{"$f":"'Obligacje skarbowe_banki centr.'!G42+'Bony skarbowe_banki centr.'!G42","v":0},{"$f":"'Obligacje skarbowe_banki centr.'!H42+'Bony skarbowe_banki centr.'!H42","v":0},{"$f":"'Obligacje skarbowe_banki centr.'!I42+'Bony skarbowe_banki centr.'!I42","v":28311.70313663},{"$f":"'Obligacje skarbowe_banki centr.'!J42+'Bony skarbowe_banki centr.'!J42","v":1998.2166824000001},{"$f":"'Obligacje skarbowe_banki centr.'!K42+'Bony skarbowe_banki centr.'!K42","v":30434.989819030001}]
[{"$f":"'Obligacje skarbowe_banki centr.'!A43","v":"2017-06-30"},{"$f":"'Obligacje skarbowe_banki centr.'!B43+'Bony skarbowe_banki centr.'!B43","v":64.55},{"$f":"'Obligacje skarbowe_banki centr.'!C43+'Bony skarbowe_banki centr.'!C43","v":0},{"$f":"'Obligacje skarbowe_banki centr.'!D43+'Bony skarbowe_banki centr.'!D43","v":0},{"$f":"'Obligacje skarbowe_banki centr.'!E43+'Bony skarbowe_banki centr.'!E43","v":25.21},{"$f":"'Obligacje skarbowe_banki centr.'!F43+'Bony skarbowe_banki centr.'!F43","v":50},{"$f":"'Obligacje skarbowe_banki centr.'!G43+'Bony skarbowe_banki centr.'!G43","v":0},{"$f":"'Obligacje skarbowe_banki centr.'!H43+'Bony skarbowe_banki centr.'!H43","v":0},{"$f":"'Obligacje skarbowe_banki centr.'!I43+'Bony skarbowe_banki centr.'!I43","v":25825.38160216},{"$f":"'Obligacje skarbowe_banki centr.'!J43+'Bony skarbowe_banki centr.'!J43","v":2021.8422367999999},{"$f":"'Obligacje skarbowe_banki centr.'!K43+'Bony skarbowe_banki centr.'!K43","v":27986.983838959997}]
[{"$f":"'Obligacje skarbowe_banki centr.'!A44","v":"2017-07-31"},{"$f":"'Obligacje skarbowe_banki centr.'!B44+'Bony skarbowe_banki centr.'!B44","v":66.55},{"$f":"'Obligacje skarbowe_banki centr.'!C44+'Bony skarbowe_banki centr.'!C44","v":0},{"$f":"'Obligacje skarbowe_banki centr.'!D44+'Bony skarbowe_banki centr.'!D44","v":0},{"$f":"'Obligacje skarbowe_banki centr.'!E44+'Bony skarbowe_banki centr.'!E44","v":25.21},{"$f":"'Obligacje skarbowe_banki centr.'!F44+'Bony skarbowe_banki centr.'!F44","v":50},{"$f":"'Obligacje skarbowe_banki centr.'!G44+'Bony skarbowe_banki centr.'!G44","v":0},{"$f":"'Obligacje skarbowe_banki centr.'!H44+'Bony skarbowe_banki centr.'!H44","v":0},{"$f":"'Obligacje skarbowe_banki centr.'!I44+'Bony skarbowe_banki centr.'!I44","v":25627.250763080003},{"$f":"'Obligacje skarbowe_banki centr.'!J44+'Bony skarbowe_banki centr.'!J44","v":2037.7438784000001},{"$f":"'Obligacje skarbowe_banki centr.'!K44+'Bony skarbowe_banki centr.'!K44","v":27806.754641480002}]
[{"$f":"'Obligacje skarbowe_banki centr.'!A45","v":"2017-08-31"},{"$f":"'Obligacje skarbowe_banki centr.'!B45+'Bony skarbowe_banki centr.'!B45","v":66.55},{"$f":"'Obligacje skarbowe_banki centr.'!C45+'Bony skarbowe_banki centr.'!C45","v":0},{"$f":"'Obligacje skarbowe_banki centr.'!D45+'Bony skarbowe_banki centr.'!D45","v":0},{"$f":"'Obligacje skarbowe_banki centr.'!E45+'Bony skarbowe_banki centr.'!E45","v":25.21},{"$f":"'Obligacje skarbowe_banki centr.'!F45+'Bony skarbowe_banki centr.'!F45","v":50},{"$f":"'Obligacje skarbowe_banki centr.'!G45+'Bony skarbowe_banki centr.'!G45","v":0},{"$f":"'Obligacje skarbowe_banki centr.'!H45+'Bony skarbowe_banki centr.'!H45","v":0},{"$f":"'Obligacje skarbowe_banki centr.'!I45+'Bony skarbowe_banki centr.'!I45","v":25373.012732419997},{"$f":"'Obligacje skarbowe_banki centr.'!J45+'Bony skarbowe_banki centr.'!J45","v":2115.7929616000001},{"$f":"'Obligacje skarbowe_banki centr.'!K45+'Bony skarbowe_banki centr.'!K45","v":27630.565694019995}]
[{"$f":"'Obligacje skarbowe_banki centr.'!A46","v":"2017-09-30"},{"$f":"'Obligacje skarbowe_banki centr.'!B46+'Bony skarbowe_banki centr.'!B46","v":67.3},{"$f":"'Obligacje skarbowe_banki centr.'!C46+'Bony skarbowe_banki centr.'!C46","v":0},{"$f":"'Obligacje skarbowe_banki centr.'!D46+'Bony skarbowe_banki centr.'!D46","v":0},{"$f":"'Obligacje skarbowe_banki centr.'!E46+'Bony skarbowe_banki centr.'!E46","v":25.21},{"$f":"'Obligacje skarbowe_banki centr.'!F46+'Bony skarbowe_banki centr.'!F46","v":50},{"$f":"'Obligacje skarbowe_banki centr.'!G46+'Bony skarbowe_banki centr.'!G46","v":0},{"$f":"'Obligacje skarbowe_banki centr.'!H46+'Bony skarbowe_banki centr.'!H46","v":0},{"$f":"'Obligacje skarbowe_banki centr.'!I46+'Bony skarbowe_banki centr.'!I46","v":24412.539728580003},{"$f":"'Obligacje skarbowe_banki centr.'!J46+'Bony skarbowe_banki centr.'!J46","v":2286.2623183999999},{"$f":"'Obligacje skarbowe_banki centr.'!K46+'Bony skarbowe_banki centr.'!K46","v":26841.312046980001}]
[{"$f":"'Obligacje skarbowe_banki centr.'!A47","v":"2017-10-31"},{"$f":"'Obligacje skarbowe_banki centr.'!B47+'Bony skarbowe_banki centr.'!B47","v":60.7},{"$f":"'Obligacje skarbowe_banki centr.'!C47+'Bony skarbowe_banki centr.'!C47","v":0},{"$f":"'Obligacje skarbowe_banki centr.'!D47+'Bony skarbowe_banki centr.'!D47","v":0},{"$f":"'Obligacje skarbowe_banki centr.'!E47+'Bony skarbowe_banki centr.'!E47","v":25.21},{"$f":"'Obligacje skarbowe_banki centr.'!F47+'Bony skarbowe_banki centr.'!F47","v":50},{"$f":"'Obligacje skarbowe_banki centr.'!G47+'Bony skarbowe_banki centr.'!G47","v":0},{"$f":"'Obligacje skarbowe_banki centr.'!H47+'Bony skarbowe_banki centr.'!H47","v":0},{"$f":"'Obligacje skarbowe_banki centr.'!I47+'Bony skarbowe_banki centr.'!I47","v":31917.2440121},{"$f":"'Obligacje skarbowe_banki centr.'!J47+'Bony skarbowe_banki centr.'!J47","v":2294.4648080000002},{"$f":"'Obligacje skarbowe_banki centr.'!K47+'Bony skarbowe_banki centr.'!K47","v":34347.618820099997}]
[{"$f":"'Obligacje skarbowe_banki centr.'!A48","v":"2017-11-30"},{"$f":"'Obligacje skarbowe_banki centr.'!B48+'Bony skarbowe_banki centr.'!B48","v":37.700000000000003},{"$f":"'Obligacje skarbowe_banki centr.'!C48+'Bony skarbowe_banki centr.'!C48","v":0},{"$f":"'Obligacje skarbowe_banki centr.'!D48+'Bony skarbowe_banki centr.'!D48","v":0},{"$f":"'Obligacje skarbowe_banki centr.'!E48+'Bony skarbowe_banki centr.'!E48","v":25.21},{"$f":"'Obligacje skarbowe_banki centr.'!F48+'Bony skarbowe_banki centr.'!F48","v":50},{"$f":"'Obligacje skarbowe_banki centr.'!G48+'Bony skarbowe_banki centr.'!G48","v":0},{"$f":"'Obligacje skarbowe_banki centr.'!H48+'Bony skarbowe_banki centr.'!H48","v":0},{"$f":"'Obligacje skarbowe_banki centr.'!I48+'Bony skarbowe_banki centr.'!I48","v":32350.33597955},{"$f":"'Obligacje skarbowe_banki centr.'!J48+'Bony skarbowe_banki centr.'!J48","v":2447.3698099000003},{"$f":"'Obligacje skarbowe_banki centr.'!K48+'Bony skarbowe_banki centr.'!K48","v":34910.615789449999}]
[{"$f":"'Obligacje skarbowe_banki centr.'!A49","v":"2017-12-31"},{"$f":"'Obligacje skarbowe_banki centr.'!B49+'Bony skarbowe_banki centr.'!B49","v":34.009},{"$f":"'Obligacje skarbowe_banki centr.'!C49+'Bony skarbowe_banki centr.'!C49","v":0},{"$f":"'Obligacje skarbowe_banki centr.'!D49+'Bony skarbowe_banki centr.'!D49","v":0},{"$f":"'Obligacje skarbowe_banki centr.'!E49+'Bony skarbowe_banki centr.'!E49","v":25.21},{"$f":"'Obligacje skarbowe_banki centr.'!F49+'Bony skarbowe_banki centr.'!F49","v":50},{"$f":"'Obligacje skarbowe_banki centr.'!G49+'Bony skarbowe_banki centr.'!G49","v":0},{"$f":"'Obligacje skarbowe_banki centr.'!H49+'Bony skarbowe_banki centr.'!H49","v":0},{"$f":"'Obligacje skarbowe_banki centr.'!I49+'Bony skarbowe_banki centr.'!I49","v":33157.174220950001},{"$f":"'Obligacje skarbowe_banki centr.'!J49+'Bony skarbowe_banki centr.'!J49","v":2394.0193790999997},{"$f":"'Obligacje skarbowe_banki centr.'!K49+'Bony skarbowe_banki centr.'!K49","v":35660.412600049996}]
[{"$f":"'Obligacje skarbowe_banki centr.'!A50","v":"2018-01-31"},{"$f":"'Obligacje skarbowe_banki centr.'!B50+'Bony skarbowe_banki centr.'!B50","v":34.009},{"$f":"'Obligacje skarbowe_banki centr.'!C50+'Bony skarbowe_banki centr.'!C50","v":0},{"$f":"'Obligacje skarbowe_banki centr.'!D50+'Bony skarbowe_banki centr.'!D50","v":0},{"$f":"'Obligacje skarbowe_banki centr.'!E50+'Bony skarbowe_banki centr.'!E50","v":25.21},{"$f":"'Obligacje skarbowe_banki centr.'!F50+'Bony skarbowe_banki centr.'!F50","v":50},{"$f":"'Obligacje skarbowe_banki centr.'!G50+'Bony skarbowe_banki centr.'!G50","v":0},{"$f":"'Obligacje skarbowe_banki centr.'!H50+'Bony skarbowe_banki centr.'!H50","v":0},{"$f":"'Obligacje skarbowe_banki centr.'!I50+'Bony skarbowe_banki centr.'!I50","v":31479.093561969999},{"$f":"'Obligacje skarbowe_banki centr.'!J50+'Bony skarbowe_banki centr.'!J50","v":2413.10946066},{"$f":"'Obligacje skarbowe_banki centr.'!K50+'Bony skarbowe_banki centr.'!K50","v":34001.422022630002}]
[{"$f":"'Obligacje skarbowe_banki centr.'!A51","v":"2018-02-28"},{"$f":"'Obligacje skarbowe_banki centr.'!B51+'Bony skarbowe_banki centr.'!B51","v":34.009},{"$f":"'Obligacje skarbowe_banki centr.'!C51+'Bony skarbowe_banki centr.'!C51","v":0},{"$f":"'Obligacje skarbowe_banki centr.'!D51+'Bony skarbowe_banki centr.'!D51","v":0},{"$f":"'Obligacje skarbowe_banki centr.'!E51+'Bony skarbowe_banki centr.'!E51","v":25.21},{"$f":"'Obligacje skarbowe_banki centr.'!F51+'Bony skarbowe_banki centr.'!F51","v":50},{"$f":"'Obligacje skarbowe_banki centr.'!G51+'Bony skarbowe_banki centr.'!G51","v":0},{"$f":"'Obligacje skarbowe_banki centr.'!H51+'Bony skarbowe_banki centr.'!H51","v":0},{"$f":"'Obligacje skarbowe_banki centr.'!I51+'Bony skarbowe_banki centr.'!I51","v":31129.094847419998},{"$f":"'Obligacje skarbowe_banki centr.'!J51+'Bony skarbowe_banki centr.'!J51","v":2032.40982076},{"$f":"'Obligacje skarbowe_banki centr.'!K51+'Bony skarbowe_banki centr.'!K51","v":33270.723668179999}]
[{"$f":"'Obligacje skarbowe_banki centr.'!A52","v":"2018-03-31"},{"$f":"'Obligacje skarbowe_banki centr.'!B52+'Bony skarbowe_banki centr.'!B52","v":26.829000000000001},{"$f":"'Obligacje skarbowe_banki centr.'!C52+'Bony skarbowe_banki centr.'!C52","v":0},{"$f":"'Obligacje skarbowe_banki centr.'!D52+'Bony skarbowe_banki centr.'!D52","v":0},{"$f":"'Obligacje skarbowe_banki centr.'!E52+'Bony skarbowe_banki centr.'!E52","v":25.21},{"$f":"'Obligacje skarbowe_banki centr.'!F52+'Bony skarbowe_banki centr.'!F52","v":50},{"$f":"'Obligacje skarbowe_banki centr.'!G52+'Bony skarbowe_banki centr.'!G52","v":0},{"$f":"'Obligacje skarbowe_banki centr.'!H52+'Bony skarbowe_banki centr.'!H52","v":0},{"$f":"'Obligacje skarbowe_banki centr.'!I52+'Bony skarbowe_banki centr.'!I52","v":33891.056393409999},{"$f":"'Obligacje skarbowe_banki centr.'!J52+'Bony skarbowe_banki centr.'!J52","v":1879.72581698},{"$f":"'Obligacje skarbowe_banki centr.'!K52+'Bony skarbowe_banki centr.'!K52","v":35872.821210389993}]
[{"$f":"'Obligacje skarbowe_banki centr.'!A53","v":"2018-04-30"},{"$f":"'Obligacje skarbowe_banki centr.'!B53+'Bony skarbowe_banki centr.'!B53","v":16.134},{"$f":"'Obligacje skarbowe_banki centr.'!C53+'Bony skarbowe_banki centr.'!C53","v":0},{"$f":"'Obligacje skarbowe_banki centr.'!D53+'Bony skarbowe_banki centr.'!D53","v":0},{"$f":"'Obligacje skarbowe_banki centr.'!E53+'Bony skarbowe_banki centr.'!E53","v":25.21},{"$f":"'Obligacje skarbowe_banki centr.'!F53+'Bony skarbowe_banki centr.'!F53","v":50},{"$f":"'Obligacje skarbowe_banki centr.'!G53+'Bony skarbowe_banki centr.'!G53","v":0},{"$f":"'Obligacje skarbowe_banki centr.'!H53+'Bony skarbowe_banki centr.'!H53","v":0},{"$f":"'Obligacje skarbowe_banki centr.'!I53+'Bony skarbowe_banki centr.'!I53","v":33590.842630949999},{"$f":"'Obligacje skarbowe_banki centr.'!J53+'Bony skarbowe_banki centr.'!J53","v":1888.3143590999998},{"$f":"'Obligacje skarbowe_banki centr.'!K53+'Bony skarbowe_banki centr.'!K53","v":35570.500990049994}]
[{"$f":"'Obligacje skarbowe_banki centr.'!A54","v":"2018-05-31"},{"$f":"'Obligacje skarbowe_banki centr.'!B54+'Bony skarbowe_banki centr.'!B54","v":16.134},{"$f":"'Obligacje skarbowe_banki centr.'!C54+'Bony skarbowe_banki centr.'!C54","v":0},{"$f":"'Obligacje skarbowe_banki centr.'!D54+'Bony skarbowe_banki centr.'!D54","v":0},{"$f":"'Obligacje skarbowe_banki centr.'!E54+'Bony skarbowe_banki centr.'!E54","v":25.21},{"$f":"'Obligacje skarbowe_banki centr.'!F54+'Bony skarbowe_banki centr.'!F54","v":50},{"$f":"'Obligacje skarbowe_banki centr.'!G54+'Bony skarbowe_banki centr.'!G54","v":0},{"$f":"'Obligacje skarbowe_banki centr.'!H54+'Bony skarbowe_banki centr.'!H54","v":0},{"$f":"'Obligacje skarbowe_banki centr.'!I54+'Bony skarbowe_banki centr.'!I54","v":33456.766994930003},{"$f":"'Obligacje skarbowe_banki centr.'!J54+'Bony skarbowe_banki centr.'!J54","v":1806.95640056},{"$f":"'Obligacje skarbowe_banki centr.'!K54+'Bony skarbowe_banki centr.'!K54","v":35355.067395489998}]
[{"$f":"'Obligacje skarbowe_banki centr.'!A55","v":"2018-06-30"},{"$f":"'Obligacje skarbowe_banki centr.'!B55+'Bony skarbowe_banki centr.'!B55","v":16.134},{"$f":"'Obligacje skarbowe_banki centr.'!C55+'Bony skarbowe_banki centr.'!C55","v":0},{"$f":"'Obligacje skarbowe_banki centr.'!D55+'Bony skarbowe_banki centr.'!D55","v":0},{"$f":"'Obligacje skarbowe_banki centr.'!E55+'Bony skarbowe_banki centr.'!E55","v":25.21},{"$f":"'Obligacje skarbowe_banki centr.'!F55+'Bony skarbowe_banki centr.'!F55","v":25},{"$f":"'Obligacje skarbowe_banki centr.'!G55+'Bony skarbowe_banki centr.'!G55","v":0},{"$f":"'Obligacje skarbowe_banki centr.'!H55+'Bony skarbowe_banki centr.'!H55","v":0},{"$f":"'Obligacje skarbowe_banki centr.'!I55+'Bony skarbowe_banki centr.'!I55","v":33471.295316789998},{"$f":"'Obligacje skarbowe_banki centr.'!J55+'Bony skarbowe_banki centr.'!J55","v":1864.5415456799999},{"$f":"'Obligacje skarbowe_banki centr.'!K55+'Bony skarbowe_banki centr.'!K55","v":35402.180862469992}]
[{"$f":"'Obligacje skarbowe_banki centr.'!A56","v":"2018-07-31"},{"$f":"'Obligacje skarbowe_banki centr.'!B56+'Bony skarbowe_banki centr.'!B56","v":27.074000000000002},{"$f":"'Obligacje skarbowe_banki centr.'!C56+'Bony skarbowe_banki centr.'!C56","v":0},{"$f":"'Obligacje skarbowe_banki centr.'!D56+'Bony skarbowe_banki centr.'!D56","v":0},{"$f":"'Obligacje skarbowe_banki centr.'!E56+'Bony skarbowe_banki centr.'!E56","v":20.21},{"$f":"'Obligacje skarbowe_banki centr.'!F56+'Bony skarbowe_banki centr.'!F56","v":25},{"$f":"'Obligacje skarbowe_banki centr.'!G56+'Bony skarbowe_banki centr.'!G56","v":0},{"$f":"'Obligacje skarbowe_banki centr.'!H56+'Bony skarbowe_banki centr.'!H56","v":0},{"$f":"'Obligacje skarbowe_banki centr.'!I56+'Bony skarbowe_banki centr.'!I56","v":36853.070594339995},{"$f":"'Obligacje skarbowe_banki centr.'!J56+'Bony skarbowe_banki centr.'!J56","v":1883.4625546399998},{"$f":"'Obligacje skarbowe_banki centr.'!K56+'Bony skarbowe_banki centr.'!K56","v":38808.817148979993}]
[{"$f":"'Obligacje skarbowe_banki centr.'!A57","v":"2018-08-31"},{"$f":"'Obligacje skarbowe_banki centr.'!B57+'Bony skarbowe_banki centr.'!B57","v":27.074000000000002},{"$f":"'Obligacje skarbowe_banki centr.'!C57+'Bony skarbowe_banki centr.'!C57","v":0},{"$f":"'Obligacje skarbowe_banki centr.'!D57+'Bony skarbowe_banki centr.'!D57","v":0},{"$f":"'Obligacje skarbowe_banki centr.'!E57+'Bony skarbowe_banki centr.'!E57","v":27.76},{"$f":"'Obligacje skarbowe_banki centr.'!F57+'Bony skarbowe_banki centr.'!F57","v":25},{"$f":"'Obligacje skarbowe_banki centr.'!G57+'Bony skarbowe_banki centr.'!G57","v":0},{"$f":"'Obligacje skarbowe_banki centr.'!H57+'Bony skarbowe_banki centr.'!H57","v":0},{"$f":"'Obligacje skarbowe_banki centr.'!I57+'Bony skarbowe_banki centr.'!I57","v":37219.404304380005},{"$f":"'Obligacje skarbowe_banki centr.'!J57+'Bony skarbowe_banki centr.'!J57","v":1916.6015064800001},{"$f":"'Obligacje skarbowe_banki centr.'!K57+'Bony skarbowe_banki centr.'!K57","v":39215.839810860009}]
[{"$f":"'Obligacje skarbowe_banki centr.'!A58","v":"2018-09-30"},{"$f":"'Obligacje skarbowe_banki centr.'!B58+'Bony skarbowe_banki centr.'!B58","v":27.074000000000002},{"$f":"'Obligacje skarbowe_banki centr.'!C58+'Bony skarbowe_banki centr.'!C58","v":0},{"$f":"'Obligacje skarbowe_banki centr.'!D58+'Bony skarbowe_banki centr.'!D58","v":0},{"$f":"'Obligacje skarbowe_banki centr.'!E58+'Bony skarbowe_banki centr.'!E58","v":27.76},{"$f":"'Obligacje skarbowe_banki centr.'!F58+'Bony skarbowe_banki centr.'!F58","v":50},{"$f":"'Obligacje skarbowe_banki centr.'!G58+'Bony skarbowe_banki centr.'!G58","v":0},{"$f":"'Obligacje skarbowe_banki centr.'!H58+'Bony skarbowe_banki centr.'!H58","v":0},{"$f":"'Obligacje skarbowe_banki centr.'!I58+'Bony skarbowe_banki centr.'!I58","v":37308.067082180001},{"$f":"'Obligacje skarbowe_banki centr.'!J58+'Bony skarbowe_banki centr.'!J58","v":1863.51183528},{"$f":"'Obligacje skarbowe_banki centr.'!K58+'Bony skarbowe_banki centr.'!K58","v":39276.412917460002}]
[{"$f":"'Obligacje skarbowe_banki centr.'!A59","v":"2018-10-31"},{"$f":"'Obligacje skarbowe_banki centr.'!B59+'Bony skarbowe_banki centr.'!B59","v":18.704000000000001},{"$f":"'Obligacje skarbowe_banki centr.'!C59+'Bony skarbowe_banki centr.'!C59","v":0},{"$f":"'Obligacje skarbowe_banki centr.'!D59+'Bony skarbowe_banki centr.'!D59","v":0},{"$f":"'Obligacje skarbowe_banki centr.'!E59+'Bony skarbowe_banki centr.'!E59","v":27.76},{"$f":"'Obligacje skarbowe_banki centr.'!F59+'Bony skarbowe_banki centr.'!F59","v":50},{"$f":"'Obligacje skarbowe_banki centr.'!G59+'Bony skarbowe_banki centr.'!G59","v":0},{"$f":"'Obligacje skarbowe_banki centr.'!H59+'Bony skarbowe_banki centr.'!H59","v":0},{"$f":"'Obligacje skarbowe_banki centr.'!I59+'Bony skarbowe_banki centr.'!I59","v":36532.091948319998},{"$f":"'Obligacje skarbowe_banki centr.'!J59+'Bony skarbowe_banki centr.'!J59","v":1998.9309427200001},{"$f":"'Obligacje skarbowe_banki centr.'!K59+'Bony skarbowe_banki centr.'!K59","v":38627.486891039996}]
[{"$f":"'Obligacje skarbowe_banki centr.'!A60","v":"2018-11-30"},{"$f":"'Obligacje skarbowe_banki centr.'!B60+'Bony skarbowe_banki centr.'!B60","v":18.704000000000001},{"$f":"'Obligacje skarbowe_banki centr.'!C60+'Bony skarbowe_banki centr.'!C60","v":0},{"$f":"'Obligacje skarbowe_banki centr.'!D60+'Bony skarbowe_banki centr.'!D60","v":0},{"$f":"'Obligacje skarbowe_banki centr.'!E60+'Bony skarbowe_banki centr.'!E60","v":27.76},{"$f":"'Obligacje skarbowe_banki centr.'!F60+'Bony skarbowe_banki centr.'!F60","v":50},{"$f":"'Obligacje skarbowe_banki centr.'!G60+'Bony skarbowe_banki centr.'!G60","v":0},{"$f":"'Obligacje skarbowe_banki centr.'!H60+'Bony skarbowe_banki centr.'!H60","v":0},{"$f":"'Obligacje skarbowe_banki centr.'!I60+'Bony skarbowe_banki centr.'!I60","v":36533.421281099996},{"$f":"'Obligacje skarbowe_banki centr.'!J60+'Bony skarbowe_banki centr.'!J60","v":2006.1546555999998},{"$f":"'Obligacje skarbowe_banki centr.'!K60+'Bony skarbowe_banki centr.'!K60","v":38636.039936699999}]
[{"$f":"'Obligacje skarbowe_banki centr.'!A61","v":"2018-12-31"},{"$f":"'Obligacje skarbowe_banki centr.'!B61+'Bony skarbowe_banki centr.'!B61","v":11.849},{"$f":"'Obligacje skarbowe_banki centr.'!C61+'Bony skarbowe_banki centr.'!C61","v":0},{"$f":"'Obligacje skarbowe_banki centr.'!D61+'Bony skarbowe_banki centr.'!D61","v":0},{"$f":"'Obligacje skarbowe_banki centr.'!E61+'Bony skarbowe_banki centr.'!E61","v":24.96},{"$f":"'Obligacje skarbowe_banki centr.'!F61+'Bony skarbowe_banki centr.'!F61","v":50},{"$f":"'Obligacje skarbowe_banki centr.'!G61+'Bony skarbowe_banki centr.'!G61","v":0},{"$f":"'Obligacje skarbowe_banki centr.'!H61+'Bony skarbowe_banki centr.'!H61","v":0},{"$f":"'Obligacje skarbowe_banki centr.'!I61+'Bony skarbowe_banki centr.'!I61","v":36053.978999040002},{"$f":"'Obligacje skarbowe_banki centr.'!J61+'Bony skarbowe_banki centr.'!J61","v":2054.69499584},{"$f":"'Obligacje skarbowe_banki centr.'!K61+'Bony skarbowe_banki centr.'!K61","v":38195.482994880003}]
[{"$f":"'Obligacje skarbowe_banki centr.'!A62","v":"2019-01-31"},{"$f":"'Obligacje skarbowe_banki centr.'!B62+'Bony skarbowe_banki centr.'!B62","v":0},{"$f":"'Obligacje skarbowe_banki centr.'!C62+'Bony skarbowe_banki centr.'!C62","v":0},{"$f":"'Obligacje skarbowe_banki centr.'!D62+'Bony skarbowe_banki centr.'!D62","v":0},{"$f":"'Obligacje skarbowe_banki centr.'!E62+'Bony skarbowe_banki centr.'!E62","v":24.96},{"$f":"'Obligacje skarbowe_banki centr.'!F62+'Bony skarbowe_banki centr.'!F62","v":50},{"$f":"'Obligacje skarbowe_banki centr.'!G62+'Bony skarbowe_banki centr.'!G62","v":0},{"$f":"'Obligacje skarbowe_banki centr.'!H62+'Bony skarbowe_banki centr.'!H62","v":0},{"$f":"'Obligacje skarbowe_banki centr.'!I62+'Bony skarbowe_banki centr.'!I62","v":26397.36608634},{"$f":"'Obligacje skarbowe_banki centr.'!J62+'Bony skarbowe_banki centr.'!J62","v":1721.8421866399999},{"$f":"'Obligacje skarbowe_banki centr.'!K62+'Bony skarbowe_banki centr.'!K62","v":28194.168272979998}]
[{"$f":"'Obligacje skarbowe_banki centr.'!A63","v":"2019-02-28"},{"$f":"'Obligacje skarbowe_banki centr.'!B63+'Bony skarbowe_banki centr.'!B63","v":0},{"$f":"'Obligacje skarbowe_banki centr.'!C63+'Bony skarbowe_banki centr.'!C63","v":0},{"$f":"'Obligacje skarbowe_banki centr.'!D63+'Bony skarbowe_banki centr.'!D63","v":0},{"$f":"'Obligacje skarbowe_banki centr.'!E63+'Bony skarbowe_banki centr.'!E63","v":73.319999999999993},{"$f":"'Obligacje skarbowe_banki centr.'!F63+'Bony skarbowe_banki centr.'!F63","v":50},{"$f":"'Obligacje skarbowe_banki centr.'!G63+'Bony skarbowe_banki centr.'!G63","v":0},{"$f":"'Obligacje skarbowe_banki centr.'!H63+'Bony skarbowe_banki centr.'!H63","v":0},{"$f":"'Obligacje skarbowe_banki centr.'!I63+'Bony skarbowe_banki centr.'!I63","v":19443.444086340001},{"$f":"'Obligacje skarbowe_banki centr.'!J63+'Bony skarbowe_banki centr.'!J63","v":1563.4351866399998},{"$f":"'Obligacje skarbowe_banki centr.'!K63+'Bony skarbowe_banki centr.'!K63","v":21130.19927298}]
[{"$f":"'Obligacje skarbowe_banki centr.'!A64","v":"2019-03-31"},{"$f":"'Obligacje skarbowe_banki centr.'!B64+'Bony skarbowe_banki centr.'!B64","v":0},{"$f":"'Obligacje skarbowe_banki centr.'!C64+'Bony skarbowe_banki centr.'!C64","v":0},{"$f":"'Obligacje skarbowe_banki centr.'!D64+'Bony skarbowe_banki centr.'!D64","v":0},{"$f":"'Obligacje skarbowe_banki centr.'!E64+'Bony skarbowe_banki centr.'!E64","v":81.56},{"$f":"'Obligacje skarbowe_banki centr.'!F64+'Bony skarbowe_banki centr.'!F64","v":50},{"$f":"'Obligacje skarbowe_banki centr.'!G64+'Bony skarbowe_banki centr.'!G64","v":0},{"$f":"'Obligacje skarbowe_banki centr.'!H64+'Bony skarbowe_banki centr.'!H64","v":0},{"$f":"'Obligacje skarbowe_banki centr.'!I64+'Bony skarbowe_banki centr.'!I64","v":18693.846714900003},{"$f":"'Obligacje skarbowe_banki centr.'!J64+'Bony skarbowe_banki centr.'!J64","v":1115.0681604000001},{"$f":"'Obligacje skarbowe_banki centr.'!K64+'Bony skarbowe_banki centr.'!K64","v":19940.474875300002}]
[{"$f":"'Obligacje skarbowe_banki centr.'!A65","v":"2019-04-30"},{"$f":"'Obligacje skarbowe_banki centr.'!B65+'Bony skarbowe_banki centr.'!B65","v":0},{"$f":"'Obligacje skarbowe_banki centr.'!C65+'Bony skarbowe_banki centr.'!C65","v":0},{"$f":"'Obligacje skarbowe_banki centr.'!D65+'Bony skarbowe_banki centr.'!D65","v":0},{"$f":"'Obligacje skarbowe_banki centr.'!E65+'Bony skarbowe_banki centr.'!E65","v":81.56},{"$f":"'Obligacje skarbowe_banki centr.'!F65+'Bony skarbowe_banki centr.'!F65","v":50},{"$f":"'Obligacje skarbowe_banki centr.'!G65+'Bony skarbowe_banki centr.'!G65","v":0},{"$f":"'Obligacje skarbowe_banki centr.'!H65+'Bony skarbowe_banki centr.'!H65","v":0},{"$f":"'Obligacje skarbowe_banki centr.'!I65+'Bony skarbowe_banki centr.'!I65","v":18754.575461940003},{"$f":"'Obligacje skarbowe_banki centr.'!J65+'Bony skarbowe_banki centr.'!J65","v":939.95348790000003},{"$f":"'Obligacje skarbowe_banki centr.'!K65+'Bony skarbowe_banki centr.'!K65","v":19826.088949840003}]
[{"$f":"'Obligacje skarbowe_banki centr.'!A66","v":"2019-05-31"},{"$f":"'Obligacje skarbowe_banki centr.'!B66+'Bony skarbowe_banki centr.'!B66","v":0},{"$f":"'Obligacje skarbowe_banki centr.'!C66+'Bony skarbowe_banki centr.'!C66","v":0},{"$f":"'Obligacje skarbowe_banki centr.'!D66+'Bony skarbowe_banki centr.'!D66","v":0},{"$f":"'Obligacje skarbowe_banki centr.'!E66+'Bony skarbowe_banki centr.'!E66","v":81.56},{"$f":"'Obligacje skarbowe_banki centr.'!F66+'Bony skarbowe_banki centr.'!F66","v":50},{"$f":"'Obligacje skarbowe_banki centr.'!G66+'Bony skarbowe_banki centr.'!G66","v":0},{"$f":"'Obligacje skarbowe_banki centr.'!H66+'Bony skarbowe_banki centr.'!H66","v":0},{"$f":"'Obligacje skarbowe_banki centr.'!I66+'Bony skarbowe_banki centr.'!I66","v":18645.4165746},{"$f":"'Obligacje skarbowe_banki centr.'!J66+'Bony skarbowe_banki centr.'!J66","v":940.01291100000003},{"$f":"'Obligacje skarbowe_banki centr.'!K66+'Bony skarbowe_banki centr.'!K66","v":19716.989485600003}]
[{"$f":"'Obligacje skarbowe_banki centr.'!A67","v":"2019-06-30"},{"$f":"'Obligacje skarbowe_banki centr.'!B67+'Bony skarbowe_banki centr.'!B67","v":0},{"$f":"'Obligacje skarbowe_banki centr.'!C67+'Bony skarbowe_banki centr.'!C67","v":0},{"$f":"'Obligacje skarbowe_banki centr.'!D67+'Bony skarbowe_banki centr.'!D67","v":0},{"$f":"'Obligacje skarbowe_banki centr.'!E67+'Bony skarbowe_banki centr.'!E67","v":81.56},{"$f":"'Obligacje skarbowe_banki centr.'!F67+'Bony skarbowe_banki centr.'!F67","v":50},{"$f":"'Obligacje skarbowe_banki centr.'!G67+'Bony skarbowe_banki centr.'!G67","v":0},{"$f":"'Obligacje skarbowe_banki centr.'!H67+'Bony skarbowe_banki centr.'!H67","v":0},{"$f":"'Obligacje skarbowe_banki centr.'!I67+'Bony skarbowe_banki centr.'!I67","v":17699.333558599999},{"$f":"'Obligacje skarbowe_banki centr.'!J67+'Bony skarbowe_banki centr.'!J67","v":937.35535100000004},{"$f":"'Obligacje skarbowe_banki centr.'!K67+'Bony skarbowe_banki centr.'!K67","v":18768.248909599999}]
[{"$f":"'Obligacje skarbowe_banki centr.'!A68","v":"2019-07-31"},{"$f":"'Obligacje skarbowe_banki centr.'!B68+'Bony skarbowe_banki centr.'!B68","v":0},{"$f":"'Obligacje skarbowe_banki centr.'!C68+'Bony skarbowe_banki centr.'!C68","v":0},{"$f":"'Obligacje skarbowe_banki centr.'!D68+'Bony skarbowe_banki centr.'!D68","v":0},{"$f":"'Obligacje skarbowe_banki centr.'!E68+'Bony skarbowe_banki centr.'!E68","v":77.66},{"$f":"'Obligacje skarbowe_banki centr.'!F68+'Bony skarbowe_banki centr.'!F68","v":50},{"$f":"'Obligacje skarbowe_banki centr.'!G68+'Bony skarbowe_banki centr.'!G68","v":0},{"$f":"'Obligacje skarbowe_banki centr.'!H68+'Bony skarbowe_banki centr.'!H68","v":6},{"$f":"'Obligacje skarbowe_banki centr.'!I68+'Bony skarbowe_banki centr.'!I68","v":17414.587694540001},{"$f":"'Obligacje skarbowe_banki centr.'!J68+'Bony skarbowe_banki centr.'!J68","v":1307.9654289},{"$f":"'Obligacje skarbowe_banki centr.'!K68+'Bony skarbowe_banki centr.'!K68","v":18856.21312344}]
[{"$f":"'Obligacje skarbowe_banki centr.'!A69","v":"2019-08-31"},{"$f":"'Obligacje skarbowe_banki centr.'!B69+'Bony skarbowe_banki centr.'!B69","v":0},{"$f":"'Obligacje skarbowe_banki centr.'!C69+'Bony skarbowe_banki centr.'!C69","v":0},{"$f":"'Obligacje skarbowe_banki centr.'!D69+'Bony skarbowe_banki centr.'!D69","v":0},{"$f":"'Obligacje skarbowe_banki centr.'!E69+'Bony skarbowe_banki centr.'!E69","v":74.724999999999994},{"$f":"'Obligacje skarbowe_banki centr.'!F69+'Bony skarbowe_banki centr.'!F69","v":50},{"$f":"'Obligacje skarbowe_banki centr.'!G69+'Bony skarbowe_banki centr.'!G69","v":0},{"$f":"'Obligacje skarbowe_banki centr.'!H69+'Bony skarbowe_banki centr.'!H69","v":6},{"$f":"'Obligacje skarbowe_banki centr.'!I69+'Bony skarbowe_banki centr.'!I69","v":17055.074725720002},{"$f":"'Obligacje skarbowe_banki centr.'!J69+'Bony skarbowe_banki centr.'!J69","v":1233.6975602},{"$f":"'Obligacje skarbowe_banki centr.'!K69+'Bony skarbowe_banki centr.'!K69","v":18419.497285919999}]
[{"$f":"'Obligacje skarbowe_banki centr.'!A70","v":"2019-09-30"},{"$f":"'Obligacje skarbowe_banki centr.'!B70+'Bony skarbowe_banki centr.'!B70","v":0},{"$f":"'Obligacje skarbowe_banki centr.'!C70+'Bony skarbowe_banki centr.'!C70","v":0},{"$f":"'Obligacje skarbowe_banki centr.'!D70+'Bony skarbowe_banki centr.'!D70","v":0},{"$f":"'Obligacje skarbowe_banki centr.'!E70+'Bony skarbowe_banki centr.'!E70","v":74.724999999999994},{"$f":"'Obligacje skarbowe_banki centr.'!F70+'Bony skarbowe_banki centr.'!F70","v":50},{"$f":"'Obligacje skarbowe_banki centr.'!G70+'Bony skarbowe_banki centr.'!G70","v":0},{"$f":"'Obligacje skarbowe_banki centr.'!H70+'Bony skarbowe_banki centr.'!H70","v":6},{"$f":"'Obligacje skarbowe_banki centr.'!I70+'Bony skarbowe_banki centr.'!I70","v":17127.968865399998},{"$f":"'Obligacje skarbowe_banki centr.'!J70+'Bony skarbowe_banki centr.'!J70","v":1257.096489},{"$f":"'Obligacje skarbowe_banki centr.'!K70+'Bony skarbowe_banki centr.'!K70","v":18515.790354399996}]
[{"$f":"'Obligacje skarbowe_banki centr.'!A71","v":"2019-10-31"},{"$f":"'Obligacje skarbowe_banki centr.'!B71+'Bony skarbowe_banki centr.'!B71","v":0},{"$f":"'Obligacje skarbowe_banki centr.'!C71+'Bony skarbowe_banki centr.'!C71","v":0},{"$f":"'Obligacje skarbowe_banki centr.'!D71+'Bony skarbowe_banki centr.'!D71","v":0},{"$f":"'Obligacje skarbowe_banki centr.'!E71+'Bony skarbowe_banki centr.'!E71","v":83.635000000000005},{"$f":"'Obligacje skarbowe_banki centr.'!F71+'Bony skarbowe_banki centr.'!F71","v":0},{"$f":"'Obligacje skarbowe_banki centr.'!G71+'Bony skarbowe_banki centr.'!G71","v":0},{"$f":"'Obligacje skarbowe_banki centr.'!H71+'Bony skarbowe_banki centr.'!H71","v":6},{"$f":"'Obligacje skarbowe_banki centr.'!I71+'Bony skarbowe_banki centr.'!I71","v":17248.533865400001},{"$f":"'Obligacje skarbowe_banki centr.'!J71+'Bony skarbowe_banki centr.'!J71","v":1309.9464889999999},{"$f":"'Obligacje skarbowe_banki centr.'!K71+'Bony skarbowe_banki centr.'!K71","v":18648.115354399997}]
[{"$f":"'Obligacje skarbowe_banki centr.'!A72","v":"2019-11-30"},{"$f":"'Obligacje skarbowe_banki centr.'!B72+'Bony skarbowe_banki centr.'!B72","v":0},{"$f":"'Obligacje skarbowe_banki centr.'!C72+'Bony skarbowe_banki centr.'!C72","v":0},{"$f":"'Obligacje skarbowe_banki centr.'!D72+'Bony skarbowe_banki centr.'!D72","v":0},{"$f":"'Obligacje skarbowe_banki centr.'!E72+'Bony skarbowe_banki centr.'!E72","v":87.061000000000007},{"$f":"'Obligacje skarbowe_banki centr.'!F72+'Bony skarbowe_banki centr.'!F72","v":0},{"$f":"'Obligacje skarbowe_banki centr.'!G72+'Bony skarbowe_banki centr.'!G72","v":0},{"$f":"'Obligacje skarbowe_banki centr.'!H72+'Bony skarbowe_banki centr.'!H72","v":6},{"$f":"'Obligacje skarbowe_banki centr.'!I72+'Bony skarbowe_banki centr.'!I72","v":16465.248865400001},{"$f":"'Obligacje skarbowe_banki centr.'!J72+'Bony skarbowe_banki centr.'!J72","v":1309.9464889999999},{"$f":"'Obligacje skarbowe_banki centr.'!K72+'Bony skarbowe_banki centr.'!K72","v":17868.2563544}]
[{"$f":"'Obligacje skarbowe_banki centr.'!A73","v":"2019-12-31"},{"$f":"'Obligacje skarbowe_banki centr.'!B73+'Bony skarbowe_banki centr.'!B73","v":0},{"$f":"'Obligacje skarbowe_banki centr.'!C73+'Bony skarbowe_banki centr.'!C73","v":0},{"$f":"'Obligacje skarbowe_banki centr.'!D73+'Bony skarbowe_banki centr.'!D73","v":0},{"$f":"'Obligacje skarbowe_banki centr.'!E73+'Bony skarbowe_banki centr.'!E73","v":50.542999999999999},{"$f":"'Obligacje skarbowe_banki centr.'!F73+'Bony skarbowe_banki centr.'!F73","v":0},{"$f":"'Obligacje skarbowe_banki centr.'!G73+'Bony skarbowe_banki centr.'!G73","v":0},{"$f":"'Obligacje skarbowe_banki centr.'!H73+'Bony skarbowe_banki centr.'!H73","v":6},{"$f":"'Obligacje skarbowe_banki centr.'!I73+'Bony skarbowe_banki centr.'!I73","v":16502.745238920001},{"$f":"'Obligacje skarbowe_banki centr.'!J73+'Bony skarbowe_banki centr.'!J73","v":1309.9851222},{"$f":"'Obligacje skarbowe_banki centr.'!K73+'Bony skarbowe_banki centr.'!K73","v":17869.273361120002}]
[{"$f":"'Obligacje skarbowe_banki centr.'!A74","v":"2020-01-31"},{"$f":"'Obligacje skarbowe_banki centr.'!B74+'Bony skarbowe_banki centr.'!B74","v":0},{"$f":"'Obligacje skarbowe_banki centr.'!C74+'Bony skarbowe_banki centr.'!C74","v":0},{"$f":"'Obligacje skarbowe_banki centr.'!D74+'Bony skarbowe_banki centr.'!D74","v":0},{"$f":"'Obligacje skarbowe_banki centr.'!E74+'Bony skarbowe_banki centr.'!E74","v":20.57},{"$f":"'Obligacje skarbowe_banki centr.'!F74+'Bony skarbowe_banki centr.'!F74","v":0},{"$f":"'Obligacje skarbowe_banki centr.'!G74+'Bony skarbowe_banki centr.'!G74","v":0},{"$f":"'Obligacje skarbowe_banki centr.'!H74+'Bony skarbowe_banki centr.'!H74","v":6},{"$f":"'Obligacje skarbowe_banki centr.'!I74+'Bony skarbowe_banki centr.'!I74","v":16884.37897224},{"$f":"'Obligacje skarbowe_banki centr.'!J74+'Bony skarbowe_banki centr.'!J74","v":1310.0057484000001},{"$f":"'Obligacje skarbowe_banki centr.'!K74+'Bony skarbowe_banki centr.'!K74","v":18220.954720639998}]
[{"$f":"'Obligacje skarbowe_banki centr.'!A75","v":"2020-02-29"},{"$f":"'Obligacje skarbowe_banki centr.'!B75+'Bony skarbowe_banki centr.'!B75","v":0},{"$f":"'Obligacje skarbowe_banki centr.'!C75+'Bony skarbowe_banki centr.'!C75","v":0},{"$f":"'Obligacje skarbowe_banki centr.'!D75+'Bony skarbowe_banki centr.'!D75","v":0},{"$f":"'Obligacje skarbowe_banki centr.'!E75+'Bony skarbowe_banki centr.'!E75","v":24.97},{"$f":"'Obligacje skarbowe_banki centr.'!F75+'Bony skarbowe_banki centr.'!F75","v":0},{"$f":"'Obligacje skarbowe_banki centr.'!G75+'Bony skarbowe_banki centr.'!G75","v":0},{"$f":"'Obligacje skarbowe_banki centr.'!H75+'Bony skarbowe_banki centr.'!H75","v":6},{"$f":"'Obligacje skarbowe_banki centr.'!I75+'Bony skarbowe_banki centr.'!I75","v":16637.869297540001},{"$f":"'Obligacje skarbowe_banki centr.'!J75+'Bony skarbowe_banki centr.'!J75","v":1402.4055339000001},{"$f":"'Obligacje skarbowe_banki centr.'!K75+'Bony skarbowe_banki centr.'!K75","v":18071.244831440003}]
[{"$f":"'Obligacje skarbowe_banki centr.'!A76","v":"2020-03-31"},{"$f":"'Obligacje skarbowe_banki centr.'!B76+'Bony skarbowe_banki centr.'!B76","v":0},{"$f":"'Obligacje skarbowe_banki centr.'!C76+'Bony skarbowe_banki centr.'!C76","v":0},{"$f":"'Obligacje skarbowe_banki centr.'!D76+'Bony skarbowe_banki centr.'!D76","v":0},{"$f":"'Obligacje skarbowe_banki centr.'!E76+'Bony skarbowe_banki centr.'!E76","v":24.97},{"$f":"'Obligacje skarbowe_banki centr.'!F76+'Bony skarbowe_banki centr.'!F76","v":0},{"$f":"'Obligacje skarbowe_banki centr.'!G76+'Bony skarbowe_banki centr.'!G76","v":0},{"$f":"'Obligacje skarbowe_banki centr.'!H76+'Bony skarbowe_banki centr.'!H76","v":6},{"$f":"'Obligacje skarbowe_banki centr.'!I76+'Bony skarbowe_banki centr.'!I76","v":17129.817999999999},{"$f":"'Obligacje skarbowe_banki centr.'!J76+'Bony skarbowe_banki centr.'!J76","v":1245.5474792999998},{"$f":"'Obligacje skarbowe_banki centr.'!K76+'Bony skarbowe_banki centr.'!K76","v":18406.3354793}]
[{"$f":"'Obligacje skarbowe_banki centr.'!A77","v":"2020-04-30"},{"$f":"'Obligacje skarbowe_banki centr.'!B77+'Bony skarbowe_banki centr.'!B77","v":0},{"$f":"'Obligacje skarbowe_banki centr.'!C77+'Bony skarbowe_banki centr.'!C77","v":0},{"$f":"'Obligacje skarbowe_banki centr.'!D77+'Bony skarbowe_banki centr.'!D77","v":0},{"$f":"'Obligacje skarbowe_banki centr.'!E77+'Bony skarbowe_banki centr.'!E77","v":14.97},{"$f":"'Obligacje skarbowe_banki centr.'!F77+'Bony skarbowe_banki centr.'!F77","v":0},{"$f":"'Obligacje skarbowe_banki centr.'!G77+'Bony skarbowe_banki centr.'!G77","v":0},{"$f":"'Obligacje skarbowe_banki centr.'!H77+'Bony skarbowe_banki centr.'!H77","v":6},{"$f":"'Obligacje skarbowe_banki centr.'!I77+'Bony skarbowe_banki centr.'!I77","v":17044.555},{"$f":"'Obligacje skarbowe_banki centr.'!J77+'Bony skarbowe_banki centr.'!J77","v":1151.6342079000001},{"$f":"'Obligacje skarbowe_banki centr.'!K77+'Bony skarbowe_banki centr.'!K77","v":18217.1592079}]
[{"$f":"'Obligacje skarbowe_banki centr.'!A78","v":"2020-05-31"},{"$f":"'Obligacje skarbowe_banki centr.'!B78+'Bony skarbowe_banki centr.'!B78","v":0},{"$f":"'Obligacje skarbowe_banki centr.'!C78+'Bony skarbowe_banki centr.'!C78","v":0},{"$f":"'Obligacje skarbowe_banki centr.'!D78+'Bony skarbowe_banki centr.'!D78","v":0},{"$f":"'Obligacje skarbowe_banki centr.'!E78+'Bony skarbowe_banki centr.'!E78","v":14.97},{"$f":"'Obligacje skarbowe_banki centr.'!F78+'Bony skarbowe_banki centr.'!F78","v":0},{"$f":"'Obligacje skarbowe_banki centr.'!G78+'Bony skarbowe_banki centr.'!G78","v":0},{"$f":"'Obligacje skarbowe_banki centr.'!H78+'Bony skarbowe_banki centr.'!H78","v":6},{"$f":"'Obligacje skarbowe_banki centr.'!I78+'Bony skarbowe_banki centr.'!I78","v":18800.72},{"$f":"'Obligacje skarbowe_banki centr.'!J78+'Bony skarbowe_banki centr.'!J78","v":1215.6629514000001},{"$f":"'Obligacje skarbowe_banki centr.'!K78+'Bony skarbowe_banki centr.'!K78","v":20037.352951400004}]
[{"$f":"'Obligacje skarbowe_banki centr.'!A79","v":"2020-06-30"},{"$f":"'Obligacje skarbowe_banki centr.'!B79+'Bony skarbowe_banki centr.'!B79","v":0},{"$f":"'Obligacje skarbowe_banki centr.'!C79+'Bony skarbowe_banki centr.'!C79","v":0},{"$f":"'Obligacje skarbowe_banki centr.'!D79+'Bony skarbowe_banki centr.'!D79","v":0},{"$f":"'Obligacje skarbowe_banki centr.'!E79+'Bony skarbowe_banki centr.'!E79","v":14.97},{"$f":"'Obligacje skarbowe_banki centr.'!F79+'Bony skarbowe_banki centr.'!F79","v":0},{"$f":"'Obligacje skarbowe_banki centr.'!G79+'Bony skarbowe_banki centr.'!G79","v":0},{"$f":"'Obligacje skarbowe_banki centr.'!H79+'Bony skarbowe_banki centr.'!H79","v":6},{"$f":"'Obligacje skarbowe_banki centr.'!I79+'Bony skarbowe_banki centr.'!I79","v":18781.518},{"$f":"'Obligacje skarbowe_banki centr.'!J79+'Bony skarbowe_banki centr.'!J79","v":1068.3600724999999},{"$f":"'Obligacje skarbowe_banki centr.'!K79+'Bony skarbowe_banki centr.'!K79","v":19870.848072500001}]
[{"$f":"'Obligacje skarbowe_banki centr.'!A80","v":"2020-07-31"},{"$f":"'Obligacje skarbowe_banki centr.'!B80+'Bony skarbowe_banki centr.'!B80","v":0},{"$f":"'Obligacje skarbowe_banki centr.'!C80+'Bony skarbowe_banki centr.'!C80","v":0},{"$f":"'Obligacje skarbowe_banki centr.'!D80+'Bony skarbowe_banki centr.'!D80","v":0},{"$f":"'Obligacje skarbowe_banki centr.'!E80+'Bony skarbowe_banki centr.'!E80","v":14.97},{"$f":"'Obligacje skarbowe_banki centr.'!F80+'Bony skarbowe_banki centr.'!F80","v":0},{"$f":"'Obligacje skarbowe_banki centr.'!G80+'Bony skarbowe_banki centr.'!G80","v":0},{"$f":"'Obligacje skarbowe_banki centr.'!H80+'Bony skarbowe_banki centr.'!H80","v":6},{"$f":"'Obligacje skarbowe_banki centr.'!I80+'Bony skarbowe_banki centr.'!I80","v":18075.169999999998},{"$f":"'Obligacje skarbowe_banki centr.'!J80+'Bony skarbowe_banki centr.'!J80","v":868.47400000000005},{"$f":"'Obligacje skarbowe_banki centr.'!K80+'Bony skarbowe_banki centr.'!K80","v":18964.613999999998}]
[{"$f":"'Obligacje skarbowe_banki centr.'!A81","v":"2020-08-31"},{"$f":"'Obligacje skarbowe_banki centr.'!B81+'Bony skarbowe_banki centr.'!B81","v":0},{"$f":"'Obligacje skarbowe_banki centr.'!C81+'Bony skarbowe_banki centr.'!C81","v":0},{"$f":"'Obligacje skarbowe_banki centr.'!D81+'Bony skarbowe_banki centr.'!D81","v":0},{"$f":"'Obligacje skarbowe_banki centr.'!E81+'Bony skarbowe_banki centr.'!E81","v":14.97},{"$f":"'Obligacje skarbowe_banki centr.'!F81+'Bony skarbowe_banki centr.'!F81","v":0},{"$f":"'Obligacje skarbowe_banki centr.'!G81+'Bony skarbowe_banki centr.'!G81","v":0},{"$f":"'Obligacje skarbowe_banki centr.'!H81+'Bony skarbowe_banki centr.'!H81","v":6},{"$f":"'Obligacje skarbowe_banki centr.'!I81+'Bony skarbowe_banki centr.'!I81","v":17640.217000000001},{"$f":"'Obligacje skarbowe_banki centr.'!J81+'Bony skarbowe_banki centr.'!J81","v":868.47400000000005},{"$f":"'Obligacje skarbowe_banki centr.'!K81+'Bony skarbowe_banki centr.'!K81","v":18529.661}]
[{"$f":"'Obligacje skarbowe_banki centr.'!A82","v":"2020-09-30"},{"$f":"'Obligacje skarbowe_banki centr.'!B82+'Bony skarbowe_banki centr.'!B82","v":0},{"$f":"'Obligacje skarbowe_banki centr.'!C82+'Bony skarbowe_banki centr.'!C82","v":0},{"$f":"'Obligacje skarbowe_banki centr.'!D82+'Bony skarbowe_banki centr.'!D82","v":0},{"$f":"'Obligacje skarbowe_banki centr.'!E82+'Bony skarbowe_banki centr.'!E82","v":20.56},{"$f":"'Obligacje skarbowe_banki centr.'!F82+'Bony skarbowe_banki centr.'!F82","v":0},{"$f":"'Obligacje skarbowe_banki centr.'!G82+'Bony skarbowe_banki centr.'!G82","v":0},{"$f":"'Obligacje skarbowe_banki centr.'!H82+'Bony skarbowe_banki centr.'!H82","v":6},{"$f":"'Obligacje skarbowe_banki centr.'!I82+'Bony skarbowe_banki centr.'!I82","v":18112.725999999999},{"$f":"'Obligacje skarbowe_banki centr.'!J82+'Bony skarbowe_banki centr.'!J82","v":877.17399999999998},{"$f":"'Obligacje skarbowe_banki centr.'!K82+'Bony skarbowe_banki centr.'!K82","v":19016.46}]
[{"$f":"'Obligacje skarbowe_banki centr.'!A83","v":"2020-10-31"},0,0,0,20.56,0,0,6,18031.996999999999,811.16499999999996,18869.722000000002]
[{"$f":"'Obligacje skarbowe_banki centr.'!A84","v":"2020-11-30"},0,0,0,20.56,0,0,6,18073.528999999999,840.29100000000005,18940.38]
[{"$f":"'Obligacje skarbowe_banki centr.'!A85","v":"2020-12-31"},0,0,0,23.63,0,0,6,18328.454000000002,718.68700000000001,19076.771000000004]
[{"$f":"'Obligacje skarbowe_banki centr.'!A86","v":"2021-01-31"},0,0,0,23.63,0,0,6,18341.545999999998,781.48500000000001,19152.661]
[{"$f":"'Obligacje skarbowe_banki centr.'!A87","v":"2021-02-28"},0,0,0,23.63,0,0,6,18590.046999999999,623.16499999999996,19242.842000000001]
[{"$f":"'Obligacje skarbowe_banki centr.'!A88","v":"2021-03-31"},0,0,0,23.63,0,0,6,16078.485000000001,750.64,16858.755000000001]
[{"$f":"'Obligacje skarbowe_banki centr.'!A89","v":"2021-04-30"},0,0,0,23.63,0,0,6,14931.853999999999,775.78499999999997,15737.268999999998]
[{"$f":"'Obligacje skarbowe_banki centr.'!A90","v":"2021-05-31"},0,0,0,13.93,0,0,6,14937.272999999999,605.66899999999998,15562.871999999999]
[{"$f":"'Obligacje skarbowe_banki centr.'!A91","v":"2021-06-30"},0,0,0,13.93,0,0,6,15398.947,617.35400000000004,16036.231]
[{"$f":"'Obligacje skarbowe_banki centr.'!A92","v":"2021-07-31"},0,0,0,13.93,0,0,6,15319.377,796.01700000000005,16135.324000000001]
[{"$f":"'Obligacje skarbowe_podmiot'!A93","v":"2021-08-31"},0,0,0,13.93,0,0,6,15703.601000000001,642.58900000000006,16366.12]
[{"$f":"'Obligacje skarbowe_podmiot'!A94","v":"2021-09-30"},0,0,0,13.93,0,0,6,15225.826999999999,490.00599999999997,15735.762999999999]
[{"$f":"'Obligacje skarbowe_podmiot'!A95","v":"2021-10-31"},0,0,0,13.93,0,0,6,15050.027,480.79599999999999,15550.753000000001]
[{"$f":"'Obligacje skarbowe_podmiot'!A96","v":"2021-11-30"},0,0,0,13.93,0,0,6,15213.337,468.08300000000003,15701.35]
[{"$f":"'Obligacje skarbowe_podmiot'!A97","v":"2021-12-31"},0,0,0,17.329999999999998,0,0,12,16979.202000000001,554.71,17563.242000000002]
[{"$f":"'Obligacje skarbowe_podmiot'!A98","v":"2022-01-31"},0,0,0,17.329999999999998,0,0,12,16970.577000000001,545.06799999999998,17544.975000000002]
[{"$f":"'Obligacje skarbowe_podmiot'!A99","v":"2022-02-28"},0,0,0,23.89,0,0,12,17106.491999999998,542.66800000000001,17685.05]
[{"$f":"'Obligacje skarbowe_podmiot'!A100","v":"2022-03-31"},0,0,0,25.85,0,0,12,16735.400000000001,926.70799999999997,17699.957999999999]
[{"$f":"'Obligacje skarbowe_podmiot'!A101","v":"2022-04-30"},0,0,0,30.06,0,0,6,17104.489000000001,1453.242,18593.791000000001]
[{"$f":"'Obligacje skarbowe_podmiot'!A102","v":"2022-05-31"},0,0,0,34.340000000000003,0,0,6,17681.044000000002,2195.8870000000002,19917.271000000001]
[{"$f":"'Obligacje skarbowe_podmiot'!A103","v":"2022-06-30"},0,0,0,34.340000000000003,0,0,6,17879.506000000001,2393.4839999999999,20313.330000000002]
[{"$f":"'Obligacje skarbowe_podmiot'!A104","v":"2022-07-31"},0,0,0,21.61,0,0,6,17403.707999999999,2269.527,19700.845000000001]
[{"$f":"'Obligacje skarbowe_podmiot'!A105","v":"2022-08-31"},0,0,0,21.61,0,0,6,18504.920999999998,2486.5659999999998,21019.096999999998]
[{"$f":"'Obligacje skarbowe_podmiot'!A106","v":"2022-09-30"},0,0,0,7.35,1.35,0,6,18489.778999999999,2291.9180000000001,20796.397000000001]
[{"$f":"'Obligacje skarbowe_podmiot'!A107","v":"2022-10-31"},0,0,0,7.35,1.35,0,6,18409.143,2490.808,20914.651000000002]
[{"$f":"'Obligacje skarbowe_podmiot'!A108","v":"2022-11-30"},0,0,0,7.35,1.35,0,6,19311.757000000001,2650.212,21976.669000000002]
[{"$f":"'Obligacje skarbowe_podmiot'!A109","v":"2022-12-31"},0,0,0,4.28,1.35,0,6,19520.853999999999,2682.9079999999999,22215.392]
[{"$f":"'Obligacje skarbowe_podmiot'!A110","v":"2023-01-31"},0,0,0,4.28,1.99,0,3,18325.41,3058.9409999999998,21393.620999999999]
[{"$f":"'Obligacje skarbowe_podmiot'!A111","v":"2023-02-28"},0,0,0,0,1.35,0,3,17328.358,2992.3040000000001,20325.011999999999]
[{"$f":"'Obligacje skarbowe_podmiot'!A112","v":"2023-03-31"},0,0,0,0,1.35,0,3,16286.605,2999.7190000000001,19290.673999999999]
[{"$f":"'Obligacje skarbowe_podmiot'!A113","v":"2023-04-30"},0,0,0,0,1.35,0,3,15939.735000000001,3043.5940000000001,18987.679]
[{"$f":"'Obligacje skarbowe_podmiot'!A114","v":"2023-05-31"},0,0,0,0,1.35,0,3,16114.764999999999,2748.3290000000002,18867.444]
[{"$f":"'Obligacje skarbowe_podmiot'!A115","v":"2023-06-30"},0,0,0,0,1.35,0,6,17160.721000000001,2842.998,20011.069]
[{"$f":"'Obligacje skarbowe_podmiot'!A116","v":"2023-07-31"},0,0,0,0,1.35,0,6,16800.716,2742.8850000000002,19550.951000000001]
[{"$f":"'Obligacje skarbowe_podmiot'!A117","v":"2023-08-31"},0,0,0,0,1.35,0,6,16606.686000000002,2814.8939999999998,19428.93]
[{"$f":"'Obligacje skarbowe_podmiot'!A118","v":"2023-09-30"},0,0,0,0,1.35,0,6,15322.724,2760.163,18090.237000000001]
[{"$f":"'Obligacje skarbowe_podmiot'!A119","v":"2023-10-31"},0,0,0,0,1.35,0,6,15235.709000000001,2649.6529999999998,17892.712]
[{"$f":"'Obligacje skarbowe_podmiot'!A120","v":"2023-11-30"},0,0,0,0,1.35,0,6,15566.38,2806.7620000000002,18380.491999999998]
[{"$f":"'Obligacje skarbowe_podmiot'!A121","v":"2023-12-31"},0,0,0,0,1.35,0,6,15819.965,2844.848,18672.163]
[{"$f":"'Obligacje skarbowe_podmiot'!A122","v":"2024-01-31"},0,0,0,0,1.35,0,6,15983.698,2832.895,18823.942999999999]
[{"$f":"'Obligacje skarbowe_podmiot'!A123","v":"2024-02-29"},0,0,0,0,1.35,0,6,16940.63,2672.2660000000001,19620.245999999999]
[{"$f":"'Obligacje skarbowe_podmiot'!A124","v":"2024-03-31"},0,0,0,0,1.35,0,6,15623.18,2696.326,18326.856]
[{"$f":"'Obligacje skarbowe_podmiot'!A125","v":"2024-04-30"},0,0,0,0,1.35,0,6,17783.36,2696.326,20487.036]
[{"$f":"'Obligacje skarbowe_podmiot'!A126","v":"2024-05-31"},0,0,0,24.96,1.35,0,6,17683.401999999998,2506.0329999999999,20221.744999999999]
[{"$f":"'Obligacje skarbowe_podmiot'!A127","v":"2024-06-30"},0,0,0,24.96,1.35,0,6,18970.244999999999,2411.8580000000002,21414.413]
[{"$f":"'Obligacje skarbowe_podmiot'!A128","v":"2024-07-31"},0,0,0,24.96,1.35,0,6,19156.303,2384.9589999999998,21573.572]
["2024-08-31",0,0,0,35.56,1.35,0,6,20268.942999999999,1994.502,22306.355]
["2024-09-30",0,0,0,35.56,2.2000000000000002,0,6,20495.31897,1805.201,22344.27997]
["2024-10-31",0,0,0,35.56,2.2000000000000002,0,3,19988.126992000001,2397.8679999999999,22426.754991999998]
["2024-11-30",0,0,0,24.96,2.2000000000000002,0,6,20353.207470000001,2591.4699999999998,22977.837470000002]
["2024-12-31",0,0,0,24.96,2.2000000000000002,0,6,20694.578649999999,2505.9690000000001,23233.70765]
["2025-01-31",0,0,0,24.96,2.2000000000000002,0,6,19143.503497999998,2634.3580000000002,21811.021497999998]
["2025-02-28",0,0,0,27.59,2.2000000000000002,0,6,19146.602024,2372.6460000000002,21555.038024000001]
["2025-03-31",0,0,0,27.59,2.2000000000000002,0,6,19439.256227999998,2168.2440000000001,21643.290227999998]